{"text_format":"1","workbook":"xlsx","n_sheets":9,"sheets":["MainDisplay","Sheet3","Sheet4","Sheet3 (2)","Sheet4 (2)","Sheet3 (3)","Sheet4 (3)","Sheet3 (4)","Sheet4 (4)"],"not_rendered":{"charts":4,"images":12,"macros":1,"external_links":0,"defined_names":0,"comments":0,"pivot_tables":0},"unopened":[],"bounds":{"document_bytes":16777216,"sheet_cells":100000,"rows_first":2000,"rows_last":500,"rows_between":2000,"halvings":0,"cell_chars":16384,"cell_head_chars":4096},"cells_cut":0,"cells_raw":0,"read":"whole","date_system":"1900"}

{"sheet":"MainDisplay","index":0,"n_rows":55,"n_cols":31,"rows_kept":55,"cut":false,"hidden":false,"merged":[[7,28,7,30],[33,12,33,14],[33,28,33,30],[7,26,7,27],[53,1,53,11],[53,17,53,27],[33,4,34,5],[33,6,34,7],[33,8,34,9],[34,12,34,14],[35,12,36,14],[33,2,34,3],[29,12,29,15],[30,12,31,15],[29,3,29,4],[29,7,30,8],[33,10,33,11],[33,26,33,27],[29,10,30,11],[1,5,2,25],[3,3,3,4],[3,7,4,8],[3,10,4,11],[7,2,8,3],[7,4,8,5],[7,6,8,7],[7,8,8,9],[4,2,5,5],[3,12,3,15],[1,1,2,4],[4,12,5,15],[8,12,8,14],[7,12,7,14],[30,2,31,5],[1,26,2,31],[3,23,4,24],[3,26,4,27],[4,18,5,21],[7,18,8,19],[7,20,8,21],[7,22,8,23],[7,24,8,25],[8,28,8,30],[3,19,3,20],[3,28,3,31],[4,28,5,31],[7,10,7,11],[27,1,27,11],[27,17,27,27],[9,28,10,30],[9,12,10,14],[34,28,34,30],[35,28,36,30],[29,26,30,27],[30,18,31,21],[33,18,34,19],[33,20,34,21],[33,22,34,23],[33,24,34,25],[29,19,29,20],[29,23,30,24],[29,28,29,31],[30,28,31,31]]}
[null,null,null,null,null,null,null,null,null,null,null,null,null,null,{"$f":"TODAY()","v":"2018-06-18"}]
[null,{"$f":"MOD(RTD(\"cqg.rtd\", ,\"SystemInfo\", \"Linetime\"),1)","v":"08:33:40"},null,null,null,"CQG CME Globex 10-Day Map",null,null,null,null,null,null,null,null,null,null,null,null,null,null,null,null,null,null,null,null,{"$f":"RTD(\"cqg.rtd\", ,\"SystemInfo\", \"Linetime\")","v":43269.356712962959}]
[]
[null,"Symbol",null,"Equities",null,{"$f":"IF(RTD(\"cqg.rtd\", ,\"ContractData\",Sheet3!$D$12, \"NetLastTradeToday\",, \"T\")>=0,\"+\",0)","v":0},"Last",{"$f":"TEXT(RTD(\"cqg.rtd\", ,\"ContractData\",Sheet3!$D$12, \"LastTradeToday\",, \"T\"),Sheet3!$F$17)","v":"2762.75"},null,"Net",{"$f":"IF(F4=\"+\",\"+\"&TEXT(RTD(\"cqg.rtd\", ,\"ContractData\",Sheet3!$D$12, \"NetLastTradeToday\",, \"T\"),Sheet3!$F$17),TEXT(RTD(\"cqg.rtd\", ,\"ContractData\",Sheet3!$D$12, \"NetLastTradeToday\",, \"T\"),Sheet3!$F$17))","v":"-21.75"},null,"Net $ Change",null,null,null,null,"Symbol",null,"Energy",null,{"$f":"IF(RTD(\"cqg.rtd\", ,\"ContractData\",'Sheet3 (2)'!$D$12, \"NetLastTradeToday\",, \"T\")>=0,\"+\",0)","v":0},"Last",{"$f":"TEXT(RTD(\"cqg.rtd\", ,\"ContractData\",'Sheet3 (2)'!$D$12, \"LastTradeToday\",, \"T\"),'Sheet3 (2)'!$F$17)","v":"2.987"},null,"Net",{"$f":"IF(V4=\"+\",\"+\"&TEXT(RTD(\"cqg.rtd\", ,\"ContractData\",'Sheet3 (2)'!$D$12, \"NetLastTradeToday\",, \"T\"),'Sheet3 (2)'!$F$17),TEXT(RTD(\"cqg.rtd\", ,\"ContractData\",'Sheet3 (2)'!$D$12, \"NetLastTradeToday\",, \"T\"),'Sheet3 (2)'!$F$17))","v":"-.035"},null,"Net $ Change"]
[null,"EP",{"$f":"\" \"&RTD(\"cqg.rtd\", ,\"ContractData\",Sheet3!$D$12, \"LongDescription\",, \"T\")&\" \"","v":" E-Mini S&P 500, Sep 18 "},null,null,null,"Trade",null,null,"Change",null,null,{"$f":"IFERROR(1/RTD(\"cqg.rtd\",,\"ContractData\",\"Tsize(\"&B5&\")\",\"LastQuoteToday\",,\"T\")*RTD(\"cqg.rtd\",,\"ContractData\",\"PriceToDollar(Tsize(\"&B5&\"))\",\"LastQuoteToday\")*RTD(\"cqg.rtd\", ,\"ContractData\", B5, \"NetLastTrade\"),\"\")","v":-1087.5},null,null,null,null,"NGE",{"$f":"\" \"&RTD(\"cqg.rtd\", ,\"ContractData\",'Sheet3 (2)'!D12, \"LongDescription\",, \"T\")&\" \"","v":" Natural Gas (Globex), Jul 18 "},null,null,null,"Trade",null,null,"Change",null,null,{"$f":"IFERROR(1/RTD(\"cqg.rtd\",,\"ContractData\",\"Tsize(\"&R5&\")\",\"LastQuoteToday\",,\"T\")*RTD(\"cqg.rtd\",,\"ContractData\",\"PriceToDollar(Tsize(\"&R5&\"))\",\"LastQuoteToday\")*RTD(\"cqg.rtd\", ,\"ContractData\", R5, \"NetLastTrade\"),\"\")","v":-350.00000000000006}]
[null,{"$f":"2*RTD(\"cqg.rtd\",,\"ContractData\",\"Tsize(\"&B5&\")\",\"LastQuoteToday\",,\"T\")","v":0.5},null,null,null,null,"Open",{"$f":"TEXT(RTD(\"cqg.rtd\", ,\"ContractData\",Sheet3!$D$12, \"Open\",, \"T\"),Sheet3!$F$17)","v":"2780.00"},"High",{"$f":"TEXT(RTD(\"cqg.rtd\", ,\"ContractData\",Sheet3!$D$12, \"High\",, \"T\"),Sheet3!$F$17)","v":"2786.75"},"Low",{"$f":"TEXT(RTD(\"cqg.rtd\", ,\"ContractData\",Sheet3!$D$12, \"Low\",, \"T\"),Sheet3!$F$17)","v":"2762.25"},null,null,null,null,null,{"$f":"2*RTD(\"cqg.rtd\",,\"ContractData\",\"Tsize(\"&R5&\")\",\"LastQuoteToday\",,\"T\")","v":2E-3},null,null,null,null,"Open",{"$f":"TEXT(RTD(\"cqg.rtd\", ,\"ContractData\",'Sheet3 (2)'!$D$12, \"Open\",, \"T\"),'Sheet3 (2)'!$F$17)","v":"3.051"},"High",{"$f":"TEXT(RTD(\"cqg.rtd\", ,\"ContractData\",'Sheet3 (2)'!$D$12, \"High\",, \"T\"),'Sheet3 (2)'!$F$17)","v":"3.053"},"Low",{"$f":"TEXT(RTD(\"cqg.rtd\", ,\"ContractData\",'Sheet3 (2)'!$D$12, \"Low\",, \"T\"),'Sheet3 (2)'!$F$17)","v":"2.976"}]
[null,null,null,null,null,null,null,null,null,null,null,null,{"$f":"IF(J6-H4<=B6,1,0)","v":0},null,{"$f":"IF(H4-L6<=B6,1,0)","v":1},null,null,null,null,null,null,null,null,null,null,null,null,null,{"$f":"IF(Z6-X4<=R6,1,0)","v":0},null,{"$f":"IF(X4-AB6<=R6,1,0)","v":0}]
[null,{"$f":"Sheet4!I85+1","v":2},{"$f":"RTD(\"cqg.rtd\", ,\"ContractData\",Sheet3!$D$12, \"MT_LastBidVolume\",, \"T\")","v":337},null,{"$f":"TEXT(RTD(\"cqg.rtd\", ,\"ContractData\",Sheet3!$D$12, \"Bid\",, \"T\"),Sheet3!$F$17)","v":"2762.50"},null,{"$f":"TEXT(RTD(\"cqg.rtd\", ,\"ContractData\",Sheet3!$D$12, \"Ask\",, \"T\"),Sheet3!$F$17)","v":"2762.75"},null,{"$f":"RTD(\"cqg.rtd\", ,\"ContractData\",Sheet3!$D$12, \"MT_LastAskVolume\",, \"T\")","v":587},null,"Top Correlation to:",null,"Highlight",null,null,null,null,{"$f":"'Sheet4 (2)'!I85+1","v":2},{"$f":"RTD(\"cqg.rtd\", ,\"ContractData\",'Sheet3 (2)'!$D$12, \"MT_LastBidVolume\",, \"T\")","v":56},null,{"$f":"TEXT(RTD(\"cqg.rtd\", ,\"ContractData\",'Sheet3 (2)'!$D$12, \"Bid\",, \"T\"),'Sheet3 (2)'!$F$17)","v":"2.986"},null,{"$f":"TEXT(RTD(\"cqg.rtd\", ,\"ContractData\",'Sheet3 (2)'!$D$12, \"Ask\",, \"T\"),'Sheet3 (2)'!$F$17)","v":"2.987"},null,{"$f":"RTD(\"cqg.rtd\", ,\"ContractData\",'Sheet3 (2)'!$D$12, \"MT_LastAskVolume\",, \"T\")","v":61},null,"Top Correlation to:",null,"Highlight"]
[null,null,null,null,null,null,null,null,null,null,{"$f":"IFERROR(Sheet4!G85,\"\")","v":""},{"$f":"IFERROR(Sheet4!H85,\"\")","v":""},"Reset",null,null,null,null,null,null,null,null,null,null,null,null,null,{"$f":"IFERROR('Sheet4 (2)'!G85,\"\")","v":"2018-06-15"},{"$f":"IFERROR('Sheet4 (2)'!H85,\"\")","v":0.68524828886418443},"Reset"]
[{"$f":"IF(M14=$O$1,1,0)","v":0},null,null,null,null,null,null,null,null,null,null,null,null,null,null,null,{"$f":"IF(AC14=$O$1,1,0)","v":0}]
[{"$f":"IF(M15=$O$1,1,0)","v":0},null,null,null,null,null,null,null,null,null,null,null,null,null,null,null,{"$f":"IF(AC15=$O$1,1,0)","v":0}]
[0,null,null,null,null,null,null,null,null,null,null,null,"Bar Time","Corr",{"$f":"IFERROR(IF(TIME(0,5,0)-(MOD(B2,1)-M13)<0,1,TIME(0,5,0)-(MOD(B2,1)-M13)),\"\")","v":"00:01:20"},null,0,null,null,null,null,null,null,null,null,null,null,null,"Bar Time","Corr",{"$f":"IFERROR(IF(TIME(0,5,0)-(MOD(B2,1)-AC13)<0,1,TIME(0,5,0)-(MOD(B2,1)-AC13)),\"\")","v":"00:01:20"}]
[0,null,null,null,null,null,null,null,null,null,null,null,{"$f":"IFERROR(Sheet3!AC12,\"\")","v":"08:30:00"},"Now","% NC",null,0,null,null,null,null,null,null,null,null,null,null,null,{"$f":"IFERROR('Sheet3 (2)'!AC12,\"\")","v":"08:30:00"},"Now","% NC"]
[0,null,null,null,null,null,null,null,null,null,null,null,{"$f":"IFERROR(Sheet3!AG1,\"\")","v":"2018-06-14"},{"$f":"IFERROR(VLOOKUP(M14,Sheet4!$G$85:$H$93,2,FALSE),\"\")","v":""},{"$f":"IFERROR(Sheet3!AH1,\"\")","v":3.5084562792371357E-3},null,0,null,null,null,null,null,null,null,null,null,null,null,{"$f":"IFERROR('Sheet3 (2)'!AG1,\"\")","v":"2018-06-11"},{"$f":"IFERROR(VLOOKUP(AC14,'Sheet4 (2)'!$G$85:$H$93,2,FALSE),\"\")","v":-0.64406118871952112},{"$f":"IFERROR('Sheet3 (2)'!AH1,\"\")","v":2.2145328719723203E-2}]
[0,null,null,null,null,null,null,null,null,null,null,null,{"$f":"IFERROR(Sheet3!AG2,\"\")","v":"2018-06-12"},{"$f":"IFERROR(VLOOKUP(M15,Sheet4!$G$85:$H$93,2,FALSE),\"\")","v":""},{"$f":"IFERROR(Sheet3!AH2,\"\")","v":1.4353637750067283E-3},null,0,null,null,null,null,null,null,null,null,null,null,null,{"$f":"IFERROR('Sheet3 (2)'!AG2,\"\")","v":"2018-06-07"},{"$f":"IFERROR(VLOOKUP(AC15,'Sheet4 (2)'!$G$85:$H$93,2,FALSE),\"\")","v":-0.29959408992840458},{"$f":"IFERROR('Sheet3 (2)'!AH2,\"\")","v":2.2099447513812175E-2}]
[0,null,null,null,null,null,null,null,null,null,null,null,{"$f":"IFERROR(Sheet3!AG3,\"\")","v":"2018-06-13"},{"$f":"IFERROR(VLOOKUP(M16,Sheet4!$G$85:$H$93,2,FALSE),\"\")","v":""},{"$f":"IFERROR(Sheet3!AH3,\"\")","v":1.2552676409934547E-3},null,0,null,null,null,null,null,null,null,null,null,null,null,{"$f":"IFERROR('Sheet3 (2)'!AG3,\"\")","v":"2018-06-15"},{"$f":"IFERROR(VLOOKUP(AC16,'Sheet4 (2)'!$G$85:$H$93,2,FALSE),\"\")","v":0.68524828886418443},{"$f":"IFERROR('Sheet3 (2)'!AH3,\"\")","v":1.2478920741989856E-2}]
[0,null,null,null,null,null,null,null,null,null,null,null,{"$f":"IFERROR(Sheet3!AG4,\"\")","v":"2018-06-06"},{"$f":"IFERROR(VLOOKUP(M17,Sheet4!$G$85:$H$93,2,FALSE),\"\")","v":""},{"$f":"IFERROR(Sheet3!AH4,\"\")","v":1.1794592632915987E-3},null,1,null,null,null,null,null,null,null,null,null,null,null,{"$f":"IFERROR('Sheet3 (2)'!AG4,\"\")","v":"2018-06-13"},{"$f":"IFERROR(VLOOKUP(AC17,'Sheet4 (2)'!$G$85:$H$93,2,FALSE),\"\")","v":0.27844504946151027},{"$f":"IFERROR('Sheet3 (2)'!AH4,\"\")","v":6.4647839401157292E-3}]
[0,null,null,null,null,null,null,null,null,null,null,null,{"$f":"IFERROR(Sheet3!AG5,\"\")","v":"2018-06-11"},{"$f":"IFERROR(VLOOKUP(M18,Sheet4!$G$85:$H$93,2,FALSE),\"\")","v":""},{"$f":"IFERROR(Sheet3!AH5,\"\")","v":8.9847259658580418E-4},null,0,null,null,null,null,null,null,null,null,null,null,null,{"$f":"IFERROR('Sheet3 (2)'!AG5,\"\")","v":"2018-06-06"},{"$f":"IFERROR(VLOOKUP(AC18,'Sheet4 (2)'!$G$85:$H$93,2,FALSE),\"\")","v":0.30379163976911894},{"$f":"IFERROR('Sheet3 (2)'!AH5,\"\")","v":4.1522491349481007E-3}]
[{"$f":"IF(M23=$O$1,1,0)","v":1},null,null,null,null,null,null,null,null,null,null,null,{"$f":"IFERROR(Sheet3!AG6,\"\")","v":"2018-06-07"},{"$f":"IFERROR(VLOOKUP(M19,Sheet4!$G$85:$H$93,2,FALSE),\"\")","v":""},{"$f":"IFERROR(Sheet3!AH6,\"\")","v":7.2046109510086451E-4},null,0,null,null,null,null,null,null,null,null,null,null,null,{"$f":"IFERROR('Sheet3 (2)'!AG6,\"\")","v":"2018-06-14"},{"$f":"IFERROR(VLOOKUP(AC19,'Sheet4 (2)'!$G$85:$H$93,2,FALSE),\"\")","v":-0.68806246205618526},{"$f":"IFERROR('Sheet3 (2)'!AH6,\"\")","v":-3.3749578130269652E-4}]
[null,null,null,null,null,null,null,null,null,null,null,null,{"$f":"IFERROR(Sheet3!AG7,\"\")","v":"2018-06-05"},{"$f":"IFERROR(VLOOKUP(M20,Sheet4!$G$85:$H$93,2,FALSE),\"\")","v":""},{"$f":"IFERROR(Sheet3!AH7,\"\")","v":6.3642149286298759E-4},null,null,null,null,null,null,null,null,null,null,null,null,null,{"$f":"IFERROR('Sheet3 (2)'!AG7,\"\")","v":"2018-06-12"},{"$f":"IFERROR(VLOOKUP(AC20,'Sheet4 (2)'!$G$85:$H$93,2,FALSE),\"\")","v":6.7189766434104001E-2},{"$f":"IFERROR('Sheet3 (2)'!AH7,\"\")","v":-3.7300779925397345E-3}]
[null,null,null,null,null,null,null,null,null,null,null,null,{"$f":"IFERROR(Sheet3!AG8,\"\")","v":"2018-06-08"},{"$f":"IFERROR(VLOOKUP(M21,Sheet4!$G$85:$H$93,2,FALSE),\"\")","v":""},{"$f":"IFERROR(Sheet3!AH8,\"\")","v":-2.9719020172910664E-3},null,null,null,null,null,null,null,null,null,null,null,null,null,{"$f":"IFERROR('Sheet3 (2)'!AG8,\"\")","v":"2018-06-18"},{"$f":"IFERROR(VLOOKUP(AC21,'Sheet4 (2)'!$G$85:$H$93,2,FALSE),\"\")","v":""},{"$f":"IFERROR('Sheet3 (2)'!AH8,\"\")","v":-1.1581733951025712E-2}]
[null,null,null,null,null,null,null,null,null,null,null,null,{"$f":"IFERROR(Sheet3!AG9,\"\")","v":"2018-06-15"},{"$f":"IFERROR(VLOOKUP(M22,Sheet4!$G$85:$H$93,2,FALSE),\"\")","v":""},{"$f":"IFERROR(Sheet3!AH9,\"\")","v":-4.4826967903890983E-3},null,null,null,null,null,null,null,null,null,null,null,null,null,{"$f":"IFERROR('Sheet3 (2)'!AG9,\"\")","v":"2018-06-05"},{"$f":"IFERROR(VLOOKUP(AC22,'Sheet4 (2)'!$G$85:$H$93,2,FALSE),\"\")","v":0.25371767612057844},{"$f":"IFERROR('Sheet3 (2)'!AH9,\"\")","v":-1.4675767918088787E-2}]
[null,null,null,null,null,null,null,null,null,null,null,null,{"$f":"IFERROR(Sheet3!AG10,\"\")","v":"2018-06-18"},{"$f":"IFERROR(VLOOKUP(M23,Sheet4!$G$85:$H$93,2,FALSE),\"\")","v":""},{"$f":"IFERROR(Sheet3!AH10,\"\")","v":-7.8110971449093193E-3},null,null,null,null,null,null,null,null,null,null,null,null,null,{"$f":"IFERROR('Sheet3 (2)'!AG10,\"\")","v":"2018-06-08"},{"$f":"IFERROR(VLOOKUP(AC23,'Sheet4 (2)'!$G$85:$H$93,2,FALSE),\"\")","v":0.40371338363256037},{"$f":"IFERROR('Sheet3 (2)'!AH10,\"\")","v":-1.5699658703071762E-2}]
[]
[]
[]
[]
[null,"Primary Session: 8:30 - 15:15",null,null,null,null,null,null,null,null,null,null,null,null,null,null,null,"Primary Session 8:00 - 13:30"]
[]
[null,"Symbol",null,"FOREX",null,{"$f":"IF(RTD(\"cqg.rtd\", ,\"ContractData\",'Sheet3 (3)'!$D$12, \"NetLastTradeToday\",, \"T\")=\"\",\"\",IF(RTD(\"cqg.rtd\", ,\"ContractData\",'Sheet3 (3)'!$D$12, \"NetLastTradeToday\",, \"T\")>=0,\"+\",0))","v":0},"Last",{"$f":"TEXT(RTD(\"cqg.rtd\", ,\"ContractData\",'Sheet3 (3)'!$D$12, \"LastTradeToday\",, \"T\"),'Sheet3 (3)'!$F$17)","v":"1.16805"},null,"Net",{"$f":"IF(F30=\"\",\"\",IF(F30=\"+\",\"+\"&TEXT(RTD(\"cqg.rtd\", ,\"ContractData\",'Sheet3 (3)'!$D$12, \"NetLastTradeToday\",, \"T\"),'Sheet3 (3)'!$F$17),TEXT(RTD(\"cqg.rtd\", ,\"ContractData\",'Sheet3 (3)'!$D$12, \"NetLastTradeToday\",, \"T\"),'Sheet3 (3)'!$F$17)))","v":"-.00055"},null,"Net $ Change",null,null,null,null,"Symbol",null,"Fixed Income",null,{"$f":"IF(RTD(\"cqg.rtd\", ,\"ContractData\",'Sheet3 (4)'!$D$12, \"NetLastTradeToday\",, \"T\")>=0,\"+\",0)","v":"+"},"Last",{"$f":"IF('Sheet3 (4)'!F16=\"B\",RTD(\"cqg.rtd\", ,\"ContractData\",'Sheet3 (4)'!$D$12, \"LastTradeToday\",, \"B\"),TEXT(RTD(\"cqg.rtd\", ,\"ContractData\",'Sheet3 (4)'!$D$12, \"LastTradeToday\",, \"T\"),'Sheet3 (4)'!$F$16))","v":"119.703125"},null,"Net",{"$f":"IF(V30=\"+\",\"\"&(IF('Sheet3 (4)'!F16=\"B\",RTD(\"cqg.rtd\",,\"ContractData\",'Sheet3 (4)'!$D$12,\"NetLastTradeToday\",,\"B\"),TEXT(RTD(\"cqg.rtd\",,\"ContractData\",'Sheet3 (4)'!$D$12,\"NetLastTradeToday\",,\"T\"),'Sheet3 (4)'!$F$16))),IF('Sheet3 (4)'!F16=\"B\",RTD(\"cqg.rtd\",,\"ContractData\",'Sheet3 (4)'!$D$12,\"NetLastTradeToday\",,\"B\"),TEXT(RTD(\"cqg.rtd\",,\"ContractData\",'Sheet3 (4)'!$D$12,\"NetLastTradeToday\",,\"T\"),'Sheet3 (4)'!$F$16)))","v":"+0.109375"},null,"Net $ Change"]
[null,"EU6",{"$f":"\" \"&RTD(\"cqg.rtd\", ,\"ContractData\",'Sheet3 (3)'!$D$12, \"LongDescription\",, \"T\")&\" \"","v":" Euro FX (Globex), Sep 18 "},null,null,null,"Trade",null,null,"Change",null,null,{"$f":"IFERROR(1/RTD(\"cqg.rtd\",,\"ContractData\",\"Tsize(\"&B31&\")\",\"LastQuoteToday\",,\"T\")*RTD(\"cqg.rtd\",,\"ContractData\",\"PriceToDollar(Tsize(\"&B31&\"))\",\"LastQuoteToday\")*RTD(\"cqg.rtd\", ,\"ContractData\", B31, \"NetLastTrade\"),\"\")","v":-68.75},null,null,null,null,"TYA",{"$f":"\" \"&RTD(\"cqg.rtd\", ,\"ContractData\",'Sheet3 (4)'!D12, \"LongDescription\",, \"T\")&\" \"","v":" 10yr US Treasury Notes (Globex), Sep 18 "},null,null,null,"Trade",null,null,"Change",null,null,{"$f":"IFERROR(1/RTD(\"cqg.rtd\",,\"ContractData\",\"Tsize(\"&R31&\")\",\"LastQuoteToday\",,\"T\")*RTD(\"cqg.rtd\",,\"ContractData\",\"PriceToDollar(Tsize(\"&R31&\"))\",\"LastQuoteToday\")*RTD(\"cqg.rtd\", ,\"ContractData\", R31, \"NetLastTrade\",,\"T\"),\"\")","v":109.375}]
[null,{"$f":"2*RTD(\"cqg.rtd\",,\"ContractData\",\"Tsize(\"&B31&\")\",\"LastQuoteToday\",,\"T\")","v":1E-4},null,null,null,null,"Open",{"$f":"TEXT(RTD(\"cqg.rtd\", ,\"ContractData\",'Sheet3 (3)'!$D$12, \"Open\",, \"T\"),'Sheet3 (3)'!$F$17)","v":"1.16760"},"High",{"$f":"TEXT(RTD(\"cqg.rtd\", ,\"ContractData\",'Sheet3 (3)'!$D$12, \"High\",, \"T\"),'Sheet3 (3)'!$F$17)","v":"1.17040"},"Low",{"$f":"TEXT(RTD(\"cqg.rtd\", ,\"ContractData\",'Sheet3 (3)'!$D$12, \"Low\",, \"T\"),'Sheet3 (3)'!$F$17)","v":"1.16445"},null,null,null,null,null,{"$f":"2*RTD(\"cqg.rtd\",,\"ContractData\",\"Tsize(\"&R31&\")\",\"LastQuoteToday\",,\"T\")","v":3.125E-2},null,null,null,null,"Open",{"$f":"IF('Sheet3 (4)'!F16=\"B\",RTD(\"cqg.rtd\", ,\"ContractData\",'Sheet3 (4)'!$D$12, \"Open\",, \"B\"),TEXT(RTD(\"cqg.rtd\", ,\"ContractData\",'Sheet3 (4)'!$D$12, \"Open\",, \"T\"),'Sheet3 (4)'!$F$16))","v":"119.609375"},"High",{"$f":"IF('Sheet3 (4)'!F16=\"B\",RTD(\"cqg.rtd\", ,\"ContractData\",'Sheet3 (4)'!$D$12, \"High\",, \"B\"),TEXT(RTD(\"cqg.rtd\", ,\"ContractData\",'Sheet3 (4)'!$D$12, \"High\",, \"T\"),'Sheet3 (4)'!$F$16))","v":"119.781250"},"Low",{"$f":"IF('Sheet3 (4)'!F16=\"B\",RTD(\"cqg.rtd\", ,\"ContractData\",'Sheet3 (4)'!$D$12, \"Low\",, \"B\"),TEXT(RTD(\"cqg.rtd\", ,\"ContractData\",'Sheet3 (4)'!$D$12, \"Low\",, \"T\"),'Sheet3 (4)'!$F$16))","v":"119.593750"}]
[null,null,null,null,null,null,null,null,null,null,null,null,{"$f":"IF(J32-H30<=B32,1,0)","v":0},null,{"$f":"IF(H30-L32<=B32,1,0)","v":0},null,null,null,null,null,null,null,null,null,null,null,null,null,{"$f":"IF(RTD(\"cqg.rtd\", ,\"ContractData\",'Sheet3 (4)'!$D$12, \"High\",, \"T\")-RTD(\"cqg.rtd\", ,\"ContractData\",'Sheet3 (4)'!$D$12, \"LastTrade\",, \"T\")<=R32,1,0)","v":0},null,{"$f":"IF(RTD(\"cqg.rtd\", ,\"ContractData\",'Sheet3 (4)'!$D$12, \"LastTrade\",, \"T\")-RTD(\"cqg.rtd\", ,\"ContractData\",'Sheet3 (4)'!$D$12, \"Low\",, \"T\")<=R32,1,0)","v":0}]
[null,{"$f":"'Sheet4 (3)'!I93+1","v":3},{"$f":"RTD(\"cqg.rtd\", ,\"ContractData\",'Sheet3 (3)'!$D$12, \"MT_LastBidVolume\",, \"T\")","v":21},null,{"$f":"TEXT(RTD(\"cqg.rtd\", ,\"ContractData\",'Sheet3 (3)'!$D$12, \"Bid\",, \"T\"),'Sheet3 (3)'!$F$17)","v":"1.16805"},null,{"$f":"TEXT(RTD(\"cqg.rtd\", ,\"ContractData\",'Sheet3 (3)'!$D$12, \"Ask\",, \"T\"),'Sheet3 (3)'!$F$17)","v":"1.16810"},null,{"$f":"RTD(\"cqg.rtd\", ,\"ContractData\",'Sheet3 (3)'!$D$12, \"MT_LastAskVolume\",, \"T\")","v":6},null,"Top Correlation to:",null,"Highlight",null,null,null,null,{"$f":"'Sheet4 (4)'!I93+1","v":10},{"$f":"RTD(\"cqg.rtd\", ,\"ContractData\",'Sheet3 (4)'!$D$12, \"MT_LastBidVolume\",, \"T\")","v":1462},null,{"$f":"IF('Sheet3 (4)'!F16=\"B\",RTD(\"cqg.rtd\", ,\"ContractData\",'Sheet3 (4)'!$D$12, \"Bid\",, \"B\"),TEXT(RTD(\"cqg.rtd\", ,\"ContractData\",'Sheet3 (4)'!$D$12, \"Bid\",, \"T\"),'Sheet3 (4)'!$F$16))","v":"119.703125"},null,{"$f":"IF('Sheet3 (4)'!F16=\"B\",RTD(\"cqg.rtd\", ,\"ContractData\",'Sheet3 (4)'!$D$12, \"Ask\",, \"B\"),TEXT(RTD(\"cqg.rtd\", ,\"ContractData\",'Sheet3 (4)'!$D$12, \"Ask\",, \"T\"),'Sheet3 (4)'!$F$16))","v":"119.718750"},null,{"$f":"RTD(\"cqg.rtd\", ,\"ContractData\",'Sheet3 (4)'!$D$12, \"MT_LastAskVolume\",, \"T\")","v":2520},null,"Top Correlation to:",null,"Highlight"]
[null,null,null,null,null,null,null,null,null,null,{"$f":"IFERROR('Sheet4 (3)'!G93,\"\")","v":"2018-06-14"},{"$f":"IFERROR('Sheet4 (3)'!H93,\"\")","v":0.82278247335566201},"Reset",null,null,null,null,null,null,null,null,null,null,null,null,null,{"$f":"IFERROR('Sheet4 (4)'!G93,\"\")","v":"2018-06-05"},{"$f":"IFERROR('Sheet4 (4)'!H93,\"\")","v":0.9536459298086265},"Reset"]
[{"$f":"IF(M40=$O$1,1,0)","v":0},null,null,null,null,null,null,null,null,null,null,null,null,null,null,null,{"$f":"IF(AC40=$O$1,1,0)","v":0}]
[{"$f":"IF(M41=$O$1,1,0)","v":0},null,null,null,null,null,null,null,null,null,null,null,null,null,null,null,{"$f":"IF(AC41=$O$1,1,0)","v":0}]
[0,null,null,null,null,null,null,null,null,null,null,null,"Bar Time","Corr",{"$f":"IFERROR(IF(TIME(0,5,0)-(MOD(B2,1)-M39)<0,1,TIME(0,5,0)-(MOD(B2,1)-M39)),\"\")","v":"00:01:20"},null,0,null,null,null,null,null,null,null,null,null,null,null,"Bar Time","Corr",{"$f":"IFERROR(IF(TIME(0,5,0)-(MOD(B2,1)-AC39)<0,1,TIME(0,5,0)-(MOD(B2,1)-AC39)),\"\")","v":"00:01:20"}]
[0,null,null,null,null,null,null,null,null,null,null,null,{"$f":"IFERROR('Sheet3 (3)'!AC12,\"\")","v":"08:30:00"},"Now","% NC",null,1,null,null,null,null,null,null,null,null,null,null,null,{"$f":"IFERROR('Sheet3 (4)'!AC12,\"\")","v":"08:30:00"},"Now","% NC"]
[0,null,null,null,null,null,null,null,null,null,null,null,{"$f":"IFERROR('Sheet3 (3)'!AG1,\"\")","v":"2018-06-06"},{"$f":"IFERROR(VLOOKUP(M40,'Sheet4 (3)'!$G$93:$H$101,2,FALSE),\"\")","v":-0.27774932644542505},{"$f":"IFERROR('Sheet3 (3)'!AH1,\"\")","v":5.1668643062849342E-3},null,0,null,null,null,null,null,null,null,null,null,null,null,{"$f":"IFERROR('Sheet3 (4)'!AG1,\"\")","v":"2018-06-15"},{"$f":"IFERROR(VLOOKUP(AC40,'Sheet4 (4)'!$G$93:$H$101,2,FALSE),\"\")","v":-0.39329170163264315},{"$f":"IFERROR('Sheet3 (4)'!AH1,\"\")","v":2.4856096284667714E-3}]
[0,null,null,null,null,null,null,null,null,null,null,null,{"$f":"IFERROR('Sheet3 (3)'!AG2,\"\")","v":"2018-06-07"},{"$f":"IFERROR(VLOOKUP(M41,'Sheet4 (3)'!$G$93:$H$101,2,FALSE),\"\")","v":0.38145627251393965},{"$f":"IFERROR('Sheet3 (3)'!AH2,\"\")","v":4.8901816955440559E-3},null,0,null,null,null,null,null,null,null,null,null,null,null,{"$f":"IFERROR('Sheet3 (4)'!AG2,\"\")","v":"2018-06-14"},{"$f":"IFERROR(VLOOKUP(AC41,'Sheet4 (4)'!$G$93:$H$101,2,FALSE),\"\")","v":0.79796141776556129},{"$f":"IFERROR('Sheet3 (4)'!AH2,\"\")","v":1.8353434714210803E-3}]
[1,null,null,null,null,null,null,null,null,null,null,null,{"$f":"IFERROR('Sheet3 (3)'!AG3,\"\")","v":"2018-06-11"},{"$f":"IFERROR(VLOOKUP(M42,'Sheet4 (3)'!$G$93:$H$101,2,FALSE),\"\")","v":-0.22373145710769549},{"$f":"IFERROR('Sheet3 (3)'!AH3,\"\")","v":2.78246205733565E-3},null,0,null,null,null,null,null,null,null,null,null,null,null,{"$f":"IFERROR('Sheet3 (4)'!AG3,\"\")","v":"2018-06-05"},{"$f":"IFERROR(VLOOKUP(AC42,'Sheet4 (4)'!$G$93:$H$101,2,FALSE),\"\")","v":0.9536459298086265},{"$f":"IFERROR('Sheet3 (4)'!AH3,\"\")","v":1.307531380753138E-3}]
[0,null,null,null,null,null,null,null,null,null,null,null,{"$f":"IFERROR('Sheet3 (3)'!AG4,\"\")","v":"2018-06-15"},{"$f":"IFERROR(VLOOKUP(M43,'Sheet4 (3)'!$G$93:$H$101,2,FALSE),\"\")","v":-0.88669667432862609},{"$f":"IFERROR('Sheet3 (3)'!AH4,\"\")","v":2.0561147997431397E-3},null,0,null,null,null,null,null,null,null,null,null,null,null,{"$f":"IFERROR('Sheet3 (4)'!AG4,\"\")","v":"2018-06-18"},{"$f":"IFERROR(VLOOKUP(AC43,'Sheet4 (4)'!$G$93:$H$101,2,FALSE),\"\")","v":""},{"$f":"IFERROR('Sheet3 (4)'!AH4,\"\")","v":9.1455448131695844E-4}]
[0,null,null,null,null,null,null,null,null,null,null,null,{"$f":"IFERROR('Sheet3 (3)'!AG5,\"\")","v":"2018-06-13"},{"$f":"IFERROR(VLOOKUP(M44,'Sheet4 (3)'!$G$93:$H$101,2,FALSE),\"\")","v":-0.32637796651787959},{"$f":"IFERROR('Sheet3 (3)'!AH5,\"\")","v":1.9854680635350407E-3},null,0,null,null,null,null,null,null,null,null,null,null,null,{"$f":"IFERROR('Sheet3 (4)'!AG5,\"\")","v":"2018-06-08"},{"$f":"IFERROR(VLOOKUP(AC44,'Sheet4 (4)'!$G$93:$H$101,2,FALSE),\"\")","v":-0.29580398915498074},{"$f":"IFERROR('Sheet3 (4)'!AH5,\"\")","v":1.3065064018813691E-4}]
[0,null,null,null,null,null,null,null,null,null,null,null,{"$f":"IFERROR('Sheet3 (3)'!AG6,\"\")","v":"2018-06-12"},{"$f":"IFERROR(VLOOKUP(M45,'Sheet4 (3)'!$G$93:$H$101,2,FALSE),\"\")","v":0.63443694138076756},{"$f":"IFERROR('Sheet3 (3)'!AH6,\"\")","v":3.7891545975080959E-4},null,0,null,null,null,null,null,null,null,null,null,null,null,{"$f":"IFERROR('Sheet3 (4)'!AG6,\"\")","v":"2018-06-13"},{"$f":"IFERROR(VLOOKUP(AC45,'Sheet4 (4)'!$G$93:$H$101,2,FALSE),\"\")","v":1.5266117060773384E-16},{"$f":"IFERROR('Sheet3 (4)'!AH6,\"\")","v":0}]
[null,null,null,null,null,null,null,null,null,null,null,null,{"$f":"IFERROR('Sheet3 (3)'!AG7,\"\")","v":"2018-06-18"},{"$f":"IFERROR(VLOOKUP(M46,'Sheet4 (3)'!$G$93:$H$101,2,FALSE),\"\")","v":""},{"$f":"IFERROR('Sheet3 (3)'!AH7,\"\")","v":-4.7064863939761287E-4},null,null,null,null,null,null,null,null,null,null,null,null,null,{"$f":"IFERROR('Sheet3 (4)'!AG7,\"\")","v":"2018-06-07"},{"$f":"IFERROR(VLOOKUP(AC46,'Sheet4 (4)'!$G$93:$H$101,2,FALSE),\"\")","v":-0.13437096247164235},{"$f":"IFERROR('Sheet3 (4)'!AH7,\"\")","v":0}]
[null,null,null,null,null,null,null,null,null,null,null,null,{"$f":"IFERROR('Sheet3 (3)'!AG8,\"\")","v":"2018-06-05"},{"$f":"IFERROR(VLOOKUP(M47,'Sheet4 (3)'!$G$93:$H$101,2,FALSE),\"\")","v":-0.6194396702310716},{"$f":"IFERROR('Sheet3 (3)'!AH8,\"\")","v":-2.5442055718101105E-3},null,null,null,null,null,null,null,null,null,null,null,null,null,{"$f":"IFERROR('Sheet3 (4)'!AG8,\"\")","v":"2018-06-12"},{"$f":"IFERROR(VLOOKUP(AC47,'Sheet4 (4)'!$G$93:$H$101,2,FALSE),\"\")","v":-0.70668874580789576},{"$f":"IFERROR('Sheet3 (4)'!AH8,\"\")","v":-1.0465724751439038E-3}]
[null,null,null,null,null,null,null,null,null,null,null,null,{"$f":"IFERROR('Sheet3 (3)'!AG9,\"\")","v":"2018-06-08"},{"$f":"IFERROR(VLOOKUP(M48,'Sheet4 (3)'!$G$93:$H$101,2,FALSE),\"\")","v":-0.85831783468712075},{"$f":"IFERROR('Sheet3 (3)'!AH9,\"\")","v":-3.4879811733063339E-3},null,null,null,null,null,null,null,null,null,null,null,null,null,{"$f":"IFERROR('Sheet3 (4)'!AG9,\"\")","v":"2018-06-11"},{"$f":"IFERROR(VLOOKUP(AC48,'Sheet4 (4)'!$G$93:$H$101,2,FALSE),\"\")","v":0.56428809364683541},{"$f":"IFERROR('Sheet3 (4)'!AH9,\"\")","v":-1.8291089626339169E-3}]
[null,null,null,null,null,null,null,null,null,null,null,null,{"$f":"IFERROR('Sheet3 (3)'!AG10,\"\")","v":"2018-06-14"},{"$f":"IFERROR(VLOOKUP(M49,'Sheet4 (3)'!$G$93:$H$101,2,FALSE),\"\")","v":0.82278247335566201},{"$f":"IFERROR('Sheet3 (3)'!AH10,\"\")","v":-8.3062781970739442E-3},null,null,null,null,null,null,null,null,null,null,null,null,null,{"$f":"IFERROR('Sheet3 (4)'!AG10,\"\")","v":"2018-06-06"},{"$f":"IFERROR(VLOOKUP(AC49,'Sheet4 (4)'!$G$93:$H$101,2,FALSE),\"\")","v":0.49300664859163534},{"$f":"IFERROR('Sheet3 (4)'!AH10,\"\")","v":-2.2190314580341993E-3}]
[]
[]
[]
[]
[null,"Session: 8:00 - 15:15",null,null,null,null,null,null,null,null,null,null,null,null,null,null,null,"Session: 8:00 - 14:00"]
[null,null,null,"  Copyright © 2018",null,null,null,null,null,"Designed by Thom Hartle"]

{"sheet":"Sheet3","index":1,"n_rows":81,"n_cols":40,"rows_kept":81,"cut":false,"hidden":true,"merged":[]}
[0,"08:30:00",{"$f":"IF(WEEKDAY(TODAY())=7,TODAY()-1,IF(WEEKDAY(TODAY())=1,TODAY()-2,TODAY()))","v":"2018-06-18"},{"$f":"YEAR(C1)","v":2018},{"$f":"MONTH(C1)","v":6},{"$f":"DAY(C1)","v":18},null,{"$f":"RTD(\"cqg.rtd\",,\"StudyData\", \"Close(\"&$D$12&\") when LocalYear(\"&$D$12&\")=\"&$D$1&\" and localMonth(\"&$D$12&\") =\"&$E$1&\" and LocalDay(\"&$D$12&\")=\"&$F$1&\" and Barix(\"&$D$12&\",reference:=StartOfSession)=\"&A1&\"\", \"Bar\", \"\", \"Close\",\"5\",\"0\",\"PrimaryOnly\",,,\"False\",\"T\",\"EveryTick\")","v":2762.75},{"$f":"IFERROR((H1-$G$2)/$G$2,NA())","v":-7.8110971449093193E-3},{"$f":"RTD(\"cqg.rtd\",,\"StudyData\", \"Close(\"&$D$12&\") when LocalYear(\"&$D$12&\")=\"&$D$2&\" and localMonth(\"&$D$12&\") =\"&$E$2&\" and LocalDay(\"&$D$12&\")=\"&$F$2&\" and Barix(\"&$D$12&\",reference:=StartOfSession)=\"&A1&\"\", \"Bar\", \"\", \"Close\",\"5\",\"0\",\"PrimaryOnly\",,,\"False\",\"T\",\"EveryTick\")","v":2776},{"$f":"IFERROR((J1-$G$3)/$G$3,NA())","v":-4.4826967903890983E-3},{"$f":"RTD(\"cqg.rtd\",,\"StudyData\", \"Close(\"&$D$12&\") when LocalYear(\"&$D$12&\")=\"&$D$3&\" and localMonth(\"&$D$12&\") =\"&$E$3&\" and LocalDay(\"&$D$12&\")=\"&$F$3&\" and Barix(\"&$D$12&\",reference:=StartOfSession)=\"&A1&\"\", \"Bar\", \"\", \"Close\",\"5\",\"0\",\"PrimaryOnly\",,,\"False\",\"T\",\"EveryTick\")","v":2788.75},{"$f":"IFERROR((L1-$G$4)/$G$4,NA())","v":3.5084562792371357E-3},{"$f":"RTD(\"cqg.rtd\",,\"StudyData\", \"Close(\"&$D$12&\") when LocalYear(\"&$D$12&\")=\"&$D$4&\" and localMonth(\"&$D$12&\") =\"&$E$4&\" and LocalDay(\"&$D$12&\")=\"&$F$4&\" and Barix(\"&$D$12&\",reference:=StartOfSession)=\"&A1&\"\", \"Bar\", \"\", \"Close\",\"5\",\"0\",\"PrimaryOnly\",,,\"False\",\"T\",\"EveryTick\")","v":2791.75},{"$f":"IFERROR((N1-$G$5)/$G$5,NA())","v":1.2552676409934547E-3},{"$f":"RTD(\"cqg.rtd\",,\"StudyData\", \"Close(\"&$D$12&\") when LocalYear(\"&$D$12&\")=\"&$D$5&\" and localMonth(\"&$D$12&\") =\"&$E$5&\" and LocalDay(\"&$D$12&\")=\"&$F$5&\" and Barix(\"&$D$12&\",reference:=StartOfSession)=\"&A1&\"\", \"Bar\", \"\", \"Close\",\"5\",\"0\",\"PrimaryOnly\",,,\"False\",\"T\",\"EveryTick\")","v":2790.75},{"$f":"IFERROR((P1-$G$6)/$G$6,NA())","v":1.4353637750067283E-3},{"$f":"RTD(\"cqg.rtd\",,\"StudyData\", \"Close(\"&$D$12&\") when LocalYear(\"&$D$12&\")=\"&$D$6&\" and localMonth(\"&$D$12&\") =\"&$E$6&\" and LocalDay(\"&$D$12&\")=\"&$F$6&\" and Barix(\"&$D$12&\",reference:=StartOfSession)=\"&A1&\"\", \"Bar\", \"\", \"Close\",\"5\",\"0\",\"PrimaryOnly\",,,\"False\",\"T\",\"EveryTick\")","v":2785},{"$f":"IFERROR((R1-$G$7)/$G$7,NA())","v":8.9847259658580418E-4},{"$f":"RTD(\"cqg.rtd\",,\"StudyData\", \"Close(\"&$D$12&\") when LocalYear(\"&$D$12&\")=\"&$D$7&\" and localMonth(\"&$D$12&\") =\"&$E$7&\" and LocalDay(\"&$D$12&\")=\"&$F$7&\" and Barix(\"&$D$12&\",reference:=StartOfSession)=\"&A1&\"\", \"Bar\", \"\", \"Close\",\"5\",\"0\",\"PrimaryOnly\",,,\"False\",\"T\",\"EveryTick\")","v":2767.75},{"$f":"IFERROR((T1-$G$8)/$G$8,NA())","v":-2.9719020172910664E-3},{"$f":"RTD(\"cqg.rtd\",,\"StudyData\", \"Close(\"&$D$12&\") when LocalYear(\"&$D$12&\")=\"&$D$8&\" and localMonth(\"&$D$12&\") =\"&$E$8&\" and LocalDay(\"&$D$12&\")=\"&$F$8&\" and Barix(\"&$D$12&\",reference:=StartOfSession)=\"&A1&\"\", \"Bar\", \"\", \"Close\",\"5\",\"0\",\"PrimaryOnly\",,,\"False\",\"T\",\"EveryTick\")","v":2778},{"$f":"IFERROR((V1-$G$9)/$G$9,NA())","v":7.2046109510086451E-4},{"$f":"RTD(\"cqg.rtd\",,\"StudyData\", \"Close(\"&$D$12&\") when LocalYear(\"&$D$12&\")=\"&$D$9&\" and localMonth(\"&$D$12&\") =\"&$E$9&\" and LocalDay(\"&$D$12&\")=\"&$F$9&\" and Barix(\"&$D$12&\",reference:=StartOfSession)=\"&A1&\"\", \"Bar\", \"\", \"Close\",\"5\",\"0\",\"PrimaryOnly\",,,\"False\",\"T\",\"EveryTick\")","v":2758.75},{"$f":"IFERROR((X1-$G$10)/$G$10,NA())","v":1.1794592632915987E-3},{"$f":"RTD(\"cqg.rtd\",,\"StudyData\", \"Close(\"&$D$12&\") when LocalYear(\"&$D$12&\")=\"&$D$10&\" and localMonth(\"&$D$12&\") =\"&$E$10&\" and LocalDay(\"&$D$12&\")=\"&$F$10&\" and Barix(\"&$D$12&\",reference:=StartOfSession)=\"&A1&\"\", \"Bar\", \"\", \"Close\",\"5\",\"0\",\"PrimaryOnly\",,,\"False\",\"T\",\"EveryTick\")","v":2751.5},{"$f":"IFERROR((Z1-$G$11)/$G$11,NA())","v":6.3642149286298759E-4},{"$f":"RANK(AD1,$AD$1:$AD$10)+COUNTIF($AD$1:AD1,AD1)-1","v":10},{"$f":"DATE(D1,E1,F1)","v":"2018-06-18"},{"$f":"VLOOKUP(MAX(AE2:AE81),A1:I81,9,FALSE)","v":-7.8110971449093193E-3},null,1,{"$f":"VLOOKUP(AF1,$AB$1:$AD$10,2,FALSE)","v":"2018-06-14"},{"$f":"VLOOKUP(AF1,$AB$1:$AD$10,3,FALSE)","v":3.5084562792371357E-3},null,null,{"$f":"AG1","v":"2018-06-14"},{"$f":"AC1","v":"2018-06-18"},0,{"$f":"VLOOKUP(AK1,$AL$1:$AM$10,2,FALSE)","v":2}]
[{"$f":"A1+1","v":1},"08:35:00",{"$f":"WORKDAY(C1,-G27)","v":"2018-06-15"},{"$f":"YEAR(C2)","v":2018},{"$f":"MONTH(C2)","v":6},{"$f":"DAY(C2)","v":15},{"$f":"RTD(\"cqg.rtd\",,\"StudyData\", \"Close(\"&$D$12&\") when LocalYear(\"&$D$12&\")=\"&D2&\" and localMonth(\"&$D$12&\") =\"&E2&\" and LocalDay(\"&$D$12&\")=\"&F2&\" and Barix(\"&$D$12&\",reference:=StartOfSession)=80\", \"Bar\", \"\", \"Close\",\"5\",\"0\",\"PrimaryOnly\",,,\"False\",\"T\",\"EveryTick\")","v":2784.5},{"$f":"RTD(\"cqg.rtd\",,\"StudyData\", \"Close(\"&$D$12&\") when LocalYear(\"&$D$12&\")=\"&$D$1&\" and localMonth(\"&$D$12&\") =\"&$E$1&\" and LocalDay(\"&$D$12&\")=\"&$F$1&\" and Barix(\"&$D$12&\",reference:=StartOfSession)=\"&A2&\"\", \"Bar\", \"\", \"Close\",\"5\",\"0\",\"PrimaryOnly\",,,\"False\",\"T\",\"EveryTick\")","v":""},{"$f":"IFERROR((H2-$G$2)/$G$2,NA())","v":{"$error":"#N/A"}},{"$f":"RTD(\"cqg.rtd\",,\"StudyData\", \"Close(\"&$D$12&\") when LocalYear(\"&$D$12&\")=\"&$D$2&\" and localMonth(\"&$D$12&\") =\"&$E$2&\" and LocalDay(\"&$D$12&\")=\"&$F$2&\" and Barix(\"&$D$12&\",reference:=StartOfSession)=\"&A2&\"\", \"Bar\", \"\", \"Close\",\"5\",\"0\",\"PrimaryOnly\",,,\"False\",\"T\",\"EveryTick\")","v":2775.5},{"$f":"IFERROR((J2-$G$3)/$G$3,NA())","v":-4.662004662004662E-3},{"$f":"RTD(\"cqg.rtd\",,\"StudyData\", \"Close(\"&$D$12&\") when LocalYear(\"&$D$12&\")=\"&$D$3&\" and localMonth(\"&$D$12&\") =\"&$E$3&\" and LocalDay(\"&$D$12&\")=\"&$F$3&\" and Barix(\"&$D$12&\",reference:=StartOfSession)=\"&A2&\"\", \"Bar\", \"\", \"Close\",\"5\",\"0\",\"PrimaryOnly\",,,\"False\",\"T\",\"EveryTick\")","v":2789.5},{"$f":"IFERROR((L2-$G$4)/$G$4,NA())","v":3.778337531486146E-3},{"$f":"RTD(\"cqg.rtd\",,\"StudyData\", \"Close(\"&$D$12&\") when LocalYear(\"&$D$12&\")=\"&$D$4&\" and localMonth(\"&$D$12&\") =\"&$E$4&\" and LocalDay(\"&$D$12&\")=\"&$F$4&\" and Barix(\"&$D$12&\",reference:=StartOfSession)=\"&A2&\"\", \"Bar\", \"\", \"Close\",\"5\",\"0\",\"PrimaryOnly\",,,\"False\",\"T\",\"EveryTick\")","v":2792.75},{"$f":"IFERROR((N2-$G$5)/$G$5,NA())","v":1.613915538420156E-3},{"$f":"RTD(\"cqg.rtd\",,\"StudyData\", \"Close(\"&$D$12&\") when LocalYear(\"&$D$12&\")=\"&$D$5&\" and localMonth(\"&$D$12&\") =\"&$E$5&\" and LocalDay(\"&$D$12&\")=\"&$F$5&\" and Barix(\"&$D$12&\",reference:=StartOfSession)=\"&A2&\"\", \"Bar\", \"\", \"Close\",\"5\",\"0\",\"PrimaryOnly\",,,\"False\",\"T\",\"EveryTick\")","v":2789.25},{"$f":"IFERROR((P2-$G$6)/$G$6,NA())","v":8.971023593792052E-4},{"$f":"RTD(\"cqg.rtd\",,\"StudyData\", \"Close(\"&$D$12&\") when LocalYear(\"&$D$12&\")=\"&$D$6&\" and localMonth(\"&$D$12&\") =\"&$E$6&\" and LocalDay(\"&$D$12&\")=\"&$F$6&\" and Barix(\"&$D$12&\",reference:=StartOfSession)=\"&A2&\"\", \"Bar\", \"\", \"Close\",\"5\",\"0\",\"PrimaryOnly\",,,\"False\",\"T\",\"EveryTick\")","v":2785.5},{"$f":"IFERROR((R2-$G$7)/$G$7,NA())","v":1.0781671159029651E-3},{"$f":"RTD(\"cqg.rtd\",,\"StudyData\", \"Close(\"&$D$12&\") when LocalYear(\"&$D$12&\")=\"&$D$7&\" and localMonth(\"&$D$12&\") =\"&$E$7&\" and LocalDay(\"&$D$12&\")=\"&$F$7&\" and Barix(\"&$D$12&\",reference:=StartOfSession)=\"&A2&\"\", \"Bar\", \"\", \"Close\",\"5\",\"0\",\"PrimaryOnly\",,,\"False\",\"T\",\"EveryTick\")","v":2769},{"$f":"IFERROR((T2-$G$8)/$G$8,NA())","v":-2.5216138328530259E-3},{"$f":"RTD(\"cqg.rtd\",,\"StudyData\", \"Close(\"&$D$12&\") when LocalYear(\"&$D$12&\")=\"&$D$8&\" and localMonth(\"&$D$12&\") =\"&$E$8&\" and LocalDay(\"&$D$12&\")=\"&$F$8&\" and Barix(\"&$D$12&\",reference:=StartOfSession)=\"&A2&\"\", \"Bar\", \"\", \"Close\",\"5\",\"0\",\"PrimaryOnly\",,,\"False\",\"T\",\"EveryTick\")","v":2778.5},{"$f":"IFERROR((V2-$G$9)/$G$9,NA())","v":9.0057636887608066E-4},{"$f":"RTD(\"cqg.rtd\",,\"StudyData\", \"Close(\"&$D$12&\") when LocalYear(\"&$D$12&\")=\"&$D$9&\" and localMonth(\"&$D$12&\") =\"&$E$9&\" and LocalDay(\"&$D$12&\")=\"&$F$9&\" and Barix(\"&$D$12&\",reference:=StartOfSession)=\"&A2&\"\", \"Bar\", \"\", \"Close\",\"5\",\"0\",\"PrimaryOnly\",,,\"False\",\"T\",\"EveryTick\")","v":2759.75},{"$f":"IFERROR((X2-$G$10)/$G$10,NA())","v":1.5423698058428597E-3},{"$f":"RTD(\"cqg.rtd\",,\"StudyData\", \"Close(\"&$D$12&\") when LocalYear(\"&$D$12&\")=\"&$D$10&\" and localMonth(\"&$D$12&\") =\"&$E$10&\" and LocalDay(\"&$D$12&\")=\"&$F$10&\" and Barix(\"&$D$12&\",reference:=StartOfSession)=\"&A2&\"\", \"Bar\", \"\", \"Close\",\"5\",\"0\",\"PrimaryOnly\",,,\"False\",\"T\",\"EveryTick\")","v":2751},{"$f":"IFERROR((Z2-$G$11)/$G$11,NA())","v":4.5458678061641969E-4},{"$f":"RANK(AD2,$AD$1:$AD$10)+COUNTIF($AD$1:AD2,AD2)-1","v":9},{"$f":"DATE(D2,E2,F2)","v":"2018-06-15"},{"$f":"VLOOKUP(MAX(AE2:AE81),A1:K81,11,FALSE)","v":-4.4826967903890983E-3},{"$f":"IF(AND(H1<>\"\",H2<>\"\",H3=\"\"),A2,\"\")","v":""},2,{"$f":"VLOOKUP(AF2,$AB$1:$AD$10,2,FALSE)","v":"2018-06-12"},{"$f":"VLOOKUP(AF2,$AB$1:$AD$10,3,FALSE)","v":1.4353637750067283E-3},null,null,{"$f":"AG2","v":"2018-06-12"},{"$f":"AC2","v":"2018-06-15"},1,{"$f":"VLOOKUP(AK2,$AL$1:$AM$10,2,FALSE)","v":4}]
[{"$f":"A2+1","v":2},"08:40:00",{"$f":"WORKDAY(C2,-G28)","v":"2018-06-14"},2018,6,14,{"$f":"RTD(\"cqg.rtd\",,\"StudyData\", \"Close(\"&$D$12&\") when LocalYear(\"&$D$12&\")=\"&D3&\" and localMonth(\"&$D$12&\") =\"&E3&\" and LocalDay(\"&$D$12&\")=\"&F3&\" and Barix(\"&$D$12&\",reference:=StartOfSession)=80\", \"Bar\", \"\", \"Close\",\"5\",\"0\",\"PrimaryOnly\",,,\"False\",\"T\",\"EveryTick\")","v":2788.5},{"$f":"RTD(\"cqg.rtd\",,\"StudyData\", \"Close(\"&$D$12&\") when LocalYear(\"&$D$12&\")=\"&$D$1&\" and localMonth(\"&$D$12&\") =\"&$E$1&\" and LocalDay(\"&$D$12&\")=\"&$F$1&\" and Barix(\"&$D$12&\",reference:=StartOfSession)=\"&A3&\"\", \"Bar\", \"\", \"Close\",\"5\",\"0\",\"PrimaryOnly\",,,\"False\",\"T\",\"EveryTick\")","v":""},{"$f":"IFERROR((H3-$G$2)/$G$2,NA())","v":{"$error":"#N/A"}},{"$f":"RTD(\"cqg.rtd\",,\"StudyData\", \"Close(\"&$D$12&\") when LocalYear(\"&$D$12&\")=\"&$D$2&\" and localMonth(\"&$D$12&\") =\"&$E$2&\" and LocalDay(\"&$D$12&\")=\"&$F$2&\" and Barix(\"&$D$12&\",reference:=StartOfSession)=\"&A3&\"\", \"Bar\", \"\", \"Close\",\"5\",\"0\",\"PrimaryOnly\",,,\"False\",\"T\",\"EveryTick\")","v":2774.5},-5.0206204052357902E-3,{"$f":"RTD(\"cqg.rtd\",,\"StudyData\", \"Close(\"&$D$12&\") when LocalYear(\"&$D$12&\")=\"&$D$3&\" and localMonth(\"&$D$12&\") =\"&$E$3&\" and LocalDay(\"&$D$12&\")=\"&$F$3&\" and Barix(\"&$D$12&\",reference:=StartOfSession)=\"&A3&\"\", \"Bar\", \"\", \"Close\",\"5\",\"0\",\"PrimaryOnly\",,,\"False\",\"T\",\"EveryTick\")","v":2788.75},3.5084562792371357E-3,{"$f":"RTD(\"cqg.rtd\",,\"StudyData\", \"Close(\"&$D$12&\") when LocalYear(\"&$D$12&\")=\"&$D$4&\" and localMonth(\"&$D$12&\") =\"&$E$4&\" and LocalDay(\"&$D$12&\")=\"&$F$4&\" and Barix(\"&$D$12&\",reference:=StartOfSession)=\"&A3&\"\", \"Bar\", \"\", \"Close\",\"5\",\"0\",\"PrimaryOnly\",,,\"False\",\"T\",\"EveryTick\")","v":2792.75},1.613915538420156E-3,{"$f":"RTD(\"cqg.rtd\",,\"StudyData\", \"Close(\"&$D$12&\") when LocalYear(\"&$D$12&\")=\"&$D$5&\" and localMonth(\"&$D$12&\") =\"&$E$5&\" and LocalDay(\"&$D$12&\")=\"&$F$5&\" and Barix(\"&$D$12&\",reference:=StartOfSession)=\"&A3&\"\", \"Bar\", \"\", \"Close\",\"5\",\"0\",\"PrimaryOnly\",,,\"False\",\"T\",\"EveryTick\")","v":2788.5},6.2797165156544359E-4,{"$f":"RTD(\"cqg.rtd\",,\"StudyData\", \"Close(\"&$D$12&\") when LocalYear(\"&$D$12&\")=\"&$D$6&\" and localMonth(\"&$D$12&\") =\"&$E$6&\" and LocalDay(\"&$D$12&\")=\"&$F$6&\" and Barix(\"&$D$12&\",reference:=StartOfSession)=\"&A3&\"\", \"Bar\", \"\", \"Close\",\"5\",\"0\",\"PrimaryOnly\",,,\"False\",\"T\",\"EveryTick\")","v":2787.5},1.7969451931716084E-3,{"$f":"RTD(\"cqg.rtd\",,\"StudyData\", \"Close(\"&$D$12&\") when LocalYear(\"&$D$12&\")=\"&$D$7&\" and localMonth(\"&$D$12&\") =\"&$E$7&\" and LocalDay(\"&$D$12&\")=\"&$F$7&\" and Barix(\"&$D$12&\",reference:=StartOfSession)=\"&A3&\"\", \"Bar\", \"\", \"Close\",\"5\",\"0\",\"PrimaryOnly\",,,\"False\",\"T\",\"EveryTick\")","v":2769.25},-2.431556195965418E-3,{"$f":"RTD(\"cqg.rtd\",,\"StudyData\", \"Close(\"&$D$12&\") when LocalYear(\"&$D$12&\")=\"&$D$8&\" and localMonth(\"&$D$12&\") =\"&$E$8&\" and LocalDay(\"&$D$12&\")=\"&$F$8&\" and Barix(\"&$D$12&\",reference:=StartOfSession)=\"&A3&\"\", \"Bar\", \"\", \"Close\",\"5\",\"0\",\"PrimaryOnly\",,,\"False\",\"T\",\"EveryTick\")","v":2780.25},1.5309798270893371E-3,{"$f":"RTD(\"cqg.rtd\",,\"StudyData\", \"Close(\"&$D$12&\") when LocalYear(\"&$D$12&\")=\"&$D$9&\" and localMonth(\"&$D$12&\") =\"&$E$9&\" and LocalDay(\"&$D$12&\")=\"&$F$9&\" and Barix(\"&$D$12&\",reference:=StartOfSession)=\"&A3&\"\", \"Bar\", \"\", \"Close\",\"5\",\"0\",\"PrimaryOnly\",,,\"False\",\"T\",\"EveryTick\")","v":2759.5},1.4516421702050445E-3,{"$f":"RTD(\"cqg.rtd\",,\"StudyData\", \"Close(\"&$D$12&\") when LocalYear(\"&$D$12&\")=\"&$D$10&\" and localMonth(\"&$D$12&\") =\"&$E$10&\" and LocalDay(\"&$D$12&\")=\"&$F$10&\" and Barix(\"&$D$12&\",reference:=StartOfSession)=\"&A3&\"\", \"Bar\", \"\", \"Close\",\"5\",\"0\",\"PrimaryOnly\",,,\"False\",\"T\",\"EveryTick\")","v":2752.25},9.0917356123283938E-4,{"$f":"RANK(AD3,$AD$1:$AD$10)+COUNTIF($AD$1:AD3,AD3)-1","v":1},"2018-06-14",{"$f":"VLOOKUP(MAX(AE2:AE81),A1:M81,13,FALSE)","v":3.5084562792371357E-3},{"$f":"IF(AND(H2<>\"\",H3<>\"\",H4=\"\"),A3,\"\")","v":""},3,"2018-06-13",1.2552676409934547E-3,null,null,"2018-06-13","2018-06-14",2,3]
[3,"08:45:00","2018-06-13",2018,6,13,{"$f":"RTD(\"cqg.rtd\",,\"StudyData\", \"Close(\"&$D$12&\") when LocalYear(\"&$D$12&\")=\"&D4&\" and localMonth(\"&$D$12&\") =\"&E4&\" and LocalDay(\"&$D$12&\")=\"&F4&\" and Barix(\"&$D$12&\",reference:=StartOfSession)=80\", \"Bar\", \"\", \"Close\",\"5\",\"0\",\"PrimaryOnly\",,,\"False\",\"T\",\"EveryTick\")","v":2779},{"$f":"RTD(\"cqg.rtd\",,\"StudyData\", \"Close(\"&$D$12&\") when LocalYear(\"&$D$12&\")=\"&$D$1&\" and localMonth(\"&$D$12&\") =\"&$E$1&\" and LocalDay(\"&$D$12&\")=\"&$F$1&\" and Barix(\"&$D$12&\",reference:=StartOfSession)=\"&A4&\"\", \"Bar\", \"\", \"Close\",\"5\",\"0\",\"PrimaryOnly\",,,\"False\",\"T\",\"EveryTick\")","v":""},{"$error":"#N/A"},{"$f":"RTD(\"cqg.rtd\",,\"StudyData\", \"Close(\"&$D$12&\") when LocalYear(\"&$D$12&\")=\"&$D$2&\" and localMonth(\"&$D$12&\") =\"&$E$2&\" and LocalDay(\"&$D$12&\")=\"&$F$2&\" and Barix(\"&$D$12&\",reference:=StartOfSession)=\"&A4&\"\", \"Bar\", \"\", \"Close\",\"5\",\"0\",\"PrimaryOnly\",,,\"False\",\"T\",\"EveryTick\")","v":2777},-4.1240810471579702E-3,{"$f":"RTD(\"cqg.rtd\",,\"StudyData\", \"Close(\"&$D$12&\") when LocalYear(\"&$D$12&\")=\"&$D$3&\" and localMonth(\"&$D$12&\") =\"&$E$3&\" and LocalDay(\"&$D$12&\")=\"&$F$3&\" and Barix(\"&$D$12&\",reference:=StartOfSession)=\"&A4&\"\", \"Bar\", \"\", \"Close\",\"5\",\"0\",\"PrimaryOnly\",,,\"False\",\"T\",\"EveryTick\")","v":2788},3.2385750269881253E-3,{"$f":"RTD(\"cqg.rtd\",,\"StudyData\", \"Close(\"&$D$12&\") when LocalYear(\"&$D$12&\")=\"&$D$4&\" and localMonth(\"&$D$12&\") =\"&$E$4&\" and LocalDay(\"&$D$12&\")=\"&$F$4&\" and Barix(\"&$D$12&\",reference:=StartOfSession)=\"&A4&\"\", \"Bar\", \"\", \"Close\",\"5\",\"0\",\"PrimaryOnly\",,,\"False\",\"T\",\"EveryTick\")","v":2793.25},1.7932394871335068E-3,{"$f":"RTD(\"cqg.rtd\",,\"StudyData\", \"Close(\"&$D$12&\") when LocalYear(\"&$D$12&\")=\"&$D$5&\" and localMonth(\"&$D$12&\") =\"&$E$5&\" and LocalDay(\"&$D$12&\")=\"&$F$5&\" and Barix(\"&$D$12&\",reference:=StartOfSession)=\"&A4&\"\", \"Bar\", \"\", \"Close\",\"5\",\"0\",\"PrimaryOnly\",,,\"False\",\"T\",\"EveryTick\")","v":2787.75},3.5884094375168208E-4,{"$f":"RTD(\"cqg.rtd\",,\"StudyData\", \"Close(\"&$D$12&\") when LocalYear(\"&$D$12&\")=\"&$D$6&\" and localMonth(\"&$D$12&\") =\"&$E$6&\" and LocalDay(\"&$D$12&\")=\"&$F$6&\" and Barix(\"&$D$12&\",reference:=StartOfSession)=\"&A4&\"\", \"Bar\", \"\", \"Close\",\"5\",\"0\",\"PrimaryOnly\",,,\"False\",\"T\",\"EveryTick\")","v":2786.5},1.4375561545372866E-3,{"$f":"RTD(\"cqg.rtd\",,\"StudyData\", \"Close(\"&$D$12&\") when LocalYear(\"&$D$12&\")=\"&$D$7&\" and localMonth(\"&$D$12&\") =\"&$E$7&\" and LocalDay(\"&$D$12&\")=\"&$F$7&\" and Barix(\"&$D$12&\",reference:=StartOfSession)=\"&A4&\"\", \"Bar\", \"\", \"Close\",\"5\",\"0\",\"PrimaryOnly\",,,\"False\",\"T\",\"EveryTick\")","v":2768.5},-2.7017291066282422E-3,{"$f":"RTD(\"cqg.rtd\",,\"StudyData\", \"Close(\"&$D$12&\") when LocalYear(\"&$D$12&\")=\"&$D$8&\" and localMonth(\"&$D$12&\") =\"&$E$8&\" and LocalDay(\"&$D$12&\")=\"&$F$8&\" and Barix(\"&$D$12&\",reference:=StartOfSession)=\"&A4&\"\", \"Bar\", \"\", \"Close\",\"5\",\"0\",\"PrimaryOnly\",,,\"False\",\"T\",\"EveryTick\")","v":2782.5},2.3414985590778097E-3,{"$f":"RTD(\"cqg.rtd\",,\"StudyData\", \"Close(\"&$D$12&\") when LocalYear(\"&$D$12&\")=\"&$D$9&\" and localMonth(\"&$D$12&\") =\"&$E$9&\" and LocalDay(\"&$D$12&\")=\"&$F$9&\" and Barix(\"&$D$12&\",reference:=StartOfSession)=\"&A4&\"\", \"Bar\", \"\", \"Close\",\"5\",\"0\",\"PrimaryOnly\",,,\"False\",\"T\",\"EveryTick\")","v":2756.75},4.5363817818907642E-4,{"$f":"RTD(\"cqg.rtd\",,\"StudyData\", \"Close(\"&$D$12&\") when LocalYear(\"&$D$12&\")=\"&$D$10&\" and localMonth(\"&$D$12&\") =\"&$E$10&\" and LocalDay(\"&$D$12&\")=\"&$F$10&\" and Barix(\"&$D$12&\",reference:=StartOfSession)=\"&A4&\"\", \"Bar\", \"\", \"Close\",\"5\",\"0\",\"PrimaryOnly\",,,\"False\",\"T\",\"EveryTick\")","v":2752.5},1.0000909173561233E-3,{"$f":"RANK(AD4,$AD$1:$AD$10)+COUNTIF($AD$1:AD4,AD4)-1","v":3},"2018-06-13",{"$f":"VLOOKUP(MAX(AE2:AE81),A1:O81,15,FALSE)","v":1.2552676409934547E-3},"",4,"2018-06-06",1.1794592632915987E-3,null,null,"2018-06-06","2018-06-13",3,8]
[4,"08:50:00","2018-06-12",2018,6,12,{"$f":"RTD(\"cqg.rtd\",,\"StudyData\", \"Close(\"&$D$12&\") when LocalYear(\"&$D$12&\")=\"&D5&\" and localMonth(\"&$D$12&\") =\"&E5&\" and LocalDay(\"&$D$12&\")=\"&F5&\" and Barix(\"&$D$12&\",reference:=StartOfSession)=80\", \"Bar\", \"\", \"Close\",\"5\",\"0\",\"PrimaryOnly\",,,\"False\",\"T\",\"EveryTick\")","v":2788.25},{"$f":"RTD(\"cqg.rtd\",,\"StudyData\", \"Close(\"&$D$12&\") when LocalYear(\"&$D$12&\")=\"&$D$1&\" and localMonth(\"&$D$12&\") =\"&$E$1&\" and LocalDay(\"&$D$12&\")=\"&$F$1&\" and Barix(\"&$D$12&\",reference:=StartOfSession)=\"&A5&\"\", \"Bar\", \"\", \"Close\",\"5\",\"0\",\"PrimaryOnly\",,,\"False\",\"T\",\"EveryTick\")","v":""},{"$error":"#N/A"},{"$f":"RTD(\"cqg.rtd\",,\"StudyData\", \"Close(\"&$D$12&\") when LocalYear(\"&$D$12&\")=\"&$D$2&\" and localMonth(\"&$D$12&\") =\"&$E$2&\" and LocalDay(\"&$D$12&\")=\"&$F$2&\" and Barix(\"&$D$12&\",reference:=StartOfSession)=\"&A5&\"\", \"Bar\", \"\", \"Close\",\"5\",\"0\",\"PrimaryOnly\",,,\"False\",\"T\",\"EveryTick\")","v":2776.25},-4.3930428545813161E-3,{"$f":"RTD(\"cqg.rtd\",,\"StudyData\", \"Close(\"&$D$12&\") when LocalYear(\"&$D$12&\")=\"&$D$3&\" and localMonth(\"&$D$12&\") =\"&$E$3&\" and LocalDay(\"&$D$12&\")=\"&$F$3&\" and Barix(\"&$D$12&\",reference:=StartOfSession)=\"&A5&\"\", \"Bar\", \"\", \"Close\",\"5\",\"0\",\"PrimaryOnly\",,,\"False\",\"T\",\"EveryTick\")","v":2787.75},3.1486146095717885E-3,{"$f":"RTD(\"cqg.rtd\",,\"StudyData\", \"Close(\"&$D$12&\") when LocalYear(\"&$D$12&\")=\"&$D$4&\" and localMonth(\"&$D$12&\") =\"&$E$4&\" and LocalDay(\"&$D$12&\")=\"&$F$4&\" and Barix(\"&$D$12&\",reference:=StartOfSession)=\"&A5&\"\", \"Bar\", \"\", \"Close\",\"5\",\"0\",\"PrimaryOnly\",,,\"False\",\"T\",\"EveryTick\")","v":2792},1.3449296153501299E-3,{"$f":"RTD(\"cqg.rtd\",,\"StudyData\", \"Close(\"&$D$12&\") when LocalYear(\"&$D$12&\")=\"&$D$5&\" and localMonth(\"&$D$12&\") =\"&$E$5&\" and LocalDay(\"&$D$12&\")=\"&$F$5&\" and Barix(\"&$D$12&\",reference:=StartOfSession)=\"&A5&\"\", \"Bar\", \"\", \"Close\",\"5\",\"0\",\"PrimaryOnly\",,,\"False\",\"T\",\"EveryTick\")","v":2787.5},2.6913070781376156E-4,{"$f":"RTD(\"cqg.rtd\",,\"StudyData\", \"Close(\"&$D$12&\") when LocalYear(\"&$D$12&\")=\"&$D$6&\" and localMonth(\"&$D$12&\") =\"&$E$6&\" and LocalDay(\"&$D$12&\")=\"&$F$6&\" and Barix(\"&$D$12&\",reference:=StartOfSession)=\"&A5&\"\", \"Bar\", \"\", \"Close\",\"5\",\"0\",\"PrimaryOnly\",,,\"False\",\"T\",\"EveryTick\")","v":2785.5},1.0781671159029651E-3,{"$f":"RTD(\"cqg.rtd\",,\"StudyData\", \"Close(\"&$D$12&\") when LocalYear(\"&$D$12&\")=\"&$D$7&\" and localMonth(\"&$D$12&\") =\"&$E$7&\" and LocalDay(\"&$D$12&\")=\"&$F$7&\" and Barix(\"&$D$12&\",reference:=StartOfSession)=\"&A5&\"\", \"Bar\", \"\", \"Close\",\"5\",\"0\",\"PrimaryOnly\",,,\"False\",\"T\",\"EveryTick\")","v":2770},-2.1613832853025938E-3,{"$f":"RTD(\"cqg.rtd\",,\"StudyData\", \"Close(\"&$D$12&\") when LocalYear(\"&$D$12&\")=\"&$D$8&\" and localMonth(\"&$D$12&\") =\"&$E$8&\" and LocalDay(\"&$D$12&\")=\"&$F$8&\" and Barix(\"&$D$12&\",reference:=StartOfSession)=\"&A5&\"\", \"Bar\", \"\", \"Close\",\"5\",\"0\",\"PrimaryOnly\",,,\"False\",\"T\",\"EveryTick\")","v":2781.75},2.0713256484149855E-3,{"$f":"RTD(\"cqg.rtd\",,\"StudyData\", \"Close(\"&$D$12&\") when LocalYear(\"&$D$12&\")=\"&$D$9&\" and localMonth(\"&$D$12&\") =\"&$E$9&\" and LocalDay(\"&$D$12&\")=\"&$F$9&\" and Barix(\"&$D$12&\",reference:=StartOfSession)=\"&A5&\"\", \"Bar\", \"\", \"Close\",\"5\",\"0\",\"PrimaryOnly\",,,\"False\",\"T\",\"EveryTick\")","v":2758},9.0727635637815284E-4,{"$f":"RTD(\"cqg.rtd\",,\"StudyData\", \"Close(\"&$D$12&\") when LocalYear(\"&$D$12&\")=\"&$D$10&\" and localMonth(\"&$D$12&\") =\"&$E$10&\" and LocalDay(\"&$D$12&\")=\"&$F$10&\" and Barix(\"&$D$12&\",reference:=StartOfSession)=\"&A5&\"\", \"Bar\", \"\", \"Close\",\"5\",\"0\",\"PrimaryOnly\",,,\"False\",\"T\",\"EveryTick\")","v":2752.75},1.0910082734794072E-3,{"$f":"RANK(AD5,$AD$1:$AD$10)+COUNTIF($AD$1:AD5,AD5)-1","v":2},"2018-06-12",{"$f":"VLOOKUP(MAX(AE2:AE81),A1:Q81,17,FALSE)","v":1.4353637750067283E-3},"",5,"2018-06-11",8.9847259658580418E-4,null,null,"2018-06-11","2018-06-12",4,5]
[5,"08:55:00","2018-06-11",2018,6,11,{"$f":"RTD(\"cqg.rtd\",,\"StudyData\", \"Close(\"&$D$12&\") when LocalYear(\"&$D$12&\")=\"&D6&\" and localMonth(\"&$D$12&\") =\"&E6&\" and LocalDay(\"&$D$12&\")=\"&F6&\" and Barix(\"&$D$12&\",reference:=StartOfSession)=80\", \"Bar\", \"\", \"Close\",\"5\",\"0\",\"PrimaryOnly\",,,\"False\",\"T\",\"EveryTick\")","v":2786.75},{"$f":"RTD(\"cqg.rtd\",,\"StudyData\", \"Close(\"&$D$12&\") when LocalYear(\"&$D$12&\")=\"&$D$1&\" and localMonth(\"&$D$12&\") =\"&$E$1&\" and LocalDay(\"&$D$12&\")=\"&$F$1&\" and Barix(\"&$D$12&\",reference:=StartOfSession)=\"&A6&\"\", \"Bar\", \"\", \"Close\",\"5\",\"0\",\"PrimaryOnly\",,,\"False\",\"T\",\"EveryTick\")","v":""},{"$error":"#N/A"},{"$f":"RTD(\"cqg.rtd\",,\"StudyData\", \"Close(\"&$D$12&\") when LocalYear(\"&$D$12&\")=\"&$D$2&\" and localMonth(\"&$D$12&\") =\"&$E$2&\" and LocalDay(\"&$D$12&\")=\"&$F$2&\" and Barix(\"&$D$12&\",reference:=StartOfSession)=\"&A6&\"\", \"Bar\", \"\", \"Close\",\"5\",\"0\",\"PrimaryOnly\",,,\"False\",\"T\",\"EveryTick\")","v":2777.25},-4.0344271113501879E-3,{"$f":"RTD(\"cqg.rtd\",,\"StudyData\", \"Close(\"&$D$12&\") when LocalYear(\"&$D$12&\")=\"&$D$3&\" and localMonth(\"&$D$12&\") =\"&$E$3&\" and LocalDay(\"&$D$12&\")=\"&$F$3&\" and Barix(\"&$D$12&\",reference:=StartOfSession)=\"&A6&\"\", \"Bar\", \"\", \"Close\",\"5\",\"0\",\"PrimaryOnly\",,,\"False\",\"T\",\"EveryTick\")","v":2787.75},3.1486146095717885E-3,{"$f":"RTD(\"cqg.rtd\",,\"StudyData\", \"Close(\"&$D$12&\") when LocalYear(\"&$D$12&\")=\"&$D$4&\" and localMonth(\"&$D$12&\") =\"&$E$4&\" and LocalDay(\"&$D$12&\")=\"&$F$4&\" and Barix(\"&$D$12&\",reference:=StartOfSession)=\"&A6&\"\", \"Bar\", \"\", \"Close\",\"5\",\"0\",\"PrimaryOnly\",,,\"False\",\"T\",\"EveryTick\")","v":2791.5},1.1656056666367793E-3,{"$f":"RTD(\"cqg.rtd\",,\"StudyData\", \"Close(\"&$D$12&\") when LocalYear(\"&$D$12&\")=\"&$D$5&\" and localMonth(\"&$D$12&\") =\"&$E$5&\" and LocalDay(\"&$D$12&\")=\"&$F$5&\" and Barix(\"&$D$12&\",reference:=StartOfSession)=\"&A6&\"\", \"Bar\", \"\", \"Close\",\"5\",\"0\",\"PrimaryOnly\",,,\"False\",\"T\",\"EveryTick\")","v":2787.5},2.6913070781376156E-4,{"$f":"RTD(\"cqg.rtd\",,\"StudyData\", \"Close(\"&$D$12&\") when LocalYear(\"&$D$12&\")=\"&$D$6&\" and localMonth(\"&$D$12&\") =\"&$E$6&\" and LocalDay(\"&$D$12&\")=\"&$F$6&\" and Barix(\"&$D$12&\",reference:=StartOfSession)=\"&A6&\"\", \"Bar\", \"\", \"Close\",\"5\",\"0\",\"PrimaryOnly\",,,\"False\",\"T\",\"EveryTick\")","v":2785},8.9847259658580418E-4,{"$f":"RTD(\"cqg.rtd\",,\"StudyData\", \"Close(\"&$D$12&\") when LocalYear(\"&$D$12&\")=\"&$D$7&\" and localMonth(\"&$D$12&\") =\"&$E$7&\" and LocalDay(\"&$D$12&\")=\"&$F$7&\" and Barix(\"&$D$12&\",reference:=StartOfSession)=\"&A6&\"\", \"Bar\", \"\", \"Close\",\"5\",\"0\",\"PrimaryOnly\",,,\"False\",\"T\",\"EveryTick\")","v":2773.25},-9.9063400576368879E-4,{"$f":"RTD(\"cqg.rtd\",,\"StudyData\", \"Close(\"&$D$12&\") when LocalYear(\"&$D$12&\")=\"&$D$8&\" and localMonth(\"&$D$12&\") =\"&$E$8&\" and LocalDay(\"&$D$12&\")=\"&$F$8&\" and Barix(\"&$D$12&\",reference:=StartOfSession)=\"&A6&\"\", \"Bar\", \"\", \"Close\",\"5\",\"0\",\"PrimaryOnly\",,,\"False\",\"T\",\"EveryTick\")","v":2780.75},1.7110951008645534E-3,{"$f":"RTD(\"cqg.rtd\",,\"StudyData\", \"Close(\"&$D$12&\") when LocalYear(\"&$D$12&\")=\"&$D$9&\" and localMonth(\"&$D$12&\") =\"&$E$9&\" and LocalDay(\"&$D$12&\")=\"&$F$9&\" and Barix(\"&$D$12&\",reference:=StartOfSession)=\"&A6&\"\", \"Bar\", \"\", \"Close\",\"5\",\"0\",\"PrimaryOnly\",,,\"False\",\"T\",\"EveryTick\")","v":2755},-1.8145527127563056E-4,{"$f":"RTD(\"cqg.rtd\",,\"StudyData\", \"Close(\"&$D$12&\") when LocalYear(\"&$D$12&\")=\"&$D$10&\" and localMonth(\"&$D$12&\") =\"&$E$10&\" and LocalDay(\"&$D$12&\")=\"&$F$10&\" and Barix(\"&$D$12&\",reference:=StartOfSession)=\"&A6&\"\", \"Bar\", \"\", \"Close\",\"5\",\"0\",\"PrimaryOnly\",,,\"False\",\"T\",\"EveryTick\")","v":2753},1.1819256296026911E-3,{"$f":"RANK(AD6,$AD$1:$AD$10)+COUNTIF($AD$1:AD6,AD6)-1","v":5},"2018-06-11",{"$f":"VLOOKUP(MAX(AE2:AE81),A1:S81,19,FALSE)","v":8.9847259658580418E-4},"",6,"2018-06-07",7.2046109510086451E-4,null,null,"2018-06-07","2018-06-11",5,7]
[6,"09:00:00","2018-06-08",2018,6,8,{"$f":"RTD(\"cqg.rtd\",,\"StudyData\", \"Close(\"&$D$12&\") when LocalYear(\"&$D$12&\")=\"&D7&\" and localMonth(\"&$D$12&\") =\"&E7&\" and LocalDay(\"&$D$12&\")=\"&F7&\" and Barix(\"&$D$12&\",reference:=StartOfSession)=80\", \"Bar\", \"\", \"Close\",\"5\",\"0\",\"PrimaryOnly\",,,\"False\",\"T\",\"EveryTick\")","v":2782.5},{"$f":"RTD(\"cqg.rtd\",,\"StudyData\", \"Close(\"&$D$12&\") when LocalYear(\"&$D$12&\")=\"&$D$1&\" and localMonth(\"&$D$12&\") =\"&$E$1&\" and LocalDay(\"&$D$12&\")=\"&$F$1&\" and Barix(\"&$D$12&\",reference:=StartOfSession)=\"&A7&\"\", \"Bar\", \"\", \"Close\",\"5\",\"0\",\"PrimaryOnly\",,,\"False\",\"T\",\"EveryTick\")","v":""},{"$error":"#N/A"},{"$f":"RTD(\"cqg.rtd\",,\"StudyData\", \"Close(\"&$D$12&\") when LocalYear(\"&$D$12&\")=\"&$D$2&\" and localMonth(\"&$D$12&\") =\"&$E$2&\" and LocalDay(\"&$D$12&\")=\"&$F$2&\" and Barix(\"&$D$12&\",reference:=StartOfSession)=\"&A7&\"\", \"Bar\", \"\", \"Close\",\"5\",\"0\",\"PrimaryOnly\",,,\"False\",\"T\",\"EveryTick\")","v":2778},-3.7654653039268424E-3,{"$f":"RTD(\"cqg.rtd\",,\"StudyData\", \"Close(\"&$D$12&\") when LocalYear(\"&$D$12&\")=\"&$D$3&\" and localMonth(\"&$D$12&\") =\"&$E$3&\" and LocalDay(\"&$D$12&\")=\"&$F$3&\" and Barix(\"&$D$12&\",reference:=StartOfSession)=\"&A7&\"\", \"Bar\", \"\", \"Close\",\"5\",\"0\",\"PrimaryOnly\",,,\"False\",\"T\",\"EveryTick\")","v":2791.75},4.5879812882331774E-3,{"$f":"RTD(\"cqg.rtd\",,\"StudyData\", \"Close(\"&$D$12&\") when LocalYear(\"&$D$12&\")=\"&$D$4&\" and localMonth(\"&$D$12&\") =\"&$E$4&\" and LocalDay(\"&$D$12&\")=\"&$F$4&\" and Barix(\"&$D$12&\",reference:=StartOfSession)=\"&A7&\"\", \"Bar\", \"\", \"Close\",\"5\",\"0\",\"PrimaryOnly\",,,\"False\",\"T\",\"EveryTick\")","v":2792.25},1.4345915897068053E-3,{"$f":"RTD(\"cqg.rtd\",,\"StudyData\", \"Close(\"&$D$12&\") when LocalYear(\"&$D$12&\")=\"&$D$5&\" and localMonth(\"&$D$12&\") =\"&$E$5&\" and LocalDay(\"&$D$12&\")=\"&$F$5&\" and Barix(\"&$D$12&\",reference:=StartOfSession)=\"&A7&\"\", \"Bar\", \"\", \"Close\",\"5\",\"0\",\"PrimaryOnly\",,,\"False\",\"T\",\"EveryTick\")","v":2789},8.0739212344128463E-4,{"$f":"RTD(\"cqg.rtd\",,\"StudyData\", \"Close(\"&$D$12&\") when LocalYear(\"&$D$12&\")=\"&$D$6&\" and localMonth(\"&$D$12&\") =\"&$E$6&\" and LocalDay(\"&$D$12&\")=\"&$F$6&\" and Barix(\"&$D$12&\",reference:=StartOfSession)=\"&A7&\"\", \"Bar\", \"\", \"Close\",\"5\",\"0\",\"PrimaryOnly\",,,\"False\",\"T\",\"EveryTick\")","v":2784.25},6.2893081761006286E-4,{"$f":"RTD(\"cqg.rtd\",,\"StudyData\", \"Close(\"&$D$12&\") when LocalYear(\"&$D$12&\")=\"&$D$7&\" and localMonth(\"&$D$12&\") =\"&$E$7&\" and LocalDay(\"&$D$12&\")=\"&$F$7&\" and Barix(\"&$D$12&\",reference:=StartOfSession)=\"&A7&\"\", \"Bar\", \"\", \"Close\",\"5\",\"0\",\"PrimaryOnly\",,,\"False\",\"T\",\"EveryTick\")","v":2771},-1.8011527377521613E-3,{"$f":"RTD(\"cqg.rtd\",,\"StudyData\", \"Close(\"&$D$12&\") when LocalYear(\"&$D$12&\")=\"&$D$8&\" and localMonth(\"&$D$12&\") =\"&$E$8&\" and LocalDay(\"&$D$12&\")=\"&$F$8&\" and Barix(\"&$D$12&\",reference:=StartOfSession)=\"&A7&\"\", \"Bar\", \"\", \"Close\",\"5\",\"0\",\"PrimaryOnly\",,,\"False\",\"T\",\"EveryTick\")","v":2782},2.1613832853025938E-3,{"$f":"RTD(\"cqg.rtd\",,\"StudyData\", \"Close(\"&$D$12&\") when LocalYear(\"&$D$12&\")=\"&$D$9&\" and localMonth(\"&$D$12&\") =\"&$E$9&\" and LocalDay(\"&$D$12&\")=\"&$F$9&\" and Barix(\"&$D$12&\",reference:=StartOfSession)=\"&A7&\"\", \"Bar\", \"\", \"Close\",\"5\",\"0\",\"PrimaryOnly\",,,\"False\",\"T\",\"EveryTick\")","v":2752.5},-1.0887316276537834E-3,{"$f":"RTD(\"cqg.rtd\",,\"StudyData\", \"Close(\"&$D$12&\") when LocalYear(\"&$D$12&\")=\"&$D$10&\" and localMonth(\"&$D$12&\") =\"&$E$10&\" and LocalDay(\"&$D$12&\")=\"&$F$10&\" and Barix(\"&$D$12&\",reference:=StartOfSession)=\"&A7&\"\", \"Bar\", \"\", \"Close\",\"5\",\"0\",\"PrimaryOnly\",,,\"False\",\"T\",\"EveryTick\")","v":2755.25},2.0001818347122466E-3,{"$f":"RANK(AD7,$AD$1:$AD$10)+COUNTIF($AD$1:AD7,AD7)-1","v":8},"2018-06-08",{"$f":"VLOOKUP(MAX(AE2:AE81),A1:U81,21,FALSE)","v":-2.9719020172910664E-3},"",7,"2018-06-05",6.3642149286298759E-4,null,null,"2018-06-05","2018-06-08",6,9]
[7,"09:05:00","2018-06-07",2018,6,7,{"$f":"RTD(\"cqg.rtd\",,\"StudyData\", \"Close(\"&$D$12&\") when LocalYear(\"&$D$12&\")=\"&D8&\" and localMonth(\"&$D$12&\") =\"&E8&\" and LocalDay(\"&$D$12&\")=\"&F8&\" and Barix(\"&$D$12&\",reference:=StartOfSession)=80\", \"Bar\", \"\", \"Close\",\"5\",\"0\",\"PrimaryOnly\",,,\"False\",\"T\",\"EveryTick\")","v":2776},{"$f":"RTD(\"cqg.rtd\",,\"StudyData\", \"Close(\"&$D$12&\") when LocalYear(\"&$D$12&\")=\"&$D$1&\" and localMonth(\"&$D$12&\") =\"&$E$1&\" and LocalDay(\"&$D$12&\")=\"&$F$1&\" and Barix(\"&$D$12&\",reference:=StartOfSession)=\"&A8&\"\", \"Bar\", \"\", \"Close\",\"5\",\"0\",\"PrimaryOnly\",,,\"False\",\"T\",\"EveryTick\")","v":""},{"$error":"#N/A"},{"$f":"RTD(\"cqg.rtd\",,\"StudyData\", \"Close(\"&$D$12&\") when LocalYear(\"&$D$12&\")=\"&$D$2&\" and localMonth(\"&$D$12&\") =\"&$E$2&\" and LocalDay(\"&$D$12&\")=\"&$F$2&\" and Barix(\"&$D$12&\",reference:=StartOfSession)=\"&A8&\"\", \"Bar\", \"\", \"Close\",\"5\",\"0\",\"PrimaryOnly\",,,\"False\",\"T\",\"EveryTick\")","v":2776},-4.4826967903890983E-3,{"$f":"RTD(\"cqg.rtd\",,\"StudyData\", \"Close(\"&$D$12&\") when LocalYear(\"&$D$12&\")=\"&$D$3&\" and localMonth(\"&$D$12&\") =\"&$E$3&\" and LocalDay(\"&$D$12&\")=\"&$F$3&\" and Barix(\"&$D$12&\",reference:=StartOfSession)=\"&A8&\"\", \"Bar\", \"\", \"Close\",\"5\",\"0\",\"PrimaryOnly\",,,\"False\",\"T\",\"EveryTick\")","v":2792.75},4.9478229578985245E-3,{"$f":"RTD(\"cqg.rtd\",,\"StudyData\", \"Close(\"&$D$12&\") when LocalYear(\"&$D$12&\")=\"&$D$4&\" and localMonth(\"&$D$12&\") =\"&$E$4&\" and LocalDay(\"&$D$12&\")=\"&$F$4&\" and Barix(\"&$D$12&\",reference:=StartOfSession)=\"&A8&\"\", \"Bar\", \"\", \"Close\",\"5\",\"0\",\"PrimaryOnly\",,,\"False\",\"T\",\"EveryTick\")","v":2793},1.7035775127768314E-3,{"$f":"RTD(\"cqg.rtd\",,\"StudyData\", \"Close(\"&$D$12&\") when LocalYear(\"&$D$12&\")=\"&$D$5&\" and localMonth(\"&$D$12&\") =\"&$E$5&\" and LocalDay(\"&$D$12&\")=\"&$F$5&\" and Barix(\"&$D$12&\",reference:=StartOfSession)=\"&A8&\"\", \"Bar\", \"\", \"Close\",\"5\",\"0\",\"PrimaryOnly\",,,\"False\",\"T\",\"EveryTick\")","v":2789.5},9.8681259531712578E-4,{"$f":"RTD(\"cqg.rtd\",,\"StudyData\", \"Close(\"&$D$12&\") when LocalYear(\"&$D$12&\")=\"&$D$6&\" and localMonth(\"&$D$12&\") =\"&$E$6&\" and LocalDay(\"&$D$12&\")=\"&$F$6&\" and Barix(\"&$D$12&\",reference:=StartOfSession)=\"&A8&\"\", \"Bar\", \"\", \"Close\",\"5\",\"0\",\"PrimaryOnly\",,,\"False\",\"T\",\"EveryTick\")","v":2786},1.2578616352201257E-3,{"$f":"RTD(\"cqg.rtd\",,\"StudyData\", \"Close(\"&$D$12&\") when LocalYear(\"&$D$12&\")=\"&$D$7&\" and localMonth(\"&$D$12&\") =\"&$E$7&\" and LocalDay(\"&$D$12&\")=\"&$F$7&\" and Barix(\"&$D$12&\",reference:=StartOfSession)=\"&A8&\"\", \"Bar\", \"\", \"Close\",\"5\",\"0\",\"PrimaryOnly\",,,\"False\",\"T\",\"EveryTick\")","v":2771.5},-1.6210374639769453E-3,{"$f":"RTD(\"cqg.rtd\",,\"StudyData\", \"Close(\"&$D$12&\") when LocalYear(\"&$D$12&\")=\"&$D$8&\" and localMonth(\"&$D$12&\") =\"&$E$8&\" and LocalDay(\"&$D$12&\")=\"&$F$8&\" and Barix(\"&$D$12&\",reference:=StartOfSession)=\"&A8&\"\", \"Bar\", \"\", \"Close\",\"5\",\"0\",\"PrimaryOnly\",,,\"False\",\"T\",\"EveryTick\")","v":2778},7.2046109510086451E-4,{"$f":"RTD(\"cqg.rtd\",,\"StudyData\", \"Close(\"&$D$12&\") when LocalYear(\"&$D$12&\")=\"&$D$9&\" and localMonth(\"&$D$12&\") =\"&$E$9&\" and LocalDay(\"&$D$12&\")=\"&$F$9&\" and Barix(\"&$D$12&\",reference:=StartOfSession)=\"&A8&\"\", \"Bar\", \"\", \"Close\",\"5\",\"0\",\"PrimaryOnly\",,,\"False\",\"T\",\"EveryTick\")","v":2753.25},-8.1654872074033748E-4,{"$f":"RTD(\"cqg.rtd\",,\"StudyData\", \"Close(\"&$D$12&\") when LocalYear(\"&$D$12&\")=\"&$D$10&\" and localMonth(\"&$D$12&\") =\"&$E$10&\" and LocalDay(\"&$D$12&\")=\"&$F$10&\" and Barix(\"&$D$12&\",reference:=StartOfSession)=\"&A8&\"\", \"Bar\", \"\", \"Close\",\"5\",\"0\",\"PrimaryOnly\",,,\"False\",\"T\",\"EveryTick\")","v":2754.75},1.8183471224656788E-3,{"$f":"RANK(AD8,$AD$1:$AD$10)+COUNTIF($AD$1:AD8,AD8)-1","v":6},"2018-06-07",{"$f":"VLOOKUP(MAX(AE2:AE81),A1:W81,23,FALSE)","v":7.2046109510086451E-4},"",8,"2018-06-08",-2.9719020172910664E-3,null,null,"2018-06-08","2018-06-07",7,6]
[8,"09:10:00","2018-06-06",2018,6,6,{"$f":"RTD(\"cqg.rtd\",,\"StudyData\", \"Close(\"&$D$12&\") when LocalYear(\"&$D$12&\")=\"&D9&\" and localMonth(\"&$D$12&\") =\"&E9&\" and LocalDay(\"&$D$12&\")=\"&F9&\" and Barix(\"&$D$12&\",reference:=StartOfSession)=80\", \"Bar\", \"\", \"Close\",\"5\",\"0\",\"PrimaryOnly\",,,\"False\",\"T\",\"EveryTick\")","v":2776},{"$f":"RTD(\"cqg.rtd\",,\"StudyData\", \"Close(\"&$D$12&\") when LocalYear(\"&$D$12&\")=\"&$D$1&\" and localMonth(\"&$D$12&\") =\"&$E$1&\" and LocalDay(\"&$D$12&\")=\"&$F$1&\" and Barix(\"&$D$12&\",reference:=StartOfSession)=\"&A9&\"\", \"Bar\", \"\", \"Close\",\"5\",\"0\",\"PrimaryOnly\",,,\"False\",\"T\",\"EveryTick\")","v":""},{"$error":"#N/A"},{"$f":"RTD(\"cqg.rtd\",,\"StudyData\", \"Close(\"&$D$12&\") when LocalYear(\"&$D$12&\")=\"&$D$2&\" and localMonth(\"&$D$12&\") =\"&$E$2&\" and LocalDay(\"&$D$12&\")=\"&$F$2&\" and Barix(\"&$D$12&\",reference:=StartOfSession)=\"&A9&\"\", \"Bar\", \"\", \"Close\",\"5\",\"0\",\"PrimaryOnly\",,,\"False\",\"T\",\"EveryTick\")","v":2776.25},-4.3930428545813161E-3,{"$f":"RTD(\"cqg.rtd\",,\"StudyData\", \"Close(\"&$D$12&\") when LocalYear(\"&$D$12&\")=\"&$D$3&\" and localMonth(\"&$D$12&\") =\"&$E$3&\" and LocalDay(\"&$D$12&\")=\"&$F$3&\" and Barix(\"&$D$12&\",reference:=StartOfSession)=\"&A9&\"\", \"Bar\", \"\", \"Close\",\"5\",\"0\",\"PrimaryOnly\",,,\"False\",\"T\",\"EveryTick\")","v":2793},5.0377833753148613E-3,{"$f":"RTD(\"cqg.rtd\",,\"StudyData\", \"Close(\"&$D$12&\") when LocalYear(\"&$D$12&\")=\"&$D$4&\" and localMonth(\"&$D$12&\") =\"&$E$4&\" and LocalDay(\"&$D$12&\")=\"&$F$4&\" and Barix(\"&$D$12&\",reference:=StartOfSession)=\"&A9&\"\", \"Bar\", \"\", \"Close\",\"5\",\"0\",\"PrimaryOnly\",,,\"False\",\"T\",\"EveryTick\")","v":2793},1.7035775127768314E-3,{"$f":"RTD(\"cqg.rtd\",,\"StudyData\", \"Close(\"&$D$12&\") when LocalYear(\"&$D$12&\")=\"&$D$5&\" and localMonth(\"&$D$12&\") =\"&$E$5&\" and LocalDay(\"&$D$12&\")=\"&$F$5&\" and Barix(\"&$D$12&\",reference:=StartOfSession)=\"&A9&\"\", \"Bar\", \"\", \"Close\",\"5\",\"0\",\"PrimaryOnly\",,,\"False\",\"T\",\"EveryTick\")","v":2790},1.1662330671929667E-3,{"$f":"RTD(\"cqg.rtd\",,\"StudyData\", \"Close(\"&$D$12&\") when LocalYear(\"&$D$12&\")=\"&$D$6&\" and localMonth(\"&$D$12&\") =\"&$E$6&\" and LocalDay(\"&$D$12&\")=\"&$F$6&\" and Barix(\"&$D$12&\",reference:=StartOfSession)=\"&A9&\"\", \"Bar\", \"\", \"Close\",\"5\",\"0\",\"PrimaryOnly\",,,\"False\",\"T\",\"EveryTick\")","v":2787.5},1.7969451931716084E-3,{"$f":"RTD(\"cqg.rtd\",,\"StudyData\", \"Close(\"&$D$12&\") when LocalYear(\"&$D$12&\")=\"&$D$7&\" and localMonth(\"&$D$12&\") =\"&$E$7&\" and LocalDay(\"&$D$12&\")=\"&$F$7&\" and Barix(\"&$D$12&\",reference:=StartOfSession)=\"&A9&\"\", \"Bar\", \"\", \"Close\",\"5\",\"0\",\"PrimaryOnly\",,,\"False\",\"T\",\"EveryTick\")","v":2771},-1.8011527377521613E-3,{"$f":"RTD(\"cqg.rtd\",,\"StudyData\", \"Close(\"&$D$12&\") when LocalYear(\"&$D$12&\")=\"&$D$8&\" and localMonth(\"&$D$12&\") =\"&$E$8&\" and LocalDay(\"&$D$12&\")=\"&$F$8&\" and Barix(\"&$D$12&\",reference:=StartOfSession)=\"&A9&\"\", \"Bar\", \"\", \"Close\",\"5\",\"0\",\"PrimaryOnly\",,,\"False\",\"T\",\"EveryTick\")","v":2777.75},6.3040345821325648E-4,{"$f":"RTD(\"cqg.rtd\",,\"StudyData\", \"Close(\"&$D$12&\") when LocalYear(\"&$D$12&\")=\"&$D$9&\" and localMonth(\"&$D$12&\") =\"&$E$9&\" and LocalDay(\"&$D$12&\")=\"&$F$9&\" and Barix(\"&$D$12&\",reference:=StartOfSession)=\"&A9&\"\", \"Bar\", \"\", \"Close\",\"5\",\"0\",\"PrimaryOnly\",,,\"False\",\"T\",\"EveryTick\")","v":2754.5},-3.6291054255126111E-4,{"$f":"RTD(\"cqg.rtd\",,\"StudyData\", \"Close(\"&$D$12&\") when LocalYear(\"&$D$12&\")=\"&$D$10&\" and localMonth(\"&$D$12&\") =\"&$E$10&\" and LocalDay(\"&$D$12&\")=\"&$F$10&\" and Barix(\"&$D$12&\",reference:=StartOfSession)=\"&A9&\"\", \"Bar\", \"\", \"Close\",\"5\",\"0\",\"PrimaryOnly\",,,\"False\",\"T\",\"EveryTick\")","v":2754.25},1.6365124102191108E-3,{"$f":"RANK(AD9,$AD$1:$AD$10)+COUNTIF($AD$1:AD9,AD9)-1","v":4},"2018-06-06",{"$f":"VLOOKUP(MAX(AE2:AE81),A1:Y81,25,FALSE)","v":1.1794592632915987E-3},"",9,"2018-06-15",-4.4826967903890983E-3,null,null,"2018-06-15","2018-06-06",8,1]
[9,"09:15:00","2018-06-05",2018,6,5,{"$f":"RTD(\"cqg.rtd\",,\"StudyData\", \"Close(\"&$D$12&\") when LocalYear(\"&$D$12&\")=\"&D10&\" and localMonth(\"&$D$12&\") =\"&E10&\" and LocalDay(\"&$D$12&\")=\"&F10&\" and Barix(\"&$D$12&\",reference:=StartOfSession)=80\", \"Bar\", \"\", \"Close\",\"5\",\"0\",\"PrimaryOnly\",,,\"False\",\"T\",\"EveryTick\")","v":2755.5},{"$f":"RTD(\"cqg.rtd\",,\"StudyData\", \"Close(\"&$D$12&\") when LocalYear(\"&$D$12&\")=\"&$D$1&\" and localMonth(\"&$D$12&\") =\"&$E$1&\" and LocalDay(\"&$D$12&\")=\"&$F$1&\" and Barix(\"&$D$12&\",reference:=StartOfSession)=\"&A10&\"\", \"Bar\", \"\", \"Close\",\"5\",\"0\",\"PrimaryOnly\",,,\"False\",\"T\",\"EveryTick\")","v":""},{"$error":"#N/A"},{"$f":"RTD(\"cqg.rtd\",,\"StudyData\", \"Close(\"&$D$12&\") when LocalYear(\"&$D$12&\")=\"&$D$2&\" and localMonth(\"&$D$12&\") =\"&$E$2&\" and LocalDay(\"&$D$12&\")=\"&$F$2&\" and Barix(\"&$D$12&\",reference:=StartOfSession)=\"&A10&\"\", \"Bar\", \"\", \"Close\",\"5\",\"0\",\"PrimaryOnly\",,,\"False\",\"T\",\"EveryTick\")","v":2775.5},-4.662004662004662E-3,{"$f":"RTD(\"cqg.rtd\",,\"StudyData\", \"Close(\"&$D$12&\") when LocalYear(\"&$D$12&\")=\"&$D$3&\" and localMonth(\"&$D$12&\") =\"&$E$3&\" and LocalDay(\"&$D$12&\")=\"&$F$3&\" and Barix(\"&$D$12&\",reference:=StartOfSession)=\"&A10&\"\", \"Bar\", \"\", \"Close\",\"5\",\"0\",\"PrimaryOnly\",,,\"False\",\"T\",\"EveryTick\")","v":2793},5.0377833753148613E-3,{"$f":"RTD(\"cqg.rtd\",,\"StudyData\", \"Close(\"&$D$12&\") when LocalYear(\"&$D$12&\")=\"&$D$4&\" and localMonth(\"&$D$12&\") =\"&$E$4&\" and LocalDay(\"&$D$12&\")=\"&$F$4&\" and Barix(\"&$D$12&\",reference:=StartOfSession)=\"&A10&\"\", \"Bar\", \"\", \"Close\",\"5\",\"0\",\"PrimaryOnly\",,,\"False\",\"T\",\"EveryTick\")","v":2793.5},1.882901461490182E-3,{"$f":"RTD(\"cqg.rtd\",,\"StudyData\", \"Close(\"&$D$12&\") when LocalYear(\"&$D$12&\")=\"&$D$5&\" and localMonth(\"&$D$12&\") =\"&$E$5&\" and LocalDay(\"&$D$12&\")=\"&$F$5&\" and Barix(\"&$D$12&\",reference:=StartOfSession)=\"&A10&\"\", \"Bar\", \"\", \"Close\",\"5\",\"0\",\"PrimaryOnly\",,,\"False\",\"T\",\"EveryTick\")","v":2789},8.0739212344128463E-4,{"$f":"RTD(\"cqg.rtd\",,\"StudyData\", \"Close(\"&$D$12&\") when LocalYear(\"&$D$12&\")=\"&$D$6&\" and localMonth(\"&$D$12&\") =\"&$E$6&\" and LocalDay(\"&$D$12&\")=\"&$F$6&\" and Barix(\"&$D$12&\",reference:=StartOfSession)=\"&A10&\"\", \"Bar\", \"\", \"Close\",\"5\",\"0\",\"PrimaryOnly\",,,\"False\",\"T\",\"EveryTick\")","v":2786.5},1.4375561545372866E-3,{"$f":"RTD(\"cqg.rtd\",,\"StudyData\", \"Close(\"&$D$12&\") when LocalYear(\"&$D$12&\")=\"&$D$7&\" and localMonth(\"&$D$12&\") =\"&$E$7&\" and LocalDay(\"&$D$12&\")=\"&$F$7&\" and Barix(\"&$D$12&\",reference:=StartOfSession)=\"&A10&\"\", \"Bar\", \"\", \"Close\",\"5\",\"0\",\"PrimaryOnly\",,,\"False\",\"T\",\"EveryTick\")","v":2771.75},-1.5309798270893371E-3,{"$f":"RTD(\"cqg.rtd\",,\"StudyData\", \"Close(\"&$D$12&\") when LocalYear(\"&$D$12&\")=\"&$D$8&\" and localMonth(\"&$D$12&\") =\"&$E$8&\" and LocalDay(\"&$D$12&\")=\"&$F$8&\" and Barix(\"&$D$12&\",reference:=StartOfSession)=\"&A10&\"\", \"Bar\", \"\", \"Close\",\"5\",\"0\",\"PrimaryOnly\",,,\"False\",\"T\",\"EveryTick\")","v":2778},7.2046109510086451E-4,{"$f":"RTD(\"cqg.rtd\",,\"StudyData\", \"Close(\"&$D$12&\") when LocalYear(\"&$D$12&\")=\"&$D$9&\" and localMonth(\"&$D$12&\") =\"&$E$9&\" and LocalDay(\"&$D$12&\")=\"&$F$9&\" and Barix(\"&$D$12&\",reference:=StartOfSession)=\"&A10&\"\", \"Bar\", \"\", \"Close\",\"5\",\"0\",\"PrimaryOnly\",,,\"False\",\"T\",\"EveryTick\")","v":2753.25},-8.1654872074033748E-4,{"$f":"RTD(\"cqg.rtd\",,\"StudyData\", \"Close(\"&$D$12&\") when LocalYear(\"&$D$12&\")=\"&$D$10&\" and localMonth(\"&$D$12&\") =\"&$E$10&\" and LocalDay(\"&$D$12&\")=\"&$F$10&\" and Barix(\"&$D$12&\",reference:=StartOfSession)=\"&A10&\"\", \"Bar\", \"\", \"Close\",\"5\",\"0\",\"PrimaryOnly\",,,\"False\",\"T\",\"EveryTick\")","v":2754.5},1.7274297663423949E-3,{"$f":"RANK(AD10,$AD$1:$AD$10)+COUNTIF($AD$1:AD10,AD10)-1","v":7},"2018-06-05",{"$f":"VLOOKUP(MAX(AE2:AE81),A1:AA81,27,FALSE)","v":6.3642149286298759E-4},"",10,"2018-06-18",-7.8110971449093193E-3,null,null,"2018-06-18","2018-06-05",9,0]
[10,"09:20:00","2018-06-04",2018,{"$f":"MONTH(C11)","v":6},{"$f":"DAY(C11)","v":4},{"$f":"RTD(\"cqg.rtd\",,\"StudyData\", \"Close(\"&$D$12&\") when LocalYear(\"&$D$12&\")=\"&D11&\" and localMonth(\"&$D$12&\") =\"&E11&\" and LocalDay(\"&$D$12&\")=\"&F11&\" and Barix(\"&$D$12&\",reference:=StartOfSession)=80\", \"Bar\", \"\", \"Close\",\"5\",\"0\",\"PrimaryOnly\",,,\"False\",\"T\",\"EveryTick\")","v":2749.75},{"$f":"RTD(\"cqg.rtd\",,\"StudyData\", \"Close(\"&$D$12&\") when LocalYear(\"&$D$12&\")=\"&$D$1&\" and localMonth(\"&$D$12&\") =\"&$E$1&\" and LocalDay(\"&$D$12&\")=\"&$F$1&\" and Barix(\"&$D$12&\",reference:=StartOfSession)=\"&A11&\"\", \"Bar\", \"\", \"Close\",\"5\",\"0\",\"PrimaryOnly\",,,\"False\",\"T\",\"EveryTick\")","v":""},{"$error":"#N/A"},{"$f":"RTD(\"cqg.rtd\",,\"StudyData\", \"Close(\"&$D$12&\") when LocalYear(\"&$D$12&\")=\"&$D$2&\" and localMonth(\"&$D$12&\") =\"&$E$2&\" and LocalDay(\"&$D$12&\")=\"&$F$2&\" and Barix(\"&$D$12&\",reference:=StartOfSession)=\"&A11&\"\", \"Bar\", \"\", \"Close\",\"5\",\"0\",\"PrimaryOnly\",,,\"False\",\"T\",\"EveryTick\")","v":2774},-5.1999282768513538E-3,{"$f":"RTD(\"cqg.rtd\",,\"StudyData\", \"Close(\"&$D$12&\") when LocalYear(\"&$D$12&\")=\"&$D$3&\" and localMonth(\"&$D$12&\") =\"&$E$3&\" and LocalDay(\"&$D$12&\")=\"&$F$3&\" and Barix(\"&$D$12&\",reference:=StartOfSession)=\"&A11&\"\", \"Bar\", \"\", \"Close\",\"5\",\"0\",\"PrimaryOnly\",,,\"False\",\"T\",\"EveryTick\")","v":2791.75},4.5879812882331774E-3,{"$f":"RTD(\"cqg.rtd\",,\"StudyData\", \"Close(\"&$D$12&\") when LocalYear(\"&$D$12&\")=\"&$D$4&\" and localMonth(\"&$D$12&\") =\"&$E$4&\" and LocalDay(\"&$D$12&\")=\"&$F$4&\" and Barix(\"&$D$12&\",reference:=StartOfSession)=\"&A11&\"\", \"Bar\", \"\", \"Close\",\"5\",\"0\",\"PrimaryOnly\",,,\"False\",\"T\",\"EveryTick\")","v":2793.75},1.9725634358468574E-3,{"$f":"RTD(\"cqg.rtd\",,\"StudyData\", \"Close(\"&$D$12&\") when LocalYear(\"&$D$12&\")=\"&$D$5&\" and localMonth(\"&$D$12&\") =\"&$E$5&\" and LocalDay(\"&$D$12&\")=\"&$F$5&\" and Barix(\"&$D$12&\",reference:=StartOfSession)=\"&A11&\"\", \"Bar\", \"\", \"Close\",\"5\",\"0\",\"PrimaryOnly\",,,\"False\",\"T\",\"EveryTick\")","v":2788},4.485511796896026E-4,{"$f":"RTD(\"cqg.rtd\",,\"StudyData\", \"Close(\"&$D$12&\") when LocalYear(\"&$D$12&\")=\"&$D$6&\" and localMonth(\"&$D$12&\") =\"&$E$6&\" and LocalDay(\"&$D$12&\")=\"&$F$6&\" and Barix(\"&$D$12&\",reference:=StartOfSession)=\"&A11&\"\", \"Bar\", \"\", \"Close\",\"5\",\"0\",\"PrimaryOnly\",,,\"False\",\"T\",\"EveryTick\")","v":2787.25},1.7070979335130278E-3,{"$f":"RTD(\"cqg.rtd\",,\"StudyData\", \"Close(\"&$D$12&\") when LocalYear(\"&$D$12&\")=\"&$D$7&\" and localMonth(\"&$D$12&\") =\"&$E$7&\" and LocalDay(\"&$D$12&\")=\"&$F$7&\" and Barix(\"&$D$12&\",reference:=StartOfSession)=\"&A11&\"\", \"Bar\", \"\", \"Close\",\"5\",\"0\",\"PrimaryOnly\",,,\"False\",\"T\",\"EveryTick\")","v":2771.5},-1.6210374639769453E-3,{"$f":"RTD(\"cqg.rtd\",,\"StudyData\", \"Close(\"&$D$12&\") when LocalYear(\"&$D$12&\")=\"&$D$8&\" and localMonth(\"&$D$12&\") =\"&$E$8&\" and LocalDay(\"&$D$12&\")=\"&$F$8&\" and Barix(\"&$D$12&\",reference:=StartOfSession)=\"&A11&\"\", \"Bar\", \"\", \"Close\",\"5\",\"0\",\"PrimaryOnly\",,,\"False\",\"T\",\"EveryTick\")","v":2775.5},-1.8011527377521613E-4,{"$f":"RTD(\"cqg.rtd\",,\"StudyData\", \"Close(\"&$D$12&\") when LocalYear(\"&$D$12&\")=\"&$D$9&\" and localMonth(\"&$D$12&\") =\"&$E$9&\" and LocalDay(\"&$D$12&\")=\"&$F$9&\" and Barix(\"&$D$12&\",reference:=StartOfSession)=\"&A11&\"\", \"Bar\", \"\", \"Close\",\"5\",\"0\",\"PrimaryOnly\",,,\"False\",\"T\",\"EveryTick\")","v":2755.5},0,{"$f":"RTD(\"cqg.rtd\",,\"StudyData\", \"Close(\"&$D$12&\") when LocalYear(\"&$D$12&\")=\"&$D$10&\" and localMonth(\"&$D$12&\") =\"&$E$10&\" and LocalDay(\"&$D$12&\")=\"&$F$10&\" and Barix(\"&$D$12&\",reference:=StartOfSession)=\"&A11&\"\", \"Bar\", \"\", \"Close\",\"5\",\"0\",\"PrimaryOnly\",,,\"False\",\"T\",\"EveryTick\")","v":2753.5},1.3637603418492591E-3,null,null,null,""]
[11,"09:25:00",null,{"$f":"MainDisplay!B5","v":"EP"},null,null,null,{"$f":"RTD(\"cqg.rtd\",,\"StudyData\", \"Close(\"&$D$12&\") when LocalYear(\"&$D$12&\")=\"&$D$1&\" and localMonth(\"&$D$12&\") =\"&$E$1&\" and LocalDay(\"&$D$12&\")=\"&$F$1&\" and Barix(\"&$D$12&\",reference:=StartOfSession)=\"&A12&\"\", \"Bar\", \"\", \"Close\",\"5\",\"0\",\"PrimaryOnly\",,,\"False\",\"T\",\"EveryTick\")","v":""},{"$error":"#N/A"},{"$f":"RTD(\"cqg.rtd\",,\"StudyData\", \"Close(\"&$D$12&\") when LocalYear(\"&$D$12&\")=\"&$D$2&\" and localMonth(\"&$D$12&\") =\"&$E$2&\" and LocalDay(\"&$D$12&\")=\"&$F$2&\" and Barix(\"&$D$12&\",reference:=StartOfSession)=\"&A12&\"\", \"Bar\", \"\", \"Close\",\"5\",\"0\",\"PrimaryOnly\",,,\"False\",\"T\",\"EveryTick\")","v":2773.5},-5.3792361484669175E-3,{"$f":"RTD(\"cqg.rtd\",,\"StudyData\", \"Close(\"&$D$12&\") when LocalYear(\"&$D$12&\")=\"&$D$3&\" and localMonth(\"&$D$12&\") =\"&$E$3&\" and LocalDay(\"&$D$12&\")=\"&$F$3&\" and Barix(\"&$D$12&\",reference:=StartOfSession)=\"&A12&\"\", \"Bar\", \"\", \"Close\",\"5\",\"0\",\"PrimaryOnly\",,,\"False\",\"T\",\"EveryTick\")","v":2792},4.6779417056495142E-3,{"$f":"RTD(\"cqg.rtd\",,\"StudyData\", \"Close(\"&$D$12&\") when LocalYear(\"&$D$12&\")=\"&$D$4&\" and localMonth(\"&$D$12&\") =\"&$E$4&\" and LocalDay(\"&$D$12&\")=\"&$F$4&\" and Barix(\"&$D$12&\",reference:=StartOfSession)=\"&A12&\"\", \"Bar\", \"\", \"Close\",\"5\",\"0\",\"PrimaryOnly\",,,\"False\",\"T\",\"EveryTick\")","v":2794.25},2.1518873845602082E-3,{"$f":"RTD(\"cqg.rtd\",,\"StudyData\", \"Close(\"&$D$12&\") when LocalYear(\"&$D$12&\")=\"&$D$5&\" and localMonth(\"&$D$12&\") =\"&$E$5&\" and LocalDay(\"&$D$12&\")=\"&$F$5&\" and Barix(\"&$D$12&\",reference:=StartOfSession)=\"&A12&\"\", \"Bar\", \"\", \"Close\",\"5\",\"0\",\"PrimaryOnly\",,,\"False\",\"T\",\"EveryTick\")","v":2787.25},1.7942047187584104E-4,{"$f":"RTD(\"cqg.rtd\",,\"StudyData\", \"Close(\"&$D$12&\") when LocalYear(\"&$D$12&\")=\"&$D$6&\" and localMonth(\"&$D$12&\") =\"&$E$6&\" and LocalDay(\"&$D$12&\")=\"&$F$6&\" and Barix(\"&$D$12&\",reference:=StartOfSession)=\"&A12&\"\", \"Bar\", \"\", \"Close\",\"5\",\"0\",\"PrimaryOnly\",,,\"False\",\"T\",\"EveryTick\")","v":2787},1.6172506738544475E-3,{"$f":"RTD(\"cqg.rtd\",,\"StudyData\", \"Close(\"&$D$12&\") when LocalYear(\"&$D$12&\")=\"&$D$7&\" and localMonth(\"&$D$12&\") =\"&$E$7&\" and LocalDay(\"&$D$12&\")=\"&$F$7&\" and Barix(\"&$D$12&\",reference:=StartOfSession)=\"&A12&\"\", \"Bar\", \"\", \"Close\",\"5\",\"0\",\"PrimaryOnly\",,,\"False\",\"T\",\"EveryTick\")","v":2770.25},-2.0713256484149855E-3,{"$f":"RTD(\"cqg.rtd\",,\"StudyData\", \"Close(\"&$D$12&\") when LocalYear(\"&$D$12&\")=\"&$D$8&\" and localMonth(\"&$D$12&\") =\"&$E$8&\" and LocalDay(\"&$D$12&\")=\"&$F$8&\" and Barix(\"&$D$12&\",reference:=StartOfSession)=\"&A12&\"\", \"Bar\", \"\", \"Close\",\"5\",\"0\",\"PrimaryOnly\",,,\"False\",\"T\",\"EveryTick\")","v":2775.5},-1.8011527377521613E-4,{"$f":"RTD(\"cqg.rtd\",,\"StudyData\", \"Close(\"&$D$12&\") when LocalYear(\"&$D$12&\")=\"&$D$9&\" and localMonth(\"&$D$12&\") =\"&$E$9&\" and LocalDay(\"&$D$12&\")=\"&$F$9&\" and Barix(\"&$D$12&\",reference:=StartOfSession)=\"&A12&\"\", \"Bar\", \"\", \"Close\",\"5\",\"0\",\"PrimaryOnly\",,,\"False\",\"T\",\"EveryTick\")","v":2755.5},0,{"$f":"RTD(\"cqg.rtd\",,\"StudyData\", \"Close(\"&$D$12&\") when LocalYear(\"&$D$12&\")=\"&$D$10&\" and localMonth(\"&$D$12&\") =\"&$E$10&\" and LocalDay(\"&$D$12&\")=\"&$F$10&\" and Barix(\"&$D$12&\",reference:=StartOfSession)=\"&A12&\"\", \"Bar\", \"\", \"Close\",\"5\",\"0\",\"PrimaryOnly\",,,\"False\",\"T\",\"EveryTick\")","v":2755.25},2.0001818347122466E-3,null,{"$f":"VLOOKUP(MAX(AE2:AE81),A1:B81,2,FALSE)","v":"08:30:00"},null,""]
[12,"09:30:00",null,{"$f":"RTD(\"cqg.rtd\", ,\"ContractData\",D12, \"LastQuoteToday\",, \"T\")","v":2762.5},null,null,{"$f":"C1","v":"2018-06-18"},{"$f":"RTD(\"cqg.rtd\",,\"StudyData\", \"Close(\"&$D$12&\") when LocalYear(\"&$D$12&\")=\"&$D$1&\" and localMonth(\"&$D$12&\") =\"&$E$1&\" and LocalDay(\"&$D$12&\")=\"&$F$1&\" and Barix(\"&$D$12&\",reference:=StartOfSession)=\"&A13&\"\", \"Bar\", \"\", \"Close\",\"5\",\"0\",\"PrimaryOnly\",,,\"False\",\"T\",\"EveryTick\")","v":""},{"$error":"#N/A"},{"$f":"RTD(\"cqg.rtd\",,\"StudyData\", \"Close(\"&$D$12&\") when LocalYear(\"&$D$12&\")=\"&$D$2&\" and localMonth(\"&$D$12&\") =\"&$E$2&\" and LocalDay(\"&$D$12&\")=\"&$F$2&\" and Barix(\"&$D$12&\",reference:=StartOfSession)=\"&A13&\"\", \"Bar\", \"\", \"Close\",\"5\",\"0\",\"PrimaryOnly\",,,\"False\",\"T\",\"EveryTick\")","v":2769.5},-6.8136991213914293E-3,{"$f":"RTD(\"cqg.rtd\",,\"StudyData\", \"Close(\"&$D$12&\") when LocalYear(\"&$D$12&\")=\"&$D$3&\" and localMonth(\"&$D$12&\") =\"&$E$3&\" and LocalDay(\"&$D$12&\")=\"&$F$3&\" and Barix(\"&$D$12&\",reference:=StartOfSession)=\"&A13&\"\", \"Bar\", \"\", \"Close\",\"5\",\"0\",\"PrimaryOnly\",,,\"False\",\"T\",\"EveryTick\")","v":2788.5},3.4184958618207989E-3,{"$f":"RTD(\"cqg.rtd\",,\"StudyData\", \"Close(\"&$D$12&\") when LocalYear(\"&$D$12&\")=\"&$D$4&\" and localMonth(\"&$D$12&\") =\"&$E$4&\" and LocalDay(\"&$D$12&\")=\"&$F$4&\" and Barix(\"&$D$12&\",reference:=StartOfSession)=\"&A13&\"\", \"Bar\", \"\", \"Close\",\"5\",\"0\",\"PrimaryOnly\",,,\"False\",\"T\",\"EveryTick\")","v":2794},2.0622254102035326E-3,{"$f":"RTD(\"cqg.rtd\",,\"StudyData\", \"Close(\"&$D$12&\") when LocalYear(\"&$D$12&\")=\"&$D$5&\" and localMonth(\"&$D$12&\") =\"&$E$5&\" and LocalDay(\"&$D$12&\")=\"&$F$5&\" and Barix(\"&$D$12&\",reference:=StartOfSession)=\"&A13&\"\", \"Bar\", \"\", \"Close\",\"5\",\"0\",\"PrimaryOnly\",,,\"False\",\"T\",\"EveryTick\")","v":2788.75},7.1768188750336416E-4,{"$f":"RTD(\"cqg.rtd\",,\"StudyData\", \"Close(\"&$D$12&\") when LocalYear(\"&$D$12&\")=\"&$D$6&\" and localMonth(\"&$D$12&\") =\"&$E$6&\" and LocalDay(\"&$D$12&\")=\"&$F$6&\" and Barix(\"&$D$12&\",reference:=StartOfSession)=\"&A13&\"\", \"Bar\", \"\", \"Close\",\"5\",\"0\",\"PrimaryOnly\",,,\"False\",\"T\",\"EveryTick\")","v":2787},1.6172506738544475E-3,{"$f":"RTD(\"cqg.rtd\",,\"StudyData\", \"Close(\"&$D$12&\") when LocalYear(\"&$D$12&\")=\"&$D$7&\" and localMonth(\"&$D$12&\") =\"&$E$7&\" and LocalDay(\"&$D$12&\")=\"&$F$7&\" and Barix(\"&$D$12&\",reference:=StartOfSession)=\"&A13&\"\", \"Bar\", \"\", \"Close\",\"5\",\"0\",\"PrimaryOnly\",,,\"False\",\"T\",\"EveryTick\")","v":2768.75},-2.6116714697406338E-3,{"$f":"RTD(\"cqg.rtd\",,\"StudyData\", \"Close(\"&$D$12&\") when LocalYear(\"&$D$12&\")=\"&$D$8&\" and localMonth(\"&$D$12&\") =\"&$E$8&\" and LocalDay(\"&$D$12&\")=\"&$F$8&\" and Barix(\"&$D$12&\",reference:=StartOfSession)=\"&A13&\"\", \"Bar\", \"\", \"Close\",\"5\",\"0\",\"PrimaryOnly\",,,\"False\",\"T\",\"EveryTick\")","v":2773},-1.0806916426512969E-3,{"$f":"RTD(\"cqg.rtd\",,\"StudyData\", \"Close(\"&$D$12&\") when LocalYear(\"&$D$12&\")=\"&$D$9&\" and localMonth(\"&$D$12&\") =\"&$E$9&\" and LocalDay(\"&$D$12&\")=\"&$F$9&\" and Barix(\"&$D$12&\",reference:=StartOfSession)=\"&A13&\"\", \"Bar\", \"\", \"Close\",\"5\",\"0\",\"PrimaryOnly\",,,\"False\",\"T\",\"EveryTick\")","v":2754.75},-2.7218290691344586E-4,{"$f":"RTD(\"cqg.rtd\",,\"StudyData\", \"Close(\"&$D$12&\") when LocalYear(\"&$D$12&\")=\"&$D$10&\" and localMonth(\"&$D$12&\") =\"&$E$10&\" and LocalDay(\"&$D$12&\")=\"&$F$10&\" and Barix(\"&$D$12&\",reference:=StartOfSession)=\"&A13&\"\", \"Bar\", \"\", \"Close\",\"5\",\"0\",\"PrimaryOnly\",,,\"False\",\"T\",\"EveryTick\")","v":2753.75},1.454677697972543E-3,null,null,null,""]
[13,"09:35:00",null,{"$f":"RTD(\"cqg.rtd\", ,\"ContractData\",D12, \"LongDescription\",, \"T\")","v":"E-Mini S&P 500, Sep 18"},null,null,{"$f":"C2","v":"2018-06-15"},{"$f":"RTD(\"cqg.rtd\",,\"StudyData\", \"Close(\"&$D$12&\") when LocalYear(\"&$D$12&\")=\"&$D$1&\" and localMonth(\"&$D$12&\") =\"&$E$1&\" and LocalDay(\"&$D$12&\")=\"&$F$1&\" and Barix(\"&$D$12&\",reference:=StartOfSession)=\"&A14&\"\", \"Bar\", \"\", \"Close\",\"5\",\"0\",\"PrimaryOnly\",,,\"False\",\"T\",\"EveryTick\")","v":""},{"$error":"#N/A"},{"$f":"RTD(\"cqg.rtd\",,\"StudyData\", \"Close(\"&$D$12&\") when LocalYear(\"&$D$12&\")=\"&$D$2&\" and localMonth(\"&$D$12&\") =\"&$E$2&\" and LocalDay(\"&$D$12&\")=\"&$F$2&\" and Barix(\"&$D$12&\",reference:=StartOfSession)=\"&A14&\"\", \"Bar\", \"\", \"Close\",\"5\",\"0\",\"PrimaryOnly\",,,\"False\",\"T\",\"EveryTick\")","v":2767.25},-7.6205845436614671E-3,{"$f":"RTD(\"cqg.rtd\",,\"StudyData\", \"Close(\"&$D$12&\") when LocalYear(\"&$D$12&\")=\"&$D$3&\" and localMonth(\"&$D$12&\") =\"&$E$3&\" and LocalDay(\"&$D$12&\")=\"&$F$3&\" and Barix(\"&$D$12&\",reference:=StartOfSession)=\"&A14&\"\", \"Bar\", \"\", \"Close\",\"5\",\"0\",\"PrimaryOnly\",,,\"False\",\"T\",\"EveryTick\")","v":2788.25},3.3285354444044621E-3,{"$f":"RTD(\"cqg.rtd\",,\"StudyData\", \"Close(\"&$D$12&\") when LocalYear(\"&$D$12&\")=\"&$D$4&\" and localMonth(\"&$D$12&\") =\"&$E$4&\" and LocalDay(\"&$D$12&\")=\"&$F$4&\" and Barix(\"&$D$12&\",reference:=StartOfSession)=\"&A14&\"\", \"Bar\", \"\", \"Close\",\"5\",\"0\",\"PrimaryOnly\",,,\"False\",\"T\",\"EveryTick\")","v":2792.75},1.613915538420156E-3,{"$f":"RTD(\"cqg.rtd\",,\"StudyData\", \"Close(\"&$D$12&\") when LocalYear(\"&$D$12&\")=\"&$D$5&\" and localMonth(\"&$D$12&\") =\"&$E$5&\" and LocalDay(\"&$D$12&\")=\"&$F$5&\" and Barix(\"&$D$12&\",reference:=StartOfSession)=\"&A14&\"\", \"Bar\", \"\", \"Close\",\"5\",\"0\",\"PrimaryOnly\",,,\"False\",\"T\",\"EveryTick\")","v":2787.75},3.5884094375168208E-4,{"$f":"RTD(\"cqg.rtd\",,\"StudyData\", \"Close(\"&$D$12&\") when LocalYear(\"&$D$12&\")=\"&$D$6&\" and localMonth(\"&$D$12&\") =\"&$E$6&\" and LocalDay(\"&$D$12&\")=\"&$F$6&\" and Barix(\"&$D$12&\",reference:=StartOfSession)=\"&A14&\"\", \"Bar\", \"\", \"Close\",\"5\",\"0\",\"PrimaryOnly\",,,\"False\",\"T\",\"EveryTick\")","v":2786.25},1.3477088948787063E-3,{"$f":"RTD(\"cqg.rtd\",,\"StudyData\", \"Close(\"&$D$12&\") when LocalYear(\"&$D$12&\")=\"&$D$7&\" and localMonth(\"&$D$12&\") =\"&$E$7&\" and LocalDay(\"&$D$12&\")=\"&$F$7&\" and Barix(\"&$D$12&\",reference:=StartOfSession)=\"&A14&\"\", \"Bar\", \"\", \"Close\",\"5\",\"0\",\"PrimaryOnly\",,,\"False\",\"T\",\"EveryTick\")","v":2767.5},-3.0619596541786743E-3,{"$f":"RTD(\"cqg.rtd\",,\"StudyData\", \"Close(\"&$D$12&\") when LocalYear(\"&$D$12&\")=\"&$D$8&\" and localMonth(\"&$D$12&\") =\"&$E$8&\" and LocalDay(\"&$D$12&\")=\"&$F$8&\" and Barix(\"&$D$12&\",reference:=StartOfSession)=\"&A14&\"\", \"Bar\", \"\", \"Close\",\"5\",\"0\",\"PrimaryOnly\",,,\"False\",\"T\",\"EveryTick\")","v":2772},-1.440922190201729E-3,{"$f":"RTD(\"cqg.rtd\",,\"StudyData\", \"Close(\"&$D$12&\") when LocalYear(\"&$D$12&\")=\"&$D$9&\" and localMonth(\"&$D$12&\") =\"&$E$9&\" and LocalDay(\"&$D$12&\")=\"&$F$9&\" and Barix(\"&$D$12&\",reference:=StartOfSession)=\"&A14&\"\", \"Bar\", \"\", \"Close\",\"5\",\"0\",\"PrimaryOnly\",,,\"False\",\"T\",\"EveryTick\")","v":2756},1.8145527127563056E-4,{"$f":"RTD(\"cqg.rtd\",,\"StudyData\", \"Close(\"&$D$12&\") when LocalYear(\"&$D$12&\")=\"&$D$10&\" and localMonth(\"&$D$12&\") =\"&$E$10&\" and LocalDay(\"&$D$12&\")=\"&$F$10&\" and Barix(\"&$D$12&\",reference:=StartOfSession)=\"&A14&\"\", \"Bar\", \"\", \"Close\",\"5\",\"0\",\"PrimaryOnly\",,,\"False\",\"T\",\"EveryTick\")","v":2752},8.1825620510955538E-4,null,null,null,""]
[14,"09:40:00","",null,null,null,"2018-06-14",{"$f":"RTD(\"cqg.rtd\",,\"StudyData\", \"Close(\"&$D$12&\") when LocalYear(\"&$D$12&\")=\"&$D$1&\" and localMonth(\"&$D$12&\") =\"&$E$1&\" and LocalDay(\"&$D$12&\")=\"&$F$1&\" and Barix(\"&$D$12&\",reference:=StartOfSession)=\"&A15&\"\", \"Bar\", \"\", \"Close\",\"5\",\"0\",\"PrimaryOnly\",,,\"False\",\"T\",\"EveryTick\")","v":""},{"$error":"#N/A"},{"$f":"RTD(\"cqg.rtd\",,\"StudyData\", \"Close(\"&$D$12&\") when LocalYear(\"&$D$12&\")=\"&$D$2&\" and localMonth(\"&$D$12&\") =\"&$E$2&\" and LocalDay(\"&$D$12&\")=\"&$F$2&\" and Barix(\"&$D$12&\",reference:=StartOfSession)=\"&A15&\"\", \"Bar\", \"\", \"Close\",\"5\",\"0\",\"PrimaryOnly\",,,\"False\",\"T\",\"EveryTick\")","v":2771},-6.2757755065447375E-3,{"$f":"RTD(\"cqg.rtd\",,\"StudyData\", \"Close(\"&$D$12&\") when LocalYear(\"&$D$12&\")=\"&$D$3&\" and localMonth(\"&$D$12&\") =\"&$E$3&\" and LocalDay(\"&$D$12&\")=\"&$F$3&\" and Barix(\"&$D$12&\",reference:=StartOfSession)=\"&A15&\"\", \"Bar\", \"\", \"Close\",\"5\",\"0\",\"PrimaryOnly\",,,\"False\",\"T\",\"EveryTick\")","v":2788.25},3.3285354444044621E-3,{"$f":"RTD(\"cqg.rtd\",,\"StudyData\", \"Close(\"&$D$12&\") when LocalYear(\"&$D$12&\")=\"&$D$4&\" and localMonth(\"&$D$12&\") =\"&$E$4&\" and LocalDay(\"&$D$12&\")=\"&$F$4&\" and Barix(\"&$D$12&\",reference:=StartOfSession)=\"&A15&\"\", \"Bar\", \"\", \"Close\",\"5\",\"0\",\"PrimaryOnly\",,,\"False\",\"T\",\"EveryTick\")","v":2792.75},1.613915538420156E-3,{"$f":"RTD(\"cqg.rtd\",,\"StudyData\", \"Close(\"&$D$12&\") when LocalYear(\"&$D$12&\")=\"&$D$5&\" and localMonth(\"&$D$12&\") =\"&$E$5&\" and LocalDay(\"&$D$12&\")=\"&$F$5&\" and Barix(\"&$D$12&\",reference:=StartOfSession)=\"&A15&\"\", \"Bar\", \"\", \"Close\",\"5\",\"0\",\"PrimaryOnly\",,,\"False\",\"T\",\"EveryTick\")","v":2789},8.0739212344128463E-4,{"$f":"RTD(\"cqg.rtd\",,\"StudyData\", \"Close(\"&$D$12&\") when LocalYear(\"&$D$12&\")=\"&$D$6&\" and localMonth(\"&$D$12&\") =\"&$E$6&\" and LocalDay(\"&$D$12&\")=\"&$F$6&\" and Barix(\"&$D$12&\",reference:=StartOfSession)=\"&A15&\"\", \"Bar\", \"\", \"Close\",\"5\",\"0\",\"PrimaryOnly\",,,\"False\",\"T\",\"EveryTick\")","v":2786.5},1.4375561545372866E-3,{"$f":"RTD(\"cqg.rtd\",,\"StudyData\", \"Close(\"&$D$12&\") when LocalYear(\"&$D$12&\")=\"&$D$7&\" and localMonth(\"&$D$12&\") =\"&$E$7&\" and LocalDay(\"&$D$12&\")=\"&$F$7&\" and Barix(\"&$D$12&\",reference:=StartOfSession)=\"&A15&\"\", \"Bar\", \"\", \"Close\",\"5\",\"0\",\"PrimaryOnly\",,,\"False\",\"T\",\"EveryTick\")","v":2768.25},-2.7917867435158501E-3,{"$f":"RTD(\"cqg.rtd\",,\"StudyData\", \"Close(\"&$D$12&\") when LocalYear(\"&$D$12&\")=\"&$D$8&\" and localMonth(\"&$D$12&\") =\"&$E$8&\" and LocalDay(\"&$D$12&\")=\"&$F$8&\" and Barix(\"&$D$12&\",reference:=StartOfSession)=\"&A15&\"\", \"Bar\", \"\", \"Close\",\"5\",\"0\",\"PrimaryOnly\",,,\"False\",\"T\",\"EveryTick\")","v":2773.5},-9.0057636887608066E-4,{"$f":"RTD(\"cqg.rtd\",,\"StudyData\", \"Close(\"&$D$12&\") when LocalYear(\"&$D$12&\")=\"&$D$9&\" and localMonth(\"&$D$12&\") =\"&$E$9&\" and LocalDay(\"&$D$12&\")=\"&$F$9&\" and Barix(\"&$D$12&\",reference:=StartOfSession)=\"&A15&\"\", \"Bar\", \"\", \"Close\",\"5\",\"0\",\"PrimaryOnly\",,,\"False\",\"T\",\"EveryTick\")","v":2754.75},-2.7218290691344586E-4,{"$f":"RTD(\"cqg.rtd\",,\"StudyData\", \"Close(\"&$D$12&\") when LocalYear(\"&$D$12&\")=\"&$D$10&\" and localMonth(\"&$D$12&\") =\"&$E$10&\" and LocalDay(\"&$D$12&\")=\"&$F$10&\" and Barix(\"&$D$12&\",reference:=StartOfSession)=\"&A15&\"\", \"Bar\", \"\", \"Close\",\"5\",\"0\",\"PrimaryOnly\",,,\"False\",\"T\",\"EveryTick\")","v":2751.5},6.3642149286298759E-4,null,null,null,""]
[15,"09:45:00",null,{"$f":"RTD(\"cqg.rtd\", ,\"ContractData\",D12, \"Ticksize\",, \"T\")","v":0.25},null,null,"2018-06-13",{"$f":"RTD(\"cqg.rtd\",,\"StudyData\", \"Close(\"&$D$12&\") when LocalYear(\"&$D$12&\")=\"&$D$1&\" and localMonth(\"&$D$12&\") =\"&$E$1&\" and LocalDay(\"&$D$12&\")=\"&$F$1&\" and Barix(\"&$D$12&\",reference:=StartOfSession)=\"&A16&\"\", \"Bar\", \"\", \"Close\",\"5\",\"0\",\"PrimaryOnly\",,,\"False\",\"T\",\"EveryTick\")","v":""},{"$error":"#N/A"},{"$f":"RTD(\"cqg.rtd\",,\"StudyData\", \"Close(\"&$D$12&\") when LocalYear(\"&$D$12&\")=\"&$D$2&\" and localMonth(\"&$D$12&\") =\"&$E$2&\" and LocalDay(\"&$D$12&\")=\"&$F$2&\" and Barix(\"&$D$12&\",reference:=StartOfSession)=\"&A16&\"\", \"Bar\", \"\", \"Close\",\"5\",\"0\",\"PrimaryOnly\",,,\"False\",\"T\",\"EveryTick\")","v":2773.75},-5.2895822126591361E-3,{"$f":"RTD(\"cqg.rtd\",,\"StudyData\", \"Close(\"&$D$12&\") when LocalYear(\"&$D$12&\")=\"&$D$3&\" and localMonth(\"&$D$12&\") =\"&$E$3&\" and LocalDay(\"&$D$12&\")=\"&$F$3&\" and Barix(\"&$D$12&\",reference:=StartOfSession)=\"&A16&\"\", \"Bar\", \"\", \"Close\",\"5\",\"0\",\"PrimaryOnly\",,,\"False\",\"T\",\"EveryTick\")","v":2788},3.2385750269881253E-3,{"$f":"RTD(\"cqg.rtd\",,\"StudyData\", \"Close(\"&$D$12&\") when LocalYear(\"&$D$12&\")=\"&$D$4&\" and localMonth(\"&$D$12&\") =\"&$E$4&\" and LocalDay(\"&$D$12&\")=\"&$F$4&\" and Barix(\"&$D$12&\",reference:=StartOfSession)=\"&A16&\"\", \"Bar\", \"\", \"Close\",\"5\",\"0\",\"PrimaryOnly\",,,\"False\",\"T\",\"EveryTick\")","v":2792.25},1.4345915897068053E-3,{"$f":"RTD(\"cqg.rtd\",,\"StudyData\", \"Close(\"&$D$12&\") when LocalYear(\"&$D$12&\")=\"&$D$5&\" and localMonth(\"&$D$12&\") =\"&$E$5&\" and LocalDay(\"&$D$12&\")=\"&$F$5&\" and Barix(\"&$D$12&\",reference:=StartOfSession)=\"&A16&\"\", \"Bar\", \"\", \"Close\",\"5\",\"0\",\"PrimaryOnly\",,,\"False\",\"T\",\"EveryTick\")","v":2788.75},7.1768188750336416E-4,{"$f":"RTD(\"cqg.rtd\",,\"StudyData\", \"Close(\"&$D$12&\") when LocalYear(\"&$D$12&\")=\"&$D$6&\" and localMonth(\"&$D$12&\") =\"&$E$6&\" and LocalDay(\"&$D$12&\")=\"&$F$6&\" and Barix(\"&$D$12&\",reference:=StartOfSession)=\"&A16&\"\", \"Bar\", \"\", \"Close\",\"5\",\"0\",\"PrimaryOnly\",,,\"False\",\"T\",\"EveryTick\")","v":2786},1.2578616352201257E-3,{"$f":"RTD(\"cqg.rtd\",,\"StudyData\", \"Close(\"&$D$12&\") when LocalYear(\"&$D$12&\")=\"&$D$7&\" and localMonth(\"&$D$12&\") =\"&$E$7&\" and LocalDay(\"&$D$12&\")=\"&$F$7&\" and Barix(\"&$D$12&\",reference:=StartOfSession)=\"&A16&\"\", \"Bar\", \"\", \"Close\",\"5\",\"0\",\"PrimaryOnly\",,,\"False\",\"T\",\"EveryTick\")","v":2769.25},-2.431556195965418E-3,{"$f":"RTD(\"cqg.rtd\",,\"StudyData\", \"Close(\"&$D$12&\") when LocalYear(\"&$D$12&\")=\"&$D$8&\" and localMonth(\"&$D$12&\") =\"&$E$8&\" and LocalDay(\"&$D$12&\")=\"&$F$8&\" and Barix(\"&$D$12&\",reference:=StartOfSession)=\"&A16&\"\", \"Bar\", \"\", \"Close\",\"5\",\"0\",\"PrimaryOnly\",,,\"False\",\"T\",\"EveryTick\")","v":2774},-7.2046109510086451E-4,{"$f":"RTD(\"cqg.rtd\",,\"StudyData\", \"Close(\"&$D$12&\") when LocalYear(\"&$D$12&\")=\"&$D$9&\" and localMonth(\"&$D$12&\") =\"&$E$9&\" and LocalDay(\"&$D$12&\")=\"&$F$9&\" and Barix(\"&$D$12&\",reference:=StartOfSession)=\"&A16&\"\", \"Bar\", \"\", \"Close\",\"5\",\"0\",\"PrimaryOnly\",,,\"False\",\"T\",\"EveryTick\")","v":2752},-1.270186898929414E-3,{"$f":"RTD(\"cqg.rtd\",,\"StudyData\", \"Close(\"&$D$12&\") when LocalYear(\"&$D$12&\")=\"&$D$10&\" and localMonth(\"&$D$12&\") =\"&$E$10&\" and LocalDay(\"&$D$12&\")=\"&$F$10&\" and Barix(\"&$D$12&\",reference:=StartOfSession)=\"&A16&\"\", \"Bar\", \"\", \"Close\",\"5\",\"0\",\"PrimaryOnly\",,,\"False\",\"T\",\"EveryTick\")","v":2750.75},3.6366942449313574E-4,null,null,null,""]
[16,"09:50:00",null,{"$f":"IF(D16>=1,0,IF(LEN(D16)-2=1,2,LEN(D16)-2))","v":2},null,{"$f":"VLOOKUP(D17,D18:E25,2,FALSE)","v":"#.00"},"2018-06-12",{"$f":"RTD(\"cqg.rtd\",,\"StudyData\", \"Close(\"&$D$12&\") when LocalYear(\"&$D$12&\")=\"&$D$1&\" and localMonth(\"&$D$12&\") =\"&$E$1&\" and LocalDay(\"&$D$12&\")=\"&$F$1&\" and Barix(\"&$D$12&\",reference:=StartOfSession)=\"&A17&\"\", \"Bar\", \"\", \"Close\",\"5\",\"0\",\"PrimaryOnly\",,,\"False\",\"T\",\"EveryTick\")","v":""},{"$error":"#N/A"},{"$f":"RTD(\"cqg.rtd\",,\"StudyData\", \"Close(\"&$D$12&\") when LocalYear(\"&$D$12&\")=\"&$D$2&\" and localMonth(\"&$D$12&\") =\"&$E$2&\" and LocalDay(\"&$D$12&\")=\"&$F$2&\" and Barix(\"&$D$12&\",reference:=StartOfSession)=\"&A17&\"\", \"Bar\", \"\", \"Close\",\"5\",\"0\",\"PrimaryOnly\",,,\"False\",\"T\",\"EveryTick\")","v":2773.75},-5.2895822126591361E-3,{"$f":"RTD(\"cqg.rtd\",,\"StudyData\", \"Close(\"&$D$12&\") when LocalYear(\"&$D$12&\")=\"&$D$3&\" and localMonth(\"&$D$12&\") =\"&$E$3&\" and LocalDay(\"&$D$12&\")=\"&$F$3&\" and Barix(\"&$D$12&\",reference:=StartOfSession)=\"&A17&\"\", \"Bar\", \"\", \"Close\",\"5\",\"0\",\"PrimaryOnly\",,,\"False\",\"T\",\"EveryTick\")","v":2786.5},2.6988125224901042E-3,{"$f":"RTD(\"cqg.rtd\",,\"StudyData\", \"Close(\"&$D$12&\") when LocalYear(\"&$D$12&\")=\"&$D$4&\" and localMonth(\"&$D$12&\") =\"&$E$4&\" and LocalDay(\"&$D$12&\")=\"&$F$4&\" and Barix(\"&$D$12&\",reference:=StartOfSession)=\"&A17&\"\", \"Bar\", \"\", \"Close\",\"5\",\"0\",\"PrimaryOnly\",,,\"False\",\"T\",\"EveryTick\")","v":2793},1.7035775127768314E-3,{"$f":"RTD(\"cqg.rtd\",,\"StudyData\", \"Close(\"&$D$12&\") when LocalYear(\"&$D$12&\")=\"&$D$5&\" and localMonth(\"&$D$12&\") =\"&$E$5&\" and LocalDay(\"&$D$12&\")=\"&$F$5&\" and Barix(\"&$D$12&\",reference:=StartOfSession)=\"&A17&\"\", \"Bar\", \"\", \"Close\",\"5\",\"0\",\"PrimaryOnly\",,,\"False\",\"T\",\"EveryTick\")","v":2788.25},5.3826141562752312E-4,{"$f":"RTD(\"cqg.rtd\",,\"StudyData\", \"Close(\"&$D$12&\") when LocalYear(\"&$D$12&\")=\"&$D$6&\" and localMonth(\"&$D$12&\") =\"&$E$6&\" and LocalDay(\"&$D$12&\")=\"&$F$6&\" and Barix(\"&$D$12&\",reference:=StartOfSession)=\"&A17&\"\", \"Bar\", \"\", \"Close\",\"5\",\"0\",\"PrimaryOnly\",,,\"False\",\"T\",\"EveryTick\")","v":2785.75},1.1680143755615454E-3,{"$f":"RTD(\"cqg.rtd\",,\"StudyData\", \"Close(\"&$D$12&\") when LocalYear(\"&$D$12&\")=\"&$D$7&\" and localMonth(\"&$D$12&\") =\"&$E$7&\" and LocalDay(\"&$D$12&\")=\"&$F$7&\" and Barix(\"&$D$12&\",reference:=StartOfSession)=\"&A17&\"\", \"Bar\", \"\", \"Close\",\"5\",\"0\",\"PrimaryOnly\",,,\"False\",\"T\",\"EveryTick\")","v":2772.75},-1.1707492795389048E-3,{"$f":"RTD(\"cqg.rtd\",,\"StudyData\", \"Close(\"&$D$12&\") when LocalYear(\"&$D$12&\")=\"&$D$8&\" and localMonth(\"&$D$12&\") =\"&$E$8&\" and LocalDay(\"&$D$12&\")=\"&$F$8&\" and Barix(\"&$D$12&\",reference:=StartOfSession)=\"&A17&\"\", \"Bar\", \"\", \"Close\",\"5\",\"0\",\"PrimaryOnly\",,,\"False\",\"T\",\"EveryTick\")","v":2773.5},-9.0057636887608066E-4,{"$f":"RTD(\"cqg.rtd\",,\"StudyData\", \"Close(\"&$D$12&\") when LocalYear(\"&$D$12&\")=\"&$D$9&\" and localMonth(\"&$D$12&\") =\"&$E$9&\" and LocalDay(\"&$D$12&\")=\"&$F$9&\" and Barix(\"&$D$12&\",reference:=StartOfSession)=\"&A17&\"\", \"Bar\", \"\", \"Close\",\"5\",\"0\",\"PrimaryOnly\",,,\"False\",\"T\",\"EveryTick\")","v":2754.25},-4.5363817818907642E-4,{"$f":"RTD(\"cqg.rtd\",,\"StudyData\", \"Close(\"&$D$12&\") when LocalYear(\"&$D$12&\")=\"&$D$10&\" and localMonth(\"&$D$12&\") =\"&$E$10&\" and LocalDay(\"&$D$12&\")=\"&$F$10&\" and Barix(\"&$D$12&\",reference:=StartOfSession)=\"&A17&\"\", \"Bar\", \"\", \"Close\",\"5\",\"0\",\"PrimaryOnly\",,,\"False\",\"T\",\"EveryTick\")","v":2752.5},1.0000909173561233E-3,null,null,null,""]
[17,"09:55:00",null,0,"#",null,"2018-06-11",{"$f":"RTD(\"cqg.rtd\",,\"StudyData\", \"Close(\"&$D$12&\") when LocalYear(\"&$D$12&\")=\"&$D$1&\" and localMonth(\"&$D$12&\") =\"&$E$1&\" and LocalDay(\"&$D$12&\")=\"&$F$1&\" and Barix(\"&$D$12&\",reference:=StartOfSession)=\"&A18&\"\", \"Bar\", \"\", \"Close\",\"5\",\"0\",\"PrimaryOnly\",,,\"False\",\"T\",\"EveryTick\")","v":""},{"$error":"#N/A"},{"$f":"RTD(\"cqg.rtd\",,\"StudyData\", \"Close(\"&$D$12&\") when LocalYear(\"&$D$12&\")=\"&$D$2&\" and localMonth(\"&$D$12&\") =\"&$E$2&\" and LocalDay(\"&$D$12&\")=\"&$F$2&\" and Barix(\"&$D$12&\",reference:=StartOfSession)=\"&A18&\"\", \"Bar\", \"\", \"Close\",\"5\",\"0\",\"PrimaryOnly\",,,\"False\",\"T\",\"EveryTick\")","v":2774.5},-5.0206204052357902E-3,{"$f":"RTD(\"cqg.rtd\",,\"StudyData\", \"Close(\"&$D$12&\") when LocalYear(\"&$D$12&\")=\"&$D$3&\" and localMonth(\"&$D$12&\") =\"&$E$3&\" and LocalDay(\"&$D$12&\")=\"&$F$3&\" and Barix(\"&$D$12&\",reference:=StartOfSession)=\"&A18&\"\", \"Bar\", \"\", \"Close\",\"5\",\"0\",\"PrimaryOnly\",,,\"False\",\"T\",\"EveryTick\")","v":2783.5},1.6192875134940627E-3,{"$f":"RTD(\"cqg.rtd\",,\"StudyData\", \"Close(\"&$D$12&\") when LocalYear(\"&$D$12&\")=\"&$D$4&\" and localMonth(\"&$D$12&\") =\"&$E$4&\" and LocalDay(\"&$D$12&\")=\"&$F$4&\" and Barix(\"&$D$12&\",reference:=StartOfSession)=\"&A18&\"\", \"Bar\", \"\", \"Close\",\"5\",\"0\",\"PrimaryOnly\",,,\"False\",\"T\",\"EveryTick\")","v":2792.75},1.613915538420156E-3,{"$f":"RTD(\"cqg.rtd\",,\"StudyData\", \"Close(\"&$D$12&\") when LocalYear(\"&$D$12&\")=\"&$D$5&\" and localMonth(\"&$D$12&\") =\"&$E$5&\" and LocalDay(\"&$D$12&\")=\"&$F$5&\" and Barix(\"&$D$12&\",reference:=StartOfSession)=\"&A18&\"\", \"Bar\", \"\", \"Close\",\"5\",\"0\",\"PrimaryOnly\",,,\"False\",\"T\",\"EveryTick\")","v":2789.5},9.8681259531712578E-4,{"$f":"RTD(\"cqg.rtd\",,\"StudyData\", \"Close(\"&$D$12&\") when LocalYear(\"&$D$12&\")=\"&$D$6&\" and localMonth(\"&$D$12&\") =\"&$E$6&\" and LocalDay(\"&$D$12&\")=\"&$F$6&\" and Barix(\"&$D$12&\",reference:=StartOfSession)=\"&A18&\"\", \"Bar\", \"\", \"Close\",\"5\",\"0\",\"PrimaryOnly\",,,\"False\",\"T\",\"EveryTick\")","v":2785.75},1.1680143755615454E-3,{"$f":"RTD(\"cqg.rtd\",,\"StudyData\", \"Close(\"&$D$12&\") when LocalYear(\"&$D$12&\")=\"&$D$7&\" and localMonth(\"&$D$12&\") =\"&$E$7&\" and LocalDay(\"&$D$12&\")=\"&$F$7&\" and Barix(\"&$D$12&\",reference:=StartOfSession)=\"&A18&\"\", \"Bar\", \"\", \"Close\",\"5\",\"0\",\"PrimaryOnly\",,,\"False\",\"T\",\"EveryTick\")","v":2772.25},-1.3508645533141211E-3,{"$f":"RTD(\"cqg.rtd\",,\"StudyData\", \"Close(\"&$D$12&\") when LocalYear(\"&$D$12&\")=\"&$D$8&\" and localMonth(\"&$D$12&\") =\"&$E$8&\" and LocalDay(\"&$D$12&\")=\"&$F$8&\" and Barix(\"&$D$12&\",reference:=StartOfSession)=\"&A18&\"\", \"Bar\", \"\", \"Close\",\"5\",\"0\",\"PrimaryOnly\",,,\"False\",\"T\",\"EveryTick\")","v":2775.25},-2.7017291066282423E-4,{"$f":"RTD(\"cqg.rtd\",,\"StudyData\", \"Close(\"&$D$12&\") when LocalYear(\"&$D$12&\")=\"&$D$9&\" and localMonth(\"&$D$12&\") =\"&$E$9&\" and LocalDay(\"&$D$12&\")=\"&$F$9&\" and Barix(\"&$D$12&\",reference:=StartOfSession)=\"&A18&\"\", \"Bar\", \"\", \"Close\",\"5\",\"0\",\"PrimaryOnly\",,,\"False\",\"T\",\"EveryTick\")","v":2757.25},6.3509344946470698E-4,{"$f":"RTD(\"cqg.rtd\",,\"StudyData\", \"Close(\"&$D$12&\") when LocalYear(\"&$D$12&\")=\"&$D$10&\" and localMonth(\"&$D$12&\") =\"&$E$10&\" and LocalDay(\"&$D$12&\")=\"&$F$10&\" and Barix(\"&$D$12&\",reference:=StartOfSession)=\"&A18&\"\", \"Bar\", \"\", \"Close\",\"5\",\"0\",\"PrimaryOnly\",,,\"False\",\"T\",\"EveryTick\")","v":2752.75},1.0910082734794072E-3,null,null,null,""]
[18,"10:00:00",null,1,"#.0",null,"2018-06-08",{"$f":"RTD(\"cqg.rtd\",,\"StudyData\", \"Close(\"&$D$12&\") when LocalYear(\"&$D$12&\")=\"&$D$1&\" and localMonth(\"&$D$12&\") =\"&$E$1&\" and LocalDay(\"&$D$12&\")=\"&$F$1&\" and Barix(\"&$D$12&\",reference:=StartOfSession)=\"&A19&\"\", \"Bar\", \"\", \"Close\",\"5\",\"0\",\"PrimaryOnly\",,,\"False\",\"T\",\"EveryTick\")","v":""},{"$error":"#N/A"},{"$f":"RTD(\"cqg.rtd\",,\"StudyData\", \"Close(\"&$D$12&\") when LocalYear(\"&$D$12&\")=\"&$D$2&\" and localMonth(\"&$D$12&\") =\"&$E$2&\" and LocalDay(\"&$D$12&\")=\"&$F$2&\" and Barix(\"&$D$12&\",reference:=StartOfSession)=\"&A19&\"\", \"Bar\", \"\", \"Close\",\"5\",\"0\",\"PrimaryOnly\",,,\"False\",\"T\",\"EveryTick\")","v":2776.5},-4.3033889187735338E-3,{"$f":"RTD(\"cqg.rtd\",,\"StudyData\", \"Close(\"&$D$12&\") when LocalYear(\"&$D$12&\")=\"&$D$3&\" and localMonth(\"&$D$12&\") =\"&$E$3&\" and LocalDay(\"&$D$12&\")=\"&$F$3&\" and Barix(\"&$D$12&\",reference:=StartOfSession)=\"&A19&\"\", \"Bar\", \"\", \"Close\",\"5\",\"0\",\"PrimaryOnly\",,,\"False\",\"T\",\"EveryTick\")","v":2784},1.7992083483267362E-3,{"$f":"RTD(\"cqg.rtd\",,\"StudyData\", \"Close(\"&$D$12&\") when LocalYear(\"&$D$12&\")=\"&$D$4&\" and localMonth(\"&$D$12&\") =\"&$E$4&\" and LocalDay(\"&$D$12&\")=\"&$F$4&\" and Barix(\"&$D$12&\",reference:=StartOfSession)=\"&A19&\"\", \"Bar\", \"\", \"Close\",\"5\",\"0\",\"PrimaryOnly\",,,\"False\",\"T\",\"EveryTick\")","v":2794.75},2.3312113332735586E-3,{"$f":"RTD(\"cqg.rtd\",,\"StudyData\", \"Close(\"&$D$12&\") when LocalYear(\"&$D$12&\")=\"&$D$5&\" and localMonth(\"&$D$12&\") =\"&$E$5&\" and LocalDay(\"&$D$12&\")=\"&$F$5&\" and Barix(\"&$D$12&\",reference:=StartOfSession)=\"&A19&\"\", \"Bar\", \"\", \"Close\",\"5\",\"0\",\"PrimaryOnly\",,,\"False\",\"T\",\"EveryTick\")","v":2789},8.0739212344128463E-4,{"$f":"RTD(\"cqg.rtd\",,\"StudyData\", \"Close(\"&$D$12&\") when LocalYear(\"&$D$12&\")=\"&$D$6&\" and localMonth(\"&$D$12&\") =\"&$E$6&\" and LocalDay(\"&$D$12&\")=\"&$F$6&\" and Barix(\"&$D$12&\",reference:=StartOfSession)=\"&A19&\"\", \"Bar\", \"\", \"Close\",\"5\",\"0\",\"PrimaryOnly\",,,\"False\",\"T\",\"EveryTick\")","v":2785.5},1.0781671159029651E-3,{"$f":"RTD(\"cqg.rtd\",,\"StudyData\", \"Close(\"&$D$12&\") when LocalYear(\"&$D$12&\")=\"&$D$7&\" and localMonth(\"&$D$12&\") =\"&$E$7&\" and LocalDay(\"&$D$12&\")=\"&$F$7&\" and Barix(\"&$D$12&\",reference:=StartOfSession)=\"&A19&\"\", \"Bar\", \"\", \"Close\",\"5\",\"0\",\"PrimaryOnly\",,,\"False\",\"T\",\"EveryTick\")","v":2770.75},-1.8912103746397695E-3,{"$f":"RTD(\"cqg.rtd\",,\"StudyData\", \"Close(\"&$D$12&\") when LocalYear(\"&$D$12&\")=\"&$D$8&\" and localMonth(\"&$D$12&\") =\"&$E$8&\" and LocalDay(\"&$D$12&\")=\"&$F$8&\" and Barix(\"&$D$12&\",reference:=StartOfSession)=\"&A19&\"\", \"Bar\", \"\", \"Close\",\"5\",\"0\",\"PrimaryOnly\",,,\"False\",\"T\",\"EveryTick\")","v":2774.75},-4.5028818443804033E-4,{"$f":"RTD(\"cqg.rtd\",,\"StudyData\", \"Close(\"&$D$12&\") when LocalYear(\"&$D$12&\")=\"&$D$9&\" and localMonth(\"&$D$12&\") =\"&$E$9&\" and LocalDay(\"&$D$12&\")=\"&$F$9&\" and Barix(\"&$D$12&\",reference:=StartOfSession)=\"&A19&\"\", \"Bar\", \"\", \"Close\",\"5\",\"0\",\"PrimaryOnly\",,,\"False\",\"T\",\"EveryTick\")","v":2758.5},1.0887316276537834E-3,{"$f":"RTD(\"cqg.rtd\",,\"StudyData\", \"Close(\"&$D$12&\") when LocalYear(\"&$D$12&\")=\"&$D$10&\" and localMonth(\"&$D$12&\") =\"&$E$10&\" and LocalDay(\"&$D$12&\")=\"&$F$10&\" and Barix(\"&$D$12&\",reference:=StartOfSession)=\"&A19&\"\", \"Bar\", \"\", \"Close\",\"5\",\"0\",\"PrimaryOnly\",,,\"False\",\"T\",\"EveryTick\")","v":2751.5},6.3642149286298759E-4,null,null,null,""]
[19,"10:05:00",null,2,"#.00",null,"2018-06-07",{"$f":"RTD(\"cqg.rtd\",,\"StudyData\", \"Close(\"&$D$12&\") when LocalYear(\"&$D$12&\")=\"&$D$1&\" and localMonth(\"&$D$12&\") =\"&$E$1&\" and LocalDay(\"&$D$12&\")=\"&$F$1&\" and Barix(\"&$D$12&\",reference:=StartOfSession)=\"&A20&\"\", \"Bar\", \"\", \"Close\",\"5\",\"0\",\"PrimaryOnly\",,,\"False\",\"T\",\"EveryTick\")","v":""},{"$error":"#N/A"},{"$f":"RTD(\"cqg.rtd\",,\"StudyData\", \"Close(\"&$D$12&\") when LocalYear(\"&$D$12&\")=\"&$D$2&\" and localMonth(\"&$D$12&\") =\"&$E$2&\" and LocalDay(\"&$D$12&\")=\"&$F$2&\" and Barix(\"&$D$12&\",reference:=StartOfSession)=\"&A20&\"\", \"Bar\", \"\", \"Close\",\"5\",\"0\",\"PrimaryOnly\",,,\"False\",\"T\",\"EveryTick\")","v":2775.75},-4.5723507261968797E-3,{"$f":"RTD(\"cqg.rtd\",,\"StudyData\", \"Close(\"&$D$12&\") when LocalYear(\"&$D$12&\")=\"&$D$3&\" and localMonth(\"&$D$12&\") =\"&$E$3&\" and LocalDay(\"&$D$12&\")=\"&$F$3&\" and Barix(\"&$D$12&\",reference:=StartOfSession)=\"&A20&\"\", \"Bar\", \"\", \"Close\",\"5\",\"0\",\"PrimaryOnly\",,,\"False\",\"T\",\"EveryTick\")","v":2783.75},1.7092479309103994E-3,{"$f":"RTD(\"cqg.rtd\",,\"StudyData\", \"Close(\"&$D$12&\") when LocalYear(\"&$D$12&\")=\"&$D$4&\" and localMonth(\"&$D$12&\") =\"&$E$4&\" and LocalDay(\"&$D$12&\")=\"&$F$4&\" and Barix(\"&$D$12&\",reference:=StartOfSession)=\"&A20&\"\", \"Bar\", \"\", \"Close\",\"5\",\"0\",\"PrimaryOnly\",,,\"False\",\"T\",\"EveryTick\")","v":2795},2.4208733076302338E-3,{"$f":"RTD(\"cqg.rtd\",,\"StudyData\", \"Close(\"&$D$12&\") when LocalYear(\"&$D$12&\")=\"&$D$5&\" and localMonth(\"&$D$12&\") =\"&$E$5&\" and LocalDay(\"&$D$12&\")=\"&$F$5&\" and Barix(\"&$D$12&\",reference:=StartOfSession)=\"&A20&\"\", \"Bar\", \"\", \"Close\",\"5\",\"0\",\"PrimaryOnly\",,,\"False\",\"T\",\"EveryTick\")","v":2789.25},8.971023593792052E-4,{"$f":"RTD(\"cqg.rtd\",,\"StudyData\", \"Close(\"&$D$12&\") when LocalYear(\"&$D$12&\")=\"&$D$6&\" and localMonth(\"&$D$12&\") =\"&$E$6&\" and LocalDay(\"&$D$12&\")=\"&$F$6&\" and Barix(\"&$D$12&\",reference:=StartOfSession)=\"&A20&\"\", \"Bar\", \"\", \"Close\",\"5\",\"0\",\"PrimaryOnly\",,,\"False\",\"T\",\"EveryTick\")","v":2785.5},1.0781671159029651E-3,{"$f":"RTD(\"cqg.rtd\",,\"StudyData\", \"Close(\"&$D$12&\") when LocalYear(\"&$D$12&\")=\"&$D$7&\" and localMonth(\"&$D$12&\") =\"&$E$7&\" and LocalDay(\"&$D$12&\")=\"&$F$7&\" and Barix(\"&$D$12&\",reference:=StartOfSession)=\"&A20&\"\", \"Bar\", \"\", \"Close\",\"5\",\"0\",\"PrimaryOnly\",,,\"False\",\"T\",\"EveryTick\")","v":2772.5},-1.260806916426513E-3,{"$f":"RTD(\"cqg.rtd\",,\"StudyData\", \"Close(\"&$D$12&\") when LocalYear(\"&$D$12&\")=\"&$D$8&\" and localMonth(\"&$D$12&\") =\"&$E$8&\" and LocalDay(\"&$D$12&\")=\"&$F$8&\" and Barix(\"&$D$12&\",reference:=StartOfSession)=\"&A20&\"\", \"Bar\", \"\", \"Close\",\"5\",\"0\",\"PrimaryOnly\",,,\"False\",\"T\",\"EveryTick\")","v":2774.5},-5.4034582132564846E-4,{"$f":"RTD(\"cqg.rtd\",,\"StudyData\", \"Close(\"&$D$12&\") when LocalYear(\"&$D$12&\")=\"&$D$9&\" and localMonth(\"&$D$12&\") =\"&$E$9&\" and LocalDay(\"&$D$12&\")=\"&$F$9&\" and Barix(\"&$D$12&\",reference:=StartOfSession)=\"&A20&\"\", \"Bar\", \"\", \"Close\",\"5\",\"0\",\"PrimaryOnly\",,,\"False\",\"T\",\"EveryTick\")","v":2758.25},9.9800399201596798E-4,{"$f":"RTD(\"cqg.rtd\",,\"StudyData\", \"Close(\"&$D$12&\") when LocalYear(\"&$D$12&\")=\"&$D$10&\" and localMonth(\"&$D$12&\") =\"&$E$10&\" and LocalDay(\"&$D$12&\")=\"&$F$10&\" and Barix(\"&$D$12&\",reference:=StartOfSession)=\"&A20&\"\", \"Bar\", \"\", \"Close\",\"5\",\"0\",\"PrimaryOnly\",,,\"False\",\"T\",\"EveryTick\")","v":2746.25},-1.2728429857259752E-3,null,null,null,""]
[20,"10:10:00",null,3,"#.000",null,"2018-06-06",{"$f":"RTD(\"cqg.rtd\",,\"StudyData\", \"Close(\"&$D$12&\") when LocalYear(\"&$D$12&\")=\"&$D$1&\" and localMonth(\"&$D$12&\") =\"&$E$1&\" and LocalDay(\"&$D$12&\")=\"&$F$1&\" and Barix(\"&$D$12&\",reference:=StartOfSession)=\"&A21&\"\", \"Bar\", \"\", \"Close\",\"5\",\"0\",\"PrimaryOnly\",,,\"False\",\"T\",\"EveryTick\")","v":""},{"$error":"#N/A"},{"$f":"RTD(\"cqg.rtd\",,\"StudyData\", \"Close(\"&$D$12&\") when LocalYear(\"&$D$12&\")=\"&$D$2&\" and localMonth(\"&$D$12&\") =\"&$E$2&\" and LocalDay(\"&$D$12&\")=\"&$F$2&\" and Barix(\"&$D$12&\",reference:=StartOfSession)=\"&A21&\"\", \"Bar\", \"\", \"Close\",\"5\",\"0\",\"PrimaryOnly\",,,\"False\",\"T\",\"EveryTick\")","v":2776},-4.4826967903890983E-3,{"$f":"RTD(\"cqg.rtd\",,\"StudyData\", \"Close(\"&$D$12&\") when LocalYear(\"&$D$12&\")=\"&$D$3&\" and localMonth(\"&$D$12&\") =\"&$E$3&\" and LocalDay(\"&$D$12&\")=\"&$F$3&\" and Barix(\"&$D$12&\",reference:=StartOfSession)=\"&A21&\"\", \"Bar\", \"\", \"Close\",\"5\",\"0\",\"PrimaryOnly\",,,\"False\",\"T\",\"EveryTick\")","v":2784.5},1.97912918315941E-3,{"$f":"RTD(\"cqg.rtd\",,\"StudyData\", \"Close(\"&$D$12&\") when LocalYear(\"&$D$12&\")=\"&$D$4&\" and localMonth(\"&$D$12&\") =\"&$E$4&\" and LocalDay(\"&$D$12&\")=\"&$F$4&\" and Barix(\"&$D$12&\",reference:=StartOfSession)=\"&A21&\"\", \"Bar\", \"\", \"Close\",\"5\",\"0\",\"PrimaryOnly\",,,\"False\",\"T\",\"EveryTick\")","v":2793.75},1.9725634358468574E-3,{"$f":"RTD(\"cqg.rtd\",,\"StudyData\", \"Close(\"&$D$12&\") when LocalYear(\"&$D$12&\")=\"&$D$5&\" and localMonth(\"&$D$12&\") =\"&$E$5&\" and LocalDay(\"&$D$12&\")=\"&$F$5&\" and Barix(\"&$D$12&\",reference:=StartOfSession)=\"&A21&\"\", \"Bar\", \"\", \"Close\",\"5\",\"0\",\"PrimaryOnly\",,,\"False\",\"T\",\"EveryTick\")","v":2787.75},3.5884094375168208E-4,{"$f":"RTD(\"cqg.rtd\",,\"StudyData\", \"Close(\"&$D$12&\") when LocalYear(\"&$D$12&\")=\"&$D$6&\" and localMonth(\"&$D$12&\") =\"&$E$6&\" and LocalDay(\"&$D$12&\")=\"&$F$6&\" and Barix(\"&$D$12&\",reference:=StartOfSession)=\"&A21&\"\", \"Bar\", \"\", \"Close\",\"5\",\"0\",\"PrimaryOnly\",,,\"False\",\"T\",\"EveryTick\")","v":2785.25},9.8831985624438451E-4,{"$f":"RTD(\"cqg.rtd\",,\"StudyData\", \"Close(\"&$D$12&\") when LocalYear(\"&$D$12&\")=\"&$D$7&\" and localMonth(\"&$D$12&\") =\"&$E$7&\" and LocalDay(\"&$D$12&\")=\"&$F$7&\" and Barix(\"&$D$12&\",reference:=StartOfSession)=\"&A21&\"\", \"Bar\", \"\", \"Close\",\"5\",\"0\",\"PrimaryOnly\",,,\"False\",\"T\",\"EveryTick\")","v":2773.75},-8.1051873198847264E-4,{"$f":"RTD(\"cqg.rtd\",,\"StudyData\", \"Close(\"&$D$12&\") when LocalYear(\"&$D$12&\")=\"&$D$8&\" and localMonth(\"&$D$12&\") =\"&$E$8&\" and LocalDay(\"&$D$12&\")=\"&$F$8&\" and Barix(\"&$D$12&\",reference:=StartOfSession)=\"&A21&\"\", \"Bar\", \"\", \"Close\",\"5\",\"0\",\"PrimaryOnly\",,,\"False\",\"T\",\"EveryTick\")","v":2778.25},8.1051873198847264E-4,{"$f":"RTD(\"cqg.rtd\",,\"StudyData\", \"Close(\"&$D$12&\") when LocalYear(\"&$D$12&\")=\"&$D$9&\" and localMonth(\"&$D$12&\") =\"&$E$9&\" and LocalDay(\"&$D$12&\")=\"&$F$9&\" and Barix(\"&$D$12&\",reference:=StartOfSession)=\"&A21&\"\", \"Bar\", \"\", \"Close\",\"5\",\"0\",\"PrimaryOnly\",,,\"False\",\"T\",\"EveryTick\")","v":2759.25},1.3609145345672292E-3,{"$f":"RTD(\"cqg.rtd\",,\"StudyData\", \"Close(\"&$D$12&\") when LocalYear(\"&$D$12&\")=\"&$D$10&\" and localMonth(\"&$D$12&\") =\"&$E$10&\" and LocalDay(\"&$D$12&\")=\"&$F$10&\" and Barix(\"&$D$12&\",reference:=StartOfSession)=\"&A21&\"\", \"Bar\", \"\", \"Close\",\"5\",\"0\",\"PrimaryOnly\",,,\"False\",\"T\",\"EveryTick\")","v":2749},-2.7275206836985179E-4,null,null,null,""]
[21,"10:15:00",null,4,"#.0000",null,"2018-06-05",{"$f":"RTD(\"cqg.rtd\",,\"StudyData\", \"Close(\"&$D$12&\") when LocalYear(\"&$D$12&\")=\"&$D$1&\" and localMonth(\"&$D$12&\") =\"&$E$1&\" and LocalDay(\"&$D$12&\")=\"&$F$1&\" and Barix(\"&$D$12&\",reference:=StartOfSession)=\"&A22&\"\", \"Bar\", \"\", \"Close\",\"5\",\"0\",\"PrimaryOnly\",,,\"False\",\"T\",\"EveryTick\")","v":""},{"$error":"#N/A"},{"$f":"RTD(\"cqg.rtd\",,\"StudyData\", \"Close(\"&$D$12&\") when LocalYear(\"&$D$12&\")=\"&$D$2&\" and localMonth(\"&$D$12&\") =\"&$E$2&\" and LocalDay(\"&$D$12&\")=\"&$F$2&\" and Barix(\"&$D$12&\",reference:=StartOfSession)=\"&A22&\"\", \"Bar\", \"\", \"Close\",\"5\",\"0\",\"PrimaryOnly\",,,\"False\",\"T\",\"EveryTick\")","v":2775.25},-4.7516585978124443E-3,{"$f":"RTD(\"cqg.rtd\",,\"StudyData\", \"Close(\"&$D$12&\") when LocalYear(\"&$D$12&\")=\"&$D$3&\" and localMonth(\"&$D$12&\") =\"&$E$3&\" and LocalDay(\"&$D$12&\")=\"&$F$3&\" and Barix(\"&$D$12&\",reference:=StartOfSession)=\"&A22&\"\", \"Bar\", \"\", \"Close\",\"5\",\"0\",\"PrimaryOnly\",,,\"False\",\"T\",\"EveryTick\")","v":2784.5},1.97912918315941E-3,{"$f":"RTD(\"cqg.rtd\",,\"StudyData\", \"Close(\"&$D$12&\") when LocalYear(\"&$D$12&\")=\"&$D$4&\" and localMonth(\"&$D$12&\") =\"&$E$4&\" and LocalDay(\"&$D$12&\")=\"&$F$4&\" and Barix(\"&$D$12&\",reference:=StartOfSession)=\"&A22&\"\", \"Bar\", \"\", \"Close\",\"5\",\"0\",\"PrimaryOnly\",,,\"False\",\"T\",\"EveryTick\")","v":2795},2.4208733076302338E-3,{"$f":"RTD(\"cqg.rtd\",,\"StudyData\", \"Close(\"&$D$12&\") when LocalYear(\"&$D$12&\")=\"&$D$5&\" and localMonth(\"&$D$12&\") =\"&$E$5&\" and LocalDay(\"&$D$12&\")=\"&$F$5&\" and Barix(\"&$D$12&\",reference:=StartOfSession)=\"&A22&\"\", \"Bar\", \"\", \"Close\",\"5\",\"0\",\"PrimaryOnly\",,,\"False\",\"T\",\"EveryTick\")","v":2787.5},2.6913070781376156E-4,{"$f":"RTD(\"cqg.rtd\",,\"StudyData\", \"Close(\"&$D$12&\") when LocalYear(\"&$D$12&\")=\"&$D$6&\" and localMonth(\"&$D$12&\") =\"&$E$6&\" and LocalDay(\"&$D$12&\")=\"&$F$6&\" and Barix(\"&$D$12&\",reference:=StartOfSession)=\"&A22&\"\", \"Bar\", \"\", \"Close\",\"5\",\"0\",\"PrimaryOnly\",,,\"False\",\"T\",\"EveryTick\")","v":2785.75},1.1680143755615454E-3,{"$f":"RTD(\"cqg.rtd\",,\"StudyData\", \"Close(\"&$D$12&\") when LocalYear(\"&$D$12&\")=\"&$D$7&\" and localMonth(\"&$D$12&\") =\"&$E$7&\" and LocalDay(\"&$D$12&\")=\"&$F$7&\" and Barix(\"&$D$12&\",reference:=StartOfSession)=\"&A22&\"\", \"Bar\", \"\", \"Close\",\"5\",\"0\",\"PrimaryOnly\",,,\"False\",\"T\",\"EveryTick\")","v":2773.5},-9.0057636887608066E-4,{"$f":"RTD(\"cqg.rtd\",,\"StudyData\", \"Close(\"&$D$12&\") when LocalYear(\"&$D$12&\")=\"&$D$8&\" and localMonth(\"&$D$12&\") =\"&$E$8&\" and LocalDay(\"&$D$12&\")=\"&$F$8&\" and Barix(\"&$D$12&\",reference:=StartOfSession)=\"&A22&\"\", \"Bar\", \"\", \"Close\",\"5\",\"0\",\"PrimaryOnly\",,,\"False\",\"T\",\"EveryTick\")","v":2777.25},4.5028818443804033E-4,{"$f":"RTD(\"cqg.rtd\",,\"StudyData\", \"Close(\"&$D$12&\") when LocalYear(\"&$D$12&\")=\"&$D$9&\" and localMonth(\"&$D$12&\") =\"&$E$9&\" and LocalDay(\"&$D$12&\")=\"&$F$9&\" and Barix(\"&$D$12&\",reference:=StartOfSession)=\"&A22&\"\", \"Bar\", \"\", \"Close\",\"5\",\"0\",\"PrimaryOnly\",,,\"False\",\"T\",\"EveryTick\")","v":2759.5},1.4516421702050445E-3,{"$f":"RTD(\"cqg.rtd\",,\"StudyData\", \"Close(\"&$D$12&\") when LocalYear(\"&$D$12&\")=\"&$D$10&\" and localMonth(\"&$D$12&\") =\"&$E$10&\" and LocalDay(\"&$D$12&\")=\"&$F$10&\" and Barix(\"&$D$12&\",reference:=StartOfSession)=\"&A22&\"\", \"Bar\", \"\", \"Close\",\"5\",\"0\",\"PrimaryOnly\",,,\"False\",\"T\",\"EveryTick\")","v":2750.25},1.8183471224656787E-4,null,null,null,""]
[22,"10:20:00",null,5,"#.00000",null,null,{"$f":"RTD(\"cqg.rtd\",,\"StudyData\", \"Close(\"&$D$12&\") when LocalYear(\"&$D$12&\")=\"&$D$1&\" and localMonth(\"&$D$12&\") =\"&$E$1&\" and LocalDay(\"&$D$12&\")=\"&$F$1&\" and Barix(\"&$D$12&\",reference:=StartOfSession)=\"&A23&\"\", \"Bar\", \"\", \"Close\",\"5\",\"0\",\"PrimaryOnly\",,,\"False\",\"T\",\"EveryTick\")","v":""},{"$error":"#N/A"},{"$f":"RTD(\"cqg.rtd\",,\"StudyData\", \"Close(\"&$D$12&\") when LocalYear(\"&$D$12&\")=\"&$D$2&\" and localMonth(\"&$D$12&\") =\"&$E$2&\" and LocalDay(\"&$D$12&\")=\"&$F$2&\" and Barix(\"&$D$12&\",reference:=StartOfSession)=\"&A23&\"\", \"Bar\", \"\", \"Close\",\"5\",\"0\",\"PrimaryOnly\",,,\"False\",\"T\",\"EveryTick\")","v":2776.25},-4.3930428545813161E-3,{"$f":"RTD(\"cqg.rtd\",,\"StudyData\", \"Close(\"&$D$12&\") when LocalYear(\"&$D$12&\")=\"&$D$3&\" and localMonth(\"&$D$12&\") =\"&$E$3&\" and LocalDay(\"&$D$12&\")=\"&$F$3&\" and Barix(\"&$D$12&\",reference:=StartOfSession)=\"&A23&\"\", \"Bar\", \"\", \"Close\",\"5\",\"0\",\"PrimaryOnly\",,,\"False\",\"T\",\"EveryTick\")","v":2786},2.5188916876574307E-3,{"$f":"RTD(\"cqg.rtd\",,\"StudyData\", \"Close(\"&$D$12&\") when LocalYear(\"&$D$12&\")=\"&$D$4&\" and localMonth(\"&$D$12&\") =\"&$E$4&\" and LocalDay(\"&$D$12&\")=\"&$F$4&\" and Barix(\"&$D$12&\",reference:=StartOfSession)=\"&A23&\"\", \"Bar\", \"\", \"Close\",\"5\",\"0\",\"PrimaryOnly\",,,\"False\",\"T\",\"EveryTick\")","v":2795},2.4208733076302338E-3,{"$f":"RTD(\"cqg.rtd\",,\"StudyData\", \"Close(\"&$D$12&\") when LocalYear(\"&$D$12&\")=\"&$D$5&\" and localMonth(\"&$D$12&\") =\"&$E$5&\" and LocalDay(\"&$D$12&\")=\"&$F$5&\" and Barix(\"&$D$12&\",reference:=StartOfSession)=\"&A23&\"\", \"Bar\", \"\", \"Close\",\"5\",\"0\",\"PrimaryOnly\",,,\"False\",\"T\",\"EveryTick\")","v":2788.75},7.1768188750336416E-4,{"$f":"RTD(\"cqg.rtd\",,\"StudyData\", \"Close(\"&$D$12&\") when LocalYear(\"&$D$12&\")=\"&$D$6&\" and localMonth(\"&$D$12&\") =\"&$E$6&\" and LocalDay(\"&$D$12&\")=\"&$F$6&\" and Barix(\"&$D$12&\",reference:=StartOfSession)=\"&A23&\"\", \"Bar\", \"\", \"Close\",\"5\",\"0\",\"PrimaryOnly\",,,\"False\",\"T\",\"EveryTick\")","v":2787.5},1.7969451931716084E-3,{"$f":"RTD(\"cqg.rtd\",,\"StudyData\", \"Close(\"&$D$12&\") when LocalYear(\"&$D$12&\")=\"&$D$7&\" and localMonth(\"&$D$12&\") =\"&$E$7&\" and LocalDay(\"&$D$12&\")=\"&$F$7&\" and Barix(\"&$D$12&\",reference:=StartOfSession)=\"&A23&\"\", \"Bar\", \"\", \"Close\",\"5\",\"0\",\"PrimaryOnly\",,,\"False\",\"T\",\"EveryTick\")","v":2772.25},-1.3508645533141211E-3,{"$f":"RTD(\"cqg.rtd\",,\"StudyData\", \"Close(\"&$D$12&\") when LocalYear(\"&$D$12&\")=\"&$D$8&\" and localMonth(\"&$D$12&\") =\"&$E$8&\" and LocalDay(\"&$D$12&\")=\"&$F$8&\" and Barix(\"&$D$12&\",reference:=StartOfSession)=\"&A23&\"\", \"Bar\", \"\", \"Close\",\"5\",\"0\",\"PrimaryOnly\",,,\"False\",\"T\",\"EveryTick\")","v":2777},3.6023054755043225E-4,{"$f":"RTD(\"cqg.rtd\",,\"StudyData\", \"Close(\"&$D$12&\") when LocalYear(\"&$D$12&\")=\"&$D$9&\" and localMonth(\"&$D$12&\") =\"&$E$9&\" and LocalDay(\"&$D$12&\")=\"&$F$9&\" and Barix(\"&$D$12&\",reference:=StartOfSession)=\"&A23&\"\", \"Bar\", \"\", \"Close\",\"5\",\"0\",\"PrimaryOnly\",,,\"False\",\"T\",\"EveryTick\")","v":2761.25},2.0867356196697514E-3,{"$f":"RTD(\"cqg.rtd\",,\"StudyData\", \"Close(\"&$D$12&\") when LocalYear(\"&$D$12&\")=\"&$D$10&\" and localMonth(\"&$D$12&\") =\"&$E$10&\" and LocalDay(\"&$D$12&\")=\"&$F$10&\" and Barix(\"&$D$12&\",reference:=StartOfSession)=\"&A23&\"\", \"Bar\", \"\", \"Close\",\"5\",\"0\",\"PrimaryOnly\",,,\"False\",\"T\",\"EveryTick\")","v":2749},-2.7275206836985179E-4,null,null,null,""]
[23,"10:25:00",null,6,"#.000000",null,null,{"$f":"RTD(\"cqg.rtd\",,\"StudyData\", \"Close(\"&$D$12&\") when LocalYear(\"&$D$12&\")=\"&$D$1&\" and localMonth(\"&$D$12&\") =\"&$E$1&\" and LocalDay(\"&$D$12&\")=\"&$F$1&\" and Barix(\"&$D$12&\",reference:=StartOfSession)=\"&A24&\"\", \"Bar\", \"\", \"Close\",\"5\",\"0\",\"PrimaryOnly\",,,\"False\",\"T\",\"EveryTick\")","v":""},{"$error":"#N/A"},{"$f":"RTD(\"cqg.rtd\",,\"StudyData\", \"Close(\"&$D$12&\") when LocalYear(\"&$D$12&\")=\"&$D$2&\" and localMonth(\"&$D$12&\") =\"&$E$2&\" and LocalDay(\"&$D$12&\")=\"&$F$2&\" and Barix(\"&$D$12&\",reference:=StartOfSession)=\"&A24&\"\", \"Bar\", \"\", \"Close\",\"5\",\"0\",\"PrimaryOnly\",,,\"False\",\"T\",\"EveryTick\")","v":2772.5},-5.7378518916980457E-3,{"$f":"RTD(\"cqg.rtd\",,\"StudyData\", \"Close(\"&$D$12&\") when LocalYear(\"&$D$12&\")=\"&$D$3&\" and localMonth(\"&$D$12&\") =\"&$E$3&\" and LocalDay(\"&$D$12&\")=\"&$F$3&\" and Barix(\"&$D$12&\",reference:=StartOfSession)=\"&A24&\"\", \"Bar\", \"\", \"Close\",\"5\",\"0\",\"PrimaryOnly\",,,\"False\",\"T\",\"EveryTick\")","v":2786.5},2.6988125224901042E-3,{"$f":"RTD(\"cqg.rtd\",,\"StudyData\", \"Close(\"&$D$12&\") when LocalYear(\"&$D$12&\")=\"&$D$4&\" and localMonth(\"&$D$12&\") =\"&$E$4&\" and LocalDay(\"&$D$12&\")=\"&$F$4&\" and Barix(\"&$D$12&\",reference:=StartOfSession)=\"&A24&\"\", \"Bar\", \"\", \"Close\",\"5\",\"0\",\"PrimaryOnly\",,,\"False\",\"T\",\"EveryTick\")","v":2795.25},2.5105352819869095E-3,{"$f":"RTD(\"cqg.rtd\",,\"StudyData\", \"Close(\"&$D$12&\") when LocalYear(\"&$D$12&\")=\"&$D$5&\" and localMonth(\"&$D$12&\") =\"&$E$5&\" and LocalDay(\"&$D$12&\")=\"&$F$5&\" and Barix(\"&$D$12&\",reference:=StartOfSession)=\"&A24&\"\", \"Bar\", \"\", \"Close\",\"5\",\"0\",\"PrimaryOnly\",,,\"False\",\"T\",\"EveryTick\")","v":2788.75},7.1768188750336416E-4,{"$f":"RTD(\"cqg.rtd\",,\"StudyData\", \"Close(\"&$D$12&\") when LocalYear(\"&$D$12&\")=\"&$D$6&\" and localMonth(\"&$D$12&\") =\"&$E$6&\" and LocalDay(\"&$D$12&\")=\"&$F$6&\" and Barix(\"&$D$12&\",reference:=StartOfSession)=\"&A24&\"\", \"Bar\", \"\", \"Close\",\"5\",\"0\",\"PrimaryOnly\",,,\"False\",\"T\",\"EveryTick\")","v":2787},1.6172506738544475E-3,{"$f":"RTD(\"cqg.rtd\",,\"StudyData\", \"Close(\"&$D$12&\") when LocalYear(\"&$D$12&\")=\"&$D$7&\" and localMonth(\"&$D$12&\") =\"&$E$7&\" and LocalDay(\"&$D$12&\")=\"&$F$7&\" and Barix(\"&$D$12&\",reference:=StartOfSession)=\"&A24&\"\", \"Bar\", \"\", \"Close\",\"5\",\"0\",\"PrimaryOnly\",,,\"False\",\"T\",\"EveryTick\")","v":2772.75},-1.1707492795389048E-3,{"$f":"RTD(\"cqg.rtd\",,\"StudyData\", \"Close(\"&$D$12&\") when LocalYear(\"&$D$12&\")=\"&$D$8&\" and localMonth(\"&$D$12&\") =\"&$E$8&\" and LocalDay(\"&$D$12&\")=\"&$F$8&\" and Barix(\"&$D$12&\",reference:=StartOfSession)=\"&A24&\"\", \"Bar\", \"\", \"Close\",\"5\",\"0\",\"PrimaryOnly\",,,\"False\",\"T\",\"EveryTick\")","v":2776.5},1.8011527377521613E-4,{"$f":"RTD(\"cqg.rtd\",,\"StudyData\", \"Close(\"&$D$12&\") when LocalYear(\"&$D$12&\")=\"&$D$9&\" and localMonth(\"&$D$12&\") =\"&$E$9&\" and LocalDay(\"&$D$12&\")=\"&$F$9&\" and Barix(\"&$D$12&\",reference:=StartOfSession)=\"&A24&\"\", \"Bar\", \"\", \"Close\",\"5\",\"0\",\"PrimaryOnly\",,,\"False\",\"T\",\"EveryTick\")","v":2762.5},2.5403737978588279E-3,{"$f":"RTD(\"cqg.rtd\",,\"StudyData\", \"Close(\"&$D$12&\") when LocalYear(\"&$D$12&\")=\"&$D$10&\" and localMonth(\"&$D$12&\") =\"&$E$10&\" and LocalDay(\"&$D$12&\")=\"&$F$10&\" and Barix(\"&$D$12&\",reference:=StartOfSession)=\"&A24&\"\", \"Bar\", \"\", \"Close\",\"5\",\"0\",\"PrimaryOnly\",,,\"False\",\"T\",\"EveryTick\")","v":2748.5},-4.5458678061641969E-4,null,null,null,""]
[24,"10:30:00",null,7,"#.0000000",null,null,{"$f":"RTD(\"cqg.rtd\",,\"StudyData\", \"Close(\"&$D$12&\") when LocalYear(\"&$D$12&\")=\"&$D$1&\" and localMonth(\"&$D$12&\") =\"&$E$1&\" and LocalDay(\"&$D$12&\")=\"&$F$1&\" and Barix(\"&$D$12&\",reference:=StartOfSession)=\"&A25&\"\", \"Bar\", \"\", \"Close\",\"5\",\"0\",\"PrimaryOnly\",,,\"False\",\"T\",\"EveryTick\")","v":""},{"$error":"#N/A"},{"$f":"RTD(\"cqg.rtd\",,\"StudyData\", \"Close(\"&$D$12&\") when LocalYear(\"&$D$12&\")=\"&$D$2&\" and localMonth(\"&$D$12&\") =\"&$E$2&\" and LocalDay(\"&$D$12&\")=\"&$F$2&\" and Barix(\"&$D$12&\",reference:=StartOfSession)=\"&A25&\"\", \"Bar\", \"\", \"Close\",\"5\",\"0\",\"PrimaryOnly\",,,\"False\",\"T\",\"EveryTick\")","v":2771.25},-6.1861215707369552E-3,{"$f":"RTD(\"cqg.rtd\",,\"StudyData\", \"Close(\"&$D$12&\") when LocalYear(\"&$D$12&\")=\"&$D$3&\" and localMonth(\"&$D$12&\") =\"&$E$3&\" and LocalDay(\"&$D$12&\")=\"&$F$3&\" and Barix(\"&$D$12&\",reference:=StartOfSession)=\"&A25&\"\", \"Bar\", \"\", \"Close\",\"5\",\"0\",\"PrimaryOnly\",,,\"False\",\"T\",\"EveryTick\")","v":2787},2.8787333573227778E-3,{"$f":"RTD(\"cqg.rtd\",,\"StudyData\", \"Close(\"&$D$12&\") when LocalYear(\"&$D$12&\")=\"&$D$4&\" and localMonth(\"&$D$12&\") =\"&$E$4&\" and LocalDay(\"&$D$12&\")=\"&$F$4&\" and Barix(\"&$D$12&\",reference:=StartOfSession)=\"&A25&\"\", \"Bar\", \"\", \"Close\",\"5\",\"0\",\"PrimaryOnly\",,,\"False\",\"T\",\"EveryTick\")","v":2795.25},2.5105352819869095E-3,{"$f":"RTD(\"cqg.rtd\",,\"StudyData\", \"Close(\"&$D$12&\") when LocalYear(\"&$D$12&\")=\"&$D$5&\" and localMonth(\"&$D$12&\") =\"&$E$5&\" and LocalDay(\"&$D$12&\")=\"&$F$5&\" and Barix(\"&$D$12&\",reference:=StartOfSession)=\"&A25&\"\", \"Bar\", \"\", \"Close\",\"5\",\"0\",\"PrimaryOnly\",,,\"False\",\"T\",\"EveryTick\")","v":2789.25},8.971023593792052E-4,{"$f":"RTD(\"cqg.rtd\",,\"StudyData\", \"Close(\"&$D$12&\") when LocalYear(\"&$D$12&\")=\"&$D$6&\" and localMonth(\"&$D$12&\") =\"&$E$6&\" and LocalDay(\"&$D$12&\")=\"&$F$6&\" and Barix(\"&$D$12&\",reference:=StartOfSession)=\"&A25&\"\", \"Bar\", \"\", \"Close\",\"5\",\"0\",\"PrimaryOnly\",,,\"False\",\"T\",\"EveryTick\")","v":2787.25},1.7070979335130278E-3,{"$f":"RTD(\"cqg.rtd\",,\"StudyData\", \"Close(\"&$D$12&\") when LocalYear(\"&$D$12&\")=\"&$D$7&\" and localMonth(\"&$D$12&\") =\"&$E$7&\" and LocalDay(\"&$D$12&\")=\"&$F$7&\" and Barix(\"&$D$12&\",reference:=StartOfSession)=\"&A25&\"\", \"Bar\", \"\", \"Close\",\"5\",\"0\",\"PrimaryOnly\",,,\"False\",\"T\",\"EveryTick\")","v":2770.5},-1.9812680115273776E-3,{"$f":"RTD(\"cqg.rtd\",,\"StudyData\", \"Close(\"&$D$12&\") when LocalYear(\"&$D$12&\")=\"&$D$8&\" and localMonth(\"&$D$12&\") =\"&$E$8&\" and LocalDay(\"&$D$12&\")=\"&$F$8&\" and Barix(\"&$D$12&\",reference:=StartOfSession)=\"&A25&\"\", \"Bar\", \"\", \"Close\",\"5\",\"0\",\"PrimaryOnly\",,,\"False\",\"T\",\"EveryTick\")","v":2775.75},-9.0057636887608063E-5,{"$f":"RTD(\"cqg.rtd\",,\"StudyData\", \"Close(\"&$D$12&\") when LocalYear(\"&$D$12&\")=\"&$D$9&\" and localMonth(\"&$D$12&\") =\"&$E$9&\" and LocalDay(\"&$D$12&\")=\"&$F$9&\" and Barix(\"&$D$12&\",reference:=StartOfSession)=\"&A25&\"\", \"Bar\", \"\", \"Close\",\"5\",\"0\",\"PrimaryOnly\",,,\"False\",\"T\",\"EveryTick\")","v":2762.75},2.6311014334966429E-3,{"$f":"RTD(\"cqg.rtd\",,\"StudyData\", \"Close(\"&$D$12&\") when LocalYear(\"&$D$12&\")=\"&$D$10&\" and localMonth(\"&$D$12&\") =\"&$E$10&\" and LocalDay(\"&$D$12&\")=\"&$F$10&\" and Barix(\"&$D$12&\",reference:=StartOfSession)=\"&A25&\"\", \"Bar\", \"\", \"Close\",\"5\",\"0\",\"PrimaryOnly\",,,\"False\",\"T\",\"EveryTick\")","v":2747.25},-9.0917356123283938E-4,null,null,null,""]
[25,"10:35:00",{"$f":"IF(WEEKDAY(TODAY())=7,TODAY()-1,IF(WEEKDAY(TODAY())=1,TODAY()-2,TODAY()))","v":"2018-06-18"},{"$f":"YEAR(C26)","v":2018},{"$f":"MONTH(C26)","v":6},{"$f":"DAY(C26)","v":18},null,{"$f":"RTD(\"cqg.rtd\",,\"StudyData\", \"Close(\"&$D$12&\") when LocalYear(\"&$D$12&\")=\"&$D$1&\" and localMonth(\"&$D$12&\") =\"&$E$1&\" and LocalDay(\"&$D$12&\")=\"&$F$1&\" and Barix(\"&$D$12&\",reference:=StartOfSession)=\"&A26&\"\", \"Bar\", \"\", \"Close\",\"5\",\"0\",\"PrimaryOnly\",,,\"False\",\"T\",\"EveryTick\")","v":""},{"$error":"#N/A"},{"$f":"RTD(\"cqg.rtd\",,\"StudyData\", \"Close(\"&$D$12&\") when LocalYear(\"&$D$12&\")=\"&$D$2&\" and localMonth(\"&$D$12&\") =\"&$E$2&\" and LocalDay(\"&$D$12&\")=\"&$F$2&\" and Barix(\"&$D$12&\",reference:=StartOfSession)=\"&A26&\"\", \"Bar\", \"\", \"Close\",\"5\",\"0\",\"PrimaryOnly\",,,\"False\",\"T\",\"EveryTick\")","v":2772},-5.9171597633136093E-3,{"$f":"RTD(\"cqg.rtd\",,\"StudyData\", \"Close(\"&$D$12&\") when LocalYear(\"&$D$12&\")=\"&$D$3&\" and localMonth(\"&$D$12&\") =\"&$E$3&\" and LocalDay(\"&$D$12&\")=\"&$F$3&\" and Barix(\"&$D$12&\",reference:=StartOfSession)=\"&A26&\"\", \"Bar\", \"\", \"Close\",\"5\",\"0\",\"PrimaryOnly\",,,\"False\",\"T\",\"EveryTick\")","v":2788},3.2385750269881253E-3,{"$f":"RTD(\"cqg.rtd\",,\"StudyData\", \"Close(\"&$D$12&\") when LocalYear(\"&$D$12&\")=\"&$D$4&\" and localMonth(\"&$D$12&\") =\"&$E$4&\" and LocalDay(\"&$D$12&\")=\"&$F$4&\" and Barix(\"&$D$12&\",reference:=StartOfSession)=\"&A26&\"\", \"Bar\", \"\", \"Close\",\"5\",\"0\",\"PrimaryOnly\",,,\"False\",\"T\",\"EveryTick\")","v":2795},2.4208733076302338E-3,{"$f":"RTD(\"cqg.rtd\",,\"StudyData\", \"Close(\"&$D$12&\") when LocalYear(\"&$D$12&\")=\"&$D$5&\" and localMonth(\"&$D$12&\") =\"&$E$5&\" and LocalDay(\"&$D$12&\")=\"&$F$5&\" and Barix(\"&$D$12&\",reference:=StartOfSession)=\"&A26&\"\", \"Bar\", \"\", \"Close\",\"5\",\"0\",\"PrimaryOnly\",,,\"False\",\"T\",\"EveryTick\")","v":2789.75},1.0765228312550462E-3,{"$f":"RTD(\"cqg.rtd\",,\"StudyData\", \"Close(\"&$D$12&\") when LocalYear(\"&$D$12&\")=\"&$D$6&\" and localMonth(\"&$D$12&\") =\"&$E$6&\" and LocalDay(\"&$D$12&\")=\"&$F$6&\" and Barix(\"&$D$12&\",reference:=StartOfSession)=\"&A26&\"\", \"Bar\", \"\", \"Close\",\"5\",\"0\",\"PrimaryOnly\",,,\"False\",\"T\",\"EveryTick\")","v":2788.5},2.1563342318059301E-3,{"$f":"RTD(\"cqg.rtd\",,\"StudyData\", \"Close(\"&$D$12&\") when LocalYear(\"&$D$12&\")=\"&$D$7&\" and localMonth(\"&$D$12&\") =\"&$E$7&\" and LocalDay(\"&$D$12&\")=\"&$F$7&\" and Barix(\"&$D$12&\",reference:=StartOfSession)=\"&A26&\"\", \"Bar\", \"\", \"Close\",\"5\",\"0\",\"PrimaryOnly\",,,\"False\",\"T\",\"EveryTick\")","v":2770.5},-1.9812680115273776E-3,{"$f":"RTD(\"cqg.rtd\",,\"StudyData\", \"Close(\"&$D$12&\") when LocalYear(\"&$D$12&\")=\"&$D$8&\" and localMonth(\"&$D$12&\") =\"&$E$8&\" and LocalDay(\"&$D$12&\")=\"&$F$8&\" and Barix(\"&$D$12&\",reference:=StartOfSession)=\"&A26&\"\", \"Bar\", \"\", \"Close\",\"5\",\"0\",\"PrimaryOnly\",,,\"False\",\"T\",\"EveryTick\")","v":2776.75},2.7017291066282423E-4,{"$f":"RTD(\"cqg.rtd\",,\"StudyData\", \"Close(\"&$D$12&\") when LocalYear(\"&$D$12&\")=\"&$D$9&\" and localMonth(\"&$D$12&\") =\"&$E$9&\" and LocalDay(\"&$D$12&\")=\"&$F$9&\" and Barix(\"&$D$12&\",reference:=StartOfSession)=\"&A26&\"\", \"Bar\", \"\", \"Close\",\"5\",\"0\",\"PrimaryOnly\",,,\"False\",\"T\",\"EveryTick\")","v":2762.5},2.5403737978588279E-3,{"$f":"RTD(\"cqg.rtd\",,\"StudyData\", \"Close(\"&$D$12&\") when LocalYear(\"&$D$12&\")=\"&$D$10&\" and localMonth(\"&$D$12&\") =\"&$E$10&\" and LocalDay(\"&$D$12&\")=\"&$F$10&\" and Barix(\"&$D$12&\",reference:=StartOfSession)=\"&A26&\"\", \"Bar\", \"\", \"Close\",\"5\",\"0\",\"PrimaryOnly\",,,\"False\",\"T\",\"EveryTick\")","v":2747.25},-9.0917356123283938E-4,null,null,null,""]
[26,"10:40:00",{"$f":"WORKDAY(C26,-1)","v":"2018-06-15"},{"$f":"YEAR(C27)","v":2018},{"$f":"MONTH(C27)","v":6},{"$f":"DAY(C27)","v":15},{"$f":"IF(RTD(\"cqg.rtd\",,\"StudyData\", \"Close(EP) when LocalYear(\"&$D$12&\")=\"&D27&\" and localMonth(\"&$D$12&\") =\"&E27&\" and LocalDay(\"&$D$12&\")=\"&F27&\" and Barix(\"&$D$12&\",reference:=StartOfSession)=80\", \"Bar\", \"\", \"Close\",\"5\",\"0\",\"PrimaryOnly\",,,\"False\",\"T\",\"EveryTick\")=\"\",2,1)","v":1},{"$f":"RTD(\"cqg.rtd\",,\"StudyData\", \"Close(\"&$D$12&\") when LocalYear(\"&$D$12&\")=\"&$D$1&\" and localMonth(\"&$D$12&\") =\"&$E$1&\" and LocalDay(\"&$D$12&\")=\"&$F$1&\" and Barix(\"&$D$12&\",reference:=StartOfSession)=\"&A27&\"\", \"Bar\", \"\", \"Close\",\"5\",\"0\",\"PrimaryOnly\",,,\"False\",\"T\",\"EveryTick\")","v":""},{"$error":"#N/A"},{"$f":"RTD(\"cqg.rtd\",,\"StudyData\", \"Close(\"&$D$12&\") when LocalYear(\"&$D$12&\")=\"&$D$2&\" and localMonth(\"&$D$12&\") =\"&$E$2&\" and LocalDay(\"&$D$12&\")=\"&$F$2&\" and Barix(\"&$D$12&\",reference:=StartOfSession)=\"&A27&\"\", \"Bar\", \"\", \"Close\",\"5\",\"0\",\"PrimaryOnly\",,,\"False\",\"T\",\"EveryTick\")","v":2772.5},-5.7378518916980457E-3,{"$f":"RTD(\"cqg.rtd\",,\"StudyData\", \"Close(\"&$D$12&\") when LocalYear(\"&$D$12&\")=\"&$D$3&\" and localMonth(\"&$D$12&\") =\"&$E$3&\" and LocalDay(\"&$D$12&\")=\"&$F$3&\" and Barix(\"&$D$12&\",reference:=StartOfSession)=\"&A27&\"\", \"Bar\", \"\", \"Close\",\"5\",\"0\",\"PrimaryOnly\",,,\"False\",\"T\",\"EveryTick\")","v":2787.75},3.1486146095717885E-3,{"$f":"RTD(\"cqg.rtd\",,\"StudyData\", \"Close(\"&$D$12&\") when LocalYear(\"&$D$12&\")=\"&$D$4&\" and localMonth(\"&$D$12&\") =\"&$E$4&\" and LocalDay(\"&$D$12&\")=\"&$F$4&\" and Barix(\"&$D$12&\",reference:=StartOfSession)=\"&A27&\"\", \"Bar\", \"\", \"Close\",\"5\",\"0\",\"PrimaryOnly\",,,\"False\",\"T\",\"EveryTick\")","v":2795},2.4208733076302338E-3,{"$f":"RTD(\"cqg.rtd\",,\"StudyData\", \"Close(\"&$D$12&\") when LocalYear(\"&$D$12&\")=\"&$D$5&\" and localMonth(\"&$D$12&\") =\"&$E$5&\" and LocalDay(\"&$D$12&\")=\"&$F$5&\" and Barix(\"&$D$12&\",reference:=StartOfSession)=\"&A27&\"\", \"Bar\", \"\", \"Close\",\"5\",\"0\",\"PrimaryOnly\",,,\"False\",\"T\",\"EveryTick\")","v":2791},1.5250740109446488E-3,{"$f":"RTD(\"cqg.rtd\",,\"StudyData\", \"Close(\"&$D$12&\") when LocalYear(\"&$D$12&\")=\"&$D$6&\" and localMonth(\"&$D$12&\") =\"&$E$6&\" and LocalDay(\"&$D$12&\")=\"&$F$6&\" and Barix(\"&$D$12&\",reference:=StartOfSession)=\"&A27&\"\", \"Bar\", \"\", \"Close\",\"5\",\"0\",\"PrimaryOnly\",,,\"False\",\"T\",\"EveryTick\")","v":2790.5},2.8751123090745732E-3,{"$f":"RTD(\"cqg.rtd\",,\"StudyData\", \"Close(\"&$D$12&\") when LocalYear(\"&$D$12&\")=\"&$D$7&\" and localMonth(\"&$D$12&\") =\"&$E$7&\" and LocalDay(\"&$D$12&\")=\"&$F$7&\" and Barix(\"&$D$12&\",reference:=StartOfSession)=\"&A27&\"\", \"Bar\", \"\", \"Close\",\"5\",\"0\",\"PrimaryOnly\",,,\"False\",\"T\",\"EveryTick\")","v":2772},-1.440922190201729E-3,{"$f":"RTD(\"cqg.rtd\",,\"StudyData\", \"Close(\"&$D$12&\") when LocalYear(\"&$D$12&\")=\"&$D$8&\" and localMonth(\"&$D$12&\") =\"&$E$8&\" and LocalDay(\"&$D$12&\")=\"&$F$8&\" and Barix(\"&$D$12&\",reference:=StartOfSession)=\"&A27&\"\", \"Bar\", \"\", \"Close\",\"5\",\"0\",\"PrimaryOnly\",,,\"False\",\"T\",\"EveryTick\")","v":2776.25},9.0057636887608063E-5,{"$f":"RTD(\"cqg.rtd\",,\"StudyData\", \"Close(\"&$D$12&\") when LocalYear(\"&$D$12&\")=\"&$D$9&\" and localMonth(\"&$D$12&\") =\"&$E$9&\" and LocalDay(\"&$D$12&\")=\"&$F$9&\" and Barix(\"&$D$12&\",reference:=StartOfSession)=\"&A27&\"\", \"Bar\", \"\", \"Close\",\"5\",\"0\",\"PrimaryOnly\",,,\"False\",\"T\",\"EveryTick\")","v":2764.25},3.1754672473235349E-3,{"$f":"RTD(\"cqg.rtd\",,\"StudyData\", \"Close(\"&$D$12&\") when LocalYear(\"&$D$12&\")=\"&$D$10&\" and localMonth(\"&$D$12&\") =\"&$E$10&\" and LocalDay(\"&$D$12&\")=\"&$F$10&\" and Barix(\"&$D$12&\",reference:=StartOfSession)=\"&A27&\"\", \"Bar\", \"\", \"Close\",\"5\",\"0\",\"PrimaryOnly\",,,\"False\",\"T\",\"EveryTick\")","v":2743.75},-2.1820165469588143E-3,null,null,null,""]
[27,"10:45:00",{"$f":"WORKDAY(C27,-1)","v":"2018-06-14"},2018,6,14,{"$f":"IF(RTD(\"cqg.rtd\",,\"StudyData\", \"Close(EP) when LocalYear(\"&$D$12&\")=\"&D28&\" and localMonth(\"&$D$12&\") =\"&E28&\" and LocalDay(\"&$D$12&\")=\"&F28&\" and Barix(\"&$D$12&\",reference:=StartOfSession)=80\", \"Bar\", \"\", \"Close\",\"5\",\"0\",\"PrimaryOnly\",,,\"False\",\"T\",\"EveryTick\")=\"\",2,1)","v":1},{"$f":"RTD(\"cqg.rtd\",,\"StudyData\", \"Close(\"&$D$12&\") when LocalYear(\"&$D$12&\")=\"&$D$1&\" and localMonth(\"&$D$12&\") =\"&$E$1&\" and LocalDay(\"&$D$12&\")=\"&$F$1&\" and Barix(\"&$D$12&\",reference:=StartOfSession)=\"&A28&\"\", \"Bar\", \"\", \"Close\",\"5\",\"0\",\"PrimaryOnly\",,,\"False\",\"T\",\"EveryTick\")","v":""},{"$error":"#N/A"},{"$f":"RTD(\"cqg.rtd\",,\"StudyData\", \"Close(\"&$D$12&\") when LocalYear(\"&$D$12&\")=\"&$D$2&\" and localMonth(\"&$D$12&\") =\"&$E$2&\" and LocalDay(\"&$D$12&\")=\"&$F$2&\" and Barix(\"&$D$12&\",reference:=StartOfSession)=\"&A28&\"\", \"Bar\", \"\", \"Close\",\"5\",\"0\",\"PrimaryOnly\",,,\"False\",\"T\",\"EveryTick\")","v":2772.25},-5.8275058275058279E-3,{"$f":"RTD(\"cqg.rtd\",,\"StudyData\", \"Close(\"&$D$12&\") when LocalYear(\"&$D$12&\")=\"&$D$3&\" and localMonth(\"&$D$12&\") =\"&$E$3&\" and LocalDay(\"&$D$12&\")=\"&$F$3&\" and Barix(\"&$D$12&\",reference:=StartOfSession)=\"&A28&\"\", \"Bar\", \"\", \"Close\",\"5\",\"0\",\"PrimaryOnly\",,,\"False\",\"T\",\"EveryTick\")","v":2787.5},3.0586541921554518E-3,{"$f":"RTD(\"cqg.rtd\",,\"StudyData\", \"Close(\"&$D$12&\") when LocalYear(\"&$D$12&\")=\"&$D$4&\" and localMonth(\"&$D$12&\") =\"&$E$4&\" and LocalDay(\"&$D$12&\")=\"&$F$4&\" and Barix(\"&$D$12&\",reference:=StartOfSession)=\"&A28&\"\", \"Bar\", \"\", \"Close\",\"5\",\"0\",\"PrimaryOnly\",,,\"False\",\"T\",\"EveryTick\")","v":2794.75},2.3312113332735586E-3,{"$f":"RTD(\"cqg.rtd\",,\"StudyData\", \"Close(\"&$D$12&\") when LocalYear(\"&$D$12&\")=\"&$D$5&\" and localMonth(\"&$D$12&\") =\"&$E$5&\" and LocalDay(\"&$D$12&\")=\"&$F$5&\" and Barix(\"&$D$12&\",reference:=StartOfSession)=\"&A28&\"\", \"Bar\", \"\", \"Close\",\"5\",\"0\",\"PrimaryOnly\",,,\"False\",\"T\",\"EveryTick\")","v":2791.25},1.6147842468825693E-3,{"$f":"RTD(\"cqg.rtd\",,\"StudyData\", \"Close(\"&$D$12&\") when LocalYear(\"&$D$12&\")=\"&$D$6&\" and localMonth(\"&$D$12&\") =\"&$E$6&\" and LocalDay(\"&$D$12&\")=\"&$F$6&\" and Barix(\"&$D$12&\",reference:=StartOfSession)=\"&A28&\"\", \"Bar\", \"\", \"Close\",\"5\",\"0\",\"PrimaryOnly\",,,\"False\",\"T\",\"EveryTick\")","v":2790.5},2.8751123090745732E-3,{"$f":"RTD(\"cqg.rtd\",,\"StudyData\", \"Close(\"&$D$12&\") when LocalYear(\"&$D$12&\")=\"&$D$7&\" and localMonth(\"&$D$12&\") =\"&$E$7&\" and LocalDay(\"&$D$12&\")=\"&$F$7&\" and Barix(\"&$D$12&\",reference:=StartOfSession)=\"&A28&\"\", \"Bar\", \"\", \"Close\",\"5\",\"0\",\"PrimaryOnly\",,,\"False\",\"T\",\"EveryTick\")","v":2771.5},-1.6210374639769453E-3,{"$f":"RTD(\"cqg.rtd\",,\"StudyData\", \"Close(\"&$D$12&\") when LocalYear(\"&$D$12&\")=\"&$D$8&\" and localMonth(\"&$D$12&\") =\"&$E$8&\" and LocalDay(\"&$D$12&\")=\"&$F$8&\" and Barix(\"&$D$12&\",reference:=StartOfSession)=\"&A28&\"\", \"Bar\", \"\", \"Close\",\"5\",\"0\",\"PrimaryOnly\",,,\"False\",\"T\",\"EveryTick\")","v":2773.5},-9.0057636887608066E-4,{"$f":"RTD(\"cqg.rtd\",,\"StudyData\", \"Close(\"&$D$12&\") when LocalYear(\"&$D$12&\")=\"&$D$9&\" and localMonth(\"&$D$12&\") =\"&$E$9&\" and LocalDay(\"&$D$12&\")=\"&$F$9&\" and Barix(\"&$D$12&\",reference:=StartOfSession)=\"&A28&\"\", \"Bar\", \"\", \"Close\",\"5\",\"0\",\"PrimaryOnly\",,,\"False\",\"T\",\"EveryTick\")","v":2764.25},3.1754672473235349E-3,{"$f":"RTD(\"cqg.rtd\",,\"StudyData\", \"Close(\"&$D$12&\") when LocalYear(\"&$D$12&\")=\"&$D$10&\" and localMonth(\"&$D$12&\") =\"&$E$10&\" and LocalDay(\"&$D$12&\")=\"&$F$10&\" and Barix(\"&$D$12&\",reference:=StartOfSession)=\"&A28&\"\", \"Bar\", \"\", \"Close\",\"5\",\"0\",\"PrimaryOnly\",,,\"False\",\"T\",\"EveryTick\")","v":2745.25},-1.6365124102191108E-3,null,null,null,""]
[28,"10:50:00","2018-06-13",2018,6,13,{"$f":"IF(RTD(\"cqg.rtd\",,\"StudyData\", \"Close(EP) when LocalYear(\"&$D$12&\")=\"&D29&\" and localMonth(\"&$D$12&\") =\"&E29&\" and LocalDay(\"&$D$12&\")=\"&F29&\" and Barix(\"&$D$12&\",reference:=StartOfSession)=80\", \"Bar\", \"\", \"Close\",\"5\",\"0\",\"PrimaryOnly\",,,\"False\",\"T\",\"EveryTick\")=\"\",2,1)","v":1},{"$f":"RTD(\"cqg.rtd\",,\"StudyData\", \"Close(\"&$D$12&\") when LocalYear(\"&$D$12&\")=\"&$D$1&\" and localMonth(\"&$D$12&\") =\"&$E$1&\" and LocalDay(\"&$D$12&\")=\"&$F$1&\" and Barix(\"&$D$12&\",reference:=StartOfSession)=\"&A29&\"\", \"Bar\", \"\", \"Close\",\"5\",\"0\",\"PrimaryOnly\",,,\"False\",\"T\",\"EveryTick\")","v":""},{"$error":"#N/A"},{"$f":"RTD(\"cqg.rtd\",,\"StudyData\", \"Close(\"&$D$12&\") when LocalYear(\"&$D$12&\")=\"&$D$2&\" and localMonth(\"&$D$12&\") =\"&$E$2&\" and LocalDay(\"&$D$12&\")=\"&$F$2&\" and Barix(\"&$D$12&\",reference:=StartOfSession)=\"&A29&\"\", \"Bar\", \"\", \"Close\",\"5\",\"0\",\"PrimaryOnly\",,,\"False\",\"T\",\"EveryTick\")","v":2775.25},-4.7516585978124443E-3,{"$f":"RTD(\"cqg.rtd\",,\"StudyData\", \"Close(\"&$D$12&\") when LocalYear(\"&$D$12&\")=\"&$D$3&\" and localMonth(\"&$D$12&\") =\"&$E$3&\" and LocalDay(\"&$D$12&\")=\"&$F$3&\" and Barix(\"&$D$12&\",reference:=StartOfSession)=\"&A29&\"\", \"Bar\", \"\", \"Close\",\"5\",\"0\",\"PrimaryOnly\",,,\"False\",\"T\",\"EveryTick\")","v":2787.5},3.0586541921554518E-3,{"$f":"RTD(\"cqg.rtd\",,\"StudyData\", \"Close(\"&$D$12&\") when LocalYear(\"&$D$12&\")=\"&$D$4&\" and localMonth(\"&$D$12&\") =\"&$E$4&\" and LocalDay(\"&$D$12&\")=\"&$F$4&\" and Barix(\"&$D$12&\",reference:=StartOfSession)=\"&A29&\"\", \"Bar\", \"\", \"Close\",\"5\",\"0\",\"PrimaryOnly\",,,\"False\",\"T\",\"EveryTick\")","v":2794.75},2.3312113332735586E-3,{"$f":"RTD(\"cqg.rtd\",,\"StudyData\", \"Close(\"&$D$12&\") when LocalYear(\"&$D$12&\")=\"&$D$5&\" and localMonth(\"&$D$12&\") =\"&$E$5&\" and LocalDay(\"&$D$12&\")=\"&$F$5&\" and Barix(\"&$D$12&\",reference:=StartOfSession)=\"&A29&\"\", \"Bar\", \"\", \"Close\",\"5\",\"0\",\"PrimaryOnly\",,,\"False\",\"T\",\"EveryTick\")","v":2792.75},2.1530456625100925E-3,{"$f":"RTD(\"cqg.rtd\",,\"StudyData\", \"Close(\"&$D$12&\") when LocalYear(\"&$D$12&\")=\"&$D$6&\" and localMonth(\"&$D$12&\") =\"&$E$6&\" and LocalDay(\"&$D$12&\")=\"&$F$6&\" and Barix(\"&$D$12&\",reference:=StartOfSession)=\"&A29&\"\", \"Bar\", \"\", \"Close\",\"5\",\"0\",\"PrimaryOnly\",,,\"False\",\"T\",\"EveryTick\")","v":2790.5},2.8751123090745732E-3,{"$f":"RTD(\"cqg.rtd\",,\"StudyData\", \"Close(\"&$D$12&\") when LocalYear(\"&$D$12&\")=\"&$D$7&\" and localMonth(\"&$D$12&\") =\"&$E$7&\" and LocalDay(\"&$D$12&\")=\"&$F$7&\" and Barix(\"&$D$12&\",reference:=StartOfSession)=\"&A29&\"\", \"Bar\", \"\", \"Close\",\"5\",\"0\",\"PrimaryOnly\",,,\"False\",\"T\",\"EveryTick\")","v":2772.75},-1.1707492795389048E-3,{"$f":"RTD(\"cqg.rtd\",,\"StudyData\", \"Close(\"&$D$12&\") when LocalYear(\"&$D$12&\")=\"&$D$8&\" and localMonth(\"&$D$12&\") =\"&$E$8&\" and LocalDay(\"&$D$12&\")=\"&$F$8&\" and Barix(\"&$D$12&\",reference:=StartOfSession)=\"&A29&\"\", \"Bar\", \"\", \"Close\",\"5\",\"0\",\"PrimaryOnly\",,,\"False\",\"T\",\"EveryTick\")","v":2773},-1.0806916426512969E-3,{"$f":"RTD(\"cqg.rtd\",,\"StudyData\", \"Close(\"&$D$12&\") when LocalYear(\"&$D$12&\")=\"&$D$9&\" and localMonth(\"&$D$12&\") =\"&$E$9&\" and LocalDay(\"&$D$12&\")=\"&$F$9&\" and Barix(\"&$D$12&\",reference:=StartOfSession)=\"&A29&\"\", \"Bar\", \"\", \"Close\",\"5\",\"0\",\"PrimaryOnly\",,,\"False\",\"T\",\"EveryTick\")","v":2762.5},2.5403737978588279E-3,{"$f":"RTD(\"cqg.rtd\",,\"StudyData\", \"Close(\"&$D$12&\") when LocalYear(\"&$D$12&\")=\"&$D$10&\" and localMonth(\"&$D$12&\") =\"&$E$10&\" and LocalDay(\"&$D$12&\")=\"&$F$10&\" and Barix(\"&$D$12&\",reference:=StartOfSession)=\"&A29&\"\", \"Bar\", \"\", \"Close\",\"5\",\"0\",\"PrimaryOnly\",,,\"False\",\"T\",\"EveryTick\")","v":2745.75},-1.454677697972543E-3,null,null,null,""]
[29,"10:55:00","2018-06-12",2018,6,12,{"$f":"IF(RTD(\"cqg.rtd\",,\"StudyData\", \"Close(EP) when LocalYear(\"&$D$12&\")=\"&D30&\" and localMonth(\"&$D$12&\") =\"&E30&\" and LocalDay(\"&$D$12&\")=\"&F30&\" and Barix(\"&$D$12&\",reference:=StartOfSession)=80\", \"Bar\", \"\", \"Close\",\"5\",\"0\",\"PrimaryOnly\",,,\"False\",\"T\",\"EveryTick\")=\"\",2,1)","v":1},{"$f":"RTD(\"cqg.rtd\",,\"StudyData\", \"Close(\"&$D$12&\") when LocalYear(\"&$D$12&\")=\"&$D$1&\" and localMonth(\"&$D$12&\") =\"&$E$1&\" and LocalDay(\"&$D$12&\")=\"&$F$1&\" and Barix(\"&$D$12&\",reference:=StartOfSession)=\"&A30&\"\", \"Bar\", \"\", \"Close\",\"5\",\"0\",\"PrimaryOnly\",,,\"False\",\"T\",\"EveryTick\")","v":""},{"$error":"#N/A"},{"$f":"RTD(\"cqg.rtd\",,\"StudyData\", \"Close(\"&$D$12&\") when LocalYear(\"&$D$12&\")=\"&$D$2&\" and localMonth(\"&$D$12&\") =\"&$E$2&\" and LocalDay(\"&$D$12&\")=\"&$F$2&\" and Barix(\"&$D$12&\",reference:=StartOfSession)=\"&A30&\"\", \"Bar\", \"\", \"Close\",\"5\",\"0\",\"PrimaryOnly\",,,\"False\",\"T\",\"EveryTick\")","v":2775.5},-4.662004662004662E-3,{"$f":"RTD(\"cqg.rtd\",,\"StudyData\", \"Close(\"&$D$12&\") when LocalYear(\"&$D$12&\")=\"&$D$3&\" and localMonth(\"&$D$12&\") =\"&$E$3&\" and LocalDay(\"&$D$12&\")=\"&$F$3&\" and Barix(\"&$D$12&\",reference:=StartOfSession)=\"&A30&\"\", \"Bar\", \"\", \"Close\",\"5\",\"0\",\"PrimaryOnly\",,,\"False\",\"T\",\"EveryTick\")","v":2788.5},3.4184958618207989E-3,{"$f":"RTD(\"cqg.rtd\",,\"StudyData\", \"Close(\"&$D$12&\") when LocalYear(\"&$D$12&\")=\"&$D$4&\" and localMonth(\"&$D$12&\") =\"&$E$4&\" and LocalDay(\"&$D$12&\")=\"&$F$4&\" and Barix(\"&$D$12&\",reference:=StartOfSession)=\"&A30&\"\", \"Bar\", \"\", \"Close\",\"5\",\"0\",\"PrimaryOnly\",,,\"False\",\"T\",\"EveryTick\")","v":2794.75},2.3312113332735586E-3,{"$f":"RTD(\"cqg.rtd\",,\"StudyData\", \"Close(\"&$D$12&\") when LocalYear(\"&$D$12&\")=\"&$D$5&\" and localMonth(\"&$D$12&\") =\"&$E$5&\" and LocalDay(\"&$D$12&\")=\"&$F$5&\" and Barix(\"&$D$12&\",reference:=StartOfSession)=\"&A30&\"\", \"Bar\", \"\", \"Close\",\"5\",\"0\",\"PrimaryOnly\",,,\"False\",\"T\",\"EveryTick\")","v":2792.5},2.063335426572172E-3,{"$f":"RTD(\"cqg.rtd\",,\"StudyData\", \"Close(\"&$D$12&\") when LocalYear(\"&$D$12&\")=\"&$D$6&\" and localMonth(\"&$D$12&\") =\"&$E$6&\" and LocalDay(\"&$D$12&\")=\"&$F$6&\" and Barix(\"&$D$12&\",reference:=StartOfSession)=\"&A30&\"\", \"Bar\", \"\", \"Close\",\"5\",\"0\",\"PrimaryOnly\",,,\"False\",\"T\",\"EveryTick\")","v":2791},3.0548068283917339E-3,{"$f":"RTD(\"cqg.rtd\",,\"StudyData\", \"Close(\"&$D$12&\") when LocalYear(\"&$D$12&\")=\"&$D$7&\" and localMonth(\"&$D$12&\") =\"&$E$7&\" and LocalDay(\"&$D$12&\")=\"&$F$7&\" and Barix(\"&$D$12&\",reference:=StartOfSession)=\"&A30&\"\", \"Bar\", \"\", \"Close\",\"5\",\"0\",\"PrimaryOnly\",,,\"False\",\"T\",\"EveryTick\")","v":2772.75},-1.1707492795389048E-3,{"$f":"RTD(\"cqg.rtd\",,\"StudyData\", \"Close(\"&$D$12&\") when LocalYear(\"&$D$12&\")=\"&$D$8&\" and localMonth(\"&$D$12&\") =\"&$E$8&\" and LocalDay(\"&$D$12&\")=\"&$F$8&\" and Barix(\"&$D$12&\",reference:=StartOfSession)=\"&A30&\"\", \"Bar\", \"\", \"Close\",\"5\",\"0\",\"PrimaryOnly\",,,\"False\",\"T\",\"EveryTick\")","v":2774.5},-5.4034582132564846E-4,{"$f":"RTD(\"cqg.rtd\",,\"StudyData\", \"Close(\"&$D$12&\") when LocalYear(\"&$D$12&\")=\"&$D$9&\" and localMonth(\"&$D$12&\") =\"&$E$9&\" and LocalDay(\"&$D$12&\")=\"&$F$9&\" and Barix(\"&$D$12&\",reference:=StartOfSession)=\"&A30&\"\", \"Bar\", \"\", \"Close\",\"5\",\"0\",\"PrimaryOnly\",,,\"False\",\"T\",\"EveryTick\")","v":2765.25},3.5383777898747959E-3,{"$f":"RTD(\"cqg.rtd\",,\"StudyData\", \"Close(\"&$D$12&\") when LocalYear(\"&$D$12&\")=\"&$D$10&\" and localMonth(\"&$D$12&\") =\"&$E$10&\" and LocalDay(\"&$D$12&\")=\"&$F$10&\" and Barix(\"&$D$12&\",reference:=StartOfSession)=\"&A30&\"\", \"Bar\", \"\", \"Close\",\"5\",\"0\",\"PrimaryOnly\",,,\"False\",\"T\",\"EveryTick\")","v":2746.25},-1.2728429857259752E-3,null,null,null,""]
[30,"11:00:00","2018-06-11",2018,6,11,{"$f":"IF(RTD(\"cqg.rtd\",,\"StudyData\", \"Close(EP) when LocalYear(\"&$D$12&\")=\"&D31&\" and localMonth(\"&$D$12&\") =\"&E31&\" and LocalDay(\"&$D$12&\")=\"&F31&\" and Barix(\"&$D$12&\",reference:=StartOfSession)=80\", \"Bar\", \"\", \"Close\",\"5\",\"0\",\"PrimaryOnly\",,,\"False\",\"T\",\"EveryTick\")=\"\",2,1)","v":1},{"$f":"RTD(\"cqg.rtd\",,\"StudyData\", \"Close(\"&$D$12&\") when LocalYear(\"&$D$12&\")=\"&$D$1&\" and localMonth(\"&$D$12&\") =\"&$E$1&\" and LocalDay(\"&$D$12&\")=\"&$F$1&\" and Barix(\"&$D$12&\",reference:=StartOfSession)=\"&A31&\"\", \"Bar\", \"\", \"Close\",\"5\",\"0\",\"PrimaryOnly\",,,\"False\",\"T\",\"EveryTick\")","v":""},{"$error":"#N/A"},{"$f":"RTD(\"cqg.rtd\",,\"StudyData\", \"Close(\"&$D$12&\") when LocalYear(\"&$D$12&\")=\"&$D$2&\" and localMonth(\"&$D$12&\") =\"&$E$2&\" and LocalDay(\"&$D$12&\")=\"&$F$2&\" and Barix(\"&$D$12&\",reference:=StartOfSession)=\"&A31&\"\", \"Bar\", \"\", \"Close\",\"5\",\"0\",\"PrimaryOnly\",,,\"False\",\"T\",\"EveryTick\")","v":2774.75},-4.9309664694280079E-3,{"$f":"RTD(\"cqg.rtd\",,\"StudyData\", \"Close(\"&$D$12&\") when LocalYear(\"&$D$12&\")=\"&$D$3&\" and localMonth(\"&$D$12&\") =\"&$E$3&\" and LocalDay(\"&$D$12&\")=\"&$F$3&\" and Barix(\"&$D$12&\",reference:=StartOfSession)=\"&A31&\"\", \"Bar\", \"\", \"Close\",\"5\",\"0\",\"PrimaryOnly\",,,\"False\",\"T\",\"EveryTick\")","v":2789},3.5984166966534724E-3,{"$f":"RTD(\"cqg.rtd\",,\"StudyData\", \"Close(\"&$D$12&\") when LocalYear(\"&$D$12&\")=\"&$D$4&\" and localMonth(\"&$D$12&\") =\"&$E$4&\" and LocalDay(\"&$D$12&\")=\"&$F$4&\" and Barix(\"&$D$12&\",reference:=StartOfSession)=\"&A31&\"\", \"Bar\", \"\", \"Close\",\"5\",\"0\",\"PrimaryOnly\",,,\"False\",\"T\",\"EveryTick\")","v":2793.5},1.882901461490182E-3,{"$f":"RTD(\"cqg.rtd\",,\"StudyData\", \"Close(\"&$D$12&\") when LocalYear(\"&$D$12&\")=\"&$D$5&\" and localMonth(\"&$D$12&\") =\"&$E$5&\" and LocalDay(\"&$D$12&\")=\"&$F$5&\" and Barix(\"&$D$12&\",reference:=StartOfSession)=\"&A31&\"\", \"Bar\", \"\", \"Close\",\"5\",\"0\",\"PrimaryOnly\",,,\"False\",\"T\",\"EveryTick\")","v":2793.25},2.3324661343859334E-3,{"$f":"RTD(\"cqg.rtd\",,\"StudyData\", \"Close(\"&$D$12&\") when LocalYear(\"&$D$12&\")=\"&$D$6&\" and localMonth(\"&$D$12&\") =\"&$E$6&\" and LocalDay(\"&$D$12&\")=\"&$F$6&\" and Barix(\"&$D$12&\",reference:=StartOfSession)=\"&A31&\"\", \"Bar\", \"\", \"Close\",\"5\",\"0\",\"PrimaryOnly\",,,\"False\",\"T\",\"EveryTick\")","v":2790.75},2.9649595687331535E-3,{"$f":"RTD(\"cqg.rtd\",,\"StudyData\", \"Close(\"&$D$12&\") when LocalYear(\"&$D$12&\")=\"&$D$7&\" and localMonth(\"&$D$12&\") =\"&$E$7&\" and LocalDay(\"&$D$12&\")=\"&$F$7&\" and Barix(\"&$D$12&\",reference:=StartOfSession)=\"&A31&\"\", \"Bar\", \"\", \"Close\",\"5\",\"0\",\"PrimaryOnly\",,,\"False\",\"T\",\"EveryTick\")","v":2773.75},-8.1051873198847264E-4,{"$f":"RTD(\"cqg.rtd\",,\"StudyData\", \"Close(\"&$D$12&\") when LocalYear(\"&$D$12&\")=\"&$D$8&\" and localMonth(\"&$D$12&\") =\"&$E$8&\" and LocalDay(\"&$D$12&\")=\"&$F$8&\" and Barix(\"&$D$12&\",reference:=StartOfSession)=\"&A31&\"\", \"Bar\", \"\", \"Close\",\"5\",\"0\",\"PrimaryOnly\",,,\"False\",\"T\",\"EveryTick\")","v":2775.5},-1.8011527377521613E-4,{"$f":"RTD(\"cqg.rtd\",,\"StudyData\", \"Close(\"&$D$12&\") when LocalYear(\"&$D$12&\")=\"&$D$9&\" and localMonth(\"&$D$12&\") =\"&$E$9&\" and LocalDay(\"&$D$12&\")=\"&$F$9&\" and Barix(\"&$D$12&\",reference:=StartOfSession)=\"&A31&\"\", \"Bar\", \"\", \"Close\",\"5\",\"0\",\"PrimaryOnly\",,,\"False\",\"T\",\"EveryTick\")","v":2764.25},3.1754672473235349E-3,{"$f":"RTD(\"cqg.rtd\",,\"StudyData\", \"Close(\"&$D$12&\") when LocalYear(\"&$D$12&\")=\"&$D$10&\" and localMonth(\"&$D$12&\") =\"&$E$10&\" and LocalDay(\"&$D$12&\")=\"&$F$10&\" and Barix(\"&$D$12&\",reference:=StartOfSession)=\"&A31&\"\", \"Bar\", \"\", \"Close\",\"5\",\"0\",\"PrimaryOnly\",,,\"False\",\"T\",\"EveryTick\")","v":2744.25},-2.0001818347122466E-3,null,null,null,""]
[31,"11:05:00","2018-06-08",2018,6,8,{"$f":"IF(RTD(\"cqg.rtd\",,\"StudyData\", \"Close(EP) when LocalYear(\"&$D$12&\")=\"&D32&\" and localMonth(\"&$D$12&\") =\"&E32&\" and LocalDay(\"&$D$12&\")=\"&F32&\" and Barix(\"&$D$12&\",reference:=StartOfSession)=80\", \"Bar\", \"\", \"Close\",\"5\",\"0\",\"PrimaryOnly\",,,\"False\",\"T\",\"EveryTick\")=\"\",2,1)","v":1},{"$f":"RTD(\"cqg.rtd\",,\"StudyData\", \"Close(\"&$D$12&\") when LocalYear(\"&$D$12&\")=\"&$D$1&\" and localMonth(\"&$D$12&\") =\"&$E$1&\" and LocalDay(\"&$D$12&\")=\"&$F$1&\" and Barix(\"&$D$12&\",reference:=StartOfSession)=\"&A32&\"\", \"Bar\", \"\", \"Close\",\"5\",\"0\",\"PrimaryOnly\",,,\"False\",\"T\",\"EveryTick\")","v":""},{"$error":"#N/A"},{"$f":"RTD(\"cqg.rtd\",,\"StudyData\", \"Close(\"&$D$12&\") when LocalYear(\"&$D$12&\")=\"&$D$2&\" and localMonth(\"&$D$12&\") =\"&$E$2&\" and LocalDay(\"&$D$12&\")=\"&$F$2&\" and Barix(\"&$D$12&\",reference:=StartOfSession)=\"&A32&\"\", \"Bar\", \"\", \"Close\",\"5\",\"0\",\"PrimaryOnly\",,,\"False\",\"T\",\"EveryTick\")","v":2773.5},-5.3792361484669175E-3,{"$f":"RTD(\"cqg.rtd\",,\"StudyData\", \"Close(\"&$D$12&\") when LocalYear(\"&$D$12&\")=\"&$D$3&\" and localMonth(\"&$D$12&\") =\"&$E$3&\" and LocalDay(\"&$D$12&\")=\"&$F$3&\" and Barix(\"&$D$12&\",reference:=StartOfSession)=\"&A32&\"\", \"Bar\", \"\", \"Close\",\"5\",\"0\",\"PrimaryOnly\",,,\"False\",\"T\",\"EveryTick\")","v":2789},3.5984166966534724E-3,{"$f":"RTD(\"cqg.rtd\",,\"StudyData\", \"Close(\"&$D$12&\") when LocalYear(\"&$D$12&\")=\"&$D$4&\" and localMonth(\"&$D$12&\") =\"&$E$4&\" and LocalDay(\"&$D$12&\")=\"&$F$4&\" and Barix(\"&$D$12&\",reference:=StartOfSession)=\"&A32&\"\", \"Bar\", \"\", \"Close\",\"5\",\"0\",\"PrimaryOnly\",,,\"False\",\"T\",\"EveryTick\")","v":2794},2.0622254102035326E-3,{"$f":"RTD(\"cqg.rtd\",,\"StudyData\", \"Close(\"&$D$12&\") when LocalYear(\"&$D$12&\")=\"&$D$5&\" and localMonth(\"&$D$12&\") =\"&$E$5&\" and LocalDay(\"&$D$12&\")=\"&$F$5&\" and Barix(\"&$D$12&\",reference:=StartOfSession)=\"&A32&\"\", \"Bar\", \"\", \"Close\",\"5\",\"0\",\"PrimaryOnly\",,,\"False\",\"T\",\"EveryTick\")","v":2792},1.8839149546963309E-3,{"$f":"RTD(\"cqg.rtd\",,\"StudyData\", \"Close(\"&$D$12&\") when LocalYear(\"&$D$12&\")=\"&$D$6&\" and localMonth(\"&$D$12&\") =\"&$E$6&\" and LocalDay(\"&$D$12&\")=\"&$F$6&\" and Barix(\"&$D$12&\",reference:=StartOfSession)=\"&A32&\"\", \"Bar\", \"\", \"Close\",\"5\",\"0\",\"PrimaryOnly\",,,\"False\",\"T\",\"EveryTick\")","v":2791.75},3.3243486073674753E-3,{"$f":"RTD(\"cqg.rtd\",,\"StudyData\", \"Close(\"&$D$12&\") when LocalYear(\"&$D$12&\")=\"&$D$7&\" and localMonth(\"&$D$12&\") =\"&$E$7&\" and LocalDay(\"&$D$12&\")=\"&$F$7&\" and Barix(\"&$D$12&\",reference:=StartOfSession)=\"&A32&\"\", \"Bar\", \"\", \"Close\",\"5\",\"0\",\"PrimaryOnly\",,,\"False\",\"T\",\"EveryTick\")","v":2774},-7.2046109510086451E-4,{"$f":"RTD(\"cqg.rtd\",,\"StudyData\", \"Close(\"&$D$12&\") when LocalYear(\"&$D$12&\")=\"&$D$8&\" and localMonth(\"&$D$12&\") =\"&$E$8&\" and LocalDay(\"&$D$12&\")=\"&$F$8&\" and Barix(\"&$D$12&\",reference:=StartOfSession)=\"&A32&\"\", \"Bar\", \"\", \"Close\",\"5\",\"0\",\"PrimaryOnly\",,,\"False\",\"T\",\"EveryTick\")","v":2775.75},-9.0057636887608063E-5,{"$f":"RTD(\"cqg.rtd\",,\"StudyData\", \"Close(\"&$D$12&\") when LocalYear(\"&$D$12&\")=\"&$D$9&\" and localMonth(\"&$D$12&\") =\"&$E$9&\" and LocalDay(\"&$D$12&\")=\"&$F$9&\" and Barix(\"&$D$12&\",reference:=StartOfSession)=\"&A32&\"\", \"Bar\", \"\", \"Close\",\"5\",\"0\",\"PrimaryOnly\",,,\"False\",\"T\",\"EveryTick\")","v":2763.25},2.8125567047722734E-3,{"$f":"RTD(\"cqg.rtd\",,\"StudyData\", \"Close(\"&$D$12&\") when LocalYear(\"&$D$12&\")=\"&$D$10&\" and localMonth(\"&$D$12&\") =\"&$E$10&\" and LocalDay(\"&$D$12&\")=\"&$F$10&\" and Barix(\"&$D$12&\",reference:=StartOfSession)=\"&A32&\"\", \"Bar\", \"\", \"Close\",\"5\",\"0\",\"PrimaryOnly\",,,\"False\",\"T\",\"EveryTick\")","v":2746.75},-1.0910082734794072E-3,null,null,null,""]
[32,"11:10:00","2018-06-07",2018,6,7,{"$f":"IF(RTD(\"cqg.rtd\",,\"StudyData\", \"Close(EP) when LocalYear(\"&$D$12&\")=\"&D33&\" and localMonth(\"&$D$12&\") =\"&E33&\" and LocalDay(\"&$D$12&\")=\"&F33&\" and Barix(\"&$D$12&\",reference:=StartOfSession)=80\", \"Bar\", \"\", \"Close\",\"5\",\"0\",\"PrimaryOnly\",,,\"False\",\"T\",\"EveryTick\")=\"\",2,1)","v":1},{"$f":"RTD(\"cqg.rtd\",,\"StudyData\", \"Close(\"&$D$12&\") when LocalYear(\"&$D$12&\")=\"&$D$1&\" and localMonth(\"&$D$12&\") =\"&$E$1&\" and LocalDay(\"&$D$12&\")=\"&$F$1&\" and Barix(\"&$D$12&\",reference:=StartOfSession)=\"&A33&\"\", \"Bar\", \"\", \"Close\",\"5\",\"0\",\"PrimaryOnly\",,,\"False\",\"T\",\"EveryTick\")","v":""},{"$error":"#N/A"},{"$f":"RTD(\"cqg.rtd\",,\"StudyData\", \"Close(\"&$D$12&\") when LocalYear(\"&$D$12&\")=\"&$D$2&\" and localMonth(\"&$D$12&\") =\"&$E$2&\" and LocalDay(\"&$D$12&\")=\"&$F$2&\" and Barix(\"&$D$12&\",reference:=StartOfSession)=\"&A33&\"\", \"Bar\", \"\", \"Close\",\"5\",\"0\",\"PrimaryOnly\",,,\"False\",\"T\",\"EveryTick\")","v":2773.5},-5.3792361484669175E-3,{"$f":"RTD(\"cqg.rtd\",,\"StudyData\", \"Close(\"&$D$12&\") when LocalYear(\"&$D$12&\")=\"&$D$3&\" and localMonth(\"&$D$12&\") =\"&$E$3&\" and LocalDay(\"&$D$12&\")=\"&$F$3&\" and Barix(\"&$D$12&\",reference:=StartOfSession)=\"&A33&\"\", \"Bar\", \"\", \"Close\",\"5\",\"0\",\"PrimaryOnly\",,,\"False\",\"T\",\"EveryTick\")","v":2788.75},3.5084562792371357E-3,{"$f":"RTD(\"cqg.rtd\",,\"StudyData\", \"Close(\"&$D$12&\") when LocalYear(\"&$D$12&\")=\"&$D$4&\" and localMonth(\"&$D$12&\") =\"&$E$4&\" and LocalDay(\"&$D$12&\")=\"&$F$4&\" and Barix(\"&$D$12&\",reference:=StartOfSession)=\"&A33&\"\", \"Bar\", \"\", \"Close\",\"5\",\"0\",\"PrimaryOnly\",,,\"False\",\"T\",\"EveryTick\")","v":2793.75},1.9725634358468574E-3,{"$f":"RTD(\"cqg.rtd\",,\"StudyData\", \"Close(\"&$D$12&\") when LocalYear(\"&$D$12&\")=\"&$D$5&\" and localMonth(\"&$D$12&\") =\"&$E$5&\" and LocalDay(\"&$D$12&\")=\"&$F$5&\" and Barix(\"&$D$12&\",reference:=StartOfSession)=\"&A33&\"\", \"Bar\", \"\", \"Close\",\"5\",\"0\",\"PrimaryOnly\",,,\"False\",\"T\",\"EveryTick\")","v":2792.5},2.063335426572172E-3,{"$f":"RTD(\"cqg.rtd\",,\"StudyData\", \"Close(\"&$D$12&\") when LocalYear(\"&$D$12&\")=\"&$D$6&\" and localMonth(\"&$D$12&\") =\"&$E$6&\" and LocalDay(\"&$D$12&\")=\"&$F$6&\" and Barix(\"&$D$12&\",reference:=StartOfSession)=\"&A33&\"\", \"Bar\", \"\", \"Close\",\"5\",\"0\",\"PrimaryOnly\",,,\"False\",\"T\",\"EveryTick\")","v":2791.5},3.234501347708895E-3,{"$f":"RTD(\"cqg.rtd\",,\"StudyData\", \"Close(\"&$D$12&\") when LocalYear(\"&$D$12&\")=\"&$D$7&\" and localMonth(\"&$D$12&\") =\"&$E$7&\" and LocalDay(\"&$D$12&\")=\"&$F$7&\" and Barix(\"&$D$12&\",reference:=StartOfSession)=\"&A33&\"\", \"Bar\", \"\", \"Close\",\"5\",\"0\",\"PrimaryOnly\",,,\"False\",\"T\",\"EveryTick\")","v":2774.5},-5.4034582132564846E-4,{"$f":"RTD(\"cqg.rtd\",,\"StudyData\", \"Close(\"&$D$12&\") when LocalYear(\"&$D$12&\")=\"&$D$8&\" and localMonth(\"&$D$12&\") =\"&$E$8&\" and LocalDay(\"&$D$12&\")=\"&$F$8&\" and Barix(\"&$D$12&\",reference:=StartOfSession)=\"&A33&\"\", \"Bar\", \"\", \"Close\",\"5\",\"0\",\"PrimaryOnly\",,,\"False\",\"T\",\"EveryTick\")","v":2776},0,{"$f":"RTD(\"cqg.rtd\",,\"StudyData\", \"Close(\"&$D$12&\") when LocalYear(\"&$D$12&\")=\"&$D$9&\" and localMonth(\"&$D$12&\") =\"&$E$9&\" and LocalDay(\"&$D$12&\")=\"&$F$9&\" and Barix(\"&$D$12&\",reference:=StartOfSession)=\"&A33&\"\", \"Bar\", \"\", \"Close\",\"5\",\"0\",\"PrimaryOnly\",,,\"False\",\"T\",\"EveryTick\")","v":2764},3.0847396116857194E-3,{"$f":"RTD(\"cqg.rtd\",,\"StudyData\", \"Close(\"&$D$12&\") when LocalYear(\"&$D$12&\")=\"&$D$10&\" and localMonth(\"&$D$12&\") =\"&$E$10&\" and LocalDay(\"&$D$12&\")=\"&$F$10&\" and Barix(\"&$D$12&\",reference:=StartOfSession)=\"&A33&\"\", \"Bar\", \"\", \"Close\",\"5\",\"0\",\"PrimaryOnly\",,,\"False\",\"T\",\"EveryTick\")","v":2747.75},-7.2733884898627148E-4,null,null,null,""]
[33,"11:15:00","2018-06-06",2018,6,6,{"$f":"IF(RTD(\"cqg.rtd\",,\"StudyData\", \"Close(EP) when LocalYear(\"&$D$12&\")=\"&D34&\" and localMonth(\"&$D$12&\") =\"&E34&\" and LocalDay(\"&$D$12&\")=\"&F34&\" and Barix(\"&$D$12&\",reference:=StartOfSession)=80\", \"Bar\", \"\", \"Close\",\"5\",\"0\",\"PrimaryOnly\",,,\"False\",\"T\",\"EveryTick\")=\"\",2,1)","v":1},{"$f":"RTD(\"cqg.rtd\",,\"StudyData\", \"Close(\"&$D$12&\") when LocalYear(\"&$D$12&\")=\"&$D$1&\" and localMonth(\"&$D$12&\") =\"&$E$1&\" and LocalDay(\"&$D$12&\")=\"&$F$1&\" and Barix(\"&$D$12&\",reference:=StartOfSession)=\"&A34&\"\", \"Bar\", \"\", \"Close\",\"5\",\"0\",\"PrimaryOnly\",,,\"False\",\"T\",\"EveryTick\")","v":""},{"$error":"#N/A"},{"$f":"RTD(\"cqg.rtd\",,\"StudyData\", \"Close(\"&$D$12&\") when LocalYear(\"&$D$12&\")=\"&$D$2&\" and localMonth(\"&$D$12&\") =\"&$E$2&\" and LocalDay(\"&$D$12&\")=\"&$F$2&\" and Barix(\"&$D$12&\",reference:=StartOfSession)=\"&A34&\"\", \"Bar\", \"\", \"Close\",\"5\",\"0\",\"PrimaryOnly\",,,\"False\",\"T\",\"EveryTick\")","v":2774.75},-4.9309664694280079E-3,{"$f":"RTD(\"cqg.rtd\",,\"StudyData\", \"Close(\"&$D$12&\") when LocalYear(\"&$D$12&\")=\"&$D$3&\" and localMonth(\"&$D$12&\") =\"&$E$3&\" and LocalDay(\"&$D$12&\")=\"&$F$3&\" and Barix(\"&$D$12&\",reference:=StartOfSession)=\"&A34&\"\", \"Bar\", \"\", \"Close\",\"5\",\"0\",\"PrimaryOnly\",,,\"False\",\"T\",\"EveryTick\")","v":2788},3.2385750269881253E-3,{"$f":"RTD(\"cqg.rtd\",,\"StudyData\", \"Close(\"&$D$12&\") when LocalYear(\"&$D$12&\")=\"&$D$4&\" and localMonth(\"&$D$12&\") =\"&$E$4&\" and LocalDay(\"&$D$12&\")=\"&$F$4&\" and Barix(\"&$D$12&\",reference:=StartOfSession)=\"&A34&\"\", \"Bar\", \"\", \"Close\",\"5\",\"0\",\"PrimaryOnly\",,,\"False\",\"T\",\"EveryTick\")","v":2792.5},1.5242535640634808E-3,{"$f":"RTD(\"cqg.rtd\",,\"StudyData\", \"Close(\"&$D$12&\") when LocalYear(\"&$D$12&\")=\"&$D$5&\" and localMonth(\"&$D$12&\") =\"&$E$5&\" and LocalDay(\"&$D$12&\")=\"&$F$5&\" and Barix(\"&$D$12&\",reference:=StartOfSession)=\"&A34&\"\", \"Bar\", \"\", \"Close\",\"5\",\"0\",\"PrimaryOnly\",,,\"False\",\"T\",\"EveryTick\")","v":2792.75},2.1530456625100925E-3,{"$f":"RTD(\"cqg.rtd\",,\"StudyData\", \"Close(\"&$D$12&\") when LocalYear(\"&$D$12&\")=\"&$D$6&\" and localMonth(\"&$D$12&\") =\"&$E$6&\" and LocalDay(\"&$D$12&\")=\"&$F$6&\" and Barix(\"&$D$12&\",reference:=StartOfSession)=\"&A34&\"\", \"Bar\", \"\", \"Close\",\"5\",\"0\",\"PrimaryOnly\",,,\"False\",\"T\",\"EveryTick\")","v":2792.25},3.504043126684636E-3,{"$f":"RTD(\"cqg.rtd\",,\"StudyData\", \"Close(\"&$D$12&\") when LocalYear(\"&$D$12&\")=\"&$D$7&\" and localMonth(\"&$D$12&\") =\"&$E$7&\" and LocalDay(\"&$D$12&\")=\"&$F$7&\" and Barix(\"&$D$12&\",reference:=StartOfSession)=\"&A34&\"\", \"Bar\", \"\", \"Close\",\"5\",\"0\",\"PrimaryOnly\",,,\"False\",\"T\",\"EveryTick\")","v":2774.75},-4.5028818443804033E-4,{"$f":"RTD(\"cqg.rtd\",,\"StudyData\", \"Close(\"&$D$12&\") when LocalYear(\"&$D$12&\")=\"&$D$8&\" and localMonth(\"&$D$12&\") =\"&$E$8&\" and LocalDay(\"&$D$12&\")=\"&$F$8&\" and Barix(\"&$D$12&\",reference:=StartOfSession)=\"&A34&\"\", \"Bar\", \"\", \"Close\",\"5\",\"0\",\"PrimaryOnly\",,,\"False\",\"T\",\"EveryTick\")","v":2776.25},9.0057636887608063E-5,{"$f":"RTD(\"cqg.rtd\",,\"StudyData\", \"Close(\"&$D$12&\") when LocalYear(\"&$D$12&\")=\"&$D$9&\" and localMonth(\"&$D$12&\") =\"&$E$9&\" and LocalDay(\"&$D$12&\")=\"&$F$9&\" and Barix(\"&$D$12&\",reference:=StartOfSession)=\"&A34&\"\", \"Bar\", \"\", \"Close\",\"5\",\"0\",\"PrimaryOnly\",,,\"False\",\"T\",\"EveryTick\")","v":2765.25},3.5383777898747959E-3,{"$f":"RTD(\"cqg.rtd\",,\"StudyData\", \"Close(\"&$D$12&\") when LocalYear(\"&$D$12&\")=\"&$D$10&\" and localMonth(\"&$D$12&\") =\"&$E$10&\" and LocalDay(\"&$D$12&\")=\"&$F$10&\" and Barix(\"&$D$12&\",reference:=StartOfSession)=\"&A34&\"\", \"Bar\", \"\", \"Close\",\"5\",\"0\",\"PrimaryOnly\",,,\"False\",\"T\",\"EveryTick\")","v":2746.75},-1.0910082734794072E-3,null,null,null,""]
[34,"11:20:00","2018-06-05",2018,6,5,{"$f":"IF(RTD(\"cqg.rtd\",,\"StudyData\", \"Close(EP) when LocalYear(\"&$D$12&\")=\"&D35&\" and localMonth(\"&$D$12&\") =\"&E35&\" and LocalDay(\"&$D$12&\")=\"&F35&\" and Barix(\"&$D$12&\",reference:=StartOfSession)=80\", \"Bar\", \"\", \"Close\",\"5\",\"0\",\"PrimaryOnly\",,,\"False\",\"T\",\"EveryTick\")=\"\",2,1)","v":1},{"$f":"RTD(\"cqg.rtd\",,\"StudyData\", \"Close(\"&$D$12&\") when LocalYear(\"&$D$12&\")=\"&$D$1&\" and localMonth(\"&$D$12&\") =\"&$E$1&\" and LocalDay(\"&$D$12&\")=\"&$F$1&\" and Barix(\"&$D$12&\",reference:=StartOfSession)=\"&A35&\"\", \"Bar\", \"\", \"Close\",\"5\",\"0\",\"PrimaryOnly\",,,\"False\",\"T\",\"EveryTick\")","v":""},{"$error":"#N/A"},{"$f":"RTD(\"cqg.rtd\",,\"StudyData\", \"Close(\"&$D$12&\") when LocalYear(\"&$D$12&\")=\"&$D$2&\" and localMonth(\"&$D$12&\") =\"&$E$2&\" and LocalDay(\"&$D$12&\")=\"&$F$2&\" and Barix(\"&$D$12&\",reference:=StartOfSession)=\"&A35&\"\", \"Bar\", \"\", \"Close\",\"5\",\"0\",\"PrimaryOnly\",,,\"False\",\"T\",\"EveryTick\")","v":2774.75},-4.9309664694280079E-3,{"$f":"RTD(\"cqg.rtd\",,\"StudyData\", \"Close(\"&$D$12&\") when LocalYear(\"&$D$12&\")=\"&$D$3&\" and localMonth(\"&$D$12&\") =\"&$E$3&\" and LocalDay(\"&$D$12&\")=\"&$F$3&\" and Barix(\"&$D$12&\",reference:=StartOfSession)=\"&A35&\"\", \"Bar\", \"\", \"Close\",\"5\",\"0\",\"PrimaryOnly\",,,\"False\",\"T\",\"EveryTick\")","v":2787.25},2.968693774739115E-3,{"$f":"RTD(\"cqg.rtd\",,\"StudyData\", \"Close(\"&$D$12&\") when LocalYear(\"&$D$12&\")=\"&$D$4&\" and localMonth(\"&$D$12&\") =\"&$E$4&\" and LocalDay(\"&$D$12&\")=\"&$F$4&\" and Barix(\"&$D$12&\",reference:=StartOfSession)=\"&A35&\"\", \"Bar\", \"\", \"Close\",\"5\",\"0\",\"PrimaryOnly\",,,\"False\",\"T\",\"EveryTick\")","v":2792.5},1.5242535640634808E-3,{"$f":"RTD(\"cqg.rtd\",,\"StudyData\", \"Close(\"&$D$12&\") when LocalYear(\"&$D$12&\")=\"&$D$5&\" and localMonth(\"&$D$12&\") =\"&$E$5&\" and LocalDay(\"&$D$12&\")=\"&$F$5&\" and Barix(\"&$D$12&\",reference:=StartOfSession)=\"&A35&\"\", \"Bar\", \"\", \"Close\",\"5\",\"0\",\"PrimaryOnly\",,,\"False\",\"T\",\"EveryTick\")","v":2792},1.8839149546963309E-3,{"$f":"RTD(\"cqg.rtd\",,\"StudyData\", \"Close(\"&$D$12&\") when LocalYear(\"&$D$12&\")=\"&$D$6&\" and localMonth(\"&$D$12&\") =\"&$E$6&\" and LocalDay(\"&$D$12&\")=\"&$F$6&\" and Barix(\"&$D$12&\",reference:=StartOfSession)=\"&A35&\"\", \"Bar\", \"\", \"Close\",\"5\",\"0\",\"PrimaryOnly\",,,\"False\",\"T\",\"EveryTick\")","v":2792.5},3.5938903863432167E-3,{"$f":"RTD(\"cqg.rtd\",,\"StudyData\", \"Close(\"&$D$12&\") when LocalYear(\"&$D$12&\")=\"&$D$7&\" and localMonth(\"&$D$12&\") =\"&$E$7&\" and LocalDay(\"&$D$12&\")=\"&$F$7&\" and Barix(\"&$D$12&\",reference:=StartOfSession)=\"&A35&\"\", \"Bar\", \"\", \"Close\",\"5\",\"0\",\"PrimaryOnly\",,,\"False\",\"T\",\"EveryTick\")","v":2777},3.6023054755043225E-4,{"$f":"RTD(\"cqg.rtd\",,\"StudyData\", \"Close(\"&$D$12&\") when LocalYear(\"&$D$12&\")=\"&$D$8&\" and localMonth(\"&$D$12&\") =\"&$E$8&\" and LocalDay(\"&$D$12&\")=\"&$F$8&\" and Barix(\"&$D$12&\",reference:=StartOfSession)=\"&A35&\"\", \"Bar\", \"\", \"Close\",\"5\",\"0\",\"PrimaryOnly\",,,\"False\",\"T\",\"EveryTick\")","v":2777},3.6023054755043225E-4,{"$f":"RTD(\"cqg.rtd\",,\"StudyData\", \"Close(\"&$D$12&\") when LocalYear(\"&$D$12&\")=\"&$D$9&\" and localMonth(\"&$D$12&\") =\"&$E$9&\" and LocalDay(\"&$D$12&\")=\"&$F$9&\" and Barix(\"&$D$12&\",reference:=StartOfSession)=\"&A35&\"\", \"Bar\", \"\", \"Close\",\"5\",\"0\",\"PrimaryOnly\",,,\"False\",\"T\",\"EveryTick\")","v":2765},3.4476501542369804E-3,{"$f":"RTD(\"cqg.rtd\",,\"StudyData\", \"Close(\"&$D$12&\") when LocalYear(\"&$D$12&\")=\"&$D$10&\" and localMonth(\"&$D$12&\") =\"&$E$10&\" and LocalDay(\"&$D$12&\")=\"&$F$10&\" and Barix(\"&$D$12&\",reference:=StartOfSession)=\"&A35&\"\", \"Bar\", \"\", \"Close\",\"5\",\"0\",\"PrimaryOnly\",,,\"False\",\"T\",\"EveryTick\")","v":2744.75},-1.8183471224656788E-3,null,null,null,""]
[35,"11:25:00","2018-06-04",2018,6,4,{"$f":"IF(RTD(\"cqg.rtd\",,\"StudyData\", \"Close(EP) when LocalYear(\"&$D$12&\")=\"&D36&\" and localMonth(\"&$D$12&\") =\"&E36&\" and LocalDay(\"&$D$12&\")=\"&F36&\" and Barix(\"&$D$12&\",reference:=StartOfSession)=80\", \"Bar\", \"\", \"Close\",\"5\",\"0\",\"PrimaryOnly\",,,\"False\",\"T\",\"EveryTick\")=\"\",2,1)","v":1},{"$f":"RTD(\"cqg.rtd\",,\"StudyData\", \"Close(\"&$D$12&\") when LocalYear(\"&$D$12&\")=\"&$D$1&\" and localMonth(\"&$D$12&\") =\"&$E$1&\" and LocalDay(\"&$D$12&\")=\"&$F$1&\" and Barix(\"&$D$12&\",reference:=StartOfSession)=\"&A36&\"\", \"Bar\", \"\", \"Close\",\"5\",\"0\",\"PrimaryOnly\",,,\"False\",\"T\",\"EveryTick\")","v":""},{"$error":"#N/A"},{"$f":"RTD(\"cqg.rtd\",,\"StudyData\", \"Close(\"&$D$12&\") when LocalYear(\"&$D$12&\")=\"&$D$2&\" and localMonth(\"&$D$12&\") =\"&$E$2&\" and LocalDay(\"&$D$12&\")=\"&$F$2&\" and Barix(\"&$D$12&\",reference:=StartOfSession)=\"&A36&\"\", \"Bar\", \"\", \"Close\",\"5\",\"0\",\"PrimaryOnly\",,,\"False\",\"T\",\"EveryTick\")","v":2774.75},-4.9309664694280079E-3,{"$f":"RTD(\"cqg.rtd\",,\"StudyData\", \"Close(\"&$D$12&\") when LocalYear(\"&$D$12&\")=\"&$D$3&\" and localMonth(\"&$D$12&\") =\"&$E$3&\" and LocalDay(\"&$D$12&\")=\"&$F$3&\" and Barix(\"&$D$12&\",reference:=StartOfSession)=\"&A36&\"\", \"Bar\", \"\", \"Close\",\"5\",\"0\",\"PrimaryOnly\",,,\"False\",\"T\",\"EveryTick\")","v":2786.75},2.788772939906441E-3,{"$f":"RTD(\"cqg.rtd\",,\"StudyData\", \"Close(\"&$D$12&\") when LocalYear(\"&$D$12&\")=\"&$D$4&\" and localMonth(\"&$D$12&\") =\"&$E$4&\" and LocalDay(\"&$D$12&\")=\"&$F$4&\" and Barix(\"&$D$12&\",reference:=StartOfSession)=\"&A36&\"\", \"Bar\", \"\", \"Close\",\"5\",\"0\",\"PrimaryOnly\",,,\"False\",\"T\",\"EveryTick\")","v":2792.5},1.5242535640634808E-3,{"$f":"RTD(\"cqg.rtd\",,\"StudyData\", \"Close(\"&$D$12&\") when LocalYear(\"&$D$12&\")=\"&$D$5&\" and localMonth(\"&$D$12&\") =\"&$E$5&\" and LocalDay(\"&$D$12&\")=\"&$F$5&\" and Barix(\"&$D$12&\",reference:=StartOfSession)=\"&A36&\"\", \"Bar\", \"\", \"Close\",\"5\",\"0\",\"PrimaryOnly\",,,\"False\",\"T\",\"EveryTick\")","v":2791.75},1.7942047187584104E-3,{"$f":"RTD(\"cqg.rtd\",,\"StudyData\", \"Close(\"&$D$12&\") when LocalYear(\"&$D$12&\")=\"&$D$6&\" and localMonth(\"&$D$12&\") =\"&$E$6&\" and LocalDay(\"&$D$12&\")=\"&$F$6&\" and Barix(\"&$D$12&\",reference:=StartOfSession)=\"&A36&\"\", \"Bar\", \"\", \"Close\",\"5\",\"0\",\"PrimaryOnly\",,,\"False\",\"T\",\"EveryTick\")","v":2792.75},3.6837376460017971E-3,{"$f":"RTD(\"cqg.rtd\",,\"StudyData\", \"Close(\"&$D$12&\") when LocalYear(\"&$D$12&\")=\"&$D$7&\" and localMonth(\"&$D$12&\") =\"&$E$7&\" and LocalDay(\"&$D$12&\")=\"&$F$7&\" and Barix(\"&$D$12&\",reference:=StartOfSession)=\"&A36&\"\", \"Bar\", \"\", \"Close\",\"5\",\"0\",\"PrimaryOnly\",,,\"False\",\"T\",\"EveryTick\")","v":2779},1.0806916426512969E-3,{"$f":"RTD(\"cqg.rtd\",,\"StudyData\", \"Close(\"&$D$12&\") when LocalYear(\"&$D$12&\")=\"&$D$8&\" and localMonth(\"&$D$12&\") =\"&$E$8&\" and LocalDay(\"&$D$12&\")=\"&$F$8&\" and Barix(\"&$D$12&\",reference:=StartOfSession)=\"&A36&\"\", \"Bar\", \"\", \"Close\",\"5\",\"0\",\"PrimaryOnly\",,,\"False\",\"T\",\"EveryTick\")","v":2777.25},4.5028818443804033E-4,{"$f":"RTD(\"cqg.rtd\",,\"StudyData\", \"Close(\"&$D$12&\") when LocalYear(\"&$D$12&\")=\"&$D$9&\" and localMonth(\"&$D$12&\") =\"&$E$9&\" and LocalDay(\"&$D$12&\")=\"&$F$9&\" and Barix(\"&$D$12&\",reference:=StartOfSession)=\"&A36&\"\", \"Bar\", \"\", \"Close\",\"5\",\"0\",\"PrimaryOnly\",,,\"False\",\"T\",\"EveryTick\")","v":2764.75},3.3569225185991654E-3,{"$f":"RTD(\"cqg.rtd\",,\"StudyData\", \"Close(\"&$D$12&\") when LocalYear(\"&$D$12&\")=\"&$D$10&\" and localMonth(\"&$D$12&\") =\"&$E$10&\" and LocalDay(\"&$D$12&\")=\"&$F$10&\" and Barix(\"&$D$12&\",reference:=StartOfSession)=\"&A36&\"\", \"Bar\", \"\", \"Close\",\"5\",\"0\",\"PrimaryOnly\",,,\"False\",\"T\",\"EveryTick\")","v":2747},-1.0000909173561233E-3,null,null,null,""]
[36,"11:30:00",null,null,null,null,null,{"$f":"RTD(\"cqg.rtd\",,\"StudyData\", \"Close(\"&$D$12&\") when LocalYear(\"&$D$12&\")=\"&$D$1&\" and localMonth(\"&$D$12&\") =\"&$E$1&\" and LocalDay(\"&$D$12&\")=\"&$F$1&\" and Barix(\"&$D$12&\",reference:=StartOfSession)=\"&A37&\"\", \"Bar\", \"\", \"Close\",\"5\",\"0\",\"PrimaryOnly\",,,\"False\",\"T\",\"EveryTick\")","v":""},{"$error":"#N/A"},{"$f":"RTD(\"cqg.rtd\",,\"StudyData\", \"Close(\"&$D$12&\") when LocalYear(\"&$D$12&\")=\"&$D$2&\" and localMonth(\"&$D$12&\") =\"&$E$2&\" and LocalDay(\"&$D$12&\")=\"&$F$2&\" and Barix(\"&$D$12&\",reference:=StartOfSession)=\"&A37&\"\", \"Bar\", \"\", \"Close\",\"5\",\"0\",\"PrimaryOnly\",,,\"False\",\"T\",\"EveryTick\")","v":2774.25},-5.1102743410435716E-3,{"$f":"RTD(\"cqg.rtd\",,\"StudyData\", \"Close(\"&$D$12&\") when LocalYear(\"&$D$12&\")=\"&$D$3&\" and localMonth(\"&$D$12&\") =\"&$E$3&\" and LocalDay(\"&$D$12&\")=\"&$F$3&\" and Barix(\"&$D$12&\",reference:=StartOfSession)=\"&A37&\"\", \"Bar\", \"\", \"Close\",\"5\",\"0\",\"PrimaryOnly\",,,\"False\",\"T\",\"EveryTick\")","v":2787},2.8787333573227778E-3,{"$f":"RTD(\"cqg.rtd\",,\"StudyData\", \"Close(\"&$D$12&\") when LocalYear(\"&$D$12&\")=\"&$D$4&\" and localMonth(\"&$D$12&\") =\"&$E$4&\" and LocalDay(\"&$D$12&\")=\"&$F$4&\" and Barix(\"&$D$12&\",reference:=StartOfSession)=\"&A37&\"\", \"Bar\", \"\", \"Close\",\"5\",\"0\",\"PrimaryOnly\",,,\"False\",\"T\",\"EveryTick\")","v":2792.25},1.4345915897068053E-3,{"$f":"RTD(\"cqg.rtd\",,\"StudyData\", \"Close(\"&$D$12&\") when LocalYear(\"&$D$12&\")=\"&$D$5&\" and localMonth(\"&$D$12&\") =\"&$E$5&\" and LocalDay(\"&$D$12&\")=\"&$F$5&\" and Barix(\"&$D$12&\",reference:=StartOfSession)=\"&A37&\"\", \"Bar\", \"\", \"Close\",\"5\",\"0\",\"PrimaryOnly\",,,\"False\",\"T\",\"EveryTick\")","v":2790.75},1.4353637750067283E-3,{"$f":"RTD(\"cqg.rtd\",,\"StudyData\", \"Close(\"&$D$12&\") when LocalYear(\"&$D$12&\")=\"&$D$6&\" and localMonth(\"&$D$12&\") =\"&$E$6&\" and LocalDay(\"&$D$12&\")=\"&$F$6&\" and Barix(\"&$D$12&\",reference:=StartOfSession)=\"&A37&\"\", \"Bar\", \"\", \"Close\",\"5\",\"0\",\"PrimaryOnly\",,,\"False\",\"T\",\"EveryTick\")","v":2793},3.7735849056603774E-3,{"$f":"RTD(\"cqg.rtd\",,\"StudyData\", \"Close(\"&$D$12&\") when LocalYear(\"&$D$12&\")=\"&$D$7&\" and localMonth(\"&$D$12&\") =\"&$E$7&\" and LocalDay(\"&$D$12&\")=\"&$F$7&\" and Barix(\"&$D$12&\",reference:=StartOfSession)=\"&A37&\"\", \"Bar\", \"\", \"Close\",\"5\",\"0\",\"PrimaryOnly\",,,\"False\",\"T\",\"EveryTick\")","v":2779.75},1.3508645533141211E-3,{"$f":"RTD(\"cqg.rtd\",,\"StudyData\", \"Close(\"&$D$12&\") when LocalYear(\"&$D$12&\")=\"&$D$8&\" and localMonth(\"&$D$12&\") =\"&$E$8&\" and LocalDay(\"&$D$12&\")=\"&$F$8&\" and Barix(\"&$D$12&\",reference:=StartOfSession)=\"&A37&\"\", \"Bar\", \"\", \"Close\",\"5\",\"0\",\"PrimaryOnly\",,,\"False\",\"T\",\"EveryTick\")","v":2773.5},-9.0057636887608066E-4,{"$f":"RTD(\"cqg.rtd\",,\"StudyData\", \"Close(\"&$D$12&\") when LocalYear(\"&$D$12&\")=\"&$D$9&\" and localMonth(\"&$D$12&\") =\"&$E$9&\" and LocalDay(\"&$D$12&\")=\"&$F$9&\" and Barix(\"&$D$12&\",reference:=StartOfSession)=\"&A37&\"\", \"Bar\", \"\", \"Close\",\"5\",\"0\",\"PrimaryOnly\",,,\"False\",\"T\",\"EveryTick\")","v":2764.75},3.3569225185991654E-3,{"$f":"RTD(\"cqg.rtd\",,\"StudyData\", \"Close(\"&$D$12&\") when LocalYear(\"&$D$12&\")=\"&$D$10&\" and localMonth(\"&$D$12&\") =\"&$E$10&\" and LocalDay(\"&$D$12&\")=\"&$F$10&\" and Barix(\"&$D$12&\",reference:=StartOfSession)=\"&A37&\"\", \"Bar\", \"\", \"Close\",\"5\",\"0\",\"PrimaryOnly\",,,\"False\",\"T\",\"EveryTick\")","v":2746.5},-1.1819256296026911E-3,null,null,null,""]
[37,"11:35:00",-40,{"$f":" RTD(\"cqg.rtd\",,\"StudyData\", $D$12,  \"Tick\", \"FlatTicks=0\", \"Tick\",\"D\",C38,\"PrimaryOnly\")","v":2762.25},null,"EP",null,{"$f":"RTD(\"cqg.rtd\",,\"StudyData\", \"Close(\"&$D$12&\") when LocalYear(\"&$D$12&\")=\"&$D$1&\" and localMonth(\"&$D$12&\") =\"&$E$1&\" and LocalDay(\"&$D$12&\")=\"&$F$1&\" and Barix(\"&$D$12&\",reference:=StartOfSession)=\"&A38&\"\", \"Bar\", \"\", \"Close\",\"5\",\"0\",\"PrimaryOnly\",,,\"False\",\"T\",\"EveryTick\")","v":""},{"$error":"#N/A"},{"$f":"RTD(\"cqg.rtd\",,\"StudyData\", \"Close(\"&$D$12&\") when LocalYear(\"&$D$12&\")=\"&$D$2&\" and localMonth(\"&$D$12&\") =\"&$E$2&\" and LocalDay(\"&$D$12&\")=\"&$F$2&\" and Barix(\"&$D$12&\",reference:=StartOfSession)=\"&A38&\"\", \"Bar\", \"\", \"Close\",\"5\",\"0\",\"PrimaryOnly\",,,\"False\",\"T\",\"EveryTick\")","v":2775.25},-4.7516585978124443E-3,{"$f":"RTD(\"cqg.rtd\",,\"StudyData\", \"Close(\"&$D$12&\") when LocalYear(\"&$D$12&\")=\"&$D$3&\" and localMonth(\"&$D$12&\") =\"&$E$3&\" and LocalDay(\"&$D$12&\")=\"&$F$3&\" and Barix(\"&$D$12&\",reference:=StartOfSession)=\"&A38&\"\", \"Bar\", \"\", \"Close\",\"5\",\"0\",\"PrimaryOnly\",,,\"False\",\"T\",\"EveryTick\")","v":2786.25},2.6088521050737674E-3,{"$f":"RTD(\"cqg.rtd\",,\"StudyData\", \"Close(\"&$D$12&\") when LocalYear(\"&$D$12&\")=\"&$D$4&\" and localMonth(\"&$D$12&\") =\"&$E$4&\" and LocalDay(\"&$D$12&\")=\"&$F$4&\" and Barix(\"&$D$12&\",reference:=StartOfSession)=\"&A38&\"\", \"Bar\", \"\", \"Close\",\"5\",\"0\",\"PrimaryOnly\",,,\"False\",\"T\",\"EveryTick\")","v":2792.25},1.4345915897068053E-3,{"$f":"RTD(\"cqg.rtd\",,\"StudyData\", \"Close(\"&$D$12&\") when LocalYear(\"&$D$12&\")=\"&$D$5&\" and localMonth(\"&$D$12&\") =\"&$E$5&\" and LocalDay(\"&$D$12&\")=\"&$F$5&\" and Barix(\"&$D$12&\",reference:=StartOfSession)=\"&A38&\"\", \"Bar\", \"\", \"Close\",\"5\",\"0\",\"PrimaryOnly\",,,\"False\",\"T\",\"EveryTick\")","v":2791},1.5250740109446488E-3,{"$f":"RTD(\"cqg.rtd\",,\"StudyData\", \"Close(\"&$D$12&\") when LocalYear(\"&$D$12&\")=\"&$D$6&\" and localMonth(\"&$D$12&\") =\"&$E$6&\" and LocalDay(\"&$D$12&\")=\"&$F$6&\" and Barix(\"&$D$12&\",reference:=StartOfSession)=\"&A38&\"\", \"Bar\", \"\", \"Close\",\"5\",\"0\",\"PrimaryOnly\",,,\"False\",\"T\",\"EveryTick\")","v":2792.5},3.5938903863432167E-3,{"$f":"RTD(\"cqg.rtd\",,\"StudyData\", \"Close(\"&$D$12&\") when LocalYear(\"&$D$12&\")=\"&$D$7&\" and localMonth(\"&$D$12&\") =\"&$E$7&\" and LocalDay(\"&$D$12&\")=\"&$F$7&\" and Barix(\"&$D$12&\",reference:=StartOfSession)=\"&A38&\"\", \"Bar\", \"\", \"Close\",\"5\",\"0\",\"PrimaryOnly\",,,\"False\",\"T\",\"EveryTick\")","v":2778.25},8.1051873198847264E-4,{"$f":"RTD(\"cqg.rtd\",,\"StudyData\", \"Close(\"&$D$12&\") when LocalYear(\"&$D$12&\")=\"&$D$8&\" and localMonth(\"&$D$12&\") =\"&$E$8&\" and LocalDay(\"&$D$12&\")=\"&$F$8&\" and Barix(\"&$D$12&\",reference:=StartOfSession)=\"&A38&\"\", \"Bar\", \"\", \"Close\",\"5\",\"0\",\"PrimaryOnly\",,,\"False\",\"T\",\"EveryTick\")","v":2774.25},-6.3040345821325648E-4,{"$f":"RTD(\"cqg.rtd\",,\"StudyData\", \"Close(\"&$D$12&\") when LocalYear(\"&$D$12&\")=\"&$D$9&\" and localMonth(\"&$D$12&\") =\"&$E$9&\" and LocalDay(\"&$D$12&\")=\"&$F$9&\" and Barix(\"&$D$12&\",reference:=StartOfSession)=\"&A38&\"\", \"Bar\", \"\", \"Close\",\"5\",\"0\",\"PrimaryOnly\",,,\"False\",\"T\",\"EveryTick\")","v":2763.5},2.9032843404100889E-3,{"$f":"RTD(\"cqg.rtd\",,\"StudyData\", \"Close(\"&$D$12&\") when LocalYear(\"&$D$12&\")=\"&$D$10&\" and localMonth(\"&$D$12&\") =\"&$E$10&\" and LocalDay(\"&$D$12&\")=\"&$F$10&\" and Barix(\"&$D$12&\",reference:=StartOfSession)=\"&A38&\"\", \"Bar\", \"\", \"Close\",\"5\",\"0\",\"PrimaryOnly\",,,\"False\",\"T\",\"EveryTick\")","v":2747.5},-8.1825620510955538E-4,null,null,null,""]
[38,"11:40:00",{"$f":"C38+1","v":-39},{"$f":" RTD(\"cqg.rtd\",,\"StudyData\", $D$12,  \"Tick\", \"FlatTicks=0\", \"Tick\",\"D\",C39,\"PrimaryOnly\")","v":2762.5},null,"ENQ",null,{"$f":"RTD(\"cqg.rtd\",,\"StudyData\", \"Close(\"&$D$12&\") when LocalYear(\"&$D$12&\")=\"&$D$1&\" and localMonth(\"&$D$12&\") =\"&$E$1&\" and LocalDay(\"&$D$12&\")=\"&$F$1&\" and Barix(\"&$D$12&\",reference:=StartOfSession)=\"&A39&\"\", \"Bar\", \"\", \"Close\",\"5\",\"0\",\"PrimaryOnly\",,,\"False\",\"T\",\"EveryTick\")","v":""},{"$error":"#N/A"},{"$f":"RTD(\"cqg.rtd\",,\"StudyData\", \"Close(\"&$D$12&\") when LocalYear(\"&$D$12&\")=\"&$D$2&\" and localMonth(\"&$D$12&\") =\"&$E$2&\" and LocalDay(\"&$D$12&\")=\"&$F$2&\" and Barix(\"&$D$12&\",reference:=StartOfSession)=\"&A39&\"\", \"Bar\", \"\", \"Close\",\"5\",\"0\",\"PrimaryOnly\",,,\"False\",\"T\",\"EveryTick\")","v":2775},-4.8413125336202257E-3,{"$f":"RTD(\"cqg.rtd\",,\"StudyData\", \"Close(\"&$D$12&\") when LocalYear(\"&$D$12&\")=\"&$D$3&\" and localMonth(\"&$D$12&\") =\"&$E$3&\" and LocalDay(\"&$D$12&\")=\"&$F$3&\" and Barix(\"&$D$12&\",reference:=StartOfSession)=\"&A39&\"\", \"Bar\", \"\", \"Close\",\"5\",\"0\",\"PrimaryOnly\",,,\"False\",\"T\",\"EveryTick\")","v":2786.25},2.6088521050737674E-3,{"$f":"RTD(\"cqg.rtd\",,\"StudyData\", \"Close(\"&$D$12&\") when LocalYear(\"&$D$12&\")=\"&$D$4&\" and localMonth(\"&$D$12&\") =\"&$E$4&\" and LocalDay(\"&$D$12&\")=\"&$F$4&\" and Barix(\"&$D$12&\",reference:=StartOfSession)=\"&A39&\"\", \"Bar\", \"\", \"Close\",\"5\",\"0\",\"PrimaryOnly\",,,\"False\",\"T\",\"EveryTick\")","v":2792.75},1.613915538420156E-3,{"$f":"RTD(\"cqg.rtd\",,\"StudyData\", \"Close(\"&$D$12&\") when LocalYear(\"&$D$12&\")=\"&$D$5&\" and localMonth(\"&$D$12&\") =\"&$E$5&\" and LocalDay(\"&$D$12&\")=\"&$F$5&\" and Barix(\"&$D$12&\",reference:=StartOfSession)=\"&A39&\"\", \"Bar\", \"\", \"Close\",\"5\",\"0\",\"PrimaryOnly\",,,\"False\",\"T\",\"EveryTick\")","v":2790.5},1.3456535390688076E-3,{"$f":"RTD(\"cqg.rtd\",,\"StudyData\", \"Close(\"&$D$12&\") when LocalYear(\"&$D$12&\")=\"&$D$6&\" and localMonth(\"&$D$12&\") =\"&$E$6&\" and LocalDay(\"&$D$12&\")=\"&$F$6&\" and Barix(\"&$D$12&\",reference:=StartOfSession)=\"&A39&\"\", \"Bar\", \"\", \"Close\",\"5\",\"0\",\"PrimaryOnly\",,,\"False\",\"T\",\"EveryTick\")","v":2792},3.4141958670260556E-3,{"$f":"RTD(\"cqg.rtd\",,\"StudyData\", \"Close(\"&$D$12&\") when LocalYear(\"&$D$12&\")=\"&$D$7&\" and localMonth(\"&$D$12&\") =\"&$E$7&\" and LocalDay(\"&$D$12&\")=\"&$F$7&\" and Barix(\"&$D$12&\",reference:=StartOfSession)=\"&A39&\"\", \"Bar\", \"\", \"Close\",\"5\",\"0\",\"PrimaryOnly\",,,\"False\",\"T\",\"EveryTick\")","v":2778.25},8.1051873198847264E-4,{"$f":"RTD(\"cqg.rtd\",,\"StudyData\", \"Close(\"&$D$12&\") when LocalYear(\"&$D$12&\")=\"&$D$8&\" and localMonth(\"&$D$12&\") =\"&$E$8&\" and LocalDay(\"&$D$12&\")=\"&$F$8&\" and Barix(\"&$D$12&\",reference:=StartOfSession)=\"&A39&\"\", \"Bar\", \"\", \"Close\",\"5\",\"0\",\"PrimaryOnly\",,,\"False\",\"T\",\"EveryTick\")","v":2773.25},-9.9063400576368879E-4,{"$f":"RTD(\"cqg.rtd\",,\"StudyData\", \"Close(\"&$D$12&\") when LocalYear(\"&$D$12&\")=\"&$D$9&\" and localMonth(\"&$D$12&\") =\"&$E$9&\" and LocalDay(\"&$D$12&\")=\"&$F$9&\" and Barix(\"&$D$12&\",reference:=StartOfSession)=\"&A39&\"\", \"Bar\", \"\", \"Close\",\"5\",\"0\",\"PrimaryOnly\",,,\"False\",\"T\",\"EveryTick\")","v":2764.25},3.1754672473235349E-3,{"$f":"RTD(\"cqg.rtd\",,\"StudyData\", \"Close(\"&$D$12&\") when LocalYear(\"&$D$12&\")=\"&$D$10&\" and localMonth(\"&$D$12&\") =\"&$E$10&\" and LocalDay(\"&$D$12&\")=\"&$F$10&\" and Barix(\"&$D$12&\",reference:=StartOfSession)=\"&A39&\"\", \"Bar\", \"\", \"Close\",\"5\",\"0\",\"PrimaryOnly\",,,\"False\",\"T\",\"EveryTick\")","v":2748.75},-3.6366942449313574E-4,null,null,null,""]
[39,"11:45:00",{"$f":"C39+1","v":-38},{"$f":" RTD(\"cqg.rtd\",,\"StudyData\", $D$12,  \"Tick\", \"FlatTicks=0\", \"Tick\",\"D\",C40,\"PrimaryOnly\")","v":2762.25},null,"YM",null,{"$f":"RTD(\"cqg.rtd\",,\"StudyData\", \"Close(\"&$D$12&\") when LocalYear(\"&$D$12&\")=\"&$D$1&\" and localMonth(\"&$D$12&\") =\"&$E$1&\" and LocalDay(\"&$D$12&\")=\"&$F$1&\" and Barix(\"&$D$12&\",reference:=StartOfSession)=\"&A40&\"\", \"Bar\", \"\", \"Close\",\"5\",\"0\",\"PrimaryOnly\",,,\"False\",\"T\",\"EveryTick\")","v":""},{"$error":"#N/A"},{"$f":"RTD(\"cqg.rtd\",,\"StudyData\", \"Close(\"&$D$12&\") when LocalYear(\"&$D$12&\")=\"&$D$2&\" and localMonth(\"&$D$12&\") =\"&$E$2&\" and LocalDay(\"&$D$12&\")=\"&$F$2&\" and Barix(\"&$D$12&\",reference:=StartOfSession)=\"&A40&\"\", \"Bar\", \"\", \"Close\",\"5\",\"0\",\"PrimaryOnly\",,,\"False\",\"T\",\"EveryTick\")","v":2775.75},-4.5723507261968797E-3,{"$f":"RTD(\"cqg.rtd\",,\"StudyData\", \"Close(\"&$D$12&\") when LocalYear(\"&$D$12&\")=\"&$D$3&\" and localMonth(\"&$D$12&\") =\"&$E$3&\" and LocalDay(\"&$D$12&\")=\"&$F$3&\" and Barix(\"&$D$12&\",reference:=StartOfSession)=\"&A40&\"\", \"Bar\", \"\", \"Close\",\"5\",\"0\",\"PrimaryOnly\",,,\"False\",\"T\",\"EveryTick\")","v":2786},2.5188916876574307E-3,{"$f":"RTD(\"cqg.rtd\",,\"StudyData\", \"Close(\"&$D$12&\") when LocalYear(\"&$D$12&\")=\"&$D$4&\" and localMonth(\"&$D$12&\") =\"&$E$4&\" and LocalDay(\"&$D$12&\")=\"&$F$4&\" and Barix(\"&$D$12&\",reference:=StartOfSession)=\"&A40&\"\", \"Bar\", \"\", \"Close\",\"5\",\"0\",\"PrimaryOnly\",,,\"False\",\"T\",\"EveryTick\")","v":2792.5},1.5242535640634808E-3,{"$f":"RTD(\"cqg.rtd\",,\"StudyData\", \"Close(\"&$D$12&\") when LocalYear(\"&$D$12&\")=\"&$D$5&\" and localMonth(\"&$D$12&\") =\"&$E$5&\" and LocalDay(\"&$D$12&\")=\"&$F$5&\" and Barix(\"&$D$12&\",reference:=StartOfSession)=\"&A40&\"\", \"Bar\", \"\", \"Close\",\"5\",\"0\",\"PrimaryOnly\",,,\"False\",\"T\",\"EveryTick\")","v":2791},1.5250740109446488E-3,{"$f":"RTD(\"cqg.rtd\",,\"StudyData\", \"Close(\"&$D$12&\") when LocalYear(\"&$D$12&\")=\"&$D$6&\" and localMonth(\"&$D$12&\") =\"&$E$6&\" and LocalDay(\"&$D$12&\")=\"&$F$6&\" and Barix(\"&$D$12&\",reference:=StartOfSession)=\"&A40&\"\", \"Bar\", \"\", \"Close\",\"5\",\"0\",\"PrimaryOnly\",,,\"False\",\"T\",\"EveryTick\")","v":2792.25},3.504043126684636E-3,{"$f":"RTD(\"cqg.rtd\",,\"StudyData\", \"Close(\"&$D$12&\") when LocalYear(\"&$D$12&\")=\"&$D$7&\" and localMonth(\"&$D$12&\") =\"&$E$7&\" and LocalDay(\"&$D$12&\")=\"&$F$7&\" and Barix(\"&$D$12&\",reference:=StartOfSession)=\"&A40&\"\", \"Bar\", \"\", \"Close\",\"5\",\"0\",\"PrimaryOnly\",,,\"False\",\"T\",\"EveryTick\")","v":2778.25},8.1051873198847264E-4,{"$f":"RTD(\"cqg.rtd\",,\"StudyData\", \"Close(\"&$D$12&\") when LocalYear(\"&$D$12&\")=\"&$D$8&\" and localMonth(\"&$D$12&\") =\"&$E$8&\" and LocalDay(\"&$D$12&\")=\"&$F$8&\" and Barix(\"&$D$12&\",reference:=StartOfSession)=\"&A40&\"\", \"Bar\", \"\", \"Close\",\"5\",\"0\",\"PrimaryOnly\",,,\"False\",\"T\",\"EveryTick\")","v":2771.25},-1.7110951008645534E-3,{"$f":"RTD(\"cqg.rtd\",,\"StudyData\", \"Close(\"&$D$12&\") when LocalYear(\"&$D$12&\")=\"&$D$9&\" and localMonth(\"&$D$12&\") =\"&$E$9&\" and LocalDay(\"&$D$12&\")=\"&$F$9&\" and Barix(\"&$D$12&\",reference:=StartOfSession)=\"&A40&\"\", \"Bar\", \"\", \"Close\",\"5\",\"0\",\"PrimaryOnly\",,,\"False\",\"T\",\"EveryTick\")","v":2763.5},2.9032843404100889E-3,{"$f":"RTD(\"cqg.rtd\",,\"StudyData\", \"Close(\"&$D$12&\") when LocalYear(\"&$D$12&\")=\"&$D$10&\" and localMonth(\"&$D$12&\") =\"&$E$10&\" and LocalDay(\"&$D$12&\")=\"&$F$10&\" and Barix(\"&$D$12&\",reference:=StartOfSession)=\"&A40&\"\", \"Bar\", \"\", \"Close\",\"5\",\"0\",\"PrimaryOnly\",,,\"False\",\"T\",\"EveryTick\")","v":2747},-1.0000909173561233E-3,null,null,null,""]
[40,"11:50:00",-37,{"$f":" RTD(\"cqg.rtd\",,\"StudyData\", $D$12,  \"Tick\", \"FlatTicks=0\", \"Tick\",\"D\",C41,\"PrimaryOnly\")","v":2762.5},null,"RTY",null,{"$f":"RTD(\"cqg.rtd\",,\"StudyData\", \"Close(\"&$D$12&\") when LocalYear(\"&$D$12&\")=\"&$D$1&\" and localMonth(\"&$D$12&\") =\"&$E$1&\" and LocalDay(\"&$D$12&\")=\"&$F$1&\" and Barix(\"&$D$12&\",reference:=StartOfSession)=\"&A41&\"\", \"Bar\", \"\", \"Close\",\"5\",\"0\",\"PrimaryOnly\",,,\"False\",\"T\",\"EveryTick\")","v":""},{"$error":"#N/A"},{"$f":"RTD(\"cqg.rtd\",,\"StudyData\", \"Close(\"&$D$12&\") when LocalYear(\"&$D$12&\")=\"&$D$2&\" and localMonth(\"&$D$12&\") =\"&$E$2&\" and LocalDay(\"&$D$12&\")=\"&$F$2&\" and Barix(\"&$D$12&\",reference:=StartOfSession)=\"&A41&\"\", \"Bar\", \"\", \"Close\",\"5\",\"0\",\"PrimaryOnly\",,,\"False\",\"T\",\"EveryTick\")","v":2776.25},-4.3930428545813161E-3,{"$f":"RTD(\"cqg.rtd\",,\"StudyData\", \"Close(\"&$D$12&\") when LocalYear(\"&$D$12&\")=\"&$D$3&\" and localMonth(\"&$D$12&\") =\"&$E$3&\" and LocalDay(\"&$D$12&\")=\"&$F$3&\" and Barix(\"&$D$12&\",reference:=StartOfSession)=\"&A41&\"\", \"Bar\", \"\", \"Close\",\"5\",\"0\",\"PrimaryOnly\",,,\"False\",\"T\",\"EveryTick\")","v":2786.25},2.6088521050737674E-3,{"$f":"RTD(\"cqg.rtd\",,\"StudyData\", \"Close(\"&$D$12&\") when LocalYear(\"&$D$12&\")=\"&$D$4&\" and localMonth(\"&$D$12&\") =\"&$E$4&\" and LocalDay(\"&$D$12&\")=\"&$F$4&\" and Barix(\"&$D$12&\",reference:=StartOfSession)=\"&A41&\"\", \"Bar\", \"\", \"Close\",\"5\",\"0\",\"PrimaryOnly\",,,\"False\",\"T\",\"EveryTick\")","v":2791.75},1.2552676409934547E-3,{"$f":"RTD(\"cqg.rtd\",,\"StudyData\", \"Close(\"&$D$12&\") when LocalYear(\"&$D$12&\")=\"&$D$5&\" and localMonth(\"&$D$12&\") =\"&$E$5&\" and LocalDay(\"&$D$12&\")=\"&$F$5&\" and Barix(\"&$D$12&\",reference:=StartOfSession)=\"&A41&\"\", \"Bar\", \"\", \"Close\",\"5\",\"0\",\"PrimaryOnly\",,,\"False\",\"T\",\"EveryTick\")","v":2791},1.5250740109446488E-3,{"$f":"RTD(\"cqg.rtd\",,\"StudyData\", \"Close(\"&$D$12&\") when LocalYear(\"&$D$12&\")=\"&$D$6&\" and localMonth(\"&$D$12&\") =\"&$E$6&\" and LocalDay(\"&$D$12&\")=\"&$F$6&\" and Barix(\"&$D$12&\",reference:=StartOfSession)=\"&A41&\"\", \"Bar\", \"\", \"Close\",\"5\",\"0\",\"PrimaryOnly\",,,\"False\",\"T\",\"EveryTick\")","v":2793},3.7735849056603774E-3,{"$f":"RTD(\"cqg.rtd\",,\"StudyData\", \"Close(\"&$D$12&\") when LocalYear(\"&$D$12&\")=\"&$D$7&\" and localMonth(\"&$D$12&\") =\"&$E$7&\" and LocalDay(\"&$D$12&\")=\"&$F$7&\" and Barix(\"&$D$12&\",reference:=StartOfSession)=\"&A41&\"\", \"Bar\", \"\", \"Close\",\"5\",\"0\",\"PrimaryOnly\",,,\"False\",\"T\",\"EveryTick\")","v":2779},1.0806916426512969E-3,{"$f":"RTD(\"cqg.rtd\",,\"StudyData\", \"Close(\"&$D$12&\") when LocalYear(\"&$D$12&\")=\"&$D$8&\" and localMonth(\"&$D$12&\") =\"&$E$8&\" and LocalDay(\"&$D$12&\")=\"&$F$8&\" and Barix(\"&$D$12&\",reference:=StartOfSession)=\"&A41&\"\", \"Bar\", \"\", \"Close\",\"5\",\"0\",\"PrimaryOnly\",,,\"False\",\"T\",\"EveryTick\")","v":2772.25},-1.3508645533141211E-3,{"$f":"RTD(\"cqg.rtd\",,\"StudyData\", \"Close(\"&$D$12&\") when LocalYear(\"&$D$12&\")=\"&$D$9&\" and localMonth(\"&$D$12&\") =\"&$E$9&\" and LocalDay(\"&$D$12&\")=\"&$F$9&\" and Barix(\"&$D$12&\",reference:=StartOfSession)=\"&A41&\"\", \"Bar\", \"\", \"Close\",\"5\",\"0\",\"PrimaryOnly\",,,\"False\",\"T\",\"EveryTick\")","v":2763.5},2.9032843404100889E-3,{"$f":"RTD(\"cqg.rtd\",,\"StudyData\", \"Close(\"&$D$12&\") when LocalYear(\"&$D$12&\")=\"&$D$10&\" and localMonth(\"&$D$12&\") =\"&$E$10&\" and LocalDay(\"&$D$12&\")=\"&$F$10&\" and Barix(\"&$D$12&\",reference:=StartOfSession)=\"&A41&\"\", \"Bar\", \"\", \"Close\",\"5\",\"0\",\"PrimaryOnly\",,,\"False\",\"T\",\"EveryTick\")","v":2748.25},-5.4550413673970359E-4,null,null,null,""]
[41,"11:55:00",-36,{"$f":" RTD(\"cqg.rtd\",,\"StudyData\", $D$12,  \"Tick\", \"FlatTicks=0\", \"Tick\",\"D\",C42,\"PrimaryOnly\")","v":2762.25},null,"EMD",null,{"$f":"RTD(\"cqg.rtd\",,\"StudyData\", \"Close(\"&$D$12&\") when LocalYear(\"&$D$12&\")=\"&$D$1&\" and localMonth(\"&$D$12&\") =\"&$E$1&\" and LocalDay(\"&$D$12&\")=\"&$F$1&\" and Barix(\"&$D$12&\",reference:=StartOfSession)=\"&A42&\"\", \"Bar\", \"\", \"Close\",\"5\",\"0\",\"PrimaryOnly\",,,\"False\",\"T\",\"EveryTick\")","v":""},{"$error":"#N/A"},{"$f":"RTD(\"cqg.rtd\",,\"StudyData\", \"Close(\"&$D$12&\") when LocalYear(\"&$D$12&\")=\"&$D$2&\" and localMonth(\"&$D$12&\") =\"&$E$2&\" and LocalDay(\"&$D$12&\")=\"&$F$2&\" and Barix(\"&$D$12&\",reference:=StartOfSession)=\"&A42&\"\", \"Bar\", \"\", \"Close\",\"5\",\"0\",\"PrimaryOnly\",,,\"False\",\"T\",\"EveryTick\")","v":2777.5},-3.9447731755424065E-3,{"$f":"RTD(\"cqg.rtd\",,\"StudyData\", \"Close(\"&$D$12&\") when LocalYear(\"&$D$12&\")=\"&$D$3&\" and localMonth(\"&$D$12&\") =\"&$E$3&\" and LocalDay(\"&$D$12&\")=\"&$F$3&\" and Barix(\"&$D$12&\",reference:=StartOfSession)=\"&A42&\"\", \"Bar\", \"\", \"Close\",\"5\",\"0\",\"PrimaryOnly\",,,\"False\",\"T\",\"EveryTick\")","v":2785.25},2.2490104354084203E-3,{"$f":"RTD(\"cqg.rtd\",,\"StudyData\", \"Close(\"&$D$12&\") when LocalYear(\"&$D$12&\")=\"&$D$4&\" and localMonth(\"&$D$12&\") =\"&$E$4&\" and LocalDay(\"&$D$12&\")=\"&$F$4&\" and Barix(\"&$D$12&\",reference:=StartOfSession)=\"&A42&\"\", \"Bar\", \"\", \"Close\",\"5\",\"0\",\"PrimaryOnly\",,,\"False\",\"T\",\"EveryTick\")","v":2791},9.862817179234287E-4,{"$f":"RTD(\"cqg.rtd\",,\"StudyData\", \"Close(\"&$D$12&\") when LocalYear(\"&$D$12&\")=\"&$D$5&\" and localMonth(\"&$D$12&\") =\"&$E$5&\" and LocalDay(\"&$D$12&\")=\"&$F$5&\" and Barix(\"&$D$12&\",reference:=StartOfSession)=\"&A42&\"\", \"Bar\", \"\", \"Close\",\"5\",\"0\",\"PrimaryOnly\",,,\"False\",\"T\",\"EveryTick\")","v":2791.25},1.6147842468825693E-3,{"$f":"RTD(\"cqg.rtd\",,\"StudyData\", \"Close(\"&$D$12&\") when LocalYear(\"&$D$12&\")=\"&$D$6&\" and localMonth(\"&$D$12&\") =\"&$E$6&\" and LocalDay(\"&$D$12&\")=\"&$F$6&\" and Barix(\"&$D$12&\",reference:=StartOfSession)=\"&A42&\"\", \"Bar\", \"\", \"Close\",\"5\",\"0\",\"PrimaryOnly\",,,\"False\",\"T\",\"EveryTick\")","v":2793},3.7735849056603774E-3,{"$f":"RTD(\"cqg.rtd\",,\"StudyData\", \"Close(\"&$D$12&\") when LocalYear(\"&$D$12&\")=\"&$D$7&\" and localMonth(\"&$D$12&\") =\"&$E$7&\" and LocalDay(\"&$D$12&\")=\"&$F$7&\" and Barix(\"&$D$12&\",reference:=StartOfSession)=\"&A42&\"\", \"Bar\", \"\", \"Close\",\"5\",\"0\",\"PrimaryOnly\",,,\"False\",\"T\",\"EveryTick\")","v":2779},1.0806916426512969E-3,{"$f":"RTD(\"cqg.rtd\",,\"StudyData\", \"Close(\"&$D$12&\") when LocalYear(\"&$D$12&\")=\"&$D$8&\" and localMonth(\"&$D$12&\") =\"&$E$8&\" and LocalDay(\"&$D$12&\")=\"&$F$8&\" and Barix(\"&$D$12&\",reference:=StartOfSession)=\"&A42&\"\", \"Bar\", \"\", \"Close\",\"5\",\"0\",\"PrimaryOnly\",,,\"False\",\"T\",\"EveryTick\")","v":2773.25},-9.9063400576368879E-4,{"$f":"RTD(\"cqg.rtd\",,\"StudyData\", \"Close(\"&$D$12&\") when LocalYear(\"&$D$12&\")=\"&$D$9&\" and localMonth(\"&$D$12&\") =\"&$E$9&\" and LocalDay(\"&$D$12&\")=\"&$F$9&\" and Barix(\"&$D$12&\",reference:=StartOfSession)=\"&A42&\"\", \"Bar\", \"\", \"Close\",\"5\",\"0\",\"PrimaryOnly\",,,\"False\",\"T\",\"EveryTick\")","v":2764.25},3.1754672473235349E-3,{"$f":"RTD(\"cqg.rtd\",,\"StudyData\", \"Close(\"&$D$12&\") when LocalYear(\"&$D$12&\")=\"&$D$10&\" and localMonth(\"&$D$12&\") =\"&$E$10&\" and LocalDay(\"&$D$12&\")=\"&$F$10&\" and Barix(\"&$D$12&\",reference:=StartOfSession)=\"&A42&\"\", \"Bar\", \"\", \"Close\",\"5\",\"0\",\"PrimaryOnly\",,,\"False\",\"T\",\"EveryTick\")","v":2748.25},-5.4550413673970359E-4,null,null,null,""]
[42,"12:00:00",-35,{"$f":" RTD(\"cqg.rtd\",,\"StudyData\", $D$12,  \"Tick\", \"FlatTicks=0\", \"Tick\",\"D\",C43,\"PrimaryOnly\")","v":2762.5},null,"FT5",null,{"$f":"RTD(\"cqg.rtd\",,\"StudyData\", \"Close(\"&$D$12&\") when LocalYear(\"&$D$12&\")=\"&$D$1&\" and localMonth(\"&$D$12&\") =\"&$E$1&\" and LocalDay(\"&$D$12&\")=\"&$F$1&\" and Barix(\"&$D$12&\",reference:=StartOfSession)=\"&A43&\"\", \"Bar\", \"\", \"Close\",\"5\",\"0\",\"PrimaryOnly\",,,\"False\",\"T\",\"EveryTick\")","v":""},{"$error":"#N/A"},{"$f":"RTD(\"cqg.rtd\",,\"StudyData\", \"Close(\"&$D$12&\") when LocalYear(\"&$D$12&\")=\"&$D$2&\" and localMonth(\"&$D$12&\") =\"&$E$2&\" and LocalDay(\"&$D$12&\")=\"&$F$2&\" and Barix(\"&$D$12&\",reference:=StartOfSession)=\"&A43&\"\", \"Bar\", \"\", \"Close\",\"5\",\"0\",\"PrimaryOnly\",,,\"False\",\"T\",\"EveryTick\")","v":2777.75},-3.8551192397346242E-3,{"$f":"RTD(\"cqg.rtd\",,\"StudyData\", \"Close(\"&$D$12&\") when LocalYear(\"&$D$12&\")=\"&$D$3&\" and localMonth(\"&$D$12&\") =\"&$E$3&\" and LocalDay(\"&$D$12&\")=\"&$F$3&\" and Barix(\"&$D$12&\",reference:=StartOfSession)=\"&A43&\"\", \"Bar\", \"\", \"Close\",\"5\",\"0\",\"PrimaryOnly\",,,\"False\",\"T\",\"EveryTick\")","v":2785.75},2.4289312702410939E-3,{"$f":"RTD(\"cqg.rtd\",,\"StudyData\", \"Close(\"&$D$12&\") when LocalYear(\"&$D$12&\")=\"&$D$4&\" and localMonth(\"&$D$12&\") =\"&$E$4&\" and LocalDay(\"&$D$12&\")=\"&$F$4&\" and Barix(\"&$D$12&\",reference:=StartOfSession)=\"&A43&\"\", \"Bar\", \"\", \"Close\",\"5\",\"0\",\"PrimaryOnly\",,,\"False\",\"T\",\"EveryTick\")","v":2791.25},1.0759436922801041E-3,{"$f":"RTD(\"cqg.rtd\",,\"StudyData\", \"Close(\"&$D$12&\") when LocalYear(\"&$D$12&\")=\"&$D$5&\" and localMonth(\"&$D$12&\") =\"&$E$5&\" and LocalDay(\"&$D$12&\")=\"&$F$5&\" and Barix(\"&$D$12&\",reference:=StartOfSession)=\"&A43&\"\", \"Bar\", \"\", \"Close\",\"5\",\"0\",\"PrimaryOnly\",,,\"False\",\"T\",\"EveryTick\")","v":2791.5},1.7044944828204897E-3,{"$f":"RTD(\"cqg.rtd\",,\"StudyData\", \"Close(\"&$D$12&\") when LocalYear(\"&$D$12&\")=\"&$D$6&\" and localMonth(\"&$D$12&\") =\"&$E$6&\" and LocalDay(\"&$D$12&\")=\"&$F$6&\" and Barix(\"&$D$12&\",reference:=StartOfSession)=\"&A43&\"\", \"Bar\", \"\", \"Close\",\"5\",\"0\",\"PrimaryOnly\",,,\"False\",\"T\",\"EveryTick\")","v":2792},3.4141958670260556E-3,{"$f":"RTD(\"cqg.rtd\",,\"StudyData\", \"Close(\"&$D$12&\") when LocalYear(\"&$D$12&\")=\"&$D$7&\" and localMonth(\"&$D$12&\") =\"&$E$7&\" and LocalDay(\"&$D$12&\")=\"&$F$7&\" and Barix(\"&$D$12&\",reference:=StartOfSession)=\"&A43&\"\", \"Bar\", \"\", \"Close\",\"5\",\"0\",\"PrimaryOnly\",,,\"False\",\"T\",\"EveryTick\")","v":2777.5},5.4034582132564846E-4,{"$f":"RTD(\"cqg.rtd\",,\"StudyData\", \"Close(\"&$D$12&\") when LocalYear(\"&$D$12&\")=\"&$D$8&\" and localMonth(\"&$D$12&\") =\"&$E$8&\" and LocalDay(\"&$D$12&\")=\"&$F$8&\" and Barix(\"&$D$12&\",reference:=StartOfSession)=\"&A43&\"\", \"Bar\", \"\", \"Close\",\"5\",\"0\",\"PrimaryOnly\",,,\"False\",\"T\",\"EveryTick\")","v":2773.75},-8.1051873198847264E-4,{"$f":"RTD(\"cqg.rtd\",,\"StudyData\", \"Close(\"&$D$12&\") when LocalYear(\"&$D$12&\")=\"&$D$9&\" and localMonth(\"&$D$12&\") =\"&$E$9&\" and LocalDay(\"&$D$12&\")=\"&$F$9&\" and Barix(\"&$D$12&\",reference:=StartOfSession)=\"&A43&\"\", \"Bar\", \"\", \"Close\",\"5\",\"0\",\"PrimaryOnly\",,,\"False\",\"T\",\"EveryTick\")","v":2764.5},3.2661948829613499E-3,{"$f":"RTD(\"cqg.rtd\",,\"StudyData\", \"Close(\"&$D$12&\") when LocalYear(\"&$D$12&\")=\"&$D$10&\" and localMonth(\"&$D$12&\") =\"&$E$10&\" and LocalDay(\"&$D$12&\")=\"&$F$10&\" and Barix(\"&$D$12&\",reference:=StartOfSession)=\"&A43&\"\", \"Bar\", \"\", \"Close\",\"5\",\"0\",\"PrimaryOnly\",,,\"False\",\"T\",\"EveryTick\")","v":2749},-2.7275206836985179E-4,null,null,null,""]
[43,"12:05:00",-34,{"$f":" RTD(\"cqg.rtd\",,\"StudyData\", $D$12,  \"Tick\", \"FlatTicks=0\", \"Tick\",\"D\",C44,\"PrimaryOnly\")","v":2762.25},null,"BTC",null,{"$f":"RTD(\"cqg.rtd\",,\"StudyData\", \"Close(\"&$D$12&\") when LocalYear(\"&$D$12&\")=\"&$D$1&\" and localMonth(\"&$D$12&\") =\"&$E$1&\" and LocalDay(\"&$D$12&\")=\"&$F$1&\" and Barix(\"&$D$12&\",reference:=StartOfSession)=\"&A44&\"\", \"Bar\", \"\", \"Close\",\"5\",\"0\",\"PrimaryOnly\",,,\"False\",\"T\",\"EveryTick\")","v":""},{"$error":"#N/A"},{"$f":"RTD(\"cqg.rtd\",,\"StudyData\", \"Close(\"&$D$12&\") when LocalYear(\"&$D$12&\")=\"&$D$2&\" and localMonth(\"&$D$12&\") =\"&$E$2&\" and LocalDay(\"&$D$12&\")=\"&$F$2&\" and Barix(\"&$D$12&\",reference:=StartOfSession)=\"&A44&\"\", \"Bar\", \"\", \"Close\",\"5\",\"0\",\"PrimaryOnly\",,,\"False\",\"T\",\"EveryTick\")","v":2777.75},-3.8551192397346242E-3,{"$f":"RTD(\"cqg.rtd\",,\"StudyData\", \"Close(\"&$D$12&\") when LocalYear(\"&$D$12&\")=\"&$D$3&\" and localMonth(\"&$D$12&\") =\"&$E$3&\" and LocalDay(\"&$D$12&\")=\"&$F$3&\" and Barix(\"&$D$12&\",reference:=StartOfSession)=\"&A44&\"\", \"Bar\", \"\", \"Close\",\"5\",\"0\",\"PrimaryOnly\",,,\"False\",\"T\",\"EveryTick\")","v":2787.5},3.0586541921554518E-3,{"$f":"RTD(\"cqg.rtd\",,\"StudyData\", \"Close(\"&$D$12&\") when LocalYear(\"&$D$12&\")=\"&$D$4&\" and localMonth(\"&$D$12&\") =\"&$E$4&\" and LocalDay(\"&$D$12&\")=\"&$F$4&\" and Barix(\"&$D$12&\",reference:=StartOfSession)=\"&A44&\"\", \"Bar\", \"\", \"Close\",\"5\",\"0\",\"PrimaryOnly\",,,\"False\",\"T\",\"EveryTick\")","v":2790.75},8.9661974356675339E-4,{"$f":"RTD(\"cqg.rtd\",,\"StudyData\", \"Close(\"&$D$12&\") when LocalYear(\"&$D$12&\")=\"&$D$5&\" and localMonth(\"&$D$12&\") =\"&$E$5&\" and LocalDay(\"&$D$12&\")=\"&$F$5&\" and Barix(\"&$D$12&\",reference:=StartOfSession)=\"&A44&\"\", \"Bar\", \"\", \"Close\",\"5\",\"0\",\"PrimaryOnly\",,,\"False\",\"T\",\"EveryTick\")","v":2791.25},1.6147842468825693E-3,{"$f":"RTD(\"cqg.rtd\",,\"StudyData\", \"Close(\"&$D$12&\") when LocalYear(\"&$D$12&\")=\"&$D$6&\" and localMonth(\"&$D$12&\") =\"&$E$6&\" and LocalDay(\"&$D$12&\")=\"&$F$6&\" and Barix(\"&$D$12&\",reference:=StartOfSession)=\"&A44&\"\", \"Bar\", \"\", \"Close\",\"5\",\"0\",\"PrimaryOnly\",,,\"False\",\"T\",\"EveryTick\")","v":2793.25},3.8634321653189577E-3,{"$f":"RTD(\"cqg.rtd\",,\"StudyData\", \"Close(\"&$D$12&\") when LocalYear(\"&$D$12&\")=\"&$D$7&\" and localMonth(\"&$D$12&\") =\"&$E$7&\" and LocalDay(\"&$D$12&\")=\"&$F$7&\" and Barix(\"&$D$12&\",reference:=StartOfSession)=\"&A44&\"\", \"Bar\", \"\", \"Close\",\"5\",\"0\",\"PrimaryOnly\",,,\"False\",\"T\",\"EveryTick\")","v":2777.5},5.4034582132564846E-4,{"$f":"RTD(\"cqg.rtd\",,\"StudyData\", \"Close(\"&$D$12&\") when LocalYear(\"&$D$12&\")=\"&$D$8&\" and localMonth(\"&$D$12&\") =\"&$E$8&\" and LocalDay(\"&$D$12&\")=\"&$F$8&\" and Barix(\"&$D$12&\",reference:=StartOfSession)=\"&A44&\"\", \"Bar\", \"\", \"Close\",\"5\",\"0\",\"PrimaryOnly\",,,\"False\",\"T\",\"EveryTick\")","v":2772},-1.440922190201729E-3,{"$f":"RTD(\"cqg.rtd\",,\"StudyData\", \"Close(\"&$D$12&\") when LocalYear(\"&$D$12&\")=\"&$D$9&\" and localMonth(\"&$D$12&\") =\"&$E$9&\" and LocalDay(\"&$D$12&\")=\"&$F$9&\" and Barix(\"&$D$12&\",reference:=StartOfSession)=\"&A44&\"\", \"Bar\", \"\", \"Close\",\"5\",\"0\",\"PrimaryOnly\",,,\"False\",\"T\",\"EveryTick\")","v":2765.25},3.5383777898747959E-3,{"$f":"RTD(\"cqg.rtd\",,\"StudyData\", \"Close(\"&$D$12&\") when LocalYear(\"&$D$12&\")=\"&$D$10&\" and localMonth(\"&$D$12&\") =\"&$E$10&\" and LocalDay(\"&$D$12&\")=\"&$F$10&\" and Barix(\"&$D$12&\",reference:=StartOfSession)=\"&A44&\"\", \"Bar\", \"\", \"Close\",\"5\",\"0\",\"PrimaryOnly\",,,\"False\",\"T\",\"EveryTick\")","v":2749.5},-9.0917356123283935E-5,null,null,null,""]
[44,"12:10:00",-33,{"$f":" RTD(\"cqg.rtd\",,\"StudyData\", $D$12,  \"Tick\", \"FlatTicks=0\", \"Tick\",\"D\",C45,\"PrimaryOnly\")","v":2762.5},null,null,null,{"$f":"RTD(\"cqg.rtd\",,\"StudyData\", \"Close(\"&$D$12&\") when LocalYear(\"&$D$12&\")=\"&$D$1&\" and localMonth(\"&$D$12&\") =\"&$E$1&\" and LocalDay(\"&$D$12&\")=\"&$F$1&\" and Barix(\"&$D$12&\",reference:=StartOfSession)=\"&A45&\"\", \"Bar\", \"\", \"Close\",\"5\",\"0\",\"PrimaryOnly\",,,\"False\",\"T\",\"EveryTick\")","v":""},{"$error":"#N/A"},{"$f":"RTD(\"cqg.rtd\",,\"StudyData\", \"Close(\"&$D$12&\") when LocalYear(\"&$D$12&\")=\"&$D$2&\" and localMonth(\"&$D$12&\") =\"&$E$2&\" and LocalDay(\"&$D$12&\")=\"&$F$2&\" and Barix(\"&$D$12&\",reference:=StartOfSession)=\"&A45&\"\", \"Bar\", \"\", \"Close\",\"5\",\"0\",\"PrimaryOnly\",,,\"False\",\"T\",\"EveryTick\")","v":2777.25},-4.0344271113501879E-3,{"$f":"RTD(\"cqg.rtd\",,\"StudyData\", \"Close(\"&$D$12&\") when LocalYear(\"&$D$12&\")=\"&$D$3&\" and localMonth(\"&$D$12&\") =\"&$E$3&\" and LocalDay(\"&$D$12&\")=\"&$F$3&\" and Barix(\"&$D$12&\",reference:=StartOfSession)=\"&A45&\"\", \"Bar\", \"\", \"Close\",\"5\",\"0\",\"PrimaryOnly\",,,\"False\",\"T\",\"EveryTick\")","v":2787.25},2.968693774739115E-3,{"$f":"RTD(\"cqg.rtd\",,\"StudyData\", \"Close(\"&$D$12&\") when LocalYear(\"&$D$12&\")=\"&$D$4&\" and localMonth(\"&$D$12&\") =\"&$E$4&\" and LocalDay(\"&$D$12&\")=\"&$F$4&\" and Barix(\"&$D$12&\",reference:=StartOfSession)=\"&A45&\"\", \"Bar\", \"\", \"Close\",\"5\",\"0\",\"PrimaryOnly\",,,\"False\",\"T\",\"EveryTick\")","v":2790.75},8.9661974356675339E-4,{"$f":"RTD(\"cqg.rtd\",,\"StudyData\", \"Close(\"&$D$12&\") when LocalYear(\"&$D$12&\")=\"&$D$5&\" and localMonth(\"&$D$12&\") =\"&$E$5&\" and LocalDay(\"&$D$12&\")=\"&$F$5&\" and Barix(\"&$D$12&\",reference:=StartOfSession)=\"&A45&\"\", \"Bar\", \"\", \"Close\",\"5\",\"0\",\"PrimaryOnly\",,,\"False\",\"T\",\"EveryTick\")","v":2790.5},1.3456535390688076E-3,{"$f":"RTD(\"cqg.rtd\",,\"StudyData\", \"Close(\"&$D$12&\") when LocalYear(\"&$D$12&\")=\"&$D$6&\" and localMonth(\"&$D$12&\") =\"&$E$6&\" and LocalDay(\"&$D$12&\")=\"&$F$6&\" and Barix(\"&$D$12&\",reference:=StartOfSession)=\"&A45&\"\", \"Bar\", \"\", \"Close\",\"5\",\"0\",\"PrimaryOnly\",,,\"False\",\"T\",\"EveryTick\")","v":2794.25},4.2228212039532795E-3,{"$f":"RTD(\"cqg.rtd\",,\"StudyData\", \"Close(\"&$D$12&\") when LocalYear(\"&$D$12&\")=\"&$D$7&\" and localMonth(\"&$D$12&\") =\"&$E$7&\" and LocalDay(\"&$D$12&\")=\"&$F$7&\" and Barix(\"&$D$12&\",reference:=StartOfSession)=\"&A45&\"\", \"Bar\", \"\", \"Close\",\"5\",\"0\",\"PrimaryOnly\",,,\"False\",\"T\",\"EveryTick\")","v":2777.75},6.3040345821325648E-4,{"$f":"RTD(\"cqg.rtd\",,\"StudyData\", \"Close(\"&$D$12&\") when LocalYear(\"&$D$12&\")=\"&$D$8&\" and localMonth(\"&$D$12&\") =\"&$E$8&\" and LocalDay(\"&$D$12&\")=\"&$F$8&\" and Barix(\"&$D$12&\",reference:=StartOfSession)=\"&A45&\"\", \"Bar\", \"\", \"Close\",\"5\",\"0\",\"PrimaryOnly\",,,\"False\",\"T\",\"EveryTick\")","v":2771.25},-1.7110951008645534E-3,{"$f":"RTD(\"cqg.rtd\",,\"StudyData\", \"Close(\"&$D$12&\") when LocalYear(\"&$D$12&\")=\"&$D$9&\" and localMonth(\"&$D$12&\") =\"&$E$9&\" and LocalDay(\"&$D$12&\")=\"&$F$9&\" and Barix(\"&$D$12&\",reference:=StartOfSession)=\"&A45&\"\", \"Bar\", \"\", \"Close\",\"5\",\"0\",\"PrimaryOnly\",,,\"False\",\"T\",\"EveryTick\")","v":2765.25},3.5383777898747959E-3,{"$f":"RTD(\"cqg.rtd\",,\"StudyData\", \"Close(\"&$D$12&\") when LocalYear(\"&$D$12&\")=\"&$D$10&\" and localMonth(\"&$D$12&\") =\"&$E$10&\" and LocalDay(\"&$D$12&\")=\"&$F$10&\" and Barix(\"&$D$12&\",reference:=StartOfSession)=\"&A45&\"\", \"Bar\", \"\", \"Close\",\"5\",\"0\",\"PrimaryOnly\",,,\"False\",\"T\",\"EveryTick\")","v":2750.75},3.6366942449313574E-4,null,null,null,""]
[45,"12:15:00",-32,{"$f":" RTD(\"cqg.rtd\",,\"StudyData\", $D$12,  \"Tick\", \"FlatTicks=0\", \"Tick\",\"D\",C46,\"PrimaryOnly\")","v":2762.75},null,null,null,{"$f":"RTD(\"cqg.rtd\",,\"StudyData\", \"Close(\"&$D$12&\") when LocalYear(\"&$D$12&\")=\"&$D$1&\" and localMonth(\"&$D$12&\") =\"&$E$1&\" and LocalDay(\"&$D$12&\")=\"&$F$1&\" and Barix(\"&$D$12&\",reference:=StartOfSession)=\"&A46&\"\", \"Bar\", \"\", \"Close\",\"5\",\"0\",\"PrimaryOnly\",,,\"False\",\"T\",\"EveryTick\")","v":""},{"$error":"#N/A"},{"$f":"RTD(\"cqg.rtd\",,\"StudyData\", \"Close(\"&$D$12&\") when LocalYear(\"&$D$12&\")=\"&$D$2&\" and localMonth(\"&$D$12&\") =\"&$E$2&\" and LocalDay(\"&$D$12&\")=\"&$F$2&\" and Barix(\"&$D$12&\",reference:=StartOfSession)=\"&A46&\"\", \"Bar\", \"\", \"Close\",\"5\",\"0\",\"PrimaryOnly\",,,\"False\",\"T\",\"EveryTick\")","v":2778},-3.7654653039268424E-3,{"$f":"RTD(\"cqg.rtd\",,\"StudyData\", \"Close(\"&$D$12&\") when LocalYear(\"&$D$12&\")=\"&$D$3&\" and localMonth(\"&$D$12&\") =\"&$E$3&\" and LocalDay(\"&$D$12&\")=\"&$F$3&\" and Barix(\"&$D$12&\",reference:=StartOfSession)=\"&A46&\"\", \"Bar\", \"\", \"Close\",\"5\",\"0\",\"PrimaryOnly\",,,\"False\",\"T\",\"EveryTick\")","v":2788},3.2385750269881253E-3,{"$f":"RTD(\"cqg.rtd\",,\"StudyData\", \"Close(\"&$D$12&\") when LocalYear(\"&$D$12&\")=\"&$D$4&\" and localMonth(\"&$D$12&\") =\"&$E$4&\" and LocalDay(\"&$D$12&\")=\"&$F$4&\" and Barix(\"&$D$12&\",reference:=StartOfSession)=\"&A46&\"\", \"Bar\", \"\", \"Close\",\"5\",\"0\",\"PrimaryOnly\",,,\"False\",\"T\",\"EveryTick\")","v":2791.25},1.0759436922801041E-3,{"$f":"RTD(\"cqg.rtd\",,\"StudyData\", \"Close(\"&$D$12&\") when LocalYear(\"&$D$12&\")=\"&$D$5&\" and localMonth(\"&$D$12&\") =\"&$E$5&\" and LocalDay(\"&$D$12&\")=\"&$F$5&\" and Barix(\"&$D$12&\",reference:=StartOfSession)=\"&A46&\"\", \"Bar\", \"\", \"Close\",\"5\",\"0\",\"PrimaryOnly\",,,\"False\",\"T\",\"EveryTick\")","v":2789.5},9.8681259531712578E-4,{"$f":"RTD(\"cqg.rtd\",,\"StudyData\", \"Close(\"&$D$12&\") when LocalYear(\"&$D$12&\")=\"&$D$6&\" and localMonth(\"&$D$12&\") =\"&$E$6&\" and LocalDay(\"&$D$12&\")=\"&$F$6&\" and Barix(\"&$D$12&\",reference:=StartOfSession)=\"&A46&\"\", \"Bar\", \"\", \"Close\",\"5\",\"0\",\"PrimaryOnly\",,,\"False\",\"T\",\"EveryTick\")","v":2793.25},3.8634321653189577E-3,{"$f":"RTD(\"cqg.rtd\",,\"StudyData\", \"Close(\"&$D$12&\") when LocalYear(\"&$D$12&\")=\"&$D$7&\" and localMonth(\"&$D$12&\") =\"&$E$7&\" and LocalDay(\"&$D$12&\")=\"&$F$7&\" and Barix(\"&$D$12&\",reference:=StartOfSession)=\"&A46&\"\", \"Bar\", \"\", \"Close\",\"5\",\"0\",\"PrimaryOnly\",,,\"False\",\"T\",\"EveryTick\")","v":2777.5},5.4034582132564846E-4,{"$f":"RTD(\"cqg.rtd\",,\"StudyData\", \"Close(\"&$D$12&\") when LocalYear(\"&$D$12&\")=\"&$D$8&\" and localMonth(\"&$D$12&\") =\"&$E$8&\" and LocalDay(\"&$D$12&\")=\"&$F$8&\" and Barix(\"&$D$12&\",reference:=StartOfSession)=\"&A46&\"\", \"Bar\", \"\", \"Close\",\"5\",\"0\",\"PrimaryOnly\",,,\"False\",\"T\",\"EveryTick\")","v":2770.25},-2.0713256484149855E-3,{"$f":"RTD(\"cqg.rtd\",,\"StudyData\", \"Close(\"&$D$12&\") when LocalYear(\"&$D$12&\")=\"&$D$9&\" and localMonth(\"&$D$12&\") =\"&$E$9&\" and LocalDay(\"&$D$12&\")=\"&$F$9&\" and Barix(\"&$D$12&\",reference:=StartOfSession)=\"&A46&\"\", \"Bar\", \"\", \"Close\",\"5\",\"0\",\"PrimaryOnly\",,,\"False\",\"T\",\"EveryTick\")","v":2765},3.4476501542369804E-3,{"$f":"RTD(\"cqg.rtd\",,\"StudyData\", \"Close(\"&$D$12&\") when LocalYear(\"&$D$12&\")=\"&$D$10&\" and localMonth(\"&$D$12&\") =\"&$E$10&\" and LocalDay(\"&$D$12&\")=\"&$F$10&\" and Barix(\"&$D$12&\",reference:=StartOfSession)=\"&A46&\"\", \"Bar\", \"\", \"Close\",\"5\",\"0\",\"PrimaryOnly\",,,\"False\",\"T\",\"EveryTick\")","v":2751.25},5.4550413673970359E-4,null,null,null,""]
[46,"12:20:00",-31,{"$f":" RTD(\"cqg.rtd\",,\"StudyData\", $D$12,  \"Tick\", \"FlatTicks=0\", \"Tick\",\"D\",C47,\"PrimaryOnly\")","v":2762.5},null,null,null,{"$f":"RTD(\"cqg.rtd\",,\"StudyData\", \"Close(\"&$D$12&\") when LocalYear(\"&$D$12&\")=\"&$D$1&\" and localMonth(\"&$D$12&\") =\"&$E$1&\" and LocalDay(\"&$D$12&\")=\"&$F$1&\" and Barix(\"&$D$12&\",reference:=StartOfSession)=\"&A47&\"\", \"Bar\", \"\", \"Close\",\"5\",\"0\",\"PrimaryOnly\",,,\"False\",\"T\",\"EveryTick\")","v":""},{"$error":"#N/A"},{"$f":"RTD(\"cqg.rtd\",,\"StudyData\", \"Close(\"&$D$12&\") when LocalYear(\"&$D$12&\")=\"&$D$2&\" and localMonth(\"&$D$12&\") =\"&$E$2&\" and LocalDay(\"&$D$12&\")=\"&$F$2&\" and Barix(\"&$D$12&\",reference:=StartOfSession)=\"&A47&\"\", \"Bar\", \"\", \"Close\",\"5\",\"0\",\"PrimaryOnly\",,,\"False\",\"T\",\"EveryTick\")","v":2777.25},-4.0344271113501879E-3,{"$f":"RTD(\"cqg.rtd\",,\"StudyData\", \"Close(\"&$D$12&\") when LocalYear(\"&$D$12&\")=\"&$D$3&\" and localMonth(\"&$D$12&\") =\"&$E$3&\" and LocalDay(\"&$D$12&\")=\"&$F$3&\" and Barix(\"&$D$12&\",reference:=StartOfSession)=\"&A47&\"\", \"Bar\", \"\", \"Close\",\"5\",\"0\",\"PrimaryOnly\",,,\"False\",\"T\",\"EveryTick\")","v":2788.5},3.4184958618207989E-3,{"$f":"RTD(\"cqg.rtd\",,\"StudyData\", \"Close(\"&$D$12&\") when LocalYear(\"&$D$12&\")=\"&$D$4&\" and localMonth(\"&$D$12&\") =\"&$E$4&\" and LocalDay(\"&$D$12&\")=\"&$F$4&\" and Barix(\"&$D$12&\",reference:=StartOfSession)=\"&A47&\"\", \"Bar\", \"\", \"Close\",\"5\",\"0\",\"PrimaryOnly\",,,\"False\",\"T\",\"EveryTick\")","v":2791},9.862817179234287E-4,{"$f":"RTD(\"cqg.rtd\",,\"StudyData\", \"Close(\"&$D$12&\") when LocalYear(\"&$D$12&\")=\"&$D$5&\" and localMonth(\"&$D$12&\") =\"&$E$5&\" and LocalDay(\"&$D$12&\")=\"&$F$5&\" and Barix(\"&$D$12&\",reference:=StartOfSession)=\"&A47&\"\", \"Bar\", \"\", \"Close\",\"5\",\"0\",\"PrimaryOnly\",,,\"False\",\"T\",\"EveryTick\")","v":2790},1.1662330671929667E-3,{"$f":"RTD(\"cqg.rtd\",,\"StudyData\", \"Close(\"&$D$12&\") when LocalYear(\"&$D$12&\")=\"&$D$6&\" and localMonth(\"&$D$12&\") =\"&$E$6&\" and LocalDay(\"&$D$12&\")=\"&$F$6&\" and Barix(\"&$D$12&\",reference:=StartOfSession)=\"&A47&\"\", \"Bar\", \"\", \"Close\",\"5\",\"0\",\"PrimaryOnly\",,,\"False\",\"T\",\"EveryTick\")","v":2792.5},3.5938903863432167E-3,{"$f":"RTD(\"cqg.rtd\",,\"StudyData\", \"Close(\"&$D$12&\") when LocalYear(\"&$D$12&\")=\"&$D$7&\" and localMonth(\"&$D$12&\") =\"&$E$7&\" and LocalDay(\"&$D$12&\")=\"&$F$7&\" and Barix(\"&$D$12&\",reference:=StartOfSession)=\"&A47&\"\", \"Bar\", \"\", \"Close\",\"5\",\"0\",\"PrimaryOnly\",,,\"False\",\"T\",\"EveryTick\")","v":2777.5},5.4034582132564846E-4,{"$f":"RTD(\"cqg.rtd\",,\"StudyData\", \"Close(\"&$D$12&\") when LocalYear(\"&$D$12&\")=\"&$D$8&\" and localMonth(\"&$D$12&\") =\"&$E$8&\" and LocalDay(\"&$D$12&\")=\"&$F$8&\" and Barix(\"&$D$12&\",reference:=StartOfSession)=\"&A47&\"\", \"Bar\", \"\", \"Close\",\"5\",\"0\",\"PrimaryOnly\",,,\"False\",\"T\",\"EveryTick\")","v":2771.5},-1.6210374639769453E-3,{"$f":"RTD(\"cqg.rtd\",,\"StudyData\", \"Close(\"&$D$12&\") when LocalYear(\"&$D$12&\")=\"&$D$9&\" and localMonth(\"&$D$12&\") =\"&$E$9&\" and LocalDay(\"&$D$12&\")=\"&$F$9&\" and Barix(\"&$D$12&\",reference:=StartOfSession)=\"&A47&\"\", \"Bar\", \"\", \"Close\",\"5\",\"0\",\"PrimaryOnly\",,,\"False\",\"T\",\"EveryTick\")","v":2764.5},3.2661948829613499E-3,{"$f":"RTD(\"cqg.rtd\",,\"StudyData\", \"Close(\"&$D$12&\") when LocalYear(\"&$D$12&\")=\"&$D$10&\" and localMonth(\"&$D$12&\") =\"&$E$10&\" and LocalDay(\"&$D$12&\")=\"&$F$10&\" and Barix(\"&$D$12&\",reference:=StartOfSession)=\"&A47&\"\", \"Bar\", \"\", \"Close\",\"5\",\"0\",\"PrimaryOnly\",,,\"False\",\"T\",\"EveryTick\")","v":2751},4.5458678061641969E-4,null,null,null,""]
[47,"12:25:00",-30,{"$f":" RTD(\"cqg.rtd\",,\"StudyData\", $D$12,  \"Tick\", \"FlatTicks=0\", \"Tick\",\"D\",C48,\"PrimaryOnly\")","v":2762.25},null,null,null,{"$f":"RTD(\"cqg.rtd\",,\"StudyData\", \"Close(\"&$D$12&\") when LocalYear(\"&$D$12&\")=\"&$D$1&\" and localMonth(\"&$D$12&\") =\"&$E$1&\" and LocalDay(\"&$D$12&\")=\"&$F$1&\" and Barix(\"&$D$12&\",reference:=StartOfSession)=\"&A48&\"\", \"Bar\", \"\", \"Close\",\"5\",\"0\",\"PrimaryOnly\",,,\"False\",\"T\",\"EveryTick\")","v":""},{"$error":"#N/A"},{"$f":"RTD(\"cqg.rtd\",,\"StudyData\", \"Close(\"&$D$12&\") when LocalYear(\"&$D$12&\")=\"&$D$2&\" and localMonth(\"&$D$12&\") =\"&$E$2&\" and LocalDay(\"&$D$12&\")=\"&$F$2&\" and Barix(\"&$D$12&\",reference:=StartOfSession)=\"&A48&\"\", \"Bar\", \"\", \"Close\",\"5\",\"0\",\"PrimaryOnly\",,,\"False\",\"T\",\"EveryTick\")","v":2777},-4.1240810471579702E-3,{"$f":"RTD(\"cqg.rtd\",,\"StudyData\", \"Close(\"&$D$12&\") when LocalYear(\"&$D$12&\")=\"&$D$3&\" and localMonth(\"&$D$12&\") =\"&$E$3&\" and LocalDay(\"&$D$12&\")=\"&$F$3&\" and Barix(\"&$D$12&\",reference:=StartOfSession)=\"&A48&\"\", \"Bar\", \"\", \"Close\",\"5\",\"0\",\"PrimaryOnly\",,,\"False\",\"T\",\"EveryTick\")","v":2788.75},3.5084562792371357E-3,{"$f":"RTD(\"cqg.rtd\",,\"StudyData\", \"Close(\"&$D$12&\") when LocalYear(\"&$D$12&\")=\"&$D$4&\" and localMonth(\"&$D$12&\") =\"&$E$4&\" and LocalDay(\"&$D$12&\")=\"&$F$4&\" and Barix(\"&$D$12&\",reference:=StartOfSession)=\"&A48&\"\", \"Bar\", \"\", \"Close\",\"5\",\"0\",\"PrimaryOnly\",,,\"False\",\"T\",\"EveryTick\")","v":2791},9.862817179234287E-4,{"$f":"RTD(\"cqg.rtd\",,\"StudyData\", \"Close(\"&$D$12&\") when LocalYear(\"&$D$12&\")=\"&$D$5&\" and localMonth(\"&$D$12&\") =\"&$E$5&\" and LocalDay(\"&$D$12&\")=\"&$F$5&\" and Barix(\"&$D$12&\",reference:=StartOfSession)=\"&A48&\"\", \"Bar\", \"\", \"Close\",\"5\",\"0\",\"PrimaryOnly\",,,\"False\",\"T\",\"EveryTick\")","v":2789.75},1.0765228312550462E-3,{"$f":"RTD(\"cqg.rtd\",,\"StudyData\", \"Close(\"&$D$12&\") when LocalYear(\"&$D$12&\")=\"&$D$6&\" and localMonth(\"&$D$12&\") =\"&$E$6&\" and LocalDay(\"&$D$12&\")=\"&$F$6&\" and Barix(\"&$D$12&\",reference:=StartOfSession)=\"&A48&\"\", \"Bar\", \"\", \"Close\",\"5\",\"0\",\"PrimaryOnly\",,,\"False\",\"T\",\"EveryTick\")","v":2793},3.7735849056603774E-3,{"$f":"RTD(\"cqg.rtd\",,\"StudyData\", \"Close(\"&$D$12&\") when LocalYear(\"&$D$12&\")=\"&$D$7&\" and localMonth(\"&$D$12&\") =\"&$E$7&\" and LocalDay(\"&$D$12&\")=\"&$F$7&\" and Barix(\"&$D$12&\",reference:=StartOfSession)=\"&A48&\"\", \"Bar\", \"\", \"Close\",\"5\",\"0\",\"PrimaryOnly\",,,\"False\",\"T\",\"EveryTick\")","v":2778.75},9.9063400576368879E-4,{"$f":"RTD(\"cqg.rtd\",,\"StudyData\", \"Close(\"&$D$12&\") when LocalYear(\"&$D$12&\")=\"&$D$8&\" and localMonth(\"&$D$12&\") =\"&$E$8&\" and LocalDay(\"&$D$12&\")=\"&$F$8&\" and Barix(\"&$D$12&\",reference:=StartOfSession)=\"&A48&\"\", \"Bar\", \"\", \"Close\",\"5\",\"0\",\"PrimaryOnly\",,,\"False\",\"T\",\"EveryTick\")","v":2768.5},-2.7017291066282422E-3,{"$f":"RTD(\"cqg.rtd\",,\"StudyData\", \"Close(\"&$D$12&\") when LocalYear(\"&$D$12&\")=\"&$D$9&\" and localMonth(\"&$D$12&\") =\"&$E$9&\" and LocalDay(\"&$D$12&\")=\"&$F$9&\" and Barix(\"&$D$12&\",reference:=StartOfSession)=\"&A48&\"\", \"Bar\", \"\", \"Close\",\"5\",\"0\",\"PrimaryOnly\",,,\"False\",\"T\",\"EveryTick\")","v":2765.25},3.5383777898747959E-3,{"$f":"RTD(\"cqg.rtd\",,\"StudyData\", \"Close(\"&$D$12&\") when LocalYear(\"&$D$12&\")=\"&$D$10&\" and localMonth(\"&$D$12&\") =\"&$E$10&\" and LocalDay(\"&$D$12&\")=\"&$F$10&\" and Barix(\"&$D$12&\",reference:=StartOfSession)=\"&A48&\"\", \"Bar\", \"\", \"Close\",\"5\",\"0\",\"PrimaryOnly\",,,\"False\",\"T\",\"EveryTick\")","v":2751},4.5458678061641969E-4,null,null,null,""]
[48,"12:30:00",-29,{"$f":" RTD(\"cqg.rtd\",,\"StudyData\", $D$12,  \"Tick\", \"FlatTicks=0\", \"Tick\",\"D\",C49,\"PrimaryOnly\")","v":2762.5},null,null,null,{"$f":"RTD(\"cqg.rtd\",,\"StudyData\", \"Close(\"&$D$12&\") when LocalYear(\"&$D$12&\")=\"&$D$1&\" and localMonth(\"&$D$12&\") =\"&$E$1&\" and LocalDay(\"&$D$12&\")=\"&$F$1&\" and Barix(\"&$D$12&\",reference:=StartOfSession)=\"&A49&\"\", \"Bar\", \"\", \"Close\",\"5\",\"0\",\"PrimaryOnly\",,,\"False\",\"T\",\"EveryTick\")","v":""},{"$error":"#N/A"},{"$f":"RTD(\"cqg.rtd\",,\"StudyData\", \"Close(\"&$D$12&\") when LocalYear(\"&$D$12&\")=\"&$D$2&\" and localMonth(\"&$D$12&\") =\"&$E$2&\" and LocalDay(\"&$D$12&\")=\"&$F$2&\" and Barix(\"&$D$12&\",reference:=StartOfSession)=\"&A49&\"\", \"Bar\", \"\", \"Close\",\"5\",\"0\",\"PrimaryOnly\",,,\"False\",\"T\",\"EveryTick\")","v":2777},-4.1240810471579702E-3,{"$f":"RTD(\"cqg.rtd\",,\"StudyData\", \"Close(\"&$D$12&\") when LocalYear(\"&$D$12&\")=\"&$D$3&\" and localMonth(\"&$D$12&\") =\"&$E$3&\" and LocalDay(\"&$D$12&\")=\"&$F$3&\" and Barix(\"&$D$12&\",reference:=StartOfSession)=\"&A49&\"\", \"Bar\", \"\", \"Close\",\"5\",\"0\",\"PrimaryOnly\",,,\"False\",\"T\",\"EveryTick\")","v":2790.25},4.0482187837351568E-3,{"$f":"RTD(\"cqg.rtd\",,\"StudyData\", \"Close(\"&$D$12&\") when LocalYear(\"&$D$12&\")=\"&$D$4&\" and localMonth(\"&$D$12&\") =\"&$E$4&\" and LocalDay(\"&$D$12&\")=\"&$F$4&\" and Barix(\"&$D$12&\",reference:=StartOfSession)=\"&A49&\"\", \"Bar\", \"\", \"Close\",\"5\",\"0\",\"PrimaryOnly\",,,\"False\",\"T\",\"EveryTick\")","v":2791},9.862817179234287E-4,{"$f":"RTD(\"cqg.rtd\",,\"StudyData\", \"Close(\"&$D$12&\") when LocalYear(\"&$D$12&\")=\"&$D$5&\" and localMonth(\"&$D$12&\") =\"&$E$5&\" and LocalDay(\"&$D$12&\")=\"&$F$5&\" and Barix(\"&$D$12&\",reference:=StartOfSession)=\"&A49&\"\", \"Bar\", \"\", \"Close\",\"5\",\"0\",\"PrimaryOnly\",,,\"False\",\"T\",\"EveryTick\")","v":2789.5},9.8681259531712578E-4,{"$f":"RTD(\"cqg.rtd\",,\"StudyData\", \"Close(\"&$D$12&\") when LocalYear(\"&$D$12&\")=\"&$D$6&\" and localMonth(\"&$D$12&\") =\"&$E$6&\" and LocalDay(\"&$D$12&\")=\"&$F$6&\" and Barix(\"&$D$12&\",reference:=StartOfSession)=\"&A49&\"\", \"Bar\", \"\", \"Close\",\"5\",\"0\",\"PrimaryOnly\",,,\"False\",\"T\",\"EveryTick\")","v":2792.5},3.5938903863432167E-3,{"$f":"RTD(\"cqg.rtd\",,\"StudyData\", \"Close(\"&$D$12&\") when LocalYear(\"&$D$12&\")=\"&$D$7&\" and localMonth(\"&$D$12&\") =\"&$E$7&\" and LocalDay(\"&$D$12&\")=\"&$F$7&\" and Barix(\"&$D$12&\",reference:=StartOfSession)=\"&A49&\"\", \"Bar\", \"\", \"Close\",\"5\",\"0\",\"PrimaryOnly\",,,\"False\",\"T\",\"EveryTick\")","v":2779.25},1.1707492795389048E-3,{"$f":"RTD(\"cqg.rtd\",,\"StudyData\", \"Close(\"&$D$12&\") when LocalYear(\"&$D$12&\")=\"&$D$8&\" and localMonth(\"&$D$12&\") =\"&$E$8&\" and LocalDay(\"&$D$12&\")=\"&$F$8&\" and Barix(\"&$D$12&\",reference:=StartOfSession)=\"&A49&\"\", \"Bar\", \"\", \"Close\",\"5\",\"0\",\"PrimaryOnly\",,,\"False\",\"T\",\"EveryTick\")","v":2770},-2.1613832853025938E-3,{"$f":"RTD(\"cqg.rtd\",,\"StudyData\", \"Close(\"&$D$12&\") when LocalYear(\"&$D$12&\")=\"&$D$9&\" and localMonth(\"&$D$12&\") =\"&$E$9&\" and LocalDay(\"&$D$12&\")=\"&$F$9&\" and Barix(\"&$D$12&\",reference:=StartOfSession)=\"&A49&\"\", \"Bar\", \"\", \"Close\",\"5\",\"0\",\"PrimaryOnly\",,,\"False\",\"T\",\"EveryTick\")","v":2765},3.4476501542369804E-3,{"$f":"RTD(\"cqg.rtd\",,\"StudyData\", \"Close(\"&$D$12&\") when LocalYear(\"&$D$12&\")=\"&$D$10&\" and localMonth(\"&$D$12&\") =\"&$E$10&\" and LocalDay(\"&$D$12&\")=\"&$F$10&\" and Barix(\"&$D$12&\",reference:=StartOfSession)=\"&A49&\"\", \"Bar\", \"\", \"Close\",\"5\",\"0\",\"PrimaryOnly\",,,\"False\",\"T\",\"EveryTick\")","v":2750.25},1.8183471224656787E-4,null,null,null,""]
[49,"12:35:00",-28,{"$f":" RTD(\"cqg.rtd\",,\"StudyData\", $D$12,  \"Tick\", \"FlatTicks=0\", \"Tick\",\"D\",C50,\"PrimaryOnly\")","v":2762.25},null,null,null,{"$f":"RTD(\"cqg.rtd\",,\"StudyData\", \"Close(\"&$D$12&\") when LocalYear(\"&$D$12&\")=\"&$D$1&\" and localMonth(\"&$D$12&\") =\"&$E$1&\" and LocalDay(\"&$D$12&\")=\"&$F$1&\" and Barix(\"&$D$12&\",reference:=StartOfSession)=\"&A50&\"\", \"Bar\", \"\", \"Close\",\"5\",\"0\",\"PrimaryOnly\",,,\"False\",\"T\",\"EveryTick\")","v":""},{"$error":"#N/A"},{"$f":"RTD(\"cqg.rtd\",,\"StudyData\", \"Close(\"&$D$12&\") when LocalYear(\"&$D$12&\")=\"&$D$2&\" and localMonth(\"&$D$12&\") =\"&$E$2&\" and LocalDay(\"&$D$12&\")=\"&$F$2&\" and Barix(\"&$D$12&\",reference:=StartOfSession)=\"&A50&\"\", \"Bar\", \"\", \"Close\",\"5\",\"0\",\"PrimaryOnly\",,,\"False\",\"T\",\"EveryTick\")","v":2776.75},-4.2137349829657524E-3,{"$f":"RTD(\"cqg.rtd\",,\"StudyData\", \"Close(\"&$D$12&\") when LocalYear(\"&$D$12&\")=\"&$D$3&\" and localMonth(\"&$D$12&\") =\"&$E$3&\" and LocalDay(\"&$D$12&\")=\"&$F$3&\" and Barix(\"&$D$12&\",reference:=StartOfSession)=\"&A50&\"\", \"Bar\", \"\", \"Close\",\"5\",\"0\",\"PrimaryOnly\",,,\"False\",\"T\",\"EveryTick\")","v":2789.75},3.8682979489024828E-3,{"$f":"RTD(\"cqg.rtd\",,\"StudyData\", \"Close(\"&$D$12&\") when LocalYear(\"&$D$12&\")=\"&$D$4&\" and localMonth(\"&$D$12&\") =\"&$E$4&\" and LocalDay(\"&$D$12&\")=\"&$F$4&\" and Barix(\"&$D$12&\",reference:=StartOfSession)=\"&A50&\"\", \"Bar\", \"\", \"Close\",\"5\",\"0\",\"PrimaryOnly\",,,\"False\",\"T\",\"EveryTick\")","v":2791.75},1.2552676409934547E-3,{"$f":"RTD(\"cqg.rtd\",,\"StudyData\", \"Close(\"&$D$12&\") when LocalYear(\"&$D$12&\")=\"&$D$5&\" and localMonth(\"&$D$12&\") =\"&$E$5&\" and LocalDay(\"&$D$12&\")=\"&$F$5&\" and Barix(\"&$D$12&\",reference:=StartOfSession)=\"&A50&\"\", \"Bar\", \"\", \"Close\",\"5\",\"0\",\"PrimaryOnly\",,,\"False\",\"T\",\"EveryTick\")","v":2789.25},8.971023593792052E-4,{"$f":"RTD(\"cqg.rtd\",,\"StudyData\", \"Close(\"&$D$12&\") when LocalYear(\"&$D$12&\")=\"&$D$6&\" and localMonth(\"&$D$12&\") =\"&$E$6&\" and LocalDay(\"&$D$12&\")=\"&$F$6&\" and Barix(\"&$D$12&\",reference:=StartOfSession)=\"&A50&\"\", \"Bar\", \"\", \"Close\",\"5\",\"0\",\"PrimaryOnly\",,,\"False\",\"T\",\"EveryTick\")","v":2792.75},3.6837376460017971E-3,{"$f":"RTD(\"cqg.rtd\",,\"StudyData\", \"Close(\"&$D$12&\") when LocalYear(\"&$D$12&\")=\"&$D$7&\" and localMonth(\"&$D$12&\") =\"&$E$7&\" and LocalDay(\"&$D$12&\")=\"&$F$7&\" and Barix(\"&$D$12&\",reference:=StartOfSession)=\"&A50&\"\", \"Bar\", \"\", \"Close\",\"5\",\"0\",\"PrimaryOnly\",,,\"False\",\"T\",\"EveryTick\")","v":2778.25},8.1051873198847264E-4,{"$f":"RTD(\"cqg.rtd\",,\"StudyData\", \"Close(\"&$D$12&\") when LocalYear(\"&$D$12&\")=\"&$D$8&\" and localMonth(\"&$D$12&\") =\"&$E$8&\" and LocalDay(\"&$D$12&\")=\"&$F$8&\" and Barix(\"&$D$12&\",reference:=StartOfSession)=\"&A50&\"\", \"Bar\", \"\", \"Close\",\"5\",\"0\",\"PrimaryOnly\",,,\"False\",\"T\",\"EveryTick\")","v":2765},-3.9625360230547552E-3,{"$f":"RTD(\"cqg.rtd\",,\"StudyData\", \"Close(\"&$D$12&\") when LocalYear(\"&$D$12&\")=\"&$D$9&\" and localMonth(\"&$D$12&\") =\"&$E$9&\" and LocalDay(\"&$D$12&\")=\"&$F$9&\" and Barix(\"&$D$12&\",reference:=StartOfSession)=\"&A50&\"\", \"Bar\", \"\", \"Close\",\"5\",\"0\",\"PrimaryOnly\",,,\"False\",\"T\",\"EveryTick\")","v":2765.25},3.5383777898747959E-3,{"$f":"RTD(\"cqg.rtd\",,\"StudyData\", \"Close(\"&$D$12&\") when LocalYear(\"&$D$12&\")=\"&$D$10&\" and localMonth(\"&$D$12&\") =\"&$E$10&\" and LocalDay(\"&$D$12&\")=\"&$F$10&\" and Barix(\"&$D$12&\",reference:=StartOfSession)=\"&A50&\"\", \"Bar\", \"\", \"Close\",\"5\",\"0\",\"PrimaryOnly\",,,\"False\",\"T\",\"EveryTick\")","v":2750.75},3.6366942449313574E-4,null,null,null,""]
[50,"12:40:00",-27,{"$f":" RTD(\"cqg.rtd\",,\"StudyData\", $D$12,  \"Tick\", \"FlatTicks=0\", \"Tick\",\"D\",C51,\"PrimaryOnly\")","v":2762.5},null,null,null,{"$f":"RTD(\"cqg.rtd\",,\"StudyData\", \"Close(\"&$D$12&\") when LocalYear(\"&$D$12&\")=\"&$D$1&\" and localMonth(\"&$D$12&\") =\"&$E$1&\" and LocalDay(\"&$D$12&\")=\"&$F$1&\" and Barix(\"&$D$12&\",reference:=StartOfSession)=\"&A51&\"\", \"Bar\", \"\", \"Close\",\"5\",\"0\",\"PrimaryOnly\",,,\"False\",\"T\",\"EveryTick\")","v":""},{"$error":"#N/A"},{"$f":"RTD(\"cqg.rtd\",,\"StudyData\", \"Close(\"&$D$12&\") when LocalYear(\"&$D$12&\")=\"&$D$2&\" and localMonth(\"&$D$12&\") =\"&$E$2&\" and LocalDay(\"&$D$12&\")=\"&$F$2&\" and Barix(\"&$D$12&\",reference:=StartOfSession)=\"&A51&\"\", \"Bar\", \"\", \"Close\",\"5\",\"0\",\"PrimaryOnly\",,,\"False\",\"T\",\"EveryTick\")","v":2776.25},-4.3930428545813161E-3,{"$f":"RTD(\"cqg.rtd\",,\"StudyData\", \"Close(\"&$D$12&\") when LocalYear(\"&$D$12&\")=\"&$D$3&\" and localMonth(\"&$D$12&\") =\"&$E$3&\" and LocalDay(\"&$D$12&\")=\"&$F$3&\" and Barix(\"&$D$12&\",reference:=StartOfSession)=\"&A51&\"\", \"Bar\", \"\", \"Close\",\"5\",\"0\",\"PrimaryOnly\",,,\"False\",\"T\",\"EveryTick\")","v":2789.5},3.778337531486146E-3,{"$f":"RTD(\"cqg.rtd\",,\"StudyData\", \"Close(\"&$D$12&\") when LocalYear(\"&$D$12&\")=\"&$D$4&\" and localMonth(\"&$D$12&\") =\"&$E$4&\" and LocalDay(\"&$D$12&\")=\"&$F$4&\" and Barix(\"&$D$12&\",reference:=StartOfSession)=\"&A51&\"\", \"Bar\", \"\", \"Close\",\"5\",\"0\",\"PrimaryOnly\",,,\"False\",\"T\",\"EveryTick\")","v":2791.75},1.2552676409934547E-3,{"$f":"RTD(\"cqg.rtd\",,\"StudyData\", \"Close(\"&$D$12&\") when LocalYear(\"&$D$12&\")=\"&$D$5&\" and localMonth(\"&$D$12&\") =\"&$E$5&\" and LocalDay(\"&$D$12&\")=\"&$F$5&\" and Barix(\"&$D$12&\",reference:=StartOfSession)=\"&A51&\"\", \"Bar\", \"\", \"Close\",\"5\",\"0\",\"PrimaryOnly\",,,\"False\",\"T\",\"EveryTick\")","v":2789},8.0739212344128463E-4,{"$f":"RTD(\"cqg.rtd\",,\"StudyData\", \"Close(\"&$D$12&\") when LocalYear(\"&$D$12&\")=\"&$D$6&\" and localMonth(\"&$D$12&\") =\"&$E$6&\" and LocalDay(\"&$D$12&\")=\"&$F$6&\" and Barix(\"&$D$12&\",reference:=StartOfSession)=\"&A51&\"\", \"Bar\", \"\", \"Close\",\"5\",\"0\",\"PrimaryOnly\",,,\"False\",\"T\",\"EveryTick\")","v":2792.75},3.6837376460017971E-3,{"$f":"RTD(\"cqg.rtd\",,\"StudyData\", \"Close(\"&$D$12&\") when LocalYear(\"&$D$12&\")=\"&$D$7&\" and localMonth(\"&$D$12&\") =\"&$E$7&\" and LocalDay(\"&$D$12&\")=\"&$F$7&\" and Barix(\"&$D$12&\",reference:=StartOfSession)=\"&A51&\"\", \"Bar\", \"\", \"Close\",\"5\",\"0\",\"PrimaryOnly\",,,\"False\",\"T\",\"EveryTick\")","v":2778},7.2046109510086451E-4,{"$f":"RTD(\"cqg.rtd\",,\"StudyData\", \"Close(\"&$D$12&\") when LocalYear(\"&$D$12&\")=\"&$D$8&\" and localMonth(\"&$D$12&\") =\"&$E$8&\" and LocalDay(\"&$D$12&\")=\"&$F$8&\" and Barix(\"&$D$12&\",reference:=StartOfSession)=\"&A51&\"\", \"Bar\", \"\", \"Close\",\"5\",\"0\",\"PrimaryOnly\",,,\"False\",\"T\",\"EveryTick\")","v":2766.5},-3.4221902017291068E-3,{"$f":"RTD(\"cqg.rtd\",,\"StudyData\", \"Close(\"&$D$12&\") when LocalYear(\"&$D$12&\")=\"&$D$9&\" and localMonth(\"&$D$12&\") =\"&$E$9&\" and LocalDay(\"&$D$12&\")=\"&$F$9&\" and Barix(\"&$D$12&\",reference:=StartOfSession)=\"&A51&\"\", \"Bar\", \"\", \"Close\",\"5\",\"0\",\"PrimaryOnly\",,,\"False\",\"T\",\"EveryTick\")","v":2764.75},3.3569225185991654E-3,{"$f":"RTD(\"cqg.rtd\",,\"StudyData\", \"Close(\"&$D$12&\") when LocalYear(\"&$D$12&\")=\"&$D$10&\" and localMonth(\"&$D$12&\") =\"&$E$10&\" and LocalDay(\"&$D$12&\")=\"&$F$10&\" and Barix(\"&$D$12&\",reference:=StartOfSession)=\"&A51&\"\", \"Bar\", \"\", \"Close\",\"5\",\"0\",\"PrimaryOnly\",,,\"False\",\"T\",\"EveryTick\")","v":2751},4.5458678061641969E-4,null,null,null,""]
[51,"12:45:00",-26,{"$f":" RTD(\"cqg.rtd\",,\"StudyData\", $D$12,  \"Tick\", \"FlatTicks=0\", \"Tick\",\"D\",C52,\"PrimaryOnly\")","v":2762.25},null,null,null,{"$f":"RTD(\"cqg.rtd\",,\"StudyData\", \"Close(\"&$D$12&\") when LocalYear(\"&$D$12&\")=\"&$D$1&\" and localMonth(\"&$D$12&\") =\"&$E$1&\" and LocalDay(\"&$D$12&\")=\"&$F$1&\" and Barix(\"&$D$12&\",reference:=StartOfSession)=\"&A52&\"\", \"Bar\", \"\", \"Close\",\"5\",\"0\",\"PrimaryOnly\",,,\"False\",\"T\",\"EveryTick\")","v":""},{"$error":"#N/A"},{"$f":"RTD(\"cqg.rtd\",,\"StudyData\", \"Close(\"&$D$12&\") when LocalYear(\"&$D$12&\")=\"&$D$2&\" and localMonth(\"&$D$12&\") =\"&$E$2&\" and LocalDay(\"&$D$12&\")=\"&$F$2&\" and Barix(\"&$D$12&\",reference:=StartOfSession)=\"&A52&\"\", \"Bar\", \"\", \"Close\",\"5\",\"0\",\"PrimaryOnly\",,,\"False\",\"T\",\"EveryTick\")","v":2775.5},-4.662004662004662E-3,{"$f":"RTD(\"cqg.rtd\",,\"StudyData\", \"Close(\"&$D$12&\") when LocalYear(\"&$D$12&\")=\"&$D$3&\" and localMonth(\"&$D$12&\") =\"&$E$3&\" and LocalDay(\"&$D$12&\")=\"&$F$3&\" and Barix(\"&$D$12&\",reference:=StartOfSession)=\"&A52&\"\", \"Bar\", \"\", \"Close\",\"5\",\"0\",\"PrimaryOnly\",,,\"False\",\"T\",\"EveryTick\")","v":2788},3.2385750269881253E-3,{"$f":"RTD(\"cqg.rtd\",,\"StudyData\", \"Close(\"&$D$12&\") when LocalYear(\"&$D$12&\")=\"&$D$4&\" and localMonth(\"&$D$12&\") =\"&$E$4&\" and LocalDay(\"&$D$12&\")=\"&$F$4&\" and Barix(\"&$D$12&\",reference:=StartOfSession)=\"&A52&\"\", \"Bar\", \"\", \"Close\",\"5\",\"0\",\"PrimaryOnly\",,,\"False\",\"T\",\"EveryTick\")","v":2792},1.3449296153501299E-3,{"$f":"RTD(\"cqg.rtd\",,\"StudyData\", \"Close(\"&$D$12&\") when LocalYear(\"&$D$12&\")=\"&$D$5&\" and localMonth(\"&$D$12&\") =\"&$E$5&\" and LocalDay(\"&$D$12&\")=\"&$F$5&\" and Barix(\"&$D$12&\",reference:=StartOfSession)=\"&A52&\"\", \"Bar\", \"\", \"Close\",\"5\",\"0\",\"PrimaryOnly\",,,\"False\",\"T\",\"EveryTick\")","v":2789.5},9.8681259531712578E-4,{"$f":"RTD(\"cqg.rtd\",,\"StudyData\", \"Close(\"&$D$12&\") when LocalYear(\"&$D$12&\")=\"&$D$6&\" and localMonth(\"&$D$12&\") =\"&$E$6&\" and LocalDay(\"&$D$12&\")=\"&$F$6&\" and Barix(\"&$D$12&\",reference:=StartOfSession)=\"&A52&\"\", \"Bar\", \"\", \"Close\",\"5\",\"0\",\"PrimaryOnly\",,,\"False\",\"T\",\"EveryTick\")","v":2792},3.4141958670260556E-3,{"$f":"RTD(\"cqg.rtd\",,\"StudyData\", \"Close(\"&$D$12&\") when LocalYear(\"&$D$12&\")=\"&$D$7&\" and localMonth(\"&$D$12&\") =\"&$E$7&\" and LocalDay(\"&$D$12&\")=\"&$F$7&\" and Barix(\"&$D$12&\",reference:=StartOfSession)=\"&A52&\"\", \"Bar\", \"\", \"Close\",\"5\",\"0\",\"PrimaryOnly\",,,\"False\",\"T\",\"EveryTick\")","v":2778.5},9.0057636887608066E-4,{"$f":"RTD(\"cqg.rtd\",,\"StudyData\", \"Close(\"&$D$12&\") when LocalYear(\"&$D$12&\")=\"&$D$8&\" and localMonth(\"&$D$12&\") =\"&$E$8&\" and LocalDay(\"&$D$12&\")=\"&$F$8&\" and Barix(\"&$D$12&\",reference:=StartOfSession)=\"&A52&\"\", \"Bar\", \"\", \"Close\",\"5\",\"0\",\"PrimaryOnly\",,,\"False\",\"T\",\"EveryTick\")","v":2770.75},-1.8912103746397695E-3,{"$f":"RTD(\"cqg.rtd\",,\"StudyData\", \"Close(\"&$D$12&\") when LocalYear(\"&$D$12&\")=\"&$D$9&\" and localMonth(\"&$D$12&\") =\"&$E$9&\" and LocalDay(\"&$D$12&\")=\"&$F$9&\" and Barix(\"&$D$12&\",reference:=StartOfSession)=\"&A52&\"\", \"Bar\", \"\", \"Close\",\"5\",\"0\",\"PrimaryOnly\",,,\"False\",\"T\",\"EveryTick\")","v":2764.5},3.2661948829613499E-3,{"$f":"RTD(\"cqg.rtd\",,\"StudyData\", \"Close(\"&$D$12&\") when LocalYear(\"&$D$12&\")=\"&$D$10&\" and localMonth(\"&$D$12&\") =\"&$E$10&\" and LocalDay(\"&$D$12&\")=\"&$F$10&\" and Barix(\"&$D$12&\",reference:=StartOfSession)=\"&A52&\"\", \"Bar\", \"\", \"Close\",\"5\",\"0\",\"PrimaryOnly\",,,\"False\",\"T\",\"EveryTick\")","v":2751.25},5.4550413673970359E-4,null,null,null,""]
[52,"12:50:00",-25,{"$f":" RTD(\"cqg.rtd\",,\"StudyData\", $D$12,  \"Tick\", \"FlatTicks=0\", \"Tick\",\"D\",C53,\"PrimaryOnly\")","v":2762.5},null,null,null,{"$f":"RTD(\"cqg.rtd\",,\"StudyData\", \"Close(\"&$D$12&\") when LocalYear(\"&$D$12&\")=\"&$D$1&\" and localMonth(\"&$D$12&\") =\"&$E$1&\" and LocalDay(\"&$D$12&\")=\"&$F$1&\" and Barix(\"&$D$12&\",reference:=StartOfSession)=\"&A53&\"\", \"Bar\", \"\", \"Close\",\"5\",\"0\",\"PrimaryOnly\",,,\"False\",\"T\",\"EveryTick\")","v":""},{"$error":"#N/A"},{"$f":"RTD(\"cqg.rtd\",,\"StudyData\", \"Close(\"&$D$12&\") when LocalYear(\"&$D$12&\")=\"&$D$2&\" and localMonth(\"&$D$12&\") =\"&$E$2&\" and LocalDay(\"&$D$12&\")=\"&$F$2&\" and Barix(\"&$D$12&\",reference:=StartOfSession)=\"&A53&\"\", \"Bar\", \"\", \"Close\",\"5\",\"0\",\"PrimaryOnly\",,,\"False\",\"T\",\"EveryTick\")","v":2775},-4.8413125336202257E-3,{"$f":"RTD(\"cqg.rtd\",,\"StudyData\", \"Close(\"&$D$12&\") when LocalYear(\"&$D$12&\")=\"&$D$3&\" and localMonth(\"&$D$12&\") =\"&$E$3&\" and LocalDay(\"&$D$12&\")=\"&$F$3&\" and Barix(\"&$D$12&\",reference:=StartOfSession)=\"&A53&\"\", \"Bar\", \"\", \"Close\",\"5\",\"0\",\"PrimaryOnly\",,,\"False\",\"T\",\"EveryTick\")","v":2789},3.5984166966534724E-3,{"$f":"RTD(\"cqg.rtd\",,\"StudyData\", \"Close(\"&$D$12&\") when LocalYear(\"&$D$12&\")=\"&$D$4&\" and localMonth(\"&$D$12&\") =\"&$E$4&\" and LocalDay(\"&$D$12&\")=\"&$F$4&\" and Barix(\"&$D$12&\",reference:=StartOfSession)=\"&A53&\"\", \"Bar\", \"\", \"Close\",\"5\",\"0\",\"PrimaryOnly\",,,\"False\",\"T\",\"EveryTick\")","v":2792.5},1.5242535640634808E-3,{"$f":"RTD(\"cqg.rtd\",,\"StudyData\", \"Close(\"&$D$12&\") when LocalYear(\"&$D$12&\")=\"&$D$5&\" and localMonth(\"&$D$12&\") =\"&$E$5&\" and LocalDay(\"&$D$12&\")=\"&$F$5&\" and Barix(\"&$D$12&\",reference:=StartOfSession)=\"&A53&\"\", \"Bar\", \"\", \"Close\",\"5\",\"0\",\"PrimaryOnly\",,,\"False\",\"T\",\"EveryTick\")","v":2790},1.1662330671929667E-3,{"$f":"RTD(\"cqg.rtd\",,\"StudyData\", \"Close(\"&$D$12&\") when LocalYear(\"&$D$12&\")=\"&$D$6&\" and localMonth(\"&$D$12&\") =\"&$E$6&\" and LocalDay(\"&$D$12&\")=\"&$F$6&\" and Barix(\"&$D$12&\",reference:=StartOfSession)=\"&A53&\"\", \"Bar\", \"\", \"Close\",\"5\",\"0\",\"PrimaryOnly\",,,\"False\",\"T\",\"EveryTick\")","v":2791},3.0548068283917339E-3,{"$f":"RTD(\"cqg.rtd\",,\"StudyData\", \"Close(\"&$D$12&\") when LocalYear(\"&$D$12&\")=\"&$D$7&\" and localMonth(\"&$D$12&\") =\"&$E$7&\" and LocalDay(\"&$D$12&\")=\"&$F$7&\" and Barix(\"&$D$12&\",reference:=StartOfSession)=\"&A53&\"\", \"Bar\", \"\", \"Close\",\"5\",\"0\",\"PrimaryOnly\",,,\"False\",\"T\",\"EveryTick\")","v":2777.5},5.4034582132564846E-4,{"$f":"RTD(\"cqg.rtd\",,\"StudyData\", \"Close(\"&$D$12&\") when LocalYear(\"&$D$12&\")=\"&$D$8&\" and localMonth(\"&$D$12&\") =\"&$E$8&\" and LocalDay(\"&$D$12&\")=\"&$F$8&\" and Barix(\"&$D$12&\",reference:=StartOfSession)=\"&A53&\"\", \"Bar\", \"\", \"Close\",\"5\",\"0\",\"PrimaryOnly\",,,\"False\",\"T\",\"EveryTick\")","v":2767},-3.2420749279538905E-3,{"$f":"RTD(\"cqg.rtd\",,\"StudyData\", \"Close(\"&$D$12&\") when LocalYear(\"&$D$12&\")=\"&$D$9&\" and localMonth(\"&$D$12&\") =\"&$E$9&\" and LocalDay(\"&$D$12&\")=\"&$F$9&\" and Barix(\"&$D$12&\",reference:=StartOfSession)=\"&A53&\"\", \"Bar\", \"\", \"Close\",\"5\",\"0\",\"PrimaryOnly\",,,\"False\",\"T\",\"EveryTick\")","v":2764.5},3.2661948829613499E-3,{"$f":"RTD(\"cqg.rtd\",,\"StudyData\", \"Close(\"&$D$12&\") when LocalYear(\"&$D$12&\")=\"&$D$10&\" and localMonth(\"&$D$12&\") =\"&$E$10&\" and LocalDay(\"&$D$12&\")=\"&$F$10&\" and Barix(\"&$D$12&\",reference:=StartOfSession)=\"&A53&\"\", \"Bar\", \"\", \"Close\",\"5\",\"0\",\"PrimaryOnly\",,,\"False\",\"T\",\"EveryTick\")","v":2750.25},1.8183471224656787E-4,null,null,null,""]
[53,"12:55:00",-24,{"$f":" RTD(\"cqg.rtd\",,\"StudyData\", $D$12,  \"Tick\", \"FlatTicks=0\", \"Tick\",\"D\",C54,\"PrimaryOnly\")","v":2762.25},null,null,null,{"$f":"RTD(\"cqg.rtd\",,\"StudyData\", \"Close(\"&$D$12&\") when LocalYear(\"&$D$12&\")=\"&$D$1&\" and localMonth(\"&$D$12&\") =\"&$E$1&\" and LocalDay(\"&$D$12&\")=\"&$F$1&\" and Barix(\"&$D$12&\",reference:=StartOfSession)=\"&A54&\"\", \"Bar\", \"\", \"Close\",\"5\",\"0\",\"PrimaryOnly\",,,\"False\",\"T\",\"EveryTick\")","v":""},{"$error":"#N/A"},{"$f":"RTD(\"cqg.rtd\",,\"StudyData\", \"Close(\"&$D$12&\") when LocalYear(\"&$D$12&\")=\"&$D$2&\" and localMonth(\"&$D$12&\") =\"&$E$2&\" and LocalDay(\"&$D$12&\")=\"&$F$2&\" and Barix(\"&$D$12&\",reference:=StartOfSession)=\"&A54&\"\", \"Bar\", \"\", \"Close\",\"5\",\"0\",\"PrimaryOnly\",,,\"False\",\"T\",\"EveryTick\")","v":2774.5},-5.0206204052357902E-3,{"$f":"RTD(\"cqg.rtd\",,\"StudyData\", \"Close(\"&$D$12&\") when LocalYear(\"&$D$12&\")=\"&$D$3&\" and localMonth(\"&$D$12&\") =\"&$E$3&\" and LocalDay(\"&$D$12&\")=\"&$F$3&\" and Barix(\"&$D$12&\",reference:=StartOfSession)=\"&A54&\"\", \"Bar\", \"\", \"Close\",\"5\",\"0\",\"PrimaryOnly\",,,\"False\",\"T\",\"EveryTick\")","v":2787.5},3.0586541921554518E-3,{"$f":"RTD(\"cqg.rtd\",,\"StudyData\", \"Close(\"&$D$12&\") when LocalYear(\"&$D$12&\")=\"&$D$4&\" and localMonth(\"&$D$12&\") =\"&$E$4&\" and LocalDay(\"&$D$12&\")=\"&$F$4&\" and Barix(\"&$D$12&\",reference:=StartOfSession)=\"&A54&\"\", \"Bar\", \"\", \"Close\",\"5\",\"0\",\"PrimaryOnly\",,,\"False\",\"T\",\"EveryTick\")","v":2792},1.3449296153501299E-3,{"$f":"RTD(\"cqg.rtd\",,\"StudyData\", \"Close(\"&$D$12&\") when LocalYear(\"&$D$12&\")=\"&$D$5&\" and localMonth(\"&$D$12&\") =\"&$E$5&\" and LocalDay(\"&$D$12&\")=\"&$F$5&\" and Barix(\"&$D$12&\",reference:=StartOfSession)=\"&A54&\"\", \"Bar\", \"\", \"Close\",\"5\",\"0\",\"PrimaryOnly\",,,\"False\",\"T\",\"EveryTick\")","v":2791.25},1.6147842468825693E-3,{"$f":"RTD(\"cqg.rtd\",,\"StudyData\", \"Close(\"&$D$12&\") when LocalYear(\"&$D$12&\")=\"&$D$6&\" and localMonth(\"&$D$12&\") =\"&$E$6&\" and LocalDay(\"&$D$12&\")=\"&$F$6&\" and Barix(\"&$D$12&\",reference:=StartOfSession)=\"&A54&\"\", \"Bar\", \"\", \"Close\",\"5\",\"0\",\"PrimaryOnly\",,,\"False\",\"T\",\"EveryTick\")","v":2792},3.4141958670260556E-3,{"$f":"RTD(\"cqg.rtd\",,\"StudyData\", \"Close(\"&$D$12&\") when LocalYear(\"&$D$12&\")=\"&$D$7&\" and localMonth(\"&$D$12&\") =\"&$E$7&\" and LocalDay(\"&$D$12&\")=\"&$F$7&\" and Barix(\"&$D$12&\",reference:=StartOfSession)=\"&A54&\"\", \"Bar\", \"\", \"Close\",\"5\",\"0\",\"PrimaryOnly\",,,\"False\",\"T\",\"EveryTick\")","v":2777.25},4.5028818443804033E-4,{"$f":"RTD(\"cqg.rtd\",,\"StudyData\", \"Close(\"&$D$12&\") when LocalYear(\"&$D$12&\")=\"&$D$8&\" and localMonth(\"&$D$12&\") =\"&$E$8&\" and LocalDay(\"&$D$12&\")=\"&$F$8&\" and Barix(\"&$D$12&\",reference:=StartOfSession)=\"&A54&\"\", \"Bar\", \"\", \"Close\",\"5\",\"0\",\"PrimaryOnly\",,,\"False\",\"T\",\"EveryTick\")","v":2765.25},-3.8724783861671468E-3,{"$f":"RTD(\"cqg.rtd\",,\"StudyData\", \"Close(\"&$D$12&\") when LocalYear(\"&$D$12&\")=\"&$D$9&\" and localMonth(\"&$D$12&\") =\"&$E$9&\" and LocalDay(\"&$D$12&\")=\"&$F$9&\" and Barix(\"&$D$12&\",reference:=StartOfSession)=\"&A54&\"\", \"Bar\", \"\", \"Close\",\"5\",\"0\",\"PrimaryOnly\",,,\"False\",\"T\",\"EveryTick\")","v":2764.25},3.1754672473235349E-3,{"$f":"RTD(\"cqg.rtd\",,\"StudyData\", \"Close(\"&$D$12&\") when LocalYear(\"&$D$12&\")=\"&$D$10&\" and localMonth(\"&$D$12&\") =\"&$E$10&\" and LocalDay(\"&$D$12&\")=\"&$F$10&\" and Barix(\"&$D$12&\",reference:=StartOfSession)=\"&A54&\"\", \"Bar\", \"\", \"Close\",\"5\",\"0\",\"PrimaryOnly\",,,\"False\",\"T\",\"EveryTick\")","v":2750.5},2.7275206836985179E-4,null,null,null,""]
[54,"13:00:00",-23,{"$f":" RTD(\"cqg.rtd\",,\"StudyData\", $D$12,  \"Tick\", \"FlatTicks=0\", \"Tick\",\"D\",C55,\"PrimaryOnly\")","v":2762.5},null,null,null,{"$f":"RTD(\"cqg.rtd\",,\"StudyData\", \"Close(\"&$D$12&\") when LocalYear(\"&$D$12&\")=\"&$D$1&\" and localMonth(\"&$D$12&\") =\"&$E$1&\" and LocalDay(\"&$D$12&\")=\"&$F$1&\" and Barix(\"&$D$12&\",reference:=StartOfSession)=\"&A55&\"\", \"Bar\", \"\", \"Close\",\"5\",\"0\",\"PrimaryOnly\",,,\"False\",\"T\",\"EveryTick\")","v":""},{"$error":"#N/A"},{"$f":"RTD(\"cqg.rtd\",,\"StudyData\", \"Close(\"&$D$12&\") when LocalYear(\"&$D$12&\")=\"&$D$2&\" and localMonth(\"&$D$12&\") =\"&$E$2&\" and LocalDay(\"&$D$12&\")=\"&$F$2&\" and Barix(\"&$D$12&\",reference:=StartOfSession)=\"&A55&\"\", \"Bar\", \"\", \"Close\",\"5\",\"0\",\"PrimaryOnly\",,,\"False\",\"T\",\"EveryTick\")","v":2774.75},-4.9309664694280079E-3,{"$f":"RTD(\"cqg.rtd\",,\"StudyData\", \"Close(\"&$D$12&\") when LocalYear(\"&$D$12&\")=\"&$D$3&\" and localMonth(\"&$D$12&\") =\"&$E$3&\" and LocalDay(\"&$D$12&\")=\"&$F$3&\" and Barix(\"&$D$12&\",reference:=StartOfSession)=\"&A55&\"\", \"Bar\", \"\", \"Close\",\"5\",\"0\",\"PrimaryOnly\",,,\"False\",\"T\",\"EveryTick\")","v":2787.5},3.0586541921554518E-3,{"$f":"RTD(\"cqg.rtd\",,\"StudyData\", \"Close(\"&$D$12&\") when LocalYear(\"&$D$12&\")=\"&$D$4&\" and localMonth(\"&$D$12&\") =\"&$E$4&\" and LocalDay(\"&$D$12&\")=\"&$F$4&\" and Barix(\"&$D$12&\",reference:=StartOfSession)=\"&A55&\"\", \"Bar\", \"\", \"Close\",\"5\",\"0\",\"PrimaryOnly\",,,\"False\",\"T\",\"EveryTick\")","v":2786.5},-6.2763382049672736E-4,{"$f":"RTD(\"cqg.rtd\",,\"StudyData\", \"Close(\"&$D$12&\") when LocalYear(\"&$D$12&\")=\"&$D$5&\" and localMonth(\"&$D$12&\") =\"&$E$5&\" and LocalDay(\"&$D$12&\")=\"&$F$5&\" and Barix(\"&$D$12&\",reference:=StartOfSession)=\"&A55&\"\", \"Bar\", \"\", \"Close\",\"5\",\"0\",\"PrimaryOnly\",,,\"False\",\"T\",\"EveryTick\")","v":2790.25},1.2559433031308872E-3,{"$f":"RTD(\"cqg.rtd\",,\"StudyData\", \"Close(\"&$D$12&\") when LocalYear(\"&$D$12&\")=\"&$D$6&\" and localMonth(\"&$D$12&\") =\"&$E$6&\" and LocalDay(\"&$D$12&\")=\"&$F$6&\" and Barix(\"&$D$12&\",reference:=StartOfSession)=\"&A55&\"\", \"Bar\", \"\", \"Close\",\"5\",\"0\",\"PrimaryOnly\",,,\"False\",\"T\",\"EveryTick\")","v":2790.75},2.9649595687331535E-3,{"$f":"RTD(\"cqg.rtd\",,\"StudyData\", \"Close(\"&$D$12&\") when LocalYear(\"&$D$12&\")=\"&$D$7&\" and localMonth(\"&$D$12&\") =\"&$E$7&\" and LocalDay(\"&$D$12&\")=\"&$F$7&\" and Barix(\"&$D$12&\",reference:=StartOfSession)=\"&A55&\"\", \"Bar\", \"\", \"Close\",\"5\",\"0\",\"PrimaryOnly\",,,\"False\",\"T\",\"EveryTick\")","v":2777.5},5.4034582132564846E-4,{"$f":"RTD(\"cqg.rtd\",,\"StudyData\", \"Close(\"&$D$12&\") when LocalYear(\"&$D$12&\")=\"&$D$8&\" and localMonth(\"&$D$12&\") =\"&$E$8&\" and LocalDay(\"&$D$12&\")=\"&$F$8&\" and Barix(\"&$D$12&\",reference:=StartOfSession)=\"&A55&\"\", \"Bar\", \"\", \"Close\",\"5\",\"0\",\"PrimaryOnly\",,,\"False\",\"T\",\"EveryTick\")","v":2768},-2.881844380403458E-3,{"$f":"RTD(\"cqg.rtd\",,\"StudyData\", \"Close(\"&$D$12&\") when LocalYear(\"&$D$12&\")=\"&$D$9&\" and localMonth(\"&$D$12&\") =\"&$E$9&\" and LocalDay(\"&$D$12&\")=\"&$F$9&\" and Barix(\"&$D$12&\",reference:=StartOfSession)=\"&A55&\"\", \"Bar\", \"\", \"Close\",\"5\",\"0\",\"PrimaryOnly\",,,\"False\",\"T\",\"EveryTick\")","v":2765},3.4476501542369804E-3,{"$f":"RTD(\"cqg.rtd\",,\"StudyData\", \"Close(\"&$D$12&\") when LocalYear(\"&$D$12&\")=\"&$D$10&\" and localMonth(\"&$D$12&\") =\"&$E$10&\" and LocalDay(\"&$D$12&\")=\"&$F$10&\" and Barix(\"&$D$12&\",reference:=StartOfSession)=\"&A55&\"\", \"Bar\", \"\", \"Close\",\"5\",\"0\",\"PrimaryOnly\",,,\"False\",\"T\",\"EveryTick\")","v":2749.5},-9.0917356123283935E-5,null,null,null,""]
[55,"13:05:00",-22,{"$f":" RTD(\"cqg.rtd\",,\"StudyData\", $D$12,  \"Tick\", \"FlatTicks=0\", \"Tick\",\"D\",C56,\"PrimaryOnly\")","v":2762.25},null,null,null,{"$f":"RTD(\"cqg.rtd\",,\"StudyData\", \"Close(\"&$D$12&\") when LocalYear(\"&$D$12&\")=\"&$D$1&\" and localMonth(\"&$D$12&\") =\"&$E$1&\" and LocalDay(\"&$D$12&\")=\"&$F$1&\" and Barix(\"&$D$12&\",reference:=StartOfSession)=\"&A56&\"\", \"Bar\", \"\", \"Close\",\"5\",\"0\",\"PrimaryOnly\",,,\"False\",\"T\",\"EveryTick\")","v":""},{"$error":"#N/A"},{"$f":"RTD(\"cqg.rtd\",,\"StudyData\", \"Close(\"&$D$12&\") when LocalYear(\"&$D$12&\")=\"&$D$2&\" and localMonth(\"&$D$12&\") =\"&$E$2&\" and LocalDay(\"&$D$12&\")=\"&$F$2&\" and Barix(\"&$D$12&\",reference:=StartOfSession)=\"&A56&\"\", \"Bar\", \"\", \"Close\",\"5\",\"0\",\"PrimaryOnly\",,,\"False\",\"T\",\"EveryTick\")","v":2776.25},-4.3930428545813161E-3,{"$f":"RTD(\"cqg.rtd\",,\"StudyData\", \"Close(\"&$D$12&\") when LocalYear(\"&$D$12&\")=\"&$D$3&\" and localMonth(\"&$D$12&\") =\"&$E$3&\" and LocalDay(\"&$D$12&\")=\"&$F$3&\" and Barix(\"&$D$12&\",reference:=StartOfSession)=\"&A56&\"\", \"Bar\", \"\", \"Close\",\"5\",\"0\",\"PrimaryOnly\",,,\"False\",\"T\",\"EveryTick\")","v":2787.25},2.968693774739115E-3,{"$f":"RTD(\"cqg.rtd\",,\"StudyData\", \"Close(\"&$D$12&\") when LocalYear(\"&$D$12&\")=\"&$D$4&\" and localMonth(\"&$D$12&\") =\"&$E$4&\" and LocalDay(\"&$D$12&\")=\"&$F$4&\" and Barix(\"&$D$12&\",reference:=StartOfSession)=\"&A56&\"\", \"Bar\", \"\", \"Close\",\"5\",\"0\",\"PrimaryOnly\",,,\"False\",\"T\",\"EveryTick\")","v":2784.75},-1.2552676409934547E-3,{"$f":"RTD(\"cqg.rtd\",,\"StudyData\", \"Close(\"&$D$12&\") when LocalYear(\"&$D$12&\")=\"&$D$5&\" and localMonth(\"&$D$12&\") =\"&$E$5&\" and LocalDay(\"&$D$12&\")=\"&$F$5&\" and Barix(\"&$D$12&\",reference:=StartOfSession)=\"&A56&\"\", \"Bar\", \"\", \"Close\",\"5\",\"0\",\"PrimaryOnly\",,,\"False\",\"T\",\"EveryTick\")","v":2789},8.0739212344128463E-4,{"$f":"RTD(\"cqg.rtd\",,\"StudyData\", \"Close(\"&$D$12&\") when LocalYear(\"&$D$12&\")=\"&$D$6&\" and localMonth(\"&$D$12&\") =\"&$E$6&\" and LocalDay(\"&$D$12&\")=\"&$F$6&\" and Barix(\"&$D$12&\",reference:=StartOfSession)=\"&A56&\"\", \"Bar\", \"\", \"Close\",\"5\",\"0\",\"PrimaryOnly\",,,\"False\",\"T\",\"EveryTick\")","v":2790.5},2.8751123090745732E-3,{"$f":"RTD(\"cqg.rtd\",,\"StudyData\", \"Close(\"&$D$12&\") when LocalYear(\"&$D$12&\")=\"&$D$7&\" and localMonth(\"&$D$12&\") =\"&$E$7&\" and LocalDay(\"&$D$12&\")=\"&$F$7&\" and Barix(\"&$D$12&\",reference:=StartOfSession)=\"&A56&\"\", \"Bar\", \"\", \"Close\",\"5\",\"0\",\"PrimaryOnly\",,,\"False\",\"T\",\"EveryTick\")","v":2778},7.2046109510086451E-4,{"$f":"RTD(\"cqg.rtd\",,\"StudyData\", \"Close(\"&$D$12&\") when LocalYear(\"&$D$12&\")=\"&$D$8&\" and localMonth(\"&$D$12&\") =\"&$E$8&\" and LocalDay(\"&$D$12&\")=\"&$F$8&\" and Barix(\"&$D$12&\",reference:=StartOfSession)=\"&A56&\"\", \"Bar\", \"\", \"Close\",\"5\",\"0\",\"PrimaryOnly\",,,\"False\",\"T\",\"EveryTick\")","v":2768.25},-2.7917867435158501E-3,{"$f":"RTD(\"cqg.rtd\",,\"StudyData\", \"Close(\"&$D$12&\") when LocalYear(\"&$D$12&\")=\"&$D$9&\" and localMonth(\"&$D$12&\") =\"&$E$9&\" and LocalDay(\"&$D$12&\")=\"&$F$9&\" and Barix(\"&$D$12&\",reference:=StartOfSession)=\"&A56&\"\", \"Bar\", \"\", \"Close\",\"5\",\"0\",\"PrimaryOnly\",,,\"False\",\"T\",\"EveryTick\")","v":2765.5},3.6291054255126113E-3,{"$f":"RTD(\"cqg.rtd\",,\"StudyData\", \"Close(\"&$D$12&\") when LocalYear(\"&$D$12&\")=\"&$D$10&\" and localMonth(\"&$D$12&\") =\"&$E$10&\" and LocalDay(\"&$D$12&\")=\"&$F$10&\" and Barix(\"&$D$12&\",reference:=StartOfSession)=\"&A56&\"\", \"Bar\", \"\", \"Close\",\"5\",\"0\",\"PrimaryOnly\",,,\"False\",\"T\",\"EveryTick\")","v":2750.25},1.8183471224656787E-4,null,null,null,""]
[56,"13:10:00",-21,{"$f":" RTD(\"cqg.rtd\",,\"StudyData\", $D$12,  \"Tick\", \"FlatTicks=0\", \"Tick\",\"D\",C57,\"PrimaryOnly\")","v":2762.5},null,null,null,{"$f":"RTD(\"cqg.rtd\",,\"StudyData\", \"Close(\"&$D$12&\") when LocalYear(\"&$D$12&\")=\"&$D$1&\" and localMonth(\"&$D$12&\") =\"&$E$1&\" and LocalDay(\"&$D$12&\")=\"&$F$1&\" and Barix(\"&$D$12&\",reference:=StartOfSession)=\"&A57&\"\", \"Bar\", \"\", \"Close\",\"5\",\"0\",\"PrimaryOnly\",,,\"False\",\"T\",\"EveryTick\")","v":""},{"$error":"#N/A"},{"$f":"RTD(\"cqg.rtd\",,\"StudyData\", \"Close(\"&$D$12&\") when LocalYear(\"&$D$12&\")=\"&$D$2&\" and localMonth(\"&$D$12&\") =\"&$E$2&\" and LocalDay(\"&$D$12&\")=\"&$F$2&\" and Barix(\"&$D$12&\",reference:=StartOfSession)=\"&A57&\"\", \"Bar\", \"\", \"Close\",\"5\",\"0\",\"PrimaryOnly\",,,\"False\",\"T\",\"EveryTick\")","v":2777.25},-4.0344271113501879E-3,{"$f":"RTD(\"cqg.rtd\",,\"StudyData\", \"Close(\"&$D$12&\") when LocalYear(\"&$D$12&\")=\"&$D$3&\" and localMonth(\"&$D$12&\") =\"&$E$3&\" and LocalDay(\"&$D$12&\")=\"&$F$3&\" and Barix(\"&$D$12&\",reference:=StartOfSession)=\"&A57&\"\", \"Bar\", \"\", \"Close\",\"5\",\"0\",\"PrimaryOnly\",,,\"False\",\"T\",\"EveryTick\")","v":2787.75},3.1486146095717885E-3,{"$f":"RTD(\"cqg.rtd\",,\"StudyData\", \"Close(\"&$D$12&\") when LocalYear(\"&$D$12&\")=\"&$D$4&\" and localMonth(\"&$D$12&\") =\"&$E$4&\" and LocalDay(\"&$D$12&\")=\"&$F$4&\" and Barix(\"&$D$12&\",reference:=StartOfSession)=\"&A57&\"\", \"Bar\", \"\", \"Close\",\"5\",\"0\",\"PrimaryOnly\",,,\"False\",\"T\",\"EveryTick\")","v":2788.25},0,{"$f":"RTD(\"cqg.rtd\",,\"StudyData\", \"Close(\"&$D$12&\") when LocalYear(\"&$D$12&\")=\"&$D$5&\" and localMonth(\"&$D$12&\") =\"&$E$5&\" and LocalDay(\"&$D$12&\")=\"&$F$5&\" and Barix(\"&$D$12&\",reference:=StartOfSession)=\"&A57&\"\", \"Bar\", \"\", \"Close\",\"5\",\"0\",\"PrimaryOnly\",,,\"False\",\"T\",\"EveryTick\")","v":2788.75},7.1768188750336416E-4,{"$f":"RTD(\"cqg.rtd\",,\"StudyData\", \"Close(\"&$D$12&\") when LocalYear(\"&$D$12&\")=\"&$D$6&\" and localMonth(\"&$D$12&\") =\"&$E$6&\" and LocalDay(\"&$D$12&\")=\"&$F$6&\" and Barix(\"&$D$12&\",reference:=StartOfSession)=\"&A57&\"\", \"Bar\", \"\", \"Close\",\"5\",\"0\",\"PrimaryOnly\",,,\"False\",\"T\",\"EveryTick\")","v":2790},2.6954177897574125E-3,{"$f":"RTD(\"cqg.rtd\",,\"StudyData\", \"Close(\"&$D$12&\") when LocalYear(\"&$D$12&\")=\"&$D$7&\" and localMonth(\"&$D$12&\") =\"&$E$7&\" and LocalDay(\"&$D$12&\")=\"&$F$7&\" and Barix(\"&$D$12&\",reference:=StartOfSession)=\"&A57&\"\", \"Bar\", \"\", \"Close\",\"5\",\"0\",\"PrimaryOnly\",,,\"False\",\"T\",\"EveryTick\")","v":2781},1.8011527377521613E-3,{"$f":"RTD(\"cqg.rtd\",,\"StudyData\", \"Close(\"&$D$12&\") when LocalYear(\"&$D$12&\")=\"&$D$8&\" and localMonth(\"&$D$12&\") =\"&$E$8&\" and LocalDay(\"&$D$12&\")=\"&$F$8&\" and Barix(\"&$D$12&\",reference:=StartOfSession)=\"&A57&\"\", \"Bar\", \"\", \"Close\",\"5\",\"0\",\"PrimaryOnly\",,,\"False\",\"T\",\"EveryTick\")","v":2770},-2.1613832853025938E-3,{"$f":"RTD(\"cqg.rtd\",,\"StudyData\", \"Close(\"&$D$12&\") when LocalYear(\"&$D$12&\")=\"&$D$9&\" and localMonth(\"&$D$12&\") =\"&$E$9&\" and LocalDay(\"&$D$12&\")=\"&$F$9&\" and Barix(\"&$D$12&\",reference:=StartOfSession)=\"&A57&\"\", \"Bar\", \"\", \"Close\",\"5\",\"0\",\"PrimaryOnly\",,,\"False\",\"T\",\"EveryTick\")","v":2765.75},3.7198330611504264E-3,{"$f":"RTD(\"cqg.rtd\",,\"StudyData\", \"Close(\"&$D$12&\") when LocalYear(\"&$D$12&\")=\"&$D$10&\" and localMonth(\"&$D$12&\") =\"&$E$10&\" and LocalDay(\"&$D$12&\")=\"&$F$10&\" and Barix(\"&$D$12&\",reference:=StartOfSession)=\"&A57&\"\", \"Bar\", \"\", \"Close\",\"5\",\"0\",\"PrimaryOnly\",,,\"False\",\"T\",\"EveryTick\")","v":2751},4.5458678061641969E-4,null,null,null,""]
[57,"13:15:00",-20,{"$f":" RTD(\"cqg.rtd\",,\"StudyData\", $D$12,  \"Tick\", \"FlatTicks=0\", \"Tick\",\"D\",C58,\"PrimaryOnly\")","v":2762.25},null,null,null,{"$f":"RTD(\"cqg.rtd\",,\"StudyData\", \"Close(\"&$D$12&\") when LocalYear(\"&$D$12&\")=\"&$D$1&\" and localMonth(\"&$D$12&\") =\"&$E$1&\" and LocalDay(\"&$D$12&\")=\"&$F$1&\" and Barix(\"&$D$12&\",reference:=StartOfSession)=\"&A58&\"\", \"Bar\", \"\", \"Close\",\"5\",\"0\",\"PrimaryOnly\",,,\"False\",\"T\",\"EveryTick\")","v":""},{"$error":"#N/A"},{"$f":"RTD(\"cqg.rtd\",,\"StudyData\", \"Close(\"&$D$12&\") when LocalYear(\"&$D$12&\")=\"&$D$2&\" and localMonth(\"&$D$12&\") =\"&$E$2&\" and LocalDay(\"&$D$12&\")=\"&$F$2&\" and Barix(\"&$D$12&\",reference:=StartOfSession)=\"&A58&\"\", \"Bar\", \"\", \"Close\",\"5\",\"0\",\"PrimaryOnly\",,,\"False\",\"T\",\"EveryTick\")","v":2778.75},-3.4965034965034965E-3,{"$f":"RTD(\"cqg.rtd\",,\"StudyData\", \"Close(\"&$D$12&\") when LocalYear(\"&$D$12&\")=\"&$D$3&\" and localMonth(\"&$D$12&\") =\"&$E$3&\" and LocalDay(\"&$D$12&\")=\"&$F$3&\" and Barix(\"&$D$12&\",reference:=StartOfSession)=\"&A58&\"\", \"Bar\", \"\", \"Close\",\"5\",\"0\",\"PrimaryOnly\",,,\"False\",\"T\",\"EveryTick\")","v":2786.25},2.6088521050737674E-3,{"$f":"RTD(\"cqg.rtd\",,\"StudyData\", \"Close(\"&$D$12&\") when LocalYear(\"&$D$12&\")=\"&$D$4&\" and localMonth(\"&$D$12&\") =\"&$E$4&\" and LocalDay(\"&$D$12&\")=\"&$F$4&\" and Barix(\"&$D$12&\",reference:=StartOfSession)=\"&A58&\"\", \"Bar\", \"\", \"Close\",\"5\",\"0\",\"PrimaryOnly\",,,\"False\",\"T\",\"EveryTick\")","v":2787.75},-1.7932394871335067E-4,{"$f":"RTD(\"cqg.rtd\",,\"StudyData\", \"Close(\"&$D$12&\") when LocalYear(\"&$D$12&\")=\"&$D$5&\" and localMonth(\"&$D$12&\") =\"&$E$5&\" and LocalDay(\"&$D$12&\")=\"&$F$5&\" and Barix(\"&$D$12&\",reference:=StartOfSession)=\"&A58&\"\", \"Bar\", \"\", \"Close\",\"5\",\"0\",\"PrimaryOnly\",,,\"False\",\"T\",\"EveryTick\")","v":2788.25},5.3826141562752312E-4,{"$f":"RTD(\"cqg.rtd\",,\"StudyData\", \"Close(\"&$D$12&\") when LocalYear(\"&$D$12&\")=\"&$D$6&\" and localMonth(\"&$D$12&\") =\"&$E$6&\" and LocalDay(\"&$D$12&\")=\"&$F$6&\" and Barix(\"&$D$12&\",reference:=StartOfSession)=\"&A58&\"\", \"Bar\", \"\", \"Close\",\"5\",\"0\",\"PrimaryOnly\",,,\"False\",\"T\",\"EveryTick\")","v":2790.5},2.8751123090745732E-3,{"$f":"RTD(\"cqg.rtd\",,\"StudyData\", \"Close(\"&$D$12&\") when LocalYear(\"&$D$12&\")=\"&$D$7&\" and localMonth(\"&$D$12&\") =\"&$E$7&\" and LocalDay(\"&$D$12&\")=\"&$F$7&\" and Barix(\"&$D$12&\",reference:=StartOfSession)=\"&A58&\"\", \"Bar\", \"\", \"Close\",\"5\",\"0\",\"PrimaryOnly\",,,\"False\",\"T\",\"EveryTick\")","v":2780},1.440922190201729E-3,{"$f":"RTD(\"cqg.rtd\",,\"StudyData\", \"Close(\"&$D$12&\") when LocalYear(\"&$D$12&\")=\"&$D$8&\" and localMonth(\"&$D$12&\") =\"&$E$8&\" and LocalDay(\"&$D$12&\")=\"&$F$8&\" and Barix(\"&$D$12&\",reference:=StartOfSession)=\"&A58&\"\", \"Bar\", \"\", \"Close\",\"5\",\"0\",\"PrimaryOnly\",,,\"False\",\"T\",\"EveryTick\")","v":2770.5},-1.9812680115273776E-3,{"$f":"RTD(\"cqg.rtd\",,\"StudyData\", \"Close(\"&$D$12&\") when LocalYear(\"&$D$12&\")=\"&$D$9&\" and localMonth(\"&$D$12&\") =\"&$E$9&\" and LocalDay(\"&$D$12&\")=\"&$F$9&\" and Barix(\"&$D$12&\",reference:=StartOfSession)=\"&A58&\"\", \"Bar\", \"\", \"Close\",\"5\",\"0\",\"PrimaryOnly\",,,\"False\",\"T\",\"EveryTick\")","v":2765.75},3.7198330611504264E-3,{"$f":"RTD(\"cqg.rtd\",,\"StudyData\", \"Close(\"&$D$12&\") when LocalYear(\"&$D$12&\")=\"&$D$10&\" and localMonth(\"&$D$12&\") =\"&$E$10&\" and LocalDay(\"&$D$12&\")=\"&$F$10&\" and Barix(\"&$D$12&\",reference:=StartOfSession)=\"&A58&\"\", \"Bar\", \"\", \"Close\",\"5\",\"0\",\"PrimaryOnly\",,,\"False\",\"T\",\"EveryTick\")","v":2752.75},1.0910082734794072E-3,null,null,null,""]
[58,"13:20:00",{"$f":"C58+1","v":-19},{"$f":" RTD(\"cqg.rtd\",,\"StudyData\", $D$12,  \"Tick\", \"FlatTicks=0\", \"Tick\",\"D\",C59,\"PrimaryOnly\")","v":2762.5},null,null,null,{"$f":"RTD(\"cqg.rtd\",,\"StudyData\", \"Close(\"&$D$12&\") when LocalYear(\"&$D$12&\")=\"&$D$1&\" and localMonth(\"&$D$12&\") =\"&$E$1&\" and LocalDay(\"&$D$12&\")=\"&$F$1&\" and Barix(\"&$D$12&\",reference:=StartOfSession)=\"&A59&\"\", \"Bar\", \"\", \"Close\",\"5\",\"0\",\"PrimaryOnly\",,,\"False\",\"T\",\"EveryTick\")","v":""},{"$error":"#N/A"},{"$f":"RTD(\"cqg.rtd\",,\"StudyData\", \"Close(\"&$D$12&\") when LocalYear(\"&$D$12&\")=\"&$D$2&\" and localMonth(\"&$D$12&\") =\"&$E$2&\" and LocalDay(\"&$D$12&\")=\"&$F$2&\" and Barix(\"&$D$12&\",reference:=StartOfSession)=\"&A59&\"\", \"Bar\", \"\", \"Close\",\"5\",\"0\",\"PrimaryOnly\",,,\"False\",\"T\",\"EveryTick\")","v":2782},-2.331002331002331E-3,{"$f":"RTD(\"cqg.rtd\",,\"StudyData\", \"Close(\"&$D$12&\") when LocalYear(\"&$D$12&\")=\"&$D$3&\" and localMonth(\"&$D$12&\") =\"&$E$3&\" and LocalDay(\"&$D$12&\")=\"&$F$3&\" and Barix(\"&$D$12&\",reference:=StartOfSession)=\"&A59&\"\", \"Bar\", \"\", \"Close\",\"5\",\"0\",\"PrimaryOnly\",,,\"False\",\"T\",\"EveryTick\")","v":2787.25},2.968693774739115E-3,{"$f":"RTD(\"cqg.rtd\",,\"StudyData\", \"Close(\"&$D$12&\") when LocalYear(\"&$D$12&\")=\"&$D$4&\" and localMonth(\"&$D$12&\") =\"&$E$4&\" and LocalDay(\"&$D$12&\")=\"&$F$4&\" and Barix(\"&$D$12&\",reference:=StartOfSession)=\"&A59&\"\", \"Bar\", \"\", \"Close\",\"5\",\"0\",\"PrimaryOnly\",,,\"False\",\"T\",\"EveryTick\")","v":2784},-1.5242535640634808E-3,{"$f":"RTD(\"cqg.rtd\",,\"StudyData\", \"Close(\"&$D$12&\") when LocalYear(\"&$D$12&\")=\"&$D$5&\" and localMonth(\"&$D$12&\") =\"&$E$5&\" and LocalDay(\"&$D$12&\")=\"&$F$5&\" and Barix(\"&$D$12&\",reference:=StartOfSession)=\"&A59&\"\", \"Bar\", \"\", \"Close\",\"5\",\"0\",\"PrimaryOnly\",,,\"False\",\"T\",\"EveryTick\")","v":2787.25},1.7942047187584104E-4,{"$f":"RTD(\"cqg.rtd\",,\"StudyData\", \"Close(\"&$D$12&\") when LocalYear(\"&$D$12&\")=\"&$D$6&\" and localMonth(\"&$D$12&\") =\"&$E$6&\" and LocalDay(\"&$D$12&\")=\"&$F$6&\" and Barix(\"&$D$12&\",reference:=StartOfSession)=\"&A59&\"\", \"Bar\", \"\", \"Close\",\"5\",\"0\",\"PrimaryOnly\",,,\"False\",\"T\",\"EveryTick\")","v":2791.75},3.3243486073674753E-3,{"$f":"RTD(\"cqg.rtd\",,\"StudyData\", \"Close(\"&$D$12&\") when LocalYear(\"&$D$12&\")=\"&$D$7&\" and localMonth(\"&$D$12&\") =\"&$E$7&\" and LocalDay(\"&$D$12&\")=\"&$F$7&\" and Barix(\"&$D$12&\",reference:=StartOfSession)=\"&A59&\"\", \"Bar\", \"\", \"Close\",\"5\",\"0\",\"PrimaryOnly\",,,\"False\",\"T\",\"EveryTick\")","v":2779.25},1.1707492795389048E-3,{"$f":"RTD(\"cqg.rtd\",,\"StudyData\", \"Close(\"&$D$12&\") when LocalYear(\"&$D$12&\")=\"&$D$8&\" and localMonth(\"&$D$12&\") =\"&$E$8&\" and LocalDay(\"&$D$12&\")=\"&$F$8&\" and Barix(\"&$D$12&\",reference:=StartOfSession)=\"&A59&\"\", \"Bar\", \"\", \"Close\",\"5\",\"0\",\"PrimaryOnly\",,,\"False\",\"T\",\"EveryTick\")","v":2771},-1.8011527377521613E-3,{"$f":"RTD(\"cqg.rtd\",,\"StudyData\", \"Close(\"&$D$12&\") when LocalYear(\"&$D$12&\")=\"&$D$9&\" and localMonth(\"&$D$12&\") =\"&$E$9&\" and LocalDay(\"&$D$12&\")=\"&$F$9&\" and Barix(\"&$D$12&\",reference:=StartOfSession)=\"&A59&\"\", \"Bar\", \"\", \"Close\",\"5\",\"0\",\"PrimaryOnly\",,,\"False\",\"T\",\"EveryTick\")","v":2766.25},3.9012883324260569E-3,{"$f":"RTD(\"cqg.rtd\",,\"StudyData\", \"Close(\"&$D$12&\") when LocalYear(\"&$D$12&\")=\"&$D$10&\" and localMonth(\"&$D$12&\") =\"&$E$10&\" and LocalDay(\"&$D$12&\")=\"&$F$10&\" and Barix(\"&$D$12&\",reference:=StartOfSession)=\"&A59&\"\", \"Bar\", \"\", \"Close\",\"5\",\"0\",\"PrimaryOnly\",,,\"False\",\"T\",\"EveryTick\")","v":2752.5},1.0000909173561233E-3,null,null,null,""]
[59,"13:25:00",{"$f":"C59+1","v":-18},{"$f":" RTD(\"cqg.rtd\",,\"StudyData\", $D$12,  \"Tick\", \"FlatTicks=0\", \"Tick\",\"D\",C60,\"PrimaryOnly\")","v":2762.25},null,null,null,{"$f":"RTD(\"cqg.rtd\",,\"StudyData\", \"Close(\"&$D$12&\") when LocalYear(\"&$D$12&\")=\"&$D$1&\" and localMonth(\"&$D$12&\") =\"&$E$1&\" and LocalDay(\"&$D$12&\")=\"&$F$1&\" and Barix(\"&$D$12&\",reference:=StartOfSession)=\"&A60&\"\", \"Bar\", \"\", \"Close\",\"5\",\"0\",\"PrimaryOnly\",,,\"False\",\"T\",\"EveryTick\")","v":""},{"$error":"#N/A"},{"$f":"RTD(\"cqg.rtd\",,\"StudyData\", \"Close(\"&$D$12&\") when LocalYear(\"&$D$12&\")=\"&$D$2&\" and localMonth(\"&$D$12&\") =\"&$E$2&\" and LocalDay(\"&$D$12&\")=\"&$F$2&\" and Barix(\"&$D$12&\",reference:=StartOfSession)=\"&A60&\"\", \"Bar\", \"\", \"Close\",\"5\",\"0\",\"PrimaryOnly\",,,\"False\",\"T\",\"EveryTick\")","v":2785.25},-1.1655011655011655E-3,{"$f":"RTD(\"cqg.rtd\",,\"StudyData\", \"Close(\"&$D$12&\") when LocalYear(\"&$D$12&\")=\"&$D$3&\" and localMonth(\"&$D$12&\") =\"&$E$3&\" and LocalDay(\"&$D$12&\")=\"&$F$3&\" and Barix(\"&$D$12&\",reference:=StartOfSession)=\"&A60&\"\", \"Bar\", \"\", \"Close\",\"5\",\"0\",\"PrimaryOnly\",,,\"False\",\"T\",\"EveryTick\")","v":2786.75},2.788772939906441E-3,{"$f":"RTD(\"cqg.rtd\",,\"StudyData\", \"Close(\"&$D$12&\") when LocalYear(\"&$D$12&\")=\"&$D$4&\" and localMonth(\"&$D$12&\") =\"&$E$4&\" and LocalDay(\"&$D$12&\")=\"&$F$4&\" and Barix(\"&$D$12&\",reference:=StartOfSession)=\"&A60&\"\", \"Bar\", \"\", \"Close\",\"5\",\"0\",\"PrimaryOnly\",,,\"False\",\"T\",\"EveryTick\")","v":2784.25},-1.4345915897068053E-3,{"$f":"RTD(\"cqg.rtd\",,\"StudyData\", \"Close(\"&$D$12&\") when LocalYear(\"&$D$12&\")=\"&$D$5&\" and localMonth(\"&$D$12&\") =\"&$E$5&\" and LocalDay(\"&$D$12&\")=\"&$F$5&\" and Barix(\"&$D$12&\",reference:=StartOfSession)=\"&A60&\"\", \"Bar\", \"\", \"Close\",\"5\",\"0\",\"PrimaryOnly\",,,\"False\",\"T\",\"EveryTick\")","v":2785.25},-5.3826141562752312E-4,{"$f":"RTD(\"cqg.rtd\",,\"StudyData\", \"Close(\"&$D$12&\") when LocalYear(\"&$D$12&\")=\"&$D$6&\" and localMonth(\"&$D$12&\") =\"&$E$6&\" and LocalDay(\"&$D$12&\")=\"&$F$6&\" and Barix(\"&$D$12&\",reference:=StartOfSession)=\"&A60&\"\", \"Bar\", \"\", \"Close\",\"5\",\"0\",\"PrimaryOnly\",,,\"False\",\"T\",\"EveryTick\")","v":2790.75},2.9649595687331535E-3,{"$f":"RTD(\"cqg.rtd\",,\"StudyData\", \"Close(\"&$D$12&\") when LocalYear(\"&$D$12&\")=\"&$D$7&\" and localMonth(\"&$D$12&\") =\"&$E$7&\" and LocalDay(\"&$D$12&\")=\"&$F$7&\" and Barix(\"&$D$12&\",reference:=StartOfSession)=\"&A60&\"\", \"Bar\", \"\", \"Close\",\"5\",\"0\",\"PrimaryOnly\",,,\"False\",\"T\",\"EveryTick\")","v":2779.25},1.1707492795389048E-3,{"$f":"RTD(\"cqg.rtd\",,\"StudyData\", \"Close(\"&$D$12&\") when LocalYear(\"&$D$12&\")=\"&$D$8&\" and localMonth(\"&$D$12&\") =\"&$E$8&\" and LocalDay(\"&$D$12&\")=\"&$F$8&\" and Barix(\"&$D$12&\",reference:=StartOfSession)=\"&A60&\"\", \"Bar\", \"\", \"Close\",\"5\",\"0\",\"PrimaryOnly\",,,\"False\",\"T\",\"EveryTick\")","v":2770.5},-1.9812680115273776E-3,{"$f":"RTD(\"cqg.rtd\",,\"StudyData\", \"Close(\"&$D$12&\") when LocalYear(\"&$D$12&\")=\"&$D$9&\" and localMonth(\"&$D$12&\") =\"&$E$9&\" and LocalDay(\"&$D$12&\")=\"&$F$9&\" and Barix(\"&$D$12&\",reference:=StartOfSession)=\"&A60&\"\", \"Bar\", \"\", \"Close\",\"5\",\"0\",\"PrimaryOnly\",,,\"False\",\"T\",\"EveryTick\")","v":2767.25},4.2641988749773183E-3,{"$f":"RTD(\"cqg.rtd\",,\"StudyData\", \"Close(\"&$D$12&\") when LocalYear(\"&$D$12&\")=\"&$D$10&\" and localMonth(\"&$D$12&\") =\"&$E$10&\" and LocalDay(\"&$D$12&\")=\"&$F$10&\" and Barix(\"&$D$12&\",reference:=StartOfSession)=\"&A60&\"\", \"Bar\", \"\", \"Close\",\"5\",\"0\",\"PrimaryOnly\",,,\"False\",\"T\",\"EveryTick\")","v":2752.75},1.0910082734794072E-3,null,null,null,""]
[60,"13:30:00",-17,{"$f":" RTD(\"cqg.rtd\",,\"StudyData\", $D$12,  \"Tick\", \"FlatTicks=0\", \"Tick\",\"D\",C61,\"PrimaryOnly\")","v":2762.5},null,null,null,{"$f":"RTD(\"cqg.rtd\",,\"StudyData\", \"Close(\"&$D$12&\") when LocalYear(\"&$D$12&\")=\"&$D$1&\" and localMonth(\"&$D$12&\") =\"&$E$1&\" and LocalDay(\"&$D$12&\")=\"&$F$1&\" and Barix(\"&$D$12&\",reference:=StartOfSession)=\"&A61&\"\", \"Bar\", \"\", \"Close\",\"5\",\"0\",\"PrimaryOnly\",,,\"False\",\"T\",\"EveryTick\")","v":""},{"$error":"#N/A"},{"$f":"RTD(\"cqg.rtd\",,\"StudyData\", \"Close(\"&$D$12&\") when LocalYear(\"&$D$12&\")=\"&$D$2&\" and localMonth(\"&$D$12&\") =\"&$E$2&\" and LocalDay(\"&$D$12&\")=\"&$F$2&\" and Barix(\"&$D$12&\",reference:=StartOfSession)=\"&A61&\"\", \"Bar\", \"\", \"Close\",\"5\",\"0\",\"PrimaryOnly\",,,\"False\",\"T\",\"EveryTick\")","v":2786.25},-8.0688542227003765E-4,{"$f":"RTD(\"cqg.rtd\",,\"StudyData\", \"Close(\"&$D$12&\") when LocalYear(\"&$D$12&\")=\"&$D$3&\" and localMonth(\"&$D$12&\") =\"&$E$3&\" and LocalDay(\"&$D$12&\")=\"&$F$3&\" and Barix(\"&$D$12&\",reference:=StartOfSession)=\"&A61&\"\", \"Bar\", \"\", \"Close\",\"5\",\"0\",\"PrimaryOnly\",,,\"False\",\"T\",\"EveryTick\")","v":2786},2.5188916876574307E-3,{"$f":"RTD(\"cqg.rtd\",,\"StudyData\", \"Close(\"&$D$12&\") when LocalYear(\"&$D$12&\")=\"&$D$4&\" and localMonth(\"&$D$12&\") =\"&$E$4&\" and LocalDay(\"&$D$12&\")=\"&$F$4&\" and Barix(\"&$D$12&\",reference:=StartOfSession)=\"&A61&\"\", \"Bar\", \"\", \"Close\",\"5\",\"0\",\"PrimaryOnly\",,,\"False\",\"T\",\"EveryTick\")","v":2785},-1.1656056666367793E-3,{"$f":"RTD(\"cqg.rtd\",,\"StudyData\", \"Close(\"&$D$12&\") when LocalYear(\"&$D$12&\")=\"&$D$5&\" and localMonth(\"&$D$12&\") =\"&$E$5&\" and LocalDay(\"&$D$12&\")=\"&$F$5&\" and Barix(\"&$D$12&\",reference:=StartOfSession)=\"&A61&\"\", \"Bar\", \"\", \"Close\",\"5\",\"0\",\"PrimaryOnly\",,,\"False\",\"T\",\"EveryTick\")","v":2785},-6.2797165156544359E-4,{"$f":"RTD(\"cqg.rtd\",,\"StudyData\", \"Close(\"&$D$12&\") when LocalYear(\"&$D$12&\")=\"&$D$6&\" and localMonth(\"&$D$12&\") =\"&$E$6&\" and LocalDay(\"&$D$12&\")=\"&$F$6&\" and Barix(\"&$D$12&\",reference:=StartOfSession)=\"&A61&\"\", \"Bar\", \"\", \"Close\",\"5\",\"0\",\"PrimaryOnly\",,,\"False\",\"T\",\"EveryTick\")","v":2790.5},2.8751123090745732E-3,{"$f":"RTD(\"cqg.rtd\",,\"StudyData\", \"Close(\"&$D$12&\") when LocalYear(\"&$D$12&\")=\"&$D$7&\" and localMonth(\"&$D$12&\") =\"&$E$7&\" and LocalDay(\"&$D$12&\")=\"&$F$7&\" and Barix(\"&$D$12&\",reference:=StartOfSession)=\"&A61&\"\", \"Bar\", \"\", \"Close\",\"5\",\"0\",\"PrimaryOnly\",,,\"False\",\"T\",\"EveryTick\")","v":2779.5},1.260806916426513E-3,{"$f":"RTD(\"cqg.rtd\",,\"StudyData\", \"Close(\"&$D$12&\") when LocalYear(\"&$D$12&\")=\"&$D$8&\" and localMonth(\"&$D$12&\") =\"&$E$8&\" and LocalDay(\"&$D$12&\")=\"&$F$8&\" and Barix(\"&$D$12&\",reference:=StartOfSession)=\"&A61&\"\", \"Bar\", \"\", \"Close\",\"5\",\"0\",\"PrimaryOnly\",,,\"False\",\"T\",\"EveryTick\")","v":2771.75},-1.5309798270893371E-3,{"$f":"RTD(\"cqg.rtd\",,\"StudyData\", \"Close(\"&$D$12&\") when LocalYear(\"&$D$12&\")=\"&$D$9&\" and localMonth(\"&$D$12&\") =\"&$E$9&\" and LocalDay(\"&$D$12&\")=\"&$F$9&\" and Barix(\"&$D$12&\",reference:=StartOfSession)=\"&A61&\"\", \"Bar\", \"\", \"Close\",\"5\",\"0\",\"PrimaryOnly\",,,\"False\",\"T\",\"EveryTick\")","v":2767.25},4.2641988749773183E-3,{"$f":"RTD(\"cqg.rtd\",,\"StudyData\", \"Close(\"&$D$12&\") when LocalYear(\"&$D$12&\")=\"&$D$10&\" and localMonth(\"&$D$12&\") =\"&$E$10&\" and LocalDay(\"&$D$12&\")=\"&$F$10&\" and Barix(\"&$D$12&\",reference:=StartOfSession)=\"&A61&\"\", \"Bar\", \"\", \"Close\",\"5\",\"0\",\"PrimaryOnly\",,,\"False\",\"T\",\"EveryTick\")","v":2753},1.1819256296026911E-3,null,null,null,""]
[61,"13:35:00",-16,{"$f":" RTD(\"cqg.rtd\",,\"StudyData\", $D$12,  \"Tick\", \"FlatTicks=0\", \"Tick\",\"D\",C62,\"PrimaryOnly\")","v":2762.25},null,null,null,{"$f":"RTD(\"cqg.rtd\",,\"StudyData\", \"Close(\"&$D$12&\") when LocalYear(\"&$D$12&\")=\"&$D$1&\" and localMonth(\"&$D$12&\") =\"&$E$1&\" and LocalDay(\"&$D$12&\")=\"&$F$1&\" and Barix(\"&$D$12&\",reference:=StartOfSession)=\"&A62&\"\", \"Bar\", \"\", \"Close\",\"5\",\"0\",\"PrimaryOnly\",,,\"False\",\"T\",\"EveryTick\")","v":""},{"$error":"#N/A"},{"$f":"RTD(\"cqg.rtd\",,\"StudyData\", \"Close(\"&$D$12&\") when LocalYear(\"&$D$12&\")=\"&$D$2&\" and localMonth(\"&$D$12&\") =\"&$E$2&\" and LocalDay(\"&$D$12&\")=\"&$F$2&\" and Barix(\"&$D$12&\",reference:=StartOfSession)=\"&A62&\"\", \"Bar\", \"\", \"Close\",\"5\",\"0\",\"PrimaryOnly\",,,\"False\",\"T\",\"EveryTick\")","v":2784.75},-1.3448090371167294E-3,{"$f":"RTD(\"cqg.rtd\",,\"StudyData\", \"Close(\"&$D$12&\") when LocalYear(\"&$D$12&\")=\"&$D$3&\" and localMonth(\"&$D$12&\") =\"&$E$3&\" and LocalDay(\"&$D$12&\")=\"&$F$3&\" and Barix(\"&$D$12&\",reference:=StartOfSession)=\"&A62&\"\", \"Bar\", \"\", \"Close\",\"5\",\"0\",\"PrimaryOnly\",,,\"False\",\"T\",\"EveryTick\")","v":2786},2.5188916876574307E-3,{"$f":"RTD(\"cqg.rtd\",,\"StudyData\", \"Close(\"&$D$12&\") when LocalYear(\"&$D$12&\")=\"&$D$4&\" and localMonth(\"&$D$12&\") =\"&$E$4&\" and LocalDay(\"&$D$12&\")=\"&$F$4&\" and Barix(\"&$D$12&\",reference:=StartOfSession)=\"&A62&\"\", \"Bar\", \"\", \"Close\",\"5\",\"0\",\"PrimaryOnly\",,,\"False\",\"T\",\"EveryTick\")","v":2787.5},-2.6898592307002603E-4,{"$f":"RTD(\"cqg.rtd\",,\"StudyData\", \"Close(\"&$D$12&\") when LocalYear(\"&$D$12&\")=\"&$D$5&\" and localMonth(\"&$D$12&\") =\"&$E$5&\" and LocalDay(\"&$D$12&\")=\"&$F$5&\" and Barix(\"&$D$12&\",reference:=StartOfSession)=\"&A62&\"\", \"Bar\", \"\", \"Close\",\"5\",\"0\",\"PrimaryOnly\",,,\"False\",\"T\",\"EveryTick\")","v":2785.5},-4.485511796896026E-4,{"$f":"RTD(\"cqg.rtd\",,\"StudyData\", \"Close(\"&$D$12&\") when LocalYear(\"&$D$12&\")=\"&$D$6&\" and localMonth(\"&$D$12&\") =\"&$E$6&\" and LocalDay(\"&$D$12&\")=\"&$F$6&\" and Barix(\"&$D$12&\",reference:=StartOfSession)=\"&A62&\"\", \"Bar\", \"\", \"Close\",\"5\",\"0\",\"PrimaryOnly\",,,\"False\",\"T\",\"EveryTick\")","v":2790},2.6954177897574125E-3,{"$f":"RTD(\"cqg.rtd\",,\"StudyData\", \"Close(\"&$D$12&\") when LocalYear(\"&$D$12&\")=\"&$D$7&\" and localMonth(\"&$D$12&\") =\"&$E$7&\" and LocalDay(\"&$D$12&\")=\"&$F$7&\" and Barix(\"&$D$12&\",reference:=StartOfSession)=\"&A62&\"\", \"Bar\", \"\", \"Close\",\"5\",\"0\",\"PrimaryOnly\",,,\"False\",\"T\",\"EveryTick\")","v":2779.75},1.3508645533141211E-3,{"$f":"RTD(\"cqg.rtd\",,\"StudyData\", \"Close(\"&$D$12&\") when LocalYear(\"&$D$12&\")=\"&$D$8&\" and localMonth(\"&$D$12&\") =\"&$E$8&\" and LocalDay(\"&$D$12&\")=\"&$F$8&\" and Barix(\"&$D$12&\",reference:=StartOfSession)=\"&A62&\"\", \"Bar\", \"\", \"Close\",\"5\",\"0\",\"PrimaryOnly\",,,\"False\",\"T\",\"EveryTick\")","v":2772.5},-1.260806916426513E-3,{"$f":"RTD(\"cqg.rtd\",,\"StudyData\", \"Close(\"&$D$12&\") when LocalYear(\"&$D$12&\")=\"&$D$9&\" and localMonth(\"&$D$12&\") =\"&$E$9&\" and LocalDay(\"&$D$12&\")=\"&$F$9&\" and Barix(\"&$D$12&\",reference:=StartOfSession)=\"&A62&\"\", \"Bar\", \"\", \"Close\",\"5\",\"0\",\"PrimaryOnly\",,,\"False\",\"T\",\"EveryTick\")","v":2769.25},4.9900199600798403E-3,{"$f":"RTD(\"cqg.rtd\",,\"StudyData\", \"Close(\"&$D$12&\") when LocalYear(\"&$D$12&\")=\"&$D$10&\" and localMonth(\"&$D$12&\") =\"&$E$10&\" and LocalDay(\"&$D$12&\")=\"&$F$10&\" and Barix(\"&$D$12&\",reference:=StartOfSession)=\"&A62&\"\", \"Bar\", \"\", \"Close\",\"5\",\"0\",\"PrimaryOnly\",,,\"False\",\"T\",\"EveryTick\")","v":2752.75},1.0910082734794072E-3,null,null,null,""]
[62,"13:40:00",-15,{"$f":" RTD(\"cqg.rtd\",,\"StudyData\", $D$12,  \"Tick\", \"FlatTicks=0\", \"Tick\",\"D\",C63,\"PrimaryOnly\")","v":2762.5},null,null,null,{"$f":"RTD(\"cqg.rtd\",,\"StudyData\", \"Close(\"&$D$12&\") when LocalYear(\"&$D$12&\")=\"&$D$1&\" and localMonth(\"&$D$12&\") =\"&$E$1&\" and LocalDay(\"&$D$12&\")=\"&$F$1&\" and Barix(\"&$D$12&\",reference:=StartOfSession)=\"&A63&\"\", \"Bar\", \"\", \"Close\",\"5\",\"0\",\"PrimaryOnly\",,,\"False\",\"T\",\"EveryTick\")","v":""},{"$error":"#N/A"},{"$f":"RTD(\"cqg.rtd\",,\"StudyData\", \"Close(\"&$D$12&\") when LocalYear(\"&$D$12&\")=\"&$D$2&\" and localMonth(\"&$D$12&\") =\"&$E$2&\" and LocalDay(\"&$D$12&\")=\"&$F$2&\" and Barix(\"&$D$12&\",reference:=StartOfSession)=\"&A63&\"\", \"Bar\", \"\", \"Close\",\"5\",\"0\",\"PrimaryOnly\",,,\"False\",\"T\",\"EveryTick\")","v":2784.75},-1.3448090371167294E-3,{"$f":"RTD(\"cqg.rtd\",,\"StudyData\", \"Close(\"&$D$12&\") when LocalYear(\"&$D$12&\")=\"&$D$3&\" and localMonth(\"&$D$12&\") =\"&$E$3&\" and LocalDay(\"&$D$12&\")=\"&$F$3&\" and Barix(\"&$D$12&\",reference:=StartOfSession)=\"&A63&\"\", \"Bar\", \"\", \"Close\",\"5\",\"0\",\"PrimaryOnly\",,,\"False\",\"T\",\"EveryTick\")","v":2786.75},2.788772939906441E-3,{"$f":"RTD(\"cqg.rtd\",,\"StudyData\", \"Close(\"&$D$12&\") when LocalYear(\"&$D$12&\")=\"&$D$4&\" and localMonth(\"&$D$12&\") =\"&$E$4&\" and LocalDay(\"&$D$12&\")=\"&$F$4&\" and Barix(\"&$D$12&\",reference:=StartOfSession)=\"&A63&\"\", \"Bar\", \"\", \"Close\",\"5\",\"0\",\"PrimaryOnly\",,,\"False\",\"T\",\"EveryTick\")","v":2787},-4.483098717833767E-4,{"$f":"RTD(\"cqg.rtd\",,\"StudyData\", \"Close(\"&$D$12&\") when LocalYear(\"&$D$12&\")=\"&$D$5&\" and localMonth(\"&$D$12&\") =\"&$E$5&\" and LocalDay(\"&$D$12&\")=\"&$F$5&\" and Barix(\"&$D$12&\",reference:=StartOfSession)=\"&A63&\"\", \"Bar\", \"\", \"Close\",\"5\",\"0\",\"PrimaryOnly\",,,\"False\",\"T\",\"EveryTick\")","v":2785.5},-4.485511796896026E-4,{"$f":"RTD(\"cqg.rtd\",,\"StudyData\", \"Close(\"&$D$12&\") when LocalYear(\"&$D$12&\")=\"&$D$6&\" and localMonth(\"&$D$12&\") =\"&$E$6&\" and LocalDay(\"&$D$12&\")=\"&$F$6&\" and Barix(\"&$D$12&\",reference:=StartOfSession)=\"&A63&\"\", \"Bar\", \"\", \"Close\",\"5\",\"0\",\"PrimaryOnly\",,,\"False\",\"T\",\"EveryTick\")","v":2790.25},2.7852650494159929E-3,{"$f":"RTD(\"cqg.rtd\",,\"StudyData\", \"Close(\"&$D$12&\") when LocalYear(\"&$D$12&\")=\"&$D$7&\" and localMonth(\"&$D$12&\") =\"&$E$7&\" and LocalDay(\"&$D$12&\")=\"&$F$7&\" and Barix(\"&$D$12&\",reference:=StartOfSession)=\"&A63&\"\", \"Bar\", \"\", \"Close\",\"5\",\"0\",\"PrimaryOnly\",,,\"False\",\"T\",\"EveryTick\")","v":2781},1.8011527377521613E-3,{"$f":"RTD(\"cqg.rtd\",,\"StudyData\", \"Close(\"&$D$12&\") when LocalYear(\"&$D$12&\")=\"&$D$8&\" and localMonth(\"&$D$12&\") =\"&$E$8&\" and LocalDay(\"&$D$12&\")=\"&$F$8&\" and Barix(\"&$D$12&\",reference:=StartOfSession)=\"&A63&\"\", \"Bar\", \"\", \"Close\",\"5\",\"0\",\"PrimaryOnly\",,,\"False\",\"T\",\"EveryTick\")","v":2771.25},-1.7110951008645534E-3,{"$f":"RTD(\"cqg.rtd\",,\"StudyData\", \"Close(\"&$D$12&\") when LocalYear(\"&$D$12&\")=\"&$D$9&\" and localMonth(\"&$D$12&\") =\"&$E$9&\" and LocalDay(\"&$D$12&\")=\"&$F$9&\" and Barix(\"&$D$12&\",reference:=StartOfSession)=\"&A63&\"\", \"Bar\", \"\", \"Close\",\"5\",\"0\",\"PrimaryOnly\",,,\"False\",\"T\",\"EveryTick\")","v":2771.25},5.7158410451823623E-3,{"$f":"RTD(\"cqg.rtd\",,\"StudyData\", \"Close(\"&$D$12&\") when LocalYear(\"&$D$12&\")=\"&$D$10&\" and localMonth(\"&$D$12&\") =\"&$E$10&\" and LocalDay(\"&$D$12&\")=\"&$F$10&\" and Barix(\"&$D$12&\",reference:=StartOfSession)=\"&A63&\"\", \"Bar\", \"\", \"Close\",\"5\",\"0\",\"PrimaryOnly\",,,\"False\",\"T\",\"EveryTick\")","v":2753.25},1.2728429857259752E-3,null,null,null,""]
[63,"13:45:00",-14,{"$f":" RTD(\"cqg.rtd\",,\"StudyData\", $D$12,  \"Tick\", \"FlatTicks=0\", \"Tick\",\"D\",C64,\"PrimaryOnly\")","v":2762.25},null,null,null,{"$f":"RTD(\"cqg.rtd\",,\"StudyData\", \"Close(\"&$D$12&\") when LocalYear(\"&$D$12&\")=\"&$D$1&\" and localMonth(\"&$D$12&\") =\"&$E$1&\" and LocalDay(\"&$D$12&\")=\"&$F$1&\" and Barix(\"&$D$12&\",reference:=StartOfSession)=\"&A64&\"\", \"Bar\", \"\", \"Close\",\"5\",\"0\",\"PrimaryOnly\",,,\"False\",\"T\",\"EveryTick\")","v":""},{"$error":"#N/A"},{"$f":"RTD(\"cqg.rtd\",,\"StudyData\", \"Close(\"&$D$12&\") when LocalYear(\"&$D$12&\")=\"&$D$2&\" and localMonth(\"&$D$12&\") =\"&$E$2&\" and LocalDay(\"&$D$12&\")=\"&$F$2&\" and Barix(\"&$D$12&\",reference:=StartOfSession)=\"&A64&\"\", \"Bar\", \"\", \"Close\",\"5\",\"0\",\"PrimaryOnly\",,,\"False\",\"T\",\"EveryTick\")","v":2783.75},-1.7034247803478573E-3,{"$f":"RTD(\"cqg.rtd\",,\"StudyData\", \"Close(\"&$D$12&\") when LocalYear(\"&$D$12&\")=\"&$D$3&\" and localMonth(\"&$D$12&\") =\"&$E$3&\" and LocalDay(\"&$D$12&\")=\"&$F$3&\" and Barix(\"&$D$12&\",reference:=StartOfSession)=\"&A64&\"\", \"Bar\", \"\", \"Close\",\"5\",\"0\",\"PrimaryOnly\",,,\"False\",\"T\",\"EveryTick\")","v":2786.75},2.788772939906441E-3,{"$f":"RTD(\"cqg.rtd\",,\"StudyData\", \"Close(\"&$D$12&\") when LocalYear(\"&$D$12&\")=\"&$D$4&\" and localMonth(\"&$D$12&\") =\"&$E$4&\" and LocalDay(\"&$D$12&\")=\"&$F$4&\" and Barix(\"&$D$12&\",reference:=StartOfSession)=\"&A64&\"\", \"Bar\", \"\", \"Close\",\"5\",\"0\",\"PrimaryOnly\",,,\"False\",\"T\",\"EveryTick\")","v":2785.75},-8.9661974356675339E-4,{"$f":"RTD(\"cqg.rtd\",,\"StudyData\", \"Close(\"&$D$12&\") when LocalYear(\"&$D$12&\")=\"&$D$5&\" and localMonth(\"&$D$12&\") =\"&$E$5&\" and LocalDay(\"&$D$12&\")=\"&$F$5&\" and Barix(\"&$D$12&\",reference:=StartOfSession)=\"&A64&\"\", \"Bar\", \"\", \"Close\",\"5\",\"0\",\"PrimaryOnly\",,,\"False\",\"T\",\"EveryTick\")","v":2785.25},-5.3826141562752312E-4,{"$f":"RTD(\"cqg.rtd\",,\"StudyData\", \"Close(\"&$D$12&\") when LocalYear(\"&$D$12&\")=\"&$D$6&\" and localMonth(\"&$D$12&\") =\"&$E$6&\" and LocalDay(\"&$D$12&\")=\"&$F$6&\" and Barix(\"&$D$12&\",reference:=StartOfSession)=\"&A64&\"\", \"Bar\", \"\", \"Close\",\"5\",\"0\",\"PrimaryOnly\",,,\"False\",\"T\",\"EveryTick\")","v":2790.25},2.7852650494159929E-3,{"$f":"RTD(\"cqg.rtd\",,\"StudyData\", \"Close(\"&$D$12&\") when LocalYear(\"&$D$12&\")=\"&$D$7&\" and localMonth(\"&$D$12&\") =\"&$E$7&\" and LocalDay(\"&$D$12&\")=\"&$F$7&\" and Barix(\"&$D$12&\",reference:=StartOfSession)=\"&A64&\"\", \"Bar\", \"\", \"Close\",\"5\",\"0\",\"PrimaryOnly\",,,\"False\",\"T\",\"EveryTick\")","v":2780.75},1.7110951008645534E-3,{"$f":"RTD(\"cqg.rtd\",,\"StudyData\", \"Close(\"&$D$12&\") when LocalYear(\"&$D$12&\")=\"&$D$8&\" and localMonth(\"&$D$12&\") =\"&$E$8&\" and LocalDay(\"&$D$12&\")=\"&$F$8&\" and Barix(\"&$D$12&\",reference:=StartOfSession)=\"&A64&\"\", \"Bar\", \"\", \"Close\",\"5\",\"0\",\"PrimaryOnly\",,,\"False\",\"T\",\"EveryTick\")","v":2773.75},-8.1051873198847264E-4,{"$f":"RTD(\"cqg.rtd\",,\"StudyData\", \"Close(\"&$D$12&\") when LocalYear(\"&$D$12&\")=\"&$D$9&\" and localMonth(\"&$D$12&\") =\"&$E$9&\" and LocalDay(\"&$D$12&\")=\"&$F$9&\" and Barix(\"&$D$12&\",reference:=StartOfSession)=\"&A64&\"\", \"Bar\", \"\", \"Close\",\"5\",\"0\",\"PrimaryOnly\",,,\"False\",\"T\",\"EveryTick\")","v":2772},5.9880239520958087E-3,{"$f":"RTD(\"cqg.rtd\",,\"StudyData\", \"Close(\"&$D$12&\") when LocalYear(\"&$D$12&\")=\"&$D$10&\" and localMonth(\"&$D$12&\") =\"&$E$10&\" and LocalDay(\"&$D$12&\")=\"&$F$10&\" and Barix(\"&$D$12&\",reference:=StartOfSession)=\"&A64&\"\", \"Bar\", \"\", \"Close\",\"5\",\"0\",\"PrimaryOnly\",,,\"False\",\"T\",\"EveryTick\")","v":2753.75},1.454677697972543E-3,null,null,null,""]
[64,"13:50:00",-13,{"$f":" RTD(\"cqg.rtd\",,\"StudyData\", $D$12,  \"Tick\", \"FlatTicks=0\", \"Tick\",\"D\",C65,\"PrimaryOnly\")","v":2762.5},null,null,null,{"$f":"RTD(\"cqg.rtd\",,\"StudyData\", \"Close(\"&$D$12&\") when LocalYear(\"&$D$12&\")=\"&$D$1&\" and localMonth(\"&$D$12&\") =\"&$E$1&\" and LocalDay(\"&$D$12&\")=\"&$F$1&\" and Barix(\"&$D$12&\",reference:=StartOfSession)=\"&A65&\"\", \"Bar\", \"\", \"Close\",\"5\",\"0\",\"PrimaryOnly\",,,\"False\",\"T\",\"EveryTick\")","v":""},{"$error":"#N/A"},{"$f":"RTD(\"cqg.rtd\",,\"StudyData\", \"Close(\"&$D$12&\") when LocalYear(\"&$D$12&\")=\"&$D$2&\" and localMonth(\"&$D$12&\") =\"&$E$2&\" and LocalDay(\"&$D$12&\")=\"&$F$2&\" and Barix(\"&$D$12&\",reference:=StartOfSession)=\"&A65&\"\", \"Bar\", \"\", \"Close\",\"5\",\"0\",\"PrimaryOnly\",,,\"False\",\"T\",\"EveryTick\")","v":2785.5},-1.0758472296933835E-3,{"$f":"RTD(\"cqg.rtd\",,\"StudyData\", \"Close(\"&$D$12&\") when LocalYear(\"&$D$12&\")=\"&$D$3&\" and localMonth(\"&$D$12&\") =\"&$E$3&\" and LocalDay(\"&$D$12&\")=\"&$F$3&\" and Barix(\"&$D$12&\",reference:=StartOfSession)=\"&A65&\"\", \"Bar\", \"\", \"Close\",\"5\",\"0\",\"PrimaryOnly\",,,\"False\",\"T\",\"EveryTick\")","v":2785.75},2.4289312702410939E-3,{"$f":"RTD(\"cqg.rtd\",,\"StudyData\", \"Close(\"&$D$12&\") when LocalYear(\"&$D$12&\")=\"&$D$4&\" and localMonth(\"&$D$12&\") =\"&$E$4&\" and LocalDay(\"&$D$12&\")=\"&$F$4&\" and Barix(\"&$D$12&\",reference:=StartOfSession)=\"&A65&\"\", \"Bar\", \"\", \"Close\",\"5\",\"0\",\"PrimaryOnly\",,,\"False\",\"T\",\"EveryTick\")","v":2786},-8.0695776921007798E-4,{"$f":"RTD(\"cqg.rtd\",,\"StudyData\", \"Close(\"&$D$12&\") when LocalYear(\"&$D$12&\")=\"&$D$5&\" and localMonth(\"&$D$12&\") =\"&$E$5&\" and LocalDay(\"&$D$12&\")=\"&$F$5&\" and Barix(\"&$D$12&\",reference:=StartOfSession)=\"&A65&\"\", \"Bar\", \"\", \"Close\",\"5\",\"0\",\"PrimaryOnly\",,,\"False\",\"T\",\"EveryTick\")","v":2785.25},-5.3826141562752312E-4,{"$f":"RTD(\"cqg.rtd\",,\"StudyData\", \"Close(\"&$D$12&\") when LocalYear(\"&$D$12&\")=\"&$D$6&\" and localMonth(\"&$D$12&\") =\"&$E$6&\" and LocalDay(\"&$D$12&\")=\"&$F$6&\" and Barix(\"&$D$12&\",reference:=StartOfSession)=\"&A65&\"\", \"Bar\", \"\", \"Close\",\"5\",\"0\",\"PrimaryOnly\",,,\"False\",\"T\",\"EveryTick\")","v":2789.75},2.6055705300988318E-3,{"$f":"RTD(\"cqg.rtd\",,\"StudyData\", \"Close(\"&$D$12&\") when LocalYear(\"&$D$12&\")=\"&$D$7&\" and localMonth(\"&$D$12&\") =\"&$E$7&\" and LocalDay(\"&$D$12&\")=\"&$F$7&\" and Barix(\"&$D$12&\",reference:=StartOfSession)=\"&A65&\"\", \"Bar\", \"\", \"Close\",\"5\",\"0\",\"PrimaryOnly\",,,\"False\",\"T\",\"EveryTick\")","v":2780.5},1.6210374639769453E-3,{"$f":"RTD(\"cqg.rtd\",,\"StudyData\", \"Close(\"&$D$12&\") when LocalYear(\"&$D$12&\")=\"&$D$8&\" and localMonth(\"&$D$12&\") =\"&$E$8&\" and LocalDay(\"&$D$12&\")=\"&$F$8&\" and Barix(\"&$D$12&\",reference:=StartOfSession)=\"&A65&\"\", \"Bar\", \"\", \"Close\",\"5\",\"0\",\"PrimaryOnly\",,,\"False\",\"T\",\"EveryTick\")","v":2773},-1.0806916426512969E-3,{"$f":"RTD(\"cqg.rtd\",,\"StudyData\", \"Close(\"&$D$12&\") when LocalYear(\"&$D$12&\")=\"&$D$9&\" and localMonth(\"&$D$12&\") =\"&$E$9&\" and LocalDay(\"&$D$12&\")=\"&$F$9&\" and Barix(\"&$D$12&\",reference:=StartOfSession)=\"&A65&\"\", \"Bar\", \"\", \"Close\",\"5\",\"0\",\"PrimaryOnly\",,,\"False\",\"T\",\"EveryTick\")","v":2770.5},5.4436581382689168E-3,{"$f":"RTD(\"cqg.rtd\",,\"StudyData\", \"Close(\"&$D$12&\") when LocalYear(\"&$D$12&\")=\"&$D$10&\" and localMonth(\"&$D$12&\") =\"&$E$10&\" and LocalDay(\"&$D$12&\")=\"&$F$10&\" and Barix(\"&$D$12&\",reference:=StartOfSession)=\"&A65&\"\", \"Bar\", \"\", \"Close\",\"5\",\"0\",\"PrimaryOnly\",,,\"False\",\"T\",\"EveryTick\")","v":2754.75},1.8183471224656788E-3,null,null,null,""]
[65,"13:55:00",-12,{"$f":" RTD(\"cqg.rtd\",,\"StudyData\", $D$12,  \"Tick\", \"FlatTicks=0\", \"Tick\",\"D\",C66,\"PrimaryOnly\")","v":2762.75},null,null,null,{"$f":"RTD(\"cqg.rtd\",,\"StudyData\", \"Close(\"&$D$12&\") when LocalYear(\"&$D$12&\")=\"&$D$1&\" and localMonth(\"&$D$12&\") =\"&$E$1&\" and LocalDay(\"&$D$12&\")=\"&$F$1&\" and Barix(\"&$D$12&\",reference:=StartOfSession)=\"&A66&\"\", \"Bar\", \"\", \"Close\",\"5\",\"0\",\"PrimaryOnly\",,,\"False\",\"T\",\"EveryTick\")","v":""},{"$error":"#N/A"},{"$f":"RTD(\"cqg.rtd\",,\"StudyData\", \"Close(\"&$D$12&\") when LocalYear(\"&$D$12&\")=\"&$D$2&\" and localMonth(\"&$D$12&\") =\"&$E$2&\" and LocalDay(\"&$D$12&\")=\"&$F$2&\" and Barix(\"&$D$12&\",reference:=StartOfSession)=\"&A66&\"\", \"Bar\", \"\", \"Close\",\"5\",\"0\",\"PrimaryOnly\",,,\"False\",\"T\",\"EveryTick\")","v":2784.75},{"$f":"IFERROR((J66-$G$3)/$G$3,NA())","v":-1.3448090371167294E-3},{"$f":"RTD(\"cqg.rtd\",,\"StudyData\", \"Close(\"&$D$12&\") when LocalYear(\"&$D$12&\")=\"&$D$3&\" and localMonth(\"&$D$12&\") =\"&$E$3&\" and LocalDay(\"&$D$12&\")=\"&$F$3&\" and Barix(\"&$D$12&\",reference:=StartOfSession)=\"&A66&\"\", \"Bar\", \"\", \"Close\",\"5\",\"0\",\"PrimaryOnly\",,,\"False\",\"T\",\"EveryTick\")","v":2784.25},{"$f":"IFERROR((L66-$G$4)/$G$4,NA())","v":1.889168765743073E-3},{"$f":"RTD(\"cqg.rtd\",,\"StudyData\", \"Close(\"&$D$12&\") when LocalYear(\"&$D$12&\")=\"&$D$4&\" and localMonth(\"&$D$12&\") =\"&$E$4&\" and LocalDay(\"&$D$12&\")=\"&$F$4&\" and Barix(\"&$D$12&\",reference:=StartOfSession)=\"&A66&\"\", \"Bar\", \"\", \"Close\",\"5\",\"0\",\"PrimaryOnly\",,,\"False\",\"T\",\"EveryTick\")","v":2788.25},{"$f":"IFERROR((N66-$G$5)/$G$5,NA())","v":0},{"$f":"RTD(\"cqg.rtd\",,\"StudyData\", \"Close(\"&$D$12&\") when LocalYear(\"&$D$12&\")=\"&$D$5&\" and localMonth(\"&$D$12&\") =\"&$E$5&\" and LocalDay(\"&$D$12&\")=\"&$F$5&\" and Barix(\"&$D$12&\",reference:=StartOfSession)=\"&A66&\"\", \"Bar\", \"\", \"Close\",\"5\",\"0\",\"PrimaryOnly\",,,\"False\",\"T\",\"EveryTick\")","v":2783.25},{"$f":"IFERROR((P66-$G$6)/$G$6,NA())","v":-1.2559433031308872E-3},{"$f":"RTD(\"cqg.rtd\",,\"StudyData\", \"Close(\"&$D$12&\") when LocalYear(\"&$D$12&\")=\"&$D$6&\" and localMonth(\"&$D$12&\") =\"&$E$6&\" and LocalDay(\"&$D$12&\")=\"&$F$6&\" and Barix(\"&$D$12&\",reference:=StartOfSession)=\"&A66&\"\", \"Bar\", \"\", \"Close\",\"5\",\"0\",\"PrimaryOnly\",,,\"False\",\"T\",\"EveryTick\")","v":2791.25},{"$f":"IFERROR((R66-$G$7)/$G$7,NA())","v":3.1446540880503146E-3},{"$f":"RTD(\"cqg.rtd\",,\"StudyData\", \"Close(\"&$D$12&\") when LocalYear(\"&$D$12&\")=\"&$D$7&\" and localMonth(\"&$D$12&\") =\"&$E$7&\" and LocalDay(\"&$D$12&\")=\"&$F$7&\" and Barix(\"&$D$12&\",reference:=StartOfSession)=\"&A66&\"\", \"Bar\", \"\", \"Close\",\"5\",\"0\",\"PrimaryOnly\",,,\"False\",\"T\",\"EveryTick\")","v":2779.5},{"$f":"IFERROR((T66-$G$8)/$G$8,NA())","v":1.260806916426513E-3},{"$f":"RTD(\"cqg.rtd\",,\"StudyData\", \"Close(\"&$D$12&\") when LocalYear(\"&$D$12&\")=\"&$D$8&\" and localMonth(\"&$D$12&\") =\"&$E$8&\" and LocalDay(\"&$D$12&\")=\"&$F$8&\" and Barix(\"&$D$12&\",reference:=StartOfSession)=\"&A66&\"\", \"Bar\", \"\", \"Close\",\"5\",\"0\",\"PrimaryOnly\",,,\"False\",\"T\",\"EveryTick\")","v":2772.25},{"$f":"IFERROR((V66-$G$9)/$G$9,NA())","v":-1.3508645533141211E-3},{"$f":"RTD(\"cqg.rtd\",,\"StudyData\", \"Close(\"&$D$12&\") when LocalYear(\"&$D$12&\")=\"&$D$9&\" and localMonth(\"&$D$12&\") =\"&$E$9&\" and LocalDay(\"&$D$12&\")=\"&$F$9&\" and Barix(\"&$D$12&\",reference:=StartOfSession)=\"&A66&\"\", \"Bar\", \"\", \"Close\",\"5\",\"0\",\"PrimaryOnly\",,,\"False\",\"T\",\"EveryTick\")","v":2771},{"$f":"IFERROR((X66-$G$10)/$G$10,NA())","v":5.6251134095445469E-3},{"$f":"RTD(\"cqg.rtd\",,\"StudyData\", \"Close(\"&$D$12&\") when LocalYear(\"&$D$12&\")=\"&$D$10&\" and localMonth(\"&$D$12&\") =\"&$E$10&\" and LocalDay(\"&$D$12&\")=\"&$F$10&\" and Barix(\"&$D$12&\",reference:=StartOfSession)=\"&A66&\"\", \"Bar\", \"\", \"Close\",\"5\",\"0\",\"PrimaryOnly\",,,\"False\",\"T\",\"EveryTick\")","v":2754.5},{"$f":"IFERROR((Z66-$G$11)/$G$11,NA())","v":1.7274297663423949E-3},null,null,null,""]
[{"$f":"A66+1","v":66},"14:00:00",-11,{"$f":" RTD(\"cqg.rtd\",,\"StudyData\", $D$12,  \"Tick\", \"FlatTicks=0\", \"Tick\",\"D\",C67,\"PrimaryOnly\")","v":2762.5},null,null,null,{"$f":"RTD(\"cqg.rtd\",,\"StudyData\", \"Close(\"&$D$12&\") when LocalYear(\"&$D$12&\")=\"&$D$1&\" and localMonth(\"&$D$12&\") =\"&$E$1&\" and LocalDay(\"&$D$12&\")=\"&$F$1&\" and Barix(\"&$D$12&\",reference:=StartOfSession)=\"&A67&\"\", \"Bar\", \"\", \"Close\",\"5\",\"0\",\"PrimaryOnly\",,,\"False\",\"T\",\"EveryTick\")","v":""},{"$f":"IFERROR((H67-$G$2)/$G$2,NA())","v":{"$error":"#N/A"}},{"$f":"RTD(\"cqg.rtd\",,\"StudyData\", \"Close(\"&$D$12&\") when LocalYear(\"&$D$12&\")=\"&$D$2&\" and localMonth(\"&$D$12&\") =\"&$E$2&\" and LocalDay(\"&$D$12&\")=\"&$F$2&\" and Barix(\"&$D$12&\",reference:=StartOfSession)=\"&A67&\"\", \"Bar\", \"\", \"Close\",\"5\",\"0\",\"PrimaryOnly\",,,\"False\",\"T\",\"EveryTick\")","v":2783.25},-1.8827326519634212E-3,{"$f":"RTD(\"cqg.rtd\",,\"StudyData\", \"Close(\"&$D$12&\") when LocalYear(\"&$D$12&\")=\"&$D$3&\" and localMonth(\"&$D$12&\") =\"&$E$3&\" and LocalDay(\"&$D$12&\")=\"&$F$3&\" and Barix(\"&$D$12&\",reference:=StartOfSession)=\"&A67&\"\", \"Bar\", \"\", \"Close\",\"5\",\"0\",\"PrimaryOnly\",,,\"False\",\"T\",\"EveryTick\")","v":2784.25},1.889168765743073E-3,{"$f":"RTD(\"cqg.rtd\",,\"StudyData\", \"Close(\"&$D$12&\") when LocalYear(\"&$D$12&\")=\"&$D$4&\" and localMonth(\"&$D$12&\") =\"&$E$4&\" and LocalDay(\"&$D$12&\")=\"&$F$4&\" and Barix(\"&$D$12&\",reference:=StartOfSession)=\"&A67&\"\", \"Bar\", \"\", \"Close\",\"5\",\"0\",\"PrimaryOnly\",,,\"False\",\"T\",\"EveryTick\")","v":2792.25},1.4345915897068053E-3,{"$f":"RTD(\"cqg.rtd\",,\"StudyData\", \"Close(\"&$D$12&\") when LocalYear(\"&$D$12&\")=\"&$D$5&\" and localMonth(\"&$D$12&\") =\"&$E$5&\" and LocalDay(\"&$D$12&\")=\"&$F$5&\" and Barix(\"&$D$12&\",reference:=StartOfSession)=\"&A67&\"\", \"Bar\", \"\", \"Close\",\"5\",\"0\",\"PrimaryOnly\",,,\"False\",\"T\",\"EveryTick\")","v":2785.75},-3.5884094375168208E-4,{"$f":"RTD(\"cqg.rtd\",,\"StudyData\", \"Close(\"&$D$12&\") when LocalYear(\"&$D$12&\")=\"&$D$6&\" and localMonth(\"&$D$12&\") =\"&$E$6&\" and LocalDay(\"&$D$12&\")=\"&$F$6&\" and Barix(\"&$D$12&\",reference:=StartOfSession)=\"&A67&\"\", \"Bar\", \"\", \"Close\",\"5\",\"0\",\"PrimaryOnly\",,,\"False\",\"T\",\"EveryTick\")","v":2791.5},3.234501347708895E-3,{"$f":"RTD(\"cqg.rtd\",,\"StudyData\", \"Close(\"&$D$12&\") when LocalYear(\"&$D$12&\")=\"&$D$7&\" and localMonth(\"&$D$12&\") =\"&$E$7&\" and LocalDay(\"&$D$12&\")=\"&$F$7&\" and Barix(\"&$D$12&\",reference:=StartOfSession)=\"&A67&\"\", \"Bar\", \"\", \"Close\",\"5\",\"0\",\"PrimaryOnly\",,,\"False\",\"T\",\"EveryTick\")","v":2779},1.0806916426512969E-3,{"$f":"RTD(\"cqg.rtd\",,\"StudyData\", \"Close(\"&$D$12&\") when LocalYear(\"&$D$12&\")=\"&$D$8&\" and localMonth(\"&$D$12&\") =\"&$E$8&\" and LocalDay(\"&$D$12&\")=\"&$F$8&\" and Barix(\"&$D$12&\",reference:=StartOfSession)=\"&A67&\"\", \"Bar\", \"\", \"Close\",\"5\",\"0\",\"PrimaryOnly\",,,\"False\",\"T\",\"EveryTick\")","v":2772},-1.440922190201729E-3,{"$f":"RTD(\"cqg.rtd\",,\"StudyData\", \"Close(\"&$D$12&\") when LocalYear(\"&$D$12&\")=\"&$D$9&\" and localMonth(\"&$D$12&\") =\"&$E$9&\" and LocalDay(\"&$D$12&\")=\"&$F$9&\" and Barix(\"&$D$12&\",reference:=StartOfSession)=\"&A67&\"\", \"Bar\", \"\", \"Close\",\"5\",\"0\",\"PrimaryOnly\",,,\"False\",\"T\",\"EveryTick\")","v":2771.25},5.7158410451823623E-3,{"$f":"RTD(\"cqg.rtd\",,\"StudyData\", \"Close(\"&$D$12&\") when LocalYear(\"&$D$12&\")=\"&$D$10&\" and localMonth(\"&$D$12&\") =\"&$E$10&\" and LocalDay(\"&$D$12&\")=\"&$F$10&\" and Barix(\"&$D$12&\",reference:=StartOfSession)=\"&A67&\"\", \"Bar\", \"\", \"Close\",\"5\",\"0\",\"PrimaryOnly\",,,\"False\",\"T\",\"EveryTick\")","v":2753.75},1.454677697972543E-3,null,null,null,{"$f":"IF(AND(H66<>\"\",H67<>\"\",H68=\"\"),A67,\"\")","v":""}]
[67,"14:05:00",-10,{"$f":" RTD(\"cqg.rtd\",,\"StudyData\", $D$12,  \"Tick\", \"FlatTicks=0\", \"Tick\",\"D\",C68,\"PrimaryOnly\")","v":2762.75},null,null,null,{"$f":"RTD(\"cqg.rtd\",,\"StudyData\", \"Close(\"&$D$12&\") when LocalYear(\"&$D$12&\")=\"&$D$1&\" and localMonth(\"&$D$12&\") =\"&$E$1&\" and LocalDay(\"&$D$12&\")=\"&$F$1&\" and Barix(\"&$D$12&\",reference:=StartOfSession)=\"&A68&\"\", \"Bar\", \"\", \"Close\",\"5\",\"0\",\"PrimaryOnly\",,,\"False\",\"T\",\"EveryTick\")","v":""},{"$error":"#N/A"},{"$f":"RTD(\"cqg.rtd\",,\"StudyData\", \"Close(\"&$D$12&\") when LocalYear(\"&$D$12&\")=\"&$D$2&\" and localMonth(\"&$D$12&\") =\"&$E$2&\" and LocalDay(\"&$D$12&\")=\"&$F$2&\" and Barix(\"&$D$12&\",reference:=StartOfSession)=\"&A68&\"\", \"Bar\", \"\", \"Close\",\"5\",\"0\",\"PrimaryOnly\",,,\"False\",\"T\",\"EveryTick\")","v":2783.25},-1.8827326519634212E-3,{"$f":"RTD(\"cqg.rtd\",,\"StudyData\", \"Close(\"&$D$12&\") when LocalYear(\"&$D$12&\")=\"&$D$3&\" and localMonth(\"&$D$12&\") =\"&$E$3&\" and LocalDay(\"&$D$12&\")=\"&$F$3&\" and Barix(\"&$D$12&\",reference:=StartOfSession)=\"&A68&\"\", \"Bar\", \"\", \"Close\",\"5\",\"0\",\"PrimaryOnly\",,,\"False\",\"T\",\"EveryTick\")","v":2785.5},2.3389708528247571E-3,{"$f":"RTD(\"cqg.rtd\",,\"StudyData\", \"Close(\"&$D$12&\") when LocalYear(\"&$D$12&\")=\"&$D$4&\" and localMonth(\"&$D$12&\") =\"&$E$4&\" and LocalDay(\"&$D$12&\")=\"&$F$4&\" and Barix(\"&$D$12&\",reference:=StartOfSession)=\"&A68&\"\", \"Bar\", \"\", \"Close\",\"5\",\"0\",\"PrimaryOnly\",,,\"False\",\"T\",\"EveryTick\")","v":2791.5},1.1656056666367793E-3,{"$f":"RTD(\"cqg.rtd\",,\"StudyData\", \"Close(\"&$D$12&\") when LocalYear(\"&$D$12&\")=\"&$D$5&\" and localMonth(\"&$D$12&\") =\"&$E$5&\" and LocalDay(\"&$D$12&\")=\"&$F$5&\" and Barix(\"&$D$12&\",reference:=StartOfSession)=\"&A68&\"\", \"Bar\", \"\", \"Close\",\"5\",\"0\",\"PrimaryOnly\",,,\"False\",\"T\",\"EveryTick\")","v":2786.5},-8.971023593792052E-5,{"$f":"RTD(\"cqg.rtd\",,\"StudyData\", \"Close(\"&$D$12&\") when LocalYear(\"&$D$12&\")=\"&$D$6&\" and localMonth(\"&$D$12&\") =\"&$E$6&\" and LocalDay(\"&$D$12&\")=\"&$F$6&\" and Barix(\"&$D$12&\",reference:=StartOfSession)=\"&A68&\"\", \"Bar\", \"\", \"Close\",\"5\",\"0\",\"PrimaryOnly\",,,\"False\",\"T\",\"EveryTick\")","v":2791.75},3.3243486073674753E-3,{"$f":"RTD(\"cqg.rtd\",,\"StudyData\", \"Close(\"&$D$12&\") when LocalYear(\"&$D$12&\")=\"&$D$7&\" and localMonth(\"&$D$12&\") =\"&$E$7&\" and LocalDay(\"&$D$12&\")=\"&$F$7&\" and Barix(\"&$D$12&\",reference:=StartOfSession)=\"&A68&\"\", \"Bar\", \"\", \"Close\",\"5\",\"0\",\"PrimaryOnly\",,,\"False\",\"T\",\"EveryTick\")","v":2779},1.0806916426512969E-3,{"$f":"RTD(\"cqg.rtd\",,\"StudyData\", \"Close(\"&$D$12&\") when LocalYear(\"&$D$12&\")=\"&$D$8&\" and localMonth(\"&$D$12&\") =\"&$E$8&\" and LocalDay(\"&$D$12&\")=\"&$F$8&\" and Barix(\"&$D$12&\",reference:=StartOfSession)=\"&A68&\"\", \"Bar\", \"\", \"Close\",\"5\",\"0\",\"PrimaryOnly\",,,\"False\",\"T\",\"EveryTick\")","v":2769},-2.5216138328530259E-3,{"$f":"RTD(\"cqg.rtd\",,\"StudyData\", \"Close(\"&$D$12&\") when LocalYear(\"&$D$12&\")=\"&$D$9&\" and localMonth(\"&$D$12&\") =\"&$E$9&\" and LocalDay(\"&$D$12&\")=\"&$F$9&\" and Barix(\"&$D$12&\",reference:=StartOfSession)=\"&A68&\"\", \"Bar\", \"\", \"Close\",\"5\",\"0\",\"PrimaryOnly\",,,\"False\",\"T\",\"EveryTick\")","v":2770.25},5.3529305026311013E-3,{"$f":"RTD(\"cqg.rtd\",,\"StudyData\", \"Close(\"&$D$12&\") when LocalYear(\"&$D$12&\")=\"&$D$10&\" and localMonth(\"&$D$12&\") =\"&$E$10&\" and LocalDay(\"&$D$12&\")=\"&$F$10&\" and Barix(\"&$D$12&\",reference:=StartOfSession)=\"&A68&\"\", \"Bar\", \"\", \"Close\",\"5\",\"0\",\"PrimaryOnly\",,,\"False\",\"T\",\"EveryTick\")","v":2754},1.5455950540958269E-3,null,null,null,""]
[68,"14:10:00",{"$f":"C68+1","v":-9},{"$f":" RTD(\"cqg.rtd\",,\"StudyData\", $D$12,  \"Tick\", \"FlatTicks=0\", \"Tick\",\"D\",C69,\"PrimaryOnly\")","v":2762.5},null,null,null,{"$f":"RTD(\"cqg.rtd\",,\"StudyData\", \"Close(\"&$D$12&\") when LocalYear(\"&$D$12&\")=\"&$D$1&\" and localMonth(\"&$D$12&\") =\"&$E$1&\" and LocalDay(\"&$D$12&\")=\"&$F$1&\" and Barix(\"&$D$12&\",reference:=StartOfSession)=\"&A69&\"\", \"Bar\", \"\", \"Close\",\"5\",\"0\",\"PrimaryOnly\",,,\"False\",\"T\",\"EveryTick\")","v":""},{"$error":"#N/A"},{"$f":"RTD(\"cqg.rtd\",,\"StudyData\", \"Close(\"&$D$12&\") when LocalYear(\"&$D$12&\")=\"&$D$2&\" and localMonth(\"&$D$12&\") =\"&$E$2&\" and LocalDay(\"&$D$12&\")=\"&$F$2&\" and Barix(\"&$D$12&\",reference:=StartOfSession)=\"&A69&\"\", \"Bar\", \"\", \"Close\",\"5\",\"0\",\"PrimaryOnly\",,,\"False\",\"T\",\"EveryTick\")","v":2782.5},-2.1516944593867669E-3,{"$f":"RTD(\"cqg.rtd\",,\"StudyData\", \"Close(\"&$D$12&\") when LocalYear(\"&$D$12&\")=\"&$D$3&\" and localMonth(\"&$D$12&\") =\"&$E$3&\" and LocalDay(\"&$D$12&\")=\"&$F$3&\" and Barix(\"&$D$12&\",reference:=StartOfSession)=\"&A69&\"\", \"Bar\", \"\", \"Close\",\"5\",\"0\",\"PrimaryOnly\",,,\"False\",\"T\",\"EveryTick\")","v":2786.5},2.6988125224901042E-3,{"$f":"RTD(\"cqg.rtd\",,\"StudyData\", \"Close(\"&$D$12&\") when LocalYear(\"&$D$12&\")=\"&$D$4&\" and localMonth(\"&$D$12&\") =\"&$E$4&\" and LocalDay(\"&$D$12&\")=\"&$F$4&\" and Barix(\"&$D$12&\",reference:=StartOfSession)=\"&A69&\"\", \"Bar\", \"\", \"Close\",\"5\",\"0\",\"PrimaryOnly\",,,\"False\",\"T\",\"EveryTick\")","v":2791},9.862817179234287E-4,{"$f":"RTD(\"cqg.rtd\",,\"StudyData\", \"Close(\"&$D$12&\") when LocalYear(\"&$D$12&\")=\"&$D$5&\" and localMonth(\"&$D$12&\") =\"&$E$5&\" and LocalDay(\"&$D$12&\")=\"&$F$5&\" and Barix(\"&$D$12&\",reference:=StartOfSession)=\"&A69&\"\", \"Bar\", \"\", \"Close\",\"5\",\"0\",\"PrimaryOnly\",,,\"False\",\"T\",\"EveryTick\")","v":2786.5},-8.971023593792052E-5,{"$f":"RTD(\"cqg.rtd\",,\"StudyData\", \"Close(\"&$D$12&\") when LocalYear(\"&$D$12&\")=\"&$D$6&\" and localMonth(\"&$D$12&\") =\"&$E$6&\" and LocalDay(\"&$D$12&\")=\"&$F$6&\" and Barix(\"&$D$12&\",reference:=StartOfSession)=\"&A69&\"\", \"Bar\", \"\", \"Close\",\"5\",\"0\",\"PrimaryOnly\",,,\"False\",\"T\",\"EveryTick\")","v":2791.75},3.3243486073674753E-3,{"$f":"RTD(\"cqg.rtd\",,\"StudyData\", \"Close(\"&$D$12&\") when LocalYear(\"&$D$12&\")=\"&$D$7&\" and localMonth(\"&$D$12&\") =\"&$E$7&\" and LocalDay(\"&$D$12&\")=\"&$F$7&\" and Barix(\"&$D$12&\",reference:=StartOfSession)=\"&A69&\"\", \"Bar\", \"\", \"Close\",\"5\",\"0\",\"PrimaryOnly\",,,\"False\",\"T\",\"EveryTick\")","v":2780.25},1.5309798270893371E-3,{"$f":"RTD(\"cqg.rtd\",,\"StudyData\", \"Close(\"&$D$12&\") when LocalYear(\"&$D$12&\")=\"&$D$8&\" and localMonth(\"&$D$12&\") =\"&$E$8&\" and LocalDay(\"&$D$12&\")=\"&$F$8&\" and Barix(\"&$D$12&\",reference:=StartOfSession)=\"&A69&\"\", \"Bar\", \"\", \"Close\",\"5\",\"0\",\"PrimaryOnly\",,,\"False\",\"T\",\"EveryTick\")","v":2770.75},-1.8912103746397695E-3,{"$f":"RTD(\"cqg.rtd\",,\"StudyData\", \"Close(\"&$D$12&\") when LocalYear(\"&$D$12&\")=\"&$D$9&\" and localMonth(\"&$D$12&\") =\"&$E$9&\" and LocalDay(\"&$D$12&\")=\"&$F$9&\" and Barix(\"&$D$12&\",reference:=StartOfSession)=\"&A69&\"\", \"Bar\", \"\", \"Close\",\"5\",\"0\",\"PrimaryOnly\",,,\"False\",\"T\",\"EveryTick\")","v":2770.5},5.4436581382689168E-3,{"$f":"RTD(\"cqg.rtd\",,\"StudyData\", \"Close(\"&$D$12&\") when LocalYear(\"&$D$12&\")=\"&$D$10&\" and localMonth(\"&$D$12&\") =\"&$E$10&\" and LocalDay(\"&$D$12&\")=\"&$F$10&\" and Barix(\"&$D$12&\",reference:=StartOfSession)=\"&A69&\"\", \"Bar\", \"\", \"Close\",\"5\",\"0\",\"PrimaryOnly\",,,\"False\",\"T\",\"EveryTick\")","v":2752},8.1825620510955538E-4,null,null,null,""]
[69,"14:15:00",-8,{"$f":" RTD(\"cqg.rtd\",,\"StudyData\", $D$12,  \"Tick\", \"FlatTicks=0\", \"Tick\",\"D\",C70,\"PrimaryOnly\")","v":2762.75},null,null,null,{"$f":"RTD(\"cqg.rtd\",,\"StudyData\", \"Close(\"&$D$12&\") when LocalYear(\"&$D$12&\")=\"&$D$1&\" and localMonth(\"&$D$12&\") =\"&$E$1&\" and LocalDay(\"&$D$12&\")=\"&$F$1&\" and Barix(\"&$D$12&\",reference:=StartOfSession)=\"&A70&\"\", \"Bar\", \"\", \"Close\",\"5\",\"0\",\"PrimaryOnly\",,,\"False\",\"T\",\"EveryTick\")","v":""},{"$error":"#N/A"},{"$f":"RTD(\"cqg.rtd\",,\"StudyData\", \"Close(\"&$D$12&\") when LocalYear(\"&$D$12&\")=\"&$D$2&\" and localMonth(\"&$D$12&\") =\"&$E$2&\" and LocalDay(\"&$D$12&\")=\"&$F$2&\" and Barix(\"&$D$12&\",reference:=StartOfSession)=\"&A70&\"\", \"Bar\", \"\", \"Close\",\"5\",\"0\",\"PrimaryOnly\",,,\"False\",\"T\",\"EveryTick\")","v":2781},-2.6896180742334587E-3,{"$f":"RTD(\"cqg.rtd\",,\"StudyData\", \"Close(\"&$D$12&\") when LocalYear(\"&$D$12&\")=\"&$D$3&\" and localMonth(\"&$D$12&\") =\"&$E$3&\" and LocalDay(\"&$D$12&\")=\"&$F$3&\" and Barix(\"&$D$12&\",reference:=StartOfSession)=\"&A70&\"\", \"Bar\", \"\", \"Close\",\"5\",\"0\",\"PrimaryOnly\",,,\"False\",\"T\",\"EveryTick\")","v":2785.75},2.4289312702410939E-3,{"$f":"RTD(\"cqg.rtd\",,\"StudyData\", \"Close(\"&$D$12&\") when LocalYear(\"&$D$12&\")=\"&$D$4&\" and localMonth(\"&$D$12&\") =\"&$E$4&\" and LocalDay(\"&$D$12&\")=\"&$F$4&\" and Barix(\"&$D$12&\",reference:=StartOfSession)=\"&A70&\"\", \"Bar\", \"\", \"Close\",\"5\",\"0\",\"PrimaryOnly\",,,\"False\",\"T\",\"EveryTick\")","v":2790.5},8.0695776921007798E-4,{"$f":"RTD(\"cqg.rtd\",,\"StudyData\", \"Close(\"&$D$12&\") when LocalYear(\"&$D$12&\")=\"&$D$5&\" and localMonth(\"&$D$12&\") =\"&$E$5&\" and LocalDay(\"&$D$12&\")=\"&$F$5&\" and Barix(\"&$D$12&\",reference:=StartOfSession)=\"&A70&\"\", \"Bar\", \"\", \"Close\",\"5\",\"0\",\"PrimaryOnly\",,,\"False\",\"T\",\"EveryTick\")","v":2787.5},2.6913070781376156E-4,{"$f":"RTD(\"cqg.rtd\",,\"StudyData\", \"Close(\"&$D$12&\") when LocalYear(\"&$D$12&\")=\"&$D$6&\" and localMonth(\"&$D$12&\") =\"&$E$6&\" and LocalDay(\"&$D$12&\")=\"&$F$6&\" and Barix(\"&$D$12&\",reference:=StartOfSession)=\"&A70&\"\", \"Bar\", \"\", \"Close\",\"5\",\"0\",\"PrimaryOnly\",,,\"False\",\"T\",\"EveryTick\")","v":2791.5},3.234501347708895E-3,{"$f":"RTD(\"cqg.rtd\",,\"StudyData\", \"Close(\"&$D$12&\") when LocalYear(\"&$D$12&\")=\"&$D$7&\" and localMonth(\"&$D$12&\") =\"&$E$7&\" and LocalDay(\"&$D$12&\")=\"&$F$7&\" and Barix(\"&$D$12&\",reference:=StartOfSession)=\"&A70&\"\", \"Bar\", \"\", \"Close\",\"5\",\"0\",\"PrimaryOnly\",,,\"False\",\"T\",\"EveryTick\")","v":2777.75},6.3040345821325648E-4,{"$f":"RTD(\"cqg.rtd\",,\"StudyData\", \"Close(\"&$D$12&\") when LocalYear(\"&$D$12&\")=\"&$D$8&\" and localMonth(\"&$D$12&\") =\"&$E$8&\" and LocalDay(\"&$D$12&\")=\"&$F$8&\" and Barix(\"&$D$12&\",reference:=StartOfSession)=\"&A70&\"\", \"Bar\", \"\", \"Close\",\"5\",\"0\",\"PrimaryOnly\",,,\"False\",\"T\",\"EveryTick\")","v":2771.75},-1.5309798270893371E-3,{"$f":"RTD(\"cqg.rtd\",,\"StudyData\", \"Close(\"&$D$12&\") when LocalYear(\"&$D$12&\")=\"&$D$9&\" and localMonth(\"&$D$12&\") =\"&$E$9&\" and LocalDay(\"&$D$12&\")=\"&$F$9&\" and Barix(\"&$D$12&\",reference:=StartOfSession)=\"&A70&\"\", \"Bar\", \"\", \"Close\",\"5\",\"0\",\"PrimaryOnly\",,,\"False\",\"T\",\"EveryTick\")","v":2771.5},5.8065686808201778E-3,{"$f":"RTD(\"cqg.rtd\",,\"StudyData\", \"Close(\"&$D$12&\") when LocalYear(\"&$D$12&\")=\"&$D$10&\" and localMonth(\"&$D$12&\") =\"&$E$10&\" and LocalDay(\"&$D$12&\")=\"&$F$10&\" and Barix(\"&$D$12&\",reference:=StartOfSession)=\"&A70&\"\", \"Bar\", \"\", \"Close\",\"5\",\"0\",\"PrimaryOnly\",,,\"False\",\"T\",\"EveryTick\")","v":2752},8.1825620510955538E-4,null,null,null,""]
[70,"14:20:00",-7,{"$f":" RTD(\"cqg.rtd\",,\"StudyData\", $D$12,  \"Tick\", \"FlatTicks=0\", \"Tick\",\"D\",C71,\"PrimaryOnly\")","v":2762.5},null,null,null,{"$f":"RTD(\"cqg.rtd\",,\"StudyData\", \"Close(\"&$D$12&\") when LocalYear(\"&$D$12&\")=\"&$D$1&\" and localMonth(\"&$D$12&\") =\"&$E$1&\" and LocalDay(\"&$D$12&\")=\"&$F$1&\" and Barix(\"&$D$12&\",reference:=StartOfSession)=\"&A71&\"\", \"Bar\", \"\", \"Close\",\"5\",\"0\",\"PrimaryOnly\",,,\"False\",\"T\",\"EveryTick\")","v":""},{"$error":"#N/A"},{"$f":"RTD(\"cqg.rtd\",,\"StudyData\", \"Close(\"&$D$12&\") when LocalYear(\"&$D$12&\")=\"&$D$2&\" and localMonth(\"&$D$12&\") =\"&$E$2&\" and LocalDay(\"&$D$12&\")=\"&$F$2&\" and Barix(\"&$D$12&\",reference:=StartOfSession)=\"&A71&\"\", \"Bar\", \"\", \"Close\",\"5\",\"0\",\"PrimaryOnly\",,,\"False\",\"T\",\"EveryTick\")","v":2781.75},-2.4206562668101128E-3,{"$f":"RTD(\"cqg.rtd\",,\"StudyData\", \"Close(\"&$D$12&\") when LocalYear(\"&$D$12&\")=\"&$D$3&\" and localMonth(\"&$D$12&\") =\"&$E$3&\" and LocalDay(\"&$D$12&\")=\"&$F$3&\" and Barix(\"&$D$12&\",reference:=StartOfSession)=\"&A71&\"\", \"Bar\", \"\", \"Close\",\"5\",\"0\",\"PrimaryOnly\",,,\"False\",\"T\",\"EveryTick\")","v":2786.75},2.788772939906441E-3,{"$f":"RTD(\"cqg.rtd\",,\"StudyData\", \"Close(\"&$D$12&\") when LocalYear(\"&$D$12&\")=\"&$D$4&\" and localMonth(\"&$D$12&\") =\"&$E$4&\" and LocalDay(\"&$D$12&\")=\"&$F$4&\" and Barix(\"&$D$12&\",reference:=StartOfSession)=\"&A71&\"\", \"Bar\", \"\", \"Close\",\"5\",\"0\",\"PrimaryOnly\",,,\"False\",\"T\",\"EveryTick\")","v":2789.75},5.3797184614005206E-4,{"$f":"RTD(\"cqg.rtd\",,\"StudyData\", \"Close(\"&$D$12&\") when LocalYear(\"&$D$12&\")=\"&$D$5&\" and localMonth(\"&$D$12&\") =\"&$E$5&\" and LocalDay(\"&$D$12&\")=\"&$F$5&\" and Barix(\"&$D$12&\",reference:=StartOfSession)=\"&A71&\"\", \"Bar\", \"\", \"Close\",\"5\",\"0\",\"PrimaryOnly\",,,\"False\",\"T\",\"EveryTick\")","v":2787.75},3.5884094375168208E-4,{"$f":"RTD(\"cqg.rtd\",,\"StudyData\", \"Close(\"&$D$12&\") when LocalYear(\"&$D$12&\")=\"&$D$6&\" and localMonth(\"&$D$12&\") =\"&$E$6&\" and LocalDay(\"&$D$12&\")=\"&$F$6&\" and Barix(\"&$D$12&\",reference:=StartOfSession)=\"&A71&\"\", \"Bar\", \"\", \"Close\",\"5\",\"0\",\"PrimaryOnly\",,,\"False\",\"T\",\"EveryTick\")","v":2792},3.4141958670260556E-3,{"$f":"RTD(\"cqg.rtd\",,\"StudyData\", \"Close(\"&$D$12&\") when LocalYear(\"&$D$12&\")=\"&$D$7&\" and localMonth(\"&$D$12&\") =\"&$E$7&\" and LocalDay(\"&$D$12&\")=\"&$F$7&\" and Barix(\"&$D$12&\",reference:=StartOfSession)=\"&A71&\"\", \"Bar\", \"\", \"Close\",\"5\",\"0\",\"PrimaryOnly\",,,\"False\",\"T\",\"EveryTick\")","v":2779.75},1.3508645533141211E-3,{"$f":"RTD(\"cqg.rtd\",,\"StudyData\", \"Close(\"&$D$12&\") when LocalYear(\"&$D$12&\")=\"&$D$8&\" and localMonth(\"&$D$12&\") =\"&$E$8&\" and LocalDay(\"&$D$12&\")=\"&$F$8&\" and Barix(\"&$D$12&\",reference:=StartOfSession)=\"&A71&\"\", \"Bar\", \"\", \"Close\",\"5\",\"0\",\"PrimaryOnly\",,,\"False\",\"T\",\"EveryTick\")","v":2774.25},-6.3040345821325648E-4,{"$f":"RTD(\"cqg.rtd\",,\"StudyData\", \"Close(\"&$D$12&\") when LocalYear(\"&$D$12&\")=\"&$D$9&\" and localMonth(\"&$D$12&\") =\"&$E$9&\" and LocalDay(\"&$D$12&\")=\"&$F$9&\" and Barix(\"&$D$12&\",reference:=StartOfSession)=\"&A71&\"\", \"Bar\", \"\", \"Close\",\"5\",\"0\",\"PrimaryOnly\",,,\"False\",\"T\",\"EveryTick\")","v":2771.5},5.8065686808201778E-3,{"$f":"RTD(\"cqg.rtd\",,\"StudyData\", \"Close(\"&$D$12&\") when LocalYear(\"&$D$12&\")=\"&$D$10&\" and localMonth(\"&$D$12&\") =\"&$E$10&\" and LocalDay(\"&$D$12&\")=\"&$F$10&\" and Barix(\"&$D$12&\",reference:=StartOfSession)=\"&A71&\"\", \"Bar\", \"\", \"Close\",\"5\",\"0\",\"PrimaryOnly\",,,\"False\",\"T\",\"EveryTick\")","v":2750.5},2.7275206836985179E-4,null,null,null,""]
[71,"14:25:00",-6,{"$f":" RTD(\"cqg.rtd\",,\"StudyData\", $D$12,  \"Tick\", \"FlatTicks=0\", \"Tick\",\"D\",C72,\"PrimaryOnly\")","v":2762.75},null,null,null,{"$f":"RTD(\"cqg.rtd\",,\"StudyData\", \"Close(\"&$D$12&\") when LocalYear(\"&$D$12&\")=\"&$D$1&\" and localMonth(\"&$D$12&\") =\"&$E$1&\" and LocalDay(\"&$D$12&\")=\"&$F$1&\" and Barix(\"&$D$12&\",reference:=StartOfSession)=\"&A72&\"\", \"Bar\", \"\", \"Close\",\"5\",\"0\",\"PrimaryOnly\",,,\"False\",\"T\",\"EveryTick\")","v":""},{"$error":"#N/A"},{"$f":"RTD(\"cqg.rtd\",,\"StudyData\", \"Close(\"&$D$12&\") when LocalYear(\"&$D$12&\")=\"&$D$2&\" and localMonth(\"&$D$12&\") =\"&$E$2&\" and LocalDay(\"&$D$12&\")=\"&$F$2&\" and Barix(\"&$D$12&\",reference:=StartOfSession)=\"&A72&\"\", \"Bar\", \"\", \"Close\",\"5\",\"0\",\"PrimaryOnly\",,,\"False\",\"T\",\"EveryTick\")","v":2783.75},-1.7034247803478573E-3,{"$f":"RTD(\"cqg.rtd\",,\"StudyData\", \"Close(\"&$D$12&\") when LocalYear(\"&$D$12&\")=\"&$D$3&\" and localMonth(\"&$D$12&\") =\"&$E$3&\" and LocalDay(\"&$D$12&\")=\"&$F$3&\" and Barix(\"&$D$12&\",reference:=StartOfSession)=\"&A72&\"\", \"Bar\", \"\", \"Close\",\"5\",\"0\",\"PrimaryOnly\",,,\"False\",\"T\",\"EveryTick\")","v":2787.5},3.0586541921554518E-3,{"$f":"RTD(\"cqg.rtd\",,\"StudyData\", \"Close(\"&$D$12&\") when LocalYear(\"&$D$12&\")=\"&$D$4&\" and localMonth(\"&$D$12&\") =\"&$E$4&\" and LocalDay(\"&$D$12&\")=\"&$F$4&\" and Barix(\"&$D$12&\",reference:=StartOfSession)=\"&A72&\"\", \"Bar\", \"\", \"Close\",\"5\",\"0\",\"PrimaryOnly\",,,\"False\",\"T\",\"EveryTick\")","v":2787.25},-3.5864789742670134E-4,{"$f":"RTD(\"cqg.rtd\",,\"StudyData\", \"Close(\"&$D$12&\") when LocalYear(\"&$D$12&\")=\"&$D$5&\" and localMonth(\"&$D$12&\") =\"&$E$5&\" and LocalDay(\"&$D$12&\")=\"&$F$5&\" and Barix(\"&$D$12&\",reference:=StartOfSession)=\"&A72&\"\", \"Bar\", \"\", \"Close\",\"5\",\"0\",\"PrimaryOnly\",,,\"False\",\"T\",\"EveryTick\")","v":2788.25},5.3826141562752312E-4,{"$f":"RTD(\"cqg.rtd\",,\"StudyData\", \"Close(\"&$D$12&\") when LocalYear(\"&$D$12&\")=\"&$D$6&\" and localMonth(\"&$D$12&\") =\"&$E$6&\" and LocalDay(\"&$D$12&\")=\"&$F$6&\" and Barix(\"&$D$12&\",reference:=StartOfSession)=\"&A72&\"\", \"Bar\", \"\", \"Close\",\"5\",\"0\",\"PrimaryOnly\",,,\"False\",\"T\",\"EveryTick\")","v":2792.5},3.5938903863432167E-3,{"$f":"RTD(\"cqg.rtd\",,\"StudyData\", \"Close(\"&$D$12&\") when LocalYear(\"&$D$12&\")=\"&$D$7&\" and localMonth(\"&$D$12&\") =\"&$E$7&\" and LocalDay(\"&$D$12&\")=\"&$F$7&\" and Barix(\"&$D$12&\",reference:=StartOfSession)=\"&A72&\"\", \"Bar\", \"\", \"Close\",\"5\",\"0\",\"PrimaryOnly\",,,\"False\",\"T\",\"EveryTick\")","v":2780.25},1.5309798270893371E-3,{"$f":"RTD(\"cqg.rtd\",,\"StudyData\", \"Close(\"&$D$12&\") when LocalYear(\"&$D$12&\")=\"&$D$8&\" and localMonth(\"&$D$12&\") =\"&$E$8&\" and LocalDay(\"&$D$12&\")=\"&$F$8&\" and Barix(\"&$D$12&\",reference:=StartOfSession)=\"&A72&\"\", \"Bar\", \"\", \"Close\",\"5\",\"0\",\"PrimaryOnly\",,,\"False\",\"T\",\"EveryTick\")","v":2774},-7.2046109510086451E-4,{"$f":"RTD(\"cqg.rtd\",,\"StudyData\", \"Close(\"&$D$12&\") when LocalYear(\"&$D$12&\")=\"&$D$9&\" and localMonth(\"&$D$12&\") =\"&$E$9&\" and LocalDay(\"&$D$12&\")=\"&$F$9&\" and Barix(\"&$D$12&\",reference:=StartOfSession)=\"&A72&\"\", \"Bar\", \"\", \"Close\",\"5\",\"0\",\"PrimaryOnly\",,,\"False\",\"T\",\"EveryTick\")","v":2771},5.6251134095445469E-3,{"$f":"RTD(\"cqg.rtd\",,\"StudyData\", \"Close(\"&$D$12&\") when LocalYear(\"&$D$12&\")=\"&$D$10&\" and localMonth(\"&$D$12&\") =\"&$E$10&\" and LocalDay(\"&$D$12&\")=\"&$F$10&\" and Barix(\"&$D$12&\",reference:=StartOfSession)=\"&A72&\"\", \"Bar\", \"\", \"Close\",\"5\",\"0\",\"PrimaryOnly\",,,\"False\",\"T\",\"EveryTick\")","v":2751.5},6.3642149286298759E-4,null,null,null,""]
[72,"14:30:00",-5,{"$f":" RTD(\"cqg.rtd\",,\"StudyData\", $D$12,  \"Tick\", \"FlatTicks=0\", \"Tick\",\"D\",C73,\"PrimaryOnly\")","v":2762.5},null,null,null,{"$f":"RTD(\"cqg.rtd\",,\"StudyData\", \"Close(\"&$D$12&\") when LocalYear(\"&$D$12&\")=\"&$D$1&\" and localMonth(\"&$D$12&\") =\"&$E$1&\" and LocalDay(\"&$D$12&\")=\"&$F$1&\" and Barix(\"&$D$12&\",reference:=StartOfSession)=\"&A73&\"\", \"Bar\", \"\", \"Close\",\"5\",\"0\",\"PrimaryOnly\",,,\"False\",\"T\",\"EveryTick\")","v":""},{"$error":"#N/A"},{"$f":"RTD(\"cqg.rtd\",,\"StudyData\", \"Close(\"&$D$12&\") when LocalYear(\"&$D$12&\")=\"&$D$2&\" and localMonth(\"&$D$12&\") =\"&$E$2&\" and LocalDay(\"&$D$12&\")=\"&$F$2&\" and Barix(\"&$D$12&\",reference:=StartOfSession)=\"&A73&\"\", \"Bar\", \"\", \"Close\",\"5\",\"0\",\"PrimaryOnly\",,,\"False\",\"T\",\"EveryTick\")","v":2783},-1.9723865877712033E-3,{"$f":"RTD(\"cqg.rtd\",,\"StudyData\", \"Close(\"&$D$12&\") when LocalYear(\"&$D$12&\")=\"&$D$3&\" and localMonth(\"&$D$12&\") =\"&$E$3&\" and LocalDay(\"&$D$12&\")=\"&$F$3&\" and Barix(\"&$D$12&\",reference:=StartOfSession)=\"&A73&\"\", \"Bar\", \"\", \"Close\",\"5\",\"0\",\"PrimaryOnly\",,,\"False\",\"T\",\"EveryTick\")","v":2788},3.2385750269881253E-3,{"$f":"RTD(\"cqg.rtd\",,\"StudyData\", \"Close(\"&$D$12&\") when LocalYear(\"&$D$12&\")=\"&$D$4&\" and localMonth(\"&$D$12&\") =\"&$E$4&\" and LocalDay(\"&$D$12&\")=\"&$F$4&\" and Barix(\"&$D$12&\",reference:=StartOfSession)=\"&A73&\"\", \"Bar\", \"\", \"Close\",\"5\",\"0\",\"PrimaryOnly\",,,\"False\",\"T\",\"EveryTick\")","v":2786.75},-5.3797184614005206E-4,{"$f":"RTD(\"cqg.rtd\",,\"StudyData\", \"Close(\"&$D$12&\") when LocalYear(\"&$D$12&\")=\"&$D$5&\" and localMonth(\"&$D$12&\") =\"&$E$5&\" and LocalDay(\"&$D$12&\")=\"&$F$5&\" and Barix(\"&$D$12&\",reference:=StartOfSession)=\"&A73&\"\", \"Bar\", \"\", \"Close\",\"5\",\"0\",\"PrimaryOnly\",,,\"False\",\"T\",\"EveryTick\")","v":2788.5},6.2797165156544359E-4,{"$f":"RTD(\"cqg.rtd\",,\"StudyData\", \"Close(\"&$D$12&\") when LocalYear(\"&$D$12&\")=\"&$D$6&\" and localMonth(\"&$D$12&\") =\"&$E$6&\" and LocalDay(\"&$D$12&\")=\"&$F$6&\" and Barix(\"&$D$12&\",reference:=StartOfSession)=\"&A73&\"\", \"Bar\", \"\", \"Close\",\"5\",\"0\",\"PrimaryOnly\",,,\"False\",\"T\",\"EveryTick\")","v":2792.25},3.504043126684636E-3,{"$f":"RTD(\"cqg.rtd\",,\"StudyData\", \"Close(\"&$D$12&\") when LocalYear(\"&$D$12&\")=\"&$D$7&\" and localMonth(\"&$D$12&\") =\"&$E$7&\" and LocalDay(\"&$D$12&\")=\"&$F$7&\" and Barix(\"&$D$12&\",reference:=StartOfSession)=\"&A73&\"\", \"Bar\", \"\", \"Close\",\"5\",\"0\",\"PrimaryOnly\",,,\"False\",\"T\",\"EveryTick\")","v":2780.25},1.5309798270893371E-3,{"$f":"RTD(\"cqg.rtd\",,\"StudyData\", \"Close(\"&$D$12&\") when LocalYear(\"&$D$12&\")=\"&$D$8&\" and localMonth(\"&$D$12&\") =\"&$E$8&\" and LocalDay(\"&$D$12&\")=\"&$F$8&\" and Barix(\"&$D$12&\",reference:=StartOfSession)=\"&A73&\"\", \"Bar\", \"\", \"Close\",\"5\",\"0\",\"PrimaryOnly\",,,\"False\",\"T\",\"EveryTick\")","v":2773.25},-9.9063400576368879E-4,{"$f":"RTD(\"cqg.rtd\",,\"StudyData\", \"Close(\"&$D$12&\") when LocalYear(\"&$D$12&\")=\"&$D$9&\" and localMonth(\"&$D$12&\") =\"&$E$9&\" and LocalDay(\"&$D$12&\")=\"&$F$9&\" and Barix(\"&$D$12&\",reference:=StartOfSession)=\"&A73&\"\", \"Bar\", \"\", \"Close\",\"5\",\"0\",\"PrimaryOnly\",,,\"False\",\"T\",\"EveryTick\")","v":2771},5.6251134095445469E-3,{"$f":"RTD(\"cqg.rtd\",,\"StudyData\", \"Close(\"&$D$12&\") when LocalYear(\"&$D$12&\")=\"&$D$10&\" and localMonth(\"&$D$12&\") =\"&$E$10&\" and LocalDay(\"&$D$12&\")=\"&$F$10&\" and Barix(\"&$D$12&\",reference:=StartOfSession)=\"&A73&\"\", \"Bar\", \"\", \"Close\",\"5\",\"0\",\"PrimaryOnly\",,,\"False\",\"T\",\"EveryTick\")","v":2751.5},6.3642149286298759E-4,null,null,null,""]
[73,"14:35:00",-4,{"$f":" RTD(\"cqg.rtd\",,\"StudyData\", $D$12,  \"Tick\", \"FlatTicks=0\", \"Tick\",\"D\",C74,\"PrimaryOnly\")","v":2762.75},null,null,null,{"$f":"RTD(\"cqg.rtd\",,\"StudyData\", \"Close(\"&$D$12&\") when LocalYear(\"&$D$12&\")=\"&$D$1&\" and localMonth(\"&$D$12&\") =\"&$E$1&\" and LocalDay(\"&$D$12&\")=\"&$F$1&\" and Barix(\"&$D$12&\",reference:=StartOfSession)=\"&A74&\"\", \"Bar\", \"\", \"Close\",\"5\",\"0\",\"PrimaryOnly\",,,\"False\",\"T\",\"EveryTick\")","v":""},{"$error":"#N/A"},{"$f":"RTD(\"cqg.rtd\",,\"StudyData\", \"Close(\"&$D$12&\") when LocalYear(\"&$D$12&\")=\"&$D$2&\" and localMonth(\"&$D$12&\") =\"&$E$2&\" and LocalDay(\"&$D$12&\")=\"&$F$2&\" and Barix(\"&$D$12&\",reference:=StartOfSession)=\"&A74&\"\", \"Bar\", \"\", \"Close\",\"5\",\"0\",\"PrimaryOnly\",,,\"False\",\"T\",\"EveryTick\")","v":2783.25},-1.8827326519634212E-3,{"$f":"RTD(\"cqg.rtd\",,\"StudyData\", \"Close(\"&$D$12&\") when LocalYear(\"&$D$12&\")=\"&$D$3&\" and localMonth(\"&$D$12&\") =\"&$E$3&\" and LocalDay(\"&$D$12&\")=\"&$F$3&\" and Barix(\"&$D$12&\",reference:=StartOfSession)=\"&A74&\"\", \"Bar\", \"\", \"Close\",\"5\",\"0\",\"PrimaryOnly\",,,\"False\",\"T\",\"EveryTick\")","v":2788},3.2385750269881253E-3,{"$f":"RTD(\"cqg.rtd\",,\"StudyData\", \"Close(\"&$D$12&\") when LocalYear(\"&$D$12&\")=\"&$D$4&\" and localMonth(\"&$D$12&\") =\"&$E$4&\" and LocalDay(\"&$D$12&\")=\"&$F$4&\" and Barix(\"&$D$12&\",reference:=StartOfSession)=\"&A74&\"\", \"Bar\", \"\", \"Close\",\"5\",\"0\",\"PrimaryOnly\",,,\"False\",\"T\",\"EveryTick\")","v":2785.25},-1.0759436922801041E-3,{"$f":"RTD(\"cqg.rtd\",,\"StudyData\", \"Close(\"&$D$12&\") when LocalYear(\"&$D$12&\")=\"&$D$5&\" and localMonth(\"&$D$12&\") =\"&$E$5&\" and LocalDay(\"&$D$12&\")=\"&$F$5&\" and Barix(\"&$D$12&\",reference:=StartOfSession)=\"&A74&\"\", \"Bar\", \"\", \"Close\",\"5\",\"0\",\"PrimaryOnly\",,,\"False\",\"T\",\"EveryTick\")","v":2788.5},6.2797165156544359E-4,{"$f":"RTD(\"cqg.rtd\",,\"StudyData\", \"Close(\"&$D$12&\") when LocalYear(\"&$D$12&\")=\"&$D$6&\" and localMonth(\"&$D$12&\") =\"&$E$6&\" and LocalDay(\"&$D$12&\")=\"&$F$6&\" and Barix(\"&$D$12&\",reference:=StartOfSession)=\"&A74&\"\", \"Bar\", \"\", \"Close\",\"5\",\"0\",\"PrimaryOnly\",,,\"False\",\"T\",\"EveryTick\")","v":2791.25},3.1446540880503146E-3,{"$f":"RTD(\"cqg.rtd\",,\"StudyData\", \"Close(\"&$D$12&\") when LocalYear(\"&$D$12&\")=\"&$D$7&\" and localMonth(\"&$D$12&\") =\"&$E$7&\" and LocalDay(\"&$D$12&\")=\"&$F$7&\" and Barix(\"&$D$12&\",reference:=StartOfSession)=\"&A74&\"\", \"Bar\", \"\", \"Close\",\"5\",\"0\",\"PrimaryOnly\",,,\"False\",\"T\",\"EveryTick\")","v":2781.25},1.8912103746397695E-3,{"$f":"RTD(\"cqg.rtd\",,\"StudyData\", \"Close(\"&$D$12&\") when LocalYear(\"&$D$12&\")=\"&$D$8&\" and localMonth(\"&$D$12&\") =\"&$E$8&\" and LocalDay(\"&$D$12&\")=\"&$F$8&\" and Barix(\"&$D$12&\",reference:=StartOfSession)=\"&A74&\"\", \"Bar\", \"\", \"Close\",\"5\",\"0\",\"PrimaryOnly\",,,\"False\",\"T\",\"EveryTick\")","v":2775},-3.6023054755043225E-4,{"$f":"RTD(\"cqg.rtd\",,\"StudyData\", \"Close(\"&$D$12&\") when LocalYear(\"&$D$12&\")=\"&$D$9&\" and localMonth(\"&$D$12&\") =\"&$E$9&\" and LocalDay(\"&$D$12&\")=\"&$F$9&\" and Barix(\"&$D$12&\",reference:=StartOfSession)=\"&A74&\"\", \"Bar\", \"\", \"Close\",\"5\",\"0\",\"PrimaryOnly\",,,\"False\",\"T\",\"EveryTick\")","v":2771},5.6251134095445469E-3,{"$f":"RTD(\"cqg.rtd\",,\"StudyData\", \"Close(\"&$D$12&\") when LocalYear(\"&$D$12&\")=\"&$D$10&\" and localMonth(\"&$D$12&\") =\"&$E$10&\" and LocalDay(\"&$D$12&\")=\"&$F$10&\" and Barix(\"&$D$12&\",reference:=StartOfSession)=\"&A74&\"\", \"Bar\", \"\", \"Close\",\"5\",\"0\",\"PrimaryOnly\",,,\"False\",\"T\",\"EveryTick\")","v":2752},8.1825620510955538E-4,null,null,null,""]
[74,"14:40:00",-3,{"$f":" RTD(\"cqg.rtd\",,\"StudyData\", $D$12,  \"Tick\", \"FlatTicks=0\", \"Tick\",\"D\",C75,\"PrimaryOnly\")","v":2762.5},null,null,null,{"$f":"RTD(\"cqg.rtd\",,\"StudyData\", \"Close(\"&$D$12&\") when LocalYear(\"&$D$12&\")=\"&$D$1&\" and localMonth(\"&$D$12&\") =\"&$E$1&\" and LocalDay(\"&$D$12&\")=\"&$F$1&\" and Barix(\"&$D$12&\",reference:=StartOfSession)=\"&A75&\"\", \"Bar\", \"\", \"Close\",\"5\",\"0\",\"PrimaryOnly\",,,\"False\",\"T\",\"EveryTick\")","v":""},{"$error":"#N/A"},{"$f":"RTD(\"cqg.rtd\",,\"StudyData\", \"Close(\"&$D$12&\") when LocalYear(\"&$D$12&\")=\"&$D$2&\" and localMonth(\"&$D$12&\") =\"&$E$2&\" and LocalDay(\"&$D$12&\")=\"&$F$2&\" and Barix(\"&$D$12&\",reference:=StartOfSession)=\"&A75&\"\", \"Bar\", \"\", \"Close\",\"5\",\"0\",\"PrimaryOnly\",,,\"False\",\"T\",\"EveryTick\")","v":2782.75},-2.0620405235789851E-3,{"$f":"RTD(\"cqg.rtd\",,\"StudyData\", \"Close(\"&$D$12&\") when LocalYear(\"&$D$12&\")=\"&$D$3&\" and localMonth(\"&$D$12&\") =\"&$E$3&\" and LocalDay(\"&$D$12&\")=\"&$F$3&\" and Barix(\"&$D$12&\",reference:=StartOfSession)=\"&A75&\"\", \"Bar\", \"\", \"Close\",\"5\",\"0\",\"PrimaryOnly\",,,\"False\",\"T\",\"EveryTick\")","v":2789.75},3.8682979489024828E-3,{"$f":"RTD(\"cqg.rtd\",,\"StudyData\", \"Close(\"&$D$12&\") when LocalYear(\"&$D$12&\")=\"&$D$4&\" and localMonth(\"&$D$12&\") =\"&$E$4&\" and LocalDay(\"&$D$12&\")=\"&$F$4&\" and Barix(\"&$D$12&\",reference:=StartOfSession)=\"&A75&\"\", \"Bar\", \"\", \"Close\",\"5\",\"0\",\"PrimaryOnly\",,,\"False\",\"T\",\"EveryTick\")","v":2786},-8.0695776921007798E-4,{"$f":"RTD(\"cqg.rtd\",,\"StudyData\", \"Close(\"&$D$12&\") when LocalYear(\"&$D$12&\")=\"&$D$5&\" and localMonth(\"&$D$12&\") =\"&$E$5&\" and LocalDay(\"&$D$12&\")=\"&$F$5&\" and Barix(\"&$D$12&\",reference:=StartOfSession)=\"&A75&\"\", \"Bar\", \"\", \"Close\",\"5\",\"0\",\"PrimaryOnly\",,,\"False\",\"T\",\"EveryTick\")","v":2787.75},3.5884094375168208E-4,{"$f":"RTD(\"cqg.rtd\",,\"StudyData\", \"Close(\"&$D$12&\") when LocalYear(\"&$D$12&\")=\"&$D$6&\" and localMonth(\"&$D$12&\") =\"&$E$6&\" and LocalDay(\"&$D$12&\")=\"&$F$6&\" and Barix(\"&$D$12&\",reference:=StartOfSession)=\"&A75&\"\", \"Bar\", \"\", \"Close\",\"5\",\"0\",\"PrimaryOnly\",,,\"False\",\"T\",\"EveryTick\")","v":2790},2.6954177897574125E-3,{"$f":"RTD(\"cqg.rtd\",,\"StudyData\", \"Close(\"&$D$12&\") when LocalYear(\"&$D$12&\")=\"&$D$7&\" and localMonth(\"&$D$12&\") =\"&$E$7&\" and LocalDay(\"&$D$12&\")=\"&$F$7&\" and Barix(\"&$D$12&\",reference:=StartOfSession)=\"&A75&\"\", \"Bar\", \"\", \"Close\",\"5\",\"0\",\"PrimaryOnly\",,,\"False\",\"T\",\"EveryTick\")","v":2780.75},1.7110951008645534E-3,{"$f":"RTD(\"cqg.rtd\",,\"StudyData\", \"Close(\"&$D$12&\") when LocalYear(\"&$D$12&\")=\"&$D$8&\" and localMonth(\"&$D$12&\") =\"&$E$8&\" and LocalDay(\"&$D$12&\")=\"&$F$8&\" and Barix(\"&$D$12&\",reference:=StartOfSession)=\"&A75&\"\", \"Bar\", \"\", \"Close\",\"5\",\"0\",\"PrimaryOnly\",,,\"False\",\"T\",\"EveryTick\")","v":2773.25},-9.9063400576368879E-4,{"$f":"RTD(\"cqg.rtd\",,\"StudyData\", \"Close(\"&$D$12&\") when LocalYear(\"&$D$12&\")=\"&$D$9&\" and localMonth(\"&$D$12&\") =\"&$E$9&\" and LocalDay(\"&$D$12&\")=\"&$F$9&\" and Barix(\"&$D$12&\",reference:=StartOfSession)=\"&A75&\"\", \"Bar\", \"\", \"Close\",\"5\",\"0\",\"PrimaryOnly\",,,\"False\",\"T\",\"EveryTick\")","v":2771.25},5.7158410451823623E-3,{"$f":"RTD(\"cqg.rtd\",,\"StudyData\", \"Close(\"&$D$12&\") when LocalYear(\"&$D$12&\")=\"&$D$10&\" and localMonth(\"&$D$12&\") =\"&$E$10&\" and LocalDay(\"&$D$12&\")=\"&$F$10&\" and Barix(\"&$D$12&\",reference:=StartOfSession)=\"&A75&\"\", \"Bar\", \"\", \"Close\",\"5\",\"0\",\"PrimaryOnly\",,,\"False\",\"T\",\"EveryTick\")","v":2751.25},5.4550413673970359E-4,null,null,null,""]
[75,"14:45:00",-2,{"$f":" RTD(\"cqg.rtd\",,\"StudyData\", $D$12,  \"Tick\", \"FlatTicks=0\", \"Tick\",\"D\",C76,\"PrimaryOnly\")","v":2762.75},null,null,null,{"$f":"RTD(\"cqg.rtd\",,\"StudyData\", \"Close(\"&$D$12&\") when LocalYear(\"&$D$12&\")=\"&$D$1&\" and localMonth(\"&$D$12&\") =\"&$E$1&\" and LocalDay(\"&$D$12&\")=\"&$F$1&\" and Barix(\"&$D$12&\",reference:=StartOfSession)=\"&A76&\"\", \"Bar\", \"\", \"Close\",\"5\",\"0\",\"PrimaryOnly\",,,\"False\",\"T\",\"EveryTick\")","v":""},{"$error":"#N/A"},{"$f":"RTD(\"cqg.rtd\",,\"StudyData\", \"Close(\"&$D$12&\") when LocalYear(\"&$D$12&\")=\"&$D$2&\" and localMonth(\"&$D$12&\") =\"&$E$2&\" and LocalDay(\"&$D$12&\")=\"&$F$2&\" and Barix(\"&$D$12&\",reference:=StartOfSession)=\"&A76&\"\", \"Bar\", \"\", \"Close\",\"5\",\"0\",\"PrimaryOnly\",,,\"False\",\"T\",\"EveryTick\")","v":2783},-1.9723865877712033E-3,{"$f":"RTD(\"cqg.rtd\",,\"StudyData\", \"Close(\"&$D$12&\") when LocalYear(\"&$D$12&\")=\"&$D$3&\" and localMonth(\"&$D$12&\") =\"&$E$3&\" and LocalDay(\"&$D$12&\")=\"&$F$3&\" and Barix(\"&$D$12&\",reference:=StartOfSession)=\"&A76&\"\", \"Bar\", \"\", \"Close\",\"5\",\"0\",\"PrimaryOnly\",,,\"False\",\"T\",\"EveryTick\")","v":2789.5},3.778337531486146E-3,{"$f":"RTD(\"cqg.rtd\",,\"StudyData\", \"Close(\"&$D$12&\") when LocalYear(\"&$D$12&\")=\"&$D$4&\" and localMonth(\"&$D$12&\") =\"&$E$4&\" and LocalDay(\"&$D$12&\")=\"&$F$4&\" and Barix(\"&$D$12&\",reference:=StartOfSession)=\"&A76&\"\", \"Bar\", \"\", \"Close\",\"5\",\"0\",\"PrimaryOnly\",,,\"False\",\"T\",\"EveryTick\")","v":2782.75},-1.9725634358468574E-3,{"$f":"RTD(\"cqg.rtd\",,\"StudyData\", \"Close(\"&$D$12&\") when LocalYear(\"&$D$12&\")=\"&$D$5&\" and localMonth(\"&$D$12&\") =\"&$E$5&\" and LocalDay(\"&$D$12&\")=\"&$F$5&\" and Barix(\"&$D$12&\",reference:=StartOfSession)=\"&A76&\"\", \"Bar\", \"\", \"Close\",\"5\",\"0\",\"PrimaryOnly\",,,\"False\",\"T\",\"EveryTick\")","v":2788.25},5.3826141562752312E-4,{"$f":"RTD(\"cqg.rtd\",,\"StudyData\", \"Close(\"&$D$12&\") when LocalYear(\"&$D$12&\")=\"&$D$6&\" and localMonth(\"&$D$12&\") =\"&$E$6&\" and LocalDay(\"&$D$12&\")=\"&$F$6&\" and Barix(\"&$D$12&\",reference:=StartOfSession)=\"&A76&\"\", \"Bar\", \"\", \"Close\",\"5\",\"0\",\"PrimaryOnly\",,,\"False\",\"T\",\"EveryTick\")","v":2792},3.4141958670260556E-3,{"$f":"RTD(\"cqg.rtd\",,\"StudyData\", \"Close(\"&$D$12&\") when LocalYear(\"&$D$12&\")=\"&$D$7&\" and localMonth(\"&$D$12&\") =\"&$E$7&\" and LocalDay(\"&$D$12&\")=\"&$F$7&\" and Barix(\"&$D$12&\",reference:=StartOfSession)=\"&A76&\"\", \"Bar\", \"\", \"Close\",\"5\",\"0\",\"PrimaryOnly\",,,\"False\",\"T\",\"EveryTick\")","v":2780.75},1.7110951008645534E-3,{"$f":"RTD(\"cqg.rtd\",,\"StudyData\", \"Close(\"&$D$12&\") when LocalYear(\"&$D$12&\")=\"&$D$8&\" and localMonth(\"&$D$12&\") =\"&$E$8&\" and LocalDay(\"&$D$12&\")=\"&$F$8&\" and Barix(\"&$D$12&\",reference:=StartOfSession)=\"&A76&\"\", \"Bar\", \"\", \"Close\",\"5\",\"0\",\"PrimaryOnly\",,,\"False\",\"T\",\"EveryTick\")","v":2771.75},-1.5309798270893371E-3,{"$f":"RTD(\"cqg.rtd\",,\"StudyData\", \"Close(\"&$D$12&\") when LocalYear(\"&$D$12&\")=\"&$D$9&\" and localMonth(\"&$D$12&\") =\"&$E$9&\" and LocalDay(\"&$D$12&\")=\"&$F$9&\" and Barix(\"&$D$12&\",reference:=StartOfSession)=\"&A76&\"\", \"Bar\", \"\", \"Close\",\"5\",\"0\",\"PrimaryOnly\",,,\"False\",\"T\",\"EveryTick\")","v":2771.25},5.7158410451823623E-3,{"$f":"RTD(\"cqg.rtd\",,\"StudyData\", \"Close(\"&$D$12&\") when LocalYear(\"&$D$12&\")=\"&$D$10&\" and localMonth(\"&$D$12&\") =\"&$E$10&\" and LocalDay(\"&$D$12&\")=\"&$F$10&\" and Barix(\"&$D$12&\",reference:=StartOfSession)=\"&A76&\"\", \"Bar\", \"\", \"Close\",\"5\",\"0\",\"PrimaryOnly\",,,\"False\",\"T\",\"EveryTick\")","v":2753.5},1.3637603418492591E-3,null,null,null,""]
[76,"14:50:00",-1,{"$f":" RTD(\"cqg.rtd\",,\"StudyData\", $D$12,  \"Tick\", \"FlatTicks=0\", \"Tick\",\"D\",C77,\"PrimaryOnly\")","v":2762.5},null,null,null,{"$f":"RTD(\"cqg.rtd\",,\"StudyData\", \"Close(\"&$D$12&\") when LocalYear(\"&$D$12&\")=\"&$D$1&\" and localMonth(\"&$D$12&\") =\"&$E$1&\" and LocalDay(\"&$D$12&\")=\"&$F$1&\" and Barix(\"&$D$12&\",reference:=StartOfSession)=\"&A77&\"\", \"Bar\", \"\", \"Close\",\"5\",\"0\",\"PrimaryOnly\",,,\"False\",\"T\",\"EveryTick\")","v":""},{"$error":"#N/A"},{"$f":"RTD(\"cqg.rtd\",,\"StudyData\", \"Close(\"&$D$12&\") when LocalYear(\"&$D$12&\")=\"&$D$2&\" and localMonth(\"&$D$12&\") =\"&$E$2&\" and LocalDay(\"&$D$12&\")=\"&$F$2&\" and Barix(\"&$D$12&\",reference:=StartOfSession)=\"&A77&\"\", \"Bar\", \"\", \"Close\",\"5\",\"0\",\"PrimaryOnly\",,,\"False\",\"T\",\"EveryTick\")","v":2781.25},-2.5999641384256769E-3,{"$f":"RTD(\"cqg.rtd\",,\"StudyData\", \"Close(\"&$D$12&\") when LocalYear(\"&$D$12&\")=\"&$D$3&\" and localMonth(\"&$D$12&\") =\"&$E$3&\" and LocalDay(\"&$D$12&\")=\"&$F$3&\" and Barix(\"&$D$12&\",reference:=StartOfSession)=\"&A77&\"\", \"Bar\", \"\", \"Close\",\"5\",\"0\",\"PrimaryOnly\",,,\"False\",\"T\",\"EveryTick\")","v":2787},2.8787333573227778E-3,{"$f":"RTD(\"cqg.rtd\",,\"StudyData\", \"Close(\"&$D$12&\") when LocalYear(\"&$D$12&\")=\"&$D$4&\" and localMonth(\"&$D$12&\") =\"&$E$4&\" and LocalDay(\"&$D$12&\")=\"&$F$4&\" and Barix(\"&$D$12&\",reference:=StartOfSession)=\"&A77&\"\", \"Bar\", \"\", \"Close\",\"5\",\"0\",\"PrimaryOnly\",,,\"False\",\"T\",\"EveryTick\")","v":2782.5},-2.0622254102035326E-3,{"$f":"RTD(\"cqg.rtd\",,\"StudyData\", \"Close(\"&$D$12&\") when LocalYear(\"&$D$12&\")=\"&$D$5&\" and localMonth(\"&$D$12&\") =\"&$E$5&\" and LocalDay(\"&$D$12&\")=\"&$F$5&\" and Barix(\"&$D$12&\",reference:=StartOfSession)=\"&A77&\"\", \"Bar\", \"\", \"Close\",\"5\",\"0\",\"PrimaryOnly\",,,\"False\",\"T\",\"EveryTick\")","v":2791},1.5250740109446488E-3,{"$f":"RTD(\"cqg.rtd\",,\"StudyData\", \"Close(\"&$D$12&\") when LocalYear(\"&$D$12&\")=\"&$D$6&\" and localMonth(\"&$D$12&\") =\"&$E$6&\" and LocalDay(\"&$D$12&\")=\"&$F$6&\" and Barix(\"&$D$12&\",reference:=StartOfSession)=\"&A77&\"\", \"Bar\", \"\", \"Close\",\"5\",\"0\",\"PrimaryOnly\",,,\"False\",\"T\",\"EveryTick\")","v":2788.25},2.0664869721473494E-3,{"$f":"RTD(\"cqg.rtd\",,\"StudyData\", \"Close(\"&$D$12&\") when LocalYear(\"&$D$12&\")=\"&$D$7&\" and localMonth(\"&$D$12&\") =\"&$E$7&\" and LocalDay(\"&$D$12&\")=\"&$F$7&\" and Barix(\"&$D$12&\",reference:=StartOfSession)=\"&A77&\"\", \"Bar\", \"\", \"Close\",\"5\",\"0\",\"PrimaryOnly\",,,\"False\",\"T\",\"EveryTick\")","v":2782.25},2.2514409221902018E-3,{"$f":"RTD(\"cqg.rtd\",,\"StudyData\", \"Close(\"&$D$12&\") when LocalYear(\"&$D$12&\")=\"&$D$8&\" and localMonth(\"&$D$12&\") =\"&$E$8&\" and LocalDay(\"&$D$12&\")=\"&$F$8&\" and Barix(\"&$D$12&\",reference:=StartOfSession)=\"&A77&\"\", \"Bar\", \"\", \"Close\",\"5\",\"0\",\"PrimaryOnly\",,,\"False\",\"T\",\"EveryTick\")","v":2774.25},-6.3040345821325648E-4,{"$f":"RTD(\"cqg.rtd\",,\"StudyData\", \"Close(\"&$D$12&\") when LocalYear(\"&$D$12&\")=\"&$D$9&\" and localMonth(\"&$D$12&\") =\"&$E$9&\" and LocalDay(\"&$D$12&\")=\"&$F$9&\" and Barix(\"&$D$12&\",reference:=StartOfSession)=\"&A77&\"\", \"Bar\", \"\", \"Close\",\"5\",\"0\",\"PrimaryOnly\",,,\"False\",\"T\",\"EveryTick\")","v":2772.5},6.1694792233714388E-3,{"$f":"RTD(\"cqg.rtd\",,\"StudyData\", \"Close(\"&$D$12&\") when LocalYear(\"&$D$12&\")=\"&$D$10&\" and localMonth(\"&$D$12&\") =\"&$E$10&\" and LocalDay(\"&$D$12&\")=\"&$F$10&\" and Barix(\"&$D$12&\",reference:=StartOfSession)=\"&A77&\"\", \"Bar\", \"\", \"Close\",\"5\",\"0\",\"PrimaryOnly\",,,\"False\",\"T\",\"EveryTick\")","v":2753},1.1819256296026911E-3,null,null,null,""]
[77,"14:55:00",{"$f":"C77+1","v":0},{"$f":" RTD(\"cqg.rtd\",,\"StudyData\", $D$12,  \"Tick\", \"FlatTicks=0\", \"Tick\",\"D\",C78,\"PrimaryOnly\")","v":2762.75},null,null,null,{"$f":"RTD(\"cqg.rtd\",,\"StudyData\", \"Close(\"&$D$12&\") when LocalYear(\"&$D$12&\")=\"&$D$1&\" and localMonth(\"&$D$12&\") =\"&$E$1&\" and LocalDay(\"&$D$12&\")=\"&$F$1&\" and Barix(\"&$D$12&\",reference:=StartOfSession)=\"&A78&\"\", \"Bar\", \"\", \"Close\",\"5\",\"0\",\"PrimaryOnly\",,,\"False\",\"T\",\"EveryTick\")","v":""},{"$error":"#N/A"},{"$f":"RTD(\"cqg.rtd\",,\"StudyData\", \"Close(\"&$D$12&\") when LocalYear(\"&$D$12&\")=\"&$D$2&\" and localMonth(\"&$D$12&\") =\"&$E$2&\" and LocalDay(\"&$D$12&\")=\"&$F$2&\" and Barix(\"&$D$12&\",reference:=StartOfSession)=\"&A78&\"\", \"Bar\", \"\", \"Close\",\"5\",\"0\",\"PrimaryOnly\",,,\"False\",\"T\",\"EveryTick\")","v":2784.75},-1.3448090371167294E-3,{"$f":"RTD(\"cqg.rtd\",,\"StudyData\", \"Close(\"&$D$12&\") when LocalYear(\"&$D$12&\")=\"&$D$3&\" and localMonth(\"&$D$12&\") =\"&$E$3&\" and LocalDay(\"&$D$12&\")=\"&$F$3&\" and Barix(\"&$D$12&\",reference:=StartOfSession)=\"&A78&\"\", \"Bar\", \"\", \"Close\",\"5\",\"0\",\"PrimaryOnly\",,,\"False\",\"T\",\"EveryTick\")","v":2787.75},3.1486146095717885E-3,{"$f":"RTD(\"cqg.rtd\",,\"StudyData\", \"Close(\"&$D$12&\") when LocalYear(\"&$D$12&\")=\"&$D$4&\" and localMonth(\"&$D$12&\") =\"&$E$4&\" and LocalDay(\"&$D$12&\")=\"&$F$4&\" and Barix(\"&$D$12&\",reference:=StartOfSession)=\"&A78&\"\", \"Bar\", \"\", \"Close\",\"5\",\"0\",\"PrimaryOnly\",,,\"False\",\"T\",\"EveryTick\")","v":2780.5},-2.7795212050569355E-3,{"$f":"RTD(\"cqg.rtd\",,\"StudyData\", \"Close(\"&$D$12&\") when LocalYear(\"&$D$12&\")=\"&$D$5&\" and localMonth(\"&$D$12&\") =\"&$E$5&\" and LocalDay(\"&$D$12&\")=\"&$F$5&\" and Barix(\"&$D$12&\",reference:=StartOfSession)=\"&A78&\"\", \"Bar\", \"\", \"Close\",\"5\",\"0\",\"PrimaryOnly\",,,\"False\",\"T\",\"EveryTick\")","v":2790.5},1.3456535390688076E-3,{"$f":"RTD(\"cqg.rtd\",,\"StudyData\", \"Close(\"&$D$12&\") when LocalYear(\"&$D$12&\")=\"&$D$6&\" and localMonth(\"&$D$12&\") =\"&$E$6&\" and LocalDay(\"&$D$12&\")=\"&$F$6&\" and Barix(\"&$D$12&\",reference:=StartOfSession)=\"&A78&\"\", \"Bar\", \"\", \"Close\",\"5\",\"0\",\"PrimaryOnly\",,,\"False\",\"T\",\"EveryTick\")","v":2786.5},1.4375561545372866E-3,{"$f":"RTD(\"cqg.rtd\",,\"StudyData\", \"Close(\"&$D$12&\") when LocalYear(\"&$D$12&\")=\"&$D$7&\" and localMonth(\"&$D$12&\") =\"&$E$7&\" and LocalDay(\"&$D$12&\")=\"&$F$7&\" and Barix(\"&$D$12&\",reference:=StartOfSession)=\"&A78&\"\", \"Bar\", \"\", \"Close\",\"5\",\"0\",\"PrimaryOnly\",,,\"False\",\"T\",\"EveryTick\")","v":2782.5},2.3414985590778097E-3,{"$f":"RTD(\"cqg.rtd\",,\"StudyData\", \"Close(\"&$D$12&\") when LocalYear(\"&$D$12&\")=\"&$D$8&\" and localMonth(\"&$D$12&\") =\"&$E$8&\" and LocalDay(\"&$D$12&\")=\"&$F$8&\" and Barix(\"&$D$12&\",reference:=StartOfSession)=\"&A78&\"\", \"Bar\", \"\", \"Close\",\"5\",\"0\",\"PrimaryOnly\",,,\"False\",\"T\",\"EveryTick\")","v":2774},-7.2046109510086451E-4,{"$f":"RTD(\"cqg.rtd\",,\"StudyData\", \"Close(\"&$D$12&\") when LocalYear(\"&$D$12&\")=\"&$D$9&\" and localMonth(\"&$D$12&\") =\"&$E$9&\" and LocalDay(\"&$D$12&\")=\"&$F$9&\" and Barix(\"&$D$12&\",reference:=StartOfSession)=\"&A78&\"\", \"Bar\", \"\", \"Close\",\"5\",\"0\",\"PrimaryOnly\",,,\"False\",\"T\",\"EveryTick\")","v":2776.5},7.6211213935764837E-3,{"$f":"RTD(\"cqg.rtd\",,\"StudyData\", \"Close(\"&$D$12&\") when LocalYear(\"&$D$12&\")=\"&$D$10&\" and localMonth(\"&$D$12&\") =\"&$E$10&\" and LocalDay(\"&$D$12&\")=\"&$F$10&\" and Barix(\"&$D$12&\",reference:=StartOfSession)=\"&A78&\"\", \"Bar\", \"\", \"Close\",\"5\",\"0\",\"PrimaryOnly\",,,\"False\",\"T\",\"EveryTick\")","v":2753.5},1.3637603418492591E-3,null,null,null,""]
[78,"15:00:00",null,null,null,null,null,{"$f":"RTD(\"cqg.rtd\",,\"StudyData\", \"Close(\"&$D$12&\") when LocalYear(\"&$D$12&\")=\"&$D$1&\" and localMonth(\"&$D$12&\") =\"&$E$1&\" and LocalDay(\"&$D$12&\")=\"&$F$1&\" and Barix(\"&$D$12&\",reference:=StartOfSession)=\"&A79&\"\", \"Bar\", \"\", \"Close\",\"5\",\"0\",\"PrimaryOnly\",,,\"False\",\"T\",\"EveryTick\")","v":""},{"$error":"#N/A"},{"$f":"RTD(\"cqg.rtd\",,\"StudyData\", \"Close(\"&$D$12&\") when LocalYear(\"&$D$12&\")=\"&$D$2&\" and localMonth(\"&$D$12&\") =\"&$E$2&\" and LocalDay(\"&$D$12&\")=\"&$F$2&\" and Barix(\"&$D$12&\",reference:=StartOfSession)=\"&A79&\"\", \"Bar\", \"\", \"Close\",\"5\",\"0\",\"PrimaryOnly\",,,\"False\",\"T\",\"EveryTick\")","v":2784},-1.6137708445400753E-3,{"$f":"RTD(\"cqg.rtd\",,\"StudyData\", \"Close(\"&$D$12&\") when LocalYear(\"&$D$12&\")=\"&$D$3&\" and localMonth(\"&$D$12&\") =\"&$E$3&\" and LocalDay(\"&$D$12&\")=\"&$F$3&\" and Barix(\"&$D$12&\",reference:=StartOfSession)=\"&A79&\"\", \"Bar\", \"\", \"Close\",\"5\",\"0\",\"PrimaryOnly\",,,\"False\",\"T\",\"EveryTick\")","v":2788.75},3.5084562792371357E-3,{"$f":"RTD(\"cqg.rtd\",,\"StudyData\", \"Close(\"&$D$12&\") when LocalYear(\"&$D$12&\")=\"&$D$4&\" and localMonth(\"&$D$12&\") =\"&$E$4&\" and LocalDay(\"&$D$12&\")=\"&$F$4&\" and Barix(\"&$D$12&\",reference:=StartOfSession)=\"&A79&\"\", \"Bar\", \"\", \"Close\",\"5\",\"0\",\"PrimaryOnly\",,,\"False\",\"T\",\"EveryTick\")","v":2782},-2.2415493589168834E-3,{"$f":"RTD(\"cqg.rtd\",,\"StudyData\", \"Close(\"&$D$12&\") when LocalYear(\"&$D$12&\")=\"&$D$5&\" and localMonth(\"&$D$12&\") =\"&$E$5&\" and LocalDay(\"&$D$12&\")=\"&$F$5&\" and Barix(\"&$D$12&\",reference:=StartOfSession)=\"&A79&\"\", \"Bar\", \"\", \"Close\",\"5\",\"0\",\"PrimaryOnly\",,,\"False\",\"T\",\"EveryTick\")","v":2789},8.0739212344128463E-4,{"$f":"RTD(\"cqg.rtd\",,\"StudyData\", \"Close(\"&$D$12&\") when LocalYear(\"&$D$12&\")=\"&$D$6&\" and localMonth(\"&$D$12&\") =\"&$E$6&\" and LocalDay(\"&$D$12&\")=\"&$F$6&\" and Barix(\"&$D$12&\",reference:=StartOfSession)=\"&A79&\"\", \"Bar\", \"\", \"Close\",\"5\",\"0\",\"PrimaryOnly\",,,\"False\",\"T\",\"EveryTick\")","v":2785.75},1.1680143755615454E-3,{"$f":"RTD(\"cqg.rtd\",,\"StudyData\", \"Close(\"&$D$12&\") when LocalYear(\"&$D$12&\")=\"&$D$7&\" and localMonth(\"&$D$12&\") =\"&$E$7&\" and LocalDay(\"&$D$12&\")=\"&$F$7&\" and Barix(\"&$D$12&\",reference:=StartOfSession)=\"&A79&\"\", \"Bar\", \"\", \"Close\",\"5\",\"0\",\"PrimaryOnly\",,,\"False\",\"T\",\"EveryTick\")","v":2782.25},2.2514409221902018E-3,{"$f":"RTD(\"cqg.rtd\",,\"StudyData\", \"Close(\"&$D$12&\") when LocalYear(\"&$D$12&\")=\"&$D$8&\" and localMonth(\"&$D$12&\") =\"&$E$8&\" and LocalDay(\"&$D$12&\")=\"&$F$8&\" and Barix(\"&$D$12&\",reference:=StartOfSession)=\"&A79&\"\", \"Bar\", \"\", \"Close\",\"5\",\"0\",\"PrimaryOnly\",,,\"False\",\"T\",\"EveryTick\")","v":2778},7.2046109510086451E-4,{"$f":"RTD(\"cqg.rtd\",,\"StudyData\", \"Close(\"&$D$12&\") when LocalYear(\"&$D$12&\")=\"&$D$9&\" and localMonth(\"&$D$12&\") =\"&$E$9&\" and LocalDay(\"&$D$12&\")=\"&$F$9&\" and Barix(\"&$D$12&\",reference:=StartOfSession)=\"&A79&\"\", \"Bar\", \"\", \"Close\",\"5\",\"0\",\"PrimaryOnly\",,,\"False\",\"T\",\"EveryTick\")","v":2775.75},7.3489384866630373E-3,{"$f":"RTD(\"cqg.rtd\",,\"StudyData\", \"Close(\"&$D$12&\") when LocalYear(\"&$D$12&\")=\"&$D$10&\" and localMonth(\"&$D$12&\") =\"&$E$10&\" and LocalDay(\"&$D$12&\")=\"&$F$10&\" and Barix(\"&$D$12&\",reference:=StartOfSession)=\"&A79&\"\", \"Bar\", \"\", \"Close\",\"5\",\"0\",\"PrimaryOnly\",,,\"False\",\"T\",\"EveryTick\")","v":2754.75},1.8183471224656788E-3,null,null,null,""]
[79,"15:05:00",null,null,null,null,null,{"$f":"RTD(\"cqg.rtd\",,\"StudyData\", \"Close(\"&$D$12&\") when LocalYear(\"&$D$12&\")=\"&$D$1&\" and localMonth(\"&$D$12&\") =\"&$E$1&\" and LocalDay(\"&$D$12&\")=\"&$F$1&\" and Barix(\"&$D$12&\",reference:=StartOfSession)=\"&A80&\"\", \"Bar\", \"\", \"Close\",\"5\",\"0\",\"PrimaryOnly\",,,\"False\",\"T\",\"EveryTick\")","v":""},{"$error":"#N/A"},{"$f":"RTD(\"cqg.rtd\",,\"StudyData\", \"Close(\"&$D$12&\") when LocalYear(\"&$D$12&\")=\"&$D$2&\" and localMonth(\"&$D$12&\") =\"&$E$2&\" and LocalDay(\"&$D$12&\")=\"&$F$2&\" and Barix(\"&$D$12&\",reference:=StartOfSession)=\"&A80&\"\", \"Bar\", \"\", \"Close\",\"5\",\"0\",\"PrimaryOnly\",,,\"False\",\"T\",\"EveryTick\")","v":2784.25},-1.5241169087322932E-3,{"$f":"RTD(\"cqg.rtd\",,\"StudyData\", \"Close(\"&$D$12&\") when LocalYear(\"&$D$12&\")=\"&$D$3&\" and localMonth(\"&$D$12&\") =\"&$E$3&\" and LocalDay(\"&$D$12&\")=\"&$F$3&\" and Barix(\"&$D$12&\",reference:=StartOfSession)=\"&A80&\"\", \"Bar\", \"\", \"Close\",\"5\",\"0\",\"PrimaryOnly\",,,\"False\",\"T\",\"EveryTick\")","v":2788.5},3.4184958618207989E-3,{"$f":"RTD(\"cqg.rtd\",,\"StudyData\", \"Close(\"&$D$12&\") when LocalYear(\"&$D$12&\")=\"&$D$4&\" and localMonth(\"&$D$12&\") =\"&$E$4&\" and LocalDay(\"&$D$12&\")=\"&$F$4&\" and Barix(\"&$D$12&\",reference:=StartOfSession)=\"&A80&\"\", \"Bar\", \"\", \"Close\",\"5\",\"0\",\"PrimaryOnly\",,,\"False\",\"T\",\"EveryTick\")","v":2782},-2.2415493589168834E-3,{"$f":"RTD(\"cqg.rtd\",,\"StudyData\", \"Close(\"&$D$12&\") when LocalYear(\"&$D$12&\")=\"&$D$5&\" and localMonth(\"&$D$12&\") =\"&$E$5&\" and LocalDay(\"&$D$12&\")=\"&$F$5&\" and Barix(\"&$D$12&\",reference:=StartOfSession)=\"&A80&\"\", \"Bar\", \"\", \"Close\",\"5\",\"0\",\"PrimaryOnly\",,,\"False\",\"T\",\"EveryTick\")","v":2788},4.485511796896026E-4,{"$f":"RTD(\"cqg.rtd\",,\"StudyData\", \"Close(\"&$D$12&\") when LocalYear(\"&$D$12&\")=\"&$D$6&\" and localMonth(\"&$D$12&\") =\"&$E$6&\" and LocalDay(\"&$D$12&\")=\"&$F$6&\" and Barix(\"&$D$12&\",reference:=StartOfSession)=\"&A80&\"\", \"Bar\", \"\", \"Close\",\"5\",\"0\",\"PrimaryOnly\",,,\"False\",\"T\",\"EveryTick\")","v":2784.5},7.187780772686433E-4,{"$f":"RTD(\"cqg.rtd\",,\"StudyData\", \"Close(\"&$D$12&\") when LocalYear(\"&$D$12&\")=\"&$D$7&\" and localMonth(\"&$D$12&\") =\"&$E$7&\" and LocalDay(\"&$D$12&\")=\"&$F$7&\" and Barix(\"&$D$12&\",reference:=StartOfSession)=\"&A80&\"\", \"Bar\", \"\", \"Close\",\"5\",\"0\",\"PrimaryOnly\",,,\"False\",\"T\",\"EveryTick\")","v":2782.5},2.3414985590778097E-3,{"$f":"RTD(\"cqg.rtd\",,\"StudyData\", \"Close(\"&$D$12&\") when LocalYear(\"&$D$12&\")=\"&$D$8&\" and localMonth(\"&$D$12&\") =\"&$E$8&\" and LocalDay(\"&$D$12&\")=\"&$F$8&\" and Barix(\"&$D$12&\",reference:=StartOfSession)=\"&A80&\"\", \"Bar\", \"\", \"Close\",\"5\",\"0\",\"PrimaryOnly\",,,\"False\",\"T\",\"EveryTick\")","v":2777.75},6.3040345821325648E-4,{"$f":"RTD(\"cqg.rtd\",,\"StudyData\", \"Close(\"&$D$12&\") when LocalYear(\"&$D$12&\")=\"&$D$9&\" and localMonth(\"&$D$12&\") =\"&$E$9&\" and LocalDay(\"&$D$12&\")=\"&$F$9&\" and Barix(\"&$D$12&\",reference:=StartOfSession)=\"&A80&\"\", \"Bar\", \"\", \"Close\",\"5\",\"0\",\"PrimaryOnly\",,,\"False\",\"T\",\"EveryTick\")","v":2775.5},7.2582108510252227E-3,{"$f":"RTD(\"cqg.rtd\",,\"StudyData\", \"Close(\"&$D$12&\") when LocalYear(\"&$D$12&\")=\"&$D$10&\" and localMonth(\"&$D$12&\") =\"&$E$10&\" and LocalDay(\"&$D$12&\")=\"&$F$10&\" and Barix(\"&$D$12&\",reference:=StartOfSession)=\"&A80&\"\", \"Bar\", \"\", \"Close\",\"5\",\"0\",\"PrimaryOnly\",,,\"False\",\"T\",\"EveryTick\")","v":2754.75},1.8183471224656788E-3,null,null,null,""]
[80,"15:10:00",null,null,null,null,null,{"$f":"RTD(\"cqg.rtd\",,\"StudyData\", \"Close(\"&$D$12&\") when LocalYear(\"&$D$12&\")=\"&$D$1&\" and localMonth(\"&$D$12&\") =\"&$E$1&\" and LocalDay(\"&$D$12&\")=\"&$F$1&\" and Barix(\"&$D$12&\",reference:=StartOfSession)=\"&A81&\"\", \"Bar\", \"\", \"Close\",\"5\",\"0\",\"PrimaryOnly\",,,\"False\",\"T\",\"EveryTick\")","v":""},{"$error":"#N/A"},{"$f":"RTD(\"cqg.rtd\",,\"StudyData\", \"Close(\"&$D$12&\") when LocalYear(\"&$D$12&\")=\"&$D$2&\" and localMonth(\"&$D$12&\") =\"&$E$2&\" and LocalDay(\"&$D$12&\")=\"&$F$2&\" and Barix(\"&$D$12&\",reference:=StartOfSession)=\"&A81&\"\", \"Bar\", \"\", \"Close\",\"5\",\"0\",\"PrimaryOnly\",,,\"False\",\"T\",\"EveryTick\")","v":2784.5},-1.4344629729245114E-3,{"$f":"RTD(\"cqg.rtd\",,\"StudyData\", \"Close(\"&$D$12&\") when LocalYear(\"&$D$12&\")=\"&$D$3&\" and localMonth(\"&$D$12&\") =\"&$E$3&\" and LocalDay(\"&$D$12&\")=\"&$F$3&\" and Barix(\"&$D$12&\",reference:=StartOfSession)=\"&A81&\"\", \"Bar\", \"\", \"Close\",\"5\",\"0\",\"PrimaryOnly\",,,\"False\",\"T\",\"EveryTick\")","v":2788.5},3.4184958618207989E-3,{"$f":"RTD(\"cqg.rtd\",,\"StudyData\", \"Close(\"&$D$12&\") when LocalYear(\"&$D$12&\")=\"&$D$4&\" and localMonth(\"&$D$12&\") =\"&$E$4&\" and LocalDay(\"&$D$12&\")=\"&$F$4&\" and Barix(\"&$D$12&\",reference:=StartOfSession)=\"&A81&\"\", \"Bar\", \"\", \"Close\",\"5\",\"0\",\"PrimaryOnly\",,,\"False\",\"T\",\"EveryTick\")","v":2779},-3.3174930511969875E-3,{"$f":"RTD(\"cqg.rtd\",,\"StudyData\", \"Close(\"&$D$12&\") when LocalYear(\"&$D$12&\")=\"&$D$5&\" and localMonth(\"&$D$12&\") =\"&$E$5&\" and LocalDay(\"&$D$12&\")=\"&$F$5&\" and Barix(\"&$D$12&\",reference:=StartOfSession)=\"&A81&\"\", \"Bar\", \"\", \"Close\",\"5\",\"0\",\"PrimaryOnly\",,,\"False\",\"T\",\"EveryTick\")","v":2788.25},5.3826141562752312E-4,{"$f":"RTD(\"cqg.rtd\",,\"StudyData\", \"Close(\"&$D$12&\") when LocalYear(\"&$D$12&\")=\"&$D$6&\" and localMonth(\"&$D$12&\") =\"&$E$6&\" and LocalDay(\"&$D$12&\")=\"&$F$6&\" and Barix(\"&$D$12&\",reference:=StartOfSession)=\"&A81&\"\", \"Bar\", \"\", \"Close\",\"5\",\"0\",\"PrimaryOnly\",,,\"False\",\"T\",\"EveryTick\")","v":2786.75},1.5274034141958669E-3,{"$f":"RTD(\"cqg.rtd\",,\"StudyData\", \"Close(\"&$D$12&\") when LocalYear(\"&$D$12&\")=\"&$D$7&\" and localMonth(\"&$D$12&\") =\"&$E$7&\" and LocalDay(\"&$D$12&\")=\"&$F$7&\" and Barix(\"&$D$12&\",reference:=StartOfSession)=\"&A81&\"\", \"Bar\", \"\", \"Close\",\"5\",\"0\",\"PrimaryOnly\",,,\"False\",\"T\",\"EveryTick\")","v":2782.5},2.3414985590778097E-3,{"$f":"RTD(\"cqg.rtd\",,\"StudyData\", \"Close(\"&$D$12&\") when LocalYear(\"&$D$12&\")=\"&$D$8&\" and localMonth(\"&$D$12&\") =\"&$E$8&\" and LocalDay(\"&$D$12&\")=\"&$F$8&\" and Barix(\"&$D$12&\",reference:=StartOfSession)=\"&A81&\"\", \"Bar\", \"\", \"Close\",\"5\",\"0\",\"PrimaryOnly\",,,\"False\",\"T\",\"EveryTick\")","v":2776},0,{"$f":"RTD(\"cqg.rtd\",,\"StudyData\", \"Close(\"&$D$12&\") when LocalYear(\"&$D$12&\")=\"&$D$9&\" and localMonth(\"&$D$12&\") =\"&$E$9&\" and LocalDay(\"&$D$12&\")=\"&$F$9&\" and Barix(\"&$D$12&\",reference:=StartOfSession)=\"&A81&\"\", \"Bar\", \"\", \"Close\",\"5\",\"0\",\"PrimaryOnly\",,,\"False\",\"T\",\"EveryTick\")","v":2776},7.4396661223008528E-3,{"$f":"RTD(\"cqg.rtd\",,\"StudyData\", \"Close(\"&$D$12&\") when LocalYear(\"&$D$12&\")=\"&$D$10&\" and localMonth(\"&$D$12&\") =\"&$E$10&\" and LocalDay(\"&$D$12&\")=\"&$F$10&\" and Barix(\"&$D$12&\",reference:=StartOfSession)=\"&A81&\"\", \"Bar\", \"\", \"Close\",\"5\",\"0\",\"PrimaryOnly\",,,\"False\",\"T\",\"EveryTick\")","v":2755.5},2.0910991908355304E-3,null,null,null,""]

{"sheet":"Sheet4","index":2,"n_rows":93,"n_cols":20,"rows_kept":93,"cut":false,"hidden":true,"merged":[]}
[null,{"$f":"Sheet3!I1","v":-7.8110971449093193E-3},{"$f":"Sheet3!K1","v":-4.4826967903890983E-3},null,{"$f":"Sheet3!M1","v":3.5084562792371357E-3},null,{"$f":"Sheet3!O1","v":1.2552676409934547E-3},null,{"$f":"Sheet3!Q1","v":1.4353637750067283E-3},null,{"$f":"Sheet3!S1","v":8.9847259658580418E-4},null,{"$f":"Sheet3!U1","v":-2.9719020172910664E-3},null,{"$f":"Sheet3!W1","v":7.2046109510086451E-4},null,{"$f":"Sheet3!Y1","v":1.1794592632915987E-3},null,{"$f":"Sheet3!AA1","v":6.3642149286298759E-4}]
[null,{"$f":"Sheet3!I2","v":{"$error":"#N/A"}},{"$f":"Sheet3!K2","v":-4.662004662004662E-3},{"$f":"CORREL($B$1:B2,$C$1:C2)","v":{"$error":"#N/A"}},{"$f":"Sheet3!M2","v":3.778337531486146E-3},{"$f":"CORREL($B$1:B2,$E$1:E2)","v":{"$error":"#N/A"}},{"$f":"Sheet3!O2","v":1.613915538420156E-3},{"$f":"CORREL($B$1:B2,$G$1:G2)","v":{"$error":"#N/A"}},{"$f":"Sheet3!Q2","v":8.971023593792052E-4},{"$f":"CORREL($B$1:B2,$I$1:I2)","v":{"$error":"#N/A"}},{"$f":"Sheet3!S2","v":1.0781671159029651E-3},{"$f":"CORREL($B$1:B2,$K$1:K2)","v":{"$error":"#N/A"}},{"$f":"Sheet3!U2","v":-2.5216138328530259E-3},{"$f":"CORREL($B$1:B2,$M$1:M2)","v":{"$error":"#N/A"}},{"$f":"Sheet3!W2","v":9.0057636887608066E-4},{"$f":"CORREL($B$1:B2,$O$1:O2)","v":{"$error":"#N/A"}},{"$f":"Sheet3!Y2","v":1.5423698058428597E-3},{"$f":"CORREL($B$1:B2,$Q$1:Q2)","v":{"$error":"#N/A"}},{"$f":"Sheet3!AA2","v":4.5458678061641969E-4},{"$f":"CORREL($B$1:B2,$S$1:S2)","v":{"$error":"#N/A"}}]
[null,{"$f":"Sheet3!I3","v":{"$error":"#N/A"}},{"$f":"Sheet3!K3","v":-5.0206204052357902E-3},{"$f":"CORREL($B$1:B3,$C$1:C3)","v":{"$error":"#N/A"}},{"$f":"Sheet3!M3","v":3.5084562792371357E-3},{"$f":"CORREL($B$1:B3,$E$1:E3)","v":{"$error":"#N/A"}},{"$f":"Sheet3!O3","v":1.613915538420156E-3},{"$f":"CORREL($B$1:B3,$G$1:G3)","v":{"$error":"#N/A"}},{"$f":"Sheet3!Q3","v":6.2797165156544359E-4},{"$f":"CORREL($B$1:B3,$I$1:I3)","v":{"$error":"#N/A"}},{"$f":"Sheet3!S3","v":1.7969451931716084E-3},{"$f":"CORREL($B$1:B3,$K$1:K3)","v":{"$error":"#N/A"}},{"$f":"Sheet3!U3","v":-2.431556195965418E-3},{"$f":"CORREL($B$1:B3,$M$1:M3)","v":{"$error":"#N/A"}},{"$f":"Sheet3!W3","v":1.5309798270893371E-3},{"$f":"CORREL($B$1:B3,$O$1:O3)","v":{"$error":"#N/A"}},{"$f":"Sheet3!Y3","v":1.4516421702050445E-3},{"$f":"CORREL($B$1:B3,$Q$1:Q3)","v":{"$error":"#N/A"}},{"$f":"Sheet3!AA3","v":9.0917356123283938E-4},{"$f":"CORREL($B$1:B3,$S$1:S3)","v":{"$error":"#N/A"}}]
[null,{"$f":"Sheet3!I4","v":{"$error":"#N/A"}},{"$f":"Sheet3!K4","v":-4.1240810471579702E-3},{"$f":"CORREL($B$1:B4,$C$1:C4)","v":{"$error":"#N/A"}},{"$f":"Sheet3!M4","v":3.2385750269881253E-3},{"$f":"CORREL($B$1:B4,$E$1:E4)","v":{"$error":"#N/A"}},{"$f":"Sheet3!O4","v":1.7932394871335068E-3},{"$f":"CORREL($B$1:B4,$G$1:G4)","v":{"$error":"#N/A"}},{"$f":"Sheet3!Q4","v":3.5884094375168208E-4},{"$f":"CORREL($B$1:B4,$I$1:I4)","v":{"$error":"#N/A"}},{"$f":"Sheet3!S4","v":1.4375561545372866E-3},{"$f":"CORREL($B$1:B4,$K$1:K4)","v":{"$error":"#N/A"}},{"$f":"Sheet3!U4","v":-2.7017291066282422E-3},{"$f":"CORREL($B$1:B4,$M$1:M4)","v":{"$error":"#N/A"}},{"$f":"Sheet3!W4","v":2.3414985590778097E-3},{"$f":"CORREL($B$1:B4,$O$1:O4)","v":{"$error":"#N/A"}},{"$f":"Sheet3!Y4","v":4.5363817818907642E-4},{"$f":"CORREL($B$1:B4,$Q$1:Q4)","v":{"$error":"#N/A"}},{"$f":"Sheet3!AA4","v":1.0000909173561233E-3},{"$f":"CORREL($B$1:B4,$S$1:S4)","v":{"$error":"#N/A"}}]
[null,{"$f":"Sheet3!I5","v":{"$error":"#N/A"}},{"$f":"Sheet3!K5","v":-4.3930428545813161E-3},{"$f":"CORREL($B$1:B5,$C$1:C5)","v":{"$error":"#N/A"}},{"$f":"Sheet3!M5","v":3.1486146095717885E-3},{"$f":"CORREL($B$1:B5,$E$1:E5)","v":{"$error":"#N/A"}},{"$f":"Sheet3!O5","v":1.3449296153501299E-3},{"$f":"CORREL($B$1:B5,$G$1:G5)","v":{"$error":"#N/A"}},{"$f":"Sheet3!Q5","v":2.6913070781376156E-4},{"$f":"CORREL($B$1:B5,$I$1:I5)","v":{"$error":"#N/A"}},{"$f":"Sheet3!S5","v":1.0781671159029651E-3},{"$f":"CORREL($B$1:B5,$K$1:K5)","v":{"$error":"#N/A"}},{"$f":"Sheet3!U5","v":-2.1613832853025938E-3},{"$f":"CORREL($B$1:B5,$M$1:M5)","v":{"$error":"#N/A"}},{"$f":"Sheet3!W5","v":2.0713256484149855E-3},{"$f":"CORREL($B$1:B5,$O$1:O5)","v":{"$error":"#N/A"}},{"$f":"Sheet3!Y5","v":9.0727635637815284E-4},{"$f":"CORREL($B$1:B5,$Q$1:Q5)","v":{"$error":"#N/A"}},{"$f":"Sheet3!AA5","v":1.0910082734794072E-3},{"$f":"CORREL($B$1:B5,$S$1:S5)","v":{"$error":"#N/A"}}]
[null,{"$f":"Sheet3!I6","v":{"$error":"#N/A"}},{"$f":"Sheet3!K6","v":-4.0344271113501879E-3},{"$f":"CORREL($B$1:B6,$C$1:C6)","v":{"$error":"#N/A"}},{"$f":"Sheet3!M6","v":3.1486146095717885E-3},{"$f":"CORREL($B$1:B6,$E$1:E6)","v":{"$error":"#N/A"}},{"$f":"Sheet3!O6","v":1.1656056666367793E-3},{"$f":"CORREL($B$1:B6,$G$1:G6)","v":{"$error":"#N/A"}},{"$f":"Sheet3!Q6","v":2.6913070781376156E-4},{"$f":"CORREL($B$1:B6,$I$1:I6)","v":{"$error":"#N/A"}},{"$f":"Sheet3!S6","v":8.9847259658580418E-4},{"$f":"CORREL($B$1:B6,$K$1:K6)","v":{"$error":"#N/A"}},{"$f":"Sheet3!U6","v":-9.9063400576368879E-4},{"$f":"CORREL($B$1:B6,$M$1:M6)","v":{"$error":"#N/A"}},{"$f":"Sheet3!W6","v":1.7110951008645534E-3},{"$f":"CORREL($B$1:B6,$O$1:O6)","v":{"$error":"#N/A"}},{"$f":"Sheet3!Y6","v":-1.8145527127563056E-4},{"$f":"CORREL($B$1:B6,$Q$1:Q6)","v":{"$error":"#N/A"}},{"$f":"Sheet3!AA6","v":1.1819256296026911E-3},{"$f":"CORREL($B$1:B6,$S$1:S6)","v":{"$error":"#N/A"}}]
[null,{"$f":"Sheet3!I7","v":{"$error":"#N/A"}},{"$f":"Sheet3!K7","v":-3.7654653039268424E-3},{"$f":"CORREL($B$1:B7,$C$1:C7)","v":{"$error":"#N/A"}},{"$f":"Sheet3!M7","v":4.5879812882331774E-3},{"$f":"CORREL($B$1:B7,$E$1:E7)","v":{"$error":"#N/A"}},{"$f":"Sheet3!O7","v":1.4345915897068053E-3},{"$f":"CORREL($B$1:B7,$G$1:G7)","v":{"$error":"#N/A"}},{"$f":"Sheet3!Q7","v":8.0739212344128463E-4},{"$f":"CORREL($B$1:B7,$I$1:I7)","v":{"$error":"#N/A"}},{"$f":"Sheet3!S7","v":6.2893081761006286E-4},{"$f":"CORREL($B$1:B7,$K$1:K7)","v":{"$error":"#N/A"}},{"$f":"Sheet3!U7","v":-1.8011527377521613E-3},{"$f":"CORREL($B$1:B7,$M$1:M7)","v":{"$error":"#N/A"}},{"$f":"Sheet3!W7","v":2.1613832853025938E-3},{"$f":"CORREL($B$1:B7,$O$1:O7)","v":{"$error":"#N/A"}},{"$f":"Sheet3!Y7","v":-1.0887316276537834E-3},{"$f":"CORREL($B$1:B7,$Q$1:Q7)","v":{"$error":"#N/A"}},{"$f":"Sheet3!AA7","v":2.0001818347122466E-3},{"$f":"CORREL($B$1:B7,$S$1:S7)","v":{"$error":"#N/A"}}]
[null,{"$f":"Sheet3!I8","v":{"$error":"#N/A"}},{"$f":"Sheet3!K8","v":-4.4826967903890983E-3},{"$f":"CORREL($B$1:B8,$C$1:C8)","v":{"$error":"#N/A"}},{"$f":"Sheet3!M8","v":4.9478229578985245E-3},{"$f":"CORREL($B$1:B8,$E$1:E8)","v":{"$error":"#N/A"}},{"$f":"Sheet3!O8","v":1.7035775127768314E-3},{"$f":"CORREL($B$1:B8,$G$1:G8)","v":{"$error":"#N/A"}},{"$f":"Sheet3!Q8","v":9.8681259531712578E-4},{"$f":"CORREL($B$1:B8,$I$1:I8)","v":{"$error":"#N/A"}},{"$f":"Sheet3!S8","v":1.2578616352201257E-3},{"$f":"CORREL($B$1:B8,$K$1:K8)","v":{"$error":"#N/A"}},{"$f":"Sheet3!U8","v":-1.6210374639769453E-3},{"$f":"CORREL($B$1:B8,$M$1:M8)","v":{"$error":"#N/A"}},{"$f":"Sheet3!W8","v":7.2046109510086451E-4},{"$f":"CORREL($B$1:B8,$O$1:O8)","v":{"$error":"#N/A"}},{"$f":"Sheet3!Y8","v":-8.1654872074033748E-4},{"$f":"CORREL($B$1:B8,$Q$1:Q8)","v":{"$error":"#N/A"}},{"$f":"Sheet3!AA8","v":1.8183471224656788E-3},{"$f":"CORREL($B$1:B8,$S$1:S8)","v":{"$error":"#N/A"}}]
[null,{"$f":"Sheet3!I9","v":{"$error":"#N/A"}},{"$f":"Sheet3!K9","v":-4.3930428545813161E-3},{"$f":"CORREL($B$1:B9,$C$1:C9)","v":{"$error":"#N/A"}},{"$f":"Sheet3!M9","v":5.0377833753148613E-3},{"$f":"CORREL($B$1:B9,$E$1:E9)","v":{"$error":"#N/A"}},{"$f":"Sheet3!O9","v":1.7035775127768314E-3},{"$f":"CORREL($B$1:B9,$G$1:G9)","v":{"$error":"#N/A"}},{"$f":"Sheet3!Q9","v":1.1662330671929667E-3},{"$f":"CORREL($B$1:B9,$I$1:I9)","v":{"$error":"#N/A"}},{"$f":"Sheet3!S9","v":1.7969451931716084E-3},{"$f":"CORREL($B$1:B9,$K$1:K9)","v":{"$error":"#N/A"}},{"$f":"Sheet3!U9","v":-1.8011527377521613E-3},{"$f":"CORREL($B$1:B9,$M$1:M9)","v":{"$error":"#N/A"}},{"$f":"Sheet3!W9","v":6.3040345821325648E-4},{"$f":"CORREL($B$1:B9,$O$1:O9)","v":{"$error":"#N/A"}},{"$f":"Sheet3!Y9","v":-3.6291054255126111E-4},{"$f":"CORREL($B$1:B9,$Q$1:Q9)","v":{"$error":"#N/A"}},{"$f":"Sheet3!AA9","v":1.6365124102191108E-3},{"$f":"CORREL($B$1:B9,$S$1:S9)","v":{"$error":"#N/A"}}]
[null,{"$f":"Sheet3!I10","v":{"$error":"#N/A"}},{"$f":"Sheet3!K10","v":-4.662004662004662E-3},{"$f":"CORREL($B$1:B10,$C$1:C10)","v":{"$error":"#N/A"}},{"$f":"Sheet3!M10","v":5.0377833753148613E-3},{"$f":"CORREL($B$1:B10,$E$1:E10)","v":{"$error":"#N/A"}},{"$f":"Sheet3!O10","v":1.882901461490182E-3},{"$f":"CORREL($B$1:B10,$G$1:G10)","v":{"$error":"#N/A"}},{"$f":"Sheet3!Q10","v":8.0739212344128463E-4},{"$f":"CORREL($B$1:B10,$I$1:I10)","v":{"$error":"#N/A"}},{"$f":"Sheet3!S10","v":1.4375561545372866E-3},{"$f":"CORREL($B$1:B10,$K$1:K10)","v":{"$error":"#N/A"}},{"$f":"Sheet3!U10","v":-1.5309798270893371E-3},{"$f":"CORREL($B$1:B10,$M$1:M10)","v":{"$error":"#N/A"}},{"$f":"Sheet3!W10","v":7.2046109510086451E-4},{"$f":"CORREL($B$1:B10,$O$1:O10)","v":{"$error":"#N/A"}},{"$f":"Sheet3!Y10","v":-8.1654872074033748E-4},{"$f":"CORREL($B$1:B10,$Q$1:Q10)","v":{"$error":"#N/A"}},{"$f":"Sheet3!AA10","v":1.7274297663423949E-3},{"$f":"CORREL($B$1:B10,$S$1:S10)","v":{"$error":"#N/A"}}]
[null,{"$f":"Sheet3!I11","v":{"$error":"#N/A"}},{"$f":"Sheet3!K11","v":-5.1999282768513538E-3},{"$f":"CORREL($B$1:B11,$C$1:C11)","v":{"$error":"#N/A"}},{"$f":"Sheet3!M11","v":4.5879812882331774E-3},{"$f":"CORREL($B$1:B11,$E$1:E11)","v":{"$error":"#N/A"}},{"$f":"Sheet3!O11","v":1.9725634358468574E-3},{"$f":"CORREL($B$1:B11,$G$1:G11)","v":{"$error":"#N/A"}},{"$f":"Sheet3!Q11","v":4.485511796896026E-4},{"$f":"CORREL($B$1:B11,$I$1:I11)","v":{"$error":"#N/A"}},{"$f":"Sheet3!S11","v":1.7070979335130278E-3},{"$f":"CORREL($B$1:B11,$K$1:K11)","v":{"$error":"#N/A"}},{"$f":"Sheet3!U11","v":-1.6210374639769453E-3},{"$f":"CORREL($B$1:B11,$M$1:M11)","v":{"$error":"#N/A"}},{"$f":"Sheet3!W11","v":-1.8011527377521613E-4},{"$f":"CORREL($B$1:B11,$O$1:O11)","v":{"$error":"#N/A"}},{"$f":"Sheet3!Y11","v":0},{"$f":"CORREL($B$1:B11,$Q$1:Q11)","v":{"$error":"#N/A"}},{"$f":"Sheet3!AA11","v":1.3637603418492591E-3},{"$f":"CORREL($B$1:B11,$S$1:S11)","v":{"$error":"#N/A"}}]
[null,{"$f":"Sheet3!I12","v":{"$error":"#N/A"}},{"$f":"Sheet3!K12","v":-5.3792361484669175E-3},{"$f":"CORREL($B$1:B12,$C$1:C12)","v":{"$error":"#N/A"}},{"$f":"Sheet3!M12","v":4.6779417056495142E-3},{"$f":"CORREL($B$1:B12,$E$1:E12)","v":{"$error":"#N/A"}},{"$f":"Sheet3!O12","v":2.1518873845602082E-3},{"$f":"CORREL($B$1:B12,$G$1:G12)","v":{"$error":"#N/A"}},{"$f":"Sheet3!Q12","v":1.7942047187584104E-4},{"$f":"CORREL($B$1:B12,$I$1:I12)","v":{"$error":"#N/A"}},{"$f":"Sheet3!S12","v":1.6172506738544475E-3},{"$f":"CORREL($B$1:B12,$K$1:K12)","v":{"$error":"#N/A"}},{"$f":"Sheet3!U12","v":-2.0713256484149855E-3},{"$f":"CORREL($B$1:B12,$M$1:M12)","v":{"$error":"#N/A"}},{"$f":"Sheet3!W12","v":-1.8011527377521613E-4},{"$f":"CORREL($B$1:B12,$O$1:O12)","v":{"$error":"#N/A"}},{"$f":"Sheet3!Y12","v":0},{"$f":"CORREL($B$1:B12,$Q$1:Q12)","v":{"$error":"#N/A"}},{"$f":"Sheet3!AA12","v":2.0001818347122466E-3},{"$f":"CORREL($B$1:B12,$S$1:S12)","v":{"$error":"#N/A"}}]
[null,{"$f":"Sheet3!I13","v":{"$error":"#N/A"}},{"$f":"Sheet3!K13","v":-6.8136991213914293E-3},{"$f":"CORREL($B$1:B13,$C$1:C13)","v":{"$error":"#N/A"}},{"$f":"Sheet3!M13","v":3.4184958618207989E-3},{"$f":"CORREL($B$1:B13,$E$1:E13)","v":{"$error":"#N/A"}},{"$f":"Sheet3!O13","v":2.0622254102035326E-3},{"$f":"CORREL($B$1:B13,$G$1:G13)","v":{"$error":"#N/A"}},{"$f":"Sheet3!Q13","v":7.1768188750336416E-4},{"$f":"CORREL($B$1:B13,$I$1:I13)","v":{"$error":"#N/A"}},{"$f":"Sheet3!S13","v":1.6172506738544475E-3},{"$f":"CORREL($B$1:B13,$K$1:K13)","v":{"$error":"#N/A"}},{"$f":"Sheet3!U13","v":-2.6116714697406338E-3},{"$f":"CORREL($B$1:B13,$M$1:M13)","v":{"$error":"#N/A"}},{"$f":"Sheet3!W13","v":-1.0806916426512969E-3},{"$f":"CORREL($B$1:B13,$O$1:O13)","v":{"$error":"#N/A"}},{"$f":"Sheet3!Y13","v":-2.7218290691344586E-4},{"$f":"CORREL($B$1:B13,$Q$1:Q13)","v":{"$error":"#N/A"}},{"$f":"Sheet3!AA13","v":1.454677697972543E-3},{"$f":"CORREL($B$1:B13,$S$1:S13)","v":{"$error":"#N/A"}}]
[null,{"$f":"Sheet3!I14","v":{"$error":"#N/A"}},{"$f":"Sheet3!K14","v":-7.6205845436614671E-3},{"$f":"CORREL($B$1:B14,$C$1:C14)","v":{"$error":"#N/A"}},{"$f":"Sheet3!M14","v":3.3285354444044621E-3},{"$f":"CORREL($B$1:B14,$E$1:E14)","v":{"$error":"#N/A"}},{"$f":"Sheet3!O14","v":1.613915538420156E-3},{"$f":"CORREL($B$1:B14,$G$1:G14)","v":{"$error":"#N/A"}},{"$f":"Sheet3!Q14","v":3.5884094375168208E-4},{"$f":"CORREL($B$1:B14,$I$1:I14)","v":{"$error":"#N/A"}},{"$f":"Sheet3!S14","v":1.3477088948787063E-3},{"$f":"CORREL($B$1:B14,$K$1:K14)","v":{"$error":"#N/A"}},{"$f":"Sheet3!U14","v":-3.0619596541786743E-3},{"$f":"CORREL($B$1:B14,$M$1:M14)","v":{"$error":"#N/A"}},{"$f":"Sheet3!W14","v":-1.440922190201729E-3},{"$f":"CORREL($B$1:B14,$O$1:O14)","v":{"$error":"#N/A"}},{"$f":"Sheet3!Y14","v":1.8145527127563056E-4},{"$f":"CORREL($B$1:B14,$Q$1:Q14)","v":{"$error":"#N/A"}},{"$f":"Sheet3!AA14","v":8.1825620510955538E-4},{"$f":"CORREL($B$1:B14,$S$1:S14)","v":{"$error":"#N/A"}}]
[null,{"$f":"Sheet3!I15","v":{"$error":"#N/A"}},{"$f":"Sheet3!K15","v":-6.2757755065447375E-3},{"$f":"CORREL($B$1:B15,$C$1:C15)","v":{"$error":"#N/A"}},{"$f":"Sheet3!M15","v":3.3285354444044621E-3},{"$f":"CORREL($B$1:B15,$E$1:E15)","v":{"$error":"#N/A"}},{"$f":"Sheet3!O15","v":1.613915538420156E-3},{"$f":"CORREL($B$1:B15,$G$1:G15)","v":{"$error":"#N/A"}},{"$f":"Sheet3!Q15","v":8.0739212344128463E-4},{"$f":"CORREL($B$1:B15,$I$1:I15)","v":{"$error":"#N/A"}},{"$f":"Sheet3!S15","v":1.4375561545372866E-3},{"$f":"CORREL($B$1:B15,$K$1:K15)","v":{"$error":"#N/A"}},{"$f":"Sheet3!U15","v":-2.7917867435158501E-3},{"$f":"CORREL($B$1:B15,$M$1:M15)","v":{"$error":"#N/A"}},{"$f":"Sheet3!W15","v":-9.0057636887608066E-4},{"$f":"CORREL($B$1:B15,$O$1:O15)","v":{"$error":"#N/A"}},{"$f":"Sheet3!Y15","v":-2.7218290691344586E-4},{"$f":"CORREL($B$1:B15,$Q$1:Q15)","v":{"$error":"#N/A"}},{"$f":"Sheet3!AA15","v":6.3642149286298759E-4},{"$f":"CORREL($B$1:B15,$S$1:S15)","v":{"$error":"#N/A"}}]
[null,{"$f":"Sheet3!I16","v":{"$error":"#N/A"}},{"$f":"Sheet3!K16","v":-5.2895822126591361E-3},{"$f":"CORREL($B$1:B16,$C$1:C16)","v":{"$error":"#N/A"}},{"$f":"Sheet3!M16","v":3.2385750269881253E-3},{"$f":"CORREL($B$1:B16,$E$1:E16)","v":{"$error":"#N/A"}},{"$f":"Sheet3!O16","v":1.4345915897068053E-3},{"$f":"CORREL($B$1:B16,$G$1:G16)","v":{"$error":"#N/A"}},{"$f":"Sheet3!Q16","v":7.1768188750336416E-4},{"$f":"CORREL($B$1:B16,$I$1:I16)","v":{"$error":"#N/A"}},{"$f":"Sheet3!S16","v":1.2578616352201257E-3},{"$f":"CORREL($B$1:B16,$K$1:K16)","v":{"$error":"#N/A"}},{"$f":"Sheet3!U16","v":-2.431556195965418E-3},{"$f":"CORREL($B$1:B16,$M$1:M16)","v":{"$error":"#N/A"}},{"$f":"Sheet3!W16","v":-7.2046109510086451E-4},{"$f":"CORREL($B$1:B16,$O$1:O16)","v":{"$error":"#N/A"}},{"$f":"Sheet3!Y16","v":-1.270186898929414E-3},{"$f":"CORREL($B$1:B16,$Q$1:Q16)","v":{"$error":"#N/A"}},{"$f":"Sheet3!AA16","v":3.6366942449313574E-4},{"$f":"CORREL($B$1:B16,$S$1:S16)","v":{"$error":"#N/A"}}]
[null,{"$f":"Sheet3!I17","v":{"$error":"#N/A"}},{"$f":"Sheet3!K17","v":-5.2895822126591361E-3},{"$f":"CORREL($B$1:B17,$C$1:C17)","v":{"$error":"#N/A"}},{"$f":"Sheet3!M17","v":2.6988125224901042E-3},{"$f":"CORREL($B$1:B17,$E$1:E17)","v":{"$error":"#N/A"}},{"$f":"Sheet3!O17","v":1.7035775127768314E-3},{"$f":"CORREL($B$1:B17,$G$1:G17)","v":{"$error":"#N/A"}},{"$f":"Sheet3!Q17","v":5.3826141562752312E-4},{"$f":"CORREL($B$1:B17,$I$1:I17)","v":{"$error":"#N/A"}},{"$f":"Sheet3!S17","v":1.1680143755615454E-3},{"$f":"CORREL($B$1:B17,$K$1:K17)","v":{"$error":"#N/A"}},{"$f":"Sheet3!U17","v":-1.1707492795389048E-3},{"$f":"CORREL($B$1:B17,$M$1:M17)","v":{"$error":"#N/A"}},{"$f":"Sheet3!W17","v":-9.0057636887608066E-4},{"$f":"CORREL($B$1:B17,$O$1:O17)","v":{"$error":"#N/A"}},{"$f":"Sheet3!Y17","v":-4.5363817818907642E-4},{"$f":"CORREL($B$1:B17,$Q$1:Q17)","v":{"$error":"#N/A"}},{"$f":"Sheet3!AA17","v":1.0000909173561233E-3},{"$f":"CORREL($B$1:B17,$S$1:S17)","v":{"$error":"#N/A"}}]
[null,{"$f":"Sheet3!I18","v":{"$error":"#N/A"}},{"$f":"Sheet3!K18","v":-5.0206204052357902E-3},{"$f":"CORREL($B$1:B18,$C$1:C18)","v":{"$error":"#N/A"}},{"$f":"Sheet3!M18","v":1.6192875134940627E-3},{"$f":"CORREL($B$1:B18,$E$1:E18)","v":{"$error":"#N/A"}},{"$f":"Sheet3!O18","v":1.613915538420156E-3},{"$f":"CORREL($B$1:B18,$G$1:G18)","v":{"$error":"#N/A"}},{"$f":"Sheet3!Q18","v":9.8681259531712578E-4},{"$f":"CORREL($B$1:B18,$I$1:I18)","v":{"$error":"#N/A"}},{"$f":"Sheet3!S18","v":1.1680143755615454E-3},{"$f":"CORREL($B$1:B18,$K$1:K18)","v":{"$error":"#N/A"}},{"$f":"Sheet3!U18","v":-1.3508645533141211E-3},{"$f":"CORREL($B$1:B18,$M$1:M18)","v":{"$error":"#N/A"}},{"$f":"Sheet3!W18","v":-2.7017291066282423E-4},{"$f":"CORREL($B$1:B18,$O$1:O18)","v":{"$error":"#N/A"}},{"$f":"Sheet3!Y18","v":6.3509344946470698E-4},{"$f":"CORREL($B$1:B18,$Q$1:Q18)","v":{"$error":"#N/A"}},{"$f":"Sheet3!AA18","v":1.0910082734794072E-3},{"$f":"CORREL($B$1:B18,$S$1:S18)","v":{"$error":"#N/A"}}]
[null,{"$f":"Sheet3!I19","v":{"$error":"#N/A"}},{"$f":"Sheet3!K19","v":-4.3033889187735338E-3},{"$f":"CORREL($B$1:B19,$C$1:C19)","v":{"$error":"#N/A"}},{"$f":"Sheet3!M19","v":1.7992083483267362E-3},{"$f":"CORREL($B$1:B19,$E$1:E19)","v":{"$error":"#N/A"}},{"$f":"Sheet3!O19","v":2.3312113332735586E-3},{"$f":"CORREL($B$1:B19,$G$1:G19)","v":{"$error":"#N/A"}},{"$f":"Sheet3!Q19","v":8.0739212344128463E-4},{"$f":"CORREL($B$1:B19,$I$1:I19)","v":{"$error":"#N/A"}},{"$f":"Sheet3!S19","v":1.0781671159029651E-3},{"$f":"CORREL($B$1:B19,$K$1:K19)","v":{"$error":"#N/A"}},{"$f":"Sheet3!U19","v":-1.8912103746397695E-3},{"$f":"CORREL($B$1:B19,$M$1:M19)","v":{"$error":"#N/A"}},{"$f":"Sheet3!W19","v":-4.5028818443804033E-4},{"$f":"CORREL($B$1:B19,$O$1:O19)","v":{"$error":"#N/A"}},{"$f":"Sheet3!Y19","v":1.0887316276537834E-3},{"$f":"CORREL($B$1:B19,$Q$1:Q19)","v":{"$error":"#N/A"}},{"$f":"Sheet3!AA19","v":6.3642149286298759E-4},{"$f":"CORREL($B$1:B19,$S$1:S19)","v":{"$error":"#N/A"}}]
[null,{"$f":"Sheet3!I20","v":{"$error":"#N/A"}},{"$f":"Sheet3!K20","v":-4.5723507261968797E-3},{"$f":"CORREL($B$1:B20,$C$1:C20)","v":{"$error":"#N/A"}},{"$f":"Sheet3!M20","v":1.7092479309103994E-3},{"$f":"CORREL($B$1:B20,$E$1:E20)","v":{"$error":"#N/A"}},{"$f":"Sheet3!O20","v":2.4208733076302338E-3},{"$f":"CORREL($B$1:B20,$G$1:G20)","v":{"$error":"#N/A"}},{"$f":"Sheet3!Q20","v":8.971023593792052E-4},{"$f":"CORREL($B$1:B20,$I$1:I20)","v":{"$error":"#N/A"}},{"$f":"Sheet3!S20","v":1.0781671159029651E-3},{"$f":"CORREL($B$1:B20,$K$1:K20)","v":{"$error":"#N/A"}},{"$f":"Sheet3!U20","v":-1.260806916426513E-3},{"$f":"CORREL($B$1:B20,$M$1:M20)","v":{"$error":"#N/A"}},{"$f":"Sheet3!W20","v":-5.4034582132564846E-4},{"$f":"CORREL($B$1:B20,$O$1:O20)","v":{"$error":"#N/A"}},{"$f":"Sheet3!Y20","v":9.9800399201596798E-4},{"$f":"CORREL($B$1:B20,$Q$1:Q20)","v":{"$error":"#N/A"}},{"$f":"Sheet3!AA20","v":-1.2728429857259752E-3},{"$f":"CORREL($B$1:B20,$S$1:S20)","v":{"$error":"#N/A"}}]
[null,{"$f":"Sheet3!I21","v":{"$error":"#N/A"}},{"$f":"Sheet3!K21","v":-4.4826967903890983E-3},{"$f":"CORREL($B$1:B21,$C$1:C21)","v":{"$error":"#N/A"}},{"$f":"Sheet3!M21","v":1.97912918315941E-3},{"$f":"CORREL($B$1:B21,$E$1:E21)","v":{"$error":"#N/A"}},{"$f":"Sheet3!O21","v":1.9725634358468574E-3},{"$f":"CORREL($B$1:B21,$G$1:G21)","v":{"$error":"#N/A"}},{"$f":"Sheet3!Q21","v":3.5884094375168208E-4},{"$f":"CORREL($B$1:B21,$I$1:I21)","v":{"$error":"#N/A"}},{"$f":"Sheet3!S21","v":9.8831985624438451E-4},{"$f":"CORREL($B$1:B21,$K$1:K21)","v":{"$error":"#N/A"}},{"$f":"Sheet3!U21","v":-8.1051873198847264E-4},{"$f":"CORREL($B$1:B21,$M$1:M21)","v":{"$error":"#N/A"}},{"$f":"Sheet3!W21","v":8.1051873198847264E-4},{"$f":"CORREL($B$1:B21,$O$1:O21)","v":{"$error":"#N/A"}},{"$f":"Sheet3!Y21","v":1.3609145345672292E-3},{"$f":"CORREL($B$1:B21,$Q$1:Q21)","v":{"$error":"#N/A"}},{"$f":"Sheet3!AA21","v":-2.7275206836985179E-4},{"$f":"CORREL($B$1:B21,$S$1:S21)","v":{"$error":"#N/A"}}]
[null,{"$f":"Sheet3!I22","v":{"$error":"#N/A"}},{"$f":"Sheet3!K22","v":-4.7516585978124443E-3},{"$f":"CORREL($B$1:B22,$C$1:C22)","v":{"$error":"#N/A"}},{"$f":"Sheet3!M22","v":1.97912918315941E-3},{"$f":"CORREL($B$1:B22,$E$1:E22)","v":{"$error":"#N/A"}},{"$f":"Sheet3!O22","v":2.4208733076302338E-3},{"$f":"CORREL($B$1:B22,$G$1:G22)","v":{"$error":"#N/A"}},{"$f":"Sheet3!Q22","v":2.6913070781376156E-4},{"$f":"CORREL($B$1:B22,$I$1:I22)","v":{"$error":"#N/A"}},{"$f":"Sheet3!S22","v":1.1680143755615454E-3},{"$f":"CORREL($B$1:B22,$K$1:K22)","v":{"$error":"#N/A"}},{"$f":"Sheet3!U22","v":-9.0057636887608066E-4},{"$f":"CORREL($B$1:B22,$M$1:M22)","v":{"$error":"#N/A"}},{"$f":"Sheet3!W22","v":4.5028818443804033E-4},{"$f":"CORREL($B$1:B22,$O$1:O22)","v":{"$error":"#N/A"}},{"$f":"Sheet3!Y22","v":1.4516421702050445E-3},{"$f":"CORREL($B$1:B22,$Q$1:Q22)","v":{"$error":"#N/A"}},{"$f":"Sheet3!AA22","v":1.8183471224656787E-4},{"$f":"CORREL($B$1:B22,$S$1:S22)","v":{"$error":"#N/A"}}]
[null,{"$f":"Sheet3!I23","v":{"$error":"#N/A"}},{"$f":"Sheet3!K23","v":-4.3930428545813161E-3},{"$f":"CORREL($B$1:B23,$C$1:C23)","v":{"$error":"#N/A"}},{"$f":"Sheet3!M23","v":2.5188916876574307E-3},{"$f":"CORREL($B$1:B23,$E$1:E23)","v":{"$error":"#N/A"}},{"$f":"Sheet3!O23","v":2.4208733076302338E-3},{"$f":"CORREL($B$1:B23,$G$1:G23)","v":{"$error":"#N/A"}},{"$f":"Sheet3!Q23","v":7.1768188750336416E-4},{"$f":"CORREL($B$1:B23,$I$1:I23)","v":{"$error":"#N/A"}},{"$f":"Sheet3!S23","v":1.7969451931716084E-3},{"$f":"CORREL($B$1:B23,$K$1:K23)","v":{"$error":"#N/A"}},{"$f":"Sheet3!U23","v":-1.3508645533141211E-3},{"$f":"CORREL($B$1:B23,$M$1:M23)","v":{"$error":"#N/A"}},{"$f":"Sheet3!W23","v":3.6023054755043225E-4},{"$f":"CORREL($B$1:B23,$O$1:O23)","v":{"$error":"#N/A"}},{"$f":"Sheet3!Y23","v":2.0867356196697514E-3},{"$f":"CORREL($B$1:B23,$Q$1:Q23)","v":{"$error":"#N/A"}},{"$f":"Sheet3!AA23","v":-2.7275206836985179E-4},{"$f":"CORREL($B$1:B23,$S$1:S23)","v":{"$error":"#N/A"}}]
[null,{"$f":"Sheet3!I24","v":{"$error":"#N/A"}},{"$f":"Sheet3!K24","v":-5.7378518916980457E-3},{"$f":"CORREL($B$1:B24,$C$1:C24)","v":{"$error":"#N/A"}},{"$f":"Sheet3!M24","v":2.6988125224901042E-3},{"$f":"CORREL($B$1:B24,$E$1:E24)","v":{"$error":"#N/A"}},{"$f":"Sheet3!O24","v":2.5105352819869095E-3},{"$f":"CORREL($B$1:B24,$G$1:G24)","v":{"$error":"#N/A"}},{"$f":"Sheet3!Q24","v":7.1768188750336416E-4},{"$f":"CORREL($B$1:B24,$I$1:I24)","v":{"$error":"#N/A"}},{"$f":"Sheet3!S24","v":1.6172506738544475E-3},{"$f":"CORREL($B$1:B24,$K$1:K24)","v":{"$error":"#N/A"}},{"$f":"Sheet3!U24","v":-1.1707492795389048E-3},{"$f":"CORREL($B$1:B24,$M$1:M24)","v":{"$error":"#N/A"}},{"$f":"Sheet3!W24","v":1.8011527377521613E-4},{"$f":"CORREL($B$1:B24,$O$1:O24)","v":{"$error":"#N/A"}},{"$f":"Sheet3!Y24","v":2.5403737978588279E-3},{"$f":"CORREL($B$1:B24,$Q$1:Q24)","v":{"$error":"#N/A"}},{"$f":"Sheet3!AA24","v":-4.5458678061641969E-4},{"$f":"CORREL($B$1:B24,$S$1:S24)","v":{"$error":"#N/A"}}]
[null,{"$f":"Sheet3!I25","v":{"$error":"#N/A"}},{"$f":"Sheet3!K25","v":-6.1861215707369552E-3},{"$f":"CORREL($B$1:B25,$C$1:C25)","v":{"$error":"#N/A"}},{"$f":"Sheet3!M25","v":2.8787333573227778E-3},{"$f":"CORREL($B$1:B25,$E$1:E25)","v":{"$error":"#N/A"}},{"$f":"Sheet3!O25","v":2.5105352819869095E-3},{"$f":"CORREL($B$1:B25,$G$1:G25)","v":{"$error":"#N/A"}},{"$f":"Sheet3!Q25","v":8.971023593792052E-4},{"$f":"CORREL($B$1:B25,$I$1:I25)","v":{"$error":"#N/A"}},{"$f":"Sheet3!S25","v":1.7070979335130278E-3},{"$f":"CORREL($B$1:B25,$K$1:K25)","v":{"$error":"#N/A"}},{"$f":"Sheet3!U25","v":-1.9812680115273776E-3},{"$f":"CORREL($B$1:B25,$M$1:M25)","v":{"$error":"#N/A"}},{"$f":"Sheet3!W25","v":-9.0057636887608063E-5},{"$f":"CORREL($B$1:B25,$O$1:O25)","v":{"$error":"#N/A"}},{"$f":"Sheet3!Y25","v":2.6311014334966429E-3},{"$f":"CORREL($B$1:B25,$Q$1:Q25)","v":{"$error":"#N/A"}},{"$f":"Sheet3!AA25","v":-9.0917356123283938E-4},{"$f":"CORREL($B$1:B25,$S$1:S25)","v":{"$error":"#N/A"}}]
[null,{"$f":"Sheet3!I26","v":{"$error":"#N/A"}},{"$f":"Sheet3!K26","v":-5.9171597633136093E-3},{"$f":"CORREL($B$1:B26,$C$1:C26)","v":{"$error":"#N/A"}},{"$f":"Sheet3!M26","v":3.2385750269881253E-3},{"$f":"CORREL($B$1:B26,$E$1:E26)","v":{"$error":"#N/A"}},{"$f":"Sheet3!O26","v":2.4208733076302338E-3},{"$f":"CORREL($B$1:B26,$G$1:G26)","v":{"$error":"#N/A"}},{"$f":"Sheet3!Q26","v":1.0765228312550462E-3},{"$f":"CORREL($B$1:B26,$I$1:I26)","v":{"$error":"#N/A"}},{"$f":"Sheet3!S26","v":2.1563342318059301E-3},{"$f":"CORREL($B$1:B26,$K$1:K26)","v":{"$error":"#N/A"}},{"$f":"Sheet3!U26","v":-1.9812680115273776E-3},{"$f":"CORREL($B$1:B26,$M$1:M26)","v":{"$error":"#N/A"}},{"$f":"Sheet3!W26","v":2.7017291066282423E-4},{"$f":"CORREL($B$1:B26,$O$1:O26)","v":{"$error":"#N/A"}},{"$f":"Sheet3!Y26","v":2.5403737978588279E-3},{"$f":"CORREL($B$1:B26,$Q$1:Q26)","v":{"$error":"#N/A"}},{"$f":"Sheet3!AA26","v":-9.0917356123283938E-4},{"$f":"CORREL($B$1:B26,$S$1:S26)","v":{"$error":"#N/A"}}]
[null,{"$f":"Sheet3!I27","v":{"$error":"#N/A"}},{"$f":"Sheet3!K27","v":-5.7378518916980457E-3},{"$f":"CORREL($B$1:B27,$C$1:C27)","v":{"$error":"#N/A"}},{"$f":"Sheet3!M27","v":3.1486146095717885E-3},{"$f":"CORREL($B$1:B27,$E$1:E27)","v":{"$error":"#N/A"}},{"$f":"Sheet3!O27","v":2.4208733076302338E-3},{"$f":"CORREL($B$1:B27,$G$1:G27)","v":{"$error":"#N/A"}},{"$f":"Sheet3!Q27","v":1.5250740109446488E-3},{"$f":"CORREL($B$1:B27,$I$1:I27)","v":{"$error":"#N/A"}},{"$f":"Sheet3!S27","v":2.8751123090745732E-3},{"$f":"CORREL($B$1:B27,$K$1:K27)","v":{"$error":"#N/A"}},{"$f":"Sheet3!U27","v":-1.440922190201729E-3},{"$f":"CORREL($B$1:B27,$M$1:M27)","v":{"$error":"#N/A"}},{"$f":"Sheet3!W27","v":9.0057636887608063E-5},{"$f":"CORREL($B$1:B27,$O$1:O27)","v":{"$error":"#N/A"}},{"$f":"Sheet3!Y27","v":3.1754672473235349E-3},{"$f":"CORREL($B$1:B27,$Q$1:Q27)","v":{"$error":"#N/A"}},{"$f":"Sheet3!AA27","v":-2.1820165469588143E-3},{"$f":"CORREL($B$1:B27,$S$1:S27)","v":{"$error":"#N/A"}}]
[null,{"$f":"Sheet3!I28","v":{"$error":"#N/A"}},{"$f":"Sheet3!K28","v":-5.8275058275058279E-3},{"$f":"CORREL($B$1:B28,$C$1:C28)","v":{"$error":"#N/A"}},{"$f":"Sheet3!M28","v":3.0586541921554518E-3},{"$f":"CORREL($B$1:B28,$E$1:E28)","v":{"$error":"#N/A"}},{"$f":"Sheet3!O28","v":2.3312113332735586E-3},{"$f":"CORREL($B$1:B28,$G$1:G28)","v":{"$error":"#N/A"}},{"$f":"Sheet3!Q28","v":1.6147842468825693E-3},{"$f":"CORREL($B$1:B28,$I$1:I28)","v":{"$error":"#N/A"}},{"$f":"Sheet3!S28","v":2.8751123090745732E-3},{"$f":"CORREL($B$1:B28,$K$1:K28)","v":{"$error":"#N/A"}},{"$f":"Sheet3!U28","v":-1.6210374639769453E-3},{"$f":"CORREL($B$1:B28,$M$1:M28)","v":{"$error":"#N/A"}},{"$f":"Sheet3!W28","v":-9.0057636887608066E-4},{"$f":"CORREL($B$1:B28,$O$1:O28)","v":{"$error":"#N/A"}},{"$f":"Sheet3!Y28","v":3.1754672473235349E-3},{"$f":"CORREL($B$1:B28,$Q$1:Q28)","v":{"$error":"#N/A"}},{"$f":"Sheet3!AA28","v":-1.6365124102191108E-3},{"$f":"CORREL($B$1:B28,$S$1:S28)","v":{"$error":"#N/A"}}]
[null,{"$f":"Sheet3!I29","v":{"$error":"#N/A"}},{"$f":"Sheet3!K29","v":-4.7516585978124443E-3},{"$f":"CORREL($B$1:B29,$C$1:C29)","v":{"$error":"#N/A"}},{"$f":"Sheet3!M29","v":3.0586541921554518E-3},{"$f":"CORREL($B$1:B29,$E$1:E29)","v":{"$error":"#N/A"}},{"$f":"Sheet3!O29","v":2.3312113332735586E-3},{"$f":"CORREL($B$1:B29,$G$1:G29)","v":{"$error":"#N/A"}},{"$f":"Sheet3!Q29","v":2.1530456625100925E-3},{"$f":"CORREL($B$1:B29,$I$1:I29)","v":{"$error":"#N/A"}},{"$f":"Sheet3!S29","v":2.8751123090745732E-3},{"$f":"CORREL($B$1:B29,$K$1:K29)","v":{"$error":"#N/A"}},{"$f":"Sheet3!U29","v":-1.1707492795389048E-3},{"$f":"CORREL($B$1:B29,$M$1:M29)","v":{"$error":"#N/A"}},{"$f":"Sheet3!W29","v":-1.0806916426512969E-3},{"$f":"CORREL($B$1:B29,$O$1:O29)","v":{"$error":"#N/A"}},{"$f":"Sheet3!Y29","v":2.5403737978588279E-3},{"$f":"CORREL($B$1:B29,$Q$1:Q29)","v":{"$error":"#N/A"}},{"$f":"Sheet3!AA29","v":-1.454677697972543E-3},{"$f":"CORREL($B$1:B29,$S$1:S29)","v":{"$error":"#N/A"}}]
[null,{"$f":"Sheet3!I30","v":{"$error":"#N/A"}},{"$f":"Sheet3!K30","v":-4.662004662004662E-3},{"$f":"CORREL($B$1:B30,$C$1:C30)","v":{"$error":"#N/A"}},{"$f":"Sheet3!M30","v":3.4184958618207989E-3},{"$f":"CORREL($B$1:B30,$E$1:E30)","v":{"$error":"#N/A"}},{"$f":"Sheet3!O30","v":2.3312113332735586E-3},{"$f":"CORREL($B$1:B30,$G$1:G30)","v":{"$error":"#N/A"}},{"$f":"Sheet3!Q30","v":2.063335426572172E-3},{"$f":"CORREL($B$1:B30,$I$1:I30)","v":{"$error":"#N/A"}},{"$f":"Sheet3!S30","v":3.0548068283917339E-3},{"$f":"CORREL($B$1:B30,$K$1:K30)","v":{"$error":"#N/A"}},{"$f":"Sheet3!U30","v":-1.1707492795389048E-3},{"$f":"CORREL($B$1:B30,$M$1:M30)","v":{"$error":"#N/A"}},{"$f":"Sheet3!W30","v":-5.4034582132564846E-4},{"$f":"CORREL($B$1:B30,$O$1:O30)","v":{"$error":"#N/A"}},{"$f":"Sheet3!Y30","v":3.5383777898747959E-3},{"$f":"CORREL($B$1:B30,$Q$1:Q30)","v":{"$error":"#N/A"}},{"$f":"Sheet3!AA30","v":-1.2728429857259752E-3},{"$f":"CORREL($B$1:B30,$S$1:S30)","v":{"$error":"#N/A"}}]
[null,{"$f":"Sheet3!I31","v":{"$error":"#N/A"}},{"$f":"Sheet3!K31","v":-4.9309664694280079E-3},{"$f":"CORREL($B$1:B31,$C$1:C31)","v":{"$error":"#N/A"}},{"$f":"Sheet3!M31","v":3.5984166966534724E-3},{"$f":"CORREL($B$1:B31,$E$1:E31)","v":{"$error":"#N/A"}},{"$f":"Sheet3!O31","v":1.882901461490182E-3},{"$f":"CORREL($B$1:B31,$G$1:G31)","v":{"$error":"#N/A"}},{"$f":"Sheet3!Q31","v":2.3324661343859334E-3},{"$f":"CORREL($B$1:B31,$I$1:I31)","v":{"$error":"#N/A"}},{"$f":"Sheet3!S31","v":2.9649595687331535E-3},{"$f":"CORREL($B$1:B31,$K$1:K31)","v":{"$error":"#N/A"}},{"$f":"Sheet3!U31","v":-8.1051873198847264E-4},{"$f":"CORREL($B$1:B31,$M$1:M31)","v":{"$error":"#N/A"}},{"$f":"Sheet3!W31","v":-1.8011527377521613E-4},{"$f":"CORREL($B$1:B31,$O$1:O31)","v":{"$error":"#N/A"}},{"$f":"Sheet3!Y31","v":3.1754672473235349E-3},{"$f":"CORREL($B$1:B31,$Q$1:Q31)","v":{"$error":"#N/A"}},{"$f":"Sheet3!AA31","v":-2.0001818347122466E-3},{"$f":"CORREL($B$1:B31,$S$1:S31)","v":{"$error":"#N/A"}}]
[null,{"$f":"Sheet3!I32","v":{"$error":"#N/A"}},{"$f":"Sheet3!K32","v":-5.3792361484669175E-3},{"$f":"CORREL($B$1:B32,$C$1:C32)","v":{"$error":"#N/A"}},{"$f":"Sheet3!M32","v":3.5984166966534724E-3},{"$f":"CORREL($B$1:B32,$E$1:E32)","v":{"$error":"#N/A"}},{"$f":"Sheet3!O32","v":2.0622254102035326E-3},{"$f":"CORREL($B$1:B32,$G$1:G32)","v":{"$error":"#N/A"}},{"$f":"Sheet3!Q32","v":1.8839149546963309E-3},{"$f":"CORREL($B$1:B32,$I$1:I32)","v":{"$error":"#N/A"}},{"$f":"Sheet3!S32","v":3.3243486073674753E-3},{"$f":"CORREL($B$1:B32,$K$1:K32)","v":{"$error":"#N/A"}},{"$f":"Sheet3!U32","v":-7.2046109510086451E-4},{"$f":"CORREL($B$1:B32,$M$1:M32)","v":{"$error":"#N/A"}},{"$f":"Sheet3!W32","v":-9.0057636887608063E-5},{"$f":"CORREL($B$1:B32,$O$1:O32)","v":{"$error":"#N/A"}},{"$f":"Sheet3!Y32","v":2.8125567047722734E-3},{"$f":"CORREL($B$1:B32,$Q$1:Q32)","v":{"$error":"#N/A"}},{"$f":"Sheet3!AA32","v":-1.0910082734794072E-3},{"$f":"CORREL($B$1:B32,$S$1:S32)","v":{"$error":"#N/A"}}]
[null,{"$f":"Sheet3!I33","v":{"$error":"#N/A"}},{"$f":"Sheet3!K33","v":-5.3792361484669175E-3},{"$f":"CORREL($B$1:B33,$C$1:C33)","v":{"$error":"#N/A"}},{"$f":"Sheet3!M33","v":3.5084562792371357E-3},{"$f":"CORREL($B$1:B33,$E$1:E33)","v":{"$error":"#N/A"}},{"$f":"Sheet3!O33","v":1.9725634358468574E-3},{"$f":"CORREL($B$1:B33,$G$1:G33)","v":{"$error":"#N/A"}},{"$f":"Sheet3!Q33","v":2.063335426572172E-3},{"$f":"CORREL($B$1:B33,$I$1:I33)","v":{"$error":"#N/A"}},{"$f":"Sheet3!S33","v":3.234501347708895E-3},{"$f":"CORREL($B$1:B33,$K$1:K33)","v":{"$error":"#N/A"}},{"$f":"Sheet3!U33","v":-5.4034582132564846E-4},{"$f":"CORREL($B$1:B33,$M$1:M33)","v":{"$error":"#N/A"}},{"$f":"Sheet3!W33","v":0},{"$f":"CORREL($B$1:B33,$O$1:O33)","v":{"$error":"#N/A"}},{"$f":"Sheet3!Y33","v":3.0847396116857194E-3},{"$f":"CORREL($B$1:B33,$Q$1:Q33)","v":{"$error":"#N/A"}},{"$f":"Sheet3!AA33","v":-7.2733884898627148E-4},{"$f":"CORREL($B$1:B33,$S$1:S33)","v":{"$error":"#N/A"}}]
[null,{"$f":"Sheet3!I34","v":{"$error":"#N/A"}},{"$f":"Sheet3!K34","v":-4.9309664694280079E-3},{"$f":"CORREL($B$1:B34,$C$1:C34)","v":{"$error":"#N/A"}},{"$f":"Sheet3!M34","v":3.2385750269881253E-3},{"$f":"CORREL($B$1:B34,$E$1:E34)","v":{"$error":"#N/A"}},{"$f":"Sheet3!O34","v":1.5242535640634808E-3},{"$f":"CORREL($B$1:B34,$G$1:G34)","v":{"$error":"#N/A"}},{"$f":"Sheet3!Q34","v":2.1530456625100925E-3},{"$f":"CORREL($B$1:B34,$I$1:I34)","v":{"$error":"#N/A"}},{"$f":"Sheet3!S34","v":3.504043126684636E-3},{"$f":"CORREL($B$1:B34,$K$1:K34)","v":{"$error":"#N/A"}},{"$f":"Sheet3!U34","v":-4.5028818443804033E-4},{"$f":"CORREL($B$1:B34,$M$1:M34)","v":{"$error":"#N/A"}},{"$f":"Sheet3!W34","v":9.0057636887608063E-5},{"$f":"CORREL($B$1:B34,$O$1:O34)","v":{"$error":"#N/A"}},{"$f":"Sheet3!Y34","v":3.5383777898747959E-3},{"$f":"CORREL($B$1:B34,$Q$1:Q34)","v":{"$error":"#N/A"}},{"$f":"Sheet3!AA34","v":-1.0910082734794072E-3},{"$f":"CORREL($B$1:B34,$S$1:S34)","v":{"$error":"#N/A"}}]
[null,{"$f":"Sheet3!I35","v":{"$error":"#N/A"}},{"$f":"Sheet3!K35","v":-4.9309664694280079E-3},{"$f":"CORREL($B$1:B35,$C$1:C35)","v":{"$error":"#N/A"}},{"$f":"Sheet3!M35","v":2.968693774739115E-3},{"$f":"CORREL($B$1:B35,$E$1:E35)","v":{"$error":"#N/A"}},{"$f":"Sheet3!O35","v":1.5242535640634808E-3},{"$f":"CORREL($B$1:B35,$G$1:G35)","v":{"$error":"#N/A"}},{"$f":"Sheet3!Q35","v":1.8839149546963309E-3},{"$f":"CORREL($B$1:B35,$I$1:I35)","v":{"$error":"#N/A"}},{"$f":"Sheet3!S35","v":3.5938903863432167E-3},{"$f":"CORREL($B$1:B35,$K$1:K35)","v":{"$error":"#N/A"}},{"$f":"Sheet3!U35","v":3.6023054755043225E-4},{"$f":"CORREL($B$1:B35,$M$1:M35)","v":{"$error":"#N/A"}},{"$f":"Sheet3!W35","v":3.6023054755043225E-4},{"$f":"CORREL($B$1:B35,$O$1:O35)","v":{"$error":"#N/A"}},{"$f":"Sheet3!Y35","v":3.4476501542369804E-3},{"$f":"CORREL($B$1:B35,$Q$1:Q35)","v":{"$error":"#N/A"}},{"$f":"Sheet3!AA35","v":-1.8183471224656788E-3},{"$f":"CORREL($B$1:B35,$S$1:S35)","v":{"$error":"#N/A"}}]
[null,{"$f":"Sheet3!I36","v":{"$error":"#N/A"}},{"$f":"Sheet3!K36","v":-4.9309664694280079E-3},{"$f":"CORREL($B$1:B36,$C$1:C36)","v":{"$error":"#N/A"}},{"$f":"Sheet3!M36","v":2.788772939906441E-3},{"$f":"CORREL($B$1:B36,$E$1:E36)","v":{"$error":"#N/A"}},{"$f":"Sheet3!O36","v":1.5242535640634808E-3},{"$f":"CORREL($B$1:B36,$G$1:G36)","v":{"$error":"#N/A"}},{"$f":"Sheet3!Q36","v":1.7942047187584104E-3},{"$f":"CORREL($B$1:B36,$I$1:I36)","v":{"$error":"#N/A"}},{"$f":"Sheet3!S36","v":3.6837376460017971E-3},{"$f":"CORREL($B$1:B36,$K$1:K36)","v":{"$error":"#N/A"}},{"$f":"Sheet3!U36","v":1.0806916426512969E-3},{"$f":"CORREL($B$1:B36,$M$1:M36)","v":{"$error":"#N/A"}},{"$f":"Sheet3!W36","v":4.5028818443804033E-4},{"$f":"CORREL($B$1:B36,$O$1:O36)","v":{"$error":"#N/A"}},{"$f":"Sheet3!Y36","v":3.3569225185991654E-3},{"$f":"CORREL($B$1:B36,$Q$1:Q36)","v":{"$error":"#N/A"}},{"$f":"Sheet3!AA36","v":-1.0000909173561233E-3},{"$f":"CORREL($B$1:B36,$S$1:S36)","v":{"$error":"#N/A"}}]
[null,{"$f":"Sheet3!I37","v":{"$error":"#N/A"}},{"$f":"Sheet3!K37","v":-5.1102743410435716E-3},{"$f":"CORREL($B$1:B37,$C$1:C37)","v":{"$error":"#N/A"}},{"$f":"Sheet3!M37","v":2.8787333573227778E-3},{"$f":"CORREL($B$1:B37,$E$1:E37)","v":{"$error":"#N/A"}},{"$f":"Sheet3!O37","v":1.4345915897068053E-3},{"$f":"CORREL($B$1:B37,$G$1:G37)","v":{"$error":"#N/A"}},{"$f":"Sheet3!Q37","v":1.4353637750067283E-3},{"$f":"CORREL($B$1:B37,$I$1:I37)","v":{"$error":"#N/A"}},{"$f":"Sheet3!S37","v":3.7735849056603774E-3},{"$f":"CORREL($B$1:B37,$K$1:K37)","v":{"$error":"#N/A"}},{"$f":"Sheet3!U37","v":1.3508645533141211E-3},{"$f":"CORREL($B$1:B37,$M$1:M37)","v":{"$error":"#N/A"}},{"$f":"Sheet3!W37","v":-9.0057636887608066E-4},{"$f":"CORREL($B$1:B37,$O$1:O37)","v":{"$error":"#N/A"}},{"$f":"Sheet3!Y37","v":3.3569225185991654E-3},{"$f":"CORREL($B$1:B37,$Q$1:Q37)","v":{"$error":"#N/A"}},{"$f":"Sheet3!AA37","v":-1.1819256296026911E-3},{"$f":"CORREL($B$1:B37,$S$1:S37)","v":{"$error":"#N/A"}}]
[null,{"$f":"Sheet3!I38","v":{"$error":"#N/A"}},{"$f":"Sheet3!K38","v":-4.7516585978124443E-3},{"$f":"CORREL($B$1:B38,$C$1:C38)","v":{"$error":"#N/A"}},{"$f":"Sheet3!M38","v":2.6088521050737674E-3},{"$f":"CORREL($B$1:B38,$E$1:E38)","v":{"$error":"#N/A"}},{"$f":"Sheet3!O38","v":1.4345915897068053E-3},{"$f":"CORREL($B$1:B38,$G$1:G38)","v":{"$error":"#N/A"}},{"$f":"Sheet3!Q38","v":1.5250740109446488E-3},{"$f":"CORREL($B$1:B38,$I$1:I38)","v":{"$error":"#N/A"}},{"$f":"Sheet3!S38","v":3.5938903863432167E-3},{"$f":"CORREL($B$1:B38,$K$1:K38)","v":{"$error":"#N/A"}},{"$f":"Sheet3!U38","v":8.1051873198847264E-4},{"$f":"CORREL($B$1:B38,$M$1:M38)","v":{"$error":"#N/A"}},{"$f":"Sheet3!W38","v":-6.3040345821325648E-4},{"$f":"CORREL($B$1:B38,$O$1:O38)","v":{"$error":"#N/A"}},{"$f":"Sheet3!Y38","v":2.9032843404100889E-3},{"$f":"CORREL($B$1:B38,$Q$1:Q38)","v":{"$error":"#N/A"}},{"$f":"Sheet3!AA38","v":-8.1825620510955538E-4},{"$f":"CORREL($B$1:B38,$S$1:S38)","v":{"$error":"#N/A"}}]
[null,{"$f":"Sheet3!I39","v":{"$error":"#N/A"}},{"$f":"Sheet3!K39","v":-4.8413125336202257E-3},{"$f":"CORREL($B$1:B39,$C$1:C39)","v":{"$error":"#N/A"}},{"$f":"Sheet3!M39","v":2.6088521050737674E-3},{"$f":"CORREL($B$1:B39,$E$1:E39)","v":{"$error":"#N/A"}},{"$f":"Sheet3!O39","v":1.613915538420156E-3},{"$f":"CORREL($B$1:B39,$G$1:G39)","v":{"$error":"#N/A"}},{"$f":"Sheet3!Q39","v":1.3456535390688076E-3},{"$f":"CORREL($B$1:B39,$I$1:I39)","v":{"$error":"#N/A"}},{"$f":"Sheet3!S39","v":3.4141958670260556E-3},{"$f":"CORREL($B$1:B39,$K$1:K39)","v":{"$error":"#N/A"}},{"$f":"Sheet3!U39","v":8.1051873198847264E-4},{"$f":"CORREL($B$1:B39,$M$1:M39)","v":{"$error":"#N/A"}},{"$f":"Sheet3!W39","v":-9.9063400576368879E-4},{"$f":"CORREL($B$1:B39,$O$1:O39)","v":{"$error":"#N/A"}},{"$f":"Sheet3!Y39","v":3.1754672473235349E-3},{"$f":"CORREL($B$1:B39,$Q$1:Q39)","v":{"$error":"#N/A"}},{"$f":"Sheet3!AA39","v":-3.6366942449313574E-4},{"$f":"CORREL($B$1:B39,$S$1:S39)","v":{"$error":"#N/A"}}]
[null,{"$f":"Sheet3!I40","v":{"$error":"#N/A"}},{"$f":"Sheet3!K40","v":-4.5723507261968797E-3},{"$f":"CORREL($B$1:B40,$C$1:C40)","v":{"$error":"#N/A"}},{"$f":"Sheet3!M40","v":2.5188916876574307E-3},{"$f":"CORREL($B$1:B40,$E$1:E40)","v":{"$error":"#N/A"}},{"$f":"Sheet3!O40","v":1.5242535640634808E-3},{"$f":"CORREL($B$1:B40,$G$1:G40)","v":{"$error":"#N/A"}},{"$f":"Sheet3!Q40","v":1.5250740109446488E-3},{"$f":"CORREL($B$1:B40,$I$1:I40)","v":{"$error":"#N/A"}},{"$f":"Sheet3!S40","v":3.504043126684636E-3},{"$f":"CORREL($B$1:B40,$K$1:K40)","v":{"$error":"#N/A"}},{"$f":"Sheet3!U40","v":8.1051873198847264E-4},{"$f":"CORREL($B$1:B40,$M$1:M40)","v":{"$error":"#N/A"}},{"$f":"Sheet3!W40","v":-1.7110951008645534E-3},{"$f":"CORREL($B$1:B40,$O$1:O40)","v":{"$error":"#N/A"}},{"$f":"Sheet3!Y40","v":2.9032843404100889E-3},{"$f":"CORREL($B$1:B40,$Q$1:Q40)","v":{"$error":"#N/A"}},{"$f":"Sheet3!AA40","v":-1.0000909173561233E-3},{"$f":"CORREL($B$1:B40,$S$1:S40)","v":{"$error":"#N/A"}}]
[null,{"$f":"Sheet3!I41","v":{"$error":"#N/A"}},{"$f":"Sheet3!K41","v":-4.3930428545813161E-3},{"$f":"CORREL($B$1:B41,$C$1:C41)","v":{"$error":"#N/A"}},{"$f":"Sheet3!M41","v":2.6088521050737674E-3},{"$f":"CORREL($B$1:B41,$E$1:E41)","v":{"$error":"#N/A"}},{"$f":"Sheet3!O41","v":1.2552676409934547E-3},{"$f":"CORREL($B$1:B41,$G$1:G41)","v":{"$error":"#N/A"}},{"$f":"Sheet3!Q41","v":1.5250740109446488E-3},{"$f":"CORREL($B$1:B41,$I$1:I41)","v":{"$error":"#N/A"}},{"$f":"Sheet3!S41","v":3.7735849056603774E-3},{"$f":"CORREL($B$1:B41,$K$1:K41)","v":{"$error":"#N/A"}},{"$f":"Sheet3!U41","v":1.0806916426512969E-3},{"$f":"CORREL($B$1:B41,$M$1:M41)","v":{"$error":"#N/A"}},{"$f":"Sheet3!W41","v":-1.3508645533141211E-3},{"$f":"CORREL($B$1:B41,$O$1:O41)","v":{"$error":"#N/A"}},{"$f":"Sheet3!Y41","v":2.9032843404100889E-3},{"$f":"CORREL($B$1:B41,$Q$1:Q41)","v":{"$error":"#N/A"}},{"$f":"Sheet3!AA41","v":-5.4550413673970359E-4},{"$f":"CORREL($B$1:B41,$S$1:S41)","v":{"$error":"#N/A"}}]
[null,{"$f":"Sheet3!I42","v":{"$error":"#N/A"}},{"$f":"Sheet3!K42","v":-3.9447731755424065E-3},{"$f":"CORREL($B$1:B42,$C$1:C42)","v":{"$error":"#N/A"}},{"$f":"Sheet3!M42","v":2.2490104354084203E-3},{"$f":"CORREL($B$1:B42,$E$1:E42)","v":{"$error":"#N/A"}},{"$f":"Sheet3!O42","v":9.862817179234287E-4},{"$f":"CORREL($B$1:B42,$G$1:G42)","v":{"$error":"#N/A"}},{"$f":"Sheet3!Q42","v":1.6147842468825693E-3},{"$f":"CORREL($B$1:B42,$I$1:I42)","v":{"$error":"#N/A"}},{"$f":"Sheet3!S42","v":3.7735849056603774E-3},{"$f":"CORREL($B$1:B42,$K$1:K42)","v":{"$error":"#N/A"}},{"$f":"Sheet3!U42","v":1.0806916426512969E-3},{"$f":"CORREL($B$1:B42,$M$1:M42)","v":{"$error":"#N/A"}},{"$f":"Sheet3!W42","v":-9.9063400576368879E-4},{"$f":"CORREL($B$1:B42,$O$1:O42)","v":{"$error":"#N/A"}},{"$f":"Sheet3!Y42","v":3.1754672473235349E-3},{"$f":"CORREL($B$1:B42,$Q$1:Q42)","v":{"$error":"#N/A"}},{"$f":"Sheet3!AA42","v":-5.4550413673970359E-4},{"$f":"CORREL($B$1:B42,$S$1:S42)","v":{"$error":"#N/A"}}]
[null,{"$f":"Sheet3!I43","v":{"$error":"#N/A"}},{"$f":"Sheet3!K43","v":-3.8551192397346242E-3},{"$f":"CORREL($B$1:B43,$C$1:C43)","v":{"$error":"#N/A"}},{"$f":"Sheet3!M43","v":2.4289312702410939E-3},{"$f":"CORREL($B$1:B43,$E$1:E43)","v":{"$error":"#N/A"}},{"$f":"Sheet3!O43","v":1.0759436922801041E-3},{"$f":"CORREL($B$1:B43,$G$1:G43)","v":{"$error":"#N/A"}},{"$f":"Sheet3!Q43","v":1.7044944828204897E-3},{"$f":"CORREL($B$1:B43,$I$1:I43)","v":{"$error":"#N/A"}},{"$f":"Sheet3!S43","v":3.4141958670260556E-3},{"$f":"CORREL($B$1:B43,$K$1:K43)","v":{"$error":"#N/A"}},{"$f":"Sheet3!U43","v":5.4034582132564846E-4},{"$f":"CORREL($B$1:B43,$M$1:M43)","v":{"$error":"#N/A"}},{"$f":"Sheet3!W43","v":-8.1051873198847264E-4},{"$f":"CORREL($B$1:B43,$O$1:O43)","v":{"$error":"#N/A"}},{"$f":"Sheet3!Y43","v":3.2661948829613499E-3},{"$f":"CORREL($B$1:B43,$Q$1:Q43)","v":{"$error":"#N/A"}},{"$f":"Sheet3!AA43","v":-2.7275206836985179E-4},{"$f":"CORREL($B$1:B43,$S$1:S43)","v":{"$error":"#N/A"}}]
[null,{"$f":"Sheet3!I44","v":{"$error":"#N/A"}},{"$f":"Sheet3!K44","v":-3.8551192397346242E-3},{"$f":"CORREL($B$1:B44,$C$1:C44)","v":{"$error":"#N/A"}},{"$f":"Sheet3!M44","v":3.0586541921554518E-3},{"$f":"CORREL($B$1:B44,$E$1:E44)","v":{"$error":"#N/A"}},{"$f":"Sheet3!O44","v":8.9661974356675339E-4},{"$f":"CORREL($B$1:B44,$G$1:G44)","v":{"$error":"#N/A"}},{"$f":"Sheet3!Q44","v":1.6147842468825693E-3},{"$f":"CORREL($B$1:B44,$I$1:I44)","v":{"$error":"#N/A"}},{"$f":"Sheet3!S44","v":3.8634321653189577E-3},{"$f":"CORREL($B$1:B44,$K$1:K44)","v":{"$error":"#N/A"}},{"$f":"Sheet3!U44","v":5.4034582132564846E-4},{"$f":"CORREL($B$1:B44,$M$1:M44)","v":{"$error":"#N/A"}},{"$f":"Sheet3!W44","v":-1.440922190201729E-3},{"$f":"CORREL($B$1:B44,$O$1:O44)","v":{"$error":"#N/A"}},{"$f":"Sheet3!Y44","v":3.5383777898747959E-3},{"$f":"CORREL($B$1:B44,$Q$1:Q44)","v":{"$error":"#N/A"}},{"$f":"Sheet3!AA44","v":-9.0917356123283935E-5},{"$f":"CORREL($B$1:B44,$S$1:S44)","v":{"$error":"#N/A"}}]
[null,{"$f":"Sheet3!I45","v":{"$error":"#N/A"}},{"$f":"Sheet3!K45","v":-4.0344271113501879E-3},{"$f":"CORREL($B$1:B45,$C$1:C45)","v":{"$error":"#N/A"}},{"$f":"Sheet3!M45","v":2.968693774739115E-3},{"$f":"CORREL($B$1:B45,$E$1:E45)","v":{"$error":"#N/A"}},{"$f":"Sheet3!O45","v":8.9661974356675339E-4},{"$f":"CORREL($B$1:B45,$G$1:G45)","v":{"$error":"#N/A"}},{"$f":"Sheet3!Q45","v":1.3456535390688076E-3},{"$f":"CORREL($B$1:B45,$I$1:I45)","v":{"$error":"#N/A"}},{"$f":"Sheet3!S45","v":4.2228212039532795E-3},{"$f":"CORREL($B$1:B45,$K$1:K45)","v":{"$error":"#N/A"}},{"$f":"Sheet3!U45","v":6.3040345821325648E-4},{"$f":"CORREL($B$1:B45,$M$1:M45)","v":{"$error":"#N/A"}},{"$f":"Sheet3!W45","v":-1.7110951008645534E-3},{"$f":"CORREL($B$1:B45,$O$1:O45)","v":{"$error":"#N/A"}},{"$f":"Sheet3!Y45","v":3.5383777898747959E-3},{"$f":"CORREL($B$1:B45,$Q$1:Q45)","v":{"$error":"#N/A"}},{"$f":"Sheet3!AA45","v":3.6366942449313574E-4},{"$f":"CORREL($B$1:B45,$S$1:S45)","v":{"$error":"#N/A"}}]
[null,{"$f":"Sheet3!I46","v":{"$error":"#N/A"}},{"$f":"Sheet3!K46","v":-3.7654653039268424E-3},{"$f":"CORREL($B$1:B46,$C$1:C46)","v":{"$error":"#N/A"}},{"$f":"Sheet3!M46","v":3.2385750269881253E-3},{"$f":"CORREL($B$1:B46,$E$1:E46)","v":{"$error":"#N/A"}},{"$f":"Sheet3!O46","v":1.0759436922801041E-3},{"$f":"CORREL($B$1:B46,$G$1:G46)","v":{"$error":"#N/A"}},{"$f":"Sheet3!Q46","v":9.8681259531712578E-4},{"$f":"CORREL($B$1:B46,$I$1:I46)","v":{"$error":"#N/A"}},{"$f":"Sheet3!S46","v":3.8634321653189577E-3},{"$f":"CORREL($B$1:B46,$K$1:K46)","v":{"$error":"#N/A"}},{"$f":"Sheet3!U46","v":5.4034582132564846E-4},{"$f":"CORREL($B$1:B46,$M$1:M46)","v":{"$error":"#N/A"}},{"$f":"Sheet3!W46","v":-2.0713256484149855E-3},{"$f":"CORREL($B$1:B46,$O$1:O46)","v":{"$error":"#N/A"}},{"$f":"Sheet3!Y46","v":3.4476501542369804E-3},{"$f":"CORREL($B$1:B46,$Q$1:Q46)","v":{"$error":"#N/A"}},{"$f":"Sheet3!AA46","v":5.4550413673970359E-4},{"$f":"CORREL($B$1:B46,$S$1:S46)","v":{"$error":"#N/A"}}]
[null,{"$f":"Sheet3!I47","v":{"$error":"#N/A"}},{"$f":"Sheet3!K47","v":-4.0344271113501879E-3},{"$f":"CORREL($B$1:B47,$C$1:C47)","v":{"$error":"#N/A"}},{"$f":"Sheet3!M47","v":3.4184958618207989E-3},{"$f":"CORREL($B$1:B47,$E$1:E47)","v":{"$error":"#N/A"}},{"$f":"Sheet3!O47","v":9.862817179234287E-4},{"$f":"CORREL($B$1:B47,$G$1:G47)","v":{"$error":"#N/A"}},{"$f":"Sheet3!Q47","v":1.1662330671929667E-3},{"$f":"CORREL($B$1:B47,$I$1:I47)","v":{"$error":"#N/A"}},{"$f":"Sheet3!S47","v":3.5938903863432167E-3},{"$f":"CORREL($B$1:B47,$K$1:K47)","v":{"$error":"#N/A"}},{"$f":"Sheet3!U47","v":5.4034582132564846E-4},{"$f":"CORREL($B$1:B47,$M$1:M47)","v":{"$error":"#N/A"}},{"$f":"Sheet3!W47","v":-1.6210374639769453E-3},{"$f":"CORREL($B$1:B47,$O$1:O47)","v":{"$error":"#N/A"}},{"$f":"Sheet3!Y47","v":3.2661948829613499E-3},{"$f":"CORREL($B$1:B47,$Q$1:Q47)","v":{"$error":"#N/A"}},{"$f":"Sheet3!AA47","v":4.5458678061641969E-4},{"$f":"CORREL($B$1:B47,$S$1:S47)","v":{"$error":"#N/A"}}]
[null,{"$f":"Sheet3!I48","v":{"$error":"#N/A"}},{"$f":"Sheet3!K48","v":-4.1240810471579702E-3},{"$f":"CORREL($B$1:B48,$C$1:C48)","v":{"$error":"#N/A"}},{"$f":"Sheet3!M48","v":3.5084562792371357E-3},{"$f":"CORREL($B$1:B48,$E$1:E48)","v":{"$error":"#N/A"}},{"$f":"Sheet3!O48","v":9.862817179234287E-4},{"$f":"CORREL($B$1:B48,$G$1:G48)","v":{"$error":"#N/A"}},{"$f":"Sheet3!Q48","v":1.0765228312550462E-3},{"$f":"CORREL($B$1:B48,$I$1:I48)","v":{"$error":"#N/A"}},{"$f":"Sheet3!S48","v":3.7735849056603774E-3},{"$f":"CORREL($B$1:B48,$K$1:K48)","v":{"$error":"#N/A"}},{"$f":"Sheet3!U48","v":9.9063400576368879E-4},{"$f":"CORREL($B$1:B48,$M$1:M48)","v":{"$error":"#N/A"}},{"$f":"Sheet3!W48","v":-2.7017291066282422E-3},{"$f":"CORREL($B$1:B48,$O$1:O48)","v":{"$error":"#N/A"}},{"$f":"Sheet3!Y48","v":3.5383777898747959E-3},{"$f":"CORREL($B$1:B48,$Q$1:Q48)","v":{"$error":"#N/A"}},{"$f":"Sheet3!AA48","v":4.5458678061641969E-4},{"$f":"CORREL($B$1:B48,$S$1:S48)","v":{"$error":"#N/A"}}]
[null,{"$f":"Sheet3!I49","v":{"$error":"#N/A"}},{"$f":"Sheet3!K49","v":-4.1240810471579702E-3},{"$f":"CORREL($B$1:B49,$C$1:C49)","v":{"$error":"#N/A"}},{"$f":"Sheet3!M49","v":4.0482187837351568E-3},{"$f":"CORREL($B$1:B49,$E$1:E49)","v":{"$error":"#N/A"}},{"$f":"Sheet3!O49","v":9.862817179234287E-4},{"$f":"CORREL($B$1:B49,$G$1:G49)","v":{"$error":"#N/A"}},{"$f":"Sheet3!Q49","v":9.8681259531712578E-4},{"$f":"CORREL($B$1:B49,$I$1:I49)","v":{"$error":"#N/A"}},{"$f":"Sheet3!S49","v":3.5938903863432167E-3},{"$f":"CORREL($B$1:B49,$K$1:K49)","v":{"$error":"#N/A"}},{"$f":"Sheet3!U49","v":1.1707492795389048E-3},{"$f":"CORREL($B$1:B49,$M$1:M49)","v":{"$error":"#N/A"}},{"$f":"Sheet3!W49","v":-2.1613832853025938E-3},{"$f":"CORREL($B$1:B49,$O$1:O49)","v":{"$error":"#N/A"}},{"$f":"Sheet3!Y49","v":3.4476501542369804E-3},{"$f":"CORREL($B$1:B49,$Q$1:Q49)","v":{"$error":"#N/A"}},{"$f":"Sheet3!AA49","v":1.8183471224656787E-4},{"$f":"CORREL($B$1:B49,$S$1:S49)","v":{"$error":"#N/A"}}]
[null,{"$f":"Sheet3!I50","v":{"$error":"#N/A"}},{"$f":"Sheet3!K50","v":-4.2137349829657524E-3},{"$f":"CORREL($B$1:B50,$C$1:C50)","v":{"$error":"#N/A"}},{"$f":"Sheet3!M50","v":3.8682979489024828E-3},{"$f":"CORREL($B$1:B50,$E$1:E50)","v":{"$error":"#N/A"}},{"$f":"Sheet3!O50","v":1.2552676409934547E-3},{"$f":"CORREL($B$1:B50,$G$1:G50)","v":{"$error":"#N/A"}},{"$f":"Sheet3!Q50","v":8.971023593792052E-4},{"$f":"CORREL($B$1:B50,$I$1:I50)","v":{"$error":"#N/A"}},{"$f":"Sheet3!S50","v":3.6837376460017971E-3},{"$f":"CORREL($B$1:B50,$K$1:K50)","v":{"$error":"#N/A"}},{"$f":"Sheet3!U50","v":8.1051873198847264E-4},{"$f":"CORREL($B$1:B50,$M$1:M50)","v":{"$error":"#N/A"}},{"$f":"Sheet3!W50","v":-3.9625360230547552E-3},{"$f":"CORREL($B$1:B50,$O$1:O50)","v":{"$error":"#N/A"}},{"$f":"Sheet3!Y50","v":3.5383777898747959E-3},{"$f":"CORREL($B$1:B50,$Q$1:Q50)","v":{"$error":"#N/A"}},{"$f":"Sheet3!AA50","v":3.6366942449313574E-4},{"$f":"CORREL($B$1:B50,$S$1:S50)","v":{"$error":"#N/A"}}]
[null,{"$f":"Sheet3!I51","v":{"$error":"#N/A"}},{"$f":"Sheet3!K51","v":-4.3930428545813161E-3},{"$f":"CORREL($B$1:B51,$C$1:C51)","v":{"$error":"#N/A"}},{"$f":"Sheet3!M51","v":3.778337531486146E-3},{"$f":"CORREL($B$1:B51,$E$1:E51)","v":{"$error":"#N/A"}},{"$f":"Sheet3!O51","v":1.2552676409934547E-3},{"$f":"CORREL($B$1:B51,$G$1:G51)","v":{"$error":"#N/A"}},{"$f":"Sheet3!Q51","v":8.0739212344128463E-4},{"$f":"CORREL($B$1:B51,$I$1:I51)","v":{"$error":"#N/A"}},{"$f":"Sheet3!S51","v":3.6837376460017971E-3},{"$f":"CORREL($B$1:B51,$K$1:K51)","v":{"$error":"#N/A"}},{"$f":"Sheet3!U51","v":7.2046109510086451E-4},{"$f":"CORREL($B$1:B51,$M$1:M51)","v":{"$error":"#N/A"}},{"$f":"Sheet3!W51","v":-3.4221902017291068E-3},{"$f":"CORREL($B$1:B51,$O$1:O51)","v":{"$error":"#N/A"}},{"$f":"Sheet3!Y51","v":3.3569225185991654E-3},{"$f":"CORREL($B$1:B51,$Q$1:Q51)","v":{"$error":"#N/A"}},{"$f":"Sheet3!AA51","v":4.5458678061641969E-4},{"$f":"CORREL($B$1:B51,$S$1:S51)","v":{"$error":"#N/A"}}]
[null,{"$f":"Sheet3!I52","v":{"$error":"#N/A"}},{"$f":"Sheet3!K52","v":-4.662004662004662E-3},{"$f":"CORREL($B$1:B52,$C$1:C52)","v":{"$error":"#N/A"}},{"$f":"Sheet3!M52","v":3.2385750269881253E-3},{"$f":"CORREL($B$1:B52,$E$1:E52)","v":{"$error":"#N/A"}},{"$f":"Sheet3!O52","v":1.3449296153501299E-3},{"$f":"CORREL($B$1:B52,$G$1:G52)","v":{"$error":"#N/A"}},{"$f":"Sheet3!Q52","v":9.8681259531712578E-4},{"$f":"CORREL($B$1:B52,$I$1:I52)","v":{"$error":"#N/A"}},{"$f":"Sheet3!S52","v":3.4141958670260556E-3},{"$f":"CORREL($B$1:B52,$K$1:K52)","v":{"$error":"#N/A"}},{"$f":"Sheet3!U52","v":9.0057636887608066E-4},{"$f":"CORREL($B$1:B52,$M$1:M52)","v":{"$error":"#N/A"}},{"$f":"Sheet3!W52","v":-1.8912103746397695E-3},{"$f":"CORREL($B$1:B52,$O$1:O52)","v":{"$error":"#N/A"}},{"$f":"Sheet3!Y52","v":3.2661948829613499E-3},{"$f":"CORREL($B$1:B52,$Q$1:Q52)","v":{"$error":"#N/A"}},{"$f":"Sheet3!AA52","v":5.4550413673970359E-4},{"$f":"CORREL($B$1:B52,$S$1:S52)","v":{"$error":"#N/A"}}]
[null,{"$f":"Sheet3!I53","v":{"$error":"#N/A"}},{"$f":"Sheet3!K53","v":-4.8413125336202257E-3},{"$f":"CORREL($B$1:B53,$C$1:C53)","v":{"$error":"#N/A"}},{"$f":"Sheet3!M53","v":3.5984166966534724E-3},{"$f":"CORREL($B$1:B53,$E$1:E53)","v":{"$error":"#N/A"}},{"$f":"Sheet3!O53","v":1.5242535640634808E-3},{"$f":"CORREL($B$1:B53,$G$1:G53)","v":{"$error":"#N/A"}},{"$f":"Sheet3!Q53","v":1.1662330671929667E-3},{"$f":"CORREL($B$1:B53,$I$1:I53)","v":{"$error":"#N/A"}},{"$f":"Sheet3!S53","v":3.0548068283917339E-3},{"$f":"CORREL($B$1:B53,$K$1:K53)","v":{"$error":"#N/A"}},{"$f":"Sheet3!U53","v":5.4034582132564846E-4},{"$f":"CORREL($B$1:B53,$M$1:M53)","v":{"$error":"#N/A"}},{"$f":"Sheet3!W53","v":-3.2420749279538905E-3},{"$f":"CORREL($B$1:B53,$O$1:O53)","v":{"$error":"#N/A"}},{"$f":"Sheet3!Y53","v":3.2661948829613499E-3},{"$f":"CORREL($B$1:B53,$Q$1:Q53)","v":{"$error":"#N/A"}},{"$f":"Sheet3!AA53","v":1.8183471224656787E-4},{"$f":"CORREL($B$1:B53,$S$1:S53)","v":{"$error":"#N/A"}}]
[null,{"$f":"Sheet3!I54","v":{"$error":"#N/A"}},{"$f":"Sheet3!K54","v":-5.0206204052357902E-3},{"$f":"CORREL($B$1:B54,$C$1:C54)","v":{"$error":"#N/A"}},{"$f":"Sheet3!M54","v":3.0586541921554518E-3},{"$f":"CORREL($B$1:B54,$E$1:E54)","v":{"$error":"#N/A"}},{"$f":"Sheet3!O54","v":1.3449296153501299E-3},{"$f":"CORREL($B$1:B54,$G$1:G54)","v":{"$error":"#N/A"}},{"$f":"Sheet3!Q54","v":1.6147842468825693E-3},{"$f":"CORREL($B$1:B54,$I$1:I54)","v":{"$error":"#N/A"}},{"$f":"Sheet3!S54","v":3.4141958670260556E-3},{"$f":"CORREL($B$1:B54,$K$1:K54)","v":{"$error":"#N/A"}},{"$f":"Sheet3!U54","v":4.5028818443804033E-4},{"$f":"CORREL($B$1:B54,$M$1:M54)","v":{"$error":"#N/A"}},{"$f":"Sheet3!W54","v":-3.8724783861671468E-3},{"$f":"CORREL($B$1:B54,$O$1:O54)","v":{"$error":"#N/A"}},{"$f":"Sheet3!Y54","v":3.1754672473235349E-3},{"$f":"CORREL($B$1:B54,$Q$1:Q54)","v":{"$error":"#N/A"}},{"$f":"Sheet3!AA54","v":2.7275206836985179E-4},{"$f":"CORREL($B$1:B54,$S$1:S54)","v":{"$error":"#N/A"}}]
[null,{"$f":"Sheet3!I55","v":{"$error":"#N/A"}},{"$f":"Sheet3!K55","v":-4.9309664694280079E-3},{"$f":"CORREL($B$1:B55,$C$1:C55)","v":{"$error":"#N/A"}},{"$f":"Sheet3!M55","v":3.0586541921554518E-3},{"$f":"CORREL($B$1:B55,$E$1:E55)","v":{"$error":"#N/A"}},{"$f":"Sheet3!O55","v":-6.2763382049672736E-4},{"$f":"CORREL($B$1:B55,$G$1:G55)","v":{"$error":"#N/A"}},{"$f":"Sheet3!Q55","v":1.2559433031308872E-3},{"$f":"CORREL($B$1:B55,$I$1:I55)","v":{"$error":"#N/A"}},{"$f":"Sheet3!S55","v":2.9649595687331535E-3},{"$f":"CORREL($B$1:B55,$K$1:K55)","v":{"$error":"#N/A"}},{"$f":"Sheet3!U55","v":5.4034582132564846E-4},{"$f":"CORREL($B$1:B55,$M$1:M55)","v":{"$error":"#N/A"}},{"$f":"Sheet3!W55","v":-2.881844380403458E-3},{"$f":"CORREL($B$1:B55,$O$1:O55)","v":{"$error":"#N/A"}},{"$f":"Sheet3!Y55","v":3.4476501542369804E-3},{"$f":"CORREL($B$1:B55,$Q$1:Q55)","v":{"$error":"#N/A"}},{"$f":"Sheet3!AA55","v":-9.0917356123283935E-5},{"$f":"CORREL($B$1:B55,$S$1:S55)","v":{"$error":"#N/A"}}]
[null,{"$f":"Sheet3!I56","v":{"$error":"#N/A"}},{"$f":"Sheet3!K56","v":-4.3930428545813161E-3},{"$f":"CORREL($B$1:B56,$C$1:C56)","v":{"$error":"#N/A"}},{"$f":"Sheet3!M56","v":2.968693774739115E-3},{"$f":"CORREL($B$1:B56,$E$1:E56)","v":{"$error":"#N/A"}},{"$f":"Sheet3!O56","v":-1.2552676409934547E-3},{"$f":"CORREL($B$1:B56,$G$1:G56)","v":{"$error":"#N/A"}},{"$f":"Sheet3!Q56","v":8.0739212344128463E-4},{"$f":"CORREL($B$1:B56,$I$1:I56)","v":{"$error":"#N/A"}},{"$f":"Sheet3!S56","v":2.8751123090745732E-3},{"$f":"CORREL($B$1:B56,$K$1:K56)","v":{"$error":"#N/A"}},{"$f":"Sheet3!U56","v":7.2046109510086451E-4},{"$f":"CORREL($B$1:B56,$M$1:M56)","v":{"$error":"#N/A"}},{"$f":"Sheet3!W56","v":-2.7917867435158501E-3},{"$f":"CORREL($B$1:B56,$O$1:O56)","v":{"$error":"#N/A"}},{"$f":"Sheet3!Y56","v":3.6291054255126113E-3},{"$f":"CORREL($B$1:B56,$Q$1:Q56)","v":{"$error":"#N/A"}},{"$f":"Sheet3!AA56","v":1.8183471224656787E-4},{"$f":"CORREL($B$1:B56,$S$1:S56)","v":{"$error":"#N/A"}}]
[null,{"$f":"Sheet3!I57","v":{"$error":"#N/A"}},{"$f":"Sheet3!K57","v":-4.0344271113501879E-3},{"$f":"CORREL($B$1:B57,$C$1:C57)","v":{"$error":"#N/A"}},{"$f":"Sheet3!M57","v":3.1486146095717885E-3},{"$f":"CORREL($B$1:B57,$E$1:E57)","v":{"$error":"#N/A"}},{"$f":"Sheet3!O57","v":0},{"$f":"CORREL($B$1:B57,$G$1:G57)","v":{"$error":"#N/A"}},{"$f":"Sheet3!Q57","v":7.1768188750336416E-4},{"$f":"CORREL($B$1:B57,$I$1:I57)","v":{"$error":"#N/A"}},{"$f":"Sheet3!S57","v":2.6954177897574125E-3},{"$f":"CORREL($B$1:B57,$K$1:K57)","v":{"$error":"#N/A"}},{"$f":"Sheet3!U57","v":1.8011527377521613E-3},{"$f":"CORREL($B$1:B57,$M$1:M57)","v":{"$error":"#N/A"}},{"$f":"Sheet3!W57","v":-2.1613832853025938E-3},{"$f":"CORREL($B$1:B57,$O$1:O57)","v":{"$error":"#N/A"}},{"$f":"Sheet3!Y57","v":3.7198330611504264E-3},{"$f":"CORREL($B$1:B57,$Q$1:Q57)","v":{"$error":"#N/A"}},{"$f":"Sheet3!AA57","v":4.5458678061641969E-4},{"$f":"CORREL($B$1:B57,$S$1:S57)","v":{"$error":"#N/A"}}]
[null,{"$f":"Sheet3!I58","v":{"$error":"#N/A"}},{"$f":"Sheet3!K58","v":-3.4965034965034965E-3},{"$f":"CORREL($B$1:B58,$C$1:C58)","v":{"$error":"#N/A"}},{"$f":"Sheet3!M58","v":2.6088521050737674E-3},{"$f":"CORREL($B$1:B58,$E$1:E58)","v":{"$error":"#N/A"}},{"$f":"Sheet3!O58","v":-1.7932394871335067E-4},{"$f":"CORREL($B$1:B58,$G$1:G58)","v":{"$error":"#N/A"}},{"$f":"Sheet3!Q58","v":5.3826141562752312E-4},{"$f":"CORREL($B$1:B58,$I$1:I58)","v":{"$error":"#N/A"}},{"$f":"Sheet3!S58","v":2.8751123090745732E-3},{"$f":"CORREL($B$1:B58,$K$1:K58)","v":{"$error":"#N/A"}},{"$f":"Sheet3!U58","v":1.440922190201729E-3},{"$f":"CORREL($B$1:B58,$M$1:M58)","v":{"$error":"#N/A"}},{"$f":"Sheet3!W58","v":-1.9812680115273776E-3},{"$f":"CORREL($B$1:B58,$O$1:O58)","v":{"$error":"#N/A"}},{"$f":"Sheet3!Y58","v":3.7198330611504264E-3},{"$f":"CORREL($B$1:B58,$Q$1:Q58)","v":{"$error":"#N/A"}},{"$f":"Sheet3!AA58","v":1.0910082734794072E-3},{"$f":"CORREL($B$1:B58,$S$1:S58)","v":{"$error":"#N/A"}}]
[null,{"$f":"Sheet3!I59","v":{"$error":"#N/A"}},{"$f":"Sheet3!K59","v":-2.331002331002331E-3},{"$f":"CORREL($B$1:B59,$C$1:C59)","v":{"$error":"#N/A"}},{"$f":"Sheet3!M59","v":2.968693774739115E-3},{"$f":"CORREL($B$1:B59,$E$1:E59)","v":{"$error":"#N/A"}},{"$f":"Sheet3!O59","v":-1.5242535640634808E-3},{"$f":"CORREL($B$1:B59,$G$1:G59)","v":{"$error":"#N/A"}},{"$f":"Sheet3!Q59","v":1.7942047187584104E-4},{"$f":"CORREL($B$1:B59,$I$1:I59)","v":{"$error":"#N/A"}},{"$f":"Sheet3!S59","v":3.3243486073674753E-3},{"$f":"CORREL($B$1:B59,$K$1:K59)","v":{"$error":"#N/A"}},{"$f":"Sheet3!U59","v":1.1707492795389048E-3},{"$f":"CORREL($B$1:B59,$M$1:M59)","v":{"$error":"#N/A"}},{"$f":"Sheet3!W59","v":-1.8011527377521613E-3},{"$f":"CORREL($B$1:B59,$O$1:O59)","v":{"$error":"#N/A"}},{"$f":"Sheet3!Y59","v":3.9012883324260569E-3},{"$f":"CORREL($B$1:B59,$Q$1:Q59)","v":{"$error":"#N/A"}},{"$f":"Sheet3!AA59","v":1.0000909173561233E-3},{"$f":"CORREL($B$1:B59,$S$1:S59)","v":{"$error":"#N/A"}}]
[null,{"$f":"Sheet3!I60","v":{"$error":"#N/A"}},{"$f":"Sheet3!K60","v":-1.1655011655011655E-3},{"$f":"CORREL($B$1:B60,$C$1:C60)","v":{"$error":"#N/A"}},{"$f":"Sheet3!M60","v":2.788772939906441E-3},{"$f":"CORREL($B$1:B60,$E$1:E60)","v":{"$error":"#N/A"}},{"$f":"Sheet3!O60","v":-1.4345915897068053E-3},{"$f":"CORREL($B$1:B60,$G$1:G60)","v":{"$error":"#N/A"}},{"$f":"Sheet3!Q60","v":-5.3826141562752312E-4},{"$f":"CORREL($B$1:B60,$I$1:I60)","v":{"$error":"#N/A"}},{"$f":"Sheet3!S60","v":2.9649595687331535E-3},{"$f":"CORREL($B$1:B60,$K$1:K60)","v":{"$error":"#N/A"}},{"$f":"Sheet3!U60","v":1.1707492795389048E-3},{"$f":"CORREL($B$1:B60,$M$1:M60)","v":{"$error":"#N/A"}},{"$f":"Sheet3!W60","v":-1.9812680115273776E-3},{"$f":"CORREL($B$1:B60,$O$1:O60)","v":{"$error":"#N/A"}},{"$f":"Sheet3!Y60","v":4.2641988749773183E-3},{"$f":"CORREL($B$1:B60,$Q$1:Q60)","v":{"$error":"#N/A"}},{"$f":"Sheet3!AA60","v":1.0910082734794072E-3},{"$f":"CORREL($B$1:B60,$S$1:S60)","v":{"$error":"#N/A"}}]
[null,{"$f":"Sheet3!I61","v":{"$error":"#N/A"}},{"$f":"Sheet3!K61","v":-8.0688542227003765E-4},{"$f":"CORREL($B$1:B61,$C$1:C61)","v":{"$error":"#N/A"}},{"$f":"Sheet3!M61","v":2.5188916876574307E-3},{"$f":"CORREL($B$1:B61,$E$1:E61)","v":{"$error":"#N/A"}},{"$f":"Sheet3!O61","v":-1.1656056666367793E-3},{"$f":"CORREL($B$1:B61,$G$1:G61)","v":{"$error":"#N/A"}},{"$f":"Sheet3!Q61","v":-6.2797165156544359E-4},{"$f":"CORREL($B$1:B61,$I$1:I61)","v":{"$error":"#N/A"}},{"$f":"Sheet3!S61","v":2.8751123090745732E-3},{"$f":"CORREL($B$1:B61,$K$1:K61)","v":{"$error":"#N/A"}},{"$f":"Sheet3!U61","v":1.260806916426513E-3},{"$f":"CORREL($B$1:B61,$M$1:M61)","v":{"$error":"#N/A"}},{"$f":"Sheet3!W61","v":-1.5309798270893371E-3},{"$f":"CORREL($B$1:B61,$O$1:O61)","v":{"$error":"#N/A"}},{"$f":"Sheet3!Y61","v":4.2641988749773183E-3},{"$f":"CORREL($B$1:B61,$Q$1:Q61)","v":{"$error":"#N/A"}},{"$f":"Sheet3!AA61","v":1.1819256296026911E-3},{"$f":"CORREL($B$1:B61,$S$1:S61)","v":{"$error":"#N/A"}}]
[null,{"$f":"Sheet3!I62","v":{"$error":"#N/A"}},{"$f":"Sheet3!K62","v":-1.3448090371167294E-3},{"$f":"CORREL($B$1:B62,$C$1:C62)","v":{"$error":"#N/A"}},{"$f":"Sheet3!M62","v":2.5188916876574307E-3},{"$f":"CORREL($B$1:B62,$E$1:E62)","v":{"$error":"#N/A"}},{"$f":"Sheet3!O62","v":-2.6898592307002603E-4},{"$f":"CORREL($B$1:B62,$G$1:G62)","v":{"$error":"#N/A"}},{"$f":"Sheet3!Q62","v":-4.485511796896026E-4},{"$f":"CORREL($B$1:B62,$I$1:I62)","v":{"$error":"#N/A"}},{"$f":"Sheet3!S62","v":2.6954177897574125E-3},{"$f":"CORREL($B$1:B62,$K$1:K62)","v":{"$error":"#N/A"}},{"$f":"Sheet3!U62","v":1.3508645533141211E-3},{"$f":"CORREL($B$1:B62,$M$1:M62)","v":{"$error":"#N/A"}},{"$f":"Sheet3!W62","v":-1.260806916426513E-3},{"$f":"CORREL($B$1:B62,$O$1:O62)","v":{"$error":"#N/A"}},{"$f":"Sheet3!Y62","v":4.9900199600798403E-3},{"$f":"CORREL($B$1:B62,$Q$1:Q62)","v":{"$error":"#N/A"}},{"$f":"Sheet3!AA62","v":1.0910082734794072E-3},{"$f":"CORREL($B$1:B62,$S$1:S62)","v":{"$error":"#N/A"}}]
[null,{"$f":"Sheet3!I63","v":{"$error":"#N/A"}},{"$f":"Sheet3!K63","v":-1.3448090371167294E-3},{"$f":"CORREL($B$1:B63,$C$1:C63)","v":{"$error":"#N/A"}},{"$f":"Sheet3!M63","v":2.788772939906441E-3},{"$f":"CORREL($B$1:B63,$E$1:E63)","v":{"$error":"#N/A"}},{"$f":"Sheet3!O63","v":-4.483098717833767E-4},{"$f":"CORREL($B$1:B63,$G$1:G63)","v":{"$error":"#N/A"}},{"$f":"Sheet3!Q63","v":-4.485511796896026E-4},{"$f":"CORREL($B$1:B63,$I$1:I63)","v":{"$error":"#N/A"}},{"$f":"Sheet3!S63","v":2.7852650494159929E-3},{"$f":"CORREL($B$1:B63,$K$1:K63)","v":{"$error":"#N/A"}},{"$f":"Sheet3!U63","v":1.8011527377521613E-3},{"$f":"CORREL($B$1:B63,$M$1:M63)","v":{"$error":"#N/A"}},{"$f":"Sheet3!W63","v":-1.7110951008645534E-3},{"$f":"CORREL($B$1:B63,$O$1:O63)","v":{"$error":"#N/A"}},{"$f":"Sheet3!Y63","v":5.7158410451823623E-3},{"$f":"CORREL($B$1:B63,$Q$1:Q63)","v":{"$error":"#N/A"}},{"$f":"Sheet3!AA63","v":1.2728429857259752E-3},{"$f":"CORREL($B$1:B63,$S$1:S63)","v":{"$error":"#N/A"}}]
[null,{"$f":"Sheet3!I64","v":{"$error":"#N/A"}},{"$f":"Sheet3!K64","v":-1.7034247803478573E-3},{"$f":"CORREL($B$1:B64,$C$1:C64)","v":{"$error":"#N/A"}},{"$f":"Sheet3!M64","v":2.788772939906441E-3},{"$f":"CORREL($B$1:B64,$E$1:E64)","v":{"$error":"#N/A"}},{"$f":"Sheet3!O64","v":-8.9661974356675339E-4},{"$f":"CORREL($B$1:B64,$G$1:G64)","v":{"$error":"#N/A"}},{"$f":"Sheet3!Q64","v":-5.3826141562752312E-4},{"$f":"CORREL($B$1:B64,$I$1:I64)","v":{"$error":"#N/A"}},{"$f":"Sheet3!S64","v":2.7852650494159929E-3},{"$f":"CORREL($B$1:B64,$K$1:K64)","v":{"$error":"#N/A"}},{"$f":"Sheet3!U64","v":1.7110951008645534E-3},{"$f":"CORREL($B$1:B64,$M$1:M64)","v":{"$error":"#N/A"}},{"$f":"Sheet3!W64","v":-8.1051873198847264E-4},{"$f":"CORREL($B$1:B64,$O$1:O64)","v":{"$error":"#N/A"}},{"$f":"Sheet3!Y64","v":5.9880239520958087E-3},{"$f":"CORREL($B$1:B64,$Q$1:Q64)","v":{"$error":"#N/A"}},{"$f":"Sheet3!AA64","v":1.454677697972543E-3},{"$f":"CORREL($B$1:B64,$S$1:S64)","v":{"$error":"#N/A"}}]
[null,{"$f":"Sheet3!I65","v":{"$error":"#N/A"}},{"$f":"Sheet3!K65","v":-1.0758472296933835E-3},{"$f":"CORREL($B$1:B65,$C$1:C65)","v":{"$error":"#N/A"}},{"$f":"Sheet3!M65","v":2.4289312702410939E-3},{"$f":"CORREL($B$1:B65,$E$1:E65)","v":{"$error":"#N/A"}},{"$f":"Sheet3!O65","v":-8.0695776921007798E-4},{"$f":"CORREL($B$1:B65,$G$1:G65)","v":{"$error":"#N/A"}},{"$f":"Sheet3!Q65","v":-5.3826141562752312E-4},{"$f":"CORREL($B$1:B65,$I$1:I65)","v":{"$error":"#N/A"}},{"$f":"Sheet3!S65","v":2.6055705300988318E-3},{"$f":"CORREL($B$1:B65,$K$1:K65)","v":{"$error":"#N/A"}},{"$f":"Sheet3!U65","v":1.6210374639769453E-3},{"$f":"CORREL($B$1:B65,$M$1:M65)","v":{"$error":"#N/A"}},{"$f":"Sheet3!W65","v":-1.0806916426512969E-3},{"$f":"CORREL($B$1:B65,$O$1:O65)","v":{"$error":"#N/A"}},{"$f":"Sheet3!Y65","v":5.4436581382689168E-3},{"$f":"CORREL($B$1:B65,$Q$1:Q65)","v":{"$error":"#N/A"}},{"$f":"Sheet3!AA65","v":1.8183471224656788E-3},{"$f":"CORREL($B$1:B65,$S$1:S65)","v":{"$error":"#N/A"}}]
[null,{"$f":"Sheet3!I66","v":{"$error":"#N/A"}},{"$f":"Sheet3!K66","v":-1.3448090371167294E-3},{"$f":"CORREL($B$1:B66,$C$1:C66)","v":{"$error":"#N/A"}},{"$f":"Sheet3!M66","v":1.889168765743073E-3},{"$f":"CORREL($B$1:B66,$E$1:E66)","v":{"$error":"#N/A"}},{"$f":"Sheet3!O66","v":0},{"$f":"CORREL($B$1:B66,$G$1:G66)","v":{"$error":"#N/A"}},{"$f":"Sheet3!Q66","v":-1.2559433031308872E-3},{"$f":"CORREL($B$1:B66,$I$1:I66)","v":{"$error":"#N/A"}},{"$f":"Sheet3!S66","v":3.1446540880503146E-3},{"$f":"CORREL($B$1:B66,$K$1:K66)","v":{"$error":"#N/A"}},{"$f":"Sheet3!U66","v":1.260806916426513E-3},{"$f":"CORREL($B$1:B66,$M$1:M66)","v":{"$error":"#N/A"}},{"$f":"Sheet3!W66","v":-1.3508645533141211E-3},{"$f":"CORREL($B$1:B66,$O$1:O66)","v":{"$error":"#N/A"}},{"$f":"Sheet3!Y66","v":5.6251134095445469E-3},{"$f":"CORREL($B$1:B66,$Q$1:Q66)","v":{"$error":"#N/A"}},{"$f":"Sheet3!AA66","v":1.7274297663423949E-3},{"$f":"CORREL($B$1:B66,$S$1:S66)","v":{"$error":"#N/A"}}]
[null,{"$f":"Sheet3!I67","v":{"$error":"#N/A"}},{"$f":"Sheet3!K67","v":-1.8827326519634212E-3},{"$f":"CORREL($B$1:B67,$C$1:C67)","v":{"$error":"#N/A"}},{"$f":"Sheet3!M67","v":1.889168765743073E-3},{"$f":"CORREL($B$1:B67,$E$1:E67)","v":{"$error":"#N/A"}},{"$f":"Sheet3!O67","v":1.4345915897068053E-3},{"$f":"CORREL($B$1:B67,$G$1:G67)","v":{"$error":"#N/A"}},{"$f":"Sheet3!Q67","v":-3.5884094375168208E-4},{"$f":"CORREL($B$1:B67,$I$1:I67)","v":{"$error":"#N/A"}},{"$f":"Sheet3!S67","v":3.234501347708895E-3},{"$f":"CORREL($B$1:B67,$K$1:K67)","v":{"$error":"#N/A"}},{"$f":"Sheet3!U67","v":1.0806916426512969E-3},{"$f":"CORREL($B$1:B67,$M$1:M67)","v":{"$error":"#N/A"}},{"$f":"Sheet3!W67","v":-1.440922190201729E-3},{"$f":"CORREL($B$1:B67,$O$1:O67)","v":{"$error":"#N/A"}},{"$f":"Sheet3!Y67","v":5.7158410451823623E-3},{"$f":"CORREL($B$1:B67,$Q$1:Q67)","v":{"$error":"#N/A"}},{"$f":"Sheet3!AA67","v":1.454677697972543E-3},{"$f":"CORREL($B$1:B67,$S$1:S67)","v":{"$error":"#N/A"}}]
[null,{"$f":"Sheet3!I68","v":{"$error":"#N/A"}},{"$f":"Sheet3!K68","v":-1.8827326519634212E-3},{"$f":"CORREL($B$1:B68,$C$1:C68)","v":{"$error":"#N/A"}},{"$f":"Sheet3!M68","v":2.3389708528247571E-3},{"$f":"CORREL($B$1:B68,$E$1:E68)","v":{"$error":"#N/A"}},{"$f":"Sheet3!O68","v":1.1656056666367793E-3},{"$f":"CORREL($B$1:B68,$G$1:G68)","v":{"$error":"#N/A"}},{"$f":"Sheet3!Q68","v":-8.971023593792052E-5},{"$f":"CORREL($B$1:B68,$I$1:I68)","v":{"$error":"#N/A"}},{"$f":"Sheet3!S68","v":3.3243486073674753E-3},{"$f":"CORREL($B$1:B68,$K$1:K68)","v":{"$error":"#N/A"}},{"$f":"Sheet3!U68","v":1.0806916426512969E-3},{"$f":"CORREL($B$1:B68,$M$1:M68)","v":{"$error":"#N/A"}},{"$f":"Sheet3!W68","v":-2.5216138328530259E-3},{"$f":"CORREL($B$1:B68,$O$1:O68)","v":{"$error":"#N/A"}},{"$f":"Sheet3!Y68","v":5.3529305026311013E-3},{"$f":"CORREL($B$1:B68,$Q$1:Q68)","v":{"$error":"#N/A"}},{"$f":"Sheet3!AA68","v":1.5455950540958269E-3},{"$f":"CORREL($B$1:B68,$S$1:S68)","v":{"$error":"#N/A"}}]
[null,{"$f":"Sheet3!I69","v":{"$error":"#N/A"}},{"$f":"Sheet3!K69","v":-2.1516944593867669E-3},{"$f":"CORREL($B$1:B69,$C$1:C69)","v":{"$error":"#N/A"}},{"$f":"Sheet3!M69","v":2.6988125224901042E-3},{"$f":"CORREL($B$1:B69,$E$1:E69)","v":{"$error":"#N/A"}},{"$f":"Sheet3!O69","v":9.862817179234287E-4},{"$f":"CORREL($B$1:B69,$G$1:G69)","v":{"$error":"#N/A"}},{"$f":"Sheet3!Q69","v":-8.971023593792052E-5},{"$f":"CORREL($B$1:B69,$I$1:I69)","v":{"$error":"#N/A"}},{"$f":"Sheet3!S69","v":3.3243486073674753E-3},{"$f":"CORREL($B$1:B69,$K$1:K69)","v":{"$error":"#N/A"}},{"$f":"Sheet3!U69","v":1.5309798270893371E-3},{"$f":"CORREL($B$1:B69,$M$1:M69)","v":{"$error":"#N/A"}},{"$f":"Sheet3!W69","v":-1.8912103746397695E-3},{"$f":"CORREL($B$1:B69,$O$1:O69)","v":{"$error":"#N/A"}},{"$f":"Sheet3!Y69","v":5.4436581382689168E-3},{"$f":"CORREL($B$1:B69,$Q$1:Q69)","v":{"$error":"#N/A"}},{"$f":"Sheet3!AA69","v":8.1825620510955538E-4},{"$f":"CORREL($B$1:B69,$S$1:S69)","v":{"$error":"#N/A"}}]
[null,{"$f":"Sheet3!I70","v":{"$error":"#N/A"}},{"$f":"Sheet3!K70","v":-2.6896180742334587E-3},{"$f":"CORREL($B$1:B70,$C$1:C70)","v":{"$error":"#N/A"}},{"$f":"Sheet3!M70","v":2.4289312702410939E-3},{"$f":"CORREL($B$1:B70,$E$1:E70)","v":{"$error":"#N/A"}},{"$f":"Sheet3!O70","v":8.0695776921007798E-4},{"$f":"CORREL($B$1:B70,$G$1:G70)","v":{"$error":"#N/A"}},{"$f":"Sheet3!Q70","v":2.6913070781376156E-4},{"$f":"CORREL($B$1:B70,$I$1:I70)","v":{"$error":"#N/A"}},{"$f":"Sheet3!S70","v":3.234501347708895E-3},{"$f":"CORREL($B$1:B70,$K$1:K70)","v":{"$error":"#N/A"}},{"$f":"Sheet3!U70","v":6.3040345821325648E-4},{"$f":"CORREL($B$1:B70,$M$1:M70)","v":{"$error":"#N/A"}},{"$f":"Sheet3!W70","v":-1.5309798270893371E-3},{"$f":"CORREL($B$1:B70,$O$1:O70)","v":{"$error":"#N/A"}},{"$f":"Sheet3!Y70","v":5.8065686808201778E-3},{"$f":"CORREL($B$1:B70,$Q$1:Q70)","v":{"$error":"#N/A"}},{"$f":"Sheet3!AA70","v":8.1825620510955538E-4},{"$f":"CORREL($B$1:B70,$S$1:S70)","v":{"$error":"#N/A"}}]
[null,{"$f":"Sheet3!I71","v":{"$error":"#N/A"}},{"$f":"Sheet3!K71","v":-2.4206562668101128E-3},{"$f":"CORREL($B$1:B71,$C$1:C71)","v":{"$error":"#N/A"}},{"$f":"Sheet3!M71","v":2.788772939906441E-3},{"$f":"CORREL($B$1:B71,$E$1:E71)","v":{"$error":"#N/A"}},{"$f":"Sheet3!O71","v":5.3797184614005206E-4},{"$f":"CORREL($B$1:B71,$G$1:G71)","v":{"$error":"#N/A"}},{"$f":"Sheet3!Q71","v":3.5884094375168208E-4},{"$f":"CORREL($B$1:B71,$I$1:I71)","v":{"$error":"#N/A"}},{"$f":"Sheet3!S71","v":3.4141958670260556E-3},{"$f":"CORREL($B$1:B71,$K$1:K71)","v":{"$error":"#N/A"}},{"$f":"Sheet3!U71","v":1.3508645533141211E-3},{"$f":"CORREL($B$1:B71,$M$1:M71)","v":{"$error":"#N/A"}},{"$f":"Sheet3!W71","v":-6.3040345821325648E-4},{"$f":"CORREL($B$1:B71,$O$1:O71)","v":{"$error":"#N/A"}},{"$f":"Sheet3!Y71","v":5.8065686808201778E-3},{"$f":"CORREL($B$1:B71,$Q$1:Q71)","v":{"$error":"#N/A"}},{"$f":"Sheet3!AA71","v":2.7275206836985179E-4},{"$f":"CORREL($B$1:B71,$S$1:S71)","v":{"$error":"#N/A"}}]
[null,{"$f":"Sheet3!I72","v":{"$error":"#N/A"}},{"$f":"Sheet3!K72","v":-1.7034247803478573E-3},{"$f":"CORREL($B$1:B72,$C$1:C72)","v":{"$error":"#N/A"}},{"$f":"Sheet3!M72","v":3.0586541921554518E-3},{"$f":"CORREL($B$1:B72,$E$1:E72)","v":{"$error":"#N/A"}},{"$f":"Sheet3!O72","v":-3.5864789742670134E-4},{"$f":"CORREL($B$1:B72,$G$1:G72)","v":{"$error":"#N/A"}},{"$f":"Sheet3!Q72","v":5.3826141562752312E-4},{"$f":"CORREL($B$1:B72,$I$1:I72)","v":{"$error":"#N/A"}},{"$f":"Sheet3!S72","v":3.5938903863432167E-3},{"$f":"CORREL($B$1:B72,$K$1:K72)","v":{"$error":"#N/A"}},{"$f":"Sheet3!U72","v":1.5309798270893371E-3},{"$f":"CORREL($B$1:B72,$M$1:M72)","v":{"$error":"#N/A"}},{"$f":"Sheet3!W72","v":-7.2046109510086451E-4},{"$f":"CORREL($B$1:B72,$O$1:O72)","v":{"$error":"#N/A"}},{"$f":"Sheet3!Y72","v":5.6251134095445469E-3},{"$f":"CORREL($B$1:B72,$Q$1:Q72)","v":{"$error":"#N/A"}},{"$f":"Sheet3!AA72","v":6.3642149286298759E-4},{"$f":"CORREL($B$1:B72,$S$1:S72)","v":{"$error":"#N/A"}}]
[null,{"$f":"Sheet3!I73","v":{"$error":"#N/A"}},{"$f":"Sheet3!K73","v":-1.9723865877712033E-3},{"$f":"CORREL($B$1:B73,$C$1:C73)","v":{"$error":"#N/A"}},{"$f":"Sheet3!M73","v":3.2385750269881253E-3},{"$f":"CORREL($B$1:B73,$E$1:E73)","v":{"$error":"#N/A"}},{"$f":"Sheet3!O73","v":-5.3797184614005206E-4},{"$f":"CORREL($B$1:B73,$G$1:G73)","v":{"$error":"#N/A"}},{"$f":"Sheet3!Q73","v":6.2797165156544359E-4},{"$f":"CORREL($B$1:B73,$I$1:I73)","v":{"$error":"#N/A"}},{"$f":"Sheet3!S73","v":3.504043126684636E-3},{"$f":"CORREL($B$1:B73,$K$1:K73)","v":{"$error":"#N/A"}},{"$f":"Sheet3!U73","v":1.5309798270893371E-3},{"$f":"CORREL($B$1:B73,$M$1:M73)","v":{"$error":"#N/A"}},{"$f":"Sheet3!W73","v":-9.9063400576368879E-4},{"$f":"CORREL($B$1:B73,$O$1:O73)","v":{"$error":"#N/A"}},{"$f":"Sheet3!Y73","v":5.6251134095445469E-3},{"$f":"CORREL($B$1:B73,$Q$1:Q73)","v":{"$error":"#N/A"}},{"$f":"Sheet3!AA73","v":6.3642149286298759E-4},{"$f":"CORREL($B$1:B73,$S$1:S73)","v":{"$error":"#N/A"}}]
[null,{"$f":"Sheet3!I74","v":{"$error":"#N/A"}},{"$f":"Sheet3!K74","v":-1.8827326519634212E-3},{"$f":"CORREL($B$1:B74,$C$1:C74)","v":{"$error":"#N/A"}},{"$f":"Sheet3!M74","v":3.2385750269881253E-3},{"$f":"CORREL($B$1:B74,$E$1:E74)","v":{"$error":"#N/A"}},{"$f":"Sheet3!O74","v":-1.0759436922801041E-3},{"$f":"CORREL($B$1:B74,$G$1:G74)","v":{"$error":"#N/A"}},{"$f":"Sheet3!Q74","v":6.2797165156544359E-4},{"$f":"CORREL($B$1:B74,$I$1:I74)","v":{"$error":"#N/A"}},{"$f":"Sheet3!S74","v":3.1446540880503146E-3},{"$f":"CORREL($B$1:B74,$K$1:K74)","v":{"$error":"#N/A"}},{"$f":"Sheet3!U74","v":1.8912103746397695E-3},{"$f":"CORREL($B$1:B74,$M$1:M74)","v":{"$error":"#N/A"}},{"$f":"Sheet3!W74","v":-3.6023054755043225E-4},{"$f":"CORREL($B$1:B74,$O$1:O74)","v":{"$error":"#N/A"}},{"$f":"Sheet3!Y74","v":5.6251134095445469E-3},{"$f":"CORREL($B$1:B74,$Q$1:Q74)","v":{"$error":"#N/A"}},{"$f":"Sheet3!AA74","v":8.1825620510955538E-4},{"$f":"CORREL($B$1:B74,$S$1:S74)","v":{"$error":"#N/A"}}]
[null,{"$f":"Sheet3!I75","v":{"$error":"#N/A"}},{"$f":"Sheet3!K75","v":-2.0620405235789851E-3},{"$f":"CORREL($B$1:B75,$C$1:C75)","v":{"$error":"#N/A"}},{"$f":"Sheet3!M75","v":3.8682979489024828E-3},{"$f":"CORREL($B$1:B75,$E$1:E75)","v":{"$error":"#N/A"}},{"$f":"Sheet3!O75","v":-8.0695776921007798E-4},{"$f":"CORREL($B$1:B75,$G$1:G75)","v":{"$error":"#N/A"}},{"$f":"Sheet3!Q75","v":3.5884094375168208E-4},{"$f":"CORREL($B$1:B75,$I$1:I75)","v":{"$error":"#N/A"}},{"$f":"Sheet3!S75","v":2.6954177897574125E-3},{"$f":"CORREL($B$1:B75,$K$1:K75)","v":{"$error":"#N/A"}},{"$f":"Sheet3!U75","v":1.7110951008645534E-3},{"$f":"CORREL($B$1:B75,$M$1:M75)","v":{"$error":"#N/A"}},{"$f":"Sheet3!W75","v":-9.9063400576368879E-4},{"$f":"CORREL($B$1:B75,$O$1:O75)","v":{"$error":"#N/A"}},{"$f":"Sheet3!Y75","v":5.7158410451823623E-3},{"$f":"CORREL($B$1:B75,$Q$1:Q75)","v":{"$error":"#N/A"}},{"$f":"Sheet3!AA75","v":5.4550413673970359E-4},{"$f":"CORREL($B$1:B75,$S$1:S75)","v":{"$error":"#N/A"}}]
[null,{"$f":"Sheet3!I76","v":{"$error":"#N/A"}},{"$f":"Sheet3!K76","v":-1.9723865877712033E-3},{"$f":"CORREL($B$1:B76,$C$1:C76)","v":{"$error":"#N/A"}},{"$f":"Sheet3!M76","v":3.778337531486146E-3},{"$f":"CORREL($B$1:B76,$E$1:E76)","v":{"$error":"#N/A"}},{"$f":"Sheet3!O76","v":-1.9725634358468574E-3},{"$f":"CORREL($B$1:B76,$G$1:G76)","v":{"$error":"#N/A"}},{"$f":"Sheet3!Q76","v":5.3826141562752312E-4},{"$f":"CORREL($B$1:B76,$I$1:I76)","v":{"$error":"#N/A"}},{"$f":"Sheet3!S76","v":3.4141958670260556E-3},{"$f":"CORREL($B$1:B76,$K$1:K76)","v":{"$error":"#N/A"}},{"$f":"Sheet3!U76","v":1.7110951008645534E-3},{"$f":"CORREL($B$1:B76,$M$1:M76)","v":{"$error":"#N/A"}},{"$f":"Sheet3!W76","v":-1.5309798270893371E-3},{"$f":"CORREL($B$1:B76,$O$1:O76)","v":{"$error":"#N/A"}},{"$f":"Sheet3!Y76","v":5.7158410451823623E-3},{"$f":"CORREL($B$1:B76,$Q$1:Q76)","v":{"$error":"#N/A"}},{"$f":"Sheet3!AA76","v":1.3637603418492591E-3},{"$f":"CORREL($B$1:B76,$S$1:S76)","v":{"$error":"#N/A"}}]
[null,{"$f":"Sheet3!I77","v":{"$error":"#N/A"}},{"$f":"Sheet3!K77","v":-2.5999641384256769E-3},{"$f":"CORREL($B$1:B77,$C$1:C77)","v":{"$error":"#N/A"}},{"$f":"Sheet3!M77","v":2.8787333573227778E-3},{"$f":"CORREL($B$1:B77,$E$1:E77)","v":{"$error":"#N/A"}},{"$f":"Sheet3!O77","v":-2.0622254102035326E-3},{"$f":"CORREL($B$1:B77,$G$1:G77)","v":{"$error":"#N/A"}},{"$f":"Sheet3!Q77","v":1.5250740109446488E-3},{"$f":"CORREL($B$1:B77,$I$1:I77)","v":{"$error":"#N/A"}},{"$f":"Sheet3!S77","v":2.0664869721473494E-3},{"$f":"CORREL($B$1:B77,$K$1:K77)","v":{"$error":"#N/A"}},{"$f":"Sheet3!U77","v":2.2514409221902018E-3},{"$f":"CORREL($B$1:B77,$M$1:M77)","v":{"$error":"#N/A"}},{"$f":"Sheet3!W77","v":-6.3040345821325648E-4},{"$f":"CORREL($B$1:B77,$O$1:O77)","v":{"$error":"#N/A"}},{"$f":"Sheet3!Y77","v":6.1694792233714388E-3},{"$f":"CORREL($B$1:B77,$Q$1:Q77)","v":{"$error":"#N/A"}},{"$f":"Sheet3!AA77","v":1.1819256296026911E-3},{"$f":"CORREL($B$1:B77,$S$1:S77)","v":{"$error":"#N/A"}}]
[null,{"$f":"Sheet3!I78","v":{"$error":"#N/A"}},{"$f":"Sheet3!K78","v":-1.3448090371167294E-3},{"$f":"CORREL($B$1:B78,$C$1:C78)","v":{"$error":"#N/A"}},{"$f":"Sheet3!M78","v":3.1486146095717885E-3},{"$f":"CORREL($B$1:B78,$E$1:E78)","v":{"$error":"#N/A"}},{"$f":"Sheet3!O78","v":-2.7795212050569355E-3},{"$f":"CORREL($B$1:B78,$G$1:G78)","v":{"$error":"#N/A"}},{"$f":"Sheet3!Q78","v":1.3456535390688076E-3},{"$f":"CORREL($B$1:B78,$I$1:I78)","v":{"$error":"#N/A"}},{"$f":"Sheet3!S78","v":1.4375561545372866E-3},{"$f":"CORREL($B$1:B78,$K$1:K78)","v":{"$error":"#N/A"}},{"$f":"Sheet3!U78","v":2.3414985590778097E-3},{"$f":"CORREL($B$1:B78,$M$1:M78)","v":{"$error":"#N/A"}},{"$f":"Sheet3!W78","v":-7.2046109510086451E-4},{"$f":"CORREL($B$1:B78,$O$1:O78)","v":{"$error":"#N/A"}},{"$f":"Sheet3!Y78","v":7.6211213935764837E-3},{"$f":"CORREL($B$1:B78,$Q$1:Q78)","v":{"$error":"#N/A"}},{"$f":"Sheet3!AA78","v":1.3637603418492591E-3},{"$f":"CORREL($B$1:B78,$S$1:S78)","v":{"$error":"#N/A"}}]
[null,{"$f":"Sheet3!I79","v":{"$error":"#N/A"}},{"$f":"Sheet3!K79","v":-1.6137708445400753E-3},{"$f":"CORREL($B$1:B79,$C$1:C79)","v":{"$error":"#N/A"}},{"$f":"Sheet3!M79","v":3.5084562792371357E-3},{"$f":"CORREL($B$1:B79,$E$1:E79)","v":{"$error":"#N/A"}},{"$f":"Sheet3!O79","v":-2.2415493589168834E-3},{"$f":"CORREL($B$1:B79,$G$1:G79)","v":{"$error":"#N/A"}},{"$f":"Sheet3!Q79","v":8.0739212344128463E-4},{"$f":"CORREL($B$1:B79,$I$1:I79)","v":{"$error":"#N/A"}},{"$f":"Sheet3!S79","v":1.1680143755615454E-3},{"$f":"CORREL($B$1:B79,$K$1:K79)","v":{"$error":"#N/A"}},{"$f":"Sheet3!U79","v":2.2514409221902018E-3},{"$f":"CORREL($B$1:B79,$M$1:M79)","v":{"$error":"#N/A"}},{"$f":"Sheet3!W79","v":7.2046109510086451E-4},{"$f":"CORREL($B$1:B79,$O$1:O79)","v":{"$error":"#N/A"}},{"$f":"Sheet3!Y79","v":7.3489384866630373E-3},{"$f":"CORREL($B$1:B79,$Q$1:Q79)","v":{"$error":"#N/A"}},{"$f":"Sheet3!AA79","v":1.8183471224656788E-3},{"$f":"CORREL($B$1:B79,$S$1:S79)","v":{"$error":"#N/A"}}]
[null,{"$f":"Sheet3!I80","v":{"$error":"#N/A"}},{"$f":"Sheet3!K80","v":-1.5241169087322932E-3},{"$f":"CORREL($B$1:B80,$C$1:C80)","v":{"$error":"#N/A"}},{"$f":"Sheet3!M80","v":3.4184958618207989E-3},{"$f":"CORREL($B$1:B80,$E$1:E80)","v":{"$error":"#N/A"}},{"$f":"Sheet3!O80","v":-2.2415493589168834E-3},{"$f":"CORREL($B$1:B80,$G$1:G80)","v":{"$error":"#N/A"}},{"$f":"Sheet3!Q80","v":4.485511796896026E-4},{"$f":"CORREL($B$1:B80,$I$1:I80)","v":{"$error":"#N/A"}},{"$f":"Sheet3!S80","v":7.187780772686433E-4},{"$f":"CORREL($B$1:B80,$K$1:K80)","v":{"$error":"#N/A"}},{"$f":"Sheet3!U80","v":2.3414985590778097E-3},{"$f":"CORREL($B$1:B80,$M$1:M80)","v":{"$error":"#N/A"}},{"$f":"Sheet3!W80","v":6.3040345821325648E-4},{"$f":"CORREL($B$1:B80,$O$1:O80)","v":{"$error":"#N/A"}},{"$f":"Sheet3!Y80","v":7.2582108510252227E-3},{"$f":"CORREL($B$1:B80,$Q$1:Q80)","v":{"$error":"#N/A"}},{"$f":"Sheet3!AA80","v":1.8183471224656788E-3},{"$f":"CORREL($B$1:B80,$S$1:S80)","v":{"$error":"#N/A"}}]
[null,{"$f":"Sheet3!I81","v":{"$error":"#N/A"}},{"$f":"Sheet3!K81","v":-1.4344629729245114E-3},{"$f":"CORREL($B$1:B81,$C$1:C81)","v":{"$error":"#N/A"}},{"$f":"Sheet3!M81","v":3.4184958618207989E-3},{"$f":"CORREL($B$1:B81,$E$1:E81)","v":{"$error":"#N/A"}},{"$f":"Sheet3!O81","v":-3.3174930511969875E-3},{"$f":"CORREL($B$1:B81,$G$1:G81)","v":{"$error":"#N/A"}},{"$f":"Sheet3!Q81","v":5.3826141562752312E-4},{"$f":"CORREL($B$1:B81,$I$1:I81)","v":{"$error":"#N/A"}},{"$f":"Sheet3!S81","v":1.5274034141958669E-3},{"$f":"CORREL($B$1:B81,$K$1:K81)","v":{"$error":"#N/A"}},{"$f":"Sheet3!U81","v":2.3414985590778097E-3},{"$f":"CORREL($B$1:B81,$M$1:M81)","v":{"$error":"#N/A"}},{"$f":"Sheet3!W81","v":0},{"$f":"CORREL($B$1:B81,$O$1:O81)","v":{"$error":"#N/A"}},{"$f":"Sheet3!Y81","v":7.4396661223008528E-3},{"$f":"CORREL($B$1:B81,$Q$1:Q81)","v":{"$error":"#N/A"}},{"$f":"Sheet3!AA81","v":2.0910991908355304E-3},{"$f":"CORREL($B$1:B81,$S$1:S81)","v":{"$error":"#N/A"}}]
[null,null,null,{"$f":"Sheet3!C2","v":"2018-06-15"},null,{"$f":"Sheet3!C3","v":"2018-06-14"},null,{"$f":"Sheet3!C4","v":"2018-06-13"},null,{"$f":"Sheet3!C5","v":"2018-06-12"},null,{"$f":"Sheet3!C6","v":"2018-06-11"},null,{"$f":"Sheet3!C7","v":"2018-06-08"},null,{"$f":"Sheet3!C8","v":"2018-06-07"},null,{"$f":"Sheet3!C9","v":"2018-06-06"},null,{"$f":"Sheet3!C10","v":"2018-06-05"}]
[null,null,null,{"$f":"LOOKUP(2,1/(ISNUMBER(D1:D81)),D1:D81)","v":{"$error":"#N/A"}},null,{"$f":"LOOKUP(2,1/(ISNUMBER(F1:F81)),F1:F81)","v":{"$error":"#N/A"}},null,{"$f":"LOOKUP(2,1/(ISNUMBER(H1:H81)),H1:H81)","v":{"$error":"#N/A"}},null,{"$f":"LOOKUP(2,1/(ISNUMBER(J1:J81)),J1:J81)","v":{"$error":"#N/A"}},null,{"$f":"LOOKUP(2,1/(ISNUMBER(L1:L81)),L1:L81)","v":{"$error":"#N/A"}},null,{"$f":"LOOKUP(2,1/(ISNUMBER(N1:N81)),N1:N81)","v":{"$error":"#N/A"}},null,{"$f":"LOOKUP(2,1/(ISNUMBER(P1:P81)),P1:P81)","v":{"$error":"#N/A"}},null,{"$f":"LOOKUP(2,1/(ISNUMBER(R1:R81)),R1:R81)","v":{"$error":"#N/A"}},null,{"$f":"LOOKUP(2,1/(ISNUMBER(T1:T81)),T1:T81)","v":{"$error":"#N/A"}}]
[]
[null,null,{"$f":"RANK(D85,$D$85:$D$93,0)+COUNTIF($D$85:D85,D85)-1","v":{"$error":"#N/A"}},{"$f":"D83","v":{"$error":"#N/A"}},{"$f":"D82","v":"2018-06-15"},{"$f":"RANK(D85,$D$85:$D$93,0)+COUNTIF($D$85:D85,D85)-1","v":{"$error":"#N/A"}},{"$f":"VLOOKUP(1,C85:E93,3,FALSE)","v":{"$error":"#N/A"}},{"$f":"VLOOKUP(1,C85:E93,2,FALSE)","v":{"$error":"#N/A"}},{"$f":"IFERROR(VLOOKUP(G85,Sheet3!AK1:AN10,4,FALSE),1)","v":1}]
[null,null,{"$f":"RANK(D86,$D$85:$D$93,0)+COUNTIF($D$85:D86,D86)-1","v":{"$error":"#N/A"}},{"$f":"F83","v":{"$error":"#N/A"}},{"$f":"F82","v":"2018-06-14"},{"$f":"RANK(D86,$D$85:$D$93,0)+COUNTIF($D$85:D86,D86)-1","v":{"$error":"#N/A"}},{"$f":"VLOOKUP(2,C85:E93,3,FALSE)","v":{"$error":"#N/A"}},{"$f":"VLOOKUP(2,C85:E93,2,FALSE)","v":{"$error":"#N/A"}}]
[null,null,{"$f":"RANK(D87,$D$85:$D$93,0)+COUNTIF($D$85:D87,D87)-1","v":{"$error":"#N/A"}},{"$f":"H83","v":{"$error":"#N/A"}},{"$f":"H82","v":"2018-06-13"},{"$f":"RANK(D87,$D$85:$D$93,0)+COUNTIF($D$85:D87,D87)-1","v":{"$error":"#N/A"}},{"$f":"VLOOKUP(3,C85:E93,3,FALSE)","v":{"$error":"#N/A"}},{"$f":"VLOOKUP(3,C85:E93,2,FALSE)","v":{"$error":"#N/A"}}]
[null,null,{"$f":"RANK(D88,$D$85:$D$93,0)+COUNTIF($D$85:D88,D88)-1","v":{"$error":"#N/A"}},{"$f":"J83","v":{"$error":"#N/A"}},{"$f":"J82","v":"2018-06-12"},{"$f":"RANK(D88,$D$85:$D$93,0)+COUNTIF($D$85:D88,D88)-1","v":{"$error":"#N/A"}},{"$f":"VLOOKUP(4,C85:E93,3,FALSE)","v":{"$error":"#N/A"}},{"$f":"VLOOKUP(4,C85:E93,2,FALSE)","v":{"$error":"#N/A"}}]
[null,null,{"$f":"RANK(D89,$D$85:$D$93,0)+COUNTIF($D$85:D89,D89)-1","v":{"$error":"#N/A"}},{"$f":"L83","v":{"$error":"#N/A"}},{"$f":"L82","v":"2018-06-11"},{"$f":"RANK(D89,$D$85:$D$93,0)+COUNTIF($D$85:D89,D89)-1","v":{"$error":"#N/A"}},{"$f":"VLOOKUP(5,C85:E93,3,FALSE)","v":{"$error":"#N/A"}},{"$f":"VLOOKUP(5,C85:E93,2,FALSE)","v":{"$error":"#N/A"}}]
[null,null,{"$f":"RANK(D90,$D$85:$D$93,0)+COUNTIF($D$85:D90,D90)-1","v":{"$error":"#N/A"}},{"$f":"N83","v":{"$error":"#N/A"}},{"$f":"N82","v":"2018-06-08"},{"$f":"RANK(D90,$D$85:$D$93,0)+COUNTIF($D$85:D90,D90)-1","v":{"$error":"#N/A"}},{"$f":"VLOOKUP(6,C85:E93,3,FALSE)","v":{"$error":"#N/A"}},{"$f":"VLOOKUP(6,C85:E93,2,FALSE)","v":{"$error":"#N/A"}}]
[null,null,{"$f":"RANK(D91,$D$85:$D$93,0)+COUNTIF($D$85:D91,D91)-1","v":{"$error":"#N/A"}},{"$f":"P83","v":{"$error":"#N/A"}},{"$f":"P82","v":"2018-06-07"},{"$f":"RANK(D91,$D$85:$D$93,0)+COUNTIF($D$85:D91,D91)-1","v":{"$error":"#N/A"}},{"$f":"VLOOKUP(7,C85:E93,3,FALSE)","v":{"$error":"#N/A"}},{"$f":"VLOOKUP(7,C85:E93,2,FALSE)","v":{"$error":"#N/A"}}]
[null,null,{"$f":"RANK(D92,$D$85:$D$93,0)+COUNTIF($D$85:D92,D92)-1","v":{"$error":"#N/A"}},{"$f":"R83","v":{"$error":"#N/A"}},{"$f":"R82","v":"2018-06-06"},{"$f":"RANK(D92,$D$85:$D$93,0)+COUNTIF($D$85:D92,D92)-1","v":{"$error":"#N/A"}},{"$f":"VLOOKUP(8,C85:E93,3,FALSE)","v":{"$error":"#N/A"}},{"$f":"VLOOKUP(8,C85:E93,2,FALSE)","v":{"$error":"#N/A"}}]
[null,null,{"$f":"RANK(D93,$D$85:$D$93,0)+COUNTIF($D$85:D93,D93)-1","v":{"$error":"#N/A"}},{"$f":"T83","v":{"$error":"#N/A"}},{"$f":"T82","v":"2018-06-05"},{"$f":"RANK(D93,$D$85:$D$93,0)+COUNTIF($D$85:D93,D93)-1","v":{"$error":"#N/A"}},{"$f":"VLOOKUP(9,C85:E93,3,FALSE)","v":{"$error":"#N/A"}},{"$f":"VLOOKUP(9,C85:E93,2,FALSE)","v":{"$error":"#N/A"}}]

{"sheet":"Sheet3 (2)","index":3,"n_rows":78,"n_cols":40,"rows_kept":78,"cut":false,"hidden":true,"merged":[]}
[0,"08:00:00",{"$f":"IF(WEEKDAY(TODAY())=7,TODAY()-1,IF(WEEKDAY(TODAY())=1,TODAY()-2,TODAY()))","v":"2018-06-18"},{"$f":"YEAR(C1)","v":2018},{"$f":"MONTH(C1)","v":6},{"$f":"DAY(C1)","v":18},null,{"$f":"RTD(\"cqg.rtd\",,\"StudyData\", \"Close(\"&$D$12&\") when LocalYear(\"&$D$12&\")=\"&$D$1&\" and localMonth(\"&$D$12&\") =\"&$E$1&\" and LocalDay(\"&$D$12&\")=\"&$F$1&\" and Barix(\"&$D$12&\",reference:=StartOfSession)=\"&A1&\"\", \"Bar\", \"\", \"Close\",\"5\",\"0\",\"PrimaryOnly\",,,\"False\",\"T\",\"EveryTick\")","v":2.99},{"$f":"IFERROR((H1-$G$2)/$G$2,NA())","v":-1.0589013898080604E-2},{"$f":"RTD(\"cqg.rtd\",,\"StudyData\", \"Close(\"&$D$12&\") when LocalYear(\"&$D$12&\")=\"&$D$2&\" and localMonth(\"&$D$12&\") =\"&$E$2&\" and LocalDay(\"&$D$12&\")=\"&$F$2&\" and Barix(\"&$D$12&\",reference:=StartOfSession)=\"&A1&\"\", \"Bar\", \"\", \"Close\",\"5\",\"0\",\"PrimaryOnly\",,,\"False\",\"T\",\"EveryTick\")","v":3.0009999999999999},{"$f":"IFERROR((J1-$G$3)/$G$3,NA())","v":1.2141652613828005E-2},{"$f":"RTD(\"cqg.rtd\",,\"StudyData\", \"Close(\"&$D$12&\") when LocalYear(\"&$D$12&\")=\"&$D$3&\" and localMonth(\"&$D$12&\") =\"&$E$3&\" and LocalDay(\"&$D$12&\")=\"&$F$3&\" and Barix(\"&$D$12&\",reference:=StartOfSession)=\"&A1&\"\", \"Bar\", \"\", \"Close\",\"5\",\"0\",\"PrimaryOnly\",,,\"False\",\"T\",\"EveryTick\")","v":2.9580000000000002},{"$f":"IFERROR((L1-$G$4)/$G$4,NA())","v":-1.6874789065136325E-3},{"$f":"RTD(\"cqg.rtd\",,\"StudyData\", \"Close(\"&$D$12&\") when LocalYear(\"&$D$12&\")=\"&$D$4&\" and localMonth(\"&$D$12&\") =\"&$E$4&\" and LocalDay(\"&$D$12&\")=\"&$F$4&\" and Barix(\"&$D$12&\",reference:=StartOfSession)=\"&A1&\"\", \"Bar\", \"\", \"Close\",\"5\",\"0\",\"PrimaryOnly\",,,\"False\",\"T\",\"EveryTick\")","v":2.9580000000000002},{"$f":"IFERROR((N1-$G$5)/$G$5,NA())","v":6.4647839401157292E-3},{"$f":"RTD(\"cqg.rtd\",,\"StudyData\", \"Close(\"&$D$12&\") when LocalYear(\"&$D$12&\")=\"&$D$5&\" and localMonth(\"&$D$12&\") =\"&$E$5&\" and LocalDay(\"&$D$12&\")=\"&$F$5&\" and Barix(\"&$D$12&\",reference:=StartOfSession)=\"&A1&\"\", \"Bar\", \"\", \"Close\",\"5\",\"0\",\"PrimaryOnly\",,,\"False\",\"T\",\"EveryTick\")","v":2.9649999999999999},{"$f":"IFERROR((P1-$G$6)/$G$6,NA())","v":5.4255679891488688E-3},{"$f":"RTD(\"cqg.rtd\",,\"StudyData\", \"Close(\"&$D$12&\") when LocalYear(\"&$D$12&\")=\"&$D$6&\" and localMonth(\"&$D$12&\") =\"&$E$6&\" and LocalDay(\"&$D$12&\")=\"&$F$6&\" and Barix(\"&$D$12&\",reference:=StartOfSession)=\"&A1&\"\", \"Bar\", \"\", \"Close\",\"5\",\"0\",\"PrimaryOnly\",,,\"False\",\"T\",\"EveryTick\")","v":2.9510000000000001},{"$f":"IFERROR((R1-$G$7)/$G$7,NA())","v":2.1107266435986139E-2},{"$f":"RTD(\"cqg.rtd\",,\"StudyData\", \"Close(\"&$D$12&\") when LocalYear(\"&$D$12&\")=\"&$D$7&\" and localMonth(\"&$D$12&\") =\"&$E$7&\" and LocalDay(\"&$D$12&\")=\"&$F$7&\" and Barix(\"&$D$12&\",reference:=StartOfSession)=\"&A1&\"\", \"Bar\", \"\", \"Close\",\"5\",\"0\",\"PrimaryOnly\",,,\"False\",\"T\",\"EveryTick\")","v":2.8820000000000001},{"$f":"IFERROR((T1-$G$8)/$G$8,NA())","v":-1.6382252559726976E-2},{"$f":"RTD(\"cqg.rtd\",,\"StudyData\", \"Close(\"&$D$12&\") when LocalYear(\"&$D$12&\")=\"&$D$8&\" and localMonth(\"&$D$12&\") =\"&$E$8&\" and LocalDay(\"&$D$12&\")=\"&$F$8&\" and Barix(\"&$D$12&\",reference:=StartOfSession)=\"&A1&\"\", \"Bar\", \"\", \"Close\",\"5\",\"0\",\"PrimaryOnly\",,,\"False\",\"T\",\"EveryTick\")","v":2.98},{"$f":"IFERROR((V1-$G$9)/$G$9,NA())","v":2.900552486187848E-2},{"$f":"RTD(\"cqg.rtd\",,\"StudyData\", \"Close(\"&$D$12&\") when LocalYear(\"&$D$12&\")=\"&$D$9&\" and localMonth(\"&$D$12&\") =\"&$E$9&\" and LocalDay(\"&$D$12&\")=\"&$F$9&\" and Barix(\"&$D$12&\",reference:=StartOfSession)=\"&A1&\"\", \"Bar\", \"\", \"Close\",\"5\",\"0\",\"PrimaryOnly\",,,\"False\",\"T\",\"EveryTick\")","v":2.887},{"$f":"IFERROR((X1-$G$10)/$G$10,NA())","v":-1.0380622837370635E-3},{"$f":"RTD(\"cqg.rtd\",,\"StudyData\", \"Close(\"&$D$12&\") when LocalYear(\"&$D$12&\")=\"&$D$10&\" and localMonth(\"&$D$12&\") =\"&$E$10&\" and LocalDay(\"&$D$12&\")=\"&$F$10&\" and Barix(\"&$D$12&\",reference:=StartOfSession)=\"&A1&\"\", \"Bar\", \"\", \"Close\",\"5\",\"0\",\"PrimaryOnly\",,,\"False\",\"T\",\"EveryTick\")","v":2.9039999999999999},{"$f":"IFERROR((Z1-$G$11)/$G$11,NA())","v":-8.8737201365188551E-3},{"$f":"RANK(AD1,$AD$1:$AD$10)+COUNTIF($AD$1:AD1,AD1)-1","v":8},{"$f":"DATE(D1,E1,F1)","v":"2018-06-18"},{"$f":"VLOOKUP(MAX(AE2:AE66),A1:I66,9,FALSE)","v":-1.1581733951025712E-2},null,1,{"$f":"VLOOKUP(AF1,$AB$1:$AD$10,2,FALSE)","v":"2018-06-11"},{"$f":"VLOOKUP(AF1,$AB$1:$AD$10,3,FALSE)","v":2.2145328719723203E-2},null,null,{"$f":"AG1","v":"2018-06-11"},{"$f":"AC1","v":"2018-06-18"},0,{"$f":"VLOOKUP(AK1,$AL$1:$AM$10,2,FALSE)","v":5}]
[{"$f":"A1+1","v":1},"08:05:00",{"$f":"WORKDAY(C1,-G27)","v":"2018-06-15"},{"$f":"YEAR(C2)","v":2018},{"$f":"MONTH(C2)","v":6},{"$f":"DAY(C2)","v":15},{"$f":"RTD(\"cqg.rtd\",,\"StudyData\", \"Close(\"&$D$12&\") when LocalYear(\"&$D$12&\")=\"&D2&\" and localMonth(\"&$D$12&\") =\"&E2&\" and LocalDay(\"&$D$12&\")=\"&F2&\" and Barix(\"&$D$12&\",reference:=StartOfSession)=65\", \"Bar\", \"\", \"Close\",\"5\",\"0\",\"PrimaryOnly\",,,\"False\",\"T\",\"EveryTick\")","v":3.0219999999999998},{"$f":"RTD(\"cqg.rtd\",,\"StudyData\", \"Close(\"&$D$12&\") when LocalYear(\"&$D$12&\")=\"&$D$1&\" and localMonth(\"&$D$12&\") =\"&$E$1&\" and LocalDay(\"&$D$12&\")=\"&$F$1&\" and Barix(\"&$D$12&\",reference:=StartOfSession)=\"&A2&\"\", \"Bar\", \"\", \"Close\",\"5\",\"0\",\"PrimaryOnly\",,,\"False\",\"T\",\"EveryTick\")","v":2.9809999999999999},{"$f":"IFERROR((H2-$G$2)/$G$2,NA())","v":-1.3567174056915926E-2},{"$f":"RTD(\"cqg.rtd\",,\"StudyData\", \"Close(\"&$D$12&\") when LocalYear(\"&$D$12&\")=\"&$D$2&\" and localMonth(\"&$D$12&\") =\"&$E$2&\" and LocalDay(\"&$D$12&\")=\"&$F$2&\" and Barix(\"&$D$12&\",reference:=StartOfSession)=\"&A2&\"\", \"Bar\", \"\", \"Close\",\"5\",\"0\",\"PrimaryOnly\",,,\"False\",\"T\",\"EveryTick\")","v":3},{"$f":"IFERROR((J2-$G$3)/$G$3,NA())","v":1.1804384485666152E-2},{"$f":"RTD(\"cqg.rtd\",,\"StudyData\", \"Close(\"&$D$12&\") when LocalYear(\"&$D$12&\")=\"&$D$3&\" and localMonth(\"&$D$12&\") =\"&$E$3&\" and LocalDay(\"&$D$12&\")=\"&$F$3&\" and Barix(\"&$D$12&\",reference:=StartOfSession)=\"&A2&\"\", \"Bar\", \"\", \"Close\",\"5\",\"0\",\"PrimaryOnly\",,,\"False\",\"T\",\"EveryTick\")","v":2.9649999999999999},{"$f":"IFERROR((L2-$G$4)/$G$4,NA())","v":6.7499156260539305E-4},{"$f":"RTD(\"cqg.rtd\",,\"StudyData\", \"Close(\"&$D$12&\") when LocalYear(\"&$D$12&\")=\"&$D$4&\" and localMonth(\"&$D$12&\") =\"&$E$4&\" and LocalDay(\"&$D$12&\")=\"&$F$4&\" and Barix(\"&$D$12&\",reference:=StartOfSession)=\"&A2&\"\", \"Bar\", \"\", \"Close\",\"5\",\"0\",\"PrimaryOnly\",,,\"False\",\"T\",\"EveryTick\")","v":2.9510000000000001},{"$f":"IFERROR((N2-$G$5)/$G$5,NA())","v":4.0830214358625414E-3},{"$f":"RTD(\"cqg.rtd\",,\"StudyData\", \"Close(\"&$D$12&\") when LocalYear(\"&$D$12&\")=\"&$D$5&\" and localMonth(\"&$D$12&\") =\"&$E$5&\" and LocalDay(\"&$D$12&\")=\"&$F$5&\" and Barix(\"&$D$12&\",reference:=StartOfSession)=\"&A2&\"\", \"Bar\", \"\", \"Close\",\"5\",\"0\",\"PrimaryOnly\",,,\"False\",\"T\",\"EveryTick\")","v":2.9550000000000001},{"$f":"IFERROR((P2-$G$6)/$G$6,NA())","v":2.0345879959309011E-3},{"$f":"RTD(\"cqg.rtd\",,\"StudyData\", \"Close(\"&$D$12&\") when LocalYear(\"&$D$12&\")=\"&$D$6&\" and localMonth(\"&$D$12&\") =\"&$E$6&\" and LocalDay(\"&$D$12&\")=\"&$F$6&\" and Barix(\"&$D$12&\",reference:=StartOfSession)=\"&A2&\"\", \"Bar\", \"\", \"Close\",\"5\",\"0\",\"PrimaryOnly\",,,\"False\",\"T\",\"EveryTick\")","v":2.9550000000000001},{"$f":"IFERROR((R2-$G$7)/$G$7,NA())","v":2.2491349480968838E-2},{"$f":"RTD(\"cqg.rtd\",,\"StudyData\", \"Close(\"&$D$12&\") when LocalYear(\"&$D$12&\")=\"&$D$7&\" and localMonth(\"&$D$12&\") =\"&$E$7&\" and LocalDay(\"&$D$12&\")=\"&$F$7&\" and Barix(\"&$D$12&\",reference:=StartOfSession)=\"&A2&\"\", \"Bar\", \"\", \"Close\",\"5\",\"0\",\"PrimaryOnly\",,,\"False\",\"T\",\"EveryTick\")","v":2.8769999999999998},{"$f":"IFERROR((T2-$G$8)/$G$8,NA())","v":-1.8088737201365317E-2},{"$f":"RTD(\"cqg.rtd\",,\"StudyData\", \"Close(\"&$D$12&\") when LocalYear(\"&$D$12&\")=\"&$D$8&\" and localMonth(\"&$D$12&\") =\"&$E$8&\" and LocalDay(\"&$D$12&\")=\"&$F$8&\" and Barix(\"&$D$12&\",reference:=StartOfSession)=\"&A2&\"\", \"Bar\", \"\", \"Close\",\"5\",\"0\",\"PrimaryOnly\",,,\"False\",\"T\",\"EveryTick\")","v":2.98},{"$f":"IFERROR((V2-$G$9)/$G$9,NA())","v":2.900552486187848E-2},{"$f":"RTD(\"cqg.rtd\",,\"StudyData\", \"Close(\"&$D$12&\") when LocalYear(\"&$D$12&\")=\"&$D$9&\" and localMonth(\"&$D$12&\") =\"&$E$9&\" and LocalDay(\"&$D$12&\")=\"&$F$9&\" and Barix(\"&$D$12&\",reference:=StartOfSession)=\"&A2&\"\", \"Bar\", \"\", \"Close\",\"5\",\"0\",\"PrimaryOnly\",,,\"False\",\"T\",\"EveryTick\")","v":2.8860000000000001},{"$f":"IFERROR((X2-$G$10)/$G$10,NA())","v":-1.3840830449827002E-3},{"$f":"RTD(\"cqg.rtd\",,\"StudyData\", \"Close(\"&$D$12&\") when LocalYear(\"&$D$12&\")=\"&$D$10&\" and localMonth(\"&$D$12&\") =\"&$E$10&\" and LocalDay(\"&$D$12&\")=\"&$F$10&\" and Barix(\"&$D$12&\",reference:=StartOfSession)=\"&A2&\"\", \"Bar\", \"\", \"Close\",\"5\",\"0\",\"PrimaryOnly\",,,\"False\",\"T\",\"EveryTick\")","v":2.9020000000000001},{"$f":"IFERROR((Z2-$G$11)/$G$11,NA())","v":-9.5563139931740693E-3},{"$f":"RANK(AD2,$AD$1:$AD$10)+COUNTIF($AD$1:AD2,AD2)-1","v":3},{"$f":"DATE(D2,E2,F2)","v":"2018-06-15"},{"$f":"VLOOKUP(MAX(AE2:AE81),A1:K81,11,FALSE)","v":1.2478920741989856E-2},{"$f":"IF(AND(H1<>\"\",H2<>\"\",H3=\"\"),A2,\"\")","v":""},2,{"$f":"VLOOKUP(AF2,$AB$1:$AD$10,2,FALSE)","v":"2018-06-07"},{"$f":"VLOOKUP(AF2,$AB$1:$AD$10,3,FALSE)","v":2.2099447513812175E-2},null,null,{"$f":"AG2","v":"2018-06-07"},{"$f":"AC2","v":"2018-06-15"},1,{"$f":"VLOOKUP(AK2,$AL$1:$AM$10,2,FALSE)","v":7}]
[{"$f":"A2+1","v":2},"08:10:00",{"$f":"WORKDAY(C2,-G28)","v":"2018-06-14"},2018,6,14,{"$f":"RTD(\"cqg.rtd\",,\"StudyData\", \"Close(\"&$D$12&\") when LocalYear(\"&$D$12&\")=\"&D3&\" and localMonth(\"&$D$12&\") =\"&E3&\" and LocalDay(\"&$D$12&\")=\"&F3&\" and Barix(\"&$D$12&\",reference:=StartOfSession)=65\", \"Bar\", \"\", \"Close\",\"5\",\"0\",\"PrimaryOnly\",,,\"False\",\"T\",\"EveryTick\")","v":2.9649999999999999},{"$f":"RTD(\"cqg.rtd\",,\"StudyData\", \"Close(\"&$D$12&\") when LocalYear(\"&$D$12&\")=\"&$D$1&\" and localMonth(\"&$D$12&\") =\"&$E$1&\" and LocalDay(\"&$D$12&\")=\"&$F$1&\" and Barix(\"&$D$12&\",reference:=StartOfSession)=\"&A3&\"\", \"Bar\", \"\", \"Close\",\"5\",\"0\",\"PrimaryOnly\",,,\"False\",\"T\",\"EveryTick\")","v":2.98},{"$f":"IFERROR((H3-$G$2)/$G$2,NA())","v":-1.3898080741230912E-2},{"$f":"RTD(\"cqg.rtd\",,\"StudyData\", \"Close(\"&$D$12&\") when LocalYear(\"&$D$12&\")=\"&$D$2&\" and localMonth(\"&$D$12&\") =\"&$E$2&\" and LocalDay(\"&$D$12&\")=\"&$F$2&\" and Barix(\"&$D$12&\",reference:=StartOfSession)=\"&A3&\"\", \"Bar\", \"\", \"Close\",\"5\",\"0\",\"PrimaryOnly\",,,\"False\",\"T\",\"EveryTick\")","v":2.996},1.0455311973018596E-2,{"$f":"RTD(\"cqg.rtd\",,\"StudyData\", \"Close(\"&$D$12&\") when LocalYear(\"&$D$12&\")=\"&$D$3&\" and localMonth(\"&$D$12&\") =\"&$E$3&\" and LocalDay(\"&$D$12&\")=\"&$F$3&\" and Barix(\"&$D$12&\",reference:=StartOfSession)=\"&A3&\"\", \"Bar\", \"\", \"Close\",\"5\",\"0\",\"PrimaryOnly\",,,\"False\",\"T\",\"EveryTick\")","v":2.9670000000000001},1.3499831252109359E-3,{"$f":"RTD(\"cqg.rtd\",,\"StudyData\", \"Close(\"&$D$12&\") when LocalYear(\"&$D$12&\")=\"&$D$4&\" and localMonth(\"&$D$12&\") =\"&$E$4&\" and LocalDay(\"&$D$12&\")=\"&$F$4&\" and Barix(\"&$D$12&\",reference:=StartOfSession)=\"&A3&\"\", \"Bar\", \"\", \"Close\",\"5\",\"0\",\"PrimaryOnly\",,,\"False\",\"T\",\"EveryTick\")","v":2.9540000000000002},5.1037767948282154E-3,{"$f":"RTD(\"cqg.rtd\",,\"StudyData\", \"Close(\"&$D$12&\") when LocalYear(\"&$D$12&\")=\"&$D$5&\" and localMonth(\"&$D$12&\") =\"&$E$5&\" and LocalDay(\"&$D$12&\")=\"&$F$5&\" and Barix(\"&$D$12&\",reference:=StartOfSession)=\"&A3&\"\", \"Bar\", \"\", \"Close\",\"5\",\"0\",\"PrimaryOnly\",,,\"False\",\"T\",\"EveryTick\")","v":2.9489999999999998},0,{"$f":"RTD(\"cqg.rtd\",,\"StudyData\", \"Close(\"&$D$12&\") when LocalYear(\"&$D$12&\")=\"&$D$6&\" and localMonth(\"&$D$12&\") =\"&$E$6&\" and LocalDay(\"&$D$12&\")=\"&$F$6&\" and Barix(\"&$D$12&\",reference:=StartOfSession)=\"&A3&\"\", \"Bar\", \"\", \"Close\",\"5\",\"0\",\"PrimaryOnly\",,,\"False\",\"T\",\"EveryTick\")","v":2.9609999999999999},2.4567474048442811E-2,{"$f":"RTD(\"cqg.rtd\",,\"StudyData\", \"Close(\"&$D$12&\") when LocalYear(\"&$D$12&\")=\"&$D$7&\" and localMonth(\"&$D$12&\") =\"&$E$7&\" and LocalDay(\"&$D$12&\")=\"&$F$7&\" and Barix(\"&$D$12&\",reference:=StartOfSession)=\"&A3&\"\", \"Bar\", \"\", \"Close\",\"5\",\"0\",\"PrimaryOnly\",,,\"False\",\"T\",\"EveryTick\")","v":2.8809999999999998},-1.6723549488054736E-2,{"$f":"RTD(\"cqg.rtd\",,\"StudyData\", \"Close(\"&$D$12&\") when LocalYear(\"&$D$12&\")=\"&$D$8&\" and localMonth(\"&$D$12&\") =\"&$E$8&\" and LocalDay(\"&$D$12&\")=\"&$F$8&\" and Barix(\"&$D$12&\",reference:=StartOfSession)=\"&A3&\"\", \"Bar\", \"\", \"Close\",\"5\",\"0\",\"PrimaryOnly\",,,\"False\",\"T\",\"EveryTick\")","v":2.9769999999999999},2.7969613259668496E-2,{"$f":"RTD(\"cqg.rtd\",,\"StudyData\", \"Close(\"&$D$12&\") when LocalYear(\"&$D$12&\")=\"&$D$9&\" and localMonth(\"&$D$12&\") =\"&$E$9&\" and LocalDay(\"&$D$12&\")=\"&$F$9&\" and Barix(\"&$D$12&\",reference:=StartOfSession)=\"&A3&\"\", \"Bar\", \"\", \"Close\",\"5\",\"0\",\"PrimaryOnly\",,,\"False\",\"T\",\"EveryTick\")","v":2.8879999999999999},-6.9204152249142687E-4,{"$f":"RTD(\"cqg.rtd\",,\"StudyData\", \"Close(\"&$D$12&\") when LocalYear(\"&$D$12&\")=\"&$D$10&\" and localMonth(\"&$D$12&\") =\"&$E$10&\" and LocalDay(\"&$D$12&\")=\"&$F$10&\" and Barix(\"&$D$12&\",reference:=StartOfSession)=\"&A3&\"\", \"Bar\", \"\", \"Close\",\"5\",\"0\",\"PrimaryOnly\",,,\"False\",\"T\",\"EveryTick\")","v":2.88},-1.7064846416382343E-2,{"$f":"RANK(AD3,$AD$1:$AD$10)+COUNTIF($AD$1:AD3,AD3)-1","v":6},"2018-06-14",{"$f":"VLOOKUP(MAX(AE2:AE81),A1:M81,13,FALSE)","v":-3.3749578130269652E-4},{"$f":"IF(AND(H2<>\"\",H3<>\"\",H4=\"\"),A3,\"\")","v":""},3,"2018-06-15",1.2478920741989856E-2,null,null,"2018-06-15","2018-06-14",2,1]
[3,"08:15:00","2018-06-13",2018,6,13,{"$f":"RTD(\"cqg.rtd\",,\"StudyData\", \"Close(\"&$D$12&\") when LocalYear(\"&$D$12&\")=\"&D4&\" and localMonth(\"&$D$12&\") =\"&E4&\" and LocalDay(\"&$D$12&\")=\"&F4&\" and Barix(\"&$D$12&\",reference:=StartOfSession)=65\", \"Bar\", \"\", \"Close\",\"5\",\"0\",\"PrimaryOnly\",,,\"False\",\"T\",\"EveryTick\")","v":2.9630000000000001},{"$f":"RTD(\"cqg.rtd\",,\"StudyData\", \"Close(\"&$D$12&\") when LocalYear(\"&$D$12&\")=\"&$D$1&\" and localMonth(\"&$D$12&\") =\"&$E$1&\" and LocalDay(\"&$D$12&\")=\"&$F$1&\" and Barix(\"&$D$12&\",reference:=StartOfSession)=\"&A4&\"\", \"Bar\", \"\", \"Close\",\"5\",\"0\",\"PrimaryOnly\",,,\"False\",\"T\",\"EveryTick\")","v":2.9860000000000002},-1.1912640635340699E-2,{"$f":"RTD(\"cqg.rtd\",,\"StudyData\", \"Close(\"&$D$12&\") when LocalYear(\"&$D$12&\")=\"&$D$2&\" and localMonth(\"&$D$12&\") =\"&$E$2&\" and LocalDay(\"&$D$12&\")=\"&$F$2&\" and Barix(\"&$D$12&\",reference:=StartOfSession)=\"&A4&\"\", \"Bar\", \"\", \"Close\",\"5\",\"0\",\"PrimaryOnly\",,,\"False\",\"T\",\"EveryTick\")","v":2.9990000000000001},1.1467116357504302E-2,{"$f":"RTD(\"cqg.rtd\",,\"StudyData\", \"Close(\"&$D$12&\") when LocalYear(\"&$D$12&\")=\"&$D$3&\" and localMonth(\"&$D$12&\") =\"&$E$3&\" and LocalDay(\"&$D$12&\")=\"&$F$3&\" and Barix(\"&$D$12&\",reference:=StartOfSession)=\"&A4&\"\", \"Bar\", \"\", \"Close\",\"5\",\"0\",\"PrimaryOnly\",,,\"False\",\"T\",\"EveryTick\")","v":2.964},3.3749578130269652E-4,{"$f":"RTD(\"cqg.rtd\",,\"StudyData\", \"Close(\"&$D$12&\") when LocalYear(\"&$D$12&\")=\"&$D$4&\" and localMonth(\"&$D$12&\") =\"&$E$4&\" and LocalDay(\"&$D$12&\")=\"&$F$4&\" and Barix(\"&$D$12&\",reference:=StartOfSession)=\"&A4&\"\", \"Bar\", \"\", \"Close\",\"5\",\"0\",\"PrimaryOnly\",,,\"False\",\"T\",\"EveryTick\")","v":2.952},4.4232732221843821E-3,{"$f":"RTD(\"cqg.rtd\",,\"StudyData\", \"Close(\"&$D$12&\") when LocalYear(\"&$D$12&\")=\"&$D$5&\" and localMonth(\"&$D$12&\") =\"&$E$5&\" and LocalDay(\"&$D$12&\")=\"&$F$5&\" and Barix(\"&$D$12&\",reference:=StartOfSession)=\"&A4&\"\", \"Bar\", \"\", \"Close\",\"5\",\"0\",\"PrimaryOnly\",,,\"False\",\"T\",\"EveryTick\")","v":2.9409999999999998},-2.7127839945744344E-3,{"$f":"RTD(\"cqg.rtd\",,\"StudyData\", \"Close(\"&$D$12&\") when LocalYear(\"&$D$12&\")=\"&$D$6&\" and localMonth(\"&$D$12&\") =\"&$E$6&\" and LocalDay(\"&$D$12&\")=\"&$F$6&\" and Barix(\"&$D$12&\",reference:=StartOfSession)=\"&A4&\"\", \"Bar\", \"\", \"Close\",\"5\",\"0\",\"PrimaryOnly\",,,\"False\",\"T\",\"EveryTick\")","v":2.9609999999999999},2.4567474048442811E-2,{"$f":"RTD(\"cqg.rtd\",,\"StudyData\", \"Close(\"&$D$12&\") when LocalYear(\"&$D$12&\")=\"&$D$7&\" and localMonth(\"&$D$12&\") =\"&$E$7&\" and LocalDay(\"&$D$12&\")=\"&$F$7&\" and Barix(\"&$D$12&\",reference:=StartOfSession)=\"&A4&\"\", \"Bar\", \"\", \"Close\",\"5\",\"0\",\"PrimaryOnly\",,,\"False\",\"T\",\"EveryTick\")","v":2.883},-1.6040955631399369E-2,{"$f":"RTD(\"cqg.rtd\",,\"StudyData\", \"Close(\"&$D$12&\") when LocalYear(\"&$D$12&\")=\"&$D$8&\" and localMonth(\"&$D$12&\") =\"&$E$8&\" and LocalDay(\"&$D$12&\")=\"&$F$8&\" and Barix(\"&$D$12&\",reference:=StartOfSession)=\"&A4&\"\", \"Bar\", \"\", \"Close\",\"5\",\"0\",\"PrimaryOnly\",,,\"False\",\"T\",\"EveryTick\")","v":2.9689999999999999},2.5207182320441973E-2,{"$f":"RTD(\"cqg.rtd\",,\"StudyData\", \"Close(\"&$D$12&\") when LocalYear(\"&$D$12&\")=\"&$D$9&\" and localMonth(\"&$D$12&\") =\"&$E$9&\" and LocalDay(\"&$D$12&\")=\"&$F$9&\" and Barix(\"&$D$12&\",reference:=StartOfSession)=\"&A4&\"\", \"Bar\", \"\", \"Close\",\"5\",\"0\",\"PrimaryOnly\",,,\"False\",\"T\",\"EveryTick\")","v":2.899},3.1141868512110367E-3,{"$f":"RTD(\"cqg.rtd\",,\"StudyData\", \"Close(\"&$D$12&\") when LocalYear(\"&$D$12&\")=\"&$D$10&\" and localMonth(\"&$D$12&\") =\"&$E$10&\" and LocalDay(\"&$D$12&\")=\"&$F$10&\" and Barix(\"&$D$12&\",reference:=StartOfSession)=\"&A4&\"\", \"Bar\", \"\", \"Close\",\"5\",\"0\",\"PrimaryOnly\",,,\"False\",\"T\",\"EveryTick\")","v":2.8860000000000001},-1.5017064846416395E-2,{"$f":"RANK(AD4,$AD$1:$AD$10)+COUNTIF($AD$1:AD4,AD4)-1","v":4},"2018-06-13",{"$f":"VLOOKUP(MAX(AE2:AE81),A1:O81,15,FALSE)","v":6.4647839401157292E-3},"",4,"2018-06-13",6.4647839401157292E-3,null,null,"2018-06-13","2018-06-13",3,3]
[4,"08:20:00","2018-06-12",2018,6,12,{"$f":"RTD(\"cqg.rtd\",,\"StudyData\", \"Close(\"&$D$12&\") when LocalYear(\"&$D$12&\")=\"&D5&\" and localMonth(\"&$D$12&\") =\"&E5&\" and LocalDay(\"&$D$12&\")=\"&F5&\" and Barix(\"&$D$12&\",reference:=StartOfSession)=65\", \"Bar\", \"\", \"Close\",\"5\",\"0\",\"PrimaryOnly\",,,\"False\",\"T\",\"EveryTick\")","v":2.9390000000000001},{"$f":"RTD(\"cqg.rtd\",,\"StudyData\", \"Close(\"&$D$12&\") when LocalYear(\"&$D$12&\")=\"&$D$1&\" and localMonth(\"&$D$12&\") =\"&$E$1&\" and LocalDay(\"&$D$12&\")=\"&$F$1&\" and Barix(\"&$D$12&\",reference:=StartOfSession)=\"&A5&\"\", \"Bar\", \"\", \"Close\",\"5\",\"0\",\"PrimaryOnly\",,,\"False\",\"T\",\"EveryTick\")","v":2.9830000000000001},-1.2905360688285806E-2,{"$f":"RTD(\"cqg.rtd\",,\"StudyData\", \"Close(\"&$D$12&\") when LocalYear(\"&$D$12&\")=\"&$D$2&\" and localMonth(\"&$D$12&\") =\"&$E$2&\" and LocalDay(\"&$D$12&\")=\"&$F$2&\" and Barix(\"&$D$12&\",reference:=StartOfSession)=\"&A5&\"\", \"Bar\", \"\", \"Close\",\"5\",\"0\",\"PrimaryOnly\",,,\"False\",\"T\",\"EveryTick\")","v":2.996},1.0455311973018596E-2,{"$f":"RTD(\"cqg.rtd\",,\"StudyData\", \"Close(\"&$D$12&\") when LocalYear(\"&$D$12&\")=\"&$D$3&\" and localMonth(\"&$D$12&\") =\"&$E$3&\" and LocalDay(\"&$D$12&\")=\"&$F$3&\" and Barix(\"&$D$12&\",reference:=StartOfSession)=\"&A5&\"\", \"Bar\", \"\", \"Close\",\"5\",\"0\",\"PrimaryOnly\",,,\"False\",\"T\",\"EveryTick\")","v":2.9580000000000002},-1.6874789065136325E-3,{"$f":"RTD(\"cqg.rtd\",,\"StudyData\", \"Close(\"&$D$12&\") when LocalYear(\"&$D$12&\")=\"&$D$4&\" and localMonth(\"&$D$12&\") =\"&$E$4&\" and LocalDay(\"&$D$12&\")=\"&$F$4&\" and Barix(\"&$D$12&\",reference:=StartOfSession)=\"&A5&\"\", \"Bar\", \"\", \"Close\",\"5\",\"0\",\"PrimaryOnly\",,,\"False\",\"T\",\"EveryTick\")","v":2.9580000000000002},6.4647839401157292E-3,{"$f":"RTD(\"cqg.rtd\",,\"StudyData\", \"Close(\"&$D$12&\") when LocalYear(\"&$D$12&\")=\"&$D$5&\" and localMonth(\"&$D$12&\") =\"&$E$5&\" and LocalDay(\"&$D$12&\")=\"&$F$5&\" and Barix(\"&$D$12&\",reference:=StartOfSession)=\"&A5&\"\", \"Bar\", \"\", \"Close\",\"5\",\"0\",\"PrimaryOnly\",,,\"False\",\"T\",\"EveryTick\")","v":2.9460000000000002},-1.0172939979653001E-3,{"$f":"RTD(\"cqg.rtd\",,\"StudyData\", \"Close(\"&$D$12&\") when LocalYear(\"&$D$12&\")=\"&$D$6&\" and localMonth(\"&$D$12&\") =\"&$E$6&\" and LocalDay(\"&$D$12&\")=\"&$F$6&\" and Barix(\"&$D$12&\",reference:=StartOfSession)=\"&A5&\"\", \"Bar\", \"\", \"Close\",\"5\",\"0\",\"PrimaryOnly\",,,\"False\",\"T\",\"EveryTick\")","v":2.9569999999999999},2.3183391003460112E-2,{"$f":"RTD(\"cqg.rtd\",,\"StudyData\", \"Close(\"&$D$12&\") when LocalYear(\"&$D$12&\")=\"&$D$7&\" and localMonth(\"&$D$12&\") =\"&$E$7&\" and LocalDay(\"&$D$12&\")=\"&$F$7&\" and Barix(\"&$D$12&\",reference:=StartOfSession)=\"&A5&\"\", \"Bar\", \"\", \"Close\",\"5\",\"0\",\"PrimaryOnly\",,,\"False\",\"T\",\"EveryTick\")","v":2.887},-1.4675767918088787E-2,{"$f":"RTD(\"cqg.rtd\",,\"StudyData\", \"Close(\"&$D$12&\") when LocalYear(\"&$D$12&\")=\"&$D$8&\" and localMonth(\"&$D$12&\") =\"&$E$8&\" and LocalDay(\"&$D$12&\")=\"&$F$8&\" and Barix(\"&$D$12&\",reference:=StartOfSession)=\"&A5&\"\", \"Bar\", \"\", \"Close\",\"5\",\"0\",\"PrimaryOnly\",,,\"False\",\"T\",\"EveryTick\")","v":2.9569999999999999},2.1063535911602191E-2,{"$f":"RTD(\"cqg.rtd\",,\"StudyData\", \"Close(\"&$D$12&\") when LocalYear(\"&$D$12&\")=\"&$D$9&\" and localMonth(\"&$D$12&\") =\"&$E$9&\" and LocalDay(\"&$D$12&\")=\"&$F$9&\" and Barix(\"&$D$12&\",reference:=StartOfSession)=\"&A5&\"\", \"Bar\", \"\", \"Close\",\"5\",\"0\",\"PrimaryOnly\",,,\"False\",\"T\",\"EveryTick\")","v":2.9009999999999998},3.80622837370231E-3,{"$f":"RTD(\"cqg.rtd\",,\"StudyData\", \"Close(\"&$D$12&\") when LocalYear(\"&$D$12&\")=\"&$D$10&\" and localMonth(\"&$D$12&\") =\"&$E$10&\" and LocalDay(\"&$D$12&\")=\"&$F$10&\" and Barix(\"&$D$12&\",reference:=StartOfSession)=\"&A5&\"\", \"Bar\", \"\", \"Close\",\"5\",\"0\",\"PrimaryOnly\",,,\"False\",\"T\",\"EveryTick\")","v":2.883},-1.6040955631399369E-2,{"$f":"RANK(AD5,$AD$1:$AD$10)+COUNTIF($AD$1:AD5,AD5)-1","v":7},"2018-06-12",{"$f":"VLOOKUP(MAX(AE2:AE81),A1:Q81,17,FALSE)","v":-3.7300779925397345E-3},"",5,"2018-06-06",4.1522491349481007E-3,null,null,"2018-06-06","2018-06-12",4,8]
[5,"08:25:00","2018-06-11",2018,6,11,{"$f":"RTD(\"cqg.rtd\",,\"StudyData\", \"Close(\"&$D$12&\") when LocalYear(\"&$D$12&\")=\"&D6&\" and localMonth(\"&$D$12&\") =\"&E6&\" and LocalDay(\"&$D$12&\")=\"&F6&\" and Barix(\"&$D$12&\",reference:=StartOfSession)=65\", \"Bar\", \"\", \"Close\",\"5\",\"0\",\"PrimaryOnly\",,,\"False\",\"T\",\"EveryTick\")","v":2.9489999999999998},{"$f":"RTD(\"cqg.rtd\",,\"StudyData\", \"Close(\"&$D$12&\") when LocalYear(\"&$D$12&\")=\"&$D$1&\" and localMonth(\"&$D$12&\") =\"&$E$1&\" and LocalDay(\"&$D$12&\")=\"&$F$1&\" and Barix(\"&$D$12&\",reference:=StartOfSession)=\"&A6&\"\", \"Bar\", \"\", \"Close\",\"5\",\"0\",\"PrimaryOnly\",,,\"False\",\"T\",\"EveryTick\")","v":2.988},-1.1250827266710724E-2,{"$f":"RTD(\"cqg.rtd\",,\"StudyData\", \"Close(\"&$D$12&\") when LocalYear(\"&$D$12&\")=\"&$D$2&\" and localMonth(\"&$D$12&\") =\"&$E$2&\" and LocalDay(\"&$D$12&\")=\"&$F$2&\" and Barix(\"&$D$12&\",reference:=StartOfSession)=\"&A6&\"\", \"Bar\", \"\", \"Close\",\"5\",\"0\",\"PrimaryOnly\",,,\"False\",\"T\",\"EveryTick\")","v":3},1.1804384485666152E-2,{"$f":"RTD(\"cqg.rtd\",,\"StudyData\", \"Close(\"&$D$12&\") when LocalYear(\"&$D$12&\")=\"&$D$3&\" and localMonth(\"&$D$12&\") =\"&$E$3&\" and LocalDay(\"&$D$12&\")=\"&$F$3&\" and Barix(\"&$D$12&\",reference:=StartOfSession)=\"&A6&\"\", \"Bar\", \"\", \"Close\",\"5\",\"0\",\"PrimaryOnly\",,,\"False\",\"T\",\"EveryTick\")","v":2.9590000000000001},-1.3499831252109359E-3,{"$f":"RTD(\"cqg.rtd\",,\"StudyData\", \"Close(\"&$D$12&\") when LocalYear(\"&$D$12&\")=\"&$D$4&\" and localMonth(\"&$D$12&\") =\"&$E$4&\" and LocalDay(\"&$D$12&\")=\"&$F$4&\" and Barix(\"&$D$12&\",reference:=StartOfSession)=\"&A6&\"\", \"Bar\", \"\", \"Close\",\"5\",\"0\",\"PrimaryOnly\",,,\"False\",\"T\",\"EveryTick\")","v":2.9510000000000001},4.0830214358625414E-3,{"$f":"RTD(\"cqg.rtd\",,\"StudyData\", \"Close(\"&$D$12&\") when LocalYear(\"&$D$12&\")=\"&$D$5&\" and localMonth(\"&$D$12&\") =\"&$E$5&\" and LocalDay(\"&$D$12&\")=\"&$F$5&\" and Barix(\"&$D$12&\",reference:=StartOfSession)=\"&A6&\"\", \"Bar\", \"\", \"Close\",\"5\",\"0\",\"PrimaryOnly\",,,\"False\",\"T\",\"EveryTick\")","v":2.9430000000000001},-2.0345879959307507E-3,{"$f":"RTD(\"cqg.rtd\",,\"StudyData\", \"Close(\"&$D$12&\") when LocalYear(\"&$D$12&\")=\"&$D$6&\" and localMonth(\"&$D$12&\") =\"&$E$6&\" and LocalDay(\"&$D$12&\")=\"&$F$6&\" and Barix(\"&$D$12&\",reference:=StartOfSession)=\"&A6&\"\", \"Bar\", \"\", \"Close\",\"5\",\"0\",\"PrimaryOnly\",,,\"False\",\"T\",\"EveryTick\")","v":2.9529999999999998},2.1799307958477412E-2,{"$f":"RTD(\"cqg.rtd\",,\"StudyData\", \"Close(\"&$D$12&\") when LocalYear(\"&$D$12&\")=\"&$D$7&\" and localMonth(\"&$D$12&\") =\"&$E$7&\" and LocalDay(\"&$D$12&\")=\"&$F$7&\" and Barix(\"&$D$12&\",reference:=StartOfSession)=\"&A6&\"\", \"Bar\", \"\", \"Close\",\"5\",\"0\",\"PrimaryOnly\",,,\"False\",\"T\",\"EveryTick\")","v":2.8849999999999998},-1.5358361774744153E-2,{"$f":"RTD(\"cqg.rtd\",,\"StudyData\", \"Close(\"&$D$12&\") when LocalYear(\"&$D$12&\")=\"&$D$8&\" and localMonth(\"&$D$12&\") =\"&$E$8&\" and LocalDay(\"&$D$12&\")=\"&$F$8&\" and Barix(\"&$D$12&\",reference:=StartOfSession)=\"&A6&\"\", \"Bar\", \"\", \"Close\",\"5\",\"0\",\"PrimaryOnly\",,,\"False\",\"T\",\"EveryTick\")","v":2.9489999999999998},1.8301104972375668E-2,{"$f":"RTD(\"cqg.rtd\",,\"StudyData\", \"Close(\"&$D$12&\") when LocalYear(\"&$D$12&\")=\"&$D$9&\" and localMonth(\"&$D$12&\") =\"&$E$9&\" and LocalDay(\"&$D$12&\")=\"&$F$9&\" and Barix(\"&$D$12&\",reference:=StartOfSession)=\"&A6&\"\", \"Bar\", \"\", \"Close\",\"5\",\"0\",\"PrimaryOnly\",,,\"False\",\"T\",\"EveryTick\")","v":2.899},3.1141868512110367E-3,{"$f":"RTD(\"cqg.rtd\",,\"StudyData\", \"Close(\"&$D$12&\") when LocalYear(\"&$D$12&\")=\"&$D$10&\" and localMonth(\"&$D$12&\") =\"&$E$10&\" and LocalDay(\"&$D$12&\")=\"&$F$10&\" and Barix(\"&$D$12&\",reference:=StartOfSession)=\"&A6&\"\", \"Bar\", \"\", \"Close\",\"5\",\"0\",\"PrimaryOnly\",,,\"False\",\"T\",\"EveryTick\")","v":2.883},-1.6040955631399369E-2,{"$f":"RANK(AD6,$AD$1:$AD$10)+COUNTIF($AD$1:AD6,AD6)-1","v":1},"2018-06-11",{"$f":"VLOOKUP(MAX(AE2:AE81),A1:S81,19,FALSE)","v":2.2145328719723203E-2},"",6,"2018-06-14",-3.3749578130269652E-4,null,null,"2018-06-14","2018-06-11",5,2]
[6,"08:30:00","2018-06-08",2018,6,8,{"$f":"RTD(\"cqg.rtd\",,\"StudyData\", \"Close(\"&$D$12&\") when LocalYear(\"&$D$12&\")=\"&D7&\" and localMonth(\"&$D$12&\") =\"&E7&\" and LocalDay(\"&$D$12&\")=\"&F7&\" and Barix(\"&$D$12&\",reference:=StartOfSession)=65\", \"Bar\", \"\", \"Close\",\"5\",\"0\",\"PrimaryOnly\",,,\"False\",\"T\",\"EveryTick\")","v":2.89},{"$f":"RTD(\"cqg.rtd\",,\"StudyData\", \"Close(\"&$D$12&\") when LocalYear(\"&$D$12&\")=\"&$D$1&\" and localMonth(\"&$D$12&\") =\"&$E$1&\" and LocalDay(\"&$D$12&\")=\"&$F$1&\" and Barix(\"&$D$12&\",reference:=StartOfSession)=\"&A7&\"\", \"Bar\", \"\", \"Close\",\"5\",\"0\",\"PrimaryOnly\",,,\"False\",\"T\",\"EveryTick\")","v":2.9870000000000001},-1.1581733951025712E-2,{"$f":"RTD(\"cqg.rtd\",,\"StudyData\", \"Close(\"&$D$12&\") when LocalYear(\"&$D$12&\")=\"&$D$2&\" and localMonth(\"&$D$12&\") =\"&$E$2&\" and LocalDay(\"&$D$12&\")=\"&$F$2&\" and Barix(\"&$D$12&\",reference:=StartOfSession)=\"&A7&\"\", \"Bar\", \"\", \"Close\",\"5\",\"0\",\"PrimaryOnly\",,,\"False\",\"T\",\"EveryTick\")","v":3.0019999999999998},1.2478920741989856E-2,{"$f":"RTD(\"cqg.rtd\",,\"StudyData\", \"Close(\"&$D$12&\") when LocalYear(\"&$D$12&\")=\"&$D$3&\" and localMonth(\"&$D$12&\") =\"&$E$3&\" and LocalDay(\"&$D$12&\")=\"&$F$3&\" and Barix(\"&$D$12&\",reference:=StartOfSession)=\"&A7&\"\", \"Bar\", \"\", \"Close\",\"5\",\"0\",\"PrimaryOnly\",,,\"False\",\"T\",\"EveryTick\")","v":2.9620000000000002},-3.3749578130269652E-4,{"$f":"RTD(\"cqg.rtd\",,\"StudyData\", \"Close(\"&$D$12&\") when LocalYear(\"&$D$12&\")=\"&$D$4&\" and localMonth(\"&$D$12&\") =\"&$E$4&\" and LocalDay(\"&$D$12&\")=\"&$F$4&\" and Barix(\"&$D$12&\",reference:=StartOfSession)=\"&A7&\"\", \"Bar\", \"\", \"Close\",\"5\",\"0\",\"PrimaryOnly\",,,\"False\",\"T\",\"EveryTick\")","v":2.9580000000000002},6.4647839401157292E-3,{"$f":"RTD(\"cqg.rtd\",,\"StudyData\", \"Close(\"&$D$12&\") when LocalYear(\"&$D$12&\")=\"&$D$5&\" and localMonth(\"&$D$12&\") =\"&$E$5&\" and LocalDay(\"&$D$12&\")=\"&$F$5&\" and Barix(\"&$D$12&\",reference:=StartOfSession)=\"&A7&\"\", \"Bar\", \"\", \"Close\",\"5\",\"0\",\"PrimaryOnly\",,,\"False\",\"T\",\"EveryTick\")","v":2.9380000000000002},-3.7300779925397345E-3,{"$f":"RTD(\"cqg.rtd\",,\"StudyData\", \"Close(\"&$D$12&\") when LocalYear(\"&$D$12&\")=\"&$D$6&\" and localMonth(\"&$D$12&\") =\"&$E$6&\" and LocalDay(\"&$D$12&\")=\"&$F$6&\" and Barix(\"&$D$12&\",reference:=StartOfSession)=\"&A7&\"\", \"Bar\", \"\", \"Close\",\"5\",\"0\",\"PrimaryOnly\",,,\"False\",\"T\",\"EveryTick\")","v":2.9540000000000002},2.2145328719723203E-2,{"$f":"RTD(\"cqg.rtd\",,\"StudyData\", \"Close(\"&$D$12&\") when LocalYear(\"&$D$12&\")=\"&$D$7&\" and localMonth(\"&$D$12&\") =\"&$E$7&\" and LocalDay(\"&$D$12&\")=\"&$F$7&\" and Barix(\"&$D$12&\",reference:=StartOfSession)=\"&A7&\"\", \"Bar\", \"\", \"Close\",\"5\",\"0\",\"PrimaryOnly\",,,\"False\",\"T\",\"EveryTick\")","v":2.8839999999999999},-1.5699658703071762E-2,{"$f":"RTD(\"cqg.rtd\",,\"StudyData\", \"Close(\"&$D$12&\") when LocalYear(\"&$D$12&\")=\"&$D$8&\" and localMonth(\"&$D$12&\") =\"&$E$8&\" and LocalDay(\"&$D$12&\")=\"&$F$8&\" and Barix(\"&$D$12&\",reference:=StartOfSession)=\"&A7&\"\", \"Bar\", \"\", \"Close\",\"5\",\"0\",\"PrimaryOnly\",,,\"False\",\"T\",\"EveryTick\")","v":2.96},2.2099447513812175E-2,{"$f":"RTD(\"cqg.rtd\",,\"StudyData\", \"Close(\"&$D$12&\") when LocalYear(\"&$D$12&\")=\"&$D$9&\" and localMonth(\"&$D$12&\") =\"&$E$9&\" and LocalDay(\"&$D$12&\")=\"&$F$9&\" and Barix(\"&$D$12&\",reference:=StartOfSession)=\"&A7&\"\", \"Bar\", \"\", \"Close\",\"5\",\"0\",\"PrimaryOnly\",,,\"False\",\"T\",\"EveryTick\")","v":2.9020000000000001},4.1522491349481007E-3,{"$f":"RTD(\"cqg.rtd\",,\"StudyData\", \"Close(\"&$D$12&\") when LocalYear(\"&$D$12&\")=\"&$D$10&\" and localMonth(\"&$D$12&\") =\"&$E$10&\" and LocalDay(\"&$D$12&\")=\"&$F$10&\" and Barix(\"&$D$12&\",reference:=StartOfSession)=\"&A7&\"\", \"Bar\", \"\", \"Close\",\"5\",\"0\",\"PrimaryOnly\",,,\"False\",\"T\",\"EveryTick\")","v":2.887},-1.4675767918088787E-2,{"$f":"RANK(AD7,$AD$1:$AD$10)+COUNTIF($AD$1:AD7,AD7)-1","v":10},"2018-06-08",{"$f":"VLOOKUP(MAX(AE2:AE81),A1:U81,21,FALSE)","v":-1.5699658703071762E-2},6,7,"2018-06-12",-3.7300779925397345E-3,null,null,"2018-06-12","2018-06-08",6,4]
[7,"08:35:00","2018-06-07",2018,6,7,{"$f":"RTD(\"cqg.rtd\",,\"StudyData\", \"Close(\"&$D$12&\") when LocalYear(\"&$D$12&\")=\"&D8&\" and localMonth(\"&$D$12&\") =\"&E8&\" and LocalDay(\"&$D$12&\")=\"&F8&\" and Barix(\"&$D$12&\",reference:=StartOfSession)=65\", \"Bar\", \"\", \"Close\",\"5\",\"0\",\"PrimaryOnly\",,,\"False\",\"T\",\"EveryTick\")","v":2.93},{"$f":"RTD(\"cqg.rtd\",,\"StudyData\", \"Close(\"&$D$12&\") when LocalYear(\"&$D$12&\")=\"&$D$1&\" and localMonth(\"&$D$12&\") =\"&$E$1&\" and LocalDay(\"&$D$12&\")=\"&$F$1&\" and Barix(\"&$D$12&\",reference:=StartOfSession)=\"&A8&\"\", \"Bar\", \"\", \"Close\",\"5\",\"0\",\"PrimaryOnly\",,,\"False\",\"T\",\"EveryTick\")","v":""},{"$error":"#N/A"},{"$f":"RTD(\"cqg.rtd\",,\"StudyData\", \"Close(\"&$D$12&\") when LocalYear(\"&$D$12&\")=\"&$D$2&\" and localMonth(\"&$D$12&\") =\"&$E$2&\" and LocalDay(\"&$D$12&\")=\"&$F$2&\" and Barix(\"&$D$12&\",reference:=StartOfSession)=\"&A8&\"\", \"Bar\", \"\", \"Close\",\"5\",\"0\",\"PrimaryOnly\",,,\"False\",\"T\",\"EveryTick\")","v":3.0049999999999999},1.3490725126475561E-2,{"$f":"RTD(\"cqg.rtd\",,\"StudyData\", \"Close(\"&$D$12&\") when LocalYear(\"&$D$12&\")=\"&$D$3&\" and localMonth(\"&$D$12&\") =\"&$E$3&\" and LocalDay(\"&$D$12&\")=\"&$F$3&\" and Barix(\"&$D$12&\",reference:=StartOfSession)=\"&A8&\"\", \"Bar\", \"\", \"Close\",\"5\",\"0\",\"PrimaryOnly\",,,\"False\",\"T\",\"EveryTick\")","v":2.96},-1.0124873439082394E-3,{"$f":"RTD(\"cqg.rtd\",,\"StudyData\", \"Close(\"&$D$12&\") when LocalYear(\"&$D$12&\")=\"&$D$4&\" and localMonth(\"&$D$12&\") =\"&$E$4&\" and LocalDay(\"&$D$12&\")=\"&$F$4&\" and Barix(\"&$D$12&\",reference:=StartOfSession)=\"&A8&\"\", \"Bar\", \"\", \"Close\",\"5\",\"0\",\"PrimaryOnly\",,,\"False\",\"T\",\"EveryTick\")","v":2.9649999999999999},8.8465464443687643E-3,{"$f":"RTD(\"cqg.rtd\",,\"StudyData\", \"Close(\"&$D$12&\") when LocalYear(\"&$D$12&\")=\"&$D$5&\" and localMonth(\"&$D$12&\") =\"&$E$5&\" and LocalDay(\"&$D$12&\")=\"&$F$5&\" and Barix(\"&$D$12&\",reference:=StartOfSession)=\"&A8&\"\", \"Bar\", \"\", \"Close\",\"5\",\"0\",\"PrimaryOnly\",,,\"False\",\"T\",\"EveryTick\")","v":2.9449999999999998},-1.3563919972872172E-3,{"$f":"RTD(\"cqg.rtd\",,\"StudyData\", \"Close(\"&$D$12&\") when LocalYear(\"&$D$12&\")=\"&$D$6&\" and localMonth(\"&$D$12&\") =\"&$E$6&\" and LocalDay(\"&$D$12&\")=\"&$F$6&\" and Barix(\"&$D$12&\",reference:=StartOfSession)=\"&A8&\"\", \"Bar\", \"\", \"Close\",\"5\",\"0\",\"PrimaryOnly\",,,\"False\",\"T\",\"EveryTick\")","v":2.9489999999999998},2.0415224913494713E-2,{"$f":"RTD(\"cqg.rtd\",,\"StudyData\", \"Close(\"&$D$12&\") when LocalYear(\"&$D$12&\")=\"&$D$7&\" and localMonth(\"&$D$12&\") =\"&$E$7&\" and LocalDay(\"&$D$12&\")=\"&$F$7&\" and Barix(\"&$D$12&\",reference:=StartOfSession)=\"&A8&\"\", \"Bar\", \"\", \"Close\",\"5\",\"0\",\"PrimaryOnly\",,,\"False\",\"T\",\"EveryTick\")","v":2.8889999999999998},-1.3993174061433572E-2,{"$f":"RTD(\"cqg.rtd\",,\"StudyData\", \"Close(\"&$D$12&\") when LocalYear(\"&$D$12&\")=\"&$D$8&\" and localMonth(\"&$D$12&\") =\"&$E$8&\" and LocalDay(\"&$D$12&\")=\"&$F$8&\" and Barix(\"&$D$12&\",reference:=StartOfSession)=\"&A8&\"\", \"Bar\", \"\", \"Close\",\"5\",\"0\",\"PrimaryOnly\",,,\"False\",\"T\",\"EveryTick\")","v":2.9580000000000002},2.1408839779005623E-2,{"$f":"RTD(\"cqg.rtd\",,\"StudyData\", \"Close(\"&$D$12&\") when LocalYear(\"&$D$12&\")=\"&$D$9&\" and localMonth(\"&$D$12&\") =\"&$E$9&\" and LocalDay(\"&$D$12&\")=\"&$F$9&\" and Barix(\"&$D$12&\",reference:=StartOfSession)=\"&A8&\"\", \"Bar\", \"\", \"Close\",\"5\",\"0\",\"PrimaryOnly\",,,\"False\",\"T\",\"EveryTick\")","v":2.8919999999999999},6.9204152249127324E-4,{"$f":"RTD(\"cqg.rtd\",,\"StudyData\", \"Close(\"&$D$12&\") when LocalYear(\"&$D$12&\")=\"&$D$10&\" and localMonth(\"&$D$12&\") =\"&$E$10&\" and LocalDay(\"&$D$12&\")=\"&$F$10&\" and Barix(\"&$D$12&\",reference:=StartOfSession)=\"&A8&\"\", \"Bar\", \"\", \"Close\",\"5\",\"0\",\"PrimaryOnly\",,,\"False\",\"T\",\"EveryTick\")","v":2.8849999999999998},-1.5358361774744153E-2,{"$f":"RANK(AD8,$AD$1:$AD$10)+COUNTIF($AD$1:AD8,AD8)-1","v":2},"2018-06-07",{"$f":"VLOOKUP(MAX(AE2:AE81),A1:W81,23,FALSE)","v":2.2099447513812175E-2},"",8,"2018-06-18",-1.1581733951025712E-2,null,null,"2018-06-18","2018-06-07",7,0]
[8,"08:40:00","2018-06-06",2018,6,6,{"$f":"RTD(\"cqg.rtd\",,\"StudyData\", \"Close(\"&$D$12&\") when LocalYear(\"&$D$12&\")=\"&D9&\" and localMonth(\"&$D$12&\") =\"&E9&\" and LocalDay(\"&$D$12&\")=\"&F9&\" and Barix(\"&$D$12&\",reference:=StartOfSession)=65\", \"Bar\", \"\", \"Close\",\"5\",\"0\",\"PrimaryOnly\",,,\"False\",\"T\",\"EveryTick\")","v":2.8959999999999999},{"$f":"RTD(\"cqg.rtd\",,\"StudyData\", \"Close(\"&$D$12&\") when LocalYear(\"&$D$12&\")=\"&$D$1&\" and localMonth(\"&$D$12&\") =\"&$E$1&\" and LocalDay(\"&$D$12&\")=\"&$F$1&\" and Barix(\"&$D$12&\",reference:=StartOfSession)=\"&A9&\"\", \"Bar\", \"\", \"Close\",\"5\",\"0\",\"PrimaryOnly\",,,\"False\",\"T\",\"EveryTick\")","v":""},{"$error":"#N/A"},{"$f":"RTD(\"cqg.rtd\",,\"StudyData\", \"Close(\"&$D$12&\") when LocalYear(\"&$D$12&\")=\"&$D$2&\" and localMonth(\"&$D$12&\") =\"&$E$2&\" and LocalDay(\"&$D$12&\")=\"&$F$2&\" and Barix(\"&$D$12&\",reference:=StartOfSession)=\"&A9&\"\", \"Bar\", \"\", \"Close\",\"5\",\"0\",\"PrimaryOnly\",,,\"False\",\"T\",\"EveryTick\")","v":3.0059999999999998},1.3827993254637412E-2,{"$f":"RTD(\"cqg.rtd\",,\"StudyData\", \"Close(\"&$D$12&\") when LocalYear(\"&$D$12&\")=\"&$D$3&\" and localMonth(\"&$D$12&\") =\"&$E$3&\" and LocalDay(\"&$D$12&\")=\"&$F$3&\" and Barix(\"&$D$12&\",reference:=StartOfSession)=\"&A9&\"\", \"Bar\", \"\", \"Close\",\"5\",\"0\",\"PrimaryOnly\",,,\"False\",\"T\",\"EveryTick\")","v":2.9609999999999999},-6.7499156260554299E-4,{"$f":"RTD(\"cqg.rtd\",,\"StudyData\", \"Close(\"&$D$12&\") when LocalYear(\"&$D$12&\")=\"&$D$4&\" and localMonth(\"&$D$12&\") =\"&$E$4&\" and LocalDay(\"&$D$12&\")=\"&$F$4&\" and Barix(\"&$D$12&\",reference:=StartOfSession)=\"&A9&\"\", \"Bar\", \"\", \"Close\",\"5\",\"0\",\"PrimaryOnly\",,,\"False\",\"T\",\"EveryTick\")","v":2.9740000000000002},1.1908812521265785E-2,{"$f":"RTD(\"cqg.rtd\",,\"StudyData\", \"Close(\"&$D$12&\") when LocalYear(\"&$D$12&\")=\"&$D$5&\" and localMonth(\"&$D$12&\") =\"&$E$5&\" and LocalDay(\"&$D$12&\")=\"&$F$5&\" and Barix(\"&$D$12&\",reference:=StartOfSession)=\"&A9&\"\", \"Bar\", \"\", \"Close\",\"5\",\"0\",\"PrimaryOnly\",,,\"False\",\"T\",\"EveryTick\")","v":2.9430000000000001},-2.0345879959307507E-3,{"$f":"RTD(\"cqg.rtd\",,\"StudyData\", \"Close(\"&$D$12&\") when LocalYear(\"&$D$12&\")=\"&$D$6&\" and localMonth(\"&$D$12&\") =\"&$E$6&\" and LocalDay(\"&$D$12&\")=\"&$F$6&\" and Barix(\"&$D$12&\",reference:=StartOfSession)=\"&A9&\"\", \"Bar\", \"\", \"Close\",\"5\",\"0\",\"PrimaryOnly\",,,\"False\",\"T\",\"EveryTick\")","v":2.9369999999999998},1.6262975778546612E-2,{"$f":"RTD(\"cqg.rtd\",,\"StudyData\", \"Close(\"&$D$12&\") when LocalYear(\"&$D$12&\")=\"&$D$7&\" and localMonth(\"&$D$12&\") =\"&$E$7&\" and LocalDay(\"&$D$12&\")=\"&$F$7&\" and Barix(\"&$D$12&\",reference:=StartOfSession)=\"&A9&\"\", \"Bar\", \"\", \"Close\",\"5\",\"0\",\"PrimaryOnly\",,,\"False\",\"T\",\"EveryTick\")","v":2.887},-1.4675767918088787E-2,{"$f":"RTD(\"cqg.rtd\",,\"StudyData\", \"Close(\"&$D$12&\") when LocalYear(\"&$D$12&\")=\"&$D$8&\" and localMonth(\"&$D$12&\") =\"&$E$8&\" and LocalDay(\"&$D$12&\")=\"&$F$8&\" and Barix(\"&$D$12&\",reference:=StartOfSession)=\"&A9&\"\", \"Bar\", \"\", \"Close\",\"5\",\"0\",\"PrimaryOnly\",,,\"False\",\"T\",\"EveryTick\")","v":2.96},2.2099447513812175E-2,{"$f":"RTD(\"cqg.rtd\",,\"StudyData\", \"Close(\"&$D$12&\") when LocalYear(\"&$D$12&\")=\"&$D$9&\" and localMonth(\"&$D$12&\") =\"&$E$9&\" and LocalDay(\"&$D$12&\")=\"&$F$9&\" and Barix(\"&$D$12&\",reference:=StartOfSession)=\"&A9&\"\", \"Bar\", \"\", \"Close\",\"5\",\"0\",\"PrimaryOnly\",,,\"False\",\"T\",\"EveryTick\")","v":2.89},0,{"$f":"RTD(\"cqg.rtd\",,\"StudyData\", \"Close(\"&$D$12&\") when LocalYear(\"&$D$12&\")=\"&$D$10&\" and localMonth(\"&$D$12&\") =\"&$E$10&\" and LocalDay(\"&$D$12&\")=\"&$F$10&\" and Barix(\"&$D$12&\",reference:=StartOfSession)=\"&A9&\"\", \"Bar\", \"\", \"Close\",\"5\",\"0\",\"PrimaryOnly\",,,\"False\",\"T\",\"EveryTick\")","v":2.8889999999999998},-1.3993174061433572E-2,{"$f":"RANK(AD9,$AD$1:$AD$10)+COUNTIF($AD$1:AD9,AD9)-1","v":5},"2018-06-06",{"$f":"VLOOKUP(MAX(AE2:AE81),A1:Y81,25,FALSE)","v":4.1522491349481007E-3},"",9,"2018-06-05",-1.4675767918088787E-2,null,null,"2018-06-05","2018-06-06",8,9]
[9,"08:45:00","2018-06-05",2018,6,5,{"$f":"RTD(\"cqg.rtd\",,\"StudyData\", \"Close(\"&$D$12&\") when LocalYear(\"&$D$12&\")=\"&D10&\" and localMonth(\"&$D$12&\") =\"&E10&\" and LocalDay(\"&$D$12&\")=\"&F10&\" and Barix(\"&$D$12&\",reference:=StartOfSession)=65\", \"Bar\", \"\", \"Close\",\"5\",\"0\",\"PrimaryOnly\",,,\"False\",\"T\",\"EveryTick\")","v":2.89},{"$f":"RTD(\"cqg.rtd\",,\"StudyData\", \"Close(\"&$D$12&\") when LocalYear(\"&$D$12&\")=\"&$D$1&\" and localMonth(\"&$D$12&\") =\"&$E$1&\" and LocalDay(\"&$D$12&\")=\"&$F$1&\" and Barix(\"&$D$12&\",reference:=StartOfSession)=\"&A10&\"\", \"Bar\", \"\", \"Close\",\"5\",\"0\",\"PrimaryOnly\",,,\"False\",\"T\",\"EveryTick\")","v":""},{"$error":"#N/A"},{"$f":"RTD(\"cqg.rtd\",,\"StudyData\", \"Close(\"&$D$12&\") when LocalYear(\"&$D$12&\")=\"&$D$2&\" and localMonth(\"&$D$12&\") =\"&$E$2&\" and LocalDay(\"&$D$12&\")=\"&$F$2&\" and Barix(\"&$D$12&\",reference:=StartOfSession)=\"&A10&\"\", \"Bar\", \"\", \"Close\",\"5\",\"0\",\"PrimaryOnly\",,,\"False\",\"T\",\"EveryTick\")","v":3.0059999999999998},1.3827993254637412E-2,{"$f":"RTD(\"cqg.rtd\",,\"StudyData\", \"Close(\"&$D$12&\") when LocalYear(\"&$D$12&\")=\"&$D$3&\" and localMonth(\"&$D$12&\") =\"&$E$3&\" and LocalDay(\"&$D$12&\")=\"&$F$3&\" and Barix(\"&$D$12&\",reference:=StartOfSession)=\"&A10&\"\", \"Bar\", \"\", \"Close\",\"5\",\"0\",\"PrimaryOnly\",,,\"False\",\"T\",\"EveryTick\")","v":2.9620000000000002},-3.3749578130269652E-4,{"$f":"RTD(\"cqg.rtd\",,\"StudyData\", \"Close(\"&$D$12&\") when LocalYear(\"&$D$12&\")=\"&$D$4&\" and localMonth(\"&$D$12&\") =\"&$E$4&\" and LocalDay(\"&$D$12&\")=\"&$F$4&\" and Barix(\"&$D$12&\",reference:=StartOfSession)=\"&A10&\"\", \"Bar\", \"\", \"Close\",\"5\",\"0\",\"PrimaryOnly\",,,\"False\",\"T\",\"EveryTick\")","v":2.9740000000000002},1.1908812521265785E-2,{"$f":"RTD(\"cqg.rtd\",,\"StudyData\", \"Close(\"&$D$12&\") when LocalYear(\"&$D$12&\")=\"&$D$5&\" and localMonth(\"&$D$12&\") =\"&$E$5&\" and LocalDay(\"&$D$12&\")=\"&$F$5&\" and Barix(\"&$D$12&\",reference:=StartOfSession)=\"&A10&\"\", \"Bar\", \"\", \"Close\",\"5\",\"0\",\"PrimaryOnly\",,,\"False\",\"T\",\"EveryTick\")","v":2.9449999999999998},-1.3563919972872172E-3,{"$f":"RTD(\"cqg.rtd\",,\"StudyData\", \"Close(\"&$D$12&\") when LocalYear(\"&$D$12&\")=\"&$D$6&\" and localMonth(\"&$D$12&\") =\"&$E$6&\" and LocalDay(\"&$D$12&\")=\"&$F$6&\" and Barix(\"&$D$12&\",reference:=StartOfSession)=\"&A10&\"\", \"Bar\", \"\", \"Close\",\"5\",\"0\",\"PrimaryOnly\",,,\"False\",\"T\",\"EveryTick\")","v":2.9409999999999998},1.7647058823529311E-2,{"$f":"RTD(\"cqg.rtd\",,\"StudyData\", \"Close(\"&$D$12&\") when LocalYear(\"&$D$12&\")=\"&$D$7&\" and localMonth(\"&$D$12&\") =\"&$E$7&\" and LocalDay(\"&$D$12&\")=\"&$F$7&\" and Barix(\"&$D$12&\",reference:=StartOfSession)=\"&A10&\"\", \"Bar\", \"\", \"Close\",\"5\",\"0\",\"PrimaryOnly\",,,\"False\",\"T\",\"EveryTick\")","v":2.8860000000000001},-1.5017064846416395E-2,{"$f":"RTD(\"cqg.rtd\",,\"StudyData\", \"Close(\"&$D$12&\") when LocalYear(\"&$D$12&\")=\"&$D$8&\" and localMonth(\"&$D$12&\") =\"&$E$8&\" and LocalDay(\"&$D$12&\")=\"&$F$8&\" and Barix(\"&$D$12&\",reference:=StartOfSession)=\"&A10&\"\", \"Bar\", \"\", \"Close\",\"5\",\"0\",\"PrimaryOnly\",,,\"False\",\"T\",\"EveryTick\")","v":2.9590000000000001},2.1754143646408899E-2,{"$f":"RTD(\"cqg.rtd\",,\"StudyData\", \"Close(\"&$D$12&\") when LocalYear(\"&$D$12&\")=\"&$D$9&\" and localMonth(\"&$D$12&\") =\"&$E$9&\" and LocalDay(\"&$D$12&\")=\"&$F$9&\" and Barix(\"&$D$12&\",reference:=StartOfSession)=\"&A10&\"\", \"Bar\", \"\", \"Close\",\"5\",\"0\",\"PrimaryOnly\",,,\"False\",\"T\",\"EveryTick\")","v":2.8860000000000001},-1.3840830449827002E-3,{"$f":"RTD(\"cqg.rtd\",,\"StudyData\", \"Close(\"&$D$12&\") when LocalYear(\"&$D$12&\")=\"&$D$10&\" and localMonth(\"&$D$12&\") =\"&$E$10&\" and LocalDay(\"&$D$12&\")=\"&$F$10&\" and Barix(\"&$D$12&\",reference:=StartOfSession)=\"&A10&\"\", \"Bar\", \"\", \"Close\",\"5\",\"0\",\"PrimaryOnly\",,,\"False\",\"T\",\"EveryTick\")","v":2.8879999999999999},-1.4334470989761179E-2,{"$f":"RANK(AD10,$AD$1:$AD$10)+COUNTIF($AD$1:AD10,AD10)-1","v":9},"2018-06-05",{"$f":"VLOOKUP(MAX(AE2:AE81),A1:AA81,27,FALSE)","v":-1.4675767918088787E-2},{"$f":"IF(AND(H9<>\"\",H10<>\"\",H11=\"\"),A10,\"\")","v":""},10,"2018-06-08",-1.5699658703071762E-2,null,null,"2018-06-08","2018-06-05",9,6]
[10,"08:50:00","2018-06-04",2018,6,4,{"$f":"RTD(\"cqg.rtd\",,\"StudyData\", \"Close(\"&$D$12&\") when LocalYear(\"&$D$12&\")=\"&D11&\" and localMonth(\"&$D$12&\") =\"&E11&\" and LocalDay(\"&$D$12&\")=\"&F11&\" and Barix(\"&$D$12&\",reference:=StartOfSession)=65\", \"Bar\", \"\", \"Close\",\"5\",\"0\",\"PrimaryOnly\",,,\"False\",\"T\",\"EveryTick\")","v":2.93},{"$f":"RTD(\"cqg.rtd\",,\"StudyData\", \"Close(\"&$D$12&\") when LocalYear(\"&$D$12&\")=\"&$D$1&\" and localMonth(\"&$D$12&\") =\"&$E$1&\" and LocalDay(\"&$D$12&\")=\"&$F$1&\" and Barix(\"&$D$12&\",reference:=StartOfSession)=\"&A11&\"\", \"Bar\", \"\", \"Close\",\"5\",\"0\",\"PrimaryOnly\",,,\"False\",\"T\",\"EveryTick\")","v":""},{"$error":"#N/A"},{"$f":"RTD(\"cqg.rtd\",,\"StudyData\", \"Close(\"&$D$12&\") when LocalYear(\"&$D$12&\")=\"&$D$2&\" and localMonth(\"&$D$12&\") =\"&$E$2&\" and LocalDay(\"&$D$12&\")=\"&$F$2&\" and Barix(\"&$D$12&\",reference:=StartOfSession)=\"&A11&\"\", \"Bar\", \"\", \"Close\",\"5\",\"0\",\"PrimaryOnly\",,,\"False\",\"T\",\"EveryTick\")","v":3.0089999999999999},1.4839797639123117E-2,{"$f":"RTD(\"cqg.rtd\",,\"StudyData\", \"Close(\"&$D$12&\") when LocalYear(\"&$D$12&\")=\"&$D$3&\" and localMonth(\"&$D$12&\") =\"&$E$3&\" and LocalDay(\"&$D$12&\")=\"&$F$3&\" and Barix(\"&$D$12&\",reference:=StartOfSession)=\"&A11&\"\", \"Bar\", \"\", \"Close\",\"5\",\"0\",\"PrimaryOnly\",,,\"False\",\"T\",\"EveryTick\")","v":2.9649999999999999},6.7499156260539305E-4,{"$f":"RTD(\"cqg.rtd\",,\"StudyData\", \"Close(\"&$D$12&\") when LocalYear(\"&$D$12&\")=\"&$D$4&\" and localMonth(\"&$D$12&\") =\"&$E$4&\" and LocalDay(\"&$D$12&\")=\"&$F$4&\" and Barix(\"&$D$12&\",reference:=StartOfSession)=\"&A11&\"\", \"Bar\", \"\", \"Close\",\"5\",\"0\",\"PrimaryOnly\",,,\"False\",\"T\",\"EveryTick\")","v":2.9689999999999999},1.020755358965628E-2,{"$f":"RTD(\"cqg.rtd\",,\"StudyData\", \"Close(\"&$D$12&\") when LocalYear(\"&$D$12&\")=\"&$D$5&\" and localMonth(\"&$D$12&\") =\"&$E$5&\" and LocalDay(\"&$D$12&\")=\"&$F$5&\" and Barix(\"&$D$12&\",reference:=StartOfSession)=\"&A11&\"\", \"Bar\", \"\", \"Close\",\"5\",\"0\",\"PrimaryOnly\",,,\"False\",\"T\",\"EveryTick\")","v":2.94},-3.0518819938962012E-3,{"$f":"RTD(\"cqg.rtd\",,\"StudyData\", \"Close(\"&$D$12&\") when LocalYear(\"&$D$12&\")=\"&$D$6&\" and localMonth(\"&$D$12&\") =\"&$E$6&\" and LocalDay(\"&$D$12&\")=\"&$F$6&\" and Barix(\"&$D$12&\",reference:=StartOfSession)=\"&A11&\"\", \"Bar\", \"\", \"Close\",\"5\",\"0\",\"PrimaryOnly\",,,\"False\",\"T\",\"EveryTick\")","v":2.9430000000000001},1.8339100346020737E-2,{"$f":"RTD(\"cqg.rtd\",,\"StudyData\", \"Close(\"&$D$12&\") when LocalYear(\"&$D$12&\")=\"&$D$7&\" and localMonth(\"&$D$12&\") =\"&$E$7&\" and LocalDay(\"&$D$12&\")=\"&$F$7&\" and Barix(\"&$D$12&\",reference:=StartOfSession)=\"&A11&\"\", \"Bar\", \"\", \"Close\",\"5\",\"0\",\"PrimaryOnly\",,,\"False\",\"T\",\"EveryTick\")","v":2.8849999999999998},-1.5358361774744153E-2,{"$f":"RTD(\"cqg.rtd\",,\"StudyData\", \"Close(\"&$D$12&\") when LocalYear(\"&$D$12&\")=\"&$D$8&\" and localMonth(\"&$D$12&\") =\"&$E$8&\" and LocalDay(\"&$D$12&\")=\"&$F$8&\" and Barix(\"&$D$12&\",reference:=StartOfSession)=\"&A11&\"\", \"Bar\", \"\", \"Close\",\"5\",\"0\",\"PrimaryOnly\",,,\"False\",\"T\",\"EveryTick\")","v":2.9540000000000002},2.002762430939236E-2,{"$f":"RTD(\"cqg.rtd\",,\"StudyData\", \"Close(\"&$D$12&\") when LocalYear(\"&$D$12&\")=\"&$D$9&\" and localMonth(\"&$D$12&\") =\"&$E$9&\" and LocalDay(\"&$D$12&\")=\"&$F$9&\" and Barix(\"&$D$12&\",reference:=StartOfSession)=\"&A11&\"\", \"Bar\", \"\", \"Close\",\"5\",\"0\",\"PrimaryOnly\",,,\"False\",\"T\",\"EveryTick\")","v":2.8919999999999999},6.9204152249127324E-4,{"$f":"RTD(\"cqg.rtd\",,\"StudyData\", \"Close(\"&$D$12&\") when LocalYear(\"&$D$12&\")=\"&$D$10&\" and localMonth(\"&$D$12&\") =\"&$E$10&\" and LocalDay(\"&$D$12&\")=\"&$F$10&\" and Barix(\"&$D$12&\",reference:=StartOfSession)=\"&A11&\"\", \"Bar\", \"\", \"Close\",\"5\",\"0\",\"PrimaryOnly\",,,\"False\",\"T\",\"EveryTick\")","v":2.887},-1.4675767918088787E-2,null,null,null,""]
[11,"08:55:00",null,{"$f":"MainDisplay!R5","v":"NGE"},null,null,null,{"$f":"RTD(\"cqg.rtd\",,\"StudyData\", \"Close(\"&$D$12&\") when LocalYear(\"&$D$12&\")=\"&$D$1&\" and localMonth(\"&$D$12&\") =\"&$E$1&\" and LocalDay(\"&$D$12&\")=\"&$F$1&\" and Barix(\"&$D$12&\",reference:=StartOfSession)=\"&A12&\"\", \"Bar\", \"\", \"Close\",\"5\",\"0\",\"PrimaryOnly\",,,\"False\",\"T\",\"EveryTick\")","v":""},{"$error":"#N/A"},{"$f":"RTD(\"cqg.rtd\",,\"StudyData\", \"Close(\"&$D$12&\") when LocalYear(\"&$D$12&\")=\"&$D$2&\" and localMonth(\"&$D$12&\") =\"&$E$2&\" and LocalDay(\"&$D$12&\")=\"&$F$2&\" and Barix(\"&$D$12&\",reference:=StartOfSession)=\"&A12&\"\", \"Bar\", \"\", \"Close\",\"5\",\"0\",\"PrimaryOnly\",,,\"False\",\"T\",\"EveryTick\")","v":3.0070000000000001},1.4165261382799414E-2,{"$f":"RTD(\"cqg.rtd\",,\"StudyData\", \"Close(\"&$D$12&\") when LocalYear(\"&$D$12&\")=\"&$D$3&\" and localMonth(\"&$D$12&\") =\"&$E$3&\" and LocalDay(\"&$D$12&\")=\"&$F$3&\" and Barix(\"&$D$12&\",reference:=StartOfSession)=\"&A12&\"\", \"Bar\", \"\", \"Close\",\"5\",\"0\",\"PrimaryOnly\",,,\"False\",\"T\",\"EveryTick\")","v":2.9609999999999999},-6.7499156260554299E-4,{"$f":"RTD(\"cqg.rtd\",,\"StudyData\", \"Close(\"&$D$12&\") when LocalYear(\"&$D$12&\")=\"&$D$4&\" and localMonth(\"&$D$12&\") =\"&$E$4&\" and LocalDay(\"&$D$12&\")=\"&$F$4&\" and Barix(\"&$D$12&\",reference:=StartOfSession)=\"&A12&\"\", \"Bar\", \"\", \"Close\",\"5\",\"0\",\"PrimaryOnly\",,,\"False\",\"T\",\"EveryTick\")","v":2.9729999999999999},1.1568560734943794E-2,{"$f":"RTD(\"cqg.rtd\",,\"StudyData\", \"Close(\"&$D$12&\") when LocalYear(\"&$D$12&\")=\"&$D$5&\" and localMonth(\"&$D$12&\") =\"&$E$5&\" and LocalDay(\"&$D$12&\")=\"&$F$5&\" and Barix(\"&$D$12&\",reference:=StartOfSession)=\"&A12&\"\", \"Bar\", \"\", \"Close\",\"5\",\"0\",\"PrimaryOnly\",,,\"False\",\"T\",\"EveryTick\")","v":2.9359999999999999},-4.4082739911834182E-3,{"$f":"RTD(\"cqg.rtd\",,\"StudyData\", \"Close(\"&$D$12&\") when LocalYear(\"&$D$12&\")=\"&$D$6&\" and localMonth(\"&$D$12&\") =\"&$E$6&\" and LocalDay(\"&$D$12&\")=\"&$F$6&\" and Barix(\"&$D$12&\",reference:=StartOfSession)=\"&A12&\"\", \"Bar\", \"\", \"Close\",\"5\",\"0\",\"PrimaryOnly\",,,\"False\",\"T\",\"EveryTick\")","v":2.9470000000000001},1.972318339100344E-2,{"$f":"RTD(\"cqg.rtd\",,\"StudyData\", \"Close(\"&$D$12&\") when LocalYear(\"&$D$12&\")=\"&$D$7&\" and localMonth(\"&$D$12&\") =\"&$E$7&\" and LocalDay(\"&$D$12&\")=\"&$F$7&\" and Barix(\"&$D$12&\",reference:=StartOfSession)=\"&A12&\"\", \"Bar\", \"\", \"Close\",\"5\",\"0\",\"PrimaryOnly\",,,\"False\",\"T\",\"EveryTick\")","v":2.8889999999999998},-1.3993174061433572E-2,{"$f":"RTD(\"cqg.rtd\",,\"StudyData\", \"Close(\"&$D$12&\") when LocalYear(\"&$D$12&\")=\"&$D$8&\" and localMonth(\"&$D$12&\") =\"&$E$8&\" and LocalDay(\"&$D$12&\")=\"&$F$8&\" and Barix(\"&$D$12&\",reference:=StartOfSession)=\"&A12&\"\", \"Bar\", \"\", \"Close\",\"5\",\"0\",\"PrimaryOnly\",,,\"False\",\"T\",\"EveryTick\")","v":2.95},1.86464088397791E-2,{"$f":"RTD(\"cqg.rtd\",,\"StudyData\", \"Close(\"&$D$12&\") when LocalYear(\"&$D$12&\")=\"&$D$9&\" and localMonth(\"&$D$12&\") =\"&$E$9&\" and LocalDay(\"&$D$12&\")=\"&$F$9&\" and Barix(\"&$D$12&\",reference:=StartOfSession)=\"&A12&\"\", \"Bar\", \"\", \"Close\",\"5\",\"0\",\"PrimaryOnly\",,,\"False\",\"T\",\"EveryTick\")","v":2.88},-3.4602076124568273E-3,{"$f":"RTD(\"cqg.rtd\",,\"StudyData\", \"Close(\"&$D$12&\") when LocalYear(\"&$D$12&\")=\"&$D$10&\" and localMonth(\"&$D$12&\") =\"&$E$10&\" and LocalDay(\"&$D$12&\")=\"&$F$10&\" and Barix(\"&$D$12&\",reference:=StartOfSession)=\"&A12&\"\", \"Bar\", \"\", \"Close\",\"5\",\"0\",\"PrimaryOnly\",,,\"False\",\"T\",\"EveryTick\")","v":2.887},-1.4675767918088787E-2,null,{"$f":"VLOOKUP(MAX(AE2:AE81),A1:B81,2,FALSE)","v":"08:30:00"},null,""]
[12,"09:00:00",null,{"$f":"RTD(\"cqg.rtd\", ,\"ContractData\",D12, \"LastQuoteToday\",, \"T\")","v":2.9870000000000001},null,null,{"$f":"C1","v":"2018-06-18"},{"$f":"RTD(\"cqg.rtd\",,\"StudyData\", \"Close(\"&$D$12&\") when LocalYear(\"&$D$12&\")=\"&$D$1&\" and localMonth(\"&$D$12&\") =\"&$E$1&\" and LocalDay(\"&$D$12&\")=\"&$F$1&\" and Barix(\"&$D$12&\",reference:=StartOfSession)=\"&A13&\"\", \"Bar\", \"\", \"Close\",\"5\",\"0\",\"PrimaryOnly\",,,\"False\",\"T\",\"EveryTick\")","v":""},{"$error":"#N/A"},{"$f":"RTD(\"cqg.rtd\",,\"StudyData\", \"Close(\"&$D$12&\") when LocalYear(\"&$D$12&\")=\"&$D$2&\" and localMonth(\"&$D$12&\") =\"&$E$2&\" and LocalDay(\"&$D$12&\")=\"&$F$2&\" and Barix(\"&$D$12&\",reference:=StartOfSession)=\"&A13&\"\", \"Bar\", \"\", \"Close\",\"5\",\"0\",\"PrimaryOnly\",,,\"False\",\"T\",\"EveryTick\")","v":3.0190000000000001},1.821247892074208E-2,{"$f":"RTD(\"cqg.rtd\",,\"StudyData\", \"Close(\"&$D$12&\") when LocalYear(\"&$D$12&\")=\"&$D$3&\" and localMonth(\"&$D$12&\") =\"&$E$3&\" and LocalDay(\"&$D$12&\")=\"&$F$3&\" and Barix(\"&$D$12&\",reference:=StartOfSession)=\"&A13&\"\", \"Bar\", \"\", \"Close\",\"5\",\"0\",\"PrimaryOnly\",,,\"False\",\"T\",\"EveryTick\")","v":2.96},-1.0124873439082394E-3,{"$f":"RTD(\"cqg.rtd\",,\"StudyData\", \"Close(\"&$D$12&\") when LocalYear(\"&$D$12&\")=\"&$D$4&\" and localMonth(\"&$D$12&\") =\"&$E$4&\" and LocalDay(\"&$D$12&\")=\"&$F$4&\" and Barix(\"&$D$12&\",reference:=StartOfSession)=\"&A13&\"\", \"Bar\", \"\", \"Close\",\"5\",\"0\",\"PrimaryOnly\",,,\"False\",\"T\",\"EveryTick\")","v":2.972},1.1228308948621953E-2,{"$f":"RTD(\"cqg.rtd\",,\"StudyData\", \"Close(\"&$D$12&\") when LocalYear(\"&$D$12&\")=\"&$D$5&\" and localMonth(\"&$D$12&\") =\"&$E$5&\" and LocalDay(\"&$D$12&\")=\"&$F$5&\" and Barix(\"&$D$12&\",reference:=StartOfSession)=\"&A13&\"\", \"Bar\", \"\", \"Close\",\"5\",\"0\",\"PrimaryOnly\",,,\"False\",\"T\",\"EveryTick\")","v":2.931},-6.1037639877924025E-3,{"$f":"RTD(\"cqg.rtd\",,\"StudyData\", \"Close(\"&$D$12&\") when LocalYear(\"&$D$12&\")=\"&$D$6&\" and localMonth(\"&$D$12&\") =\"&$E$6&\" and LocalDay(\"&$D$12&\")=\"&$F$6&\" and Barix(\"&$D$12&\",reference:=StartOfSession)=\"&A13&\"\", \"Bar\", \"\", \"Close\",\"5\",\"0\",\"PrimaryOnly\",,,\"False\",\"T\",\"EveryTick\")","v":2.9420000000000002},1.7993079584775102E-2,{"$f":"RTD(\"cqg.rtd\",,\"StudyData\", \"Close(\"&$D$12&\") when LocalYear(\"&$D$12&\")=\"&$D$7&\" and localMonth(\"&$D$12&\") =\"&$E$7&\" and LocalDay(\"&$D$12&\")=\"&$F$7&\" and Barix(\"&$D$12&\",reference:=StartOfSession)=\"&A13&\"\", \"Bar\", \"\", \"Close\",\"5\",\"0\",\"PrimaryOnly\",,,\"False\",\"T\",\"EveryTick\")","v":2.8929999999999998},-1.2627986348122991E-2,{"$f":"RTD(\"cqg.rtd\",,\"StudyData\", \"Close(\"&$D$12&\") when LocalYear(\"&$D$12&\")=\"&$D$8&\" and localMonth(\"&$D$12&\") =\"&$E$8&\" and LocalDay(\"&$D$12&\")=\"&$F$8&\" and Barix(\"&$D$12&\",reference:=StartOfSession)=\"&A13&\"\", \"Bar\", \"\", \"Close\",\"5\",\"0\",\"PrimaryOnly\",,,\"False\",\"T\",\"EveryTick\")","v":2.9510000000000001},1.8991712707182376E-2,{"$f":"RTD(\"cqg.rtd\",,\"StudyData\", \"Close(\"&$D$12&\") when LocalYear(\"&$D$12&\")=\"&$D$9&\" and localMonth(\"&$D$12&\") =\"&$E$9&\" and LocalDay(\"&$D$12&\")=\"&$F$9&\" and Barix(\"&$D$12&\",reference:=StartOfSession)=\"&A13&\"\", \"Bar\", \"\", \"Close\",\"5\",\"0\",\"PrimaryOnly\",,,\"False\",\"T\",\"EveryTick\")","v":2.8820000000000001},-2.7681660899654004E-3,{"$f":"RTD(\"cqg.rtd\",,\"StudyData\", \"Close(\"&$D$12&\") when LocalYear(\"&$D$12&\")=\"&$D$10&\" and localMonth(\"&$D$12&\") =\"&$E$10&\" and LocalDay(\"&$D$12&\")=\"&$F$10&\" and Barix(\"&$D$12&\",reference:=StartOfSession)=\"&A13&\"\", \"Bar\", \"\", \"Close\",\"5\",\"0\",\"PrimaryOnly\",,,\"False\",\"T\",\"EveryTick\")","v":2.8839999999999999},-1.5699658703071762E-2,null,null,null,""]
[13,"09:05:00",null,{"$f":"RTD(\"cqg.rtd\", ,\"ContractData\",D12, \"LongDescription\",, \"T\")","v":"Natural Gas (Globex), Jul 18"},null,null,{"$f":"C2","v":"2018-06-15"},{"$f":"RTD(\"cqg.rtd\",,\"StudyData\", \"Close(\"&$D$12&\") when LocalYear(\"&$D$12&\")=\"&$D$1&\" and localMonth(\"&$D$12&\") =\"&$E$1&\" and LocalDay(\"&$D$12&\")=\"&$F$1&\" and Barix(\"&$D$12&\",reference:=StartOfSession)=\"&A14&\"\", \"Bar\", \"\", \"Close\",\"5\",\"0\",\"PrimaryOnly\",,,\"False\",\"T\",\"EveryTick\")","v":""},{"$error":"#N/A"},{"$f":"RTD(\"cqg.rtd\",,\"StudyData\", \"Close(\"&$D$12&\") when LocalYear(\"&$D$12&\")=\"&$D$2&\" and localMonth(\"&$D$12&\") =\"&$E$2&\" and LocalDay(\"&$D$12&\")=\"&$F$2&\" and Barix(\"&$D$12&\",reference:=StartOfSession)=\"&A14&\"\", \"Bar\", \"\", \"Close\",\"5\",\"0\",\"PrimaryOnly\",,,\"False\",\"T\",\"EveryTick\")","v":3.0219999999999998},1.9224283305227637E-2,{"$f":"RTD(\"cqg.rtd\",,\"StudyData\", \"Close(\"&$D$12&\") when LocalYear(\"&$D$12&\")=\"&$D$3&\" and localMonth(\"&$D$12&\") =\"&$E$3&\" and LocalDay(\"&$D$12&\")=\"&$F$3&\" and Barix(\"&$D$12&\",reference:=StartOfSession)=\"&A14&\"\", \"Bar\", \"\", \"Close\",\"5\",\"0\",\"PrimaryOnly\",,,\"False\",\"T\",\"EveryTick\")","v":2.9630000000000001},0,{"$f":"RTD(\"cqg.rtd\",,\"StudyData\", \"Close(\"&$D$12&\") when LocalYear(\"&$D$12&\")=\"&$D$4&\" and localMonth(\"&$D$12&\") =\"&$E$4&\" and LocalDay(\"&$D$12&\")=\"&$F$4&\" and Barix(\"&$D$12&\",reference:=StartOfSession)=\"&A14&\"\", \"Bar\", \"\", \"Close\",\"5\",\"0\",\"PrimaryOnly\",,,\"False\",\"T\",\"EveryTick\")","v":2.972},1.1228308948621953E-2,{"$f":"RTD(\"cqg.rtd\",,\"StudyData\", \"Close(\"&$D$12&\") when LocalYear(\"&$D$12&\")=\"&$D$5&\" and localMonth(\"&$D$12&\") =\"&$E$5&\" and LocalDay(\"&$D$12&\")=\"&$F$5&\" and Barix(\"&$D$12&\",reference:=StartOfSession)=\"&A14&\"\", \"Bar\", \"\", \"Close\",\"5\",\"0\",\"PrimaryOnly\",,,\"False\",\"T\",\"EveryTick\")","v":2.923},-8.8165479823668364E-3,{"$f":"RTD(\"cqg.rtd\",,\"StudyData\", \"Close(\"&$D$12&\") when LocalYear(\"&$D$12&\")=\"&$D$6&\" and localMonth(\"&$D$12&\") =\"&$E$6&\" and LocalDay(\"&$D$12&\")=\"&$F$6&\" and Barix(\"&$D$12&\",reference:=StartOfSession)=\"&A14&\"\", \"Bar\", \"\", \"Close\",\"5\",\"0\",\"PrimaryOnly\",,,\"False\",\"T\",\"EveryTick\")","v":2.9420000000000002},1.7993079584775102E-2,{"$f":"RTD(\"cqg.rtd\",,\"StudyData\", \"Close(\"&$D$12&\") when LocalYear(\"&$D$12&\")=\"&$D$7&\" and localMonth(\"&$D$12&\") =\"&$E$7&\" and LocalDay(\"&$D$12&\")=\"&$F$7&\" and Barix(\"&$D$12&\",reference:=StartOfSession)=\"&A14&\"\", \"Bar\", \"\", \"Close\",\"5\",\"0\",\"PrimaryOnly\",,,\"False\",\"T\",\"EveryTick\")","v":2.8929999999999998},-1.2627986348122991E-2,{"$f":"RTD(\"cqg.rtd\",,\"StudyData\", \"Close(\"&$D$12&\") when LocalYear(\"&$D$12&\")=\"&$D$8&\" and localMonth(\"&$D$12&\") =\"&$E$8&\" and LocalDay(\"&$D$12&\")=\"&$F$8&\" and Barix(\"&$D$12&\",reference:=StartOfSession)=\"&A14&\"\", \"Bar\", \"\", \"Close\",\"5\",\"0\",\"PrimaryOnly\",,,\"False\",\"T\",\"EveryTick\")","v":2.952},1.9337016574585652E-2,{"$f":"RTD(\"cqg.rtd\",,\"StudyData\", \"Close(\"&$D$12&\") when LocalYear(\"&$D$12&\")=\"&$D$9&\" and localMonth(\"&$D$12&\") =\"&$E$9&\" and LocalDay(\"&$D$12&\")=\"&$F$9&\" and Barix(\"&$D$12&\",reference:=StartOfSession)=\"&A14&\"\", \"Bar\", \"\", \"Close\",\"5\",\"0\",\"PrimaryOnly\",,,\"False\",\"T\",\"EveryTick\")","v":2.88},-3.4602076124568273E-3,{"$f":"RTD(\"cqg.rtd\",,\"StudyData\", \"Close(\"&$D$12&\") when LocalYear(\"&$D$12&\")=\"&$D$10&\" and localMonth(\"&$D$12&\") =\"&$E$10&\" and LocalDay(\"&$D$12&\")=\"&$F$10&\" and Barix(\"&$D$12&\",reference:=StartOfSession)=\"&A14&\"\", \"Bar\", \"\", \"Close\",\"5\",\"0\",\"PrimaryOnly\",,,\"False\",\"T\",\"EveryTick\")","v":2.887},-1.4675767918088787E-2,null,null,null,""]
[14,"09:10:00","",null,null,null,"2018-06-14",{"$f":"RTD(\"cqg.rtd\",,\"StudyData\", \"Close(\"&$D$12&\") when LocalYear(\"&$D$12&\")=\"&$D$1&\" and localMonth(\"&$D$12&\") =\"&$E$1&\" and LocalDay(\"&$D$12&\")=\"&$F$1&\" and Barix(\"&$D$12&\",reference:=StartOfSession)=\"&A15&\"\", \"Bar\", \"\", \"Close\",\"5\",\"0\",\"PrimaryOnly\",,,\"False\",\"T\",\"EveryTick\")","v":""},{"$error":"#N/A"},{"$f":"RTD(\"cqg.rtd\",,\"StudyData\", \"Close(\"&$D$12&\") when LocalYear(\"&$D$12&\")=\"&$D$2&\" and localMonth(\"&$D$12&\") =\"&$E$2&\" and LocalDay(\"&$D$12&\")=\"&$F$2&\" and Barix(\"&$D$12&\",reference:=StartOfSession)=\"&A15&\"\", \"Bar\", \"\", \"Close\",\"5\",\"0\",\"PrimaryOnly\",,,\"False\",\"T\",\"EveryTick\")","v":3.0169999999999999},1.753794266441823E-2,{"$f":"RTD(\"cqg.rtd\",,\"StudyData\", \"Close(\"&$D$12&\") when LocalYear(\"&$D$12&\")=\"&$D$3&\" and localMonth(\"&$D$12&\") =\"&$E$3&\" and LocalDay(\"&$D$12&\")=\"&$F$3&\" and Barix(\"&$D$12&\",reference:=StartOfSession)=\"&A15&\"\", \"Bar\", \"\", \"Close\",\"5\",\"0\",\"PrimaryOnly\",,,\"False\",\"T\",\"EveryTick\")","v":2.9630000000000001},0,{"$f":"RTD(\"cqg.rtd\",,\"StudyData\", \"Close(\"&$D$12&\") when LocalYear(\"&$D$12&\")=\"&$D$4&\" and localMonth(\"&$D$12&\") =\"&$E$4&\" and LocalDay(\"&$D$12&\")=\"&$F$4&\" and Barix(\"&$D$12&\",reference:=StartOfSession)=\"&A15&\"\", \"Bar\", \"\", \"Close\",\"5\",\"0\",\"PrimaryOnly\",,,\"False\",\"T\",\"EveryTick\")","v":2.9689999999999999},1.020755358965628E-2,{"$f":"RTD(\"cqg.rtd\",,\"StudyData\", \"Close(\"&$D$12&\") when LocalYear(\"&$D$12&\")=\"&$D$5&\" and localMonth(\"&$D$12&\") =\"&$E$5&\" and LocalDay(\"&$D$12&\")=\"&$F$5&\" and Barix(\"&$D$12&\",reference:=StartOfSession)=\"&A15&\"\", \"Bar\", \"\", \"Close\",\"5\",\"0\",\"PrimaryOnly\",,,\"False\",\"T\",\"EveryTick\")","v":2.9239999999999999},-8.4774499830450704E-3,{"$f":"RTD(\"cqg.rtd\",,\"StudyData\", \"Close(\"&$D$12&\") when LocalYear(\"&$D$12&\")=\"&$D$6&\" and localMonth(\"&$D$12&\") =\"&$E$6&\" and LocalDay(\"&$D$12&\")=\"&$F$6&\" and Barix(\"&$D$12&\",reference:=StartOfSession)=\"&A15&\"\", \"Bar\", \"\", \"Close\",\"5\",\"0\",\"PrimaryOnly\",,,\"False\",\"T\",\"EveryTick\")","v":2.9449999999999998},1.903114186851201E-2,{"$f":"RTD(\"cqg.rtd\",,\"StudyData\", \"Close(\"&$D$12&\") when LocalYear(\"&$D$12&\")=\"&$D$7&\" and localMonth(\"&$D$12&\") =\"&$E$7&\" and LocalDay(\"&$D$12&\")=\"&$F$7&\" and Barix(\"&$D$12&\",reference:=StartOfSession)=\"&A15&\"\", \"Bar\", \"\", \"Close\",\"5\",\"0\",\"PrimaryOnly\",,,\"False\",\"T\",\"EveryTick\")","v":2.8919999999999999},-1.2969283276450598E-2,{"$f":"RTD(\"cqg.rtd\",,\"StudyData\", \"Close(\"&$D$12&\") when LocalYear(\"&$D$12&\")=\"&$D$8&\" and localMonth(\"&$D$12&\") =\"&$E$8&\" and LocalDay(\"&$D$12&\")=\"&$F$8&\" and Barix(\"&$D$12&\",reference:=StartOfSession)=\"&A15&\"\", \"Bar\", \"\", \"Close\",\"5\",\"0\",\"PrimaryOnly\",,,\"False\",\"T\",\"EveryTick\")","v":2.956},2.0718232044198915E-2,{"$f":"RTD(\"cqg.rtd\",,\"StudyData\", \"Close(\"&$D$12&\") when LocalYear(\"&$D$12&\")=\"&$D$9&\" and localMonth(\"&$D$12&\") =\"&$E$9&\" and LocalDay(\"&$D$12&\")=\"&$F$9&\" and Barix(\"&$D$12&\",reference:=StartOfSession)=\"&A15&\"\", \"Bar\", \"\", \"Close\",\"5\",\"0\",\"PrimaryOnly\",,,\"False\",\"T\",\"EveryTick\")","v":2.8809999999999998},-3.1141868512111906E-3,{"$f":"RTD(\"cqg.rtd\",,\"StudyData\", \"Close(\"&$D$12&\") when LocalYear(\"&$D$12&\")=\"&$D$10&\" and localMonth(\"&$D$12&\") =\"&$E$10&\" and LocalDay(\"&$D$12&\")=\"&$F$10&\" and Barix(\"&$D$12&\",reference:=StartOfSession)=\"&A15&\"\", \"Bar\", \"\", \"Close\",\"5\",\"0\",\"PrimaryOnly\",,,\"False\",\"T\",\"EveryTick\")","v":2.8879999999999999},-1.4334470989761179E-2,null,null,null,""]
[15,"09:15:00",null,{"$f":"RTD(\"cqg.rtd\", ,\"ContractData\",D12, \"Ticksize\",, \"T\")","v":1E-3},null,null,"2018-06-13",{"$f":"RTD(\"cqg.rtd\",,\"StudyData\", \"Close(\"&$D$12&\") when LocalYear(\"&$D$12&\")=\"&$D$1&\" and localMonth(\"&$D$12&\") =\"&$E$1&\" and LocalDay(\"&$D$12&\")=\"&$F$1&\" and Barix(\"&$D$12&\",reference:=StartOfSession)=\"&A16&\"\", \"Bar\", \"\", \"Close\",\"5\",\"0\",\"PrimaryOnly\",,,\"False\",\"T\",\"EveryTick\")","v":""},{"$error":"#N/A"},{"$f":"RTD(\"cqg.rtd\",,\"StudyData\", \"Close(\"&$D$12&\") when LocalYear(\"&$D$12&\")=\"&$D$2&\" and localMonth(\"&$D$12&\") =\"&$E$2&\" and LocalDay(\"&$D$12&\")=\"&$F$2&\" and Barix(\"&$D$12&\",reference:=StartOfSession)=\"&A16&\"\", \"Bar\", \"\", \"Close\",\"5\",\"0\",\"PrimaryOnly\",,,\"False\",\"T\",\"EveryTick\")","v":3.0150000000000001},1.6863406408094524E-2,{"$f":"RTD(\"cqg.rtd\",,\"StudyData\", \"Close(\"&$D$12&\") when LocalYear(\"&$D$12&\")=\"&$D$3&\" and localMonth(\"&$D$12&\") =\"&$E$3&\" and LocalDay(\"&$D$12&\")=\"&$F$3&\" and Barix(\"&$D$12&\",reference:=StartOfSession)=\"&A16&\"\", \"Bar\", \"\", \"Close\",\"5\",\"0\",\"PrimaryOnly\",,,\"False\",\"T\",\"EveryTick\")","v":2.964},3.3749578130269652E-4,{"$f":"RTD(\"cqg.rtd\",,\"StudyData\", \"Close(\"&$D$12&\") when LocalYear(\"&$D$12&\")=\"&$D$4&\" and localMonth(\"&$D$12&\") =\"&$E$4&\" and LocalDay(\"&$D$12&\")=\"&$F$4&\" and Barix(\"&$D$12&\",reference:=StartOfSession)=\"&A16&\"\", \"Bar\", \"\", \"Close\",\"5\",\"0\",\"PrimaryOnly\",,,\"False\",\"T\",\"EveryTick\")","v":2.97},1.0547805375978271E-2,{"$f":"RTD(\"cqg.rtd\",,\"StudyData\", \"Close(\"&$D$12&\") when LocalYear(\"&$D$12&\")=\"&$D$5&\" and localMonth(\"&$D$12&\") =\"&$E$5&\" and LocalDay(\"&$D$12&\")=\"&$F$5&\" and Barix(\"&$D$12&\",reference:=StartOfSession)=\"&A16&\"\", \"Bar\", \"\", \"Close\",\"5\",\"0\",\"PrimaryOnly\",,,\"False\",\"T\",\"EveryTick\")","v":2.9209999999999998},-9.494743981010521E-3,{"$f":"RTD(\"cqg.rtd\",,\"StudyData\", \"Close(\"&$D$12&\") when LocalYear(\"&$D$12&\")=\"&$D$6&\" and localMonth(\"&$D$12&\") =\"&$E$6&\" and LocalDay(\"&$D$12&\")=\"&$F$6&\" and Barix(\"&$D$12&\",reference:=StartOfSession)=\"&A16&\"\", \"Bar\", \"\", \"Close\",\"5\",\"0\",\"PrimaryOnly\",,,\"False\",\"T\",\"EveryTick\")","v":2.9420000000000002},1.7993079584775102E-2,{"$f":"RTD(\"cqg.rtd\",,\"StudyData\", \"Close(\"&$D$12&\") when LocalYear(\"&$D$12&\")=\"&$D$7&\" and localMonth(\"&$D$12&\") =\"&$E$7&\" and LocalDay(\"&$D$12&\")=\"&$F$7&\" and Barix(\"&$D$12&\",reference:=StartOfSession)=\"&A16&\"\", \"Bar\", \"\", \"Close\",\"5\",\"0\",\"PrimaryOnly\",,,\"False\",\"T\",\"EveryTick\")","v":2.8969999999999998},-1.126279863481241E-2,{"$f":"RTD(\"cqg.rtd\",,\"StudyData\", \"Close(\"&$D$12&\") when LocalYear(\"&$D$12&\")=\"&$D$8&\" and localMonth(\"&$D$12&\") =\"&$E$8&\" and LocalDay(\"&$D$12&\")=\"&$F$8&\" and Barix(\"&$D$12&\",reference:=StartOfSession)=\"&A16&\"\", \"Bar\", \"\", \"Close\",\"5\",\"0\",\"PrimaryOnly\",,,\"False\",\"T\",\"EveryTick\")","v":2.9590000000000001},2.1754143646408899E-2,{"$f":"RTD(\"cqg.rtd\",,\"StudyData\", \"Close(\"&$D$12&\") when LocalYear(\"&$D$12&\")=\"&$D$9&\" and localMonth(\"&$D$12&\") =\"&$E$9&\" and LocalDay(\"&$D$12&\")=\"&$F$9&\" and Barix(\"&$D$12&\",reference:=StartOfSession)=\"&A16&\"\", \"Bar\", \"\", \"Close\",\"5\",\"0\",\"PrimaryOnly\",,,\"False\",\"T\",\"EveryTick\")","v":2.879},-3.806228373702464E-3,{"$f":"RTD(\"cqg.rtd\",,\"StudyData\", \"Close(\"&$D$12&\") when LocalYear(\"&$D$12&\")=\"&$D$10&\" and localMonth(\"&$D$12&\") =\"&$E$10&\" and LocalDay(\"&$D$12&\")=\"&$F$10&\" and Barix(\"&$D$12&\",reference:=StartOfSession)=\"&A16&\"\", \"Bar\", \"\", \"Close\",\"5\",\"0\",\"PrimaryOnly\",,,\"False\",\"T\",\"EveryTick\")","v":2.8860000000000001},-1.5017064846416395E-2,null,null,null,""]
[16,"09:20:00",null,{"$f":"IF(D16>=1,0,IF(LEN(D16)-2=1,2,LEN(D16)-2))","v":3},null,{"$f":"VLOOKUP(D17,D18:E25,2,FALSE)","v":"#.000"},"2018-06-12",{"$f":"RTD(\"cqg.rtd\",,\"StudyData\", \"Close(\"&$D$12&\") when LocalYear(\"&$D$12&\")=\"&$D$1&\" and localMonth(\"&$D$12&\") =\"&$E$1&\" and LocalDay(\"&$D$12&\")=\"&$F$1&\" and Barix(\"&$D$12&\",reference:=StartOfSession)=\"&A17&\"\", \"Bar\", \"\", \"Close\",\"5\",\"0\",\"PrimaryOnly\",,,\"False\",\"T\",\"EveryTick\")","v":""},{"$error":"#N/A"},{"$f":"RTD(\"cqg.rtd\",,\"StudyData\", \"Close(\"&$D$12&\") when LocalYear(\"&$D$12&\")=\"&$D$2&\" and localMonth(\"&$D$12&\") =\"&$E$2&\" and LocalDay(\"&$D$12&\")=\"&$F$2&\" and Barix(\"&$D$12&\",reference:=StartOfSession)=\"&A17&\"\", \"Bar\", \"\", \"Close\",\"5\",\"0\",\"PrimaryOnly\",,,\"False\",\"T\",\"EveryTick\")","v":3.0190000000000001},1.821247892074208E-2,{"$f":"RTD(\"cqg.rtd\",,\"StudyData\", \"Close(\"&$D$12&\") when LocalYear(\"&$D$12&\")=\"&$D$3&\" and localMonth(\"&$D$12&\") =\"&$E$3&\" and LocalDay(\"&$D$12&\")=\"&$F$3&\" and Barix(\"&$D$12&\",reference:=StartOfSession)=\"&A17&\"\", \"Bar\", \"\", \"Close\",\"5\",\"0\",\"PrimaryOnly\",,,\"False\",\"T\",\"EveryTick\")","v":2.9649999999999999},6.7499156260539305E-4,{"$f":"RTD(\"cqg.rtd\",,\"StudyData\", \"Close(\"&$D$12&\") when LocalYear(\"&$D$12&\")=\"&$D$4&\" and localMonth(\"&$D$12&\") =\"&$E$4&\" and LocalDay(\"&$D$12&\")=\"&$F$4&\" and Barix(\"&$D$12&\",reference:=StartOfSession)=\"&A17&\"\", \"Bar\", \"\", \"Close\",\"5\",\"0\",\"PrimaryOnly\",,,\"False\",\"T\",\"EveryTick\")","v":2.9660000000000002},9.1867982306907577E-3,{"$f":"RTD(\"cqg.rtd\",,\"StudyData\", \"Close(\"&$D$12&\") when LocalYear(\"&$D$12&\")=\"&$D$5&\" and localMonth(\"&$D$12&\") =\"&$E$5&\" and LocalDay(\"&$D$12&\")=\"&$F$5&\" and Barix(\"&$D$12&\",reference:=StartOfSession)=\"&A17&\"\", \"Bar\", \"\", \"Close\",\"5\",\"0\",\"PrimaryOnly\",,,\"False\",\"T\",\"EveryTick\")","v":2.9209999999999998},-9.494743981010521E-3,{"$f":"RTD(\"cqg.rtd\",,\"StudyData\", \"Close(\"&$D$12&\") when LocalYear(\"&$D$12&\")=\"&$D$6&\" and localMonth(\"&$D$12&\") =\"&$E$6&\" and LocalDay(\"&$D$12&\")=\"&$F$6&\" and Barix(\"&$D$12&\",reference:=StartOfSession)=\"&A17&\"\", \"Bar\", \"\", \"Close\",\"5\",\"0\",\"PrimaryOnly\",,,\"False\",\"T\",\"EveryTick\")","v":2.9409999999999998},1.7647058823529311E-2,{"$f":"RTD(\"cqg.rtd\",,\"StudyData\", \"Close(\"&$D$12&\") when LocalYear(\"&$D$12&\")=\"&$D$7&\" and localMonth(\"&$D$12&\") =\"&$E$7&\" and LocalDay(\"&$D$12&\")=\"&$F$7&\" and Barix(\"&$D$12&\",reference:=StartOfSession)=\"&A17&\"\", \"Bar\", \"\", \"Close\",\"5\",\"0\",\"PrimaryOnly\",,,\"False\",\"T\",\"EveryTick\")","v":2.8929999999999998},-1.2627986348122991E-2,{"$f":"RTD(\"cqg.rtd\",,\"StudyData\", \"Close(\"&$D$12&\") when LocalYear(\"&$D$12&\")=\"&$D$8&\" and localMonth(\"&$D$12&\") =\"&$E$8&\" and LocalDay(\"&$D$12&\")=\"&$F$8&\" and Barix(\"&$D$12&\",reference:=StartOfSession)=\"&A17&\"\", \"Bar\", \"\", \"Close\",\"5\",\"0\",\"PrimaryOnly\",,,\"False\",\"T\",\"EveryTick\")","v":2.9609999999999999},2.244475138121545E-2,{"$f":"RTD(\"cqg.rtd\",,\"StudyData\", \"Close(\"&$D$12&\") when LocalYear(\"&$D$12&\")=\"&$D$9&\" and localMonth(\"&$D$12&\") =\"&$E$9&\" and LocalDay(\"&$D$12&\")=\"&$F$9&\" and Barix(\"&$D$12&\",reference:=StartOfSession)=\"&A17&\"\", \"Bar\", \"\", \"Close\",\"5\",\"0\",\"PrimaryOnly\",,,\"False\",\"T\",\"EveryTick\")","v":2.879},-3.806228373702464E-3,{"$f":"RTD(\"cqg.rtd\",,\"StudyData\", \"Close(\"&$D$12&\") when LocalYear(\"&$D$12&\")=\"&$D$10&\" and localMonth(\"&$D$12&\") =\"&$E$10&\" and LocalDay(\"&$D$12&\")=\"&$F$10&\" and Barix(\"&$D$12&\",reference:=StartOfSession)=\"&A17&\"\", \"Bar\", \"\", \"Close\",\"5\",\"0\",\"PrimaryOnly\",,,\"False\",\"T\",\"EveryTick\")","v":2.8860000000000001},-1.5017064846416395E-2,null,null,null,""]
[17,"09:25:00",null,0,"#",null,"2018-06-11",{"$f":"RTD(\"cqg.rtd\",,\"StudyData\", \"Close(\"&$D$12&\") when LocalYear(\"&$D$12&\")=\"&$D$1&\" and localMonth(\"&$D$12&\") =\"&$E$1&\" and LocalDay(\"&$D$12&\")=\"&$F$1&\" and Barix(\"&$D$12&\",reference:=StartOfSession)=\"&A18&\"\", \"Bar\", \"\", \"Close\",\"5\",\"0\",\"PrimaryOnly\",,,\"False\",\"T\",\"EveryTick\")","v":""},{"$error":"#N/A"},{"$f":"RTD(\"cqg.rtd\",,\"StudyData\", \"Close(\"&$D$12&\") when LocalYear(\"&$D$12&\")=\"&$D$2&\" and localMonth(\"&$D$12&\") =\"&$E$2&\" and LocalDay(\"&$D$12&\")=\"&$F$2&\" and Barix(\"&$D$12&\",reference:=StartOfSession)=\"&A18&\"\", \"Bar\", \"\", \"Close\",\"5\",\"0\",\"PrimaryOnly\",,,\"False\",\"T\",\"EveryTick\")","v":3.0190000000000001},1.821247892074208E-2,{"$f":"RTD(\"cqg.rtd\",,\"StudyData\", \"Close(\"&$D$12&\") when LocalYear(\"&$D$12&\")=\"&$D$3&\" and localMonth(\"&$D$12&\") =\"&$E$3&\" and LocalDay(\"&$D$12&\")=\"&$F$3&\" and Barix(\"&$D$12&\",reference:=StartOfSession)=\"&A18&\"\", \"Bar\", \"\", \"Close\",\"5\",\"0\",\"PrimaryOnly\",,,\"False\",\"T\",\"EveryTick\")","v":2.9689999999999999},2.0249746878163292E-3,{"$f":"RTD(\"cqg.rtd\",,\"StudyData\", \"Close(\"&$D$12&\") when LocalYear(\"&$D$12&\")=\"&$D$4&\" and localMonth(\"&$D$12&\") =\"&$E$4&\" and LocalDay(\"&$D$12&\")=\"&$F$4&\" and Barix(\"&$D$12&\",reference:=StartOfSession)=\"&A18&\"\", \"Bar\", \"\", \"Close\",\"5\",\"0\",\"PrimaryOnly\",,,\"False\",\"T\",\"EveryTick\")","v":2.9660000000000002},9.1867982306907577E-3,{"$f":"RTD(\"cqg.rtd\",,\"StudyData\", \"Close(\"&$D$12&\") when LocalYear(\"&$D$12&\")=\"&$D$5&\" and localMonth(\"&$D$12&\") =\"&$E$5&\" and LocalDay(\"&$D$12&\")=\"&$F$5&\" and Barix(\"&$D$12&\",reference:=StartOfSession)=\"&A18&\"\", \"Bar\", \"\", \"Close\",\"5\",\"0\",\"PrimaryOnly\",,,\"False\",\"T\",\"EveryTick\")","v":2.9220000000000002},-9.1556459816886041E-3,{"$f":"RTD(\"cqg.rtd\",,\"StudyData\", \"Close(\"&$D$12&\") when LocalYear(\"&$D$12&\")=\"&$D$6&\" and localMonth(\"&$D$12&\") =\"&$E$6&\" and LocalDay(\"&$D$12&\")=\"&$F$6&\" and Barix(\"&$D$12&\",reference:=StartOfSession)=\"&A18&\"\", \"Bar\", \"\", \"Close\",\"5\",\"0\",\"PrimaryOnly\",,,\"False\",\"T\",\"EveryTick\")","v":2.9430000000000001},1.8339100346020737E-2,{"$f":"RTD(\"cqg.rtd\",,\"StudyData\", \"Close(\"&$D$12&\") when LocalYear(\"&$D$12&\")=\"&$D$7&\" and localMonth(\"&$D$12&\") =\"&$E$7&\" and LocalDay(\"&$D$12&\")=\"&$F$7&\" and Barix(\"&$D$12&\",reference:=StartOfSession)=\"&A18&\"\", \"Bar\", \"\", \"Close\",\"5\",\"0\",\"PrimaryOnly\",,,\"False\",\"T\",\"EveryTick\")","v":2.8940000000000001},-1.2286689419795232E-2,{"$f":"RTD(\"cqg.rtd\",,\"StudyData\", \"Close(\"&$D$12&\") when LocalYear(\"&$D$12&\")=\"&$D$8&\" and localMonth(\"&$D$12&\") =\"&$E$8&\" and LocalDay(\"&$D$12&\")=\"&$F$8&\" and Barix(\"&$D$12&\",reference:=StartOfSession)=\"&A18&\"\", \"Bar\", \"\", \"Close\",\"5\",\"0\",\"PrimaryOnly\",,,\"False\",\"T\",\"EveryTick\")","v":2.9569999999999999},2.1063535911602191E-2,{"$f":"RTD(\"cqg.rtd\",,\"StudyData\", \"Close(\"&$D$12&\") when LocalYear(\"&$D$12&\")=\"&$D$9&\" and localMonth(\"&$D$12&\") =\"&$E$9&\" and LocalDay(\"&$D$12&\")=\"&$F$9&\" and Barix(\"&$D$12&\",reference:=StartOfSession)=\"&A18&\"\", \"Bar\", \"\", \"Close\",\"5\",\"0\",\"PrimaryOnly\",,,\"False\",\"T\",\"EveryTick\")","v":2.8780000000000001},-4.1522491349481007E-3,{"$f":"RTD(\"cqg.rtd\",,\"StudyData\", \"Close(\"&$D$12&\") when LocalYear(\"&$D$12&\")=\"&$D$10&\" and localMonth(\"&$D$12&\") =\"&$E$10&\" and LocalDay(\"&$D$12&\")=\"&$F$10&\" and Barix(\"&$D$12&\",reference:=StartOfSession)=\"&A18&\"\", \"Bar\", \"\", \"Close\",\"5\",\"0\",\"PrimaryOnly\",,,\"False\",\"T\",\"EveryTick\")","v":2.8889999999999998},-1.3993174061433572E-2,null,null,null,""]
[18,"09:30:00",null,1,"#.0",null,"2018-06-08",{"$f":"RTD(\"cqg.rtd\",,\"StudyData\", \"Close(\"&$D$12&\") when LocalYear(\"&$D$12&\")=\"&$D$1&\" and localMonth(\"&$D$12&\") =\"&$E$1&\" and LocalDay(\"&$D$12&\")=\"&$F$1&\" and Barix(\"&$D$12&\",reference:=StartOfSession)=\"&A19&\"\", \"Bar\", \"\", \"Close\",\"5\",\"0\",\"PrimaryOnly\",,,\"False\",\"T\",\"EveryTick\")","v":""},{"$error":"#N/A"},{"$f":"RTD(\"cqg.rtd\",,\"StudyData\", \"Close(\"&$D$12&\") when LocalYear(\"&$D$12&\")=\"&$D$2&\" and localMonth(\"&$D$12&\") =\"&$E$2&\" and LocalDay(\"&$D$12&\")=\"&$F$2&\" and Barix(\"&$D$12&\",reference:=StartOfSession)=\"&A19&\"\", \"Bar\", \"\", \"Close\",\"5\",\"0\",\"PrimaryOnly\",,,\"False\",\"T\",\"EveryTick\")","v":3.0209999999999999},1.8887015177065786E-2,{"$f":"RTD(\"cqg.rtd\",,\"StudyData\", \"Close(\"&$D$12&\") when LocalYear(\"&$D$12&\")=\"&$D$3&\" and localMonth(\"&$D$12&\") =\"&$E$3&\" and LocalDay(\"&$D$12&\")=\"&$F$3&\" and Barix(\"&$D$12&\",reference:=StartOfSession)=\"&A19&\"\", \"Bar\", \"\", \"Close\",\"5\",\"0\",\"PrimaryOnly\",,,\"False\",\"T\",\"EveryTick\")","v":2.94},-7.7624029699629197E-3,{"$f":"RTD(\"cqg.rtd\",,\"StudyData\", \"Close(\"&$D$12&\") when LocalYear(\"&$D$12&\")=\"&$D$4&\" and localMonth(\"&$D$12&\") =\"&$E$4&\" and LocalDay(\"&$D$12&\")=\"&$F$4&\" and Barix(\"&$D$12&\",reference:=StartOfSession)=\"&A19&\"\", \"Bar\", \"\", \"Close\",\"5\",\"0\",\"PrimaryOnly\",,,\"False\",\"T\",\"EveryTick\")","v":2.968},9.8673018033344391E-3,{"$f":"RTD(\"cqg.rtd\",,\"StudyData\", \"Close(\"&$D$12&\") when LocalYear(\"&$D$12&\")=\"&$D$5&\" and localMonth(\"&$D$12&\") =\"&$E$5&\" and LocalDay(\"&$D$12&\")=\"&$F$5&\" and Barix(\"&$D$12&\",reference:=StartOfSession)=\"&A19&\"\", \"Bar\", \"\", \"Close\",\"5\",\"0\",\"PrimaryOnly\",,,\"False\",\"T\",\"EveryTick\")","v":2.919},-1.0172939979654055E-2,{"$f":"RTD(\"cqg.rtd\",,\"StudyData\", \"Close(\"&$D$12&\") when LocalYear(\"&$D$12&\")=\"&$D$6&\" and localMonth(\"&$D$12&\") =\"&$E$6&\" and LocalDay(\"&$D$12&\")=\"&$F$6&\" and Barix(\"&$D$12&\",reference:=StartOfSession)=\"&A19&\"\", \"Bar\", \"\", \"Close\",\"5\",\"0\",\"PrimaryOnly\",,,\"False\",\"T\",\"EveryTick\")","v":2.9420000000000002},1.7993079584775102E-2,{"$f":"RTD(\"cqg.rtd\",,\"StudyData\", \"Close(\"&$D$12&\") when LocalYear(\"&$D$12&\")=\"&$D$7&\" and localMonth(\"&$D$12&\") =\"&$E$7&\" and LocalDay(\"&$D$12&\")=\"&$F$7&\" and Barix(\"&$D$12&\",reference:=StartOfSession)=\"&A19&\"\", \"Bar\", \"\", \"Close\",\"5\",\"0\",\"PrimaryOnly\",,,\"False\",\"T\",\"EveryTick\")","v":2.8919999999999999},-1.2969283276450598E-2,{"$f":"RTD(\"cqg.rtd\",,\"StudyData\", \"Close(\"&$D$12&\") when LocalYear(\"&$D$12&\")=\"&$D$8&\" and localMonth(\"&$D$12&\") =\"&$E$8&\" and LocalDay(\"&$D$12&\")=\"&$F$8&\" and Barix(\"&$D$12&\",reference:=StartOfSession)=\"&A19&\"\", \"Bar\", \"\", \"Close\",\"5\",\"0\",\"PrimaryOnly\",,,\"False\",\"T\",\"EveryTick\")","v":2.9420000000000002},1.5883977900552577E-2,{"$f":"RTD(\"cqg.rtd\",,\"StudyData\", \"Close(\"&$D$12&\") when LocalYear(\"&$D$12&\")=\"&$D$9&\" and localMonth(\"&$D$12&\") =\"&$E$9&\" and LocalDay(\"&$D$12&\")=\"&$F$9&\" and Barix(\"&$D$12&\",reference:=StartOfSession)=\"&A19&\"\", \"Bar\", \"\", \"Close\",\"5\",\"0\",\"PrimaryOnly\",,,\"False\",\"T\",\"EveryTick\")","v":2.875},-5.1903114186851642E-3,{"$f":"RTD(\"cqg.rtd\",,\"StudyData\", \"Close(\"&$D$12&\") when LocalYear(\"&$D$12&\")=\"&$D$10&\" and localMonth(\"&$D$12&\") =\"&$E$10&\" and LocalDay(\"&$D$12&\")=\"&$F$10&\" and Barix(\"&$D$12&\",reference:=StartOfSession)=\"&A19&\"\", \"Bar\", \"\", \"Close\",\"5\",\"0\",\"PrimaryOnly\",,,\"False\",\"T\",\"EveryTick\")","v":2.891},-1.3310580204778205E-2,null,null,null,""]
[19,"09:35:00",null,2,"#.00",null,"2018-06-07",{"$f":"RTD(\"cqg.rtd\",,\"StudyData\", \"Close(\"&$D$12&\") when LocalYear(\"&$D$12&\")=\"&$D$1&\" and localMonth(\"&$D$12&\") =\"&$E$1&\" and LocalDay(\"&$D$12&\")=\"&$F$1&\" and Barix(\"&$D$12&\",reference:=StartOfSession)=\"&A20&\"\", \"Bar\", \"\", \"Close\",\"5\",\"0\",\"PrimaryOnly\",,,\"False\",\"T\",\"EveryTick\")","v":""},{"$error":"#N/A"},{"$f":"RTD(\"cqg.rtd\",,\"StudyData\", \"Close(\"&$D$12&\") when LocalYear(\"&$D$12&\")=\"&$D$2&\" and localMonth(\"&$D$12&\") =\"&$E$2&\" and LocalDay(\"&$D$12&\")=\"&$F$2&\" and Barix(\"&$D$12&\",reference:=StartOfSession)=\"&A20&\"\", \"Bar\", \"\", \"Close\",\"5\",\"0\",\"PrimaryOnly\",,,\"False\",\"T\",\"EveryTick\")","v":3.0219999999999998},1.9224283305227637E-2,{"$f":"RTD(\"cqg.rtd\",,\"StudyData\", \"Close(\"&$D$12&\") when LocalYear(\"&$D$12&\")=\"&$D$3&\" and localMonth(\"&$D$12&\") =\"&$E$3&\" and LocalDay(\"&$D$12&\")=\"&$F$3&\" and Barix(\"&$D$12&\",reference:=StartOfSession)=\"&A20&\"\", \"Bar\", \"\", \"Close\",\"5\",\"0\",\"PrimaryOnly\",,,\"False\",\"T\",\"EveryTick\")","v":2.9329999999999998},-1.0124873439082095E-2,{"$f":"RTD(\"cqg.rtd\",,\"StudyData\", \"Close(\"&$D$12&\") when LocalYear(\"&$D$12&\")=\"&$D$4&\" and localMonth(\"&$D$12&\") =\"&$E$4&\" and LocalDay(\"&$D$12&\")=\"&$F$4&\" and Barix(\"&$D$12&\",reference:=StartOfSession)=\"&A20&\"\", \"Bar\", \"\", \"Close\",\"5\",\"0\",\"PrimaryOnly\",,,\"False\",\"T\",\"EveryTick\")","v":2.968},9.8673018033344391E-3,{"$f":"RTD(\"cqg.rtd\",,\"StudyData\", \"Close(\"&$D$12&\") when LocalYear(\"&$D$12&\")=\"&$D$5&\" and localMonth(\"&$D$12&\") =\"&$E$5&\" and LocalDay(\"&$D$12&\")=\"&$F$5&\" and Barix(\"&$D$12&\",reference:=StartOfSession)=\"&A20&\"\", \"Bar\", \"\", \"Close\",\"5\",\"0\",\"PrimaryOnly\",,,\"False\",\"T\",\"EveryTick\")","v":2.9209999999999998},-9.494743981010521E-3,{"$f":"RTD(\"cqg.rtd\",,\"StudyData\", \"Close(\"&$D$12&\") when LocalYear(\"&$D$12&\")=\"&$D$6&\" and localMonth(\"&$D$12&\") =\"&$E$6&\" and LocalDay(\"&$D$12&\")=\"&$F$6&\" and Barix(\"&$D$12&\",reference:=StartOfSession)=\"&A20&\"\", \"Bar\", \"\", \"Close\",\"5\",\"0\",\"PrimaryOnly\",,,\"False\",\"T\",\"EveryTick\")","v":2.9380000000000002},1.6608996539792403E-2,{"$f":"RTD(\"cqg.rtd\",,\"StudyData\", \"Close(\"&$D$12&\") when LocalYear(\"&$D$12&\")=\"&$D$7&\" and localMonth(\"&$D$12&\") =\"&$E$7&\" and LocalDay(\"&$D$12&\")=\"&$F$7&\" and Barix(\"&$D$12&\",reference:=StartOfSession)=\"&A20&\"\", \"Bar\", \"\", \"Close\",\"5\",\"0\",\"PrimaryOnly\",,,\"False\",\"T\",\"EveryTick\")","v":2.89},-1.3651877133105813E-2,{"$f":"RTD(\"cqg.rtd\",,\"StudyData\", \"Close(\"&$D$12&\") when LocalYear(\"&$D$12&\")=\"&$D$8&\" and localMonth(\"&$D$12&\") =\"&$E$8&\" and LocalDay(\"&$D$12&\")=\"&$F$8&\" and Barix(\"&$D$12&\",reference:=StartOfSession)=\"&A20&\"\", \"Bar\", \"\", \"Close\",\"5\",\"0\",\"PrimaryOnly\",,,\"False\",\"T\",\"EveryTick\")","v":2.9510000000000001},1.8991712707182376E-2,{"$f":"RTD(\"cqg.rtd\",,\"StudyData\", \"Close(\"&$D$12&\") when LocalYear(\"&$D$12&\")=\"&$D$9&\" and localMonth(\"&$D$12&\") =\"&$E$9&\" and LocalDay(\"&$D$12&\")=\"&$F$9&\" and Barix(\"&$D$12&\",reference:=StartOfSession)=\"&A20&\"\", \"Bar\", \"\", \"Close\",\"5\",\"0\",\"PrimaryOnly\",,,\"False\",\"T\",\"EveryTick\")","v":2.8740000000000001},-5.5363321799308009E-3,{"$f":"RTD(\"cqg.rtd\",,\"StudyData\", \"Close(\"&$D$12&\") when LocalYear(\"&$D$12&\")=\"&$D$10&\" and localMonth(\"&$D$12&\") =\"&$E$10&\" and LocalDay(\"&$D$12&\")=\"&$F$10&\" and Barix(\"&$D$12&\",reference:=StartOfSession)=\"&A20&\"\", \"Bar\", \"\", \"Close\",\"5\",\"0\",\"PrimaryOnly\",,,\"False\",\"T\",\"EveryTick\")","v":2.8919999999999999},-1.2969283276450598E-2,null,null,null,""]
[20,"09:40:00",null,3,"#.000",null,"2018-06-06",{"$f":"RTD(\"cqg.rtd\",,\"StudyData\", \"Close(\"&$D$12&\") when LocalYear(\"&$D$12&\")=\"&$D$1&\" and localMonth(\"&$D$12&\") =\"&$E$1&\" and LocalDay(\"&$D$12&\")=\"&$F$1&\" and Barix(\"&$D$12&\",reference:=StartOfSession)=\"&A21&\"\", \"Bar\", \"\", \"Close\",\"5\",\"0\",\"PrimaryOnly\",,,\"False\",\"T\",\"EveryTick\")","v":""},{"$error":"#N/A"},{"$f":"RTD(\"cqg.rtd\",,\"StudyData\", \"Close(\"&$D$12&\") when LocalYear(\"&$D$12&\")=\"&$D$2&\" and localMonth(\"&$D$12&\") =\"&$E$2&\" and LocalDay(\"&$D$12&\")=\"&$F$2&\" and Barix(\"&$D$12&\",reference:=StartOfSession)=\"&A21&\"\", \"Bar\", \"\", \"Close\",\"5\",\"0\",\"PrimaryOnly\",,,\"False\",\"T\",\"EveryTick\")","v":3.024},1.9898819561551491E-2,{"$f":"RTD(\"cqg.rtd\",,\"StudyData\", \"Close(\"&$D$12&\") when LocalYear(\"&$D$12&\")=\"&$D$3&\" and localMonth(\"&$D$12&\") =\"&$E$3&\" and LocalDay(\"&$D$12&\")=\"&$F$3&\" and Barix(\"&$D$12&\",reference:=StartOfSession)=\"&A21&\"\", \"Bar\", \"\", \"Close\",\"5\",\"0\",\"PrimaryOnly\",,,\"False\",\"T\",\"EveryTick\")","v":2.9369999999999998},-8.7748903138711587E-3,{"$f":"RTD(\"cqg.rtd\",,\"StudyData\", \"Close(\"&$D$12&\") when LocalYear(\"&$D$12&\")=\"&$D$4&\" and localMonth(\"&$D$12&\") =\"&$E$4&\" and LocalDay(\"&$D$12&\")=\"&$F$4&\" and Barix(\"&$D$12&\",reference:=StartOfSession)=\"&A21&\"\", \"Bar\", \"\", \"Close\",\"5\",\"0\",\"PrimaryOnly\",,,\"False\",\"T\",\"EveryTick\")","v":2.9689999999999999},1.020755358965628E-2,{"$f":"RTD(\"cqg.rtd\",,\"StudyData\", \"Close(\"&$D$12&\") when LocalYear(\"&$D$12&\")=\"&$D$5&\" and localMonth(\"&$D$12&\") =\"&$E$5&\" and LocalDay(\"&$D$12&\")=\"&$F$5&\" and Barix(\"&$D$12&\",reference:=StartOfSession)=\"&A21&\"\", \"Bar\", \"\", \"Close\",\"5\",\"0\",\"PrimaryOnly\",,,\"False\",\"T\",\"EveryTick\")","v":2.9209999999999998},-9.494743981010521E-3,{"$f":"RTD(\"cqg.rtd\",,\"StudyData\", \"Close(\"&$D$12&\") when LocalYear(\"&$D$12&\")=\"&$D$6&\" and localMonth(\"&$D$12&\") =\"&$E$6&\" and LocalDay(\"&$D$12&\")=\"&$F$6&\" and Barix(\"&$D$12&\",reference:=StartOfSession)=\"&A21&\"\", \"Bar\", \"\", \"Close\",\"5\",\"0\",\"PrimaryOnly\",,,\"False\",\"T\",\"EveryTick\")","v":2.9390000000000001},1.6955017301038038E-2,{"$f":"RTD(\"cqg.rtd\",,\"StudyData\", \"Close(\"&$D$12&\") when LocalYear(\"&$D$12&\")=\"&$D$7&\" and localMonth(\"&$D$12&\") =\"&$E$7&\" and LocalDay(\"&$D$12&\")=\"&$F$7&\" and Barix(\"&$D$12&\",reference:=StartOfSession)=\"&A21&\"\", \"Bar\", \"\", \"Close\",\"5\",\"0\",\"PrimaryOnly\",,,\"False\",\"T\",\"EveryTick\")","v":2.8879999999999999},-1.4334470989761179E-2,{"$f":"RTD(\"cqg.rtd\",,\"StudyData\", \"Close(\"&$D$12&\") when LocalYear(\"&$D$12&\")=\"&$D$8&\" and localMonth(\"&$D$12&\") =\"&$E$8&\" and LocalDay(\"&$D$12&\")=\"&$F$8&\" and Barix(\"&$D$12&\",reference:=StartOfSession)=\"&A21&\"\", \"Bar\", \"\", \"Close\",\"5\",\"0\",\"PrimaryOnly\",,,\"False\",\"T\",\"EveryTick\")","v":2.9489999999999998},1.8301104972375668E-2,{"$f":"RTD(\"cqg.rtd\",,\"StudyData\", \"Close(\"&$D$12&\") when LocalYear(\"&$D$12&\")=\"&$D$9&\" and localMonth(\"&$D$12&\") =\"&$E$9&\" and LocalDay(\"&$D$12&\")=\"&$F$9&\" and Barix(\"&$D$12&\",reference:=StartOfSession)=\"&A21&\"\", \"Bar\", \"\", \"Close\",\"5\",\"0\",\"PrimaryOnly\",,,\"False\",\"T\",\"EveryTick\")","v":2.8809999999999998},-3.1141868512111906E-3,{"$f":"RTD(\"cqg.rtd\",,\"StudyData\", \"Close(\"&$D$12&\") when LocalYear(\"&$D$12&\")=\"&$D$10&\" and localMonth(\"&$D$12&\") =\"&$E$10&\" and LocalDay(\"&$D$12&\")=\"&$F$10&\" and Barix(\"&$D$12&\",reference:=StartOfSession)=\"&A21&\"\", \"Bar\", \"\", \"Close\",\"5\",\"0\",\"PrimaryOnly\",,,\"False\",\"T\",\"EveryTick\")","v":2.8929999999999998},-1.2627986348122991E-2,null,null,null,""]
[21,"09:45:00",null,4,"#.0000",null,"2018-06-05",{"$f":"RTD(\"cqg.rtd\",,\"StudyData\", \"Close(\"&$D$12&\") when LocalYear(\"&$D$12&\")=\"&$D$1&\" and localMonth(\"&$D$12&\") =\"&$E$1&\" and LocalDay(\"&$D$12&\")=\"&$F$1&\" and Barix(\"&$D$12&\",reference:=StartOfSession)=\"&A22&\"\", \"Bar\", \"\", \"Close\",\"5\",\"0\",\"PrimaryOnly\",,,\"False\",\"T\",\"EveryTick\")","v":""},{"$error":"#N/A"},{"$f":"RTD(\"cqg.rtd\",,\"StudyData\", \"Close(\"&$D$12&\") when LocalYear(\"&$D$12&\")=\"&$D$2&\" and localMonth(\"&$D$12&\") =\"&$E$2&\" and LocalDay(\"&$D$12&\")=\"&$F$2&\" and Barix(\"&$D$12&\",reference:=StartOfSession)=\"&A22&\"\", \"Bar\", \"\", \"Close\",\"5\",\"0\",\"PrimaryOnly\",,,\"False\",\"T\",\"EveryTick\")","v":3.03},2.1922428330522749E-2,{"$f":"RTD(\"cqg.rtd\",,\"StudyData\", \"Close(\"&$D$12&\") when LocalYear(\"&$D$12&\")=\"&$D$3&\" and localMonth(\"&$D$12&\") =\"&$E$3&\" and LocalDay(\"&$D$12&\")=\"&$F$3&\" and Barix(\"&$D$12&\",reference:=StartOfSession)=\"&A22&\"\", \"Bar\", \"\", \"Close\",\"5\",\"0\",\"PrimaryOnly\",,,\"False\",\"T\",\"EveryTick\")","v":2.9460000000000002},-5.7374282821464409E-3,{"$f":"RTD(\"cqg.rtd\",,\"StudyData\", \"Close(\"&$D$12&\") when LocalYear(\"&$D$12&\")=\"&$D$4&\" and localMonth(\"&$D$12&\") =\"&$E$4&\" and LocalDay(\"&$D$12&\")=\"&$F$4&\" and Barix(\"&$D$12&\",reference:=StartOfSession)=\"&A22&\"\", \"Bar\", \"\", \"Close\",\"5\",\"0\",\"PrimaryOnly\",,,\"False\",\"T\",\"EveryTick\")","v":2.9710000000000001},1.0888057162300112E-2,{"$f":"RTD(\"cqg.rtd\",,\"StudyData\", \"Close(\"&$D$12&\") when LocalYear(\"&$D$12&\")=\"&$D$5&\" and localMonth(\"&$D$12&\") =\"&$E$5&\" and LocalDay(\"&$D$12&\")=\"&$F$5&\" and Barix(\"&$D$12&\",reference:=StartOfSession)=\"&A22&\"\", \"Bar\", \"\", \"Close\",\"5\",\"0\",\"PrimaryOnly\",,,\"False\",\"T\",\"EveryTick\")","v":2.9239999999999999},-8.4774499830450704E-3,{"$f":"RTD(\"cqg.rtd\",,\"StudyData\", \"Close(\"&$D$12&\") when LocalYear(\"&$D$12&\")=\"&$D$6&\" and localMonth(\"&$D$12&\") =\"&$E$6&\" and LocalDay(\"&$D$12&\")=\"&$F$6&\" and Barix(\"&$D$12&\",reference:=StartOfSession)=\"&A22&\"\", \"Bar\", \"\", \"Close\",\"5\",\"0\",\"PrimaryOnly\",,,\"False\",\"T\",\"EveryTick\")","v":2.9409999999999998},1.7647058823529311E-2,{"$f":"RTD(\"cqg.rtd\",,\"StudyData\", \"Close(\"&$D$12&\") when LocalYear(\"&$D$12&\")=\"&$D$7&\" and localMonth(\"&$D$12&\") =\"&$E$7&\" and LocalDay(\"&$D$12&\")=\"&$F$7&\" and Barix(\"&$D$12&\",reference:=StartOfSession)=\"&A22&\"\", \"Bar\", \"\", \"Close\",\"5\",\"0\",\"PrimaryOnly\",,,\"False\",\"T\",\"EveryTick\")","v":2.8860000000000001},-1.5017064846416395E-2,{"$f":"RTD(\"cqg.rtd\",,\"StudyData\", \"Close(\"&$D$12&\") when LocalYear(\"&$D$12&\")=\"&$D$8&\" and localMonth(\"&$D$12&\") =\"&$E$8&\" and LocalDay(\"&$D$12&\")=\"&$F$8&\" and Barix(\"&$D$12&\",reference:=StartOfSession)=\"&A22&\"\", \"Bar\", \"\", \"Close\",\"5\",\"0\",\"PrimaryOnly\",,,\"False\",\"T\",\"EveryTick\")","v":2.9460000000000002},1.7265193370165837E-2,{"$f":"RTD(\"cqg.rtd\",,\"StudyData\", \"Close(\"&$D$12&\") when LocalYear(\"&$D$12&\")=\"&$D$9&\" and localMonth(\"&$D$12&\") =\"&$E$9&\" and LocalDay(\"&$D$12&\")=\"&$F$9&\" and Barix(\"&$D$12&\",reference:=StartOfSession)=\"&A22&\"\", \"Bar\", \"\", \"Close\",\"5\",\"0\",\"PrimaryOnly\",,,\"False\",\"T\",\"EveryTick\")","v":2.8809999999999998},-3.1141868512111906E-3,{"$f":"RTD(\"cqg.rtd\",,\"StudyData\", \"Close(\"&$D$12&\") when LocalYear(\"&$D$12&\")=\"&$D$10&\" and localMonth(\"&$D$12&\") =\"&$E$10&\" and LocalDay(\"&$D$12&\")=\"&$F$10&\" and Barix(\"&$D$12&\",reference:=StartOfSession)=\"&A22&\"\", \"Bar\", \"\", \"Close\",\"5\",\"0\",\"PrimaryOnly\",,,\"False\",\"T\",\"EveryTick\")","v":2.89},-1.3651877133105813E-2,null,null,null,""]
[22,"09:50:00",null,5,"#.00000",null,null,{"$f":"RTD(\"cqg.rtd\",,\"StudyData\", \"Close(\"&$D$12&\") when LocalYear(\"&$D$12&\")=\"&$D$1&\" and localMonth(\"&$D$12&\") =\"&$E$1&\" and LocalDay(\"&$D$12&\")=\"&$F$1&\" and Barix(\"&$D$12&\",reference:=StartOfSession)=\"&A23&\"\", \"Bar\", \"\", \"Close\",\"5\",\"0\",\"PrimaryOnly\",,,\"False\",\"T\",\"EveryTick\")","v":""},{"$error":"#N/A"},{"$f":"RTD(\"cqg.rtd\",,\"StudyData\", \"Close(\"&$D$12&\") when LocalYear(\"&$D$12&\")=\"&$D$2&\" and localMonth(\"&$D$12&\") =\"&$E$2&\" and LocalDay(\"&$D$12&\")=\"&$F$2&\" and Barix(\"&$D$12&\",reference:=StartOfSession)=\"&A23&\"\", \"Bar\", \"\", \"Close\",\"5\",\"0\",\"PrimaryOnly\",,,\"False\",\"T\",\"EveryTick\")","v":3.0259999999999998},2.0573355817875193E-2,{"$f":"RTD(\"cqg.rtd\",,\"StudyData\", \"Close(\"&$D$12&\") when LocalYear(\"&$D$12&\")=\"&$D$3&\" and localMonth(\"&$D$12&\") =\"&$E$3&\" and LocalDay(\"&$D$12&\")=\"&$F$3&\" and Barix(\"&$D$12&\",reference:=StartOfSession)=\"&A23&\"\", \"Bar\", \"\", \"Close\",\"5\",\"0\",\"PrimaryOnly\",,,\"False\",\"T\",\"EveryTick\")","v":2.9470000000000001},-5.3999325008437437E-3,{"$f":"RTD(\"cqg.rtd\",,\"StudyData\", \"Close(\"&$D$12&\") when LocalYear(\"&$D$12&\")=\"&$D$4&\" and localMonth(\"&$D$12&\") =\"&$E$4&\" and LocalDay(\"&$D$12&\")=\"&$F$4&\" and Barix(\"&$D$12&\",reference:=StartOfSession)=\"&A23&\"\", \"Bar\", \"\", \"Close\",\"5\",\"0\",\"PrimaryOnly\",,,\"False\",\"T\",\"EveryTick\")","v":2.972},1.1228308948621953E-2,{"$f":"RTD(\"cqg.rtd\",,\"StudyData\", \"Close(\"&$D$12&\") when LocalYear(\"&$D$12&\")=\"&$D$5&\" and localMonth(\"&$D$12&\") =\"&$E$5&\" and LocalDay(\"&$D$12&\")=\"&$F$5&\" and Barix(\"&$D$12&\",reference:=StartOfSession)=\"&A23&\"\", \"Bar\", \"\", \"Close\",\"5\",\"0\",\"PrimaryOnly\",,,\"False\",\"T\",\"EveryTick\")","v":2.9260000000000002},-7.7992539844013867E-3,{"$f":"RTD(\"cqg.rtd\",,\"StudyData\", \"Close(\"&$D$12&\") when LocalYear(\"&$D$12&\")=\"&$D$6&\" and localMonth(\"&$D$12&\") =\"&$E$6&\" and LocalDay(\"&$D$12&\")=\"&$F$6&\" and Barix(\"&$D$12&\",reference:=StartOfSession)=\"&A23&\"\", \"Bar\", \"\", \"Close\",\"5\",\"0\",\"PrimaryOnly\",,,\"False\",\"T\",\"EveryTick\")","v":2.9430000000000001},1.8339100346020737E-2,{"$f":"RTD(\"cqg.rtd\",,\"StudyData\", \"Close(\"&$D$12&\") when LocalYear(\"&$D$12&\")=\"&$D$7&\" and localMonth(\"&$D$12&\") =\"&$E$7&\" and LocalDay(\"&$D$12&\")=\"&$F$7&\" and Barix(\"&$D$12&\",reference:=StartOfSession)=\"&A23&\"\", \"Bar\", \"\", \"Close\",\"5\",\"0\",\"PrimaryOnly\",,,\"False\",\"T\",\"EveryTick\")","v":2.887},-1.4675767918088787E-2,{"$f":"RTD(\"cqg.rtd\",,\"StudyData\", \"Close(\"&$D$12&\") when LocalYear(\"&$D$12&\")=\"&$D$8&\" and localMonth(\"&$D$12&\") =\"&$E$8&\" and LocalDay(\"&$D$12&\")=\"&$F$8&\" and Barix(\"&$D$12&\",reference:=StartOfSession)=\"&A23&\"\", \"Bar\", \"\", \"Close\",\"5\",\"0\",\"PrimaryOnly\",,,\"False\",\"T\",\"EveryTick\")","v":2.9550000000000001},2.0372928176795636E-2,{"$f":"RTD(\"cqg.rtd\",,\"StudyData\", \"Close(\"&$D$12&\") when LocalYear(\"&$D$12&\")=\"&$D$9&\" and localMonth(\"&$D$12&\") =\"&$E$9&\" and LocalDay(\"&$D$12&\")=\"&$F$9&\" and Barix(\"&$D$12&\",reference:=StartOfSession)=\"&A23&\"\", \"Bar\", \"\", \"Close\",\"5\",\"0\",\"PrimaryOnly\",,,\"False\",\"T\",\"EveryTick\")","v":2.8860000000000001},-1.3840830449827002E-3,{"$f":"RTD(\"cqg.rtd\",,\"StudyData\", \"Close(\"&$D$12&\") when LocalYear(\"&$D$12&\")=\"&$D$10&\" and localMonth(\"&$D$12&\") =\"&$E$10&\" and LocalDay(\"&$D$12&\")=\"&$F$10&\" and Barix(\"&$D$12&\",reference:=StartOfSession)=\"&A23&\"\", \"Bar\", \"\", \"Close\",\"5\",\"0\",\"PrimaryOnly\",,,\"False\",\"T\",\"EveryTick\")","v":2.8929999999999998},-1.2627986348122991E-2,null,null,null,""]
[23,"09:55:00",null,6,"#.000000",null,null,{"$f":"RTD(\"cqg.rtd\",,\"StudyData\", \"Close(\"&$D$12&\") when LocalYear(\"&$D$12&\")=\"&$D$1&\" and localMonth(\"&$D$12&\") =\"&$E$1&\" and LocalDay(\"&$D$12&\")=\"&$F$1&\" and Barix(\"&$D$12&\",reference:=StartOfSession)=\"&A24&\"\", \"Bar\", \"\", \"Close\",\"5\",\"0\",\"PrimaryOnly\",,,\"False\",\"T\",\"EveryTick\")","v":""},{"$error":"#N/A"},{"$f":"RTD(\"cqg.rtd\",,\"StudyData\", \"Close(\"&$D$12&\") when LocalYear(\"&$D$12&\")=\"&$D$2&\" and localMonth(\"&$D$12&\") =\"&$E$2&\" and LocalDay(\"&$D$12&\")=\"&$F$2&\" and Barix(\"&$D$12&\",reference:=StartOfSession)=\"&A24&\"\", \"Bar\", \"\", \"Close\",\"5\",\"0\",\"PrimaryOnly\",,,\"False\",\"T\",\"EveryTick\")","v":3.0219999999999998},1.9224283305227637E-2,{"$f":"RTD(\"cqg.rtd\",,\"StudyData\", \"Close(\"&$D$12&\") when LocalYear(\"&$D$12&\")=\"&$D$3&\" and localMonth(\"&$D$12&\") =\"&$E$3&\" and LocalDay(\"&$D$12&\")=\"&$F$3&\" and Barix(\"&$D$12&\",reference:=StartOfSession)=\"&A24&\"\", \"Bar\", \"\", \"Close\",\"5\",\"0\",\"PrimaryOnly\",,,\"False\",\"T\",\"EveryTick\")","v":2.9540000000000002},-3.0374620317245686E-3,{"$f":"RTD(\"cqg.rtd\",,\"StudyData\", \"Close(\"&$D$12&\") when LocalYear(\"&$D$12&\")=\"&$D$4&\" and localMonth(\"&$D$12&\") =\"&$E$4&\" and LocalDay(\"&$D$12&\")=\"&$F$4&\" and Barix(\"&$D$12&\",reference:=StartOfSession)=\"&A24&\"\", \"Bar\", \"\", \"Close\",\"5\",\"0\",\"PrimaryOnly\",,,\"False\",\"T\",\"EveryTick\")","v":2.9710000000000001},1.0888057162300112E-2,{"$f":"RTD(\"cqg.rtd\",,\"StudyData\", \"Close(\"&$D$12&\") when LocalYear(\"&$D$12&\")=\"&$D$5&\" and localMonth(\"&$D$12&\") =\"&$E$5&\" and LocalDay(\"&$D$12&\")=\"&$F$5&\" and Barix(\"&$D$12&\",reference:=StartOfSession)=\"&A24&\"\", \"Bar\", \"\", \"Close\",\"5\",\"0\",\"PrimaryOnly\",,,\"False\",\"T\",\"EveryTick\")","v":2.923},-8.8165479823668364E-3,{"$f":"RTD(\"cqg.rtd\",,\"StudyData\", \"Close(\"&$D$12&\") when LocalYear(\"&$D$12&\")=\"&$D$6&\" and localMonth(\"&$D$12&\") =\"&$E$6&\" and LocalDay(\"&$D$12&\")=\"&$F$6&\" and Barix(\"&$D$12&\",reference:=StartOfSession)=\"&A24&\"\", \"Bar\", \"\", \"Close\",\"5\",\"0\",\"PrimaryOnly\",,,\"False\",\"T\",\"EveryTick\")","v":2.9449999999999998},1.903114186851201E-2,{"$f":"RTD(\"cqg.rtd\",,\"StudyData\", \"Close(\"&$D$12&\") when LocalYear(\"&$D$12&\")=\"&$D$7&\" and localMonth(\"&$D$12&\") =\"&$E$7&\" and LocalDay(\"&$D$12&\")=\"&$F$7&\" and Barix(\"&$D$12&\",reference:=StartOfSession)=\"&A24&\"\", \"Bar\", \"\", \"Close\",\"5\",\"0\",\"PrimaryOnly\",,,\"False\",\"T\",\"EveryTick\")","v":2.8860000000000001},-1.5017064846416395E-2,{"$f":"RTD(\"cqg.rtd\",,\"StudyData\", \"Close(\"&$D$12&\") when LocalYear(\"&$D$12&\")=\"&$D$8&\" and localMonth(\"&$D$12&\") =\"&$E$8&\" and LocalDay(\"&$D$12&\")=\"&$F$8&\" and Barix(\"&$D$12&\",reference:=StartOfSession)=\"&A24&\"\", \"Bar\", \"\", \"Close\",\"5\",\"0\",\"PrimaryOnly\",,,\"False\",\"T\",\"EveryTick\")","v":2.9489999999999998},1.8301104972375668E-2,{"$f":"RTD(\"cqg.rtd\",,\"StudyData\", \"Close(\"&$D$12&\") when LocalYear(\"&$D$12&\")=\"&$D$9&\" and localMonth(\"&$D$12&\") =\"&$E$9&\" and LocalDay(\"&$D$12&\")=\"&$F$9&\" and Barix(\"&$D$12&\",reference:=StartOfSession)=\"&A24&\"\", \"Bar\", \"\", \"Close\",\"5\",\"0\",\"PrimaryOnly\",,,\"False\",\"T\",\"EveryTick\")","v":2.8820000000000001},-2.7681660899654004E-3,{"$f":"RTD(\"cqg.rtd\",,\"StudyData\", \"Close(\"&$D$12&\") when LocalYear(\"&$D$12&\")=\"&$D$10&\" and localMonth(\"&$D$12&\") =\"&$E$10&\" and LocalDay(\"&$D$12&\")=\"&$F$10&\" and Barix(\"&$D$12&\",reference:=StartOfSession)=\"&A24&\"\", \"Bar\", \"\", \"Close\",\"5\",\"0\",\"PrimaryOnly\",,,\"False\",\"T\",\"EveryTick\")","v":2.8980000000000001},-1.092150170648465E-2,null,null,null,""]
[24,"10:00:00",null,7,"#.0000000",null,null,{"$f":"RTD(\"cqg.rtd\",,\"StudyData\", \"Close(\"&$D$12&\") when LocalYear(\"&$D$12&\")=\"&$D$1&\" and localMonth(\"&$D$12&\") =\"&$E$1&\" and LocalDay(\"&$D$12&\")=\"&$F$1&\" and Barix(\"&$D$12&\",reference:=StartOfSession)=\"&A25&\"\", \"Bar\", \"\", \"Close\",\"5\",\"0\",\"PrimaryOnly\",,,\"False\",\"T\",\"EveryTick\")","v":""},{"$error":"#N/A"},{"$f":"RTD(\"cqg.rtd\",,\"StudyData\", \"Close(\"&$D$12&\") when LocalYear(\"&$D$12&\")=\"&$D$2&\" and localMonth(\"&$D$12&\") =\"&$E$2&\" and LocalDay(\"&$D$12&\")=\"&$F$2&\" and Barix(\"&$D$12&\",reference:=StartOfSession)=\"&A25&\"\", \"Bar\", \"\", \"Close\",\"5\",\"0\",\"PrimaryOnly\",,,\"False\",\"T\",\"EveryTick\")","v":3.0219999999999998},1.9224283305227637E-2,{"$f":"RTD(\"cqg.rtd\",,\"StudyData\", \"Close(\"&$D$12&\") when LocalYear(\"&$D$12&\")=\"&$D$3&\" and localMonth(\"&$D$12&\") =\"&$E$3&\" and LocalDay(\"&$D$12&\")=\"&$F$3&\" and Barix(\"&$D$12&\",reference:=StartOfSession)=\"&A25&\"\", \"Bar\", \"\", \"Close\",\"5\",\"0\",\"PrimaryOnly\",,,\"False\",\"T\",\"EveryTick\")","v":2.9529999999999998},-3.374957813027415E-3,{"$f":"RTD(\"cqg.rtd\",,\"StudyData\", \"Close(\"&$D$12&\") when LocalYear(\"&$D$12&\")=\"&$D$4&\" and localMonth(\"&$D$12&\") =\"&$E$4&\" and LocalDay(\"&$D$12&\")=\"&$F$4&\" and Barix(\"&$D$12&\",reference:=StartOfSession)=\"&A25&\"\", \"Bar\", \"\", \"Close\",\"5\",\"0\",\"PrimaryOnly\",,,\"False\",\"T\",\"EveryTick\")","v":2.9710000000000001},1.0888057162300112E-2,{"$f":"RTD(\"cqg.rtd\",,\"StudyData\", \"Close(\"&$D$12&\") when LocalYear(\"&$D$12&\")=\"&$D$5&\" and localMonth(\"&$D$12&\") =\"&$E$5&\" and LocalDay(\"&$D$12&\")=\"&$F$5&\" and Barix(\"&$D$12&\",reference:=StartOfSession)=\"&A25&\"\", \"Bar\", \"\", \"Close\",\"5\",\"0\",\"PrimaryOnly\",,,\"False\",\"T\",\"EveryTick\")","v":2.923},-8.8165479823668364E-3,{"$f":"RTD(\"cqg.rtd\",,\"StudyData\", \"Close(\"&$D$12&\") when LocalYear(\"&$D$12&\")=\"&$D$6&\" and localMonth(\"&$D$12&\") =\"&$E$6&\" and LocalDay(\"&$D$12&\")=\"&$F$6&\" and Barix(\"&$D$12&\",reference:=StartOfSession)=\"&A25&\"\", \"Bar\", \"\", \"Close\",\"5\",\"0\",\"PrimaryOnly\",,,\"False\",\"T\",\"EveryTick\")","v":2.9430000000000001},1.8339100346020737E-2,{"$f":"RTD(\"cqg.rtd\",,\"StudyData\", \"Close(\"&$D$12&\") when LocalYear(\"&$D$12&\")=\"&$D$7&\" and localMonth(\"&$D$12&\") =\"&$E$7&\" and LocalDay(\"&$D$12&\")=\"&$F$7&\" and Barix(\"&$D$12&\",reference:=StartOfSession)=\"&A25&\"\", \"Bar\", \"\", \"Close\",\"5\",\"0\",\"PrimaryOnly\",,,\"False\",\"T\",\"EveryTick\")","v":2.8849999999999998},-1.5358361774744153E-2,{"$f":"RTD(\"cqg.rtd\",,\"StudyData\", \"Close(\"&$D$12&\") when LocalYear(\"&$D$12&\")=\"&$D$8&\" and localMonth(\"&$D$12&\") =\"&$E$8&\" and LocalDay(\"&$D$12&\")=\"&$F$8&\" and Barix(\"&$D$12&\",reference:=StartOfSession)=\"&A25&\"\", \"Bar\", \"\", \"Close\",\"5\",\"0\",\"PrimaryOnly\",,,\"False\",\"T\",\"EveryTick\")","v":2.95},1.86464088397791E-2,{"$f":"RTD(\"cqg.rtd\",,\"StudyData\", \"Close(\"&$D$12&\") when LocalYear(\"&$D$12&\")=\"&$D$9&\" and localMonth(\"&$D$12&\") =\"&$E$9&\" and LocalDay(\"&$D$12&\")=\"&$F$9&\" and Barix(\"&$D$12&\",reference:=StartOfSession)=\"&A25&\"\", \"Bar\", \"\", \"Close\",\"5\",\"0\",\"PrimaryOnly\",,,\"False\",\"T\",\"EveryTick\")","v":2.883},-2.4221453287197638E-3,{"$f":"RTD(\"cqg.rtd\",,\"StudyData\", \"Close(\"&$D$12&\") when LocalYear(\"&$D$12&\")=\"&$D$10&\" and localMonth(\"&$D$12&\") =\"&$E$10&\" and LocalDay(\"&$D$12&\")=\"&$F$10&\" and Barix(\"&$D$12&\",reference:=StartOfSession)=\"&A25&\"\", \"Bar\", \"\", \"Close\",\"5\",\"0\",\"PrimaryOnly\",,,\"False\",\"T\",\"EveryTick\")","v":2.8959999999999999},-1.1604095563140017E-2,null,null,null,""]
[25,"10:05:00",{"$f":"IF(WEEKDAY(TODAY())=7,TODAY()-1,IF(WEEKDAY(TODAY())=1,TODAY()-2,TODAY()))","v":"2018-06-18"},{"$f":"YEAR(C26)","v":2018},{"$f":"MONTH(C26)","v":6},{"$f":"DAY(C26)","v":18},null,{"$f":"RTD(\"cqg.rtd\",,\"StudyData\", \"Close(\"&$D$12&\") when LocalYear(\"&$D$12&\")=\"&$D$1&\" and localMonth(\"&$D$12&\") =\"&$E$1&\" and LocalDay(\"&$D$12&\")=\"&$F$1&\" and Barix(\"&$D$12&\",reference:=StartOfSession)=\"&A26&\"\", \"Bar\", \"\", \"Close\",\"5\",\"0\",\"PrimaryOnly\",,,\"False\",\"T\",\"EveryTick\")","v":""},{"$error":"#N/A"},{"$f":"RTD(\"cqg.rtd\",,\"StudyData\", \"Close(\"&$D$12&\") when LocalYear(\"&$D$12&\")=\"&$D$2&\" and localMonth(\"&$D$12&\") =\"&$E$2&\" and LocalDay(\"&$D$12&\")=\"&$F$2&\" and Barix(\"&$D$12&\",reference:=StartOfSession)=\"&A26&\"\", \"Bar\", \"\", \"Close\",\"5\",\"0\",\"PrimaryOnly\",,,\"False\",\"T\",\"EveryTick\")","v":3.0249999999999999},2.0236087689713342E-2,{"$f":"RTD(\"cqg.rtd\",,\"StudyData\", \"Close(\"&$D$12&\") when LocalYear(\"&$D$12&\")=\"&$D$3&\" and localMonth(\"&$D$12&\") =\"&$E$3&\" and LocalDay(\"&$D$12&\")=\"&$F$3&\" and Barix(\"&$D$12&\",reference:=StartOfSession)=\"&A26&\"\", \"Bar\", \"\", \"Close\",\"5\",\"0\",\"PrimaryOnly\",,,\"False\",\"T\",\"EveryTick\")","v":2.9580000000000002},-1.6874789065136325E-3,{"$f":"RTD(\"cqg.rtd\",,\"StudyData\", \"Close(\"&$D$12&\") when LocalYear(\"&$D$12&\")=\"&$D$4&\" and localMonth(\"&$D$12&\") =\"&$E$4&\" and LocalDay(\"&$D$12&\")=\"&$F$4&\" and Barix(\"&$D$12&\",reference:=StartOfSession)=\"&A26&\"\", \"Bar\", \"\", \"Close\",\"5\",\"0\",\"PrimaryOnly\",,,\"False\",\"T\",\"EveryTick\")","v":2.972},1.1228308948621953E-2,{"$f":"RTD(\"cqg.rtd\",,\"StudyData\", \"Close(\"&$D$12&\") when LocalYear(\"&$D$12&\")=\"&$D$5&\" and localMonth(\"&$D$12&\") =\"&$E$5&\" and LocalDay(\"&$D$12&\")=\"&$F$5&\" and Barix(\"&$D$12&\",reference:=StartOfSession)=\"&A26&\"\", \"Bar\", \"\", \"Close\",\"5\",\"0\",\"PrimaryOnly\",,,\"False\",\"T\",\"EveryTick\")","v":2.923},-8.8165479823668364E-3,{"$f":"RTD(\"cqg.rtd\",,\"StudyData\", \"Close(\"&$D$12&\") when LocalYear(\"&$D$12&\")=\"&$D$6&\" and localMonth(\"&$D$12&\") =\"&$E$6&\" and LocalDay(\"&$D$12&\")=\"&$F$6&\" and Barix(\"&$D$12&\",reference:=StartOfSession)=\"&A26&\"\", \"Bar\", \"\", \"Close\",\"5\",\"0\",\"PrimaryOnly\",,,\"False\",\"T\",\"EveryTick\")","v":2.9420000000000002},1.7993079584775102E-2,{"$f":"RTD(\"cqg.rtd\",,\"StudyData\", \"Close(\"&$D$12&\") when LocalYear(\"&$D$12&\")=\"&$D$7&\" and localMonth(\"&$D$12&\") =\"&$E$7&\" and LocalDay(\"&$D$12&\")=\"&$F$7&\" and Barix(\"&$D$12&\",reference:=StartOfSession)=\"&A26&\"\", \"Bar\", \"\", \"Close\",\"5\",\"0\",\"PrimaryOnly\",,,\"False\",\"T\",\"EveryTick\")","v":2.8839999999999999},-1.5699658703071762E-2,{"$f":"RTD(\"cqg.rtd\",,\"StudyData\", \"Close(\"&$D$12&\") when LocalYear(\"&$D$12&\")=\"&$D$8&\" and localMonth(\"&$D$12&\") =\"&$E$8&\" and LocalDay(\"&$D$12&\")=\"&$F$8&\" and Barix(\"&$D$12&\",reference:=StartOfSession)=\"&A26&\"\", \"Bar\", \"\", \"Close\",\"5\",\"0\",\"PrimaryOnly\",,,\"False\",\"T\",\"EveryTick\")","v":2.944},1.6574585635359133E-2,{"$f":"RTD(\"cqg.rtd\",,\"StudyData\", \"Close(\"&$D$12&\") when LocalYear(\"&$D$12&\")=\"&$D$9&\" and localMonth(\"&$D$12&\") =\"&$E$9&\" and LocalDay(\"&$D$12&\")=\"&$F$9&\" and Barix(\"&$D$12&\",reference:=StartOfSession)=\"&A26&\"\", \"Bar\", \"\", \"Close\",\"5\",\"0\",\"PrimaryOnly\",,,\"False\",\"T\",\"EveryTick\")","v":2.8809999999999998},-3.1141868512111906E-3,{"$f":"RTD(\"cqg.rtd\",,\"StudyData\", \"Close(\"&$D$12&\") when LocalYear(\"&$D$12&\")=\"&$D$10&\" and localMonth(\"&$D$12&\") =\"&$E$10&\" and LocalDay(\"&$D$12&\")=\"&$F$10&\" and Barix(\"&$D$12&\",reference:=StartOfSession)=\"&A26&\"\", \"Bar\", \"\", \"Close\",\"5\",\"0\",\"PrimaryOnly\",,,\"False\",\"T\",\"EveryTick\")","v":2.895},-1.1945392491467624E-2,null,null,null,""]
[26,"10:10:00",{"$f":"WORKDAY(C26,-1)","v":"2018-06-15"},{"$f":"YEAR(C27)","v":2018},{"$f":"MONTH(C27)","v":6},{"$f":"DAY(C27)","v":15},{"$f":"IF(RTD(\"cqg.rtd\",,\"StudyData\", \"Close(\"&$D$12&\") when LocalYear(\"&$D$12&\")=\"&D27&\" and localMonth(\"&$D$12&\") =\"&E27&\" and LocalDay(\"&$D$12&\")=\"&F27&\" and Barix(\"&$D$12&\",reference:=StartOfSession)=65\", \"Bar\", \"\", \"Close\",\"5\",\"0\",\"PrimaryOnly\",,,\"False\",\"T\",\"EveryTick\")=\"\",2,1)","v":1},{"$f":"RTD(\"cqg.rtd\",,\"StudyData\", \"Close(\"&$D$12&\") when LocalYear(\"&$D$12&\")=\"&$D$1&\" and localMonth(\"&$D$12&\") =\"&$E$1&\" and LocalDay(\"&$D$12&\")=\"&$F$1&\" and Barix(\"&$D$12&\",reference:=StartOfSession)=\"&A27&\"\", \"Bar\", \"\", \"Close\",\"5\",\"0\",\"PrimaryOnly\",,,\"False\",\"T\",\"EveryTick\")","v":""},{"$error":"#N/A"},{"$f":"RTD(\"cqg.rtd\",,\"StudyData\", \"Close(\"&$D$12&\") when LocalYear(\"&$D$12&\")=\"&$D$2&\" and localMonth(\"&$D$12&\") =\"&$E$2&\" and LocalDay(\"&$D$12&\")=\"&$F$2&\" and Barix(\"&$D$12&\",reference:=StartOfSession)=\"&A27&\"\", \"Bar\", \"\", \"Close\",\"5\",\"0\",\"PrimaryOnly\",,,\"False\",\"T\",\"EveryTick\")","v":3.0259999999999998},2.0573355817875193E-2,{"$f":"RTD(\"cqg.rtd\",,\"StudyData\", \"Close(\"&$D$12&\") when LocalYear(\"&$D$12&\")=\"&$D$3&\" and localMonth(\"&$D$12&\") =\"&$E$3&\" and LocalDay(\"&$D$12&\")=\"&$F$3&\" and Barix(\"&$D$12&\",reference:=StartOfSession)=\"&A27&\"\", \"Bar\", \"\", \"Close\",\"5\",\"0\",\"PrimaryOnly\",,,\"False\",\"T\",\"EveryTick\")","v":2.964},3.3749578130269652E-4,{"$f":"RTD(\"cqg.rtd\",,\"StudyData\", \"Close(\"&$D$12&\") when LocalYear(\"&$D$12&\")=\"&$D$4&\" and localMonth(\"&$D$12&\") =\"&$E$4&\" and LocalDay(\"&$D$12&\")=\"&$F$4&\" and Barix(\"&$D$12&\",reference:=StartOfSession)=\"&A27&\"\", \"Bar\", \"\", \"Close\",\"5\",\"0\",\"PrimaryOnly\",,,\"False\",\"T\",\"EveryTick\")","v":2.972},1.1228308948621953E-2,{"$f":"RTD(\"cqg.rtd\",,\"StudyData\", \"Close(\"&$D$12&\") when LocalYear(\"&$D$12&\")=\"&$D$5&\" and localMonth(\"&$D$12&\") =\"&$E$5&\" and LocalDay(\"&$D$12&\")=\"&$F$5&\" and Barix(\"&$D$12&\",reference:=StartOfSession)=\"&A27&\"\", \"Bar\", \"\", \"Close\",\"5\",\"0\",\"PrimaryOnly\",,,\"False\",\"T\",\"EveryTick\")","v":2.9249999999999998},-8.1383519837233045E-3,{"$f":"RTD(\"cqg.rtd\",,\"StudyData\", \"Close(\"&$D$12&\") when LocalYear(\"&$D$12&\")=\"&$D$6&\" and localMonth(\"&$D$12&\") =\"&$E$6&\" and LocalDay(\"&$D$12&\")=\"&$F$6&\" and Barix(\"&$D$12&\",reference:=StartOfSession)=\"&A27&\"\", \"Bar\", \"\", \"Close\",\"5\",\"0\",\"PrimaryOnly\",,,\"False\",\"T\",\"EveryTick\")","v":2.9420000000000002},1.7993079584775102E-2,{"$f":"RTD(\"cqg.rtd\",,\"StudyData\", \"Close(\"&$D$12&\") when LocalYear(\"&$D$12&\")=\"&$D$7&\" and localMonth(\"&$D$12&\") =\"&$E$7&\" and LocalDay(\"&$D$12&\")=\"&$F$7&\" and Barix(\"&$D$12&\",reference:=StartOfSession)=\"&A27&\"\", \"Bar\", \"\", \"Close\",\"5\",\"0\",\"PrimaryOnly\",,,\"False\",\"T\",\"EveryTick\")","v":2.8820000000000001},-1.6382252559726976E-2,{"$f":"RTD(\"cqg.rtd\",,\"StudyData\", \"Close(\"&$D$12&\") when LocalYear(\"&$D$12&\")=\"&$D$8&\" and localMonth(\"&$D$12&\") =\"&$E$8&\" and LocalDay(\"&$D$12&\")=\"&$F$8&\" and Barix(\"&$D$12&\",reference:=StartOfSession)=\"&A27&\"\", \"Bar\", \"\", \"Close\",\"5\",\"0\",\"PrimaryOnly\",,,\"False\",\"T\",\"EveryTick\")","v":2.9460000000000002},1.7265193370165837E-2,{"$f":"RTD(\"cqg.rtd\",,\"StudyData\", \"Close(\"&$D$12&\") when LocalYear(\"&$D$12&\")=\"&$D$9&\" and localMonth(\"&$D$12&\") =\"&$E$9&\" and LocalDay(\"&$D$12&\")=\"&$F$9&\" and Barix(\"&$D$12&\",reference:=StartOfSession)=\"&A27&\"\", \"Bar\", \"\", \"Close\",\"5\",\"0\",\"PrimaryOnly\",,,\"False\",\"T\",\"EveryTick\")","v":2.8809999999999998},-3.1141868512111906E-3,{"$f":"RTD(\"cqg.rtd\",,\"StudyData\", \"Close(\"&$D$12&\") when LocalYear(\"&$D$12&\")=\"&$D$10&\" and localMonth(\"&$D$12&\") =\"&$E$10&\" and LocalDay(\"&$D$12&\")=\"&$F$10&\" and Barix(\"&$D$12&\",reference:=StartOfSession)=\"&A27&\"\", \"Bar\", \"\", \"Close\",\"5\",\"0\",\"PrimaryOnly\",,,\"False\",\"T\",\"EveryTick\")","v":2.8959999999999999},-1.1604095563140017E-2,null,null,null,""]
[27,"10:15:00",{"$f":"WORKDAY(C27,-1)","v":"2018-06-14"},2018,6,14,{"$f":"IF(RTD(\"cqg.rtd\",,\"StudyData\", \"Close(\"&$D$12&\") when LocalYear(\"&$D$12&\")=\"&D28&\" and localMonth(\"&$D$12&\") =\"&E28&\" and LocalDay(\"&$D$12&\")=\"&F28&\" and Barix(\"&$D$12&\",reference:=StartOfSession)=65\", \"Bar\", \"\", \"Close\",\"5\",\"0\",\"PrimaryOnly\",,,\"False\",\"T\",\"EveryTick\")=\"\",2,1)","v":1},{"$f":"RTD(\"cqg.rtd\",,\"StudyData\", \"Close(\"&$D$12&\") when LocalYear(\"&$D$12&\")=\"&$D$1&\" and localMonth(\"&$D$12&\") =\"&$E$1&\" and LocalDay(\"&$D$12&\")=\"&$F$1&\" and Barix(\"&$D$12&\",reference:=StartOfSession)=\"&A28&\"\", \"Bar\", \"\", \"Close\",\"5\",\"0\",\"PrimaryOnly\",,,\"False\",\"T\",\"EveryTick\")","v":""},{"$error":"#N/A"},{"$f":"RTD(\"cqg.rtd\",,\"StudyData\", \"Close(\"&$D$12&\") when LocalYear(\"&$D$12&\")=\"&$D$2&\" and localMonth(\"&$D$12&\") =\"&$E$2&\" and LocalDay(\"&$D$12&\")=\"&$F$2&\" and Barix(\"&$D$12&\",reference:=StartOfSession)=\"&A28&\"\", \"Bar\", \"\", \"Close\",\"5\",\"0\",\"PrimaryOnly\",,,\"False\",\"T\",\"EveryTick\")","v":3.0249999999999999},2.0236087689713342E-2,{"$f":"RTD(\"cqg.rtd\",,\"StudyData\", \"Close(\"&$D$12&\") when LocalYear(\"&$D$12&\")=\"&$D$3&\" and localMonth(\"&$D$12&\") =\"&$E$3&\" and LocalDay(\"&$D$12&\")=\"&$F$3&\" and Barix(\"&$D$12&\",reference:=StartOfSession)=\"&A28&\"\", \"Bar\", \"\", \"Close\",\"5\",\"0\",\"PrimaryOnly\",,,\"False\",\"T\",\"EveryTick\")","v":2.968},1.6874789065136325E-3,{"$f":"RTD(\"cqg.rtd\",,\"StudyData\", \"Close(\"&$D$12&\") when LocalYear(\"&$D$12&\")=\"&$D$4&\" and localMonth(\"&$D$12&\") =\"&$E$4&\" and LocalDay(\"&$D$12&\")=\"&$F$4&\" and Barix(\"&$D$12&\",reference:=StartOfSession)=\"&A28&\"\", \"Bar\", \"\", \"Close\",\"5\",\"0\",\"PrimaryOnly\",,,\"False\",\"T\",\"EveryTick\")","v":2.9769999999999999},1.2929567880231307E-2,{"$f":"RTD(\"cqg.rtd\",,\"StudyData\", \"Close(\"&$D$12&\") when LocalYear(\"&$D$12&\")=\"&$D$5&\" and localMonth(\"&$D$12&\") =\"&$E$5&\" and LocalDay(\"&$D$12&\")=\"&$F$5&\" and Barix(\"&$D$12&\",reference:=StartOfSession)=\"&A28&\"\", \"Bar\", \"\", \"Close\",\"5\",\"0\",\"PrimaryOnly\",,,\"False\",\"T\",\"EveryTick\")","v":2.923},-8.8165479823668364E-3,{"$f":"RTD(\"cqg.rtd\",,\"StudyData\", \"Close(\"&$D$12&\") when LocalYear(\"&$D$12&\")=\"&$D$6&\" and localMonth(\"&$D$12&\") =\"&$E$6&\" and LocalDay(\"&$D$12&\")=\"&$F$6&\" and Barix(\"&$D$12&\",reference:=StartOfSession)=\"&A28&\"\", \"Bar\", \"\", \"Close\",\"5\",\"0\",\"PrimaryOnly\",,,\"False\",\"T\",\"EveryTick\")","v":2.9460000000000002},1.9377162629757801E-2,{"$f":"RTD(\"cqg.rtd\",,\"StudyData\", \"Close(\"&$D$12&\") when LocalYear(\"&$D$12&\")=\"&$D$7&\" and localMonth(\"&$D$12&\") =\"&$E$7&\" and LocalDay(\"&$D$12&\")=\"&$F$7&\" and Barix(\"&$D$12&\",reference:=StartOfSession)=\"&A28&\"\", \"Bar\", \"\", \"Close\",\"5\",\"0\",\"PrimaryOnly\",,,\"False\",\"T\",\"EveryTick\")","v":2.883},-1.6040955631399369E-2,{"$f":"RTD(\"cqg.rtd\",,\"StudyData\", \"Close(\"&$D$12&\") when LocalYear(\"&$D$12&\")=\"&$D$8&\" and localMonth(\"&$D$12&\") =\"&$E$8&\" and LocalDay(\"&$D$12&\")=\"&$F$8&\" and Barix(\"&$D$12&\",reference:=StartOfSession)=\"&A28&\"\", \"Bar\", \"\", \"Close\",\"5\",\"0\",\"PrimaryOnly\",,,\"False\",\"T\",\"EveryTick\")","v":2.9460000000000002},1.7265193370165837E-2,{"$f":"RTD(\"cqg.rtd\",,\"StudyData\", \"Close(\"&$D$12&\") when LocalYear(\"&$D$12&\")=\"&$D$9&\" and localMonth(\"&$D$12&\") =\"&$E$9&\" and LocalDay(\"&$D$12&\")=\"&$F$9&\" and Barix(\"&$D$12&\",reference:=StartOfSession)=\"&A28&\"\", \"Bar\", \"\", \"Close\",\"5\",\"0\",\"PrimaryOnly\",,,\"False\",\"T\",\"EveryTick\")","v":2.8889999999999998},-3.4602076124579031E-4,{"$f":"RTD(\"cqg.rtd\",,\"StudyData\", \"Close(\"&$D$12&\") when LocalYear(\"&$D$12&\")=\"&$D$10&\" and localMonth(\"&$D$12&\") =\"&$E$10&\" and LocalDay(\"&$D$12&\")=\"&$F$10&\" and Barix(\"&$D$12&\",reference:=StartOfSession)=\"&A28&\"\", \"Bar\", \"\", \"Close\",\"5\",\"0\",\"PrimaryOnly\",,,\"False\",\"T\",\"EveryTick\")","v":2.8940000000000001},-1.2286689419795232E-2,null,null,null,""]
[28,"10:20:00","2018-06-13",2018,6,13,{"$f":"IF(RTD(\"cqg.rtd\",,\"StudyData\", \"Close(\"&$D$12&\") when LocalYear(\"&$D$12&\")=\"&D29&\" and localMonth(\"&$D$12&\") =\"&E29&\" and LocalDay(\"&$D$12&\")=\"&F29&\" and Barix(\"&$D$12&\",reference:=StartOfSession)=65\", \"Bar\", \"\", \"Close\",\"5\",\"0\",\"PrimaryOnly\",,,\"False\",\"T\",\"EveryTick\")=\"\",2,1)","v":1},{"$f":"RTD(\"cqg.rtd\",,\"StudyData\", \"Close(\"&$D$12&\") when LocalYear(\"&$D$12&\")=\"&$D$1&\" and localMonth(\"&$D$12&\") =\"&$E$1&\" and LocalDay(\"&$D$12&\")=\"&$F$1&\" and Barix(\"&$D$12&\",reference:=StartOfSession)=\"&A29&\"\", \"Bar\", \"\", \"Close\",\"5\",\"0\",\"PrimaryOnly\",,,\"False\",\"T\",\"EveryTick\")","v":""},{"$error":"#N/A"},{"$f":"RTD(\"cqg.rtd\",,\"StudyData\", \"Close(\"&$D$12&\") when LocalYear(\"&$D$12&\")=\"&$D$2&\" and localMonth(\"&$D$12&\") =\"&$E$2&\" and LocalDay(\"&$D$12&\")=\"&$F$2&\" and Barix(\"&$D$12&\",reference:=StartOfSession)=\"&A29&\"\", \"Bar\", \"\", \"Close\",\"5\",\"0\",\"PrimaryOnly\",,,\"False\",\"T\",\"EveryTick\")","v":3.0289999999999999},2.1585160202360898E-2,{"$f":"RTD(\"cqg.rtd\",,\"StudyData\", \"Close(\"&$D$12&\") when LocalYear(\"&$D$12&\")=\"&$D$3&\" and localMonth(\"&$D$12&\") =\"&$E$3&\" and LocalDay(\"&$D$12&\")=\"&$F$3&\" and Barix(\"&$D$12&\",reference:=StartOfSession)=\"&A29&\"\", \"Bar\", \"\", \"Close\",\"5\",\"0\",\"PrimaryOnly\",,,\"False\",\"T\",\"EveryTick\")","v":2.9630000000000001},0,{"$f":"RTD(\"cqg.rtd\",,\"StudyData\", \"Close(\"&$D$12&\") when LocalYear(\"&$D$12&\")=\"&$D$4&\" and localMonth(\"&$D$12&\") =\"&$E$4&\" and LocalDay(\"&$D$12&\")=\"&$F$4&\" and Barix(\"&$D$12&\",reference:=StartOfSession)=\"&A29&\"\", \"Bar\", \"\", \"Close\",\"5\",\"0\",\"PrimaryOnly\",,,\"False\",\"T\",\"EveryTick\")","v":2.9750000000000001},1.2249064307587626E-2,{"$f":"RTD(\"cqg.rtd\",,\"StudyData\", \"Close(\"&$D$12&\") when LocalYear(\"&$D$12&\")=\"&$D$5&\" and localMonth(\"&$D$12&\") =\"&$E$5&\" and LocalDay(\"&$D$12&\")=\"&$F$5&\" and Barix(\"&$D$12&\",reference:=StartOfSession)=\"&A29&\"\", \"Bar\", \"\", \"Close\",\"5\",\"0\",\"PrimaryOnly\",,,\"False\",\"T\",\"EveryTick\")","v":2.9209999999999998},-9.494743981010521E-3,{"$f":"RTD(\"cqg.rtd\",,\"StudyData\", \"Close(\"&$D$12&\") when LocalYear(\"&$D$12&\")=\"&$D$6&\" and localMonth(\"&$D$12&\") =\"&$E$6&\" and LocalDay(\"&$D$12&\")=\"&$F$6&\" and Barix(\"&$D$12&\",reference:=StartOfSession)=\"&A29&\"\", \"Bar\", \"\", \"Close\",\"5\",\"0\",\"PrimaryOnly\",,,\"False\",\"T\",\"EveryTick\")","v":2.9470000000000001},1.972318339100344E-2,{"$f":"RTD(\"cqg.rtd\",,\"StudyData\", \"Close(\"&$D$12&\") when LocalYear(\"&$D$12&\")=\"&$D$7&\" and localMonth(\"&$D$12&\") =\"&$E$7&\" and LocalDay(\"&$D$12&\")=\"&$F$7&\" and Barix(\"&$D$12&\",reference:=StartOfSession)=\"&A29&\"\", \"Bar\", \"\", \"Close\",\"5\",\"0\",\"PrimaryOnly\",,,\"False\",\"T\",\"EveryTick\")","v":2.8849999999999998},-1.5358361774744153E-2,{"$f":"RTD(\"cqg.rtd\",,\"StudyData\", \"Close(\"&$D$12&\") when LocalYear(\"&$D$12&\")=\"&$D$8&\" and localMonth(\"&$D$12&\") =\"&$E$8&\" and LocalDay(\"&$D$12&\")=\"&$F$8&\" and Barix(\"&$D$12&\",reference:=StartOfSession)=\"&A29&\"\", \"Bar\", \"\", \"Close\",\"5\",\"0\",\"PrimaryOnly\",,,\"False\",\"T\",\"EveryTick\")","v":2.948},1.7955801104972392E-2,{"$f":"RTD(\"cqg.rtd\",,\"StudyData\", \"Close(\"&$D$12&\") when LocalYear(\"&$D$12&\")=\"&$D$9&\" and localMonth(\"&$D$12&\") =\"&$E$9&\" and LocalDay(\"&$D$12&\")=\"&$F$9&\" and Barix(\"&$D$12&\",reference:=StartOfSession)=\"&A29&\"\", \"Bar\", \"\", \"Close\",\"5\",\"0\",\"PrimaryOnly\",,,\"False\",\"T\",\"EveryTick\")","v":2.8879999999999999},-6.9204152249142687E-4,{"$f":"RTD(\"cqg.rtd\",,\"StudyData\", \"Close(\"&$D$12&\") when LocalYear(\"&$D$12&\")=\"&$D$10&\" and localMonth(\"&$D$12&\") =\"&$E$10&\" and LocalDay(\"&$D$12&\")=\"&$F$10&\" and Barix(\"&$D$12&\",reference:=StartOfSession)=\"&A29&\"\", \"Bar\", \"\", \"Close\",\"5\",\"0\",\"PrimaryOnly\",,,\"False\",\"T\",\"EveryTick\")","v":2.891},-1.3310580204778205E-2,null,null,null,""]
[29,"10:25:00","2018-06-12",2018,6,12,{"$f":"IF(RTD(\"cqg.rtd\",,\"StudyData\", \"Close(\"&$D$12&\") when LocalYear(\"&$D$12&\")=\"&D30&\" and localMonth(\"&$D$12&\") =\"&E30&\" and LocalDay(\"&$D$12&\")=\"&F30&\" and Barix(\"&$D$12&\",reference:=StartOfSession)=65\", \"Bar\", \"\", \"Close\",\"5\",\"0\",\"PrimaryOnly\",,,\"False\",\"T\",\"EveryTick\")=\"\",2,1)","v":1},{"$f":"RTD(\"cqg.rtd\",,\"StudyData\", \"Close(\"&$D$12&\") when LocalYear(\"&$D$12&\")=\"&$D$1&\" and localMonth(\"&$D$12&\") =\"&$E$1&\" and LocalDay(\"&$D$12&\")=\"&$F$1&\" and Barix(\"&$D$12&\",reference:=StartOfSession)=\"&A30&\"\", \"Bar\", \"\", \"Close\",\"5\",\"0\",\"PrimaryOnly\",,,\"False\",\"T\",\"EveryTick\")","v":""},{"$error":"#N/A"},{"$f":"RTD(\"cqg.rtd\",,\"StudyData\", \"Close(\"&$D$12&\") when LocalYear(\"&$D$12&\")=\"&$D$2&\" and localMonth(\"&$D$12&\") =\"&$E$2&\" and LocalDay(\"&$D$12&\")=\"&$F$2&\" and Barix(\"&$D$12&\",reference:=StartOfSession)=\"&A30&\"\", \"Bar\", \"\", \"Close\",\"5\",\"0\",\"PrimaryOnly\",,,\"False\",\"T\",\"EveryTick\")","v":3.0230000000000001},1.9561551433389637E-2,{"$f":"RTD(\"cqg.rtd\",,\"StudyData\", \"Close(\"&$D$12&\") when LocalYear(\"&$D$12&\")=\"&$D$3&\" and localMonth(\"&$D$12&\") =\"&$E$3&\" and LocalDay(\"&$D$12&\")=\"&$F$3&\" and Barix(\"&$D$12&\",reference:=StartOfSession)=\"&A30&\"\", \"Bar\", \"\", \"Close\",\"5\",\"0\",\"PrimaryOnly\",,,\"False\",\"T\",\"EveryTick\")","v":2.964},3.3749578130269652E-4,{"$f":"RTD(\"cqg.rtd\",,\"StudyData\", \"Close(\"&$D$12&\") when LocalYear(\"&$D$12&\")=\"&$D$4&\" and localMonth(\"&$D$12&\") =\"&$E$4&\" and LocalDay(\"&$D$12&\")=\"&$F$4&\" and Barix(\"&$D$12&\",reference:=StartOfSession)=\"&A30&\"\", \"Bar\", \"\", \"Close\",\"5\",\"0\",\"PrimaryOnly\",,,\"False\",\"T\",\"EveryTick\")","v":2.9729999999999999},1.1568560734943794E-2,{"$f":"RTD(\"cqg.rtd\",,\"StudyData\", \"Close(\"&$D$12&\") when LocalYear(\"&$D$12&\")=\"&$D$5&\" and localMonth(\"&$D$12&\") =\"&$E$5&\" and LocalDay(\"&$D$12&\")=\"&$F$5&\" and Barix(\"&$D$12&\",reference:=StartOfSession)=\"&A30&\"\", \"Bar\", \"\", \"Close\",\"5\",\"0\",\"PrimaryOnly\",,,\"False\",\"T\",\"EveryTick\")","v":2.923},-8.8165479823668364E-3,{"$f":"RTD(\"cqg.rtd\",,\"StudyData\", \"Close(\"&$D$12&\") when LocalYear(\"&$D$12&\")=\"&$D$6&\" and localMonth(\"&$D$12&\") =\"&$E$6&\" and LocalDay(\"&$D$12&\")=\"&$F$6&\" and Barix(\"&$D$12&\",reference:=StartOfSession)=\"&A30&\"\", \"Bar\", \"\", \"Close\",\"5\",\"0\",\"PrimaryOnly\",,,\"False\",\"T\",\"EveryTick\")","v":2.948},2.0069204152249075E-2,{"$f":"RTD(\"cqg.rtd\",,\"StudyData\", \"Close(\"&$D$12&\") when LocalYear(\"&$D$12&\")=\"&$D$7&\" and localMonth(\"&$D$12&\") =\"&$E$7&\" and LocalDay(\"&$D$12&\")=\"&$F$7&\" and Barix(\"&$D$12&\",reference:=StartOfSession)=\"&A30&\"\", \"Bar\", \"\", \"Close\",\"5\",\"0\",\"PrimaryOnly\",,,\"False\",\"T\",\"EveryTick\")","v":2.883},-1.6040955631399369E-2,{"$f":"RTD(\"cqg.rtd\",,\"StudyData\", \"Close(\"&$D$12&\") when LocalYear(\"&$D$12&\")=\"&$D$8&\" and localMonth(\"&$D$12&\") =\"&$E$8&\" and LocalDay(\"&$D$12&\")=\"&$F$8&\" and Barix(\"&$D$12&\",reference:=StartOfSession)=\"&A30&\"\", \"Bar\", \"\", \"Close\",\"5\",\"0\",\"PrimaryOnly\",,,\"False\",\"T\",\"EveryTick\")","v":2.9489999999999998},1.8301104972375668E-2,{"$f":"RTD(\"cqg.rtd\",,\"StudyData\", \"Close(\"&$D$12&\") when LocalYear(\"&$D$12&\")=\"&$D$9&\" and localMonth(\"&$D$12&\") =\"&$E$9&\" and LocalDay(\"&$D$12&\")=\"&$F$9&\" and Barix(\"&$D$12&\",reference:=StartOfSession)=\"&A30&\"\", \"Bar\", \"\", \"Close\",\"5\",\"0\",\"PrimaryOnly\",,,\"False\",\"T\",\"EveryTick\")","v":2.887},-1.0380622837370635E-3,{"$f":"RTD(\"cqg.rtd\",,\"StudyData\", \"Close(\"&$D$12&\") when LocalYear(\"&$D$12&\")=\"&$D$10&\" and localMonth(\"&$D$12&\") =\"&$E$10&\" and LocalDay(\"&$D$12&\")=\"&$F$10&\" and Barix(\"&$D$12&\",reference:=StartOfSession)=\"&A30&\"\", \"Bar\", \"\", \"Close\",\"5\",\"0\",\"PrimaryOnly\",,,\"False\",\"T\",\"EveryTick\")","v":2.89},-1.3651877133105813E-2,null,null,null,""]
[30,"10:30:00","2018-06-11",2018,6,11,{"$f":"IF(RTD(\"cqg.rtd\",,\"StudyData\", \"Close(\"&$D$12&\") when LocalYear(\"&$D$12&\")=\"&D31&\" and localMonth(\"&$D$12&\") =\"&E31&\" and LocalDay(\"&$D$12&\")=\"&F31&\" and Barix(\"&$D$12&\",reference:=StartOfSession)=65\", \"Bar\", \"\", \"Close\",\"5\",\"0\",\"PrimaryOnly\",,,\"False\",\"T\",\"EveryTick\")=\"\",2,1)","v":1},{"$f":"RTD(\"cqg.rtd\",,\"StudyData\", \"Close(\"&$D$12&\") when LocalYear(\"&$D$12&\")=\"&$D$1&\" and localMonth(\"&$D$12&\") =\"&$E$1&\" and LocalDay(\"&$D$12&\")=\"&$F$1&\" and Barix(\"&$D$12&\",reference:=StartOfSession)=\"&A31&\"\", \"Bar\", \"\", \"Close\",\"5\",\"0\",\"PrimaryOnly\",,,\"False\",\"T\",\"EveryTick\")","v":""},{"$error":"#N/A"},{"$f":"RTD(\"cqg.rtd\",,\"StudyData\", \"Close(\"&$D$12&\") when LocalYear(\"&$D$12&\")=\"&$D$2&\" and localMonth(\"&$D$12&\") =\"&$E$2&\" and LocalDay(\"&$D$12&\")=\"&$F$2&\" and Barix(\"&$D$12&\",reference:=StartOfSession)=\"&A31&\"\", \"Bar\", \"\", \"Close\",\"5\",\"0\",\"PrimaryOnly\",,,\"False\",\"T\",\"EveryTick\")","v":3.024},1.9898819561551491E-2,{"$f":"RTD(\"cqg.rtd\",,\"StudyData\", \"Close(\"&$D$12&\") when LocalYear(\"&$D$12&\")=\"&$D$3&\" and localMonth(\"&$D$12&\") =\"&$E$3&\" and LocalDay(\"&$D$12&\")=\"&$F$3&\" and Barix(\"&$D$12&\",reference:=StartOfSession)=\"&A31&\"\", \"Bar\", \"\", \"Close\",\"5\",\"0\",\"PrimaryOnly\",,,\"False\",\"T\",\"EveryTick\")","v":2.9580000000000002},-1.6874789065136325E-3,{"$f":"RTD(\"cqg.rtd\",,\"StudyData\", \"Close(\"&$D$12&\") when LocalYear(\"&$D$12&\")=\"&$D$4&\" and localMonth(\"&$D$12&\") =\"&$E$4&\" and LocalDay(\"&$D$12&\")=\"&$F$4&\" and Barix(\"&$D$12&\",reference:=StartOfSession)=\"&A31&\"\", \"Bar\", \"\", \"Close\",\"5\",\"0\",\"PrimaryOnly\",,,\"False\",\"T\",\"EveryTick\")","v":2.9740000000000002},1.1908812521265785E-2,{"$f":"RTD(\"cqg.rtd\",,\"StudyData\", \"Close(\"&$D$12&\") when LocalYear(\"&$D$12&\")=\"&$D$5&\" and localMonth(\"&$D$12&\") =\"&$E$5&\" and LocalDay(\"&$D$12&\")=\"&$F$5&\" and Barix(\"&$D$12&\",reference:=StartOfSession)=\"&A31&\"\", \"Bar\", \"\", \"Close\",\"5\",\"0\",\"PrimaryOnly\",,,\"False\",\"T\",\"EveryTick\")","v":2.923},-8.8165479823668364E-3,{"$f":"RTD(\"cqg.rtd\",,\"StudyData\", \"Close(\"&$D$12&\") when LocalYear(\"&$D$12&\")=\"&$D$6&\" and localMonth(\"&$D$12&\") =\"&$E$6&\" and LocalDay(\"&$D$12&\")=\"&$F$6&\" and Barix(\"&$D$12&\",reference:=StartOfSession)=\"&A31&\"\", \"Bar\", \"\", \"Close\",\"5\",\"0\",\"PrimaryOnly\",,,\"False\",\"T\",\"EveryTick\")","v":2.9510000000000001},2.1107266435986139E-2,{"$f":"RTD(\"cqg.rtd\",,\"StudyData\", \"Close(\"&$D$12&\") when LocalYear(\"&$D$12&\")=\"&$D$7&\" and localMonth(\"&$D$12&\") =\"&$E$7&\" and LocalDay(\"&$D$12&\")=\"&$F$7&\" and Barix(\"&$D$12&\",reference:=StartOfSession)=\"&A31&\"\", \"Bar\", \"\", \"Close\",\"5\",\"0\",\"PrimaryOnly\",,,\"False\",\"T\",\"EveryTick\")","v":2.8809999999999998},-1.6723549488054736E-2,{"$f":"RTD(\"cqg.rtd\",,\"StudyData\", \"Close(\"&$D$12&\") when LocalYear(\"&$D$12&\")=\"&$D$8&\" and localMonth(\"&$D$12&\") =\"&$E$8&\" and LocalDay(\"&$D$12&\")=\"&$F$8&\" and Barix(\"&$D$12&\",reference:=StartOfSession)=\"&A31&\"\", \"Bar\", \"\", \"Close\",\"5\",\"0\",\"PrimaryOnly\",,,\"False\",\"T\",\"EveryTick\")","v":2.95},1.86464088397791E-2,{"$f":"RTD(\"cqg.rtd\",,\"StudyData\", \"Close(\"&$D$12&\") when LocalYear(\"&$D$12&\")=\"&$D$9&\" and localMonth(\"&$D$12&\") =\"&$E$9&\" and LocalDay(\"&$D$12&\")=\"&$F$9&\" and Barix(\"&$D$12&\",reference:=StartOfSession)=\"&A31&\"\", \"Bar\", \"\", \"Close\",\"5\",\"0\",\"PrimaryOnly\",,,\"False\",\"T\",\"EveryTick\")","v":2.887},-1.0380622837370635E-3,{"$f":"RTD(\"cqg.rtd\",,\"StudyData\", \"Close(\"&$D$12&\") when LocalYear(\"&$D$12&\")=\"&$D$10&\" and localMonth(\"&$D$12&\") =\"&$E$10&\" and LocalDay(\"&$D$12&\")=\"&$F$10&\" and Barix(\"&$D$12&\",reference:=StartOfSession)=\"&A31&\"\", \"Bar\", \"\", \"Close\",\"5\",\"0\",\"PrimaryOnly\",,,\"False\",\"T\",\"EveryTick\")","v":2.89},-1.3651877133105813E-2,null,null,null,""]
[31,"10:35:00","2018-06-08",2018,6,8,{"$f":"IF(RTD(\"cqg.rtd\",,\"StudyData\", \"Close(\"&$D$12&\") when LocalYear(\"&$D$12&\")=\"&D32&\" and localMonth(\"&$D$12&\") =\"&E32&\" and LocalDay(\"&$D$12&\")=\"&F32&\" and Barix(\"&$D$12&\",reference:=StartOfSession)=65\", \"Bar\", \"\", \"Close\",\"5\",\"0\",\"PrimaryOnly\",,,\"False\",\"T\",\"EveryTick\")=\"\",2,1)","v":1},{"$f":"RTD(\"cqg.rtd\",,\"StudyData\", \"Close(\"&$D$12&\") when LocalYear(\"&$D$12&\")=\"&$D$1&\" and localMonth(\"&$D$12&\") =\"&$E$1&\" and LocalDay(\"&$D$12&\")=\"&$F$1&\" and Barix(\"&$D$12&\",reference:=StartOfSession)=\"&A32&\"\", \"Bar\", \"\", \"Close\",\"5\",\"0\",\"PrimaryOnly\",,,\"False\",\"T\",\"EveryTick\")","v":""},{"$error":"#N/A"},{"$f":"RTD(\"cqg.rtd\",,\"StudyData\", \"Close(\"&$D$12&\") when LocalYear(\"&$D$12&\")=\"&$D$2&\" and localMonth(\"&$D$12&\") =\"&$E$2&\" and LocalDay(\"&$D$12&\")=\"&$F$2&\" and Barix(\"&$D$12&\",reference:=StartOfSession)=\"&A32&\"\", \"Bar\", \"\", \"Close\",\"5\",\"0\",\"PrimaryOnly\",,,\"False\",\"T\",\"EveryTick\")","v":3.028},2.1247892074199047E-2,{"$f":"RTD(\"cqg.rtd\",,\"StudyData\", \"Close(\"&$D$12&\") when LocalYear(\"&$D$12&\")=\"&$D$3&\" and localMonth(\"&$D$12&\") =\"&$E$3&\" and LocalDay(\"&$D$12&\")=\"&$F$3&\" and Barix(\"&$D$12&\",reference:=StartOfSession)=\"&A32&\"\", \"Bar\", \"\", \"Close\",\"5\",\"0\",\"PrimaryOnly\",,,\"False\",\"T\",\"EveryTick\")","v":2.9580000000000002},-1.6874789065136325E-3,{"$f":"RTD(\"cqg.rtd\",,\"StudyData\", \"Close(\"&$D$12&\") when LocalYear(\"&$D$12&\")=\"&$D$4&\" and localMonth(\"&$D$12&\") =\"&$E$4&\" and LocalDay(\"&$D$12&\")=\"&$F$4&\" and Barix(\"&$D$12&\",reference:=StartOfSession)=\"&A32&\"\", \"Bar\", \"\", \"Close\",\"5\",\"0\",\"PrimaryOnly\",,,\"False\",\"T\",\"EveryTick\")","v":2.9689999999999999},1.020755358965628E-2,{"$f":"RTD(\"cqg.rtd\",,\"StudyData\", \"Close(\"&$D$12&\") when LocalYear(\"&$D$12&\")=\"&$D$5&\" and localMonth(\"&$D$12&\") =\"&$E$5&\" and LocalDay(\"&$D$12&\")=\"&$F$5&\" and Barix(\"&$D$12&\",reference:=StartOfSession)=\"&A32&\"\", \"Bar\", \"\", \"Close\",\"5\",\"0\",\"PrimaryOnly\",,,\"False\",\"T\",\"EveryTick\")","v":2.923},-8.8165479823668364E-3,{"$f":"RTD(\"cqg.rtd\",,\"StudyData\", \"Close(\"&$D$12&\") when LocalYear(\"&$D$12&\")=\"&$D$6&\" and localMonth(\"&$D$12&\") =\"&$E$6&\" and LocalDay(\"&$D$12&\")=\"&$F$6&\" and Barix(\"&$D$12&\",reference:=StartOfSession)=\"&A32&\"\", \"Bar\", \"\", \"Close\",\"5\",\"0\",\"PrimaryOnly\",,,\"False\",\"T\",\"EveryTick\")","v":2.9529999999999998},2.1799307958477412E-2,{"$f":"RTD(\"cqg.rtd\",,\"StudyData\", \"Close(\"&$D$12&\") when LocalYear(\"&$D$12&\")=\"&$D$7&\" and localMonth(\"&$D$12&\") =\"&$E$7&\" and LocalDay(\"&$D$12&\")=\"&$F$7&\" and Barix(\"&$D$12&\",reference:=StartOfSession)=\"&A32&\"\", \"Bar\", \"\", \"Close\",\"5\",\"0\",\"PrimaryOnly\",,,\"False\",\"T\",\"EveryTick\")","v":2.8809999999999998},-1.6723549488054736E-2,{"$f":"RTD(\"cqg.rtd\",,\"StudyData\", \"Close(\"&$D$12&\") when LocalYear(\"&$D$12&\")=\"&$D$8&\" and localMonth(\"&$D$12&\") =\"&$E$8&\" and LocalDay(\"&$D$12&\")=\"&$F$8&\" and Barix(\"&$D$12&\",reference:=StartOfSession)=\"&A32&\"\", \"Bar\", \"\", \"Close\",\"5\",\"0\",\"PrimaryOnly\",,,\"False\",\"T\",\"EveryTick\")","v":2.9489999999999998},1.8301104972375668E-2,{"$f":"RTD(\"cqg.rtd\",,\"StudyData\", \"Close(\"&$D$12&\") when LocalYear(\"&$D$12&\")=\"&$D$9&\" and localMonth(\"&$D$12&\") =\"&$E$9&\" and LocalDay(\"&$D$12&\")=\"&$F$9&\" and Barix(\"&$D$12&\",reference:=StartOfSession)=\"&A32&\"\", \"Bar\", \"\", \"Close\",\"5\",\"0\",\"PrimaryOnly\",,,\"False\",\"T\",\"EveryTick\")","v":2.891},3.4602076124563662E-4,{"$f":"RTD(\"cqg.rtd\",,\"StudyData\", \"Close(\"&$D$12&\") when LocalYear(\"&$D$12&\")=\"&$D$10&\" and localMonth(\"&$D$12&\") =\"&$E$10&\" and LocalDay(\"&$D$12&\")=\"&$F$10&\" and Barix(\"&$D$12&\",reference:=StartOfSession)=\"&A32&\"\", \"Bar\", \"\", \"Close\",\"5\",\"0\",\"PrimaryOnly\",,,\"False\",\"T\",\"EveryTick\")","v":2.8849999999999998},-1.5358361774744153E-2,null,null,null,""]
[32,"10:40:00","2018-06-07",2018,6,7,{"$f":"IF(RTD(\"cqg.rtd\",,\"StudyData\", \"Close(\"&$D$12&\") when LocalYear(\"&$D$12&\")=\"&D33&\" and localMonth(\"&$D$12&\") =\"&E33&\" and LocalDay(\"&$D$12&\")=\"&F33&\" and Barix(\"&$D$12&\",reference:=StartOfSession)=65\", \"Bar\", \"\", \"Close\",\"5\",\"0\",\"PrimaryOnly\",,,\"False\",\"T\",\"EveryTick\")=\"\",2,1)","v":1},{"$f":"RTD(\"cqg.rtd\",,\"StudyData\", \"Close(\"&$D$12&\") when LocalYear(\"&$D$12&\")=\"&$D$1&\" and localMonth(\"&$D$12&\") =\"&$E$1&\" and LocalDay(\"&$D$12&\")=\"&$F$1&\" and Barix(\"&$D$12&\",reference:=StartOfSession)=\"&A33&\"\", \"Bar\", \"\", \"Close\",\"5\",\"0\",\"PrimaryOnly\",,,\"False\",\"T\",\"EveryTick\")","v":""},{"$error":"#N/A"},{"$f":"RTD(\"cqg.rtd\",,\"StudyData\", \"Close(\"&$D$12&\") when LocalYear(\"&$D$12&\")=\"&$D$2&\" and localMonth(\"&$D$12&\") =\"&$E$2&\" and LocalDay(\"&$D$12&\")=\"&$F$2&\" and Barix(\"&$D$12&\",reference:=StartOfSession)=\"&A33&\"\", \"Bar\", \"\", \"Close\",\"5\",\"0\",\"PrimaryOnly\",,,\"False\",\"T\",\"EveryTick\")","v":3.0259999999999998},2.0573355817875193E-2,{"$f":"RTD(\"cqg.rtd\",,\"StudyData\", \"Close(\"&$D$12&\") when LocalYear(\"&$D$12&\")=\"&$D$3&\" and localMonth(\"&$D$12&\") =\"&$E$3&\" and LocalDay(\"&$D$12&\")=\"&$F$3&\" and Barix(\"&$D$12&\",reference:=StartOfSession)=\"&A33&\"\", \"Bar\", \"\", \"Close\",\"5\",\"0\",\"PrimaryOnly\",,,\"False\",\"T\",\"EveryTick\")","v":2.9580000000000002},-1.6874789065136325E-3,{"$f":"RTD(\"cqg.rtd\",,\"StudyData\", \"Close(\"&$D$12&\") when LocalYear(\"&$D$12&\")=\"&$D$4&\" and localMonth(\"&$D$12&\") =\"&$E$4&\" and LocalDay(\"&$D$12&\")=\"&$F$4&\" and Barix(\"&$D$12&\",reference:=StartOfSession)=\"&A33&\"\", \"Bar\", \"\", \"Close\",\"5\",\"0\",\"PrimaryOnly\",,,\"False\",\"T\",\"EveryTick\")","v":2.97},1.0547805375978271E-2,{"$f":"RTD(\"cqg.rtd\",,\"StudyData\", \"Close(\"&$D$12&\") when LocalYear(\"&$D$12&\")=\"&$D$5&\" and localMonth(\"&$D$12&\") =\"&$E$5&\" and LocalDay(\"&$D$12&\")=\"&$F$5&\" and Barix(\"&$D$12&\",reference:=StartOfSession)=\"&A33&\"\", \"Bar\", \"\", \"Close\",\"5\",\"0\",\"PrimaryOnly\",,,\"False\",\"T\",\"EveryTick\")","v":2.923},-8.8165479823668364E-3,{"$f":"RTD(\"cqg.rtd\",,\"StudyData\", \"Close(\"&$D$12&\") when LocalYear(\"&$D$12&\")=\"&$D$6&\" and localMonth(\"&$D$12&\") =\"&$E$6&\" and LocalDay(\"&$D$12&\")=\"&$F$6&\" and Barix(\"&$D$12&\",reference:=StartOfSession)=\"&A33&\"\", \"Bar\", \"\", \"Close\",\"5\",\"0\",\"PrimaryOnly\",,,\"False\",\"T\",\"EveryTick\")","v":2.9529999999999998},2.1799307958477412E-2,{"$f":"RTD(\"cqg.rtd\",,\"StudyData\", \"Close(\"&$D$12&\") when LocalYear(\"&$D$12&\")=\"&$D$7&\" and localMonth(\"&$D$12&\") =\"&$E$7&\" and LocalDay(\"&$D$12&\")=\"&$F$7&\" and Barix(\"&$D$12&\",reference:=StartOfSession)=\"&A33&\"\", \"Bar\", \"\", \"Close\",\"5\",\"0\",\"PrimaryOnly\",,,\"False\",\"T\",\"EveryTick\")","v":2.8780000000000001},-1.7747440273037558E-2,{"$f":"RTD(\"cqg.rtd\",,\"StudyData\", \"Close(\"&$D$12&\") when LocalYear(\"&$D$12&\")=\"&$D$8&\" and localMonth(\"&$D$12&\") =\"&$E$8&\" and LocalDay(\"&$D$12&\")=\"&$F$8&\" and Barix(\"&$D$12&\",reference:=StartOfSession)=\"&A33&\"\", \"Bar\", \"\", \"Close\",\"5\",\"0\",\"PrimaryOnly\",,,\"False\",\"T\",\"EveryTick\")","v":2.9489999999999998},1.8301104972375668E-2,{"$f":"RTD(\"cqg.rtd\",,\"StudyData\", \"Close(\"&$D$12&\") when LocalYear(\"&$D$12&\")=\"&$D$9&\" and localMonth(\"&$D$12&\") =\"&$E$9&\" and LocalDay(\"&$D$12&\")=\"&$F$9&\" and Barix(\"&$D$12&\",reference:=StartOfSession)=\"&A33&\"\", \"Bar\", \"\", \"Close\",\"5\",\"0\",\"PrimaryOnly\",,,\"False\",\"T\",\"EveryTick\")","v":2.887},-1.0380622837370635E-3,{"$f":"RTD(\"cqg.rtd\",,\"StudyData\", \"Close(\"&$D$12&\") when LocalYear(\"&$D$12&\")=\"&$D$10&\" and localMonth(\"&$D$12&\") =\"&$E$10&\" and LocalDay(\"&$D$12&\")=\"&$F$10&\" and Barix(\"&$D$12&\",reference:=StartOfSession)=\"&A33&\"\", \"Bar\", \"\", \"Close\",\"5\",\"0\",\"PrimaryOnly\",,,\"False\",\"T\",\"EveryTick\")","v":2.887},-1.4675767918088787E-2,null,null,null,""]
[33,"10:45:00","2018-06-06",2018,6,6,{"$f":"IF(RTD(\"cqg.rtd\",,\"StudyData\", \"Close(\"&$D$12&\") when LocalYear(\"&$D$12&\")=\"&D34&\" and localMonth(\"&$D$12&\") =\"&E34&\" and LocalDay(\"&$D$12&\")=\"&F34&\" and Barix(\"&$D$12&\",reference:=StartOfSession)=65\", \"Bar\", \"\", \"Close\",\"5\",\"0\",\"PrimaryOnly\",,,\"False\",\"T\",\"EveryTick\")=\"\",2,1)","v":1},{"$f":"RTD(\"cqg.rtd\",,\"StudyData\", \"Close(\"&$D$12&\") when LocalYear(\"&$D$12&\")=\"&$D$1&\" and localMonth(\"&$D$12&\") =\"&$E$1&\" and LocalDay(\"&$D$12&\")=\"&$F$1&\" and Barix(\"&$D$12&\",reference:=StartOfSession)=\"&A34&\"\", \"Bar\", \"\", \"Close\",\"5\",\"0\",\"PrimaryOnly\",,,\"False\",\"T\",\"EveryTick\")","v":""},{"$error":"#N/A"},{"$f":"RTD(\"cqg.rtd\",,\"StudyData\", \"Close(\"&$D$12&\") when LocalYear(\"&$D$12&\")=\"&$D$2&\" and localMonth(\"&$D$12&\") =\"&$E$2&\" and LocalDay(\"&$D$12&\")=\"&$F$2&\" and Barix(\"&$D$12&\",reference:=StartOfSession)=\"&A34&\"\", \"Bar\", \"\", \"Close\",\"5\",\"0\",\"PrimaryOnly\",,,\"False\",\"T\",\"EveryTick\")","v":3.0249999999999999},2.0236087689713342E-2,{"$f":"RTD(\"cqg.rtd\",,\"StudyData\", \"Close(\"&$D$12&\") when LocalYear(\"&$D$12&\")=\"&$D$3&\" and localMonth(\"&$D$12&\") =\"&$E$3&\" and LocalDay(\"&$D$12&\")=\"&$F$3&\" and Barix(\"&$D$12&\",reference:=StartOfSession)=\"&A34&\"\", \"Bar\", \"\", \"Close\",\"5\",\"0\",\"PrimaryOnly\",,,\"False\",\"T\",\"EveryTick\")","v":2.9609999999999999},-6.7499156260554299E-4,{"$f":"RTD(\"cqg.rtd\",,\"StudyData\", \"Close(\"&$D$12&\") when LocalYear(\"&$D$12&\")=\"&$D$4&\" and localMonth(\"&$D$12&\") =\"&$E$4&\" and LocalDay(\"&$D$12&\")=\"&$F$4&\" and Barix(\"&$D$12&\",reference:=StartOfSession)=\"&A34&\"\", \"Bar\", \"\", \"Close\",\"5\",\"0\",\"PrimaryOnly\",,,\"False\",\"T\",\"EveryTick\")","v":2.97},1.0547805375978271E-2,{"$f":"RTD(\"cqg.rtd\",,\"StudyData\", \"Close(\"&$D$12&\") when LocalYear(\"&$D$12&\")=\"&$D$5&\" and localMonth(\"&$D$12&\") =\"&$E$5&\" and LocalDay(\"&$D$12&\")=\"&$F$5&\" and Barix(\"&$D$12&\",reference:=StartOfSession)=\"&A34&\"\", \"Bar\", \"\", \"Close\",\"5\",\"0\",\"PrimaryOnly\",,,\"False\",\"T\",\"EveryTick\")","v":2.923},-8.8165479823668364E-3,{"$f":"RTD(\"cqg.rtd\",,\"StudyData\", \"Close(\"&$D$12&\") when LocalYear(\"&$D$12&\")=\"&$D$6&\" and localMonth(\"&$D$12&\") =\"&$E$6&\" and LocalDay(\"&$D$12&\")=\"&$F$6&\" and Barix(\"&$D$12&\",reference:=StartOfSession)=\"&A34&\"\", \"Bar\", \"\", \"Close\",\"5\",\"0\",\"PrimaryOnly\",,,\"False\",\"T\",\"EveryTick\")","v":2.95},2.0761245674740501E-2,{"$f":"RTD(\"cqg.rtd\",,\"StudyData\", \"Close(\"&$D$12&\") when LocalYear(\"&$D$12&\")=\"&$D$7&\" and localMonth(\"&$D$12&\") =\"&$E$7&\" and LocalDay(\"&$D$12&\")=\"&$F$7&\" and Barix(\"&$D$12&\",reference:=StartOfSession)=\"&A34&\"\", \"Bar\", \"\", \"Close\",\"5\",\"0\",\"PrimaryOnly\",,,\"False\",\"T\",\"EveryTick\")","v":2.88},-1.7064846416382343E-2,{"$f":"RTD(\"cqg.rtd\",,\"StudyData\", \"Close(\"&$D$12&\") when LocalYear(\"&$D$12&\")=\"&$D$8&\" and localMonth(\"&$D$12&\") =\"&$E$8&\" and LocalDay(\"&$D$12&\")=\"&$F$8&\" and Barix(\"&$D$12&\",reference:=StartOfSession)=\"&A34&\"\", \"Bar\", \"\", \"Close\",\"5\",\"0\",\"PrimaryOnly\",,,\"False\",\"T\",\"EveryTick\")","v":2.9489999999999998},1.8301104972375668E-2,{"$f":"RTD(\"cqg.rtd\",,\"StudyData\", \"Close(\"&$D$12&\") when LocalYear(\"&$D$12&\")=\"&$D$9&\" and localMonth(\"&$D$12&\") =\"&$E$9&\" and LocalDay(\"&$D$12&\")=\"&$F$9&\" and Barix(\"&$D$12&\",reference:=StartOfSession)=\"&A34&\"\", \"Bar\", \"\", \"Close\",\"5\",\"0\",\"PrimaryOnly\",,,\"False\",\"T\",\"EveryTick\")","v":2.8879999999999999},-6.9204152249142687E-4,{"$f":"RTD(\"cqg.rtd\",,\"StudyData\", \"Close(\"&$D$12&\") when LocalYear(\"&$D$12&\")=\"&$D$10&\" and localMonth(\"&$D$12&\") =\"&$E$10&\" and LocalDay(\"&$D$12&\")=\"&$F$10&\" and Barix(\"&$D$12&\",reference:=StartOfSession)=\"&A34&\"\", \"Bar\", \"\", \"Close\",\"5\",\"0\",\"PrimaryOnly\",,,\"False\",\"T\",\"EveryTick\")","v":2.891},-1.3310580204778205E-2,null,null,null,""]
[34,"10:50:00","2018-06-05",2018,6,5,{"$f":"IF(RTD(\"cqg.rtd\",,\"StudyData\", \"Close(\"&$D$12&\") when LocalYear(\"&$D$12&\")=\"&D35&\" and localMonth(\"&$D$12&\") =\"&E35&\" and LocalDay(\"&$D$12&\")=\"&F35&\" and Barix(\"&$D$12&\",reference:=StartOfSession)=65\", \"Bar\", \"\", \"Close\",\"5\",\"0\",\"PrimaryOnly\",,,\"False\",\"T\",\"EveryTick\")=\"\",2,1)","v":1},{"$f":"RTD(\"cqg.rtd\",,\"StudyData\", \"Close(\"&$D$12&\") when LocalYear(\"&$D$12&\")=\"&$D$1&\" and localMonth(\"&$D$12&\") =\"&$E$1&\" and LocalDay(\"&$D$12&\")=\"&$F$1&\" and Barix(\"&$D$12&\",reference:=StartOfSession)=\"&A35&\"\", \"Bar\", \"\", \"Close\",\"5\",\"0\",\"PrimaryOnly\",,,\"False\",\"T\",\"EveryTick\")","v":""},{"$error":"#N/A"},{"$f":"RTD(\"cqg.rtd\",,\"StudyData\", \"Close(\"&$D$12&\") when LocalYear(\"&$D$12&\")=\"&$D$2&\" and localMonth(\"&$D$12&\") =\"&$E$2&\" and LocalDay(\"&$D$12&\")=\"&$F$2&\" and Barix(\"&$D$12&\",reference:=StartOfSession)=\"&A35&\"\", \"Bar\", \"\", \"Close\",\"5\",\"0\",\"PrimaryOnly\",,,\"False\",\"T\",\"EveryTick\")","v":3.0249999999999999},2.0236087689713342E-2,{"$f":"RTD(\"cqg.rtd\",,\"StudyData\", \"Close(\"&$D$12&\") when LocalYear(\"&$D$12&\")=\"&$D$3&\" and localMonth(\"&$D$12&\") =\"&$E$3&\" and LocalDay(\"&$D$12&\")=\"&$F$3&\" and Barix(\"&$D$12&\",reference:=StartOfSession)=\"&A35&\"\", \"Bar\", \"\", \"Close\",\"5\",\"0\",\"PrimaryOnly\",,,\"False\",\"T\",\"EveryTick\")","v":2.9580000000000002},-1.6874789065136325E-3,{"$f":"RTD(\"cqg.rtd\",,\"StudyData\", \"Close(\"&$D$12&\") when LocalYear(\"&$D$12&\")=\"&$D$4&\" and localMonth(\"&$D$12&\") =\"&$E$4&\" and LocalDay(\"&$D$12&\")=\"&$F$4&\" and Barix(\"&$D$12&\",reference:=StartOfSession)=\"&A35&\"\", \"Bar\", \"\", \"Close\",\"5\",\"0\",\"PrimaryOnly\",,,\"False\",\"T\",\"EveryTick\")","v":2.9670000000000001},9.5270500170125984E-3,{"$f":"RTD(\"cqg.rtd\",,\"StudyData\", \"Close(\"&$D$12&\") when LocalYear(\"&$D$12&\")=\"&$D$5&\" and localMonth(\"&$D$12&\") =\"&$E$5&\" and LocalDay(\"&$D$12&\")=\"&$F$5&\" and Barix(\"&$D$12&\",reference:=StartOfSession)=\"&A35&\"\", \"Bar\", \"\", \"Close\",\"5\",\"0\",\"PrimaryOnly\",,,\"False\",\"T\",\"EveryTick\")","v":2.9209999999999998},-9.494743981010521E-3,{"$f":"RTD(\"cqg.rtd\",,\"StudyData\", \"Close(\"&$D$12&\") when LocalYear(\"&$D$12&\")=\"&$D$6&\" and localMonth(\"&$D$12&\") =\"&$E$6&\" and LocalDay(\"&$D$12&\")=\"&$F$6&\" and Barix(\"&$D$12&\",reference:=StartOfSession)=\"&A35&\"\", \"Bar\", \"\", \"Close\",\"5\",\"0\",\"PrimaryOnly\",,,\"False\",\"T\",\"EveryTick\")","v":2.95},2.0761245674740501E-2,{"$f":"RTD(\"cqg.rtd\",,\"StudyData\", \"Close(\"&$D$12&\") when LocalYear(\"&$D$12&\")=\"&$D$7&\" and localMonth(\"&$D$12&\") =\"&$E$7&\" and LocalDay(\"&$D$12&\")=\"&$F$7&\" and Barix(\"&$D$12&\",reference:=StartOfSession)=\"&A35&\"\", \"Bar\", \"\", \"Close\",\"5\",\"0\",\"PrimaryOnly\",,,\"False\",\"T\",\"EveryTick\")","v":2.8860000000000001},-1.5017064846416395E-2,{"$f":"RTD(\"cqg.rtd\",,\"StudyData\", \"Close(\"&$D$12&\") when LocalYear(\"&$D$12&\")=\"&$D$8&\" and localMonth(\"&$D$12&\") =\"&$E$8&\" and LocalDay(\"&$D$12&\")=\"&$F$8&\" and Barix(\"&$D$12&\",reference:=StartOfSession)=\"&A35&\"\", \"Bar\", \"\", \"Close\",\"5\",\"0\",\"PrimaryOnly\",,,\"False\",\"T\",\"EveryTick\")","v":2.9489999999999998},1.8301104972375668E-2,{"$f":"RTD(\"cqg.rtd\",,\"StudyData\", \"Close(\"&$D$12&\") when LocalYear(\"&$D$12&\")=\"&$D$9&\" and localMonth(\"&$D$12&\") =\"&$E$9&\" and LocalDay(\"&$D$12&\")=\"&$F$9&\" and Barix(\"&$D$12&\",reference:=StartOfSession)=\"&A35&\"\", \"Bar\", \"\", \"Close\",\"5\",\"0\",\"PrimaryOnly\",,,\"False\",\"T\",\"EveryTick\")","v":2.887},-1.0380622837370635E-3,{"$f":"RTD(\"cqg.rtd\",,\"StudyData\", \"Close(\"&$D$12&\") when LocalYear(\"&$D$12&\")=\"&$D$10&\" and localMonth(\"&$D$12&\") =\"&$E$10&\" and LocalDay(\"&$D$12&\")=\"&$F$10&\" and Barix(\"&$D$12&\",reference:=StartOfSession)=\"&A35&\"\", \"Bar\", \"\", \"Close\",\"5\",\"0\",\"PrimaryOnly\",,,\"False\",\"T\",\"EveryTick\")","v":2.8889999999999998},-1.3993174061433572E-2,null,null,null,""]
[35,"10:55:00","2018-06-04",2018,6,4,{"$f":"IF(RTD(\"cqg.rtd\",,\"StudyData\", \"Close(\"&$D$12&\") when LocalYear(\"&$D$12&\")=\"&D36&\" and localMonth(\"&$D$12&\") =\"&E36&\" and LocalDay(\"&$D$12&\")=\"&F36&\" and Barix(\"&$D$12&\",reference:=StartOfSession)=65\", \"Bar\", \"\", \"Close\",\"5\",\"0\",\"PrimaryOnly\",,,\"False\",\"T\",\"EveryTick\")=\"\",2,1)","v":1},{"$f":"RTD(\"cqg.rtd\",,\"StudyData\", \"Close(\"&$D$12&\") when LocalYear(\"&$D$12&\")=\"&$D$1&\" and localMonth(\"&$D$12&\") =\"&$E$1&\" and LocalDay(\"&$D$12&\")=\"&$F$1&\" and Barix(\"&$D$12&\",reference:=StartOfSession)=\"&A36&\"\", \"Bar\", \"\", \"Close\",\"5\",\"0\",\"PrimaryOnly\",,,\"False\",\"T\",\"EveryTick\")","v":""},{"$error":"#N/A"},{"$f":"RTD(\"cqg.rtd\",,\"StudyData\", \"Close(\"&$D$12&\") when LocalYear(\"&$D$12&\")=\"&$D$2&\" and localMonth(\"&$D$12&\") =\"&$E$2&\" and LocalDay(\"&$D$12&\")=\"&$F$2&\" and Barix(\"&$D$12&\",reference:=StartOfSession)=\"&A36&\"\", \"Bar\", \"\", \"Close\",\"5\",\"0\",\"PrimaryOnly\",,,\"False\",\"T\",\"EveryTick\")","v":3.0230000000000001},1.9561551433389637E-2,{"$f":"RTD(\"cqg.rtd\",,\"StudyData\", \"Close(\"&$D$12&\") when LocalYear(\"&$D$12&\")=\"&$D$3&\" and localMonth(\"&$D$12&\") =\"&$E$3&\" and LocalDay(\"&$D$12&\")=\"&$F$3&\" and Barix(\"&$D$12&\",reference:=StartOfSession)=\"&A36&\"\", \"Bar\", \"\", \"Close\",\"5\",\"0\",\"PrimaryOnly\",,,\"False\",\"T\",\"EveryTick\")","v":2.9590000000000001},-1.3499831252109359E-3,{"$f":"RTD(\"cqg.rtd\",,\"StudyData\", \"Close(\"&$D$12&\") when LocalYear(\"&$D$12&\")=\"&$D$4&\" and localMonth(\"&$D$12&\") =\"&$E$4&\" and LocalDay(\"&$D$12&\")=\"&$F$4&\" and Barix(\"&$D$12&\",reference:=StartOfSession)=\"&A36&\"\", \"Bar\", \"\", \"Close\",\"5\",\"0\",\"PrimaryOnly\",,,\"False\",\"T\",\"EveryTick\")","v":2.964},8.5062946580469236E-3,{"$f":"RTD(\"cqg.rtd\",,\"StudyData\", \"Close(\"&$D$12&\") when LocalYear(\"&$D$12&\")=\"&$D$5&\" and localMonth(\"&$D$12&\") =\"&$E$5&\" and LocalDay(\"&$D$12&\")=\"&$F$5&\" and Barix(\"&$D$12&\",reference:=StartOfSession)=\"&A36&\"\", \"Bar\", \"\", \"Close\",\"5\",\"0\",\"PrimaryOnly\",,,\"False\",\"T\",\"EveryTick\")","v":2.9279999999999999},-7.121057985757853E-3,{"$f":"RTD(\"cqg.rtd\",,\"StudyData\", \"Close(\"&$D$12&\") when LocalYear(\"&$D$12&\")=\"&$D$6&\" and localMonth(\"&$D$12&\") =\"&$E$6&\" and LocalDay(\"&$D$12&\")=\"&$F$6&\" and Barix(\"&$D$12&\",reference:=StartOfSession)=\"&A36&\"\", \"Bar\", \"\", \"Close\",\"5\",\"0\",\"PrimaryOnly\",,,\"False\",\"T\",\"EveryTick\")","v":2.9510000000000001},2.1107266435986139E-2,{"$f":"RTD(\"cqg.rtd\",,\"StudyData\", \"Close(\"&$D$12&\") when LocalYear(\"&$D$12&\")=\"&$D$7&\" and localMonth(\"&$D$12&\") =\"&$E$7&\" and LocalDay(\"&$D$12&\")=\"&$F$7&\" and Barix(\"&$D$12&\",reference:=StartOfSession)=\"&A36&\"\", \"Bar\", \"\", \"Close\",\"5\",\"0\",\"PrimaryOnly\",,,\"False\",\"T\",\"EveryTick\")","v":2.8849999999999998},-1.5358361774744153E-2,{"$f":"RTD(\"cqg.rtd\",,\"StudyData\", \"Close(\"&$D$12&\") when LocalYear(\"&$D$12&\")=\"&$D$8&\" and localMonth(\"&$D$12&\") =\"&$E$8&\" and LocalDay(\"&$D$12&\")=\"&$F$8&\" and Barix(\"&$D$12&\",reference:=StartOfSession)=\"&A36&\"\", \"Bar\", \"\", \"Close\",\"5\",\"0\",\"PrimaryOnly\",,,\"False\",\"T\",\"EveryTick\")","v":2.9449999999999998},1.6919889502762409E-2,{"$f":"RTD(\"cqg.rtd\",,\"StudyData\", \"Close(\"&$D$12&\") when LocalYear(\"&$D$12&\")=\"&$D$9&\" and localMonth(\"&$D$12&\") =\"&$E$9&\" and LocalDay(\"&$D$12&\")=\"&$F$9&\" and Barix(\"&$D$12&\",reference:=StartOfSession)=\"&A36&\"\", \"Bar\", \"\", \"Close\",\"5\",\"0\",\"PrimaryOnly\",,,\"False\",\"T\",\"EveryTick\")","v":2.8839999999999999},-2.0761245674741271E-3,{"$f":"RTD(\"cqg.rtd\",,\"StudyData\", \"Close(\"&$D$12&\") when LocalYear(\"&$D$12&\")=\"&$D$10&\" and localMonth(\"&$D$12&\") =\"&$E$10&\" and LocalDay(\"&$D$12&\")=\"&$F$10&\" and Barix(\"&$D$12&\",reference:=StartOfSession)=\"&A36&\"\", \"Bar\", \"\", \"Close\",\"5\",\"0\",\"PrimaryOnly\",,,\"False\",\"T\",\"EveryTick\")","v":2.8889999999999998},-1.3993174061433572E-2,null,null,null,""]
[36,"11:00:00",null,null,null,null,null,{"$f":"RTD(\"cqg.rtd\",,\"StudyData\", \"Close(\"&$D$12&\") when LocalYear(\"&$D$12&\")=\"&$D$1&\" and localMonth(\"&$D$12&\") =\"&$E$1&\" and LocalDay(\"&$D$12&\")=\"&$F$1&\" and Barix(\"&$D$12&\",reference:=StartOfSession)=\"&A37&\"\", \"Bar\", \"\", \"Close\",\"5\",\"0\",\"PrimaryOnly\",,,\"False\",\"T\",\"EveryTick\")","v":""},{"$error":"#N/A"},{"$f":"RTD(\"cqg.rtd\",,\"StudyData\", \"Close(\"&$D$12&\") when LocalYear(\"&$D$12&\")=\"&$D$2&\" and localMonth(\"&$D$12&\") =\"&$E$2&\" and LocalDay(\"&$D$12&\")=\"&$F$2&\" and Barix(\"&$D$12&\",reference:=StartOfSession)=\"&A37&\"\", \"Bar\", \"\", \"Close\",\"5\",\"0\",\"PrimaryOnly\",,,\"False\",\"T\",\"EveryTick\")","v":3.0230000000000001},1.9561551433389637E-2,{"$f":"RTD(\"cqg.rtd\",,\"StudyData\", \"Close(\"&$D$12&\") when LocalYear(\"&$D$12&\")=\"&$D$3&\" and localMonth(\"&$D$12&\") =\"&$E$3&\" and LocalDay(\"&$D$12&\")=\"&$F$3&\" and Barix(\"&$D$12&\",reference:=StartOfSession)=\"&A37&\"\", \"Bar\", \"\", \"Close\",\"5\",\"0\",\"PrimaryOnly\",,,\"False\",\"T\",\"EveryTick\")","v":2.9580000000000002},-1.6874789065136325E-3,{"$f":"RTD(\"cqg.rtd\",,\"StudyData\", \"Close(\"&$D$12&\") when LocalYear(\"&$D$12&\")=\"&$D$4&\" and localMonth(\"&$D$12&\") =\"&$E$4&\" and LocalDay(\"&$D$12&\")=\"&$F$4&\" and Barix(\"&$D$12&\",reference:=StartOfSession)=\"&A37&\"\", \"Bar\", \"\", \"Close\",\"5\",\"0\",\"PrimaryOnly\",,,\"False\",\"T\",\"EveryTick\")","v":2.9670000000000001},9.5270500170125984E-3,{"$f":"RTD(\"cqg.rtd\",,\"StudyData\", \"Close(\"&$D$12&\") when LocalYear(\"&$D$12&\")=\"&$D$5&\" and localMonth(\"&$D$12&\") =\"&$E$5&\" and LocalDay(\"&$D$12&\")=\"&$F$5&\" and Barix(\"&$D$12&\",reference:=StartOfSession)=\"&A37&\"\", \"Bar\", \"\", \"Close\",\"5\",\"0\",\"PrimaryOnly\",,,\"False\",\"T\",\"EveryTick\")","v":2.9289999999999998},-6.7819599864360862E-3,{"$f":"RTD(\"cqg.rtd\",,\"StudyData\", \"Close(\"&$D$12&\") when LocalYear(\"&$D$12&\")=\"&$D$6&\" and localMonth(\"&$D$12&\") =\"&$E$6&\" and LocalDay(\"&$D$12&\")=\"&$F$6&\" and Barix(\"&$D$12&\",reference:=StartOfSession)=\"&A37&\"\", \"Bar\", \"\", \"Close\",\"5\",\"0\",\"PrimaryOnly\",,,\"False\",\"T\",\"EveryTick\")","v":2.948},2.0069204152249075E-2,{"$f":"RTD(\"cqg.rtd\",,\"StudyData\", \"Close(\"&$D$12&\") when LocalYear(\"&$D$12&\")=\"&$D$7&\" and localMonth(\"&$D$12&\") =\"&$E$7&\" and LocalDay(\"&$D$12&\")=\"&$F$7&\" and Barix(\"&$D$12&\",reference:=StartOfSession)=\"&A37&\"\", \"Bar\", \"\", \"Close\",\"5\",\"0\",\"PrimaryOnly\",,,\"False\",\"T\",\"EveryTick\")","v":2.8849999999999998},-1.5358361774744153E-2,{"$f":"RTD(\"cqg.rtd\",,\"StudyData\", \"Close(\"&$D$12&\") when LocalYear(\"&$D$12&\")=\"&$D$8&\" and localMonth(\"&$D$12&\") =\"&$E$8&\" and LocalDay(\"&$D$12&\")=\"&$F$8&\" and Barix(\"&$D$12&\",reference:=StartOfSession)=\"&A37&\"\", \"Bar\", \"\", \"Close\",\"5\",\"0\",\"PrimaryOnly\",,,\"False\",\"T\",\"EveryTick\")","v":2.9470000000000001},1.7610497237569116E-2,{"$f":"RTD(\"cqg.rtd\",,\"StudyData\", \"Close(\"&$D$12&\") when LocalYear(\"&$D$12&\")=\"&$D$9&\" and localMonth(\"&$D$12&\") =\"&$E$9&\" and LocalDay(\"&$D$12&\")=\"&$F$9&\" and Barix(\"&$D$12&\",reference:=StartOfSession)=\"&A37&\"\", \"Bar\", \"\", \"Close\",\"5\",\"0\",\"PrimaryOnly\",,,\"False\",\"T\",\"EveryTick\")","v":2.8849999999999998},-1.7301038062284904E-3,{"$f":"RTD(\"cqg.rtd\",,\"StudyData\", \"Close(\"&$D$12&\") when LocalYear(\"&$D$12&\")=\"&$D$10&\" and localMonth(\"&$D$12&\") =\"&$E$10&\" and LocalDay(\"&$D$12&\")=\"&$F$10&\" and Barix(\"&$D$12&\",reference:=StartOfSession)=\"&A37&\"\", \"Bar\", \"\", \"Close\",\"5\",\"0\",\"PrimaryOnly\",,,\"False\",\"T\",\"EveryTick\")","v":2.8889999999999998},-1.3993174061433572E-2,null,null,null,""]
[37,"11:05:00",-40,{"$f":" RTD(\"cqg.rtd\",,\"StudyData\", $D$12,  \"Tick\", \"FlatTicks=0\", \"Tick\",\"D\",C38,,,,,\"T\")","v":2.9870000000000001},null,"CLE",null,{"$f":"RTD(\"cqg.rtd\",,\"StudyData\", \"Close(\"&$D$12&\") when LocalYear(\"&$D$12&\")=\"&$D$1&\" and localMonth(\"&$D$12&\") =\"&$E$1&\" and LocalDay(\"&$D$12&\")=\"&$F$1&\" and Barix(\"&$D$12&\",reference:=StartOfSession)=\"&A38&\"\", \"Bar\", \"\", \"Close\",\"5\",\"0\",\"PrimaryOnly\",,,\"False\",\"T\",\"EveryTick\")","v":""},{"$error":"#N/A"},{"$f":"RTD(\"cqg.rtd\",,\"StudyData\", \"Close(\"&$D$12&\") when LocalYear(\"&$D$12&\")=\"&$D$2&\" and localMonth(\"&$D$12&\") =\"&$E$2&\" and LocalDay(\"&$D$12&\")=\"&$F$2&\" and Barix(\"&$D$12&\",reference:=StartOfSession)=\"&A38&\"\", \"Bar\", \"\", \"Close\",\"5\",\"0\",\"PrimaryOnly\",,,\"False\",\"T\",\"EveryTick\")","v":3.0209999999999999},1.8887015177065786E-2,{"$f":"RTD(\"cqg.rtd\",,\"StudyData\", \"Close(\"&$D$12&\") when LocalYear(\"&$D$12&\")=\"&$D$3&\" and localMonth(\"&$D$12&\") =\"&$E$3&\" and LocalDay(\"&$D$12&\")=\"&$F$3&\" and Barix(\"&$D$12&\",reference:=StartOfSession)=\"&A38&\"\", \"Bar\", \"\", \"Close\",\"5\",\"0\",\"PrimaryOnly\",,,\"False\",\"T\",\"EveryTick\")","v":2.9609999999999999},-6.7499156260554299E-4,{"$f":"RTD(\"cqg.rtd\",,\"StudyData\", \"Close(\"&$D$12&\") when LocalYear(\"&$D$12&\")=\"&$D$4&\" and localMonth(\"&$D$12&\") =\"&$E$4&\" and LocalDay(\"&$D$12&\")=\"&$F$4&\" and Barix(\"&$D$12&\",reference:=StartOfSession)=\"&A38&\"\", \"Bar\", \"\", \"Close\",\"5\",\"0\",\"PrimaryOnly\",,,\"False\",\"T\",\"EveryTick\")","v":2.9689999999999999},1.020755358965628E-2,{"$f":"RTD(\"cqg.rtd\",,\"StudyData\", \"Close(\"&$D$12&\") when LocalYear(\"&$D$12&\")=\"&$D$5&\" and localMonth(\"&$D$12&\") =\"&$E$5&\" and LocalDay(\"&$D$12&\")=\"&$F$5&\" and Barix(\"&$D$12&\",reference:=StartOfSession)=\"&A38&\"\", \"Bar\", \"\", \"Close\",\"5\",\"0\",\"PrimaryOnly\",,,\"False\",\"T\",\"EveryTick\")","v":2.93},-6.4428619871141693E-3,{"$f":"RTD(\"cqg.rtd\",,\"StudyData\", \"Close(\"&$D$12&\") when LocalYear(\"&$D$12&\")=\"&$D$6&\" and localMonth(\"&$D$12&\") =\"&$E$6&\" and LocalDay(\"&$D$12&\")=\"&$F$6&\" and Barix(\"&$D$12&\",reference:=StartOfSession)=\"&A38&\"\", \"Bar\", \"\", \"Close\",\"5\",\"0\",\"PrimaryOnly\",,,\"False\",\"T\",\"EveryTick\")","v":2.952},2.1453287197231774E-2,{"$f":"RTD(\"cqg.rtd\",,\"StudyData\", \"Close(\"&$D$12&\") when LocalYear(\"&$D$12&\")=\"&$D$7&\" and localMonth(\"&$D$12&\") =\"&$E$7&\" and LocalDay(\"&$D$12&\")=\"&$F$7&\" and Barix(\"&$D$12&\",reference:=StartOfSession)=\"&A38&\"\", \"Bar\", \"\", \"Close\",\"5\",\"0\",\"PrimaryOnly\",,,\"False\",\"T\",\"EveryTick\")","v":2.883},-1.6040955631399369E-2,{"$f":"RTD(\"cqg.rtd\",,\"StudyData\", \"Close(\"&$D$12&\") when LocalYear(\"&$D$12&\")=\"&$D$8&\" and localMonth(\"&$D$12&\") =\"&$E$8&\" and LocalDay(\"&$D$12&\")=\"&$F$8&\" and Barix(\"&$D$12&\",reference:=StartOfSession)=\"&A38&\"\", \"Bar\", \"\", \"Close\",\"5\",\"0\",\"PrimaryOnly\",,,\"False\",\"T\",\"EveryTick\")","v":2.9449999999999998},1.6919889502762409E-2,{"$f":"RTD(\"cqg.rtd\",,\"StudyData\", \"Close(\"&$D$12&\") when LocalYear(\"&$D$12&\")=\"&$D$9&\" and localMonth(\"&$D$12&\") =\"&$E$9&\" and LocalDay(\"&$D$12&\")=\"&$F$9&\" and Barix(\"&$D$12&\",reference:=StartOfSession)=\"&A38&\"\", \"Bar\", \"\", \"Close\",\"5\",\"0\",\"PrimaryOnly\",,,\"False\",\"T\",\"EveryTick\")","v":2.883},-2.4221453287197638E-3,{"$f":"RTD(\"cqg.rtd\",,\"StudyData\", \"Close(\"&$D$12&\") when LocalYear(\"&$D$12&\")=\"&$D$10&\" and localMonth(\"&$D$12&\") =\"&$E$10&\" and LocalDay(\"&$D$12&\")=\"&$F$10&\" and Barix(\"&$D$12&\",reference:=StartOfSession)=\"&A38&\"\", \"Bar\", \"\", \"Close\",\"5\",\"0\",\"PrimaryOnly\",,,\"False\",\"T\",\"EveryTick\")","v":2.8889999999999998},-1.3993174061433572E-2,null,null,null,""]
[38,"11:10:00",{"$f":"C38+1","v":-39},{"$f":" RTD(\"cqg.rtd\",,\"StudyData\", $D$12,  \"Tick\", \"FlatTicks=0\", \"Tick\",\"D\",C39,,,,,\"T\")","v":2.9860000000000002},null,"BZ",null,{"$f":"RTD(\"cqg.rtd\",,\"StudyData\", \"Close(\"&$D$12&\") when LocalYear(\"&$D$12&\")=\"&$D$1&\" and localMonth(\"&$D$12&\") =\"&$E$1&\" and LocalDay(\"&$D$12&\")=\"&$F$1&\" and Barix(\"&$D$12&\",reference:=StartOfSession)=\"&A39&\"\", \"Bar\", \"\", \"Close\",\"5\",\"0\",\"PrimaryOnly\",,,\"False\",\"T\",\"EveryTick\")","v":""},{"$error":"#N/A"},{"$f":"RTD(\"cqg.rtd\",,\"StudyData\", \"Close(\"&$D$12&\") when LocalYear(\"&$D$12&\")=\"&$D$2&\" and localMonth(\"&$D$12&\") =\"&$E$2&\" and LocalDay(\"&$D$12&\")=\"&$F$2&\" and Barix(\"&$D$12&\",reference:=StartOfSession)=\"&A39&\"\", \"Bar\", \"\", \"Close\",\"5\",\"0\",\"PrimaryOnly\",,,\"False\",\"T\",\"EveryTick\")","v":3.0219999999999998},1.9224283305227637E-2,{"$f":"RTD(\"cqg.rtd\",,\"StudyData\", \"Close(\"&$D$12&\") when LocalYear(\"&$D$12&\")=\"&$D$3&\" and localMonth(\"&$D$12&\") =\"&$E$3&\" and LocalDay(\"&$D$12&\")=\"&$F$3&\" and Barix(\"&$D$12&\",reference:=StartOfSession)=\"&A39&\"\", \"Bar\", \"\", \"Close\",\"5\",\"0\",\"PrimaryOnly\",,,\"False\",\"T\",\"EveryTick\")","v":2.956},-2.3624704691191756E-3,{"$f":"RTD(\"cqg.rtd\",,\"StudyData\", \"Close(\"&$D$12&\") when LocalYear(\"&$D$12&\")=\"&$D$4&\" and localMonth(\"&$D$12&\") =\"&$E$4&\" and LocalDay(\"&$D$12&\")=\"&$F$4&\" and Barix(\"&$D$12&\",reference:=StartOfSession)=\"&A39&\"\", \"Bar\", \"\", \"Close\",\"5\",\"0\",\"PrimaryOnly\",,,\"False\",\"T\",\"EveryTick\")","v":2.9689999999999999},1.020755358965628E-2,{"$f":"RTD(\"cqg.rtd\",,\"StudyData\", \"Close(\"&$D$12&\") when LocalYear(\"&$D$12&\")=\"&$D$5&\" and localMonth(\"&$D$12&\") =\"&$E$5&\" and LocalDay(\"&$D$12&\")=\"&$F$5&\" and Barix(\"&$D$12&\",reference:=StartOfSession)=\"&A39&\"\", \"Bar\", \"\", \"Close\",\"5\",\"0\",\"PrimaryOnly\",,,\"False\",\"T\",\"EveryTick\")","v":2.9279999999999999},-7.121057985757853E-3,{"$f":"RTD(\"cqg.rtd\",,\"StudyData\", \"Close(\"&$D$12&\") when LocalYear(\"&$D$12&\")=\"&$D$6&\" and localMonth(\"&$D$12&\") =\"&$E$6&\" and LocalDay(\"&$D$12&\")=\"&$F$6&\" and Barix(\"&$D$12&\",reference:=StartOfSession)=\"&A39&\"\", \"Bar\", \"\", \"Close\",\"5\",\"0\",\"PrimaryOnly\",,,\"False\",\"T\",\"EveryTick\")","v":2.9510000000000001},2.1107266435986139E-2,{"$f":"RTD(\"cqg.rtd\",,\"StudyData\", \"Close(\"&$D$12&\") when LocalYear(\"&$D$12&\")=\"&$D$7&\" and localMonth(\"&$D$12&\") =\"&$E$7&\" and LocalDay(\"&$D$12&\")=\"&$F$7&\" and Barix(\"&$D$12&\",reference:=StartOfSession)=\"&A39&\"\", \"Bar\", \"\", \"Close\",\"5\",\"0\",\"PrimaryOnly\",,,\"False\",\"T\",\"EveryTick\")","v":2.883},-1.6040955631399369E-2,{"$f":"RTD(\"cqg.rtd\",,\"StudyData\", \"Close(\"&$D$12&\") when LocalYear(\"&$D$12&\")=\"&$D$8&\" and localMonth(\"&$D$12&\") =\"&$E$8&\" and LocalDay(\"&$D$12&\")=\"&$F$8&\" and Barix(\"&$D$12&\",reference:=StartOfSession)=\"&A39&\"\", \"Bar\", \"\", \"Close\",\"5\",\"0\",\"PrimaryOnly\",,,\"False\",\"T\",\"EveryTick\")","v":2.9380000000000002},1.4502762430939316E-2,{"$f":"RTD(\"cqg.rtd\",,\"StudyData\", \"Close(\"&$D$12&\") when LocalYear(\"&$D$12&\")=\"&$D$9&\" and localMonth(\"&$D$12&\") =\"&$E$9&\" and LocalDay(\"&$D$12&\")=\"&$F$9&\" and Barix(\"&$D$12&\",reference:=StartOfSession)=\"&A39&\"\", \"Bar\", \"\", \"Close\",\"5\",\"0\",\"PrimaryOnly\",,,\"False\",\"T\",\"EveryTick\")","v":2.8839999999999999},-2.0761245674741271E-3,{"$f":"RTD(\"cqg.rtd\",,\"StudyData\", \"Close(\"&$D$12&\") when LocalYear(\"&$D$12&\")=\"&$D$10&\" and localMonth(\"&$D$12&\") =\"&$E$10&\" and LocalDay(\"&$D$12&\")=\"&$F$10&\" and Barix(\"&$D$12&\",reference:=StartOfSession)=\"&A39&\"\", \"Bar\", \"\", \"Close\",\"5\",\"0\",\"PrimaryOnly\",,,\"False\",\"T\",\"EveryTick\")","v":2.8879999999999999},-1.4334470989761179E-2,null,null,null,""]
[39,"11:15:00",{"$f":"C39+1","v":-38},{"$f":" RTD(\"cqg.rtd\",,\"StudyData\", $D$12,  \"Tick\", \"FlatTicks=0\", \"Tick\",\"D\",C40,,,,,\"T\")","v":2.9870000000000001},null,"HOE",null,{"$f":"RTD(\"cqg.rtd\",,\"StudyData\", \"Close(\"&$D$12&\") when LocalYear(\"&$D$12&\")=\"&$D$1&\" and localMonth(\"&$D$12&\") =\"&$E$1&\" and LocalDay(\"&$D$12&\")=\"&$F$1&\" and Barix(\"&$D$12&\",reference:=StartOfSession)=\"&A40&\"\", \"Bar\", \"\", \"Close\",\"5\",\"0\",\"PrimaryOnly\",,,\"False\",\"T\",\"EveryTick\")","v":""},{"$error":"#N/A"},{"$f":"RTD(\"cqg.rtd\",,\"StudyData\", \"Close(\"&$D$12&\") when LocalYear(\"&$D$12&\")=\"&$D$2&\" and localMonth(\"&$D$12&\") =\"&$E$2&\" and LocalDay(\"&$D$12&\")=\"&$F$2&\" and Barix(\"&$D$12&\",reference:=StartOfSession)=\"&A40&\"\", \"Bar\", \"\", \"Close\",\"5\",\"0\",\"PrimaryOnly\",,,\"False\",\"T\",\"EveryTick\")","v":3.0190000000000001},1.821247892074208E-2,{"$f":"RTD(\"cqg.rtd\",,\"StudyData\", \"Close(\"&$D$12&\") when LocalYear(\"&$D$12&\")=\"&$D$3&\" and localMonth(\"&$D$12&\") =\"&$E$3&\" and LocalDay(\"&$D$12&\")=\"&$F$3&\" and Barix(\"&$D$12&\",reference:=StartOfSession)=\"&A40&\"\", \"Bar\", \"\", \"Close\",\"5\",\"0\",\"PrimaryOnly\",,,\"False\",\"T\",\"EveryTick\")","v":2.956},-2.3624704691191756E-3,{"$f":"RTD(\"cqg.rtd\",,\"StudyData\", \"Close(\"&$D$12&\") when LocalYear(\"&$D$12&\")=\"&$D$4&\" and localMonth(\"&$D$12&\") =\"&$E$4&\" and LocalDay(\"&$D$12&\")=\"&$F$4&\" and Barix(\"&$D$12&\",reference:=StartOfSession)=\"&A40&\"\", \"Bar\", \"\", \"Close\",\"5\",\"0\",\"PrimaryOnly\",,,\"False\",\"T\",\"EveryTick\")","v":2.9670000000000001},9.5270500170125984E-3,{"$f":"RTD(\"cqg.rtd\",,\"StudyData\", \"Close(\"&$D$12&\") when LocalYear(\"&$D$12&\")=\"&$D$5&\" and localMonth(\"&$D$12&\") =\"&$E$5&\" and LocalDay(\"&$D$12&\")=\"&$F$5&\" and Barix(\"&$D$12&\",reference:=StartOfSession)=\"&A40&\"\", \"Bar\", \"\", \"Close\",\"5\",\"0\",\"PrimaryOnly\",,,\"False\",\"T\",\"EveryTick\")","v":2.9279999999999999},-7.121057985757853E-3,{"$f":"RTD(\"cqg.rtd\",,\"StudyData\", \"Close(\"&$D$12&\") when LocalYear(\"&$D$12&\")=\"&$D$6&\" and localMonth(\"&$D$12&\") =\"&$E$6&\" and LocalDay(\"&$D$12&\")=\"&$F$6&\" and Barix(\"&$D$12&\",reference:=StartOfSession)=\"&A40&\"\", \"Bar\", \"\", \"Close\",\"5\",\"0\",\"PrimaryOnly\",,,\"False\",\"T\",\"EveryTick\")","v":2.9470000000000001},1.972318339100344E-2,{"$f":"RTD(\"cqg.rtd\",,\"StudyData\", \"Close(\"&$D$12&\") when LocalYear(\"&$D$12&\")=\"&$D$7&\" and localMonth(\"&$D$12&\") =\"&$E$7&\" and LocalDay(\"&$D$12&\")=\"&$F$7&\" and Barix(\"&$D$12&\",reference:=StartOfSession)=\"&A40&\"\", \"Bar\", \"\", \"Close\",\"5\",\"0\",\"PrimaryOnly\",,,\"False\",\"T\",\"EveryTick\")","v":2.8839999999999999},-1.5699658703071762E-2,{"$f":"RTD(\"cqg.rtd\",,\"StudyData\", \"Close(\"&$D$12&\") when LocalYear(\"&$D$12&\")=\"&$D$8&\" and localMonth(\"&$D$12&\") =\"&$E$8&\" and LocalDay(\"&$D$12&\")=\"&$F$8&\" and Barix(\"&$D$12&\",reference:=StartOfSession)=\"&A40&\"\", \"Bar\", \"\", \"Close\",\"5\",\"0\",\"PrimaryOnly\",,,\"False\",\"T\",\"EveryTick\")","v":2.9319999999999999},1.2430939226519349E-2,{"$f":"RTD(\"cqg.rtd\",,\"StudyData\", \"Close(\"&$D$12&\") when LocalYear(\"&$D$12&\")=\"&$D$9&\" and localMonth(\"&$D$12&\") =\"&$E$9&\" and LocalDay(\"&$D$12&\")=\"&$F$9&\" and Barix(\"&$D$12&\",reference:=StartOfSession)=\"&A40&\"\", \"Bar\", \"\", \"Close\",\"5\",\"0\",\"PrimaryOnly\",,,\"False\",\"T\",\"EveryTick\")","v":2.887},-1.0380622837370635E-3,{"$f":"RTD(\"cqg.rtd\",,\"StudyData\", \"Close(\"&$D$12&\") when LocalYear(\"&$D$12&\")=\"&$D$10&\" and localMonth(\"&$D$12&\") =\"&$E$10&\" and LocalDay(\"&$D$12&\")=\"&$F$10&\" and Barix(\"&$D$12&\",reference:=StartOfSession)=\"&A40&\"\", \"Bar\", \"\", \"Close\",\"5\",\"0\",\"PrimaryOnly\",,,\"False\",\"T\",\"EveryTick\")","v":2.8860000000000001},-1.5017064846416395E-2,null,null,null,""]
[40,"11:20:00",-37,{"$f":" RTD(\"cqg.rtd\",,\"StudyData\", $D$12,  \"Tick\", \"FlatTicks=0\", \"Tick\",\"D\",C41,,,,,\"T\")","v":2.988},null,"RBE",null,{"$f":"RTD(\"cqg.rtd\",,\"StudyData\", \"Close(\"&$D$12&\") when LocalYear(\"&$D$12&\")=\"&$D$1&\" and localMonth(\"&$D$12&\") =\"&$E$1&\" and LocalDay(\"&$D$12&\")=\"&$F$1&\" and Barix(\"&$D$12&\",reference:=StartOfSession)=\"&A41&\"\", \"Bar\", \"\", \"Close\",\"5\",\"0\",\"PrimaryOnly\",,,\"False\",\"T\",\"EveryTick\")","v":""},{"$error":"#N/A"},{"$f":"RTD(\"cqg.rtd\",,\"StudyData\", \"Close(\"&$D$12&\") when LocalYear(\"&$D$12&\")=\"&$D$2&\" and localMonth(\"&$D$12&\") =\"&$E$2&\" and LocalDay(\"&$D$12&\")=\"&$F$2&\" and Barix(\"&$D$12&\",reference:=StartOfSession)=\"&A41&\"\", \"Bar\", \"\", \"Close\",\"5\",\"0\",\"PrimaryOnly\",,,\"False\",\"T\",\"EveryTick\")","v":3.0150000000000001},1.6863406408094524E-2,{"$f":"RTD(\"cqg.rtd\",,\"StudyData\", \"Close(\"&$D$12&\") when LocalYear(\"&$D$12&\")=\"&$D$3&\" and localMonth(\"&$D$12&\") =\"&$E$3&\" and LocalDay(\"&$D$12&\")=\"&$F$3&\" and Barix(\"&$D$12&\",reference:=StartOfSession)=\"&A41&\"\", \"Bar\", \"\", \"Close\",\"5\",\"0\",\"PrimaryOnly\",,,\"False\",\"T\",\"EveryTick\")","v":2.9569999999999999},-2.0249746878164788E-3,{"$f":"RTD(\"cqg.rtd\",,\"StudyData\", \"Close(\"&$D$12&\") when LocalYear(\"&$D$12&\")=\"&$D$4&\" and localMonth(\"&$D$12&\") =\"&$E$4&\" and LocalDay(\"&$D$12&\")=\"&$F$4&\" and Barix(\"&$D$12&\",reference:=StartOfSession)=\"&A41&\"\", \"Bar\", \"\", \"Close\",\"5\",\"0\",\"PrimaryOnly\",,,\"False\",\"T\",\"EveryTick\")","v":2.968},9.8673018033344391E-3,{"$f":"RTD(\"cqg.rtd\",,\"StudyData\", \"Close(\"&$D$12&\") when LocalYear(\"&$D$12&\")=\"&$D$5&\" and localMonth(\"&$D$12&\") =\"&$E$5&\" and LocalDay(\"&$D$12&\")=\"&$F$5&\" and Barix(\"&$D$12&\",reference:=StartOfSession)=\"&A41&\"\", \"Bar\", \"\", \"Close\",\"5\",\"0\",\"PrimaryOnly\",,,\"False\",\"T\",\"EveryTick\")","v":2.9289999999999998},-6.7819599864360862E-3,{"$f":"RTD(\"cqg.rtd\",,\"StudyData\", \"Close(\"&$D$12&\") when LocalYear(\"&$D$12&\")=\"&$D$6&\" and localMonth(\"&$D$12&\") =\"&$E$6&\" and LocalDay(\"&$D$12&\")=\"&$F$6&\" and Barix(\"&$D$12&\",reference:=StartOfSession)=\"&A41&\"\", \"Bar\", \"\", \"Close\",\"5\",\"0\",\"PrimaryOnly\",,,\"False\",\"T\",\"EveryTick\")","v":2.9449999999999998},1.903114186851201E-2,{"$f":"RTD(\"cqg.rtd\",,\"StudyData\", \"Close(\"&$D$12&\") when LocalYear(\"&$D$12&\")=\"&$D$7&\" and localMonth(\"&$D$12&\") =\"&$E$7&\" and LocalDay(\"&$D$12&\")=\"&$F$7&\" and Barix(\"&$D$12&\",reference:=StartOfSession)=\"&A41&\"\", \"Bar\", \"\", \"Close\",\"5\",\"0\",\"PrimaryOnly\",,,\"False\",\"T\",\"EveryTick\")","v":2.887},-1.4675767918088787E-2,{"$f":"RTD(\"cqg.rtd\",,\"StudyData\", \"Close(\"&$D$12&\") when LocalYear(\"&$D$12&\")=\"&$D$8&\" and localMonth(\"&$D$12&\") =\"&$E$8&\" and LocalDay(\"&$D$12&\")=\"&$F$8&\" and Barix(\"&$D$12&\",reference:=StartOfSession)=\"&A41&\"\", \"Bar\", \"\", \"Close\",\"5\",\"0\",\"PrimaryOnly\",,,\"False\",\"T\",\"EveryTick\")","v":2.9319999999999999},1.2430939226519349E-2,{"$f":"RTD(\"cqg.rtd\",,\"StudyData\", \"Close(\"&$D$12&\") when LocalYear(\"&$D$12&\")=\"&$D$9&\" and localMonth(\"&$D$12&\") =\"&$E$9&\" and LocalDay(\"&$D$12&\")=\"&$F$9&\" and Barix(\"&$D$12&\",reference:=StartOfSession)=\"&A41&\"\", \"Bar\", \"\", \"Close\",\"5\",\"0\",\"PrimaryOnly\",,,\"False\",\"T\",\"EveryTick\")","v":2.8839999999999999},-2.0761245674741271E-3,{"$f":"RTD(\"cqg.rtd\",,\"StudyData\", \"Close(\"&$D$12&\") when LocalYear(\"&$D$12&\")=\"&$D$10&\" and localMonth(\"&$D$12&\") =\"&$E$10&\" and LocalDay(\"&$D$12&\")=\"&$F$10&\" and Barix(\"&$D$12&\",reference:=StartOfSession)=\"&A41&\"\", \"Bar\", \"\", \"Close\",\"5\",\"0\",\"PrimaryOnly\",,,\"False\",\"T\",\"EveryTick\")","v":2.891},-1.3310580204778205E-2,null,null,null,""]
[41,"11:25:00",-36,{"$f":" RTD(\"cqg.rtd\",,\"StudyData\", $D$12,  \"Tick\", \"FlatTicks=0\", \"Tick\",\"D\",C42,,,,,\"T\")","v":2.9889999999999999},null,"NGE",null,{"$f":"RTD(\"cqg.rtd\",,\"StudyData\", \"Close(\"&$D$12&\") when LocalYear(\"&$D$12&\")=\"&$D$1&\" and localMonth(\"&$D$12&\") =\"&$E$1&\" and LocalDay(\"&$D$12&\")=\"&$F$1&\" and Barix(\"&$D$12&\",reference:=StartOfSession)=\"&A42&\"\", \"Bar\", \"\", \"Close\",\"5\",\"0\",\"PrimaryOnly\",,,\"False\",\"T\",\"EveryTick\")","v":""},{"$error":"#N/A"},{"$f":"RTD(\"cqg.rtd\",,\"StudyData\", \"Close(\"&$D$12&\") when LocalYear(\"&$D$12&\")=\"&$D$2&\" and localMonth(\"&$D$12&\") =\"&$E$2&\" and LocalDay(\"&$D$12&\")=\"&$F$2&\" and Barix(\"&$D$12&\",reference:=StartOfSession)=\"&A42&\"\", \"Bar\", \"\", \"Close\",\"5\",\"0\",\"PrimaryOnly\",,,\"False\",\"T\",\"EveryTick\")","v":3.0129999999999999},1.6188870151770673E-2,{"$f":"RTD(\"cqg.rtd\",,\"StudyData\", \"Close(\"&$D$12&\") when LocalYear(\"&$D$12&\")=\"&$D$3&\" and localMonth(\"&$D$12&\") =\"&$E$3&\" and LocalDay(\"&$D$12&\")=\"&$F$3&\" and Barix(\"&$D$12&\",reference:=StartOfSession)=\"&A42&\"\", \"Bar\", \"\", \"Close\",\"5\",\"0\",\"PrimaryOnly\",,,\"False\",\"T\",\"EveryTick\")","v":2.9540000000000002},-3.0374620317245686E-3,{"$f":"RTD(\"cqg.rtd\",,\"StudyData\", \"Close(\"&$D$12&\") when LocalYear(\"&$D$12&\")=\"&$D$4&\" and localMonth(\"&$D$12&\") =\"&$E$4&\" and LocalDay(\"&$D$12&\")=\"&$F$4&\" and Barix(\"&$D$12&\",reference:=StartOfSession)=\"&A42&\"\", \"Bar\", \"\", \"Close\",\"5\",\"0\",\"PrimaryOnly\",,,\"False\",\"T\",\"EveryTick\")","v":2.968},9.8673018033344391E-3,{"$f":"RTD(\"cqg.rtd\",,\"StudyData\", \"Close(\"&$D$12&\") when LocalYear(\"&$D$12&\")=\"&$D$5&\" and localMonth(\"&$D$12&\") =\"&$E$5&\" and LocalDay(\"&$D$12&\")=\"&$F$5&\" and Barix(\"&$D$12&\",reference:=StartOfSession)=\"&A42&\"\", \"Bar\", \"\", \"Close\",\"5\",\"0\",\"PrimaryOnly\",,,\"False\",\"T\",\"EveryTick\")","v":2.9289999999999998},-6.7819599864360862E-3,{"$f":"RTD(\"cqg.rtd\",,\"StudyData\", \"Close(\"&$D$12&\") when LocalYear(\"&$D$12&\")=\"&$D$6&\" and localMonth(\"&$D$12&\") =\"&$E$6&\" and LocalDay(\"&$D$12&\")=\"&$F$6&\" and Barix(\"&$D$12&\",reference:=StartOfSession)=\"&A42&\"\", \"Bar\", \"\", \"Close\",\"5\",\"0\",\"PrimaryOnly\",,,\"False\",\"T\",\"EveryTick\")","v":2.9430000000000001},1.8339100346020737E-2,{"$f":"RTD(\"cqg.rtd\",,\"StudyData\", \"Close(\"&$D$12&\") when LocalYear(\"&$D$12&\")=\"&$D$7&\" and localMonth(\"&$D$12&\") =\"&$E$7&\" and LocalDay(\"&$D$12&\")=\"&$F$7&\" and Barix(\"&$D$12&\",reference:=StartOfSession)=\"&A42&\"\", \"Bar\", \"\", \"Close\",\"5\",\"0\",\"PrimaryOnly\",,,\"False\",\"T\",\"EveryTick\")","v":2.8849999999999998},-1.5358361774744153E-2,{"$f":"RTD(\"cqg.rtd\",,\"StudyData\", \"Close(\"&$D$12&\") when LocalYear(\"&$D$12&\")=\"&$D$8&\" and localMonth(\"&$D$12&\") =\"&$E$8&\" and LocalDay(\"&$D$12&\")=\"&$F$8&\" and Barix(\"&$D$12&\",reference:=StartOfSession)=\"&A42&\"\", \"Bar\", \"\", \"Close\",\"5\",\"0\",\"PrimaryOnly\",,,\"False\",\"T\",\"EveryTick\")","v":2.93},1.1740331491712795E-2,{"$f":"RTD(\"cqg.rtd\",,\"StudyData\", \"Close(\"&$D$12&\") when LocalYear(\"&$D$12&\")=\"&$D$9&\" and localMonth(\"&$D$12&\") =\"&$E$9&\" and LocalDay(\"&$D$12&\")=\"&$F$9&\" and Barix(\"&$D$12&\",reference:=StartOfSession)=\"&A42&\"\", \"Bar\", \"\", \"Close\",\"5\",\"0\",\"PrimaryOnly\",,,\"False\",\"T\",\"EveryTick\")","v":2.8849999999999998},-1.7301038062284904E-3,{"$f":"RTD(\"cqg.rtd\",,\"StudyData\", \"Close(\"&$D$12&\") when LocalYear(\"&$D$12&\")=\"&$D$10&\" and localMonth(\"&$D$12&\") =\"&$E$10&\" and LocalDay(\"&$D$12&\")=\"&$F$10&\" and Barix(\"&$D$12&\",reference:=StartOfSession)=\"&A42&\"\", \"Bar\", \"\", \"Close\",\"5\",\"0\",\"PrimaryOnly\",,,\"False\",\"T\",\"EveryTick\")","v":2.8849999999999998},-1.5358361774744153E-2,null,null,null,""]
[42,"11:30:00",-35,{"$f":" RTD(\"cqg.rtd\",,\"StudyData\", $D$12,  \"Tick\", \"FlatTicks=0\", \"Tick\",\"D\",C43,,,,,\"T\")","v":2.99},null,null,null,{"$f":"RTD(\"cqg.rtd\",,\"StudyData\", \"Close(\"&$D$12&\") when LocalYear(\"&$D$12&\")=\"&$D$1&\" and localMonth(\"&$D$12&\") =\"&$E$1&\" and LocalDay(\"&$D$12&\")=\"&$F$1&\" and Barix(\"&$D$12&\",reference:=StartOfSession)=\"&A43&\"\", \"Bar\", \"\", \"Close\",\"5\",\"0\",\"PrimaryOnly\",,,\"False\",\"T\",\"EveryTick\")","v":""},{"$error":"#N/A"},{"$f":"RTD(\"cqg.rtd\",,\"StudyData\", \"Close(\"&$D$12&\") when LocalYear(\"&$D$12&\")=\"&$D$2&\" and localMonth(\"&$D$12&\") =\"&$E$2&\" and LocalDay(\"&$D$12&\")=\"&$F$2&\" and Barix(\"&$D$12&\",reference:=StartOfSession)=\"&A43&\"\", \"Bar\", \"\", \"Close\",\"5\",\"0\",\"PrimaryOnly\",,,\"False\",\"T\",\"EveryTick\")","v":3.0190000000000001},1.821247892074208E-2,{"$f":"RTD(\"cqg.rtd\",,\"StudyData\", \"Close(\"&$D$12&\") when LocalYear(\"&$D$12&\")=\"&$D$3&\" and localMonth(\"&$D$12&\") =\"&$E$3&\" and LocalDay(\"&$D$12&\")=\"&$F$3&\" and Barix(\"&$D$12&\",reference:=StartOfSession)=\"&A43&\"\", \"Bar\", \"\", \"Close\",\"5\",\"0\",\"PrimaryOnly\",,,\"False\",\"T\",\"EveryTick\")","v":2.9529999999999998},-3.374957813027415E-3,{"$f":"RTD(\"cqg.rtd\",,\"StudyData\", \"Close(\"&$D$12&\") when LocalYear(\"&$D$12&\")=\"&$D$4&\" and localMonth(\"&$D$12&\") =\"&$E$4&\" and LocalDay(\"&$D$12&\")=\"&$F$4&\" and Barix(\"&$D$12&\",reference:=StartOfSession)=\"&A43&\"\", \"Bar\", \"\", \"Close\",\"5\",\"0\",\"PrimaryOnly\",,,\"False\",\"T\",\"EveryTick\")","v":2.9660000000000002},9.1867982306907577E-3,{"$f":"RTD(\"cqg.rtd\",,\"StudyData\", \"Close(\"&$D$12&\") when LocalYear(\"&$D$12&\")=\"&$D$5&\" and localMonth(\"&$D$12&\") =\"&$E$5&\" and LocalDay(\"&$D$12&\")=\"&$F$5&\" and Barix(\"&$D$12&\",reference:=StartOfSession)=\"&A43&\"\", \"Bar\", \"\", \"Close\",\"5\",\"0\",\"PrimaryOnly\",,,\"False\",\"T\",\"EveryTick\")","v":2.927},-7.4601559850796199E-3,{"$f":"RTD(\"cqg.rtd\",,\"StudyData\", \"Close(\"&$D$12&\") when LocalYear(\"&$D$12&\")=\"&$D$6&\" and localMonth(\"&$D$12&\") =\"&$E$6&\" and LocalDay(\"&$D$12&\")=\"&$F$6&\" and Barix(\"&$D$12&\",reference:=StartOfSession)=\"&A43&\"\", \"Bar\", \"\", \"Close\",\"5\",\"0\",\"PrimaryOnly\",,,\"False\",\"T\",\"EveryTick\")","v":2.9390000000000001},1.6955017301038038E-2,{"$f":"RTD(\"cqg.rtd\",,\"StudyData\", \"Close(\"&$D$12&\") when LocalYear(\"&$D$12&\")=\"&$D$7&\" and localMonth(\"&$D$12&\") =\"&$E$7&\" and LocalDay(\"&$D$12&\")=\"&$F$7&\" and Barix(\"&$D$12&\",reference:=StartOfSession)=\"&A43&\"\", \"Bar\", \"\", \"Close\",\"5\",\"0\",\"PrimaryOnly\",,,\"False\",\"T\",\"EveryTick\")","v":2.8839999999999999},-1.5699658703071762E-2,{"$f":"RTD(\"cqg.rtd\",,\"StudyData\", \"Close(\"&$D$12&\") when LocalYear(\"&$D$12&\")=\"&$D$8&\" and localMonth(\"&$D$12&\") =\"&$E$8&\" and LocalDay(\"&$D$12&\")=\"&$F$8&\" and Barix(\"&$D$12&\",reference:=StartOfSession)=\"&A43&\"\", \"Bar\", \"\", \"Close\",\"5\",\"0\",\"PrimaryOnly\",,,\"False\",\"T\",\"EveryTick\")","v":2.9279999999999999},1.1049723756906087E-2,{"$f":"RTD(\"cqg.rtd\",,\"StudyData\", \"Close(\"&$D$12&\") when LocalYear(\"&$D$12&\")=\"&$D$9&\" and localMonth(\"&$D$12&\") =\"&$E$9&\" and LocalDay(\"&$D$12&\")=\"&$F$9&\" and Barix(\"&$D$12&\",reference:=StartOfSession)=\"&A43&\"\", \"Bar\", \"\", \"Close\",\"5\",\"0\",\"PrimaryOnly\",,,\"False\",\"T\",\"EveryTick\")","v":2.8839999999999999},-2.0761245674741271E-3,{"$f":"RTD(\"cqg.rtd\",,\"StudyData\", \"Close(\"&$D$12&\") when LocalYear(\"&$D$12&\")=\"&$D$10&\" and localMonth(\"&$D$12&\") =\"&$E$10&\" and LocalDay(\"&$D$12&\")=\"&$F$10&\" and Barix(\"&$D$12&\",reference:=StartOfSession)=\"&A43&\"\", \"Bar\", \"\", \"Close\",\"5\",\"0\",\"PrimaryOnly\",,,\"False\",\"T\",\"EveryTick\")","v":2.8879999999999999},-1.4334470989761179E-2,null,null,null,""]
[43,"11:35:00",-34,{"$f":" RTD(\"cqg.rtd\",,\"StudyData\", $D$12,  \"Tick\", \"FlatTicks=0\", \"Tick\",\"D\",C44,,,,,\"T\")","v":2.9910000000000001},null,null,null,{"$f":"RTD(\"cqg.rtd\",,\"StudyData\", \"Close(\"&$D$12&\") when LocalYear(\"&$D$12&\")=\"&$D$1&\" and localMonth(\"&$D$12&\") =\"&$E$1&\" and LocalDay(\"&$D$12&\")=\"&$F$1&\" and Barix(\"&$D$12&\",reference:=StartOfSession)=\"&A44&\"\", \"Bar\", \"\", \"Close\",\"5\",\"0\",\"PrimaryOnly\",,,\"False\",\"T\",\"EveryTick\")","v":""},{"$error":"#N/A"},{"$f":"RTD(\"cqg.rtd\",,\"StudyData\", \"Close(\"&$D$12&\") when LocalYear(\"&$D$12&\")=\"&$D$2&\" and localMonth(\"&$D$12&\") =\"&$E$2&\" and LocalDay(\"&$D$12&\")=\"&$F$2&\" and Barix(\"&$D$12&\",reference:=StartOfSession)=\"&A44&\"\", \"Bar\", \"\", \"Close\",\"5\",\"0\",\"PrimaryOnly\",,,\"False\",\"T\",\"EveryTick\")","v":3.0179999999999998},1.787521079258008E-2,{"$f":"RTD(\"cqg.rtd\",,\"StudyData\", \"Close(\"&$D$12&\") when LocalYear(\"&$D$12&\")=\"&$D$3&\" and localMonth(\"&$D$12&\") =\"&$E$3&\" and LocalDay(\"&$D$12&\")=\"&$F$3&\" and Barix(\"&$D$12&\",reference:=StartOfSession)=\"&A44&\"\", \"Bar\", \"\", \"Close\",\"5\",\"0\",\"PrimaryOnly\",,,\"False\",\"T\",\"EveryTick\")","v":2.9529999999999998},-3.374957813027415E-3,{"$f":"RTD(\"cqg.rtd\",,\"StudyData\", \"Close(\"&$D$12&\") when LocalYear(\"&$D$12&\")=\"&$D$4&\" and localMonth(\"&$D$12&\") =\"&$E$4&\" and LocalDay(\"&$D$12&\")=\"&$F$4&\" and Barix(\"&$D$12&\",reference:=StartOfSession)=\"&A44&\"\", \"Bar\", \"\", \"Close\",\"5\",\"0\",\"PrimaryOnly\",,,\"False\",\"T\",\"EveryTick\")","v":2.9689999999999999},1.020755358965628E-2,{"$f":"RTD(\"cqg.rtd\",,\"StudyData\", \"Close(\"&$D$12&\") when LocalYear(\"&$D$12&\")=\"&$D$5&\" and localMonth(\"&$D$12&\") =\"&$E$5&\" and LocalDay(\"&$D$12&\")=\"&$F$5&\" and Barix(\"&$D$12&\",reference:=StartOfSession)=\"&A44&\"\", \"Bar\", \"\", \"Close\",\"5\",\"0\",\"PrimaryOnly\",,,\"False\",\"T\",\"EveryTick\")","v":2.9279999999999999},-7.121057985757853E-3,{"$f":"RTD(\"cqg.rtd\",,\"StudyData\", \"Close(\"&$D$12&\") when LocalYear(\"&$D$12&\")=\"&$D$6&\" and localMonth(\"&$D$12&\") =\"&$E$6&\" and LocalDay(\"&$D$12&\")=\"&$F$6&\" and Barix(\"&$D$12&\",reference:=StartOfSession)=\"&A44&\"\", \"Bar\", \"\", \"Close\",\"5\",\"0\",\"PrimaryOnly\",,,\"False\",\"T\",\"EveryTick\")","v":2.9390000000000001},1.6955017301038038E-2,{"$f":"RTD(\"cqg.rtd\",,\"StudyData\", \"Close(\"&$D$12&\") when LocalYear(\"&$D$12&\")=\"&$D$7&\" and localMonth(\"&$D$12&\") =\"&$E$7&\" and LocalDay(\"&$D$12&\")=\"&$F$7&\" and Barix(\"&$D$12&\",reference:=StartOfSession)=\"&A44&\"\", \"Bar\", \"\", \"Close\",\"5\",\"0\",\"PrimaryOnly\",,,\"False\",\"T\",\"EveryTick\")","v":2.8849999999999998},-1.5358361774744153E-2,{"$f":"RTD(\"cqg.rtd\",,\"StudyData\", \"Close(\"&$D$12&\") when LocalYear(\"&$D$12&\")=\"&$D$8&\" and localMonth(\"&$D$12&\") =\"&$E$8&\" and LocalDay(\"&$D$12&\")=\"&$F$8&\" and Barix(\"&$D$12&\",reference:=StartOfSession)=\"&A44&\"\", \"Bar\", \"\", \"Close\",\"5\",\"0\",\"PrimaryOnly\",,,\"False\",\"T\",\"EveryTick\")","v":2.927},1.0704419889502811E-2,{"$f":"RTD(\"cqg.rtd\",,\"StudyData\", \"Close(\"&$D$12&\") when LocalYear(\"&$D$12&\")=\"&$D$9&\" and localMonth(\"&$D$12&\") =\"&$E$9&\" and LocalDay(\"&$D$12&\")=\"&$F$9&\" and Barix(\"&$D$12&\",reference:=StartOfSession)=\"&A44&\"\", \"Bar\", \"\", \"Close\",\"5\",\"0\",\"PrimaryOnly\",,,\"False\",\"T\",\"EveryTick\")","v":2.89},0,{"$f":"RTD(\"cqg.rtd\",,\"StudyData\", \"Close(\"&$D$12&\") when LocalYear(\"&$D$12&\")=\"&$D$10&\" and localMonth(\"&$D$12&\") =\"&$E$10&\" and LocalDay(\"&$D$12&\")=\"&$F$10&\" and Barix(\"&$D$12&\",reference:=StartOfSession)=\"&A44&\"\", \"Bar\", \"\", \"Close\",\"5\",\"0\",\"PrimaryOnly\",,,\"False\",\"T\",\"EveryTick\")","v":2.8919999999999999},-1.2969283276450598E-2,null,null,null,""]
[44,"11:40:00",-33,{"$f":" RTD(\"cqg.rtd\",,\"StudyData\", $D$12,  \"Tick\", \"FlatTicks=0\", \"Tick\",\"D\",C45,,,,,\"T\")","v":2.99},null,null,null,{"$f":"RTD(\"cqg.rtd\",,\"StudyData\", \"Close(\"&$D$12&\") when LocalYear(\"&$D$12&\")=\"&$D$1&\" and localMonth(\"&$D$12&\") =\"&$E$1&\" and LocalDay(\"&$D$12&\")=\"&$F$1&\" and Barix(\"&$D$12&\",reference:=StartOfSession)=\"&A45&\"\", \"Bar\", \"\", \"Close\",\"5\",\"0\",\"PrimaryOnly\",,,\"False\",\"T\",\"EveryTick\")","v":""},{"$error":"#N/A"},{"$f":"RTD(\"cqg.rtd\",,\"StudyData\", \"Close(\"&$D$12&\") when LocalYear(\"&$D$12&\")=\"&$D$2&\" and localMonth(\"&$D$12&\") =\"&$E$2&\" and LocalDay(\"&$D$12&\")=\"&$F$2&\" and Barix(\"&$D$12&\",reference:=StartOfSession)=\"&A45&\"\", \"Bar\", \"\", \"Close\",\"5\",\"0\",\"PrimaryOnly\",,,\"False\",\"T\",\"EveryTick\")","v":3.0190000000000001},1.821247892074208E-2,{"$f":"RTD(\"cqg.rtd\",,\"StudyData\", \"Close(\"&$D$12&\") when LocalYear(\"&$D$12&\")=\"&$D$3&\" and localMonth(\"&$D$12&\") =\"&$E$3&\" and LocalDay(\"&$D$12&\")=\"&$F$3&\" and Barix(\"&$D$12&\",reference:=StartOfSession)=\"&A45&\"\", \"Bar\", \"\", \"Close\",\"5\",\"0\",\"PrimaryOnly\",,,\"False\",\"T\",\"EveryTick\")","v":2.9569999999999999},-2.0249746878164788E-3,{"$f":"RTD(\"cqg.rtd\",,\"StudyData\", \"Close(\"&$D$12&\") when LocalYear(\"&$D$12&\")=\"&$D$4&\" and localMonth(\"&$D$12&\") =\"&$E$4&\" and LocalDay(\"&$D$12&\")=\"&$F$4&\" and Barix(\"&$D$12&\",reference:=StartOfSession)=\"&A45&\"\", \"Bar\", \"\", \"Close\",\"5\",\"0\",\"PrimaryOnly\",,,\"False\",\"T\",\"EveryTick\")","v":2.972},1.1228308948621953E-2,{"$f":"RTD(\"cqg.rtd\",,\"StudyData\", \"Close(\"&$D$12&\") when LocalYear(\"&$D$12&\")=\"&$D$5&\" and localMonth(\"&$D$12&\") =\"&$E$5&\" and LocalDay(\"&$D$12&\")=\"&$F$5&\" and Barix(\"&$D$12&\",reference:=StartOfSession)=\"&A45&\"\", \"Bar\", \"\", \"Close\",\"5\",\"0\",\"PrimaryOnly\",,,\"False\",\"T\",\"EveryTick\")","v":2.931},-6.1037639877924025E-3,{"$f":"RTD(\"cqg.rtd\",,\"StudyData\", \"Close(\"&$D$12&\") when LocalYear(\"&$D$12&\")=\"&$D$6&\" and localMonth(\"&$D$12&\") =\"&$E$6&\" and LocalDay(\"&$D$12&\")=\"&$F$6&\" and Barix(\"&$D$12&\",reference:=StartOfSession)=\"&A45&\"\", \"Bar\", \"\", \"Close\",\"5\",\"0\",\"PrimaryOnly\",,,\"False\",\"T\",\"EveryTick\")","v":2.9380000000000002},1.6608996539792403E-2,{"$f":"RTD(\"cqg.rtd\",,\"StudyData\", \"Close(\"&$D$12&\") when LocalYear(\"&$D$12&\")=\"&$D$7&\" and localMonth(\"&$D$12&\") =\"&$E$7&\" and LocalDay(\"&$D$12&\")=\"&$F$7&\" and Barix(\"&$D$12&\",reference:=StartOfSession)=\"&A45&\"\", \"Bar\", \"\", \"Close\",\"5\",\"0\",\"PrimaryOnly\",,,\"False\",\"T\",\"EveryTick\")","v":2.8849999999999998},-1.5358361774744153E-2,{"$f":"RTD(\"cqg.rtd\",,\"StudyData\", \"Close(\"&$D$12&\") when LocalYear(\"&$D$12&\")=\"&$D$8&\" and localMonth(\"&$D$12&\") =\"&$E$8&\" and LocalDay(\"&$D$12&\")=\"&$F$8&\" and Barix(\"&$D$12&\",reference:=StartOfSession)=\"&A45&\"\", \"Bar\", \"\", \"Close\",\"5\",\"0\",\"PrimaryOnly\",,,\"False\",\"T\",\"EveryTick\")","v":2.9289999999999998},1.1395027624309365E-2,{"$f":"RTD(\"cqg.rtd\",,\"StudyData\", \"Close(\"&$D$12&\") when LocalYear(\"&$D$12&\")=\"&$D$9&\" and localMonth(\"&$D$12&\") =\"&$E$9&\" and LocalDay(\"&$D$12&\")=\"&$F$9&\" and Barix(\"&$D$12&\",reference:=StartOfSession)=\"&A45&\"\", \"Bar\", \"\", \"Close\",\"5\",\"0\",\"PrimaryOnly\",,,\"False\",\"T\",\"EveryTick\")","v":2.8940000000000001},1.3840830449827002E-3,{"$f":"RTD(\"cqg.rtd\",,\"StudyData\", \"Close(\"&$D$12&\") when LocalYear(\"&$D$12&\")=\"&$D$10&\" and localMonth(\"&$D$12&\") =\"&$E$10&\" and LocalDay(\"&$D$12&\")=\"&$F$10&\" and Barix(\"&$D$12&\",reference:=StartOfSession)=\"&A45&\"\", \"Bar\", \"\", \"Close\",\"5\",\"0\",\"PrimaryOnly\",,,\"False\",\"T\",\"EveryTick\")","v":2.895},-1.1945392491467624E-2,null,null,null,""]
[45,"11:45:00",-32,{"$f":" RTD(\"cqg.rtd\",,\"StudyData\", $D$12,  \"Tick\", \"FlatTicks=0\", \"Tick\",\"D\",C46,,,,,\"T\")","v":2.9889999999999999},null,null,null,{"$f":"RTD(\"cqg.rtd\",,\"StudyData\", \"Close(\"&$D$12&\") when LocalYear(\"&$D$12&\")=\"&$D$1&\" and localMonth(\"&$D$12&\") =\"&$E$1&\" and LocalDay(\"&$D$12&\")=\"&$F$1&\" and Barix(\"&$D$12&\",reference:=StartOfSession)=\"&A46&\"\", \"Bar\", \"\", \"Close\",\"5\",\"0\",\"PrimaryOnly\",,,\"False\",\"T\",\"EveryTick\")","v":""},{"$error":"#N/A"},{"$f":"RTD(\"cqg.rtd\",,\"StudyData\", \"Close(\"&$D$12&\") when LocalYear(\"&$D$12&\")=\"&$D$2&\" and localMonth(\"&$D$12&\") =\"&$E$2&\" and LocalDay(\"&$D$12&\")=\"&$F$2&\" and Barix(\"&$D$12&\",reference:=StartOfSession)=\"&A46&\"\", \"Bar\", \"\", \"Close\",\"5\",\"0\",\"PrimaryOnly\",,,\"False\",\"T\",\"EveryTick\")","v":3.0179999999999998},1.787521079258008E-2,{"$f":"RTD(\"cqg.rtd\",,\"StudyData\", \"Close(\"&$D$12&\") when LocalYear(\"&$D$12&\")=\"&$D$3&\" and localMonth(\"&$D$12&\") =\"&$E$3&\" and LocalDay(\"&$D$12&\")=\"&$F$3&\" and Barix(\"&$D$12&\",reference:=StartOfSession)=\"&A46&\"\", \"Bar\", \"\", \"Close\",\"5\",\"0\",\"PrimaryOnly\",,,\"False\",\"T\",\"EveryTick\")","v":2.9569999999999999},-2.0249746878164788E-3,{"$f":"RTD(\"cqg.rtd\",,\"StudyData\", \"Close(\"&$D$12&\") when LocalYear(\"&$D$12&\")=\"&$D$4&\" and localMonth(\"&$D$12&\") =\"&$E$4&\" and LocalDay(\"&$D$12&\")=\"&$F$4&\" and Barix(\"&$D$12&\",reference:=StartOfSession)=\"&A46&\"\", \"Bar\", \"\", \"Close\",\"5\",\"0\",\"PrimaryOnly\",,,\"False\",\"T\",\"EveryTick\")","v":2.9750000000000001},1.2249064307587626E-2,{"$f":"RTD(\"cqg.rtd\",,\"StudyData\", \"Close(\"&$D$12&\") when LocalYear(\"&$D$12&\")=\"&$D$5&\" and localMonth(\"&$D$12&\") =\"&$E$5&\" and LocalDay(\"&$D$12&\")=\"&$F$5&\" and Barix(\"&$D$12&\",reference:=StartOfSession)=\"&A46&\"\", \"Bar\", \"\", \"Close\",\"5\",\"0\",\"PrimaryOnly\",,,\"False\",\"T\",\"EveryTick\")","v":2.93},-6.4428619871141693E-3,{"$f":"RTD(\"cqg.rtd\",,\"StudyData\", \"Close(\"&$D$12&\") when LocalYear(\"&$D$12&\")=\"&$D$6&\" and localMonth(\"&$D$12&\") =\"&$E$6&\" and LocalDay(\"&$D$12&\")=\"&$F$6&\" and Barix(\"&$D$12&\",reference:=StartOfSession)=\"&A46&\"\", \"Bar\", \"\", \"Close\",\"5\",\"0\",\"PrimaryOnly\",,,\"False\",\"T\",\"EveryTick\")","v":2.9359999999999999},1.5916955017300973E-2,{"$f":"RTD(\"cqg.rtd\",,\"StudyData\", \"Close(\"&$D$12&\") when LocalYear(\"&$D$12&\")=\"&$D$7&\" and localMonth(\"&$D$12&\") =\"&$E$7&\" and LocalDay(\"&$D$12&\")=\"&$F$7&\" and Barix(\"&$D$12&\",reference:=StartOfSession)=\"&A46&\"\", \"Bar\", \"\", \"Close\",\"5\",\"0\",\"PrimaryOnly\",,,\"False\",\"T\",\"EveryTick\")","v":2.8849999999999998},-1.5358361774744153E-2,{"$f":"RTD(\"cqg.rtd\",,\"StudyData\", \"Close(\"&$D$12&\") when LocalYear(\"&$D$12&\")=\"&$D$8&\" and localMonth(\"&$D$12&\") =\"&$E$8&\" and LocalDay(\"&$D$12&\")=\"&$F$8&\" and Barix(\"&$D$12&\",reference:=StartOfSession)=\"&A46&\"\", \"Bar\", \"\", \"Close\",\"5\",\"0\",\"PrimaryOnly\",,,\"False\",\"T\",\"EveryTick\")","v":2.931},1.2085635359116071E-2,{"$f":"RTD(\"cqg.rtd\",,\"StudyData\", \"Close(\"&$D$12&\") when LocalYear(\"&$D$12&\")=\"&$D$9&\" and localMonth(\"&$D$12&\") =\"&$E$9&\" and LocalDay(\"&$D$12&\")=\"&$F$9&\" and Barix(\"&$D$12&\",reference:=StartOfSession)=\"&A46&\"\", \"Bar\", \"\", \"Close\",\"5\",\"0\",\"PrimaryOnly\",,,\"False\",\"T\",\"EveryTick\")","v":2.8929999999999998},1.0380622837369098E-3,{"$f":"RTD(\"cqg.rtd\",,\"StudyData\", \"Close(\"&$D$12&\") when LocalYear(\"&$D$12&\")=\"&$D$10&\" and localMonth(\"&$D$12&\") =\"&$E$10&\" and LocalDay(\"&$D$12&\")=\"&$F$10&\" and Barix(\"&$D$12&\",reference:=StartOfSession)=\"&A46&\"\", \"Bar\", \"\", \"Close\",\"5\",\"0\",\"PrimaryOnly\",,,\"False\",\"T\",\"EveryTick\")","v":2.891},-1.3310580204778205E-2,null,null,null,""]
[46,"11:50:00",-31,{"$f":" RTD(\"cqg.rtd\",,\"StudyData\", $D$12,  \"Tick\", \"FlatTicks=0\", \"Tick\",\"D\",C47,,,,,\"T\")","v":2.988},null,null,null,{"$f":"RTD(\"cqg.rtd\",,\"StudyData\", \"Close(\"&$D$12&\") when LocalYear(\"&$D$12&\")=\"&$D$1&\" and localMonth(\"&$D$12&\") =\"&$E$1&\" and LocalDay(\"&$D$12&\")=\"&$F$1&\" and Barix(\"&$D$12&\",reference:=StartOfSession)=\"&A47&\"\", \"Bar\", \"\", \"Close\",\"5\",\"0\",\"PrimaryOnly\",,,\"False\",\"T\",\"EveryTick\")","v":""},{"$error":"#N/A"},{"$f":"RTD(\"cqg.rtd\",,\"StudyData\", \"Close(\"&$D$12&\") when LocalYear(\"&$D$12&\")=\"&$D$2&\" and localMonth(\"&$D$12&\") =\"&$E$2&\" and LocalDay(\"&$D$12&\")=\"&$F$2&\" and Barix(\"&$D$12&\",reference:=StartOfSession)=\"&A47&\"\", \"Bar\", \"\", \"Close\",\"5\",\"0\",\"PrimaryOnly\",,,\"False\",\"T\",\"EveryTick\")","v":3.016},1.7200674536256379E-2,{"$f":"RTD(\"cqg.rtd\",,\"StudyData\", \"Close(\"&$D$12&\") when LocalYear(\"&$D$12&\")=\"&$D$3&\" and localMonth(\"&$D$12&\") =\"&$E$3&\" and LocalDay(\"&$D$12&\")=\"&$F$3&\" and Barix(\"&$D$12&\",reference:=StartOfSession)=\"&A47&\"\", \"Bar\", \"\", \"Close\",\"5\",\"0\",\"PrimaryOnly\",,,\"False\",\"T\",\"EveryTick\")","v":2.9580000000000002},-1.6874789065136325E-3,{"$f":"RTD(\"cqg.rtd\",,\"StudyData\", \"Close(\"&$D$12&\") when LocalYear(\"&$D$12&\")=\"&$D$4&\" and localMonth(\"&$D$12&\") =\"&$E$4&\" and LocalDay(\"&$D$12&\")=\"&$F$4&\" and Barix(\"&$D$12&\",reference:=StartOfSession)=\"&A47&\"\", \"Bar\", \"\", \"Close\",\"5\",\"0\",\"PrimaryOnly\",,,\"False\",\"T\",\"EveryTick\")","v":2.9740000000000002},1.1908812521265785E-2,{"$f":"RTD(\"cqg.rtd\",,\"StudyData\", \"Close(\"&$D$12&\") when LocalYear(\"&$D$12&\")=\"&$D$5&\" and localMonth(\"&$D$12&\") =\"&$E$5&\" and LocalDay(\"&$D$12&\")=\"&$F$5&\" and Barix(\"&$D$12&\",reference:=StartOfSession)=\"&A47&\"\", \"Bar\", \"\", \"Close\",\"5\",\"0\",\"PrimaryOnly\",,,\"False\",\"T\",\"EveryTick\")","v":2.931},-6.1037639877924025E-3,{"$f":"RTD(\"cqg.rtd\",,\"StudyData\", \"Close(\"&$D$12&\") when LocalYear(\"&$D$12&\")=\"&$D$6&\" and localMonth(\"&$D$12&\") =\"&$E$6&\" and LocalDay(\"&$D$12&\")=\"&$F$6&\" and Barix(\"&$D$12&\",reference:=StartOfSession)=\"&A47&\"\", \"Bar\", \"\", \"Close\",\"5\",\"0\",\"PrimaryOnly\",,,\"False\",\"T\",\"EveryTick\")","v":2.9359999999999999},1.5916955017300973E-2,{"$f":"RTD(\"cqg.rtd\",,\"StudyData\", \"Close(\"&$D$12&\") when LocalYear(\"&$D$12&\")=\"&$D$7&\" and localMonth(\"&$D$12&\") =\"&$E$7&\" and LocalDay(\"&$D$12&\")=\"&$F$7&\" and Barix(\"&$D$12&\",reference:=StartOfSession)=\"&A47&\"\", \"Bar\", \"\", \"Close\",\"5\",\"0\",\"PrimaryOnly\",,,\"False\",\"T\",\"EveryTick\")","v":2.887},-1.4675767918088787E-2,{"$f":"RTD(\"cqg.rtd\",,\"StudyData\", \"Close(\"&$D$12&\") when LocalYear(\"&$D$12&\")=\"&$D$8&\" and localMonth(\"&$D$12&\") =\"&$E$8&\" and LocalDay(\"&$D$12&\")=\"&$F$8&\" and Barix(\"&$D$12&\",reference:=StartOfSession)=\"&A47&\"\", \"Bar\", \"\", \"Close\",\"5\",\"0\",\"PrimaryOnly\",,,\"False\",\"T\",\"EveryTick\")","v":2.9340000000000002},1.3121546961326055E-2,{"$f":"RTD(\"cqg.rtd\",,\"StudyData\", \"Close(\"&$D$12&\") when LocalYear(\"&$D$12&\")=\"&$D$9&\" and localMonth(\"&$D$12&\") =\"&$E$9&\" and LocalDay(\"&$D$12&\")=\"&$F$9&\" and Barix(\"&$D$12&\",reference:=StartOfSession)=\"&A47&\"\", \"Bar\", \"\", \"Close\",\"5\",\"0\",\"PrimaryOnly\",,,\"False\",\"T\",\"EveryTick\")","v":2.8929999999999998},1.0380622837369098E-3,{"$f":"RTD(\"cqg.rtd\",,\"StudyData\", \"Close(\"&$D$12&\") when LocalYear(\"&$D$12&\")=\"&$D$10&\" and localMonth(\"&$D$12&\") =\"&$E$10&\" and LocalDay(\"&$D$12&\")=\"&$F$10&\" and Barix(\"&$D$12&\",reference:=StartOfSession)=\"&A47&\"\", \"Bar\", \"\", \"Close\",\"5\",\"0\",\"PrimaryOnly\",,,\"False\",\"T\",\"EveryTick\")","v":2.89},-1.3651877133105813E-2,null,null,null,""]
[47,"11:55:00",-30,{"$f":" RTD(\"cqg.rtd\",,\"StudyData\", $D$12,  \"Tick\", \"FlatTicks=0\", \"Tick\",\"D\",C48,,,,,\"T\")","v":2.9889999999999999},null,null,null,{"$f":"RTD(\"cqg.rtd\",,\"StudyData\", \"Close(\"&$D$12&\") when LocalYear(\"&$D$12&\")=\"&$D$1&\" and localMonth(\"&$D$12&\") =\"&$E$1&\" and LocalDay(\"&$D$12&\")=\"&$F$1&\" and Barix(\"&$D$12&\",reference:=StartOfSession)=\"&A48&\"\", \"Bar\", \"\", \"Close\",\"5\",\"0\",\"PrimaryOnly\",,,\"False\",\"T\",\"EveryTick\")","v":""},{"$error":"#N/A"},{"$f":"RTD(\"cqg.rtd\",,\"StudyData\", \"Close(\"&$D$12&\") when LocalYear(\"&$D$12&\")=\"&$D$2&\" and localMonth(\"&$D$12&\") =\"&$E$2&\" and LocalDay(\"&$D$12&\")=\"&$F$2&\" and Barix(\"&$D$12&\",reference:=StartOfSession)=\"&A48&\"\", \"Bar\", \"\", \"Close\",\"5\",\"0\",\"PrimaryOnly\",,,\"False\",\"T\",\"EveryTick\")","v":3.0110000000000001},1.551433389544697E-2,{"$f":"RTD(\"cqg.rtd\",,\"StudyData\", \"Close(\"&$D$12&\") when LocalYear(\"&$D$12&\")=\"&$D$3&\" and localMonth(\"&$D$12&\") =\"&$E$3&\" and LocalDay(\"&$D$12&\")=\"&$F$3&\" and Barix(\"&$D$12&\",reference:=StartOfSession)=\"&A48&\"\", \"Bar\", \"\", \"Close\",\"5\",\"0\",\"PrimaryOnly\",,,\"False\",\"T\",\"EveryTick\")","v":2.9580000000000002},-1.6874789065136325E-3,{"$f":"RTD(\"cqg.rtd\",,\"StudyData\", \"Close(\"&$D$12&\") when LocalYear(\"&$D$12&\")=\"&$D$4&\" and localMonth(\"&$D$12&\") =\"&$E$4&\" and LocalDay(\"&$D$12&\")=\"&$F$4&\" and Barix(\"&$D$12&\",reference:=StartOfSession)=\"&A48&\"\", \"Bar\", \"\", \"Close\",\"5\",\"0\",\"PrimaryOnly\",,,\"False\",\"T\",\"EveryTick\")","v":2.9729999999999999},1.1568560734943794E-2,{"$f":"RTD(\"cqg.rtd\",,\"StudyData\", \"Close(\"&$D$12&\") when LocalYear(\"&$D$12&\")=\"&$D$5&\" and localMonth(\"&$D$12&\") =\"&$E$5&\" and LocalDay(\"&$D$12&\")=\"&$F$5&\" and Barix(\"&$D$12&\",reference:=StartOfSession)=\"&A48&\"\", \"Bar\", \"\", \"Close\",\"5\",\"0\",\"PrimaryOnly\",,,\"False\",\"T\",\"EveryTick\")","v":2.9329999999999998},-5.4255679891488688E-3,{"$f":"RTD(\"cqg.rtd\",,\"StudyData\", \"Close(\"&$D$12&\") when LocalYear(\"&$D$12&\")=\"&$D$6&\" and localMonth(\"&$D$12&\") =\"&$E$6&\" and LocalDay(\"&$D$12&\")=\"&$F$6&\" and Barix(\"&$D$12&\",reference:=StartOfSession)=\"&A48&\"\", \"Bar\", \"\", \"Close\",\"5\",\"0\",\"PrimaryOnly\",,,\"False\",\"T\",\"EveryTick\")","v":2.9369999999999998},1.6262975778546612E-2,{"$f":"RTD(\"cqg.rtd\",,\"StudyData\", \"Close(\"&$D$12&\") when LocalYear(\"&$D$12&\")=\"&$D$7&\" and localMonth(\"&$D$12&\") =\"&$E$7&\" and LocalDay(\"&$D$12&\")=\"&$F$7&\" and Barix(\"&$D$12&\",reference:=StartOfSession)=\"&A48&\"\", \"Bar\", \"\", \"Close\",\"5\",\"0\",\"PrimaryOnly\",,,\"False\",\"T\",\"EveryTick\")","v":2.887},-1.4675767918088787E-2,{"$f":"RTD(\"cqg.rtd\",,\"StudyData\", \"Close(\"&$D$12&\") when LocalYear(\"&$D$12&\")=\"&$D$8&\" and localMonth(\"&$D$12&\") =\"&$E$8&\" and LocalDay(\"&$D$12&\")=\"&$F$8&\" and Barix(\"&$D$12&\",reference:=StartOfSession)=\"&A48&\"\", \"Bar\", \"\", \"Close\",\"5\",\"0\",\"PrimaryOnly\",,,\"False\",\"T\",\"EveryTick\")","v":2.9369999999999998},1.4157458563535886E-2,{"$f":"RTD(\"cqg.rtd\",,\"StudyData\", \"Close(\"&$D$12&\") when LocalYear(\"&$D$12&\")=\"&$D$9&\" and localMonth(\"&$D$12&\") =\"&$E$9&\" and LocalDay(\"&$D$12&\")=\"&$F$9&\" and Barix(\"&$D$12&\",reference:=StartOfSession)=\"&A48&\"\", \"Bar\", \"\", \"Close\",\"5\",\"0\",\"PrimaryOnly\",,,\"False\",\"T\",\"EveryTick\")","v":2.8940000000000001},1.3840830449827002E-3,{"$f":"RTD(\"cqg.rtd\",,\"StudyData\", \"Close(\"&$D$12&\") when LocalYear(\"&$D$12&\")=\"&$D$10&\" and localMonth(\"&$D$12&\") =\"&$E$10&\" and LocalDay(\"&$D$12&\")=\"&$F$10&\" and Barix(\"&$D$12&\",reference:=StartOfSession)=\"&A48&\"\", \"Bar\", \"\", \"Close\",\"5\",\"0\",\"PrimaryOnly\",,,\"False\",\"T\",\"EveryTick\")","v":2.8919999999999999},-1.2969283276450598E-2,null,null,null,""]
[48,"12:00:00",-29,{"$f":" RTD(\"cqg.rtd\",,\"StudyData\", $D$12,  \"Tick\", \"FlatTicks=0\", \"Tick\",\"D\",C49,,,,,\"T\")","v":2.99},null,null,null,{"$f":"RTD(\"cqg.rtd\",,\"StudyData\", \"Close(\"&$D$12&\") when LocalYear(\"&$D$12&\")=\"&$D$1&\" and localMonth(\"&$D$12&\") =\"&$E$1&\" and LocalDay(\"&$D$12&\")=\"&$F$1&\" and Barix(\"&$D$12&\",reference:=StartOfSession)=\"&A49&\"\", \"Bar\", \"\", \"Close\",\"5\",\"0\",\"PrimaryOnly\",,,\"False\",\"T\",\"EveryTick\")","v":""},{"$error":"#N/A"},{"$f":"RTD(\"cqg.rtd\",,\"StudyData\", \"Close(\"&$D$12&\") when LocalYear(\"&$D$12&\")=\"&$D$2&\" and localMonth(\"&$D$12&\") =\"&$E$2&\" and LocalDay(\"&$D$12&\")=\"&$F$2&\" and Barix(\"&$D$12&\",reference:=StartOfSession)=\"&A49&\"\", \"Bar\", \"\", \"Close\",\"5\",\"0\",\"PrimaryOnly\",,,\"False\",\"T\",\"EveryTick\")","v":3.0129999999999999},1.6188870151770673E-2,{"$f":"RTD(\"cqg.rtd\",,\"StudyData\", \"Close(\"&$D$12&\") when LocalYear(\"&$D$12&\")=\"&$D$3&\" and localMonth(\"&$D$12&\") =\"&$E$3&\" and LocalDay(\"&$D$12&\")=\"&$F$3&\" and Barix(\"&$D$12&\",reference:=StartOfSession)=\"&A49&\"\", \"Bar\", \"\", \"Close\",\"5\",\"0\",\"PrimaryOnly\",,,\"False\",\"T\",\"EveryTick\")","v":2.9580000000000002},-1.6874789065136325E-3,{"$f":"RTD(\"cqg.rtd\",,\"StudyData\", \"Close(\"&$D$12&\") when LocalYear(\"&$D$12&\")=\"&$D$4&\" and localMonth(\"&$D$12&\") =\"&$E$4&\" and LocalDay(\"&$D$12&\")=\"&$F$4&\" and Barix(\"&$D$12&\",reference:=StartOfSession)=\"&A49&\"\", \"Bar\", \"\", \"Close\",\"5\",\"0\",\"PrimaryOnly\",,,\"False\",\"T\",\"EveryTick\")","v":2.9710000000000001},1.0888057162300112E-2,{"$f":"RTD(\"cqg.rtd\",,\"StudyData\", \"Close(\"&$D$12&\") when LocalYear(\"&$D$12&\")=\"&$D$5&\" and localMonth(\"&$D$12&\") =\"&$E$5&\" and LocalDay(\"&$D$12&\")=\"&$F$5&\" and Barix(\"&$D$12&\",reference:=StartOfSession)=\"&A49&\"\", \"Bar\", \"\", \"Close\",\"5\",\"0\",\"PrimaryOnly\",,,\"False\",\"T\",\"EveryTick\")","v":2.9390000000000001},-3.3909799932179681E-3,{"$f":"RTD(\"cqg.rtd\",,\"StudyData\", \"Close(\"&$D$12&\") when LocalYear(\"&$D$12&\")=\"&$D$6&\" and localMonth(\"&$D$12&\") =\"&$E$6&\" and LocalDay(\"&$D$12&\")=\"&$F$6&\" and Barix(\"&$D$12&\",reference:=StartOfSession)=\"&A49&\"\", \"Bar\", \"\", \"Close\",\"5\",\"0\",\"PrimaryOnly\",,,\"False\",\"T\",\"EveryTick\")","v":2.9329999999999998},1.487889273356391E-2,{"$f":"RTD(\"cqg.rtd\",,\"StudyData\", \"Close(\"&$D$12&\") when LocalYear(\"&$D$12&\")=\"&$D$7&\" and localMonth(\"&$D$12&\") =\"&$E$7&\" and LocalDay(\"&$D$12&\")=\"&$F$7&\" and Barix(\"&$D$12&\",reference:=StartOfSession)=\"&A49&\"\", \"Bar\", \"\", \"Close\",\"5\",\"0\",\"PrimaryOnly\",,,\"False\",\"T\",\"EveryTick\")","v":2.8839999999999999},-1.5699658703071762E-2,{"$f":"RTD(\"cqg.rtd\",,\"StudyData\", \"Close(\"&$D$12&\") when LocalYear(\"&$D$12&\")=\"&$D$8&\" and localMonth(\"&$D$12&\") =\"&$E$8&\" and LocalDay(\"&$D$12&\")=\"&$F$8&\" and Barix(\"&$D$12&\",reference:=StartOfSession)=\"&A49&\"\", \"Bar\", \"\", \"Close\",\"5\",\"0\",\"PrimaryOnly\",,,\"False\",\"T\",\"EveryTick\")","v":2.9329999999999998},1.2776243093922625E-2,{"$f":"RTD(\"cqg.rtd\",,\"StudyData\", \"Close(\"&$D$12&\") when LocalYear(\"&$D$12&\")=\"&$D$9&\" and localMonth(\"&$D$12&\") =\"&$E$9&\" and LocalDay(\"&$D$12&\")=\"&$F$9&\" and Barix(\"&$D$12&\",reference:=StartOfSession)=\"&A49&\"\", \"Bar\", \"\", \"Close\",\"5\",\"0\",\"PrimaryOnly\",,,\"False\",\"T\",\"EveryTick\")","v":2.8929999999999998},1.0380622837369098E-3,{"$f":"RTD(\"cqg.rtd\",,\"StudyData\", \"Close(\"&$D$12&\") when LocalYear(\"&$D$12&\")=\"&$D$10&\" and localMonth(\"&$D$12&\") =\"&$E$10&\" and LocalDay(\"&$D$12&\")=\"&$F$10&\" and Barix(\"&$D$12&\",reference:=StartOfSession)=\"&A49&\"\", \"Bar\", \"\", \"Close\",\"5\",\"0\",\"PrimaryOnly\",,,\"False\",\"T\",\"EveryTick\")","v":2.891},-1.3310580204778205E-2,null,null,null,""]
[49,"12:05:00",-28,{"$f":" RTD(\"cqg.rtd\",,\"StudyData\", $D$12,  \"Tick\", \"FlatTicks=0\", \"Tick\",\"D\",C50,,,,,\"T\")","v":2.9889999999999999},null,null,null,{"$f":"RTD(\"cqg.rtd\",,\"StudyData\", \"Close(\"&$D$12&\") when LocalYear(\"&$D$12&\")=\"&$D$1&\" and localMonth(\"&$D$12&\") =\"&$E$1&\" and LocalDay(\"&$D$12&\")=\"&$F$1&\" and Barix(\"&$D$12&\",reference:=StartOfSession)=\"&A50&\"\", \"Bar\", \"\", \"Close\",\"5\",\"0\",\"PrimaryOnly\",,,\"False\",\"T\",\"EveryTick\")","v":""},{"$error":"#N/A"},{"$f":"RTD(\"cqg.rtd\",,\"StudyData\", \"Close(\"&$D$12&\") when LocalYear(\"&$D$12&\")=\"&$D$2&\" and localMonth(\"&$D$12&\") =\"&$E$2&\" and LocalDay(\"&$D$12&\")=\"&$F$2&\" and Barix(\"&$D$12&\",reference:=StartOfSession)=\"&A50&\"\", \"Bar\", \"\", \"Close\",\"5\",\"0\",\"PrimaryOnly\",,,\"False\",\"T\",\"EveryTick\")","v":3.0129999999999999},1.6188870151770673E-2,{"$f":"RTD(\"cqg.rtd\",,\"StudyData\", \"Close(\"&$D$12&\") when LocalYear(\"&$D$12&\")=\"&$D$3&\" and localMonth(\"&$D$12&\") =\"&$E$3&\" and LocalDay(\"&$D$12&\")=\"&$F$3&\" and Barix(\"&$D$12&\",reference:=StartOfSession)=\"&A50&\"\", \"Bar\", \"\", \"Close\",\"5\",\"0\",\"PrimaryOnly\",,,\"False\",\"T\",\"EveryTick\")","v":2.956},-2.3624704691191756E-3,{"$f":"RTD(\"cqg.rtd\",,\"StudyData\", \"Close(\"&$D$12&\") when LocalYear(\"&$D$12&\")=\"&$D$4&\" and localMonth(\"&$D$12&\") =\"&$E$4&\" and LocalDay(\"&$D$12&\")=\"&$F$4&\" and Barix(\"&$D$12&\",reference:=StartOfSession)=\"&A50&\"\", \"Bar\", \"\", \"Close\",\"5\",\"0\",\"PrimaryOnly\",,,\"False\",\"T\",\"EveryTick\")","v":2.97},1.0547805375978271E-2,{"$f":"RTD(\"cqg.rtd\",,\"StudyData\", \"Close(\"&$D$12&\") when LocalYear(\"&$D$12&\")=\"&$D$5&\" and localMonth(\"&$D$12&\") =\"&$E$5&\" and LocalDay(\"&$D$12&\")=\"&$F$5&\" and Barix(\"&$D$12&\",reference:=StartOfSession)=\"&A50&\"\", \"Bar\", \"\", \"Close\",\"5\",\"0\",\"PrimaryOnly\",,,\"False\",\"T\",\"EveryTick\")","v":2.9390000000000001},-3.3909799932179681E-3,{"$f":"RTD(\"cqg.rtd\",,\"StudyData\", \"Close(\"&$D$12&\") when LocalYear(\"&$D$12&\")=\"&$D$6&\" and localMonth(\"&$D$12&\") =\"&$E$6&\" and LocalDay(\"&$D$12&\")=\"&$F$6&\" and Barix(\"&$D$12&\",reference:=StartOfSession)=\"&A50&\"\", \"Bar\", \"\", \"Close\",\"5\",\"0\",\"PrimaryOnly\",,,\"False\",\"T\",\"EveryTick\")","v":2.9329999999999998},1.487889273356391E-2,{"$f":"RTD(\"cqg.rtd\",,\"StudyData\", \"Close(\"&$D$12&\") when LocalYear(\"&$D$12&\")=\"&$D$7&\" and localMonth(\"&$D$12&\") =\"&$E$7&\" and LocalDay(\"&$D$12&\")=\"&$F$7&\" and Barix(\"&$D$12&\",reference:=StartOfSession)=\"&A50&\"\", \"Bar\", \"\", \"Close\",\"5\",\"0\",\"PrimaryOnly\",,,\"False\",\"T\",\"EveryTick\")","v":2.8860000000000001},-1.5017064846416395E-2,{"$f":"RTD(\"cqg.rtd\",,\"StudyData\", \"Close(\"&$D$12&\") when LocalYear(\"&$D$12&\")=\"&$D$8&\" and localMonth(\"&$D$12&\") =\"&$E$8&\" and LocalDay(\"&$D$12&\")=\"&$F$8&\" and Barix(\"&$D$12&\",reference:=StartOfSession)=\"&A50&\"\", \"Bar\", \"\", \"Close\",\"5\",\"0\",\"PrimaryOnly\",,,\"False\",\"T\",\"EveryTick\")","v":2.9380000000000002},1.4502762430939316E-2,{"$f":"RTD(\"cqg.rtd\",,\"StudyData\", \"Close(\"&$D$12&\") when LocalYear(\"&$D$12&\")=\"&$D$9&\" and localMonth(\"&$D$12&\") =\"&$E$9&\" and LocalDay(\"&$D$12&\")=\"&$F$9&\" and Barix(\"&$D$12&\",reference:=StartOfSession)=\"&A50&\"\", \"Bar\", \"\", \"Close\",\"5\",\"0\",\"PrimaryOnly\",,,\"False\",\"T\",\"EveryTick\")","v":2.8959999999999999},2.0761245674739736E-3,{"$f":"RTD(\"cqg.rtd\",,\"StudyData\", \"Close(\"&$D$12&\") when LocalYear(\"&$D$12&\")=\"&$D$10&\" and localMonth(\"&$D$12&\") =\"&$E$10&\" and LocalDay(\"&$D$12&\")=\"&$F$10&\" and Barix(\"&$D$12&\",reference:=StartOfSession)=\"&A50&\"\", \"Bar\", \"\", \"Close\",\"5\",\"0\",\"PrimaryOnly\",,,\"False\",\"T\",\"EveryTick\")","v":2.8889999999999998},-1.3993174061433572E-2,null,null,null,""]
[50,"12:10:00",-27,{"$f":" RTD(\"cqg.rtd\",,\"StudyData\", $D$12,  \"Tick\", \"FlatTicks=0\", \"Tick\",\"D\",C51,,,,,\"T\")","v":2.99},null,null,null,{"$f":"RTD(\"cqg.rtd\",,\"StudyData\", \"Close(\"&$D$12&\") when LocalYear(\"&$D$12&\")=\"&$D$1&\" and localMonth(\"&$D$12&\") =\"&$E$1&\" and LocalDay(\"&$D$12&\")=\"&$F$1&\" and Barix(\"&$D$12&\",reference:=StartOfSession)=\"&A51&\"\", \"Bar\", \"\", \"Close\",\"5\",\"0\",\"PrimaryOnly\",,,\"False\",\"T\",\"EveryTick\")","v":""},{"$error":"#N/A"},{"$f":"RTD(\"cqg.rtd\",,\"StudyData\", \"Close(\"&$D$12&\") when LocalYear(\"&$D$12&\")=\"&$D$2&\" and localMonth(\"&$D$12&\") =\"&$E$2&\" and LocalDay(\"&$D$12&\")=\"&$F$2&\" and Barix(\"&$D$12&\",reference:=StartOfSession)=\"&A51&\"\", \"Bar\", \"\", \"Close\",\"5\",\"0\",\"PrimaryOnly\",,,\"False\",\"T\",\"EveryTick\")","v":3.0139999999999998},1.6526138279932524E-2,{"$f":"RTD(\"cqg.rtd\",,\"StudyData\", \"Close(\"&$D$12&\") when LocalYear(\"&$D$12&\")=\"&$D$3&\" and localMonth(\"&$D$12&\") =\"&$E$3&\" and LocalDay(\"&$D$12&\")=\"&$F$3&\" and Barix(\"&$D$12&\",reference:=StartOfSession)=\"&A51&\"\", \"Bar\", \"\", \"Close\",\"5\",\"0\",\"PrimaryOnly\",,,\"False\",\"T\",\"EveryTick\")","v":2.9540000000000002},-3.0374620317245686E-3,{"$f":"RTD(\"cqg.rtd\",,\"StudyData\", \"Close(\"&$D$12&\") when LocalYear(\"&$D$12&\")=\"&$D$4&\" and localMonth(\"&$D$12&\") =\"&$E$4&\" and LocalDay(\"&$D$12&\")=\"&$F$4&\" and Barix(\"&$D$12&\",reference:=StartOfSession)=\"&A51&\"\", \"Bar\", \"\", \"Close\",\"5\",\"0\",\"PrimaryOnly\",,,\"False\",\"T\",\"EveryTick\")","v":2.9689999999999999},1.020755358965628E-2,{"$f":"RTD(\"cqg.rtd\",,\"StudyData\", \"Close(\"&$D$12&\") when LocalYear(\"&$D$12&\")=\"&$D$5&\" and localMonth(\"&$D$12&\") =\"&$E$5&\" and LocalDay(\"&$D$12&\")=\"&$F$5&\" and Barix(\"&$D$12&\",reference:=StartOfSession)=\"&A51&\"\", \"Bar\", \"\", \"Close\",\"5\",\"0\",\"PrimaryOnly\",,,\"False\",\"T\",\"EveryTick\")","v":2.9380000000000002},-3.7300779925397345E-3,{"$f":"RTD(\"cqg.rtd\",,\"StudyData\", \"Close(\"&$D$12&\") when LocalYear(\"&$D$12&\")=\"&$D$6&\" and localMonth(\"&$D$12&\") =\"&$E$6&\" and LocalDay(\"&$D$12&\")=\"&$F$6&\" and Barix(\"&$D$12&\",reference:=StartOfSession)=\"&A51&\"\", \"Bar\", \"\", \"Close\",\"5\",\"0\",\"PrimaryOnly\",,,\"False\",\"T\",\"EveryTick\")","v":2.9359999999999999},1.5916955017300973E-2,{"$f":"RTD(\"cqg.rtd\",,\"StudyData\", \"Close(\"&$D$12&\") when LocalYear(\"&$D$12&\")=\"&$D$7&\" and localMonth(\"&$D$12&\") =\"&$E$7&\" and LocalDay(\"&$D$12&\")=\"&$F$7&\" and Barix(\"&$D$12&\",reference:=StartOfSession)=\"&A51&\"\", \"Bar\", \"\", \"Close\",\"5\",\"0\",\"PrimaryOnly\",,,\"False\",\"T\",\"EveryTick\")","v":2.8849999999999998},-1.5358361774744153E-2,{"$f":"RTD(\"cqg.rtd\",,\"StudyData\", \"Close(\"&$D$12&\") when LocalYear(\"&$D$12&\")=\"&$D$8&\" and localMonth(\"&$D$12&\") =\"&$E$8&\" and LocalDay(\"&$D$12&\")=\"&$F$8&\" and Barix(\"&$D$12&\",reference:=StartOfSession)=\"&A51&\"\", \"Bar\", \"\", \"Close\",\"5\",\"0\",\"PrimaryOnly\",,,\"False\",\"T\",\"EveryTick\")","v":2.9409999999999998},1.5538674033149147E-2,{"$f":"RTD(\"cqg.rtd\",,\"StudyData\", \"Close(\"&$D$12&\") when LocalYear(\"&$D$12&\")=\"&$D$9&\" and localMonth(\"&$D$12&\") =\"&$E$9&\" and LocalDay(\"&$D$12&\")=\"&$F$9&\" and Barix(\"&$D$12&\",reference:=StartOfSession)=\"&A51&\"\", \"Bar\", \"\", \"Close\",\"5\",\"0\",\"PrimaryOnly\",,,\"False\",\"T\",\"EveryTick\")","v":2.895},1.7301038062283367E-3,{"$f":"RTD(\"cqg.rtd\",,\"StudyData\", \"Close(\"&$D$12&\") when LocalYear(\"&$D$12&\")=\"&$D$10&\" and localMonth(\"&$D$12&\") =\"&$E$10&\" and LocalDay(\"&$D$12&\")=\"&$F$10&\" and Barix(\"&$D$12&\",reference:=StartOfSession)=\"&A51&\"\", \"Bar\", \"\", \"Close\",\"5\",\"0\",\"PrimaryOnly\",,,\"False\",\"T\",\"EveryTick\")","v":2.887},-1.4675767918088787E-2,null,null,null,""]
[51,"12:15:00",-26,{"$f":" RTD(\"cqg.rtd\",,\"StudyData\", $D$12,  \"Tick\", \"FlatTicks=0\", \"Tick\",\"D\",C52,,,,,\"T\")","v":2.9910000000000001},null,null,null,{"$f":"RTD(\"cqg.rtd\",,\"StudyData\", \"Close(\"&$D$12&\") when LocalYear(\"&$D$12&\")=\"&$D$1&\" and localMonth(\"&$D$12&\") =\"&$E$1&\" and LocalDay(\"&$D$12&\")=\"&$F$1&\" and Barix(\"&$D$12&\",reference:=StartOfSession)=\"&A52&\"\", \"Bar\", \"\", \"Close\",\"5\",\"0\",\"PrimaryOnly\",,,\"False\",\"T\",\"EveryTick\")","v":""},{"$error":"#N/A"},{"$f":"RTD(\"cqg.rtd\",,\"StudyData\", \"Close(\"&$D$12&\") when LocalYear(\"&$D$12&\")=\"&$D$2&\" and localMonth(\"&$D$12&\") =\"&$E$2&\" and LocalDay(\"&$D$12&\")=\"&$F$2&\" and Barix(\"&$D$12&\",reference:=StartOfSession)=\"&A52&\"\", \"Bar\", \"\", \"Close\",\"5\",\"0\",\"PrimaryOnly\",,,\"False\",\"T\",\"EveryTick\")","v":3.0179999999999998},1.787521079258008E-2,{"$f":"RTD(\"cqg.rtd\",,\"StudyData\", \"Close(\"&$D$12&\") when LocalYear(\"&$D$12&\")=\"&$D$3&\" and localMonth(\"&$D$12&\") =\"&$E$3&\" and LocalDay(\"&$D$12&\")=\"&$F$3&\" and Barix(\"&$D$12&\",reference:=StartOfSession)=\"&A52&\"\", \"Bar\", \"\", \"Close\",\"5\",\"0\",\"PrimaryOnly\",,,\"False\",\"T\",\"EveryTick\")","v":2.9580000000000002},-1.6874789065136325E-3,{"$f":"RTD(\"cqg.rtd\",,\"StudyData\", \"Close(\"&$D$12&\") when LocalYear(\"&$D$12&\")=\"&$D$4&\" and localMonth(\"&$D$12&\") =\"&$E$4&\" and LocalDay(\"&$D$12&\")=\"&$F$4&\" and Barix(\"&$D$12&\",reference:=StartOfSession)=\"&A52&\"\", \"Bar\", \"\", \"Close\",\"5\",\"0\",\"PrimaryOnly\",,,\"False\",\"T\",\"EveryTick\")","v":2.9689999999999999},1.020755358965628E-2,{"$f":"RTD(\"cqg.rtd\",,\"StudyData\", \"Close(\"&$D$12&\") when LocalYear(\"&$D$12&\")=\"&$D$5&\" and localMonth(\"&$D$12&\") =\"&$E$5&\" and LocalDay(\"&$D$12&\")=\"&$F$5&\" and Barix(\"&$D$12&\",reference:=StartOfSession)=\"&A52&\"\", \"Bar\", \"\", \"Close\",\"5\",\"0\",\"PrimaryOnly\",,,\"False\",\"T\",\"EveryTick\")","v":2.9359999999999999},-4.4082739911834182E-3,{"$f":"RTD(\"cqg.rtd\",,\"StudyData\", \"Close(\"&$D$12&\") when LocalYear(\"&$D$12&\")=\"&$D$6&\" and localMonth(\"&$D$12&\") =\"&$E$6&\" and LocalDay(\"&$D$12&\")=\"&$F$6&\" and Barix(\"&$D$12&\",reference:=StartOfSession)=\"&A52&\"\", \"Bar\", \"\", \"Close\",\"5\",\"0\",\"PrimaryOnly\",,,\"False\",\"T\",\"EveryTick\")","v":2.9329999999999998},1.487889273356391E-2,{"$f":"RTD(\"cqg.rtd\",,\"StudyData\", \"Close(\"&$D$12&\") when LocalYear(\"&$D$12&\")=\"&$D$7&\" and localMonth(\"&$D$12&\") =\"&$E$7&\" and LocalDay(\"&$D$12&\")=\"&$F$7&\" and Barix(\"&$D$12&\",reference:=StartOfSession)=\"&A52&\"\", \"Bar\", \"\", \"Close\",\"5\",\"0\",\"PrimaryOnly\",,,\"False\",\"T\",\"EveryTick\")","v":2.887},-1.4675767918088787E-2,{"$f":"RTD(\"cqg.rtd\",,\"StudyData\", \"Close(\"&$D$12&\") when LocalYear(\"&$D$12&\")=\"&$D$8&\" and localMonth(\"&$D$12&\") =\"&$E$8&\" and LocalDay(\"&$D$12&\")=\"&$F$8&\" and Barix(\"&$D$12&\",reference:=StartOfSession)=\"&A52&\"\", \"Bar\", \"\", \"Close\",\"5\",\"0\",\"PrimaryOnly\",,,\"False\",\"T\",\"EveryTick\")","v":2.9350000000000001},1.3466850828729332E-2,{"$f":"RTD(\"cqg.rtd\",,\"StudyData\", \"Close(\"&$D$12&\") when LocalYear(\"&$D$12&\")=\"&$D$9&\" and localMonth(\"&$D$12&\") =\"&$E$9&\" and LocalDay(\"&$D$12&\")=\"&$F$9&\" and Barix(\"&$D$12&\",reference:=StartOfSession)=\"&A52&\"\", \"Bar\", \"\", \"Close\",\"5\",\"0\",\"PrimaryOnly\",,,\"False\",\"T\",\"EveryTick\")","v":2.8940000000000001},1.3840830449827002E-3,{"$f":"RTD(\"cqg.rtd\",,\"StudyData\", \"Close(\"&$D$12&\") when LocalYear(\"&$D$12&\")=\"&$D$10&\" and localMonth(\"&$D$12&\") =\"&$E$10&\" and LocalDay(\"&$D$12&\")=\"&$F$10&\" and Barix(\"&$D$12&\",reference:=StartOfSession)=\"&A52&\"\", \"Bar\", \"\", \"Close\",\"5\",\"0\",\"PrimaryOnly\",,,\"False\",\"T\",\"EveryTick\")","v":2.883},-1.6040955631399369E-2,null,null,null,""]
[52,"12:20:00",-25,{"$f":" RTD(\"cqg.rtd\",,\"StudyData\", $D$12,  \"Tick\", \"FlatTicks=0\", \"Tick\",\"D\",C53,,,,,\"T\")","v":2.992},null,null,null,{"$f":"RTD(\"cqg.rtd\",,\"StudyData\", \"Close(\"&$D$12&\") when LocalYear(\"&$D$12&\")=\"&$D$1&\" and localMonth(\"&$D$12&\") =\"&$E$1&\" and LocalDay(\"&$D$12&\")=\"&$F$1&\" and Barix(\"&$D$12&\",reference:=StartOfSession)=\"&A53&\"\", \"Bar\", \"\", \"Close\",\"5\",\"0\",\"PrimaryOnly\",,,\"False\",\"T\",\"EveryTick\")","v":""},{"$error":"#N/A"},{"$f":"RTD(\"cqg.rtd\",,\"StudyData\", \"Close(\"&$D$12&\") when LocalYear(\"&$D$12&\")=\"&$D$2&\" and localMonth(\"&$D$12&\") =\"&$E$2&\" and LocalDay(\"&$D$12&\")=\"&$F$2&\" and Barix(\"&$D$12&\",reference:=StartOfSession)=\"&A53&\"\", \"Bar\", \"\", \"Close\",\"5\",\"0\",\"PrimaryOnly\",,,\"False\",\"T\",\"EveryTick\")","v":3.02},1.8549747048903935E-2,{"$f":"RTD(\"cqg.rtd\",,\"StudyData\", \"Close(\"&$D$12&\") when LocalYear(\"&$D$12&\")=\"&$D$3&\" and localMonth(\"&$D$12&\") =\"&$E$3&\" and LocalDay(\"&$D$12&\")=\"&$F$3&\" and Barix(\"&$D$12&\",reference:=StartOfSession)=\"&A53&\"\", \"Bar\", \"\", \"Close\",\"5\",\"0\",\"PrimaryOnly\",,,\"False\",\"T\",\"EveryTick\")","v":2.9550000000000001},-2.6999662504218719E-3,{"$f":"RTD(\"cqg.rtd\",,\"StudyData\", \"Close(\"&$D$12&\") when LocalYear(\"&$D$12&\")=\"&$D$4&\" and localMonth(\"&$D$12&\") =\"&$E$4&\" and LocalDay(\"&$D$12&\")=\"&$F$4&\" and Barix(\"&$D$12&\",reference:=StartOfSession)=\"&A53&\"\", \"Bar\", \"\", \"Close\",\"5\",\"0\",\"PrimaryOnly\",,,\"False\",\"T\",\"EveryTick\")","v":2.9670000000000001},9.5270500170125984E-3,{"$f":"RTD(\"cqg.rtd\",,\"StudyData\", \"Close(\"&$D$12&\") when LocalYear(\"&$D$12&\")=\"&$D$5&\" and localMonth(\"&$D$12&\") =\"&$E$5&\" and LocalDay(\"&$D$12&\")=\"&$F$5&\" and Barix(\"&$D$12&\",reference:=StartOfSession)=\"&A53&\"\", \"Bar\", \"\", \"Close\",\"5\",\"0\",\"PrimaryOnly\",,,\"False\",\"T\",\"EveryTick\")","v":2.9359999999999999},-4.4082739911834182E-3,{"$f":"RTD(\"cqg.rtd\",,\"StudyData\", \"Close(\"&$D$12&\") when LocalYear(\"&$D$12&\")=\"&$D$6&\" and localMonth(\"&$D$12&\") =\"&$E$6&\" and LocalDay(\"&$D$12&\")=\"&$F$6&\" and Barix(\"&$D$12&\",reference:=StartOfSession)=\"&A53&\"\", \"Bar\", \"\", \"Close\",\"5\",\"0\",\"PrimaryOnly\",,,\"False\",\"T\",\"EveryTick\")","v":2.94},1.7301038062283676E-2,{"$f":"RTD(\"cqg.rtd\",,\"StudyData\", \"Close(\"&$D$12&\") when LocalYear(\"&$D$12&\")=\"&$D$7&\" and localMonth(\"&$D$12&\") =\"&$E$7&\" and LocalDay(\"&$D$12&\")=\"&$F$7&\" and Barix(\"&$D$12&\",reference:=StartOfSession)=\"&A53&\"\", \"Bar\", \"\", \"Close\",\"5\",\"0\",\"PrimaryOnly\",,,\"False\",\"T\",\"EveryTick\")","v":2.89},-1.3651877133105813E-2,{"$f":"RTD(\"cqg.rtd\",,\"StudyData\", \"Close(\"&$D$12&\") when LocalYear(\"&$D$12&\")=\"&$D$8&\" and localMonth(\"&$D$12&\") =\"&$E$8&\" and LocalDay(\"&$D$12&\")=\"&$F$8&\" and Barix(\"&$D$12&\",reference:=StartOfSession)=\"&A53&\"\", \"Bar\", \"\", \"Close\",\"5\",\"0\",\"PrimaryOnly\",,,\"False\",\"T\",\"EveryTick\")","v":2.931},1.2085635359116071E-2,{"$f":"RTD(\"cqg.rtd\",,\"StudyData\", \"Close(\"&$D$12&\") when LocalYear(\"&$D$12&\")=\"&$D$9&\" and localMonth(\"&$D$12&\") =\"&$E$9&\" and LocalDay(\"&$D$12&\")=\"&$F$9&\" and Barix(\"&$D$12&\",reference:=StartOfSession)=\"&A53&\"\", \"Bar\", \"\", \"Close\",\"5\",\"0\",\"PrimaryOnly\",,,\"False\",\"T\",\"EveryTick\")","v":2.89},0,{"$f":"RTD(\"cqg.rtd\",,\"StudyData\", \"Close(\"&$D$12&\") when LocalYear(\"&$D$12&\")=\"&$D$10&\" and localMonth(\"&$D$12&\") =\"&$E$10&\" and LocalDay(\"&$D$12&\")=\"&$F$10&\" and Barix(\"&$D$12&\",reference:=StartOfSession)=\"&A53&\"\", \"Bar\", \"\", \"Close\",\"5\",\"0\",\"PrimaryOnly\",,,\"False\",\"T\",\"EveryTick\")","v":2.883},-1.6040955631399369E-2,null,null,null,""]
[53,"12:25:00",-24,{"$f":" RTD(\"cqg.rtd\",,\"StudyData\", $D$12,  \"Tick\", \"FlatTicks=0\", \"Tick\",\"D\",C54,,,,,\"T\")","v":2.9910000000000001},null,null,null,{"$f":"RTD(\"cqg.rtd\",,\"StudyData\", \"Close(\"&$D$12&\") when LocalYear(\"&$D$12&\")=\"&$D$1&\" and localMonth(\"&$D$12&\") =\"&$E$1&\" and LocalDay(\"&$D$12&\")=\"&$F$1&\" and Barix(\"&$D$12&\",reference:=StartOfSession)=\"&A54&\"\", \"Bar\", \"\", \"Close\",\"5\",\"0\",\"PrimaryOnly\",,,\"False\",\"T\",\"EveryTick\")","v":""},{"$error":"#N/A"},{"$f":"RTD(\"cqg.rtd\",,\"StudyData\", \"Close(\"&$D$12&\") when LocalYear(\"&$D$12&\")=\"&$D$2&\" and localMonth(\"&$D$12&\") =\"&$E$2&\" and LocalDay(\"&$D$12&\")=\"&$F$2&\" and Barix(\"&$D$12&\",reference:=StartOfSession)=\"&A54&\"\", \"Bar\", \"\", \"Close\",\"5\",\"0\",\"PrimaryOnly\",,,\"False\",\"T\",\"EveryTick\")","v":3.0190000000000001},1.821247892074208E-2,{"$f":"RTD(\"cqg.rtd\",,\"StudyData\", \"Close(\"&$D$12&\") when LocalYear(\"&$D$12&\")=\"&$D$3&\" and localMonth(\"&$D$12&\") =\"&$E$3&\" and LocalDay(\"&$D$12&\")=\"&$F$3&\" and Barix(\"&$D$12&\",reference:=StartOfSession)=\"&A54&\"\", \"Bar\", \"\", \"Close\",\"5\",\"0\",\"PrimaryOnly\",,,\"False\",\"T\",\"EveryTick\")","v":2.9609999999999999},-6.7499156260554299E-4,{"$f":"RTD(\"cqg.rtd\",,\"StudyData\", \"Close(\"&$D$12&\") when LocalYear(\"&$D$12&\")=\"&$D$4&\" and localMonth(\"&$D$12&\") =\"&$E$4&\" and LocalDay(\"&$D$12&\")=\"&$F$4&\" and Barix(\"&$D$12&\",reference:=StartOfSession)=\"&A54&\"\", \"Bar\", \"\", \"Close\",\"5\",\"0\",\"PrimaryOnly\",,,\"False\",\"T\",\"EveryTick\")","v":2.9590000000000001},6.8050357264375699E-3,{"$f":"RTD(\"cqg.rtd\",,\"StudyData\", \"Close(\"&$D$12&\") when LocalYear(\"&$D$12&\")=\"&$D$5&\" and localMonth(\"&$D$12&\") =\"&$E$5&\" and LocalDay(\"&$D$12&\")=\"&$F$5&\" and Barix(\"&$D$12&\",reference:=StartOfSession)=\"&A54&\"\", \"Bar\", \"\", \"Close\",\"5\",\"0\",\"PrimaryOnly\",,,\"False\",\"T\",\"EveryTick\")","v":2.9350000000000001},-4.747371990505185E-3,{"$f":"RTD(\"cqg.rtd\",,\"StudyData\", \"Close(\"&$D$12&\") when LocalYear(\"&$D$12&\")=\"&$D$6&\" and localMonth(\"&$D$12&\") =\"&$E$6&\" and LocalDay(\"&$D$12&\")=\"&$F$6&\" and Barix(\"&$D$12&\",reference:=StartOfSession)=\"&A54&\"\", \"Bar\", \"\", \"Close\",\"5\",\"0\",\"PrimaryOnly\",,,\"False\",\"T\",\"EveryTick\")","v":2.94},1.7301038062283676E-2,{"$f":"RTD(\"cqg.rtd\",,\"StudyData\", \"Close(\"&$D$12&\") when LocalYear(\"&$D$12&\")=\"&$D$7&\" and localMonth(\"&$D$12&\") =\"&$E$7&\" and LocalDay(\"&$D$12&\")=\"&$F$7&\" and Barix(\"&$D$12&\",reference:=StartOfSession)=\"&A54&\"\", \"Bar\", \"\", \"Close\",\"5\",\"0\",\"PrimaryOnly\",,,\"False\",\"T\",\"EveryTick\")","v":2.8919999999999999},-1.2969283276450598E-2,{"$f":"RTD(\"cqg.rtd\",,\"StudyData\", \"Close(\"&$D$12&\") when LocalYear(\"&$D$12&\")=\"&$D$8&\" and localMonth(\"&$D$12&\") =\"&$E$8&\" and LocalDay(\"&$D$12&\")=\"&$F$8&\" and Barix(\"&$D$12&\",reference:=StartOfSession)=\"&A54&\"\", \"Bar\", \"\", \"Close\",\"5\",\"0\",\"PrimaryOnly\",,,\"False\",\"T\",\"EveryTick\")","v":2.9350000000000001},1.3466850828729332E-2,{"$f":"RTD(\"cqg.rtd\",,\"StudyData\", \"Close(\"&$D$12&\") when LocalYear(\"&$D$12&\")=\"&$D$9&\" and localMonth(\"&$D$12&\") =\"&$E$9&\" and LocalDay(\"&$D$12&\")=\"&$F$9&\" and Barix(\"&$D$12&\",reference:=StartOfSession)=\"&A54&\"\", \"Bar\", \"\", \"Close\",\"5\",\"0\",\"PrimaryOnly\",,,\"False\",\"T\",\"EveryTick\")","v":2.887},-1.0380622837370635E-3,{"$f":"RTD(\"cqg.rtd\",,\"StudyData\", \"Close(\"&$D$12&\") when LocalYear(\"&$D$12&\")=\"&$D$10&\" and localMonth(\"&$D$12&\") =\"&$E$10&\" and LocalDay(\"&$D$12&\")=\"&$F$10&\" and Barix(\"&$D$12&\",reference:=StartOfSession)=\"&A54&\"\", \"Bar\", \"\", \"Close\",\"5\",\"0\",\"PrimaryOnly\",,,\"False\",\"T\",\"EveryTick\")","v":2.8820000000000001},-1.6382252559726976E-2,null,null,null,""]
[54,"12:30:00",-23,{"$f":" RTD(\"cqg.rtd\",,\"StudyData\", $D$12,  \"Tick\", \"FlatTicks=0\", \"Tick\",\"D\",C55,,,,,\"T\")","v":2.99},null,null,null,{"$f":"RTD(\"cqg.rtd\",,\"StudyData\", \"Close(\"&$D$12&\") when LocalYear(\"&$D$12&\")=\"&$D$1&\" and localMonth(\"&$D$12&\") =\"&$E$1&\" and LocalDay(\"&$D$12&\")=\"&$F$1&\" and Barix(\"&$D$12&\",reference:=StartOfSession)=\"&A55&\"\", \"Bar\", \"\", \"Close\",\"5\",\"0\",\"PrimaryOnly\",,,\"False\",\"T\",\"EveryTick\")","v":""},{"$error":"#N/A"},{"$f":"RTD(\"cqg.rtd\",,\"StudyData\", \"Close(\"&$D$12&\") when LocalYear(\"&$D$12&\")=\"&$D$2&\" and localMonth(\"&$D$12&\") =\"&$E$2&\" and LocalDay(\"&$D$12&\")=\"&$F$2&\" and Barix(\"&$D$12&\",reference:=StartOfSession)=\"&A55&\"\", \"Bar\", \"\", \"Close\",\"5\",\"0\",\"PrimaryOnly\",,,\"False\",\"T\",\"EveryTick\")","v":3.0230000000000001},1.9561551433389637E-2,{"$f":"RTD(\"cqg.rtd\",,\"StudyData\", \"Close(\"&$D$12&\") when LocalYear(\"&$D$12&\")=\"&$D$3&\" and localMonth(\"&$D$12&\") =\"&$E$3&\" and LocalDay(\"&$D$12&\")=\"&$F$3&\" and Barix(\"&$D$12&\",reference:=StartOfSession)=\"&A55&\"\", \"Bar\", \"\", \"Close\",\"5\",\"0\",\"PrimaryOnly\",,,\"False\",\"T\",\"EveryTick\")","v":2.9620000000000002},-3.3749578130269652E-4,{"$f":"RTD(\"cqg.rtd\",,\"StudyData\", \"Close(\"&$D$12&\") when LocalYear(\"&$D$12&\")=\"&$D$4&\" and localMonth(\"&$D$12&\") =\"&$E$4&\" and LocalDay(\"&$D$12&\")=\"&$F$4&\" and Barix(\"&$D$12&\",reference:=StartOfSession)=\"&A55&\"\", \"Bar\", \"\", \"Close\",\"5\",\"0\",\"PrimaryOnly\",,,\"False\",\"T\",\"EveryTick\")","v":2.9569999999999999},6.1245321537937375E-3,{"$f":"RTD(\"cqg.rtd\",,\"StudyData\", \"Close(\"&$D$12&\") when LocalYear(\"&$D$12&\")=\"&$D$5&\" and localMonth(\"&$D$12&\") =\"&$E$5&\" and LocalDay(\"&$D$12&\")=\"&$F$5&\" and Barix(\"&$D$12&\",reference:=StartOfSession)=\"&A55&\"\", \"Bar\", \"\", \"Close\",\"5\",\"0\",\"PrimaryOnly\",,,\"False\",\"T\",\"EveryTick\")","v":2.9319999999999999},-5.7646659884706356E-3,{"$f":"RTD(\"cqg.rtd\",,\"StudyData\", \"Close(\"&$D$12&\") when LocalYear(\"&$D$12&\")=\"&$D$6&\" and localMonth(\"&$D$12&\") =\"&$E$6&\" and LocalDay(\"&$D$12&\")=\"&$F$6&\" and Barix(\"&$D$12&\",reference:=StartOfSession)=\"&A55&\"\", \"Bar\", \"\", \"Close\",\"5\",\"0\",\"PrimaryOnly\",,,\"False\",\"T\",\"EveryTick\")","v":2.9369999999999998},1.6262975778546612E-2,{"$f":"RTD(\"cqg.rtd\",,\"StudyData\", \"Close(\"&$D$12&\") when LocalYear(\"&$D$12&\")=\"&$D$7&\" and localMonth(\"&$D$12&\") =\"&$E$7&\" and LocalDay(\"&$D$12&\")=\"&$F$7&\" and Barix(\"&$D$12&\",reference:=StartOfSession)=\"&A55&\"\", \"Bar\", \"\", \"Close\",\"5\",\"0\",\"PrimaryOnly\",,,\"False\",\"T\",\"EveryTick\")","v":2.891},-1.3310580204778205E-2,{"$f":"RTD(\"cqg.rtd\",,\"StudyData\", \"Close(\"&$D$12&\") when LocalYear(\"&$D$12&\")=\"&$D$8&\" and localMonth(\"&$D$12&\") =\"&$E$8&\" and LocalDay(\"&$D$12&\")=\"&$F$8&\" and Barix(\"&$D$12&\",reference:=StartOfSession)=\"&A55&\"\", \"Bar\", \"\", \"Close\",\"5\",\"0\",\"PrimaryOnly\",,,\"False\",\"T\",\"EveryTick\")","v":2.9380000000000002},1.4502762430939316E-2,{"$f":"RTD(\"cqg.rtd\",,\"StudyData\", \"Close(\"&$D$12&\") when LocalYear(\"&$D$12&\")=\"&$D$9&\" and localMonth(\"&$D$12&\") =\"&$E$9&\" and LocalDay(\"&$D$12&\")=\"&$F$9&\" and Barix(\"&$D$12&\",reference:=StartOfSession)=\"&A55&\"\", \"Bar\", \"\", \"Close\",\"5\",\"0\",\"PrimaryOnly\",,,\"False\",\"T\",\"EveryTick\")","v":2.895},1.7301038062283367E-3,{"$f":"RTD(\"cqg.rtd\",,\"StudyData\", \"Close(\"&$D$12&\") when LocalYear(\"&$D$12&\")=\"&$D$10&\" and localMonth(\"&$D$12&\") =\"&$E$10&\" and LocalDay(\"&$D$12&\")=\"&$F$10&\" and Barix(\"&$D$12&\",reference:=StartOfSession)=\"&A55&\"\", \"Bar\", \"\", \"Close\",\"5\",\"0\",\"PrimaryOnly\",,,\"False\",\"T\",\"EveryTick\")","v":2.8839999999999999},-1.5699658703071762E-2,null,null,null,""]
[55,"12:35:00",-22,{"$f":" RTD(\"cqg.rtd\",,\"StudyData\", $D$12,  \"Tick\", \"FlatTicks=0\", \"Tick\",\"D\",C56,,,,,\"T\")","v":2.9910000000000001},null,null,null,{"$f":"RTD(\"cqg.rtd\",,\"StudyData\", \"Close(\"&$D$12&\") when LocalYear(\"&$D$12&\")=\"&$D$1&\" and localMonth(\"&$D$12&\") =\"&$E$1&\" and LocalDay(\"&$D$12&\")=\"&$F$1&\" and Barix(\"&$D$12&\",reference:=StartOfSession)=\"&A56&\"\", \"Bar\", \"\", \"Close\",\"5\",\"0\",\"PrimaryOnly\",,,\"False\",\"T\",\"EveryTick\")","v":""},{"$error":"#N/A"},{"$f":"RTD(\"cqg.rtd\",,\"StudyData\", \"Close(\"&$D$12&\") when LocalYear(\"&$D$12&\")=\"&$D$2&\" and localMonth(\"&$D$12&\") =\"&$E$2&\" and LocalDay(\"&$D$12&\")=\"&$F$2&\" and Barix(\"&$D$12&\",reference:=StartOfSession)=\"&A56&\"\", \"Bar\", \"\", \"Close\",\"5\",\"0\",\"PrimaryOnly\",,,\"False\",\"T\",\"EveryTick\")","v":3.0219999999999998},1.9224283305227637E-2,{"$f":"RTD(\"cqg.rtd\",,\"StudyData\", \"Close(\"&$D$12&\") when LocalYear(\"&$D$12&\")=\"&$D$3&\" and localMonth(\"&$D$12&\") =\"&$E$3&\" and LocalDay(\"&$D$12&\")=\"&$F$3&\" and Barix(\"&$D$12&\",reference:=StartOfSession)=\"&A56&\"\", \"Bar\", \"\", \"Close\",\"5\",\"0\",\"PrimaryOnly\",,,\"False\",\"T\",\"EveryTick\")","v":2.9620000000000002},-3.3749578130269652E-4,{"$f":"RTD(\"cqg.rtd\",,\"StudyData\", \"Close(\"&$D$12&\") when LocalYear(\"&$D$12&\")=\"&$D$4&\" and localMonth(\"&$D$12&\") =\"&$E$4&\" and LocalDay(\"&$D$12&\")=\"&$F$4&\" and Barix(\"&$D$12&\",reference:=StartOfSession)=\"&A56&\"\", \"Bar\", \"\", \"Close\",\"5\",\"0\",\"PrimaryOnly\",,,\"False\",\"T\",\"EveryTick\")","v":2.9630000000000001},8.1660428717250828E-3,{"$f":"RTD(\"cqg.rtd\",,\"StudyData\", \"Close(\"&$D$12&\") when LocalYear(\"&$D$12&\")=\"&$D$5&\" and localMonth(\"&$D$12&\") =\"&$E$5&\" and LocalDay(\"&$D$12&\")=\"&$F$5&\" and Barix(\"&$D$12&\",reference:=StartOfSession)=\"&A56&\"\", \"Bar\", \"\", \"Close\",\"5\",\"0\",\"PrimaryOnly\",,,\"False\",\"T\",\"EveryTick\")","v":2.9329999999999998},-5.4255679891488688E-3,{"$f":"RTD(\"cqg.rtd\",,\"StudyData\", \"Close(\"&$D$12&\") when LocalYear(\"&$D$12&\")=\"&$D$6&\" and localMonth(\"&$D$12&\") =\"&$E$6&\" and LocalDay(\"&$D$12&\")=\"&$F$6&\" and Barix(\"&$D$12&\",reference:=StartOfSession)=\"&A56&\"\", \"Bar\", \"\", \"Close\",\"5\",\"0\",\"PrimaryOnly\",,,\"False\",\"T\",\"EveryTick\")","v":2.9369999999999998},1.6262975778546612E-2,{"$f":"RTD(\"cqg.rtd\",,\"StudyData\", \"Close(\"&$D$12&\") when LocalYear(\"&$D$12&\")=\"&$D$7&\" and localMonth(\"&$D$12&\") =\"&$E$7&\" and LocalDay(\"&$D$12&\")=\"&$F$7&\" and Barix(\"&$D$12&\",reference:=StartOfSession)=\"&A56&\"\", \"Bar\", \"\", \"Close\",\"5\",\"0\",\"PrimaryOnly\",,,\"False\",\"T\",\"EveryTick\")","v":2.891},-1.3310580204778205E-2,{"$f":"RTD(\"cqg.rtd\",,\"StudyData\", \"Close(\"&$D$12&\") when LocalYear(\"&$D$12&\")=\"&$D$8&\" and localMonth(\"&$D$12&\") =\"&$E$8&\" and LocalDay(\"&$D$12&\")=\"&$F$8&\" and Barix(\"&$D$12&\",reference:=StartOfSession)=\"&A56&\"\", \"Bar\", \"\", \"Close\",\"5\",\"0\",\"PrimaryOnly\",,,\"False\",\"T\",\"EveryTick\")","v":2.9340000000000002},1.3121546961326055E-2,{"$f":"RTD(\"cqg.rtd\",,\"StudyData\", \"Close(\"&$D$12&\") when LocalYear(\"&$D$12&\")=\"&$D$9&\" and localMonth(\"&$D$12&\") =\"&$E$9&\" and LocalDay(\"&$D$12&\")=\"&$F$9&\" and Barix(\"&$D$12&\",reference:=StartOfSession)=\"&A56&\"\", \"Bar\", \"\", \"Close\",\"5\",\"0\",\"PrimaryOnly\",,,\"False\",\"T\",\"EveryTick\")","v":2.8919999999999999},6.9204152249127324E-4,{"$f":"RTD(\"cqg.rtd\",,\"StudyData\", \"Close(\"&$D$12&\") when LocalYear(\"&$D$12&\")=\"&$D$10&\" and localMonth(\"&$D$12&\") =\"&$E$10&\" and LocalDay(\"&$D$12&\")=\"&$F$10&\" and Barix(\"&$D$12&\",reference:=StartOfSession)=\"&A56&\"\", \"Bar\", \"\", \"Close\",\"5\",\"0\",\"PrimaryOnly\",,,\"False\",\"T\",\"EveryTick\")","v":2.883},-1.6040955631399369E-2,null,null,null,""]
[56,"12:40:00",-21,{"$f":" RTD(\"cqg.rtd\",,\"StudyData\", $D$12,  \"Tick\", \"FlatTicks=0\", \"Tick\",\"D\",C57,,,,,\"T\")","v":2.992},null,null,null,{"$f":"RTD(\"cqg.rtd\",,\"StudyData\", \"Close(\"&$D$12&\") when LocalYear(\"&$D$12&\")=\"&$D$1&\" and localMonth(\"&$D$12&\") =\"&$E$1&\" and LocalDay(\"&$D$12&\")=\"&$F$1&\" and Barix(\"&$D$12&\",reference:=StartOfSession)=\"&A57&\"\", \"Bar\", \"\", \"Close\",\"5\",\"0\",\"PrimaryOnly\",,,\"False\",\"T\",\"EveryTick\")","v":""},{"$error":"#N/A"},{"$f":"RTD(\"cqg.rtd\",,\"StudyData\", \"Close(\"&$D$12&\") when LocalYear(\"&$D$12&\")=\"&$D$2&\" and localMonth(\"&$D$12&\") =\"&$E$2&\" and LocalDay(\"&$D$12&\")=\"&$F$2&\" and Barix(\"&$D$12&\",reference:=StartOfSession)=\"&A57&\"\", \"Bar\", \"\", \"Close\",\"5\",\"0\",\"PrimaryOnly\",,,\"False\",\"T\",\"EveryTick\")","v":3.0179999999999998},1.787521079258008E-2,{"$f":"RTD(\"cqg.rtd\",,\"StudyData\", \"Close(\"&$D$12&\") when LocalYear(\"&$D$12&\")=\"&$D$3&\" and localMonth(\"&$D$12&\") =\"&$E$3&\" and LocalDay(\"&$D$12&\")=\"&$F$3&\" and Barix(\"&$D$12&\",reference:=StartOfSession)=\"&A57&\"\", \"Bar\", \"\", \"Close\",\"5\",\"0\",\"PrimaryOnly\",,,\"False\",\"T\",\"EveryTick\")","v":2.9609999999999999},-6.7499156260554299E-4,{"$f":"RTD(\"cqg.rtd\",,\"StudyData\", \"Close(\"&$D$12&\") when LocalYear(\"&$D$12&\")=\"&$D$4&\" and localMonth(\"&$D$12&\") =\"&$E$4&\" and LocalDay(\"&$D$12&\")=\"&$F$4&\" and Barix(\"&$D$12&\",reference:=StartOfSession)=\"&A57&\"\", \"Bar\", \"\", \"Close\",\"5\",\"0\",\"PrimaryOnly\",,,\"False\",\"T\",\"EveryTick\")","v":2.96},7.1452875127594106E-3,{"$f":"RTD(\"cqg.rtd\",,\"StudyData\", \"Close(\"&$D$12&\") when LocalYear(\"&$D$12&\")=\"&$D$5&\" and localMonth(\"&$D$12&\") =\"&$E$5&\" and LocalDay(\"&$D$12&\")=\"&$F$5&\" and Barix(\"&$D$12&\",reference:=StartOfSession)=\"&A57&\"\", \"Bar\", \"\", \"Close\",\"5\",\"0\",\"PrimaryOnly\",,,\"False\",\"T\",\"EveryTick\")","v":2.931},-6.1037639877924025E-3,{"$f":"RTD(\"cqg.rtd\",,\"StudyData\", \"Close(\"&$D$12&\") when LocalYear(\"&$D$12&\")=\"&$D$6&\" and localMonth(\"&$D$12&\") =\"&$E$6&\" and LocalDay(\"&$D$12&\")=\"&$F$6&\" and Barix(\"&$D$12&\",reference:=StartOfSession)=\"&A57&\"\", \"Bar\", \"\", \"Close\",\"5\",\"0\",\"PrimaryOnly\",,,\"False\",\"T\",\"EveryTick\")","v":2.9369999999999998},1.6262975778546612E-2,{"$f":"RTD(\"cqg.rtd\",,\"StudyData\", \"Close(\"&$D$12&\") when LocalYear(\"&$D$12&\")=\"&$D$7&\" and localMonth(\"&$D$12&\") =\"&$E$7&\" and LocalDay(\"&$D$12&\")=\"&$F$7&\" and Barix(\"&$D$12&\",reference:=StartOfSession)=\"&A57&\"\", \"Bar\", \"\", \"Close\",\"5\",\"0\",\"PrimaryOnly\",,,\"False\",\"T\",\"EveryTick\")","v":2.8929999999999998},-1.2627986348122991E-2,{"$f":"RTD(\"cqg.rtd\",,\"StudyData\", \"Close(\"&$D$12&\") when LocalYear(\"&$D$12&\")=\"&$D$8&\" and localMonth(\"&$D$12&\") =\"&$E$8&\" and LocalDay(\"&$D$12&\")=\"&$F$8&\" and Barix(\"&$D$12&\",reference:=StartOfSession)=\"&A57&\"\", \"Bar\", \"\", \"Close\",\"5\",\"0\",\"PrimaryOnly\",,,\"False\",\"T\",\"EveryTick\")","v":2.9340000000000002},1.3121546961326055E-2,{"$f":"RTD(\"cqg.rtd\",,\"StudyData\", \"Close(\"&$D$12&\") when LocalYear(\"&$D$12&\")=\"&$D$9&\" and localMonth(\"&$D$12&\") =\"&$E$9&\" and LocalDay(\"&$D$12&\")=\"&$F$9&\" and Barix(\"&$D$12&\",reference:=StartOfSession)=\"&A57&\"\", \"Bar\", \"\", \"Close\",\"5\",\"0\",\"PrimaryOnly\",,,\"False\",\"T\",\"EveryTick\")","v":2.895},1.7301038062283367E-3,{"$f":"RTD(\"cqg.rtd\",,\"StudyData\", \"Close(\"&$D$12&\") when LocalYear(\"&$D$12&\")=\"&$D$10&\" and localMonth(\"&$D$12&\") =\"&$E$10&\" and LocalDay(\"&$D$12&\")=\"&$F$10&\" and Barix(\"&$D$12&\",reference:=StartOfSession)=\"&A57&\"\", \"Bar\", \"\", \"Close\",\"5\",\"0\",\"PrimaryOnly\",,,\"False\",\"T\",\"EveryTick\")","v":2.8849999999999998},-1.5358361774744153E-2,null,null,null,""]
[57,"12:45:00",-20,{"$f":" RTD(\"cqg.rtd\",,\"StudyData\", $D$12,  \"Tick\", \"FlatTicks=0\", \"Tick\",\"D\",C58,,,,,\"T\")","v":2.9910000000000001},null,null,null,{"$f":"RTD(\"cqg.rtd\",,\"StudyData\", \"Close(\"&$D$12&\") when LocalYear(\"&$D$12&\")=\"&$D$1&\" and localMonth(\"&$D$12&\") =\"&$E$1&\" and LocalDay(\"&$D$12&\")=\"&$F$1&\" and Barix(\"&$D$12&\",reference:=StartOfSession)=\"&A58&\"\", \"Bar\", \"\", \"Close\",\"5\",\"0\",\"PrimaryOnly\",,,\"False\",\"T\",\"EveryTick\")","v":""},{"$error":"#N/A"},{"$f":"RTD(\"cqg.rtd\",,\"StudyData\", \"Close(\"&$D$12&\") when LocalYear(\"&$D$12&\")=\"&$D$2&\" and localMonth(\"&$D$12&\") =\"&$E$2&\" and LocalDay(\"&$D$12&\")=\"&$F$2&\" and Barix(\"&$D$12&\",reference:=StartOfSession)=\"&A58&\"\", \"Bar\", \"\", \"Close\",\"5\",\"0\",\"PrimaryOnly\",,,\"False\",\"T\",\"EveryTick\")","v":3.0150000000000001},1.6863406408094524E-2,{"$f":"RTD(\"cqg.rtd\",,\"StudyData\", \"Close(\"&$D$12&\") when LocalYear(\"&$D$12&\")=\"&$D$3&\" and localMonth(\"&$D$12&\") =\"&$E$3&\" and LocalDay(\"&$D$12&\")=\"&$F$3&\" and Barix(\"&$D$12&\",reference:=StartOfSession)=\"&A58&\"\", \"Bar\", \"\", \"Close\",\"5\",\"0\",\"PrimaryOnly\",,,\"False\",\"T\",\"EveryTick\")","v":2.9620000000000002},-3.3749578130269652E-4,{"$f":"RTD(\"cqg.rtd\",,\"StudyData\", \"Close(\"&$D$12&\") when LocalYear(\"&$D$12&\")=\"&$D$4&\" and localMonth(\"&$D$12&\") =\"&$E$4&\" and LocalDay(\"&$D$12&\")=\"&$F$4&\" and Barix(\"&$D$12&\",reference:=StartOfSession)=\"&A58&\"\", \"Bar\", \"\", \"Close\",\"5\",\"0\",\"PrimaryOnly\",,,\"False\",\"T\",\"EveryTick\")","v":2.96},7.1452875127594106E-3,{"$f":"RTD(\"cqg.rtd\",,\"StudyData\", \"Close(\"&$D$12&\") when LocalYear(\"&$D$12&\")=\"&$D$5&\" and localMonth(\"&$D$12&\") =\"&$E$5&\" and LocalDay(\"&$D$12&\")=\"&$F$5&\" and Barix(\"&$D$12&\",reference:=StartOfSession)=\"&A58&\"\", \"Bar\", \"\", \"Close\",\"5\",\"0\",\"PrimaryOnly\",,,\"False\",\"T\",\"EveryTick\")","v":2.93},-6.4428619871141693E-3,{"$f":"RTD(\"cqg.rtd\",,\"StudyData\", \"Close(\"&$D$12&\") when LocalYear(\"&$D$12&\")=\"&$D$6&\" and localMonth(\"&$D$12&\") =\"&$E$6&\" and LocalDay(\"&$D$12&\")=\"&$F$6&\" and Barix(\"&$D$12&\",reference:=StartOfSession)=\"&A58&\"\", \"Bar\", \"\", \"Close\",\"5\",\"0\",\"PrimaryOnly\",,,\"False\",\"T\",\"EveryTick\")","v":2.9369999999999998},1.6262975778546612E-2,{"$f":"RTD(\"cqg.rtd\",,\"StudyData\", \"Close(\"&$D$12&\") when LocalYear(\"&$D$12&\")=\"&$D$7&\" and localMonth(\"&$D$12&\") =\"&$E$7&\" and LocalDay(\"&$D$12&\")=\"&$F$7&\" and Barix(\"&$D$12&\",reference:=StartOfSession)=\"&A58&\"\", \"Bar\", \"\", \"Close\",\"5\",\"0\",\"PrimaryOnly\",,,\"False\",\"T\",\"EveryTick\")","v":2.8940000000000001},-1.2286689419795232E-2,{"$f":"RTD(\"cqg.rtd\",,\"StudyData\", \"Close(\"&$D$12&\") when LocalYear(\"&$D$12&\")=\"&$D$8&\" and localMonth(\"&$D$12&\") =\"&$E$8&\" and LocalDay(\"&$D$12&\")=\"&$F$8&\" and Barix(\"&$D$12&\",reference:=StartOfSession)=\"&A58&\"\", \"Bar\", \"\", \"Close\",\"5\",\"0\",\"PrimaryOnly\",,,\"False\",\"T\",\"EveryTick\")","v":2.9350000000000001},1.3466850828729332E-2,{"$f":"RTD(\"cqg.rtd\",,\"StudyData\", \"Close(\"&$D$12&\") when LocalYear(\"&$D$12&\")=\"&$D$9&\" and localMonth(\"&$D$12&\") =\"&$E$9&\" and LocalDay(\"&$D$12&\")=\"&$F$9&\" and Barix(\"&$D$12&\",reference:=StartOfSession)=\"&A58&\"\", \"Bar\", \"\", \"Close\",\"5\",\"0\",\"PrimaryOnly\",,,\"False\",\"T\",\"EveryTick\")","v":2.8940000000000001},1.3840830449827002E-3,{"$f":"RTD(\"cqg.rtd\",,\"StudyData\", \"Close(\"&$D$12&\") when LocalYear(\"&$D$12&\")=\"&$D$10&\" and localMonth(\"&$D$12&\") =\"&$E$10&\" and LocalDay(\"&$D$12&\")=\"&$F$10&\" and Barix(\"&$D$12&\",reference:=StartOfSession)=\"&A58&\"\", \"Bar\", \"\", \"Close\",\"5\",\"0\",\"PrimaryOnly\",,,\"False\",\"T\",\"EveryTick\")","v":2.8820000000000001},-1.6382252559726976E-2,null,null,null,""]
[58,"12:50:00",-19,{"$f":" RTD(\"cqg.rtd\",,\"StudyData\", $D$12,  \"Tick\", \"FlatTicks=0\", \"Tick\",\"D\",C59,,,,,\"T\")","v":2.99},null,null,null,{"$f":"RTD(\"cqg.rtd\",,\"StudyData\", \"Close(\"&$D$12&\") when LocalYear(\"&$D$12&\")=\"&$D$1&\" and localMonth(\"&$D$12&\") =\"&$E$1&\" and LocalDay(\"&$D$12&\")=\"&$F$1&\" and Barix(\"&$D$12&\",reference:=StartOfSession)=\"&A59&\"\", \"Bar\", \"\", \"Close\",\"5\",\"0\",\"PrimaryOnly\",,,\"False\",\"T\",\"EveryTick\")","v":""},{"$error":"#N/A"},{"$f":"RTD(\"cqg.rtd\",,\"StudyData\", \"Close(\"&$D$12&\") when LocalYear(\"&$D$12&\")=\"&$D$2&\" and localMonth(\"&$D$12&\") =\"&$E$2&\" and LocalDay(\"&$D$12&\")=\"&$F$2&\" and Barix(\"&$D$12&\",reference:=StartOfSession)=\"&A59&\"\", \"Bar\", \"\", \"Close\",\"5\",\"0\",\"PrimaryOnly\",,,\"False\",\"T\",\"EveryTick\")","v":3.0150000000000001},1.6863406408094524E-2,{"$f":"RTD(\"cqg.rtd\",,\"StudyData\", \"Close(\"&$D$12&\") when LocalYear(\"&$D$12&\")=\"&$D$3&\" and localMonth(\"&$D$12&\") =\"&$E$3&\" and LocalDay(\"&$D$12&\")=\"&$F$3&\" and Barix(\"&$D$12&\",reference:=StartOfSession)=\"&A59&\"\", \"Bar\", \"\", \"Close\",\"5\",\"0\",\"PrimaryOnly\",,,\"False\",\"T\",\"EveryTick\")","v":2.964},3.3749578130269652E-4,{"$f":"RTD(\"cqg.rtd\",,\"StudyData\", \"Close(\"&$D$12&\") when LocalYear(\"&$D$12&\")=\"&$D$4&\" and localMonth(\"&$D$12&\") =\"&$E$4&\" and LocalDay(\"&$D$12&\")=\"&$F$4&\" and Barix(\"&$D$12&\",reference:=StartOfSession)=\"&A59&\"\", \"Bar\", \"\", \"Close\",\"5\",\"0\",\"PrimaryOnly\",,,\"False\",\"T\",\"EveryTick\")","v":2.96},7.1452875127594106E-3,{"$f":"RTD(\"cqg.rtd\",,\"StudyData\", \"Close(\"&$D$12&\") when LocalYear(\"&$D$12&\")=\"&$D$5&\" and localMonth(\"&$D$12&\") =\"&$E$5&\" and LocalDay(\"&$D$12&\")=\"&$F$5&\" and Barix(\"&$D$12&\",reference:=StartOfSession)=\"&A59&\"\", \"Bar\", \"\", \"Close\",\"5\",\"0\",\"PrimaryOnly\",,,\"False\",\"T\",\"EveryTick\")","v":2.9329999999999998},-5.4255679891488688E-3,{"$f":"RTD(\"cqg.rtd\",,\"StudyData\", \"Close(\"&$D$12&\") when LocalYear(\"&$D$12&\")=\"&$D$6&\" and localMonth(\"&$D$12&\") =\"&$E$6&\" and LocalDay(\"&$D$12&\")=\"&$F$6&\" and Barix(\"&$D$12&\",reference:=StartOfSession)=\"&A59&\"\", \"Bar\", \"\", \"Close\",\"5\",\"0\",\"PrimaryOnly\",,,\"False\",\"T\",\"EveryTick\")","v":2.9369999999999998},1.6262975778546612E-2,{"$f":"RTD(\"cqg.rtd\",,\"StudyData\", \"Close(\"&$D$12&\") when LocalYear(\"&$D$12&\")=\"&$D$7&\" and localMonth(\"&$D$12&\") =\"&$E$7&\" and LocalDay(\"&$D$12&\")=\"&$F$7&\" and Barix(\"&$D$12&\",reference:=StartOfSession)=\"&A59&\"\", \"Bar\", \"\", \"Close\",\"5\",\"0\",\"PrimaryOnly\",,,\"False\",\"T\",\"EveryTick\")","v":2.8940000000000001},-1.2286689419795232E-2,{"$f":"RTD(\"cqg.rtd\",,\"StudyData\", \"Close(\"&$D$12&\") when LocalYear(\"&$D$12&\")=\"&$D$8&\" and localMonth(\"&$D$12&\") =\"&$E$8&\" and LocalDay(\"&$D$12&\")=\"&$F$8&\" and Barix(\"&$D$12&\",reference:=StartOfSession)=\"&A59&\"\", \"Bar\", \"\", \"Close\",\"5\",\"0\",\"PrimaryOnly\",,,\"False\",\"T\",\"EveryTick\")","v":2.9329999999999998},1.2776243093922625E-2,{"$f":"RTD(\"cqg.rtd\",,\"StudyData\", \"Close(\"&$D$12&\") when LocalYear(\"&$D$12&\")=\"&$D$9&\" and localMonth(\"&$D$12&\") =\"&$E$9&\" and LocalDay(\"&$D$12&\")=\"&$F$9&\" and Barix(\"&$D$12&\",reference:=StartOfSession)=\"&A59&\"\", \"Bar\", \"\", \"Close\",\"5\",\"0\",\"PrimaryOnly\",,,\"False\",\"T\",\"EveryTick\")","v":2.8959999999999999},2.0761245674739736E-3,{"$f":"RTD(\"cqg.rtd\",,\"StudyData\", \"Close(\"&$D$12&\") when LocalYear(\"&$D$12&\")=\"&$D$10&\" and localMonth(\"&$D$12&\") =\"&$E$10&\" and LocalDay(\"&$D$12&\")=\"&$F$10&\" and Barix(\"&$D$12&\",reference:=StartOfSession)=\"&A59&\"\", \"Bar\", \"\", \"Close\",\"5\",\"0\",\"PrimaryOnly\",,,\"False\",\"T\",\"EveryTick\")","v":2.883},-1.6040955631399369E-2,null,null,null,""]
[59,"12:55:00",-18,{"$f":" RTD(\"cqg.rtd\",,\"StudyData\", $D$12,  \"Tick\", \"FlatTicks=0\", \"Tick\",\"D\",C60,,,,,\"T\")","v":2.9889999999999999},null,null,null,{"$f":"RTD(\"cqg.rtd\",,\"StudyData\", \"Close(\"&$D$12&\") when LocalYear(\"&$D$12&\")=\"&$D$1&\" and localMonth(\"&$D$12&\") =\"&$E$1&\" and LocalDay(\"&$D$12&\")=\"&$F$1&\" and Barix(\"&$D$12&\",reference:=StartOfSession)=\"&A60&\"\", \"Bar\", \"\", \"Close\",\"5\",\"0\",\"PrimaryOnly\",,,\"False\",\"T\",\"EveryTick\")","v":""},{"$error":"#N/A"},{"$f":"RTD(\"cqg.rtd\",,\"StudyData\", \"Close(\"&$D$12&\") when LocalYear(\"&$D$12&\")=\"&$D$2&\" and localMonth(\"&$D$12&\") =\"&$E$2&\" and LocalDay(\"&$D$12&\")=\"&$F$2&\" and Barix(\"&$D$12&\",reference:=StartOfSession)=\"&A60&\"\", \"Bar\", \"\", \"Close\",\"5\",\"0\",\"PrimaryOnly\",,,\"False\",\"T\",\"EveryTick\")","v":3.0169999999999999},1.753794266441823E-2,{"$f":"RTD(\"cqg.rtd\",,\"StudyData\", \"Close(\"&$D$12&\") when LocalYear(\"&$D$12&\")=\"&$D$3&\" and localMonth(\"&$D$12&\") =\"&$E$3&\" and LocalDay(\"&$D$12&\")=\"&$F$3&\" and Barix(\"&$D$12&\",reference:=StartOfSession)=\"&A60&\"\", \"Bar\", \"\", \"Close\",\"5\",\"0\",\"PrimaryOnly\",,,\"False\",\"T\",\"EveryTick\")","v":2.9620000000000002},-3.3749578130269652E-4,{"$f":"RTD(\"cqg.rtd\",,\"StudyData\", \"Close(\"&$D$12&\") when LocalYear(\"&$D$12&\")=\"&$D$4&\" and localMonth(\"&$D$12&\") =\"&$E$4&\" and LocalDay(\"&$D$12&\")=\"&$F$4&\" and Barix(\"&$D$12&\",reference:=StartOfSession)=\"&A60&\"\", \"Bar\", \"\", \"Close\",\"5\",\"0\",\"PrimaryOnly\",,,\"False\",\"T\",\"EveryTick\")","v":2.9550000000000001},5.4440285811500561E-3,{"$f":"RTD(\"cqg.rtd\",,\"StudyData\", \"Close(\"&$D$12&\") when LocalYear(\"&$D$12&\")=\"&$D$5&\" and localMonth(\"&$D$12&\") =\"&$E$5&\" and LocalDay(\"&$D$12&\")=\"&$F$5&\" and Barix(\"&$D$12&\",reference:=StartOfSession)=\"&A60&\"\", \"Bar\", \"\", \"Close\",\"5\",\"0\",\"PrimaryOnly\",,,\"False\",\"T\",\"EveryTick\")","v":2.9359999999999999},-4.4082739911834182E-3,{"$f":"RTD(\"cqg.rtd\",,\"StudyData\", \"Close(\"&$D$12&\") when LocalYear(\"&$D$12&\")=\"&$D$6&\" and localMonth(\"&$D$12&\") =\"&$E$6&\" and LocalDay(\"&$D$12&\")=\"&$F$6&\" and Barix(\"&$D$12&\",reference:=StartOfSession)=\"&A60&\"\", \"Bar\", \"\", \"Close\",\"5\",\"0\",\"PrimaryOnly\",,,\"False\",\"T\",\"EveryTick\")","v":2.9420000000000002},1.7993079584775102E-2,{"$f":"RTD(\"cqg.rtd\",,\"StudyData\", \"Close(\"&$D$12&\") when LocalYear(\"&$D$12&\")=\"&$D$7&\" and localMonth(\"&$D$12&\") =\"&$E$7&\" and LocalDay(\"&$D$12&\")=\"&$F$7&\" and Barix(\"&$D$12&\",reference:=StartOfSession)=\"&A60&\"\", \"Bar\", \"\", \"Close\",\"5\",\"0\",\"PrimaryOnly\",,,\"False\",\"T\",\"EveryTick\")","v":2.8940000000000001},-1.2286689419795232E-2,{"$f":"RTD(\"cqg.rtd\",,\"StudyData\", \"Close(\"&$D$12&\") when LocalYear(\"&$D$12&\")=\"&$D$8&\" and localMonth(\"&$D$12&\") =\"&$E$8&\" and LocalDay(\"&$D$12&\")=\"&$F$8&\" and Barix(\"&$D$12&\",reference:=StartOfSession)=\"&A60&\"\", \"Bar\", \"\", \"Close\",\"5\",\"0\",\"PrimaryOnly\",,,\"False\",\"T\",\"EveryTick\")","v":2.9350000000000001},1.3466850828729332E-2,{"$f":"RTD(\"cqg.rtd\",,\"StudyData\", \"Close(\"&$D$12&\") when LocalYear(\"&$D$12&\")=\"&$D$9&\" and localMonth(\"&$D$12&\") =\"&$E$9&\" and LocalDay(\"&$D$12&\")=\"&$F$9&\" and Barix(\"&$D$12&\",reference:=StartOfSession)=\"&A60&\"\", \"Bar\", \"\", \"Close\",\"5\",\"0\",\"PrimaryOnly\",,,\"False\",\"T\",\"EveryTick\")","v":2.8980000000000001},2.7681660899654004E-3,{"$f":"RTD(\"cqg.rtd\",,\"StudyData\", \"Close(\"&$D$12&\") when LocalYear(\"&$D$12&\")=\"&$D$10&\" and localMonth(\"&$D$12&\") =\"&$E$10&\" and LocalDay(\"&$D$12&\")=\"&$F$10&\" and Barix(\"&$D$12&\",reference:=StartOfSession)=\"&A60&\"\", \"Bar\", \"\", \"Close\",\"5\",\"0\",\"PrimaryOnly\",,,\"False\",\"T\",\"EveryTick\")","v":2.8849999999999998},-1.5358361774744153E-2,null,null,null,""]
[60,"13:00:00",-17,{"$f":" RTD(\"cqg.rtd\",,\"StudyData\", $D$12,  \"Tick\", \"FlatTicks=0\", \"Tick\",\"D\",C61,,,,,\"T\")","v":2.99},null,null,null,{"$f":"RTD(\"cqg.rtd\",,\"StudyData\", \"Close(\"&$D$12&\") when LocalYear(\"&$D$12&\")=\"&$D$1&\" and localMonth(\"&$D$12&\") =\"&$E$1&\" and LocalDay(\"&$D$12&\")=\"&$F$1&\" and Barix(\"&$D$12&\",reference:=StartOfSession)=\"&A61&\"\", \"Bar\", \"\", \"Close\",\"5\",\"0\",\"PrimaryOnly\",,,\"False\",\"T\",\"EveryTick\")","v":""},{"$error":"#N/A"},{"$f":"RTD(\"cqg.rtd\",,\"StudyData\", \"Close(\"&$D$12&\") when LocalYear(\"&$D$12&\")=\"&$D$2&\" and localMonth(\"&$D$12&\") =\"&$E$2&\" and LocalDay(\"&$D$12&\")=\"&$F$2&\" and Barix(\"&$D$12&\",reference:=StartOfSession)=\"&A61&\"\", \"Bar\", \"\", \"Close\",\"5\",\"0\",\"PrimaryOnly\",,,\"False\",\"T\",\"EveryTick\")","v":3.0190000000000001},1.821247892074208E-2,{"$f":"RTD(\"cqg.rtd\",,\"StudyData\", \"Close(\"&$D$12&\") when LocalYear(\"&$D$12&\")=\"&$D$3&\" and localMonth(\"&$D$12&\") =\"&$E$3&\" and LocalDay(\"&$D$12&\")=\"&$F$3&\" and Barix(\"&$D$12&\",reference:=StartOfSession)=\"&A61&\"\", \"Bar\", \"\", \"Close\",\"5\",\"0\",\"PrimaryOnly\",,,\"False\",\"T\",\"EveryTick\")","v":2.9630000000000001},0,{"$f":"RTD(\"cqg.rtd\",,\"StudyData\", \"Close(\"&$D$12&\") when LocalYear(\"&$D$12&\")=\"&$D$4&\" and localMonth(\"&$D$12&\") =\"&$E$4&\" and LocalDay(\"&$D$12&\")=\"&$F$4&\" and Barix(\"&$D$12&\",reference:=StartOfSession)=\"&A61&\"\", \"Bar\", \"\", \"Close\",\"5\",\"0\",\"PrimaryOnly\",,,\"False\",\"T\",\"EveryTick\")","v":2.9550000000000001},5.4440285811500561E-3,{"$f":"RTD(\"cqg.rtd\",,\"StudyData\", \"Close(\"&$D$12&\") when LocalYear(\"&$D$12&\")=\"&$D$5&\" and localMonth(\"&$D$12&\") =\"&$E$5&\" and LocalDay(\"&$D$12&\")=\"&$F$5&\" and Barix(\"&$D$12&\",reference:=StartOfSession)=\"&A61&\"\", \"Bar\", \"\", \"Close\",\"5\",\"0\",\"PrimaryOnly\",,,\"False\",\"T\",\"EveryTick\")","v":2.9359999999999999},-4.4082739911834182E-3,{"$f":"RTD(\"cqg.rtd\",,\"StudyData\", \"Close(\"&$D$12&\") when LocalYear(\"&$D$12&\")=\"&$D$6&\" and localMonth(\"&$D$12&\") =\"&$E$6&\" and LocalDay(\"&$D$12&\")=\"&$F$6&\" and Barix(\"&$D$12&\",reference:=StartOfSession)=\"&A61&\"\", \"Bar\", \"\", \"Close\",\"5\",\"0\",\"PrimaryOnly\",,,\"False\",\"T\",\"EveryTick\")","v":2.94},1.7301038062283676E-2,{"$f":"RTD(\"cqg.rtd\",,\"StudyData\", \"Close(\"&$D$12&\") when LocalYear(\"&$D$12&\")=\"&$D$7&\" and localMonth(\"&$D$12&\") =\"&$E$7&\" and LocalDay(\"&$D$12&\")=\"&$F$7&\" and Barix(\"&$D$12&\",reference:=StartOfSession)=\"&A61&\"\", \"Bar\", \"\", \"Close\",\"5\",\"0\",\"PrimaryOnly\",,,\"False\",\"T\",\"EveryTick\")","v":2.8940000000000001},-1.2286689419795232E-2,{"$f":"RTD(\"cqg.rtd\",,\"StudyData\", \"Close(\"&$D$12&\") when LocalYear(\"&$D$12&\")=\"&$D$8&\" and localMonth(\"&$D$12&\") =\"&$E$8&\" and LocalDay(\"&$D$12&\")=\"&$F$8&\" and Barix(\"&$D$12&\",reference:=StartOfSession)=\"&A61&\"\", \"Bar\", \"\", \"Close\",\"5\",\"0\",\"PrimaryOnly\",,,\"False\",\"T\",\"EveryTick\")","v":2.9329999999999998},1.2776243093922625E-2,{"$f":"RTD(\"cqg.rtd\",,\"StudyData\", \"Close(\"&$D$12&\") when LocalYear(\"&$D$12&\")=\"&$D$9&\" and localMonth(\"&$D$12&\") =\"&$E$9&\" and LocalDay(\"&$D$12&\")=\"&$F$9&\" and Barix(\"&$D$12&\",reference:=StartOfSession)=\"&A61&\"\", \"Bar\", \"\", \"Close\",\"5\",\"0\",\"PrimaryOnly\",,,\"False\",\"T\",\"EveryTick\")","v":2.8919999999999999},6.9204152249127324E-4,{"$f":"RTD(\"cqg.rtd\",,\"StudyData\", \"Close(\"&$D$12&\") when LocalYear(\"&$D$12&\")=\"&$D$10&\" and localMonth(\"&$D$12&\") =\"&$E$10&\" and LocalDay(\"&$D$12&\")=\"&$F$10&\" and Barix(\"&$D$12&\",reference:=StartOfSession)=\"&A61&\"\", \"Bar\", \"\", \"Close\",\"5\",\"0\",\"PrimaryOnly\",,,\"False\",\"T\",\"EveryTick\")","v":2.8839999999999999},-1.5699658703071762E-2,null,null,null,""]
[61,"13:05:00",-16,{"$f":" RTD(\"cqg.rtd\",,\"StudyData\", $D$12,  \"Tick\", \"FlatTicks=0\", \"Tick\",\"D\",C62,,,,,\"T\")","v":2.9889999999999999},null,null,null,{"$f":"RTD(\"cqg.rtd\",,\"StudyData\", \"Close(\"&$D$12&\") when LocalYear(\"&$D$12&\")=\"&$D$1&\" and localMonth(\"&$D$12&\") =\"&$E$1&\" and LocalDay(\"&$D$12&\")=\"&$F$1&\" and Barix(\"&$D$12&\",reference:=StartOfSession)=\"&A62&\"\", \"Bar\", \"\", \"Close\",\"5\",\"0\",\"PrimaryOnly\",,,\"False\",\"T\",\"EveryTick\")","v":""},{"$error":"#N/A"},{"$f":"RTD(\"cqg.rtd\",,\"StudyData\", \"Close(\"&$D$12&\") when LocalYear(\"&$D$12&\")=\"&$D$2&\" and localMonth(\"&$D$12&\") =\"&$E$2&\" and LocalDay(\"&$D$12&\")=\"&$F$2&\" and Barix(\"&$D$12&\",reference:=StartOfSession)=\"&A62&\"\", \"Bar\", \"\", \"Close\",\"5\",\"0\",\"PrimaryOnly\",,,\"False\",\"T\",\"EveryTick\")","v":3.02},1.8549747048903935E-2,{"$f":"RTD(\"cqg.rtd\",,\"StudyData\", \"Close(\"&$D$12&\") when LocalYear(\"&$D$12&\")=\"&$D$3&\" and localMonth(\"&$D$12&\") =\"&$E$3&\" and LocalDay(\"&$D$12&\")=\"&$F$3&\" and Barix(\"&$D$12&\",reference:=StartOfSession)=\"&A62&\"\", \"Bar\", \"\", \"Close\",\"5\",\"0\",\"PrimaryOnly\",,,\"False\",\"T\",\"EveryTick\")","v":2.96},-1.0124873439082394E-3,{"$f":"RTD(\"cqg.rtd\",,\"StudyData\", \"Close(\"&$D$12&\") when LocalYear(\"&$D$12&\")=\"&$D$4&\" and localMonth(\"&$D$12&\") =\"&$E$4&\" and LocalDay(\"&$D$12&\")=\"&$F$4&\" and Barix(\"&$D$12&\",reference:=StartOfSession)=\"&A62&\"\", \"Bar\", \"\", \"Close\",\"5\",\"0\",\"PrimaryOnly\",,,\"False\",\"T\",\"EveryTick\")","v":2.956},5.7842803674718968E-3,{"$f":"RTD(\"cqg.rtd\",,\"StudyData\", \"Close(\"&$D$12&\") when LocalYear(\"&$D$12&\")=\"&$D$5&\" and localMonth(\"&$D$12&\") =\"&$E$5&\" and LocalDay(\"&$D$12&\")=\"&$F$5&\" and Barix(\"&$D$12&\",reference:=StartOfSession)=\"&A62&\"\", \"Bar\", \"\", \"Close\",\"5\",\"0\",\"PrimaryOnly\",,,\"False\",\"T\",\"EveryTick\")","v":2.9350000000000001},-4.747371990505185E-3,{"$f":"RTD(\"cqg.rtd\",,\"StudyData\", \"Close(\"&$D$12&\") when LocalYear(\"&$D$12&\")=\"&$D$6&\" and localMonth(\"&$D$12&\") =\"&$E$6&\" and LocalDay(\"&$D$12&\")=\"&$F$6&\" and Barix(\"&$D$12&\",reference:=StartOfSession)=\"&A62&\"\", \"Bar\", \"\", \"Close\",\"5\",\"0\",\"PrimaryOnly\",,,\"False\",\"T\",\"EveryTick\")","v":2.9420000000000002},1.7993079584775102E-2,{"$f":"RTD(\"cqg.rtd\",,\"StudyData\", \"Close(\"&$D$12&\") when LocalYear(\"&$D$12&\")=\"&$D$7&\" and localMonth(\"&$D$12&\") =\"&$E$7&\" and LocalDay(\"&$D$12&\")=\"&$F$7&\" and Barix(\"&$D$12&\",reference:=StartOfSession)=\"&A62&\"\", \"Bar\", \"\", \"Close\",\"5\",\"0\",\"PrimaryOnly\",,,\"False\",\"T\",\"EveryTick\")","v":2.8889999999999998},-1.3993174061433572E-2,{"$f":"RTD(\"cqg.rtd\",,\"StudyData\", \"Close(\"&$D$12&\") when LocalYear(\"&$D$12&\")=\"&$D$8&\" and localMonth(\"&$D$12&\") =\"&$E$8&\" and LocalDay(\"&$D$12&\")=\"&$F$8&\" and Barix(\"&$D$12&\",reference:=StartOfSession)=\"&A62&\"\", \"Bar\", \"\", \"Close\",\"5\",\"0\",\"PrimaryOnly\",,,\"False\",\"T\",\"EveryTick\")","v":2.9359999999999999},1.381215469613261E-2,{"$f":"RTD(\"cqg.rtd\",,\"StudyData\", \"Close(\"&$D$12&\") when LocalYear(\"&$D$12&\")=\"&$D$9&\" and localMonth(\"&$D$12&\") =\"&$E$9&\" and LocalDay(\"&$D$12&\")=\"&$F$9&\" and Barix(\"&$D$12&\",reference:=StartOfSession)=\"&A62&\"\", \"Bar\", \"\", \"Close\",\"5\",\"0\",\"PrimaryOnly\",,,\"False\",\"T\",\"EveryTick\")","v":2.8929999999999998},1.0380622837369098E-3,{"$f":"RTD(\"cqg.rtd\",,\"StudyData\", \"Close(\"&$D$12&\") when LocalYear(\"&$D$12&\")=\"&$D$10&\" and localMonth(\"&$D$12&\") =\"&$E$10&\" and LocalDay(\"&$D$12&\")=\"&$F$10&\" and Barix(\"&$D$12&\",reference:=StartOfSession)=\"&A62&\"\", \"Bar\", \"\", \"Close\",\"5\",\"0\",\"PrimaryOnly\",,,\"False\",\"T\",\"EveryTick\")","v":2.8860000000000001},-1.5017064846416395E-2,null,null,null,""]
[62,"13:10:00",-15,{"$f":" RTD(\"cqg.rtd\",,\"StudyData\", $D$12,  \"Tick\", \"FlatTicks=0\", \"Tick\",\"D\",C63,,,,,\"T\")","v":2.99},null,null,null,{"$f":"RTD(\"cqg.rtd\",,\"StudyData\", \"Close(\"&$D$12&\") when LocalYear(\"&$D$12&\")=\"&$D$1&\" and localMonth(\"&$D$12&\") =\"&$E$1&\" and LocalDay(\"&$D$12&\")=\"&$F$1&\" and Barix(\"&$D$12&\",reference:=StartOfSession)=\"&A63&\"\", \"Bar\", \"\", \"Close\",\"5\",\"0\",\"PrimaryOnly\",,,\"False\",\"T\",\"EveryTick\")","v":""},{"$error":"#N/A"},{"$f":"RTD(\"cqg.rtd\",,\"StudyData\", \"Close(\"&$D$12&\") when LocalYear(\"&$D$12&\")=\"&$D$2&\" and localMonth(\"&$D$12&\") =\"&$E$2&\" and LocalDay(\"&$D$12&\")=\"&$F$2&\" and Barix(\"&$D$12&\",reference:=StartOfSession)=\"&A63&\"\", \"Bar\", \"\", \"Close\",\"5\",\"0\",\"PrimaryOnly\",,,\"False\",\"T\",\"EveryTick\")","v":3.02},1.8549747048903935E-2,{"$f":"RTD(\"cqg.rtd\",,\"StudyData\", \"Close(\"&$D$12&\") when LocalYear(\"&$D$12&\")=\"&$D$3&\" and localMonth(\"&$D$12&\") =\"&$E$3&\" and LocalDay(\"&$D$12&\")=\"&$F$3&\" and Barix(\"&$D$12&\",reference:=StartOfSession)=\"&A63&\"\", \"Bar\", \"\", \"Close\",\"5\",\"0\",\"PrimaryOnly\",,,\"False\",\"T\",\"EveryTick\")","v":2.9580000000000002},-1.6874789065136325E-3,{"$f":"RTD(\"cqg.rtd\",,\"StudyData\", \"Close(\"&$D$12&\") when LocalYear(\"&$D$12&\")=\"&$D$4&\" and localMonth(\"&$D$12&\") =\"&$E$4&\" and LocalDay(\"&$D$12&\")=\"&$F$4&\" and Barix(\"&$D$12&\",reference:=StartOfSession)=\"&A63&\"\", \"Bar\", \"\", \"Close\",\"5\",\"0\",\"PrimaryOnly\",,,\"False\",\"T\",\"EveryTick\")","v":2.9620000000000002},7.8257910854032421E-3,{"$f":"RTD(\"cqg.rtd\",,\"StudyData\", \"Close(\"&$D$12&\") when LocalYear(\"&$D$12&\")=\"&$D$5&\" and localMonth(\"&$D$12&\") =\"&$E$5&\" and LocalDay(\"&$D$12&\")=\"&$F$5&\" and Barix(\"&$D$12&\",reference:=StartOfSession)=\"&A63&\"\", \"Bar\", \"\", \"Close\",\"5\",\"0\",\"PrimaryOnly\",,,\"False\",\"T\",\"EveryTick\")","v":2.9390000000000001},-3.3909799932179681E-3,{"$f":"RTD(\"cqg.rtd\",,\"StudyData\", \"Close(\"&$D$12&\") when LocalYear(\"&$D$12&\")=\"&$D$6&\" and localMonth(\"&$D$12&\") =\"&$E$6&\" and LocalDay(\"&$D$12&\")=\"&$F$6&\" and Barix(\"&$D$12&\",reference:=StartOfSession)=\"&A63&\"\", \"Bar\", \"\", \"Close\",\"5\",\"0\",\"PrimaryOnly\",,,\"False\",\"T\",\"EveryTick\")","v":2.9409999999999998},1.7647058823529311E-2,{"$f":"RTD(\"cqg.rtd\",,\"StudyData\", \"Close(\"&$D$12&\") when LocalYear(\"&$D$12&\")=\"&$D$7&\" and localMonth(\"&$D$12&\") =\"&$E$7&\" and LocalDay(\"&$D$12&\")=\"&$F$7&\" and Barix(\"&$D$12&\",reference:=StartOfSession)=\"&A63&\"\", \"Bar\", \"\", \"Close\",\"5\",\"0\",\"PrimaryOnly\",,,\"False\",\"T\",\"EveryTick\")","v":2.891},-1.3310580204778205E-2,{"$f":"RTD(\"cqg.rtd\",,\"StudyData\", \"Close(\"&$D$12&\") when LocalYear(\"&$D$12&\")=\"&$D$8&\" and localMonth(\"&$D$12&\") =\"&$E$8&\" and LocalDay(\"&$D$12&\")=\"&$F$8&\" and Barix(\"&$D$12&\",reference:=StartOfSession)=\"&A63&\"\", \"Bar\", \"\", \"Close\",\"5\",\"0\",\"PrimaryOnly\",,,\"False\",\"T\",\"EveryTick\")","v":2.9359999999999999},1.381215469613261E-2,{"$f":"RTD(\"cqg.rtd\",,\"StudyData\", \"Close(\"&$D$12&\") when LocalYear(\"&$D$12&\")=\"&$D$9&\" and localMonth(\"&$D$12&\") =\"&$E$9&\" and LocalDay(\"&$D$12&\")=\"&$F$9&\" and Barix(\"&$D$12&\",reference:=StartOfSession)=\"&A63&\"\", \"Bar\", \"\", \"Close\",\"5\",\"0\",\"PrimaryOnly\",,,\"False\",\"T\",\"EveryTick\")","v":2.8919999999999999},6.9204152249127324E-4,{"$f":"RTD(\"cqg.rtd\",,\"StudyData\", \"Close(\"&$D$12&\") when LocalYear(\"&$D$12&\")=\"&$D$10&\" and localMonth(\"&$D$12&\") =\"&$E$10&\" and LocalDay(\"&$D$12&\")=\"&$F$10&\" and Barix(\"&$D$12&\",reference:=StartOfSession)=\"&A63&\"\", \"Bar\", \"\", \"Close\",\"5\",\"0\",\"PrimaryOnly\",,,\"False\",\"T\",\"EveryTick\")","v":2.8839999999999999},-1.5699658703071762E-2,null,null,null,""]
[63,"13:15:00",-14,{"$f":" RTD(\"cqg.rtd\",,\"StudyData\", $D$12,  \"Tick\", \"FlatTicks=0\", \"Tick\",\"D\",C64,,,,,\"T\")","v":2.9910000000000001},null,null,null,{"$f":"RTD(\"cqg.rtd\",,\"StudyData\", \"Close(\"&$D$12&\") when LocalYear(\"&$D$12&\")=\"&$D$1&\" and localMonth(\"&$D$12&\") =\"&$E$1&\" and LocalDay(\"&$D$12&\")=\"&$F$1&\" and Barix(\"&$D$12&\",reference:=StartOfSession)=\"&A64&\"\", \"Bar\", \"\", \"Close\",\"5\",\"0\",\"PrimaryOnly\",,,\"False\",\"T\",\"EveryTick\")","v":""},{"$error":"#N/A"},{"$f":"RTD(\"cqg.rtd\",,\"StudyData\", \"Close(\"&$D$12&\") when LocalYear(\"&$D$12&\")=\"&$D$2&\" and localMonth(\"&$D$12&\") =\"&$E$2&\" and LocalDay(\"&$D$12&\")=\"&$F$2&\" and Barix(\"&$D$12&\",reference:=StartOfSession)=\"&A64&\"\", \"Bar\", \"\", \"Close\",\"5\",\"0\",\"PrimaryOnly\",,,\"False\",\"T\",\"EveryTick\")","v":3.0230000000000001},1.9561551433389637E-2,{"$f":"RTD(\"cqg.rtd\",,\"StudyData\", \"Close(\"&$D$12&\") when LocalYear(\"&$D$12&\")=\"&$D$3&\" and localMonth(\"&$D$12&\") =\"&$E$3&\" and LocalDay(\"&$D$12&\")=\"&$F$3&\" and Barix(\"&$D$12&\",reference:=StartOfSession)=\"&A64&\"\", \"Bar\", \"\", \"Close\",\"5\",\"0\",\"PrimaryOnly\",,,\"False\",\"T\",\"EveryTick\")","v":2.9580000000000002},-1.6874789065136325E-3,{"$f":"RTD(\"cqg.rtd\",,\"StudyData\", \"Close(\"&$D$12&\") when LocalYear(\"&$D$12&\")=\"&$D$4&\" and localMonth(\"&$D$12&\") =\"&$E$4&\" and LocalDay(\"&$D$12&\")=\"&$F$4&\" and Barix(\"&$D$12&\",reference:=StartOfSession)=\"&A64&\"\", \"Bar\", \"\", \"Close\",\"5\",\"0\",\"PrimaryOnly\",,,\"False\",\"T\",\"EveryTick\")","v":2.964},8.5062946580469236E-3,{"$f":"RTD(\"cqg.rtd\",,\"StudyData\", \"Close(\"&$D$12&\") when LocalYear(\"&$D$12&\")=\"&$D$5&\" and localMonth(\"&$D$12&\") =\"&$E$5&\" and LocalDay(\"&$D$12&\")=\"&$F$5&\" and Barix(\"&$D$12&\",reference:=StartOfSession)=\"&A64&\"\", \"Bar\", \"\", \"Close\",\"5\",\"0\",\"PrimaryOnly\",,,\"False\",\"T\",\"EveryTick\")","v":2.94},-3.0518819938962012E-3,{"$f":"RTD(\"cqg.rtd\",,\"StudyData\", \"Close(\"&$D$12&\") when LocalYear(\"&$D$12&\")=\"&$D$6&\" and localMonth(\"&$D$12&\") =\"&$E$6&\" and LocalDay(\"&$D$12&\")=\"&$F$6&\" and Barix(\"&$D$12&\",reference:=StartOfSession)=\"&A64&\"\", \"Bar\", \"\", \"Close\",\"5\",\"0\",\"PrimaryOnly\",,,\"False\",\"T\",\"EveryTick\")","v":2.9460000000000002},1.9377162629757801E-2,{"$f":"RTD(\"cqg.rtd\",,\"StudyData\", \"Close(\"&$D$12&\") when LocalYear(\"&$D$12&\")=\"&$D$7&\" and localMonth(\"&$D$12&\") =\"&$E$7&\" and LocalDay(\"&$D$12&\")=\"&$F$7&\" and Barix(\"&$D$12&\",reference:=StartOfSession)=\"&A64&\"\", \"Bar\", \"\", \"Close\",\"5\",\"0\",\"PrimaryOnly\",,,\"False\",\"T\",\"EveryTick\")","v":2.8879999999999999},-1.4334470989761179E-2,{"$f":"RTD(\"cqg.rtd\",,\"StudyData\", \"Close(\"&$D$12&\") when LocalYear(\"&$D$12&\")=\"&$D$8&\" and localMonth(\"&$D$12&\") =\"&$E$8&\" and LocalDay(\"&$D$12&\")=\"&$F$8&\" and Barix(\"&$D$12&\",reference:=StartOfSession)=\"&A64&\"\", \"Bar\", \"\", \"Close\",\"5\",\"0\",\"PrimaryOnly\",,,\"False\",\"T\",\"EveryTick\")","v":2.9350000000000001},1.3466850828729332E-2,{"$f":"RTD(\"cqg.rtd\",,\"StudyData\", \"Close(\"&$D$12&\") when LocalYear(\"&$D$12&\")=\"&$D$9&\" and localMonth(\"&$D$12&\") =\"&$E$9&\" and LocalDay(\"&$D$12&\")=\"&$F$9&\" and Barix(\"&$D$12&\",reference:=StartOfSession)=\"&A64&\"\", \"Bar\", \"\", \"Close\",\"5\",\"0\",\"PrimaryOnly\",,,\"False\",\"T\",\"EveryTick\")","v":2.8959999999999999},2.0761245674739736E-3,{"$f":"RTD(\"cqg.rtd\",,\"StudyData\", \"Close(\"&$D$12&\") when LocalYear(\"&$D$12&\")=\"&$D$10&\" and localMonth(\"&$D$12&\") =\"&$E$10&\" and LocalDay(\"&$D$12&\")=\"&$F$10&\" and Barix(\"&$D$12&\",reference:=StartOfSession)=\"&A64&\"\", \"Bar\", \"\", \"Close\",\"5\",\"0\",\"PrimaryOnly\",,,\"False\",\"T\",\"EveryTick\")","v":2.883},-1.6040955631399369E-2,null,null,null,""]
[64,"13:20:00",-13,{"$f":" RTD(\"cqg.rtd\",,\"StudyData\", $D$12,  \"Tick\", \"FlatTicks=0\", \"Tick\",\"D\",C65,,,,,\"T\")","v":2.99},null,null,null,{"$f":"RTD(\"cqg.rtd\",,\"StudyData\", \"Close(\"&$D$12&\") when LocalYear(\"&$D$12&\")=\"&$D$1&\" and localMonth(\"&$D$12&\") =\"&$E$1&\" and LocalDay(\"&$D$12&\")=\"&$F$1&\" and Barix(\"&$D$12&\",reference:=StartOfSession)=\"&A65&\"\", \"Bar\", \"\", \"Close\",\"5\",\"0\",\"PrimaryOnly\",,,\"False\",\"T\",\"EveryTick\")","v":""},{"$error":"#N/A"},{"$f":"RTD(\"cqg.rtd\",,\"StudyData\", \"Close(\"&$D$12&\") when LocalYear(\"&$D$12&\")=\"&$D$2&\" and localMonth(\"&$D$12&\") =\"&$E$2&\" and LocalDay(\"&$D$12&\")=\"&$F$2&\" and Barix(\"&$D$12&\",reference:=StartOfSession)=\"&A65&\"\", \"Bar\", \"\", \"Close\",\"5\",\"0\",\"PrimaryOnly\",,,\"False\",\"T\",\"EveryTick\")","v":3.0209999999999999},1.8887015177065786E-2,{"$f":"RTD(\"cqg.rtd\",,\"StudyData\", \"Close(\"&$D$12&\") when LocalYear(\"&$D$12&\")=\"&$D$3&\" and localMonth(\"&$D$12&\") =\"&$E$3&\" and LocalDay(\"&$D$12&\")=\"&$F$3&\" and Barix(\"&$D$12&\",reference:=StartOfSession)=\"&A65&\"\", \"Bar\", \"\", \"Close\",\"5\",\"0\",\"PrimaryOnly\",,,\"False\",\"T\",\"EveryTick\")","v":2.956},-2.3624704691191756E-3,{"$f":"RTD(\"cqg.rtd\",,\"StudyData\", \"Close(\"&$D$12&\") when LocalYear(\"&$D$12&\")=\"&$D$4&\" and localMonth(\"&$D$12&\") =\"&$E$4&\" and LocalDay(\"&$D$12&\")=\"&$F$4&\" and Barix(\"&$D$12&\",reference:=StartOfSession)=\"&A65&\"\", \"Bar\", \"\", \"Close\",\"5\",\"0\",\"PrimaryOnly\",,,\"False\",\"T\",\"EveryTick\")","v":2.9649999999999999},8.8465464443687643E-3,{"$f":"RTD(\"cqg.rtd\",,\"StudyData\", \"Close(\"&$D$12&\") when LocalYear(\"&$D$12&\")=\"&$D$5&\" and localMonth(\"&$D$12&\") =\"&$E$5&\" and LocalDay(\"&$D$12&\")=\"&$F$5&\" and Barix(\"&$D$12&\",reference:=StartOfSession)=\"&A65&\"\", \"Bar\", \"\", \"Close\",\"5\",\"0\",\"PrimaryOnly\",,,\"False\",\"T\",\"EveryTick\")","v":2.9390000000000001},-3.3909799932179681E-3,{"$f":"RTD(\"cqg.rtd\",,\"StudyData\", \"Close(\"&$D$12&\") when LocalYear(\"&$D$12&\")=\"&$D$6&\" and localMonth(\"&$D$12&\") =\"&$E$6&\" and LocalDay(\"&$D$12&\")=\"&$F$6&\" and Barix(\"&$D$12&\",reference:=StartOfSession)=\"&A65&\"\", \"Bar\", \"\", \"Close\",\"5\",\"0\",\"PrimaryOnly\",,,\"False\",\"T\",\"EveryTick\")","v":2.9470000000000001},1.972318339100344E-2,{"$f":"RTD(\"cqg.rtd\",,\"StudyData\", \"Close(\"&$D$12&\") when LocalYear(\"&$D$12&\")=\"&$D$7&\" and localMonth(\"&$D$12&\") =\"&$E$7&\" and LocalDay(\"&$D$12&\")=\"&$F$7&\" and Barix(\"&$D$12&\",reference:=StartOfSession)=\"&A65&\"\", \"Bar\", \"\", \"Close\",\"5\",\"0\",\"PrimaryOnly\",,,\"False\",\"T\",\"EveryTick\")","v":2.887},-1.4675767918088787E-2,{"$f":"RTD(\"cqg.rtd\",,\"StudyData\", \"Close(\"&$D$12&\") when LocalYear(\"&$D$12&\")=\"&$D$8&\" and localMonth(\"&$D$12&\") =\"&$E$8&\" and LocalDay(\"&$D$12&\")=\"&$F$8&\" and Barix(\"&$D$12&\",reference:=StartOfSession)=\"&A65&\"\", \"Bar\", \"\", \"Close\",\"5\",\"0\",\"PrimaryOnly\",,,\"False\",\"T\",\"EveryTick\")","v":2.9329999999999998},1.2776243093922625E-2,{"$f":"RTD(\"cqg.rtd\",,\"StudyData\", \"Close(\"&$D$12&\") when LocalYear(\"&$D$12&\")=\"&$D$9&\" and localMonth(\"&$D$12&\") =\"&$E$9&\" and LocalDay(\"&$D$12&\")=\"&$F$9&\" and Barix(\"&$D$12&\",reference:=StartOfSession)=\"&A65&\"\", \"Bar\", \"\", \"Close\",\"5\",\"0\",\"PrimaryOnly\",,,\"False\",\"T\",\"EveryTick\")","v":2.895},1.7301038062283367E-3,{"$f":"RTD(\"cqg.rtd\",,\"StudyData\", \"Close(\"&$D$12&\") when LocalYear(\"&$D$12&\")=\"&$D$10&\" and localMonth(\"&$D$12&\") =\"&$E$10&\" and LocalDay(\"&$D$12&\")=\"&$F$10&\" and Barix(\"&$D$12&\",reference:=StartOfSession)=\"&A65&\"\", \"Bar\", \"\", \"Close\",\"5\",\"0\",\"PrimaryOnly\",,,\"False\",\"T\",\"EveryTick\")","v":2.8849999999999998},-1.5358361774744153E-2,null,null,null,""]
[65,"13:25:00",-12,{"$f":" RTD(\"cqg.rtd\",,\"StudyData\", $D$12,  \"Tick\", \"FlatTicks=0\", \"Tick\",\"D\",C66,,,,,\"T\")","v":2.9910000000000001},null,null,null,{"$f":"RTD(\"cqg.rtd\",,\"StudyData\", \"Close(\"&$D$12&\") when LocalYear(\"&$D$12&\")=\"&$D$1&\" and localMonth(\"&$D$12&\") =\"&$E$1&\" and LocalDay(\"&$D$12&\")=\"&$F$1&\" and Barix(\"&$D$12&\",reference:=StartOfSession)=\"&A66&\"\", \"Bar\", \"\", \"Close\",\"5\",\"0\",\"PrimaryOnly\",,,\"False\",\"T\",\"EveryTick\")","v":""},{"$error":"#N/A"},{"$f":"RTD(\"cqg.rtd\",,\"StudyData\", \"Close(\"&$D$12&\") when LocalYear(\"&$D$12&\")=\"&$D$2&\" and localMonth(\"&$D$12&\") =\"&$E$2&\" and LocalDay(\"&$D$12&\")=\"&$F$2&\" and Barix(\"&$D$12&\",reference:=StartOfSession)=\"&A66&\"\", \"Bar\", \"\", \"Close\",\"5\",\"0\",\"PrimaryOnly\",,,\"False\",\"T\",\"EveryTick\")","v":3.0219999999999998},{"$f":"IFERROR((J66-$G$3)/$G$3,NA())","v":1.9224283305227637E-2},{"$f":"RTD(\"cqg.rtd\",,\"StudyData\", \"Close(\"&$D$12&\") when LocalYear(\"&$D$12&\")=\"&$D$3&\" and localMonth(\"&$D$12&\") =\"&$E$3&\" and LocalDay(\"&$D$12&\")=\"&$F$3&\" and Barix(\"&$D$12&\",reference:=StartOfSession)=\"&A66&\"\", \"Bar\", \"\", \"Close\",\"5\",\"0\",\"PrimaryOnly\",,,\"False\",\"T\",\"EveryTick\")","v":2.9649999999999999},{"$f":"IFERROR((L66-$G$4)/$G$4,NA())","v":6.7499156260539305E-4},{"$f":"RTD(\"cqg.rtd\",,\"StudyData\", \"Close(\"&$D$12&\") when LocalYear(\"&$D$12&\")=\"&$D$4&\" and localMonth(\"&$D$12&\") =\"&$E$4&\" and LocalDay(\"&$D$12&\")=\"&$F$4&\" and Barix(\"&$D$12&\",reference:=StartOfSession)=\"&A66&\"\", \"Bar\", \"\", \"Close\",\"5\",\"0\",\"PrimaryOnly\",,,\"False\",\"T\",\"EveryTick\")","v":2.9630000000000001},{"$f":"IFERROR((N66-$G$5)/$G$5,NA())","v":8.1660428717250828E-3},{"$f":"RTD(\"cqg.rtd\",,\"StudyData\", \"Close(\"&$D$12&\") when LocalYear(\"&$D$12&\")=\"&$D$5&\" and localMonth(\"&$D$12&\") =\"&$E$5&\" and LocalDay(\"&$D$12&\")=\"&$F$5&\" and Barix(\"&$D$12&\",reference:=StartOfSession)=\"&A66&\"\", \"Bar\", \"\", \"Close\",\"5\",\"0\",\"PrimaryOnly\",,,\"False\",\"T\",\"EveryTick\")","v":2.9390000000000001},{"$f":"IFERROR((P66-$G$6)/$G$6,NA())","v":-3.3909799932179681E-3},{"$f":"RTD(\"cqg.rtd\",,\"StudyData\", \"Close(\"&$D$12&\") when LocalYear(\"&$D$12&\")=\"&$D$6&\" and localMonth(\"&$D$12&\") =\"&$E$6&\" and LocalDay(\"&$D$12&\")=\"&$F$6&\" and Barix(\"&$D$12&\",reference:=StartOfSession)=\"&A66&\"\", \"Bar\", \"\", \"Close\",\"5\",\"0\",\"PrimaryOnly\",,,\"False\",\"T\",\"EveryTick\")","v":2.9489999999999998},{"$f":"IFERROR((R66-$G$7)/$G$7,NA())","v":2.0415224913494713E-2},{"$f":"RTD(\"cqg.rtd\",,\"StudyData\", \"Close(\"&$D$12&\") when LocalYear(\"&$D$12&\")=\"&$D$7&\" and localMonth(\"&$D$12&\") =\"&$E$7&\" and LocalDay(\"&$D$12&\")=\"&$F$7&\" and Barix(\"&$D$12&\",reference:=StartOfSession)=\"&A66&\"\", \"Bar\", \"\", \"Close\",\"5\",\"0\",\"PrimaryOnly\",,,\"False\",\"T\",\"EveryTick\")","v":2.89},{"$f":"IFERROR((T66-$G$8)/$G$8,NA())","v":-1.3651877133105813E-2},{"$f":"RTD(\"cqg.rtd\",,\"StudyData\", \"Close(\"&$D$12&\") when LocalYear(\"&$D$12&\")=\"&$D$8&\" and localMonth(\"&$D$12&\") =\"&$E$8&\" and LocalDay(\"&$D$12&\")=\"&$F$8&\" and Barix(\"&$D$12&\",reference:=StartOfSession)=\"&A66&\"\", \"Bar\", \"\", \"Close\",\"5\",\"0\",\"PrimaryOnly\",,,\"False\",\"T\",\"EveryTick\")","v":2.93},{"$f":"IFERROR((V66-$G$9)/$G$9,NA())","v":1.1740331491712795E-2},{"$f":"RTD(\"cqg.rtd\",,\"StudyData\", \"Close(\"&$D$12&\") when LocalYear(\"&$D$12&\")=\"&$D$9&\" and localMonth(\"&$D$12&\") =\"&$E$9&\" and LocalDay(\"&$D$12&\")=\"&$F$9&\" and Barix(\"&$D$12&\",reference:=StartOfSession)=\"&A66&\"\", \"Bar\", \"\", \"Close\",\"5\",\"0\",\"PrimaryOnly\",,,\"False\",\"T\",\"EveryTick\")","v":2.8959999999999999},{"$f":"IFERROR((X66-$G$10)/$G$10,NA())","v":2.0761245674739736E-3},{"$f":"RTD(\"cqg.rtd\",,\"StudyData\", \"Close(\"&$D$12&\") when LocalYear(\"&$D$12&\")=\"&$D$10&\" and localMonth(\"&$D$12&\") =\"&$E$10&\" and LocalDay(\"&$D$12&\")=\"&$F$10&\" and Barix(\"&$D$12&\",reference:=StartOfSession)=\"&A66&\"\", \"Bar\", \"\", \"Close\",\"5\",\"0\",\"PrimaryOnly\",,,\"False\",\"T\",\"EveryTick\")","v":2.89},{"$f":"IFERROR((Z66-$G$11)/$G$11,NA())","v":-1.3651877133105813E-2},null,null,null,""]
[null,null,-11,{"$f":" RTD(\"cqg.rtd\",,\"StudyData\", $D$12,  \"Tick\", \"FlatTicks=0\", \"Tick\",\"D\",C67,,,,,\"T\")","v":2.99}]
[null,null,-10,{"$f":" RTD(\"cqg.rtd\",,\"StudyData\", $D$12,  \"Tick\", \"FlatTicks=0\", \"Tick\",\"D\",C68,,,,,\"T\")","v":2.9889999999999999}]
[null,null,-9,{"$f":" RTD(\"cqg.rtd\",,\"StudyData\", $D$12,  \"Tick\", \"FlatTicks=0\", \"Tick\",\"D\",C69,,,,,\"T\")","v":2.988}]
[null,null,-8,{"$f":" RTD(\"cqg.rtd\",,\"StudyData\", $D$12,  \"Tick\", \"FlatTicks=0\", \"Tick\",\"D\",C70,,,,,\"T\")","v":2.9870000000000001}]
[null,null,-7,{"$f":" RTD(\"cqg.rtd\",,\"StudyData\", $D$12,  \"Tick\", \"FlatTicks=0\", \"Tick\",\"D\",C71,,,,,\"T\")","v":2.988}]
[null,null,-6,{"$f":" RTD(\"cqg.rtd\",,\"StudyData\", $D$12,  \"Tick\", \"FlatTicks=0\", \"Tick\",\"D\",C72,,,,,\"T\")","v":2.9889999999999999}]
[null,null,-5,{"$f":" RTD(\"cqg.rtd\",,\"StudyData\", $D$12,  \"Tick\", \"FlatTicks=0\", \"Tick\",\"D\",C73,,,,,\"T\")","v":2.988}]
[null,null,-4,{"$f":" RTD(\"cqg.rtd\",,\"StudyData\", $D$12,  \"Tick\", \"FlatTicks=0\", \"Tick\",\"D\",C74,,,,,\"T\")","v":2.9870000000000001}]
[null,null,-3,{"$f":" RTD(\"cqg.rtd\",,\"StudyData\", $D$12,  \"Tick\", \"FlatTicks=0\", \"Tick\",\"D\",C75,,,,,\"T\")","v":2.9860000000000002}]
[null,null,-2,{"$f":" RTD(\"cqg.rtd\",,\"StudyData\", $D$12,  \"Tick\", \"FlatTicks=0\", \"Tick\",\"D\",C76,,,,,\"T\")","v":2.9870000000000001}]
[null,null,-1,{"$f":" RTD(\"cqg.rtd\",,\"StudyData\", $D$12,  \"Tick\", \"FlatTicks=0\", \"Tick\",\"D\",C77,,,,,\"T\")","v":2.988}]
[null,null,0,{"$f":" RTD(\"cqg.rtd\",,\"StudyData\", $D$12,  \"Tick\", \"FlatTicks=0\", \"Tick\",\"D\",C78,,,,,\"T\")","v":2.9870000000000001}]

{"sheet":"Sheet4 (2)","index":4,"n_rows":93,"n_cols":20,"rows_kept":93,"cut":false,"hidden":true,"merged":[]}
[null,{"$f":"'Sheet3 (2)'!I1","v":-1.0589013898080604E-2},{"$f":"'Sheet3 (2)'!K1","v":1.2141652613828005E-2},null,{"$f":"'Sheet3 (2)'!M1","v":-1.6874789065136325E-3},null,{"$f":"'Sheet3 (2)'!O1","v":6.4647839401157292E-3},null,{"$f":"'Sheet3 (2)'!Q1","v":5.4255679891488688E-3},null,{"$f":"'Sheet3 (2)'!S1","v":2.1107266435986139E-2},null,{"$f":"'Sheet3 (2)'!U1","v":-1.6382252559726976E-2},null,{"$f":"'Sheet3 (2)'!W1","v":2.900552486187848E-2},null,{"$f":"'Sheet3 (2)'!Y1","v":-1.0380622837370635E-3},null,{"$f":"'Sheet3 (2)'!AA1","v":-8.8737201365188551E-3}]
[null,{"$f":"'Sheet3 (2)'!I2","v":-1.3567174056915926E-2},{"$f":"'Sheet3 (2)'!K2","v":1.1804384485666152E-2},{"$f":"CORREL($B$1:B2,$C$1:C2)","v":1.0000000000000002},{"$f":"'Sheet3 (2)'!M2","v":6.7499156260539305E-4},{"$f":"CORREL($B$1:B2,$E$1:E2)","v":-1},{"$f":"'Sheet3 (2)'!O2","v":4.0830214358625414E-3},{"$f":"CORREL($B$1:B2,$G$1:G2)","v":1},{"$f":"'Sheet3 (2)'!Q2","v":2.0345879959309011E-3},{"$f":"CORREL($B$1:B2,$I$1:I2)","v":1.0000000000000002},{"$f":"'Sheet3 (2)'!S2","v":2.2491349480968838E-2},{"$f":"CORREL($B$1:B2,$K$1:K2)","v":-1},{"$f":"'Sheet3 (2)'!U2","v":-1.8088737201365317E-2},{"$f":"CORREL($B$1:B2,$M$1:M2)","v":0.99999999999999978},{"$f":"'Sheet3 (2)'!W2","v":2.900552486187848E-2},{"$f":"CORREL($B$1:B2,$O$1:O2)","v":{"$error":"#DIV/0!"}},{"$f":"'Sheet3 (2)'!Y2","v":-1.3840830449827002E-3},{"$f":"CORREL($B$1:B2,$Q$1:Q2)","v":1},{"$f":"'Sheet3 (2)'!AA2","v":-9.5563139931740693E-3},{"$f":"CORREL($B$1:B2,$S$1:S2)","v":1}]
[null,{"$f":"'Sheet3 (2)'!I3","v":-1.3898080741230912E-2},{"$f":"'Sheet3 (2)'!K3","v":1.0455311973018596E-2},{"$f":"CORREL($B$1:B3,$C$1:C3)","v":0.72057669212287068},{"$f":"'Sheet3 (2)'!M3","v":1.3499831252109359E-3},{"$f":"CORREL($B$1:B3,$E$1:E3)","v":-0.99252991422828585},{"$f":"'Sheet3 (2)'!O3","v":5.1037767948282154E-3},{"$f":"CORREL($B$1:B3,$G$1:G3)","v":0.86168482782322697},{"$f":"'Sheet3 (2)'!Q3","v":0},{"$f":"CORREL($B$1:B3,$I$1:I3)","v":0.95843185071717429},{"$f":"'Sheet3 (2)'!S3","v":2.4567474048442811E-2},{"$f":"CORREL($B$1:B3,$K$1:K3)","v":-0.85375027468288844},{"$f":"'Sheet3 (2)'!U3","v":-1.6723549488054736E-2},{"$f":"CORREL($B$1:B3,$M$1:M3)","v":0.58332398886144454},{"$f":"'Sheet3 (2)'!W3","v":2.7969613259668496E-2},{"$f":"CORREL($B$1:B3,$O$1:O3)","v":0.57655666019704443},{"$f":"'Sheet3 (2)'!Y3","v":-6.9204152249142687E-4},{"$f":"CORREL($B$1:B3,$Q$1:Q3)","v":-9.0784129900307389E-2},{"$f":"'Sheet3 (2)'!AA3","v":-1.7064846416382343E-2},{"$f":"CORREL($B$1:B3,$S$1:S3)","v":0.63628476297576109}]
[null,{"$f":"'Sheet3 (2)'!I4","v":-1.1912640635340699E-2},{"$f":"'Sheet3 (2)'!K4","v":1.1467116357504302E-2},{"$f":"CORREL($B$1:B4,$C$1:C4)","v":0.69748583246290152},{"$f":"'Sheet3 (2)'!M4","v":3.3749578130269652E-4},{"$f":"CORREL($B$1:B4,$E$1:E4)","v":-0.93554619086748625},{"$f":"'Sheet3 (2)'!O4","v":4.4232732221843821E-3},{"$f":"CORREL($B$1:B4,$G$1:G4)","v":0.67793344455477678},{"$f":"'Sheet3 (2)'!Q4","v":-2.7127839945744344E-3},{"$f":"CORREL($B$1:B4,$I$1:I4)","v":0.41492231466790425},{"$f":"'Sheet3 (2)'!S4","v":2.4567474048442811E-2},{"$f":"CORREL($B$1:B4,$K$1:K4)","v":-0.55654138187407076},{"$f":"'Sheet3 (2)'!U4","v":-1.6040955631399369E-2},{"$f":"CORREL($B$1:B4,$M$1:M4)","v":0.60701731365134026},{"$f":"'Sheet3 (2)'!W4","v":2.5207182320441973E-2},{"$f":"CORREL($B$1:B4,$O$1:O4)","v":-8.9753410644627843E-2},{"$f":"'Sheet3 (2)'!Y4","v":3.1141868512110367E-3},{"$f":"CORREL($B$1:B4,$Q$1:Q4)","v":0.23698113038818813},{"$f":"'Sheet3 (2)'!AA4","v":-1.5017064846416395E-2},{"$f":"CORREL($B$1:B4,$S$1:S4)","v":0.46692399597579187}]
[null,{"$f":"'Sheet3 (2)'!I5","v":-1.2905360688285806E-2},{"$f":"'Sheet3 (2)'!K5","v":1.0455311973018596E-2},{"$f":"CORREL($B$1:B5,$C$1:C5)","v":0.64161032402089735},{"$f":"'Sheet3 (2)'!M5","v":-1.6874789065136325E-3},{"$f":"CORREL($B$1:B5,$E$1:E5)","v":-0.66586701034050599},{"$f":"'Sheet3 (2)'!O5","v":6.4647839401157292E-3},{"$f":"CORREL($B$1:B5,$G$1:G5)","v":0.46819434893279799},{"$f":"'Sheet3 (2)'!Q5","v":-1.0172939979653001E-3},{"$f":"CORREL($B$1:B5,$I$1:I5)","v":0.43340268331108545},{"$f":"'Sheet3 (2)'!S5","v":2.3183391003460112E-2},{"$f":"CORREL($B$1:B5,$K$1:K5)","v":-0.55124591052636696},{"$f":"'Sheet3 (2)'!U5","v":-1.4675767918088787E-2},{"$f":"CORREL($B$1:B5,$M$1:M5)","v":0.27311549679961283},{"$f":"'Sheet3 (2)'!W5","v":2.1063535911602191E-2},{"$f":"CORREL($B$1:B5,$O$1:O5)","v":8.153202806713937E-2},{"$f":"'Sheet3 (2)'!Y5","v":3.80622837370231E-3},{"$f":"CORREL($B$1:B5,$Q$1:Q5)","v":7.7036274936295474E-2},{"$f":"'Sheet3 (2)'!AA5","v":-1.6040955631399369E-2},{"$f":"CORREL($B$1:B5,$S$1:S5)","v":0.47891923782994816}]
[null,{"$f":"'Sheet3 (2)'!I6","v":-1.1250827266710724E-2},{"$f":"'Sheet3 (2)'!K6","v":1.1804384485666152E-2},{"$f":"CORREL($B$1:B6,$C$1:C6)","v":0.68178143885861897},{"$f":"'Sheet3 (2)'!M6","v":-1.3499831252109359E-3},{"$f":"CORREL($B$1:B6,$E$1:E6)","v":-0.7123323264170025},{"$f":"'Sheet3 (2)'!O6","v":4.0830214358625414E-3},{"$f":"CORREL($B$1:B6,$G$1:G6)","v":0.19861800768945201},{"$f":"'Sheet3 (2)'!Q6","v":-2.0345879959307507E-3},{"$f":"CORREL($B$1:B6,$I$1:I6)","v":0.21228791180935697},{"$f":"'Sheet3 (2)'!S6","v":2.1799307958477412E-2},{"$f":"CORREL($B$1:B6,$K$1:K6)","v":-0.62389608391895035},{"$f":"'Sheet3 (2)'!U6","v":-1.5358361774744153E-2},{"$f":"CORREL($B$1:B6,$M$1:M6)","v":0.37843126888062195},{"$f":"'Sheet3 (2)'!W6","v":1.8301104972375668E-2},{"$f":"CORREL($B$1:B6,$O$1:O6)","v":-0.2529752511846966},{"$f":"'Sheet3 (2)'!Y6","v":3.1141868512110367E-3},{"$f":"CORREL($B$1:B6,$Q$1:Q6)","v":0.22698450934513179},{"$f":"'Sheet3 (2)'!AA6","v":-1.6040955631399369E-2},{"$f":"CORREL($B$1:B6,$S$1:S6)","v":0.28796257758060251}]
[null,{"$f":"'Sheet3 (2)'!I7","v":-1.1581733951025712E-2},{"$f":"'Sheet3 (2)'!K7","v":1.2478920741989856E-2},{"$f":"CORREL($B$1:B7,$C$1:C7)","v":0.68524828886418443},{"$f":"'Sheet3 (2)'!M7","v":-3.3749578130269652E-4},{"$f":"CORREL($B$1:B7,$E$1:E7)","v":-0.68806246205618526},{"$f":"'Sheet3 (2)'!O7","v":6.4647839401157292E-3},{"$f":"CORREL($B$1:B7,$G$1:G7)","v":0.27844504946151027},{"$f":"'Sheet3 (2)'!Q7","v":-3.7300779925397345E-3},{"$f":"CORREL($B$1:B7,$I$1:I7)","v":6.7189766434104001E-2},{"$f":"'Sheet3 (2)'!S7","v":2.2145328719723203E-2},{"$f":"CORREL($B$1:B7,$K$1:K7)","v":-0.64406118871952112},{"$f":"'Sheet3 (2)'!U7","v":-1.5699658703071762E-2},{"$f":"CORREL($B$1:B7,$M$1:M7)","v":0.40371338363256037},{"$f":"'Sheet3 (2)'!W7","v":2.2099447513812175E-2},{"$f":"CORREL($B$1:B7,$O$1:O7)","v":-0.29959408992840458},{"$f":"'Sheet3 (2)'!Y7","v":4.1522491349481007E-3},{"$f":"CORREL($B$1:B7,$Q$1:Q7)","v":0.30379163976911894},{"$f":"'Sheet3 (2)'!AA7","v":-1.4675767918088787E-2},{"$f":"CORREL($B$1:B7,$S$1:S7)","v":0.25371767612057844}]
[null,{"$f":"'Sheet3 (2)'!I8","v":{"$error":"#N/A"}},{"$f":"'Sheet3 (2)'!K8","v":1.3490725126475561E-2},{"$f":"CORREL($B$1:B8,$C$1:C8)","v":{"$error":"#N/A"}},{"$f":"'Sheet3 (2)'!M8","v":-1.0124873439082394E-3},{"$f":"CORREL($B$1:B8,$E$1:E8)","v":{"$error":"#N/A"}},{"$f":"'Sheet3 (2)'!O8","v":8.8465464443687643E-3},{"$f":"CORREL($B$1:B8,$G$1:G8)","v":{"$error":"#N/A"}},{"$f":"'Sheet3 (2)'!Q8","v":-1.3563919972872172E-3},{"$f":"CORREL($B$1:B8,$I$1:I8)","v":{"$error":"#N/A"}},{"$f":"'Sheet3 (2)'!S8","v":2.0415224913494713E-2},{"$f":"CORREL($B$1:B8,$K$1:K8)","v":{"$error":"#N/A"}},{"$f":"'Sheet3 (2)'!U8","v":-1.3993174061433572E-2},{"$f":"CORREL($B$1:B8,$M$1:M8)","v":{"$error":"#N/A"}},{"$f":"'Sheet3 (2)'!W8","v":2.1408839779005623E-2},{"$f":"CORREL($B$1:B8,$O$1:O8)","v":{"$error":"#N/A"}},{"$f":"'Sheet3 (2)'!Y8","v":6.9204152249127324E-4},{"$f":"CORREL($B$1:B8,$Q$1:Q8)","v":{"$error":"#N/A"}},{"$f":"'Sheet3 (2)'!AA8","v":-1.5358361774744153E-2},{"$f":"CORREL($B$1:B8,$S$1:S8)","v":{"$error":"#N/A"}}]
[null,{"$f":"'Sheet3 (2)'!I9","v":{"$error":"#N/A"}},{"$f":"'Sheet3 (2)'!K9","v":1.3827993254637412E-2},{"$f":"CORREL($B$1:B9,$C$1:C9)","v":{"$error":"#N/A"}},{"$f":"'Sheet3 (2)'!M9","v":-6.7499156260554299E-4},{"$f":"CORREL($B$1:B9,$E$1:E9)","v":{"$error":"#N/A"}},{"$f":"'Sheet3 (2)'!O9","v":1.1908812521265785E-2},{"$f":"CORREL($B$1:B9,$G$1:G9)","v":{"$error":"#N/A"}},{"$f":"'Sheet3 (2)'!Q9","v":-2.0345879959307507E-3},{"$f":"CORREL($B$1:B9,$I$1:I9)","v":{"$error":"#N/A"}},{"$f":"'Sheet3 (2)'!S9","v":1.6262975778546612E-2},{"$f":"CORREL($B$1:B9,$K$1:K9)","v":{"$error":"#N/A"}},{"$f":"'Sheet3 (2)'!U9","v":-1.4675767918088787E-2},{"$f":"CORREL($B$1:B9,$M$1:M9)","v":{"$error":"#N/A"}},{"$f":"'Sheet3 (2)'!W9","v":2.2099447513812175E-2},{"$f":"CORREL($B$1:B9,$O$1:O9)","v":{"$error":"#N/A"}},{"$f":"'Sheet3 (2)'!Y9","v":0},{"$f":"CORREL($B$1:B9,$Q$1:Q9)","v":{"$error":"#N/A"}},{"$f":"'Sheet3 (2)'!AA9","v":-1.3993174061433572E-2},{"$f":"CORREL($B$1:B9,$S$1:S9)","v":{"$error":"#N/A"}}]
[null,{"$f":"'Sheet3 (2)'!I10","v":{"$error":"#N/A"}},{"$f":"'Sheet3 (2)'!K10","v":1.3827993254637412E-2},{"$f":"CORREL($B$1:B10,$C$1:C10)","v":{"$error":"#N/A"}},{"$f":"'Sheet3 (2)'!M10","v":-3.3749578130269652E-4},{"$f":"CORREL($B$1:B10,$E$1:E10)","v":{"$error":"#N/A"}},{"$f":"'Sheet3 (2)'!O10","v":1.1908812521265785E-2},{"$f":"CORREL($B$1:B10,$G$1:G10)","v":{"$error":"#N/A"}},{"$f":"'Sheet3 (2)'!Q10","v":-1.3563919972872172E-3},{"$f":"CORREL($B$1:B10,$I$1:I10)","v":{"$error":"#N/A"}},{"$f":"'Sheet3 (2)'!S10","v":1.7647058823529311E-2},{"$f":"CORREL($B$1:B10,$K$1:K10)","v":{"$error":"#N/A"}},{"$f":"'Sheet3 (2)'!U10","v":-1.5017064846416395E-2},{"$f":"CORREL($B$1:B10,$M$1:M10)","v":{"$error":"#N/A"}},{"$f":"'Sheet3 (2)'!W10","v":2.1754143646408899E-2},{"$f":"CORREL($B$1:B10,$O$1:O10)","v":{"$error":"#N/A"}},{"$f":"'Sheet3 (2)'!Y10","v":-1.3840830449827002E-3},{"$f":"CORREL($B$1:B10,$Q$1:Q10)","v":{"$error":"#N/A"}},{"$f":"'Sheet3 (2)'!AA10","v":-1.4334470989761179E-2},{"$f":"CORREL($B$1:B10,$S$1:S10)","v":{"$error":"#N/A"}}]
[null,{"$f":"'Sheet3 (2)'!I11","v":{"$error":"#N/A"}},{"$f":"'Sheet3 (2)'!K11","v":1.4839797639123117E-2},{"$f":"CORREL($B$1:B11,$C$1:C11)","v":{"$error":"#N/A"}},{"$f":"'Sheet3 (2)'!M11","v":6.7499156260539305E-4},{"$f":"CORREL($B$1:B11,$E$1:E11)","v":{"$error":"#N/A"}},{"$f":"'Sheet3 (2)'!O11","v":1.020755358965628E-2},{"$f":"CORREL($B$1:B11,$G$1:G11)","v":{"$error":"#N/A"}},{"$f":"'Sheet3 (2)'!Q11","v":-3.0518819938962012E-3},{"$f":"CORREL($B$1:B11,$I$1:I11)","v":{"$error":"#N/A"}},{"$f":"'Sheet3 (2)'!S11","v":1.8339100346020737E-2},{"$f":"CORREL($B$1:B11,$K$1:K11)","v":{"$error":"#N/A"}},{"$f":"'Sheet3 (2)'!U11","v":-1.5358361774744153E-2},{"$f":"CORREL($B$1:B11,$M$1:M11)","v":{"$error":"#N/A"}},{"$f":"'Sheet3 (2)'!W11","v":2.002762430939236E-2},{"$f":"CORREL($B$1:B11,$O$1:O11)","v":{"$error":"#N/A"}},{"$f":"'Sheet3 (2)'!Y11","v":6.9204152249127324E-4},{"$f":"CORREL($B$1:B11,$Q$1:Q11)","v":{"$error":"#N/A"}},{"$f":"'Sheet3 (2)'!AA11","v":-1.4675767918088787E-2},{"$f":"CORREL($B$1:B11,$S$1:S11)","v":{"$error":"#N/A"}}]
[null,{"$f":"'Sheet3 (2)'!I12","v":{"$error":"#N/A"}},{"$f":"'Sheet3 (2)'!K12","v":1.4165261382799414E-2},{"$f":"CORREL($B$1:B12,$C$1:C12)","v":{"$error":"#N/A"}},{"$f":"'Sheet3 (2)'!M12","v":-6.7499156260554299E-4},{"$f":"CORREL($B$1:B12,$E$1:E12)","v":{"$error":"#N/A"}},{"$f":"'Sheet3 (2)'!O12","v":1.1568560734943794E-2},{"$f":"CORREL($B$1:B12,$G$1:G12)","v":{"$error":"#N/A"}},{"$f":"'Sheet3 (2)'!Q12","v":-4.4082739911834182E-3},{"$f":"CORREL($B$1:B12,$I$1:I12)","v":{"$error":"#N/A"}},{"$f":"'Sheet3 (2)'!S12","v":1.972318339100344E-2},{"$f":"CORREL($B$1:B12,$K$1:K12)","v":{"$error":"#N/A"}},{"$f":"'Sheet3 (2)'!U12","v":-1.3993174061433572E-2},{"$f":"CORREL($B$1:B12,$M$1:M12)","v":{"$error":"#N/A"}},{"$f":"'Sheet3 (2)'!W12","v":1.86464088397791E-2},{"$f":"CORREL($B$1:B12,$O$1:O12)","v":{"$error":"#N/A"}},{"$f":"'Sheet3 (2)'!Y12","v":-3.4602076124568273E-3},{"$f":"CORREL($B$1:B12,$Q$1:Q12)","v":{"$error":"#N/A"}},{"$f":"'Sheet3 (2)'!AA12","v":-1.4675767918088787E-2},{"$f":"CORREL($B$1:B12,$S$1:S12)","v":{"$error":"#N/A"}}]
[null,{"$f":"'Sheet3 (2)'!I13","v":{"$error":"#N/A"}},{"$f":"'Sheet3 (2)'!K13","v":1.821247892074208E-2},{"$f":"CORREL($B$1:B13,$C$1:C13)","v":{"$error":"#N/A"}},{"$f":"'Sheet3 (2)'!M13","v":-1.0124873439082394E-3},{"$f":"CORREL($B$1:B13,$E$1:E13)","v":{"$error":"#N/A"}},{"$f":"'Sheet3 (2)'!O13","v":1.1228308948621953E-2},{"$f":"CORREL($B$1:B13,$G$1:G13)","v":{"$error":"#N/A"}},{"$f":"'Sheet3 (2)'!Q13","v":-6.1037639877924025E-3},{"$f":"CORREL($B$1:B13,$I$1:I13)","v":{"$error":"#N/A"}},{"$f":"'Sheet3 (2)'!S13","v":1.7993079584775102E-2},{"$f":"CORREL($B$1:B13,$K$1:K13)","v":{"$error":"#N/A"}},{"$f":"'Sheet3 (2)'!U13","v":-1.2627986348122991E-2},{"$f":"CORREL($B$1:B13,$M$1:M13)","v":{"$error":"#N/A"}},{"$f":"'Sheet3 (2)'!W13","v":1.8991712707182376E-2},{"$f":"CORREL($B$1:B13,$O$1:O13)","v":{"$error":"#N/A"}},{"$f":"'Sheet3 (2)'!Y13","v":-2.7681660899654004E-3},{"$f":"CORREL($B$1:B13,$Q$1:Q13)","v":{"$error":"#N/A"}},{"$f":"'Sheet3 (2)'!AA13","v":-1.5699658703071762E-2},{"$f":"CORREL($B$1:B13,$S$1:S13)","v":{"$error":"#N/A"}}]
[null,{"$f":"'Sheet3 (2)'!I14","v":{"$error":"#N/A"}},{"$f":"'Sheet3 (2)'!K14","v":1.9224283305227637E-2},{"$f":"CORREL($B$1:B14,$C$1:C14)","v":{"$error":"#N/A"}},{"$f":"'Sheet3 (2)'!M14","v":0},{"$f":"CORREL($B$1:B14,$E$1:E14)","v":{"$error":"#N/A"}},{"$f":"'Sheet3 (2)'!O14","v":1.1228308948621953E-2},{"$f":"CORREL($B$1:B14,$G$1:G14)","v":{"$error":"#N/A"}},{"$f":"'Sheet3 (2)'!Q14","v":-8.8165479823668364E-3},{"$f":"CORREL($B$1:B14,$I$1:I14)","v":{"$error":"#N/A"}},{"$f":"'Sheet3 (2)'!S14","v":1.7993079584775102E-2},{"$f":"CORREL($B$1:B14,$K$1:K14)","v":{"$error":"#N/A"}},{"$f":"'Sheet3 (2)'!U14","v":-1.2627986348122991E-2},{"$f":"CORREL($B$1:B14,$M$1:M14)","v":{"$error":"#N/A"}},{"$f":"'Sheet3 (2)'!W14","v":1.9337016574585652E-2},{"$f":"CORREL($B$1:B14,$O$1:O14)","v":{"$error":"#N/A"}},{"$f":"'Sheet3 (2)'!Y14","v":-3.4602076124568273E-3},{"$f":"CORREL($B$1:B14,$Q$1:Q14)","v":{"$error":"#N/A"}},{"$f":"'Sheet3 (2)'!AA14","v":-1.4675767918088787E-2},{"$f":"CORREL($B$1:B14,$S$1:S14)","v":{"$error":"#N/A"}}]
[null,{"$f":"'Sheet3 (2)'!I15","v":{"$error":"#N/A"}},{"$f":"'Sheet3 (2)'!K15","v":1.753794266441823E-2},{"$f":"CORREL($B$1:B15,$C$1:C15)","v":{"$error":"#N/A"}},{"$f":"'Sheet3 (2)'!M15","v":0},{"$f":"CORREL($B$1:B15,$E$1:E15)","v":{"$error":"#N/A"}},{"$f":"'Sheet3 (2)'!O15","v":1.020755358965628E-2},{"$f":"CORREL($B$1:B15,$G$1:G15)","v":{"$error":"#N/A"}},{"$f":"'Sheet3 (2)'!Q15","v":-8.4774499830450704E-3},{"$f":"CORREL($B$1:B15,$I$1:I15)","v":{"$error":"#N/A"}},{"$f":"'Sheet3 (2)'!S15","v":1.903114186851201E-2},{"$f":"CORREL($B$1:B15,$K$1:K15)","v":{"$error":"#N/A"}},{"$f":"'Sheet3 (2)'!U15","v":-1.2969283276450598E-2},{"$f":"CORREL($B$1:B15,$M$1:M15)","v":{"$error":"#N/A"}},{"$f":"'Sheet3 (2)'!W15","v":2.0718232044198915E-2},{"$f":"CORREL($B$1:B15,$O$1:O15)","v":{"$error":"#N/A"}},{"$f":"'Sheet3 (2)'!Y15","v":-3.1141868512111906E-3},{"$f":"CORREL($B$1:B15,$Q$1:Q15)","v":{"$error":"#N/A"}},{"$f":"'Sheet3 (2)'!AA15","v":-1.4334470989761179E-2},{"$f":"CORREL($B$1:B15,$S$1:S15)","v":{"$error":"#N/A"}}]
[null,{"$f":"'Sheet3 (2)'!I16","v":{"$error":"#N/A"}},{"$f":"'Sheet3 (2)'!K16","v":1.6863406408094524E-2},{"$f":"CORREL($B$1:B16,$C$1:C16)","v":{"$error":"#N/A"}},{"$f":"'Sheet3 (2)'!M16","v":3.3749578130269652E-4},{"$f":"CORREL($B$1:B16,$E$1:E16)","v":{"$error":"#N/A"}},{"$f":"'Sheet3 (2)'!O16","v":1.0547805375978271E-2},{"$f":"CORREL($B$1:B16,$G$1:G16)","v":{"$error":"#N/A"}},{"$f":"'Sheet3 (2)'!Q16","v":-9.494743981010521E-3},{"$f":"CORREL($B$1:B16,$I$1:I16)","v":{"$error":"#N/A"}},{"$f":"'Sheet3 (2)'!S16","v":1.7993079584775102E-2},{"$f":"CORREL($B$1:B16,$K$1:K16)","v":{"$error":"#N/A"}},{"$f":"'Sheet3 (2)'!U16","v":-1.126279863481241E-2},{"$f":"CORREL($B$1:B16,$M$1:M16)","v":{"$error":"#N/A"}},{"$f":"'Sheet3 (2)'!W16","v":2.1754143646408899E-2},{"$f":"CORREL($B$1:B16,$O$1:O16)","v":{"$error":"#N/A"}},{"$f":"'Sheet3 (2)'!Y16","v":-3.806228373702464E-3},{"$f":"CORREL($B$1:B16,$Q$1:Q16)","v":{"$error":"#N/A"}},{"$f":"'Sheet3 (2)'!AA16","v":-1.5017064846416395E-2},{"$f":"CORREL($B$1:B16,$S$1:S16)","v":{"$error":"#N/A"}}]
[null,{"$f":"'Sheet3 (2)'!I17","v":{"$error":"#N/A"}},{"$f":"'Sheet3 (2)'!K17","v":1.821247892074208E-2},{"$f":"CORREL($B$1:B17,$C$1:C17)","v":{"$error":"#N/A"}},{"$f":"'Sheet3 (2)'!M17","v":6.7499156260539305E-4},{"$f":"CORREL($B$1:B17,$E$1:E17)","v":{"$error":"#N/A"}},{"$f":"'Sheet3 (2)'!O17","v":9.1867982306907577E-3},{"$f":"CORREL($B$1:B17,$G$1:G17)","v":{"$error":"#N/A"}},{"$f":"'Sheet3 (2)'!Q17","v":-9.494743981010521E-3},{"$f":"CORREL($B$1:B17,$I$1:I17)","v":{"$error":"#N/A"}},{"$f":"'Sheet3 (2)'!S17","v":1.7647058823529311E-2},{"$f":"CORREL($B$1:B17,$K$1:K17)","v":{"$error":"#N/A"}},{"$f":"'Sheet3 (2)'!U17","v":-1.2627986348122991E-2},{"$f":"CORREL($B$1:B17,$M$1:M17)","v":{"$error":"#N/A"}},{"$f":"'Sheet3 (2)'!W17","v":2.244475138121545E-2},{"$f":"CORREL($B$1:B17,$O$1:O17)","v":{"$error":"#N/A"}},{"$f":"'Sheet3 (2)'!Y17","v":-3.806228373702464E-3},{"$f":"CORREL($B$1:B17,$Q$1:Q17)","v":{"$error":"#N/A"}},{"$f":"'Sheet3 (2)'!AA17","v":-1.5017064846416395E-2},{"$f":"CORREL($B$1:B17,$S$1:S17)","v":{"$error":"#N/A"}}]
[null,{"$f":"'Sheet3 (2)'!I18","v":{"$error":"#N/A"}},{"$f":"'Sheet3 (2)'!K18","v":1.821247892074208E-2},{"$f":"CORREL($B$1:B18,$C$1:C18)","v":{"$error":"#N/A"}},{"$f":"'Sheet3 (2)'!M18","v":2.0249746878163292E-3},{"$f":"CORREL($B$1:B18,$E$1:E18)","v":{"$error":"#N/A"}},{"$f":"'Sheet3 (2)'!O18","v":9.1867982306907577E-3},{"$f":"CORREL($B$1:B18,$G$1:G18)","v":{"$error":"#N/A"}},{"$f":"'Sheet3 (2)'!Q18","v":-9.1556459816886041E-3},{"$f":"CORREL($B$1:B18,$I$1:I18)","v":{"$error":"#N/A"}},{"$f":"'Sheet3 (2)'!S18","v":1.8339100346020737E-2},{"$f":"CORREL($B$1:B18,$K$1:K18)","v":{"$error":"#N/A"}},{"$f":"'Sheet3 (2)'!U18","v":-1.2286689419795232E-2},{"$f":"CORREL($B$1:B18,$M$1:M18)","v":{"$error":"#N/A"}},{"$f":"'Sheet3 (2)'!W18","v":2.1063535911602191E-2},{"$f":"CORREL($B$1:B18,$O$1:O18)","v":{"$error":"#N/A"}},{"$f":"'Sheet3 (2)'!Y18","v":-4.1522491349481007E-3},{"$f":"CORREL($B$1:B18,$Q$1:Q18)","v":{"$error":"#N/A"}},{"$f":"'Sheet3 (2)'!AA18","v":-1.3993174061433572E-2},{"$f":"CORREL($B$1:B18,$S$1:S18)","v":{"$error":"#N/A"}}]
[null,{"$f":"'Sheet3 (2)'!I19","v":{"$error":"#N/A"}},{"$f":"'Sheet3 (2)'!K19","v":1.8887015177065786E-2},{"$f":"CORREL($B$1:B19,$C$1:C19)","v":{"$error":"#N/A"}},{"$f":"'Sheet3 (2)'!M19","v":-7.7624029699629197E-3},{"$f":"CORREL($B$1:B19,$E$1:E19)","v":{"$error":"#N/A"}},{"$f":"'Sheet3 (2)'!O19","v":9.8673018033344391E-3},{"$f":"CORREL($B$1:B19,$G$1:G19)","v":{"$error":"#N/A"}},{"$f":"'Sheet3 (2)'!Q19","v":-1.0172939979654055E-2},{"$f":"CORREL($B$1:B19,$I$1:I19)","v":{"$error":"#N/A"}},{"$f":"'Sheet3 (2)'!S19","v":1.7993079584775102E-2},{"$f":"CORREL($B$1:B19,$K$1:K19)","v":{"$error":"#N/A"}},{"$f":"'Sheet3 (2)'!U19","v":-1.2969283276450598E-2},{"$f":"CORREL($B$1:B19,$M$1:M19)","v":{"$error":"#N/A"}},{"$f":"'Sheet3 (2)'!W19","v":1.5883977900552577E-2},{"$f":"CORREL($B$1:B19,$O$1:O19)","v":{"$error":"#N/A"}},{"$f":"'Sheet3 (2)'!Y19","v":-5.1903114186851642E-3},{"$f":"CORREL($B$1:B19,$Q$1:Q19)","v":{"$error":"#N/A"}},{"$f":"'Sheet3 (2)'!AA19","v":-1.3310580204778205E-2},{"$f":"CORREL($B$1:B19,$S$1:S19)","v":{"$error":"#N/A"}}]
[null,{"$f":"'Sheet3 (2)'!I20","v":{"$error":"#N/A"}},{"$f":"'Sheet3 (2)'!K20","v":1.9224283305227637E-2},{"$f":"CORREL($B$1:B20,$C$1:C20)","v":{"$error":"#N/A"}},{"$f":"'Sheet3 (2)'!M20","v":-1.0124873439082095E-2},{"$f":"CORREL($B$1:B20,$E$1:E20)","v":{"$error":"#N/A"}},{"$f":"'Sheet3 (2)'!O20","v":9.8673018033344391E-3},{"$f":"CORREL($B$1:B20,$G$1:G20)","v":{"$error":"#N/A"}},{"$f":"'Sheet3 (2)'!Q20","v":-9.494743981010521E-3},{"$f":"CORREL($B$1:B20,$I$1:I20)","v":{"$error":"#N/A"}},{"$f":"'Sheet3 (2)'!S20","v":1.6608996539792403E-2},{"$f":"CORREL($B$1:B20,$K$1:K20)","v":{"$error":"#N/A"}},{"$f":"'Sheet3 (2)'!U20","v":-1.3651877133105813E-2},{"$f":"CORREL($B$1:B20,$M$1:M20)","v":{"$error":"#N/A"}},{"$f":"'Sheet3 (2)'!W20","v":1.8991712707182376E-2},{"$f":"CORREL($B$1:B20,$O$1:O20)","v":{"$error":"#N/A"}},{"$f":"'Sheet3 (2)'!Y20","v":-5.5363321799308009E-3},{"$f":"CORREL($B$1:B20,$Q$1:Q20)","v":{"$error":"#N/A"}},{"$f":"'Sheet3 (2)'!AA20","v":-1.2969283276450598E-2},{"$f":"CORREL($B$1:B20,$S$1:S20)","v":{"$error":"#N/A"}}]
[null,{"$f":"'Sheet3 (2)'!I21","v":{"$error":"#N/A"}},{"$f":"'Sheet3 (2)'!K21","v":1.9898819561551491E-2},{"$f":"CORREL($B$1:B21,$C$1:C21)","v":{"$error":"#N/A"}},{"$f":"'Sheet3 (2)'!M21","v":-8.7748903138711587E-3},{"$f":"CORREL($B$1:B21,$E$1:E21)","v":{"$error":"#N/A"}},{"$f":"'Sheet3 (2)'!O21","v":1.020755358965628E-2},{"$f":"CORREL($B$1:B21,$G$1:G21)","v":{"$error":"#N/A"}},{"$f":"'Sheet3 (2)'!Q21","v":-9.494743981010521E-3},{"$f":"CORREL($B$1:B21,$I$1:I21)","v":{"$error":"#N/A"}},{"$f":"'Sheet3 (2)'!S21","v":1.6955017301038038E-2},{"$f":"CORREL($B$1:B21,$K$1:K21)","v":{"$error":"#N/A"}},{"$f":"'Sheet3 (2)'!U21","v":-1.4334470989761179E-2},{"$f":"CORREL($B$1:B21,$M$1:M21)","v":{"$error":"#N/A"}},{"$f":"'Sheet3 (2)'!W21","v":1.8301104972375668E-2},{"$f":"CORREL($B$1:B21,$O$1:O21)","v":{"$error":"#N/A"}},{"$f":"'Sheet3 (2)'!Y21","v":-3.1141868512111906E-3},{"$f":"CORREL($B$1:B21,$Q$1:Q21)","v":{"$error":"#N/A"}},{"$f":"'Sheet3 (2)'!AA21","v":-1.2627986348122991E-2},{"$f":"CORREL($B$1:B21,$S$1:S21)","v":{"$error":"#N/A"}}]
[null,{"$f":"'Sheet3 (2)'!I22","v":{"$error":"#N/A"}},{"$f":"'Sheet3 (2)'!K22","v":2.1922428330522749E-2},{"$f":"CORREL($B$1:B22,$C$1:C22)","v":{"$error":"#N/A"}},{"$f":"'Sheet3 (2)'!M22","v":-5.7374282821464409E-3},{"$f":"CORREL($B$1:B22,$E$1:E22)","v":{"$error":"#N/A"}},{"$f":"'Sheet3 (2)'!O22","v":1.0888057162300112E-2},{"$f":"CORREL($B$1:B22,$G$1:G22)","v":{"$error":"#N/A"}},{"$f":"'Sheet3 (2)'!Q22","v":-8.4774499830450704E-3},{"$f":"CORREL($B$1:B22,$I$1:I22)","v":{"$error":"#N/A"}},{"$f":"'Sheet3 (2)'!S22","v":1.7647058823529311E-2},{"$f":"CORREL($B$1:B22,$K$1:K22)","v":{"$error":"#N/A"}},{"$f":"'Sheet3 (2)'!U22","v":-1.5017064846416395E-2},{"$f":"CORREL($B$1:B22,$M$1:M22)","v":{"$error":"#N/A"}},{"$f":"'Sheet3 (2)'!W22","v":1.7265193370165837E-2},{"$f":"CORREL($B$1:B22,$O$1:O22)","v":{"$error":"#N/A"}},{"$f":"'Sheet3 (2)'!Y22","v":-3.1141868512111906E-3},{"$f":"CORREL($B$1:B22,$Q$1:Q22)","v":{"$error":"#N/A"}},{"$f":"'Sheet3 (2)'!AA22","v":-1.3651877133105813E-2},{"$f":"CORREL($B$1:B22,$S$1:S22)","v":{"$error":"#N/A"}}]
[null,{"$f":"'Sheet3 (2)'!I23","v":{"$error":"#N/A"}},{"$f":"'Sheet3 (2)'!K23","v":2.0573355817875193E-2},{"$f":"CORREL($B$1:B23,$C$1:C23)","v":{"$error":"#N/A"}},{"$f":"'Sheet3 (2)'!M23","v":-5.3999325008437437E-3},{"$f":"CORREL($B$1:B23,$E$1:E23)","v":{"$error":"#N/A"}},{"$f":"'Sheet3 (2)'!O23","v":1.1228308948621953E-2},{"$f":"CORREL($B$1:B23,$G$1:G23)","v":{"$error":"#N/A"}},{"$f":"'Sheet3 (2)'!Q23","v":-7.7992539844013867E-3},{"$f":"CORREL($B$1:B23,$I$1:I23)","v":{"$error":"#N/A"}},{"$f":"'Sheet3 (2)'!S23","v":1.8339100346020737E-2},{"$f":"CORREL($B$1:B23,$K$1:K23)","v":{"$error":"#N/A"}},{"$f":"'Sheet3 (2)'!U23","v":-1.4675767918088787E-2},{"$f":"CORREL($B$1:B23,$M$1:M23)","v":{"$error":"#N/A"}},{"$f":"'Sheet3 (2)'!W23","v":2.0372928176795636E-2},{"$f":"CORREL($B$1:B23,$O$1:O23)","v":{"$error":"#N/A"}},{"$f":"'Sheet3 (2)'!Y23","v":-1.3840830449827002E-3},{"$f":"CORREL($B$1:B23,$Q$1:Q23)","v":{"$error":"#N/A"}},{"$f":"'Sheet3 (2)'!AA23","v":-1.2627986348122991E-2},{"$f":"CORREL($B$1:B23,$S$1:S23)","v":{"$error":"#N/A"}}]
[null,{"$f":"'Sheet3 (2)'!I24","v":{"$error":"#N/A"}},{"$f":"'Sheet3 (2)'!K24","v":1.9224283305227637E-2},{"$f":"CORREL($B$1:B24,$C$1:C24)","v":{"$error":"#N/A"}},{"$f":"'Sheet3 (2)'!M24","v":-3.0374620317245686E-3},{"$f":"CORREL($B$1:B24,$E$1:E24)","v":{"$error":"#N/A"}},{"$f":"'Sheet3 (2)'!O24","v":1.0888057162300112E-2},{"$f":"CORREL($B$1:B24,$G$1:G24)","v":{"$error":"#N/A"}},{"$f":"'Sheet3 (2)'!Q24","v":-8.8165479823668364E-3},{"$f":"CORREL($B$1:B24,$I$1:I24)","v":{"$error":"#N/A"}},{"$f":"'Sheet3 (2)'!S24","v":1.903114186851201E-2},{"$f":"CORREL($B$1:B24,$K$1:K24)","v":{"$error":"#N/A"}},{"$f":"'Sheet3 (2)'!U24","v":-1.5017064846416395E-2},{"$f":"CORREL($B$1:B24,$M$1:M24)","v":{"$error":"#N/A"}},{"$f":"'Sheet3 (2)'!W24","v":1.8301104972375668E-2},{"$f":"CORREL($B$1:B24,$O$1:O24)","v":{"$error":"#N/A"}},{"$f":"'Sheet3 (2)'!Y24","v":-2.7681660899654004E-3},{"$f":"CORREL($B$1:B24,$Q$1:Q24)","v":{"$error":"#N/A"}},{"$f":"'Sheet3 (2)'!AA24","v":-1.092150170648465E-2},{"$f":"CORREL($B$1:B24,$S$1:S24)","v":{"$error":"#N/A"}}]
[null,{"$f":"'Sheet3 (2)'!I25","v":{"$error":"#N/A"}},{"$f":"'Sheet3 (2)'!K25","v":1.9224283305227637E-2},{"$f":"CORREL($B$1:B25,$C$1:C25)","v":{"$error":"#N/A"}},{"$f":"'Sheet3 (2)'!M25","v":-3.374957813027415E-3},{"$f":"CORREL($B$1:B25,$E$1:E25)","v":{"$error":"#N/A"}},{"$f":"'Sheet3 (2)'!O25","v":1.0888057162300112E-2},{"$f":"CORREL($B$1:B25,$G$1:G25)","v":{"$error":"#N/A"}},{"$f":"'Sheet3 (2)'!Q25","v":-8.8165479823668364E-3},{"$f":"CORREL($B$1:B25,$I$1:I25)","v":{"$error":"#N/A"}},{"$f":"'Sheet3 (2)'!S25","v":1.8339100346020737E-2},{"$f":"CORREL($B$1:B25,$K$1:K25)","v":{"$error":"#N/A"}},{"$f":"'Sheet3 (2)'!U25","v":-1.5358361774744153E-2},{"$f":"CORREL($B$1:B25,$M$1:M25)","v":{"$error":"#N/A"}},{"$f":"'Sheet3 (2)'!W25","v":1.86464088397791E-2},{"$f":"CORREL($B$1:B25,$O$1:O25)","v":{"$error":"#N/A"}},{"$f":"'Sheet3 (2)'!Y25","v":-2.4221453287197638E-3},{"$f":"CORREL($B$1:B25,$Q$1:Q25)","v":{"$error":"#N/A"}},{"$f":"'Sheet3 (2)'!AA25","v":-1.1604095563140017E-2},{"$f":"CORREL($B$1:B25,$S$1:S25)","v":{"$error":"#N/A"}}]
[null,{"$f":"'Sheet3 (2)'!I26","v":{"$error":"#N/A"}},{"$f":"'Sheet3 (2)'!K26","v":2.0236087689713342E-2},{"$f":"CORREL($B$1:B26,$C$1:C26)","v":{"$error":"#N/A"}},{"$f":"'Sheet3 (2)'!M26","v":-1.6874789065136325E-3},{"$f":"CORREL($B$1:B26,$E$1:E26)","v":{"$error":"#N/A"}},{"$f":"'Sheet3 (2)'!O26","v":1.1228308948621953E-2},{"$f":"CORREL($B$1:B26,$G$1:G26)","v":{"$error":"#N/A"}},{"$f":"'Sheet3 (2)'!Q26","v":-8.8165479823668364E-3},{"$f":"CORREL($B$1:B26,$I$1:I26)","v":{"$error":"#N/A"}},{"$f":"'Sheet3 (2)'!S26","v":1.7993079584775102E-2},{"$f":"CORREL($B$1:B26,$K$1:K26)","v":{"$error":"#N/A"}},{"$f":"'Sheet3 (2)'!U26","v":-1.5699658703071762E-2},{"$f":"CORREL($B$1:B26,$M$1:M26)","v":{"$error":"#N/A"}},{"$f":"'Sheet3 (2)'!W26","v":1.6574585635359133E-2},{"$f":"CORREL($B$1:B26,$O$1:O26)","v":{"$error":"#N/A"}},{"$f":"'Sheet3 (2)'!Y26","v":-3.1141868512111906E-3},{"$f":"CORREL($B$1:B26,$Q$1:Q26)","v":{"$error":"#N/A"}},{"$f":"'Sheet3 (2)'!AA26","v":-1.1945392491467624E-2},{"$f":"CORREL($B$1:B26,$S$1:S26)","v":{"$error":"#N/A"}}]
[null,{"$f":"'Sheet3 (2)'!I27","v":{"$error":"#N/A"}},{"$f":"'Sheet3 (2)'!K27","v":2.0573355817875193E-2},{"$f":"CORREL($B$1:B27,$C$1:C27)","v":{"$error":"#N/A"}},{"$f":"'Sheet3 (2)'!M27","v":3.3749578130269652E-4},{"$f":"CORREL($B$1:B27,$E$1:E27)","v":{"$error":"#N/A"}},{"$f":"'Sheet3 (2)'!O27","v":1.1228308948621953E-2},{"$f":"CORREL($B$1:B27,$G$1:G27)","v":{"$error":"#N/A"}},{"$f":"'Sheet3 (2)'!Q27","v":-8.1383519837233045E-3},{"$f":"CORREL($B$1:B27,$I$1:I27)","v":{"$error":"#N/A"}},{"$f":"'Sheet3 (2)'!S27","v":1.7993079584775102E-2},{"$f":"CORREL($B$1:B27,$K$1:K27)","v":{"$error":"#N/A"}},{"$f":"'Sheet3 (2)'!U27","v":-1.6382252559726976E-2},{"$f":"CORREL($B$1:B27,$M$1:M27)","v":{"$error":"#N/A"}},{"$f":"'Sheet3 (2)'!W27","v":1.7265193370165837E-2},{"$f":"CORREL($B$1:B27,$O$1:O27)","v":{"$error":"#N/A"}},{"$f":"'Sheet3 (2)'!Y27","v":-3.1141868512111906E-3},{"$f":"CORREL($B$1:B27,$Q$1:Q27)","v":{"$error":"#N/A"}},{"$f":"'Sheet3 (2)'!AA27","v":-1.1604095563140017E-2},{"$f":"CORREL($B$1:B27,$S$1:S27)","v":{"$error":"#N/A"}}]
[null,{"$f":"'Sheet3 (2)'!I28","v":{"$error":"#N/A"}},{"$f":"'Sheet3 (2)'!K28","v":2.0236087689713342E-2},{"$f":"CORREL($B$1:B28,$C$1:C28)","v":{"$error":"#N/A"}},{"$f":"'Sheet3 (2)'!M28","v":1.6874789065136325E-3},{"$f":"CORREL($B$1:B28,$E$1:E28)","v":{"$error":"#N/A"}},{"$f":"'Sheet3 (2)'!O28","v":1.2929567880231307E-2},{"$f":"CORREL($B$1:B28,$G$1:G28)","v":{"$error":"#N/A"}},{"$f":"'Sheet3 (2)'!Q28","v":-8.8165479823668364E-3},{"$f":"CORREL($B$1:B28,$I$1:I28)","v":{"$error":"#N/A"}},{"$f":"'Sheet3 (2)'!S28","v":1.9377162629757801E-2},{"$f":"CORREL($B$1:B28,$K$1:K28)","v":{"$error":"#N/A"}},{"$f":"'Sheet3 (2)'!U28","v":-1.6040955631399369E-2},{"$f":"CORREL($B$1:B28,$M$1:M28)","v":{"$error":"#N/A"}},{"$f":"'Sheet3 (2)'!W28","v":1.7265193370165837E-2},{"$f":"CORREL($B$1:B28,$O$1:O28)","v":{"$error":"#N/A"}},{"$f":"'Sheet3 (2)'!Y28","v":-3.4602076124579031E-4},{"$f":"CORREL($B$1:B28,$Q$1:Q28)","v":{"$error":"#N/A"}},{"$f":"'Sheet3 (2)'!AA28","v":-1.2286689419795232E-2},{"$f":"CORREL($B$1:B28,$S$1:S28)","v":{"$error":"#N/A"}}]
[null,{"$f":"'Sheet3 (2)'!I29","v":{"$error":"#N/A"}},{"$f":"'Sheet3 (2)'!K29","v":2.1585160202360898E-2},{"$f":"CORREL($B$1:B29,$C$1:C29)","v":{"$error":"#N/A"}},{"$f":"'Sheet3 (2)'!M29","v":0},{"$f":"CORREL($B$1:B29,$E$1:E29)","v":{"$error":"#N/A"}},{"$f":"'Sheet3 (2)'!O29","v":1.2249064307587626E-2},{"$f":"CORREL($B$1:B29,$G$1:G29)","v":{"$error":"#N/A"}},{"$f":"'Sheet3 (2)'!Q29","v":-9.494743981010521E-3},{"$f":"CORREL($B$1:B29,$I$1:I29)","v":{"$error":"#N/A"}},{"$f":"'Sheet3 (2)'!S29","v":1.972318339100344E-2},{"$f":"CORREL($B$1:B29,$K$1:K29)","v":{"$error":"#N/A"}},{"$f":"'Sheet3 (2)'!U29","v":-1.5358361774744153E-2},{"$f":"CORREL($B$1:B29,$M$1:M29)","v":{"$error":"#N/A"}},{"$f":"'Sheet3 (2)'!W29","v":1.7955801104972392E-2},{"$f":"CORREL($B$1:B29,$O$1:O29)","v":{"$error":"#N/A"}},{"$f":"'Sheet3 (2)'!Y29","v":-6.9204152249142687E-4},{"$f":"CORREL($B$1:B29,$Q$1:Q29)","v":{"$error":"#N/A"}},{"$f":"'Sheet3 (2)'!AA29","v":-1.3310580204778205E-2},{"$f":"CORREL($B$1:B29,$S$1:S29)","v":{"$error":"#N/A"}}]
[null,{"$f":"'Sheet3 (2)'!I30","v":{"$error":"#N/A"}},{"$f":"'Sheet3 (2)'!K30","v":1.9561551433389637E-2},{"$f":"CORREL($B$1:B30,$C$1:C30)","v":{"$error":"#N/A"}},{"$f":"'Sheet3 (2)'!M30","v":3.3749578130269652E-4},{"$f":"CORREL($B$1:B30,$E$1:E30)","v":{"$error":"#N/A"}},{"$f":"'Sheet3 (2)'!O30","v":1.1568560734943794E-2},{"$f":"CORREL($B$1:B30,$G$1:G30)","v":{"$error":"#N/A"}},{"$f":"'Sheet3 (2)'!Q30","v":-8.8165479823668364E-3},{"$f":"CORREL($B$1:B30,$I$1:I30)","v":{"$error":"#N/A"}},{"$f":"'Sheet3 (2)'!S30","v":2.0069204152249075E-2},{"$f":"CORREL($B$1:B30,$K$1:K30)","v":{"$error":"#N/A"}},{"$f":"'Sheet3 (2)'!U30","v":-1.6040955631399369E-2},{"$f":"CORREL($B$1:B30,$M$1:M30)","v":{"$error":"#N/A"}},{"$f":"'Sheet3 (2)'!W30","v":1.8301104972375668E-2},{"$f":"CORREL($B$1:B30,$O$1:O30)","v":{"$error":"#N/A"}},{"$f":"'Sheet3 (2)'!Y30","v":-1.0380622837370635E-3},{"$f":"CORREL($B$1:B30,$Q$1:Q30)","v":{"$error":"#N/A"}},{"$f":"'Sheet3 (2)'!AA30","v":-1.3651877133105813E-2},{"$f":"CORREL($B$1:B30,$S$1:S30)","v":{"$error":"#N/A"}}]
[null,{"$f":"'Sheet3 (2)'!I31","v":{"$error":"#N/A"}},{"$f":"'Sheet3 (2)'!K31","v":1.9898819561551491E-2},{"$f":"CORREL($B$1:B31,$C$1:C31)","v":{"$error":"#N/A"}},{"$f":"'Sheet3 (2)'!M31","v":-1.6874789065136325E-3},{"$f":"CORREL($B$1:B31,$E$1:E31)","v":{"$error":"#N/A"}},{"$f":"'Sheet3 (2)'!O31","v":1.1908812521265785E-2},{"$f":"CORREL($B$1:B31,$G$1:G31)","v":{"$error":"#N/A"}},{"$f":"'Sheet3 (2)'!Q31","v":-8.8165479823668364E-3},{"$f":"CORREL($B$1:B31,$I$1:I31)","v":{"$error":"#N/A"}},{"$f":"'Sheet3 (2)'!S31","v":2.1107266435986139E-2},{"$f":"CORREL($B$1:B31,$K$1:K31)","v":{"$error":"#N/A"}},{"$f":"'Sheet3 (2)'!U31","v":-1.6723549488054736E-2},{"$f":"CORREL($B$1:B31,$M$1:M31)","v":{"$error":"#N/A"}},{"$f":"'Sheet3 (2)'!W31","v":1.86464088397791E-2},{"$f":"CORREL($B$1:B31,$O$1:O31)","v":{"$error":"#N/A"}},{"$f":"'Sheet3 (2)'!Y31","v":-1.0380622837370635E-3},{"$f":"CORREL($B$1:B31,$Q$1:Q31)","v":{"$error":"#N/A"}},{"$f":"'Sheet3 (2)'!AA31","v":-1.3651877133105813E-2},{"$f":"CORREL($B$1:B31,$S$1:S31)","v":{"$error":"#N/A"}}]
[null,{"$f":"'Sheet3 (2)'!I32","v":{"$error":"#N/A"}},{"$f":"'Sheet3 (2)'!K32","v":2.1247892074199047E-2},{"$f":"CORREL($B$1:B32,$C$1:C32)","v":{"$error":"#N/A"}},{"$f":"'Sheet3 (2)'!M32","v":-1.6874789065136325E-3},{"$f":"CORREL($B$1:B32,$E$1:E32)","v":{"$error":"#N/A"}},{"$f":"'Sheet3 (2)'!O32","v":1.020755358965628E-2},{"$f":"CORREL($B$1:B32,$G$1:G32)","v":{"$error":"#N/A"}},{"$f":"'Sheet3 (2)'!Q32","v":-8.8165479823668364E-3},{"$f":"CORREL($B$1:B32,$I$1:I32)","v":{"$error":"#N/A"}},{"$f":"'Sheet3 (2)'!S32","v":2.1799307958477412E-2},{"$f":"CORREL($B$1:B32,$K$1:K32)","v":{"$error":"#N/A"}},{"$f":"'Sheet3 (2)'!U32","v":-1.6723549488054736E-2},{"$f":"CORREL($B$1:B32,$M$1:M32)","v":{"$error":"#N/A"}},{"$f":"'Sheet3 (2)'!W32","v":1.8301104972375668E-2},{"$f":"CORREL($B$1:B32,$O$1:O32)","v":{"$error":"#N/A"}},{"$f":"'Sheet3 (2)'!Y32","v":3.4602076124563662E-4},{"$f":"CORREL($B$1:B32,$Q$1:Q32)","v":{"$error":"#N/A"}},{"$f":"'Sheet3 (2)'!AA32","v":-1.5358361774744153E-2},{"$f":"CORREL($B$1:B32,$S$1:S32)","v":{"$error":"#N/A"}}]
[null,{"$f":"'Sheet3 (2)'!I33","v":{"$error":"#N/A"}},{"$f":"'Sheet3 (2)'!K33","v":2.0573355817875193E-2},{"$f":"CORREL($B$1:B33,$C$1:C33)","v":{"$error":"#N/A"}},{"$f":"'Sheet3 (2)'!M33","v":-1.6874789065136325E-3},{"$f":"CORREL($B$1:B33,$E$1:E33)","v":{"$error":"#N/A"}},{"$f":"'Sheet3 (2)'!O33","v":1.0547805375978271E-2},{"$f":"CORREL($B$1:B33,$G$1:G33)","v":{"$error":"#N/A"}},{"$f":"'Sheet3 (2)'!Q33","v":-8.8165479823668364E-3},{"$f":"CORREL($B$1:B33,$I$1:I33)","v":{"$error":"#N/A"}},{"$f":"'Sheet3 (2)'!S33","v":2.1799307958477412E-2},{"$f":"CORREL($B$1:B33,$K$1:K33)","v":{"$error":"#N/A"}},{"$f":"'Sheet3 (2)'!U33","v":-1.7747440273037558E-2},{"$f":"CORREL($B$1:B33,$M$1:M33)","v":{"$error":"#N/A"}},{"$f":"'Sheet3 (2)'!W33","v":1.8301104972375668E-2},{"$f":"CORREL($B$1:B33,$O$1:O33)","v":{"$error":"#N/A"}},{"$f":"'Sheet3 (2)'!Y33","v":-1.0380622837370635E-3},{"$f":"CORREL($B$1:B33,$Q$1:Q33)","v":{"$error":"#N/A"}},{"$f":"'Sheet3 (2)'!AA33","v":-1.4675767918088787E-2},{"$f":"CORREL($B$1:B33,$S$1:S33)","v":{"$error":"#N/A"}}]
[null,{"$f":"'Sheet3 (2)'!I34","v":{"$error":"#N/A"}},{"$f":"'Sheet3 (2)'!K34","v":2.0236087689713342E-2},{"$f":"CORREL($B$1:B34,$C$1:C34)","v":{"$error":"#N/A"}},{"$f":"'Sheet3 (2)'!M34","v":-6.7499156260554299E-4},{"$f":"CORREL($B$1:B34,$E$1:E34)","v":{"$error":"#N/A"}},{"$f":"'Sheet3 (2)'!O34","v":1.0547805375978271E-2},{"$f":"CORREL($B$1:B34,$G$1:G34)","v":{"$error":"#N/A"}},{"$f":"'Sheet3 (2)'!Q34","v":-8.8165479823668364E-3},{"$f":"CORREL($B$1:B34,$I$1:I34)","v":{"$error":"#N/A"}},{"$f":"'Sheet3 (2)'!S34","v":2.0761245674740501E-2},{"$f":"CORREL($B$1:B34,$K$1:K34)","v":{"$error":"#N/A"}},{"$f":"'Sheet3 (2)'!U34","v":-1.7064846416382343E-2},{"$f":"CORREL($B$1:B34,$M$1:M34)","v":{"$error":"#N/A"}},{"$f":"'Sheet3 (2)'!W34","v":1.8301104972375668E-2},{"$f":"CORREL($B$1:B34,$O$1:O34)","v":{"$error":"#N/A"}},{"$f":"'Sheet3 (2)'!Y34","v":-6.9204152249142687E-4},{"$f":"CORREL($B$1:B34,$Q$1:Q34)","v":{"$error":"#N/A"}},{"$f":"'Sheet3 (2)'!AA34","v":-1.3310580204778205E-2},{"$f":"CORREL($B$1:B34,$S$1:S34)","v":{"$error":"#N/A"}}]
[null,{"$f":"'Sheet3 (2)'!I35","v":{"$error":"#N/A"}},{"$f":"'Sheet3 (2)'!K35","v":2.0236087689713342E-2},{"$f":"CORREL($B$1:B35,$C$1:C35)","v":{"$error":"#N/A"}},{"$f":"'Sheet3 (2)'!M35","v":-1.6874789065136325E-3},{"$f":"CORREL($B$1:B35,$E$1:E35)","v":{"$error":"#N/A"}},{"$f":"'Sheet3 (2)'!O35","v":9.5270500170125984E-3},{"$f":"CORREL($B$1:B35,$G$1:G35)","v":{"$error":"#N/A"}},{"$f":"'Sheet3 (2)'!Q35","v":-9.494743981010521E-3},{"$f":"CORREL($B$1:B35,$I$1:I35)","v":{"$error":"#N/A"}},{"$f":"'Sheet3 (2)'!S35","v":2.0761245674740501E-2},{"$f":"CORREL($B$1:B35,$K$1:K35)","v":{"$error":"#N/A"}},{"$f":"'Sheet3 (2)'!U35","v":-1.5017064846416395E-2},{"$f":"CORREL($B$1:B35,$M$1:M35)","v":{"$error":"#N/A"}},{"$f":"'Sheet3 (2)'!W35","v":1.8301104972375668E-2},{"$f":"CORREL($B$1:B35,$O$1:O35)","v":{"$error":"#N/A"}},{"$f":"'Sheet3 (2)'!Y35","v":-1.0380622837370635E-3},{"$f":"CORREL($B$1:B35,$Q$1:Q35)","v":{"$error":"#N/A"}},{"$f":"'Sheet3 (2)'!AA35","v":-1.3993174061433572E-2},{"$f":"CORREL($B$1:B35,$S$1:S35)","v":{"$error":"#N/A"}}]
[null,{"$f":"'Sheet3 (2)'!I36","v":{"$error":"#N/A"}},{"$f":"'Sheet3 (2)'!K36","v":1.9561551433389637E-2},{"$f":"CORREL($B$1:B36,$C$1:C36)","v":{"$error":"#N/A"}},{"$f":"'Sheet3 (2)'!M36","v":-1.3499831252109359E-3},{"$f":"CORREL($B$1:B36,$E$1:E36)","v":{"$error":"#N/A"}},{"$f":"'Sheet3 (2)'!O36","v":8.5062946580469236E-3},{"$f":"CORREL($B$1:B36,$G$1:G36)","v":{"$error":"#N/A"}},{"$f":"'Sheet3 (2)'!Q36","v":-7.121057985757853E-3},{"$f":"CORREL($B$1:B36,$I$1:I36)","v":{"$error":"#N/A"}},{"$f":"'Sheet3 (2)'!S36","v":2.1107266435986139E-2},{"$f":"CORREL($B$1:B36,$K$1:K36)","v":{"$error":"#N/A"}},{"$f":"'Sheet3 (2)'!U36","v":-1.5358361774744153E-2},{"$f":"CORREL($B$1:B36,$M$1:M36)","v":{"$error":"#N/A"}},{"$f":"'Sheet3 (2)'!W36","v":1.6919889502762409E-2},{"$f":"CORREL($B$1:B36,$O$1:O36)","v":{"$error":"#N/A"}},{"$f":"'Sheet3 (2)'!Y36","v":-2.0761245674741271E-3},{"$f":"CORREL($B$1:B36,$Q$1:Q36)","v":{"$error":"#N/A"}},{"$f":"'Sheet3 (2)'!AA36","v":-1.3993174061433572E-2},{"$f":"CORREL($B$1:B36,$S$1:S36)","v":{"$error":"#N/A"}}]
[null,{"$f":"'Sheet3 (2)'!I37","v":{"$error":"#N/A"}},{"$f":"'Sheet3 (2)'!K37","v":1.9561551433389637E-2},{"$f":"CORREL($B$1:B37,$C$1:C37)","v":{"$error":"#N/A"}},{"$f":"'Sheet3 (2)'!M37","v":-1.6874789065136325E-3},{"$f":"CORREL($B$1:B37,$E$1:E37)","v":{"$error":"#N/A"}},{"$f":"'Sheet3 (2)'!O37","v":9.5270500170125984E-3},{"$f":"CORREL($B$1:B37,$G$1:G37)","v":{"$error":"#N/A"}},{"$f":"'Sheet3 (2)'!Q37","v":-6.7819599864360862E-3},{"$f":"CORREL($B$1:B37,$I$1:I37)","v":{"$error":"#N/A"}},{"$f":"'Sheet3 (2)'!S37","v":2.0069204152249075E-2},{"$f":"CORREL($B$1:B37,$K$1:K37)","v":{"$error":"#N/A"}},{"$f":"'Sheet3 (2)'!U37","v":-1.5358361774744153E-2},{"$f":"CORREL($B$1:B37,$M$1:M37)","v":{"$error":"#N/A"}},{"$f":"'Sheet3 (2)'!W37","v":1.7610497237569116E-2},{"$f":"CORREL($B$1:B37,$O$1:O37)","v":{"$error":"#N/A"}},{"$f":"'Sheet3 (2)'!Y37","v":-1.7301038062284904E-3},{"$f":"CORREL($B$1:B37,$Q$1:Q37)","v":{"$error":"#N/A"}},{"$f":"'Sheet3 (2)'!AA37","v":-1.3993174061433572E-2},{"$f":"CORREL($B$1:B37,$S$1:S37)","v":{"$error":"#N/A"}}]
[null,{"$f":"'Sheet3 (2)'!I38","v":{"$error":"#N/A"}},{"$f":"'Sheet3 (2)'!K38","v":1.8887015177065786E-2},{"$f":"CORREL($B$1:B38,$C$1:C38)","v":{"$error":"#N/A"}},{"$f":"'Sheet3 (2)'!M38","v":-6.7499156260554299E-4},{"$f":"CORREL($B$1:B38,$E$1:E38)","v":{"$error":"#N/A"}},{"$f":"'Sheet3 (2)'!O38","v":1.020755358965628E-2},{"$f":"CORREL($B$1:B38,$G$1:G38)","v":{"$error":"#N/A"}},{"$f":"'Sheet3 (2)'!Q38","v":-6.4428619871141693E-3},{"$f":"CORREL($B$1:B38,$I$1:I38)","v":{"$error":"#N/A"}},{"$f":"'Sheet3 (2)'!S38","v":2.1453287197231774E-2},{"$f":"CORREL($B$1:B38,$K$1:K38)","v":{"$error":"#N/A"}},{"$f":"'Sheet3 (2)'!U38","v":-1.6040955631399369E-2},{"$f":"CORREL($B$1:B38,$M$1:M38)","v":{"$error":"#N/A"}},{"$f":"'Sheet3 (2)'!W38","v":1.6919889502762409E-2},{"$f":"CORREL($B$1:B38,$O$1:O38)","v":{"$error":"#N/A"}},{"$f":"'Sheet3 (2)'!Y38","v":-2.4221453287197638E-3},{"$f":"CORREL($B$1:B38,$Q$1:Q38)","v":{"$error":"#N/A"}},{"$f":"'Sheet3 (2)'!AA38","v":-1.3993174061433572E-2},{"$f":"CORREL($B$1:B38,$S$1:S38)","v":{"$error":"#N/A"}}]
[null,{"$f":"'Sheet3 (2)'!I39","v":{"$error":"#N/A"}},{"$f":"'Sheet3 (2)'!K39","v":1.9224283305227637E-2},{"$f":"CORREL($B$1:B39,$C$1:C39)","v":{"$error":"#N/A"}},{"$f":"'Sheet3 (2)'!M39","v":-2.3624704691191756E-3},{"$f":"CORREL($B$1:B39,$E$1:E39)","v":{"$error":"#N/A"}},{"$f":"'Sheet3 (2)'!O39","v":1.020755358965628E-2},{"$f":"CORREL($B$1:B39,$G$1:G39)","v":{"$error":"#N/A"}},{"$f":"'Sheet3 (2)'!Q39","v":-7.121057985757853E-3},{"$f":"CORREL($B$1:B39,$I$1:I39)","v":{"$error":"#N/A"}},{"$f":"'Sheet3 (2)'!S39","v":2.1107266435986139E-2},{"$f":"CORREL($B$1:B39,$K$1:K39)","v":{"$error":"#N/A"}},{"$f":"'Sheet3 (2)'!U39","v":-1.6040955631399369E-2},{"$f":"CORREL($B$1:B39,$M$1:M39)","v":{"$error":"#N/A"}},{"$f":"'Sheet3 (2)'!W39","v":1.4502762430939316E-2},{"$f":"CORREL($B$1:B39,$O$1:O39)","v":{"$error":"#N/A"}},{"$f":"'Sheet3 (2)'!Y39","v":-2.0761245674741271E-3},{"$f":"CORREL($B$1:B39,$Q$1:Q39)","v":{"$error":"#N/A"}},{"$f":"'Sheet3 (2)'!AA39","v":-1.4334470989761179E-2},{"$f":"CORREL($B$1:B39,$S$1:S39)","v":{"$error":"#N/A"}}]
[null,{"$f":"'Sheet3 (2)'!I40","v":{"$error":"#N/A"}},{"$f":"'Sheet3 (2)'!K40","v":1.821247892074208E-2},{"$f":"CORREL($B$1:B40,$C$1:C40)","v":{"$error":"#N/A"}},{"$f":"'Sheet3 (2)'!M40","v":-2.3624704691191756E-3},{"$f":"CORREL($B$1:B40,$E$1:E40)","v":{"$error":"#N/A"}},{"$f":"'Sheet3 (2)'!O40","v":9.5270500170125984E-3},{"$f":"CORREL($B$1:B40,$G$1:G40)","v":{"$error":"#N/A"}},{"$f":"'Sheet3 (2)'!Q40","v":-7.121057985757853E-3},{"$f":"CORREL($B$1:B40,$I$1:I40)","v":{"$error":"#N/A"}},{"$f":"'Sheet3 (2)'!S40","v":1.972318339100344E-2},{"$f":"CORREL($B$1:B40,$K$1:K40)","v":{"$error":"#N/A"}},{"$f":"'Sheet3 (2)'!U40","v":-1.5699658703071762E-2},{"$f":"CORREL($B$1:B40,$M$1:M40)","v":{"$error":"#N/A"}},{"$f":"'Sheet3 (2)'!W40","v":1.2430939226519349E-2},{"$f":"CORREL($B$1:B40,$O$1:O40)","v":{"$error":"#N/A"}},{"$f":"'Sheet3 (2)'!Y40","v":-1.0380622837370635E-3},{"$f":"CORREL($B$1:B40,$Q$1:Q40)","v":{"$error":"#N/A"}},{"$f":"'Sheet3 (2)'!AA40","v":-1.5017064846416395E-2},{"$f":"CORREL($B$1:B40,$S$1:S40)","v":{"$error":"#N/A"}}]
[null,{"$f":"'Sheet3 (2)'!I41","v":{"$error":"#N/A"}},{"$f":"'Sheet3 (2)'!K41","v":1.6863406408094524E-2},{"$f":"CORREL($B$1:B41,$C$1:C41)","v":{"$error":"#N/A"}},{"$f":"'Sheet3 (2)'!M41","v":-2.0249746878164788E-3},{"$f":"CORREL($B$1:B41,$E$1:E41)","v":{"$error":"#N/A"}},{"$f":"'Sheet3 (2)'!O41","v":9.8673018033344391E-3},{"$f":"CORREL($B$1:B41,$G$1:G41)","v":{"$error":"#N/A"}},{"$f":"'Sheet3 (2)'!Q41","v":-6.7819599864360862E-3},{"$f":"CORREL($B$1:B41,$I$1:I41)","v":{"$error":"#N/A"}},{"$f":"'Sheet3 (2)'!S41","v":1.903114186851201E-2},{"$f":"CORREL($B$1:B41,$K$1:K41)","v":{"$error":"#N/A"}},{"$f":"'Sheet3 (2)'!U41","v":-1.4675767918088787E-2},{"$f":"CORREL($B$1:B41,$M$1:M41)","v":{"$error":"#N/A"}},{"$f":"'Sheet3 (2)'!W41","v":1.2430939226519349E-2},{"$f":"CORREL($B$1:B41,$O$1:O41)","v":{"$error":"#N/A"}},{"$f":"'Sheet3 (2)'!Y41","v":-2.0761245674741271E-3},{"$f":"CORREL($B$1:B41,$Q$1:Q41)","v":{"$error":"#N/A"}},{"$f":"'Sheet3 (2)'!AA41","v":-1.3310580204778205E-2},{"$f":"CORREL($B$1:B41,$S$1:S41)","v":{"$error":"#N/A"}}]
[null,{"$f":"'Sheet3 (2)'!I42","v":{"$error":"#N/A"}},{"$f":"'Sheet3 (2)'!K42","v":1.6188870151770673E-2},{"$f":"CORREL($B$1:B42,$C$1:C42)","v":{"$error":"#N/A"}},{"$f":"'Sheet3 (2)'!M42","v":-3.0374620317245686E-3},{"$f":"CORREL($B$1:B42,$E$1:E42)","v":{"$error":"#N/A"}},{"$f":"'Sheet3 (2)'!O42","v":9.8673018033344391E-3},{"$f":"CORREL($B$1:B42,$G$1:G42)","v":{"$error":"#N/A"}},{"$f":"'Sheet3 (2)'!Q42","v":-6.7819599864360862E-3},{"$f":"CORREL($B$1:B42,$I$1:I42)","v":{"$error":"#N/A"}},{"$f":"'Sheet3 (2)'!S42","v":1.8339100346020737E-2},{"$f":"CORREL($B$1:B42,$K$1:K42)","v":{"$error":"#N/A"}},{"$f":"'Sheet3 (2)'!U42","v":-1.5358361774744153E-2},{"$f":"CORREL($B$1:B42,$M$1:M42)","v":{"$error":"#N/A"}},{"$f":"'Sheet3 (2)'!W42","v":1.1740331491712795E-2},{"$f":"CORREL($B$1:B42,$O$1:O42)","v":{"$error":"#N/A"}},{"$f":"'Sheet3 (2)'!Y42","v":-1.7301038062284904E-3},{"$f":"CORREL($B$1:B42,$Q$1:Q42)","v":{"$error":"#N/A"}},{"$f":"'Sheet3 (2)'!AA42","v":-1.5358361774744153E-2},{"$f":"CORREL($B$1:B42,$S$1:S42)","v":{"$error":"#N/A"}}]
[null,{"$f":"'Sheet3 (2)'!I43","v":{"$error":"#N/A"}},{"$f":"'Sheet3 (2)'!K43","v":1.821247892074208E-2},{"$f":"CORREL($B$1:B43,$C$1:C43)","v":{"$error":"#N/A"}},{"$f":"'Sheet3 (2)'!M43","v":-3.374957813027415E-3},{"$f":"CORREL($B$1:B43,$E$1:E43)","v":{"$error":"#N/A"}},{"$f":"'Sheet3 (2)'!O43","v":9.1867982306907577E-3},{"$f":"CORREL($B$1:B43,$G$1:G43)","v":{"$error":"#N/A"}},{"$f":"'Sheet3 (2)'!Q43","v":-7.4601559850796199E-3},{"$f":"CORREL($B$1:B43,$I$1:I43)","v":{"$error":"#N/A"}},{"$f":"'Sheet3 (2)'!S43","v":1.6955017301038038E-2},{"$f":"CORREL($B$1:B43,$K$1:K43)","v":{"$error":"#N/A"}},{"$f":"'Sheet3 (2)'!U43","v":-1.5699658703071762E-2},{"$f":"CORREL($B$1:B43,$M$1:M43)","v":{"$error":"#N/A"}},{"$f":"'Sheet3 (2)'!W43","v":1.1049723756906087E-2},{"$f":"CORREL($B$1:B43,$O$1:O43)","v":{"$error":"#N/A"}},{"$f":"'Sheet3 (2)'!Y43","v":-2.0761245674741271E-3},{"$f":"CORREL($B$1:B43,$Q$1:Q43)","v":{"$error":"#N/A"}},{"$f":"'Sheet3 (2)'!AA43","v":-1.4334470989761179E-2},{"$f":"CORREL($B$1:B43,$S$1:S43)","v":{"$error":"#N/A"}}]
[null,{"$f":"'Sheet3 (2)'!I44","v":{"$error":"#N/A"}},{"$f":"'Sheet3 (2)'!K44","v":1.787521079258008E-2},{"$f":"CORREL($B$1:B44,$C$1:C44)","v":{"$error":"#N/A"}},{"$f":"'Sheet3 (2)'!M44","v":-3.374957813027415E-3},{"$f":"CORREL($B$1:B44,$E$1:E44)","v":{"$error":"#N/A"}},{"$f":"'Sheet3 (2)'!O44","v":1.020755358965628E-2},{"$f":"CORREL($B$1:B44,$G$1:G44)","v":{"$error":"#N/A"}},{"$f":"'Sheet3 (2)'!Q44","v":-7.121057985757853E-3},{"$f":"CORREL($B$1:B44,$I$1:I44)","v":{"$error":"#N/A"}},{"$f":"'Sheet3 (2)'!S44","v":1.6955017301038038E-2},{"$f":"CORREL($B$1:B44,$K$1:K44)","v":{"$error":"#N/A"}},{"$f":"'Sheet3 (2)'!U44","v":-1.5358361774744153E-2},{"$f":"CORREL($B$1:B44,$M$1:M44)","v":{"$error":"#N/A"}},{"$f":"'Sheet3 (2)'!W44","v":1.0704419889502811E-2},{"$f":"CORREL($B$1:B44,$O$1:O44)","v":{"$error":"#N/A"}},{"$f":"'Sheet3 (2)'!Y44","v":0},{"$f":"CORREL($B$1:B44,$Q$1:Q44)","v":{"$error":"#N/A"}},{"$f":"'Sheet3 (2)'!AA44","v":-1.2969283276450598E-2},{"$f":"CORREL($B$1:B44,$S$1:S44)","v":{"$error":"#N/A"}}]
[null,{"$f":"'Sheet3 (2)'!I45","v":{"$error":"#N/A"}},{"$f":"'Sheet3 (2)'!K45","v":1.821247892074208E-2},{"$f":"CORREL($B$1:B45,$C$1:C45)","v":{"$error":"#N/A"}},{"$f":"'Sheet3 (2)'!M45","v":-2.0249746878164788E-3},{"$f":"CORREL($B$1:B45,$E$1:E45)","v":{"$error":"#N/A"}},{"$f":"'Sheet3 (2)'!O45","v":1.1228308948621953E-2},{"$f":"CORREL($B$1:B45,$G$1:G45)","v":{"$error":"#N/A"}},{"$f":"'Sheet3 (2)'!Q45","v":-6.1037639877924025E-3},{"$f":"CORREL($B$1:B45,$I$1:I45)","v":{"$error":"#N/A"}},{"$f":"'Sheet3 (2)'!S45","v":1.6608996539792403E-2},{"$f":"CORREL($B$1:B45,$K$1:K45)","v":{"$error":"#N/A"}},{"$f":"'Sheet3 (2)'!U45","v":-1.5358361774744153E-2},{"$f":"CORREL($B$1:B45,$M$1:M45)","v":{"$error":"#N/A"}},{"$f":"'Sheet3 (2)'!W45","v":1.1395027624309365E-2},{"$f":"CORREL($B$1:B45,$O$1:O45)","v":{"$error":"#N/A"}},{"$f":"'Sheet3 (2)'!Y45","v":1.3840830449827002E-3},{"$f":"CORREL($B$1:B45,$Q$1:Q45)","v":{"$error":"#N/A"}},{"$f":"'Sheet3 (2)'!AA45","v":-1.1945392491467624E-2},{"$f":"CORREL($B$1:B45,$S$1:S45)","v":{"$error":"#N/A"}}]
[null,{"$f":"'Sheet3 (2)'!I46","v":{"$error":"#N/A"}},{"$f":"'Sheet3 (2)'!K46","v":1.787521079258008E-2},{"$f":"CORREL($B$1:B46,$C$1:C46)","v":{"$error":"#N/A"}},{"$f":"'Sheet3 (2)'!M46","v":-2.0249746878164788E-3},{"$f":"CORREL($B$1:B46,$E$1:E46)","v":{"$error":"#N/A"}},{"$f":"'Sheet3 (2)'!O46","v":1.2249064307587626E-2},{"$f":"CORREL($B$1:B46,$G$1:G46)","v":{"$error":"#N/A"}},{"$f":"'Sheet3 (2)'!Q46","v":-6.4428619871141693E-3},{"$f":"CORREL($B$1:B46,$I$1:I46)","v":{"$error":"#N/A"}},{"$f":"'Sheet3 (2)'!S46","v":1.5916955017300973E-2},{"$f":"CORREL($B$1:B46,$K$1:K46)","v":{"$error":"#N/A"}},{"$f":"'Sheet3 (2)'!U46","v":-1.5358361774744153E-2},{"$f":"CORREL($B$1:B46,$M$1:M46)","v":{"$error":"#N/A"}},{"$f":"'Sheet3 (2)'!W46","v":1.2085635359116071E-2},{"$f":"CORREL($B$1:B46,$O$1:O46)","v":{"$error":"#N/A"}},{"$f":"'Sheet3 (2)'!Y46","v":1.0380622837369098E-3},{"$f":"CORREL($B$1:B46,$Q$1:Q46)","v":{"$error":"#N/A"}},{"$f":"'Sheet3 (2)'!AA46","v":-1.3310580204778205E-2},{"$f":"CORREL($B$1:B46,$S$1:S46)","v":{"$error":"#N/A"}}]
[null,{"$f":"'Sheet3 (2)'!I47","v":{"$error":"#N/A"}},{"$f":"'Sheet3 (2)'!K47","v":1.7200674536256379E-2},{"$f":"CORREL($B$1:B47,$C$1:C47)","v":{"$error":"#N/A"}},{"$f":"'Sheet3 (2)'!M47","v":-1.6874789065136325E-3},{"$f":"CORREL($B$1:B47,$E$1:E47)","v":{"$error":"#N/A"}},{"$f":"'Sheet3 (2)'!O47","v":1.1908812521265785E-2},{"$f":"CORREL($B$1:B47,$G$1:G47)","v":{"$error":"#N/A"}},{"$f":"'Sheet3 (2)'!Q47","v":-6.1037639877924025E-3},{"$f":"CORREL($B$1:B47,$I$1:I47)","v":{"$error":"#N/A"}},{"$f":"'Sheet3 (2)'!S47","v":1.5916955017300973E-2},{"$f":"CORREL($B$1:B47,$K$1:K47)","v":{"$error":"#N/A"}},{"$f":"'Sheet3 (2)'!U47","v":-1.4675767918088787E-2},{"$f":"CORREL($B$1:B47,$M$1:M47)","v":{"$error":"#N/A"}},{"$f":"'Sheet3 (2)'!W47","v":1.3121546961326055E-2},{"$f":"CORREL($B$1:B47,$O$1:O47)","v":{"$error":"#N/A"}},{"$f":"'Sheet3 (2)'!Y47","v":1.0380622837369098E-3},{"$f":"CORREL($B$1:B47,$Q$1:Q47)","v":{"$error":"#N/A"}},{"$f":"'Sheet3 (2)'!AA47","v":-1.3651877133105813E-2},{"$f":"CORREL($B$1:B47,$S$1:S47)","v":{"$error":"#N/A"}}]
[null,{"$f":"'Sheet3 (2)'!I48","v":{"$error":"#N/A"}},{"$f":"'Sheet3 (2)'!K48","v":1.551433389544697E-2},{"$f":"CORREL($B$1:B48,$C$1:C48)","v":{"$error":"#N/A"}},{"$f":"'Sheet3 (2)'!M48","v":-1.6874789065136325E-3},{"$f":"CORREL($B$1:B48,$E$1:E48)","v":{"$error":"#N/A"}},{"$f":"'Sheet3 (2)'!O48","v":1.1568560734943794E-2},{"$f":"CORREL($B$1:B48,$G$1:G48)","v":{"$error":"#N/A"}},{"$f":"'Sheet3 (2)'!Q48","v":-5.4255679891488688E-3},{"$f":"CORREL($B$1:B48,$I$1:I48)","v":{"$error":"#N/A"}},{"$f":"'Sheet3 (2)'!S48","v":1.6262975778546612E-2},{"$f":"CORREL($B$1:B48,$K$1:K48)","v":{"$error":"#N/A"}},{"$f":"'Sheet3 (2)'!U48","v":-1.4675767918088787E-2},{"$f":"CORREL($B$1:B48,$M$1:M48)","v":{"$error":"#N/A"}},{"$f":"'Sheet3 (2)'!W48","v":1.4157458563535886E-2},{"$f":"CORREL($B$1:B48,$O$1:O48)","v":{"$error":"#N/A"}},{"$f":"'Sheet3 (2)'!Y48","v":1.3840830449827002E-3},{"$f":"CORREL($B$1:B48,$Q$1:Q48)","v":{"$error":"#N/A"}},{"$f":"'Sheet3 (2)'!AA48","v":-1.2969283276450598E-2},{"$f":"CORREL($B$1:B48,$S$1:S48)","v":{"$error":"#N/A"}}]
[null,{"$f":"'Sheet3 (2)'!I49","v":{"$error":"#N/A"}},{"$f":"'Sheet3 (2)'!K49","v":1.6188870151770673E-2},{"$f":"CORREL($B$1:B49,$C$1:C49)","v":{"$error":"#N/A"}},{"$f":"'Sheet3 (2)'!M49","v":-1.6874789065136325E-3},{"$f":"CORREL($B$1:B49,$E$1:E49)","v":{"$error":"#N/A"}},{"$f":"'Sheet3 (2)'!O49","v":1.0888057162300112E-2},{"$f":"CORREL($B$1:B49,$G$1:G49)","v":{"$error":"#N/A"}},{"$f":"'Sheet3 (2)'!Q49","v":-3.3909799932179681E-3},{"$f":"CORREL($B$1:B49,$I$1:I49)","v":{"$error":"#N/A"}},{"$f":"'Sheet3 (2)'!S49","v":1.487889273356391E-2},{"$f":"CORREL($B$1:B49,$K$1:K49)","v":{"$error":"#N/A"}},{"$f":"'Sheet3 (2)'!U49","v":-1.5699658703071762E-2},{"$f":"CORREL($B$1:B49,$M$1:M49)","v":{"$error":"#N/A"}},{"$f":"'Sheet3 (2)'!W49","v":1.2776243093922625E-2},{"$f":"CORREL($B$1:B49,$O$1:O49)","v":{"$error":"#N/A"}},{"$f":"'Sheet3 (2)'!Y49","v":1.0380622837369098E-3},{"$f":"CORREL($B$1:B49,$Q$1:Q49)","v":{"$error":"#N/A"}},{"$f":"'Sheet3 (2)'!AA49","v":-1.3310580204778205E-2},{"$f":"CORREL($B$1:B49,$S$1:S49)","v":{"$error":"#N/A"}}]
[null,{"$f":"'Sheet3 (2)'!I50","v":{"$error":"#N/A"}},{"$f":"'Sheet3 (2)'!K50","v":1.6188870151770673E-2},{"$f":"CORREL($B$1:B50,$C$1:C50)","v":{"$error":"#N/A"}},{"$f":"'Sheet3 (2)'!M50","v":-2.3624704691191756E-3},{"$f":"CORREL($B$1:B50,$E$1:E50)","v":{"$error":"#N/A"}},{"$f":"'Sheet3 (2)'!O50","v":1.0547805375978271E-2},{"$f":"CORREL($B$1:B50,$G$1:G50)","v":{"$error":"#N/A"}},{"$f":"'Sheet3 (2)'!Q50","v":-3.3909799932179681E-3},{"$f":"CORREL($B$1:B50,$I$1:I50)","v":{"$error":"#N/A"}},{"$f":"'Sheet3 (2)'!S50","v":1.487889273356391E-2},{"$f":"CORREL($B$1:B50,$K$1:K50)","v":{"$error":"#N/A"}},{"$f":"'Sheet3 (2)'!U50","v":-1.5017064846416395E-2},{"$f":"CORREL($B$1:B50,$M$1:M50)","v":{"$error":"#N/A"}},{"$f":"'Sheet3 (2)'!W50","v":1.4502762430939316E-2},{"$f":"CORREL($B$1:B50,$O$1:O50)","v":{"$error":"#N/A"}},{"$f":"'Sheet3 (2)'!Y50","v":2.0761245674739736E-3},{"$f":"CORREL($B$1:B50,$Q$1:Q50)","v":{"$error":"#N/A"}},{"$f":"'Sheet3 (2)'!AA50","v":-1.3993174061433572E-2},{"$f":"CORREL($B$1:B50,$S$1:S50)","v":{"$error":"#N/A"}}]
[null,{"$f":"'Sheet3 (2)'!I51","v":{"$error":"#N/A"}},{"$f":"'Sheet3 (2)'!K51","v":1.6526138279932524E-2},{"$f":"CORREL($B$1:B51,$C$1:C51)","v":{"$error":"#N/A"}},{"$f":"'Sheet3 (2)'!M51","v":-3.0374620317245686E-3},{"$f":"CORREL($B$1:B51,$E$1:E51)","v":{"$error":"#N/A"}},{"$f":"'Sheet3 (2)'!O51","v":1.020755358965628E-2},{"$f":"CORREL($B$1:B51,$G$1:G51)","v":{"$error":"#N/A"}},{"$f":"'Sheet3 (2)'!Q51","v":-3.7300779925397345E-3},{"$f":"CORREL($B$1:B51,$I$1:I51)","v":{"$error":"#N/A"}},{"$f":"'Sheet3 (2)'!S51","v":1.5916955017300973E-2},{"$f":"CORREL($B$1:B51,$K$1:K51)","v":{"$error":"#N/A"}},{"$f":"'Sheet3 (2)'!U51","v":-1.5358361774744153E-2},{"$f":"CORREL($B$1:B51,$M$1:M51)","v":{"$error":"#N/A"}},{"$f":"'Sheet3 (2)'!W51","v":1.5538674033149147E-2},{"$f":"CORREL($B$1:B51,$O$1:O51)","v":{"$error":"#N/A"}},{"$f":"'Sheet3 (2)'!Y51","v":1.7301038062283367E-3},{"$f":"CORREL($B$1:B51,$Q$1:Q51)","v":{"$error":"#N/A"}},{"$f":"'Sheet3 (2)'!AA51","v":-1.4675767918088787E-2},{"$f":"CORREL($B$1:B51,$S$1:S51)","v":{"$error":"#N/A"}}]
[null,{"$f":"'Sheet3 (2)'!I52","v":{"$error":"#N/A"}},{"$f":"'Sheet3 (2)'!K52","v":1.787521079258008E-2},{"$f":"CORREL($B$1:B52,$C$1:C52)","v":{"$error":"#N/A"}},{"$f":"'Sheet3 (2)'!M52","v":-1.6874789065136325E-3},{"$f":"CORREL($B$1:B52,$E$1:E52)","v":{"$error":"#N/A"}},{"$f":"'Sheet3 (2)'!O52","v":1.020755358965628E-2},{"$f":"CORREL($B$1:B52,$G$1:G52)","v":{"$error":"#N/A"}},{"$f":"'Sheet3 (2)'!Q52","v":-4.4082739911834182E-3},{"$f":"CORREL($B$1:B52,$I$1:I52)","v":{"$error":"#N/A"}},{"$f":"'Sheet3 (2)'!S52","v":1.487889273356391E-2},{"$f":"CORREL($B$1:B52,$K$1:K52)","v":{"$error":"#N/A"}},{"$f":"'Sheet3 (2)'!U52","v":-1.4675767918088787E-2},{"$f":"CORREL($B$1:B52,$M$1:M52)","v":{"$error":"#N/A"}},{"$f":"'Sheet3 (2)'!W52","v":1.3466850828729332E-2},{"$f":"CORREL($B$1:B52,$O$1:O52)","v":{"$error":"#N/A"}},{"$f":"'Sheet3 (2)'!Y52","v":1.3840830449827002E-3},{"$f":"CORREL($B$1:B52,$Q$1:Q52)","v":{"$error":"#N/A"}},{"$f":"'Sheet3 (2)'!AA52","v":-1.6040955631399369E-2},{"$f":"CORREL($B$1:B52,$S$1:S52)","v":{"$error":"#N/A"}}]
[null,{"$f":"'Sheet3 (2)'!I53","v":{"$error":"#N/A"}},{"$f":"'Sheet3 (2)'!K53","v":1.8549747048903935E-2},{"$f":"CORREL($B$1:B53,$C$1:C53)","v":{"$error":"#N/A"}},{"$f":"'Sheet3 (2)'!M53","v":-2.6999662504218719E-3},{"$f":"CORREL($B$1:B53,$E$1:E53)","v":{"$error":"#N/A"}},{"$f":"'Sheet3 (2)'!O53","v":9.5270500170125984E-3},{"$f":"CORREL($B$1:B53,$G$1:G53)","v":{"$error":"#N/A"}},{"$f":"'Sheet3 (2)'!Q53","v":-4.4082739911834182E-3},{"$f":"CORREL($B$1:B53,$I$1:I53)","v":{"$error":"#N/A"}},{"$f":"'Sheet3 (2)'!S53","v":1.7301038062283676E-2},{"$f":"CORREL($B$1:B53,$K$1:K53)","v":{"$error":"#N/A"}},{"$f":"'Sheet3 (2)'!U53","v":-1.3651877133105813E-2},{"$f":"CORREL($B$1:B53,$M$1:M53)","v":{"$error":"#N/A"}},{"$f":"'Sheet3 (2)'!W53","v":1.2085635359116071E-2},{"$f":"CORREL($B$1:B53,$O$1:O53)","v":{"$error":"#N/A"}},{"$f":"'Sheet3 (2)'!Y53","v":0},{"$f":"CORREL($B$1:B53,$Q$1:Q53)","v":{"$error":"#N/A"}},{"$f":"'Sheet3 (2)'!AA53","v":-1.6040955631399369E-2},{"$f":"CORREL($B$1:B53,$S$1:S53)","v":{"$error":"#N/A"}}]
[null,{"$f":"'Sheet3 (2)'!I54","v":{"$error":"#N/A"}},{"$f":"'Sheet3 (2)'!K54","v":1.821247892074208E-2},{"$f":"CORREL($B$1:B54,$C$1:C54)","v":{"$error":"#N/A"}},{"$f":"'Sheet3 (2)'!M54","v":-6.7499156260554299E-4},{"$f":"CORREL($B$1:B54,$E$1:E54)","v":{"$error":"#N/A"}},{"$f":"'Sheet3 (2)'!O54","v":6.8050357264375699E-3},{"$f":"CORREL($B$1:B54,$G$1:G54)","v":{"$error":"#N/A"}},{"$f":"'Sheet3 (2)'!Q54","v":-4.747371990505185E-3},{"$f":"CORREL($B$1:B54,$I$1:I54)","v":{"$error":"#N/A"}},{"$f":"'Sheet3 (2)'!S54","v":1.7301038062283676E-2},{"$f":"CORREL($B$1:B54,$K$1:K54)","v":{"$error":"#N/A"}},{"$f":"'Sheet3 (2)'!U54","v":-1.2969283276450598E-2},{"$f":"CORREL($B$1:B54,$M$1:M54)","v":{"$error":"#N/A"}},{"$f":"'Sheet3 (2)'!W54","v":1.3466850828729332E-2},{"$f":"CORREL($B$1:B54,$O$1:O54)","v":{"$error":"#N/A"}},{"$f":"'Sheet3 (2)'!Y54","v":-1.0380622837370635E-3},{"$f":"CORREL($B$1:B54,$Q$1:Q54)","v":{"$error":"#N/A"}},{"$f":"'Sheet3 (2)'!AA54","v":-1.6382252559726976E-2},{"$f":"CORREL($B$1:B54,$S$1:S54)","v":{"$error":"#N/A"}}]
[null,{"$f":"'Sheet3 (2)'!I55","v":{"$error":"#N/A"}},{"$f":"'Sheet3 (2)'!K55","v":1.9561551433389637E-2},{"$f":"CORREL($B$1:B55,$C$1:C55)","v":{"$error":"#N/A"}},{"$f":"'Sheet3 (2)'!M55","v":-3.3749578130269652E-4},{"$f":"CORREL($B$1:B55,$E$1:E55)","v":{"$error":"#N/A"}},{"$f":"'Sheet3 (2)'!O55","v":6.1245321537937375E-3},{"$f":"CORREL($B$1:B55,$G$1:G55)","v":{"$error":"#N/A"}},{"$f":"'Sheet3 (2)'!Q55","v":-5.7646659884706356E-3},{"$f":"CORREL($B$1:B55,$I$1:I55)","v":{"$error":"#N/A"}},{"$f":"'Sheet3 (2)'!S55","v":1.6262975778546612E-2},{"$f":"CORREL($B$1:B55,$K$1:K55)","v":{"$error":"#N/A"}},{"$f":"'Sheet3 (2)'!U55","v":-1.3310580204778205E-2},{"$f":"CORREL($B$1:B55,$M$1:M55)","v":{"$error":"#N/A"}},{"$f":"'Sheet3 (2)'!W55","v":1.4502762430939316E-2},{"$f":"CORREL($B$1:B55,$O$1:O55)","v":{"$error":"#N/A"}},{"$f":"'Sheet3 (2)'!Y55","v":1.7301038062283367E-3},{"$f":"CORREL($B$1:B55,$Q$1:Q55)","v":{"$error":"#N/A"}},{"$f":"'Sheet3 (2)'!AA55","v":-1.5699658703071762E-2},{"$f":"CORREL($B$1:B55,$S$1:S55)","v":{"$error":"#N/A"}}]
[null,{"$f":"'Sheet3 (2)'!I56","v":{"$error":"#N/A"}},{"$f":"'Sheet3 (2)'!K56","v":1.9224283305227637E-2},{"$f":"CORREL($B$1:B56,$C$1:C56)","v":{"$error":"#N/A"}},{"$f":"'Sheet3 (2)'!M56","v":-3.3749578130269652E-4},{"$f":"CORREL($B$1:B56,$E$1:E56)","v":{"$error":"#N/A"}},{"$f":"'Sheet3 (2)'!O56","v":8.1660428717250828E-3},{"$f":"CORREL($B$1:B56,$G$1:G56)","v":{"$error":"#N/A"}},{"$f":"'Sheet3 (2)'!Q56","v":-5.4255679891488688E-3},{"$f":"CORREL($B$1:B56,$I$1:I56)","v":{"$error":"#N/A"}},{"$f":"'Sheet3 (2)'!S56","v":1.6262975778546612E-2},{"$f":"CORREL($B$1:B56,$K$1:K56)","v":{"$error":"#N/A"}},{"$f":"'Sheet3 (2)'!U56","v":-1.3310580204778205E-2},{"$f":"CORREL($B$1:B56,$M$1:M56)","v":{"$error":"#N/A"}},{"$f":"'Sheet3 (2)'!W56","v":1.3121546961326055E-2},{"$f":"CORREL($B$1:B56,$O$1:O56)","v":{"$error":"#N/A"}},{"$f":"'Sheet3 (2)'!Y56","v":6.9204152249127324E-4},{"$f":"CORREL($B$1:B56,$Q$1:Q56)","v":{"$error":"#N/A"}},{"$f":"'Sheet3 (2)'!AA56","v":-1.6040955631399369E-2},{"$f":"CORREL($B$1:B56,$S$1:S56)","v":{"$error":"#N/A"}}]
[null,{"$f":"'Sheet3 (2)'!I57","v":{"$error":"#N/A"}},{"$f":"'Sheet3 (2)'!K57","v":1.787521079258008E-2},{"$f":"CORREL($B$1:B57,$C$1:C57)","v":{"$error":"#N/A"}},{"$f":"'Sheet3 (2)'!M57","v":-6.7499156260554299E-4},{"$f":"CORREL($B$1:B57,$E$1:E57)","v":{"$error":"#N/A"}},{"$f":"'Sheet3 (2)'!O57","v":7.1452875127594106E-3},{"$f":"CORREL($B$1:B57,$G$1:G57)","v":{"$error":"#N/A"}},{"$f":"'Sheet3 (2)'!Q57","v":-6.1037639877924025E-3},{"$f":"CORREL($B$1:B57,$I$1:I57)","v":{"$error":"#N/A"}},{"$f":"'Sheet3 (2)'!S57","v":1.6262975778546612E-2},{"$f":"CORREL($B$1:B57,$K$1:K57)","v":{"$error":"#N/A"}},{"$f":"'Sheet3 (2)'!U57","v":-1.2627986348122991E-2},{"$f":"CORREL($B$1:B57,$M$1:M57)","v":{"$error":"#N/A"}},{"$f":"'Sheet3 (2)'!W57","v":1.3121546961326055E-2},{"$f":"CORREL($B$1:B57,$O$1:O57)","v":{"$error":"#N/A"}},{"$f":"'Sheet3 (2)'!Y57","v":1.7301038062283367E-3},{"$f":"CORREL($B$1:B57,$Q$1:Q57)","v":{"$error":"#N/A"}},{"$f":"'Sheet3 (2)'!AA57","v":-1.5358361774744153E-2},{"$f":"CORREL($B$1:B57,$S$1:S57)","v":{"$error":"#N/A"}}]
[null,{"$f":"'Sheet3 (2)'!I58","v":{"$error":"#N/A"}},{"$f":"'Sheet3 (2)'!K58","v":1.6863406408094524E-2},{"$f":"CORREL($B$1:B58,$C$1:C58)","v":{"$error":"#N/A"}},{"$f":"'Sheet3 (2)'!M58","v":-3.3749578130269652E-4},{"$f":"CORREL($B$1:B58,$E$1:E58)","v":{"$error":"#N/A"}},{"$f":"'Sheet3 (2)'!O58","v":7.1452875127594106E-3},{"$f":"CORREL($B$1:B58,$G$1:G58)","v":{"$error":"#N/A"}},{"$f":"'Sheet3 (2)'!Q58","v":-6.4428619871141693E-3},{"$f":"CORREL($B$1:B58,$I$1:I58)","v":{"$error":"#N/A"}},{"$f":"'Sheet3 (2)'!S58","v":1.6262975778546612E-2},{"$f":"CORREL($B$1:B58,$K$1:K58)","v":{"$error":"#N/A"}},{"$f":"'Sheet3 (2)'!U58","v":-1.2286689419795232E-2},{"$f":"CORREL($B$1:B58,$M$1:M58)","v":{"$error":"#N/A"}},{"$f":"'Sheet3 (2)'!W58","v":1.3466850828729332E-2},{"$f":"CORREL($B$1:B58,$O$1:O58)","v":{"$error":"#N/A"}},{"$f":"'Sheet3 (2)'!Y58","v":1.3840830449827002E-3},{"$f":"CORREL($B$1:B58,$Q$1:Q58)","v":{"$error":"#N/A"}},{"$f":"'Sheet3 (2)'!AA58","v":-1.6382252559726976E-2},{"$f":"CORREL($B$1:B58,$S$1:S58)","v":{"$error":"#N/A"}}]
[null,{"$f":"'Sheet3 (2)'!I59","v":{"$error":"#N/A"}},{"$f":"'Sheet3 (2)'!K59","v":1.6863406408094524E-2},{"$f":"CORREL($B$1:B59,$C$1:C59)","v":{"$error":"#N/A"}},{"$f":"'Sheet3 (2)'!M59","v":3.3749578130269652E-4},{"$f":"CORREL($B$1:B59,$E$1:E59)","v":{"$error":"#N/A"}},{"$f":"'Sheet3 (2)'!O59","v":7.1452875127594106E-3},{"$f":"CORREL($B$1:B59,$G$1:G59)","v":{"$error":"#N/A"}},{"$f":"'Sheet3 (2)'!Q59","v":-5.4255679891488688E-3},{"$f":"CORREL($B$1:B59,$I$1:I59)","v":{"$error":"#N/A"}},{"$f":"'Sheet3 (2)'!S59","v":1.6262975778546612E-2},{"$f":"CORREL($B$1:B59,$K$1:K59)","v":{"$error":"#N/A"}},{"$f":"'Sheet3 (2)'!U59","v":-1.2286689419795232E-2},{"$f":"CORREL($B$1:B59,$M$1:M59)","v":{"$error":"#N/A"}},{"$f":"'Sheet3 (2)'!W59","v":1.2776243093922625E-2},{"$f":"CORREL($B$1:B59,$O$1:O59)","v":{"$error":"#N/A"}},{"$f":"'Sheet3 (2)'!Y59","v":2.0761245674739736E-3},{"$f":"CORREL($B$1:B59,$Q$1:Q59)","v":{"$error":"#N/A"}},{"$f":"'Sheet3 (2)'!AA59","v":-1.6040955631399369E-2},{"$f":"CORREL($B$1:B59,$S$1:S59)","v":{"$error":"#N/A"}}]
[null,{"$f":"'Sheet3 (2)'!I60","v":{"$error":"#N/A"}},{"$f":"'Sheet3 (2)'!K60","v":1.753794266441823E-2},{"$f":"CORREL($B$1:B60,$C$1:C60)","v":{"$error":"#N/A"}},{"$f":"'Sheet3 (2)'!M60","v":-3.3749578130269652E-4},{"$f":"CORREL($B$1:B60,$E$1:E60)","v":{"$error":"#N/A"}},{"$f":"'Sheet3 (2)'!O60","v":5.4440285811500561E-3},{"$f":"CORREL($B$1:B60,$G$1:G60)","v":{"$error":"#N/A"}},{"$f":"'Sheet3 (2)'!Q60","v":-4.4082739911834182E-3},{"$f":"CORREL($B$1:B60,$I$1:I60)","v":{"$error":"#N/A"}},{"$f":"'Sheet3 (2)'!S60","v":1.7993079584775102E-2},{"$f":"CORREL($B$1:B60,$K$1:K60)","v":{"$error":"#N/A"}},{"$f":"'Sheet3 (2)'!U60","v":-1.2286689419795232E-2},{"$f":"CORREL($B$1:B60,$M$1:M60)","v":{"$error":"#N/A"}},{"$f":"'Sheet3 (2)'!W60","v":1.3466850828729332E-2},{"$f":"CORREL($B$1:B60,$O$1:O60)","v":{"$error":"#N/A"}},{"$f":"'Sheet3 (2)'!Y60","v":2.7681660899654004E-3},{"$f":"CORREL($B$1:B60,$Q$1:Q60)","v":{"$error":"#N/A"}},{"$f":"'Sheet3 (2)'!AA60","v":-1.5358361774744153E-2},{"$f":"CORREL($B$1:B60,$S$1:S60)","v":{"$error":"#N/A"}}]
[null,{"$f":"'Sheet3 (2)'!I61","v":{"$error":"#N/A"}},{"$f":"'Sheet3 (2)'!K61","v":1.821247892074208E-2},{"$f":"CORREL($B$1:B61,$C$1:C61)","v":{"$error":"#N/A"}},{"$f":"'Sheet3 (2)'!M61","v":0},{"$f":"CORREL($B$1:B61,$E$1:E61)","v":{"$error":"#N/A"}},{"$f":"'Sheet3 (2)'!O61","v":5.4440285811500561E-3},{"$f":"CORREL($B$1:B61,$G$1:G61)","v":{"$error":"#N/A"}},{"$f":"'Sheet3 (2)'!Q61","v":-4.4082739911834182E-3},{"$f":"CORREL($B$1:B61,$I$1:I61)","v":{"$error":"#N/A"}},{"$f":"'Sheet3 (2)'!S61","v":1.7301038062283676E-2},{"$f":"CORREL($B$1:B61,$K$1:K61)","v":{"$error":"#N/A"}},{"$f":"'Sheet3 (2)'!U61","v":-1.2286689419795232E-2},{"$f":"CORREL($B$1:B61,$M$1:M61)","v":{"$error":"#N/A"}},{"$f":"'Sheet3 (2)'!W61","v":1.2776243093922625E-2},{"$f":"CORREL($B$1:B61,$O$1:O61)","v":{"$error":"#N/A"}},{"$f":"'Sheet3 (2)'!Y61","v":6.9204152249127324E-4},{"$f":"CORREL($B$1:B61,$Q$1:Q61)","v":{"$error":"#N/A"}},{"$f":"'Sheet3 (2)'!AA61","v":-1.5699658703071762E-2},{"$f":"CORREL($B$1:B61,$S$1:S61)","v":{"$error":"#N/A"}}]
[null,{"$f":"'Sheet3 (2)'!I62","v":{"$error":"#N/A"}},{"$f":"'Sheet3 (2)'!K62","v":1.8549747048903935E-2},{"$f":"CORREL($B$1:B62,$C$1:C62)","v":{"$error":"#N/A"}},{"$f":"'Sheet3 (2)'!M62","v":-1.0124873439082394E-3},{"$f":"CORREL($B$1:B62,$E$1:E62)","v":{"$error":"#N/A"}},{"$f":"'Sheet3 (2)'!O62","v":5.7842803674718968E-3},{"$f":"CORREL($B$1:B62,$G$1:G62)","v":{"$error":"#N/A"}},{"$f":"'Sheet3 (2)'!Q62","v":-4.747371990505185E-3},{"$f":"CORREL($B$1:B62,$I$1:I62)","v":{"$error":"#N/A"}},{"$f":"'Sheet3 (2)'!S62","v":1.7993079584775102E-2},{"$f":"CORREL($B$1:B62,$K$1:K62)","v":{"$error":"#N/A"}},{"$f":"'Sheet3 (2)'!U62","v":-1.3993174061433572E-2},{"$f":"CORREL($B$1:B62,$M$1:M62)","v":{"$error":"#N/A"}},{"$f":"'Sheet3 (2)'!W62","v":1.381215469613261E-2},{"$f":"CORREL($B$1:B62,$O$1:O62)","v":{"$error":"#N/A"}},{"$f":"'Sheet3 (2)'!Y62","v":1.0380622837369098E-3},{"$f":"CORREL($B$1:B62,$Q$1:Q62)","v":{"$error":"#N/A"}},{"$f":"'Sheet3 (2)'!AA62","v":-1.5017064846416395E-2},{"$f":"CORREL($B$1:B62,$S$1:S62)","v":{"$error":"#N/A"}}]
[null,{"$f":"'Sheet3 (2)'!I63","v":{"$error":"#N/A"}},{"$f":"'Sheet3 (2)'!K63","v":1.8549747048903935E-2},{"$f":"CORREL($B$1:B63,$C$1:C63)","v":{"$error":"#N/A"}},{"$f":"'Sheet3 (2)'!M63","v":-1.6874789065136325E-3},{"$f":"CORREL($B$1:B63,$E$1:E63)","v":{"$error":"#N/A"}},{"$f":"'Sheet3 (2)'!O63","v":7.8257910854032421E-3},{"$f":"CORREL($B$1:B63,$G$1:G63)","v":{"$error":"#N/A"}},{"$f":"'Sheet3 (2)'!Q63","v":-3.3909799932179681E-3},{"$f":"CORREL($B$1:B63,$I$1:I63)","v":{"$error":"#N/A"}},{"$f":"'Sheet3 (2)'!S63","v":1.7647058823529311E-2},{"$f":"CORREL($B$1:B63,$K$1:K63)","v":{"$error":"#N/A"}},{"$f":"'Sheet3 (2)'!U63","v":-1.3310580204778205E-2},{"$f":"CORREL($B$1:B63,$M$1:M63)","v":{"$error":"#N/A"}},{"$f":"'Sheet3 (2)'!W63","v":1.381215469613261E-2},{"$f":"CORREL($B$1:B63,$O$1:O63)","v":{"$error":"#N/A"}},{"$f":"'Sheet3 (2)'!Y63","v":6.9204152249127324E-4},{"$f":"CORREL($B$1:B63,$Q$1:Q63)","v":{"$error":"#N/A"}},{"$f":"'Sheet3 (2)'!AA63","v":-1.5699658703071762E-2},{"$f":"CORREL($B$1:B63,$S$1:S63)","v":{"$error":"#N/A"}}]
[null,{"$f":"'Sheet3 (2)'!I64","v":{"$error":"#N/A"}},{"$f":"'Sheet3 (2)'!K64","v":1.9561551433389637E-2},{"$f":"CORREL($B$1:B64,$C$1:C64)","v":{"$error":"#N/A"}},{"$f":"'Sheet3 (2)'!M64","v":-1.6874789065136325E-3},{"$f":"CORREL($B$1:B64,$E$1:E64)","v":{"$error":"#N/A"}},{"$f":"'Sheet3 (2)'!O64","v":8.5062946580469236E-3},{"$f":"CORREL($B$1:B64,$G$1:G64)","v":{"$error":"#N/A"}},{"$f":"'Sheet3 (2)'!Q64","v":-3.0518819938962012E-3},{"$f":"CORREL($B$1:B64,$I$1:I64)","v":{"$error":"#N/A"}},{"$f":"'Sheet3 (2)'!S64","v":1.9377162629757801E-2},{"$f":"CORREL($B$1:B64,$K$1:K64)","v":{"$error":"#N/A"}},{"$f":"'Sheet3 (2)'!U64","v":-1.4334470989761179E-2},{"$f":"CORREL($B$1:B64,$M$1:M64)","v":{"$error":"#N/A"}},{"$f":"'Sheet3 (2)'!W64","v":1.3466850828729332E-2},{"$f":"CORREL($B$1:B64,$O$1:O64)","v":{"$error":"#N/A"}},{"$f":"'Sheet3 (2)'!Y64","v":2.0761245674739736E-3},{"$f":"CORREL($B$1:B64,$Q$1:Q64)","v":{"$error":"#N/A"}},{"$f":"'Sheet3 (2)'!AA64","v":-1.6040955631399369E-2},{"$f":"CORREL($B$1:B64,$S$1:S64)","v":{"$error":"#N/A"}}]
[null,{"$f":"'Sheet3 (2)'!I65","v":{"$error":"#N/A"}},{"$f":"'Sheet3 (2)'!K65","v":1.8887015177065786E-2},{"$f":"CORREL($B$1:B65,$C$1:C65)","v":{"$error":"#N/A"}},{"$f":"'Sheet3 (2)'!M65","v":-2.3624704691191756E-3},{"$f":"CORREL($B$1:B65,$E$1:E65)","v":{"$error":"#N/A"}},{"$f":"'Sheet3 (2)'!O65","v":8.8465464443687643E-3},{"$f":"CORREL($B$1:B65,$G$1:G65)","v":{"$error":"#N/A"}},{"$f":"'Sheet3 (2)'!Q65","v":-3.3909799932179681E-3},{"$f":"CORREL($B$1:B65,$I$1:I65)","v":{"$error":"#N/A"}},{"$f":"'Sheet3 (2)'!S65","v":1.972318339100344E-2},{"$f":"CORREL($B$1:B65,$K$1:K65)","v":{"$error":"#N/A"}},{"$f":"'Sheet3 (2)'!U65","v":-1.4675767918088787E-2},{"$f":"CORREL($B$1:B65,$M$1:M65)","v":{"$error":"#N/A"}},{"$f":"'Sheet3 (2)'!W65","v":1.2776243093922625E-2},{"$f":"CORREL($B$1:B65,$O$1:O65)","v":{"$error":"#N/A"}},{"$f":"'Sheet3 (2)'!Y65","v":1.7301038062283367E-3},{"$f":"CORREL($B$1:B65,$Q$1:Q65)","v":{"$error":"#N/A"}},{"$f":"'Sheet3 (2)'!AA65","v":-1.5358361774744153E-2},{"$f":"CORREL($B$1:B65,$S$1:S65)","v":{"$error":"#N/A"}}]
[null,{"$f":"'Sheet3 (2)'!I66","v":{"$error":"#N/A"}},{"$f":"'Sheet3 (2)'!K66","v":1.9224283305227637E-2},{"$f":"CORREL($B$1:B66,$C$1:C66)","v":{"$error":"#N/A"}},{"$f":"'Sheet3 (2)'!M66","v":6.7499156260539305E-4},{"$f":"CORREL($B$1:B66,$E$1:E66)","v":{"$error":"#N/A"}},{"$f":"'Sheet3 (2)'!O66","v":8.1660428717250828E-3},{"$f":"CORREL($B$1:B66,$G$1:G66)","v":{"$error":"#N/A"}},{"$f":"'Sheet3 (2)'!Q66","v":-3.3909799932179681E-3},{"$f":"CORREL($B$1:B66,$I$1:I66)","v":{"$error":"#N/A"}},{"$f":"'Sheet3 (2)'!S66","v":2.0415224913494713E-2},{"$f":"CORREL($B$1:B66,$K$1:K66)","v":{"$error":"#N/A"}},{"$f":"'Sheet3 (2)'!U66","v":-1.3651877133105813E-2},{"$f":"CORREL($B$1:B66,$M$1:M66)","v":{"$error":"#N/A"}},{"$f":"'Sheet3 (2)'!W66","v":1.1740331491712795E-2},{"$f":"CORREL($B$1:B66,$O$1:O66)","v":{"$error":"#N/A"}},{"$f":"'Sheet3 (2)'!Y66","v":2.0761245674739736E-3},{"$f":"CORREL($B$1:B66,$Q$1:Q66)","v":{"$error":"#N/A"}},{"$f":"'Sheet3 (2)'!AA66","v":-1.3651877133105813E-2},{"$f":"CORREL($B$1:B66,$S$1:S66)","v":{"$error":"#N/A"}}]
[]
[]
[]
[]
[]
[]
[]
[]
[]
[]
[]
[]
[]
[]
[]
[null,null,null,{"$f":"'Sheet3 (2)'!C2","v":"2018-06-15"},null,{"$f":"'Sheet3 (2)'!C3","v":"2018-06-14"},null,{"$f":"'Sheet3 (2)'!C4","v":"2018-06-13"},null,{"$f":"'Sheet3 (2)'!C5","v":"2018-06-12"},null,{"$f":"'Sheet3 (2)'!C6","v":"2018-06-11"},null,{"$f":"'Sheet3 (2)'!C7","v":"2018-06-08"},null,{"$f":"'Sheet3 (2)'!C8","v":"2018-06-07"},null,{"$f":"'Sheet3 (2)'!C9","v":"2018-06-06"},null,{"$f":"'Sheet3 (2)'!C10","v":"2018-06-05"}]
[null,null,null,{"$f":"LOOKUP(2,1/(ISNUMBER(D1:D66)),D1:D66)","v":0.68524828886418443},null,{"$f":"LOOKUP(2,1/(ISNUMBER(F1:F66)),F1:F66)","v":-0.68806246205618526},null,{"$f":"LOOKUP(2,1/(ISNUMBER(H1:H81)),H1:H81)","v":0.27844504946151027},null,{"$f":"LOOKUP(2,1/(ISNUMBER(J1:J81)),J1:J81)","v":6.7189766434104001E-2},null,{"$f":"LOOKUP(2,1/(ISNUMBER(L1:L81)),L1:L81)","v":-0.64406118871952112},null,{"$f":"LOOKUP(2,1/(ISNUMBER(N1:N81)),N1:N81)","v":0.40371338363256037},null,{"$f":"LOOKUP(2,1/(ISNUMBER(P1:P81)),P1:P81)","v":-0.29959408992840458},null,{"$f":"LOOKUP(2,1/(ISNUMBER(R1:R81)),R1:R81)","v":0.30379163976911894},null,{"$f":"LOOKUP(2,1/(ISNUMBER(T1:T81)),T1:T81)","v":0.25371767612057844}]
[]
[null,null,{"$f":"RANK(D85,$D$85:$D$93,0)+COUNTIF($D$85:D85,D85)-1","v":1},{"$f":"D83","v":0.68524828886418443},{"$f":"D82","v":"2018-06-15"},{"$f":"RANK(D85,$D$85:$D$93,0)+COUNTIF($D$85:D85,D85)-1","v":1},{"$f":"VLOOKUP(1,C85:E93,3,FALSE)","v":"2018-06-15"},{"$f":"VLOOKUP(1,C85:E93,2,FALSE)","v":0.68524828886418443},{"$f":"IFERROR(VLOOKUP(G85,Sheet3!AK1:AN10,4,FALSE),1)","v":1}]
[null,null,{"$f":"RANK(D86,$D$85:$D$93,0)+COUNTIF($D$85:D86,D86)-1","v":9},{"$f":"F83","v":-0.68806246205618526},{"$f":"F82","v":"2018-06-14"},{"$f":"RANK(D86,$D$85:$D$93,0)+COUNTIF($D$85:D86,D86)-1","v":9},{"$f":"VLOOKUP(2,C85:E93,3,FALSE)","v":"2018-06-08"},{"$f":"VLOOKUP(2,C85:E93,2,FALSE)","v":0.40371338363256037}]
[null,null,{"$f":"RANK(D87,$D$85:$D$93,0)+COUNTIF($D$85:D87,D87)-1","v":4},{"$f":"H83","v":0.27844504946151027},{"$f":"H82","v":"2018-06-13"},{"$f":"RANK(D87,$D$85:$D$93,0)+COUNTIF($D$85:D87,D87)-1","v":4},{"$f":"VLOOKUP(3,C85:E93,3,FALSE)","v":"2018-06-06"},{"$f":"VLOOKUP(3,C85:E93,2,FALSE)","v":0.30379163976911894}]
[null,null,{"$f":"RANK(D88,$D$85:$D$93,0)+COUNTIF($D$85:D88,D88)-1","v":6},{"$f":"J83","v":6.7189766434104001E-2},{"$f":"J82","v":"2018-06-12"},{"$f":"RANK(D88,$D$85:$D$93,0)+COUNTIF($D$85:D88,D88)-1","v":6},{"$f":"VLOOKUP(4,C85:E93,3,FALSE)","v":"2018-06-13"},{"$f":"VLOOKUP(4,C85:E93,2,FALSE)","v":0.27844504946151027}]
[null,null,{"$f":"RANK(D89,$D$85:$D$93,0)+COUNTIF($D$85:D89,D89)-1","v":8},{"$f":"L83","v":-0.64406118871952112},{"$f":"L82","v":"2018-06-11"},{"$f":"RANK(D89,$D$85:$D$93,0)+COUNTIF($D$85:D89,D89)-1","v":8},{"$f":"VLOOKUP(5,C85:E93,3,FALSE)","v":"2018-06-05"},{"$f":"VLOOKUP(5,C85:E93,2,FALSE)","v":0.25371767612057844}]
[null,null,{"$f":"RANK(D90,$D$85:$D$93,0)+COUNTIF($D$85:D90,D90)-1","v":2},{"$f":"N83","v":0.40371338363256037},{"$f":"N82","v":"2018-06-08"},{"$f":"RANK(D90,$D$85:$D$93,0)+COUNTIF($D$85:D90,D90)-1","v":2},{"$f":"VLOOKUP(6,C85:E93,3,FALSE)","v":"2018-06-12"},{"$f":"VLOOKUP(6,C85:E93,2,FALSE)","v":6.7189766434104001E-2}]
[null,null,{"$f":"RANK(D91,$D$85:$D$93,0)+COUNTIF($D$85:D91,D91)-1","v":7},{"$f":"P83","v":-0.29959408992840458},{"$f":"P82","v":"2018-06-07"},{"$f":"RANK(D91,$D$85:$D$93,0)+COUNTIF($D$85:D91,D91)-1","v":7},{"$f":"VLOOKUP(7,C85:E93,3,FALSE)","v":"2018-06-07"},{"$f":"VLOOKUP(7,C85:E93,2,FALSE)","v":-0.29959408992840458}]
[null,null,{"$f":"RANK(D92,$D$85:$D$93,0)+COUNTIF($D$85:D92,D92)-1","v":3},{"$f":"R83","v":0.30379163976911894},{"$f":"R82","v":"2018-06-06"},{"$f":"RANK(D92,$D$85:$D$93,0)+COUNTIF($D$85:D92,D92)-1","v":3},{"$f":"VLOOKUP(8,C85:E93,3,FALSE)","v":"2018-06-11"},{"$f":"VLOOKUP(8,C85:E93,2,FALSE)","v":-0.64406118871952112}]
[null,null,{"$f":"RANK(D93,$D$85:$D$93,0)+COUNTIF($D$85:D93,D93)-1","v":5},{"$f":"T83","v":0.25371767612057844},{"$f":"T82","v":"2018-06-05"},{"$f":"RANK(D93,$D$85:$D$93,0)+COUNTIF($D$85:D93,D93)-1","v":5},{"$f":"VLOOKUP(9,C85:E93,3,FALSE)","v":"2018-06-14"},{"$f":"VLOOKUP(9,C85:E93,2,FALSE)","v":-0.68806246205618526}]

{"sheet":"Sheet3 (3)","index":5,"n_rows":87,"n_cols":40,"rows_kept":87,"cut":false,"hidden":true,"merged":[]}
[180,"08:00:00",{"$f":"IF(WEEKDAY(TODAY())=7,TODAY()-1,IF(WEEKDAY(TODAY())=1,TODAY()-2,TODAY()))","v":"2018-06-18"},{"$f":"YEAR(C1)","v":2018},{"$f":"MONTH(C1)","v":6},{"$f":"DAY(C1)","v":18},{"$f":"IF(RTD(\"cqg.rtd\",,\"StudyData\",$D$12,\"Bar\",,\"Time\",\"D\",\"-1\",,,,,\"T\")=C1,1,0)","v":0},{"$f":"RTD(\"cqg.rtd\",,\"StudyData\", \"Close(\"&$D$12&\") when LocalYear(\"&$D$12&\")=\"&$D$1&\" and localMonth(\"&$D$12&\") =\"&$E$1&\" and LocalDay(\"&$D$12&\")=\"&$F$1&\" and Barix(\"&$D$12&\",reference:=StartOfSession)=\"&A1&\"\", \"Bar\", \"\", \"Close\",\"5\",\"0\",,,,\"False\",\"T\",\"EveryTick\")","v":1.1687000000000001},{"$f":"IFERROR((H1-$G$2)/$G$2,NA())","v":8.5572479890457789E-5},{"$f":"RTD(\"cqg.rtd\",,\"StudyData\", \"Close(\"&$D$12&\") when LocalYear(\"&$D$12&\")=\"&$D$2&\" and localMonth(\"&$D$12&\") =\"&$E$2&\" and LocalDay(\"&$D$12&\")=\"&$F$2&\" and Barix(\"&$D$12&\",reference:=StartOfSession)=\"&A1&\"\", \"Bar\", \"\", \"Close\",\"5\",\"0\",\"PrimaryOnly\",,,\"False\",\"T\",\"EveryTick\")","v":1.1689499999999999},{"$f":"IFERROR((J1-$G$3)/$G$3,NA())","v":1.4564146498179781E-3},{"$f":"RTD(\"cqg.rtd\",,\"StudyData\", \"Close(\"&$D$12&\") when LocalYear(\"&$D$12&\")=\"&$D$3&\" and localMonth(\"&$D$12&\") =\"&$E$3&\" and LocalDay(\"&$D$12&\")=\"&$F$3&\" and Barix(\"&$D$12&\",reference:=StartOfSession)=\"&A1&\"\", \"Bar\", \"\", \"Close\",\"5\",\"0\",\"PrimaryOnly\",,,\"False\",\"T\",\"EveryTick\")","v":1.1763999999999999},{"$f":"IFERROR((L1-$G$4)/$G$4,NA())","v":-7.9689674073450938E-3},{"$f":"RTD(\"cqg.rtd\",,\"StudyData\", \"Close(\"&$D$12&\") when LocalYear(\"&$D$12&\")=\"&$D$4&\" and localMonth(\"&$D$12&\") =\"&$E$4&\" and LocalDay(\"&$D$12&\")=\"&$F$4&\" and Barix(\"&$D$12&\",reference:=StartOfSession)=\"&A1&\"\", \"Bar\", \"\", \"Close\",\"5\",\"0\",\"PrimaryOnly\",,,\"False\",\"T\",\"EveryTick\")","v":1.18605},{"$f":"IFERROR((N1-$G$5)/$G$5,NA())","v":2.0699560662386478E-3},{"$f":"RTD(\"cqg.rtd\",,\"StudyData\", \"Close(\"&$D$12&\") when LocalYear(\"&$D$12&\")=\"&$D$5&\" and localMonth(\"&$D$12&\") =\"&$E$5&\" and LocalDay(\"&$D$12&\")=\"&$F$5&\" and Barix(\"&$D$12&\",reference:=StartOfSession)=\"&A1&\"\", \"Bar\", \"\", \"Close\",\"5\",\"0\",\"PrimaryOnly\",,,\"False\",\"T\",\"EveryTick\")","v":1.1886000000000001},{"$f":"IFERROR((P1-$G$6)/$G$6,NA())","v":8.4203435500177827E-4},{"$f":"RTD(\"cqg.rtd\",,\"StudyData\", \"Close(\"&$D$12&\") when LocalYear(\"&$D$12&\")=\"&$D$6&\" and localMonth(\"&$D$12&\") =\"&$E$6&\" and LocalDay(\"&$D$12&\")=\"&$F$6&\" and Barix(\"&$D$12&\",reference:=StartOfSession)=\"&A1&\"\", \"Bar\", \"\", \"Close\",\"5\",\"0\",\"PrimaryOnly\",,,\"False\",\"T\",\"EveryTick\")","v":1.18865},{"$f":"IFERROR((R1-$G$7)/$G$7,NA())","v":2.2344013490725474E-3},{"$f":"RTD(\"cqg.rtd\",,\"StudyData\", \"Close(\"&$D$12&\") when LocalYear(\"&$D$12&\")=\"&$D$7&\" and localMonth(\"&$D$12&\") =\"&$E$7&\" and LocalDay(\"&$D$12&\")=\"&$F$7&\" and Barix(\"&$D$12&\",reference:=StartOfSession)=\"&A1&\"\", \"Bar\", \"\", \"Close\",\"5\",\"0\",\"PrimaryOnly\",,,\"False\",\"T\",\"EveryTick\")","v":1.1838500000000001},{"$f":"IFERROR((T1-$G$8)/$G$8,NA())","v":-5.000840477391074E-3},{"$f":"RTD(\"cqg.rtd\",,\"StudyData\", \"Close(\"&$D$12&\") when LocalYear(\"&$D$12&\")=\"&$D$8&\" and localMonth(\"&$D$12&\") =\"&$E$8&\" and LocalDay(\"&$D$12&\")=\"&$F$8&\" and Barix(\"&$D$12&\",reference:=StartOfSession)=\"&A1&\"\", \"Bar\", \"\", \"Close\",\"5\",\"0\",\"PrimaryOnly\",,,\"False\",\"T\",\"EveryTick\")","v":1.1921999999999999},{"$f":"IFERROR((V1-$G$9)/$G$9,NA())","v":5.1852788668267594E-3},{"$f":"RTD(\"cqg.rtd\",,\"StudyData\", \"Close(\"&$D$12&\") when LocalYear(\"&$D$12&\")=\"&$D$9&\" and localMonth(\"&$D$12&\") =\"&$E$9&\" and LocalDay(\"&$D$12&\")=\"&$F$9&\" and Barix(\"&$D$12&\",reference:=StartOfSession)=\"&A1&\"\", \"Bar\", \"\", \"Close\",\"5\",\"0\",\"PrimaryOnly\",,,\"False\",\"T\",\"EveryTick\")","v":1.1859500000000001},{"$f":"IFERROR((X1-$G$10)/$G$10,NA())","v":4.5315941046925002E-3},{"$f":"RTD(\"cqg.rtd\",,\"StudyData\", \"Close(\"&$D$12&\") when LocalYear(\"&$D$12&\")=\"&$D$10&\" and localMonth(\"&$D$12&\") =\"&$E$10&\" and LocalDay(\"&$D$12&\")=\"&$F$10&\" and Barix(\"&$D$12&\",reference:=StartOfSession)=\"&A1&\"\", \"Bar\", \"\", \"Close\",\"5\",\"0\",\"PrimaryOnly\",,,\"False\",\"T\",\"EveryTick\")","v":1.1753},{"$f":"IFERROR((Z1-$G$11)/$G$11,NA())","v":-3.2650638171563494E-3},{"$f":"RANK(AD1,$AD$1:$AD$10)+COUNTIF($AD$1:AD1,AD1)-1","v":7},{"$f":"DATE(D1,E1,F1)","v":"2018-06-18"},{"$f":"VLOOKUP(MAX(AE2:AE87),A1:I87,9,FALSE)","v":-4.7064863939761287E-4},null,1,{"$f":"VLOOKUP(AF1,$AB$1:$AD$10,2,FALSE)","v":"2018-06-06"},{"$f":"VLOOKUP(AF1,$AB$1:$AD$10,3,FALSE)","v":5.1668643062849342E-3},null,null,{"$f":"AG1","v":"2018-06-06"},{"$f":"AC1","v":"2018-06-18"},0,{"$f":"VLOOKUP(AK1,$AL$1:$AM$10,2,FALSE)","v":8}]
[{"$f":"A1+1","v":181},"08:05:00",{"$f":"WORKDAY(C1,-G27)","v":"2018-06-15"},{"$f":"YEAR(C2)","v":2018},{"$f":"MONTH(C2)","v":6},{"$f":"DAY(C2)","v":15},{"$f":"IF(G1=0,RTD(\"cqg.rtd\",,\"StudyData\",$D$12,\"Bar\",,\"Close\",\"D\",\"-1\",,,,,\"T\"),RTD(\"cqg.rtd\",,\"StudyData\",$D$12,\"Bar\",,\"Close\",\"D\",\"-2\",,,,,\"T\"))","v":1.1686000000000001},{"$f":"RTD(\"cqg.rtd\",,\"StudyData\", \"Close(\"&$D$12&\") when LocalYear(\"&$D$12&\")=\"&$D$1&\" and localMonth(\"&$D$12&\") =\"&$E$1&\" and LocalDay(\"&$D$12&\")=\"&$F$1&\" and Barix(\"&$D$12&\",reference:=StartOfSession)=\"&A2&\"\", \"Bar\", \"\", \"Close\",\"5\",\"0\",,,,\"False\",\"T\",\"EveryTick\")","v":1.16855},{"$f":"IFERROR((H2-$G$2)/$G$2,NA())","v":-4.2786239945323904E-5},{"$f":"RTD(\"cqg.rtd\",,\"StudyData\", \"Close(\"&$D$12&\") when LocalYear(\"&$D$12&\")=\"&$D$2&\" and localMonth(\"&$D$12&\") =\"&$E$2&\" and LocalDay(\"&$D$12&\")=\"&$F$2&\" and Barix(\"&$D$12&\",reference:=StartOfSession)=\"&A2&\"\", \"Bar\", \"\", \"Close\",\"5\",\"0\",\"PrimaryOnly\",,,\"False\",\"T\",\"EveryTick\")","v":1.16835},{"$f":"IFERROR((J2-$G$3)/$G$3,NA())","v":9.4238594988228829E-4},{"$f":"RTD(\"cqg.rtd\",,\"StudyData\", \"Close(\"&$D$12&\") when LocalYear(\"&$D$12&\")=\"&$D$3&\" and localMonth(\"&$D$12&\") =\"&$E$3&\" and LocalDay(\"&$D$12&\")=\"&$F$3&\" and Barix(\"&$D$12&\",reference:=StartOfSession)=\"&A2&\"\", \"Bar\", \"\", \"Close\",\"5\",\"0\",\"PrimaryOnly\",,,\"False\",\"T\",\"EveryTick\")","v":1.1767000000000001},{"$f":"IFERROR((L2-$G$4)/$G$4,NA())","v":-7.71598431504827E-3},{"$f":"RTD(\"cqg.rtd\",,\"StudyData\", \"Close(\"&$D$12&\") when LocalYear(\"&$D$12&\")=\"&$D$4&\" and localMonth(\"&$D$12&\") =\"&$E$4&\" and LocalDay(\"&$D$12&\")=\"&$F$4&\" and Barix(\"&$D$12&\",reference:=StartOfSession)=\"&A2&\"\", \"Bar\", \"\", \"Close\",\"5\",\"0\",\"PrimaryOnly\",,,\"False\",\"T\",\"EveryTick\")","v":1.1862999999999999},{"$f":"IFERROR((N2-$G$5)/$G$5,NA())","v":2.2811760729975709E-3},{"$f":"RTD(\"cqg.rtd\",,\"StudyData\", \"Close(\"&$D$12&\") when LocalYear(\"&$D$12&\")=\"&$D$5&\" and localMonth(\"&$D$12&\") =\"&$E$5&\" and LocalDay(\"&$D$12&\")=\"&$F$5&\" and Barix(\"&$D$12&\",reference:=StartOfSession)=\"&A2&\"\", \"Bar\", \"\", \"Close\",\"5\",\"0\",\"PrimaryOnly\",,,\"False\",\"T\",\"EveryTick\")","v":1.18835},{"$f":"IFERROR((P2-$G$6)/$G$6,NA())","v":6.31525766251287E-4},{"$f":"RTD(\"cqg.rtd\",,\"StudyData\", \"Close(\"&$D$12&\") when LocalYear(\"&$D$12&\")=\"&$D$6&\" and localMonth(\"&$D$12&\") =\"&$E$6&\" and LocalDay(\"&$D$12&\")=\"&$F$6&\" and Barix(\"&$D$12&\",reference:=StartOfSession)=\"&A2&\"\", \"Bar\", \"\", \"Close\",\"5\",\"0\",\"PrimaryOnly\",,,\"False\",\"T\",\"EveryTick\")","v":1.1886000000000001},{"$f":"IFERROR((R2-$G$7)/$G$7,NA())","v":2.1922428330524097E-3},{"$f":"RTD(\"cqg.rtd\",,\"StudyData\", \"Close(\"&$D$12&\") when LocalYear(\"&$D$12&\")=\"&$D$7&\" and localMonth(\"&$D$12&\") =\"&$E$7&\" and LocalDay(\"&$D$12&\")=\"&$F$7&\" and Barix(\"&$D$12&\",reference:=StartOfSession)=\"&A2&\"\", \"Bar\", \"\", \"Close\",\"5\",\"0\",\"PrimaryOnly\",,,\"False\",\"T\",\"EveryTick\")","v":1.18405},{"$f":"IFERROR((T2-$G$8)/$G$8,NA())","v":-4.8327449991594574E-3},{"$f":"RTD(\"cqg.rtd\",,\"StudyData\", \"Close(\"&$D$12&\") when LocalYear(\"&$D$12&\")=\"&$D$8&\" and localMonth(\"&$D$12&\") =\"&$E$8&\" and LocalDay(\"&$D$12&\")=\"&$F$8&\" and Barix(\"&$D$12&\",reference:=StartOfSession)=\"&A2&\"\", \"Bar\", \"\", \"Close\",\"5\",\"0\",\"PrimaryOnly\",,,\"False\",\"T\",\"EveryTick\")","v":1.1920500000000001},{"$f":"IFERROR((V2-$G$9)/$G$9,NA())","v":5.0588086505627969E-3},{"$f":"RTD(\"cqg.rtd\",,\"StudyData\", \"Close(\"&$D$12&\") when LocalYear(\"&$D$12&\")=\"&$D$9&\" and localMonth(\"&$D$12&\") =\"&$E$9&\" and LocalDay(\"&$D$12&\")=\"&$F$9&\" and Barix(\"&$D$12&\",reference:=StartOfSession)=\"&A2&\"\", \"Bar\", \"\", \"Close\",\"5\",\"0\",\"PrimaryOnly\",,,\"False\",\"T\",\"EveryTick\")","v":1.1866000000000001},{"$f":"IFERROR((X2-$G$10)/$G$10,NA())","v":5.082161612739289E-3},{"$f":"RTD(\"cqg.rtd\",,\"StudyData\", \"Close(\"&$D$12&\") when LocalYear(\"&$D$12&\")=\"&$D$10&\" and localMonth(\"&$D$12&\") =\"&$E$10&\" and LocalDay(\"&$D$12&\")=\"&$F$10&\" and Barix(\"&$D$12&\",reference:=StartOfSession)=\"&A2&\"\", \"Bar\", \"\", \"Close\",\"5\",\"0\",\"PrimaryOnly\",,,\"False\",\"T\",\"EveryTick\")","v":1.1756},{"$f":"IFERROR((Z2-$G$11)/$G$11,NA())","v":-3.0106432599753571E-3},{"$f":"RANK(AD2,$AD$1:$AD$10)+COUNTIF($AD$1:AD2,AD2)-1","v":4},{"$f":"DATE(D2,E2,F2)","v":"2018-06-15"},{"$f":"VLOOKUP(MAX(AE2:AE87),A1:K87,11,FALSE)","v":2.0561147997431397E-3},{"$f":"IF(AND(H1<>\"\",H2<>\"\",H3=\"\"),A2,\"\")","v":""},2,{"$f":"VLOOKUP(AF2,$AB$1:$AD$10,2,FALSE)","v":"2018-06-07"},{"$f":"VLOOKUP(AF2,$AB$1:$AD$10,3,FALSE)","v":4.8901816955440559E-3},null,null,{"$f":"AG2","v":"2018-06-07"},{"$f":"AC2","v":"2018-06-15"},1,{"$f":"VLOOKUP(AK2,$AL$1:$AM$10,2,FALSE)","v":7}]
[{"$f":"A2+1","v":182},"08:10:00",{"$f":"WORKDAY(C2,-G28)","v":"2018-06-14"},2018,6,14,{"$f":"IF(G1=0,RTD(\"cqg.rtd\",,\"StudyData\",$D$12,\"Bar\",,\"Close\",\"D\",\"-2\",,,,,\"T\"),RTD(\"cqg.rtd\",,\"StudyData\",$D$12,\"Bar\",,\"Close\",\"D\",\"-3\",,,,,\"T\"))","v":1.1672499999999999},{"$f":"RTD(\"cqg.rtd\",,\"StudyData\", \"Close(\"&$D$12&\") when LocalYear(\"&$D$12&\")=\"&$D$1&\" and localMonth(\"&$D$12&\") =\"&$E$1&\" and LocalDay(\"&$D$12&\")=\"&$F$1&\" and Barix(\"&$D$12&\",reference:=StartOfSession)=\"&A3&\"\", \"Bar\", \"\", \"Close\",\"5\",\"0\",\"PrimaryOnly\",,,\"False\",\"T\",\"EveryTick\")","v":1.1682999999999999},{"$f":"IFERROR((H3-$G$2)/$G$2,NA())","v":-2.5671743967156337E-4},{"$f":"RTD(\"cqg.rtd\",,\"StudyData\", \"Close(\"&$D$12&\") when LocalYear(\"&$D$12&\")=\"&$D$2&\" and localMonth(\"&$D$12&\") =\"&$E$2&\" and LocalDay(\"&$D$12&\")=\"&$F$2&\" and Barix(\"&$D$12&\",reference:=StartOfSession)=\"&A3&\"\", \"Bar\", \"\", \"Close\",\"5\",\"0\",\"PrimaryOnly\",,,\"False\",\"T\",\"EveryTick\")","v":1.1689499999999999},1.4564146498179781E-3,{"$f":"RTD(\"cqg.rtd\",,\"StudyData\", \"Close(\"&$D$12&\") when LocalYear(\"&$D$12&\")=\"&$D$3&\" and localMonth(\"&$D$12&\") =\"&$E$3&\" and LocalDay(\"&$D$12&\")=\"&$F$3&\" and Barix(\"&$D$12&\",reference:=StartOfSession)=\"&A3&\"\", \"Bar\", \"\", \"Close\",\"5\",\"0\",\"PrimaryOnly\",,,\"False\",\"T\",\"EveryTick\")","v":1.1761999999999999},-8.1376228022095182E-3,{"$f":"RTD(\"cqg.rtd\",,\"StudyData\", \"Close(\"&$D$12&\") when LocalYear(\"&$D$12&\")=\"&$D$4&\" and localMonth(\"&$D$12&\") =\"&$E$4&\" and LocalDay(\"&$D$12&\")=\"&$F$4&\" and Barix(\"&$D$12&\",reference:=StartOfSession)=\"&A3&\"\", \"Bar\", \"\", \"Close\",\"5\",\"0\",\"PrimaryOnly\",,,\"False\",\"T\",\"EveryTick\")","v":1.1863999999999999},2.3656640757011775E-3,{"$f":"RTD(\"cqg.rtd\",,\"StudyData\", \"Close(\"&$D$12&\") when LocalYear(\"&$D$12&\")=\"&$D$5&\" and localMonth(\"&$D$12&\") =\"&$E$5&\" and LocalDay(\"&$D$12&\")=\"&$F$5&\" and Barix(\"&$D$12&\",reference:=StartOfSession)=\"&A3&\"\", \"Bar\", \"\", \"Close\",\"5\",\"0\",\"PrimaryOnly\",,,\"False\",\"T\",\"EveryTick\")","v":1.1880500000000001},3.7891545975080959E-4,{"$f":"RTD(\"cqg.rtd\",,\"StudyData\", \"Close(\"&$D$12&\") when LocalYear(\"&$D$12&\")=\"&$D$6&\" and localMonth(\"&$D$12&\") =\"&$E$6&\" and LocalDay(\"&$D$12&\")=\"&$F$6&\" and Barix(\"&$D$12&\",reference:=StartOfSession)=\"&A3&\"\", \"Bar\", \"\", \"Close\",\"5\",\"0\",\"PrimaryOnly\",,,\"False\",\"T\",\"EveryTick\")","v":1.18865},2.2344013490725474E-3,{"$f":"RTD(\"cqg.rtd\",,\"StudyData\", \"Close(\"&$D$12&\") when LocalYear(\"&$D$12&\")=\"&$D$7&\" and localMonth(\"&$D$12&\") =\"&$E$7&\" and LocalDay(\"&$D$12&\")=\"&$F$7&\" and Barix(\"&$D$12&\",reference:=StartOfSession)=\"&A3&\"\", \"Bar\", \"\", \"Close\",\"5\",\"0\",\"PrimaryOnly\",,,\"False\",\"T\",\"EveryTick\")","v":1.18485},-4.1603630862329889E-3,{"$f":"RTD(\"cqg.rtd\",,\"StudyData\", \"Close(\"&$D$12&\") when LocalYear(\"&$D$12&\")=\"&$D$8&\" and localMonth(\"&$D$12&\") =\"&$E$8&\" and LocalDay(\"&$D$12&\")=\"&$F$8&\" and Barix(\"&$D$12&\",reference:=StartOfSession)=\"&A3&\"\", \"Bar\", \"\", \"Close\",\"5\",\"0\",\"PrimaryOnly\",,,\"False\",\"T\",\"EveryTick\")","v":1.19245},5.396062560600279E-3,{"$f":"RTD(\"cqg.rtd\",,\"StudyData\", \"Close(\"&$D$12&\") when LocalYear(\"&$D$12&\")=\"&$D$9&\" and localMonth(\"&$D$12&\") =\"&$E$9&\" and LocalDay(\"&$D$12&\")=\"&$F$9&\" and Barix(\"&$D$12&\",reference:=StartOfSession)=\"&A3&\"\", \"Bar\", \"\", \"Close\",\"5\",\"0\",\"PrimaryOnly\",,,\"False\",\"T\",\"EveryTick\")","v":1.1863999999999999},4.9127562256478102E-3,{"$f":"RTD(\"cqg.rtd\",,\"StudyData\", \"Close(\"&$D$12&\") when LocalYear(\"&$D$12&\")=\"&$D$10&\" and localMonth(\"&$D$12&\") =\"&$E$10&\" and LocalDay(\"&$D$12&\")=\"&$F$10&\" and Barix(\"&$D$12&\",reference:=StartOfSession)=\"&A3&\"\", \"Bar\", \"\", \"Close\",\"5\",\"0\",\"PrimaryOnly\",,,\"False\",\"T\",\"EveryTick\")","v":1.1765000000000001},-2.247381588432192E-3,{"$f":"RANK(AD3,$AD$1:$AD$10)+COUNTIF($AD$1:AD3,AD3)-1","v":10},"2018-06-14",{"$f":"VLOOKUP(MAX(AE2:AE87),A1:M87,13,FALSE)","v":-8.3062781970739442E-3},{"$f":"IF(AND(H2<>\"\",H3<>\"\",H4=\"\"),A3,\"\")","v":""},3,"2018-06-11",2.78246205733565E-3,null,null,"2018-06-11","2018-06-14",2,5]
[183,"08:15:00","2018-06-13",2018,6,13,{"$f":"IF(G1=0,RTD(\"cqg.rtd\",,\"StudyData\",$D$12,\"Bar\",,\"Close\",\"D\",\"-3\",,,,,\"T\"),RTD(\"cqg.rtd\",,\"StudyData\",$D$12,\"Bar\",,\"Close\",\"D\",\"-4\",,,,,\"T\"))","v":1.1858500000000001},{"$f":"RTD(\"cqg.rtd\",,\"StudyData\", \"Close(\"&$D$12&\") when LocalYear(\"&$D$12&\")=\"&$D$1&\" and localMonth(\"&$D$12&\") =\"&$E$1&\" and LocalDay(\"&$D$12&\")=\"&$F$1&\" and Barix(\"&$D$12&\",reference:=StartOfSession)=\"&A4&\"\", \"Bar\", \"\", \"Close\",\"5\",\"0\",\"PrimaryOnly\",,,\"False\",\"T\",\"EveryTick\")","v":1.1677500000000001},-7.2736607906898629E-4,{"$f":"RTD(\"cqg.rtd\",,\"StudyData\", \"Close(\"&$D$12&\") when LocalYear(\"&$D$12&\")=\"&$D$2&\" and localMonth(\"&$D$12&\") =\"&$E$2&\" and LocalDay(\"&$D$12&\")=\"&$F$2&\" and Barix(\"&$D$12&\",reference:=StartOfSession)=\"&A4&\"\", \"Bar\", \"\", \"Close\",\"5\",\"0\",\"PrimaryOnly\",,,\"False\",\"T\",\"EveryTick\")","v":1.1704000000000001},2.6986506746628472E-3,{"$f":"RTD(\"cqg.rtd\",,\"StudyData\", \"Close(\"&$D$12&\") when LocalYear(\"&$D$12&\")=\"&$D$3&\" and localMonth(\"&$D$12&\") =\"&$E$3&\" and LocalDay(\"&$D$12&\")=\"&$F$3&\" and Barix(\"&$D$12&\",reference:=StartOfSession)=\"&A4&\"\", \"Bar\", \"\", \"Close\",\"5\",\"0\",\"PrimaryOnly\",,,\"False\",\"T\",\"EveryTick\")","v":1.1750499999999999},-9.107391322680054E-3,{"$f":"RTD(\"cqg.rtd\",,\"StudyData\", \"Close(\"&$D$12&\") when LocalYear(\"&$D$12&\")=\"&$D$4&\" and localMonth(\"&$D$12&\") =\"&$E$4&\" and LocalDay(\"&$D$12&\")=\"&$F$4&\" and Barix(\"&$D$12&\",reference:=StartOfSession)=\"&A4&\"\", \"Bar\", \"\", \"Close\",\"5\",\"0\",\"PrimaryOnly\",,,\"False\",\"T\",\"EveryTick\")","v":1.18635},2.3234200743494681E-3,{"$f":"RTD(\"cqg.rtd\",,\"StudyData\", \"Close(\"&$D$12&\") when LocalYear(\"&$D$12&\")=\"&$D$5&\" and localMonth(\"&$D$12&\") =\"&$E$5&\" and LocalDay(\"&$D$12&\")=\"&$F$5&\" and Barix(\"&$D$12&\",reference:=StartOfSession)=\"&A4&\"\", \"Bar\", \"\", \"Close\",\"5\",\"0\",\"PrimaryOnly\",,,\"False\",\"T\",\"EveryTick\")","v":1.18825},5.4732233075112781E-4,{"$f":"RTD(\"cqg.rtd\",,\"StudyData\", \"Close(\"&$D$12&\") when LocalYear(\"&$D$12&\")=\"&$D$6&\" and localMonth(\"&$D$12&\") =\"&$E$6&\" and LocalDay(\"&$D$12&\")=\"&$F$6&\" and Barix(\"&$D$12&\",reference:=StartOfSession)=\"&A4&\"\", \"Bar\", \"\", \"Close\",\"5\",\"0\",\"PrimaryOnly\",,,\"False\",\"T\",\"EveryTick\")","v":1.18835},1.9814502529511588E-3,{"$f":"RTD(\"cqg.rtd\",,\"StudyData\", \"Close(\"&$D$12&\") when LocalYear(\"&$D$12&\")=\"&$D$7&\" and localMonth(\"&$D$12&\") =\"&$E$7&\" and LocalDay(\"&$D$12&\")=\"&$F$7&\" and Barix(\"&$D$12&\",reference:=StartOfSession)=\"&A4&\"\", \"Bar\", \"\", \"Close\",\"5\",\"0\",\"PrimaryOnly\",,,\"False\",\"T\",\"EveryTick\")","v":1.1852},-3.8661959993275658E-3,{"$f":"RTD(\"cqg.rtd\",,\"StudyData\", \"Close(\"&$D$12&\") when LocalYear(\"&$D$12&\")=\"&$D$8&\" and localMonth(\"&$D$12&\") =\"&$E$8&\" and LocalDay(\"&$D$12&\")=\"&$F$8&\" and Barix(\"&$D$12&\",reference:=StartOfSession)=\"&A4&\"\", \"Bar\", \"\", \"Close\",\"5\",\"0\",\"PrimaryOnly\",,,\"False\",\"T\",\"EveryTick\")","v":1.1921999999999999},5.1852788668267594E-3,{"$f":"RTD(\"cqg.rtd\",,\"StudyData\", \"Close(\"&$D$12&\") when LocalYear(\"&$D$12&\")=\"&$D$9&\" and localMonth(\"&$D$12&\") =\"&$E$9&\" and LocalDay(\"&$D$12&\")=\"&$F$9&\" and Barix(\"&$D$12&\",reference:=StartOfSession)=\"&A4&\"\", \"Bar\", \"\", \"Close\",\"5\",\"0\",\"PrimaryOnly\",,,\"False\",\"T\",\"EveryTick\")","v":1.1862999999999999},4.828053532102165E-3,{"$f":"RTD(\"cqg.rtd\",,\"StudyData\", \"Close(\"&$D$12&\") when LocalYear(\"&$D$12&\")=\"&$D$10&\" and localMonth(\"&$D$12&\") =\"&$E$10&\" and LocalDay(\"&$D$12&\")=\"&$F$10&\" and Barix(\"&$D$12&\",reference:=StartOfSession)=\"&A4&\"\", \"Bar\", \"\", \"Close\",\"5\",\"0\",\"PrimaryOnly\",,,\"False\",\"T\",\"EveryTick\")","v":1.1758999999999999},-2.7562227027943648E-3,{"$f":"RANK(AD4,$AD$1:$AD$10)+COUNTIF($AD$1:AD4,AD4)-1","v":5},"2018-06-13",{"$f":"VLOOKUP(MAX(AE2:AE87),A1:O87,15,FALSE)","v":1.9854680635350407E-3},"",4,"2018-06-15",2.0561147997431397E-3,null,null,"2018-06-15","2018-06-13",3,1]
[184,"08:20:00","2018-06-12",2018,6,12,{"$f":"IF(G1=0,RTD(\"cqg.rtd\",,\"StudyData\",$D$12,\"Bar\",,\"Close\",\"D\",\"-4\",,,,,\"T\"),RTD(\"cqg.rtd\",,\"StudyData\",$D$12,\"Bar\",,\"Close\",\"D\",\"-5\",,,,,\"T\"))","v":1.1836},{"$f":"RTD(\"cqg.rtd\",,\"StudyData\", \"Close(\"&$D$12&\") when LocalYear(\"&$D$12&\")=\"&$D$1&\" and localMonth(\"&$D$12&\") =\"&$E$1&\" and LocalDay(\"&$D$12&\")=\"&$F$1&\" and Barix(\"&$D$12&\",reference:=StartOfSession)=\"&A5&\"\", \"Bar\", \"\", \"Close\",\"5\",\"0\",\"PrimaryOnly\",,,\"False\",\"T\",\"EveryTick\")","v":1.1679999999999999},-5.1343487934293679E-4,{"$f":"RTD(\"cqg.rtd\",,\"StudyData\", \"Close(\"&$D$12&\") when LocalYear(\"&$D$12&\")=\"&$D$2&\" and localMonth(\"&$D$12&\") =\"&$E$2&\" and LocalDay(\"&$D$12&\")=\"&$F$2&\" and Barix(\"&$D$12&\",reference:=StartOfSession)=\"&A5&\"\", \"Bar\", \"\", \"Close\",\"5\",\"0\",\"PrimaryOnly\",,,\"False\",\"T\",\"EveryTick\")","v":1.1698999999999999},2.2702934247162488E-3,{"$f":"RTD(\"cqg.rtd\",,\"StudyData\", \"Close(\"&$D$12&\") when LocalYear(\"&$D$12&\")=\"&$D$3&\" and localMonth(\"&$D$12&\") =\"&$E$3&\" and LocalDay(\"&$D$12&\")=\"&$F$3&\" and Barix(\"&$D$12&\",reference:=StartOfSession)=\"&A5&\"\", \"Bar\", \"\", \"Close\",\"5\",\"0\",\"PrimaryOnly\",,,\"False\",\"T\",\"EveryTick\")","v":1.1758500000000001},-8.4327697432221675E-3,{"$f":"RTD(\"cqg.rtd\",,\"StudyData\", \"Close(\"&$D$12&\") when LocalYear(\"&$D$12&\")=\"&$D$4&\" and localMonth(\"&$D$12&\") =\"&$E$4&\" and LocalDay(\"&$D$12&\")=\"&$F$4&\" and Barix(\"&$D$12&\",reference:=StartOfSession)=\"&A5&\"\", \"Bar\", \"\", \"Close\",\"5\",\"0\",\"PrimaryOnly\",,,\"False\",\"T\",\"EveryTick\")","v":1.18655},2.4923960797566813E-3,{"$f":"RTD(\"cqg.rtd\",,\"StudyData\", \"Close(\"&$D$12&\") when LocalYear(\"&$D$12&\")=\"&$D$5&\" and localMonth(\"&$D$12&\") =\"&$E$5&\" and LocalDay(\"&$D$12&\")=\"&$F$5&\" and Barix(\"&$D$12&\",reference:=StartOfSession)=\"&A5&\"\", \"Bar\", \"\", \"Close\",\"5\",\"0\",\"PrimaryOnly\",,,\"False\",\"T\",\"EveryTick\")","v":1.1881999999999999},5.0522061300095481E-4,{"$f":"RTD(\"cqg.rtd\",,\"StudyData\", \"Close(\"&$D$12&\") when LocalYear(\"&$D$12&\")=\"&$D$6&\" and localMonth(\"&$D$12&\") =\"&$E$6&\" and LocalDay(\"&$D$12&\")=\"&$F$6&\" and Barix(\"&$D$12&\",reference:=StartOfSession)=\"&A5&\"\", \"Bar\", \"\", \"Close\",\"5\",\"0\",\"PrimaryOnly\",,,\"False\",\"T\",\"EveryTick\")","v":1.1892},2.6981450252951868E-3,{"$f":"RTD(\"cqg.rtd\",,\"StudyData\", \"Close(\"&$D$12&\") when LocalYear(\"&$D$12&\")=\"&$D$7&\" and localMonth(\"&$D$12&\") =\"&$E$7&\" and LocalDay(\"&$D$12&\")=\"&$F$7&\" and Barix(\"&$D$12&\",reference:=StartOfSession)=\"&A5&\"\", \"Bar\", \"\", \"Close\",\"5\",\"0\",\"PrimaryOnly\",,,\"False\",\"T\",\"EveryTick\")","v":1.1852},-3.8661959993275658E-3,{"$f":"RTD(\"cqg.rtd\",,\"StudyData\", \"Close(\"&$D$12&\") when LocalYear(\"&$D$12&\")=\"&$D$8&\" and localMonth(\"&$D$12&\") =\"&$E$8&\" and LocalDay(\"&$D$12&\")=\"&$F$8&\" and Barix(\"&$D$12&\",reference:=StartOfSession)=\"&A5&\"\", \"Bar\", \"\", \"Close\",\"5\",\"0\",\"PrimaryOnly\",,,\"False\",\"T\",\"EveryTick\")","v":1.1914499999999999},4.5529277855063856E-3,{"$f":"RTD(\"cqg.rtd\",,\"StudyData\", \"Close(\"&$D$12&\") when LocalYear(\"&$D$12&\")=\"&$D$9&\" and localMonth(\"&$D$12&\") =\"&$E$9&\" and LocalDay(\"&$D$12&\")=\"&$F$9&\" and Barix(\"&$D$12&\",reference:=StartOfSession)=\"&A5&\"\", \"Bar\", \"\", \"Close\",\"5\",\"0\",\"PrimaryOnly\",,,\"False\",\"T\",\"EveryTick\")","v":1.1862999999999999},4.828053532102165E-3,{"$f":"RTD(\"cqg.rtd\",,\"StudyData\", \"Close(\"&$D$12&\") when LocalYear(\"&$D$12&\")=\"&$D$10&\" and localMonth(\"&$D$12&\") =\"&$E$10&\" and LocalDay(\"&$D$12&\")=\"&$F$10&\" and Barix(\"&$D$12&\",reference:=StartOfSession)=\"&A5&\"\", \"Bar\", \"\", \"Close\",\"5\",\"0\",\"PrimaryOnly\",,,\"False\",\"T\",\"EveryTick\")","v":1.17635},-2.3745918670227822E-3,{"$f":"RANK(AD5,$AD$1:$AD$10)+COUNTIF($AD$1:AD5,AD5)-1","v":6},"2018-06-12",{"$f":"VLOOKUP(MAX(AE2:AE87),A1:Q87,17,FALSE)","v":3.7891545975080959E-4},"",5,"2018-06-13",1.9854680635350407E-3,null,null,"2018-06-13","2018-06-12",4,3]
[185,"08:25:00","2018-06-11",2018,6,11,{"$f":"IF(G1=0,RTD(\"cqg.rtd\",,\"StudyData\",$D$12,\"Bar\",,\"Close\",\"D\",\"-5\",,,,,\"T\"),RTD(\"cqg.rtd\",,\"StudyData\",$D$12,\"Bar\",,\"Close\",\"D\",\"-6\",,,,,\"T\"))","v":1.1876},{"$f":"RTD(\"cqg.rtd\",,\"StudyData\", \"Close(\"&$D$12&\") when LocalYear(\"&$D$12&\")=\"&$D$1&\" and localMonth(\"&$D$12&\") =\"&$E$1&\" and LocalDay(\"&$D$12&\")=\"&$F$1&\" and Barix(\"&$D$12&\",reference:=StartOfSession)=\"&A6&\"\", \"Bar\", \"\", \"Close\",\"5\",\"0\",\"PrimaryOnly\",,,\"False\",\"T\",\"EveryTick\")","v":1.1679999999999999},-5.1343487934293679E-4,{"$f":"RTD(\"cqg.rtd\",,\"StudyData\", \"Close(\"&$D$12&\") when LocalYear(\"&$D$12&\")=\"&$D$2&\" and localMonth(\"&$D$12&\") =\"&$E$2&\" and LocalDay(\"&$D$12&\")=\"&$F$2&\" and Barix(\"&$D$12&\",reference:=StartOfSession)=\"&A6&\"\", \"Bar\", \"\", \"Close\",\"5\",\"0\",\"PrimaryOnly\",,,\"False\",\"T\",\"EveryTick\")","v":1.1704000000000001},2.6986506746628472E-3,{"$f":"RTD(\"cqg.rtd\",,\"StudyData\", \"Close(\"&$D$12&\") when LocalYear(\"&$D$12&\")=\"&$D$3&\" and localMonth(\"&$D$12&\") =\"&$E$3&\" and LocalDay(\"&$D$12&\")=\"&$F$3&\" and Barix(\"&$D$12&\",reference:=StartOfSession)=\"&A6&\"\", \"Bar\", \"\", \"Close\",\"5\",\"0\",\"PrimaryOnly\",,,\"False\",\"T\",\"EveryTick\")","v":1.17625},-8.0954589534933188E-3,{"$f":"RTD(\"cqg.rtd\",,\"StudyData\", \"Close(\"&$D$12&\") when LocalYear(\"&$D$12&\")=\"&$D$4&\" and localMonth(\"&$D$12&\") =\"&$E$4&\" and LocalDay(\"&$D$12&\")=\"&$F$4&\" and Barix(\"&$D$12&\",reference:=StartOfSession)=\"&A6&\"\", \"Bar\", \"\", \"Close\",\"5\",\"0\",\"PrimaryOnly\",,,\"False\",\"T\",\"EveryTick\")","v":1.1862999999999999},2.2811760729975709E-3,{"$f":"RTD(\"cqg.rtd\",,\"StudyData\", \"Close(\"&$D$12&\") when LocalYear(\"&$D$12&\")=\"&$D$5&\" and localMonth(\"&$D$12&\") =\"&$E$5&\" and LocalDay(\"&$D$12&\")=\"&$F$5&\" and Barix(\"&$D$12&\",reference:=StartOfSession)=\"&A6&\"\", \"Bar\", \"\", \"Close\",\"5\",\"0\",\"PrimaryOnly\",,,\"False\",\"T\",\"EveryTick\")","v":1.1879},2.5261030650047741E-4,{"$f":"RTD(\"cqg.rtd\",,\"StudyData\", \"Close(\"&$D$12&\") when LocalYear(\"&$D$12&\")=\"&$D$6&\" and localMonth(\"&$D$12&\") =\"&$E$6&\" and LocalDay(\"&$D$12&\")=\"&$F$6&\" and Barix(\"&$D$12&\",reference:=StartOfSession)=\"&A6&\"\", \"Bar\", \"\", \"Close\",\"5\",\"0\",\"PrimaryOnly\",,,\"False\",\"T\",\"EveryTick\")","v":1.1890499999999999},2.5716694772343991E-3,{"$f":"RTD(\"cqg.rtd\",,\"StudyData\", \"Close(\"&$D$12&\") when LocalYear(\"&$D$12&\")=\"&$D$7&\" and localMonth(\"&$D$12&\") =\"&$E$7&\" and LocalDay(\"&$D$12&\")=\"&$F$7&\" and Barix(\"&$D$12&\",reference:=StartOfSession)=\"&A6&\"\", \"Bar\", \"\", \"Close\",\"5\",\"0\",\"PrimaryOnly\",,,\"False\",\"T\",\"EveryTick\")","v":1.1858500000000001},-3.3198856950747168E-3,{"$f":"RTD(\"cqg.rtd\",,\"StudyData\", \"Close(\"&$D$12&\") when LocalYear(\"&$D$12&\")=\"&$D$8&\" and localMonth(\"&$D$12&\") =\"&$E$8&\" and LocalDay(\"&$D$12&\")=\"&$F$8&\" and Barix(\"&$D$12&\",reference:=StartOfSession)=\"&A6&\"\", \"Bar\", \"\", \"Close\",\"5\",\"0\",\"PrimaryOnly\",,,\"False\",\"T\",\"EveryTick\")","v":1.1917},4.763711479279906E-3,{"$f":"RTD(\"cqg.rtd\",,\"StudyData\", \"Close(\"&$D$12&\") when LocalYear(\"&$D$12&\")=\"&$D$9&\" and localMonth(\"&$D$12&\") =\"&$E$9&\" and LocalDay(\"&$D$12&\")=\"&$F$9&\" and Barix(\"&$D$12&\",reference:=StartOfSession)=\"&A6&\"\", \"Bar\", \"\", \"Close\",\"5\",\"0\",\"PrimaryOnly\",,,\"False\",\"T\",\"EveryTick\")","v":1.1863999999999999},4.9127562256478102E-3,{"$f":"RTD(\"cqg.rtd\",,\"StudyData\", \"Close(\"&$D$12&\") when LocalYear(\"&$D$12&\")=\"&$D$10&\" and localMonth(\"&$D$12&\") =\"&$E$10&\" and LocalDay(\"&$D$12&\")=\"&$F$10&\" and Barix(\"&$D$12&\",reference:=StartOfSession)=\"&A6&\"\", \"Bar\", \"\", \"Close\",\"5\",\"0\",\"PrimaryOnly\",,,\"False\",\"T\",\"EveryTick\")","v":1.17635},-2.3745918670227822E-3,{"$f":"RANK(AD6,$AD$1:$AD$10)+COUNTIF($AD$1:AD6,AD6)-1","v":3},"2018-06-11",{"$f":"VLOOKUP(MAX(AE2:AE87),A1:S87,19,FALSE)","v":2.78246205733565E-3},"",6,"2018-06-12",3.7891545975080959E-4,null,null,"2018-06-12","2018-06-11",5,4]
[186,"08:30:00","2018-06-08",2018,6,8,{"$f":"IF(G1=0,RTD(\"cqg.rtd\",,\"StudyData\",$D$12,\"Bar\",,\"Close\",\"D\",\"-6\",,,,,\"T\"),RTD(\"cqg.rtd\",,\"StudyData\",$D$12,\"Bar\",,\"Close\",\"D\",\"-7\",,,,,\"T\"))","v":1.1859999999999999},{"$f":"RTD(\"cqg.rtd\",,\"StudyData\", \"Close(\"&$D$12&\") when LocalYear(\"&$D$12&\")=\"&$D$1&\" and localMonth(\"&$D$12&\") =\"&$E$1&\" and LocalDay(\"&$D$12&\")=\"&$F$1&\" and Barix(\"&$D$12&\",reference:=StartOfSession)=\"&A7&\"\", \"Bar\", \"\", \"Close\",\"5\",\"0\",\"PrimaryOnly\",,,\"False\",\"T\",\"EveryTick\")","v":1.16805},-4.7064863939761287E-4,{"$f":"RTD(\"cqg.rtd\",,\"StudyData\", \"Close(\"&$D$12&\") when LocalYear(\"&$D$12&\")=\"&$D$2&\" and localMonth(\"&$D$12&\") =\"&$E$2&\" and LocalDay(\"&$D$12&\")=\"&$F$2&\" and Barix(\"&$D$12&\",reference:=StartOfSession)=\"&A7&\"\", \"Bar\", \"\", \"Close\",\"5\",\"0\",\"PrimaryOnly\",,,\"False\",\"T\",\"EveryTick\")","v":1.1696500000000001},2.0561147997431397E-3,{"$f":"RTD(\"cqg.rtd\",,\"StudyData\", \"Close(\"&$D$12&\") when LocalYear(\"&$D$12&\")=\"&$D$3&\" and localMonth(\"&$D$12&\") =\"&$E$3&\" and LocalDay(\"&$D$12&\")=\"&$F$3&\" and Barix(\"&$D$12&\",reference:=StartOfSession)=\"&A7&\"\", \"Bar\", \"\", \"Close\",\"5\",\"0\",\"PrimaryOnly\",,,\"False\",\"T\",\"EveryTick\")","v":1.1759999999999999},-8.3062781970739442E-3,{"$f":"RTD(\"cqg.rtd\",,\"StudyData\", \"Close(\"&$D$12&\") when LocalYear(\"&$D$12&\")=\"&$D$4&\" and localMonth(\"&$D$12&\") =\"&$E$4&\" and LocalDay(\"&$D$12&\")=\"&$F$4&\" and Barix(\"&$D$12&\",reference:=StartOfSession)=\"&A7&\"\", \"Bar\", \"\", \"Close\",\"5\",\"0\",\"PrimaryOnly\",,,\"False\",\"T\",\"EveryTick\")","v":1.1859500000000001},1.9854680635350407E-3,{"$f":"RTD(\"cqg.rtd\",,\"StudyData\", \"Close(\"&$D$12&\") when LocalYear(\"&$D$12&\")=\"&$D$5&\" and localMonth(\"&$D$12&\") =\"&$E$5&\" and LocalDay(\"&$D$12&\")=\"&$F$5&\" and Barix(\"&$D$12&\",reference:=StartOfSession)=\"&A7&\"\", \"Bar\", \"\", \"Close\",\"5\",\"0\",\"PrimaryOnly\",,,\"False\",\"T\",\"EveryTick\")","v":1.1880500000000001},3.7891545975080959E-4,{"$f":"RTD(\"cqg.rtd\",,\"StudyData\", \"Close(\"&$D$12&\") when LocalYear(\"&$D$12&\")=\"&$D$6&\" and localMonth(\"&$D$12&\") =\"&$E$6&\" and LocalDay(\"&$D$12&\")=\"&$F$6&\" and Barix(\"&$D$12&\",reference:=StartOfSession)=\"&A7&\"\", \"Bar\", \"\", \"Close\",\"5\",\"0\",\"PrimaryOnly\",,,\"False\",\"T\",\"EveryTick\")","v":1.1893},2.78246205733565E-3,{"$f":"RTD(\"cqg.rtd\",,\"StudyData\", \"Close(\"&$D$12&\") when LocalYear(\"&$D$12&\")=\"&$D$7&\" and localMonth(\"&$D$12&\") =\"&$E$7&\" and LocalDay(\"&$D$12&\")=\"&$F$7&\" and Barix(\"&$D$12&\",reference:=StartOfSession)=\"&A7&\"\", \"Bar\", \"\", \"Close\",\"5\",\"0\",\"PrimaryOnly\",,,\"False\",\"T\",\"EveryTick\")","v":1.1856500000000001},-3.4879811733063339E-3,{"$f":"RTD(\"cqg.rtd\",,\"StudyData\", \"Close(\"&$D$12&\") when LocalYear(\"&$D$12&\")=\"&$D$8&\" and localMonth(\"&$D$12&\") =\"&$E$8&\" and LocalDay(\"&$D$12&\")=\"&$F$8&\" and Barix(\"&$D$12&\",reference:=StartOfSession)=\"&A7&\"\", \"Bar\", \"\", \"Close\",\"5\",\"0\",\"PrimaryOnly\",,,\"False\",\"T\",\"EveryTick\")","v":1.1918500000000001},4.8901816955440559E-3,{"$f":"RTD(\"cqg.rtd\",,\"StudyData\", \"Close(\"&$D$12&\") when LocalYear(\"&$D$12&\")=\"&$D$9&\" and localMonth(\"&$D$12&\") =\"&$E$9&\" and LocalDay(\"&$D$12&\")=\"&$F$9&\" and Barix(\"&$D$12&\",reference:=StartOfSession)=\"&A7&\"\", \"Bar\", \"\", \"Close\",\"5\",\"0\",\"PrimaryOnly\",,,\"False\",\"T\",\"EveryTick\")","v":1.1867000000000001},5.1668643062849342E-3,{"$f":"RTD(\"cqg.rtd\",,\"StudyData\", \"Close(\"&$D$12&\") when LocalYear(\"&$D$12&\")=\"&$D$10&\" and localMonth(\"&$D$12&\") =\"&$E$10&\" and LocalDay(\"&$D$12&\")=\"&$F$10&\" and Barix(\"&$D$12&\",reference:=StartOfSession)=\"&A7&\"\", \"Bar\", \"\", \"Close\",\"5\",\"0\",\"PrimaryOnly\",,,\"False\",\"T\",\"EveryTick\")","v":1.17615},-2.5442055718101105E-3,{"$f":"RANK(AD7,$AD$1:$AD$10)+COUNTIF($AD$1:AD7,AD7)-1","v":9},"2018-06-08",{"$f":"VLOOKUP(MAX(AE2:AE87),A1:U87,21,FALSE)","v":-3.4879811733063339E-3},186,7,"2018-06-18",-4.7064863939761287E-4,null,null,"2018-06-18","2018-06-08",6,0]
[187,"08:35:00","2018-06-07",2018,6,7,{"$f":"IF(G1=0,RTD(\"cqg.rtd\",,\"StudyData\",$D$12,\"Bar\",,\"Close\",\"D\",\"-7\",,,,,\"T\"),RTD(\"cqg.rtd\",,\"StudyData\",$D$12,\"Bar\",,\"Close\",\"D\",\"-8\",,,,,\"T\"))","v":1.1898},{"$f":"RTD(\"cqg.rtd\",,\"StudyData\", \"Close(\"&$D$12&\") when LocalYear(\"&$D$12&\")=\"&$D$1&\" and localMonth(\"&$D$12&\") =\"&$E$1&\" and LocalDay(\"&$D$12&\")=\"&$F$1&\" and Barix(\"&$D$12&\",reference:=StartOfSession)=\"&A8&\"\", \"Bar\", \"\", \"Close\",\"5\",\"0\",\"PrimaryOnly\",,,\"False\",\"T\",\"EveryTick\")","v":""},{"$error":"#N/A"},{"$f":"RTD(\"cqg.rtd\",,\"StudyData\", \"Close(\"&$D$12&\") when LocalYear(\"&$D$12&\")=\"&$D$2&\" and localMonth(\"&$D$12&\") =\"&$E$2&\" and LocalDay(\"&$D$12&\")=\"&$F$2&\" and Barix(\"&$D$12&\",reference:=StartOfSession)=\"&A8&\"\", \"Bar\", \"\", \"Close\",\"5\",\"0\",\"PrimaryOnly\",,,\"False\",\"T\",\"EveryTick\")","v":1.1693},1.7562647247805589E-3,{"$f":"RTD(\"cqg.rtd\",,\"StudyData\", \"Close(\"&$D$12&\") when LocalYear(\"&$D$12&\")=\"&$D$3&\" and localMonth(\"&$D$12&\") =\"&$E$3&\" and LocalDay(\"&$D$12&\")=\"&$F$3&\" and Barix(\"&$D$12&\",reference:=StartOfSession)=\"&A8&\"\", \"Bar\", \"\", \"Close\",\"5\",\"0\",\"PrimaryOnly\",,,\"False\",\"T\",\"EveryTick\")","v":1.1765000000000001},-7.8846397099126952E-3,{"$f":"RTD(\"cqg.rtd\",,\"StudyData\", \"Close(\"&$D$12&\") when LocalYear(\"&$D$12&\")=\"&$D$4&\" and localMonth(\"&$D$12&\") =\"&$E$4&\" and LocalDay(\"&$D$12&\")=\"&$F$4&\" and Barix(\"&$D$12&\",reference:=StartOfSession)=\"&A8&\"\", \"Bar\", \"\", \"Close\",\"5\",\"0\",\"PrimaryOnly\",,,\"False\",\"T\",\"EveryTick\")","v":1.1859500000000001},1.9854680635350407E-3,{"$f":"RTD(\"cqg.rtd\",,\"StudyData\", \"Close(\"&$D$12&\") when LocalYear(\"&$D$12&\")=\"&$D$5&\" and localMonth(\"&$D$12&\") =\"&$E$5&\" and LocalDay(\"&$D$12&\")=\"&$F$5&\" and Barix(\"&$D$12&\",reference:=StartOfSession)=\"&A8&\"\", \"Bar\", \"\", \"Close\",\"5\",\"0\",\"PrimaryOnly\",,,\"False\",\"T\",\"EveryTick\")","v":1.18815},4.6311889525096873E-4,{"$f":"RTD(\"cqg.rtd\",,\"StudyData\", \"Close(\"&$D$12&\") when LocalYear(\"&$D$12&\")=\"&$D$6&\" and localMonth(\"&$D$12&\") =\"&$E$6&\" and LocalDay(\"&$D$12&\")=\"&$F$6&\" and Barix(\"&$D$12&\",reference:=StartOfSession)=\"&A8&\"\", \"Bar\", \"\", \"Close\",\"5\",\"0\",\"PrimaryOnly\",,,\"False\",\"T\",\"EveryTick\")","v":1.1889000000000001},2.4451939291737983E-3,{"$f":"RTD(\"cqg.rtd\",,\"StudyData\", \"Close(\"&$D$12&\") when LocalYear(\"&$D$12&\")=\"&$D$7&\" and localMonth(\"&$D$12&\") =\"&$E$7&\" and LocalDay(\"&$D$12&\")=\"&$F$7&\" and Barix(\"&$D$12&\",reference:=StartOfSession)=\"&A8&\"\", \"Bar\", \"\", \"Close\",\"5\",\"0\",\"PrimaryOnly\",,,\"False\",\"T\",\"EveryTick\")","v":1.1854},-3.6981005210959487E-3,{"$f":"RTD(\"cqg.rtd\",,\"StudyData\", \"Close(\"&$D$12&\") when LocalYear(\"&$D$12&\")=\"&$D$8&\" and localMonth(\"&$D$12&\") =\"&$E$8&\" and LocalDay(\"&$D$12&\")=\"&$F$8&\" and Barix(\"&$D$12&\",reference:=StartOfSession)=\"&A8&\"\", \"Bar\", \"\", \"Close\",\"5\",\"0\",\"PrimaryOnly\",,,\"False\",\"T\",\"EveryTick\")","v":1.1918},4.8480249567892765E-3,{"$f":"RTD(\"cqg.rtd\",,\"StudyData\", \"Close(\"&$D$12&\") when LocalYear(\"&$D$12&\")=\"&$D$9&\" and localMonth(\"&$D$12&\") =\"&$E$9&\" and LocalDay(\"&$D$12&\")=\"&$F$9&\" and Barix(\"&$D$12&\",reference:=StartOfSession)=\"&A8&\"\", \"Bar\", \"\", \"Close\",\"5\",\"0\",\"PrimaryOnly\",,,\"False\",\"T\",\"EveryTick\")","v":1.1877500000000001},6.0562425885143057E-3,{"$f":"RTD(\"cqg.rtd\",,\"StudyData\", \"Close(\"&$D$12&\") when LocalYear(\"&$D$12&\")=\"&$D$10&\" and localMonth(\"&$D$12&\") =\"&$E$10&\" and LocalDay(\"&$D$12&\")=\"&$F$10&\" and Barix(\"&$D$12&\",reference:=StartOfSession)=\"&A8&\"\", \"Bar\", \"\", \"Close\",\"5\",\"0\",\"PrimaryOnly\",,,\"False\",\"T\",\"EveryTick\")","v":1.17615},-2.5442055718101105E-3,{"$f":"RANK(AD8,$AD$1:$AD$10)+COUNTIF($AD$1:AD8,AD8)-1","v":2},"2018-06-07",{"$f":"VLOOKUP(MAX(AE2:AE87),A1:W87,23,FALSE)","v":4.8901816955440559E-3},"",8,"2018-06-05",-2.5442055718101105E-3,null,null,"2018-06-05","2018-06-07",7,9]
[188,"08:40:00","2018-06-06",2018,6,6,{"$f":"IF(G1=0,RTD(\"cqg.rtd\",,\"StudyData\",$D$12,\"Bar\",,\"Close\",\"D\",\"-8\",,,,,\"T\"),RTD(\"cqg.rtd\",,\"StudyData\",$D$12,\"Bar\",,\"Close\",\"D\",\"-9\",,,,,\"T\"))","v":1.18605},{"$f":"RTD(\"cqg.rtd\",,\"StudyData\", \"Close(\"&$D$12&\") when LocalYear(\"&$D$12&\")=\"&$D$1&\" and localMonth(\"&$D$12&\") =\"&$E$1&\" and LocalDay(\"&$D$12&\")=\"&$F$1&\" and Barix(\"&$D$12&\",reference:=StartOfSession)=\"&A9&\"\", \"Bar\", \"\", \"Close\",\"5\",\"0\",\"PrimaryOnly\",,,\"False\",\"T\",\"EveryTick\")","v":""},{"$error":"#N/A"},{"$f":"RTD(\"cqg.rtd\",,\"StudyData\", \"Close(\"&$D$12&\") when LocalYear(\"&$D$12&\")=\"&$D$2&\" and localMonth(\"&$D$12&\") =\"&$E$2&\" and LocalDay(\"&$D$12&\")=\"&$F$2&\" and Barix(\"&$D$12&\",reference:=StartOfSession)=\"&A9&\"\", \"Bar\", \"\", \"Close\",\"5\",\"0\",\"PrimaryOnly\",,,\"False\",\"T\",\"EveryTick\")","v":1.1689000000000001},1.4135789248234324E-3,{"$f":"RTD(\"cqg.rtd\",,\"StudyData\", \"Close(\"&$D$12&\") when LocalYear(\"&$D$12&\")=\"&$D$3&\" and localMonth(\"&$D$12&\") =\"&$E$3&\" and LocalDay(\"&$D$12&\")=\"&$F$3&\" and Barix(\"&$D$12&\",reference:=StartOfSession)=\"&A9&\"\", \"Bar\", \"\", \"Close\",\"5\",\"0\",\"PrimaryOnly\",,,\"False\",\"T\",\"EveryTick\")","v":1.175},-9.1495551713960659E-3,{"$f":"RTD(\"cqg.rtd\",,\"StudyData\", \"Close(\"&$D$12&\") when LocalYear(\"&$D$12&\")=\"&$D$4&\" and localMonth(\"&$D$12&\") =\"&$E$4&\" and LocalDay(\"&$D$12&\")=\"&$F$4&\" and Barix(\"&$D$12&\",reference:=StartOfSession)=\"&A9&\"\", \"Bar\", \"\", \"Close\",\"5\",\"0\",\"PrimaryOnly\",,,\"False\",\"T\",\"EveryTick\")","v":1.1858},1.8587360594795369E-3,{"$f":"RTD(\"cqg.rtd\",,\"StudyData\", \"Close(\"&$D$12&\") when LocalYear(\"&$D$12&\")=\"&$D$5&\" and localMonth(\"&$D$12&\") =\"&$E$5&\" and LocalDay(\"&$D$12&\")=\"&$F$5&\" and Barix(\"&$D$12&\",reference:=StartOfSession)=\"&A9&\"\", \"Bar\", \"\", \"Close\",\"5\",\"0\",\"PrimaryOnly\",,,\"False\",\"T\",\"EveryTick\")","v":1.1876},0,{"$f":"RTD(\"cqg.rtd\",,\"StudyData\", \"Close(\"&$D$12&\") when LocalYear(\"&$D$12&\")=\"&$D$6&\" and localMonth(\"&$D$12&\") =\"&$E$6&\" and LocalDay(\"&$D$12&\")=\"&$F$6&\" and Barix(\"&$D$12&\",reference:=StartOfSession)=\"&A9&\"\", \"Bar\", \"\", \"Close\",\"5\",\"0\",\"PrimaryOnly\",,,\"False\",\"T\",\"EveryTick\")","v":1.1894499999999999},2.9089376053962508E-3,{"$f":"RTD(\"cqg.rtd\",,\"StudyData\", \"Close(\"&$D$12&\") when LocalYear(\"&$D$12&\")=\"&$D$7&\" and localMonth(\"&$D$12&\") =\"&$E$7&\" and LocalDay(\"&$D$12&\")=\"&$F$7&\" and Barix(\"&$D$12&\",reference:=StartOfSession)=\"&A9&\"\", \"Bar\", \"\", \"Close\",\"5\",\"0\",\"PrimaryOnly\",,,\"False\",\"T\",\"EveryTick\")","v":1.1850499999999999},-3.9922676080013713E-3,{"$f":"RTD(\"cqg.rtd\",,\"StudyData\", \"Close(\"&$D$12&\") when LocalYear(\"&$D$12&\")=\"&$D$8&\" and localMonth(\"&$D$12&\") =\"&$E$8&\" and LocalDay(\"&$D$12&\")=\"&$F$8&\" and Barix(\"&$D$12&\",reference:=StartOfSession)=\"&A9&\"\", \"Bar\", \"\", \"Close\",\"5\",\"0\",\"PrimaryOnly\",,,\"False\",\"T\",\"EveryTick\")","v":1.1911499999999999},4.2999873529782741E-3,{"$f":"RTD(\"cqg.rtd\",,\"StudyData\", \"Close(\"&$D$12&\") when LocalYear(\"&$D$12&\")=\"&$D$9&\" and localMonth(\"&$D$12&\") =\"&$E$9&\" and LocalDay(\"&$D$12&\")=\"&$F$9&\" and Barix(\"&$D$12&\",reference:=StartOfSession)=\"&A9&\"\", \"Bar\", \"\", \"Close\",\"5\",\"0\",\"PrimaryOnly\",,,\"False\",\"T\",\"EveryTick\")","v":1.1879},6.18329662883268E-3,{"$f":"RTD(\"cqg.rtd\",,\"StudyData\", \"Close(\"&$D$12&\") when LocalYear(\"&$D$12&\")=\"&$D$10&\" and localMonth(\"&$D$12&\") =\"&$E$10&\" and LocalDay(\"&$D$12&\")=\"&$F$10&\" and Barix(\"&$D$12&\",reference:=StartOfSession)=\"&A9&\"\", \"Bar\", \"\", \"Close\",\"5\",\"0\",\"PrimaryOnly\",,,\"False\",\"T\",\"EveryTick\")","v":1.1758999999999999},-2.7562227027943648E-3,{"$f":"RANK(AD9,$AD$1:$AD$10)+COUNTIF($AD$1:AD9,AD9)-1","v":1},"2018-06-06",{"$f":"VLOOKUP(MAX(AE2:AE87),A1:Y87,25,FALSE)","v":5.1668643062849342E-3},"",9,"2018-06-08",-3.4879811733063339E-3,null,null,"2018-06-08","2018-06-06",8,6]
[189,"08:45:00","2018-06-05",2018,6,5,{"$f":"IF(G1=0,RTD(\"cqg.rtd\",,\"StudyData\",$D$12,\"Bar\",,\"Close\",\"D\",\"-9\",,,,,\"T\"),RTD(\"cqg.rtd\",,\"StudyData\",$D$12,\"Bar\",,\"Close\",\"D\",\"-10\",,,,,\"T\"))","v":1.1806000000000001},{"$f":"RTD(\"cqg.rtd\",,\"StudyData\", \"Close(\"&$D$12&\") when LocalYear(\"&$D$12&\")=\"&$D$1&\" and localMonth(\"&$D$12&\") =\"&$E$1&\" and LocalDay(\"&$D$12&\")=\"&$F$1&\" and Barix(\"&$D$12&\",reference:=StartOfSession)=\"&A10&\"\", \"Bar\", \"\", \"Close\",\"5\",\"0\",\"PrimaryOnly\",,,\"False\",\"T\",\"EveryTick\")","v":""},{"$error":"#N/A"},{"$f":"RTD(\"cqg.rtd\",,\"StudyData\", \"Close(\"&$D$12&\") when LocalYear(\"&$D$12&\")=\"&$D$2&\" and localMonth(\"&$D$12&\") =\"&$E$2&\" and LocalDay(\"&$D$12&\")=\"&$F$2&\" and Barix(\"&$D$12&\",reference:=StartOfSession)=\"&A10&\"\", \"Bar\", \"\", \"Close\",\"5\",\"0\",\"PrimaryOnly\",,,\"False\",\"T\",\"EveryTick\")","v":1.1691499999999999},1.6277575497965415E-3,{"$f":"RTD(\"cqg.rtd\",,\"StudyData\", \"Close(\"&$D$12&\") when LocalYear(\"&$D$12&\")=\"&$D$3&\" and localMonth(\"&$D$12&\") =\"&$E$3&\" and LocalDay(\"&$D$12&\")=\"&$F$3&\" and Barix(\"&$D$12&\",reference:=StartOfSession)=\"&A10&\"\", \"Bar\", \"\", \"Close\",\"5\",\"0\",\"PrimaryOnly\",,,\"False\",\"T\",\"EveryTick\")","v":1.1749000000000001},-9.233882868828279E-3,{"$f":"RTD(\"cqg.rtd\",,\"StudyData\", \"Close(\"&$D$12&\") when LocalYear(\"&$D$12&\")=\"&$D$4&\" and localMonth(\"&$D$12&\") =\"&$E$4&\" and LocalDay(\"&$D$12&\")=\"&$F$4&\" and Barix(\"&$D$12&\",reference:=StartOfSession)=\"&A10&\"\", \"Bar\", \"\", \"Close\",\"5\",\"0\",\"PrimaryOnly\",,,\"False\",\"T\",\"EveryTick\")","v":1.1859500000000001},1.9854680635350407E-3,{"$f":"RTD(\"cqg.rtd\",,\"StudyData\", \"Close(\"&$D$12&\") when LocalYear(\"&$D$12&\")=\"&$D$5&\" and localMonth(\"&$D$12&\") =\"&$E$5&\" and LocalDay(\"&$D$12&\")=\"&$F$5&\" and Barix(\"&$D$12&\",reference:=StartOfSession)=\"&A10&\"\", \"Bar\", \"\", \"Close\",\"5\",\"0\",\"PrimaryOnly\",,,\"False\",\"T\",\"EveryTick\")","v":1.1877500000000001},1.2630515325033219E-4,{"$f":"RTD(\"cqg.rtd\",,\"StudyData\", \"Close(\"&$D$12&\") when LocalYear(\"&$D$12&\")=\"&$D$6&\" and localMonth(\"&$D$12&\") =\"&$E$6&\" and LocalDay(\"&$D$12&\")=\"&$F$6&\" and Barix(\"&$D$12&\",reference:=StartOfSession)=\"&A10&\"\", \"Bar\", \"\", \"Close\",\"5\",\"0\",\"PrimaryOnly\",,,\"False\",\"T\",\"EveryTick\")","v":1.1895500000000001},2.9932546374369009E-3,{"$f":"RTD(\"cqg.rtd\",,\"StudyData\", \"Close(\"&$D$12&\") when LocalYear(\"&$D$12&\")=\"&$D$7&\" and localMonth(\"&$D$12&\") =\"&$E$7&\" and LocalDay(\"&$D$12&\")=\"&$F$7&\" and Barix(\"&$D$12&\",reference:=StartOfSession)=\"&A10&\"\", \"Bar\", \"\", \"Close\",\"5\",\"0\",\"PrimaryOnly\",,,\"False\",\"T\",\"EveryTick\")","v":1.1849499999999999},-4.0763153471171801E-3,{"$f":"RTD(\"cqg.rtd\",,\"StudyData\", \"Close(\"&$D$12&\") when LocalYear(\"&$D$12&\")=\"&$D$8&\" and localMonth(\"&$D$12&\") =\"&$E$8&\" and LocalDay(\"&$D$12&\")=\"&$F$8&\" and Barix(\"&$D$12&\",reference:=StartOfSession)=\"&A10&\"\", \"Bar\", \"\", \"Close\",\"5\",\"0\",\"PrimaryOnly\",,,\"False\",\"T\",\"EveryTick\")","v":1.1901999999999999},3.4990093166391602E-3,{"$f":"RTD(\"cqg.rtd\",,\"StudyData\", \"Close(\"&$D$12&\") when LocalYear(\"&$D$12&\")=\"&$D$9&\" and localMonth(\"&$D$12&\") =\"&$E$9&\" and LocalDay(\"&$D$12&\")=\"&$F$9&\" and Barix(\"&$D$12&\",reference:=StartOfSession)=\"&A10&\"\", \"Bar\", \"\", \"Close\",\"5\",\"0\",\"PrimaryOnly\",,,\"False\",\"T\",\"EveryTick\")","v":1.18855},6.7338641368794687E-3,{"$f":"RTD(\"cqg.rtd\",,\"StudyData\", \"Close(\"&$D$12&\") when LocalYear(\"&$D$12&\")=\"&$D$10&\" and localMonth(\"&$D$12&\") =\"&$E$10&\" and LocalDay(\"&$D$12&\")=\"&$F$10&\" and Barix(\"&$D$12&\",reference:=StartOfSession)=\"&A10&\"\", \"Bar\", \"\", \"Close\",\"5\",\"0\",\"PrimaryOnly\",,,\"False\",\"T\",\"EveryTick\")","v":1.1758999999999999},-2.7562227027943648E-3,{"$f":"RANK(AD10,$AD$1:$AD$10)+COUNTIF($AD$1:AD10,AD10)-1","v":8},"2018-06-05",{"$f":"VLOOKUP(MAX(AE2:AE87),A1:AA87,27,FALSE)","v":-2.5442055718101105E-3},"",10,"2018-06-14",-8.3062781970739442E-3,null,null,"2018-06-14","2018-06-05",9,2]
[190,"08:50:00","2018-06-04",2018,6,4,{"$f":"IF(G1=0,RTD(\"cqg.rtd\",,\"StudyData\",$D$12,\"Bar\",,\"Close\",\"D\",\"-10\",,,,,\"T\"),RTD(\"cqg.rtd\",,\"StudyData\",$D$12,\"Bar\",,\"Close\",\"D\",\"-11\",,,,,\"T\"))","v":1.1791499999999999},{"$f":"RTD(\"cqg.rtd\",,\"StudyData\", \"Close(\"&$D$12&\") when LocalYear(\"&$D$12&\")=\"&$D$1&\" and localMonth(\"&$D$12&\") =\"&$E$1&\" and LocalDay(\"&$D$12&\")=\"&$F$1&\" and Barix(\"&$D$12&\",reference:=StartOfSession)=\"&A11&\"\", \"Bar\", \"\", \"Close\",\"5\",\"0\",\"PrimaryOnly\",,,\"False\",\"T\",\"EveryTick\")","v":""},{"$error":"#N/A"},{"$f":"RTD(\"cqg.rtd\",,\"StudyData\", \"Close(\"&$D$12&\") when LocalYear(\"&$D$12&\")=\"&$D$2&\" and localMonth(\"&$D$12&\") =\"&$E$2&\" and LocalDay(\"&$D$12&\")=\"&$F$2&\" and Barix(\"&$D$12&\",reference:=StartOfSession)=\"&A11&\"\", \"Bar\", \"\", \"Close\",\"5\",\"0\",\"PrimaryOnly\",,,\"False\",\"T\",\"EveryTick\")","v":1.1688499999999999},1.3707431998286966E-3,{"$f":"RTD(\"cqg.rtd\",,\"StudyData\", \"Close(\"&$D$12&\") when LocalYear(\"&$D$12&\")=\"&$D$3&\" and localMonth(\"&$D$12&\") =\"&$E$3&\" and LocalDay(\"&$D$12&\")=\"&$F$3&\" and Barix(\"&$D$12&\",reference:=StartOfSession)=\"&A11&\"\", \"Bar\", \"\", \"Close\",\"5\",\"0\",\"PrimaryOnly\",,,\"False\",\"T\",\"EveryTick\")","v":1.1741999999999999},-9.8241767508539524E-3,{"$f":"RTD(\"cqg.rtd\",,\"StudyData\", \"Close(\"&$D$12&\") when LocalYear(\"&$D$12&\")=\"&$D$4&\" and localMonth(\"&$D$12&\") =\"&$E$4&\" and LocalDay(\"&$D$12&\")=\"&$F$4&\" and Barix(\"&$D$12&\",reference:=StartOfSession)=\"&A11&\"\", \"Bar\", \"\", \"Close\",\"5\",\"0\",\"PrimaryOnly\",,,\"False\",\"T\",\"EveryTick\")","v":1.1855500000000001},1.6475160527206136E-3,{"$f":"RTD(\"cqg.rtd\",,\"StudyData\", \"Close(\"&$D$12&\") when LocalYear(\"&$D$12&\")=\"&$D$5&\" and localMonth(\"&$D$12&\") =\"&$E$5&\" and LocalDay(\"&$D$12&\")=\"&$F$5&\" and Barix(\"&$D$12&\",reference:=StartOfSession)=\"&A11&\"\", \"Bar\", \"\", \"Close\",\"5\",\"0\",\"PrimaryOnly\",,,\"False\",\"T\",\"EveryTick\")","v":1.1879},2.5261030650047741E-4,{"$f":"RTD(\"cqg.rtd\",,\"StudyData\", \"Close(\"&$D$12&\") when LocalYear(\"&$D$12&\")=\"&$D$6&\" and localMonth(\"&$D$12&\") =\"&$E$6&\" and LocalDay(\"&$D$12&\")=\"&$F$6&\" and Barix(\"&$D$12&\",reference:=StartOfSession)=\"&A11&\"\", \"Bar\", \"\", \"Close\",\"5\",\"0\",\"PrimaryOnly\",,,\"False\",\"T\",\"EveryTick\")","v":1.1894},2.8667790893761127E-3,{"$f":"RTD(\"cqg.rtd\",,\"StudyData\", \"Close(\"&$D$12&\") when LocalYear(\"&$D$12&\")=\"&$D$7&\" and localMonth(\"&$D$12&\") =\"&$E$7&\" and LocalDay(\"&$D$12&\")=\"&$F$7&\" and Barix(\"&$D$12&\",reference:=StartOfSession)=\"&A11&\"\", \"Bar\", \"\", \"Close\",\"5\",\"0\",\"PrimaryOnly\",,,\"False\",\"T\",\"EveryTick\")","v":1.18455},-4.4125063035804143E-3,{"$f":"RTD(\"cqg.rtd\",,\"StudyData\", \"Close(\"&$D$12&\") when LocalYear(\"&$D$12&\")=\"&$D$8&\" and localMonth(\"&$D$12&\") =\"&$E$8&\" and LocalDay(\"&$D$12&\")=\"&$F$8&\" and Barix(\"&$D$12&\",reference:=StartOfSession)=\"&A11&\"\", \"Bar\", \"\", \"Close\",\"5\",\"0\",\"PrimaryOnly\",,,\"False\",\"T\",\"EveryTick\")","v":1.19035},3.6254795329033096E-3,{"$f":"RTD(\"cqg.rtd\",,\"StudyData\", \"Close(\"&$D$12&\") when LocalYear(\"&$D$12&\")=\"&$D$9&\" and localMonth(\"&$D$12&\") =\"&$E$9&\" and LocalDay(\"&$D$12&\")=\"&$F$9&\" and Barix(\"&$D$12&\",reference:=StartOfSession)=\"&A11&\"\", \"Bar\", \"\", \"Close\",\"5\",\"0\",\"PrimaryOnly\",,,\"False\",\"T\",\"EveryTick\")","v":1.1883999999999999},6.6068100965609071E-3,{"$f":"RTD(\"cqg.rtd\",,\"StudyData\", \"Close(\"&$D$12&\") when LocalYear(\"&$D$12&\")=\"&$D$10&\" and localMonth(\"&$D$12&\") =\"&$E$10&\" and LocalDay(\"&$D$12&\")=\"&$F$10&\" and Barix(\"&$D$12&\",reference:=StartOfSession)=\"&A11&\"\", \"Bar\", \"\", \"Close\",\"5\",\"0\",\"PrimaryOnly\",,,\"False\",\"T\",\"EveryTick\")","v":1.1758999999999999},-2.7562227027943648E-3,null,null,null,""]
[191,"08:55:00",null,{"$f":"MainDisplay!B31","v":"EU6"},null,null,{"$f":"RTD(\"cqg.rtd\",,\"StudyData\",$D$12,\"Bar\",,\"Time\",\"D\",\"-1\",,,,,\"T\")","v":"2018-06-15"},{"$f":"RTD(\"cqg.rtd\",,\"StudyData\", \"Close(\"&$D$12&\") when LocalYear(\"&$D$12&\")=\"&$D$1&\" and localMonth(\"&$D$12&\") =\"&$E$1&\" and LocalDay(\"&$D$12&\")=\"&$F$1&\" and Barix(\"&$D$12&\",reference:=StartOfSession)=\"&A12&\"\", \"Bar\", \"\", \"Close\",\"5\",\"0\",\"PrimaryOnly\",,,\"False\",\"T\",\"EveryTick\")","v":""},{"$error":"#N/A"},{"$f":"RTD(\"cqg.rtd\",,\"StudyData\", \"Close(\"&$D$12&\") when LocalYear(\"&$D$12&\")=\"&$D$2&\" and localMonth(\"&$D$12&\") =\"&$E$2&\" and LocalDay(\"&$D$12&\")=\"&$F$2&\" and Barix(\"&$D$12&\",reference:=StartOfSession)=\"&A12&\"\", \"Bar\", \"\", \"Close\",\"5\",\"0\",\"PrimaryOnly\",,,\"False\",\"T\",\"EveryTick\")","v":1.1678999999999999},5.5686442493042582E-4,{"$f":"RTD(\"cqg.rtd\",,\"StudyData\", \"Close(\"&$D$12&\") when LocalYear(\"&$D$12&\")=\"&$D$3&\" and localMonth(\"&$D$12&\") =\"&$E$3&\" and LocalDay(\"&$D$12&\")=\"&$F$3&\" and Barix(\"&$D$12&\",reference:=StartOfSession)=\"&A12&\"\", \"Bar\", \"\", \"Close\",\"5\",\"0\",\"PrimaryOnly\",,,\"False\",\"T\",\"EveryTick\")","v":1.1733},-1.0583126027743863E-2,{"$f":"RTD(\"cqg.rtd\",,\"StudyData\", \"Close(\"&$D$12&\") when LocalYear(\"&$D$12&\")=\"&$D$4&\" and localMonth(\"&$D$12&\") =\"&$E$4&\" and LocalDay(\"&$D$12&\")=\"&$F$4&\" and Barix(\"&$D$12&\",reference:=StartOfSession)=\"&A12&\"\", \"Bar\", \"\", \"Close\",\"5\",\"0\",\"PrimaryOnly\",,,\"False\",\"T\",\"EveryTick\")","v":1.1854},1.5207840486651098E-3,{"$f":"RTD(\"cqg.rtd\",,\"StudyData\", \"Close(\"&$D$12&\") when LocalYear(\"&$D$12&\")=\"&$D$5&\" and localMonth(\"&$D$12&\") =\"&$E$5&\" and LocalDay(\"&$D$12&\")=\"&$F$5&\" and Barix(\"&$D$12&\",reference:=StartOfSession)=\"&A12&\"\", \"Bar\", \"\", \"Close\",\"5\",\"0\",\"PrimaryOnly\",,,\"False\",\"T\",\"EveryTick\")","v":1.1875},-8.4203435500159135E-5,{"$f":"RTD(\"cqg.rtd\",,\"StudyData\", \"Close(\"&$D$12&\") when LocalYear(\"&$D$12&\")=\"&$D$6&\" and localMonth(\"&$D$12&\") =\"&$E$6&\" and LocalDay(\"&$D$12&\")=\"&$F$6&\" and Barix(\"&$D$12&\",reference:=StartOfSession)=\"&A12&\"\", \"Bar\", \"\", \"Close\",\"5\",\"0\",\"PrimaryOnly\",,,\"False\",\"T\",\"EveryTick\")","v":1.1895},2.9510961214165759E-3,{"$f":"RTD(\"cqg.rtd\",,\"StudyData\", \"Close(\"&$D$12&\") when LocalYear(\"&$D$12&\")=\"&$D$7&\" and localMonth(\"&$D$12&\") =\"&$E$7&\" and LocalDay(\"&$D$12&\")=\"&$F$7&\" and Barix(\"&$D$12&\",reference:=StartOfSession)=\"&A12&\"\", \"Bar\", \"\", \"Close\",\"5\",\"0\",\"PrimaryOnly\",,,\"False\",\"T\",\"EveryTick\")","v":1.18485},-4.1603630862329889E-3,{"$f":"RTD(\"cqg.rtd\",,\"StudyData\", \"Close(\"&$D$12&\") when LocalYear(\"&$D$12&\")=\"&$D$8&\" and localMonth(\"&$D$12&\") =\"&$E$8&\" and LocalDay(\"&$D$12&\")=\"&$F$8&\" and Barix(\"&$D$12&\",reference:=StartOfSession)=\"&A12&\"\", \"Bar\", \"\", \"Close\",\"5\",\"0\",\"PrimaryOnly\",,,\"False\",\"T\",\"EveryTick\")","v":1.19025},3.5411660553939391E-3,{"$f":"RTD(\"cqg.rtd\",,\"StudyData\", \"Close(\"&$D$12&\") when LocalYear(\"&$D$12&\")=\"&$D$9&\" and localMonth(\"&$D$12&\") =\"&$E$9&\" and LocalDay(\"&$D$12&\")=\"&$F$9&\" and Barix(\"&$D$12&\",reference:=StartOfSession)=\"&A12&\"\", \"Bar\", \"\", \"Close\",\"5\",\"0\",\"PrimaryOnly\",,,\"False\",\"T\",\"EveryTick\")","v":1.18825},6.4797560562425329E-3,{"$f":"RTD(\"cqg.rtd\",,\"StudyData\", \"Close(\"&$D$12&\") when LocalYear(\"&$D$12&\")=\"&$D$10&\" and localMonth(\"&$D$12&\") =\"&$E$10&\" and LocalDay(\"&$D$12&\")=\"&$F$10&\" and Barix(\"&$D$12&\",reference:=StartOfSession)=\"&A12&\"\", \"Bar\", \"\", \"Close\",\"5\",\"0\",\"PrimaryOnly\",,,\"False\",\"T\",\"EveryTick\")","v":1.1758},-2.8410295551880289E-3,null,{"$f":"VLOOKUP(MAX(AE2:AE87),A1:B87,2,FALSE)","v":"08:30:00"},null,""]
[192,"09:00:00",null,{"$f":"RTD(\"cqg.rtd\", ,\"ContractData\",D12, \"LastQuoteToday\",, \"T\")","v":1.1681000000000001},null,null,{"$f":"C1","v":"2018-06-18"},{"$f":"RTD(\"cqg.rtd\",,\"StudyData\", \"Close(\"&$D$12&\") when LocalYear(\"&$D$12&\")=\"&$D$1&\" and localMonth(\"&$D$12&\") =\"&$E$1&\" and LocalDay(\"&$D$12&\")=\"&$F$1&\" and Barix(\"&$D$12&\",reference:=StartOfSession)=\"&A13&\"\", \"Bar\", \"\", \"Close\",\"5\",\"0\",\"PrimaryOnly\",,,\"False\",\"T\",\"EveryTick\")","v":""},{"$error":"#N/A"},{"$f":"RTD(\"cqg.rtd\",,\"StudyData\", \"Close(\"&$D$12&\") when LocalYear(\"&$D$12&\")=\"&$D$2&\" and localMonth(\"&$D$12&\") =\"&$E$2&\" and LocalDay(\"&$D$12&\")=\"&$F$2&\" and Barix(\"&$D$12&\",reference:=StartOfSession)=\"&A13&\"\", \"Bar\", \"\", \"Close\",\"5\",\"0\",\"PrimaryOnly\",,,\"False\",\"T\",\"EveryTick\")","v":1.16855},1.1137288498608516E-3,{"$f":"RTD(\"cqg.rtd\",,\"StudyData\", \"Close(\"&$D$12&\") when LocalYear(\"&$D$12&\")=\"&$D$3&\" and localMonth(\"&$D$12&\") =\"&$E$3&\" and LocalDay(\"&$D$12&\")=\"&$F$3&\" and Barix(\"&$D$12&\",reference:=StartOfSession)=\"&A13&\"\", \"Bar\", \"\", \"Close\",\"5\",\"0\",\"PrimaryOnly\",,,\"False\",\"T\",\"EveryTick\")","v":1.1738999999999999},-1.007715984315059E-2,{"$f":"RTD(\"cqg.rtd\",,\"StudyData\", \"Close(\"&$D$12&\") when LocalYear(\"&$D$12&\")=\"&$D$4&\" and localMonth(\"&$D$12&\") =\"&$E$4&\" and LocalDay(\"&$D$12&\")=\"&$F$4&\" and Barix(\"&$D$12&\",reference:=StartOfSession)=\"&A13&\"\", \"Bar\", \"\", \"Close\",\"5\",\"0\",\"PrimaryOnly\",,,\"False\",\"T\",\"EveryTick\")","v":1.1857500000000001},1.8164920581278273E-3,{"$f":"RTD(\"cqg.rtd\",,\"StudyData\", \"Close(\"&$D$12&\") when LocalYear(\"&$D$12&\")=\"&$D$5&\" and localMonth(\"&$D$12&\") =\"&$E$5&\" and LocalDay(\"&$D$12&\")=\"&$F$5&\" and Barix(\"&$D$12&\",reference:=StartOfSession)=\"&A13&\"\", \"Bar\", \"\", \"Close\",\"5\",\"0\",\"PrimaryOnly\",,,\"False\",\"T\",\"EveryTick\")","v":1.1879999999999999},3.3681374200063654E-4,{"$f":"RTD(\"cqg.rtd\",,\"StudyData\", \"Close(\"&$D$12&\") when LocalYear(\"&$D$12&\")=\"&$D$6&\" and localMonth(\"&$D$12&\") =\"&$E$6&\" and LocalDay(\"&$D$12&\")=\"&$F$6&\" and Barix(\"&$D$12&\",reference:=StartOfSession)=\"&A13&\"\", \"Bar\", \"\", \"Close\",\"5\",\"0\",\"PrimaryOnly\",,,\"False\",\"T\",\"EveryTick\")","v":1.1895},2.9510961214165759E-3,{"$f":"RTD(\"cqg.rtd\",,\"StudyData\", \"Close(\"&$D$12&\") when LocalYear(\"&$D$12&\")=\"&$D$7&\" and localMonth(\"&$D$12&\") =\"&$E$7&\" and LocalDay(\"&$D$12&\")=\"&$F$7&\" and Barix(\"&$D$12&\",reference:=StartOfSession)=\"&A13&\"\", \"Bar\", \"\", \"Close\",\"5\",\"0\",\"PrimaryOnly\",,,\"False\",\"T\",\"EveryTick\")","v":1.1852499999999999},-3.8241721297697547E-3,{"$f":"RTD(\"cqg.rtd\",,\"StudyData\", \"Close(\"&$D$12&\") when LocalYear(\"&$D$12&\")=\"&$D$8&\" and localMonth(\"&$D$12&\") =\"&$E$8&\" and LocalDay(\"&$D$12&\")=\"&$F$8&\" and Barix(\"&$D$12&\",reference:=StartOfSession)=\"&A13&\"\", \"Bar\", \"\", \"Close\",\"5\",\"0\",\"PrimaryOnly\",,,\"False\",\"T\",\"EveryTick\")","v":1.19085},4.0470469204501626E-3,{"$f":"RTD(\"cqg.rtd\",,\"StudyData\", \"Close(\"&$D$12&\") when LocalYear(\"&$D$12&\")=\"&$D$9&\" and localMonth(\"&$D$12&\") =\"&$E$9&\" and LocalDay(\"&$D$12&\")=\"&$F$9&\" and Barix(\"&$D$12&\",reference:=StartOfSession)=\"&A13&\"\", \"Bar\", \"\", \"Close\",\"5\",\"0\",\"PrimaryOnly\",,,\"False\",\"T\",\"EveryTick\")","v":1.1877},6.0138912417413886E-3,{"$f":"RTD(\"cqg.rtd\",,\"StudyData\", \"Close(\"&$D$12&\") when LocalYear(\"&$D$12&\")=\"&$D$10&\" and localMonth(\"&$D$12&\") =\"&$E$10&\" and LocalDay(\"&$D$12&\")=\"&$F$10&\" and Barix(\"&$D$12&\",reference:=StartOfSession)=\"&A13&\"\", \"Bar\", \"\", \"Close\",\"5\",\"0\",\"PrimaryOnly\",,,\"False\",\"T\",\"EveryTick\")","v":1.17465},-3.8163083577152598E-3,null,null,null,""]
[193,"09:05:00",null,{"$f":"RTD(\"cqg.rtd\", ,\"ContractData\",D12, \"LongDescription\",, \"T\")","v":"Euro FX (Globex), Sep 18"},null,null,{"$f":"C2","v":"2018-06-15"},{"$f":"RTD(\"cqg.rtd\",,\"StudyData\", \"Close(\"&$D$12&\") when LocalYear(\"&$D$12&\")=\"&$D$1&\" and localMonth(\"&$D$12&\") =\"&$E$1&\" and LocalDay(\"&$D$12&\")=\"&$F$1&\" and Barix(\"&$D$12&\",reference:=StartOfSession)=\"&A14&\"\", \"Bar\", \"\", \"Close\",\"5\",\"0\",\"PrimaryOnly\",,,\"False\",\"T\",\"EveryTick\")","v":""},{"$error":"#N/A"},{"$f":"RTD(\"cqg.rtd\",,\"StudyData\", \"Close(\"&$D$12&\") when LocalYear(\"&$D$12&\")=\"&$D$2&\" and localMonth(\"&$D$12&\") =\"&$E$2&\" and LocalDay(\"&$D$12&\")=\"&$F$2&\" and Barix(\"&$D$12&\",reference:=StartOfSession)=\"&A14&\"\", \"Bar\", \"\", \"Close\",\"5\",\"0\",\"PrimaryOnly\",,,\"False\",\"T\",\"EveryTick\")","v":1.1689499999999999},1.4564146498179781E-3,{"$f":"RTD(\"cqg.rtd\",,\"StudyData\", \"Close(\"&$D$12&\") when LocalYear(\"&$D$12&\")=\"&$D$3&\" and localMonth(\"&$D$12&\") =\"&$E$3&\" and LocalDay(\"&$D$12&\")=\"&$F$3&\" and Barix(\"&$D$12&\",reference:=StartOfSession)=\"&A14&\"\", \"Bar\", \"\", \"Close\",\"5\",\"0\",\"PrimaryOnly\",,,\"False\",\"T\",\"EveryTick\")","v":1.17235},-1.1384239153349974E-2,{"$f":"RTD(\"cqg.rtd\",,\"StudyData\", \"Close(\"&$D$12&\") when LocalYear(\"&$D$12&\")=\"&$D$4&\" and localMonth(\"&$D$12&\") =\"&$E$4&\" and LocalDay(\"&$D$12&\")=\"&$F$4&\" and Barix(\"&$D$12&\",reference:=StartOfSession)=\"&A14&\"\", \"Bar\", \"\", \"Close\",\"5\",\"0\",\"PrimaryOnly\",,,\"False\",\"T\",\"EveryTick\")","v":1.1855500000000001},1.6475160527206136E-3,{"$f":"RTD(\"cqg.rtd\",,\"StudyData\", \"Close(\"&$D$12&\") when LocalYear(\"&$D$12&\")=\"&$D$5&\" and localMonth(\"&$D$12&\") =\"&$E$5&\" and LocalDay(\"&$D$12&\")=\"&$F$5&\" and Barix(\"&$D$12&\",reference:=StartOfSession)=\"&A14&\"\", \"Bar\", \"\", \"Close\",\"5\",\"0\",\"PrimaryOnly\",,,\"False\",\"T\",\"EveryTick\")","v":1.1874499999999999},-1.2630515325033219E-4,{"$f":"RTD(\"cqg.rtd\",,\"StudyData\", \"Close(\"&$D$12&\") when LocalYear(\"&$D$12&\")=\"&$D$6&\" and localMonth(\"&$D$12&\") =\"&$E$6&\" and LocalDay(\"&$D$12&\")=\"&$F$6&\" and Barix(\"&$D$12&\",reference:=StartOfSession)=\"&A14&\"\", \"Bar\", \"\", \"Close\",\"5\",\"0\",\"PrimaryOnly\",,,\"False\",\"T\",\"EveryTick\")","v":1.1892499999999999},2.740303541315325E-3,{"$f":"RTD(\"cqg.rtd\",,\"StudyData\", \"Close(\"&$D$12&\") when LocalYear(\"&$D$12&\")=\"&$D$7&\" and localMonth(\"&$D$12&\") =\"&$E$7&\" and LocalDay(\"&$D$12&\")=\"&$F$7&\" and Barix(\"&$D$12&\",reference:=StartOfSession)=\"&A14&\"\", \"Bar\", \"\", \"Close\",\"5\",\"0\",\"PrimaryOnly\",,,\"False\",\"T\",\"EveryTick\")","v":1.1851499999999999},-3.9082198688855634E-3,{"$f":"RTD(\"cqg.rtd\",,\"StudyData\", \"Close(\"&$D$12&\") when LocalYear(\"&$D$12&\")=\"&$D$8&\" and localMonth(\"&$D$12&\") =\"&$E$8&\" and LocalDay(\"&$D$12&\")=\"&$F$8&\" and Barix(\"&$D$12&\",reference:=StartOfSession)=\"&A14&\"\", \"Bar\", \"\", \"Close\",\"5\",\"0\",\"PrimaryOnly\",,,\"False\",\"T\",\"EveryTick\")","v":1.1898500000000001},3.2039121453564566E-3,{"$f":"RTD(\"cqg.rtd\",,\"StudyData\", \"Close(\"&$D$12&\") when LocalYear(\"&$D$12&\")=\"&$D$9&\" and localMonth(\"&$D$12&\") =\"&$E$9&\" and LocalDay(\"&$D$12&\")=\"&$F$9&\" and Barix(\"&$D$12&\",reference:=StartOfSession)=\"&A14&\"\", \"Bar\", \"\", \"Close\",\"5\",\"0\",\"PrimaryOnly\",,,\"False\",\"T\",\"EveryTick\")","v":1.1878500000000001},6.140945282059951E-3,{"$f":"RTD(\"cqg.rtd\",,\"StudyData\", \"Close(\"&$D$12&\") when LocalYear(\"&$D$12&\")=\"&$D$10&\" and localMonth(\"&$D$12&\") =\"&$E$10&\" and LocalDay(\"&$D$12&\")=\"&$F$10&\" and Barix(\"&$D$12&\",reference:=StartOfSession)=\"&A14&\"\", \"Bar\", \"\", \"Close\",\"5\",\"0\",\"PrimaryOnly\",,,\"False\",\"T\",\"EveryTick\")","v":1.1752},-3.3498706695500135E-3,null,null,null,""]
[194,"09:10:00","",null,null,null,"2018-06-14",{"$f":"RTD(\"cqg.rtd\",,\"StudyData\", \"Close(\"&$D$12&\") when LocalYear(\"&$D$12&\")=\"&$D$1&\" and localMonth(\"&$D$12&\") =\"&$E$1&\" and LocalDay(\"&$D$12&\")=\"&$F$1&\" and Barix(\"&$D$12&\",reference:=StartOfSession)=\"&A15&\"\", \"Bar\", \"\", \"Close\",\"5\",\"0\",\"PrimaryOnly\",,,\"False\",\"T\",\"EveryTick\")","v":""},{"$error":"#N/A"},{"$f":"RTD(\"cqg.rtd\",,\"StudyData\", \"Close(\"&$D$12&\") when LocalYear(\"&$D$12&\")=\"&$D$2&\" and localMonth(\"&$D$12&\") =\"&$E$2&\" and LocalDay(\"&$D$12&\")=\"&$F$2&\" and Barix(\"&$D$12&\",reference:=StartOfSession)=\"&A15&\"\", \"Bar\", \"\", \"Close\",\"5\",\"0\",\"PrimaryOnly\",,,\"False\",\"T\",\"EveryTick\")","v":1.1695},1.9276076247591223E-3,{"$f":"RTD(\"cqg.rtd\",,\"StudyData\", \"Close(\"&$D$12&\") when LocalYear(\"&$D$12&\")=\"&$D$3&\" and localMonth(\"&$D$12&\") =\"&$E$3&\" and LocalDay(\"&$D$12&\")=\"&$F$3&\" and Barix(\"&$D$12&\",reference:=StartOfSession)=\"&A15&\"\", \"Bar\", \"\", \"Close\",\"5\",\"0\",\"PrimaryOnly\",,,\"False\",\"T\",\"EveryTick\")","v":1.17225},-1.1468566850782186E-2,{"$f":"RTD(\"cqg.rtd\",,\"StudyData\", \"Close(\"&$D$12&\") when LocalYear(\"&$D$12&\")=\"&$D$4&\" and localMonth(\"&$D$12&\") =\"&$E$4&\" and LocalDay(\"&$D$12&\")=\"&$F$4&\" and Barix(\"&$D$12&\",reference:=StartOfSession)=\"&A15&\"\", \"Bar\", \"\", \"Close\",\"5\",\"0\",\"PrimaryOnly\",,,\"False\",\"T\",\"EveryTick\")","v":1.1858},1.8587360594795369E-3,{"$f":"RTD(\"cqg.rtd\",,\"StudyData\", \"Close(\"&$D$12&\") when LocalYear(\"&$D$12&\")=\"&$D$5&\" and localMonth(\"&$D$12&\") =\"&$E$5&\" and LocalDay(\"&$D$12&\")=\"&$F$5&\" and Barix(\"&$D$12&\",reference:=StartOfSession)=\"&A15&\"\", \"Bar\", \"\", \"Close\",\"5\",\"0\",\"PrimaryOnly\",,,\"False\",\"T\",\"EveryTick\")","v":1.1879999999999999},3.3681374200063654E-4,{"$f":"RTD(\"cqg.rtd\",,\"StudyData\", \"Close(\"&$D$12&\") when LocalYear(\"&$D$12&\")=\"&$D$6&\" and localMonth(\"&$D$12&\") =\"&$E$6&\" and LocalDay(\"&$D$12&\")=\"&$F$6&\" and Barix(\"&$D$12&\",reference:=StartOfSession)=\"&A15&\"\", \"Bar\", \"\", \"Close\",\"5\",\"0\",\"PrimaryOnly\",,,\"False\",\"T\",\"EveryTick\")","v":1.1890000000000001},2.5295109612142614E-3,{"$f":"RTD(\"cqg.rtd\",,\"StudyData\", \"Close(\"&$D$12&\") when LocalYear(\"&$D$12&\")=\"&$D$7&\" and localMonth(\"&$D$12&\") =\"&$E$7&\" and LocalDay(\"&$D$12&\")=\"&$F$7&\" and Barix(\"&$D$12&\",reference:=StartOfSession)=\"&A15&\"\", \"Bar\", \"\", \"Close\",\"5\",\"0\",\"PrimaryOnly\",,,\"False\",\"T\",\"EveryTick\")","v":1.18485},-4.1603630862329889E-3,{"$f":"RTD(\"cqg.rtd\",,\"StudyData\", \"Close(\"&$D$12&\") when LocalYear(\"&$D$12&\")=\"&$D$8&\" and localMonth(\"&$D$12&\") =\"&$E$8&\" and LocalDay(\"&$D$12&\")=\"&$F$8&\" and Barix(\"&$D$12&\",reference:=StartOfSession)=\"&A15&\"\", \"Bar\", \"\", \"Close\",\"5\",\"0\",\"PrimaryOnly\",,,\"False\",\"T\",\"EveryTick\")","v":1.19},3.3303823616204187E-3,{"$f":"RTD(\"cqg.rtd\",,\"StudyData\", \"Close(\"&$D$12&\") when LocalYear(\"&$D$12&\")=\"&$D$9&\" and localMonth(\"&$D$12&\") =\"&$E$9&\" and LocalDay(\"&$D$12&\")=\"&$F$9&\" and Barix(\"&$D$12&\",reference:=StartOfSession)=\"&A15&\"\", \"Bar\", \"\", \"Close\",\"5\",\"0\",\"PrimaryOnly\",,,\"False\",\"T\",\"EveryTick\")","v":1.1875500000000001},5.8868372014230144E-3,{"$f":"RTD(\"cqg.rtd\",,\"StudyData\", \"Close(\"&$D$12&\") when LocalYear(\"&$D$12&\")=\"&$D$10&\" and localMonth(\"&$D$12&\") =\"&$E$10&\" and LocalDay(\"&$D$12&\")=\"&$F$10&\" and Barix(\"&$D$12&\",reference:=StartOfSession)=\"&A15&\"\", \"Bar\", \"\", \"Close\",\"5\",\"0\",\"PrimaryOnly\",,,\"False\",\"T\",\"EveryTick\")","v":1.1752},-3.3498706695500135E-3,null,null,null,""]
[195,"09:15:00",null,{"$f":"RTD(\"cqg.rtd\", ,\"ContractData\",D12, \"Ticksize\",, \"T\")","v":5.0000000000000002E-5},null,null,"2018-06-13",{"$f":"RTD(\"cqg.rtd\",,\"StudyData\", \"Close(\"&$D$12&\") when LocalYear(\"&$D$12&\")=\"&$D$1&\" and localMonth(\"&$D$12&\") =\"&$E$1&\" and LocalDay(\"&$D$12&\")=\"&$F$1&\" and Barix(\"&$D$12&\",reference:=StartOfSession)=\"&A16&\"\", \"Bar\", \"\", \"Close\",\"5\",\"0\",\"PrimaryOnly\",,,\"False\",\"T\",\"EveryTick\")","v":""},{"$error":"#N/A"},{"$f":"RTD(\"cqg.rtd\",,\"StudyData\", \"Close(\"&$D$12&\") when LocalYear(\"&$D$12&\")=\"&$D$2&\" and localMonth(\"&$D$12&\") =\"&$E$2&\" and LocalDay(\"&$D$12&\")=\"&$F$2&\" and Barix(\"&$D$12&\",reference:=StartOfSession)=\"&A16&\"\", \"Bar\", \"\", \"Close\",\"5\",\"0\",\"PrimaryOnly\",,,\"False\",\"T\",\"EveryTick\")","v":1.1696500000000001},2.0561147997431397E-3,{"$f":"RTD(\"cqg.rtd\",,\"StudyData\", \"Close(\"&$D$12&\") when LocalYear(\"&$D$12&\")=\"&$D$3&\" and localMonth(\"&$D$12&\") =\"&$E$3&\" and LocalDay(\"&$D$12&\")=\"&$F$3&\" and Barix(\"&$D$12&\",reference:=StartOfSession)=\"&A16&\"\", \"Bar\", \"\", \"Close\",\"5\",\"0\",\"PrimaryOnly\",,,\"False\",\"T\",\"EveryTick\")","v":1.17275},-1.1046928363621126E-2,{"$f":"RTD(\"cqg.rtd\",,\"StudyData\", \"Close(\"&$D$12&\") when LocalYear(\"&$D$12&\")=\"&$D$4&\" and localMonth(\"&$D$12&\") =\"&$E$4&\" and LocalDay(\"&$D$12&\")=\"&$F$4&\" and Barix(\"&$D$12&\",reference:=StartOfSession)=\"&A16&\"\", \"Bar\", \"\", \"Close\",\"5\",\"0\",\"PrimaryOnly\",,,\"False\",\"T\",\"EveryTick\")","v":1.1858500000000001},1.9009800608314341E-3,{"$f":"RTD(\"cqg.rtd\",,\"StudyData\", \"Close(\"&$D$12&\") when LocalYear(\"&$D$12&\")=\"&$D$5&\" and localMonth(\"&$D$12&\") =\"&$E$5&\" and LocalDay(\"&$D$12&\")=\"&$F$5&\" and Barix(\"&$D$12&\",reference:=StartOfSession)=\"&A16&\"\", \"Bar\", \"\", \"Close\",\"5\",\"0\",\"PrimaryOnly\",,,\"False\",\"T\",\"EveryTick\")","v":1.1880999999999999},4.2101717750079568E-4,{"$f":"RTD(\"cqg.rtd\",,\"StudyData\", \"Close(\"&$D$12&\") when LocalYear(\"&$D$12&\")=\"&$D$6&\" and localMonth(\"&$D$12&\") =\"&$E$6&\" and LocalDay(\"&$D$12&\")=\"&$F$6&\" and Barix(\"&$D$12&\",reference:=StartOfSession)=\"&A16&\"\", \"Bar\", \"\", \"Close\",\"5\",\"0\",\"PrimaryOnly\",,,\"False\",\"T\",\"EveryTick\")","v":1.1891499999999999},2.6559865092748618E-3,{"$f":"RTD(\"cqg.rtd\",,\"StudyData\", \"Close(\"&$D$12&\") when LocalYear(\"&$D$12&\")=\"&$D$7&\" and localMonth(\"&$D$12&\") =\"&$E$7&\" and LocalDay(\"&$D$12&\")=\"&$F$7&\" and Barix(\"&$D$12&\",reference:=StartOfSession)=\"&A16&\"\", \"Bar\", \"\", \"Close\",\"5\",\"0\",\"PrimaryOnly\",,,\"False\",\"T\",\"EveryTick\")","v":1.1853},-3.782148260211757E-3,{"$f":"RTD(\"cqg.rtd\",,\"StudyData\", \"Close(\"&$D$12&\") when LocalYear(\"&$D$12&\")=\"&$D$8&\" and localMonth(\"&$D$12&\") =\"&$E$8&\" and LocalDay(\"&$D$12&\")=\"&$F$8&\" and Barix(\"&$D$12&\",reference:=StartOfSession)=\"&A16&\"\", \"Bar\", \"\", \"Close\",\"5\",\"0\",\"PrimaryOnly\",,,\"False\",\"T\",\"EveryTick\")","v":1.1903999999999999},3.6676362716579012E-3,{"$f":"RTD(\"cqg.rtd\",,\"StudyData\", \"Close(\"&$D$12&\") when LocalYear(\"&$D$12&\")=\"&$D$9&\" and localMonth(\"&$D$12&\") =\"&$E$9&\" and LocalDay(\"&$D$12&\")=\"&$F$9&\" and Barix(\"&$D$12&\",reference:=StartOfSession)=\"&A16&\"\", \"Bar\", \"\", \"Close\",\"5\",\"0\",\"PrimaryOnly\",,,\"False\",\"T\",\"EveryTick\")","v":1.1876},5.9291885481957433E-3,{"$f":"RTD(\"cqg.rtd\",,\"StudyData\", \"Close(\"&$D$12&\") when LocalYear(\"&$D$12&\")=\"&$D$10&\" and localMonth(\"&$D$12&\") =\"&$E$10&\" and LocalDay(\"&$D$12&\")=\"&$F$10&\" and Barix(\"&$D$12&\",reference:=StartOfSession)=\"&A16&\"\", \"Bar\", \"\", \"Close\",\"5\",\"0\",\"PrimaryOnly\",,,\"False\",\"T\",\"EveryTick\")","v":1.1751499999999999},-3.3922740957469397E-3,null,null,null,""]
[196,"09:20:00",null,{"$f":"IF(D16>=1,0,IF(LEN(D16)-2=1,2,LEN(D16)-2))","v":5},null,{"$f":"VLOOKUP(D17,D18:E25,2,FALSE)","v":"#.00000"},"2018-06-12",{"$f":"RTD(\"cqg.rtd\",,\"StudyData\", \"Close(\"&$D$12&\") when LocalYear(\"&$D$12&\")=\"&$D$1&\" and localMonth(\"&$D$12&\") =\"&$E$1&\" and LocalDay(\"&$D$12&\")=\"&$F$1&\" and Barix(\"&$D$12&\",reference:=StartOfSession)=\"&A17&\"\", \"Bar\", \"\", \"Close\",\"5\",\"0\",\"PrimaryOnly\",,,\"False\",\"T\",\"EveryTick\")","v":""},{"$error":"#N/A"},{"$f":"RTD(\"cqg.rtd\",,\"StudyData\", \"Close(\"&$D$12&\") when LocalYear(\"&$D$12&\")=\"&$D$2&\" and localMonth(\"&$D$12&\") =\"&$E$2&\" and LocalDay(\"&$D$12&\")=\"&$F$2&\" and Barix(\"&$D$12&\",reference:=StartOfSession)=\"&A17&\"\", \"Bar\", \"\", \"Close\",\"5\",\"0\",\"PrimaryOnly\",,,\"False\",\"T\",\"EveryTick\")","v":1.17},2.3559648747055306E-3,{"$f":"RTD(\"cqg.rtd\",,\"StudyData\", \"Close(\"&$D$12&\") when LocalYear(\"&$D$12&\")=\"&$D$3&\" and localMonth(\"&$D$12&\") =\"&$E$3&\" and LocalDay(\"&$D$12&\")=\"&$F$3&\" and Barix(\"&$D$12&\",reference:=StartOfSession)=\"&A17&\"\", \"Bar\", \"\", \"Close\",\"5\",\"0\",\"PrimaryOnly\",,,\"False\",\"T\",\"EveryTick\")","v":1.1718999999999999},-1.1763713791795024E-2,{"$f":"RTD(\"cqg.rtd\",,\"StudyData\", \"Close(\"&$D$12&\") when LocalYear(\"&$D$12&\")=\"&$D$4&\" and localMonth(\"&$D$12&\") =\"&$E$4&\" and LocalDay(\"&$D$12&\")=\"&$F$4&\" and Barix(\"&$D$12&\",reference:=StartOfSession)=\"&A17&\"\", \"Bar\", \"\", \"Close\",\"5\",\"0\",\"PrimaryOnly\",,,\"False\",\"T\",\"EveryTick\")","v":1.1862999999999999},2.2811760729975709E-3,{"$f":"RTD(\"cqg.rtd\",,\"StudyData\", \"Close(\"&$D$12&\") when LocalYear(\"&$D$12&\")=\"&$D$5&\" and localMonth(\"&$D$12&\") =\"&$E$5&\" and LocalDay(\"&$D$12&\")=\"&$F$5&\" and Barix(\"&$D$12&\",reference:=StartOfSession)=\"&A17&\"\", \"Bar\", \"\", \"Close\",\"5\",\"0\",\"PrimaryOnly\",,,\"False\",\"T\",\"EveryTick\")","v":1.1880500000000001},3.7891545975080959E-4,{"$f":"RTD(\"cqg.rtd\",,\"StudyData\", \"Close(\"&$D$12&\") when LocalYear(\"&$D$12&\")=\"&$D$6&\" and localMonth(\"&$D$12&\") =\"&$E$6&\" and LocalDay(\"&$D$12&\")=\"&$F$6&\" and Barix(\"&$D$12&\",reference:=StartOfSession)=\"&A17&\"\", \"Bar\", \"\", \"Close\",\"5\",\"0\",\"PrimaryOnly\",,,\"False\",\"T\",\"EveryTick\")","v":1.1893},2.78246205733565E-3,{"$f":"RTD(\"cqg.rtd\",,\"StudyData\", \"Close(\"&$D$12&\") when LocalYear(\"&$D$12&\")=\"&$D$7&\" and localMonth(\"&$D$12&\") =\"&$E$7&\" and LocalDay(\"&$D$12&\")=\"&$F$7&\" and Barix(\"&$D$12&\",reference:=StartOfSession)=\"&A17&\"\", \"Bar\", \"\", \"Close\",\"5\",\"0\",\"PrimaryOnly\",,,\"False\",\"T\",\"EveryTick\")","v":1.1852},-3.8661959993275658E-3,{"$f":"RTD(\"cqg.rtd\",,\"StudyData\", \"Close(\"&$D$12&\") when LocalYear(\"&$D$12&\")=\"&$D$8&\" and localMonth(\"&$D$12&\") =\"&$E$8&\" and LocalDay(\"&$D$12&\")=\"&$F$8&\" and Barix(\"&$D$12&\",reference:=StartOfSession)=\"&A17&\"\", \"Bar\", \"\", \"Close\",\"5\",\"0\",\"PrimaryOnly\",,,\"False\",\"T\",\"EveryTick\")","v":1.19085},4.0470469204501626E-3,{"$f":"RTD(\"cqg.rtd\",,\"StudyData\", \"Close(\"&$D$12&\") when LocalYear(\"&$D$12&\")=\"&$D$9&\" and localMonth(\"&$D$12&\") =\"&$E$9&\" and LocalDay(\"&$D$12&\")=\"&$F$9&\" and Barix(\"&$D$12&\",reference:=StartOfSession)=\"&A17&\"\", \"Bar\", \"\", \"Close\",\"5\",\"0\",\"PrimaryOnly\",,,\"False\",\"T\",\"EveryTick\")","v":1.1873499999999999},5.7174318143315356E-3,{"$f":"RTD(\"cqg.rtd\",,\"StudyData\", \"Close(\"&$D$12&\") when LocalYear(\"&$D$12&\")=\"&$D$10&\" and localMonth(\"&$D$12&\") =\"&$E$10&\" and LocalDay(\"&$D$12&\")=\"&$F$10&\" and Barix(\"&$D$12&\",reference:=StartOfSession)=\"&A17&\"\", \"Bar\", \"\", \"Close\",\"5\",\"0\",\"PrimaryOnly\",,,\"False\",\"T\",\"EveryTick\")","v":1.1753499999999999},-3.2226603909596115E-3,null,null,null,""]
[197,"09:25:00",null,0,"#",null,"2018-06-11",{"$f":"RTD(\"cqg.rtd\",,\"StudyData\", \"Close(\"&$D$12&\") when LocalYear(\"&$D$12&\")=\"&$D$1&\" and localMonth(\"&$D$12&\") =\"&$E$1&\" and LocalDay(\"&$D$12&\")=\"&$F$1&\" and Barix(\"&$D$12&\",reference:=StartOfSession)=\"&A18&\"\", \"Bar\", \"\", \"Close\",\"5\",\"0\",\"PrimaryOnly\",,,\"False\",\"T\",\"EveryTick\")","v":""},{"$error":"#N/A"},{"$f":"RTD(\"cqg.rtd\",,\"StudyData\", \"Close(\"&$D$12&\") when LocalYear(\"&$D$12&\")=\"&$D$2&\" and localMonth(\"&$D$12&\") =\"&$E$2&\" and LocalDay(\"&$D$12&\")=\"&$F$2&\" and Barix(\"&$D$12&\",reference:=StartOfSession)=\"&A18&\"\", \"Bar\", \"\", \"Close\",\"5\",\"0\",\"PrimaryOnly\",,,\"False\",\"T\",\"EveryTick\")","v":1.1698500000000001},2.2274576997217033E-3,{"$f":"RTD(\"cqg.rtd\",,\"StudyData\", \"Close(\"&$D$12&\") when LocalYear(\"&$D$12&\")=\"&$D$3&\" and localMonth(\"&$D$12&\") =\"&$E$3&\" and LocalDay(\"&$D$12&\")=\"&$F$3&\" and Barix(\"&$D$12&\",reference:=StartOfSession)=\"&A18&\"\", \"Bar\", \"\", \"Close\",\"5\",\"0\",\"PrimaryOnly\",,,\"False\",\"T\",\"EveryTick\")","v":1.1715},-1.2101024581523873E-2,{"$f":"RTD(\"cqg.rtd\",,\"StudyData\", \"Close(\"&$D$12&\") when LocalYear(\"&$D$12&\")=\"&$D$4&\" and localMonth(\"&$D$12&\") =\"&$E$4&\" and LocalDay(\"&$D$12&\")=\"&$F$4&\" and Barix(\"&$D$12&\",reference:=StartOfSession)=\"&A18&\"\", \"Bar\", \"\", \"Close\",\"5\",\"0\",\"PrimaryOnly\",,,\"False\",\"T\",\"EveryTick\")","v":1.1859999999999999},2.0277120648867506E-3,{"$f":"RTD(\"cqg.rtd\",,\"StudyData\", \"Close(\"&$D$12&\") when LocalYear(\"&$D$12&\")=\"&$D$5&\" and localMonth(\"&$D$12&\") =\"&$E$5&\" and LocalDay(\"&$D$12&\")=\"&$F$5&\" and Barix(\"&$D$12&\",reference:=StartOfSession)=\"&A18&\"\", \"Bar\", \"\", \"Close\",\"5\",\"0\",\"PrimaryOnly\",,,\"False\",\"T\",\"EveryTick\")","v":1.1876},0,{"$f":"RTD(\"cqg.rtd\",,\"StudyData\", \"Close(\"&$D$12&\") when LocalYear(\"&$D$12&\")=\"&$D$6&\" and localMonth(\"&$D$12&\") =\"&$E$6&\" and LocalDay(\"&$D$12&\")=\"&$F$6&\" and Barix(\"&$D$12&\",reference:=StartOfSession)=\"&A18&\"\", \"Bar\", \"\", \"Close\",\"5\",\"0\",\"PrimaryOnly\",,,\"False\",\"T\",\"EveryTick\")","v":1.1900999999999999},3.456998313659353E-3,{"$f":"RTD(\"cqg.rtd\",,\"StudyData\", \"Close(\"&$D$12&\") when LocalYear(\"&$D$12&\")=\"&$D$7&\" and localMonth(\"&$D$12&\") =\"&$E$7&\" and LocalDay(\"&$D$12&\")=\"&$F$7&\" and Barix(\"&$D$12&\",reference:=StartOfSession)=\"&A18&\"\", \"Bar\", \"\", \"Close\",\"5\",\"0\",\"PrimaryOnly\",,,\"False\",\"T\",\"EveryTick\")","v":1.1857},-3.4459573037485228E-3,{"$f":"RTD(\"cqg.rtd\",,\"StudyData\", \"Close(\"&$D$12&\") when LocalYear(\"&$D$12&\")=\"&$D$8&\" and localMonth(\"&$D$12&\") =\"&$E$8&\" and LocalDay(\"&$D$12&\")=\"&$F$8&\" and Barix(\"&$D$12&\",reference:=StartOfSession)=\"&A18&\"\", \"Bar\", \"\", \"Close\",\"5\",\"0\",\"PrimaryOnly\",,,\"False\",\"T\",\"EveryTick\")","v":1.1908000000000001},4.0048901816955706E-3,{"$f":"RTD(\"cqg.rtd\",,\"StudyData\", \"Close(\"&$D$12&\") when LocalYear(\"&$D$12&\")=\"&$D$9&\" and localMonth(\"&$D$12&\") =\"&$E$9&\" and LocalDay(\"&$D$12&\")=\"&$F$9&\" and Barix(\"&$D$12&\",reference:=StartOfSession)=\"&A18&\"\", \"Bar\", \"\", \"Close\",\"5\",\"0\",\"PrimaryOnly\",,,\"False\",\"T\",\"EveryTick\")","v":1.1870499999999999},5.4633237336945998E-3,{"$f":"RTD(\"cqg.rtd\",,\"StudyData\", \"Close(\"&$D$12&\") when LocalYear(\"&$D$12&\")=\"&$D$10&\" and localMonth(\"&$D$12&\") =\"&$E$10&\" and LocalDay(\"&$D$12&\")=\"&$F$10&\" and Barix(\"&$D$12&\",reference:=StartOfSession)=\"&A18&\"\", \"Bar\", \"\", \"Close\",\"5\",\"0\",\"PrimaryOnly\",,,\"False\",\"T\",\"EveryTick\")","v":1.17475},-3.7315015053215957E-3,null,null,null,""]
[198,"09:30:00",null,1,"#.0",null,"2018-06-08",{"$f":"RTD(\"cqg.rtd\",,\"StudyData\", \"Close(\"&$D$12&\") when LocalYear(\"&$D$12&\")=\"&$D$1&\" and localMonth(\"&$D$12&\") =\"&$E$1&\" and LocalDay(\"&$D$12&\")=\"&$F$1&\" and Barix(\"&$D$12&\",reference:=StartOfSession)=\"&A19&\"\", \"Bar\", \"\", \"Close\",\"5\",\"0\",\"PrimaryOnly\",,,\"False\",\"T\",\"EveryTick\")","v":""},{"$error":"#N/A"},{"$f":"RTD(\"cqg.rtd\",,\"StudyData\", \"Close(\"&$D$12&\") when LocalYear(\"&$D$12&\")=\"&$D$2&\" and localMonth(\"&$D$12&\") =\"&$E$2&\" and LocalDay(\"&$D$12&\")=\"&$F$2&\" and Barix(\"&$D$12&\",reference:=StartOfSession)=\"&A19&\"\", \"Bar\", \"\", \"Close\",\"5\",\"0\",\"PrimaryOnly\",,,\"False\",\"T\",\"EveryTick\")","v":1.1698},2.184621974726967E-3,{"$f":"RTD(\"cqg.rtd\",,\"StudyData\", \"Close(\"&$D$12&\") when LocalYear(\"&$D$12&\")=\"&$D$3&\" and localMonth(\"&$D$12&\") =\"&$E$3&\" and LocalDay(\"&$D$12&\")=\"&$F$3&\" and Barix(\"&$D$12&\",reference:=StartOfSession)=\"&A19&\"\", \"Bar\", \"\", \"Close\",\"5\",\"0\",\"PrimaryOnly\",,,\"False\",\"T\",\"EveryTick\")","v":1.1724000000000001},-1.1342075304633775E-2,{"$f":"RTD(\"cqg.rtd\",,\"StudyData\", \"Close(\"&$D$12&\") when LocalYear(\"&$D$12&\")=\"&$D$4&\" and localMonth(\"&$D$12&\") =\"&$E$4&\" and LocalDay(\"&$D$12&\")=\"&$F$4&\" and Barix(\"&$D$12&\",reference:=StartOfSession)=\"&A19&\"\", \"Bar\", \"\", \"Close\",\"5\",\"0\",\"PrimaryOnly\",,,\"False\",\"T\",\"EveryTick\")","v":1.18635},2.3234200743494681E-3,{"$f":"RTD(\"cqg.rtd\",,\"StudyData\", \"Close(\"&$D$12&\") when LocalYear(\"&$D$12&\")=\"&$D$5&\" and localMonth(\"&$D$12&\") =\"&$E$5&\" and LocalDay(\"&$D$12&\")=\"&$F$5&\" and Barix(\"&$D$12&\",reference:=StartOfSession)=\"&A19&\"\", \"Bar\", \"\", \"Close\",\"5\",\"0\",\"PrimaryOnly\",,,\"False\",\"T\",\"EveryTick\")","v":1.1877},8.4203435500159135E-5,{"$f":"RTD(\"cqg.rtd\",,\"StudyData\", \"Close(\"&$D$12&\") when LocalYear(\"&$D$12&\")=\"&$D$6&\" and localMonth(\"&$D$12&\") =\"&$E$6&\" and LocalDay(\"&$D$12&\")=\"&$F$6&\" and Barix(\"&$D$12&\",reference:=StartOfSession)=\"&A19&\"\", \"Bar\", \"\", \"Close\",\"5\",\"0\",\"PrimaryOnly\",,,\"False\",\"T\",\"EveryTick\")","v":1.1898},3.2040472175379644E-3,{"$f":"RTD(\"cqg.rtd\",,\"StudyData\", \"Close(\"&$D$12&\") when LocalYear(\"&$D$12&\")=\"&$D$7&\" and localMonth(\"&$D$12&\") =\"&$E$7&\" and LocalDay(\"&$D$12&\")=\"&$F$7&\" and Barix(\"&$D$12&\",reference:=StartOfSession)=\"&A19&\"\", \"Bar\", \"\", \"Close\",\"5\",\"0\",\"PrimaryOnly\",,,\"False\",\"T\",\"EveryTick\")","v":1.1859},-3.2778618255169061E-3,{"$f":"RTD(\"cqg.rtd\",,\"StudyData\", \"Close(\"&$D$12&\") when LocalYear(\"&$D$12&\")=\"&$D$8&\" and localMonth(\"&$D$12&\") =\"&$E$8&\" and LocalDay(\"&$D$12&\")=\"&$F$8&\" and Barix(\"&$D$12&\",reference:=StartOfSession)=\"&A19&\"\", \"Bar\", \"\", \"Close\",\"5\",\"0\",\"PrimaryOnly\",,,\"False\",\"T\",\"EveryTick\")","v":1.1911},4.257830614223683E-3,{"$f":"RTD(\"cqg.rtd\",,\"StudyData\", \"Close(\"&$D$12&\") when LocalYear(\"&$D$12&\")=\"&$D$9&\" and localMonth(\"&$D$12&\") =\"&$E$9&\" and LocalDay(\"&$D$12&\")=\"&$F$9&\" and Barix(\"&$D$12&\",reference:=StartOfSession)=\"&A19&\"\", \"Bar\", \"\", \"Close\",\"5\",\"0\",\"PrimaryOnly\",,,\"False\",\"T\",\"EveryTick\")","v":1.1869499999999999},5.3786210401489546E-3,{"$f":"RTD(\"cqg.rtd\",,\"StudyData\", \"Close(\"&$D$12&\") when LocalYear(\"&$D$12&\")=\"&$D$10&\" and localMonth(\"&$D$12&\") =\"&$E$10&\" and LocalDay(\"&$D$12&\")=\"&$F$10&\" and Barix(\"&$D$12&\",reference:=StartOfSession)=\"&A19&\"\", \"Bar\", \"\", \"Close\",\"5\",\"0\",\"PrimaryOnly\",,,\"False\",\"T\",\"EveryTick\")","v":1.175},-3.5194843743373417E-3,null,null,null,""]
[199,"09:35:00",null,2,"#.00",null,"2018-06-07",{"$f":"RTD(\"cqg.rtd\",,\"StudyData\", \"Close(\"&$D$12&\") when LocalYear(\"&$D$12&\")=\"&$D$1&\" and localMonth(\"&$D$12&\") =\"&$E$1&\" and LocalDay(\"&$D$12&\")=\"&$F$1&\" and Barix(\"&$D$12&\",reference:=StartOfSession)=\"&A20&\"\", \"Bar\", \"\", \"Close\",\"5\",\"0\",\"PrimaryOnly\",,,\"False\",\"T\",\"EveryTick\")","v":""},{"$error":"#N/A"},{"$f":"RTD(\"cqg.rtd\",,\"StudyData\", \"Close(\"&$D$12&\") when LocalYear(\"&$D$12&\")=\"&$D$2&\" and localMonth(\"&$D$12&\") =\"&$E$2&\" and LocalDay(\"&$D$12&\")=\"&$F$2&\" and Barix(\"&$D$12&\",reference:=StartOfSession)=\"&A20&\"\", \"Bar\", \"\", \"Close\",\"5\",\"0\",\"PrimaryOnly\",,,\"False\",\"T\",\"EveryTick\")","v":1.1698500000000001},2.2274576997217033E-3,{"$f":"RTD(\"cqg.rtd\",,\"StudyData\", \"Close(\"&$D$12&\") when LocalYear(\"&$D$12&\")=\"&$D$3&\" and localMonth(\"&$D$12&\") =\"&$E$3&\" and LocalDay(\"&$D$12&\")=\"&$F$3&\" and Barix(\"&$D$12&\",reference:=StartOfSession)=\"&A20&\"\", \"Bar\", \"\", \"Close\",\"5\",\"0\",\"PrimaryOnly\",,,\"False\",\"T\",\"EveryTick\")","v":1.17195},-1.1721549943078823E-2,{"$f":"RTD(\"cqg.rtd\",,\"StudyData\", \"Close(\"&$D$12&\") when LocalYear(\"&$D$12&\")=\"&$D$4&\" and localMonth(\"&$D$12&\") =\"&$E$4&\" and LocalDay(\"&$D$12&\")=\"&$F$4&\" and Barix(\"&$D$12&\",reference:=StartOfSession)=\"&A20&\"\", \"Bar\", \"\", \"Close\",\"5\",\"0\",\"PrimaryOnly\",,,\"False\",\"T\",\"EveryTick\")","v":1.1859500000000001},1.9854680635350407E-3,{"$f":"RTD(\"cqg.rtd\",,\"StudyData\", \"Close(\"&$D$12&\") when LocalYear(\"&$D$12&\")=\"&$D$5&\" and localMonth(\"&$D$12&\") =\"&$E$5&\" and LocalDay(\"&$D$12&\")=\"&$F$5&\" and Barix(\"&$D$12&\",reference:=StartOfSession)=\"&A20&\"\", \"Bar\", \"\", \"Close\",\"5\",\"0\",\"PrimaryOnly\",,,\"False\",\"T\",\"EveryTick\")","v":1.1875500000000001},-4.2101717749986082E-5,{"$f":"RTD(\"cqg.rtd\",,\"StudyData\", \"Close(\"&$D$12&\") when LocalYear(\"&$D$12&\")=\"&$D$6&\" and localMonth(\"&$D$12&\") =\"&$E$6&\" and LocalDay(\"&$D$12&\")=\"&$F$6&\" and Barix(\"&$D$12&\",reference:=StartOfSession)=\"&A20&\"\", \"Bar\", \"\", \"Close\",\"5\",\"0\",\"PrimaryOnly\",,,\"False\",\"T\",\"EveryTick\")","v":1.1890000000000001},2.5295109612142614E-3,{"$f":"RTD(\"cqg.rtd\",,\"StudyData\", \"Close(\"&$D$12&\") when LocalYear(\"&$D$12&\")=\"&$D$7&\" and localMonth(\"&$D$12&\") =\"&$E$7&\" and LocalDay(\"&$D$12&\")=\"&$F$7&\" and Barix(\"&$D$12&\",reference:=StartOfSession)=\"&A20&\"\", \"Bar\", \"\", \"Close\",\"5\",\"0\",\"PrimaryOnly\",,,\"False\",\"T\",\"EveryTick\")","v":1.1856},-3.5300050428643316E-3,{"$f":"RTD(\"cqg.rtd\",,\"StudyData\", \"Close(\"&$D$12&\") when LocalYear(\"&$D$12&\")=\"&$D$8&\" and localMonth(\"&$D$12&\") =\"&$E$8&\" and LocalDay(\"&$D$12&\")=\"&$F$8&\" and Barix(\"&$D$12&\",reference:=StartOfSession)=\"&A20&\"\", \"Bar\", \"\", \"Close\",\"5\",\"0\",\"PrimaryOnly\",,,\"False\",\"T\",\"EveryTick\")","v":1.19035},3.6254795329033096E-3,{"$f":"RTD(\"cqg.rtd\",,\"StudyData\", \"Close(\"&$D$12&\") when LocalYear(\"&$D$12&\")=\"&$D$9&\" and localMonth(\"&$D$12&\") =\"&$E$9&\" and LocalDay(\"&$D$12&\")=\"&$F$9&\" and Barix(\"&$D$12&\",reference:=StartOfSession)=\"&A20&\"\", \"Bar\", \"\", \"Close\",\"5\",\"0\",\"PrimaryOnly\",,,\"False\",\"T\",\"EveryTick\")","v":1.18685},5.2939183466033084E-3,{"$f":"RTD(\"cqg.rtd\",,\"StudyData\", \"Close(\"&$D$12&\") when LocalYear(\"&$D$12&\")=\"&$D$10&\" and localMonth(\"&$D$12&\") =\"&$E$10&\" and LocalDay(\"&$D$12&\")=\"&$F$10&\" and Barix(\"&$D$12&\",reference:=StartOfSession)=\"&A20&\"\", \"Bar\", \"\", \"Close\",\"5\",\"0\",\"PrimaryOnly\",,,\"False\",\"T\",\"EveryTick\")","v":1.175},-3.5194843743373417E-3,null,null,null,""]
[200,"09:40:00",null,3,"#.000",null,"2018-06-06",{"$f":"RTD(\"cqg.rtd\",,\"StudyData\", \"Close(\"&$D$12&\") when LocalYear(\"&$D$12&\")=\"&$D$1&\" and localMonth(\"&$D$12&\") =\"&$E$1&\" and LocalDay(\"&$D$12&\")=\"&$F$1&\" and Barix(\"&$D$12&\",reference:=StartOfSession)=\"&A21&\"\", \"Bar\", \"\", \"Close\",\"5\",\"0\",\"PrimaryOnly\",,,\"False\",\"T\",\"EveryTick\")","v":""},{"$error":"#N/A"},{"$f":"RTD(\"cqg.rtd\",,\"StudyData\", \"Close(\"&$D$12&\") when LocalYear(\"&$D$12&\")=\"&$D$2&\" and localMonth(\"&$D$12&\") =\"&$E$2&\" and LocalDay(\"&$D$12&\")=\"&$F$2&\" and Barix(\"&$D$12&\",reference:=StartOfSession)=\"&A21&\"\", \"Bar\", \"\", \"Close\",\"5\",\"0\",\"PrimaryOnly\",,,\"False\",\"T\",\"EveryTick\")","v":1.1698999999999999},2.2702934247162488E-3,{"$f":"RTD(\"cqg.rtd\",,\"StudyData\", \"Close(\"&$D$12&\") when LocalYear(\"&$D$12&\")=\"&$D$3&\" and localMonth(\"&$D$12&\") =\"&$E$3&\" and LocalDay(\"&$D$12&\")=\"&$F$3&\" and Barix(\"&$D$12&\",reference:=StartOfSession)=\"&A21&\"\", \"Bar\", \"\", \"Close\",\"5\",\"0\",\"PrimaryOnly\",,,\"False\",\"T\",\"EveryTick\")","v":1.1717},-1.1932369186659448E-2,{"$f":"RTD(\"cqg.rtd\",,\"StudyData\", \"Close(\"&$D$12&\") when LocalYear(\"&$D$12&\")=\"&$D$4&\" and localMonth(\"&$D$12&\") =\"&$E$4&\" and LocalDay(\"&$D$12&\")=\"&$F$4&\" and Barix(\"&$D$12&\",reference:=StartOfSession)=\"&A21&\"\", \"Bar\", \"\", \"Close\",\"5\",\"0\",\"PrimaryOnly\",,,\"False\",\"T\",\"EveryTick\")","v":1.1856500000000001},1.7320040554242204E-3,{"$f":"RTD(\"cqg.rtd\",,\"StudyData\", \"Close(\"&$D$12&\") when LocalYear(\"&$D$12&\")=\"&$D$5&\" and localMonth(\"&$D$12&\") =\"&$E$5&\" and LocalDay(\"&$D$12&\")=\"&$F$5&\" and Barix(\"&$D$12&\",reference:=StartOfSession)=\"&A21&\"\", \"Bar\", \"\", \"Close\",\"5\",\"0\",\"PrimaryOnly\",,,\"False\",\"T\",\"EveryTick\")","v":1.1876500000000001},4.2101717750173053E-5,{"$f":"RTD(\"cqg.rtd\",,\"StudyData\", \"Close(\"&$D$12&\") when LocalYear(\"&$D$12&\")=\"&$D$6&\" and localMonth(\"&$D$12&\") =\"&$E$6&\" and LocalDay(\"&$D$12&\")=\"&$F$6&\" and Barix(\"&$D$12&\",reference:=StartOfSession)=\"&A21&\"\", \"Bar\", \"\", \"Close\",\"5\",\"0\",\"PrimaryOnly\",,,\"False\",\"T\",\"EveryTick\")","v":1.1891499999999999},2.6559865092748618E-3,{"$f":"RTD(\"cqg.rtd\",,\"StudyData\", \"Close(\"&$D$12&\") when LocalYear(\"&$D$12&\")=\"&$D$7&\" and localMonth(\"&$D$12&\") =\"&$E$7&\" and LocalDay(\"&$D$12&\")=\"&$F$7&\" and Barix(\"&$D$12&\",reference:=StartOfSession)=\"&A21&\"\", \"Bar\", \"\", \"Close\",\"5\",\"0\",\"PrimaryOnly\",,,\"False\",\"T\",\"EveryTick\")","v":1.1847000000000001},-4.2864346949066084E-3,{"$f":"RTD(\"cqg.rtd\",,\"StudyData\", \"Close(\"&$D$12&\") when LocalYear(\"&$D$12&\")=\"&$D$8&\" and localMonth(\"&$D$12&\") =\"&$E$8&\" and LocalDay(\"&$D$12&\")=\"&$F$8&\" and Barix(\"&$D$12&\",reference:=StartOfSession)=\"&A21&\"\", \"Bar\", \"\", \"Close\",\"5\",\"0\",\"PrimaryOnly\",,,\"False\",\"T\",\"EveryTick\")","v":1.19085},4.0470469204501626E-3,{"$f":"RTD(\"cqg.rtd\",,\"StudyData\", \"Close(\"&$D$12&\") when LocalYear(\"&$D$12&\")=\"&$D$9&\" and localMonth(\"&$D$12&\") =\"&$E$9&\" and LocalDay(\"&$D$12&\")=\"&$F$9&\" and Barix(\"&$D$12&\",reference:=StartOfSession)=\"&A21&\"\", \"Bar\", \"\", \"Close\",\"5\",\"0\",\"PrimaryOnly\",,,\"False\",\"T\",\"EveryTick\")","v":1.1875},5.844485854650098E-3,{"$f":"RTD(\"cqg.rtd\",,\"StudyData\", \"Close(\"&$D$12&\") when LocalYear(\"&$D$12&\")=\"&$D$10&\" and localMonth(\"&$D$12&\") =\"&$E$10&\" and LocalDay(\"&$D$12&\")=\"&$F$10&\" and Barix(\"&$D$12&\",reference:=StartOfSession)=\"&A21&\"\", \"Bar\", \"\", \"Close\",\"5\",\"0\",\"PrimaryOnly\",,,\"False\",\"T\",\"EveryTick\")","v":1.1754500000000001},-3.1378535385657592E-3,null,null,null,""]
[201,"09:45:00",null,4,"#.0000",null,"2018-06-05",{"$f":"RTD(\"cqg.rtd\",,\"StudyData\", \"Close(\"&$D$12&\") when LocalYear(\"&$D$12&\")=\"&$D$1&\" and localMonth(\"&$D$12&\") =\"&$E$1&\" and LocalDay(\"&$D$12&\")=\"&$F$1&\" and Barix(\"&$D$12&\",reference:=StartOfSession)=\"&A22&\"\", \"Bar\", \"\", \"Close\",\"5\",\"0\",\"PrimaryOnly\",,,\"False\",\"T\",\"EveryTick\")","v":""},{"$error":"#N/A"},{"$f":"RTD(\"cqg.rtd\",,\"StudyData\", \"Close(\"&$D$12&\") when LocalYear(\"&$D$12&\")=\"&$D$2&\" and localMonth(\"&$D$12&\") =\"&$E$2&\" and LocalDay(\"&$D$12&\")=\"&$F$2&\" and Barix(\"&$D$12&\",reference:=StartOfSession)=\"&A22&\"\", \"Bar\", \"\", \"Close\",\"5\",\"0\",\"PrimaryOnly\",,,\"False\",\"T\",\"EveryTick\")","v":1.1696500000000001},2.0561147997431397E-3,{"$f":"RTD(\"cqg.rtd\",,\"StudyData\", \"Close(\"&$D$12&\") when LocalYear(\"&$D$12&\")=\"&$D$3&\" and localMonth(\"&$D$12&\") =\"&$E$3&\" and LocalDay(\"&$D$12&\")=\"&$F$3&\" and Barix(\"&$D$12&\",reference:=StartOfSession)=\"&A22&\"\", \"Bar\", \"\", \"Close\",\"5\",\"0\",\"PrimaryOnly\",,,\"False\",\"T\",\"EveryTick\")","v":1.17235},-1.1384239153349974E-2,{"$f":"RTD(\"cqg.rtd\",,\"StudyData\", \"Close(\"&$D$12&\") when LocalYear(\"&$D$12&\")=\"&$D$4&\" and localMonth(\"&$D$12&\") =\"&$E$4&\" and LocalDay(\"&$D$12&\")=\"&$F$4&\" and Barix(\"&$D$12&\",reference:=StartOfSession)=\"&A22&\"\", \"Bar\", \"\", \"Close\",\"5\",\"0\",\"PrimaryOnly\",,,\"False\",\"T\",\"EveryTick\")","v":1.1855},1.6052720513687164E-3,{"$f":"RTD(\"cqg.rtd\",,\"StudyData\", \"Close(\"&$D$12&\") when LocalYear(\"&$D$12&\")=\"&$D$5&\" and localMonth(\"&$D$12&\") =\"&$E$5&\" and LocalDay(\"&$D$12&\")=\"&$F$5&\" and Barix(\"&$D$12&\",reference:=StartOfSession)=\"&A22&\"\", \"Bar\", \"\", \"Close\",\"5\",\"0\",\"PrimaryOnly\",,,\"False\",\"T\",\"EveryTick\")","v":1.1878500000000001},2.1050858875049132E-4,{"$f":"RTD(\"cqg.rtd\",,\"StudyData\", \"Close(\"&$D$12&\") when LocalYear(\"&$D$12&\")=\"&$D$6&\" and localMonth(\"&$D$12&\") =\"&$E$6&\" and LocalDay(\"&$D$12&\")=\"&$F$6&\" and Barix(\"&$D$12&\",reference:=StartOfSession)=\"&A22&\"\", \"Bar\", \"\", \"Close\",\"5\",\"0\",\"PrimaryOnly\",,,\"False\",\"T\",\"EveryTick\")","v":1.1898},3.2040472175379644E-3,{"$f":"RTD(\"cqg.rtd\",,\"StudyData\", \"Close(\"&$D$12&\") when LocalYear(\"&$D$12&\")=\"&$D$7&\" and localMonth(\"&$D$12&\") =\"&$E$7&\" and LocalDay(\"&$D$12&\")=\"&$F$7&\" and Barix(\"&$D$12&\",reference:=StartOfSession)=\"&A22&\"\", \"Bar\", \"\", \"Close\",\"5\",\"0\",\"PrimaryOnly\",,,\"False\",\"T\",\"EveryTick\")","v":1.18455},-4.4125063035804143E-3,{"$f":"RTD(\"cqg.rtd\",,\"StudyData\", \"Close(\"&$D$12&\") when LocalYear(\"&$D$12&\")=\"&$D$8&\" and localMonth(\"&$D$12&\") =\"&$E$8&\" and LocalDay(\"&$D$12&\")=\"&$F$8&\" and Barix(\"&$D$12&\",reference:=StartOfSession)=\"&A22&\"\", \"Bar\", \"\", \"Close\",\"5\",\"0\",\"PrimaryOnly\",,,\"False\",\"T\",\"EveryTick\")","v":1.1915},4.595084524261165E-3,{"$f":"RTD(\"cqg.rtd\",,\"StudyData\", \"Close(\"&$D$12&\") when LocalYear(\"&$D$12&\")=\"&$D$9&\" and localMonth(\"&$D$12&\") =\"&$E$9&\" and LocalDay(\"&$D$12&\")=\"&$F$9&\" and Barix(\"&$D$12&\",reference:=StartOfSession)=\"&A22&\"\", \"Bar\", \"\", \"Close\",\"5\",\"0\",\"PrimaryOnly\",,,\"False\",\"T\",\"EveryTick\")","v":1.1871499999999999},5.5480264272402451E-3,{"$f":"RTD(\"cqg.rtd\",,\"StudyData\", \"Close(\"&$D$12&\") when LocalYear(\"&$D$12&\")=\"&$D$10&\" and localMonth(\"&$D$12&\") =\"&$E$10&\" and LocalDay(\"&$D$12&\")=\"&$F$10&\" and Barix(\"&$D$12&\",reference:=StartOfSession)=\"&A22&\"\", \"Bar\", \"\", \"Close\",\"5\",\"0\",\"PrimaryOnly\",,,\"False\",\"T\",\"EveryTick\")","v":1.1750499999999999},-3.4770809481406038E-3,null,null,null,""]
[202,"09:50:00",null,5,"#.00000",null,null,{"$f":"RTD(\"cqg.rtd\",,\"StudyData\", \"Close(\"&$D$12&\") when LocalYear(\"&$D$12&\")=\"&$D$1&\" and localMonth(\"&$D$12&\") =\"&$E$1&\" and LocalDay(\"&$D$12&\")=\"&$F$1&\" and Barix(\"&$D$12&\",reference:=StartOfSession)=\"&A23&\"\", \"Bar\", \"\", \"Close\",\"5\",\"0\",\"PrimaryOnly\",,,\"False\",\"T\",\"EveryTick\")","v":""},{"$error":"#N/A"},{"$f":"RTD(\"cqg.rtd\",,\"StudyData\", \"Close(\"&$D$12&\") when LocalYear(\"&$D$12&\")=\"&$D$2&\" and localMonth(\"&$D$12&\") =\"&$E$2&\" and LocalDay(\"&$D$12&\")=\"&$F$2&\" and Barix(\"&$D$12&\",reference:=StartOfSession)=\"&A23&\"\", \"Bar\", \"\", \"Close\",\"5\",\"0\",\"PrimaryOnly\",,,\"False\",\"T\",\"EveryTick\")","v":1.1701999999999999},2.5273077746840937E-3,{"$f":"RTD(\"cqg.rtd\",,\"StudyData\", \"Close(\"&$D$12&\") when LocalYear(\"&$D$12&\")=\"&$D$3&\" and localMonth(\"&$D$12&\") =\"&$E$3&\" and LocalDay(\"&$D$12&\")=\"&$F$3&\" and Barix(\"&$D$12&\",reference:=StartOfSession)=\"&A23&\"\", \"Bar\", \"\", \"Close\",\"5\",\"0\",\"PrimaryOnly\",,,\"False\",\"T\",\"EveryTick\")","v":1.1728000000000001},-1.1004764514904924E-2,{"$f":"RTD(\"cqg.rtd\",,\"StudyData\", \"Close(\"&$D$12&\") when LocalYear(\"&$D$12&\")=\"&$D$4&\" and localMonth(\"&$D$12&\") =\"&$E$4&\" and LocalDay(\"&$D$12&\")=\"&$F$4&\" and Barix(\"&$D$12&\",reference:=StartOfSession)=\"&A23&\"\", \"Bar\", \"\", \"Close\",\"5\",\"0\",\"PrimaryOnly\",,,\"False\",\"T\",\"EveryTick\")","v":1.1856},1.6897600540723232E-3,{"$f":"RTD(\"cqg.rtd\",,\"StudyData\", \"Close(\"&$D$12&\") when LocalYear(\"&$D$12&\")=\"&$D$5&\" and localMonth(\"&$D$12&\") =\"&$E$5&\" and LocalDay(\"&$D$12&\")=\"&$F$5&\" and Barix(\"&$D$12&\",reference:=StartOfSession)=\"&A23&\"\", \"Bar\", \"\", \"Close\",\"5\",\"0\",\"PrimaryOnly\",,,\"False\",\"T\",\"EveryTick\")","v":1.1875},-8.4203435500159135E-5,{"$f":"RTD(\"cqg.rtd\",,\"StudyData\", \"Close(\"&$D$12&\") when LocalYear(\"&$D$12&\")=\"&$D$6&\" and localMonth(\"&$D$12&\") =\"&$E$6&\" and LocalDay(\"&$D$12&\")=\"&$F$6&\" and Barix(\"&$D$12&\",reference:=StartOfSession)=\"&A23&\"\", \"Bar\", \"\", \"Close\",\"5\",\"0\",\"PrimaryOnly\",,,\"False\",\"T\",\"EveryTick\")","v":1.1896},3.0354131534570386E-3,{"$f":"RTD(\"cqg.rtd\",,\"StudyData\", \"Close(\"&$D$12&\") when LocalYear(\"&$D$12&\")=\"&$D$7&\" and localMonth(\"&$D$12&\") =\"&$E$7&\" and LocalDay(\"&$D$12&\")=\"&$F$7&\" and Barix(\"&$D$12&\",reference:=StartOfSession)=\"&A23&\"\", \"Bar\", \"\", \"Close\",\"5\",\"0\",\"PrimaryOnly\",,,\"False\",\"T\",\"EveryTick\")","v":1.1843999999999999},-4.5385779122542203E-3,{"$f":"RTD(\"cqg.rtd\",,\"StudyData\", \"Close(\"&$D$12&\") when LocalYear(\"&$D$12&\")=\"&$D$8&\" and localMonth(\"&$D$12&\") =\"&$E$8&\" and LocalDay(\"&$D$12&\")=\"&$F$8&\" and Barix(\"&$D$12&\",reference:=StartOfSession)=\"&A23&\"\", \"Bar\", \"\", \"Close\",\"5\",\"0\",\"PrimaryOnly\",,,\"False\",\"T\",\"EveryTick\")","v":1.1916},4.6793980017705355E-3,{"$f":"RTD(\"cqg.rtd\",,\"StudyData\", \"Close(\"&$D$12&\") when LocalYear(\"&$D$12&\")=\"&$D$9&\" and localMonth(\"&$D$12&\") =\"&$E$9&\" and LocalDay(\"&$D$12&\")=\"&$F$9&\" and Barix(\"&$D$12&\",reference:=StartOfSession)=\"&A23&\"\", \"Bar\", \"\", \"Close\",\"5\",\"0\",\"PrimaryOnly\",,,\"False\",\"T\",\"EveryTick\")","v":1.18655},5.0398102659663727E-3,{"$f":"RTD(\"cqg.rtd\",,\"StudyData\", \"Close(\"&$D$12&\") when LocalYear(\"&$D$12&\")=\"&$D$10&\" and localMonth(\"&$D$12&\") =\"&$E$10&\" and LocalDay(\"&$D$12&\")=\"&$F$10&\" and Barix(\"&$D$12&\",reference:=StartOfSession)=\"&A23&\"\", \"Bar\", \"\", \"Close\",\"5\",\"0\",\"PrimaryOnly\",,,\"False\",\"T\",\"EveryTick\")","v":1.1754500000000001},-3.1378535385657592E-3,null,null,null,""]
[203,"09:55:00",null,6,"#.000000",null,null,{"$f":"RTD(\"cqg.rtd\",,\"StudyData\", \"Close(\"&$D$12&\") when LocalYear(\"&$D$12&\")=\"&$D$1&\" and localMonth(\"&$D$12&\") =\"&$E$1&\" and LocalDay(\"&$D$12&\")=\"&$F$1&\" and Barix(\"&$D$12&\",reference:=StartOfSession)=\"&A24&\"\", \"Bar\", \"\", \"Close\",\"5\",\"0\",\"PrimaryOnly\",,,\"False\",\"T\",\"EveryTick\")","v":""},{"$error":"#N/A"},{"$f":"RTD(\"cqg.rtd\",,\"StudyData\", \"Close(\"&$D$12&\") when LocalYear(\"&$D$12&\")=\"&$D$2&\" and localMonth(\"&$D$12&\") =\"&$E$2&\" and LocalDay(\"&$D$12&\")=\"&$F$2&\" and Barix(\"&$D$12&\",reference:=StartOfSession)=\"&A24&\"\", \"Bar\", \"\", \"Close\",\"5\",\"0\",\"PrimaryOnly\",,,\"False\",\"T\",\"EveryTick\")","v":1.1698},2.184621974726967E-3,{"$f":"RTD(\"cqg.rtd\",,\"StudyData\", \"Close(\"&$D$12&\") when LocalYear(\"&$D$12&\")=\"&$D$3&\" and localMonth(\"&$D$12&\") =\"&$E$3&\" and LocalDay(\"&$D$12&\")=\"&$F$3&\" and Barix(\"&$D$12&\",reference:=StartOfSession)=\"&A24&\"\", \"Bar\", \"\", \"Close\",\"5\",\"0\",\"PrimaryOnly\",,,\"False\",\"T\",\"EveryTick\")","v":1.1732499999999999},-1.0625289876460064E-2,{"$f":"RTD(\"cqg.rtd\",,\"StudyData\", \"Close(\"&$D$12&\") when LocalYear(\"&$D$12&\")=\"&$D$4&\" and localMonth(\"&$D$12&\") =\"&$E$4&\" and LocalDay(\"&$D$12&\")=\"&$F$4&\" and Barix(\"&$D$12&\",reference:=StartOfSession)=\"&A24&\"\", \"Bar\", \"\", \"Close\",\"5\",\"0\",\"PrimaryOnly\",,,\"False\",\"T\",\"EveryTick\")","v":1.1858},1.8587360594795369E-3,{"$f":"RTD(\"cqg.rtd\",,\"StudyData\", \"Close(\"&$D$12&\") when LocalYear(\"&$D$12&\")=\"&$D$5&\" and localMonth(\"&$D$12&\") =\"&$E$5&\" and LocalDay(\"&$D$12&\")=\"&$F$5&\" and Barix(\"&$D$12&\",reference:=StartOfSession)=\"&A24&\"\", \"Bar\", \"\", \"Close\",\"5\",\"0\",\"PrimaryOnly\",,,\"False\",\"T\",\"EveryTick\")","v":1.1874},-1.6840687100031827E-4,{"$f":"RTD(\"cqg.rtd\",,\"StudyData\", \"Close(\"&$D$12&\") when LocalYear(\"&$D$12&\")=\"&$D$6&\" and localMonth(\"&$D$12&\") =\"&$E$6&\" and LocalDay(\"&$D$12&\")=\"&$F$6&\" and Barix(\"&$D$12&\",reference:=StartOfSession)=\"&A24&\"\", \"Bar\", \"\", \"Close\",\"5\",\"0\",\"PrimaryOnly\",,,\"False\",\"T\",\"EveryTick\")","v":1.1896500000000001},3.0775716694773636E-3,{"$f":"RTD(\"cqg.rtd\",,\"StudyData\", \"Close(\"&$D$12&\") when LocalYear(\"&$D$12&\")=\"&$D$7&\" and localMonth(\"&$D$12&\") =\"&$E$7&\" and LocalDay(\"&$D$12&\")=\"&$F$7&\" and Barix(\"&$D$12&\",reference:=StartOfSession)=\"&A24&\"\", \"Bar\", \"\", \"Close\",\"5\",\"0\",\"PrimaryOnly\",,,\"False\",\"T\",\"EveryTick\")","v":1.1854499999999999},-3.6560766515381375E-3,{"$f":"RTD(\"cqg.rtd\",,\"StudyData\", \"Close(\"&$D$12&\") when LocalYear(\"&$D$12&\")=\"&$D$8&\" and localMonth(\"&$D$12&\") =\"&$E$8&\" and LocalDay(\"&$D$12&\")=\"&$F$8&\" and Barix(\"&$D$12&\",reference:=StartOfSession)=\"&A24&\"\", \"Bar\", \"\", \"Close\",\"5\",\"0\",\"PrimaryOnly\",,,\"False\",\"T\",\"EveryTick\")","v":1.1919},4.932338434298647E-3,{"$f":"RTD(\"cqg.rtd\",,\"StudyData\", \"Close(\"&$D$12&\") when LocalYear(\"&$D$12&\")=\"&$D$9&\" and localMonth(\"&$D$12&\") =\"&$E$9&\" and LocalDay(\"&$D$12&\")=\"&$F$9&\" and Barix(\"&$D$12&\",reference:=StartOfSession)=\"&A24&\"\", \"Bar\", \"\", \"Close\",\"5\",\"0\",\"PrimaryOnly\",,,\"False\",\"T\",\"EveryTick\")","v":1.1872499999999999},5.6327291207858904E-3,{"$f":"RTD(\"cqg.rtd\",,\"StudyData\", \"Close(\"&$D$12&\") when LocalYear(\"&$D$12&\")=\"&$D$10&\" and localMonth(\"&$D$12&\") =\"&$E$10&\" and LocalDay(\"&$D$12&\")=\"&$F$10&\" and Barix(\"&$D$12&\",reference:=StartOfSession)=\"&A24&\"\", \"Bar\", \"\", \"Close\",\"5\",\"0\",\"PrimaryOnly\",,,\"False\",\"T\",\"EveryTick\")","v":1.1758999999999999},-2.7562227027943648E-3,null,null,null,""]
[204,"10:00:00",null,7,"#.0000000",null,null,{"$f":"RTD(\"cqg.rtd\",,\"StudyData\", \"Close(\"&$D$12&\") when LocalYear(\"&$D$12&\")=\"&$D$1&\" and localMonth(\"&$D$12&\") =\"&$E$1&\" and LocalDay(\"&$D$12&\")=\"&$F$1&\" and Barix(\"&$D$12&\",reference:=StartOfSession)=\"&A25&\"\", \"Bar\", \"\", \"Close\",\"5\",\"0\",\"PrimaryOnly\",,,\"False\",\"T\",\"EveryTick\")","v":""},{"$error":"#N/A"},{"$f":"RTD(\"cqg.rtd\",,\"StudyData\", \"Close(\"&$D$12&\") when LocalYear(\"&$D$12&\")=\"&$D$2&\" and localMonth(\"&$D$12&\") =\"&$E$2&\" and LocalDay(\"&$D$12&\")=\"&$F$2&\" and Barix(\"&$D$12&\",reference:=StartOfSession)=\"&A25&\"\", \"Bar\", \"\", \"Close\",\"5\",\"0\",\"PrimaryOnly\",,,\"False\",\"T\",\"EveryTick\")","v":1.1689000000000001},1.4135789248234324E-3,{"$f":"RTD(\"cqg.rtd\",,\"StudyData\", \"Close(\"&$D$12&\") when LocalYear(\"&$D$12&\")=\"&$D$3&\" and localMonth(\"&$D$12&\") =\"&$E$3&\" and LocalDay(\"&$D$12&\")=\"&$F$3&\" and Barix(\"&$D$12&\",reference:=StartOfSession)=\"&A25&\"\", \"Bar\", \"\", \"Close\",\"5\",\"0\",\"PrimaryOnly\",,,\"False\",\"T\",\"EveryTick\")","v":1.1732},-1.0667453725176076E-2,{"$f":"RTD(\"cqg.rtd\",,\"StudyData\", \"Close(\"&$D$12&\") when LocalYear(\"&$D$12&\")=\"&$D$4&\" and localMonth(\"&$D$12&\") =\"&$E$4&\" and LocalDay(\"&$D$12&\")=\"&$F$4&\" and Barix(\"&$D$12&\",reference:=StartOfSession)=\"&A25&\"\", \"Bar\", \"\", \"Close\",\"5\",\"0\",\"PrimaryOnly\",,,\"False\",\"T\",\"EveryTick\")","v":1.18605},2.0699560662386478E-3,{"$f":"RTD(\"cqg.rtd\",,\"StudyData\", \"Close(\"&$D$12&\") when LocalYear(\"&$D$12&\")=\"&$D$5&\" and localMonth(\"&$D$12&\") =\"&$E$5&\" and LocalDay(\"&$D$12&\")=\"&$F$5&\" and Barix(\"&$D$12&\",reference:=StartOfSession)=\"&A25&\"\", \"Bar\", \"\", \"Close\",\"5\",\"0\",\"PrimaryOnly\",,,\"False\",\"T\",\"EveryTick\")","v":1.1872499999999999},-2.9471202425065046E-4,{"$f":"RTD(\"cqg.rtd\",,\"StudyData\", \"Close(\"&$D$12&\") when LocalYear(\"&$D$12&\")=\"&$D$6&\" and localMonth(\"&$D$12&\") =\"&$E$6&\" and LocalDay(\"&$D$12&\")=\"&$F$6&\" and Barix(\"&$D$12&\",reference:=StartOfSession)=\"&A25&\"\", \"Bar\", \"\", \"Close\",\"5\",\"0\",\"PrimaryOnly\",,,\"False\",\"T\",\"EveryTick\")","v":1.1897},3.1197301854975013E-3,{"$f":"RTD(\"cqg.rtd\",,\"StudyData\", \"Close(\"&$D$12&\") when LocalYear(\"&$D$12&\")=\"&$D$7&\" and localMonth(\"&$D$12&\") =\"&$E$7&\" and LocalDay(\"&$D$12&\")=\"&$F$7&\" and Barix(\"&$D$12&\",reference:=StartOfSession)=\"&A25&\"\", \"Bar\", \"\", \"Close\",\"5\",\"0\",\"PrimaryOnly\",,,\"False\",\"T\",\"EveryTick\")","v":1.1853},-3.782148260211757E-3,{"$f":"RTD(\"cqg.rtd\",,\"StudyData\", \"Close(\"&$D$12&\") when LocalYear(\"&$D$12&\")=\"&$D$8&\" and localMonth(\"&$D$12&\") =\"&$E$8&\" and LocalDay(\"&$D$12&\")=\"&$F$8&\" and Barix(\"&$D$12&\",reference:=StartOfSession)=\"&A25&\"\", \"Bar\", \"\", \"Close\",\"5\",\"0\",\"PrimaryOnly\",,,\"False\",\"T\",\"EveryTick\")","v":1.1915},4.595084524261165E-3,{"$f":"RTD(\"cqg.rtd\",,\"StudyData\", \"Close(\"&$D$12&\") when LocalYear(\"&$D$12&\")=\"&$D$9&\" and localMonth(\"&$D$12&\") =\"&$E$9&\" and LocalDay(\"&$D$12&\")=\"&$F$9&\" and Barix(\"&$D$12&\",reference:=StartOfSession)=\"&A25&\"\", \"Bar\", \"\", \"Close\",\"5\",\"0\",\"PrimaryOnly\",,,\"False\",\"T\",\"EveryTick\")","v":1.1869499999999999},5.3786210401489546E-3,{"$f":"RTD(\"cqg.rtd\",,\"StudyData\", \"Close(\"&$D$12&\") when LocalYear(\"&$D$12&\")=\"&$D$10&\" and localMonth(\"&$D$12&\") =\"&$E$10&\" and LocalDay(\"&$D$12&\")=\"&$F$10&\" and Barix(\"&$D$12&\",reference:=StartOfSession)=\"&A25&\"\", \"Bar\", \"\", \"Close\",\"5\",\"0\",\"PrimaryOnly\",,,\"False\",\"T\",\"EveryTick\")","v":1.1758},-2.8410295551880289E-3,null,null,null,""]
[205,"10:05:00",{"$f":"IF(WEEKDAY(TODAY())=7,TODAY()-1,IF(WEEKDAY(TODAY())=1,TODAY()-2,TODAY()))","v":"2018-06-18"},{"$f":"YEAR(C26)","v":2018},{"$f":"MONTH(C26)","v":6},{"$f":"DAY(C26)","v":18},null,{"$f":"RTD(\"cqg.rtd\",,\"StudyData\", \"Close(\"&$D$12&\") when LocalYear(\"&$D$12&\")=\"&$D$1&\" and localMonth(\"&$D$12&\") =\"&$E$1&\" and LocalDay(\"&$D$12&\")=\"&$F$1&\" and Barix(\"&$D$12&\",reference:=StartOfSession)=\"&A26&\"\", \"Bar\", \"\", \"Close\",\"5\",\"0\",\"PrimaryOnly\",,,\"False\",\"T\",\"EveryTick\")","v":""},{"$error":"#N/A"},{"$f":"RTD(\"cqg.rtd\",,\"StudyData\", \"Close(\"&$D$12&\") when LocalYear(\"&$D$12&\")=\"&$D$2&\" and localMonth(\"&$D$12&\") =\"&$E$2&\" and LocalDay(\"&$D$12&\")=\"&$F$2&\" and Barix(\"&$D$12&\",reference:=StartOfSession)=\"&A26&\"\", \"Bar\", \"\", \"Close\",\"5\",\"0\",\"PrimaryOnly\",,,\"False\",\"T\",\"EveryTick\")","v":1.1698},2.184621974726967E-3,{"$f":"RTD(\"cqg.rtd\",,\"StudyData\", \"Close(\"&$D$12&\") when LocalYear(\"&$D$12&\")=\"&$D$3&\" and localMonth(\"&$D$12&\") =\"&$E$3&\" and LocalDay(\"&$D$12&\")=\"&$F$3&\" and Barix(\"&$D$12&\",reference:=StartOfSession)=\"&A26&\"\", \"Bar\", \"\", \"Close\",\"5\",\"0\",\"PrimaryOnly\",,,\"False\",\"T\",\"EveryTick\")","v":1.17275},-1.1046928363621126E-2,{"$f":"RTD(\"cqg.rtd\",,\"StudyData\", \"Close(\"&$D$12&\") when LocalYear(\"&$D$12&\")=\"&$D$4&\" and localMonth(\"&$D$12&\") =\"&$E$4&\" and LocalDay(\"&$D$12&\")=\"&$F$4&\" and Barix(\"&$D$12&\",reference:=StartOfSession)=\"&A26&\"\", \"Bar\", \"\", \"Close\",\"5\",\"0\",\"PrimaryOnly\",,,\"False\",\"T\",\"EveryTick\")","v":1.1859},1.9432240621831435E-3,{"$f":"RTD(\"cqg.rtd\",,\"StudyData\", \"Close(\"&$D$12&\") when LocalYear(\"&$D$12&\")=\"&$D$5&\" and localMonth(\"&$D$12&\") =\"&$E$5&\" and LocalDay(\"&$D$12&\")=\"&$F$5&\" and Barix(\"&$D$12&\",reference:=StartOfSession)=\"&A26&\"\", \"Bar\", \"\", \"Close\",\"5\",\"0\",\"PrimaryOnly\",,,\"False\",\"T\",\"EveryTick\")","v":1.1869499999999999},-5.4732233075112781E-4,{"$f":"RTD(\"cqg.rtd\",,\"StudyData\", \"Close(\"&$D$12&\") when LocalYear(\"&$D$12&\")=\"&$D$6&\" and localMonth(\"&$D$12&\") =\"&$E$6&\" and LocalDay(\"&$D$12&\")=\"&$F$6&\" and Barix(\"&$D$12&\",reference:=StartOfSession)=\"&A26&\"\", \"Bar\", \"\", \"Close\",\"5\",\"0\",\"PrimaryOnly\",,,\"False\",\"T\",\"EveryTick\")","v":1.1897500000000001},3.1618887015178268E-3,{"$f":"RTD(\"cqg.rtd\",,\"StudyData\", \"Close(\"&$D$12&\") when LocalYear(\"&$D$12&\")=\"&$D$7&\" and localMonth(\"&$D$12&\") =\"&$E$7&\" and LocalDay(\"&$D$12&\")=\"&$F$7&\" and Barix(\"&$D$12&\",reference:=StartOfSession)=\"&A26&\"\", \"Bar\", \"\", \"Close\",\"5\",\"0\",\"PrimaryOnly\",,,\"False\",\"T\",\"EveryTick\")","v":1.1856},-3.5300050428643316E-3,{"$f":"RTD(\"cqg.rtd\",,\"StudyData\", \"Close(\"&$D$12&\") when LocalYear(\"&$D$12&\")=\"&$D$8&\" and localMonth(\"&$D$12&\") =\"&$E$8&\" and LocalDay(\"&$D$12&\")=\"&$F$8&\" and Barix(\"&$D$12&\",reference:=StartOfSession)=\"&A26&\"\", \"Bar\", \"\", \"Close\",\"5\",\"0\",\"PrimaryOnly\",,,\"False\",\"T\",\"EveryTick\")","v":1.1916},4.6793980017705355E-3,{"$f":"RTD(\"cqg.rtd\",,\"StudyData\", \"Close(\"&$D$12&\") when LocalYear(\"&$D$12&\")=\"&$D$9&\" and localMonth(\"&$D$12&\") =\"&$E$9&\" and LocalDay(\"&$D$12&\")=\"&$F$9&\" and Barix(\"&$D$12&\",reference:=StartOfSession)=\"&A26&\"\", \"Bar\", \"\", \"Close\",\"5\",\"0\",\"PrimaryOnly\",,,\"False\",\"T\",\"EveryTick\")","v":1.18685},5.2939183466033084E-3,{"$f":"RTD(\"cqg.rtd\",,\"StudyData\", \"Close(\"&$D$12&\") when LocalYear(\"&$D$12&\")=\"&$D$10&\" and localMonth(\"&$D$12&\") =\"&$E$10&\" and LocalDay(\"&$D$12&\")=\"&$F$10&\" and Barix(\"&$D$12&\",reference:=StartOfSession)=\"&A26&\"\", \"Bar\", \"\", \"Close\",\"5\",\"0\",\"PrimaryOnly\",,,\"False\",\"T\",\"EveryTick\")","v":1.17655},-2.204978162235454E-3,null,null,null,""]
[206,"10:10:00",{"$f":"WORKDAY(C26,-1)","v":"2018-06-15"},{"$f":"YEAR(C27)","v":2018},{"$f":"MONTH(C27)","v":6},{"$f":"DAY(C27)","v":15},{"$f":"IF(RTD(\"cqg.rtd\",,\"StudyData\", \"Close(EP) when LocalYear(\"&$D$12&\")=\"&D27&\" and localMonth(\"&$D$12&\") =\"&E27&\" and LocalDay(\"&$D$12&\")=\"&F27&\" and Barix(\"&$D$12&\",reference:=StartOfSession)=80\", \"Bar\", \"\", \"Close\",\"5\",\"0\",\"PrimaryOnly\",,,\"False\",\"T\",\"EveryTick\")=\"\",2,1)","v":1},{"$f":"RTD(\"cqg.rtd\",,\"StudyData\", \"Close(\"&$D$12&\") when LocalYear(\"&$D$12&\")=\"&$D$1&\" and localMonth(\"&$D$12&\") =\"&$E$1&\" and LocalDay(\"&$D$12&\")=\"&$F$1&\" and Barix(\"&$D$12&\",reference:=StartOfSession)=\"&A27&\"\", \"Bar\", \"\", \"Close\",\"5\",\"0\",\"PrimaryOnly\",,,\"False\",\"T\",\"EveryTick\")","v":""},{"$error":"#N/A"},{"$f":"RTD(\"cqg.rtd\",,\"StudyData\", \"Close(\"&$D$12&\") when LocalYear(\"&$D$12&\")=\"&$D$2&\" and localMonth(\"&$D$12&\") =\"&$E$2&\" and LocalDay(\"&$D$12&\")=\"&$F$2&\" and Barix(\"&$D$12&\",reference:=StartOfSession)=\"&A27&\"\", \"Bar\", \"\", \"Close\",\"5\",\"0\",\"PrimaryOnly\",,,\"False\",\"T\",\"EveryTick\")","v":1.1696500000000001},2.0561147997431397E-3,{"$f":"RTD(\"cqg.rtd\",,\"StudyData\", \"Close(\"&$D$12&\") when LocalYear(\"&$D$12&\")=\"&$D$3&\" and localMonth(\"&$D$12&\") =\"&$E$3&\" and LocalDay(\"&$D$12&\")=\"&$F$3&\" and Barix(\"&$D$12&\",reference:=StartOfSession)=\"&A27&\"\", \"Bar\", \"\", \"Close\",\"5\",\"0\",\"PrimaryOnly\",,,\"False\",\"T\",\"EveryTick\")","v":1.17255},-1.121558375848555E-2,{"$f":"RTD(\"cqg.rtd\",,\"StudyData\", \"Close(\"&$D$12&\") when LocalYear(\"&$D$12&\")=\"&$D$4&\" and localMonth(\"&$D$12&\") =\"&$E$4&\" and LocalDay(\"&$D$12&\")=\"&$F$4&\" and Barix(\"&$D$12&\",reference:=StartOfSession)=\"&A27&\"\", \"Bar\", \"\", \"Close\",\"5\",\"0\",\"PrimaryOnly\",,,\"False\",\"T\",\"EveryTick\")","v":1.18615},2.1544440689422544E-3,{"$f":"RTD(\"cqg.rtd\",,\"StudyData\", \"Close(\"&$D$12&\") when LocalYear(\"&$D$12&\")=\"&$D$5&\" and localMonth(\"&$D$12&\") =\"&$E$5&\" and LocalDay(\"&$D$12&\")=\"&$F$5&\" and Barix(\"&$D$12&\",reference:=StartOfSession)=\"&A27&\"\", \"Bar\", \"\", \"Close\",\"5\",\"0\",\"PrimaryOnly\",,,\"False\",\"T\",\"EveryTick\")","v":1.1869000000000001},-5.8942404850111389E-4,{"$f":"RTD(\"cqg.rtd\",,\"StudyData\", \"Close(\"&$D$12&\") when LocalYear(\"&$D$12&\")=\"&$D$6&\" and localMonth(\"&$D$12&\") =\"&$E$6&\" and LocalDay(\"&$D$12&\")=\"&$F$6&\" and Barix(\"&$D$12&\",reference:=StartOfSession)=\"&A27&\"\", \"Bar\", \"\", \"Close\",\"5\",\"0\",\"PrimaryOnly\",,,\"False\",\"T\",\"EveryTick\")","v":1.1896500000000001},3.0775716694773636E-3,{"$f":"RTD(\"cqg.rtd\",,\"StudyData\", \"Close(\"&$D$12&\") when LocalYear(\"&$D$12&\")=\"&$D$7&\" and localMonth(\"&$D$12&\") =\"&$E$7&\" and LocalDay(\"&$D$12&\")=\"&$F$7&\" and Barix(\"&$D$12&\",reference:=StartOfSession)=\"&A27&\"\", \"Bar\", \"\", \"Close\",\"5\",\"0\",\"PrimaryOnly\",,,\"False\",\"T\",\"EveryTick\")","v":1.1854499999999999},-3.6560766515381375E-3,{"$f":"RTD(\"cqg.rtd\",,\"StudyData\", \"Close(\"&$D$12&\") when LocalYear(\"&$D$12&\")=\"&$D$8&\" and localMonth(\"&$D$12&\") =\"&$E$8&\" and LocalDay(\"&$D$12&\")=\"&$F$8&\" and Barix(\"&$D$12&\",reference:=StartOfSession)=\"&A27&\"\", \"Bar\", \"\", \"Close\",\"5\",\"0\",\"PrimaryOnly\",,,\"False\",\"T\",\"EveryTick\")","v":1.1919500000000001},4.9744951730534264E-3,{"$f":"RTD(\"cqg.rtd\",,\"StudyData\", \"Close(\"&$D$12&\") when LocalYear(\"&$D$12&\")=\"&$D$9&\" and localMonth(\"&$D$12&\") =\"&$E$9&\" and LocalDay(\"&$D$12&\")=\"&$F$9&\" and Barix(\"&$D$12&\",reference:=StartOfSession)=\"&A27&\"\", \"Bar\", \"\", \"Close\",\"5\",\"0\",\"PrimaryOnly\",,,\"False\",\"T\",\"EveryTick\")","v":1.18665},5.1245129595120179E-3,{"$f":"RTD(\"cqg.rtd\",,\"StudyData\", \"Close(\"&$D$12&\") when LocalYear(\"&$D$12&\")=\"&$D$10&\" and localMonth(\"&$D$12&\") =\"&$E$10&\" and LocalDay(\"&$D$12&\")=\"&$F$10&\" and Barix(\"&$D$12&\",reference:=StartOfSession)=\"&A27&\"\", \"Bar\", \"\", \"Close\",\"5\",\"0\",\"PrimaryOnly\",,,\"False\",\"T\",\"EveryTick\")","v":1.177},-1.8233473264638717E-3,null,null,null,""]
[207,"10:15:00",{"$f":"WORKDAY(C27,-1)","v":"2018-06-14"},2018,6,14,{"$f":"IF(RTD(\"cqg.rtd\",,\"StudyData\", \"Close(EP) when LocalYear(\"&$D$12&\")=\"&D28&\" and localMonth(\"&$D$12&\") =\"&E28&\" and LocalDay(\"&$D$12&\")=\"&F28&\" and Barix(\"&$D$12&\",reference:=StartOfSession)=80\", \"Bar\", \"\", \"Close\",\"5\",\"0\",\"PrimaryOnly\",,,\"False\",\"T\",\"EveryTick\")=\"\",2,1)","v":1},{"$f":"RTD(\"cqg.rtd\",,\"StudyData\", \"Close(\"&$D$12&\") when LocalYear(\"&$D$12&\")=\"&$D$1&\" and localMonth(\"&$D$12&\") =\"&$E$1&\" and LocalDay(\"&$D$12&\")=\"&$F$1&\" and Barix(\"&$D$12&\",reference:=StartOfSession)=\"&A28&\"\", \"Bar\", \"\", \"Close\",\"5\",\"0\",\"PrimaryOnly\",,,\"False\",\"T\",\"EveryTick\")","v":""},{"$error":"#N/A"},{"$f":"RTD(\"cqg.rtd\",,\"StudyData\", \"Close(\"&$D$12&\") when LocalYear(\"&$D$12&\")=\"&$D$2&\" and localMonth(\"&$D$12&\") =\"&$E$2&\" and LocalDay(\"&$D$12&\")=\"&$F$2&\" and Barix(\"&$D$12&\",reference:=StartOfSession)=\"&A28&\"\", \"Bar\", \"\", \"Close\",\"5\",\"0\",\"PrimaryOnly\",,,\"False\",\"T\",\"EveryTick\")","v":1.17},2.3559648747055306E-3,{"$f":"RTD(\"cqg.rtd\",,\"StudyData\", \"Close(\"&$D$12&\") when LocalYear(\"&$D$12&\")=\"&$D$3&\" and localMonth(\"&$D$12&\") =\"&$E$3&\" and LocalDay(\"&$D$12&\")=\"&$F$3&\" and Barix(\"&$D$12&\",reference:=StartOfSession)=\"&A28&\"\", \"Bar\", \"\", \"Close\",\"5\",\"0\",\"PrimaryOnly\",,,\"False\",\"T\",\"EveryTick\")","v":1.1724000000000001},-1.1342075304633775E-2,{"$f":"RTD(\"cqg.rtd\",,\"StudyData\", \"Close(\"&$D$12&\") when LocalYear(\"&$D$12&\")=\"&$D$4&\" and localMonth(\"&$D$12&\") =\"&$E$4&\" and LocalDay(\"&$D$12&\")=\"&$F$4&\" and Barix(\"&$D$12&\",reference:=StartOfSession)=\"&A28&\"\", \"Bar\", \"\", \"Close\",\"5\",\"0\",\"PrimaryOnly\",,,\"False\",\"T\",\"EveryTick\")","v":1.1857},1.7742480567759301E-3,{"$f":"RTD(\"cqg.rtd\",,\"StudyData\", \"Close(\"&$D$12&\") when LocalYear(\"&$D$12&\")=\"&$D$5&\" and localMonth(\"&$D$12&\") =\"&$E$5&\" and LocalDay(\"&$D$12&\")=\"&$F$5&\" and Barix(\"&$D$12&\",reference:=StartOfSession)=\"&A28&\"\", \"Bar\", \"\", \"Close\",\"5\",\"0\",\"PrimaryOnly\",,,\"False\",\"T\",\"EveryTick\")","v":1.1874},-1.6840687100031827E-4,{"$f":"RTD(\"cqg.rtd\",,\"StudyData\", \"Close(\"&$D$12&\") when LocalYear(\"&$D$12&\")=\"&$D$6&\" and localMonth(\"&$D$12&\") =\"&$E$6&\" and LocalDay(\"&$D$12&\")=\"&$F$6&\" and Barix(\"&$D$12&\",reference:=StartOfSession)=\"&A28&\"\", \"Bar\", \"\", \"Close\",\"5\",\"0\",\"PrimaryOnly\",,,\"False\",\"T\",\"EveryTick\")","v":1.1898500000000001},3.2462057335582895E-3,{"$f":"RTD(\"cqg.rtd\",,\"StudyData\", \"Close(\"&$D$12&\") when LocalYear(\"&$D$12&\")=\"&$D$7&\" and localMonth(\"&$D$12&\") =\"&$E$7&\" and LocalDay(\"&$D$12&\")=\"&$F$7&\" and Barix(\"&$D$12&\",reference:=StartOfSession)=\"&A28&\"\", \"Bar\", \"\", \"Close\",\"5\",\"0\",\"PrimaryOnly\",,,\"False\",\"T\",\"EveryTick\")","v":1.1852499999999999},-3.8241721297697547E-3,{"$f":"RTD(\"cqg.rtd\",,\"StudyData\", \"Close(\"&$D$12&\") when LocalYear(\"&$D$12&\")=\"&$D$8&\" and localMonth(\"&$D$12&\") =\"&$E$8&\" and LocalDay(\"&$D$12&\")=\"&$F$8&\" and Barix(\"&$D$12&\",reference:=StartOfSession)=\"&A28&\"\", \"Bar\", \"\", \"Close\",\"5\",\"0\",\"PrimaryOnly\",,,\"False\",\"T\",\"EveryTick\")","v":1.1917500000000001},4.8058682180346854E-3,{"$f":"RTD(\"cqg.rtd\",,\"StudyData\", \"Close(\"&$D$12&\") when LocalYear(\"&$D$12&\")=\"&$D$9&\" and localMonth(\"&$D$12&\") =\"&$E$9&\" and LocalDay(\"&$D$12&\")=\"&$F$9&\" and Barix(\"&$D$12&\",reference:=StartOfSession)=\"&A28&\"\", \"Bar\", \"\", \"Close\",\"5\",\"0\",\"PrimaryOnly\",,,\"False\",\"T\",\"EveryTick\")","v":1.1862999999999999},4.828053532102165E-3,{"$f":"RTD(\"cqg.rtd\",,\"StudyData\", \"Close(\"&$D$12&\") when LocalYear(\"&$D$12&\")=\"&$D$10&\" and localMonth(\"&$D$12&\") =\"&$E$10&\" and LocalDay(\"&$D$12&\")=\"&$F$10&\" and Barix(\"&$D$12&\",reference:=StartOfSession)=\"&A28&\"\", \"Bar\", \"\", \"Close\",\"5\",\"0\",\"PrimaryOnly\",,,\"False\",\"T\",\"EveryTick\")","v":1.1771499999999999},-1.6961370478734699E-3,null,null,null,""]
[208,"10:20:00","2018-06-13",2018,6,13,{"$f":"IF(RTD(\"cqg.rtd\",,\"StudyData\", \"Close(EP) when LocalYear(\"&$D$12&\")=\"&D29&\" and localMonth(\"&$D$12&\") =\"&E29&\" and LocalDay(\"&$D$12&\")=\"&F29&\" and Barix(\"&$D$12&\",reference:=StartOfSession)=80\", \"Bar\", \"\", \"Close\",\"5\",\"0\",\"PrimaryOnly\",,,\"False\",\"T\",\"EveryTick\")=\"\",2,1)","v":1},{"$f":"RTD(\"cqg.rtd\",,\"StudyData\", \"Close(\"&$D$12&\") when LocalYear(\"&$D$12&\")=\"&$D$1&\" and localMonth(\"&$D$12&\") =\"&$E$1&\" and LocalDay(\"&$D$12&\")=\"&$F$1&\" and Barix(\"&$D$12&\",reference:=StartOfSession)=\"&A29&\"\", \"Bar\", \"\", \"Close\",\"5\",\"0\",\"PrimaryOnly\",,,\"False\",\"T\",\"EveryTick\")","v":""},{"$error":"#N/A"},{"$f":"RTD(\"cqg.rtd\",,\"StudyData\", \"Close(\"&$D$12&\") when LocalYear(\"&$D$12&\")=\"&$D$2&\" and localMonth(\"&$D$12&\") =\"&$E$2&\" and LocalDay(\"&$D$12&\")=\"&$F$2&\" and Barix(\"&$D$12&\",reference:=StartOfSession)=\"&A29&\"\", \"Bar\", \"\", \"Close\",\"5\",\"0\",\"PrimaryOnly\",,,\"False\",\"T\",\"EveryTick\")","v":1.1697},2.0989505247376856E-3,{"$f":"RTD(\"cqg.rtd\",,\"StudyData\", \"Close(\"&$D$12&\") when LocalYear(\"&$D$12&\")=\"&$D$3&\" and localMonth(\"&$D$12&\") =\"&$E$3&\" and LocalDay(\"&$D$12&\")=\"&$F$3&\" and Barix(\"&$D$12&\",reference:=StartOfSession)=\"&A29&\"\", \"Bar\", \"\", \"Close\",\"5\",\"0\",\"PrimaryOnly\",,,\"False\",\"T\",\"EveryTick\")","v":1.17205},-1.1637222245646612E-2,{"$f":"RTD(\"cqg.rtd\",,\"StudyData\", \"Close(\"&$D$12&\") when LocalYear(\"&$D$12&\")=\"&$D$4&\" and localMonth(\"&$D$12&\") =\"&$E$4&\" and LocalDay(\"&$D$12&\")=\"&$F$4&\" and Barix(\"&$D$12&\",reference:=StartOfSession)=\"&A29&\"\", \"Bar\", \"\", \"Close\",\"5\",\"0\",\"PrimaryOnly\",,,\"False\",\"T\",\"EveryTick\")","v":1.1855500000000001},1.6475160527206136E-3,{"$f":"RTD(\"cqg.rtd\",,\"StudyData\", \"Close(\"&$D$12&\") when LocalYear(\"&$D$12&\")=\"&$D$5&\" and localMonth(\"&$D$12&\") =\"&$E$5&\" and LocalDay(\"&$D$12&\")=\"&$F$5&\" and Barix(\"&$D$12&\",reference:=StartOfSession)=\"&A29&\"\", \"Bar\", \"\", \"Close\",\"5\",\"0\",\"PrimaryOnly\",,,\"False\",\"T\",\"EveryTick\")","v":1.1872499999999999},-2.9471202425065046E-4,{"$f":"RTD(\"cqg.rtd\",,\"StudyData\", \"Close(\"&$D$12&\") when LocalYear(\"&$D$12&\")=\"&$D$6&\" and localMonth(\"&$D$12&\") =\"&$E$6&\" and LocalDay(\"&$D$12&\")=\"&$F$6&\" and Barix(\"&$D$12&\",reference:=StartOfSession)=\"&A29&\"\", \"Bar\", \"\", \"Close\",\"5\",\"0\",\"PrimaryOnly\",,,\"False\",\"T\",\"EveryTick\")","v":1.1896},3.0354131534570386E-3,{"$f":"RTD(\"cqg.rtd\",,\"StudyData\", \"Close(\"&$D$12&\") when LocalYear(\"&$D$12&\")=\"&$D$7&\" and localMonth(\"&$D$12&\") =\"&$E$7&\" and LocalDay(\"&$D$12&\")=\"&$F$7&\" and Barix(\"&$D$12&\",reference:=StartOfSession)=\"&A29&\"\", \"Bar\", \"\", \"Close\",\"5\",\"0\",\"PrimaryOnly\",,,\"False\",\"T\",\"EveryTick\")","v":1.1852499999999999},-3.8241721297697547E-3,{"$f":"RTD(\"cqg.rtd\",,\"StudyData\", \"Close(\"&$D$12&\") when LocalYear(\"&$D$12&\")=\"&$D$8&\" and localMonth(\"&$D$12&\") =\"&$E$8&\" and LocalDay(\"&$D$12&\")=\"&$F$8&\" and Barix(\"&$D$12&\",reference:=StartOfSession)=\"&A29&\"\", \"Bar\", \"\", \"Close\",\"5\",\"0\",\"PrimaryOnly\",,,\"False\",\"T\",\"EveryTick\")","v":1.1916},4.6793980017705355E-3,{"$f":"RTD(\"cqg.rtd\",,\"StudyData\", \"Close(\"&$D$12&\") when LocalYear(\"&$D$12&\")=\"&$D$9&\" and localMonth(\"&$D$12&\") =\"&$E$9&\" and LocalDay(\"&$D$12&\")=\"&$F$9&\" and Barix(\"&$D$12&\",reference:=StartOfSession)=\"&A29&\"\", \"Bar\", \"\", \"Close\",\"5\",\"0\",\"PrimaryOnly\",,,\"False\",\"T\",\"EveryTick\")","v":1.18605},4.6162967982381455E-3,{"$f":"RTD(\"cqg.rtd\",,\"StudyData\", \"Close(\"&$D$12&\") when LocalYear(\"&$D$12&\")=\"&$D$10&\" and localMonth(\"&$D$12&\") =\"&$E$10&\" and LocalDay(\"&$D$12&\")=\"&$F$10&\" and Barix(\"&$D$12&\",reference:=StartOfSession)=\"&A29&\"\", \"Bar\", \"\", \"Close\",\"5\",\"0\",\"PrimaryOnly\",,,\"False\",\"T\",\"EveryTick\")","v":1.1769000000000001},-1.9081541788575358E-3,null,null,null,""]
[209,"10:25:00","2018-06-12",2018,6,12,{"$f":"IF(RTD(\"cqg.rtd\",,\"StudyData\", \"Close(EP) when LocalYear(\"&$D$12&\")=\"&D30&\" and localMonth(\"&$D$12&\") =\"&E30&\" and LocalDay(\"&$D$12&\")=\"&F30&\" and Barix(\"&$D$12&\",reference:=StartOfSession)=80\", \"Bar\", \"\", \"Close\",\"5\",\"0\",\"PrimaryOnly\",,,\"False\",\"T\",\"EveryTick\")=\"\",2,1)","v":1},{"$f":"RTD(\"cqg.rtd\",,\"StudyData\", \"Close(\"&$D$12&\") when LocalYear(\"&$D$12&\")=\"&$D$1&\" and localMonth(\"&$D$12&\") =\"&$E$1&\" and LocalDay(\"&$D$12&\")=\"&$F$1&\" and Barix(\"&$D$12&\",reference:=StartOfSession)=\"&A30&\"\", \"Bar\", \"\", \"Close\",\"5\",\"0\",\"PrimaryOnly\",,,\"False\",\"T\",\"EveryTick\")","v":""},{"$error":"#N/A"},{"$f":"RTD(\"cqg.rtd\",,\"StudyData\", \"Close(\"&$D$12&\") when LocalYear(\"&$D$12&\")=\"&$D$2&\" and localMonth(\"&$D$12&\") =\"&$E$2&\" and LocalDay(\"&$D$12&\")=\"&$F$2&\" and Barix(\"&$D$12&\",reference:=StartOfSession)=\"&A30&\"\", \"Bar\", \"\", \"Close\",\"5\",\"0\",\"PrimaryOnly\",,,\"False\",\"T\",\"EveryTick\")","v":1.17025},2.5701434996788296E-3,{"$f":"RTD(\"cqg.rtd\",,\"StudyData\", \"Close(\"&$D$12&\") when LocalYear(\"&$D$12&\")=\"&$D$3&\" and localMonth(\"&$D$12&\") =\"&$E$3&\" and LocalDay(\"&$D$12&\")=\"&$F$3&\" and Barix(\"&$D$12&\",reference:=StartOfSession)=\"&A30&\"\", \"Bar\", \"\", \"Close\",\"5\",\"0\",\"PrimaryOnly\",,,\"False\",\"T\",\"EveryTick\")","v":1.1728499999999999},-1.0962600666188912E-2,{"$f":"RTD(\"cqg.rtd\",,\"StudyData\", \"Close(\"&$D$12&\") when LocalYear(\"&$D$12&\")=\"&$D$4&\" and localMonth(\"&$D$12&\") =\"&$E$4&\" and LocalDay(\"&$D$12&\")=\"&$F$4&\" and Barix(\"&$D$12&\",reference:=StartOfSession)=\"&A30&\"\", \"Bar\", \"\", \"Close\",\"5\",\"0\",\"PrimaryOnly\",,,\"False\",\"T\",\"EveryTick\")","v":1.1860999999999999},2.1122000675903572E-3,{"$f":"RTD(\"cqg.rtd\",,\"StudyData\", \"Close(\"&$D$12&\") when LocalYear(\"&$D$12&\")=\"&$D$5&\" and localMonth(\"&$D$12&\") =\"&$E$5&\" and LocalDay(\"&$D$12&\")=\"&$F$5&\" and Barix(\"&$D$12&\",reference:=StartOfSession)=\"&A30&\"\", \"Bar\", \"\", \"Close\",\"5\",\"0\",\"PrimaryOnly\",,,\"False\",\"T\",\"EveryTick\")","v":1.1875500000000001},-4.2101717749986082E-5,{"$f":"RTD(\"cqg.rtd\",,\"StudyData\", \"Close(\"&$D$12&\") when LocalYear(\"&$D$12&\")=\"&$D$6&\" and localMonth(\"&$D$12&\") =\"&$E$6&\" and LocalDay(\"&$D$12&\")=\"&$F$6&\" and Barix(\"&$D$12&\",reference:=StartOfSession)=\"&A30&\"\", \"Bar\", \"\", \"Close\",\"5\",\"0\",\"PrimaryOnly\",,,\"False\",\"T\",\"EveryTick\")","v":1.1896500000000001},3.0775716694773636E-3,{"$f":"RTD(\"cqg.rtd\",,\"StudyData\", \"Close(\"&$D$12&\") when LocalYear(\"&$D$12&\")=\"&$D$7&\" and localMonth(\"&$D$12&\") =\"&$E$7&\" and LocalDay(\"&$D$12&\")=\"&$F$7&\" and Barix(\"&$D$12&\",reference:=StartOfSession)=\"&A30&\"\", \"Bar\", \"\", \"Close\",\"5\",\"0\",\"PrimaryOnly\",,,\"False\",\"T\",\"EveryTick\")","v":1.1850499999999999},-3.9922676080013713E-3,{"$f":"RTD(\"cqg.rtd\",,\"StudyData\", \"Close(\"&$D$12&\") when LocalYear(\"&$D$12&\")=\"&$D$8&\" and localMonth(\"&$D$12&\") =\"&$E$8&\" and LocalDay(\"&$D$12&\")=\"&$F$8&\" and Barix(\"&$D$12&\",reference:=StartOfSession)=\"&A30&\"\", \"Bar\", \"\", \"Close\",\"5\",\"0\",\"PrimaryOnly\",,,\"False\",\"T\",\"EveryTick\")","v":1.1915},4.595084524261165E-3,{"$f":"RTD(\"cqg.rtd\",,\"StudyData\", \"Close(\"&$D$12&\") when LocalYear(\"&$D$12&\")=\"&$D$9&\" and localMonth(\"&$D$12&\") =\"&$E$9&\" and LocalDay(\"&$D$12&\")=\"&$F$9&\" and Barix(\"&$D$12&\",reference:=StartOfSession)=\"&A30&\"\", \"Bar\", \"\", \"Close\",\"5\",\"0\",\"PrimaryOnly\",,,\"False\",\"T\",\"EveryTick\")","v":1.1858},4.4045400643739378E-3,{"$f":"RTD(\"cqg.rtd\",,\"StudyData\", \"Close(\"&$D$12&\") when LocalYear(\"&$D$12&\")=\"&$D$10&\" and localMonth(\"&$D$12&\") =\"&$E$10&\" and LocalDay(\"&$D$12&\")=\"&$F$10&\" and Barix(\"&$D$12&\",reference:=StartOfSession)=\"&A30&\"\", \"Bar\", \"\", \"Close\",\"5\",\"0\",\"PrimaryOnly\",,,\"False\",\"T\",\"EveryTick\")","v":1.1767000000000001},-2.0777678836448638E-3,null,null,null,""]
[210,"10:30:00","2018-06-11",2018,6,11,{"$f":"IF(RTD(\"cqg.rtd\",,\"StudyData\", \"Close(EP) when LocalYear(\"&$D$12&\")=\"&D31&\" and localMonth(\"&$D$12&\") =\"&E31&\" and LocalDay(\"&$D$12&\")=\"&F31&\" and Barix(\"&$D$12&\",reference:=StartOfSession)=80\", \"Bar\", \"\", \"Close\",\"5\",\"0\",\"PrimaryOnly\",,,\"False\",\"T\",\"EveryTick\")=\"\",2,1)","v":1},{"$f":"RTD(\"cqg.rtd\",,\"StudyData\", \"Close(\"&$D$12&\") when LocalYear(\"&$D$12&\")=\"&$D$1&\" and localMonth(\"&$D$12&\") =\"&$E$1&\" and LocalDay(\"&$D$12&\")=\"&$F$1&\" and Barix(\"&$D$12&\",reference:=StartOfSession)=\"&A31&\"\", \"Bar\", \"\", \"Close\",\"5\",\"0\",\"PrimaryOnly\",,,\"False\",\"T\",\"EveryTick\")","v":""},{"$error":"#N/A"},{"$f":"RTD(\"cqg.rtd\",,\"StudyData\", \"Close(\"&$D$12&\") when LocalYear(\"&$D$12&\")=\"&$D$2&\" and localMonth(\"&$D$12&\") =\"&$E$2&\" and LocalDay(\"&$D$12&\")=\"&$F$2&\" and Barix(\"&$D$12&\",reference:=StartOfSession)=\"&A31&\"\", \"Bar\", \"\", \"Close\",\"5\",\"0\",\"PrimaryOnly\",,,\"False\",\"T\",\"EveryTick\")","v":1.1702999999999999},2.6129792246733755E-3,{"$f":"RTD(\"cqg.rtd\",,\"StudyData\", \"Close(\"&$D$12&\") when LocalYear(\"&$D$12&\")=\"&$D$3&\" and localMonth(\"&$D$12&\") =\"&$E$3&\" and LocalDay(\"&$D$12&\")=\"&$F$3&\" and Barix(\"&$D$12&\",reference:=StartOfSession)=\"&A31&\"\", \"Bar\", \"\", \"Close\",\"5\",\"0\",\"PrimaryOnly\",,,\"False\",\"T\",\"EveryTick\")","v":1.17215},-1.1552894548214399E-2,{"$f":"RTD(\"cqg.rtd\",,\"StudyData\", \"Close(\"&$D$12&\") when LocalYear(\"&$D$12&\")=\"&$D$4&\" and localMonth(\"&$D$12&\") =\"&$E$4&\" and LocalDay(\"&$D$12&\")=\"&$F$4&\" and Barix(\"&$D$12&\",reference:=StartOfSession)=\"&A31&\"\", \"Bar\", \"\", \"Close\",\"5\",\"0\",\"PrimaryOnly\",,,\"False\",\"T\",\"EveryTick\")","v":1.18655},2.4923960797566813E-3,{"$f":"RTD(\"cqg.rtd\",,\"StudyData\", \"Close(\"&$D$12&\") when LocalYear(\"&$D$12&\")=\"&$D$5&\" and localMonth(\"&$D$12&\") =\"&$E$5&\" and LocalDay(\"&$D$12&\")=\"&$F$5&\" and Barix(\"&$D$12&\",reference:=StartOfSession)=\"&A31&\"\", \"Bar\", \"\", \"Close\",\"5\",\"0\",\"PrimaryOnly\",,,\"False\",\"T\",\"EveryTick\")","v":1.1877500000000001},1.2630515325033219E-4,{"$f":"RTD(\"cqg.rtd\",,\"StudyData\", \"Close(\"&$D$12&\") when LocalYear(\"&$D$12&\")=\"&$D$6&\" and localMonth(\"&$D$12&\") =\"&$E$6&\" and LocalDay(\"&$D$12&\")=\"&$F$6&\" and Barix(\"&$D$12&\",reference:=StartOfSession)=\"&A31&\"\", \"Bar\", \"\", \"Close\",\"5\",\"0\",\"PrimaryOnly\",,,\"False\",\"T\",\"EveryTick\")","v":1.1893499999999999},2.8246205733557877E-3,{"$f":"RTD(\"cqg.rtd\",,\"StudyData\", \"Close(\"&$D$12&\") when LocalYear(\"&$D$12&\")=\"&$D$7&\" and localMonth(\"&$D$12&\") =\"&$E$7&\" and LocalDay(\"&$D$12&\")=\"&$F$7&\" and Barix(\"&$D$12&\",reference:=StartOfSession)=\"&A31&\"\", \"Bar\", \"\", \"Close\",\"5\",\"0\",\"PrimaryOnly\",,,\"False\",\"T\",\"EveryTick\")","v":1.1850499999999999},-3.9922676080013713E-3,{"$f":"RTD(\"cqg.rtd\",,\"StudyData\", \"Close(\"&$D$12&\") when LocalYear(\"&$D$12&\")=\"&$D$8&\" and localMonth(\"&$D$12&\") =\"&$E$8&\" and LocalDay(\"&$D$12&\")=\"&$F$8&\" and Barix(\"&$D$12&\",reference:=StartOfSession)=\"&A31&\"\", \"Bar\", \"\", \"Close\",\"5\",\"0\",\"PrimaryOnly\",,,\"False\",\"T\",\"EveryTick\")","v":1.1915},4.595084524261165E-3,{"$f":"RTD(\"cqg.rtd\",,\"StudyData\", \"Close(\"&$D$12&\") when LocalYear(\"&$D$12&\")=\"&$D$9&\" and localMonth(\"&$D$12&\") =\"&$E$9&\" and LocalDay(\"&$D$12&\")=\"&$F$9&\" and Barix(\"&$D$12&\",reference:=StartOfSession)=\"&A31&\"\", \"Bar\", \"\", \"Close\",\"5\",\"0\",\"PrimaryOnly\",,,\"False\",\"T\",\"EveryTick\")","v":1.1857},4.3198373708282925E-3,{"$f":"RTD(\"cqg.rtd\",,\"StudyData\", \"Close(\"&$D$12&\") when LocalYear(\"&$D$12&\")=\"&$D$10&\" and localMonth(\"&$D$12&\") =\"&$E$10&\" and LocalDay(\"&$D$12&\")=\"&$F$10&\" and Barix(\"&$D$12&\",reference:=StartOfSession)=\"&A31&\"\", \"Bar\", \"\", \"Close\",\"5\",\"0\",\"PrimaryOnly\",,,\"False\",\"T\",\"EveryTick\")","v":1.17685},-1.9505576050544619E-3,null,null,null,""]
[211,"10:35:00","2018-06-08",2018,6,8,{"$f":"IF(RTD(\"cqg.rtd\",,\"StudyData\", \"Close(EP) when LocalYear(\"&$D$12&\")=\"&D32&\" and localMonth(\"&$D$12&\") =\"&E32&\" and LocalDay(\"&$D$12&\")=\"&F32&\" and Barix(\"&$D$12&\",reference:=StartOfSession)=80\", \"Bar\", \"\", \"Close\",\"5\",\"0\",\"PrimaryOnly\",,,\"False\",\"T\",\"EveryTick\")=\"\",2,1)","v":1},{"$f":"RTD(\"cqg.rtd\",,\"StudyData\", \"Close(\"&$D$12&\") when LocalYear(\"&$D$12&\")=\"&$D$1&\" and localMonth(\"&$D$12&\") =\"&$E$1&\" and LocalDay(\"&$D$12&\")=\"&$F$1&\" and Barix(\"&$D$12&\",reference:=StartOfSession)=\"&A32&\"\", \"Bar\", \"\", \"Close\",\"5\",\"0\",\"PrimaryOnly\",,,\"False\",\"T\",\"EveryTick\")","v":""},{"$error":"#N/A"},{"$f":"RTD(\"cqg.rtd\",,\"StudyData\", \"Close(\"&$D$12&\") when LocalYear(\"&$D$12&\")=\"&$D$2&\" and localMonth(\"&$D$12&\") =\"&$E$2&\" and LocalDay(\"&$D$12&\")=\"&$F$2&\" and Barix(\"&$D$12&\",reference:=StartOfSession)=\"&A32&\"\", \"Bar\", \"\", \"Close\",\"5\",\"0\",\"PrimaryOnly\",,,\"False\",\"T\",\"EveryTick\")","v":1.17025},2.5701434996788296E-3,{"$f":"RTD(\"cqg.rtd\",,\"StudyData\", \"Close(\"&$D$12&\") when LocalYear(\"&$D$12&\")=\"&$D$3&\" and localMonth(\"&$D$12&\") =\"&$E$3&\" and LocalDay(\"&$D$12&\")=\"&$F$3&\" and Barix(\"&$D$12&\",reference:=StartOfSession)=\"&A32&\"\", \"Bar\", \"\", \"Close\",\"5\",\"0\",\"PrimaryOnly\",,,\"False\",\"T\",\"EveryTick\")","v":1.1715500000000001},-1.2058860732807673E-2,{"$f":"RTD(\"cqg.rtd\",,\"StudyData\", \"Close(\"&$D$12&\") when LocalYear(\"&$D$12&\")=\"&$D$4&\" and localMonth(\"&$D$12&\") =\"&$E$4&\" and LocalDay(\"&$D$12&\")=\"&$F$4&\" and Barix(\"&$D$12&\",reference:=StartOfSession)=\"&A32&\"\", \"Bar\", \"\", \"Close\",\"5\",\"0\",\"PrimaryOnly\",,,\"False\",\"T\",\"EveryTick\")","v":1.18665},2.5768840824602884E-3,{"$f":"RTD(\"cqg.rtd\",,\"StudyData\", \"Close(\"&$D$12&\") when LocalYear(\"&$D$12&\")=\"&$D$5&\" and localMonth(\"&$D$12&\") =\"&$E$5&\" and LocalDay(\"&$D$12&\")=\"&$F$5&\" and Barix(\"&$D$12&\",reference:=StartOfSession)=\"&A32&\"\", \"Bar\", \"\", \"Close\",\"5\",\"0\",\"PrimaryOnly\",,,\"False\",\"T\",\"EveryTick\")","v":1.1879500000000001},2.9471202425065046E-4,{"$f":"RTD(\"cqg.rtd\",,\"StudyData\", \"Close(\"&$D$12&\") when LocalYear(\"&$D$12&\")=\"&$D$6&\" and localMonth(\"&$D$12&\") =\"&$E$6&\" and LocalDay(\"&$D$12&\")=\"&$F$6&\" and Barix(\"&$D$12&\",reference:=StartOfSession)=\"&A32&\"\", \"Bar\", \"\", \"Close\",\"5\",\"0\",\"PrimaryOnly\",,,\"False\",\"T\",\"EveryTick\")","v":1.1895},2.9510961214165759E-3,{"$f":"RTD(\"cqg.rtd\",,\"StudyData\", \"Close(\"&$D$12&\") when LocalYear(\"&$D$12&\")=\"&$D$7&\" and localMonth(\"&$D$12&\") =\"&$E$7&\" and LocalDay(\"&$D$12&\")=\"&$F$7&\" and Barix(\"&$D$12&\",reference:=StartOfSession)=\"&A32&\"\", \"Bar\", \"\", \"Close\",\"5\",\"0\",\"PrimaryOnly\",,,\"False\",\"T\",\"EveryTick\")","v":1.1849000000000001},-4.1183392166749908E-3,{"$f":"RTD(\"cqg.rtd\",,\"StudyData\", \"Close(\"&$D$12&\") when LocalYear(\"&$D$12&\")=\"&$D$8&\" and localMonth(\"&$D$12&\") =\"&$E$8&\" and LocalDay(\"&$D$12&\")=\"&$F$8&\" and Barix(\"&$D$12&\",reference:=StartOfSession)=\"&A32&\"\", \"Bar\", \"\", \"Close\",\"5\",\"0\",\"PrimaryOnly\",,,\"False\",\"T\",\"EveryTick\")","v":1.1919500000000001},4.9744951730534264E-3,{"$f":"RTD(\"cqg.rtd\",,\"StudyData\", \"Close(\"&$D$12&\") when LocalYear(\"&$D$12&\")=\"&$D$9&\" and localMonth(\"&$D$12&\") =\"&$E$9&\" and LocalDay(\"&$D$12&\")=\"&$F$9&\" and Barix(\"&$D$12&\",reference:=StartOfSession)=\"&A32&\"\", \"Bar\", \"\", \"Close\",\"5\",\"0\",\"PrimaryOnly\",,,\"False\",\"T\",\"EveryTick\")","v":1.1857},4.3198373708282925E-3,{"$f":"RTD(\"cqg.rtd\",,\"StudyData\", \"Close(\"&$D$12&\") when LocalYear(\"&$D$12&\")=\"&$D$10&\" and localMonth(\"&$D$12&\") =\"&$E$10&\" and LocalDay(\"&$D$12&\")=\"&$F$10&\" and Barix(\"&$D$12&\",reference:=StartOfSession)=\"&A32&\"\", \"Bar\", \"\", \"Close\",\"5\",\"0\",\"PrimaryOnly\",,,\"False\",\"T\",\"EveryTick\")","v":1.1769499999999999},-1.8657507526607978E-3,null,null,null,""]
[212,"10:40:00","2018-06-07",2018,6,7,{"$f":"IF(RTD(\"cqg.rtd\",,\"StudyData\", \"Close(EP) when LocalYear(\"&$D$12&\")=\"&D33&\" and localMonth(\"&$D$12&\") =\"&E33&\" and LocalDay(\"&$D$12&\")=\"&F33&\" and Barix(\"&$D$12&\",reference:=StartOfSession)=80\", \"Bar\", \"\", \"Close\",\"5\",\"0\",\"PrimaryOnly\",,,\"False\",\"T\",\"EveryTick\")=\"\",2,1)","v":1},{"$f":"RTD(\"cqg.rtd\",,\"StudyData\", \"Close(\"&$D$12&\") when LocalYear(\"&$D$12&\")=\"&$D$1&\" and localMonth(\"&$D$12&\") =\"&$E$1&\" and LocalDay(\"&$D$12&\")=\"&$F$1&\" and Barix(\"&$D$12&\",reference:=StartOfSession)=\"&A33&\"\", \"Bar\", \"\", \"Close\",\"5\",\"0\",\"PrimaryOnly\",,,\"False\",\"T\",\"EveryTick\")","v":""},{"$error":"#N/A"},{"$f":"RTD(\"cqg.rtd\",,\"StudyData\", \"Close(\"&$D$12&\") when LocalYear(\"&$D$12&\")=\"&$D$2&\" and localMonth(\"&$D$12&\") =\"&$E$2&\" and LocalDay(\"&$D$12&\")=\"&$F$2&\" and Barix(\"&$D$12&\",reference:=StartOfSession)=\"&A33&\"\", \"Bar\", \"\", \"Close\",\"5\",\"0\",\"PrimaryOnly\",,,\"False\",\"T\",\"EveryTick\")","v":1.17045},2.7414863996573931E-3,{"$f":"RTD(\"cqg.rtd\",,\"StudyData\", \"Close(\"&$D$12&\") when LocalYear(\"&$D$12&\")=\"&$D$3&\" and localMonth(\"&$D$12&\") =\"&$E$3&\" and LocalDay(\"&$D$12&\")=\"&$F$3&\" and Barix(\"&$D$12&\",reference:=StartOfSession)=\"&A33&\"\", \"Bar\", \"\", \"Close\",\"5\",\"0\",\"PrimaryOnly\",,,\"False\",\"T\",\"EveryTick\")","v":1.1712},-1.235400767382051E-2,{"$f":"RTD(\"cqg.rtd\",,\"StudyData\", \"Close(\"&$D$12&\") when LocalYear(\"&$D$12&\")=\"&$D$4&\" and localMonth(\"&$D$12&\") =\"&$E$4&\" and LocalDay(\"&$D$12&\")=\"&$F$4&\" and Barix(\"&$D$12&\",reference:=StartOfSession)=\"&A33&\"\", \"Bar\", \"\", \"Close\",\"5\",\"0\",\"PrimaryOnly\",,,\"False\",\"T\",\"EveryTick\")","v":1.1872499999999999},3.083812098681929E-3,{"$f":"RTD(\"cqg.rtd\",,\"StudyData\", \"Close(\"&$D$12&\") when LocalYear(\"&$D$12&\")=\"&$D$5&\" and localMonth(\"&$D$12&\") =\"&$E$5&\" and LocalDay(\"&$D$12&\")=\"&$F$5&\" and Barix(\"&$D$12&\",reference:=StartOfSession)=\"&A33&\"\", \"Bar\", \"\", \"Close\",\"5\",\"0\",\"PrimaryOnly\",,,\"False\",\"T\",\"EveryTick\")","v":1.1879},2.5261030650047741E-4,{"$f":"RTD(\"cqg.rtd\",,\"StudyData\", \"Close(\"&$D$12&\") when LocalYear(\"&$D$12&\")=\"&$D$6&\" and localMonth(\"&$D$12&\") =\"&$E$6&\" and LocalDay(\"&$D$12&\")=\"&$F$6&\" and Barix(\"&$D$12&\",reference:=StartOfSession)=\"&A33&\"\", \"Bar\", \"\", \"Close\",\"5\",\"0\",\"PrimaryOnly\",,,\"False\",\"T\",\"EveryTick\")","v":1.1891},2.6138279932547241E-3,{"$f":"RTD(\"cqg.rtd\",,\"StudyData\", \"Close(\"&$D$12&\") when LocalYear(\"&$D$12&\")=\"&$D$7&\" and localMonth(\"&$D$12&\") =\"&$E$7&\" and LocalDay(\"&$D$12&\")=\"&$F$7&\" and Barix(\"&$D$12&\",reference:=StartOfSession)=\"&A33&\"\", \"Bar\", \"\", \"Close\",\"5\",\"0\",\"PrimaryOnly\",,,\"False\",\"T\",\"EveryTick\")","v":1.1854499999999999},-3.6560766515381375E-3,{"$f":"RTD(\"cqg.rtd\",,\"StudyData\", \"Close(\"&$D$12&\") when LocalYear(\"&$D$12&\")=\"&$D$8&\" and localMonth(\"&$D$12&\") =\"&$E$8&\" and LocalDay(\"&$D$12&\")=\"&$F$8&\" and Barix(\"&$D$12&\",reference:=StartOfSession)=\"&A33&\"\", \"Bar\", \"\", \"Close\",\"5\",\"0\",\"PrimaryOnly\",,,\"False\",\"T\",\"EveryTick\")","v":1.1917500000000001},4.8058682180346854E-3,{"$f":"RTD(\"cqg.rtd\",,\"StudyData\", \"Close(\"&$D$12&\") when LocalYear(\"&$D$12&\")=\"&$D$9&\" and localMonth(\"&$D$12&\") =\"&$E$9&\" and LocalDay(\"&$D$12&\")=\"&$F$9&\" and Barix(\"&$D$12&\",reference:=StartOfSession)=\"&A33&\"\", \"Bar\", \"\", \"Close\",\"5\",\"0\",\"PrimaryOnly\",,,\"False\",\"T\",\"EveryTick\")","v":1.1863999999999999},4.9127562256478102E-3,{"$f":"RTD(\"cqg.rtd\",,\"StudyData\", \"Close(\"&$D$12&\") when LocalYear(\"&$D$12&\")=\"&$D$10&\" and localMonth(\"&$D$12&\") =\"&$E$10&\" and LocalDay(\"&$D$12&\")=\"&$F$10&\" and Barix(\"&$D$12&\",reference:=StartOfSession)=\"&A33&\"\", \"Bar\", \"\", \"Close\",\"5\",\"0\",\"PrimaryOnly\",,,\"False\",\"T\",\"EveryTick\")","v":1.17685},-1.9505576050544619E-3,null,null,null,""]
[213,"10:45:00","2018-06-06",2018,6,6,{"$f":"IF(RTD(\"cqg.rtd\",,\"StudyData\", \"Close(EP) when LocalYear(\"&$D$12&\")=\"&D34&\" and localMonth(\"&$D$12&\") =\"&E34&\" and LocalDay(\"&$D$12&\")=\"&F34&\" and Barix(\"&$D$12&\",reference:=StartOfSession)=80\", \"Bar\", \"\", \"Close\",\"5\",\"0\",\"PrimaryOnly\",,,\"False\",\"T\",\"EveryTick\")=\"\",2,1)","v":1},{"$f":"RTD(\"cqg.rtd\",,\"StudyData\", \"Close(\"&$D$12&\") when LocalYear(\"&$D$12&\")=\"&$D$1&\" and localMonth(\"&$D$12&\") =\"&$E$1&\" and LocalDay(\"&$D$12&\")=\"&$F$1&\" and Barix(\"&$D$12&\",reference:=StartOfSession)=\"&A34&\"\", \"Bar\", \"\", \"Close\",\"5\",\"0\",\"PrimaryOnly\",,,\"False\",\"T\",\"EveryTick\")","v":""},{"$error":"#N/A"},{"$f":"RTD(\"cqg.rtd\",,\"StudyData\", \"Close(\"&$D$12&\") when LocalYear(\"&$D$12&\")=\"&$D$2&\" and localMonth(\"&$D$12&\") =\"&$E$2&\" and LocalDay(\"&$D$12&\")=\"&$F$2&\" and Barix(\"&$D$12&\",reference:=StartOfSession)=\"&A34&\"\", \"Bar\", \"\", \"Close\",\"5\",\"0\",\"PrimaryOnly\",,,\"False\",\"T\",\"EveryTick\")","v":1.1701999999999999},2.5273077746840937E-3,{"$f":"RTD(\"cqg.rtd\",,\"StudyData\", \"Close(\"&$D$12&\") when LocalYear(\"&$D$12&\")=\"&$D$3&\" and localMonth(\"&$D$12&\") =\"&$E$3&\" and LocalDay(\"&$D$12&\")=\"&$F$3&\" and Barix(\"&$D$12&\",reference:=StartOfSession)=\"&A34&\"\", \"Bar\", \"\", \"Close\",\"5\",\"0\",\"PrimaryOnly\",,,\"False\",\"T\",\"EveryTick\")","v":1.1712499999999999},-1.2311843825104496E-2,{"$f":"RTD(\"cqg.rtd\",,\"StudyData\", \"Close(\"&$D$12&\") when LocalYear(\"&$D$12&\")=\"&$D$4&\" and localMonth(\"&$D$12&\") =\"&$E$4&\" and LocalDay(\"&$D$12&\")=\"&$F$4&\" and Barix(\"&$D$12&\",reference:=StartOfSession)=\"&A34&\"\", \"Bar\", \"\", \"Close\",\"5\",\"0\",\"PrimaryOnly\",,,\"False\",\"T\",\"EveryTick\")","v":1.1872},3.0415680973302195E-3,{"$f":"RTD(\"cqg.rtd\",,\"StudyData\", \"Close(\"&$D$12&\") when LocalYear(\"&$D$12&\")=\"&$D$5&\" and localMonth(\"&$D$12&\") =\"&$E$5&\" and LocalDay(\"&$D$12&\")=\"&$F$5&\" and Barix(\"&$D$12&\",reference:=StartOfSession)=\"&A34&\"\", \"Bar\", \"\", \"Close\",\"5\",\"0\",\"PrimaryOnly\",,,\"False\",\"T\",\"EveryTick\")","v":1.1879500000000001},2.9471202425065046E-4,{"$f":"RTD(\"cqg.rtd\",,\"StudyData\", \"Close(\"&$D$12&\") when LocalYear(\"&$D$12&\")=\"&$D$6&\" and localMonth(\"&$D$12&\") =\"&$E$6&\" and LocalDay(\"&$D$12&\")=\"&$F$6&\" and Barix(\"&$D$12&\",reference:=StartOfSession)=\"&A34&\"\", \"Bar\", \"\", \"Close\",\"5\",\"0\",\"PrimaryOnly\",,,\"False\",\"T\",\"EveryTick\")","v":1.1891},2.6138279932547241E-3,{"$f":"RTD(\"cqg.rtd\",,\"StudyData\", \"Close(\"&$D$12&\") when LocalYear(\"&$D$12&\")=\"&$D$7&\" and localMonth(\"&$D$12&\") =\"&$E$7&\" and LocalDay(\"&$D$12&\")=\"&$F$7&\" and Barix(\"&$D$12&\",reference:=StartOfSession)=\"&A34&\"\", \"Bar\", \"\", \"Close\",\"5\",\"0\",\"PrimaryOnly\",,,\"False\",\"T\",\"EveryTick\")","v":1.1854499999999999},-3.6560766515381375E-3,{"$f":"RTD(\"cqg.rtd\",,\"StudyData\", \"Close(\"&$D$12&\") when LocalYear(\"&$D$12&\")=\"&$D$8&\" and localMonth(\"&$D$12&\") =\"&$E$8&\" and LocalDay(\"&$D$12&\")=\"&$F$8&\" and Barix(\"&$D$12&\",reference:=StartOfSession)=\"&A34&\"\", \"Bar\", \"\", \"Close\",\"5\",\"0\",\"PrimaryOnly\",,,\"False\",\"T\",\"EveryTick\")","v":1.1916500000000001},4.721554740525314E-3,{"$f":"RTD(\"cqg.rtd\",,\"StudyData\", \"Close(\"&$D$12&\") when LocalYear(\"&$D$12&\")=\"&$D$9&\" and localMonth(\"&$D$12&\") =\"&$E$9&\" and LocalDay(\"&$D$12&\")=\"&$F$9&\" and Barix(\"&$D$12&\",reference:=StartOfSession)=\"&A34&\"\", \"Bar\", \"\", \"Close\",\"5\",\"0\",\"PrimaryOnly\",,,\"False\",\"T\",\"EveryTick\")","v":1.1867000000000001},5.1668643062849342E-3,{"$f":"RTD(\"cqg.rtd\",,\"StudyData\", \"Close(\"&$D$12&\") when LocalYear(\"&$D$12&\")=\"&$D$10&\" and localMonth(\"&$D$12&\") =\"&$E$10&\" and LocalDay(\"&$D$12&\")=\"&$F$10&\" and Barix(\"&$D$12&\",reference:=StartOfSession)=\"&A34&\"\", \"Bar\", \"\", \"Close\",\"5\",\"0\",\"PrimaryOnly\",,,\"False\",\"T\",\"EveryTick\")","v":1.17675},-2.0353644574481263E-3,null,null,null,""]
[214,"10:50:00","2018-06-05",2018,6,5,{"$f":"IF(RTD(\"cqg.rtd\",,\"StudyData\", \"Close(EP) when LocalYear(\"&$D$12&\")=\"&D35&\" and localMonth(\"&$D$12&\") =\"&E35&\" and LocalDay(\"&$D$12&\")=\"&F35&\" and Barix(\"&$D$12&\",reference:=StartOfSession)=80\", \"Bar\", \"\", \"Close\",\"5\",\"0\",\"PrimaryOnly\",,,\"False\",\"T\",\"EveryTick\")=\"\",2,1)","v":1},{"$f":"RTD(\"cqg.rtd\",,\"StudyData\", \"Close(\"&$D$12&\") when LocalYear(\"&$D$12&\")=\"&$D$1&\" and localMonth(\"&$D$12&\") =\"&$E$1&\" and LocalDay(\"&$D$12&\")=\"&$F$1&\" and Barix(\"&$D$12&\",reference:=StartOfSession)=\"&A35&\"\", \"Bar\", \"\", \"Close\",\"5\",\"0\",\"PrimaryOnly\",,,\"False\",\"T\",\"EveryTick\")","v":""},{"$error":"#N/A"},{"$f":"RTD(\"cqg.rtd\",,\"StudyData\", \"Close(\"&$D$12&\") when LocalYear(\"&$D$12&\")=\"&$D$2&\" and localMonth(\"&$D$12&\") =\"&$E$2&\" and LocalDay(\"&$D$12&\")=\"&$F$2&\" and Barix(\"&$D$12&\",reference:=StartOfSession)=\"&A35&\"\", \"Bar\", \"\", \"Close\",\"5\",\"0\",\"PrimaryOnly\",,,\"False\",\"T\",\"EveryTick\")","v":1.17005},2.3988005997002664E-3,{"$f":"RTD(\"cqg.rtd\",,\"StudyData\", \"Close(\"&$D$12&\") when LocalYear(\"&$D$12&\")=\"&$D$3&\" and localMonth(\"&$D$12&\") =\"&$E$3&\" and LocalDay(\"&$D$12&\")=\"&$F$3&\" and Barix(\"&$D$12&\",reference:=StartOfSession)=\"&A35&\"\", \"Bar\", \"\", \"Close\",\"5\",\"0\",\"PrimaryOnly\",,,\"False\",\"T\",\"EveryTick\")","v":1.1715500000000001},-1.2058860732807673E-2,{"$f":"RTD(\"cqg.rtd\",,\"StudyData\", \"Close(\"&$D$12&\") when LocalYear(\"&$D$12&\")=\"&$D$4&\" and localMonth(\"&$D$12&\") =\"&$E$4&\" and LocalDay(\"&$D$12&\")=\"&$F$4&\" and Barix(\"&$D$12&\",reference:=StartOfSession)=\"&A35&\"\", \"Bar\", \"\", \"Close\",\"5\",\"0\",\"PrimaryOnly\",,,\"False\",\"T\",\"EveryTick\")","v":1.1868000000000001},2.7036160865157922E-3,{"$f":"RTD(\"cqg.rtd\",,\"StudyData\", \"Close(\"&$D$12&\") when LocalYear(\"&$D$12&\")=\"&$D$5&\" and localMonth(\"&$D$12&\") =\"&$E$5&\" and LocalDay(\"&$D$12&\")=\"&$F$5&\" and Barix(\"&$D$12&\",reference:=StartOfSession)=\"&A35&\"\", \"Bar\", \"\", \"Close\",\"5\",\"0\",\"PrimaryOnly\",,,\"False\",\"T\",\"EveryTick\")","v":1.1877500000000001},1.2630515325033219E-4,{"$f":"RTD(\"cqg.rtd\",,\"StudyData\", \"Close(\"&$D$12&\") when LocalYear(\"&$D$12&\")=\"&$D$6&\" and localMonth(\"&$D$12&\") =\"&$E$6&\" and LocalDay(\"&$D$12&\")=\"&$F$6&\" and Barix(\"&$D$12&\",reference:=StartOfSession)=\"&A35&\"\", \"Bar\", \"\", \"Close\",\"5\",\"0\",\"PrimaryOnly\",,,\"False\",\"T\",\"EveryTick\")","v":1.1889000000000001},2.4451939291737983E-3,{"$f":"RTD(\"cqg.rtd\",,\"StudyData\", \"Close(\"&$D$12&\") when LocalYear(\"&$D$12&\")=\"&$D$7&\" and localMonth(\"&$D$12&\") =\"&$E$7&\" and LocalDay(\"&$D$12&\")=\"&$F$7&\" and Barix(\"&$D$12&\",reference:=StartOfSession)=\"&A35&\"\", \"Bar\", \"\", \"Close\",\"5\",\"0\",\"PrimaryOnly\",,,\"False\",\"T\",\"EveryTick\")","v":1.1862999999999999},-2.9416708690536719E-3,{"$f":"RTD(\"cqg.rtd\",,\"StudyData\", \"Close(\"&$D$12&\") when LocalYear(\"&$D$12&\")=\"&$D$8&\" and localMonth(\"&$D$12&\") =\"&$E$8&\" and LocalDay(\"&$D$12&\")=\"&$F$8&\" and Barix(\"&$D$12&\",reference:=StartOfSession)=\"&A35&\"\", \"Bar\", \"\", \"Close\",\"5\",\"0\",\"PrimaryOnly\",,,\"False\",\"T\",\"EveryTick\")","v":1.1910499999999999},4.2156738754689036E-3,{"$f":"RTD(\"cqg.rtd\",,\"StudyData\", \"Close(\"&$D$12&\") when LocalYear(\"&$D$12&\")=\"&$D$9&\" and localMonth(\"&$D$12&\") =\"&$E$9&\" and LocalDay(\"&$D$12&\")=\"&$F$9&\" and Barix(\"&$D$12&\",reference:=StartOfSession)=\"&A35&\"\", \"Bar\", \"\", \"Close\",\"5\",\"0\",\"PrimaryOnly\",,,\"False\",\"T\",\"EveryTick\")","v":1.1870000000000001},5.4209723869218709E-3,{"$f":"RTD(\"cqg.rtd\",,\"StudyData\", \"Close(\"&$D$12&\") when LocalYear(\"&$D$12&\")=\"&$D$10&\" and localMonth(\"&$D$12&\") =\"&$E$10&\" and LocalDay(\"&$D$12&\")=\"&$F$10&\" and Barix(\"&$D$12&\",reference:=StartOfSession)=\"&A35&\"\", \"Bar\", \"\", \"Close\",\"5\",\"0\",\"PrimaryOnly\",,,\"False\",\"T\",\"EveryTick\")","v":1.17625},-2.4593987194164463E-3,null,null,null,""]
[215,"10:55:00","2018-06-04",2018,6,4,{"$f":"IF(RTD(\"cqg.rtd\",,\"StudyData\", \"Close(EP) when LocalYear(\"&$D$12&\")=\"&D36&\" and localMonth(\"&$D$12&\") =\"&E36&\" and LocalDay(\"&$D$12&\")=\"&F36&\" and Barix(\"&$D$12&\",reference:=StartOfSession)=80\", \"Bar\", \"\", \"Close\",\"5\",\"0\",\"PrimaryOnly\",,,\"False\",\"T\",\"EveryTick\")=\"\",2,1)","v":1},{"$f":"RTD(\"cqg.rtd\",,\"StudyData\", \"Close(\"&$D$12&\") when LocalYear(\"&$D$12&\")=\"&$D$1&\" and localMonth(\"&$D$12&\") =\"&$E$1&\" and LocalDay(\"&$D$12&\")=\"&$F$1&\" and Barix(\"&$D$12&\",reference:=StartOfSession)=\"&A36&\"\", \"Bar\", \"\", \"Close\",\"5\",\"0\",\"PrimaryOnly\",,,\"False\",\"T\",\"EveryTick\")","v":""},{"$error":"#N/A"},{"$f":"RTD(\"cqg.rtd\",,\"StudyData\", \"Close(\"&$D$12&\") when LocalYear(\"&$D$12&\")=\"&$D$2&\" and localMonth(\"&$D$12&\") =\"&$E$2&\" and LocalDay(\"&$D$12&\")=\"&$F$2&\" and Barix(\"&$D$12&\",reference:=StartOfSession)=\"&A36&\"\", \"Bar\", \"\", \"Close\",\"5\",\"0\",\"PrimaryOnly\",,,\"False\",\"T\",\"EveryTick\")","v":1.1696},2.0132790747484038E-3,{"$f":"RTD(\"cqg.rtd\",,\"StudyData\", \"Close(\"&$D$12&\") when LocalYear(\"&$D$12&\")=\"&$D$3&\" and localMonth(\"&$D$12&\") =\"&$E$3&\" and LocalDay(\"&$D$12&\")=\"&$F$3&\" and Barix(\"&$D$12&\",reference:=StartOfSession)=\"&A36&\"\", \"Bar\", \"\", \"Close\",\"5\",\"0\",\"PrimaryOnly\",,,\"False\",\"T\",\"EveryTick\")","v":1.1712499999999999},-1.2311843825104496E-2,{"$f":"RTD(\"cqg.rtd\",,\"StudyData\", \"Close(\"&$D$12&\") when LocalYear(\"&$D$12&\")=\"&$D$4&\" and localMonth(\"&$D$12&\") =\"&$E$4&\" and LocalDay(\"&$D$12&\")=\"&$F$4&\" and Barix(\"&$D$12&\",reference:=StartOfSession)=\"&A36&\"\", \"Bar\", \"\", \"Close\",\"5\",\"0\",\"PrimaryOnly\",,,\"False\",\"T\",\"EveryTick\")","v":1.18685},2.745860087867502E-3,{"$f":"RTD(\"cqg.rtd\",,\"StudyData\", \"Close(\"&$D$12&\") when LocalYear(\"&$D$12&\")=\"&$D$5&\" and localMonth(\"&$D$12&\") =\"&$E$5&\" and LocalDay(\"&$D$12&\")=\"&$F$5&\" and Barix(\"&$D$12&\",reference:=StartOfSession)=\"&A36&\"\", \"Bar\", \"\", \"Close\",\"5\",\"0\",\"PrimaryOnly\",,,\"False\",\"T\",\"EveryTick\")","v":1.1878},1.6840687100031827E-4,{"$f":"RTD(\"cqg.rtd\",,\"StudyData\", \"Close(\"&$D$12&\") when LocalYear(\"&$D$12&\")=\"&$D$6&\" and localMonth(\"&$D$12&\") =\"&$E$6&\" and LocalDay(\"&$D$12&\")=\"&$F$6&\" and Barix(\"&$D$12&\",reference:=StartOfSession)=\"&A36&\"\", \"Bar\", \"\", \"Close\",\"5\",\"0\",\"PrimaryOnly\",,,\"False\",\"T\",\"EveryTick\")","v":1.1890499999999999},2.5716694772343991E-3,{"$f":"RTD(\"cqg.rtd\",,\"StudyData\", \"Close(\"&$D$12&\") when LocalYear(\"&$D$12&\")=\"&$D$7&\" and localMonth(\"&$D$12&\") =\"&$E$7&\" and LocalDay(\"&$D$12&\")=\"&$F$7&\" and Barix(\"&$D$12&\",reference:=StartOfSession)=\"&A36&\"\", \"Bar\", \"\", \"Close\",\"5\",\"0\",\"PrimaryOnly\",,,\"False\",\"T\",\"EveryTick\")","v":1.18635},-2.8996469994956742E-3,{"$f":"RTD(\"cqg.rtd\",,\"StudyData\", \"Close(\"&$D$12&\") when LocalYear(\"&$D$12&\")=\"&$D$8&\" and localMonth(\"&$D$12&\") =\"&$E$8&\" and LocalDay(\"&$D$12&\")=\"&$F$8&\" and Barix(\"&$D$12&\",reference:=StartOfSession)=\"&A36&\"\", \"Bar\", \"\", \"Close\",\"5\",\"0\",\"PrimaryOnly\",,,\"False\",\"T\",\"EveryTick\")","v":1.1904999999999999},3.7519497491672717E-3,{"$f":"RTD(\"cqg.rtd\",,\"StudyData\", \"Close(\"&$D$12&\") when LocalYear(\"&$D$12&\")=\"&$D$9&\" and localMonth(\"&$D$12&\") =\"&$E$9&\" and LocalDay(\"&$D$12&\")=\"&$F$9&\" and Barix(\"&$D$12&\",reference:=StartOfSession)=\"&A36&\"\", \"Bar\", \"\", \"Close\",\"5\",\"0\",\"PrimaryOnly\",,,\"False\",\"T\",\"EveryTick\")","v":1.18685},5.2939183466033084E-3,{"$f":"RTD(\"cqg.rtd\",,\"StudyData\", \"Close(\"&$D$12&\") when LocalYear(\"&$D$12&\")=\"&$D$10&\" and localMonth(\"&$D$12&\") =\"&$E$10&\" and LocalDay(\"&$D$12&\")=\"&$F$10&\" and Barix(\"&$D$12&\",reference:=StartOfSession)=\"&A36&\"\", \"Bar\", \"\", \"Close\",\"5\",\"0\",\"PrimaryOnly\",,,\"False\",\"T\",\"EveryTick\")","v":1.17635},-2.3745918670227822E-3,null,null,null,""]
[216,"11:00:00",null,null,null,null,null,{"$f":"RTD(\"cqg.rtd\",,\"StudyData\", \"Close(\"&$D$12&\") when LocalYear(\"&$D$12&\")=\"&$D$1&\" and localMonth(\"&$D$12&\") =\"&$E$1&\" and LocalDay(\"&$D$12&\")=\"&$F$1&\" and Barix(\"&$D$12&\",reference:=StartOfSession)=\"&A37&\"\", \"Bar\", \"\", \"Close\",\"5\",\"0\",\"PrimaryOnly\",,,\"False\",\"T\",\"EveryTick\")","v":""},{"$error":"#N/A"},{"$f":"RTD(\"cqg.rtd\",,\"StudyData\", \"Close(\"&$D$12&\") when LocalYear(\"&$D$12&\")=\"&$D$2&\" and localMonth(\"&$D$12&\") =\"&$E$2&\" and LocalDay(\"&$D$12&\")=\"&$F$2&\" and Barix(\"&$D$12&\",reference:=StartOfSession)=\"&A37&\"\", \"Bar\", \"\", \"Close\",\"5\",\"0\",\"PrimaryOnly\",,,\"False\",\"T\",\"EveryTick\")","v":1.1695},1.9276076247591223E-3,{"$f":"RTD(\"cqg.rtd\",,\"StudyData\", \"Close(\"&$D$12&\") when LocalYear(\"&$D$12&\")=\"&$D$3&\" and localMonth(\"&$D$12&\") =\"&$E$3&\" and LocalDay(\"&$D$12&\")=\"&$F$3&\" and Barix(\"&$D$12&\",reference:=StartOfSession)=\"&A37&\"\", \"Bar\", \"\", \"Close\",\"5\",\"0\",\"PrimaryOnly\",,,\"False\",\"T\",\"EveryTick\")","v":1.1717500000000001},-1.1890205337943247E-2,{"$f":"RTD(\"cqg.rtd\",,\"StudyData\", \"Close(\"&$D$12&\") when LocalYear(\"&$D$12&\")=\"&$D$4&\" and localMonth(\"&$D$12&\") =\"&$E$4&\" and LocalDay(\"&$D$12&\")=\"&$F$4&\" and Barix(\"&$D$12&\",reference:=StartOfSession)=\"&A37&\"\", \"Bar\", \"\", \"Close\",\"5\",\"0\",\"PrimaryOnly\",,,\"False\",\"T\",\"EveryTick\")","v":1.1870499999999999},2.9148360932747153E-3,{"$f":"RTD(\"cqg.rtd\",,\"StudyData\", \"Close(\"&$D$12&\") when LocalYear(\"&$D$12&\")=\"&$D$5&\" and localMonth(\"&$D$12&\") =\"&$E$5&\" and LocalDay(\"&$D$12&\")=\"&$F$5&\" and Barix(\"&$D$12&\",reference:=StartOfSession)=\"&A37&\"\", \"Bar\", \"\", \"Close\",\"5\",\"0\",\"PrimaryOnly\",,,\"False\",\"T\",\"EveryTick\")","v":1.1876},0,{"$f":"RTD(\"cqg.rtd\",,\"StudyData\", \"Close(\"&$D$12&\") when LocalYear(\"&$D$12&\")=\"&$D$6&\" and localMonth(\"&$D$12&\") =\"&$E$6&\" and LocalDay(\"&$D$12&\")=\"&$F$6&\" and Barix(\"&$D$12&\",reference:=StartOfSession)=\"&A37&\"\", \"Bar\", \"\", \"Close\",\"5\",\"0\",\"PrimaryOnly\",,,\"False\",\"T\",\"EveryTick\")","v":1.18875},2.3187183811130105E-3,{"$f":"RTD(\"cqg.rtd\",,\"StudyData\", \"Close(\"&$D$12&\") when LocalYear(\"&$D$12&\")=\"&$D$7&\" and localMonth(\"&$D$12&\") =\"&$E$7&\" and LocalDay(\"&$D$12&\")=\"&$F$7&\" and Barix(\"&$D$12&\",reference:=StartOfSession)=\"&A37&\"\", \"Bar\", \"\", \"Close\",\"5\",\"0\",\"PrimaryOnly\",,,\"False\",\"T\",\"EveryTick\")","v":1.1861999999999999},-3.0257186081694802E-3,{"$f":"RTD(\"cqg.rtd\",,\"StudyData\", \"Close(\"&$D$12&\") when LocalYear(\"&$D$12&\")=\"&$D$8&\" and localMonth(\"&$D$12&\") =\"&$E$8&\" and LocalDay(\"&$D$12&\")=\"&$F$8&\" and Barix(\"&$D$12&\",reference:=StartOfSession)=\"&A37&\"\", \"Bar\", \"\", \"Close\",\"5\",\"0\",\"PrimaryOnly\",,,\"False\",\"T\",\"EveryTick\")","v":1.19025},3.5411660553939391E-3,{"$f":"RTD(\"cqg.rtd\",,\"StudyData\", \"Close(\"&$D$12&\") when LocalYear(\"&$D$12&\")=\"&$D$9&\" and localMonth(\"&$D$12&\") =\"&$E$9&\" and LocalDay(\"&$D$12&\")=\"&$F$9&\" and Barix(\"&$D$12&\",reference:=StartOfSession)=\"&A37&\"\", \"Bar\", \"\", \"Close\",\"5\",\"0\",\"PrimaryOnly\",,,\"False\",\"T\",\"EveryTick\")","v":1.1867000000000001},5.1668643062849342E-3,{"$f":"RTD(\"cqg.rtd\",,\"StudyData\", \"Close(\"&$D$12&\") when LocalYear(\"&$D$12&\")=\"&$D$10&\" and localMonth(\"&$D$12&\") =\"&$E$10&\" and LocalDay(\"&$D$12&\")=\"&$F$10&\" and Barix(\"&$D$12&\",reference:=StartOfSession)=\"&A37&\"\", \"Bar\", \"\", \"Close\",\"5\",\"0\",\"PrimaryOnly\",,,\"False\",\"T\",\"EveryTick\")","v":1.17825},-7.6326167154297671E-4,null,null,null,""]
[217,"11:05:00",-40,{"$f":" RTD(\"cqg.rtd\",,\"StudyData\", $D$12,  \"Tick\", \"FlatTicks=0\", \"Tick\",\"D\",C38,\"PrimaryOnly\")","v":1.1678500000000001},null,"EU6",null,{"$f":"RTD(\"cqg.rtd\",,\"StudyData\", \"Close(\"&$D$12&\") when LocalYear(\"&$D$12&\")=\"&$D$1&\" and localMonth(\"&$D$12&\") =\"&$E$1&\" and LocalDay(\"&$D$12&\")=\"&$F$1&\" and Barix(\"&$D$12&\",reference:=StartOfSession)=\"&A38&\"\", \"Bar\", \"\", \"Close\",\"5\",\"0\",\"PrimaryOnly\",,,\"False\",\"T\",\"EveryTick\")","v":""},{"$error":"#N/A"},{"$f":"RTD(\"cqg.rtd\",,\"StudyData\", \"Close(\"&$D$12&\") when LocalYear(\"&$D$12&\")=\"&$D$2&\" and localMonth(\"&$D$12&\") =\"&$E$2&\" and LocalDay(\"&$D$12&\")=\"&$F$2&\" and Barix(\"&$D$12&\",reference:=StartOfSession)=\"&A38&\"\", \"Bar\", \"\", \"Close\",\"5\",\"0\",\"PrimaryOnly\",,,\"False\",\"T\",\"EveryTick\")","v":1.1692499999999999},1.7134289997858231E-3,{"$f":"RTD(\"cqg.rtd\",,\"StudyData\", \"Close(\"&$D$12&\") when LocalYear(\"&$D$12&\")=\"&$D$3&\" and localMonth(\"&$D$12&\") =\"&$E$3&\" and LocalDay(\"&$D$12&\")=\"&$F$3&\" and Barix(\"&$D$12&\",reference:=StartOfSession)=\"&A38&\"\", \"Bar\", \"\", \"Close\",\"5\",\"0\",\"PrimaryOnly\",,,\"False\",\"T\",\"EveryTick\")","v":1.171},-1.2522663068684934E-2,{"$f":"RTD(\"cqg.rtd\",,\"StudyData\", \"Close(\"&$D$12&\") when LocalYear(\"&$D$12&\")=\"&$D$4&\" and localMonth(\"&$D$12&\") =\"&$E$4&\" and LocalDay(\"&$D$12&\")=\"&$F$4&\" and Barix(\"&$D$12&\",reference:=StartOfSession)=\"&A38&\"\", \"Bar\", \"\", \"Close\",\"5\",\"0\",\"PrimaryOnly\",,,\"False\",\"T\",\"EveryTick\")","v":1.1873},3.1260561000338262E-3,{"$f":"RTD(\"cqg.rtd\",,\"StudyData\", \"Close(\"&$D$12&\") when LocalYear(\"&$D$12&\")=\"&$D$5&\" and localMonth(\"&$D$12&\") =\"&$E$5&\" and LocalDay(\"&$D$12&\")=\"&$F$5&\" and Barix(\"&$D$12&\",reference:=StartOfSession)=\"&A38&\"\", \"Bar\", \"\", \"Close\",\"5\",\"0\",\"PrimaryOnly\",,,\"False\",\"T\",\"EveryTick\")","v":1.1875500000000001},-4.2101717749986082E-5,{"$f":"RTD(\"cqg.rtd\",,\"StudyData\", \"Close(\"&$D$12&\") when LocalYear(\"&$D$12&\")=\"&$D$6&\" and localMonth(\"&$D$12&\") =\"&$E$6&\" and LocalDay(\"&$D$12&\")=\"&$F$6&\" and Barix(\"&$D$12&\",reference:=StartOfSession)=\"&A38&\"\", \"Bar\", \"\", \"Close\",\"5\",\"0\",\"PrimaryOnly\",,,\"False\",\"T\",\"EveryTick\")","v":1.18825},1.8971332209106958E-3,{"$f":"RTD(\"cqg.rtd\",,\"StudyData\", \"Close(\"&$D$12&\") when LocalYear(\"&$D$12&\")=\"&$D$7&\" and localMonth(\"&$D$12&\") =\"&$E$7&\" and LocalDay(\"&$D$12&\")=\"&$F$7&\" and Barix(\"&$D$12&\",reference:=StartOfSession)=\"&A38&\"\", \"Bar\", \"\", \"Close\",\"5\",\"0\",\"PrimaryOnly\",,,\"False\",\"T\",\"EveryTick\")","v":1.18655},-2.7315515212640571E-3,{"$f":"RTD(\"cqg.rtd\",,\"StudyData\", \"Close(\"&$D$12&\") when LocalYear(\"&$D$12&\")=\"&$D$8&\" and localMonth(\"&$D$12&\") =\"&$E$8&\" and LocalDay(\"&$D$12&\")=\"&$F$8&\" and Barix(\"&$D$12&\",reference:=StartOfSession)=\"&A38&\"\", \"Bar\", \"\", \"Close\",\"5\",\"0\",\"PrimaryOnly\",,,\"False\",\"T\",\"EveryTick\")","v":1.19055},3.7941064879220506E-3,{"$f":"RTD(\"cqg.rtd\",,\"StudyData\", \"Close(\"&$D$12&\") when LocalYear(\"&$D$12&\")=\"&$D$9&\" and localMonth(\"&$D$12&\") =\"&$E$9&\" and LocalDay(\"&$D$12&\")=\"&$F$9&\" and Barix(\"&$D$12&\",reference:=StartOfSession)=\"&A38&\"\", \"Bar\", \"\", \"Close\",\"5\",\"0\",\"PrimaryOnly\",,,\"False\",\"T\",\"EveryTick\")","v":1.1865000000000001},4.9974589191936437E-3,{"$f":"RTD(\"cqg.rtd\",,\"StudyData\", \"Close(\"&$D$12&\") when LocalYear(\"&$D$12&\")=\"&$D$10&\" and localMonth(\"&$D$12&\") =\"&$E$10&\" and LocalDay(\"&$D$12&\")=\"&$F$10&\" and Barix(\"&$D$12&\",reference:=StartOfSession)=\"&A38&\"\", \"Bar\", \"\", \"Close\",\"5\",\"0\",\"PrimaryOnly\",,,\"False\",\"T\",\"EveryTick\")","v":1.1779999999999999},-9.7527880252723097E-4,null,null,null,""]
[218,"11:10:00",{"$f":"C38+1","v":-39},{"$f":" RTD(\"cqg.rtd\",,\"StudyData\", $D$12,  \"Tick\", \"FlatTicks=0\", \"Tick\",\"D\",C39,\"PrimaryOnly\")","v":1.1678999999999999},null,"BP6",null,{"$f":"RTD(\"cqg.rtd\",,\"StudyData\", \"Close(\"&$D$12&\") when LocalYear(\"&$D$12&\")=\"&$D$1&\" and localMonth(\"&$D$12&\") =\"&$E$1&\" and LocalDay(\"&$D$12&\")=\"&$F$1&\" and Barix(\"&$D$12&\",reference:=StartOfSession)=\"&A39&\"\", \"Bar\", \"\", \"Close\",\"5\",\"0\",\"PrimaryOnly\",,,\"False\",\"T\",\"EveryTick\")","v":""},{"$error":"#N/A"},{"$f":"RTD(\"cqg.rtd\",,\"StudyData\", \"Close(\"&$D$12&\") when LocalYear(\"&$D$12&\")=\"&$D$2&\" and localMonth(\"&$D$12&\") =\"&$E$2&\" and LocalDay(\"&$D$12&\")=\"&$F$2&\" and Barix(\"&$D$12&\",reference:=StartOfSession)=\"&A39&\"\", \"Bar\", \"\", \"Close\",\"5\",\"0\",\"PrimaryOnly\",,,\"False\",\"T\",\"EveryTick\")","v":1.1682999999999999},8.9955022488755231E-4,{"$f":"RTD(\"cqg.rtd\",,\"StudyData\", \"Close(\"&$D$12&\") when LocalYear(\"&$D$12&\")=\"&$D$3&\" and localMonth(\"&$D$12&\") =\"&$E$3&\" and LocalDay(\"&$D$12&\")=\"&$F$3&\" and Barix(\"&$D$12&\",reference:=StartOfSession)=\"&A39&\"\", \"Bar\", \"\", \"Close\",\"5\",\"0\",\"PrimaryOnly\",,,\"False\",\"T\",\"EveryTick\")","v":1.171},-1.2522663068684934E-2,{"$f":"RTD(\"cqg.rtd\",,\"StudyData\", \"Close(\"&$D$12&\") when LocalYear(\"&$D$12&\")=\"&$D$4&\" and localMonth(\"&$D$12&\") =\"&$E$4&\" and LocalDay(\"&$D$12&\")=\"&$F$4&\" and Barix(\"&$D$12&\",reference:=StartOfSession)=\"&A39&\"\", \"Bar\", \"\", \"Close\",\"5\",\"0\",\"PrimaryOnly\",,,\"False\",\"T\",\"EveryTick\")","v":1.1873499999999999},3.1683001013855356E-3,{"$f":"RTD(\"cqg.rtd\",,\"StudyData\", \"Close(\"&$D$12&\") when LocalYear(\"&$D$12&\")=\"&$D$5&\" and localMonth(\"&$D$12&\") =\"&$E$5&\" and LocalDay(\"&$D$12&\")=\"&$F$5&\" and Barix(\"&$D$12&\",reference:=StartOfSession)=\"&A39&\"\", \"Bar\", \"\", \"Close\",\"5\",\"0\",\"PrimaryOnly\",,,\"False\",\"T\",\"EveryTick\")","v":1.1876},0,{"$f":"RTD(\"cqg.rtd\",,\"StudyData\", \"Close(\"&$D$12&\") when LocalYear(\"&$D$12&\")=\"&$D$6&\" and localMonth(\"&$D$12&\") =\"&$E$6&\" and LocalDay(\"&$D$12&\")=\"&$F$6&\" and Barix(\"&$D$12&\",reference:=StartOfSession)=\"&A39&\"\", \"Bar\", \"\", \"Close\",\"5\",\"0\",\"PrimaryOnly\",,,\"False\",\"T\",\"EveryTick\")","v":1.1880999999999999},1.7706576728499081E-3,{"$f":"RTD(\"cqg.rtd\",,\"StudyData\", \"Close(\"&$D$12&\") when LocalYear(\"&$D$12&\")=\"&$D$7&\" and localMonth(\"&$D$12&\") =\"&$E$7&\" and LocalDay(\"&$D$12&\")=\"&$F$7&\" and Barix(\"&$D$12&\",reference:=StartOfSession)=\"&A39&\"\", \"Bar\", \"\", \"Close\",\"5\",\"0\",\"PrimaryOnly\",,,\"False\",\"T\",\"EveryTick\")","v":1.1861999999999999},-3.0257186081694802E-3,{"$f":"RTD(\"cqg.rtd\",,\"StudyData\", \"Close(\"&$D$12&\") when LocalYear(\"&$D$12&\")=\"&$D$8&\" and localMonth(\"&$D$12&\") =\"&$E$8&\" and LocalDay(\"&$D$12&\")=\"&$F$8&\" and Barix(\"&$D$12&\",reference:=StartOfSession)=\"&A39&\"\", \"Bar\", \"\", \"Close\",\"5\",\"0\",\"PrimaryOnly\",,,\"False\",\"T\",\"EveryTick\")","v":1.1904999999999999},3.7519497491672717E-3,{"$f":"RTD(\"cqg.rtd\",,\"StudyData\", \"Close(\"&$D$12&\") when LocalYear(\"&$D$12&\")=\"&$D$9&\" and localMonth(\"&$D$12&\") =\"&$E$9&\" and LocalDay(\"&$D$12&\")=\"&$F$9&\" and Barix(\"&$D$12&\",reference:=StartOfSession)=\"&A39&\"\", \"Bar\", \"\", \"Close\",\"5\",\"0\",\"PrimaryOnly\",,,\"False\",\"T\",\"EveryTick\")","v":1.18685},5.2939183466033084E-3,{"$f":"RTD(\"cqg.rtd\",,\"StudyData\", \"Close(\"&$D$12&\") when LocalYear(\"&$D$12&\")=\"&$D$10&\" and localMonth(\"&$D$12&\") =\"&$E$10&\" and LocalDay(\"&$D$12&\")=\"&$F$10&\" and Barix(\"&$D$12&\",reference:=StartOfSession)=\"&A39&\"\", \"Bar\", \"\", \"Close\",\"5\",\"0\",\"PrimaryOnly\",,,\"False\",\"T\",\"EveryTick\")","v":1.1798500000000001},5.9364796675583683E-4,null,null,null,""]
[219,"11:15:00",{"$f":"C39+1","v":-38},{"$f":" RTD(\"cqg.rtd\",,\"StudyData\", $D$12,  \"Tick\", \"FlatTicks=0\", \"Tick\",\"D\",C40,\"PrimaryOnly\")","v":1.1678500000000001},null,"CA6",null,{"$f":"RTD(\"cqg.rtd\",,\"StudyData\", \"Close(\"&$D$12&\") when LocalYear(\"&$D$12&\")=\"&$D$1&\" and localMonth(\"&$D$12&\") =\"&$E$1&\" and LocalDay(\"&$D$12&\")=\"&$F$1&\" and Barix(\"&$D$12&\",reference:=StartOfSession)=\"&A40&\"\", \"Bar\", \"\", \"Close\",\"5\",\"0\",\"PrimaryOnly\",,,\"False\",\"T\",\"EveryTick\")","v":""},{"$error":"#N/A"},{"$f":"RTD(\"cqg.rtd\",,\"StudyData\", \"Close(\"&$D$12&\") when LocalYear(\"&$D$12&\")=\"&$D$2&\" and localMonth(\"&$D$12&\") =\"&$E$2&\" and LocalDay(\"&$D$12&\")=\"&$F$2&\" and Barix(\"&$D$12&\",reference:=StartOfSession)=\"&A40&\"\", \"Bar\", \"\", \"Close\",\"5\",\"0\",\"PrimaryOnly\",,,\"False\",\"T\",\"EveryTick\")","v":1.1689499999999999},1.4564146498179781E-3,{"$f":"RTD(\"cqg.rtd\",,\"StudyData\", \"Close(\"&$D$12&\") when LocalYear(\"&$D$12&\")=\"&$D$3&\" and localMonth(\"&$D$12&\") =\"&$E$3&\" and LocalDay(\"&$D$12&\")=\"&$F$3&\" and Barix(\"&$D$12&\",reference:=StartOfSession)=\"&A40&\"\", \"Bar\", \"\", \"Close\",\"5\",\"0\",\"PrimaryOnly\",,,\"False\",\"T\",\"EveryTick\")","v":1.17045},-1.2986465404562195E-2,{"$f":"RTD(\"cqg.rtd\",,\"StudyData\", \"Close(\"&$D$12&\") when LocalYear(\"&$D$12&\")=\"&$D$4&\" and localMonth(\"&$D$12&\") =\"&$E$4&\" and LocalDay(\"&$D$12&\")=\"&$F$4&\" and Barix(\"&$D$12&\",reference:=StartOfSession)=\"&A40&\"\", \"Bar\", \"\", \"Close\",\"5\",\"0\",\"PrimaryOnly\",,,\"False\",\"T\",\"EveryTick\")","v":1.1869000000000001},2.7881040892193988E-3,{"$f":"RTD(\"cqg.rtd\",,\"StudyData\", \"Close(\"&$D$12&\") when LocalYear(\"&$D$12&\")=\"&$D$5&\" and localMonth(\"&$D$12&\") =\"&$E$5&\" and LocalDay(\"&$D$12&\")=\"&$F$5&\" and Barix(\"&$D$12&\",reference:=StartOfSession)=\"&A40&\"\", \"Bar\", \"\", \"Close\",\"5\",\"0\",\"PrimaryOnly\",,,\"False\",\"T\",\"EveryTick\")","v":1.1871499999999999},-3.7891545975080959E-4,{"$f":"RTD(\"cqg.rtd\",,\"StudyData\", \"Close(\"&$D$12&\") when LocalYear(\"&$D$12&\")=\"&$D$6&\" and localMonth(\"&$D$12&\") =\"&$E$6&\" and LocalDay(\"&$D$12&\")=\"&$F$6&\" and Barix(\"&$D$12&\",reference:=StartOfSession)=\"&A40&\"\", \"Bar\", \"\", \"Close\",\"5\",\"0\",\"PrimaryOnly\",,,\"False\",\"T\",\"EveryTick\")","v":1.1880500000000001},1.7284991568297702E-3,{"$f":"RTD(\"cqg.rtd\",,\"StudyData\", \"Close(\"&$D$12&\") when LocalYear(\"&$D$12&\")=\"&$D$7&\" and localMonth(\"&$D$12&\") =\"&$E$7&\" and LocalDay(\"&$D$12&\")=\"&$F$7&\" and Barix(\"&$D$12&\",reference:=StartOfSession)=\"&A40&\"\", \"Bar\", \"\", \"Close\",\"5\",\"0\",\"PrimaryOnly\",,,\"False\",\"T\",\"EveryTick\")","v":1.18655},-2.7315515212640571E-3,{"$f":"RTD(\"cqg.rtd\",,\"StudyData\", \"Close(\"&$D$12&\") when LocalYear(\"&$D$12&\")=\"&$D$8&\" and localMonth(\"&$D$12&\") =\"&$E$8&\" and LocalDay(\"&$D$12&\")=\"&$F$8&\" and Barix(\"&$D$12&\",reference:=StartOfSession)=\"&A40&\"\", \"Bar\", \"\", \"Close\",\"5\",\"0\",\"PrimaryOnly\",,,\"False\",\"T\",\"EveryTick\")","v":1.19075},3.9627334429407921E-3,{"$f":"RTD(\"cqg.rtd\",,\"StudyData\", \"Close(\"&$D$12&\") when LocalYear(\"&$D$12&\")=\"&$D$9&\" and localMonth(\"&$D$12&\") =\"&$E$9&\" and LocalDay(\"&$D$12&\")=\"&$F$9&\" and Barix(\"&$D$12&\",reference:=StartOfSession)=\"&A40&\"\", \"Bar\", \"\", \"Close\",\"5\",\"0\",\"PrimaryOnly\",,,\"False\",\"T\",\"EveryTick\")","v":1.18685},5.2939183466033084E-3,{"$f":"RTD(\"cqg.rtd\",,\"StudyData\", \"Close(\"&$D$12&\") when LocalYear(\"&$D$12&\")=\"&$D$10&\" and localMonth(\"&$D$12&\") =\"&$E$10&\" and LocalDay(\"&$D$12&\")=\"&$F$10&\" and Barix(\"&$D$12&\",reference:=StartOfSession)=\"&A40&\"\", \"Bar\", \"\", \"Close\",\"5\",\"0\",\"PrimaryOnly\",,,\"False\",\"T\",\"EveryTick\")","v":1.1800999999999999},8.0566509773990287E-4,null,null,null,""]
[220,"11:20:00",-37,{"$f":" RTD(\"cqg.rtd\",,\"StudyData\", $D$12,  \"Tick\", \"FlatTicks=0\", \"Tick\",\"D\",C41,\"PrimaryOnly\")","v":1.1678999999999999},null,"DA6",null,{"$f":"RTD(\"cqg.rtd\",,\"StudyData\", \"Close(\"&$D$12&\") when LocalYear(\"&$D$12&\")=\"&$D$1&\" and localMonth(\"&$D$12&\") =\"&$E$1&\" and LocalDay(\"&$D$12&\")=\"&$F$1&\" and Barix(\"&$D$12&\",reference:=StartOfSession)=\"&A41&\"\", \"Bar\", \"\", \"Close\",\"5\",\"0\",\"PrimaryOnly\",,,\"False\",\"T\",\"EveryTick\")","v":""},{"$error":"#N/A"},{"$f":"RTD(\"cqg.rtd\",,\"StudyData\", \"Close(\"&$D$12&\") when LocalYear(\"&$D$12&\")=\"&$D$2&\" and localMonth(\"&$D$12&\") =\"&$E$2&\" and LocalDay(\"&$D$12&\")=\"&$F$2&\" and Barix(\"&$D$12&\",reference:=StartOfSession)=\"&A41&\"\", \"Bar\", \"\", \"Close\",\"5\",\"0\",\"PrimaryOnly\",,,\"False\",\"T\",\"EveryTick\")","v":1.16865},1.1994002998501332E-3,{"$f":"RTD(\"cqg.rtd\",,\"StudyData\", \"Close(\"&$D$12&\") when LocalYear(\"&$D$12&\")=\"&$D$3&\" and localMonth(\"&$D$12&\") =\"&$E$3&\" and LocalDay(\"&$D$12&\")=\"&$F$3&\" and Barix(\"&$D$12&\",reference:=StartOfSession)=\"&A41&\"\", \"Bar\", \"\", \"Close\",\"5\",\"0\",\"PrimaryOnly\",,,\"False\",\"T\",\"EveryTick\")","v":1.1706000000000001},-1.2859973858413783E-2,{"$f":"RTD(\"cqg.rtd\",,\"StudyData\", \"Close(\"&$D$12&\") when LocalYear(\"&$D$12&\")=\"&$D$4&\" and localMonth(\"&$D$12&\") =\"&$E$4&\" and LocalDay(\"&$D$12&\")=\"&$F$4&\" and Barix(\"&$D$12&\",reference:=StartOfSession)=\"&A41&\"\", \"Bar\", \"\", \"Close\",\"5\",\"0\",\"PrimaryOnly\",,,\"False\",\"T\",\"EveryTick\")","v":1.1870000000000001},2.8725920919230059E-3,{"$f":"RTD(\"cqg.rtd\",,\"StudyData\", \"Close(\"&$D$12&\") when LocalYear(\"&$D$12&\")=\"&$D$5&\" and localMonth(\"&$D$12&\") =\"&$E$5&\" and LocalDay(\"&$D$12&\")=\"&$F$5&\" and Barix(\"&$D$12&\",reference:=StartOfSession)=\"&A41&\"\", \"Bar\", \"\", \"Close\",\"5\",\"0\",\"PrimaryOnly\",,,\"False\",\"T\",\"EveryTick\")","v":1.1870000000000001},-5.0522061300095481E-4,{"$f":"RTD(\"cqg.rtd\",,\"StudyData\", \"Close(\"&$D$12&\") when LocalYear(\"&$D$12&\")=\"&$D$6&\" and localMonth(\"&$D$12&\") =\"&$E$6&\" and LocalDay(\"&$D$12&\")=\"&$F$6&\" and Barix(\"&$D$12&\",reference:=StartOfSession)=\"&A41&\"\", \"Bar\", \"\", \"Close\",\"5\",\"0\",\"PrimaryOnly\",,,\"False\",\"T\",\"EveryTick\")","v":1.1879999999999999},1.6863406408094452E-3,{"$f":"RTD(\"cqg.rtd\",,\"StudyData\", \"Close(\"&$D$12&\") when LocalYear(\"&$D$12&\")=\"&$D$7&\" and localMonth(\"&$D$12&\") =\"&$E$7&\" and LocalDay(\"&$D$12&\")=\"&$F$7&\" and Barix(\"&$D$12&\",reference:=StartOfSession)=\"&A41&\"\", \"Bar\", \"\", \"Close\",\"5\",\"0\",\"PrimaryOnly\",,,\"False\",\"T\",\"EveryTick\")","v":1.1865000000000001},-2.7735753908218683E-3,{"$f":"RTD(\"cqg.rtd\",,\"StudyData\", \"Close(\"&$D$12&\") when LocalYear(\"&$D$12&\")=\"&$D$8&\" and localMonth(\"&$D$12&\") =\"&$E$8&\" and LocalDay(\"&$D$12&\")=\"&$F$8&\" and Barix(\"&$D$12&\",reference:=StartOfSession)=\"&A41&\"\", \"Bar\", \"\", \"Close\",\"5\",\"0\",\"PrimaryOnly\",,,\"False\",\"T\",\"EveryTick\")","v":1.1902999999999999},3.5833227941485307E-3,{"$f":"RTD(\"cqg.rtd\",,\"StudyData\", \"Close(\"&$D$12&\") when LocalYear(\"&$D$12&\")=\"&$D$9&\" and localMonth(\"&$D$12&\") =\"&$E$9&\" and LocalDay(\"&$D$12&\")=\"&$F$9&\" and Barix(\"&$D$12&\",reference:=StartOfSession)=\"&A41&\"\", \"Bar\", \"\", \"Close\",\"5\",\"0\",\"PrimaryOnly\",,,\"False\",\"T\",\"EveryTick\")","v":1.1865000000000001},4.9974589191936437E-3,{"$f":"RTD(\"cqg.rtd\",,\"StudyData\", \"Close(\"&$D$12&\") when LocalYear(\"&$D$12&\")=\"&$D$10&\" and localMonth(\"&$D$12&\") =\"&$E$10&\" and LocalDay(\"&$D$12&\")=\"&$F$10&\" and Barix(\"&$D$12&\",reference:=StartOfSession)=\"&A41&\"\", \"Bar\", \"\", \"Close\",\"5\",\"0\",\"PrimaryOnly\",,,\"False\",\"T\",\"EveryTick\")","v":1.1809499999999999},1.5265233430861416E-3,null,null,null,""]
[221,"11:25:00",-36,{"$f":" RTD(\"cqg.rtd\",,\"StudyData\", $D$12,  \"Tick\", \"FlatTicks=0\", \"Tick\",\"D\",C42,\"PrimaryOnly\")","v":1.1678500000000001},null,"JY6",null,{"$f":"RTD(\"cqg.rtd\",,\"StudyData\", \"Close(\"&$D$12&\") when LocalYear(\"&$D$12&\")=\"&$D$1&\" and localMonth(\"&$D$12&\") =\"&$E$1&\" and LocalDay(\"&$D$12&\")=\"&$F$1&\" and Barix(\"&$D$12&\",reference:=StartOfSession)=\"&A42&\"\", \"Bar\", \"\", \"Close\",\"5\",\"0\",\"PrimaryOnly\",,,\"False\",\"T\",\"EveryTick\")","v":""},{"$error":"#N/A"},{"$f":"RTD(\"cqg.rtd\",,\"StudyData\", \"Close(\"&$D$12&\") when LocalYear(\"&$D$12&\")=\"&$D$2&\" and localMonth(\"&$D$12&\") =\"&$E$2&\" and LocalDay(\"&$D$12&\")=\"&$F$2&\" and Barix(\"&$D$12&\",reference:=StartOfSession)=\"&A42&\"\", \"Bar\", \"\", \"Close\",\"5\",\"0\",\"PrimaryOnly\",,,\"False\",\"T\",\"EveryTick\")","v":1.1685000000000001},1.0708931248663059E-3,{"$f":"RTD(\"cqg.rtd\",,\"StudyData\", \"Close(\"&$D$12&\") when LocalYear(\"&$D$12&\")=\"&$D$3&\" and localMonth(\"&$D$12&\") =\"&$E$3&\" and LocalDay(\"&$D$12&\")=\"&$F$3&\" and Barix(\"&$D$12&\",reference:=StartOfSession)=\"&A42&\"\", \"Bar\", \"\", \"Close\",\"5\",\"0\",\"PrimaryOnly\",,,\"False\",\"T\",\"EveryTick\")","v":1.17065},-1.2817810009697771E-2,{"$f":"RTD(\"cqg.rtd\",,\"StudyData\", \"Close(\"&$D$12&\") when LocalYear(\"&$D$12&\")=\"&$D$4&\" and localMonth(\"&$D$12&\") =\"&$E$4&\" and LocalDay(\"&$D$12&\")=\"&$F$4&\" and Barix(\"&$D$12&\",reference:=StartOfSession)=\"&A42&\"\", \"Bar\", \"\", \"Close\",\"5\",\"0\",\"PrimaryOnly\",,,\"False\",\"T\",\"EveryTick\")","v":1.1871},2.9570800946266125E-3,{"$f":"RTD(\"cqg.rtd\",,\"StudyData\", \"Close(\"&$D$12&\") when LocalYear(\"&$D$12&\")=\"&$D$5&\" and localMonth(\"&$D$12&\") =\"&$E$5&\" and LocalDay(\"&$D$12&\")=\"&$F$5&\" and Barix(\"&$D$12&\",reference:=StartOfSession)=\"&A42&\"\", \"Bar\", \"\", \"Close\",\"5\",\"0\",\"PrimaryOnly\",,,\"False\",\"T\",\"EveryTick\")","v":1.18665},-7.9993263725160527E-4,{"$f":"RTD(\"cqg.rtd\",,\"StudyData\", \"Close(\"&$D$12&\") when LocalYear(\"&$D$12&\")=\"&$D$6&\" and localMonth(\"&$D$12&\") =\"&$E$6&\" and LocalDay(\"&$D$12&\")=\"&$F$6&\" and Barix(\"&$D$12&\",reference:=StartOfSession)=\"&A42&\"\", \"Bar\", \"\", \"Close\",\"5\",\"0\",\"PrimaryOnly\",,,\"False\",\"T\",\"EveryTick\")","v":1.1878500000000001},1.5598650927488443E-3,{"$f":"RTD(\"cqg.rtd\",,\"StudyData\", \"Close(\"&$D$12&\") when LocalYear(\"&$D$12&\")=\"&$D$7&\" and localMonth(\"&$D$12&\") =\"&$E$7&\" and LocalDay(\"&$D$12&\")=\"&$F$7&\" and Barix(\"&$D$12&\",reference:=StartOfSession)=\"&A42&\"\", \"Bar\", \"\", \"Close\",\"5\",\"0\",\"PrimaryOnly\",,,\"False\",\"T\",\"EveryTick\")","v":1.1859500000000001},-3.2358379559589085E-3,{"$f":"RTD(\"cqg.rtd\",,\"StudyData\", \"Close(\"&$D$12&\") when LocalYear(\"&$D$12&\")=\"&$D$8&\" and localMonth(\"&$D$12&\") =\"&$E$8&\" and LocalDay(\"&$D$12&\")=\"&$F$8&\" and Barix(\"&$D$12&\",reference:=StartOfSession)=\"&A42&\"\", \"Bar\", \"\", \"Close\",\"5\",\"0\",\"PrimaryOnly\",,,\"False\",\"T\",\"EveryTick\")","v":1.1906000000000001},3.8362632266768296E-3,{"$f":"RTD(\"cqg.rtd\",,\"StudyData\", \"Close(\"&$D$12&\") when LocalYear(\"&$D$12&\")=\"&$D$9&\" and localMonth(\"&$D$12&\") =\"&$E$9&\" and LocalDay(\"&$D$12&\")=\"&$F$9&\" and Barix(\"&$D$12&\",reference:=StartOfSession)=\"&A42&\"\", \"Bar\", \"\", \"Close\",\"5\",\"0\",\"PrimaryOnly\",,,\"False\",\"T\",\"EveryTick\")","v":1.1873},5.6750804675588075E-3,{"$f":"RTD(\"cqg.rtd\",,\"StudyData\", \"Close(\"&$D$12&\") when LocalYear(\"&$D$12&\")=\"&$D$10&\" and localMonth(\"&$D$12&\") =\"&$E$10&\" and LocalDay(\"&$D$12&\")=\"&$F$10&\" and Barix(\"&$D$12&\",reference:=StartOfSession)=\"&A42&\"\", \"Bar\", \"\", \"Close\",\"5\",\"0\",\"PrimaryOnly\",,,\"False\",\"T\",\"EveryTick\")","v":1.18085},1.4417164906924775E-3,null,null,null,""]
[222,"11:30:00",-35,{"$f":" RTD(\"cqg.rtd\",,\"StudyData\", $D$12,  \"Tick\", \"FlatTicks=0\", \"Tick\",\"D\",C43,\"PrimaryOnly\")","v":1.1677999999999999},null,"MX6",null,{"$f":"RTD(\"cqg.rtd\",,\"StudyData\", \"Close(\"&$D$12&\") when LocalYear(\"&$D$12&\")=\"&$D$1&\" and localMonth(\"&$D$12&\") =\"&$E$1&\" and LocalDay(\"&$D$12&\")=\"&$F$1&\" and Barix(\"&$D$12&\",reference:=StartOfSession)=\"&A43&\"\", \"Bar\", \"\", \"Close\",\"5\",\"0\",\"PrimaryOnly\",,,\"False\",\"T\",\"EveryTick\")","v":""},{"$error":"#N/A"},{"$f":"RTD(\"cqg.rtd\",,\"StudyData\", \"Close(\"&$D$12&\") when LocalYear(\"&$D$12&\")=\"&$D$2&\" and localMonth(\"&$D$12&\") =\"&$E$2&\" and LocalDay(\"&$D$12&\")=\"&$F$2&\" and Barix(\"&$D$12&\",reference:=StartOfSession)=\"&A43&\"\", \"Bar\", \"\", \"Close\",\"5\",\"0\",\"PrimaryOnly\",,,\"False\",\"T\",\"EveryTick\")","v":1.1686000000000001},1.1565645748555875E-3,{"$f":"RTD(\"cqg.rtd\",,\"StudyData\", \"Close(\"&$D$12&\") when LocalYear(\"&$D$12&\")=\"&$D$3&\" and localMonth(\"&$D$12&\") =\"&$E$3&\" and LocalDay(\"&$D$12&\")=\"&$F$3&\" and Barix(\"&$D$12&\",reference:=StartOfSession)=\"&A43&\"\", \"Bar\", \"\", \"Close\",\"5\",\"0\",\"PrimaryOnly\",,,\"False\",\"T\",\"EveryTick\")","v":1.1704000000000001},-1.3028629253278207E-2,{"$f":"RTD(\"cqg.rtd\",,\"StudyData\", \"Close(\"&$D$12&\") when LocalYear(\"&$D$12&\")=\"&$D$4&\" and localMonth(\"&$D$12&\") =\"&$E$4&\" and LocalDay(\"&$D$12&\")=\"&$F$4&\" and Barix(\"&$D$12&\",reference:=StartOfSession)=\"&A43&\"\", \"Bar\", \"\", \"Close\",\"5\",\"0\",\"PrimaryOnly\",,,\"False\",\"T\",\"EveryTick\")","v":1.1871499999999999},2.9993240959783223E-3,{"$f":"RTD(\"cqg.rtd\",,\"StudyData\", \"Close(\"&$D$12&\") when LocalYear(\"&$D$12&\")=\"&$D$5&\" and localMonth(\"&$D$12&\") =\"&$E$5&\" and LocalDay(\"&$D$12&\")=\"&$F$5&\" and Barix(\"&$D$12&\",reference:=StartOfSession)=\"&A43&\"\", \"Bar\", \"\", \"Close\",\"5\",\"0\",\"PrimaryOnly\",,,\"False\",\"T\",\"EveryTick\")","v":1.1866000000000001},-8.4203435500159135E-4,{"$f":"RTD(\"cqg.rtd\",,\"StudyData\", \"Close(\"&$D$12&\") when LocalYear(\"&$D$12&\")=\"&$D$6&\" and localMonth(\"&$D$12&\") =\"&$E$6&\" and LocalDay(\"&$D$12&\")=\"&$F$6&\" and Barix(\"&$D$12&\",reference:=StartOfSession)=\"&A43&\"\", \"Bar\", \"\", \"Close\",\"5\",\"0\",\"PrimaryOnly\",,,\"False\",\"T\",\"EveryTick\")","v":1.1876500000000001},1.3912310286679187E-3,{"$f":"RTD(\"cqg.rtd\",,\"StudyData\", \"Close(\"&$D$12&\") when LocalYear(\"&$D$12&\")=\"&$D$7&\" and localMonth(\"&$D$12&\") =\"&$E$7&\" and LocalDay(\"&$D$12&\")=\"&$F$7&\" and Barix(\"&$D$12&\",reference:=StartOfSession)=\"&A43&\"\", \"Bar\", \"\", \"Close\",\"5\",\"0\",\"PrimaryOnly\",,,\"False\",\"T\",\"EveryTick\")","v":1.18605},-3.1517902168430997E-3,{"$f":"RTD(\"cqg.rtd\",,\"StudyData\", \"Close(\"&$D$12&\") when LocalYear(\"&$D$12&\")=\"&$D$8&\" and localMonth(\"&$D$12&\") =\"&$E$8&\" and LocalDay(\"&$D$12&\")=\"&$F$8&\" and Barix(\"&$D$12&\",reference:=StartOfSession)=\"&A43&\"\", \"Bar\", \"\", \"Close\",\"5\",\"0\",\"PrimaryOnly\",,,\"False\",\"T\",\"EveryTick\")","v":1.1909000000000001},4.0892036592049411E-3,{"$f":"RTD(\"cqg.rtd\",,\"StudyData\", \"Close(\"&$D$12&\") when LocalYear(\"&$D$12&\")=\"&$D$9&\" and localMonth(\"&$D$12&\") =\"&$E$9&\" and LocalDay(\"&$D$12&\")=\"&$F$9&\" and Barix(\"&$D$12&\",reference:=StartOfSession)=\"&A43&\"\", \"Bar\", \"\", \"Close\",\"5\",\"0\",\"PrimaryOnly\",,,\"False\",\"T\",\"EveryTick\")","v":1.1873499999999999},5.7174318143315356E-3,{"$f":"RTD(\"cqg.rtd\",,\"StudyData\", \"Close(\"&$D$12&\") when LocalYear(\"&$D$12&\")=\"&$D$10&\" and localMonth(\"&$D$12&\") =\"&$E$10&\" and LocalDay(\"&$D$12&\")=\"&$F$10&\" and Barix(\"&$D$12&\",reference:=StartOfSession)=\"&A43&\"\", \"Bar\", \"\", \"Close\",\"5\",\"0\",\"PrimaryOnly\",,,\"False\",\"T\",\"EveryTick\")","v":1.181},1.5689267692830678E-3,null,null,null,""]
[223,"11:35:00",-34,{"$f":" RTD(\"cqg.rtd\",,\"StudyData\", $D$12,  \"Tick\", \"FlatTicks=0\", \"Tick\",\"D\",C44,\"PrimaryOnly\")","v":1.1678500000000001},null,"SF6",null,{"$f":"RTD(\"cqg.rtd\",,\"StudyData\", \"Close(\"&$D$12&\") when LocalYear(\"&$D$12&\")=\"&$D$1&\" and localMonth(\"&$D$12&\") =\"&$E$1&\" and LocalDay(\"&$D$12&\")=\"&$F$1&\" and Barix(\"&$D$12&\",reference:=StartOfSession)=\"&A44&\"\", \"Bar\", \"\", \"Close\",\"5\",\"0\",\"PrimaryOnly\",,,\"False\",\"T\",\"EveryTick\")","v":""},{"$error":"#N/A"},{"$f":"RTD(\"cqg.rtd\",,\"StudyData\", \"Close(\"&$D$12&\") when LocalYear(\"&$D$12&\")=\"&$D$2&\" and localMonth(\"&$D$12&\") =\"&$E$2&\" and LocalDay(\"&$D$12&\")=\"&$F$2&\" and Barix(\"&$D$12&\",reference:=StartOfSession)=\"&A44&\"\", \"Bar\", \"\", \"Close\",\"5\",\"0\",\"PrimaryOnly\",,,\"False\",\"T\",\"EveryTick\")","v":1.1688000000000001},1.3279074748341509E-3,{"$f":"RTD(\"cqg.rtd\",,\"StudyData\", \"Close(\"&$D$12&\") when LocalYear(\"&$D$12&\")=\"&$D$3&\" and localMonth(\"&$D$12&\") =\"&$E$3&\" and LocalDay(\"&$D$12&\")=\"&$F$3&\" and Barix(\"&$D$12&\",reference:=StartOfSession)=\"&A44&\"\", \"Bar\", \"\", \"Close\",\"5\",\"0\",\"PrimaryOnly\",,,\"False\",\"T\",\"EveryTick\")","v":1.1706000000000001},-1.2859973858413783E-2,{"$f":"RTD(\"cqg.rtd\",,\"StudyData\", \"Close(\"&$D$12&\") when LocalYear(\"&$D$12&\")=\"&$D$4&\" and localMonth(\"&$D$12&\") =\"&$E$4&\" and LocalDay(\"&$D$12&\")=\"&$F$4&\" and Barix(\"&$D$12&\",reference:=StartOfSession)=\"&A44&\"\", \"Bar\", \"\", \"Close\",\"5\",\"0\",\"PrimaryOnly\",,,\"False\",\"T\",\"EveryTick\")","v":1.1872499999999999},3.083812098681929E-3,{"$f":"RTD(\"cqg.rtd\",,\"StudyData\", \"Close(\"&$D$12&\") when LocalYear(\"&$D$12&\")=\"&$D$5&\" and localMonth(\"&$D$12&\") =\"&$E$5&\" and LocalDay(\"&$D$12&\")=\"&$F$5&\" and Barix(\"&$D$12&\",reference:=StartOfSession)=\"&A44&\"\", \"Bar\", \"\", \"Close\",\"5\",\"0\",\"PrimaryOnly\",,,\"False\",\"T\",\"EveryTick\")","v":1.18685},-6.31525766251287E-4,{"$f":"RTD(\"cqg.rtd\",,\"StudyData\", \"Close(\"&$D$12&\") when LocalYear(\"&$D$12&\")=\"&$D$6&\" and localMonth(\"&$D$12&\") =\"&$E$6&\" and LocalDay(\"&$D$12&\")=\"&$F$6&\" and Barix(\"&$D$12&\",reference:=StartOfSession)=\"&A44&\"\", \"Bar\", \"\", \"Close\",\"5\",\"0\",\"PrimaryOnly\",,,\"False\",\"T\",\"EveryTick\")","v":1.1876},1.3490725126475934E-3,{"$f":"RTD(\"cqg.rtd\",,\"StudyData\", \"Close(\"&$D$12&\") when LocalYear(\"&$D$12&\")=\"&$D$7&\" and localMonth(\"&$D$12&\") =\"&$E$7&\" and LocalDay(\"&$D$12&\")=\"&$F$7&\" and Barix(\"&$D$12&\",reference:=StartOfSession)=\"&A44&\"\", \"Bar\", \"\", \"Close\",\"5\",\"0\",\"PrimaryOnly\",,,\"False\",\"T\",\"EveryTick\")","v":1.1859500000000001},-3.2358379559589085E-3,{"$f":"RTD(\"cqg.rtd\",,\"StudyData\", \"Close(\"&$D$12&\") when LocalYear(\"&$D$12&\")=\"&$D$8&\" and localMonth(\"&$D$12&\") =\"&$E$8&\" and LocalDay(\"&$D$12&\")=\"&$F$8&\" and Barix(\"&$D$12&\",reference:=StartOfSession)=\"&A44&\"\", \"Bar\", \"\", \"Close\",\"5\",\"0\",\"PrimaryOnly\",,,\"False\",\"T\",\"EveryTick\")","v":1.1907000000000001},3.9205767041862001E-3,{"$f":"RTD(\"cqg.rtd\",,\"StudyData\", \"Close(\"&$D$12&\") when LocalYear(\"&$D$12&\")=\"&$D$9&\" and localMonth(\"&$D$12&\") =\"&$E$9&\" and LocalDay(\"&$D$12&\")=\"&$F$9&\" and Barix(\"&$D$12&\",reference:=StartOfSession)=\"&A44&\"\", \"Bar\", \"\", \"Close\",\"5\",\"0\",\"PrimaryOnly\",,,\"False\",\"T\",\"EveryTick\")","v":1.1874},5.7597831611044528E-3,{"$f":"RTD(\"cqg.rtd\",,\"StudyData\", \"Close(\"&$D$12&\") when LocalYear(\"&$D$12&\")=\"&$D$10&\" and localMonth(\"&$D$12&\") =\"&$E$10&\" and LocalDay(\"&$D$12&\")=\"&$F$10&\" and Barix(\"&$D$12&\",reference:=StartOfSession)=\"&A44&\"\", \"Bar\", \"\", \"Close\",\"5\",\"0\",\"PrimaryOnly\",,,\"False\",\"T\",\"EveryTick\")","v":1.1802999999999999},9.7527880252723097E-4,null,null,null,""]
[224,"11:40:00",-33,{"$f":" RTD(\"cqg.rtd\",,\"StudyData\", $D$12,  \"Tick\", \"FlatTicks=0\", \"Tick\",\"D\",C45,\"PrimaryOnly\")","v":1.1677999999999999},null,"NE6",null,{"$f":"RTD(\"cqg.rtd\",,\"StudyData\", \"Close(\"&$D$12&\") when LocalYear(\"&$D$12&\")=\"&$D$1&\" and localMonth(\"&$D$12&\") =\"&$E$1&\" and LocalDay(\"&$D$12&\")=\"&$F$1&\" and Barix(\"&$D$12&\",reference:=StartOfSession)=\"&A45&\"\", \"Bar\", \"\", \"Close\",\"5\",\"0\",\"PrimaryOnly\",,,\"False\",\"T\",\"EveryTick\")","v":""},{"$error":"#N/A"},{"$f":"RTD(\"cqg.rtd\",,\"StudyData\", \"Close(\"&$D$12&\") when LocalYear(\"&$D$12&\")=\"&$D$2&\" and localMonth(\"&$D$12&\") =\"&$E$2&\" and LocalDay(\"&$D$12&\")=\"&$F$2&\" and Barix(\"&$D$12&\",reference:=StartOfSession)=\"&A45&\"\", \"Bar\", \"\", \"Close\",\"5\",\"0\",\"PrimaryOnly\",,,\"False\",\"T\",\"EveryTick\")","v":1.1688499999999999},1.3707431998286966E-3,{"$f":"RTD(\"cqg.rtd\",,\"StudyData\", \"Close(\"&$D$12&\") when LocalYear(\"&$D$12&\")=\"&$D$3&\" and localMonth(\"&$D$12&\") =\"&$E$3&\" and LocalDay(\"&$D$12&\")=\"&$F$3&\" and Barix(\"&$D$12&\",reference:=StartOfSession)=\"&A45&\"\", \"Bar\", \"\", \"Close\",\"5\",\"0\",\"PrimaryOnly\",,,\"False\",\"T\",\"EveryTick\")","v":1.1711499999999999},-1.2396171522536709E-2,{"$f":"RTD(\"cqg.rtd\",,\"StudyData\", \"Close(\"&$D$12&\") when LocalYear(\"&$D$12&\")=\"&$D$4&\" and localMonth(\"&$D$12&\") =\"&$E$4&\" and LocalDay(\"&$D$12&\")=\"&$F$4&\" and Barix(\"&$D$12&\",reference:=StartOfSession)=\"&A45&\"\", \"Bar\", \"\", \"Close\",\"5\",\"0\",\"PrimaryOnly\",,,\"False\",\"T\",\"EveryTick\")","v":1.1872},3.0415680973302195E-3,{"$f":"RTD(\"cqg.rtd\",,\"StudyData\", \"Close(\"&$D$12&\") when LocalYear(\"&$D$12&\")=\"&$D$5&\" and localMonth(\"&$D$12&\") =\"&$E$5&\" and LocalDay(\"&$D$12&\")=\"&$F$5&\" and Barix(\"&$D$12&\",reference:=StartOfSession)=\"&A45&\"\", \"Bar\", \"\", \"Close\",\"5\",\"0\",\"PrimaryOnly\",,,\"False\",\"T\",\"EveryTick\")","v":1.18685},-6.31525766251287E-4,{"$f":"RTD(\"cqg.rtd\",,\"StudyData\", \"Close(\"&$D$12&\") when LocalYear(\"&$D$12&\")=\"&$D$6&\" and localMonth(\"&$D$12&\") =\"&$E$6&\" and LocalDay(\"&$D$12&\")=\"&$F$6&\" and Barix(\"&$D$12&\",reference:=StartOfSession)=\"&A45&\"\", \"Bar\", \"\", \"Close\",\"5\",\"0\",\"PrimaryOnly\",,,\"False\",\"T\",\"EveryTick\")","v":1.1872},1.0118043844857419E-3,{"$f":"RTD(\"cqg.rtd\",,\"StudyData\", \"Close(\"&$D$12&\") when LocalYear(\"&$D$12&\")=\"&$D$7&\" and localMonth(\"&$D$12&\") =\"&$E$7&\" and LocalDay(\"&$D$12&\")=\"&$F$7&\" and Barix(\"&$D$12&\",reference:=StartOfSession)=\"&A45&\"\", \"Bar\", \"\", \"Close\",\"5\",\"0\",\"PrimaryOnly\",,,\"False\",\"T\",\"EveryTick\")","v":1.1857500000000001},-3.4039334341905256E-3,{"$f":"RTD(\"cqg.rtd\",,\"StudyData\", \"Close(\"&$D$12&\") when LocalYear(\"&$D$12&\")=\"&$D$8&\" and localMonth(\"&$D$12&\") =\"&$E$8&\" and LocalDay(\"&$D$12&\")=\"&$F$8&\" and Barix(\"&$D$12&\",reference:=StartOfSession)=\"&A45&\"\", \"Bar\", \"\", \"Close\",\"5\",\"0\",\"PrimaryOnly\",,,\"False\",\"T\",\"EveryTick\")","v":1.1902999999999999},3.5833227941485307E-3,{"$f":"RTD(\"cqg.rtd\",,\"StudyData\", \"Close(\"&$D$12&\") when LocalYear(\"&$D$12&\")=\"&$D$9&\" and localMonth(\"&$D$12&\") =\"&$E$9&\" and LocalDay(\"&$D$12&\")=\"&$F$9&\" and Barix(\"&$D$12&\",reference:=StartOfSession)=\"&A45&\"\", \"Bar\", \"\", \"Close\",\"5\",\"0\",\"PrimaryOnly\",,,\"False\",\"T\",\"EveryTick\")","v":1.1874},5.7597831611044528E-3,{"$f":"RTD(\"cqg.rtd\",,\"StudyData\", \"Close(\"&$D$12&\") when LocalYear(\"&$D$12&\")=\"&$D$10&\" and localMonth(\"&$D$12&\") =\"&$E$10&\" and LocalDay(\"&$D$12&\")=\"&$F$10&\" and Barix(\"&$D$12&\",reference:=StartOfSession)=\"&A45&\"\", \"Bar\", \"\", \"Close\",\"5\",\"0\",\"PrimaryOnly\",,,\"False\",\"T\",\"EveryTick\")","v":1.1803999999999999},1.0600856549208952E-3,null,null,null,""]
[225,"11:45:00",-32,{"$f":" RTD(\"cqg.rtd\",,\"StudyData\", $D$12,  \"Tick\", \"FlatTicks=0\", \"Tick\",\"D\",C46,\"PrimaryOnly\")","v":1.1677500000000001},null,null,null,{"$f":"RTD(\"cqg.rtd\",,\"StudyData\", \"Close(\"&$D$12&\") when LocalYear(\"&$D$12&\")=\"&$D$1&\" and localMonth(\"&$D$12&\") =\"&$E$1&\" and LocalDay(\"&$D$12&\")=\"&$F$1&\" and Barix(\"&$D$12&\",reference:=StartOfSession)=\"&A46&\"\", \"Bar\", \"\", \"Close\",\"5\",\"0\",\"PrimaryOnly\",,,\"False\",\"T\",\"EveryTick\")","v":""},{"$error":"#N/A"},{"$f":"RTD(\"cqg.rtd\",,\"StudyData\", \"Close(\"&$D$12&\") when LocalYear(\"&$D$12&\")=\"&$D$2&\" and localMonth(\"&$D$12&\") =\"&$E$2&\" and LocalDay(\"&$D$12&\")=\"&$F$2&\" and Barix(\"&$D$12&\",reference:=StartOfSession)=\"&A46&\"\", \"Bar\", \"\", \"Close\",\"5\",\"0\",\"PrimaryOnly\",,,\"False\",\"T\",\"EveryTick\")","v":1.16835},9.4238594988228829E-4,{"$f":"RTD(\"cqg.rtd\",,\"StudyData\", \"Close(\"&$D$12&\") when LocalYear(\"&$D$12&\")=\"&$D$3&\" and localMonth(\"&$D$12&\") =\"&$E$3&\" and LocalDay(\"&$D$12&\")=\"&$F$3&\" and Barix(\"&$D$12&\",reference:=StartOfSession)=\"&A46&\"\", \"Bar\", \"\", \"Close\",\"5\",\"0\",\"PrimaryOnly\",,,\"False\",\"T\",\"EveryTick\")","v":1.1712},-1.235400767382051E-2,{"$f":"RTD(\"cqg.rtd\",,\"StudyData\", \"Close(\"&$D$12&\") when LocalYear(\"&$D$12&\")=\"&$D$4&\" and localMonth(\"&$D$12&\") =\"&$E$4&\" and LocalDay(\"&$D$12&\")=\"&$F$4&\" and Barix(\"&$D$12&\",reference:=StartOfSession)=\"&A46&\"\", \"Bar\", \"\", \"Close\",\"5\",\"0\",\"PrimaryOnly\",,,\"False\",\"T\",\"EveryTick\")","v":1.1870000000000001},2.8725920919230059E-3,{"$f":"RTD(\"cqg.rtd\",,\"StudyData\", \"Close(\"&$D$12&\") when LocalYear(\"&$D$12&\")=\"&$D$5&\" and localMonth(\"&$D$12&\") =\"&$E$5&\" and LocalDay(\"&$D$12&\")=\"&$F$5&\" and Barix(\"&$D$12&\",reference:=StartOfSession)=\"&A46&\"\", \"Bar\", \"\", \"Close\",\"5\",\"0\",\"PrimaryOnly\",,,\"False\",\"T\",\"EveryTick\")","v":1.1869499999999999},-5.4732233075112781E-4,{"$f":"RTD(\"cqg.rtd\",,\"StudyData\", \"Close(\"&$D$12&\") when LocalYear(\"&$D$12&\")=\"&$D$6&\" and localMonth(\"&$D$12&\") =\"&$E$6&\" and LocalDay(\"&$D$12&\")=\"&$F$6&\" and Barix(\"&$D$12&\",reference:=StartOfSession)=\"&A46&\"\", \"Bar\", \"\", \"Close\",\"5\",\"0\",\"PrimaryOnly\",,,\"False\",\"T\",\"EveryTick\")","v":1.1871499999999999},9.6964586846541687E-4,{"$f":"RTD(\"cqg.rtd\",,\"StudyData\", \"Close(\"&$D$12&\") when LocalYear(\"&$D$12&\")=\"&$D$7&\" and localMonth(\"&$D$12&\") =\"&$E$7&\" and LocalDay(\"&$D$12&\")=\"&$F$7&\" and Barix(\"&$D$12&\",reference:=StartOfSession)=\"&A46&\"\", \"Bar\", \"\", \"Close\",\"5\",\"0\",\"PrimaryOnly\",,,\"False\",\"T\",\"EveryTick\")","v":1.1858500000000001},-3.3198856950747168E-3,{"$f":"RTD(\"cqg.rtd\",,\"StudyData\", \"Close(\"&$D$12&\") when LocalYear(\"&$D$12&\")=\"&$D$8&\" and localMonth(\"&$D$12&\") =\"&$E$8&\" and LocalDay(\"&$D$12&\")=\"&$F$8&\" and Barix(\"&$D$12&\",reference:=StartOfSession)=\"&A46&\"\", \"Bar\", \"\", \"Close\",\"5\",\"0\",\"PrimaryOnly\",,,\"False\",\"T\",\"EveryTick\")","v":1.1899500000000001},3.2882256228658271E-3,{"$f":"RTD(\"cqg.rtd\",,\"StudyData\", \"Close(\"&$D$12&\") when LocalYear(\"&$D$12&\")=\"&$D$9&\" and localMonth(\"&$D$12&\") =\"&$E$9&\" and LocalDay(\"&$D$12&\")=\"&$F$9&\" and Barix(\"&$D$12&\",reference:=StartOfSession)=\"&A46&\"\", \"Bar\", \"\", \"Close\",\"5\",\"0\",\"PrimaryOnly\",,,\"False\",\"T\",\"EveryTick\")","v":1.1875500000000001},5.8868372014230144E-3,{"$f":"RTD(\"cqg.rtd\",,\"StudyData\", \"Close(\"&$D$12&\") when LocalYear(\"&$D$12&\")=\"&$D$10&\" and localMonth(\"&$D$12&\") =\"&$E$10&\" and LocalDay(\"&$D$12&\")=\"&$F$10&\" and Barix(\"&$D$12&\",reference:=StartOfSession)=\"&A46&\"\", \"Bar\", \"\", \"Close\",\"5\",\"0\",\"PrimaryOnly\",,,\"False\",\"T\",\"EveryTick\")","v":1.1803999999999999},1.0600856549208952E-3,null,null,null,""]
[226,"11:50:00",-31,{"$f":" RTD(\"cqg.rtd\",,\"StudyData\", $D$12,  \"Tick\", \"FlatTicks=0\", \"Tick\",\"D\",C47,\"PrimaryOnly\")","v":1.1677},null,null,null,{"$f":"RTD(\"cqg.rtd\",,\"StudyData\", \"Close(\"&$D$12&\") when LocalYear(\"&$D$12&\")=\"&$D$1&\" and localMonth(\"&$D$12&\") =\"&$E$1&\" and LocalDay(\"&$D$12&\")=\"&$F$1&\" and Barix(\"&$D$12&\",reference:=StartOfSession)=\"&A47&\"\", \"Bar\", \"\", \"Close\",\"5\",\"0\",\"PrimaryOnly\",,,\"False\",\"T\",\"EveryTick\")","v":""},{"$error":"#N/A"},{"$f":"RTD(\"cqg.rtd\",,\"StudyData\", \"Close(\"&$D$12&\") when LocalYear(\"&$D$12&\")=\"&$D$2&\" and localMonth(\"&$D$12&\") =\"&$E$2&\" and LocalDay(\"&$D$12&\")=\"&$F$2&\" and Barix(\"&$D$12&\",reference:=StartOfSession)=\"&A47&\"\", \"Bar\", \"\", \"Close\",\"5\",\"0\",\"PrimaryOnly\",,,\"False\",\"T\",\"EveryTick\")","v":1.16835},9.4238594988228829E-4,{"$f":"RTD(\"cqg.rtd\",,\"StudyData\", \"Close(\"&$D$12&\") when LocalYear(\"&$D$12&\")=\"&$D$3&\" and localMonth(\"&$D$12&\") =\"&$E$3&\" and LocalDay(\"&$D$12&\")=\"&$F$3&\" and Barix(\"&$D$12&\",reference:=StartOfSession)=\"&A47&\"\", \"Bar\", \"\", \"Close\",\"5\",\"0\",\"PrimaryOnly\",,,\"False\",\"T\",\"EveryTick\")","v":1.17205},-1.1637222245646612E-2,{"$f":"RTD(\"cqg.rtd\",,\"StudyData\", \"Close(\"&$D$12&\") when LocalYear(\"&$D$12&\")=\"&$D$4&\" and localMonth(\"&$D$12&\") =\"&$E$4&\" and LocalDay(\"&$D$12&\")=\"&$F$4&\" and Barix(\"&$D$12&\",reference:=StartOfSession)=\"&A47&\"\", \"Bar\", \"\", \"Close\",\"5\",\"0\",\"PrimaryOnly\",,,\"False\",\"T\",\"EveryTick\")","v":1.1871499999999999},2.9993240959783223E-3,{"$f":"RTD(\"cqg.rtd\",,\"StudyData\", \"Close(\"&$D$12&\") when LocalYear(\"&$D$12&\")=\"&$D$5&\" and localMonth(\"&$D$12&\") =\"&$E$5&\" and LocalDay(\"&$D$12&\")=\"&$F$5&\" and Barix(\"&$D$12&\",reference:=StartOfSession)=\"&A47&\"\", \"Bar\", \"\", \"Close\",\"5\",\"0\",\"PrimaryOnly\",,,\"False\",\"T\",\"EveryTick\")","v":1.1867000000000001},-7.5783091950143216E-4,{"$f":"RTD(\"cqg.rtd\",,\"StudyData\", \"Close(\"&$D$12&\") when LocalYear(\"&$D$12&\")=\"&$D$6&\" and localMonth(\"&$D$12&\") =\"&$E$6&\" and LocalDay(\"&$D$12&\")=\"&$F$6&\" and Barix(\"&$D$12&\",reference:=StartOfSession)=\"&A47&\"\", \"Bar\", \"\", \"Close\",\"5\",\"0\",\"PrimaryOnly\",,,\"False\",\"T\",\"EveryTick\")","v":1.1875500000000001},1.3069139966274557E-3,{"$f":"RTD(\"cqg.rtd\",,\"StudyData\", \"Close(\"&$D$12&\") when LocalYear(\"&$D$12&\")=\"&$D$7&\" and localMonth(\"&$D$12&\") =\"&$E$7&\" and LocalDay(\"&$D$12&\")=\"&$F$7&\" and Barix(\"&$D$12&\",reference:=StartOfSession)=\"&A47&\"\", \"Bar\", \"\", \"Close\",\"5\",\"0\",\"PrimaryOnly\",,,\"False\",\"T\",\"EveryTick\")","v":1.18605},-3.1517902168430997E-3,{"$f":"RTD(\"cqg.rtd\",,\"StudyData\", \"Close(\"&$D$12&\") when LocalYear(\"&$D$12&\")=\"&$D$8&\" and localMonth(\"&$D$12&\") =\"&$E$8&\" and LocalDay(\"&$D$12&\")=\"&$F$8&\" and Barix(\"&$D$12&\",reference:=StartOfSession)=\"&A47&\"\", \"Bar\", \"\", \"Close\",\"5\",\"0\",\"PrimaryOnly\",,,\"False\",\"T\",\"EveryTick\")","v":1.1892},2.6558745415454542E-3,{"$f":"RTD(\"cqg.rtd\",,\"StudyData\", \"Close(\"&$D$12&\") when LocalYear(\"&$D$12&\")=\"&$D$9&\" and localMonth(\"&$D$12&\") =\"&$E$9&\" and LocalDay(\"&$D$12&\")=\"&$F$9&\" and Barix(\"&$D$12&\",reference:=StartOfSession)=\"&A47&\"\", \"Bar\", \"\", \"Close\",\"5\",\"0\",\"PrimaryOnly\",,,\"False\",\"T\",\"EveryTick\")","v":1.1874},5.7597831611044528E-3,{"$f":"RTD(\"cqg.rtd\",,\"StudyData\", \"Close(\"&$D$12&\") when LocalYear(\"&$D$12&\")=\"&$D$10&\" and localMonth(\"&$D$12&\") =\"&$E$10&\" and LocalDay(\"&$D$12&\")=\"&$F$10&\" and Barix(\"&$D$12&\",reference:=StartOfSession)=\"&A47&\"\", \"Bar\", \"\", \"Close\",\"5\",\"0\",\"PrimaryOnly\",,,\"False\",\"T\",\"EveryTick\")","v":1.18035},1.0176822287241572E-3,null,null,null,""]
[227,"11:55:00",-30,{"$f":" RTD(\"cqg.rtd\",,\"StudyData\", $D$12,  \"Tick\", \"FlatTicks=0\", \"Tick\",\"D\",C48,\"PrimaryOnly\")","v":1.1677500000000001},null,null,null,{"$f":"RTD(\"cqg.rtd\",,\"StudyData\", \"Close(\"&$D$12&\") when LocalYear(\"&$D$12&\")=\"&$D$1&\" and localMonth(\"&$D$12&\") =\"&$E$1&\" and LocalDay(\"&$D$12&\")=\"&$F$1&\" and Barix(\"&$D$12&\",reference:=StartOfSession)=\"&A48&\"\", \"Bar\", \"\", \"Close\",\"5\",\"0\",\"PrimaryOnly\",,,\"False\",\"T\",\"EveryTick\")","v":""},{"$error":"#N/A"},{"$f":"RTD(\"cqg.rtd\",,\"StudyData\", \"Close(\"&$D$12&\") when LocalYear(\"&$D$12&\")=\"&$D$2&\" and localMonth(\"&$D$12&\") =\"&$E$2&\" and LocalDay(\"&$D$12&\")=\"&$F$2&\" and Barix(\"&$D$12&\",reference:=StartOfSession)=\"&A48&\"\", \"Bar\", \"\", \"Close\",\"5\",\"0\",\"PrimaryOnly\",,,\"False\",\"T\",\"EveryTick\")","v":1.1685000000000001},1.0708931248663059E-3,{"$f":"RTD(\"cqg.rtd\",,\"StudyData\", \"Close(\"&$D$12&\") when LocalYear(\"&$D$12&\")=\"&$D$3&\" and localMonth(\"&$D$12&\") =\"&$E$3&\" and LocalDay(\"&$D$12&\")=\"&$F$3&\" and Barix(\"&$D$12&\",reference:=StartOfSession)=\"&A48&\"\", \"Bar\", \"\", \"Close\",\"5\",\"0\",\"PrimaryOnly\",,,\"False\",\"T\",\"EveryTick\")","v":1.1714500000000001},-1.2143188430239885E-2,{"$f":"RTD(\"cqg.rtd\",,\"StudyData\", \"Close(\"&$D$12&\") when LocalYear(\"&$D$12&\")=\"&$D$4&\" and localMonth(\"&$D$12&\") =\"&$E$4&\" and LocalDay(\"&$D$12&\")=\"&$F$4&\" and Barix(\"&$D$12&\",reference:=StartOfSession)=\"&A48&\"\", \"Bar\", \"\", \"Close\",\"5\",\"0\",\"PrimaryOnly\",,,\"False\",\"T\",\"EveryTick\")","v":1.1876500000000001},3.4217641094965437E-3,{"$f":"RTD(\"cqg.rtd\",,\"StudyData\", \"Close(\"&$D$12&\") when LocalYear(\"&$D$12&\")=\"&$D$5&\" and localMonth(\"&$D$12&\") =\"&$E$5&\" and LocalDay(\"&$D$12&\")=\"&$F$5&\" and Barix(\"&$D$12&\",reference:=StartOfSession)=\"&A48&\"\", \"Bar\", \"\", \"Close\",\"5\",\"0\",\"PrimaryOnly\",,,\"False\",\"T\",\"EveryTick\")","v":1.1860999999999999},-1.263051532502574E-3,{"$f":"RTD(\"cqg.rtd\",,\"StudyData\", \"Close(\"&$D$12&\") when LocalYear(\"&$D$12&\")=\"&$D$6&\" and localMonth(\"&$D$12&\") =\"&$E$6&\" and LocalDay(\"&$D$12&\")=\"&$F$6&\" and Barix(\"&$D$12&\",reference:=StartOfSession)=\"&A48&\"\", \"Bar\", \"\", \"Close\",\"5\",\"0\",\"PrimaryOnly\",,,\"False\",\"T\",\"EveryTick\")","v":1.1877},1.4333895446880564E-3,{"$f":"RTD(\"cqg.rtd\",,\"StudyData\", \"Close(\"&$D$12&\") when LocalYear(\"&$D$12&\")=\"&$D$7&\" and localMonth(\"&$D$12&\") =\"&$E$7&\" and LocalDay(\"&$D$12&\")=\"&$F$7&\" and Barix(\"&$D$12&\",reference:=StartOfSession)=\"&A48&\"\", \"Bar\", \"\", \"Close\",\"5\",\"0\",\"PrimaryOnly\",,,\"False\",\"T\",\"EveryTick\")","v":1.18625},-2.9836947386114826E-3,{"$f":"RTD(\"cqg.rtd\",,\"StudyData\", \"Close(\"&$D$12&\") when LocalYear(\"&$D$12&\")=\"&$D$8&\" and localMonth(\"&$D$12&\") =\"&$E$8&\" and LocalDay(\"&$D$12&\")=\"&$F$8&\" and Barix(\"&$D$12&\",reference:=StartOfSession)=\"&A48&\"\", \"Bar\", \"\", \"Close\",\"5\",\"0\",\"PrimaryOnly\",,,\"False\",\"T\",\"EveryTick\")","v":1.1898500000000001},3.2039121453564566E-3,{"$f":"RTD(\"cqg.rtd\",,\"StudyData\", \"Close(\"&$D$12&\") when LocalYear(\"&$D$12&\")=\"&$D$9&\" and localMonth(\"&$D$12&\") =\"&$E$9&\" and LocalDay(\"&$D$12&\")=\"&$F$9&\" and Barix(\"&$D$12&\",reference:=StartOfSession)=\"&A48&\"\", \"Bar\", \"\", \"Close\",\"5\",\"0\",\"PrimaryOnly\",,,\"False\",\"T\",\"EveryTick\")","v":1.1870000000000001},5.4209723869218709E-3,{"$f":"RTD(\"cqg.rtd\",,\"StudyData\", \"Close(\"&$D$12&\") when LocalYear(\"&$D$12&\")=\"&$D$10&\" and localMonth(\"&$D$12&\") =\"&$E$10&\" and LocalDay(\"&$D$12&\")=\"&$F$10&\" and Barix(\"&$D$12&\",reference:=StartOfSession)=\"&A48&\"\", \"Bar\", \"\", \"Close\",\"5\",\"0\",\"PrimaryOnly\",,,\"False\",\"T\",\"EveryTick\")","v":1.1807000000000001},1.3145062121020757E-3,null,null,null,""]
[228,"12:00:00",-29,{"$f":" RTD(\"cqg.rtd\",,\"StudyData\", $D$12,  \"Tick\", \"FlatTicks=0\", \"Tick\",\"D\",C49,\"PrimaryOnly\")","v":1.1677},null,null,null,{"$f":"RTD(\"cqg.rtd\",,\"StudyData\", \"Close(\"&$D$12&\") when LocalYear(\"&$D$12&\")=\"&$D$1&\" and localMonth(\"&$D$12&\") =\"&$E$1&\" and LocalDay(\"&$D$12&\")=\"&$F$1&\" and Barix(\"&$D$12&\",reference:=StartOfSession)=\"&A49&\"\", \"Bar\", \"\", \"Close\",\"5\",\"0\",\"PrimaryOnly\",,,\"False\",\"T\",\"EveryTick\")","v":""},{"$error":"#N/A"},{"$f":"RTD(\"cqg.rtd\",,\"StudyData\", \"Close(\"&$D$12&\") when LocalYear(\"&$D$12&\")=\"&$D$2&\" and localMonth(\"&$D$12&\") =\"&$E$2&\" and LocalDay(\"&$D$12&\")=\"&$F$2&\" and Barix(\"&$D$12&\",reference:=StartOfSession)=\"&A49&\"\", \"Bar\", \"\", \"Close\",\"5\",\"0\",\"PrimaryOnly\",,,\"False\",\"T\",\"EveryTick\")","v":1.16845},1.0280573998715699E-3,{"$f":"RTD(\"cqg.rtd\",,\"StudyData\", \"Close(\"&$D$12&\") when LocalYear(\"&$D$12&\")=\"&$D$3&\" and localMonth(\"&$D$12&\") =\"&$E$3&\" and LocalDay(\"&$D$12&\")=\"&$F$3&\" and Barix(\"&$D$12&\",reference:=StartOfSession)=\"&A49&\"\", \"Bar\", \"\", \"Close\",\"5\",\"0\",\"PrimaryOnly\",,,\"False\",\"T\",\"EveryTick\")","v":1.1717500000000001},-1.1890205337943247E-2,{"$f":"RTD(\"cqg.rtd\",,\"StudyData\", \"Close(\"&$D$12&\") when LocalYear(\"&$D$12&\")=\"&$D$4&\" and localMonth(\"&$D$12&\") =\"&$E$4&\" and LocalDay(\"&$D$12&\")=\"&$F$4&\" and Barix(\"&$D$12&\",reference:=StartOfSession)=\"&A49&\"\", \"Bar\", \"\", \"Close\",\"5\",\"0\",\"PrimaryOnly\",,,\"False\",\"T\",\"EveryTick\")","v":1.1876},3.3795201081446465E-3,{"$f":"RTD(\"cqg.rtd\",,\"StudyData\", \"Close(\"&$D$12&\") when LocalYear(\"&$D$12&\")=\"&$D$5&\" and localMonth(\"&$D$12&\") =\"&$E$5&\" and LocalDay(\"&$D$12&\")=\"&$F$5&\" and Barix(\"&$D$12&\",reference:=StartOfSession)=\"&A49&\"\", \"Bar\", \"\", \"Close\",\"5\",\"0\",\"PrimaryOnly\",,,\"False\",\"T\",\"EveryTick\")","v":1.1859500000000001},-1.3893566857527192E-3,{"$f":"RTD(\"cqg.rtd\",,\"StudyData\", \"Close(\"&$D$12&\") when LocalYear(\"&$D$12&\")=\"&$D$6&\" and localMonth(\"&$D$12&\") =\"&$E$6&\" and LocalDay(\"&$D$12&\")=\"&$F$6&\" and Barix(\"&$D$12&\",reference:=StartOfSession)=\"&A49&\"\", \"Bar\", \"\", \"Close\",\"5\",\"0\",\"PrimaryOnly\",,,\"False\",\"T\",\"EveryTick\")","v":1.1876500000000001},1.3912310286679187E-3,{"$f":"RTD(\"cqg.rtd\",,\"StudyData\", \"Close(\"&$D$12&\") when LocalYear(\"&$D$12&\")=\"&$D$7&\" and localMonth(\"&$D$12&\") =\"&$E$7&\" and LocalDay(\"&$D$12&\")=\"&$F$7&\" and Barix(\"&$D$12&\",reference:=StartOfSession)=\"&A49&\"\", \"Bar\", \"\", \"Close\",\"5\",\"0\",\"PrimaryOnly\",,,\"False\",\"T\",\"EveryTick\")","v":1.1859999999999999},-3.1938140864010973E-3,{"$f":"RTD(\"cqg.rtd\",,\"StudyData\", \"Close(\"&$D$12&\") when LocalYear(\"&$D$12&\")=\"&$D$8&\" and localMonth(\"&$D$12&\") =\"&$E$8&\" and LocalDay(\"&$D$12&\")=\"&$F$8&\" and Barix(\"&$D$12&\",reference:=StartOfSession)=\"&A49&\"\", \"Bar\", \"\", \"Close\",\"5\",\"0\",\"PrimaryOnly\",,,\"False\",\"T\",\"EveryTick\")","v":1.19035},3.6254795329033096E-3,{"$f":"RTD(\"cqg.rtd\",,\"StudyData\", \"Close(\"&$D$12&\") when LocalYear(\"&$D$12&\")=\"&$D$9&\" and localMonth(\"&$D$12&\") =\"&$E$9&\" and LocalDay(\"&$D$12&\")=\"&$F$9&\" and Barix(\"&$D$12&\",reference:=StartOfSession)=\"&A49&\"\", \"Bar\", \"\", \"Close\",\"5\",\"0\",\"PrimaryOnly\",,,\"False\",\"T\",\"EveryTick\")","v":1.1869499999999999},5.3786210401489546E-3,{"$f":"RTD(\"cqg.rtd\",,\"StudyData\", \"Close(\"&$D$12&\") when LocalYear(\"&$D$12&\")=\"&$D$10&\" and localMonth(\"&$D$12&\") =\"&$E$10&\" and LocalDay(\"&$D$12&\")=\"&$F$10&\" and Barix(\"&$D$12&\",reference:=StartOfSession)=\"&A49&\"\", \"Bar\", \"\", \"Close\",\"5\",\"0\",\"PrimaryOnly\",,,\"False\",\"T\",\"EveryTick\")","v":1.1815},1.9929610312513883E-3,null,null,null,""]
[229,"12:05:00",-28,{"$f":" RTD(\"cqg.rtd\",,\"StudyData\", $D$12,  \"Tick\", \"FlatTicks=0\", \"Tick\",\"D\",C50,\"PrimaryOnly\")","v":1.1677500000000001},null,null,null,{"$f":"RTD(\"cqg.rtd\",,\"StudyData\", \"Close(\"&$D$12&\") when LocalYear(\"&$D$12&\")=\"&$D$1&\" and localMonth(\"&$D$12&\") =\"&$E$1&\" and LocalDay(\"&$D$12&\")=\"&$F$1&\" and Barix(\"&$D$12&\",reference:=StartOfSession)=\"&A50&\"\", \"Bar\", \"\", \"Close\",\"5\",\"0\",\"PrimaryOnly\",,,\"False\",\"T\",\"EveryTick\")","v":""},{"$error":"#N/A"},{"$f":"RTD(\"cqg.rtd\",,\"StudyData\", \"Close(\"&$D$12&\") when LocalYear(\"&$D$12&\")=\"&$D$2&\" and localMonth(\"&$D$12&\") =\"&$E$2&\" and LocalDay(\"&$D$12&\")=\"&$F$2&\" and Barix(\"&$D$12&\",reference:=StartOfSession)=\"&A50&\"\", \"Bar\", \"\", \"Close\",\"5\",\"0\",\"PrimaryOnly\",,,\"False\",\"T\",\"EveryTick\")","v":1.1686000000000001},1.1565645748555875E-3,{"$f":"RTD(\"cqg.rtd\",,\"StudyData\", \"Close(\"&$D$12&\") when LocalYear(\"&$D$12&\")=\"&$D$3&\" and localMonth(\"&$D$12&\") =\"&$E$3&\" and LocalDay(\"&$D$12&\")=\"&$F$3&\" and Barix(\"&$D$12&\",reference:=StartOfSession)=\"&A50&\"\", \"Bar\", \"\", \"Close\",\"5\",\"0\",\"PrimaryOnly\",,,\"False\",\"T\",\"EveryTick\")","v":1.1717},-1.1932369186659448E-2,{"$f":"RTD(\"cqg.rtd\",,\"StudyData\", \"Close(\"&$D$12&\") when LocalYear(\"&$D$12&\")=\"&$D$4&\" and localMonth(\"&$D$12&\") =\"&$E$4&\" and LocalDay(\"&$D$12&\")=\"&$F$4&\" and Barix(\"&$D$12&\",reference:=StartOfSession)=\"&A50&\"\", \"Bar\", \"\", \"Close\",\"5\",\"0\",\"PrimaryOnly\",,,\"False\",\"T\",\"EveryTick\")","v":1.1870000000000001},2.8725920919230059E-3,{"$f":"RTD(\"cqg.rtd\",,\"StudyData\", \"Close(\"&$D$12&\") when LocalYear(\"&$D$12&\")=\"&$D$5&\" and localMonth(\"&$D$12&\") =\"&$E$5&\" and LocalDay(\"&$D$12&\")=\"&$F$5&\" and Barix(\"&$D$12&\",reference:=StartOfSession)=\"&A50&\"\", \"Bar\", \"\", \"Close\",\"5\",\"0\",\"PrimaryOnly\",,,\"False\",\"T\",\"EveryTick\")","v":1.1856},-1.6840687100033696E-3,{"$f":"RTD(\"cqg.rtd\",,\"StudyData\", \"Close(\"&$D$12&\") when LocalYear(\"&$D$12&\")=\"&$D$6&\" and localMonth(\"&$D$12&\") =\"&$E$6&\" and LocalDay(\"&$D$12&\")=\"&$F$6&\" and Barix(\"&$D$12&\",reference:=StartOfSession)=\"&A50&\"\", \"Bar\", \"\", \"Close\",\"5\",\"0\",\"PrimaryOnly\",,,\"False\",\"T\",\"EveryTick\")","v":1.1876},1.3490725126475934E-3,{"$f":"RTD(\"cqg.rtd\",,\"StudyData\", \"Close(\"&$D$12&\") when LocalYear(\"&$D$12&\")=\"&$D$7&\" and localMonth(\"&$D$12&\") =\"&$E$7&\" and LocalDay(\"&$D$12&\")=\"&$F$7&\" and Barix(\"&$D$12&\",reference:=StartOfSession)=\"&A50&\"\", \"Bar\", \"\", \"Close\",\"5\",\"0\",\"PrimaryOnly\",,,\"False\",\"T\",\"EveryTick\")","v":1.1861999999999999},-3.0257186081694802E-3,{"$f":"RTD(\"cqg.rtd\",,\"StudyData\", \"Close(\"&$D$12&\") when LocalYear(\"&$D$12&\")=\"&$D$8&\" and localMonth(\"&$D$12&\") =\"&$E$8&\" and LocalDay(\"&$D$12&\")=\"&$F$8&\" and Barix(\"&$D$12&\",reference:=StartOfSession)=\"&A50&\"\", \"Bar\", \"\", \"Close\",\"5\",\"0\",\"PrimaryOnly\",,,\"False\",\"T\",\"EveryTick\")","v":1.19035},3.6254795329033096E-3,{"$f":"RTD(\"cqg.rtd\",,\"StudyData\", \"Close(\"&$D$12&\") when LocalYear(\"&$D$12&\")=\"&$D$9&\" and localMonth(\"&$D$12&\") =\"&$E$9&\" and LocalDay(\"&$D$12&\")=\"&$F$9&\" and Barix(\"&$D$12&\",reference:=StartOfSession)=\"&A50&\"\", \"Bar\", \"\", \"Close\",\"5\",\"0\",\"PrimaryOnly\",,,\"False\",\"T\",\"EveryTick\")","v":1.1871},5.5056750804675161E-3,{"$f":"RTD(\"cqg.rtd\",,\"StudyData\", \"Close(\"&$D$12&\") when LocalYear(\"&$D$12&\")=\"&$D$10&\" and localMonth(\"&$D$12&\") =\"&$E$10&\" and LocalDay(\"&$D$12&\")=\"&$F$10&\" and Barix(\"&$D$12&\",reference:=StartOfSession)=\"&A50&\"\", \"Bar\", \"\", \"Close\",\"5\",\"0\",\"PrimaryOnly\",,,\"False\",\"T\",\"EveryTick\")","v":1.18215},2.5442055718102987E-3,null,null,null,""]
[230,"12:10:00",-27,{"$f":" RTD(\"cqg.rtd\",,\"StudyData\", $D$12,  \"Tick\", \"FlatTicks=0\", \"Tick\",\"D\",C51,\"PrimaryOnly\")","v":1.1677},null,null,null,{"$f":"RTD(\"cqg.rtd\",,\"StudyData\", \"Close(\"&$D$12&\") when LocalYear(\"&$D$12&\")=\"&$D$1&\" and localMonth(\"&$D$12&\") =\"&$E$1&\" and LocalDay(\"&$D$12&\")=\"&$F$1&\" and Barix(\"&$D$12&\",reference:=StartOfSession)=\"&A51&\"\", \"Bar\", \"\", \"Close\",\"5\",\"0\",\"PrimaryOnly\",,,\"False\",\"T\",\"EveryTick\")","v":""},{"$error":"#N/A"},{"$f":"RTD(\"cqg.rtd\",,\"StudyData\", \"Close(\"&$D$12&\") when LocalYear(\"&$D$12&\")=\"&$D$2&\" and localMonth(\"&$D$12&\") =\"&$E$2&\" and LocalDay(\"&$D$12&\")=\"&$F$2&\" and Barix(\"&$D$12&\",reference:=StartOfSession)=\"&A51&\"\", \"Bar\", \"\", \"Close\",\"5\",\"0\",\"PrimaryOnly\",,,\"False\",\"T\",\"EveryTick\")","v":1.16855},1.1137288498608516E-3,{"$f":"RTD(\"cqg.rtd\",,\"StudyData\", \"Close(\"&$D$12&\") when LocalYear(\"&$D$12&\")=\"&$D$3&\" and localMonth(\"&$D$12&\") =\"&$E$3&\" and LocalDay(\"&$D$12&\")=\"&$F$3&\" and Barix(\"&$D$12&\",reference:=StartOfSession)=\"&A51&\"\", \"Bar\", \"\", \"Close\",\"5\",\"0\",\"PrimaryOnly\",,,\"False\",\"T\",\"EveryTick\")","v":1.1716},-1.201669688409166E-2,{"$f":"RTD(\"cqg.rtd\",,\"StudyData\", \"Close(\"&$D$12&\") when LocalYear(\"&$D$12&\")=\"&$D$4&\" and localMonth(\"&$D$12&\") =\"&$E$4&\" and LocalDay(\"&$D$12&\")=\"&$F$4&\" and Barix(\"&$D$12&\",reference:=StartOfSession)=\"&A51&\"\", \"Bar\", \"\", \"Close\",\"5\",\"0\",\"PrimaryOnly\",,,\"False\",\"T\",\"EveryTick\")","v":1.1871499999999999},2.9993240959783223E-3,{"$f":"RTD(\"cqg.rtd\",,\"StudyData\", \"Close(\"&$D$12&\") when LocalYear(\"&$D$12&\")=\"&$D$5&\" and localMonth(\"&$D$12&\") =\"&$E$5&\" and LocalDay(\"&$D$12&\")=\"&$F$5&\" and Barix(\"&$D$12&\",reference:=StartOfSession)=\"&A51&\"\", \"Bar\", \"\", \"Close\",\"5\",\"0\",\"PrimaryOnly\",,,\"False\",\"T\",\"EveryTick\")","v":1.1838},-3.1997305490064211E-3,{"$f":"RTD(\"cqg.rtd\",,\"StudyData\", \"Close(\"&$D$12&\") when LocalYear(\"&$D$12&\")=\"&$D$6&\" and localMonth(\"&$D$12&\") =\"&$E$6&\" and LocalDay(\"&$D$12&\")=\"&$F$6&\" and Barix(\"&$D$12&\",reference:=StartOfSession)=\"&A51&\"\", \"Bar\", \"\", \"Close\",\"5\",\"0\",\"PrimaryOnly\",,,\"False\",\"T\",\"EveryTick\")","v":1.1877},1.4333895446880564E-3,{"$f":"RTD(\"cqg.rtd\",,\"StudyData\", \"Close(\"&$D$12&\") when LocalYear(\"&$D$12&\")=\"&$D$7&\" and localMonth(\"&$D$12&\") =\"&$E$7&\" and LocalDay(\"&$D$12&\")=\"&$F$7&\" and Barix(\"&$D$12&\",reference:=StartOfSession)=\"&A51&\"\", \"Bar\", \"\", \"Close\",\"5\",\"0\",\"PrimaryOnly\",,,\"False\",\"T\",\"EveryTick\")","v":1.1862999999999999},-2.9416708690536719E-3,{"$f":"RTD(\"cqg.rtd\",,\"StudyData\", \"Close(\"&$D$12&\") when LocalYear(\"&$D$12&\")=\"&$D$8&\" and localMonth(\"&$D$12&\") =\"&$E$8&\" and LocalDay(\"&$D$12&\")=\"&$F$8&\" and Barix(\"&$D$12&\",reference:=StartOfSession)=\"&A51&\"\", \"Bar\", \"\", \"Close\",\"5\",\"0\",\"PrimaryOnly\",,,\"False\",\"T\",\"EveryTick\")","v":1.1909000000000001},4.0892036592049411E-3,{"$f":"RTD(\"cqg.rtd\",,\"StudyData\", \"Close(\"&$D$12&\") when LocalYear(\"&$D$12&\")=\"&$D$9&\" and localMonth(\"&$D$12&\") =\"&$E$9&\" and LocalDay(\"&$D$12&\")=\"&$F$9&\" and Barix(\"&$D$12&\",reference:=StartOfSession)=\"&A51&\"\", \"Bar\", \"\", \"Close\",\"5\",\"0\",\"PrimaryOnly\",,,\"False\",\"T\",\"EveryTick\")","v":1.1869499999999999},5.3786210401489546E-3,{"$f":"RTD(\"cqg.rtd\",,\"StudyData\", \"Close(\"&$D$12&\") when LocalYear(\"&$D$12&\")=\"&$D$10&\" and localMonth(\"&$D$12&\") =\"&$E$10&\" and LocalDay(\"&$D$12&\")=\"&$F$10&\" and Barix(\"&$D$12&\",reference:=StartOfSession)=\"&A51&\"\", \"Bar\", \"\", \"Close\",\"5\",\"0\",\"PrimaryOnly\",,,\"False\",\"T\",\"EveryTick\")","v":1.1819999999999999},2.4169952932197084E-3,null,null,null,""]
[231,"12:15:00",-26,{"$f":" RTD(\"cqg.rtd\",,\"StudyData\", $D$12,  \"Tick\", \"FlatTicks=0\", \"Tick\",\"D\",C52,\"PrimaryOnly\")","v":1.1677500000000001},null,null,null,{"$f":"RTD(\"cqg.rtd\",,\"StudyData\", \"Close(\"&$D$12&\") when LocalYear(\"&$D$12&\")=\"&$D$1&\" and localMonth(\"&$D$12&\") =\"&$E$1&\" and LocalDay(\"&$D$12&\")=\"&$F$1&\" and Barix(\"&$D$12&\",reference:=StartOfSession)=\"&A52&\"\", \"Bar\", \"\", \"Close\",\"5\",\"0\",\"PrimaryOnly\",,,\"False\",\"T\",\"EveryTick\")","v":""},{"$error":"#N/A"},{"$f":"RTD(\"cqg.rtd\",,\"StudyData\", \"Close(\"&$D$12&\") when LocalYear(\"&$D$12&\")=\"&$D$2&\" and localMonth(\"&$D$12&\") =\"&$E$2&\" and LocalDay(\"&$D$12&\")=\"&$F$2&\" and Barix(\"&$D$12&\",reference:=StartOfSession)=\"&A52&\"\", \"Bar\", \"\", \"Close\",\"5\",\"0\",\"PrimaryOnly\",,,\"False\",\"T\",\"EveryTick\")","v":1.1681999999999999},8.1387877489827074E-4,{"$f":"RTD(\"cqg.rtd\",,\"StudyData\", \"Close(\"&$D$12&\") when LocalYear(\"&$D$12&\")=\"&$D$3&\" and localMonth(\"&$D$12&\") =\"&$E$3&\" and LocalDay(\"&$D$12&\")=\"&$F$3&\" and Barix(\"&$D$12&\",reference:=StartOfSession)=\"&A52&\"\", \"Bar\", \"\", \"Close\",\"5\",\"0\",\"PrimaryOnly\",,,\"False\",\"T\",\"EveryTick\")","v":1.1710499999999999},-1.2480499219968921E-2,{"$f":"RTD(\"cqg.rtd\",,\"StudyData\", \"Close(\"&$D$12&\") when LocalYear(\"&$D$12&\")=\"&$D$4&\" and localMonth(\"&$D$12&\") =\"&$E$4&\" and LocalDay(\"&$D$12&\")=\"&$F$4&\" and Barix(\"&$D$12&\",reference:=StartOfSession)=\"&A52&\"\", \"Bar\", \"\", \"Close\",\"5\",\"0\",\"PrimaryOnly\",,,\"False\",\"T\",\"EveryTick\")","v":1.1870000000000001},2.8725920919230059E-3,{"$f":"RTD(\"cqg.rtd\",,\"StudyData\", \"Close(\"&$D$12&\") when LocalYear(\"&$D$12&\")=\"&$D$5&\" and localMonth(\"&$D$12&\") =\"&$E$5&\" and LocalDay(\"&$D$12&\")=\"&$F$5&\" and Barix(\"&$D$12&\",reference:=StartOfSession)=\"&A52&\"\", \"Bar\", \"\", \"Close\",\"5\",\"0\",\"PrimaryOnly\",,,\"False\",\"T\",\"EveryTick\")","v":1.1830499999999999},-3.8312563152577079E-3,{"$f":"RTD(\"cqg.rtd\",,\"StudyData\", \"Close(\"&$D$12&\") when LocalYear(\"&$D$12&\")=\"&$D$6&\" and localMonth(\"&$D$12&\") =\"&$E$6&\" and LocalDay(\"&$D$12&\")=\"&$F$6&\" and Barix(\"&$D$12&\",reference:=StartOfSession)=\"&A52&\"\", \"Bar\", \"\", \"Close\",\"5\",\"0\",\"PrimaryOnly\",,,\"False\",\"T\",\"EveryTick\")","v":1.1874},1.1804384485666678E-3,{"$f":"RTD(\"cqg.rtd\",,\"StudyData\", \"Close(\"&$D$12&\") when LocalYear(\"&$D$12&\")=\"&$D$7&\" and localMonth(\"&$D$12&\") =\"&$E$7&\" and LocalDay(\"&$D$12&\")=\"&$F$7&\" and Barix(\"&$D$12&\",reference:=StartOfSession)=\"&A52&\"\", \"Bar\", \"\", \"Close\",\"5\",\"0\",\"PrimaryOnly\",,,\"False\",\"T\",\"EveryTick\")","v":1.18625},-2.9836947386114826E-3,{"$f":"RTD(\"cqg.rtd\",,\"StudyData\", \"Close(\"&$D$12&\") when LocalYear(\"&$D$12&\")=\"&$D$8&\" and localMonth(\"&$D$12&\") =\"&$E$8&\" and LocalDay(\"&$D$12&\")=\"&$F$8&\" and Barix(\"&$D$12&\",reference:=StartOfSession)=\"&A52&\"\", \"Bar\", \"\", \"Close\",\"5\",\"0\",\"PrimaryOnly\",,,\"False\",\"T\",\"EveryTick\")","v":1.1906000000000001},3.8362632266768296E-3,{"$f":"RTD(\"cqg.rtd\",,\"StudyData\", \"Close(\"&$D$12&\") when LocalYear(\"&$D$12&\")=\"&$D$9&\" and localMonth(\"&$D$12&\") =\"&$E$9&\" and LocalDay(\"&$D$12&\")=\"&$F$9&\" and Barix(\"&$D$12&\",reference:=StartOfSession)=\"&A52&\"\", \"Bar\", \"\", \"Close\",\"5\",\"0\",\"PrimaryOnly\",,,\"False\",\"T\",\"EveryTick\")","v":1.1869000000000001},5.3362696933762256E-3,{"$f":"RTD(\"cqg.rtd\",,\"StudyData\", \"Close(\"&$D$12&\") when LocalYear(\"&$D$12&\")=\"&$D$10&\" and localMonth(\"&$D$12&\") =\"&$E$10&\" and LocalDay(\"&$D$12&\")=\"&$F$10&\" and Barix(\"&$D$12&\",reference:=StartOfSession)=\"&A52&\"\", \"Bar\", \"\", \"Close\",\"5\",\"0\",\"PrimaryOnly\",,,\"False\",\"T\",\"EveryTick\")","v":1.1820999999999999},2.5018021456133725E-3,null,null,null,""]
[232,"12:20:00",-25,{"$f":" RTD(\"cqg.rtd\",,\"StudyData\", $D$12,  \"Tick\", \"FlatTicks=0\", \"Tick\",\"D\",C53,\"PrimaryOnly\")","v":1.1677999999999999},null,null,null,{"$f":"RTD(\"cqg.rtd\",,\"StudyData\", \"Close(\"&$D$12&\") when LocalYear(\"&$D$12&\")=\"&$D$1&\" and localMonth(\"&$D$12&\") =\"&$E$1&\" and LocalDay(\"&$D$12&\")=\"&$F$1&\" and Barix(\"&$D$12&\",reference:=StartOfSession)=\"&A53&\"\", \"Bar\", \"\", \"Close\",\"5\",\"0\",\"PrimaryOnly\",,,\"False\",\"T\",\"EveryTick\")","v":""},{"$error":"#N/A"},{"$f":"RTD(\"cqg.rtd\",,\"StudyData\", \"Close(\"&$D$12&\") when LocalYear(\"&$D$12&\")=\"&$D$2&\" and localMonth(\"&$D$12&\") =\"&$E$2&\" and LocalDay(\"&$D$12&\")=\"&$F$2&\" and Barix(\"&$D$12&\",reference:=StartOfSession)=\"&A53&\"\", \"Bar\", \"\", \"Close\",\"5\",\"0\",\"PrimaryOnly\",,,\"False\",\"T\",\"EveryTick\")","v":1.1679999999999999},6.4253587491970739E-4,{"$f":"RTD(\"cqg.rtd\",,\"StudyData\", \"Close(\"&$D$12&\") when LocalYear(\"&$D$12&\")=\"&$D$3&\" and localMonth(\"&$D$12&\") =\"&$E$3&\" and LocalDay(\"&$D$12&\")=\"&$F$3&\" and Barix(\"&$D$12&\",reference:=StartOfSession)=\"&A53&\"\", \"Bar\", \"\", \"Close\",\"5\",\"0\",\"PrimaryOnly\",,,\"False\",\"T\",\"EveryTick\")","v":1.1711499999999999},-1.2396171522536709E-2,{"$f":"RTD(\"cqg.rtd\",,\"StudyData\", \"Close(\"&$D$12&\") when LocalYear(\"&$D$12&\")=\"&$D$4&\" and localMonth(\"&$D$12&\") =\"&$E$4&\" and LocalDay(\"&$D$12&\")=\"&$F$4&\" and Barix(\"&$D$12&\",reference:=StartOfSession)=\"&A53&\"\", \"Bar\", \"\", \"Close\",\"5\",\"0\",\"PrimaryOnly\",,,\"False\",\"T\",\"EveryTick\")","v":1.1870000000000001},2.8725920919230059E-3,{"$f":"RTD(\"cqg.rtd\",,\"StudyData\", \"Close(\"&$D$12&\") when LocalYear(\"&$D$12&\")=\"&$D$5&\" and localMonth(\"&$D$12&\") =\"&$E$5&\" and LocalDay(\"&$D$12&\")=\"&$F$5&\" and Barix(\"&$D$12&\",reference:=StartOfSession)=\"&A53&\"\", \"Bar\", \"\", \"Close\",\"5\",\"0\",\"PrimaryOnly\",,,\"False\",\"T\",\"EveryTick\")","v":1.1838500000000001},-3.1576288312562479E-3,{"$f":"RTD(\"cqg.rtd\",,\"StudyData\", \"Close(\"&$D$12&\") when LocalYear(\"&$D$12&\")=\"&$D$6&\" and localMonth(\"&$D$12&\") =\"&$E$6&\" and LocalDay(\"&$D$12&\")=\"&$F$6&\" and Barix(\"&$D$12&\",reference:=StartOfSession)=\"&A53&\"\", \"Bar\", \"\", \"Close\",\"5\",\"0\",\"PrimaryOnly\",,,\"False\",\"T\",\"EveryTick\")","v":1.1874},1.1804384485666678E-3,{"$f":"RTD(\"cqg.rtd\",,\"StudyData\", \"Close(\"&$D$12&\") when LocalYear(\"&$D$12&\")=\"&$D$7&\" and localMonth(\"&$D$12&\") =\"&$E$7&\" and LocalDay(\"&$D$12&\")=\"&$F$7&\" and Barix(\"&$D$12&\",reference:=StartOfSession)=\"&A53&\"\", \"Bar\", \"\", \"Close\",\"5\",\"0\",\"PrimaryOnly\",,,\"False\",\"T\",\"EveryTick\")","v":1.18635},-2.8996469994956742E-3,{"$f":"RTD(\"cqg.rtd\",,\"StudyData\", \"Close(\"&$D$12&\") when LocalYear(\"&$D$12&\")=\"&$D$8&\" and localMonth(\"&$D$12&\") =\"&$E$8&\" and LocalDay(\"&$D$12&\")=\"&$F$8&\" and Barix(\"&$D$12&\",reference:=StartOfSession)=\"&A53&\"\", \"Bar\", \"\", \"Close\",\"5\",\"0\",\"PrimaryOnly\",,,\"False\",\"T\",\"EveryTick\")","v":1.1904999999999999},3.7519497491672717E-3,{"$f":"RTD(\"cqg.rtd\",,\"StudyData\", \"Close(\"&$D$12&\") when LocalYear(\"&$D$12&\")=\"&$D$9&\" and localMonth(\"&$D$12&\") =\"&$E$9&\" and LocalDay(\"&$D$12&\")=\"&$F$9&\" and Barix(\"&$D$12&\",reference:=StartOfSession)=\"&A53&\"\", \"Bar\", \"\", \"Close\",\"5\",\"0\",\"PrimaryOnly\",,,\"False\",\"T\",\"EveryTick\")","v":1.1868000000000001},5.2515669998305804E-3,{"$f":"RTD(\"cqg.rtd\",,\"StudyData\", \"Close(\"&$D$12&\") when LocalYear(\"&$D$12&\")=\"&$D$10&\" and localMonth(\"&$D$12&\") =\"&$E$10&\" and LocalDay(\"&$D$12&\")=\"&$F$10&\" and Barix(\"&$D$12&\",reference:=StartOfSession)=\"&A53&\"\", \"Bar\", \"\", \"Close\",\"5\",\"0\",\"PrimaryOnly\",,,\"False\",\"T\",\"EveryTick\")","v":1.18215},2.5442055718102987E-3,null,null,null,""]
[233,"12:25:00",-24,{"$f":" RTD(\"cqg.rtd\",,\"StudyData\", $D$12,  \"Tick\", \"FlatTicks=0\", \"Tick\",\"D\",C54,\"PrimaryOnly\")","v":1.1678500000000001},null,null,null,{"$f":"RTD(\"cqg.rtd\",,\"StudyData\", \"Close(\"&$D$12&\") when LocalYear(\"&$D$12&\")=\"&$D$1&\" and localMonth(\"&$D$12&\") =\"&$E$1&\" and LocalDay(\"&$D$12&\")=\"&$F$1&\" and Barix(\"&$D$12&\",reference:=StartOfSession)=\"&A54&\"\", \"Bar\", \"\", \"Close\",\"5\",\"0\",\"PrimaryOnly\",,,\"False\",\"T\",\"EveryTick\")","v":""},{"$error":"#N/A"},{"$f":"RTD(\"cqg.rtd\",,\"StudyData\", \"Close(\"&$D$12&\") when LocalYear(\"&$D$12&\")=\"&$D$2&\" and localMonth(\"&$D$12&\") =\"&$E$2&\" and LocalDay(\"&$D$12&\")=\"&$F$2&\" and Barix(\"&$D$12&\",reference:=StartOfSession)=\"&A54&\"\", \"Bar\", \"\", \"Close\",\"5\",\"0\",\"PrimaryOnly\",,,\"False\",\"T\",\"EveryTick\")","v":1.1682999999999999},8.9955022488755231E-4,{"$f":"RTD(\"cqg.rtd\",,\"StudyData\", \"Close(\"&$D$12&\") when LocalYear(\"&$D$12&\")=\"&$D$3&\" and localMonth(\"&$D$12&\") =\"&$E$3&\" and LocalDay(\"&$D$12&\")=\"&$F$3&\" and Barix(\"&$D$12&\",reference:=StartOfSession)=\"&A54&\"\", \"Bar\", \"\", \"Close\",\"5\",\"0\",\"PrimaryOnly\",,,\"False\",\"T\",\"EveryTick\")","v":1.1708000000000001},-1.2691318463549359E-2,{"$f":"RTD(\"cqg.rtd\",,\"StudyData\", \"Close(\"&$D$12&\") when LocalYear(\"&$D$12&\")=\"&$D$4&\" and localMonth(\"&$D$12&\") =\"&$E$4&\" and LocalDay(\"&$D$12&\")=\"&$F$4&\" and Barix(\"&$D$12&\",reference:=StartOfSession)=\"&A54&\"\", \"Bar\", \"\", \"Close\",\"5\",\"0\",\"PrimaryOnly\",,,\"False\",\"T\",\"EveryTick\")","v":1.1870499999999999},2.9148360932747153E-3,{"$f":"RTD(\"cqg.rtd\",,\"StudyData\", \"Close(\"&$D$12&\") when LocalYear(\"&$D$12&\")=\"&$D$5&\" and localMonth(\"&$D$12&\") =\"&$E$5&\" and LocalDay(\"&$D$12&\")=\"&$F$5&\" and Barix(\"&$D$12&\",reference:=StartOfSession)=\"&A54&\"\", \"Bar\", \"\", \"Close\",\"5\",\"0\",\"PrimaryOnly\",,,\"False\",\"T\",\"EveryTick\")","v":1.1839999999999999},-3.0313236780061029E-3,{"$f":"RTD(\"cqg.rtd\",,\"StudyData\", \"Close(\"&$D$12&\") when LocalYear(\"&$D$12&\")=\"&$D$6&\" and localMonth(\"&$D$12&\") =\"&$E$6&\" and LocalDay(\"&$D$12&\")=\"&$F$6&\" and Barix(\"&$D$12&\",reference:=StartOfSession)=\"&A54&\"\", \"Bar\", \"\", \"Close\",\"5\",\"0\",\"PrimaryOnly\",,,\"False\",\"T\",\"EveryTick\")","v":1.1873499999999999},1.1382799325463427E-3,{"$f":"RTD(\"cqg.rtd\",,\"StudyData\", \"Close(\"&$D$12&\") when LocalYear(\"&$D$12&\")=\"&$D$7&\" and localMonth(\"&$D$12&\") =\"&$E$7&\" and LocalDay(\"&$D$12&\")=\"&$F$7&\" and Barix(\"&$D$12&\",reference:=StartOfSession)=\"&A54&\"\", \"Bar\", \"\", \"Close\",\"5\",\"0\",\"PrimaryOnly\",,,\"False\",\"T\",\"EveryTick\")","v":1.1865000000000001},-2.7735753908218683E-3,{"$f":"RTD(\"cqg.rtd\",,\"StudyData\", \"Close(\"&$D$12&\") when LocalYear(\"&$D$12&\")=\"&$D$8&\" and localMonth(\"&$D$12&\") =\"&$E$8&\" and LocalDay(\"&$D$12&\")=\"&$F$8&\" and Barix(\"&$D$12&\",reference:=StartOfSession)=\"&A54&\"\", \"Bar\", \"\", \"Close\",\"5\",\"0\",\"PrimaryOnly\",,,\"False\",\"T\",\"EveryTick\")","v":1.19055},3.7941064879220506E-3,{"$f":"RTD(\"cqg.rtd\",,\"StudyData\", \"Close(\"&$D$12&\") when LocalYear(\"&$D$12&\")=\"&$D$9&\" and localMonth(\"&$D$12&\") =\"&$E$9&\" and LocalDay(\"&$D$12&\")=\"&$F$9&\" and Barix(\"&$D$12&\",reference:=StartOfSession)=\"&A54&\"\", \"Bar\", \"\", \"Close\",\"5\",\"0\",\"PrimaryOnly\",,,\"False\",\"T\",\"EveryTick\")","v":1.18665},5.1245129595120179E-3,{"$f":"RTD(\"cqg.rtd\",,\"StudyData\", \"Close(\"&$D$12&\") when LocalYear(\"&$D$12&\")=\"&$D$10&\" and localMonth(\"&$D$12&\") =\"&$E$10&\" and LocalDay(\"&$D$12&\")=\"&$F$10&\" and Barix(\"&$D$12&\",reference:=StartOfSession)=\"&A54&\"\", \"Bar\", \"\", \"Close\",\"5\",\"0\",\"PrimaryOnly\",,,\"False\",\"T\",\"EveryTick\")","v":1.1816500000000001},2.1201713098419786E-3,null,null,null,""]
[234,"12:30:00",-23,{"$f":" RTD(\"cqg.rtd\",,\"StudyData\", $D$12,  \"Tick\", \"FlatTicks=0\", \"Tick\",\"D\",C55,\"PrimaryOnly\")","v":1.1678999999999999},null,null,null,{"$f":"RTD(\"cqg.rtd\",,\"StudyData\", \"Close(\"&$D$12&\") when LocalYear(\"&$D$12&\")=\"&$D$1&\" and localMonth(\"&$D$12&\") =\"&$E$1&\" and LocalDay(\"&$D$12&\")=\"&$F$1&\" and Barix(\"&$D$12&\",reference:=StartOfSession)=\"&A55&\"\", \"Bar\", \"\", \"Close\",\"5\",\"0\",\"PrimaryOnly\",,,\"False\",\"T\",\"EveryTick\")","v":""},{"$error":"#N/A"},{"$f":"RTD(\"cqg.rtd\",,\"StudyData\", \"Close(\"&$D$12&\") when LocalYear(\"&$D$12&\")=\"&$D$2&\" and localMonth(\"&$D$12&\") =\"&$E$2&\" and LocalDay(\"&$D$12&\")=\"&$F$2&\" and Barix(\"&$D$12&\",reference:=StartOfSession)=\"&A55&\"\", \"Bar\", \"\", \"Close\",\"5\",\"0\",\"PrimaryOnly\",,,\"False\",\"T\",\"EveryTick\")","v":1.16855},1.1137288498608516E-3,{"$f":"RTD(\"cqg.rtd\",,\"StudyData\", \"Close(\"&$D$12&\") when LocalYear(\"&$D$12&\")=\"&$D$3&\" and localMonth(\"&$D$12&\") =\"&$E$3&\" and LocalDay(\"&$D$12&\")=\"&$F$3&\" and Barix(\"&$D$12&\",reference:=StartOfSession)=\"&A55&\"\", \"Bar\", \"\", \"Close\",\"5\",\"0\",\"PrimaryOnly\",,,\"False\",\"T\",\"EveryTick\")","v":1.1697},-1.3618923135303881E-2,{"$f":"RTD(\"cqg.rtd\",,\"StudyData\", \"Close(\"&$D$12&\") when LocalYear(\"&$D$12&\")=\"&$D$4&\" and localMonth(\"&$D$12&\") =\"&$E$4&\" and LocalDay(\"&$D$12&\")=\"&$F$4&\" and Barix(\"&$D$12&\",reference:=StartOfSession)=\"&A55&\"\", \"Bar\", \"\", \"Close\",\"5\",\"0\",\"PrimaryOnly\",,,\"False\",\"T\",\"EveryTick\")","v":1.1873},3.1260561000338262E-3,{"$f":"RTD(\"cqg.rtd\",,\"StudyData\", \"Close(\"&$D$12&\") when LocalYear(\"&$D$12&\")=\"&$D$5&\" and localMonth(\"&$D$12&\") =\"&$E$5&\" and LocalDay(\"&$D$12&\")=\"&$F$5&\" and Barix(\"&$D$12&\",reference:=StartOfSession)=\"&A55&\"\", \"Bar\", \"\", \"Close\",\"5\",\"0\",\"PrimaryOnly\",,,\"False\",\"T\",\"EveryTick\")","v":1.1837500000000001},-3.2418322667564069E-3,{"$f":"RTD(\"cqg.rtd\",,\"StudyData\", \"Close(\"&$D$12&\") when LocalYear(\"&$D$12&\")=\"&$D$6&\" and localMonth(\"&$D$12&\") =\"&$E$6&\" and LocalDay(\"&$D$12&\")=\"&$F$6&\" and Barix(\"&$D$12&\",reference:=StartOfSession)=\"&A55&\"\", \"Bar\", \"\", \"Close\",\"5\",\"0\",\"PrimaryOnly\",,,\"False\",\"T\",\"EveryTick\")","v":1.1873499999999999},1.1382799325463427E-3,{"$f":"RTD(\"cqg.rtd\",,\"StudyData\", \"Close(\"&$D$12&\") when LocalYear(\"&$D$12&\")=\"&$D$7&\" and localMonth(\"&$D$12&\") =\"&$E$7&\" and LocalDay(\"&$D$12&\")=\"&$F$7&\" and Barix(\"&$D$12&\",reference:=StartOfSession)=\"&A55&\"\", \"Bar\", \"\", \"Close\",\"5\",\"0\",\"PrimaryOnly\",,,\"False\",\"T\",\"EveryTick\")","v":1.1859500000000001},-3.2358379559589085E-3,{"$f":"RTD(\"cqg.rtd\",,\"StudyData\", \"Close(\"&$D$12&\") when LocalYear(\"&$D$12&\")=\"&$D$8&\" and localMonth(\"&$D$12&\") =\"&$E$8&\" and LocalDay(\"&$D$12&\")=\"&$F$8&\" and Barix(\"&$D$12&\",reference:=StartOfSession)=\"&A55&\"\", \"Bar\", \"\", \"Close\",\"5\",\"0\",\"PrimaryOnly\",,,\"False\",\"T\",\"EveryTick\")","v":1.1912},4.3421440917330535E-3,{"$f":"RTD(\"cqg.rtd\",,\"StudyData\", \"Close(\"&$D$12&\") when LocalYear(\"&$D$12&\")=\"&$D$9&\" and localMonth(\"&$D$12&\") =\"&$E$9&\" and LocalDay(\"&$D$12&\")=\"&$F$9&\" and Barix(\"&$D$12&\",reference:=StartOfSession)=\"&A55&\"\", \"Bar\", \"\", \"Close\",\"5\",\"0\",\"PrimaryOnly\",,,\"False\",\"T\",\"EveryTick\")","v":1.1866000000000001},5.082161612739289E-3,{"$f":"RTD(\"cqg.rtd\",,\"StudyData\", \"Close(\"&$D$12&\") when LocalYear(\"&$D$12&\")=\"&$D$10&\" and localMonth(\"&$D$12&\") =\"&$E$10&\" and LocalDay(\"&$D$12&\")=\"&$F$10&\" and Barix(\"&$D$12&\",reference:=StartOfSession)=\"&A55&\"\", \"Bar\", \"\", \"Close\",\"5\",\"0\",\"PrimaryOnly\",,,\"False\",\"T\",\"EveryTick\")","v":1.1816500000000001},2.1201713098419786E-3,null,null,null,""]
[235,"12:35:00",-22,{"$f":" RTD(\"cqg.rtd\",,\"StudyData\", $D$12,  \"Tick\", \"FlatTicks=0\", \"Tick\",\"D\",C56,\"PrimaryOnly\")","v":1.16795},null,null,null,{"$f":"RTD(\"cqg.rtd\",,\"StudyData\", \"Close(\"&$D$12&\") when LocalYear(\"&$D$12&\")=\"&$D$1&\" and localMonth(\"&$D$12&\") =\"&$E$1&\" and LocalDay(\"&$D$12&\")=\"&$F$1&\" and Barix(\"&$D$12&\",reference:=StartOfSession)=\"&A56&\"\", \"Bar\", \"\", \"Close\",\"5\",\"0\",\"PrimaryOnly\",,,\"False\",\"T\",\"EveryTick\")","v":""},{"$error":"#N/A"},{"$f":"RTD(\"cqg.rtd\",,\"StudyData\", \"Close(\"&$D$12&\") when LocalYear(\"&$D$12&\")=\"&$D$2&\" and localMonth(\"&$D$12&\") =\"&$E$2&\" and LocalDay(\"&$D$12&\")=\"&$F$2&\" and Barix(\"&$D$12&\",reference:=StartOfSession)=\"&A56&\"\", \"Bar\", \"\", \"Close\",\"5\",\"0\",\"PrimaryOnly\",,,\"False\",\"T\",\"EveryTick\")","v":1.1687000000000001},1.2422360248448691E-3,{"$f":"RTD(\"cqg.rtd\",,\"StudyData\", \"Close(\"&$D$12&\") when LocalYear(\"&$D$12&\")=\"&$D$3&\" and localMonth(\"&$D$12&\") =\"&$E$3&\" and LocalDay(\"&$D$12&\")=\"&$F$3&\" and Barix(\"&$D$12&\",reference:=StartOfSession)=\"&A56&\"\", \"Bar\", \"\", \"Close\",\"5\",\"0\",\"PrimaryOnly\",,,\"False\",\"T\",\"EveryTick\")","v":1.1692},-1.4040561622464942E-2,{"$f":"RTD(\"cqg.rtd\",,\"StudyData\", \"Close(\"&$D$12&\") when LocalYear(\"&$D$12&\")=\"&$D$4&\" and localMonth(\"&$D$12&\") =\"&$E$4&\" and LocalDay(\"&$D$12&\")=\"&$F$4&\" and Barix(\"&$D$12&\",reference:=StartOfSession)=\"&A56&\"\", \"Bar\", \"\", \"Close\",\"5\",\"0\",\"PrimaryOnly\",,,\"False\",\"T\",\"EveryTick\")","v":1.1871499999999999},2.9993240959783223E-3,{"$f":"RTD(\"cqg.rtd\",,\"StudyData\", \"Close(\"&$D$12&\") when LocalYear(\"&$D$12&\")=\"&$D$5&\" and localMonth(\"&$D$12&\") =\"&$E$5&\" and LocalDay(\"&$D$12&\")=\"&$F$5&\" and Barix(\"&$D$12&\",reference:=StartOfSession)=\"&A56&\"\", \"Bar\", \"\", \"Close\",\"5\",\"0\",\"PrimaryOnly\",,,\"False\",\"T\",\"EveryTick\")","v":1.18405},-2.9892219602559297E-3,{"$f":"RTD(\"cqg.rtd\",,\"StudyData\", \"Close(\"&$D$12&\") when LocalYear(\"&$D$12&\")=\"&$D$6&\" and localMonth(\"&$D$12&\") =\"&$E$6&\" and LocalDay(\"&$D$12&\")=\"&$F$6&\" and Barix(\"&$D$12&\",reference:=StartOfSession)=\"&A56&\"\", \"Bar\", \"\", \"Close\",\"5\",\"0\",\"PrimaryOnly\",,,\"False\",\"T\",\"EveryTick\")","v":1.1873},1.0961214165262048E-3,{"$f":"RTD(\"cqg.rtd\",,\"StudyData\", \"Close(\"&$D$12&\") when LocalYear(\"&$D$12&\")=\"&$D$7&\" and localMonth(\"&$D$12&\") =\"&$E$7&\" and LocalDay(\"&$D$12&\")=\"&$F$7&\" and Barix(\"&$D$12&\",reference:=StartOfSession)=\"&A56&\"\", \"Bar\", \"\", \"Close\",\"5\",\"0\",\"PrimaryOnly\",,,\"False\",\"T\",\"EveryTick\")","v":1.1858},-3.3619095646327144E-3,{"$f":"RTD(\"cqg.rtd\",,\"StudyData\", \"Close(\"&$D$12&\") when LocalYear(\"&$D$12&\")=\"&$D$8&\" and localMonth(\"&$D$12&\") =\"&$E$8&\" and LocalDay(\"&$D$12&\")=\"&$F$8&\" and Barix(\"&$D$12&\",reference:=StartOfSession)=\"&A56&\"\", \"Bar\", \"\", \"Close\",\"5\",\"0\",\"PrimaryOnly\",,,\"False\",\"T\",\"EveryTick\")","v":1.1897},3.0774419290923072E-3,{"$f":"RTD(\"cqg.rtd\",,\"StudyData\", \"Close(\"&$D$12&\") when LocalYear(\"&$D$12&\")=\"&$D$9&\" and localMonth(\"&$D$12&\") =\"&$E$9&\" and LocalDay(\"&$D$12&\")=\"&$F$9&\" and Barix(\"&$D$12&\",reference:=StartOfSession)=\"&A56&\"\", \"Bar\", \"\", \"Close\",\"5\",\"0\",\"PrimaryOnly\",,,\"False\",\"T\",\"EveryTick\")","v":1.1863999999999999},4.9127562256478102E-3,{"$f":"RTD(\"cqg.rtd\",,\"StudyData\", \"Close(\"&$D$12&\") when LocalYear(\"&$D$12&\")=\"&$D$10&\" and localMonth(\"&$D$12&\") =\"&$E$10&\" and LocalDay(\"&$D$12&\")=\"&$F$10&\" and Barix(\"&$D$12&\",reference:=StartOfSession)=\"&A56&\"\", \"Bar\", \"\", \"Close\",\"5\",\"0\",\"PrimaryOnly\",,,\"False\",\"T\",\"EveryTick\")","v":1.1817},2.1625747360387165E-3,null,null,null,""]
[236,"12:40:00",-21,{"$f":" RTD(\"cqg.rtd\",,\"StudyData\", $D$12,  \"Tick\", \"FlatTicks=0\", \"Tick\",\"D\",C57,\"PrimaryOnly\")","v":1.1679999999999999},null,null,null,{"$f":"RTD(\"cqg.rtd\",,\"StudyData\", \"Close(\"&$D$12&\") when LocalYear(\"&$D$12&\")=\"&$D$1&\" and localMonth(\"&$D$12&\") =\"&$E$1&\" and LocalDay(\"&$D$12&\")=\"&$F$1&\" and Barix(\"&$D$12&\",reference:=StartOfSession)=\"&A57&\"\", \"Bar\", \"\", \"Close\",\"5\",\"0\",\"PrimaryOnly\",,,\"False\",\"T\",\"EveryTick\")","v":""},{"$error":"#N/A"},{"$f":"RTD(\"cqg.rtd\",,\"StudyData\", \"Close(\"&$D$12&\") when LocalYear(\"&$D$12&\")=\"&$D$2&\" and localMonth(\"&$D$12&\") =\"&$E$2&\" and LocalDay(\"&$D$12&\")=\"&$F$2&\" and Barix(\"&$D$12&\",reference:=StartOfSession)=\"&A57&\"\", \"Bar\", \"\", \"Close\",\"5\",\"0\",\"PrimaryOnly\",,,\"False\",\"T\",\"EveryTick\")","v":1.1687000000000001},1.2422360248448691E-3,{"$f":"RTD(\"cqg.rtd\",,\"StudyData\", \"Close(\"&$D$12&\") when LocalYear(\"&$D$12&\")=\"&$D$3&\" and localMonth(\"&$D$12&\") =\"&$E$3&\" and LocalDay(\"&$D$12&\")=\"&$F$3&\" and Barix(\"&$D$12&\",reference:=StartOfSession)=\"&A57&\"\", \"Bar\", \"\", \"Close\",\"5\",\"0\",\"PrimaryOnly\",,,\"False\",\"T\",\"EveryTick\")","v":1.1693},-1.3956233925032731E-2,{"$f":"RTD(\"cqg.rtd\",,\"StudyData\", \"Close(\"&$D$12&\") when LocalYear(\"&$D$12&\")=\"&$D$4&\" and localMonth(\"&$D$12&\") =\"&$E$4&\" and LocalDay(\"&$D$12&\")=\"&$F$4&\" and Barix(\"&$D$12&\",reference:=StartOfSession)=\"&A57&\"\", \"Bar\", \"\", \"Close\",\"5\",\"0\",\"PrimaryOnly\",,,\"False\",\"T\",\"EveryTick\")","v":1.1875500000000001},3.337276106792937E-3,{"$f":"RTD(\"cqg.rtd\",,\"StudyData\", \"Close(\"&$D$12&\") when LocalYear(\"&$D$12&\")=\"&$D$5&\" and localMonth(\"&$D$12&\") =\"&$E$5&\" and LocalDay(\"&$D$12&\")=\"&$F$5&\" and Barix(\"&$D$12&\",reference:=StartOfSession)=\"&A57&\"\", \"Bar\", \"\", \"Close\",\"5\",\"0\",\"PrimaryOnly\",,,\"False\",\"T\",\"EveryTick\")","v":1.1839},-3.115527113506262E-3,{"$f":"RTD(\"cqg.rtd\",,\"StudyData\", \"Close(\"&$D$12&\") when LocalYear(\"&$D$12&\")=\"&$D$6&\" and localMonth(\"&$D$12&\") =\"&$E$6&\" and LocalDay(\"&$D$12&\")=\"&$F$6&\" and Barix(\"&$D$12&\",reference:=StartOfSession)=\"&A57&\"\", \"Bar\", \"\", \"Close\",\"5\",\"0\",\"PrimaryOnly\",,,\"False\",\"T\",\"EveryTick\")","v":1.1875500000000001},1.3069139966274557E-3,{"$f":"RTD(\"cqg.rtd\",,\"StudyData\", \"Close(\"&$D$12&\") when LocalYear(\"&$D$12&\")=\"&$D$7&\" and localMonth(\"&$D$12&\") =\"&$E$7&\" and LocalDay(\"&$D$12&\")=\"&$F$7&\" and Barix(\"&$D$12&\",reference:=StartOfSession)=\"&A57&\"\", \"Bar\", \"\", \"Close\",\"5\",\"0\",\"PrimaryOnly\",,,\"False\",\"T\",\"EveryTick\")","v":1.1858},-3.3619095646327144E-3,{"$f":"RTD(\"cqg.rtd\",,\"StudyData\", \"Close(\"&$D$12&\") when LocalYear(\"&$D$12&\")=\"&$D$8&\" and localMonth(\"&$D$12&\") =\"&$E$8&\" and LocalDay(\"&$D$12&\")=\"&$F$8&\" and Barix(\"&$D$12&\",reference:=StartOfSession)=\"&A57&\"\", \"Bar\", \"\", \"Close\",\"5\",\"0\",\"PrimaryOnly\",,,\"False\",\"T\",\"EveryTick\")","v":1.1897},3.0774419290923072E-3,{"$f":"RTD(\"cqg.rtd\",,\"StudyData\", \"Close(\"&$D$12&\") when LocalYear(\"&$D$12&\")=\"&$D$9&\" and localMonth(\"&$D$12&\") =\"&$E$9&\" and LocalDay(\"&$D$12&\")=\"&$F$9&\" and Barix(\"&$D$12&\",reference:=StartOfSession)=\"&A57&\"\", \"Bar\", \"\", \"Close\",\"5\",\"0\",\"PrimaryOnly\",,,\"False\",\"T\",\"EveryTick\")","v":1.1863999999999999},4.9127562256478102E-3,{"$f":"RTD(\"cqg.rtd\",,\"StudyData\", \"Close(\"&$D$12&\") when LocalYear(\"&$D$12&\")=\"&$D$10&\" and localMonth(\"&$D$12&\") =\"&$E$10&\" and LocalDay(\"&$D$12&\")=\"&$F$10&\" and Barix(\"&$D$12&\",reference:=StartOfSession)=\"&A57&\"\", \"Bar\", \"\", \"Close\",\"5\",\"0\",\"PrimaryOnly\",,,\"False\",\"T\",\"EveryTick\")","v":1.1815},1.9929610312513883E-3,null,null,null,""]
[237,"12:45:00",-20,{"$f":" RTD(\"cqg.rtd\",,\"StudyData\", $D$12,  \"Tick\", \"FlatTicks=0\", \"Tick\",\"D\",C58,\"PrimaryOnly\")","v":1.16805},null,null,null,{"$f":"RTD(\"cqg.rtd\",,\"StudyData\", \"Close(\"&$D$12&\") when LocalYear(\"&$D$12&\")=\"&$D$1&\" and localMonth(\"&$D$12&\") =\"&$E$1&\" and LocalDay(\"&$D$12&\")=\"&$F$1&\" and Barix(\"&$D$12&\",reference:=StartOfSession)=\"&A58&\"\", \"Bar\", \"\", \"Close\",\"5\",\"0\",\"PrimaryOnly\",,,\"False\",\"T\",\"EveryTick\")","v":""},{"$error":"#N/A"},{"$f":"RTD(\"cqg.rtd\",,\"StudyData\", \"Close(\"&$D$12&\") when LocalYear(\"&$D$12&\")=\"&$D$2&\" and localMonth(\"&$D$12&\") =\"&$E$2&\" and LocalDay(\"&$D$12&\")=\"&$F$2&\" and Barix(\"&$D$12&\",reference:=StartOfSession)=\"&A58&\"\", \"Bar\", \"\", \"Close\",\"5\",\"0\",\"PrimaryOnly\",,,\"False\",\"T\",\"EveryTick\")","v":1.1686000000000001},1.1565645748555875E-3,{"$f":"RTD(\"cqg.rtd\",,\"StudyData\", \"Close(\"&$D$12&\") when LocalYear(\"&$D$12&\")=\"&$D$3&\" and localMonth(\"&$D$12&\") =\"&$E$3&\" and LocalDay(\"&$D$12&\")=\"&$F$3&\" and Barix(\"&$D$12&\",reference:=StartOfSession)=\"&A58&\"\", \"Bar\", \"\", \"Close\",\"5\",\"0\",\"PrimaryOnly\",,,\"False\",\"T\",\"EveryTick\")","v":1.1684000000000001},-1.4715183201922642E-2,{"$f":"RTD(\"cqg.rtd\",,\"StudyData\", \"Close(\"&$D$12&\") when LocalYear(\"&$D$12&\")=\"&$D$4&\" and localMonth(\"&$D$12&\") =\"&$E$4&\" and LocalDay(\"&$D$12&\")=\"&$F$4&\" and Barix(\"&$D$12&\",reference:=StartOfSession)=\"&A58&\"\", \"Bar\", \"\", \"Close\",\"5\",\"0\",\"PrimaryOnly\",,,\"False\",\"T\",\"EveryTick\")","v":1.1873},3.1260561000338262E-3,{"$f":"RTD(\"cqg.rtd\",,\"StudyData\", \"Close(\"&$D$12&\") when LocalYear(\"&$D$12&\")=\"&$D$5&\" and localMonth(\"&$D$12&\") =\"&$E$5&\" and LocalDay(\"&$D$12&\")=\"&$F$5&\" and Barix(\"&$D$12&\",reference:=StartOfSession)=\"&A58&\"\", \"Bar\", \"\", \"Close\",\"5\",\"0\",\"PrimaryOnly\",,,\"False\",\"T\",\"EveryTick\")","v":1.1839},-3.115527113506262E-3,{"$f":"RTD(\"cqg.rtd\",,\"StudyData\", \"Close(\"&$D$12&\") when LocalYear(\"&$D$12&\")=\"&$D$6&\" and localMonth(\"&$D$12&\") =\"&$E$6&\" and LocalDay(\"&$D$12&\")=\"&$F$6&\" and Barix(\"&$D$12&\",reference:=StartOfSession)=\"&A58&\"\", \"Bar\", \"\", \"Close\",\"5\",\"0\",\"PrimaryOnly\",,,\"False\",\"T\",\"EveryTick\")","v":1.1873},1.0961214165262048E-3,{"$f":"RTD(\"cqg.rtd\",,\"StudyData\", \"Close(\"&$D$12&\") when LocalYear(\"&$D$12&\")=\"&$D$7&\" and localMonth(\"&$D$12&\") =\"&$E$7&\" and LocalDay(\"&$D$12&\")=\"&$F$7&\" and Barix(\"&$D$12&\",reference:=StartOfSession)=\"&A58&\"\", \"Bar\", \"\", \"Close\",\"5\",\"0\",\"PrimaryOnly\",,,\"False\",\"T\",\"EveryTick\")","v":1.1858},-3.3619095646327144E-3,{"$f":"RTD(\"cqg.rtd\",,\"StudyData\", \"Close(\"&$D$12&\") when LocalYear(\"&$D$12&\")=\"&$D$8&\" and localMonth(\"&$D$12&\") =\"&$E$8&\" and LocalDay(\"&$D$12&\")=\"&$F$8&\" and Barix(\"&$D$12&\",reference:=StartOfSession)=\"&A58&\"\", \"Bar\", \"\", \"Close\",\"5\",\"0\",\"PrimaryOnly\",,,\"False\",\"T\",\"EveryTick\")","v":1.19},3.3303823616204187E-3,{"$f":"RTD(\"cqg.rtd\",,\"StudyData\", \"Close(\"&$D$12&\") when LocalYear(\"&$D$12&\")=\"&$D$9&\" and localMonth(\"&$D$12&\") =\"&$E$9&\" and LocalDay(\"&$D$12&\")=\"&$F$9&\" and Barix(\"&$D$12&\",reference:=StartOfSession)=\"&A58&\"\", \"Bar\", \"\", \"Close\",\"5\",\"0\",\"PrimaryOnly\",,,\"False\",\"T\",\"EveryTick\")","v":1.1862999999999999},4.828053532102165E-3,{"$f":"RTD(\"cqg.rtd\",,\"StudyData\", \"Close(\"&$D$12&\") when LocalYear(\"&$D$12&\")=\"&$D$10&\" and localMonth(\"&$D$12&\") =\"&$E$10&\" and LocalDay(\"&$D$12&\")=\"&$F$10&\" and Barix(\"&$D$12&\",reference:=StartOfSession)=\"&A58&\"\", \"Bar\", \"\", \"Close\",\"5\",\"0\",\"PrimaryOnly\",,,\"False\",\"T\",\"EveryTick\")","v":1.1817500000000001},2.2049781622356427E-3,null,null,null,""]
[238,"12:50:00",-19,{"$f":" RTD(\"cqg.rtd\",,\"StudyData\", $D$12,  \"Tick\", \"FlatTicks=0\", \"Tick\",\"D\",C59,\"PrimaryOnly\")","v":1.1680999999999999},null,null,null,{"$f":"RTD(\"cqg.rtd\",,\"StudyData\", \"Close(\"&$D$12&\") when LocalYear(\"&$D$12&\")=\"&$D$1&\" and localMonth(\"&$D$12&\") =\"&$E$1&\" and LocalDay(\"&$D$12&\")=\"&$F$1&\" and Barix(\"&$D$12&\",reference:=StartOfSession)=\"&A59&\"\", \"Bar\", \"\", \"Close\",\"5\",\"0\",\"PrimaryOnly\",,,\"False\",\"T\",\"EveryTick\")","v":""},{"$error":"#N/A"},{"$f":"RTD(\"cqg.rtd\",,\"StudyData\", \"Close(\"&$D$12&\") when LocalYear(\"&$D$12&\")=\"&$D$2&\" and localMonth(\"&$D$12&\") =\"&$E$2&\" and LocalDay(\"&$D$12&\")=\"&$F$2&\" and Barix(\"&$D$12&\",reference:=StartOfSession)=\"&A59&\"\", \"Bar\", \"\", \"Close\",\"5\",\"0\",\"PrimaryOnly\",,,\"False\",\"T\",\"EveryTick\")","v":1.1687000000000001},1.2422360248448691E-3,{"$f":"RTD(\"cqg.rtd\",,\"StudyData\", \"Close(\"&$D$12&\") when LocalYear(\"&$D$12&\")=\"&$D$3&\" and localMonth(\"&$D$12&\") =\"&$E$3&\" and LocalDay(\"&$D$12&\")=\"&$F$3&\" and Barix(\"&$D$12&\",reference:=StartOfSession)=\"&A59&\"\", \"Bar\", \"\", \"Close\",\"5\",\"0\",\"PrimaryOnly\",,,\"False\",\"T\",\"EveryTick\")","v":1.1684000000000001},-1.4715183201922642E-2,{"$f":"RTD(\"cqg.rtd\",,\"StudyData\", \"Close(\"&$D$12&\") when LocalYear(\"&$D$12&\")=\"&$D$4&\" and localMonth(\"&$D$12&\") =\"&$E$4&\" and LocalDay(\"&$D$12&\")=\"&$F$4&\" and Barix(\"&$D$12&\",reference:=StartOfSession)=\"&A59&\"\", \"Bar\", \"\", \"Close\",\"5\",\"0\",\"PrimaryOnly\",,,\"False\",\"T\",\"EveryTick\")","v":1.1871499999999999},2.9993240959783223E-3,{"$f":"RTD(\"cqg.rtd\",,\"StudyData\", \"Close(\"&$D$12&\") when LocalYear(\"&$D$12&\")=\"&$D$5&\" and localMonth(\"&$D$12&\") =\"&$E$5&\" and LocalDay(\"&$D$12&\")=\"&$F$5&\" and Barix(\"&$D$12&\",reference:=StartOfSession)=\"&A59&\"\", \"Bar\", \"\", \"Close\",\"5\",\"0\",\"PrimaryOnly\",,,\"False\",\"T\",\"EveryTick\")","v":1.18415},-2.9050185247557706E-3,{"$f":"RTD(\"cqg.rtd\",,\"StudyData\", \"Close(\"&$D$12&\") when LocalYear(\"&$D$12&\")=\"&$D$6&\" and localMonth(\"&$D$12&\") =\"&$E$6&\" and LocalDay(\"&$D$12&\")=\"&$F$6&\" and Barix(\"&$D$12&\",reference:=StartOfSession)=\"&A59&\"\", \"Bar\", \"\", \"Close\",\"5\",\"0\",\"PrimaryOnly\",,,\"False\",\"T\",\"EveryTick\")","v":1.1871},9.2748735244527908E-4,{"$f":"RTD(\"cqg.rtd\",,\"StudyData\", \"Close(\"&$D$12&\") when LocalYear(\"&$D$12&\")=\"&$D$7&\" and localMonth(\"&$D$12&\") =\"&$E$7&\" and LocalDay(\"&$D$12&\")=\"&$F$7&\" and Barix(\"&$D$12&\",reference:=StartOfSession)=\"&A59&\"\", \"Bar\", \"\", \"Close\",\"5\",\"0\",\"PrimaryOnly\",,,\"False\",\"T\",\"EveryTick\")","v":1.1858},-3.3619095646327144E-3,{"$f":"RTD(\"cqg.rtd\",,\"StudyData\", \"Close(\"&$D$12&\") when LocalYear(\"&$D$12&\")=\"&$D$8&\" and localMonth(\"&$D$12&\") =\"&$E$8&\" and LocalDay(\"&$D$12&\")=\"&$F$8&\" and Barix(\"&$D$12&\",reference:=StartOfSession)=\"&A59&\"\", \"Bar\", \"\", \"Close\",\"5\",\"0\",\"PrimaryOnly\",,,\"False\",\"T\",\"EveryTick\")","v":1.19015},3.4568525778845686E-3,{"$f":"RTD(\"cqg.rtd\",,\"StudyData\", \"Close(\"&$D$12&\") when LocalYear(\"&$D$12&\")=\"&$D$9&\" and localMonth(\"&$D$12&\") =\"&$E$9&\" and LocalDay(\"&$D$12&\")=\"&$F$9&\" and Barix(\"&$D$12&\",reference:=StartOfSession)=\"&A59&\"\", \"Bar\", \"\", \"Close\",\"5\",\"0\",\"PrimaryOnly\",,,\"False\",\"T\",\"EveryTick\")","v":1.18615},4.7009994917837907E-3,{"$f":"RTD(\"cqg.rtd\",,\"StudyData\", \"Close(\"&$D$12&\") when LocalYear(\"&$D$12&\")=\"&$D$10&\" and localMonth(\"&$D$12&\") =\"&$E$10&\" and LocalDay(\"&$D$12&\")=\"&$F$10&\" and Barix(\"&$D$12&\",reference:=StartOfSession)=\"&A59&\"\", \"Bar\", \"\", \"Close\",\"5\",\"0\",\"PrimaryOnly\",,,\"False\",\"T\",\"EveryTick\")","v":1.1814},1.9081541788577242E-3,null,null,null,""]
[239,"12:55:00",-18,{"$f":" RTD(\"cqg.rtd\",,\"StudyData\", $D$12,  \"Tick\", \"FlatTicks=0\", \"Tick\",\"D\",C60,\"PrimaryOnly\")","v":1.16805},null,null,null,{"$f":"RTD(\"cqg.rtd\",,\"StudyData\", \"Close(\"&$D$12&\") when LocalYear(\"&$D$12&\")=\"&$D$1&\" and localMonth(\"&$D$12&\") =\"&$E$1&\" and LocalDay(\"&$D$12&\")=\"&$F$1&\" and Barix(\"&$D$12&\",reference:=StartOfSession)=\"&A60&\"\", \"Bar\", \"\", \"Close\",\"5\",\"0\",\"PrimaryOnly\",,,\"False\",\"T\",\"EveryTick\")","v":""},{"$error":"#N/A"},{"$f":"RTD(\"cqg.rtd\",,\"StudyData\", \"Close(\"&$D$12&\") when LocalYear(\"&$D$12&\")=\"&$D$2&\" and localMonth(\"&$D$12&\") =\"&$E$2&\" and LocalDay(\"&$D$12&\")=\"&$F$2&\" and Barix(\"&$D$12&\",reference:=StartOfSession)=\"&A60&\"\", \"Bar\", \"\", \"Close\",\"5\",\"0\",\"PrimaryOnly\",,,\"False\",\"T\",\"EveryTick\")","v":1.169},1.499250374812714E-3,{"$f":"RTD(\"cqg.rtd\",,\"StudyData\", \"Close(\"&$D$12&\") when LocalYear(\"&$D$12&\")=\"&$D$3&\" and localMonth(\"&$D$12&\") =\"&$E$3&\" and LocalDay(\"&$D$12&\")=\"&$F$3&\" and Barix(\"&$D$12&\",reference:=StartOfSession)=\"&A60&\"\", \"Bar\", \"\", \"Close\",\"5\",\"0\",\"PrimaryOnly\",,,\"False\",\"T\",\"EveryTick\")","v":1.1686000000000001},-1.4546527807058217E-2,{"$f":"RTD(\"cqg.rtd\",,\"StudyData\", \"Close(\"&$D$12&\") when LocalYear(\"&$D$12&\")=\"&$D$4&\" and localMonth(\"&$D$12&\") =\"&$E$4&\" and LocalDay(\"&$D$12&\")=\"&$F$4&\" and Barix(\"&$D$12&\",reference:=StartOfSession)=\"&A60&\"\", \"Bar\", \"\", \"Close\",\"5\",\"0\",\"PrimaryOnly\",,,\"False\",\"T\",\"EveryTick\")","v":1.1872},3.0415680973302195E-3,{"$f":"RTD(\"cqg.rtd\",,\"StudyData\", \"Close(\"&$D$12&\") when LocalYear(\"&$D$12&\")=\"&$D$5&\" and localMonth(\"&$D$12&\") =\"&$E$5&\" and LocalDay(\"&$D$12&\")=\"&$F$5&\" and Barix(\"&$D$12&\",reference:=StartOfSession)=\"&A60&\"\", \"Bar\", \"\", \"Close\",\"5\",\"0\",\"PrimaryOnly\",,,\"False\",\"T\",\"EveryTick\")","v":1.1838500000000001},-3.1576288312562479E-3,{"$f":"RTD(\"cqg.rtd\",,\"StudyData\", \"Close(\"&$D$12&\") when LocalYear(\"&$D$12&\")=\"&$D$6&\" and localMonth(\"&$D$12&\") =\"&$E$6&\" and LocalDay(\"&$D$12&\")=\"&$F$6&\" and Barix(\"&$D$12&\",reference:=StartOfSession)=\"&A60&\"\", \"Bar\", \"\", \"Close\",\"5\",\"0\",\"PrimaryOnly\",,,\"False\",\"T\",\"EveryTick\")","v":1.1873499999999999},1.1382799325463427E-3,{"$f":"RTD(\"cqg.rtd\",,\"StudyData\", \"Close(\"&$D$12&\") when LocalYear(\"&$D$12&\")=\"&$D$7&\" and localMonth(\"&$D$12&\") =\"&$E$7&\" and LocalDay(\"&$D$12&\")=\"&$F$7&\" and Barix(\"&$D$12&\",reference:=StartOfSession)=\"&A60&\"\", \"Bar\", \"\", \"Close\",\"5\",\"0\",\"PrimaryOnly\",,,\"False\",\"T\",\"EveryTick\")","v":1.1856},-3.5300050428643316E-3,{"$f":"RTD(\"cqg.rtd\",,\"StudyData\", \"Close(\"&$D$12&\") when LocalYear(\"&$D$12&\")=\"&$D$8&\" and localMonth(\"&$D$12&\") =\"&$E$8&\" and LocalDay(\"&$D$12&\")=\"&$F$8&\" and Barix(\"&$D$12&\",reference:=StartOfSession)=\"&A60&\"\", \"Bar\", \"\", \"Close\",\"5\",\"0\",\"PrimaryOnly\",,,\"False\",\"T\",\"EveryTick\")","v":1.1900500000000001},3.3725391003751977E-3,{"$f":"RTD(\"cqg.rtd\",,\"StudyData\", \"Close(\"&$D$12&\") when LocalYear(\"&$D$12&\")=\"&$D$9&\" and localMonth(\"&$D$12&\") =\"&$E$9&\" and LocalDay(\"&$D$12&\")=\"&$F$9&\" and Barix(\"&$D$12&\",reference:=StartOfSession)=\"&A60&\"\", \"Bar\", \"\", \"Close\",\"5\",\"0\",\"PrimaryOnly\",,,\"False\",\"T\",\"EveryTick\")","v":1.1858},4.4045400643739378E-3,{"$f":"RTD(\"cqg.rtd\",,\"StudyData\", \"Close(\"&$D$12&\") when LocalYear(\"&$D$12&\")=\"&$D$10&\" and localMonth(\"&$D$12&\") =\"&$E$10&\" and LocalDay(\"&$D$12&\")=\"&$F$10&\" and Barix(\"&$D$12&\",reference:=StartOfSession)=\"&A60&\"\", \"Bar\", \"\", \"Close\",\"5\",\"0\",\"PrimaryOnly\",,,\"False\",\"T\",\"EveryTick\")","v":1.1820999999999999},2.5018021456133725E-3,null,null,null,""]
[240,"13:00:00",-17,{"$f":" RTD(\"cqg.rtd\",,\"StudyData\", $D$12,  \"Tick\", \"FlatTicks=0\", \"Tick\",\"D\",C61,\"PrimaryOnly\")","v":1.1680999999999999},null,null,null,{"$f":"RTD(\"cqg.rtd\",,\"StudyData\", \"Close(\"&$D$12&\") when LocalYear(\"&$D$12&\")=\"&$D$1&\" and localMonth(\"&$D$12&\") =\"&$E$1&\" and LocalDay(\"&$D$12&\")=\"&$F$1&\" and Barix(\"&$D$12&\",reference:=StartOfSession)=\"&A61&\"\", \"Bar\", \"\", \"Close\",\"5\",\"0\",\"PrimaryOnly\",,,\"False\",\"T\",\"EveryTick\")","v":""},{"$error":"#N/A"},{"$f":"RTD(\"cqg.rtd\",,\"StudyData\", \"Close(\"&$D$12&\") when LocalYear(\"&$D$12&\")=\"&$D$2&\" and localMonth(\"&$D$12&\") =\"&$E$2&\" and LocalDay(\"&$D$12&\")=\"&$F$2&\" and Barix(\"&$D$12&\",reference:=StartOfSession)=\"&A61&\"\", \"Bar\", \"\", \"Close\",\"5\",\"0\",\"PrimaryOnly\",,,\"False\",\"T\",\"EveryTick\")","v":1.1689000000000001},1.4135789248234324E-3,{"$f":"RTD(\"cqg.rtd\",,\"StudyData\", \"Close(\"&$D$12&\") when LocalYear(\"&$D$12&\")=\"&$D$3&\" and localMonth(\"&$D$12&\") =\"&$E$3&\" and LocalDay(\"&$D$12&\")=\"&$F$3&\" and Barix(\"&$D$12&\",reference:=StartOfSession)=\"&A61&\"\", \"Bar\", \"\", \"Close\",\"5\",\"0\",\"PrimaryOnly\",,,\"False\",\"T\",\"EveryTick\")","v":1.1671499999999999},-1.5769279419825578E-2,{"$f":"RTD(\"cqg.rtd\",,\"StudyData\", \"Close(\"&$D$12&\") when LocalYear(\"&$D$12&\")=\"&$D$4&\" and localMonth(\"&$D$12&\") =\"&$E$4&\" and LocalDay(\"&$D$12&\")=\"&$F$4&\" and Barix(\"&$D$12&\",reference:=StartOfSession)=\"&A61&\"\", \"Bar\", \"\", \"Close\",\"5\",\"0\",\"PrimaryOnly\",,,\"False\",\"T\",\"EveryTick\")","v":1.1834499999999999},-1.2673200405550399E-4,{"$f":"RTD(\"cqg.rtd\",,\"StudyData\", \"Close(\"&$D$12&\") when LocalYear(\"&$D$12&\")=\"&$D$5&\" and localMonth(\"&$D$12&\") =\"&$E$5&\" and LocalDay(\"&$D$12&\")=\"&$F$5&\" and Barix(\"&$D$12&\",reference:=StartOfSession)=\"&A61&\"\", \"Bar\", \"\", \"Close\",\"5\",\"0\",\"PrimaryOnly\",,,\"False\",\"T\",\"EveryTick\")","v":1.1832},-3.704951162007376E-3,{"$f":"RTD(\"cqg.rtd\",,\"StudyData\", \"Close(\"&$D$12&\") when LocalYear(\"&$D$12&\")=\"&$D$6&\" and localMonth(\"&$D$12&\") =\"&$E$6&\" and LocalDay(\"&$D$12&\")=\"&$F$6&\" and Barix(\"&$D$12&\",reference:=StartOfSession)=\"&A61&\"\", \"Bar\", \"\", \"Close\",\"5\",\"0\",\"PrimaryOnly\",,,\"False\",\"T\",\"EveryTick\")","v":1.1873},1.0961214165262048E-3,{"$f":"RTD(\"cqg.rtd\",,\"StudyData\", \"Close(\"&$D$12&\") when LocalYear(\"&$D$12&\")=\"&$D$7&\" and localMonth(\"&$D$12&\") =\"&$E$7&\" and LocalDay(\"&$D$12&\")=\"&$F$7&\" and Barix(\"&$D$12&\",reference:=StartOfSession)=\"&A61&\"\", \"Bar\", \"\", \"Close\",\"5\",\"0\",\"PrimaryOnly\",,,\"False\",\"T\",\"EveryTick\")","v":1.18615},-3.0677424777272914E-3,{"$f":"RTD(\"cqg.rtd\",,\"StudyData\", \"Close(\"&$D$12&\") when LocalYear(\"&$D$12&\")=\"&$D$8&\" and localMonth(\"&$D$12&\") =\"&$E$8&\" and LocalDay(\"&$D$12&\")=\"&$F$8&\" and Barix(\"&$D$12&\",reference:=StartOfSession)=\"&A61&\"\", \"Bar\", \"\", \"Close\",\"5\",\"0\",\"PrimaryOnly\",,,\"False\",\"T\",\"EveryTick\")","v":1.19},3.3303823616204187E-3,{"$f":"RTD(\"cqg.rtd\",,\"StudyData\", \"Close(\"&$D$12&\") when LocalYear(\"&$D$12&\")=\"&$D$9&\" and localMonth(\"&$D$12&\") =\"&$E$9&\" and LocalDay(\"&$D$12&\")=\"&$F$9&\" and Barix(\"&$D$12&\",reference:=StartOfSession)=\"&A61&\"\", \"Bar\", \"\", \"Close\",\"5\",\"0\",\"PrimaryOnly\",,,\"False\",\"T\",\"EveryTick\")","v":1.1855},4.1504319837370011E-3,{"$f":"RTD(\"cqg.rtd\",,\"StudyData\", \"Close(\"&$D$12&\") when LocalYear(\"&$D$12&\")=\"&$D$10&\" and localMonth(\"&$D$12&\") =\"&$E$10&\" and LocalDay(\"&$D$12&\")=\"&$F$10&\" and Barix(\"&$D$12&\",reference:=StartOfSession)=\"&A61&\"\", \"Bar\", \"\", \"Close\",\"5\",\"0\",\"PrimaryOnly\",,,\"False\",\"T\",\"EveryTick\")","v":1.1818500000000001},2.2897850146293068E-3,null,null,null,""]
[241,"13:05:00",-16,{"$f":" RTD(\"cqg.rtd\",,\"StudyData\", $D$12,  \"Tick\", \"FlatTicks=0\", \"Tick\",\"D\",C62,\"PrimaryOnly\")","v":1.16805},null,null,null,{"$f":"RTD(\"cqg.rtd\",,\"StudyData\", \"Close(\"&$D$12&\") when LocalYear(\"&$D$12&\")=\"&$D$1&\" and localMonth(\"&$D$12&\") =\"&$E$1&\" and LocalDay(\"&$D$12&\")=\"&$F$1&\" and Barix(\"&$D$12&\",reference:=StartOfSession)=\"&A62&\"\", \"Bar\", \"\", \"Close\",\"5\",\"0\",\"PrimaryOnly\",,,\"False\",\"T\",\"EveryTick\")","v":""},{"$error":"#N/A"},{"$f":"RTD(\"cqg.rtd\",,\"StudyData\", \"Close(\"&$D$12&\") when LocalYear(\"&$D$12&\")=\"&$D$2&\" and localMonth(\"&$D$12&\") =\"&$E$2&\" and LocalDay(\"&$D$12&\")=\"&$F$2&\" and Barix(\"&$D$12&\",reference:=StartOfSession)=\"&A62&\"\", \"Bar\", \"\", \"Close\",\"5\",\"0\",\"PrimaryOnly\",,,\"False\",\"T\",\"EveryTick\")","v":1.1692499999999999},1.7134289997858231E-3,{"$f":"RTD(\"cqg.rtd\",,\"StudyData\", \"Close(\"&$D$12&\") when LocalYear(\"&$D$12&\")=\"&$D$3&\" and localMonth(\"&$D$12&\") =\"&$E$3&\" and LocalDay(\"&$D$12&\")=\"&$F$3&\" and Barix(\"&$D$12&\",reference:=StartOfSession)=\"&A62&\"\", \"Bar\", \"\", \"Close\",\"5\",\"0\",\"PrimaryOnly\",,,\"False\",\"T\",\"EveryTick\")","v":1.16795},-1.5094657840367691E-2,{"$f":"RTD(\"cqg.rtd\",,\"StudyData\", \"Close(\"&$D$12&\") when LocalYear(\"&$D$12&\")=\"&$D$4&\" and localMonth(\"&$D$12&\") =\"&$E$4&\" and LocalDay(\"&$D$12&\")=\"&$F$4&\" and Barix(\"&$D$12&\",reference:=StartOfSession)=\"&A62&\"\", \"Bar\", \"\", \"Close\",\"5\",\"0\",\"PrimaryOnly\",,,\"False\",\"T\",\"EveryTick\")","v":1.1829000000000001},-5.9141601892524743E-4,{"$f":"RTD(\"cqg.rtd\",,\"StudyData\", \"Close(\"&$D$12&\") when LocalYear(\"&$D$12&\")=\"&$D$5&\" and localMonth(\"&$D$12&\") =\"&$E$5&\" and LocalDay(\"&$D$12&\")=\"&$F$5&\" and Barix(\"&$D$12&\",reference:=StartOfSession)=\"&A62&\"\", \"Bar\", \"\", \"Close\",\"5\",\"0\",\"PrimaryOnly\",,,\"False\",\"T\",\"EveryTick\")","v":1.1827000000000001},-4.1259683395081714E-3,{"$f":"RTD(\"cqg.rtd\",,\"StudyData\", \"Close(\"&$D$12&\") when LocalYear(\"&$D$12&\")=\"&$D$6&\" and localMonth(\"&$D$12&\") =\"&$E$6&\" and LocalDay(\"&$D$12&\")=\"&$F$6&\" and Barix(\"&$D$12&\",reference:=StartOfSession)=\"&A62&\"\", \"Bar\", \"\", \"Close\",\"5\",\"0\",\"PrimaryOnly\",,,\"False\",\"T\",\"EveryTick\")","v":1.1876500000000001},1.3912310286679187E-3,{"$f":"RTD(\"cqg.rtd\",,\"StudyData\", \"Close(\"&$D$12&\") when LocalYear(\"&$D$12&\")=\"&$D$7&\" and localMonth(\"&$D$12&\") =\"&$E$7&\" and LocalDay(\"&$D$12&\")=\"&$F$7&\" and Barix(\"&$D$12&\",reference:=StartOfSession)=\"&A62&\"\", \"Bar\", \"\", \"Close\",\"5\",\"0\",\"PrimaryOnly\",,,\"False\",\"T\",\"EveryTick\")","v":1.1862999999999999},-2.9416708690536719E-3,{"$f":"RTD(\"cqg.rtd\",,\"StudyData\", \"Close(\"&$D$12&\") when LocalYear(\"&$D$12&\")=\"&$D$8&\" and localMonth(\"&$D$12&\") =\"&$E$8&\" and LocalDay(\"&$D$12&\")=\"&$F$8&\" and Barix(\"&$D$12&\",reference:=StartOfSession)=\"&A62&\"\", \"Bar\", \"\", \"Close\",\"5\",\"0\",\"PrimaryOnly\",,,\"False\",\"T\",\"EveryTick\")","v":1.19015},3.4568525778845686E-3,{"$f":"RTD(\"cqg.rtd\",,\"StudyData\", \"Close(\"&$D$12&\") when LocalYear(\"&$D$12&\")=\"&$D$9&\" and localMonth(\"&$D$12&\") =\"&$E$9&\" and LocalDay(\"&$D$12&\")=\"&$F$9&\" and Barix(\"&$D$12&\",reference:=StartOfSession)=\"&A62&\"\", \"Bar\", \"\", \"Close\",\"5\",\"0\",\"PrimaryOnly\",,,\"False\",\"T\",\"EveryTick\")","v":1.1858},4.4045400643739378E-3,{"$f":"RTD(\"cqg.rtd\",,\"StudyData\", \"Close(\"&$D$12&\") when LocalYear(\"&$D$12&\")=\"&$D$10&\" and localMonth(\"&$D$12&\") =\"&$E$10&\" and LocalDay(\"&$D$12&\")=\"&$F$10&\" and Barix(\"&$D$12&\",reference:=StartOfSession)=\"&A62&\"\", \"Bar\", \"\", \"Close\",\"5\",\"0\",\"PrimaryOnly\",,,\"False\",\"T\",\"EveryTick\")","v":1.1818500000000001},2.2897850146293068E-3,null,null,null,""]
[242,"13:10:00",-15,{"$f":" RTD(\"cqg.rtd\",,\"StudyData\", $D$12,  \"Tick\", \"FlatTicks=0\", \"Tick\",\"D\",C63,\"PrimaryOnly\")","v":1.1679999999999999},null,null,null,{"$f":"RTD(\"cqg.rtd\",,\"StudyData\", \"Close(\"&$D$12&\") when LocalYear(\"&$D$12&\")=\"&$D$1&\" and localMonth(\"&$D$12&\") =\"&$E$1&\" and LocalDay(\"&$D$12&\")=\"&$F$1&\" and Barix(\"&$D$12&\",reference:=StartOfSession)=\"&A63&\"\", \"Bar\", \"\", \"Close\",\"5\",\"0\",\"PrimaryOnly\",,,\"False\",\"T\",\"EveryTick\")","v":""},{"$error":"#N/A"},{"$f":"RTD(\"cqg.rtd\",,\"StudyData\", \"Close(\"&$D$12&\") when LocalYear(\"&$D$12&\")=\"&$D$2&\" and localMonth(\"&$D$12&\") =\"&$E$2&\" and LocalDay(\"&$D$12&\")=\"&$F$2&\" and Barix(\"&$D$12&\",reference:=StartOfSession)=\"&A63&\"\", \"Bar\", \"\", \"Close\",\"5\",\"0\",\"PrimaryOnly\",,,\"False\",\"T\",\"EveryTick\")","v":1.1691499999999999},1.6277575497965415E-3,{"$f":"RTD(\"cqg.rtd\",,\"StudyData\", \"Close(\"&$D$12&\") when LocalYear(\"&$D$12&\")=\"&$D$3&\" and localMonth(\"&$D$12&\") =\"&$E$3&\" and LocalDay(\"&$D$12&\")=\"&$F$3&\" and Barix(\"&$D$12&\",reference:=StartOfSession)=\"&A63&\"\", \"Bar\", \"\", \"Close\",\"5\",\"0\",\"PrimaryOnly\",,,\"False\",\"T\",\"EveryTick\")","v":1.16865},-1.4504363958342205E-2,{"$f":"RTD(\"cqg.rtd\",,\"StudyData\", \"Close(\"&$D$12&\") when LocalYear(\"&$D$12&\")=\"&$D$4&\" and localMonth(\"&$D$12&\") =\"&$E$4&\" and LocalDay(\"&$D$12&\")=\"&$F$4&\" and Barix(\"&$D$12&\",reference:=StartOfSession)=\"&A63&\"\", \"Bar\", \"\", \"Close\",\"5\",\"0\",\"PrimaryOnly\",,,\"False\",\"T\",\"EveryTick\")","v":1.1839},2.5346400811082035E-4,{"$f":"RTD(\"cqg.rtd\",,\"StudyData\", \"Close(\"&$D$12&\") when LocalYear(\"&$D$12&\")=\"&$D$5&\" and localMonth(\"&$D$12&\") =\"&$E$5&\" and LocalDay(\"&$D$12&\")=\"&$F$5&\" and Barix(\"&$D$12&\",reference:=StartOfSession)=\"&A63&\"\", \"Bar\", \"\", \"Close\",\"5\",\"0\",\"PrimaryOnly\",,,\"False\",\"T\",\"EveryTick\")","v":1.1830000000000001},-3.8733580330076942E-3,{"$f":"RTD(\"cqg.rtd\",,\"StudyData\", \"Close(\"&$D$12&\") when LocalYear(\"&$D$12&\")=\"&$D$6&\" and localMonth(\"&$D$12&\") =\"&$E$6&\" and LocalDay(\"&$D$12&\")=\"&$F$6&\" and Barix(\"&$D$12&\",reference:=StartOfSession)=\"&A63&\"\", \"Bar\", \"\", \"Close\",\"5\",\"0\",\"PrimaryOnly\",,,\"False\",\"T\",\"EveryTick\")","v":1.1877500000000001},1.4755480607083814E-3,{"$f":"RTD(\"cqg.rtd\",,\"StudyData\", \"Close(\"&$D$12&\") when LocalYear(\"&$D$12&\")=\"&$D$7&\" and localMonth(\"&$D$12&\") =\"&$E$7&\" and LocalDay(\"&$D$12&\")=\"&$F$7&\" and Barix(\"&$D$12&\",reference:=StartOfSession)=\"&A63&\"\", \"Bar\", \"\", \"Close\",\"5\",\"0\",\"PrimaryOnly\",,,\"False\",\"T\",\"EveryTick\")","v":1.1859},-3.2778618255169061E-3,{"$f":"RTD(\"cqg.rtd\",,\"StudyData\", \"Close(\"&$D$12&\") when LocalYear(\"&$D$12&\")=\"&$D$8&\" and localMonth(\"&$D$12&\") =\"&$E$8&\" and LocalDay(\"&$D$12&\")=\"&$F$8&\" and Barix(\"&$D$12&\",reference:=StartOfSession)=\"&A63&\"\", \"Bar\", \"\", \"Close\",\"5\",\"0\",\"PrimaryOnly\",,,\"False\",\"T\",\"EveryTick\")","v":1.19},3.3303823616204187E-3,{"$f":"RTD(\"cqg.rtd\",,\"StudyData\", \"Close(\"&$D$12&\") when LocalYear(\"&$D$12&\")=\"&$D$9&\" and localMonth(\"&$D$12&\") =\"&$E$9&\" and LocalDay(\"&$D$12&\")=\"&$F$9&\" and Barix(\"&$D$12&\",reference:=StartOfSession)=\"&A63&\"\", \"Bar\", \"\", \"Close\",\"5\",\"0\",\"PrimaryOnly\",,,\"False\",\"T\",\"EveryTick\")","v":1.18615},4.7009994917837907E-3,{"$f":"RTD(\"cqg.rtd\",,\"StudyData\", \"Close(\"&$D$12&\") when LocalYear(\"&$D$12&\")=\"&$D$10&\" and localMonth(\"&$D$12&\") =\"&$E$10&\" and LocalDay(\"&$D$12&\")=\"&$F$10&\" and Barix(\"&$D$12&\",reference:=StartOfSession)=\"&A63&\"\", \"Bar\", \"\", \"Close\",\"5\",\"0\",\"PrimaryOnly\",,,\"False\",\"T\",\"EveryTick\")","v":1.1815},1.9929610312513883E-3,null,null,null,""]
[243,"13:15:00",-14,{"$f":" RTD(\"cqg.rtd\",,\"StudyData\", $D$12,  \"Tick\", \"FlatTicks=0\", \"Tick\",\"D\",C64,\"PrimaryOnly\")","v":1.16795},null,null,null,{"$f":"RTD(\"cqg.rtd\",,\"StudyData\", \"Close(\"&$D$12&\") when LocalYear(\"&$D$12&\")=\"&$D$1&\" and localMonth(\"&$D$12&\") =\"&$E$1&\" and LocalDay(\"&$D$12&\")=\"&$F$1&\" and Barix(\"&$D$12&\",reference:=StartOfSession)=\"&A64&\"\", \"Bar\", \"\", \"Close\",\"5\",\"0\",\"PrimaryOnly\",,,\"False\",\"T\",\"EveryTick\")","v":""},{"$error":"#N/A"},{"$f":"RTD(\"cqg.rtd\",,\"StudyData\", \"Close(\"&$D$12&\") when LocalYear(\"&$D$12&\")=\"&$D$2&\" and localMonth(\"&$D$12&\") =\"&$E$2&\" and LocalDay(\"&$D$12&\")=\"&$F$2&\" and Barix(\"&$D$12&\",reference:=StartOfSession)=\"&A64&\"\", \"Bar\", \"\", \"Close\",\"5\",\"0\",\"PrimaryOnly\",,,\"False\",\"T\",\"EveryTick\")","v":1.1693499999999999},1.7991004497751046E-3,{"$f":"RTD(\"cqg.rtd\",,\"StudyData\", \"Close(\"&$D$12&\") when LocalYear(\"&$D$12&\")=\"&$D$3&\" and localMonth(\"&$D$12&\") =\"&$E$3&\" and LocalDay(\"&$D$12&\")=\"&$F$3&\" and Barix(\"&$D$12&\",reference:=StartOfSession)=\"&A64&\"\", \"Bar\", \"\", \"Close\",\"5\",\"0\",\"PrimaryOnly\",,,\"False\",\"T\",\"EveryTick\")","v":1.16815},-1.4926002445503265E-2,{"$f":"RTD(\"cqg.rtd\",,\"StudyData\", \"Close(\"&$D$12&\") when LocalYear(\"&$D$12&\")=\"&$D$4&\" and localMonth(\"&$D$12&\") =\"&$E$4&\" and LocalDay(\"&$D$12&\")=\"&$F$4&\" and Barix(\"&$D$12&\",reference:=StartOfSession)=\"&A64&\"\", \"Bar\", \"\", \"Close\",\"5\",\"0\",\"PrimaryOnly\",,,\"False\",\"T\",\"EveryTick\")","v":1.1836500000000001},4.2244001351897189E-5,{"$f":"RTD(\"cqg.rtd\",,\"StudyData\", \"Close(\"&$D$12&\") when LocalYear(\"&$D$12&\")=\"&$D$5&\" and localMonth(\"&$D$12&\") =\"&$E$5&\" and LocalDay(\"&$D$12&\")=\"&$F$5&\" and Barix(\"&$D$12&\",reference:=StartOfSession)=\"&A64&\"\", \"Bar\", \"\", \"Close\",\"5\",\"0\",\"PrimaryOnly\",,,\"False\",\"T\",\"EveryTick\")","v":1.1832},-3.704951162007376E-3,{"$f":"RTD(\"cqg.rtd\",,\"StudyData\", \"Close(\"&$D$12&\") when LocalYear(\"&$D$12&\")=\"&$D$6&\" and localMonth(\"&$D$12&\") =\"&$E$6&\" and LocalDay(\"&$D$12&\")=\"&$F$6&\" and Barix(\"&$D$12&\",reference:=StartOfSession)=\"&A64&\"\", \"Bar\", \"\", \"Close\",\"5\",\"0\",\"PrimaryOnly\",,,\"False\",\"T\",\"EveryTick\")","v":1.1877},1.4333895446880564E-3,{"$f":"RTD(\"cqg.rtd\",,\"StudyData\", \"Close(\"&$D$12&\") when LocalYear(\"&$D$12&\")=\"&$D$7&\" and localMonth(\"&$D$12&\") =\"&$E$7&\" and LocalDay(\"&$D$12&\")=\"&$F$7&\" and Barix(\"&$D$12&\",reference:=StartOfSession)=\"&A64&\"\", \"Bar\", \"\", \"Close\",\"5\",\"0\",\"PrimaryOnly\",,,\"False\",\"T\",\"EveryTick\")","v":1.1856},-3.5300050428643316E-3,{"$f":"RTD(\"cqg.rtd\",,\"StudyData\", \"Close(\"&$D$12&\") when LocalYear(\"&$D$12&\")=\"&$D$8&\" and localMonth(\"&$D$12&\") =\"&$E$8&\" and LocalDay(\"&$D$12&\")=\"&$F$8&\" and Barix(\"&$D$12&\",reference:=StartOfSession)=\"&A64&\"\", \"Bar\", \"\", \"Close\",\"5\",\"0\",\"PrimaryOnly\",,,\"False\",\"T\",\"EveryTick\")","v":1.1904999999999999},3.7519497491672717E-3,{"$f":"RTD(\"cqg.rtd\",,\"StudyData\", \"Close(\"&$D$12&\") when LocalYear(\"&$D$12&\")=\"&$D$9&\" and localMonth(\"&$D$12&\") =\"&$E$9&\" and LocalDay(\"&$D$12&\")=\"&$F$9&\" and Barix(\"&$D$12&\",reference:=StartOfSession)=\"&A64&\"\", \"Bar\", \"\", \"Close\",\"5\",\"0\",\"PrimaryOnly\",,,\"False\",\"T\",\"EveryTick\")","v":1.1859},4.4892427579195831E-3,{"$f":"RTD(\"cqg.rtd\",,\"StudyData\", \"Close(\"&$D$12&\") when LocalYear(\"&$D$12&\")=\"&$D$10&\" and localMonth(\"&$D$12&\") =\"&$E$10&\" and LocalDay(\"&$D$12&\")=\"&$F$10&\" and Barix(\"&$D$12&\",reference:=StartOfSession)=\"&A64&\"\", \"Bar\", \"\", \"Close\",\"5\",\"0\",\"PrimaryOnly\",,,\"False\",\"T\",\"EveryTick\")","v":1.1812499999999999},1.780943900267134E-3,null,null,null,""]
[244,"13:20:00",-13,{"$f":" RTD(\"cqg.rtd\",,\"StudyData\", $D$12,  \"Tick\", \"FlatTicks=0\", \"Tick\",\"D\",C65,\"PrimaryOnly\")","v":1.1679999999999999},null,null,null,{"$f":"RTD(\"cqg.rtd\",,\"StudyData\", \"Close(\"&$D$12&\") when LocalYear(\"&$D$12&\")=\"&$D$1&\" and localMonth(\"&$D$12&\") =\"&$E$1&\" and LocalDay(\"&$D$12&\")=\"&$F$1&\" and Barix(\"&$D$12&\",reference:=StartOfSession)=\"&A65&\"\", \"Bar\", \"\", \"Close\",\"5\",\"0\",\"PrimaryOnly\",,,\"False\",\"T\",\"EveryTick\")","v":""},{"$error":"#N/A"},{"$f":"RTD(\"cqg.rtd\",,\"StudyData\", \"Close(\"&$D$12&\") when LocalYear(\"&$D$12&\")=\"&$D$2&\" and localMonth(\"&$D$12&\") =\"&$E$2&\" and LocalDay(\"&$D$12&\")=\"&$F$2&\" and Barix(\"&$D$12&\",reference:=StartOfSession)=\"&A65&\"\", \"Bar\", \"\", \"Close\",\"5\",\"0\",\"PrimaryOnly\",,,\"False\",\"T\",\"EveryTick\")","v":1.1689499999999999},1.4564146498179781E-3,{"$f":"RTD(\"cqg.rtd\",,\"StudyData\", \"Close(\"&$D$12&\") when LocalYear(\"&$D$12&\")=\"&$D$3&\" and localMonth(\"&$D$12&\") =\"&$E$3&\" and LocalDay(\"&$D$12&\")=\"&$F$3&\" and Barix(\"&$D$12&\",reference:=StartOfSession)=\"&A65&\"\", \"Bar\", \"\", \"Close\",\"5\",\"0\",\"PrimaryOnly\",,,\"False\",\"T\",\"EveryTick\")","v":1.1688000000000001},-1.4377872412193793E-2,{"$f":"RTD(\"cqg.rtd\",,\"StudyData\", \"Close(\"&$D$12&\") when LocalYear(\"&$D$12&\")=\"&$D$4&\" and localMonth(\"&$D$12&\") =\"&$E$4&\" and LocalDay(\"&$D$12&\")=\"&$F$4&\" and Barix(\"&$D$12&\",reference:=StartOfSession)=\"&A65&\"\", \"Bar\", \"\", \"Close\",\"5\",\"0\",\"PrimaryOnly\",,,\"False\",\"T\",\"EveryTick\")","v":1.1833},-2.5346400811082035E-4,{"$f":"RTD(\"cqg.rtd\",,\"StudyData\", \"Close(\"&$D$12&\") when LocalYear(\"&$D$12&\")=\"&$D$5&\" and localMonth(\"&$D$12&\") =\"&$E$5&\" and LocalDay(\"&$D$12&\")=\"&$F$5&\" and Barix(\"&$D$12&\",reference:=StartOfSession)=\"&A65&\"\", \"Bar\", \"\", \"Close\",\"5\",\"0\",\"PrimaryOnly\",,,\"False\",\"T\",\"EveryTick\")","v":1.1826000000000001},-4.2101717750083305E-3,{"$f":"RTD(\"cqg.rtd\",,\"StudyData\", \"Close(\"&$D$12&\") when LocalYear(\"&$D$12&\")=\"&$D$6&\" and localMonth(\"&$D$12&\") =\"&$E$6&\" and LocalDay(\"&$D$12&\")=\"&$F$6&\" and Barix(\"&$D$12&\",reference:=StartOfSession)=\"&A65&\"\", \"Bar\", \"\", \"Close\",\"5\",\"0\",\"PrimaryOnly\",,,\"False\",\"T\",\"EveryTick\")","v":1.1874499999999999},1.2225969645868057E-3,{"$f":"RTD(\"cqg.rtd\",,\"StudyData\", \"Close(\"&$D$12&\") when LocalYear(\"&$D$12&\")=\"&$D$7&\" and localMonth(\"&$D$12&\") =\"&$E$7&\" and LocalDay(\"&$D$12&\")=\"&$F$7&\" and Barix(\"&$D$12&\",reference:=StartOfSession)=\"&A65&\"\", \"Bar\", \"\", \"Close\",\"5\",\"0\",\"PrimaryOnly\",,,\"False\",\"T\",\"EveryTick\")","v":1.1857},-3.4459573037485228E-3,{"$f":"RTD(\"cqg.rtd\",,\"StudyData\", \"Close(\"&$D$12&\") when LocalYear(\"&$D$12&\")=\"&$D$8&\" and localMonth(\"&$D$12&\") =\"&$E$8&\" and LocalDay(\"&$D$12&\")=\"&$F$8&\" and Barix(\"&$D$12&\",reference:=StartOfSession)=\"&A65&\"\", \"Bar\", \"\", \"Close\",\"5\",\"0\",\"PrimaryOnly\",,,\"False\",\"T\",\"EveryTick\")","v":1.1904999999999999},3.7519497491672717E-3,{"$f":"RTD(\"cqg.rtd\",,\"StudyData\", \"Close(\"&$D$12&\") when LocalYear(\"&$D$12&\")=\"&$D$9&\" and localMonth(\"&$D$12&\") =\"&$E$9&\" and LocalDay(\"&$D$12&\")=\"&$F$9&\" and Barix(\"&$D$12&\",reference:=StartOfSession)=\"&A65&\"\", \"Bar\", \"\", \"Close\",\"5\",\"0\",\"PrimaryOnly\",,,\"False\",\"T\",\"EveryTick\")","v":1.1861999999999999},4.7433508385565197E-3,{"$f":"RTD(\"cqg.rtd\",,\"StudyData\", \"Close(\"&$D$12&\") when LocalYear(\"&$D$12&\")=\"&$D$10&\" and localMonth(\"&$D$12&\") =\"&$E$10&\" and LocalDay(\"&$D$12&\")=\"&$F$10&\" and Barix(\"&$D$12&\",reference:=StartOfSession)=\"&A65&\"\", \"Bar\", \"\", \"Close\",\"5\",\"0\",\"PrimaryOnly\",,,\"False\",\"T\",\"EveryTick\")","v":1.1812499999999999},1.780943900267134E-3,null,null,null,""]
[245,"13:25:00",-12,{"$f":" RTD(\"cqg.rtd\",,\"StudyData\", $D$12,  \"Tick\", \"FlatTicks=0\", \"Tick\",\"D\",C66,\"PrimaryOnly\")","v":1.1680999999999999},null,null,null,{"$f":"RTD(\"cqg.rtd\",,\"StudyData\", \"Close(\"&$D$12&\") when LocalYear(\"&$D$12&\")=\"&$D$1&\" and localMonth(\"&$D$12&\") =\"&$E$1&\" and LocalDay(\"&$D$12&\")=\"&$F$1&\" and Barix(\"&$D$12&\",reference:=StartOfSession)=\"&A66&\"\", \"Bar\", \"\", \"Close\",\"5\",\"0\",\"PrimaryOnly\",,,\"False\",\"T\",\"EveryTick\")","v":""},{"$error":"#N/A"},{"$f":"RTD(\"cqg.rtd\",,\"StudyData\", \"Close(\"&$D$12&\") when LocalYear(\"&$D$12&\")=\"&$D$2&\" and localMonth(\"&$D$12&\") =\"&$E$2&\" and LocalDay(\"&$D$12&\")=\"&$F$2&\" and Barix(\"&$D$12&\",reference:=StartOfSession)=\"&A66&\"\", \"Bar\", \"\", \"Close\",\"5\",\"0\",\"PrimaryOnly\",,,\"False\",\"T\",\"EveryTick\")","v":1.16875},{"$f":"IFERROR((J66-$G$3)/$G$3,NA())","v":1.2850717498394148E-3},{"$f":"RTD(\"cqg.rtd\",,\"StudyData\", \"Close(\"&$D$12&\") when LocalYear(\"&$D$12&\")=\"&$D$3&\" and localMonth(\"&$D$12&\") =\"&$E$3&\" and LocalDay(\"&$D$12&\")=\"&$F$3&\" and Barix(\"&$D$12&\",reference:=StartOfSession)=\"&A66&\"\", \"Bar\", \"\", \"Close\",\"5\",\"0\",\"PrimaryOnly\",,,\"False\",\"T\",\"EveryTick\")","v":1.1682999999999999},{"$f":"IFERROR((L66-$G$4)/$G$4,NA())","v":-1.4799510899355042E-2},{"$f":"RTD(\"cqg.rtd\",,\"StudyData\", \"Close(\"&$D$12&\") when LocalYear(\"&$D$12&\")=\"&$D$4&\" and localMonth(\"&$D$12&\") =\"&$E$4&\" and LocalDay(\"&$D$12&\")=\"&$F$4&\" and Barix(\"&$D$12&\",reference:=StartOfSession)=\"&A66&\"\", \"Bar\", \"\", \"Close\",\"5\",\"0\",\"PrimaryOnly\",,,\"False\",\"T\",\"EveryTick\")","v":1.1826000000000001},{"$f":"IFERROR((N66-$G$5)/$G$5,NA())","v":-8.4488002703606783E-4},{"$f":"RTD(\"cqg.rtd\",,\"StudyData\", \"Close(\"&$D$12&\") when LocalYear(\"&$D$12&\")=\"&$D$5&\" and localMonth(\"&$D$12&\") =\"&$E$5&\" and LocalDay(\"&$D$12&\")=\"&$F$5&\" and Barix(\"&$D$12&\",reference:=StartOfSession)=\"&A66&\"\", \"Bar\", \"\", \"Close\",\"5\",\"0\",\"PrimaryOnly\",,,\"False\",\"T\",\"EveryTick\")","v":1.1822999999999999},{"$f":"IFERROR((P66-$G$6)/$G$6,NA())","v":-4.4627820815089951E-3},{"$f":"RTD(\"cqg.rtd\",,\"StudyData\", \"Close(\"&$D$12&\") when LocalYear(\"&$D$12&\")=\"&$D$6&\" and localMonth(\"&$D$12&\") =\"&$E$6&\" and LocalDay(\"&$D$12&\")=\"&$F$6&\" and Barix(\"&$D$12&\",reference:=StartOfSession)=\"&A66&\"\", \"Bar\", \"\", \"Close\",\"5\",\"0\",\"PrimaryOnly\",,,\"False\",\"T\",\"EveryTick\")","v":1.1874499999999999},{"$f":"IFERROR((R66-$G$7)/$G$7,NA())","v":1.2225969645868057E-3},{"$f":"RTD(\"cqg.rtd\",,\"StudyData\", \"Close(\"&$D$12&\") when LocalYear(\"&$D$12&\")=\"&$D$7&\" and localMonth(\"&$D$12&\") =\"&$E$7&\" and LocalDay(\"&$D$12&\")=\"&$F$7&\" and Barix(\"&$D$12&\",reference:=StartOfSession)=\"&A66&\"\", \"Bar\", \"\", \"Close\",\"5\",\"0\",\"PrimaryOnly\",,,\"False\",\"T\",\"EveryTick\")","v":1.1856500000000001},{"$f":"IFERROR((T66-$G$8)/$G$8,NA())","v":-3.4879811733063339E-3},{"$f":"RTD(\"cqg.rtd\",,\"StudyData\", \"Close(\"&$D$12&\") when LocalYear(\"&$D$12&\")=\"&$D$8&\" and localMonth(\"&$D$12&\") =\"&$E$8&\" and LocalDay(\"&$D$12&\")=\"&$F$8&\" and Barix(\"&$D$12&\",reference:=StartOfSession)=\"&A66&\"\", \"Bar\", \"\", \"Close\",\"5\",\"0\",\"PrimaryOnly\",,,\"False\",\"T\",\"EveryTick\")","v":1.19035},{"$f":"IFERROR((V66-$G$9)/$G$9,NA())","v":3.6254795329033096E-3},{"$f":"RTD(\"cqg.rtd\",,\"StudyData\", \"Close(\"&$D$12&\") when LocalYear(\"&$D$12&\")=\"&$D$9&\" and localMonth(\"&$D$12&\") =\"&$E$9&\" and LocalDay(\"&$D$12&\")=\"&$F$9&\" and Barix(\"&$D$12&\",reference:=StartOfSession)=\"&A66&\"\", \"Bar\", \"\", \"Close\",\"5\",\"0\",\"PrimaryOnly\",,,\"False\",\"T\",\"EveryTick\")","v":1.1856500000000001},{"$f":"IFERROR((X66-$G$10)/$G$10,NA())","v":4.2774860240555636E-3},{"$f":"RTD(\"cqg.rtd\",,\"StudyData\", \"Close(\"&$D$12&\") when LocalYear(\"&$D$12&\")=\"&$D$10&\" and localMonth(\"&$D$12&\") =\"&$E$10&\" and LocalDay(\"&$D$12&\")=\"&$F$10&\" and Barix(\"&$D$12&\",reference:=StartOfSession)=\"&A66&\"\", \"Bar\", \"\", \"Close\",\"5\",\"0\",\"PrimaryOnly\",,,\"False\",\"T\",\"EveryTick\")","v":1.1811499999999999},{"$f":"IFERROR((Z66-$G$11)/$G$11,NA())","v":1.6961370478734699E-3},null,null,null,""]
[{"$f":"A66+1","v":246},"13:30:00",-11,{"$f":" RTD(\"cqg.rtd\",,\"StudyData\", $D$12,  \"Tick\", \"FlatTicks=0\", \"Tick\",\"D\",C67,\"PrimaryOnly\")","v":1.16805},null,null,null,{"$f":"RTD(\"cqg.rtd\",,\"StudyData\", \"Close(\"&$D$12&\") when LocalYear(\"&$D$12&\")=\"&$D$1&\" and localMonth(\"&$D$12&\") =\"&$E$1&\" and LocalDay(\"&$D$12&\")=\"&$F$1&\" and Barix(\"&$D$12&\",reference:=StartOfSession)=\"&A67&\"\", \"Bar\", \"\", \"Close\",\"5\",\"0\",\"PrimaryOnly\",,,\"False\",\"T\",\"EveryTick\")","v":""},{"$f":"IFERROR((H67-$G$2)/$G$2,NA())","v":{"$error":"#N/A"}},{"$f":"RTD(\"cqg.rtd\",,\"StudyData\", \"Close(\"&$D$12&\") when LocalYear(\"&$D$12&\")=\"&$D$2&\" and localMonth(\"&$D$12&\") =\"&$E$2&\" and LocalDay(\"&$D$12&\")=\"&$F$2&\" and Barix(\"&$D$12&\",reference:=StartOfSession)=\"&A67&\"\", \"Bar\", \"\", \"Close\",\"5\",\"0\",\"PrimaryOnly\",,,\"False\",\"T\",\"EveryTick\")","v":1.1691499999999999},1.6277575497965415E-3,{"$f":"RTD(\"cqg.rtd\",,\"StudyData\", \"Close(\"&$D$12&\") when LocalYear(\"&$D$12&\")=\"&$D$3&\" and localMonth(\"&$D$12&\") =\"&$E$3&\" and LocalDay(\"&$D$12&\")=\"&$F$3&\" and Barix(\"&$D$12&\",reference:=StartOfSession)=\"&A67&\"\", \"Bar\", \"\", \"Close\",\"5\",\"0\",\"PrimaryOnly\",,,\"False\",\"T\",\"EveryTick\")","v":1.16805},-1.5010330142935478E-2,{"$f":"RTD(\"cqg.rtd\",,\"StudyData\", \"Close(\"&$D$12&\") when LocalYear(\"&$D$12&\")=\"&$D$4&\" and localMonth(\"&$D$12&\") =\"&$E$4&\" and LocalDay(\"&$D$12&\")=\"&$F$4&\" and Barix(\"&$D$12&\",reference:=StartOfSession)=\"&A67&\"\", \"Bar\", \"\", \"Close\",\"5\",\"0\",\"PrimaryOnly\",,,\"False\",\"T\",\"EveryTick\")","v":1.1817},-1.6052720513687164E-3,{"$f":"RTD(\"cqg.rtd\",,\"StudyData\", \"Close(\"&$D$12&\") when LocalYear(\"&$D$12&\")=\"&$D$5&\" and localMonth(\"&$D$12&\") =\"&$E$5&\" and LocalDay(\"&$D$12&\")=\"&$F$5&\" and Barix(\"&$D$12&\",reference:=StartOfSession)=\"&A67&\"\", \"Bar\", \"\", \"Close\",\"5\",\"0\",\"PrimaryOnly\",,,\"False\",\"T\",\"EveryTick\")","v":1.1822999999999999},-4.4627820815089951E-3,{"$f":"RTD(\"cqg.rtd\",,\"StudyData\", \"Close(\"&$D$12&\") when LocalYear(\"&$D$12&\")=\"&$D$6&\" and localMonth(\"&$D$12&\") =\"&$E$6&\" and LocalDay(\"&$D$12&\")=\"&$F$6&\" and Barix(\"&$D$12&\",reference:=StartOfSession)=\"&A67&\"\", \"Bar\", \"\", \"Close\",\"5\",\"0\",\"PrimaryOnly\",,,\"False\",\"T\",\"EveryTick\")","v":1.1876},1.3490725126475934E-3,{"$f":"RTD(\"cqg.rtd\",,\"StudyData\", \"Close(\"&$D$12&\") when LocalYear(\"&$D$12&\")=\"&$D$7&\" and localMonth(\"&$D$12&\") =\"&$E$7&\" and LocalDay(\"&$D$12&\")=\"&$F$7&\" and Barix(\"&$D$12&\",reference:=StartOfSession)=\"&A67&\"\", \"Bar\", \"\", \"Close\",\"5\",\"0\",\"PrimaryOnly\",,,\"False\",\"T\",\"EveryTick\")","v":1.1858},-3.3619095646327144E-3,{"$f":"RTD(\"cqg.rtd\",,\"StudyData\", \"Close(\"&$D$12&\") when LocalYear(\"&$D$12&\")=\"&$D$8&\" and localMonth(\"&$D$12&\") =\"&$E$8&\" and LocalDay(\"&$D$12&\")=\"&$F$8&\" and Barix(\"&$D$12&\",reference:=StartOfSession)=\"&A67&\"\", \"Bar\", \"\", \"Close\",\"5\",\"0\",\"PrimaryOnly\",,,\"False\",\"T\",\"EveryTick\")","v":1.19015},3.4568525778845686E-3,{"$f":"RTD(\"cqg.rtd\",,\"StudyData\", \"Close(\"&$D$12&\") when LocalYear(\"&$D$12&\")=\"&$D$9&\" and localMonth(\"&$D$12&\") =\"&$E$9&\" and LocalDay(\"&$D$12&\")=\"&$F$9&\" and Barix(\"&$D$12&\",reference:=StartOfSession)=\"&A67&\"\", \"Bar\", \"\", \"Close\",\"5\",\"0\",\"PrimaryOnly\",,,\"False\",\"T\",\"EveryTick\")","v":1.1855},4.1504319837370011E-3,{"$f":"RTD(\"cqg.rtd\",,\"StudyData\", \"Close(\"&$D$12&\") when LocalYear(\"&$D$12&\")=\"&$D$10&\" and localMonth(\"&$D$12&\") =\"&$E$10&\" and LocalDay(\"&$D$12&\")=\"&$F$10&\" and Barix(\"&$D$12&\",reference:=StartOfSession)=\"&A67&\"\", \"Bar\", \"\", \"Close\",\"5\",\"0\",\"PrimaryOnly\",,,\"False\",\"T\",\"EveryTick\")","v":1.1812499999999999},1.780943900267134E-3,null,null,null,{"$f":"IF(AND(H66<>\"\",H67<>\"\",H68=\"\"),A67,\"\")","v":""}]
[247,"13:35:00",-10,{"$f":" RTD(\"cqg.rtd\",,\"StudyData\", $D$12,  \"Tick\", \"FlatTicks=0\", \"Tick\",\"D\",C68,\"PrimaryOnly\")","v":1.1680999999999999},null,null,null,{"$f":"RTD(\"cqg.rtd\",,\"StudyData\", \"Close(\"&$D$12&\") when LocalYear(\"&$D$12&\")=\"&$D$1&\" and localMonth(\"&$D$12&\") =\"&$E$1&\" and LocalDay(\"&$D$12&\")=\"&$F$1&\" and Barix(\"&$D$12&\",reference:=StartOfSession)=\"&A68&\"\", \"Bar\", \"\", \"Close\",\"5\",\"0\",\"PrimaryOnly\",,,\"False\",\"T\",\"EveryTick\")","v":""},{"$error":"#N/A"},{"$f":"RTD(\"cqg.rtd\",,\"StudyData\", \"Close(\"&$D$12&\") when LocalYear(\"&$D$12&\")=\"&$D$2&\" and localMonth(\"&$D$12&\") =\"&$E$2&\" and LocalDay(\"&$D$12&\")=\"&$F$2&\" and Barix(\"&$D$12&\",reference:=StartOfSession)=\"&A68&\"\", \"Bar\", \"\", \"Close\",\"5\",\"0\",\"PrimaryOnly\",,,\"False\",\"T\",\"EveryTick\")","v":1.1689000000000001},1.4135789248234324E-3,{"$f":"RTD(\"cqg.rtd\",,\"StudyData\", \"Close(\"&$D$12&\") when LocalYear(\"&$D$12&\")=\"&$D$3&\" and localMonth(\"&$D$12&\") =\"&$E$3&\" and LocalDay(\"&$D$12&\")=\"&$F$3&\" and Barix(\"&$D$12&\",reference:=StartOfSession)=\"&A68&\"\", \"Bar\", \"\", \"Close\",\"5\",\"0\",\"PrimaryOnly\",,,\"False\",\"T\",\"EveryTick\")","v":1.16845},-1.467301935320663E-2,{"$f":"RTD(\"cqg.rtd\",,\"StudyData\", \"Close(\"&$D$12&\") when LocalYear(\"&$D$12&\")=\"&$D$4&\" and localMonth(\"&$D$12&\") =\"&$E$4&\" and LocalDay(\"&$D$12&\")=\"&$F$4&\" and Barix(\"&$D$12&\",reference:=StartOfSession)=\"&A68&\"\", \"Bar\", \"\", \"Close\",\"5\",\"0\",\"PrimaryOnly\",,,\"False\",\"T\",\"EveryTick\")","v":1.1825000000000001},-9.2936802973967456E-4,{"$f":"RTD(\"cqg.rtd\",,\"StudyData\", \"Close(\"&$D$12&\") when LocalYear(\"&$D$12&\")=\"&$D$5&\" and localMonth(\"&$D$12&\") =\"&$E$5&\" and LocalDay(\"&$D$12&\")=\"&$F$5&\" and Barix(\"&$D$12&\",reference:=StartOfSession)=\"&A68&\"\", \"Bar\", \"\", \"Close\",\"5\",\"0\",\"PrimaryOnly\",,,\"False\",\"T\",\"EveryTick\")","v":1.18225},-4.5048837992589814E-3,{"$f":"RTD(\"cqg.rtd\",,\"StudyData\", \"Close(\"&$D$12&\") when LocalYear(\"&$D$12&\")=\"&$D$6&\" and localMonth(\"&$D$12&\") =\"&$E$6&\" and LocalDay(\"&$D$12&\")=\"&$F$6&\" and Barix(\"&$D$12&\",reference:=StartOfSession)=\"&A68&\"\", \"Bar\", \"\", \"Close\",\"5\",\"0\",\"PrimaryOnly\",,,\"False\",\"T\",\"EveryTick\")","v":1.1875500000000001},1.3069139966274557E-3,{"$f":"RTD(\"cqg.rtd\",,\"StudyData\", \"Close(\"&$D$12&\") when LocalYear(\"&$D$12&\")=\"&$D$7&\" and localMonth(\"&$D$12&\") =\"&$E$7&\" and LocalDay(\"&$D$12&\")=\"&$F$7&\" and Barix(\"&$D$12&\",reference:=StartOfSession)=\"&A68&\"\", \"Bar\", \"\", \"Close\",\"5\",\"0\",\"PrimaryOnly\",,,\"False\",\"T\",\"EveryTick\")","v":1.1858500000000001},-3.3198856950747168E-3,{"$f":"RTD(\"cqg.rtd\",,\"StudyData\", \"Close(\"&$D$12&\") when LocalYear(\"&$D$12&\")=\"&$D$8&\" and localMonth(\"&$D$12&\") =\"&$E$8&\" and LocalDay(\"&$D$12&\")=\"&$F$8&\" and Barix(\"&$D$12&\",reference:=StartOfSession)=\"&A68&\"\", \"Bar\", \"\", \"Close\",\"5\",\"0\",\"PrimaryOnly\",,,\"False\",\"T\",\"EveryTick\")","v":1.1904999999999999},3.7519497491672717E-3,{"$f":"RTD(\"cqg.rtd\",,\"StudyData\", \"Close(\"&$D$12&\") when LocalYear(\"&$D$12&\")=\"&$D$9&\" and localMonth(\"&$D$12&\") =\"&$E$9&\" and LocalDay(\"&$D$12&\")=\"&$F$9&\" and Barix(\"&$D$12&\",reference:=StartOfSession)=\"&A68&\"\", \"Bar\", \"\", \"Close\",\"5\",\"0\",\"PrimaryOnly\",,,\"False\",\"T\",\"EveryTick\")","v":1.1855},4.1504319837370011E-3,{"$f":"RTD(\"cqg.rtd\",,\"StudyData\", \"Close(\"&$D$12&\") when LocalYear(\"&$D$12&\")=\"&$D$10&\" and localMonth(\"&$D$12&\") =\"&$E$10&\" and LocalDay(\"&$D$12&\")=\"&$F$10&\" and Barix(\"&$D$12&\",reference:=StartOfSession)=\"&A68&\"\", \"Bar\", \"\", \"Close\",\"5\",\"0\",\"PrimaryOnly\",,,\"False\",\"T\",\"EveryTick\")","v":1.181},1.5689267692830678E-3,null,null,null,""]
[248,"13:40:00",-9,{"$f":" RTD(\"cqg.rtd\",,\"StudyData\", $D$12,  \"Tick\", \"FlatTicks=0\", \"Tick\",\"D\",C69,\"PrimaryOnly\")","v":1.16805},null,null,null,{"$f":"RTD(\"cqg.rtd\",,\"StudyData\", \"Close(\"&$D$12&\") when LocalYear(\"&$D$12&\")=\"&$D$1&\" and localMonth(\"&$D$12&\") =\"&$E$1&\" and LocalDay(\"&$D$12&\")=\"&$F$1&\" and Barix(\"&$D$12&\",reference:=StartOfSession)=\"&A69&\"\", \"Bar\", \"\", \"Close\",\"5\",\"0\",\"PrimaryOnly\",,,\"False\",\"T\",\"EveryTick\")","v":""},{"$error":"#N/A"},{"$f":"RTD(\"cqg.rtd\",,\"StudyData\", \"Close(\"&$D$12&\") when LocalYear(\"&$D$12&\")=\"&$D$2&\" and localMonth(\"&$D$12&\") =\"&$E$2&\" and LocalDay(\"&$D$12&\")=\"&$F$2&\" and Barix(\"&$D$12&\",reference:=StartOfSession)=\"&A69&\"\", \"Bar\", \"\", \"Close\",\"5\",\"0\",\"PrimaryOnly\",,,\"False\",\"T\",\"EveryTick\")","v":1.1688000000000001},1.3279074748341509E-3,{"$f":"RTD(\"cqg.rtd\",,\"StudyData\", \"Close(\"&$D$12&\") when LocalYear(\"&$D$12&\")=\"&$D$3&\" and localMonth(\"&$D$12&\") =\"&$E$3&\" and LocalDay(\"&$D$12&\")=\"&$F$3&\" and Barix(\"&$D$12&\",reference:=StartOfSession)=\"&A69&\"\", \"Bar\", \"\", \"Close\",\"5\",\"0\",\"PrimaryOnly\",,,\"False\",\"T\",\"EveryTick\")","v":1.16865},-1.4504363958342205E-2,{"$f":"RTD(\"cqg.rtd\",,\"StudyData\", \"Close(\"&$D$12&\") when LocalYear(\"&$D$12&\")=\"&$D$4&\" and localMonth(\"&$D$12&\") =\"&$E$4&\" and LocalDay(\"&$D$12&\")=\"&$F$4&\" and Barix(\"&$D$12&\",reference:=StartOfSession)=\"&A69&\"\", \"Bar\", \"\", \"Close\",\"5\",\"0\",\"PrimaryOnly\",,,\"False\",\"T\",\"EveryTick\")","v":1.1839},2.5346400811082035E-4,{"$f":"RTD(\"cqg.rtd\",,\"StudyData\", \"Close(\"&$D$12&\") when LocalYear(\"&$D$12&\")=\"&$D$5&\" and localMonth(\"&$D$12&\") =\"&$E$5&\" and LocalDay(\"&$D$12&\")=\"&$F$5&\" and Barix(\"&$D$12&\",reference:=StartOfSession)=\"&A69&\"\", \"Bar\", \"\", \"Close\",\"5\",\"0\",\"PrimaryOnly\",,,\"False\",\"T\",\"EveryTick\")","v":1.18275},-4.0838666217581851E-3,{"$f":"RTD(\"cqg.rtd\",,\"StudyData\", \"Close(\"&$D$12&\") when LocalYear(\"&$D$12&\")=\"&$D$6&\" and localMonth(\"&$D$12&\") =\"&$E$6&\" and LocalDay(\"&$D$12&\")=\"&$F$6&\" and Barix(\"&$D$12&\",reference:=StartOfSession)=\"&A69&\"\", \"Bar\", \"\", \"Close\",\"5\",\"0\",\"PrimaryOnly\",,,\"False\",\"T\",\"EveryTick\")","v":1.1874},1.1804384485666678E-3,{"$f":"RTD(\"cqg.rtd\",,\"StudyData\", \"Close(\"&$D$12&\") when LocalYear(\"&$D$12&\")=\"&$D$7&\" and localMonth(\"&$D$12&\") =\"&$E$7&\" and LocalDay(\"&$D$12&\")=\"&$F$7&\" and Barix(\"&$D$12&\",reference:=StartOfSession)=\"&A69&\"\", \"Bar\", \"\", \"Close\",\"5\",\"0\",\"PrimaryOnly\",,,\"False\",\"T\",\"EveryTick\")","v":1.1859500000000001},-3.2358379559589085E-3,{"$f":"RTD(\"cqg.rtd\",,\"StudyData\", \"Close(\"&$D$12&\") when LocalYear(\"&$D$12&\")=\"&$D$8&\" and localMonth(\"&$D$12&\") =\"&$E$8&\" and LocalDay(\"&$D$12&\")=\"&$F$8&\" and Barix(\"&$D$12&\",reference:=StartOfSession)=\"&A69&\"\", \"Bar\", \"\", \"Close\",\"5\",\"0\",\"PrimaryOnly\",,,\"False\",\"T\",\"EveryTick\")","v":1.1904999999999999},3.7519497491672717E-3,{"$f":"RTD(\"cqg.rtd\",,\"StudyData\", \"Close(\"&$D$12&\") when LocalYear(\"&$D$12&\")=\"&$D$9&\" and localMonth(\"&$D$12&\") =\"&$E$9&\" and LocalDay(\"&$D$12&\")=\"&$F$9&\" and Barix(\"&$D$12&\",reference:=StartOfSession)=\"&A69&\"\", \"Bar\", \"\", \"Close\",\"5\",\"0\",\"PrimaryOnly\",,,\"False\",\"T\",\"EveryTick\")","v":1.1857500000000001},4.3621887176012088E-3,{"$f":"RTD(\"cqg.rtd\",,\"StudyData\", \"Close(\"&$D$12&\") when LocalYear(\"&$D$12&\")=\"&$D$10&\" and localMonth(\"&$D$12&\") =\"&$E$10&\" and LocalDay(\"&$D$12&\")=\"&$F$10&\" and Barix(\"&$D$12&\",reference:=StartOfSession)=\"&A69&\"\", \"Bar\", \"\", \"Close\",\"5\",\"0\",\"PrimaryOnly\",,,\"False\",\"T\",\"EveryTick\")","v":1.1809499999999999},1.5265233430861416E-3,null,null,null,""]
[249,"13:45:00",-8,{"$f":" RTD(\"cqg.rtd\",,\"StudyData\", $D$12,  \"Tick\", \"FlatTicks=0\", \"Tick\",\"D\",C70,\"PrimaryOnly\")","v":1.1679999999999999},null,null,null,{"$f":"RTD(\"cqg.rtd\",,\"StudyData\", \"Close(\"&$D$12&\") when LocalYear(\"&$D$12&\")=\"&$D$1&\" and localMonth(\"&$D$12&\") =\"&$E$1&\" and LocalDay(\"&$D$12&\")=\"&$F$1&\" and Barix(\"&$D$12&\",reference:=StartOfSession)=\"&A70&\"\", \"Bar\", \"\", \"Close\",\"5\",\"0\",\"PrimaryOnly\",,,\"False\",\"T\",\"EveryTick\")","v":""},{"$error":"#N/A"},{"$f":"RTD(\"cqg.rtd\",,\"StudyData\", \"Close(\"&$D$12&\") when LocalYear(\"&$D$12&\")=\"&$D$2&\" and localMonth(\"&$D$12&\") =\"&$E$2&\" and LocalDay(\"&$D$12&\")=\"&$F$2&\" and Barix(\"&$D$12&\",reference:=StartOfSession)=\"&A70&\"\", \"Bar\", \"\", \"Close\",\"5\",\"0\",\"PrimaryOnly\",,,\"False\",\"T\",\"EveryTick\")","v":1.1688499999999999},1.3707431998286966E-3,{"$f":"RTD(\"cqg.rtd\",,\"StudyData\", \"Close(\"&$D$12&\") when LocalYear(\"&$D$12&\")=\"&$D$3&\" and localMonth(\"&$D$12&\") =\"&$E$3&\" and LocalDay(\"&$D$12&\")=\"&$F$3&\" and Barix(\"&$D$12&\",reference:=StartOfSession)=\"&A70&\"\", \"Bar\", \"\", \"Close\",\"5\",\"0\",\"PrimaryOnly\",,,\"False\",\"T\",\"EveryTick\")","v":1.1685000000000001},-1.4630855504490429E-2,{"$f":"RTD(\"cqg.rtd\",,\"StudyData\", \"Close(\"&$D$12&\") when LocalYear(\"&$D$12&\")=\"&$D$4&\" and localMonth(\"&$D$12&\") =\"&$E$4&\" and LocalDay(\"&$D$12&\")=\"&$F$4&\" and Barix(\"&$D$12&\",reference:=StartOfSession)=\"&A70&\"\", \"Bar\", \"\", \"Close\",\"5\",\"0\",\"PrimaryOnly\",,,\"False\",\"T\",\"EveryTick\")","v":1.1836},0,{"$f":"RTD(\"cqg.rtd\",,\"StudyData\", \"Close(\"&$D$12&\") when LocalYear(\"&$D$12&\")=\"&$D$5&\" and localMonth(\"&$D$12&\") =\"&$E$5&\" and LocalDay(\"&$D$12&\")=\"&$F$5&\" and Barix(\"&$D$12&\",reference:=StartOfSession)=\"&A70&\"\", \"Bar\", \"\", \"Close\",\"5\",\"0\",\"PrimaryOnly\",,,\"False\",\"T\",\"EveryTick\")","v":1.1832499999999999},-3.6628494442573897E-3,{"$f":"RTD(\"cqg.rtd\",,\"StudyData\", \"Close(\"&$D$12&\") when LocalYear(\"&$D$12&\")=\"&$D$6&\" and localMonth(\"&$D$12&\") =\"&$E$6&\" and LocalDay(\"&$D$12&\")=\"&$F$6&\" and Barix(\"&$D$12&\",reference:=StartOfSession)=\"&A70&\"\", \"Bar\", \"\", \"Close\",\"5\",\"0\",\"PrimaryOnly\",,,\"False\",\"T\",\"EveryTick\")","v":1.1874},1.1804384485666678E-3,{"$f":"RTD(\"cqg.rtd\",,\"StudyData\", \"Close(\"&$D$12&\") when LocalYear(\"&$D$12&\")=\"&$D$7&\" and localMonth(\"&$D$12&\") =\"&$E$7&\" and LocalDay(\"&$D$12&\")=\"&$F$7&\" and Barix(\"&$D$12&\",reference:=StartOfSession)=\"&A70&\"\", \"Bar\", \"\", \"Close\",\"5\",\"0\",\"PrimaryOnly\",,,\"False\",\"T\",\"EveryTick\")","v":1.18615},-3.0677424777272914E-3,{"$f":"RTD(\"cqg.rtd\",,\"StudyData\", \"Close(\"&$D$12&\") when LocalYear(\"&$D$12&\")=\"&$D$8&\" and localMonth(\"&$D$12&\") =\"&$E$8&\" and LocalDay(\"&$D$12&\")=\"&$F$8&\" and Barix(\"&$D$12&\",reference:=StartOfSession)=\"&A70&\"\", \"Bar\", \"\", \"Close\",\"5\",\"0\",\"PrimaryOnly\",,,\"False\",\"T\",\"EveryTick\")","v":1.19045},3.7097930104126801E-3,{"$f":"RTD(\"cqg.rtd\",,\"StudyData\", \"Close(\"&$D$12&\") when LocalYear(\"&$D$12&\")=\"&$D$9&\" and localMonth(\"&$D$12&\") =\"&$E$9&\" and LocalDay(\"&$D$12&\")=\"&$F$9&\" and Barix(\"&$D$12&\",reference:=StartOfSession)=\"&A70&\"\", \"Bar\", \"\", \"Close\",\"5\",\"0\",\"PrimaryOnly\",,,\"False\",\"T\",\"EveryTick\")","v":1.1857},4.3198373708282925E-3,{"$f":"RTD(\"cqg.rtd\",,\"StudyData\", \"Close(\"&$D$12&\") when LocalYear(\"&$D$12&\")=\"&$D$10&\" and localMonth(\"&$D$12&\") =\"&$E$10&\" and LocalDay(\"&$D$12&\")=\"&$F$10&\" and Barix(\"&$D$12&\",reference:=StartOfSession)=\"&A70&\"\", \"Bar\", \"\", \"Close\",\"5\",\"0\",\"PrimaryOnly\",,,\"False\",\"T\",\"EveryTick\")","v":1.18075},1.3569096382988134E-3,null,null,null,""]
[250,"13:50:00",-7,{"$f":" RTD(\"cqg.rtd\",,\"StudyData\", $D$12,  \"Tick\", \"FlatTicks=0\", \"Tick\",\"D\",C71,\"PrimaryOnly\")","v":1.16795},null,null,null,{"$f":"RTD(\"cqg.rtd\",,\"StudyData\", \"Close(\"&$D$12&\") when LocalYear(\"&$D$12&\")=\"&$D$1&\" and localMonth(\"&$D$12&\") =\"&$E$1&\" and LocalDay(\"&$D$12&\")=\"&$F$1&\" and Barix(\"&$D$12&\",reference:=StartOfSession)=\"&A71&\"\", \"Bar\", \"\", \"Close\",\"5\",\"0\",\"PrimaryOnly\",,,\"False\",\"T\",\"EveryTick\")","v":""},{"$error":"#N/A"},{"$f":"RTD(\"cqg.rtd\",,\"StudyData\", \"Close(\"&$D$12&\") when LocalYear(\"&$D$12&\")=\"&$D$2&\" and localMonth(\"&$D$12&\") =\"&$E$2&\" and LocalDay(\"&$D$12&\")=\"&$F$2&\" and Barix(\"&$D$12&\",reference:=StartOfSession)=\"&A71&\"\", \"Bar\", \"\", \"Close\",\"5\",\"0\",\"PrimaryOnly\",,,\"False\",\"T\",\"EveryTick\")","v":1.1689499999999999},1.4564146498179781E-3,{"$f":"RTD(\"cqg.rtd\",,\"StudyData\", \"Close(\"&$D$12&\") when LocalYear(\"&$D$12&\")=\"&$D$3&\" and localMonth(\"&$D$12&\") =\"&$E$3&\" and LocalDay(\"&$D$12&\")=\"&$F$3&\" and Barix(\"&$D$12&\",reference:=StartOfSession)=\"&A71&\"\", \"Bar\", \"\", \"Close\",\"5\",\"0\",\"PrimaryOnly\",,,\"False\",\"T\",\"EveryTick\")","v":1.1682999999999999},-1.4799510899355042E-2,{"$f":"RTD(\"cqg.rtd\",,\"StudyData\", \"Close(\"&$D$12&\") when LocalYear(\"&$D$12&\")=\"&$D$4&\" and localMonth(\"&$D$12&\") =\"&$E$4&\" and LocalDay(\"&$D$12&\")=\"&$F$4&\" and Barix(\"&$D$12&\",reference:=StartOfSession)=\"&A71&\"\", \"Bar\", \"\", \"Close\",\"5\",\"0\",\"PrimaryOnly\",,,\"False\",\"T\",\"EveryTick\")","v":1.18405},3.8019601216632433E-4,{"$f":"RTD(\"cqg.rtd\",,\"StudyData\", \"Close(\"&$D$12&\") when LocalYear(\"&$D$12&\")=\"&$D$5&\" and localMonth(\"&$D$12&\") =\"&$E$5&\" and LocalDay(\"&$D$12&\")=\"&$F$5&\" and Barix(\"&$D$12&\",reference:=StartOfSession)=\"&A71&\"\", \"Bar\", \"\", \"Close\",\"5\",\"0\",\"PrimaryOnly\",,,\"False\",\"T\",\"EveryTick\")","v":1.1833499999999999},-3.5786460087572306E-3,{"$f":"RTD(\"cqg.rtd\",,\"StudyData\", \"Close(\"&$D$12&\") when LocalYear(\"&$D$12&\")=\"&$D$6&\" and localMonth(\"&$D$12&\") =\"&$E$6&\" and LocalDay(\"&$D$12&\")=\"&$F$6&\" and Barix(\"&$D$12&\",reference:=StartOfSession)=\"&A71&\"\", \"Bar\", \"\", \"Close\",\"5\",\"0\",\"PrimaryOnly\",,,\"False\",\"T\",\"EveryTick\")","v":1.1874499999999999},1.2225969645868057E-3,{"$f":"RTD(\"cqg.rtd\",,\"StudyData\", \"Close(\"&$D$12&\") when LocalYear(\"&$D$12&\")=\"&$D$7&\" and localMonth(\"&$D$12&\") =\"&$E$7&\" and LocalDay(\"&$D$12&\")=\"&$F$7&\" and Barix(\"&$D$12&\",reference:=StartOfSession)=\"&A71&\"\", \"Bar\", \"\", \"Close\",\"5\",\"0\",\"PrimaryOnly\",,,\"False\",\"T\",\"EveryTick\")","v":1.18615},-3.0677424777272914E-3,{"$f":"RTD(\"cqg.rtd\",,\"StudyData\", \"Close(\"&$D$12&\") when LocalYear(\"&$D$12&\")=\"&$D$8&\" and localMonth(\"&$D$12&\") =\"&$E$8&\" and LocalDay(\"&$D$12&\")=\"&$F$8&\" and Barix(\"&$D$12&\",reference:=StartOfSession)=\"&A71&\"\", \"Bar\", \"\", \"Close\",\"5\",\"0\",\"PrimaryOnly\",,,\"False\",\"T\",\"EveryTick\")","v":1.1904999999999999},3.7519497491672717E-3,{"$f":"RTD(\"cqg.rtd\",,\"StudyData\", \"Close(\"&$D$12&\") when LocalYear(\"&$D$12&\")=\"&$D$9&\" and localMonth(\"&$D$12&\") =\"&$E$9&\" and LocalDay(\"&$D$12&\")=\"&$F$9&\" and Barix(\"&$D$12&\",reference:=StartOfSession)=\"&A71&\"\", \"Bar\", \"\", \"Close\",\"5\",\"0\",\"PrimaryOnly\",,,\"False\",\"T\",\"EveryTick\")","v":1.1859},4.4892427579195831E-3,{"$f":"RTD(\"cqg.rtd\",,\"StudyData\", \"Close(\"&$D$12&\") when LocalYear(\"&$D$12&\")=\"&$D$10&\" and localMonth(\"&$D$12&\") =\"&$E$10&\" and LocalDay(\"&$D$12&\")=\"&$F$10&\" and Barix(\"&$D$12&\",reference:=StartOfSession)=\"&A71&\"\", \"Bar\", \"\", \"Close\",\"5\",\"0\",\"PrimaryOnly\",,,\"False\",\"T\",\"EveryTick\")","v":1.18075},1.3569096382988134E-3,null,null,null,""]
[251,"13:55:00",-6,{"$f":" RTD(\"cqg.rtd\",,\"StudyData\", $D$12,  \"Tick\", \"FlatTicks=0\", \"Tick\",\"D\",C72,\"PrimaryOnly\")","v":1.1679999999999999},null,null,null,{"$f":"RTD(\"cqg.rtd\",,\"StudyData\", \"Close(\"&$D$12&\") when LocalYear(\"&$D$12&\")=\"&$D$1&\" and localMonth(\"&$D$12&\") =\"&$E$1&\" and LocalDay(\"&$D$12&\")=\"&$F$1&\" and Barix(\"&$D$12&\",reference:=StartOfSession)=\"&A72&\"\", \"Bar\", \"\", \"Close\",\"5\",\"0\",\"PrimaryOnly\",,,\"False\",\"T\",\"EveryTick\")","v":""},{"$error":"#N/A"},{"$f":"RTD(\"cqg.rtd\",,\"StudyData\", \"Close(\"&$D$12&\") when LocalYear(\"&$D$12&\")=\"&$D$2&\" and localMonth(\"&$D$12&\") =\"&$E$2&\" and LocalDay(\"&$D$12&\")=\"&$F$2&\" and Barix(\"&$D$12&\",reference:=StartOfSession)=\"&A72&\"\", \"Bar\", \"\", \"Close\",\"5\",\"0\",\"PrimaryOnly\",,,\"False\",\"T\",\"EveryTick\")","v":1.1686000000000001},1.1565645748555875E-3,{"$f":"RTD(\"cqg.rtd\",,\"StudyData\", \"Close(\"&$D$12&\") when LocalYear(\"&$D$12&\")=\"&$D$3&\" and localMonth(\"&$D$12&\") =\"&$E$3&\" and LocalDay(\"&$D$12&\")=\"&$F$3&\" and Barix(\"&$D$12&\",reference:=StartOfSession)=\"&A72&\"\", \"Bar\", \"\", \"Close\",\"5\",\"0\",\"PrimaryOnly\",,,\"False\",\"T\",\"EveryTick\")","v":1.1672499999999999},-1.5684951722393363E-2,{"$f":"RTD(\"cqg.rtd\",,\"StudyData\", \"Close(\"&$D$12&\") when LocalYear(\"&$D$12&\")=\"&$D$4&\" and localMonth(\"&$D$12&\") =\"&$E$4&\" and LocalDay(\"&$D$12&\")=\"&$F$4&\" and Barix(\"&$D$12&\",reference:=StartOfSession)=\"&A72&\"\", \"Bar\", \"\", \"Close\",\"5\",\"0\",\"PrimaryOnly\",,,\"False\",\"T\",\"EveryTick\")","v":1.1858500000000001},1.9009800608314341E-3,{"$f":"RTD(\"cqg.rtd\",,\"StudyData\", \"Close(\"&$D$12&\") when LocalYear(\"&$D$12&\")=\"&$D$5&\" and localMonth(\"&$D$12&\") =\"&$E$5&\" and LocalDay(\"&$D$12&\")=\"&$F$5&\" and Barix(\"&$D$12&\",reference:=StartOfSession)=\"&A72&\"\", \"Bar\", \"\", \"Close\",\"5\",\"0\",\"PrimaryOnly\",,,\"False\",\"T\",\"EveryTick\")","v":1.1836},-3.3681374200067392E-3,{"$f":"RTD(\"cqg.rtd\",,\"StudyData\", \"Close(\"&$D$12&\") when LocalYear(\"&$D$12&\")=\"&$D$6&\" and localMonth(\"&$D$12&\") =\"&$E$6&\" and LocalDay(\"&$D$12&\")=\"&$F$6&\" and Barix(\"&$D$12&\",reference:=StartOfSession)=\"&A72&\"\", \"Bar\", \"\", \"Close\",\"5\",\"0\",\"PrimaryOnly\",,,\"False\",\"T\",\"EveryTick\")","v":1.1876},1.3490725126475934E-3,{"$f":"RTD(\"cqg.rtd\",,\"StudyData\", \"Close(\"&$D$12&\") when LocalYear(\"&$D$12&\")=\"&$D$7&\" and localMonth(\"&$D$12&\") =\"&$E$7&\" and LocalDay(\"&$D$12&\")=\"&$F$7&\" and Barix(\"&$D$12&\",reference:=StartOfSession)=\"&A72&\"\", \"Bar\", \"\", \"Close\",\"5\",\"0\",\"PrimaryOnly\",,,\"False\",\"T\",\"EveryTick\")","v":1.1859999999999999},-3.1938140864010973E-3,{"$f":"RTD(\"cqg.rtd\",,\"StudyData\", \"Close(\"&$D$12&\") when LocalYear(\"&$D$12&\")=\"&$D$8&\" and localMonth(\"&$D$12&\") =\"&$E$8&\" and LocalDay(\"&$D$12&\")=\"&$F$8&\" and Barix(\"&$D$12&\",reference:=StartOfSession)=\"&A72&\"\", \"Bar\", \"\", \"Close\",\"5\",\"0\",\"PrimaryOnly\",,,\"False\",\"T\",\"EveryTick\")","v":1.1898},3.1617554066016777E-3,{"$f":"RTD(\"cqg.rtd\",,\"StudyData\", \"Close(\"&$D$12&\") when LocalYear(\"&$D$12&\")=\"&$D$9&\" and localMonth(\"&$D$12&\") =\"&$E$9&\" and LocalDay(\"&$D$12&\")=\"&$F$9&\" and Barix(\"&$D$12&\",reference:=StartOfSession)=\"&A72&\"\", \"Bar\", \"\", \"Close\",\"5\",\"0\",\"PrimaryOnly\",,,\"False\",\"T\",\"EveryTick\")","v":1.18605},4.6162967982381455E-3,{"$f":"RTD(\"cqg.rtd\",,\"StudyData\", \"Close(\"&$D$12&\") when LocalYear(\"&$D$12&\")=\"&$D$10&\" and localMonth(\"&$D$12&\") =\"&$E$10&\" and LocalDay(\"&$D$12&\")=\"&$F$10&\" and Barix(\"&$D$12&\",reference:=StartOfSession)=\"&A72&\"\", \"Bar\", \"\", \"Close\",\"5\",\"0\",\"PrimaryOnly\",,,\"False\",\"T\",\"EveryTick\")","v":1.1806000000000001},1.2296993597084116E-3,null,null,null,""]
[252,"14:00:00",-5,{"$f":" RTD(\"cqg.rtd\",,\"StudyData\", $D$12,  \"Tick\", \"FlatTicks=0\", \"Tick\",\"D\",C73,\"PrimaryOnly\")","v":1.16795},null,null,null,{"$f":"RTD(\"cqg.rtd\",,\"StudyData\", \"Close(\"&$D$12&\") when LocalYear(\"&$D$12&\")=\"&$D$1&\" and localMonth(\"&$D$12&\") =\"&$E$1&\" and LocalDay(\"&$D$12&\")=\"&$F$1&\" and Barix(\"&$D$12&\",reference:=StartOfSession)=\"&A73&\"\", \"Bar\", \"\", \"Close\",\"5\",\"0\",\"PrimaryOnly\",,,\"False\",\"T\",\"EveryTick\")","v":""},{"$error":"#N/A"},{"$f":"RTD(\"cqg.rtd\",,\"StudyData\", \"Close(\"&$D$12&\") when LocalYear(\"&$D$12&\")=\"&$D$2&\" and localMonth(\"&$D$12&\") =\"&$E$2&\" and LocalDay(\"&$D$12&\")=\"&$F$2&\" and Barix(\"&$D$12&\",reference:=StartOfSession)=\"&A73&\"\", \"Bar\", \"\", \"Close\",\"5\",\"0\",\"PrimaryOnly\",,,\"False\",\"T\",\"EveryTick\")","v":1.1694},1.8419361747698407E-3,{"$f":"RTD(\"cqg.rtd\",,\"StudyData\", \"Close(\"&$D$12&\") when LocalYear(\"&$D$12&\")=\"&$D$3&\" and localMonth(\"&$D$12&\") =\"&$E$3&\" and LocalDay(\"&$D$12&\")=\"&$F$3&\" and Barix(\"&$D$12&\",reference:=StartOfSession)=\"&A73&\"\", \"Bar\", \"\", \"Close\",\"5\",\"0\",\"PrimaryOnly\",,,\"False\",\"T\",\"EveryTick\")","v":1.1670499999999999},-1.5853607117257789E-2,{"$f":"RTD(\"cqg.rtd\",,\"StudyData\", \"Close(\"&$D$12&\") when LocalYear(\"&$D$12&\")=\"&$D$4&\" and localMonth(\"&$D$12&\") =\"&$E$4&\" and LocalDay(\"&$D$12&\")=\"&$F$4&\" and Barix(\"&$D$12&\",reference:=StartOfSession)=\"&A73&\"\", \"Bar\", \"\", \"Close\",\"5\",\"0\",\"PrimaryOnly\",,,\"False\",\"T\",\"EveryTick\")","v":1.1874},3.2105441027374328E-3,{"$f":"RTD(\"cqg.rtd\",,\"StudyData\", \"Close(\"&$D$12&\") when LocalYear(\"&$D$12&\")=\"&$D$5&\" and localMonth(\"&$D$12&\") =\"&$E$5&\" and LocalDay(\"&$D$12&\")=\"&$F$5&\" and Barix(\"&$D$12&\",reference:=StartOfSession)=\"&A73&\"\", \"Bar\", \"\", \"Close\",\"5\",\"0\",\"PrimaryOnly\",,,\"False\",\"T\",\"EveryTick\")","v":1.1834},-3.5365442910070574E-3,{"$f":"RTD(\"cqg.rtd\",,\"StudyData\", \"Close(\"&$D$12&\") when LocalYear(\"&$D$12&\")=\"&$D$6&\" and localMonth(\"&$D$12&\") =\"&$E$6&\" and LocalDay(\"&$D$12&\")=\"&$F$6&\" and Barix(\"&$D$12&\",reference:=StartOfSession)=\"&A73&\"\", \"Bar\", \"\", \"Close\",\"5\",\"0\",\"PrimaryOnly\",,,\"False\",\"T\",\"EveryTick\")","v":1.1872},1.0118043844857419E-3,{"$f":"RTD(\"cqg.rtd\",,\"StudyData\", \"Close(\"&$D$12&\") when LocalYear(\"&$D$12&\")=\"&$D$7&\" and localMonth(\"&$D$12&\") =\"&$E$7&\" and LocalDay(\"&$D$12&\")=\"&$F$7&\" and Barix(\"&$D$12&\",reference:=StartOfSession)=\"&A73&\"\", \"Bar\", \"\", \"Close\",\"5\",\"0\",\"PrimaryOnly\",,,\"False\",\"T\",\"EveryTick\")","v":1.1857},-3.4459573037485228E-3,{"$f":"RTD(\"cqg.rtd\",,\"StudyData\", \"Close(\"&$D$12&\") when LocalYear(\"&$D$12&\")=\"&$D$8&\" and localMonth(\"&$D$12&\") =\"&$E$8&\" and LocalDay(\"&$D$12&\")=\"&$F$8&\" and Barix(\"&$D$12&\",reference:=StartOfSession)=\"&A73&\"\", \"Bar\", \"\", \"Close\",\"5\",\"0\",\"PrimaryOnly\",,,\"False\",\"T\",\"EveryTick\")","v":1.1897500000000001},3.1195986678470861E-3,{"$f":"RTD(\"cqg.rtd\",,\"StudyData\", \"Close(\"&$D$12&\") when LocalYear(\"&$D$12&\")=\"&$D$9&\" and localMonth(\"&$D$12&\") =\"&$E$9&\" and LocalDay(\"&$D$12&\")=\"&$F$9&\" and Barix(\"&$D$12&\",reference:=StartOfSession)=\"&A73&\"\", \"Bar\", \"\", \"Close\",\"5\",\"0\",\"PrimaryOnly\",,,\"False\",\"T\",\"EveryTick\")","v":1.1859999999999999},4.5739454514652283E-3,{"$f":"RTD(\"cqg.rtd\",,\"StudyData\", \"Close(\"&$D$12&\") when LocalYear(\"&$D$12&\")=\"&$D$10&\" and localMonth(\"&$D$12&\") =\"&$E$10&\" and LocalDay(\"&$D$12&\")=\"&$F$10&\" and Barix(\"&$D$12&\",reference:=StartOfSession)=\"&A73&\"\", \"Bar\", \"\", \"Close\",\"5\",\"0\",\"PrimaryOnly\",,,\"False\",\"T\",\"EveryTick\")","v":1.1806000000000001},1.2296993597084116E-3,null,null,null,""]
[253,"14:05:00",-4,{"$f":" RTD(\"cqg.rtd\",,\"StudyData\", $D$12,  \"Tick\", \"FlatTicks=0\", \"Tick\",\"D\",C74,\"PrimaryOnly\")","v":1.1679999999999999},null,null,null,{"$f":"RTD(\"cqg.rtd\",,\"StudyData\", \"Close(\"&$D$12&\") when LocalYear(\"&$D$12&\")=\"&$D$1&\" and localMonth(\"&$D$12&\") =\"&$E$1&\" and LocalDay(\"&$D$12&\")=\"&$F$1&\" and Barix(\"&$D$12&\",reference:=StartOfSession)=\"&A74&\"\", \"Bar\", \"\", \"Close\",\"5\",\"0\",\"PrimaryOnly\",,,\"False\",\"T\",\"EveryTick\")","v":""},{"$error":"#N/A"},{"$f":"RTD(\"cqg.rtd\",,\"StudyData\", \"Close(\"&$D$12&\") when LocalYear(\"&$D$12&\")=\"&$D$2&\" and localMonth(\"&$D$12&\") =\"&$E$2&\" and LocalDay(\"&$D$12&\")=\"&$F$2&\" and Barix(\"&$D$12&\",reference:=StartOfSession)=\"&A74&\"\", \"Bar\", \"\", \"Close\",\"5\",\"0\",\"PrimaryOnly\",,,\"False\",\"T\",\"EveryTick\")","v":1.169},1.499250374812714E-3,{"$f":"RTD(\"cqg.rtd\",,\"StudyData\", \"Close(\"&$D$12&\") when LocalYear(\"&$D$12&\")=\"&$D$3&\" and localMonth(\"&$D$12&\") =\"&$E$3&\" and LocalDay(\"&$D$12&\")=\"&$F$3&\" and Barix(\"&$D$12&\",reference:=StartOfSession)=\"&A74&\"\", \"Bar\", \"\", \"Close\",\"5\",\"0\",\"PrimaryOnly\",,,\"False\",\"T\",\"EveryTick\")","v":1.1677500000000001},-1.5263313235232116E-2,{"$f":"RTD(\"cqg.rtd\",,\"StudyData\", \"Close(\"&$D$12&\") when LocalYear(\"&$D$12&\")=\"&$D$4&\" and localMonth(\"&$D$12&\") =\"&$E$4&\" and LocalDay(\"&$D$12&\")=\"&$F$4&\" and Barix(\"&$D$12&\",reference:=StartOfSession)=\"&A74&\"\", \"Bar\", \"\", \"Close\",\"5\",\"0\",\"PrimaryOnly\",,,\"False\",\"T\",\"EveryTick\")","v":1.1866000000000001},2.5346400811085785E-3,{"$f":"RTD(\"cqg.rtd\",,\"StudyData\", \"Close(\"&$D$12&\") when LocalYear(\"&$D$12&\")=\"&$D$5&\" and localMonth(\"&$D$12&\") =\"&$E$5&\" and LocalDay(\"&$D$12&\")=\"&$F$5&\" and Barix(\"&$D$12&\",reference:=StartOfSession)=\"&A74&\"\", \"Bar\", \"\", \"Close\",\"5\",\"0\",\"PrimaryOnly\",,,\"False\",\"T\",\"EveryTick\")","v":1.1836500000000001},-3.3260357022565665E-3,{"$f":"RTD(\"cqg.rtd\",,\"StudyData\", \"Close(\"&$D$12&\") when LocalYear(\"&$D$12&\")=\"&$D$6&\" and localMonth(\"&$D$12&\") =\"&$E$6&\" and LocalDay(\"&$D$12&\")=\"&$F$6&\" and Barix(\"&$D$12&\",reference:=StartOfSession)=\"&A74&\"\", \"Bar\", \"\", \"Close\",\"5\",\"0\",\"PrimaryOnly\",,,\"False\",\"T\",\"EveryTick\")","v":1.1873},1.0961214165262048E-3,{"$f":"RTD(\"cqg.rtd\",,\"StudyData\", \"Close(\"&$D$12&\") when LocalYear(\"&$D$12&\")=\"&$D$7&\" and localMonth(\"&$D$12&\") =\"&$E$7&\" and LocalDay(\"&$D$12&\")=\"&$F$7&\" and Barix(\"&$D$12&\",reference:=StartOfSession)=\"&A74&\"\", \"Bar\", \"\", \"Close\",\"5\",\"0\",\"PrimaryOnly\",,,\"False\",\"T\",\"EveryTick\")","v":1.1858500000000001},-3.3198856950747168E-3,{"$f":"RTD(\"cqg.rtd\",,\"StudyData\", \"Close(\"&$D$12&\") when LocalYear(\"&$D$12&\")=\"&$D$8&\" and localMonth(\"&$D$12&\") =\"&$E$8&\" and LocalDay(\"&$D$12&\")=\"&$F$8&\" and Barix(\"&$D$12&\",reference:=StartOfSession)=\"&A74&\"\", \"Bar\", \"\", \"Close\",\"5\",\"0\",\"PrimaryOnly\",,,\"False\",\"T\",\"EveryTick\")","v":1.1895},2.9088149740735662E-3,{"$f":"RTD(\"cqg.rtd\",,\"StudyData\", \"Close(\"&$D$12&\") when LocalYear(\"&$D$12&\")=\"&$D$9&\" and localMonth(\"&$D$12&\") =\"&$E$9&\" and LocalDay(\"&$D$12&\")=\"&$F$9&\" and Barix(\"&$D$12&\",reference:=StartOfSession)=\"&A74&\"\", \"Bar\", \"\", \"Close\",\"5\",\"0\",\"PrimaryOnly\",,,\"False\",\"T\",\"EveryTick\")","v":1.1859500000000001},4.5315941046925002E-3,{"$f":"RTD(\"cqg.rtd\",,\"StudyData\", \"Close(\"&$D$12&\") when LocalYear(\"&$D$12&\")=\"&$D$10&\" and localMonth(\"&$D$12&\") =\"&$E$10&\" and LocalDay(\"&$D$12&\")=\"&$F$10&\" and Barix(\"&$D$12&\",reference:=StartOfSession)=\"&A74&\"\", \"Bar\", \"\", \"Close\",\"5\",\"0\",\"PrimaryOnly\",,,\"False\",\"T\",\"EveryTick\")","v":1.1802999999999999},9.7527880252723097E-4,null,null,null,""]
[254,"14:10:00",-3,{"$f":" RTD(\"cqg.rtd\",,\"StudyData\", $D$12,  \"Tick\", \"FlatTicks=0\", \"Tick\",\"D\",C75,\"PrimaryOnly\")","v":1.16795},null,null,null,{"$f":"RTD(\"cqg.rtd\",,\"StudyData\", \"Close(\"&$D$12&\") when LocalYear(\"&$D$12&\")=\"&$D$1&\" and localMonth(\"&$D$12&\") =\"&$E$1&\" and LocalDay(\"&$D$12&\")=\"&$F$1&\" and Barix(\"&$D$12&\",reference:=StartOfSession)=\"&A75&\"\", \"Bar\", \"\", \"Close\",\"5\",\"0\",\"PrimaryOnly\",,,\"False\",\"T\",\"EveryTick\")","v":""},{"$error":"#N/A"},{"$f":"RTD(\"cqg.rtd\",,\"StudyData\", \"Close(\"&$D$12&\") when LocalYear(\"&$D$12&\")=\"&$D$2&\" and localMonth(\"&$D$12&\") =\"&$E$2&\" and LocalDay(\"&$D$12&\")=\"&$F$2&\" and Barix(\"&$D$12&\",reference:=StartOfSession)=\"&A75&\"\", \"Bar\", \"\", \"Close\",\"5\",\"0\",\"PrimaryOnly\",,,\"False\",\"T\",\"EveryTick\")","v":1.1687000000000001},1.2422360248448691E-3,{"$f":"RTD(\"cqg.rtd\",,\"StudyData\", \"Close(\"&$D$12&\") when LocalYear(\"&$D$12&\")=\"&$D$3&\" and localMonth(\"&$D$12&\") =\"&$E$3&\" and LocalDay(\"&$D$12&\")=\"&$F$3&\" and Barix(\"&$D$12&\",reference:=StartOfSession)=\"&A75&\"\", \"Bar\", \"\", \"Close\",\"5\",\"0\",\"PrimaryOnly\",,,\"False\",\"T\",\"EveryTick\")","v":1.1677500000000001},-1.5263313235232116E-2,{"$f":"RTD(\"cqg.rtd\",,\"StudyData\", \"Close(\"&$D$12&\") when LocalYear(\"&$D$12&\")=\"&$D$4&\" and localMonth(\"&$D$12&\") =\"&$E$4&\" and LocalDay(\"&$D$12&\")=\"&$F$4&\" and Barix(\"&$D$12&\",reference:=StartOfSession)=\"&A75&\"\", \"Bar\", \"\", \"Close\",\"5\",\"0\",\"PrimaryOnly\",,,\"False\",\"T\",\"EveryTick\")","v":1.1870000000000001},2.8725920919230059E-3,{"$f":"RTD(\"cqg.rtd\",,\"StudyData\", \"Close(\"&$D$12&\") when LocalYear(\"&$D$12&\")=\"&$D$5&\" and localMonth(\"&$D$12&\") =\"&$E$5&\" and LocalDay(\"&$D$12&\")=\"&$F$5&\" and Barix(\"&$D$12&\",reference:=StartOfSession)=\"&A75&\"\", \"Bar\", \"\", \"Close\",\"5\",\"0\",\"PrimaryOnly\",,,\"False\",\"T\",\"EveryTick\")","v":1.1836500000000001},-3.3260357022565665E-3,{"$f":"RTD(\"cqg.rtd\",,\"StudyData\", \"Close(\"&$D$12&\") when LocalYear(\"&$D$12&\")=\"&$D$6&\" and localMonth(\"&$D$12&\") =\"&$E$6&\" and LocalDay(\"&$D$12&\")=\"&$F$6&\" and Barix(\"&$D$12&\",reference:=StartOfSession)=\"&A75&\"\", \"Bar\", \"\", \"Close\",\"5\",\"0\",\"PrimaryOnly\",,,\"False\",\"T\",\"EveryTick\")","v":1.1874499999999999},1.2225969645868057E-3,{"$f":"RTD(\"cqg.rtd\",,\"StudyData\", \"Close(\"&$D$12&\") when LocalYear(\"&$D$12&\")=\"&$D$7&\" and localMonth(\"&$D$12&\") =\"&$E$7&\" and LocalDay(\"&$D$12&\")=\"&$F$7&\" and Barix(\"&$D$12&\",reference:=StartOfSession)=\"&A75&\"\", \"Bar\", \"\", \"Close\",\"5\",\"0\",\"PrimaryOnly\",,,\"False\",\"T\",\"EveryTick\")","v":1.1859999999999999},-3.1938140864010973E-3,{"$f":"RTD(\"cqg.rtd\",,\"StudyData\", \"Close(\"&$D$12&\") when LocalYear(\"&$D$12&\")=\"&$D$8&\" and localMonth(\"&$D$12&\") =\"&$E$8&\" and LocalDay(\"&$D$12&\")=\"&$F$8&\" and Barix(\"&$D$12&\",reference:=StartOfSession)=\"&A75&\"\", \"Bar\", \"\", \"Close\",\"5\",\"0\",\"PrimaryOnly\",,,\"False\",\"T\",\"EveryTick\")","v":1.1896},2.9931284515829367E-3,{"$f":"RTD(\"cqg.rtd\",,\"StudyData\", \"Close(\"&$D$12&\") when LocalYear(\"&$D$12&\")=\"&$D$9&\" and localMonth(\"&$D$12&\") =\"&$E$9&\" and LocalDay(\"&$D$12&\")=\"&$F$9&\" and Barix(\"&$D$12&\",reference:=StartOfSession)=\"&A75&\"\", \"Bar\", \"\", \"Close\",\"5\",\"0\",\"PrimaryOnly\",,,\"False\",\"T\",\"EveryTick\")","v":1.18615},4.7009994917837907E-3,{"$f":"RTD(\"cqg.rtd\",,\"StudyData\", \"Close(\"&$D$12&\") when LocalYear(\"&$D$12&\")=\"&$D$10&\" and localMonth(\"&$D$12&\") =\"&$E$10&\" and LocalDay(\"&$D$12&\")=\"&$F$10&\" and Barix(\"&$D$12&\",reference:=StartOfSession)=\"&A75&\"\", \"Bar\", \"\", \"Close\",\"5\",\"0\",\"PrimaryOnly\",,,\"False\",\"T\",\"EveryTick\")","v":1.18025},9.3287537633049314E-4,null,null,null,""]
[255,"14:15:00",-2,{"$f":" RTD(\"cqg.rtd\",,\"StudyData\", $D$12,  \"Tick\", \"FlatTicks=0\", \"Tick\",\"D\",C76,\"PrimaryOnly\")","v":1.16805},null,null,null,{"$f":"RTD(\"cqg.rtd\",,\"StudyData\", \"Close(\"&$D$12&\") when LocalYear(\"&$D$12&\")=\"&$D$1&\" and localMonth(\"&$D$12&\") =\"&$E$1&\" and LocalDay(\"&$D$12&\")=\"&$F$1&\" and Barix(\"&$D$12&\",reference:=StartOfSession)=\"&A76&\"\", \"Bar\", \"\", \"Close\",\"5\",\"0\",\"PrimaryOnly\",,,\"False\",\"T\",\"EveryTick\")","v":""},{"$error":"#N/A"},{"$f":"RTD(\"cqg.rtd\",,\"StudyData\", \"Close(\"&$D$12&\") when LocalYear(\"&$D$12&\")=\"&$D$2&\" and localMonth(\"&$D$12&\") =\"&$E$2&\" and LocalDay(\"&$D$12&\")=\"&$F$2&\" and Barix(\"&$D$12&\",reference:=StartOfSession)=\"&A76&\"\", \"Bar\", \"\", \"Close\",\"5\",\"0\",\"PrimaryOnly\",,,\"False\",\"T\",\"EveryTick\")","v":1.16865},1.1994002998501332E-3,{"$f":"RTD(\"cqg.rtd\",,\"StudyData\", \"Close(\"&$D$12&\") when LocalYear(\"&$D$12&\")=\"&$D$3&\" and localMonth(\"&$D$12&\") =\"&$E$3&\" and LocalDay(\"&$D$12&\")=\"&$F$3&\" and Barix(\"&$D$12&\",reference:=StartOfSession)=\"&A76&\"\", \"Bar\", \"\", \"Close\",\"5\",\"0\",\"PrimaryOnly\",,,\"False\",\"T\",\"EveryTick\")","v":1.1677999999999999},-1.5221149386516102E-2,{"$f":"RTD(\"cqg.rtd\",,\"StudyData\", \"Close(\"&$D$12&\") when LocalYear(\"&$D$12&\")=\"&$D$4&\" and localMonth(\"&$D$12&\") =\"&$E$4&\" and LocalDay(\"&$D$12&\")=\"&$F$4&\" and Barix(\"&$D$12&\",reference:=StartOfSession)=\"&A76&\"\", \"Bar\", \"\", \"Close\",\"5\",\"0\",\"PrimaryOnly\",,,\"False\",\"T\",\"EveryTick\")","v":1.1865000000000001},2.4501520784049719E-3,{"$f":"RTD(\"cqg.rtd\",,\"StudyData\", \"Close(\"&$D$12&\") when LocalYear(\"&$D$12&\")=\"&$D$5&\" and localMonth(\"&$D$12&\") =\"&$E$5&\" and LocalDay(\"&$D$12&\")=\"&$F$5&\" and Barix(\"&$D$12&\",reference:=StartOfSession)=\"&A76&\"\", \"Bar\", \"\", \"Close\",\"5\",\"0\",\"PrimaryOnly\",,,\"False\",\"T\",\"EveryTick\")","v":1.1839999999999999},-3.0313236780061029E-3,{"$f":"RTD(\"cqg.rtd\",,\"StudyData\", \"Close(\"&$D$12&\") when LocalYear(\"&$D$12&\")=\"&$D$6&\" and localMonth(\"&$D$12&\") =\"&$E$6&\" and LocalDay(\"&$D$12&\")=\"&$F$6&\" and Barix(\"&$D$12&\",reference:=StartOfSession)=\"&A76&\"\", \"Bar\", \"\", \"Close\",\"5\",\"0\",\"PrimaryOnly\",,,\"False\",\"T\",\"EveryTick\")","v":1.1874},1.1804384485666678E-3,{"$f":"RTD(\"cqg.rtd\",,\"StudyData\", \"Close(\"&$D$12&\") when LocalYear(\"&$D$12&\")=\"&$D$7&\" and localMonth(\"&$D$12&\") =\"&$E$7&\" and LocalDay(\"&$D$12&\")=\"&$F$7&\" and Barix(\"&$D$12&\",reference:=StartOfSession)=\"&A76&\"\", \"Bar\", \"\", \"Close\",\"5\",\"0\",\"PrimaryOnly\",,,\"False\",\"T\",\"EveryTick\")","v":1.1857},-3.4459573037485228E-3,{"$f":"RTD(\"cqg.rtd\",,\"StudyData\", \"Close(\"&$D$12&\") when LocalYear(\"&$D$12&\")=\"&$D$8&\" and localMonth(\"&$D$12&\") =\"&$E$8&\" and LocalDay(\"&$D$12&\")=\"&$F$8&\" and Barix(\"&$D$12&\",reference:=StartOfSession)=\"&A76&\"\", \"Bar\", \"\", \"Close\",\"5\",\"0\",\"PrimaryOnly\",,,\"False\",\"T\",\"EveryTick\")","v":1.1893499999999999},2.7823447578094163E-3,{"$f":"RTD(\"cqg.rtd\",,\"StudyData\", \"Close(\"&$D$12&\") when LocalYear(\"&$D$12&\")=\"&$D$9&\" and localMonth(\"&$D$12&\") =\"&$E$9&\" and LocalDay(\"&$D$12&\")=\"&$F$9&\" and Barix(\"&$D$12&\",reference:=StartOfSession)=\"&A76&\"\", \"Bar\", \"\", \"Close\",\"5\",\"0\",\"PrimaryOnly\",,,\"False\",\"T\",\"EveryTick\")","v":1.18615},4.7009994917837907E-3,{"$f":"RTD(\"cqg.rtd\",,\"StudyData\", \"Close(\"&$D$12&\") when LocalYear(\"&$D$12&\")=\"&$D$10&\" and localMonth(\"&$D$12&\") =\"&$E$10&\" and LocalDay(\"&$D$12&\")=\"&$F$10&\" and Barix(\"&$D$12&\",reference:=StartOfSession)=\"&A76&\"\", \"Bar\", \"\", \"Close\",\"5\",\"0\",\"PrimaryOnly\",,,\"False\",\"T\",\"EveryTick\")","v":1.18025},9.3287537633049314E-4,null,null,null,""]
[256,"14:20:00",-1,{"$f":" RTD(\"cqg.rtd\",,\"StudyData\", $D$12,  \"Tick\", \"FlatTicks=0\", \"Tick\",\"D\",C77,\"PrimaryOnly\")","v":1.1679999999999999},null,null,null,{"$f":"RTD(\"cqg.rtd\",,\"StudyData\", \"Close(\"&$D$12&\") when LocalYear(\"&$D$12&\")=\"&$D$1&\" and localMonth(\"&$D$12&\") =\"&$E$1&\" and LocalDay(\"&$D$12&\")=\"&$F$1&\" and Barix(\"&$D$12&\",reference:=StartOfSession)=\"&A77&\"\", \"Bar\", \"\", \"Close\",\"5\",\"0\",\"PrimaryOnly\",,,\"False\",\"T\",\"EveryTick\")","v":""},{"$error":"#N/A"},{"$f":"RTD(\"cqg.rtd\",,\"StudyData\", \"Close(\"&$D$12&\") when LocalYear(\"&$D$12&\")=\"&$D$2&\" and localMonth(\"&$D$12&\") =\"&$E$2&\" and LocalDay(\"&$D$12&\")=\"&$F$2&\" and Barix(\"&$D$12&\",reference:=StartOfSession)=\"&A77&\"\", \"Bar\", \"\", \"Close\",\"5\",\"0\",\"PrimaryOnly\",,,\"False\",\"T\",\"EveryTick\")","v":1.1684000000000001},9.8522167487702416E-4,{"$f":"RTD(\"cqg.rtd\",,\"StudyData\", \"Close(\"&$D$12&\") when LocalYear(\"&$D$12&\")=\"&$D$3&\" and localMonth(\"&$D$12&\") =\"&$E$3&\" and LocalDay(\"&$D$12&\")=\"&$F$3&\" and Barix(\"&$D$12&\",reference:=StartOfSession)=\"&A77&\"\", \"Bar\", \"\", \"Close\",\"5\",\"0\",\"PrimaryOnly\",,,\"False\",\"T\",\"EveryTick\")","v":1.1678500000000001},-1.5178985537799903E-2,{"$f":"RTD(\"cqg.rtd\",,\"StudyData\", \"Close(\"&$D$12&\") when LocalYear(\"&$D$12&\")=\"&$D$4&\" and localMonth(\"&$D$12&\") =\"&$E$4&\" and LocalDay(\"&$D$12&\")=\"&$F$4&\" and Barix(\"&$D$12&\",reference:=StartOfSession)=\"&A77&\"\", \"Bar\", \"\", \"Close\",\"5\",\"0\",\"PrimaryOnly\",,,\"False\",\"T\",\"EveryTick\")","v":1.1863999999999999},2.3656640757011775E-3,{"$f":"RTD(\"cqg.rtd\",,\"StudyData\", \"Close(\"&$D$12&\") when LocalYear(\"&$D$12&\")=\"&$D$5&\" and localMonth(\"&$D$12&\") =\"&$E$5&\" and LocalDay(\"&$D$12&\")=\"&$F$5&\" and Barix(\"&$D$12&\",reference:=StartOfSession)=\"&A77&\"\", \"Bar\", \"\", \"Close\",\"5\",\"0\",\"PrimaryOnly\",,,\"False\",\"T\",\"EveryTick\")","v":1.1839500000000001},-3.0734253957560888E-3,{"$f":"RTD(\"cqg.rtd\",,\"StudyData\", \"Close(\"&$D$12&\") when LocalYear(\"&$D$12&\")=\"&$D$6&\" and localMonth(\"&$D$12&\") =\"&$E$6&\" and LocalDay(\"&$D$12&\")=\"&$F$6&\" and Barix(\"&$D$12&\",reference:=StartOfSession)=\"&A77&\"\", \"Bar\", \"\", \"Close\",\"5\",\"0\",\"PrimaryOnly\",,,\"False\",\"T\",\"EveryTick\")","v":1.1875},1.2647554806071307E-3,{"$f":"RTD(\"cqg.rtd\",,\"StudyData\", \"Close(\"&$D$12&\") when LocalYear(\"&$D$12&\")=\"&$D$7&\" and localMonth(\"&$D$12&\") =\"&$E$7&\" and LocalDay(\"&$D$12&\")=\"&$F$7&\" and Barix(\"&$D$12&\",reference:=StartOfSession)=\"&A77&\"\", \"Bar\", \"\", \"Close\",\"5\",\"0\",\"PrimaryOnly\",,,\"False\",\"T\",\"EveryTick\")","v":1.1857500000000001},-3.4039334341905256E-3,{"$f":"RTD(\"cqg.rtd\",,\"StudyData\", \"Close(\"&$D$12&\") when LocalYear(\"&$D$12&\")=\"&$D$8&\" and localMonth(\"&$D$12&\") =\"&$E$8&\" and LocalDay(\"&$D$12&\")=\"&$F$8&\" and Barix(\"&$D$12&\",reference:=StartOfSession)=\"&A77&\"\", \"Bar\", \"\", \"Close\",\"5\",\"0\",\"PrimaryOnly\",,,\"False\",\"T\",\"EveryTick\")","v":1.1894499999999999},2.8666582353187873E-3,{"$f":"RTD(\"cqg.rtd\",,\"StudyData\", \"Close(\"&$D$12&\") when LocalYear(\"&$D$12&\")=\"&$D$9&\" and localMonth(\"&$D$12&\") =\"&$E$9&\" and LocalDay(\"&$D$12&\")=\"&$F$9&\" and Barix(\"&$D$12&\",reference:=StartOfSession)=\"&A77&\"\", \"Bar\", \"\", \"Close\",\"5\",\"0\",\"PrimaryOnly\",,,\"False\",\"T\",\"EveryTick\")","v":1.1865000000000001},4.9974589191936437E-3,{"$f":"RTD(\"cqg.rtd\",,\"StudyData\", \"Close(\"&$D$12&\") when LocalYear(\"&$D$12&\")=\"&$D$10&\" and localMonth(\"&$D$12&\") =\"&$E$10&\" and LocalDay(\"&$D$12&\")=\"&$F$10&\" and Barix(\"&$D$12&\",reference:=StartOfSession)=\"&A77&\"\", \"Bar\", \"\", \"Close\",\"5\",\"0\",\"PrimaryOnly\",,,\"False\",\"T\",\"EveryTick\")","v":1.18035},1.0176822287241572E-3,null,null,null,""]
[257,"14:25:00",0,{"$f":" RTD(\"cqg.rtd\",,\"StudyData\", $D$12,  \"Tick\", \"FlatTicks=0\", \"Tick\",\"D\",C78,\"PrimaryOnly\")","v":1.16805},null,null,null,{"$f":"RTD(\"cqg.rtd\",,\"StudyData\", \"Close(\"&$D$12&\") when LocalYear(\"&$D$12&\")=\"&$D$1&\" and localMonth(\"&$D$12&\") =\"&$E$1&\" and LocalDay(\"&$D$12&\")=\"&$F$1&\" and Barix(\"&$D$12&\",reference:=StartOfSession)=\"&A78&\"\", \"Bar\", \"\", \"Close\",\"5\",\"0\",\"PrimaryOnly\",,,\"False\",\"T\",\"EveryTick\")","v":""},{"$error":"#N/A"},{"$f":"RTD(\"cqg.rtd\",,\"StudyData\", \"Close(\"&$D$12&\") when LocalYear(\"&$D$12&\")=\"&$D$2&\" and localMonth(\"&$D$12&\") =\"&$E$2&\" and LocalDay(\"&$D$12&\")=\"&$F$2&\" and Barix(\"&$D$12&\",reference:=StartOfSession)=\"&A78&\"\", \"Bar\", \"\", \"Close\",\"5\",\"0\",\"PrimaryOnly\",,,\"False\",\"T\",\"EveryTick\")","v":1.16845},1.0280573998715699E-3,{"$f":"RTD(\"cqg.rtd\",,\"StudyData\", \"Close(\"&$D$12&\") when LocalYear(\"&$D$12&\")=\"&$D$3&\" and localMonth(\"&$D$12&\") =\"&$E$3&\" and LocalDay(\"&$D$12&\")=\"&$F$3&\" and Barix(\"&$D$12&\",reference:=StartOfSession)=\"&A78&\"\", \"Bar\", \"\", \"Close\",\"5\",\"0\",\"PrimaryOnly\",,,\"False\",\"T\",\"EveryTick\")","v":1.1677999999999999},-1.5221149386516102E-2,{"$f":"RTD(\"cqg.rtd\",,\"StudyData\", \"Close(\"&$D$12&\") when LocalYear(\"&$D$12&\")=\"&$D$4&\" and localMonth(\"&$D$12&\") =\"&$E$4&\" and LocalDay(\"&$D$12&\")=\"&$F$4&\" and Barix(\"&$D$12&\",reference:=StartOfSession)=\"&A78&\"\", \"Bar\", \"\", \"Close\",\"5\",\"0\",\"PrimaryOnly\",,,\"False\",\"T\",\"EveryTick\")","v":1.1867000000000001},2.6191280838121856E-3,{"$f":"RTD(\"cqg.rtd\",,\"StudyData\", \"Close(\"&$D$12&\") when LocalYear(\"&$D$12&\")=\"&$D$5&\" and localMonth(\"&$D$12&\") =\"&$E$5&\" and LocalDay(\"&$D$12&\")=\"&$F$5&\" and Barix(\"&$D$12&\",reference:=StartOfSession)=\"&A78&\"\", \"Bar\", \"\", \"Close\",\"5\",\"0\",\"PrimaryOnly\",,,\"False\",\"T\",\"EveryTick\")","v":1.18415},-2.9050185247557706E-3,{"$f":"RTD(\"cqg.rtd\",,\"StudyData\", \"Close(\"&$D$12&\") when LocalYear(\"&$D$12&\")=\"&$D$6&\" and localMonth(\"&$D$12&\") =\"&$E$6&\" and LocalDay(\"&$D$12&\")=\"&$F$6&\" and Barix(\"&$D$12&\",reference:=StartOfSession)=\"&A78&\"\", \"Bar\", \"\", \"Close\",\"5\",\"0\",\"PrimaryOnly\",,,\"False\",\"T\",\"EveryTick\")","v":1.1874},1.1804384485666678E-3,{"$f":"RTD(\"cqg.rtd\",,\"StudyData\", \"Close(\"&$D$12&\") when LocalYear(\"&$D$12&\")=\"&$D$7&\" and localMonth(\"&$D$12&\") =\"&$E$7&\" and LocalDay(\"&$D$12&\")=\"&$F$7&\" and Barix(\"&$D$12&\",reference:=StartOfSession)=\"&A78&\"\", \"Bar\", \"\", \"Close\",\"5\",\"0\",\"PrimaryOnly\",,,\"False\",\"T\",\"EveryTick\")","v":1.1857},-3.4459573037485228E-3,{"$f":"RTD(\"cqg.rtd\",,\"StudyData\", \"Close(\"&$D$12&\") when LocalYear(\"&$D$12&\")=\"&$D$8&\" and localMonth(\"&$D$12&\") =\"&$E$8&\" and LocalDay(\"&$D$12&\")=\"&$F$8&\" and Barix(\"&$D$12&\",reference:=StartOfSession)=\"&A78&\"\", \"Bar\", \"\", \"Close\",\"5\",\"0\",\"PrimaryOnly\",,,\"False\",\"T\",\"EveryTick\")","v":1.1893499999999999},2.7823447578094163E-3,{"$f":"RTD(\"cqg.rtd\",,\"StudyData\", \"Close(\"&$D$12&\") when LocalYear(\"&$D$12&\")=\"&$D$9&\" and localMonth(\"&$D$12&\") =\"&$E$9&\" and LocalDay(\"&$D$12&\")=\"&$F$9&\" and Barix(\"&$D$12&\",reference:=StartOfSession)=\"&A78&\"\", \"Bar\", \"\", \"Close\",\"5\",\"0\",\"PrimaryOnly\",,,\"False\",\"T\",\"EveryTick\")","v":1.1865000000000001},4.9974589191936437E-3,{"$f":"RTD(\"cqg.rtd\",,\"StudyData\", \"Close(\"&$D$12&\") when LocalYear(\"&$D$12&\")=\"&$D$10&\" and localMonth(\"&$D$12&\") =\"&$E$10&\" and LocalDay(\"&$D$12&\")=\"&$F$10&\" and Barix(\"&$D$12&\",reference:=StartOfSession)=\"&A78&\"\", \"Bar\", \"\", \"Close\",\"5\",\"0\",\"PrimaryOnly\",,,\"False\",\"T\",\"EveryTick\")","v":1.18035},1.0176822287241572E-3,null,null,null,""]
[258,"14:30:00",null,null,null,null,null,{"$f":"RTD(\"cqg.rtd\",,\"StudyData\", \"Close(\"&$D$12&\") when LocalYear(\"&$D$12&\")=\"&$D$1&\" and localMonth(\"&$D$12&\") =\"&$E$1&\" and LocalDay(\"&$D$12&\")=\"&$F$1&\" and Barix(\"&$D$12&\",reference:=StartOfSession)=\"&A79&\"\", \"Bar\", \"\", \"Close\",\"5\",\"0\",\"PrimaryOnly\",,,\"False\",\"T\",\"EveryTick\")","v":""},{"$error":"#N/A"},{"$f":"RTD(\"cqg.rtd\",,\"StudyData\", \"Close(\"&$D$12&\") when LocalYear(\"&$D$12&\")=\"&$D$2&\" and localMonth(\"&$D$12&\") =\"&$E$2&\" and LocalDay(\"&$D$12&\")=\"&$F$2&\" and Barix(\"&$D$12&\",reference:=StartOfSession)=\"&A79&\"\", \"Bar\", \"\", \"Close\",\"5\",\"0\",\"PrimaryOnly\",,,\"False\",\"T\",\"EveryTick\")","v":1.1691499999999999},1.6277575497965415E-3,{"$f":"RTD(\"cqg.rtd\",,\"StudyData\", \"Close(\"&$D$12&\") when LocalYear(\"&$D$12&\")=\"&$D$3&\" and localMonth(\"&$D$12&\") =\"&$E$3&\" and LocalDay(\"&$D$12&\")=\"&$F$3&\" and Barix(\"&$D$12&\",reference:=StartOfSession)=\"&A79&\"\", \"Bar\", \"\", \"Close\",\"5\",\"0\",\"PrimaryOnly\",,,\"False\",\"T\",\"EveryTick\")","v":1.1678999999999999},-1.5136821689083891E-2,{"$f":"RTD(\"cqg.rtd\",,\"StudyData\", \"Close(\"&$D$12&\") when LocalYear(\"&$D$12&\")=\"&$D$4&\" and localMonth(\"&$D$12&\") =\"&$E$4&\" and LocalDay(\"&$D$12&\")=\"&$F$4&\" and Barix(\"&$D$12&\",reference:=StartOfSession)=\"&A79&\"\", \"Bar\", \"\", \"Close\",\"5\",\"0\",\"PrimaryOnly\",,,\"False\",\"T\",\"EveryTick\")","v":1.18685},2.745860087867502E-3,{"$f":"RTD(\"cqg.rtd\",,\"StudyData\", \"Close(\"&$D$12&\") when LocalYear(\"&$D$12&\")=\"&$D$5&\" and localMonth(\"&$D$12&\") =\"&$E$5&\" and LocalDay(\"&$D$12&\")=\"&$F$5&\" and Barix(\"&$D$12&\",reference:=StartOfSession)=\"&A79&\"\", \"Bar\", \"\", \"Close\",\"5\",\"0\",\"PrimaryOnly\",,,\"False\",\"T\",\"EveryTick\")","v":1.1839},-3.115527113506262E-3,{"$f":"RTD(\"cqg.rtd\",,\"StudyData\", \"Close(\"&$D$12&\") when LocalYear(\"&$D$12&\")=\"&$D$6&\" and localMonth(\"&$D$12&\") =\"&$E$6&\" and LocalDay(\"&$D$12&\")=\"&$F$6&\" and Barix(\"&$D$12&\",reference:=StartOfSession)=\"&A79&\"\", \"Bar\", \"\", \"Close\",\"5\",\"0\",\"PrimaryOnly\",,,\"False\",\"T\",\"EveryTick\")","v":1.1874499999999999},1.2225969645868057E-3,{"$f":"RTD(\"cqg.rtd\",,\"StudyData\", \"Close(\"&$D$12&\") when LocalYear(\"&$D$12&\")=\"&$D$7&\" and localMonth(\"&$D$12&\") =\"&$E$7&\" and LocalDay(\"&$D$12&\")=\"&$F$7&\" and Barix(\"&$D$12&\",reference:=StartOfSession)=\"&A79&\"\", \"Bar\", \"\", \"Close\",\"5\",\"0\",\"PrimaryOnly\",,,\"False\",\"T\",\"EveryTick\")","v":1.1855},-3.6140527819801399E-3,{"$f":"RTD(\"cqg.rtd\",,\"StudyData\", \"Close(\"&$D$12&\") when LocalYear(\"&$D$12&\")=\"&$D$8&\" and localMonth(\"&$D$12&\") =\"&$E$8&\" and LocalDay(\"&$D$12&\")=\"&$F$8&\" and Barix(\"&$D$12&\",reference:=StartOfSession)=\"&A79&\"\", \"Bar\", \"\", \"Close\",\"5\",\"0\",\"PrimaryOnly\",,,\"False\",\"T\",\"EveryTick\")","v":1.1895500000000001},2.9509717128283451E-3,{"$f":"RTD(\"cqg.rtd\",,\"StudyData\", \"Close(\"&$D$12&\") when LocalYear(\"&$D$12&\")=\"&$D$9&\" and localMonth(\"&$D$12&\") =\"&$E$9&\" and LocalDay(\"&$D$12&\")=\"&$F$9&\" and Barix(\"&$D$12&\",reference:=StartOfSession)=\"&A79&\"\", \"Bar\", \"\", \"Close\",\"5\",\"0\",\"PrimaryOnly\",,,\"False\",\"T\",\"EveryTick\")","v":1.1869000000000001},5.3362696933762256E-3,{"$f":"RTD(\"cqg.rtd\",,\"StudyData\", \"Close(\"&$D$12&\") when LocalYear(\"&$D$12&\")=\"&$D$10&\" and localMonth(\"&$D$12&\") =\"&$E$10&\" and LocalDay(\"&$D$12&\")=\"&$F$10&\" and Barix(\"&$D$12&\",reference:=StartOfSession)=\"&A79&\"\", \"Bar\", \"\", \"Close\",\"5\",\"0\",\"PrimaryOnly\",,,\"False\",\"T\",\"EveryTick\")","v":1.18035},1.0176822287241572E-3,null,null,null,""]
[259,"14:35:00",null,null,null,null,null,{"$f":"RTD(\"cqg.rtd\",,\"StudyData\", \"Close(\"&$D$12&\") when LocalYear(\"&$D$12&\")=\"&$D$1&\" and localMonth(\"&$D$12&\") =\"&$E$1&\" and LocalDay(\"&$D$12&\")=\"&$F$1&\" and Barix(\"&$D$12&\",reference:=StartOfSession)=\"&A80&\"\", \"Bar\", \"\", \"Close\",\"5\",\"0\",\"PrimaryOnly\",,,\"False\",\"T\",\"EveryTick\")","v":""},{"$error":"#N/A"},{"$f":"RTD(\"cqg.rtd\",,\"StudyData\", \"Close(\"&$D$12&\") when LocalYear(\"&$D$12&\")=\"&$D$2&\" and localMonth(\"&$D$12&\") =\"&$E$2&\" and LocalDay(\"&$D$12&\")=\"&$F$2&\" and Barix(\"&$D$12&\",reference:=StartOfSession)=\"&A80&\"\", \"Bar\", \"\", \"Close\",\"5\",\"0\",\"PrimaryOnly\",,,\"False\",\"T\",\"EveryTick\")","v":1.1689499999999999},1.4564146498179781E-3,{"$f":"RTD(\"cqg.rtd\",,\"StudyData\", \"Close(\"&$D$12&\") when LocalYear(\"&$D$12&\")=\"&$D$3&\" and localMonth(\"&$D$12&\") =\"&$E$3&\" and LocalDay(\"&$D$12&\")=\"&$F$3&\" and Barix(\"&$D$12&\",reference:=StartOfSession)=\"&A80&\"\", \"Bar\", \"\", \"Close\",\"5\",\"0\",\"PrimaryOnly\",,,\"False\",\"T\",\"EveryTick\")","v":1.1674500000000001},-1.5516296327528753E-2,{"$f":"RTD(\"cqg.rtd\",,\"StudyData\", \"Close(\"&$D$12&\") when LocalYear(\"&$D$12&\")=\"&$D$4&\" and localMonth(\"&$D$12&\") =\"&$E$4&\" and LocalDay(\"&$D$12&\")=\"&$F$4&\" and Barix(\"&$D$12&\",reference:=StartOfSession)=\"&A80&\"\", \"Bar\", \"\", \"Close\",\"5\",\"0\",\"PrimaryOnly\",,,\"False\",\"T\",\"EveryTick\")","v":1.1876500000000001},3.4217641094965437E-3,{"$f":"RTD(\"cqg.rtd\",,\"StudyData\", \"Close(\"&$D$12&\") when LocalYear(\"&$D$12&\")=\"&$D$5&\" and localMonth(\"&$D$12&\") =\"&$E$5&\" and LocalDay(\"&$D$12&\")=\"&$F$5&\" and Barix(\"&$D$12&\",reference:=StartOfSession)=\"&A80&\"\", \"Bar\", \"\", \"Close\",\"5\",\"0\",\"PrimaryOnly\",,,\"False\",\"T\",\"EveryTick\")","v":1.1837},-3.2839339845065802E-3,{"$f":"RTD(\"cqg.rtd\",,\"StudyData\", \"Close(\"&$D$12&\") when LocalYear(\"&$D$12&\")=\"&$D$6&\" and localMonth(\"&$D$12&\") =\"&$E$6&\" and LocalDay(\"&$D$12&\")=\"&$F$6&\" and Barix(\"&$D$12&\",reference:=StartOfSession)=\"&A80&\"\", \"Bar\", \"\", \"Close\",\"5\",\"0\",\"PrimaryOnly\",,,\"False\",\"T\",\"EveryTick\")","v":1.1875},1.2647554806071307E-3,{"$f":"RTD(\"cqg.rtd\",,\"StudyData\", \"Close(\"&$D$12&\") when LocalYear(\"&$D$12&\")=\"&$D$7&\" and localMonth(\"&$D$12&\") =\"&$E$7&\" and LocalDay(\"&$D$12&\")=\"&$F$7&\" and Barix(\"&$D$12&\",reference:=StartOfSession)=\"&A80&\"\", \"Bar\", \"\", \"Close\",\"5\",\"0\",\"PrimaryOnly\",,,\"False\",\"T\",\"EveryTick\")","v":1.1855500000000001},-3.5720289124221423E-3,{"$f":"RTD(\"cqg.rtd\",,\"StudyData\", \"Close(\"&$D$12&\") when LocalYear(\"&$D$12&\")=\"&$D$8&\" and localMonth(\"&$D$12&\") =\"&$E$8&\" and LocalDay(\"&$D$12&\")=\"&$F$8&\" and Barix(\"&$D$12&\",reference:=StartOfSession)=\"&A80&\"\", \"Bar\", \"\", \"Close\",\"5\",\"0\",\"PrimaryOnly\",,,\"False\",\"T\",\"EveryTick\")","v":1.1895500000000001},2.9509717128283451E-3,{"$f":"RTD(\"cqg.rtd\",,\"StudyData\", \"Close(\"&$D$12&\") when LocalYear(\"&$D$12&\")=\"&$D$9&\" and localMonth(\"&$D$12&\") =\"&$E$9&\" and LocalDay(\"&$D$12&\")=\"&$F$9&\" and Barix(\"&$D$12&\",reference:=StartOfSession)=\"&A80&\"\", \"Bar\", \"\", \"Close\",\"5\",\"0\",\"PrimaryOnly\",,,\"False\",\"T\",\"EveryTick\")","v":1.1870000000000001},5.4209723869218709E-3,{"$f":"RTD(\"cqg.rtd\",,\"StudyData\", \"Close(\"&$D$12&\") when LocalYear(\"&$D$12&\")=\"&$D$10&\" and localMonth(\"&$D$12&\") =\"&$E$10&\" and LocalDay(\"&$D$12&\")=\"&$F$10&\" and Barix(\"&$D$12&\",reference:=StartOfSession)=\"&A80&\"\", \"Bar\", \"\", \"Close\",\"5\",\"0\",\"PrimaryOnly\",,,\"False\",\"T\",\"EveryTick\")","v":1.18035},1.0176822287241572E-3,null,null,null,""]
[260,"14:40:00",null,null,null,null,null,{"$f":"RTD(\"cqg.rtd\",,\"StudyData\", \"Close(\"&$D$12&\") when LocalYear(\"&$D$12&\")=\"&$D$1&\" and localMonth(\"&$D$12&\") =\"&$E$1&\" and LocalDay(\"&$D$12&\")=\"&$F$1&\" and Barix(\"&$D$12&\",reference:=StartOfSession)=\"&A81&\"\", \"Bar\", \"\", \"Close\",\"5\",\"0\",\"PrimaryOnly\",,,\"False\",\"T\",\"EveryTick\")","v":""},{"$error":"#N/A"},{"$f":"RTD(\"cqg.rtd\",,\"StudyData\", \"Close(\"&$D$12&\") when LocalYear(\"&$D$12&\")=\"&$D$2&\" and localMonth(\"&$D$12&\") =\"&$E$2&\" and LocalDay(\"&$D$12&\")=\"&$F$2&\" and Barix(\"&$D$12&\",reference:=StartOfSession)=\"&A81&\"\", \"Bar\", \"\", \"Close\",\"5\",\"0\",\"PrimaryOnly\",,,\"False\",\"T\",\"EveryTick\")","v":1.1690499999999999},1.5420860998072597E-3,{"$f":"RTD(\"cqg.rtd\",,\"StudyData\", \"Close(\"&$D$12&\") when LocalYear(\"&$D$12&\")=\"&$D$3&\" and localMonth(\"&$D$12&\") =\"&$E$3&\" and LocalDay(\"&$D$12&\")=\"&$F$3&\" and Barix(\"&$D$12&\",reference:=StartOfSession)=\"&A81&\"\", \"Bar\", \"\", \"Close\",\"5\",\"0\",\"PrimaryOnly\",,,\"False\",\"T\",\"EveryTick\")","v":1.1676},-1.5389804781380528E-2,{"$f":"RTD(\"cqg.rtd\",,\"StudyData\", \"Close(\"&$D$12&\") when LocalYear(\"&$D$12&\")=\"&$D$4&\" and localMonth(\"&$D$12&\") =\"&$E$4&\" and LocalDay(\"&$D$12&\")=\"&$F$4&\" and Barix(\"&$D$12&\",reference:=StartOfSession)=\"&A81&\"\", \"Bar\", \"\", \"Close\",\"5\",\"0\",\"PrimaryOnly\",,,\"False\",\"T\",\"EveryTick\")","v":1.1881999999999999},3.886448124366287E-3,{"$f":"RTD(\"cqg.rtd\",,\"StudyData\", \"Close(\"&$D$12&\") when LocalYear(\"&$D$12&\")=\"&$D$5&\" and localMonth(\"&$D$12&\") =\"&$E$5&\" and LocalDay(\"&$D$12&\")=\"&$F$5&\" and Barix(\"&$D$12&\",reference:=StartOfSession)=\"&A81&\"\", \"Bar\", \"\", \"Close\",\"5\",\"0\",\"PrimaryOnly\",,,\"False\",\"T\",\"EveryTick\")","v":1.1838500000000001},-3.1576288312562479E-3,{"$f":"RTD(\"cqg.rtd\",,\"StudyData\", \"Close(\"&$D$12&\") when LocalYear(\"&$D$12&\")=\"&$D$6&\" and localMonth(\"&$D$12&\") =\"&$E$6&\" and LocalDay(\"&$D$12&\")=\"&$F$6&\" and Barix(\"&$D$12&\",reference:=StartOfSession)=\"&A81&\"\", \"Bar\", \"\", \"Close\",\"5\",\"0\",\"PrimaryOnly\",,,\"False\",\"T\",\"EveryTick\")","v":1.1874},1.1804384485666678E-3,{"$f":"RTD(\"cqg.rtd\",,\"StudyData\", \"Close(\"&$D$12&\") when LocalYear(\"&$D$12&\")=\"&$D$7&\" and localMonth(\"&$D$12&\") =\"&$E$7&\" and LocalDay(\"&$D$12&\")=\"&$F$7&\" and Barix(\"&$D$12&\",reference:=StartOfSession)=\"&A81&\"\", \"Bar\", \"\", \"Close\",\"5\",\"0\",\"PrimaryOnly\",,,\"False\",\"T\",\"EveryTick\")","v":1.1858},-3.3619095646327144E-3,{"$f":"RTD(\"cqg.rtd\",,\"StudyData\", \"Close(\"&$D$12&\") when LocalYear(\"&$D$12&\")=\"&$D$8&\" and localMonth(\"&$D$12&\") =\"&$E$8&\" and LocalDay(\"&$D$12&\")=\"&$F$8&\" and Barix(\"&$D$12&\",reference:=StartOfSession)=\"&A81&\"\", \"Bar\", \"\", \"Close\",\"5\",\"0\",\"PrimaryOnly\",,,\"False\",\"T\",\"EveryTick\")","v":1.1895500000000001},2.9509717128283451E-3,{"$f":"RTD(\"cqg.rtd\",,\"StudyData\", \"Close(\"&$D$12&\") when LocalYear(\"&$D$12&\")=\"&$D$9&\" and localMonth(\"&$D$12&\") =\"&$E$9&\" and LocalDay(\"&$D$12&\")=\"&$F$9&\" and Barix(\"&$D$12&\",reference:=StartOfSession)=\"&A81&\"\", \"Bar\", \"\", \"Close\",\"5\",\"0\",\"PrimaryOnly\",,,\"False\",\"T\",\"EveryTick\")","v":1.1869000000000001},5.3362696933762256E-3,{"$f":"RTD(\"cqg.rtd\",,\"StudyData\", \"Close(\"&$D$12&\") when LocalYear(\"&$D$12&\")=\"&$D$10&\" and localMonth(\"&$D$12&\") =\"&$E$10&\" and LocalDay(\"&$D$12&\")=\"&$F$10&\" and Barix(\"&$D$12&\",reference:=StartOfSession)=\"&A81&\"\", \"Bar\", \"\", \"Close\",\"5\",\"0\",\"PrimaryOnly\",,,\"False\",\"T\",\"EveryTick\")","v":1.1803999999999999},1.0600856549208952E-3,null,null,null,""]
[261,"14:45:00",null,null,null,null,null,{"$f":"RTD(\"cqg.rtd\",,\"StudyData\", \"Close(\"&$D$12&\") when LocalYear(\"&$D$12&\")=\"&$D$1&\" and localMonth(\"&$D$12&\") =\"&$E$1&\" and LocalDay(\"&$D$12&\")=\"&$F$1&\" and Barix(\"&$D$12&\",reference:=StartOfSession)=\"&A82&\"\", \"Bar\", \"\", \"Close\",\"5\",\"0\",\"PrimaryOnly\",,,\"False\",\"T\",\"EveryTick\")","v":""},{"$f":"IFERROR((H82-$G$2)/$G$2,NA())","v":{"$error":"#N/A"}},{"$f":"RTD(\"cqg.rtd\",,\"StudyData\", \"Close(\"&$D$12&\") when LocalYear(\"&$D$12&\")=\"&$D$2&\" and localMonth(\"&$D$12&\") =\"&$E$2&\" and LocalDay(\"&$D$12&\")=\"&$F$2&\" and Barix(\"&$D$12&\",reference:=StartOfSession)=\"&A82&\"\", \"Bar\", \"\", \"Close\",\"5\",\"0\",\"PrimaryOnly\",,,\"False\",\"T\",\"EveryTick\")","v":1.1689499999999999},{"$f":"IFERROR((J82-$G$3)/$G$3,NA())","v":1.4564146498179781E-3},{"$f":"RTD(\"cqg.rtd\",,\"StudyData\", \"Close(\"&$D$12&\") when LocalYear(\"&$D$12&\")=\"&$D$3&\" and localMonth(\"&$D$12&\") =\"&$E$3&\" and LocalDay(\"&$D$12&\")=\"&$F$3&\" and Barix(\"&$D$12&\",reference:=StartOfSession)=\"&A82&\"\", \"Bar\", \"\", \"Close\",\"5\",\"0\",\"PrimaryOnly\",,,\"False\",\"T\",\"EveryTick\")","v":1.1674},{"$f":"IFERROR((L82-$G$4)/$G$4,NA())","v":-1.5558460176244952E-2},{"$f":"RTD(\"cqg.rtd\",,\"StudyData\", \"Close(\"&$D$12&\") when LocalYear(\"&$D$12&\")=\"&$D$4&\" and localMonth(\"&$D$12&\") =\"&$E$4&\" and LocalDay(\"&$D$12&\")=\"&$F$4&\" and Barix(\"&$D$12&\",reference:=StartOfSession)=\"&A82&\"\", \"Bar\", \"\", \"Close\",\"5\",\"0\",\"PrimaryOnly\",,,\"False\",\"T\",\"EveryTick\")","v":1.1880500000000001},{"$f":"IFERROR((N82-$G$5)/$G$5,NA())","v":3.759716120310971E-3},{"$f":"RTD(\"cqg.rtd\",,\"StudyData\", \"Close(\"&$D$12&\") when LocalYear(\"&$D$12&\")=\"&$D$5&\" and localMonth(\"&$D$12&\") =\"&$E$5&\" and LocalDay(\"&$D$12&\")=\"&$F$5&\" and Barix(\"&$D$12&\",reference:=StartOfSession)=\"&A82&\"\", \"Bar\", \"\", \"Close\",\"5\",\"0\",\"PrimaryOnly\",,,\"False\",\"T\",\"EveryTick\")","v":1.1839500000000001},{"$f":"IFERROR((P82-$G$6)/$G$6,NA())","v":-3.0734253957560888E-3},{"$f":"RTD(\"cqg.rtd\",,\"StudyData\", \"Close(\"&$D$12&\") when LocalYear(\"&$D$12&\")=\"&$D$6&\" and localMonth(\"&$D$12&\") =\"&$E$6&\" and LocalDay(\"&$D$12&\")=\"&$F$6&\" and Barix(\"&$D$12&\",reference:=StartOfSession)=\"&A82&\"\", \"Bar\", \"\", \"Close\",\"5\",\"0\",\"PrimaryOnly\",,,\"False\",\"T\",\"EveryTick\")","v":1.1875},{"$f":"IFERROR((R82-$G$7)/$G$7,NA())","v":1.2647554806071307E-3},{"$f":"RTD(\"cqg.rtd\",,\"StudyData\", \"Close(\"&$D$12&\") when LocalYear(\"&$D$12&\")=\"&$D$7&\" and localMonth(\"&$D$12&\") =\"&$E$7&\" and LocalDay(\"&$D$12&\")=\"&$F$7&\" and Barix(\"&$D$12&\",reference:=StartOfSession)=\"&A82&\"\", \"Bar\", \"\", \"Close\",\"5\",\"0\",\"PrimaryOnly\",,,\"False\",\"T\",\"EveryTick\")","v":1.1858500000000001},{"$f":"IFERROR((T82-$G$8)/$G$8,NA())","v":-3.3198856950747168E-3},{"$f":"RTD(\"cqg.rtd\",,\"StudyData\", \"Close(\"&$D$12&\") when LocalYear(\"&$D$12&\")=\"&$D$8&\" and localMonth(\"&$D$12&\") =\"&$E$8&\" and LocalDay(\"&$D$12&\")=\"&$F$8&\" and Barix(\"&$D$12&\",reference:=StartOfSession)=\"&A82&\"\", \"Bar\", \"\", \"Close\",\"5\",\"0\",\"PrimaryOnly\",,,\"False\",\"T\",\"EveryTick\")","v":1.1895500000000001},{"$f":"IFERROR((V82-$G$9)/$G$9,NA())","v":2.9509717128283451E-3},{"$f":"RTD(\"cqg.rtd\",,\"StudyData\", \"Close(\"&$D$12&\") when LocalYear(\"&$D$12&\")=\"&$D$9&\" and localMonth(\"&$D$12&\") =\"&$E$9&\" and LocalDay(\"&$D$12&\")=\"&$F$9&\" and Barix(\"&$D$12&\",reference:=StartOfSession)=\"&A82&\"\", \"Bar\", \"\", \"Close\",\"5\",\"0\",\"PrimaryOnly\",,,\"False\",\"T\",\"EveryTick\")","v":1.18665},{"$f":"IFERROR((X82-$G$10)/$G$10,NA())","v":5.1245129595120179E-3},{"$f":"RTD(\"cqg.rtd\",,\"StudyData\", \"Close(\"&$D$12&\") when LocalYear(\"&$D$12&\")=\"&$D$10&\" and localMonth(\"&$D$12&\") =\"&$E$10&\" and LocalDay(\"&$D$12&\")=\"&$F$10&\" and Barix(\"&$D$12&\",reference:=StartOfSession)=\"&A82&\"\", \"Bar\", \"\", \"Close\",\"5\",\"0\",\"PrimaryOnly\",,,\"False\",\"T\",\"EveryTick\")","v":1.1803999999999999},{"$f":"IFERROR((Z82-$G$11)/$G$11,NA())","v":1.0600856549208952E-3},null,null,null,""]
[262,"14:50:00",null,null,null,null,null,{"$f":"RTD(\"cqg.rtd\",,\"StudyData\", \"Close(\"&$D$12&\") when LocalYear(\"&$D$12&\")=\"&$D$1&\" and localMonth(\"&$D$12&\") =\"&$E$1&\" and LocalDay(\"&$D$12&\")=\"&$F$1&\" and Barix(\"&$D$12&\",reference:=StartOfSession)=\"&A83&\"\", \"Bar\", \"\", \"Close\",\"5\",\"0\",\"PrimaryOnly\",,,\"False\",\"T\",\"EveryTick\")","v":""},{"$error":"#N/A"},{"$f":"RTD(\"cqg.rtd\",,\"StudyData\", \"Close(\"&$D$12&\") when LocalYear(\"&$D$12&\")=\"&$D$2&\" and localMonth(\"&$D$12&\") =\"&$E$2&\" and LocalDay(\"&$D$12&\")=\"&$F$2&\" and Barix(\"&$D$12&\",reference:=StartOfSession)=\"&A83&\"\", \"Bar\", \"\", \"Close\",\"5\",\"0\",\"PrimaryOnly\",,,\"False\",\"T\",\"EveryTick\")","v":1.1690499999999999},1.5420860998072597E-3,{"$f":"RTD(\"cqg.rtd\",,\"StudyData\", \"Close(\"&$D$12&\") when LocalYear(\"&$D$12&\")=\"&$D$3&\" and localMonth(\"&$D$12&\") =\"&$E$3&\" and LocalDay(\"&$D$12&\")=\"&$F$3&\" and Barix(\"&$D$12&\",reference:=StartOfSession)=\"&A83&\"\", \"Bar\", \"\", \"Close\",\"5\",\"0\",\"PrimaryOnly\",,,\"False\",\"T\",\"EveryTick\")","v":1.1671},-1.581144326854159E-2,{"$f":"RTD(\"cqg.rtd\",,\"StudyData\", \"Close(\"&$D$12&\") when LocalYear(\"&$D$12&\")=\"&$D$4&\" and localMonth(\"&$D$12&\") =\"&$E$4&\" and LocalDay(\"&$D$12&\")=\"&$F$4&\" and Barix(\"&$D$12&\",reference:=StartOfSession)=\"&A83&\"\", \"Bar\", \"\", \"Close\",\"5\",\"0\",\"PrimaryOnly\",,,\"False\",\"T\",\"EveryTick\")","v":1.1879999999999999},3.7174721189590738E-3,{"$f":"RTD(\"cqg.rtd\",,\"StudyData\", \"Close(\"&$D$12&\") when LocalYear(\"&$D$12&\")=\"&$D$5&\" and localMonth(\"&$D$12&\") =\"&$E$5&\" and LocalDay(\"&$D$12&\")=\"&$F$5&\" and Barix(\"&$D$12&\",reference:=StartOfSession)=\"&A83&\"\", \"Bar\", \"\", \"Close\",\"5\",\"0\",\"PrimaryOnly\",,,\"False\",\"T\",\"EveryTick\")","v":1.1834499999999999},-3.4944425732570715E-3,{"$f":"RTD(\"cqg.rtd\",,\"StudyData\", \"Close(\"&$D$12&\") when LocalYear(\"&$D$12&\")=\"&$D$6&\" and localMonth(\"&$D$12&\") =\"&$E$6&\" and LocalDay(\"&$D$12&\")=\"&$F$6&\" and Barix(\"&$D$12&\",reference:=StartOfSession)=\"&A83&\"\", \"Bar\", \"\", \"Close\",\"5\",\"0\",\"PrimaryOnly\",,,\"False\",\"T\",\"EveryTick\")","v":1.1874499999999999},1.2225969645868057E-3,{"$f":"RTD(\"cqg.rtd\",,\"StudyData\", \"Close(\"&$D$12&\") when LocalYear(\"&$D$12&\")=\"&$D$7&\" and localMonth(\"&$D$12&\") =\"&$E$7&\" and LocalDay(\"&$D$12&\")=\"&$F$7&\" and Barix(\"&$D$12&\",reference:=StartOfSession)=\"&A83&\"\", \"Bar\", \"\", \"Close\",\"5\",\"0\",\"PrimaryOnly\",,,\"False\",\"T\",\"EveryTick\")","v":1.1859},-3.2778618255169061E-3,{"$f":"RTD(\"cqg.rtd\",,\"StudyData\", \"Close(\"&$D$12&\") when LocalYear(\"&$D$12&\")=\"&$D$8&\" and localMonth(\"&$D$12&\") =\"&$E$8&\" and LocalDay(\"&$D$12&\")=\"&$F$8&\" and Barix(\"&$D$12&\",reference:=StartOfSession)=\"&A83&\"\", \"Bar\", \"\", \"Close\",\"5\",\"0\",\"PrimaryOnly\",,,\"False\",\"T\",\"EveryTick\")","v":1.1892499999999999},2.6980312803000458E-3,{"$f":"RTD(\"cqg.rtd\",,\"StudyData\", \"Close(\"&$D$12&\") when LocalYear(\"&$D$12&\")=\"&$D$9&\" and localMonth(\"&$D$12&\") =\"&$E$9&\" and LocalDay(\"&$D$12&\")=\"&$F$9&\" and Barix(\"&$D$12&\",reference:=StartOfSession)=\"&A83&\"\", \"Bar\", \"\", \"Close\",\"5\",\"0\",\"PrimaryOnly\",,,\"False\",\"T\",\"EveryTick\")","v":1.18665},5.1245129595120179E-3,{"$f":"RTD(\"cqg.rtd\",,\"StudyData\", \"Close(\"&$D$12&\") when LocalYear(\"&$D$12&\")=\"&$D$10&\" and localMonth(\"&$D$12&\") =\"&$E$10&\" and LocalDay(\"&$D$12&\")=\"&$F$10&\" and Barix(\"&$D$12&\",reference:=StartOfSession)=\"&A83&\"\", \"Bar\", \"\", \"Close\",\"5\",\"0\",\"PrimaryOnly\",,,\"False\",\"T\",\"EveryTick\")","v":1.18055},1.1872959335114854E-3,null,null,null,""]
[263,"14:55:00",null,null,null,null,null,{"$f":"RTD(\"cqg.rtd\",,\"StudyData\", \"Close(\"&$D$12&\") when LocalYear(\"&$D$12&\")=\"&$D$1&\" and localMonth(\"&$D$12&\") =\"&$E$1&\" and LocalDay(\"&$D$12&\")=\"&$F$1&\" and Barix(\"&$D$12&\",reference:=StartOfSession)=\"&A84&\"\", \"Bar\", \"\", \"Close\",\"5\",\"0\",\"PrimaryOnly\",,,\"False\",\"T\",\"EveryTick\")","v":""},{"$error":"#N/A"},{"$f":"RTD(\"cqg.rtd\",,\"StudyData\", \"Close(\"&$D$12&\") when LocalYear(\"&$D$12&\")=\"&$D$2&\" and localMonth(\"&$D$12&\") =\"&$E$2&\" and LocalDay(\"&$D$12&\")=\"&$F$2&\" and Barix(\"&$D$12&\",reference:=StartOfSession)=\"&A84&\"\", \"Bar\", \"\", \"Close\",\"5\",\"0\",\"PrimaryOnly\",,,\"False\",\"T\",\"EveryTick\")","v":1.1691},1.5849218248019958E-3,{"$f":"RTD(\"cqg.rtd\",,\"StudyData\", \"Close(\"&$D$12&\") when LocalYear(\"&$D$12&\")=\"&$D$3&\" and localMonth(\"&$D$12&\") =\"&$E$3&\" and LocalDay(\"&$D$12&\")=\"&$F$3&\" and Barix(\"&$D$12&\",reference:=StartOfSession)=\"&A84&\"\", \"Bar\", \"\", \"Close\",\"5\",\"0\",\"PrimaryOnly\",,,\"False\",\"T\",\"EveryTick\")","v":1.16655},-1.6275245604418849E-2,{"$f":"RTD(\"cqg.rtd\",,\"StudyData\", \"Close(\"&$D$12&\") when LocalYear(\"&$D$12&\")=\"&$D$4&\" and localMonth(\"&$D$12&\") =\"&$E$4&\" and LocalDay(\"&$D$12&\")=\"&$F$4&\" and Barix(\"&$D$12&\",reference:=StartOfSession)=\"&A84&\"\", \"Bar\", \"\", \"Close\",\"5\",\"0\",\"PrimaryOnly\",,,\"False\",\"T\",\"EveryTick\")","v":1.1876},3.3795201081446465E-3,{"$f":"RTD(\"cqg.rtd\",,\"StudyData\", \"Close(\"&$D$12&\") when LocalYear(\"&$D$12&\")=\"&$D$5&\" and localMonth(\"&$D$12&\") =\"&$E$5&\" and LocalDay(\"&$D$12&\")=\"&$F$5&\" and Barix(\"&$D$12&\",reference:=StartOfSession)=\"&A84&\"\", \"Bar\", \"\", \"Close\",\"5\",\"0\",\"PrimaryOnly\",,,\"False\",\"T\",\"EveryTick\")","v":1.1838},-3.1997305490064211E-3,{"$f":"RTD(\"cqg.rtd\",,\"StudyData\", \"Close(\"&$D$12&\") when LocalYear(\"&$D$12&\")=\"&$D$6&\" and localMonth(\"&$D$12&\") =\"&$E$6&\" and LocalDay(\"&$D$12&\")=\"&$F$6&\" and Barix(\"&$D$12&\",reference:=StartOfSession)=\"&A84&\"\", \"Bar\", \"\", \"Close\",\"5\",\"0\",\"PrimaryOnly\",,,\"False\",\"T\",\"EveryTick\")","v":1.1874},1.1804384485666678E-3,{"$f":"RTD(\"cqg.rtd\",,\"StudyData\", \"Close(\"&$D$12&\") when LocalYear(\"&$D$12&\")=\"&$D$7&\" and localMonth(\"&$D$12&\") =\"&$E$7&\" and LocalDay(\"&$D$12&\")=\"&$F$7&\" and Barix(\"&$D$12&\",reference:=StartOfSession)=\"&A84&\"\", \"Bar\", \"\", \"Close\",\"5\",\"0\",\"PrimaryOnly\",,,\"False\",\"T\",\"EveryTick\")","v":1.1855},-3.6140527819801399E-3,{"$f":"RTD(\"cqg.rtd\",,\"StudyData\", \"Close(\"&$D$12&\") when LocalYear(\"&$D$12&\")=\"&$D$8&\" and localMonth(\"&$D$12&\") =\"&$E$8&\" and LocalDay(\"&$D$12&\")=\"&$F$8&\" and Barix(\"&$D$12&\",reference:=StartOfSession)=\"&A84&\"\", \"Bar\", \"\", \"Close\",\"5\",\"0\",\"PrimaryOnly\",,,\"False\",\"T\",\"EveryTick\")","v":1.18885},2.3607773702625638E-3,{"$f":"RTD(\"cqg.rtd\",,\"StudyData\", \"Close(\"&$D$12&\") when LocalYear(\"&$D$12&\")=\"&$D$9&\" and localMonth(\"&$D$12&\") =\"&$E$9&\" and LocalDay(\"&$D$12&\")=\"&$F$9&\" and Barix(\"&$D$12&\",reference:=StartOfSession)=\"&A84&\"\", \"Bar\", \"\", \"Close\",\"5\",\"0\",\"PrimaryOnly\",,,\"False\",\"T\",\"EveryTick\")","v":1.18625},4.785702185329436E-3,{"$f":"RTD(\"cqg.rtd\",,\"StudyData\", \"Close(\"&$D$12&\") when LocalYear(\"&$D$12&\")=\"&$D$10&\" and localMonth(\"&$D$12&\") =\"&$E$10&\" and LocalDay(\"&$D$12&\")=\"&$F$10&\" and Barix(\"&$D$12&\",reference:=StartOfSession)=\"&A84&\"\", \"Bar\", \"\", \"Close\",\"5\",\"0\",\"PrimaryOnly\",,,\"False\",\"T\",\"EveryTick\")","v":1.18055},1.1872959335114854E-3,null,null,null,""]
[264,"15:00:00",null,null,null,null,null,{"$f":"RTD(\"cqg.rtd\",,\"StudyData\", \"Close(\"&$D$12&\") when LocalYear(\"&$D$12&\")=\"&$D$1&\" and localMonth(\"&$D$12&\") =\"&$E$1&\" and LocalDay(\"&$D$12&\")=\"&$F$1&\" and Barix(\"&$D$12&\",reference:=StartOfSession)=\"&A85&\"\", \"Bar\", \"\", \"Close\",\"5\",\"0\",\"PrimaryOnly\",,,\"False\",\"T\",\"EveryTick\")","v":""},{"$error":"#N/A"},{"$f":"RTD(\"cqg.rtd\",,\"StudyData\", \"Close(\"&$D$12&\") when LocalYear(\"&$D$12&\")=\"&$D$2&\" and localMonth(\"&$D$12&\") =\"&$E$2&\" and LocalDay(\"&$D$12&\")=\"&$F$2&\" and Barix(\"&$D$12&\",reference:=StartOfSession)=\"&A85&\"\", \"Bar\", \"\", \"Close\",\"5\",\"0\",\"PrimaryOnly\",,,\"False\",\"T\",\"EveryTick\")","v":1.1689000000000001},1.4135789248234324E-3,{"$f":"RTD(\"cqg.rtd\",,\"StudyData\", \"Close(\"&$D$12&\") when LocalYear(\"&$D$12&\")=\"&$D$3&\" and localMonth(\"&$D$12&\") =\"&$E$3&\" and LocalDay(\"&$D$12&\")=\"&$F$3&\" and Barix(\"&$D$12&\",reference:=StartOfSession)=\"&A85&\"\", \"Bar\", \"\", \"Close\",\"5\",\"0\",\"PrimaryOnly\",,,\"False\",\"T\",\"EveryTick\")","v":1.1668000000000001},-1.6064426360838227E-2,{"$f":"RTD(\"cqg.rtd\",,\"StudyData\", \"Close(\"&$D$12&\") when LocalYear(\"&$D$12&\")=\"&$D$4&\" and localMonth(\"&$D$12&\") =\"&$E$4&\" and LocalDay(\"&$D$12&\")=\"&$F$4&\" and Barix(\"&$D$12&\",reference:=StartOfSession)=\"&A85&\"\", \"Bar\", \"\", \"Close\",\"5\",\"0\",\"PrimaryOnly\",,,\"False\",\"T\",\"EveryTick\")","v":1.1876500000000001},3.4217641094965437E-3,{"$f":"RTD(\"cqg.rtd\",,\"StudyData\", \"Close(\"&$D$12&\") when LocalYear(\"&$D$12&\")=\"&$D$5&\" and localMonth(\"&$D$12&\") =\"&$E$5&\" and LocalDay(\"&$D$12&\")=\"&$F$5&\" and Barix(\"&$D$12&\",reference:=StartOfSession)=\"&A85&\"\", \"Bar\", \"\", \"Close\",\"5\",\"0\",\"PrimaryOnly\",,,\"False\",\"T\",\"EveryTick\")","v":1.1836500000000001},-3.3260357022565665E-3,{"$f":"RTD(\"cqg.rtd\",,\"StudyData\", \"Close(\"&$D$12&\") when LocalYear(\"&$D$12&\")=\"&$D$6&\" and localMonth(\"&$D$12&\") =\"&$E$6&\" and LocalDay(\"&$D$12&\")=\"&$F$6&\" and Barix(\"&$D$12&\",reference:=StartOfSession)=\"&A85&\"\", \"Bar\", \"\", \"Close\",\"5\",\"0\",\"PrimaryOnly\",,,\"False\",\"T\",\"EveryTick\")","v":1.1873},1.0961214165262048E-3,{"$f":"RTD(\"cqg.rtd\",,\"StudyData\", \"Close(\"&$D$12&\") when LocalYear(\"&$D$12&\")=\"&$D$7&\" and localMonth(\"&$D$12&\") =\"&$E$7&\" and LocalDay(\"&$D$12&\")=\"&$F$7&\" and Barix(\"&$D$12&\",reference:=StartOfSession)=\"&A85&\"\", \"Bar\", \"\", \"Close\",\"5\",\"0\",\"PrimaryOnly\",,,\"False\",\"T\",\"EveryTick\")","v":1.1855},-3.6140527819801399E-3,{"$f":"RTD(\"cqg.rtd\",,\"StudyData\", \"Close(\"&$D$12&\") when LocalYear(\"&$D$12&\")=\"&$D$8&\" and localMonth(\"&$D$12&\") =\"&$E$8&\" and LocalDay(\"&$D$12&\")=\"&$F$8&\" and Barix(\"&$D$12&\",reference:=StartOfSession)=\"&A85&\"\", \"Bar\", \"\", \"Close\",\"5\",\"0\",\"PrimaryOnly\",,,\"False\",\"T\",\"EveryTick\")","v":1.1888000000000001},2.3186206315079718E-3,{"$f":"RTD(\"cqg.rtd\",,\"StudyData\", \"Close(\"&$D$12&\") when LocalYear(\"&$D$12&\")=\"&$D$9&\" and localMonth(\"&$D$12&\") =\"&$E$9&\" and LocalDay(\"&$D$12&\")=\"&$F$9&\" and Barix(\"&$D$12&\",reference:=StartOfSession)=\"&A85&\"\", \"Bar\", \"\", \"Close\",\"5\",\"0\",\"PrimaryOnly\",,,\"False\",\"T\",\"EveryTick\")","v":1.1861999999999999},4.7433508385565197E-3,{"$f":"RTD(\"cqg.rtd\",,\"StudyData\", \"Close(\"&$D$12&\") when LocalYear(\"&$D$12&\")=\"&$D$10&\" and localMonth(\"&$D$12&\") =\"&$E$10&\" and LocalDay(\"&$D$12&\")=\"&$F$10&\" and Barix(\"&$D$12&\",reference:=StartOfSession)=\"&A85&\"\", \"Bar\", \"\", \"Close\",\"5\",\"0\",\"PrimaryOnly\",,,\"False\",\"T\",\"EveryTick\")","v":1.1805000000000001},1.1448925073147475E-3,null,null,null,""]
[265,"15:05:00",null,null,null,null,null,{"$f":"RTD(\"cqg.rtd\",,\"StudyData\", \"Close(\"&$D$12&\") when LocalYear(\"&$D$12&\")=\"&$D$1&\" and localMonth(\"&$D$12&\") =\"&$E$1&\" and LocalDay(\"&$D$12&\")=\"&$F$1&\" and Barix(\"&$D$12&\",reference:=StartOfSession)=\"&A86&\"\", \"Bar\", \"\", \"Close\",\"5\",\"0\",\"PrimaryOnly\",,,\"False\",\"T\",\"EveryTick\")","v":""},{"$error":"#N/A"},{"$f":"RTD(\"cqg.rtd\",,\"StudyData\", \"Close(\"&$D$12&\") when LocalYear(\"&$D$12&\")=\"&$D$2&\" and localMonth(\"&$D$12&\") =\"&$E$2&\" and LocalDay(\"&$D$12&\")=\"&$F$2&\" and Barix(\"&$D$12&\",reference:=StartOfSession)=\"&A86&\"\", \"Bar\", \"\", \"Close\",\"5\",\"0\",\"PrimaryOnly\",,,\"False\",\"T\",\"EveryTick\")","v":1.1689000000000001},1.4135789248234324E-3,{"$f":"RTD(\"cqg.rtd\",,\"StudyData\", \"Close(\"&$D$12&\") when LocalYear(\"&$D$12&\")=\"&$D$3&\" and localMonth(\"&$D$12&\") =\"&$E$3&\" and LocalDay(\"&$D$12&\")=\"&$F$3&\" and Barix(\"&$D$12&\",reference:=StartOfSession)=\"&A86&\"\", \"Bar\", \"\", \"Close\",\"5\",\"0\",\"PrimaryOnly\",,,\"False\",\"T\",\"EveryTick\")","v":1.16635},-1.6443900999283275E-2,{"$f":"RTD(\"cqg.rtd\",,\"StudyData\", \"Close(\"&$D$12&\") when LocalYear(\"&$D$12&\")=\"&$D$4&\" and localMonth(\"&$D$12&\") =\"&$E$4&\" and LocalDay(\"&$D$12&\")=\"&$F$4&\" and Barix(\"&$D$12&\",reference:=StartOfSession)=\"&A86&\"\", \"Bar\", \"\", \"Close\",\"5\",\"0\",\"PrimaryOnly\",,,\"False\",\"T\",\"EveryTick\")","v":1.1876},3.3795201081446465E-3,{"$f":"RTD(\"cqg.rtd\",,\"StudyData\", \"Close(\"&$D$12&\") when LocalYear(\"&$D$12&\")=\"&$D$5&\" and localMonth(\"&$D$12&\") =\"&$E$5&\" and LocalDay(\"&$D$12&\")=\"&$F$5&\" and Barix(\"&$D$12&\",reference:=StartOfSession)=\"&A86&\"\", \"Bar\", \"\", \"Close\",\"5\",\"0\",\"PrimaryOnly\",,,\"False\",\"T\",\"EveryTick\")","v":1.1835},-3.4523408555068983E-3,{"$f":"RTD(\"cqg.rtd\",,\"StudyData\", \"Close(\"&$D$12&\") when LocalYear(\"&$D$12&\")=\"&$D$6&\" and localMonth(\"&$D$12&\") =\"&$E$6&\" and LocalDay(\"&$D$12&\")=\"&$F$6&\" and Barix(\"&$D$12&\",reference:=StartOfSession)=\"&A86&\"\", \"Bar\", \"\", \"Close\",\"5\",\"0\",\"PrimaryOnly\",,,\"False\",\"T\",\"EveryTick\")","v":1.1874499999999999},1.2225969645868057E-3,{"$f":"RTD(\"cqg.rtd\",,\"StudyData\", \"Close(\"&$D$12&\") when LocalYear(\"&$D$12&\")=\"&$D$7&\" and localMonth(\"&$D$12&\") =\"&$E$7&\" and LocalDay(\"&$D$12&\")=\"&$F$7&\" and Barix(\"&$D$12&\",reference:=StartOfSession)=\"&A86&\"\", \"Bar\", \"\", \"Close\",\"5\",\"0\",\"PrimaryOnly\",,,\"False\",\"T\",\"EveryTick\")","v":1.1857},-3.4459573037485228E-3,{"$f":"RTD(\"cqg.rtd\",,\"StudyData\", \"Close(\"&$D$12&\") when LocalYear(\"&$D$12&\")=\"&$D$8&\" and localMonth(\"&$D$12&\") =\"&$E$8&\" and LocalDay(\"&$D$12&\")=\"&$F$8&\" and Barix(\"&$D$12&\",reference:=StartOfSession)=\"&A86&\"\", \"Bar\", \"\", \"Close\",\"5\",\"0\",\"PrimaryOnly\",,,\"False\",\"T\",\"EveryTick\")","v":1.18885},2.3607773702625638E-3,{"$f":"RTD(\"cqg.rtd\",,\"StudyData\", \"Close(\"&$D$12&\") when LocalYear(\"&$D$12&\")=\"&$D$9&\" and localMonth(\"&$D$12&\") =\"&$E$9&\" and LocalDay(\"&$D$12&\")=\"&$F$9&\" and Barix(\"&$D$12&\",reference:=StartOfSession)=\"&A86&\"\", \"Bar\", \"\", \"Close\",\"5\",\"0\",\"PrimaryOnly\",,,\"False\",\"T\",\"EveryTick\")","v":1.1862999999999999},4.828053532102165E-3,{"$f":"RTD(\"cqg.rtd\",,\"StudyData\", \"Close(\"&$D$12&\") when LocalYear(\"&$D$12&\")=\"&$D$10&\" and localMonth(\"&$D$12&\") =\"&$E$10&\" and LocalDay(\"&$D$12&\")=\"&$F$10&\" and Barix(\"&$D$12&\",reference:=StartOfSession)=\"&A86&\"\", \"Bar\", \"\", \"Close\",\"5\",\"0\",\"PrimaryOnly\",,,\"False\",\"T\",\"EveryTick\")","v":1.18055},1.1872959335114854E-3,null,null,null,""]
[266,"15:10:00",null,null,null,null,null,{"$f":"RTD(\"cqg.rtd\",,\"StudyData\", \"Close(\"&$D$12&\") when LocalYear(\"&$D$12&\")=\"&$D$1&\" and localMonth(\"&$D$12&\") =\"&$E$1&\" and LocalDay(\"&$D$12&\")=\"&$F$1&\" and Barix(\"&$D$12&\",reference:=StartOfSession)=\"&A87&\"\", \"Bar\", \"\", \"Close\",\"5\",\"0\",\"PrimaryOnly\",,,\"False\",\"T\",\"EveryTick\")","v":""},{"$error":"#N/A"},{"$f":"RTD(\"cqg.rtd\",,\"StudyData\", \"Close(\"&$D$12&\") when LocalYear(\"&$D$12&\")=\"&$D$2&\" and localMonth(\"&$D$12&\") =\"&$E$2&\" and LocalDay(\"&$D$12&\")=\"&$F$2&\" and Barix(\"&$D$12&\",reference:=StartOfSession)=\"&A87&\"\", \"Bar\", \"\", \"Close\",\"5\",\"0\",\"PrimaryOnly\",,,\"False\",\"T\",\"EveryTick\")","v":1.1688000000000001},1.3279074748341509E-3,{"$f":"RTD(\"cqg.rtd\",,\"StudyData\", \"Close(\"&$D$12&\") when LocalYear(\"&$D$12&\")=\"&$D$3&\" and localMonth(\"&$D$12&\") =\"&$E$3&\" and LocalDay(\"&$D$12&\")=\"&$F$3&\" and Barix(\"&$D$12&\",reference:=StartOfSession)=\"&A87&\"\", \"Bar\", \"\", \"Close\",\"5\",\"0\",\"PrimaryOnly\",,,\"False\",\"T\",\"EveryTick\")","v":1.16625},-1.6528228696715486E-2,{"$f":"RTD(\"cqg.rtd\",,\"StudyData\", \"Close(\"&$D$12&\") when LocalYear(\"&$D$12&\")=\"&$D$4&\" and localMonth(\"&$D$12&\") =\"&$E$4&\" and LocalDay(\"&$D$12&\")=\"&$F$4&\" and Barix(\"&$D$12&\",reference:=StartOfSession)=\"&A87&\"\", \"Bar\", \"\", \"Close\",\"5\",\"0\",\"PrimaryOnly\",,,\"False\",\"T\",\"EveryTick\")","v":1.1877},3.4640081108482531E-3,{"$f":"RTD(\"cqg.rtd\",,\"StudyData\", \"Close(\"&$D$12&\") when LocalYear(\"&$D$12&\")=\"&$D$5&\" and localMonth(\"&$D$12&\") =\"&$E$5&\" and LocalDay(\"&$D$12&\")=\"&$F$5&\" and Barix(\"&$D$12&\",reference:=StartOfSession)=\"&A87&\"\", \"Bar\", \"\", \"Close\",\"5\",\"0\",\"PrimaryOnly\",,,\"False\",\"T\",\"EveryTick\")","v":1.1835},-3.4523408555068983E-3,{"$f":"RTD(\"cqg.rtd\",,\"StudyData\", \"Close(\"&$D$12&\") when LocalYear(\"&$D$12&\")=\"&$D$6&\" and localMonth(\"&$D$12&\") =\"&$E$6&\" and LocalDay(\"&$D$12&\")=\"&$F$6&\" and Barix(\"&$D$12&\",reference:=StartOfSession)=\"&A87&\"\", \"Bar\", \"\", \"Close\",\"5\",\"0\",\"PrimaryOnly\",,,\"False\",\"T\",\"EveryTick\")","v":1.1873499999999999},1.1382799325463427E-3,{"$f":"RTD(\"cqg.rtd\",,\"StudyData\", \"Close(\"&$D$12&\") when LocalYear(\"&$D$12&\")=\"&$D$7&\" and localMonth(\"&$D$12&\") =\"&$E$7&\" and LocalDay(\"&$D$12&\")=\"&$F$7&\" and Barix(\"&$D$12&\",reference:=StartOfSession)=\"&A87&\"\", \"Bar\", \"\", \"Close\",\"5\",\"0\",\"PrimaryOnly\",,,\"False\",\"T\",\"EveryTick\")","v":1.1858},-3.3619095646327144E-3,{"$f":"RTD(\"cqg.rtd\",,\"StudyData\", \"Close(\"&$D$12&\") when LocalYear(\"&$D$12&\")=\"&$D$8&\" and localMonth(\"&$D$12&\") =\"&$E$8&\" and LocalDay(\"&$D$12&\")=\"&$F$8&\" and Barix(\"&$D$12&\",reference:=StartOfSession)=\"&A87&\"\", \"Bar\", \"\", \"Close\",\"5\",\"0\",\"PrimaryOnly\",,,\"False\",\"T\",\"EveryTick\")","v":1.18885},2.3607773702625638E-3,{"$f":"RTD(\"cqg.rtd\",,\"StudyData\", \"Close(\"&$D$12&\") when LocalYear(\"&$D$12&\")=\"&$D$9&\" and localMonth(\"&$D$12&\") =\"&$E$9&\" and LocalDay(\"&$D$12&\")=\"&$F$9&\" and Barix(\"&$D$12&\",reference:=StartOfSession)=\"&A87&\"\", \"Bar\", \"\", \"Close\",\"5\",\"0\",\"PrimaryOnly\",,,\"False\",\"T\",\"EveryTick\")","v":1.1862999999999999},4.828053532102165E-3,{"$f":"RTD(\"cqg.rtd\",,\"StudyData\", \"Close(\"&$D$12&\") when LocalYear(\"&$D$12&\")=\"&$D$10&\" and localMonth(\"&$D$12&\") =\"&$E$10&\" and LocalDay(\"&$D$12&\")=\"&$F$10&\" and Barix(\"&$D$12&\",reference:=StartOfSession)=\"&A87&\"\", \"Bar\", \"\", \"Close\",\"5\",\"0\",\"PrimaryOnly\",,,\"False\",\"T\",\"EveryTick\")","v":1.1806000000000001},1.2296993597084116E-3,null,null,null,""]

{"sheet":"Sheet4 (3)","index":6,"n_rows":101,"n_cols":20,"rows_kept":101,"cut":false,"hidden":true,"merged":[]}
[null,{"$f":"'Sheet3 (3)'!I1","v":8.5572479890457789E-5},{"$f":"'Sheet3 (3)'!K1","v":1.4564146498179781E-3},null,{"$f":"'Sheet3 (3)'!M1","v":-7.9689674073450938E-3},null,{"$f":"'Sheet3 (3)'!O1","v":2.0699560662386478E-3},null,{"$f":"'Sheet3 (3)'!Q1","v":8.4203435500177827E-4},null,{"$f":"'Sheet3 (3)'!S1","v":2.2344013490725474E-3},null,{"$f":"'Sheet3 (3)'!U1","v":-5.000840477391074E-3},null,{"$f":"'Sheet3 (3)'!W1","v":5.1852788668267594E-3},null,{"$f":"'Sheet3 (3)'!Y1","v":4.5315941046925002E-3},null,{"$f":"'Sheet3 (3)'!AA1","v":-3.2650638171563494E-3}]
[null,{"$f":"'Sheet3 (3)'!I2","v":-4.2786239945323904E-5},{"$f":"'Sheet3 (3)'!K2","v":9.4238594988228829E-4},{"$f":"CORREL($B$1:B2,$C$1:C2)","v":1},{"$f":"'Sheet3 (3)'!M2","v":-7.71598431504827E-3},{"$f":"CORREL($B$1:B2,$E$1:E2)","v":-1},{"$f":"'Sheet3 (3)'!O2","v":2.2811760729975709E-3},{"$f":"CORREL($B$1:B2,$G$1:G2)","v":-1},{"$f":"'Sheet3 (3)'!Q2","v":6.31525766251287E-4},{"$f":"CORREL($B$1:B2,$I$1:I2)","v":1},{"$f":"'Sheet3 (3)'!S2","v":2.1922428330524097E-3},{"$f":"CORREL($B$1:B2,$K$1:K2)","v":1},{"$f":"'Sheet3 (3)'!U2","v":-4.8327449991594574E-3},{"$f":"CORREL($B$1:B2,$M$1:M2)","v":-1},{"$f":"'Sheet3 (3)'!W2","v":5.0588086505627969E-3},{"$f":"CORREL($B$1:B2,$O$1:O2)","v":1},{"$f":"'Sheet3 (3)'!Y2","v":5.082161612739289E-3},{"$f":"CORREL($B$1:B2,$Q$1:Q2)","v":-1},{"$f":"'Sheet3 (3)'!AA2","v":-3.0106432599753571E-3},{"$f":"CORREL($B$1:B2,$S$1:S2)","v":-1}]
[null,{"$f":"'Sheet3 (3)'!I3","v":-2.5671743967156337E-4},{"$f":"'Sheet3 (3)'!K3","v":1.4564146498179781E-3},{"$f":"CORREL($B$1:B3,$C$1:C3)","v":-0.14285714285706508},{"$f":"'Sheet3 (3)'!M3","v":-8.1376228022095182E-3},{"$f":"CORREL($B$1:B3,$E$1:E3)","v":0.52437882027533034},{"$f":"'Sheet3 (3)'!O3","v":2.3656640757011775E-3},{"$f":"CORREL($B$1:B3,$G$1:G3)","v":-0.9264557470152136},{"$f":"'Sheet3 (3)'!Q3","v":3.7891545975080959E-4},{"$f":"CORREL($B$1:B3,$I$1:I3)","v":0.99587059488581808},{"$f":"'Sheet3 (3)'!S3","v":2.2344013490725474E-3},{"$f":"CORREL($B$1:B3,$K$1:K3)","v":-0.14285714285706513},{"$f":"'Sheet3 (3)'!U3","v":-4.1603630862329889E-3},{"$f":"CORREL($B$1:B3,$M$1:M3)","v":-0.98198050606195086},{"$f":"'Sheet3 (3)'!W3","v":5.396062560600279E-3},{"$f":"CORREL($B$1:B3,$O$1:O3)","v":-0.72448979591852869},{"$f":"'Sheet3 (3)'!Y3","v":4.9127562256478102E-3},{"$f":"CORREL($B$1:B3,$Q$1:Q3)","v":-0.56362148019048008},{"$f":"'Sheet3 (3)'!AA3","v":-2.247381588432192E-3},{"$f":"CORREL($B$1:B3,$S$1:S3)","v":-0.99053606468789135}]
[null,{"$f":"'Sheet3 (3)'!I4","v":-7.2736607906898629E-4},{"$f":"'Sheet3 (3)'!K4","v":2.6986506746628472E-3},{"$f":"CORREL($B$1:B4,$C$1:C4)","v":-0.88720226723276863},{"$f":"'Sheet3 (3)'!M4","v":-9.107391322680054E-3},{"$f":"CORREL($B$1:B4,$E$1:E4)","v":0.93953616795812311},{"$f":"'Sheet3 (3)'!O4","v":2.3234200743494681E-3},{"$f":"CORREL($B$1:B4,$G$1:G4)","v":-0.64224075644825096},{"$f":"'Sheet3 (3)'!Q4","v":5.4732233075112781E-4},{"$f":"CORREL($B$1:B4,$I$1:I4)","v":0.55448999863045989},{"$f":"'Sheet3 (3)'!S4","v":1.9814502529511588E-3},{"$f":"CORREL($B$1:B4,$K$1:K4)","v":0.89680695967583479},{"$f":"'Sheet3 (3)'!U4","v":-3.8661959993275658E-3},{"$f":"CORREL($B$1:B4,$M$1:M4)","v":-0.9407177410651455},{"$f":"'Sheet3 (3)'!W4","v":5.1852788668267594E-3},{"$f":"CORREL($B$1:B4,$O$1:O4)","v":-0.19265925193673145},{"$f":"'Sheet3 (3)'!Y4","v":4.828053532102165E-3},{"$f":"CORREL($B$1:B4,$Q$1:Q4)","v":-0.19457567692135169},{"$f":"'Sheet3 (3)'!AA4","v":-2.7562227027943648E-3},{"$f":"CORREL($B$1:B4,$S$1:S4)","v":-0.47937644619889191}]
[null,{"$f":"'Sheet3 (3)'!I5","v":-5.1343487934293679E-4},{"$f":"'Sheet3 (3)'!K5","v":2.2702934247162488E-3},{"$f":"CORREL($B$1:B5,$C$1:C5)","v":-0.90366191666655782},{"$f":"'Sheet3 (3)'!M5","v":-8.4327697432221675E-3},{"$f":"CORREL($B$1:B5,$E$1:E5)","v":0.92188694778299285},{"$f":"'Sheet3 (3)'!O5","v":2.4923960797566813E-3},{"$f":"CORREL($B$1:B5,$G$1:G5)","v":-0.69157994170688375},{"$f":"'Sheet3 (3)'!Q5","v":5.0522061300095481E-4},{"$f":"CORREL($B$1:B5,$I$1:I5)","v":0.59048010310523791},{"$f":"'Sheet3 (3)'!S5","v":2.6981450252951868E-3},{"$f":"CORREL($B$1:B5,$K$1:K5)","v":-9.2845890449734236E-3},{"$f":"'Sheet3 (3)'!U5","v":-3.8661959993275658E-3},{"$f":"CORREL($B$1:B5,$M$1:M5)","v":-0.94277313196788426},{"$f":"'Sheet3 (3)'!W5","v":4.5529277855063856E-3},{"$f":"CORREL($B$1:B5,$O$1:O5)","v":0.27626380157752251},{"$f":"'Sheet3 (3)'!Y5","v":4.828053532102165E-3},{"$f":"CORREL($B$1:B5,$Q$1:Q5)","v":-0.17162071883660435},{"$f":"'Sheet3 (3)'!AA5","v":-2.3745918670227822E-3},{"$f":"CORREL($B$1:B5,$S$1:S5)","v":-0.56762087460220179}]
[null,{"$f":"'Sheet3 (3)'!I6","v":-5.1343487934293679E-4},{"$f":"'Sheet3 (3)'!K6","v":2.6986506746628472E-3},{"$f":"CORREL($B$1:B6,$C$1:C6)","v":-0.89065740491362044},{"$f":"'Sheet3 (3)'!M6","v":-8.0954589534933188E-3},{"$f":"CORREL($B$1:B6,$E$1:E6)","v":0.8283851667230161},{"$f":"'Sheet3 (3)'!O6","v":2.2811760729975709E-3},{"$f":"CORREL($B$1:B6,$G$1:G6)","v":-0.63788265731786886},{"$f":"'Sheet3 (3)'!Q6","v":2.5261030650047741E-4},{"$f":"CORREL($B$1:B6,$I$1:I6)","v":0.61732186295032476},{"$f":"'Sheet3 (3)'!S6","v":2.5716694772343991E-3},{"$f":"CORREL($B$1:B6,$K$1:K6)","v":-0.14397445334540143},{"$f":"'Sheet3 (3)'!U6","v":-3.3198856950747168E-3},{"$f":"CORREL($B$1:B6,$M$1:M6)","v":-0.87191459593032028},{"$f":"'Sheet3 (3)'!W6","v":4.763711479279906E-3},{"$f":"CORREL($B$1:B6,$O$1:O6)","v":0.36060336844147817},{"$f":"'Sheet3 (3)'!Y6","v":4.9127562256478102E-3},{"$f":"CORREL($B$1:B6,$Q$1:Q6)","v":-0.21179099287789988},{"$f":"'Sheet3 (3)'!AA6","v":-2.3745918670227822E-3},{"$f":"CORREL($B$1:B6,$S$1:S6)","v":-0.61121904652510917}]
[null,{"$f":"'Sheet3 (3)'!I7","v":-4.7064863939761287E-4},{"$f":"'Sheet3 (3)'!K7","v":2.0561147997431397E-3},{"$f":"CORREL($B$1:B7,$C$1:C7)","v":-0.88669667432862609},{"$f":"'Sheet3 (3)'!M7","v":-8.3062781970739442E-3},{"$f":"CORREL($B$1:B7,$E$1:E7)","v":0.82278247335566201},{"$f":"'Sheet3 (3)'!O7","v":1.9854680635350407E-3},{"$f":"CORREL($B$1:B7,$G$1:G7)","v":-0.32637796651787959},{"$f":"'Sheet3 (3)'!Q7","v":3.7891545975080959E-4},{"$f":"CORREL($B$1:B7,$I$1:I7)","v":0.63443694138076756},{"$f":"'Sheet3 (3)'!S7","v":2.78246205733565E-3},{"$f":"CORREL($B$1:B7,$K$1:K7)","v":-0.22373145710769549},{"$f":"'Sheet3 (3)'!U7","v":-3.4879811733063339E-3},{"$f":"CORREL($B$1:B7,$M$1:M7)","v":-0.85831783468712075},{"$f":"'Sheet3 (3)'!W7","v":4.8901816955440559E-3},{"$f":"CORREL($B$1:B7,$O$1:O7)","v":0.38145627251393965},{"$f":"'Sheet3 (3)'!Y7","v":5.1668643062849342E-3},{"$f":"CORREL($B$1:B7,$Q$1:Q7)","v":-0.27774932644542505},{"$f":"'Sheet3 (3)'!AA7","v":-2.5442055718101105E-3},{"$f":"CORREL($B$1:B7,$S$1:S7)","v":-0.6194396702310716}]
[null,{"$f":"'Sheet3 (3)'!I8","v":{"$error":"#N/A"}},{"$f":"'Sheet3 (3)'!K8","v":1.7562647247805589E-3},{"$f":"CORREL($B$1:B8,$C$1:C8)","v":{"$error":"#N/A"}},{"$f":"'Sheet3 (3)'!M8","v":-7.8846397099126952E-3},{"$f":"CORREL($B$1:B8,$E$1:E8)","v":{"$error":"#N/A"}},{"$f":"'Sheet3 (3)'!O8","v":1.9854680635350407E-3},{"$f":"CORREL($B$1:B8,$G$1:G8)","v":{"$error":"#N/A"}},{"$f":"'Sheet3 (3)'!Q8","v":4.6311889525096873E-4},{"$f":"CORREL($B$1:B8,$I$1:I8)","v":{"$error":"#N/A"}},{"$f":"'Sheet3 (3)'!S8","v":2.4451939291737983E-3},{"$f":"CORREL($B$1:B8,$K$1:K8)","v":{"$error":"#N/A"}},{"$f":"'Sheet3 (3)'!U8","v":-3.6981005210959487E-3},{"$f":"CORREL($B$1:B8,$M$1:M8)","v":{"$error":"#N/A"}},{"$f":"'Sheet3 (3)'!W8","v":4.8480249567892765E-3},{"$f":"CORREL($B$1:B8,$O$1:O8)","v":{"$error":"#N/A"}},{"$f":"'Sheet3 (3)'!Y8","v":6.0562425885143057E-3},{"$f":"CORREL($B$1:B8,$Q$1:Q8)","v":{"$error":"#N/A"}},{"$f":"'Sheet3 (3)'!AA8","v":-2.5442055718101105E-3},{"$f":"CORREL($B$1:B8,$S$1:S8)","v":{"$error":"#N/A"}}]
[null,{"$f":"'Sheet3 (3)'!I9","v":{"$error":"#N/A"}},{"$f":"'Sheet3 (3)'!K9","v":1.4135789248234324E-3},{"$f":"CORREL($B$1:B9,$C$1:C9)","v":{"$error":"#N/A"}},{"$f":"'Sheet3 (3)'!M9","v":-9.1495551713960659E-3},{"$f":"CORREL($B$1:B9,$E$1:E9)","v":{"$error":"#N/A"}},{"$f":"'Sheet3 (3)'!O9","v":1.8587360594795369E-3},{"$f":"CORREL($B$1:B9,$G$1:G9)","v":{"$error":"#N/A"}},{"$f":"'Sheet3 (3)'!Q9","v":0},{"$f":"CORREL($B$1:B9,$I$1:I9)","v":{"$error":"#N/A"}},{"$f":"'Sheet3 (3)'!S9","v":2.9089376053962508E-3},{"$f":"CORREL($B$1:B9,$K$1:K9)","v":{"$error":"#N/A"}},{"$f":"'Sheet3 (3)'!U9","v":-3.9922676080013713E-3},{"$f":"CORREL($B$1:B9,$M$1:M9)","v":{"$error":"#N/A"}},{"$f":"'Sheet3 (3)'!W9","v":4.2999873529782741E-3},{"$f":"CORREL($B$1:B9,$O$1:O9)","v":{"$error":"#N/A"}},{"$f":"'Sheet3 (3)'!Y9","v":6.18329662883268E-3},{"$f":"CORREL($B$1:B9,$Q$1:Q9)","v":{"$error":"#N/A"}},{"$f":"'Sheet3 (3)'!AA9","v":-2.7562227027943648E-3},{"$f":"CORREL($B$1:B9,$S$1:S9)","v":{"$error":"#N/A"}}]
[null,{"$f":"'Sheet3 (3)'!I10","v":{"$error":"#N/A"}},{"$f":"'Sheet3 (3)'!K10","v":1.6277575497965415E-3},{"$f":"CORREL($B$1:B10,$C$1:C10)","v":{"$error":"#N/A"}},{"$f":"'Sheet3 (3)'!M10","v":-9.233882868828279E-3},{"$f":"CORREL($B$1:B10,$E$1:E10)","v":{"$error":"#N/A"}},{"$f":"'Sheet3 (3)'!O10","v":1.9854680635350407E-3},{"$f":"CORREL($B$1:B10,$G$1:G10)","v":{"$error":"#N/A"}},{"$f":"'Sheet3 (3)'!Q10","v":1.2630515325033219E-4},{"$f":"CORREL($B$1:B10,$I$1:I10)","v":{"$error":"#N/A"}},{"$f":"'Sheet3 (3)'!S10","v":2.9932546374369009E-3},{"$f":"CORREL($B$1:B10,$K$1:K10)","v":{"$error":"#N/A"}},{"$f":"'Sheet3 (3)'!U10","v":-4.0763153471171801E-3},{"$f":"CORREL($B$1:B10,$M$1:M10)","v":{"$error":"#N/A"}},{"$f":"'Sheet3 (3)'!W10","v":3.4990093166391602E-3},{"$f":"CORREL($B$1:B10,$O$1:O10)","v":{"$error":"#N/A"}},{"$f":"'Sheet3 (3)'!Y10","v":6.7338641368794687E-3},{"$f":"CORREL($B$1:B10,$Q$1:Q10)","v":{"$error":"#N/A"}},{"$f":"'Sheet3 (3)'!AA10","v":-2.7562227027943648E-3},{"$f":"CORREL($B$1:B10,$S$1:S10)","v":{"$error":"#N/A"}}]
[null,{"$f":"'Sheet3 (3)'!I11","v":{"$error":"#N/A"}},{"$f":"'Sheet3 (3)'!K11","v":1.3707431998286966E-3},{"$f":"CORREL($B$1:B11,$C$1:C11)","v":{"$error":"#N/A"}},{"$f":"'Sheet3 (3)'!M11","v":-9.8241767508539524E-3},{"$f":"CORREL($B$1:B11,$E$1:E11)","v":{"$error":"#N/A"}},{"$f":"'Sheet3 (3)'!O11","v":1.6475160527206136E-3},{"$f":"CORREL($B$1:B11,$G$1:G11)","v":{"$error":"#N/A"}},{"$f":"'Sheet3 (3)'!Q11","v":2.5261030650047741E-4},{"$f":"CORREL($B$1:B11,$I$1:I11)","v":{"$error":"#N/A"}},{"$f":"'Sheet3 (3)'!S11","v":2.8667790893761127E-3},{"$f":"CORREL($B$1:B11,$K$1:K11)","v":{"$error":"#N/A"}},{"$f":"'Sheet3 (3)'!U11","v":-4.4125063035804143E-3},{"$f":"CORREL($B$1:B11,$M$1:M11)","v":{"$error":"#N/A"}},{"$f":"'Sheet3 (3)'!W11","v":3.6254795329033096E-3},{"$f":"CORREL($B$1:B11,$O$1:O11)","v":{"$error":"#N/A"}},{"$f":"'Sheet3 (3)'!Y11","v":6.6068100965609071E-3},{"$f":"CORREL($B$1:B11,$Q$1:Q11)","v":{"$error":"#N/A"}},{"$f":"'Sheet3 (3)'!AA11","v":-2.7562227027943648E-3},{"$f":"CORREL($B$1:B11,$S$1:S11)","v":{"$error":"#N/A"}}]
[null,{"$f":"'Sheet3 (3)'!I12","v":{"$error":"#N/A"}},{"$f":"'Sheet3 (3)'!K12","v":5.5686442493042582E-4},{"$f":"CORREL($B$1:B12,$C$1:C12)","v":{"$error":"#N/A"}},{"$f":"'Sheet3 (3)'!M12","v":-1.0583126027743863E-2},{"$f":"CORREL($B$1:B12,$E$1:E12)","v":{"$error":"#N/A"}},{"$f":"'Sheet3 (3)'!O12","v":1.5207840486651098E-3},{"$f":"CORREL($B$1:B12,$G$1:G12)","v":{"$error":"#N/A"}},{"$f":"'Sheet3 (3)'!Q12","v":-8.4203435500159135E-5},{"$f":"CORREL($B$1:B12,$I$1:I12)","v":{"$error":"#N/A"}},{"$f":"'Sheet3 (3)'!S12","v":2.9510961214165759E-3},{"$f":"CORREL($B$1:B12,$K$1:K12)","v":{"$error":"#N/A"}},{"$f":"'Sheet3 (3)'!U12","v":-4.1603630862329889E-3},{"$f":"CORREL($B$1:B12,$M$1:M12)","v":{"$error":"#N/A"}},{"$f":"'Sheet3 (3)'!W12","v":3.5411660553939391E-3},{"$f":"CORREL($B$1:B12,$O$1:O12)","v":{"$error":"#N/A"}},{"$f":"'Sheet3 (3)'!Y12","v":6.4797560562425329E-3},{"$f":"CORREL($B$1:B12,$Q$1:Q12)","v":{"$error":"#N/A"}},{"$f":"'Sheet3 (3)'!AA12","v":-2.8410295551880289E-3},{"$f":"CORREL($B$1:B12,$S$1:S12)","v":{"$error":"#N/A"}}]
[null,{"$f":"'Sheet3 (3)'!I13","v":{"$error":"#N/A"}},{"$f":"'Sheet3 (3)'!K13","v":1.1137288498608516E-3},{"$f":"CORREL($B$1:B13,$C$1:C13)","v":{"$error":"#N/A"}},{"$f":"'Sheet3 (3)'!M13","v":-1.007715984315059E-2},{"$f":"CORREL($B$1:B13,$E$1:E13)","v":{"$error":"#N/A"}},{"$f":"'Sheet3 (3)'!O13","v":1.8164920581278273E-3},{"$f":"CORREL($B$1:B13,$G$1:G13)","v":{"$error":"#N/A"}},{"$f":"'Sheet3 (3)'!Q13","v":3.3681374200063654E-4},{"$f":"CORREL($B$1:B13,$I$1:I13)","v":{"$error":"#N/A"}},{"$f":"'Sheet3 (3)'!S13","v":2.9510961214165759E-3},{"$f":"CORREL($B$1:B13,$K$1:K13)","v":{"$error":"#N/A"}},{"$f":"'Sheet3 (3)'!U13","v":-3.8241721297697547E-3},{"$f":"CORREL($B$1:B13,$M$1:M13)","v":{"$error":"#N/A"}},{"$f":"'Sheet3 (3)'!W13","v":4.0470469204501626E-3},{"$f":"CORREL($B$1:B13,$O$1:O13)","v":{"$error":"#N/A"}},{"$f":"'Sheet3 (3)'!Y13","v":6.0138912417413886E-3},{"$f":"CORREL($B$1:B13,$Q$1:Q13)","v":{"$error":"#N/A"}},{"$f":"'Sheet3 (3)'!AA13","v":-3.8163083577152598E-3},{"$f":"CORREL($B$1:B13,$S$1:S13)","v":{"$error":"#N/A"}}]
[null,{"$f":"'Sheet3 (3)'!I14","v":{"$error":"#N/A"}},{"$f":"'Sheet3 (3)'!K14","v":1.4564146498179781E-3},{"$f":"CORREL($B$1:B14,$C$1:C14)","v":{"$error":"#N/A"}},{"$f":"'Sheet3 (3)'!M14","v":-1.1384239153349974E-2},{"$f":"CORREL($B$1:B14,$E$1:E14)","v":{"$error":"#N/A"}},{"$f":"'Sheet3 (3)'!O14","v":1.6475160527206136E-3},{"$f":"CORREL($B$1:B14,$G$1:G14)","v":{"$error":"#N/A"}},{"$f":"'Sheet3 (3)'!Q14","v":-1.2630515325033219E-4},{"$f":"CORREL($B$1:B14,$I$1:I14)","v":{"$error":"#N/A"}},{"$f":"'Sheet3 (3)'!S14","v":2.740303541315325E-3},{"$f":"CORREL($B$1:B14,$K$1:K14)","v":{"$error":"#N/A"}},{"$f":"'Sheet3 (3)'!U14","v":-3.9082198688855634E-3},{"$f":"CORREL($B$1:B14,$M$1:M14)","v":{"$error":"#N/A"}},{"$f":"'Sheet3 (3)'!W14","v":3.2039121453564566E-3},{"$f":"CORREL($B$1:B14,$O$1:O14)","v":{"$error":"#N/A"}},{"$f":"'Sheet3 (3)'!Y14","v":6.140945282059951E-3},{"$f":"CORREL($B$1:B14,$Q$1:Q14)","v":{"$error":"#N/A"}},{"$f":"'Sheet3 (3)'!AA14","v":-3.3498706695500135E-3},{"$f":"CORREL($B$1:B14,$S$1:S14)","v":{"$error":"#N/A"}}]
[null,{"$f":"'Sheet3 (3)'!I15","v":{"$error":"#N/A"}},{"$f":"'Sheet3 (3)'!K15","v":1.9276076247591223E-3},{"$f":"CORREL($B$1:B15,$C$1:C15)","v":{"$error":"#N/A"}},{"$f":"'Sheet3 (3)'!M15","v":-1.1468566850782186E-2},{"$f":"CORREL($B$1:B15,$E$1:E15)","v":{"$error":"#N/A"}},{"$f":"'Sheet3 (3)'!O15","v":1.8587360594795369E-3},{"$f":"CORREL($B$1:B15,$G$1:G15)","v":{"$error":"#N/A"}},{"$f":"'Sheet3 (3)'!Q15","v":3.3681374200063654E-4},{"$f":"CORREL($B$1:B15,$I$1:I15)","v":{"$error":"#N/A"}},{"$f":"'Sheet3 (3)'!S15","v":2.5295109612142614E-3},{"$f":"CORREL($B$1:B15,$K$1:K15)","v":{"$error":"#N/A"}},{"$f":"'Sheet3 (3)'!U15","v":-4.1603630862329889E-3},{"$f":"CORREL($B$1:B15,$M$1:M15)","v":{"$error":"#N/A"}},{"$f":"'Sheet3 (3)'!W15","v":3.3303823616204187E-3},{"$f":"CORREL($B$1:B15,$O$1:O15)","v":{"$error":"#N/A"}},{"$f":"'Sheet3 (3)'!Y15","v":5.8868372014230144E-3},{"$f":"CORREL($B$1:B15,$Q$1:Q15)","v":{"$error":"#N/A"}},{"$f":"'Sheet3 (3)'!AA15","v":-3.3498706695500135E-3},{"$f":"CORREL($B$1:B15,$S$1:S15)","v":{"$error":"#N/A"}}]
[null,{"$f":"'Sheet3 (3)'!I16","v":{"$error":"#N/A"}},{"$f":"'Sheet3 (3)'!K16","v":2.0561147997431397E-3},{"$f":"CORREL($B$1:B16,$C$1:C16)","v":{"$error":"#N/A"}},{"$f":"'Sheet3 (3)'!M16","v":-1.1046928363621126E-2},{"$f":"CORREL($B$1:B16,$E$1:E16)","v":{"$error":"#N/A"}},{"$f":"'Sheet3 (3)'!O16","v":1.9009800608314341E-3},{"$f":"CORREL($B$1:B16,$G$1:G16)","v":{"$error":"#N/A"}},{"$f":"'Sheet3 (3)'!Q16","v":4.2101717750079568E-4},{"$f":"CORREL($B$1:B16,$I$1:I16)","v":{"$error":"#N/A"}},{"$f":"'Sheet3 (3)'!S16","v":2.6559865092748618E-3},{"$f":"CORREL($B$1:B16,$K$1:K16)","v":{"$error":"#N/A"}},{"$f":"'Sheet3 (3)'!U16","v":-3.782148260211757E-3},{"$f":"CORREL($B$1:B16,$M$1:M16)","v":{"$error":"#N/A"}},{"$f":"'Sheet3 (3)'!W16","v":3.6676362716579012E-3},{"$f":"CORREL($B$1:B16,$O$1:O16)","v":{"$error":"#N/A"}},{"$f":"'Sheet3 (3)'!Y16","v":5.9291885481957433E-3},{"$f":"CORREL($B$1:B16,$Q$1:Q16)","v":{"$error":"#N/A"}},{"$f":"'Sheet3 (3)'!AA16","v":-3.3922740957469397E-3},{"$f":"CORREL($B$1:B16,$S$1:S16)","v":{"$error":"#N/A"}}]
[null,{"$f":"'Sheet3 (3)'!I17","v":{"$error":"#N/A"}},{"$f":"'Sheet3 (3)'!K17","v":2.3559648747055306E-3},{"$f":"CORREL($B$1:B17,$C$1:C17)","v":{"$error":"#N/A"}},{"$f":"'Sheet3 (3)'!M17","v":-1.1763713791795024E-2},{"$f":"CORREL($B$1:B17,$E$1:E17)","v":{"$error":"#N/A"}},{"$f":"'Sheet3 (3)'!O17","v":2.2811760729975709E-3},{"$f":"CORREL($B$1:B17,$G$1:G17)","v":{"$error":"#N/A"}},{"$f":"'Sheet3 (3)'!Q17","v":3.7891545975080959E-4},{"$f":"CORREL($B$1:B17,$I$1:I17)","v":{"$error":"#N/A"}},{"$f":"'Sheet3 (3)'!S17","v":2.78246205733565E-3},{"$f":"CORREL($B$1:B17,$K$1:K17)","v":{"$error":"#N/A"}},{"$f":"'Sheet3 (3)'!U17","v":-3.8661959993275658E-3},{"$f":"CORREL($B$1:B17,$M$1:M17)","v":{"$error":"#N/A"}},{"$f":"'Sheet3 (3)'!W17","v":4.0470469204501626E-3},{"$f":"CORREL($B$1:B17,$O$1:O17)","v":{"$error":"#N/A"}},{"$f":"'Sheet3 (3)'!Y17","v":5.7174318143315356E-3},{"$f":"CORREL($B$1:B17,$Q$1:Q17)","v":{"$error":"#N/A"}},{"$f":"'Sheet3 (3)'!AA17","v":-3.2226603909596115E-3},{"$f":"CORREL($B$1:B17,$S$1:S17)","v":{"$error":"#N/A"}}]
[null,{"$f":"'Sheet3 (3)'!I18","v":{"$error":"#N/A"}},{"$f":"'Sheet3 (3)'!K18","v":2.2274576997217033E-3},{"$f":"CORREL($B$1:B18,$C$1:C18)","v":{"$error":"#N/A"}},{"$f":"'Sheet3 (3)'!M18","v":-1.2101024581523873E-2},{"$f":"CORREL($B$1:B18,$E$1:E18)","v":{"$error":"#N/A"}},{"$f":"'Sheet3 (3)'!O18","v":2.0277120648867506E-3},{"$f":"CORREL($B$1:B18,$G$1:G18)","v":{"$error":"#N/A"}},{"$f":"'Sheet3 (3)'!Q18","v":0},{"$f":"CORREL($B$1:B18,$I$1:I18)","v":{"$error":"#N/A"}},{"$f":"'Sheet3 (3)'!S18","v":3.456998313659353E-3},{"$f":"CORREL($B$1:B18,$K$1:K18)","v":{"$error":"#N/A"}},{"$f":"'Sheet3 (3)'!U18","v":-3.4459573037485228E-3},{"$f":"CORREL($B$1:B18,$M$1:M18)","v":{"$error":"#N/A"}},{"$f":"'Sheet3 (3)'!W18","v":4.0048901816955706E-3},{"$f":"CORREL($B$1:B18,$O$1:O18)","v":{"$error":"#N/A"}},{"$f":"'Sheet3 (3)'!Y18","v":5.4633237336945998E-3},{"$f":"CORREL($B$1:B18,$Q$1:Q18)","v":{"$error":"#N/A"}},{"$f":"'Sheet3 (3)'!AA18","v":-3.7315015053215957E-3},{"$f":"CORREL($B$1:B18,$S$1:S18)","v":{"$error":"#N/A"}}]
[null,{"$f":"'Sheet3 (3)'!I19","v":{"$error":"#N/A"}},{"$f":"'Sheet3 (3)'!K19","v":2.184621974726967E-3},{"$f":"CORREL($B$1:B19,$C$1:C19)","v":{"$error":"#N/A"}},{"$f":"'Sheet3 (3)'!M19","v":-1.1342075304633775E-2},{"$f":"CORREL($B$1:B19,$E$1:E19)","v":{"$error":"#N/A"}},{"$f":"'Sheet3 (3)'!O19","v":2.3234200743494681E-3},{"$f":"CORREL($B$1:B19,$G$1:G19)","v":{"$error":"#N/A"}},{"$f":"'Sheet3 (3)'!Q19","v":8.4203435500159135E-5},{"$f":"CORREL($B$1:B19,$I$1:I19)","v":{"$error":"#N/A"}},{"$f":"'Sheet3 (3)'!S19","v":3.2040472175379644E-3},{"$f":"CORREL($B$1:B19,$K$1:K19)","v":{"$error":"#N/A"}},{"$f":"'Sheet3 (3)'!U19","v":-3.2778618255169061E-3},{"$f":"CORREL($B$1:B19,$M$1:M19)","v":{"$error":"#N/A"}},{"$f":"'Sheet3 (3)'!W19","v":4.257830614223683E-3},{"$f":"CORREL($B$1:B19,$O$1:O19)","v":{"$error":"#N/A"}},{"$f":"'Sheet3 (3)'!Y19","v":5.3786210401489546E-3},{"$f":"CORREL($B$1:B19,$Q$1:Q19)","v":{"$error":"#N/A"}},{"$f":"'Sheet3 (3)'!AA19","v":-3.5194843743373417E-3},{"$f":"CORREL($B$1:B19,$S$1:S19)","v":{"$error":"#N/A"}}]
[null,{"$f":"'Sheet3 (3)'!I20","v":{"$error":"#N/A"}},{"$f":"'Sheet3 (3)'!K20","v":2.2274576997217033E-3},{"$f":"CORREL($B$1:B20,$C$1:C20)","v":{"$error":"#N/A"}},{"$f":"'Sheet3 (3)'!M20","v":-1.1721549943078823E-2},{"$f":"CORREL($B$1:B20,$E$1:E20)","v":{"$error":"#N/A"}},{"$f":"'Sheet3 (3)'!O20","v":1.9854680635350407E-3},{"$f":"CORREL($B$1:B20,$G$1:G20)","v":{"$error":"#N/A"}},{"$f":"'Sheet3 (3)'!Q20","v":-4.2101717749986082E-5},{"$f":"CORREL($B$1:B20,$I$1:I20)","v":{"$error":"#N/A"}},{"$f":"'Sheet3 (3)'!S20","v":2.5295109612142614E-3},{"$f":"CORREL($B$1:B20,$K$1:K20)","v":{"$error":"#N/A"}},{"$f":"'Sheet3 (3)'!U20","v":-3.5300050428643316E-3},{"$f":"CORREL($B$1:B20,$M$1:M20)","v":{"$error":"#N/A"}},{"$f":"'Sheet3 (3)'!W20","v":3.6254795329033096E-3},{"$f":"CORREL($B$1:B20,$O$1:O20)","v":{"$error":"#N/A"}},{"$f":"'Sheet3 (3)'!Y20","v":5.2939183466033084E-3},{"$f":"CORREL($B$1:B20,$Q$1:Q20)","v":{"$error":"#N/A"}},{"$f":"'Sheet3 (3)'!AA20","v":-3.5194843743373417E-3},{"$f":"CORREL($B$1:B20,$S$1:S20)","v":{"$error":"#N/A"}}]
[null,{"$f":"'Sheet3 (3)'!I21","v":{"$error":"#N/A"}},{"$f":"'Sheet3 (3)'!K21","v":2.2702934247162488E-3},{"$f":"CORREL($B$1:B21,$C$1:C21)","v":{"$error":"#N/A"}},{"$f":"'Sheet3 (3)'!M21","v":-1.1932369186659448E-2},{"$f":"CORREL($B$1:B21,$E$1:E21)","v":{"$error":"#N/A"}},{"$f":"'Sheet3 (3)'!O21","v":1.7320040554242204E-3},{"$f":"CORREL($B$1:B21,$G$1:G21)","v":{"$error":"#N/A"}},{"$f":"'Sheet3 (3)'!Q21","v":4.2101717750173053E-5},{"$f":"CORREL($B$1:B21,$I$1:I21)","v":{"$error":"#N/A"}},{"$f":"'Sheet3 (3)'!S21","v":2.6559865092748618E-3},{"$f":"CORREL($B$1:B21,$K$1:K21)","v":{"$error":"#N/A"}},{"$f":"'Sheet3 (3)'!U21","v":-4.2864346949066084E-3},{"$f":"CORREL($B$1:B21,$M$1:M21)","v":{"$error":"#N/A"}},{"$f":"'Sheet3 (3)'!W21","v":4.0470469204501626E-3},{"$f":"CORREL($B$1:B21,$O$1:O21)","v":{"$error":"#N/A"}},{"$f":"'Sheet3 (3)'!Y21","v":5.844485854650098E-3},{"$f":"CORREL($B$1:B21,$Q$1:Q21)","v":{"$error":"#N/A"}},{"$f":"'Sheet3 (3)'!AA21","v":-3.1378535385657592E-3},{"$f":"CORREL($B$1:B21,$S$1:S21)","v":{"$error":"#N/A"}}]
[null,{"$f":"'Sheet3 (3)'!I22","v":{"$error":"#N/A"}},{"$f":"'Sheet3 (3)'!K22","v":2.0561147997431397E-3},{"$f":"CORREL($B$1:B22,$C$1:C22)","v":{"$error":"#N/A"}},{"$f":"'Sheet3 (3)'!M22","v":-1.1384239153349974E-2},{"$f":"CORREL($B$1:B22,$E$1:E22)","v":{"$error":"#N/A"}},{"$f":"'Sheet3 (3)'!O22","v":1.6052720513687164E-3},{"$f":"CORREL($B$1:B22,$G$1:G22)","v":{"$error":"#N/A"}},{"$f":"'Sheet3 (3)'!Q22","v":2.1050858875049132E-4},{"$f":"CORREL($B$1:B22,$I$1:I22)","v":{"$error":"#N/A"}},{"$f":"'Sheet3 (3)'!S22","v":3.2040472175379644E-3},{"$f":"CORREL($B$1:B22,$K$1:K22)","v":{"$error":"#N/A"}},{"$f":"'Sheet3 (3)'!U22","v":-4.4125063035804143E-3},{"$f":"CORREL($B$1:B22,$M$1:M22)","v":{"$error":"#N/A"}},{"$f":"'Sheet3 (3)'!W22","v":4.595084524261165E-3},{"$f":"CORREL($B$1:B22,$O$1:O22)","v":{"$error":"#N/A"}},{"$f":"'Sheet3 (3)'!Y22","v":5.5480264272402451E-3},{"$f":"CORREL($B$1:B22,$Q$1:Q22)","v":{"$error":"#N/A"}},{"$f":"'Sheet3 (3)'!AA22","v":-3.4770809481406038E-3},{"$f":"CORREL($B$1:B22,$S$1:S22)","v":{"$error":"#N/A"}}]
[null,{"$f":"'Sheet3 (3)'!I23","v":{"$error":"#N/A"}},{"$f":"'Sheet3 (3)'!K23","v":2.5273077746840937E-3},{"$f":"CORREL($B$1:B23,$C$1:C23)","v":{"$error":"#N/A"}},{"$f":"'Sheet3 (3)'!M23","v":-1.1004764514904924E-2},{"$f":"CORREL($B$1:B23,$E$1:E23)","v":{"$error":"#N/A"}},{"$f":"'Sheet3 (3)'!O23","v":1.6897600540723232E-3},{"$f":"CORREL($B$1:B23,$G$1:G23)","v":{"$error":"#N/A"}},{"$f":"'Sheet3 (3)'!Q23","v":-8.4203435500159135E-5},{"$f":"CORREL($B$1:B23,$I$1:I23)","v":{"$error":"#N/A"}},{"$f":"'Sheet3 (3)'!S23","v":3.0354131534570386E-3},{"$f":"CORREL($B$1:B23,$K$1:K23)","v":{"$error":"#N/A"}},{"$f":"'Sheet3 (3)'!U23","v":-4.5385779122542203E-3},{"$f":"CORREL($B$1:B23,$M$1:M23)","v":{"$error":"#N/A"}},{"$f":"'Sheet3 (3)'!W23","v":4.6793980017705355E-3},{"$f":"CORREL($B$1:B23,$O$1:O23)","v":{"$error":"#N/A"}},{"$f":"'Sheet3 (3)'!Y23","v":5.0398102659663727E-3},{"$f":"CORREL($B$1:B23,$Q$1:Q23)","v":{"$error":"#N/A"}},{"$f":"'Sheet3 (3)'!AA23","v":-3.1378535385657592E-3},{"$f":"CORREL($B$1:B23,$S$1:S23)","v":{"$error":"#N/A"}}]
[null,{"$f":"'Sheet3 (3)'!I24","v":{"$error":"#N/A"}},{"$f":"'Sheet3 (3)'!K24","v":2.184621974726967E-3},{"$f":"CORREL($B$1:B24,$C$1:C24)","v":{"$error":"#N/A"}},{"$f":"'Sheet3 (3)'!M24","v":-1.0625289876460064E-2},{"$f":"CORREL($B$1:B24,$E$1:E24)","v":{"$error":"#N/A"}},{"$f":"'Sheet3 (3)'!O24","v":1.8587360594795369E-3},{"$f":"CORREL($B$1:B24,$G$1:G24)","v":{"$error":"#N/A"}},{"$f":"'Sheet3 (3)'!Q24","v":-1.6840687100031827E-4},{"$f":"CORREL($B$1:B24,$I$1:I24)","v":{"$error":"#N/A"}},{"$f":"'Sheet3 (3)'!S24","v":3.0775716694773636E-3},{"$f":"CORREL($B$1:B24,$K$1:K24)","v":{"$error":"#N/A"}},{"$f":"'Sheet3 (3)'!U24","v":-3.6560766515381375E-3},{"$f":"CORREL($B$1:B24,$M$1:M24)","v":{"$error":"#N/A"}},{"$f":"'Sheet3 (3)'!W24","v":4.932338434298647E-3},{"$f":"CORREL($B$1:B24,$O$1:O24)","v":{"$error":"#N/A"}},{"$f":"'Sheet3 (3)'!Y24","v":5.6327291207858904E-3},{"$f":"CORREL($B$1:B24,$Q$1:Q24)","v":{"$error":"#N/A"}},{"$f":"'Sheet3 (3)'!AA24","v":-2.7562227027943648E-3},{"$f":"CORREL($B$1:B24,$S$1:S24)","v":{"$error":"#N/A"}}]
[null,{"$f":"'Sheet3 (3)'!I25","v":{"$error":"#N/A"}},{"$f":"'Sheet3 (3)'!K25","v":1.4135789248234324E-3},{"$f":"CORREL($B$1:B25,$C$1:C25)","v":{"$error":"#N/A"}},{"$f":"'Sheet3 (3)'!M25","v":-1.0667453725176076E-2},{"$f":"CORREL($B$1:B25,$E$1:E25)","v":{"$error":"#N/A"}},{"$f":"'Sheet3 (3)'!O25","v":2.0699560662386478E-3},{"$f":"CORREL($B$1:B25,$G$1:G25)","v":{"$error":"#N/A"}},{"$f":"'Sheet3 (3)'!Q25","v":-2.9471202425065046E-4},{"$f":"CORREL($B$1:B25,$I$1:I25)","v":{"$error":"#N/A"}},{"$f":"'Sheet3 (3)'!S25","v":3.1197301854975013E-3},{"$f":"CORREL($B$1:B25,$K$1:K25)","v":{"$error":"#N/A"}},{"$f":"'Sheet3 (3)'!U25","v":-3.782148260211757E-3},{"$f":"CORREL($B$1:B25,$M$1:M25)","v":{"$error":"#N/A"}},{"$f":"'Sheet3 (3)'!W25","v":4.595084524261165E-3},{"$f":"CORREL($B$1:B25,$O$1:O25)","v":{"$error":"#N/A"}},{"$f":"'Sheet3 (3)'!Y25","v":5.3786210401489546E-3},{"$f":"CORREL($B$1:B25,$Q$1:Q25)","v":{"$error":"#N/A"}},{"$f":"'Sheet3 (3)'!AA25","v":-2.8410295551880289E-3},{"$f":"CORREL($B$1:B25,$S$1:S25)","v":{"$error":"#N/A"}}]
[null,{"$f":"'Sheet3 (3)'!I26","v":{"$error":"#N/A"}},{"$f":"'Sheet3 (3)'!K26","v":2.184621974726967E-3},{"$f":"CORREL($B$1:B26,$C$1:C26)","v":{"$error":"#N/A"}},{"$f":"'Sheet3 (3)'!M26","v":-1.1046928363621126E-2},{"$f":"CORREL($B$1:B26,$E$1:E26)","v":{"$error":"#N/A"}},{"$f":"'Sheet3 (3)'!O26","v":1.9432240621831435E-3},{"$f":"CORREL($B$1:B26,$G$1:G26)","v":{"$error":"#N/A"}},{"$f":"'Sheet3 (3)'!Q26","v":-5.4732233075112781E-4},{"$f":"CORREL($B$1:B26,$I$1:I26)","v":{"$error":"#N/A"}},{"$f":"'Sheet3 (3)'!S26","v":3.1618887015178268E-3},{"$f":"CORREL($B$1:B26,$K$1:K26)","v":{"$error":"#N/A"}},{"$f":"'Sheet3 (3)'!U26","v":-3.5300050428643316E-3},{"$f":"CORREL($B$1:B26,$M$1:M26)","v":{"$error":"#N/A"}},{"$f":"'Sheet3 (3)'!W26","v":4.6793980017705355E-3},{"$f":"CORREL($B$1:B26,$O$1:O26)","v":{"$error":"#N/A"}},{"$f":"'Sheet3 (3)'!Y26","v":5.2939183466033084E-3},{"$f":"CORREL($B$1:B26,$Q$1:Q26)","v":{"$error":"#N/A"}},{"$f":"'Sheet3 (3)'!AA26","v":-2.204978162235454E-3},{"$f":"CORREL($B$1:B26,$S$1:S26)","v":{"$error":"#N/A"}}]
[null,{"$f":"'Sheet3 (3)'!I27","v":{"$error":"#N/A"}},{"$f":"'Sheet3 (3)'!K27","v":2.0561147997431397E-3},{"$f":"CORREL($B$1:B27,$C$1:C27)","v":{"$error":"#N/A"}},{"$f":"'Sheet3 (3)'!M27","v":-1.121558375848555E-2},{"$f":"CORREL($B$1:B27,$E$1:E27)","v":{"$error":"#N/A"}},{"$f":"'Sheet3 (3)'!O27","v":2.1544440689422544E-3},{"$f":"CORREL($B$1:B27,$G$1:G27)","v":{"$error":"#N/A"}},{"$f":"'Sheet3 (3)'!Q27","v":-5.8942404850111389E-4},{"$f":"CORREL($B$1:B27,$I$1:I27)","v":{"$error":"#N/A"}},{"$f":"'Sheet3 (3)'!S27","v":3.0775716694773636E-3},{"$f":"CORREL($B$1:B27,$K$1:K27)","v":{"$error":"#N/A"}},{"$f":"'Sheet3 (3)'!U27","v":-3.6560766515381375E-3},{"$f":"CORREL($B$1:B27,$M$1:M27)","v":{"$error":"#N/A"}},{"$f":"'Sheet3 (3)'!W27","v":4.9744951730534264E-3},{"$f":"CORREL($B$1:B27,$O$1:O27)","v":{"$error":"#N/A"}},{"$f":"'Sheet3 (3)'!Y27","v":5.1245129595120179E-3},{"$f":"CORREL($B$1:B27,$Q$1:Q27)","v":{"$error":"#N/A"}},{"$f":"'Sheet3 (3)'!AA27","v":-1.8233473264638717E-3},{"$f":"CORREL($B$1:B27,$S$1:S27)","v":{"$error":"#N/A"}}]
[null,{"$f":"'Sheet3 (3)'!I28","v":{"$error":"#N/A"}},{"$f":"'Sheet3 (3)'!K28","v":2.3559648747055306E-3},{"$f":"CORREL($B$1:B28,$C$1:C28)","v":{"$error":"#N/A"}},{"$f":"'Sheet3 (3)'!M28","v":-1.1342075304633775E-2},{"$f":"CORREL($B$1:B28,$E$1:E28)","v":{"$error":"#N/A"}},{"$f":"'Sheet3 (3)'!O28","v":1.7742480567759301E-3},{"$f":"CORREL($B$1:B28,$G$1:G28)","v":{"$error":"#N/A"}},{"$f":"'Sheet3 (3)'!Q28","v":-1.6840687100031827E-4},{"$f":"CORREL($B$1:B28,$I$1:I28)","v":{"$error":"#N/A"}},{"$f":"'Sheet3 (3)'!S28","v":3.2462057335582895E-3},{"$f":"CORREL($B$1:B28,$K$1:K28)","v":{"$error":"#N/A"}},{"$f":"'Sheet3 (3)'!U28","v":-3.8241721297697547E-3},{"$f":"CORREL($B$1:B28,$M$1:M28)","v":{"$error":"#N/A"}},{"$f":"'Sheet3 (3)'!W28","v":4.8058682180346854E-3},{"$f":"CORREL($B$1:B28,$O$1:O28)","v":{"$error":"#N/A"}},{"$f":"'Sheet3 (3)'!Y28","v":4.828053532102165E-3},{"$f":"CORREL($B$1:B28,$Q$1:Q28)","v":{"$error":"#N/A"}},{"$f":"'Sheet3 (3)'!AA28","v":-1.6961370478734699E-3},{"$f":"CORREL($B$1:B28,$S$1:S28)","v":{"$error":"#N/A"}}]
[null,{"$f":"'Sheet3 (3)'!I29","v":{"$error":"#N/A"}},{"$f":"'Sheet3 (3)'!K29","v":2.0989505247376856E-3},{"$f":"CORREL($B$1:B29,$C$1:C29)","v":{"$error":"#N/A"}},{"$f":"'Sheet3 (3)'!M29","v":-1.1637222245646612E-2},{"$f":"CORREL($B$1:B29,$E$1:E29)","v":{"$error":"#N/A"}},{"$f":"'Sheet3 (3)'!O29","v":1.6475160527206136E-3},{"$f":"CORREL($B$1:B29,$G$1:G29)","v":{"$error":"#N/A"}},{"$f":"'Sheet3 (3)'!Q29","v":-2.9471202425065046E-4},{"$f":"CORREL($B$1:B29,$I$1:I29)","v":{"$error":"#N/A"}},{"$f":"'Sheet3 (3)'!S29","v":3.0354131534570386E-3},{"$f":"CORREL($B$1:B29,$K$1:K29)","v":{"$error":"#N/A"}},{"$f":"'Sheet3 (3)'!U29","v":-3.8241721297697547E-3},{"$f":"CORREL($B$1:B29,$M$1:M29)","v":{"$error":"#N/A"}},{"$f":"'Sheet3 (3)'!W29","v":4.6793980017705355E-3},{"$f":"CORREL($B$1:B29,$O$1:O29)","v":{"$error":"#N/A"}},{"$f":"'Sheet3 (3)'!Y29","v":4.6162967982381455E-3},{"$f":"CORREL($B$1:B29,$Q$1:Q29)","v":{"$error":"#N/A"}},{"$f":"'Sheet3 (3)'!AA29","v":-1.9081541788575358E-3},{"$f":"CORREL($B$1:B29,$S$1:S29)","v":{"$error":"#N/A"}}]
[null,{"$f":"'Sheet3 (3)'!I30","v":{"$error":"#N/A"}},{"$f":"'Sheet3 (3)'!K30","v":2.5701434996788296E-3},{"$f":"CORREL($B$1:B30,$C$1:C30)","v":{"$error":"#N/A"}},{"$f":"'Sheet3 (3)'!M30","v":-1.0962600666188912E-2},{"$f":"CORREL($B$1:B30,$E$1:E30)","v":{"$error":"#N/A"}},{"$f":"'Sheet3 (3)'!O30","v":2.1122000675903572E-3},{"$f":"CORREL($B$1:B30,$G$1:G30)","v":{"$error":"#N/A"}},{"$f":"'Sheet3 (3)'!Q30","v":-4.2101717749986082E-5},{"$f":"CORREL($B$1:B30,$I$1:I30)","v":{"$error":"#N/A"}},{"$f":"'Sheet3 (3)'!S30","v":3.0775716694773636E-3},{"$f":"CORREL($B$1:B30,$K$1:K30)","v":{"$error":"#N/A"}},{"$f":"'Sheet3 (3)'!U30","v":-3.9922676080013713E-3},{"$f":"CORREL($B$1:B30,$M$1:M30)","v":{"$error":"#N/A"}},{"$f":"'Sheet3 (3)'!W30","v":4.595084524261165E-3},{"$f":"CORREL($B$1:B30,$O$1:O30)","v":{"$error":"#N/A"}},{"$f":"'Sheet3 (3)'!Y30","v":4.4045400643739378E-3},{"$f":"CORREL($B$1:B30,$Q$1:Q30)","v":{"$error":"#N/A"}},{"$f":"'Sheet3 (3)'!AA30","v":-2.0777678836448638E-3},{"$f":"CORREL($B$1:B30,$S$1:S30)","v":{"$error":"#N/A"}}]
[null,{"$f":"'Sheet3 (3)'!I31","v":{"$error":"#N/A"}},{"$f":"'Sheet3 (3)'!K31","v":2.6129792246733755E-3},{"$f":"CORREL($B$1:B31,$C$1:C31)","v":{"$error":"#N/A"}},{"$f":"'Sheet3 (3)'!M31","v":-1.1552894548214399E-2},{"$f":"CORREL($B$1:B31,$E$1:E31)","v":{"$error":"#N/A"}},{"$f":"'Sheet3 (3)'!O31","v":2.4923960797566813E-3},{"$f":"CORREL($B$1:B31,$G$1:G31)","v":{"$error":"#N/A"}},{"$f":"'Sheet3 (3)'!Q31","v":1.2630515325033219E-4},{"$f":"CORREL($B$1:B31,$I$1:I31)","v":{"$error":"#N/A"}},{"$f":"'Sheet3 (3)'!S31","v":2.8246205733557877E-3},{"$f":"CORREL($B$1:B31,$K$1:K31)","v":{"$error":"#N/A"}},{"$f":"'Sheet3 (3)'!U31","v":-3.9922676080013713E-3},{"$f":"CORREL($B$1:B31,$M$1:M31)","v":{"$error":"#N/A"}},{"$f":"'Sheet3 (3)'!W31","v":4.595084524261165E-3},{"$f":"CORREL($B$1:B31,$O$1:O31)","v":{"$error":"#N/A"}},{"$f":"'Sheet3 (3)'!Y31","v":4.3198373708282925E-3},{"$f":"CORREL($B$1:B31,$Q$1:Q31)","v":{"$error":"#N/A"}},{"$f":"'Sheet3 (3)'!AA31","v":-1.9505576050544619E-3},{"$f":"CORREL($B$1:B31,$S$1:S31)","v":{"$error":"#N/A"}}]
[null,{"$f":"'Sheet3 (3)'!I32","v":{"$error":"#N/A"}},{"$f":"'Sheet3 (3)'!K32","v":2.5701434996788296E-3},{"$f":"CORREL($B$1:B32,$C$1:C32)","v":{"$error":"#N/A"}},{"$f":"'Sheet3 (3)'!M32","v":-1.2058860732807673E-2},{"$f":"CORREL($B$1:B32,$E$1:E32)","v":{"$error":"#N/A"}},{"$f":"'Sheet3 (3)'!O32","v":2.5768840824602884E-3},{"$f":"CORREL($B$1:B32,$G$1:G32)","v":{"$error":"#N/A"}},{"$f":"'Sheet3 (3)'!Q32","v":2.9471202425065046E-4},{"$f":"CORREL($B$1:B32,$I$1:I32)","v":{"$error":"#N/A"}},{"$f":"'Sheet3 (3)'!S32","v":2.9510961214165759E-3},{"$f":"CORREL($B$1:B32,$K$1:K32)","v":{"$error":"#N/A"}},{"$f":"'Sheet3 (3)'!U32","v":-4.1183392166749908E-3},{"$f":"CORREL($B$1:B32,$M$1:M32)","v":{"$error":"#N/A"}},{"$f":"'Sheet3 (3)'!W32","v":4.9744951730534264E-3},{"$f":"CORREL($B$1:B32,$O$1:O32)","v":{"$error":"#N/A"}},{"$f":"'Sheet3 (3)'!Y32","v":4.3198373708282925E-3},{"$f":"CORREL($B$1:B32,$Q$1:Q32)","v":{"$error":"#N/A"}},{"$f":"'Sheet3 (3)'!AA32","v":-1.8657507526607978E-3},{"$f":"CORREL($B$1:B32,$S$1:S32)","v":{"$error":"#N/A"}}]
[null,{"$f":"'Sheet3 (3)'!I33","v":{"$error":"#N/A"}},{"$f":"'Sheet3 (3)'!K33","v":2.7414863996573931E-3},{"$f":"CORREL($B$1:B33,$C$1:C33)","v":{"$error":"#N/A"}},{"$f":"'Sheet3 (3)'!M33","v":-1.235400767382051E-2},{"$f":"CORREL($B$1:B33,$E$1:E33)","v":{"$error":"#N/A"}},{"$f":"'Sheet3 (3)'!O33","v":3.083812098681929E-3},{"$f":"CORREL($B$1:B33,$G$1:G33)","v":{"$error":"#N/A"}},{"$f":"'Sheet3 (3)'!Q33","v":2.5261030650047741E-4},{"$f":"CORREL($B$1:B33,$I$1:I33)","v":{"$error":"#N/A"}},{"$f":"'Sheet3 (3)'!S33","v":2.6138279932547241E-3},{"$f":"CORREL($B$1:B33,$K$1:K33)","v":{"$error":"#N/A"}},{"$f":"'Sheet3 (3)'!U33","v":-3.6560766515381375E-3},{"$f":"CORREL($B$1:B33,$M$1:M33)","v":{"$error":"#N/A"}},{"$f":"'Sheet3 (3)'!W33","v":4.8058682180346854E-3},{"$f":"CORREL($B$1:B33,$O$1:O33)","v":{"$error":"#N/A"}},{"$f":"'Sheet3 (3)'!Y33","v":4.9127562256478102E-3},{"$f":"CORREL($B$1:B33,$Q$1:Q33)","v":{"$error":"#N/A"}},{"$f":"'Sheet3 (3)'!AA33","v":-1.9505576050544619E-3},{"$f":"CORREL($B$1:B33,$S$1:S33)","v":{"$error":"#N/A"}}]
[null,{"$f":"'Sheet3 (3)'!I34","v":{"$error":"#N/A"}},{"$f":"'Sheet3 (3)'!K34","v":2.5273077746840937E-3},{"$f":"CORREL($B$1:B34,$C$1:C34)","v":{"$error":"#N/A"}},{"$f":"'Sheet3 (3)'!M34","v":-1.2311843825104496E-2},{"$f":"CORREL($B$1:B34,$E$1:E34)","v":{"$error":"#N/A"}},{"$f":"'Sheet3 (3)'!O34","v":3.0415680973302195E-3},{"$f":"CORREL($B$1:B34,$G$1:G34)","v":{"$error":"#N/A"}},{"$f":"'Sheet3 (3)'!Q34","v":2.9471202425065046E-4},{"$f":"CORREL($B$1:B34,$I$1:I34)","v":{"$error":"#N/A"}},{"$f":"'Sheet3 (3)'!S34","v":2.6138279932547241E-3},{"$f":"CORREL($B$1:B34,$K$1:K34)","v":{"$error":"#N/A"}},{"$f":"'Sheet3 (3)'!U34","v":-3.6560766515381375E-3},{"$f":"CORREL($B$1:B34,$M$1:M34)","v":{"$error":"#N/A"}},{"$f":"'Sheet3 (3)'!W34","v":4.721554740525314E-3},{"$f":"CORREL($B$1:B34,$O$1:O34)","v":{"$error":"#N/A"}},{"$f":"'Sheet3 (3)'!Y34","v":5.1668643062849342E-3},{"$f":"CORREL($B$1:B34,$Q$1:Q34)","v":{"$error":"#N/A"}},{"$f":"'Sheet3 (3)'!AA34","v":-2.0353644574481263E-3},{"$f":"CORREL($B$1:B34,$S$1:S34)","v":{"$error":"#N/A"}}]
[null,{"$f":"'Sheet3 (3)'!I35","v":{"$error":"#N/A"}},{"$f":"'Sheet3 (3)'!K35","v":2.3988005997002664E-3},{"$f":"CORREL($B$1:B35,$C$1:C35)","v":{"$error":"#N/A"}},{"$f":"'Sheet3 (3)'!M35","v":-1.2058860732807673E-2},{"$f":"CORREL($B$1:B35,$E$1:E35)","v":{"$error":"#N/A"}},{"$f":"'Sheet3 (3)'!O35","v":2.7036160865157922E-3},{"$f":"CORREL($B$1:B35,$G$1:G35)","v":{"$error":"#N/A"}},{"$f":"'Sheet3 (3)'!Q35","v":1.2630515325033219E-4},{"$f":"CORREL($B$1:B35,$I$1:I35)","v":{"$error":"#N/A"}},{"$f":"'Sheet3 (3)'!S35","v":2.4451939291737983E-3},{"$f":"CORREL($B$1:B35,$K$1:K35)","v":{"$error":"#N/A"}},{"$f":"'Sheet3 (3)'!U35","v":-2.9416708690536719E-3},{"$f":"CORREL($B$1:B35,$M$1:M35)","v":{"$error":"#N/A"}},{"$f":"'Sheet3 (3)'!W35","v":4.2156738754689036E-3},{"$f":"CORREL($B$1:B35,$O$1:O35)","v":{"$error":"#N/A"}},{"$f":"'Sheet3 (3)'!Y35","v":5.4209723869218709E-3},{"$f":"CORREL($B$1:B35,$Q$1:Q35)","v":{"$error":"#N/A"}},{"$f":"'Sheet3 (3)'!AA35","v":-2.4593987194164463E-3},{"$f":"CORREL($B$1:B35,$S$1:S35)","v":{"$error":"#N/A"}}]
[null,{"$f":"'Sheet3 (3)'!I36","v":{"$error":"#N/A"}},{"$f":"'Sheet3 (3)'!K36","v":2.0132790747484038E-3},{"$f":"CORREL($B$1:B36,$C$1:C36)","v":{"$error":"#N/A"}},{"$f":"'Sheet3 (3)'!M36","v":-1.2311843825104496E-2},{"$f":"CORREL($B$1:B36,$E$1:E36)","v":{"$error":"#N/A"}},{"$f":"'Sheet3 (3)'!O36","v":2.745860087867502E-3},{"$f":"CORREL($B$1:B36,$G$1:G36)","v":{"$error":"#N/A"}},{"$f":"'Sheet3 (3)'!Q36","v":1.6840687100031827E-4},{"$f":"CORREL($B$1:B36,$I$1:I36)","v":{"$error":"#N/A"}},{"$f":"'Sheet3 (3)'!S36","v":2.5716694772343991E-3},{"$f":"CORREL($B$1:B36,$K$1:K36)","v":{"$error":"#N/A"}},{"$f":"'Sheet3 (3)'!U36","v":-2.8996469994956742E-3},{"$f":"CORREL($B$1:B36,$M$1:M36)","v":{"$error":"#N/A"}},{"$f":"'Sheet3 (3)'!W36","v":3.7519497491672717E-3},{"$f":"CORREL($B$1:B36,$O$1:O36)","v":{"$error":"#N/A"}},{"$f":"'Sheet3 (3)'!Y36","v":5.2939183466033084E-3},{"$f":"CORREL($B$1:B36,$Q$1:Q36)","v":{"$error":"#N/A"}},{"$f":"'Sheet3 (3)'!AA36","v":-2.3745918670227822E-3},{"$f":"CORREL($B$1:B36,$S$1:S36)","v":{"$error":"#N/A"}}]
[null,{"$f":"'Sheet3 (3)'!I37","v":{"$error":"#N/A"}},{"$f":"'Sheet3 (3)'!K37","v":1.9276076247591223E-3},{"$f":"CORREL($B$1:B37,$C$1:C37)","v":{"$error":"#N/A"}},{"$f":"'Sheet3 (3)'!M37","v":-1.1890205337943247E-2},{"$f":"CORREL($B$1:B37,$E$1:E37)","v":{"$error":"#N/A"}},{"$f":"'Sheet3 (3)'!O37","v":2.9148360932747153E-3},{"$f":"CORREL($B$1:B37,$G$1:G37)","v":{"$error":"#N/A"}},{"$f":"'Sheet3 (3)'!Q37","v":0},{"$f":"CORREL($B$1:B37,$I$1:I37)","v":{"$error":"#N/A"}},{"$f":"'Sheet3 (3)'!S37","v":2.3187183811130105E-3},{"$f":"CORREL($B$1:B37,$K$1:K37)","v":{"$error":"#N/A"}},{"$f":"'Sheet3 (3)'!U37","v":-3.0257186081694802E-3},{"$f":"CORREL($B$1:B37,$M$1:M37)","v":{"$error":"#N/A"}},{"$f":"'Sheet3 (3)'!W37","v":3.5411660553939391E-3},{"$f":"CORREL($B$1:B37,$O$1:O37)","v":{"$error":"#N/A"}},{"$f":"'Sheet3 (3)'!Y37","v":5.1668643062849342E-3},{"$f":"CORREL($B$1:B37,$Q$1:Q37)","v":{"$error":"#N/A"}},{"$f":"'Sheet3 (3)'!AA37","v":-7.6326167154297671E-4},{"$f":"CORREL($B$1:B37,$S$1:S37)","v":{"$error":"#N/A"}}]
[null,{"$f":"'Sheet3 (3)'!I38","v":{"$error":"#N/A"}},{"$f":"'Sheet3 (3)'!K38","v":1.7134289997858231E-3},{"$f":"CORREL($B$1:B38,$C$1:C38)","v":{"$error":"#N/A"}},{"$f":"'Sheet3 (3)'!M38","v":-1.2522663068684934E-2},{"$f":"CORREL($B$1:B38,$E$1:E38)","v":{"$error":"#N/A"}},{"$f":"'Sheet3 (3)'!O38","v":3.1260561000338262E-3},{"$f":"CORREL($B$1:B38,$G$1:G38)","v":{"$error":"#N/A"}},{"$f":"'Sheet3 (3)'!Q38","v":-4.2101717749986082E-5},{"$f":"CORREL($B$1:B38,$I$1:I38)","v":{"$error":"#N/A"}},{"$f":"'Sheet3 (3)'!S38","v":1.8971332209106958E-3},{"$f":"CORREL($B$1:B38,$K$1:K38)","v":{"$error":"#N/A"}},{"$f":"'Sheet3 (3)'!U38","v":-2.7315515212640571E-3},{"$f":"CORREL($B$1:B38,$M$1:M38)","v":{"$error":"#N/A"}},{"$f":"'Sheet3 (3)'!W38","v":3.7941064879220506E-3},{"$f":"CORREL($B$1:B38,$O$1:O38)","v":{"$error":"#N/A"}},{"$f":"'Sheet3 (3)'!Y38","v":4.9974589191936437E-3},{"$f":"CORREL($B$1:B38,$Q$1:Q38)","v":{"$error":"#N/A"}},{"$f":"'Sheet3 (3)'!AA38","v":-9.7527880252723097E-4},{"$f":"CORREL($B$1:B38,$S$1:S38)","v":{"$error":"#N/A"}}]
[null,{"$f":"'Sheet3 (3)'!I39","v":{"$error":"#N/A"}},{"$f":"'Sheet3 (3)'!K39","v":8.9955022488755231E-4},{"$f":"CORREL($B$1:B39,$C$1:C39)","v":{"$error":"#N/A"}},{"$f":"'Sheet3 (3)'!M39","v":-1.2522663068684934E-2},{"$f":"CORREL($B$1:B39,$E$1:E39)","v":{"$error":"#N/A"}},{"$f":"'Sheet3 (3)'!O39","v":3.1683001013855356E-3},{"$f":"CORREL($B$1:B39,$G$1:G39)","v":{"$error":"#N/A"}},{"$f":"'Sheet3 (3)'!Q39","v":0},{"$f":"CORREL($B$1:B39,$I$1:I39)","v":{"$error":"#N/A"}},{"$f":"'Sheet3 (3)'!S39","v":1.7706576728499081E-3},{"$f":"CORREL($B$1:B39,$K$1:K39)","v":{"$error":"#N/A"}},{"$f":"'Sheet3 (3)'!U39","v":-3.0257186081694802E-3},{"$f":"CORREL($B$1:B39,$M$1:M39)","v":{"$error":"#N/A"}},{"$f":"'Sheet3 (3)'!W39","v":3.7519497491672717E-3},{"$f":"CORREL($B$1:B39,$O$1:O39)","v":{"$error":"#N/A"}},{"$f":"'Sheet3 (3)'!Y39","v":5.2939183466033084E-3},{"$f":"CORREL($B$1:B39,$Q$1:Q39)","v":{"$error":"#N/A"}},{"$f":"'Sheet3 (3)'!AA39","v":5.9364796675583683E-4},{"$f":"CORREL($B$1:B39,$S$1:S39)","v":{"$error":"#N/A"}}]
[null,{"$f":"'Sheet3 (3)'!I40","v":{"$error":"#N/A"}},{"$f":"'Sheet3 (3)'!K40","v":1.4564146498179781E-3},{"$f":"CORREL($B$1:B40,$C$1:C40)","v":{"$error":"#N/A"}},{"$f":"'Sheet3 (3)'!M40","v":-1.2986465404562195E-2},{"$f":"CORREL($B$1:B40,$E$1:E40)","v":{"$error":"#N/A"}},{"$f":"'Sheet3 (3)'!O40","v":2.7881040892193988E-3},{"$f":"CORREL($B$1:B40,$G$1:G40)","v":{"$error":"#N/A"}},{"$f":"'Sheet3 (3)'!Q40","v":-3.7891545975080959E-4},{"$f":"CORREL($B$1:B40,$I$1:I40)","v":{"$error":"#N/A"}},{"$f":"'Sheet3 (3)'!S40","v":1.7284991568297702E-3},{"$f":"CORREL($B$1:B40,$K$1:K40)","v":{"$error":"#N/A"}},{"$f":"'Sheet3 (3)'!U40","v":-2.7315515212640571E-3},{"$f":"CORREL($B$1:B40,$M$1:M40)","v":{"$error":"#N/A"}},{"$f":"'Sheet3 (3)'!W40","v":3.9627334429407921E-3},{"$f":"CORREL($B$1:B40,$O$1:O40)","v":{"$error":"#N/A"}},{"$f":"'Sheet3 (3)'!Y40","v":5.2939183466033084E-3},{"$f":"CORREL($B$1:B40,$Q$1:Q40)","v":{"$error":"#N/A"}},{"$f":"'Sheet3 (3)'!AA40","v":8.0566509773990287E-4},{"$f":"CORREL($B$1:B40,$S$1:S40)","v":{"$error":"#N/A"}}]
[null,{"$f":"'Sheet3 (3)'!I41","v":{"$error":"#N/A"}},{"$f":"'Sheet3 (3)'!K41","v":1.1994002998501332E-3},{"$f":"CORREL($B$1:B41,$C$1:C41)","v":{"$error":"#N/A"}},{"$f":"'Sheet3 (3)'!M41","v":-1.2859973858413783E-2},{"$f":"CORREL($B$1:B41,$E$1:E41)","v":{"$error":"#N/A"}},{"$f":"'Sheet3 (3)'!O41","v":2.8725920919230059E-3},{"$f":"CORREL($B$1:B41,$G$1:G41)","v":{"$error":"#N/A"}},{"$f":"'Sheet3 (3)'!Q41","v":-5.0522061300095481E-4},{"$f":"CORREL($B$1:B41,$I$1:I41)","v":{"$error":"#N/A"}},{"$f":"'Sheet3 (3)'!S41","v":1.6863406408094452E-3},{"$f":"CORREL($B$1:B41,$K$1:K41)","v":{"$error":"#N/A"}},{"$f":"'Sheet3 (3)'!U41","v":-2.7735753908218683E-3},{"$f":"CORREL($B$1:B41,$M$1:M41)","v":{"$error":"#N/A"}},{"$f":"'Sheet3 (3)'!W41","v":3.5833227941485307E-3},{"$f":"CORREL($B$1:B41,$O$1:O41)","v":{"$error":"#N/A"}},{"$f":"'Sheet3 (3)'!Y41","v":4.9974589191936437E-3},{"$f":"CORREL($B$1:B41,$Q$1:Q41)","v":{"$error":"#N/A"}},{"$f":"'Sheet3 (3)'!AA41","v":1.5265233430861416E-3},{"$f":"CORREL($B$1:B41,$S$1:S41)","v":{"$error":"#N/A"}}]
[null,{"$f":"'Sheet3 (3)'!I42","v":{"$error":"#N/A"}},{"$f":"'Sheet3 (3)'!K42","v":1.0708931248663059E-3},{"$f":"CORREL($B$1:B42,$C$1:C42)","v":{"$error":"#N/A"}},{"$f":"'Sheet3 (3)'!M42","v":-1.2817810009697771E-2},{"$f":"CORREL($B$1:B42,$E$1:E42)","v":{"$error":"#N/A"}},{"$f":"'Sheet3 (3)'!O42","v":2.9570800946266125E-3},{"$f":"CORREL($B$1:B42,$G$1:G42)","v":{"$error":"#N/A"}},{"$f":"'Sheet3 (3)'!Q42","v":-7.9993263725160527E-4},{"$f":"CORREL($B$1:B42,$I$1:I42)","v":{"$error":"#N/A"}},{"$f":"'Sheet3 (3)'!S42","v":1.5598650927488443E-3},{"$f":"CORREL($B$1:B42,$K$1:K42)","v":{"$error":"#N/A"}},{"$f":"'Sheet3 (3)'!U42","v":-3.2358379559589085E-3},{"$f":"CORREL($B$1:B42,$M$1:M42)","v":{"$error":"#N/A"}},{"$f":"'Sheet3 (3)'!W42","v":3.8362632266768296E-3},{"$f":"CORREL($B$1:B42,$O$1:O42)","v":{"$error":"#N/A"}},{"$f":"'Sheet3 (3)'!Y42","v":5.6750804675588075E-3},{"$f":"CORREL($B$1:B42,$Q$1:Q42)","v":{"$error":"#N/A"}},{"$f":"'Sheet3 (3)'!AA42","v":1.4417164906924775E-3},{"$f":"CORREL($B$1:B42,$S$1:S42)","v":{"$error":"#N/A"}}]
[null,{"$f":"'Sheet3 (3)'!I43","v":{"$error":"#N/A"}},{"$f":"'Sheet3 (3)'!K43","v":1.1565645748555875E-3},{"$f":"CORREL($B$1:B43,$C$1:C43)","v":{"$error":"#N/A"}},{"$f":"'Sheet3 (3)'!M43","v":-1.3028629253278207E-2},{"$f":"CORREL($B$1:B43,$E$1:E43)","v":{"$error":"#N/A"}},{"$f":"'Sheet3 (3)'!O43","v":2.9993240959783223E-3},{"$f":"CORREL($B$1:B43,$G$1:G43)","v":{"$error":"#N/A"}},{"$f":"'Sheet3 (3)'!Q43","v":-8.4203435500159135E-4},{"$f":"CORREL($B$1:B43,$I$1:I43)","v":{"$error":"#N/A"}},{"$f":"'Sheet3 (3)'!S43","v":1.3912310286679187E-3},{"$f":"CORREL($B$1:B43,$K$1:K43)","v":{"$error":"#N/A"}},{"$f":"'Sheet3 (3)'!U43","v":-3.1517902168430997E-3},{"$f":"CORREL($B$1:B43,$M$1:M43)","v":{"$error":"#N/A"}},{"$f":"'Sheet3 (3)'!W43","v":4.0892036592049411E-3},{"$f":"CORREL($B$1:B43,$O$1:O43)","v":{"$error":"#N/A"}},{"$f":"'Sheet3 (3)'!Y43","v":5.7174318143315356E-3},{"$f":"CORREL($B$1:B43,$Q$1:Q43)","v":{"$error":"#N/A"}},{"$f":"'Sheet3 (3)'!AA43","v":1.5689267692830678E-3},{"$f":"CORREL($B$1:B43,$S$1:S43)","v":{"$error":"#N/A"}}]
[null,{"$f":"'Sheet3 (3)'!I44","v":{"$error":"#N/A"}},{"$f":"'Sheet3 (3)'!K44","v":1.3279074748341509E-3},{"$f":"CORREL($B$1:B44,$C$1:C44)","v":{"$error":"#N/A"}},{"$f":"'Sheet3 (3)'!M44","v":-1.2859973858413783E-2},{"$f":"CORREL($B$1:B44,$E$1:E44)","v":{"$error":"#N/A"}},{"$f":"'Sheet3 (3)'!O44","v":3.083812098681929E-3},{"$f":"CORREL($B$1:B44,$G$1:G44)","v":{"$error":"#N/A"}},{"$f":"'Sheet3 (3)'!Q44","v":-6.31525766251287E-4},{"$f":"CORREL($B$1:B44,$I$1:I44)","v":{"$error":"#N/A"}},{"$f":"'Sheet3 (3)'!S44","v":1.3490725126475934E-3},{"$f":"CORREL($B$1:B44,$K$1:K44)","v":{"$error":"#N/A"}},{"$f":"'Sheet3 (3)'!U44","v":-3.2358379559589085E-3},{"$f":"CORREL($B$1:B44,$M$1:M44)","v":{"$error":"#N/A"}},{"$f":"'Sheet3 (3)'!W44","v":3.9205767041862001E-3},{"$f":"CORREL($B$1:B44,$O$1:O44)","v":{"$error":"#N/A"}},{"$f":"'Sheet3 (3)'!Y44","v":5.7597831611044528E-3},{"$f":"CORREL($B$1:B44,$Q$1:Q44)","v":{"$error":"#N/A"}},{"$f":"'Sheet3 (3)'!AA44","v":9.7527880252723097E-4},{"$f":"CORREL($B$1:B44,$S$1:S44)","v":{"$error":"#N/A"}}]
[null,{"$f":"'Sheet3 (3)'!I45","v":{"$error":"#N/A"}},{"$f":"'Sheet3 (3)'!K45","v":1.3707431998286966E-3},{"$f":"CORREL($B$1:B45,$C$1:C45)","v":{"$error":"#N/A"}},{"$f":"'Sheet3 (3)'!M45","v":-1.2396171522536709E-2},{"$f":"CORREL($B$1:B45,$E$1:E45)","v":{"$error":"#N/A"}},{"$f":"'Sheet3 (3)'!O45","v":3.0415680973302195E-3},{"$f":"CORREL($B$1:B45,$G$1:G45)","v":{"$error":"#N/A"}},{"$f":"'Sheet3 (3)'!Q45","v":-6.31525766251287E-4},{"$f":"CORREL($B$1:B45,$I$1:I45)","v":{"$error":"#N/A"}},{"$f":"'Sheet3 (3)'!S45","v":1.0118043844857419E-3},{"$f":"CORREL($B$1:B45,$K$1:K45)","v":{"$error":"#N/A"}},{"$f":"'Sheet3 (3)'!U45","v":-3.4039334341905256E-3},{"$f":"CORREL($B$1:B45,$M$1:M45)","v":{"$error":"#N/A"}},{"$f":"'Sheet3 (3)'!W45","v":3.5833227941485307E-3},{"$f":"CORREL($B$1:B45,$O$1:O45)","v":{"$error":"#N/A"}},{"$f":"'Sheet3 (3)'!Y45","v":5.7597831611044528E-3},{"$f":"CORREL($B$1:B45,$Q$1:Q45)","v":{"$error":"#N/A"}},{"$f":"'Sheet3 (3)'!AA45","v":1.0600856549208952E-3},{"$f":"CORREL($B$1:B45,$S$1:S45)","v":{"$error":"#N/A"}}]
[null,{"$f":"'Sheet3 (3)'!I46","v":{"$error":"#N/A"}},{"$f":"'Sheet3 (3)'!K46","v":9.4238594988228829E-4},{"$f":"CORREL($B$1:B46,$C$1:C46)","v":{"$error":"#N/A"}},{"$f":"'Sheet3 (3)'!M46","v":-1.235400767382051E-2},{"$f":"CORREL($B$1:B46,$E$1:E46)","v":{"$error":"#N/A"}},{"$f":"'Sheet3 (3)'!O46","v":2.8725920919230059E-3},{"$f":"CORREL($B$1:B46,$G$1:G46)","v":{"$error":"#N/A"}},{"$f":"'Sheet3 (3)'!Q46","v":-5.4732233075112781E-4},{"$f":"CORREL($B$1:B46,$I$1:I46)","v":{"$error":"#N/A"}},{"$f":"'Sheet3 (3)'!S46","v":9.6964586846541687E-4},{"$f":"CORREL($B$1:B46,$K$1:K46)","v":{"$error":"#N/A"}},{"$f":"'Sheet3 (3)'!U46","v":-3.3198856950747168E-3},{"$f":"CORREL($B$1:B46,$M$1:M46)","v":{"$error":"#N/A"}},{"$f":"'Sheet3 (3)'!W46","v":3.2882256228658271E-3},{"$f":"CORREL($B$1:B46,$O$1:O46)","v":{"$error":"#N/A"}},{"$f":"'Sheet3 (3)'!Y46","v":5.8868372014230144E-3},{"$f":"CORREL($B$1:B46,$Q$1:Q46)","v":{"$error":"#N/A"}},{"$f":"'Sheet3 (3)'!AA46","v":1.0600856549208952E-3},{"$f":"CORREL($B$1:B46,$S$1:S46)","v":{"$error":"#N/A"}}]
[null,{"$f":"'Sheet3 (3)'!I47","v":{"$error":"#N/A"}},{"$f":"'Sheet3 (3)'!K47","v":9.4238594988228829E-4},{"$f":"CORREL($B$1:B47,$C$1:C47)","v":{"$error":"#N/A"}},{"$f":"'Sheet3 (3)'!M47","v":-1.1637222245646612E-2},{"$f":"CORREL($B$1:B47,$E$1:E47)","v":{"$error":"#N/A"}},{"$f":"'Sheet3 (3)'!O47","v":2.9993240959783223E-3},{"$f":"CORREL($B$1:B47,$G$1:G47)","v":{"$error":"#N/A"}},{"$f":"'Sheet3 (3)'!Q47","v":-7.5783091950143216E-4},{"$f":"CORREL($B$1:B47,$I$1:I47)","v":{"$error":"#N/A"}},{"$f":"'Sheet3 (3)'!S47","v":1.3069139966274557E-3},{"$f":"CORREL($B$1:B47,$K$1:K47)","v":{"$error":"#N/A"}},{"$f":"'Sheet3 (3)'!U47","v":-3.1517902168430997E-3},{"$f":"CORREL($B$1:B47,$M$1:M47)","v":{"$error":"#N/A"}},{"$f":"'Sheet3 (3)'!W47","v":2.6558745415454542E-3},{"$f":"CORREL($B$1:B47,$O$1:O47)","v":{"$error":"#N/A"}},{"$f":"'Sheet3 (3)'!Y47","v":5.7597831611044528E-3},{"$f":"CORREL($B$1:B47,$Q$1:Q47)","v":{"$error":"#N/A"}},{"$f":"'Sheet3 (3)'!AA47","v":1.0176822287241572E-3},{"$f":"CORREL($B$1:B47,$S$1:S47)","v":{"$error":"#N/A"}}]
[null,{"$f":"'Sheet3 (3)'!I48","v":{"$error":"#N/A"}},{"$f":"'Sheet3 (3)'!K48","v":1.0708931248663059E-3},{"$f":"CORREL($B$1:B48,$C$1:C48)","v":{"$error":"#N/A"}},{"$f":"'Sheet3 (3)'!M48","v":-1.2143188430239885E-2},{"$f":"CORREL($B$1:B48,$E$1:E48)","v":{"$error":"#N/A"}},{"$f":"'Sheet3 (3)'!O48","v":3.4217641094965437E-3},{"$f":"CORREL($B$1:B48,$G$1:G48)","v":{"$error":"#N/A"}},{"$f":"'Sheet3 (3)'!Q48","v":-1.263051532502574E-3},{"$f":"CORREL($B$1:B48,$I$1:I48)","v":{"$error":"#N/A"}},{"$f":"'Sheet3 (3)'!S48","v":1.4333895446880564E-3},{"$f":"CORREL($B$1:B48,$K$1:K48)","v":{"$error":"#N/A"}},{"$f":"'Sheet3 (3)'!U48","v":-2.9836947386114826E-3},{"$f":"CORREL($B$1:B48,$M$1:M48)","v":{"$error":"#N/A"}},{"$f":"'Sheet3 (3)'!W48","v":3.2039121453564566E-3},{"$f":"CORREL($B$1:B48,$O$1:O48)","v":{"$error":"#N/A"}},{"$f":"'Sheet3 (3)'!Y48","v":5.4209723869218709E-3},{"$f":"CORREL($B$1:B48,$Q$1:Q48)","v":{"$error":"#N/A"}},{"$f":"'Sheet3 (3)'!AA48","v":1.3145062121020757E-3},{"$f":"CORREL($B$1:B48,$S$1:S48)","v":{"$error":"#N/A"}}]
[null,{"$f":"'Sheet3 (3)'!I49","v":{"$error":"#N/A"}},{"$f":"'Sheet3 (3)'!K49","v":1.0280573998715699E-3},{"$f":"CORREL($B$1:B49,$C$1:C49)","v":{"$error":"#N/A"}},{"$f":"'Sheet3 (3)'!M49","v":-1.1890205337943247E-2},{"$f":"CORREL($B$1:B49,$E$1:E49)","v":{"$error":"#N/A"}},{"$f":"'Sheet3 (3)'!O49","v":3.3795201081446465E-3},{"$f":"CORREL($B$1:B49,$G$1:G49)","v":{"$error":"#N/A"}},{"$f":"'Sheet3 (3)'!Q49","v":-1.3893566857527192E-3},{"$f":"CORREL($B$1:B49,$I$1:I49)","v":{"$error":"#N/A"}},{"$f":"'Sheet3 (3)'!S49","v":1.3912310286679187E-3},{"$f":"CORREL($B$1:B49,$K$1:K49)","v":{"$error":"#N/A"}},{"$f":"'Sheet3 (3)'!U49","v":-3.1938140864010973E-3},{"$f":"CORREL($B$1:B49,$M$1:M49)","v":{"$error":"#N/A"}},{"$f":"'Sheet3 (3)'!W49","v":3.6254795329033096E-3},{"$f":"CORREL($B$1:B49,$O$1:O49)","v":{"$error":"#N/A"}},{"$f":"'Sheet3 (3)'!Y49","v":5.3786210401489546E-3},{"$f":"CORREL($B$1:B49,$Q$1:Q49)","v":{"$error":"#N/A"}},{"$f":"'Sheet3 (3)'!AA49","v":1.9929610312513883E-3},{"$f":"CORREL($B$1:B49,$S$1:S49)","v":{"$error":"#N/A"}}]
[null,{"$f":"'Sheet3 (3)'!I50","v":{"$error":"#N/A"}},{"$f":"'Sheet3 (3)'!K50","v":1.1565645748555875E-3},{"$f":"CORREL($B$1:B50,$C$1:C50)","v":{"$error":"#N/A"}},{"$f":"'Sheet3 (3)'!M50","v":-1.1932369186659448E-2},{"$f":"CORREL($B$1:B50,$E$1:E50)","v":{"$error":"#N/A"}},{"$f":"'Sheet3 (3)'!O50","v":2.8725920919230059E-3},{"$f":"CORREL($B$1:B50,$G$1:G50)","v":{"$error":"#N/A"}},{"$f":"'Sheet3 (3)'!Q50","v":-1.6840687100033696E-3},{"$f":"CORREL($B$1:B50,$I$1:I50)","v":{"$error":"#N/A"}},{"$f":"'Sheet3 (3)'!S50","v":1.3490725126475934E-3},{"$f":"CORREL($B$1:B50,$K$1:K50)","v":{"$error":"#N/A"}},{"$f":"'Sheet3 (3)'!U50","v":-3.0257186081694802E-3},{"$f":"CORREL($B$1:B50,$M$1:M50)","v":{"$error":"#N/A"}},{"$f":"'Sheet3 (3)'!W50","v":3.6254795329033096E-3},{"$f":"CORREL($B$1:B50,$O$1:O50)","v":{"$error":"#N/A"}},{"$f":"'Sheet3 (3)'!Y50","v":5.5056750804675161E-3},{"$f":"CORREL($B$1:B50,$Q$1:Q50)","v":{"$error":"#N/A"}},{"$f":"'Sheet3 (3)'!AA50","v":2.5442055718102987E-3},{"$f":"CORREL($B$1:B50,$S$1:S50)","v":{"$error":"#N/A"}}]
[null,{"$f":"'Sheet3 (3)'!I51","v":{"$error":"#N/A"}},{"$f":"'Sheet3 (3)'!K51","v":1.1137288498608516E-3},{"$f":"CORREL($B$1:B51,$C$1:C51)","v":{"$error":"#N/A"}},{"$f":"'Sheet3 (3)'!M51","v":-1.201669688409166E-2},{"$f":"CORREL($B$1:B51,$E$1:E51)","v":{"$error":"#N/A"}},{"$f":"'Sheet3 (3)'!O51","v":2.9993240959783223E-3},{"$f":"CORREL($B$1:B51,$G$1:G51)","v":{"$error":"#N/A"}},{"$f":"'Sheet3 (3)'!Q51","v":-3.1997305490064211E-3},{"$f":"CORREL($B$1:B51,$I$1:I51)","v":{"$error":"#N/A"}},{"$f":"'Sheet3 (3)'!S51","v":1.4333895446880564E-3},{"$f":"CORREL($B$1:B51,$K$1:K51)","v":{"$error":"#N/A"}},{"$f":"'Sheet3 (3)'!U51","v":-2.9416708690536719E-3},{"$f":"CORREL($B$1:B51,$M$1:M51)","v":{"$error":"#N/A"}},{"$f":"'Sheet3 (3)'!W51","v":4.0892036592049411E-3},{"$f":"CORREL($B$1:B51,$O$1:O51)","v":{"$error":"#N/A"}},{"$f":"'Sheet3 (3)'!Y51","v":5.3786210401489546E-3},{"$f":"CORREL($B$1:B51,$Q$1:Q51)","v":{"$error":"#N/A"}},{"$f":"'Sheet3 (3)'!AA51","v":2.4169952932197084E-3},{"$f":"CORREL($B$1:B51,$S$1:S51)","v":{"$error":"#N/A"}}]
[null,{"$f":"'Sheet3 (3)'!I52","v":{"$error":"#N/A"}},{"$f":"'Sheet3 (3)'!K52","v":8.1387877489827074E-4},{"$f":"CORREL($B$1:B52,$C$1:C52)","v":{"$error":"#N/A"}},{"$f":"'Sheet3 (3)'!M52","v":-1.2480499219968921E-2},{"$f":"CORREL($B$1:B52,$E$1:E52)","v":{"$error":"#N/A"}},{"$f":"'Sheet3 (3)'!O52","v":2.8725920919230059E-3},{"$f":"CORREL($B$1:B52,$G$1:G52)","v":{"$error":"#N/A"}},{"$f":"'Sheet3 (3)'!Q52","v":-3.8312563152577079E-3},{"$f":"CORREL($B$1:B52,$I$1:I52)","v":{"$error":"#N/A"}},{"$f":"'Sheet3 (3)'!S52","v":1.1804384485666678E-3},{"$f":"CORREL($B$1:B52,$K$1:K52)","v":{"$error":"#N/A"}},{"$f":"'Sheet3 (3)'!U52","v":-2.9836947386114826E-3},{"$f":"CORREL($B$1:B52,$M$1:M52)","v":{"$error":"#N/A"}},{"$f":"'Sheet3 (3)'!W52","v":3.8362632266768296E-3},{"$f":"CORREL($B$1:B52,$O$1:O52)","v":{"$error":"#N/A"}},{"$f":"'Sheet3 (3)'!Y52","v":5.3362696933762256E-3},{"$f":"CORREL($B$1:B52,$Q$1:Q52)","v":{"$error":"#N/A"}},{"$f":"'Sheet3 (3)'!AA52","v":2.5018021456133725E-3},{"$f":"CORREL($B$1:B52,$S$1:S52)","v":{"$error":"#N/A"}}]
[null,{"$f":"'Sheet3 (3)'!I53","v":{"$error":"#N/A"}},{"$f":"'Sheet3 (3)'!K53","v":6.4253587491970739E-4},{"$f":"CORREL($B$1:B53,$C$1:C53)","v":{"$error":"#N/A"}},{"$f":"'Sheet3 (3)'!M53","v":-1.2396171522536709E-2},{"$f":"CORREL($B$1:B53,$E$1:E53)","v":{"$error":"#N/A"}},{"$f":"'Sheet3 (3)'!O53","v":2.8725920919230059E-3},{"$f":"CORREL($B$1:B53,$G$1:G53)","v":{"$error":"#N/A"}},{"$f":"'Sheet3 (3)'!Q53","v":-3.1576288312562479E-3},{"$f":"CORREL($B$1:B53,$I$1:I53)","v":{"$error":"#N/A"}},{"$f":"'Sheet3 (3)'!S53","v":1.1804384485666678E-3},{"$f":"CORREL($B$1:B53,$K$1:K53)","v":{"$error":"#N/A"}},{"$f":"'Sheet3 (3)'!U53","v":-2.8996469994956742E-3},{"$f":"CORREL($B$1:B53,$M$1:M53)","v":{"$error":"#N/A"}},{"$f":"'Sheet3 (3)'!W53","v":3.7519497491672717E-3},{"$f":"CORREL($B$1:B53,$O$1:O53)","v":{"$error":"#N/A"}},{"$f":"'Sheet3 (3)'!Y53","v":5.2515669998305804E-3},{"$f":"CORREL($B$1:B53,$Q$1:Q53)","v":{"$error":"#N/A"}},{"$f":"'Sheet3 (3)'!AA53","v":2.5442055718102987E-3},{"$f":"CORREL($B$1:B53,$S$1:S53)","v":{"$error":"#N/A"}}]
[null,{"$f":"'Sheet3 (3)'!I54","v":{"$error":"#N/A"}},{"$f":"'Sheet3 (3)'!K54","v":8.9955022488755231E-4},{"$f":"CORREL($B$1:B54,$C$1:C54)","v":{"$error":"#N/A"}},{"$f":"'Sheet3 (3)'!M54","v":-1.2691318463549359E-2},{"$f":"CORREL($B$1:B54,$E$1:E54)","v":{"$error":"#N/A"}},{"$f":"'Sheet3 (3)'!O54","v":2.9148360932747153E-3},{"$f":"CORREL($B$1:B54,$G$1:G54)","v":{"$error":"#N/A"}},{"$f":"'Sheet3 (3)'!Q54","v":-3.0313236780061029E-3},{"$f":"CORREL($B$1:B54,$I$1:I54)","v":{"$error":"#N/A"}},{"$f":"'Sheet3 (3)'!S54","v":1.1382799325463427E-3},{"$f":"CORREL($B$1:B54,$K$1:K54)","v":{"$error":"#N/A"}},{"$f":"'Sheet3 (3)'!U54","v":-2.7735753908218683E-3},{"$f":"CORREL($B$1:B54,$M$1:M54)","v":{"$error":"#N/A"}},{"$f":"'Sheet3 (3)'!W54","v":3.7941064879220506E-3},{"$f":"CORREL($B$1:B54,$O$1:O54)","v":{"$error":"#N/A"}},{"$f":"'Sheet3 (3)'!Y54","v":5.1245129595120179E-3},{"$f":"CORREL($B$1:B54,$Q$1:Q54)","v":{"$error":"#N/A"}},{"$f":"'Sheet3 (3)'!AA54","v":2.1201713098419786E-3},{"$f":"CORREL($B$1:B54,$S$1:S54)","v":{"$error":"#N/A"}}]
[null,{"$f":"'Sheet3 (3)'!I55","v":{"$error":"#N/A"}},{"$f":"'Sheet3 (3)'!K55","v":1.1137288498608516E-3},{"$f":"CORREL($B$1:B55,$C$1:C55)","v":{"$error":"#N/A"}},{"$f":"'Sheet3 (3)'!M55","v":-1.3618923135303881E-2},{"$f":"CORREL($B$1:B55,$E$1:E55)","v":{"$error":"#N/A"}},{"$f":"'Sheet3 (3)'!O55","v":3.1260561000338262E-3},{"$f":"CORREL($B$1:B55,$G$1:G55)","v":{"$error":"#N/A"}},{"$f":"'Sheet3 (3)'!Q55","v":-3.2418322667564069E-3},{"$f":"CORREL($B$1:B55,$I$1:I55)","v":{"$error":"#N/A"}},{"$f":"'Sheet3 (3)'!S55","v":1.1382799325463427E-3},{"$f":"CORREL($B$1:B55,$K$1:K55)","v":{"$error":"#N/A"}},{"$f":"'Sheet3 (3)'!U55","v":-3.2358379559589085E-3},{"$f":"CORREL($B$1:B55,$M$1:M55)","v":{"$error":"#N/A"}},{"$f":"'Sheet3 (3)'!W55","v":4.3421440917330535E-3},{"$f":"CORREL($B$1:B55,$O$1:O55)","v":{"$error":"#N/A"}},{"$f":"'Sheet3 (3)'!Y55","v":5.082161612739289E-3},{"$f":"CORREL($B$1:B55,$Q$1:Q55)","v":{"$error":"#N/A"}},{"$f":"'Sheet3 (3)'!AA55","v":2.1201713098419786E-3},{"$f":"CORREL($B$1:B55,$S$1:S55)","v":{"$error":"#N/A"}}]
[null,{"$f":"'Sheet3 (3)'!I56","v":{"$error":"#N/A"}},{"$f":"'Sheet3 (3)'!K56","v":1.2422360248448691E-3},{"$f":"CORREL($B$1:B56,$C$1:C56)","v":{"$error":"#N/A"}},{"$f":"'Sheet3 (3)'!M56","v":-1.4040561622464942E-2},{"$f":"CORREL($B$1:B56,$E$1:E56)","v":{"$error":"#N/A"}},{"$f":"'Sheet3 (3)'!O56","v":2.9993240959783223E-3},{"$f":"CORREL($B$1:B56,$G$1:G56)","v":{"$error":"#N/A"}},{"$f":"'Sheet3 (3)'!Q56","v":-2.9892219602559297E-3},{"$f":"CORREL($B$1:B56,$I$1:I56)","v":{"$error":"#N/A"}},{"$f":"'Sheet3 (3)'!S56","v":1.0961214165262048E-3},{"$f":"CORREL($B$1:B56,$K$1:K56)","v":{"$error":"#N/A"}},{"$f":"'Sheet3 (3)'!U56","v":-3.3619095646327144E-3},{"$f":"CORREL($B$1:B56,$M$1:M56)","v":{"$error":"#N/A"}},{"$f":"'Sheet3 (3)'!W56","v":3.0774419290923072E-3},{"$f":"CORREL($B$1:B56,$O$1:O56)","v":{"$error":"#N/A"}},{"$f":"'Sheet3 (3)'!Y56","v":4.9127562256478102E-3},{"$f":"CORREL($B$1:B56,$Q$1:Q56)","v":{"$error":"#N/A"}},{"$f":"'Sheet3 (3)'!AA56","v":2.1625747360387165E-3},{"$f":"CORREL($B$1:B56,$S$1:S56)","v":{"$error":"#N/A"}}]
[null,{"$f":"'Sheet3 (3)'!I57","v":{"$error":"#N/A"}},{"$f":"'Sheet3 (3)'!K57","v":1.2422360248448691E-3},{"$f":"CORREL($B$1:B57,$C$1:C57)","v":{"$error":"#N/A"}},{"$f":"'Sheet3 (3)'!M57","v":-1.3956233925032731E-2},{"$f":"CORREL($B$1:B57,$E$1:E57)","v":{"$error":"#N/A"}},{"$f":"'Sheet3 (3)'!O57","v":3.337276106792937E-3},{"$f":"CORREL($B$1:B57,$G$1:G57)","v":{"$error":"#N/A"}},{"$f":"'Sheet3 (3)'!Q57","v":-3.115527113506262E-3},{"$f":"CORREL($B$1:B57,$I$1:I57)","v":{"$error":"#N/A"}},{"$f":"'Sheet3 (3)'!S57","v":1.3069139966274557E-3},{"$f":"CORREL($B$1:B57,$K$1:K57)","v":{"$error":"#N/A"}},{"$f":"'Sheet3 (3)'!U57","v":-3.3619095646327144E-3},{"$f":"CORREL($B$1:B57,$M$1:M57)","v":{"$error":"#N/A"}},{"$f":"'Sheet3 (3)'!W57","v":3.0774419290923072E-3},{"$f":"CORREL($B$1:B57,$O$1:O57)","v":{"$error":"#N/A"}},{"$f":"'Sheet3 (3)'!Y57","v":4.9127562256478102E-3},{"$f":"CORREL($B$1:B57,$Q$1:Q57)","v":{"$error":"#N/A"}},{"$f":"'Sheet3 (3)'!AA57","v":1.9929610312513883E-3},{"$f":"CORREL($B$1:B57,$S$1:S57)","v":{"$error":"#N/A"}}]
[null,{"$f":"'Sheet3 (3)'!I58","v":{"$error":"#N/A"}},{"$f":"'Sheet3 (3)'!K58","v":1.1565645748555875E-3},{"$f":"CORREL($B$1:B58,$C$1:C58)","v":{"$error":"#N/A"}},{"$f":"'Sheet3 (3)'!M58","v":-1.4715183201922642E-2},{"$f":"CORREL($B$1:B58,$E$1:E58)","v":{"$error":"#N/A"}},{"$f":"'Sheet3 (3)'!O58","v":3.1260561000338262E-3},{"$f":"CORREL($B$1:B58,$G$1:G58)","v":{"$error":"#N/A"}},{"$f":"'Sheet3 (3)'!Q58","v":-3.115527113506262E-3},{"$f":"CORREL($B$1:B58,$I$1:I58)","v":{"$error":"#N/A"}},{"$f":"'Sheet3 (3)'!S58","v":1.0961214165262048E-3},{"$f":"CORREL($B$1:B58,$K$1:K58)","v":{"$error":"#N/A"}},{"$f":"'Sheet3 (3)'!U58","v":-3.3619095646327144E-3},{"$f":"CORREL($B$1:B58,$M$1:M58)","v":{"$error":"#N/A"}},{"$f":"'Sheet3 (3)'!W58","v":3.3303823616204187E-3},{"$f":"CORREL($B$1:B58,$O$1:O58)","v":{"$error":"#N/A"}},{"$f":"'Sheet3 (3)'!Y58","v":4.828053532102165E-3},{"$f":"CORREL($B$1:B58,$Q$1:Q58)","v":{"$error":"#N/A"}},{"$f":"'Sheet3 (3)'!AA58","v":2.2049781622356427E-3},{"$f":"CORREL($B$1:B58,$S$1:S58)","v":{"$error":"#N/A"}}]
[null,{"$f":"'Sheet3 (3)'!I59","v":{"$error":"#N/A"}},{"$f":"'Sheet3 (3)'!K59","v":1.2422360248448691E-3},{"$f":"CORREL($B$1:B59,$C$1:C59)","v":{"$error":"#N/A"}},{"$f":"'Sheet3 (3)'!M59","v":-1.4715183201922642E-2},{"$f":"CORREL($B$1:B59,$E$1:E59)","v":{"$error":"#N/A"}},{"$f":"'Sheet3 (3)'!O59","v":2.9993240959783223E-3},{"$f":"CORREL($B$1:B59,$G$1:G59)","v":{"$error":"#N/A"}},{"$f":"'Sheet3 (3)'!Q59","v":-2.9050185247557706E-3},{"$f":"CORREL($B$1:B59,$I$1:I59)","v":{"$error":"#N/A"}},{"$f":"'Sheet3 (3)'!S59","v":9.2748735244527908E-4},{"$f":"CORREL($B$1:B59,$K$1:K59)","v":{"$error":"#N/A"}},{"$f":"'Sheet3 (3)'!U59","v":-3.3619095646327144E-3},{"$f":"CORREL($B$1:B59,$M$1:M59)","v":{"$error":"#N/A"}},{"$f":"'Sheet3 (3)'!W59","v":3.4568525778845686E-3},{"$f":"CORREL($B$1:B59,$O$1:O59)","v":{"$error":"#N/A"}},{"$f":"'Sheet3 (3)'!Y59","v":4.7009994917837907E-3},{"$f":"CORREL($B$1:B59,$Q$1:Q59)","v":{"$error":"#N/A"}},{"$f":"'Sheet3 (3)'!AA59","v":1.9081541788577242E-3},{"$f":"CORREL($B$1:B59,$S$1:S59)","v":{"$error":"#N/A"}}]
[null,{"$f":"'Sheet3 (3)'!I60","v":{"$error":"#N/A"}},{"$f":"'Sheet3 (3)'!K60","v":1.499250374812714E-3},{"$f":"CORREL($B$1:B60,$C$1:C60)","v":{"$error":"#N/A"}},{"$f":"'Sheet3 (3)'!M60","v":-1.4546527807058217E-2},{"$f":"CORREL($B$1:B60,$E$1:E60)","v":{"$error":"#N/A"}},{"$f":"'Sheet3 (3)'!O60","v":3.0415680973302195E-3},{"$f":"CORREL($B$1:B60,$G$1:G60)","v":{"$error":"#N/A"}},{"$f":"'Sheet3 (3)'!Q60","v":-3.1576288312562479E-3},{"$f":"CORREL($B$1:B60,$I$1:I60)","v":{"$error":"#N/A"}},{"$f":"'Sheet3 (3)'!S60","v":1.1382799325463427E-3},{"$f":"CORREL($B$1:B60,$K$1:K60)","v":{"$error":"#N/A"}},{"$f":"'Sheet3 (3)'!U60","v":-3.5300050428643316E-3},{"$f":"CORREL($B$1:B60,$M$1:M60)","v":{"$error":"#N/A"}},{"$f":"'Sheet3 (3)'!W60","v":3.3725391003751977E-3},{"$f":"CORREL($B$1:B60,$O$1:O60)","v":{"$error":"#N/A"}},{"$f":"'Sheet3 (3)'!Y60","v":4.4045400643739378E-3},{"$f":"CORREL($B$1:B60,$Q$1:Q60)","v":{"$error":"#N/A"}},{"$f":"'Sheet3 (3)'!AA60","v":2.5018021456133725E-3},{"$f":"CORREL($B$1:B60,$S$1:S60)","v":{"$error":"#N/A"}}]
[null,{"$f":"'Sheet3 (3)'!I61","v":{"$error":"#N/A"}},{"$f":"'Sheet3 (3)'!K61","v":1.4135789248234324E-3},{"$f":"CORREL($B$1:B61,$C$1:C61)","v":{"$error":"#N/A"}},{"$f":"'Sheet3 (3)'!M61","v":-1.5769279419825578E-2},{"$f":"CORREL($B$1:B61,$E$1:E61)","v":{"$error":"#N/A"}},{"$f":"'Sheet3 (3)'!O61","v":-1.2673200405550399E-4},{"$f":"CORREL($B$1:B61,$G$1:G61)","v":{"$error":"#N/A"}},{"$f":"'Sheet3 (3)'!Q61","v":-3.704951162007376E-3},{"$f":"CORREL($B$1:B61,$I$1:I61)","v":{"$error":"#N/A"}},{"$f":"'Sheet3 (3)'!S61","v":1.0961214165262048E-3},{"$f":"CORREL($B$1:B61,$K$1:K61)","v":{"$error":"#N/A"}},{"$f":"'Sheet3 (3)'!U61","v":-3.0677424777272914E-3},{"$f":"CORREL($B$1:B61,$M$1:M61)","v":{"$error":"#N/A"}},{"$f":"'Sheet3 (3)'!W61","v":3.3303823616204187E-3},{"$f":"CORREL($B$1:B61,$O$1:O61)","v":{"$error":"#N/A"}},{"$f":"'Sheet3 (3)'!Y61","v":4.1504319837370011E-3},{"$f":"CORREL($B$1:B61,$Q$1:Q61)","v":{"$error":"#N/A"}},{"$f":"'Sheet3 (3)'!AA61","v":2.2897850146293068E-3},{"$f":"CORREL($B$1:B61,$S$1:S61)","v":{"$error":"#N/A"}}]
[null,{"$f":"'Sheet3 (3)'!I62","v":{"$error":"#N/A"}},{"$f":"'Sheet3 (3)'!K62","v":1.7134289997858231E-3},{"$f":"CORREL($B$1:B62,$C$1:C62)","v":{"$error":"#N/A"}},{"$f":"'Sheet3 (3)'!M62","v":-1.5094657840367691E-2},{"$f":"CORREL($B$1:B62,$E$1:E62)","v":{"$error":"#N/A"}},{"$f":"'Sheet3 (3)'!O62","v":-5.9141601892524743E-4},{"$f":"CORREL($B$1:B62,$G$1:G62)","v":{"$error":"#N/A"}},{"$f":"'Sheet3 (3)'!Q62","v":-4.1259683395081714E-3},{"$f":"CORREL($B$1:B62,$I$1:I62)","v":{"$error":"#N/A"}},{"$f":"'Sheet3 (3)'!S62","v":1.3912310286679187E-3},{"$f":"CORREL($B$1:B62,$K$1:K62)","v":{"$error":"#N/A"}},{"$f":"'Sheet3 (3)'!U62","v":-2.9416708690536719E-3},{"$f":"CORREL($B$1:B62,$M$1:M62)","v":{"$error":"#N/A"}},{"$f":"'Sheet3 (3)'!W62","v":3.4568525778845686E-3},{"$f":"CORREL($B$1:B62,$O$1:O62)","v":{"$error":"#N/A"}},{"$f":"'Sheet3 (3)'!Y62","v":4.4045400643739378E-3},{"$f":"CORREL($B$1:B62,$Q$1:Q62)","v":{"$error":"#N/A"}},{"$f":"'Sheet3 (3)'!AA62","v":2.2897850146293068E-3},{"$f":"CORREL($B$1:B62,$S$1:S62)","v":{"$error":"#N/A"}}]
[null,{"$f":"'Sheet3 (3)'!I63","v":{"$error":"#N/A"}},{"$f":"'Sheet3 (3)'!K63","v":1.6277575497965415E-3},{"$f":"CORREL($B$1:B63,$C$1:C63)","v":{"$error":"#N/A"}},{"$f":"'Sheet3 (3)'!M63","v":-1.4504363958342205E-2},{"$f":"CORREL($B$1:B63,$E$1:E63)","v":{"$error":"#N/A"}},{"$f":"'Sheet3 (3)'!O63","v":2.5346400811082035E-4},{"$f":"CORREL($B$1:B63,$G$1:G63)","v":{"$error":"#N/A"}},{"$f":"'Sheet3 (3)'!Q63","v":-3.8733580330076942E-3},{"$f":"CORREL($B$1:B63,$I$1:I63)","v":{"$error":"#N/A"}},{"$f":"'Sheet3 (3)'!S63","v":1.4755480607083814E-3},{"$f":"CORREL($B$1:B63,$K$1:K63)","v":{"$error":"#N/A"}},{"$f":"'Sheet3 (3)'!U63","v":-3.2778618255169061E-3},{"$f":"CORREL($B$1:B63,$M$1:M63)","v":{"$error":"#N/A"}},{"$f":"'Sheet3 (3)'!W63","v":3.3303823616204187E-3},{"$f":"CORREL($B$1:B63,$O$1:O63)","v":{"$error":"#N/A"}},{"$f":"'Sheet3 (3)'!Y63","v":4.7009994917837907E-3},{"$f":"CORREL($B$1:B63,$Q$1:Q63)","v":{"$error":"#N/A"}},{"$f":"'Sheet3 (3)'!AA63","v":1.9929610312513883E-3},{"$f":"CORREL($B$1:B63,$S$1:S63)","v":{"$error":"#N/A"}}]
[null,{"$f":"'Sheet3 (3)'!I64","v":{"$error":"#N/A"}},{"$f":"'Sheet3 (3)'!K64","v":1.7991004497751046E-3},{"$f":"CORREL($B$1:B64,$C$1:C64)","v":{"$error":"#N/A"}},{"$f":"'Sheet3 (3)'!M64","v":-1.4926002445503265E-2},{"$f":"CORREL($B$1:B64,$E$1:E64)","v":{"$error":"#N/A"}},{"$f":"'Sheet3 (3)'!O64","v":4.2244001351897189E-5},{"$f":"CORREL($B$1:B64,$G$1:G64)","v":{"$error":"#N/A"}},{"$f":"'Sheet3 (3)'!Q64","v":-3.704951162007376E-3},{"$f":"CORREL($B$1:B64,$I$1:I64)","v":{"$error":"#N/A"}},{"$f":"'Sheet3 (3)'!S64","v":1.4333895446880564E-3},{"$f":"CORREL($B$1:B64,$K$1:K64)","v":{"$error":"#N/A"}},{"$f":"'Sheet3 (3)'!U64","v":-3.5300050428643316E-3},{"$f":"CORREL($B$1:B64,$M$1:M64)","v":{"$error":"#N/A"}},{"$f":"'Sheet3 (3)'!W64","v":3.7519497491672717E-3},{"$f":"CORREL($B$1:B64,$O$1:O64)","v":{"$error":"#N/A"}},{"$f":"'Sheet3 (3)'!Y64","v":4.4892427579195831E-3},{"$f":"CORREL($B$1:B64,$Q$1:Q64)","v":{"$error":"#N/A"}},{"$f":"'Sheet3 (3)'!AA64","v":1.780943900267134E-3},{"$f":"CORREL($B$1:B64,$S$1:S64)","v":{"$error":"#N/A"}}]
[null,{"$f":"'Sheet3 (3)'!I65","v":{"$error":"#N/A"}},{"$f":"'Sheet3 (3)'!K65","v":1.4564146498179781E-3},{"$f":"CORREL($B$1:B65,$C$1:C65)","v":{"$error":"#N/A"}},{"$f":"'Sheet3 (3)'!M65","v":-1.4377872412193793E-2},{"$f":"CORREL($B$1:B65,$E$1:E65)","v":{"$error":"#N/A"}},{"$f":"'Sheet3 (3)'!O65","v":-2.5346400811082035E-4},{"$f":"CORREL($B$1:B65,$G$1:G65)","v":{"$error":"#N/A"}},{"$f":"'Sheet3 (3)'!Q65","v":-4.2101717750083305E-3},{"$f":"CORREL($B$1:B65,$I$1:I65)","v":{"$error":"#N/A"}},{"$f":"'Sheet3 (3)'!S65","v":1.2225969645868057E-3},{"$f":"CORREL($B$1:B65,$K$1:K65)","v":{"$error":"#N/A"}},{"$f":"'Sheet3 (3)'!U65","v":-3.4459573037485228E-3},{"$f":"CORREL($B$1:B65,$M$1:M65)","v":{"$error":"#N/A"}},{"$f":"'Sheet3 (3)'!W65","v":3.7519497491672717E-3},{"$f":"CORREL($B$1:B65,$O$1:O65)","v":{"$error":"#N/A"}},{"$f":"'Sheet3 (3)'!Y65","v":4.7433508385565197E-3},{"$f":"CORREL($B$1:B65,$Q$1:Q65)","v":{"$error":"#N/A"}},{"$f":"'Sheet3 (3)'!AA65","v":1.780943900267134E-3},{"$f":"CORREL($B$1:B65,$S$1:S65)","v":{"$error":"#N/A"}}]
[null,{"$f":"'Sheet3 (3)'!I66","v":{"$error":"#N/A"}},{"$f":"'Sheet3 (3)'!K66","v":1.2850717498394148E-3},{"$f":"CORREL($B$1:B66,$C$1:C66)","v":{"$error":"#N/A"}},{"$f":"'Sheet3 (3)'!M66","v":-1.4799510899355042E-2},{"$f":"CORREL($B$1:B66,$E$1:E66)","v":{"$error":"#N/A"}},{"$f":"'Sheet3 (3)'!O66","v":-8.4488002703606783E-4},{"$f":"CORREL($B$1:B66,$G$1:G66)","v":{"$error":"#N/A"}},{"$f":"'Sheet3 (3)'!Q66","v":-4.4627820815089951E-3},{"$f":"CORREL($B$1:B66,$I$1:I66)","v":{"$error":"#N/A"}},{"$f":"'Sheet3 (3)'!S66","v":1.2225969645868057E-3},{"$f":"CORREL($B$1:B66,$K$1:K66)","v":{"$error":"#N/A"}},{"$f":"'Sheet3 (3)'!U66","v":-3.4879811733063339E-3},{"$f":"CORREL($B$1:B66,$M$1:M66)","v":{"$error":"#N/A"}},{"$f":"'Sheet3 (3)'!W66","v":3.6254795329033096E-3},{"$f":"CORREL($B$1:B66,$O$1:O66)","v":{"$error":"#N/A"}},{"$f":"'Sheet3 (3)'!Y66","v":4.2774860240555636E-3},{"$f":"CORREL($B$1:B66,$Q$1:Q66)","v":{"$error":"#N/A"}},{"$f":"'Sheet3 (3)'!AA66","v":1.6961370478734699E-3},{"$f":"CORREL($B$1:B66,$S$1:S66)","v":{"$error":"#N/A"}}]
[null,{"$f":"'Sheet3 (3)'!I67","v":{"$error":"#N/A"}},{"$f":"'Sheet3 (3)'!K67","v":1.6277575497965415E-3},{"$f":"CORREL($B$1:B67,$C$1:C67)","v":{"$error":"#N/A"}},{"$f":"'Sheet3 (3)'!M67","v":-1.5010330142935478E-2},{"$f":"CORREL($B$1:B67,$E$1:E67)","v":{"$error":"#N/A"}},{"$f":"'Sheet3 (3)'!O67","v":-1.6052720513687164E-3},{"$f":"CORREL($B$1:B67,$G$1:G67)","v":{"$error":"#N/A"}},{"$f":"'Sheet3 (3)'!Q67","v":-4.4627820815089951E-3},{"$f":"CORREL($B$1:B67,$I$1:I67)","v":{"$error":"#N/A"}},{"$f":"'Sheet3 (3)'!S67","v":1.3490725126475934E-3},{"$f":"CORREL($B$1:B67,$K$1:K67)","v":{"$error":"#N/A"}},{"$f":"'Sheet3 (3)'!U67","v":-3.3619095646327144E-3},{"$f":"CORREL($B$1:B67,$M$1:M67)","v":{"$error":"#N/A"}},{"$f":"'Sheet3 (3)'!W67","v":3.4568525778845686E-3},{"$f":"CORREL($B$1:B67,$O$1:O67)","v":{"$error":"#N/A"}},{"$f":"'Sheet3 (3)'!Y67","v":4.1504319837370011E-3},{"$f":"CORREL($B$1:B67,$Q$1:Q67)","v":{"$error":"#N/A"}},{"$f":"'Sheet3 (3)'!AA67","v":1.780943900267134E-3},{"$f":"CORREL($B$1:B67,$S$1:S67)","v":{"$error":"#N/A"}}]
[null,{"$f":"'Sheet3 (3)'!I68","v":{"$error":"#N/A"}},{"$f":"'Sheet3 (3)'!K68","v":1.4135789248234324E-3},{"$f":"CORREL($B$1:B68,$C$1:C68)","v":{"$error":"#N/A"}},{"$f":"'Sheet3 (3)'!M68","v":-1.467301935320663E-2},{"$f":"CORREL($B$1:B68,$E$1:E68)","v":{"$error":"#N/A"}},{"$f":"'Sheet3 (3)'!O68","v":-9.2936802973967456E-4},{"$f":"CORREL($B$1:B68,$G$1:G68)","v":{"$error":"#N/A"}},{"$f":"'Sheet3 (3)'!Q68","v":-4.5048837992589814E-3},{"$f":"CORREL($B$1:B68,$I$1:I68)","v":{"$error":"#N/A"}},{"$f":"'Sheet3 (3)'!S68","v":1.3069139966274557E-3},{"$f":"CORREL($B$1:B68,$K$1:K68)","v":{"$error":"#N/A"}},{"$f":"'Sheet3 (3)'!U68","v":-3.3198856950747168E-3},{"$f":"CORREL($B$1:B68,$M$1:M68)","v":{"$error":"#N/A"}},{"$f":"'Sheet3 (3)'!W68","v":3.7519497491672717E-3},{"$f":"CORREL($B$1:B68,$O$1:O68)","v":{"$error":"#N/A"}},{"$f":"'Sheet3 (3)'!Y68","v":4.1504319837370011E-3},{"$f":"CORREL($B$1:B68,$Q$1:Q68)","v":{"$error":"#N/A"}},{"$f":"'Sheet3 (3)'!AA68","v":1.5689267692830678E-3},{"$f":"CORREL($B$1:B68,$S$1:S68)","v":{"$error":"#N/A"}}]
[null,{"$f":"'Sheet3 (3)'!I69","v":{"$error":"#N/A"}},{"$f":"'Sheet3 (3)'!K69","v":1.3279074748341509E-3},{"$f":"CORREL($B$1:B69,$C$1:C69)","v":{"$error":"#N/A"}},{"$f":"'Sheet3 (3)'!M69","v":-1.4504363958342205E-2},{"$f":"CORREL($B$1:B69,$E$1:E69)","v":{"$error":"#N/A"}},{"$f":"'Sheet3 (3)'!O69","v":2.5346400811082035E-4},{"$f":"CORREL($B$1:B69,$G$1:G69)","v":{"$error":"#N/A"}},{"$f":"'Sheet3 (3)'!Q69","v":-4.0838666217581851E-3},{"$f":"CORREL($B$1:B69,$I$1:I69)","v":{"$error":"#N/A"}},{"$f":"'Sheet3 (3)'!S69","v":1.1804384485666678E-3},{"$f":"CORREL($B$1:B69,$K$1:K69)","v":{"$error":"#N/A"}},{"$f":"'Sheet3 (3)'!U69","v":-3.2358379559589085E-3},{"$f":"CORREL($B$1:B69,$M$1:M69)","v":{"$error":"#N/A"}},{"$f":"'Sheet3 (3)'!W69","v":3.7519497491672717E-3},{"$f":"CORREL($B$1:B69,$O$1:O69)","v":{"$error":"#N/A"}},{"$f":"'Sheet3 (3)'!Y69","v":4.3621887176012088E-3},{"$f":"CORREL($B$1:B69,$Q$1:Q69)","v":{"$error":"#N/A"}},{"$f":"'Sheet3 (3)'!AA69","v":1.5265233430861416E-3},{"$f":"CORREL($B$1:B69,$S$1:S69)","v":{"$error":"#N/A"}}]
[null,{"$f":"'Sheet3 (3)'!I70","v":{"$error":"#N/A"}},{"$f":"'Sheet3 (3)'!K70","v":1.3707431998286966E-3},{"$f":"CORREL($B$1:B70,$C$1:C70)","v":{"$error":"#N/A"}},{"$f":"'Sheet3 (3)'!M70","v":-1.4630855504490429E-2},{"$f":"CORREL($B$1:B70,$E$1:E70)","v":{"$error":"#N/A"}},{"$f":"'Sheet3 (3)'!O70","v":0},{"$f":"CORREL($B$1:B70,$G$1:G70)","v":{"$error":"#N/A"}},{"$f":"'Sheet3 (3)'!Q70","v":-3.6628494442573897E-3},{"$f":"CORREL($B$1:B70,$I$1:I70)","v":{"$error":"#N/A"}},{"$f":"'Sheet3 (3)'!S70","v":1.1804384485666678E-3},{"$f":"CORREL($B$1:B70,$K$1:K70)","v":{"$error":"#N/A"}},{"$f":"'Sheet3 (3)'!U70","v":-3.0677424777272914E-3},{"$f":"CORREL($B$1:B70,$M$1:M70)","v":{"$error":"#N/A"}},{"$f":"'Sheet3 (3)'!W70","v":3.7097930104126801E-3},{"$f":"CORREL($B$1:B70,$O$1:O70)","v":{"$error":"#N/A"}},{"$f":"'Sheet3 (3)'!Y70","v":4.3198373708282925E-3},{"$f":"CORREL($B$1:B70,$Q$1:Q70)","v":{"$error":"#N/A"}},{"$f":"'Sheet3 (3)'!AA70","v":1.3569096382988134E-3},{"$f":"CORREL($B$1:B70,$S$1:S70)","v":{"$error":"#N/A"}}]
[null,{"$f":"'Sheet3 (3)'!I71","v":{"$error":"#N/A"}},{"$f":"'Sheet3 (3)'!K71","v":1.4564146498179781E-3},{"$f":"CORREL($B$1:B71,$C$1:C71)","v":{"$error":"#N/A"}},{"$f":"'Sheet3 (3)'!M71","v":-1.4799510899355042E-2},{"$f":"CORREL($B$1:B71,$E$1:E71)","v":{"$error":"#N/A"}},{"$f":"'Sheet3 (3)'!O71","v":3.8019601216632433E-4},{"$f":"CORREL($B$1:B71,$G$1:G71)","v":{"$error":"#N/A"}},{"$f":"'Sheet3 (3)'!Q71","v":-3.5786460087572306E-3},{"$f":"CORREL($B$1:B71,$I$1:I71)","v":{"$error":"#N/A"}},{"$f":"'Sheet3 (3)'!S71","v":1.2225969645868057E-3},{"$f":"CORREL($B$1:B71,$K$1:K71)","v":{"$error":"#N/A"}},{"$f":"'Sheet3 (3)'!U71","v":-3.0677424777272914E-3},{"$f":"CORREL($B$1:B71,$M$1:M71)","v":{"$error":"#N/A"}},{"$f":"'Sheet3 (3)'!W71","v":3.7519497491672717E-3},{"$f":"CORREL($B$1:B71,$O$1:O71)","v":{"$error":"#N/A"}},{"$f":"'Sheet3 (3)'!Y71","v":4.4892427579195831E-3},{"$f":"CORREL($B$1:B71,$Q$1:Q71)","v":{"$error":"#N/A"}},{"$f":"'Sheet3 (3)'!AA71","v":1.3569096382988134E-3},{"$f":"CORREL($B$1:B71,$S$1:S71)","v":{"$error":"#N/A"}}]
[null,{"$f":"'Sheet3 (3)'!I72","v":{"$error":"#N/A"}},{"$f":"'Sheet3 (3)'!K72","v":1.1565645748555875E-3},{"$f":"CORREL($B$1:B72,$C$1:C72)","v":{"$error":"#N/A"}},{"$f":"'Sheet3 (3)'!M72","v":-1.5684951722393363E-2},{"$f":"CORREL($B$1:B72,$E$1:E72)","v":{"$error":"#N/A"}},{"$f":"'Sheet3 (3)'!O72","v":1.9009800608314341E-3},{"$f":"CORREL($B$1:B72,$G$1:G72)","v":{"$error":"#N/A"}},{"$f":"'Sheet3 (3)'!Q72","v":-3.3681374200067392E-3},{"$f":"CORREL($B$1:B72,$I$1:I72)","v":{"$error":"#N/A"}},{"$f":"'Sheet3 (3)'!S72","v":1.3490725126475934E-3},{"$f":"CORREL($B$1:B72,$K$1:K72)","v":{"$error":"#N/A"}},{"$f":"'Sheet3 (3)'!U72","v":-3.1938140864010973E-3},{"$f":"CORREL($B$1:B72,$M$1:M72)","v":{"$error":"#N/A"}},{"$f":"'Sheet3 (3)'!W72","v":3.1617554066016777E-3},{"$f":"CORREL($B$1:B72,$O$1:O72)","v":{"$error":"#N/A"}},{"$f":"'Sheet3 (3)'!Y72","v":4.6162967982381455E-3},{"$f":"CORREL($B$1:B72,$Q$1:Q72)","v":{"$error":"#N/A"}},{"$f":"'Sheet3 (3)'!AA72","v":1.2296993597084116E-3},{"$f":"CORREL($B$1:B72,$S$1:S72)","v":{"$error":"#N/A"}}]
[null,{"$f":"'Sheet3 (3)'!I73","v":{"$error":"#N/A"}},{"$f":"'Sheet3 (3)'!K73","v":1.8419361747698407E-3},{"$f":"CORREL($B$1:B73,$C$1:C73)","v":{"$error":"#N/A"}},{"$f":"'Sheet3 (3)'!M73","v":-1.5853607117257789E-2},{"$f":"CORREL($B$1:B73,$E$1:E73)","v":{"$error":"#N/A"}},{"$f":"'Sheet3 (3)'!O73","v":3.2105441027374328E-3},{"$f":"CORREL($B$1:B73,$G$1:G73)","v":{"$error":"#N/A"}},{"$f":"'Sheet3 (3)'!Q73","v":-3.5365442910070574E-3},{"$f":"CORREL($B$1:B73,$I$1:I73)","v":{"$error":"#N/A"}},{"$f":"'Sheet3 (3)'!S73","v":1.0118043844857419E-3},{"$f":"CORREL($B$1:B73,$K$1:K73)","v":{"$error":"#N/A"}},{"$f":"'Sheet3 (3)'!U73","v":-3.4459573037485228E-3},{"$f":"CORREL($B$1:B73,$M$1:M73)","v":{"$error":"#N/A"}},{"$f":"'Sheet3 (3)'!W73","v":3.1195986678470861E-3},{"$f":"CORREL($B$1:B73,$O$1:O73)","v":{"$error":"#N/A"}},{"$f":"'Sheet3 (3)'!Y73","v":4.5739454514652283E-3},{"$f":"CORREL($B$1:B73,$Q$1:Q73)","v":{"$error":"#N/A"}},{"$f":"'Sheet3 (3)'!AA73","v":1.2296993597084116E-3},{"$f":"CORREL($B$1:B73,$S$1:S73)","v":{"$error":"#N/A"}}]
[null,{"$f":"'Sheet3 (3)'!I74","v":{"$error":"#N/A"}},{"$f":"'Sheet3 (3)'!K74","v":1.499250374812714E-3},{"$f":"CORREL($B$1:B74,$C$1:C74)","v":{"$error":"#N/A"}},{"$f":"'Sheet3 (3)'!M74","v":-1.5263313235232116E-2},{"$f":"CORREL($B$1:B74,$E$1:E74)","v":{"$error":"#N/A"}},{"$f":"'Sheet3 (3)'!O74","v":2.5346400811085785E-3},{"$f":"CORREL($B$1:B74,$G$1:G74)","v":{"$error":"#N/A"}},{"$f":"'Sheet3 (3)'!Q74","v":-3.3260357022565665E-3},{"$f":"CORREL($B$1:B74,$I$1:I74)","v":{"$error":"#N/A"}},{"$f":"'Sheet3 (3)'!S74","v":1.0961214165262048E-3},{"$f":"CORREL($B$1:B74,$K$1:K74)","v":{"$error":"#N/A"}},{"$f":"'Sheet3 (3)'!U74","v":-3.3198856950747168E-3},{"$f":"CORREL($B$1:B74,$M$1:M74)","v":{"$error":"#N/A"}},{"$f":"'Sheet3 (3)'!W74","v":2.9088149740735662E-3},{"$f":"CORREL($B$1:B74,$O$1:O74)","v":{"$error":"#N/A"}},{"$f":"'Sheet3 (3)'!Y74","v":4.5315941046925002E-3},{"$f":"CORREL($B$1:B74,$Q$1:Q74)","v":{"$error":"#N/A"}},{"$f":"'Sheet3 (3)'!AA74","v":9.7527880252723097E-4},{"$f":"CORREL($B$1:B74,$S$1:S74)","v":{"$error":"#N/A"}}]
[null,{"$f":"'Sheet3 (3)'!I75","v":{"$error":"#N/A"}},{"$f":"'Sheet3 (3)'!K75","v":1.2422360248448691E-3},{"$f":"CORREL($B$1:B75,$C$1:C75)","v":{"$error":"#N/A"}},{"$f":"'Sheet3 (3)'!M75","v":-1.5263313235232116E-2},{"$f":"CORREL($B$1:B75,$E$1:E75)","v":{"$error":"#N/A"}},{"$f":"'Sheet3 (3)'!O75","v":2.8725920919230059E-3},{"$f":"CORREL($B$1:B75,$G$1:G75)","v":{"$error":"#N/A"}},{"$f":"'Sheet3 (3)'!Q75","v":-3.3260357022565665E-3},{"$f":"CORREL($B$1:B75,$I$1:I75)","v":{"$error":"#N/A"}},{"$f":"'Sheet3 (3)'!S75","v":1.2225969645868057E-3},{"$f":"CORREL($B$1:B75,$K$1:K75)","v":{"$error":"#N/A"}},{"$f":"'Sheet3 (3)'!U75","v":-3.1938140864010973E-3},{"$f":"CORREL($B$1:B75,$M$1:M75)","v":{"$error":"#N/A"}},{"$f":"'Sheet3 (3)'!W75","v":2.9931284515829367E-3},{"$f":"CORREL($B$1:B75,$O$1:O75)","v":{"$error":"#N/A"}},{"$f":"'Sheet3 (3)'!Y75","v":4.7009994917837907E-3},{"$f":"CORREL($B$1:B75,$Q$1:Q75)","v":{"$error":"#N/A"}},{"$f":"'Sheet3 (3)'!AA75","v":9.3287537633049314E-4},{"$f":"CORREL($B$1:B75,$S$1:S75)","v":{"$error":"#N/A"}}]
[null,{"$f":"'Sheet3 (3)'!I76","v":{"$error":"#N/A"}},{"$f":"'Sheet3 (3)'!K76","v":1.1994002998501332E-3},{"$f":"CORREL($B$1:B76,$C$1:C76)","v":{"$error":"#N/A"}},{"$f":"'Sheet3 (3)'!M76","v":-1.5221149386516102E-2},{"$f":"CORREL($B$1:B76,$E$1:E76)","v":{"$error":"#N/A"}},{"$f":"'Sheet3 (3)'!O76","v":2.4501520784049719E-3},{"$f":"CORREL($B$1:B76,$G$1:G76)","v":{"$error":"#N/A"}},{"$f":"'Sheet3 (3)'!Q76","v":-3.0313236780061029E-3},{"$f":"CORREL($B$1:B76,$I$1:I76)","v":{"$error":"#N/A"}},{"$f":"'Sheet3 (3)'!S76","v":1.1804384485666678E-3},{"$f":"CORREL($B$1:B76,$K$1:K76)","v":{"$error":"#N/A"}},{"$f":"'Sheet3 (3)'!U76","v":-3.4459573037485228E-3},{"$f":"CORREL($B$1:B76,$M$1:M76)","v":{"$error":"#N/A"}},{"$f":"'Sheet3 (3)'!W76","v":2.7823447578094163E-3},{"$f":"CORREL($B$1:B76,$O$1:O76)","v":{"$error":"#N/A"}},{"$f":"'Sheet3 (3)'!Y76","v":4.7009994917837907E-3},{"$f":"CORREL($B$1:B76,$Q$1:Q76)","v":{"$error":"#N/A"}},{"$f":"'Sheet3 (3)'!AA76","v":9.3287537633049314E-4},{"$f":"CORREL($B$1:B76,$S$1:S76)","v":{"$error":"#N/A"}}]
[null,{"$f":"'Sheet3 (3)'!I77","v":{"$error":"#N/A"}},{"$f":"'Sheet3 (3)'!K77","v":9.8522167487702416E-4},{"$f":"CORREL($B$1:B77,$C$1:C77)","v":{"$error":"#N/A"}},{"$f":"'Sheet3 (3)'!M77","v":-1.5178985537799903E-2},{"$f":"CORREL($B$1:B77,$E$1:E77)","v":{"$error":"#N/A"}},{"$f":"'Sheet3 (3)'!O77","v":2.3656640757011775E-3},{"$f":"CORREL($B$1:B77,$G$1:G77)","v":{"$error":"#N/A"}},{"$f":"'Sheet3 (3)'!Q77","v":-3.0734253957560888E-3},{"$f":"CORREL($B$1:B77,$I$1:I77)","v":{"$error":"#N/A"}},{"$f":"'Sheet3 (3)'!S77","v":1.2647554806071307E-3},{"$f":"CORREL($B$1:B77,$K$1:K77)","v":{"$error":"#N/A"}},{"$f":"'Sheet3 (3)'!U77","v":-3.4039334341905256E-3},{"$f":"CORREL($B$1:B77,$M$1:M77)","v":{"$error":"#N/A"}},{"$f":"'Sheet3 (3)'!W77","v":2.8666582353187873E-3},{"$f":"CORREL($B$1:B77,$O$1:O77)","v":{"$error":"#N/A"}},{"$f":"'Sheet3 (3)'!Y77","v":4.9974589191936437E-3},{"$f":"CORREL($B$1:B77,$Q$1:Q77)","v":{"$error":"#N/A"}},{"$f":"'Sheet3 (3)'!AA77","v":1.0176822287241572E-3},{"$f":"CORREL($B$1:B77,$S$1:S77)","v":{"$error":"#N/A"}}]
[null,{"$f":"'Sheet3 (3)'!I78","v":{"$error":"#N/A"}},{"$f":"'Sheet3 (3)'!K78","v":1.0280573998715699E-3},{"$f":"CORREL($B$1:B78,$C$1:C78)","v":{"$error":"#N/A"}},{"$f":"'Sheet3 (3)'!M78","v":-1.5221149386516102E-2},{"$f":"CORREL($B$1:B78,$E$1:E78)","v":{"$error":"#N/A"}},{"$f":"'Sheet3 (3)'!O78","v":2.6191280838121856E-3},{"$f":"CORREL($B$1:B78,$G$1:G78)","v":{"$error":"#N/A"}},{"$f":"'Sheet3 (3)'!Q78","v":-2.9050185247557706E-3},{"$f":"CORREL($B$1:B78,$I$1:I78)","v":{"$error":"#N/A"}},{"$f":"'Sheet3 (3)'!S78","v":1.1804384485666678E-3},{"$f":"CORREL($B$1:B78,$K$1:K78)","v":{"$error":"#N/A"}},{"$f":"'Sheet3 (3)'!U78","v":-3.4459573037485228E-3},{"$f":"CORREL($B$1:B78,$M$1:M78)","v":{"$error":"#N/A"}},{"$f":"'Sheet3 (3)'!W78","v":2.7823447578094163E-3},{"$f":"CORREL($B$1:B78,$O$1:O78)","v":{"$error":"#N/A"}},{"$f":"'Sheet3 (3)'!Y78","v":4.9974589191936437E-3},{"$f":"CORREL($B$1:B78,$Q$1:Q78)","v":{"$error":"#N/A"}},{"$f":"'Sheet3 (3)'!AA78","v":1.0176822287241572E-3},{"$f":"CORREL($B$1:B78,$S$1:S78)","v":{"$error":"#N/A"}}]
[null,{"$f":"'Sheet3 (3)'!I79","v":{"$error":"#N/A"}},{"$f":"'Sheet3 (3)'!K79","v":1.6277575497965415E-3},{"$f":"CORREL($B$1:B79,$C$1:C79)","v":{"$error":"#N/A"}},{"$f":"'Sheet3 (3)'!M79","v":-1.5136821689083891E-2},{"$f":"CORREL($B$1:B79,$E$1:E79)","v":{"$error":"#N/A"}},{"$f":"'Sheet3 (3)'!O79","v":2.745860087867502E-3},{"$f":"CORREL($B$1:B79,$G$1:G79)","v":{"$error":"#N/A"}},{"$f":"'Sheet3 (3)'!Q79","v":-3.115527113506262E-3},{"$f":"CORREL($B$1:B79,$I$1:I79)","v":{"$error":"#N/A"}},{"$f":"'Sheet3 (3)'!S79","v":1.2225969645868057E-3},{"$f":"CORREL($B$1:B79,$K$1:K79)","v":{"$error":"#N/A"}},{"$f":"'Sheet3 (3)'!U79","v":-3.6140527819801399E-3},{"$f":"CORREL($B$1:B79,$M$1:M79)","v":{"$error":"#N/A"}},{"$f":"'Sheet3 (3)'!W79","v":2.9509717128283451E-3},{"$f":"CORREL($B$1:B79,$O$1:O79)","v":{"$error":"#N/A"}},{"$f":"'Sheet3 (3)'!Y79","v":5.3362696933762256E-3},{"$f":"CORREL($B$1:B79,$Q$1:Q79)","v":{"$error":"#N/A"}},{"$f":"'Sheet3 (3)'!AA79","v":1.0176822287241572E-3},{"$f":"CORREL($B$1:B79,$S$1:S79)","v":{"$error":"#N/A"}}]
[null,{"$f":"'Sheet3 (3)'!I80","v":{"$error":"#N/A"}},{"$f":"'Sheet3 (3)'!K80","v":1.4564146498179781E-3},{"$f":"CORREL($B$1:B80,$C$1:C80)","v":{"$error":"#N/A"}},{"$f":"'Sheet3 (3)'!M80","v":-1.5516296327528753E-2},{"$f":"CORREL($B$1:B80,$E$1:E80)","v":{"$error":"#N/A"}},{"$f":"'Sheet3 (3)'!O80","v":3.4217641094965437E-3},{"$f":"CORREL($B$1:B80,$G$1:G80)","v":{"$error":"#N/A"}},{"$f":"'Sheet3 (3)'!Q80","v":-3.2839339845065802E-3},{"$f":"CORREL($B$1:B80,$I$1:I80)","v":{"$error":"#N/A"}},{"$f":"'Sheet3 (3)'!S80","v":1.2647554806071307E-3},{"$f":"CORREL($B$1:B80,$K$1:K80)","v":{"$error":"#N/A"}},{"$f":"'Sheet3 (3)'!U80","v":-3.5720289124221423E-3},{"$f":"CORREL($B$1:B80,$M$1:M80)","v":{"$error":"#N/A"}},{"$f":"'Sheet3 (3)'!W80","v":2.9509717128283451E-3},{"$f":"CORREL($B$1:B80,$O$1:O80)","v":{"$error":"#N/A"}},{"$f":"'Sheet3 (3)'!Y80","v":5.4209723869218709E-3},{"$f":"CORREL($B$1:B80,$Q$1:Q80)","v":{"$error":"#N/A"}},{"$f":"'Sheet3 (3)'!AA80","v":1.0176822287241572E-3},{"$f":"CORREL($B$1:B80,$S$1:S80)","v":{"$error":"#N/A"}}]
[null,{"$f":"'Sheet3 (3)'!I81","v":{"$error":"#N/A"}},{"$f":"'Sheet3 (3)'!K81","v":1.5420860998072597E-3},{"$f":"CORREL($B$1:B81,$C$1:C81)","v":{"$error":"#N/A"}},{"$f":"'Sheet3 (3)'!M81","v":-1.5389804781380528E-2},{"$f":"CORREL($B$1:B81,$E$1:E81)","v":{"$error":"#N/A"}},{"$f":"'Sheet3 (3)'!O81","v":3.886448124366287E-3},{"$f":"CORREL($B$1:B81,$G$1:G81)","v":{"$error":"#N/A"}},{"$f":"'Sheet3 (3)'!Q81","v":-3.1576288312562479E-3},{"$f":"CORREL($B$1:B81,$I$1:I81)","v":{"$error":"#N/A"}},{"$f":"'Sheet3 (3)'!S81","v":1.1804384485666678E-3},{"$f":"CORREL($B$1:B81,$K$1:K81)","v":{"$error":"#N/A"}},{"$f":"'Sheet3 (3)'!U81","v":-3.3619095646327144E-3},{"$f":"CORREL($B$1:B81,$M$1:M81)","v":{"$error":"#N/A"}},{"$f":"'Sheet3 (3)'!W81","v":2.9509717128283451E-3},{"$f":"CORREL($B$1:B81,$O$1:O81)","v":{"$error":"#N/A"}},{"$f":"'Sheet3 (3)'!Y81","v":5.3362696933762256E-3},{"$f":"CORREL($B$1:B81,$Q$1:Q81)","v":{"$error":"#N/A"}},{"$f":"'Sheet3 (3)'!AA81","v":1.0600856549208952E-3},{"$f":"CORREL($B$1:B81,$S$1:S81)","v":{"$error":"#N/A"}}]
[null,{"$f":"'Sheet3 (3)'!I82","v":{"$error":"#N/A"}},{"$f":"'Sheet3 (3)'!K82","v":1.4564146498179781E-3},{"$f":"CORREL($B$1:B82,$C$1:C82)","v":{"$error":"#N/A"}},{"$f":"'Sheet3 (3)'!M82","v":-1.5558460176244952E-2},{"$f":"CORREL($B$1:B82,$E$1:E82)","v":{"$error":"#N/A"}},{"$f":"'Sheet3 (3)'!O82","v":3.759716120310971E-3},{"$f":"CORREL($B$1:B82,$G$1:G82)","v":{"$error":"#N/A"}},{"$f":"'Sheet3 (3)'!Q82","v":-3.0734253957560888E-3},{"$f":"CORREL($B$1:B82,$I$1:I82)","v":{"$error":"#N/A"}},{"$f":"'Sheet3 (3)'!S82","v":1.2647554806071307E-3},{"$f":"CORREL($B$1:B82,$K$1:K82)","v":{"$error":"#N/A"}},{"$f":"'Sheet3 (3)'!U82","v":-3.3198856950747168E-3},{"$f":"CORREL($B$1:B82,$M$1:M82)","v":{"$error":"#N/A"}},{"$f":"'Sheet3 (3)'!W82","v":2.9509717128283451E-3},{"$f":"CORREL($B$1:B82,$O$1:O82)","v":{"$error":"#N/A"}},{"$f":"'Sheet3 (3)'!Y82","v":5.1245129595120179E-3},{"$f":"CORREL($B$1:B82,$Q$1:Q82)","v":{"$error":"#N/A"}},{"$f":"'Sheet3 (3)'!AA82","v":1.0600856549208952E-3},{"$f":"CORREL($B$1:B82,$S$1:S82)","v":{"$error":"#N/A"}}]
[null,{"$f":"'Sheet3 (3)'!I83","v":{"$error":"#N/A"}},{"$f":"'Sheet3 (3)'!K83","v":1.5420860998072597E-3},{"$f":"CORREL($B$1:B83,$C$1:C83)","v":{"$error":"#N/A"}},{"$f":"'Sheet3 (3)'!M83","v":-1.581144326854159E-2},{"$f":"CORREL($B$1:B83,$E$1:E83)","v":{"$error":"#N/A"}},{"$f":"'Sheet3 (3)'!O83","v":3.7174721189590738E-3},{"$f":"CORREL($B$1:B83,$G$1:G83)","v":{"$error":"#N/A"}},{"$f":"'Sheet3 (3)'!Q83","v":-3.4944425732570715E-3},{"$f":"CORREL($B$1:B83,$I$1:I83)","v":{"$error":"#N/A"}},{"$f":"'Sheet3 (3)'!S83","v":1.2225969645868057E-3},{"$f":"CORREL($B$1:B83,$K$1:K83)","v":{"$error":"#N/A"}},{"$f":"'Sheet3 (3)'!U83","v":-3.2778618255169061E-3},{"$f":"CORREL($B$1:B83,$M$1:M83)","v":{"$error":"#N/A"}},{"$f":"'Sheet3 (3)'!W83","v":2.6980312803000458E-3},{"$f":"CORREL($B$1:B83,$O$1:O83)","v":{"$error":"#N/A"}},{"$f":"'Sheet3 (3)'!Y83","v":5.1245129595120179E-3},{"$f":"CORREL($B$1:B83,$Q$1:Q83)","v":{"$error":"#N/A"}},{"$f":"'Sheet3 (3)'!AA83","v":1.1872959335114854E-3},{"$f":"CORREL($B$1:B83,$S$1:S83)","v":{"$error":"#N/A"}}]
[null,{"$f":"'Sheet3 (3)'!I84","v":{"$error":"#N/A"}},{"$f":"'Sheet3 (3)'!K84","v":1.5849218248019958E-3},{"$f":"CORREL($B$1:B84,$C$1:C84)","v":{"$error":"#N/A"}},{"$f":"'Sheet3 (3)'!M84","v":-1.6275245604418849E-2},{"$f":"CORREL($B$1:B84,$E$1:E84)","v":{"$error":"#N/A"}},{"$f":"'Sheet3 (3)'!O84","v":3.3795201081446465E-3},{"$f":"CORREL($B$1:B84,$G$1:G84)","v":{"$error":"#N/A"}},{"$f":"'Sheet3 (3)'!Q84","v":-3.1997305490064211E-3},{"$f":"CORREL($B$1:B84,$I$1:I84)","v":{"$error":"#N/A"}},{"$f":"'Sheet3 (3)'!S84","v":1.1804384485666678E-3},{"$f":"CORREL($B$1:B84,$K$1:K84)","v":{"$error":"#N/A"}},{"$f":"'Sheet3 (3)'!U84","v":-3.6140527819801399E-3},{"$f":"CORREL($B$1:B84,$M$1:M84)","v":{"$error":"#N/A"}},{"$f":"'Sheet3 (3)'!W84","v":2.3607773702625638E-3},{"$f":"CORREL($B$1:B84,$O$1:O84)","v":{"$error":"#N/A"}},{"$f":"'Sheet3 (3)'!Y84","v":4.785702185329436E-3},{"$f":"CORREL($B$1:B84,$Q$1:Q84)","v":{"$error":"#N/A"}},{"$f":"'Sheet3 (3)'!AA84","v":1.1872959335114854E-3},{"$f":"CORREL($B$1:B84,$S$1:S84)","v":{"$error":"#N/A"}}]
[null,{"$f":"'Sheet3 (3)'!I85","v":{"$error":"#N/A"}},{"$f":"'Sheet3 (3)'!K85","v":1.4135789248234324E-3},{"$f":"CORREL($B$1:B85,$C$1:C85)","v":{"$error":"#N/A"}},{"$f":"'Sheet3 (3)'!M85","v":-1.6064426360838227E-2},{"$f":"CORREL($B$1:B85,$E$1:E85)","v":{"$error":"#N/A"}},{"$f":"'Sheet3 (3)'!O85","v":3.4217641094965437E-3},{"$f":"CORREL($B$1:B85,$G$1:G85)","v":{"$error":"#N/A"}},{"$f":"'Sheet3 (3)'!Q85","v":-3.3260357022565665E-3},{"$f":"CORREL($B$1:B85,$I$1:I85)","v":{"$error":"#N/A"}},{"$f":"'Sheet3 (3)'!S85","v":1.0961214165262048E-3},{"$f":"CORREL($B$1:B85,$K$1:K85)","v":{"$error":"#N/A"}},{"$f":"'Sheet3 (3)'!U85","v":-3.6140527819801399E-3},{"$f":"CORREL($B$1:B85,$M$1:M85)","v":{"$error":"#N/A"}},{"$f":"'Sheet3 (3)'!W85","v":2.3186206315079718E-3},{"$f":"CORREL($B$1:B85,$O$1:O85)","v":{"$error":"#N/A"}},{"$f":"'Sheet3 (3)'!Y85","v":4.7433508385565197E-3},{"$f":"CORREL($B$1:B85,$Q$1:Q85)","v":{"$error":"#N/A"}},{"$f":"'Sheet3 (3)'!AA85","v":1.1448925073147475E-3},{"$f":"CORREL($B$1:B85,$S$1:S85)","v":{"$error":"#N/A"}}]
[null,{"$f":"'Sheet3 (3)'!I86","v":{"$error":"#N/A"}},{"$f":"'Sheet3 (3)'!K86","v":1.4135789248234324E-3},{"$f":"CORREL($B$1:B86,$C$1:C86)","v":{"$error":"#N/A"}},{"$f":"'Sheet3 (3)'!M86","v":-1.6443900999283275E-2},{"$f":"CORREL($B$1:B86,$E$1:E86)","v":{"$error":"#N/A"}},{"$f":"'Sheet3 (3)'!O86","v":3.3795201081446465E-3},{"$f":"CORREL($B$1:B86,$G$1:G86)","v":{"$error":"#N/A"}},{"$f":"'Sheet3 (3)'!Q86","v":-3.4523408555068983E-3},{"$f":"CORREL($B$1:B86,$I$1:I86)","v":{"$error":"#N/A"}},{"$f":"'Sheet3 (3)'!S86","v":1.2225969645868057E-3},{"$f":"CORREL($B$1:B86,$K$1:K86)","v":{"$error":"#N/A"}},{"$f":"'Sheet3 (3)'!U86","v":-3.4459573037485228E-3},{"$f":"CORREL($B$1:B86,$M$1:M86)","v":{"$error":"#N/A"}},{"$f":"'Sheet3 (3)'!W86","v":2.3607773702625638E-3},{"$f":"CORREL($B$1:B86,$O$1:O86)","v":{"$error":"#N/A"}},{"$f":"'Sheet3 (3)'!Y86","v":4.828053532102165E-3},{"$f":"CORREL($B$1:B86,$Q$1:Q86)","v":{"$error":"#N/A"}},{"$f":"'Sheet3 (3)'!AA86","v":1.1872959335114854E-3},{"$f":"CORREL($B$1:B86,$S$1:S86)","v":{"$error":"#N/A"}}]
[null,{"$f":"'Sheet3 (3)'!I87","v":{"$error":"#N/A"}},{"$f":"'Sheet3 (3)'!K87","v":1.3279074748341509E-3},{"$f":"CORREL($B$1:B87,$C$1:C87)","v":{"$error":"#N/A"}},{"$f":"'Sheet3 (3)'!M87","v":-1.6528228696715486E-2},{"$f":"CORREL($B$1:B87,$E$1:E87)","v":{"$error":"#N/A"}},{"$f":"'Sheet3 (3)'!O87","v":3.4640081108482531E-3},{"$f":"CORREL($B$1:B87,$G$1:G87)","v":{"$error":"#N/A"}},{"$f":"'Sheet3 (3)'!Q87","v":-3.4523408555068983E-3},{"$f":"CORREL($B$1:B87,$I$1:I87)","v":{"$error":"#N/A"}},{"$f":"'Sheet3 (3)'!S87","v":1.1382799325463427E-3},{"$f":"CORREL($B$1:B87,$K$1:K87)","v":{"$error":"#N/A"}},{"$f":"'Sheet3 (3)'!U87","v":-3.3619095646327144E-3},{"$f":"CORREL($B$1:B87,$M$1:M87)","v":{"$error":"#N/A"}},{"$f":"'Sheet3 (3)'!W87","v":2.3607773702625638E-3},{"$f":"CORREL($B$1:B87,$O$1:O87)","v":{"$error":"#N/A"}},{"$f":"'Sheet3 (3)'!Y87","v":4.828053532102165E-3},{"$f":"CORREL($B$1:B87,$Q$1:Q87)","v":{"$error":"#N/A"}},{"$f":"'Sheet3 (3)'!AA87","v":1.2296993597084116E-3},{"$f":"CORREL($B$1:B87,$S$1:S87)","v":{"$error":"#N/A"}}]
[]
[]
[null,null,null,{"$f":"'Sheet3 (3)'!C2","v":"2018-06-15"},null,{"$f":"'Sheet3 (3)'!C3","v":"2018-06-14"},null,{"$f":"'Sheet3 (3)'!C4","v":"2018-06-13"},null,{"$f":"'Sheet3 (3)'!C5","v":"2018-06-12"},null,{"$f":"'Sheet3 (3)'!C6","v":"2018-06-11"},null,{"$f":"'Sheet3 (3)'!C7","v":"2018-06-08"},null,{"$f":"'Sheet3 (3)'!C8","v":"2018-06-07"},null,{"$f":"'Sheet3 (3)'!C9","v":"2018-06-06"},null,{"$f":"'Sheet3 (3)'!C10","v":"2018-06-05"}]
[null,null,null,{"$f":"LOOKUP(2,1/(ISNUMBER(D1:D87)),D1:D87)","v":-0.88669667432862609},null,{"$f":"LOOKUP(2,1/(ISNUMBER(F1:F87)),F1:F87)","v":0.82278247335566201},null,{"$f":"LOOKUP(2,1/(ISNUMBER(H1:H87)),H1:H87)","v":-0.32637796651787959},null,{"$f":"LOOKUP(2,1/(ISNUMBER(J1:J87)),J1:J87)","v":0.63443694138076756},null,{"$f":"LOOKUP(2,1/(ISNUMBER(L1:L87)),L1:L87)","v":-0.22373145710769549},null,{"$f":"LOOKUP(2,1/(ISNUMBER(N1:N87)),N1:N87)","v":-0.85831783468712075},null,{"$f":"LOOKUP(2,1/(ISNUMBER(P1:P87)),P1:P87)","v":0.38145627251393965},null,{"$f":"LOOKUP(2,1/(ISNUMBER(R1:R87)),R1:R87)","v":-0.27774932644542505},null,{"$f":"LOOKUP(2,1/(ISNUMBER(T1:T87)),T1:T87)","v":-0.6194396702310716}]
[]
[null,null,{"$f":"RANK(D93,$D$93:$D$101,0)+COUNTIF($D$93:D93,D93)-1","v":9},{"$f":"D91","v":-0.88669667432862609},{"$f":"D90","v":"2018-06-15"},{"$f":"RANK(D93,$D$93:$D$101,0)+COUNTIF($D$93:D93,D93)-1","v":9},{"$f":"VLOOKUP(1,C93:E101,3,FALSE)","v":"2018-06-14"},{"$f":"VLOOKUP(1,C93:E101,2,FALSE)","v":0.82278247335566201},{"$f":"IFERROR(VLOOKUP(G93,'Sheet3 (3)'!AK1:AN10,4,FALSE),1)","v":2}]
[null,null,{"$f":"RANK(D94,$D$93:$D$101,0)+COUNTIF($D$93:D94,D94)-1","v":1},{"$f":"F91","v":0.82278247335566201},{"$f":"F90","v":"2018-06-14"},{"$f":"RANK(D94,$D$93:$D$101,0)+COUNTIF($D$93:D94,D94)-1","v":1},{"$f":"VLOOKUP(2,C93:E101,3,FALSE)","v":"2018-06-12"},{"$f":"VLOOKUP(2,C93:E101,2,FALSE)","v":0.63443694138076756}]
[null,null,{"$f":"RANK(D95,$D$93:$D$101,0)+COUNTIF($D$93:D95,D95)-1","v":6},{"$f":"H91","v":-0.32637796651787959},{"$f":"H90","v":"2018-06-13"},{"$f":"RANK(D95,$D$93:$D$101,0)+COUNTIF($D$93:D95,D95)-1","v":6},{"$f":"VLOOKUP(3,C93:E101,3,FALSE)","v":"2018-06-07"},{"$f":"VLOOKUP(3,C93:E101,2,FALSE)","v":0.38145627251393965}]
[null,null,{"$f":"RANK(D96,$D$93:$D$101,0)+COUNTIF($D$93:D96,D96)-1","v":2},{"$f":"J91","v":0.63443694138076756},{"$f":"J90","v":"2018-06-12"},{"$f":"RANK(D96,$D$93:$D$101,0)+COUNTIF($D$93:D96,D96)-1","v":2},{"$f":"VLOOKUP(4,C93:E101,3,FALSE)","v":"2018-06-11"},{"$f":"VLOOKUP(4,C93:E101,2,FALSE)","v":-0.22373145710769549}]
[null,null,{"$f":"RANK(D97,$D$93:$D$101,0)+COUNTIF($D$93:D97,D97)-1","v":4},{"$f":"L91","v":-0.22373145710769549},{"$f":"L90","v":"2018-06-11"},{"$f":"RANK(D97,$D$93:$D$101,0)+COUNTIF($D$93:D97,D97)-1","v":4},{"$f":"VLOOKUP(5,C93:E101,3,FALSE)","v":"2018-06-06"},{"$f":"VLOOKUP(5,C93:E101,2,FALSE)","v":-0.27774932644542505}]
[null,null,{"$f":"RANK(D98,$D$93:$D$101,0)+COUNTIF($D$93:D98,D98)-1","v":8},{"$f":"N91","v":-0.85831783468712075},{"$f":"N90","v":"2018-06-08"},{"$f":"RANK(D98,$D$93:$D$101,0)+COUNTIF($D$93:D98,D98)-1","v":8},{"$f":"VLOOKUP(6,C93:E101,3,FALSE)","v":"2018-06-13"},{"$f":"VLOOKUP(6,C93:E101,2,FALSE)","v":-0.32637796651787959}]
[null,null,{"$f":"RANK(D99,$D$93:$D$101,0)+COUNTIF($D$93:D99,D99)-1","v":3},{"$f":"P91","v":0.38145627251393965},{"$f":"P90","v":"2018-06-07"},{"$f":"RANK(D99,$D$93:$D$101,0)+COUNTIF($D$93:D99,D99)-1","v":3},{"$f":"VLOOKUP(7,C93:E101,3,FALSE)","v":"2018-06-05"},{"$f":"VLOOKUP(7,C93:E101,2,FALSE)","v":-0.6194396702310716}]
[null,null,{"$f":"RANK(D100,$D$93:$D$101,0)+COUNTIF($D$93:D100,D100)-1","v":5},{"$f":"R91","v":-0.27774932644542505},{"$f":"R90","v":"2018-06-06"},{"$f":"RANK(D100,$D$93:$D$101,0)+COUNTIF($D$93:D100,D100)-1","v":5},{"$f":"VLOOKUP(8,C93:E101,3,FALSE)","v":"2018-06-08"},{"$f":"VLOOKUP(8,C93:E101,2,FALSE)","v":-0.85831783468712075}]
[null,null,{"$f":"RANK(D101,$D$93:$D$101,0)+COUNTIF($D$93:D101,D101)-1","v":7},{"$f":"T91","v":-0.6194396702310716},{"$f":"T90","v":"2018-06-05"},{"$f":"RANK(D101,$D$93:$D$101,0)+COUNTIF($D$93:D101,D101)-1","v":7},{"$f":"VLOOKUP(9,C93:E101,3,FALSE)","v":"2018-06-15"},{"$f":"VLOOKUP(9,C93:E101,2,FALSE)","v":-0.88669667432862609}]

{"sheet":"Sheet3 (4)","index":7,"n_rows":81,"n_cols":40,"rows_kept":81,"cut":false,"hidden":true,"merged":[]}
[{"$f":"IF(D12=\"EDA\",8,180)","v":180},"08:00:00",{"$f":"IF(WEEKDAY(TODAY())=7,TODAY()-1,IF(WEEKDAY(TODAY())=1,TODAY()-2,TODAY()))","v":"2018-06-18"},{"$f":"YEAR(C1)","v":2018},{"$f":"MONTH(C1)","v":6},{"$f":"DAY(C1)","v":18},null,{"$f":"RTD(\"cqg.rtd\",,\"StudyData\", \"Close(\"&$D$12&\") when LocalYear(\"&$D$12&\")=\"&$D$1&\" and localMonth(\"&$D$12&\") =\"&$E$1&\" and LocalDay(\"&$D$12&\")=\"&$F$1&\" and Barix(\"&$D$12&\",reference:=StartOfSession)=\"&A1&\"\", \"Bar\", \"\", \"Close\",\"5\",\"0\",\"PrimaryOnly\",,,\"False\",\"T\",\"EveryTick\")","v":119.765625},{"$f":"IFERROR((H1-$G$2)/$G$2,NA())","v":1.4371570420695062E-3},{"$f":"RTD(\"cqg.rtd\",,\"StudyData\", \"Close(\"&$D$12&\") when LocalYear(\"&$D$12&\")=\"&$D$2&\" and localMonth(\"&$D$12&\") =\"&$E$2&\" and LocalDay(\"&$D$12&\")=\"&$F$2&\" and Barix(\"&$D$12&\",reference:=StartOfSession)=\"&A1&\"\", \"Bar\", \"\", \"Close\",\"5\",\"0\",\"PrimaryOnly\",,,\"False\",\"T\",\"EveryTick\")","v":119.71875},{"$f":"IFERROR((J1-$G$3)/$G$3,NA())","v":2.3547880690737832E-3},{"$f":"RTD(\"cqg.rtd\",,\"StudyData\", \"Close(\"&$D$12&\") when LocalYear(\"&$D$12&\")=\"&$D$3&\" and localMonth(\"&$D$12&\") =\"&$E$3&\" and LocalDay(\"&$D$12&\")=\"&$F$3&\" and Barix(\"&$D$12&\",reference:=StartOfSession)=\"&A1&\"\", \"Bar\", \"\", \"Close\",\"5\",\"0\",\"PrimaryOnly\",,,\"False\",\"T\",\"EveryTick\")","v":119.484375},{"$f":"IFERROR((L1-$G$4)/$G$4,NA())","v":2.4908232826428944E-3},{"$f":"RTD(\"cqg.rtd\",,\"StudyData\", \"Close(\"&$D$12&\") when LocalYear(\"&$D$12&\")=\"&$D$4&\" and localMonth(\"&$D$12&\") =\"&$E$4&\" and LocalDay(\"&$D$12&\")=\"&$F$4&\" and Barix(\"&$D$12&\",reference:=StartOfSession)=\"&A1&\"\", \"Bar\", \"\", \"Close\",\"5\",\"0\",\"PrimaryOnly\",,,\"False\",\"T\",\"EveryTick\")","v":119.390625},{"$f":"IFERROR((N1-$G$5)/$G$5,NA())","v":-1.3085579691180318E-4},{"$f":"RTD(\"cqg.rtd\",,\"StudyData\", \"Close(\"&$D$12&\") when LocalYear(\"&$D$12&\")=\"&$D$5&\" and localMonth(\"&$D$12&\") =\"&$E$5&\" and LocalDay(\"&$D$12&\")=\"&$F$5&\" and Barix(\"&$D$12&\",reference:=StartOfSession)=\"&A1&\"\", \"Bar\", \"\", \"Close\",\"5\",\"0\",\"PrimaryOnly\",,,\"False\",\"T\",\"EveryTick\")","v":119.25},{"$f":"IFERROR((P1-$G$6)/$G$6,NA())","v":-1.5698587127158557E-3},{"$f":"RTD(\"cqg.rtd\",,\"StudyData\", \"Close(\"&$D$12&\") when LocalYear(\"&$D$12&\")=\"&$D$6&\" and localMonth(\"&$D$12&\") =\"&$E$6&\" and LocalDay(\"&$D$12&\")=\"&$F$6&\" and Barix(\"&$D$12&\",reference:=StartOfSession)=\"&A1&\"\", \"Bar\", \"\", \"Close\",\"5\",\"0\",\"PrimaryOnly\",,,\"False\",\"T\",\"EveryTick\")","v":119.40625},{"$f":"IFERROR((R1-$G$7)/$G$7,NA())","v":-1.567807682257643E-3},{"$f":"RTD(\"cqg.rtd\",,\"StudyData\", \"Close(\"&$D$12&\") when LocalYear(\"&$D$12&\")=\"&$D$7&\" and localMonth(\"&$D$12&\") =\"&$E$7&\" and LocalDay(\"&$D$12&\")=\"&$F$7&\" and Barix(\"&$D$12&\",reference:=StartOfSession)=\"&A1&\"\", \"Bar\", \"\", \"Close\",\"5\",\"0\",\"PrimaryOnly\",,,\"False\",\"T\",\"EveryTick\")","v":119.578125},{"$f":"IFERROR((T1-$G$8)/$G$8,NA())","v":-1.3065064018813691E-4},{"$f":"RTD(\"cqg.rtd\",,\"StudyData\", \"Close(\"&$D$12&\") when LocalYear(\"&$D$12&\")=\"&$D$8&\" and localMonth(\"&$D$12&\") =\"&$E$8&\" and LocalDay(\"&$D$12&\")=\"&$F$8&\" and Barix(\"&$D$12&\",reference:=StartOfSession)=\"&A1&\"\", \"Bar\", \"\", \"Close\",\"5\",\"0\",\"PrimaryOnly\",,,\"False\",\"T\",\"EveryTick\")","v":119.265625},{"$f":"IFERROR((V1-$G$9)/$G$9,NA())","v":-1.3099292638197538E-4},{"$f":"RTD(\"cqg.rtd\",,\"StudyData\", \"Close(\"&$D$12&\") when LocalYear(\"&$D$12&\")=\"&$D$9&\" and localMonth(\"&$D$12&\") =\"&$E$9&\" and LocalDay(\"&$D$12&\")=\"&$F$9&\" and Barix(\"&$D$12&\",reference:=StartOfSession)=\"&A1&\"\", \"Bar\", \"\", \"Close\",\"5\",\"0\",\"PrimaryOnly\",,,\"False\",\"T\",\"EveryTick\")","v":119.46875},{"$f":"IFERROR((X1-$G$10)/$G$10,NA())","v":-1.9579689335595873E-3},{"$f":"RTD(\"cqg.rtd\",,\"StudyData\", \"Close(\"&$D$12&\") when LocalYear(\"&$D$12&\")=\"&$D$10&\" and localMonth(\"&$D$12&\") =\"&$E$10&\" and LocalDay(\"&$D$12&\")=\"&$F$10&\" and Barix(\"&$D$12&\",reference:=StartOfSession)=\"&A1&\"\", \"Bar\", \"\", \"Close\",\"5\",\"0\",\"PrimaryOnly\",,,\"False\",\"T\",\"EveryTick\")","v":119.78125},{"$f":"IFERROR((Z1-$G$11)/$G$11,NA())","v":2.3535564853556486E-3},{"$f":"RANK(AD1,$AD$1:$AD$10)+COUNTIF($AD$1:AD1,AD1)-1","v":4},{"$f":"DATE(D1,E1,F1)","v":"2018-06-18"},{"$f":"VLOOKUP(MAX(AE2:AE81),A1:I81,9,FALSE)","v":9.1455448131695844E-4},null,1,{"$f":"VLOOKUP(AF1,$AB$1:$AD$10,2,FALSE)","v":"2018-06-15"},{"$f":"VLOOKUP(AF1,$AB$1:$AD$10,3,FALSE)","v":2.4856096284667714E-3},null,null,{"$f":"AG1","v":"2018-06-15"},{"$f":"AC1","v":"2018-06-18"},0,{"$f":"VLOOKUP(AK1,$AL$1:$AM$10,2,FALSE)","v":1}]
[{"$f":"A1+1","v":181},"08:05:00",{"$f":"RTD(\"cqg.rtd\",,\"StudyData\",$D$12,\"Bar\",,\"Time\",\"D\",\"-1\",,,,,\"T\")","v":"2018-06-15"},{"$f":"YEAR(C2)","v":2018},{"$f":"MONTH(C2)","v":6},{"$f":"DAY(C2)","v":15},{"$f":"RTD(\"cqg.rtd\",,\"StudyData\",$D$12,\"Bar\",,\"Close\",\"D\",\"-1\",,,,,\"T\")","v":119.59375},{"$f":"RTD(\"cqg.rtd\",,\"StudyData\", \"Close(\"&$D$12&\") when LocalYear(\"&$D$12&\")=\"&$D$1&\" and localMonth(\"&$D$12&\") =\"&$E$1&\" and LocalDay(\"&$D$12&\")=\"&$F$1&\" and Barix(\"&$D$12&\",reference:=StartOfSession)=\"&A2&\"\", \"Bar\", \"\", \"Close\",\"5\",\"0\",\"PrimaryOnly\",,,\"False\",\"T\",\"EveryTick\")","v":119.734375},{"$f":"IFERROR((H2-$G$2)/$G$2,NA())","v":1.1758557616932323E-3},{"$f":"RTD(\"cqg.rtd\",,\"StudyData\", \"Close(\"&$D$12&\") when LocalYear(\"&$D$12&\")=\"&$D$2&\" and localMonth(\"&$D$12&\") =\"&$E$2&\" and LocalDay(\"&$D$12&\")=\"&$F$2&\" and Barix(\"&$D$12&\",reference:=StartOfSession)=\"&A2&\"\", \"Bar\", \"\", \"Close\",\"5\",\"0\",\"PrimaryOnly\",,,\"False\",\"T\",\"EveryTick\")","v":119.734375},{"$f":"IFERROR((J2-$G$3)/$G$3,NA())","v":2.4856096284667714E-3},{"$f":"RTD(\"cqg.rtd\",,\"StudyData\", \"Close(\"&$D$12&\") when LocalYear(\"&$D$12&\")=\"&$D$3&\" and localMonth(\"&$D$12&\") =\"&$E$3&\" and LocalDay(\"&$D$12&\")=\"&$F$3&\" and Barix(\"&$D$12&\",reference:=StartOfSession)=\"&A2&\"\", \"Bar\", \"\", \"Close\",\"5\",\"0\",\"PrimaryOnly\",,,\"False\",\"T\",\"EveryTick\")","v":119.4375},{"$f":"IFERROR((L2-$G$4)/$G$4,NA())","v":2.097535395909806E-3},{"$f":"RTD(\"cqg.rtd\",,\"StudyData\", \"Close(\"&$D$12&\") when LocalYear(\"&$D$12&\")=\"&$D$4&\" and localMonth(\"&$D$12&\") =\"&$E$4&\" and LocalDay(\"&$D$12&\")=\"&$F$4&\" and Barix(\"&$D$12&\",reference:=StartOfSession)=\"&A2&\"\", \"Bar\", \"\", \"Close\",\"5\",\"0\",\"PrimaryOnly\",,,\"False\",\"T\",\"EveryTick\")","v":119.359375},{"$f":"IFERROR((N2-$G$5)/$G$5,NA())","v":-3.925673907354096E-4},{"$f":"RTD(\"cqg.rtd\",,\"StudyData\", \"Close(\"&$D$12&\") when LocalYear(\"&$D$12&\")=\"&$D$5&\" and localMonth(\"&$D$12&\") =\"&$E$5&\" and LocalDay(\"&$D$12&\")=\"&$F$5&\" and Barix(\"&$D$12&\",reference:=StartOfSession)=\"&A2&\"\", \"Bar\", \"\", \"Close\",\"5\",\"0\",\"PrimaryOnly\",,,\"False\",\"T\",\"EveryTick\")","v":119.25},{"$f":"IFERROR((P2-$G$6)/$G$6,NA())","v":-1.5698587127158557E-3},{"$f":"RTD(\"cqg.rtd\",,\"StudyData\", \"Close(\"&$D$12&\") when LocalYear(\"&$D$12&\")=\"&$D$6&\" and localMonth(\"&$D$12&\") =\"&$E$6&\" and LocalDay(\"&$D$12&\")=\"&$F$6&\" and Barix(\"&$D$12&\",reference:=StartOfSession)=\"&A2&\"\", \"Bar\", \"\", \"Close\",\"5\",\"0\",\"PrimaryOnly\",,,\"False\",\"T\",\"EveryTick\")","v":119.375},{"$f":"IFERROR((R2-$G$7)/$G$7,NA())","v":-1.8291089626339169E-3},{"$f":"RTD(\"cqg.rtd\",,\"StudyData\", \"Close(\"&$D$12&\") when LocalYear(\"&$D$12&\")=\"&$D$7&\" and localMonth(\"&$D$12&\") =\"&$E$7&\" and LocalDay(\"&$D$12&\")=\"&$F$7&\" and Barix(\"&$D$12&\",reference:=StartOfSession)=\"&A2&\"\", \"Bar\", \"\", \"Close\",\"5\",\"0\",\"PrimaryOnly\",,,\"False\",\"T\",\"EveryTick\")","v":119.5625},{"$f":"IFERROR((T2-$G$8)/$G$8,NA())","v":-2.6130128037627382E-4},{"$f":"RTD(\"cqg.rtd\",,\"StudyData\", \"Close(\"&$D$12&\") when LocalYear(\"&$D$12&\")=\"&$D$8&\" and localMonth(\"&$D$12&\") =\"&$E$8&\" and LocalDay(\"&$D$12&\")=\"&$F$8&\" and Barix(\"&$D$12&\",reference:=StartOfSession)=\"&A2&\"\", \"Bar\", \"\", \"Close\",\"5\",\"0\",\"PrimaryOnly\",,,\"False\",\"T\",\"EveryTick\")","v":119.21875},{"$f":"IFERROR((V2-$G$9)/$G$9,NA())","v":-5.2397170552790154E-4},{"$f":"RTD(\"cqg.rtd\",,\"StudyData\", \"Close(\"&$D$12&\") when LocalYear(\"&$D$12&\")=\"&$D$9&\" and localMonth(\"&$D$12&\") =\"&$E$9&\" and LocalDay(\"&$D$12&\")=\"&$F$9&\" and Barix(\"&$D$12&\",reference:=StartOfSession)=\"&A2&\"\", \"Bar\", \"\", \"Close\",\"5\",\"0\",\"PrimaryOnly\",,,\"False\",\"T\",\"EveryTick\")","v":119.46875},{"$f":"IFERROR((X2-$G$10)/$G$10,NA())","v":-1.9579689335595873E-3},{"$f":"RTD(\"cqg.rtd\",,\"StudyData\", \"Close(\"&$D$12&\") when LocalYear(\"&$D$12&\")=\"&$D$10&\" and localMonth(\"&$D$12&\") =\"&$E$10&\" and LocalDay(\"&$D$12&\")=\"&$F$10&\" and Barix(\"&$D$12&\",reference:=StartOfSession)=\"&A2&\"\", \"Bar\", \"\", \"Close\",\"5\",\"0\",\"PrimaryOnly\",,,\"False\",\"T\",\"EveryTick\")","v":119.734375},{"$f":"IFERROR((Z2-$G$11)/$G$11,NA())","v":1.961297071129707E-3},{"$f":"RANK(AD2,$AD$1:$AD$10)+COUNTIF($AD$1:AD2,AD2)-1","v":1},{"$f":"DATE(D2,E2,F2)","v":"2018-06-15"},{"$f":"VLOOKUP(MAX(AE2:AE81),A1:K81,11,FALSE)","v":2.4856096284667714E-3},{"$f":"IF(AND(H1<>\"\",H2<>\"\",H3=\"\"),A2,\"\")","v":""},2,{"$f":"VLOOKUP(AF2,$AB$1:$AD$10,2,FALSE)","v":"2018-06-14"},{"$f":"VLOOKUP(AF2,$AB$1:$AD$10,3,FALSE)","v":1.8353434714210803E-3},null,null,{"$f":"AG2","v":"2018-06-14"},{"$f":"AC2","v":"2018-06-15"},1,{"$f":"VLOOKUP(AK2,$AL$1:$AM$10,2,FALSE)","v":2}]
[{"$f":"A2+1","v":182},"08:10:00",{"$f":"RTD(\"cqg.rtd\",,\"StudyData\",$D$12,\"Bar\",,\"Time\",\"D\",\"-2\",,,,,\"T\")","v":"2018-06-14"},2018,6,14,{"$f":"RTD(\"cqg.rtd\",,\"StudyData\",$D$12,\"Bar\",,\"Close\",\"D\",\"-2\",,,,,\"T\")","v":119.4375},{"$f":"RTD(\"cqg.rtd\",,\"StudyData\", \"Close(\"&$D$12&\") when LocalYear(\"&$D$12&\")=\"&$D$1&\" and localMonth(\"&$D$12&\") =\"&$E$1&\" and LocalDay(\"&$D$12&\")=\"&$F$1&\" and Barix(\"&$D$12&\",reference:=StartOfSession)=\"&A3&\"\", \"Bar\", \"\", \"Close\",\"5\",\"0\",\"PrimaryOnly\",,,\"False\",\"T\",\"EveryTick\")","v":119.71875},{"$f":"IFERROR((H3-$G$2)/$G$2,NA())","v":1.0452051215050953E-3},{"$f":"RTD(\"cqg.rtd\",,\"StudyData\", \"Close(\"&$D$12&\") when LocalYear(\"&$D$12&\")=\"&$D$2&\" and localMonth(\"&$D$12&\") =\"&$E$2&\" and LocalDay(\"&$D$12&\")=\"&$F$2&\" and Barix(\"&$D$12&\",reference:=StartOfSession)=\"&A3&\"\", \"Bar\", \"\", \"Close\",\"5\",\"0\",\"PrimaryOnly\",,,\"False\",\"T\",\"EveryTick\")","v":119.75},2.6164311878597592E-3,{"$f":"RTD(\"cqg.rtd\",,\"StudyData\", \"Close(\"&$D$12&\") when LocalYear(\"&$D$12&\")=\"&$D$3&\" and localMonth(\"&$D$12&\") =\"&$E$3&\" and LocalDay(\"&$D$12&\")=\"&$F$3&\" and Barix(\"&$D$12&\",reference:=StartOfSession)=\"&A3&\"\", \"Bar\", \"\", \"Close\",\"5\",\"0\",\"PrimaryOnly\",,,\"False\",\"T\",\"EveryTick\")","v":119.390625},1.7042475091767174E-3,{"$f":"RTD(\"cqg.rtd\",,\"StudyData\", \"Close(\"&$D$12&\") when LocalYear(\"&$D$12&\")=\"&$D$4&\" and localMonth(\"&$D$12&\") =\"&$E$4&\" and LocalDay(\"&$D$12&\")=\"&$F$4&\" and Barix(\"&$D$12&\",reference:=StartOfSession)=\"&A3&\"\", \"Bar\", \"\", \"Close\",\"5\",\"0\",\"PrimaryOnly\",,,\"False\",\"T\",\"EveryTick\")","v":119.359375},-3.925673907354096E-4,{"$f":"RTD(\"cqg.rtd\",,\"StudyData\", \"Close(\"&$D$12&\") when LocalYear(\"&$D$12&\")=\"&$D$5&\" and localMonth(\"&$D$12&\") =\"&$E$5&\" and LocalDay(\"&$D$12&\")=\"&$F$5&\" and Barix(\"&$D$12&\",reference:=StartOfSession)=\"&A3&\"\", \"Bar\", \"\", \"Close\",\"5\",\"0\",\"PrimaryOnly\",,,\"False\",\"T\",\"EveryTick\")","v":119.25},-1.5698587127158557E-3,{"$f":"RTD(\"cqg.rtd\",,\"StudyData\", \"Close(\"&$D$12&\") when LocalYear(\"&$D$12&\")=\"&$D$6&\" and localMonth(\"&$D$12&\") =\"&$E$6&\" and LocalDay(\"&$D$12&\")=\"&$F$6&\" and Barix(\"&$D$12&\",reference:=StartOfSession)=\"&A3&\"\", \"Bar\", \"\", \"Close\",\"5\",\"0\",\"PrimaryOnly\",,,\"False\",\"T\",\"EveryTick\")","v":119.375},-1.8291089626339169E-3,{"$f":"RTD(\"cqg.rtd\",,\"StudyData\", \"Close(\"&$D$12&\") when LocalYear(\"&$D$12&\")=\"&$D$7&\" and localMonth(\"&$D$12&\") =\"&$E$7&\" and LocalDay(\"&$D$12&\")=\"&$F$7&\" and Barix(\"&$D$12&\",reference:=StartOfSession)=\"&A3&\"\", \"Bar\", \"\", \"Close\",\"5\",\"0\",\"PrimaryOnly\",,,\"False\",\"T\",\"EveryTick\")","v":119.5625},-2.6130128037627382E-4,{"$f":"RTD(\"cqg.rtd\",,\"StudyData\", \"Close(\"&$D$12&\") when LocalYear(\"&$D$12&\")=\"&$D$8&\" and localMonth(\"&$D$12&\") =\"&$E$8&\" and LocalDay(\"&$D$12&\")=\"&$F$8&\" and Barix(\"&$D$12&\",reference:=StartOfSession)=\"&A3&\"\", \"Bar\", \"\", \"Close\",\"5\",\"0\",\"PrimaryOnly\",,,\"False\",\"T\",\"EveryTick\")","v":119.21875},-5.2397170552790154E-4,{"$f":"RTD(\"cqg.rtd\",,\"StudyData\", \"Close(\"&$D$12&\") when LocalYear(\"&$D$12&\")=\"&$D$9&\" and localMonth(\"&$D$12&\") =\"&$E$9&\" and LocalDay(\"&$D$12&\")=\"&$F$9&\" and Barix(\"&$D$12&\",reference:=StartOfSession)=\"&A3&\"\", \"Bar\", \"\", \"Close\",\"5\",\"0\",\"PrimaryOnly\",,,\"False\",\"T\",\"EveryTick\")","v":119.46875},-1.9579689335595873E-3,{"$f":"RTD(\"cqg.rtd\",,\"StudyData\", \"Close(\"&$D$12&\") when LocalYear(\"&$D$12&\")=\"&$D$10&\" and localMonth(\"&$D$12&\") =\"&$E$10&\" and LocalDay(\"&$D$12&\")=\"&$F$10&\" and Barix(\"&$D$12&\",reference:=StartOfSession)=\"&A3&\"\", \"Bar\", \"\", \"Close\",\"5\",\"0\",\"PrimaryOnly\",,,\"False\",\"T\",\"EveryTick\")","v":119.703125},1.6997907949790796E-3,{"$f":"RANK(AD3,$AD$1:$AD$10)+COUNTIF($AD$1:AD3,AD3)-1","v":2},"2018-06-14",{"$f":"VLOOKUP(MAX(AE2:AE81),A1:M81,13,FALSE)","v":1.8353434714210803E-3},{"$f":"IF(AND(H2<>\"\",H3<>\"\",H4=\"\"),A3,\"\")","v":""},3,"2018-06-05",1.307531380753138E-3,null,null,"2018-06-05","2018-06-14",2,9]
[183,"08:15:00",{"$f":"RTD(\"cqg.rtd\",,\"StudyData\",$D$12,\"Bar\",,\"Time\",\"D\",\"-3\",,,,,\"T\")","v":"2018-06-13"},2018,6,13,{"$f":"RTD(\"cqg.rtd\",,\"StudyData\",$D$12,\"Bar\",,\"Close\",\"D\",\"-3\",,,,,\"T\")","v":119.1875},{"$f":"RTD(\"cqg.rtd\",,\"StudyData\", \"Close(\"&$D$12&\") when LocalYear(\"&$D$12&\")=\"&$D$1&\" and localMonth(\"&$D$12&\") =\"&$E$1&\" and LocalDay(\"&$D$12&\")=\"&$F$1&\" and Barix(\"&$D$12&\",reference:=StartOfSession)=\"&A4&\"\", \"Bar\", \"\", \"Close\",\"5\",\"0\",\"PrimaryOnly\",,,\"False\",\"T\",\"EveryTick\")","v":119.71875},1.0452051215050953E-3,{"$f":"RTD(\"cqg.rtd\",,\"StudyData\", \"Close(\"&$D$12&\") when LocalYear(\"&$D$12&\")=\"&$D$2&\" and localMonth(\"&$D$12&\") =\"&$E$2&\" and LocalDay(\"&$D$12&\")=\"&$F$2&\" and Barix(\"&$D$12&\",reference:=StartOfSession)=\"&A4&\"\", \"Bar\", \"\", \"Close\",\"5\",\"0\",\"PrimaryOnly\",,,\"False\",\"T\",\"EveryTick\")","v":119.765625},2.7472527472527475E-3,{"$f":"RTD(\"cqg.rtd\",,\"StudyData\", \"Close(\"&$D$12&\") when LocalYear(\"&$D$12&\")=\"&$D$3&\" and localMonth(\"&$D$12&\") =\"&$E$3&\" and LocalDay(\"&$D$12&\")=\"&$F$3&\" and Barix(\"&$D$12&\",reference:=StartOfSession)=\"&A4&\"\", \"Bar\", \"\", \"Close\",\"5\",\"0\",\"PrimaryOnly\",,,\"False\",\"T\",\"EveryTick\")","v":119.375},1.5731515469323545E-3,{"$f":"RTD(\"cqg.rtd\",,\"StudyData\", \"Close(\"&$D$12&\") when LocalYear(\"&$D$12&\")=\"&$D$4&\" and localMonth(\"&$D$12&\") =\"&$E$4&\" and LocalDay(\"&$D$12&\")=\"&$F$4&\" and Barix(\"&$D$12&\",reference:=StartOfSession)=\"&A4&\"\", \"Bar\", \"\", \"Close\",\"5\",\"0\",\"PrimaryOnly\",,,\"False\",\"T\",\"EveryTick\")","v":119.359375},-3.925673907354096E-4,{"$f":"RTD(\"cqg.rtd\",,\"StudyData\", \"Close(\"&$D$12&\") when LocalYear(\"&$D$12&\")=\"&$D$5&\" and localMonth(\"&$D$12&\") =\"&$E$5&\" and LocalDay(\"&$D$12&\")=\"&$F$5&\" and Barix(\"&$D$12&\",reference:=StartOfSession)=\"&A4&\"\", \"Bar\", \"\", \"Close\",\"5\",\"0\",\"PrimaryOnly\",,,\"False\",\"T\",\"EveryTick\")","v":119.265625},-1.4390371533228676E-3,{"$f":"RTD(\"cqg.rtd\",,\"StudyData\", \"Close(\"&$D$12&\") when LocalYear(\"&$D$12&\")=\"&$D$6&\" and localMonth(\"&$D$12&\") =\"&$E$6&\" and LocalDay(\"&$D$12&\")=\"&$F$6&\" and Barix(\"&$D$12&\",reference:=StartOfSession)=\"&A4&\"\", \"Bar\", \"\", \"Close\",\"5\",\"0\",\"PrimaryOnly\",,,\"False\",\"T\",\"EveryTick\")","v":119.359375},-1.9597596028220537E-3,{"$f":"RTD(\"cqg.rtd\",,\"StudyData\", \"Close(\"&$D$12&\") when LocalYear(\"&$D$12&\")=\"&$D$7&\" and localMonth(\"&$D$12&\") =\"&$E$7&\" and LocalDay(\"&$D$12&\")=\"&$F$7&\" and Barix(\"&$D$12&\",reference:=StartOfSession)=\"&A4&\"\", \"Bar\", \"\", \"Close\",\"5\",\"0\",\"PrimaryOnly\",,,\"False\",\"T\",\"EveryTick\")","v":119.578125},-1.3065064018813691E-4,{"$f":"RTD(\"cqg.rtd\",,\"StudyData\", \"Close(\"&$D$12&\") when LocalYear(\"&$D$12&\")=\"&$D$8&\" and localMonth(\"&$D$12&\") =\"&$E$8&\" and LocalDay(\"&$D$12&\")=\"&$F$8&\" and Barix(\"&$D$12&\",reference:=StartOfSession)=\"&A4&\"\", \"Bar\", \"\", \"Close\",\"5\",\"0\",\"PrimaryOnly\",,,\"False\",\"T\",\"EveryTick\")","v":119.234375},-3.929787791459261E-4,{"$f":"RTD(\"cqg.rtd\",,\"StudyData\", \"Close(\"&$D$12&\") when LocalYear(\"&$D$12&\")=\"&$D$9&\" and localMonth(\"&$D$12&\") =\"&$E$9&\" and LocalDay(\"&$D$12&\")=\"&$F$9&\" and Barix(\"&$D$12&\",reference:=StartOfSession)=\"&A4&\"\", \"Bar\", \"\", \"Close\",\"5\",\"0\",\"PrimaryOnly\",,,\"False\",\"T\",\"EveryTick\")","v":119.421875},-2.3495627202715051E-3,{"$f":"RTD(\"cqg.rtd\",,\"StudyData\", \"Close(\"&$D$12&\") when LocalYear(\"&$D$12&\")=\"&$D$10&\" and localMonth(\"&$D$12&\") =\"&$E$10&\" and LocalDay(\"&$D$12&\")=\"&$F$10&\" and Barix(\"&$D$12&\",reference:=StartOfSession)=\"&A4&\"\", \"Bar\", \"\", \"Close\",\"5\",\"0\",\"PrimaryOnly\",,,\"False\",\"T\",\"EveryTick\")","v":119.6875},1.5690376569037657E-3,{"$f":"RANK(AD4,$AD$1:$AD$10)+COUNTIF($AD$1:AD4,AD4)-1","v":6},"2018-06-13",{"$f":"VLOOKUP(MAX(AE2:AE81),A1:O81,15,FALSE)","v":0},"",4,"2018-06-18",9.1455448131695844E-4,null,null,"2018-06-18","2018-06-13",3,0]
[184,"08:20:00",{"$f":"RTD(\"cqg.rtd\",,\"StudyData\",$D$12,\"Bar\",,\"Time\",\"D\",\"-4\",,,,,\"T\")","v":"2018-06-12"},2018,6,12,{"$f":"RTD(\"cqg.rtd\",,\"StudyData\",$D$12,\"Bar\",,\"Close\",\"D\",\"-4\",,,,,\"T\")","v":119.40625},{"$f":"RTD(\"cqg.rtd\",,\"StudyData\", \"Close(\"&$D$12&\") when LocalYear(\"&$D$12&\")=\"&$D$1&\" and localMonth(\"&$D$12&\") =\"&$E$1&\" and LocalDay(\"&$D$12&\")=\"&$F$1&\" and Barix(\"&$D$12&\",reference:=StartOfSession)=\"&A5&\"\", \"Bar\", \"\", \"Close\",\"5\",\"0\",\"PrimaryOnly\",,,\"False\",\"T\",\"EveryTick\")","v":119.703125},9.1455448131695844E-4,{"$f":"RTD(\"cqg.rtd\",,\"StudyData\", \"Close(\"&$D$12&\") when LocalYear(\"&$D$12&\")=\"&$D$2&\" and localMonth(\"&$D$12&\") =\"&$E$2&\" and LocalDay(\"&$D$12&\")=\"&$F$2&\" and Barix(\"&$D$12&\",reference:=StartOfSession)=\"&A5&\"\", \"Bar\", \"\", \"Close\",\"5\",\"0\",\"PrimaryOnly\",,,\"False\",\"T\",\"EveryTick\")","v":119.734375},2.4856096284667714E-3,{"$f":"RTD(\"cqg.rtd\",,\"StudyData\", \"Close(\"&$D$12&\") when LocalYear(\"&$D$12&\")=\"&$D$3&\" and localMonth(\"&$D$12&\") =\"&$E$3&\" and LocalDay(\"&$D$12&\")=\"&$F$3&\" and Barix(\"&$D$12&\",reference:=StartOfSession)=\"&A5&\"\", \"Bar\", \"\", \"Close\",\"5\",\"0\",\"PrimaryOnly\",,,\"False\",\"T\",\"EveryTick\")","v":119.421875},1.9664394336654429E-3,{"$f":"RTD(\"cqg.rtd\",,\"StudyData\", \"Close(\"&$D$12&\") when LocalYear(\"&$D$12&\")=\"&$D$4&\" and localMonth(\"&$D$12&\") =\"&$E$4&\" and LocalDay(\"&$D$12&\")=\"&$F$4&\" and Barix(\"&$D$12&\",reference:=StartOfSession)=\"&A5&\"\", \"Bar\", \"\", \"Close\",\"5\",\"0\",\"PrimaryOnly\",,,\"False\",\"T\",\"EveryTick\")","v":119.375},-2.6171159382360636E-4,{"$f":"RTD(\"cqg.rtd\",,\"StudyData\", \"Close(\"&$D$12&\") when LocalYear(\"&$D$12&\")=\"&$D$5&\" and localMonth(\"&$D$12&\") =\"&$E$5&\" and LocalDay(\"&$D$12&\")=\"&$F$5&\" and Barix(\"&$D$12&\",reference:=StartOfSession)=\"&A5&\"\", \"Bar\", \"\", \"Close\",\"5\",\"0\",\"PrimaryOnly\",,,\"False\",\"T\",\"EveryTick\")","v":119.28125},-1.3082155939298796E-3,{"$f":"RTD(\"cqg.rtd\",,\"StudyData\", \"Close(\"&$D$12&\") when LocalYear(\"&$D$12&\")=\"&$D$6&\" and localMonth(\"&$D$12&\") =\"&$E$6&\" and LocalDay(\"&$D$12&\")=\"&$F$6&\" and Barix(\"&$D$12&\",reference:=StartOfSession)=\"&A5&\"\", \"Bar\", \"\", \"Close\",\"5\",\"0\",\"PrimaryOnly\",,,\"False\",\"T\",\"EveryTick\")","v":119.390625},-1.6984583224457801E-3,{"$f":"RTD(\"cqg.rtd\",,\"StudyData\", \"Close(\"&$D$12&\") when LocalYear(\"&$D$12&\")=\"&$D$7&\" and localMonth(\"&$D$12&\") =\"&$E$7&\" and LocalDay(\"&$D$12&\")=\"&$F$7&\" and Barix(\"&$D$12&\",reference:=StartOfSession)=\"&A5&\"\", \"Bar\", \"\", \"Close\",\"5\",\"0\",\"PrimaryOnly\",,,\"False\",\"T\",\"EveryTick\")","v":119.59375},0,{"$f":"RTD(\"cqg.rtd\",,\"StudyData\", \"Close(\"&$D$12&\") when LocalYear(\"&$D$12&\")=\"&$D$8&\" and localMonth(\"&$D$12&\") =\"&$E$8&\" and LocalDay(\"&$D$12&\")=\"&$F$8&\" and Barix(\"&$D$12&\",reference:=StartOfSession)=\"&A5&\"\", \"Bar\", \"\", \"Close\",\"5\",\"0\",\"PrimaryOnly\",,,\"False\",\"T\",\"EveryTick\")","v":119.265625},-1.3099292638197538E-4,{"$f":"RTD(\"cqg.rtd\",,\"StudyData\", \"Close(\"&$D$12&\") when LocalYear(\"&$D$12&\")=\"&$D$9&\" and localMonth(\"&$D$12&\") =\"&$E$9&\" and LocalDay(\"&$D$12&\")=\"&$F$9&\" and Barix(\"&$D$12&\",reference:=StartOfSession)=\"&A5&\"\", \"Bar\", \"\", \"Close\",\"5\",\"0\",\"PrimaryOnly\",,,\"False\",\"T\",\"EveryTick\")","v":119.453125},-2.0885001957968935E-3,{"$f":"RTD(\"cqg.rtd\",,\"StudyData\", \"Close(\"&$D$12&\") when LocalYear(\"&$D$12&\")=\"&$D$10&\" and localMonth(\"&$D$12&\") =\"&$E$10&\" and LocalDay(\"&$D$12&\")=\"&$F$10&\" and Barix(\"&$D$12&\",reference:=StartOfSession)=\"&A5&\"\", \"Bar\", \"\", \"Close\",\"5\",\"0\",\"PrimaryOnly\",,,\"False\",\"T\",\"EveryTick\")","v":119.6875},1.5690376569037657E-3,{"$f":"RANK(AD5,$AD$1:$AD$10)+COUNTIF($AD$1:AD5,AD5)-1","v":8},"2018-06-12",{"$f":"VLOOKUP(MAX(AE2:AE81),A1:Q81,17,FALSE)","v":-1.0465724751439038E-3},"",5,"2018-06-08",1.3065064018813691E-4,null,null,"2018-06-08","2018-06-12",4,6]
[185,"08:25:00",{"$f":"RTD(\"cqg.rtd\",,\"StudyData\",$D$12,\"Bar\",,\"Time\",\"D\",\"-5\",,,,,\"T\")","v":"2018-06-11"},2018,6,11,{"$f":"RTD(\"cqg.rtd\",,\"StudyData\",$D$12,\"Bar\",,\"Close\",\"D\",\"-5\",,,,,\"T\")","v":119.4375},{"$f":"RTD(\"cqg.rtd\",,\"StudyData\", \"Close(\"&$D$12&\") when LocalYear(\"&$D$12&\")=\"&$D$1&\" and localMonth(\"&$D$12&\") =\"&$E$1&\" and LocalDay(\"&$D$12&\")=\"&$F$1&\" and Barix(\"&$D$12&\",reference:=StartOfSession)=\"&A6&\"\", \"Bar\", \"\", \"Close\",\"5\",\"0\",\"PrimaryOnly\",,,\"False\",\"T\",\"EveryTick\")","v":119.703125},9.1455448131695844E-4,{"$f":"RTD(\"cqg.rtd\",,\"StudyData\", \"Close(\"&$D$12&\") when LocalYear(\"&$D$12&\")=\"&$D$2&\" and localMonth(\"&$D$12&\") =\"&$E$2&\" and LocalDay(\"&$D$12&\")=\"&$F$2&\" and Barix(\"&$D$12&\",reference:=StartOfSession)=\"&A6&\"\", \"Bar\", \"\", \"Close\",\"5\",\"0\",\"PrimaryOnly\",,,\"False\",\"T\",\"EveryTick\")","v":119.734375},2.4856096284667714E-3,{"$f":"RTD(\"cqg.rtd\",,\"StudyData\", \"Close(\"&$D$12&\") when LocalYear(\"&$D$12&\")=\"&$D$3&\" and localMonth(\"&$D$12&\") =\"&$E$3&\" and LocalDay(\"&$D$12&\")=\"&$F$3&\" and Barix(\"&$D$12&\",reference:=StartOfSession)=\"&A6&\"\", \"Bar\", \"\", \"Close\",\"5\",\"0\",\"PrimaryOnly\",,,\"False\",\"T\",\"EveryTick\")","v":119.375},1.5731515469323545E-3,{"$f":"RTD(\"cqg.rtd\",,\"StudyData\", \"Close(\"&$D$12&\") when LocalYear(\"&$D$12&\")=\"&$D$4&\" and localMonth(\"&$D$12&\") =\"&$E$4&\" and LocalDay(\"&$D$12&\")=\"&$F$4&\" and Barix(\"&$D$12&\",reference:=StartOfSession)=\"&A6&\"\", \"Bar\", \"\", \"Close\",\"5\",\"0\",\"PrimaryOnly\",,,\"False\",\"T\",\"EveryTick\")","v":119.375},-2.6171159382360636E-4,{"$f":"RTD(\"cqg.rtd\",,\"StudyData\", \"Close(\"&$D$12&\") when LocalYear(\"&$D$12&\")=\"&$D$5&\" and localMonth(\"&$D$12&\") =\"&$E$5&\" and LocalDay(\"&$D$12&\")=\"&$F$5&\" and Barix(\"&$D$12&\",reference:=StartOfSession)=\"&A6&\"\", \"Bar\", \"\", \"Close\",\"5\",\"0\",\"PrimaryOnly\",,,\"False\",\"T\",\"EveryTick\")","v":119.28125},-1.3082155939298796E-3,{"$f":"RTD(\"cqg.rtd\",,\"StudyData\", \"Close(\"&$D$12&\") when LocalYear(\"&$D$12&\")=\"&$D$6&\" and localMonth(\"&$D$12&\") =\"&$E$6&\" and LocalDay(\"&$D$12&\")=\"&$F$6&\" and Barix(\"&$D$12&\",reference:=StartOfSession)=\"&A6&\"\", \"Bar\", \"\", \"Close\",\"5\",\"0\",\"PrimaryOnly\",,,\"False\",\"T\",\"EveryTick\")","v":119.375},-1.8291089626339169E-3,{"$f":"RTD(\"cqg.rtd\",,\"StudyData\", \"Close(\"&$D$12&\") when LocalYear(\"&$D$12&\")=\"&$D$7&\" and localMonth(\"&$D$12&\") =\"&$E$7&\" and LocalDay(\"&$D$12&\")=\"&$F$7&\" and Barix(\"&$D$12&\",reference:=StartOfSession)=\"&A6&\"\", \"Bar\", \"\", \"Close\",\"5\",\"0\",\"PrimaryOnly\",,,\"False\",\"T\",\"EveryTick\")","v":119.5625},-2.6130128037627382E-4,{"$f":"RTD(\"cqg.rtd\",,\"StudyData\", \"Close(\"&$D$12&\") when LocalYear(\"&$D$12&\")=\"&$D$8&\" and localMonth(\"&$D$12&\") =\"&$E$8&\" and LocalDay(\"&$D$12&\")=\"&$F$8&\" and Barix(\"&$D$12&\",reference:=StartOfSession)=\"&A6&\"\", \"Bar\", \"\", \"Close\",\"5\",\"0\",\"PrimaryOnly\",,,\"False\",\"T\",\"EveryTick\")","v":119.25},-2.6198585276395077E-4,{"$f":"RTD(\"cqg.rtd\",,\"StudyData\", \"Close(\"&$D$12&\") when LocalYear(\"&$D$12&\")=\"&$D$9&\" and localMonth(\"&$D$12&\") =\"&$E$9&\" and LocalDay(\"&$D$12&\")=\"&$F$9&\" and Barix(\"&$D$12&\",reference:=StartOfSession)=\"&A6&\"\", \"Bar\", \"\", \"Close\",\"5\",\"0\",\"PrimaryOnly\",,,\"False\",\"T\",\"EveryTick\")","v":119.453125},-2.0885001957968935E-3,{"$f":"RTD(\"cqg.rtd\",,\"StudyData\", \"Close(\"&$D$12&\") when LocalYear(\"&$D$12&\")=\"&$D$10&\" and localMonth(\"&$D$12&\") =\"&$E$10&\" and LocalDay(\"&$D$12&\")=\"&$F$10&\" and Barix(\"&$D$12&\",reference:=StartOfSession)=\"&A6&\"\", \"Bar\", \"\", \"Close\",\"5\",\"0\",\"PrimaryOnly\",,,\"False\",\"T\",\"EveryTick\")","v":119.6875},1.5690376569037657E-3,{"$f":"RANK(AD6,$AD$1:$AD$10)+COUNTIF($AD$1:AD6,AD6)-1","v":9},"2018-06-11",{"$f":"VLOOKUP(MAX(AE2:AE81),A1:S81,19,FALSE)","v":-1.8291089626339169E-3},"",6,"2018-06-13",0,null,null,"2018-06-13","2018-06-11",5,3]
[186,"08:30:00",{"$f":"RTD(\"cqg.rtd\",,\"StudyData\",$D$12,\"Bar\",,\"Time\",\"D\",\"-6\",,,,,\"T\")","v":"2018-06-08"},2018,6,8,{"$f":"RTD(\"cqg.rtd\",,\"StudyData\",$D$12,\"Bar\",,\"Close\",\"D\",\"-6\",,,,,\"T\")","v":119.59375},{"$f":"RTD(\"cqg.rtd\",,\"StudyData\", \"Close(\"&$D$12&\") when LocalYear(\"&$D$12&\")=\"&$D$1&\" and localMonth(\"&$D$12&\") =\"&$E$1&\" and LocalDay(\"&$D$12&\")=\"&$F$1&\" and Barix(\"&$D$12&\",reference:=StartOfSession)=\"&A7&\"\", \"Bar\", \"\", \"Close\",\"5\",\"0\",\"PrimaryOnly\",,,\"False\",\"T\",\"EveryTick\")","v":119.703125},9.1455448131695844E-4,{"$f":"RTD(\"cqg.rtd\",,\"StudyData\", \"Close(\"&$D$12&\") when LocalYear(\"&$D$12&\")=\"&$D$2&\" and localMonth(\"&$D$12&\") =\"&$E$2&\" and LocalDay(\"&$D$12&\")=\"&$F$2&\" and Barix(\"&$D$12&\",reference:=StartOfSession)=\"&A7&\"\", \"Bar\", \"\", \"Close\",\"5\",\"0\",\"PrimaryOnly\",,,\"False\",\"T\",\"EveryTick\")","v":119.734375},2.4856096284667714E-3,{"$f":"RTD(\"cqg.rtd\",,\"StudyData\", \"Close(\"&$D$12&\") when LocalYear(\"&$D$12&\")=\"&$D$3&\" and localMonth(\"&$D$12&\") =\"&$E$3&\" and LocalDay(\"&$D$12&\")=\"&$F$3&\" and Barix(\"&$D$12&\",reference:=StartOfSession)=\"&A7&\"\", \"Bar\", \"\", \"Close\",\"5\",\"0\",\"PrimaryOnly\",,,\"False\",\"T\",\"EveryTick\")","v":119.40625},1.8353434714210803E-3,{"$f":"RTD(\"cqg.rtd\",,\"StudyData\", \"Close(\"&$D$12&\") when LocalYear(\"&$D$12&\")=\"&$D$4&\" and localMonth(\"&$D$12&\") =\"&$E$4&\" and LocalDay(\"&$D$12&\")=\"&$F$4&\" and Barix(\"&$D$12&\",reference:=StartOfSession)=\"&A7&\"\", \"Bar\", \"\", \"Close\",\"5\",\"0\",\"PrimaryOnly\",,,\"False\",\"T\",\"EveryTick\")","v":119.40625},0,{"$f":"RTD(\"cqg.rtd\",,\"StudyData\", \"Close(\"&$D$12&\") when LocalYear(\"&$D$12&\")=\"&$D$5&\" and localMonth(\"&$D$12&\") =\"&$E$5&\" and LocalDay(\"&$D$12&\")=\"&$F$5&\" and Barix(\"&$D$12&\",reference:=StartOfSession)=\"&A7&\"\", \"Bar\", \"\", \"Close\",\"5\",\"0\",\"PrimaryOnly\",,,\"False\",\"T\",\"EveryTick\")","v":119.3125},-1.0465724751439038E-3,{"$f":"RTD(\"cqg.rtd\",,\"StudyData\", \"Close(\"&$D$12&\") when LocalYear(\"&$D$12&\")=\"&$D$6&\" and localMonth(\"&$D$12&\") =\"&$E$6&\" and LocalDay(\"&$D$12&\")=\"&$F$6&\" and Barix(\"&$D$12&\",reference:=StartOfSession)=\"&A7&\"\", \"Bar\", \"\", \"Close\",\"5\",\"0\",\"PrimaryOnly\",,,\"False\",\"T\",\"EveryTick\")","v":119.375},-1.8291089626339169E-3,{"$f":"RTD(\"cqg.rtd\",,\"StudyData\", \"Close(\"&$D$12&\") when LocalYear(\"&$D$12&\")=\"&$D$7&\" and localMonth(\"&$D$12&\") =\"&$E$7&\" and LocalDay(\"&$D$12&\")=\"&$F$7&\" and Barix(\"&$D$12&\",reference:=StartOfSession)=\"&A7&\"\", \"Bar\", \"\", \"Close\",\"5\",\"0\",\"PrimaryOnly\",,,\"False\",\"T\",\"EveryTick\")","v":119.609375},1.3065064018813691E-4,{"$f":"RTD(\"cqg.rtd\",,\"StudyData\", \"Close(\"&$D$12&\") when LocalYear(\"&$D$12&\")=\"&$D$8&\" and localMonth(\"&$D$12&\") =\"&$E$8&\" and LocalDay(\"&$D$12&\")=\"&$F$8&\" and Barix(\"&$D$12&\",reference:=StartOfSession)=\"&A7&\"\", \"Bar\", \"\", \"Close\",\"5\",\"0\",\"PrimaryOnly\",,,\"False\",\"T\",\"EveryTick\")","v":119.28125},0,{"$f":"RTD(\"cqg.rtd\",,\"StudyData\", \"Close(\"&$D$12&\") when LocalYear(\"&$D$12&\")=\"&$D$9&\" and localMonth(\"&$D$12&\") =\"&$E$9&\" and LocalDay(\"&$D$12&\")=\"&$F$9&\" and Barix(\"&$D$12&\",reference:=StartOfSession)=\"&A7&\"\", \"Bar\", \"\", \"Close\",\"5\",\"0\",\"PrimaryOnly\",,,\"False\",\"T\",\"EveryTick\")","v":119.4375},-2.2190314580341993E-3,{"$f":"RTD(\"cqg.rtd\",,\"StudyData\", \"Close(\"&$D$12&\") when LocalYear(\"&$D$12&\")=\"&$D$10&\" and localMonth(\"&$D$12&\") =\"&$E$10&\" and LocalDay(\"&$D$12&\")=\"&$F$10&\" and Barix(\"&$D$12&\",reference:=StartOfSession)=\"&A7&\"\", \"Bar\", \"\", \"Close\",\"5\",\"0\",\"PrimaryOnly\",,,\"False\",\"T\",\"EveryTick\")","v":119.65625},1.307531380753138E-3,{"$f":"RANK(AD7,$AD$1:$AD$10)+COUNTIF($AD$1:AD7,AD7)-1","v":5},"2018-06-08",{"$f":"VLOOKUP(MAX(AE2:AE81),A1:U81,21,FALSE)","v":1.3065064018813691E-4},186,7,"2018-06-07",0,null,null,"2018-06-07","2018-06-08",6,7]
[187,"08:35:00",{"$f":"RTD(\"cqg.rtd\",,\"StudyData\",$D$12,\"Bar\",,\"Time\",\"D\",\"-7\",,,,,\"T\")","v":"2018-06-07"},2018,6,7,{"$f":"RTD(\"cqg.rtd\",,\"StudyData\",$D$12,\"Bar\",,\"Close\",\"D\",\"-7\",,,,,\"T\")","v":119.59375},{"$f":"RTD(\"cqg.rtd\",,\"StudyData\", \"Close(\"&$D$12&\") when LocalYear(\"&$D$12&\")=\"&$D$1&\" and localMonth(\"&$D$12&\") =\"&$E$1&\" and LocalDay(\"&$D$12&\")=\"&$F$1&\" and Barix(\"&$D$12&\",reference:=StartOfSession)=\"&A8&\"\", \"Bar\", \"\", \"Close\",\"5\",\"0\",\"PrimaryOnly\",,,\"False\",\"T\",\"EveryTick\")","v":""},{"$error":"#N/A"},{"$f":"RTD(\"cqg.rtd\",,\"StudyData\", \"Close(\"&$D$12&\") when LocalYear(\"&$D$12&\")=\"&$D$2&\" and localMonth(\"&$D$12&\") =\"&$E$2&\" and LocalDay(\"&$D$12&\")=\"&$F$2&\" and Barix(\"&$D$12&\",reference:=StartOfSession)=\"&A8&\"\", \"Bar\", \"\", \"Close\",\"5\",\"0\",\"PrimaryOnly\",,,\"False\",\"T\",\"EveryTick\")","v":119.71875},2.3547880690737832E-3,{"$f":"RTD(\"cqg.rtd\",,\"StudyData\", \"Close(\"&$D$12&\") when LocalYear(\"&$D$12&\")=\"&$D$3&\" and localMonth(\"&$D$12&\") =\"&$E$3&\" and LocalDay(\"&$D$12&\")=\"&$F$3&\" and Barix(\"&$D$12&\",reference:=StartOfSession)=\"&A8&\"\", \"Bar\", \"\", \"Close\",\"5\",\"0\",\"PrimaryOnly\",,,\"False\",\"T\",\"EveryTick\")","v":119.421875},1.9664394336654429E-3,{"$f":"RTD(\"cqg.rtd\",,\"StudyData\", \"Close(\"&$D$12&\") when LocalYear(\"&$D$12&\")=\"&$D$4&\" and localMonth(\"&$D$12&\") =\"&$E$4&\" and LocalDay(\"&$D$12&\")=\"&$F$4&\" and Barix(\"&$D$12&\",reference:=StartOfSession)=\"&A8&\"\", \"Bar\", \"\", \"Close\",\"5\",\"0\",\"PrimaryOnly\",,,\"False\",\"T\",\"EveryTick\")","v":119.375},-2.6171159382360636E-4,{"$f":"RTD(\"cqg.rtd\",,\"StudyData\", \"Close(\"&$D$12&\") when LocalYear(\"&$D$12&\")=\"&$D$5&\" and localMonth(\"&$D$12&\") =\"&$E$5&\" and LocalDay(\"&$D$12&\")=\"&$F$5&\" and Barix(\"&$D$12&\",reference:=StartOfSession)=\"&A8&\"\", \"Bar\", \"\", \"Close\",\"5\",\"0\",\"PrimaryOnly\",,,\"False\",\"T\",\"EveryTick\")","v":119.328125},-9.1575091575091575E-4,{"$f":"RTD(\"cqg.rtd\",,\"StudyData\", \"Close(\"&$D$12&\") when LocalYear(\"&$D$12&\")=\"&$D$6&\" and localMonth(\"&$D$12&\") =\"&$E$6&\" and LocalDay(\"&$D$12&\")=\"&$F$6&\" and Barix(\"&$D$12&\",reference:=StartOfSession)=\"&A8&\"\", \"Bar\", \"\", \"Close\",\"5\",\"0\",\"PrimaryOnly\",,,\"False\",\"T\",\"EveryTick\")","v":119.390625},-1.6984583224457801E-3,{"$f":"RTD(\"cqg.rtd\",,\"StudyData\", \"Close(\"&$D$12&\") when LocalYear(\"&$D$12&\")=\"&$D$7&\" and localMonth(\"&$D$12&\") =\"&$E$7&\" and LocalDay(\"&$D$12&\")=\"&$F$7&\" and Barix(\"&$D$12&\",reference:=StartOfSession)=\"&A8&\"\", \"Bar\", \"\", \"Close\",\"5\",\"0\",\"PrimaryOnly\",,,\"False\",\"T\",\"EveryTick\")","v":119.640625},3.9195192056441075E-4,{"$f":"RTD(\"cqg.rtd\",,\"StudyData\", \"Close(\"&$D$12&\") when LocalYear(\"&$D$12&\")=\"&$D$8&\" and localMonth(\"&$D$12&\") =\"&$E$8&\" and LocalDay(\"&$D$12&\")=\"&$F$8&\" and Barix(\"&$D$12&\",reference:=StartOfSession)=\"&A8&\"\", \"Bar\", \"\", \"Close\",\"5\",\"0\",\"PrimaryOnly\",,,\"False\",\"T\",\"EveryTick\")","v":119.3125},2.6198585276395077E-4,{"$f":"RTD(\"cqg.rtd\",,\"StudyData\", \"Close(\"&$D$12&\") when LocalYear(\"&$D$12&\")=\"&$D$9&\" and localMonth(\"&$D$12&\") =\"&$E$9&\" and LocalDay(\"&$D$12&\")=\"&$F$9&\" and Barix(\"&$D$12&\",reference:=StartOfSession)=\"&A8&\"\", \"Bar\", \"\", \"Close\",\"5\",\"0\",\"PrimaryOnly\",,,\"False\",\"T\",\"EveryTick\")","v":119.421875},-2.3495627202715051E-3,{"$f":"RTD(\"cqg.rtd\",,\"StudyData\", \"Close(\"&$D$12&\") when LocalYear(\"&$D$12&\")=\"&$D$10&\" and localMonth(\"&$D$12&\") =\"&$E$10&\" and LocalDay(\"&$D$12&\")=\"&$F$10&\" and Barix(\"&$D$12&\",reference:=StartOfSession)=\"&A8&\"\", \"Bar\", \"\", \"Close\",\"5\",\"0\",\"PrimaryOnly\",,,\"False\",\"T\",\"EveryTick\")","v":119.640625},1.1767782426778243E-3,{"$f":"RANK(AD8,$AD$1:$AD$10)+COUNTIF($AD$1:AD8,AD8)-1","v":7},"2018-06-07",{"$f":"VLOOKUP(MAX(AE2:AE81),A1:W81,23,FALSE)","v":0},"",8,{"$f":"VLOOKUP(AF8,$AB$1:$AD$10,2,FALSE)","v":"2018-06-12"},-1.0465724751439038E-3,null,null,"2018-06-12","2018-06-07",7,4]
[188,"08:40:00",{"$f":"RTD(\"cqg.rtd\",,\"StudyData\",$D$12,\"Bar\",,\"Time\",\"D\",\"-8\",,,,,\"T\")","v":"2018-06-06"},2018,6,6,{"$f":"RTD(\"cqg.rtd\",,\"StudyData\",$D$12,\"Bar\",,\"Close\",\"D\",\"-8\",,,,,\"T\")","v":119.28125},{"$f":"RTD(\"cqg.rtd\",,\"StudyData\", \"Close(\"&$D$12&\") when LocalYear(\"&$D$12&\")=\"&$D$1&\" and localMonth(\"&$D$12&\") =\"&$E$1&\" and LocalDay(\"&$D$12&\")=\"&$F$1&\" and Barix(\"&$D$12&\",reference:=StartOfSession)=\"&A9&\"\", \"Bar\", \"\", \"Close\",\"5\",\"0\",\"PrimaryOnly\",,,\"False\",\"T\",\"EveryTick\")","v":""},{"$error":"#N/A"},{"$f":"RTD(\"cqg.rtd\",,\"StudyData\", \"Close(\"&$D$12&\") when LocalYear(\"&$D$12&\")=\"&$D$2&\" and localMonth(\"&$D$12&\") =\"&$E$2&\" and LocalDay(\"&$D$12&\")=\"&$F$2&\" and Barix(\"&$D$12&\",reference:=StartOfSession)=\"&A9&\"\", \"Bar\", \"\", \"Close\",\"5\",\"0\",\"PrimaryOnly\",,,\"False\",\"T\",\"EveryTick\")","v":119.75},2.6164311878597592E-3,{"$f":"RTD(\"cqg.rtd\",,\"StudyData\", \"Close(\"&$D$12&\") when LocalYear(\"&$D$12&\")=\"&$D$3&\" and localMonth(\"&$D$12&\") =\"&$E$3&\" and LocalDay(\"&$D$12&\")=\"&$F$3&\" and Barix(\"&$D$12&\",reference:=StartOfSession)=\"&A9&\"\", \"Bar\", \"\", \"Close\",\"5\",\"0\",\"PrimaryOnly\",,,\"False\",\"T\",\"EveryTick\")","v":119.34375},1.3109596224436288E-3,{"$f":"RTD(\"cqg.rtd\",,\"StudyData\", \"Close(\"&$D$12&\") when LocalYear(\"&$D$12&\")=\"&$D$4&\" and localMonth(\"&$D$12&\") =\"&$E$4&\" and LocalDay(\"&$D$12&\")=\"&$F$4&\" and Barix(\"&$D$12&\",reference:=StartOfSession)=\"&A9&\"\", \"Bar\", \"\", \"Close\",\"5\",\"0\",\"PrimaryOnly\",,,\"False\",\"T\",\"EveryTick\")","v":119.390625},-1.3085579691180318E-4,{"$f":"RTD(\"cqg.rtd\",,\"StudyData\", \"Close(\"&$D$12&\") when LocalYear(\"&$D$12&\")=\"&$D$5&\" and localMonth(\"&$D$12&\") =\"&$E$5&\" and LocalDay(\"&$D$12&\")=\"&$F$5&\" and Barix(\"&$D$12&\",reference:=StartOfSession)=\"&A9&\"\", \"Bar\", \"\", \"Close\",\"5\",\"0\",\"PrimaryOnly\",,,\"False\",\"T\",\"EveryTick\")","v":119.359375},-6.5410779696493981E-4,{"$f":"RTD(\"cqg.rtd\",,\"StudyData\", \"Close(\"&$D$12&\") when LocalYear(\"&$D$12&\")=\"&$D$6&\" and localMonth(\"&$D$12&\") =\"&$E$6&\" and LocalDay(\"&$D$12&\")=\"&$F$6&\" and Barix(\"&$D$12&\",reference:=StartOfSession)=\"&A9&\"\", \"Bar\", \"\", \"Close\",\"5\",\"0\",\"PrimaryOnly\",,,\"False\",\"T\",\"EveryTick\")","v":119.40625},-1.567807682257643E-3,{"$f":"RTD(\"cqg.rtd\",,\"StudyData\", \"Close(\"&$D$12&\") when LocalYear(\"&$D$12&\")=\"&$D$7&\" and localMonth(\"&$D$12&\") =\"&$E$7&\" and LocalDay(\"&$D$12&\")=\"&$F$7&\" and Barix(\"&$D$12&\",reference:=StartOfSession)=\"&A9&\"\", \"Bar\", \"\", \"Close\",\"5\",\"0\",\"PrimaryOnly\",,,\"False\",\"T\",\"EveryTick\")","v":119.640625},3.9195192056441075E-4,{"$f":"RTD(\"cqg.rtd\",,\"StudyData\", \"Close(\"&$D$12&\") when LocalYear(\"&$D$12&\")=\"&$D$8&\" and localMonth(\"&$D$12&\") =\"&$E$8&\" and LocalDay(\"&$D$12&\")=\"&$F$8&\" and Barix(\"&$D$12&\",reference:=StartOfSession)=\"&A9&\"\", \"Bar\", \"\", \"Close\",\"5\",\"0\",\"PrimaryOnly\",,,\"False\",\"T\",\"EveryTick\")","v":119.3125},2.6198585276395077E-4,{"$f":"RTD(\"cqg.rtd\",,\"StudyData\", \"Close(\"&$D$12&\") when LocalYear(\"&$D$12&\")=\"&$D$9&\" and localMonth(\"&$D$12&\") =\"&$E$9&\" and LocalDay(\"&$D$12&\")=\"&$F$9&\" and Barix(\"&$D$12&\",reference:=StartOfSession)=\"&A9&\"\", \"Bar\", \"\", \"Close\",\"5\",\"0\",\"PrimaryOnly\",,,\"False\",\"T\",\"EveryTick\")","v":119.40625},-2.4800939825088109E-3,{"$f":"RTD(\"cqg.rtd\",,\"StudyData\", \"Close(\"&$D$12&\") when LocalYear(\"&$D$12&\")=\"&$D$10&\" and localMonth(\"&$D$12&\") =\"&$E$10&\" and LocalDay(\"&$D$12&\")=\"&$F$10&\" and Barix(\"&$D$12&\",reference:=StartOfSession)=\"&A9&\"\", \"Bar\", \"\", \"Close\",\"5\",\"0\",\"PrimaryOnly\",,,\"False\",\"T\",\"EveryTick\")","v":119.640625},1.1767782426778243E-3,{"$f":"RANK(AD9,$AD$1:$AD$10)+COUNTIF($AD$1:AD9,AD9)-1","v":10},"2018-06-06",{"$f":"VLOOKUP(MAX(AE2:AE81),A1:Y81,25,FALSE)","v":-2.2190314580341993E-3},"",9,"2018-06-11",-1.8291089626339169E-3,null,null,"2018-06-11","2018-06-06",8,5]
[189,"08:45:00",{"$f":"RTD(\"cqg.rtd\",,\"StudyData\",$D$12,\"Bar\",,\"Time\",\"D\",\"-9\",,,,,\"T\")","v":"2018-06-05"},2018,6,5,{"$f":"RTD(\"cqg.rtd\",,\"StudyData\",$D$12,\"Bar\",,\"Close\",\"D\",\"-9\",,,,,\"T\")","v":119.703125},{"$f":"RTD(\"cqg.rtd\",,\"StudyData\", \"Close(\"&$D$12&\") when LocalYear(\"&$D$12&\")=\"&$D$1&\" and localMonth(\"&$D$12&\") =\"&$E$1&\" and LocalDay(\"&$D$12&\")=\"&$F$1&\" and Barix(\"&$D$12&\",reference:=StartOfSession)=\"&A10&\"\", \"Bar\", \"\", \"Close\",\"5\",\"0\",\"PrimaryOnly\",,,\"False\",\"T\",\"EveryTick\")","v":""},{"$error":"#N/A"},{"$f":"RTD(\"cqg.rtd\",,\"StudyData\", \"Close(\"&$D$12&\") when LocalYear(\"&$D$12&\")=\"&$D$2&\" and localMonth(\"&$D$12&\") =\"&$E$2&\" and LocalDay(\"&$D$12&\")=\"&$F$2&\" and Barix(\"&$D$12&\",reference:=StartOfSession)=\"&A10&\"\", \"Bar\", \"\", \"Close\",\"5\",\"0\",\"PrimaryOnly\",,,\"False\",\"T\",\"EveryTick\")","v":119.71875},2.3547880690737832E-3,{"$f":"RTD(\"cqg.rtd\",,\"StudyData\", \"Close(\"&$D$12&\") when LocalYear(\"&$D$12&\")=\"&$D$3&\" and localMonth(\"&$D$12&\") =\"&$E$3&\" and LocalDay(\"&$D$12&\")=\"&$F$3&\" and Barix(\"&$D$12&\",reference:=StartOfSession)=\"&A10&\"\", \"Bar\", \"\", \"Close\",\"5\",\"0\",\"PrimaryOnly\",,,\"False\",\"T\",\"EveryTick\")","v":119.3125},1.048767697954903E-3,{"$f":"RTD(\"cqg.rtd\",,\"StudyData\", \"Close(\"&$D$12&\") when LocalYear(\"&$D$12&\")=\"&$D$4&\" and localMonth(\"&$D$12&\") =\"&$E$4&\" and LocalDay(\"&$D$12&\")=\"&$F$4&\" and Barix(\"&$D$12&\",reference:=StartOfSession)=\"&A10&\"\", \"Bar\", \"\", \"Close\",\"5\",\"0\",\"PrimaryOnly\",,,\"False\",\"T\",\"EveryTick\")","v":119.390625},-1.3085579691180318E-4,{"$f":"RTD(\"cqg.rtd\",,\"StudyData\", \"Close(\"&$D$12&\") when LocalYear(\"&$D$12&\")=\"&$D$5&\" and localMonth(\"&$D$12&\") =\"&$E$5&\" and LocalDay(\"&$D$12&\")=\"&$F$5&\" and Barix(\"&$D$12&\",reference:=StartOfSession)=\"&A10&\"\", \"Bar\", \"\", \"Close\",\"5\",\"0\",\"PrimaryOnly\",,,\"False\",\"T\",\"EveryTick\")","v":119.359375},-6.5410779696493981E-4,{"$f":"RTD(\"cqg.rtd\",,\"StudyData\", \"Close(\"&$D$12&\") when LocalYear(\"&$D$12&\")=\"&$D$6&\" and localMonth(\"&$D$12&\") =\"&$E$6&\" and LocalDay(\"&$D$12&\")=\"&$F$6&\" and Barix(\"&$D$12&\",reference:=StartOfSession)=\"&A10&\"\", \"Bar\", \"\", \"Close\",\"5\",\"0\",\"PrimaryOnly\",,,\"False\",\"T\",\"EveryTick\")","v":119.40625},-1.567807682257643E-3,{"$f":"RTD(\"cqg.rtd\",,\"StudyData\", \"Close(\"&$D$12&\") when LocalYear(\"&$D$12&\")=\"&$D$7&\" and localMonth(\"&$D$12&\") =\"&$E$7&\" and LocalDay(\"&$D$12&\")=\"&$F$7&\" and Barix(\"&$D$12&\",reference:=StartOfSession)=\"&A10&\"\", \"Bar\", \"\", \"Close\",\"5\",\"0\",\"PrimaryOnly\",,,\"False\",\"T\",\"EveryTick\")","v":119.609375},1.3065064018813691E-4,{"$f":"RTD(\"cqg.rtd\",,\"StudyData\", \"Close(\"&$D$12&\") when LocalYear(\"&$D$12&\")=\"&$D$8&\" and localMonth(\"&$D$12&\") =\"&$E$8&\" and LocalDay(\"&$D$12&\")=\"&$F$8&\" and Barix(\"&$D$12&\",reference:=StartOfSession)=\"&A10&\"\", \"Bar\", \"\", \"Close\",\"5\",\"0\",\"PrimaryOnly\",,,\"False\",\"T\",\"EveryTick\")","v":119.28125},0,{"$f":"RTD(\"cqg.rtd\",,\"StudyData\", \"Close(\"&$D$12&\") when LocalYear(\"&$D$12&\")=\"&$D$9&\" and localMonth(\"&$D$12&\") =\"&$E$9&\" and LocalDay(\"&$D$12&\")=\"&$F$9&\" and Barix(\"&$D$12&\",reference:=StartOfSession)=\"&A10&\"\", \"Bar\", \"\", \"Close\",\"5\",\"0\",\"PrimaryOnly\",,,\"False\",\"T\",\"EveryTick\")","v":119.421875},-2.3495627202715051E-3,{"$f":"RTD(\"cqg.rtd\",,\"StudyData\", \"Close(\"&$D$12&\") when LocalYear(\"&$D$12&\")=\"&$D$10&\" and localMonth(\"&$D$12&\") =\"&$E$10&\" and LocalDay(\"&$D$12&\")=\"&$F$10&\" and Barix(\"&$D$12&\",reference:=StartOfSession)=\"&A10&\"\", \"Bar\", \"\", \"Close\",\"5\",\"0\",\"PrimaryOnly\",,,\"False\",\"T\",\"EveryTick\")","v":119.625},1.0460251046025104E-3,{"$f":"RANK(AD10,$AD$1:$AD$10)+COUNTIF($AD$1:AD10,AD10)-1","v":3},"2018-06-05",{"$f":"VLOOKUP(MAX(AE2:AE81),A1:AA81,27,FALSE)","v":1.307531380753138E-3},"",10,"2018-06-06",-2.2190314580341993E-3,null,null,"2018-06-06","2018-06-05",9,8]
[190,"08:50:00",{"$f":"RTD(\"cqg.rtd\",,\"StudyData\",$D$12,\"Bar\",,\"Time\",\"D\",\"-10\",,,,,\"T\")","v":"2018-06-04"},2018,6,4,{"$f":"RTD(\"cqg.rtd\",,\"StudyData\",$D$12,\"Bar\",,\"Close\",\"D\",\"-10\",,,,,\"T\")","v":119.5},{"$f":"RTD(\"cqg.rtd\",,\"StudyData\", \"Close(\"&$D$12&\") when LocalYear(\"&$D$12&\")=\"&$D$1&\" and localMonth(\"&$D$12&\") =\"&$E$1&\" and LocalDay(\"&$D$12&\")=\"&$F$1&\" and Barix(\"&$D$12&\",reference:=StartOfSession)=\"&A11&\"\", \"Bar\", \"\", \"Close\",\"5\",\"0\",\"PrimaryOnly\",,,\"False\",\"T\",\"EveryTick\")","v":""},{"$error":"#N/A"},{"$f":"RTD(\"cqg.rtd\",,\"StudyData\", \"Close(\"&$D$12&\") when LocalYear(\"&$D$12&\")=\"&$D$2&\" and localMonth(\"&$D$12&\") =\"&$E$2&\" and LocalDay(\"&$D$12&\")=\"&$F$2&\" and Barix(\"&$D$12&\",reference:=StartOfSession)=\"&A11&\"\", \"Bar\", \"\", \"Close\",\"5\",\"0\",\"PrimaryOnly\",,,\"False\",\"T\",\"EveryTick\")","v":119.75},2.6164311878597592E-3,{"$f":"RTD(\"cqg.rtd\",,\"StudyData\", \"Close(\"&$D$12&\") when LocalYear(\"&$D$12&\")=\"&$D$3&\" and localMonth(\"&$D$12&\") =\"&$E$3&\" and LocalDay(\"&$D$12&\")=\"&$F$3&\" and Barix(\"&$D$12&\",reference:=StartOfSession)=\"&A11&\"\", \"Bar\", \"\", \"Close\",\"5\",\"0\",\"PrimaryOnly\",,,\"False\",\"T\",\"EveryTick\")","v":119.34375},1.3109596224436288E-3,{"$f":"RTD(\"cqg.rtd\",,\"StudyData\", \"Close(\"&$D$12&\") when LocalYear(\"&$D$12&\")=\"&$D$4&\" and localMonth(\"&$D$12&\") =\"&$E$4&\" and LocalDay(\"&$D$12&\")=\"&$F$4&\" and Barix(\"&$D$12&\",reference:=StartOfSession)=\"&A11&\"\", \"Bar\", \"\", \"Close\",\"5\",\"0\",\"PrimaryOnly\",,,\"False\",\"T\",\"EveryTick\")","v":119.390625},-1.3085579691180318E-4,{"$f":"RTD(\"cqg.rtd\",,\"StudyData\", \"Close(\"&$D$12&\") when LocalYear(\"&$D$12&\")=\"&$D$5&\" and localMonth(\"&$D$12&\") =\"&$E$5&\" and LocalDay(\"&$D$12&\")=\"&$F$5&\" and Barix(\"&$D$12&\",reference:=StartOfSession)=\"&A11&\"\", \"Bar\", \"\", \"Close\",\"5\",\"0\",\"PrimaryOnly\",,,\"False\",\"T\",\"EveryTick\")","v":119.359375},-6.5410779696493981E-4,{"$f":"RTD(\"cqg.rtd\",,\"StudyData\", \"Close(\"&$D$12&\") when LocalYear(\"&$D$12&\")=\"&$D$6&\" and localMonth(\"&$D$12&\") =\"&$E$6&\" and LocalDay(\"&$D$12&\")=\"&$F$6&\" and Barix(\"&$D$12&\",reference:=StartOfSession)=\"&A11&\"\", \"Bar\", \"\", \"Close\",\"5\",\"0\",\"PrimaryOnly\",,,\"False\",\"T\",\"EveryTick\")","v":119.390625},-1.6984583224457801E-3,{"$f":"RTD(\"cqg.rtd\",,\"StudyData\", \"Close(\"&$D$12&\") when LocalYear(\"&$D$12&\")=\"&$D$7&\" and localMonth(\"&$D$12&\") =\"&$E$7&\" and LocalDay(\"&$D$12&\")=\"&$F$7&\" and Barix(\"&$D$12&\",reference:=StartOfSession)=\"&A11&\"\", \"Bar\", \"\", \"Close\",\"5\",\"0\",\"PrimaryOnly\",,,\"False\",\"T\",\"EveryTick\")","v":119.609375},1.3065064018813691E-4,{"$f":"RTD(\"cqg.rtd\",,\"StudyData\", \"Close(\"&$D$12&\") when LocalYear(\"&$D$12&\")=\"&$D$8&\" and localMonth(\"&$D$12&\") =\"&$E$8&\" and LocalDay(\"&$D$12&\")=\"&$F$8&\" and Barix(\"&$D$12&\",reference:=StartOfSession)=\"&A11&\"\", \"Bar\", \"\", \"Close\",\"5\",\"0\",\"PrimaryOnly\",,,\"False\",\"T\",\"EveryTick\")","v":119.25},-2.6198585276395077E-4,{"$f":"RTD(\"cqg.rtd\",,\"StudyData\", \"Close(\"&$D$12&\") when LocalYear(\"&$D$12&\")=\"&$D$9&\" and localMonth(\"&$D$12&\") =\"&$E$9&\" and LocalDay(\"&$D$12&\")=\"&$F$9&\" and Barix(\"&$D$12&\",reference:=StartOfSession)=\"&A11&\"\", \"Bar\", \"\", \"Close\",\"5\",\"0\",\"PrimaryOnly\",,,\"False\",\"T\",\"EveryTick\")","v":119.421875},-2.3495627202715051E-3,{"$f":"RTD(\"cqg.rtd\",,\"StudyData\", \"Close(\"&$D$12&\") when LocalYear(\"&$D$12&\")=\"&$D$10&\" and localMonth(\"&$D$12&\") =\"&$E$10&\" and LocalDay(\"&$D$12&\")=\"&$F$10&\" and Barix(\"&$D$12&\",reference:=StartOfSession)=\"&A11&\"\", \"Bar\", \"\", \"Close\",\"5\",\"0\",\"PrimaryOnly\",,,\"False\",\"T\",\"EveryTick\")","v":119.671875},1.4382845188284519E-3,null,null,null,""]
[191,"08:55:00",null,{"$f":"MainDisplay!R31","v":"TYA"},null,null,null,{"$f":"RTD(\"cqg.rtd\",,\"StudyData\", \"Close(\"&$D$12&\") when LocalYear(\"&$D$12&\")=\"&$D$1&\" and localMonth(\"&$D$12&\") =\"&$E$1&\" and LocalDay(\"&$D$12&\")=\"&$F$1&\" and Barix(\"&$D$12&\",reference:=StartOfSession)=\"&A12&\"\", \"Bar\", \"\", \"Close\",\"5\",\"0\",\"PrimaryOnly\",,,\"False\",\"T\",\"EveryTick\")","v":""},{"$error":"#N/A"},{"$f":"RTD(\"cqg.rtd\",,\"StudyData\", \"Close(\"&$D$12&\") when LocalYear(\"&$D$12&\")=\"&$D$2&\" and localMonth(\"&$D$12&\") =\"&$E$2&\" and LocalDay(\"&$D$12&\")=\"&$F$2&\" and Barix(\"&$D$12&\",reference:=StartOfSession)=\"&A12&\"\", \"Bar\", \"\", \"Close\",\"5\",\"0\",\"PrimaryOnly\",,,\"False\",\"T\",\"EveryTick\")","v":119.765625},2.7472527472527475E-3,{"$f":"RTD(\"cqg.rtd\",,\"StudyData\", \"Close(\"&$D$12&\") when LocalYear(\"&$D$12&\")=\"&$D$3&\" and localMonth(\"&$D$12&\") =\"&$E$3&\" and LocalDay(\"&$D$12&\")=\"&$F$3&\" and Barix(\"&$D$12&\",reference:=StartOfSession)=\"&A12&\"\", \"Bar\", \"\", \"Close\",\"5\",\"0\",\"PrimaryOnly\",,,\"False\",\"T\",\"EveryTick\")","v":119.359375},1.4420555846879916E-3,{"$f":"RTD(\"cqg.rtd\",,\"StudyData\", \"Close(\"&$D$12&\") when LocalYear(\"&$D$12&\")=\"&$D$4&\" and localMonth(\"&$D$12&\") =\"&$E$4&\" and LocalDay(\"&$D$12&\")=\"&$F$4&\" and Barix(\"&$D$12&\",reference:=StartOfSession)=\"&A12&\"\", \"Bar\", \"\", \"Close\",\"5\",\"0\",\"PrimaryOnly\",,,\"False\",\"T\",\"EveryTick\")","v":119.40625},0,{"$f":"RTD(\"cqg.rtd\",,\"StudyData\", \"Close(\"&$D$12&\") when LocalYear(\"&$D$12&\")=\"&$D$5&\" and localMonth(\"&$D$12&\") =\"&$E$5&\" and LocalDay(\"&$D$12&\")=\"&$F$5&\" and Barix(\"&$D$12&\",reference:=StartOfSession)=\"&A12&\"\", \"Bar\", \"\", \"Close\",\"5\",\"0\",\"PrimaryOnly\",,,\"False\",\"T\",\"EveryTick\")","v":119.328125},-9.1575091575091575E-4,{"$f":"RTD(\"cqg.rtd\",,\"StudyData\", \"Close(\"&$D$12&\") when LocalYear(\"&$D$12&\")=\"&$D$6&\" and localMonth(\"&$D$12&\") =\"&$E$6&\" and LocalDay(\"&$D$12&\")=\"&$F$6&\" and Barix(\"&$D$12&\",reference:=StartOfSession)=\"&A12&\"\", \"Bar\", \"\", \"Close\",\"5\",\"0\",\"PrimaryOnly\",,,\"False\",\"T\",\"EveryTick\")","v":119.390625},-1.6984583224457801E-3,{"$f":"RTD(\"cqg.rtd\",,\"StudyData\", \"Close(\"&$D$12&\") when LocalYear(\"&$D$12&\")=\"&$D$7&\" and localMonth(\"&$D$12&\") =\"&$E$7&\" and LocalDay(\"&$D$12&\")=\"&$F$7&\" and Barix(\"&$D$12&\",reference:=StartOfSession)=\"&A12&\"\", \"Bar\", \"\", \"Close\",\"5\",\"0\",\"PrimaryOnly\",,,\"False\",\"T\",\"EveryTick\")","v":119.609375},1.3065064018813691E-4,{"$f":"RTD(\"cqg.rtd\",,\"StudyData\", \"Close(\"&$D$12&\") when LocalYear(\"&$D$12&\")=\"&$D$8&\" and localMonth(\"&$D$12&\") =\"&$E$8&\" and LocalDay(\"&$D$12&\")=\"&$F$8&\" and Barix(\"&$D$12&\",reference:=StartOfSession)=\"&A12&\"\", \"Bar\", \"\", \"Close\",\"5\",\"0\",\"PrimaryOnly\",,,\"False\",\"T\",\"EveryTick\")","v":119.25},-2.6198585276395077E-4,{"$f":"RTD(\"cqg.rtd\",,\"StudyData\", \"Close(\"&$D$12&\") when LocalYear(\"&$D$12&\")=\"&$D$9&\" and localMonth(\"&$D$12&\") =\"&$E$9&\" and LocalDay(\"&$D$12&\")=\"&$F$9&\" and Barix(\"&$D$12&\",reference:=StartOfSession)=\"&A12&\"\", \"Bar\", \"\", \"Close\",\"5\",\"0\",\"PrimaryOnly\",,,\"False\",\"T\",\"EveryTick\")","v":119.421875},-2.3495627202715051E-3,{"$f":"RTD(\"cqg.rtd\",,\"StudyData\", \"Close(\"&$D$12&\") when LocalYear(\"&$D$12&\")=\"&$D$10&\" and localMonth(\"&$D$12&\") =\"&$E$10&\" and LocalDay(\"&$D$12&\")=\"&$F$10&\" and Barix(\"&$D$12&\",reference:=StartOfSession)=\"&A12&\"\", \"Bar\", \"\", \"Close\",\"5\",\"0\",\"PrimaryOnly\",,,\"False\",\"T\",\"EveryTick\")","v":119.671875},1.4382845188284519E-3,null,{"$f":"VLOOKUP(MAX(AE2:AE81),A1:B81,2,FALSE)","v":"08:30:00"},null,""]
[192,"09:00:00",null,{"$f":"RTD(\"cqg.rtd\", ,\"ContractData\",D12, \"LastQuoteToday\",, \"T\")","v":119.703125},null,null,{"$f":"C1","v":"2018-06-18"},{"$f":"RTD(\"cqg.rtd\",,\"StudyData\", \"Close(\"&$D$12&\") when LocalYear(\"&$D$12&\")=\"&$D$1&\" and localMonth(\"&$D$12&\") =\"&$E$1&\" and LocalDay(\"&$D$12&\")=\"&$F$1&\" and Barix(\"&$D$12&\",reference:=StartOfSession)=\"&A13&\"\", \"Bar\", \"\", \"Close\",\"5\",\"0\",\"PrimaryOnly\",,,\"False\",\"T\",\"EveryTick\")","v":""},{"$error":"#N/A"},{"$f":"RTD(\"cqg.rtd\",,\"StudyData\", \"Close(\"&$D$12&\") when LocalYear(\"&$D$12&\")=\"&$D$2&\" and localMonth(\"&$D$12&\") =\"&$E$2&\" and LocalDay(\"&$D$12&\")=\"&$F$2&\" and Barix(\"&$D$12&\",reference:=StartOfSession)=\"&A13&\"\", \"Bar\", \"\", \"Close\",\"5\",\"0\",\"PrimaryOnly\",,,\"False\",\"T\",\"EveryTick\")","v":119.71875},2.3547880690737832E-3,{"$f":"RTD(\"cqg.rtd\",,\"StudyData\", \"Close(\"&$D$12&\") when LocalYear(\"&$D$12&\")=\"&$D$3&\" and localMonth(\"&$D$12&\") =\"&$E$3&\" and LocalDay(\"&$D$12&\")=\"&$F$3&\" and Barix(\"&$D$12&\",reference:=StartOfSession)=\"&A13&\"\", \"Bar\", \"\", \"Close\",\"5\",\"0\",\"PrimaryOnly\",,,\"False\",\"T\",\"EveryTick\")","v":119.375},1.5731515469323545E-3,{"$f":"RTD(\"cqg.rtd\",,\"StudyData\", \"Close(\"&$D$12&\") when LocalYear(\"&$D$12&\")=\"&$D$4&\" and localMonth(\"&$D$12&\") =\"&$E$4&\" and LocalDay(\"&$D$12&\")=\"&$F$4&\" and Barix(\"&$D$12&\",reference:=StartOfSession)=\"&A13&\"\", \"Bar\", \"\", \"Close\",\"5\",\"0\",\"PrimaryOnly\",,,\"False\",\"T\",\"EveryTick\")","v":119.390625},-1.3085579691180318E-4,{"$f":"RTD(\"cqg.rtd\",,\"StudyData\", \"Close(\"&$D$12&\") when LocalYear(\"&$D$12&\")=\"&$D$5&\" and localMonth(\"&$D$12&\") =\"&$E$5&\" and LocalDay(\"&$D$12&\")=\"&$F$5&\" and Barix(\"&$D$12&\",reference:=StartOfSession)=\"&A13&\"\", \"Bar\", \"\", \"Close\",\"5\",\"0\",\"PrimaryOnly\",,,\"False\",\"T\",\"EveryTick\")","v":119.328125},-9.1575091575091575E-4,{"$f":"RTD(\"cqg.rtd\",,\"StudyData\", \"Close(\"&$D$12&\") when LocalYear(\"&$D$12&\")=\"&$D$6&\" and localMonth(\"&$D$12&\") =\"&$E$6&\" and LocalDay(\"&$D$12&\")=\"&$F$6&\" and Barix(\"&$D$12&\",reference:=StartOfSession)=\"&A13&\"\", \"Bar\", \"\", \"Close\",\"5\",\"0\",\"PrimaryOnly\",,,\"False\",\"T\",\"EveryTick\")","v":119.40625},-1.567807682257643E-3,{"$f":"RTD(\"cqg.rtd\",,\"StudyData\", \"Close(\"&$D$12&\") when LocalYear(\"&$D$12&\")=\"&$D$7&\" and localMonth(\"&$D$12&\") =\"&$E$7&\" and LocalDay(\"&$D$12&\")=\"&$F$7&\" and Barix(\"&$D$12&\",reference:=StartOfSession)=\"&A13&\"\", \"Bar\", \"\", \"Close\",\"5\",\"0\",\"PrimaryOnly\",,,\"False\",\"T\",\"EveryTick\")","v":119.640625},3.9195192056441075E-4,{"$f":"RTD(\"cqg.rtd\",,\"StudyData\", \"Close(\"&$D$12&\") when LocalYear(\"&$D$12&\")=\"&$D$8&\" and localMonth(\"&$D$12&\") =\"&$E$8&\" and LocalDay(\"&$D$12&\")=\"&$F$8&\" and Barix(\"&$D$12&\",reference:=StartOfSession)=\"&A13&\"\", \"Bar\", \"\", \"Close\",\"5\",\"0\",\"PrimaryOnly\",,,\"False\",\"T\",\"EveryTick\")","v":119.296875},1.3099292638197538E-4,{"$f":"RTD(\"cqg.rtd\",,\"StudyData\", \"Close(\"&$D$12&\") when LocalYear(\"&$D$12&\")=\"&$D$9&\" and localMonth(\"&$D$12&\") =\"&$E$9&\" and LocalDay(\"&$D$12&\")=\"&$F$9&\" and Barix(\"&$D$12&\",reference:=StartOfSession)=\"&A13&\"\", \"Bar\", \"\", \"Close\",\"5\",\"0\",\"PrimaryOnly\",,,\"False\",\"T\",\"EveryTick\")","v":119.453125},-2.0885001957968935E-3,{"$f":"RTD(\"cqg.rtd\",,\"StudyData\", \"Close(\"&$D$12&\") when LocalYear(\"&$D$12&\")=\"&$D$10&\" and localMonth(\"&$D$12&\") =\"&$E$10&\" and LocalDay(\"&$D$12&\")=\"&$F$10&\" and Barix(\"&$D$12&\",reference:=StartOfSession)=\"&A13&\"\", \"Bar\", \"\", \"Close\",\"5\",\"0\",\"PrimaryOnly\",,,\"False\",\"T\",\"EveryTick\")","v":119.59375},7.8451882845188283E-4,null,null,null,""]
[193,"09:05:00",null,{"$f":"RTD(\"cqg.rtd\", ,\"ContractData\",D12, \"LongDescription\",, \"T\")","v":"10yr US Treasury Notes (Globex), Sep 18"},null,null,{"$f":"C2","v":"2018-06-15"},{"$f":"RTD(\"cqg.rtd\",,\"StudyData\", \"Close(\"&$D$12&\") when LocalYear(\"&$D$12&\")=\"&$D$1&\" and localMonth(\"&$D$12&\") =\"&$E$1&\" and LocalDay(\"&$D$12&\")=\"&$F$1&\" and Barix(\"&$D$12&\",reference:=StartOfSession)=\"&A14&\"\", \"Bar\", \"\", \"Close\",\"5\",\"0\",\"PrimaryOnly\",,,\"False\",\"T\",\"EveryTick\")","v":""},{"$error":"#N/A"},{"$f":"RTD(\"cqg.rtd\",,\"StudyData\", \"Close(\"&$D$12&\") when LocalYear(\"&$D$12&\")=\"&$D$2&\" and localMonth(\"&$D$12&\") =\"&$E$2&\" and LocalDay(\"&$D$12&\")=\"&$F$2&\" and Barix(\"&$D$12&\",reference:=StartOfSession)=\"&A14&\"\", \"Bar\", \"\", \"Close\",\"5\",\"0\",\"PrimaryOnly\",,,\"False\",\"T\",\"EveryTick\")","v":119.765625},2.7472527472527475E-3,{"$f":"RTD(\"cqg.rtd\",,\"StudyData\", \"Close(\"&$D$12&\") when LocalYear(\"&$D$12&\")=\"&$D$3&\" and localMonth(\"&$D$12&\") =\"&$E$3&\" and LocalDay(\"&$D$12&\")=\"&$F$3&\" and Barix(\"&$D$12&\",reference:=StartOfSession)=\"&A14&\"\", \"Bar\", \"\", \"Close\",\"5\",\"0\",\"PrimaryOnly\",,,\"False\",\"T\",\"EveryTick\")","v":119.34375},1.3109596224436288E-3,{"$f":"RTD(\"cqg.rtd\",,\"StudyData\", \"Close(\"&$D$12&\") when LocalYear(\"&$D$12&\")=\"&$D$4&\" and localMonth(\"&$D$12&\") =\"&$E$4&\" and LocalDay(\"&$D$12&\")=\"&$F$4&\" and Barix(\"&$D$12&\",reference:=StartOfSession)=\"&A14&\"\", \"Bar\", \"\", \"Close\",\"5\",\"0\",\"PrimaryOnly\",,,\"False\",\"T\",\"EveryTick\")","v":119.375},-2.6171159382360636E-4,{"$f":"RTD(\"cqg.rtd\",,\"StudyData\", \"Close(\"&$D$12&\") when LocalYear(\"&$D$12&\")=\"&$D$5&\" and localMonth(\"&$D$12&\") =\"&$E$5&\" and LocalDay(\"&$D$12&\")=\"&$F$5&\" and Barix(\"&$D$12&\",reference:=StartOfSession)=\"&A14&\"\", \"Bar\", \"\", \"Close\",\"5\",\"0\",\"PrimaryOnly\",,,\"False\",\"T\",\"EveryTick\")","v":119.3125},-1.0465724751439038E-3,{"$f":"RTD(\"cqg.rtd\",,\"StudyData\", \"Close(\"&$D$12&\") when LocalYear(\"&$D$12&\")=\"&$D$6&\" and localMonth(\"&$D$12&\") =\"&$E$6&\" and LocalDay(\"&$D$12&\")=\"&$F$6&\" and Barix(\"&$D$12&\",reference:=StartOfSession)=\"&A14&\"\", \"Bar\", \"\", \"Close\",\"5\",\"0\",\"PrimaryOnly\",,,\"False\",\"T\",\"EveryTick\")","v":119.375},-1.8291089626339169E-3,{"$f":"RTD(\"cqg.rtd\",,\"StudyData\", \"Close(\"&$D$12&\") when LocalYear(\"&$D$12&\")=\"&$D$7&\" and localMonth(\"&$D$12&\") =\"&$E$7&\" and LocalDay(\"&$D$12&\")=\"&$F$7&\" and Barix(\"&$D$12&\",reference:=StartOfSession)=\"&A14&\"\", \"Bar\", \"\", \"Close\",\"5\",\"0\",\"PrimaryOnly\",,,\"False\",\"T\",\"EveryTick\")","v":119.59375},0,{"$f":"RTD(\"cqg.rtd\",,\"StudyData\", \"Close(\"&$D$12&\") when LocalYear(\"&$D$12&\")=\"&$D$8&\" and localMonth(\"&$D$12&\") =\"&$E$8&\" and LocalDay(\"&$D$12&\")=\"&$F$8&\" and Barix(\"&$D$12&\",reference:=StartOfSession)=\"&A14&\"\", \"Bar\", \"\", \"Close\",\"5\",\"0\",\"PrimaryOnly\",,,\"False\",\"T\",\"EveryTick\")","v":119.296875},1.3099292638197538E-4,{"$f":"RTD(\"cqg.rtd\",,\"StudyData\", \"Close(\"&$D$12&\") when LocalYear(\"&$D$12&\")=\"&$D$9&\" and localMonth(\"&$D$12&\") =\"&$E$9&\" and LocalDay(\"&$D$12&\")=\"&$F$9&\" and Barix(\"&$D$12&\",reference:=StartOfSession)=\"&A14&\"\", \"Bar\", \"\", \"Close\",\"5\",\"0\",\"PrimaryOnly\",,,\"False\",\"T\",\"EveryTick\")","v":119.4375},-2.2190314580341993E-3,{"$f":"RTD(\"cqg.rtd\",,\"StudyData\", \"Close(\"&$D$12&\") when LocalYear(\"&$D$12&\")=\"&$D$10&\" and localMonth(\"&$D$12&\") =\"&$E$10&\" and LocalDay(\"&$D$12&\")=\"&$F$10&\" and Barix(\"&$D$12&\",reference:=StartOfSession)=\"&A14&\"\", \"Bar\", \"\", \"Close\",\"5\",\"0\",\"PrimaryOnly\",,,\"False\",\"T\",\"EveryTick\")","v":119.609375},9.1527196652719666E-4,null,null,null,""]
[194,"09:10:00","",null,null,{"$f":"RTD(\"cqg.rtd\", ,\"ContractData\",\"TYA\", \"Ticksize\",, \"T\")","v":1.5625E-2},"2018-06-14",{"$f":"RTD(\"cqg.rtd\",,\"StudyData\", \"Close(\"&$D$12&\") when LocalYear(\"&$D$12&\")=\"&$D$1&\" and localMonth(\"&$D$12&\") =\"&$E$1&\" and LocalDay(\"&$D$12&\")=\"&$F$1&\" and Barix(\"&$D$12&\",reference:=StartOfSession)=\"&A15&\"\", \"Bar\", \"\", \"Close\",\"5\",\"0\",\"PrimaryOnly\",,,\"False\",\"T\",\"EveryTick\")","v":""},{"$error":"#N/A"},{"$f":"RTD(\"cqg.rtd\",,\"StudyData\", \"Close(\"&$D$12&\") when LocalYear(\"&$D$12&\")=\"&$D$2&\" and localMonth(\"&$D$12&\") =\"&$E$2&\" and LocalDay(\"&$D$12&\")=\"&$F$2&\" and Barix(\"&$D$12&\",reference:=StartOfSession)=\"&A15&\"\", \"Bar\", \"\", \"Close\",\"5\",\"0\",\"PrimaryOnly\",,,\"False\",\"T\",\"EveryTick\")","v":119.78125},2.8780743066457353E-3,{"$f":"RTD(\"cqg.rtd\",,\"StudyData\", \"Close(\"&$D$12&\") when LocalYear(\"&$D$12&\")=\"&$D$3&\" and localMonth(\"&$D$12&\") =\"&$E$3&\" and LocalDay(\"&$D$12&\")=\"&$F$3&\" and Barix(\"&$D$12&\",reference:=StartOfSession)=\"&A15&\"\", \"Bar\", \"\", \"Close\",\"5\",\"0\",\"PrimaryOnly\",,,\"False\",\"T\",\"EveryTick\")","v":119.375},1.5731515469323545E-3,{"$f":"RTD(\"cqg.rtd\",,\"StudyData\", \"Close(\"&$D$12&\") when LocalYear(\"&$D$12&\")=\"&$D$4&\" and localMonth(\"&$D$12&\") =\"&$E$4&\" and LocalDay(\"&$D$12&\")=\"&$F$4&\" and Barix(\"&$D$12&\",reference:=StartOfSession)=\"&A15&\"\", \"Bar\", \"\", \"Close\",\"5\",\"0\",\"PrimaryOnly\",,,\"False\",\"T\",\"EveryTick\")","v":119.375},-2.6171159382360636E-4,{"$f":"RTD(\"cqg.rtd\",,\"StudyData\", \"Close(\"&$D$12&\") when LocalYear(\"&$D$12&\")=\"&$D$5&\" and localMonth(\"&$D$12&\") =\"&$E$5&\" and LocalDay(\"&$D$12&\")=\"&$F$5&\" and Barix(\"&$D$12&\",reference:=StartOfSession)=\"&A15&\"\", \"Bar\", \"\", \"Close\",\"5\",\"0\",\"PrimaryOnly\",,,\"False\",\"T\",\"EveryTick\")","v":119.3125},-1.0465724751439038E-3,{"$f":"RTD(\"cqg.rtd\",,\"StudyData\", \"Close(\"&$D$12&\") when LocalYear(\"&$D$12&\")=\"&$D$6&\" and localMonth(\"&$D$12&\") =\"&$E$6&\" and LocalDay(\"&$D$12&\")=\"&$F$6&\" and Barix(\"&$D$12&\",reference:=StartOfSession)=\"&A15&\"\", \"Bar\", \"\", \"Close\",\"5\",\"0\",\"PrimaryOnly\",,,\"False\",\"T\",\"EveryTick\")","v":119.375},-1.8291089626339169E-3,{"$f":"RTD(\"cqg.rtd\",,\"StudyData\", \"Close(\"&$D$12&\") when LocalYear(\"&$D$12&\")=\"&$D$7&\" and localMonth(\"&$D$12&\") =\"&$E$7&\" and LocalDay(\"&$D$12&\")=\"&$F$7&\" and Barix(\"&$D$12&\",reference:=StartOfSession)=\"&A15&\"\", \"Bar\", \"\", \"Close\",\"5\",\"0\",\"PrimaryOnly\",,,\"False\",\"T\",\"EveryTick\")","v":119.671875},6.5325320094068457E-4,{"$f":"RTD(\"cqg.rtd\",,\"StudyData\", \"Close(\"&$D$12&\") when LocalYear(\"&$D$12&\")=\"&$D$8&\" and localMonth(\"&$D$12&\") =\"&$E$8&\" and LocalDay(\"&$D$12&\")=\"&$F$8&\" and Barix(\"&$D$12&\",reference:=StartOfSession)=\"&A15&\"\", \"Bar\", \"\", \"Close\",\"5\",\"0\",\"PrimaryOnly\",,,\"False\",\"T\",\"EveryTick\")","v":119.296875},1.3099292638197538E-4,{"$f":"RTD(\"cqg.rtd\",,\"StudyData\", \"Close(\"&$D$12&\") when LocalYear(\"&$D$12&\")=\"&$D$9&\" and localMonth(\"&$D$12&\") =\"&$E$9&\" and LocalDay(\"&$D$12&\")=\"&$F$9&\" and Barix(\"&$D$12&\",reference:=StartOfSession)=\"&A15&\"\", \"Bar\", \"\", \"Close\",\"5\",\"0\",\"PrimaryOnly\",,,\"False\",\"T\",\"EveryTick\")","v":119.421875},-2.3495627202715051E-3,{"$f":"RTD(\"cqg.rtd\",,\"StudyData\", \"Close(\"&$D$12&\") when LocalYear(\"&$D$12&\")=\"&$D$10&\" and localMonth(\"&$D$12&\") =\"&$E$10&\" and LocalDay(\"&$D$12&\")=\"&$F$10&\" and Barix(\"&$D$12&\",reference:=StartOfSession)=\"&A15&\"\", \"Bar\", \"\", \"Close\",\"5\",\"0\",\"PrimaryOnly\",,,\"False\",\"T\",\"EveryTick\")","v":119.578125},6.5376569037656901E-4,null,null,null,""]
[195,"09:15:00",null,{"$f":"RTD(\"cqg.rtd\", ,\"ContractData\",D12, \"Ticksize\",, \"T\")","v":1.5625E-2},null,{"$f":"IF(OR(D16=0.0078125,D16=0.015625,D16=0.03125),\"B\",F17)","v":"B"},"2018-06-13",{"$f":"RTD(\"cqg.rtd\",,\"StudyData\", \"Close(\"&$D$12&\") when LocalYear(\"&$D$12&\")=\"&$D$1&\" and localMonth(\"&$D$12&\") =\"&$E$1&\" and LocalDay(\"&$D$12&\")=\"&$F$1&\" and Barix(\"&$D$12&\",reference:=StartOfSession)=\"&A16&\"\", \"Bar\", \"\", \"Close\",\"5\",\"0\",\"PrimaryOnly\",,,\"False\",\"T\",\"EveryTick\")","v":""},{"$error":"#N/A"},{"$f":"RTD(\"cqg.rtd\",,\"StudyData\", \"Close(\"&$D$12&\") when LocalYear(\"&$D$12&\")=\"&$D$2&\" and localMonth(\"&$D$12&\") =\"&$E$2&\" and LocalDay(\"&$D$12&\")=\"&$F$2&\" and Barix(\"&$D$12&\",reference:=StartOfSession)=\"&A16&\"\", \"Bar\", \"\", \"Close\",\"5\",\"0\",\"PrimaryOnly\",,,\"False\",\"T\",\"EveryTick\")","v":119.796875},3.0088958660387231E-3,{"$f":"RTD(\"cqg.rtd\",,\"StudyData\", \"Close(\"&$D$12&\") when LocalYear(\"&$D$12&\")=\"&$D$3&\" and localMonth(\"&$D$12&\") =\"&$E$3&\" and LocalDay(\"&$D$12&\")=\"&$F$3&\" and Barix(\"&$D$12&\",reference:=StartOfSession)=\"&A16&\"\", \"Bar\", \"\", \"Close\",\"5\",\"0\",\"PrimaryOnly\",,,\"False\",\"T\",\"EveryTick\")","v":119.40625},1.8353434714210803E-3,{"$f":"RTD(\"cqg.rtd\",,\"StudyData\", \"Close(\"&$D$12&\") when LocalYear(\"&$D$12&\")=\"&$D$4&\" and localMonth(\"&$D$12&\") =\"&$E$4&\" and LocalDay(\"&$D$12&\")=\"&$F$4&\" and Barix(\"&$D$12&\",reference:=StartOfSession)=\"&A16&\"\", \"Bar\", \"\", \"Close\",\"5\",\"0\",\"PrimaryOnly\",,,\"False\",\"T\",\"EveryTick\")","v":119.375},-2.6171159382360636E-4,{"$f":"RTD(\"cqg.rtd\",,\"StudyData\", \"Close(\"&$D$12&\") when LocalYear(\"&$D$12&\")=\"&$D$5&\" and localMonth(\"&$D$12&\") =\"&$E$5&\" and LocalDay(\"&$D$12&\")=\"&$F$5&\" and Barix(\"&$D$12&\",reference:=StartOfSession)=\"&A16&\"\", \"Bar\", \"\", \"Close\",\"5\",\"0\",\"PrimaryOnly\",,,\"False\",\"T\",\"EveryTick\")","v":119.265625},-1.4390371533228676E-3,{"$f":"RTD(\"cqg.rtd\",,\"StudyData\", \"Close(\"&$D$12&\") when LocalYear(\"&$D$12&\")=\"&$D$6&\" and localMonth(\"&$D$12&\") =\"&$E$6&\" and LocalDay(\"&$D$12&\")=\"&$F$6&\" and Barix(\"&$D$12&\",reference:=StartOfSession)=\"&A16&\"\", \"Bar\", \"\", \"Close\",\"5\",\"0\",\"PrimaryOnly\",,,\"False\",\"T\",\"EveryTick\")","v":119.390625},-1.6984583224457801E-3,{"$f":"RTD(\"cqg.rtd\",,\"StudyData\", \"Close(\"&$D$12&\") when LocalYear(\"&$D$12&\")=\"&$D$7&\" and localMonth(\"&$D$12&\") =\"&$E$7&\" and LocalDay(\"&$D$12&\")=\"&$F$7&\" and Barix(\"&$D$12&\",reference:=StartOfSession)=\"&A16&\"\", \"Bar\", \"\", \"Close\",\"5\",\"0\",\"PrimaryOnly\",,,\"False\",\"T\",\"EveryTick\")","v":119.671875},6.5325320094068457E-4,{"$f":"RTD(\"cqg.rtd\",,\"StudyData\", \"Close(\"&$D$12&\") when LocalYear(\"&$D$12&\")=\"&$D$8&\" and localMonth(\"&$D$12&\") =\"&$E$8&\" and LocalDay(\"&$D$12&\")=\"&$F$8&\" and Barix(\"&$D$12&\",reference:=StartOfSession)=\"&A16&\"\", \"Bar\", \"\", \"Close\",\"5\",\"0\",\"PrimaryOnly\",,,\"False\",\"T\",\"EveryTick\")","v":119.28125},0,{"$f":"RTD(\"cqg.rtd\",,\"StudyData\", \"Close(\"&$D$12&\") when LocalYear(\"&$D$12&\")=\"&$D$9&\" and localMonth(\"&$D$12&\") =\"&$E$9&\" and LocalDay(\"&$D$12&\")=\"&$F$9&\" and Barix(\"&$D$12&\",reference:=StartOfSession)=\"&A16&\"\", \"Bar\", \"\", \"Close\",\"5\",\"0\",\"PrimaryOnly\",,,\"False\",\"T\",\"EveryTick\")","v":119.421875},-2.3495627202715051E-3,{"$f":"RTD(\"cqg.rtd\",,\"StudyData\", \"Close(\"&$D$12&\") when LocalYear(\"&$D$12&\")=\"&$D$10&\" and localMonth(\"&$D$12&\") =\"&$E$10&\" and LocalDay(\"&$D$12&\")=\"&$F$10&\" and Barix(\"&$D$12&\",reference:=StartOfSession)=\"&A16&\"\", \"Bar\", \"\", \"Close\",\"5\",\"0\",\"PrimaryOnly\",,,\"False\",\"T\",\"EveryTick\")","v":119.5625},5.2301255230125519E-4,null,null,null,""]
[196,"09:20:00",null,{"$f":"IF(D16>=1,0,IF(LEN(D16)-2=1,2,LEN(D16)-2))","v":6},null,{"$f":"VLOOKUP(D17,D18:E25,2,FALSE)","v":"#.000000"},"2018-06-12",{"$f":"RTD(\"cqg.rtd\",,\"StudyData\", \"Close(\"&$D$12&\") when LocalYear(\"&$D$12&\")=\"&$D$1&\" and localMonth(\"&$D$12&\") =\"&$E$1&\" and LocalDay(\"&$D$12&\")=\"&$F$1&\" and Barix(\"&$D$12&\",reference:=StartOfSession)=\"&A17&\"\", \"Bar\", \"\", \"Close\",\"5\",\"0\",\"PrimaryOnly\",,,\"False\",\"T\",\"EveryTick\")","v":""},{"$error":"#N/A"},{"$f":"RTD(\"cqg.rtd\",,\"StudyData\", \"Close(\"&$D$12&\") when LocalYear(\"&$D$12&\")=\"&$D$2&\" and localMonth(\"&$D$12&\") =\"&$E$2&\" and LocalDay(\"&$D$12&\")=\"&$F$2&\" and Barix(\"&$D$12&\",reference:=StartOfSession)=\"&A17&\"\", \"Bar\", \"\", \"Close\",\"5\",\"0\",\"PrimaryOnly\",,,\"False\",\"T\",\"EveryTick\")","v":119.796875},3.0088958660387231E-3,{"$f":"RTD(\"cqg.rtd\",,\"StudyData\", \"Close(\"&$D$12&\") when LocalYear(\"&$D$12&\")=\"&$D$3&\" and localMonth(\"&$D$12&\") =\"&$E$3&\" and LocalDay(\"&$D$12&\")=\"&$F$3&\" and Barix(\"&$D$12&\",reference:=StartOfSession)=\"&A17&\"\", \"Bar\", \"\", \"Close\",\"5\",\"0\",\"PrimaryOnly\",,,\"False\",\"T\",\"EveryTick\")","v":119.40625},1.8353434714210803E-3,{"$f":"RTD(\"cqg.rtd\",,\"StudyData\", \"Close(\"&$D$12&\") when LocalYear(\"&$D$12&\")=\"&$D$4&\" and localMonth(\"&$D$12&\") =\"&$E$4&\" and LocalDay(\"&$D$12&\")=\"&$F$4&\" and Barix(\"&$D$12&\",reference:=StartOfSession)=\"&A17&\"\", \"Bar\", \"\", \"Close\",\"5\",\"0\",\"PrimaryOnly\",,,\"False\",\"T\",\"EveryTick\")","v":119.390625},-1.3085579691180318E-4,{"$f":"RTD(\"cqg.rtd\",,\"StudyData\", \"Close(\"&$D$12&\") when LocalYear(\"&$D$12&\")=\"&$D$5&\" and localMonth(\"&$D$12&\") =\"&$E$5&\" and LocalDay(\"&$D$12&\")=\"&$F$5&\" and Barix(\"&$D$12&\",reference:=StartOfSession)=\"&A17&\"\", \"Bar\", \"\", \"Close\",\"5\",\"0\",\"PrimaryOnly\",,,\"False\",\"T\",\"EveryTick\")","v":119.3125},-1.0465724751439038E-3,{"$f":"RTD(\"cqg.rtd\",,\"StudyData\", \"Close(\"&$D$12&\") when LocalYear(\"&$D$12&\")=\"&$D$6&\" and localMonth(\"&$D$12&\") =\"&$E$6&\" and LocalDay(\"&$D$12&\")=\"&$F$6&\" and Barix(\"&$D$12&\",reference:=StartOfSession)=\"&A17&\"\", \"Bar\", \"\", \"Close\",\"5\",\"0\",\"PrimaryOnly\",,,\"False\",\"T\",\"EveryTick\")","v":119.375},-1.8291089626339169E-3,{"$f":"RTD(\"cqg.rtd\",,\"StudyData\", \"Close(\"&$D$12&\") when LocalYear(\"&$D$12&\")=\"&$D$7&\" and localMonth(\"&$D$12&\") =\"&$E$7&\" and LocalDay(\"&$D$12&\")=\"&$F$7&\" and Barix(\"&$D$12&\",reference:=StartOfSession)=\"&A17&\"\", \"Bar\", \"\", \"Close\",\"5\",\"0\",\"PrimaryOnly\",,,\"False\",\"T\",\"EveryTick\")","v":119.59375},0,{"$f":"RTD(\"cqg.rtd\",,\"StudyData\", \"Close(\"&$D$12&\") when LocalYear(\"&$D$12&\")=\"&$D$8&\" and localMonth(\"&$D$12&\") =\"&$E$8&\" and LocalDay(\"&$D$12&\")=\"&$F$8&\" and Barix(\"&$D$12&\",reference:=StartOfSession)=\"&A17&\"\", \"Bar\", \"\", \"Close\",\"5\",\"0\",\"PrimaryOnly\",,,\"False\",\"T\",\"EveryTick\")","v":119.34375},5.2397170552790154E-4,{"$f":"RTD(\"cqg.rtd\",,\"StudyData\", \"Close(\"&$D$12&\") when LocalYear(\"&$D$12&\")=\"&$D$9&\" and localMonth(\"&$D$12&\") =\"&$E$9&\" and LocalDay(\"&$D$12&\")=\"&$F$9&\" and Barix(\"&$D$12&\",reference:=StartOfSession)=\"&A17&\"\", \"Bar\", \"\", \"Close\",\"5\",\"0\",\"PrimaryOnly\",,,\"False\",\"T\",\"EveryTick\")","v":119.40625},-2.4800939825088109E-3,{"$f":"RTD(\"cqg.rtd\",,\"StudyData\", \"Close(\"&$D$12&\") when LocalYear(\"&$D$12&\")=\"&$D$10&\" and localMonth(\"&$D$12&\") =\"&$E$10&\" and LocalDay(\"&$D$12&\")=\"&$F$10&\" and Barix(\"&$D$12&\",reference:=StartOfSession)=\"&A17&\"\", \"Bar\", \"\", \"Close\",\"5\",\"0\",\"PrimaryOnly\",,,\"False\",\"T\",\"EveryTick\")","v":119.640625},1.1767782426778243E-3,null,null,null,""]
[197,"09:25:00",null,0,"#",null,"2018-06-11",{"$f":"RTD(\"cqg.rtd\",,\"StudyData\", \"Close(\"&$D$12&\") when LocalYear(\"&$D$12&\")=\"&$D$1&\" and localMonth(\"&$D$12&\") =\"&$E$1&\" and LocalDay(\"&$D$12&\")=\"&$F$1&\" and Barix(\"&$D$12&\",reference:=StartOfSession)=\"&A18&\"\", \"Bar\", \"\", \"Close\",\"5\",\"0\",\"PrimaryOnly\",,,\"False\",\"T\",\"EveryTick\")","v":""},{"$error":"#N/A"},{"$f":"RTD(\"cqg.rtd\",,\"StudyData\", \"Close(\"&$D$12&\") when LocalYear(\"&$D$12&\")=\"&$D$2&\" and localMonth(\"&$D$12&\") =\"&$E$2&\" and LocalDay(\"&$D$12&\")=\"&$F$2&\" and Barix(\"&$D$12&\",reference:=StartOfSession)=\"&A18&\"\", \"Bar\", \"\", \"Close\",\"5\",\"0\",\"PrimaryOnly\",,,\"False\",\"T\",\"EveryTick\")","v":119.78125},2.8780743066457353E-3,{"$f":"RTD(\"cqg.rtd\",,\"StudyData\", \"Close(\"&$D$12&\") when LocalYear(\"&$D$12&\")=\"&$D$3&\" and localMonth(\"&$D$12&\") =\"&$E$3&\" and LocalDay(\"&$D$12&\")=\"&$F$3&\" and Barix(\"&$D$12&\",reference:=StartOfSession)=\"&A18&\"\", \"Bar\", \"\", \"Close\",\"5\",\"0\",\"PrimaryOnly\",,,\"False\",\"T\",\"EveryTick\")","v":119.421875},1.9664394336654429E-3,{"$f":"RTD(\"cqg.rtd\",,\"StudyData\", \"Close(\"&$D$12&\") when LocalYear(\"&$D$12&\")=\"&$D$4&\" and localMonth(\"&$D$12&\") =\"&$E$4&\" and LocalDay(\"&$D$12&\")=\"&$F$4&\" and Barix(\"&$D$12&\",reference:=StartOfSession)=\"&A18&\"\", \"Bar\", \"\", \"Close\",\"5\",\"0\",\"PrimaryOnly\",,,\"False\",\"T\",\"EveryTick\")","v":119.375},-2.6171159382360636E-4,{"$f":"RTD(\"cqg.rtd\",,\"StudyData\", \"Close(\"&$D$12&\") when LocalYear(\"&$D$12&\")=\"&$D$5&\" and localMonth(\"&$D$12&\") =\"&$E$5&\" and LocalDay(\"&$D$12&\")=\"&$F$5&\" and Barix(\"&$D$12&\",reference:=StartOfSession)=\"&A18&\"\", \"Bar\", \"\", \"Close\",\"5\",\"0\",\"PrimaryOnly\",,,\"False\",\"T\",\"EveryTick\")","v":119.328125},-9.1575091575091575E-4,{"$f":"RTD(\"cqg.rtd\",,\"StudyData\", \"Close(\"&$D$12&\") when LocalYear(\"&$D$12&\")=\"&$D$6&\" and localMonth(\"&$D$12&\") =\"&$E$6&\" and LocalDay(\"&$D$12&\")=\"&$F$6&\" and Barix(\"&$D$12&\",reference:=StartOfSession)=\"&A18&\"\", \"Bar\", \"\", \"Close\",\"5\",\"0\",\"PrimaryOnly\",,,\"False\",\"T\",\"EveryTick\")","v":119.359375},-1.9597596028220537E-3,{"$f":"RTD(\"cqg.rtd\",,\"StudyData\", \"Close(\"&$D$12&\") when LocalYear(\"&$D$12&\")=\"&$D$7&\" and localMonth(\"&$D$12&\") =\"&$E$7&\" and LocalDay(\"&$D$12&\")=\"&$F$7&\" and Barix(\"&$D$12&\",reference:=StartOfSession)=\"&A18&\"\", \"Bar\", \"\", \"Close\",\"5\",\"0\",\"PrimaryOnly\",,,\"False\",\"T\",\"EveryTick\")","v":119.609375},1.3065064018813691E-4,{"$f":"RTD(\"cqg.rtd\",,\"StudyData\", \"Close(\"&$D$12&\") when LocalYear(\"&$D$12&\")=\"&$D$8&\" and localMonth(\"&$D$12&\") =\"&$E$8&\" and LocalDay(\"&$D$12&\")=\"&$F$8&\" and Barix(\"&$D$12&\",reference:=StartOfSession)=\"&A18&\"\", \"Bar\", \"\", \"Close\",\"5\",\"0\",\"PrimaryOnly\",,,\"False\",\"T\",\"EveryTick\")","v":119.3125},2.6198585276395077E-4,{"$f":"RTD(\"cqg.rtd\",,\"StudyData\", \"Close(\"&$D$12&\") when LocalYear(\"&$D$12&\")=\"&$D$9&\" and localMonth(\"&$D$12&\") =\"&$E$9&\" and LocalDay(\"&$D$12&\")=\"&$F$9&\" and Barix(\"&$D$12&\",reference:=StartOfSession)=\"&A18&\"\", \"Bar\", \"\", \"Close\",\"5\",\"0\",\"PrimaryOnly\",,,\"False\",\"T\",\"EveryTick\")","v":119.40625},-2.4800939825088109E-3,{"$f":"RTD(\"cqg.rtd\",,\"StudyData\", \"Close(\"&$D$12&\") when LocalYear(\"&$D$12&\")=\"&$D$10&\" and localMonth(\"&$D$12&\") =\"&$E$10&\" and LocalDay(\"&$D$12&\")=\"&$F$10&\" and Barix(\"&$D$12&\",reference:=StartOfSession)=\"&A18&\"\", \"Bar\", \"\", \"Close\",\"5\",\"0\",\"PrimaryOnly\",,,\"False\",\"T\",\"EveryTick\")","v":119.625},1.0460251046025104E-3,null,null,null,""]
[198,"09:30:00",null,1,"#.0",null,"2018-06-08",{"$f":"RTD(\"cqg.rtd\",,\"StudyData\", \"Close(\"&$D$12&\") when LocalYear(\"&$D$12&\")=\"&$D$1&\" and localMonth(\"&$D$12&\") =\"&$E$1&\" and LocalDay(\"&$D$12&\")=\"&$F$1&\" and Barix(\"&$D$12&\",reference:=StartOfSession)=\"&A19&\"\", \"Bar\", \"\", \"Close\",\"5\",\"0\",\"PrimaryOnly\",,,\"False\",\"T\",\"EveryTick\")","v":""},{"$error":"#N/A"},{"$f":"RTD(\"cqg.rtd\",,\"StudyData\", \"Close(\"&$D$12&\") when LocalYear(\"&$D$12&\")=\"&$D$2&\" and localMonth(\"&$D$12&\") =\"&$E$2&\" and LocalDay(\"&$D$12&\")=\"&$F$2&\" and Barix(\"&$D$12&\",reference:=StartOfSession)=\"&A19&\"\", \"Bar\", \"\", \"Close\",\"5\",\"0\",\"PrimaryOnly\",,,\"False\",\"T\",\"EveryTick\")","v":119.84375},3.4013605442176869E-3,{"$f":"RTD(\"cqg.rtd\",,\"StudyData\", \"Close(\"&$D$12&\") when LocalYear(\"&$D$12&\")=\"&$D$3&\" and localMonth(\"&$D$12&\") =\"&$E$3&\" and LocalDay(\"&$D$12&\")=\"&$F$3&\" and Barix(\"&$D$12&\",reference:=StartOfSession)=\"&A19&\"\", \"Bar\", \"\", \"Close\",\"5\",\"0\",\"PrimaryOnly\",,,\"False\",\"T\",\"EveryTick\")","v":119.453125},2.2286313581541687E-3,{"$f":"RTD(\"cqg.rtd\",,\"StudyData\", \"Close(\"&$D$12&\") when LocalYear(\"&$D$12&\")=\"&$D$4&\" and localMonth(\"&$D$12&\") =\"&$E$4&\" and LocalDay(\"&$D$12&\")=\"&$F$4&\" and Barix(\"&$D$12&\",reference:=StartOfSession)=\"&A19&\"\", \"Bar\", \"\", \"Close\",\"5\",\"0\",\"PrimaryOnly\",,,\"False\",\"T\",\"EveryTick\")","v":119.359375},-3.925673907354096E-4,{"$f":"RTD(\"cqg.rtd\",,\"StudyData\", \"Close(\"&$D$12&\") when LocalYear(\"&$D$12&\")=\"&$D$5&\" and localMonth(\"&$D$12&\") =\"&$E$5&\" and LocalDay(\"&$D$12&\")=\"&$F$5&\" and Barix(\"&$D$12&\",reference:=StartOfSession)=\"&A19&\"\", \"Bar\", \"\", \"Close\",\"5\",\"0\",\"PrimaryOnly\",,,\"False\",\"T\",\"EveryTick\")","v":119.328125},-9.1575091575091575E-4,{"$f":"RTD(\"cqg.rtd\",,\"StudyData\", \"Close(\"&$D$12&\") when LocalYear(\"&$D$12&\")=\"&$D$6&\" and localMonth(\"&$D$12&\") =\"&$E$6&\" and LocalDay(\"&$D$12&\")=\"&$F$6&\" and Barix(\"&$D$12&\",reference:=StartOfSession)=\"&A19&\"\", \"Bar\", \"\", \"Close\",\"5\",\"0\",\"PrimaryOnly\",,,\"False\",\"T\",\"EveryTick\")","v":119.375},-1.8291089626339169E-3,{"$f":"RTD(\"cqg.rtd\",,\"StudyData\", \"Close(\"&$D$12&\") when LocalYear(\"&$D$12&\")=\"&$D$7&\" and localMonth(\"&$D$12&\") =\"&$E$7&\" and LocalDay(\"&$D$12&\")=\"&$F$7&\" and Barix(\"&$D$12&\",reference:=StartOfSession)=\"&A19&\"\", \"Bar\", \"\", \"Close\",\"5\",\"0\",\"PrimaryOnly\",,,\"False\",\"T\",\"EveryTick\")","v":119.625},2.6130128037627382E-4,{"$f":"RTD(\"cqg.rtd\",,\"StudyData\", \"Close(\"&$D$12&\") when LocalYear(\"&$D$12&\")=\"&$D$8&\" and localMonth(\"&$D$12&\") =\"&$E$8&\" and LocalDay(\"&$D$12&\")=\"&$F$8&\" and Barix(\"&$D$12&\",reference:=StartOfSession)=\"&A19&\"\", \"Bar\", \"\", \"Close\",\"5\",\"0\",\"PrimaryOnly\",,,\"False\",\"T\",\"EveryTick\")","v":119.359375},6.5496463190987681E-4,{"$f":"RTD(\"cqg.rtd\",,\"StudyData\", \"Close(\"&$D$12&\") when LocalYear(\"&$D$12&\")=\"&$D$9&\" and localMonth(\"&$D$12&\") =\"&$E$9&\" and LocalDay(\"&$D$12&\")=\"&$F$9&\" and Barix(\"&$D$12&\",reference:=StartOfSession)=\"&A19&\"\", \"Bar\", \"\", \"Close\",\"5\",\"0\",\"PrimaryOnly\",,,\"False\",\"T\",\"EveryTick\")","v":119.390625},-2.6106252447461167E-3,{"$f":"RTD(\"cqg.rtd\",,\"StudyData\", \"Close(\"&$D$12&\") when LocalYear(\"&$D$12&\")=\"&$D$10&\" and localMonth(\"&$D$12&\") =\"&$E$10&\" and LocalDay(\"&$D$12&\")=\"&$F$10&\" and Barix(\"&$D$12&\",reference:=StartOfSession)=\"&A19&\"\", \"Bar\", \"\", \"Close\",\"5\",\"0\",\"PrimaryOnly\",,,\"False\",\"T\",\"EveryTick\")","v":119.640625},1.1767782426778243E-3,null,null,null,""]
[199,"09:35:00",null,2,"#.00",null,"2018-06-07",{"$f":"RTD(\"cqg.rtd\",,\"StudyData\", \"Close(\"&$D$12&\") when LocalYear(\"&$D$12&\")=\"&$D$1&\" and localMonth(\"&$D$12&\") =\"&$E$1&\" and LocalDay(\"&$D$12&\")=\"&$F$1&\" and Barix(\"&$D$12&\",reference:=StartOfSession)=\"&A20&\"\", \"Bar\", \"\", \"Close\",\"5\",\"0\",\"PrimaryOnly\",,,\"False\",\"T\",\"EveryTick\")","v":""},{"$error":"#N/A"},{"$f":"RTD(\"cqg.rtd\",,\"StudyData\", \"Close(\"&$D$12&\") when LocalYear(\"&$D$12&\")=\"&$D$2&\" and localMonth(\"&$D$12&\") =\"&$E$2&\" and LocalDay(\"&$D$12&\")=\"&$F$2&\" and Barix(\"&$D$12&\",reference:=StartOfSession)=\"&A20&\"\", \"Bar\", \"\", \"Close\",\"5\",\"0\",\"PrimaryOnly\",,,\"False\",\"T\",\"EveryTick\")","v":119.828125},3.2705389848246991E-3,{"$f":"RTD(\"cqg.rtd\",,\"StudyData\", \"Close(\"&$D$12&\") when LocalYear(\"&$D$12&\")=\"&$D$3&\" and localMonth(\"&$D$12&\") =\"&$E$3&\" and LocalDay(\"&$D$12&\")=\"&$F$3&\" and Barix(\"&$D$12&\",reference:=StartOfSession)=\"&A20&\"\", \"Bar\", \"\", \"Close\",\"5\",\"0\",\"PrimaryOnly\",,,\"False\",\"T\",\"EveryTick\")","v":119.4375},2.097535395909806E-3,{"$f":"RTD(\"cqg.rtd\",,\"StudyData\", \"Close(\"&$D$12&\") when LocalYear(\"&$D$12&\")=\"&$D$4&\" and localMonth(\"&$D$12&\") =\"&$E$4&\" and LocalDay(\"&$D$12&\")=\"&$F$4&\" and Barix(\"&$D$12&\",reference:=StartOfSession)=\"&A20&\"\", \"Bar\", \"\", \"Close\",\"5\",\"0\",\"PrimaryOnly\",,,\"False\",\"T\",\"EveryTick\")","v":119.359375},-3.925673907354096E-4,{"$f":"RTD(\"cqg.rtd\",,\"StudyData\", \"Close(\"&$D$12&\") when LocalYear(\"&$D$12&\")=\"&$D$5&\" and localMonth(\"&$D$12&\") =\"&$E$5&\" and LocalDay(\"&$D$12&\")=\"&$F$5&\" and Barix(\"&$D$12&\",reference:=StartOfSession)=\"&A20&\"\", \"Bar\", \"\", \"Close\",\"5\",\"0\",\"PrimaryOnly\",,,\"False\",\"T\",\"EveryTick\")","v":119.359375},-6.5410779696493981E-4,{"$f":"RTD(\"cqg.rtd\",,\"StudyData\", \"Close(\"&$D$12&\") when LocalYear(\"&$D$12&\")=\"&$D$6&\" and localMonth(\"&$D$12&\") =\"&$E$6&\" and LocalDay(\"&$D$12&\")=\"&$F$6&\" and Barix(\"&$D$12&\",reference:=StartOfSession)=\"&A20&\"\", \"Bar\", \"\", \"Close\",\"5\",\"0\",\"PrimaryOnly\",,,\"False\",\"T\",\"EveryTick\")","v":119.375},-1.8291089626339169E-3,{"$f":"RTD(\"cqg.rtd\",,\"StudyData\", \"Close(\"&$D$12&\") when LocalYear(\"&$D$12&\")=\"&$D$7&\" and localMonth(\"&$D$12&\") =\"&$E$7&\" and LocalDay(\"&$D$12&\")=\"&$F$7&\" and Barix(\"&$D$12&\",reference:=StartOfSession)=\"&A20&\"\", \"Bar\", \"\", \"Close\",\"5\",\"0\",\"PrimaryOnly\",,,\"False\",\"T\",\"EveryTick\")","v":119.640625},3.9195192056441075E-4,{"$f":"RTD(\"cqg.rtd\",,\"StudyData\", \"Close(\"&$D$12&\") when LocalYear(\"&$D$12&\")=\"&$D$8&\" and localMonth(\"&$D$12&\") =\"&$E$8&\" and LocalDay(\"&$D$12&\")=\"&$F$8&\" and Barix(\"&$D$12&\",reference:=StartOfSession)=\"&A20&\"\", \"Bar\", \"\", \"Close\",\"5\",\"0\",\"PrimaryOnly\",,,\"False\",\"T\",\"EveryTick\")","v":119.359375},6.5496463190987681E-4,{"$f":"RTD(\"cqg.rtd\",,\"StudyData\", \"Close(\"&$D$12&\") when LocalYear(\"&$D$12&\")=\"&$D$9&\" and localMonth(\"&$D$12&\") =\"&$E$9&\" and LocalDay(\"&$D$12&\")=\"&$F$9&\" and Barix(\"&$D$12&\",reference:=StartOfSession)=\"&A20&\"\", \"Bar\", \"\", \"Close\",\"5\",\"0\",\"PrimaryOnly\",,,\"False\",\"T\",\"EveryTick\")","v":119.375},-2.7411565069834225E-3,{"$f":"RTD(\"cqg.rtd\",,\"StudyData\", \"Close(\"&$D$12&\") when LocalYear(\"&$D$12&\")=\"&$D$10&\" and localMonth(\"&$D$12&\") =\"&$E$10&\" and LocalDay(\"&$D$12&\")=\"&$F$10&\" and Barix(\"&$D$12&\",reference:=StartOfSession)=\"&A20&\"\", \"Bar\", \"\", \"Close\",\"5\",\"0\",\"PrimaryOnly\",,,\"False\",\"T\",\"EveryTick\")","v":119.65625},1.307531380753138E-3,null,null,null,""]
[200,"09:40:00",null,3,"#.000",null,"2018-06-06",{"$f":"RTD(\"cqg.rtd\",,\"StudyData\", \"Close(\"&$D$12&\") when LocalYear(\"&$D$12&\")=\"&$D$1&\" and localMonth(\"&$D$12&\") =\"&$E$1&\" and LocalDay(\"&$D$12&\")=\"&$F$1&\" and Barix(\"&$D$12&\",reference:=StartOfSession)=\"&A21&\"\", \"Bar\", \"\", \"Close\",\"5\",\"0\",\"PrimaryOnly\",,,\"False\",\"T\",\"EveryTick\")","v":""},{"$error":"#N/A"},{"$f":"RTD(\"cqg.rtd\",,\"StudyData\", \"Close(\"&$D$12&\") when LocalYear(\"&$D$12&\")=\"&$D$2&\" and localMonth(\"&$D$12&\") =\"&$E$2&\" and LocalDay(\"&$D$12&\")=\"&$F$2&\" and Barix(\"&$D$12&\",reference:=StartOfSession)=\"&A21&\"\", \"Bar\", \"\", \"Close\",\"5\",\"0\",\"PrimaryOnly\",,,\"False\",\"T\",\"EveryTick\")","v":119.796875},3.0088958660387231E-3,{"$f":"RTD(\"cqg.rtd\",,\"StudyData\", \"Close(\"&$D$12&\") when LocalYear(\"&$D$12&\")=\"&$D$3&\" and localMonth(\"&$D$12&\") =\"&$E$3&\" and LocalDay(\"&$D$12&\")=\"&$F$3&\" and Barix(\"&$D$12&\",reference:=StartOfSession)=\"&A21&\"\", \"Bar\", \"\", \"Close\",\"5\",\"0\",\"PrimaryOnly\",,,\"False\",\"T\",\"EveryTick\")","v":119.4375},2.097535395909806E-3,{"$f":"RTD(\"cqg.rtd\",,\"StudyData\", \"Close(\"&$D$12&\") when LocalYear(\"&$D$12&\")=\"&$D$4&\" and localMonth(\"&$D$12&\") =\"&$E$4&\" and LocalDay(\"&$D$12&\")=\"&$F$4&\" and Barix(\"&$D$12&\",reference:=StartOfSession)=\"&A21&\"\", \"Bar\", \"\", \"Close\",\"5\",\"0\",\"PrimaryOnly\",,,\"False\",\"T\",\"EveryTick\")","v":119.375},-2.6171159382360636E-4,{"$f":"RTD(\"cqg.rtd\",,\"StudyData\", \"Close(\"&$D$12&\") when LocalYear(\"&$D$12&\")=\"&$D$5&\" and localMonth(\"&$D$12&\") =\"&$E$5&\" and LocalDay(\"&$D$12&\")=\"&$F$5&\" and Barix(\"&$D$12&\",reference:=StartOfSession)=\"&A21&\"\", \"Bar\", \"\", \"Close\",\"5\",\"0\",\"PrimaryOnly\",,,\"False\",\"T\",\"EveryTick\")","v":119.375},-5.2328623757195189E-4,{"$f":"RTD(\"cqg.rtd\",,\"StudyData\", \"Close(\"&$D$12&\") when LocalYear(\"&$D$12&\")=\"&$D$6&\" and localMonth(\"&$D$12&\") =\"&$E$6&\" and LocalDay(\"&$D$12&\")=\"&$F$6&\" and Barix(\"&$D$12&\",reference:=StartOfSession)=\"&A21&\"\", \"Bar\", \"\", \"Close\",\"5\",\"0\",\"PrimaryOnly\",,,\"False\",\"T\",\"EveryTick\")","v":119.375},-1.8291089626339169E-3,{"$f":"RTD(\"cqg.rtd\",,\"StudyData\", \"Close(\"&$D$12&\") when LocalYear(\"&$D$12&\")=\"&$D$7&\" and localMonth(\"&$D$12&\") =\"&$E$7&\" and LocalDay(\"&$D$12&\")=\"&$F$7&\" and Barix(\"&$D$12&\",reference:=StartOfSession)=\"&A21&\"\", \"Bar\", \"\", \"Close\",\"5\",\"0\",\"PrimaryOnly\",,,\"False\",\"T\",\"EveryTick\")","v":119.65625},5.2260256075254764E-4,{"$f":"RTD(\"cqg.rtd\",,\"StudyData\", \"Close(\"&$D$12&\") when LocalYear(\"&$D$12&\")=\"&$D$8&\" and localMonth(\"&$D$12&\") =\"&$E$8&\" and LocalDay(\"&$D$12&\")=\"&$F$8&\" and Barix(\"&$D$12&\",reference:=StartOfSession)=\"&A21&\"\", \"Bar\", \"\", \"Close\",\"5\",\"0\",\"PrimaryOnly\",,,\"False\",\"T\",\"EveryTick\")","v":119.34375},5.2397170552790154E-4,{"$f":"RTD(\"cqg.rtd\",,\"StudyData\", \"Close(\"&$D$12&\") when LocalYear(\"&$D$12&\")=\"&$D$9&\" and localMonth(\"&$D$12&\") =\"&$E$9&\" and LocalDay(\"&$D$12&\")=\"&$F$9&\" and Barix(\"&$D$12&\",reference:=StartOfSession)=\"&A21&\"\", \"Bar\", \"\", \"Close\",\"5\",\"0\",\"PrimaryOnly\",,,\"False\",\"T\",\"EveryTick\")","v":119.359375},-2.8716877692207283E-3,{"$f":"RTD(\"cqg.rtd\",,\"StudyData\", \"Close(\"&$D$12&\") when LocalYear(\"&$D$12&\")=\"&$D$10&\" and localMonth(\"&$D$12&\") =\"&$E$10&\" and LocalDay(\"&$D$12&\")=\"&$F$10&\" and Barix(\"&$D$12&\",reference:=StartOfSession)=\"&A21&\"\", \"Bar\", \"\", \"Close\",\"5\",\"0\",\"PrimaryOnly\",,,\"False\",\"T\",\"EveryTick\")","v":119.671875},1.4382845188284519E-3,null,null,null,""]
[201,"09:45:00",null,4,"#.0000",null,"2018-06-05",{"$f":"RTD(\"cqg.rtd\",,\"StudyData\", \"Close(\"&$D$12&\") when LocalYear(\"&$D$12&\")=\"&$D$1&\" and localMonth(\"&$D$12&\") =\"&$E$1&\" and LocalDay(\"&$D$12&\")=\"&$F$1&\" and Barix(\"&$D$12&\",reference:=StartOfSession)=\"&A22&\"\", \"Bar\", \"\", \"Close\",\"5\",\"0\",\"PrimaryOnly\",,,\"False\",\"T\",\"EveryTick\")","v":""},{"$error":"#N/A"},{"$f":"RTD(\"cqg.rtd\",,\"StudyData\", \"Close(\"&$D$12&\") when LocalYear(\"&$D$12&\")=\"&$D$2&\" and localMonth(\"&$D$12&\") =\"&$E$2&\" and LocalDay(\"&$D$12&\")=\"&$F$2&\" and Barix(\"&$D$12&\",reference:=StartOfSession)=\"&A22&\"\", \"Bar\", \"\", \"Close\",\"5\",\"0\",\"PrimaryOnly\",,,\"False\",\"T\",\"EveryTick\")","v":119.796875},3.0088958660387231E-3,{"$f":"RTD(\"cqg.rtd\",,\"StudyData\", \"Close(\"&$D$12&\") when LocalYear(\"&$D$12&\")=\"&$D$3&\" and localMonth(\"&$D$12&\") =\"&$E$3&\" and LocalDay(\"&$D$12&\")=\"&$F$3&\" and Barix(\"&$D$12&\",reference:=StartOfSession)=\"&A22&\"\", \"Bar\", \"\", \"Close\",\"5\",\"0\",\"PrimaryOnly\",,,\"False\",\"T\",\"EveryTick\")","v":119.421875},1.9664394336654429E-3,{"$f":"RTD(\"cqg.rtd\",,\"StudyData\", \"Close(\"&$D$12&\") when LocalYear(\"&$D$12&\")=\"&$D$4&\" and localMonth(\"&$D$12&\") =\"&$E$4&\" and LocalDay(\"&$D$12&\")=\"&$F$4&\" and Barix(\"&$D$12&\",reference:=StartOfSession)=\"&A22&\"\", \"Bar\", \"\", \"Close\",\"5\",\"0\",\"PrimaryOnly\",,,\"False\",\"T\",\"EveryTick\")","v":119.375},-2.6171159382360636E-4,{"$f":"RTD(\"cqg.rtd\",,\"StudyData\", \"Close(\"&$D$12&\") when LocalYear(\"&$D$12&\")=\"&$D$5&\" and localMonth(\"&$D$12&\") =\"&$E$5&\" and LocalDay(\"&$D$12&\")=\"&$F$5&\" and Barix(\"&$D$12&\",reference:=StartOfSession)=\"&A22&\"\", \"Bar\", \"\", \"Close\",\"5\",\"0\",\"PrimaryOnly\",,,\"False\",\"T\",\"EveryTick\")","v":119.375},-5.2328623757195189E-4,{"$f":"RTD(\"cqg.rtd\",,\"StudyData\", \"Close(\"&$D$12&\") when LocalYear(\"&$D$12&\")=\"&$D$6&\" and localMonth(\"&$D$12&\") =\"&$E$6&\" and LocalDay(\"&$D$12&\")=\"&$F$6&\" and Barix(\"&$D$12&\",reference:=StartOfSession)=\"&A22&\"\", \"Bar\", \"\", \"Close\",\"5\",\"0\",\"PrimaryOnly\",,,\"False\",\"T\",\"EveryTick\")","v":119.40625},-1.567807682257643E-3,{"$f":"RTD(\"cqg.rtd\",,\"StudyData\", \"Close(\"&$D$12&\") when LocalYear(\"&$D$12&\")=\"&$D$7&\" and localMonth(\"&$D$12&\") =\"&$E$7&\" and LocalDay(\"&$D$12&\")=\"&$F$7&\" and Barix(\"&$D$12&\",reference:=StartOfSession)=\"&A22&\"\", \"Bar\", \"\", \"Close\",\"5\",\"0\",\"PrimaryOnly\",,,\"False\",\"T\",\"EveryTick\")","v":119.625},2.6130128037627382E-4,{"$f":"RTD(\"cqg.rtd\",,\"StudyData\", \"Close(\"&$D$12&\") when LocalYear(\"&$D$12&\")=\"&$D$8&\" and localMonth(\"&$D$12&\") =\"&$E$8&\" and LocalDay(\"&$D$12&\")=\"&$F$8&\" and Barix(\"&$D$12&\",reference:=StartOfSession)=\"&A22&\"\", \"Bar\", \"\", \"Close\",\"5\",\"0\",\"PrimaryOnly\",,,\"False\",\"T\",\"EveryTick\")","v":119.34375},5.2397170552790154E-4,{"$f":"RTD(\"cqg.rtd\",,\"StudyData\", \"Close(\"&$D$12&\") when LocalYear(\"&$D$12&\")=\"&$D$9&\" and localMonth(\"&$D$12&\") =\"&$E$9&\" and LocalDay(\"&$D$12&\")=\"&$F$9&\" and Barix(\"&$D$12&\",reference:=StartOfSession)=\"&A22&\"\", \"Bar\", \"\", \"Close\",\"5\",\"0\",\"PrimaryOnly\",,,\"False\",\"T\",\"EveryTick\")","v":119.375},-2.7411565069834225E-3,{"$f":"RTD(\"cqg.rtd\",,\"StudyData\", \"Close(\"&$D$12&\") when LocalYear(\"&$D$12&\")=\"&$D$10&\" and localMonth(\"&$D$12&\") =\"&$E$10&\" and LocalDay(\"&$D$12&\")=\"&$F$10&\" and Barix(\"&$D$12&\",reference:=StartOfSession)=\"&A22&\"\", \"Bar\", \"\", \"Close\",\"5\",\"0\",\"PrimaryOnly\",,,\"False\",\"T\",\"EveryTick\")","v":119.65625},1.307531380753138E-3,null,null,null,""]
[202,"09:50:00",null,5,"#.00000",null,null,{"$f":"RTD(\"cqg.rtd\",,\"StudyData\", \"Close(\"&$D$12&\") when LocalYear(\"&$D$12&\")=\"&$D$1&\" and localMonth(\"&$D$12&\") =\"&$E$1&\" and LocalDay(\"&$D$12&\")=\"&$F$1&\" and Barix(\"&$D$12&\",reference:=StartOfSession)=\"&A23&\"\", \"Bar\", \"\", \"Close\",\"5\",\"0\",\"PrimaryOnly\",,,\"False\",\"T\",\"EveryTick\")","v":""},{"$error":"#N/A"},{"$f":"RTD(\"cqg.rtd\",,\"StudyData\", \"Close(\"&$D$12&\") when LocalYear(\"&$D$12&\")=\"&$D$2&\" and localMonth(\"&$D$12&\") =\"&$E$2&\" and LocalDay(\"&$D$12&\")=\"&$F$2&\" and Barix(\"&$D$12&\",reference:=StartOfSession)=\"&A23&\"\", \"Bar\", \"\", \"Close\",\"5\",\"0\",\"PrimaryOnly\",,,\"False\",\"T\",\"EveryTick\")","v":119.796875},3.0088958660387231E-3,{"$f":"RTD(\"cqg.rtd\",,\"StudyData\", \"Close(\"&$D$12&\") when LocalYear(\"&$D$12&\")=\"&$D$3&\" and localMonth(\"&$D$12&\") =\"&$E$3&\" and LocalDay(\"&$D$12&\")=\"&$F$3&\" and Barix(\"&$D$12&\",reference:=StartOfSession)=\"&A23&\"\", \"Bar\", \"\", \"Close\",\"5\",\"0\",\"PrimaryOnly\",,,\"False\",\"T\",\"EveryTick\")","v":119.4375},2.097535395909806E-3,{"$f":"RTD(\"cqg.rtd\",,\"StudyData\", \"Close(\"&$D$12&\") when LocalYear(\"&$D$12&\")=\"&$D$4&\" and localMonth(\"&$D$12&\") =\"&$E$4&\" and LocalDay(\"&$D$12&\")=\"&$F$4&\" and Barix(\"&$D$12&\",reference:=StartOfSession)=\"&A23&\"\", \"Bar\", \"\", \"Close\",\"5\",\"0\",\"PrimaryOnly\",,,\"False\",\"T\",\"EveryTick\")","v":119.375},-2.6171159382360636E-4,{"$f":"RTD(\"cqg.rtd\",,\"StudyData\", \"Close(\"&$D$12&\") when LocalYear(\"&$D$12&\")=\"&$D$5&\" and localMonth(\"&$D$12&\") =\"&$E$5&\" and LocalDay(\"&$D$12&\")=\"&$F$5&\" and Barix(\"&$D$12&\",reference:=StartOfSession)=\"&A23&\"\", \"Bar\", \"\", \"Close\",\"5\",\"0\",\"PrimaryOnly\",,,\"False\",\"T\",\"EveryTick\")","v":119.375},-5.2328623757195189E-4,{"$f":"RTD(\"cqg.rtd\",,\"StudyData\", \"Close(\"&$D$12&\") when LocalYear(\"&$D$12&\")=\"&$D$6&\" and localMonth(\"&$D$12&\") =\"&$E$6&\" and LocalDay(\"&$D$12&\")=\"&$F$6&\" and Barix(\"&$D$12&\",reference:=StartOfSession)=\"&A23&\"\", \"Bar\", \"\", \"Close\",\"5\",\"0\",\"PrimaryOnly\",,,\"False\",\"T\",\"EveryTick\")","v":119.46875},-1.0452051215050953E-3,{"$f":"RTD(\"cqg.rtd\",,\"StudyData\", \"Close(\"&$D$12&\") when LocalYear(\"&$D$12&\")=\"&$D$7&\" and localMonth(\"&$D$12&\") =\"&$E$7&\" and LocalDay(\"&$D$12&\")=\"&$F$7&\" and Barix(\"&$D$12&\",reference:=StartOfSession)=\"&A23&\"\", \"Bar\", \"\", \"Close\",\"5\",\"0\",\"PrimaryOnly\",,,\"False\",\"T\",\"EveryTick\")","v":119.640625},3.9195192056441075E-4,{"$f":"RTD(\"cqg.rtd\",,\"StudyData\", \"Close(\"&$D$12&\") when LocalYear(\"&$D$12&\")=\"&$D$8&\" and localMonth(\"&$D$12&\") =\"&$E$8&\" and LocalDay(\"&$D$12&\")=\"&$F$8&\" and Barix(\"&$D$12&\",reference:=StartOfSession)=\"&A23&\"\", \"Bar\", \"\", \"Close\",\"5\",\"0\",\"PrimaryOnly\",,,\"False\",\"T\",\"EveryTick\")","v":119.328125},3.929787791459261E-4,{"$f":"RTD(\"cqg.rtd\",,\"StudyData\", \"Close(\"&$D$12&\") when LocalYear(\"&$D$12&\")=\"&$D$9&\" and localMonth(\"&$D$12&\") =\"&$E$9&\" and LocalDay(\"&$D$12&\")=\"&$F$9&\" and Barix(\"&$D$12&\",reference:=StartOfSession)=\"&A23&\"\", \"Bar\", \"\", \"Close\",\"5\",\"0\",\"PrimaryOnly\",,,\"False\",\"T\",\"EveryTick\")","v":119.375},-2.7411565069834225E-3,{"$f":"RTD(\"cqg.rtd\",,\"StudyData\", \"Close(\"&$D$12&\") when LocalYear(\"&$D$12&\")=\"&$D$10&\" and localMonth(\"&$D$12&\") =\"&$E$10&\" and LocalDay(\"&$D$12&\")=\"&$F$10&\" and Barix(\"&$D$12&\",reference:=StartOfSession)=\"&A23&\"\", \"Bar\", \"\", \"Close\",\"5\",\"0\",\"PrimaryOnly\",,,\"False\",\"T\",\"EveryTick\")","v":119.671875},1.4382845188284519E-3,null,null,null,""]
[203,"09:55:00",null,6,"#.000000",null,null,{"$f":"RTD(\"cqg.rtd\",,\"StudyData\", \"Close(\"&$D$12&\") when LocalYear(\"&$D$12&\")=\"&$D$1&\" and localMonth(\"&$D$12&\") =\"&$E$1&\" and LocalDay(\"&$D$12&\")=\"&$F$1&\" and Barix(\"&$D$12&\",reference:=StartOfSession)=\"&A24&\"\", \"Bar\", \"\", \"Close\",\"5\",\"0\",\"PrimaryOnly\",,,\"False\",\"T\",\"EveryTick\")","v":""},{"$error":"#N/A"},{"$f":"RTD(\"cqg.rtd\",,\"StudyData\", \"Close(\"&$D$12&\") when LocalYear(\"&$D$12&\")=\"&$D$2&\" and localMonth(\"&$D$12&\") =\"&$E$2&\" and LocalDay(\"&$D$12&\")=\"&$F$2&\" and Barix(\"&$D$12&\",reference:=StartOfSession)=\"&A24&\"\", \"Bar\", \"\", \"Close\",\"5\",\"0\",\"PrimaryOnly\",,,\"False\",\"T\",\"EveryTick\")","v":119.78125},2.8780743066457353E-3,{"$f":"RTD(\"cqg.rtd\",,\"StudyData\", \"Close(\"&$D$12&\") when LocalYear(\"&$D$12&\")=\"&$D$3&\" and localMonth(\"&$D$12&\") =\"&$E$3&\" and LocalDay(\"&$D$12&\")=\"&$F$3&\" and Barix(\"&$D$12&\",reference:=StartOfSession)=\"&A24&\"\", \"Bar\", \"\", \"Close\",\"5\",\"0\",\"PrimaryOnly\",,,\"False\",\"T\",\"EveryTick\")","v":119.453125},2.2286313581541687E-3,{"$f":"RTD(\"cqg.rtd\",,\"StudyData\", \"Close(\"&$D$12&\") when LocalYear(\"&$D$12&\")=\"&$D$4&\" and localMonth(\"&$D$12&\") =\"&$E$4&\" and LocalDay(\"&$D$12&\")=\"&$F$4&\" and Barix(\"&$D$12&\",reference:=StartOfSession)=\"&A24&\"\", \"Bar\", \"\", \"Close\",\"5\",\"0\",\"PrimaryOnly\",,,\"False\",\"T\",\"EveryTick\")","v":119.390625},-1.3085579691180318E-4,{"$f":"RTD(\"cqg.rtd\",,\"StudyData\", \"Close(\"&$D$12&\") when LocalYear(\"&$D$12&\")=\"&$D$5&\" and localMonth(\"&$D$12&\") =\"&$E$5&\" and LocalDay(\"&$D$12&\")=\"&$F$5&\" and Barix(\"&$D$12&\",reference:=StartOfSession)=\"&A24&\"\", \"Bar\", \"\", \"Close\",\"5\",\"0\",\"PrimaryOnly\",,,\"False\",\"T\",\"EveryTick\")","v":119.359375},-6.5410779696493981E-4,{"$f":"RTD(\"cqg.rtd\",,\"StudyData\", \"Close(\"&$D$12&\") when LocalYear(\"&$D$12&\")=\"&$D$6&\" and localMonth(\"&$D$12&\") =\"&$E$6&\" and LocalDay(\"&$D$12&\")=\"&$F$6&\" and Barix(\"&$D$12&\",reference:=StartOfSession)=\"&A24&\"\", \"Bar\", \"\", \"Close\",\"5\",\"0\",\"PrimaryOnly\",,,\"False\",\"T\",\"EveryTick\")","v":119.46875},-1.0452051215050953E-3,{"$f":"RTD(\"cqg.rtd\",,\"StudyData\", \"Close(\"&$D$12&\") when LocalYear(\"&$D$12&\")=\"&$D$7&\" and localMonth(\"&$D$12&\") =\"&$E$7&\" and LocalDay(\"&$D$12&\")=\"&$F$7&\" and Barix(\"&$D$12&\",reference:=StartOfSession)=\"&A24&\"\", \"Bar\", \"\", \"Close\",\"5\",\"0\",\"PrimaryOnly\",,,\"False\",\"T\",\"EveryTick\")","v":119.640625},3.9195192056441075E-4,{"$f":"RTD(\"cqg.rtd\",,\"StudyData\", \"Close(\"&$D$12&\") when LocalYear(\"&$D$12&\")=\"&$D$8&\" and localMonth(\"&$D$12&\") =\"&$E$8&\" and LocalDay(\"&$D$12&\")=\"&$F$8&\" and Barix(\"&$D$12&\",reference:=StartOfSession)=\"&A24&\"\", \"Bar\", \"\", \"Close\",\"5\",\"0\",\"PrimaryOnly\",,,\"False\",\"T\",\"EveryTick\")","v":119.3125},2.6198585276395077E-4,{"$f":"RTD(\"cqg.rtd\",,\"StudyData\", \"Close(\"&$D$12&\") when LocalYear(\"&$D$12&\")=\"&$D$9&\" and localMonth(\"&$D$12&\") =\"&$E$9&\" and LocalDay(\"&$D$12&\")=\"&$F$9&\" and Barix(\"&$D$12&\",reference:=StartOfSession)=\"&A24&\"\", \"Bar\", \"\", \"Close\",\"5\",\"0\",\"PrimaryOnly\",,,\"False\",\"T\",\"EveryTick\")","v":119.359375},-2.8716877692207283E-3,{"$f":"RTD(\"cqg.rtd\",,\"StudyData\", \"Close(\"&$D$12&\") when LocalYear(\"&$D$12&\")=\"&$D$10&\" and localMonth(\"&$D$12&\") =\"&$E$10&\" and LocalDay(\"&$D$12&\")=\"&$F$10&\" and Barix(\"&$D$12&\",reference:=StartOfSession)=\"&A24&\"\", \"Bar\", \"\", \"Close\",\"5\",\"0\",\"PrimaryOnly\",,,\"False\",\"T\",\"EveryTick\")","v":119.640625},1.1767782426778243E-3,null,null,null,""]
[204,"10:00:00",null,7,"#.0000000",null,null,{"$f":"RTD(\"cqg.rtd\",,\"StudyData\", \"Close(\"&$D$12&\") when LocalYear(\"&$D$12&\")=\"&$D$1&\" and localMonth(\"&$D$12&\") =\"&$E$1&\" and LocalDay(\"&$D$12&\")=\"&$F$1&\" and Barix(\"&$D$12&\",reference:=StartOfSession)=\"&A25&\"\", \"Bar\", \"\", \"Close\",\"5\",\"0\",\"PrimaryOnly\",,,\"False\",\"T\",\"EveryTick\")","v":""},{"$error":"#N/A"},{"$f":"RTD(\"cqg.rtd\",,\"StudyData\", \"Close(\"&$D$12&\") when LocalYear(\"&$D$12&\")=\"&$D$2&\" and localMonth(\"&$D$12&\") =\"&$E$2&\" and LocalDay(\"&$D$12&\")=\"&$F$2&\" and Barix(\"&$D$12&\",reference:=StartOfSession)=\"&A25&\"\", \"Bar\", \"\", \"Close\",\"5\",\"0\",\"PrimaryOnly\",,,\"False\",\"T\",\"EveryTick\")","v":119.734375},2.4856096284667714E-3,{"$f":"RTD(\"cqg.rtd\",,\"StudyData\", \"Close(\"&$D$12&\") when LocalYear(\"&$D$12&\")=\"&$D$3&\" and localMonth(\"&$D$12&\") =\"&$E$3&\" and LocalDay(\"&$D$12&\")=\"&$F$3&\" and Barix(\"&$D$12&\",reference:=StartOfSession)=\"&A25&\"\", \"Bar\", \"\", \"Close\",\"5\",\"0\",\"PrimaryOnly\",,,\"False\",\"T\",\"EveryTick\")","v":119.421875},1.9664394336654429E-3,{"$f":"RTD(\"cqg.rtd\",,\"StudyData\", \"Close(\"&$D$12&\") when LocalYear(\"&$D$12&\")=\"&$D$4&\" and localMonth(\"&$D$12&\") =\"&$E$4&\" and LocalDay(\"&$D$12&\")=\"&$F$4&\" and Barix(\"&$D$12&\",reference:=StartOfSession)=\"&A25&\"\", \"Bar\", \"\", \"Close\",\"5\",\"0\",\"PrimaryOnly\",,,\"False\",\"T\",\"EveryTick\")","v":119.390625},-1.3085579691180318E-4,{"$f":"RTD(\"cqg.rtd\",,\"StudyData\", \"Close(\"&$D$12&\") when LocalYear(\"&$D$12&\")=\"&$D$5&\" and localMonth(\"&$D$12&\") =\"&$E$5&\" and LocalDay(\"&$D$12&\")=\"&$F$5&\" and Barix(\"&$D$12&\",reference:=StartOfSession)=\"&A25&\"\", \"Bar\", \"\", \"Close\",\"5\",\"0\",\"PrimaryOnly\",,,\"False\",\"T\",\"EveryTick\")","v":119.359375},-6.5410779696493981E-4,{"$f":"RTD(\"cqg.rtd\",,\"StudyData\", \"Close(\"&$D$12&\") when LocalYear(\"&$D$12&\")=\"&$D$6&\" and localMonth(\"&$D$12&\") =\"&$E$6&\" and LocalDay(\"&$D$12&\")=\"&$F$6&\" and Barix(\"&$D$12&\",reference:=StartOfSession)=\"&A25&\"\", \"Bar\", \"\", \"Close\",\"5\",\"0\",\"PrimaryOnly\",,,\"False\",\"T\",\"EveryTick\")","v":119.453125},-1.1758557616932323E-3,{"$f":"RTD(\"cqg.rtd\",,\"StudyData\", \"Close(\"&$D$12&\") when LocalYear(\"&$D$12&\")=\"&$D$7&\" and localMonth(\"&$D$12&\") =\"&$E$7&\" and LocalDay(\"&$D$12&\")=\"&$F$7&\" and Barix(\"&$D$12&\",reference:=StartOfSession)=\"&A25&\"\", \"Bar\", \"\", \"Close\",\"5\",\"0\",\"PrimaryOnly\",,,\"False\",\"T\",\"EveryTick\")","v":119.671875},6.5325320094068457E-4,{"$f":"RTD(\"cqg.rtd\",,\"StudyData\", \"Close(\"&$D$12&\") when LocalYear(\"&$D$12&\")=\"&$D$8&\" and localMonth(\"&$D$12&\") =\"&$E$8&\" and LocalDay(\"&$D$12&\")=\"&$F$8&\" and Barix(\"&$D$12&\",reference:=StartOfSession)=\"&A25&\"\", \"Bar\", \"\", \"Close\",\"5\",\"0\",\"PrimaryOnly\",,,\"False\",\"T\",\"EveryTick\")","v":119.3125},2.6198585276395077E-4,{"$f":"RTD(\"cqg.rtd\",,\"StudyData\", \"Close(\"&$D$12&\") when LocalYear(\"&$D$12&\")=\"&$D$9&\" and localMonth(\"&$D$12&\") =\"&$E$9&\" and LocalDay(\"&$D$12&\")=\"&$F$9&\" and Barix(\"&$D$12&\",reference:=StartOfSession)=\"&A25&\"\", \"Bar\", \"\", \"Close\",\"5\",\"0\",\"PrimaryOnly\",,,\"False\",\"T\",\"EveryTick\")","v":119.34375},-3.0022190314580341E-3,{"$f":"RTD(\"cqg.rtd\",,\"StudyData\", \"Close(\"&$D$12&\") when LocalYear(\"&$D$12&\")=\"&$D$10&\" and localMonth(\"&$D$12&\") =\"&$E$10&\" and LocalDay(\"&$D$12&\")=\"&$F$10&\" and Barix(\"&$D$12&\",reference:=StartOfSession)=\"&A25&\"\", \"Bar\", \"\", \"Close\",\"5\",\"0\",\"PrimaryOnly\",,,\"False\",\"T\",\"EveryTick\")","v":119.65625},1.307531380753138E-3,null,null,null,""]
[205,"10:05:00",{"$f":"IF(WEEKDAY(TODAY())=7,TODAY()-1,IF(WEEKDAY(TODAY())=1,TODAY()-2,TODAY()))","v":"2018-06-18"},{"$f":"YEAR(C26)","v":2018},{"$f":"MONTH(C26)","v":6},{"$f":"DAY(C26)","v":18},null,{"$f":"RTD(\"cqg.rtd\",,\"StudyData\", \"Close(\"&$D$12&\") when LocalYear(\"&$D$12&\")=\"&$D$1&\" and localMonth(\"&$D$12&\") =\"&$E$1&\" and LocalDay(\"&$D$12&\")=\"&$F$1&\" and Barix(\"&$D$12&\",reference:=StartOfSession)=\"&A26&\"\", \"Bar\", \"\", \"Close\",\"5\",\"0\",\"PrimaryOnly\",,,\"False\",\"T\",\"EveryTick\")","v":""},{"$error":"#N/A"},{"$f":"RTD(\"cqg.rtd\",,\"StudyData\", \"Close(\"&$D$12&\") when LocalYear(\"&$D$12&\")=\"&$D$2&\" and localMonth(\"&$D$12&\") =\"&$E$2&\" and LocalDay(\"&$D$12&\")=\"&$F$2&\" and Barix(\"&$D$12&\",reference:=StartOfSession)=\"&A26&\"\", \"Bar\", \"\", \"Close\",\"5\",\"0\",\"PrimaryOnly\",,,\"False\",\"T\",\"EveryTick\")","v":119.734375},2.4856096284667714E-3,{"$f":"RTD(\"cqg.rtd\",,\"StudyData\", \"Close(\"&$D$12&\") when LocalYear(\"&$D$12&\")=\"&$D$3&\" and localMonth(\"&$D$12&\") =\"&$E$3&\" and LocalDay(\"&$D$12&\")=\"&$F$3&\" and Barix(\"&$D$12&\",reference:=StartOfSession)=\"&A26&\"\", \"Bar\", \"\", \"Close\",\"5\",\"0\",\"PrimaryOnly\",,,\"False\",\"T\",\"EveryTick\")","v":119.453125},2.2286313581541687E-3,{"$f":"RTD(\"cqg.rtd\",,\"StudyData\", \"Close(\"&$D$12&\") when LocalYear(\"&$D$12&\")=\"&$D$4&\" and localMonth(\"&$D$12&\") =\"&$E$4&\" and LocalDay(\"&$D$12&\")=\"&$F$4&\" and Barix(\"&$D$12&\",reference:=StartOfSession)=\"&A26&\"\", \"Bar\", \"\", \"Close\",\"5\",\"0\",\"PrimaryOnly\",,,\"False\",\"T\",\"EveryTick\")","v":119.421875},1.3085579691180318E-4,{"$f":"RTD(\"cqg.rtd\",,\"StudyData\", \"Close(\"&$D$12&\") when LocalYear(\"&$D$12&\")=\"&$D$5&\" and localMonth(\"&$D$12&\") =\"&$E$5&\" and LocalDay(\"&$D$12&\")=\"&$F$5&\" and Barix(\"&$D$12&\",reference:=StartOfSession)=\"&A26&\"\", \"Bar\", \"\", \"Close\",\"5\",\"0\",\"PrimaryOnly\",,,\"False\",\"T\",\"EveryTick\")","v":119.359375},-6.5410779696493981E-4,{"$f":"RTD(\"cqg.rtd\",,\"StudyData\", \"Close(\"&$D$12&\") when LocalYear(\"&$D$12&\")=\"&$D$6&\" and localMonth(\"&$D$12&\") =\"&$E$6&\" and LocalDay(\"&$D$12&\")=\"&$F$6&\" and Barix(\"&$D$12&\",reference:=StartOfSession)=\"&A26&\"\", \"Bar\", \"\", \"Close\",\"5\",\"0\",\"PrimaryOnly\",,,\"False\",\"T\",\"EveryTick\")","v":119.46875},-1.0452051215050953E-3,{"$f":"RTD(\"cqg.rtd\",,\"StudyData\", \"Close(\"&$D$12&\") when LocalYear(\"&$D$12&\")=\"&$D$7&\" and localMonth(\"&$D$12&\") =\"&$E$7&\" and LocalDay(\"&$D$12&\")=\"&$F$7&\" and Barix(\"&$D$12&\",reference:=StartOfSession)=\"&A26&\"\", \"Bar\", \"\", \"Close\",\"5\",\"0\",\"PrimaryOnly\",,,\"False\",\"T\",\"EveryTick\")","v":119.625},2.6130128037627382E-4,{"$f":"RTD(\"cqg.rtd\",,\"StudyData\", \"Close(\"&$D$12&\") when LocalYear(\"&$D$12&\")=\"&$D$8&\" and localMonth(\"&$D$12&\") =\"&$E$8&\" and LocalDay(\"&$D$12&\")=\"&$F$8&\" and Barix(\"&$D$12&\",reference:=StartOfSession)=\"&A26&\"\", \"Bar\", \"\", \"Close\",\"5\",\"0\",\"PrimaryOnly\",,,\"False\",\"T\",\"EveryTick\")","v":119.3125},2.6198585276395077E-4,{"$f":"RTD(\"cqg.rtd\",,\"StudyData\", \"Close(\"&$D$12&\") when LocalYear(\"&$D$12&\")=\"&$D$9&\" and localMonth(\"&$D$12&\") =\"&$E$9&\" and LocalDay(\"&$D$12&\")=\"&$F$9&\" and Barix(\"&$D$12&\",reference:=StartOfSession)=\"&A26&\"\", \"Bar\", \"\", \"Close\",\"5\",\"0\",\"PrimaryOnly\",,,\"False\",\"T\",\"EveryTick\")","v":119.34375},-3.0022190314580341E-3,{"$f":"RTD(\"cqg.rtd\",,\"StudyData\", \"Close(\"&$D$12&\") when LocalYear(\"&$D$12&\")=\"&$D$10&\" and localMonth(\"&$D$12&\") =\"&$E$10&\" and LocalDay(\"&$D$12&\")=\"&$F$10&\" and Barix(\"&$D$12&\",reference:=StartOfSession)=\"&A26&\"\", \"Bar\", \"\", \"Close\",\"5\",\"0\",\"PrimaryOnly\",,,\"False\",\"T\",\"EveryTick\")","v":119.703125},1.6997907949790796E-3,null,null,null,""]
[206,"10:10:00",{"$f":"WORKDAY(C26,-1)","v":"2018-06-15"},{"$f":"YEAR(C27)","v":2018},{"$f":"MONTH(C27)","v":6},{"$f":"DAY(C27)","v":15},{"$f":"IF(RTD(\"cqg.rtd\",,\"StudyData\", \"Close(EP) when LocalYear(\"&$D$12&\")=\"&D27&\" and localMonth(\"&$D$12&\") =\"&E27&\" and LocalDay(\"&$D$12&\")=\"&F27&\" and Barix(\"&$D$12&\",reference:=StartOfSession)=80\", \"Bar\", \"\", \"Close\",\"5\",\"0\",\"PrimaryOnly\",,,\"False\",\"T\",\"EveryTick\")=\"\",2,1)","v":2},{"$f":"RTD(\"cqg.rtd\",,\"StudyData\", \"Close(\"&$D$12&\") when LocalYear(\"&$D$12&\")=\"&$D$1&\" and localMonth(\"&$D$12&\") =\"&$E$1&\" and LocalDay(\"&$D$12&\")=\"&$F$1&\" and Barix(\"&$D$12&\",reference:=StartOfSession)=\"&A27&\"\", \"Bar\", \"\", \"Close\",\"5\",\"0\",\"PrimaryOnly\",,,\"False\",\"T\",\"EveryTick\")","v":""},{"$error":"#N/A"},{"$f":"RTD(\"cqg.rtd\",,\"StudyData\", \"Close(\"&$D$12&\") when LocalYear(\"&$D$12&\")=\"&$D$2&\" and localMonth(\"&$D$12&\") =\"&$E$2&\" and LocalDay(\"&$D$12&\")=\"&$F$2&\" and Barix(\"&$D$12&\",reference:=StartOfSession)=\"&A27&\"\", \"Bar\", \"\", \"Close\",\"5\",\"0\",\"PrimaryOnly\",,,\"False\",\"T\",\"EveryTick\")","v":119.75},2.6164311878597592E-3,{"$f":"RTD(\"cqg.rtd\",,\"StudyData\", \"Close(\"&$D$12&\") when LocalYear(\"&$D$12&\")=\"&$D$3&\" and localMonth(\"&$D$12&\") =\"&$E$3&\" and LocalDay(\"&$D$12&\")=\"&$F$3&\" and Barix(\"&$D$12&\",reference:=StartOfSession)=\"&A27&\"\", \"Bar\", \"\", \"Close\",\"5\",\"0\",\"PrimaryOnly\",,,\"False\",\"T\",\"EveryTick\")","v":119.421875},1.9664394336654429E-3,{"$f":"RTD(\"cqg.rtd\",,\"StudyData\", \"Close(\"&$D$12&\") when LocalYear(\"&$D$12&\")=\"&$D$4&\" and localMonth(\"&$D$12&\") =\"&$E$4&\" and LocalDay(\"&$D$12&\")=\"&$F$4&\" and Barix(\"&$D$12&\",reference:=StartOfSession)=\"&A27&\"\", \"Bar\", \"\", \"Close\",\"5\",\"0\",\"PrimaryOnly\",,,\"False\",\"T\",\"EveryTick\")","v":119.421875},1.3085579691180318E-4,{"$f":"RTD(\"cqg.rtd\",,\"StudyData\", \"Close(\"&$D$12&\") when LocalYear(\"&$D$12&\")=\"&$D$5&\" and localMonth(\"&$D$12&\") =\"&$E$5&\" and LocalDay(\"&$D$12&\")=\"&$F$5&\" and Barix(\"&$D$12&\",reference:=StartOfSession)=\"&A27&\"\", \"Bar\", \"\", \"Close\",\"5\",\"0\",\"PrimaryOnly\",,,\"False\",\"T\",\"EveryTick\")","v":119.390625},-3.9246467817896392E-4,{"$f":"RTD(\"cqg.rtd\",,\"StudyData\", \"Close(\"&$D$12&\") when LocalYear(\"&$D$12&\")=\"&$D$6&\" and localMonth(\"&$D$12&\") =\"&$E$6&\" and LocalDay(\"&$D$12&\")=\"&$F$6&\" and Barix(\"&$D$12&\",reference:=StartOfSession)=\"&A27&\"\", \"Bar\", \"\", \"Close\",\"5\",\"0\",\"PrimaryOnly\",,,\"False\",\"T\",\"EveryTick\")","v":119.484375},-9.1455448131695844E-4,{"$f":"RTD(\"cqg.rtd\",,\"StudyData\", \"Close(\"&$D$12&\") when LocalYear(\"&$D$12&\")=\"&$D$7&\" and localMonth(\"&$D$12&\") =\"&$E$7&\" and LocalDay(\"&$D$12&\")=\"&$F$7&\" and Barix(\"&$D$12&\",reference:=StartOfSession)=\"&A27&\"\", \"Bar\", \"\", \"Close\",\"5\",\"0\",\"PrimaryOnly\",,,\"False\",\"T\",\"EveryTick\")","v":119.625},2.6130128037627382E-4,{"$f":"RTD(\"cqg.rtd\",,\"StudyData\", \"Close(\"&$D$12&\") when LocalYear(\"&$D$12&\")=\"&$D$8&\" and localMonth(\"&$D$12&\") =\"&$E$8&\" and LocalDay(\"&$D$12&\")=\"&$F$8&\" and Barix(\"&$D$12&\",reference:=StartOfSession)=\"&A27&\"\", \"Bar\", \"\", \"Close\",\"5\",\"0\",\"PrimaryOnly\",,,\"False\",\"T\",\"EveryTick\")","v":119.296875},1.3099292638197538E-4,{"$f":"RTD(\"cqg.rtd\",,\"StudyData\", \"Close(\"&$D$12&\") when LocalYear(\"&$D$12&\")=\"&$D$9&\" and localMonth(\"&$D$12&\") =\"&$E$9&\" and LocalDay(\"&$D$12&\")=\"&$F$9&\" and Barix(\"&$D$12&\",reference:=StartOfSession)=\"&A27&\"\", \"Bar\", \"\", \"Close\",\"5\",\"0\",\"PrimaryOnly\",,,\"False\",\"T\",\"EveryTick\")","v":119.328125},-3.1327502936953399E-3,{"$f":"RTD(\"cqg.rtd\",,\"StudyData\", \"Close(\"&$D$12&\") when LocalYear(\"&$D$12&\")=\"&$D$10&\" and localMonth(\"&$D$12&\") =\"&$E$10&\" and LocalDay(\"&$D$12&\")=\"&$F$10&\" and Barix(\"&$D$12&\",reference:=StartOfSession)=\"&A27&\"\", \"Bar\", \"\", \"Close\",\"5\",\"0\",\"PrimaryOnly\",,,\"False\",\"T\",\"EveryTick\")","v":119.703125},1.6997907949790796E-3,null,null,null,""]
[207,"10:15:00",{"$f":"WORKDAY(C27,-1)","v":"2018-06-14"},2018,6,14,{"$f":"IF(RTD(\"cqg.rtd\",,\"StudyData\", \"Close(EP) when LocalYear(\"&$D$12&\")=\"&D28&\" and localMonth(\"&$D$12&\") =\"&E28&\" and LocalDay(\"&$D$12&\")=\"&F28&\" and Barix(\"&$D$12&\",reference:=StartOfSession)=80\", \"Bar\", \"\", \"Close\",\"5\",\"0\",\"PrimaryOnly\",,,\"False\",\"T\",\"EveryTick\")=\"\",2,1)","v":2},{"$f":"RTD(\"cqg.rtd\",,\"StudyData\", \"Close(\"&$D$12&\") when LocalYear(\"&$D$12&\")=\"&$D$1&\" and localMonth(\"&$D$12&\") =\"&$E$1&\" and LocalDay(\"&$D$12&\")=\"&$F$1&\" and Barix(\"&$D$12&\",reference:=StartOfSession)=\"&A28&\"\", \"Bar\", \"\", \"Close\",\"5\",\"0\",\"PrimaryOnly\",,,\"False\",\"T\",\"EveryTick\")","v":""},{"$error":"#N/A"},{"$f":"RTD(\"cqg.rtd\",,\"StudyData\", \"Close(\"&$D$12&\") when LocalYear(\"&$D$12&\")=\"&$D$2&\" and localMonth(\"&$D$12&\") =\"&$E$2&\" and LocalDay(\"&$D$12&\")=\"&$F$2&\" and Barix(\"&$D$12&\",reference:=StartOfSession)=\"&A28&\"\", \"Bar\", \"\", \"Close\",\"5\",\"0\",\"PrimaryOnly\",,,\"False\",\"T\",\"EveryTick\")","v":119.734375},2.4856096284667714E-3,{"$f":"RTD(\"cqg.rtd\",,\"StudyData\", \"Close(\"&$D$12&\") when LocalYear(\"&$D$12&\")=\"&$D$3&\" and localMonth(\"&$D$12&\") =\"&$E$3&\" and LocalDay(\"&$D$12&\")=\"&$F$3&\" and Barix(\"&$D$12&\",reference:=StartOfSession)=\"&A28&\"\", \"Bar\", \"\", \"Close\",\"5\",\"0\",\"PrimaryOnly\",,,\"False\",\"T\",\"EveryTick\")","v":119.4375},2.097535395909806E-3,{"$f":"RTD(\"cqg.rtd\",,\"StudyData\", \"Close(\"&$D$12&\") when LocalYear(\"&$D$12&\")=\"&$D$4&\" and localMonth(\"&$D$12&\") =\"&$E$4&\" and LocalDay(\"&$D$12&\")=\"&$F$4&\" and Barix(\"&$D$12&\",reference:=StartOfSession)=\"&A28&\"\", \"Bar\", \"\", \"Close\",\"5\",\"0\",\"PrimaryOnly\",,,\"False\",\"T\",\"EveryTick\")","v":119.4375},2.6171159382360636E-4,{"$f":"RTD(\"cqg.rtd\",,\"StudyData\", \"Close(\"&$D$12&\") when LocalYear(\"&$D$12&\")=\"&$D$5&\" and localMonth(\"&$D$12&\") =\"&$E$5&\" and LocalDay(\"&$D$12&\")=\"&$F$5&\" and Barix(\"&$D$12&\",reference:=StartOfSession)=\"&A28&\"\", \"Bar\", \"\", \"Close\",\"5\",\"0\",\"PrimaryOnly\",,,\"False\",\"T\",\"EveryTick\")","v":119.375},-5.2328623757195189E-4,{"$f":"RTD(\"cqg.rtd\",,\"StudyData\", \"Close(\"&$D$12&\") when LocalYear(\"&$D$12&\")=\"&$D$6&\" and localMonth(\"&$D$12&\") =\"&$E$6&\" and LocalDay(\"&$D$12&\")=\"&$F$6&\" and Barix(\"&$D$12&\",reference:=StartOfSession)=\"&A28&\"\", \"Bar\", \"\", \"Close\",\"5\",\"0\",\"PrimaryOnly\",,,\"False\",\"T\",\"EveryTick\")","v":119.484375},-9.1455448131695844E-4,{"$f":"RTD(\"cqg.rtd\",,\"StudyData\", \"Close(\"&$D$12&\") when LocalYear(\"&$D$12&\")=\"&$D$7&\" and localMonth(\"&$D$12&\") =\"&$E$7&\" and LocalDay(\"&$D$12&\")=\"&$F$7&\" and Barix(\"&$D$12&\",reference:=StartOfSession)=\"&A28&\"\", \"Bar\", \"\", \"Close\",\"5\",\"0\",\"PrimaryOnly\",,,\"False\",\"T\",\"EveryTick\")","v":119.640625},3.9195192056441075E-4,{"$f":"RTD(\"cqg.rtd\",,\"StudyData\", \"Close(\"&$D$12&\") when LocalYear(\"&$D$12&\")=\"&$D$8&\" and localMonth(\"&$D$12&\") =\"&$E$8&\" and LocalDay(\"&$D$12&\")=\"&$F$8&\" and Barix(\"&$D$12&\",reference:=StartOfSession)=\"&A28&\"\", \"Bar\", \"\", \"Close\",\"5\",\"0\",\"PrimaryOnly\",,,\"False\",\"T\",\"EveryTick\")","v":119.3125},2.6198585276395077E-4,{"$f":"RTD(\"cqg.rtd\",,\"StudyData\", \"Close(\"&$D$12&\") when LocalYear(\"&$D$12&\")=\"&$D$9&\" and localMonth(\"&$D$12&\") =\"&$E$9&\" and LocalDay(\"&$D$12&\")=\"&$F$9&\" and Barix(\"&$D$12&\",reference:=StartOfSession)=\"&A28&\"\", \"Bar\", \"\", \"Close\",\"5\",\"0\",\"PrimaryOnly\",,,\"False\",\"T\",\"EveryTick\")","v":119.3125},-3.2632815559326457E-3,{"$f":"RTD(\"cqg.rtd\",,\"StudyData\", \"Close(\"&$D$12&\") when LocalYear(\"&$D$12&\")=\"&$D$10&\" and localMonth(\"&$D$12&\") =\"&$E$10&\" and LocalDay(\"&$D$12&\")=\"&$F$10&\" and Barix(\"&$D$12&\",reference:=StartOfSession)=\"&A28&\"\", \"Bar\", \"\", \"Close\",\"5\",\"0\",\"PrimaryOnly\",,,\"False\",\"T\",\"EveryTick\")","v":119.671875},1.4382845188284519E-3,null,null,null,""]
[208,"10:20:00","2018-06-13",2018,6,13,{"$f":"IF(RTD(\"cqg.rtd\",,\"StudyData\", \"Close(EP) when LocalYear(\"&$D$12&\")=\"&D29&\" and localMonth(\"&$D$12&\") =\"&E29&\" and LocalDay(\"&$D$12&\")=\"&F29&\" and Barix(\"&$D$12&\",reference:=StartOfSession)=80\", \"Bar\", \"\", \"Close\",\"5\",\"0\",\"PrimaryOnly\",,,\"False\",\"T\",\"EveryTick\")=\"\",2,1)","v":2},{"$f":"RTD(\"cqg.rtd\",,\"StudyData\", \"Close(\"&$D$12&\") when LocalYear(\"&$D$12&\")=\"&$D$1&\" and localMonth(\"&$D$12&\") =\"&$E$1&\" and LocalDay(\"&$D$12&\")=\"&$F$1&\" and Barix(\"&$D$12&\",reference:=StartOfSession)=\"&A29&\"\", \"Bar\", \"\", \"Close\",\"5\",\"0\",\"PrimaryOnly\",,,\"False\",\"T\",\"EveryTick\")","v":""},{"$error":"#N/A"},{"$f":"RTD(\"cqg.rtd\",,\"StudyData\", \"Close(\"&$D$12&\") when LocalYear(\"&$D$12&\")=\"&$D$2&\" and localMonth(\"&$D$12&\") =\"&$E$2&\" and LocalDay(\"&$D$12&\")=\"&$F$2&\" and Barix(\"&$D$12&\",reference:=StartOfSession)=\"&A29&\"\", \"Bar\", \"\", \"Close\",\"5\",\"0\",\"PrimaryOnly\",,,\"False\",\"T\",\"EveryTick\")","v":119.734375},2.4856096284667714E-3,{"$f":"RTD(\"cqg.rtd\",,\"StudyData\", \"Close(\"&$D$12&\") when LocalYear(\"&$D$12&\")=\"&$D$3&\" and localMonth(\"&$D$12&\") =\"&$E$3&\" and LocalDay(\"&$D$12&\")=\"&$F$3&\" and Barix(\"&$D$12&\",reference:=StartOfSession)=\"&A29&\"\", \"Bar\", \"\", \"Close\",\"5\",\"0\",\"PrimaryOnly\",,,\"False\",\"T\",\"EveryTick\")","v":119.40625},1.8353434714210803E-3,{"$f":"RTD(\"cqg.rtd\",,\"StudyData\", \"Close(\"&$D$12&\") when LocalYear(\"&$D$12&\")=\"&$D$4&\" and localMonth(\"&$D$12&\") =\"&$E$4&\" and LocalDay(\"&$D$12&\")=\"&$F$4&\" and Barix(\"&$D$12&\",reference:=StartOfSession)=\"&A29&\"\", \"Bar\", \"\", \"Close\",\"5\",\"0\",\"PrimaryOnly\",,,\"False\",\"T\",\"EveryTick\")","v":119.4375},2.6171159382360636E-4,{"$f":"RTD(\"cqg.rtd\",,\"StudyData\", \"Close(\"&$D$12&\") when LocalYear(\"&$D$12&\")=\"&$D$5&\" and localMonth(\"&$D$12&\") =\"&$E$5&\" and LocalDay(\"&$D$12&\")=\"&$F$5&\" and Barix(\"&$D$12&\",reference:=StartOfSession)=\"&A29&\"\", \"Bar\", \"\", \"Close\",\"5\",\"0\",\"PrimaryOnly\",,,\"False\",\"T\",\"EveryTick\")","v":119.34375},-7.8492935635792783E-4,{"$f":"RTD(\"cqg.rtd\",,\"StudyData\", \"Close(\"&$D$12&\") when LocalYear(\"&$D$12&\")=\"&$D$6&\" and localMonth(\"&$D$12&\") =\"&$E$6&\" and LocalDay(\"&$D$12&\")=\"&$F$6&\" and Barix(\"&$D$12&\",reference:=StartOfSession)=\"&A29&\"\", \"Bar\", \"\", \"Close\",\"5\",\"0\",\"PrimaryOnly\",,,\"False\",\"T\",\"EveryTick\")","v":119.46875},-1.0452051215050953E-3,{"$f":"RTD(\"cqg.rtd\",,\"StudyData\", \"Close(\"&$D$12&\") when LocalYear(\"&$D$12&\")=\"&$D$7&\" and localMonth(\"&$D$12&\") =\"&$E$7&\" and LocalDay(\"&$D$12&\")=\"&$F$7&\" and Barix(\"&$D$12&\",reference:=StartOfSession)=\"&A29&\"\", \"Bar\", \"\", \"Close\",\"5\",\"0\",\"PrimaryOnly\",,,\"False\",\"T\",\"EveryTick\")","v":119.640625},3.9195192056441075E-4,{"$f":"RTD(\"cqg.rtd\",,\"StudyData\", \"Close(\"&$D$12&\") when LocalYear(\"&$D$12&\")=\"&$D$8&\" and localMonth(\"&$D$12&\") =\"&$E$8&\" and LocalDay(\"&$D$12&\")=\"&$F$8&\" and Barix(\"&$D$12&\",reference:=StartOfSession)=\"&A29&\"\", \"Bar\", \"\", \"Close\",\"5\",\"0\",\"PrimaryOnly\",,,\"False\",\"T\",\"EveryTick\")","v":119.296875},1.3099292638197538E-4,{"$f":"RTD(\"cqg.rtd\",,\"StudyData\", \"Close(\"&$D$12&\") when LocalYear(\"&$D$12&\")=\"&$D$9&\" and localMonth(\"&$D$12&\") =\"&$E$9&\" and LocalDay(\"&$D$12&\")=\"&$F$9&\" and Barix(\"&$D$12&\",reference:=StartOfSession)=\"&A29&\"\", \"Bar\", \"\", \"Close\",\"5\",\"0\",\"PrimaryOnly\",,,\"False\",\"T\",\"EveryTick\")","v":119.328125},-3.1327502936953399E-3,{"$f":"RTD(\"cqg.rtd\",,\"StudyData\", \"Close(\"&$D$12&\") when LocalYear(\"&$D$12&\")=\"&$D$10&\" and localMonth(\"&$D$12&\") =\"&$E$10&\" and LocalDay(\"&$D$12&\")=\"&$F$10&\" and Barix(\"&$D$12&\",reference:=StartOfSession)=\"&A29&\"\", \"Bar\", \"\", \"Close\",\"5\",\"0\",\"PrimaryOnly\",,,\"False\",\"T\",\"EveryTick\")","v":119.703125},1.6997907949790796E-3,null,null,null,""]
[209,"10:25:00","2018-06-12",2018,6,12,{"$f":"IF(RTD(\"cqg.rtd\",,\"StudyData\", \"Close(EP) when LocalYear(\"&$D$12&\")=\"&D30&\" and localMonth(\"&$D$12&\") =\"&E30&\" and LocalDay(\"&$D$12&\")=\"&F30&\" and Barix(\"&$D$12&\",reference:=StartOfSession)=80\", \"Bar\", \"\", \"Close\",\"5\",\"0\",\"PrimaryOnly\",,,\"False\",\"T\",\"EveryTick\")=\"\",2,1)","v":2},{"$f":"RTD(\"cqg.rtd\",,\"StudyData\", \"Close(\"&$D$12&\") when LocalYear(\"&$D$12&\")=\"&$D$1&\" and localMonth(\"&$D$12&\") =\"&$E$1&\" and LocalDay(\"&$D$12&\")=\"&$F$1&\" and Barix(\"&$D$12&\",reference:=StartOfSession)=\"&A30&\"\", \"Bar\", \"\", \"Close\",\"5\",\"0\",\"PrimaryOnly\",,,\"False\",\"T\",\"EveryTick\")","v":""},{"$error":"#N/A"},{"$f":"RTD(\"cqg.rtd\",,\"StudyData\", \"Close(\"&$D$12&\") when LocalYear(\"&$D$12&\")=\"&$D$2&\" and localMonth(\"&$D$12&\") =\"&$E$2&\" and LocalDay(\"&$D$12&\")=\"&$F$2&\" and Barix(\"&$D$12&\",reference:=StartOfSession)=\"&A30&\"\", \"Bar\", \"\", \"Close\",\"5\",\"0\",\"PrimaryOnly\",,,\"False\",\"T\",\"EveryTick\")","v":119.71875},2.3547880690737832E-3,{"$f":"RTD(\"cqg.rtd\",,\"StudyData\", \"Close(\"&$D$12&\") when LocalYear(\"&$D$12&\")=\"&$D$3&\" and localMonth(\"&$D$12&\") =\"&$E$3&\" and LocalDay(\"&$D$12&\")=\"&$F$3&\" and Barix(\"&$D$12&\",reference:=StartOfSession)=\"&A30&\"\", \"Bar\", \"\", \"Close\",\"5\",\"0\",\"PrimaryOnly\",,,\"False\",\"T\",\"EveryTick\")","v":119.390625},1.7042475091767174E-3,{"$f":"RTD(\"cqg.rtd\",,\"StudyData\", \"Close(\"&$D$12&\") when LocalYear(\"&$D$12&\")=\"&$D$4&\" and localMonth(\"&$D$12&\") =\"&$E$4&\" and LocalDay(\"&$D$12&\")=\"&$F$4&\" and Barix(\"&$D$12&\",reference:=StartOfSession)=\"&A30&\"\", \"Bar\", \"\", \"Close\",\"5\",\"0\",\"PrimaryOnly\",,,\"False\",\"T\",\"EveryTick\")","v":119.421875},1.3085579691180318E-4,{"$f":"RTD(\"cqg.rtd\",,\"StudyData\", \"Close(\"&$D$12&\") when LocalYear(\"&$D$12&\")=\"&$D$5&\" and localMonth(\"&$D$12&\") =\"&$E$5&\" and LocalDay(\"&$D$12&\")=\"&$F$5&\" and Barix(\"&$D$12&\",reference:=StartOfSession)=\"&A30&\"\", \"Bar\", \"\", \"Close\",\"5\",\"0\",\"PrimaryOnly\",,,\"False\",\"T\",\"EveryTick\")","v":119.359375},-6.5410779696493981E-4,{"$f":"RTD(\"cqg.rtd\",,\"StudyData\", \"Close(\"&$D$12&\") when LocalYear(\"&$D$12&\")=\"&$D$6&\" and localMonth(\"&$D$12&\") =\"&$E$6&\" and LocalDay(\"&$D$12&\")=\"&$F$6&\" and Barix(\"&$D$12&\",reference:=StartOfSession)=\"&A30&\"\", \"Bar\", \"\", \"Close\",\"5\",\"0\",\"PrimaryOnly\",,,\"False\",\"T\",\"EveryTick\")","v":119.453125},-1.1758557616932323E-3,{"$f":"RTD(\"cqg.rtd\",,\"StudyData\", \"Close(\"&$D$12&\") when LocalYear(\"&$D$12&\")=\"&$D$7&\" and localMonth(\"&$D$12&\") =\"&$E$7&\" and LocalDay(\"&$D$12&\")=\"&$F$7&\" and Barix(\"&$D$12&\",reference:=StartOfSession)=\"&A30&\"\", \"Bar\", \"\", \"Close\",\"5\",\"0\",\"PrimaryOnly\",,,\"False\",\"T\",\"EveryTick\")","v":119.640625},3.9195192056441075E-4,{"$f":"RTD(\"cqg.rtd\",,\"StudyData\", \"Close(\"&$D$12&\") when LocalYear(\"&$D$12&\")=\"&$D$8&\" and localMonth(\"&$D$12&\") =\"&$E$8&\" and LocalDay(\"&$D$12&\")=\"&$F$8&\" and Barix(\"&$D$12&\",reference:=StartOfSession)=\"&A30&\"\", \"Bar\", \"\", \"Close\",\"5\",\"0\",\"PrimaryOnly\",,,\"False\",\"T\",\"EveryTick\")","v":119.34375},5.2397170552790154E-4,{"$f":"RTD(\"cqg.rtd\",,\"StudyData\", \"Close(\"&$D$12&\") when LocalYear(\"&$D$12&\")=\"&$D$9&\" and localMonth(\"&$D$12&\") =\"&$E$9&\" and LocalDay(\"&$D$12&\")=\"&$F$9&\" and Barix(\"&$D$12&\",reference:=StartOfSession)=\"&A30&\"\", \"Bar\", \"\", \"Close\",\"5\",\"0\",\"PrimaryOnly\",,,\"False\",\"T\",\"EveryTick\")","v":119.328125},-3.1327502936953399E-3,{"$f":"RTD(\"cqg.rtd\",,\"StudyData\", \"Close(\"&$D$12&\") when LocalYear(\"&$D$12&\")=\"&$D$10&\" and localMonth(\"&$D$12&\") =\"&$E$10&\" and LocalDay(\"&$D$12&\")=\"&$F$10&\" and Barix(\"&$D$12&\",reference:=StartOfSession)=\"&A30&\"\", \"Bar\", \"\", \"Close\",\"5\",\"0\",\"PrimaryOnly\",,,\"False\",\"T\",\"EveryTick\")","v":119.71875},1.8305439330543933E-3,null,null,null,""]
[210,"10:30:00","2018-06-11",2018,6,11,{"$f":"IF(RTD(\"cqg.rtd\",,\"StudyData\", \"Close(EP) when LocalYear(\"&$D$12&\")=\"&D31&\" and localMonth(\"&$D$12&\") =\"&E31&\" and LocalDay(\"&$D$12&\")=\"&F31&\" and Barix(\"&$D$12&\",reference:=StartOfSession)=80\", \"Bar\", \"\", \"Close\",\"5\",\"0\",\"PrimaryOnly\",,,\"False\",\"T\",\"EveryTick\")=\"\",2,1)","v":2},{"$f":"RTD(\"cqg.rtd\",,\"StudyData\", \"Close(\"&$D$12&\") when LocalYear(\"&$D$12&\")=\"&$D$1&\" and localMonth(\"&$D$12&\") =\"&$E$1&\" and LocalDay(\"&$D$12&\")=\"&$F$1&\" and Barix(\"&$D$12&\",reference:=StartOfSession)=\"&A31&\"\", \"Bar\", \"\", \"Close\",\"5\",\"0\",\"PrimaryOnly\",,,\"False\",\"T\",\"EveryTick\")","v":""},{"$error":"#N/A"},{"$f":"RTD(\"cqg.rtd\",,\"StudyData\", \"Close(\"&$D$12&\") when LocalYear(\"&$D$12&\")=\"&$D$2&\" and localMonth(\"&$D$12&\") =\"&$E$2&\" and LocalDay(\"&$D$12&\")=\"&$F$2&\" and Barix(\"&$D$12&\",reference:=StartOfSession)=\"&A31&\"\", \"Bar\", \"\", \"Close\",\"5\",\"0\",\"PrimaryOnly\",,,\"False\",\"T\",\"EveryTick\")","v":119.734375},2.4856096284667714E-3,{"$f":"RTD(\"cqg.rtd\",,\"StudyData\", \"Close(\"&$D$12&\") when LocalYear(\"&$D$12&\")=\"&$D$3&\" and localMonth(\"&$D$12&\") =\"&$E$3&\" and LocalDay(\"&$D$12&\")=\"&$F$3&\" and Barix(\"&$D$12&\",reference:=StartOfSession)=\"&A31&\"\", \"Bar\", \"\", \"Close\",\"5\",\"0\",\"PrimaryOnly\",,,\"False\",\"T\",\"EveryTick\")","v":119.421875},1.9664394336654429E-3,{"$f":"RTD(\"cqg.rtd\",,\"StudyData\", \"Close(\"&$D$12&\") when LocalYear(\"&$D$12&\")=\"&$D$4&\" and localMonth(\"&$D$12&\") =\"&$E$4&\" and LocalDay(\"&$D$12&\")=\"&$F$4&\" and Barix(\"&$D$12&\",reference:=StartOfSession)=\"&A31&\"\", \"Bar\", \"\", \"Close\",\"5\",\"0\",\"PrimaryOnly\",,,\"False\",\"T\",\"EveryTick\")","v":119.4375},2.6171159382360636E-4,{"$f":"RTD(\"cqg.rtd\",,\"StudyData\", \"Close(\"&$D$12&\") when LocalYear(\"&$D$12&\")=\"&$D$5&\" and localMonth(\"&$D$12&\") =\"&$E$5&\" and LocalDay(\"&$D$12&\")=\"&$F$5&\" and Barix(\"&$D$12&\",reference:=StartOfSession)=\"&A31&\"\", \"Bar\", \"\", \"Close\",\"5\",\"0\",\"PrimaryOnly\",,,\"False\",\"T\",\"EveryTick\")","v":119.328125},-9.1575091575091575E-4,{"$f":"RTD(\"cqg.rtd\",,\"StudyData\", \"Close(\"&$D$12&\") when LocalYear(\"&$D$12&\")=\"&$D$6&\" and localMonth(\"&$D$12&\") =\"&$E$6&\" and LocalDay(\"&$D$12&\")=\"&$F$6&\" and Barix(\"&$D$12&\",reference:=StartOfSession)=\"&A31&\"\", \"Bar\", \"\", \"Close\",\"5\",\"0\",\"PrimaryOnly\",,,\"False\",\"T\",\"EveryTick\")","v":119.4375},-1.3065064018813691E-3,{"$f":"RTD(\"cqg.rtd\",,\"StudyData\", \"Close(\"&$D$12&\") when LocalYear(\"&$D$12&\")=\"&$D$7&\" and localMonth(\"&$D$12&\") =\"&$E$7&\" and LocalDay(\"&$D$12&\")=\"&$F$7&\" and Barix(\"&$D$12&\",reference:=StartOfSession)=\"&A31&\"\", \"Bar\", \"\", \"Close\",\"5\",\"0\",\"PrimaryOnly\",,,\"False\",\"T\",\"EveryTick\")","v":119.6875},7.8390384112882151E-4,{"$f":"RTD(\"cqg.rtd\",,\"StudyData\", \"Close(\"&$D$12&\") when LocalYear(\"&$D$12&\")=\"&$D$8&\" and localMonth(\"&$D$12&\") =\"&$E$8&\" and LocalDay(\"&$D$12&\")=\"&$F$8&\" and Barix(\"&$D$12&\",reference:=StartOfSession)=\"&A31&\"\", \"Bar\", \"\", \"Close\",\"5\",\"0\",\"PrimaryOnly\",,,\"False\",\"T\",\"EveryTick\")","v":119.328125},3.929787791459261E-4,{"$f":"RTD(\"cqg.rtd\",,\"StudyData\", \"Close(\"&$D$12&\") when LocalYear(\"&$D$12&\")=\"&$D$9&\" and localMonth(\"&$D$12&\") =\"&$E$9&\" and LocalDay(\"&$D$12&\")=\"&$F$9&\" and Barix(\"&$D$12&\",reference:=StartOfSession)=\"&A31&\"\", \"Bar\", \"\", \"Close\",\"5\",\"0\",\"PrimaryOnly\",,,\"False\",\"T\",\"EveryTick\")","v":119.3125},-3.2632815559326457E-3,{"$f":"RTD(\"cqg.rtd\",,\"StudyData\", \"Close(\"&$D$12&\") when LocalYear(\"&$D$12&\")=\"&$D$10&\" and localMonth(\"&$D$12&\") =\"&$E$10&\" and LocalDay(\"&$D$12&\")=\"&$F$10&\" and Barix(\"&$D$12&\",reference:=StartOfSession)=\"&A31&\"\", \"Bar\", \"\", \"Close\",\"5\",\"0\",\"PrimaryOnly\",,,\"False\",\"T\",\"EveryTick\")","v":119.734375},1.961297071129707E-3,null,null,null,""]
[211,"10:35:00","2018-06-08",2018,6,8,{"$f":"IF(RTD(\"cqg.rtd\",,\"StudyData\", \"Close(EP) when LocalYear(\"&$D$12&\")=\"&D32&\" and localMonth(\"&$D$12&\") =\"&E32&\" and LocalDay(\"&$D$12&\")=\"&F32&\" and Barix(\"&$D$12&\",reference:=StartOfSession)=80\", \"Bar\", \"\", \"Close\",\"5\",\"0\",\"PrimaryOnly\",,,\"False\",\"T\",\"EveryTick\")=\"\",2,1)","v":2},{"$f":"RTD(\"cqg.rtd\",,\"StudyData\", \"Close(\"&$D$12&\") when LocalYear(\"&$D$12&\")=\"&$D$1&\" and localMonth(\"&$D$12&\") =\"&$E$1&\" and LocalDay(\"&$D$12&\")=\"&$F$1&\" and Barix(\"&$D$12&\",reference:=StartOfSession)=\"&A32&\"\", \"Bar\", \"\", \"Close\",\"5\",\"0\",\"PrimaryOnly\",,,\"False\",\"T\",\"EveryTick\")","v":""},{"$error":"#N/A"},{"$f":"RTD(\"cqg.rtd\",,\"StudyData\", \"Close(\"&$D$12&\") when LocalYear(\"&$D$12&\")=\"&$D$2&\" and localMonth(\"&$D$12&\") =\"&$E$2&\" and LocalDay(\"&$D$12&\")=\"&$F$2&\" and Barix(\"&$D$12&\",reference:=StartOfSession)=\"&A32&\"\", \"Bar\", \"\", \"Close\",\"5\",\"0\",\"PrimaryOnly\",,,\"False\",\"T\",\"EveryTick\")","v":119.703125},2.2239665096807954E-3,{"$f":"RTD(\"cqg.rtd\",,\"StudyData\", \"Close(\"&$D$12&\") when LocalYear(\"&$D$12&\")=\"&$D$3&\" and localMonth(\"&$D$12&\") =\"&$E$3&\" and LocalDay(\"&$D$12&\")=\"&$F$3&\" and Barix(\"&$D$12&\",reference:=StartOfSession)=\"&A32&\"\", \"Bar\", \"\", \"Close\",\"5\",\"0\",\"PrimaryOnly\",,,\"False\",\"T\",\"EveryTick\")","v":119.390625},1.7042475091767174E-3,{"$f":"RTD(\"cqg.rtd\",,\"StudyData\", \"Close(\"&$D$12&\") when LocalYear(\"&$D$12&\")=\"&$D$4&\" and localMonth(\"&$D$12&\") =\"&$E$4&\" and LocalDay(\"&$D$12&\")=\"&$F$4&\" and Barix(\"&$D$12&\",reference:=StartOfSession)=\"&A32&\"\", \"Bar\", \"\", \"Close\",\"5\",\"0\",\"PrimaryOnly\",,,\"False\",\"T\",\"EveryTick\")","v":119.453125},3.925673907354096E-4,{"$f":"RTD(\"cqg.rtd\",,\"StudyData\", \"Close(\"&$D$12&\") when LocalYear(\"&$D$12&\")=\"&$D$5&\" and localMonth(\"&$D$12&\") =\"&$E$5&\" and LocalDay(\"&$D$12&\")=\"&$F$5&\" and Barix(\"&$D$12&\",reference:=StartOfSession)=\"&A32&\"\", \"Bar\", \"\", \"Close\",\"5\",\"0\",\"PrimaryOnly\",,,\"False\",\"T\",\"EveryTick\")","v":119.34375},-7.8492935635792783E-4,{"$f":"RTD(\"cqg.rtd\",,\"StudyData\", \"Close(\"&$D$12&\") when LocalYear(\"&$D$12&\")=\"&$D$6&\" and localMonth(\"&$D$12&\") =\"&$E$6&\" and LocalDay(\"&$D$12&\")=\"&$F$6&\" and Barix(\"&$D$12&\",reference:=StartOfSession)=\"&A32&\"\", \"Bar\", \"\", \"Close\",\"5\",\"0\",\"PrimaryOnly\",,,\"False\",\"T\",\"EveryTick\")","v":119.453125},-1.1758557616932323E-3,{"$f":"RTD(\"cqg.rtd\",,\"StudyData\", \"Close(\"&$D$12&\") when LocalYear(\"&$D$12&\")=\"&$D$7&\" and localMonth(\"&$D$12&\") =\"&$E$7&\" and LocalDay(\"&$D$12&\")=\"&$F$7&\" and Barix(\"&$D$12&\",reference:=StartOfSession)=\"&A32&\"\", \"Bar\", \"\", \"Close\",\"5\",\"0\",\"PrimaryOnly\",,,\"False\",\"T\",\"EveryTick\")","v":119.6875},7.8390384112882151E-4,{"$f":"RTD(\"cqg.rtd\",,\"StudyData\", \"Close(\"&$D$12&\") when LocalYear(\"&$D$12&\")=\"&$D$8&\" and localMonth(\"&$D$12&\") =\"&$E$8&\" and LocalDay(\"&$D$12&\")=\"&$F$8&\" and Barix(\"&$D$12&\",reference:=StartOfSession)=\"&A32&\"\", \"Bar\", \"\", \"Close\",\"5\",\"0\",\"PrimaryOnly\",,,\"False\",\"T\",\"EveryTick\")","v":119.296875},1.3099292638197538E-4,{"$f":"RTD(\"cqg.rtd\",,\"StudyData\", \"Close(\"&$D$12&\") when LocalYear(\"&$D$12&\")=\"&$D$9&\" and localMonth(\"&$D$12&\") =\"&$E$9&\" and LocalDay(\"&$D$12&\")=\"&$F$9&\" and Barix(\"&$D$12&\",reference:=StartOfSession)=\"&A32&\"\", \"Bar\", \"\", \"Close\",\"5\",\"0\",\"PrimaryOnly\",,,\"False\",\"T\",\"EveryTick\")","v":119.3125},-3.2632815559326457E-3,{"$f":"RTD(\"cqg.rtd\",,\"StudyData\", \"Close(\"&$D$12&\") when LocalYear(\"&$D$12&\")=\"&$D$10&\" and localMonth(\"&$D$12&\") =\"&$E$10&\" and LocalDay(\"&$D$12&\")=\"&$F$10&\" and Barix(\"&$D$12&\",reference:=StartOfSession)=\"&A32&\"\", \"Bar\", \"\", \"Close\",\"5\",\"0\",\"PrimaryOnly\",,,\"False\",\"T\",\"EveryTick\")","v":119.75},2.0920502092050207E-3,null,null,null,""]
[212,"10:40:00","2018-06-07",2018,6,7,{"$f":"IF(RTD(\"cqg.rtd\",,\"StudyData\", \"Close(EP) when LocalYear(\"&$D$12&\")=\"&D33&\" and localMonth(\"&$D$12&\") =\"&E33&\" and LocalDay(\"&$D$12&\")=\"&F33&\" and Barix(\"&$D$12&\",reference:=StartOfSession)=80\", \"Bar\", \"\", \"Close\",\"5\",\"0\",\"PrimaryOnly\",,,\"False\",\"T\",\"EveryTick\")=\"\",2,1)","v":2},{"$f":"RTD(\"cqg.rtd\",,\"StudyData\", \"Close(\"&$D$12&\") when LocalYear(\"&$D$12&\")=\"&$D$1&\" and localMonth(\"&$D$12&\") =\"&$E$1&\" and LocalDay(\"&$D$12&\")=\"&$F$1&\" and Barix(\"&$D$12&\",reference:=StartOfSession)=\"&A33&\"\", \"Bar\", \"\", \"Close\",\"5\",\"0\",\"PrimaryOnly\",,,\"False\",\"T\",\"EveryTick\")","v":""},{"$error":"#N/A"},{"$f":"RTD(\"cqg.rtd\",,\"StudyData\", \"Close(\"&$D$12&\") when LocalYear(\"&$D$12&\")=\"&$D$2&\" and localMonth(\"&$D$12&\") =\"&$E$2&\" and LocalDay(\"&$D$12&\")=\"&$F$2&\" and Barix(\"&$D$12&\",reference:=StartOfSession)=\"&A33&\"\", \"Bar\", \"\", \"Close\",\"5\",\"0\",\"PrimaryOnly\",,,\"False\",\"T\",\"EveryTick\")","v":119.65625},1.8315018315018315E-3,{"$f":"RTD(\"cqg.rtd\",,\"StudyData\", \"Close(\"&$D$12&\") when LocalYear(\"&$D$12&\")=\"&$D$3&\" and localMonth(\"&$D$12&\") =\"&$E$3&\" and LocalDay(\"&$D$12&\")=\"&$F$3&\" and Barix(\"&$D$12&\",reference:=StartOfSession)=\"&A33&\"\", \"Bar\", \"\", \"Close\",\"5\",\"0\",\"PrimaryOnly\",,,\"False\",\"T\",\"EveryTick\")","v":119.40625},1.8353434714210803E-3,{"$f":"RTD(\"cqg.rtd\",,\"StudyData\", \"Close(\"&$D$12&\") when LocalYear(\"&$D$12&\")=\"&$D$4&\" and localMonth(\"&$D$12&\") =\"&$E$4&\" and LocalDay(\"&$D$12&\")=\"&$F$4&\" and Barix(\"&$D$12&\",reference:=StartOfSession)=\"&A33&\"\", \"Bar\", \"\", \"Close\",\"5\",\"0\",\"PrimaryOnly\",,,\"False\",\"T\",\"EveryTick\")","v":119.453125},3.925673907354096E-4,{"$f":"RTD(\"cqg.rtd\",,\"StudyData\", \"Close(\"&$D$12&\") when LocalYear(\"&$D$12&\")=\"&$D$5&\" and localMonth(\"&$D$12&\") =\"&$E$5&\" and LocalDay(\"&$D$12&\")=\"&$F$5&\" and Barix(\"&$D$12&\",reference:=StartOfSession)=\"&A33&\"\", \"Bar\", \"\", \"Close\",\"5\",\"0\",\"PrimaryOnly\",,,\"False\",\"T\",\"EveryTick\")","v":119.34375},-7.8492935635792783E-4,{"$f":"RTD(\"cqg.rtd\",,\"StudyData\", \"Close(\"&$D$12&\") when LocalYear(\"&$D$12&\")=\"&$D$6&\" and localMonth(\"&$D$12&\") =\"&$E$6&\" and LocalDay(\"&$D$12&\")=\"&$F$6&\" and Barix(\"&$D$12&\",reference:=StartOfSession)=\"&A33&\"\", \"Bar\", \"\", \"Close\",\"5\",\"0\",\"PrimaryOnly\",,,\"False\",\"T\",\"EveryTick\")","v":119.453125},-1.1758557616932323E-3,{"$f":"RTD(\"cqg.rtd\",,\"StudyData\", \"Close(\"&$D$12&\") when LocalYear(\"&$D$12&\")=\"&$D$7&\" and localMonth(\"&$D$12&\") =\"&$E$7&\" and LocalDay(\"&$D$12&\")=\"&$F$7&\" and Barix(\"&$D$12&\",reference:=StartOfSession)=\"&A33&\"\", \"Bar\", \"\", \"Close\",\"5\",\"0\",\"PrimaryOnly\",,,\"False\",\"T\",\"EveryTick\")","v":119.640625},3.9195192056441075E-4,{"$f":"RTD(\"cqg.rtd\",,\"StudyData\", \"Close(\"&$D$12&\") when LocalYear(\"&$D$12&\")=\"&$D$8&\" and localMonth(\"&$D$12&\") =\"&$E$8&\" and LocalDay(\"&$D$12&\")=\"&$F$8&\" and Barix(\"&$D$12&\",reference:=StartOfSession)=\"&A33&\"\", \"Bar\", \"\", \"Close\",\"5\",\"0\",\"PrimaryOnly\",,,\"False\",\"T\",\"EveryTick\")","v":119.3125},2.6198585276395077E-4,{"$f":"RTD(\"cqg.rtd\",,\"StudyData\", \"Close(\"&$D$12&\") when LocalYear(\"&$D$12&\")=\"&$D$9&\" and localMonth(\"&$D$12&\") =\"&$E$9&\" and LocalDay(\"&$D$12&\")=\"&$F$9&\" and Barix(\"&$D$12&\",reference:=StartOfSession)=\"&A33&\"\", \"Bar\", \"\", \"Close\",\"5\",\"0\",\"PrimaryOnly\",,,\"False\",\"T\",\"EveryTick\")","v":119.296875},-3.3938128181699519E-3,{"$f":"RTD(\"cqg.rtd\",,\"StudyData\", \"Close(\"&$D$12&\") when LocalYear(\"&$D$12&\")=\"&$D$10&\" and localMonth(\"&$D$12&\") =\"&$E$10&\" and LocalDay(\"&$D$12&\")=\"&$F$10&\" and Barix(\"&$D$12&\",reference:=StartOfSession)=\"&A33&\"\", \"Bar\", \"\", \"Close\",\"5\",\"0\",\"PrimaryOnly\",,,\"False\",\"T\",\"EveryTick\")","v":119.765625},2.2228033472803349E-3,null,null,null,""]
[213,"10:45:00","2018-06-06",2018,6,6,{"$f":"IF(RTD(\"cqg.rtd\",,\"StudyData\", \"Close(EP) when LocalYear(\"&$D$12&\")=\"&D34&\" and localMonth(\"&$D$12&\") =\"&E34&\" and LocalDay(\"&$D$12&\")=\"&F34&\" and Barix(\"&$D$12&\",reference:=StartOfSession)=80\", \"Bar\", \"\", \"Close\",\"5\",\"0\",\"PrimaryOnly\",,,\"False\",\"T\",\"EveryTick\")=\"\",2,1)","v":2},{"$f":"RTD(\"cqg.rtd\",,\"StudyData\", \"Close(\"&$D$12&\") when LocalYear(\"&$D$12&\")=\"&$D$1&\" and localMonth(\"&$D$12&\") =\"&$E$1&\" and LocalDay(\"&$D$12&\")=\"&$F$1&\" and Barix(\"&$D$12&\",reference:=StartOfSession)=\"&A34&\"\", \"Bar\", \"\", \"Close\",\"5\",\"0\",\"PrimaryOnly\",,,\"False\",\"T\",\"EveryTick\")","v":""},{"$error":"#N/A"},{"$f":"RTD(\"cqg.rtd\",,\"StudyData\", \"Close(\"&$D$12&\") when LocalYear(\"&$D$12&\")=\"&$D$2&\" and localMonth(\"&$D$12&\") =\"&$E$2&\" and LocalDay(\"&$D$12&\")=\"&$F$2&\" and Barix(\"&$D$12&\",reference:=StartOfSession)=\"&A34&\"\", \"Bar\", \"\", \"Close\",\"5\",\"0\",\"PrimaryOnly\",,,\"False\",\"T\",\"EveryTick\")","v":119.65625},1.8315018315018315E-3,{"$f":"RTD(\"cqg.rtd\",,\"StudyData\", \"Close(\"&$D$12&\") when LocalYear(\"&$D$12&\")=\"&$D$3&\" and localMonth(\"&$D$12&\") =\"&$E$3&\" and LocalDay(\"&$D$12&\")=\"&$F$3&\" and Barix(\"&$D$12&\",reference:=StartOfSession)=\"&A34&\"\", \"Bar\", \"\", \"Close\",\"5\",\"0\",\"PrimaryOnly\",,,\"False\",\"T\",\"EveryTick\")","v":119.390625},1.7042475091767174E-3,{"$f":"RTD(\"cqg.rtd\",,\"StudyData\", \"Close(\"&$D$12&\") when LocalYear(\"&$D$12&\")=\"&$D$4&\" and localMonth(\"&$D$12&\") =\"&$E$4&\" and LocalDay(\"&$D$12&\")=\"&$F$4&\" and Barix(\"&$D$12&\",reference:=StartOfSession)=\"&A34&\"\", \"Bar\", \"\", \"Close\",\"5\",\"0\",\"PrimaryOnly\",,,\"False\",\"T\",\"EveryTick\")","v":119.4375},2.6171159382360636E-4,{"$f":"RTD(\"cqg.rtd\",,\"StudyData\", \"Close(\"&$D$12&\") when LocalYear(\"&$D$12&\")=\"&$D$5&\" and localMonth(\"&$D$12&\") =\"&$E$5&\" and LocalDay(\"&$D$12&\")=\"&$F$5&\" and Barix(\"&$D$12&\",reference:=StartOfSession)=\"&A34&\"\", \"Bar\", \"\", \"Close\",\"5\",\"0\",\"PrimaryOnly\",,,\"False\",\"T\",\"EveryTick\")","v":119.375},-5.2328623757195189E-4,{"$f":"RTD(\"cqg.rtd\",,\"StudyData\", \"Close(\"&$D$12&\") when LocalYear(\"&$D$12&\")=\"&$D$6&\" and localMonth(\"&$D$12&\") =\"&$E$6&\" and LocalDay(\"&$D$12&\")=\"&$F$6&\" and Barix(\"&$D$12&\",reference:=StartOfSession)=\"&A34&\"\", \"Bar\", \"\", \"Close\",\"5\",\"0\",\"PrimaryOnly\",,,\"False\",\"T\",\"EveryTick\")","v":119.46875},-1.0452051215050953E-3,{"$f":"RTD(\"cqg.rtd\",,\"StudyData\", \"Close(\"&$D$12&\") when LocalYear(\"&$D$12&\")=\"&$D$7&\" and localMonth(\"&$D$12&\") =\"&$E$7&\" and LocalDay(\"&$D$12&\")=\"&$F$7&\" and Barix(\"&$D$12&\",reference:=StartOfSession)=\"&A34&\"\", \"Bar\", \"\", \"Close\",\"5\",\"0\",\"PrimaryOnly\",,,\"False\",\"T\",\"EveryTick\")","v":119.640625},3.9195192056441075E-4,{"$f":"RTD(\"cqg.rtd\",,\"StudyData\", \"Close(\"&$D$12&\") when LocalYear(\"&$D$12&\")=\"&$D$8&\" and localMonth(\"&$D$12&\") =\"&$E$8&\" and LocalDay(\"&$D$12&\")=\"&$F$8&\" and Barix(\"&$D$12&\",reference:=StartOfSession)=\"&A34&\"\", \"Bar\", \"\", \"Close\",\"5\",\"0\",\"PrimaryOnly\",,,\"False\",\"T\",\"EveryTick\")","v":119.328125},3.929787791459261E-4,{"$f":"RTD(\"cqg.rtd\",,\"StudyData\", \"Close(\"&$D$12&\") when LocalYear(\"&$D$12&\")=\"&$D$9&\" and localMonth(\"&$D$12&\") =\"&$E$9&\" and LocalDay(\"&$D$12&\")=\"&$F$9&\" and Barix(\"&$D$12&\",reference:=StartOfSession)=\"&A34&\"\", \"Bar\", \"\", \"Close\",\"5\",\"0\",\"PrimaryOnly\",,,\"False\",\"T\",\"EveryTick\")","v":119.328125},-3.1327502936953399E-3,{"$f":"RTD(\"cqg.rtd\",,\"StudyData\", \"Close(\"&$D$12&\") when LocalYear(\"&$D$12&\")=\"&$D$10&\" and localMonth(\"&$D$12&\") =\"&$E$10&\" and LocalDay(\"&$D$12&\")=\"&$F$10&\" and Barix(\"&$D$12&\",reference:=StartOfSession)=\"&A34&\"\", \"Bar\", \"\", \"Close\",\"5\",\"0\",\"PrimaryOnly\",,,\"False\",\"T\",\"EveryTick\")","v":119.765625},2.2228033472803349E-3,null,null,null,""]
[214,"10:50:00","2018-06-05",2018,6,5,{"$f":"IF(RTD(\"cqg.rtd\",,\"StudyData\", \"Close(EP) when LocalYear(\"&$D$12&\")=\"&D35&\" and localMonth(\"&$D$12&\") =\"&E35&\" and LocalDay(\"&$D$12&\")=\"&F35&\" and Barix(\"&$D$12&\",reference:=StartOfSession)=80\", \"Bar\", \"\", \"Close\",\"5\",\"0\",\"PrimaryOnly\",,,\"False\",\"T\",\"EveryTick\")=\"\",2,1)","v":2},{"$f":"RTD(\"cqg.rtd\",,\"StudyData\", \"Close(\"&$D$12&\") when LocalYear(\"&$D$12&\")=\"&$D$1&\" and localMonth(\"&$D$12&\") =\"&$E$1&\" and LocalDay(\"&$D$12&\")=\"&$F$1&\" and Barix(\"&$D$12&\",reference:=StartOfSession)=\"&A35&\"\", \"Bar\", \"\", \"Close\",\"5\",\"0\",\"PrimaryOnly\",,,\"False\",\"T\",\"EveryTick\")","v":""},{"$error":"#N/A"},{"$f":"RTD(\"cqg.rtd\",,\"StudyData\", \"Close(\"&$D$12&\") when LocalYear(\"&$D$12&\")=\"&$D$2&\" and localMonth(\"&$D$12&\") =\"&$E$2&\" and LocalDay(\"&$D$12&\")=\"&$F$2&\" and Barix(\"&$D$12&\",reference:=StartOfSession)=\"&A35&\"\", \"Bar\", \"\", \"Close\",\"5\",\"0\",\"PrimaryOnly\",,,\"False\",\"T\",\"EveryTick\")","v":119.640625},1.7006802721088435E-3,{"$f":"RTD(\"cqg.rtd\",,\"StudyData\", \"Close(\"&$D$12&\") when LocalYear(\"&$D$12&\")=\"&$D$3&\" and localMonth(\"&$D$12&\") =\"&$E$3&\" and LocalDay(\"&$D$12&\")=\"&$F$3&\" and Barix(\"&$D$12&\",reference:=StartOfSession)=\"&A35&\"\", \"Bar\", \"\", \"Close\",\"5\",\"0\",\"PrimaryOnly\",,,\"False\",\"T\",\"EveryTick\")","v":119.390625},1.7042475091767174E-3,{"$f":"RTD(\"cqg.rtd\",,\"StudyData\", \"Close(\"&$D$12&\") when LocalYear(\"&$D$12&\")=\"&$D$4&\" and localMonth(\"&$D$12&\") =\"&$E$4&\" and LocalDay(\"&$D$12&\")=\"&$F$4&\" and Barix(\"&$D$12&\",reference:=StartOfSession)=\"&A35&\"\", \"Bar\", \"\", \"Close\",\"5\",\"0\",\"PrimaryOnly\",,,\"False\",\"T\",\"EveryTick\")","v":119.421875},1.3085579691180318E-4,{"$f":"RTD(\"cqg.rtd\",,\"StudyData\", \"Close(\"&$D$12&\") when LocalYear(\"&$D$12&\")=\"&$D$5&\" and localMonth(\"&$D$12&\") =\"&$E$5&\" and LocalDay(\"&$D$12&\")=\"&$F$5&\" and Barix(\"&$D$12&\",reference:=StartOfSession)=\"&A35&\"\", \"Bar\", \"\", \"Close\",\"5\",\"0\",\"PrimaryOnly\",,,\"False\",\"T\",\"EveryTick\")","v":119.375},-5.2328623757195189E-4,{"$f":"RTD(\"cqg.rtd\",,\"StudyData\", \"Close(\"&$D$12&\") when LocalYear(\"&$D$12&\")=\"&$D$6&\" and localMonth(\"&$D$12&\") =\"&$E$6&\" and LocalDay(\"&$D$12&\")=\"&$F$6&\" and Barix(\"&$D$12&\",reference:=StartOfSession)=\"&A35&\"\", \"Bar\", \"\", \"Close\",\"5\",\"0\",\"PrimaryOnly\",,,\"False\",\"T\",\"EveryTick\")","v":119.46875},-1.0452051215050953E-3,{"$f":"RTD(\"cqg.rtd\",,\"StudyData\", \"Close(\"&$D$12&\") when LocalYear(\"&$D$12&\")=\"&$D$7&\" and localMonth(\"&$D$12&\") =\"&$E$7&\" and LocalDay(\"&$D$12&\")=\"&$F$7&\" and Barix(\"&$D$12&\",reference:=StartOfSession)=\"&A35&\"\", \"Bar\", \"\", \"Close\",\"5\",\"0\",\"PrimaryOnly\",,,\"False\",\"T\",\"EveryTick\")","v":119.640625},3.9195192056441075E-4,{"$f":"RTD(\"cqg.rtd\",,\"StudyData\", \"Close(\"&$D$12&\") when LocalYear(\"&$D$12&\")=\"&$D$8&\" and localMonth(\"&$D$12&\") =\"&$E$8&\" and LocalDay(\"&$D$12&\")=\"&$F$8&\" and Barix(\"&$D$12&\",reference:=StartOfSession)=\"&A35&\"\", \"Bar\", \"\", \"Close\",\"5\",\"0\",\"PrimaryOnly\",,,\"False\",\"T\",\"EveryTick\")","v":119.375},7.859575582918522E-4,{"$f":"RTD(\"cqg.rtd\",,\"StudyData\", \"Close(\"&$D$12&\") when LocalYear(\"&$D$12&\")=\"&$D$9&\" and localMonth(\"&$D$12&\") =\"&$E$9&\" and LocalDay(\"&$D$12&\")=\"&$F$9&\" and Barix(\"&$D$12&\",reference:=StartOfSession)=\"&A35&\"\", \"Bar\", \"\", \"Close\",\"5\",\"0\",\"PrimaryOnly\",,,\"False\",\"T\",\"EveryTick\")","v":119.328125},-3.1327502936953399E-3,{"$f":"RTD(\"cqg.rtd\",,\"StudyData\", \"Close(\"&$D$12&\") when LocalYear(\"&$D$12&\")=\"&$D$10&\" and localMonth(\"&$D$12&\") =\"&$E$10&\" and LocalDay(\"&$D$12&\")=\"&$F$10&\" and Barix(\"&$D$12&\",reference:=StartOfSession)=\"&A35&\"\", \"Bar\", \"\", \"Close\",\"5\",\"0\",\"PrimaryOnly\",,,\"False\",\"T\",\"EveryTick\")","v":119.765625},2.2228033472803349E-3,null,null,null,""]
[215,"10:55:00","2018-06-04",2018,6,4,{"$f":"IF(RTD(\"cqg.rtd\",,\"StudyData\", \"Close(EP) when LocalYear(\"&$D$12&\")=\"&D36&\" and localMonth(\"&$D$12&\") =\"&E36&\" and LocalDay(\"&$D$12&\")=\"&F36&\" and Barix(\"&$D$12&\",reference:=StartOfSession)=80\", \"Bar\", \"\", \"Close\",\"5\",\"0\",\"PrimaryOnly\",,,\"False\",\"T\",\"EveryTick\")=\"\",2,1)","v":2},{"$f":"RTD(\"cqg.rtd\",,\"StudyData\", \"Close(\"&$D$12&\") when LocalYear(\"&$D$12&\")=\"&$D$1&\" and localMonth(\"&$D$12&\") =\"&$E$1&\" and LocalDay(\"&$D$12&\")=\"&$F$1&\" and Barix(\"&$D$12&\",reference:=StartOfSession)=\"&A36&\"\", \"Bar\", \"\", \"Close\",\"5\",\"0\",\"PrimaryOnly\",,,\"False\",\"T\",\"EveryTick\")","v":""},{"$error":"#N/A"},{"$f":"RTD(\"cqg.rtd\",,\"StudyData\", \"Close(\"&$D$12&\") when LocalYear(\"&$D$12&\")=\"&$D$2&\" and localMonth(\"&$D$12&\") =\"&$E$2&\" and LocalDay(\"&$D$12&\")=\"&$F$2&\" and Barix(\"&$D$12&\",reference:=StartOfSession)=\"&A36&\"\", \"Bar\", \"\", \"Close\",\"5\",\"0\",\"PrimaryOnly\",,,\"False\",\"T\",\"EveryTick\")","v":119.65625},1.8315018315018315E-3,{"$f":"RTD(\"cqg.rtd\",,\"StudyData\", \"Close(\"&$D$12&\") when LocalYear(\"&$D$12&\")=\"&$D$3&\" and localMonth(\"&$D$12&\") =\"&$E$3&\" and LocalDay(\"&$D$12&\")=\"&$F$3&\" and Barix(\"&$D$12&\",reference:=StartOfSession)=\"&A36&\"\", \"Bar\", \"\", \"Close\",\"5\",\"0\",\"PrimaryOnly\",,,\"False\",\"T\",\"EveryTick\")","v":119.375},1.5731515469323545E-3,{"$f":"RTD(\"cqg.rtd\",,\"StudyData\", \"Close(\"&$D$12&\") when LocalYear(\"&$D$12&\")=\"&$D$4&\" and localMonth(\"&$D$12&\") =\"&$E$4&\" and LocalDay(\"&$D$12&\")=\"&$F$4&\" and Barix(\"&$D$12&\",reference:=StartOfSession)=\"&A36&\"\", \"Bar\", \"\", \"Close\",\"5\",\"0\",\"PrimaryOnly\",,,\"False\",\"T\",\"EveryTick\")","v":119.390625},-1.3085579691180318E-4,{"$f":"RTD(\"cqg.rtd\",,\"StudyData\", \"Close(\"&$D$12&\") when LocalYear(\"&$D$12&\")=\"&$D$5&\" and localMonth(\"&$D$12&\") =\"&$E$5&\" and LocalDay(\"&$D$12&\")=\"&$F$5&\" and Barix(\"&$D$12&\",reference:=StartOfSession)=\"&A36&\"\", \"Bar\", \"\", \"Close\",\"5\",\"0\",\"PrimaryOnly\",,,\"False\",\"T\",\"EveryTick\")","v":119.375},-5.2328623757195189E-4,{"$f":"RTD(\"cqg.rtd\",,\"StudyData\", \"Close(\"&$D$12&\") when LocalYear(\"&$D$12&\")=\"&$D$6&\" and localMonth(\"&$D$12&\") =\"&$E$6&\" and LocalDay(\"&$D$12&\")=\"&$F$6&\" and Barix(\"&$D$12&\",reference:=StartOfSession)=\"&A36&\"\", \"Bar\", \"\", \"Close\",\"5\",\"0\",\"PrimaryOnly\",,,\"False\",\"T\",\"EveryTick\")","v":119.46875},-1.0452051215050953E-3,{"$f":"RTD(\"cqg.rtd\",,\"StudyData\", \"Close(\"&$D$12&\") when LocalYear(\"&$D$12&\")=\"&$D$7&\" and localMonth(\"&$D$12&\") =\"&$E$7&\" and LocalDay(\"&$D$12&\")=\"&$F$7&\" and Barix(\"&$D$12&\",reference:=StartOfSession)=\"&A36&\"\", \"Bar\", \"\", \"Close\",\"5\",\"0\",\"PrimaryOnly\",,,\"False\",\"T\",\"EveryTick\")","v":119.6875},7.8390384112882151E-4,{"$f":"RTD(\"cqg.rtd\",,\"StudyData\", \"Close(\"&$D$12&\") when LocalYear(\"&$D$12&\")=\"&$D$8&\" and localMonth(\"&$D$12&\") =\"&$E$8&\" and LocalDay(\"&$D$12&\")=\"&$F$8&\" and Barix(\"&$D$12&\",reference:=StartOfSession)=\"&A36&\"\", \"Bar\", \"\", \"Close\",\"5\",\"0\",\"PrimaryOnly\",,,\"False\",\"T\",\"EveryTick\")","v":119.40625},1.0479434110558031E-3,{"$f":"RTD(\"cqg.rtd\",,\"StudyData\", \"Close(\"&$D$12&\") when LocalYear(\"&$D$12&\")=\"&$D$9&\" and localMonth(\"&$D$12&\") =\"&$E$9&\" and LocalDay(\"&$D$12&\")=\"&$F$9&\" and Barix(\"&$D$12&\",reference:=StartOfSession)=\"&A36&\"\", \"Bar\", \"\", \"Close\",\"5\",\"0\",\"PrimaryOnly\",,,\"False\",\"T\",\"EveryTick\")","v":119.3125},-3.2632815559326457E-3,{"$f":"RTD(\"cqg.rtd\",,\"StudyData\", \"Close(\"&$D$12&\") when LocalYear(\"&$D$12&\")=\"&$D$10&\" and localMonth(\"&$D$12&\") =\"&$E$10&\" and LocalDay(\"&$D$12&\")=\"&$F$10&\" and Barix(\"&$D$12&\",reference:=StartOfSession)=\"&A36&\"\", \"Bar\", \"\", \"Close\",\"5\",\"0\",\"PrimaryOnly\",,,\"False\",\"T\",\"EveryTick\")","v":119.75},2.0920502092050207E-3,null,null,null,""]
[216,"11:00:00",null,null,null,null,null,{"$f":"RTD(\"cqg.rtd\",,\"StudyData\", \"Close(\"&$D$12&\") when LocalYear(\"&$D$12&\")=\"&$D$1&\" and localMonth(\"&$D$12&\") =\"&$E$1&\" and LocalDay(\"&$D$12&\")=\"&$F$1&\" and Barix(\"&$D$12&\",reference:=StartOfSession)=\"&A37&\"\", \"Bar\", \"\", \"Close\",\"5\",\"0\",\"PrimaryOnly\",,,\"False\",\"T\",\"EveryTick\")","v":""},{"$error":"#N/A"},{"$f":"RTD(\"cqg.rtd\",,\"StudyData\", \"Close(\"&$D$12&\") when LocalYear(\"&$D$12&\")=\"&$D$2&\" and localMonth(\"&$D$12&\") =\"&$E$2&\" and LocalDay(\"&$D$12&\")=\"&$F$2&\" and Barix(\"&$D$12&\",reference:=StartOfSession)=\"&A37&\"\", \"Bar\", \"\", \"Close\",\"5\",\"0\",\"PrimaryOnly\",,,\"False\",\"T\",\"EveryTick\")","v":119.640625},1.7006802721088435E-3,{"$f":"RTD(\"cqg.rtd\",,\"StudyData\", \"Close(\"&$D$12&\") when LocalYear(\"&$D$12&\")=\"&$D$3&\" and localMonth(\"&$D$12&\") =\"&$E$3&\" and LocalDay(\"&$D$12&\")=\"&$F$3&\" and Barix(\"&$D$12&\",reference:=StartOfSession)=\"&A37&\"\", \"Bar\", \"\", \"Close\",\"5\",\"0\",\"PrimaryOnly\",,,\"False\",\"T\",\"EveryTick\")","v":119.390625},1.7042475091767174E-3,{"$f":"RTD(\"cqg.rtd\",,\"StudyData\", \"Close(\"&$D$12&\") when LocalYear(\"&$D$12&\")=\"&$D$4&\" and localMonth(\"&$D$12&\") =\"&$E$4&\" and LocalDay(\"&$D$12&\")=\"&$F$4&\" and Barix(\"&$D$12&\",reference:=StartOfSession)=\"&A37&\"\", \"Bar\", \"\", \"Close\",\"5\",\"0\",\"PrimaryOnly\",,,\"False\",\"T\",\"EveryTick\")","v":119.390625},-1.3085579691180318E-4,{"$f":"RTD(\"cqg.rtd\",,\"StudyData\", \"Close(\"&$D$12&\") when LocalYear(\"&$D$12&\")=\"&$D$5&\" and localMonth(\"&$D$12&\") =\"&$E$5&\" and LocalDay(\"&$D$12&\")=\"&$F$5&\" and Barix(\"&$D$12&\",reference:=StartOfSession)=\"&A37&\"\", \"Bar\", \"\", \"Close\",\"5\",\"0\",\"PrimaryOnly\",,,\"False\",\"T\",\"EveryTick\")","v":119.375},-5.2328623757195189E-4,{"$f":"RTD(\"cqg.rtd\",,\"StudyData\", \"Close(\"&$D$12&\") when LocalYear(\"&$D$12&\")=\"&$D$6&\" and localMonth(\"&$D$12&\") =\"&$E$6&\" and LocalDay(\"&$D$12&\")=\"&$F$6&\" and Barix(\"&$D$12&\",reference:=StartOfSession)=\"&A37&\"\", \"Bar\", \"\", \"Close\",\"5\",\"0\",\"PrimaryOnly\",,,\"False\",\"T\",\"EveryTick\")","v":119.46875},-1.0452051215050953E-3,{"$f":"RTD(\"cqg.rtd\",,\"StudyData\", \"Close(\"&$D$12&\") when LocalYear(\"&$D$12&\")=\"&$D$7&\" and localMonth(\"&$D$12&\") =\"&$E$7&\" and LocalDay(\"&$D$12&\")=\"&$F$7&\" and Barix(\"&$D$12&\",reference:=StartOfSession)=\"&A37&\"\", \"Bar\", \"\", \"Close\",\"5\",\"0\",\"PrimaryOnly\",,,\"False\",\"T\",\"EveryTick\")","v":119.6875},7.8390384112882151E-4,{"$f":"RTD(\"cqg.rtd\",,\"StudyData\", \"Close(\"&$D$12&\") when LocalYear(\"&$D$12&\")=\"&$D$8&\" and localMonth(\"&$D$12&\") =\"&$E$8&\" and LocalDay(\"&$D$12&\")=\"&$F$8&\" and Barix(\"&$D$12&\",reference:=StartOfSession)=\"&A37&\"\", \"Bar\", \"\", \"Close\",\"5\",\"0\",\"PrimaryOnly\",,,\"False\",\"T\",\"EveryTick\")","v":119.375},7.859575582918522E-4,{"$f":"RTD(\"cqg.rtd\",,\"StudyData\", \"Close(\"&$D$12&\") when LocalYear(\"&$D$12&\")=\"&$D$9&\" and localMonth(\"&$D$12&\") =\"&$E$9&\" and LocalDay(\"&$D$12&\")=\"&$F$9&\" and Barix(\"&$D$12&\",reference:=StartOfSession)=\"&A37&\"\", \"Bar\", \"\", \"Close\",\"5\",\"0\",\"PrimaryOnly\",,,\"False\",\"T\",\"EveryTick\")","v":119.34375},-3.0022190314580341E-3,{"$f":"RTD(\"cqg.rtd\",,\"StudyData\", \"Close(\"&$D$12&\") when LocalYear(\"&$D$12&\")=\"&$D$10&\" and localMonth(\"&$D$12&\") =\"&$E$10&\" and LocalDay(\"&$D$12&\")=\"&$F$10&\" and Barix(\"&$D$12&\",reference:=StartOfSession)=\"&A37&\"\", \"Bar\", \"\", \"Close\",\"5\",\"0\",\"PrimaryOnly\",,,\"False\",\"T\",\"EveryTick\")","v":119.734375},1.961297071129707E-3,null,null,null,""]
[217,"11:05:00",-40,{"$f":" RTD(\"cqg.rtd\",,\"StudyData\", $D$12,  \"Tick\", \"FlatTicks=0\", \"Tick\",\"D\",C38,\"PrimaryOnly\")","v":119.703125},null,"EDA",null,{"$f":"RTD(\"cqg.rtd\",,\"StudyData\", \"Close(\"&$D$12&\") when LocalYear(\"&$D$12&\")=\"&$D$1&\" and localMonth(\"&$D$12&\") =\"&$E$1&\" and LocalDay(\"&$D$12&\")=\"&$F$1&\" and Barix(\"&$D$12&\",reference:=StartOfSession)=\"&A38&\"\", \"Bar\", \"\", \"Close\",\"5\",\"0\",\"PrimaryOnly\",,,\"False\",\"T\",\"EveryTick\")","v":""},{"$error":"#N/A"},{"$f":"RTD(\"cqg.rtd\",,\"StudyData\", \"Close(\"&$D$12&\") when LocalYear(\"&$D$12&\")=\"&$D$2&\" and localMonth(\"&$D$12&\") =\"&$E$2&\" and LocalDay(\"&$D$12&\")=\"&$F$2&\" and Barix(\"&$D$12&\",reference:=StartOfSession)=\"&A38&\"\", \"Bar\", \"\", \"Close\",\"5\",\"0\",\"PrimaryOnly\",,,\"False\",\"T\",\"EveryTick\")","v":119.65625},1.8315018315018315E-3,{"$f":"RTD(\"cqg.rtd\",,\"StudyData\", \"Close(\"&$D$12&\") when LocalYear(\"&$D$12&\")=\"&$D$3&\" and localMonth(\"&$D$12&\") =\"&$E$3&\" and LocalDay(\"&$D$12&\")=\"&$F$3&\" and Barix(\"&$D$12&\",reference:=StartOfSession)=\"&A38&\"\", \"Bar\", \"\", \"Close\",\"5\",\"0\",\"PrimaryOnly\",,,\"False\",\"T\",\"EveryTick\")","v":119.390625},1.7042475091767174E-3,{"$f":"RTD(\"cqg.rtd\",,\"StudyData\", \"Close(\"&$D$12&\") when LocalYear(\"&$D$12&\")=\"&$D$4&\" and localMonth(\"&$D$12&\") =\"&$E$4&\" and LocalDay(\"&$D$12&\")=\"&$F$4&\" and Barix(\"&$D$12&\",reference:=StartOfSession)=\"&A38&\"\", \"Bar\", \"\", \"Close\",\"5\",\"0\",\"PrimaryOnly\",,,\"False\",\"T\",\"EveryTick\")","v":119.40625},0,{"$f":"RTD(\"cqg.rtd\",,\"StudyData\", \"Close(\"&$D$12&\") when LocalYear(\"&$D$12&\")=\"&$D$5&\" and localMonth(\"&$D$12&\") =\"&$E$5&\" and LocalDay(\"&$D$12&\")=\"&$F$5&\" and Barix(\"&$D$12&\",reference:=StartOfSession)=\"&A38&\"\", \"Bar\", \"\", \"Close\",\"5\",\"0\",\"PrimaryOnly\",,,\"False\",\"T\",\"EveryTick\")","v":119.359375},-6.5410779696493981E-4,{"$f":"RTD(\"cqg.rtd\",,\"StudyData\", \"Close(\"&$D$12&\") when LocalYear(\"&$D$12&\")=\"&$D$6&\" and localMonth(\"&$D$12&\") =\"&$E$6&\" and LocalDay(\"&$D$12&\")=\"&$F$6&\" and Barix(\"&$D$12&\",reference:=StartOfSession)=\"&A38&\"\", \"Bar\", \"\", \"Close\",\"5\",\"0\",\"PrimaryOnly\",,,\"False\",\"T\",\"EveryTick\")","v":119.46875},-1.0452051215050953E-3,{"$f":"RTD(\"cqg.rtd\",,\"StudyData\", \"Close(\"&$D$12&\") when LocalYear(\"&$D$12&\")=\"&$D$7&\" and localMonth(\"&$D$12&\") =\"&$E$7&\" and LocalDay(\"&$D$12&\")=\"&$F$7&\" and Barix(\"&$D$12&\",reference:=StartOfSession)=\"&A38&\"\", \"Bar\", \"\", \"Close\",\"5\",\"0\",\"PrimaryOnly\",,,\"False\",\"T\",\"EveryTick\")","v":119.703125},9.1455448131695844E-4,{"$f":"RTD(\"cqg.rtd\",,\"StudyData\", \"Close(\"&$D$12&\") when LocalYear(\"&$D$12&\")=\"&$D$8&\" and localMonth(\"&$D$12&\") =\"&$E$8&\" and LocalDay(\"&$D$12&\")=\"&$F$8&\" and Barix(\"&$D$12&\",reference:=StartOfSession)=\"&A38&\"\", \"Bar\", \"\", \"Close\",\"5\",\"0\",\"PrimaryOnly\",,,\"False\",\"T\",\"EveryTick\")","v":119.40625},1.0479434110558031E-3,{"$f":"RTD(\"cqg.rtd\",,\"StudyData\", \"Close(\"&$D$12&\") when LocalYear(\"&$D$12&\")=\"&$D$9&\" and localMonth(\"&$D$12&\") =\"&$E$9&\" and LocalDay(\"&$D$12&\")=\"&$F$9&\" and Barix(\"&$D$12&\",reference:=StartOfSession)=\"&A38&\"\", \"Bar\", \"\", \"Close\",\"5\",\"0\",\"PrimaryOnly\",,,\"False\",\"T\",\"EveryTick\")","v":119.328125},-3.1327502936953399E-3,{"$f":"RTD(\"cqg.rtd\",,\"StudyData\", \"Close(\"&$D$12&\") when LocalYear(\"&$D$12&\")=\"&$D$10&\" and localMonth(\"&$D$12&\") =\"&$E$10&\" and LocalDay(\"&$D$12&\")=\"&$F$10&\" and Barix(\"&$D$12&\",reference:=StartOfSession)=\"&A38&\"\", \"Bar\", \"\", \"Close\",\"5\",\"0\",\"PrimaryOnly\",,,\"False\",\"T\",\"EveryTick\")","v":119.71875},1.8305439330543933E-3,null,null,null,""]
[218,"11:10:00",{"$f":"C38+1","v":-39},{"$f":" RTD(\"cqg.rtd\",,\"StudyData\", $D$12,  \"Tick\", \"FlatTicks=0\", \"Tick\",\"D\",C39,\"PrimaryOnly\")","v":119.71875},null,"TUA",null,{"$f":"RTD(\"cqg.rtd\",,\"StudyData\", \"Close(\"&$D$12&\") when LocalYear(\"&$D$12&\")=\"&$D$1&\" and localMonth(\"&$D$12&\") =\"&$E$1&\" and LocalDay(\"&$D$12&\")=\"&$F$1&\" and Barix(\"&$D$12&\",reference:=StartOfSession)=\"&A39&\"\", \"Bar\", \"\", \"Close\",\"5\",\"0\",\"PrimaryOnly\",,,\"False\",\"T\",\"EveryTick\")","v":""},{"$error":"#N/A"},{"$f":"RTD(\"cqg.rtd\",,\"StudyData\", \"Close(\"&$D$12&\") when LocalYear(\"&$D$12&\")=\"&$D$2&\" and localMonth(\"&$D$12&\") =\"&$E$2&\" and LocalDay(\"&$D$12&\")=\"&$F$2&\" and Barix(\"&$D$12&\",reference:=StartOfSession)=\"&A39&\"\", \"Bar\", \"\", \"Close\",\"5\",\"0\",\"PrimaryOnly\",,,\"False\",\"T\",\"EveryTick\")","v":119.65625},1.8315018315018315E-3,{"$f":"RTD(\"cqg.rtd\",,\"StudyData\", \"Close(\"&$D$12&\") when LocalYear(\"&$D$12&\")=\"&$D$3&\" and localMonth(\"&$D$12&\") =\"&$E$3&\" and LocalDay(\"&$D$12&\")=\"&$F$3&\" and Barix(\"&$D$12&\",reference:=StartOfSession)=\"&A39&\"\", \"Bar\", \"\", \"Close\",\"5\",\"0\",\"PrimaryOnly\",,,\"False\",\"T\",\"EveryTick\")","v":119.390625},1.7042475091767174E-3,{"$f":"RTD(\"cqg.rtd\",,\"StudyData\", \"Close(\"&$D$12&\") when LocalYear(\"&$D$12&\")=\"&$D$4&\" and localMonth(\"&$D$12&\") =\"&$E$4&\" and LocalDay(\"&$D$12&\")=\"&$F$4&\" and Barix(\"&$D$12&\",reference:=StartOfSession)=\"&A39&\"\", \"Bar\", \"\", \"Close\",\"5\",\"0\",\"PrimaryOnly\",,,\"False\",\"T\",\"EveryTick\")","v":119.390625},-1.3085579691180318E-4,{"$f":"RTD(\"cqg.rtd\",,\"StudyData\", \"Close(\"&$D$12&\") when LocalYear(\"&$D$12&\")=\"&$D$5&\" and localMonth(\"&$D$12&\") =\"&$E$5&\" and LocalDay(\"&$D$12&\")=\"&$F$5&\" and Barix(\"&$D$12&\",reference:=StartOfSession)=\"&A39&\"\", \"Bar\", \"\", \"Close\",\"5\",\"0\",\"PrimaryOnly\",,,\"False\",\"T\",\"EveryTick\")","v":119.359375},-6.5410779696493981E-4,{"$f":"RTD(\"cqg.rtd\",,\"StudyData\", \"Close(\"&$D$12&\") when LocalYear(\"&$D$12&\")=\"&$D$6&\" and localMonth(\"&$D$12&\") =\"&$E$6&\" and LocalDay(\"&$D$12&\")=\"&$F$6&\" and Barix(\"&$D$12&\",reference:=StartOfSession)=\"&A39&\"\", \"Bar\", \"\", \"Close\",\"5\",\"0\",\"PrimaryOnly\",,,\"False\",\"T\",\"EveryTick\")","v":119.46875},-1.0452051215050953E-3,{"$f":"RTD(\"cqg.rtd\",,\"StudyData\", \"Close(\"&$D$12&\") when LocalYear(\"&$D$12&\")=\"&$D$7&\" and localMonth(\"&$D$12&\") =\"&$E$7&\" and LocalDay(\"&$D$12&\")=\"&$F$7&\" and Barix(\"&$D$12&\",reference:=StartOfSession)=\"&A39&\"\", \"Bar\", \"\", \"Close\",\"5\",\"0\",\"PrimaryOnly\",,,\"False\",\"T\",\"EveryTick\")","v":119.6875},7.8390384112882151E-4,{"$f":"RTD(\"cqg.rtd\",,\"StudyData\", \"Close(\"&$D$12&\") when LocalYear(\"&$D$12&\")=\"&$D$8&\" and localMonth(\"&$D$12&\") =\"&$E$8&\" and LocalDay(\"&$D$12&\")=\"&$F$8&\" and Barix(\"&$D$12&\",reference:=StartOfSession)=\"&A39&\"\", \"Bar\", \"\", \"Close\",\"5\",\"0\",\"PrimaryOnly\",,,\"False\",\"T\",\"EveryTick\")","v":119.390625},9.1695048467382758E-4,{"$f":"RTD(\"cqg.rtd\",,\"StudyData\", \"Close(\"&$D$12&\") when LocalYear(\"&$D$12&\")=\"&$D$9&\" and localMonth(\"&$D$12&\") =\"&$E$9&\" and LocalDay(\"&$D$12&\")=\"&$F$9&\" and Barix(\"&$D$12&\",reference:=StartOfSession)=\"&A39&\"\", \"Bar\", \"\", \"Close\",\"5\",\"0\",\"PrimaryOnly\",,,\"False\",\"T\",\"EveryTick\")","v":119.328125},-3.1327502936953399E-3,{"$f":"RTD(\"cqg.rtd\",,\"StudyData\", \"Close(\"&$D$12&\") when LocalYear(\"&$D$12&\")=\"&$D$10&\" and localMonth(\"&$D$12&\") =\"&$E$10&\" and LocalDay(\"&$D$12&\")=\"&$F$10&\" and Barix(\"&$D$12&\",reference:=StartOfSession)=\"&A39&\"\", \"Bar\", \"\", \"Close\",\"5\",\"0\",\"PrimaryOnly\",,,\"False\",\"T\",\"EveryTick\")","v":119.703125},1.6997907949790796E-3,null,null,null,""]
[219,"11:15:00",{"$f":"C39+1","v":-38},{"$f":" RTD(\"cqg.rtd\",,\"StudyData\", $D$12,  \"Tick\", \"FlatTicks=0\", \"Tick\",\"D\",C40,\"PrimaryOnly\")","v":119.703125},null,"FVA",null,{"$f":"RTD(\"cqg.rtd\",,\"StudyData\", \"Close(\"&$D$12&\") when LocalYear(\"&$D$12&\")=\"&$D$1&\" and localMonth(\"&$D$12&\") =\"&$E$1&\" and LocalDay(\"&$D$12&\")=\"&$F$1&\" and Barix(\"&$D$12&\",reference:=StartOfSession)=\"&A40&\"\", \"Bar\", \"\", \"Close\",\"5\",\"0\",\"PrimaryOnly\",,,\"False\",\"T\",\"EveryTick\")","v":""},{"$error":"#N/A"},{"$f":"RTD(\"cqg.rtd\",,\"StudyData\", \"Close(\"&$D$12&\") when LocalYear(\"&$D$12&\")=\"&$D$2&\" and localMonth(\"&$D$12&\") =\"&$E$2&\" and LocalDay(\"&$D$12&\")=\"&$F$2&\" and Barix(\"&$D$12&\",reference:=StartOfSession)=\"&A40&\"\", \"Bar\", \"\", \"Close\",\"5\",\"0\",\"PrimaryOnly\",,,\"False\",\"T\",\"EveryTick\")","v":119.65625},1.8315018315018315E-3,{"$f":"RTD(\"cqg.rtd\",,\"StudyData\", \"Close(\"&$D$12&\") when LocalYear(\"&$D$12&\")=\"&$D$3&\" and localMonth(\"&$D$12&\") =\"&$E$3&\" and LocalDay(\"&$D$12&\")=\"&$F$3&\" and Barix(\"&$D$12&\",reference:=StartOfSession)=\"&A40&\"\", \"Bar\", \"\", \"Close\",\"5\",\"0\",\"PrimaryOnly\",,,\"False\",\"T\",\"EveryTick\")","v":119.40625},1.8353434714210803E-3,{"$f":"RTD(\"cqg.rtd\",,\"StudyData\", \"Close(\"&$D$12&\") when LocalYear(\"&$D$12&\")=\"&$D$4&\" and localMonth(\"&$D$12&\") =\"&$E$4&\" and LocalDay(\"&$D$12&\")=\"&$F$4&\" and Barix(\"&$D$12&\",reference:=StartOfSession)=\"&A40&\"\", \"Bar\", \"\", \"Close\",\"5\",\"0\",\"PrimaryOnly\",,,\"False\",\"T\",\"EveryTick\")","v":119.390625},-1.3085579691180318E-4,{"$f":"RTD(\"cqg.rtd\",,\"StudyData\", \"Close(\"&$D$12&\") when LocalYear(\"&$D$12&\")=\"&$D$5&\" and localMonth(\"&$D$12&\") =\"&$E$5&\" and LocalDay(\"&$D$12&\")=\"&$F$5&\" and Barix(\"&$D$12&\",reference:=StartOfSession)=\"&A40&\"\", \"Bar\", \"\", \"Close\",\"5\",\"0\",\"PrimaryOnly\",,,\"False\",\"T\",\"EveryTick\")","v":119.359375},-6.5410779696493981E-4,{"$f":"RTD(\"cqg.rtd\",,\"StudyData\", \"Close(\"&$D$12&\") when LocalYear(\"&$D$12&\")=\"&$D$6&\" and localMonth(\"&$D$12&\") =\"&$E$6&\" and LocalDay(\"&$D$12&\")=\"&$F$6&\" and Barix(\"&$D$12&\",reference:=StartOfSession)=\"&A40&\"\", \"Bar\", \"\", \"Close\",\"5\",\"0\",\"PrimaryOnly\",,,\"False\",\"T\",\"EveryTick\")","v":119.453125},-1.1758557616932323E-3,{"$f":"RTD(\"cqg.rtd\",,\"StudyData\", \"Close(\"&$D$12&\") when LocalYear(\"&$D$12&\")=\"&$D$7&\" and localMonth(\"&$D$12&\") =\"&$E$7&\" and LocalDay(\"&$D$12&\")=\"&$F$7&\" and Barix(\"&$D$12&\",reference:=StartOfSession)=\"&A40&\"\", \"Bar\", \"\", \"Close\",\"5\",\"0\",\"PrimaryOnly\",,,\"False\",\"T\",\"EveryTick\")","v":119.703125},9.1455448131695844E-4,{"$f":"RTD(\"cqg.rtd\",,\"StudyData\", \"Close(\"&$D$12&\") when LocalYear(\"&$D$12&\")=\"&$D$8&\" and localMonth(\"&$D$12&\") =\"&$E$8&\" and LocalDay(\"&$D$12&\")=\"&$F$8&\" and Barix(\"&$D$12&\",reference:=StartOfSession)=\"&A40&\"\", \"Bar\", \"\", \"Close\",\"5\",\"0\",\"PrimaryOnly\",,,\"False\",\"T\",\"EveryTick\")","v":119.390625},9.1695048467382758E-4,{"$f":"RTD(\"cqg.rtd\",,\"StudyData\", \"Close(\"&$D$12&\") when LocalYear(\"&$D$12&\")=\"&$D$9&\" and localMonth(\"&$D$12&\") =\"&$E$9&\" and LocalDay(\"&$D$12&\")=\"&$F$9&\" and Barix(\"&$D$12&\",reference:=StartOfSession)=\"&A40&\"\", \"Bar\", \"\", \"Close\",\"5\",\"0\",\"PrimaryOnly\",,,\"False\",\"T\",\"EveryTick\")","v":119.3125},-3.2632815559326457E-3,{"$f":"RTD(\"cqg.rtd\",,\"StudyData\", \"Close(\"&$D$12&\") when LocalYear(\"&$D$12&\")=\"&$D$10&\" and localMonth(\"&$D$12&\") =\"&$E$10&\" and LocalDay(\"&$D$12&\")=\"&$F$10&\" and Barix(\"&$D$12&\",reference:=StartOfSession)=\"&A40&\"\", \"Bar\", \"\", \"Close\",\"5\",\"0\",\"PrimaryOnly\",,,\"False\",\"T\",\"EveryTick\")","v":119.78125},2.3535564853556486E-3,null,null,null,""]
[220,"11:20:00",-37,{"$f":" RTD(\"cqg.rtd\",,\"StudyData\", $D$12,  \"Tick\", \"FlatTicks=0\", \"Tick\",\"D\",C41,\"PrimaryOnly\")","v":119.71875},null,"TYA",null,{"$f":"RTD(\"cqg.rtd\",,\"StudyData\", \"Close(\"&$D$12&\") when LocalYear(\"&$D$12&\")=\"&$D$1&\" and localMonth(\"&$D$12&\") =\"&$E$1&\" and LocalDay(\"&$D$12&\")=\"&$F$1&\" and Barix(\"&$D$12&\",reference:=StartOfSession)=\"&A41&\"\", \"Bar\", \"\", \"Close\",\"5\",\"0\",\"PrimaryOnly\",,,\"False\",\"T\",\"EveryTick\")","v":""},{"$error":"#N/A"},{"$f":"RTD(\"cqg.rtd\",,\"StudyData\", \"Close(\"&$D$12&\") when LocalYear(\"&$D$12&\")=\"&$D$2&\" and localMonth(\"&$D$12&\") =\"&$E$2&\" and LocalDay(\"&$D$12&\")=\"&$F$2&\" and Barix(\"&$D$12&\",reference:=StartOfSession)=\"&A41&\"\", \"Bar\", \"\", \"Close\",\"5\",\"0\",\"PrimaryOnly\",,,\"False\",\"T\",\"EveryTick\")","v":119.640625},1.7006802721088435E-3,{"$f":"RTD(\"cqg.rtd\",,\"StudyData\", \"Close(\"&$D$12&\") when LocalYear(\"&$D$12&\")=\"&$D$3&\" and localMonth(\"&$D$12&\") =\"&$E$3&\" and LocalDay(\"&$D$12&\")=\"&$F$3&\" and Barix(\"&$D$12&\",reference:=StartOfSession)=\"&A41&\"\", \"Bar\", \"\", \"Close\",\"5\",\"0\",\"PrimaryOnly\",,,\"False\",\"T\",\"EveryTick\")","v":119.4375},2.097535395909806E-3,{"$f":"RTD(\"cqg.rtd\",,\"StudyData\", \"Close(\"&$D$12&\") when LocalYear(\"&$D$12&\")=\"&$D$4&\" and localMonth(\"&$D$12&\") =\"&$E$4&\" and LocalDay(\"&$D$12&\")=\"&$F$4&\" and Barix(\"&$D$12&\",reference:=StartOfSession)=\"&A41&\"\", \"Bar\", \"\", \"Close\",\"5\",\"0\",\"PrimaryOnly\",,,\"False\",\"T\",\"EveryTick\")","v":119.40625},0,{"$f":"RTD(\"cqg.rtd\",,\"StudyData\", \"Close(\"&$D$12&\") when LocalYear(\"&$D$12&\")=\"&$D$5&\" and localMonth(\"&$D$12&\") =\"&$E$5&\" and LocalDay(\"&$D$12&\")=\"&$F$5&\" and Barix(\"&$D$12&\",reference:=StartOfSession)=\"&A41&\"\", \"Bar\", \"\", \"Close\",\"5\",\"0\",\"PrimaryOnly\",,,\"False\",\"T\",\"EveryTick\")","v":119.359375},-6.5410779696493981E-4,{"$f":"RTD(\"cqg.rtd\",,\"StudyData\", \"Close(\"&$D$12&\") when LocalYear(\"&$D$12&\")=\"&$D$6&\" and localMonth(\"&$D$12&\") =\"&$E$6&\" and LocalDay(\"&$D$12&\")=\"&$F$6&\" and Barix(\"&$D$12&\",reference:=StartOfSession)=\"&A41&\"\", \"Bar\", \"\", \"Close\",\"5\",\"0\",\"PrimaryOnly\",,,\"False\",\"T\",\"EveryTick\")","v":119.4375},-1.3065064018813691E-3,{"$f":"RTD(\"cqg.rtd\",,\"StudyData\", \"Close(\"&$D$12&\") when LocalYear(\"&$D$12&\")=\"&$D$7&\" and localMonth(\"&$D$12&\") =\"&$E$7&\" and LocalDay(\"&$D$12&\")=\"&$F$7&\" and Barix(\"&$D$12&\",reference:=StartOfSession)=\"&A41&\"\", \"Bar\", \"\", \"Close\",\"5\",\"0\",\"PrimaryOnly\",,,\"False\",\"T\",\"EveryTick\")","v":119.6875},7.8390384112882151E-4,{"$f":"RTD(\"cqg.rtd\",,\"StudyData\", \"Close(\"&$D$12&\") when LocalYear(\"&$D$12&\")=\"&$D$8&\" and localMonth(\"&$D$12&\") =\"&$E$8&\" and LocalDay(\"&$D$12&\")=\"&$F$8&\" and Barix(\"&$D$12&\",reference:=StartOfSession)=\"&A41&\"\", \"Bar\", \"\", \"Close\",\"5\",\"0\",\"PrimaryOnly\",,,\"False\",\"T\",\"EveryTick\")","v":119.40625},1.0479434110558031E-3,{"$f":"RTD(\"cqg.rtd\",,\"StudyData\", \"Close(\"&$D$12&\") when LocalYear(\"&$D$12&\")=\"&$D$9&\" and localMonth(\"&$D$12&\") =\"&$E$9&\" and LocalDay(\"&$D$12&\")=\"&$F$9&\" and Barix(\"&$D$12&\",reference:=StartOfSession)=\"&A41&\"\", \"Bar\", \"\", \"Close\",\"5\",\"0\",\"PrimaryOnly\",,,\"False\",\"T\",\"EveryTick\")","v":119.3125},-3.2632815559326457E-3,{"$f":"RTD(\"cqg.rtd\",,\"StudyData\", \"Close(\"&$D$12&\") when LocalYear(\"&$D$12&\")=\"&$D$10&\" and localMonth(\"&$D$12&\") =\"&$E$10&\" and LocalDay(\"&$D$12&\")=\"&$F$10&\" and Barix(\"&$D$12&\",reference:=StartOfSession)=\"&A41&\"\", \"Bar\", \"\", \"Close\",\"5\",\"0\",\"PrimaryOnly\",,,\"False\",\"T\",\"EveryTick\")","v":119.78125},2.3535564853556486E-3,null,null,null,""]
[221,"11:25:00",-36,{"$f":" RTD(\"cqg.rtd\",,\"StudyData\", $D$12,  \"Tick\", \"FlatTicks=0\", \"Tick\",\"D\",C42,\"PrimaryOnly\")","v":119.703125},null,"USA",null,{"$f":"RTD(\"cqg.rtd\",,\"StudyData\", \"Close(\"&$D$12&\") when LocalYear(\"&$D$12&\")=\"&$D$1&\" and localMonth(\"&$D$12&\") =\"&$E$1&\" and LocalDay(\"&$D$12&\")=\"&$F$1&\" and Barix(\"&$D$12&\",reference:=StartOfSession)=\"&A42&\"\", \"Bar\", \"\", \"Close\",\"5\",\"0\",\"PrimaryOnly\",,,\"False\",\"T\",\"EveryTick\")","v":""},{"$error":"#N/A"},{"$f":"RTD(\"cqg.rtd\",,\"StudyData\", \"Close(\"&$D$12&\") when LocalYear(\"&$D$12&\")=\"&$D$2&\" and localMonth(\"&$D$12&\") =\"&$E$2&\" and LocalDay(\"&$D$12&\")=\"&$F$2&\" and Barix(\"&$D$12&\",reference:=StartOfSession)=\"&A42&\"\", \"Bar\", \"\", \"Close\",\"5\",\"0\",\"PrimaryOnly\",,,\"False\",\"T\",\"EveryTick\")","v":119.671875},1.9623233908948193E-3,{"$f":"RTD(\"cqg.rtd\",,\"StudyData\", \"Close(\"&$D$12&\") when LocalYear(\"&$D$12&\")=\"&$D$3&\" and localMonth(\"&$D$12&\") =\"&$E$3&\" and LocalDay(\"&$D$12&\")=\"&$F$3&\" and Barix(\"&$D$12&\",reference:=StartOfSession)=\"&A42&\"\", \"Bar\", \"\", \"Close\",\"5\",\"0\",\"PrimaryOnly\",,,\"False\",\"T\",\"EveryTick\")","v":119.4375},2.097535395909806E-3,{"$f":"RTD(\"cqg.rtd\",,\"StudyData\", \"Close(\"&$D$12&\") when LocalYear(\"&$D$12&\")=\"&$D$4&\" and localMonth(\"&$D$12&\") =\"&$E$4&\" and LocalDay(\"&$D$12&\")=\"&$F$4&\" and Barix(\"&$D$12&\",reference:=StartOfSession)=\"&A42&\"\", \"Bar\", \"\", \"Close\",\"5\",\"0\",\"PrimaryOnly\",,,\"False\",\"T\",\"EveryTick\")","v":119.390625},-1.3085579691180318E-4,{"$f":"RTD(\"cqg.rtd\",,\"StudyData\", \"Close(\"&$D$12&\") when LocalYear(\"&$D$12&\")=\"&$D$5&\" and localMonth(\"&$D$12&\") =\"&$E$5&\" and LocalDay(\"&$D$12&\")=\"&$F$5&\" and Barix(\"&$D$12&\",reference:=StartOfSession)=\"&A42&\"\", \"Bar\", \"\", \"Close\",\"5\",\"0\",\"PrimaryOnly\",,,\"False\",\"T\",\"EveryTick\")","v":119.34375},-7.8492935635792783E-4,{"$f":"RTD(\"cqg.rtd\",,\"StudyData\", \"Close(\"&$D$12&\") when LocalYear(\"&$D$12&\")=\"&$D$6&\" and localMonth(\"&$D$12&\") =\"&$E$6&\" and LocalDay(\"&$D$12&\")=\"&$F$6&\" and Barix(\"&$D$12&\",reference:=StartOfSession)=\"&A42&\"\", \"Bar\", \"\", \"Close\",\"5\",\"0\",\"PrimaryOnly\",,,\"False\",\"T\",\"EveryTick\")","v":119.4375},-1.3065064018813691E-3,{"$f":"RTD(\"cqg.rtd\",,\"StudyData\", \"Close(\"&$D$12&\") when LocalYear(\"&$D$12&\")=\"&$D$7&\" and localMonth(\"&$D$12&\") =\"&$E$7&\" and LocalDay(\"&$D$12&\")=\"&$F$7&\" and Barix(\"&$D$12&\",reference:=StartOfSession)=\"&A42&\"\", \"Bar\", \"\", \"Close\",\"5\",\"0\",\"PrimaryOnly\",,,\"False\",\"T\",\"EveryTick\")","v":119.65625},5.2260256075254764E-4,{"$f":"RTD(\"cqg.rtd\",,\"StudyData\", \"Close(\"&$D$12&\") when LocalYear(\"&$D$12&\")=\"&$D$8&\" and localMonth(\"&$D$12&\") =\"&$E$8&\" and LocalDay(\"&$D$12&\")=\"&$F$8&\" and Barix(\"&$D$12&\",reference:=StartOfSession)=\"&A42&\"\", \"Bar\", \"\", \"Close\",\"5\",\"0\",\"PrimaryOnly\",,,\"False\",\"T\",\"EveryTick\")","v":119.4375},1.3099292638197536E-3,{"$f":"RTD(\"cqg.rtd\",,\"StudyData\", \"Close(\"&$D$12&\") when LocalYear(\"&$D$12&\")=\"&$D$9&\" and localMonth(\"&$D$12&\") =\"&$E$9&\" and LocalDay(\"&$D$12&\")=\"&$F$9&\" and Barix(\"&$D$12&\",reference:=StartOfSession)=\"&A42&\"\", \"Bar\", \"\", \"Close\",\"5\",\"0\",\"PrimaryOnly\",,,\"False\",\"T\",\"EveryTick\")","v":119.3125},-3.2632815559326457E-3,{"$f":"RTD(\"cqg.rtd\",,\"StudyData\", \"Close(\"&$D$12&\") when LocalYear(\"&$D$12&\")=\"&$D$10&\" and localMonth(\"&$D$12&\") =\"&$E$10&\" and LocalDay(\"&$D$12&\")=\"&$F$10&\" and Barix(\"&$D$12&\",reference:=StartOfSession)=\"&A42&\"\", \"Bar\", \"\", \"Close\",\"5\",\"0\",\"PrimaryOnly\",,,\"False\",\"T\",\"EveryTick\")","v":119.84375},2.8765690376569039E-3,null,null,null,""]
[222,"11:30:00",-35,{"$f":" RTD(\"cqg.rtd\",,\"StudyData\", $D$12,  \"Tick\", \"FlatTicks=0\", \"Tick\",\"D\",C43,\"PrimaryOnly\")","v":119.71875},null,null,null,{"$f":"RTD(\"cqg.rtd\",,\"StudyData\", \"Close(\"&$D$12&\") when LocalYear(\"&$D$12&\")=\"&$D$1&\" and localMonth(\"&$D$12&\") =\"&$E$1&\" and LocalDay(\"&$D$12&\")=\"&$F$1&\" and Barix(\"&$D$12&\",reference:=StartOfSession)=\"&A43&\"\", \"Bar\", \"\", \"Close\",\"5\",\"0\",\"PrimaryOnly\",,,\"False\",\"T\",\"EveryTick\")","v":""},{"$error":"#N/A"},{"$f":"RTD(\"cqg.rtd\",,\"StudyData\", \"Close(\"&$D$12&\") when LocalYear(\"&$D$12&\")=\"&$D$2&\" and localMonth(\"&$D$12&\") =\"&$E$2&\" and LocalDay(\"&$D$12&\")=\"&$F$2&\" and Barix(\"&$D$12&\",reference:=StartOfSession)=\"&A43&\"\", \"Bar\", \"\", \"Close\",\"5\",\"0\",\"PrimaryOnly\",,,\"False\",\"T\",\"EveryTick\")","v":119.65625},1.8315018315018315E-3,{"$f":"RTD(\"cqg.rtd\",,\"StudyData\", \"Close(\"&$D$12&\") when LocalYear(\"&$D$12&\")=\"&$D$3&\" and localMonth(\"&$D$12&\") =\"&$E$3&\" and LocalDay(\"&$D$12&\")=\"&$F$3&\" and Barix(\"&$D$12&\",reference:=StartOfSession)=\"&A43&\"\", \"Bar\", \"\", \"Close\",\"5\",\"0\",\"PrimaryOnly\",,,\"False\",\"T\",\"EveryTick\")","v":119.4375},2.097535395909806E-3,{"$f":"RTD(\"cqg.rtd\",,\"StudyData\", \"Close(\"&$D$12&\") when LocalYear(\"&$D$12&\")=\"&$D$4&\" and localMonth(\"&$D$12&\") =\"&$E$4&\" and LocalDay(\"&$D$12&\")=\"&$F$4&\" and Barix(\"&$D$12&\",reference:=StartOfSession)=\"&A43&\"\", \"Bar\", \"\", \"Close\",\"5\",\"0\",\"PrimaryOnly\",,,\"False\",\"T\",\"EveryTick\")","v":119.40625},0,{"$f":"RTD(\"cqg.rtd\",,\"StudyData\", \"Close(\"&$D$12&\") when LocalYear(\"&$D$12&\")=\"&$D$5&\" and localMonth(\"&$D$12&\") =\"&$E$5&\" and LocalDay(\"&$D$12&\")=\"&$F$5&\" and Barix(\"&$D$12&\",reference:=StartOfSession)=\"&A43&\"\", \"Bar\", \"\", \"Close\",\"5\",\"0\",\"PrimaryOnly\",,,\"False\",\"T\",\"EveryTick\")","v":119.34375},-7.8492935635792783E-4,{"$f":"RTD(\"cqg.rtd\",,\"StudyData\", \"Close(\"&$D$12&\") when LocalYear(\"&$D$12&\")=\"&$D$6&\" and localMonth(\"&$D$12&\") =\"&$E$6&\" and LocalDay(\"&$D$12&\")=\"&$F$6&\" and Barix(\"&$D$12&\",reference:=StartOfSession)=\"&A43&\"\", \"Bar\", \"\", \"Close\",\"5\",\"0\",\"PrimaryOnly\",,,\"False\",\"T\",\"EveryTick\")","v":119.4375},-1.3065064018813691E-3,{"$f":"RTD(\"cqg.rtd\",,\"StudyData\", \"Close(\"&$D$12&\") when LocalYear(\"&$D$12&\")=\"&$D$7&\" and localMonth(\"&$D$12&\") =\"&$E$7&\" and LocalDay(\"&$D$12&\")=\"&$F$7&\" and Barix(\"&$D$12&\",reference:=StartOfSession)=\"&A43&\"\", \"Bar\", \"\", \"Close\",\"5\",\"0\",\"PrimaryOnly\",,,\"False\",\"T\",\"EveryTick\")","v":119.625},2.6130128037627382E-4,{"$f":"RTD(\"cqg.rtd\",,\"StudyData\", \"Close(\"&$D$12&\") when LocalYear(\"&$D$12&\")=\"&$D$8&\" and localMonth(\"&$D$12&\") =\"&$E$8&\" and LocalDay(\"&$D$12&\")=\"&$F$8&\" and Barix(\"&$D$12&\",reference:=StartOfSession)=\"&A43&\"\", \"Bar\", \"\", \"Close\",\"5\",\"0\",\"PrimaryOnly\",,,\"False\",\"T\",\"EveryTick\")","v":119.46875},1.5719151165837044E-3,{"$f":"RTD(\"cqg.rtd\",,\"StudyData\", \"Close(\"&$D$12&\") when LocalYear(\"&$D$12&\")=\"&$D$9&\" and localMonth(\"&$D$12&\") =\"&$E$9&\" and LocalDay(\"&$D$12&\")=\"&$F$9&\" and Barix(\"&$D$12&\",reference:=StartOfSession)=\"&A43&\"\", \"Bar\", \"\", \"Close\",\"5\",\"0\",\"PrimaryOnly\",,,\"False\",\"T\",\"EveryTick\")","v":119.328125},-3.1327502936953399E-3,{"$f":"RTD(\"cqg.rtd\",,\"StudyData\", \"Close(\"&$D$12&\") when LocalYear(\"&$D$12&\")=\"&$D$10&\" and localMonth(\"&$D$12&\") =\"&$E$10&\" and LocalDay(\"&$D$12&\")=\"&$F$10&\" and Barix(\"&$D$12&\",reference:=StartOfSession)=\"&A43&\"\", \"Bar\", \"\", \"Close\",\"5\",\"0\",\"PrimaryOnly\",,,\"False\",\"T\",\"EveryTick\")","v":119.828125},2.7458158995815897E-3,null,null,null,""]
[223,"11:35:00",-34,{"$f":" RTD(\"cqg.rtd\",,\"StudyData\", $D$12,  \"Tick\", \"FlatTicks=0\", \"Tick\",\"D\",C44,\"PrimaryOnly\")","v":119.703125},null,null,null,{"$f":"RTD(\"cqg.rtd\",,\"StudyData\", \"Close(\"&$D$12&\") when LocalYear(\"&$D$12&\")=\"&$D$1&\" and localMonth(\"&$D$12&\") =\"&$E$1&\" and LocalDay(\"&$D$12&\")=\"&$F$1&\" and Barix(\"&$D$12&\",reference:=StartOfSession)=\"&A44&\"\", \"Bar\", \"\", \"Close\",\"5\",\"0\",\"PrimaryOnly\",,,\"False\",\"T\",\"EveryTick\")","v":""},{"$error":"#N/A"},{"$f":"RTD(\"cqg.rtd\",,\"StudyData\", \"Close(\"&$D$12&\") when LocalYear(\"&$D$12&\")=\"&$D$2&\" and localMonth(\"&$D$12&\") =\"&$E$2&\" and LocalDay(\"&$D$12&\")=\"&$F$2&\" and Barix(\"&$D$12&\",reference:=StartOfSession)=\"&A44&\"\", \"Bar\", \"\", \"Close\",\"5\",\"0\",\"PrimaryOnly\",,,\"False\",\"T\",\"EveryTick\")","v":119.640625},1.7006802721088435E-3,{"$f":"RTD(\"cqg.rtd\",,\"StudyData\", \"Close(\"&$D$12&\") when LocalYear(\"&$D$12&\")=\"&$D$3&\" and localMonth(\"&$D$12&\") =\"&$E$3&\" and LocalDay(\"&$D$12&\")=\"&$F$3&\" and Barix(\"&$D$12&\",reference:=StartOfSession)=\"&A44&\"\", \"Bar\", \"\", \"Close\",\"5\",\"0\",\"PrimaryOnly\",,,\"False\",\"T\",\"EveryTick\")","v":119.4375},2.097535395909806E-3,{"$f":"RTD(\"cqg.rtd\",,\"StudyData\", \"Close(\"&$D$12&\") when LocalYear(\"&$D$12&\")=\"&$D$4&\" and localMonth(\"&$D$12&\") =\"&$E$4&\" and LocalDay(\"&$D$12&\")=\"&$F$4&\" and Barix(\"&$D$12&\",reference:=StartOfSession)=\"&A44&\"\", \"Bar\", \"\", \"Close\",\"5\",\"0\",\"PrimaryOnly\",,,\"False\",\"T\",\"EveryTick\")","v":119.390625},-1.3085579691180318E-4,{"$f":"RTD(\"cqg.rtd\",,\"StudyData\", \"Close(\"&$D$12&\") when LocalYear(\"&$D$12&\")=\"&$D$5&\" and localMonth(\"&$D$12&\") =\"&$E$5&\" and LocalDay(\"&$D$12&\")=\"&$F$5&\" and Barix(\"&$D$12&\",reference:=StartOfSession)=\"&A44&\"\", \"Bar\", \"\", \"Close\",\"5\",\"0\",\"PrimaryOnly\",,,\"False\",\"T\",\"EveryTick\")","v":119.34375},-7.8492935635792783E-4,{"$f":"RTD(\"cqg.rtd\",,\"StudyData\", \"Close(\"&$D$12&\") when LocalYear(\"&$D$12&\")=\"&$D$6&\" and localMonth(\"&$D$12&\") =\"&$E$6&\" and LocalDay(\"&$D$12&\")=\"&$F$6&\" and Barix(\"&$D$12&\",reference:=StartOfSession)=\"&A44&\"\", \"Bar\", \"\", \"Close\",\"5\",\"0\",\"PrimaryOnly\",,,\"False\",\"T\",\"EveryTick\")","v":119.4375},-1.3065064018813691E-3,{"$f":"RTD(\"cqg.rtd\",,\"StudyData\", \"Close(\"&$D$12&\") when LocalYear(\"&$D$12&\")=\"&$D$7&\" and localMonth(\"&$D$12&\") =\"&$E$7&\" and LocalDay(\"&$D$12&\")=\"&$F$7&\" and Barix(\"&$D$12&\",reference:=StartOfSession)=\"&A44&\"\", \"Bar\", \"\", \"Close\",\"5\",\"0\",\"PrimaryOnly\",,,\"False\",\"T\",\"EveryTick\")","v":119.65625},5.2260256075254764E-4,{"$f":"RTD(\"cqg.rtd\",,\"StudyData\", \"Close(\"&$D$12&\") when LocalYear(\"&$D$12&\")=\"&$D$8&\" and localMonth(\"&$D$12&\") =\"&$E$8&\" and LocalDay(\"&$D$12&\")=\"&$F$8&\" and Barix(\"&$D$12&\",reference:=StartOfSession)=\"&A44&\"\", \"Bar\", \"\", \"Close\",\"5\",\"0\",\"PrimaryOnly\",,,\"False\",\"T\",\"EveryTick\")","v":119.46875},1.5719151165837044E-3,{"$f":"RTD(\"cqg.rtd\",,\"StudyData\", \"Close(\"&$D$12&\") when LocalYear(\"&$D$12&\")=\"&$D$9&\" and localMonth(\"&$D$12&\") =\"&$E$9&\" and LocalDay(\"&$D$12&\")=\"&$F$9&\" and Barix(\"&$D$12&\",reference:=StartOfSession)=\"&A44&\"\", \"Bar\", \"\", \"Close\",\"5\",\"0\",\"PrimaryOnly\",,,\"False\",\"T\",\"EveryTick\")","v":119.3125},-3.2632815559326457E-3,{"$f":"RTD(\"cqg.rtd\",,\"StudyData\", \"Close(\"&$D$12&\") when LocalYear(\"&$D$12&\")=\"&$D$10&\" and localMonth(\"&$D$12&\") =\"&$E$10&\" and LocalDay(\"&$D$12&\")=\"&$F$10&\" and Barix(\"&$D$12&\",reference:=StartOfSession)=\"&A44&\"\", \"Bar\", \"\", \"Close\",\"5\",\"0\",\"PrimaryOnly\",,,\"False\",\"T\",\"EveryTick\")","v":119.796875},2.4843096234309623E-3,null,null,null,""]
[224,"11:40:00",-33,{"$f":" RTD(\"cqg.rtd\",,\"StudyData\", $D$12,  \"Tick\", \"FlatTicks=0\", \"Tick\",\"D\",C45,\"PrimaryOnly\")","v":119.71875},null,null,null,{"$f":"RTD(\"cqg.rtd\",,\"StudyData\", \"Close(\"&$D$12&\") when LocalYear(\"&$D$12&\")=\"&$D$1&\" and localMonth(\"&$D$12&\") =\"&$E$1&\" and LocalDay(\"&$D$12&\")=\"&$F$1&\" and Barix(\"&$D$12&\",reference:=StartOfSession)=\"&A45&\"\", \"Bar\", \"\", \"Close\",\"5\",\"0\",\"PrimaryOnly\",,,\"False\",\"T\",\"EveryTick\")","v":""},{"$error":"#N/A"},{"$f":"RTD(\"cqg.rtd\",,\"StudyData\", \"Close(\"&$D$12&\") when LocalYear(\"&$D$12&\")=\"&$D$2&\" and localMonth(\"&$D$12&\") =\"&$E$2&\" and LocalDay(\"&$D$12&\")=\"&$F$2&\" and Barix(\"&$D$12&\",reference:=StartOfSession)=\"&A45&\"\", \"Bar\", \"\", \"Close\",\"5\",\"0\",\"PrimaryOnly\",,,\"False\",\"T\",\"EveryTick\")","v":119.625},1.5698587127158557E-3,{"$f":"RTD(\"cqg.rtd\",,\"StudyData\", \"Close(\"&$D$12&\") when LocalYear(\"&$D$12&\")=\"&$D$3&\" and localMonth(\"&$D$12&\") =\"&$E$3&\" and LocalDay(\"&$D$12&\")=\"&$F$3&\" and Barix(\"&$D$12&\",reference:=StartOfSession)=\"&A45&\"\", \"Bar\", \"\", \"Close\",\"5\",\"0\",\"PrimaryOnly\",,,\"False\",\"T\",\"EveryTick\")","v":119.453125},2.2286313581541687E-3,{"$f":"RTD(\"cqg.rtd\",,\"StudyData\", \"Close(\"&$D$12&\") when LocalYear(\"&$D$12&\")=\"&$D$4&\" and localMonth(\"&$D$12&\") =\"&$E$4&\" and LocalDay(\"&$D$12&\")=\"&$F$4&\" and Barix(\"&$D$12&\",reference:=StartOfSession)=\"&A45&\"\", \"Bar\", \"\", \"Close\",\"5\",\"0\",\"PrimaryOnly\",,,\"False\",\"T\",\"EveryTick\")","v":119.390625},-1.3085579691180318E-4,{"$f":"RTD(\"cqg.rtd\",,\"StudyData\", \"Close(\"&$D$12&\") when LocalYear(\"&$D$12&\")=\"&$D$5&\" and localMonth(\"&$D$12&\") =\"&$E$5&\" and LocalDay(\"&$D$12&\")=\"&$F$5&\" and Barix(\"&$D$12&\",reference:=StartOfSession)=\"&A45&\"\", \"Bar\", \"\", \"Close\",\"5\",\"0\",\"PrimaryOnly\",,,\"False\",\"T\",\"EveryTick\")","v":119.34375},-7.8492935635792783E-4,{"$f":"RTD(\"cqg.rtd\",,\"StudyData\", \"Close(\"&$D$12&\") when LocalYear(\"&$D$12&\")=\"&$D$6&\" and localMonth(\"&$D$12&\") =\"&$E$6&\" and LocalDay(\"&$D$12&\")=\"&$F$6&\" and Barix(\"&$D$12&\",reference:=StartOfSession)=\"&A45&\"\", \"Bar\", \"\", \"Close\",\"5\",\"0\",\"PrimaryOnly\",,,\"False\",\"T\",\"EveryTick\")","v":119.421875},-1.4371570420695062E-3,{"$f":"RTD(\"cqg.rtd\",,\"StudyData\", \"Close(\"&$D$12&\") when LocalYear(\"&$D$12&\")=\"&$D$7&\" and localMonth(\"&$D$12&\") =\"&$E$7&\" and LocalDay(\"&$D$12&\")=\"&$F$7&\" and Barix(\"&$D$12&\",reference:=StartOfSession)=\"&A45&\"\", \"Bar\", \"\", \"Close\",\"5\",\"0\",\"PrimaryOnly\",,,\"False\",\"T\",\"EveryTick\")","v":119.640625},3.9195192056441075E-4,{"$f":"RTD(\"cqg.rtd\",,\"StudyData\", \"Close(\"&$D$12&\") when LocalYear(\"&$D$12&\")=\"&$D$8&\" and localMonth(\"&$D$12&\") =\"&$E$8&\" and LocalDay(\"&$D$12&\")=\"&$F$8&\" and Barix(\"&$D$12&\",reference:=StartOfSession)=\"&A45&\"\", \"Bar\", \"\", \"Close\",\"5\",\"0\",\"PrimaryOnly\",,,\"False\",\"T\",\"EveryTick\")","v":119.453125},1.440922190201729E-3,{"$f":"RTD(\"cqg.rtd\",,\"StudyData\", \"Close(\"&$D$12&\") when LocalYear(\"&$D$12&\")=\"&$D$9&\" and localMonth(\"&$D$12&\") =\"&$E$9&\" and LocalDay(\"&$D$12&\")=\"&$F$9&\" and Barix(\"&$D$12&\",reference:=StartOfSession)=\"&A45&\"\", \"Bar\", \"\", \"Close\",\"5\",\"0\",\"PrimaryOnly\",,,\"False\",\"T\",\"EveryTick\")","v":119.3125},-3.2632815559326457E-3,{"$f":"RTD(\"cqg.rtd\",,\"StudyData\", \"Close(\"&$D$12&\") when LocalYear(\"&$D$12&\")=\"&$D$10&\" and localMonth(\"&$D$12&\") =\"&$E$10&\" and LocalDay(\"&$D$12&\")=\"&$F$10&\" and Barix(\"&$D$12&\",reference:=StartOfSession)=\"&A45&\"\", \"Bar\", \"\", \"Close\",\"5\",\"0\",\"PrimaryOnly\",,,\"False\",\"T\",\"EveryTick\")","v":119.796875},2.4843096234309623E-3,null,null,null,""]
[225,"11:45:00",-32,{"$f":" RTD(\"cqg.rtd\",,\"StudyData\", $D$12,  \"Tick\", \"FlatTicks=0\", \"Tick\",\"D\",C46,\"PrimaryOnly\")","v":119.703125},null,null,null,{"$f":"RTD(\"cqg.rtd\",,\"StudyData\", \"Close(\"&$D$12&\") when LocalYear(\"&$D$12&\")=\"&$D$1&\" and localMonth(\"&$D$12&\") =\"&$E$1&\" and LocalDay(\"&$D$12&\")=\"&$F$1&\" and Barix(\"&$D$12&\",reference:=StartOfSession)=\"&A46&\"\", \"Bar\", \"\", \"Close\",\"5\",\"0\",\"PrimaryOnly\",,,\"False\",\"T\",\"EveryTick\")","v":""},{"$error":"#N/A"},{"$f":"RTD(\"cqg.rtd\",,\"StudyData\", \"Close(\"&$D$12&\") when LocalYear(\"&$D$12&\")=\"&$D$2&\" and localMonth(\"&$D$12&\") =\"&$E$2&\" and LocalDay(\"&$D$12&\")=\"&$F$2&\" and Barix(\"&$D$12&\",reference:=StartOfSession)=\"&A46&\"\", \"Bar\", \"\", \"Close\",\"5\",\"0\",\"PrimaryOnly\",,,\"False\",\"T\",\"EveryTick\")","v":119.65625},1.8315018315018315E-3,{"$f":"RTD(\"cqg.rtd\",,\"StudyData\", \"Close(\"&$D$12&\") when LocalYear(\"&$D$12&\")=\"&$D$3&\" and localMonth(\"&$D$12&\") =\"&$E$3&\" and LocalDay(\"&$D$12&\")=\"&$F$3&\" and Barix(\"&$D$12&\",reference:=StartOfSession)=\"&A46&\"\", \"Bar\", \"\", \"Close\",\"5\",\"0\",\"PrimaryOnly\",,,\"False\",\"T\",\"EveryTick\")","v":119.484375},2.4908232826428944E-3,{"$f":"RTD(\"cqg.rtd\",,\"StudyData\", \"Close(\"&$D$12&\") when LocalYear(\"&$D$12&\")=\"&$D$4&\" and localMonth(\"&$D$12&\") =\"&$E$4&\" and LocalDay(\"&$D$12&\")=\"&$F$4&\" and Barix(\"&$D$12&\",reference:=StartOfSession)=\"&A46&\"\", \"Bar\", \"\", \"Close\",\"5\",\"0\",\"PrimaryOnly\",,,\"False\",\"T\",\"EveryTick\")","v":119.390625},-1.3085579691180318E-4,{"$f":"RTD(\"cqg.rtd\",,\"StudyData\", \"Close(\"&$D$12&\") when LocalYear(\"&$D$12&\")=\"&$D$5&\" and localMonth(\"&$D$12&\") =\"&$E$5&\" and LocalDay(\"&$D$12&\")=\"&$F$5&\" and Barix(\"&$D$12&\",reference:=StartOfSession)=\"&A46&\"\", \"Bar\", \"\", \"Close\",\"5\",\"0\",\"PrimaryOnly\",,,\"False\",\"T\",\"EveryTick\")","v":119.34375},-7.8492935635792783E-4,{"$f":"RTD(\"cqg.rtd\",,\"StudyData\", \"Close(\"&$D$12&\") when LocalYear(\"&$D$12&\")=\"&$D$6&\" and localMonth(\"&$D$12&\") =\"&$E$6&\" and LocalDay(\"&$D$12&\")=\"&$F$6&\" and Barix(\"&$D$12&\",reference:=StartOfSession)=\"&A46&\"\", \"Bar\", \"\", \"Close\",\"5\",\"0\",\"PrimaryOnly\",,,\"False\",\"T\",\"EveryTick\")","v":119.4375},-1.3065064018813691E-3,{"$f":"RTD(\"cqg.rtd\",,\"StudyData\", \"Close(\"&$D$12&\") when LocalYear(\"&$D$12&\")=\"&$D$7&\" and localMonth(\"&$D$12&\") =\"&$E$7&\" and LocalDay(\"&$D$12&\")=\"&$F$7&\" and Barix(\"&$D$12&\",reference:=StartOfSession)=\"&A46&\"\", \"Bar\", \"\", \"Close\",\"5\",\"0\",\"PrimaryOnly\",,,\"False\",\"T\",\"EveryTick\")","v":119.65625},5.2260256075254764E-4,{"$f":"RTD(\"cqg.rtd\",,\"StudyData\", \"Close(\"&$D$12&\") when LocalYear(\"&$D$12&\")=\"&$D$8&\" and localMonth(\"&$D$12&\") =\"&$E$8&\" and LocalDay(\"&$D$12&\")=\"&$F$8&\" and Barix(\"&$D$12&\",reference:=StartOfSession)=\"&A46&\"\", \"Bar\", \"\", \"Close\",\"5\",\"0\",\"PrimaryOnly\",,,\"False\",\"T\",\"EveryTick\")","v":119.484375},1.7029080429656798E-3,{"$f":"RTD(\"cqg.rtd\",,\"StudyData\", \"Close(\"&$D$12&\") when LocalYear(\"&$D$12&\")=\"&$D$9&\" and localMonth(\"&$D$12&\") =\"&$E$9&\" and LocalDay(\"&$D$12&\")=\"&$F$9&\" and Barix(\"&$D$12&\",reference:=StartOfSession)=\"&A46&\"\", \"Bar\", \"\", \"Close\",\"5\",\"0\",\"PrimaryOnly\",,,\"False\",\"T\",\"EveryTick\")","v":119.3125},-3.2632815559326457E-3,{"$f":"RTD(\"cqg.rtd\",,\"StudyData\", \"Close(\"&$D$12&\") when LocalYear(\"&$D$12&\")=\"&$D$10&\" and localMonth(\"&$D$12&\") =\"&$E$10&\" and LocalDay(\"&$D$12&\")=\"&$F$10&\" and Barix(\"&$D$12&\",reference:=StartOfSession)=\"&A46&\"\", \"Bar\", \"\", \"Close\",\"5\",\"0\",\"PrimaryOnly\",,,\"False\",\"T\",\"EveryTick\")","v":119.8125},2.615062761506276E-3,null,null,null,""]
[226,"11:50:00",-31,{"$f":" RTD(\"cqg.rtd\",,\"StudyData\", $D$12,  \"Tick\", \"FlatTicks=0\", \"Tick\",\"D\",C47,\"PrimaryOnly\")","v":119.71875},null,null,null,{"$f":"RTD(\"cqg.rtd\",,\"StudyData\", \"Close(\"&$D$12&\") when LocalYear(\"&$D$12&\")=\"&$D$1&\" and localMonth(\"&$D$12&\") =\"&$E$1&\" and LocalDay(\"&$D$12&\")=\"&$F$1&\" and Barix(\"&$D$12&\",reference:=StartOfSession)=\"&A47&\"\", \"Bar\", \"\", \"Close\",\"5\",\"0\",\"PrimaryOnly\",,,\"False\",\"T\",\"EveryTick\")","v":""},{"$error":"#N/A"},{"$f":"RTD(\"cqg.rtd\",,\"StudyData\", \"Close(\"&$D$12&\") when LocalYear(\"&$D$12&\")=\"&$D$2&\" and localMonth(\"&$D$12&\") =\"&$E$2&\" and LocalDay(\"&$D$12&\")=\"&$F$2&\" and Barix(\"&$D$12&\",reference:=StartOfSession)=\"&A47&\"\", \"Bar\", \"\", \"Close\",\"5\",\"0\",\"PrimaryOnly\",,,\"False\",\"T\",\"EveryTick\")","v":119.640625},1.7006802721088435E-3,{"$f":"RTD(\"cqg.rtd\",,\"StudyData\", \"Close(\"&$D$12&\") when LocalYear(\"&$D$12&\")=\"&$D$3&\" and localMonth(\"&$D$12&\") =\"&$E$3&\" and LocalDay(\"&$D$12&\")=\"&$F$3&\" and Barix(\"&$D$12&\",reference:=StartOfSession)=\"&A47&\"\", \"Bar\", \"\", \"Close\",\"5\",\"0\",\"PrimaryOnly\",,,\"False\",\"T\",\"EveryTick\")","v":119.484375},2.4908232826428944E-3,{"$f":"RTD(\"cqg.rtd\",,\"StudyData\", \"Close(\"&$D$12&\") when LocalYear(\"&$D$12&\")=\"&$D$4&\" and localMonth(\"&$D$12&\") =\"&$E$4&\" and LocalDay(\"&$D$12&\")=\"&$F$4&\" and Barix(\"&$D$12&\",reference:=StartOfSession)=\"&A47&\"\", \"Bar\", \"\", \"Close\",\"5\",\"0\",\"PrimaryOnly\",,,\"False\",\"T\",\"EveryTick\")","v":119.40625},0,{"$f":"RTD(\"cqg.rtd\",,\"StudyData\", \"Close(\"&$D$12&\") when LocalYear(\"&$D$12&\")=\"&$D$5&\" and localMonth(\"&$D$12&\") =\"&$E$5&\" and LocalDay(\"&$D$12&\")=\"&$F$5&\" and Barix(\"&$D$12&\",reference:=StartOfSession)=\"&A47&\"\", \"Bar\", \"\", \"Close\",\"5\",\"0\",\"PrimaryOnly\",,,\"False\",\"T\",\"EveryTick\")","v":119.359375},-6.5410779696493981E-4,{"$f":"RTD(\"cqg.rtd\",,\"StudyData\", \"Close(\"&$D$12&\") when LocalYear(\"&$D$12&\")=\"&$D$6&\" and localMonth(\"&$D$12&\") =\"&$E$6&\" and LocalDay(\"&$D$12&\")=\"&$F$6&\" and Barix(\"&$D$12&\",reference:=StartOfSession)=\"&A47&\"\", \"Bar\", \"\", \"Close\",\"5\",\"0\",\"PrimaryOnly\",,,\"False\",\"T\",\"EveryTick\")","v":119.4375},-1.3065064018813691E-3,{"$f":"RTD(\"cqg.rtd\",,\"StudyData\", \"Close(\"&$D$12&\") when LocalYear(\"&$D$12&\")=\"&$D$7&\" and localMonth(\"&$D$12&\") =\"&$E$7&\" and LocalDay(\"&$D$12&\")=\"&$F$7&\" and Barix(\"&$D$12&\",reference:=StartOfSession)=\"&A47&\"\", \"Bar\", \"\", \"Close\",\"5\",\"0\",\"PrimaryOnly\",,,\"False\",\"T\",\"EveryTick\")","v":119.671875},6.5325320094068457E-4,{"$f":"RTD(\"cqg.rtd\",,\"StudyData\", \"Close(\"&$D$12&\") when LocalYear(\"&$D$12&\")=\"&$D$8&\" and localMonth(\"&$D$12&\") =\"&$E$8&\" and LocalDay(\"&$D$12&\")=\"&$F$8&\" and Barix(\"&$D$12&\",reference:=StartOfSession)=\"&A47&\"\", \"Bar\", \"\", \"Close\",\"5\",\"0\",\"PrimaryOnly\",,,\"False\",\"T\",\"EveryTick\")","v":119.484375},1.7029080429656798E-3,{"$f":"RTD(\"cqg.rtd\",,\"StudyData\", \"Close(\"&$D$12&\") when LocalYear(\"&$D$12&\")=\"&$D$9&\" and localMonth(\"&$D$12&\") =\"&$E$9&\" and LocalDay(\"&$D$12&\")=\"&$F$9&\" and Barix(\"&$D$12&\",reference:=StartOfSession)=\"&A47&\"\", \"Bar\", \"\", \"Close\",\"5\",\"0\",\"PrimaryOnly\",,,\"False\",\"T\",\"EveryTick\")","v":119.28125},-3.5243440804072577E-3,{"$f":"RTD(\"cqg.rtd\",,\"StudyData\", \"Close(\"&$D$12&\") when LocalYear(\"&$D$12&\")=\"&$D$10&\" and localMonth(\"&$D$12&\") =\"&$E$10&\" and LocalDay(\"&$D$12&\")=\"&$F$10&\" and Barix(\"&$D$12&\",reference:=StartOfSession)=\"&A47&\"\", \"Bar\", \"\", \"Close\",\"5\",\"0\",\"PrimaryOnly\",,,\"False\",\"T\",\"EveryTick\")","v":119.8125},2.615062761506276E-3,null,null,null,""]
[227,"11:55:00",-30,{"$f":" RTD(\"cqg.rtd\",,\"StudyData\", $D$12,  \"Tick\", \"FlatTicks=0\", \"Tick\",\"D\",C48,\"PrimaryOnly\")","v":119.703125},null,null,null,{"$f":"RTD(\"cqg.rtd\",,\"StudyData\", \"Close(\"&$D$12&\") when LocalYear(\"&$D$12&\")=\"&$D$1&\" and localMonth(\"&$D$12&\") =\"&$E$1&\" and LocalDay(\"&$D$12&\")=\"&$F$1&\" and Barix(\"&$D$12&\",reference:=StartOfSession)=\"&A48&\"\", \"Bar\", \"\", \"Close\",\"5\",\"0\",\"PrimaryOnly\",,,\"False\",\"T\",\"EveryTick\")","v":""},{"$error":"#N/A"},{"$f":"RTD(\"cqg.rtd\",,\"StudyData\", \"Close(\"&$D$12&\") when LocalYear(\"&$D$12&\")=\"&$D$2&\" and localMonth(\"&$D$12&\") =\"&$E$2&\" and LocalDay(\"&$D$12&\")=\"&$F$2&\" and Barix(\"&$D$12&\",reference:=StartOfSession)=\"&A48&\"\", \"Bar\", \"\", \"Close\",\"5\",\"0\",\"PrimaryOnly\",,,\"False\",\"T\",\"EveryTick\")","v":119.640625},1.7006802721088435E-3,{"$f":"RTD(\"cqg.rtd\",,\"StudyData\", \"Close(\"&$D$12&\") when LocalYear(\"&$D$12&\")=\"&$D$3&\" and localMonth(\"&$D$12&\") =\"&$E$3&\" and LocalDay(\"&$D$12&\")=\"&$F$3&\" and Barix(\"&$D$12&\",reference:=StartOfSession)=\"&A48&\"\", \"Bar\", \"\", \"Close\",\"5\",\"0\",\"PrimaryOnly\",,,\"False\",\"T\",\"EveryTick\")","v":119.515625},2.7530152071316202E-3,{"$f":"RTD(\"cqg.rtd\",,\"StudyData\", \"Close(\"&$D$12&\") when LocalYear(\"&$D$12&\")=\"&$D$4&\" and localMonth(\"&$D$12&\") =\"&$E$4&\" and LocalDay(\"&$D$12&\")=\"&$F$4&\" and Barix(\"&$D$12&\",reference:=StartOfSession)=\"&A48&\"\", \"Bar\", \"\", \"Close\",\"5\",\"0\",\"PrimaryOnly\",,,\"False\",\"T\",\"EveryTick\")","v":119.421875},1.3085579691180318E-4,{"$f":"RTD(\"cqg.rtd\",,\"StudyData\", \"Close(\"&$D$12&\") when LocalYear(\"&$D$12&\")=\"&$D$5&\" and localMonth(\"&$D$12&\") =\"&$E$5&\" and LocalDay(\"&$D$12&\")=\"&$F$5&\" and Barix(\"&$D$12&\",reference:=StartOfSession)=\"&A48&\"\", \"Bar\", \"\", \"Close\",\"5\",\"0\",\"PrimaryOnly\",,,\"False\",\"T\",\"EveryTick\")","v":119.359375},-6.5410779696493981E-4,{"$f":"RTD(\"cqg.rtd\",,\"StudyData\", \"Close(\"&$D$12&\") when LocalYear(\"&$D$12&\")=\"&$D$6&\" and localMonth(\"&$D$12&\") =\"&$E$6&\" and LocalDay(\"&$D$12&\")=\"&$F$6&\" and Barix(\"&$D$12&\",reference:=StartOfSession)=\"&A48&\"\", \"Bar\", \"\", \"Close\",\"5\",\"0\",\"PrimaryOnly\",,,\"False\",\"T\",\"EveryTick\")","v":119.421875},-1.4371570420695062E-3,{"$f":"RTD(\"cqg.rtd\",,\"StudyData\", \"Close(\"&$D$12&\") when LocalYear(\"&$D$12&\")=\"&$D$7&\" and localMonth(\"&$D$12&\") =\"&$E$7&\" and LocalDay(\"&$D$12&\")=\"&$F$7&\" and Barix(\"&$D$12&\",reference:=StartOfSession)=\"&A48&\"\", \"Bar\", \"\", \"Close\",\"5\",\"0\",\"PrimaryOnly\",,,\"False\",\"T\",\"EveryTick\")","v":119.640625},3.9195192056441075E-4,{"$f":"RTD(\"cqg.rtd\",,\"StudyData\", \"Close(\"&$D$12&\") when LocalYear(\"&$D$12&\")=\"&$D$8&\" and localMonth(\"&$D$12&\") =\"&$E$8&\" and LocalDay(\"&$D$12&\")=\"&$F$8&\" and Barix(\"&$D$12&\",reference:=StartOfSession)=\"&A48&\"\", \"Bar\", \"\", \"Close\",\"5\",\"0\",\"PrimaryOnly\",,,\"False\",\"T\",\"EveryTick\")","v":119.484375},1.7029080429656798E-3,{"$f":"RTD(\"cqg.rtd\",,\"StudyData\", \"Close(\"&$D$12&\") when LocalYear(\"&$D$12&\")=\"&$D$9&\" and localMonth(\"&$D$12&\") =\"&$E$9&\" and LocalDay(\"&$D$12&\")=\"&$F$9&\" and Barix(\"&$D$12&\",reference:=StartOfSession)=\"&A48&\"\", \"Bar\", \"\", \"Close\",\"5\",\"0\",\"PrimaryOnly\",,,\"False\",\"T\",\"EveryTick\")","v":119.265625},-3.6548753426445635E-3,{"$f":"RTD(\"cqg.rtd\",,\"StudyData\", \"Close(\"&$D$12&\") when LocalYear(\"&$D$12&\")=\"&$D$10&\" and localMonth(\"&$D$12&\") =\"&$E$10&\" and LocalDay(\"&$D$12&\")=\"&$F$10&\" and Barix(\"&$D$12&\",reference:=StartOfSession)=\"&A48&\"\", \"Bar\", \"\", \"Close\",\"5\",\"0\",\"PrimaryOnly\",,,\"False\",\"T\",\"EveryTick\")","v":119.8125},2.615062761506276E-3,null,null,null,""]
[228,"12:00:00",-29,{"$f":" RTD(\"cqg.rtd\",,\"StudyData\", $D$12,  \"Tick\", \"FlatTicks=0\", \"Tick\",\"D\",C49,\"PrimaryOnly\")","v":119.71875},null,null,null,{"$f":"RTD(\"cqg.rtd\",,\"StudyData\", \"Close(\"&$D$12&\") when LocalYear(\"&$D$12&\")=\"&$D$1&\" and localMonth(\"&$D$12&\") =\"&$E$1&\" and LocalDay(\"&$D$12&\")=\"&$F$1&\" and Barix(\"&$D$12&\",reference:=StartOfSession)=\"&A49&\"\", \"Bar\", \"\", \"Close\",\"5\",\"0\",\"PrimaryOnly\",,,\"False\",\"T\",\"EveryTick\")","v":""},{"$error":"#N/A"},{"$f":"RTD(\"cqg.rtd\",,\"StudyData\", \"Close(\"&$D$12&\") when LocalYear(\"&$D$12&\")=\"&$D$2&\" and localMonth(\"&$D$12&\") =\"&$E$2&\" and LocalDay(\"&$D$12&\")=\"&$F$2&\" and Barix(\"&$D$12&\",reference:=StartOfSession)=\"&A49&\"\", \"Bar\", \"\", \"Close\",\"5\",\"0\",\"PrimaryOnly\",,,\"False\",\"T\",\"EveryTick\")","v":119.625},1.5698587127158557E-3,{"$f":"RTD(\"cqg.rtd\",,\"StudyData\", \"Close(\"&$D$12&\") when LocalYear(\"&$D$12&\")=\"&$D$3&\" and localMonth(\"&$D$12&\") =\"&$E$3&\" and LocalDay(\"&$D$12&\")=\"&$F$3&\" and Barix(\"&$D$12&\",reference:=StartOfSession)=\"&A49&\"\", \"Bar\", \"\", \"Close\",\"5\",\"0\",\"PrimaryOnly\",,,\"False\",\"T\",\"EveryTick\")","v":119.484375},2.4908232826428944E-3,{"$f":"RTD(\"cqg.rtd\",,\"StudyData\", \"Close(\"&$D$12&\") when LocalYear(\"&$D$12&\")=\"&$D$4&\" and localMonth(\"&$D$12&\") =\"&$E$4&\" and LocalDay(\"&$D$12&\")=\"&$F$4&\" and Barix(\"&$D$12&\",reference:=StartOfSession)=\"&A49&\"\", \"Bar\", \"\", \"Close\",\"5\",\"0\",\"PrimaryOnly\",,,\"False\",\"T\",\"EveryTick\")","v":119.390625},-1.3085579691180318E-4,{"$f":"RTD(\"cqg.rtd\",,\"StudyData\", \"Close(\"&$D$12&\") when LocalYear(\"&$D$12&\")=\"&$D$5&\" and localMonth(\"&$D$12&\") =\"&$E$5&\" and LocalDay(\"&$D$12&\")=\"&$F$5&\" and Barix(\"&$D$12&\",reference:=StartOfSession)=\"&A49&\"\", \"Bar\", \"\", \"Close\",\"5\",\"0\",\"PrimaryOnly\",,,\"False\",\"T\",\"EveryTick\")","v":119.375},-5.2328623757195189E-4,{"$f":"RTD(\"cqg.rtd\",,\"StudyData\", \"Close(\"&$D$12&\") when LocalYear(\"&$D$12&\")=\"&$D$6&\" and localMonth(\"&$D$12&\") =\"&$E$6&\" and LocalDay(\"&$D$12&\")=\"&$F$6&\" and Barix(\"&$D$12&\",reference:=StartOfSession)=\"&A49&\"\", \"Bar\", \"\", \"Close\",\"5\",\"0\",\"PrimaryOnly\",,,\"False\",\"T\",\"EveryTick\")","v":119.421875},-1.4371570420695062E-3,{"$f":"RTD(\"cqg.rtd\",,\"StudyData\", \"Close(\"&$D$12&\") when LocalYear(\"&$D$12&\")=\"&$D$7&\" and localMonth(\"&$D$12&\") =\"&$E$7&\" and LocalDay(\"&$D$12&\")=\"&$F$7&\" and Barix(\"&$D$12&\",reference:=StartOfSession)=\"&A49&\"\", \"Bar\", \"\", \"Close\",\"5\",\"0\",\"PrimaryOnly\",,,\"False\",\"T\",\"EveryTick\")","v":119.671875},6.5325320094068457E-4,{"$f":"RTD(\"cqg.rtd\",,\"StudyData\", \"Close(\"&$D$12&\") when LocalYear(\"&$D$12&\")=\"&$D$8&\" and localMonth(\"&$D$12&\") =\"&$E$8&\" and LocalDay(\"&$D$12&\")=\"&$F$8&\" and Barix(\"&$D$12&\",reference:=StartOfSession)=\"&A49&\"\", \"Bar\", \"\", \"Close\",\"5\",\"0\",\"PrimaryOnly\",,,\"False\",\"T\",\"EveryTick\")","v":119.453125},1.440922190201729E-3,{"$f":"RTD(\"cqg.rtd\",,\"StudyData\", \"Close(\"&$D$12&\") when LocalYear(\"&$D$12&\")=\"&$D$9&\" and localMonth(\"&$D$12&\") =\"&$E$9&\" and LocalDay(\"&$D$12&\")=\"&$F$9&\" and Barix(\"&$D$12&\",reference:=StartOfSession)=\"&A49&\"\", \"Bar\", \"\", \"Close\",\"5\",\"0\",\"PrimaryOnly\",,,\"False\",\"T\",\"EveryTick\")","v":119.265625},-3.6548753426445635E-3,{"$f":"RTD(\"cqg.rtd\",,\"StudyData\", \"Close(\"&$D$12&\") when LocalYear(\"&$D$12&\")=\"&$D$10&\" and localMonth(\"&$D$12&\") =\"&$E$10&\" and LocalDay(\"&$D$12&\")=\"&$F$10&\" and Barix(\"&$D$12&\",reference:=StartOfSession)=\"&A49&\"\", \"Bar\", \"\", \"Close\",\"5\",\"0\",\"PrimaryOnly\",,,\"False\",\"T\",\"EveryTick\")","v":119.8125},2.615062761506276E-3,null,null,null,""]
[229,"12:05:00",-28,{"$f":" RTD(\"cqg.rtd\",,\"StudyData\", $D$12,  \"Tick\", \"FlatTicks=0\", \"Tick\",\"D\",C50,\"PrimaryOnly\")","v":119.703125},null,null,null,{"$f":"RTD(\"cqg.rtd\",,\"StudyData\", \"Close(\"&$D$12&\") when LocalYear(\"&$D$12&\")=\"&$D$1&\" and localMonth(\"&$D$12&\") =\"&$E$1&\" and LocalDay(\"&$D$12&\")=\"&$F$1&\" and Barix(\"&$D$12&\",reference:=StartOfSession)=\"&A50&\"\", \"Bar\", \"\", \"Close\",\"5\",\"0\",\"PrimaryOnly\",,,\"False\",\"T\",\"EveryTick\")","v":""},{"$error":"#N/A"},{"$f":"RTD(\"cqg.rtd\",,\"StudyData\", \"Close(\"&$D$12&\") when LocalYear(\"&$D$12&\")=\"&$D$2&\" and localMonth(\"&$D$12&\") =\"&$E$2&\" and LocalDay(\"&$D$12&\")=\"&$F$2&\" and Barix(\"&$D$12&\",reference:=StartOfSession)=\"&A50&\"\", \"Bar\", \"\", \"Close\",\"5\",\"0\",\"PrimaryOnly\",,,\"False\",\"T\",\"EveryTick\")","v":119.65625},1.8315018315018315E-3,{"$f":"RTD(\"cqg.rtd\",,\"StudyData\", \"Close(\"&$D$12&\") when LocalYear(\"&$D$12&\")=\"&$D$3&\" and localMonth(\"&$D$12&\") =\"&$E$3&\" and LocalDay(\"&$D$12&\")=\"&$F$3&\" and Barix(\"&$D$12&\",reference:=StartOfSession)=\"&A50&\"\", \"Bar\", \"\", \"Close\",\"5\",\"0\",\"PrimaryOnly\",,,\"False\",\"T\",\"EveryTick\")","v":119.515625},2.7530152071316202E-3,{"$f":"RTD(\"cqg.rtd\",,\"StudyData\", \"Close(\"&$D$12&\") when LocalYear(\"&$D$12&\")=\"&$D$4&\" and localMonth(\"&$D$12&\") =\"&$E$4&\" and LocalDay(\"&$D$12&\")=\"&$F$4&\" and Barix(\"&$D$12&\",reference:=StartOfSession)=\"&A50&\"\", \"Bar\", \"\", \"Close\",\"5\",\"0\",\"PrimaryOnly\",,,\"False\",\"T\",\"EveryTick\")","v":119.40625},0,{"$f":"RTD(\"cqg.rtd\",,\"StudyData\", \"Close(\"&$D$12&\") when LocalYear(\"&$D$12&\")=\"&$D$5&\" and localMonth(\"&$D$12&\") =\"&$E$5&\" and LocalDay(\"&$D$12&\")=\"&$F$5&\" and Barix(\"&$D$12&\",reference:=StartOfSession)=\"&A50&\"\", \"Bar\", \"\", \"Close\",\"5\",\"0\",\"PrimaryOnly\",,,\"False\",\"T\",\"EveryTick\")","v":119.390625},-3.9246467817896392E-4,{"$f":"RTD(\"cqg.rtd\",,\"StudyData\", \"Close(\"&$D$12&\") when LocalYear(\"&$D$12&\")=\"&$D$6&\" and localMonth(\"&$D$12&\") =\"&$E$6&\" and LocalDay(\"&$D$12&\")=\"&$F$6&\" and Barix(\"&$D$12&\",reference:=StartOfSession)=\"&A50&\"\", \"Bar\", \"\", \"Close\",\"5\",\"0\",\"PrimaryOnly\",,,\"False\",\"T\",\"EveryTick\")","v":119.390625},-1.6984583224457801E-3,{"$f":"RTD(\"cqg.rtd\",,\"StudyData\", \"Close(\"&$D$12&\") when LocalYear(\"&$D$12&\")=\"&$D$7&\" and localMonth(\"&$D$12&\") =\"&$E$7&\" and LocalDay(\"&$D$12&\")=\"&$F$7&\" and Barix(\"&$D$12&\",reference:=StartOfSession)=\"&A50&\"\", \"Bar\", \"\", \"Close\",\"5\",\"0\",\"PrimaryOnly\",,,\"False\",\"T\",\"EveryTick\")","v":119.671875},6.5325320094068457E-4,{"$f":"RTD(\"cqg.rtd\",,\"StudyData\", \"Close(\"&$D$12&\") when LocalYear(\"&$D$12&\")=\"&$D$8&\" and localMonth(\"&$D$12&\") =\"&$E$8&\" and LocalDay(\"&$D$12&\")=\"&$F$8&\" and Barix(\"&$D$12&\",reference:=StartOfSession)=\"&A50&\"\", \"Bar\", \"\", \"Close\",\"5\",\"0\",\"PrimaryOnly\",,,\"False\",\"T\",\"EveryTick\")","v":119.453125},1.440922190201729E-3,{"$f":"RTD(\"cqg.rtd\",,\"StudyData\", \"Close(\"&$D$12&\") when LocalYear(\"&$D$12&\")=\"&$D$9&\" and localMonth(\"&$D$12&\") =\"&$E$9&\" and LocalDay(\"&$D$12&\")=\"&$F$9&\" and Barix(\"&$D$12&\",reference:=StartOfSession)=\"&A50&\"\", \"Bar\", \"\", \"Close\",\"5\",\"0\",\"PrimaryOnly\",,,\"False\",\"T\",\"EveryTick\")","v":119.25},-3.7854066048818693E-3,{"$f":"RTD(\"cqg.rtd\",,\"StudyData\", \"Close(\"&$D$12&\") when LocalYear(\"&$D$12&\")=\"&$D$10&\" and localMonth(\"&$D$12&\") =\"&$E$10&\" and LocalDay(\"&$D$12&\")=\"&$F$10&\" and Barix(\"&$D$12&\",reference:=StartOfSession)=\"&A50&\"\", \"Bar\", \"\", \"Close\",\"5\",\"0\",\"PrimaryOnly\",,,\"False\",\"T\",\"EveryTick\")","v":119.78125},2.3535564853556486E-3,null,null,null,""]
[230,"12:10:00",-27,{"$f":" RTD(\"cqg.rtd\",,\"StudyData\", $D$12,  \"Tick\", \"FlatTicks=0\", \"Tick\",\"D\",C51,\"PrimaryOnly\")","v":119.71875},null,null,null,{"$f":"RTD(\"cqg.rtd\",,\"StudyData\", \"Close(\"&$D$12&\") when LocalYear(\"&$D$12&\")=\"&$D$1&\" and localMonth(\"&$D$12&\") =\"&$E$1&\" and LocalDay(\"&$D$12&\")=\"&$F$1&\" and Barix(\"&$D$12&\",reference:=StartOfSession)=\"&A51&\"\", \"Bar\", \"\", \"Close\",\"5\",\"0\",\"PrimaryOnly\",,,\"False\",\"T\",\"EveryTick\")","v":""},{"$error":"#N/A"},{"$f":"RTD(\"cqg.rtd\",,\"StudyData\", \"Close(\"&$D$12&\") when LocalYear(\"&$D$12&\")=\"&$D$2&\" and localMonth(\"&$D$12&\") =\"&$E$2&\" and LocalDay(\"&$D$12&\")=\"&$F$2&\" and Barix(\"&$D$12&\",reference:=StartOfSession)=\"&A51&\"\", \"Bar\", \"\", \"Close\",\"5\",\"0\",\"PrimaryOnly\",,,\"False\",\"T\",\"EveryTick\")","v":119.6875},2.0931449502878076E-3,{"$f":"RTD(\"cqg.rtd\",,\"StudyData\", \"Close(\"&$D$12&\") when LocalYear(\"&$D$12&\")=\"&$D$3&\" and localMonth(\"&$D$12&\") =\"&$E$3&\" and LocalDay(\"&$D$12&\")=\"&$F$3&\" and Barix(\"&$D$12&\",reference:=StartOfSession)=\"&A51&\"\", \"Bar\", \"\", \"Close\",\"5\",\"0\",\"PrimaryOnly\",,,\"False\",\"T\",\"EveryTick\")","v":119.515625},2.7530152071316202E-3,{"$f":"RTD(\"cqg.rtd\",,\"StudyData\", \"Close(\"&$D$12&\") when LocalYear(\"&$D$12&\")=\"&$D$4&\" and localMonth(\"&$D$12&\") =\"&$E$4&\" and LocalDay(\"&$D$12&\")=\"&$F$4&\" and Barix(\"&$D$12&\",reference:=StartOfSession)=\"&A51&\"\", \"Bar\", \"\", \"Close\",\"5\",\"0\",\"PrimaryOnly\",,,\"False\",\"T\",\"EveryTick\")","v":119.421875},1.3085579691180318E-4,{"$f":"RTD(\"cqg.rtd\",,\"StudyData\", \"Close(\"&$D$12&\") when LocalYear(\"&$D$12&\")=\"&$D$5&\" and localMonth(\"&$D$12&\") =\"&$E$5&\" and LocalDay(\"&$D$12&\")=\"&$F$5&\" and Barix(\"&$D$12&\",reference:=StartOfSession)=\"&A51&\"\", \"Bar\", \"\", \"Close\",\"5\",\"0\",\"PrimaryOnly\",,,\"False\",\"T\",\"EveryTick\")","v":119.359375},-6.5410779696493981E-4,{"$f":"RTD(\"cqg.rtd\",,\"StudyData\", \"Close(\"&$D$12&\") when LocalYear(\"&$D$12&\")=\"&$D$6&\" and localMonth(\"&$D$12&\") =\"&$E$6&\" and LocalDay(\"&$D$12&\")=\"&$F$6&\" and Barix(\"&$D$12&\",reference:=StartOfSession)=\"&A51&\"\", \"Bar\", \"\", \"Close\",\"5\",\"0\",\"PrimaryOnly\",,,\"False\",\"T\",\"EveryTick\")","v":119.40625},-1.567807682257643E-3,{"$f":"RTD(\"cqg.rtd\",,\"StudyData\", \"Close(\"&$D$12&\") when LocalYear(\"&$D$12&\")=\"&$D$7&\" and localMonth(\"&$D$12&\") =\"&$E$7&\" and LocalDay(\"&$D$12&\")=\"&$F$7&\" and Barix(\"&$D$12&\",reference:=StartOfSession)=\"&A51&\"\", \"Bar\", \"\", \"Close\",\"5\",\"0\",\"PrimaryOnly\",,,\"False\",\"T\",\"EveryTick\")","v":119.65625},5.2260256075254764E-4,{"$f":"RTD(\"cqg.rtd\",,\"StudyData\", \"Close(\"&$D$12&\") when LocalYear(\"&$D$12&\")=\"&$D$8&\" and localMonth(\"&$D$12&\") =\"&$E$8&\" and LocalDay(\"&$D$12&\")=\"&$F$8&\" and Barix(\"&$D$12&\",reference:=StartOfSession)=\"&A51&\"\", \"Bar\", \"\", \"Close\",\"5\",\"0\",\"PrimaryOnly\",,,\"False\",\"T\",\"EveryTick\")","v":119.5},1.8339009693476552E-3,{"$f":"RTD(\"cqg.rtd\",,\"StudyData\", \"Close(\"&$D$12&\") when LocalYear(\"&$D$12&\")=\"&$D$9&\" and localMonth(\"&$D$12&\") =\"&$E$9&\" and LocalDay(\"&$D$12&\")=\"&$F$9&\" and Barix(\"&$D$12&\",reference:=StartOfSession)=\"&A51&\"\", \"Bar\", \"\", \"Close\",\"5\",\"0\",\"PrimaryOnly\",,,\"False\",\"T\",\"EveryTick\")","v":119.28125},-3.5243440804072577E-3,{"$f":"RTD(\"cqg.rtd\",,\"StudyData\", \"Close(\"&$D$12&\") when LocalYear(\"&$D$12&\")=\"&$D$10&\" and localMonth(\"&$D$12&\") =\"&$E$10&\" and LocalDay(\"&$D$12&\")=\"&$F$10&\" and Barix(\"&$D$12&\",reference:=StartOfSession)=\"&A51&\"\", \"Bar\", \"\", \"Close\",\"5\",\"0\",\"PrimaryOnly\",,,\"False\",\"T\",\"EveryTick\")","v":119.765625},2.2228033472803349E-3,null,null,null,""]
[231,"12:15:00",-26,{"$f":" RTD(\"cqg.rtd\",,\"StudyData\", $D$12,  \"Tick\", \"FlatTicks=0\", \"Tick\",\"D\",C52,\"PrimaryOnly\")","v":119.703125},null,null,null,{"$f":"RTD(\"cqg.rtd\",,\"StudyData\", \"Close(\"&$D$12&\") when LocalYear(\"&$D$12&\")=\"&$D$1&\" and localMonth(\"&$D$12&\") =\"&$E$1&\" and LocalDay(\"&$D$12&\")=\"&$F$1&\" and Barix(\"&$D$12&\",reference:=StartOfSession)=\"&A52&\"\", \"Bar\", \"\", \"Close\",\"5\",\"0\",\"PrimaryOnly\",,,\"False\",\"T\",\"EveryTick\")","v":""},{"$error":"#N/A"},{"$f":"RTD(\"cqg.rtd\",,\"StudyData\", \"Close(\"&$D$12&\") when LocalYear(\"&$D$12&\")=\"&$D$2&\" and localMonth(\"&$D$12&\") =\"&$E$2&\" and LocalDay(\"&$D$12&\")=\"&$F$2&\" and Barix(\"&$D$12&\",reference:=StartOfSession)=\"&A52&\"\", \"Bar\", \"\", \"Close\",\"5\",\"0\",\"PrimaryOnly\",,,\"False\",\"T\",\"EveryTick\")","v":119.671875},1.9623233908948193E-3,{"$f":"RTD(\"cqg.rtd\",,\"StudyData\", \"Close(\"&$D$12&\") when LocalYear(\"&$D$12&\")=\"&$D$3&\" and localMonth(\"&$D$12&\") =\"&$E$3&\" and LocalDay(\"&$D$12&\")=\"&$F$3&\" and Barix(\"&$D$12&\",reference:=StartOfSession)=\"&A52&\"\", \"Bar\", \"\", \"Close\",\"5\",\"0\",\"PrimaryOnly\",,,\"False\",\"T\",\"EveryTick\")","v":119.5},2.6219192448872575E-3,{"$f":"RTD(\"cqg.rtd\",,\"StudyData\", \"Close(\"&$D$12&\") when LocalYear(\"&$D$12&\")=\"&$D$4&\" and localMonth(\"&$D$12&\") =\"&$E$4&\" and LocalDay(\"&$D$12&\")=\"&$F$4&\" and Barix(\"&$D$12&\",reference:=StartOfSession)=\"&A52&\"\", \"Bar\", \"\", \"Close\",\"5\",\"0\",\"PrimaryOnly\",,,\"False\",\"T\",\"EveryTick\")","v":119.40625},0,{"$f":"RTD(\"cqg.rtd\",,\"StudyData\", \"Close(\"&$D$12&\") when LocalYear(\"&$D$12&\")=\"&$D$5&\" and localMonth(\"&$D$12&\") =\"&$E$5&\" and LocalDay(\"&$D$12&\")=\"&$F$5&\" and Barix(\"&$D$12&\",reference:=StartOfSession)=\"&A52&\"\", \"Bar\", \"\", \"Close\",\"5\",\"0\",\"PrimaryOnly\",,,\"False\",\"T\",\"EveryTick\")","v":119.359375},-6.5410779696493981E-4,{"$f":"RTD(\"cqg.rtd\",,\"StudyData\", \"Close(\"&$D$12&\") when LocalYear(\"&$D$12&\")=\"&$D$6&\" and localMonth(\"&$D$12&\") =\"&$E$6&\" and LocalDay(\"&$D$12&\")=\"&$F$6&\" and Barix(\"&$D$12&\",reference:=StartOfSession)=\"&A52&\"\", \"Bar\", \"\", \"Close\",\"5\",\"0\",\"PrimaryOnly\",,,\"False\",\"T\",\"EveryTick\")","v":119.375},-1.8291089626339169E-3,{"$f":"RTD(\"cqg.rtd\",,\"StudyData\", \"Close(\"&$D$12&\") when LocalYear(\"&$D$12&\")=\"&$D$7&\" and localMonth(\"&$D$12&\") =\"&$E$7&\" and LocalDay(\"&$D$12&\")=\"&$F$7&\" and Barix(\"&$D$12&\",reference:=StartOfSession)=\"&A52&\"\", \"Bar\", \"\", \"Close\",\"5\",\"0\",\"PrimaryOnly\",,,\"False\",\"T\",\"EveryTick\")","v":119.65625},5.2260256075254764E-4,{"$f":"RTD(\"cqg.rtd\",,\"StudyData\", \"Close(\"&$D$12&\") when LocalYear(\"&$D$12&\")=\"&$D$8&\" and localMonth(\"&$D$12&\") =\"&$E$8&\" and LocalDay(\"&$D$12&\")=\"&$F$8&\" and Barix(\"&$D$12&\",reference:=StartOfSession)=\"&A52&\"\", \"Bar\", \"\", \"Close\",\"5\",\"0\",\"PrimaryOnly\",,,\"False\",\"T\",\"EveryTick\")","v":119.53125},2.0958868221116062E-3,{"$f":"RTD(\"cqg.rtd\",,\"StudyData\", \"Close(\"&$D$12&\") when LocalYear(\"&$D$12&\")=\"&$D$9&\" and localMonth(\"&$D$12&\") =\"&$E$9&\" and LocalDay(\"&$D$12&\")=\"&$F$9&\" and Barix(\"&$D$12&\",reference:=StartOfSession)=\"&A52&\"\", \"Bar\", \"\", \"Close\",\"5\",\"0\",\"PrimaryOnly\",,,\"False\",\"T\",\"EveryTick\")","v":119.296875},-3.3938128181699519E-3,{"$f":"RTD(\"cqg.rtd\",,\"StudyData\", \"Close(\"&$D$12&\") when LocalYear(\"&$D$12&\")=\"&$D$10&\" and localMonth(\"&$D$12&\") =\"&$E$10&\" and LocalDay(\"&$D$12&\")=\"&$F$10&\" and Barix(\"&$D$12&\",reference:=StartOfSession)=\"&A52&\"\", \"Bar\", \"\", \"Close\",\"5\",\"0\",\"PrimaryOnly\",,,\"False\",\"T\",\"EveryTick\")","v":119.75},2.0920502092050207E-3,null,null,null,""]
[232,"12:20:00",-25,{"$f":" RTD(\"cqg.rtd\",,\"StudyData\", $D$12,  \"Tick\", \"FlatTicks=0\", \"Tick\",\"D\",C53,\"PrimaryOnly\")","v":119.71875},null,null,null,{"$f":"RTD(\"cqg.rtd\",,\"StudyData\", \"Close(\"&$D$12&\") when LocalYear(\"&$D$12&\")=\"&$D$1&\" and localMonth(\"&$D$12&\") =\"&$E$1&\" and LocalDay(\"&$D$12&\")=\"&$F$1&\" and Barix(\"&$D$12&\",reference:=StartOfSession)=\"&A53&\"\", \"Bar\", \"\", \"Close\",\"5\",\"0\",\"PrimaryOnly\",,,\"False\",\"T\",\"EveryTick\")","v":""},{"$error":"#N/A"},{"$f":"RTD(\"cqg.rtd\",,\"StudyData\", \"Close(\"&$D$12&\") when LocalYear(\"&$D$12&\")=\"&$D$2&\" and localMonth(\"&$D$12&\") =\"&$E$2&\" and LocalDay(\"&$D$12&\")=\"&$F$2&\" and Barix(\"&$D$12&\",reference:=StartOfSession)=\"&A53&\"\", \"Bar\", \"\", \"Close\",\"5\",\"0\",\"PrimaryOnly\",,,\"False\",\"T\",\"EveryTick\")","v":119.6875},2.0931449502878076E-3,{"$f":"RTD(\"cqg.rtd\",,\"StudyData\", \"Close(\"&$D$12&\") when LocalYear(\"&$D$12&\")=\"&$D$3&\" and localMonth(\"&$D$12&\") =\"&$E$3&\" and LocalDay(\"&$D$12&\")=\"&$F$3&\" and Barix(\"&$D$12&\",reference:=StartOfSession)=\"&A53&\"\", \"Bar\", \"\", \"Close\",\"5\",\"0\",\"PrimaryOnly\",,,\"False\",\"T\",\"EveryTick\")","v":119.5},2.6219192448872575E-3,{"$f":"RTD(\"cqg.rtd\",,\"StudyData\", \"Close(\"&$D$12&\") when LocalYear(\"&$D$12&\")=\"&$D$4&\" and localMonth(\"&$D$12&\") =\"&$E$4&\" and LocalDay(\"&$D$12&\")=\"&$F$4&\" and Barix(\"&$D$12&\",reference:=StartOfSession)=\"&A53&\"\", \"Bar\", \"\", \"Close\",\"5\",\"0\",\"PrimaryOnly\",,,\"False\",\"T\",\"EveryTick\")","v":119.40625},0,{"$f":"RTD(\"cqg.rtd\",,\"StudyData\", \"Close(\"&$D$12&\") when LocalYear(\"&$D$12&\")=\"&$D$5&\" and localMonth(\"&$D$12&\") =\"&$E$5&\" and LocalDay(\"&$D$12&\")=\"&$F$5&\" and Barix(\"&$D$12&\",reference:=StartOfSession)=\"&A53&\"\", \"Bar\", \"\", \"Close\",\"5\",\"0\",\"PrimaryOnly\",,,\"False\",\"T\",\"EveryTick\")","v":119.375},-5.2328623757195189E-4,{"$f":"RTD(\"cqg.rtd\",,\"StudyData\", \"Close(\"&$D$12&\") when LocalYear(\"&$D$12&\")=\"&$D$6&\" and localMonth(\"&$D$12&\") =\"&$E$6&\" and LocalDay(\"&$D$12&\")=\"&$F$6&\" and Barix(\"&$D$12&\",reference:=StartOfSession)=\"&A53&\"\", \"Bar\", \"\", \"Close\",\"5\",\"0\",\"PrimaryOnly\",,,\"False\",\"T\",\"EveryTick\")","v":119.390625},-1.6984583224457801E-3,{"$f":"RTD(\"cqg.rtd\",,\"StudyData\", \"Close(\"&$D$12&\") when LocalYear(\"&$D$12&\")=\"&$D$7&\" and localMonth(\"&$D$12&\") =\"&$E$7&\" and LocalDay(\"&$D$12&\")=\"&$F$7&\" and Barix(\"&$D$12&\",reference:=StartOfSession)=\"&A53&\"\", \"Bar\", \"\", \"Close\",\"5\",\"0\",\"PrimaryOnly\",,,\"False\",\"T\",\"EveryTick\")","v":119.671875},6.5325320094068457E-4,{"$f":"RTD(\"cqg.rtd\",,\"StudyData\", \"Close(\"&$D$12&\") when LocalYear(\"&$D$12&\")=\"&$D$8&\" and localMonth(\"&$D$12&\") =\"&$E$8&\" and LocalDay(\"&$D$12&\")=\"&$F$8&\" and Barix(\"&$D$12&\",reference:=StartOfSession)=\"&A53&\"\", \"Bar\", \"\", \"Close\",\"5\",\"0\",\"PrimaryOnly\",,,\"False\",\"T\",\"EveryTick\")","v":119.515625},1.9648938957296308E-3,{"$f":"RTD(\"cqg.rtd\",,\"StudyData\", \"Close(\"&$D$12&\") when LocalYear(\"&$D$12&\")=\"&$D$9&\" and localMonth(\"&$D$12&\") =\"&$E$9&\" and LocalDay(\"&$D$12&\")=\"&$F$9&\" and Barix(\"&$D$12&\",reference:=StartOfSession)=\"&A53&\"\", \"Bar\", \"\", \"Close\",\"5\",\"0\",\"PrimaryOnly\",,,\"False\",\"T\",\"EveryTick\")","v":119.3125},-3.2632815559326457E-3,{"$f":"RTD(\"cqg.rtd\",,\"StudyData\", \"Close(\"&$D$12&\") when LocalYear(\"&$D$12&\")=\"&$D$10&\" and localMonth(\"&$D$12&\") =\"&$E$10&\" and LocalDay(\"&$D$12&\")=\"&$F$10&\" and Barix(\"&$D$12&\",reference:=StartOfSession)=\"&A53&\"\", \"Bar\", \"\", \"Close\",\"5\",\"0\",\"PrimaryOnly\",,,\"False\",\"T\",\"EveryTick\")","v":119.75},2.0920502092050207E-3,null,null,null,""]
[233,"12:25:00",-24,{"$f":" RTD(\"cqg.rtd\",,\"StudyData\", $D$12,  \"Tick\", \"FlatTicks=0\", \"Tick\",\"D\",C54,\"PrimaryOnly\")","v":119.703125},null,null,null,{"$f":"RTD(\"cqg.rtd\",,\"StudyData\", \"Close(\"&$D$12&\") when LocalYear(\"&$D$12&\")=\"&$D$1&\" and localMonth(\"&$D$12&\") =\"&$E$1&\" and LocalDay(\"&$D$12&\")=\"&$F$1&\" and Barix(\"&$D$12&\",reference:=StartOfSession)=\"&A54&\"\", \"Bar\", \"\", \"Close\",\"5\",\"0\",\"PrimaryOnly\",,,\"False\",\"T\",\"EveryTick\")","v":""},{"$error":"#N/A"},{"$f":"RTD(\"cqg.rtd\",,\"StudyData\", \"Close(\"&$D$12&\") when LocalYear(\"&$D$12&\")=\"&$D$2&\" and localMonth(\"&$D$12&\") =\"&$E$2&\" and LocalDay(\"&$D$12&\")=\"&$F$2&\" and Barix(\"&$D$12&\",reference:=StartOfSession)=\"&A54&\"\", \"Bar\", \"\", \"Close\",\"5\",\"0\",\"PrimaryOnly\",,,\"False\",\"T\",\"EveryTick\")","v":119.671875},1.9623233908948193E-3,{"$f":"RTD(\"cqg.rtd\",,\"StudyData\", \"Close(\"&$D$12&\") when LocalYear(\"&$D$12&\")=\"&$D$3&\" and localMonth(\"&$D$12&\") =\"&$E$3&\" and LocalDay(\"&$D$12&\")=\"&$F$3&\" and Barix(\"&$D$12&\",reference:=StartOfSession)=\"&A54&\"\", \"Bar\", \"\", \"Close\",\"5\",\"0\",\"PrimaryOnly\",,,\"False\",\"T\",\"EveryTick\")","v":119.5},2.6219192448872575E-3,{"$f":"RTD(\"cqg.rtd\",,\"StudyData\", \"Close(\"&$D$12&\") when LocalYear(\"&$D$12&\")=\"&$D$4&\" and localMonth(\"&$D$12&\") =\"&$E$4&\" and LocalDay(\"&$D$12&\")=\"&$F$4&\" and Barix(\"&$D$12&\",reference:=StartOfSession)=\"&A54&\"\", \"Bar\", \"\", \"Close\",\"5\",\"0\",\"PrimaryOnly\",,,\"False\",\"T\",\"EveryTick\")","v":119.390625},-1.3085579691180318E-4,{"$f":"RTD(\"cqg.rtd\",,\"StudyData\", \"Close(\"&$D$12&\") when LocalYear(\"&$D$12&\")=\"&$D$5&\" and localMonth(\"&$D$12&\") =\"&$E$5&\" and LocalDay(\"&$D$12&\")=\"&$F$5&\" and Barix(\"&$D$12&\",reference:=StartOfSession)=\"&A54&\"\", \"Bar\", \"\", \"Close\",\"5\",\"0\",\"PrimaryOnly\",,,\"False\",\"T\",\"EveryTick\")","v":119.40625},-2.6164311878597594E-4,{"$f":"RTD(\"cqg.rtd\",,\"StudyData\", \"Close(\"&$D$12&\") when LocalYear(\"&$D$12&\")=\"&$D$6&\" and localMonth(\"&$D$12&\") =\"&$E$6&\" and LocalDay(\"&$D$12&\")=\"&$F$6&\" and Barix(\"&$D$12&\",reference:=StartOfSession)=\"&A54&\"\", \"Bar\", \"\", \"Close\",\"5\",\"0\",\"PrimaryOnly\",,,\"False\",\"T\",\"EveryTick\")","v":119.359375},-1.9597596028220537E-3,{"$f":"RTD(\"cqg.rtd\",,\"StudyData\", \"Close(\"&$D$12&\") when LocalYear(\"&$D$12&\")=\"&$D$7&\" and localMonth(\"&$D$12&\") =\"&$E$7&\" and LocalDay(\"&$D$12&\")=\"&$F$7&\" and Barix(\"&$D$12&\",reference:=StartOfSession)=\"&A54&\"\", \"Bar\", \"\", \"Close\",\"5\",\"0\",\"PrimaryOnly\",,,\"False\",\"T\",\"EveryTick\")","v":119.65625},5.2260256075254764E-4,{"$f":"RTD(\"cqg.rtd\",,\"StudyData\", \"Close(\"&$D$12&\") when LocalYear(\"&$D$12&\")=\"&$D$8&\" and localMonth(\"&$D$12&\") =\"&$E$8&\" and LocalDay(\"&$D$12&\")=\"&$F$8&\" and Barix(\"&$D$12&\",reference:=StartOfSession)=\"&A54&\"\", \"Bar\", \"\", \"Close\",\"5\",\"0\",\"PrimaryOnly\",,,\"False\",\"T\",\"EveryTick\")","v":119.546875},2.2268797484935815E-3,{"$f":"RTD(\"cqg.rtd\",,\"StudyData\", \"Close(\"&$D$12&\") when LocalYear(\"&$D$12&\")=\"&$D$9&\" and localMonth(\"&$D$12&\") =\"&$E$9&\" and LocalDay(\"&$D$12&\")=\"&$F$9&\" and Barix(\"&$D$12&\",reference:=StartOfSession)=\"&A54&\"\", \"Bar\", \"\", \"Close\",\"5\",\"0\",\"PrimaryOnly\",,,\"False\",\"T\",\"EveryTick\")","v":119.28125},-3.5243440804072577E-3,{"$f":"RTD(\"cqg.rtd\",,\"StudyData\", \"Close(\"&$D$12&\") when LocalYear(\"&$D$12&\")=\"&$D$10&\" and localMonth(\"&$D$12&\") =\"&$E$10&\" and LocalDay(\"&$D$12&\")=\"&$F$10&\" and Barix(\"&$D$12&\",reference:=StartOfSession)=\"&A54&\"\", \"Bar\", \"\", \"Close\",\"5\",\"0\",\"PrimaryOnly\",,,\"False\",\"T\",\"EveryTick\")","v":119.734375},1.961297071129707E-3,null,null,null,""]
[234,"12:30:00",-23,{"$f":" RTD(\"cqg.rtd\",,\"StudyData\", $D$12,  \"Tick\", \"FlatTicks=0\", \"Tick\",\"D\",C55,\"PrimaryOnly\")","v":119.6875},null,null,null,{"$f":"RTD(\"cqg.rtd\",,\"StudyData\", \"Close(\"&$D$12&\") when LocalYear(\"&$D$12&\")=\"&$D$1&\" and localMonth(\"&$D$12&\") =\"&$E$1&\" and LocalDay(\"&$D$12&\")=\"&$F$1&\" and Barix(\"&$D$12&\",reference:=StartOfSession)=\"&A55&\"\", \"Bar\", \"\", \"Close\",\"5\",\"0\",\"PrimaryOnly\",,,\"False\",\"T\",\"EveryTick\")","v":""},{"$error":"#N/A"},{"$f":"RTD(\"cqg.rtd\",,\"StudyData\", \"Close(\"&$D$12&\") when LocalYear(\"&$D$12&\")=\"&$D$2&\" and localMonth(\"&$D$12&\") =\"&$E$2&\" and LocalDay(\"&$D$12&\")=\"&$F$2&\" and Barix(\"&$D$12&\",reference:=StartOfSession)=\"&A55&\"\", \"Bar\", \"\", \"Close\",\"5\",\"0\",\"PrimaryOnly\",,,\"False\",\"T\",\"EveryTick\")","v":119.671875},1.9623233908948193E-3,{"$f":"RTD(\"cqg.rtd\",,\"StudyData\", \"Close(\"&$D$12&\") when LocalYear(\"&$D$12&\")=\"&$D$3&\" and localMonth(\"&$D$12&\") =\"&$E$3&\" and LocalDay(\"&$D$12&\")=\"&$F$3&\" and Barix(\"&$D$12&\",reference:=StartOfSession)=\"&A55&\"\", \"Bar\", \"\", \"Close\",\"5\",\"0\",\"PrimaryOnly\",,,\"False\",\"T\",\"EveryTick\")","v":119.484375},2.4908232826428944E-3,{"$f":"RTD(\"cqg.rtd\",,\"StudyData\", \"Close(\"&$D$12&\") when LocalYear(\"&$D$12&\")=\"&$D$4&\" and localMonth(\"&$D$12&\") =\"&$E$4&\" and LocalDay(\"&$D$12&\")=\"&$F$4&\" and Barix(\"&$D$12&\",reference:=StartOfSession)=\"&A55&\"\", \"Bar\", \"\", \"Close\",\"5\",\"0\",\"PrimaryOnly\",,,\"False\",\"T\",\"EveryTick\")","v":119.390625},-1.3085579691180318E-4,{"$f":"RTD(\"cqg.rtd\",,\"StudyData\", \"Close(\"&$D$12&\") when LocalYear(\"&$D$12&\")=\"&$D$5&\" and localMonth(\"&$D$12&\") =\"&$E$5&\" and LocalDay(\"&$D$12&\")=\"&$F$5&\" and Barix(\"&$D$12&\",reference:=StartOfSession)=\"&A55&\"\", \"Bar\", \"\", \"Close\",\"5\",\"0\",\"PrimaryOnly\",,,\"False\",\"T\",\"EveryTick\")","v":119.40625},-2.6164311878597594E-4,{"$f":"RTD(\"cqg.rtd\",,\"StudyData\", \"Close(\"&$D$12&\") when LocalYear(\"&$D$12&\")=\"&$D$6&\" and localMonth(\"&$D$12&\") =\"&$E$6&\" and LocalDay(\"&$D$12&\")=\"&$F$6&\" and Barix(\"&$D$12&\",reference:=StartOfSession)=\"&A55&\"\", \"Bar\", \"\", \"Close\",\"5\",\"0\",\"PrimaryOnly\",,,\"False\",\"T\",\"EveryTick\")","v":119.34375},-2.0904102430101905E-3,{"$f":"RTD(\"cqg.rtd\",,\"StudyData\", \"Close(\"&$D$12&\") when LocalYear(\"&$D$12&\")=\"&$D$7&\" and localMonth(\"&$D$12&\") =\"&$E$7&\" and LocalDay(\"&$D$12&\")=\"&$F$7&\" and Barix(\"&$D$12&\",reference:=StartOfSession)=\"&A55&\"\", \"Bar\", \"\", \"Close\",\"5\",\"0\",\"PrimaryOnly\",,,\"False\",\"T\",\"EveryTick\")","v":119.6875},7.8390384112882151E-4,{"$f":"RTD(\"cqg.rtd\",,\"StudyData\", \"Close(\"&$D$12&\") when LocalYear(\"&$D$12&\")=\"&$D$8&\" and localMonth(\"&$D$12&\") =\"&$E$8&\" and LocalDay(\"&$D$12&\")=\"&$F$8&\" and Barix(\"&$D$12&\",reference:=StartOfSession)=\"&A55&\"\", \"Bar\", \"\", \"Close\",\"5\",\"0\",\"PrimaryOnly\",,,\"False\",\"T\",\"EveryTick\")","v":119.96875},5.763688760806916E-3,{"$f":"RTD(\"cqg.rtd\",,\"StudyData\", \"Close(\"&$D$12&\") when LocalYear(\"&$D$12&\")=\"&$D$9&\" and localMonth(\"&$D$12&\") =\"&$E$9&\" and LocalDay(\"&$D$12&\")=\"&$F$9&\" and Barix(\"&$D$12&\",reference:=StartOfSession)=\"&A55&\"\", \"Bar\", \"\", \"Close\",\"5\",\"0\",\"PrimaryOnly\",,,\"False\",\"T\",\"EveryTick\")","v":119.28125},-3.5243440804072577E-3,{"$f":"RTD(\"cqg.rtd\",,\"StudyData\", \"Close(\"&$D$12&\") when LocalYear(\"&$D$12&\")=\"&$D$10&\" and localMonth(\"&$D$12&\") =\"&$E$10&\" and LocalDay(\"&$D$12&\")=\"&$F$10&\" and Barix(\"&$D$12&\",reference:=StartOfSession)=\"&A55&\"\", \"Bar\", \"\", \"Close\",\"5\",\"0\",\"PrimaryOnly\",,,\"False\",\"T\",\"EveryTick\")","v":119.734375},1.961297071129707E-3,null,null,null,""]
[235,"12:35:00",-22,{"$f":" RTD(\"cqg.rtd\",,\"StudyData\", $D$12,  \"Tick\", \"FlatTicks=0\", \"Tick\",\"D\",C56,\"PrimaryOnly\")","v":119.703125},null,null,null,{"$f":"RTD(\"cqg.rtd\",,\"StudyData\", \"Close(\"&$D$12&\") when LocalYear(\"&$D$12&\")=\"&$D$1&\" and localMonth(\"&$D$12&\") =\"&$E$1&\" and LocalDay(\"&$D$12&\")=\"&$F$1&\" and Barix(\"&$D$12&\",reference:=StartOfSession)=\"&A56&\"\", \"Bar\", \"\", \"Close\",\"5\",\"0\",\"PrimaryOnly\",,,\"False\",\"T\",\"EveryTick\")","v":""},{"$error":"#N/A"},{"$f":"RTD(\"cqg.rtd\",,\"StudyData\", \"Close(\"&$D$12&\") when LocalYear(\"&$D$12&\")=\"&$D$2&\" and localMonth(\"&$D$12&\") =\"&$E$2&\" and LocalDay(\"&$D$12&\")=\"&$F$2&\" and Barix(\"&$D$12&\",reference:=StartOfSession)=\"&A56&\"\", \"Bar\", \"\", \"Close\",\"5\",\"0\",\"PrimaryOnly\",,,\"False\",\"T\",\"EveryTick\")","v":119.703125},2.2239665096807954E-3,{"$f":"RTD(\"cqg.rtd\",,\"StudyData\", \"Close(\"&$D$12&\") when LocalYear(\"&$D$12&\")=\"&$D$3&\" and localMonth(\"&$D$12&\") =\"&$E$3&\" and LocalDay(\"&$D$12&\")=\"&$F$3&\" and Barix(\"&$D$12&\",reference:=StartOfSession)=\"&A56&\"\", \"Bar\", \"\", \"Close\",\"5\",\"0\",\"PrimaryOnly\",,,\"False\",\"T\",\"EveryTick\")","v":119.484375},2.4908232826428944E-3,{"$f":"RTD(\"cqg.rtd\",,\"StudyData\", \"Close(\"&$D$12&\") when LocalYear(\"&$D$12&\")=\"&$D$4&\" and localMonth(\"&$D$12&\") =\"&$E$4&\" and LocalDay(\"&$D$12&\")=\"&$F$4&\" and Barix(\"&$D$12&\",reference:=StartOfSession)=\"&A56&\"\", \"Bar\", \"\", \"Close\",\"5\",\"0\",\"PrimaryOnly\",,,\"False\",\"T\",\"EveryTick\")","v":119.40625},0,{"$f":"RTD(\"cqg.rtd\",,\"StudyData\", \"Close(\"&$D$12&\") when LocalYear(\"&$D$12&\")=\"&$D$5&\" and localMonth(\"&$D$12&\") =\"&$E$5&\" and LocalDay(\"&$D$12&\")=\"&$F$5&\" and Barix(\"&$D$12&\",reference:=StartOfSession)=\"&A56&\"\", \"Bar\", \"\", \"Close\",\"5\",\"0\",\"PrimaryOnly\",,,\"False\",\"T\",\"EveryTick\")","v":119.40625},-2.6164311878597594E-4,{"$f":"RTD(\"cqg.rtd\",,\"StudyData\", \"Close(\"&$D$12&\") when LocalYear(\"&$D$12&\")=\"&$D$6&\" and localMonth(\"&$D$12&\") =\"&$E$6&\" and LocalDay(\"&$D$12&\")=\"&$F$6&\" and Barix(\"&$D$12&\",reference:=StartOfSession)=\"&A56&\"\", \"Bar\", \"\", \"Close\",\"5\",\"0\",\"PrimaryOnly\",,,\"False\",\"T\",\"EveryTick\")","v":119.375},-1.8291089626339169E-3,{"$f":"RTD(\"cqg.rtd\",,\"StudyData\", \"Close(\"&$D$12&\") when LocalYear(\"&$D$12&\")=\"&$D$7&\" and localMonth(\"&$D$12&\") =\"&$E$7&\" and LocalDay(\"&$D$12&\")=\"&$F$7&\" and Barix(\"&$D$12&\",reference:=StartOfSession)=\"&A56&\"\", \"Bar\", \"\", \"Close\",\"5\",\"0\",\"PrimaryOnly\",,,\"False\",\"T\",\"EveryTick\")","v":119.6875},7.8390384112882151E-4,{"$f":"RTD(\"cqg.rtd\",,\"StudyData\", \"Close(\"&$D$12&\") when LocalYear(\"&$D$12&\")=\"&$D$8&\" and localMonth(\"&$D$12&\") =\"&$E$8&\" and LocalDay(\"&$D$12&\")=\"&$F$8&\" and Barix(\"&$D$12&\",reference:=StartOfSession)=\"&A56&\"\", \"Bar\", \"\", \"Close\",\"5\",\"0\",\"PrimaryOnly\",,,\"False\",\"T\",\"EveryTick\")","v":119.703125},3.5368090123133349E-3,{"$f":"RTD(\"cqg.rtd\",,\"StudyData\", \"Close(\"&$D$12&\") when LocalYear(\"&$D$12&\")=\"&$D$9&\" and localMonth(\"&$D$12&\") =\"&$E$9&\" and LocalDay(\"&$D$12&\")=\"&$F$9&\" and Barix(\"&$D$12&\",reference:=StartOfSession)=\"&A56&\"\", \"Bar\", \"\", \"Close\",\"5\",\"0\",\"PrimaryOnly\",,,\"False\",\"T\",\"EveryTick\")","v":119.28125},-3.5243440804072577E-3,{"$f":"RTD(\"cqg.rtd\",,\"StudyData\", \"Close(\"&$D$12&\") when LocalYear(\"&$D$12&\")=\"&$D$10&\" and localMonth(\"&$D$12&\") =\"&$E$10&\" and LocalDay(\"&$D$12&\")=\"&$F$10&\" and Barix(\"&$D$12&\",reference:=StartOfSession)=\"&A56&\"\", \"Bar\", \"\", \"Close\",\"5\",\"0\",\"PrimaryOnly\",,,\"False\",\"T\",\"EveryTick\")","v":119.734375},1.961297071129707E-3,null,null,null,""]
[236,"12:40:00",-21,{"$f":" RTD(\"cqg.rtd\",,\"StudyData\", $D$12,  \"Tick\", \"FlatTicks=0\", \"Tick\",\"D\",C57,\"PrimaryOnly\")","v":119.6875},null,null,null,{"$f":"RTD(\"cqg.rtd\",,\"StudyData\", \"Close(\"&$D$12&\") when LocalYear(\"&$D$12&\")=\"&$D$1&\" and localMonth(\"&$D$12&\") =\"&$E$1&\" and LocalDay(\"&$D$12&\")=\"&$F$1&\" and Barix(\"&$D$12&\",reference:=StartOfSession)=\"&A57&\"\", \"Bar\", \"\", \"Close\",\"5\",\"0\",\"PrimaryOnly\",,,\"False\",\"T\",\"EveryTick\")","v":""},{"$error":"#N/A"},{"$f":"RTD(\"cqg.rtd\",,\"StudyData\", \"Close(\"&$D$12&\") when LocalYear(\"&$D$12&\")=\"&$D$2&\" and localMonth(\"&$D$12&\") =\"&$E$2&\" and LocalDay(\"&$D$12&\")=\"&$F$2&\" and Barix(\"&$D$12&\",reference:=StartOfSession)=\"&A57&\"\", \"Bar\", \"\", \"Close\",\"5\",\"0\",\"PrimaryOnly\",,,\"False\",\"T\",\"EveryTick\")","v":119.703125},2.2239665096807954E-3,{"$f":"RTD(\"cqg.rtd\",,\"StudyData\", \"Close(\"&$D$12&\") when LocalYear(\"&$D$12&\")=\"&$D$3&\" and localMonth(\"&$D$12&\") =\"&$E$3&\" and LocalDay(\"&$D$12&\")=\"&$F$3&\" and Barix(\"&$D$12&\",reference:=StartOfSession)=\"&A57&\"\", \"Bar\", \"\", \"Close\",\"5\",\"0\",\"PrimaryOnly\",,,\"False\",\"T\",\"EveryTick\")","v":119.46875},2.3597273203985318E-3,{"$f":"RTD(\"cqg.rtd\",,\"StudyData\", \"Close(\"&$D$12&\") when LocalYear(\"&$D$12&\")=\"&$D$4&\" and localMonth(\"&$D$12&\") =\"&$E$4&\" and LocalDay(\"&$D$12&\")=\"&$F$4&\" and Barix(\"&$D$12&\",reference:=StartOfSession)=\"&A57&\"\", \"Bar\", \"\", \"Close\",\"5\",\"0\",\"PrimaryOnly\",,,\"False\",\"T\",\"EveryTick\")","v":119.421875},1.3085579691180318E-4,{"$f":"RTD(\"cqg.rtd\",,\"StudyData\", \"Close(\"&$D$12&\") when LocalYear(\"&$D$12&\")=\"&$D$5&\" and localMonth(\"&$D$12&\") =\"&$E$5&\" and LocalDay(\"&$D$12&\")=\"&$F$5&\" and Barix(\"&$D$12&\",reference:=StartOfSession)=\"&A57&\"\", \"Bar\", \"\", \"Close\",\"5\",\"0\",\"PrimaryOnly\",,,\"False\",\"T\",\"EveryTick\")","v":119.390625},-3.9246467817896392E-4,{"$f":"RTD(\"cqg.rtd\",,\"StudyData\", \"Close(\"&$D$12&\") when LocalYear(\"&$D$12&\")=\"&$D$6&\" and localMonth(\"&$D$12&\") =\"&$E$6&\" and LocalDay(\"&$D$12&\")=\"&$F$6&\" and Barix(\"&$D$12&\",reference:=StartOfSession)=\"&A57&\"\", \"Bar\", \"\", \"Close\",\"5\",\"0\",\"PrimaryOnly\",,,\"False\",\"T\",\"EveryTick\")","v":119.390625},-1.6984583224457801E-3,{"$f":"RTD(\"cqg.rtd\",,\"StudyData\", \"Close(\"&$D$12&\") when LocalYear(\"&$D$12&\")=\"&$D$7&\" and localMonth(\"&$D$12&\") =\"&$E$7&\" and LocalDay(\"&$D$12&\")=\"&$F$7&\" and Barix(\"&$D$12&\",reference:=StartOfSession)=\"&A57&\"\", \"Bar\", \"\", \"Close\",\"5\",\"0\",\"PrimaryOnly\",,,\"False\",\"T\",\"EveryTick\")","v":119.703125},9.1455448131695844E-4,{"$f":"RTD(\"cqg.rtd\",,\"StudyData\", \"Close(\"&$D$12&\") when LocalYear(\"&$D$12&\")=\"&$D$8&\" and localMonth(\"&$D$12&\") =\"&$E$8&\" and LocalDay(\"&$D$12&\")=\"&$F$8&\" and Barix(\"&$D$12&\",reference:=StartOfSession)=\"&A57&\"\", \"Bar\", \"\", \"Close\",\"5\",\"0\",\"PrimaryOnly\",,,\"False\",\"T\",\"EveryTick\")","v":119.671875},3.2748231595493842E-3,{"$f":"RTD(\"cqg.rtd\",,\"StudyData\", \"Close(\"&$D$12&\") when LocalYear(\"&$D$12&\")=\"&$D$9&\" and localMonth(\"&$D$12&\") =\"&$E$9&\" and LocalDay(\"&$D$12&\")=\"&$F$9&\" and Barix(\"&$D$12&\",reference:=StartOfSession)=\"&A57&\"\", \"Bar\", \"\", \"Close\",\"5\",\"0\",\"PrimaryOnly\",,,\"False\",\"T\",\"EveryTick\")","v":119.265625},-3.6548753426445635E-3,{"$f":"RTD(\"cqg.rtd\",,\"StudyData\", \"Close(\"&$D$12&\") when LocalYear(\"&$D$12&\")=\"&$D$10&\" and localMonth(\"&$D$12&\") =\"&$E$10&\" and LocalDay(\"&$D$12&\")=\"&$F$10&\" and Barix(\"&$D$12&\",reference:=StartOfSession)=\"&A57&\"\", \"Bar\", \"\", \"Close\",\"5\",\"0\",\"PrimaryOnly\",,,\"False\",\"T\",\"EveryTick\")","v":119.734375},1.961297071129707E-3,null,null,null,""]
[237,"12:45:00",-20,{"$f":" RTD(\"cqg.rtd\",,\"StudyData\", $D$12,  \"Tick\", \"FlatTicks=0\", \"Tick\",\"D\",C58,\"PrimaryOnly\")","v":119.703125},null,null,null,{"$f":"RTD(\"cqg.rtd\",,\"StudyData\", \"Close(\"&$D$12&\") when LocalYear(\"&$D$12&\")=\"&$D$1&\" and localMonth(\"&$D$12&\") =\"&$E$1&\" and LocalDay(\"&$D$12&\")=\"&$F$1&\" and Barix(\"&$D$12&\",reference:=StartOfSession)=\"&A58&\"\", \"Bar\", \"\", \"Close\",\"5\",\"0\",\"PrimaryOnly\",,,\"False\",\"T\",\"EveryTick\")","v":""},{"$error":"#N/A"},{"$f":"RTD(\"cqg.rtd\",,\"StudyData\", \"Close(\"&$D$12&\") when LocalYear(\"&$D$12&\")=\"&$D$2&\" and localMonth(\"&$D$12&\") =\"&$E$2&\" and LocalDay(\"&$D$12&\")=\"&$F$2&\" and Barix(\"&$D$12&\",reference:=StartOfSession)=\"&A58&\"\", \"Bar\", \"\", \"Close\",\"5\",\"0\",\"PrimaryOnly\",,,\"False\",\"T\",\"EveryTick\")","v":119.6875},2.0931449502878076E-3,{"$f":"RTD(\"cqg.rtd\",,\"StudyData\", \"Close(\"&$D$12&\") when LocalYear(\"&$D$12&\")=\"&$D$3&\" and localMonth(\"&$D$12&\") =\"&$E$3&\" and LocalDay(\"&$D$12&\")=\"&$F$3&\" and Barix(\"&$D$12&\",reference:=StartOfSession)=\"&A58&\"\", \"Bar\", \"\", \"Close\",\"5\",\"0\",\"PrimaryOnly\",,,\"False\",\"T\",\"EveryTick\")","v":119.484375},2.4908232826428944E-3,{"$f":"RTD(\"cqg.rtd\",,\"StudyData\", \"Close(\"&$D$12&\") when LocalYear(\"&$D$12&\")=\"&$D$4&\" and localMonth(\"&$D$12&\") =\"&$E$4&\" and LocalDay(\"&$D$12&\")=\"&$F$4&\" and Barix(\"&$D$12&\",reference:=StartOfSession)=\"&A58&\"\", \"Bar\", \"\", \"Close\",\"5\",\"0\",\"PrimaryOnly\",,,\"False\",\"T\",\"EveryTick\")","v":119.421875},1.3085579691180318E-4,{"$f":"RTD(\"cqg.rtd\",,\"StudyData\", \"Close(\"&$D$12&\") when LocalYear(\"&$D$12&\")=\"&$D$5&\" and localMonth(\"&$D$12&\") =\"&$E$5&\" and LocalDay(\"&$D$12&\")=\"&$F$5&\" and Barix(\"&$D$12&\",reference:=StartOfSession)=\"&A58&\"\", \"Bar\", \"\", \"Close\",\"5\",\"0\",\"PrimaryOnly\",,,\"False\",\"T\",\"EveryTick\")","v":119.421875},-1.3082155939298797E-4,{"$f":"RTD(\"cqg.rtd\",,\"StudyData\", \"Close(\"&$D$12&\") when LocalYear(\"&$D$12&\")=\"&$D$6&\" and localMonth(\"&$D$12&\") =\"&$E$6&\" and LocalDay(\"&$D$12&\")=\"&$F$6&\" and Barix(\"&$D$12&\",reference:=StartOfSession)=\"&A58&\"\", \"Bar\", \"\", \"Close\",\"5\",\"0\",\"PrimaryOnly\",,,\"False\",\"T\",\"EveryTick\")","v":119.390625},-1.6984583224457801E-3,{"$f":"RTD(\"cqg.rtd\",,\"StudyData\", \"Close(\"&$D$12&\") when LocalYear(\"&$D$12&\")=\"&$D$7&\" and localMonth(\"&$D$12&\") =\"&$E$7&\" and LocalDay(\"&$D$12&\")=\"&$F$7&\" and Barix(\"&$D$12&\",reference:=StartOfSession)=\"&A58&\"\", \"Bar\", \"\", \"Close\",\"5\",\"0\",\"PrimaryOnly\",,,\"False\",\"T\",\"EveryTick\")","v":119.6875},7.8390384112882151E-4,{"$f":"RTD(\"cqg.rtd\",,\"StudyData\", \"Close(\"&$D$12&\") when LocalYear(\"&$D$12&\")=\"&$D$8&\" and localMonth(\"&$D$12&\") =\"&$E$8&\" and LocalDay(\"&$D$12&\")=\"&$F$8&\" and Barix(\"&$D$12&\",reference:=StartOfSession)=\"&A58&\"\", \"Bar\", \"\", \"Close\",\"5\",\"0\",\"PrimaryOnly\",,,\"False\",\"T\",\"EveryTick\")","v":119.65625},3.1438302331674088E-3,{"$f":"RTD(\"cqg.rtd\",,\"StudyData\", \"Close(\"&$D$12&\") when LocalYear(\"&$D$12&\")=\"&$D$9&\" and localMonth(\"&$D$12&\") =\"&$E$9&\" and LocalDay(\"&$D$12&\")=\"&$F$9&\" and Barix(\"&$D$12&\",reference:=StartOfSession)=\"&A58&\"\", \"Bar\", \"\", \"Close\",\"5\",\"0\",\"PrimaryOnly\",,,\"False\",\"T\",\"EveryTick\")","v":119.28125},-3.5243440804072577E-3,{"$f":"RTD(\"cqg.rtd\",,\"StudyData\", \"Close(\"&$D$12&\") when LocalYear(\"&$D$12&\")=\"&$D$10&\" and localMonth(\"&$D$12&\") =\"&$E$10&\" and LocalDay(\"&$D$12&\")=\"&$F$10&\" and Barix(\"&$D$12&\",reference:=StartOfSession)=\"&A58&\"\", \"Bar\", \"\", \"Close\",\"5\",\"0\",\"PrimaryOnly\",,,\"False\",\"T\",\"EveryTick\")","v":119.75},2.0920502092050207E-3,null,null,null,""]
[238,"12:50:00",-19,{"$f":" RTD(\"cqg.rtd\",,\"StudyData\", $D$12,  \"Tick\", \"FlatTicks=0\", \"Tick\",\"D\",C59,\"PrimaryOnly\")","v":119.6875},null,null,null,{"$f":"RTD(\"cqg.rtd\",,\"StudyData\", \"Close(\"&$D$12&\") when LocalYear(\"&$D$12&\")=\"&$D$1&\" and localMonth(\"&$D$12&\") =\"&$E$1&\" and LocalDay(\"&$D$12&\")=\"&$F$1&\" and Barix(\"&$D$12&\",reference:=StartOfSession)=\"&A59&\"\", \"Bar\", \"\", \"Close\",\"5\",\"0\",\"PrimaryOnly\",,,\"False\",\"T\",\"EveryTick\")","v":""},{"$error":"#N/A"},{"$f":"RTD(\"cqg.rtd\",,\"StudyData\", \"Close(\"&$D$12&\") when LocalYear(\"&$D$12&\")=\"&$D$2&\" and localMonth(\"&$D$12&\") =\"&$E$2&\" and LocalDay(\"&$D$12&\")=\"&$F$2&\" and Barix(\"&$D$12&\",reference:=StartOfSession)=\"&A59&\"\", \"Bar\", \"\", \"Close\",\"5\",\"0\",\"PrimaryOnly\",,,\"False\",\"T\",\"EveryTick\")","v":119.6875},2.0931449502878076E-3,{"$f":"RTD(\"cqg.rtd\",,\"StudyData\", \"Close(\"&$D$12&\") when LocalYear(\"&$D$12&\")=\"&$D$3&\" and localMonth(\"&$D$12&\") =\"&$E$3&\" and LocalDay(\"&$D$12&\")=\"&$F$3&\" and Barix(\"&$D$12&\",reference:=StartOfSession)=\"&A59&\"\", \"Bar\", \"\", \"Close\",\"5\",\"0\",\"PrimaryOnly\",,,\"False\",\"T\",\"EveryTick\")","v":119.484375},2.4908232826428944E-3,{"$f":"RTD(\"cqg.rtd\",,\"StudyData\", \"Close(\"&$D$12&\") when LocalYear(\"&$D$12&\")=\"&$D$4&\" and localMonth(\"&$D$12&\") =\"&$E$4&\" and LocalDay(\"&$D$12&\")=\"&$F$4&\" and Barix(\"&$D$12&\",reference:=StartOfSession)=\"&A59&\"\", \"Bar\", \"\", \"Close\",\"5\",\"0\",\"PrimaryOnly\",,,\"False\",\"T\",\"EveryTick\")","v":119.453125},3.925673907354096E-4,{"$f":"RTD(\"cqg.rtd\",,\"StudyData\", \"Close(\"&$D$12&\") when LocalYear(\"&$D$12&\")=\"&$D$5&\" and localMonth(\"&$D$12&\") =\"&$E$5&\" and LocalDay(\"&$D$12&\")=\"&$F$5&\" and Barix(\"&$D$12&\",reference:=StartOfSession)=\"&A59&\"\", \"Bar\", \"\", \"Close\",\"5\",\"0\",\"PrimaryOnly\",,,\"False\",\"T\",\"EveryTick\")","v":119.421875},-1.3082155939298797E-4,{"$f":"RTD(\"cqg.rtd\",,\"StudyData\", \"Close(\"&$D$12&\") when LocalYear(\"&$D$12&\")=\"&$D$6&\" and localMonth(\"&$D$12&\") =\"&$E$6&\" and LocalDay(\"&$D$12&\")=\"&$F$6&\" and Barix(\"&$D$12&\",reference:=StartOfSession)=\"&A59&\"\", \"Bar\", \"\", \"Close\",\"5\",\"0\",\"PrimaryOnly\",,,\"False\",\"T\",\"EveryTick\")","v":119.375},-1.8291089626339169E-3,{"$f":"RTD(\"cqg.rtd\",,\"StudyData\", \"Close(\"&$D$12&\") when LocalYear(\"&$D$12&\")=\"&$D$7&\" and localMonth(\"&$D$12&\") =\"&$E$7&\" and LocalDay(\"&$D$12&\")=\"&$F$7&\" and Barix(\"&$D$12&\",reference:=StartOfSession)=\"&A59&\"\", \"Bar\", \"\", \"Close\",\"5\",\"0\",\"PrimaryOnly\",,,\"False\",\"T\",\"EveryTick\")","v":119.6875},7.8390384112882151E-4,{"$f":"RTD(\"cqg.rtd\",,\"StudyData\", \"Close(\"&$D$12&\") when LocalYear(\"&$D$12&\")=\"&$D$8&\" and localMonth(\"&$D$12&\") =\"&$E$8&\" and LocalDay(\"&$D$12&\")=\"&$F$8&\" and Barix(\"&$D$12&\",reference:=StartOfSession)=\"&A59&\"\", \"Bar\", \"\", \"Close\",\"5\",\"0\",\"PrimaryOnly\",,,\"False\",\"T\",\"EveryTick\")","v":119.71875},3.6678019386953103E-3,{"$f":"RTD(\"cqg.rtd\",,\"StudyData\", \"Close(\"&$D$12&\") when LocalYear(\"&$D$12&\")=\"&$D$9&\" and localMonth(\"&$D$12&\") =\"&$E$9&\" and LocalDay(\"&$D$12&\")=\"&$F$9&\" and Barix(\"&$D$12&\",reference:=StartOfSession)=\"&A59&\"\", \"Bar\", \"\", \"Close\",\"5\",\"0\",\"PrimaryOnly\",,,\"False\",\"T\",\"EveryTick\")","v":119.25},-3.7854066048818693E-3,{"$f":"RTD(\"cqg.rtd\",,\"StudyData\", \"Close(\"&$D$12&\") when LocalYear(\"&$D$12&\")=\"&$D$10&\" and localMonth(\"&$D$12&\") =\"&$E$10&\" and LocalDay(\"&$D$12&\")=\"&$F$10&\" and Barix(\"&$D$12&\",reference:=StartOfSession)=\"&A59&\"\", \"Bar\", \"\", \"Close\",\"5\",\"0\",\"PrimaryOnly\",,,\"False\",\"T\",\"EveryTick\")","v":119.75},2.0920502092050207E-3,null,null,null,""]
[239,"12:55:00",-18,{"$f":" RTD(\"cqg.rtd\",,\"StudyData\", $D$12,  \"Tick\", \"FlatTicks=0\", \"Tick\",\"D\",C60,\"PrimaryOnly\")","v":119.703125},null,null,null,{"$f":"RTD(\"cqg.rtd\",,\"StudyData\", \"Close(\"&$D$12&\") when LocalYear(\"&$D$12&\")=\"&$D$1&\" and localMonth(\"&$D$12&\") =\"&$E$1&\" and LocalDay(\"&$D$12&\")=\"&$F$1&\" and Barix(\"&$D$12&\",reference:=StartOfSession)=\"&A60&\"\", \"Bar\", \"\", \"Close\",\"5\",\"0\",\"PrimaryOnly\",,,\"False\",\"T\",\"EveryTick\")","v":""},{"$error":"#N/A"},{"$f":"RTD(\"cqg.rtd\",,\"StudyData\", \"Close(\"&$D$12&\") when LocalYear(\"&$D$12&\")=\"&$D$2&\" and localMonth(\"&$D$12&\") =\"&$E$2&\" and LocalDay(\"&$D$12&\")=\"&$F$2&\" and Barix(\"&$D$12&\",reference:=StartOfSession)=\"&A60&\"\", \"Bar\", \"\", \"Close\",\"5\",\"0\",\"PrimaryOnly\",,,\"False\",\"T\",\"EveryTick\")","v":119.71875},2.3547880690737832E-3,{"$f":"RTD(\"cqg.rtd\",,\"StudyData\", \"Close(\"&$D$12&\") when LocalYear(\"&$D$12&\")=\"&$D$3&\" and localMonth(\"&$D$12&\") =\"&$E$3&\" and LocalDay(\"&$D$12&\")=\"&$F$3&\" and Barix(\"&$D$12&\",reference:=StartOfSession)=\"&A60&\"\", \"Bar\", \"\", \"Close\",\"5\",\"0\",\"PrimaryOnly\",,,\"False\",\"T\",\"EveryTick\")","v":119.46875},2.3597273203985318E-3,{"$f":"RTD(\"cqg.rtd\",,\"StudyData\", \"Close(\"&$D$12&\") when LocalYear(\"&$D$12&\")=\"&$D$4&\" and localMonth(\"&$D$12&\") =\"&$E$4&\" and LocalDay(\"&$D$12&\")=\"&$F$4&\" and Barix(\"&$D$12&\",reference:=StartOfSession)=\"&A60&\"\", \"Bar\", \"\", \"Close\",\"5\",\"0\",\"PrimaryOnly\",,,\"False\",\"T\",\"EveryTick\")","v":119.421875},1.3085579691180318E-4,{"$f":"RTD(\"cqg.rtd\",,\"StudyData\", \"Close(\"&$D$12&\") when LocalYear(\"&$D$12&\")=\"&$D$5&\" and localMonth(\"&$D$12&\") =\"&$E$5&\" and LocalDay(\"&$D$12&\")=\"&$F$5&\" and Barix(\"&$D$12&\",reference:=StartOfSession)=\"&A60&\"\", \"Bar\", \"\", \"Close\",\"5\",\"0\",\"PrimaryOnly\",,,\"False\",\"T\",\"EveryTick\")","v":119.421875},-1.3082155939298797E-4,{"$f":"RTD(\"cqg.rtd\",,\"StudyData\", \"Close(\"&$D$12&\") when LocalYear(\"&$D$12&\")=\"&$D$6&\" and localMonth(\"&$D$12&\") =\"&$E$6&\" and LocalDay(\"&$D$12&\")=\"&$F$6&\" and Barix(\"&$D$12&\",reference:=StartOfSession)=\"&A60&\"\", \"Bar\", \"\", \"Close\",\"5\",\"0\",\"PrimaryOnly\",,,\"False\",\"T\",\"EveryTick\")","v":119.375},-1.8291089626339169E-3,{"$f":"RTD(\"cqg.rtd\",,\"StudyData\", \"Close(\"&$D$12&\") when LocalYear(\"&$D$12&\")=\"&$D$7&\" and localMonth(\"&$D$12&\") =\"&$E$7&\" and LocalDay(\"&$D$12&\")=\"&$F$7&\" and Barix(\"&$D$12&\",reference:=StartOfSession)=\"&A60&\"\", \"Bar\", \"\", \"Close\",\"5\",\"0\",\"PrimaryOnly\",,,\"False\",\"T\",\"EveryTick\")","v":119.703125},9.1455448131695844E-4,{"$f":"RTD(\"cqg.rtd\",,\"StudyData\", \"Close(\"&$D$12&\") when LocalYear(\"&$D$12&\")=\"&$D$8&\" and localMonth(\"&$D$12&\") =\"&$E$8&\" and LocalDay(\"&$D$12&\")=\"&$F$8&\" and Barix(\"&$D$12&\",reference:=StartOfSession)=\"&A60&\"\", \"Bar\", \"\", \"Close\",\"5\",\"0\",\"PrimaryOnly\",,,\"False\",\"T\",\"EveryTick\")","v":119.734375},3.7987948650772857E-3,{"$f":"RTD(\"cqg.rtd\",,\"StudyData\", \"Close(\"&$D$12&\") when LocalYear(\"&$D$12&\")=\"&$D$9&\" and localMonth(\"&$D$12&\") =\"&$E$9&\" and LocalDay(\"&$D$12&\")=\"&$F$9&\" and Barix(\"&$D$12&\",reference:=StartOfSession)=\"&A60&\"\", \"Bar\", \"\", \"Close\",\"5\",\"0\",\"PrimaryOnly\",,,\"False\",\"T\",\"EveryTick\")","v":119.25},-3.7854066048818693E-3,{"$f":"RTD(\"cqg.rtd\",,\"StudyData\", \"Close(\"&$D$12&\") when LocalYear(\"&$D$12&\")=\"&$D$10&\" and localMonth(\"&$D$12&\") =\"&$E$10&\" and LocalDay(\"&$D$12&\")=\"&$F$10&\" and Barix(\"&$D$12&\",reference:=StartOfSession)=\"&A60&\"\", \"Bar\", \"\", \"Close\",\"5\",\"0\",\"PrimaryOnly\",,,\"False\",\"T\",\"EveryTick\")","v":119.75},2.0920502092050207E-3,null,null,null,""]
[240,"13:00:00",-17,{"$f":" RTD(\"cqg.rtd\",,\"StudyData\", $D$12,  \"Tick\", \"FlatTicks=0\", \"Tick\",\"D\",C61,\"PrimaryOnly\")","v":119.6875},null,null,null,{"$f":"RTD(\"cqg.rtd\",,\"StudyData\", \"Close(\"&$D$12&\") when LocalYear(\"&$D$12&\")=\"&$D$1&\" and localMonth(\"&$D$12&\") =\"&$E$1&\" and LocalDay(\"&$D$12&\")=\"&$F$1&\" and Barix(\"&$D$12&\",reference:=StartOfSession)=\"&A61&\"\", \"Bar\", \"\", \"Close\",\"5\",\"0\",\"PrimaryOnly\",,,\"False\",\"T\",\"EveryTick\")","v":""},{"$error":"#N/A"},{"$f":"RTD(\"cqg.rtd\",,\"StudyData\", \"Close(\"&$D$12&\") when LocalYear(\"&$D$12&\")=\"&$D$2&\" and localMonth(\"&$D$12&\") =\"&$E$2&\" and LocalDay(\"&$D$12&\")=\"&$F$2&\" and Barix(\"&$D$12&\",reference:=StartOfSession)=\"&A61&\"\", \"Bar\", \"\", \"Close\",\"5\",\"0\",\"PrimaryOnly\",,,\"False\",\"T\",\"EveryTick\")","v":119.703125},2.2239665096807954E-3,{"$f":"RTD(\"cqg.rtd\",,\"StudyData\", \"Close(\"&$D$12&\") when LocalYear(\"&$D$12&\")=\"&$D$3&\" and localMonth(\"&$D$12&\") =\"&$E$3&\" and LocalDay(\"&$D$12&\")=\"&$F$3&\" and Barix(\"&$D$12&\",reference:=StartOfSession)=\"&A61&\"\", \"Bar\", \"\", \"Close\",\"5\",\"0\",\"PrimaryOnly\",,,\"False\",\"T\",\"EveryTick\")","v":119.453125},2.2286313581541687E-3,{"$f":"RTD(\"cqg.rtd\",,\"StudyData\", \"Close(\"&$D$12&\") when LocalYear(\"&$D$12&\")=\"&$D$4&\" and localMonth(\"&$D$12&\") =\"&$E$4&\" and LocalDay(\"&$D$12&\")=\"&$F$4&\" and Barix(\"&$D$12&\",reference:=StartOfSession)=\"&A61&\"\", \"Bar\", \"\", \"Close\",\"5\",\"0\",\"PrimaryOnly\",,,\"False\",\"T\",\"EveryTick\")","v":119.171875},-1.9628369536770478E-3,{"$f":"RTD(\"cqg.rtd\",,\"StudyData\", \"Close(\"&$D$12&\") when LocalYear(\"&$D$12&\")=\"&$D$5&\" and localMonth(\"&$D$12&\") =\"&$E$5&\" and LocalDay(\"&$D$12&\")=\"&$F$5&\" and Barix(\"&$D$12&\",reference:=StartOfSession)=\"&A61&\"\", \"Bar\", \"\", \"Close\",\"5\",\"0\",\"PrimaryOnly\",,,\"False\",\"T\",\"EveryTick\")","v":119.40625},-2.6164311878597594E-4,{"$f":"RTD(\"cqg.rtd\",,\"StudyData\", \"Close(\"&$D$12&\") when LocalYear(\"&$D$12&\")=\"&$D$6&\" and localMonth(\"&$D$12&\") =\"&$E$6&\" and LocalDay(\"&$D$12&\")=\"&$F$6&\" and Barix(\"&$D$12&\",reference:=StartOfSession)=\"&A61&\"\", \"Bar\", \"\", \"Close\",\"5\",\"0\",\"PrimaryOnly\",,,\"False\",\"T\",\"EveryTick\")","v":119.390625},-1.6984583224457801E-3,{"$f":"RTD(\"cqg.rtd\",,\"StudyData\", \"Close(\"&$D$12&\") when LocalYear(\"&$D$12&\")=\"&$D$7&\" and localMonth(\"&$D$12&\") =\"&$E$7&\" and LocalDay(\"&$D$12&\")=\"&$F$7&\" and Barix(\"&$D$12&\",reference:=StartOfSession)=\"&A61&\"\", \"Bar\", \"\", \"Close\",\"5\",\"0\",\"PrimaryOnly\",,,\"False\",\"T\",\"EveryTick\")","v":119.71875},1.0452051215050953E-3,{"$f":"RTD(\"cqg.rtd\",,\"StudyData\", \"Close(\"&$D$12&\") when LocalYear(\"&$D$12&\")=\"&$D$8&\" and localMonth(\"&$D$12&\") =\"&$E$8&\" and LocalDay(\"&$D$12&\")=\"&$F$8&\" and Barix(\"&$D$12&\",reference:=StartOfSession)=\"&A61&\"\", \"Bar\", \"\", \"Close\",\"5\",\"0\",\"PrimaryOnly\",,,\"False\",\"T\",\"EveryTick\")","v":119.703125},3.5368090123133349E-3,{"$f":"RTD(\"cqg.rtd\",,\"StudyData\", \"Close(\"&$D$12&\") when LocalYear(\"&$D$12&\")=\"&$D$9&\" and localMonth(\"&$D$12&\") =\"&$E$9&\" and LocalDay(\"&$D$12&\")=\"&$F$9&\" and Barix(\"&$D$12&\",reference:=StartOfSession)=\"&A61&\"\", \"Bar\", \"\", \"Close\",\"5\",\"0\",\"PrimaryOnly\",,,\"False\",\"T\",\"EveryTick\")","v":119.25},-3.7854066048818693E-3,{"$f":"RTD(\"cqg.rtd\",,\"StudyData\", \"Close(\"&$D$12&\") when LocalYear(\"&$D$12&\")=\"&$D$10&\" and localMonth(\"&$D$12&\") =\"&$E$10&\" and LocalDay(\"&$D$12&\")=\"&$F$10&\" and Barix(\"&$D$12&\",reference:=StartOfSession)=\"&A61&\"\", \"Bar\", \"\", \"Close\",\"5\",\"0\",\"PrimaryOnly\",,,\"False\",\"T\",\"EveryTick\")","v":119.734375},1.961297071129707E-3,null,null,null,""]
[241,"13:05:00",-16,{"$f":" RTD(\"cqg.rtd\",,\"StudyData\", $D$12,  \"Tick\", \"FlatTicks=0\", \"Tick\",\"D\",C62,\"PrimaryOnly\")","v":119.703125},null,null,null,{"$f":"RTD(\"cqg.rtd\",,\"StudyData\", \"Close(\"&$D$12&\") when LocalYear(\"&$D$12&\")=\"&$D$1&\" and localMonth(\"&$D$12&\") =\"&$E$1&\" and LocalDay(\"&$D$12&\")=\"&$F$1&\" and Barix(\"&$D$12&\",reference:=StartOfSession)=\"&A62&\"\", \"Bar\", \"\", \"Close\",\"5\",\"0\",\"PrimaryOnly\",,,\"False\",\"T\",\"EveryTick\")","v":""},{"$error":"#N/A"},{"$f":"RTD(\"cqg.rtd\",,\"StudyData\", \"Close(\"&$D$12&\") when LocalYear(\"&$D$12&\")=\"&$D$2&\" and localMonth(\"&$D$12&\") =\"&$E$2&\" and LocalDay(\"&$D$12&\")=\"&$F$2&\" and Barix(\"&$D$12&\",reference:=StartOfSession)=\"&A62&\"\", \"Bar\", \"\", \"Close\",\"5\",\"0\",\"PrimaryOnly\",,,\"False\",\"T\",\"EveryTick\")","v":119.703125},2.2239665096807954E-3,{"$f":"RTD(\"cqg.rtd\",,\"StudyData\", \"Close(\"&$D$12&\") when LocalYear(\"&$D$12&\")=\"&$D$3&\" and localMonth(\"&$D$12&\") =\"&$E$3&\" and LocalDay(\"&$D$12&\")=\"&$F$3&\" and Barix(\"&$D$12&\",reference:=StartOfSession)=\"&A62&\"\", \"Bar\", \"\", \"Close\",\"5\",\"0\",\"PrimaryOnly\",,,\"False\",\"T\",\"EveryTick\")","v":119.4375},2.097535395909806E-3,{"$f":"RTD(\"cqg.rtd\",,\"StudyData\", \"Close(\"&$D$12&\") when LocalYear(\"&$D$12&\")=\"&$D$4&\" and localMonth(\"&$D$12&\") =\"&$E$4&\" and LocalDay(\"&$D$12&\")=\"&$F$4&\" and Barix(\"&$D$12&\",reference:=StartOfSession)=\"&A62&\"\", \"Bar\", \"\", \"Close\",\"5\",\"0\",\"PrimaryOnly\",,,\"False\",\"T\",\"EveryTick\")","v":119.15625},-2.0936927505888509E-3,{"$f":"RTD(\"cqg.rtd\",,\"StudyData\", \"Close(\"&$D$12&\") when LocalYear(\"&$D$12&\")=\"&$D$5&\" and localMonth(\"&$D$12&\") =\"&$E$5&\" and LocalDay(\"&$D$12&\")=\"&$F$5&\" and Barix(\"&$D$12&\",reference:=StartOfSession)=\"&A62&\"\", \"Bar\", \"\", \"Close\",\"5\",\"0\",\"PrimaryOnly\",,,\"False\",\"T\",\"EveryTick\")","v":119.375},-5.2328623757195189E-4,{"$f":"RTD(\"cqg.rtd\",,\"StudyData\", \"Close(\"&$D$12&\") when LocalYear(\"&$D$12&\")=\"&$D$6&\" and localMonth(\"&$D$12&\") =\"&$E$6&\" and LocalDay(\"&$D$12&\")=\"&$F$6&\" and Barix(\"&$D$12&\",reference:=StartOfSession)=\"&A62&\"\", \"Bar\", \"\", \"Close\",\"5\",\"0\",\"PrimaryOnly\",,,\"False\",\"T\",\"EveryTick\")","v":119.40625},-1.567807682257643E-3,{"$f":"RTD(\"cqg.rtd\",,\"StudyData\", \"Close(\"&$D$12&\") when LocalYear(\"&$D$12&\")=\"&$D$7&\" and localMonth(\"&$D$12&\") =\"&$E$7&\" and LocalDay(\"&$D$12&\")=\"&$F$7&\" and Barix(\"&$D$12&\",reference:=StartOfSession)=\"&A62&\"\", \"Bar\", \"\", \"Close\",\"5\",\"0\",\"PrimaryOnly\",,,\"False\",\"T\",\"EveryTick\")","v":119.71875},1.0452051215050953E-3,{"$f":"RTD(\"cqg.rtd\",,\"StudyData\", \"Close(\"&$D$12&\") when LocalYear(\"&$D$12&\")=\"&$D$8&\" and localMonth(\"&$D$12&\") =\"&$E$8&\" and LocalDay(\"&$D$12&\")=\"&$F$8&\" and Barix(\"&$D$12&\",reference:=StartOfSession)=\"&A62&\"\", \"Bar\", \"\", \"Close\",\"5\",\"0\",\"PrimaryOnly\",,,\"False\",\"T\",\"EveryTick\")","v":119.671875},3.2748231595493842E-3,{"$f":"RTD(\"cqg.rtd\",,\"StudyData\", \"Close(\"&$D$12&\") when LocalYear(\"&$D$12&\")=\"&$D$9&\" and localMonth(\"&$D$12&\") =\"&$E$9&\" and LocalDay(\"&$D$12&\")=\"&$F$9&\" and Barix(\"&$D$12&\",reference:=StartOfSession)=\"&A62&\"\", \"Bar\", \"\", \"Close\",\"5\",\"0\",\"PrimaryOnly\",,,\"False\",\"T\",\"EveryTick\")","v":119.265625},-3.6548753426445635E-3,{"$f":"RTD(\"cqg.rtd\",,\"StudyData\", \"Close(\"&$D$12&\") when LocalYear(\"&$D$12&\")=\"&$D$10&\" and localMonth(\"&$D$12&\") =\"&$E$10&\" and LocalDay(\"&$D$12&\")=\"&$F$10&\" and Barix(\"&$D$12&\",reference:=StartOfSession)=\"&A62&\"\", \"Bar\", \"\", \"Close\",\"5\",\"0\",\"PrimaryOnly\",,,\"False\",\"T\",\"EveryTick\")","v":119.71875},1.8305439330543933E-3,null,null,null,""]
[242,"13:10:00",-15,{"$f":" RTD(\"cqg.rtd\",,\"StudyData\", $D$12,  \"Tick\", \"FlatTicks=0\", \"Tick\",\"D\",C63,\"PrimaryOnly\")","v":119.6875},null,null,null,{"$f":"RTD(\"cqg.rtd\",,\"StudyData\", \"Close(\"&$D$12&\") when LocalYear(\"&$D$12&\")=\"&$D$1&\" and localMonth(\"&$D$12&\") =\"&$E$1&\" and LocalDay(\"&$D$12&\")=\"&$F$1&\" and Barix(\"&$D$12&\",reference:=StartOfSession)=\"&A63&\"\", \"Bar\", \"\", \"Close\",\"5\",\"0\",\"PrimaryOnly\",,,\"False\",\"T\",\"EveryTick\")","v":""},{"$error":"#N/A"},{"$f":"RTD(\"cqg.rtd\",,\"StudyData\", \"Close(\"&$D$12&\") when LocalYear(\"&$D$12&\")=\"&$D$2&\" and localMonth(\"&$D$12&\") =\"&$E$2&\" and LocalDay(\"&$D$12&\")=\"&$F$2&\" and Barix(\"&$D$12&\",reference:=StartOfSession)=\"&A63&\"\", \"Bar\", \"\", \"Close\",\"5\",\"0\",\"PrimaryOnly\",,,\"False\",\"T\",\"EveryTick\")","v":119.6875},2.0931449502878076E-3,{"$f":"RTD(\"cqg.rtd\",,\"StudyData\", \"Close(\"&$D$12&\") when LocalYear(\"&$D$12&\")=\"&$D$3&\" and localMonth(\"&$D$12&\") =\"&$E$3&\" and LocalDay(\"&$D$12&\")=\"&$F$3&\" and Barix(\"&$D$12&\",reference:=StartOfSession)=\"&A63&\"\", \"Bar\", \"\", \"Close\",\"5\",\"0\",\"PrimaryOnly\",,,\"False\",\"T\",\"EveryTick\")","v":119.453125},2.2286313581541687E-3,{"$f":"RTD(\"cqg.rtd\",,\"StudyData\", \"Close(\"&$D$12&\") when LocalYear(\"&$D$12&\")=\"&$D$4&\" and localMonth(\"&$D$12&\") =\"&$E$4&\" and LocalDay(\"&$D$12&\")=\"&$F$4&\" and Barix(\"&$D$12&\",reference:=StartOfSession)=\"&A63&\"\", \"Bar\", \"\", \"Close\",\"5\",\"0\",\"PrimaryOnly\",,,\"False\",\"T\",\"EveryTick\")","v":119.171875},-1.9628369536770478E-3,{"$f":"RTD(\"cqg.rtd\",,\"StudyData\", \"Close(\"&$D$12&\") when LocalYear(\"&$D$12&\")=\"&$D$5&\" and localMonth(\"&$D$12&\") =\"&$E$5&\" and LocalDay(\"&$D$12&\")=\"&$F$5&\" and Barix(\"&$D$12&\",reference:=StartOfSession)=\"&A63&\"\", \"Bar\", \"\", \"Close\",\"5\",\"0\",\"PrimaryOnly\",,,\"False\",\"T\",\"EveryTick\")","v":119.359375},-6.5410779696493981E-4,{"$f":"RTD(\"cqg.rtd\",,\"StudyData\", \"Close(\"&$D$12&\") when LocalYear(\"&$D$12&\")=\"&$D$6&\" and localMonth(\"&$D$12&\") =\"&$E$6&\" and LocalDay(\"&$D$12&\")=\"&$F$6&\" and Barix(\"&$D$12&\",reference:=StartOfSession)=\"&A63&\"\", \"Bar\", \"\", \"Close\",\"5\",\"0\",\"PrimaryOnly\",,,\"False\",\"T\",\"EveryTick\")","v":119.40625},-1.567807682257643E-3,{"$f":"RTD(\"cqg.rtd\",,\"StudyData\", \"Close(\"&$D$12&\") when LocalYear(\"&$D$12&\")=\"&$D$7&\" and localMonth(\"&$D$12&\") =\"&$E$7&\" and LocalDay(\"&$D$12&\")=\"&$F$7&\" and Barix(\"&$D$12&\",reference:=StartOfSession)=\"&A63&\"\", \"Bar\", \"\", \"Close\",\"5\",\"0\",\"PrimaryOnly\",,,\"False\",\"T\",\"EveryTick\")","v":119.703125},9.1455448131695844E-4,{"$f":"RTD(\"cqg.rtd\",,\"StudyData\", \"Close(\"&$D$12&\") when LocalYear(\"&$D$12&\")=\"&$D$8&\" and localMonth(\"&$D$12&\") =\"&$E$8&\" and LocalDay(\"&$D$12&\")=\"&$F$8&\" and Barix(\"&$D$12&\",reference:=StartOfSession)=\"&A63&\"\", \"Bar\", \"\", \"Close\",\"5\",\"0\",\"PrimaryOnly\",,,\"False\",\"T\",\"EveryTick\")","v":119.625},2.881844380403458E-3,{"$f":"RTD(\"cqg.rtd\",,\"StudyData\", \"Close(\"&$D$12&\") when LocalYear(\"&$D$12&\")=\"&$D$9&\" and localMonth(\"&$D$12&\") =\"&$E$9&\" and LocalDay(\"&$D$12&\")=\"&$F$9&\" and Barix(\"&$D$12&\",reference:=StartOfSession)=\"&A63&\"\", \"Bar\", \"\", \"Close\",\"5\",\"0\",\"PrimaryOnly\",,,\"False\",\"T\",\"EveryTick\")","v":119.25},-3.7854066048818693E-3,{"$f":"RTD(\"cqg.rtd\",,\"StudyData\", \"Close(\"&$D$12&\") when LocalYear(\"&$D$12&\")=\"&$D$10&\" and localMonth(\"&$D$12&\") =\"&$E$10&\" and LocalDay(\"&$D$12&\")=\"&$F$10&\" and Barix(\"&$D$12&\",reference:=StartOfSession)=\"&A63&\"\", \"Bar\", \"\", \"Close\",\"5\",\"0\",\"PrimaryOnly\",,,\"False\",\"T\",\"EveryTick\")","v":119.734375},1.961297071129707E-3,null,null,null,""]
[243,"13:15:00",-14,{"$f":" RTD(\"cqg.rtd\",,\"StudyData\", $D$12,  \"Tick\", \"FlatTicks=0\", \"Tick\",\"D\",C64,\"PrimaryOnly\")","v":119.703125},null,null,null,{"$f":"RTD(\"cqg.rtd\",,\"StudyData\", \"Close(\"&$D$12&\") when LocalYear(\"&$D$12&\")=\"&$D$1&\" and localMonth(\"&$D$12&\") =\"&$E$1&\" and LocalDay(\"&$D$12&\")=\"&$F$1&\" and Barix(\"&$D$12&\",reference:=StartOfSession)=\"&A64&\"\", \"Bar\", \"\", \"Close\",\"5\",\"0\",\"PrimaryOnly\",,,\"False\",\"T\",\"EveryTick\")","v":""},{"$error":"#N/A"},{"$f":"RTD(\"cqg.rtd\",,\"StudyData\", \"Close(\"&$D$12&\") when LocalYear(\"&$D$12&\")=\"&$D$2&\" and localMonth(\"&$D$12&\") =\"&$E$2&\" and LocalDay(\"&$D$12&\")=\"&$F$2&\" and Barix(\"&$D$12&\",reference:=StartOfSession)=\"&A64&\"\", \"Bar\", \"\", \"Close\",\"5\",\"0\",\"PrimaryOnly\",,,\"False\",\"T\",\"EveryTick\")","v":119.6875},2.0931449502878076E-3,{"$f":"RTD(\"cqg.rtd\",,\"StudyData\", \"Close(\"&$D$12&\") when LocalYear(\"&$D$12&\")=\"&$D$3&\" and localMonth(\"&$D$12&\") =\"&$E$3&\" and LocalDay(\"&$D$12&\")=\"&$F$3&\" and Barix(\"&$D$12&\",reference:=StartOfSession)=\"&A64&\"\", \"Bar\", \"\", \"Close\",\"5\",\"0\",\"PrimaryOnly\",,,\"False\",\"T\",\"EveryTick\")","v":119.4375},2.097535395909806E-3,{"$f":"RTD(\"cqg.rtd\",,\"StudyData\", \"Close(\"&$D$12&\") when LocalYear(\"&$D$12&\")=\"&$D$4&\" and localMonth(\"&$D$12&\") =\"&$E$4&\" and LocalDay(\"&$D$12&\")=\"&$F$4&\" and Barix(\"&$D$12&\",reference:=StartOfSession)=\"&A64&\"\", \"Bar\", \"\", \"Close\",\"5\",\"0\",\"PrimaryOnly\",,,\"False\",\"T\",\"EveryTick\")","v":119.15625},-2.0936927505888509E-3,{"$f":"RTD(\"cqg.rtd\",,\"StudyData\", \"Close(\"&$D$12&\") when LocalYear(\"&$D$12&\")=\"&$D$5&\" and localMonth(\"&$D$12&\") =\"&$E$5&\" and LocalDay(\"&$D$12&\")=\"&$F$5&\" and Barix(\"&$D$12&\",reference:=StartOfSession)=\"&A64&\"\", \"Bar\", \"\", \"Close\",\"5\",\"0\",\"PrimaryOnly\",,,\"False\",\"T\",\"EveryTick\")","v":119.390625},-3.9246467817896392E-4,{"$f":"RTD(\"cqg.rtd\",,\"StudyData\", \"Close(\"&$D$12&\") when LocalYear(\"&$D$12&\")=\"&$D$6&\" and localMonth(\"&$D$12&\") =\"&$E$6&\" and LocalDay(\"&$D$12&\")=\"&$F$6&\" and Barix(\"&$D$12&\",reference:=StartOfSession)=\"&A64&\"\", \"Bar\", \"\", \"Close\",\"5\",\"0\",\"PrimaryOnly\",,,\"False\",\"T\",\"EveryTick\")","v":119.390625},-1.6984583224457801E-3,{"$f":"RTD(\"cqg.rtd\",,\"StudyData\", \"Close(\"&$D$12&\") when LocalYear(\"&$D$12&\")=\"&$D$7&\" and localMonth(\"&$D$12&\") =\"&$E$7&\" and LocalDay(\"&$D$12&\")=\"&$F$7&\" and Barix(\"&$D$12&\",reference:=StartOfSession)=\"&A64&\"\", \"Bar\", \"\", \"Close\",\"5\",\"0\",\"PrimaryOnly\",,,\"False\",\"T\",\"EveryTick\")","v":119.6875},7.8390384112882151E-4,{"$f":"RTD(\"cqg.rtd\",,\"StudyData\", \"Close(\"&$D$12&\") when LocalYear(\"&$D$12&\")=\"&$D$8&\" and localMonth(\"&$D$12&\") =\"&$E$8&\" and LocalDay(\"&$D$12&\")=\"&$F$8&\" and Barix(\"&$D$12&\",reference:=StartOfSession)=\"&A64&\"\", \"Bar\", \"\", \"Close\",\"5\",\"0\",\"PrimaryOnly\",,,\"False\",\"T\",\"EveryTick\")","v":119.59375},2.6198585276395073E-3,{"$f":"RTD(\"cqg.rtd\",,\"StudyData\", \"Close(\"&$D$12&\") when LocalYear(\"&$D$12&\")=\"&$D$9&\" and localMonth(\"&$D$12&\") =\"&$E$9&\" and LocalDay(\"&$D$12&\")=\"&$F$9&\" and Barix(\"&$D$12&\",reference:=StartOfSession)=\"&A64&\"\", \"Bar\", \"\", \"Close\",\"5\",\"0\",\"PrimaryOnly\",,,\"False\",\"T\",\"EveryTick\")","v":119.28125},-3.5243440804072577E-3,{"$f":"RTD(\"cqg.rtd\",,\"StudyData\", \"Close(\"&$D$12&\") when LocalYear(\"&$D$12&\")=\"&$D$10&\" and localMonth(\"&$D$12&\") =\"&$E$10&\" and LocalDay(\"&$D$12&\")=\"&$F$10&\" and Barix(\"&$D$12&\",reference:=StartOfSession)=\"&A64&\"\", \"Bar\", \"\", \"Close\",\"5\",\"0\",\"PrimaryOnly\",,,\"False\",\"T\",\"EveryTick\")","v":119.734375},1.961297071129707E-3,null,null,null,""]
[244,"13:20:00",-13,{"$f":" RTD(\"cqg.rtd\",,\"StudyData\", $D$12,  \"Tick\", \"FlatTicks=0\", \"Tick\",\"D\",C65,\"PrimaryOnly\")","v":119.6875},null,null,null,{"$f":"RTD(\"cqg.rtd\",,\"StudyData\", \"Close(\"&$D$12&\") when LocalYear(\"&$D$12&\")=\"&$D$1&\" and localMonth(\"&$D$12&\") =\"&$E$1&\" and LocalDay(\"&$D$12&\")=\"&$F$1&\" and Barix(\"&$D$12&\",reference:=StartOfSession)=\"&A65&\"\", \"Bar\", \"\", \"Close\",\"5\",\"0\",\"PrimaryOnly\",,,\"False\",\"T\",\"EveryTick\")","v":""},{"$error":"#N/A"},{"$f":"RTD(\"cqg.rtd\",,\"StudyData\", \"Close(\"&$D$12&\") when LocalYear(\"&$D$12&\")=\"&$D$2&\" and localMonth(\"&$D$12&\") =\"&$E$2&\" and LocalDay(\"&$D$12&\")=\"&$F$2&\" and Barix(\"&$D$12&\",reference:=StartOfSession)=\"&A65&\"\", \"Bar\", \"\", \"Close\",\"5\",\"0\",\"PrimaryOnly\",,,\"False\",\"T\",\"EveryTick\")","v":119.65625},1.8315018315018315E-3,{"$f":"RTD(\"cqg.rtd\",,\"StudyData\", \"Close(\"&$D$12&\") when LocalYear(\"&$D$12&\")=\"&$D$3&\" and localMonth(\"&$D$12&\") =\"&$E$3&\" and LocalDay(\"&$D$12&\")=\"&$F$3&\" and Barix(\"&$D$12&\",reference:=StartOfSession)=\"&A65&\"\", \"Bar\", \"\", \"Close\",\"5\",\"0\",\"PrimaryOnly\",,,\"False\",\"T\",\"EveryTick\")","v":119.421875},1.9664394336654429E-3,{"$f":"RTD(\"cqg.rtd\",,\"StudyData\", \"Close(\"&$D$12&\") when LocalYear(\"&$D$12&\")=\"&$D$4&\" and localMonth(\"&$D$12&\") =\"&$E$4&\" and LocalDay(\"&$D$12&\")=\"&$F$4&\" and Barix(\"&$D$12&\",reference:=StartOfSession)=\"&A65&\"\", \"Bar\", \"\", \"Close\",\"5\",\"0\",\"PrimaryOnly\",,,\"False\",\"T\",\"EveryTick\")","v":119.125},-2.3554043444124575E-3,{"$f":"RTD(\"cqg.rtd\",,\"StudyData\", \"Close(\"&$D$12&\") when LocalYear(\"&$D$12&\")=\"&$D$5&\" and localMonth(\"&$D$12&\") =\"&$E$5&\" and LocalDay(\"&$D$12&\")=\"&$F$5&\" and Barix(\"&$D$12&\",reference:=StartOfSession)=\"&A65&\"\", \"Bar\", \"\", \"Close\",\"5\",\"0\",\"PrimaryOnly\",,,\"False\",\"T\",\"EveryTick\")","v":119.359375},-6.5410779696493981E-4,{"$f":"RTD(\"cqg.rtd\",,\"StudyData\", \"Close(\"&$D$12&\") when LocalYear(\"&$D$12&\")=\"&$D$6&\" and localMonth(\"&$D$12&\") =\"&$E$6&\" and LocalDay(\"&$D$12&\")=\"&$F$6&\" and Barix(\"&$D$12&\",reference:=StartOfSession)=\"&A65&\"\", \"Bar\", \"\", \"Close\",\"5\",\"0\",\"PrimaryOnly\",,,\"False\",\"T\",\"EveryTick\")","v":119.40625},-1.567807682257643E-3,{"$f":"RTD(\"cqg.rtd\",,\"StudyData\", \"Close(\"&$D$12&\") when LocalYear(\"&$D$12&\")=\"&$D$7&\" and localMonth(\"&$D$12&\") =\"&$E$7&\" and LocalDay(\"&$D$12&\")=\"&$F$7&\" and Barix(\"&$D$12&\",reference:=StartOfSession)=\"&A65&\"\", \"Bar\", \"\", \"Close\",\"5\",\"0\",\"PrimaryOnly\",,,\"False\",\"T\",\"EveryTick\")","v":119.671875},6.5325320094068457E-4,{"$f":"RTD(\"cqg.rtd\",,\"StudyData\", \"Close(\"&$D$12&\") when LocalYear(\"&$D$12&\")=\"&$D$8&\" and localMonth(\"&$D$12&\") =\"&$E$8&\" and LocalDay(\"&$D$12&\")=\"&$F$8&\" and Barix(\"&$D$12&\",reference:=StartOfSession)=\"&A65&\"\", \"Bar\", \"\", \"Close\",\"5\",\"0\",\"PrimaryOnly\",,,\"False\",\"T\",\"EveryTick\")","v":119.625},2.881844380403458E-3,{"$f":"RTD(\"cqg.rtd\",,\"StudyData\", \"Close(\"&$D$12&\") when LocalYear(\"&$D$12&\")=\"&$D$9&\" and localMonth(\"&$D$12&\") =\"&$E$9&\" and LocalDay(\"&$D$12&\")=\"&$F$9&\" and Barix(\"&$D$12&\",reference:=StartOfSession)=\"&A65&\"\", \"Bar\", \"\", \"Close\",\"5\",\"0\",\"PrimaryOnly\",,,\"False\",\"T\",\"EveryTick\")","v":119.265625},-3.6548753426445635E-3,{"$f":"RTD(\"cqg.rtd\",,\"StudyData\", \"Close(\"&$D$12&\") when LocalYear(\"&$D$12&\")=\"&$D$10&\" and localMonth(\"&$D$12&\") =\"&$E$10&\" and LocalDay(\"&$D$12&\")=\"&$F$10&\" and Barix(\"&$D$12&\",reference:=StartOfSession)=\"&A65&\"\", \"Bar\", \"\", \"Close\",\"5\",\"0\",\"PrimaryOnly\",,,\"False\",\"T\",\"EveryTick\")","v":119.734375},1.961297071129707E-3,null,null,null,""]
[245,"13:25:00",-12,{"$f":" RTD(\"cqg.rtd\",,\"StudyData\", $D$12,  \"Tick\", \"FlatTicks=0\", \"Tick\",\"D\",C66,\"PrimaryOnly\")","v":119.703125},null,null,null,{"$f":"RTD(\"cqg.rtd\",,\"StudyData\", \"Close(\"&$D$12&\") when LocalYear(\"&$D$12&\")=\"&$D$1&\" and localMonth(\"&$D$12&\") =\"&$E$1&\" and LocalDay(\"&$D$12&\")=\"&$F$1&\" and Barix(\"&$D$12&\",reference:=StartOfSession)=\"&A66&\"\", \"Bar\", \"\", \"Close\",\"5\",\"0\",\"PrimaryOnly\",,,\"False\",\"T\",\"EveryTick\")","v":""},{"$error":"#N/A"},{"$f":"RTD(\"cqg.rtd\",,\"StudyData\", \"Close(\"&$D$12&\") when LocalYear(\"&$D$12&\")=\"&$D$2&\" and localMonth(\"&$D$12&\") =\"&$E$2&\" and LocalDay(\"&$D$12&\")=\"&$F$2&\" and Barix(\"&$D$12&\",reference:=StartOfSession)=\"&A66&\"\", \"Bar\", \"\", \"Close\",\"5\",\"0\",\"PrimaryOnly\",,,\"False\",\"T\",\"EveryTick\")","v":119.65625},{"$f":"IFERROR((J66-$G$3)/$G$3,NA())","v":1.8315018315018315E-3},{"$f":"RTD(\"cqg.rtd\",,\"StudyData\", \"Close(\"&$D$12&\") when LocalYear(\"&$D$12&\")=\"&$D$3&\" and localMonth(\"&$D$12&\") =\"&$E$3&\" and LocalDay(\"&$D$12&\")=\"&$F$3&\" and Barix(\"&$D$12&\",reference:=StartOfSession)=\"&A66&\"\", \"Bar\", \"\", \"Close\",\"5\",\"0\",\"PrimaryOnly\",,,\"False\",\"T\",\"EveryTick\")","v":119.4375},{"$f":"IFERROR((L66-$G$4)/$G$4,NA())","v":2.097535395909806E-3},{"$f":"RTD(\"cqg.rtd\",,\"StudyData\", \"Close(\"&$D$12&\") when LocalYear(\"&$D$12&\")=\"&$D$4&\" and localMonth(\"&$D$12&\") =\"&$E$4&\" and LocalDay(\"&$D$12&\")=\"&$F$4&\" and Barix(\"&$D$12&\",reference:=StartOfSession)=\"&A66&\"\", \"Bar\", \"\", \"Close\",\"5\",\"0\",\"PrimaryOnly\",,,\"False\",\"T\",\"EveryTick\")","v":119.09375},{"$f":"IFERROR((N66-$G$5)/$G$5,NA())","v":-2.6171159382360636E-3},{"$f":"RTD(\"cqg.rtd\",,\"StudyData\", \"Close(\"&$D$12&\") when LocalYear(\"&$D$12&\")=\"&$D$5&\" and localMonth(\"&$D$12&\") =\"&$E$5&\" and LocalDay(\"&$D$12&\")=\"&$F$5&\" and Barix(\"&$D$12&\",reference:=StartOfSession)=\"&A66&\"\", \"Bar\", \"\", \"Close\",\"5\",\"0\",\"PrimaryOnly\",,,\"False\",\"T\",\"EveryTick\")","v":119.390625},{"$f":"IFERROR((P66-$G$6)/$G$6,NA())","v":-3.9246467817896392E-4},{"$f":"RTD(\"cqg.rtd\",,\"StudyData\", \"Close(\"&$D$12&\") when LocalYear(\"&$D$12&\")=\"&$D$6&\" and localMonth(\"&$D$12&\") =\"&$E$6&\" and LocalDay(\"&$D$12&\")=\"&$F$6&\" and Barix(\"&$D$12&\",reference:=StartOfSession)=\"&A66&\"\", \"Bar\", \"\", \"Close\",\"5\",\"0\",\"PrimaryOnly\",,,\"False\",\"T\",\"EveryTick\")","v":119.421875},{"$f":"IFERROR((R66-$G$7)/$G$7,NA())","v":-1.4371570420695062E-3},{"$f":"RTD(\"cqg.rtd\",,\"StudyData\", \"Close(\"&$D$12&\") when LocalYear(\"&$D$12&\")=\"&$D$7&\" and localMonth(\"&$D$12&\") =\"&$E$7&\" and LocalDay(\"&$D$12&\")=\"&$F$7&\" and Barix(\"&$D$12&\",reference:=StartOfSession)=\"&A66&\"\", \"Bar\", \"\", \"Close\",\"5\",\"0\",\"PrimaryOnly\",,,\"False\",\"T\",\"EveryTick\")","v":119.671875},{"$f":"IFERROR((T66-$G$8)/$G$8,NA())","v":6.5325320094068457E-4},{"$f":"RTD(\"cqg.rtd\",,\"StudyData\", \"Close(\"&$D$12&\") when LocalYear(\"&$D$12&\")=\"&$D$8&\" and localMonth(\"&$D$12&\") =\"&$E$8&\" and LocalDay(\"&$D$12&\")=\"&$F$8&\" and Barix(\"&$D$12&\",reference:=StartOfSession)=\"&A66&\"\", \"Bar\", \"\", \"Close\",\"5\",\"0\",\"PrimaryOnly\",,,\"False\",\"T\",\"EveryTick\")","v":119.625},{"$f":"IFERROR((V66-$G$9)/$G$9,NA())","v":2.881844380403458E-3},{"$f":"RTD(\"cqg.rtd\",,\"StudyData\", \"Close(\"&$D$12&\") when LocalYear(\"&$D$12&\")=\"&$D$9&\" and localMonth(\"&$D$12&\") =\"&$E$9&\" and LocalDay(\"&$D$12&\")=\"&$F$9&\" and Barix(\"&$D$12&\",reference:=StartOfSession)=\"&A66&\"\", \"Bar\", \"\", \"Close\",\"5\",\"0\",\"PrimaryOnly\",,,\"False\",\"T\",\"EveryTick\")","v":119.265625},{"$f":"IFERROR((X66-$G$10)/$G$10,NA())","v":-3.6548753426445635E-3},{"$f":"RTD(\"cqg.rtd\",,\"StudyData\", \"Close(\"&$D$12&\") when LocalYear(\"&$D$12&\")=\"&$D$10&\" and localMonth(\"&$D$12&\") =\"&$E$10&\" and LocalDay(\"&$D$12&\")=\"&$F$10&\" and Barix(\"&$D$12&\",reference:=StartOfSession)=\"&A66&\"\", \"Bar\", \"\", \"Close\",\"5\",\"0\",\"PrimaryOnly\",,,\"False\",\"T\",\"EveryTick\")","v":119.71875},{"$f":"IFERROR((Z66-$G$11)/$G$11,NA())","v":1.8305439330543933E-3},null,null,null,""]
[{"$f":"A66+1","v":246},"13:30:00",-11,{"$f":" RTD(\"cqg.rtd\",,\"StudyData\", $D$12,  \"Tick\", \"FlatTicks=0\", \"Tick\",\"D\",C67,\"PrimaryOnly\")","v":119.6875},null,null,null,{"$f":"RTD(\"cqg.rtd\",,\"StudyData\", \"Close(\"&$D$12&\") when LocalYear(\"&$D$12&\")=\"&$D$1&\" and localMonth(\"&$D$12&\") =\"&$E$1&\" and LocalDay(\"&$D$12&\")=\"&$F$1&\" and Barix(\"&$D$12&\",reference:=StartOfSession)=\"&A67&\"\", \"Bar\", \"\", \"Close\",\"5\",\"0\",\"PrimaryOnly\",,,\"False\",\"T\",\"EveryTick\")","v":""},{"$f":"IFERROR((H67-$G$2)/$G$2,NA())","v":{"$error":"#N/A"}},{"$f":"RTD(\"cqg.rtd\",,\"StudyData\", \"Close(\"&$D$12&\") when LocalYear(\"&$D$12&\")=\"&$D$2&\" and localMonth(\"&$D$12&\") =\"&$E$2&\" and LocalDay(\"&$D$12&\")=\"&$F$2&\" and Barix(\"&$D$12&\",reference:=StartOfSession)=\"&A67&\"\", \"Bar\", \"\", \"Close\",\"5\",\"0\",\"PrimaryOnly\",,,\"False\",\"T\",\"EveryTick\")","v":119.625},1.5698587127158557E-3,{"$f":"RTD(\"cqg.rtd\",,\"StudyData\", \"Close(\"&$D$12&\") when LocalYear(\"&$D$12&\")=\"&$D$3&\" and localMonth(\"&$D$12&\") =\"&$E$3&\" and LocalDay(\"&$D$12&\")=\"&$F$3&\" and Barix(\"&$D$12&\",reference:=StartOfSession)=\"&A67&\"\", \"Bar\", \"\", \"Close\",\"5\",\"0\",\"PrimaryOnly\",,,\"False\",\"T\",\"EveryTick\")","v":119.421875},1.9664394336654429E-3,{"$f":"RTD(\"cqg.rtd\",,\"StudyData\", \"Close(\"&$D$12&\") when LocalYear(\"&$D$12&\")=\"&$D$4&\" and localMonth(\"&$D$12&\") =\"&$E$4&\" and LocalDay(\"&$D$12&\")=\"&$F$4&\" and Barix(\"&$D$12&\",reference:=StartOfSession)=\"&A67&\"\", \"Bar\", \"\", \"Close\",\"5\",\"0\",\"PrimaryOnly\",,,\"False\",\"T\",\"EveryTick\")","v":119},-3.402250719706883E-3,{"$f":"RTD(\"cqg.rtd\",,\"StudyData\", \"Close(\"&$D$12&\") when LocalYear(\"&$D$12&\")=\"&$D$5&\" and localMonth(\"&$D$12&\") =\"&$E$5&\" and LocalDay(\"&$D$12&\")=\"&$F$5&\" and Barix(\"&$D$12&\",reference:=StartOfSession)=\"&A67&\"\", \"Bar\", \"\", \"Close\",\"5\",\"0\",\"PrimaryOnly\",,,\"False\",\"T\",\"EveryTick\")","v":119.390625},-3.9246467817896392E-4,{"$f":"RTD(\"cqg.rtd\",,\"StudyData\", \"Close(\"&$D$12&\") when LocalYear(\"&$D$12&\")=\"&$D$6&\" and localMonth(\"&$D$12&\") =\"&$E$6&\" and LocalDay(\"&$D$12&\")=\"&$F$6&\" and Barix(\"&$D$12&\",reference:=StartOfSession)=\"&A67&\"\", \"Bar\", \"\", \"Close\",\"5\",\"0\",\"PrimaryOnly\",,,\"False\",\"T\",\"EveryTick\")","v":119.4375},-1.3065064018813691E-3,{"$f":"RTD(\"cqg.rtd\",,\"StudyData\", \"Close(\"&$D$12&\") when LocalYear(\"&$D$12&\")=\"&$D$7&\" and localMonth(\"&$D$12&\") =\"&$E$7&\" and LocalDay(\"&$D$12&\")=\"&$F$7&\" and Barix(\"&$D$12&\",reference:=StartOfSession)=\"&A67&\"\", \"Bar\", \"\", \"Close\",\"5\",\"0\",\"PrimaryOnly\",,,\"False\",\"T\",\"EveryTick\")","v":119.65625},5.2260256075254764E-4,{"$f":"RTD(\"cqg.rtd\",,\"StudyData\", \"Close(\"&$D$12&\") when LocalYear(\"&$D$12&\")=\"&$D$8&\" and localMonth(\"&$D$12&\") =\"&$E$8&\" and LocalDay(\"&$D$12&\")=\"&$F$8&\" and Barix(\"&$D$12&\",reference:=StartOfSession)=\"&A67&\"\", \"Bar\", \"\", \"Close\",\"5\",\"0\",\"PrimaryOnly\",,,\"False\",\"T\",\"EveryTick\")","v":119.59375},2.6198585276395073E-3,{"$f":"RTD(\"cqg.rtd\",,\"StudyData\", \"Close(\"&$D$12&\") when LocalYear(\"&$D$12&\")=\"&$D$9&\" and localMonth(\"&$D$12&\") =\"&$E$9&\" and LocalDay(\"&$D$12&\")=\"&$F$9&\" and Barix(\"&$D$12&\",reference:=StartOfSession)=\"&A67&\"\", \"Bar\", \"\", \"Close\",\"5\",\"0\",\"PrimaryOnly\",,,\"False\",\"T\",\"EveryTick\")","v":119.265625},-3.6548753426445635E-3,{"$f":"RTD(\"cqg.rtd\",,\"StudyData\", \"Close(\"&$D$12&\") when LocalYear(\"&$D$12&\")=\"&$D$10&\" and localMonth(\"&$D$12&\") =\"&$E$10&\" and LocalDay(\"&$D$12&\")=\"&$F$10&\" and Barix(\"&$D$12&\",reference:=StartOfSession)=\"&A67&\"\", \"Bar\", \"\", \"Close\",\"5\",\"0\",\"PrimaryOnly\",,,\"False\",\"T\",\"EveryTick\")","v":119.71875},1.8305439330543933E-3,null,null,null,{"$f":"IF(AND(H66<>\"\",H67<>\"\",H68=\"\"),A67,\"\")","v":""}]
[247,"13:35:00",-10,{"$f":" RTD(\"cqg.rtd\",,\"StudyData\", $D$12,  \"Tick\", \"FlatTicks=0\", \"Tick\",\"D\",C68,\"PrimaryOnly\")","v":119.671875},null,null,null,{"$f":"RTD(\"cqg.rtd\",,\"StudyData\", \"Close(\"&$D$12&\") when LocalYear(\"&$D$12&\")=\"&$D$1&\" and localMonth(\"&$D$12&\") =\"&$E$1&\" and LocalDay(\"&$D$12&\")=\"&$F$1&\" and Barix(\"&$D$12&\",reference:=StartOfSession)=\"&A68&\"\", \"Bar\", \"\", \"Close\",\"5\",\"0\",\"PrimaryOnly\",,,\"False\",\"T\",\"EveryTick\")","v":""},{"$error":"#N/A"},{"$f":"RTD(\"cqg.rtd\",,\"StudyData\", \"Close(\"&$D$12&\") when LocalYear(\"&$D$12&\")=\"&$D$2&\" and localMonth(\"&$D$12&\") =\"&$E$2&\" and LocalDay(\"&$D$12&\")=\"&$F$2&\" and Barix(\"&$D$12&\",reference:=StartOfSession)=\"&A68&\"\", \"Bar\", \"\", \"Close\",\"5\",\"0\",\"PrimaryOnly\",,,\"False\",\"T\",\"EveryTick\")","v":119.625},1.5698587127158557E-3,{"$f":"RTD(\"cqg.rtd\",,\"StudyData\", \"Close(\"&$D$12&\") when LocalYear(\"&$D$12&\")=\"&$D$3&\" and localMonth(\"&$D$12&\") =\"&$E$3&\" and LocalDay(\"&$D$12&\")=\"&$F$3&\" and Barix(\"&$D$12&\",reference:=StartOfSession)=\"&A68&\"\", \"Bar\", \"\", \"Close\",\"5\",\"0\",\"PrimaryOnly\",,,\"False\",\"T\",\"EveryTick\")","v":119.4375},2.097535395909806E-3,{"$f":"RTD(\"cqg.rtd\",,\"StudyData\", \"Close(\"&$D$12&\") when LocalYear(\"&$D$12&\")=\"&$D$4&\" and localMonth(\"&$D$12&\") =\"&$E$4&\" and LocalDay(\"&$D$12&\")=\"&$F$4&\" and Barix(\"&$D$12&\",reference:=StartOfSession)=\"&A68&\"\", \"Bar\", \"\", \"Close\",\"5\",\"0\",\"PrimaryOnly\",,,\"False\",\"T\",\"EveryTick\")","v":119.015625},-3.2713949227950799E-3,{"$f":"RTD(\"cqg.rtd\",,\"StudyData\", \"Close(\"&$D$12&\") when LocalYear(\"&$D$12&\")=\"&$D$5&\" and localMonth(\"&$D$12&\") =\"&$E$5&\" and LocalDay(\"&$D$12&\")=\"&$F$5&\" and Barix(\"&$D$12&\",reference:=StartOfSession)=\"&A68&\"\", \"Bar\", \"\", \"Close\",\"5\",\"0\",\"PrimaryOnly\",,,\"False\",\"T\",\"EveryTick\")","v":119.40625},-2.6164311878597594E-4,{"$f":"RTD(\"cqg.rtd\",,\"StudyData\", \"Close(\"&$D$12&\") when LocalYear(\"&$D$12&\")=\"&$D$6&\" and localMonth(\"&$D$12&\") =\"&$E$6&\" and LocalDay(\"&$D$12&\")=\"&$F$6&\" and Barix(\"&$D$12&\",reference:=StartOfSession)=\"&A68&\"\", \"Bar\", \"\", \"Close\",\"5\",\"0\",\"PrimaryOnly\",,,\"False\",\"T\",\"EveryTick\")","v":119.421875},-1.4371570420695062E-3,{"$f":"RTD(\"cqg.rtd\",,\"StudyData\", \"Close(\"&$D$12&\") when LocalYear(\"&$D$12&\")=\"&$D$7&\" and localMonth(\"&$D$12&\") =\"&$E$7&\" and LocalDay(\"&$D$12&\")=\"&$F$7&\" and Barix(\"&$D$12&\",reference:=StartOfSession)=\"&A68&\"\", \"Bar\", \"\", \"Close\",\"5\",\"0\",\"PrimaryOnly\",,,\"False\",\"T\",\"EveryTick\")","v":119.640625},3.9195192056441075E-4,{"$f":"RTD(\"cqg.rtd\",,\"StudyData\", \"Close(\"&$D$12&\") when LocalYear(\"&$D$12&\")=\"&$D$8&\" and localMonth(\"&$D$12&\") =\"&$E$8&\" and LocalDay(\"&$D$12&\")=\"&$F$8&\" and Barix(\"&$D$12&\",reference:=StartOfSession)=\"&A68&\"\", \"Bar\", \"\", \"Close\",\"5\",\"0\",\"PrimaryOnly\",,,\"False\",\"T\",\"EveryTick\")","v":119.59375},2.6198585276395073E-3,{"$f":"RTD(\"cqg.rtd\",,\"StudyData\", \"Close(\"&$D$12&\") when LocalYear(\"&$D$12&\")=\"&$D$9&\" and localMonth(\"&$D$12&\") =\"&$E$9&\" and LocalDay(\"&$D$12&\")=\"&$F$9&\" and Barix(\"&$D$12&\",reference:=StartOfSession)=\"&A68&\"\", \"Bar\", \"\", \"Close\",\"5\",\"0\",\"PrimaryOnly\",,,\"False\",\"T\",\"EveryTick\")","v":119.296875},-3.3938128181699519E-3,{"$f":"RTD(\"cqg.rtd\",,\"StudyData\", \"Close(\"&$D$12&\") when LocalYear(\"&$D$12&\")=\"&$D$10&\" and localMonth(\"&$D$12&\") =\"&$E$10&\" and LocalDay(\"&$D$12&\")=\"&$F$10&\" and Barix(\"&$D$12&\",reference:=StartOfSession)=\"&A68&\"\", \"Bar\", \"\", \"Close\",\"5\",\"0\",\"PrimaryOnly\",,,\"False\",\"T\",\"EveryTick\")","v":119.71875},1.8305439330543933E-3,null,null,null,""]
[248,"13:40:00",-9,{"$f":" RTD(\"cqg.rtd\",,\"StudyData\", $D$12,  \"Tick\", \"FlatTicks=0\", \"Tick\",\"D\",C69,\"PrimaryOnly\")","v":119.6875},null,null,null,{"$f":"RTD(\"cqg.rtd\",,\"StudyData\", \"Close(\"&$D$12&\") when LocalYear(\"&$D$12&\")=\"&$D$1&\" and localMonth(\"&$D$12&\") =\"&$E$1&\" and LocalDay(\"&$D$12&\")=\"&$F$1&\" and Barix(\"&$D$12&\",reference:=StartOfSession)=\"&A69&\"\", \"Bar\", \"\", \"Close\",\"5\",\"0\",\"PrimaryOnly\",,,\"False\",\"T\",\"EveryTick\")","v":""},{"$error":"#N/A"},{"$f":"RTD(\"cqg.rtd\",,\"StudyData\", \"Close(\"&$D$12&\") when LocalYear(\"&$D$12&\")=\"&$D$2&\" and localMonth(\"&$D$12&\") =\"&$E$2&\" and LocalDay(\"&$D$12&\")=\"&$F$2&\" and Barix(\"&$D$12&\",reference:=StartOfSession)=\"&A69&\"\", \"Bar\", \"\", \"Close\",\"5\",\"0\",\"PrimaryOnly\",,,\"False\",\"T\",\"EveryTick\")","v":119.609375},1.4390371533228676E-3,{"$f":"RTD(\"cqg.rtd\",,\"StudyData\", \"Close(\"&$D$12&\") when LocalYear(\"&$D$12&\")=\"&$D$3&\" and localMonth(\"&$D$12&\") =\"&$E$3&\" and LocalDay(\"&$D$12&\")=\"&$F$3&\" and Barix(\"&$D$12&\",reference:=StartOfSession)=\"&A69&\"\", \"Bar\", \"\", \"Close\",\"5\",\"0\",\"PrimaryOnly\",,,\"False\",\"T\",\"EveryTick\")","v":119.40625},1.8353434714210803E-3,{"$f":"RTD(\"cqg.rtd\",,\"StudyData\", \"Close(\"&$D$12&\") when LocalYear(\"&$D$12&\")=\"&$D$4&\" and localMonth(\"&$D$12&\") =\"&$E$4&\" and LocalDay(\"&$D$12&\")=\"&$F$4&\" and Barix(\"&$D$12&\",reference:=StartOfSession)=\"&A69&\"\", \"Bar\", \"\", \"Close\",\"5\",\"0\",\"PrimaryOnly\",,,\"False\",\"T\",\"EveryTick\")","v":119.125},-2.3554043444124575E-3,{"$f":"RTD(\"cqg.rtd\",,\"StudyData\", \"Close(\"&$D$12&\") when LocalYear(\"&$D$12&\")=\"&$D$5&\" and localMonth(\"&$D$12&\") =\"&$E$5&\" and LocalDay(\"&$D$12&\")=\"&$F$5&\" and Barix(\"&$D$12&\",reference:=StartOfSession)=\"&A69&\"\", \"Bar\", \"\", \"Close\",\"5\",\"0\",\"PrimaryOnly\",,,\"False\",\"T\",\"EveryTick\")","v":119.40625},-2.6164311878597594E-4,{"$f":"RTD(\"cqg.rtd\",,\"StudyData\", \"Close(\"&$D$12&\") when LocalYear(\"&$D$12&\")=\"&$D$6&\" and localMonth(\"&$D$12&\") =\"&$E$6&\" and LocalDay(\"&$D$12&\")=\"&$F$6&\" and Barix(\"&$D$12&\",reference:=StartOfSession)=\"&A69&\"\", \"Bar\", \"\", \"Close\",\"5\",\"0\",\"PrimaryOnly\",,,\"False\",\"T\",\"EveryTick\")","v":119.421875},-1.4371570420695062E-3,{"$f":"RTD(\"cqg.rtd\",,\"StudyData\", \"Close(\"&$D$12&\") when LocalYear(\"&$D$12&\")=\"&$D$7&\" and localMonth(\"&$D$12&\") =\"&$E$7&\" and LocalDay(\"&$D$12&\")=\"&$F$7&\" and Barix(\"&$D$12&\",reference:=StartOfSession)=\"&A69&\"\", \"Bar\", \"\", \"Close\",\"5\",\"0\",\"PrimaryOnly\",,,\"False\",\"T\",\"EveryTick\")","v":119.640625},3.9195192056441075E-4,{"$f":"RTD(\"cqg.rtd\",,\"StudyData\", \"Close(\"&$D$12&\") when LocalYear(\"&$D$12&\")=\"&$D$8&\" and localMonth(\"&$D$12&\") =\"&$E$8&\" and LocalDay(\"&$D$12&\")=\"&$F$8&\" and Barix(\"&$D$12&\",reference:=StartOfSession)=\"&A69&\"\", \"Bar\", \"\", \"Close\",\"5\",\"0\",\"PrimaryOnly\",,,\"False\",\"T\",\"EveryTick\")","v":119.59375},2.6198585276395073E-3,{"$f":"RTD(\"cqg.rtd\",,\"StudyData\", \"Close(\"&$D$12&\") when LocalYear(\"&$D$12&\")=\"&$D$9&\" and localMonth(\"&$D$12&\") =\"&$E$9&\" and LocalDay(\"&$D$12&\")=\"&$F$9&\" and Barix(\"&$D$12&\",reference:=StartOfSession)=\"&A69&\"\", \"Bar\", \"\", \"Close\",\"5\",\"0\",\"PrimaryOnly\",,,\"False\",\"T\",\"EveryTick\")","v":119.28125},-3.5243440804072577E-3,{"$f":"RTD(\"cqg.rtd\",,\"StudyData\", \"Close(\"&$D$12&\") when LocalYear(\"&$D$12&\")=\"&$D$10&\" and localMonth(\"&$D$12&\") =\"&$E$10&\" and LocalDay(\"&$D$12&\")=\"&$F$10&\" and Barix(\"&$D$12&\",reference:=StartOfSession)=\"&A69&\"\", \"Bar\", \"\", \"Close\",\"5\",\"0\",\"PrimaryOnly\",,,\"False\",\"T\",\"EveryTick\")","v":119.734375},1.961297071129707E-3,null,null,null,""]
[249,"13:45:00",-8,{"$f":" RTD(\"cqg.rtd\",,\"StudyData\", $D$12,  \"Tick\", \"FlatTicks=0\", \"Tick\",\"D\",C70,\"PrimaryOnly\")","v":119.671875},null,null,null,{"$f":"RTD(\"cqg.rtd\",,\"StudyData\", \"Close(\"&$D$12&\") when LocalYear(\"&$D$12&\")=\"&$D$1&\" and localMonth(\"&$D$12&\") =\"&$E$1&\" and LocalDay(\"&$D$12&\")=\"&$F$1&\" and Barix(\"&$D$12&\",reference:=StartOfSession)=\"&A70&\"\", \"Bar\", \"\", \"Close\",\"5\",\"0\",\"PrimaryOnly\",,,\"False\",\"T\",\"EveryTick\")","v":""},{"$error":"#N/A"},{"$f":"RTD(\"cqg.rtd\",,\"StudyData\", \"Close(\"&$D$12&\") when LocalYear(\"&$D$12&\")=\"&$D$2&\" and localMonth(\"&$D$12&\") =\"&$E$2&\" and LocalDay(\"&$D$12&\")=\"&$F$2&\" and Barix(\"&$D$12&\",reference:=StartOfSession)=\"&A70&\"\", \"Bar\", \"\", \"Close\",\"5\",\"0\",\"PrimaryOnly\",,,\"False\",\"T\",\"EveryTick\")","v":119.59375},1.3082155939298796E-3,{"$f":"RTD(\"cqg.rtd\",,\"StudyData\", \"Close(\"&$D$12&\") when LocalYear(\"&$D$12&\")=\"&$D$3&\" and localMonth(\"&$D$12&\") =\"&$E$3&\" and LocalDay(\"&$D$12&\")=\"&$F$3&\" and Barix(\"&$D$12&\",reference:=StartOfSession)=\"&A70&\"\", \"Bar\", \"\", \"Close\",\"5\",\"0\",\"PrimaryOnly\",,,\"False\",\"T\",\"EveryTick\")","v":119.421875},1.9664394336654429E-3,{"$f":"RTD(\"cqg.rtd\",,\"StudyData\", \"Close(\"&$D$12&\") when LocalYear(\"&$D$12&\")=\"&$D$4&\" and localMonth(\"&$D$12&\") =\"&$E$4&\" and LocalDay(\"&$D$12&\")=\"&$F$4&\" and Barix(\"&$D$12&\",reference:=StartOfSession)=\"&A70&\"\", \"Bar\", \"\", \"Close\",\"5\",\"0\",\"PrimaryOnly\",,,\"False\",\"T\",\"EveryTick\")","v":119.09375},-2.6171159382360636E-3,{"$f":"RTD(\"cqg.rtd\",,\"StudyData\", \"Close(\"&$D$12&\") when LocalYear(\"&$D$12&\")=\"&$D$5&\" and localMonth(\"&$D$12&\") =\"&$E$5&\" and LocalDay(\"&$D$12&\")=\"&$F$5&\" and Barix(\"&$D$12&\",reference:=StartOfSession)=\"&A70&\"\", \"Bar\", \"\", \"Close\",\"5\",\"0\",\"PrimaryOnly\",,,\"False\",\"T\",\"EveryTick\")","v":119.375},-5.2328623757195189E-4,{"$f":"RTD(\"cqg.rtd\",,\"StudyData\", \"Close(\"&$D$12&\") when LocalYear(\"&$D$12&\")=\"&$D$6&\" and localMonth(\"&$D$12&\") =\"&$E$6&\" and LocalDay(\"&$D$12&\")=\"&$F$6&\" and Barix(\"&$D$12&\",reference:=StartOfSession)=\"&A70&\"\", \"Bar\", \"\", \"Close\",\"5\",\"0\",\"PrimaryOnly\",,,\"False\",\"T\",\"EveryTick\")","v":119.40625},-1.567807682257643E-3,{"$f":"RTD(\"cqg.rtd\",,\"StudyData\", \"Close(\"&$D$12&\") when LocalYear(\"&$D$12&\")=\"&$D$7&\" and localMonth(\"&$D$12&\") =\"&$E$7&\" and LocalDay(\"&$D$12&\")=\"&$F$7&\" and Barix(\"&$D$12&\",reference:=StartOfSession)=\"&A70&\"\", \"Bar\", \"\", \"Close\",\"5\",\"0\",\"PrimaryOnly\",,,\"False\",\"T\",\"EveryTick\")","v":119.625},2.6130128037627382E-4,{"$f":"RTD(\"cqg.rtd\",,\"StudyData\", \"Close(\"&$D$12&\") when LocalYear(\"&$D$12&\")=\"&$D$8&\" and localMonth(\"&$D$12&\") =\"&$E$8&\" and LocalDay(\"&$D$12&\")=\"&$F$8&\" and Barix(\"&$D$12&\",reference:=StartOfSession)=\"&A70&\"\", \"Bar\", \"\", \"Close\",\"5\",\"0\",\"PrimaryOnly\",,,\"False\",\"T\",\"EveryTick\")","v":119.546875},2.2268797484935815E-3,{"$f":"RTD(\"cqg.rtd\",,\"StudyData\", \"Close(\"&$D$12&\") when LocalYear(\"&$D$12&\")=\"&$D$9&\" and localMonth(\"&$D$12&\") =\"&$E$9&\" and LocalDay(\"&$D$12&\")=\"&$F$9&\" and Barix(\"&$D$12&\",reference:=StartOfSession)=\"&A70&\"\", \"Bar\", \"\", \"Close\",\"5\",\"0\",\"PrimaryOnly\",,,\"False\",\"T\",\"EveryTick\")","v":119.296875},-3.3938128181699519E-3,{"$f":"RTD(\"cqg.rtd\",,\"StudyData\", \"Close(\"&$D$12&\") when LocalYear(\"&$D$12&\")=\"&$D$10&\" and localMonth(\"&$D$12&\") =\"&$E$10&\" and LocalDay(\"&$D$12&\")=\"&$F$10&\" and Barix(\"&$D$12&\",reference:=StartOfSession)=\"&A70&\"\", \"Bar\", \"\", \"Close\",\"5\",\"0\",\"PrimaryOnly\",,,\"False\",\"T\",\"EveryTick\")","v":119.734375},1.961297071129707E-3,null,null,null,""]
[250,"13:50:00",-7,{"$f":" RTD(\"cqg.rtd\",,\"StudyData\", $D$12,  \"Tick\", \"FlatTicks=0\", \"Tick\",\"D\",C71,\"PrimaryOnly\")","v":119.6875},null,null,null,{"$f":"RTD(\"cqg.rtd\",,\"StudyData\", \"Close(\"&$D$12&\") when LocalYear(\"&$D$12&\")=\"&$D$1&\" and localMonth(\"&$D$12&\") =\"&$E$1&\" and LocalDay(\"&$D$12&\")=\"&$F$1&\" and Barix(\"&$D$12&\",reference:=StartOfSession)=\"&A71&\"\", \"Bar\", \"\", \"Close\",\"5\",\"0\",\"PrimaryOnly\",,,\"False\",\"T\",\"EveryTick\")","v":""},{"$error":"#N/A"},{"$f":"RTD(\"cqg.rtd\",,\"StudyData\", \"Close(\"&$D$12&\") when LocalYear(\"&$D$12&\")=\"&$D$2&\" and localMonth(\"&$D$12&\") =\"&$E$2&\" and LocalDay(\"&$D$12&\")=\"&$F$2&\" and Barix(\"&$D$12&\",reference:=StartOfSession)=\"&A71&\"\", \"Bar\", \"\", \"Close\",\"5\",\"0\",\"PrimaryOnly\",,,\"False\",\"T\",\"EveryTick\")","v":119.578125},1.1773940345368916E-3,{"$f":"RTD(\"cqg.rtd\",,\"StudyData\", \"Close(\"&$D$12&\") when LocalYear(\"&$D$12&\")=\"&$D$3&\" and localMonth(\"&$D$12&\") =\"&$E$3&\" and LocalDay(\"&$D$12&\")=\"&$F$3&\" and Barix(\"&$D$12&\",reference:=StartOfSession)=\"&A71&\"\", \"Bar\", \"\", \"Close\",\"5\",\"0\",\"PrimaryOnly\",,,\"False\",\"T\",\"EveryTick\")","v":119.40625},1.8353434714210803E-3,{"$f":"RTD(\"cqg.rtd\",,\"StudyData\", \"Close(\"&$D$12&\") when LocalYear(\"&$D$12&\")=\"&$D$4&\" and localMonth(\"&$D$12&\") =\"&$E$4&\" and LocalDay(\"&$D$12&\")=\"&$F$4&\" and Barix(\"&$D$12&\",reference:=StartOfSession)=\"&A71&\"\", \"Bar\", \"\", \"Close\",\"5\",\"0\",\"PrimaryOnly\",,,\"False\",\"T\",\"EveryTick\")","v":119.125},-2.3554043444124575E-3,{"$f":"RTD(\"cqg.rtd\",,\"StudyData\", \"Close(\"&$D$12&\") when LocalYear(\"&$D$12&\")=\"&$D$5&\" and localMonth(\"&$D$12&\") =\"&$E$5&\" and LocalDay(\"&$D$12&\")=\"&$F$5&\" and Barix(\"&$D$12&\",reference:=StartOfSession)=\"&A71&\"\", \"Bar\", \"\", \"Close\",\"5\",\"0\",\"PrimaryOnly\",,,\"False\",\"T\",\"EveryTick\")","v":119.390625},-3.9246467817896392E-4,{"$f":"RTD(\"cqg.rtd\",,\"StudyData\", \"Close(\"&$D$12&\") when LocalYear(\"&$D$12&\")=\"&$D$6&\" and localMonth(\"&$D$12&\") =\"&$E$6&\" and LocalDay(\"&$D$12&\")=\"&$F$6&\" and Barix(\"&$D$12&\",reference:=StartOfSession)=\"&A71&\"\", \"Bar\", \"\", \"Close\",\"5\",\"0\",\"PrimaryOnly\",,,\"False\",\"T\",\"EveryTick\")","v":119.40625},-1.567807682257643E-3,{"$f":"RTD(\"cqg.rtd\",,\"StudyData\", \"Close(\"&$D$12&\") when LocalYear(\"&$D$12&\")=\"&$D$7&\" and localMonth(\"&$D$12&\") =\"&$E$7&\" and LocalDay(\"&$D$12&\")=\"&$F$7&\" and Barix(\"&$D$12&\",reference:=StartOfSession)=\"&A71&\"\", \"Bar\", \"\", \"Close\",\"5\",\"0\",\"PrimaryOnly\",,,\"False\",\"T\",\"EveryTick\")","v":119.59375},0,{"$f":"RTD(\"cqg.rtd\",,\"StudyData\", \"Close(\"&$D$12&\") when LocalYear(\"&$D$12&\")=\"&$D$8&\" and localMonth(\"&$D$12&\") =\"&$E$8&\" and LocalDay(\"&$D$12&\")=\"&$F$8&\" and Barix(\"&$D$12&\",reference:=StartOfSession)=\"&A71&\"\", \"Bar\", \"\", \"Close\",\"5\",\"0\",\"PrimaryOnly\",,,\"False\",\"T\",\"EveryTick\")","v":119.546875},2.2268797484935815E-3,{"$f":"RTD(\"cqg.rtd\",,\"StudyData\", \"Close(\"&$D$12&\") when LocalYear(\"&$D$12&\")=\"&$D$9&\" and localMonth(\"&$D$12&\") =\"&$E$9&\" and LocalDay(\"&$D$12&\")=\"&$F$9&\" and Barix(\"&$D$12&\",reference:=StartOfSession)=\"&A71&\"\", \"Bar\", \"\", \"Close\",\"5\",\"0\",\"PrimaryOnly\",,,\"False\",\"T\",\"EveryTick\")","v":119.296875},-3.3938128181699519E-3,{"$f":"RTD(\"cqg.rtd\",,\"StudyData\", \"Close(\"&$D$12&\") when LocalYear(\"&$D$12&\")=\"&$D$10&\" and localMonth(\"&$D$12&\") =\"&$E$10&\" and LocalDay(\"&$D$12&\")=\"&$F$10&\" and Barix(\"&$D$12&\",reference:=StartOfSession)=\"&A71&\"\", \"Bar\", \"\", \"Close\",\"5\",\"0\",\"PrimaryOnly\",,,\"False\",\"T\",\"EveryTick\")","v":119.734375},1.961297071129707E-3,null,null,null,""]
[251,"13:55:00",-6,{"$f":" RTD(\"cqg.rtd\",,\"StudyData\", $D$12,  \"Tick\", \"FlatTicks=0\", \"Tick\",\"D\",C72,\"PrimaryOnly\")","v":119.671875},null,null,null,{"$f":"RTD(\"cqg.rtd\",,\"StudyData\", \"Close(\"&$D$12&\") when LocalYear(\"&$D$12&\")=\"&$D$1&\" and localMonth(\"&$D$12&\") =\"&$E$1&\" and LocalDay(\"&$D$12&\")=\"&$F$1&\" and Barix(\"&$D$12&\",reference:=StartOfSession)=\"&A72&\"\", \"Bar\", \"\", \"Close\",\"5\",\"0\",\"PrimaryOnly\",,,\"False\",\"T\",\"EveryTick\")","v":""},{"$error":"#N/A"},{"$f":"RTD(\"cqg.rtd\",,\"StudyData\", \"Close(\"&$D$12&\") when LocalYear(\"&$D$12&\")=\"&$D$2&\" and localMonth(\"&$D$12&\") =\"&$E$2&\" and LocalDay(\"&$D$12&\")=\"&$F$2&\" and Barix(\"&$D$12&\",reference:=StartOfSession)=\"&A72&\"\", \"Bar\", \"\", \"Close\",\"5\",\"0\",\"PrimaryOnly\",,,\"False\",\"T\",\"EveryTick\")","v":119.59375},1.3082155939298796E-3,{"$f":"RTD(\"cqg.rtd\",,\"StudyData\", \"Close(\"&$D$12&\") when LocalYear(\"&$D$12&\")=\"&$D$3&\" and localMonth(\"&$D$12&\") =\"&$E$3&\" and LocalDay(\"&$D$12&\")=\"&$F$3&\" and Barix(\"&$D$12&\",reference:=StartOfSession)=\"&A72&\"\", \"Bar\", \"\", \"Close\",\"5\",\"0\",\"PrimaryOnly\",,,\"False\",\"T\",\"EveryTick\")","v":119.4375},2.097535395909806E-3,{"$f":"RTD(\"cqg.rtd\",,\"StudyData\", \"Close(\"&$D$12&\") when LocalYear(\"&$D$12&\")=\"&$D$4&\" and localMonth(\"&$D$12&\") =\"&$E$4&\" and LocalDay(\"&$D$12&\")=\"&$F$4&\" and Barix(\"&$D$12&\",reference:=StartOfSession)=\"&A72&\"\", \"Bar\", \"\", \"Close\",\"5\",\"0\",\"PrimaryOnly\",,,\"False\",\"T\",\"EveryTick\")","v":119.1875},-1.8319811567652448E-3,{"$f":"RTD(\"cqg.rtd\",,\"StudyData\", \"Close(\"&$D$12&\") when LocalYear(\"&$D$12&\")=\"&$D$5&\" and localMonth(\"&$D$12&\") =\"&$E$5&\" and LocalDay(\"&$D$12&\")=\"&$F$5&\" and Barix(\"&$D$12&\",reference:=StartOfSession)=\"&A72&\"\", \"Bar\", \"\", \"Close\",\"5\",\"0\",\"PrimaryOnly\",,,\"False\",\"T\",\"EveryTick\")","v":119.40625},-2.6164311878597594E-4,{"$f":"RTD(\"cqg.rtd\",,\"StudyData\", \"Close(\"&$D$12&\") when LocalYear(\"&$D$12&\")=\"&$D$6&\" and localMonth(\"&$D$12&\") =\"&$E$6&\" and LocalDay(\"&$D$12&\")=\"&$F$6&\" and Barix(\"&$D$12&\",reference:=StartOfSession)=\"&A72&\"\", \"Bar\", \"\", \"Close\",\"5\",\"0\",\"PrimaryOnly\",,,\"False\",\"T\",\"EveryTick\")","v":119.4375},-1.3065064018813691E-3,{"$f":"RTD(\"cqg.rtd\",,\"StudyData\", \"Close(\"&$D$12&\") when LocalYear(\"&$D$12&\")=\"&$D$7&\" and localMonth(\"&$D$12&\") =\"&$E$7&\" and LocalDay(\"&$D$12&\")=\"&$F$7&\" and Barix(\"&$D$12&\",reference:=StartOfSession)=\"&A72&\"\", \"Bar\", \"\", \"Close\",\"5\",\"0\",\"PrimaryOnly\",,,\"False\",\"T\",\"EveryTick\")","v":119.59375},0,{"$f":"RTD(\"cqg.rtd\",,\"StudyData\", \"Close(\"&$D$12&\") when LocalYear(\"&$D$12&\")=\"&$D$8&\" and localMonth(\"&$D$12&\") =\"&$E$8&\" and LocalDay(\"&$D$12&\")=\"&$F$8&\" and Barix(\"&$D$12&\",reference:=StartOfSession)=\"&A72&\"\", \"Bar\", \"\", \"Close\",\"5\",\"0\",\"PrimaryOnly\",,,\"False\",\"T\",\"EveryTick\")","v":119.59375},2.6198585276395073E-3,{"$f":"RTD(\"cqg.rtd\",,\"StudyData\", \"Close(\"&$D$12&\") when LocalYear(\"&$D$12&\")=\"&$D$9&\" and localMonth(\"&$D$12&\") =\"&$E$9&\" and LocalDay(\"&$D$12&\")=\"&$F$9&\" and Barix(\"&$D$12&\",reference:=StartOfSession)=\"&A72&\"\", \"Bar\", \"\", \"Close\",\"5\",\"0\",\"PrimaryOnly\",,,\"False\",\"T\",\"EveryTick\")","v":119.28125},-3.5243440804072577E-3,{"$f":"RTD(\"cqg.rtd\",,\"StudyData\", \"Close(\"&$D$12&\") when LocalYear(\"&$D$12&\")=\"&$D$10&\" and localMonth(\"&$D$12&\") =\"&$E$10&\" and LocalDay(\"&$D$12&\")=\"&$F$10&\" and Barix(\"&$D$12&\",reference:=StartOfSession)=\"&A72&\"\", \"Bar\", \"\", \"Close\",\"5\",\"0\",\"PrimaryOnly\",,,\"False\",\"T\",\"EveryTick\")","v":119.703125},{"$f":"IFERROR((Z72-$G$11)/$G$11,NA())","v":1.6997907949790796E-3},null,null,null,""]
[252,"14:30:00",-5,{"$f":" RTD(\"cqg.rtd\",,\"StudyData\", $D$12,  \"Tick\", \"FlatTicks=0\", \"Tick\",\"D\",C73,\"PrimaryOnly\")","v":119.6875},null,null,null,{"$f":"RTD(\"cqg.rtd\",,\"StudyData\", \"Close(\"&$D$12&\") when LocalYear(\"&$D$12&\")=\"&$D$1&\" and localMonth(\"&$D$12&\") =\"&$E$1&\" and LocalDay(\"&$D$12&\")=\"&$F$1&\" and Barix(\"&$D$12&\",reference:=StartOfSession)=\"&A73&\"\", \"Bar\", \"\", \"Close\",\"5\",\"0\",\"PrimaryOnly\",,,\"False\",\"T\",\"EveryTick\")","v":""},{"$error":"#N/A"},{"$f":"RTD(\"cqg.rtd\",,\"StudyData\", \"Close(\"&$D$12&\") when LocalYear(\"&$D$12&\")=\"&$D$2&\" and localMonth(\"&$D$12&\") =\"&$E$2&\" and LocalDay(\"&$D$12&\")=\"&$F$2&\" and Barix(\"&$D$12&\",reference:=StartOfSession)=\"&A73&\"\", \"Bar\", \"\", \"Close\",\"5\",\"0\",\"PrimaryOnly\",,,\"False\",\"T\",\"EveryTick\")","v":""},{"$error":"#N/A"},{"$f":"RTD(\"cqg.rtd\",,\"StudyData\", \"Close(\"&$D$12&\") when LocalYear(\"&$D$12&\")=\"&$D$3&\" and localMonth(\"&$D$12&\") =\"&$E$3&\" and LocalDay(\"&$D$12&\")=\"&$F$3&\" and Barix(\"&$D$12&\",reference:=StartOfSession)=\"&A73&\"\", \"Bar\", \"\", \"Close\",\"5\",\"0\",\"PrimaryOnly\",,,\"False\",\"T\",\"EveryTick\")","v":""},{"$error":"#N/A"},{"$f":"RTD(\"cqg.rtd\",,\"StudyData\", \"Close(\"&$D$12&\") when LocalYear(\"&$D$12&\")=\"&$D$4&\" and localMonth(\"&$D$12&\") =\"&$E$4&\" and LocalDay(\"&$D$12&\")=\"&$F$4&\" and Barix(\"&$D$12&\",reference:=StartOfSession)=\"&A73&\"\", \"Bar\", \"\", \"Close\",\"5\",\"0\",\"PrimaryOnly\",,,\"False\",\"T\",\"EveryTick\")","v":""},{"$error":"#N/A"},{"$f":"RTD(\"cqg.rtd\",,\"StudyData\", \"Close(\"&$D$12&\") when LocalYear(\"&$D$12&\")=\"&$D$5&\" and localMonth(\"&$D$12&\") =\"&$E$5&\" and LocalDay(\"&$D$12&\")=\"&$F$5&\" and Barix(\"&$D$12&\",reference:=StartOfSession)=\"&A73&\"\", \"Bar\", \"\", \"Close\",\"5\",\"0\",\"PrimaryOnly\",,,\"False\",\"T\",\"EveryTick\")","v":""},{"$error":"#N/A"},{"$f":"RTD(\"cqg.rtd\",,\"StudyData\", \"Close(\"&$D$12&\") when LocalYear(\"&$D$12&\")=\"&$D$6&\" and localMonth(\"&$D$12&\") =\"&$E$6&\" and LocalDay(\"&$D$12&\")=\"&$F$6&\" and Barix(\"&$D$12&\",reference:=StartOfSession)=\"&A73&\"\", \"Bar\", \"\", \"Close\",\"5\",\"0\",\"PrimaryOnly\",,,\"False\",\"T\",\"EveryTick\")","v":""},{"$error":"#N/A"},{"$f":"RTD(\"cqg.rtd\",,\"StudyData\", \"Close(\"&$D$12&\") when LocalYear(\"&$D$12&\")=\"&$D$7&\" and localMonth(\"&$D$12&\") =\"&$E$7&\" and LocalDay(\"&$D$12&\")=\"&$F$7&\" and Barix(\"&$D$12&\",reference:=StartOfSession)=\"&A73&\"\", \"Bar\", \"\", \"Close\",\"5\",\"0\",\"PrimaryOnly\",,,\"False\",\"T\",\"EveryTick\")","v":""},{"$error":"#N/A"},{"$f":"RTD(\"cqg.rtd\",,\"StudyData\", \"Close(\"&$D$12&\") when LocalYear(\"&$D$12&\")=\"&$D$8&\" and localMonth(\"&$D$12&\") =\"&$E$8&\" and LocalDay(\"&$D$12&\")=\"&$F$8&\" and Barix(\"&$D$12&\",reference:=StartOfSession)=\"&A73&\"\", \"Bar\", \"\", \"Close\",\"5\",\"0\",\"PrimaryOnly\",,,\"False\",\"T\",\"EveryTick\")","v":""},{"$error":"#N/A"},{"$f":"RTD(\"cqg.rtd\",,\"StudyData\", \"Close(\"&$D$12&\") when LocalYear(\"&$D$12&\")=\"&$D$9&\" and localMonth(\"&$D$12&\") =\"&$E$9&\" and LocalDay(\"&$D$12&\")=\"&$F$9&\" and Barix(\"&$D$12&\",reference:=StartOfSession)=\"&A73&\"\", \"Bar\", \"\", \"Close\",\"5\",\"0\",\"PrimaryOnly\",,,\"False\",\"T\",\"EveryTick\")","v":""},{"$error":"#N/A"},{"$f":"RTD(\"cqg.rtd\",,\"StudyData\", \"Close(\"&$D$12&\") when LocalYear(\"&$D$12&\")=\"&$D$10&\" and localMonth(\"&$D$12&\") =\"&$E$10&\" and LocalDay(\"&$D$12&\")=\"&$F$10&\" and Barix(\"&$D$12&\",reference:=StartOfSession)=\"&A73&\"\", \"Bar\", \"\", \"Close\",\"5\",\"0\",\"PrimaryOnly\",,,\"False\",\"T\",\"EveryTick\")","v":""},{"$error":"#N/A"},null,null,null,""]
[253,"14:35:00",-4,{"$f":" RTD(\"cqg.rtd\",,\"StudyData\", $D$12,  \"Tick\", \"FlatTicks=0\", \"Tick\",\"D\",C74,\"PrimaryOnly\")","v":119.703125},null,null,null,{"$f":"RTD(\"cqg.rtd\",,\"StudyData\", \"Close(\"&$D$12&\") when LocalYear(\"&$D$12&\")=\"&$D$1&\" and localMonth(\"&$D$12&\") =\"&$E$1&\" and LocalDay(\"&$D$12&\")=\"&$F$1&\" and Barix(\"&$D$12&\",reference:=StartOfSession)=\"&A74&\"\", \"Bar\", \"\", \"Close\",\"5\",\"0\",\"PrimaryOnly\",,,\"False\",\"T\",\"EveryTick\")","v":""},{"$error":"#N/A"},{"$f":"RTD(\"cqg.rtd\",,\"StudyData\", \"Close(\"&$D$12&\") when LocalYear(\"&$D$12&\")=\"&$D$2&\" and localMonth(\"&$D$12&\") =\"&$E$2&\" and LocalDay(\"&$D$12&\")=\"&$F$2&\" and Barix(\"&$D$12&\",reference:=StartOfSession)=\"&A74&\"\", \"Bar\", \"\", \"Close\",\"5\",\"0\",\"PrimaryOnly\",,,\"False\",\"T\",\"EveryTick\")","v":""},{"$error":"#N/A"},{"$f":"RTD(\"cqg.rtd\",,\"StudyData\", \"Close(\"&$D$12&\") when LocalYear(\"&$D$12&\")=\"&$D$3&\" and localMonth(\"&$D$12&\") =\"&$E$3&\" and LocalDay(\"&$D$12&\")=\"&$F$3&\" and Barix(\"&$D$12&\",reference:=StartOfSession)=\"&A74&\"\", \"Bar\", \"\", \"Close\",\"5\",\"0\",\"PrimaryOnly\",,,\"False\",\"T\",\"EveryTick\")","v":""},{"$error":"#N/A"},{"$f":"RTD(\"cqg.rtd\",,\"StudyData\", \"Close(\"&$D$12&\") when LocalYear(\"&$D$12&\")=\"&$D$4&\" and localMonth(\"&$D$12&\") =\"&$E$4&\" and LocalDay(\"&$D$12&\")=\"&$F$4&\" and Barix(\"&$D$12&\",reference:=StartOfSession)=\"&A74&\"\", \"Bar\", \"\", \"Close\",\"5\",\"0\",\"PrimaryOnly\",,,\"False\",\"T\",\"EveryTick\")","v":""},{"$error":"#N/A"},{"$f":"RTD(\"cqg.rtd\",,\"StudyData\", \"Close(\"&$D$12&\") when LocalYear(\"&$D$12&\")=\"&$D$5&\" and localMonth(\"&$D$12&\") =\"&$E$5&\" and LocalDay(\"&$D$12&\")=\"&$F$5&\" and Barix(\"&$D$12&\",reference:=StartOfSession)=\"&A74&\"\", \"Bar\", \"\", \"Close\",\"5\",\"0\",\"PrimaryOnly\",,,\"False\",\"T\",\"EveryTick\")","v":""},{"$error":"#N/A"},{"$f":"RTD(\"cqg.rtd\",,\"StudyData\", \"Close(\"&$D$12&\") when LocalYear(\"&$D$12&\")=\"&$D$6&\" and localMonth(\"&$D$12&\") =\"&$E$6&\" and LocalDay(\"&$D$12&\")=\"&$F$6&\" and Barix(\"&$D$12&\",reference:=StartOfSession)=\"&A74&\"\", \"Bar\", \"\", \"Close\",\"5\",\"0\",\"PrimaryOnly\",,,\"False\",\"T\",\"EveryTick\")","v":""},{"$error":"#N/A"},{"$f":"RTD(\"cqg.rtd\",,\"StudyData\", \"Close(\"&$D$12&\") when LocalYear(\"&$D$12&\")=\"&$D$7&\" and localMonth(\"&$D$12&\") =\"&$E$7&\" and LocalDay(\"&$D$12&\")=\"&$F$7&\" and Barix(\"&$D$12&\",reference:=StartOfSession)=\"&A74&\"\", \"Bar\", \"\", \"Close\",\"5\",\"0\",\"PrimaryOnly\",,,\"False\",\"T\",\"EveryTick\")","v":""},{"$error":"#N/A"},{"$f":"RTD(\"cqg.rtd\",,\"StudyData\", \"Close(\"&$D$12&\") when LocalYear(\"&$D$12&\")=\"&$D$8&\" and localMonth(\"&$D$12&\") =\"&$E$8&\" and LocalDay(\"&$D$12&\")=\"&$F$8&\" and Barix(\"&$D$12&\",reference:=StartOfSession)=\"&A74&\"\", \"Bar\", \"\", \"Close\",\"5\",\"0\",\"PrimaryOnly\",,,\"False\",\"T\",\"EveryTick\")","v":""},{"$error":"#N/A"},{"$f":"RTD(\"cqg.rtd\",,\"StudyData\", \"Close(\"&$D$12&\") when LocalYear(\"&$D$12&\")=\"&$D$9&\" and localMonth(\"&$D$12&\") =\"&$E$9&\" and LocalDay(\"&$D$12&\")=\"&$F$9&\" and Barix(\"&$D$12&\",reference:=StartOfSession)=\"&A74&\"\", \"Bar\", \"\", \"Close\",\"5\",\"0\",\"PrimaryOnly\",,,\"False\",\"T\",\"EveryTick\")","v":""},{"$error":"#N/A"},{"$f":"RTD(\"cqg.rtd\",,\"StudyData\", \"Close(\"&$D$12&\") when LocalYear(\"&$D$12&\")=\"&$D$10&\" and localMonth(\"&$D$12&\") =\"&$E$10&\" and LocalDay(\"&$D$12&\")=\"&$F$10&\" and Barix(\"&$D$12&\",reference:=StartOfSession)=\"&A74&\"\", \"Bar\", \"\", \"Close\",\"5\",\"0\",\"PrimaryOnly\",,,\"False\",\"T\",\"EveryTick\")","v":""},{"$error":"#N/A"},null,null,null,""]
[254,"14:40:00",-3,{"$f":" RTD(\"cqg.rtd\",,\"StudyData\", $D$12,  \"Tick\", \"FlatTicks=0\", \"Tick\",\"D\",C75,\"PrimaryOnly\")","v":119.6875},null,null,null,{"$f":"RTD(\"cqg.rtd\",,\"StudyData\", \"Close(\"&$D$12&\") when LocalYear(\"&$D$12&\")=\"&$D$1&\" and localMonth(\"&$D$12&\") =\"&$E$1&\" and LocalDay(\"&$D$12&\")=\"&$F$1&\" and Barix(\"&$D$12&\",reference:=StartOfSession)=\"&A75&\"\", \"Bar\", \"\", \"Close\",\"5\",\"0\",\"PrimaryOnly\",,,\"False\",\"T\",\"EveryTick\")","v":""},{"$error":"#N/A"},{"$f":"RTD(\"cqg.rtd\",,\"StudyData\", \"Close(\"&$D$12&\") when LocalYear(\"&$D$12&\")=\"&$D$2&\" and localMonth(\"&$D$12&\") =\"&$E$2&\" and LocalDay(\"&$D$12&\")=\"&$F$2&\" and Barix(\"&$D$12&\",reference:=StartOfSession)=\"&A75&\"\", \"Bar\", \"\", \"Close\",\"5\",\"0\",\"PrimaryOnly\",,,\"False\",\"T\",\"EveryTick\")","v":""},{"$error":"#N/A"},{"$f":"RTD(\"cqg.rtd\",,\"StudyData\", \"Close(\"&$D$12&\") when LocalYear(\"&$D$12&\")=\"&$D$3&\" and localMonth(\"&$D$12&\") =\"&$E$3&\" and LocalDay(\"&$D$12&\")=\"&$F$3&\" and Barix(\"&$D$12&\",reference:=StartOfSession)=\"&A75&\"\", \"Bar\", \"\", \"Close\",\"5\",\"0\",\"PrimaryOnly\",,,\"False\",\"T\",\"EveryTick\")","v":""},{"$error":"#N/A"},{"$f":"RTD(\"cqg.rtd\",,\"StudyData\", \"Close(\"&$D$12&\") when LocalYear(\"&$D$12&\")=\"&$D$4&\" and localMonth(\"&$D$12&\") =\"&$E$4&\" and LocalDay(\"&$D$12&\")=\"&$F$4&\" and Barix(\"&$D$12&\",reference:=StartOfSession)=\"&A75&\"\", \"Bar\", \"\", \"Close\",\"5\",\"0\",\"PrimaryOnly\",,,\"False\",\"T\",\"EveryTick\")","v":""},{"$error":"#N/A"},{"$f":"RTD(\"cqg.rtd\",,\"StudyData\", \"Close(\"&$D$12&\") when LocalYear(\"&$D$12&\")=\"&$D$5&\" and localMonth(\"&$D$12&\") =\"&$E$5&\" and LocalDay(\"&$D$12&\")=\"&$F$5&\" and Barix(\"&$D$12&\",reference:=StartOfSession)=\"&A75&\"\", \"Bar\", \"\", \"Close\",\"5\",\"0\",\"PrimaryOnly\",,,\"False\",\"T\",\"EveryTick\")","v":""},{"$error":"#N/A"},{"$f":"RTD(\"cqg.rtd\",,\"StudyData\", \"Close(\"&$D$12&\") when LocalYear(\"&$D$12&\")=\"&$D$6&\" and localMonth(\"&$D$12&\") =\"&$E$6&\" and LocalDay(\"&$D$12&\")=\"&$F$6&\" and Barix(\"&$D$12&\",reference:=StartOfSession)=\"&A75&\"\", \"Bar\", \"\", \"Close\",\"5\",\"0\",\"PrimaryOnly\",,,\"False\",\"T\",\"EveryTick\")","v":""},{"$error":"#N/A"},{"$f":"RTD(\"cqg.rtd\",,\"StudyData\", \"Close(\"&$D$12&\") when LocalYear(\"&$D$12&\")=\"&$D$7&\" and localMonth(\"&$D$12&\") =\"&$E$7&\" and LocalDay(\"&$D$12&\")=\"&$F$7&\" and Barix(\"&$D$12&\",reference:=StartOfSession)=\"&A75&\"\", \"Bar\", \"\", \"Close\",\"5\",\"0\",\"PrimaryOnly\",,,\"False\",\"T\",\"EveryTick\")","v":""},{"$error":"#N/A"},{"$f":"RTD(\"cqg.rtd\",,\"StudyData\", \"Close(\"&$D$12&\") when LocalYear(\"&$D$12&\")=\"&$D$8&\" and localMonth(\"&$D$12&\") =\"&$E$8&\" and LocalDay(\"&$D$12&\")=\"&$F$8&\" and Barix(\"&$D$12&\",reference:=StartOfSession)=\"&A75&\"\", \"Bar\", \"\", \"Close\",\"5\",\"0\",\"PrimaryOnly\",,,\"False\",\"T\",\"EveryTick\")","v":""},{"$error":"#N/A"},{"$f":"RTD(\"cqg.rtd\",,\"StudyData\", \"Close(\"&$D$12&\") when LocalYear(\"&$D$12&\")=\"&$D$9&\" and localMonth(\"&$D$12&\") =\"&$E$9&\" and LocalDay(\"&$D$12&\")=\"&$F$9&\" and Barix(\"&$D$12&\",reference:=StartOfSession)=\"&A75&\"\", \"Bar\", \"\", \"Close\",\"5\",\"0\",\"PrimaryOnly\",,,\"False\",\"T\",\"EveryTick\")","v":""},{"$error":"#N/A"},{"$f":"RTD(\"cqg.rtd\",,\"StudyData\", \"Close(\"&$D$12&\") when LocalYear(\"&$D$12&\")=\"&$D$10&\" and localMonth(\"&$D$12&\") =\"&$E$10&\" and LocalDay(\"&$D$12&\")=\"&$F$10&\" and Barix(\"&$D$12&\",reference:=StartOfSession)=\"&A75&\"\", \"Bar\", \"\", \"Close\",\"5\",\"0\",\"PrimaryOnly\",,,\"False\",\"T\",\"EveryTick\")","v":""},{"$error":"#N/A"},null,null,null,""]
[255,"14:45:00",-2,{"$f":" RTD(\"cqg.rtd\",,\"StudyData\", $D$12,  \"Tick\", \"FlatTicks=0\", \"Tick\",\"D\",C76,\"PrimaryOnly\")","v":119.703125},null,null,null,{"$f":"RTD(\"cqg.rtd\",,\"StudyData\", \"Close(\"&$D$12&\") when LocalYear(\"&$D$12&\")=\"&$D$1&\" and localMonth(\"&$D$12&\") =\"&$E$1&\" and LocalDay(\"&$D$12&\")=\"&$F$1&\" and Barix(\"&$D$12&\",reference:=StartOfSession)=\"&A76&\"\", \"Bar\", \"\", \"Close\",\"5\",\"0\",\"PrimaryOnly\",,,\"False\",\"T\",\"EveryTick\")","v":""},{"$error":"#N/A"},{"$f":"RTD(\"cqg.rtd\",,\"StudyData\", \"Close(\"&$D$12&\") when LocalYear(\"&$D$12&\")=\"&$D$2&\" and localMonth(\"&$D$12&\") =\"&$E$2&\" and LocalDay(\"&$D$12&\")=\"&$F$2&\" and Barix(\"&$D$12&\",reference:=StartOfSession)=\"&A76&\"\", \"Bar\", \"\", \"Close\",\"5\",\"0\",\"PrimaryOnly\",,,\"False\",\"T\",\"EveryTick\")","v":""},{"$error":"#N/A"},{"$f":"RTD(\"cqg.rtd\",,\"StudyData\", \"Close(\"&$D$12&\") when LocalYear(\"&$D$12&\")=\"&$D$3&\" and localMonth(\"&$D$12&\") =\"&$E$3&\" and LocalDay(\"&$D$12&\")=\"&$F$3&\" and Barix(\"&$D$12&\",reference:=StartOfSession)=\"&A76&\"\", \"Bar\", \"\", \"Close\",\"5\",\"0\",\"PrimaryOnly\",,,\"False\",\"T\",\"EveryTick\")","v":""},{"$error":"#N/A"},{"$f":"RTD(\"cqg.rtd\",,\"StudyData\", \"Close(\"&$D$12&\") when LocalYear(\"&$D$12&\")=\"&$D$4&\" and localMonth(\"&$D$12&\") =\"&$E$4&\" and LocalDay(\"&$D$12&\")=\"&$F$4&\" and Barix(\"&$D$12&\",reference:=StartOfSession)=\"&A76&\"\", \"Bar\", \"\", \"Close\",\"5\",\"0\",\"PrimaryOnly\",,,\"False\",\"T\",\"EveryTick\")","v":""},{"$error":"#N/A"},{"$f":"RTD(\"cqg.rtd\",,\"StudyData\", \"Close(\"&$D$12&\") when LocalYear(\"&$D$12&\")=\"&$D$5&\" and localMonth(\"&$D$12&\") =\"&$E$5&\" and LocalDay(\"&$D$12&\")=\"&$F$5&\" and Barix(\"&$D$12&\",reference:=StartOfSession)=\"&A76&\"\", \"Bar\", \"\", \"Close\",\"5\",\"0\",\"PrimaryOnly\",,,\"False\",\"T\",\"EveryTick\")","v":""},{"$error":"#N/A"},{"$f":"RTD(\"cqg.rtd\",,\"StudyData\", \"Close(\"&$D$12&\") when LocalYear(\"&$D$12&\")=\"&$D$6&\" and localMonth(\"&$D$12&\") =\"&$E$6&\" and LocalDay(\"&$D$12&\")=\"&$F$6&\" and Barix(\"&$D$12&\",reference:=StartOfSession)=\"&A76&\"\", \"Bar\", \"\", \"Close\",\"5\",\"0\",\"PrimaryOnly\",,,\"False\",\"T\",\"EveryTick\")","v":""},{"$error":"#N/A"},{"$f":"RTD(\"cqg.rtd\",,\"StudyData\", \"Close(\"&$D$12&\") when LocalYear(\"&$D$12&\")=\"&$D$7&\" and localMonth(\"&$D$12&\") =\"&$E$7&\" and LocalDay(\"&$D$12&\")=\"&$F$7&\" and Barix(\"&$D$12&\",reference:=StartOfSession)=\"&A76&\"\", \"Bar\", \"\", \"Close\",\"5\",\"0\",\"PrimaryOnly\",,,\"False\",\"T\",\"EveryTick\")","v":""},{"$error":"#N/A"},{"$f":"RTD(\"cqg.rtd\",,\"StudyData\", \"Close(\"&$D$12&\") when LocalYear(\"&$D$12&\")=\"&$D$8&\" and localMonth(\"&$D$12&\") =\"&$E$8&\" and LocalDay(\"&$D$12&\")=\"&$F$8&\" and Barix(\"&$D$12&\",reference:=StartOfSession)=\"&A76&\"\", \"Bar\", \"\", \"Close\",\"5\",\"0\",\"PrimaryOnly\",,,\"False\",\"T\",\"EveryTick\")","v":""},{"$error":"#N/A"},{"$f":"RTD(\"cqg.rtd\",,\"StudyData\", \"Close(\"&$D$12&\") when LocalYear(\"&$D$12&\")=\"&$D$9&\" and localMonth(\"&$D$12&\") =\"&$E$9&\" and LocalDay(\"&$D$12&\")=\"&$F$9&\" and Barix(\"&$D$12&\",reference:=StartOfSession)=\"&A76&\"\", \"Bar\", \"\", \"Close\",\"5\",\"0\",\"PrimaryOnly\",,,\"False\",\"T\",\"EveryTick\")","v":""},{"$error":"#N/A"},{"$f":"RTD(\"cqg.rtd\",,\"StudyData\", \"Close(\"&$D$12&\") when LocalYear(\"&$D$12&\")=\"&$D$10&\" and localMonth(\"&$D$12&\") =\"&$E$10&\" and LocalDay(\"&$D$12&\")=\"&$F$10&\" and Barix(\"&$D$12&\",reference:=StartOfSession)=\"&A76&\"\", \"Bar\", \"\", \"Close\",\"5\",\"0\",\"PrimaryOnly\",,,\"False\",\"T\",\"EveryTick\")","v":""},{"$error":"#N/A"},null,null,null,""]
[256,"14:50:00",-1,{"$f":" RTD(\"cqg.rtd\",,\"StudyData\", $D$12,  \"Tick\", \"FlatTicks=0\", \"Tick\",\"D\",C77,\"PrimaryOnly\")","v":119.71875},null,null,null,{"$f":"RTD(\"cqg.rtd\",,\"StudyData\", \"Close(\"&$D$12&\") when LocalYear(\"&$D$12&\")=\"&$D$1&\" and localMonth(\"&$D$12&\") =\"&$E$1&\" and LocalDay(\"&$D$12&\")=\"&$F$1&\" and Barix(\"&$D$12&\",reference:=StartOfSession)=\"&A77&\"\", \"Bar\", \"\", \"Close\",\"5\",\"0\",\"PrimaryOnly\",,,\"False\",\"T\",\"EveryTick\")","v":""},{"$error":"#N/A"},{"$f":"RTD(\"cqg.rtd\",,\"StudyData\", \"Close(\"&$D$12&\") when LocalYear(\"&$D$12&\")=\"&$D$2&\" and localMonth(\"&$D$12&\") =\"&$E$2&\" and LocalDay(\"&$D$12&\")=\"&$F$2&\" and Barix(\"&$D$12&\",reference:=StartOfSession)=\"&A77&\"\", \"Bar\", \"\", \"Close\",\"5\",\"0\",\"PrimaryOnly\",,,\"False\",\"T\",\"EveryTick\")","v":""},{"$error":"#N/A"},{"$f":"RTD(\"cqg.rtd\",,\"StudyData\", \"Close(\"&$D$12&\") when LocalYear(\"&$D$12&\")=\"&$D$3&\" and localMonth(\"&$D$12&\") =\"&$E$3&\" and LocalDay(\"&$D$12&\")=\"&$F$3&\" and Barix(\"&$D$12&\",reference:=StartOfSession)=\"&A77&\"\", \"Bar\", \"\", \"Close\",\"5\",\"0\",\"PrimaryOnly\",,,\"False\",\"T\",\"EveryTick\")","v":""},{"$error":"#N/A"},{"$f":"RTD(\"cqg.rtd\",,\"StudyData\", \"Close(\"&$D$12&\") when LocalYear(\"&$D$12&\")=\"&$D$4&\" and localMonth(\"&$D$12&\") =\"&$E$4&\" and LocalDay(\"&$D$12&\")=\"&$F$4&\" and Barix(\"&$D$12&\",reference:=StartOfSession)=\"&A77&\"\", \"Bar\", \"\", \"Close\",\"5\",\"0\",\"PrimaryOnly\",,,\"False\",\"T\",\"EveryTick\")","v":""},{"$error":"#N/A"},{"$f":"RTD(\"cqg.rtd\",,\"StudyData\", \"Close(\"&$D$12&\") when LocalYear(\"&$D$12&\")=\"&$D$5&\" and localMonth(\"&$D$12&\") =\"&$E$5&\" and LocalDay(\"&$D$12&\")=\"&$F$5&\" and Barix(\"&$D$12&\",reference:=StartOfSession)=\"&A77&\"\", \"Bar\", \"\", \"Close\",\"5\",\"0\",\"PrimaryOnly\",,,\"False\",\"T\",\"EveryTick\")","v":""},{"$error":"#N/A"},{"$f":"RTD(\"cqg.rtd\",,\"StudyData\", \"Close(\"&$D$12&\") when LocalYear(\"&$D$12&\")=\"&$D$6&\" and localMonth(\"&$D$12&\") =\"&$E$6&\" and LocalDay(\"&$D$12&\")=\"&$F$6&\" and Barix(\"&$D$12&\",reference:=StartOfSession)=\"&A77&\"\", \"Bar\", \"\", \"Close\",\"5\",\"0\",\"PrimaryOnly\",,,\"False\",\"T\",\"EveryTick\")","v":""},{"$error":"#N/A"},{"$f":"RTD(\"cqg.rtd\",,\"StudyData\", \"Close(\"&$D$12&\") when LocalYear(\"&$D$12&\")=\"&$D$7&\" and localMonth(\"&$D$12&\") =\"&$E$7&\" and LocalDay(\"&$D$12&\")=\"&$F$7&\" and Barix(\"&$D$12&\",reference:=StartOfSession)=\"&A77&\"\", \"Bar\", \"\", \"Close\",\"5\",\"0\",\"PrimaryOnly\",,,\"False\",\"T\",\"EveryTick\")","v":""},{"$error":"#N/A"},{"$f":"RTD(\"cqg.rtd\",,\"StudyData\", \"Close(\"&$D$12&\") when LocalYear(\"&$D$12&\")=\"&$D$8&\" and localMonth(\"&$D$12&\") =\"&$E$8&\" and LocalDay(\"&$D$12&\")=\"&$F$8&\" and Barix(\"&$D$12&\",reference:=StartOfSession)=\"&A77&\"\", \"Bar\", \"\", \"Close\",\"5\",\"0\",\"PrimaryOnly\",,,\"False\",\"T\",\"EveryTick\")","v":""},{"$error":"#N/A"},{"$f":"RTD(\"cqg.rtd\",,\"StudyData\", \"Close(\"&$D$12&\") when LocalYear(\"&$D$12&\")=\"&$D$9&\" and localMonth(\"&$D$12&\") =\"&$E$9&\" and LocalDay(\"&$D$12&\")=\"&$F$9&\" and Barix(\"&$D$12&\",reference:=StartOfSession)=\"&A77&\"\", \"Bar\", \"\", \"Close\",\"5\",\"0\",\"PrimaryOnly\",,,\"False\",\"T\",\"EveryTick\")","v":""},{"$error":"#N/A"},{"$f":"RTD(\"cqg.rtd\",,\"StudyData\", \"Close(\"&$D$12&\") when LocalYear(\"&$D$12&\")=\"&$D$10&\" and localMonth(\"&$D$12&\") =\"&$E$10&\" and LocalDay(\"&$D$12&\")=\"&$F$10&\" and Barix(\"&$D$12&\",reference:=StartOfSession)=\"&A77&\"\", \"Bar\", \"\", \"Close\",\"5\",\"0\",\"PrimaryOnly\",,,\"False\",\"T\",\"EveryTick\")","v":""},{"$error":"#N/A"},null,null,null,""]
[257,"14:55:00",0,{"$f":" RTD(\"cqg.rtd\",,\"StudyData\", $D$12,  \"Tick\", \"FlatTicks=0\", \"Tick\",\"D\",C78,\"PrimaryOnly\")","v":119.703125},null,null,null,{"$f":"RTD(\"cqg.rtd\",,\"StudyData\", \"Close(\"&$D$12&\") when LocalYear(\"&$D$12&\")=\"&$D$1&\" and localMonth(\"&$D$12&\") =\"&$E$1&\" and LocalDay(\"&$D$12&\")=\"&$F$1&\" and Barix(\"&$D$12&\",reference:=StartOfSession)=\"&A78&\"\", \"Bar\", \"\", \"Close\",\"5\",\"0\",\"PrimaryOnly\",,,\"False\",\"T\",\"EveryTick\")","v":""},{"$error":"#N/A"},{"$f":"RTD(\"cqg.rtd\",,\"StudyData\", \"Close(\"&$D$12&\") when LocalYear(\"&$D$12&\")=\"&$D$2&\" and localMonth(\"&$D$12&\") =\"&$E$2&\" and LocalDay(\"&$D$12&\")=\"&$F$2&\" and Barix(\"&$D$12&\",reference:=StartOfSession)=\"&A78&\"\", \"Bar\", \"\", \"Close\",\"5\",\"0\",\"PrimaryOnly\",,,\"False\",\"T\",\"EveryTick\")","v":""},{"$error":"#N/A"},{"$f":"RTD(\"cqg.rtd\",,\"StudyData\", \"Close(\"&$D$12&\") when LocalYear(\"&$D$12&\")=\"&$D$3&\" and localMonth(\"&$D$12&\") =\"&$E$3&\" and LocalDay(\"&$D$12&\")=\"&$F$3&\" and Barix(\"&$D$12&\",reference:=StartOfSession)=\"&A78&\"\", \"Bar\", \"\", \"Close\",\"5\",\"0\",\"PrimaryOnly\",,,\"False\",\"T\",\"EveryTick\")","v":""},{"$error":"#N/A"},{"$f":"RTD(\"cqg.rtd\",,\"StudyData\", \"Close(\"&$D$12&\") when LocalYear(\"&$D$12&\")=\"&$D$4&\" and localMonth(\"&$D$12&\") =\"&$E$4&\" and LocalDay(\"&$D$12&\")=\"&$F$4&\" and Barix(\"&$D$12&\",reference:=StartOfSession)=\"&A78&\"\", \"Bar\", \"\", \"Close\",\"5\",\"0\",\"PrimaryOnly\",,,\"False\",\"T\",\"EveryTick\")","v":""},{"$error":"#N/A"},{"$f":"RTD(\"cqg.rtd\",,\"StudyData\", \"Close(\"&$D$12&\") when LocalYear(\"&$D$12&\")=\"&$D$5&\" and localMonth(\"&$D$12&\") =\"&$E$5&\" and LocalDay(\"&$D$12&\")=\"&$F$5&\" and Barix(\"&$D$12&\",reference:=StartOfSession)=\"&A78&\"\", \"Bar\", \"\", \"Close\",\"5\",\"0\",\"PrimaryOnly\",,,\"False\",\"T\",\"EveryTick\")","v":""},{"$error":"#N/A"},{"$f":"RTD(\"cqg.rtd\",,\"StudyData\", \"Close(\"&$D$12&\") when LocalYear(\"&$D$12&\")=\"&$D$6&\" and localMonth(\"&$D$12&\") =\"&$E$6&\" and LocalDay(\"&$D$12&\")=\"&$F$6&\" and Barix(\"&$D$12&\",reference:=StartOfSession)=\"&A78&\"\", \"Bar\", \"\", \"Close\",\"5\",\"0\",\"PrimaryOnly\",,,\"False\",\"T\",\"EveryTick\")","v":""},{"$error":"#N/A"},{"$f":"RTD(\"cqg.rtd\",,\"StudyData\", \"Close(\"&$D$12&\") when LocalYear(\"&$D$12&\")=\"&$D$7&\" and localMonth(\"&$D$12&\") =\"&$E$7&\" and LocalDay(\"&$D$12&\")=\"&$F$7&\" and Barix(\"&$D$12&\",reference:=StartOfSession)=\"&A78&\"\", \"Bar\", \"\", \"Close\",\"5\",\"0\",\"PrimaryOnly\",,,\"False\",\"T\",\"EveryTick\")","v":""},{"$error":"#N/A"},{"$f":"RTD(\"cqg.rtd\",,\"StudyData\", \"Close(\"&$D$12&\") when LocalYear(\"&$D$12&\")=\"&$D$8&\" and localMonth(\"&$D$12&\") =\"&$E$8&\" and LocalDay(\"&$D$12&\")=\"&$F$8&\" and Barix(\"&$D$12&\",reference:=StartOfSession)=\"&A78&\"\", \"Bar\", \"\", \"Close\",\"5\",\"0\",\"PrimaryOnly\",,,\"False\",\"T\",\"EveryTick\")","v":""},{"$error":"#N/A"},{"$f":"RTD(\"cqg.rtd\",,\"StudyData\", \"Close(\"&$D$12&\") when LocalYear(\"&$D$12&\")=\"&$D$9&\" and localMonth(\"&$D$12&\") =\"&$E$9&\" and LocalDay(\"&$D$12&\")=\"&$F$9&\" and Barix(\"&$D$12&\",reference:=StartOfSession)=\"&A78&\"\", \"Bar\", \"\", \"Close\",\"5\",\"0\",\"PrimaryOnly\",,,\"False\",\"T\",\"EveryTick\")","v":""},{"$error":"#N/A"},{"$f":"RTD(\"cqg.rtd\",,\"StudyData\", \"Close(\"&$D$12&\") when LocalYear(\"&$D$12&\")=\"&$D$10&\" and localMonth(\"&$D$12&\") =\"&$E$10&\" and LocalDay(\"&$D$12&\")=\"&$F$10&\" and Barix(\"&$D$12&\",reference:=StartOfSession)=\"&A78&\"\", \"Bar\", \"\", \"Close\",\"5\",\"0\",\"PrimaryOnly\",,,\"False\",\"T\",\"EveryTick\")","v":""},{"$error":"#N/A"},null,null,null,""]
[258,"15:00:00",null,null,null,null,null,{"$f":"RTD(\"cqg.rtd\",,\"StudyData\", \"Close(\"&$D$12&\") when LocalYear(\"&$D$12&\")=\"&$D$1&\" and localMonth(\"&$D$12&\") =\"&$E$1&\" and LocalDay(\"&$D$12&\")=\"&$F$1&\" and Barix(\"&$D$12&\",reference:=StartOfSession)=\"&A79&\"\", \"Bar\", \"\", \"Close\",\"5\",\"0\",\"PrimaryOnly\",,,\"False\",\"T\",\"EveryTick\")","v":""},{"$error":"#N/A"},{"$f":"RTD(\"cqg.rtd\",,\"StudyData\", \"Close(\"&$D$12&\") when LocalYear(\"&$D$12&\")=\"&$D$2&\" and localMonth(\"&$D$12&\") =\"&$E$2&\" and LocalDay(\"&$D$12&\")=\"&$F$2&\" and Barix(\"&$D$12&\",reference:=StartOfSession)=\"&A79&\"\", \"Bar\", \"\", \"Close\",\"5\",\"0\",\"PrimaryOnly\",,,\"False\",\"T\",\"EveryTick\")","v":""},{"$error":"#N/A"},{"$f":"RTD(\"cqg.rtd\",,\"StudyData\", \"Close(\"&$D$12&\") when LocalYear(\"&$D$12&\")=\"&$D$3&\" and localMonth(\"&$D$12&\") =\"&$E$3&\" and LocalDay(\"&$D$12&\")=\"&$F$3&\" and Barix(\"&$D$12&\",reference:=StartOfSession)=\"&A79&\"\", \"Bar\", \"\", \"Close\",\"5\",\"0\",\"PrimaryOnly\",,,\"False\",\"T\",\"EveryTick\")","v":""},{"$error":"#N/A"},{"$f":"RTD(\"cqg.rtd\",,\"StudyData\", \"Close(\"&$D$12&\") when LocalYear(\"&$D$12&\")=\"&$D$4&\" and localMonth(\"&$D$12&\") =\"&$E$4&\" and LocalDay(\"&$D$12&\")=\"&$F$4&\" and Barix(\"&$D$12&\",reference:=StartOfSession)=\"&A79&\"\", \"Bar\", \"\", \"Close\",\"5\",\"0\",\"PrimaryOnly\",,,\"False\",\"T\",\"EveryTick\")","v":""},{"$error":"#N/A"},{"$f":"RTD(\"cqg.rtd\",,\"StudyData\", \"Close(\"&$D$12&\") when LocalYear(\"&$D$12&\")=\"&$D$5&\" and localMonth(\"&$D$12&\") =\"&$E$5&\" and LocalDay(\"&$D$12&\")=\"&$F$5&\" and Barix(\"&$D$12&\",reference:=StartOfSession)=\"&A79&\"\", \"Bar\", \"\", \"Close\",\"5\",\"0\",\"PrimaryOnly\",,,\"False\",\"T\",\"EveryTick\")","v":""},{"$error":"#N/A"},{"$f":"RTD(\"cqg.rtd\",,\"StudyData\", \"Close(\"&$D$12&\") when LocalYear(\"&$D$12&\")=\"&$D$6&\" and localMonth(\"&$D$12&\") =\"&$E$6&\" and LocalDay(\"&$D$12&\")=\"&$F$6&\" and Barix(\"&$D$12&\",reference:=StartOfSession)=\"&A79&\"\", \"Bar\", \"\", \"Close\",\"5\",\"0\",\"PrimaryOnly\",,,\"False\",\"T\",\"EveryTick\")","v":""},{"$error":"#N/A"},{"$f":"RTD(\"cqg.rtd\",,\"StudyData\", \"Close(\"&$D$12&\") when LocalYear(\"&$D$12&\")=\"&$D$7&\" and localMonth(\"&$D$12&\") =\"&$E$7&\" and LocalDay(\"&$D$12&\")=\"&$F$7&\" and Barix(\"&$D$12&\",reference:=StartOfSession)=\"&A79&\"\", \"Bar\", \"\", \"Close\",\"5\",\"0\",\"PrimaryOnly\",,,\"False\",\"T\",\"EveryTick\")","v":""},{"$error":"#N/A"},{"$f":"RTD(\"cqg.rtd\",,\"StudyData\", \"Close(\"&$D$12&\") when LocalYear(\"&$D$12&\")=\"&$D$8&\" and localMonth(\"&$D$12&\") =\"&$E$8&\" and LocalDay(\"&$D$12&\")=\"&$F$8&\" and Barix(\"&$D$12&\",reference:=StartOfSession)=\"&A79&\"\", \"Bar\", \"\", \"Close\",\"5\",\"0\",\"PrimaryOnly\",,,\"False\",\"T\",\"EveryTick\")","v":""},{"$error":"#N/A"},{"$f":"RTD(\"cqg.rtd\",,\"StudyData\", \"Close(\"&$D$12&\") when LocalYear(\"&$D$12&\")=\"&$D$9&\" and localMonth(\"&$D$12&\") =\"&$E$9&\" and LocalDay(\"&$D$12&\")=\"&$F$9&\" and Barix(\"&$D$12&\",reference:=StartOfSession)=\"&A79&\"\", \"Bar\", \"\", \"Close\",\"5\",\"0\",\"PrimaryOnly\",,,\"False\",\"T\",\"EveryTick\")","v":""},{"$error":"#N/A"},{"$f":"RTD(\"cqg.rtd\",,\"StudyData\", \"Close(\"&$D$12&\") when LocalYear(\"&$D$12&\")=\"&$D$10&\" and localMonth(\"&$D$12&\") =\"&$E$10&\" and LocalDay(\"&$D$12&\")=\"&$F$10&\" and Barix(\"&$D$12&\",reference:=StartOfSession)=\"&A79&\"\", \"Bar\", \"\", \"Close\",\"5\",\"0\",\"PrimaryOnly\",,,\"False\",\"T\",\"EveryTick\")","v":""},{"$error":"#N/A"},null,null,null,""]
[259,"15:05:00",null,null,null,null,null,{"$f":"RTD(\"cqg.rtd\",,\"StudyData\", \"Close(\"&$D$12&\") when LocalYear(\"&$D$12&\")=\"&$D$1&\" and localMonth(\"&$D$12&\") =\"&$E$1&\" and LocalDay(\"&$D$12&\")=\"&$F$1&\" and Barix(\"&$D$12&\",reference:=StartOfSession)=\"&A80&\"\", \"Bar\", \"\", \"Close\",\"5\",\"0\",\"PrimaryOnly\",,,\"False\",\"T\",\"EveryTick\")","v":""},{"$error":"#N/A"},{"$f":"RTD(\"cqg.rtd\",,\"StudyData\", \"Close(\"&$D$12&\") when LocalYear(\"&$D$12&\")=\"&$D$2&\" and localMonth(\"&$D$12&\") =\"&$E$2&\" and LocalDay(\"&$D$12&\")=\"&$F$2&\" and Barix(\"&$D$12&\",reference:=StartOfSession)=\"&A80&\"\", \"Bar\", \"\", \"Close\",\"5\",\"0\",\"PrimaryOnly\",,,\"False\",\"T\",\"EveryTick\")","v":""},{"$error":"#N/A"},{"$f":"RTD(\"cqg.rtd\",,\"StudyData\", \"Close(\"&$D$12&\") when LocalYear(\"&$D$12&\")=\"&$D$3&\" and localMonth(\"&$D$12&\") =\"&$E$3&\" and LocalDay(\"&$D$12&\")=\"&$F$3&\" and Barix(\"&$D$12&\",reference:=StartOfSession)=\"&A80&\"\", \"Bar\", \"\", \"Close\",\"5\",\"0\",\"PrimaryOnly\",,,\"False\",\"T\",\"EveryTick\")","v":""},{"$error":"#N/A"},{"$f":"RTD(\"cqg.rtd\",,\"StudyData\", \"Close(\"&$D$12&\") when LocalYear(\"&$D$12&\")=\"&$D$4&\" and localMonth(\"&$D$12&\") =\"&$E$4&\" and LocalDay(\"&$D$12&\")=\"&$F$4&\" and Barix(\"&$D$12&\",reference:=StartOfSession)=\"&A80&\"\", \"Bar\", \"\", \"Close\",\"5\",\"0\",\"PrimaryOnly\",,,\"False\",\"T\",\"EveryTick\")","v":""},{"$error":"#N/A"},{"$f":"RTD(\"cqg.rtd\",,\"StudyData\", \"Close(\"&$D$12&\") when LocalYear(\"&$D$12&\")=\"&$D$5&\" and localMonth(\"&$D$12&\") =\"&$E$5&\" and LocalDay(\"&$D$12&\")=\"&$F$5&\" and Barix(\"&$D$12&\",reference:=StartOfSession)=\"&A80&\"\", \"Bar\", \"\", \"Close\",\"5\",\"0\",\"PrimaryOnly\",,,\"False\",\"T\",\"EveryTick\")","v":""},{"$error":"#N/A"},{"$f":"RTD(\"cqg.rtd\",,\"StudyData\", \"Close(\"&$D$12&\") when LocalYear(\"&$D$12&\")=\"&$D$6&\" and localMonth(\"&$D$12&\") =\"&$E$6&\" and LocalDay(\"&$D$12&\")=\"&$F$6&\" and Barix(\"&$D$12&\",reference:=StartOfSession)=\"&A80&\"\", \"Bar\", \"\", \"Close\",\"5\",\"0\",\"PrimaryOnly\",,,\"False\",\"T\",\"EveryTick\")","v":""},{"$error":"#N/A"},{"$f":"RTD(\"cqg.rtd\",,\"StudyData\", \"Close(\"&$D$12&\") when LocalYear(\"&$D$12&\")=\"&$D$7&\" and localMonth(\"&$D$12&\") =\"&$E$7&\" and LocalDay(\"&$D$12&\")=\"&$F$7&\" and Barix(\"&$D$12&\",reference:=StartOfSession)=\"&A80&\"\", \"Bar\", \"\", \"Close\",\"5\",\"0\",\"PrimaryOnly\",,,\"False\",\"T\",\"EveryTick\")","v":""},{"$error":"#N/A"},{"$f":"RTD(\"cqg.rtd\",,\"StudyData\", \"Close(\"&$D$12&\") when LocalYear(\"&$D$12&\")=\"&$D$8&\" and localMonth(\"&$D$12&\") =\"&$E$8&\" and LocalDay(\"&$D$12&\")=\"&$F$8&\" and Barix(\"&$D$12&\",reference:=StartOfSession)=\"&A80&\"\", \"Bar\", \"\", \"Close\",\"5\",\"0\",\"PrimaryOnly\",,,\"False\",\"T\",\"EveryTick\")","v":""},{"$error":"#N/A"},{"$f":"RTD(\"cqg.rtd\",,\"StudyData\", \"Close(\"&$D$12&\") when LocalYear(\"&$D$12&\")=\"&$D$9&\" and localMonth(\"&$D$12&\") =\"&$E$9&\" and LocalDay(\"&$D$12&\")=\"&$F$9&\" and Barix(\"&$D$12&\",reference:=StartOfSession)=\"&A80&\"\", \"Bar\", \"\", \"Close\",\"5\",\"0\",\"PrimaryOnly\",,,\"False\",\"T\",\"EveryTick\")","v":""},{"$error":"#N/A"},{"$f":"RTD(\"cqg.rtd\",,\"StudyData\", \"Close(\"&$D$12&\") when LocalYear(\"&$D$12&\")=\"&$D$10&\" and localMonth(\"&$D$12&\") =\"&$E$10&\" and LocalDay(\"&$D$12&\")=\"&$F$10&\" and Barix(\"&$D$12&\",reference:=StartOfSession)=\"&A80&\"\", \"Bar\", \"\", \"Close\",\"5\",\"0\",\"PrimaryOnly\",,,\"False\",\"T\",\"EveryTick\")","v":""},{"$error":"#N/A"},null,null,null,""]
[260,"15:10:00",null,null,null,null,null,{"$f":"RTD(\"cqg.rtd\",,\"StudyData\", \"Close(\"&$D$12&\") when LocalYear(\"&$D$12&\")=\"&$D$1&\" and localMonth(\"&$D$12&\") =\"&$E$1&\" and LocalDay(\"&$D$12&\")=\"&$F$1&\" and Barix(\"&$D$12&\",reference:=StartOfSession)=\"&A81&\"\", \"Bar\", \"\", \"Close\",\"5\",\"0\",\"PrimaryOnly\",,,\"False\",\"T\",\"EveryTick\")","v":""},{"$error":"#N/A"},{"$f":"RTD(\"cqg.rtd\",,\"StudyData\", \"Close(\"&$D$12&\") when LocalYear(\"&$D$12&\")=\"&$D$2&\" and localMonth(\"&$D$12&\") =\"&$E$2&\" and LocalDay(\"&$D$12&\")=\"&$F$2&\" and Barix(\"&$D$12&\",reference:=StartOfSession)=\"&A81&\"\", \"Bar\", \"\", \"Close\",\"5\",\"0\",\"PrimaryOnly\",,,\"False\",\"T\",\"EveryTick\")","v":""},{"$error":"#N/A"},{"$f":"RTD(\"cqg.rtd\",,\"StudyData\", \"Close(\"&$D$12&\") when LocalYear(\"&$D$12&\")=\"&$D$3&\" and localMonth(\"&$D$12&\") =\"&$E$3&\" and LocalDay(\"&$D$12&\")=\"&$F$3&\" and Barix(\"&$D$12&\",reference:=StartOfSession)=\"&A81&\"\", \"Bar\", \"\", \"Close\",\"5\",\"0\",\"PrimaryOnly\",,,\"False\",\"T\",\"EveryTick\")","v":""},{"$error":"#N/A"},{"$f":"RTD(\"cqg.rtd\",,\"StudyData\", \"Close(\"&$D$12&\") when LocalYear(\"&$D$12&\")=\"&$D$4&\" and localMonth(\"&$D$12&\") =\"&$E$4&\" and LocalDay(\"&$D$12&\")=\"&$F$4&\" and Barix(\"&$D$12&\",reference:=StartOfSession)=\"&A81&\"\", \"Bar\", \"\", \"Close\",\"5\",\"0\",\"PrimaryOnly\",,,\"False\",\"T\",\"EveryTick\")","v":""},{"$error":"#N/A"},{"$f":"RTD(\"cqg.rtd\",,\"StudyData\", \"Close(\"&$D$12&\") when LocalYear(\"&$D$12&\")=\"&$D$5&\" and localMonth(\"&$D$12&\") =\"&$E$5&\" and LocalDay(\"&$D$12&\")=\"&$F$5&\" and Barix(\"&$D$12&\",reference:=StartOfSession)=\"&A81&\"\", \"Bar\", \"\", \"Close\",\"5\",\"0\",\"PrimaryOnly\",,,\"False\",\"T\",\"EveryTick\")","v":""},{"$error":"#N/A"},{"$f":"RTD(\"cqg.rtd\",,\"StudyData\", \"Close(\"&$D$12&\") when LocalYear(\"&$D$12&\")=\"&$D$6&\" and localMonth(\"&$D$12&\") =\"&$E$6&\" and LocalDay(\"&$D$12&\")=\"&$F$6&\" and Barix(\"&$D$12&\",reference:=StartOfSession)=\"&A81&\"\", \"Bar\", \"\", \"Close\",\"5\",\"0\",\"PrimaryOnly\",,,\"False\",\"T\",\"EveryTick\")","v":""},{"$error":"#N/A"},{"$f":"RTD(\"cqg.rtd\",,\"StudyData\", \"Close(\"&$D$12&\") when LocalYear(\"&$D$12&\")=\"&$D$7&\" and localMonth(\"&$D$12&\") =\"&$E$7&\" and LocalDay(\"&$D$12&\")=\"&$F$7&\" and Barix(\"&$D$12&\",reference:=StartOfSession)=\"&A81&\"\", \"Bar\", \"\", \"Close\",\"5\",\"0\",\"PrimaryOnly\",,,\"False\",\"T\",\"EveryTick\")","v":""},{"$error":"#N/A"},{"$f":"RTD(\"cqg.rtd\",,\"StudyData\", \"Close(\"&$D$12&\") when LocalYear(\"&$D$12&\")=\"&$D$8&\" and localMonth(\"&$D$12&\") =\"&$E$8&\" and LocalDay(\"&$D$12&\")=\"&$F$8&\" and Barix(\"&$D$12&\",reference:=StartOfSession)=\"&A81&\"\", \"Bar\", \"\", \"Close\",\"5\",\"0\",\"PrimaryOnly\",,,\"False\",\"T\",\"EveryTick\")","v":""},{"$error":"#N/A"},{"$f":"RTD(\"cqg.rtd\",,\"StudyData\", \"Close(\"&$D$12&\") when LocalYear(\"&$D$12&\")=\"&$D$9&\" and localMonth(\"&$D$12&\") =\"&$E$9&\" and LocalDay(\"&$D$12&\")=\"&$F$9&\" and Barix(\"&$D$12&\",reference:=StartOfSession)=\"&A81&\"\", \"Bar\", \"\", \"Close\",\"5\",\"0\",\"PrimaryOnly\",,,\"False\",\"T\",\"EveryTick\")","v":""},{"$error":"#N/A"},{"$f":"RTD(\"cqg.rtd\",,\"StudyData\", \"Close(\"&$D$12&\") when LocalYear(\"&$D$12&\")=\"&$D$10&\" and localMonth(\"&$D$12&\") =\"&$E$10&\" and LocalDay(\"&$D$12&\")=\"&$F$10&\" and Barix(\"&$D$12&\",reference:=StartOfSession)=\"&A81&\"\", \"Bar\", \"\", \"Close\",\"5\",\"0\",\"PrimaryOnly\",,,\"False\",\"T\",\"EveryTick\")","v":""},{"$error":"#N/A"},null,null,null,""]

{"sheet":"Sheet4 (4)","index":8,"n_rows":101,"n_cols":20,"rows_kept":101,"cut":false,"hidden":true,"merged":[]}
[null,{"$f":"'Sheet3 (4)'!I1","v":1.4371570420695062E-3},{"$f":"'Sheet3 (4)'!K1","v":2.3547880690737832E-3},null,{"$f":"'Sheet3 (4)'!M1","v":2.4908232826428944E-3},null,{"$f":"'Sheet3 (4)'!O1","v":-1.3085579691180318E-4},null,{"$f":"'Sheet3 (4)'!Q1","v":-1.5698587127158557E-3},null,{"$f":"'Sheet3 (4)'!S1","v":-1.567807682257643E-3},null,{"$f":"'Sheet3 (4)'!U1","v":-1.3065064018813691E-4},null,{"$f":"'Sheet3 (4)'!W1","v":-1.3099292638197538E-4},null,{"$f":"'Sheet3 (4)'!Y1","v":-1.9579689335595873E-3},null,{"$f":"'Sheet3 (4)'!AA1","v":2.3535564853556486E-3}]
[null,{"$f":"'Sheet3 (4)'!I2","v":1.1758557616932323E-3},{"$f":"'Sheet3 (4)'!K2","v":2.4856096284667714E-3},{"$f":"CORREL($B$1:B2,$C$1:C2)","v":-1},{"$f":"'Sheet3 (4)'!M2","v":2.097535395909806E-3},{"$f":"CORREL($B$1:B2,$E$1:E2)","v":1},{"$f":"'Sheet3 (4)'!O2","v":-3.925673907354096E-4},{"$f":"CORREL($B$1:B2,$G$1:G2)","v":1},{"$f":"'Sheet3 (4)'!Q2","v":-1.5698587127158557E-3},{"$f":"CORREL($B$1:B2,$I$1:I2)","v":{"$error":"#DIV/0!"}},{"$f":"'Sheet3 (4)'!S2","v":-1.8291089626339169E-3},{"$f":"CORREL($B$1:B2,$K$1:K2)","v":1},{"$f":"'Sheet3 (4)'!U2","v":-2.6130128037627382E-4},{"$f":"CORREL($B$1:B2,$M$1:M2)","v":1},{"$f":"'Sheet3 (4)'!W2","v":-5.2397170552790154E-4},{"$f":"CORREL($B$1:B2,$O$1:O2)","v":0.99999999999999989},{"$f":"'Sheet3 (4)'!Y2","v":-1.9579689335595873E-3},{"$f":"CORREL($B$1:B2,$Q$1:Q2)","v":{"$error":"#DIV/0!"}},{"$f":"'Sheet3 (4)'!AA2","v":1.961297071129707E-3},{"$f":"CORREL($B$1:B2,$S$1:S2)","v":1}]
[null,{"$f":"'Sheet3 (4)'!I3","v":1.0452051215050953E-3},{"$f":"'Sheet3 (4)'!K3","v":2.6164311878597592E-3},{"$f":"CORREL($B$1:B3,$C$1:C3)","v":-0.98198050606196619},{"$f":"'Sheet3 (4)'!M3","v":1.7042475091767174E-3},{"$f":"CORREL($B$1:B3,$E$1:E3)","v":0.98198050606196585},{"$f":"'Sheet3 (4)'!O3","v":-3.925673907354096E-4},{"$f":"CORREL($B$1:B3,$G$1:G3)","v":0.94491118252306816},{"$f":"'Sheet3 (4)'!Q3","v":-1.5698587127158557E-3},{"$f":"CORREL($B$1:B3,$I$1:I3)","v":{"$error":"#DIV/0!"}},{"$f":"'Sheet3 (4)'!S3","v":-1.8291089626339169E-3},{"$f":"CORREL($B$1:B3,$K$1:K3)","v":0.94491118252306805},{"$f":"'Sheet3 (4)'!U3","v":-2.6130128037627382E-4},{"$f":"CORREL($B$1:B3,$M$1:M3)","v":0.94491118252306805},{"$f":"'Sheet3 (4)'!W3","v":-5.2397170552790154E-4},{"$f":"CORREL($B$1:B3,$O$1:O3)","v":0.94491118252306838},{"$f":"'Sheet3 (4)'!Y3","v":-1.9579689335595873E-3},{"$f":"CORREL($B$1:B3,$Q$1:Q3)","v":{"$error":"#DIV/0!"}},{"$f":"'Sheet3 (4)'!AA3","v":1.6997907949790796E-3},{"$f":"CORREL($B$1:B3,$S$1:S3)","v":0.99717646495273804}]
[null,{"$f":"'Sheet3 (4)'!I4","v":1.0452051215050953E-3},{"$f":"'Sheet3 (4)'!K4","v":2.7472527472527475E-3},{"$f":"CORREL($B$1:B4,$C$1:C4)","v":-0.9128709291752769},{"$f":"'Sheet3 (4)'!M4","v":1.5731515469323545E-3},{"$f":"CORREL($B$1:B4,$E$1:E4)","v":0.96896279024990895},{"$f":"'Sheet3 (4)'!O4","v":-3.925673907354096E-4},{"$f":"CORREL($B$1:B4,$G$1:G4)","v":0.94280904158206336},{"$f":"'Sheet3 (4)'!Q4","v":-1.4390371533228676E-3},{"$f":"CORREL($B$1:B4,$I$1:I4)","v":-0.47140452079103168},{"$f":"'Sheet3 (4)'!S4","v":-1.9597596028220537E-3},{"$f":"CORREL($B$1:B4,$K$1:K4)","v":0.93658581158169363},{"$f":"'Sheet3 (4)'!U4","v":-1.3065064018813691E-4},{"$f":"CORREL($B$1:B4,$M$1:M4)","v":0.40824829046386285},{"$f":"'Sheet3 (4)'!W4","v":-3.929787791459261E-4},{"$f":"CORREL($B$1:B4,$O$1:O4)","v":0.83333333333333315},{"$f":"'Sheet3 (4)'!Y4","v":-2.3495627202715051E-3},{"$f":"CORREL($B$1:B4,$Q$1:Q4)","v":0.47140452079103168},{"$f":"'Sheet3 (4)'!AA4","v":1.5690376569037657E-3},{"$f":"CORREL($B$1:B4,$S$1:S4)","v":0.97995788701222275}]
[null,{"$f":"'Sheet3 (4)'!I5","v":9.1455448131695844E-4},{"$f":"'Sheet3 (4)'!K5","v":2.4856096284667714E-3},{"$f":"CORREL($B$1:B5,$C$1:C5)","v":-0.60723067856455271},{"$f":"'Sheet3 (4)'!M5","v":1.9664394336654429E-3},{"$f":"CORREL($B$1:B5,$E$1:E5)","v":0.78250804505750005},{"$f":"'Sheet3 (4)'!O5","v":-2.6171159382360636E-4},{"$f":"CORREL($B$1:B5,$G$1:G5)","v":0.58976782461958854},{"$f":"'Sheet3 (4)'!Q5","v":-1.3082155939298796E-3},{"$f":"CORREL($B$1:B5,$I$1:I5)","v":-0.70034929173576133},{"$f":"'Sheet3 (4)'!S5","v":-1.6984583224457801E-3},{"$f":"CORREL($B$1:B5,$K$1:K5)","v":0.54939918536792864},{"$f":"'Sheet3 (4)'!U5","v":0},{"$f":"CORREL($B$1:B5,$M$1:M5)","v":-0.27583864218368509},{"$f":"'Sheet3 (4)'!W5","v":-1.3099292638197538E-4},{"$f":"CORREL($B$1:B5,$O$1:O5)","v":0.19565217391304357},{"$f":"'Sheet3 (4)'!Y5","v":-2.0885001957968935E-3},{"$f":"CORREL($B$1:B5,$Q$1:Q5)","v":0.4298634768105481},{"$f":"'Sheet3 (4)'!AA5","v":1.5690376569037657E-3},{"$f":"CORREL($B$1:B5,$S$1:S5)","v":0.96986362520975944}]
[null,{"$f":"'Sheet3 (4)'!I6","v":9.1455448131695844E-4},{"$f":"'Sheet3 (4)'!K6","v":2.4856096284667714E-3},{"$f":"CORREL($B$1:B6,$C$1:C6)","v":-0.47162110914189992},{"$f":"'Sheet3 (4)'!M6","v":1.5731515469323545E-3},{"$f":"CORREL($B$1:B6,$E$1:E6)","v":0.82462112512353247},{"$f":"'Sheet3 (4)'!O6","v":-2.6171159382360636E-4},{"$f":"CORREL($B$1:B6,$G$1:G6)","v":0.43386091563731227},{"$f":"'Sheet3 (4)'!Q6","v":-1.3082155939298796E-3},{"$f":"CORREL($B$1:B6,$I$1:I6)","v":-0.76564149348877641},{"$f":"'Sheet3 (4)'!S6","v":-1.8291089626339169E-3},{"$f":"CORREL($B$1:B6,$K$1:K6)","v":0.55737040171315411},{"$f":"'Sheet3 (4)'!U6","v":-2.6130128037627382E-4},{"$f":"CORREL($B$1:B6,$M$1:M6)","v":-5.4232614454664006E-2},{"$f":"'Sheet3 (4)'!W6","v":-2.6198585276395077E-4},{"$f":"CORREL($B$1:B6,$O$1:O6)","v":9.6373884930485446E-2},{"$f":"'Sheet3 (4)'!Y6","v":-2.0885001957968935E-3},{"$f":"CORREL($B$1:B6,$Q$1:Q6)","v":0.41665471049321434},{"$f":"'Sheet3 (4)'!AA6","v":1.5690376569037657E-3},{"$f":"CORREL($B$1:B6,$S$1:S6)","v":0.96893596196844811}]
[null,{"$f":"'Sheet3 (4)'!I7","v":9.1455448131695844E-4},{"$f":"'Sheet3 (4)'!K7","v":2.4856096284667714E-3},{"$f":"CORREL($B$1:B7,$C$1:C7)","v":-0.39329170163264315},{"$f":"'Sheet3 (4)'!M7","v":1.8353434714210803E-3},{"$f":"CORREL($B$1:B7,$E$1:E7)","v":0.79796141776556129},{"$f":"'Sheet3 (4)'!O7","v":0},{"$f":"CORREL($B$1:B7,$G$1:G7)","v":1.5266117060773384E-16},{"$f":"'Sheet3 (4)'!Q7","v":-1.0465724751439038E-3},{"$f":"CORREL($B$1:B7,$I$1:I7)","v":-0.70668874580789576},{"$f":"'Sheet3 (4)'!S7","v":-1.8291089626339169E-3},{"$f":"CORREL($B$1:B7,$K$1:K7)","v":0.56428809364683541},{"$f":"'Sheet3 (4)'!U7","v":1.3065064018813691E-4},{"$f":"CORREL($B$1:B7,$M$1:M7)","v":-0.29580398915498074},{"$f":"'Sheet3 (4)'!W7","v":0},{"$f":"CORREL($B$1:B7,$O$1:O7)","v":-0.13437096247164235},{"$f":"'Sheet3 (4)'!Y7","v":-2.2190314580341993E-3},{"$f":"CORREL($B$1:B7,$Q$1:Q7)","v":0.49300664859163534},{"$f":"'Sheet3 (4)'!AA7","v":1.307531380753138E-3},{"$f":"CORREL($B$1:B7,$S$1:S7)","v":0.9536459298086265}]
[null,{"$f":"'Sheet3 (4)'!I8","v":{"$error":"#N/A"}},{"$f":"'Sheet3 (4)'!K8","v":2.3547880690737832E-3},{"$f":"CORREL($B$1:B8,$C$1:C8)","v":{"$error":"#N/A"}},{"$f":"'Sheet3 (4)'!M8","v":1.9664394336654429E-3},{"$f":"CORREL($B$1:B8,$E$1:E8)","v":{"$error":"#N/A"}},{"$f":"'Sheet3 (4)'!O8","v":-2.6171159382360636E-4},{"$f":"CORREL($B$1:B8,$G$1:G8)","v":{"$error":"#N/A"}},{"$f":"'Sheet3 (4)'!Q8","v":-9.1575091575091575E-4},{"$f":"CORREL($B$1:B8,$I$1:I8)","v":{"$error":"#N/A"}},{"$f":"'Sheet3 (4)'!S8","v":-1.6984583224457801E-3},{"$f":"CORREL($B$1:B8,$K$1:K8)","v":{"$error":"#N/A"}},{"$f":"'Sheet3 (4)'!U8","v":3.9195192056441075E-4},{"$f":"CORREL($B$1:B8,$M$1:M8)","v":{"$error":"#N/A"}},{"$f":"'Sheet3 (4)'!W8","v":2.6198585276395077E-4},{"$f":"CORREL($B$1:B8,$O$1:O8)","v":{"$error":"#N/A"}},{"$f":"'Sheet3 (4)'!Y8","v":-2.3495627202715051E-3},{"$f":"CORREL($B$1:B8,$Q$1:Q8)","v":{"$error":"#N/A"}},{"$f":"'Sheet3 (4)'!AA8","v":1.1767782426778243E-3},{"$f":"CORREL($B$1:B8,$S$1:S8)","v":{"$error":"#N/A"}}]
[null,{"$f":"'Sheet3 (4)'!I9","v":{"$error":"#N/A"}},{"$f":"'Sheet3 (4)'!K9","v":2.6164311878597592E-3},{"$f":"CORREL($B$1:B9,$C$1:C9)","v":{"$error":"#N/A"}},{"$f":"'Sheet3 (4)'!M9","v":1.3109596224436288E-3},{"$f":"CORREL($B$1:B9,$E$1:E9)","v":{"$error":"#N/A"}},{"$f":"'Sheet3 (4)'!O9","v":-1.3085579691180318E-4},{"$f":"CORREL($B$1:B9,$G$1:G9)","v":{"$error":"#N/A"}},{"$f":"'Sheet3 (4)'!Q9","v":-6.5410779696493981E-4},{"$f":"CORREL($B$1:B9,$I$1:I9)","v":{"$error":"#N/A"}},{"$f":"'Sheet3 (4)'!S9","v":-1.567807682257643E-3},{"$f":"CORREL($B$1:B9,$K$1:K9)","v":{"$error":"#N/A"}},{"$f":"'Sheet3 (4)'!U9","v":3.9195192056441075E-4},{"$f":"CORREL($B$1:B9,$M$1:M9)","v":{"$error":"#N/A"}},{"$f":"'Sheet3 (4)'!W9","v":2.6198585276395077E-4},{"$f":"CORREL($B$1:B9,$O$1:O9)","v":{"$error":"#N/A"}},{"$f":"'Sheet3 (4)'!Y9","v":-2.4800939825088109E-3},{"$f":"CORREL($B$1:B9,$Q$1:Q9)","v":{"$error":"#N/A"}},{"$f":"'Sheet3 (4)'!AA9","v":1.1767782426778243E-3},{"$f":"CORREL($B$1:B9,$S$1:S9)","v":{"$error":"#N/A"}}]
[null,{"$f":"'Sheet3 (4)'!I10","v":{"$error":"#N/A"}},{"$f":"'Sheet3 (4)'!K10","v":2.3547880690737832E-3},{"$f":"CORREL($B$1:B10,$C$1:C10)","v":{"$error":"#N/A"}},{"$f":"'Sheet3 (4)'!M10","v":1.048767697954903E-3},{"$f":"CORREL($B$1:B10,$E$1:E10)","v":{"$error":"#N/A"}},{"$f":"'Sheet3 (4)'!O10","v":-1.3085579691180318E-4},{"$f":"CORREL($B$1:B10,$G$1:G10)","v":{"$error":"#N/A"}},{"$f":"'Sheet3 (4)'!Q10","v":-6.5410779696493981E-4},{"$f":"CORREL($B$1:B10,$I$1:I10)","v":{"$error":"#N/A"}},{"$f":"'Sheet3 (4)'!S10","v":-1.567807682257643E-3},{"$f":"CORREL($B$1:B10,$K$1:K10)","v":{"$error":"#N/A"}},{"$f":"'Sheet3 (4)'!U10","v":1.3065064018813691E-4},{"$f":"CORREL($B$1:B10,$M$1:M10)","v":{"$error":"#N/A"}},{"$f":"'Sheet3 (4)'!W10","v":0},{"$f":"CORREL($B$1:B10,$O$1:O10)","v":{"$error":"#N/A"}},{"$f":"'Sheet3 (4)'!Y10","v":-2.3495627202715051E-3},{"$f":"CORREL($B$1:B10,$Q$1:Q10)","v":{"$error":"#N/A"}},{"$f":"'Sheet3 (4)'!AA10","v":1.0460251046025104E-3},{"$f":"CORREL($B$1:B10,$S$1:S10)","v":{"$error":"#N/A"}}]
[null,{"$f":"'Sheet3 (4)'!I11","v":{"$error":"#N/A"}},{"$f":"'Sheet3 (4)'!K11","v":2.6164311878597592E-3},{"$f":"CORREL($B$1:B11,$C$1:C11)","v":{"$error":"#N/A"}},{"$f":"'Sheet3 (4)'!M11","v":1.3109596224436288E-3},{"$f":"CORREL($B$1:B11,$E$1:E11)","v":{"$error":"#N/A"}},{"$f":"'Sheet3 (4)'!O11","v":-1.3085579691180318E-4},{"$f":"CORREL($B$1:B11,$G$1:G11)","v":{"$error":"#N/A"}},{"$f":"'Sheet3 (4)'!Q11","v":-6.5410779696493981E-4},{"$f":"CORREL($B$1:B11,$I$1:I11)","v":{"$error":"#N/A"}},{"$f":"'Sheet3 (4)'!S11","v":-1.6984583224457801E-3},{"$f":"CORREL($B$1:B11,$K$1:K11)","v":{"$error":"#N/A"}},{"$f":"'Sheet3 (4)'!U11","v":1.3065064018813691E-4},{"$f":"CORREL($B$1:B11,$M$1:M11)","v":{"$error":"#N/A"}},{"$f":"'Sheet3 (4)'!W11","v":-2.6198585276395077E-4},{"$f":"CORREL($B$1:B11,$O$1:O11)","v":{"$error":"#N/A"}},{"$f":"'Sheet3 (4)'!Y11","v":-2.3495627202715051E-3},{"$f":"CORREL($B$1:B11,$Q$1:Q11)","v":{"$error":"#N/A"}},{"$f":"'Sheet3 (4)'!AA11","v":1.4382845188284519E-3},{"$f":"CORREL($B$1:B11,$S$1:S11)","v":{"$error":"#N/A"}}]
[null,{"$f":"'Sheet3 (4)'!I12","v":{"$error":"#N/A"}},{"$f":"'Sheet3 (4)'!K12","v":2.7472527472527475E-3},{"$f":"CORREL($B$1:B12,$C$1:C12)","v":{"$error":"#N/A"}},{"$f":"'Sheet3 (4)'!M12","v":1.4420555846879916E-3},{"$f":"CORREL($B$1:B12,$E$1:E12)","v":{"$error":"#N/A"}},{"$f":"'Sheet3 (4)'!O12","v":0},{"$f":"CORREL($B$1:B12,$G$1:G12)","v":{"$error":"#N/A"}},{"$f":"'Sheet3 (4)'!Q12","v":-9.1575091575091575E-4},{"$f":"CORREL($B$1:B12,$I$1:I12)","v":{"$error":"#N/A"}},{"$f":"'Sheet3 (4)'!S12","v":-1.6984583224457801E-3},{"$f":"CORREL($B$1:B12,$K$1:K12)","v":{"$error":"#N/A"}},{"$f":"'Sheet3 (4)'!U12","v":1.3065064018813691E-4},{"$f":"CORREL($B$1:B12,$M$1:M12)","v":{"$error":"#N/A"}},{"$f":"'Sheet3 (4)'!W12","v":-2.6198585276395077E-4},{"$f":"CORREL($B$1:B12,$O$1:O12)","v":{"$error":"#N/A"}},{"$f":"'Sheet3 (4)'!Y12","v":-2.3495627202715051E-3},{"$f":"CORREL($B$1:B12,$Q$1:Q12)","v":{"$error":"#N/A"}},{"$f":"'Sheet3 (4)'!AA12","v":1.4382845188284519E-3},{"$f":"CORREL($B$1:B12,$S$1:S12)","v":{"$error":"#N/A"}}]
[null,{"$f":"'Sheet3 (4)'!I13","v":{"$error":"#N/A"}},{"$f":"'Sheet3 (4)'!K13","v":2.3547880690737832E-3},{"$f":"CORREL($B$1:B13,$C$1:C13)","v":{"$error":"#N/A"}},{"$f":"'Sheet3 (4)'!M13","v":1.5731515469323545E-3},{"$f":"CORREL($B$1:B13,$E$1:E13)","v":{"$error":"#N/A"}},{"$f":"'Sheet3 (4)'!O13","v":-1.3085579691180318E-4},{"$f":"CORREL($B$1:B13,$G$1:G13)","v":{"$error":"#N/A"}},{"$f":"'Sheet3 (4)'!Q13","v":-9.1575091575091575E-4},{"$f":"CORREL($B$1:B13,$I$1:I13)","v":{"$error":"#N/A"}},{"$f":"'Sheet3 (4)'!S13","v":-1.567807682257643E-3},{"$f":"CORREL($B$1:B13,$K$1:K13)","v":{"$error":"#N/A"}},{"$f":"'Sheet3 (4)'!U13","v":3.9195192056441075E-4},{"$f":"CORREL($B$1:B13,$M$1:M13)","v":{"$error":"#N/A"}},{"$f":"'Sheet3 (4)'!W13","v":1.3099292638197538E-4},{"$f":"CORREL($B$1:B13,$O$1:O13)","v":{"$error":"#N/A"}},{"$f":"'Sheet3 (4)'!Y13","v":-2.0885001957968935E-3},{"$f":"CORREL($B$1:B13,$Q$1:Q13)","v":{"$error":"#N/A"}},{"$f":"'Sheet3 (4)'!AA13","v":7.8451882845188283E-4},{"$f":"CORREL($B$1:B13,$S$1:S13)","v":{"$error":"#N/A"}}]
[null,{"$f":"'Sheet3 (4)'!I14","v":{"$error":"#N/A"}},{"$f":"'Sheet3 (4)'!K14","v":2.7472527472527475E-3},{"$f":"CORREL($B$1:B14,$C$1:C14)","v":{"$error":"#N/A"}},{"$f":"'Sheet3 (4)'!M14","v":1.3109596224436288E-3},{"$f":"CORREL($B$1:B14,$E$1:E14)","v":{"$error":"#N/A"}},{"$f":"'Sheet3 (4)'!O14","v":-2.6171159382360636E-4},{"$f":"CORREL($B$1:B14,$G$1:G14)","v":{"$error":"#N/A"}},{"$f":"'Sheet3 (4)'!Q14","v":-1.0465724751439038E-3},{"$f":"CORREL($B$1:B14,$I$1:I14)","v":{"$error":"#N/A"}},{"$f":"'Sheet3 (4)'!S14","v":-1.8291089626339169E-3},{"$f":"CORREL($B$1:B14,$K$1:K14)","v":{"$error":"#N/A"}},{"$f":"'Sheet3 (4)'!U14","v":0},{"$f":"CORREL($B$1:B14,$M$1:M14)","v":{"$error":"#N/A"}},{"$f":"'Sheet3 (4)'!W14","v":1.3099292638197538E-4},{"$f":"CORREL($B$1:B14,$O$1:O14)","v":{"$error":"#N/A"}},{"$f":"'Sheet3 (4)'!Y14","v":-2.2190314580341993E-3},{"$f":"CORREL($B$1:B14,$Q$1:Q14)","v":{"$error":"#N/A"}},{"$f":"'Sheet3 (4)'!AA14","v":9.1527196652719666E-4},{"$f":"CORREL($B$1:B14,$S$1:S14)","v":{"$error":"#N/A"}}]
[null,{"$f":"'Sheet3 (4)'!I15","v":{"$error":"#N/A"}},{"$f":"'Sheet3 (4)'!K15","v":2.8780743066457353E-3},{"$f":"CORREL($B$1:B15,$C$1:C15)","v":{"$error":"#N/A"}},{"$f":"'Sheet3 (4)'!M15","v":1.5731515469323545E-3},{"$f":"CORREL($B$1:B15,$E$1:E15)","v":{"$error":"#N/A"}},{"$f":"'Sheet3 (4)'!O15","v":-2.6171159382360636E-4},{"$f":"CORREL($B$1:B15,$G$1:G15)","v":{"$error":"#N/A"}},{"$f":"'Sheet3 (4)'!Q15","v":-1.0465724751439038E-3},{"$f":"CORREL($B$1:B15,$I$1:I15)","v":{"$error":"#N/A"}},{"$f":"'Sheet3 (4)'!S15","v":-1.8291089626339169E-3},{"$f":"CORREL($B$1:B15,$K$1:K15)","v":{"$error":"#N/A"}},{"$f":"'Sheet3 (4)'!U15","v":6.5325320094068457E-4},{"$f":"CORREL($B$1:B15,$M$1:M15)","v":{"$error":"#N/A"}},{"$f":"'Sheet3 (4)'!W15","v":1.3099292638197538E-4},{"$f":"CORREL($B$1:B15,$O$1:O15)","v":{"$error":"#N/A"}},{"$f":"'Sheet3 (4)'!Y15","v":-2.3495627202715051E-3},{"$f":"CORREL($B$1:B15,$Q$1:Q15)","v":{"$error":"#N/A"}},{"$f":"'Sheet3 (4)'!AA15","v":6.5376569037656901E-4},{"$f":"CORREL($B$1:B15,$S$1:S15)","v":{"$error":"#N/A"}}]
[null,{"$f":"'Sheet3 (4)'!I16","v":{"$error":"#N/A"}},{"$f":"'Sheet3 (4)'!K16","v":3.0088958660387231E-3},{"$f":"CORREL($B$1:B16,$C$1:C16)","v":{"$error":"#N/A"}},{"$f":"'Sheet3 (4)'!M16","v":1.8353434714210803E-3},{"$f":"CORREL($B$1:B16,$E$1:E16)","v":{"$error":"#N/A"}},{"$f":"'Sheet3 (4)'!O16","v":-2.6171159382360636E-4},{"$f":"CORREL($B$1:B16,$G$1:G16)","v":{"$error":"#N/A"}},{"$f":"'Sheet3 (4)'!Q16","v":-1.4390371533228676E-3},{"$f":"CORREL($B$1:B16,$I$1:I16)","v":{"$error":"#N/A"}},{"$f":"'Sheet3 (4)'!S16","v":-1.6984583224457801E-3},{"$f":"CORREL($B$1:B16,$K$1:K16)","v":{"$error":"#N/A"}},{"$f":"'Sheet3 (4)'!U16","v":6.5325320094068457E-4},{"$f":"CORREL($B$1:B16,$M$1:M16)","v":{"$error":"#N/A"}},{"$f":"'Sheet3 (4)'!W16","v":0},{"$f":"CORREL($B$1:B16,$O$1:O16)","v":{"$error":"#N/A"}},{"$f":"'Sheet3 (4)'!Y16","v":-2.3495627202715051E-3},{"$f":"CORREL($B$1:B16,$Q$1:Q16)","v":{"$error":"#N/A"}},{"$f":"'Sheet3 (4)'!AA16","v":5.2301255230125519E-4},{"$f":"CORREL($B$1:B16,$S$1:S16)","v":{"$error":"#N/A"}}]
[null,{"$f":"'Sheet3 (4)'!I17","v":{"$error":"#N/A"}},{"$f":"'Sheet3 (4)'!K17","v":3.0088958660387231E-3},{"$f":"CORREL($B$1:B17,$C$1:C17)","v":{"$error":"#N/A"}},{"$f":"'Sheet3 (4)'!M17","v":1.8353434714210803E-3},{"$f":"CORREL($B$1:B17,$E$1:E17)","v":{"$error":"#N/A"}},{"$f":"'Sheet3 (4)'!O17","v":-1.3085579691180318E-4},{"$f":"CORREL($B$1:B17,$G$1:G17)","v":{"$error":"#N/A"}},{"$f":"'Sheet3 (4)'!Q17","v":-1.0465724751439038E-3},{"$f":"CORREL($B$1:B17,$I$1:I17)","v":{"$error":"#N/A"}},{"$f":"'Sheet3 (4)'!S17","v":-1.8291089626339169E-3},{"$f":"CORREL($B$1:B17,$K$1:K17)","v":{"$error":"#N/A"}},{"$f":"'Sheet3 (4)'!U17","v":0},{"$f":"CORREL($B$1:B17,$M$1:M17)","v":{"$error":"#N/A"}},{"$f":"'Sheet3 (4)'!W17","v":5.2397170552790154E-4},{"$f":"CORREL($B$1:B17,$O$1:O17)","v":{"$error":"#N/A"}},{"$f":"'Sheet3 (4)'!Y17","v":-2.4800939825088109E-3},{"$f":"CORREL($B$1:B17,$Q$1:Q17)","v":{"$error":"#N/A"}},{"$f":"'Sheet3 (4)'!AA17","v":1.1767782426778243E-3},{"$f":"CORREL($B$1:B17,$S$1:S17)","v":{"$error":"#N/A"}}]
[null,{"$f":"'Sheet3 (4)'!I18","v":{"$error":"#N/A"}},{"$f":"'Sheet3 (4)'!K18","v":2.8780743066457353E-3},{"$f":"CORREL($B$1:B18,$C$1:C18)","v":{"$error":"#N/A"}},{"$f":"'Sheet3 (4)'!M18","v":1.9664394336654429E-3},{"$f":"CORREL($B$1:B18,$E$1:E18)","v":{"$error":"#N/A"}},{"$f":"'Sheet3 (4)'!O18","v":-2.6171159382360636E-4},{"$f":"CORREL($B$1:B18,$G$1:G18)","v":{"$error":"#N/A"}},{"$f":"'Sheet3 (4)'!Q18","v":-9.1575091575091575E-4},{"$f":"CORREL($B$1:B18,$I$1:I18)","v":{"$error":"#N/A"}},{"$f":"'Sheet3 (4)'!S18","v":-1.9597596028220537E-3},{"$f":"CORREL($B$1:B18,$K$1:K18)","v":{"$error":"#N/A"}},{"$f":"'Sheet3 (4)'!U18","v":1.3065064018813691E-4},{"$f":"CORREL($B$1:B18,$M$1:M18)","v":{"$error":"#N/A"}},{"$f":"'Sheet3 (4)'!W18","v":2.6198585276395077E-4},{"$f":"CORREL($B$1:B18,$O$1:O18)","v":{"$error":"#N/A"}},{"$f":"'Sheet3 (4)'!Y18","v":-2.4800939825088109E-3},{"$f":"CORREL($B$1:B18,$Q$1:Q18)","v":{"$error":"#N/A"}},{"$f":"'Sheet3 (4)'!AA18","v":1.0460251046025104E-3},{"$f":"CORREL($B$1:B18,$S$1:S18)","v":{"$error":"#N/A"}}]
[null,{"$f":"'Sheet3 (4)'!I19","v":{"$error":"#N/A"}},{"$f":"'Sheet3 (4)'!K19","v":3.4013605442176869E-3},{"$f":"CORREL($B$1:B19,$C$1:C19)","v":{"$error":"#N/A"}},{"$f":"'Sheet3 (4)'!M19","v":2.2286313581541687E-3},{"$f":"CORREL($B$1:B19,$E$1:E19)","v":{"$error":"#N/A"}},{"$f":"'Sheet3 (4)'!O19","v":-3.925673907354096E-4},{"$f":"CORREL($B$1:B19,$G$1:G19)","v":{"$error":"#N/A"}},{"$f":"'Sheet3 (4)'!Q19","v":-9.1575091575091575E-4},{"$f":"CORREL($B$1:B19,$I$1:I19)","v":{"$error":"#N/A"}},{"$f":"'Sheet3 (4)'!S19","v":-1.8291089626339169E-3},{"$f":"CORREL($B$1:B19,$K$1:K19)","v":{"$error":"#N/A"}},{"$f":"'Sheet3 (4)'!U19","v":2.6130128037627382E-4},{"$f":"CORREL($B$1:B19,$M$1:M19)","v":{"$error":"#N/A"}},{"$f":"'Sheet3 (4)'!W19","v":6.5496463190987681E-4},{"$f":"CORREL($B$1:B19,$O$1:O19)","v":{"$error":"#N/A"}},{"$f":"'Sheet3 (4)'!Y19","v":-2.6106252447461167E-3},{"$f":"CORREL($B$1:B19,$Q$1:Q19)","v":{"$error":"#N/A"}},{"$f":"'Sheet3 (4)'!AA19","v":1.1767782426778243E-3},{"$f":"CORREL($B$1:B19,$S$1:S19)","v":{"$error":"#N/A"}}]
[null,{"$f":"'Sheet3 (4)'!I20","v":{"$error":"#N/A"}},{"$f":"'Sheet3 (4)'!K20","v":3.2705389848246991E-3},{"$f":"CORREL($B$1:B20,$C$1:C20)","v":{"$error":"#N/A"}},{"$f":"'Sheet3 (4)'!M20","v":2.097535395909806E-3},{"$f":"CORREL($B$1:B20,$E$1:E20)","v":{"$error":"#N/A"}},{"$f":"'Sheet3 (4)'!O20","v":-3.925673907354096E-4},{"$f":"CORREL($B$1:B20,$G$1:G20)","v":{"$error":"#N/A"}},{"$f":"'Sheet3 (4)'!Q20","v":-6.5410779696493981E-4},{"$f":"CORREL($B$1:B20,$I$1:I20)","v":{"$error":"#N/A"}},{"$f":"'Sheet3 (4)'!S20","v":-1.8291089626339169E-3},{"$f":"CORREL($B$1:B20,$K$1:K20)","v":{"$error":"#N/A"}},{"$f":"'Sheet3 (4)'!U20","v":3.9195192056441075E-4},{"$f":"CORREL($B$1:B20,$M$1:M20)","v":{"$error":"#N/A"}},{"$f":"'Sheet3 (4)'!W20","v":6.5496463190987681E-4},{"$f":"CORREL($B$1:B20,$O$1:O20)","v":{"$error":"#N/A"}},{"$f":"'Sheet3 (4)'!Y20","v":-2.7411565069834225E-3},{"$f":"CORREL($B$1:B20,$Q$1:Q20)","v":{"$error":"#N/A"}},{"$f":"'Sheet3 (4)'!AA20","v":1.307531380753138E-3},{"$f":"CORREL($B$1:B20,$S$1:S20)","v":{"$error":"#N/A"}}]
[null,{"$f":"'Sheet3 (4)'!I21","v":{"$error":"#N/A"}},{"$f":"'Sheet3 (4)'!K21","v":3.0088958660387231E-3},{"$f":"CORREL($B$1:B21,$C$1:C21)","v":{"$error":"#N/A"}},{"$f":"'Sheet3 (4)'!M21","v":2.097535395909806E-3},{"$f":"CORREL($B$1:B21,$E$1:E21)","v":{"$error":"#N/A"}},{"$f":"'Sheet3 (4)'!O21","v":-2.6171159382360636E-4},{"$f":"CORREL($B$1:B21,$G$1:G21)","v":{"$error":"#N/A"}},{"$f":"'Sheet3 (4)'!Q21","v":-5.2328623757195189E-4},{"$f":"CORREL($B$1:B21,$I$1:I21)","v":{"$error":"#N/A"}},{"$f":"'Sheet3 (4)'!S21","v":-1.8291089626339169E-3},{"$f":"CORREL($B$1:B21,$K$1:K21)","v":{"$error":"#N/A"}},{"$f":"'Sheet3 (4)'!U21","v":5.2260256075254764E-4},{"$f":"CORREL($B$1:B21,$M$1:M21)","v":{"$error":"#N/A"}},{"$f":"'Sheet3 (4)'!W21","v":5.2397170552790154E-4},{"$f":"CORREL($B$1:B21,$O$1:O21)","v":{"$error":"#N/A"}},{"$f":"'Sheet3 (4)'!Y21","v":-2.8716877692207283E-3},{"$f":"CORREL($B$1:B21,$Q$1:Q21)","v":{"$error":"#N/A"}},{"$f":"'Sheet3 (4)'!AA21","v":1.4382845188284519E-3},{"$f":"CORREL($B$1:B21,$S$1:S21)","v":{"$error":"#N/A"}}]
[null,{"$f":"'Sheet3 (4)'!I22","v":{"$error":"#N/A"}},{"$f":"'Sheet3 (4)'!K22","v":3.0088958660387231E-3},{"$f":"CORREL($B$1:B22,$C$1:C22)","v":{"$error":"#N/A"}},{"$f":"'Sheet3 (4)'!M22","v":1.9664394336654429E-3},{"$f":"CORREL($B$1:B22,$E$1:E22)","v":{"$error":"#N/A"}},{"$f":"'Sheet3 (4)'!O22","v":-2.6171159382360636E-4},{"$f":"CORREL($B$1:B22,$G$1:G22)","v":{"$error":"#N/A"}},{"$f":"'Sheet3 (4)'!Q22","v":-5.2328623757195189E-4},{"$f":"CORREL($B$1:B22,$I$1:I22)","v":{"$error":"#N/A"}},{"$f":"'Sheet3 (4)'!S22","v":-1.567807682257643E-3},{"$f":"CORREL($B$1:B22,$K$1:K22)","v":{"$error":"#N/A"}},{"$f":"'Sheet3 (4)'!U22","v":2.6130128037627382E-4},{"$f":"CORREL($B$1:B22,$M$1:M22)","v":{"$error":"#N/A"}},{"$f":"'Sheet3 (4)'!W22","v":5.2397170552790154E-4},{"$f":"CORREL($B$1:B22,$O$1:O22)","v":{"$error":"#N/A"}},{"$f":"'Sheet3 (4)'!Y22","v":-2.7411565069834225E-3},{"$f":"CORREL($B$1:B22,$Q$1:Q22)","v":{"$error":"#N/A"}},{"$f":"'Sheet3 (4)'!AA22","v":1.307531380753138E-3},{"$f":"CORREL($B$1:B22,$S$1:S22)","v":{"$error":"#N/A"}}]
[null,{"$f":"'Sheet3 (4)'!I23","v":{"$error":"#N/A"}},{"$f":"'Sheet3 (4)'!K23","v":3.0088958660387231E-3},{"$f":"CORREL($B$1:B23,$C$1:C23)","v":{"$error":"#N/A"}},{"$f":"'Sheet3 (4)'!M23","v":2.097535395909806E-3},{"$f":"CORREL($B$1:B23,$E$1:E23)","v":{"$error":"#N/A"}},{"$f":"'Sheet3 (4)'!O23","v":-2.6171159382360636E-4},{"$f":"CORREL($B$1:B23,$G$1:G23)","v":{"$error":"#N/A"}},{"$f":"'Sheet3 (4)'!Q23","v":-5.2328623757195189E-4},{"$f":"CORREL($B$1:B23,$I$1:I23)","v":{"$error":"#N/A"}},{"$f":"'Sheet3 (4)'!S23","v":-1.0452051215050953E-3},{"$f":"CORREL($B$1:B23,$K$1:K23)","v":{"$error":"#N/A"}},{"$f":"'Sheet3 (4)'!U23","v":3.9195192056441075E-4},{"$f":"CORREL($B$1:B23,$M$1:M23)","v":{"$error":"#N/A"}},{"$f":"'Sheet3 (4)'!W23","v":3.929787791459261E-4},{"$f":"CORREL($B$1:B23,$O$1:O23)","v":{"$error":"#N/A"}},{"$f":"'Sheet3 (4)'!Y23","v":-2.7411565069834225E-3},{"$f":"CORREL($B$1:B23,$Q$1:Q23)","v":{"$error":"#N/A"}},{"$f":"'Sheet3 (4)'!AA23","v":1.4382845188284519E-3},{"$f":"CORREL($B$1:B23,$S$1:S23)","v":{"$error":"#N/A"}}]
[null,{"$f":"'Sheet3 (4)'!I24","v":{"$error":"#N/A"}},{"$f":"'Sheet3 (4)'!K24","v":2.8780743066457353E-3},{"$f":"CORREL($B$1:B24,$C$1:C24)","v":{"$error":"#N/A"}},{"$f":"'Sheet3 (4)'!M24","v":2.2286313581541687E-3},{"$f":"CORREL($B$1:B24,$E$1:E24)","v":{"$error":"#N/A"}},{"$f":"'Sheet3 (4)'!O24","v":-1.3085579691180318E-4},{"$f":"CORREL($B$1:B24,$G$1:G24)","v":{"$error":"#N/A"}},{"$f":"'Sheet3 (4)'!Q24","v":-6.5410779696493981E-4},{"$f":"CORREL($B$1:B24,$I$1:I24)","v":{"$error":"#N/A"}},{"$f":"'Sheet3 (4)'!S24","v":-1.0452051215050953E-3},{"$f":"CORREL($B$1:B24,$K$1:K24)","v":{"$error":"#N/A"}},{"$f":"'Sheet3 (4)'!U24","v":3.9195192056441075E-4},{"$f":"CORREL($B$1:B24,$M$1:M24)","v":{"$error":"#N/A"}},{"$f":"'Sheet3 (4)'!W24","v":2.6198585276395077E-4},{"$f":"CORREL($B$1:B24,$O$1:O24)","v":{"$error":"#N/A"}},{"$f":"'Sheet3 (4)'!Y24","v":-2.8716877692207283E-3},{"$f":"CORREL($B$1:B24,$Q$1:Q24)","v":{"$error":"#N/A"}},{"$f":"'Sheet3 (4)'!AA24","v":1.1767782426778243E-3},{"$f":"CORREL($B$1:B24,$S$1:S24)","v":{"$error":"#N/A"}}]
[null,{"$f":"'Sheet3 (4)'!I25","v":{"$error":"#N/A"}},{"$f":"'Sheet3 (4)'!K25","v":2.4856096284667714E-3},{"$f":"CORREL($B$1:B25,$C$1:C25)","v":{"$error":"#N/A"}},{"$f":"'Sheet3 (4)'!M25","v":1.9664394336654429E-3},{"$f":"CORREL($B$1:B25,$E$1:E25)","v":{"$error":"#N/A"}},{"$f":"'Sheet3 (4)'!O25","v":-1.3085579691180318E-4},{"$f":"CORREL($B$1:B25,$G$1:G25)","v":{"$error":"#N/A"}},{"$f":"'Sheet3 (4)'!Q25","v":-6.5410779696493981E-4},{"$f":"CORREL($B$1:B25,$I$1:I25)","v":{"$error":"#N/A"}},{"$f":"'Sheet3 (4)'!S25","v":-1.1758557616932323E-3},{"$f":"CORREL($B$1:B25,$K$1:K25)","v":{"$error":"#N/A"}},{"$f":"'Sheet3 (4)'!U25","v":6.5325320094068457E-4},{"$f":"CORREL($B$1:B25,$M$1:M25)","v":{"$error":"#N/A"}},{"$f":"'Sheet3 (4)'!W25","v":2.6198585276395077E-4},{"$f":"CORREL($B$1:B25,$O$1:O25)","v":{"$error":"#N/A"}},{"$f":"'Sheet3 (4)'!Y25","v":-3.0022190314580341E-3},{"$f":"CORREL($B$1:B25,$Q$1:Q25)","v":{"$error":"#N/A"}},{"$f":"'Sheet3 (4)'!AA25","v":1.307531380753138E-3},{"$f":"CORREL($B$1:B25,$S$1:S25)","v":{"$error":"#N/A"}}]
[null,{"$f":"'Sheet3 (4)'!I26","v":{"$error":"#N/A"}},{"$f":"'Sheet3 (4)'!K26","v":2.4856096284667714E-3},{"$f":"CORREL($B$1:B26,$C$1:C26)","v":{"$error":"#N/A"}},{"$f":"'Sheet3 (4)'!M26","v":2.2286313581541687E-3},{"$f":"CORREL($B$1:B26,$E$1:E26)","v":{"$error":"#N/A"}},{"$f":"'Sheet3 (4)'!O26","v":1.3085579691180318E-4},{"$f":"CORREL($B$1:B26,$G$1:G26)","v":{"$error":"#N/A"}},{"$f":"'Sheet3 (4)'!Q26","v":-6.5410779696493981E-4},{"$f":"CORREL($B$1:B26,$I$1:I26)","v":{"$error":"#N/A"}},{"$f":"'Sheet3 (4)'!S26","v":-1.0452051215050953E-3},{"$f":"CORREL($B$1:B26,$K$1:K26)","v":{"$error":"#N/A"}},{"$f":"'Sheet3 (4)'!U26","v":2.6130128037627382E-4},{"$f":"CORREL($B$1:B26,$M$1:M26)","v":{"$error":"#N/A"}},{"$f":"'Sheet3 (4)'!W26","v":2.6198585276395077E-4},{"$f":"CORREL($B$1:B26,$O$1:O26)","v":{"$error":"#N/A"}},{"$f":"'Sheet3 (4)'!Y26","v":-3.0022190314580341E-3},{"$f":"CORREL($B$1:B26,$Q$1:Q26)","v":{"$error":"#N/A"}},{"$f":"'Sheet3 (4)'!AA26","v":1.6997907949790796E-3},{"$f":"CORREL($B$1:B26,$S$1:S26)","v":{"$error":"#N/A"}}]
[null,{"$f":"'Sheet3 (4)'!I27","v":{"$error":"#N/A"}},{"$f":"'Sheet3 (4)'!K27","v":2.6164311878597592E-3},{"$f":"CORREL($B$1:B27,$C$1:C27)","v":{"$error":"#N/A"}},{"$f":"'Sheet3 (4)'!M27","v":1.9664394336654429E-3},{"$f":"CORREL($B$1:B27,$E$1:E27)","v":{"$error":"#N/A"}},{"$f":"'Sheet3 (4)'!O27","v":1.3085579691180318E-4},{"$f":"CORREL($B$1:B27,$G$1:G27)","v":{"$error":"#N/A"}},{"$f":"'Sheet3 (4)'!Q27","v":-3.9246467817896392E-4},{"$f":"CORREL($B$1:B27,$I$1:I27)","v":{"$error":"#N/A"}},{"$f":"'Sheet3 (4)'!S27","v":-9.1455448131695844E-4},{"$f":"CORREL($B$1:B27,$K$1:K27)","v":{"$error":"#N/A"}},{"$f":"'Sheet3 (4)'!U27","v":2.6130128037627382E-4},{"$f":"CORREL($B$1:B27,$M$1:M27)","v":{"$error":"#N/A"}},{"$f":"'Sheet3 (4)'!W27","v":1.3099292638197538E-4},{"$f":"CORREL($B$1:B27,$O$1:O27)","v":{"$error":"#N/A"}},{"$f":"'Sheet3 (4)'!Y27","v":-3.1327502936953399E-3},{"$f":"CORREL($B$1:B27,$Q$1:Q27)","v":{"$error":"#N/A"}},{"$f":"'Sheet3 (4)'!AA27","v":1.6997907949790796E-3},{"$f":"CORREL($B$1:B27,$S$1:S27)","v":{"$error":"#N/A"}}]
[null,{"$f":"'Sheet3 (4)'!I28","v":{"$error":"#N/A"}},{"$f":"'Sheet3 (4)'!K28","v":2.4856096284667714E-3},{"$f":"CORREL($B$1:B28,$C$1:C28)","v":{"$error":"#N/A"}},{"$f":"'Sheet3 (4)'!M28","v":2.097535395909806E-3},{"$f":"CORREL($B$1:B28,$E$1:E28)","v":{"$error":"#N/A"}},{"$f":"'Sheet3 (4)'!O28","v":2.6171159382360636E-4},{"$f":"CORREL($B$1:B28,$G$1:G28)","v":{"$error":"#N/A"}},{"$f":"'Sheet3 (4)'!Q28","v":-5.2328623757195189E-4},{"$f":"CORREL($B$1:B28,$I$1:I28)","v":{"$error":"#N/A"}},{"$f":"'Sheet3 (4)'!S28","v":-9.1455448131695844E-4},{"$f":"CORREL($B$1:B28,$K$1:K28)","v":{"$error":"#N/A"}},{"$f":"'Sheet3 (4)'!U28","v":3.9195192056441075E-4},{"$f":"CORREL($B$1:B28,$M$1:M28)","v":{"$error":"#N/A"}},{"$f":"'Sheet3 (4)'!W28","v":2.6198585276395077E-4},{"$f":"CORREL($B$1:B28,$O$1:O28)","v":{"$error":"#N/A"}},{"$f":"'Sheet3 (4)'!Y28","v":-3.2632815559326457E-3},{"$f":"CORREL($B$1:B28,$Q$1:Q28)","v":{"$error":"#N/A"}},{"$f":"'Sheet3 (4)'!AA28","v":1.4382845188284519E-3},{"$f":"CORREL($B$1:B28,$S$1:S28)","v":{"$error":"#N/A"}}]
[null,{"$f":"'Sheet3 (4)'!I29","v":{"$error":"#N/A"}},{"$f":"'Sheet3 (4)'!K29","v":2.4856096284667714E-3},{"$f":"CORREL($B$1:B29,$C$1:C29)","v":{"$error":"#N/A"}},{"$f":"'Sheet3 (4)'!M29","v":1.8353434714210803E-3},{"$f":"CORREL($B$1:B29,$E$1:E29)","v":{"$error":"#N/A"}},{"$f":"'Sheet3 (4)'!O29","v":2.6171159382360636E-4},{"$f":"CORREL($B$1:B29,$G$1:G29)","v":{"$error":"#N/A"}},{"$f":"'Sheet3 (4)'!Q29","v":-7.8492935635792783E-4},{"$f":"CORREL($B$1:B29,$I$1:I29)","v":{"$error":"#N/A"}},{"$f":"'Sheet3 (4)'!S29","v":-1.0452051215050953E-3},{"$f":"CORREL($B$1:B29,$K$1:K29)","v":{"$error":"#N/A"}},{"$f":"'Sheet3 (4)'!U29","v":3.9195192056441075E-4},{"$f":"CORREL($B$1:B29,$M$1:M29)","v":{"$error":"#N/A"}},{"$f":"'Sheet3 (4)'!W29","v":1.3099292638197538E-4},{"$f":"CORREL($B$1:B29,$O$1:O29)","v":{"$error":"#N/A"}},{"$f":"'Sheet3 (4)'!Y29","v":-3.1327502936953399E-3},{"$f":"CORREL($B$1:B29,$Q$1:Q29)","v":{"$error":"#N/A"}},{"$f":"'Sheet3 (4)'!AA29","v":1.6997907949790796E-3},{"$f":"CORREL($B$1:B29,$S$1:S29)","v":{"$error":"#N/A"}}]
[null,{"$f":"'Sheet3 (4)'!I30","v":{"$error":"#N/A"}},{"$f":"'Sheet3 (4)'!K30","v":2.3547880690737832E-3},{"$f":"CORREL($B$1:B30,$C$1:C30)","v":{"$error":"#N/A"}},{"$f":"'Sheet3 (4)'!M30","v":1.7042475091767174E-3},{"$f":"CORREL($B$1:B30,$E$1:E30)","v":{"$error":"#N/A"}},{"$f":"'Sheet3 (4)'!O30","v":1.3085579691180318E-4},{"$f":"CORREL($B$1:B30,$G$1:G30)","v":{"$error":"#N/A"}},{"$f":"'Sheet3 (4)'!Q30","v":-6.5410779696493981E-4},{"$f":"CORREL($B$1:B30,$I$1:I30)","v":{"$error":"#N/A"}},{"$f":"'Sheet3 (4)'!S30","v":-1.1758557616932323E-3},{"$f":"CORREL($B$1:B30,$K$1:K30)","v":{"$error":"#N/A"}},{"$f":"'Sheet3 (4)'!U30","v":3.9195192056441075E-4},{"$f":"CORREL($B$1:B30,$M$1:M30)","v":{"$error":"#N/A"}},{"$f":"'Sheet3 (4)'!W30","v":5.2397170552790154E-4},{"$f":"CORREL($B$1:B30,$O$1:O30)","v":{"$error":"#N/A"}},{"$f":"'Sheet3 (4)'!Y30","v":-3.1327502936953399E-3},{"$f":"CORREL($B$1:B30,$Q$1:Q30)","v":{"$error":"#N/A"}},{"$f":"'Sheet3 (4)'!AA30","v":1.8305439330543933E-3},{"$f":"CORREL($B$1:B30,$S$1:S30)","v":{"$error":"#N/A"}}]
[null,{"$f":"'Sheet3 (4)'!I31","v":{"$error":"#N/A"}},{"$f":"'Sheet3 (4)'!K31","v":2.4856096284667714E-3},{"$f":"CORREL($B$1:B31,$C$1:C31)","v":{"$error":"#N/A"}},{"$f":"'Sheet3 (4)'!M31","v":1.9664394336654429E-3},{"$f":"CORREL($B$1:B31,$E$1:E31)","v":{"$error":"#N/A"}},{"$f":"'Sheet3 (4)'!O31","v":2.6171159382360636E-4},{"$f":"CORREL($B$1:B31,$G$1:G31)","v":{"$error":"#N/A"}},{"$f":"'Sheet3 (4)'!Q31","v":-9.1575091575091575E-4},{"$f":"CORREL($B$1:B31,$I$1:I31)","v":{"$error":"#N/A"}},{"$f":"'Sheet3 (4)'!S31","v":-1.3065064018813691E-3},{"$f":"CORREL($B$1:B31,$K$1:K31)","v":{"$error":"#N/A"}},{"$f":"'Sheet3 (4)'!U31","v":7.8390384112882151E-4},{"$f":"CORREL($B$1:B31,$M$1:M31)","v":{"$error":"#N/A"}},{"$f":"'Sheet3 (4)'!W31","v":3.929787791459261E-4},{"$f":"CORREL($B$1:B31,$O$1:O31)","v":{"$error":"#N/A"}},{"$f":"'Sheet3 (4)'!Y31","v":-3.2632815559326457E-3},{"$f":"CORREL($B$1:B31,$Q$1:Q31)","v":{"$error":"#N/A"}},{"$f":"'Sheet3 (4)'!AA31","v":1.961297071129707E-3},{"$f":"CORREL($B$1:B31,$S$1:S31)","v":{"$error":"#N/A"}}]
[null,{"$f":"'Sheet3 (4)'!I32","v":{"$error":"#N/A"}},{"$f":"'Sheet3 (4)'!K32","v":2.2239665096807954E-3},{"$f":"CORREL($B$1:B32,$C$1:C32)","v":{"$error":"#N/A"}},{"$f":"'Sheet3 (4)'!M32","v":1.7042475091767174E-3},{"$f":"CORREL($B$1:B32,$E$1:E32)","v":{"$error":"#N/A"}},{"$f":"'Sheet3 (4)'!O32","v":3.925673907354096E-4},{"$f":"CORREL($B$1:B32,$G$1:G32)","v":{"$error":"#N/A"}},{"$f":"'Sheet3 (4)'!Q32","v":-7.8492935635792783E-4},{"$f":"CORREL($B$1:B32,$I$1:I32)","v":{"$error":"#N/A"}},{"$f":"'Sheet3 (4)'!S32","v":-1.1758557616932323E-3},{"$f":"CORREL($B$1:B32,$K$1:K32)","v":{"$error":"#N/A"}},{"$f":"'Sheet3 (4)'!U32","v":7.8390384112882151E-4},{"$f":"CORREL($B$1:B32,$M$1:M32)","v":{"$error":"#N/A"}},{"$f":"'Sheet3 (4)'!W32","v":1.3099292638197538E-4},{"$f":"CORREL($B$1:B32,$O$1:O32)","v":{"$error":"#N/A"}},{"$f":"'Sheet3 (4)'!Y32","v":-3.2632815559326457E-3},{"$f":"CORREL($B$1:B32,$Q$1:Q32)","v":{"$error":"#N/A"}},{"$f":"'Sheet3 (4)'!AA32","v":2.0920502092050207E-3},{"$f":"CORREL($B$1:B32,$S$1:S32)","v":{"$error":"#N/A"}}]
[null,{"$f":"'Sheet3 (4)'!I33","v":{"$error":"#N/A"}},{"$f":"'Sheet3 (4)'!K33","v":1.8315018315018315E-3},{"$f":"CORREL($B$1:B33,$C$1:C33)","v":{"$error":"#N/A"}},{"$f":"'Sheet3 (4)'!M33","v":1.8353434714210803E-3},{"$f":"CORREL($B$1:B33,$E$1:E33)","v":{"$error":"#N/A"}},{"$f":"'Sheet3 (4)'!O33","v":3.925673907354096E-4},{"$f":"CORREL($B$1:B33,$G$1:G33)","v":{"$error":"#N/A"}},{"$f":"'Sheet3 (4)'!Q33","v":-7.8492935635792783E-4},{"$f":"CORREL($B$1:B33,$I$1:I33)","v":{"$error":"#N/A"}},{"$f":"'Sheet3 (4)'!S33","v":-1.1758557616932323E-3},{"$f":"CORREL($B$1:B33,$K$1:K33)","v":{"$error":"#N/A"}},{"$f":"'Sheet3 (4)'!U33","v":3.9195192056441075E-4},{"$f":"CORREL($B$1:B33,$M$1:M33)","v":{"$error":"#N/A"}},{"$f":"'Sheet3 (4)'!W33","v":2.6198585276395077E-4},{"$f":"CORREL($B$1:B33,$O$1:O33)","v":{"$error":"#N/A"}},{"$f":"'Sheet3 (4)'!Y33","v":-3.3938128181699519E-3},{"$f":"CORREL($B$1:B33,$Q$1:Q33)","v":{"$error":"#N/A"}},{"$f":"'Sheet3 (4)'!AA33","v":2.2228033472803349E-3},{"$f":"CORREL($B$1:B33,$S$1:S33)","v":{"$error":"#N/A"}}]
[null,{"$f":"'Sheet3 (4)'!I34","v":{"$error":"#N/A"}},{"$f":"'Sheet3 (4)'!K34","v":1.8315018315018315E-3},{"$f":"CORREL($B$1:B34,$C$1:C34)","v":{"$error":"#N/A"}},{"$f":"'Sheet3 (4)'!M34","v":1.7042475091767174E-3},{"$f":"CORREL($B$1:B34,$E$1:E34)","v":{"$error":"#N/A"}},{"$f":"'Sheet3 (4)'!O34","v":2.6171159382360636E-4},{"$f":"CORREL($B$1:B34,$G$1:G34)","v":{"$error":"#N/A"}},{"$f":"'Sheet3 (4)'!Q34","v":-5.2328623757195189E-4},{"$f":"CORREL($B$1:B34,$I$1:I34)","v":{"$error":"#N/A"}},{"$f":"'Sheet3 (4)'!S34","v":-1.0452051215050953E-3},{"$f":"CORREL($B$1:B34,$K$1:K34)","v":{"$error":"#N/A"}},{"$f":"'Sheet3 (4)'!U34","v":3.9195192056441075E-4},{"$f":"CORREL($B$1:B34,$M$1:M34)","v":{"$error":"#N/A"}},{"$f":"'Sheet3 (4)'!W34","v":3.929787791459261E-4},{"$f":"CORREL($B$1:B34,$O$1:O34)","v":{"$error":"#N/A"}},{"$f":"'Sheet3 (4)'!Y34","v":-3.1327502936953399E-3},{"$f":"CORREL($B$1:B34,$Q$1:Q34)","v":{"$error":"#N/A"}},{"$f":"'Sheet3 (4)'!AA34","v":2.2228033472803349E-3},{"$f":"CORREL($B$1:B34,$S$1:S34)","v":{"$error":"#N/A"}}]
[null,{"$f":"'Sheet3 (4)'!I35","v":{"$error":"#N/A"}},{"$f":"'Sheet3 (4)'!K35","v":1.7006802721088435E-3},{"$f":"CORREL($B$1:B35,$C$1:C35)","v":{"$error":"#N/A"}},{"$f":"'Sheet3 (4)'!M35","v":1.7042475091767174E-3},{"$f":"CORREL($B$1:B35,$E$1:E35)","v":{"$error":"#N/A"}},{"$f":"'Sheet3 (4)'!O35","v":1.3085579691180318E-4},{"$f":"CORREL($B$1:B35,$G$1:G35)","v":{"$error":"#N/A"}},{"$f":"'Sheet3 (4)'!Q35","v":-5.2328623757195189E-4},{"$f":"CORREL($B$1:B35,$I$1:I35)","v":{"$error":"#N/A"}},{"$f":"'Sheet3 (4)'!S35","v":-1.0452051215050953E-3},{"$f":"CORREL($B$1:B35,$K$1:K35)","v":{"$error":"#N/A"}},{"$f":"'Sheet3 (4)'!U35","v":3.9195192056441075E-4},{"$f":"CORREL($B$1:B35,$M$1:M35)","v":{"$error":"#N/A"}},{"$f":"'Sheet3 (4)'!W35","v":7.859575582918522E-4},{"$f":"CORREL($B$1:B35,$O$1:O35)","v":{"$error":"#N/A"}},{"$f":"'Sheet3 (4)'!Y35","v":-3.1327502936953399E-3},{"$f":"CORREL($B$1:B35,$Q$1:Q35)","v":{"$error":"#N/A"}},{"$f":"'Sheet3 (4)'!AA35","v":2.2228033472803349E-3},{"$f":"CORREL($B$1:B35,$S$1:S35)","v":{"$error":"#N/A"}}]
[null,{"$f":"'Sheet3 (4)'!I36","v":{"$error":"#N/A"}},{"$f":"'Sheet3 (4)'!K36","v":1.8315018315018315E-3},{"$f":"CORREL($B$1:B36,$C$1:C36)","v":{"$error":"#N/A"}},{"$f":"'Sheet3 (4)'!M36","v":1.5731515469323545E-3},{"$f":"CORREL($B$1:B36,$E$1:E36)","v":{"$error":"#N/A"}},{"$f":"'Sheet3 (4)'!O36","v":-1.3085579691180318E-4},{"$f":"CORREL($B$1:B36,$G$1:G36)","v":{"$error":"#N/A"}},{"$f":"'Sheet3 (4)'!Q36","v":-5.2328623757195189E-4},{"$f":"CORREL($B$1:B36,$I$1:I36)","v":{"$error":"#N/A"}},{"$f":"'Sheet3 (4)'!S36","v":-1.0452051215050953E-3},{"$f":"CORREL($B$1:B36,$K$1:K36)","v":{"$error":"#N/A"}},{"$f":"'Sheet3 (4)'!U36","v":7.8390384112882151E-4},{"$f":"CORREL($B$1:B36,$M$1:M36)","v":{"$error":"#N/A"}},{"$f":"'Sheet3 (4)'!W36","v":1.0479434110558031E-3},{"$f":"CORREL($B$1:B36,$O$1:O36)","v":{"$error":"#N/A"}},{"$f":"'Sheet3 (4)'!Y36","v":-3.2632815559326457E-3},{"$f":"CORREL($B$1:B36,$Q$1:Q36)","v":{"$error":"#N/A"}},{"$f":"'Sheet3 (4)'!AA36","v":2.0920502092050207E-3},{"$f":"CORREL($B$1:B36,$S$1:S36)","v":{"$error":"#N/A"}}]
[null,{"$f":"'Sheet3 (4)'!I37","v":{"$error":"#N/A"}},{"$f":"'Sheet3 (4)'!K37","v":1.7006802721088435E-3},{"$f":"CORREL($B$1:B37,$C$1:C37)","v":{"$error":"#N/A"}},{"$f":"'Sheet3 (4)'!M37","v":1.7042475091767174E-3},{"$f":"CORREL($B$1:B37,$E$1:E37)","v":{"$error":"#N/A"}},{"$f":"'Sheet3 (4)'!O37","v":-1.3085579691180318E-4},{"$f":"CORREL($B$1:B37,$G$1:G37)","v":{"$error":"#N/A"}},{"$f":"'Sheet3 (4)'!Q37","v":-5.2328623757195189E-4},{"$f":"CORREL($B$1:B37,$I$1:I37)","v":{"$error":"#N/A"}},{"$f":"'Sheet3 (4)'!S37","v":-1.0452051215050953E-3},{"$f":"CORREL($B$1:B37,$K$1:K37)","v":{"$error":"#N/A"}},{"$f":"'Sheet3 (4)'!U37","v":7.8390384112882151E-4},{"$f":"CORREL($B$1:B37,$M$1:M37)","v":{"$error":"#N/A"}},{"$f":"'Sheet3 (4)'!W37","v":7.859575582918522E-4},{"$f":"CORREL($B$1:B37,$O$1:O37)","v":{"$error":"#N/A"}},{"$f":"'Sheet3 (4)'!Y37","v":-3.0022190314580341E-3},{"$f":"CORREL($B$1:B37,$Q$1:Q37)","v":{"$error":"#N/A"}},{"$f":"'Sheet3 (4)'!AA37","v":1.961297071129707E-3},{"$f":"CORREL($B$1:B37,$S$1:S37)","v":{"$error":"#N/A"}}]
[null,{"$f":"'Sheet3 (4)'!I38","v":{"$error":"#N/A"}},{"$f":"'Sheet3 (4)'!K38","v":1.8315018315018315E-3},{"$f":"CORREL($B$1:B38,$C$1:C38)","v":{"$error":"#N/A"}},{"$f":"'Sheet3 (4)'!M38","v":1.7042475091767174E-3},{"$f":"CORREL($B$1:B38,$E$1:E38)","v":{"$error":"#N/A"}},{"$f":"'Sheet3 (4)'!O38","v":0},{"$f":"CORREL($B$1:B38,$G$1:G38)","v":{"$error":"#N/A"}},{"$f":"'Sheet3 (4)'!Q38","v":-6.5410779696493981E-4},{"$f":"CORREL($B$1:B38,$I$1:I38)","v":{"$error":"#N/A"}},{"$f":"'Sheet3 (4)'!S38","v":-1.0452051215050953E-3},{"$f":"CORREL($B$1:B38,$K$1:K38)","v":{"$error":"#N/A"}},{"$f":"'Sheet3 (4)'!U38","v":9.1455448131695844E-4},{"$f":"CORREL($B$1:B38,$M$1:M38)","v":{"$error":"#N/A"}},{"$f":"'Sheet3 (4)'!W38","v":1.0479434110558031E-3},{"$f":"CORREL($B$1:B38,$O$1:O38)","v":{"$error":"#N/A"}},{"$f":"'Sheet3 (4)'!Y38","v":-3.1327502936953399E-3},{"$f":"CORREL($B$1:B38,$Q$1:Q38)","v":{"$error":"#N/A"}},{"$f":"'Sheet3 (4)'!AA38","v":1.8305439330543933E-3},{"$f":"CORREL($B$1:B38,$S$1:S38)","v":{"$error":"#N/A"}}]
[null,{"$f":"'Sheet3 (4)'!I39","v":{"$error":"#N/A"}},{"$f":"'Sheet3 (4)'!K39","v":1.8315018315018315E-3},{"$f":"CORREL($B$1:B39,$C$1:C39)","v":{"$error":"#N/A"}},{"$f":"'Sheet3 (4)'!M39","v":1.7042475091767174E-3},{"$f":"CORREL($B$1:B39,$E$1:E39)","v":{"$error":"#N/A"}},{"$f":"'Sheet3 (4)'!O39","v":-1.3085579691180318E-4},{"$f":"CORREL($B$1:B39,$G$1:G39)","v":{"$error":"#N/A"}},{"$f":"'Sheet3 (4)'!Q39","v":-6.5410779696493981E-4},{"$f":"CORREL($B$1:B39,$I$1:I39)","v":{"$error":"#N/A"}},{"$f":"'Sheet3 (4)'!S39","v":-1.0452051215050953E-3},{"$f":"CORREL($B$1:B39,$K$1:K39)","v":{"$error":"#N/A"}},{"$f":"'Sheet3 (4)'!U39","v":7.8390384112882151E-4},{"$f":"CORREL($B$1:B39,$M$1:M39)","v":{"$error":"#N/A"}},{"$f":"'Sheet3 (4)'!W39","v":9.1695048467382758E-4},{"$f":"CORREL($B$1:B39,$O$1:O39)","v":{"$error":"#N/A"}},{"$f":"'Sheet3 (4)'!Y39","v":-3.1327502936953399E-3},{"$f":"CORREL($B$1:B39,$Q$1:Q39)","v":{"$error":"#N/A"}},{"$f":"'Sheet3 (4)'!AA39","v":1.6997907949790796E-3},{"$f":"CORREL($B$1:B39,$S$1:S39)","v":{"$error":"#N/A"}}]
[null,{"$f":"'Sheet3 (4)'!I40","v":{"$error":"#N/A"}},{"$f":"'Sheet3 (4)'!K40","v":1.8315018315018315E-3},{"$f":"CORREL($B$1:B40,$C$1:C40)","v":{"$error":"#N/A"}},{"$f":"'Sheet3 (4)'!M40","v":1.8353434714210803E-3},{"$f":"CORREL($B$1:B40,$E$1:E40)","v":{"$error":"#N/A"}},{"$f":"'Sheet3 (4)'!O40","v":-1.3085579691180318E-4},{"$f":"CORREL($B$1:B40,$G$1:G40)","v":{"$error":"#N/A"}},{"$f":"'Sheet3 (4)'!Q40","v":-6.5410779696493981E-4},{"$f":"CORREL($B$1:B40,$I$1:I40)","v":{"$error":"#N/A"}},{"$f":"'Sheet3 (4)'!S40","v":-1.1758557616932323E-3},{"$f":"CORREL($B$1:B40,$K$1:K40)","v":{"$error":"#N/A"}},{"$f":"'Sheet3 (4)'!U40","v":9.1455448131695844E-4},{"$f":"CORREL($B$1:B40,$M$1:M40)","v":{"$error":"#N/A"}},{"$f":"'Sheet3 (4)'!W40","v":9.1695048467382758E-4},{"$f":"CORREL($B$1:B40,$O$1:O40)","v":{"$error":"#N/A"}},{"$f":"'Sheet3 (4)'!Y40","v":-3.2632815559326457E-3},{"$f":"CORREL($B$1:B40,$Q$1:Q40)","v":{"$error":"#N/A"}},{"$f":"'Sheet3 (4)'!AA40","v":2.3535564853556486E-3},{"$f":"CORREL($B$1:B40,$S$1:S40)","v":{"$error":"#N/A"}}]
[null,{"$f":"'Sheet3 (4)'!I41","v":{"$error":"#N/A"}},{"$f":"'Sheet3 (4)'!K41","v":1.7006802721088435E-3},{"$f":"CORREL($B$1:B41,$C$1:C41)","v":{"$error":"#N/A"}},{"$f":"'Sheet3 (4)'!M41","v":2.097535395909806E-3},{"$f":"CORREL($B$1:B41,$E$1:E41)","v":{"$error":"#N/A"}},{"$f":"'Sheet3 (4)'!O41","v":0},{"$f":"CORREL($B$1:B41,$G$1:G41)","v":{"$error":"#N/A"}},{"$f":"'Sheet3 (4)'!Q41","v":-6.5410779696493981E-4},{"$f":"CORREL($B$1:B41,$I$1:I41)","v":{"$error":"#N/A"}},{"$f":"'Sheet3 (4)'!S41","v":-1.3065064018813691E-3},{"$f":"CORREL($B$1:B41,$K$1:K41)","v":{"$error":"#N/A"}},{"$f":"'Sheet3 (4)'!U41","v":7.8390384112882151E-4},{"$f":"CORREL($B$1:B41,$M$1:M41)","v":{"$error":"#N/A"}},{"$f":"'Sheet3 (4)'!W41","v":1.0479434110558031E-3},{"$f":"CORREL($B$1:B41,$O$1:O41)","v":{"$error":"#N/A"}},{"$f":"'Sheet3 (4)'!Y41","v":-3.2632815559326457E-3},{"$f":"CORREL($B$1:B41,$Q$1:Q41)","v":{"$error":"#N/A"}},{"$f":"'Sheet3 (4)'!AA41","v":2.3535564853556486E-3},{"$f":"CORREL($B$1:B41,$S$1:S41)","v":{"$error":"#N/A"}}]
[null,{"$f":"'Sheet3 (4)'!I42","v":{"$error":"#N/A"}},{"$f":"'Sheet3 (4)'!K42","v":1.9623233908948193E-3},{"$f":"CORREL($B$1:B42,$C$1:C42)","v":{"$error":"#N/A"}},{"$f":"'Sheet3 (4)'!M42","v":2.097535395909806E-3},{"$f":"CORREL($B$1:B42,$E$1:E42)","v":{"$error":"#N/A"}},{"$f":"'Sheet3 (4)'!O42","v":-1.3085579691180318E-4},{"$f":"CORREL($B$1:B42,$G$1:G42)","v":{"$error":"#N/A"}},{"$f":"'Sheet3 (4)'!Q42","v":-7.8492935635792783E-4},{"$f":"CORREL($B$1:B42,$I$1:I42)","v":{"$error":"#N/A"}},{"$f":"'Sheet3 (4)'!S42","v":-1.3065064018813691E-3},{"$f":"CORREL($B$1:B42,$K$1:K42)","v":{"$error":"#N/A"}},{"$f":"'Sheet3 (4)'!U42","v":5.2260256075254764E-4},{"$f":"CORREL($B$1:B42,$M$1:M42)","v":{"$error":"#N/A"}},{"$f":"'Sheet3 (4)'!W42","v":1.3099292638197536E-3},{"$f":"CORREL($B$1:B42,$O$1:O42)","v":{"$error":"#N/A"}},{"$f":"'Sheet3 (4)'!Y42","v":-3.2632815559326457E-3},{"$f":"CORREL($B$1:B42,$Q$1:Q42)","v":{"$error":"#N/A"}},{"$f":"'Sheet3 (4)'!AA42","v":2.8765690376569039E-3},{"$f":"CORREL($B$1:B42,$S$1:S42)","v":{"$error":"#N/A"}}]
[null,{"$f":"'Sheet3 (4)'!I43","v":{"$error":"#N/A"}},{"$f":"'Sheet3 (4)'!K43","v":1.8315018315018315E-3},{"$f":"CORREL($B$1:B43,$C$1:C43)","v":{"$error":"#N/A"}},{"$f":"'Sheet3 (4)'!M43","v":2.097535395909806E-3},{"$f":"CORREL($B$1:B43,$E$1:E43)","v":{"$error":"#N/A"}},{"$f":"'Sheet3 (4)'!O43","v":0},{"$f":"CORREL($B$1:B43,$G$1:G43)","v":{"$error":"#N/A"}},{"$f":"'Sheet3 (4)'!Q43","v":-7.8492935635792783E-4},{"$f":"CORREL($B$1:B43,$I$1:I43)","v":{"$error":"#N/A"}},{"$f":"'Sheet3 (4)'!S43","v":-1.3065064018813691E-3},{"$f":"CORREL($B$1:B43,$K$1:K43)","v":{"$error":"#N/A"}},{"$f":"'Sheet3 (4)'!U43","v":2.6130128037627382E-4},{"$f":"CORREL($B$1:B43,$M$1:M43)","v":{"$error":"#N/A"}},{"$f":"'Sheet3 (4)'!W43","v":1.5719151165837044E-3},{"$f":"CORREL($B$1:B43,$O$1:O43)","v":{"$error":"#N/A"}},{"$f":"'Sheet3 (4)'!Y43","v":-3.1327502936953399E-3},{"$f":"CORREL($B$1:B43,$Q$1:Q43)","v":{"$error":"#N/A"}},{"$f":"'Sheet3 (4)'!AA43","v":2.7458158995815897E-3},{"$f":"CORREL($B$1:B43,$S$1:S43)","v":{"$error":"#N/A"}}]
[null,{"$f":"'Sheet3 (4)'!I44","v":{"$error":"#N/A"}},{"$f":"'Sheet3 (4)'!K44","v":1.7006802721088435E-3},{"$f":"CORREL($B$1:B44,$C$1:C44)","v":{"$error":"#N/A"}},{"$f":"'Sheet3 (4)'!M44","v":2.097535395909806E-3},{"$f":"CORREL($B$1:B44,$E$1:E44)","v":{"$error":"#N/A"}},{"$f":"'Sheet3 (4)'!O44","v":-1.3085579691180318E-4},{"$f":"CORREL($B$1:B44,$G$1:G44)","v":{"$error":"#N/A"}},{"$f":"'Sheet3 (4)'!Q44","v":-7.8492935635792783E-4},{"$f":"CORREL($B$1:B44,$I$1:I44)","v":{"$error":"#N/A"}},{"$f":"'Sheet3 (4)'!S44","v":-1.3065064018813691E-3},{"$f":"CORREL($B$1:B44,$K$1:K44)","v":{"$error":"#N/A"}},{"$f":"'Sheet3 (4)'!U44","v":5.2260256075254764E-4},{"$f":"CORREL($B$1:B44,$M$1:M44)","v":{"$error":"#N/A"}},{"$f":"'Sheet3 (4)'!W44","v":1.5719151165837044E-3},{"$f":"CORREL($B$1:B44,$O$1:O44)","v":{"$error":"#N/A"}},{"$f":"'Sheet3 (4)'!Y44","v":-3.2632815559326457E-3},{"$f":"CORREL($B$1:B44,$Q$1:Q44)","v":{"$error":"#N/A"}},{"$f":"'Sheet3 (4)'!AA44","v":2.4843096234309623E-3},{"$f":"CORREL($B$1:B44,$S$1:S44)","v":{"$error":"#N/A"}}]
[null,{"$f":"'Sheet3 (4)'!I45","v":{"$error":"#N/A"}},{"$f":"'Sheet3 (4)'!K45","v":1.5698587127158557E-3},{"$f":"CORREL($B$1:B45,$C$1:C45)","v":{"$error":"#N/A"}},{"$f":"'Sheet3 (4)'!M45","v":2.2286313581541687E-3},{"$f":"CORREL($B$1:B45,$E$1:E45)","v":{"$error":"#N/A"}},{"$f":"'Sheet3 (4)'!O45","v":-1.3085579691180318E-4},{"$f":"CORREL($B$1:B45,$G$1:G45)","v":{"$error":"#N/A"}},{"$f":"'Sheet3 (4)'!Q45","v":-7.8492935635792783E-4},{"$f":"CORREL($B$1:B45,$I$1:I45)","v":{"$error":"#N/A"}},{"$f":"'Sheet3 (4)'!S45","v":-1.4371570420695062E-3},{"$f":"CORREL($B$1:B45,$K$1:K45)","v":{"$error":"#N/A"}},{"$f":"'Sheet3 (4)'!U45","v":3.9195192056441075E-4},{"$f":"CORREL($B$1:B45,$M$1:M45)","v":{"$error":"#N/A"}},{"$f":"'Sheet3 (4)'!W45","v":1.440922190201729E-3},{"$f":"CORREL($B$1:B45,$O$1:O45)","v":{"$error":"#N/A"}},{"$f":"'Sheet3 (4)'!Y45","v":-3.2632815559326457E-3},{"$f":"CORREL($B$1:B45,$Q$1:Q45)","v":{"$error":"#N/A"}},{"$f":"'Sheet3 (4)'!AA45","v":2.4843096234309623E-3},{"$f":"CORREL($B$1:B45,$S$1:S45)","v":{"$error":"#N/A"}}]
[null,{"$f":"'Sheet3 (4)'!I46","v":{"$error":"#N/A"}},{"$f":"'Sheet3 (4)'!K46","v":1.8315018315018315E-3},{"$f":"CORREL($B$1:B46,$C$1:C46)","v":{"$error":"#N/A"}},{"$f":"'Sheet3 (4)'!M46","v":2.4908232826428944E-3},{"$f":"CORREL($B$1:B46,$E$1:E46)","v":{"$error":"#N/A"}},{"$f":"'Sheet3 (4)'!O46","v":-1.3085579691180318E-4},{"$f":"CORREL($B$1:B46,$G$1:G46)","v":{"$error":"#N/A"}},{"$f":"'Sheet3 (4)'!Q46","v":-7.8492935635792783E-4},{"$f":"CORREL($B$1:B46,$I$1:I46)","v":{"$error":"#N/A"}},{"$f":"'Sheet3 (4)'!S46","v":-1.3065064018813691E-3},{"$f":"CORREL($B$1:B46,$K$1:K46)","v":{"$error":"#N/A"}},{"$f":"'Sheet3 (4)'!U46","v":5.2260256075254764E-4},{"$f":"CORREL($B$1:B46,$M$1:M46)","v":{"$error":"#N/A"}},{"$f":"'Sheet3 (4)'!W46","v":1.7029080429656798E-3},{"$f":"CORREL($B$1:B46,$O$1:O46)","v":{"$error":"#N/A"}},{"$f":"'Sheet3 (4)'!Y46","v":-3.2632815559326457E-3},{"$f":"CORREL($B$1:B46,$Q$1:Q46)","v":{"$error":"#N/A"}},{"$f":"'Sheet3 (4)'!AA46","v":2.615062761506276E-3},{"$f":"CORREL($B$1:B46,$S$1:S46)","v":{"$error":"#N/A"}}]
[null,{"$f":"'Sheet3 (4)'!I47","v":{"$error":"#N/A"}},{"$f":"'Sheet3 (4)'!K47","v":1.7006802721088435E-3},{"$f":"CORREL($B$1:B47,$C$1:C47)","v":{"$error":"#N/A"}},{"$f":"'Sheet3 (4)'!M47","v":2.4908232826428944E-3},{"$f":"CORREL($B$1:B47,$E$1:E47)","v":{"$error":"#N/A"}},{"$f":"'Sheet3 (4)'!O47","v":0},{"$f":"CORREL($B$1:B47,$G$1:G47)","v":{"$error":"#N/A"}},{"$f":"'Sheet3 (4)'!Q47","v":-6.5410779696493981E-4},{"$f":"CORREL($B$1:B47,$I$1:I47)","v":{"$error":"#N/A"}},{"$f":"'Sheet3 (4)'!S47","v":-1.3065064018813691E-3},{"$f":"CORREL($B$1:B47,$K$1:K47)","v":{"$error":"#N/A"}},{"$f":"'Sheet3 (4)'!U47","v":6.5325320094068457E-4},{"$f":"CORREL($B$1:B47,$M$1:M47)","v":{"$error":"#N/A"}},{"$f":"'Sheet3 (4)'!W47","v":1.7029080429656798E-3},{"$f":"CORREL($B$1:B47,$O$1:O47)","v":{"$error":"#N/A"}},{"$f":"'Sheet3 (4)'!Y47","v":-3.5243440804072577E-3},{"$f":"CORREL($B$1:B47,$Q$1:Q47)","v":{"$error":"#N/A"}},{"$f":"'Sheet3 (4)'!AA47","v":2.615062761506276E-3},{"$f":"CORREL($B$1:B47,$S$1:S47)","v":{"$error":"#N/A"}}]
[null,{"$f":"'Sheet3 (4)'!I48","v":{"$error":"#N/A"}},{"$f":"'Sheet3 (4)'!K48","v":1.7006802721088435E-3},{"$f":"CORREL($B$1:B48,$C$1:C48)","v":{"$error":"#N/A"}},{"$f":"'Sheet3 (4)'!M48","v":2.7530152071316202E-3},{"$f":"CORREL($B$1:B48,$E$1:E48)","v":{"$error":"#N/A"}},{"$f":"'Sheet3 (4)'!O48","v":1.3085579691180318E-4},{"$f":"CORREL($B$1:B48,$G$1:G48)","v":{"$error":"#N/A"}},{"$f":"'Sheet3 (4)'!Q48","v":-6.5410779696493981E-4},{"$f":"CORREL($B$1:B48,$I$1:I48)","v":{"$error":"#N/A"}},{"$f":"'Sheet3 (4)'!S48","v":-1.4371570420695062E-3},{"$f":"CORREL($B$1:B48,$K$1:K48)","v":{"$error":"#N/A"}},{"$f":"'Sheet3 (4)'!U48","v":3.9195192056441075E-4},{"$f":"CORREL($B$1:B48,$M$1:M48)","v":{"$error":"#N/A"}},{"$f":"'Sheet3 (4)'!W48","v":1.7029080429656798E-3},{"$f":"CORREL($B$1:B48,$O$1:O48)","v":{"$error":"#N/A"}},{"$f":"'Sheet3 (4)'!Y48","v":-3.6548753426445635E-3},{"$f":"CORREL($B$1:B48,$Q$1:Q48)","v":{"$error":"#N/A"}},{"$f":"'Sheet3 (4)'!AA48","v":2.615062761506276E-3},{"$f":"CORREL($B$1:B48,$S$1:S48)","v":{"$error":"#N/A"}}]
[null,{"$f":"'Sheet3 (4)'!I49","v":{"$error":"#N/A"}},{"$f":"'Sheet3 (4)'!K49","v":1.5698587127158557E-3},{"$f":"CORREL($B$1:B49,$C$1:C49)","v":{"$error":"#N/A"}},{"$f":"'Sheet3 (4)'!M49","v":2.4908232826428944E-3},{"$f":"CORREL($B$1:B49,$E$1:E49)","v":{"$error":"#N/A"}},{"$f":"'Sheet3 (4)'!O49","v":-1.3085579691180318E-4},{"$f":"CORREL($B$1:B49,$G$1:G49)","v":{"$error":"#N/A"}},{"$f":"'Sheet3 (4)'!Q49","v":-5.2328623757195189E-4},{"$f":"CORREL($B$1:B49,$I$1:I49)","v":{"$error":"#N/A"}},{"$f":"'Sheet3 (4)'!S49","v":-1.4371570420695062E-3},{"$f":"CORREL($B$1:B49,$K$1:K49)","v":{"$error":"#N/A"}},{"$f":"'Sheet3 (4)'!U49","v":6.5325320094068457E-4},{"$f":"CORREL($B$1:B49,$M$1:M49)","v":{"$error":"#N/A"}},{"$f":"'Sheet3 (4)'!W49","v":1.440922190201729E-3},{"$f":"CORREL($B$1:B49,$O$1:O49)","v":{"$error":"#N/A"}},{"$f":"'Sheet3 (4)'!Y49","v":-3.6548753426445635E-3},{"$f":"CORREL($B$1:B49,$Q$1:Q49)","v":{"$error":"#N/A"}},{"$f":"'Sheet3 (4)'!AA49","v":2.615062761506276E-3},{"$f":"CORREL($B$1:B49,$S$1:S49)","v":{"$error":"#N/A"}}]
[null,{"$f":"'Sheet3 (4)'!I50","v":{"$error":"#N/A"}},{"$f":"'Sheet3 (4)'!K50","v":1.8315018315018315E-3},{"$f":"CORREL($B$1:B50,$C$1:C50)","v":{"$error":"#N/A"}},{"$f":"'Sheet3 (4)'!M50","v":2.7530152071316202E-3},{"$f":"CORREL($B$1:B50,$E$1:E50)","v":{"$error":"#N/A"}},{"$f":"'Sheet3 (4)'!O50","v":0},{"$f":"CORREL($B$1:B50,$G$1:G50)","v":{"$error":"#N/A"}},{"$f":"'Sheet3 (4)'!Q50","v":-3.9246467817896392E-4},{"$f":"CORREL($B$1:B50,$I$1:I50)","v":{"$error":"#N/A"}},{"$f":"'Sheet3 (4)'!S50","v":-1.6984583224457801E-3},{"$f":"CORREL($B$1:B50,$K$1:K50)","v":{"$error":"#N/A"}},{"$f":"'Sheet3 (4)'!U50","v":6.5325320094068457E-4},{"$f":"CORREL($B$1:B50,$M$1:M50)","v":{"$error":"#N/A"}},{"$f":"'Sheet3 (4)'!W50","v":1.440922190201729E-3},{"$f":"CORREL($B$1:B50,$O$1:O50)","v":{"$error":"#N/A"}},{"$f":"'Sheet3 (4)'!Y50","v":-3.7854066048818693E-3},{"$f":"CORREL($B$1:B50,$Q$1:Q50)","v":{"$error":"#N/A"}},{"$f":"'Sheet3 (4)'!AA50","v":2.3535564853556486E-3},{"$f":"CORREL($B$1:B50,$S$1:S50)","v":{"$error":"#N/A"}}]
[null,{"$f":"'Sheet3 (4)'!I51","v":{"$error":"#N/A"}},{"$f":"'Sheet3 (4)'!K51","v":2.0931449502878076E-3},{"$f":"CORREL($B$1:B51,$C$1:C51)","v":{"$error":"#N/A"}},{"$f":"'Sheet3 (4)'!M51","v":2.7530152071316202E-3},{"$f":"CORREL($B$1:B51,$E$1:E51)","v":{"$error":"#N/A"}},{"$f":"'Sheet3 (4)'!O51","v":1.3085579691180318E-4},{"$f":"CORREL($B$1:B51,$G$1:G51)","v":{"$error":"#N/A"}},{"$f":"'Sheet3 (4)'!Q51","v":-6.5410779696493981E-4},{"$f":"CORREL($B$1:B51,$I$1:I51)","v":{"$error":"#N/A"}},{"$f":"'Sheet3 (4)'!S51","v":-1.567807682257643E-3},{"$f":"CORREL($B$1:B51,$K$1:K51)","v":{"$error":"#N/A"}},{"$f":"'Sheet3 (4)'!U51","v":5.2260256075254764E-4},{"$f":"CORREL($B$1:B51,$M$1:M51)","v":{"$error":"#N/A"}},{"$f":"'Sheet3 (4)'!W51","v":1.8339009693476552E-3},{"$f":"CORREL($B$1:B51,$O$1:O51)","v":{"$error":"#N/A"}},{"$f":"'Sheet3 (4)'!Y51","v":-3.5243440804072577E-3},{"$f":"CORREL($B$1:B51,$Q$1:Q51)","v":{"$error":"#N/A"}},{"$f":"'Sheet3 (4)'!AA51","v":2.2228033472803349E-3},{"$f":"CORREL($B$1:B51,$S$1:S51)","v":{"$error":"#N/A"}}]
[null,{"$f":"'Sheet3 (4)'!I52","v":{"$error":"#N/A"}},{"$f":"'Sheet3 (4)'!K52","v":1.9623233908948193E-3},{"$f":"CORREL($B$1:B52,$C$1:C52)","v":{"$error":"#N/A"}},{"$f":"'Sheet3 (4)'!M52","v":2.6219192448872575E-3},{"$f":"CORREL($B$1:B52,$E$1:E52)","v":{"$error":"#N/A"}},{"$f":"'Sheet3 (4)'!O52","v":0},{"$f":"CORREL($B$1:B52,$G$1:G52)","v":{"$error":"#N/A"}},{"$f":"'Sheet3 (4)'!Q52","v":-6.5410779696493981E-4},{"$f":"CORREL($B$1:B52,$I$1:I52)","v":{"$error":"#N/A"}},{"$f":"'Sheet3 (4)'!S52","v":-1.8291089626339169E-3},{"$f":"CORREL($B$1:B52,$K$1:K52)","v":{"$error":"#N/A"}},{"$f":"'Sheet3 (4)'!U52","v":5.2260256075254764E-4},{"$f":"CORREL($B$1:B52,$M$1:M52)","v":{"$error":"#N/A"}},{"$f":"'Sheet3 (4)'!W52","v":2.0958868221116062E-3},{"$f":"CORREL($B$1:B52,$O$1:O52)","v":{"$error":"#N/A"}},{"$f":"'Sheet3 (4)'!Y52","v":-3.3938128181699519E-3},{"$f":"CORREL($B$1:B52,$Q$1:Q52)","v":{"$error":"#N/A"}},{"$f":"'Sheet3 (4)'!AA52","v":2.0920502092050207E-3},{"$f":"CORREL($B$1:B52,$S$1:S52)","v":{"$error":"#N/A"}}]
[null,{"$f":"'Sheet3 (4)'!I53","v":{"$error":"#N/A"}},{"$f":"'Sheet3 (4)'!K53","v":2.0931449502878076E-3},{"$f":"CORREL($B$1:B53,$C$1:C53)","v":{"$error":"#N/A"}},{"$f":"'Sheet3 (4)'!M53","v":2.6219192448872575E-3},{"$f":"CORREL($B$1:B53,$E$1:E53)","v":{"$error":"#N/A"}},{"$f":"'Sheet3 (4)'!O53","v":0},{"$f":"CORREL($B$1:B53,$G$1:G53)","v":{"$error":"#N/A"}},{"$f":"'Sheet3 (4)'!Q53","v":-5.2328623757195189E-4},{"$f":"CORREL($B$1:B53,$I$1:I53)","v":{"$error":"#N/A"}},{"$f":"'Sheet3 (4)'!S53","v":-1.6984583224457801E-3},{"$f":"CORREL($B$1:B53,$K$1:K53)","v":{"$error":"#N/A"}},{"$f":"'Sheet3 (4)'!U53","v":6.5325320094068457E-4},{"$f":"CORREL($B$1:B53,$M$1:M53)","v":{"$error":"#N/A"}},{"$f":"'Sheet3 (4)'!W53","v":1.9648938957296308E-3},{"$f":"CORREL($B$1:B53,$O$1:O53)","v":{"$error":"#N/A"}},{"$f":"'Sheet3 (4)'!Y53","v":-3.2632815559326457E-3},{"$f":"CORREL($B$1:B53,$Q$1:Q53)","v":{"$error":"#N/A"}},{"$f":"'Sheet3 (4)'!AA53","v":2.0920502092050207E-3},{"$f":"CORREL($B$1:B53,$S$1:S53)","v":{"$error":"#N/A"}}]
[null,{"$f":"'Sheet3 (4)'!I54","v":{"$error":"#N/A"}},{"$f":"'Sheet3 (4)'!K54","v":1.9623233908948193E-3},{"$f":"CORREL($B$1:B54,$C$1:C54)","v":{"$error":"#N/A"}},{"$f":"'Sheet3 (4)'!M54","v":2.6219192448872575E-3},{"$f":"CORREL($B$1:B54,$E$1:E54)","v":{"$error":"#N/A"}},{"$f":"'Sheet3 (4)'!O54","v":-1.3085579691180318E-4},{"$f":"CORREL($B$1:B54,$G$1:G54)","v":{"$error":"#N/A"}},{"$f":"'Sheet3 (4)'!Q54","v":-2.6164311878597594E-4},{"$f":"CORREL($B$1:B54,$I$1:I54)","v":{"$error":"#N/A"}},{"$f":"'Sheet3 (4)'!S54","v":-1.9597596028220537E-3},{"$f":"CORREL($B$1:B54,$K$1:K54)","v":{"$error":"#N/A"}},{"$f":"'Sheet3 (4)'!U54","v":5.2260256075254764E-4},{"$f":"CORREL($B$1:B54,$M$1:M54)","v":{"$error":"#N/A"}},{"$f":"'Sheet3 (4)'!W54","v":2.2268797484935815E-3},{"$f":"CORREL($B$1:B54,$O$1:O54)","v":{"$error":"#N/A"}},{"$f":"'Sheet3 (4)'!Y54","v":-3.5243440804072577E-3},{"$f":"CORREL($B$1:B54,$Q$1:Q54)","v":{"$error":"#N/A"}},{"$f":"'Sheet3 (4)'!AA54","v":1.961297071129707E-3},{"$f":"CORREL($B$1:B54,$S$1:S54)","v":{"$error":"#N/A"}}]
[null,{"$f":"'Sheet3 (4)'!I55","v":{"$error":"#N/A"}},{"$f":"'Sheet3 (4)'!K55","v":1.9623233908948193E-3},{"$f":"CORREL($B$1:B55,$C$1:C55)","v":{"$error":"#N/A"}},{"$f":"'Sheet3 (4)'!M55","v":2.4908232826428944E-3},{"$f":"CORREL($B$1:B55,$E$1:E55)","v":{"$error":"#N/A"}},{"$f":"'Sheet3 (4)'!O55","v":-1.3085579691180318E-4},{"$f":"CORREL($B$1:B55,$G$1:G55)","v":{"$error":"#N/A"}},{"$f":"'Sheet3 (4)'!Q55","v":-2.6164311878597594E-4},{"$f":"CORREL($B$1:B55,$I$1:I55)","v":{"$error":"#N/A"}},{"$f":"'Sheet3 (4)'!S55","v":-2.0904102430101905E-3},{"$f":"CORREL($B$1:B55,$K$1:K55)","v":{"$error":"#N/A"}},{"$f":"'Sheet3 (4)'!U55","v":7.8390384112882151E-4},{"$f":"CORREL($B$1:B55,$M$1:M55)","v":{"$error":"#N/A"}},{"$f":"'Sheet3 (4)'!W55","v":5.763688760806916E-3},{"$f":"CORREL($B$1:B55,$O$1:O55)","v":{"$error":"#N/A"}},{"$f":"'Sheet3 (4)'!Y55","v":-3.5243440804072577E-3},{"$f":"CORREL($B$1:B55,$Q$1:Q55)","v":{"$error":"#N/A"}},{"$f":"'Sheet3 (4)'!AA55","v":1.961297071129707E-3},{"$f":"CORREL($B$1:B55,$S$1:S55)","v":{"$error":"#N/A"}}]
[null,{"$f":"'Sheet3 (4)'!I56","v":{"$error":"#N/A"}},{"$f":"'Sheet3 (4)'!K56","v":2.2239665096807954E-3},{"$f":"CORREL($B$1:B56,$C$1:C56)","v":{"$error":"#N/A"}},{"$f":"'Sheet3 (4)'!M56","v":2.4908232826428944E-3},{"$f":"CORREL($B$1:B56,$E$1:E56)","v":{"$error":"#N/A"}},{"$f":"'Sheet3 (4)'!O56","v":0},{"$f":"CORREL($B$1:B56,$G$1:G56)","v":{"$error":"#N/A"}},{"$f":"'Sheet3 (4)'!Q56","v":-2.6164311878597594E-4},{"$f":"CORREL($B$1:B56,$I$1:I56)","v":{"$error":"#N/A"}},{"$f":"'Sheet3 (4)'!S56","v":-1.8291089626339169E-3},{"$f":"CORREL($B$1:B56,$K$1:K56)","v":{"$error":"#N/A"}},{"$f":"'Sheet3 (4)'!U56","v":7.8390384112882151E-4},{"$f":"CORREL($B$1:B56,$M$1:M56)","v":{"$error":"#N/A"}},{"$f":"'Sheet3 (4)'!W56","v":3.5368090123133349E-3},{"$f":"CORREL($B$1:B56,$O$1:O56)","v":{"$error":"#N/A"}},{"$f":"'Sheet3 (4)'!Y56","v":-3.5243440804072577E-3},{"$f":"CORREL($B$1:B56,$Q$1:Q56)","v":{"$error":"#N/A"}},{"$f":"'Sheet3 (4)'!AA56","v":1.961297071129707E-3},{"$f":"CORREL($B$1:B56,$S$1:S56)","v":{"$error":"#N/A"}}]
[null,{"$f":"'Sheet3 (4)'!I57","v":{"$error":"#N/A"}},{"$f":"'Sheet3 (4)'!K57","v":2.2239665096807954E-3},{"$f":"CORREL($B$1:B57,$C$1:C57)","v":{"$error":"#N/A"}},{"$f":"'Sheet3 (4)'!M57","v":2.3597273203985318E-3},{"$f":"CORREL($B$1:B57,$E$1:E57)","v":{"$error":"#N/A"}},{"$f":"'Sheet3 (4)'!O57","v":1.3085579691180318E-4},{"$f":"CORREL($B$1:B57,$G$1:G57)","v":{"$error":"#N/A"}},{"$f":"'Sheet3 (4)'!Q57","v":-3.9246467817896392E-4},{"$f":"CORREL($B$1:B57,$I$1:I57)","v":{"$error":"#N/A"}},{"$f":"'Sheet3 (4)'!S57","v":-1.6984583224457801E-3},{"$f":"CORREL($B$1:B57,$K$1:K57)","v":{"$error":"#N/A"}},{"$f":"'Sheet3 (4)'!U57","v":9.1455448131695844E-4},{"$f":"CORREL($B$1:B57,$M$1:M57)","v":{"$error":"#N/A"}},{"$f":"'Sheet3 (4)'!W57","v":3.2748231595493842E-3},{"$f":"CORREL($B$1:B57,$O$1:O57)","v":{"$error":"#N/A"}},{"$f":"'Sheet3 (4)'!Y57","v":-3.6548753426445635E-3},{"$f":"CORREL($B$1:B57,$Q$1:Q57)","v":{"$error":"#N/A"}},{"$f":"'Sheet3 (4)'!AA57","v":1.961297071129707E-3},{"$f":"CORREL($B$1:B57,$S$1:S57)","v":{"$error":"#N/A"}}]
[null,{"$f":"'Sheet3 (4)'!I58","v":{"$error":"#N/A"}},{"$f":"'Sheet3 (4)'!K58","v":2.0931449502878076E-3},{"$f":"CORREL($B$1:B58,$C$1:C58)","v":{"$error":"#N/A"}},{"$f":"'Sheet3 (4)'!M58","v":2.4908232826428944E-3},{"$f":"CORREL($B$1:B58,$E$1:E58)","v":{"$error":"#N/A"}},{"$f":"'Sheet3 (4)'!O58","v":1.3085579691180318E-4},{"$f":"CORREL($B$1:B58,$G$1:G58)","v":{"$error":"#N/A"}},{"$f":"'Sheet3 (4)'!Q58","v":-1.3082155939298797E-4},{"$f":"CORREL($B$1:B58,$I$1:I58)","v":{"$error":"#N/A"}},{"$f":"'Sheet3 (4)'!S58","v":-1.6984583224457801E-3},{"$f":"CORREL($B$1:B58,$K$1:K58)","v":{"$error":"#N/A"}},{"$f":"'Sheet3 (4)'!U58","v":7.8390384112882151E-4},{"$f":"CORREL($B$1:B58,$M$1:M58)","v":{"$error":"#N/A"}},{"$f":"'Sheet3 (4)'!W58","v":3.1438302331674088E-3},{"$f":"CORREL($B$1:B58,$O$1:O58)","v":{"$error":"#N/A"}},{"$f":"'Sheet3 (4)'!Y58","v":-3.5243440804072577E-3},{"$f":"CORREL($B$1:B58,$Q$1:Q58)","v":{"$error":"#N/A"}},{"$f":"'Sheet3 (4)'!AA58","v":2.0920502092050207E-3},{"$f":"CORREL($B$1:B58,$S$1:S58)","v":{"$error":"#N/A"}}]
[null,{"$f":"'Sheet3 (4)'!I59","v":{"$error":"#N/A"}},{"$f":"'Sheet3 (4)'!K59","v":2.0931449502878076E-3},{"$f":"CORREL($B$1:B59,$C$1:C59)","v":{"$error":"#N/A"}},{"$f":"'Sheet3 (4)'!M59","v":2.4908232826428944E-3},{"$f":"CORREL($B$1:B59,$E$1:E59)","v":{"$error":"#N/A"}},{"$f":"'Sheet3 (4)'!O59","v":3.925673907354096E-4},{"$f":"CORREL($B$1:B59,$G$1:G59)","v":{"$error":"#N/A"}},{"$f":"'Sheet3 (4)'!Q59","v":-1.3082155939298797E-4},{"$f":"CORREL($B$1:B59,$I$1:I59)","v":{"$error":"#N/A"}},{"$f":"'Sheet3 (4)'!S59","v":-1.8291089626339169E-3},{"$f":"CORREL($B$1:B59,$K$1:K59)","v":{"$error":"#N/A"}},{"$f":"'Sheet3 (4)'!U59","v":7.8390384112882151E-4},{"$f":"CORREL($B$1:B59,$M$1:M59)","v":{"$error":"#N/A"}},{"$f":"'Sheet3 (4)'!W59","v":3.6678019386953103E-3},{"$f":"CORREL($B$1:B59,$O$1:O59)","v":{"$error":"#N/A"}},{"$f":"'Sheet3 (4)'!Y59","v":-3.7854066048818693E-3},{"$f":"CORREL($B$1:B59,$Q$1:Q59)","v":{"$error":"#N/A"}},{"$f":"'Sheet3 (4)'!AA59","v":2.0920502092050207E-3},{"$f":"CORREL($B$1:B59,$S$1:S59)","v":{"$error":"#N/A"}}]
[null,{"$f":"'Sheet3 (4)'!I60","v":{"$error":"#N/A"}},{"$f":"'Sheet3 (4)'!K60","v":2.3547880690737832E-3},{"$f":"CORREL($B$1:B60,$C$1:C60)","v":{"$error":"#N/A"}},{"$f":"'Sheet3 (4)'!M60","v":2.3597273203985318E-3},{"$f":"CORREL($B$1:B60,$E$1:E60)","v":{"$error":"#N/A"}},{"$f":"'Sheet3 (4)'!O60","v":1.3085579691180318E-4},{"$f":"CORREL($B$1:B60,$G$1:G60)","v":{"$error":"#N/A"}},{"$f":"'Sheet3 (4)'!Q60","v":-1.3082155939298797E-4},{"$f":"CORREL($B$1:B60,$I$1:I60)","v":{"$error":"#N/A"}},{"$f":"'Sheet3 (4)'!S60","v":-1.8291089626339169E-3},{"$f":"CORREL($B$1:B60,$K$1:K60)","v":{"$error":"#N/A"}},{"$f":"'Sheet3 (4)'!U60","v":9.1455448131695844E-4},{"$f":"CORREL($B$1:B60,$M$1:M60)","v":{"$error":"#N/A"}},{"$f":"'Sheet3 (4)'!W60","v":3.7987948650772857E-3},{"$f":"CORREL($B$1:B60,$O$1:O60)","v":{"$error":"#N/A"}},{"$f":"'Sheet3 (4)'!Y60","v":-3.7854066048818693E-3},{"$f":"CORREL($B$1:B60,$Q$1:Q60)","v":{"$error":"#N/A"}},{"$f":"'Sheet3 (4)'!AA60","v":2.0920502092050207E-3},{"$f":"CORREL($B$1:B60,$S$1:S60)","v":{"$error":"#N/A"}}]
[null,{"$f":"'Sheet3 (4)'!I61","v":{"$error":"#N/A"}},{"$f":"'Sheet3 (4)'!K61","v":2.2239665096807954E-3},{"$f":"CORREL($B$1:B61,$C$1:C61)","v":{"$error":"#N/A"}},{"$f":"'Sheet3 (4)'!M61","v":2.2286313581541687E-3},{"$f":"CORREL($B$1:B61,$E$1:E61)","v":{"$error":"#N/A"}},{"$f":"'Sheet3 (4)'!O61","v":-1.9628369536770478E-3},{"$f":"CORREL($B$1:B61,$G$1:G61)","v":{"$error":"#N/A"}},{"$f":"'Sheet3 (4)'!Q61","v":-2.6164311878597594E-4},{"$f":"CORREL($B$1:B61,$I$1:I61)","v":{"$error":"#N/A"}},{"$f":"'Sheet3 (4)'!S61","v":-1.6984583224457801E-3},{"$f":"CORREL($B$1:B61,$K$1:K61)","v":{"$error":"#N/A"}},{"$f":"'Sheet3 (4)'!U61","v":1.0452051215050953E-3},{"$f":"CORREL($B$1:B61,$M$1:M61)","v":{"$error":"#N/A"}},{"$f":"'Sheet3 (4)'!W61","v":3.5368090123133349E-3},{"$f":"CORREL($B$1:B61,$O$1:O61)","v":{"$error":"#N/A"}},{"$f":"'Sheet3 (4)'!Y61","v":-3.7854066048818693E-3},{"$f":"CORREL($B$1:B61,$Q$1:Q61)","v":{"$error":"#N/A"}},{"$f":"'Sheet3 (4)'!AA61","v":1.961297071129707E-3},{"$f":"CORREL($B$1:B61,$S$1:S61)","v":{"$error":"#N/A"}}]
[null,{"$f":"'Sheet3 (4)'!I62","v":{"$error":"#N/A"}},{"$f":"'Sheet3 (4)'!K62","v":2.2239665096807954E-3},{"$f":"CORREL($B$1:B62,$C$1:C62)","v":{"$error":"#N/A"}},{"$f":"'Sheet3 (4)'!M62","v":2.097535395909806E-3},{"$f":"CORREL($B$1:B62,$E$1:E62)","v":{"$error":"#N/A"}},{"$f":"'Sheet3 (4)'!O62","v":-2.0936927505888509E-3},{"$f":"CORREL($B$1:B62,$G$1:G62)","v":{"$error":"#N/A"}},{"$f":"'Sheet3 (4)'!Q62","v":-5.2328623757195189E-4},{"$f":"CORREL($B$1:B62,$I$1:I62)","v":{"$error":"#N/A"}},{"$f":"'Sheet3 (4)'!S62","v":-1.567807682257643E-3},{"$f":"CORREL($B$1:B62,$K$1:K62)","v":{"$error":"#N/A"}},{"$f":"'Sheet3 (4)'!U62","v":1.0452051215050953E-3},{"$f":"CORREL($B$1:B62,$M$1:M62)","v":{"$error":"#N/A"}},{"$f":"'Sheet3 (4)'!W62","v":3.2748231595493842E-3},{"$f":"CORREL($B$1:B62,$O$1:O62)","v":{"$error":"#N/A"}},{"$f":"'Sheet3 (4)'!Y62","v":-3.6548753426445635E-3},{"$f":"CORREL($B$1:B62,$Q$1:Q62)","v":{"$error":"#N/A"}},{"$f":"'Sheet3 (4)'!AA62","v":1.8305439330543933E-3},{"$f":"CORREL($B$1:B62,$S$1:S62)","v":{"$error":"#N/A"}}]
[null,{"$f":"'Sheet3 (4)'!I63","v":{"$error":"#N/A"}},{"$f":"'Sheet3 (4)'!K63","v":2.0931449502878076E-3},{"$f":"CORREL($B$1:B63,$C$1:C63)","v":{"$error":"#N/A"}},{"$f":"'Sheet3 (4)'!M63","v":2.2286313581541687E-3},{"$f":"CORREL($B$1:B63,$E$1:E63)","v":{"$error":"#N/A"}},{"$f":"'Sheet3 (4)'!O63","v":-1.9628369536770478E-3},{"$f":"CORREL($B$1:B63,$G$1:G63)","v":{"$error":"#N/A"}},{"$f":"'Sheet3 (4)'!Q63","v":-6.5410779696493981E-4},{"$f":"CORREL($B$1:B63,$I$1:I63)","v":{"$error":"#N/A"}},{"$f":"'Sheet3 (4)'!S63","v":-1.567807682257643E-3},{"$f":"CORREL($B$1:B63,$K$1:K63)","v":{"$error":"#N/A"}},{"$f":"'Sheet3 (4)'!U63","v":9.1455448131695844E-4},{"$f":"CORREL($B$1:B63,$M$1:M63)","v":{"$error":"#N/A"}},{"$f":"'Sheet3 (4)'!W63","v":2.881844380403458E-3},{"$f":"CORREL($B$1:B63,$O$1:O63)","v":{"$error":"#N/A"}},{"$f":"'Sheet3 (4)'!Y63","v":-3.7854066048818693E-3},{"$f":"CORREL($B$1:B63,$Q$1:Q63)","v":{"$error":"#N/A"}},{"$f":"'Sheet3 (4)'!AA63","v":1.961297071129707E-3},{"$f":"CORREL($B$1:B63,$S$1:S63)","v":{"$error":"#N/A"}}]
[null,{"$f":"'Sheet3 (4)'!I64","v":{"$error":"#N/A"}},{"$f":"'Sheet3 (4)'!K64","v":2.0931449502878076E-3},{"$f":"CORREL($B$1:B64,$C$1:C64)","v":{"$error":"#N/A"}},{"$f":"'Sheet3 (4)'!M64","v":2.097535395909806E-3},{"$f":"CORREL($B$1:B64,$E$1:E64)","v":{"$error":"#N/A"}},{"$f":"'Sheet3 (4)'!O64","v":-2.0936927505888509E-3},{"$f":"CORREL($B$1:B64,$G$1:G64)","v":{"$error":"#N/A"}},{"$f":"'Sheet3 (4)'!Q64","v":-3.9246467817896392E-4},{"$f":"CORREL($B$1:B64,$I$1:I64)","v":{"$error":"#N/A"}},{"$f":"'Sheet3 (4)'!S64","v":-1.6984583224457801E-3},{"$f":"CORREL($B$1:B64,$K$1:K64)","v":{"$error":"#N/A"}},{"$f":"'Sheet3 (4)'!U64","v":7.8390384112882151E-4},{"$f":"CORREL($B$1:B64,$M$1:M64)","v":{"$error":"#N/A"}},{"$f":"'Sheet3 (4)'!W64","v":2.6198585276395073E-3},{"$f":"CORREL($B$1:B64,$O$1:O64)","v":{"$error":"#N/A"}},{"$f":"'Sheet3 (4)'!Y64","v":-3.5243440804072577E-3},{"$f":"CORREL($B$1:B64,$Q$1:Q64)","v":{"$error":"#N/A"}},{"$f":"'Sheet3 (4)'!AA64","v":1.961297071129707E-3},{"$f":"CORREL($B$1:B64,$S$1:S64)","v":{"$error":"#N/A"}}]
[null,{"$f":"'Sheet3 (4)'!I65","v":{"$error":"#N/A"}},{"$f":"'Sheet3 (4)'!K65","v":1.8315018315018315E-3},{"$f":"CORREL($B$1:B65,$C$1:C65)","v":{"$error":"#N/A"}},{"$f":"'Sheet3 (4)'!M65","v":1.9664394336654429E-3},{"$f":"CORREL($B$1:B65,$E$1:E65)","v":{"$error":"#N/A"}},{"$f":"'Sheet3 (4)'!O65","v":-2.3554043444124575E-3},{"$f":"CORREL($B$1:B65,$G$1:G65)","v":{"$error":"#N/A"}},{"$f":"'Sheet3 (4)'!Q65","v":-6.5410779696493981E-4},{"$f":"CORREL($B$1:B65,$I$1:I65)","v":{"$error":"#N/A"}},{"$f":"'Sheet3 (4)'!S65","v":-1.567807682257643E-3},{"$f":"CORREL($B$1:B65,$K$1:K65)","v":{"$error":"#N/A"}},{"$f":"'Sheet3 (4)'!U65","v":6.5325320094068457E-4},{"$f":"CORREL($B$1:B65,$M$1:M65)","v":{"$error":"#N/A"}},{"$f":"'Sheet3 (4)'!W65","v":2.881844380403458E-3},{"$f":"CORREL($B$1:B65,$O$1:O65)","v":{"$error":"#N/A"}},{"$f":"'Sheet3 (4)'!Y65","v":-3.6548753426445635E-3},{"$f":"CORREL($B$1:B65,$Q$1:Q65)","v":{"$error":"#N/A"}},{"$f":"'Sheet3 (4)'!AA65","v":1.961297071129707E-3},{"$f":"CORREL($B$1:B65,$S$1:S65)","v":{"$error":"#N/A"}}]
[null,{"$f":"'Sheet3 (4)'!I66","v":{"$error":"#N/A"}},{"$f":"'Sheet3 (4)'!K66","v":1.8315018315018315E-3},{"$f":"CORREL($B$1:B66,$C$1:C66)","v":{"$error":"#N/A"}},{"$f":"'Sheet3 (4)'!M66","v":2.097535395909806E-3},{"$f":"CORREL($B$1:B66,$E$1:E66)","v":{"$error":"#N/A"}},{"$f":"'Sheet3 (4)'!O66","v":-2.6171159382360636E-3},{"$f":"CORREL($B$1:B66,$G$1:G66)","v":{"$error":"#N/A"}},{"$f":"'Sheet3 (4)'!Q66","v":-3.9246467817896392E-4},{"$f":"CORREL($B$1:B66,$I$1:I66)","v":{"$error":"#N/A"}},{"$f":"'Sheet3 (4)'!S66","v":-1.4371570420695062E-3},{"$f":"CORREL($B$1:B66,$K$1:K66)","v":{"$error":"#N/A"}},{"$f":"'Sheet3 (4)'!U66","v":6.5325320094068457E-4},{"$f":"CORREL($B$1:B66,$M$1:M66)","v":{"$error":"#N/A"}},{"$f":"'Sheet3 (4)'!W66","v":2.881844380403458E-3},{"$f":"CORREL($B$1:B66,$O$1:O66)","v":{"$error":"#N/A"}},{"$f":"'Sheet3 (4)'!Y66","v":-3.6548753426445635E-3},{"$f":"CORREL($B$1:B66,$Q$1:Q66)","v":{"$error":"#N/A"}},{"$f":"'Sheet3 (4)'!AA66","v":1.8305439330543933E-3},{"$f":"CORREL($B$1:B66,$S$1:S66)","v":{"$error":"#N/A"}}]
[null,{"$f":"'Sheet3 (4)'!I67","v":{"$error":"#N/A"}},{"$f":"'Sheet3 (4)'!K67","v":1.5698587127158557E-3},{"$f":"CORREL($B$1:B67,$C$1:C67)","v":{"$error":"#N/A"}},{"$f":"'Sheet3 (4)'!M67","v":1.9664394336654429E-3},{"$f":"CORREL($B$1:B67,$E$1:E67)","v":{"$error":"#N/A"}},{"$f":"'Sheet3 (4)'!O67","v":-3.402250719706883E-3},{"$f":"CORREL($B$1:B67,$G$1:G67)","v":{"$error":"#N/A"}},{"$f":"'Sheet3 (4)'!Q67","v":-3.9246467817896392E-4},{"$f":"CORREL($B$1:B67,$I$1:I67)","v":{"$error":"#N/A"}},{"$f":"'Sheet3 (4)'!S67","v":-1.3065064018813691E-3},{"$f":"CORREL($B$1:B67,$K$1:K67)","v":{"$error":"#N/A"}},{"$f":"'Sheet3 (4)'!U67","v":5.2260256075254764E-4},{"$f":"CORREL($B$1:B67,$M$1:M67)","v":{"$error":"#N/A"}},{"$f":"'Sheet3 (4)'!W67","v":2.6198585276395073E-3},{"$f":"CORREL($B$1:B67,$O$1:O67)","v":{"$error":"#N/A"}},{"$f":"'Sheet3 (4)'!Y67","v":-3.6548753426445635E-3},{"$f":"CORREL($B$1:B67,$Q$1:Q67)","v":{"$error":"#N/A"}},{"$f":"'Sheet3 (4)'!AA67","v":1.8305439330543933E-3},{"$f":"CORREL($B$1:B67,$S$1:S67)","v":{"$error":"#N/A"}}]
[null,{"$f":"'Sheet3 (4)'!I68","v":{"$error":"#N/A"}},{"$f":"'Sheet3 (4)'!K68","v":1.5698587127158557E-3},{"$f":"CORREL($B$1:B68,$C$1:C68)","v":{"$error":"#N/A"}},{"$f":"'Sheet3 (4)'!M68","v":2.097535395909806E-3},{"$f":"CORREL($B$1:B68,$E$1:E68)","v":{"$error":"#N/A"}},{"$f":"'Sheet3 (4)'!O68","v":-3.2713949227950799E-3},{"$f":"CORREL($B$1:B68,$G$1:G68)","v":{"$error":"#N/A"}},{"$f":"'Sheet3 (4)'!Q68","v":-2.6164311878597594E-4},{"$f":"CORREL($B$1:B68,$I$1:I68)","v":{"$error":"#N/A"}},{"$f":"'Sheet3 (4)'!S68","v":-1.4371570420695062E-3},{"$f":"CORREL($B$1:B68,$K$1:K68)","v":{"$error":"#N/A"}},{"$f":"'Sheet3 (4)'!U68","v":3.9195192056441075E-4},{"$f":"CORREL($B$1:B68,$M$1:M68)","v":{"$error":"#N/A"}},{"$f":"'Sheet3 (4)'!W68","v":2.6198585276395073E-3},{"$f":"CORREL($B$1:B68,$O$1:O68)","v":{"$error":"#N/A"}},{"$f":"'Sheet3 (4)'!Y68","v":-3.3938128181699519E-3},{"$f":"CORREL($B$1:B68,$Q$1:Q68)","v":{"$error":"#N/A"}},{"$f":"'Sheet3 (4)'!AA68","v":1.8305439330543933E-3},{"$f":"CORREL($B$1:B68,$S$1:S68)","v":{"$error":"#N/A"}}]
[null,{"$f":"'Sheet3 (4)'!I69","v":{"$error":"#N/A"}},{"$f":"'Sheet3 (4)'!K69","v":1.4390371533228676E-3},{"$f":"CORREL($B$1:B69,$C$1:C69)","v":{"$error":"#N/A"}},{"$f":"'Sheet3 (4)'!M69","v":1.8353434714210803E-3},{"$f":"CORREL($B$1:B69,$E$1:E69)","v":{"$error":"#N/A"}},{"$f":"'Sheet3 (4)'!O69","v":-2.3554043444124575E-3},{"$f":"CORREL($B$1:B69,$G$1:G69)","v":{"$error":"#N/A"}},{"$f":"'Sheet3 (4)'!Q69","v":-2.6164311878597594E-4},{"$f":"CORREL($B$1:B69,$I$1:I69)","v":{"$error":"#N/A"}},{"$f":"'Sheet3 (4)'!S69","v":-1.4371570420695062E-3},{"$f":"CORREL($B$1:B69,$K$1:K69)","v":{"$error":"#N/A"}},{"$f":"'Sheet3 (4)'!U69","v":3.9195192056441075E-4},{"$f":"CORREL($B$1:B69,$M$1:M69)","v":{"$error":"#N/A"}},{"$f":"'Sheet3 (4)'!W69","v":2.6198585276395073E-3},{"$f":"CORREL($B$1:B69,$O$1:O69)","v":{"$error":"#N/A"}},{"$f":"'Sheet3 (4)'!Y69","v":-3.5243440804072577E-3},{"$f":"CORREL($B$1:B69,$Q$1:Q69)","v":{"$error":"#N/A"}},{"$f":"'Sheet3 (4)'!AA69","v":1.961297071129707E-3},{"$f":"CORREL($B$1:B69,$S$1:S69)","v":{"$error":"#N/A"}}]
[null,{"$f":"'Sheet3 (4)'!I70","v":{"$error":"#N/A"}},{"$f":"'Sheet3 (4)'!K70","v":1.3082155939298796E-3},{"$f":"CORREL($B$1:B70,$C$1:C70)","v":{"$error":"#N/A"}},{"$f":"'Sheet3 (4)'!M70","v":1.9664394336654429E-3},{"$f":"CORREL($B$1:B70,$E$1:E70)","v":{"$error":"#N/A"}},{"$f":"'Sheet3 (4)'!O70","v":-2.6171159382360636E-3},{"$f":"CORREL($B$1:B70,$G$1:G70)","v":{"$error":"#N/A"}},{"$f":"'Sheet3 (4)'!Q70","v":-5.2328623757195189E-4},{"$f":"CORREL($B$1:B70,$I$1:I70)","v":{"$error":"#N/A"}},{"$f":"'Sheet3 (4)'!S70","v":-1.567807682257643E-3},{"$f":"CORREL($B$1:B70,$K$1:K70)","v":{"$error":"#N/A"}},{"$f":"'Sheet3 (4)'!U70","v":2.6130128037627382E-4},{"$f":"CORREL($B$1:B70,$M$1:M70)","v":{"$error":"#N/A"}},{"$f":"'Sheet3 (4)'!W70","v":2.2268797484935815E-3},{"$f":"CORREL($B$1:B70,$O$1:O70)","v":{"$error":"#N/A"}},{"$f":"'Sheet3 (4)'!Y70","v":-3.3938128181699519E-3},{"$f":"CORREL($B$1:B70,$Q$1:Q70)","v":{"$error":"#N/A"}},{"$f":"'Sheet3 (4)'!AA70","v":1.961297071129707E-3},{"$f":"CORREL($B$1:B70,$S$1:S70)","v":{"$error":"#N/A"}}]
[null,{"$f":"'Sheet3 (4)'!I71","v":{"$error":"#N/A"}},{"$f":"'Sheet3 (4)'!K71","v":1.1773940345368916E-3},{"$f":"CORREL($B$1:B71,$C$1:C71)","v":{"$error":"#N/A"}},{"$f":"'Sheet3 (4)'!M71","v":1.8353434714210803E-3},{"$f":"CORREL($B$1:B71,$E$1:E71)","v":{"$error":"#N/A"}},{"$f":"'Sheet3 (4)'!O71","v":-2.3554043444124575E-3},{"$f":"CORREL($B$1:B71,$G$1:G71)","v":{"$error":"#N/A"}},{"$f":"'Sheet3 (4)'!Q71","v":-3.9246467817896392E-4},{"$f":"CORREL($B$1:B71,$I$1:I71)","v":{"$error":"#N/A"}},{"$f":"'Sheet3 (4)'!S71","v":-1.567807682257643E-3},{"$f":"CORREL($B$1:B71,$K$1:K71)","v":{"$error":"#N/A"}},{"$f":"'Sheet3 (4)'!U71","v":0},{"$f":"CORREL($B$1:B71,$M$1:M71)","v":{"$error":"#N/A"}},{"$f":"'Sheet3 (4)'!W71","v":2.2268797484935815E-3},{"$f":"CORREL($B$1:B71,$O$1:O71)","v":{"$error":"#N/A"}},{"$f":"'Sheet3 (4)'!Y71","v":-3.3938128181699519E-3},{"$f":"CORREL($B$1:B71,$Q$1:Q71)","v":{"$error":"#N/A"}},{"$f":"'Sheet3 (4)'!AA71","v":1.961297071129707E-3},{"$f":"CORREL($B$1:B71,$S$1:S71)","v":{"$error":"#N/A"}}]
[null,{"$f":"'Sheet3 (4)'!I72","v":{"$error":"#N/A"}},{"$f":"'Sheet3 (4)'!K72","v":1.3082155939298796E-3},{"$f":"CORREL($B$1:B72,$C$1:C72)","v":{"$error":"#N/A"}},{"$f":"'Sheet3 (4)'!M72","v":2.097535395909806E-3},{"$f":"CORREL($B$1:B72,$E$1:E72)","v":{"$error":"#N/A"}},{"$f":"'Sheet3 (4)'!O72","v":-1.8319811567652448E-3},{"$f":"CORREL($B$1:B72,$G$1:G72)","v":{"$error":"#N/A"}},{"$f":"'Sheet3 (4)'!Q72","v":-2.6164311878597594E-4},{"$f":"CORREL($B$1:B72,$I$1:I72)","v":{"$error":"#N/A"}},{"$f":"'Sheet3 (4)'!S72","v":-1.3065064018813691E-3},{"$f":"CORREL($B$1:B72,$K$1:K72)","v":{"$error":"#N/A"}},{"$f":"'Sheet3 (4)'!U72","v":0},{"$f":"CORREL($B$1:B72,$M$1:M72)","v":{"$error":"#N/A"}},{"$f":"'Sheet3 (4)'!W72","v":2.6198585276395073E-3},{"$f":"CORREL($B$1:B72,$O$1:O72)","v":{"$error":"#N/A"}},{"$f":"'Sheet3 (4)'!Y72","v":-3.5243440804072577E-3},{"$f":"CORREL($B$1:B72,$Q$1:Q72)","v":{"$error":"#N/A"}},{"$f":"'Sheet3 (4)'!AA72","v":1.6997907949790796E-3},{"$f":"CORREL($B$1:B72,$S$1:S72)","v":{"$error":"#N/A"}}]
[null,{"$f":"'Sheet3 (4)'!I73","v":{"$error":"#N/A"}},{"$f":"'Sheet3 (4)'!K73","v":{"$error":"#N/A"}},{"$f":"CORREL($B$1:B73,$C$1:C73)","v":{"$error":"#N/A"}},{"$f":"'Sheet3 (4)'!M73","v":{"$error":"#N/A"}},{"$f":"CORREL($B$1:B73,$E$1:E73)","v":{"$error":"#N/A"}},{"$f":"'Sheet3 (4)'!O73","v":{"$error":"#N/A"}},{"$f":"CORREL($B$1:B73,$G$1:G73)","v":{"$error":"#N/A"}},{"$f":"'Sheet3 (4)'!Q73","v":{"$error":"#N/A"}},{"$f":"CORREL($B$1:B73,$I$1:I73)","v":{"$error":"#N/A"}},{"$f":"'Sheet3 (4)'!S73","v":{"$error":"#N/A"}},{"$f":"CORREL($B$1:B73,$K$1:K73)","v":{"$error":"#N/A"}},{"$f":"'Sheet3 (4)'!U73","v":{"$error":"#N/A"}},{"$f":"CORREL($B$1:B73,$M$1:M73)","v":{"$error":"#N/A"}},{"$f":"'Sheet3 (4)'!W73","v":{"$error":"#N/A"}},{"$f":"CORREL($B$1:B73,$O$1:O73)","v":{"$error":"#N/A"}},{"$f":"'Sheet3 (4)'!Y73","v":{"$error":"#N/A"}},{"$f":"CORREL($B$1:B73,$Q$1:Q73)","v":{"$error":"#N/A"}},{"$f":"'Sheet3 (4)'!AA73","v":{"$error":"#N/A"}},{"$f":"CORREL($B$1:B73,$S$1:S73)","v":{"$error":"#N/A"}}]
[null,{"$f":"'Sheet3 (4)'!I74","v":{"$error":"#N/A"}},{"$f":"'Sheet3 (4)'!K74","v":{"$error":"#N/A"}},{"$f":"CORREL($B$1:B74,$C$1:C74)","v":{"$error":"#N/A"}},{"$f":"'Sheet3 (4)'!M74","v":{"$error":"#N/A"}},{"$f":"CORREL($B$1:B74,$E$1:E74)","v":{"$error":"#N/A"}},{"$f":"'Sheet3 (4)'!O74","v":{"$error":"#N/A"}},{"$f":"CORREL($B$1:B74,$G$1:G74)","v":{"$error":"#N/A"}},{"$f":"'Sheet3 (4)'!Q74","v":{"$error":"#N/A"}},{"$f":"CORREL($B$1:B74,$I$1:I74)","v":{"$error":"#N/A"}},{"$f":"'Sheet3 (4)'!S74","v":{"$error":"#N/A"}},{"$f":"CORREL($B$1:B74,$K$1:K74)","v":{"$error":"#N/A"}},{"$f":"'Sheet3 (4)'!U74","v":{"$error":"#N/A"}},{"$f":"CORREL($B$1:B74,$M$1:M74)","v":{"$error":"#N/A"}},{"$f":"'Sheet3 (4)'!W74","v":{"$error":"#N/A"}},{"$f":"CORREL($B$1:B74,$O$1:O74)","v":{"$error":"#N/A"}},{"$f":"'Sheet3 (4)'!Y74","v":{"$error":"#N/A"}},{"$f":"CORREL($B$1:B74,$Q$1:Q74)","v":{"$error":"#N/A"}},{"$f":"'Sheet3 (4)'!AA74","v":{"$error":"#N/A"}},{"$f":"CORREL($B$1:B74,$S$1:S74)","v":{"$error":"#N/A"}}]
[null,{"$f":"'Sheet3 (4)'!I75","v":{"$error":"#N/A"}},{"$f":"'Sheet3 (4)'!K75","v":{"$error":"#N/A"}},{"$f":"CORREL($B$1:B75,$C$1:C75)","v":{"$error":"#N/A"}},{"$f":"'Sheet3 (4)'!M75","v":{"$error":"#N/A"}},{"$f":"CORREL($B$1:B75,$E$1:E75)","v":{"$error":"#N/A"}},{"$f":"'Sheet3 (4)'!O75","v":{"$error":"#N/A"}},{"$f":"CORREL($B$1:B75,$G$1:G75)","v":{"$error":"#N/A"}},{"$f":"'Sheet3 (4)'!Q75","v":{"$error":"#N/A"}},{"$f":"CORREL($B$1:B75,$I$1:I75)","v":{"$error":"#N/A"}},{"$f":"'Sheet3 (4)'!S75","v":{"$error":"#N/A"}},{"$f":"CORREL($B$1:B75,$K$1:K75)","v":{"$error":"#N/A"}},{"$f":"'Sheet3 (4)'!U75","v":{"$error":"#N/A"}},{"$f":"CORREL($B$1:B75,$M$1:M75)","v":{"$error":"#N/A"}},{"$f":"'Sheet3 (4)'!W75","v":{"$error":"#N/A"}},{"$f":"CORREL($B$1:B75,$O$1:O75)","v":{"$error":"#N/A"}},{"$f":"'Sheet3 (4)'!Y75","v":{"$error":"#N/A"}},{"$f":"CORREL($B$1:B75,$Q$1:Q75)","v":{"$error":"#N/A"}},{"$f":"'Sheet3 (4)'!AA75","v":{"$error":"#N/A"}},{"$f":"CORREL($B$1:B75,$S$1:S75)","v":{"$error":"#N/A"}}]
[null,{"$f":"'Sheet3 (4)'!I76","v":{"$error":"#N/A"}},{"$f":"'Sheet3 (4)'!K76","v":{"$error":"#N/A"}},{"$f":"CORREL($B$1:B76,$C$1:C76)","v":{"$error":"#N/A"}},{"$f":"'Sheet3 (4)'!M76","v":{"$error":"#N/A"}},{"$f":"CORREL($B$1:B76,$E$1:E76)","v":{"$error":"#N/A"}},{"$f":"'Sheet3 (4)'!O76","v":{"$error":"#N/A"}},{"$f":"CORREL($B$1:B76,$G$1:G76)","v":{"$error":"#N/A"}},{"$f":"'Sheet3 (4)'!Q76","v":{"$error":"#N/A"}},{"$f":"CORREL($B$1:B76,$I$1:I76)","v":{"$error":"#N/A"}},{"$f":"'Sheet3 (4)'!S76","v":{"$error":"#N/A"}},{"$f":"CORREL($B$1:B76,$K$1:K76)","v":{"$error":"#N/A"}},{"$f":"'Sheet3 (4)'!U76","v":{"$error":"#N/A"}},{"$f":"CORREL($B$1:B76,$M$1:M76)","v":{"$error":"#N/A"}},{"$f":"'Sheet3 (4)'!W76","v":{"$error":"#N/A"}},{"$f":"CORREL($B$1:B76,$O$1:O76)","v":{"$error":"#N/A"}},{"$f":"'Sheet3 (4)'!Y76","v":{"$error":"#N/A"}},{"$f":"CORREL($B$1:B76,$Q$1:Q76)","v":{"$error":"#N/A"}},{"$f":"'Sheet3 (4)'!AA76","v":{"$error":"#N/A"}},{"$f":"CORREL($B$1:B76,$S$1:S76)","v":{"$error":"#N/A"}}]
[null,{"$f":"'Sheet3 (4)'!I77","v":{"$error":"#N/A"}},{"$f":"'Sheet3 (4)'!K77","v":{"$error":"#N/A"}},{"$f":"CORREL($B$1:B77,$C$1:C77)","v":{"$error":"#N/A"}},{"$f":"'Sheet3 (4)'!M77","v":{"$error":"#N/A"}},{"$f":"CORREL($B$1:B77,$E$1:E77)","v":{"$error":"#N/A"}},{"$f":"'Sheet3 (4)'!O77","v":{"$error":"#N/A"}},{"$f":"CORREL($B$1:B77,$G$1:G77)","v":{"$error":"#N/A"}},{"$f":"'Sheet3 (4)'!Q77","v":{"$error":"#N/A"}},{"$f":"CORREL($B$1:B77,$I$1:I77)","v":{"$error":"#N/A"}},{"$f":"'Sheet3 (4)'!S77","v":{"$error":"#N/A"}},{"$f":"CORREL($B$1:B77,$K$1:K77)","v":{"$error":"#N/A"}},{"$f":"'Sheet3 (4)'!U77","v":{"$error":"#N/A"}},{"$f":"CORREL($B$1:B77,$M$1:M77)","v":{"$error":"#N/A"}},{"$f":"'Sheet3 (4)'!W77","v":{"$error":"#N/A"}},{"$f":"CORREL($B$1:B77,$O$1:O77)","v":{"$error":"#N/A"}},{"$f":"'Sheet3 (4)'!Y77","v":{"$error":"#N/A"}},{"$f":"CORREL($B$1:B77,$Q$1:Q77)","v":{"$error":"#N/A"}},{"$f":"'Sheet3 (4)'!AA77","v":{"$error":"#N/A"}},{"$f":"CORREL($B$1:B77,$S$1:S77)","v":{"$error":"#N/A"}}]
[null,{"$f":"'Sheet3 (4)'!I78","v":{"$error":"#N/A"}},{"$f":"'Sheet3 (4)'!K78","v":{"$error":"#N/A"}},{"$f":"CORREL($B$1:B78,$C$1:C78)","v":{"$error":"#N/A"}},{"$f":"'Sheet3 (4)'!M78","v":{"$error":"#N/A"}},{"$f":"CORREL($B$1:B78,$E$1:E78)","v":{"$error":"#N/A"}},{"$f":"'Sheet3 (4)'!O78","v":{"$error":"#N/A"}},{"$f":"CORREL($B$1:B78,$G$1:G78)","v":{"$error":"#N/A"}},{"$f":"'Sheet3 (4)'!Q78","v":{"$error":"#N/A"}},{"$f":"CORREL($B$1:B78,$I$1:I78)","v":{"$error":"#N/A"}},{"$f":"'Sheet3 (4)'!S78","v":{"$error":"#N/A"}},{"$f":"CORREL($B$1:B78,$K$1:K78)","v":{"$error":"#N/A"}},{"$f":"'Sheet3 (4)'!U78","v":{"$error":"#N/A"}},{"$f":"CORREL($B$1:B78,$M$1:M78)","v":{"$error":"#N/A"}},{"$f":"'Sheet3 (4)'!W78","v":{"$error":"#N/A"}},{"$f":"CORREL($B$1:B78,$O$1:O78)","v":{"$error":"#N/A"}},{"$f":"'Sheet3 (4)'!Y78","v":{"$error":"#N/A"}},{"$f":"CORREL($B$1:B78,$Q$1:Q78)","v":{"$error":"#N/A"}},{"$f":"'Sheet3 (4)'!AA78","v":{"$error":"#N/A"}},{"$f":"CORREL($B$1:B78,$S$1:S78)","v":{"$error":"#N/A"}}]
[null,{"$f":"'Sheet3 (4)'!I79","v":{"$error":"#N/A"}},{"$f":"'Sheet3 (4)'!K79","v":{"$error":"#N/A"}},{"$f":"CORREL($B$1:B79,$C$1:C79)","v":{"$error":"#N/A"}},{"$f":"'Sheet3 (4)'!M79","v":{"$error":"#N/A"}},{"$f":"CORREL($B$1:B79,$E$1:E79)","v":{"$error":"#N/A"}},{"$f":"'Sheet3 (4)'!O79","v":{"$error":"#N/A"}},{"$f":"CORREL($B$1:B79,$G$1:G79)","v":{"$error":"#N/A"}},{"$f":"'Sheet3 (4)'!Q79","v":{"$error":"#N/A"}},{"$f":"CORREL($B$1:B79,$I$1:I79)","v":{"$error":"#N/A"}},{"$f":"'Sheet3 (4)'!S79","v":{"$error":"#N/A"}},{"$f":"CORREL($B$1:B79,$K$1:K79)","v":{"$error":"#N/A"}},{"$f":"'Sheet3 (4)'!U79","v":{"$error":"#N/A"}},{"$f":"CORREL($B$1:B79,$M$1:M79)","v":{"$error":"#N/A"}},{"$f":"'Sheet3 (4)'!W79","v":{"$error":"#N/A"}},{"$f":"CORREL($B$1:B79,$O$1:O79)","v":{"$error":"#N/A"}},{"$f":"'Sheet3 (4)'!Y79","v":{"$error":"#N/A"}},{"$f":"CORREL($B$1:B79,$Q$1:Q79)","v":{"$error":"#N/A"}},{"$f":"'Sheet3 (4)'!AA79","v":{"$error":"#N/A"}},{"$f":"CORREL($B$1:B79,$S$1:S79)","v":{"$error":"#N/A"}}]
[null,{"$f":"'Sheet3 (4)'!I80","v":{"$error":"#N/A"}},{"$f":"'Sheet3 (4)'!K80","v":{"$error":"#N/A"}},{"$f":"CORREL($B$1:B80,$C$1:C80)","v":{"$error":"#N/A"}},{"$f":"'Sheet3 (4)'!M80","v":{"$error":"#N/A"}},{"$f":"CORREL($B$1:B80,$E$1:E80)","v":{"$error":"#N/A"}},{"$f":"'Sheet3 (4)'!O80","v":{"$error":"#N/A"}},{"$f":"CORREL($B$1:B80,$G$1:G80)","v":{"$error":"#N/A"}},{"$f":"'Sheet3 (4)'!Q80","v":{"$error":"#N/A"}},{"$f":"CORREL($B$1:B80,$I$1:I80)","v":{"$error":"#N/A"}},{"$f":"'Sheet3 (4)'!S80","v":{"$error":"#N/A"}},{"$f":"CORREL($B$1:B80,$K$1:K80)","v":{"$error":"#N/A"}},{"$f":"'Sheet3 (4)'!U80","v":{"$error":"#N/A"}},{"$f":"CORREL($B$1:B80,$M$1:M80)","v":{"$error":"#N/A"}},{"$f":"'Sheet3 (4)'!W80","v":{"$error":"#N/A"}},{"$f":"CORREL($B$1:B80,$O$1:O80)","v":{"$error":"#N/A"}},{"$f":"'Sheet3 (4)'!Y80","v":{"$error":"#N/A"}},{"$f":"CORREL($B$1:B80,$Q$1:Q80)","v":{"$error":"#N/A"}},{"$f":"'Sheet3 (4)'!AA80","v":{"$error":"#N/A"}},{"$f":"CORREL($B$1:B80,$S$1:S80)","v":{"$error":"#N/A"}}]
[null,{"$f":"'Sheet3 (4)'!I81","v":{"$error":"#N/A"}},{"$f":"'Sheet3 (4)'!K81","v":{"$error":"#N/A"}},{"$f":"CORREL($B$1:B81,$C$1:C81)","v":{"$error":"#N/A"}},{"$f":"'Sheet3 (4)'!M81","v":{"$error":"#N/A"}},{"$f":"CORREL($B$1:B81,$E$1:E81)","v":{"$error":"#N/A"}},{"$f":"'Sheet3 (4)'!O81","v":{"$error":"#N/A"}},{"$f":"CORREL($B$1:B81,$G$1:G81)","v":{"$error":"#N/A"}},{"$f":"'Sheet3 (4)'!Q81","v":{"$error":"#N/A"}},{"$f":"CORREL($B$1:B81,$I$1:I81)","v":{"$error":"#N/A"}},{"$f":"'Sheet3 (4)'!S81","v":{"$error":"#N/A"}},{"$f":"CORREL($B$1:B81,$K$1:K81)","v":{"$error":"#N/A"}},{"$f":"'Sheet3 (4)'!U81","v":{"$error":"#N/A"}},{"$f":"CORREL($B$1:B81,$M$1:M81)","v":{"$error":"#N/A"}},{"$f":"'Sheet3 (4)'!W81","v":{"$error":"#N/A"}},{"$f":"CORREL($B$1:B81,$O$1:O81)","v":{"$error":"#N/A"}},{"$f":"'Sheet3 (4)'!Y81","v":{"$error":"#N/A"}},{"$f":"CORREL($B$1:B81,$Q$1:Q81)","v":{"$error":"#N/A"}},{"$f":"'Sheet3 (4)'!AA81","v":{"$error":"#N/A"}},{"$f":"CORREL($B$1:B81,$S$1:S81)","v":{"$error":"#N/A"}}]
[]
[]
[]
[]
[]
[]
[]
[]
[null,null,null,{"$f":"'Sheet3 (4)'!C2","v":"2018-06-15"},null,{"$f":"'Sheet3 (4)'!C3","v":"2018-06-14"},null,{"$f":"'Sheet3 (4)'!C4","v":"2018-06-13"},null,{"$f":"'Sheet3 (4)'!C5","v":"2018-06-12"},null,{"$f":"'Sheet3 (4)'!C6","v":"2018-06-11"},null,{"$f":"'Sheet3 (4)'!C7","v":"2018-06-08"},null,{"$f":"'Sheet3 (4)'!C8","v":"2018-06-07"},null,{"$f":"'Sheet3 (4)'!C9","v":"2018-06-06"},null,{"$f":"'Sheet3 (4)'!C10","v":"2018-06-05"}]
[null,null,null,{"$f":"LOOKUP(2,1/(ISNUMBER(D1:D81)),D1:D81)","v":-0.39329170163264315},null,{"$f":"LOOKUP(2,1/(ISNUMBER(F1:F81)),F1:F81)","v":0.79796141776556129},null,{"$f":"LOOKUP(2,1/(ISNUMBER(H1:H81)),H1:H81)","v":1.5266117060773384E-16},null,{"$f":"LOOKUP(2,1/(ISNUMBER(J1:J81)),J1:J81)","v":-0.70668874580789576},null,{"$f":"LOOKUP(2,1/(ISNUMBER(L1:L81)),L1:L81)","v":0.56428809364683541},null,{"$f":"LOOKUP(2,1/(ISNUMBER(N1:N81)),N1:N81)","v":-0.29580398915498074},null,{"$f":"LOOKUP(2,1/(ISNUMBER(P1:P81)),P1:P81)","v":-0.13437096247164235},null,{"$f":"LOOKUP(2,1/(ISNUMBER(R1:R81)),R1:R81)","v":0.49300664859163534},null,{"$f":"LOOKUP(2,1/(ISNUMBER(T1:T81)),T1:T81)","v":0.9536459298086265}]
[]
[null,null,{"$f":"RANK(D93,$D$93:$D$101,0)+COUNTIF($D$93:D93,D93)-1","v":8},{"$f":"D91","v":-0.39329170163264315},{"$f":"D90","v":"2018-06-15"},{"$f":"RANK(D93,$D$93:$D$101,0)+COUNTIF($D$93:D93,D93)-1","v":8},{"$f":"VLOOKUP(1,C93:E101,3,FALSE)","v":"2018-06-05"},{"$f":"VLOOKUP(1,C93:E101,2,FALSE)","v":0.9536459298086265},{"$f":"IFERROR(VLOOKUP(G93,'Sheet3 (4)'!AK1:AN10,4,FALSE),1)","v":9}]
[null,null,{"$f":"RANK(D94,$D$93:$D$101,0)+COUNTIF($D$93:D94,D94)-1","v":2},{"$f":"F91","v":0.79796141776556129},{"$f":"F90","v":"2018-06-14"},{"$f":"RANK(D94,$D$93:$D$101,0)+COUNTIF($D$93:D94,D94)-1","v":2},{"$f":"VLOOKUP(2,C93:E101,3,FALSE)","v":"2018-06-14"},{"$f":"VLOOKUP(2,C93:E101,2,FALSE)","v":0.79796141776556129}]
[null,null,{"$f":"RANK(D95,$D$93:$D$101,0)+COUNTIF($D$93:D95,D95)-1","v":5},{"$f":"H91","v":1.5266117060773384E-16},{"$f":"H90","v":"2018-06-13"},{"$f":"RANK(D95,$D$93:$D$101,0)+COUNTIF($D$93:D95,D95)-1","v":5},{"$f":"VLOOKUP(3,C93:E101,3,FALSE)","v":"2018-06-11"},{"$f":"VLOOKUP(3,C93:E101,2,FALSE)","v":0.56428809364683541}]
[null,null,{"$f":"RANK(D96,$D$93:$D$101,0)+COUNTIF($D$93:D96,D96)-1","v":9},{"$f":"J91","v":-0.70668874580789576},{"$f":"J90","v":"2018-06-12"},{"$f":"RANK(D96,$D$93:$D$101,0)+COUNTIF($D$93:D96,D96)-1","v":9},{"$f":"VLOOKUP(4,C93:E101,3,FALSE)","v":"2018-06-06"},{"$f":"VLOOKUP(4,C93:E101,2,FALSE)","v":0.49300664859163534}]
[null,null,{"$f":"RANK(D97,$D$93:$D$101,0)+COUNTIF($D$93:D97,D97)-1","v":3},{"$f":"L91","v":0.56428809364683541},{"$f":"L90","v":"2018-06-11"},{"$f":"RANK(D97,$D$93:$D$101,0)+COUNTIF($D$93:D97,D97)-1","v":3},{"$f":"VLOOKUP(5,C93:E101,3,FALSE)","v":"2018-06-13"},{"$f":"VLOOKUP(5,C93:E101,2,FALSE)","v":1.5266117060773384E-16}]
[null,null,{"$f":"RANK(D98,$D$93:$D$101,0)+COUNTIF($D$93:D98,D98)-1","v":7},{"$f":"N91","v":-0.29580398915498074},{"$f":"N90","v":"2018-06-08"},{"$f":"RANK(D98,$D$93:$D$101,0)+COUNTIF($D$93:D98,D98)-1","v":7},{"$f":"VLOOKUP(6,C93:E101,3,FALSE)","v":"2018-06-07"},{"$f":"VLOOKUP(6,C93:E101,2,FALSE)","v":-0.13437096247164235}]
[null,null,{"$f":"RANK(D99,$D$93:$D$101,0)+COUNTIF($D$93:D99,D99)-1","v":6},{"$f":"P91","v":-0.13437096247164235},{"$f":"P90","v":"2018-06-07"},{"$f":"RANK(D99,$D$93:$D$101,0)+COUNTIF($D$93:D99,D99)-1","v":6},{"$f":"VLOOKUP(7,C93:E101,3,FALSE)","v":"2018-06-08"},{"$f":"VLOOKUP(7,C93:E101,2,FALSE)","v":-0.29580398915498074}]
[null,null,{"$f":"RANK(D100,$D$93:$D$101,0)+COUNTIF($D$93:D100,D100)-1","v":4},{"$f":"R91","v":0.49300664859163534},{"$f":"R90","v":"2018-06-06"},{"$f":"RANK(D100,$D$93:$D$101,0)+COUNTIF($D$93:D100,D100)-1","v":4},{"$f":"VLOOKUP(8,C93:E101,3,FALSE)","v":"2018-06-15"},{"$f":"VLOOKUP(8,C93:E101,2,FALSE)","v":-0.39329170163264315}]
[null,null,{"$f":"RANK(D101,$D$93:$D$101,0)+COUNTIF($D$93:D101,D101)-1","v":1},{"$f":"T91","v":0.9536459298086265},{"$f":"T90","v":"2018-06-05"},{"$f":"RANK(D101,$D$93:$D$101,0)+COUNTIF($D$93:D101,D101)-1","v":1},{"$f":"VLOOKUP(9,C93:E101,3,FALSE)","v":"2018-06-12"},{"$f":"VLOOKUP(9,C93:E101,2,FALSE)","v":-0.70668874580789576}]