{"text_format":"1","workbook":"xlsx","n_sheets":9,"sheets":["MainDisplay","Sheet3","Sheet4","Sheet3 (2)","Sheet4 (2)","Sheet3 (3)","Sheet4 (3)","Sheet3 (4)","Sheet4 (4)"],"not_rendered":{"charts":4,"images":6,"macros":1,"external_links":0,"defined_names":0,"comments":0,"pivot_tables":0},"unopened":[],"bounds":{"document_bytes":16777216,"sheet_cells":100000,"rows_first":2000,"rows_last":500,"rows_between":2000,"halvings":0,"cell_chars":16384,"cell_head_chars":4096},"cells_cut":0,"cells_raw":0,"read":"whole","date_system":"1900"}

{"sheet":"MainDisplay","index":0,"n_rows":55,"n_cols":31,"rows_kept":55,"cut":false,"hidden":false,"merged":[[4,12,5,15],[53,1,53,11],[53,17,53,27],[33,4,34,5],[33,6,34,7],[33,8,34,9],[34,12,34,14],[35,12,36,14],[7,10,7,11],[33,10,33,11],[27,1,27,11],[27,17,27,27],[7,12,7,14],[33,12,33,14],[1,1,2,4],[29,3,29,4],[29,7,30,8],[29,10,30,11],[30,2,31,5],[1,5,2,25],[3,3,3,4],[3,7,4,8],[3,10,4,11],[7,2,8,3],[7,4,8,5],[7,6,8,7],[7,8,8,9],[4,2,5,5],[3,12,3,15],[29,12,29,15],[1,26,2,31],[3,23,4,24],[3,26,4,27],[4,18,5,21],[7,18,8,19],[7,20,8,21],[7,22,8,23],[7,24,8,25],[8,28,8,30],[3,19,3,20],[3,28,3,31],[4,28,5,31],[7,26,7,27],[7,28,7,30],[35,28,36,30],[29,26,30,27],[30,18,31,21],[33,18,34,19],[33,20,34,21],[33,22,34,23],[33,24,34,25],[29,19,29,20],[29,23,30,24],[29,28,29,31],[30,28,31,31],[33,26,33,27],[34,28,34,30],[33,28,33,30],[9,28,10,30],[9,12,10,14],[8,12,8,14],[33,2,34,3],[30,12,31,15]]}
[null,null,null,null,null,null,null,null,null,null,null,null,null,null,{"$f":"TODAY()","v":"2018-06-18"}]
[null,{"$f":"MOD(RTD(\"cqg.rtd\", ,\"SystemInfo\", \"Linetime\"),1)","v":"08:44:40"},null,null,null,"CQG NYSE & NASDAQ Equities 10-Day Map",null,null,null,null,null,null,null,null,null,null,null,null,null,null,null,null,null,null,null,null,{"$f":"RTD(\"cqg.rtd\", ,\"SystemInfo\", \"Linetime\")","v":43269.364351851851}]
[]
[null,"Symbol",null,"Equities",null,{"$f":"IF(RTD(\"cqg.rtd\", ,\"ContractData\",Sheet3!$D$12, \"NetLastTradeToday\",, \"T\")>=0,\"+\",0)","v":0},"Last",{"$f":"TEXT(RTD(\"cqg.rtd\", ,\"ContractData\",Sheet3!$D$12, \"LastTradeToday\",, \"T\"),Sheet3!$F$17)","v":"187.93"},null,"Net",{"$f":"IF(F4=\"+\",\"+\"&TEXT(RTD(\"cqg.rtd\", ,\"ContractData\",Sheet3!$D$12, \"NetLastTradeToday\",, \"T\"),Sheet3!$F$17),TEXT(RTD(\"cqg.rtd\", ,\"ContractData\",Sheet3!$D$12, \"NetLastTradeToday\",, \"T\"),Sheet3!$F$17))","v":"-.91"},null,"Net $ Change",null,null,null,null,"Symbol",null,"Equities",null,{"$f":"IF(RTD(\"cqg.rtd\", ,\"ContractData\",'Sheet3 (2)'!$D$12, \"NetLastTradeToday\",, \"T\")>=0,\"+\",0)","v":"+"},"Last",{"$f":"TEXT(RTD(\"cqg.rtd\", ,\"ContractData\",'Sheet3 (2)'!$D$12, \"LastTradeToday\",, \"T\"),'Sheet3 (2)'!$F$17)","v":"1718.03"},null,"Net",{"$f":"IF(V4=\"+\",\"+\"&TEXT(RTD(\"cqg.rtd\", ,\"ContractData\",'Sheet3 (2)'!$D$12, \"NetLastTradeToday\",, \"T\"),'Sheet3 (2)'!$F$17),TEXT(RTD(\"cqg.rtd\", ,\"ContractData\",'Sheet3 (2)'!$D$12, \"NetLastTradeToday\",, \"T\"),'Sheet3 (2)'!$F$17))","v":"+2.06"},null,"Net $ Change"]
[null,"S.AAPL",{"$f":"\" \"&RTD(\"cqg.rtd\", ,\"ContractData\",Sheet3!$D$12, \"LongDescription\",, \"T\")&\" \"","v":" Apple Inc "},null,null,null,"Trade",null,null,"Change",null,null,{"$f":"IFERROR(1/RTD(\"cqg.rtd\",,\"ContractData\",\"Tsize(\"&B5&\")\",\"LastQuoteToday\",,\"T\")*RTD(\"cqg.rtd\",,\"ContractData\",\"PriceToDollar(Tsize(\"&B5&\"))\",\"LastQuoteToday\")*RTD(\"cqg.rtd\", ,\"ContractData\", B5, \"NetLastTrade\"),\"\")","v":-0.91},null,null,null,null,"S.AMZN",{"$f":"\" \"&RTD(\"cqg.rtd\", ,\"ContractData\",'Sheet3 (2)'!D12, \"LongDescription\",, \"T\")&\" \"","v":" Amazon.com Inc "},null,null,null,"Trade",null,null,"Change",null,null,{"$f":"IFERROR(1/RTD(\"cqg.rtd\",,\"ContractData\",\"Tsize(\"&R5&\")\",\"LastQuoteToday\",,\"T\")*RTD(\"cqg.rtd\",,\"ContractData\",\"PriceToDollar(Tsize(\"&R5&\"))\",\"LastQuoteToday\")*RTD(\"cqg.rtd\", ,\"ContractData\", R5, \"NetLastTrade\"),\"\")","v":2.06}]
[null,{"$f":"2*RTD(\"cqg.rtd\",,\"ContractData\",\"Tsize(\"&B5&\")\",\"LastQuoteToday\",,\"T\")","v":0.02},null,null,null,null,"Open",{"$f":"TEXT(RTD(\"cqg.rtd\", ,\"ContractData\",Sheet3!$D$12, \"Open\",, \"T\"),Sheet3!$F$17)","v":"187.88"},"High",{"$f":"TEXT(RTD(\"cqg.rtd\", ,\"ContractData\",Sheet3!$D$12, \"High\",, \"T\"),Sheet3!$F$17)","v":"187.98"},"Low",{"$f":"TEXT(RTD(\"cqg.rtd\", ,\"ContractData\",Sheet3!$D$12, \"Low\",, \"T\"),Sheet3!$F$17)","v":"187.20"},null,null,null,null,null,{"$f":"2*RTD(\"cqg.rtd\",,\"ContractData\",\"Tsize(\"&R5&\")\",\"LastQuoteToday\",,\"T\")","v":0.02},null,null,null,null,"Open",{"$f":"TEXT(RTD(\"cqg.rtd\", ,\"ContractData\",'Sheet3 (2)'!$D$12, \"Open\",, \"T\"),'Sheet3 (2)'!$F$17)","v":"1706.26"},"High",{"$f":"TEXT(RTD(\"cqg.rtd\", ,\"ContractData\",'Sheet3 (2)'!$D$12, \"High\",, \"T\"),'Sheet3 (2)'!$F$17)","v":"1718.21"},"Low",{"$f":"TEXT(RTD(\"cqg.rtd\", ,\"ContractData\",'Sheet3 (2)'!$D$12, \"Low\",, \"T\"),'Sheet3 (2)'!$F$17)","v":"1702.56"}]
[null,null,null,null,null,null,null,null,null,null,null,null,{"$f":"IF(J6-H4<=B6,1,0)","v":0},null,{"$f":"IF(H4-L6<=B6,1,0)","v":0},null,null,null,null,null,null,null,null,null,null,null,null,null,{"$f":"IF(Z6-X4<=R6,1,0)","v":0},null,{"$f":"IF(X4-AB6<=R6,1,0)","v":0}]
[null,{"$f":"Sheet4!I85+1","v":8},{"$f":"RTD(\"cqg.rtd\", ,\"ContractData\",Sheet3!$D$12, \"MT_LastBidVolume\",, \"T\")","v":100},null,{"$f":"TEXT(RTD(\"cqg.rtd\", ,\"ContractData\",Sheet3!$D$12, \"Bid\",, \"T\"),Sheet3!$F$17)","v":"187.92"},null,{"$f":"TEXT(RTD(\"cqg.rtd\", ,\"ContractData\",Sheet3!$D$12, \"Ask\",, \"T\"),Sheet3!$F$17)","v":"187.93"},null,{"$f":"RTD(\"cqg.rtd\", ,\"ContractData\",Sheet3!$D$12, \"MT_LastAskVolume\",, \"T\")","v":300},null,"Top Correlation to:",null,"Highlight",null,null,null,null,{"$f":"'Sheet4 (2)'!I85+1","v":8},{"$f":"RTD(\"cqg.rtd\", ,\"ContractData\",'Sheet3 (2)'!$D$12, \"MT_LastBidVolume\",, \"T\")","v":200},null,{"$f":"TEXT(RTD(\"cqg.rtd\", ,\"ContractData\",'Sheet3 (2)'!$D$12, \"Bid\",, \"T\"),'Sheet3 (2)'!$F$17)","v":"1717.88"},null,{"$f":"TEXT(RTD(\"cqg.rtd\", ,\"ContractData\",'Sheet3 (2)'!$D$12, \"Ask\",, \"T\"),'Sheet3 (2)'!$F$17)","v":"1718.42"},null,{"$f":"RTD(\"cqg.rtd\", ,\"ContractData\",'Sheet3 (2)'!$D$12, \"MT_LastAskVolume\",, \"T\")","v":100},null,"Top Correlation to:",null,"Highlight"]
[null,null,null,null,null,null,null,null,null,null,{"$f":"Sheet4!G85","v":"2018-06-07"},{"$f":"Sheet4!H85","v":0.98974331861078502},"Reset",null,null,null,null,null,null,null,null,null,null,null,null,null,{"$f":"'Sheet4 (2)'!G85","v":"2018-06-07"},{"$f":"'Sheet4 (2)'!H85","v":0.98338820679776251},"Reset"]
[{"$f":"IF(M14=$O$1,1,0)","v":0},null,null,null,null,null,null,null,null,null,null,null,null,null,null,null,{"$f":"IF(AC14=$O$1,1,0)","v":0}]
[0,null,null,null,null,null,null,null,null,null,null,null,null,null,null,null,{"$f":"IF(AC15=$O$1,1,0)","v":0}]
[0,null,null,null,null,null,null,null,null,null,null,null,"Bar Time","Corr",{"$f":"IFERROR(IF(TIME(0,5,0)-(MOD(B2,1)-M13)<0,1,TIME(0,5,0)-(MOD(B2,1)-M13)),\"\")","v":"00:00:20"},null,{"$f":"IF(AC16=$O$1,1,0)","v":0},null,null,null,null,null,null,null,null,null,null,null,"Bar Time","Corr",{"$f":"IFERROR(IF(TIME(0,5,0)-(MOD(B2,1)-AC13)<0,1,TIME(0,5,0)-(MOD(B2,1)-AC13)),\"\")","v":"00:00:20"}]
[0,null,null,null,null,null,null,null,null,null,null,null,{"$f":"IFERROR(Sheet3!AC12,\"\")","v":"08:40:00"},"Now","% NC",null,{"$f":"IF(AC17=$O$1,1,0)","v":0},null,null,null,null,null,null,null,null,null,null,null,{"$f":"IFERROR('Sheet3 (2)'!AC12,\"\")","v":"08:40:00"},"Now","% NC"]
[0,null,null,null,null,null,null,null,null,null,null,null,{"$f":"IFERROR(Sheet3!AG1,\"\")","v":"2018-06-05"},{"$f":"IFERROR(VLOOKUP(M14,Sheet4!$G$85:$H$93,2,FALSE),\"\")","v":-0.98624138261244876},{"$f":"IFERROR(Sheet3!AH1,\"\")","v":5.0565604962727355E-3},null,{"$f":"IF(AC18=$O$1,1,0)","v":0},null,null,null,null,null,null,null,null,null,null,null,{"$f":"IFERROR('Sheet3 (2)'!AG1,\"\")","v":"2018-06-06"},{"$f":"IFERROR(VLOOKUP(AC14,'Sheet4 (2)'!$G$85:$H$93,2,FALSE),\"\")","v":-0.18176693016710879},{"$f":"IFERROR('Sheet3 (2)'!AH1,\"\")","v":7.9936333893360287E-3}]
[0,null,null,null,null,null,null,null,null,null,null,null,{"$f":"IFERROR(Sheet3!AG2,\"\")","v":"2018-06-12"},{"$f":"IFERROR(VLOOKUP(M15,Sheet4!$G$85:$H$93,2,FALSE),\"\")","v":-0.23212021384546727},{"$f":"IFERROR(Sheet3!AH2,\"\")","v":1.5687915076086983E-3},null,0,null,null,null,null,null,null,null,null,null,null,null,{"$f":"IFERROR('Sheet3 (2)'!AG2,\"\")","v":"2018-06-11"},{"$f":"IFERROR(VLOOKUP(AC15,'Sheet4 (2)'!$G$85:$H$93,2,FALSE),\"\")","v":0.97502368412220397},{"$f":"IFERROR('Sheet3 (2)'!AH2,\"\")","v":5.4929067274746288E-3}]
[0,null,null,null,null,null,null,null,null,null,null,null,{"$f":"IFERROR(Sheet3!AG3,\"\")","v":"2018-06-06"},{"$f":"IFERROR(VLOOKUP(M16,Sheet4!$G$85:$H$93,2,FALSE),\"\")","v":-0.99044804197587033},{"$f":"IFERROR(Sheet3!AH3,\"\")","v":5.1730381252862784E-5},null,1,null,null,null,null,null,null,null,null,null,null,null,{"$f":"IFERROR('Sheet3 (2)'!AG3,\"\")","v":"2018-06-05"},{"$f":"IFERROR(VLOOKUP(AC16,'Sheet4 (2)'!$G$85:$H$93,2,FALSE),\"\")","v":0.93877836412988269},{"$f":"IFERROR('Sheet3 (2)'!AH3,\"\")","v":5.4885994463360899E-3}]
[1,null,null,null,null,null,null,null,null,null,null,null,{"$f":"IFERROR(Sheet3!AG4,\"\")","v":"2018-06-11"},{"$f":"IFERROR(VLOOKUP(M17,Sheet4!$G$85:$H$93,2,FALSE),\"\")","v":-0.95843185071715564},{"$f":"IFERROR(Sheet3!AH4,\"\")","v":-6.2597809076669864E-4},null,0,null,null,null,null,null,null,null,null,null,null,null,{"$f":"IFERROR('Sheet3 (2)'!AG4,\"\")","v":"2018-06-14"},{"$f":"IFERROR(VLOOKUP(AC17,'Sheet4 (2)'!$G$85:$H$93,2,FALSE),\"\")","v":-0.99642035817811814},{"$f":"IFERROR('Sheet3 (2)'!AH4,\"\")","v":4.7511232593879481E-3}]
[0,null,null,null,null,null,null,null,null,null,null,null,{"$f":"IFERROR(Sheet3!AG5,\"\")","v":"2018-06-14"},{"$f":"IFERROR(VLOOKUP(M18,Sheet4!$G$85:$H$93,2,FALSE),\"\")","v":-0.95842615326962666},{"$f":"IFERROR(Sheet3!AH5,\"\")","v":-8.3901415836390458E-4},null,0,null,null,null,null,null,null,null,null,null,null,null,{"$f":"IFERROR('Sheet3 (2)'!AG5,\"\")","v":"2018-06-12"},{"$f":"IFERROR(VLOOKUP(AC18,'Sheet4 (2)'!$G$85:$H$93,2,FALSE),\"\")","v":-0.989663799521875},{"$f":"IFERROR('Sheet3 (2)'!AH5,\"\")","v":4.0139244103439666E-3}]
[0,null,null,null,null,null,null,null,null,null,null,null,{"$f":"IFERROR(Sheet3!AG6,\"\")","v":"2018-06-13"},{"$f":"IFERROR(VLOOKUP(M19,Sheet4!$G$85:$H$93,2,FALSE),\"\")","v":-0.89963283427627316},{"$f":"IFERROR(Sheet3!AH6,\"\")","v":-1.5602246723528778E-3},null,0,null,null,null,null,null,null,null,null,null,null,null,{"$f":"IFERROR('Sheet3 (2)'!AG6,\"\")","v":"2018-06-13"},{"$f":"IFERROR(VLOOKUP(AC19,'Sheet4 (2)'!$G$85:$H$93,2,FALSE),\"\")","v":-0.97387725326322405},{"$f":"IFERROR('Sheet3 (2)'!AH6,\"\")","v":3.3848417954378219E-3}]
[null,null,null,null,null,null,null,null,null,null,null,null,{"$f":"IFERROR(Sheet3!AG7,\"\")","v":"2018-06-07"},{"$f":"IFERROR(VLOOKUP(M20,Sheet4!$G$85:$H$93,2,FALSE),\"\")","v":0.98974331861078502},{"$f":"IFERROR(Sheet3!AH7,\"\")","v":-1.5981028972059093E-3},null,null,null,null,null,null,null,null,null,null,null,null,null,{"$f":"IFERROR('Sheet3 (2)'!AG7,\"\")","v":"2018-06-18"},{"$f":"IFERROR(VLOOKUP(AC20,'Sheet4 (2)'!$G$85:$H$93,2,FALSE),\"\")","v":""},{"$f":"IFERROR('Sheet3 (2)'!AH7,\"\")","v":1.2004871880044205E-3}]
[null,null,null,null,null,null,null,null,null,null,null,null,{"$f":"IFERROR(Sheet3!AG8,\"\")","v":"2018-06-18"},{"$f":"IFERROR(VLOOKUP(M21,Sheet4!$G$85:$H$93,2,FALSE),\"\")","v":""},{"$f":"IFERROR(Sheet3!AH8,\"\")","v":-4.8188943020546311E-3},null,null,null,null,null,null,null,null,null,null,null,null,null,{"$f":"IFERROR('Sheet3 (2)'!AG8,\"\")","v":"2018-06-07"},{"$f":"IFERROR(VLOOKUP(AC21,'Sheet4 (2)'!$G$85:$H$93,2,FALSE),\"\")","v":0.98338820679776251},{"$f":"IFERROR('Sheet3 (2)'!AH8,\"\")","v":2.4178092289552224E-4}]
[null,null,null,null,null,null,null,null,null,null,null,null,{"$f":"IFERROR(Sheet3!AG9,\"\")","v":"2018-06-15"},{"$f":"IFERROR(VLOOKUP(M22,Sheet4!$G$85:$H$93,2,FALSE),\"\")","v":-0.97778698435345524},{"$f":"IFERROR(Sheet3!AH9,\"\")","v":-8.5429769392034796E-3},null,null,null,null,null,null,null,null,null,null,null,null,null,{"$f":"IFERROR('Sheet3 (2)'!AG9,\"\")","v":"2018-06-08"},{"$f":"IFERROR(VLOOKUP(AC22,'Sheet4 (2)'!$G$85:$H$93,2,FALSE),\"\")","v":0.5426072047504551},{"$f":"IFERROR('Sheet3 (2)'!AH9,\"\")","v":-6.0794411886580134E-3}]
[null,null,null,null,null,null,null,null,null,null,null,null,{"$f":"IFERROR(Sheet3!AG10,\"\")","v":"2018-06-08"},{"$f":"IFERROR(VLOOKUP(M23,Sheet4!$G$85:$H$93,2,FALSE),\"\")","v":-0.97005011170739042},{"$f":"IFERROR(Sheet3!AH10,\"\")","v":-1.7729763258554774E-2},null,null,null,null,null,null,null,null,null,null,null,null,null,{"$f":"IFERROR('Sheet3 (2)'!AG10,\"\")","v":"2018-06-15"},{"$f":"IFERROR(VLOOKUP(AC23,'Sheet4 (2)'!$G$85:$H$93,2,FALSE),\"\")","v":-6.2124819677325908E-2},{"$f":"IFERROR('Sheet3 (2)'!AH10,\"\")","v":-6.5202510644715985E-3}]
[]
[]
[]
[]
[null,"Session: 8:30 - 15:15",null,null,null,null,null,null,null,null,null,null,null,null,null,null,null,"Session: 8:30 - 15:15"]
[]
[null,"Symbol",null,"Equities",null,{"$f":"IF(RTD(\"cqg.rtd\", ,\"ContractData\",'Sheet3 (3)'!$D$12, \"NetLastTradeToday\",, \"T\")=\"\",\"\",IF(RTD(\"cqg.rtd\", ,\"ContractData\",'Sheet3 (3)'!$D$12, \"NetLastTradeToday\",, \"T\")>=0,\"+\",0))","v":0},"Last",{"$f":"TEXT(RTD(\"cqg.rtd\", ,\"ContractData\",'Sheet3 (3)'!$D$12, \"LastTradeToday\",, \"T\"),'Sheet3 (3)'!$F$17)","v":"164.38"},null,"Net",{"$f":"IF(F30=\"\",\"\",IF(F30=\"+\",\"+\"&TEXT(RTD(\"cqg.rtd\", ,\"ContractData\",'Sheet3 (3)'!$D$12, \"NetLastTradeToday\",, \"T\"),'Sheet3 (3)'!$F$17),TEXT(RTD(\"cqg.rtd\", ,\"ContractData\",'Sheet3 (3)'!$D$12, \"NetLastTradeToday\",, \"T\"),'Sheet3 (3)'!$F$17)))","v":"-1.69"},null,"Net $ Change",null,null,null,null,"Symbol",null,"Equities",null,{"$f":"IF(RTD(\"cqg.rtd\", ,\"ContractData\",'Sheet3 (4)'!$D$12, \"NetLastTradeToday\",, \"T\")>=0,\"+\",0)","v":0},"Last",{"$f":"TEXT(RTD(\"cqg.rtd\", ,\"ContractData\",'Sheet3 (4)'!$D$12, \"LastTradeToday\",, \"T\"),'Sheet3 (3)'!$F$17)","v":"391.40"},null,"Net",{"$f":"IF(V30=\"\",\"\",IF(V30=\"+\",\"+\"&TEXT(RTD(\"cqg.rtd\", ,\"ContractData\",'Sheet3 (4)'!$D$12, \"NetLastTradeToday\",, \"T\"),'Sheet3 (4)'!$F$17),TEXT(RTD(\"cqg.rtd\", ,\"ContractData\",'Sheet3 (4)'!$D$12, \"NetLastTradeToday\",, \"T\"),'Sheet3 (4)'!$F$17)))","v":"-.58"},null,"Net $ Change"]
[null,"S.RYT",{"$f":"\" \"&RTD(\"cqg.rtd\", ,\"ContractData\",'Sheet3 (3)'!$D$12, \"LongDescription\",, \"T\")&\" \"","v":" Guggenheim S&P 500 Eq Wt Technology ETF "},null,null,null,"Trade",null,null,"Change",null,null,{"$f":"IFERROR(1/RTD(\"cqg.rtd\",,\"ContractData\",\"Tsize(\"&B31&\")\",\"LastQuoteToday\",,\"T\")*RTD(\"cqg.rtd\",,\"ContractData\",\"PriceToDollar(Tsize(\"&B31&\"))\",\"LastQuoteToday\")*RTD(\"cqg.rtd\", ,\"ContractData\", B31, \"NetLastTrade\"),\"\")","v":-1.69},null,null,null,null,"S.NFLX",{"$f":"\" \"&RTD(\"cqg.rtd\", ,\"ContractData\",'Sheet3 (4)'!D12, \"LongDescription\",, \"T\")&\" \"","v":" Netflix Inc "},null,null,null,"Trade",null,null,"Change",null,null,{"$f":"IFERROR(1/RTD(\"cqg.rtd\",,\"ContractData\",\"Tsize(\"&R31&\")\",\"LastQuoteToday\",,\"T\")*RTD(\"cqg.rtd\",,\"ContractData\",\"PriceToDollar(Tsize(\"&R31&\"))\",\"LastQuoteToday\")*RTD(\"cqg.rtd\", ,\"ContractData\", R31, \"NetLastTrade\",,\"T\"),\"\")","v":-0.57999999999998408}]
[null,{"$f":"2*RTD(\"cqg.rtd\",,\"ContractData\",\"Tsize(\"&B31&\")\",\"LastQuoteToday\",,\"T\")","v":0.02},null,null,null,null,"Open",{"$f":"TEXT(RTD(\"cqg.rtd\", ,\"ContractData\",'Sheet3 (3)'!$D$12, \"Open\",, \"T\"),'Sheet3 (3)'!$F$17)","v":"164.76"},"High",{"$f":"TEXT(RTD(\"cqg.rtd\", ,\"ContractData\",'Sheet3 (3)'!$D$12, \"High\",, \"T\"),'Sheet3 (3)'!$F$17)","v":"164.77"},"Low",{"$f":"TEXT(RTD(\"cqg.rtd\", ,\"ContractData\",'Sheet3 (3)'!$D$12, \"Low\",, \"T\"),'Sheet3 (3)'!$F$17)","v":"164.16"},null,null,null,null,null,{"$f":"2*RTD(\"cqg.rtd\",,\"ContractData\",\"Tsize(\"&R31&\")\",\"LastQuoteToday\",,\"T\")","v":0.02},null,null,null,null,"Open",{"$f":"TEXT(RTD(\"cqg.rtd\", ,\"ContractData\",'Sheet3 (4)'!$D$12, \"Open\",, \"T\"),'Sheet3 (3)'!$F$17)","v":"387.72"},"High",{"$f":"TEXT(RTD(\"cqg.rtd\", ,\"ContractData\",'Sheet3 (4)'!$D$12, \"High\",, \"T\"),'Sheet3 (3)'!$F$17)","v":"392.21"},"Low",{"$f":"TEXT(RTD(\"cqg.rtd\", ,\"ContractData\",'Sheet3 (4)'!$D$12, \"Low\",, \"T\"),'Sheet3 (4)'!$F$17)","v":"386.50"}]
[null,null,null,null,null,null,null,null,null,null,null,null,{"$f":"IF(J32-H30<=B32,1,0)","v":0},null,{"$f":"IF(H30-L32<=B32,1,0)","v":0},null,null,null,null,null,null,null,null,null,null,null,null,null,{"$f":"IF(Z32-X30<=R32,1,0)","v":0},null,{"$f":"IF(X30-AB32<=R32,1,0)","v":0}]
[null,{"$f":"'Sheet4 (3)'!I85+1","v":5},{"$f":"RTD(\"cqg.rtd\", ,\"ContractData\",'Sheet3 (3)'!$D$12, \"MT_LastBidVolume\",, \"T\")","v":200},null,{"$f":"TEXT(RTD(\"cqg.rtd\", ,\"ContractData\",'Sheet3 (3)'!$D$12, \"Bid\",, \"T\"),'Sheet3 (3)'!$F$17)","v":"164.50"},null,{"$f":"TEXT(RTD(\"cqg.rtd\", ,\"ContractData\",'Sheet3 (3)'!$D$12, \"Ask\",, \"T\"),'Sheet3 (3)'!$F$17)","v":"164.59"},null,{"$f":"RTD(\"cqg.rtd\", ,\"ContractData\",'Sheet3 (3)'!$D$12, \"MT_LastAskVolume\",, \"T\")","v":1100},null,"Top Correlation to:",null,"Highlight",null,null,null,null,{"$f":"'Sheet4 (4)'!I85+1","v":10},{"$f":"RTD(\"cqg.rtd\", ,\"ContractData\",'Sheet3 (4)'!$D$12, \"MT_LastBidVolume\",, \"T\")","v":400},null,{"$f":"TEXT(RTD(\"cqg.rtd\", ,\"ContractData\",'Sheet3 (4)'!$D$12, \"Bid\",, \"T\"),'Sheet3 (3)'!$F$17)","v":"391.21"},null,{"$f":"TEXT(RTD(\"cqg.rtd\", ,\"ContractData\",'Sheet3 (4)'!$D$12, \"Ask\",, \"T\"),'Sheet3 (4)'!$F$17)","v":"391.38"},null,{"$f":"RTD(\"cqg.rtd\", ,\"ContractData\",'Sheet3 (4)'!$D$12, \"MT_LastAskVolume\",, \"T\")","v":200},null,"Top Correlation to:",null,"Highlight"]
[null,null,null,null,null,null,null,null,null,null,{"$f":"'Sheet4 (3)'!G85","v":"2018-06-12"},{"$f":"'Sheet4 (3)'!H85","v":0.99900253497474112},"Reset",null,null,null,null,null,null,null,null,null,null,null,null,null,{"$f":"'Sheet4 (4)'!G85","v":"2018-06-05"},{"$f":"'Sheet4 (4)'!H85","v":0.99782559333119702},"Reset"]
[{"$f":"IF(M40=$O$1,1,0)","v":0},null,null,null,null,null,null,null,null,null,null,null,null,null,null,null,{"$f":"IF(AC40=$O$1,1,0)","v":0}]
[0,null,null,null,null,null,null,null,null,null,null,null,null,null,null,null,{"$f":"IF(AC41=$O$1,1,0)","v":0}]
[0,null,null,null,null,null,null,null,null,null,null,null,"Bar Time","Corr",{"$f":"IFERROR(IF(TIME(0,5,0)-(MOD(B2,1)-M39)<0,1,TIME(0,5,0)-(MOD(B2,1)-M39)),\"\")","v":"00:00:20"},null,0,null,null,null,null,null,null,null,null,null,null,null,"Bar Time","Corr",{"$f":"IFERROR(IF(TIME(0,5,0)-(MOD(B2,1)-AC39)<0,1,TIME(0,5,0)-(MOD(B2,1)-AC39)),\"\")","v":"00:00:20"}]
[0,null,null,null,null,null,null,null,null,null,null,null,{"$f":"IFERROR('Sheet3 (3)'!AC12,\"\")","v":"08:40:00"},"Now","% NC",null,0,null,null,null,null,null,null,null,null,null,null,null,{"$f":"IFERROR('Sheet3 (4)'!AC12,\"\")","v":"08:40:00"},"Now","% NC"]
[0,null,null,null,null,null,null,null,null,null,null,null,{"$f":"IFERROR('Sheet3 (3)'!AG1,\"\")","v":"2018-06-14"},{"$f":"IFERROR(VLOOKUP(M40,'Sheet4 (3)'!$G$85:$H$93,2,FALSE),\"\")","v":-0.98368427954993187},{"$f":"IFERROR('Sheet3 (3)'!AH1,\"\")","v":6.9499002840394371E-3},null,0,null,null,null,null,null,null,null,null,null,null,null,{"$f":"IFERROR('Sheet3 (4)'!AG1,\"\")","v":"2018-06-13"},{"$f":"IFERROR(VLOOKUP(AC40,'Sheet4 (4)'!$G$85:$H$93,2,FALSE),\"\")","v":0.96484372602487822},{"$f":"IFERROR('Sheet3 (4)'!AH1,\"\")","v":1.9542093835032883E-2}]
[0,null,null,null,null,null,null,null,null,null,null,null,{"$f":"IFERROR('Sheet3 (3)'!AG2,\"\")","v":"2018-06-05"},{"$f":"IFERROR(VLOOKUP(M41,'Sheet4 (3)'!$G$85:$H$93,2,FALSE),\"\")","v":0.70612943893483182},{"$f":"IFERROR('Sheet3 (3)'!AH2,\"\")","v":3.805315166022246E-3},null,0,null,null,null,null,null,null,null,null,null,null,null,{"$f":"IFERROR('Sheet3 (4)'!AG2,\"\")","v":"2018-06-14"},{"$f":"IFERROR(VLOOKUP(AC41,'Sheet4 (4)'!$G$85:$H$93,2,FALSE),\"\")","v":-0.64159140434432493},{"$f":"IFERROR('Sheet3 (4)'!AH2,\"\")","v":1.6213513015555413E-2}]
[0,null,null,null,null,null,null,null,null,null,null,null,{"$f":"IFERROR('Sheet3 (3)'!AG3,\"\")","v":"2018-06-13"},{"$f":"IFERROR(VLOOKUP(M42,'Sheet4 (3)'!$G$85:$H$93,2,FALSE),\"\")","v":0.26015295118647547},{"$f":"IFERROR('Sheet3 (3)'!AH3,\"\")","v":2.899951667472147E-3},null,1,null,null,null,null,null,null,null,null,null,null,null,{"$f":"IFERROR('Sheet3 (4)'!AG3,\"\")","v":"2018-06-11"},{"$f":"IFERROR(VLOOKUP(AC42,'Sheet4 (4)'!$G$85:$H$93,2,FALSE),\"\")","v":0.88366095695915636},{"$f":"IFERROR('Sheet3 (4)'!AH3,\"\")","v":1.306265080289536E-2}]
[0,null,null,null,null,null,null,null,null,null,null,null,{"$f":"IFERROR('Sheet3 (3)'!AG4,\"\")","v":"2018-06-06"},{"$f":"IFERROR(VLOOKUP(M43,'Sheet4 (3)'!$G$85:$H$93,2,FALSE),\"\")","v":0.93520699549509445},{"$f":"IFERROR('Sheet3 (3)'!AH4,\"\")","v":1.6439357038479164E-3},null,0,null,null,null,null,null,null,null,null,null,null,null,{"$f":"IFERROR('Sheet3 (4)'!AG4,\"\")","v":"2018-06-12"},{"$f":"IFERROR(VLOOKUP(AC43,'Sheet4 (4)'!$G$85:$H$93,2,FALSE),\"\")","v":0.34008793796897813},{"$f":"IFERROR('Sheet3 (4)'!AH4,\"\")","v":9.1575598284686748E-3}]
[1,null,null,null,null,null,null,null,null,null,null,null,{"$f":"IFERROR('Sheet3 (3)'!AG5,\"\")","v":"2018-06-11"},{"$f":"IFERROR(VLOOKUP(M44,'Sheet4 (3)'!$G$85:$H$93,2,FALSE),\"\")","v":0.11954644243932853},{"$f":"IFERROR('Sheet3 (3)'!AH5,\"\")","v":1.3998782714545938E-3},null,0,null,null,null,null,null,null,null,null,null,null,null,{"$f":"IFERROR('Sheet3 (4)'!AG5,\"\")","v":"2018-06-05"},{"$f":"IFERROR(VLOOKUP(AC44,'Sheet4 (4)'!$G$85:$H$93,2,FALSE),\"\")","v":0.99782559333119702},{"$f":"IFERROR('Sheet3 (4)'!AH5,\"\")","v":8.0705342583124173E-3}]
[0,null,null,null,null,null,null,null,null,null,null,null,{"$f":"IFERROR('Sheet3 (3)'!AG6,\"\")","v":"2018-06-12"},{"$f":"IFERROR(VLOOKUP(M45,'Sheet4 (3)'!$G$85:$H$93,2,FALSE),\"\")","v":0.99900253497474112},{"$f":"IFERROR('Sheet3 (3)'!AH6,\"\")","v":1.3984313248616147E-3},null,0,null,null,null,null,null,null,null,null,null,null,null,{"$f":"IFERROR('Sheet3 (4)'!AG6,\"\")","v":"2018-06-06"},{"$f":"IFERROR(VLOOKUP(AC45,'Sheet4 (4)'!$G$85:$H$93,2,FALSE),\"\")","v":-0.78350134397516003},{"$f":"IFERROR('Sheet3 (4)'!AH6,\"\")","v":6.5882996172771137E-3}]
[null,null,null,null,null,null,null,null,null,null,null,null,{"$f":"IFERROR('Sheet3 (3)'!AG7,\"\")","v":"2018-06-07"},{"$f":"IFERROR(VLOOKUP(M46,'Sheet4 (3)'!$G$85:$H$93,2,FALSE),\"\")","v":-0.26015295118647547},{"$f":"IFERROR('Sheet3 (3)'!AH7,\"\")","v":-1.6912297656438821E-3},null,null,null,null,null,null,null,null,null,null,null,null,null,{"$f":"IFERROR('Sheet3 (4)'!AG7,\"\")","v":"2018-06-18"},{"$f":"IFERROR(VLOOKUP(AC46,'Sheet4 (4)'!$G$85:$H$93,2,FALSE),\"\")","v":""},{"$f":"IFERROR('Sheet3 (4)'!AH7,\"\")","v":-1.479667329965919E-3}]
[null,null,null,null,null,null,null,null,null,null,null,null,{"$f":"IFERROR('Sheet3 (3)'!AG8,\"\")","v":"2018-06-08"},{"$f":"IFERROR(VLOOKUP(M47,'Sheet4 (3)'!$G$85:$H$93,2,FALSE),\"\")","v":0.26015295118647547},{"$f":"IFERROR('Sheet3 (3)'!AH8,\"\")","v":-4.0278286342000794E-3},null,null,null,null,null,null,null,null,null,null,null,null,null,{"$f":"IFERROR('Sheet3 (4)'!AG8,\"\")","v":"2018-06-07"},{"$f":"IFERROR(VLOOKUP(AC47,'Sheet4 (4)'!$G$85:$H$93,2,FALSE),\"\")","v":0.70487436632084632},{"$f":"IFERROR('Sheet3 (4)'!AH8,\"\")","v":-4.6536943801877249E-3}]
[null,null,null,null,null,null,null,null,null,null,null,null,{"$f":"IFERROR('Sheet3 (3)'!AG9,\"\")","v":"2018-06-18"},{"$f":"IFERROR(VLOOKUP(M48,'Sheet4 (3)'!$G$85:$H$93,2,FALSE),\"\")","v":""},{"$f":"IFERROR('Sheet3 (3)'!AH9,\"\")","v":-1.0176431625218267E-2},null,null,null,null,null,null,null,null,null,null,null,null,null,{"$f":"IFERROR('Sheet3 (4)'!AG9,\"\")","v":"2018-06-08"},{"$f":"IFERROR(VLOOKUP(AC48,'Sheet4 (4)'!$G$85:$H$93,2,FALSE),\"\")","v":0.77188246871265187},{"$f":"IFERROR('Sheet3 (4)'!AH9,\"\")","v":-6.8068622025455995E-3}]
[null,null,null,null,null,null,null,null,null,null,null,null,{"$f":"IFERROR('Sheet3 (3)'!AG10,\"\")","v":"2018-06-15"},{"$f":"IFERROR(VLOOKUP(M49,'Sheet4 (3)'!$G$85:$H$93,2,FALSE),\"\")","v":1.7853347905983981E-2},{"$f":"IFERROR('Sheet3 (3)'!AH10,\"\")","v":-1.0986372095815478E-2},null,null,null,null,null,null,null,null,null,null,null,null,null,{"$f":"IFERROR('Sheet3 (4)'!AG10,\"\")","v":"2018-06-15"},{"$f":"IFERROR(VLOOKUP(AC49,'Sheet4 (4)'!$G$85:$H$93,2,FALSE),\"\")","v":0.15099318642273074},{"$f":"IFERROR('Sheet3 (4)'!AH10,\"\")","v":-8.2724565377860354E-3}]
[]
[]
[]
[]
[null,"Session: 8:30 - 15:15",null,null,null,null,null,null,null,null,null,null,null,null,null,null,null,"Session: 8:30 - 15:15"]
[null,null,null,"  Copyright © 2018",null,null,null,null,null,"Designed by Thom Hartle"]

{"sheet":"Sheet3","index":1,"n_rows":81,"n_cols":40,"rows_kept":81,"cut":false,"hidden":true,"merged":[]}
[0,"08:30:00",{"$f":"IF(WEEKDAY(TODAY())=7,TODAY()-1,IF(WEEKDAY(TODAY())=1,TODAY()-2,TODAY()))","v":"2018-06-18"},{"$f":"YEAR(C1)","v":2018},{"$f":"MONTH(C1)","v":6},{"$f":"DAY(C1)","v":18},null,{"$f":"RTD(\"cqg.rtd\",,\"StudyData\", \"Close(\"&$D$12&\") when LocalYear(\"&$D$12&\")=\"&$D$1&\" and localMonth(\"&$D$12&\") =\"&$E$1&\" and LocalDay(\"&$D$12&\")=\"&$F$1&\" and Barix(\"&$D$12&\",reference:=StartOfSession)=\"&A1&\"\", \"Bar\", \"\", \"Close\",\"5\",\"0\",\"PrimaryOnly\",,,\"False\",\"T\",\"EveryTick\")","v":187.64},{"$f":"IFERROR((H1-$G$2)/$G$2,NA())","v":-6.3545858928194081E-3},{"$f":"RTD(\"cqg.rtd\",,\"StudyData\", \"Close(\"&$D$12&\") when LocalYear(\"&$D$12&\")=\"&$D$2&\" and localMonth(\"&$D$12&\") =\"&$E$2&\" and LocalDay(\"&$D$12&\")=\"&$F$2&\" and Barix(\"&$D$12&\",reference:=StartOfSession)=\"&A1&\"\", \"Bar\", \"\", \"Close\",\"5\",\"0\",\"PrimaryOnly\",,,\"False\",\"T\",\"EveryTick\")","v":189.8},{"$f":"IFERROR((J1-$G$3)/$G$3,NA())","v":-5.2410901467505235E-3},{"$f":"RTD(\"cqg.rtd\",,\"StudyData\", \"Close(\"&$D$12&\") when LocalYear(\"&$D$12&\")=\"&$D$3&\" and localMonth(\"&$D$12&\") =\"&$E$3&\" and LocalDay(\"&$D$12&\")=\"&$F$3&\" and Barix(\"&$D$12&\",reference:=StartOfSession)=\"&A1&\"\", \"Bar\", \"\", \"Close\",\"5\",\"0\",\"PrimaryOnly\",,,\"False\",\"T\",\"EveryTick\")","v":191.09},{"$f":"IFERROR((L1-$G$4)/$G$4,NA())","v":2.0450970110121383E-3},{"$f":"RTD(\"cqg.rtd\",,\"StudyData\", \"Close(\"&$D$12&\") when LocalYear(\"&$D$12&\")=\"&$D$4&\" and localMonth(\"&$D$12&\") =\"&$E$4&\" and LocalDay(\"&$D$12&\")=\"&$F$4&\" and Barix(\"&$D$12&\",reference:=StartOfSession)=\"&A1&\"\", \"Bar\", \"\", \"Close\",\"5\",\"0\",\"PrimaryOnly\",,,\"False\",\"T\",\"EveryTick\")","v":192.29},{"$f":"IFERROR((N1-$G$5)/$G$5,NA())","v":5.2007489078379993E-5},{"$f":"RTD(\"cqg.rtd\",,\"StudyData\", \"Close(\"&$D$12&\") when LocalYear(\"&$D$12&\")=\"&$D$5&\" and localMonth(\"&$D$12&\") =\"&$E$5&\" and LocalDay(\"&$D$12&\")=\"&$F$5&\" and Barix(\"&$D$12&\",reference:=StartOfSession)=\"&A1&\"\", \"Bar\", \"\", \"Close\",\"5\",\"0\",\"PrimaryOnly\",,,\"False\",\"T\",\"EveryTick\")","v":191.57},{"$f":"IFERROR((P1-$G$6)/$G$6,NA())","v":1.777963708623142E-3},{"$f":"RTD(\"cqg.rtd\",,\"StudyData\", \"Close(\"&$D$12&\") when LocalYear(\"&$D$12&\")=\"&$D$6&\" and localMonth(\"&$D$12&\") =\"&$E$6&\" and LocalDay(\"&$D$12&\")=\"&$F$6&\" and Barix(\"&$D$12&\",reference:=StartOfSession)=\"&A1&\"\", \"Bar\", \"\", \"Close\",\"5\",\"0\",\"PrimaryOnly\",,,\"False\",\"T\",\"EveryTick\")","v":191.85},{"$f":"IFERROR((R1-$G$7)/$G$7,NA())","v":7.8247261345855868E-4},{"$f":"RTD(\"cqg.rtd\",,\"StudyData\", \"Close(\"&$D$12&\") when LocalYear(\"&$D$12&\")=\"&$D$7&\" and localMonth(\"&$D$12&\") =\"&$E$7&\" and LocalDay(\"&$D$12&\")=\"&$F$7&\" and Barix(\"&$D$12&\",reference:=StartOfSession)=\"&A1&\"\", \"Bar\", \"\", \"Close\",\"5\",\"0\",\"PrimaryOnly\",,,\"False\",\"T\",\"EveryTick\")","v":190.4},{"$f":"IFERROR((T1-$G$8)/$G$8,NA())","v":-1.5817223198594035E-2},{"$f":"RTD(\"cqg.rtd\",,\"StudyData\", \"Close(\"&$D$12&\") when LocalYear(\"&$D$12&\")=\"&$D$8&\" and localMonth(\"&$D$12&\") =\"&$E$8&\" and LocalDay(\"&$D$12&\")=\"&$F$8&\" and Barix(\"&$D$12&\",reference:=StartOfSession)=\"&A1&\"\", \"Bar\", \"\", \"Close\",\"5\",\"0\",\"PrimaryOnly\",,,\"False\",\"T\",\"EveryTick\")","v":193.53},{"$f":"IFERROR((V1-$G$9)/$G$9,NA())","v":-2.3198267862665671E-3},{"$f":"RTD(\"cqg.rtd\",,\"StudyData\", \"Close(\"&$D$12&\") when LocalYear(\"&$D$12&\")=\"&$D$9&\" and localMonth(\"&$D$12&\") =\"&$E$9&\" and LocalDay(\"&$D$12&\")=\"&$F$9&\" and Barix(\"&$D$12&\",reference:=StartOfSession)=\"&A1&\"\", \"Bar\", \"\", \"Close\",\"5\",\"0\",\"PrimaryOnly\",,,\"False\",\"T\",\"EveryTick\")","v":193.63},{"$f":"IFERROR((X1-$G$10)/$G$10,NA())","v":1.6553722000930795E-3},{"$f":"RTD(\"cqg.rtd\",,\"StudyData\", \"Close(\"&$D$12&\") when LocalYear(\"&$D$12&\")=\"&$D$10&\" and localMonth(\"&$D$12&\") =\"&$E$10&\" and LocalDay(\"&$D$12&\")=\"&$F$10&\" and Barix(\"&$D$12&\",reference:=StartOfSession)=\"&A1&\"\", \"Bar\", \"\", \"Close\",\"5\",\"0\",\"PrimaryOnly\",,,\"False\",\"T\",\"EveryTick\")","v":193.14},{"$f":"IFERROR((Z1-$G$11)/$G$11,NA())","v":6.8289631444506792E-3},{"$f":"RANK(AD1,$AD$1:$AD$10)+COUNTIF($AD$1:AD1,AD1)-1","v":8},{"$f":"DATE(D1,E1,F1)","v":"2018-06-18"},{"$f":"VLOOKUP(MAX(AE2:AE81),A1:I81,9,FALSE)","v":-4.8188943020546311E-3},null,1,{"$f":"VLOOKUP(AF1,$AB$1:$AD$10,2,FALSE)","v":"2018-06-05"},{"$f":"VLOOKUP(AF1,$AB$1:$AD$10,3,FALSE)","v":5.0565604962727355E-3},null,null,{"$f":"AG1","v":"2018-06-05"},{"$f":"AC1","v":"2018-06-18"},0,{"$f":"VLOOKUP(AK1,$AL$1:$AM$10,2,FALSE)","v":9}]
[{"$f":"A1+1","v":1},"08:35:00",{"$f":"WORKDAY(C1,-G27)","v":"2018-06-15"},{"$f":"YEAR(C2)","v":2018},{"$f":"MONTH(C2)","v":6},{"$f":"DAY(C2)","v":15},{"$f":"RTD(\"cqg.rtd\",,\"StudyData\",$D$12,\"Bar\",,\"Close\",\"D\",\"-1\",,,,,\"T\")","v":188.84},{"$f":"RTD(\"cqg.rtd\",,\"StudyData\", \"Close(\"&$D$12&\") when LocalYear(\"&$D$12&\")=\"&$D$1&\" and localMonth(\"&$D$12&\") =\"&$E$1&\" and LocalDay(\"&$D$12&\")=\"&$F$1&\" and Barix(\"&$D$12&\",reference:=StartOfSession)=\"&A2&\"\", \"Bar\", \"\", \"Close\",\"5\",\"0\",\"PrimaryOnly\",,,\"False\",\"T\",\"EveryTick\")","v":187.76},{"$f":"IFERROR((H2-$G$2)/$G$2,NA())","v":-5.7191273035374522E-3},{"$f":"RTD(\"cqg.rtd\",,\"StudyData\", \"Close(\"&$D$12&\") when LocalYear(\"&$D$12&\")=\"&$D$2&\" and localMonth(\"&$D$12&\") =\"&$E$2&\" and LocalDay(\"&$D$12&\")=\"&$F$2&\" and Barix(\"&$D$12&\",reference:=StartOfSession)=\"&A2&\"\", \"Bar\", \"\", \"Close\",\"5\",\"0\",\"PrimaryOnly\",,,\"False\",\"T\",\"EveryTick\")","v":189.66},{"$f":"IFERROR((J2-$G$3)/$G$3,NA())","v":-5.9748427672956742E-3},{"$f":"RTD(\"cqg.rtd\",,\"StudyData\", \"Close(\"&$D$12&\") when LocalYear(\"&$D$12&\")=\"&$D$3&\" and localMonth(\"&$D$12&\") =\"&$E$3&\" and LocalDay(\"&$D$12&\")=\"&$F$3&\" and Barix(\"&$D$12&\",reference:=StartOfSession)=\"&A2&\"\", \"Bar\", \"\", \"Close\",\"5\",\"0\",\"PrimaryOnly\",,,\"False\",\"T\",\"EveryTick\")","v":191.01},{"$f":"IFERROR((L2-$G$4)/$G$4,NA())","v":1.6255899318301118E-3},{"$f":"RTD(\"cqg.rtd\",,\"StudyData\", \"Close(\"&$D$12&\") when LocalYear(\"&$D$12&\")=\"&$D$4&\" and localMonth(\"&$D$12&\") =\"&$E$4&\" and LocalDay(\"&$D$12&\")=\"&$F$4&\" and Barix(\"&$D$12&\",reference:=StartOfSession)=\"&A2&\"\", \"Bar\", \"\", \"Close\",\"5\",\"0\",\"PrimaryOnly\",,,\"False\",\"T\",\"EveryTick\")","v":192.3},{"$f":"IFERROR((N2-$G$5)/$G$5,NA())","v":1.040149781569078E-4},{"$f":"RTD(\"cqg.rtd\",,\"StudyData\", \"Close(\"&$D$12&\") when LocalYear(\"&$D$12&\")=\"&$D$5&\" and localMonth(\"&$D$12&\") =\"&$E$5&\" and LocalDay(\"&$D$12&\")=\"&$F$5&\" and Barix(\"&$D$12&\",reference:=StartOfSession)=\"&A2&\"\", \"Bar\", \"\", \"Close\",\"5\",\"0\",\"PrimaryOnly\",,,\"False\",\"T\",\"EveryTick\")","v":191.45},{"$f":"IFERROR((P2-$G$6)/$G$6,NA())","v":1.1504471055796626E-3},{"$f":"RTD(\"cqg.rtd\",,\"StudyData\", \"Close(\"&$D$12&\") when LocalYear(\"&$D$12&\")=\"&$D$6&\" and localMonth(\"&$D$12&\") =\"&$E$6&\" and LocalDay(\"&$D$12&\")=\"&$F$6&\" and Barix(\"&$D$12&\",reference:=StartOfSession)=\"&A2&\"\", \"Bar\", \"\", \"Close\",\"5\",\"0\",\"PrimaryOnly\",,,\"False\",\"T\",\"EveryTick\")","v":191.67},{"$f":"IFERROR((R2-$G$7)/$G$7,NA())","v":-1.5649452269171174E-4},{"$f":"RTD(\"cqg.rtd\",,\"StudyData\", \"Close(\"&$D$12&\") when LocalYear(\"&$D$12&\")=\"&$D$7&\" and localMonth(\"&$D$12&\") =\"&$E$7&\" and LocalDay(\"&$D$12&\")=\"&$F$7&\" and Barix(\"&$D$12&\",reference:=StartOfSession)=\"&A2&\"\", \"Bar\", \"\", \"Close\",\"5\",\"0\",\"PrimaryOnly\",,,\"False\",\"T\",\"EveryTick\")","v":190.33},{"$f":"IFERROR((T2-$G$8)/$G$8,NA())","v":-1.6179055101829813E-2},{"$f":"RTD(\"cqg.rtd\",,\"StudyData\", \"Close(\"&$D$12&\") when LocalYear(\"&$D$12&\")=\"&$D$8&\" and localMonth(\"&$D$12&\") =\"&$E$8&\" and LocalDay(\"&$D$12&\")=\"&$F$8&\" and Barix(\"&$D$12&\",reference:=StartOfSession)=\"&A2&\"\", \"Bar\", \"\", \"Close\",\"5\",\"0\",\"PrimaryOnly\",,,\"False\",\"T\",\"EveryTick\")","v":193.57},{"$f":"IFERROR((V2-$G$9)/$G$9,NA())","v":-2.1136199608206858E-3},{"$f":"RTD(\"cqg.rtd\",,\"StudyData\", \"Close(\"&$D$12&\") when LocalYear(\"&$D$12&\")=\"&$D$9&\" and localMonth(\"&$D$12&\") =\"&$E$9&\" and LocalDay(\"&$D$12&\")=\"&$F$9&\" and Barix(\"&$D$12&\",reference:=StartOfSession)=\"&A2&\"\", \"Bar\", \"\", \"Close\",\"5\",\"0\",\"PrimaryOnly\",,,\"False\",\"T\",\"EveryTick\")","v":193.54},{"$f":"IFERROR((X2-$G$10)/$G$10,NA())","v":1.1897987688168732E-3},{"$f":"RTD(\"cqg.rtd\",,\"StudyData\", \"Close(\"&$D$12&\") when LocalYear(\"&$D$12&\")=\"&$D$10&\" and localMonth(\"&$D$12&\") =\"&$E$10&\" and LocalDay(\"&$D$12&\")=\"&$F$10&\" and Barix(\"&$D$12&\",reference:=StartOfSession)=\"&A2&\"\", \"Bar\", \"\", \"Close\",\"5\",\"0\",\"PrimaryOnly\",,,\"False\",\"T\",\"EveryTick\")","v":193.05},{"$f":"IFERROR((Z2-$G$11)/$G$11,NA())","v":6.3597977375801432E-3},{"$f":"RANK(AD2,$AD$1:$AD$10)+COUNTIF($AD$1:AD2,AD2)-1","v":9},{"$f":"DATE(D2,E2,F2)","v":"2018-06-15"},{"$f":"VLOOKUP(MAX(AE2:AE81),A1:K81,11,FALSE)","v":-8.5429769392034796E-3},{"$f":"IF(AND(H1<>\"\",H2<>\"\",H3=\"\"),A2,\"\")","v":""},2,{"$f":"VLOOKUP(AF2,$AB$1:$AD$10,2,FALSE)","v":"2018-06-12"},{"$f":"VLOOKUP(AF2,$AB$1:$AD$10,3,FALSE)","v":1.5687915076086983E-3},null,null,{"$f":"AG2","v":"2018-06-12"},{"$f":"AC2","v":"2018-06-15"},1,{"$f":"VLOOKUP(AK2,$AL$1:$AM$10,2,FALSE)","v":4}]
[{"$f":"A2+1","v":2},"08:40:00",{"$f":"WORKDAY(C2,-G28)","v":"2018-06-14"},2018,6,14,{"$f":"RTD(\"cqg.rtd\",,\"StudyData\",$D$12,\"Bar\",,\"Close\",\"D\",\"-2\",,,,,\"T\")","v":190.8},{"$f":"RTD(\"cqg.rtd\",,\"StudyData\", \"Close(\"&$D$12&\") when LocalYear(\"&$D$12&\")=\"&$D$1&\" and localMonth(\"&$D$12&\") =\"&$E$1&\" and LocalDay(\"&$D$12&\")=\"&$F$1&\" and Barix(\"&$D$12&\",reference:=StartOfSession)=\"&A3&\"\", \"Bar\", \"\", \"Close\",\"5\",\"0\",\"PrimaryOnly\",,,\"False\",\"T\",\"EveryTick\")","v":187.93},{"$f":"IFERROR((H3-$G$2)/$G$2,NA())","v":-4.8188943020546311E-3},{"$f":"RTD(\"cqg.rtd\",,\"StudyData\", \"Close(\"&$D$12&\") when LocalYear(\"&$D$12&\")=\"&$D$2&\" and localMonth(\"&$D$12&\") =\"&$E$2&\" and LocalDay(\"&$D$12&\")=\"&$F$2&\" and Barix(\"&$D$12&\",reference:=StartOfSession)=\"&A3&\"\", \"Bar\", \"\", \"Close\",\"5\",\"0\",\"PrimaryOnly\",,,\"False\",\"T\",\"EveryTick\")","v":189.17},-8.5429769392034796E-3,{"$f":"RTD(\"cqg.rtd\",,\"StudyData\", \"Close(\"&$D$12&\") when LocalYear(\"&$D$12&\")=\"&$D$3&\" and localMonth(\"&$D$12&\") =\"&$E$3&\" and LocalDay(\"&$D$12&\")=\"&$F$3&\" and Barix(\"&$D$12&\",reference:=StartOfSession)=\"&A3&\"\", \"Bar\", \"\", \"Close\",\"5\",\"0\",\"PrimaryOnly\",,,\"False\",\"T\",\"EveryTick\")","v":190.54},-8.3901415836390458E-4,{"$f":"RTD(\"cqg.rtd\",,\"StudyData\", \"Close(\"&$D$12&\") when LocalYear(\"&$D$12&\")=\"&$D$4&\" and localMonth(\"&$D$12&\") =\"&$E$4&\" and LocalDay(\"&$D$12&\")=\"&$F$4&\" and Barix(\"&$D$12&\",reference:=StartOfSession)=\"&A3&\"\", \"Bar\", \"\", \"Close\",\"5\",\"0\",\"PrimaryOnly\",,,\"False\",\"T\",\"EveryTick\")","v":191.98},-1.5602246723528778E-3,{"$f":"RTD(\"cqg.rtd\",,\"StudyData\", \"Close(\"&$D$12&\") when LocalYear(\"&$D$12&\")=\"&$D$5&\" and localMonth(\"&$D$12&\") =\"&$E$5&\" and LocalDay(\"&$D$12&\")=\"&$F$5&\" and Barix(\"&$D$12&\",reference:=StartOfSession)=\"&A3&\"\", \"Bar\", \"\", \"Close\",\"5\",\"0\",\"PrimaryOnly\",,,\"False\",\"T\",\"EveryTick\")","v":191.53},1.5687915076086983E-3,{"$f":"RTD(\"cqg.rtd\",,\"StudyData\", \"Close(\"&$D$12&\") when LocalYear(\"&$D$12&\")=\"&$D$6&\" and localMonth(\"&$D$12&\") =\"&$E$6&\" and LocalDay(\"&$D$12&\")=\"&$F$6&\" and Barix(\"&$D$12&\",reference:=StartOfSession)=\"&A3&\"\", \"Bar\", \"\", \"Close\",\"5\",\"0\",\"PrimaryOnly\",,,\"False\",\"T\",\"EveryTick\")","v":191.58},-6.2597809076669864E-4,{"$f":"RTD(\"cqg.rtd\",,\"StudyData\", \"Close(\"&$D$12&\") when LocalYear(\"&$D$12&\")=\"&$D$7&\" and localMonth(\"&$D$12&\") =\"&$E$7&\" and LocalDay(\"&$D$12&\")=\"&$F$7&\" and Barix(\"&$D$12&\",reference:=StartOfSession)=\"&A3&\"\", \"Bar\", \"\", \"Close\",\"5\",\"0\",\"PrimaryOnly\",,,\"False\",\"T\",\"EveryTick\")","v":190.03},-1.7729763258554774E-2,{"$f":"RTD(\"cqg.rtd\",,\"StudyData\", \"Close(\"&$D$12&\") when LocalYear(\"&$D$12&\")=\"&$D$8&\" and localMonth(\"&$D$12&\") =\"&$E$8&\" and LocalDay(\"&$D$12&\")=\"&$F$8&\" and Barix(\"&$D$12&\",reference:=StartOfSession)=\"&A3&\"\", \"Bar\", \"\", \"Close\",\"5\",\"0\",\"PrimaryOnly\",,,\"False\",\"T\",\"EveryTick\")","v":193.67},-1.5981028972059093E-3,{"$f":"RTD(\"cqg.rtd\",,\"StudyData\", \"Close(\"&$D$12&\") when LocalYear(\"&$D$12&\")=\"&$D$9&\" and localMonth(\"&$D$12&\") =\"&$E$9&\" and LocalDay(\"&$D$12&\")=\"&$F$9&\" and Barix(\"&$D$12&\",reference:=StartOfSession)=\"&A3&\"\", \"Bar\", \"\", \"Close\",\"5\",\"0\",\"PrimaryOnly\",,,\"False\",\"T\",\"EveryTick\")","v":193.32},5.1730381252862784E-5,{"$f":"RTD(\"cqg.rtd\",,\"StudyData\", \"Close(\"&$D$12&\") when LocalYear(\"&$D$12&\")=\"&$D$10&\" and localMonth(\"&$D$12&\") =\"&$E$10&\" and LocalDay(\"&$D$12&\")=\"&$F$10&\" and Barix(\"&$D$12&\",reference:=StartOfSession)=\"&A3&\"\", \"Bar\", \"\", \"Close\",\"5\",\"0\",\"PrimaryOnly\",,,\"False\",\"T\",\"EveryTick\")","v":192.8},5.0565604962727355E-3,{"$f":"RANK(AD3,$AD$1:$AD$10)+COUNTIF($AD$1:AD3,AD3)-1","v":5},"2018-06-14",{"$f":"VLOOKUP(MAX(AE2:AE81),A1:M81,13,FALSE)","v":-8.3901415836390458E-4},{"$f":"IF(AND(H2<>\"\",H3<>\"\",H4=\"\"),A3,\"\")","v":2},3,"2018-06-06",5.1730381252862784E-5,null,null,"2018-06-06","2018-06-14",2,8]
[3,"08:45:00","2018-06-13",2018,6,13,{"$f":"RTD(\"cqg.rtd\",,\"StudyData\",$D$12,\"Bar\",,\"Close\",\"D\",\"-3\",,,,,\"T\")","v":190.7},{"$f":"RTD(\"cqg.rtd\",,\"StudyData\", \"Close(\"&$D$12&\") when LocalYear(\"&$D$12&\")=\"&$D$1&\" and localMonth(\"&$D$12&\") =\"&$E$1&\" and LocalDay(\"&$D$12&\")=\"&$F$1&\" and Barix(\"&$D$12&\",reference:=StartOfSession)=\"&A4&\"\", \"Bar\", \"\", \"Close\",\"5\",\"0\",\"PrimaryOnly\",,,\"False\",\"T\",\"EveryTick\")","v":""},{"$error":"#N/A"},{"$f":"RTD(\"cqg.rtd\",,\"StudyData\", \"Close(\"&$D$12&\") when LocalYear(\"&$D$12&\")=\"&$D$2&\" and localMonth(\"&$D$12&\") =\"&$E$2&\" and LocalDay(\"&$D$12&\")=\"&$F$2&\" and Barix(\"&$D$12&\",reference:=StartOfSession)=\"&A4&\"\", \"Bar\", \"\", \"Close\",\"5\",\"0\",\"PrimaryOnly\",,,\"False\",\"T\",\"EveryTick\")","v":189.51},-6.761006289308283E-3,{"$f":"RTD(\"cqg.rtd\",,\"StudyData\", \"Close(\"&$D$12&\") when LocalYear(\"&$D$12&\")=\"&$D$3&\" and localMonth(\"&$D$12&\") =\"&$E$3&\" and LocalDay(\"&$D$12&\")=\"&$F$3&\" and Barix(\"&$D$12&\",reference:=StartOfSession)=\"&A4&\"\", \"Bar\", \"\", \"Close\",\"5\",\"0\",\"PrimaryOnly\",,,\"False\",\"T\",\"EveryTick\")","v":190.3},-2.0975353959096867E-3,{"$f":"RTD(\"cqg.rtd\",,\"StudyData\", \"Close(\"&$D$12&\") when LocalYear(\"&$D$12&\")=\"&$D$4&\" and localMonth(\"&$D$12&\") =\"&$E$4&\" and LocalDay(\"&$D$12&\")=\"&$F$4&\" and Barix(\"&$D$12&\",reference:=StartOfSession)=\"&A4&\"\", \"Bar\", \"\", \"Close\",\"5\",\"0\",\"PrimaryOnly\",,,\"False\",\"T\",\"EveryTick\")","v":192.13},-7.8011233617643891E-4,{"$f":"RTD(\"cqg.rtd\",,\"StudyData\", \"Close(\"&$D$12&\") when LocalYear(\"&$D$12&\")=\"&$D$5&\" and localMonth(\"&$D$12&\") =\"&$E$5&\" and LocalDay(\"&$D$12&\")=\"&$F$5&\" and Barix(\"&$D$12&\",reference:=StartOfSession)=\"&A4&\"\", \"Bar\", \"\", \"Close\",\"5\",\"0\",\"PrimaryOnly\",,,\"False\",\"T\",\"EveryTick\")","v":191.44},1.0981540553260888E-3,{"$f":"RTD(\"cqg.rtd\",,\"StudyData\", \"Close(\"&$D$12&\") when LocalYear(\"&$D$12&\")=\"&$D$6&\" and localMonth(\"&$D$12&\") =\"&$E$6&\" and LocalDay(\"&$D$12&\")=\"&$F$6&\" and Barix(\"&$D$12&\",reference:=StartOfSession)=\"&A4&\"\", \"Bar\", \"\", \"Close\",\"5\",\"0\",\"PrimaryOnly\",,,\"False\",\"T\",\"EveryTick\")","v":191.4},-1.564945226916969E-3,{"$f":"RTD(\"cqg.rtd\",,\"StudyData\", \"Close(\"&$D$12&\") when LocalYear(\"&$D$12&\")=\"&$D$7&\" and localMonth(\"&$D$12&\") =\"&$E$7&\" and LocalDay(\"&$D$12&\")=\"&$F$7&\" and Barix(\"&$D$12&\",reference:=StartOfSession)=\"&A4&\"\", \"Bar\", \"\", \"Close\",\"5\",\"0\",\"PrimaryOnly\",,,\"False\",\"T\",\"EveryTick\")","v":190.37},-1.597229401426653E-2,{"$f":"RTD(\"cqg.rtd\",,\"StudyData\", \"Close(\"&$D$12&\") when LocalYear(\"&$D$12&\")=\"&$D$8&\" and localMonth(\"&$D$12&\") =\"&$E$8&\" and LocalDay(\"&$D$12&\")=\"&$F$8&\" and Barix(\"&$D$12&\",reference:=StartOfSession)=\"&A4&\"\", \"Bar\", \"\", \"Close\",\"5\",\"0\",\"PrimaryOnly\",,,\"False\",\"T\",\"EveryTick\")","v":193.67},-1.5981028972059093E-3,{"$f":"RTD(\"cqg.rtd\",,\"StudyData\", \"Close(\"&$D$12&\") when LocalYear(\"&$D$12&\")=\"&$D$9&\" and localMonth(\"&$D$12&\") =\"&$E$9&\" and LocalDay(\"&$D$12&\")=\"&$F$9&\" and Barix(\"&$D$12&\",reference:=StartOfSession)=\"&A4&\"\", \"Bar\", \"\", \"Close\",\"5\",\"0\",\"PrimaryOnly\",,,\"False\",\"T\",\"EveryTick\")","v":193.42},5.6903419378193174E-4,{"$f":"RTD(\"cqg.rtd\",,\"StudyData\", \"Close(\"&$D$12&\") when LocalYear(\"&$D$12&\")=\"&$D$10&\" and localMonth(\"&$D$12&\") =\"&$E$10&\" and LocalDay(\"&$D$12&\")=\"&$F$10&\" and Barix(\"&$D$12&\",reference:=StartOfSession)=\"&A4&\"\", \"Bar\", \"\", \"Close\",\"5\",\"0\",\"PrimaryOnly\",,,\"False\",\"T\",\"EveryTick\")","v":192.54},3.7011937653129308E-3,{"$f":"RANK(AD4,$AD$1:$AD$10)+COUNTIF($AD$1:AD4,AD4)-1","v":6},"2018-06-13",{"$f":"VLOOKUP(MAX(AE2:AE81),A1:O81,15,FALSE)","v":-1.5602246723528778E-3},"",4,"2018-06-11",-6.2597809076669864E-4,null,null,"2018-06-11","2018-06-13",3,5]
[4,"08:50:00","2018-06-12",2018,6,12,{"$f":"RTD(\"cqg.rtd\",,\"StudyData\",$D$12,\"Bar\",,\"Close\",\"D\",\"-4\",,,,,\"T\")","v":192.28},{"$f":"RTD(\"cqg.rtd\",,\"StudyData\", \"Close(\"&$D$12&\") when LocalYear(\"&$D$12&\")=\"&$D$1&\" and localMonth(\"&$D$12&\") =\"&$E$1&\" and LocalDay(\"&$D$12&\")=\"&$F$1&\" and Barix(\"&$D$12&\",reference:=StartOfSession)=\"&A5&\"\", \"Bar\", \"\", \"Close\",\"5\",\"0\",\"PrimaryOnly\",,,\"False\",\"T\",\"EveryTick\")","v":""},{"$error":"#N/A"},{"$f":"RTD(\"cqg.rtd\",,\"StudyData\", \"Close(\"&$D$12&\") when LocalYear(\"&$D$12&\")=\"&$D$2&\" and localMonth(\"&$D$12&\") =\"&$E$2&\" and LocalDay(\"&$D$12&\")=\"&$F$2&\" and Barix(\"&$D$12&\",reference:=StartOfSession)=\"&A5&\"\", \"Bar\", \"\", \"Close\",\"5\",\"0\",\"PrimaryOnly\",,,\"False\",\"T\",\"EveryTick\")","v":189.36},-7.5471698113207426E-3,{"$f":"RTD(\"cqg.rtd\",,\"StudyData\", \"Close(\"&$D$12&\") when LocalYear(\"&$D$12&\")=\"&$D$3&\" and localMonth(\"&$D$12&\") =\"&$E$3&\" and LocalDay(\"&$D$12&\")=\"&$F$3&\" and Barix(\"&$D$12&\",reference:=StartOfSession)=\"&A5&\"\", \"Bar\", \"\", \"Close\",\"5\",\"0\",\"PrimaryOnly\",,,\"False\",\"T\",\"EveryTick\")","v":190.38},-1.6780283167278092E-3,{"$f":"RTD(\"cqg.rtd\",,\"StudyData\", \"Close(\"&$D$12&\") when LocalYear(\"&$D$12&\")=\"&$D$4&\" and localMonth(\"&$D$12&\") =\"&$E$4&\" and LocalDay(\"&$D$12&\")=\"&$F$4&\" and Barix(\"&$D$12&\",reference:=StartOfSession)=\"&A5&\"\", \"Bar\", \"\", \"Close\",\"5\",\"0\",\"PrimaryOnly\",,,\"False\",\"T\",\"EveryTick\")","v":192.18},-5.2007489078424339E-4,{"$f":"RTD(\"cqg.rtd\",,\"StudyData\", \"Close(\"&$D$12&\") when LocalYear(\"&$D$12&\")=\"&$D$5&\" and localMonth(\"&$D$12&\") =\"&$E$5&\" and LocalDay(\"&$D$12&\")=\"&$F$5&\" and Barix(\"&$D$12&\",reference:=StartOfSession)=\"&A5&\"\", \"Bar\", \"\", \"Close\",\"5\",\"0\",\"PrimaryOnly\",,,\"False\",\"T\",\"EveryTick\")","v":191.28},2.6146525126816595E-4,{"$f":"RTD(\"cqg.rtd\",,\"StudyData\", \"Close(\"&$D$12&\") when LocalYear(\"&$D$12&\")=\"&$D$6&\" and localMonth(\"&$D$12&\") =\"&$E$6&\" and LocalDay(\"&$D$12&\")=\"&$F$6&\" and Barix(\"&$D$12&\",reference:=StartOfSession)=\"&A5&\"\", \"Bar\", \"\", \"Close\",\"5\",\"0\",\"PrimaryOnly\",,,\"False\",\"T\",\"EveryTick\")","v":191.23},-2.4517475221700518E-3,{"$f":"RTD(\"cqg.rtd\",,\"StudyData\", \"Close(\"&$D$12&\") when LocalYear(\"&$D$12&\")=\"&$D$7&\" and localMonth(\"&$D$12&\") =\"&$E$7&\" and LocalDay(\"&$D$12&\")=\"&$F$7&\" and Barix(\"&$D$12&\",reference:=StartOfSession)=\"&A5&\"\", \"Bar\", \"\", \"Close\",\"5\",\"0\",\"PrimaryOnly\",,,\"False\",\"T\",\"EveryTick\")","v":190.72},-1.4163134498087506E-2,{"$f":"RTD(\"cqg.rtd\",,\"StudyData\", \"Close(\"&$D$12&\") when LocalYear(\"&$D$12&\")=\"&$D$8&\" and localMonth(\"&$D$12&\") =\"&$E$8&\" and LocalDay(\"&$D$12&\")=\"&$F$8&\" and Barix(\"&$D$12&\",reference:=StartOfSession)=\"&A5&\"\", \"Bar\", \"\", \"Close\",\"5\",\"0\",\"PrimaryOnly\",,,\"False\",\"T\",\"EveryTick\")","v":193.98},0,{"$f":"RTD(\"cqg.rtd\",,\"StudyData\", \"Close(\"&$D$12&\") when LocalYear(\"&$D$12&\")=\"&$D$9&\" and localMonth(\"&$D$12&\") =\"&$E$9&\" and LocalDay(\"&$D$12&\")=\"&$F$9&\" and Barix(\"&$D$12&\",reference:=StartOfSession)=\"&A5&\"\", \"Bar\", \"\", \"Close\",\"5\",\"0\",\"PrimaryOnly\",,,\"False\",\"T\",\"EveryTick\")","v":193.56},1.2932595313227457E-3,{"$f":"RTD(\"cqg.rtd\",,\"StudyData\", \"Close(\"&$D$12&\") when LocalYear(\"&$D$12&\")=\"&$D$10&\" and localMonth(\"&$D$12&\") =\"&$E$10&\" and LocalDay(\"&$D$12&\")=\"&$F$10&\" and Barix(\"&$D$12&\",reference:=StartOfSession)=\"&A5&\"\", \"Bar\", \"\", \"Close\",\"5\",\"0\",\"PrimaryOnly\",,,\"False\",\"T\",\"EveryTick\")","v":193.01},6.1512797789708504E-3,{"$f":"RANK(AD5,$AD$1:$AD$10)+COUNTIF($AD$1:AD5,AD5)-1","v":2},"2018-06-12",{"$f":"VLOOKUP(MAX(AE2:AE81),A1:Q81,17,FALSE)","v":1.5687915076086983E-3},"",5,"2018-06-14",-8.3901415836390458E-4,null,null,"2018-06-14","2018-06-12",4,2]
[5,"08:55:00","2018-06-11",2018,6,11,{"$f":"RTD(\"cqg.rtd\",,\"StudyData\",$D$12,\"Bar\",,\"Close\",\"D\",\"-5\",,,,,\"T\")","v":191.23},{"$f":"RTD(\"cqg.rtd\",,\"StudyData\", \"Close(\"&$D$12&\") when LocalYear(\"&$D$12&\")=\"&$D$1&\" and localMonth(\"&$D$12&\") =\"&$E$1&\" and LocalDay(\"&$D$12&\")=\"&$F$1&\" and Barix(\"&$D$12&\",reference:=StartOfSession)=\"&A6&\"\", \"Bar\", \"\", \"Close\",\"5\",\"0\",\"PrimaryOnly\",,,\"False\",\"T\",\"EveryTick\")","v":""},{"$error":"#N/A"},{"$f":"RTD(\"cqg.rtd\",,\"StudyData\", \"Close(\"&$D$12&\") when LocalYear(\"&$D$12&\")=\"&$D$2&\" and localMonth(\"&$D$12&\") =\"&$E$2&\" and LocalDay(\"&$D$12&\")=\"&$F$2&\" and Barix(\"&$D$12&\",reference:=StartOfSession)=\"&A6&\"\", \"Bar\", \"\", \"Close\",\"5\",\"0\",\"PrimaryOnly\",,,\"False\",\"T\",\"EveryTick\")","v":189.26},-8.0712788259959135E-3,{"$f":"RTD(\"cqg.rtd\",,\"StudyData\", \"Close(\"&$D$12&\") when LocalYear(\"&$D$12&\")=\"&$D$3&\" and localMonth(\"&$D$12&\") =\"&$E$3&\" and LocalDay(\"&$D$12&\")=\"&$F$3&\" and Barix(\"&$D$12&\",reference:=StartOfSession)=\"&A6&\"\", \"Bar\", \"\", \"Close\",\"5\",\"0\",\"PrimaryOnly\",,,\"False\",\"T\",\"EveryTick\")","v":190.63},-3.6706869428418029E-4,{"$f":"RTD(\"cqg.rtd\",,\"StudyData\", \"Close(\"&$D$12&\") when LocalYear(\"&$D$12&\")=\"&$D$4&\" and localMonth(\"&$D$12&\") =\"&$E$4&\" and LocalDay(\"&$D$12&\")=\"&$F$4&\" and Barix(\"&$D$12&\",reference:=StartOfSession)=\"&A6&\"\", \"Bar\", \"\", \"Close\",\"5\",\"0\",\"PrimaryOnly\",,,\"False\",\"T\",\"EveryTick\")","v":192.35},3.6405242354895558E-4,{"$f":"RTD(\"cqg.rtd\",,\"StudyData\", \"Close(\"&$D$12&\") when LocalYear(\"&$D$12&\")=\"&$D$5&\" and localMonth(\"&$D$12&\") =\"&$E$5&\" and LocalDay(\"&$D$12&\")=\"&$F$5&\" and Barix(\"&$D$12&\",reference:=StartOfSession)=\"&A6&\"\", \"Bar\", \"\", \"Close\",\"5\",\"0\",\"PrimaryOnly\",,,\"False\",\"T\",\"EveryTick\")","v":191.23},0,{"$f":"RTD(\"cqg.rtd\",,\"StudyData\", \"Close(\"&$D$12&\") when LocalYear(\"&$D$12&\")=\"&$D$6&\" and localMonth(\"&$D$12&\") =\"&$E$6&\" and LocalDay(\"&$D$12&\")=\"&$F$6&\" and Barix(\"&$D$12&\",reference:=StartOfSession)=\"&A6&\"\", \"Bar\", \"\", \"Close\",\"5\",\"0\",\"PrimaryOnly\",,,\"False\",\"T\",\"EveryTick\")","v":191.12},-3.0255607720395625E-3,{"$f":"RTD(\"cqg.rtd\",,\"StudyData\", \"Close(\"&$D$12&\") when LocalYear(\"&$D$12&\")=\"&$D$7&\" and localMonth(\"&$D$12&\") =\"&$E$7&\" and LocalDay(\"&$D$12&\")=\"&$F$7&\" and Barix(\"&$D$12&\",reference:=StartOfSession)=\"&A6&\"\", \"Bar\", \"\", \"Close\",\"5\",\"0\",\"PrimaryOnly\",,,\"False\",\"T\",\"EveryTick\")","v":190.8},-1.37496123229608E-2,{"$f":"RTD(\"cqg.rtd\",,\"StudyData\", \"Close(\"&$D$12&\") when LocalYear(\"&$D$12&\")=\"&$D$8&\" and localMonth(\"&$D$12&\") =\"&$E$8&\" and LocalDay(\"&$D$12&\")=\"&$F$8&\" and Barix(\"&$D$12&\",reference:=StartOfSession)=\"&A6&\"\", \"Bar\", \"\", \"Close\",\"5\",\"0\",\"PrimaryOnly\",,,\"False\",\"T\",\"EveryTick\")","v":193.8},-9.2793071450653888E-4,{"$f":"RTD(\"cqg.rtd\",,\"StudyData\", \"Close(\"&$D$12&\") when LocalYear(\"&$D$12&\")=\"&$D$9&\" and localMonth(\"&$D$12&\") =\"&$E$9&\" and LocalDay(\"&$D$12&\")=\"&$F$9&\" and Barix(\"&$D$12&\",reference:=StartOfSession)=\"&A6&\"\", \"Bar\", \"\", \"Close\",\"5\",\"0\",\"PrimaryOnly\",,,\"False\",\"T\",\"EveryTick\")","v":193},-1.6036418188402166E-3,{"$f":"RTD(\"cqg.rtd\",,\"StudyData\", \"Close(\"&$D$12&\") when LocalYear(\"&$D$12&\")=\"&$D$10&\" and localMonth(\"&$D$12&\") =\"&$E$10&\" and LocalDay(\"&$D$12&\")=\"&$F$10&\" and Barix(\"&$D$12&\",reference:=StartOfSession)=\"&A6&\"\", \"Bar\", \"\", \"Close\",\"5\",\"0\",\"PrimaryOnly\",,,\"False\",\"T\",\"EveryTick\")","v":193},6.0991502893186023E-3,{"$f":"RANK(AD6,$AD$1:$AD$10)+COUNTIF($AD$1:AD6,AD6)-1","v":4},"2018-06-11",{"$f":"VLOOKUP(MAX(AE2:AE81),A1:S81,19,FALSE)","v":-6.2597809076669864E-4},"",6,"2018-06-13",-1.5602246723528778E-3,null,null,"2018-06-13","2018-06-11",5,3]
[6,"09:00:00","2018-06-08",2018,6,8,{"$f":"RTD(\"cqg.rtd\",,\"StudyData\",$D$12,\"Bar\",,\"Close\",\"D\",\"-6\",,,,,\"T\")","v":191.7},{"$f":"RTD(\"cqg.rtd\",,\"StudyData\", \"Close(\"&$D$12&\") when LocalYear(\"&$D$12&\")=\"&$D$1&\" and localMonth(\"&$D$12&\") =\"&$E$1&\" and LocalDay(\"&$D$12&\")=\"&$F$1&\" and Barix(\"&$D$12&\",reference:=StartOfSession)=\"&A7&\"\", \"Bar\", \"\", \"Close\",\"5\",\"0\",\"PrimaryOnly\",,,\"False\",\"T\",\"EveryTick\")","v":""},{"$error":"#N/A"},{"$f":"RTD(\"cqg.rtd\",,\"StudyData\", \"Close(\"&$D$12&\") when LocalYear(\"&$D$12&\")=\"&$D$2&\" and localMonth(\"&$D$12&\") =\"&$E$2&\" and LocalDay(\"&$D$12&\")=\"&$F$2&\" and Barix(\"&$D$12&\",reference:=StartOfSession)=\"&A7&\"\", \"Bar\", \"\", \"Close\",\"5\",\"0\",\"PrimaryOnly\",,,\"False\",\"T\",\"EveryTick\")","v":189.42},-7.2327044025158483E-3,{"$f":"RTD(\"cqg.rtd\",,\"StudyData\", \"Close(\"&$D$12&\") when LocalYear(\"&$D$12&\")=\"&$D$3&\" and localMonth(\"&$D$12&\") =\"&$E$3&\" and LocalDay(\"&$D$12&\")=\"&$F$3&\" and Barix(\"&$D$12&\",reference:=StartOfSession)=\"&A7&\"\", \"Bar\", \"\", \"Close\",\"5\",\"0\",\"PrimaryOnly\",,,\"False\",\"T\",\"EveryTick\")","v":191.05},1.8353434714211995E-3,{"$f":"RTD(\"cqg.rtd\",,\"StudyData\", \"Close(\"&$D$12&\") when LocalYear(\"&$D$12&\")=\"&$D$4&\" and localMonth(\"&$D$12&\") =\"&$E$4&\" and LocalDay(\"&$D$12&\")=\"&$F$4&\" and Barix(\"&$D$12&\",reference:=StartOfSession)=\"&A7&\"\", \"Bar\", \"\", \"Close\",\"5\",\"0\",\"PrimaryOnly\",,,\"False\",\"T\",\"EveryTick\")","v":192.18},-5.2007489078424339E-4,{"$f":"RTD(\"cqg.rtd\",,\"StudyData\", \"Close(\"&$D$12&\") when LocalYear(\"&$D$12&\")=\"&$D$5&\" and localMonth(\"&$D$12&\") =\"&$E$5&\" and LocalDay(\"&$D$12&\")=\"&$F$5&\" and Barix(\"&$D$12&\",reference:=StartOfSession)=\"&A7&\"\", \"Bar\", \"\", \"Close\",\"5\",\"0\",\"PrimaryOnly\",,,\"False\",\"T\",\"EveryTick\")","v":191.44},1.0981540553260888E-3,{"$f":"RTD(\"cqg.rtd\",,\"StudyData\", \"Close(\"&$D$12&\") when LocalYear(\"&$D$12&\")=\"&$D$6&\" and localMonth(\"&$D$12&\") =\"&$E$6&\" and LocalDay(\"&$D$12&\")=\"&$F$6&\" and Barix(\"&$D$12&\",reference:=StartOfSession)=\"&A7&\"\", \"Bar\", \"\", \"Close\",\"5\",\"0\",\"PrimaryOnly\",,,\"False\",\"T\",\"EveryTick\")","v":190.99},-3.7037037037035972E-3,{"$f":"RTD(\"cqg.rtd\",,\"StudyData\", \"Close(\"&$D$12&\") when LocalYear(\"&$D$12&\")=\"&$D$7&\" and localMonth(\"&$D$12&\") =\"&$E$7&\" and LocalDay(\"&$D$12&\")=\"&$F$7&\" and Barix(\"&$D$12&\",reference:=StartOfSession)=\"&A7&\"\", \"Bar\", \"\", \"Close\",\"5\",\"0\",\"PrimaryOnly\",,,\"False\",\"T\",\"EveryTick\")","v":190.29},-1.6385816189393238E-2,{"$f":"RTD(\"cqg.rtd\",,\"StudyData\", \"Close(\"&$D$12&\") when LocalYear(\"&$D$12&\")=\"&$D$8&\" and localMonth(\"&$D$12&\") =\"&$E$8&\" and LocalDay(\"&$D$12&\")=\"&$F$8&\" and Barix(\"&$D$12&\",reference:=StartOfSession)=\"&A7&\"\", \"Bar\", \"\", \"Close\",\"5\",\"0\",\"PrimaryOnly\",,,\"False\",\"T\",\"EveryTick\")","v":193.64},-1.752758016290357E-3,{"$f":"RTD(\"cqg.rtd\",,\"StudyData\", \"Close(\"&$D$12&\") when LocalYear(\"&$D$12&\")=\"&$D$9&\" and localMonth(\"&$D$12&\") =\"&$E$9&\" and LocalDay(\"&$D$12&\")=\"&$F$9&\" and Barix(\"&$D$12&\",reference:=StartOfSession)=\"&A7&\"\", \"Bar\", \"\", \"Close\",\"5\",\"0\",\"PrimaryOnly\",,,\"False\",\"T\",\"EveryTick\")","v":192.6},-3.6728570689566393E-3,{"$f":"RTD(\"cqg.rtd\",,\"StudyData\", \"Close(\"&$D$12&\") when LocalYear(\"&$D$12&\")=\"&$D$10&\" and localMonth(\"&$D$12&\") =\"&$E$10&\" and LocalDay(\"&$D$12&\")=\"&$F$10&\" and Barix(\"&$D$12&\",reference:=StartOfSession)=\"&A7&\"\", \"Bar\", \"\", \"Close\",\"5\",\"0\",\"PrimaryOnly\",,,\"False\",\"T\",\"EveryTick\")","v":193.3},7.66303497888755E-3,{"$f":"RANK(AD7,$AD$1:$AD$10)+COUNTIF($AD$1:AD7,AD7)-1","v":10},"2018-06-08",{"$f":"VLOOKUP(MAX(AE2:AE81),A1:U81,21,FALSE)","v":-1.7729763258554774E-2},"",7,"2018-06-07",-1.5981028972059093E-3,null,null,"2018-06-07","2018-06-08",6,7]
[7,"09:05:00","2018-06-07",2018,6,7,{"$f":"RTD(\"cqg.rtd\",,\"StudyData\",$D$12,\"Bar\",,\"Close\",\"D\",\"-7\",,,,,\"T\")","v":193.46},{"$f":"RTD(\"cqg.rtd\",,\"StudyData\", \"Close(\"&$D$12&\") when LocalYear(\"&$D$12&\")=\"&$D$1&\" and localMonth(\"&$D$12&\") =\"&$E$1&\" and LocalDay(\"&$D$12&\")=\"&$F$1&\" and Barix(\"&$D$12&\",reference:=StartOfSession)=\"&A8&\"\", \"Bar\", \"\", \"Close\",\"5\",\"0\",\"PrimaryOnly\",,,\"False\",\"T\",\"EveryTick\")","v":""},{"$error":"#N/A"},{"$f":"RTD(\"cqg.rtd\",,\"StudyData\", \"Close(\"&$D$12&\") when LocalYear(\"&$D$12&\")=\"&$D$2&\" and localMonth(\"&$D$12&\") =\"&$E$2&\" and LocalDay(\"&$D$12&\")=\"&$F$2&\" and Barix(\"&$D$12&\",reference:=StartOfSession)=\"&A8&\"\", \"Bar\", \"\", \"Close\",\"5\",\"0\",\"PrimaryOnly\",,,\"False\",\"T\",\"EveryTick\")","v":189.34},-7.6519916142558063E-3,{"$f":"RTD(\"cqg.rtd\",,\"StudyData\", \"Close(\"&$D$12&\") when LocalYear(\"&$D$12&\")=\"&$D$3&\" and localMonth(\"&$D$12&\") =\"&$E$3&\" and LocalDay(\"&$D$12&\")=\"&$F$3&\" and Barix(\"&$D$12&\",reference:=StartOfSession)=\"&A8&\"\", \"Bar\", \"\", \"Close\",\"5\",\"0\",\"PrimaryOnly\",,,\"False\",\"T\",\"EveryTick\")","v":191.3},3.1463030938648283E-3,{"$f":"RTD(\"cqg.rtd\",,\"StudyData\", \"Close(\"&$D$12&\") when LocalYear(\"&$D$12&\")=\"&$D$4&\" and localMonth(\"&$D$12&\") =\"&$E$4&\" and LocalDay(\"&$D$12&\")=\"&$F$4&\" and Barix(\"&$D$12&\",reference:=StartOfSession)=\"&A8&\"\", \"Bar\", \"\", \"Close\",\"5\",\"0\",\"PrimaryOnly\",,,\"False\",\"T\",\"EveryTick\")","v":192.13},-7.8011233617643891E-4,{"$f":"RTD(\"cqg.rtd\",,\"StudyData\", \"Close(\"&$D$12&\") when LocalYear(\"&$D$12&\")=\"&$D$5&\" and localMonth(\"&$D$12&\") =\"&$E$5&\" and LocalDay(\"&$D$12&\")=\"&$F$5&\" and Barix(\"&$D$12&\",reference:=StartOfSession)=\"&A8&\"\", \"Bar\", \"\", \"Close\",\"5\",\"0\",\"PrimaryOnly\",,,\"False\",\"T\",\"EveryTick\")","v":191.56},1.7256706583695682E-3,{"$f":"RTD(\"cqg.rtd\",,\"StudyData\", \"Close(\"&$D$12&\") when LocalYear(\"&$D$12&\")=\"&$D$6&\" and localMonth(\"&$D$12&\") =\"&$E$6&\" and LocalDay(\"&$D$12&\")=\"&$F$6&\" and Barix(\"&$D$12&\",reference:=StartOfSession)=\"&A8&\"\", \"Bar\", \"\", \"Close\",\"5\",\"0\",\"PrimaryOnly\",,,\"False\",\"T\",\"EveryTick\")","v":190.82},-4.5905059989566795E-3,{"$f":"RTD(\"cqg.rtd\",,\"StudyData\", \"Close(\"&$D$12&\") when LocalYear(\"&$D$12&\")=\"&$D$7&\" and localMonth(\"&$D$12&\") =\"&$E$7&\" and LocalDay(\"&$D$12&\")=\"&$F$7&\" and Barix(\"&$D$12&\",reference:=StartOfSession)=\"&A8&\"\", \"Bar\", \"\", \"Close\",\"5\",\"0\",\"PrimaryOnly\",,,\"False\",\"T\",\"EveryTick\")","v":190.51},-1.524863020779498E-2,{"$f":"RTD(\"cqg.rtd\",,\"StudyData\", \"Close(\"&$D$12&\") when LocalYear(\"&$D$12&\")=\"&$D$8&\" and localMonth(\"&$D$12&\") =\"&$E$8&\" and LocalDay(\"&$D$12&\")=\"&$F$8&\" and Barix(\"&$D$12&\",reference:=StartOfSession)=\"&A8&\"\", \"Bar\", \"\", \"Close\",\"5\",\"0\",\"PrimaryOnly\",,,\"False\",\"T\",\"EveryTick\")","v":193.27},-3.660171151665015E-3,{"$f":"RTD(\"cqg.rtd\",,\"StudyData\", \"Close(\"&$D$12&\") when LocalYear(\"&$D$12&\")=\"&$D$9&\" and localMonth(\"&$D$12&\") =\"&$E$9&\" and LocalDay(\"&$D$12&\")=\"&$F$9&\" and Barix(\"&$D$12&\",reference:=StartOfSession)=\"&A8&\"\", \"Bar\", \"\", \"Close\",\"5\",\"0\",\"PrimaryOnly\",,,\"False\",\"T\",\"EveryTick\")","v":192.8},-2.6382494438983543E-3,{"$f":"RTD(\"cqg.rtd\",,\"StudyData\", \"Close(\"&$D$12&\") when LocalYear(\"&$D$12&\")=\"&$D$10&\" and localMonth(\"&$D$12&\") =\"&$E$10&\" and LocalDay(\"&$D$12&\")=\"&$F$10&\" and Barix(\"&$D$12&\",reference:=StartOfSession)=\"&A8&\"\", \"Bar\", \"\", \"Close\",\"5\",\"0\",\"PrimaryOnly\",,,\"False\",\"T\",\"EveryTick\")","v":193.42},8.2885888547149806E-3,{"$f":"RANK(AD8,$AD$1:$AD$10)+COUNTIF($AD$1:AD8,AD8)-1","v":7},"2018-06-07",{"$f":"VLOOKUP(MAX(AE2:AE81),A1:W81,23,FALSE)","v":-1.5981028972059093E-3},"",8,"2018-06-18",-4.8188943020546311E-3,null,null,"2018-06-18","2018-06-07",7,0]
[8,"09:10:00","2018-06-06",2018,6,6,{"$f":"RTD(\"cqg.rtd\",,\"StudyData\",$D$12,\"Bar\",,\"Close\",\"D\",\"-8\",,,,,\"T\")","v":193.98},{"$f":"RTD(\"cqg.rtd\",,\"StudyData\", \"Close(\"&$D$12&\") when LocalYear(\"&$D$12&\")=\"&$D$1&\" and localMonth(\"&$D$12&\") =\"&$E$1&\" and LocalDay(\"&$D$12&\")=\"&$F$1&\" and Barix(\"&$D$12&\",reference:=StartOfSession)=\"&A9&\"\", \"Bar\", \"\", \"Close\",\"5\",\"0\",\"PrimaryOnly\",,,\"False\",\"T\",\"EveryTick\")","v":""},{"$error":"#N/A"},{"$f":"RTD(\"cqg.rtd\",,\"StudyData\", \"Close(\"&$D$12&\") when LocalYear(\"&$D$12&\")=\"&$D$2&\" and localMonth(\"&$D$12&\") =\"&$E$2&\" and LocalDay(\"&$D$12&\")=\"&$F$2&\" and Barix(\"&$D$12&\",reference:=StartOfSession)=\"&A9&\"\", \"Bar\", \"\", \"Close\",\"5\",\"0\",\"PrimaryOnly\",,,\"False\",\"T\",\"EveryTick\")","v":189.31},-7.809224318658328E-3,{"$f":"RTD(\"cqg.rtd\",,\"StudyData\", \"Close(\"&$D$12&\") when LocalYear(\"&$D$12&\")=\"&$D$3&\" and localMonth(\"&$D$12&\") =\"&$E$3&\" and LocalDay(\"&$D$12&\")=\"&$F$3&\" and Barix(\"&$D$12&\",reference:=StartOfSession)=\"&A9&\"\", \"Bar\", \"\", \"Close\",\"5\",\"0\",\"PrimaryOnly\",,,\"False\",\"T\",\"EveryTick\")","v":191.12},2.2024121657053799E-3,{"$f":"RTD(\"cqg.rtd\",,\"StudyData\", \"Close(\"&$D$12&\") when LocalYear(\"&$D$12&\")=\"&$D$4&\" and localMonth(\"&$D$12&\") =\"&$E$4&\" and LocalDay(\"&$D$12&\")=\"&$F$4&\" and Barix(\"&$D$12&\",reference:=StartOfSession)=\"&A9&\"\", \"Bar\", \"\", \"Close\",\"5\",\"0\",\"PrimaryOnly\",,,\"False\",\"T\",\"EveryTick\")","v":192.34},3.1204493447057561E-4,{"$f":"RTD(\"cqg.rtd\",,\"StudyData\", \"Close(\"&$D$12&\") when LocalYear(\"&$D$12&\")=\"&$D$5&\" and localMonth(\"&$D$12&\") =\"&$E$5&\" and LocalDay(\"&$D$12&\")=\"&$F$5&\" and Barix(\"&$D$12&\",reference:=StartOfSession)=\"&A9&\"\", \"Bar\", \"\", \"Close\",\"5\",\"0\",\"PrimaryOnly\",,,\"False\",\"T\",\"EveryTick\")","v":191.76},2.7715316634419345E-3,{"$f":"RTD(\"cqg.rtd\",,\"StudyData\", \"Close(\"&$D$12&\") when LocalYear(\"&$D$12&\")=\"&$D$6&\" and localMonth(\"&$D$12&\") =\"&$E$6&\" and LocalDay(\"&$D$12&\")=\"&$F$6&\" and Barix(\"&$D$12&\",reference:=StartOfSession)=\"&A9&\"\", \"Bar\", \"\", \"Close\",\"5\",\"0\",\"PrimaryOnly\",,,\"False\",\"T\",\"EveryTick\")","v":190.75},-4.9556598852372909E-3,{"$f":"RTD(\"cqg.rtd\",,\"StudyData\", \"Close(\"&$D$12&\") when LocalYear(\"&$D$12&\")=\"&$D$7&\" and localMonth(\"&$D$12&\") =\"&$E$7&\" and LocalDay(\"&$D$12&\")=\"&$F$7&\" and Barix(\"&$D$12&\",reference:=StartOfSession)=\"&A9&\"\", \"Bar\", \"\", \"Close\",\"5\",\"0\",\"PrimaryOnly\",,,\"False\",\"T\",\"EveryTick\")","v":190.4},-1.5817223198594035E-2,{"$f":"RTD(\"cqg.rtd\",,\"StudyData\", \"Close(\"&$D$12&\") when LocalYear(\"&$D$12&\")=\"&$D$8&\" and localMonth(\"&$D$12&\") =\"&$E$8&\" and LocalDay(\"&$D$12&\")=\"&$F$8&\" and Barix(\"&$D$12&\",reference:=StartOfSession)=\"&A9&\"\", \"Bar\", \"\", \"Close\",\"5\",\"0\",\"PrimaryOnly\",,,\"False\",\"T\",\"EveryTick\")","v":193.37},-3.1446540880502383E-3,{"$f":"RTD(\"cqg.rtd\",,\"StudyData\", \"Close(\"&$D$12&\") when LocalYear(\"&$D$12&\")=\"&$D$9&\" and localMonth(\"&$D$12&\") =\"&$E$9&\" and LocalDay(\"&$D$12&\")=\"&$F$9&\" and Barix(\"&$D$12&\",reference:=StartOfSession)=\"&A9&\"\", \"Bar\", \"\", \"Close\",\"5\",\"0\",\"PrimaryOnly\",,,\"False\",\"T\",\"EveryTick\")","v":192.58},-3.7763178314623651E-3,{"$f":"RTD(\"cqg.rtd\",,\"StudyData\", \"Close(\"&$D$12&\") when LocalYear(\"&$D$12&\")=\"&$D$10&\" and localMonth(\"&$D$12&\") =\"&$E$10&\" and LocalDay(\"&$D$12&\")=\"&$F$10&\" and Barix(\"&$D$12&\",reference:=StartOfSession)=\"&A9&\"\", \"Bar\", \"\", \"Close\",\"5\",\"0\",\"PrimaryOnly\",,,\"False\",\"T\",\"EveryTick\")","v":193.68},9.6439555856747856E-3,{"$f":"RANK(AD9,$AD$1:$AD$10)+COUNTIF($AD$1:AD9,AD9)-1","v":3},"2018-06-06",{"$f":"VLOOKUP(MAX(AE2:AE81),A1:Y81,25,FALSE)","v":5.1730381252862784E-5},"",9,"2018-06-15",-8.5429769392034796E-3,null,null,"2018-06-15","2018-06-06",8,1]
[9,"09:15:00","2018-06-05",2018,6,5,{"$f":"RTD(\"cqg.rtd\",,\"StudyData\",$D$12,\"Bar\",,\"Close\",\"D\",\"-9\",,,,,\"T\")","v":193.31},{"$f":"RTD(\"cqg.rtd\",,\"StudyData\", \"Close(\"&$D$12&\") when LocalYear(\"&$D$12&\")=\"&$D$1&\" and localMonth(\"&$D$12&\") =\"&$E$1&\" and LocalDay(\"&$D$12&\")=\"&$F$1&\" and Barix(\"&$D$12&\",reference:=StartOfSession)=\"&A10&\"\", \"Bar\", \"\", \"Close\",\"5\",\"0\",\"PrimaryOnly\",,,\"False\",\"T\",\"EveryTick\")","v":""},{"$error":"#N/A"},{"$f":"RTD(\"cqg.rtd\",,\"StudyData\", \"Close(\"&$D$12&\") when LocalYear(\"&$D$12&\")=\"&$D$2&\" and localMonth(\"&$D$12&\") =\"&$E$2&\" and LocalDay(\"&$D$12&\")=\"&$F$2&\" and Barix(\"&$D$12&\",reference:=StartOfSession)=\"&A10&\"\", \"Bar\", \"\", \"Close\",\"5\",\"0\",\"PrimaryOnly\",,,\"False\",\"T\",\"EveryTick\")","v":189.22},-8.2809224318658933E-3,{"$f":"RTD(\"cqg.rtd\",,\"StudyData\", \"Close(\"&$D$12&\") when LocalYear(\"&$D$12&\")=\"&$D$3&\" and localMonth(\"&$D$12&\") =\"&$E$3&\" and LocalDay(\"&$D$12&\")=\"&$F$3&\" and Barix(\"&$D$12&\",reference:=StartOfSession)=\"&A10&\"\", \"Bar\", \"\", \"Close\",\"5\",\"0\",\"PrimaryOnly\",,,\"False\",\"T\",\"EveryTick\")","v":191.32},3.2511798636602235E-3,{"$f":"RTD(\"cqg.rtd\",,\"StudyData\", \"Close(\"&$D$12&\") when LocalYear(\"&$D$12&\")=\"&$D$4&\" and localMonth(\"&$D$12&\") =\"&$E$4&\" and LocalDay(\"&$D$12&\")=\"&$F$4&\" and Barix(\"&$D$12&\",reference:=StartOfSession)=\"&A10&\"\", \"Bar\", \"\", \"Close\",\"5\",\"0\",\"PrimaryOnly\",,,\"False\",\"T\",\"EveryTick\")","v":192.47},9.881422924901068E-4,{"$f":"RTD(\"cqg.rtd\",,\"StudyData\", \"Close(\"&$D$12&\") when LocalYear(\"&$D$12&\")=\"&$D$5&\" and localMonth(\"&$D$12&\") =\"&$E$5&\" and LocalDay(\"&$D$12&\")=\"&$F$5&\" and Barix(\"&$D$12&\",reference:=StartOfSession)=\"&A10&\"\", \"Bar\", \"\", \"Close\",\"5\",\"0\",\"PrimaryOnly\",,,\"False\",\"T\",\"EveryTick\")","v":191.63},2.0917220101448817E-3,{"$f":"RTD(\"cqg.rtd\",,\"StudyData\", \"Close(\"&$D$12&\") when LocalYear(\"&$D$12&\")=\"&$D$6&\" and localMonth(\"&$D$12&\") =\"&$E$6&\" and LocalDay(\"&$D$12&\")=\"&$F$6&\" and Barix(\"&$D$12&\",reference:=StartOfSession)=\"&A10&\"\", \"Bar\", \"\", \"Close\",\"5\",\"0\",\"PrimaryOnly\",,,\"False\",\"T\",\"EveryTick\")","v":190.69},-5.2686489306207141E-3,{"$f":"RTD(\"cqg.rtd\",,\"StudyData\", \"Close(\"&$D$12&\") when LocalYear(\"&$D$12&\")=\"&$D$7&\" and localMonth(\"&$D$12&\") =\"&$E$7&\" and LocalDay(\"&$D$12&\")=\"&$F$7&\" and Barix(\"&$D$12&\",reference:=StartOfSession)=\"&A10&\"\", \"Bar\", \"\", \"Close\",\"5\",\"0\",\"PrimaryOnly\",,,\"False\",\"T\",\"EveryTick\")","v":190.72},-1.4163134498087506E-2,{"$f":"RTD(\"cqg.rtd\",,\"StudyData\", \"Close(\"&$D$12&\") when LocalYear(\"&$D$12&\")=\"&$D$8&\" and localMonth(\"&$D$12&\") =\"&$E$8&\" and LocalDay(\"&$D$12&\")=\"&$F$8&\" and Barix(\"&$D$12&\",reference:=StartOfSession)=\"&A10&\"\", \"Bar\", \"\", \"Close\",\"5\",\"0\",\"PrimaryOnly\",,,\"False\",\"T\",\"EveryTick\")","v":193.25},-3.7632745643880285E-3,{"$f":"RTD(\"cqg.rtd\",,\"StudyData\", \"Close(\"&$D$12&\") when LocalYear(\"&$D$12&\")=\"&$D$9&\" and localMonth(\"&$D$12&\") =\"&$E$9&\" and LocalDay(\"&$D$12&\")=\"&$F$9&\" and Barix(\"&$D$12&\",reference:=StartOfSession)=\"&A10&\"\", \"Bar\", \"\", \"Close\",\"5\",\"0\",\"PrimaryOnly\",,,\"False\",\"T\",\"EveryTick\")","v":192.41},-4.6557343127619144E-3,{"$f":"RTD(\"cqg.rtd\",,\"StudyData\", \"Close(\"&$D$12&\") when LocalYear(\"&$D$12&\")=\"&$D$10&\" and localMonth(\"&$D$12&\") =\"&$E$10&\" and LocalDay(\"&$D$12&\")=\"&$F$10&\" and Barix(\"&$D$12&\",reference:=StartOfSession)=\"&A10&\"\", \"Bar\", \"\", \"Close\",\"5\",\"0\",\"PrimaryOnly\",,,\"False\",\"T\",\"EveryTick\")","v":193.8},1.0269509461502365E-2,{"$f":"RANK(AD10,$AD$1:$AD$10)+COUNTIF($AD$1:AD10,AD10)-1","v":1},"2018-06-05",{"$f":"VLOOKUP(MAX(AE2:AE81),A1:AA81,27,FALSE)","v":5.0565604962727355E-3},"",10,"2018-06-08",-1.7729763258554774E-2,null,null,"2018-06-08","2018-06-05",9,6]
[10,"09:20:00","2018-06-04",2018,{"$f":"MONTH(C11)","v":6},{"$f":"DAY(C11)","v":4},{"$f":"RTD(\"cqg.rtd\",,\"StudyData\",$D$12,\"Bar\",,\"Close\",\"D\",\"-10\",,,,,\"T\")","v":191.83},{"$f":"RTD(\"cqg.rtd\",,\"StudyData\", \"Close(\"&$D$12&\") when LocalYear(\"&$D$12&\")=\"&$D$1&\" and localMonth(\"&$D$12&\") =\"&$E$1&\" and LocalDay(\"&$D$12&\")=\"&$F$1&\" and Barix(\"&$D$12&\",reference:=StartOfSession)=\"&A11&\"\", \"Bar\", \"\", \"Close\",\"5\",\"0\",\"PrimaryOnly\",,,\"False\",\"T\",\"EveryTick\")","v":""},{"$error":"#N/A"},{"$f":"RTD(\"cqg.rtd\",,\"StudyData\", \"Close(\"&$D$12&\") when LocalYear(\"&$D$12&\")=\"&$D$2&\" and localMonth(\"&$D$12&\") =\"&$E$2&\" and LocalDay(\"&$D$12&\")=\"&$F$2&\" and Barix(\"&$D$12&\",reference:=StartOfSession)=\"&A11&\"\", \"Bar\", \"\", \"Close\",\"5\",\"0\",\"PrimaryOnly\",,,\"False\",\"T\",\"EveryTick\")","v":189.02},-9.3291404612159384E-3,{"$f":"RTD(\"cqg.rtd\",,\"StudyData\", \"Close(\"&$D$12&\") when LocalYear(\"&$D$12&\")=\"&$D$3&\" and localMonth(\"&$D$12&\") =\"&$E$3&\" and LocalDay(\"&$D$12&\")=\"&$F$3&\" and Barix(\"&$D$12&\",reference:=StartOfSession)=\"&A11&\"\", \"Bar\", \"\", \"Close\",\"5\",\"0\",\"PrimaryOnly\",,,\"False\",\"T\",\"EveryTick\")","v":191.3},3.1463030938648283E-3,{"$f":"RTD(\"cqg.rtd\",,\"StudyData\", \"Close(\"&$D$12&\") when LocalYear(\"&$D$12&\")=\"&$D$4&\" and localMonth(\"&$D$12&\") =\"&$E$4&\" and LocalDay(\"&$D$12&\")=\"&$F$4&\" and Barix(\"&$D$12&\",reference:=StartOfSession)=\"&A11&\"\", \"Bar\", \"\", \"Close\",\"5\",\"0\",\"PrimaryOnly\",,,\"False\",\"T\",\"EveryTick\")","v":192.34},3.1204493447057561E-4,{"$f":"RTD(\"cqg.rtd\",,\"StudyData\", \"Close(\"&$D$12&\") when LocalYear(\"&$D$12&\")=\"&$D$5&\" and localMonth(\"&$D$12&\") =\"&$E$5&\" and LocalDay(\"&$D$12&\")=\"&$F$5&\" and Barix(\"&$D$12&\",reference:=StartOfSession)=\"&A11&\"\", \"Bar\", \"\", \"Close\",\"5\",\"0\",\"PrimaryOnly\",,,\"False\",\"T\",\"EveryTick\")","v":191.59},1.8825498091304381E-3,{"$f":"RTD(\"cqg.rtd\",,\"StudyData\", \"Close(\"&$D$12&\") when LocalYear(\"&$D$12&\")=\"&$D$6&\" and localMonth(\"&$D$12&\") =\"&$E$6&\" and LocalDay(\"&$D$12&\")=\"&$F$6&\" and Barix(\"&$D$12&\",reference:=StartOfSession)=\"&A11&\"\", \"Bar\", \"\", \"Close\",\"5\",\"0\",\"PrimaryOnly\",,,\"False\",\"T\",\"EveryTick\")","v":190.79},-4.7470005216483915E-3,{"$f":"RTD(\"cqg.rtd\",,\"StudyData\", \"Close(\"&$D$12&\") when LocalYear(\"&$D$12&\")=\"&$D$7&\" and localMonth(\"&$D$12&\") =\"&$E$7&\" and LocalDay(\"&$D$12&\")=\"&$F$7&\" and Barix(\"&$D$12&\",reference:=StartOfSession)=\"&A11&\"\", \"Bar\", \"\", \"Close\",\"5\",\"0\",\"PrimaryOnly\",,,\"False\",\"T\",\"EveryTick\")","v":190.47},-1.5455391295358259E-2,{"$f":"RTD(\"cqg.rtd\",,\"StudyData\", \"Close(\"&$D$12&\") when LocalYear(\"&$D$12&\")=\"&$D$8&\" and localMonth(\"&$D$12&\") =\"&$E$8&\" and LocalDay(\"&$D$12&\")=\"&$F$8&\" and Barix(\"&$D$12&\",reference:=StartOfSession)=\"&A11&\"\", \"Bar\", \"\", \"Close\",\"5\",\"0\",\"PrimaryOnly\",,,\"False\",\"T\",\"EveryTick\")","v":193.21},-3.9694813898339103E-3,{"$f":"RTD(\"cqg.rtd\",,\"StudyData\", \"Close(\"&$D$12&\") when LocalYear(\"&$D$12&\")=\"&$D$9&\" and localMonth(\"&$D$12&\") =\"&$E$9&\" and LocalDay(\"&$D$12&\")=\"&$F$9&\" and Barix(\"&$D$12&\",reference:=StartOfSession)=\"&A11&\"\", \"Bar\", \"\", \"Close\",\"5\",\"0\",\"PrimaryOnly\",,,\"False\",\"T\",\"EveryTick\")","v":192.79},-2.6899798251513642E-3,{"$f":"RTD(\"cqg.rtd\",,\"StudyData\", \"Close(\"&$D$12&\") when LocalYear(\"&$D$12&\")=\"&$D$10&\" and localMonth(\"&$D$12&\") =\"&$E$10&\" and LocalDay(\"&$D$12&\")=\"&$F$10&\" and Barix(\"&$D$12&\",reference:=StartOfSession)=\"&A11&\"\", \"Bar\", \"\", \"Close\",\"5\",\"0\",\"PrimaryOnly\",,,\"False\",\"T\",\"EveryTick\")","v":193.77},1.0113120992545471E-2,null,null,null,""]
[11,"09:25:00",null,{"$f":"MainDisplay!B5","v":"S.AAPL"},null,null,null,{"$f":"RTD(\"cqg.rtd\",,\"StudyData\", \"Close(\"&$D$12&\") when LocalYear(\"&$D$12&\")=\"&$D$1&\" and localMonth(\"&$D$12&\") =\"&$E$1&\" and LocalDay(\"&$D$12&\")=\"&$F$1&\" and Barix(\"&$D$12&\",reference:=StartOfSession)=\"&A12&\"\", \"Bar\", \"\", \"Close\",\"5\",\"0\",\"PrimaryOnly\",,,\"False\",\"T\",\"EveryTick\")","v":""},{"$error":"#N/A"},{"$f":"RTD(\"cqg.rtd\",,\"StudyData\", \"Close(\"&$D$12&\") when LocalYear(\"&$D$12&\")=\"&$D$2&\" and localMonth(\"&$D$12&\") =\"&$E$2&\" and LocalDay(\"&$D$12&\")=\"&$F$2&\" and Barix(\"&$D$12&\",reference:=StartOfSession)=\"&A12&\"\", \"Bar\", \"\", \"Close\",\"5\",\"0\",\"PrimaryOnly\",,,\"False\",\"T\",\"EveryTick\")","v":188.87},-1.0115303983228546E-2,{"$f":"RTD(\"cqg.rtd\",,\"StudyData\", \"Close(\"&$D$12&\") when LocalYear(\"&$D$12&\")=\"&$D$3&\" and localMonth(\"&$D$12&\") =\"&$E$3&\" and LocalDay(\"&$D$12&\")=\"&$F$3&\" and Barix(\"&$D$12&\",reference:=StartOfSession)=\"&A12&\"\", \"Bar\", \"\", \"Close\",\"5\",\"0\",\"PrimaryOnly\",,,\"False\",\"T\",\"EveryTick\")","v":191.33},3.3036182485580699E-3,{"$f":"RTD(\"cqg.rtd\",,\"StudyData\", \"Close(\"&$D$12&\") when LocalYear(\"&$D$12&\")=\"&$D$4&\" and localMonth(\"&$D$12&\") =\"&$E$4&\" and LocalDay(\"&$D$12&\")=\"&$F$4&\" and Barix(\"&$D$12&\",reference:=StartOfSession)=\"&A12&\"\", \"Bar\", \"\", \"Close\",\"5\",\"0\",\"PrimaryOnly\",,,\"False\",\"T\",\"EveryTick\")","v":192.4},6.2408986894115122E-4,{"$f":"RTD(\"cqg.rtd\",,\"StudyData\", \"Close(\"&$D$12&\") when LocalYear(\"&$D$12&\")=\"&$D$5&\" and localMonth(\"&$D$12&\") =\"&$E$5&\" and LocalDay(\"&$D$12&\")=\"&$F$5&\" and Barix(\"&$D$12&\",reference:=StartOfSession)=\"&A12&\"\", \"Bar\", \"\", \"Close\",\"5\",\"0\",\"PrimaryOnly\",,,\"False\",\"T\",\"EveryTick\")","v":191.51},1.4642054071014022E-3,{"$f":"RTD(\"cqg.rtd\",,\"StudyData\", \"Close(\"&$D$12&\") when LocalYear(\"&$D$12&\")=\"&$D$6&\" and localMonth(\"&$D$12&\") =\"&$E$6&\" and LocalDay(\"&$D$12&\")=\"&$F$6&\" and Barix(\"&$D$12&\",reference:=StartOfSession)=\"&A12&\"\", \"Bar\", \"\", \"Close\",\"5\",\"0\",\"PrimaryOnly\",,,\"False\",\"T\",\"EveryTick\")","v":190.63},-5.5816379760041382E-3,{"$f":"RTD(\"cqg.rtd\",,\"StudyData\", \"Close(\"&$D$12&\") when LocalYear(\"&$D$12&\")=\"&$D$7&\" and localMonth(\"&$D$12&\") =\"&$E$7&\" and LocalDay(\"&$D$12&\")=\"&$F$7&\" and Barix(\"&$D$12&\",reference:=StartOfSession)=\"&A12&\"\", \"Bar\", \"\", \"Close\",\"5\",\"0\",\"PrimaryOnly\",,,\"False\",\"T\",\"EveryTick\")","v":190.38},-1.592060374237575E-2,{"$f":"RTD(\"cqg.rtd\",,\"StudyData\", \"Close(\"&$D$12&\") when LocalYear(\"&$D$12&\")=\"&$D$8&\" and localMonth(\"&$D$12&\") =\"&$E$8&\" and LocalDay(\"&$D$12&\")=\"&$F$8&\" and Barix(\"&$D$12&\",reference:=StartOfSession)=\"&A12&\"\", \"Bar\", \"\", \"Close\",\"5\",\"0\",\"PrimaryOnly\",,,\"False\",\"T\",\"EveryTick\")","v":193.13},-4.3818950407258188E-3,{"$f":"RTD(\"cqg.rtd\",,\"StudyData\", \"Close(\"&$D$12&\") when LocalYear(\"&$D$12&\")=\"&$D$9&\" and localMonth(\"&$D$12&\") =\"&$E$9&\" and LocalDay(\"&$D$12&\")=\"&$F$9&\" and Barix(\"&$D$12&\",reference:=StartOfSession)=\"&A12&\"\", \"Bar\", \"\", \"Close\",\"5\",\"0\",\"PrimaryOnly\",,,\"False\",\"T\",\"EveryTick\")","v":192.67},-3.310744400186306E-3,{"$f":"RTD(\"cqg.rtd\",,\"StudyData\", \"Close(\"&$D$12&\") when LocalYear(\"&$D$12&\")=\"&$D$10&\" and localMonth(\"&$D$12&\") =\"&$E$10&\" and LocalDay(\"&$D$12&\")=\"&$F$10&\" and Barix(\"&$D$12&\",reference:=StartOfSession)=\"&A12&\"\", \"Bar\", \"\", \"Close\",\"5\",\"0\",\"PrimaryOnly\",,,\"False\",\"T\",\"EveryTick\")","v":193.63},9.3833081374132456E-3,null,{"$f":"VLOOKUP(MAX(AE2:AE81),A1:B81,2,FALSE)","v":"08:40:00"},null,""]
[12,"09:30:00",null,{"$f":"RTD(\"cqg.rtd\", ,\"ContractData\",D12, \"LastQuoteToday\",, \"T\")","v":187.93},null,null,{"$f":"C1","v":"2018-06-18"},{"$f":"RTD(\"cqg.rtd\",,\"StudyData\", \"Close(\"&$D$12&\") when LocalYear(\"&$D$12&\")=\"&$D$1&\" and localMonth(\"&$D$12&\") =\"&$E$1&\" and LocalDay(\"&$D$12&\")=\"&$F$1&\" and Barix(\"&$D$12&\",reference:=StartOfSession)=\"&A13&\"\", \"Bar\", \"\", \"Close\",\"5\",\"0\",\"PrimaryOnly\",,,\"False\",\"T\",\"EveryTick\")","v":""},{"$error":"#N/A"},{"$f":"RTD(\"cqg.rtd\",,\"StudyData\", \"Close(\"&$D$12&\") when LocalYear(\"&$D$12&\")=\"&$D$2&\" and localMonth(\"&$D$12&\") =\"&$E$2&\" and LocalDay(\"&$D$12&\")=\"&$F$2&\" and Barix(\"&$D$12&\",reference:=StartOfSession)=\"&A13&\"\", \"Bar\", \"\", \"Close\",\"5\",\"0\",\"PrimaryOnly\",,,\"False\",\"T\",\"EveryTick\")","v":188.75},-1.0744234800838633E-2,{"$f":"RTD(\"cqg.rtd\",,\"StudyData\", \"Close(\"&$D$12&\") when LocalYear(\"&$D$12&\")=\"&$D$3&\" and localMonth(\"&$D$12&\") =\"&$E$3&\" and LocalDay(\"&$D$12&\")=\"&$F$3&\" and Barix(\"&$D$12&\",reference:=StartOfSession)=\"&A13&\"\", \"Bar\", \"\", \"Close\",\"5\",\"0\",\"PrimaryOnly\",,,\"False\",\"T\",\"EveryTick\")","v":191.06},1.8877818563188971E-3,{"$f":"RTD(\"cqg.rtd\",,\"StudyData\", \"Close(\"&$D$12&\") when LocalYear(\"&$D$12&\")=\"&$D$4&\" and localMonth(\"&$D$12&\") =\"&$E$4&\" and LocalDay(\"&$D$12&\")=\"&$F$4&\" and Barix(\"&$D$12&\",reference:=StartOfSession)=\"&A13&\"\", \"Bar\", \"\", \"Close\",\"5\",\"0\",\"PrimaryOnly\",,,\"False\",\"T\",\"EveryTick\")","v":192.5},1.1441647597253946E-3,{"$f":"RTD(\"cqg.rtd\",,\"StudyData\", \"Close(\"&$D$12&\") when LocalYear(\"&$D$12&\")=\"&$D$5&\" and localMonth(\"&$D$12&\") =\"&$E$5&\" and LocalDay(\"&$D$12&\")=\"&$F$5&\" and Barix(\"&$D$12&\",reference:=StartOfSession)=\"&A13&\"\", \"Bar\", \"\", \"Close\",\"5\",\"0\",\"PrimaryOnly\",,,\"False\",\"T\",\"EveryTick\")","v":191.61},1.9871359096377342E-3,{"$f":"RTD(\"cqg.rtd\",,\"StudyData\", \"Close(\"&$D$12&\") when LocalYear(\"&$D$12&\")=\"&$D$6&\" and localMonth(\"&$D$12&\") =\"&$E$6&\" and LocalDay(\"&$D$12&\")=\"&$F$6&\" and Barix(\"&$D$12&\",reference:=StartOfSession)=\"&A13&\"\", \"Bar\", \"\", \"Close\",\"5\",\"0\",\"PrimaryOnly\",,,\"False\",\"T\",\"EveryTick\")","v":190.68},-5.3208137715179023E-3,{"$f":"RTD(\"cqg.rtd\",,\"StudyData\", \"Close(\"&$D$12&\") when LocalYear(\"&$D$12&\")=\"&$D$7&\" and localMonth(\"&$D$12&\") =\"&$E$7&\" and LocalDay(\"&$D$12&\")=\"&$F$7&\" and Barix(\"&$D$12&\",reference:=StartOfSession)=\"&A13&\"\", \"Bar\", \"\", \"Close\",\"5\",\"0\",\"PrimaryOnly\",,,\"False\",\"T\",\"EveryTick\")","v":190.19},-1.6902718908301511E-2,{"$f":"RTD(\"cqg.rtd\",,\"StudyData\", \"Close(\"&$D$12&\") when LocalYear(\"&$D$12&\")=\"&$D$8&\" and localMonth(\"&$D$12&\") =\"&$E$8&\" and LocalDay(\"&$D$12&\")=\"&$F$8&\" and Barix(\"&$D$12&\",reference:=StartOfSession)=\"&A13&\"\", \"Bar\", \"\", \"Close\",\"5\",\"0\",\"PrimaryOnly\",,,\"False\",\"T\",\"EveryTick\")","v":192.68},-6.7017218269923859E-3,{"$f":"RTD(\"cqg.rtd\",,\"StudyData\", \"Close(\"&$D$12&\") when LocalYear(\"&$D$12&\")=\"&$D$9&\" and localMonth(\"&$D$12&\") =\"&$E$9&\" and LocalDay(\"&$D$12&\")=\"&$F$9&\" and Barix(\"&$D$12&\",reference:=StartOfSession)=\"&A13&\"\", \"Bar\", \"\", \"Close\",\"5\",\"0\",\"PrimaryOnly\",,,\"False\",\"T\",\"EveryTick\")","v":192.67},-3.310744400186306E-3,{"$f":"RTD(\"cqg.rtd\",,\"StudyData\", \"Close(\"&$D$12&\") when LocalYear(\"&$D$12&\")=\"&$D$10&\" and localMonth(\"&$D$12&\") =\"&$E$10&\" and LocalDay(\"&$D$12&\")=\"&$F$10&\" and Barix(\"&$D$12&\",reference:=StartOfSession)=\"&A13&\"\", \"Bar\", \"\", \"Close\",\"5\",\"0\",\"PrimaryOnly\",,,\"False\",\"T\",\"EveryTick\")","v":193.56},9.0184017098472059E-3,null,null,null,""]
[13,"09:35:00",null,{"$f":"RTD(\"cqg.rtd\", ,\"ContractData\",D12, \"LongDescription\",, \"T\")","v":"Apple Inc"},null,null,{"$f":"C2","v":"2018-06-15"},{"$f":"RTD(\"cqg.rtd\",,\"StudyData\", \"Close(\"&$D$12&\") when LocalYear(\"&$D$12&\")=\"&$D$1&\" and localMonth(\"&$D$12&\") =\"&$E$1&\" and LocalDay(\"&$D$12&\")=\"&$F$1&\" and Barix(\"&$D$12&\",reference:=StartOfSession)=\"&A14&\"\", \"Bar\", \"\", \"Close\",\"5\",\"0\",\"PrimaryOnly\",,,\"False\",\"T\",\"EveryTick\")","v":""},{"$error":"#N/A"},{"$f":"RTD(\"cqg.rtd\",,\"StudyData\", \"Close(\"&$D$12&\") when LocalYear(\"&$D$12&\")=\"&$D$2&\" and localMonth(\"&$D$12&\") =\"&$E$2&\" and LocalDay(\"&$D$12&\")=\"&$F$2&\" and Barix(\"&$D$12&\",reference:=StartOfSession)=\"&A14&\"\", \"Bar\", \"\", \"Close\",\"5\",\"0\",\"PrimaryOnly\",,,\"False\",\"T\",\"EveryTick\")","v":188.39},-1.2631027253668893E-2,{"$f":"RTD(\"cqg.rtd\",,\"StudyData\", \"Close(\"&$D$12&\") when LocalYear(\"&$D$12&\")=\"&$D$3&\" and localMonth(\"&$D$12&\") =\"&$E$3&\" and LocalDay(\"&$D$12&\")=\"&$F$3&\" and Barix(\"&$D$12&\",reference:=StartOfSession)=\"&A14&\"\", \"Bar\", \"\", \"Close\",\"5\",\"0\",\"PrimaryOnly\",,,\"False\",\"T\",\"EveryTick\")","v":191.07},1.9402202412165945E-3,{"$f":"RTD(\"cqg.rtd\",,\"StudyData\", \"Close(\"&$D$12&\") when LocalYear(\"&$D$12&\")=\"&$D$4&\" and localMonth(\"&$D$12&\") =\"&$E$4&\" and LocalDay(\"&$D$12&\")=\"&$F$4&\" and Barix(\"&$D$12&\",reference:=StartOfSession)=\"&A14&\"\", \"Bar\", \"\", \"Close\",\"5\",\"0\",\"PrimaryOnly\",,,\"False\",\"T\",\"EveryTick\")","v":192.17},-5.7208237986277114E-4,{"$f":"RTD(\"cqg.rtd\",,\"StudyData\", \"Close(\"&$D$12&\") when LocalYear(\"&$D$12&\")=\"&$D$5&\" and localMonth(\"&$D$12&\") =\"&$E$5&\" and LocalDay(\"&$D$12&\")=\"&$F$5&\" and Barix(\"&$D$12&\",reference:=StartOfSession)=\"&A14&\"\", \"Bar\", \"\", \"Close\",\"5\",\"0\",\"PrimaryOnly\",,,\"False\",\"T\",\"EveryTick\")","v":191.43},1.045861005072515E-3,{"$f":"RTD(\"cqg.rtd\",,\"StudyData\", \"Close(\"&$D$12&\") when LocalYear(\"&$D$12&\")=\"&$D$6&\" and localMonth(\"&$D$12&\") =\"&$E$6&\" and LocalDay(\"&$D$12&\")=\"&$F$6&\" and Barix(\"&$D$12&\",reference:=StartOfSession)=\"&A14&\"\", \"Bar\", \"\", \"Close\",\"5\",\"0\",\"PrimaryOnly\",,,\"False\",\"T\",\"EveryTick\")","v":190.5},-6.2597809076681728E-3,{"$f":"RTD(\"cqg.rtd\",,\"StudyData\", \"Close(\"&$D$12&\") when LocalYear(\"&$D$12&\")=\"&$D$7&\" and localMonth(\"&$D$12&\") =\"&$E$7&\" and LocalDay(\"&$D$12&\")=\"&$F$7&\" and Barix(\"&$D$12&\",reference:=StartOfSession)=\"&A14&\"\", \"Bar\", \"\", \"Close\",\"5\",\"0\",\"PrimaryOnly\",,,\"False\",\"T\",\"EveryTick\")","v":190.01},-1.7833143802336488E-2,{"$f":"RTD(\"cqg.rtd\",,\"StudyData\", \"Close(\"&$D$12&\") when LocalYear(\"&$D$12&\")=\"&$D$8&\" and localMonth(\"&$D$12&\") =\"&$E$8&\" and LocalDay(\"&$D$12&\")=\"&$F$8&\" and Barix(\"&$D$12&\",reference:=StartOfSession)=\"&A14&\"\", \"Bar\", \"\", \"Close\",\"5\",\"0\",\"PrimaryOnly\",,,\"False\",\"T\",\"EveryTick\")","v":192.72},-6.4955150015465046E-3,{"$f":"RTD(\"cqg.rtd\",,\"StudyData\", \"Close(\"&$D$12&\") when LocalYear(\"&$D$12&\")=\"&$D$9&\" and localMonth(\"&$D$12&\") =\"&$E$9&\" and LocalDay(\"&$D$12&\")=\"&$F$9&\" and Barix(\"&$D$12&\",reference:=StartOfSession)=\"&A14&\"\", \"Bar\", \"\", \"Close\",\"5\",\"0\",\"PrimaryOnly\",,,\"False\",\"T\",\"EveryTick\")","v":192.56},-3.8797785939682374E-3,{"$f":"RTD(\"cqg.rtd\",,\"StudyData\", \"Close(\"&$D$12&\") when LocalYear(\"&$D$12&\")=\"&$D$10&\" and localMonth(\"&$D$12&\") =\"&$E$10&\" and LocalDay(\"&$D$12&\")=\"&$F$10&\" and Barix(\"&$D$12&\",reference:=StartOfSession)=\"&A14&\"\", \"Bar\", \"\", \"Close\",\"5\",\"0\",\"PrimaryOnly\",,,\"False\",\"T\",\"EveryTick\")","v":193.39},8.1322003857580861E-3,null,null,null,""]
[14,"09:40:00","",null,null,null,"2018-06-14",{"$f":"RTD(\"cqg.rtd\",,\"StudyData\", \"Close(\"&$D$12&\") when LocalYear(\"&$D$12&\")=\"&$D$1&\" and localMonth(\"&$D$12&\") =\"&$E$1&\" and LocalDay(\"&$D$12&\")=\"&$F$1&\" and Barix(\"&$D$12&\",reference:=StartOfSession)=\"&A15&\"\", \"Bar\", \"\", \"Close\",\"5\",\"0\",\"PrimaryOnly\",,,\"False\",\"T\",\"EveryTick\")","v":""},{"$error":"#N/A"},{"$f":"RTD(\"cqg.rtd\",,\"StudyData\", \"Close(\"&$D$12&\") when LocalYear(\"&$D$12&\")=\"&$D$2&\" and localMonth(\"&$D$12&\") =\"&$E$2&\" and LocalDay(\"&$D$12&\")=\"&$F$2&\" and Barix(\"&$D$12&\",reference:=StartOfSession)=\"&A15&\"\", \"Bar\", \"\", \"Close\",\"5\",\"0\",\"PrimaryOnly\",,,\"False\",\"T\",\"EveryTick\")","v":188.86},-1.0167714884696004E-2,{"$f":"RTD(\"cqg.rtd\",,\"StudyData\", \"Close(\"&$D$12&\") when LocalYear(\"&$D$12&\")=\"&$D$3&\" and localMonth(\"&$D$12&\") =\"&$E$3&\" and LocalDay(\"&$D$12&\")=\"&$F$3&\" and Barix(\"&$D$12&\",reference:=StartOfSession)=\"&A15&\"\", \"Bar\", \"\", \"Close\",\"5\",\"0\",\"PrimaryOnly\",,,\"False\",\"T\",\"EveryTick\")","v":191.16},2.4121657052963187E-3,{"$f":"RTD(\"cqg.rtd\",,\"StudyData\", \"Close(\"&$D$12&\") when LocalYear(\"&$D$12&\")=\"&$D$4&\" and localMonth(\"&$D$12&\") =\"&$E$4&\" and LocalDay(\"&$D$12&\")=\"&$F$4&\" and Barix(\"&$D$12&\",reference:=StartOfSession)=\"&A15&\"\", \"Bar\", \"\", \"Close\",\"5\",\"0\",\"PrimaryOnly\",,,\"False\",\"T\",\"EveryTick\")","v":192.14},-7.2810484709805894E-4,{"$f":"RTD(\"cqg.rtd\",,\"StudyData\", \"Close(\"&$D$12&\") when LocalYear(\"&$D$12&\")=\"&$D$5&\" and localMonth(\"&$D$12&\") =\"&$E$5&\" and LocalDay(\"&$D$12&\")=\"&$F$5&\" and Barix(\"&$D$12&\",reference:=StartOfSession)=\"&A15&\"\", \"Bar\", \"\", \"Close\",\"5\",\"0\",\"PrimaryOnly\",,,\"False\",\"T\",\"EveryTick\")","v":191.55},1.6733776081159944E-3,{"$f":"RTD(\"cqg.rtd\",,\"StudyData\", \"Close(\"&$D$12&\") when LocalYear(\"&$D$12&\")=\"&$D$6&\" and localMonth(\"&$D$12&\") =\"&$E$6&\" and LocalDay(\"&$D$12&\")=\"&$F$6&\" and Barix(\"&$D$12&\",reference:=StartOfSession)=\"&A15&\"\", \"Bar\", \"\", \"Close\",\"5\",\"0\",\"PrimaryOnly\",,,\"False\",\"T\",\"EveryTick\")","v":190.38},-6.8857589984350192E-3,{"$f":"RTD(\"cqg.rtd\",,\"StudyData\", \"Close(\"&$D$12&\") when LocalYear(\"&$D$12&\")=\"&$D$7&\" and localMonth(\"&$D$12&\") =\"&$E$7&\" and LocalDay(\"&$D$12&\")=\"&$F$7&\" and Barix(\"&$D$12&\",reference:=StartOfSession)=\"&A15&\"\", \"Bar\", \"\", \"Close\",\"5\",\"0\",\"PrimaryOnly\",,,\"False\",\"T\",\"EveryTick\")","v":190.19},-1.6902718908301511E-2,{"$f":"RTD(\"cqg.rtd\",,\"StudyData\", \"Close(\"&$D$12&\") when LocalYear(\"&$D$12&\")=\"&$D$8&\" and localMonth(\"&$D$12&\") =\"&$E$8&\" and LocalDay(\"&$D$12&\")=\"&$F$8&\" and Barix(\"&$D$12&\",reference:=StartOfSession)=\"&A15&\"\", \"Bar\", \"\", \"Close\",\"5\",\"0\",\"PrimaryOnly\",,,\"False\",\"T\",\"EveryTick\")","v":192.69},-6.6501701206309518E-3,{"$f":"RTD(\"cqg.rtd\",,\"StudyData\", \"Close(\"&$D$12&\") when LocalYear(\"&$D$12&\")=\"&$D$9&\" and localMonth(\"&$D$12&\") =\"&$E$9&\" and LocalDay(\"&$D$12&\")=\"&$F$9&\" and Barix(\"&$D$12&\",reference:=StartOfSession)=\"&A15&\"\", \"Bar\", \"\", \"Close\",\"5\",\"0\",\"PrimaryOnly\",,,\"False\",\"T\",\"EveryTick\")","v":192.4},-4.7074646940147768E-3,{"$f":"RTD(\"cqg.rtd\",,\"StudyData\", \"Close(\"&$D$12&\") when LocalYear(\"&$D$12&\")=\"&$D$10&\" and localMonth(\"&$D$12&\") =\"&$E$10&\" and LocalDay(\"&$D$12&\")=\"&$F$10&\" and Barix(\"&$D$12&\",reference:=StartOfSession)=\"&A15&\"\", \"Bar\", \"\", \"Close\",\"5\",\"0\",\"PrimaryOnly\",,,\"False\",\"T\",\"EveryTick\")","v":193.45},8.4449773236718768E-3,null,null,null,""]
[15,"09:45:00",null,{"$f":"RTD(\"cqg.rtd\", ,\"ContractData\",D12, \"Ticksize\",, \"T\")","v":0.01},null,null,"2018-06-13",{"$f":"RTD(\"cqg.rtd\",,\"StudyData\", \"Close(\"&$D$12&\") when LocalYear(\"&$D$12&\")=\"&$D$1&\" and localMonth(\"&$D$12&\") =\"&$E$1&\" and LocalDay(\"&$D$12&\")=\"&$F$1&\" and Barix(\"&$D$12&\",reference:=StartOfSession)=\"&A16&\"\", \"Bar\", \"\", \"Close\",\"5\",\"0\",\"PrimaryOnly\",,,\"False\",\"T\",\"EveryTick\")","v":""},{"$error":"#N/A"},{"$f":"RTD(\"cqg.rtd\",,\"StudyData\", \"Close(\"&$D$12&\") when LocalYear(\"&$D$12&\")=\"&$D$2&\" and localMonth(\"&$D$12&\") =\"&$E$2&\" and LocalDay(\"&$D$12&\")=\"&$F$2&\" and Barix(\"&$D$12&\",reference:=StartOfSession)=\"&A16&\"\", \"Bar\", \"\", \"Close\",\"5\",\"0\",\"PrimaryOnly\",,,\"False\",\"T\",\"EveryTick\")","v":188.99},-9.4863731656184593E-3,{"$f":"RTD(\"cqg.rtd\",,\"StudyData\", \"Close(\"&$D$12&\") when LocalYear(\"&$D$12&\")=\"&$D$3&\" and localMonth(\"&$D$12&\") =\"&$E$3&\" and LocalDay(\"&$D$12&\")=\"&$F$3&\" and Barix(\"&$D$12&\",reference:=StartOfSession)=\"&A16&\"\", \"Bar\", \"\", \"Close\",\"5\",\"0\",\"PrimaryOnly\",,,\"False\",\"T\",\"EveryTick\")","v":190.92},1.1536444677503874E-3,{"$f":"RTD(\"cqg.rtd\",,\"StudyData\", \"Close(\"&$D$12&\") when LocalYear(\"&$D$12&\")=\"&$D$4&\" and localMonth(\"&$D$12&\") =\"&$E$4&\" and LocalDay(\"&$D$12&\")=\"&$F$4&\" and Barix(\"&$D$12&\",reference:=StartOfSession)=\"&A16&\"\", \"Bar\", \"\", \"Close\",\"5\",\"0\",\"PrimaryOnly\",,,\"False\",\"T\",\"EveryTick\")","v":192.27},-5.2007489078379993E-5,{"$f":"RTD(\"cqg.rtd\",,\"StudyData\", \"Close(\"&$D$12&\") when LocalYear(\"&$D$12&\")=\"&$D$5&\" and localMonth(\"&$D$12&\") =\"&$E$5&\" and LocalDay(\"&$D$12&\")=\"&$F$5&\" and Barix(\"&$D$12&\",reference:=StartOfSession)=\"&A16&\"\", \"Bar\", \"\", \"Close\",\"5\",\"0\",\"PrimaryOnly\",,,\"False\",\"T\",\"EveryTick\")","v":191.61},1.9871359096377342E-3,{"$f":"RTD(\"cqg.rtd\",,\"StudyData\", \"Close(\"&$D$12&\") when LocalYear(\"&$D$12&\")=\"&$D$6&\" and localMonth(\"&$D$12&\") =\"&$E$6&\" and LocalDay(\"&$D$12&\")=\"&$F$6&\" and Barix(\"&$D$12&\",reference:=StartOfSession)=\"&A16&\"\", \"Bar\", \"\", \"Close\",\"5\",\"0\",\"PrimaryOnly\",,,\"False\",\"T\",\"EveryTick\")","v":190.3},-7.3030777256128188E-3,{"$f":"RTD(\"cqg.rtd\",,\"StudyData\", \"Close(\"&$D$12&\") when LocalYear(\"&$D$12&\")=\"&$D$7&\" and localMonth(\"&$D$12&\") =\"&$E$7&\" and LocalDay(\"&$D$12&\")=\"&$F$7&\" and Barix(\"&$D$12&\",reference:=StartOfSession)=\"&A16&\"\", \"Bar\", \"\", \"Close\",\"5\",\"0\",\"PrimaryOnly\",,,\"False\",\"T\",\"EveryTick\")","v":190.34},-1.6127364829939029E-2,{"$f":"RTD(\"cqg.rtd\",,\"StudyData\", \"Close(\"&$D$12&\") when LocalYear(\"&$D$12&\")=\"&$D$8&\" and localMonth(\"&$D$12&\") =\"&$E$8&\" and LocalDay(\"&$D$12&\")=\"&$F$8&\" and Barix(\"&$D$12&\",reference:=StartOfSession)=\"&A16&\"\", \"Bar\", \"\", \"Close\",\"5\",\"0\",\"PrimaryOnly\",,,\"False\",\"T\",\"EveryTick\")","v":192.7},-6.5986184142695185E-3,{"$f":"RTD(\"cqg.rtd\",,\"StudyData\", \"Close(\"&$D$12&\") when LocalYear(\"&$D$12&\")=\"&$D$9&\" and localMonth(\"&$D$12&\") =\"&$E$9&\" and LocalDay(\"&$D$12&\")=\"&$F$9&\" and Barix(\"&$D$12&\",reference:=StartOfSession)=\"&A16&\"\", \"Bar\", \"\", \"Close\",\"5\",\"0\",\"PrimaryOnly\",,,\"False\",\"T\",\"EveryTick\")","v":192.01},-6.7249495628783369E-3,{"$f":"RTD(\"cqg.rtd\",,\"StudyData\", \"Close(\"&$D$12&\") when LocalYear(\"&$D$12&\")=\"&$D$10&\" and localMonth(\"&$D$12&\") =\"&$E$10&\" and LocalDay(\"&$D$12&\")=\"&$F$10&\" and Barix(\"&$D$12&\",reference:=StartOfSession)=\"&A16&\"\", \"Bar\", \"\", \"Close\",\"5\",\"0\",\"PrimaryOnly\",,,\"False\",\"T\",\"EveryTick\")","v":193.4},8.1843298754104843E-3,null,null,null,""]
[16,"09:50:00",null,{"$f":"IF(D16>=1,0,IF(LEN(D16)-2=1,2,LEN(D16)-2))","v":2},null,{"$f":"VLOOKUP(D17,D18:E25,2,FALSE)","v":"#.00"},"2018-06-12",{"$f":"RTD(\"cqg.rtd\",,\"StudyData\", \"Close(\"&$D$12&\") when LocalYear(\"&$D$12&\")=\"&$D$1&\" and localMonth(\"&$D$12&\") =\"&$E$1&\" and LocalDay(\"&$D$12&\")=\"&$F$1&\" and Barix(\"&$D$12&\",reference:=StartOfSession)=\"&A17&\"\", \"Bar\", \"\", \"Close\",\"5\",\"0\",\"PrimaryOnly\",,,\"False\",\"T\",\"EveryTick\")","v":""},{"$error":"#N/A"},{"$f":"RTD(\"cqg.rtd\",,\"StudyData\", \"Close(\"&$D$12&\") when LocalYear(\"&$D$12&\")=\"&$D$2&\" and localMonth(\"&$D$12&\") =\"&$E$2&\" and LocalDay(\"&$D$12&\")=\"&$F$2&\" and Barix(\"&$D$12&\",reference:=StartOfSession)=\"&A17&\"\", \"Bar\", \"\", \"Close\",\"5\",\"0\",\"PrimaryOnly\",,,\"False\",\"T\",\"EveryTick\")","v":188.84},-1.0272536687631069E-2,{"$f":"RTD(\"cqg.rtd\",,\"StudyData\", \"Close(\"&$D$12&\") when LocalYear(\"&$D$12&\")=\"&$D$3&\" and localMonth(\"&$D$12&\") =\"&$E$3&\" and LocalDay(\"&$D$12&\")=\"&$F$3&\" and Barix(\"&$D$12&\",reference:=StartOfSession)=\"&A17&\"\", \"Bar\", \"\", \"Close\",\"5\",\"0\",\"PrimaryOnly\",,,\"False\",\"T\",\"EveryTick\")","v":190.87},8.9145254326175106E-4,{"$f":"RTD(\"cqg.rtd\",,\"StudyData\", \"Close(\"&$D$12&\") when LocalYear(\"&$D$12&\")=\"&$D$4&\" and localMonth(\"&$D$12&\") =\"&$E$4&\" and LocalDay(\"&$D$12&\")=\"&$F$4&\" and Barix(\"&$D$12&\",reference:=StartOfSession)=\"&A17&\"\", \"Bar\", \"\", \"Close\",\"5\",\"0\",\"PrimaryOnly\",,,\"False\",\"T\",\"EveryTick\")","v":192.4},6.2408986894115122E-4,{"$f":"RTD(\"cqg.rtd\",,\"StudyData\", \"Close(\"&$D$12&\") when LocalYear(\"&$D$12&\")=\"&$D$5&\" and localMonth(\"&$D$12&\") =\"&$E$5&\" and LocalDay(\"&$D$12&\")=\"&$F$5&\" and Barix(\"&$D$12&\",reference:=StartOfSession)=\"&A17&\"\", \"Bar\", \"\", \"Close\",\"5\",\"0\",\"PrimaryOnly\",,,\"False\",\"T\",\"EveryTick\")","v":191.51},1.4642054071014022E-3,{"$f":"RTD(\"cqg.rtd\",,\"StudyData\", \"Close(\"&$D$12&\") when LocalYear(\"&$D$12&\")=\"&$D$6&\" and localMonth(\"&$D$12&\") =\"&$E$6&\" and LocalDay(\"&$D$12&\")=\"&$F$6&\" and Barix(\"&$D$12&\",reference:=StartOfSession)=\"&A17&\"\", \"Bar\", \"\", \"Close\",\"5\",\"0\",\"PrimaryOnly\",,,\"False\",\"T\",\"EveryTick\")","v":190.36},-6.9900886802293956E-3,{"$f":"RTD(\"cqg.rtd\",,\"StudyData\", \"Close(\"&$D$12&\") when LocalYear(\"&$D$12&\")=\"&$D$7&\" and localMonth(\"&$D$12&\") =\"&$E$7&\" and LocalDay(\"&$D$12&\")=\"&$F$7&\" and Barix(\"&$D$12&\",reference:=StartOfSession)=\"&A17&\"\", \"Bar\", \"\", \"Close\",\"5\",\"0\",\"PrimaryOnly\",,,\"False\",\"T\",\"EveryTick\")","v":190.6},-1.4783417760777491E-2,{"$f":"RTD(\"cqg.rtd\",,\"StudyData\", \"Close(\"&$D$12&\") when LocalYear(\"&$D$12&\")=\"&$D$8&\" and localMonth(\"&$D$12&\") =\"&$E$8&\" and LocalDay(\"&$D$12&\")=\"&$F$8&\" and Barix(\"&$D$12&\",reference:=StartOfSession)=\"&A17&\"\", \"Bar\", \"\", \"Close\",\"5\",\"0\",\"PrimaryOnly\",,,\"False\",\"T\",\"EveryTick\")","v":192.96},-5.2582740488709241E-3,{"$f":"RTD(\"cqg.rtd\",,\"StudyData\", \"Close(\"&$D$12&\") when LocalYear(\"&$D$12&\")=\"&$D$9&\" and localMonth(\"&$D$12&\") =\"&$E$9&\" and LocalDay(\"&$D$12&\")=\"&$F$9&\" and Barix(\"&$D$12&\",reference:=StartOfSession)=\"&A17&\"\", \"Bar\", \"\", \"Close\",\"5\",\"0\",\"PrimaryOnly\",,,\"False\",\"T\",\"EveryTick\")","v":192.29},-5.2764988877968561E-3,{"$f":"RTD(\"cqg.rtd\",,\"StudyData\", \"Close(\"&$D$12&\") when LocalYear(\"&$D$12&\")=\"&$D$10&\" and localMonth(\"&$D$12&\") =\"&$E$10&\" and LocalDay(\"&$D$12&\")=\"&$F$10&\" and Barix(\"&$D$12&\",reference:=StartOfSession)=\"&A17&\"\", \"Bar\", \"\", \"Close\",\"5\",\"0\",\"PrimaryOnly\",,,\"False\",\"T\",\"EveryTick\")","v":193.65},9.4875671167178911E-3,null,null,null,""]
[17,"09:55:00",null,0,"#",null,"2018-06-11",{"$f":"RTD(\"cqg.rtd\",,\"StudyData\", \"Close(\"&$D$12&\") when LocalYear(\"&$D$12&\")=\"&$D$1&\" and localMonth(\"&$D$12&\") =\"&$E$1&\" and LocalDay(\"&$D$12&\")=\"&$F$1&\" and Barix(\"&$D$12&\",reference:=StartOfSession)=\"&A18&\"\", \"Bar\", \"\", \"Close\",\"5\",\"0\",\"PrimaryOnly\",,,\"False\",\"T\",\"EveryTick\")","v":""},{"$error":"#N/A"},{"$f":"RTD(\"cqg.rtd\",,\"StudyData\", \"Close(\"&$D$12&\") when LocalYear(\"&$D$12&\")=\"&$D$2&\" and localMonth(\"&$D$12&\") =\"&$E$2&\" and LocalDay(\"&$D$12&\")=\"&$F$2&\" and Barix(\"&$D$12&\",reference:=StartOfSession)=\"&A18&\"\", \"Bar\", \"\", \"Close\",\"5\",\"0\",\"PrimaryOnly\",,,\"False\",\"T\",\"EveryTick\")","v":188.73},-1.0849056603773697E-2,{"$f":"RTD(\"cqg.rtd\",,\"StudyData\", \"Close(\"&$D$12&\") when LocalYear(\"&$D$12&\")=\"&$D$3&\" and localMonth(\"&$D$12&\") =\"&$E$3&\" and LocalDay(\"&$D$12&\")=\"&$F$3&\" and Barix(\"&$D$12&\",reference:=StartOfSession)=\"&A18&\"\", \"Bar\", \"\", \"Close\",\"5\",\"0\",\"PrimaryOnly\",,,\"False\",\"T\",\"EveryTick\")","v":190.53},-8.9145254326160198E-4,{"$f":"RTD(\"cqg.rtd\",,\"StudyData\", \"Close(\"&$D$12&\") when LocalYear(\"&$D$12&\")=\"&$D$4&\" and localMonth(\"&$D$12&\") =\"&$E$4&\" and LocalDay(\"&$D$12&\")=\"&$F$4&\" and Barix(\"&$D$12&\",reference:=StartOfSession)=\"&A18&\"\", \"Bar\", \"\", \"Close\",\"5\",\"0\",\"PrimaryOnly\",,,\"False\",\"T\",\"EveryTick\")","v":192.5},1.1441647597253946E-3,{"$f":"RTD(\"cqg.rtd\",,\"StudyData\", \"Close(\"&$D$12&\") when LocalYear(\"&$D$12&\")=\"&$D$5&\" and localMonth(\"&$D$12&\") =\"&$E$5&\" and LocalDay(\"&$D$12&\")=\"&$F$5&\" and Barix(\"&$D$12&\",reference:=StartOfSession)=\"&A18&\"\", \"Bar\", \"\", \"Close\",\"5\",\"0\",\"PrimaryOnly\",,,\"False\",\"T\",\"EveryTick\")","v":191.48},1.3073262563405325E-3,{"$f":"RTD(\"cqg.rtd\",,\"StudyData\", \"Close(\"&$D$12&\") when LocalYear(\"&$D$12&\")=\"&$D$6&\" and localMonth(\"&$D$12&\") =\"&$E$6&\" and LocalDay(\"&$D$12&\")=\"&$F$6&\" and Barix(\"&$D$12&\",reference:=StartOfSession)=\"&A18&\"\", \"Bar\", \"\", \"Close\",\"5\",\"0\",\"PrimaryOnly\",,,\"False\",\"T\",\"EveryTick\")","v":190.52},-6.1554512258736489E-3,{"$f":"RTD(\"cqg.rtd\",,\"StudyData\", \"Close(\"&$D$12&\") when LocalYear(\"&$D$12&\")=\"&$D$7&\" and localMonth(\"&$D$12&\") =\"&$E$7&\" and LocalDay(\"&$D$12&\")=\"&$F$7&\" and Barix(\"&$D$12&\",reference:=StartOfSession)=\"&A18&\"\", \"Bar\", \"\", \"Close\",\"5\",\"0\",\"PrimaryOnly\",,,\"False\",\"T\",\"EveryTick\")","v":190.45},-1.5558771839139974E-2,{"$f":"RTD(\"cqg.rtd\",,\"StudyData\", \"Close(\"&$D$12&\") when LocalYear(\"&$D$12&\")=\"&$D$8&\" and localMonth(\"&$D$12&\") =\"&$E$8&\" and LocalDay(\"&$D$12&\")=\"&$F$8&\" and Barix(\"&$D$12&\",reference:=StartOfSession)=\"&A18&\"\", \"Bar\", \"\", \"Close\",\"5\",\"0\",\"PrimaryOnly\",,,\"False\",\"T\",\"EveryTick\")","v":193.28},-3.6086194453035813E-3,{"$f":"RTD(\"cqg.rtd\",,\"StudyData\", \"Close(\"&$D$12&\") when LocalYear(\"&$D$12&\")=\"&$D$9&\" and localMonth(\"&$D$12&\") =\"&$E$9&\" and LocalDay(\"&$D$12&\")=\"&$F$9&\" and Barix(\"&$D$12&\",reference:=StartOfSession)=\"&A18&\"\", \"Bar\", \"\", \"Close\",\"5\",\"0\",\"PrimaryOnly\",,,\"False\",\"T\",\"EveryTick\")","v":192.43},-4.552273550256042E-3,{"$f":"RTD(\"cqg.rtd\",,\"StudyData\", \"Close(\"&$D$12&\") when LocalYear(\"&$D$12&\")=\"&$D$10&\" and localMonth(\"&$D$12&\") =\"&$E$10&\" and LocalDay(\"&$D$12&\")=\"&$F$10&\" and Barix(\"&$D$12&\",reference:=StartOfSession)=\"&A18&\"\", \"Bar\", \"\", \"Close\",\"5\",\"0\",\"PrimaryOnly\",,,\"False\",\"T\",\"EveryTick\")","v":193.69},9.6960850753270347E-3,null,null,null,""]
[18,"10:00:00",null,1,"#.0",null,"2018-06-08",{"$f":"RTD(\"cqg.rtd\",,\"StudyData\", \"Close(\"&$D$12&\") when LocalYear(\"&$D$12&\")=\"&$D$1&\" and localMonth(\"&$D$12&\") =\"&$E$1&\" and LocalDay(\"&$D$12&\")=\"&$F$1&\" and Barix(\"&$D$12&\",reference:=StartOfSession)=\"&A19&\"\", \"Bar\", \"\", \"Close\",\"5\",\"0\",\"PrimaryOnly\",,,\"False\",\"T\",\"EveryTick\")","v":""},{"$error":"#N/A"},{"$f":"RTD(\"cqg.rtd\",,\"StudyData\", \"Close(\"&$D$12&\") when LocalYear(\"&$D$12&\")=\"&$D$2&\" and localMonth(\"&$D$12&\") =\"&$E$2&\" and LocalDay(\"&$D$12&\")=\"&$F$2&\" and Barix(\"&$D$12&\",reference:=StartOfSession)=\"&A19&\"\", \"Bar\", \"\", \"Close\",\"5\",\"0\",\"PrimaryOnly\",,,\"False\",\"T\",\"EveryTick\")","v":188.43},-1.2421383647798765E-2,{"$f":"RTD(\"cqg.rtd\",,\"StudyData\", \"Close(\"&$D$12&\") when LocalYear(\"&$D$12&\")=\"&$D$3&\" and localMonth(\"&$D$12&\") =\"&$E$3&\" and LocalDay(\"&$D$12&\")=\"&$F$3&\" and Barix(\"&$D$12&\",reference:=StartOfSession)=\"&A19&\"\", \"Bar\", \"\", \"Close\",\"5\",\"0\",\"PrimaryOnly\",,,\"False\",\"T\",\"EveryTick\")","v":190.75},2.6219192448878538E-4,{"$f":"RTD(\"cqg.rtd\",,\"StudyData\", \"Close(\"&$D$12&\") when LocalYear(\"&$D$12&\")=\"&$D$4&\" and localMonth(\"&$D$12&\") =\"&$E$4&\" and LocalDay(\"&$D$12&\")=\"&$F$4&\" and Barix(\"&$D$12&\",reference:=StartOfSession)=\"&A19&\"\", \"Bar\", \"\", \"Close\",\"5\",\"0\",\"PrimaryOnly\",,,\"False\",\"T\",\"EveryTick\")","v":192.79},2.6523819429997448E-3,{"$f":"RTD(\"cqg.rtd\",,\"StudyData\", \"Close(\"&$D$12&\") when LocalYear(\"&$D$12&\")=\"&$D$5&\" and localMonth(\"&$D$12&\") =\"&$E$5&\" and LocalDay(\"&$D$12&\")=\"&$F$5&\" and Barix(\"&$D$12&\",reference:=StartOfSession)=\"&A19&\"\", \"Bar\", \"\", \"Close\",\"5\",\"0\",\"PrimaryOnly\",,,\"False\",\"T\",\"EveryTick\")","v":191.41},9.4127490456521903E-4,{"$f":"RTD(\"cqg.rtd\",,\"StudyData\", \"Close(\"&$D$12&\") when LocalYear(\"&$D$12&\")=\"&$D$6&\" and localMonth(\"&$D$12&\") =\"&$E$6&\" and LocalDay(\"&$D$12&\")=\"&$F$6&\" and Barix(\"&$D$12&\",reference:=StartOfSession)=\"&A19&\"\", \"Bar\", \"\", \"Close\",\"5\",\"0\",\"PrimaryOnly\",,,\"False\",\"T\",\"EveryTick\")","v":190.67},-5.3729786124152388E-3,{"$f":"RTD(\"cqg.rtd\",,\"StudyData\", \"Close(\"&$D$12&\") when LocalYear(\"&$D$12&\")=\"&$D$7&\" and localMonth(\"&$D$12&\") =\"&$E$7&\" and LocalDay(\"&$D$12&\")=\"&$F$7&\" and Barix(\"&$D$12&\",reference:=StartOfSession)=\"&A19&\"\", \"Bar\", \"\", \"Close\",\"5\",\"0\",\"PrimaryOnly\",,,\"False\",\"T\",\"EveryTick\")","v":190.28},-1.6437506461284022E-2,{"$f":"RTD(\"cqg.rtd\",,\"StudyData\", \"Close(\"&$D$12&\") when LocalYear(\"&$D$12&\")=\"&$D$8&\" and localMonth(\"&$D$12&\") =\"&$E$8&\" and LocalDay(\"&$D$12&\")=\"&$F$8&\" and Barix(\"&$D$12&\",reference:=StartOfSession)=\"&A19&\"\", \"Bar\", \"\", \"Close\",\"5\",\"0\",\"PrimaryOnly\",,,\"False\",\"T\",\"EveryTick\")","v":193.2},-4.0210330961954902E-3,{"$f":"RTD(\"cqg.rtd\",,\"StudyData\", \"Close(\"&$D$12&\") when LocalYear(\"&$D$12&\")=\"&$D$9&\" and localMonth(\"&$D$12&\") =\"&$E$9&\" and LocalDay(\"&$D$12&\")=\"&$F$9&\" and Barix(\"&$D$12&\",reference:=StartOfSession)=\"&A19&\"\", \"Bar\", \"\", \"Close\",\"5\",\"0\",\"PrimaryOnly\",,,\"False\",\"T\",\"EveryTick\")","v":192.6},-3.6728570689566393E-3,{"$f":"RTD(\"cqg.rtd\",,\"StudyData\", \"Close(\"&$D$12&\") when LocalYear(\"&$D$12&\")=\"&$D$10&\" and localMonth(\"&$D$12&\") =\"&$E$10&\" and LocalDay(\"&$D$12&\")=\"&$F$10&\" and Barix(\"&$D$12&\",reference:=StartOfSession)=\"&A19&\"\", \"Bar\", \"\", \"Close\",\"5\",\"0\",\"PrimaryOnly\",,,\"False\",\"T\",\"EveryTick\")","v":193.54},8.9141427305425604E-3,null,null,null,""]
[19,"10:05:00",null,2,"#.00",null,"2018-06-07",{"$f":"RTD(\"cqg.rtd\",,\"StudyData\", \"Close(\"&$D$12&\") when LocalYear(\"&$D$12&\")=\"&$D$1&\" and localMonth(\"&$D$12&\") =\"&$E$1&\" and LocalDay(\"&$D$12&\")=\"&$F$1&\" and Barix(\"&$D$12&\",reference:=StartOfSession)=\"&A20&\"\", \"Bar\", \"\", \"Close\",\"5\",\"0\",\"PrimaryOnly\",,,\"False\",\"T\",\"EveryTick\")","v":""},{"$error":"#N/A"},{"$f":"RTD(\"cqg.rtd\",,\"StudyData\", \"Close(\"&$D$12&\") when LocalYear(\"&$D$12&\")=\"&$D$2&\" and localMonth(\"&$D$12&\") =\"&$E$2&\" and LocalDay(\"&$D$12&\")=\"&$F$2&\" and Barix(\"&$D$12&\",reference:=StartOfSession)=\"&A20&\"\", \"Bar\", \"\", \"Close\",\"5\",\"0\",\"PrimaryOnly\",,,\"False\",\"T\",\"EveryTick\")","v":188.38},-1.2683438155136352E-2,{"$f":"RTD(\"cqg.rtd\",,\"StudyData\", \"Close(\"&$D$12&\") when LocalYear(\"&$D$12&\")=\"&$D$3&\" and localMonth(\"&$D$12&\") =\"&$E$3&\" and LocalDay(\"&$D$12&\")=\"&$F$3&\" and Barix(\"&$D$12&\",reference:=StartOfSession)=\"&A20&\"\", \"Bar\", \"\", \"Close\",\"5\",\"0\",\"PrimaryOnly\",,,\"False\",\"T\",\"EveryTick\")","v":190.86},8.3901415836405355E-4,{"$f":"RTD(\"cqg.rtd\",,\"StudyData\", \"Close(\"&$D$12&\") when LocalYear(\"&$D$12&\")=\"&$D$4&\" and localMonth(\"&$D$12&\") =\"&$E$4&\" and LocalDay(\"&$D$12&\")=\"&$F$4&\" and Barix(\"&$D$12&\",reference:=StartOfSession)=\"&A20&\"\", \"Bar\", \"\", \"Close\",\"5\",\"0\",\"PrimaryOnly\",,,\"False\",\"T\",\"EveryTick\")","v":192.7},2.1843145412938814E-3,{"$f":"RTD(\"cqg.rtd\",,\"StudyData\", \"Close(\"&$D$12&\") when LocalYear(\"&$D$12&\")=\"&$D$5&\" and localMonth(\"&$D$12&\") =\"&$E$5&\" and LocalDay(\"&$D$12&\")=\"&$F$5&\" and Barix(\"&$D$12&\",reference:=StartOfSession)=\"&A20&\"\", \"Bar\", \"\", \"Close\",\"5\",\"0\",\"PrimaryOnly\",,,\"False\",\"T\",\"EveryTick\")","v":191.39},8.3668880405792293E-4,{"$f":"RTD(\"cqg.rtd\",,\"StudyData\", \"Close(\"&$D$12&\") when LocalYear(\"&$D$12&\")=\"&$D$6&\" and localMonth(\"&$D$12&\") =\"&$E$6&\" and LocalDay(\"&$D$12&\")=\"&$F$6&\" and Barix(\"&$D$12&\",reference:=StartOfSession)=\"&A20&\"\", \"Bar\", \"\", \"Close\",\"5\",\"0\",\"PrimaryOnly\",,,\"False\",\"T\",\"EveryTick\")","v":190.75},-4.9556598852372909E-3,{"$f":"RTD(\"cqg.rtd\",,\"StudyData\", \"Close(\"&$D$12&\") when LocalYear(\"&$D$12&\")=\"&$D$7&\" and localMonth(\"&$D$12&\") =\"&$E$7&\" and LocalDay(\"&$D$12&\")=\"&$F$7&\" and Barix(\"&$D$12&\",reference:=StartOfSession)=\"&A20&\"\", \"Bar\", \"\", \"Close\",\"5\",\"0\",\"PrimaryOnly\",,,\"False\",\"T\",\"EveryTick\")","v":190.4},-1.5817223198594035E-2,{"$f":"RTD(\"cqg.rtd\",,\"StudyData\", \"Close(\"&$D$12&\") when LocalYear(\"&$D$12&\")=\"&$D$8&\" and localMonth(\"&$D$12&\") =\"&$E$8&\" and LocalDay(\"&$D$12&\")=\"&$F$8&\" and Barix(\"&$D$12&\",reference:=StartOfSession)=\"&A20&\"\", \"Bar\", \"\", \"Close\",\"5\",\"0\",\"PrimaryOnly\",,,\"False\",\"T\",\"EveryTick\")","v":193.04},-4.8458603979791614E-3,{"$f":"RTD(\"cqg.rtd\",,\"StudyData\", \"Close(\"&$D$12&\") when LocalYear(\"&$D$12&\")=\"&$D$9&\" and localMonth(\"&$D$12&\") =\"&$E$9&\" and LocalDay(\"&$D$12&\")=\"&$F$9&\" and Barix(\"&$D$12&\",reference:=StartOfSession)=\"&A20&\"\", \"Bar\", \"\", \"Close\",\"5\",\"0\",\"PrimaryOnly\",,,\"False\",\"T\",\"EveryTick\")","v":192.67},-3.310744400186306E-3,{"$f":"RTD(\"cqg.rtd\",,\"StudyData\", \"Close(\"&$D$12&\") when LocalYear(\"&$D$12&\")=\"&$D$10&\" and localMonth(\"&$D$12&\") =\"&$E$10&\" and LocalDay(\"&$D$12&\")=\"&$F$10&\" and Barix(\"&$D$12&\",reference:=StartOfSession)=\"&A20&\"\", \"Bar\", \"\", \"Close\",\"5\",\"0\",\"PrimaryOnly\",,,\"False\",\"T\",\"EveryTick\")","v":193.07},6.4640567168846403E-3,null,null,null,""]
[20,"10:10:00",null,3,"#.000",null,"2018-06-06",{"$f":"RTD(\"cqg.rtd\",,\"StudyData\", \"Close(\"&$D$12&\") when LocalYear(\"&$D$12&\")=\"&$D$1&\" and localMonth(\"&$D$12&\") =\"&$E$1&\" and LocalDay(\"&$D$12&\")=\"&$F$1&\" and Barix(\"&$D$12&\",reference:=StartOfSession)=\"&A21&\"\", \"Bar\", \"\", \"Close\",\"5\",\"0\",\"PrimaryOnly\",,,\"False\",\"T\",\"EveryTick\")","v":""},{"$error":"#N/A"},{"$f":"RTD(\"cqg.rtd\",,\"StudyData\", \"Close(\"&$D$12&\") when LocalYear(\"&$D$12&\")=\"&$D$2&\" and localMonth(\"&$D$12&\") =\"&$E$2&\" and LocalDay(\"&$D$12&\")=\"&$F$2&\" and Barix(\"&$D$12&\",reference:=StartOfSession)=\"&A21&\"\", \"Bar\", \"\", \"Close\",\"5\",\"0\",\"PrimaryOnly\",,,\"False\",\"T\",\"EveryTick\")","v":188.46},-1.2264150943396243E-2,{"$f":"RTD(\"cqg.rtd\",,\"StudyData\", \"Close(\"&$D$12&\") when LocalYear(\"&$D$12&\")=\"&$D$3&\" and localMonth(\"&$D$12&\") =\"&$E$3&\" and LocalDay(\"&$D$12&\")=\"&$F$3&\" and Barix(\"&$D$12&\",reference:=StartOfSession)=\"&A21&\"\", \"Bar\", \"\", \"Close\",\"5\",\"0\",\"PrimaryOnly\",,,\"False\",\"T\",\"EveryTick\")","v":191.03},1.7304667016256555E-3,{"$f":"RTD(\"cqg.rtd\",,\"StudyData\", \"Close(\"&$D$12&\") when LocalYear(\"&$D$12&\")=\"&$D$4&\" and localMonth(\"&$D$12&\") =\"&$E$4&\" and LocalDay(\"&$D$12&\")=\"&$F$4&\" and Barix(\"&$D$12&\",reference:=StartOfSession)=\"&A21&\"\", \"Bar\", \"\", \"Close\",\"5\",\"0\",\"PrimaryOnly\",,,\"False\",\"T\",\"EveryTick\")","v":192.61},1.7162471395881656E-3,{"$f":"RTD(\"cqg.rtd\",,\"StudyData\", \"Close(\"&$D$12&\") when LocalYear(\"&$D$12&\")=\"&$D$5&\" and localMonth(\"&$D$12&\") =\"&$E$5&\" and LocalDay(\"&$D$12&\")=\"&$F$5&\" and Barix(\"&$D$12&\",reference:=StartOfSession)=\"&A21&\"\", \"Bar\", \"\", \"Close\",\"5\",\"0\",\"PrimaryOnly\",,,\"False\",\"T\",\"EveryTick\")","v":191.32},4.7063745228260952E-4,{"$f":"RTD(\"cqg.rtd\",,\"StudyData\", \"Close(\"&$D$12&\") when LocalYear(\"&$D$12&\")=\"&$D$6&\" and localMonth(\"&$D$12&\") =\"&$E$6&\" and LocalDay(\"&$D$12&\")=\"&$F$6&\" and Barix(\"&$D$12&\",reference:=StartOfSession)=\"&A21&\"\", \"Bar\", \"\", \"Close\",\"5\",\"0\",\"PrimaryOnly\",,,\"False\",\"T\",\"EveryTick\")","v":190.63},-5.5816379760041382E-3,{"$f":"RTD(\"cqg.rtd\",,\"StudyData\", \"Close(\"&$D$12&\") when LocalYear(\"&$D$12&\")=\"&$D$7&\" and localMonth(\"&$D$12&\") =\"&$E$7&\" and LocalDay(\"&$D$12&\")=\"&$F$7&\" and Barix(\"&$D$12&\",reference:=StartOfSession)=\"&A21&\"\", \"Bar\", \"\", \"Close\",\"5\",\"0\",\"PrimaryOnly\",,,\"False\",\"T\",\"EveryTick\")","v":190.74},-1.4059753954305794E-2,{"$f":"RTD(\"cqg.rtd\",,\"StudyData\", \"Close(\"&$D$12&\") when LocalYear(\"&$D$12&\")=\"&$D$8&\" and localMonth(\"&$D$12&\") =\"&$E$8&\" and LocalDay(\"&$D$12&\")=\"&$F$8&\" and Barix(\"&$D$12&\",reference:=StartOfSession)=\"&A21&\"\", \"Bar\", \"\", \"Close\",\"5\",\"0\",\"PrimaryOnly\",,,\"False\",\"T\",\"EveryTick\")","v":193.39},-3.0415506753273709E-3,{"$f":"RTD(\"cqg.rtd\",,\"StudyData\", \"Close(\"&$D$12&\") when LocalYear(\"&$D$12&\")=\"&$D$9&\" and localMonth(\"&$D$12&\") =\"&$E$9&\" and LocalDay(\"&$D$12&\")=\"&$F$9&\" and Barix(\"&$D$12&\",reference:=StartOfSession)=\"&A21&\"\", \"Bar\", \"\", \"Close\",\"5\",\"0\",\"PrimaryOnly\",,,\"False\",\"T\",\"EveryTick\")","v":192.93},-1.9657544876105501E-3,{"$f":"RTD(\"cqg.rtd\",,\"StudyData\", \"Close(\"&$D$12&\") when LocalYear(\"&$D$12&\")=\"&$D$10&\" and localMonth(\"&$D$12&\") =\"&$E$10&\" and LocalDay(\"&$D$12&\")=\"&$F$10&\" and Barix(\"&$D$12&\",reference:=StartOfSession)=\"&A21&\"\", \"Bar\", \"\", \"Close\",\"5\",\"0\",\"PrimaryOnly\",,,\"False\",\"T\",\"EveryTick\")","v":193.32},7.767293958192048E-3,null,null,null,""]
[21,"10:15:00",null,4,"#.0000",null,"2018-06-05",{"$f":"RTD(\"cqg.rtd\",,\"StudyData\", \"Close(\"&$D$12&\") when LocalYear(\"&$D$12&\")=\"&$D$1&\" and localMonth(\"&$D$12&\") =\"&$E$1&\" and LocalDay(\"&$D$12&\")=\"&$F$1&\" and Barix(\"&$D$12&\",reference:=StartOfSession)=\"&A22&\"\", \"Bar\", \"\", \"Close\",\"5\",\"0\",\"PrimaryOnly\",,,\"False\",\"T\",\"EveryTick\")","v":""},{"$error":"#N/A"},{"$f":"RTD(\"cqg.rtd\",,\"StudyData\", \"Close(\"&$D$12&\") when LocalYear(\"&$D$12&\")=\"&$D$2&\" and localMonth(\"&$D$12&\") =\"&$E$2&\" and LocalDay(\"&$D$12&\")=\"&$F$2&\" and Barix(\"&$D$12&\",reference:=StartOfSession)=\"&A22&\"\", \"Bar\", \"\", \"Close\",\"5\",\"0\",\"PrimaryOnly\",,,\"False\",\"T\",\"EveryTick\")","v":188.73},-1.0849056603773697E-2,{"$f":"RTD(\"cqg.rtd\",,\"StudyData\", \"Close(\"&$D$12&\") when LocalYear(\"&$D$12&\")=\"&$D$3&\" and localMonth(\"&$D$12&\") =\"&$E$3&\" and LocalDay(\"&$D$12&\")=\"&$F$3&\" and Barix(\"&$D$12&\",reference:=StartOfSession)=\"&A22&\"\", \"Bar\", \"\", \"Close\",\"5\",\"0\",\"PrimaryOnly\",,,\"False\",\"T\",\"EveryTick\")","v":191.07},1.9402202412165945E-3,{"$f":"RTD(\"cqg.rtd\",,\"StudyData\", \"Close(\"&$D$12&\") when LocalYear(\"&$D$12&\")=\"&$D$4&\" and localMonth(\"&$D$12&\") =\"&$E$4&\" and LocalDay(\"&$D$12&\")=\"&$F$4&\" and Barix(\"&$D$12&\",reference:=StartOfSession)=\"&A22&\"\", \"Bar\", \"\", \"Close\",\"5\",\"0\",\"PrimaryOnly\",,,\"False\",\"T\",\"EveryTick\")","v":192.73},2.3403370085291692E-3,{"$f":"RTD(\"cqg.rtd\",,\"StudyData\", \"Close(\"&$D$12&\") when LocalYear(\"&$D$12&\")=\"&$D$5&\" and localMonth(\"&$D$12&\") =\"&$E$5&\" and LocalDay(\"&$D$12&\")=\"&$F$5&\" and Barix(\"&$D$12&\",reference:=StartOfSession)=\"&A22&\"\", \"Bar\", \"\", \"Close\",\"5\",\"0\",\"PrimaryOnly\",,,\"False\",\"T\",\"EveryTick\")","v":191.29},3.1375830152173968E-4,{"$f":"RTD(\"cqg.rtd\",,\"StudyData\", \"Close(\"&$D$12&\") when LocalYear(\"&$D$12&\")=\"&$D$6&\" and localMonth(\"&$D$12&\") =\"&$E$6&\" and LocalDay(\"&$D$12&\")=\"&$F$6&\" and Barix(\"&$D$12&\",reference:=StartOfSession)=\"&A22&\"\", \"Bar\", \"\", \"Close\",\"5\",\"0\",\"PrimaryOnly\",,,\"False\",\"T\",\"EveryTick\")","v":190.64},-5.52947313510695E-3,{"$f":"RTD(\"cqg.rtd\",,\"StudyData\", \"Close(\"&$D$12&\") when LocalYear(\"&$D$12&\")=\"&$D$7&\" and localMonth(\"&$D$12&\") =\"&$E$7&\" and LocalDay(\"&$D$12&\")=\"&$F$7&\" and Barix(\"&$D$12&\",reference:=StartOfSession)=\"&A22&\"\", \"Bar\", \"\", \"Close\",\"5\",\"0\",\"PrimaryOnly\",,,\"False\",\"T\",\"EveryTick\")","v":190.73},-1.4111444226196724E-2,{"$f":"RTD(\"cqg.rtd\",,\"StudyData\", \"Close(\"&$D$12&\") when LocalYear(\"&$D$12&\")=\"&$D$8&\" and localMonth(\"&$D$12&\") =\"&$E$8&\" and LocalDay(\"&$D$12&\")=\"&$F$8&\" and Barix(\"&$D$12&\",reference:=StartOfSession)=\"&A22&\"\", \"Bar\", \"\", \"Close\",\"5\",\"0\",\"PrimaryOnly\",,,\"False\",\"T\",\"EveryTick\")","v":193.37},-3.1446540880502383E-3,{"$f":"RTD(\"cqg.rtd\",,\"StudyData\", \"Close(\"&$D$12&\") when LocalYear(\"&$D$12&\")=\"&$D$9&\" and localMonth(\"&$D$12&\") =\"&$E$9&\" and LocalDay(\"&$D$12&\")=\"&$F$9&\" and Barix(\"&$D$12&\",reference:=StartOfSession)=\"&A22&\"\", \"Bar\", \"\", \"Close\",\"5\",\"0\",\"PrimaryOnly\",,,\"False\",\"T\",\"EveryTick\")","v":192.96},-1.8105633438518147E-3,{"$f":"RTD(\"cqg.rtd\",,\"StudyData\", \"Close(\"&$D$12&\") when LocalYear(\"&$D$12&\")=\"&$D$10&\" and localMonth(\"&$D$12&\") =\"&$E$10&\" and LocalDay(\"&$D$12&\")=\"&$F$10&\" and Barix(\"&$D$12&\",reference:=StartOfSession)=\"&A22&\"\", \"Bar\", \"\", \"Close\",\"5\",\"0\",\"PrimaryOnly\",,,\"False\",\"T\",\"EveryTick\")","v":193.5},8.7056247719334168E-3,null,null,null,""]
[22,"10:20:00",null,5,"#.00000",null,null,{"$f":"RTD(\"cqg.rtd\",,\"StudyData\", \"Close(\"&$D$12&\") when LocalYear(\"&$D$12&\")=\"&$D$1&\" and localMonth(\"&$D$12&\") =\"&$E$1&\" and LocalDay(\"&$D$12&\")=\"&$F$1&\" and Barix(\"&$D$12&\",reference:=StartOfSession)=\"&A23&\"\", \"Bar\", \"\", \"Close\",\"5\",\"0\",\"PrimaryOnly\",,,\"False\",\"T\",\"EveryTick\")","v":""},{"$error":"#N/A"},{"$f":"RTD(\"cqg.rtd\",,\"StudyData\", \"Close(\"&$D$12&\") when LocalYear(\"&$D$12&\")=\"&$D$2&\" and localMonth(\"&$D$12&\") =\"&$E$2&\" and LocalDay(\"&$D$12&\")=\"&$F$2&\" and Barix(\"&$D$12&\",reference:=StartOfSession)=\"&A23&\"\", \"Bar\", \"\", \"Close\",\"5\",\"0\",\"PrimaryOnly\",,,\"False\",\"T\",\"EveryTick\")","v":188.94},-9.7484276729560455E-3,{"$f":"RTD(\"cqg.rtd\",,\"StudyData\", \"Close(\"&$D$12&\") when LocalYear(\"&$D$12&\")=\"&$D$3&\" and localMonth(\"&$D$12&\") =\"&$E$3&\" and LocalDay(\"&$D$12&\")=\"&$F$3&\" and Barix(\"&$D$12&\",reference:=StartOfSession)=\"&A23&\"\", \"Bar\", \"\", \"Close\",\"5\",\"0\",\"PrimaryOnly\",,,\"False\",\"T\",\"EveryTick\")","v":191.14},2.3072889355007747E-3,{"$f":"RTD(\"cqg.rtd\",,\"StudyData\", \"Close(\"&$D$12&\") when LocalYear(\"&$D$12&\")=\"&$D$4&\" and localMonth(\"&$D$12&\") =\"&$E$4&\" and LocalDay(\"&$D$12&\")=\"&$F$4&\" and Barix(\"&$D$12&\",reference:=StartOfSession)=\"&A23&\"\", \"Bar\", \"\", \"Close\",\"5\",\"0\",\"PrimaryOnly\",,,\"False\",\"T\",\"EveryTick\")","v":192.71},2.2363220303724092E-3,{"$f":"RTD(\"cqg.rtd\",,\"StudyData\", \"Close(\"&$D$12&\") when LocalYear(\"&$D$12&\")=\"&$D$5&\" and localMonth(\"&$D$12&\") =\"&$E$5&\" and LocalDay(\"&$D$12&\")=\"&$F$5&\" and Barix(\"&$D$12&\",reference:=StartOfSession)=\"&A23&\"\", \"Bar\", \"\", \"Close\",\"5\",\"0\",\"PrimaryOnly\",,,\"False\",\"T\",\"EveryTick\")","v":191.37},7.3210270355077546E-4,{"$f":"RTD(\"cqg.rtd\",,\"StudyData\", \"Close(\"&$D$12&\") when LocalYear(\"&$D$12&\")=\"&$D$6&\" and localMonth(\"&$D$12&\") =\"&$E$6&\" and LocalDay(\"&$D$12&\")=\"&$F$6&\" and Barix(\"&$D$12&\",reference:=StartOfSession)=\"&A23&\"\", \"Bar\", \"\", \"Close\",\"5\",\"0\",\"PrimaryOnly\",,,\"False\",\"T\",\"EveryTick\")","v":190.8},-4.694835680751055E-3,{"$f":"RTD(\"cqg.rtd\",,\"StudyData\", \"Close(\"&$D$12&\") when LocalYear(\"&$D$12&\")=\"&$D$7&\" and localMonth(\"&$D$12&\") =\"&$E$7&\" and LocalDay(\"&$D$12&\")=\"&$F$7&\" and Barix(\"&$D$12&\",reference:=StartOfSession)=\"&A23&\"\", \"Bar\", \"\", \"Close\",\"5\",\"0\",\"PrimaryOnly\",,,\"False\",\"T\",\"EveryTick\")","v":190.86},-1.3439470691615808E-2,{"$f":"RTD(\"cqg.rtd\",,\"StudyData\", \"Close(\"&$D$12&\") when LocalYear(\"&$D$12&\")=\"&$D$8&\" and localMonth(\"&$D$12&\") =\"&$E$8&\" and LocalDay(\"&$D$12&\")=\"&$F$8&\" and Barix(\"&$D$12&\",reference:=StartOfSession)=\"&A23&\"\", \"Bar\", \"\", \"Close\",\"5\",\"0\",\"PrimaryOnly\",,,\"False\",\"T\",\"EveryTick\")","v":193.44},-2.7837921435199097E-3,{"$f":"RTD(\"cqg.rtd\",,\"StudyData\", \"Close(\"&$D$12&\") when LocalYear(\"&$D$12&\")=\"&$D$9&\" and localMonth(\"&$D$12&\") =\"&$E$9&\" and LocalDay(\"&$D$12&\")=\"&$F$9&\" and Barix(\"&$D$12&\",reference:=StartOfSession)=\"&A23&\"\", \"Bar\", \"\", \"Close\",\"5\",\"0\",\"PrimaryOnly\",,,\"False\",\"T\",\"EveryTick\")","v":193.08},-1.1897987688168732E-3,{"$f":"RTD(\"cqg.rtd\",,\"StudyData\", \"Close(\"&$D$12&\") when LocalYear(\"&$D$12&\")=\"&$D$10&\" and localMonth(\"&$D$12&\") =\"&$E$10&\" and LocalDay(\"&$D$12&\")=\"&$F$10&\" and Barix(\"&$D$12&\",reference:=StartOfSession)=\"&A23&\"\", \"Bar\", \"\", \"Close\",\"5\",\"0\",\"PrimaryOnly\",,,\"False\",\"T\",\"EveryTick\")","v":193.49},8.6534952822811678E-3,null,null,null,""]
[23,"10:25:00",null,6,"#.000000",null,null,{"$f":"RTD(\"cqg.rtd\",,\"StudyData\", \"Close(\"&$D$12&\") when LocalYear(\"&$D$12&\")=\"&$D$1&\" and localMonth(\"&$D$12&\") =\"&$E$1&\" and LocalDay(\"&$D$12&\")=\"&$F$1&\" and Barix(\"&$D$12&\",reference:=StartOfSession)=\"&A24&\"\", \"Bar\", \"\", \"Close\",\"5\",\"0\",\"PrimaryOnly\",,,\"False\",\"T\",\"EveryTick\")","v":""},{"$error":"#N/A"},{"$f":"RTD(\"cqg.rtd\",,\"StudyData\", \"Close(\"&$D$12&\") when LocalYear(\"&$D$12&\")=\"&$D$2&\" and localMonth(\"&$D$12&\") =\"&$E$2&\" and LocalDay(\"&$D$12&\")=\"&$F$2&\" and Barix(\"&$D$12&\",reference:=StartOfSession)=\"&A24&\"\", \"Bar\", \"\", \"Close\",\"5\",\"0\",\"PrimaryOnly\",,,\"False\",\"T\",\"EveryTick\")","v":188.79},-1.0534591194968653E-2,{"$f":"RTD(\"cqg.rtd\",,\"StudyData\", \"Close(\"&$D$12&\") when LocalYear(\"&$D$12&\")=\"&$D$3&\" and localMonth(\"&$D$12&\") =\"&$E$3&\" and LocalDay(\"&$D$12&\")=\"&$F$3&\" and Barix(\"&$D$12&\",reference:=StartOfSession)=\"&A24&\"\", \"Bar\", \"\", \"Close\",\"5\",\"0\",\"PrimaryOnly\",,,\"False\",\"T\",\"EveryTick\")","v":191.07},1.9402202412165945E-3,{"$f":"RTD(\"cqg.rtd\",,\"StudyData\", \"Close(\"&$D$12&\") when LocalYear(\"&$D$12&\")=\"&$D$4&\" and localMonth(\"&$D$12&\") =\"&$E$4&\" and LocalDay(\"&$D$12&\")=\"&$F$4&\" and Barix(\"&$D$12&\",reference:=StartOfSession)=\"&A24&\"\", \"Bar\", \"\", \"Close\",\"5\",\"0\",\"PrimaryOnly\",,,\"False\",\"T\",\"EveryTick\")","v":192.66},1.9762845849802136E-3,{"$f":"RTD(\"cqg.rtd\",,\"StudyData\", \"Close(\"&$D$12&\") when LocalYear(\"&$D$12&\")=\"&$D$5&\" and localMonth(\"&$D$12&\") =\"&$E$5&\" and LocalDay(\"&$D$12&\")=\"&$F$5&\" and Barix(\"&$D$12&\",reference:=StartOfSession)=\"&A24&\"\", \"Bar\", \"\", \"Close\",\"5\",\"0\",\"PrimaryOnly\",,,\"False\",\"T\",\"EveryTick\")","v":191.4},8.8898185431164525E-4,{"$f":"RTD(\"cqg.rtd\",,\"StudyData\", \"Close(\"&$D$12&\") when LocalYear(\"&$D$12&\")=\"&$D$6&\" and localMonth(\"&$D$12&\") =\"&$E$6&\" and LocalDay(\"&$D$12&\")=\"&$F$6&\" and Barix(\"&$D$12&\",reference:=StartOfSession)=\"&A24&\"\", \"Bar\", \"\", \"Close\",\"5\",\"0\",\"PrimaryOnly\",,,\"False\",\"T\",\"EveryTick\")","v":190.81},-4.6426708398538677E-3,{"$f":"RTD(\"cqg.rtd\",,\"StudyData\", \"Close(\"&$D$12&\") when LocalYear(\"&$D$12&\")=\"&$D$7&\" and localMonth(\"&$D$12&\") =\"&$E$7&\" and LocalDay(\"&$D$12&\")=\"&$F$7&\" and Barix(\"&$D$12&\",reference:=StartOfSession)=\"&A24&\"\", \"Bar\", \"\", \"Close\",\"5\",\"0\",\"PrimaryOnly\",,,\"False\",\"T\",\"EveryTick\")","v":190.74},-1.4059753954305794E-2,{"$f":"RTD(\"cqg.rtd\",,\"StudyData\", \"Close(\"&$D$12&\") when LocalYear(\"&$D$12&\")=\"&$D$8&\" and localMonth(\"&$D$12&\") =\"&$E$8&\" and LocalDay(\"&$D$12&\")=\"&$F$8&\" and Barix(\"&$D$12&\",reference:=StartOfSession)=\"&A24&\"\", \"Bar\", \"\", \"Close\",\"5\",\"0\",\"PrimaryOnly\",,,\"False\",\"T\",\"EveryTick\")","v":193.31},-3.4539643262191336E-3,{"$f":"RTD(\"cqg.rtd\",,\"StudyData\", \"Close(\"&$D$12&\") when LocalYear(\"&$D$12&\")=\"&$D$9&\" and localMonth(\"&$D$12&\") =\"&$E$9&\" and LocalDay(\"&$D$12&\")=\"&$F$9&\" and Barix(\"&$D$12&\",reference:=StartOfSession)=\"&A24&\"\", \"Bar\", \"\", \"Close\",\"5\",\"0\",\"PrimaryOnly\",,,\"False\",\"T\",\"EveryTick\")","v":193.16},-7.7595571879367686E-4,{"$f":"RTD(\"cqg.rtd\",,\"StudyData\", \"Close(\"&$D$12&\") when LocalYear(\"&$D$12&\")=\"&$D$10&\" and localMonth(\"&$D$12&\") =\"&$E$10&\" and LocalDay(\"&$D$12&\")=\"&$F$10&\" and Barix(\"&$D$12&\",reference:=StartOfSession)=\"&A24&\"\", \"Bar\", \"\", \"Close\",\"5\",\"0\",\"PrimaryOnly\",,,\"False\",\"T\",\"EveryTick\")","v":193.39},8.1322003857580861E-3,null,null,null,""]
[24,"10:30:00",null,7,"#.0000000",null,null,{"$f":"RTD(\"cqg.rtd\",,\"StudyData\", \"Close(\"&$D$12&\") when LocalYear(\"&$D$12&\")=\"&$D$1&\" and localMonth(\"&$D$12&\") =\"&$E$1&\" and LocalDay(\"&$D$12&\")=\"&$F$1&\" and Barix(\"&$D$12&\",reference:=StartOfSession)=\"&A25&\"\", \"Bar\", \"\", \"Close\",\"5\",\"0\",\"PrimaryOnly\",,,\"False\",\"T\",\"EveryTick\")","v":""},{"$error":"#N/A"},{"$f":"RTD(\"cqg.rtd\",,\"StudyData\", \"Close(\"&$D$12&\") when LocalYear(\"&$D$12&\")=\"&$D$2&\" and localMonth(\"&$D$12&\") =\"&$E$2&\" and LocalDay(\"&$D$12&\")=\"&$F$2&\" and Barix(\"&$D$12&\",reference:=StartOfSession)=\"&A25&\"\", \"Bar\", \"\", \"Close\",\"5\",\"0\",\"PrimaryOnly\",,,\"False\",\"T\",\"EveryTick\")","v":188.73},-1.0849056603773697E-2,{"$f":"RTD(\"cqg.rtd\",,\"StudyData\", \"Close(\"&$D$12&\") when LocalYear(\"&$D$12&\")=\"&$D$3&\" and localMonth(\"&$D$12&\") =\"&$E$3&\" and LocalDay(\"&$D$12&\")=\"&$F$3&\" and Barix(\"&$D$12&\",reference:=StartOfSession)=\"&A25&\"\", \"Bar\", \"\", \"Close\",\"5\",\"0\",\"PrimaryOnly\",,,\"False\",\"T\",\"EveryTick\")","v":191.2},2.6219192448872575E-3,{"$f":"RTD(\"cqg.rtd\",,\"StudyData\", \"Close(\"&$D$12&\") when LocalYear(\"&$D$12&\")=\"&$D$4&\" and localMonth(\"&$D$12&\") =\"&$E$4&\" and LocalDay(\"&$D$12&\")=\"&$F$4&\" and Barix(\"&$D$12&\",reference:=StartOfSession)=\"&A25&\"\", \"Bar\", \"\", \"Close\",\"5\",\"0\",\"PrimaryOnly\",,,\"False\",\"T\",\"EveryTick\")","v":192.77},2.5483669648429848E-3,{"$f":"RTD(\"cqg.rtd\",,\"StudyData\", \"Close(\"&$D$12&\") when LocalYear(\"&$D$12&\")=\"&$D$5&\" and localMonth(\"&$D$12&\") =\"&$E$5&\" and LocalDay(\"&$D$12&\")=\"&$F$5&\" and Barix(\"&$D$12&\",reference:=StartOfSession)=\"&A25&\"\", \"Bar\", \"\", \"Close\",\"5\",\"0\",\"PrimaryOnly\",,,\"False\",\"T\",\"EveryTick\")","v":191.32},4.7063745228260952E-4,{"$f":"RTD(\"cqg.rtd\",,\"StudyData\", \"Close(\"&$D$12&\") when LocalYear(\"&$D$12&\")=\"&$D$6&\" and localMonth(\"&$D$12&\") =\"&$E$6&\" and LocalDay(\"&$D$12&\")=\"&$F$6&\" and Barix(\"&$D$12&\",reference:=StartOfSession)=\"&A25&\"\", \"Bar\", \"\", \"Close\",\"5\",\"0\",\"PrimaryOnly\",,,\"False\",\"T\",\"EveryTick\")","v":190.92},-4.0688575899843569E-3,{"$f":"RTD(\"cqg.rtd\",,\"StudyData\", \"Close(\"&$D$12&\") when LocalYear(\"&$D$12&\")=\"&$D$7&\" and localMonth(\"&$D$12&\") =\"&$E$7&\" and LocalDay(\"&$D$12&\")=\"&$F$7&\" and Barix(\"&$D$12&\",reference:=StartOfSession)=\"&A25&\"\", \"Bar\", \"\", \"Close\",\"5\",\"0\",\"PrimaryOnly\",,,\"False\",\"T\",\"EveryTick\")","v":190.62},-1.4680037216995779E-2,{"$f":"RTD(\"cqg.rtd\",,\"StudyData\", \"Close(\"&$D$12&\") when LocalYear(\"&$D$12&\")=\"&$D$8&\" and localMonth(\"&$D$12&\") =\"&$E$8&\" and LocalDay(\"&$D$12&\")=\"&$F$8&\" and Barix(\"&$D$12&\",reference:=StartOfSession)=\"&A25&\"\", \"Bar\", \"\", \"Close\",\"5\",\"0\",\"PrimaryOnly\",,,\"False\",\"T\",\"EveryTick\")","v":193.06},-4.7427569852561474E-3,{"$f":"RTD(\"cqg.rtd\",,\"StudyData\", \"Close(\"&$D$12&\") when LocalYear(\"&$D$12&\")=\"&$D$9&\" and localMonth(\"&$D$12&\") =\"&$E$9&\" and LocalDay(\"&$D$12&\")=\"&$F$9&\" and Barix(\"&$D$12&\",reference:=StartOfSession)=\"&A25&\"\", \"Bar\", \"\", \"Close\",\"5\",\"0\",\"PrimaryOnly\",,,\"False\",\"T\",\"EveryTick\")","v":193.18},-6.724949562878043E-4,{"$f":"RTD(\"cqg.rtd\",,\"StudyData\", \"Close(\"&$D$12&\") when LocalYear(\"&$D$12&\")=\"&$D$10&\" and localMonth(\"&$D$12&\") =\"&$E$10&\" and LocalDay(\"&$D$12&\")=\"&$F$10&\" and Barix(\"&$D$12&\",reference:=StartOfSession)=\"&A25&\"\", \"Bar\", \"\", \"Close\",\"5\",\"0\",\"PrimaryOnly\",,,\"False\",\"T\",\"EveryTick\")","v":193.06},6.4119272272323913E-3,null,null,null,""]
[25,"10:35:00",{"$f":"IF(WEEKDAY(TODAY())=7,TODAY()-1,IF(WEEKDAY(TODAY())=1,TODAY()-2,TODAY()))","v":"2018-06-18"},{"$f":"YEAR(C26)","v":2018},{"$f":"MONTH(C26)","v":6},{"$f":"DAY(C26)","v":18},null,{"$f":"RTD(\"cqg.rtd\",,\"StudyData\", \"Close(\"&$D$12&\") when LocalYear(\"&$D$12&\")=\"&$D$1&\" and localMonth(\"&$D$12&\") =\"&$E$1&\" and LocalDay(\"&$D$12&\")=\"&$F$1&\" and Barix(\"&$D$12&\",reference:=StartOfSession)=\"&A26&\"\", \"Bar\", \"\", \"Close\",\"5\",\"0\",\"PrimaryOnly\",,,\"False\",\"T\",\"EveryTick\")","v":""},{"$error":"#N/A"},{"$f":"RTD(\"cqg.rtd\",,\"StudyData\", \"Close(\"&$D$12&\") when LocalYear(\"&$D$12&\")=\"&$D$2&\" and localMonth(\"&$D$12&\") =\"&$E$2&\" and LocalDay(\"&$D$12&\")=\"&$F$2&\" and Barix(\"&$D$12&\",reference:=StartOfSession)=\"&A26&\"\", \"Bar\", \"\", \"Close\",\"5\",\"0\",\"PrimaryOnly\",,,\"False\",\"T\",\"EveryTick\")","v":188.66},-1.1215932914046198E-2,{"$f":"RTD(\"cqg.rtd\",,\"StudyData\", \"Close(\"&$D$12&\") when LocalYear(\"&$D$12&\")=\"&$D$3&\" and localMonth(\"&$D$12&\") =\"&$E$3&\" and LocalDay(\"&$D$12&\")=\"&$F$3&\" and Barix(\"&$D$12&\",reference:=StartOfSession)=\"&A26&\"\", \"Bar\", \"\", \"Close\",\"5\",\"0\",\"PrimaryOnly\",,,\"False\",\"T\",\"EveryTick\")","v":191.33},3.3036182485580699E-3,{"$f":"RTD(\"cqg.rtd\",,\"StudyData\", \"Close(\"&$D$12&\") when LocalYear(\"&$D$12&\")=\"&$D$4&\" and localMonth(\"&$D$12&\") =\"&$E$4&\" and LocalDay(\"&$D$12&\")=\"&$F$4&\" and Barix(\"&$D$12&\",reference:=StartOfSession)=\"&A26&\"\", \"Bar\", \"\", \"Close\",\"5\",\"0\",\"PrimaryOnly\",,,\"False\",\"T\",\"EveryTick\")","v":192.79},2.6523819429997448E-3,{"$f":"RTD(\"cqg.rtd\",,\"StudyData\", \"Close(\"&$D$12&\") when LocalYear(\"&$D$12&\")=\"&$D$5&\" and localMonth(\"&$D$12&\") =\"&$E$5&\" and LocalDay(\"&$D$12&\")=\"&$F$5&\" and Barix(\"&$D$12&\",reference:=StartOfSession)=\"&A26&\"\", \"Bar\", \"\", \"Close\",\"5\",\"0\",\"PrimaryOnly\",,,\"False\",\"T\",\"EveryTick\")","v":191.42},9.9356795481879271E-4,{"$f":"RTD(\"cqg.rtd\",,\"StudyData\", \"Close(\"&$D$12&\") when LocalYear(\"&$D$12&\")=\"&$D$6&\" and localMonth(\"&$D$12&\") =\"&$E$6&\" and LocalDay(\"&$D$12&\")=\"&$F$6&\" and Barix(\"&$D$12&\",reference:=StartOfSession)=\"&A26&\"\", \"Bar\", \"\", \"Close\",\"5\",\"0\",\"PrimaryOnly\",,,\"False\",\"T\",\"EveryTick\")","v":191},-3.6515388628064094E-3,{"$f":"RTD(\"cqg.rtd\",,\"StudyData\", \"Close(\"&$D$12&\") when LocalYear(\"&$D$12&\")=\"&$D$7&\" and localMonth(\"&$D$12&\") =\"&$E$7&\" and LocalDay(\"&$D$12&\")=\"&$F$7&\" and Barix(\"&$D$12&\",reference:=StartOfSession)=\"&A26&\"\", \"Bar\", \"\", \"Close\",\"5\",\"0\",\"PrimaryOnly\",,,\"False\",\"T\",\"EveryTick\")","v":190.6},-1.4783417760777491E-2,{"$f":"RTD(\"cqg.rtd\",,\"StudyData\", \"Close(\"&$D$12&\") when LocalYear(\"&$D$12&\")=\"&$D$8&\" and localMonth(\"&$D$12&\") =\"&$E$8&\" and LocalDay(\"&$D$12&\")=\"&$F$8&\" and Barix(\"&$D$12&\",reference:=StartOfSession)=\"&A26&\"\", \"Bar\", \"\", \"Close\",\"5\",\"0\",\"PrimaryOnly\",,,\"False\",\"T\",\"EveryTick\")","v":193.23},-3.8663779771110425E-3,{"$f":"RTD(\"cqg.rtd\",,\"StudyData\", \"Close(\"&$D$12&\") when LocalYear(\"&$D$12&\")=\"&$D$9&\" and localMonth(\"&$D$12&\") =\"&$E$9&\" and LocalDay(\"&$D$12&\")=\"&$F$9&\" and Barix(\"&$D$12&\",reference:=StartOfSession)=\"&A26&\"\", \"Bar\", \"\", \"Close\",\"5\",\"0\",\"PrimaryOnly\",,,\"False\",\"T\",\"EveryTick\")","v":193.01},-1.5519114375873537E-3,{"$f":"RTD(\"cqg.rtd\",,\"StudyData\", \"Close(\"&$D$12&\") when LocalYear(\"&$D$12&\")=\"&$D$10&\" and localMonth(\"&$D$12&\") =\"&$E$10&\" and LocalDay(\"&$D$12&\")=\"&$F$10&\" and Barix(\"&$D$12&\",reference:=StartOfSession)=\"&A26&\"\", \"Bar\", \"\", \"Close\",\"5\",\"0\",\"PrimaryOnly\",,,\"False\",\"T\",\"EveryTick\")","v":193.24},7.350258040973761E-3,null,null,null,""]
[26,"10:40:00",{"$f":"WORKDAY(C26,-1)","v":"2018-06-15"},{"$f":"YEAR(C27)","v":2018},{"$f":"MONTH(C27)","v":6},{"$f":"DAY(C27)","v":15},{"$f":"IF(RTD(\"cqg.rtd\",,\"StudyData\", \"Close(\"&$D$12&\") when LocalYear(\"&$D$12&\")=\"&D27&\" and localMonth(\"&$D$12&\") =\"&E27&\" and LocalDay(\"&$D$12&\")=\"&F27&\" and Barix(\"&$D$12&\",reference:=StartOfSession)=77\", \"Bar\", \"\", \"Close\",\"5\",\"0\",\"PrimaryOnly\",,,\"False\",\"T\",\"EveryTick\")=\"\",2,1)","v":1},{"$f":"RTD(\"cqg.rtd\",,\"StudyData\", \"Close(\"&$D$12&\") when LocalYear(\"&$D$12&\")=\"&$D$1&\" and localMonth(\"&$D$12&\") =\"&$E$1&\" and LocalDay(\"&$D$12&\")=\"&$F$1&\" and Barix(\"&$D$12&\",reference:=StartOfSession)=\"&A27&\"\", \"Bar\", \"\", \"Close\",\"5\",\"0\",\"PrimaryOnly\",,,\"False\",\"T\",\"EveryTick\")","v":""},{"$error":"#N/A"},{"$f":"RTD(\"cqg.rtd\",,\"StudyData\", \"Close(\"&$D$12&\") when LocalYear(\"&$D$12&\")=\"&$D$2&\" and localMonth(\"&$D$12&\") =\"&$E$2&\" and LocalDay(\"&$D$12&\")=\"&$F$2&\" and Barix(\"&$D$12&\",reference:=StartOfSession)=\"&A27&\"\", \"Bar\", \"\", \"Close\",\"5\",\"0\",\"PrimaryOnly\",,,\"False\",\"T\",\"EveryTick\")","v":188.59},-1.1582809224318698E-2,{"$f":"RTD(\"cqg.rtd\",,\"StudyData\", \"Close(\"&$D$12&\") when LocalYear(\"&$D$12&\")=\"&$D$3&\" and localMonth(\"&$D$12&\") =\"&$E$3&\" and LocalDay(\"&$D$12&\")=\"&$F$3&\" and Barix(\"&$D$12&\",reference:=StartOfSession)=\"&A27&\"\", \"Bar\", \"\", \"Close\",\"5\",\"0\",\"PrimaryOnly\",,,\"False\",\"T\",\"EveryTick\")","v":191.31},3.1987414787625259E-3,{"$f":"RTD(\"cqg.rtd\",,\"StudyData\", \"Close(\"&$D$12&\") when LocalYear(\"&$D$12&\")=\"&$D$4&\" and localMonth(\"&$D$12&\") =\"&$E$4&\" and LocalDay(\"&$D$12&\")=\"&$F$4&\" and Barix(\"&$D$12&\",reference:=StartOfSession)=\"&A27&\"\", \"Bar\", \"\", \"Close\",\"5\",\"0\",\"PrimaryOnly\",,,\"False\",\"T\",\"EveryTick\")","v":192.68},2.0802995631371214E-3,{"$f":"RTD(\"cqg.rtd\",,\"StudyData\", \"Close(\"&$D$12&\") when LocalYear(\"&$D$12&\")=\"&$D$5&\" and localMonth(\"&$D$12&\") =\"&$E$5&\" and LocalDay(\"&$D$12&\")=\"&$F$5&\" and Barix(\"&$D$12&\",reference:=StartOfSession)=\"&A27&\"\", \"Bar\", \"\", \"Close\",\"5\",\"0\",\"PrimaryOnly\",,,\"False\",\"T\",\"EveryTick\")","v":191.46},1.2027401558333849E-3,{"$f":"RTD(\"cqg.rtd\",,\"StudyData\", \"Close(\"&$D$12&\") when LocalYear(\"&$D$12&\")=\"&$D$6&\" and localMonth(\"&$D$12&\") =\"&$E$6&\" and LocalDay(\"&$D$12&\")=\"&$F$6&\" and Barix(\"&$D$12&\",reference:=StartOfSession)=\"&A27&\"\", \"Bar\", \"\", \"Close\",\"5\",\"0\",\"PrimaryOnly\",,,\"False\",\"T\",\"EveryTick\")","v":191.35},-1.8257694314032047E-3,{"$f":"RTD(\"cqg.rtd\",,\"StudyData\", \"Close(\"&$D$12&\") when LocalYear(\"&$D$12&\")=\"&$D$7&\" and localMonth(\"&$D$12&\") =\"&$E$7&\" and LocalDay(\"&$D$12&\")=\"&$F$7&\" and Barix(\"&$D$12&\",reference:=StartOfSession)=\"&A27&\"\", \"Bar\", \"\", \"Close\",\"5\",\"0\",\"PrimaryOnly\",,,\"False\",\"T\",\"EveryTick\")","v":190.7},-1.426651504186922E-2,{"$f":"RTD(\"cqg.rtd\",,\"StudyData\", \"Close(\"&$D$12&\") when LocalYear(\"&$D$12&\")=\"&$D$8&\" and localMonth(\"&$D$12&\") =\"&$E$8&\" and LocalDay(\"&$D$12&\")=\"&$F$8&\" and Barix(\"&$D$12&\",reference:=StartOfSession)=\"&A27&\"\", \"Bar\", \"\", \"Close\",\"5\",\"0\",\"PrimaryOnly\",,,\"False\",\"T\",\"EveryTick\")","v":193.39},-3.0415506753273709E-3,{"$f":"RTD(\"cqg.rtd\",,\"StudyData\", \"Close(\"&$D$12&\") when LocalYear(\"&$D$12&\")=\"&$D$9&\" and localMonth(\"&$D$12&\") =\"&$E$9&\" and LocalDay(\"&$D$12&\")=\"&$F$9&\" and Barix(\"&$D$12&\",reference:=StartOfSession)=\"&A27&\"\", \"Bar\", \"\", \"Close\",\"5\",\"0\",\"PrimaryOnly\",,,\"False\",\"T\",\"EveryTick\")","v":193.21},-5.1730381252906897E-4,{"$f":"RTD(\"cqg.rtd\",,\"StudyData\", \"Close(\"&$D$12&\") when LocalYear(\"&$D$12&\")=\"&$D$10&\" and localMonth(\"&$D$12&\") =\"&$E$10&\" and LocalDay(\"&$D$12&\")=\"&$F$10&\" and Barix(\"&$D$12&\",reference:=StartOfSession)=\"&A27&\"\", \"Bar\", \"\", \"Close\",\"5\",\"0\",\"PrimaryOnly\",,,\"False\",\"T\",\"EveryTick\")","v":193},6.0991502893186023E-3,null,null,null,""]
[27,"10:45:00",{"$f":"WORKDAY(C27,-1)","v":"2018-06-14"},2018,6,14,{"$f":"IF(RTD(\"cqg.rtd\",,\"StudyData\", \"Close(EP) when LocalYear(\"&$D$12&\")=\"&D28&\" and localMonth(\"&$D$12&\") =\"&E28&\" and LocalDay(\"&$D$12&\")=\"&F28&\" and Barix(\"&$D$12&\",reference:=StartOfSession)=77\", \"Bar\", \"\", \"Close\",\"5\",\"0\",\"PrimaryOnly\",,,\"False\",\"T\",\"EveryTick\")=\"\",2,1)","v":1},{"$f":"RTD(\"cqg.rtd\",,\"StudyData\", \"Close(\"&$D$12&\") when LocalYear(\"&$D$12&\")=\"&$D$1&\" and localMonth(\"&$D$12&\") =\"&$E$1&\" and LocalDay(\"&$D$12&\")=\"&$F$1&\" and Barix(\"&$D$12&\",reference:=StartOfSession)=\"&A28&\"\", \"Bar\", \"\", \"Close\",\"5\",\"0\",\"PrimaryOnly\",,,\"False\",\"T\",\"EveryTick\")","v":""},{"$error":"#N/A"},{"$f":"RTD(\"cqg.rtd\",,\"StudyData\", \"Close(\"&$D$12&\") when LocalYear(\"&$D$12&\")=\"&$D$2&\" and localMonth(\"&$D$12&\") =\"&$E$2&\" and LocalDay(\"&$D$12&\")=\"&$F$2&\" and Barix(\"&$D$12&\",reference:=StartOfSession)=\"&A28&\"\", \"Bar\", \"\", \"Close\",\"5\",\"0\",\"PrimaryOnly\",,,\"False\",\"T\",\"EveryTick\")","v":188.79},-1.0534591194968653E-2,{"$f":"RTD(\"cqg.rtd\",,\"StudyData\", \"Close(\"&$D$12&\") when LocalYear(\"&$D$12&\")=\"&$D$3&\" and localMonth(\"&$D$12&\") =\"&$E$3&\" and LocalDay(\"&$D$12&\")=\"&$F$3&\" and Barix(\"&$D$12&\",reference:=StartOfSession)=\"&A28&\"\", \"Bar\", \"\", \"Close\",\"5\",\"0\",\"PrimaryOnly\",,,\"False\",\"T\",\"EveryTick\")","v":191.15},2.3597273203986211E-3,{"$f":"RTD(\"cqg.rtd\",,\"StudyData\", \"Close(\"&$D$12&\") when LocalYear(\"&$D$12&\")=\"&$D$4&\" and localMonth(\"&$D$12&\") =\"&$E$4&\" and LocalDay(\"&$D$12&\")=\"&$F$4&\" and Barix(\"&$D$12&\",reference:=StartOfSession)=\"&A28&\"\", \"Bar\", \"\", \"Close\",\"5\",\"0\",\"PrimaryOnly\",,,\"False\",\"T\",\"EveryTick\")","v":192.82},2.8084044102350326E-3,{"$f":"RTD(\"cqg.rtd\",,\"StudyData\", \"Close(\"&$D$12&\") when LocalYear(\"&$D$12&\")=\"&$D$5&\" and localMonth(\"&$D$12&\") =\"&$E$5&\" and LocalDay(\"&$D$12&\")=\"&$F$5&\" and Barix(\"&$D$12&\",reference:=StartOfSession)=\"&A28&\"\", \"Bar\", \"\", \"Close\",\"5\",\"0\",\"PrimaryOnly\",,,\"False\",\"T\",\"EveryTick\")","v":191.58},1.8302567588768643E-3,{"$f":"RTD(\"cqg.rtd\",,\"StudyData\", \"Close(\"&$D$12&\") when LocalYear(\"&$D$12&\")=\"&$D$6&\" and localMonth(\"&$D$12&\") =\"&$E$6&\" and LocalDay(\"&$D$12&\")=\"&$F$6&\" and Barix(\"&$D$12&\",reference:=StartOfSession)=\"&A28&\"\", \"Bar\", \"\", \"Close\",\"5\",\"0\",\"PrimaryOnly\",,,\"False\",\"T\",\"EveryTick\")","v":191.11},-3.0777256129367503E-3,{"$f":"RTD(\"cqg.rtd\",,\"StudyData\", \"Close(\"&$D$12&\") when LocalYear(\"&$D$12&\")=\"&$D$7&\" and localMonth(\"&$D$12&\") =\"&$E$7&\" and LocalDay(\"&$D$12&\")=\"&$F$7&\" and Barix(\"&$D$12&\",reference:=StartOfSession)=\"&A28&\"\", \"Bar\", \"\", \"Close\",\"5\",\"0\",\"PrimaryOnly\",,,\"False\",\"T\",\"EveryTick\")","v":190.58},-1.4886798304559058E-2,{"$f":"RTD(\"cqg.rtd\",,\"StudyData\", \"Close(\"&$D$12&\") when LocalYear(\"&$D$12&\")=\"&$D$8&\" and localMonth(\"&$D$12&\") =\"&$E$8&\" and LocalDay(\"&$D$12&\")=\"&$F$8&\" and Barix(\"&$D$12&\",reference:=StartOfSession)=\"&A28&\"\", \"Bar\", \"\", \"Close\",\"5\",\"0\",\"PrimaryOnly\",,,\"False\",\"T\",\"EveryTick\")","v":193.19},-4.0725848025569234E-3,{"$f":"RTD(\"cqg.rtd\",,\"StudyData\", \"Close(\"&$D$12&\") when LocalYear(\"&$D$12&\")=\"&$D$9&\" and localMonth(\"&$D$12&\") =\"&$E$9&\" and LocalDay(\"&$D$12&\")=\"&$F$9&\" and Barix(\"&$D$12&\",reference:=StartOfSession)=\"&A28&\"\", \"Bar\", \"\", \"Close\",\"5\",\"0\",\"PrimaryOnly\",,,\"False\",\"T\",\"EveryTick\")","v":193.08},-1.1897987688168732E-3,{"$f":"RTD(\"cqg.rtd\",,\"StudyData\", \"Close(\"&$D$12&\") when LocalYear(\"&$D$12&\")=\"&$D$10&\" and localMonth(\"&$D$12&\") =\"&$E$10&\" and LocalDay(\"&$D$12&\")=\"&$F$10&\" and Barix(\"&$D$12&\",reference:=StartOfSession)=\"&A28&\"\", \"Bar\", \"\", \"Close\",\"5\",\"0\",\"PrimaryOnly\",,,\"False\",\"T\",\"EveryTick\")","v":193.16},6.9332221237553247E-3,null,null,null,""]
[28,"10:50:00","2018-06-13",2018,6,13,{"$f":"IF(RTD(\"cqg.rtd\",,\"StudyData\", \"Close(EP) when LocalYear(\"&$D$12&\")=\"&D29&\" and localMonth(\"&$D$12&\") =\"&E29&\" and LocalDay(\"&$D$12&\")=\"&F29&\" and Barix(\"&$D$12&\",reference:=StartOfSession)=77\", \"Bar\", \"\", \"Close\",\"5\",\"0\",\"PrimaryOnly\",,,\"False\",\"T\",\"EveryTick\")=\"\",2,1)","v":1},{"$f":"RTD(\"cqg.rtd\",,\"StudyData\", \"Close(\"&$D$12&\") when LocalYear(\"&$D$12&\")=\"&$D$1&\" and localMonth(\"&$D$12&\") =\"&$E$1&\" and LocalDay(\"&$D$12&\")=\"&$F$1&\" and Barix(\"&$D$12&\",reference:=StartOfSession)=\"&A29&\"\", \"Bar\", \"\", \"Close\",\"5\",\"0\",\"PrimaryOnly\",,,\"False\",\"T\",\"EveryTick\")","v":""},{"$error":"#N/A"},{"$f":"RTD(\"cqg.rtd\",,\"StudyData\", \"Close(\"&$D$12&\") when LocalYear(\"&$D$12&\")=\"&$D$2&\" and localMonth(\"&$D$12&\") =\"&$E$2&\" and LocalDay(\"&$D$12&\")=\"&$F$2&\" and Barix(\"&$D$12&\",reference:=StartOfSession)=\"&A29&\"\", \"Bar\", \"\", \"Close\",\"5\",\"0\",\"PrimaryOnly\",,,\"False\",\"T\",\"EveryTick\")","v":189.17},-8.5429769392034796E-3,{"$f":"RTD(\"cqg.rtd\",,\"StudyData\", \"Close(\"&$D$12&\") when LocalYear(\"&$D$12&\")=\"&$D$3&\" and localMonth(\"&$D$12&\") =\"&$E$3&\" and LocalDay(\"&$D$12&\")=\"&$F$3&\" and Barix(\"&$D$12&\",reference:=StartOfSession)=\"&A29&\"\", \"Bar\", \"\", \"Close\",\"5\",\"0\",\"PrimaryOnly\",,,\"False\",\"T\",\"EveryTick\")","v":191.1},2.0975353959098359E-3,{"$f":"RTD(\"cqg.rtd\",,\"StudyData\", \"Close(\"&$D$12&\") when LocalYear(\"&$D$12&\")=\"&$D$4&\" and localMonth(\"&$D$12&\") =\"&$E$4&\" and LocalDay(\"&$D$12&\")=\"&$F$4&\" and Barix(\"&$D$12&\",reference:=StartOfSession)=\"&A29&\"\", \"Bar\", \"\", \"Close\",\"5\",\"0\",\"PrimaryOnly\",,,\"False\",\"T\",\"EveryTick\")","v":192.81},2.7563969211566526E-3,{"$f":"RTD(\"cqg.rtd\",,\"StudyData\", \"Close(\"&$D$12&\") when LocalYear(\"&$D$12&\")=\"&$D$5&\" and localMonth(\"&$D$12&\") =\"&$E$5&\" and LocalDay(\"&$D$12&\")=\"&$F$5&\" and Barix(\"&$D$12&\",reference:=StartOfSession)=\"&A29&\"\", \"Bar\", \"\", \"Close\",\"5\",\"0\",\"PrimaryOnly\",,,\"False\",\"T\",\"EveryTick\")","v":191.72},2.562359462427491E-3,{"$f":"RTD(\"cqg.rtd\",,\"StudyData\", \"Close(\"&$D$12&\") when LocalYear(\"&$D$12&\")=\"&$D$6&\" and localMonth(\"&$D$12&\") =\"&$E$6&\" and LocalDay(\"&$D$12&\")=\"&$F$6&\" and Barix(\"&$D$12&\",reference:=StartOfSession)=\"&A29&\"\", \"Bar\", \"\", \"Close\",\"5\",\"0\",\"PrimaryOnly\",,,\"False\",\"T\",\"EveryTick\")","v":191.17},-2.764736567553475E-3,{"$f":"RTD(\"cqg.rtd\",,\"StudyData\", \"Close(\"&$D$12&\") when LocalYear(\"&$D$12&\")=\"&$D$7&\" and localMonth(\"&$D$12&\") =\"&$E$7&\" and LocalDay(\"&$D$12&\")=\"&$F$7&\" and Barix(\"&$D$12&\",reference:=StartOfSession)=\"&A29&\"\", \"Bar\", \"\", \"Close\",\"5\",\"0\",\"PrimaryOnly\",,,\"False\",\"T\",\"EveryTick\")","v":190.43},-1.566215238292154E-2,{"$f":"RTD(\"cqg.rtd\",,\"StudyData\", \"Close(\"&$D$12&\") when LocalYear(\"&$D$12&\")=\"&$D$8&\" and localMonth(\"&$D$12&\") =\"&$E$8&\" and LocalDay(\"&$D$12&\")=\"&$F$8&\" and Barix(\"&$D$12&\",reference:=StartOfSession)=\"&A29&\"\", \"Bar\", \"\", \"Close\",\"5\",\"0\",\"PrimaryOnly\",,,\"False\",\"T\",\"EveryTick\")","v":193.3},-3.5055160325805673E-3,{"$f":"RTD(\"cqg.rtd\",,\"StudyData\", \"Close(\"&$D$12&\") when LocalYear(\"&$D$12&\")=\"&$D$9&\" and localMonth(\"&$D$12&\") =\"&$E$9&\" and LocalDay(\"&$D$12&\")=\"&$F$9&\" and Barix(\"&$D$12&\",reference:=StartOfSession)=\"&A29&\"\", \"Bar\", \"\", \"Close\",\"5\",\"0\",\"PrimaryOnly\",,,\"False\",\"T\",\"EveryTick\")","v":192.81},-2.5865190626454915E-3,{"$f":"RTD(\"cqg.rtd\",,\"StudyData\", \"Close(\"&$D$12&\") when LocalYear(\"&$D$12&\")=\"&$D$10&\" and localMonth(\"&$D$12&\") =\"&$E$10&\" and LocalDay(\"&$D$12&\")=\"&$F$10&\" and Barix(\"&$D$12&\",reference:=StartOfSession)=\"&A29&\"\", \"Bar\", \"\", \"Close\",\"5\",\"0\",\"PrimaryOnly\",,,\"False\",\"T\",\"EveryTick\")","v":193.13},6.7768336547984302E-3,null,null,null,""]
[29,"10:55:00","2018-06-12",2018,6,12,{"$f":"IF(RTD(\"cqg.rtd\",,\"StudyData\", \"Close(EP) when LocalYear(\"&$D$12&\")=\"&D30&\" and localMonth(\"&$D$12&\") =\"&E30&\" and LocalDay(\"&$D$12&\")=\"&F30&\" and Barix(\"&$D$12&\",reference:=StartOfSession)=77\", \"Bar\", \"\", \"Close\",\"5\",\"0\",\"PrimaryOnly\",,,\"False\",\"T\",\"EveryTick\")=\"\",2,1)","v":1},{"$f":"RTD(\"cqg.rtd\",,\"StudyData\", \"Close(\"&$D$12&\") when LocalYear(\"&$D$12&\")=\"&$D$1&\" and localMonth(\"&$D$12&\") =\"&$E$1&\" and LocalDay(\"&$D$12&\")=\"&$F$1&\" and Barix(\"&$D$12&\",reference:=StartOfSession)=\"&A30&\"\", \"Bar\", \"\", \"Close\",\"5\",\"0\",\"PrimaryOnly\",,,\"False\",\"T\",\"EveryTick\")","v":""},{"$error":"#N/A"},{"$f":"RTD(\"cqg.rtd\",,\"StudyData\", \"Close(\"&$D$12&\") when LocalYear(\"&$D$12&\")=\"&$D$2&\" and localMonth(\"&$D$12&\") =\"&$E$2&\" and LocalDay(\"&$D$12&\")=\"&$F$2&\" and Barix(\"&$D$12&\",reference:=StartOfSession)=\"&A30&\"\", \"Bar\", \"\", \"Close\",\"5\",\"0\",\"PrimaryOnly\",,,\"False\",\"T\",\"EveryTick\")","v":189.11},-8.8574423480083739E-3,{"$f":"RTD(\"cqg.rtd\",,\"StudyData\", \"Close(\"&$D$12&\") when LocalYear(\"&$D$12&\")=\"&$D$3&\" and localMonth(\"&$D$12&\") =\"&$E$3&\" and LocalDay(\"&$D$12&\")=\"&$F$3&\" and Barix(\"&$D$12&\",reference:=StartOfSession)=\"&A30&\"\", \"Bar\", \"\", \"Close\",\"5\",\"0\",\"PrimaryOnly\",,,\"False\",\"T\",\"EveryTick\")","v":191.11},2.1499737808076823E-3,{"$f":"RTD(\"cqg.rtd\",,\"StudyData\", \"Close(\"&$D$12&\") when LocalYear(\"&$D$12&\")=\"&$D$4&\" and localMonth(\"&$D$12&\") =\"&$E$4&\" and LocalDay(\"&$D$12&\")=\"&$F$4&\" and Barix(\"&$D$12&\",reference:=StartOfSession)=\"&A30&\"\", \"Bar\", \"\", \"Close\",\"5\",\"0\",\"PrimaryOnly\",,,\"False\",\"T\",\"EveryTick\")","v":192.74},2.392344497607697E-3,{"$f":"RTD(\"cqg.rtd\",,\"StudyData\", \"Close(\"&$D$12&\") when LocalYear(\"&$D$12&\")=\"&$D$5&\" and localMonth(\"&$D$12&\") =\"&$E$5&\" and LocalDay(\"&$D$12&\")=\"&$F$5&\" and Barix(\"&$D$12&\",reference:=StartOfSession)=\"&A30&\"\", \"Bar\", \"\", \"Close\",\"5\",\"0\",\"PrimaryOnly\",,,\"False\",\"T\",\"EveryTick\")","v":191.69},2.4054803116666211E-3,{"$f":"RTD(\"cqg.rtd\",,\"StudyData\", \"Close(\"&$D$12&\") when LocalYear(\"&$D$12&\")=\"&$D$6&\" and localMonth(\"&$D$12&\") =\"&$E$6&\" and LocalDay(\"&$D$12&\")=\"&$F$6&\" and Barix(\"&$D$12&\",reference:=StartOfSession)=\"&A30&\"\", \"Bar\", \"\", \"Close\",\"5\",\"0\",\"PrimaryOnly\",,,\"False\",\"T\",\"EveryTick\")","v":191.18},-2.7125717266561389E-3,{"$f":"RTD(\"cqg.rtd\",,\"StudyData\", \"Close(\"&$D$12&\") when LocalYear(\"&$D$12&\")=\"&$D$7&\" and localMonth(\"&$D$12&\") =\"&$E$7&\" and LocalDay(\"&$D$12&\")=\"&$F$7&\" and Barix(\"&$D$12&\",reference:=StartOfSession)=\"&A30&\"\", \"Bar\", \"\", \"Close\",\"5\",\"0\",\"PrimaryOnly\",,,\"False\",\"T\",\"EveryTick\")","v":190.53},-1.5145249664013267E-2,{"$f":"RTD(\"cqg.rtd\",,\"StudyData\", \"Close(\"&$D$12&\") when LocalYear(\"&$D$12&\")=\"&$D$8&\" and localMonth(\"&$D$12&\") =\"&$E$8&\" and LocalDay(\"&$D$12&\")=\"&$F$8&\" and Barix(\"&$D$12&\",reference:=StartOfSession)=\"&A30&\"\", \"Bar\", \"\", \"Close\",\"5\",\"0\",\"PrimaryOnly\",,,\"False\",\"T\",\"EveryTick\")","v":193.32},-3.4024126198576999E-3,{"$f":"RTD(\"cqg.rtd\",,\"StudyData\", \"Close(\"&$D$12&\") when LocalYear(\"&$D$12&\")=\"&$D$9&\" and localMonth(\"&$D$12&\") =\"&$E$9&\" and LocalDay(\"&$D$12&\")=\"&$F$9&\" and Barix(\"&$D$12&\",reference:=StartOfSession)=\"&A30&\"\", \"Bar\", \"\", \"Close\",\"5\",\"0\",\"PrimaryOnly\",,,\"False\",\"T\",\"EveryTick\")","v":193.09},-1.1380683875640105E-3,{"$f":"RTD(\"cqg.rtd\",,\"StudyData\", \"Close(\"&$D$12&\") when LocalYear(\"&$D$12&\")=\"&$D$10&\" and localMonth(\"&$D$12&\") =\"&$E$10&\" and LocalDay(\"&$D$12&\")=\"&$F$10&\" and Barix(\"&$D$12&\",reference:=StartOfSession)=\"&A30&\"\", \"Bar\", \"\", \"Close\",\"5\",\"0\",\"PrimaryOnly\",,,\"False\",\"T\",\"EveryTick\")","v":193.2},7.1417400823644691E-3,null,null,null,""]
[30,"11:00:00","2018-06-11",2018,6,11,{"$f":"IF(RTD(\"cqg.rtd\",,\"StudyData\", \"Close(EP) when LocalYear(\"&$D$12&\")=\"&D31&\" and localMonth(\"&$D$12&\") =\"&E31&\" and LocalDay(\"&$D$12&\")=\"&F31&\" and Barix(\"&$D$12&\",reference:=StartOfSession)=77\", \"Bar\", \"\", \"Close\",\"5\",\"0\",\"PrimaryOnly\",,,\"False\",\"T\",\"EveryTick\")=\"\",2,1)","v":1},{"$f":"RTD(\"cqg.rtd\",,\"StudyData\", \"Close(\"&$D$12&\") when LocalYear(\"&$D$12&\")=\"&$D$1&\" and localMonth(\"&$D$12&\") =\"&$E$1&\" and LocalDay(\"&$D$12&\")=\"&$F$1&\" and Barix(\"&$D$12&\",reference:=StartOfSession)=\"&A31&\"\", \"Bar\", \"\", \"Close\",\"5\",\"0\",\"PrimaryOnly\",,,\"False\",\"T\",\"EveryTick\")","v":""},{"$error":"#N/A"},{"$f":"RTD(\"cqg.rtd\",,\"StudyData\", \"Close(\"&$D$12&\") when LocalYear(\"&$D$12&\")=\"&$D$2&\" and localMonth(\"&$D$12&\") =\"&$E$2&\" and LocalDay(\"&$D$12&\")=\"&$F$2&\" and Barix(\"&$D$12&\",reference:=StartOfSession)=\"&A31&\"\", \"Bar\", \"\", \"Close\",\"5\",\"0\",\"PrimaryOnly\",,,\"False\",\"T\",\"EveryTick\")","v":189.07},-9.0670859538785013E-3,{"$f":"RTD(\"cqg.rtd\",,\"StudyData\", \"Close(\"&$D$12&\") when LocalYear(\"&$D$12&\")=\"&$D$3&\" and localMonth(\"&$D$12&\") =\"&$E$3&\" and LocalDay(\"&$D$12&\")=\"&$F$3&\" and Barix(\"&$D$12&\",reference:=StartOfSession)=\"&A31&\"\", \"Bar\", \"\", \"Close\",\"5\",\"0\",\"PrimaryOnly\",,,\"False\",\"T\",\"EveryTick\")","v":191.06},1.8877818563188971E-3,{"$f":"RTD(\"cqg.rtd\",,\"StudyData\", \"Close(\"&$D$12&\") when LocalYear(\"&$D$12&\")=\"&$D$4&\" and localMonth(\"&$D$12&\") =\"&$E$4&\" and LocalDay(\"&$D$12&\")=\"&$F$4&\" and Barix(\"&$D$12&\",reference:=StartOfSession)=\"&A31&\"\", \"Bar\", \"\", \"Close\",\"5\",\"0\",\"PrimaryOnly\",,,\"False\",\"T\",\"EveryTick\")","v":192.67},2.0282920740585936E-3,{"$f":"RTD(\"cqg.rtd\",,\"StudyData\", \"Close(\"&$D$12&\") when LocalYear(\"&$D$12&\")=\"&$D$5&\" and localMonth(\"&$D$12&\") =\"&$E$5&\" and LocalDay(\"&$D$12&\")=\"&$F$5&\" and Barix(\"&$D$12&\",reference:=StartOfSession)=\"&A31&\"\", \"Bar\", \"\", \"Close\",\"5\",\"0\",\"PrimaryOnly\",,,\"False\",\"T\",\"EveryTick\")","v":191.73},2.614652512681065E-3,{"$f":"RTD(\"cqg.rtd\",,\"StudyData\", \"Close(\"&$D$12&\") when LocalYear(\"&$D$12&\")=\"&$D$6&\" and localMonth(\"&$D$12&\") =\"&$E$6&\" and LocalDay(\"&$D$12&\")=\"&$F$6&\" and Barix(\"&$D$12&\",reference:=StartOfSession)=\"&A31&\"\", \"Bar\", \"\", \"Close\",\"5\",\"0\",\"PrimaryOnly\",,,\"False\",\"T\",\"EveryTick\")","v":191.24},-2.3995826812727157E-3,{"$f":"RTD(\"cqg.rtd\",,\"StudyData\", \"Close(\"&$D$12&\") when LocalYear(\"&$D$12&\")=\"&$D$7&\" and localMonth(\"&$D$12&\") =\"&$E$7&\" and LocalDay(\"&$D$12&\")=\"&$F$7&\" and Barix(\"&$D$12&\",reference:=StartOfSession)=\"&A31&\"\", \"Bar\", \"\", \"Close\",\"5\",\"0\",\"PrimaryOnly\",,,\"False\",\"T\",\"EveryTick\")","v":190.78},-1.3852992866742514E-2,{"$f":"RTD(\"cqg.rtd\",,\"StudyData\", \"Close(\"&$D$12&\") when LocalYear(\"&$D$12&\")=\"&$D$8&\" and localMonth(\"&$D$12&\") =\"&$E$8&\" and LocalDay(\"&$D$12&\")=\"&$F$8&\" and Barix(\"&$D$12&\",reference:=StartOfSession)=\"&A31&\"\", \"Bar\", \"\", \"Close\",\"5\",\"0\",\"PrimaryOnly\",,,\"False\",\"T\",\"EveryTick\")","v":193.36},-3.196205794411672E-3,{"$f":"RTD(\"cqg.rtd\",,\"StudyData\", \"Close(\"&$D$12&\") when LocalYear(\"&$D$12&\")=\"&$D$9&\" and localMonth(\"&$D$12&\") =\"&$E$9&\" and LocalDay(\"&$D$12&\")=\"&$F$9&\" and Barix(\"&$D$12&\",reference:=StartOfSession)=\"&A31&\"\", \"Bar\", \"\", \"Close\",\"5\",\"0\",\"PrimaryOnly\",,,\"False\",\"T\",\"EveryTick\")","v":192.88},-2.2244063938751581E-3,{"$f":"RTD(\"cqg.rtd\",,\"StudyData\", \"Close(\"&$D$12&\") when LocalYear(\"&$D$12&\")=\"&$D$10&\" and localMonth(\"&$D$12&\") =\"&$E$10&\" and LocalDay(\"&$D$12&\")=\"&$F$10&\" and Barix(\"&$D$12&\",reference:=StartOfSession)=\"&A31&\"\", \"Bar\", \"\", \"Close\",\"5\",\"0\",\"PrimaryOnly\",,,\"False\",\"T\",\"EveryTick\")","v":192.91},5.6299848824479179E-3,null,null,null,""]
[31,"11:05:00","2018-06-08",2018,6,8,{"$f":"IF(RTD(\"cqg.rtd\",,\"StudyData\", \"Close(EP) when LocalYear(\"&$D$12&\")=\"&D32&\" and localMonth(\"&$D$12&\") =\"&E32&\" and LocalDay(\"&$D$12&\")=\"&F32&\" and Barix(\"&$D$12&\",reference:=StartOfSession)=77\", \"Bar\", \"\", \"Close\",\"5\",\"0\",\"PrimaryOnly\",,,\"False\",\"T\",\"EveryTick\")=\"\",2,1)","v":1},{"$f":"RTD(\"cqg.rtd\",,\"StudyData\", \"Close(\"&$D$12&\") when LocalYear(\"&$D$12&\")=\"&$D$1&\" and localMonth(\"&$D$12&\") =\"&$E$1&\" and LocalDay(\"&$D$12&\")=\"&$F$1&\" and Barix(\"&$D$12&\",reference:=StartOfSession)=\"&A32&\"\", \"Bar\", \"\", \"Close\",\"5\",\"0\",\"PrimaryOnly\",,,\"False\",\"T\",\"EveryTick\")","v":""},{"$error":"#N/A"},{"$f":"RTD(\"cqg.rtd\",,\"StudyData\", \"Close(\"&$D$12&\") when LocalYear(\"&$D$12&\")=\"&$D$2&\" and localMonth(\"&$D$12&\") =\"&$E$2&\" and LocalDay(\"&$D$12&\")=\"&$F$2&\" and Barix(\"&$D$12&\",reference:=StartOfSession)=\"&A32&\"\", \"Bar\", \"\", \"Close\",\"5\",\"0\",\"PrimaryOnly\",,,\"False\",\"T\",\"EveryTick\")","v":188.94},-9.7484276729560455E-3,{"$f":"RTD(\"cqg.rtd\",,\"StudyData\", \"Close(\"&$D$12&\") when LocalYear(\"&$D$12&\")=\"&$D$3&\" and localMonth(\"&$D$12&\") =\"&$E$3&\" and LocalDay(\"&$D$12&\")=\"&$F$3&\" and Barix(\"&$D$12&\",reference:=StartOfSession)=\"&A32&\"\", \"Bar\", \"\", \"Close\",\"5\",\"0\",\"PrimaryOnly\",,,\"False\",\"T\",\"EveryTick\")","v":191.04},1.7829050865233531E-3,{"$f":"RTD(\"cqg.rtd\",,\"StudyData\", \"Close(\"&$D$12&\") when LocalYear(\"&$D$12&\")=\"&$D$4&\" and localMonth(\"&$D$12&\") =\"&$E$4&\" and LocalDay(\"&$D$12&\")=\"&$F$4&\" and Barix(\"&$D$12&\",reference:=StartOfSession)=\"&A32&\"\", \"Bar\", \"\", \"Close\",\"5\",\"0\",\"PrimaryOnly\",,,\"False\",\"T\",\"EveryTick\")","v":192.63},1.8202621177449258E-3,{"$f":"RTD(\"cqg.rtd\",,\"StudyData\", \"Close(\"&$D$12&\") when LocalYear(\"&$D$12&\")=\"&$D$5&\" and localMonth(\"&$D$12&\") =\"&$E$5&\" and LocalDay(\"&$D$12&\")=\"&$F$5&\" and Barix(\"&$D$12&\",reference:=StartOfSession)=\"&A32&\"\", \"Bar\", \"\", \"Close\",\"5\",\"0\",\"PrimaryOnly\",,,\"False\",\"T\",\"EveryTick\")","v":191.67},2.3008942111593252E-3,{"$f":"RTD(\"cqg.rtd\",,\"StudyData\", \"Close(\"&$D$12&\") when LocalYear(\"&$D$12&\")=\"&$D$6&\" and localMonth(\"&$D$12&\") =\"&$E$6&\" and LocalDay(\"&$D$12&\")=\"&$F$6&\" and Barix(\"&$D$12&\",reference:=StartOfSession)=\"&A32&\"\", \"Bar\", \"\", \"Close\",\"5\",\"0\",\"PrimaryOnly\",,,\"False\",\"T\",\"EveryTick\")","v":191.34},-1.8779342723003925E-3,{"$f":"RTD(\"cqg.rtd\",,\"StudyData\", \"Close(\"&$D$12&\") when LocalYear(\"&$D$12&\")=\"&$D$7&\" and localMonth(\"&$D$12&\") =\"&$E$7&\" and LocalDay(\"&$D$12&\")=\"&$F$7&\" and Barix(\"&$D$12&\",reference:=StartOfSession)=\"&A32&\"\", \"Bar\", \"\", \"Close\",\"5\",\"0\",\"PrimaryOnly\",,,\"False\",\"T\",\"EveryTick\")","v":190.85},-1.3491160963506738E-2,{"$f":"RTD(\"cqg.rtd\",,\"StudyData\", \"Close(\"&$D$12&\") when LocalYear(\"&$D$12&\")=\"&$D$8&\" and localMonth(\"&$D$12&\") =\"&$E$8&\" and LocalDay(\"&$D$12&\")=\"&$F$8&\" and Barix(\"&$D$12&\",reference:=StartOfSession)=\"&A32&\"\", \"Bar\", \"\", \"Close\",\"5\",\"0\",\"PrimaryOnly\",,,\"False\",\"T\",\"EveryTick\")","v":193.33},-3.3508609134961197E-3,{"$f":"RTD(\"cqg.rtd\",,\"StudyData\", \"Close(\"&$D$12&\") when LocalYear(\"&$D$12&\")=\"&$D$9&\" and localMonth(\"&$D$12&\") =\"&$E$9&\" and LocalDay(\"&$D$12&\")=\"&$F$9&\" and Barix(\"&$D$12&\",reference:=StartOfSession)=\"&A32&\"\", \"Bar\", \"\", \"Close\",\"5\",\"0\",\"PrimaryOnly\",,,\"False\",\"T\",\"EveryTick\")","v":192.71},-3.1038228751745604E-3,{"$f":"RTD(\"cqg.rtd\",,\"StudyData\", \"Close(\"&$D$12&\") when LocalYear(\"&$D$12&\")=\"&$D$10&\" and localMonth(\"&$D$12&\") =\"&$E$10&\" and LocalDay(\"&$D$12&\")=\"&$F$10&\" and Barix(\"&$D$12&\",reference:=StartOfSession)=\"&A32&\"\", \"Bar\", \"\", \"Close\",\"5\",\"0\",\"PrimaryOnly\",,,\"False\",\"T\",\"EveryTick\")","v":193.04},6.3076682479277458E-3,null,null,null,""]
[32,"11:10:00","2018-06-07",2018,6,7,{"$f":"IF(RTD(\"cqg.rtd\",,\"StudyData\", \"Close(EP) when LocalYear(\"&$D$12&\")=\"&D33&\" and localMonth(\"&$D$12&\") =\"&E33&\" and LocalDay(\"&$D$12&\")=\"&F33&\" and Barix(\"&$D$12&\",reference:=StartOfSession)=77\", \"Bar\", \"\", \"Close\",\"5\",\"0\",\"PrimaryOnly\",,,\"False\",\"T\",\"EveryTick\")=\"\",2,1)","v":1},{"$f":"RTD(\"cqg.rtd\",,\"StudyData\", \"Close(\"&$D$12&\") when LocalYear(\"&$D$12&\")=\"&$D$1&\" and localMonth(\"&$D$12&\") =\"&$E$1&\" and LocalDay(\"&$D$12&\")=\"&$F$1&\" and Barix(\"&$D$12&\",reference:=StartOfSession)=\"&A33&\"\", \"Bar\", \"\", \"Close\",\"5\",\"0\",\"PrimaryOnly\",,,\"False\",\"T\",\"EveryTick\")","v":""},{"$error":"#N/A"},{"$f":"RTD(\"cqg.rtd\",,\"StudyData\", \"Close(\"&$D$12&\") when LocalYear(\"&$D$12&\")=\"&$D$2&\" and localMonth(\"&$D$12&\") =\"&$E$2&\" and LocalDay(\"&$D$12&\")=\"&$F$2&\" and Barix(\"&$D$12&\",reference:=StartOfSession)=\"&A33&\"\", \"Bar\", \"\", \"Close\",\"5\",\"0\",\"PrimaryOnly\",,,\"False\",\"T\",\"EveryTick\")","v":188.99},-9.4863731656184593E-3,{"$f":"RTD(\"cqg.rtd\",,\"StudyData\", \"Close(\"&$D$12&\") when LocalYear(\"&$D$12&\")=\"&$D$3&\" and localMonth(\"&$D$12&\") =\"&$E$3&\" and LocalDay(\"&$D$12&\")=\"&$F$3&\" and Barix(\"&$D$12&\",reference:=StartOfSession)=\"&A33&\"\", \"Bar\", \"\", \"Close\",\"5\",\"0\",\"PrimaryOnly\",,,\"False\",\"T\",\"EveryTick\")","v":191.02},1.6780283167279581E-3,{"$f":"RTD(\"cqg.rtd\",,\"StudyData\", \"Close(\"&$D$12&\") when LocalYear(\"&$D$12&\")=\"&$D$4&\" and localMonth(\"&$D$12&\") =\"&$E$4&\" and LocalDay(\"&$D$12&\")=\"&$F$4&\" and Barix(\"&$D$12&\",reference:=StartOfSession)=\"&A33&\"\", \"Bar\", \"\", \"Close\",\"5\",\"0\",\"PrimaryOnly\",,,\"False\",\"T\",\"EveryTick\")","v":192.56},1.4562096941959702E-3,{"$f":"RTD(\"cqg.rtd\",,\"StudyData\", \"Close(\"&$D$12&\") when LocalYear(\"&$D$12&\")=\"&$D$5&\" and localMonth(\"&$D$12&\") =\"&$E$5&\" and LocalDay(\"&$D$12&\")=\"&$F$5&\" and Barix(\"&$D$12&\",reference:=StartOfSession)=\"&A33&\"\", \"Bar\", \"\", \"Close\",\"5\",\"0\",\"PrimaryOnly\",,,\"False\",\"T\",\"EveryTick\")","v":191.66},2.2486011609057512E-3,{"$f":"RTD(\"cqg.rtd\",,\"StudyData\", \"Close(\"&$D$12&\") when LocalYear(\"&$D$12&\")=\"&$D$6&\" and localMonth(\"&$D$12&\") =\"&$E$6&\" and LocalDay(\"&$D$12&\")=\"&$F$6&\" and Barix(\"&$D$12&\",reference:=StartOfSession)=\"&A33&\"\", \"Bar\", \"\", \"Close\",\"5\",\"0\",\"PrimaryOnly\",,,\"False\",\"T\",\"EveryTick\")","v":191.34},-1.8779342723003925E-3,{"$f":"RTD(\"cqg.rtd\",,\"StudyData\", \"Close(\"&$D$12&\") when LocalYear(\"&$D$12&\")=\"&$D$7&\" and localMonth(\"&$D$12&\") =\"&$E$7&\" and LocalDay(\"&$D$12&\")=\"&$F$7&\" and Barix(\"&$D$12&\",reference:=StartOfSession)=\"&A33&\"\", \"Bar\", \"\", \"Close\",\"5\",\"0\",\"PrimaryOnly\",,,\"False\",\"T\",\"EveryTick\")","v":190.8},-1.37496123229608E-2,{"$f":"RTD(\"cqg.rtd\",,\"StudyData\", \"Close(\"&$D$12&\") when LocalYear(\"&$D$12&\")=\"&$D$8&\" and localMonth(\"&$D$12&\") =\"&$E$8&\" and LocalDay(\"&$D$12&\")=\"&$F$8&\" and Barix(\"&$D$12&\",reference:=StartOfSession)=\"&A33&\"\", \"Bar\", \"\", \"Close\",\"5\",\"0\",\"PrimaryOnly\",,,\"False\",\"T\",\"EveryTick\")","v":193.28},-3.6086194453035813E-3,{"$f":"RTD(\"cqg.rtd\",,\"StudyData\", \"Close(\"&$D$12&\") when LocalYear(\"&$D$12&\")=\"&$D$9&\" and localMonth(\"&$D$12&\") =\"&$E$9&\" and LocalDay(\"&$D$12&\")=\"&$F$9&\" and Barix(\"&$D$12&\",reference:=StartOfSession)=\"&A33&\"\", \"Bar\", \"\", \"Close\",\"5\",\"0\",\"PrimaryOnly\",,,\"False\",\"T\",\"EveryTick\")","v":192.81},-2.5865190626454915E-3,{"$f":"RTD(\"cqg.rtd\",,\"StudyData\", \"Close(\"&$D$12&\") when LocalYear(\"&$D$12&\")=\"&$D$10&\" and localMonth(\"&$D$12&\") =\"&$E$10&\" and LocalDay(\"&$D$12&\")=\"&$F$10&\" and Barix(\"&$D$12&\",reference:=StartOfSession)=\"&A33&\"\", \"Bar\", \"\", \"Close\",\"5\",\"0\",\"PrimaryOnly\",,,\"False\",\"T\",\"EveryTick\")","v":193.1},6.6204451858415357E-3,null,null,null,""]
[33,"11:15:00","2018-06-06",2018,6,6,{"$f":"IF(RTD(\"cqg.rtd\",,\"StudyData\", \"Close(EP) when LocalYear(\"&$D$12&\")=\"&D34&\" and localMonth(\"&$D$12&\") =\"&E34&\" and LocalDay(\"&$D$12&\")=\"&F34&\" and Barix(\"&$D$12&\",reference:=StartOfSession)=77\", \"Bar\", \"\", \"Close\",\"5\",\"0\",\"PrimaryOnly\",,,\"False\",\"T\",\"EveryTick\")=\"\",2,1)","v":1},{"$f":"RTD(\"cqg.rtd\",,\"StudyData\", \"Close(\"&$D$12&\") when LocalYear(\"&$D$12&\")=\"&$D$1&\" and localMonth(\"&$D$12&\") =\"&$E$1&\" and LocalDay(\"&$D$12&\")=\"&$F$1&\" and Barix(\"&$D$12&\",reference:=StartOfSession)=\"&A34&\"\", \"Bar\", \"\", \"Close\",\"5\",\"0\",\"PrimaryOnly\",,,\"False\",\"T\",\"EveryTick\")","v":""},{"$error":"#N/A"},{"$f":"RTD(\"cqg.rtd\",,\"StudyData\", \"Close(\"&$D$12&\") when LocalYear(\"&$D$12&\")=\"&$D$2&\" and localMonth(\"&$D$12&\") =\"&$E$2&\" and LocalDay(\"&$D$12&\")=\"&$F$2&\" and Barix(\"&$D$12&\",reference:=StartOfSession)=\"&A34&\"\", \"Bar\", \"\", \"Close\",\"5\",\"0\",\"PrimaryOnly\",,,\"False\",\"T\",\"EveryTick\")","v":188.93},-9.8008385744235028E-3,{"$f":"RTD(\"cqg.rtd\",,\"StudyData\", \"Close(\"&$D$12&\") when LocalYear(\"&$D$12&\")=\"&$D$3&\" and localMonth(\"&$D$12&\") =\"&$E$3&\" and LocalDay(\"&$D$12&\")=\"&$F$3&\" and Barix(\"&$D$12&\",reference:=StartOfSession)=\"&A34&\"\", \"Bar\", \"\", \"Close\",\"5\",\"0\",\"PrimaryOnly\",,,\"False\",\"T\",\"EveryTick\")","v":190.94},1.2585212375459314E-3,{"$f":"RTD(\"cqg.rtd\",,\"StudyData\", \"Close(\"&$D$12&\") when LocalYear(\"&$D$12&\")=\"&$D$4&\" and localMonth(\"&$D$12&\") =\"&$E$4&\" and LocalDay(\"&$D$12&\")=\"&$F$4&\" and Barix(\"&$D$12&\",reference:=StartOfSession)=\"&A34&\"\", \"Bar\", \"\", \"Close\",\"5\",\"0\",\"PrimaryOnly\",,,\"False\",\"T\",\"EveryTick\")","v":192.37},4.6806740170586336E-4,{"$f":"RTD(\"cqg.rtd\",,\"StudyData\", \"Close(\"&$D$12&\") when LocalYear(\"&$D$12&\")=\"&$D$5&\" and localMonth(\"&$D$12&\") =\"&$E$5&\" and LocalDay(\"&$D$12&\")=\"&$F$5&\" and Barix(\"&$D$12&\",reference:=StartOfSession)=\"&A34&\"\", \"Bar\", \"\", \"Close\",\"5\",\"0\",\"PrimaryOnly\",,,\"False\",\"T\",\"EveryTick\")","v":191.76},2.7715316634419345E-3,{"$f":"RTD(\"cqg.rtd\",,\"StudyData\", \"Close(\"&$D$12&\") when LocalYear(\"&$D$12&\")=\"&$D$6&\" and localMonth(\"&$D$12&\") =\"&$E$6&\" and LocalDay(\"&$D$12&\")=\"&$F$6&\" and Barix(\"&$D$12&\",reference:=StartOfSession)=\"&A34&\"\", \"Bar\", \"\", \"Close\",\"5\",\"0\",\"PrimaryOnly\",,,\"False\",\"T\",\"EveryTick\")","v":191.43},-1.4084507042252572E-3,{"$f":"RTD(\"cqg.rtd\",,\"StudyData\", \"Close(\"&$D$12&\") when LocalYear(\"&$D$12&\")=\"&$D$7&\" and localMonth(\"&$D$12&\") =\"&$E$7&\" and LocalDay(\"&$D$12&\")=\"&$F$7&\" and Barix(\"&$D$12&\",reference:=StartOfSession)=\"&A34&\"\", \"Bar\", \"\", \"Close\",\"5\",\"0\",\"PrimaryOnly\",,,\"False\",\"T\",\"EveryTick\")","v":190.76},-1.3956373410524227E-2,{"$f":"RTD(\"cqg.rtd\",,\"StudyData\", \"Close(\"&$D$12&\") when LocalYear(\"&$D$12&\")=\"&$D$8&\" and localMonth(\"&$D$12&\") =\"&$E$8&\" and LocalDay(\"&$D$12&\")=\"&$F$8&\" and Barix(\"&$D$12&\",reference:=StartOfSession)=\"&A34&\"\", \"Bar\", \"\", \"Close\",\"5\",\"0\",\"PrimaryOnly\",,,\"False\",\"T\",\"EveryTick\")","v":193.17},-4.1756882152799374E-3,{"$f":"RTD(\"cqg.rtd\",,\"StudyData\", \"Close(\"&$D$12&\") when LocalYear(\"&$D$12&\")=\"&$D$9&\" and localMonth(\"&$D$12&\") =\"&$E$9&\" and LocalDay(\"&$D$12&\")=\"&$F$9&\" and Barix(\"&$D$12&\",reference:=StartOfSession)=\"&A34&\"\", \"Bar\", \"\", \"Close\",\"5\",\"0\",\"PrimaryOnly\",,,\"False\",\"T\",\"EveryTick\")","v":192.82},-2.534788681392629E-3,{"$f":"RTD(\"cqg.rtd\",,\"StudyData\", \"Close(\"&$D$12&\") when LocalYear(\"&$D$12&\")=\"&$D$10&\" and localMonth(\"&$D$12&\") =\"&$E$10&\" and LocalDay(\"&$D$12&\")=\"&$F$10&\" and Barix(\"&$D$12&\",reference:=StartOfSession)=\"&A34&\"\", \"Bar\", \"\", \"Close\",\"5\",\"0\",\"PrimaryOnly\",,,\"False\",\"T\",\"EveryTick\")","v":192.89},5.5257259031432715E-3,null,null,null,""]
[34,"11:20:00","2018-06-05",2018,6,5,{"$f":"IF(RTD(\"cqg.rtd\",,\"StudyData\", \"Close(EP) when LocalYear(\"&$D$12&\")=\"&D35&\" and localMonth(\"&$D$12&\") =\"&E35&\" and LocalDay(\"&$D$12&\")=\"&F35&\" and Barix(\"&$D$12&\",reference:=StartOfSession)=77\", \"Bar\", \"\", \"Close\",\"5\",\"0\",\"PrimaryOnly\",,,\"False\",\"T\",\"EveryTick\")=\"\",2,1)","v":1},{"$f":"RTD(\"cqg.rtd\",,\"StudyData\", \"Close(\"&$D$12&\") when LocalYear(\"&$D$12&\")=\"&$D$1&\" and localMonth(\"&$D$12&\") =\"&$E$1&\" and LocalDay(\"&$D$12&\")=\"&$F$1&\" and Barix(\"&$D$12&\",reference:=StartOfSession)=\"&A35&\"\", \"Bar\", \"\", \"Close\",\"5\",\"0\",\"PrimaryOnly\",,,\"False\",\"T\",\"EveryTick\")","v":""},{"$error":"#N/A"},{"$f":"RTD(\"cqg.rtd\",,\"StudyData\", \"Close(\"&$D$12&\") when LocalYear(\"&$D$12&\")=\"&$D$2&\" and localMonth(\"&$D$12&\") =\"&$E$2&\" and LocalDay(\"&$D$12&\")=\"&$F$2&\" and Barix(\"&$D$12&\",reference:=StartOfSession)=\"&A35&\"\", \"Bar\", \"\", \"Close\",\"5\",\"0\",\"PrimaryOnly\",,,\"False\",\"T\",\"EveryTick\")","v":188.87},-1.0115303983228546E-2,{"$f":"RTD(\"cqg.rtd\",,\"StudyData\", \"Close(\"&$D$12&\") when LocalYear(\"&$D$12&\")=\"&$D$3&\" and localMonth(\"&$D$12&\") =\"&$E$3&\" and LocalDay(\"&$D$12&\")=\"&$F$3&\" and Barix(\"&$D$12&\",reference:=StartOfSession)=\"&A35&\"\", \"Bar\", \"\", \"Close\",\"5\",\"0\",\"PrimaryOnly\",,,\"False\",\"T\",\"EveryTick\")","v":190.92},1.1536444677503874E-3,{"$f":"RTD(\"cqg.rtd\",,\"StudyData\", \"Close(\"&$D$12&\") when LocalYear(\"&$D$12&\")=\"&$D$4&\" and localMonth(\"&$D$12&\") =\"&$E$4&\" and LocalDay(\"&$D$12&\")=\"&$F$4&\" and Barix(\"&$D$12&\",reference:=StartOfSession)=\"&A35&\"\", \"Bar\", \"\", \"Close\",\"5\",\"0\",\"PrimaryOnly\",,,\"False\",\"T\",\"EveryTick\")","v":192.46},9.3613480341172672E-4,{"$f":"RTD(\"cqg.rtd\",,\"StudyData\", \"Close(\"&$D$12&\") when LocalYear(\"&$D$12&\")=\"&$D$5&\" and localMonth(\"&$D$12&\") =\"&$E$5&\" and LocalDay(\"&$D$12&\")=\"&$F$5&\" and Barix(\"&$D$12&\",reference:=StartOfSession)=\"&A35&\"\", \"Bar\", \"\", \"Close\",\"5\",\"0\",\"PrimaryOnly\",,,\"False\",\"T\",\"EveryTick\")","v":191.79},2.9284108142028044E-3,{"$f":"RTD(\"cqg.rtd\",,\"StudyData\", \"Close(\"&$D$12&\") when LocalYear(\"&$D$12&\")=\"&$D$6&\" and localMonth(\"&$D$12&\") =\"&$E$6&\" and LocalDay(\"&$D$12&\")=\"&$F$6&\" and Barix(\"&$D$12&\",reference:=StartOfSession)=\"&A35&\"\", \"Bar\", \"\", \"Close\",\"5\",\"0\",\"PrimaryOnly\",,,\"False\",\"T\",\"EveryTick\")","v":191.44},-1.3562858633280694E-3,{"$f":"RTD(\"cqg.rtd\",,\"StudyData\", \"Close(\"&$D$12&\") when LocalYear(\"&$D$12&\")=\"&$D$7&\" and localMonth(\"&$D$12&\") =\"&$E$7&\" and LocalDay(\"&$D$12&\")=\"&$F$7&\" and Barix(\"&$D$12&\",reference:=StartOfSession)=\"&A35&\"\", \"Bar\", \"\", \"Close\",\"5\",\"0\",\"PrimaryOnly\",,,\"False\",\"T\",\"EveryTick\")","v":190.94},-1.302594851648925E-2,{"$f":"RTD(\"cqg.rtd\",,\"StudyData\", \"Close(\"&$D$12&\") when LocalYear(\"&$D$12&\")=\"&$D$8&\" and localMonth(\"&$D$12&\") =\"&$E$8&\" and LocalDay(\"&$D$12&\")=\"&$F$8&\" and Barix(\"&$D$12&\",reference:=StartOfSession)=\"&A35&\"\", \"Bar\", \"\", \"Close\",\"5\",\"0\",\"PrimaryOnly\",,,\"False\",\"T\",\"EveryTick\")","v":193.34},-3.299309207134686E-3,{"$f":"RTD(\"cqg.rtd\",,\"StudyData\", \"Close(\"&$D$12&\") when LocalYear(\"&$D$12&\")=\"&$D$9&\" and localMonth(\"&$D$12&\") =\"&$E$9&\" and LocalDay(\"&$D$12&\")=\"&$F$9&\" and Barix(\"&$D$12&\",reference:=StartOfSession)=\"&A35&\"\", \"Bar\", \"\", \"Close\",\"5\",\"0\",\"PrimaryOnly\",,,\"False\",\"T\",\"EveryTick\")","v":192.83},-2.4830583001396191E-3,{"$f":"RTD(\"cqg.rtd\",,\"StudyData\", \"Close(\"&$D$12&\") when LocalYear(\"&$D$12&\")=\"&$D$10&\" and localMonth(\"&$D$12&\") =\"&$E$10&\" and LocalDay(\"&$D$12&\")=\"&$F$10&\" and Barix(\"&$D$12&\",reference:=StartOfSession)=\"&A35&\"\", \"Bar\", \"\", \"Close\",\"5\",\"0\",\"PrimaryOnly\",,,\"False\",\"T\",\"EveryTick\")","v":192.67},4.3788771307927592E-3,null,null,null,""]
[35,"11:25:00","2018-06-04",2018,6,4,{"$f":"IF(RTD(\"cqg.rtd\",,\"StudyData\", \"Close(EP) when LocalYear(\"&$D$12&\")=\"&D36&\" and localMonth(\"&$D$12&\") =\"&E36&\" and LocalDay(\"&$D$12&\")=\"&F36&\" and Barix(\"&$D$12&\",reference:=StartOfSession)=77\", \"Bar\", \"\", \"Close\",\"5\",\"0\",\"PrimaryOnly\",,,\"False\",\"T\",\"EveryTick\")=\"\",2,1)","v":1},{"$f":"RTD(\"cqg.rtd\",,\"StudyData\", \"Close(\"&$D$12&\") when LocalYear(\"&$D$12&\")=\"&$D$1&\" and localMonth(\"&$D$12&\") =\"&$E$1&\" and LocalDay(\"&$D$12&\")=\"&$F$1&\" and Barix(\"&$D$12&\",reference:=StartOfSession)=\"&A36&\"\", \"Bar\", \"\", \"Close\",\"5\",\"0\",\"PrimaryOnly\",,,\"False\",\"T\",\"EveryTick\")","v":""},{"$error":"#N/A"},{"$f":"RTD(\"cqg.rtd\",,\"StudyData\", \"Close(\"&$D$12&\") when LocalYear(\"&$D$12&\")=\"&$D$2&\" and localMonth(\"&$D$12&\") =\"&$E$2&\" and LocalDay(\"&$D$12&\")=\"&$F$2&\" and Barix(\"&$D$12&\",reference:=StartOfSession)=\"&A36&\"\", \"Bar\", \"\", \"Close\",\"5\",\"0\",\"PrimaryOnly\",,,\"False\",\"T\",\"EveryTick\")","v":188.89},-1.0010482180293632E-2,{"$f":"RTD(\"cqg.rtd\",,\"StudyData\", \"Close(\"&$D$12&\") when LocalYear(\"&$D$12&\")=\"&$D$3&\" and localMonth(\"&$D$12&\") =\"&$E$3&\" and LocalDay(\"&$D$12&\")=\"&$F$3&\" and Barix(\"&$D$12&\",reference:=StartOfSession)=\"&A36&\"\", \"Bar\", \"\", \"Close\",\"5\",\"0\",\"PrimaryOnly\",,,\"False\",\"T\",\"EveryTick\")","v":190.83},6.8169900367081216E-4,{"$f":"RTD(\"cqg.rtd\",,\"StudyData\", \"Close(\"&$D$12&\") when LocalYear(\"&$D$12&\")=\"&$D$4&\" and localMonth(\"&$D$12&\") =\"&$E$4&\" and LocalDay(\"&$D$12&\")=\"&$F$4&\" and Barix(\"&$D$12&\",reference:=StartOfSession)=\"&A36&\"\", \"Bar\", \"\", \"Close\",\"5\",\"0\",\"PrimaryOnly\",,,\"False\",\"T\",\"EveryTick\")","v":192.34},3.1204493447057561E-4,{"$f":"RTD(\"cqg.rtd\",,\"StudyData\", \"Close(\"&$D$12&\") when LocalYear(\"&$D$12&\")=\"&$D$5&\" and localMonth(\"&$D$12&\") =\"&$E$5&\" and LocalDay(\"&$D$12&\")=\"&$F$5&\" and Barix(\"&$D$12&\",reference:=StartOfSession)=\"&A36&\"\", \"Bar\", \"\", \"Close\",\"5\",\"0\",\"PrimaryOnly\",,,\"False\",\"T\",\"EveryTick\")","v":191.68},2.3531872614130475E-3,{"$f":"RTD(\"cqg.rtd\",,\"StudyData\", \"Close(\"&$D$12&\") when LocalYear(\"&$D$12&\")=\"&$D$6&\" and localMonth(\"&$D$12&\") =\"&$E$6&\" and LocalDay(\"&$D$12&\")=\"&$F$6&\" and Barix(\"&$D$12&\",reference:=StartOfSession)=\"&A36&\"\", \"Bar\", \"\", \"Close\",\"5\",\"0\",\"PrimaryOnly\",,,\"False\",\"T\",\"EveryTick\")","v":191.42},-1.4606155451225933E-3,{"$f":"RTD(\"cqg.rtd\",,\"StudyData\", \"Close(\"&$D$12&\") when LocalYear(\"&$D$12&\")=\"&$D$7&\" and localMonth(\"&$D$12&\") =\"&$E$7&\" and LocalDay(\"&$D$12&\")=\"&$F$7&\" and Barix(\"&$D$12&\",reference:=StartOfSession)=\"&A36&\"\", \"Bar\", \"\", \"Close\",\"5\",\"0\",\"PrimaryOnly\",,,\"False\",\"T\",\"EveryTick\")","v":190.96},-1.2922567972707535E-2,{"$f":"RTD(\"cqg.rtd\",,\"StudyData\", \"Close(\"&$D$12&\") when LocalYear(\"&$D$12&\")=\"&$D$8&\" and localMonth(\"&$D$12&\") =\"&$E$8&\" and LocalDay(\"&$D$12&\")=\"&$F$8&\" and Barix(\"&$D$12&\",reference:=StartOfSession)=\"&A36&\"\", \"Bar\", \"\", \"Close\",\"5\",\"0\",\"PrimaryOnly\",,,\"False\",\"T\",\"EveryTick\")","v":193.31},-3.4539643262191336E-3,{"$f":"RTD(\"cqg.rtd\",,\"StudyData\", \"Close(\"&$D$12&\") when LocalYear(\"&$D$12&\")=\"&$D$9&\" and localMonth(\"&$D$12&\") =\"&$E$9&\" and LocalDay(\"&$D$12&\")=\"&$F$9&\" and Barix(\"&$D$12&\",reference:=StartOfSession)=\"&A36&\"\", \"Bar\", \"\", \"Close\",\"5\",\"0\",\"PrimaryOnly\",,,\"False\",\"T\",\"EveryTick\")","v":192.8},-2.6382494438983543E-3,{"$f":"RTD(\"cqg.rtd\",,\"StudyData\", \"Close(\"&$D$12&\") when LocalYear(\"&$D$12&\")=\"&$D$10&\" and localMonth(\"&$D$12&\") =\"&$E$10&\" and LocalDay(\"&$D$12&\")=\"&$F$10&\" and Barix(\"&$D$12&\",reference:=StartOfSession)=\"&A36&\"\", \"Bar\", \"\", \"Close\",\"5\",\"0\",\"PrimaryOnly\",,,\"False\",\"T\",\"EveryTick\")","v":192.93},5.7342438617525634E-3,null,null,null,""]
[36,"11:30:00",null,null,null,null,null,{"$f":"RTD(\"cqg.rtd\",,\"StudyData\", \"Close(\"&$D$12&\") when LocalYear(\"&$D$12&\")=\"&$D$1&\" and localMonth(\"&$D$12&\") =\"&$E$1&\" and LocalDay(\"&$D$12&\")=\"&$F$1&\" and Barix(\"&$D$12&\",reference:=StartOfSession)=\"&A37&\"\", \"Bar\", \"\", \"Close\",\"5\",\"0\",\"PrimaryOnly\",,,\"False\",\"T\",\"EveryTick\")","v":""},{"$error":"#N/A"},{"$f":"RTD(\"cqg.rtd\",,\"StudyData\", \"Close(\"&$D$12&\") when LocalYear(\"&$D$12&\")=\"&$D$2&\" and localMonth(\"&$D$12&\") =\"&$E$2&\" and LocalDay(\"&$D$12&\")=\"&$F$2&\" and Barix(\"&$D$12&\",reference:=StartOfSession)=\"&A37&\"\", \"Bar\", \"\", \"Close\",\"5\",\"0\",\"PrimaryOnly\",,,\"False\",\"T\",\"EveryTick\")","v":188.92},-9.8532494758911092E-3,{"$f":"RTD(\"cqg.rtd\",,\"StudyData\", \"Close(\"&$D$12&\") when LocalYear(\"&$D$12&\")=\"&$D$3&\" and localMonth(\"&$D$12&\") =\"&$E$3&\" and LocalDay(\"&$D$12&\")=\"&$F$3&\" and Barix(\"&$D$12&\",reference:=StartOfSession)=\"&A37&\"\", \"Bar\", \"\", \"Close\",\"5\",\"0\",\"PrimaryOnly\",,,\"False\",\"T\",\"EveryTick\")","v":190.77},3.6706869428432932E-4,{"$f":"RTD(\"cqg.rtd\",,\"StudyData\", \"Close(\"&$D$12&\") when LocalYear(\"&$D$12&\")=\"&$D$4&\" and localMonth(\"&$D$12&\") =\"&$E$4&\" and LocalDay(\"&$D$12&\")=\"&$F$4&\" and Barix(\"&$D$12&\",reference:=StartOfSession)=\"&A37&\"\", \"Bar\", \"\", \"Close\",\"5\",\"0\",\"PrimaryOnly\",,,\"False\",\"T\",\"EveryTick\")","v":192.37},4.6806740170586336E-4,{"$f":"RTD(\"cqg.rtd\",,\"StudyData\", \"Close(\"&$D$12&\") when LocalYear(\"&$D$12&\")=\"&$D$5&\" and localMonth(\"&$D$12&\") =\"&$E$5&\" and LocalDay(\"&$D$12&\")=\"&$F$5&\" and Barix(\"&$D$12&\",reference:=StartOfSession)=\"&A37&\"\", \"Bar\", \"\", \"Close\",\"5\",\"0\",\"PrimaryOnly\",,,\"False\",\"T\",\"EveryTick\")","v":191.71},2.5100664121739174E-3,{"$f":"RTD(\"cqg.rtd\",,\"StudyData\", \"Close(\"&$D$12&\") when LocalYear(\"&$D$12&\")=\"&$D$6&\" and localMonth(\"&$D$12&\") =\"&$E$6&\" and LocalDay(\"&$D$12&\")=\"&$F$6&\" and Barix(\"&$D$12&\",reference:=StartOfSession)=\"&A37&\"\", \"Bar\", \"\", \"Close\",\"5\",\"0\",\"PrimaryOnly\",,,\"False\",\"T\",\"EveryTick\")","v":191.62},-4.1731872717779911E-4,{"$f":"RTD(\"cqg.rtd\",,\"StudyData\", \"Close(\"&$D$12&\") when LocalYear(\"&$D$12&\")=\"&$D$7&\" and localMonth(\"&$D$12&\") =\"&$E$7&\" and LocalDay(\"&$D$12&\")=\"&$F$7&\" and Barix(\"&$D$12&\",reference:=StartOfSession)=\"&A37&\"\", \"Bar\", \"\", \"Close\",\"5\",\"0\",\"PrimaryOnly\",,,\"False\",\"T\",\"EveryTick\")","v":191.08},-1.230228471001755E-2,{"$f":"RTD(\"cqg.rtd\",,\"StudyData\", \"Close(\"&$D$12&\") when LocalYear(\"&$D$12&\")=\"&$D$8&\" and localMonth(\"&$D$12&\") =\"&$E$8&\" and LocalDay(\"&$D$12&\")=\"&$F$8&\" and Barix(\"&$D$12&\",reference:=StartOfSession)=\"&A37&\"\", \"Bar\", \"\", \"Close\",\"5\",\"0\",\"PrimaryOnly\",,,\"False\",\"T\",\"EveryTick\")","v":193.16},-4.2272399216413716E-3,{"$f":"RTD(\"cqg.rtd\",,\"StudyData\", \"Close(\"&$D$12&\") when LocalYear(\"&$D$12&\")=\"&$D$9&\" and localMonth(\"&$D$12&\") =\"&$E$9&\" and LocalDay(\"&$D$12&\")=\"&$F$9&\" and Barix(\"&$D$12&\",reference:=StartOfSession)=\"&A37&\"\", \"Bar\", \"\", \"Close\",\"5\",\"0\",\"PrimaryOnly\",,,\"False\",\"T\",\"EveryTick\")","v":192.83},-2.4830583001396191E-3,{"$f":"RTD(\"cqg.rtd\",,\"StudyData\", \"Close(\"&$D$12&\") when LocalYear(\"&$D$12&\")=\"&$D$10&\" and localMonth(\"&$D$12&\") =\"&$E$10&\" and LocalDay(\"&$D$12&\")=\"&$F$10&\" and Barix(\"&$D$12&\",reference:=StartOfSession)=\"&A37&\"\", \"Bar\", \"\", \"Close\",\"5\",\"0\",\"PrimaryOnly\",,,\"False\",\"T\",\"EveryTick\")","v":192.7},4.5352655997496537E-3,null,null,null,""]
[37,"11:35:00",-40,{"$f":" RTD(\"cqg.rtd\",,\"StudyData\", $D$12,  \"Tick\", \"FlatTicks=0\", \"Tick\",\"D\",C38,\"PrimaryOnly\")","v":187.86},null,"EP",null,{"$f":"RTD(\"cqg.rtd\",,\"StudyData\", \"Close(\"&$D$12&\") when LocalYear(\"&$D$12&\")=\"&$D$1&\" and localMonth(\"&$D$12&\") =\"&$E$1&\" and LocalDay(\"&$D$12&\")=\"&$F$1&\" and Barix(\"&$D$12&\",reference:=StartOfSession)=\"&A38&\"\", \"Bar\", \"\", \"Close\",\"5\",\"0\",\"PrimaryOnly\",,,\"False\",\"T\",\"EveryTick\")","v":""},{"$error":"#N/A"},{"$f":"RTD(\"cqg.rtd\",,\"StudyData\", \"Close(\"&$D$12&\") when LocalYear(\"&$D$12&\")=\"&$D$2&\" and localMonth(\"&$D$12&\") =\"&$E$2&\" and LocalDay(\"&$D$12&\")=\"&$F$2&\" and Barix(\"&$D$12&\",reference:=StartOfSession)=\"&A38&\"\", \"Bar\", \"\", \"Close\",\"5\",\"0\",\"PrimaryOnly\",,,\"False\",\"T\",\"EveryTick\")","v":188.94},-9.7484276729560455E-3,{"$f":"RTD(\"cqg.rtd\",,\"StudyData\", \"Close(\"&$D$12&\") when LocalYear(\"&$D$12&\")=\"&$D$3&\" and localMonth(\"&$D$12&\") =\"&$E$3&\" and LocalDay(\"&$D$12&\")=\"&$F$3&\" and Barix(\"&$D$12&\",reference:=StartOfSession)=\"&A38&\"\", \"Bar\", \"\", \"Close\",\"5\",\"0\",\"PrimaryOnly\",,,\"False\",\"T\",\"EveryTick\")","v":190.78},4.1950707918202677E-4,{"$f":"RTD(\"cqg.rtd\",,\"StudyData\", \"Close(\"&$D$12&\") when LocalYear(\"&$D$12&\")=\"&$D$4&\" and localMonth(\"&$D$12&\") =\"&$E$4&\" and LocalDay(\"&$D$12&\")=\"&$F$4&\" and Barix(\"&$D$12&\",reference:=StartOfSession)=\"&A38&\"\", \"Bar\", \"\", \"Close\",\"5\",\"0\",\"PrimaryOnly\",,,\"False\",\"T\",\"EveryTick\")","v":192.33},2.6003744539219558E-4,{"$f":"RTD(\"cqg.rtd\",,\"StudyData\", \"Close(\"&$D$12&\") when LocalYear(\"&$D$12&\")=\"&$D$5&\" and localMonth(\"&$D$12&\") =\"&$E$5&\" and LocalDay(\"&$D$12&\")=\"&$F$5&\" and Barix(\"&$D$12&\",reference:=StartOfSession)=\"&A38&\"\", \"Bar\", \"\", \"Close\",\"5\",\"0\",\"PrimaryOnly\",,,\"False\",\"T\",\"EveryTick\")","v":191.76},2.7715316634419345E-3,{"$f":"RTD(\"cqg.rtd\",,\"StudyData\", \"Close(\"&$D$12&\") when LocalYear(\"&$D$12&\")=\"&$D$6&\" and localMonth(\"&$D$12&\") =\"&$E$6&\" and LocalDay(\"&$D$12&\")=\"&$F$6&\" and Barix(\"&$D$12&\",reference:=StartOfSession)=\"&A38&\"\", \"Bar\", \"\", \"Close\",\"5\",\"0\",\"PrimaryOnly\",,,\"False\",\"T\",\"EveryTick\")","v":191.66},-2.0865936358889956E-4,{"$f":"RTD(\"cqg.rtd\",,\"StudyData\", \"Close(\"&$D$12&\") when LocalYear(\"&$D$12&\")=\"&$D$7&\" and localMonth(\"&$D$12&\") =\"&$E$7&\" and LocalDay(\"&$D$12&\")=\"&$F$7&\" and Barix(\"&$D$12&\",reference:=StartOfSession)=\"&A38&\"\", \"Bar\", \"\", \"Close\",\"5\",\"0\",\"PrimaryOnly\",,,\"False\",\"T\",\"EveryTick\")","v":190.94},-1.302594851648925E-2,{"$f":"RTD(\"cqg.rtd\",,\"StudyData\", \"Close(\"&$D$12&\") when LocalYear(\"&$D$12&\")=\"&$D$8&\" and localMonth(\"&$D$12&\") =\"&$E$8&\" and LocalDay(\"&$D$12&\")=\"&$F$8&\" and Barix(\"&$D$12&\",reference:=StartOfSession)=\"&A38&\"\", \"Bar\", \"\", \"Close\",\"5\",\"0\",\"PrimaryOnly\",,,\"False\",\"T\",\"EveryTick\")","v":193.2},-4.0210330961954902E-3,{"$f":"RTD(\"cqg.rtd\",,\"StudyData\", \"Close(\"&$D$12&\") when LocalYear(\"&$D$12&\")=\"&$D$9&\" and localMonth(\"&$D$12&\") =\"&$E$9&\" and LocalDay(\"&$D$12&\")=\"&$F$9&\" and Barix(\"&$D$12&\",reference:=StartOfSession)=\"&A38&\"\", \"Bar\", \"\", \"Close\",\"5\",\"0\",\"PrimaryOnly\",,,\"False\",\"T\",\"EveryTick\")","v":192.79},-2.6899798251513642E-3,{"$f":"RTD(\"cqg.rtd\",,\"StudyData\", \"Close(\"&$D$12&\") when LocalYear(\"&$D$12&\")=\"&$D$10&\" and localMonth(\"&$D$12&\") =\"&$E$10&\" and LocalDay(\"&$D$12&\")=\"&$F$10&\" and Barix(\"&$D$12&\",reference:=StartOfSession)=\"&A38&\"\", \"Bar\", \"\", \"Close\",\"5\",\"0\",\"PrimaryOnly\",,,\"False\",\"T\",\"EveryTick\")","v":192.94},5.7863733514048124E-3,null,null,null,""]
[38,"11:40:00",{"$f":"C38+1","v":-39},{"$f":" RTD(\"cqg.rtd\",,\"StudyData\", $D$12,  \"Tick\", \"FlatTicks=0\", \"Tick\",\"D\",C39,\"PrimaryOnly\")","v":187.87},null,"ENQ",null,{"$f":"RTD(\"cqg.rtd\",,\"StudyData\", \"Close(\"&$D$12&\") when LocalYear(\"&$D$12&\")=\"&$D$1&\" and localMonth(\"&$D$12&\") =\"&$E$1&\" and LocalDay(\"&$D$12&\")=\"&$F$1&\" and Barix(\"&$D$12&\",reference:=StartOfSession)=\"&A39&\"\", \"Bar\", \"\", \"Close\",\"5\",\"0\",\"PrimaryOnly\",,,\"False\",\"T\",\"EveryTick\")","v":""},{"$error":"#N/A"},{"$f":"RTD(\"cqg.rtd\",,\"StudyData\", \"Close(\"&$D$12&\") when LocalYear(\"&$D$12&\")=\"&$D$2&\" and localMonth(\"&$D$12&\") =\"&$E$2&\" and LocalDay(\"&$D$12&\")=\"&$F$2&\" and Barix(\"&$D$12&\",reference:=StartOfSession)=\"&A39&\"\", \"Bar\", \"\", \"Close\",\"5\",\"0\",\"PrimaryOnly\",,,\"False\",\"T\",\"EveryTick\")","v":188.89},-1.0010482180293632E-2,{"$f":"RTD(\"cqg.rtd\",,\"StudyData\", \"Close(\"&$D$12&\") when LocalYear(\"&$D$12&\")=\"&$D$3&\" and localMonth(\"&$D$12&\") =\"&$E$3&\" and LocalDay(\"&$D$12&\")=\"&$F$3&\" and Barix(\"&$D$12&\",reference:=StartOfSession)=\"&A39&\"\", \"Bar\", \"\", \"Close\",\"5\",\"0\",\"PrimaryOnly\",,,\"False\",\"T\",\"EveryTick\")","v":190.76},3.1463030938648284E-4,{"$f":"RTD(\"cqg.rtd\",,\"StudyData\", \"Close(\"&$D$12&\") when LocalYear(\"&$D$12&\")=\"&$D$4&\" and localMonth(\"&$D$12&\") =\"&$E$4&\" and LocalDay(\"&$D$12&\")=\"&$F$4&\" and Barix(\"&$D$12&\",reference:=StartOfSession)=\"&A39&\"\", \"Bar\", \"\", \"Close\",\"5\",\"0\",\"PrimaryOnly\",,,\"False\",\"T\",\"EveryTick\")","v":192.31},1.560224672352878E-4,{"$f":"RTD(\"cqg.rtd\",,\"StudyData\", \"Close(\"&$D$12&\") when LocalYear(\"&$D$12&\")=\"&$D$5&\" and localMonth(\"&$D$12&\") =\"&$E$5&\" and LocalDay(\"&$D$12&\")=\"&$F$5&\" and Barix(\"&$D$12&\",reference:=StartOfSession)=\"&A39&\"\", \"Bar\", \"\", \"Close\",\"5\",\"0\",\"PrimaryOnly\",,,\"False\",\"T\",\"EveryTick\")","v":191.76},2.7715316634419345E-3,{"$f":"RTD(\"cqg.rtd\",,\"StudyData\", \"Close(\"&$D$12&\") when LocalYear(\"&$D$12&\")=\"&$D$6&\" and localMonth(\"&$D$12&\") =\"&$E$6&\" and LocalDay(\"&$D$12&\")=\"&$F$6&\" and Barix(\"&$D$12&\",reference:=StartOfSession)=\"&A39&\"\", \"Bar\", \"\", \"Close\",\"5\",\"0\",\"PrimaryOnly\",,,\"False\",\"T\",\"EveryTick\")","v":191.62},-4.1731872717779911E-4,{"$f":"RTD(\"cqg.rtd\",,\"StudyData\", \"Close(\"&$D$12&\") when LocalYear(\"&$D$12&\")=\"&$D$7&\" and localMonth(\"&$D$12&\") =\"&$E$7&\" and LocalDay(\"&$D$12&\")=\"&$F$7&\" and Barix(\"&$D$12&\",reference:=StartOfSession)=\"&A39&\"\", \"Bar\", \"\", \"Close\",\"5\",\"0\",\"PrimaryOnly\",,,\"False\",\"T\",\"EveryTick\")","v":190.86},-1.3439470691615808E-2,{"$f":"RTD(\"cqg.rtd\",,\"StudyData\", \"Close(\"&$D$12&\") when LocalYear(\"&$D$12&\")=\"&$D$8&\" and localMonth(\"&$D$12&\") =\"&$E$8&\" and LocalDay(\"&$D$12&\")=\"&$F$8&\" and Barix(\"&$D$12&\",reference:=StartOfSession)=\"&A39&\"\", \"Bar\", \"\", \"Close\",\"5\",\"0\",\"PrimaryOnly\",,,\"False\",\"T\",\"EveryTick\")","v":193.3},-3.5055160325805673E-3,{"$f":"RTD(\"cqg.rtd\",,\"StudyData\", \"Close(\"&$D$12&\") when LocalYear(\"&$D$12&\")=\"&$D$9&\" and localMonth(\"&$D$12&\") =\"&$E$9&\" and LocalDay(\"&$D$12&\")=\"&$F$9&\" and Barix(\"&$D$12&\",reference:=StartOfSession)=\"&A39&\"\", \"Bar\", \"\", \"Close\",\"5\",\"0\",\"PrimaryOnly\",,,\"False\",\"T\",\"EveryTick\")","v":192.75},-2.8969013501629623E-3,{"$f":"RTD(\"cqg.rtd\",,\"StudyData\", \"Close(\"&$D$12&\") when LocalYear(\"&$D$12&\")=\"&$D$10&\" and localMonth(\"&$D$12&\") =\"&$E$10&\" and LocalDay(\"&$D$12&\")=\"&$F$10&\" and Barix(\"&$D$12&\",reference:=StartOfSession)=\"&A39&\"\", \"Bar\", \"\", \"Close\",\"5\",\"0\",\"PrimaryOnly\",,,\"False\",\"T\",\"EveryTick\")","v":193.09},6.5683156961892867E-3,null,null,null,""]
[39,"11:45:00",{"$f":"C39+1","v":-38},{"$f":" RTD(\"cqg.rtd\",,\"StudyData\", $D$12,  \"Tick\", \"FlatTicks=0\", \"Tick\",\"D\",C40,\"PrimaryOnly\")","v":187.88},null,"YM",null,{"$f":"RTD(\"cqg.rtd\",,\"StudyData\", \"Close(\"&$D$12&\") when LocalYear(\"&$D$12&\")=\"&$D$1&\" and localMonth(\"&$D$12&\") =\"&$E$1&\" and LocalDay(\"&$D$12&\")=\"&$F$1&\" and Barix(\"&$D$12&\",reference:=StartOfSession)=\"&A40&\"\", \"Bar\", \"\", \"Close\",\"5\",\"0\",\"PrimaryOnly\",,,\"False\",\"T\",\"EveryTick\")","v":""},{"$error":"#N/A"},{"$f":"RTD(\"cqg.rtd\",,\"StudyData\", \"Close(\"&$D$12&\") when LocalYear(\"&$D$12&\")=\"&$D$2&\" and localMonth(\"&$D$12&\") =\"&$E$2&\" and LocalDay(\"&$D$12&\")=\"&$F$2&\" and Barix(\"&$D$12&\",reference:=StartOfSession)=\"&A40&\"\", \"Bar\", \"\", \"Close\",\"5\",\"0\",\"PrimaryOnly\",,,\"False\",\"T\",\"EveryTick\")","v":188.92},-9.8532494758911092E-3,{"$f":"RTD(\"cqg.rtd\",,\"StudyData\", \"Close(\"&$D$12&\") when LocalYear(\"&$D$12&\")=\"&$D$3&\" and localMonth(\"&$D$12&\") =\"&$E$3&\" and LocalDay(\"&$D$12&\")=\"&$F$3&\" and Barix(\"&$D$12&\",reference:=StartOfSession)=\"&A40&\"\", \"Bar\", \"\", \"Close\",\"5\",\"0\",\"PrimaryOnly\",,,\"False\",\"T\",\"EveryTick\")","v":190.64},-3.1463030938648284E-4,{"$f":"RTD(\"cqg.rtd\",,\"StudyData\", \"Close(\"&$D$12&\") when LocalYear(\"&$D$12&\")=\"&$D$4&\" and localMonth(\"&$D$12&\") =\"&$E$4&\" and LocalDay(\"&$D$12&\")=\"&$F$4&\" and Barix(\"&$D$12&\",reference:=StartOfSession)=\"&A40&\"\", \"Bar\", \"\", \"Close\",\"5\",\"0\",\"PrimaryOnly\",,,\"False\",\"T\",\"EveryTick\")","v":192.2},-4.1605991262748339E-4,{"$f":"RTD(\"cqg.rtd\",,\"StudyData\", \"Close(\"&$D$12&\") when LocalYear(\"&$D$12&\")=\"&$D$5&\" and localMonth(\"&$D$12&\") =\"&$E$5&\" and LocalDay(\"&$D$12&\")=\"&$F$5&\" and Barix(\"&$D$12&\",reference:=StartOfSession)=\"&A40&\"\", \"Bar\", \"\", \"Close\",\"5\",\"0\",\"PrimaryOnly\",,,\"False\",\"T\",\"EveryTick\")","v":191.77},2.8238247136956572E-3,{"$f":"RTD(\"cqg.rtd\",,\"StudyData\", \"Close(\"&$D$12&\") when LocalYear(\"&$D$12&\")=\"&$D$6&\" and localMonth(\"&$D$12&\") =\"&$E$6&\" and LocalDay(\"&$D$12&\")=\"&$F$6&\" and Barix(\"&$D$12&\",reference:=StartOfSession)=\"&A40&\"\", \"Bar\", \"\", \"Close\",\"5\",\"0\",\"PrimaryOnly\",,,\"False\",\"T\",\"EveryTick\")","v":191.67},-1.5649452269171174E-4,{"$f":"RTD(\"cqg.rtd\",,\"StudyData\", \"Close(\"&$D$12&\") when LocalYear(\"&$D$12&\")=\"&$D$7&\" and localMonth(\"&$D$12&\") =\"&$E$7&\" and LocalDay(\"&$D$12&\")=\"&$F$7&\" and Barix(\"&$D$12&\",reference:=StartOfSession)=\"&A40&\"\", \"Bar\", \"\", \"Close\",\"5\",\"0\",\"PrimaryOnly\",,,\"False\",\"T\",\"EveryTick\")","v":190.92},-1.3129329060270962E-2,{"$f":"RTD(\"cqg.rtd\",,\"StudyData\", \"Close(\"&$D$12&\") when LocalYear(\"&$D$12&\")=\"&$D$8&\" and localMonth(\"&$D$12&\") =\"&$E$8&\" and LocalDay(\"&$D$12&\")=\"&$F$8&\" and Barix(\"&$D$12&\",reference:=StartOfSession)=\"&A40&\"\", \"Bar\", \"\", \"Close\",\"5\",\"0\",\"PrimaryOnly\",,,\"False\",\"T\",\"EveryTick\")","v":193.01},-5.0005155170636095E-3,{"$f":"RTD(\"cqg.rtd\",,\"StudyData\", \"Close(\"&$D$12&\") when LocalYear(\"&$D$12&\")=\"&$D$9&\" and localMonth(\"&$D$12&\") =\"&$E$9&\" and LocalDay(\"&$D$12&\")=\"&$F$9&\" and Barix(\"&$D$12&\",reference:=StartOfSession)=\"&A40&\"\", \"Bar\", \"\", \"Close\",\"5\",\"0\",\"PrimaryOnly\",,,\"False\",\"T\",\"EveryTick\")","v":192.76},-2.8451709689100995E-3,{"$f":"RTD(\"cqg.rtd\",,\"StudyData\", \"Close(\"&$D$12&\") when LocalYear(\"&$D$12&\")=\"&$D$10&\" and localMonth(\"&$D$12&\") =\"&$E$10&\" and LocalDay(\"&$D$12&\")=\"&$F$10&\" and Barix(\"&$D$12&\",reference:=StartOfSession)=\"&A40&\"\", \"Bar\", \"\", \"Close\",\"5\",\"0\",\"PrimaryOnly\",,,\"False\",\"T\",\"EveryTick\")","v":192.94},5.7863733514048124E-3,null,null,null,""]
[40,"11:50:00",-37,{"$f":" RTD(\"cqg.rtd\",,\"StudyData\", $D$12,  \"Tick\", \"FlatTicks=0\", \"Tick\",\"D\",C41,\"PrimaryOnly\")","v":187.89},null,"RTY",null,{"$f":"RTD(\"cqg.rtd\",,\"StudyData\", \"Close(\"&$D$12&\") when LocalYear(\"&$D$12&\")=\"&$D$1&\" and localMonth(\"&$D$12&\") =\"&$E$1&\" and LocalDay(\"&$D$12&\")=\"&$F$1&\" and Barix(\"&$D$12&\",reference:=StartOfSession)=\"&A41&\"\", \"Bar\", \"\", \"Close\",\"5\",\"0\",\"PrimaryOnly\",,,\"False\",\"T\",\"EveryTick\")","v":""},{"$error":"#N/A"},{"$f":"RTD(\"cqg.rtd\",,\"StudyData\", \"Close(\"&$D$12&\") when LocalYear(\"&$D$12&\")=\"&$D$2&\" and localMonth(\"&$D$12&\") =\"&$E$2&\" and LocalDay(\"&$D$12&\")=\"&$F$2&\" and Barix(\"&$D$12&\",reference:=StartOfSession)=\"&A41&\"\", \"Bar\", \"\", \"Close\",\"5\",\"0\",\"PrimaryOnly\",,,\"False\",\"T\",\"EveryTick\")","v":188.73},-1.0849056603773697E-2,{"$f":"RTD(\"cqg.rtd\",,\"StudyData\", \"Close(\"&$D$12&\") when LocalYear(\"&$D$12&\")=\"&$D$3&\" and localMonth(\"&$D$12&\") =\"&$E$3&\" and LocalDay(\"&$D$12&\")=\"&$F$3&\" and Barix(\"&$D$12&\",reference:=StartOfSession)=\"&A41&\"\", \"Bar\", \"\", \"Close\",\"5\",\"0\",\"PrimaryOnly\",,,\"False\",\"T\",\"EveryTick\")","v":190.87},8.9145254326175106E-4,{"$f":"RTD(\"cqg.rtd\",,\"StudyData\", \"Close(\"&$D$12&\") when LocalYear(\"&$D$12&\")=\"&$D$4&\" and localMonth(\"&$D$12&\") =\"&$E$4&\" and LocalDay(\"&$D$12&\")=\"&$F$4&\" and Barix(\"&$D$12&\",reference:=StartOfSession)=\"&A41&\"\", \"Bar\", \"\", \"Close\",\"5\",\"0\",\"PrimaryOnly\",,,\"False\",\"T\",\"EveryTick\")","v":192.28},0,{"$f":"RTD(\"cqg.rtd\",,\"StudyData\", \"Close(\"&$D$12&\") when LocalYear(\"&$D$12&\")=\"&$D$5&\" and localMonth(\"&$D$12&\") =\"&$E$5&\" and LocalDay(\"&$D$12&\")=\"&$F$5&\" and Barix(\"&$D$12&\",reference:=StartOfSession)=\"&A41&\"\", \"Bar\", \"\", \"Close\",\"5\",\"0\",\"PrimaryOnly\",,,\"False\",\"T\",\"EveryTick\")","v":191.77},2.8238247136956572E-3,{"$f":"RTD(\"cqg.rtd\",,\"StudyData\", \"Close(\"&$D$12&\") when LocalYear(\"&$D$12&\")=\"&$D$6&\" and localMonth(\"&$D$12&\") =\"&$E$6&\" and LocalDay(\"&$D$12&\")=\"&$F$6&\" and Barix(\"&$D$12&\",reference:=StartOfSession)=\"&A41&\"\", \"Bar\", \"\", \"Close\",\"5\",\"0\",\"PrimaryOnly\",,,\"False\",\"T\",\"EveryTick\")","v":191.81},5.7381324986965909E-4,{"$f":"RTD(\"cqg.rtd\",,\"StudyData\", \"Close(\"&$D$12&\") when LocalYear(\"&$D$12&\")=\"&$D$7&\" and localMonth(\"&$D$12&\") =\"&$E$7&\" and LocalDay(\"&$D$12&\")=\"&$F$7&\" and Barix(\"&$D$12&\",reference:=StartOfSession)=\"&A41&\"\", \"Bar\", \"\", \"Close\",\"5\",\"0\",\"PrimaryOnly\",,,\"False\",\"T\",\"EveryTick\")","v":191.08},-1.230228471001755E-2,{"$f":"RTD(\"cqg.rtd\",,\"StudyData\", \"Close(\"&$D$12&\") when LocalYear(\"&$D$12&\")=\"&$D$8&\" and localMonth(\"&$D$12&\") =\"&$E$8&\" and LocalDay(\"&$D$12&\")=\"&$F$8&\" and Barix(\"&$D$12&\",reference:=StartOfSession)=\"&A41&\"\", \"Bar\", \"\", \"Close\",\"5\",\"0\",\"PrimaryOnly\",,,\"False\",\"T\",\"EveryTick\")","v":193.07},-4.6912052788947141E-3,{"$f":"RTD(\"cqg.rtd\",,\"StudyData\", \"Close(\"&$D$12&\") when LocalYear(\"&$D$12&\")=\"&$D$9&\" and localMonth(\"&$D$12&\") =\"&$E$9&\" and LocalDay(\"&$D$12&\")=\"&$F$9&\" and Barix(\"&$D$12&\",reference:=StartOfSession)=\"&A41&\"\", \"Bar\", \"\", \"Close\",\"5\",\"0\",\"PrimaryOnly\",,,\"False\",\"T\",\"EveryTick\")","v":192.92},-2.01748486886356E-3,{"$f":"RTD(\"cqg.rtd\",,\"StudyData\", \"Close(\"&$D$12&\") when LocalYear(\"&$D$12&\")=\"&$D$10&\" and localMonth(\"&$D$12&\") =\"&$E$10&\" and LocalDay(\"&$D$12&\")=\"&$F$10&\" and Barix(\"&$D$12&\",reference:=StartOfSession)=\"&A41&\"\", \"Bar\", \"\", \"Close\",\"5\",\"0\",\"PrimaryOnly\",,,\"False\",\"T\",\"EveryTick\")","v":193.1},6.6204451858415357E-3,null,null,null,""]
[41,"11:55:00",-36,{"$f":" RTD(\"cqg.rtd\",,\"StudyData\", $D$12,  \"Tick\", \"FlatTicks=0\", \"Tick\",\"D\",C42,\"PrimaryOnly\")","v":187.9},null,"EMD",null,{"$f":"RTD(\"cqg.rtd\",,\"StudyData\", \"Close(\"&$D$12&\") when LocalYear(\"&$D$12&\")=\"&$D$1&\" and localMonth(\"&$D$12&\") =\"&$E$1&\" and LocalDay(\"&$D$12&\")=\"&$F$1&\" and Barix(\"&$D$12&\",reference:=StartOfSession)=\"&A42&\"\", \"Bar\", \"\", \"Close\",\"5\",\"0\",\"PrimaryOnly\",,,\"False\",\"T\",\"EveryTick\")","v":""},{"$error":"#N/A"},{"$f":"RTD(\"cqg.rtd\",,\"StudyData\", \"Close(\"&$D$12&\") when LocalYear(\"&$D$12&\")=\"&$D$2&\" and localMonth(\"&$D$12&\") =\"&$E$2&\" and LocalDay(\"&$D$12&\")=\"&$F$2&\" and Barix(\"&$D$12&\",reference:=StartOfSession)=\"&A42&\"\", \"Bar\", \"\", \"Close\",\"5\",\"0\",\"PrimaryOnly\",,,\"False\",\"T\",\"EveryTick\")","v":188.84},-1.0272536687631069E-2,{"$f":"RTD(\"cqg.rtd\",,\"StudyData\", \"Close(\"&$D$12&\") when LocalYear(\"&$D$12&\")=\"&$D$3&\" and localMonth(\"&$D$12&\") =\"&$E$3&\" and LocalDay(\"&$D$12&\")=\"&$F$3&\" and Barix(\"&$D$12&\",reference:=StartOfSession)=\"&A42&\"\", \"Bar\", \"\", \"Close\",\"5\",\"0\",\"PrimaryOnly\",,,\"False\",\"T\",\"EveryTick\")","v":190.76},3.1463030938648284E-4,{"$f":"RTD(\"cqg.rtd\",,\"StudyData\", \"Close(\"&$D$12&\") when LocalYear(\"&$D$12&\")=\"&$D$4&\" and localMonth(\"&$D$12&\") =\"&$E$4&\" and LocalDay(\"&$D$12&\")=\"&$F$4&\" and Barix(\"&$D$12&\",reference:=StartOfSession)=\"&A42&\"\", \"Bar\", \"\", \"Close\",\"5\",\"0\",\"PrimaryOnly\",,,\"False\",\"T\",\"EveryTick\")","v":192.18},-5.2007489078424339E-4,{"$f":"RTD(\"cqg.rtd\",,\"StudyData\", \"Close(\"&$D$12&\") when LocalYear(\"&$D$12&\")=\"&$D$5&\" and localMonth(\"&$D$12&\") =\"&$E$5&\" and LocalDay(\"&$D$12&\")=\"&$F$5&\" and Barix(\"&$D$12&\",reference:=StartOfSession)=\"&A42&\"\", \"Bar\", \"\", \"Close\",\"5\",\"0\",\"PrimaryOnly\",,,\"False\",\"T\",\"EveryTick\")","v":191.82},3.0852899649636742E-3,{"$f":"RTD(\"cqg.rtd\",,\"StudyData\", \"Close(\"&$D$12&\") when LocalYear(\"&$D$12&\")=\"&$D$6&\" and localMonth(\"&$D$12&\") =\"&$E$6&\" and LocalDay(\"&$D$12&\")=\"&$F$6&\" and Barix(\"&$D$12&\",reference:=StartOfSession)=\"&A42&\"\", \"Bar\", \"\", \"Close\",\"5\",\"0\",\"PrimaryOnly\",,,\"False\",\"T\",\"EveryTick\")","v":191.72},1.0432968179452391E-4,{"$f":"RTD(\"cqg.rtd\",,\"StudyData\", \"Close(\"&$D$12&\") when LocalYear(\"&$D$12&\")=\"&$D$7&\" and localMonth(\"&$D$12&\") =\"&$E$7&\" and LocalDay(\"&$D$12&\")=\"&$F$7&\" and Barix(\"&$D$12&\",reference:=StartOfSession)=\"&A42&\"\", \"Bar\", \"\", \"Close\",\"5\",\"0\",\"PrimaryOnly\",,,\"False\",\"T\",\"EveryTick\")","v":191.07},-1.235397498190848E-2,{"$f":"RTD(\"cqg.rtd\",,\"StudyData\", \"Close(\"&$D$12&\") when LocalYear(\"&$D$12&\")=\"&$D$8&\" and localMonth(\"&$D$12&\") =\"&$E$8&\" and LocalDay(\"&$D$12&\")=\"&$F$8&\" and Barix(\"&$D$12&\",reference:=StartOfSession)=\"&A42&\"\", \"Bar\", \"\", \"Close\",\"5\",\"0\",\"PrimaryOnly\",,,\"False\",\"T\",\"EveryTick\")","v":193.22},-3.9179296834724762E-3,{"$f":"RTD(\"cqg.rtd\",,\"StudyData\", \"Close(\"&$D$12&\") when LocalYear(\"&$D$12&\")=\"&$D$9&\" and localMonth(\"&$D$12&\") =\"&$E$9&\" and LocalDay(\"&$D$12&\")=\"&$F$9&\" and Barix(\"&$D$12&\",reference:=StartOfSession)=\"&A42&\"\", \"Bar\", \"\", \"Close\",\"5\",\"0\",\"PrimaryOnly\",,,\"False\",\"T\",\"EveryTick\")","v":192.97},-1.758832962598952E-3,{"$f":"RTD(\"cqg.rtd\",,\"StudyData\", \"Close(\"&$D$12&\") when LocalYear(\"&$D$12&\")=\"&$D$10&\" and localMonth(\"&$D$12&\") =\"&$E$10&\" and LocalDay(\"&$D$12&\")=\"&$F$10&\" and Barix(\"&$D$12&\",reference:=StartOfSession)=\"&A42&\"\", \"Bar\", \"\", \"Close\",\"5\",\"0\",\"PrimaryOnly\",,,\"False\",\"T\",\"EveryTick\")","v":193.1},6.6204451858415357E-3,null,null,null,""]
[42,"12:00:00",-35,{"$f":" RTD(\"cqg.rtd\",,\"StudyData\", $D$12,  \"Tick\", \"FlatTicks=0\", \"Tick\",\"D\",C43,\"PrimaryOnly\")","v":187.89},null,"FTS",null,{"$f":"RTD(\"cqg.rtd\",,\"StudyData\", \"Close(\"&$D$12&\") when LocalYear(\"&$D$12&\")=\"&$D$1&\" and localMonth(\"&$D$12&\") =\"&$E$1&\" and LocalDay(\"&$D$12&\")=\"&$F$1&\" and Barix(\"&$D$12&\",reference:=StartOfSession)=\"&A43&\"\", \"Bar\", \"\", \"Close\",\"5\",\"0\",\"PrimaryOnly\",,,\"False\",\"T\",\"EveryTick\")","v":""},{"$error":"#N/A"},{"$f":"RTD(\"cqg.rtd\",,\"StudyData\", \"Close(\"&$D$12&\") when LocalYear(\"&$D$12&\")=\"&$D$2&\" and localMonth(\"&$D$12&\") =\"&$E$2&\" and LocalDay(\"&$D$12&\")=\"&$F$2&\" and Barix(\"&$D$12&\",reference:=StartOfSession)=\"&A43&\"\", \"Bar\", \"\", \"Close\",\"5\",\"0\",\"PrimaryOnly\",,,\"False\",\"T\",\"EveryTick\")","v":188.79},-1.0534591194968653E-2,{"$f":"RTD(\"cqg.rtd\",,\"StudyData\", \"Close(\"&$D$12&\") when LocalYear(\"&$D$12&\")=\"&$D$3&\" and localMonth(\"&$D$12&\") =\"&$E$3&\" and LocalDay(\"&$D$12&\")=\"&$F$3&\" and Barix(\"&$D$12&\",reference:=StartOfSession)=\"&A43&\"\", \"Bar\", \"\", \"Close\",\"5\",\"0\",\"PrimaryOnly\",,,\"False\",\"T\",\"EveryTick\")","v":190.76},3.1463030938648284E-4,{"$f":"RTD(\"cqg.rtd\",,\"StudyData\", \"Close(\"&$D$12&\") when LocalYear(\"&$D$12&\")=\"&$D$4&\" and localMonth(\"&$D$12&\") =\"&$E$4&\" and LocalDay(\"&$D$12&\")=\"&$F$4&\" and Barix(\"&$D$12&\",reference:=StartOfSession)=\"&A43&\"\", \"Bar\", \"\", \"Close\",\"5\",\"0\",\"PrimaryOnly\",,,\"False\",\"T\",\"EveryTick\")","v":192.18},-5.2007489078424339E-4,{"$f":"RTD(\"cqg.rtd\",,\"StudyData\", \"Close(\"&$D$12&\") when LocalYear(\"&$D$12&\")=\"&$D$5&\" and localMonth(\"&$D$12&\") =\"&$E$5&\" and LocalDay(\"&$D$12&\")=\"&$F$5&\" and Barix(\"&$D$12&\",reference:=StartOfSession)=\"&A43&\"\", \"Bar\", \"\", \"Close\",\"5\",\"0\",\"PrimaryOnly\",,,\"False\",\"T\",\"EveryTick\")","v":191.95},3.7650996182607274E-3,{"$f":"RTD(\"cqg.rtd\",,\"StudyData\", \"Close(\"&$D$12&\") when LocalYear(\"&$D$12&\")=\"&$D$6&\" and localMonth(\"&$D$12&\") =\"&$E$6&\" and LocalDay(\"&$D$12&\")=\"&$F$6&\" and Barix(\"&$D$12&\",reference:=StartOfSession)=\"&A43&\"\", \"Bar\", \"\", \"Close\",\"5\",\"0\",\"PrimaryOnly\",,,\"False\",\"T\",\"EveryTick\")","v":191.55},-7.8247261345841036E-4,{"$f":"RTD(\"cqg.rtd\",,\"StudyData\", \"Close(\"&$D$12&\") when LocalYear(\"&$D$12&\")=\"&$D$7&\" and localMonth(\"&$D$12&\") =\"&$E$7&\" and LocalDay(\"&$D$12&\")=\"&$F$7&\" and Barix(\"&$D$12&\",reference:=StartOfSession)=\"&A43&\"\", \"Bar\", \"\", \"Close\",\"5\",\"0\",\"PrimaryOnly\",,,\"False\",\"T\",\"EveryTick\")","v":191.07},-1.235397498190848E-2,{"$f":"RTD(\"cqg.rtd\",,\"StudyData\", \"Close(\"&$D$12&\") when LocalYear(\"&$D$12&\")=\"&$D$8&\" and localMonth(\"&$D$12&\") =\"&$E$8&\" and LocalDay(\"&$D$12&\")=\"&$F$8&\" and Barix(\"&$D$12&\",reference:=StartOfSession)=\"&A43&\"\", \"Bar\", \"\", \"Close\",\"5\",\"0\",\"PrimaryOnly\",,,\"False\",\"T\",\"EveryTick\")","v":193.34},-3.299309207134686E-3,{"$f":"RTD(\"cqg.rtd\",,\"StudyData\", \"Close(\"&$D$12&\") when LocalYear(\"&$D$12&\")=\"&$D$9&\" and localMonth(\"&$D$12&\") =\"&$E$9&\" and LocalDay(\"&$D$12&\")=\"&$F$9&\" and Barix(\"&$D$12&\",reference:=StartOfSession)=\"&A43&\"\", \"Bar\", \"\", \"Close\",\"5\",\"0\",\"PrimaryOnly\",,,\"False\",\"T\",\"EveryTick\")","v":193.03},-1.4484506750814812E-3,{"$f":"RTD(\"cqg.rtd\",,\"StudyData\", \"Close(\"&$D$12&\") when LocalYear(\"&$D$12&\")=\"&$D$10&\" and localMonth(\"&$D$12&\") =\"&$E$10&\" and LocalDay(\"&$D$12&\")=\"&$F$10&\" and Barix(\"&$D$12&\",reference:=StartOfSession)=\"&A43&\"\", \"Bar\", \"\", \"Close\",\"5\",\"0\",\"PrimaryOnly\",,,\"False\",\"T\",\"EveryTick\")","v":193.03},6.2555387582754968E-3,null,null,null,""]
[43,"12:05:00",-34,{"$f":" RTD(\"cqg.rtd\",,\"StudyData\", $D$12,  \"Tick\", \"FlatTicks=0\", \"Tick\",\"D\",C44,\"PrimaryOnly\")","v":187.87},null,"BTC",null,{"$f":"RTD(\"cqg.rtd\",,\"StudyData\", \"Close(\"&$D$12&\") when LocalYear(\"&$D$12&\")=\"&$D$1&\" and localMonth(\"&$D$12&\") =\"&$E$1&\" and LocalDay(\"&$D$12&\")=\"&$F$1&\" and Barix(\"&$D$12&\",reference:=StartOfSession)=\"&A44&\"\", \"Bar\", \"\", \"Close\",\"5\",\"0\",\"PrimaryOnly\",,,\"False\",\"T\",\"EveryTick\")","v":""},{"$error":"#N/A"},{"$f":"RTD(\"cqg.rtd\",,\"StudyData\", \"Close(\"&$D$12&\") when LocalYear(\"&$D$12&\")=\"&$D$2&\" and localMonth(\"&$D$12&\") =\"&$E$2&\" and LocalDay(\"&$D$12&\")=\"&$F$2&\" and Barix(\"&$D$12&\",reference:=StartOfSession)=\"&A44&\"\", \"Bar\", \"\", \"Close\",\"5\",\"0\",\"PrimaryOnly\",,,\"False\",\"T\",\"EveryTick\")","v":189.03},-9.2767295597484811E-3,{"$f":"RTD(\"cqg.rtd\",,\"StudyData\", \"Close(\"&$D$12&\") when LocalYear(\"&$D$12&\")=\"&$D$3&\" and localMonth(\"&$D$12&\") =\"&$E$3&\" and LocalDay(\"&$D$12&\")=\"&$F$3&\" and Barix(\"&$D$12&\",reference:=StartOfSession)=\"&A44&\"\", \"Bar\", \"\", \"Close\",\"5\",\"0\",\"PrimaryOnly\",,,\"False\",\"T\",\"EveryTick\")","v":190.84},7.3413738856850967E-4,{"$f":"RTD(\"cqg.rtd\",,\"StudyData\", \"Close(\"&$D$12&\") when LocalYear(\"&$D$12&\")=\"&$D$4&\" and localMonth(\"&$D$12&\") =\"&$E$4&\" and LocalDay(\"&$D$12&\")=\"&$F$4&\" and Barix(\"&$D$12&\",reference:=StartOfSession)=\"&A44&\"\", \"Bar\", \"\", \"Close\",\"5\",\"0\",\"PrimaryOnly\",,,\"False\",\"T\",\"EveryTick\")","v":192.05},-1.1961722488037746E-3,{"$f":"RTD(\"cqg.rtd\",,\"StudyData\", \"Close(\"&$D$12&\") when LocalYear(\"&$D$12&\")=\"&$D$5&\" and localMonth(\"&$D$12&\") =\"&$E$5&\" and LocalDay(\"&$D$12&\")=\"&$F$5&\" and Barix(\"&$D$12&\",reference:=StartOfSession)=\"&A44&\"\", \"Bar\", \"\", \"Close\",\"5\",\"0\",\"PrimaryOnly\",,,\"False\",\"T\",\"EveryTick\")","v":192.2},5.0724258746012597E-3,{"$f":"RTD(\"cqg.rtd\",,\"StudyData\", \"Close(\"&$D$12&\") when LocalYear(\"&$D$12&\")=\"&$D$6&\" and localMonth(\"&$D$12&\") =\"&$E$6&\" and LocalDay(\"&$D$12&\")=\"&$F$6&\" and Barix(\"&$D$12&\",reference:=StartOfSession)=\"&A44&\"\", \"Bar\", \"\", \"Close\",\"5\",\"0\",\"PrimaryOnly\",,,\"False\",\"T\",\"EveryTick\")","v":191.55},-7.8247261345841036E-4,{"$f":"RTD(\"cqg.rtd\",,\"StudyData\", \"Close(\"&$D$12&\") when LocalYear(\"&$D$12&\")=\"&$D$7&\" and localMonth(\"&$D$12&\") =\"&$E$7&\" and LocalDay(\"&$D$12&\")=\"&$F$7&\" and Barix(\"&$D$12&\",reference:=StartOfSession)=\"&A44&\"\", \"Bar\", \"\", \"Close\",\"5\",\"0\",\"PrimaryOnly\",,,\"False\",\"T\",\"EveryTick\")","v":191.12},-1.2095523622454271E-2,{"$f":"RTD(\"cqg.rtd\",,\"StudyData\", \"Close(\"&$D$12&\") when LocalYear(\"&$D$12&\")=\"&$D$8&\" and localMonth(\"&$D$12&\") =\"&$E$8&\" and LocalDay(\"&$D$12&\")=\"&$F$8&\" and Barix(\"&$D$12&\",reference:=StartOfSession)=\"&A44&\"\", \"Bar\", \"\", \"Close\",\"5\",\"0\",\"PrimaryOnly\",,,\"False\",\"T\",\"EveryTick\")","v":193.2},-4.0210330961954902E-3,{"$f":"RTD(\"cqg.rtd\",,\"StudyData\", \"Close(\"&$D$12&\") when LocalYear(\"&$D$12&\")=\"&$D$9&\" and localMonth(\"&$D$12&\") =\"&$E$9&\" and LocalDay(\"&$D$12&\")=\"&$F$9&\" and Barix(\"&$D$12&\",reference:=StartOfSession)=\"&A44&\"\", \"Bar\", \"\", \"Close\",\"5\",\"0\",\"PrimaryOnly\",,,\"False\",\"T\",\"EveryTick\")","v":193.01},-1.5519114375873537E-3,{"$f":"RTD(\"cqg.rtd\",,\"StudyData\", \"Close(\"&$D$12&\") when LocalYear(\"&$D$12&\")=\"&$D$10&\" and localMonth(\"&$D$12&\") =\"&$E$10&\" and LocalDay(\"&$D$12&\")=\"&$F$10&\" and Barix(\"&$D$12&\",reference:=StartOfSession)=\"&A44&\"\", \"Bar\", \"\", \"Close\",\"5\",\"0\",\"PrimaryOnly\",,,\"False\",\"T\",\"EveryTick\")","v":193.11},6.6725746754939322E-3,null,null,null,""]
[44,"12:10:00",-33,{"$f":" RTD(\"cqg.rtd\",,\"StudyData\", $D$12,  \"Tick\", \"FlatTicks=0\", \"Tick\",\"D\",C45,\"PrimaryOnly\")","v":187.89},null,null,null,{"$f":"RTD(\"cqg.rtd\",,\"StudyData\", \"Close(\"&$D$12&\") when LocalYear(\"&$D$12&\")=\"&$D$1&\" and localMonth(\"&$D$12&\") =\"&$E$1&\" and LocalDay(\"&$D$12&\")=\"&$F$1&\" and Barix(\"&$D$12&\",reference:=StartOfSession)=\"&A45&\"\", \"Bar\", \"\", \"Close\",\"5\",\"0\",\"PrimaryOnly\",,,\"False\",\"T\",\"EveryTick\")","v":""},{"$error":"#N/A"},{"$f":"RTD(\"cqg.rtd\",,\"StudyData\", \"Close(\"&$D$12&\") when LocalYear(\"&$D$12&\")=\"&$D$2&\" and localMonth(\"&$D$12&\") =\"&$E$2&\" and LocalDay(\"&$D$12&\")=\"&$F$2&\" and Barix(\"&$D$12&\",reference:=StartOfSession)=\"&A45&\"\", \"Bar\", \"\", \"Close\",\"5\",\"0\",\"PrimaryOnly\",,,\"False\",\"T\",\"EveryTick\")","v":188.96},-9.6436058700209819E-3,{"$f":"RTD(\"cqg.rtd\",,\"StudyData\", \"Close(\"&$D$12&\") when LocalYear(\"&$D$12&\")=\"&$D$3&\" and localMonth(\"&$D$12&\") =\"&$E$3&\" and LocalDay(\"&$D$12&\")=\"&$F$3&\" and Barix(\"&$D$12&\",reference:=StartOfSession)=\"&A45&\"\", \"Bar\", \"\", \"Close\",\"5\",\"0\",\"PrimaryOnly\",,,\"False\",\"T\",\"EveryTick\")","v":190.96},1.3633980073414753E-3,{"$f":"RTD(\"cqg.rtd\",,\"StudyData\", \"Close(\"&$D$12&\") when LocalYear(\"&$D$12&\")=\"&$D$4&\" and localMonth(\"&$D$12&\") =\"&$E$4&\" and LocalDay(\"&$D$12&\")=\"&$F$4&\" and Barix(\"&$D$12&\",reference:=StartOfSession)=\"&A45&\"\", \"Bar\", \"\", \"Close\",\"5\",\"0\",\"PrimaryOnly\",,,\"False\",\"T\",\"EveryTick\")","v":191.99},-1.5082171832743502E-3,{"$f":"RTD(\"cqg.rtd\",,\"StudyData\", \"Close(\"&$D$12&\") when LocalYear(\"&$D$12&\")=\"&$D$5&\" and localMonth(\"&$D$12&\") =\"&$E$5&\" and LocalDay(\"&$D$12&\")=\"&$F$5&\" and Barix(\"&$D$12&\",reference:=StartOfSession)=\"&A45&\"\", \"Bar\", \"\", \"Close\",\"5\",\"0\",\"PrimaryOnly\",,,\"False\",\"T\",\"EveryTick\")","v":192.22},5.177011975108556E-3,{"$f":"RTD(\"cqg.rtd\",,\"StudyData\", \"Close(\"&$D$12&\") when LocalYear(\"&$D$12&\")=\"&$D$6&\" and localMonth(\"&$D$12&\") =\"&$E$6&\" and LocalDay(\"&$D$12&\")=\"&$F$6&\" and Barix(\"&$D$12&\",reference:=StartOfSession)=\"&A45&\"\", \"Bar\", \"\", \"Close\",\"5\",\"0\",\"PrimaryOnly\",,,\"False\",\"T\",\"EveryTick\")","v":191.78},4.1731872717794738E-4,{"$f":"RTD(\"cqg.rtd\",,\"StudyData\", \"Close(\"&$D$12&\") when LocalYear(\"&$D$12&\")=\"&$D$7&\" and localMonth(\"&$D$12&\") =\"&$E$7&\" and LocalDay(\"&$D$12&\")=\"&$F$7&\" and Barix(\"&$D$12&\",reference:=StartOfSession)=\"&A45&\"\", \"Bar\", \"\", \"Close\",\"5\",\"0\",\"PrimaryOnly\",,,\"False\",\"T\",\"EveryTick\")","v":191.06},-1.2405665253799264E-2,{"$f":"RTD(\"cqg.rtd\",,\"StudyData\", \"Close(\"&$D$12&\") when LocalYear(\"&$D$12&\")=\"&$D$8&\" and localMonth(\"&$D$12&\") =\"&$E$8&\" and LocalDay(\"&$D$12&\")=\"&$F$8&\" and Barix(\"&$D$12&\",reference:=StartOfSession)=\"&A45&\"\", \"Bar\", \"\", \"Close\",\"5\",\"0\",\"PrimaryOnly\",,,\"False\",\"T\",\"EveryTick\")","v":193.25},-3.7632745643880285E-3,{"$f":"RTD(\"cqg.rtd\",,\"StudyData\", \"Close(\"&$D$12&\") when LocalYear(\"&$D$12&\")=\"&$D$9&\" and localMonth(\"&$D$12&\") =\"&$E$9&\" and LocalDay(\"&$D$12&\")=\"&$F$9&\" and Barix(\"&$D$12&\",reference:=StartOfSession)=\"&A45&\"\", \"Bar\", \"\", \"Close\",\"5\",\"0\",\"PrimaryOnly\",,,\"False\",\"T\",\"EveryTick\")","v":192.96},-1.8105633438518147E-3,{"$f":"RTD(\"cqg.rtd\",,\"StudyData\", \"Close(\"&$D$12&\") when LocalYear(\"&$D$12&\")=\"&$D$10&\" and localMonth(\"&$D$12&\") =\"&$E$10&\" and LocalDay(\"&$D$12&\")=\"&$F$10&\" and Barix(\"&$D$12&\",reference:=StartOfSession)=\"&A45&\"\", \"Bar\", \"\", \"Close\",\"5\",\"0\",\"PrimaryOnly\",,,\"False\",\"T\",\"EveryTick\")","v":193.15},6.8810926341030757E-3,null,null,null,""]
[45,"12:15:00",-32,{"$f":" RTD(\"cqg.rtd\",,\"StudyData\", $D$12,  \"Tick\", \"FlatTicks=0\", \"Tick\",\"D\",C46,\"PrimaryOnly\")","v":187.9},null,null,null,{"$f":"RTD(\"cqg.rtd\",,\"StudyData\", \"Close(\"&$D$12&\") when LocalYear(\"&$D$12&\")=\"&$D$1&\" and localMonth(\"&$D$12&\") =\"&$E$1&\" and LocalDay(\"&$D$12&\")=\"&$F$1&\" and Barix(\"&$D$12&\",reference:=StartOfSession)=\"&A46&\"\", \"Bar\", \"\", \"Close\",\"5\",\"0\",\"PrimaryOnly\",,,\"False\",\"T\",\"EveryTick\")","v":""},{"$error":"#N/A"},{"$f":"RTD(\"cqg.rtd\",,\"StudyData\", \"Close(\"&$D$12&\") when LocalYear(\"&$D$12&\")=\"&$D$2&\" and localMonth(\"&$D$12&\") =\"&$E$2&\" and LocalDay(\"&$D$12&\")=\"&$F$2&\" and Barix(\"&$D$12&\",reference:=StartOfSession)=\"&A46&\"\", \"Bar\", \"\", \"Close\",\"5\",\"0\",\"PrimaryOnly\",,,\"False\",\"T\",\"EveryTick\")","v":189.01},-9.3815513626835448E-3,{"$f":"RTD(\"cqg.rtd\",,\"StudyData\", \"Close(\"&$D$12&\") when LocalYear(\"&$D$12&\")=\"&$D$3&\" and localMonth(\"&$D$12&\") =\"&$E$3&\" and LocalDay(\"&$D$12&\")=\"&$F$3&\" and Barix(\"&$D$12&\",reference:=StartOfSession)=\"&A46&\"\", \"Bar\", \"\", \"Close\",\"5\",\"0\",\"PrimaryOnly\",,,\"False\",\"T\",\"EveryTick\")","v":190.93},1.2060828526482339E-3,{"$f":"RTD(\"cqg.rtd\",,\"StudyData\", \"Close(\"&$D$12&\") when LocalYear(\"&$D$12&\")=\"&$D$4&\" and localMonth(\"&$D$12&\") =\"&$E$4&\" and LocalDay(\"&$D$12&\")=\"&$F$4&\" and Barix(\"&$D$12&\",reference:=StartOfSession)=\"&A46&\"\", \"Bar\", \"\", \"Close\",\"5\",\"0\",\"PrimaryOnly\",,,\"False\",\"T\",\"EveryTick\")","v":192.15},-6.7609735801953119E-4,{"$f":"RTD(\"cqg.rtd\",,\"StudyData\", \"Close(\"&$D$12&\") when LocalYear(\"&$D$12&\")=\"&$D$5&\" and localMonth(\"&$D$12&\") =\"&$E$5&\" and LocalDay(\"&$D$12&\")=\"&$F$5&\" and Barix(\"&$D$12&\",reference:=StartOfSession)=\"&A46&\"\", \"Bar\", \"\", \"Close\",\"5\",\"0\",\"PrimaryOnly\",,,\"False\",\"T\",\"EveryTick\")","v":192.27},5.4384772263767218E-3,{"$f":"RTD(\"cqg.rtd\",,\"StudyData\", \"Close(\"&$D$12&\") when LocalYear(\"&$D$12&\")=\"&$D$6&\" and localMonth(\"&$D$12&\") =\"&$E$6&\" and LocalDay(\"&$D$12&\")=\"&$F$6&\" and Barix(\"&$D$12&\",reference:=StartOfSession)=\"&A46&\"\", \"Bar\", \"\", \"Close\",\"5\",\"0\",\"PrimaryOnly\",,,\"False\",\"T\",\"EveryTick\")","v":191.7},0,{"$f":"RTD(\"cqg.rtd\",,\"StudyData\", \"Close(\"&$D$12&\") when LocalYear(\"&$D$12&\")=\"&$D$7&\" and localMonth(\"&$D$12&\") =\"&$E$7&\" and LocalDay(\"&$D$12&\")=\"&$F$7&\" and Barix(\"&$D$12&\",reference:=StartOfSession)=\"&A46&\"\", \"Bar\", \"\", \"Close\",\"5\",\"0\",\"PrimaryOnly\",,,\"False\",\"T\",\"EveryTick\")","v":191.27},-1.132016954409179E-2,{"$f":"RTD(\"cqg.rtd\",,\"StudyData\", \"Close(\"&$D$12&\") when LocalYear(\"&$D$12&\")=\"&$D$8&\" and localMonth(\"&$D$12&\") =\"&$E$8&\" and LocalDay(\"&$D$12&\")=\"&$F$8&\" and Barix(\"&$D$12&\",reference:=StartOfSession)=\"&A46&\"\", \"Bar\", \"\", \"Close\",\"5\",\"0\",\"PrimaryOnly\",,,\"False\",\"T\",\"EveryTick\")","v":193.12},-4.4334467470872529E-3,{"$f":"RTD(\"cqg.rtd\",,\"StudyData\", \"Close(\"&$D$12&\") when LocalYear(\"&$D$12&\")=\"&$D$9&\" and localMonth(\"&$D$12&\") =\"&$E$9&\" and LocalDay(\"&$D$12&\")=\"&$F$9&\" and Barix(\"&$D$12&\",reference:=StartOfSession)=\"&A46&\"\", \"Bar\", \"\", \"Close\",\"5\",\"0\",\"PrimaryOnly\",,,\"False\",\"T\",\"EveryTick\")","v":192.87},-2.276136775128021E-3,{"$f":"RTD(\"cqg.rtd\",,\"StudyData\", \"Close(\"&$D$12&\") when LocalYear(\"&$D$12&\")=\"&$D$10&\" and localMonth(\"&$D$12&\") =\"&$E$10&\" and LocalDay(\"&$D$12&\")=\"&$F$10&\" and Barix(\"&$D$12&\",reference:=StartOfSession)=\"&A46&\"\", \"Bar\", \"\", \"Close\",\"5\",\"0\",\"PrimaryOnly\",,,\"False\",\"T\",\"EveryTick\")","v":193.11},6.6725746754939322E-3,null,null,null,""]
[46,"12:20:00",-31,{"$f":" RTD(\"cqg.rtd\",,\"StudyData\", $D$12,  \"Tick\", \"FlatTicks=0\", \"Tick\",\"D\",C47,\"PrimaryOnly\")","v":187.89},null,null,null,{"$f":"RTD(\"cqg.rtd\",,\"StudyData\", \"Close(\"&$D$12&\") when LocalYear(\"&$D$12&\")=\"&$D$1&\" and localMonth(\"&$D$12&\") =\"&$E$1&\" and LocalDay(\"&$D$12&\")=\"&$F$1&\" and Barix(\"&$D$12&\",reference:=StartOfSession)=\"&A47&\"\", \"Bar\", \"\", \"Close\",\"5\",\"0\",\"PrimaryOnly\",,,\"False\",\"T\",\"EveryTick\")","v":""},{"$error":"#N/A"},{"$f":"RTD(\"cqg.rtd\",,\"StudyData\", \"Close(\"&$D$12&\") when LocalYear(\"&$D$12&\")=\"&$D$2&\" and localMonth(\"&$D$12&\") =\"&$E$2&\" and LocalDay(\"&$D$12&\")=\"&$F$2&\" and Barix(\"&$D$12&\",reference:=StartOfSession)=\"&A47&\"\", \"Bar\", \"\", \"Close\",\"5\",\"0\",\"PrimaryOnly\",,,\"False\",\"T\",\"EveryTick\")","v":188.9},-9.9580712788260254E-3,{"$f":"RTD(\"cqg.rtd\",,\"StudyData\", \"Close(\"&$D$12&\") when LocalYear(\"&$D$12&\")=\"&$D$3&\" and localMonth(\"&$D$12&\") =\"&$E$3&\" and LocalDay(\"&$D$12&\")=\"&$F$3&\" and Barix(\"&$D$12&\",reference:=StartOfSession)=\"&A47&\"\", \"Bar\", \"\", \"Close\",\"5\",\"0\",\"PrimaryOnly\",,,\"False\",\"T\",\"EveryTick\")","v":191.04},1.7829050865233531E-3,{"$f":"RTD(\"cqg.rtd\",,\"StudyData\", \"Close(\"&$D$12&\") when LocalYear(\"&$D$12&\")=\"&$D$4&\" and localMonth(\"&$D$12&\") =\"&$E$4&\" and LocalDay(\"&$D$12&\")=\"&$F$4&\" and Barix(\"&$D$12&\",reference:=StartOfSession)=\"&A47&\"\", \"Bar\", \"\", \"Close\",\"5\",\"0\",\"PrimaryOnly\",,,\"False\",\"T\",\"EveryTick\")","v":192.17},-5.7208237986277114E-4,{"$f":"RTD(\"cqg.rtd\",,\"StudyData\", \"Close(\"&$D$12&\") when LocalYear(\"&$D$12&\")=\"&$D$5&\" and localMonth(\"&$D$12&\") =\"&$E$5&\" and LocalDay(\"&$D$12&\")=\"&$F$5&\" and Barix(\"&$D$12&\",reference:=StartOfSession)=\"&A47&\"\", \"Bar\", \"\", \"Close\",\"5\",\"0\",\"PrimaryOnly\",,,\"False\",\"T\",\"EveryTick\")","v":192.4},6.1182868796737754E-3,{"$f":"RTD(\"cqg.rtd\",,\"StudyData\", \"Close(\"&$D$12&\") when LocalYear(\"&$D$12&\")=\"&$D$6&\" and localMonth(\"&$D$12&\") =\"&$E$6&\" and LocalDay(\"&$D$12&\")=\"&$F$6&\" and Barix(\"&$D$12&\",reference:=StartOfSession)=\"&A47&\"\", \"Bar\", \"\", \"Close\",\"5\",\"0\",\"PrimaryOnly\",,,\"False\",\"T\",\"EveryTick\")","v":191.68},-1.0432968179437565E-4,{"$f":"RTD(\"cqg.rtd\",,\"StudyData\", \"Close(\"&$D$12&\") when LocalYear(\"&$D$12&\")=\"&$D$7&\" and localMonth(\"&$D$12&\") =\"&$E$7&\" and LocalDay(\"&$D$12&\")=\"&$F$7&\" and Barix(\"&$D$12&\",reference:=StartOfSession)=\"&A47&\"\", \"Bar\", \"\", \"Close\",\"5\",\"0\",\"PrimaryOnly\",,,\"False\",\"T\",\"EveryTick\")","v":191.31},-1.1113408456528509E-2,{"$f":"RTD(\"cqg.rtd\",,\"StudyData\", \"Close(\"&$D$12&\") when LocalYear(\"&$D$12&\")=\"&$D$8&\" and localMonth(\"&$D$12&\") =\"&$E$8&\" and LocalDay(\"&$D$12&\")=\"&$F$8&\" and Barix(\"&$D$12&\",reference:=StartOfSession)=\"&A47&\"\", \"Bar\", \"\", \"Close\",\"5\",\"0\",\"PrimaryOnly\",,,\"False\",\"T\",\"EveryTick\")","v":193.33},-3.3508609134961197E-3,{"$f":"RTD(\"cqg.rtd\",,\"StudyData\", \"Close(\"&$D$12&\") when LocalYear(\"&$D$12&\")=\"&$D$9&\" and localMonth(\"&$D$12&\") =\"&$E$9&\" and LocalDay(\"&$D$12&\")=\"&$F$9&\" and Barix(\"&$D$12&\",reference:=StartOfSession)=\"&A47&\"\", \"Bar\", \"\", \"Close\",\"5\",\"0\",\"PrimaryOnly\",,,\"False\",\"T\",\"EveryTick\")","v":192.71},-3.1038228751745604E-3,{"$f":"RTD(\"cqg.rtd\",,\"StudyData\", \"Close(\"&$D$12&\") when LocalYear(\"&$D$12&\")=\"&$D$10&\" and localMonth(\"&$D$12&\") =\"&$E$10&\" and LocalDay(\"&$D$12&\")=\"&$F$10&\" and Barix(\"&$D$12&\",reference:=StartOfSession)=\"&A47&\"\", \"Bar\", \"\", \"Close\",\"5\",\"0\",\"PrimaryOnly\",,,\"False\",\"T\",\"EveryTick\")","v":193.03},6.2555387582754968E-3,null,null,null,""]
[47,"12:25:00",-30,{"$f":" RTD(\"cqg.rtd\",,\"StudyData\", $D$12,  \"Tick\", \"FlatTicks=0\", \"Tick\",\"D\",C48,\"PrimaryOnly\")","v":187.87},null,null,null,{"$f":"RTD(\"cqg.rtd\",,\"StudyData\", \"Close(\"&$D$12&\") when LocalYear(\"&$D$12&\")=\"&$D$1&\" and localMonth(\"&$D$12&\") =\"&$E$1&\" and LocalDay(\"&$D$12&\")=\"&$F$1&\" and Barix(\"&$D$12&\",reference:=StartOfSession)=\"&A48&\"\", \"Bar\", \"\", \"Close\",\"5\",\"0\",\"PrimaryOnly\",,,\"False\",\"T\",\"EveryTick\")","v":""},{"$error":"#N/A"},{"$f":"RTD(\"cqg.rtd\",,\"StudyData\", \"Close(\"&$D$12&\") when LocalYear(\"&$D$12&\")=\"&$D$2&\" and localMonth(\"&$D$12&\") =\"&$E$2&\" and LocalDay(\"&$D$12&\")=\"&$F$2&\" and Barix(\"&$D$12&\",reference:=StartOfSession)=\"&A48&\"\", \"Bar\", \"\", \"Close\",\"5\",\"0\",\"PrimaryOnly\",,,\"False\",\"T\",\"EveryTick\")","v":188.84},-1.0272536687631069E-2,{"$f":"RTD(\"cqg.rtd\",,\"StudyData\", \"Close(\"&$D$12&\") when LocalYear(\"&$D$12&\")=\"&$D$3&\" and localMonth(\"&$D$12&\") =\"&$E$3&\" and LocalDay(\"&$D$12&\")=\"&$F$3&\" and Barix(\"&$D$12&\",reference:=StartOfSession)=\"&A48&\"\", \"Bar\", \"\", \"Close\",\"5\",\"0\",\"PrimaryOnly\",,,\"False\",\"T\",\"EveryTick\")","v":191.02},1.6780283167279581E-3,{"$f":"RTD(\"cqg.rtd\",,\"StudyData\", \"Close(\"&$D$12&\") when LocalYear(\"&$D$12&\")=\"&$D$4&\" and localMonth(\"&$D$12&\") =\"&$E$4&\" and LocalDay(\"&$D$12&\")=\"&$F$4&\" and Barix(\"&$D$12&\",reference:=StartOfSession)=\"&A48&\"\", \"Bar\", \"\", \"Close\",\"5\",\"0\",\"PrimaryOnly\",,,\"False\",\"T\",\"EveryTick\")","v":192.18},-5.2007489078424339E-4,{"$f":"RTD(\"cqg.rtd\",,\"StudyData\", \"Close(\"&$D$12&\") when LocalYear(\"&$D$12&\")=\"&$D$5&\" and localMonth(\"&$D$12&\") =\"&$E$5&\" and LocalDay(\"&$D$12&\")=\"&$F$5&\" and Barix(\"&$D$12&\",reference:=StartOfSession)=\"&A48&\"\", \"Bar\", \"\", \"Close\",\"5\",\"0\",\"PrimaryOnly\",,,\"False\",\"T\",\"EveryTick\")","v":192.52},6.7458034827172541E-3,{"$f":"RTD(\"cqg.rtd\",,\"StudyData\", \"Close(\"&$D$12&\") when LocalYear(\"&$D$12&\")=\"&$D$6&\" and localMonth(\"&$D$12&\") =\"&$E$6&\" and LocalDay(\"&$D$12&\")=\"&$F$6&\" and Barix(\"&$D$12&\",reference:=StartOfSession)=\"&A48&\"\", \"Bar\", \"\", \"Close\",\"5\",\"0\",\"PrimaryOnly\",,,\"False\",\"T\",\"EveryTick\")","v":191.7},0,{"$f":"RTD(\"cqg.rtd\",,\"StudyData\", \"Close(\"&$D$12&\") when LocalYear(\"&$D$12&\")=\"&$D$7&\" and localMonth(\"&$D$12&\") =\"&$E$7&\" and LocalDay(\"&$D$12&\")=\"&$F$7&\" and Barix(\"&$D$12&\",reference:=StartOfSession)=\"&A48&\"\", \"Bar\", \"\", \"Close\",\"5\",\"0\",\"PrimaryOnly\",,,\"False\",\"T\",\"EveryTick\")","v":191.36},-1.08549570970743E-2,{"$f":"RTD(\"cqg.rtd\",,\"StudyData\", \"Close(\"&$D$12&\") when LocalYear(\"&$D$12&\")=\"&$D$8&\" and localMonth(\"&$D$12&\") =\"&$E$8&\" and LocalDay(\"&$D$12&\")=\"&$F$8&\" and Barix(\"&$D$12&\",reference:=StartOfSession)=\"&A48&\"\", \"Bar\", \"\", \"Close\",\"5\",\"0\",\"PrimaryOnly\",,,\"False\",\"T\",\"EveryTick\")","v":193.08},-4.6396535725331343E-3,{"$f":"RTD(\"cqg.rtd\",,\"StudyData\", \"Close(\"&$D$12&\") when LocalYear(\"&$D$12&\")=\"&$D$9&\" and localMonth(\"&$D$12&\") =\"&$E$9&\" and LocalDay(\"&$D$12&\")=\"&$F$9&\" and Barix(\"&$D$12&\",reference:=StartOfSession)=\"&A48&\"\", \"Bar\", \"\", \"Close\",\"5\",\"0\",\"PrimaryOnly\",,,\"False\",\"T\",\"EveryTick\")","v":192.71},-3.1038228751745604E-3,{"$f":"RTD(\"cqg.rtd\",,\"StudyData\", \"Close(\"&$D$12&\") when LocalYear(\"&$D$12&\")=\"&$D$10&\" and localMonth(\"&$D$12&\") =\"&$E$10&\" and LocalDay(\"&$D$12&\")=\"&$F$10&\" and Barix(\"&$D$12&\",reference:=StartOfSession)=\"&A48&\"\", \"Bar\", \"\", \"Close\",\"5\",\"0\",\"PrimaryOnly\",,,\"False\",\"T\",\"EveryTick\")","v":193.16},6.9332221237553247E-3,null,null,null,""]
[48,"12:30:00",-29,{"$f":" RTD(\"cqg.rtd\",,\"StudyData\", $D$12,  \"Tick\", \"FlatTicks=0\", \"Tick\",\"D\",C49,\"PrimaryOnly\")","v":187.86},null,null,null,{"$f":"RTD(\"cqg.rtd\",,\"StudyData\", \"Close(\"&$D$12&\") when LocalYear(\"&$D$12&\")=\"&$D$1&\" and localMonth(\"&$D$12&\") =\"&$E$1&\" and LocalDay(\"&$D$12&\")=\"&$F$1&\" and Barix(\"&$D$12&\",reference:=StartOfSession)=\"&A49&\"\", \"Bar\", \"\", \"Close\",\"5\",\"0\",\"PrimaryOnly\",,,\"False\",\"T\",\"EveryTick\")","v":""},{"$error":"#N/A"},{"$f":"RTD(\"cqg.rtd\",,\"StudyData\", \"Close(\"&$D$12&\") when LocalYear(\"&$D$12&\")=\"&$D$2&\" and localMonth(\"&$D$12&\") =\"&$E$2&\" and LocalDay(\"&$D$12&\")=\"&$F$2&\" and Barix(\"&$D$12&\",reference:=StartOfSession)=\"&A49&\"\", \"Bar\", \"\", \"Close\",\"5\",\"0\",\"PrimaryOnly\",,,\"False\",\"T\",\"EveryTick\")","v":188.84},-1.0272536687631069E-2,{"$f":"RTD(\"cqg.rtd\",,\"StudyData\", \"Close(\"&$D$12&\") when LocalYear(\"&$D$12&\")=\"&$D$3&\" and localMonth(\"&$D$12&\") =\"&$E$3&\" and LocalDay(\"&$D$12&\")=\"&$F$3&\" and Barix(\"&$D$12&\",reference:=StartOfSession)=\"&A49&\"\", \"Bar\", \"\", \"Close\",\"5\",\"0\",\"PrimaryOnly\",,,\"False\",\"T\",\"EveryTick\")","v":191.23},2.7792343995804991E-3,{"$f":"RTD(\"cqg.rtd\",,\"StudyData\", \"Close(\"&$D$12&\") when LocalYear(\"&$D$12&\")=\"&$D$4&\" and localMonth(\"&$D$12&\") =\"&$E$4&\" and LocalDay(\"&$D$12&\")=\"&$F$4&\" and Barix(\"&$D$12&\",reference:=StartOfSession)=\"&A49&\"\", \"Bar\", \"\", \"Close\",\"5\",\"0\",\"PrimaryOnly\",,,\"False\",\"T\",\"EveryTick\")","v":192.14},-7.2810484709805894E-4,{"$f":"RTD(\"cqg.rtd\",,\"StudyData\", \"Close(\"&$D$12&\") when LocalYear(\"&$D$12&\")=\"&$D$5&\" and localMonth(\"&$D$12&\") =\"&$E$5&\" and LocalDay(\"&$D$12&\")=\"&$F$5&\" and Barix(\"&$D$12&\",reference:=StartOfSession)=\"&A49&\"\", \"Bar\", \"\", \"Close\",\"5\",\"0\",\"PrimaryOnly\",,,\"False\",\"T\",\"EveryTick\")","v":192.44},6.3274590806882188E-3,{"$f":"RTD(\"cqg.rtd\",,\"StudyData\", \"Close(\"&$D$12&\") when LocalYear(\"&$D$12&\")=\"&$D$6&\" and localMonth(\"&$D$12&\") =\"&$E$6&\" and LocalDay(\"&$D$12&\")=\"&$F$6&\" and Barix(\"&$D$12&\",reference:=StartOfSession)=\"&A49&\"\", \"Bar\", \"\", \"Close\",\"5\",\"0\",\"PrimaryOnly\",,,\"False\",\"T\",\"EveryTick\")","v":191.66},-2.0865936358889956E-4,{"$f":"RTD(\"cqg.rtd\",,\"StudyData\", \"Close(\"&$D$12&\") when LocalYear(\"&$D$12&\")=\"&$D$7&\" and localMonth(\"&$D$12&\") =\"&$E$7&\" and LocalDay(\"&$D$12&\")=\"&$F$7&\" and Barix(\"&$D$12&\",reference:=StartOfSession)=\"&A49&\"\", \"Bar\", \"\", \"Close\",\"5\",\"0\",\"PrimaryOnly\",,,\"False\",\"T\",\"EveryTick\")","v":191.28},-1.1268479272201006E-2,{"$f":"RTD(\"cqg.rtd\",,\"StudyData\", \"Close(\"&$D$12&\") when LocalYear(\"&$D$12&\")=\"&$D$8&\" and localMonth(\"&$D$12&\") =\"&$E$8&\" and LocalDay(\"&$D$12&\")=\"&$F$8&\" and Barix(\"&$D$12&\",reference:=StartOfSession)=\"&A49&\"\", \"Bar\", \"\", \"Close\",\"5\",\"0\",\"PrimaryOnly\",,,\"False\",\"T\",\"EveryTick\")","v":193.21},-3.9694813898339103E-3,{"$f":"RTD(\"cqg.rtd\",,\"StudyData\", \"Close(\"&$D$12&\") when LocalYear(\"&$D$12&\")=\"&$D$9&\" and localMonth(\"&$D$12&\") =\"&$E$9&\" and LocalDay(\"&$D$12&\")=\"&$F$9&\" and Barix(\"&$D$12&\",reference:=StartOfSession)=\"&A49&\"\", \"Bar\", \"\", \"Close\",\"5\",\"0\",\"PrimaryOnly\",,,\"False\",\"T\",\"EveryTick\")","v":192.64},-3.4659355439450412E-3,{"$f":"RTD(\"cqg.rtd\",,\"StudyData\", \"Close(\"&$D$12&\") when LocalYear(\"&$D$12&\")=\"&$D$10&\" and localMonth(\"&$D$12&\") =\"&$E$10&\" and LocalDay(\"&$D$12&\")=\"&$F$10&\" and Barix(\"&$D$12&\",reference:=StartOfSession)=\"&A49&\"\", \"Bar\", \"\", \"Close\",\"5\",\"0\",\"PrimaryOnly\",,,\"False\",\"T\",\"EveryTick\")","v":193.1},6.6204451858415357E-3,null,null,null,""]
[49,"12:35:00",-28,{"$f":" RTD(\"cqg.rtd\",,\"StudyData\", $D$12,  \"Tick\", \"FlatTicks=0\", \"Tick\",\"D\",C50,\"PrimaryOnly\")","v":187.85},null,null,null,{"$f":"RTD(\"cqg.rtd\",,\"StudyData\", \"Close(\"&$D$12&\") when LocalYear(\"&$D$12&\")=\"&$D$1&\" and localMonth(\"&$D$12&\") =\"&$E$1&\" and LocalDay(\"&$D$12&\")=\"&$F$1&\" and Barix(\"&$D$12&\",reference:=StartOfSession)=\"&A50&\"\", \"Bar\", \"\", \"Close\",\"5\",\"0\",\"PrimaryOnly\",,,\"False\",\"T\",\"EveryTick\")","v":""},{"$error":"#N/A"},{"$f":"RTD(\"cqg.rtd\",,\"StudyData\", \"Close(\"&$D$12&\") when LocalYear(\"&$D$12&\")=\"&$D$2&\" and localMonth(\"&$D$12&\") =\"&$E$2&\" and LocalDay(\"&$D$12&\")=\"&$F$2&\" and Barix(\"&$D$12&\",reference:=StartOfSession)=\"&A50&\"\", \"Bar\", \"\", \"Close\",\"5\",\"0\",\"PrimaryOnly\",,,\"False\",\"T\",\"EveryTick\")","v":188.83},-1.0324947589098526E-2,{"$f":"RTD(\"cqg.rtd\",,\"StudyData\", \"Close(\"&$D$12&\") when LocalYear(\"&$D$12&\")=\"&$D$3&\" and localMonth(\"&$D$12&\") =\"&$E$3&\" and LocalDay(\"&$D$12&\")=\"&$F$3&\" and Barix(\"&$D$12&\",reference:=StartOfSession)=\"&A50&\"\", \"Bar\", \"\", \"Close\",\"5\",\"0\",\"PrimaryOnly\",,,\"False\",\"T\",\"EveryTick\")","v":191.19},2.5694808599895603E-3,{"$f":"RTD(\"cqg.rtd\",,\"StudyData\", \"Close(\"&$D$12&\") when LocalYear(\"&$D$12&\")=\"&$D$4&\" and localMonth(\"&$D$12&\") =\"&$E$4&\" and LocalDay(\"&$D$12&\")=\"&$F$4&\" and Barix(\"&$D$12&\",reference:=StartOfSession)=\"&A50&\"\", \"Bar\", \"\", \"Close\",\"5\",\"0\",\"PrimaryOnly\",,,\"False\",\"T\",\"EveryTick\")","v":192.24},-2.0802995631366778E-4,{"$f":"RTD(\"cqg.rtd\",,\"StudyData\", \"Close(\"&$D$12&\") when LocalYear(\"&$D$12&\")=\"&$D$5&\" and localMonth(\"&$D$12&\") =\"&$E$5&\" and LocalDay(\"&$D$12&\")=\"&$F$5&\" and Barix(\"&$D$12&\",reference:=StartOfSession)=\"&A50&\"\", \"Bar\", \"\", \"Close\",\"5\",\"0\",\"PrimaryOnly\",,,\"False\",\"T\",\"EveryTick\")","v":192.33},5.7522355278984616E-3,{"$f":"RTD(\"cqg.rtd\",,\"StudyData\", \"Close(\"&$D$12&\") when LocalYear(\"&$D$12&\")=\"&$D$6&\" and localMonth(\"&$D$12&\") =\"&$E$6&\" and LocalDay(\"&$D$12&\")=\"&$F$6&\" and Barix(\"&$D$12&\",reference:=StartOfSession)=\"&A50&\"\", \"Bar\", \"\", \"Close\",\"5\",\"0\",\"PrimaryOnly\",,,\"False\",\"T\",\"EveryTick\")","v":191.69},-5.2164840897187823E-5,{"$f":"RTD(\"cqg.rtd\",,\"StudyData\", \"Close(\"&$D$12&\") when LocalYear(\"&$D$12&\")=\"&$D$7&\" and localMonth(\"&$D$12&\") =\"&$E$7&\" and LocalDay(\"&$D$12&\")=\"&$F$7&\" and Barix(\"&$D$12&\",reference:=StartOfSession)=\"&A50&\"\", \"Bar\", \"\", \"Close\",\"5\",\"0\",\"PrimaryOnly\",,,\"False\",\"T\",\"EveryTick\")","v":191.17},-1.1837072263000209E-2,{"$f":"RTD(\"cqg.rtd\",,\"StudyData\", \"Close(\"&$D$12&\") when LocalYear(\"&$D$12&\")=\"&$D$8&\" and localMonth(\"&$D$12&\") =\"&$E$8&\" and LocalDay(\"&$D$12&\")=\"&$F$8&\" and Barix(\"&$D$12&\",reference:=StartOfSession)=\"&A50&\"\", \"Bar\", \"\", \"Close\",\"5\",\"0\",\"PrimaryOnly\",,,\"False\",\"T\",\"EveryTick\")","v":192.78},-6.1862047633776092E-3,{"$f":"RTD(\"cqg.rtd\",,\"StudyData\", \"Close(\"&$D$12&\") when LocalYear(\"&$D$12&\")=\"&$D$9&\" and localMonth(\"&$D$12&\") =\"&$E$9&\" and LocalDay(\"&$D$12&\")=\"&$F$9&\" and Barix(\"&$D$12&\",reference:=StartOfSession)=\"&A50&\"\", \"Bar\", \"\", \"Close\",\"5\",\"0\",\"PrimaryOnly\",,,\"False\",\"T\",\"EveryTick\")","v":192.74},-2.9486317314158252E-3,{"$f":"RTD(\"cqg.rtd\",,\"StudyData\", \"Close(\"&$D$12&\") when LocalYear(\"&$D$12&\")=\"&$D$10&\" and localMonth(\"&$D$12&\") =\"&$E$10&\" and LocalDay(\"&$D$12&\")=\"&$F$10&\" and Barix(\"&$D$12&\",reference:=StartOfSession)=\"&A50&\"\", \"Bar\", \"\", \"Close\",\"5\",\"0\",\"PrimaryOnly\",,,\"False\",\"T\",\"EveryTick\")","v":193.09},6.5683156961892867E-3,null,null,null,""]
[50,"12:40:00",-27,{"$f":" RTD(\"cqg.rtd\",,\"StudyData\", $D$12,  \"Tick\", \"FlatTicks=0\", \"Tick\",\"D\",C51,\"PrimaryOnly\")","v":187.86},null,null,null,{"$f":"RTD(\"cqg.rtd\",,\"StudyData\", \"Close(\"&$D$12&\") when LocalYear(\"&$D$12&\")=\"&$D$1&\" and localMonth(\"&$D$12&\") =\"&$E$1&\" and LocalDay(\"&$D$12&\")=\"&$F$1&\" and Barix(\"&$D$12&\",reference:=StartOfSession)=\"&A51&\"\", \"Bar\", \"\", \"Close\",\"5\",\"0\",\"PrimaryOnly\",,,\"False\",\"T\",\"EveryTick\")","v":""},{"$error":"#N/A"},{"$f":"RTD(\"cqg.rtd\",,\"StudyData\", \"Close(\"&$D$12&\") when LocalYear(\"&$D$12&\")=\"&$D$2&\" and localMonth(\"&$D$12&\") =\"&$E$2&\" and LocalDay(\"&$D$12&\")=\"&$F$2&\" and Barix(\"&$D$12&\",reference:=StartOfSession)=\"&A51&\"\", \"Bar\", \"\", \"Close\",\"5\",\"0\",\"PrimaryOnly\",,,\"False\",\"T\",\"EveryTick\")","v":188.87},-1.0115303983228546E-2,{"$f":"RTD(\"cqg.rtd\",,\"StudyData\", \"Close(\"&$D$12&\") when LocalYear(\"&$D$12&\")=\"&$D$3&\" and localMonth(\"&$D$12&\") =\"&$E$3&\" and LocalDay(\"&$D$12&\")=\"&$F$3&\" and Barix(\"&$D$12&\",reference:=StartOfSession)=\"&A51&\"\", \"Bar\", \"\", \"Close\",\"5\",\"0\",\"PrimaryOnly\",,,\"False\",\"T\",\"EveryTick\")","v":191.12},2.2024121657053799E-3,{"$f":"RTD(\"cqg.rtd\",,\"StudyData\", \"Close(\"&$D$12&\") when LocalYear(\"&$D$12&\")=\"&$D$4&\" and localMonth(\"&$D$12&\") =\"&$E$4&\" and LocalDay(\"&$D$12&\")=\"&$F$4&\" and Barix(\"&$D$12&\",reference:=StartOfSession)=\"&A51&\"\", \"Bar\", \"\", \"Close\",\"5\",\"0\",\"PrimaryOnly\",,,\"False\",\"T\",\"EveryTick\")","v":192.23},-2.6003744539219558E-4,{"$f":"RTD(\"cqg.rtd\",,\"StudyData\", \"Close(\"&$D$12&\") when LocalYear(\"&$D$12&\")=\"&$D$5&\" and localMonth(\"&$D$12&\") =\"&$E$5&\" and LocalDay(\"&$D$12&\")=\"&$F$5&\" and Barix(\"&$D$12&\",reference:=StartOfSession)=\"&A51&\"\", \"Bar\", \"\", \"Close\",\"5\",\"0\",\"PrimaryOnly\",,,\"False\",\"T\",\"EveryTick\")","v":192.23},5.22930502536213E-3,{"$f":"RTD(\"cqg.rtd\",,\"StudyData\", \"Close(\"&$D$12&\") when LocalYear(\"&$D$12&\")=\"&$D$6&\" and localMonth(\"&$D$12&\") =\"&$E$6&\" and LocalDay(\"&$D$12&\")=\"&$F$6&\" and Barix(\"&$D$12&\",reference:=StartOfSession)=\"&A51&\"\", \"Bar\", \"\", \"Close\",\"5\",\"0\",\"PrimaryOnly\",,,\"False\",\"T\",\"EveryTick\")","v":191.59},-5.7381324986951088E-4,{"$f":"RTD(\"cqg.rtd\",,\"StudyData\", \"Close(\"&$D$12&\") when LocalYear(\"&$D$12&\")=\"&$D$7&\" and localMonth(\"&$D$12&\") =\"&$E$7&\" and LocalDay(\"&$D$12&\")=\"&$F$7&\" and Barix(\"&$D$12&\",reference:=StartOfSession)=\"&A51&\"\", \"Bar\", \"\", \"Close\",\"5\",\"0\",\"PrimaryOnly\",,,\"False\",\"T\",\"EveryTick\")","v":191.3},-1.1165098728419294E-2,{"$f":"RTD(\"cqg.rtd\",,\"StudyData\", \"Close(\"&$D$12&\") when LocalYear(\"&$D$12&\")=\"&$D$8&\" and localMonth(\"&$D$12&\") =\"&$E$8&\" and LocalDay(\"&$D$12&\")=\"&$F$8&\" and Barix(\"&$D$12&\",reference:=StartOfSession)=\"&A51&\"\", \"Bar\", \"\", \"Close\",\"5\",\"0\",\"PrimaryOnly\",,,\"False\",\"T\",\"EveryTick\")","v":192.82},-5.9799979379317279E-3,{"$f":"RTD(\"cqg.rtd\",,\"StudyData\", \"Close(\"&$D$12&\") when LocalYear(\"&$D$12&\")=\"&$D$9&\" and localMonth(\"&$D$12&\") =\"&$E$9&\" and LocalDay(\"&$D$12&\")=\"&$F$9&\" and Barix(\"&$D$12&\",reference:=StartOfSession)=\"&A51&\"\", \"Bar\", \"\", \"Close\",\"5\",\"0\",\"PrimaryOnly\",,,\"False\",\"T\",\"EveryTick\")","v":192.81},-2.5865190626454915E-3,{"$f":"RTD(\"cqg.rtd\",,\"StudyData\", \"Close(\"&$D$12&\") when LocalYear(\"&$D$12&\")=\"&$D$10&\" and localMonth(\"&$D$12&\") =\"&$E$10&\" and LocalDay(\"&$D$12&\")=\"&$F$10&\" and Barix(\"&$D$12&\",reference:=StartOfSession)=\"&A51&\"\", \"Bar\", \"\", \"Close\",\"5\",\"0\",\"PrimaryOnly\",,,\"False\",\"T\",\"EveryTick\")","v":193.13},6.7768336547984302E-3,null,null,null,""]
[51,"12:45:00",-26,{"$f":" RTD(\"cqg.rtd\",,\"StudyData\", $D$12,  \"Tick\", \"FlatTicks=0\", \"Tick\",\"D\",C52,\"PrimaryOnly\")","v":187.87},null,null,null,{"$f":"RTD(\"cqg.rtd\",,\"StudyData\", \"Close(\"&$D$12&\") when LocalYear(\"&$D$12&\")=\"&$D$1&\" and localMonth(\"&$D$12&\") =\"&$E$1&\" and LocalDay(\"&$D$12&\")=\"&$F$1&\" and Barix(\"&$D$12&\",reference:=StartOfSession)=\"&A52&\"\", \"Bar\", \"\", \"Close\",\"5\",\"0\",\"PrimaryOnly\",,,\"False\",\"T\",\"EveryTick\")","v":""},{"$error":"#N/A"},{"$f":"RTD(\"cqg.rtd\",,\"StudyData\", \"Close(\"&$D$12&\") when LocalYear(\"&$D$12&\")=\"&$D$2&\" and localMonth(\"&$D$12&\") =\"&$E$2&\" and LocalDay(\"&$D$12&\")=\"&$F$2&\" and Barix(\"&$D$12&\",reference:=StartOfSession)=\"&A52&\"\", \"Bar\", \"\", \"Close\",\"5\",\"0\",\"PrimaryOnly\",,,\"False\",\"T\",\"EveryTick\")","v":188.67},-1.1163522012578741E-2,{"$f":"RTD(\"cqg.rtd\",,\"StudyData\", \"Close(\"&$D$12&\") when LocalYear(\"&$D$12&\")=\"&$D$3&\" and localMonth(\"&$D$12&\") =\"&$E$3&\" and LocalDay(\"&$D$12&\")=\"&$F$3&\" and Barix(\"&$D$12&\",reference:=StartOfSession)=\"&A52&\"\", \"Bar\", \"\", \"Close\",\"5\",\"0\",\"PrimaryOnly\",,,\"False\",\"T\",\"EveryTick\")","v":191.04},1.7829050865233531E-3,{"$f":"RTD(\"cqg.rtd\",,\"StudyData\", \"Close(\"&$D$12&\") when LocalYear(\"&$D$12&\")=\"&$D$4&\" and localMonth(\"&$D$12&\") =\"&$E$4&\" and LocalDay(\"&$D$12&\")=\"&$F$4&\" and Barix(\"&$D$12&\",reference:=StartOfSession)=\"&A52&\"\", \"Bar\", \"\", \"Close\",\"5\",\"0\",\"PrimaryOnly\",,,\"False\",\"T\",\"EveryTick\")","v":192.23},-2.6003744539219558E-4,{"$f":"RTD(\"cqg.rtd\",,\"StudyData\", \"Close(\"&$D$12&\") when LocalYear(\"&$D$12&\")=\"&$D$5&\" and localMonth(\"&$D$12&\") =\"&$E$5&\" and LocalDay(\"&$D$12&\")=\"&$F$5&\" and Barix(\"&$D$12&\",reference:=StartOfSession)=\"&A52&\"\", \"Bar\", \"\", \"Close\",\"5\",\"0\",\"PrimaryOnly\",,,\"False\",\"T\",\"EveryTick\")","v":192.26},5.3861841761229995E-3,{"$f":"RTD(\"cqg.rtd\",,\"StudyData\", \"Close(\"&$D$12&\") when LocalYear(\"&$D$12&\")=\"&$D$6&\" and localMonth(\"&$D$12&\") =\"&$E$6&\" and LocalDay(\"&$D$12&\")=\"&$F$6&\" and Barix(\"&$D$12&\",reference:=StartOfSession)=\"&A52&\"\", \"Bar\", \"\", \"Close\",\"5\",\"0\",\"PrimaryOnly\",,,\"False\",\"T\",\"EveryTick\")","v":191.56},-7.303077725612226E-4,{"$f":"RTD(\"cqg.rtd\",,\"StudyData\", \"Close(\"&$D$12&\") when LocalYear(\"&$D$12&\")=\"&$D$7&\" and localMonth(\"&$D$12&\") =\"&$E$7&\" and LocalDay(\"&$D$12&\")=\"&$F$7&\" and Barix(\"&$D$12&\",reference:=StartOfSession)=\"&A52&\"\", \"Bar\", \"\", \"Close\",\"5\",\"0\",\"PrimaryOnly\",,,\"False\",\"T\",\"EveryTick\")","v":191.13},-1.2043833350563488E-2,{"$f":"RTD(\"cqg.rtd\",,\"StudyData\", \"Close(\"&$D$12&\") when LocalYear(\"&$D$12&\")=\"&$D$8&\" and localMonth(\"&$D$12&\") =\"&$E$8&\" and LocalDay(\"&$D$12&\")=\"&$F$8&\" and Barix(\"&$D$12&\",reference:=StartOfSession)=\"&A52&\"\", \"Bar\", \"\", \"Close\",\"5\",\"0\",\"PrimaryOnly\",,,\"False\",\"T\",\"EveryTick\")","v":193.01},-5.0005155170636095E-3,{"$f":"RTD(\"cqg.rtd\",,\"StudyData\", \"Close(\"&$D$12&\") when LocalYear(\"&$D$12&\")=\"&$D$9&\" and localMonth(\"&$D$12&\") =\"&$E$9&\" and LocalDay(\"&$D$12&\")=\"&$F$9&\" and Barix(\"&$D$12&\",reference:=StartOfSession)=\"&A52&\"\", \"Bar\", \"\", \"Close\",\"5\",\"0\",\"PrimaryOnly\",,,\"False\",\"T\",\"EveryTick\")","v":192.83},-2.4830583001396191E-3,{"$f":"RTD(\"cqg.rtd\",,\"StudyData\", \"Close(\"&$D$12&\") when LocalYear(\"&$D$12&\")=\"&$D$10&\" and localMonth(\"&$D$12&\") =\"&$E$10&\" and LocalDay(\"&$D$12&\")=\"&$F$10&\" and Barix(\"&$D$12&\",reference:=StartOfSession)=\"&A52&\"\", \"Bar\", \"\", \"Close\",\"5\",\"0\",\"PrimaryOnly\",,,\"False\",\"T\",\"EveryTick\")","v":193.15},6.8810926341030757E-3,null,null,null,""]
[52,"12:50:00",-25,{"$f":" RTD(\"cqg.rtd\",,\"StudyData\", $D$12,  \"Tick\", \"FlatTicks=0\", \"Tick\",\"D\",C53,\"PrimaryOnly\")","v":187.88},null,null,null,{"$f":"RTD(\"cqg.rtd\",,\"StudyData\", \"Close(\"&$D$12&\") when LocalYear(\"&$D$12&\")=\"&$D$1&\" and localMonth(\"&$D$12&\") =\"&$E$1&\" and LocalDay(\"&$D$12&\")=\"&$F$1&\" and Barix(\"&$D$12&\",reference:=StartOfSession)=\"&A53&\"\", \"Bar\", \"\", \"Close\",\"5\",\"0\",\"PrimaryOnly\",,,\"False\",\"T\",\"EveryTick\")","v":""},{"$error":"#N/A"},{"$f":"RTD(\"cqg.rtd\",,\"StudyData\", \"Close(\"&$D$12&\") when LocalYear(\"&$D$12&\")=\"&$D$2&\" and localMonth(\"&$D$12&\") =\"&$E$2&\" and LocalDay(\"&$D$12&\")=\"&$F$2&\" and Barix(\"&$D$12&\",reference:=StartOfSession)=\"&A53&\"\", \"Bar\", \"\", \"Close\",\"5\",\"0\",\"PrimaryOnly\",,,\"False\",\"T\",\"EveryTick\")","v":188.69},-1.1058700209643677E-2,{"$f":"RTD(\"cqg.rtd\",,\"StudyData\", \"Close(\"&$D$12&\") when LocalYear(\"&$D$12&\")=\"&$D$3&\" and localMonth(\"&$D$12&\") =\"&$E$3&\" and LocalDay(\"&$D$12&\")=\"&$F$3&\" and Barix(\"&$D$12&\",reference:=StartOfSession)=\"&A53&\"\", \"Bar\", \"\", \"Close\",\"5\",\"0\",\"PrimaryOnly\",,,\"False\",\"T\",\"EveryTick\")","v":191.1},2.0975353959098359E-3,{"$f":"RTD(\"cqg.rtd\",,\"StudyData\", \"Close(\"&$D$12&\") when LocalYear(\"&$D$12&\")=\"&$D$4&\" and localMonth(\"&$D$12&\") =\"&$E$4&\" and LocalDay(\"&$D$12&\")=\"&$F$4&\" and Barix(\"&$D$12&\",reference:=StartOfSession)=\"&A53&\"\", \"Bar\", \"\", \"Close\",\"5\",\"0\",\"PrimaryOnly\",,,\"False\",\"T\",\"EveryTick\")","v":192.26},-1.040149781569078E-4,{"$f":"RTD(\"cqg.rtd\",,\"StudyData\", \"Close(\"&$D$12&\") when LocalYear(\"&$D$12&\")=\"&$D$5&\" and localMonth(\"&$D$12&\") =\"&$E$5&\" and LocalDay(\"&$D$12&\")=\"&$F$5&\" and Barix(\"&$D$12&\",reference:=StartOfSession)=\"&A53&\"\", \"Bar\", \"\", \"Close\",\"5\",\"0\",\"PrimaryOnly\",,,\"False\",\"T\",\"EveryTick\")","v":192.13},4.7063745228259467E-3,{"$f":"RTD(\"cqg.rtd\",,\"StudyData\", \"Close(\"&$D$12&\") when LocalYear(\"&$D$12&\")=\"&$D$6&\" and localMonth(\"&$D$12&\") =\"&$E$6&\" and LocalDay(\"&$D$12&\")=\"&$F$6&\" and Barix(\"&$D$12&\",reference:=StartOfSession)=\"&A53&\"\", \"Bar\", \"\", \"Close\",\"5\",\"0\",\"PrimaryOnly\",,,\"False\",\"T\",\"EveryTick\")","v":191.44},-1.3562858633280694E-3,{"$f":"RTD(\"cqg.rtd\",,\"StudyData\", \"Close(\"&$D$12&\") when LocalYear(\"&$D$12&\")=\"&$D$7&\" and localMonth(\"&$D$12&\") =\"&$E$7&\" and LocalDay(\"&$D$12&\")=\"&$F$7&\" and Barix(\"&$D$12&\",reference:=StartOfSession)=\"&A53&\"\", \"Bar\", \"\", \"Close\",\"5\",\"0\",\"PrimaryOnly\",,,\"False\",\"T\",\"EveryTick\")","v":191.09},-1.2250594438126768E-2,{"$f":"RTD(\"cqg.rtd\",,\"StudyData\", \"Close(\"&$D$12&\") when LocalYear(\"&$D$12&\")=\"&$D$8&\" and localMonth(\"&$D$12&\") =\"&$E$8&\" and LocalDay(\"&$D$12&\")=\"&$F$8&\" and Barix(\"&$D$12&\",reference:=StartOfSession)=\"&A53&\"\", \"Bar\", \"\", \"Close\",\"5\",\"0\",\"PrimaryOnly\",,,\"False\",\"T\",\"EveryTick\")","v":192.76},-6.2893081761006232E-3,{"$f":"RTD(\"cqg.rtd\",,\"StudyData\", \"Close(\"&$D$12&\") when LocalYear(\"&$D$12&\")=\"&$D$9&\" and localMonth(\"&$D$12&\") =\"&$E$9&\" and LocalDay(\"&$D$12&\")=\"&$F$9&\" and Barix(\"&$D$12&\",reference:=StartOfSession)=\"&A53&\"\", \"Bar\", \"\", \"Close\",\"5\",\"0\",\"PrimaryOnly\",,,\"False\",\"T\",\"EveryTick\")","v":192.68},-3.2590140189332961E-3,{"$f":"RTD(\"cqg.rtd\",,\"StudyData\", \"Close(\"&$D$12&\") when LocalYear(\"&$D$12&\")=\"&$D$10&\" and localMonth(\"&$D$12&\") =\"&$E$10&\" and LocalDay(\"&$D$12&\")=\"&$F$10&\" and Barix(\"&$D$12&\",reference:=StartOfSession)=\"&A53&\"\", \"Bar\", \"\", \"Close\",\"5\",\"0\",\"PrimaryOnly\",,,\"False\",\"T\",\"EveryTick\")","v":193.09},6.5683156961892867E-3,null,null,null,""]
[53,"12:55:00",-24,{"$f":" RTD(\"cqg.rtd\",,\"StudyData\", $D$12,  \"Tick\", \"FlatTicks=0\", \"Tick\",\"D\",C54,\"PrimaryOnly\")","v":187.89},null,null,null,{"$f":"RTD(\"cqg.rtd\",,\"StudyData\", \"Close(\"&$D$12&\") when LocalYear(\"&$D$12&\")=\"&$D$1&\" and localMonth(\"&$D$12&\") =\"&$E$1&\" and LocalDay(\"&$D$12&\")=\"&$F$1&\" and Barix(\"&$D$12&\",reference:=StartOfSession)=\"&A54&\"\", \"Bar\", \"\", \"Close\",\"5\",\"0\",\"PrimaryOnly\",,,\"False\",\"T\",\"EveryTick\")","v":""},{"$error":"#N/A"},{"$f":"RTD(\"cqg.rtd\",,\"StudyData\", \"Close(\"&$D$12&\") when LocalYear(\"&$D$12&\")=\"&$D$2&\" and localMonth(\"&$D$12&\") =\"&$E$2&\" and LocalDay(\"&$D$12&\")=\"&$F$2&\" and Barix(\"&$D$12&\",reference:=StartOfSession)=\"&A54&\"\", \"Bar\", \"\", \"Close\",\"5\",\"0\",\"PrimaryOnly\",,,\"False\",\"T\",\"EveryTick\")","v":188.67},-1.1163522012578741E-2,{"$f":"RTD(\"cqg.rtd\",,\"StudyData\", \"Close(\"&$D$12&\") when LocalYear(\"&$D$12&\")=\"&$D$3&\" and localMonth(\"&$D$12&\") =\"&$E$3&\" and LocalDay(\"&$D$12&\")=\"&$F$3&\" and Barix(\"&$D$12&\",reference:=StartOfSession)=\"&A54&\"\", \"Bar\", \"\", \"Close\",\"5\",\"0\",\"PrimaryOnly\",,,\"False\",\"T\",\"EveryTick\")","v":190.95},1.3109596224436288E-3,{"$f":"RTD(\"cqg.rtd\",,\"StudyData\", \"Close(\"&$D$12&\") when LocalYear(\"&$D$12&\")=\"&$D$4&\" and localMonth(\"&$D$12&\") =\"&$E$4&\" and LocalDay(\"&$D$12&\")=\"&$F$4&\" and Barix(\"&$D$12&\",reference:=StartOfSession)=\"&A54&\"\", \"Bar\", \"\", \"Close\",\"5\",\"0\",\"PrimaryOnly\",,,\"False\",\"T\",\"EveryTick\")","v":192.17},-5.7208237986277114E-4,{"$f":"RTD(\"cqg.rtd\",,\"StudyData\", \"Close(\"&$D$12&\") when LocalYear(\"&$D$12&\")=\"&$D$5&\" and localMonth(\"&$D$12&\") =\"&$E$5&\" and LocalDay(\"&$D$12&\")=\"&$F$5&\" and Barix(\"&$D$12&\",reference:=StartOfSession)=\"&A54&\"\", \"Bar\", \"\", \"Close\",\"5\",\"0\",\"PrimaryOnly\",,,\"False\",\"T\",\"EveryTick\")","v":192.42},6.2228729801809225E-3,{"$f":"RTD(\"cqg.rtd\",,\"StudyData\", \"Close(\"&$D$12&\") when LocalYear(\"&$D$12&\")=\"&$D$6&\" and localMonth(\"&$D$12&\") =\"&$E$6&\" and LocalDay(\"&$D$12&\")=\"&$F$6&\" and Barix(\"&$D$12&\",reference:=StartOfSession)=\"&A54&\"\", \"Bar\", \"\", \"Close\",\"5\",\"0\",\"PrimaryOnly\",,,\"False\",\"T\",\"EveryTick\")","v":191.38},-1.6692749087114929E-3,{"$f":"RTD(\"cqg.rtd\",,\"StudyData\", \"Close(\"&$D$12&\") when LocalYear(\"&$D$12&\")=\"&$D$7&\" and localMonth(\"&$D$12&\") =\"&$E$7&\" and LocalDay(\"&$D$12&\")=\"&$F$7&\" and Barix(\"&$D$12&\",reference:=StartOfSession)=\"&A54&\"\", \"Bar\", \"\", \"Close\",\"5\",\"0\",\"PrimaryOnly\",,,\"False\",\"T\",\"EveryTick\")","v":191.13},-1.2043833350563488E-2,{"$f":"RTD(\"cqg.rtd\",,\"StudyData\", \"Close(\"&$D$12&\") when LocalYear(\"&$D$12&\")=\"&$D$8&\" and localMonth(\"&$D$12&\") =\"&$E$8&\" and LocalDay(\"&$D$12&\")=\"&$F$8&\" and Barix(\"&$D$12&\",reference:=StartOfSession)=\"&A54&\"\", \"Bar\", \"\", \"Close\",\"5\",\"0\",\"PrimaryOnly\",,,\"False\",\"T\",\"EveryTick\")","v":192.58},-7.2172388906071626E-3,{"$f":"RTD(\"cqg.rtd\",,\"StudyData\", \"Close(\"&$D$12&\") when LocalYear(\"&$D$12&\")=\"&$D$9&\" and localMonth(\"&$D$12&\") =\"&$E$9&\" and LocalDay(\"&$D$12&\")=\"&$F$9&\" and Barix(\"&$D$12&\",reference:=StartOfSession)=\"&A54&\"\", \"Bar\", \"\", \"Close\",\"5\",\"0\",\"PrimaryOnly\",,,\"False\",\"T\",\"EveryTick\")","v":192.69},-3.2072836376804332E-3,{"$f":"RTD(\"cqg.rtd\",,\"StudyData\", \"Close(\"&$D$12&\") when LocalYear(\"&$D$12&\")=\"&$D$10&\" and localMonth(\"&$D$12&\") =\"&$E$10&\" and LocalDay(\"&$D$12&\")=\"&$F$10&\" and Barix(\"&$D$12&\",reference:=StartOfSession)=\"&A54&\"\", \"Bar\", \"\", \"Close\",\"5\",\"0\",\"PrimaryOnly\",,,\"False\",\"T\",\"EveryTick\")","v":193.05},6.3597977375801432E-3,null,null,null,""]
[54,"13:00:00",-23,{"$f":" RTD(\"cqg.rtd\",,\"StudyData\", $D$12,  \"Tick\", \"FlatTicks=0\", \"Tick\",\"D\",C55,\"PrimaryOnly\")","v":187.88},null,null,null,{"$f":"RTD(\"cqg.rtd\",,\"StudyData\", \"Close(\"&$D$12&\") when LocalYear(\"&$D$12&\")=\"&$D$1&\" and localMonth(\"&$D$12&\") =\"&$E$1&\" and LocalDay(\"&$D$12&\")=\"&$F$1&\" and Barix(\"&$D$12&\",reference:=StartOfSession)=\"&A55&\"\", \"Bar\", \"\", \"Close\",\"5\",\"0\",\"PrimaryOnly\",,,\"False\",\"T\",\"EveryTick\")","v":""},{"$error":"#N/A"},{"$f":"RTD(\"cqg.rtd\",,\"StudyData\", \"Close(\"&$D$12&\") when LocalYear(\"&$D$12&\")=\"&$D$2&\" and localMonth(\"&$D$12&\") =\"&$E$2&\" and LocalDay(\"&$D$12&\")=\"&$F$2&\" and Barix(\"&$D$12&\",reference:=StartOfSession)=\"&A55&\"\", \"Bar\", \"\", \"Close\",\"5\",\"0\",\"PrimaryOnly\",,,\"False\",\"T\",\"EveryTick\")","v":188.58},-1.1635220125786157E-2,{"$f":"RTD(\"cqg.rtd\",,\"StudyData\", \"Close(\"&$D$12&\") when LocalYear(\"&$D$12&\")=\"&$D$3&\" and localMonth(\"&$D$12&\") =\"&$E$3&\" and LocalDay(\"&$D$12&\")=\"&$F$3&\" and Barix(\"&$D$12&\",reference:=StartOfSession)=\"&A55&\"\", \"Bar\", \"\", \"Close\",\"5\",\"0\",\"PrimaryOnly\",,,\"False\",\"T\",\"EveryTick\")","v":191.04},1.7829050865233531E-3,{"$f":"RTD(\"cqg.rtd\",,\"StudyData\", \"Close(\"&$D$12&\") when LocalYear(\"&$D$12&\")=\"&$D$4&\" and localMonth(\"&$D$12&\") =\"&$E$4&\" and LocalDay(\"&$D$12&\")=\"&$F$4&\" and Barix(\"&$D$12&\",reference:=StartOfSession)=\"&A55&\"\", \"Bar\", \"\", \"Close\",\"5\",\"0\",\"PrimaryOnly\",,,\"False\",\"T\",\"EveryTick\")","v":191.67},-3.1724568337841356E-3,{"$f":"RTD(\"cqg.rtd\",,\"StudyData\", \"Close(\"&$D$12&\") when LocalYear(\"&$D$12&\")=\"&$D$5&\" and localMonth(\"&$D$12&\") =\"&$E$5&\" and LocalDay(\"&$D$12&\")=\"&$F$5&\" and Barix(\"&$D$12&\",reference:=StartOfSession)=\"&A55&\"\", \"Bar\", \"\", \"Close\",\"5\",\"0\",\"PrimaryOnly\",,,\"False\",\"T\",\"EveryTick\")","v":192.28},5.4907702766302958E-3,{"$f":"RTD(\"cqg.rtd\",,\"StudyData\", \"Close(\"&$D$12&\") when LocalYear(\"&$D$12&\")=\"&$D$6&\" and localMonth(\"&$D$12&\") =\"&$E$6&\" and LocalDay(\"&$D$12&\")=\"&$F$6&\" and Barix(\"&$D$12&\",reference:=StartOfSession)=\"&A55&\"\", \"Bar\", \"\", \"Close\",\"5\",\"0\",\"PrimaryOnly\",,,\"False\",\"T\",\"EveryTick\")","v":191.24},-2.3995826812727157E-3,{"$f":"RTD(\"cqg.rtd\",,\"StudyData\", \"Close(\"&$D$12&\") when LocalYear(\"&$D$12&\")=\"&$D$7&\" and localMonth(\"&$D$12&\") =\"&$E$7&\" and LocalDay(\"&$D$12&\")=\"&$F$7&\" and Barix(\"&$D$12&\",reference:=StartOfSession)=\"&A55&\"\", \"Bar\", \"\", \"Close\",\"5\",\"0\",\"PrimaryOnly\",,,\"False\",\"T\",\"EveryTick\")","v":191.2},-1.1682001447327712E-2,{"$f":"RTD(\"cqg.rtd\",,\"StudyData\", \"Close(\"&$D$12&\") when LocalYear(\"&$D$12&\")=\"&$D$8&\" and localMonth(\"&$D$12&\") =\"&$E$8&\" and LocalDay(\"&$D$12&\")=\"&$F$8&\" and Barix(\"&$D$12&\",reference:=StartOfSession)=\"&A55&\"\", \"Bar\", \"\", \"Close\",\"5\",\"0\",\"PrimaryOnly\",,,\"False\",\"T\",\"EveryTick\")","v":192.8},-6.0831013506545953E-3,{"$f":"RTD(\"cqg.rtd\",,\"StudyData\", \"Close(\"&$D$12&\") when LocalYear(\"&$D$12&\")=\"&$D$9&\" and localMonth(\"&$D$12&\") =\"&$E$9&\" and LocalDay(\"&$D$12&\")=\"&$F$9&\" and Barix(\"&$D$12&\",reference:=StartOfSession)=\"&A55&\"\", \"Bar\", \"\", \"Close\",\"5\",\"0\",\"PrimaryOnly\",,,\"False\",\"T\",\"EveryTick\")","v":192.83},-2.4830583001396191E-3,{"$f":"RTD(\"cqg.rtd\",,\"StudyData\", \"Close(\"&$D$12&\") when LocalYear(\"&$D$12&\")=\"&$D$10&\" and localMonth(\"&$D$12&\") =\"&$E$10&\" and LocalDay(\"&$D$12&\")=\"&$F$10&\" and Barix(\"&$D$12&\",reference:=StartOfSession)=\"&A55&\"\", \"Bar\", \"\", \"Close\",\"5\",\"0\",\"PrimaryOnly\",,,\"False\",\"T\",\"EveryTick\")","v":192.91},5.6299848824479179E-3,null,null,null,""]
[55,"13:05:00",-22,{"$f":" RTD(\"cqg.rtd\",,\"StudyData\", $D$12,  \"Tick\", \"FlatTicks=0\", \"Tick\",\"D\",C56,\"PrimaryOnly\")","v":187.89},null,null,null,{"$f":"RTD(\"cqg.rtd\",,\"StudyData\", \"Close(\"&$D$12&\") when LocalYear(\"&$D$12&\")=\"&$D$1&\" and localMonth(\"&$D$12&\") =\"&$E$1&\" and LocalDay(\"&$D$12&\")=\"&$F$1&\" and Barix(\"&$D$12&\",reference:=StartOfSession)=\"&A56&\"\", \"Bar\", \"\", \"Close\",\"5\",\"0\",\"PrimaryOnly\",,,\"False\",\"T\",\"EveryTick\")","v":""},{"$error":"#N/A"},{"$f":"RTD(\"cqg.rtd\",,\"StudyData\", \"Close(\"&$D$12&\") when LocalYear(\"&$D$12&\")=\"&$D$2&\" and localMonth(\"&$D$12&\") =\"&$E$2&\" and LocalDay(\"&$D$12&\")=\"&$F$2&\" and Barix(\"&$D$12&\",reference:=StartOfSession)=\"&A56&\"\", \"Bar\", \"\", \"Close\",\"5\",\"0\",\"PrimaryOnly\",,,\"False\",\"T\",\"EveryTick\")","v":188.72},-1.0901467505241154E-2,{"$f":"RTD(\"cqg.rtd\",,\"StudyData\", \"Close(\"&$D$12&\") when LocalYear(\"&$D$12&\")=\"&$D$3&\" and localMonth(\"&$D$12&\") =\"&$E$3&\" and LocalDay(\"&$D$12&\")=\"&$F$3&\" and Barix(\"&$D$12&\",reference:=StartOfSession)=\"&A56&\"\", \"Bar\", \"\", \"Close\",\"5\",\"0\",\"PrimaryOnly\",,,\"False\",\"T\",\"EveryTick\")","v":191.04},1.7829050865233531E-3,{"$f":"RTD(\"cqg.rtd\",,\"StudyData\", \"Close(\"&$D$12&\") when LocalYear(\"&$D$12&\")=\"&$D$4&\" and localMonth(\"&$D$12&\") =\"&$E$4&\" and LocalDay(\"&$D$12&\")=\"&$F$4&\" and Barix(\"&$D$12&\",reference:=StartOfSession)=\"&A56&\"\", \"Bar\", \"\", \"Close\",\"5\",\"0\",\"PrimaryOnly\",,,\"False\",\"T\",\"EveryTick\")","v":191.26},-5.304763885999637E-3,{"$f":"RTD(\"cqg.rtd\",,\"StudyData\", \"Close(\"&$D$12&\") when LocalYear(\"&$D$12&\")=\"&$D$5&\" and localMonth(\"&$D$12&\") =\"&$E$5&\" and LocalDay(\"&$D$12&\")=\"&$F$5&\" and Barix(\"&$D$12&\",reference:=StartOfSession)=\"&A56&\"\", \"Bar\", \"\", \"Close\",\"5\",\"0\",\"PrimaryOnly\",,,\"False\",\"T\",\"EveryTick\")","v":192.18},4.9678397740941125E-3,{"$f":"RTD(\"cqg.rtd\",,\"StudyData\", \"Close(\"&$D$12&\") when LocalYear(\"&$D$12&\")=\"&$D$6&\" and localMonth(\"&$D$12&\") =\"&$E$6&\" and LocalDay(\"&$D$12&\")=\"&$F$6&\" and Barix(\"&$D$12&\",reference:=StartOfSession)=\"&A56&\"\", \"Bar\", \"\", \"Close\",\"5\",\"0\",\"PrimaryOnly\",,,\"False\",\"T\",\"EveryTick\")","v":191.28},-2.1909233176838159E-3,{"$f":"RTD(\"cqg.rtd\",,\"StudyData\", \"Close(\"&$D$12&\") when LocalYear(\"&$D$12&\")=\"&$D$7&\" and localMonth(\"&$D$12&\") =\"&$E$7&\" and LocalDay(\"&$D$12&\")=\"&$F$7&\" and Barix(\"&$D$12&\",reference:=StartOfSession)=\"&A56&\"\", \"Bar\", \"\", \"Close\",\"5\",\"0\",\"PrimaryOnly\",,,\"False\",\"T\",\"EveryTick\")","v":191.25},-1.1423550087873503E-2,{"$f":"RTD(\"cqg.rtd\",,\"StudyData\", \"Close(\"&$D$12&\") when LocalYear(\"&$D$12&\")=\"&$D$8&\" and localMonth(\"&$D$12&\") =\"&$E$8&\" and LocalDay(\"&$D$12&\")=\"&$F$8&\" and Barix(\"&$D$12&\",reference:=StartOfSession)=\"&A56&\"\", \"Bar\", \"\", \"Close\",\"5\",\"0\",\"PrimaryOnly\",,,\"False\",\"T\",\"EveryTick\")","v":192.87},-5.7222394061242667E-3,{"$f":"RTD(\"cqg.rtd\",,\"StudyData\", \"Close(\"&$D$12&\") when LocalYear(\"&$D$12&\")=\"&$D$9&\" and localMonth(\"&$D$12&\") =\"&$E$9&\" and LocalDay(\"&$D$12&\")=\"&$F$9&\" and Barix(\"&$D$12&\",reference:=StartOfSession)=\"&A56&\"\", \"Bar\", \"\", \"Close\",\"5\",\"0\",\"PrimaryOnly\",,,\"False\",\"T\",\"EveryTick\")","v":192.77},-2.79344058765709E-3,{"$f":"RTD(\"cqg.rtd\",,\"StudyData\", \"Close(\"&$D$12&\") when LocalYear(\"&$D$12&\")=\"&$D$10&\" and localMonth(\"&$D$12&\") =\"&$E$10&\" and LocalDay(\"&$D$12&\")=\"&$F$10&\" and Barix(\"&$D$12&\",reference:=StartOfSession)=\"&A56&\"\", \"Bar\", \"\", \"Close\",\"5\",\"0\",\"PrimaryOnly\",,,\"False\",\"T\",\"EveryTick\")","v":193.01},6.1512797789708504E-3,null,null,null,""]
[56,"13:10:00",-21,{"$f":" RTD(\"cqg.rtd\",,\"StudyData\", $D$12,  \"Tick\", \"FlatTicks=0\", \"Tick\",\"D\",C57,\"PrimaryOnly\")","v":187.9},null,null,null,{"$f":"RTD(\"cqg.rtd\",,\"StudyData\", \"Close(\"&$D$12&\") when LocalYear(\"&$D$12&\")=\"&$D$1&\" and localMonth(\"&$D$12&\") =\"&$E$1&\" and LocalDay(\"&$D$12&\")=\"&$F$1&\" and Barix(\"&$D$12&\",reference:=StartOfSession)=\"&A57&\"\", \"Bar\", \"\", \"Close\",\"5\",\"0\",\"PrimaryOnly\",,,\"False\",\"T\",\"EveryTick\")","v":""},{"$error":"#N/A"},{"$f":"RTD(\"cqg.rtd\",,\"StudyData\", \"Close(\"&$D$12&\") when LocalYear(\"&$D$12&\")=\"&$D$2&\" and localMonth(\"&$D$12&\") =\"&$E$2&\" and LocalDay(\"&$D$12&\")=\"&$F$2&\" and Barix(\"&$D$12&\",reference:=StartOfSession)=\"&A57&\"\", \"Bar\", \"\", \"Close\",\"5\",\"0\",\"PrimaryOnly\",,,\"False\",\"T\",\"EveryTick\")","v":188.94},-9.7484276729560455E-3,{"$f":"RTD(\"cqg.rtd\",,\"StudyData\", \"Close(\"&$D$12&\") when LocalYear(\"&$D$12&\")=\"&$D$3&\" and localMonth(\"&$D$12&\") =\"&$E$3&\" and LocalDay(\"&$D$12&\")=\"&$F$3&\" and Barix(\"&$D$12&\",reference:=StartOfSession)=\"&A57&\"\", \"Bar\", \"\", \"Close\",\"5\",\"0\",\"PrimaryOnly\",,,\"False\",\"T\",\"EveryTick\")","v":191.06},1.8877818563188971E-3,{"$f":"RTD(\"cqg.rtd\",,\"StudyData\", \"Close(\"&$D$12&\") when LocalYear(\"&$D$12&\")=\"&$D$4&\" and localMonth(\"&$D$12&\") =\"&$E$4&\" and LocalDay(\"&$D$12&\")=\"&$F$4&\" and Barix(\"&$D$12&\",reference:=StartOfSession)=\"&A57&\"\", \"Bar\", \"\", \"Close\",\"5\",\"0\",\"PrimaryOnly\",,,\"False\",\"T\",\"EveryTick\")","v":191.68},-3.1204493447056082E-3,{"$f":"RTD(\"cqg.rtd\",,\"StudyData\", \"Close(\"&$D$12&\") when LocalYear(\"&$D$12&\")=\"&$D$5&\" and localMonth(\"&$D$12&\") =\"&$E$5&\" and LocalDay(\"&$D$12&\")=\"&$F$5&\" and Barix(\"&$D$12&\",reference:=StartOfSession)=\"&A57&\"\", \"Bar\", \"\", \"Close\",\"5\",\"0\",\"PrimaryOnly\",,,\"False\",\"T\",\"EveryTick\")","v":192.1},4.5494953720650764E-3,{"$f":"RTD(\"cqg.rtd\",,\"StudyData\", \"Close(\"&$D$12&\") when LocalYear(\"&$D$12&\")=\"&$D$6&\" and localMonth(\"&$D$12&\") =\"&$E$6&\" and LocalDay(\"&$D$12&\")=\"&$F$6&\" and Barix(\"&$D$12&\",reference:=StartOfSession)=\"&A57&\"\", \"Bar\", \"\", \"Close\",\"5\",\"0\",\"PrimaryOnly\",,,\"False\",\"T\",\"EveryTick\")","v":191.22},-2.5039123630672395E-3,{"$f":"RTD(\"cqg.rtd\",,\"StudyData\", \"Close(\"&$D$12&\") when LocalYear(\"&$D$12&\")=\"&$D$7&\" and localMonth(\"&$D$12&\") =\"&$E$7&\" and LocalDay(\"&$D$12&\")=\"&$F$7&\" and Barix(\"&$D$12&\",reference:=StartOfSession)=\"&A57&\"\", \"Bar\", \"\", \"Close\",\"5\",\"0\",\"PrimaryOnly\",,,\"False\",\"T\",\"EveryTick\")","v":191.44},-1.0441434921947742E-2,{"$f":"RTD(\"cqg.rtd\",,\"StudyData\", \"Close(\"&$D$12&\") when LocalYear(\"&$D$12&\")=\"&$D$8&\" and localMonth(\"&$D$12&\") =\"&$E$8&\" and LocalDay(\"&$D$12&\")=\"&$F$8&\" and Barix(\"&$D$12&\",reference:=StartOfSession)=\"&A57&\"\", \"Bar\", \"\", \"Close\",\"5\",\"0\",\"PrimaryOnly\",,,\"False\",\"T\",\"EveryTick\")","v":192.98},-5.1551706361480567E-3,{"$f":"RTD(\"cqg.rtd\",,\"StudyData\", \"Close(\"&$D$12&\") when LocalYear(\"&$D$12&\")=\"&$D$9&\" and localMonth(\"&$D$12&\") =\"&$E$9&\" and LocalDay(\"&$D$12&\")=\"&$F$9&\" and Barix(\"&$D$12&\",reference:=StartOfSession)=\"&A57&\"\", \"Bar\", \"\", \"Close\",\"5\",\"0\",\"PrimaryOnly\",,,\"False\",\"T\",\"EveryTick\")","v":192.94},-1.9140241063576873E-3,{"$f":"RTD(\"cqg.rtd\",,\"StudyData\", \"Close(\"&$D$12&\") when LocalYear(\"&$D$12&\")=\"&$D$10&\" and localMonth(\"&$D$12&\") =\"&$E$10&\" and LocalDay(\"&$D$12&\")=\"&$F$10&\" and Barix(\"&$D$12&\",reference:=StartOfSession)=\"&A57&\"\", \"Bar\", \"\", \"Close\",\"5\",\"0\",\"PrimaryOnly\",,,\"False\",\"T\",\"EveryTick\")","v":193.07},6.4640567168846403E-3,null,null,null,""]
[57,"13:15:00",-20,{"$f":" RTD(\"cqg.rtd\",,\"StudyData\", $D$12,  \"Tick\", \"FlatTicks=0\", \"Tick\",\"D\",C58,\"PrimaryOnly\")","v":187.89},null,null,null,{"$f":"RTD(\"cqg.rtd\",,\"StudyData\", \"Close(\"&$D$12&\") when LocalYear(\"&$D$12&\")=\"&$D$1&\" and localMonth(\"&$D$12&\") =\"&$E$1&\" and LocalDay(\"&$D$12&\")=\"&$F$1&\" and Barix(\"&$D$12&\",reference:=StartOfSession)=\"&A58&\"\", \"Bar\", \"\", \"Close\",\"5\",\"0\",\"PrimaryOnly\",,,\"False\",\"T\",\"EveryTick\")","v":""},{"$error":"#N/A"},{"$f":"RTD(\"cqg.rtd\",,\"StudyData\", \"Close(\"&$D$12&\") when LocalYear(\"&$D$12&\")=\"&$D$2&\" and localMonth(\"&$D$12&\") =\"&$E$2&\" and LocalDay(\"&$D$12&\")=\"&$F$2&\" and Barix(\"&$D$12&\",reference:=StartOfSession)=\"&A58&\"\", \"Bar\", \"\", \"Close\",\"5\",\"0\",\"PrimaryOnly\",,,\"False\",\"T\",\"EveryTick\")","v":189.01},-9.3815513626835448E-3,{"$f":"RTD(\"cqg.rtd\",,\"StudyData\", \"Close(\"&$D$12&\") when LocalYear(\"&$D$12&\")=\"&$D$3&\" and localMonth(\"&$D$12&\") =\"&$E$3&\" and LocalDay(\"&$D$12&\")=\"&$F$3&\" and Barix(\"&$D$12&\",reference:=StartOfSession)=\"&A58&\"\", \"Bar\", \"\", \"Close\",\"5\",\"0\",\"PrimaryOnly\",,,\"False\",\"T\",\"EveryTick\")","v":191.01},1.6255899318301118E-3,{"$f":"RTD(\"cqg.rtd\",,\"StudyData\", \"Close(\"&$D$12&\") when LocalYear(\"&$D$12&\")=\"&$D$4&\" and localMonth(\"&$D$12&\") =\"&$E$4&\" and LocalDay(\"&$D$12&\")=\"&$F$4&\" and Barix(\"&$D$12&\",reference:=StartOfSession)=\"&A58&\"\", \"Bar\", \"\", \"Close\",\"5\",\"0\",\"PrimaryOnly\",,,\"False\",\"T\",\"EveryTick\")","v":191.45},-4.3166215935095302E-3,{"$f":"RTD(\"cqg.rtd\",,\"StudyData\", \"Close(\"&$D$12&\") when LocalYear(\"&$D$12&\")=\"&$D$5&\" and localMonth(\"&$D$12&\") =\"&$E$5&\" and LocalDay(\"&$D$12&\")=\"&$F$5&\" and Barix(\"&$D$12&\",reference:=StartOfSession)=\"&A58&\"\", \"Bar\", \"\", \"Close\",\"5\",\"0\",\"PrimaryOnly\",,,\"False\",\"T\",\"EveryTick\")","v":191.97},3.8696857187680237E-3,{"$f":"RTD(\"cqg.rtd\",,\"StudyData\", \"Close(\"&$D$12&\") when LocalYear(\"&$D$12&\")=\"&$D$6&\" and localMonth(\"&$D$12&\") =\"&$E$6&\" and LocalDay(\"&$D$12&\")=\"&$F$6&\" and Barix(\"&$D$12&\",reference:=StartOfSession)=\"&A58&\"\", \"Bar\", \"\", \"Close\",\"5\",\"0\",\"PrimaryOnly\",,,\"False\",\"T\",\"EveryTick\")","v":191.39},-1.6171100678143051E-3,{"$f":"RTD(\"cqg.rtd\",,\"StudyData\", \"Close(\"&$D$12&\") when LocalYear(\"&$D$12&\")=\"&$D$7&\" and localMonth(\"&$D$12&\") =\"&$E$7&\" and LocalDay(\"&$D$12&\")=\"&$F$7&\" and Barix(\"&$D$12&\",reference:=StartOfSession)=\"&A58&\"\", \"Bar\", \"\", \"Close\",\"5\",\"0\",\"PrimaryOnly\",,,\"False\",\"T\",\"EveryTick\")","v":191.39},-1.0699886281401951E-2,{"$f":"RTD(\"cqg.rtd\",,\"StudyData\", \"Close(\"&$D$12&\") when LocalYear(\"&$D$12&\")=\"&$D$8&\" and localMonth(\"&$D$12&\") =\"&$E$8&\" and LocalDay(\"&$D$12&\")=\"&$F$8&\" and Barix(\"&$D$12&\",reference:=StartOfSession)=\"&A58&\"\", \"Bar\", \"\", \"Close\",\"5\",\"0\",\"PrimaryOnly\",,,\"False\",\"T\",\"EveryTick\")","v":193.01},-5.0005155170636095E-3,{"$f":"RTD(\"cqg.rtd\",,\"StudyData\", \"Close(\"&$D$12&\") when LocalYear(\"&$D$12&\")=\"&$D$9&\" and localMonth(\"&$D$12&\") =\"&$E$9&\" and LocalDay(\"&$D$12&\")=\"&$F$9&\" and Barix(\"&$D$12&\",reference:=StartOfSession)=\"&A58&\"\", \"Bar\", \"\", \"Close\",\"5\",\"0\",\"PrimaryOnly\",,,\"False\",\"T\",\"EveryTick\")","v":192.93},-1.9657544876105501E-3,{"$f":"RTD(\"cqg.rtd\",,\"StudyData\", \"Close(\"&$D$12&\") when LocalYear(\"&$D$12&\")=\"&$D$10&\" and localMonth(\"&$D$12&\") =\"&$E$10&\" and LocalDay(\"&$D$12&\")=\"&$F$10&\" and Barix(\"&$D$12&\",reference:=StartOfSession)=\"&A58&\"\", \"Bar\", \"\", \"Close\",\"5\",\"0\",\"PrimaryOnly\",,,\"False\",\"T\",\"EveryTick\")","v":193.14},6.8289631444506792E-3,null,null,null,""]
[58,"13:20:00",{"$f":"C58+1","v":-19},{"$f":" RTD(\"cqg.rtd\",,\"StudyData\", $D$12,  \"Tick\", \"FlatTicks=0\", \"Tick\",\"D\",C59,\"PrimaryOnly\")","v":187.88},null,null,null,{"$f":"RTD(\"cqg.rtd\",,\"StudyData\", \"Close(\"&$D$12&\") when LocalYear(\"&$D$12&\")=\"&$D$1&\" and localMonth(\"&$D$12&\") =\"&$E$1&\" and LocalDay(\"&$D$12&\")=\"&$F$1&\" and Barix(\"&$D$12&\",reference:=StartOfSession)=\"&A59&\"\", \"Bar\", \"\", \"Close\",\"5\",\"0\",\"PrimaryOnly\",,,\"False\",\"T\",\"EveryTick\")","v":""},{"$error":"#N/A"},{"$f":"RTD(\"cqg.rtd\",,\"StudyData\", \"Close(\"&$D$12&\") when LocalYear(\"&$D$12&\")=\"&$D$2&\" and localMonth(\"&$D$12&\") =\"&$E$2&\" and LocalDay(\"&$D$12&\")=\"&$F$2&\" and Barix(\"&$D$12&\",reference:=StartOfSession)=\"&A59&\"\", \"Bar\", \"\", \"Close\",\"5\",\"0\",\"PrimaryOnly\",,,\"False\",\"T\",\"EveryTick\")","v":189.34},-7.6519916142558063E-3,{"$f":"RTD(\"cqg.rtd\",,\"StudyData\", \"Close(\"&$D$12&\") when LocalYear(\"&$D$12&\")=\"&$D$3&\" and localMonth(\"&$D$12&\") =\"&$E$3&\" and LocalDay(\"&$D$12&\")=\"&$F$3&\" and Barix(\"&$D$12&\",reference:=StartOfSession)=\"&A59&\"\", \"Bar\", \"\", \"Close\",\"5\",\"0\",\"PrimaryOnly\",,,\"False\",\"T\",\"EveryTick\")","v":191.04},1.7829050865233531E-3,{"$f":"RTD(\"cqg.rtd\",,\"StudyData\", \"Close(\"&$D$12&\") when LocalYear(\"&$D$12&\")=\"&$D$4&\" and localMonth(\"&$D$12&\") =\"&$E$4&\" and LocalDay(\"&$D$12&\")=\"&$F$4&\" and Barix(\"&$D$12&\",reference:=StartOfSession)=\"&A59&\"\", \"Bar\", \"\", \"Close\",\"5\",\"0\",\"PrimaryOnly\",,,\"False\",\"T\",\"EveryTick\")","v":190.96},-6.8649885583523676E-3,{"$f":"RTD(\"cqg.rtd\",,\"StudyData\", \"Close(\"&$D$12&\") when LocalYear(\"&$D$12&\")=\"&$D$5&\" and localMonth(\"&$D$12&\") =\"&$E$5&\" and LocalDay(\"&$D$12&\")=\"&$F$5&\" and Barix(\"&$D$12&\",reference:=StartOfSession)=\"&A59&\"\", \"Bar\", \"\", \"Close\",\"5\",\"0\",\"PrimaryOnly\",,,\"False\",\"T\",\"EveryTick\")","v":191.88},3.399048266485414E-3,{"$f":"RTD(\"cqg.rtd\",,\"StudyData\", \"Close(\"&$D$12&\") when LocalYear(\"&$D$12&\")=\"&$D$6&\" and localMonth(\"&$D$12&\") =\"&$E$6&\" and LocalDay(\"&$D$12&\")=\"&$F$6&\" and Barix(\"&$D$12&\",reference:=StartOfSession)=\"&A59&\"\", \"Bar\", \"\", \"Close\",\"5\",\"0\",\"PrimaryOnly\",,,\"False\",\"T\",\"EveryTick\")","v":191.47},-1.1997913406363578E-3,{"$f":"RTD(\"cqg.rtd\",,\"StudyData\", \"Close(\"&$D$12&\") when LocalYear(\"&$D$12&\")=\"&$D$7&\" and localMonth(\"&$D$12&\") =\"&$E$7&\" and LocalDay(\"&$D$12&\")=\"&$F$7&\" and Barix(\"&$D$12&\",reference:=StartOfSession)=\"&A59&\"\", \"Bar\", \"\", \"Close\",\"5\",\"0\",\"PrimaryOnly\",,,\"False\",\"T\",\"EveryTick\")","v":191.29},-1.1216789000310224E-2,{"$f":"RTD(\"cqg.rtd\",,\"StudyData\", \"Close(\"&$D$12&\") when LocalYear(\"&$D$12&\")=\"&$D$8&\" and localMonth(\"&$D$12&\") =\"&$E$8&\" and LocalDay(\"&$D$12&\")=\"&$F$8&\" and Barix(\"&$D$12&\",reference:=StartOfSession)=\"&A59&\"\", \"Bar\", \"\", \"Close\",\"5\",\"0\",\"PrimaryOnly\",,,\"False\",\"T\",\"EveryTick\")","v":193},-5.0520672234250427E-3,{"$f":"RTD(\"cqg.rtd\",,\"StudyData\", \"Close(\"&$D$12&\") when LocalYear(\"&$D$12&\")=\"&$D$9&\" and localMonth(\"&$D$12&\") =\"&$E$9&\" and LocalDay(\"&$D$12&\")=\"&$F$9&\" and Barix(\"&$D$12&\",reference:=StartOfSession)=\"&A59&\"\", \"Bar\", \"\", \"Close\",\"5\",\"0\",\"PrimaryOnly\",,,\"False\",\"T\",\"EveryTick\")","v":192.98},-1.7071025813460892E-3,{"$f":"RTD(\"cqg.rtd\",,\"StudyData\", \"Close(\"&$D$12&\") when LocalYear(\"&$D$12&\")=\"&$D$10&\" and localMonth(\"&$D$12&\") =\"&$E$10&\" and LocalDay(\"&$D$12&\")=\"&$F$10&\" and Barix(\"&$D$12&\",reference:=StartOfSession)=\"&A59&\"\", \"Bar\", \"\", \"Close\",\"5\",\"0\",\"PrimaryOnly\",,,\"False\",\"T\",\"EveryTick\")","v":193.1},6.6204451858415357E-3,null,null,null,""]
[59,"13:25:00",{"$f":"C59+1","v":-18},{"$f":" RTD(\"cqg.rtd\",,\"StudyData\", $D$12,  \"Tick\", \"FlatTicks=0\", \"Tick\",\"D\",C60,\"PrimaryOnly\")","v":187.89},null,null,null,{"$f":"RTD(\"cqg.rtd\",,\"StudyData\", \"Close(\"&$D$12&\") when LocalYear(\"&$D$12&\")=\"&$D$1&\" and localMonth(\"&$D$12&\") =\"&$E$1&\" and LocalDay(\"&$D$12&\")=\"&$F$1&\" and Barix(\"&$D$12&\",reference:=StartOfSession)=\"&A60&\"\", \"Bar\", \"\", \"Close\",\"5\",\"0\",\"PrimaryOnly\",,,\"False\",\"T\",\"EveryTick\")","v":""},{"$error":"#N/A"},{"$f":"RTD(\"cqg.rtd\",,\"StudyData\", \"Close(\"&$D$12&\") when LocalYear(\"&$D$12&\")=\"&$D$2&\" and localMonth(\"&$D$12&\") =\"&$E$2&\" and LocalDay(\"&$D$12&\")=\"&$F$2&\" and Barix(\"&$D$12&\",reference:=StartOfSession)=\"&A60&\"\", \"Bar\", \"\", \"Close\",\"5\",\"0\",\"PrimaryOnly\",,,\"False\",\"T\",\"EveryTick\")","v":189.37},-7.4947589098532845E-3,{"$f":"RTD(\"cqg.rtd\",,\"StudyData\", \"Close(\"&$D$12&\") when LocalYear(\"&$D$12&\")=\"&$D$3&\" and localMonth(\"&$D$12&\") =\"&$E$3&\" and LocalDay(\"&$D$12&\")=\"&$F$3&\" and Barix(\"&$D$12&\",reference:=StartOfSession)=\"&A60&\"\", \"Bar\", \"\", \"Close\",\"5\",\"0\",\"PrimaryOnly\",,,\"False\",\"T\",\"EveryTick\")","v":190.97},1.4158363922391727E-3,{"$f":"RTD(\"cqg.rtd\",,\"StudyData\", \"Close(\"&$D$12&\") when LocalYear(\"&$D$12&\")=\"&$D$4&\" and localMonth(\"&$D$12&\") =\"&$E$4&\" and LocalDay(\"&$D$12&\")=\"&$F$4&\" and Barix(\"&$D$12&\",reference:=StartOfSession)=\"&A60&\"\", \"Bar\", \"\", \"Close\",\"5\",\"0\",\"PrimaryOnly\",,,\"False\",\"T\",\"EveryTick\")","v":191.1},-6.1368837112544565E-3,{"$f":"RTD(\"cqg.rtd\",,\"StudyData\", \"Close(\"&$D$12&\") when LocalYear(\"&$D$12&\")=\"&$D$5&\" and localMonth(\"&$D$12&\") =\"&$E$5&\" and LocalDay(\"&$D$12&\")=\"&$F$5&\" and Barix(\"&$D$12&\",reference:=StartOfSession)=\"&A60&\"\", \"Bar\", \"\", \"Close\",\"5\",\"0\",\"PrimaryOnly\",,,\"False\",\"T\",\"EveryTick\")","v":191.56},1.7256706583695682E-3,{"$f":"RTD(\"cqg.rtd\",,\"StudyData\", \"Close(\"&$D$12&\") when LocalYear(\"&$D$12&\")=\"&$D$6&\" and localMonth(\"&$D$12&\") =\"&$E$6&\" and LocalDay(\"&$D$12&\")=\"&$F$6&\" and Barix(\"&$D$12&\",reference:=StartOfSession)=\"&A60&\"\", \"Bar\", \"\", \"Close\",\"5\",\"0\",\"PrimaryOnly\",,,\"False\",\"T\",\"EveryTick\")","v":191.42},-1.4606155451225933E-3,{"$f":"RTD(\"cqg.rtd\",,\"StudyData\", \"Close(\"&$D$12&\") when LocalYear(\"&$D$12&\")=\"&$D$7&\" and localMonth(\"&$D$12&\") =\"&$E$7&\" and LocalDay(\"&$D$12&\")=\"&$F$7&\" and Barix(\"&$D$12&\",reference:=StartOfSession)=\"&A60&\"\", \"Bar\", \"\", \"Close\",\"5\",\"0\",\"PrimaryOnly\",,,\"False\",\"T\",\"EveryTick\")","v":191.15},-1.1940452806781776E-2,{"$f":"RTD(\"cqg.rtd\",,\"StudyData\", \"Close(\"&$D$12&\") when LocalYear(\"&$D$12&\")=\"&$D$8&\" and localMonth(\"&$D$12&\") =\"&$E$8&\" and LocalDay(\"&$D$12&\")=\"&$F$8&\" and Barix(\"&$D$12&\",reference:=StartOfSession)=\"&A60&\"\", \"Bar\", \"\", \"Close\",\"5\",\"0\",\"PrimaryOnly\",,,\"False\",\"T\",\"EveryTick\")","v":192.99},-5.1036189297864768E-3,{"$f":"RTD(\"cqg.rtd\",,\"StudyData\", \"Close(\"&$D$12&\") when LocalYear(\"&$D$12&\")=\"&$D$9&\" and localMonth(\"&$D$12&\") =\"&$E$9&\" and LocalDay(\"&$D$12&\")=\"&$F$9&\" and Barix(\"&$D$12&\",reference:=StartOfSession)=\"&A60&\"\", \"Bar\", \"\", \"Close\",\"5\",\"0\",\"PrimaryOnly\",,,\"False\",\"T\",\"EveryTick\")","v":193.13},-9.311468625524123E-4,{"$f":"RTD(\"cqg.rtd\",,\"StudyData\", \"Close(\"&$D$12&\") when LocalYear(\"&$D$12&\")=\"&$D$10&\" and localMonth(\"&$D$12&\") =\"&$E$10&\" and LocalDay(\"&$D$12&\")=\"&$F$10&\" and Barix(\"&$D$12&\",reference:=StartOfSession)=\"&A60&\"\", \"Bar\", \"\", \"Close\",\"5\",\"0\",\"PrimaryOnly\",,,\"False\",\"T\",\"EveryTick\")","v":193.07},6.4640567168846403E-3,null,null,null,""]
[60,"13:30:00",-17,{"$f":" RTD(\"cqg.rtd\",,\"StudyData\", $D$12,  \"Tick\", \"FlatTicks=0\", \"Tick\",\"D\",C61,\"PrimaryOnly\")","v":187.88},null,null,null,{"$f":"RTD(\"cqg.rtd\",,\"StudyData\", \"Close(\"&$D$12&\") when LocalYear(\"&$D$12&\")=\"&$D$1&\" and localMonth(\"&$D$12&\") =\"&$E$1&\" and LocalDay(\"&$D$12&\")=\"&$F$1&\" and Barix(\"&$D$12&\",reference:=StartOfSession)=\"&A61&\"\", \"Bar\", \"\", \"Close\",\"5\",\"0\",\"PrimaryOnly\",,,\"False\",\"T\",\"EveryTick\")","v":""},{"$error":"#N/A"},{"$f":"RTD(\"cqg.rtd\",,\"StudyData\", \"Close(\"&$D$12&\") when LocalYear(\"&$D$12&\")=\"&$D$2&\" and localMonth(\"&$D$12&\") =\"&$E$2&\" and LocalDay(\"&$D$12&\")=\"&$F$2&\" and Barix(\"&$D$12&\",reference:=StartOfSession)=\"&A61&\"\", \"Bar\", \"\", \"Close\",\"5\",\"0\",\"PrimaryOnly\",,,\"False\",\"T\",\"EveryTick\")","v":189.43},-7.180293501048241E-3,{"$f":"RTD(\"cqg.rtd\",,\"StudyData\", \"Close(\"&$D$12&\") when LocalYear(\"&$D$12&\")=\"&$D$3&\" and localMonth(\"&$D$12&\") =\"&$E$3&\" and LocalDay(\"&$D$12&\")=\"&$F$3&\" and Barix(\"&$D$12&\",reference:=StartOfSession)=\"&A61&\"\", \"Bar\", \"\", \"Close\",\"5\",\"0\",\"PrimaryOnly\",,,\"False\",\"T\",\"EveryTick\")","v":190.92},1.1536444677503874E-3,{"$f":"RTD(\"cqg.rtd\",,\"StudyData\", \"Close(\"&$D$12&\") when LocalYear(\"&$D$12&\")=\"&$D$4&\" and localMonth(\"&$D$12&\") =\"&$E$4&\" and LocalDay(\"&$D$12&\")=\"&$F$4&\" and Barix(\"&$D$12&\",reference:=StartOfSession)=\"&A61&\"\", \"Bar\", \"\", \"Close\",\"5\",\"0\",\"PrimaryOnly\",,,\"False\",\"T\",\"EveryTick\")","v":190.91},-7.1250260037445624E-3,{"$f":"RTD(\"cqg.rtd\",,\"StudyData\", \"Close(\"&$D$12&\") when LocalYear(\"&$D$12&\")=\"&$D$5&\" and localMonth(\"&$D$12&\") =\"&$E$5&\" and LocalDay(\"&$D$12&\")=\"&$F$5&\" and Barix(\"&$D$12&\",reference:=StartOfSession)=\"&A61&\"\", \"Bar\", \"\", \"Close\",\"5\",\"0\",\"PrimaryOnly\",,,\"False\",\"T\",\"EveryTick\")","v":191.35},6.2751660304347936E-4,{"$f":"RTD(\"cqg.rtd\",,\"StudyData\", \"Close(\"&$D$12&\") when LocalYear(\"&$D$12&\")=\"&$D$6&\" and localMonth(\"&$D$12&\") =\"&$E$6&\" and LocalDay(\"&$D$12&\")=\"&$F$6&\" and Barix(\"&$D$12&\",reference:=StartOfSession)=\"&A61&\"\", \"Bar\", \"\", \"Close\",\"5\",\"0\",\"PrimaryOnly\",,,\"False\",\"T\",\"EveryTick\")","v":191.36},-1.7736045905058686E-3,{"$f":"RTD(\"cqg.rtd\",,\"StudyData\", \"Close(\"&$D$12&\") when LocalYear(\"&$D$12&\")=\"&$D$7&\" and localMonth(\"&$D$12&\") =\"&$E$7&\" and LocalDay(\"&$D$12&\")=\"&$F$7&\" and Barix(\"&$D$12&\",reference:=StartOfSession)=\"&A61&\"\", \"Bar\", \"\", \"Close\",\"5\",\"0\",\"PrimaryOnly\",,,\"False\",\"T\",\"EveryTick\")","v":191.27},-1.132016954409179E-2,{"$f":"RTD(\"cqg.rtd\",,\"StudyData\", \"Close(\"&$D$12&\") when LocalYear(\"&$D$12&\")=\"&$D$8&\" and localMonth(\"&$D$12&\") =\"&$E$8&\" and LocalDay(\"&$D$12&\")=\"&$F$8&\" and Barix(\"&$D$12&\",reference:=StartOfSession)=\"&A61&\"\", \"Bar\", \"\", \"Close\",\"5\",\"0\",\"PrimaryOnly\",,,\"False\",\"T\",\"EveryTick\")","v":193.21},-3.9694813898339103E-3,{"$f":"RTD(\"cqg.rtd\",,\"StudyData\", \"Close(\"&$D$12&\") when LocalYear(\"&$D$12&\")=\"&$D$9&\" and localMonth(\"&$D$12&\") =\"&$E$9&\" and LocalDay(\"&$D$12&\")=\"&$F$9&\" and Barix(\"&$D$12&\",reference:=StartOfSession)=\"&A61&\"\", \"Bar\", \"\", \"Close\",\"5\",\"0\",\"PrimaryOnly\",,,\"False\",\"T\",\"EveryTick\")","v":193.21},-5.1730381252906897E-4,{"$f":"RTD(\"cqg.rtd\",,\"StudyData\", \"Close(\"&$D$12&\") when LocalYear(\"&$D$12&\")=\"&$D$10&\" and localMonth(\"&$D$12&\") =\"&$E$10&\" and LocalDay(\"&$D$12&\")=\"&$F$10&\" and Barix(\"&$D$12&\",reference:=StartOfSession)=\"&A61&\"\", \"Bar\", \"\", \"Close\",\"5\",\"0\",\"PrimaryOnly\",,,\"False\",\"T\",\"EveryTick\")","v":193},6.0991502893186023E-3,null,null,null,""]
[61,"13:35:00",-16,{"$f":" RTD(\"cqg.rtd\",,\"StudyData\", $D$12,  \"Tick\", \"FlatTicks=0\", \"Tick\",\"D\",C62,\"PrimaryOnly\")","v":187.89},null,null,null,{"$f":"RTD(\"cqg.rtd\",,\"StudyData\", \"Close(\"&$D$12&\") when LocalYear(\"&$D$12&\")=\"&$D$1&\" and localMonth(\"&$D$12&\") =\"&$E$1&\" and LocalDay(\"&$D$12&\")=\"&$F$1&\" and Barix(\"&$D$12&\",reference:=StartOfSession)=\"&A62&\"\", \"Bar\", \"\", \"Close\",\"5\",\"0\",\"PrimaryOnly\",,,\"False\",\"T\",\"EveryTick\")","v":""},{"$error":"#N/A"},{"$f":"RTD(\"cqg.rtd\",,\"StudyData\", \"Close(\"&$D$12&\") when LocalYear(\"&$D$12&\")=\"&$D$2&\" and localMonth(\"&$D$12&\") =\"&$E$2&\" and LocalDay(\"&$D$12&\")=\"&$F$2&\" and Barix(\"&$D$12&\",reference:=StartOfSession)=\"&A62&\"\", \"Bar\", \"\", \"Close\",\"5\",\"0\",\"PrimaryOnly\",,,\"False\",\"T\",\"EveryTick\")","v":189.27},-8.018867924528307E-3,{"$f":"RTD(\"cqg.rtd\",,\"StudyData\", \"Close(\"&$D$12&\") when LocalYear(\"&$D$12&\")=\"&$D$3&\" and localMonth(\"&$D$12&\") =\"&$E$3&\" and LocalDay(\"&$D$12&\")=\"&$F$3&\" and Barix(\"&$D$12&\",reference:=StartOfSession)=\"&A62&\"\", \"Bar\", \"\", \"Close\",\"5\",\"0\",\"PrimaryOnly\",,,\"False\",\"T\",\"EveryTick\")","v":190.91},1.10120608285269E-3,{"$f":"RTD(\"cqg.rtd\",,\"StudyData\", \"Close(\"&$D$12&\") when LocalYear(\"&$D$12&\")=\"&$D$4&\" and localMonth(\"&$D$12&\") =\"&$E$4&\" and LocalDay(\"&$D$12&\")=\"&$F$4&\" and Barix(\"&$D$12&\",reference:=StartOfSession)=\"&A62&\"\", \"Bar\", \"\", \"Close\",\"5\",\"0\",\"PrimaryOnly\",,,\"False\",\"T\",\"EveryTick\")","v":191.17},-5.7728312877055009E-3,{"$f":"RTD(\"cqg.rtd\",,\"StudyData\", \"Close(\"&$D$12&\") when LocalYear(\"&$D$12&\")=\"&$D$5&\" and localMonth(\"&$D$12&\") =\"&$E$5&\" and LocalDay(\"&$D$12&\")=\"&$F$5&\" and Barix(\"&$D$12&\",reference:=StartOfSession)=\"&A62&\"\", \"Bar\", \"\", \"Close\",\"5\",\"0\",\"PrimaryOnly\",,,\"False\",\"T\",\"EveryTick\")","v":191.52},1.5164984573551247E-3,{"$f":"RTD(\"cqg.rtd\",,\"StudyData\", \"Close(\"&$D$12&\") when LocalYear(\"&$D$12&\")=\"&$D$6&\" and localMonth(\"&$D$12&\") =\"&$E$6&\" and LocalDay(\"&$D$12&\")=\"&$F$6&\" and Barix(\"&$D$12&\",reference:=StartOfSession)=\"&A62&\"\", \"Bar\", \"\", \"Close\",\"5\",\"0\",\"PrimaryOnly\",,,\"False\",\"T\",\"EveryTick\")","v":191.33},-1.9300991131975802E-3,{"$f":"RTD(\"cqg.rtd\",,\"StudyData\", \"Close(\"&$D$12&\") when LocalYear(\"&$D$12&\")=\"&$D$7&\" and localMonth(\"&$D$12&\") =\"&$E$7&\" and LocalDay(\"&$D$12&\")=\"&$F$7&\" and Barix(\"&$D$12&\",reference:=StartOfSession)=\"&A62&\"\", \"Bar\", \"\", \"Close\",\"5\",\"0\",\"PrimaryOnly\",,,\"False\",\"T\",\"EveryTick\")","v":191.36},-1.08549570970743E-2,{"$f":"RTD(\"cqg.rtd\",,\"StudyData\", \"Close(\"&$D$12&\") when LocalYear(\"&$D$12&\")=\"&$D$8&\" and localMonth(\"&$D$12&\") =\"&$E$8&\" and LocalDay(\"&$D$12&\")=\"&$F$8&\" and Barix(\"&$D$12&\",reference:=StartOfSession)=\"&A62&\"\", \"Bar\", \"\", \"Close\",\"5\",\"0\",\"PrimaryOnly\",,,\"False\",\"T\",\"EveryTick\")","v":193.33},-3.3508609134961197E-3,{"$f":"RTD(\"cqg.rtd\",,\"StudyData\", \"Close(\"&$D$12&\") when LocalYear(\"&$D$12&\")=\"&$D$9&\" and localMonth(\"&$D$12&\") =\"&$E$9&\" and LocalDay(\"&$D$12&\")=\"&$F$9&\" and Barix(\"&$D$12&\",reference:=StartOfSession)=\"&A62&\"\", \"Bar\", \"\", \"Close\",\"5\",\"0\",\"PrimaryOnly\",,,\"False\",\"T\",\"EveryTick\")","v":193.36},2.58651906264608E-4,{"$f":"RTD(\"cqg.rtd\",,\"StudyData\", \"Close(\"&$D$12&\") when LocalYear(\"&$D$12&\")=\"&$D$10&\" and localMonth(\"&$D$12&\") =\"&$E$10&\" and LocalDay(\"&$D$12&\")=\"&$F$10&\" and Barix(\"&$D$12&\",reference:=StartOfSession)=\"&A62&\"\", \"Bar\", \"\", \"Close\",\"5\",\"0\",\"PrimaryOnly\",,,\"False\",\"T\",\"EveryTick\")","v":192.94},5.7863733514048124E-3,null,null,null,""]
[62,"13:40:00",-15,{"$f":" RTD(\"cqg.rtd\",,\"StudyData\", $D$12,  \"Tick\", \"FlatTicks=0\", \"Tick\",\"D\",C63,\"PrimaryOnly\")","v":187.88},null,null,null,{"$f":"RTD(\"cqg.rtd\",,\"StudyData\", \"Close(\"&$D$12&\") when LocalYear(\"&$D$12&\")=\"&$D$1&\" and localMonth(\"&$D$12&\") =\"&$E$1&\" and LocalDay(\"&$D$12&\")=\"&$F$1&\" and Barix(\"&$D$12&\",reference:=StartOfSession)=\"&A63&\"\", \"Bar\", \"\", \"Close\",\"5\",\"0\",\"PrimaryOnly\",,,\"False\",\"T\",\"EveryTick\")","v":""},{"$error":"#N/A"},{"$f":"RTD(\"cqg.rtd\",,\"StudyData\", \"Close(\"&$D$12&\") when LocalYear(\"&$D$12&\")=\"&$D$2&\" and localMonth(\"&$D$12&\") =\"&$E$2&\" and LocalDay(\"&$D$12&\")=\"&$F$2&\" and Barix(\"&$D$12&\",reference:=StartOfSession)=\"&A63&\"\", \"Bar\", \"\", \"Close\",\"5\",\"0\",\"PrimaryOnly\",,,\"False\",\"T\",\"EveryTick\")","v":189.26},-8.0712788259959135E-3,{"$f":"RTD(\"cqg.rtd\",,\"StudyData\", \"Close(\"&$D$12&\") when LocalYear(\"&$D$12&\")=\"&$D$3&\" and localMonth(\"&$D$12&\") =\"&$E$3&\" and LocalDay(\"&$D$12&\")=\"&$F$3&\" and Barix(\"&$D$12&\",reference:=StartOfSession)=\"&A63&\"\", \"Bar\", \"\", \"Close\",\"5\",\"0\",\"PrimaryOnly\",,,\"False\",\"T\",\"EveryTick\")","v":190.91},1.10120608285269E-3,{"$f":"RTD(\"cqg.rtd\",,\"StudyData\", \"Close(\"&$D$12&\") when LocalYear(\"&$D$12&\")=\"&$D$4&\" and localMonth(\"&$D$12&\") =\"&$E$4&\" and LocalDay(\"&$D$12&\")=\"&$F$4&\" and Barix(\"&$D$12&\",reference:=StartOfSession)=\"&A63&\"\", \"Bar\", \"\", \"Close\",\"5\",\"0\",\"PrimaryOnly\",,,\"False\",\"T\",\"EveryTick\")","v":191.17},-5.7728312877055009E-3,{"$f":"RTD(\"cqg.rtd\",,\"StudyData\", \"Close(\"&$D$12&\") when LocalYear(\"&$D$12&\")=\"&$D$5&\" and localMonth(\"&$D$12&\") =\"&$E$5&\" and LocalDay(\"&$D$12&\")=\"&$F$5&\" and Barix(\"&$D$12&\",reference:=StartOfSession)=\"&A63&\"\", \"Bar\", \"\", \"Close\",\"5\",\"0\",\"PrimaryOnly\",,,\"False\",\"T\",\"EveryTick\")","v":191.54},1.6210845578622721E-3,{"$f":"RTD(\"cqg.rtd\",,\"StudyData\", \"Close(\"&$D$12&\") when LocalYear(\"&$D$12&\")=\"&$D$6&\" and localMonth(\"&$D$12&\") =\"&$E$6&\" and LocalDay(\"&$D$12&\")=\"&$F$6&\" and Barix(\"&$D$12&\",reference:=StartOfSession)=\"&A63&\"\", \"Bar\", \"\", \"Close\",\"5\",\"0\",\"PrimaryOnly\",,,\"False\",\"T\",\"EveryTick\")","v":191.27},-2.2430881585810037E-3,{"$f":"RTD(\"cqg.rtd\",,\"StudyData\", \"Close(\"&$D$12&\") when LocalYear(\"&$D$12&\")=\"&$D$7&\" and localMonth(\"&$D$12&\") =\"&$E$7&\" and LocalDay(\"&$D$12&\")=\"&$F$7&\" and Barix(\"&$D$12&\",reference:=StartOfSession)=\"&A63&\"\", \"Bar\", \"\", \"Close\",\"5\",\"0\",\"PrimaryOnly\",,,\"False\",\"T\",\"EveryTick\")","v":191.46},-1.0338054378166029E-2,{"$f":"RTD(\"cqg.rtd\",,\"StudyData\", \"Close(\"&$D$12&\") when LocalYear(\"&$D$12&\")=\"&$D$8&\" and localMonth(\"&$D$12&\") =\"&$E$8&\" and LocalDay(\"&$D$12&\")=\"&$F$8&\" and Barix(\"&$D$12&\",reference:=StartOfSession)=\"&A63&\"\", \"Bar\", \"\", \"Close\",\"5\",\"0\",\"PrimaryOnly\",,,\"False\",\"T\",\"EveryTick\")","v":193.25},-3.7632745643880285E-3,{"$f":"RTD(\"cqg.rtd\",,\"StudyData\", \"Close(\"&$D$12&\") when LocalYear(\"&$D$12&\")=\"&$D$9&\" and localMonth(\"&$D$12&\") =\"&$E$9&\" and LocalDay(\"&$D$12&\")=\"&$F$9&\" and Barix(\"&$D$12&\",reference:=StartOfSession)=\"&A63&\"\", \"Bar\", \"\", \"Close\",\"5\",\"0\",\"PrimaryOnly\",,,\"False\",\"T\",\"EveryTick\")","v":193.48},8.7941648129940251E-4,{"$f":"RTD(\"cqg.rtd\",,\"StudyData\", \"Close(\"&$D$12&\") when LocalYear(\"&$D$12&\")=\"&$D$10&\" and localMonth(\"&$D$12&\") =\"&$E$10&\" and LocalDay(\"&$D$12&\")=\"&$F$10&\" and Barix(\"&$D$12&\",reference:=StartOfSession)=\"&A63&\"\", \"Bar\", \"\", \"Close\",\"5\",\"0\",\"PrimaryOnly\",,,\"False\",\"T\",\"EveryTick\")","v":192.97},5.9427618203617069E-3,null,null,null,""]
[63,"13:45:00",-14,{"$f":" RTD(\"cqg.rtd\",,\"StudyData\", $D$12,  \"Tick\", \"FlatTicks=0\", \"Tick\",\"D\",C64,\"PrimaryOnly\")","v":187.89},null,null,null,{"$f":"RTD(\"cqg.rtd\",,\"StudyData\", \"Close(\"&$D$12&\") when LocalYear(\"&$D$12&\")=\"&$D$1&\" and localMonth(\"&$D$12&\") =\"&$E$1&\" and LocalDay(\"&$D$12&\")=\"&$F$1&\" and Barix(\"&$D$12&\",reference:=StartOfSession)=\"&A64&\"\", \"Bar\", \"\", \"Close\",\"5\",\"0\",\"PrimaryOnly\",,,\"False\",\"T\",\"EveryTick\")","v":""},{"$error":"#N/A"},{"$f":"RTD(\"cqg.rtd\",,\"StudyData\", \"Close(\"&$D$12&\") when LocalYear(\"&$D$12&\")=\"&$D$2&\" and localMonth(\"&$D$12&\") =\"&$E$2&\" and LocalDay(\"&$D$12&\")=\"&$F$2&\" and Barix(\"&$D$12&\",reference:=StartOfSession)=\"&A64&\"\", \"Bar\", \"\", \"Close\",\"5\",\"0\",\"PrimaryOnly\",,,\"False\",\"T\",\"EveryTick\")","v":189.11},-8.8574423480083739E-3,{"$f":"RTD(\"cqg.rtd\",,\"StudyData\", \"Close(\"&$D$12&\") when LocalYear(\"&$D$12&\")=\"&$D$3&\" and localMonth(\"&$D$12&\") =\"&$E$3&\" and LocalDay(\"&$D$12&\")=\"&$F$3&\" and Barix(\"&$D$12&\",reference:=StartOfSession)=\"&A64&\"\", \"Bar\", \"\", \"Close\",\"5\",\"0\",\"PrimaryOnly\",,,\"False\",\"T\",\"EveryTick\")","v":190.87},8.9145254326175106E-4,{"$f":"RTD(\"cqg.rtd\",,\"StudyData\", \"Close(\"&$D$12&\") when LocalYear(\"&$D$12&\")=\"&$D$4&\" and localMonth(\"&$D$12&\") =\"&$E$4&\" and LocalDay(\"&$D$12&\")=\"&$F$4&\" and Barix(\"&$D$12&\",reference:=StartOfSession)=\"&A64&\"\", \"Bar\", \"\", \"Close\",\"5\",\"0\",\"PrimaryOnly\",,,\"False\",\"T\",\"EveryTick\")","v":190.97},-6.8129810692739877E-3,{"$f":"RTD(\"cqg.rtd\",,\"StudyData\", \"Close(\"&$D$12&\") when LocalYear(\"&$D$12&\")=\"&$D$5&\" and localMonth(\"&$D$12&\") =\"&$E$5&\" and LocalDay(\"&$D$12&\")=\"&$F$5&\" and Barix(\"&$D$12&\",reference:=StartOfSession)=\"&A64&\"\", \"Bar\", \"\", \"Close\",\"5\",\"0\",\"PrimaryOnly\",,,\"False\",\"T\",\"EveryTick\")","v":191.46},1.2027401558333849E-3,{"$f":"RTD(\"cqg.rtd\",,\"StudyData\", \"Close(\"&$D$12&\") when LocalYear(\"&$D$12&\")=\"&$D$6&\" and localMonth(\"&$D$12&\") =\"&$E$6&\" and LocalDay(\"&$D$12&\")=\"&$F$6&\" and Barix(\"&$D$12&\",reference:=StartOfSession)=\"&A64&\"\", \"Bar\", \"\", \"Close\",\"5\",\"0\",\"PrimaryOnly\",,,\"False\",\"T\",\"EveryTick\")","v":191.31},-2.0344287949921043E-3,{"$f":"RTD(\"cqg.rtd\",,\"StudyData\", \"Close(\"&$D$12&\") when LocalYear(\"&$D$12&\")=\"&$D$7&\" and localMonth(\"&$D$12&\") =\"&$E$7&\" and LocalDay(\"&$D$12&\")=\"&$F$7&\" and Barix(\"&$D$12&\",reference:=StartOfSession)=\"&A64&\"\", \"Bar\", \"\", \"Close\",\"5\",\"0\",\"PrimaryOnly\",,,\"False\",\"T\",\"EveryTick\")","v":191.35},-1.090664736896523E-2,{"$f":"RTD(\"cqg.rtd\",,\"StudyData\", \"Close(\"&$D$12&\") when LocalYear(\"&$D$12&\")=\"&$D$8&\" and localMonth(\"&$D$12&\") =\"&$E$8&\" and LocalDay(\"&$D$12&\")=\"&$F$8&\" and Barix(\"&$D$12&\",reference:=StartOfSession)=\"&A64&\"\", \"Bar\", \"\", \"Close\",\"5\",\"0\",\"PrimaryOnly\",,,\"False\",\"T\",\"EveryTick\")","v":193.42},-2.8868955562429237E-3,{"$f":"RTD(\"cqg.rtd\",,\"StudyData\", \"Close(\"&$D$12&\") when LocalYear(\"&$D$12&\")=\"&$D$9&\" and localMonth(\"&$D$12&\") =\"&$E$9&\" and LocalDay(\"&$D$12&\")=\"&$F$9&\" and Barix(\"&$D$12&\",reference:=StartOfSession)=\"&A64&\"\", \"Bar\", \"\", \"Close\",\"5\",\"0\",\"PrimaryOnly\",,,\"False\",\"T\",\"EveryTick\")","v":193.42},5.6903419378193174E-4,{"$f":"RTD(\"cqg.rtd\",,\"StudyData\", \"Close(\"&$D$12&\") when LocalYear(\"&$D$12&\")=\"&$D$10&\" and localMonth(\"&$D$12&\") =\"&$E$10&\" and LocalDay(\"&$D$12&\")=\"&$F$10&\" and Barix(\"&$D$12&\",reference:=StartOfSession)=\"&A64&\"\", \"Bar\", \"\", \"Close\",\"5\",\"0\",\"PrimaryOnly\",,,\"False\",\"T\",\"EveryTick\")","v":193.06},6.4119272272323913E-3,null,null,null,""]
[64,"13:50:00",-13,{"$f":" RTD(\"cqg.rtd\",,\"StudyData\", $D$12,  \"Tick\", \"FlatTicks=0\", \"Tick\",\"D\",C65,\"PrimaryOnly\")","v":187.88},null,null,null,{"$f":"RTD(\"cqg.rtd\",,\"StudyData\", \"Close(\"&$D$12&\") when LocalYear(\"&$D$12&\")=\"&$D$1&\" and localMonth(\"&$D$12&\") =\"&$E$1&\" and LocalDay(\"&$D$12&\")=\"&$F$1&\" and Barix(\"&$D$12&\",reference:=StartOfSession)=\"&A65&\"\", \"Bar\", \"\", \"Close\",\"5\",\"0\",\"PrimaryOnly\",,,\"False\",\"T\",\"EveryTick\")","v":""},{"$error":"#N/A"},{"$f":"RTD(\"cqg.rtd\",,\"StudyData\", \"Close(\"&$D$12&\") when LocalYear(\"&$D$12&\")=\"&$D$2&\" and localMonth(\"&$D$12&\") =\"&$E$2&\" and LocalDay(\"&$D$12&\")=\"&$F$2&\" and Barix(\"&$D$12&\",reference:=StartOfSession)=\"&A65&\"\", \"Bar\", \"\", \"Close\",\"5\",\"0\",\"PrimaryOnly\",,,\"False\",\"T\",\"EveryTick\")","v":189.17},-8.5429769392034796E-3,{"$f":"RTD(\"cqg.rtd\",,\"StudyData\", \"Close(\"&$D$12&\") when LocalYear(\"&$D$12&\")=\"&$D$3&\" and localMonth(\"&$D$12&\") =\"&$E$3&\" and LocalDay(\"&$D$12&\")=\"&$F$3&\" and Barix(\"&$D$12&\",reference:=StartOfSession)=\"&A65&\"\", \"Bar\", \"\", \"Close\",\"5\",\"0\",\"PrimaryOnly\",,,\"False\",\"T\",\"EveryTick\")","v":190.79},4.7194546407972428E-4,{"$f":"RTD(\"cqg.rtd\",,\"StudyData\", \"Close(\"&$D$12&\") when LocalYear(\"&$D$12&\")=\"&$D$4&\" and localMonth(\"&$D$12&\") =\"&$E$4&\" and LocalDay(\"&$D$12&\")=\"&$F$4&\" and Barix(\"&$D$12&\",reference:=StartOfSession)=\"&A65&\"\", \"Bar\", \"\", \"Close\",\"5\",\"0\",\"PrimaryOnly\",,,\"False\",\"T\",\"EveryTick\")","v":191.17},-5.7728312877055009E-3,{"$f":"RTD(\"cqg.rtd\",,\"StudyData\", \"Close(\"&$D$12&\") when LocalYear(\"&$D$12&\")=\"&$D$5&\" and localMonth(\"&$D$12&\") =\"&$E$5&\" and LocalDay(\"&$D$12&\")=\"&$F$5&\" and Barix(\"&$D$12&\",reference:=StartOfSession)=\"&A65&\"\", \"Bar\", \"\", \"Close\",\"5\",\"0\",\"PrimaryOnly\",,,\"False\",\"T\",\"EveryTick\")","v":191.52},1.5164984573551247E-3,{"$f":"RTD(\"cqg.rtd\",,\"StudyData\", \"Close(\"&$D$12&\") when LocalYear(\"&$D$12&\")=\"&$D$6&\" and localMonth(\"&$D$12&\") =\"&$E$6&\" and LocalDay(\"&$D$12&\")=\"&$F$6&\" and Barix(\"&$D$12&\",reference:=StartOfSession)=\"&A65&\"\", \"Bar\", \"\", \"Close\",\"5\",\"0\",\"PrimaryOnly\",,,\"False\",\"T\",\"EveryTick\")","v":191.23},-2.4517475221700518E-3,{"$f":"RTD(\"cqg.rtd\",,\"StudyData\", \"Close(\"&$D$12&\") when LocalYear(\"&$D$12&\")=\"&$D$7&\" and localMonth(\"&$D$12&\") =\"&$E$7&\" and LocalDay(\"&$D$12&\")=\"&$F$7&\" and Barix(\"&$D$12&\",reference:=StartOfSession)=\"&A65&\"\", \"Bar\", \"\", \"Close\",\"5\",\"0\",\"PrimaryOnly\",,,\"False\",\"T\",\"EveryTick\")","v":191.41},-1.0596505737620238E-2,{"$f":"RTD(\"cqg.rtd\",,\"StudyData\", \"Close(\"&$D$12&\") when LocalYear(\"&$D$12&\")=\"&$D$8&\" and localMonth(\"&$D$12&\") =\"&$E$8&\" and LocalDay(\"&$D$12&\")=\"&$F$8&\" and Barix(\"&$D$12&\",reference:=StartOfSession)=\"&A65&\"\", \"Bar\", \"\", \"Close\",\"5\",\"0\",\"PrimaryOnly\",,,\"False\",\"T\",\"EveryTick\")","v":193.37},-3.1446540880502383E-3,{"$f":"RTD(\"cqg.rtd\",,\"StudyData\", \"Close(\"&$D$12&\") when LocalYear(\"&$D$12&\")=\"&$D$9&\" and localMonth(\"&$D$12&\") =\"&$E$9&\" and LocalDay(\"&$D$12&\")=\"&$F$9&\" and Barix(\"&$D$12&\",reference:=StartOfSession)=\"&A65&\"\", \"Bar\", \"\", \"Close\",\"5\",\"0\",\"PrimaryOnly\",,,\"False\",\"T\",\"EveryTick\")","v":193.39},4.1384305002319631E-4,{"$f":"RTD(\"cqg.rtd\",,\"StudyData\", \"Close(\"&$D$12&\") when LocalYear(\"&$D$12&\")=\"&$D$10&\" and localMonth(\"&$D$12&\") =\"&$E$10&\" and LocalDay(\"&$D$12&\")=\"&$F$10&\" and Barix(\"&$D$12&\",reference:=StartOfSession)=\"&A65&\"\", \"Bar\", \"\", \"Close\",\"5\",\"0\",\"PrimaryOnly\",,,\"False\",\"T\",\"EveryTick\")","v":193.25},7.4023875306260091E-3,null,null,null,""]
[65,"13:55:00",-12,{"$f":" RTD(\"cqg.rtd\",,\"StudyData\", $D$12,  \"Tick\", \"FlatTicks=0\", \"Tick\",\"D\",C66,\"PrimaryOnly\")","v":187.89},null,null,null,{"$f":"RTD(\"cqg.rtd\",,\"StudyData\", \"Close(\"&$D$12&\") when LocalYear(\"&$D$12&\")=\"&$D$1&\" and localMonth(\"&$D$12&\") =\"&$E$1&\" and LocalDay(\"&$D$12&\")=\"&$F$1&\" and Barix(\"&$D$12&\",reference:=StartOfSession)=\"&A66&\"\", \"Bar\", \"\", \"Close\",\"5\",\"0\",\"PrimaryOnly\",,,\"False\",\"T\",\"EveryTick\")","v":""},{"$error":"#N/A"},{"$f":"RTD(\"cqg.rtd\",,\"StudyData\", \"Close(\"&$D$12&\") when LocalYear(\"&$D$12&\")=\"&$D$2&\" and localMonth(\"&$D$12&\") =\"&$E$2&\" and LocalDay(\"&$D$12&\")=\"&$F$2&\" and Barix(\"&$D$12&\",reference:=StartOfSession)=\"&A66&\"\", \"Bar\", \"\", \"Close\",\"5\",\"0\",\"PrimaryOnly\",,,\"False\",\"T\",\"EveryTick\")","v":189.23},{"$f":"IFERROR((J66-$G$3)/$G$3,NA())","v":-8.2285115303984361E-3},{"$f":"RTD(\"cqg.rtd\",,\"StudyData\", \"Close(\"&$D$12&\") when LocalYear(\"&$D$12&\")=\"&$D$3&\" and localMonth(\"&$D$12&\") =\"&$E$3&\" and LocalDay(\"&$D$12&\")=\"&$F$3&\" and Barix(\"&$D$12&\",reference:=StartOfSession)=\"&A66&\"\", \"Bar\", \"\", \"Close\",\"5\",\"0\",\"PrimaryOnly\",,,\"False\",\"T\",\"EveryTick\")","v":190.6},{"$f":"IFERROR((L66-$G$4)/$G$4,NA())","v":-5.2438384897742169E-4},{"$f":"RTD(\"cqg.rtd\",,\"StudyData\", \"Close(\"&$D$12&\") when LocalYear(\"&$D$12&\")=\"&$D$4&\" and localMonth(\"&$D$12&\") =\"&$E$4&\" and LocalDay(\"&$D$12&\")=\"&$F$4&\" and Barix(\"&$D$12&\",reference:=StartOfSession)=\"&A66&\"\", \"Bar\", \"\", \"Close\",\"5\",\"0\",\"PrimaryOnly\",,,\"False\",\"T\",\"EveryTick\")","v":191.47},{"$f":"IFERROR((N66-$G$5)/$G$5,NA())","v":-4.2126066153526228E-3},{"$f":"RTD(\"cqg.rtd\",,\"StudyData\", \"Close(\"&$D$12&\") when LocalYear(\"&$D$12&\")=\"&$D$5&\" and localMonth(\"&$D$12&\") =\"&$E$5&\" and LocalDay(\"&$D$12&\")=\"&$F$5&\" and Barix(\"&$D$12&\",reference:=StartOfSession)=\"&A66&\"\", \"Bar\", \"\", \"Close\",\"5\",\"0\",\"PrimaryOnly\",,,\"False\",\"T\",\"EveryTick\")","v":191.31},{"$f":"IFERROR((P66-$G$6)/$G$6,NA())","v":4.1834440202903579E-4},{"$f":"RTD(\"cqg.rtd\",,\"StudyData\", \"Close(\"&$D$12&\") when LocalYear(\"&$D$12&\")=\"&$D$6&\" and localMonth(\"&$D$12&\") =\"&$E$6&\" and LocalDay(\"&$D$12&\")=\"&$F$6&\" and Barix(\"&$D$12&\",reference:=StartOfSession)=\"&A66&\"\", \"Bar\", \"\", \"Close\",\"5\",\"0\",\"PrimaryOnly\",,,\"False\",\"T\",\"EveryTick\")","v":191.38},{"$f":"IFERROR((R66-$G$7)/$G$7,NA())","v":-1.6692749087114929E-3},{"$f":"RTD(\"cqg.rtd\",,\"StudyData\", \"Close(\"&$D$12&\") when LocalYear(\"&$D$12&\")=\"&$D$7&\" and localMonth(\"&$D$12&\") =\"&$E$7&\" and LocalDay(\"&$D$12&\")=\"&$F$7&\" and Barix(\"&$D$12&\",reference:=StartOfSession)=\"&A66&\"\", \"Bar\", \"\", \"Close\",\"5\",\"0\",\"PrimaryOnly\",,,\"False\",\"T\",\"EveryTick\")","v":191.39},{"$f":"IFERROR((T66-$G$8)/$G$8,NA())","v":-1.0699886281401951E-2},{"$f":"RTD(\"cqg.rtd\",,\"StudyData\", \"Close(\"&$D$12&\") when LocalYear(\"&$D$12&\")=\"&$D$8&\" and localMonth(\"&$D$12&\") =\"&$E$8&\" and LocalDay(\"&$D$12&\")=\"&$F$8&\" and Barix(\"&$D$12&\",reference:=StartOfSession)=\"&A66&\"\", \"Bar\", \"\", \"Close\",\"5\",\"0\",\"PrimaryOnly\",,,\"False\",\"T\",\"EveryTick\")","v":193.36},{"$f":"IFERROR((V66-$G$9)/$G$9,NA())","v":-3.196205794411672E-3},{"$f":"RTD(\"cqg.rtd\",,\"StudyData\", \"Close(\"&$D$12&\") when LocalYear(\"&$D$12&\")=\"&$D$9&\" and localMonth(\"&$D$12&\") =\"&$E$9&\" and LocalDay(\"&$D$12&\")=\"&$F$9&\" and Barix(\"&$D$12&\",reference:=StartOfSession)=\"&A66&\"\", \"Bar\", \"\", \"Close\",\"5\",\"0\",\"PrimaryOnly\",,,\"False\",\"T\",\"EveryTick\")","v":193.44},{"$f":"IFERROR((X66-$G$10)/$G$10,NA())","v":6.724949562878043E-4},{"$f":"RTD(\"cqg.rtd\",,\"StudyData\", \"Close(\"&$D$12&\") when LocalYear(\"&$D$12&\")=\"&$D$10&\" and localMonth(\"&$D$12&\") =\"&$E$10&\" and LocalDay(\"&$D$12&\")=\"&$F$10&\" and Barix(\"&$D$12&\",reference:=StartOfSession)=\"&A66&\"\", \"Bar\", \"\", \"Close\",\"5\",\"0\",\"PrimaryOnly\",,,\"False\",\"T\",\"EveryTick\")","v":193.23},{"$f":"IFERROR((Z66-$G$11)/$G$11,NA())","v":7.2981285513213636E-3},null,null,null,""]
[{"$f":"A66+1","v":66},"14:00:00",-11,{"$f":" RTD(\"cqg.rtd\",,\"StudyData\", $D$12,  \"Tick\", \"FlatTicks=0\", \"Tick\",\"D\",C67,\"PrimaryOnly\")","v":187.9},null,null,null,{"$f":"RTD(\"cqg.rtd\",,\"StudyData\", \"Close(\"&$D$12&\") when LocalYear(\"&$D$12&\")=\"&$D$1&\" and localMonth(\"&$D$12&\") =\"&$E$1&\" and LocalDay(\"&$D$12&\")=\"&$F$1&\" and Barix(\"&$D$12&\",reference:=StartOfSession)=\"&A67&\"\", \"Bar\", \"\", \"Close\",\"5\",\"0\",\"PrimaryOnly\",,,\"False\",\"T\",\"EveryTick\")","v":""},{"$f":"IFERROR((H67-$G$2)/$G$2,NA())","v":{"$error":"#N/A"}},{"$f":"RTD(\"cqg.rtd\",,\"StudyData\", \"Close(\"&$D$12&\") when LocalYear(\"&$D$12&\")=\"&$D$2&\" and localMonth(\"&$D$12&\") =\"&$E$2&\" and LocalDay(\"&$D$12&\")=\"&$F$2&\" and Barix(\"&$D$12&\",reference:=StartOfSession)=\"&A67&\"\", \"Bar\", \"\", \"Close\",\"5\",\"0\",\"PrimaryOnly\",,,\"False\",\"T\",\"EveryTick\")","v":189.01},-9.3815513626835448E-3,{"$f":"RTD(\"cqg.rtd\",,\"StudyData\", \"Close(\"&$D$12&\") when LocalYear(\"&$D$12&\")=\"&$D$3&\" and localMonth(\"&$D$12&\") =\"&$E$3&\" and LocalDay(\"&$D$12&\")=\"&$F$3&\" and Barix(\"&$D$12&\",reference:=StartOfSession)=\"&A67&\"\", \"Bar\", \"\", \"Close\",\"5\",\"0\",\"PrimaryOnly\",,,\"False\",\"T\",\"EveryTick\")","v":190.73},1.5731515469324142E-4,{"$f":"RTD(\"cqg.rtd\",,\"StudyData\", \"Close(\"&$D$12&\") when LocalYear(\"&$D$12&\")=\"&$D$4&\" and localMonth(\"&$D$12&\") =\"&$E$4&\" and LocalDay(\"&$D$12&\")=\"&$F$4&\" and Barix(\"&$D$12&\",reference:=StartOfSession)=\"&A67&\"\", \"Bar\", \"\", \"Close\",\"5\",\"0\",\"PrimaryOnly\",,,\"False\",\"T\",\"EveryTick\")","v":191.74},-2.8084044102350326E-3,{"$f":"RTD(\"cqg.rtd\",,\"StudyData\", \"Close(\"&$D$12&\") when LocalYear(\"&$D$12&\")=\"&$D$5&\" and localMonth(\"&$D$12&\") =\"&$E$5&\" and LocalDay(\"&$D$12&\")=\"&$F$5&\" and Barix(\"&$D$12&\",reference:=StartOfSession)=\"&A67&\"\", \"Bar\", \"\", \"Close\",\"5\",\"0\",\"PrimaryOnly\",,,\"False\",\"T\",\"EveryTick\")","v":191.43},1.045861005072515E-3,{"$f":"RTD(\"cqg.rtd\",,\"StudyData\", \"Close(\"&$D$12&\") when LocalYear(\"&$D$12&\")=\"&$D$6&\" and localMonth(\"&$D$12&\") =\"&$E$6&\" and LocalDay(\"&$D$12&\")=\"&$F$6&\" and Barix(\"&$D$12&\",reference:=StartOfSession)=\"&A67&\"\", \"Bar\", \"\", \"Close\",\"5\",\"0\",\"PrimaryOnly\",,,\"False\",\"T\",\"EveryTick\")","v":191.42},-1.4606155451225933E-3,{"$f":"RTD(\"cqg.rtd\",,\"StudyData\", \"Close(\"&$D$12&\") when LocalYear(\"&$D$12&\")=\"&$D$7&\" and localMonth(\"&$D$12&\") =\"&$E$7&\" and LocalDay(\"&$D$12&\")=\"&$F$7&\" and Barix(\"&$D$12&\",reference:=StartOfSession)=\"&A67&\"\", \"Bar\", \"\", \"Close\",\"5\",\"0\",\"PrimaryOnly\",,,\"False\",\"T\",\"EveryTick\")","v":191.48},-1.0234673834384462E-2,{"$f":"RTD(\"cqg.rtd\",,\"StudyData\", \"Close(\"&$D$12&\") when LocalYear(\"&$D$12&\")=\"&$D$8&\" and localMonth(\"&$D$12&\") =\"&$E$8&\" and LocalDay(\"&$D$12&\")=\"&$F$8&\" and Barix(\"&$D$12&\",reference:=StartOfSession)=\"&A67&\"\", \"Bar\", \"\", \"Close\",\"5\",\"0\",\"PrimaryOnly\",,,\"False\",\"T\",\"EveryTick\")","v":193.37},-3.1446540880502383E-3,{"$f":"RTD(\"cqg.rtd\",,\"StudyData\", \"Close(\"&$D$12&\") when LocalYear(\"&$D$12&\")=\"&$D$9&\" and localMonth(\"&$D$12&\") =\"&$E$9&\" and LocalDay(\"&$D$12&\")=\"&$F$9&\" and Barix(\"&$D$12&\",reference:=StartOfSession)=\"&A67&\"\", \"Bar\", \"\", \"Close\",\"5\",\"0\",\"PrimaryOnly\",,,\"False\",\"T\",\"EveryTick\")","v":193.42},5.6903419378193174E-4,{"$f":"RTD(\"cqg.rtd\",,\"StudyData\", \"Close(\"&$D$12&\") when LocalYear(\"&$D$12&\")=\"&$D$10&\" and localMonth(\"&$D$12&\") =\"&$E$10&\" and LocalDay(\"&$D$12&\")=\"&$F$10&\" and Barix(\"&$D$12&\",reference:=StartOfSession)=\"&A67&\"\", \"Bar\", \"\", \"Close\",\"5\",\"0\",\"PrimaryOnly\",,,\"False\",\"T\",\"EveryTick\")","v":193.09},6.5683156961892867E-3,null,null,null,{"$f":"IF(AND(H66<>\"\",H67<>\"\",H68=\"\"),A67,\"\")","v":""}]
[67,"14:05:00",-10,{"$f":" RTD(\"cqg.rtd\",,\"StudyData\", $D$12,  \"Tick\", \"FlatTicks=0\", \"Tick\",\"D\",C68,\"PrimaryOnly\")","v":187.89},null,null,null,{"$f":"RTD(\"cqg.rtd\",,\"StudyData\", \"Close(\"&$D$12&\") when LocalYear(\"&$D$12&\")=\"&$D$1&\" and localMonth(\"&$D$12&\") =\"&$E$1&\" and LocalDay(\"&$D$12&\")=\"&$F$1&\" and Barix(\"&$D$12&\",reference:=StartOfSession)=\"&A68&\"\", \"Bar\", \"\", \"Close\",\"5\",\"0\",\"PrimaryOnly\",,,\"False\",\"T\",\"EveryTick\")","v":""},{"$error":"#N/A"},{"$f":"RTD(\"cqg.rtd\",,\"StudyData\", \"Close(\"&$D$12&\") when LocalYear(\"&$D$12&\")=\"&$D$2&\" and localMonth(\"&$D$12&\") =\"&$E$2&\" and LocalDay(\"&$D$12&\")=\"&$F$2&\" and Barix(\"&$D$12&\",reference:=StartOfSession)=\"&A68&\"\", \"Bar\", \"\", \"Close\",\"5\",\"0\",\"PrimaryOnly\",,,\"False\",\"T\",\"EveryTick\")","v":188.89},-1.0010482180293632E-2,{"$f":"RTD(\"cqg.rtd\",,\"StudyData\", \"Close(\"&$D$12&\") when LocalYear(\"&$D$12&\")=\"&$D$3&\" and localMonth(\"&$D$12&\") =\"&$E$3&\" and LocalDay(\"&$D$12&\")=\"&$F$3&\" and Barix(\"&$D$12&\",reference:=StartOfSession)=\"&A68&\"\", \"Bar\", \"\", \"Close\",\"5\",\"0\",\"PrimaryOnly\",,,\"False\",\"T\",\"EveryTick\")","v":190.78},4.1950707918202677E-4,{"$f":"RTD(\"cqg.rtd\",,\"StudyData\", \"Close(\"&$D$12&\") when LocalYear(\"&$D$12&\")=\"&$D$4&\" and localMonth(\"&$D$12&\") =\"&$E$4&\" and LocalDay(\"&$D$12&\")=\"&$F$4&\" and Barix(\"&$D$12&\",reference:=StartOfSession)=\"&A68&\"\", \"Bar\", \"\", \"Close\",\"5\",\"0\",\"PrimaryOnly\",,,\"False\",\"T\",\"EveryTick\")","v":191.71},-2.9644268774703204E-3,{"$f":"RTD(\"cqg.rtd\",,\"StudyData\", \"Close(\"&$D$12&\") when LocalYear(\"&$D$12&\")=\"&$D$5&\" and localMonth(\"&$D$12&\") =\"&$E$5&\" and LocalDay(\"&$D$12&\")=\"&$F$5&\" and Barix(\"&$D$12&\",reference:=StartOfSession)=\"&A68&\"\", \"Bar\", \"\", \"Close\",\"5\",\"0\",\"PrimaryOnly\",,,\"False\",\"T\",\"EveryTick\")","v":191.49},1.3596193065942548E-3,{"$f":"RTD(\"cqg.rtd\",,\"StudyData\", \"Close(\"&$D$12&\") when LocalYear(\"&$D$12&\")=\"&$D$6&\" and localMonth(\"&$D$12&\") =\"&$E$6&\" and LocalDay(\"&$D$12&\")=\"&$F$6&\" and Barix(\"&$D$12&\",reference:=StartOfSession)=\"&A68&\"\", \"Bar\", \"\", \"Close\",\"5\",\"0\",\"PrimaryOnly\",,,\"False\",\"T\",\"EveryTick\")","v":191.32},-1.9822639540949165E-3,{"$f":"RTD(\"cqg.rtd\",,\"StudyData\", \"Close(\"&$D$12&\") when LocalYear(\"&$D$12&\")=\"&$D$7&\" and localMonth(\"&$D$12&\") =\"&$E$7&\" and LocalDay(\"&$D$12&\")=\"&$F$7&\" and Barix(\"&$D$12&\",reference:=StartOfSession)=\"&A68&\"\", \"Bar\", \"\", \"Close\",\"5\",\"0\",\"PrimaryOnly\",,,\"False\",\"T\",\"EveryTick\")","v":191.51},-1.0079603018711965E-2,{"$f":"RTD(\"cqg.rtd\",,\"StudyData\", \"Close(\"&$D$12&\") when LocalYear(\"&$D$12&\")=\"&$D$8&\" and localMonth(\"&$D$12&\") =\"&$E$8&\" and LocalDay(\"&$D$12&\")=\"&$F$8&\" and Barix(\"&$D$12&\",reference:=StartOfSession)=\"&A68&\"\", \"Bar\", \"\", \"Close\",\"5\",\"0\",\"PrimaryOnly\",,,\"False\",\"T\",\"EveryTick\")","v":193.18},-4.1241365089183576E-3,{"$f":"RTD(\"cqg.rtd\",,\"StudyData\", \"Close(\"&$D$12&\") when LocalYear(\"&$D$12&\")=\"&$D$9&\" and localMonth(\"&$D$12&\") =\"&$E$9&\" and LocalDay(\"&$D$12&\")=\"&$F$9&\" and Barix(\"&$D$12&\",reference:=StartOfSession)=\"&A68&\"\", \"Bar\", \"\", \"Close\",\"5\",\"0\",\"PrimaryOnly\",,,\"False\",\"T\",\"EveryTick\")","v":193.31},0,{"$f":"RTD(\"cqg.rtd\",,\"StudyData\", \"Close(\"&$D$12&\") when LocalYear(\"&$D$12&\")=\"&$D$10&\" and localMonth(\"&$D$12&\") =\"&$E$10&\" and LocalDay(\"&$D$12&\")=\"&$F$10&\" and Barix(\"&$D$12&\",reference:=StartOfSession)=\"&A68&\"\", \"Bar\", \"\", \"Close\",\"5\",\"0\",\"PrimaryOnly\",,,\"False\",\"T\",\"EveryTick\")","v":193.16},6.9332221237553247E-3,null,null,null,""]
[68,"14:10:00",{"$f":"C68+1","v":-9},{"$f":" RTD(\"cqg.rtd\",,\"StudyData\", $D$12,  \"Tick\", \"FlatTicks=0\", \"Tick\",\"D\",C69,\"PrimaryOnly\")","v":187.9},null,null,null,{"$f":"RTD(\"cqg.rtd\",,\"StudyData\", \"Close(\"&$D$12&\") when LocalYear(\"&$D$12&\")=\"&$D$1&\" and localMonth(\"&$D$12&\") =\"&$E$1&\" and LocalDay(\"&$D$12&\")=\"&$F$1&\" and Barix(\"&$D$12&\",reference:=StartOfSession)=\"&A69&\"\", \"Bar\", \"\", \"Close\",\"5\",\"0\",\"PrimaryOnly\",,,\"False\",\"T\",\"EveryTick\")","v":""},{"$error":"#N/A"},{"$f":"RTD(\"cqg.rtd\",,\"StudyData\", \"Close(\"&$D$12&\") when LocalYear(\"&$D$12&\")=\"&$D$2&\" and localMonth(\"&$D$12&\") =\"&$E$2&\" and LocalDay(\"&$D$12&\")=\"&$F$2&\" and Barix(\"&$D$12&\",reference:=StartOfSession)=\"&A69&\"\", \"Bar\", \"\", \"Close\",\"5\",\"0\",\"PrimaryOnly\",,,\"False\",\"T\",\"EveryTick\")","v":188.81},-1.042976939203359E-2,{"$f":"RTD(\"cqg.rtd\",,\"StudyData\", \"Close(\"&$D$12&\") when LocalYear(\"&$D$12&\")=\"&$D$3&\" and localMonth(\"&$D$12&\") =\"&$E$3&\" and LocalDay(\"&$D$12&\")=\"&$F$3&\" and Barix(\"&$D$12&\",reference:=StartOfSession)=\"&A69&\"\", \"Bar\", \"\", \"Close\",\"5\",\"0\",\"PrimaryOnly\",,,\"False\",\"T\",\"EveryTick\")","v":190.77},3.6706869428432932E-4,{"$f":"RTD(\"cqg.rtd\",,\"StudyData\", \"Close(\"&$D$12&\") when LocalYear(\"&$D$12&\")=\"&$D$4&\" and localMonth(\"&$D$12&\") =\"&$E$4&\" and LocalDay(\"&$D$12&\")=\"&$F$4&\" and Barix(\"&$D$12&\",reference:=StartOfSession)=\"&A69&\"\", \"Bar\", \"\", \"Close\",\"5\",\"0\",\"PrimaryOnly\",,,\"False\",\"T\",\"EveryTick\")","v":191.72},-2.9124193883919404E-3,{"$f":"RTD(\"cqg.rtd\",,\"StudyData\", \"Close(\"&$D$12&\") when LocalYear(\"&$D$12&\")=\"&$D$5&\" and localMonth(\"&$D$12&\") =\"&$E$5&\" and LocalDay(\"&$D$12&\")=\"&$F$5&\" and Barix(\"&$D$12&\",reference:=StartOfSession)=\"&A69&\"\", \"Bar\", \"\", \"Close\",\"5\",\"0\",\"PrimaryOnly\",,,\"False\",\"T\",\"EveryTick\")","v":191.63},2.0917220101448817E-3,{"$f":"RTD(\"cqg.rtd\",,\"StudyData\", \"Close(\"&$D$12&\") when LocalYear(\"&$D$12&\")=\"&$D$6&\" and localMonth(\"&$D$12&\") =\"&$E$6&\" and LocalDay(\"&$D$12&\")=\"&$F$6&\" and Barix(\"&$D$12&\",reference:=StartOfSession)=\"&A69&\"\", \"Bar\", \"\", \"Close\",\"5\",\"0\",\"PrimaryOnly\",,,\"False\",\"T\",\"EveryTick\")","v":191.36},-1.7736045905058686E-3,{"$f":"RTD(\"cqg.rtd\",,\"StudyData\", \"Close(\"&$D$12&\") when LocalYear(\"&$D$12&\")=\"&$D$7&\" and localMonth(\"&$D$12&\") =\"&$E$7&\" and LocalDay(\"&$D$12&\")=\"&$F$7&\" and Barix(\"&$D$12&\",reference:=StartOfSession)=\"&A69&\"\", \"Bar\", \"\", \"Close\",\"5\",\"0\",\"PrimaryOnly\",,,\"False\",\"T\",\"EveryTick\")","v":191.55},-9.8728419311485405E-3,{"$f":"RTD(\"cqg.rtd\",,\"StudyData\", \"Close(\"&$D$12&\") when LocalYear(\"&$D$12&\")=\"&$D$8&\" and localMonth(\"&$D$12&\") =\"&$E$8&\" and LocalDay(\"&$D$12&\")=\"&$F$8&\" and Barix(\"&$D$12&\",reference:=StartOfSession)=\"&A69&\"\", \"Bar\", \"\", \"Close\",\"5\",\"0\",\"PrimaryOnly\",,,\"False\",\"T\",\"EveryTick\")","v":193.29},-3.5570677389421476E-3,{"$f":"RTD(\"cqg.rtd\",,\"StudyData\", \"Close(\"&$D$12&\") when LocalYear(\"&$D$12&\")=\"&$D$9&\" and localMonth(\"&$D$12&\") =\"&$E$9&\" and LocalDay(\"&$D$12&\")=\"&$F$9&\" and Barix(\"&$D$12&\",reference:=StartOfSession)=\"&A69&\"\", \"Bar\", \"\", \"Close\",\"5\",\"0\",\"PrimaryOnly\",,,\"False\",\"T\",\"EveryTick\")","v":193.38},3.6211266877033354E-4,{"$f":"RTD(\"cqg.rtd\",,\"StudyData\", \"Close(\"&$D$12&\") when LocalYear(\"&$D$12&\")=\"&$D$10&\" and localMonth(\"&$D$12&\") =\"&$E$10&\" and LocalDay(\"&$D$12&\")=\"&$F$10&\" and Barix(\"&$D$12&\",reference:=StartOfSession)=\"&A69&\"\", \"Bar\", \"\", \"Close\",\"5\",\"0\",\"PrimaryOnly\",,,\"False\",\"T\",\"EveryTick\")","v":192.96},5.8906323307094579E-3,null,null,null,""]
[69,"14:15:00",-8,{"$f":" RTD(\"cqg.rtd\",,\"StudyData\", $D$12,  \"Tick\", \"FlatTicks=0\", \"Tick\",\"D\",C70,\"PrimaryOnly\")","v":187.91},null,null,null,{"$f":"RTD(\"cqg.rtd\",,\"StudyData\", \"Close(\"&$D$12&\") when LocalYear(\"&$D$12&\")=\"&$D$1&\" and localMonth(\"&$D$12&\") =\"&$E$1&\" and LocalDay(\"&$D$12&\")=\"&$F$1&\" and Barix(\"&$D$12&\",reference:=StartOfSession)=\"&A70&\"\", \"Bar\", \"\", \"Close\",\"5\",\"0\",\"PrimaryOnly\",,,\"False\",\"T\",\"EveryTick\")","v":""},{"$error":"#N/A"},{"$f":"RTD(\"cqg.rtd\",,\"StudyData\", \"Close(\"&$D$12&\") when LocalYear(\"&$D$12&\")=\"&$D$2&\" and localMonth(\"&$D$12&\") =\"&$E$2&\" and LocalDay(\"&$D$12&\")=\"&$F$2&\" and Barix(\"&$D$12&\",reference:=StartOfSession)=\"&A70&\"\", \"Bar\", \"\", \"Close\",\"5\",\"0\",\"PrimaryOnly\",,,\"False\",\"T\",\"EveryTick\")","v":188.77},-1.063941299790357E-2,{"$f":"RTD(\"cqg.rtd\",,\"StudyData\", \"Close(\"&$D$12&\") when LocalYear(\"&$D$12&\")=\"&$D$3&\" and localMonth(\"&$D$12&\") =\"&$E$3&\" and LocalDay(\"&$D$12&\")=\"&$F$3&\" and Barix(\"&$D$12&\",reference:=StartOfSession)=\"&A70&\"\", \"Bar\", \"\", \"Close\",\"5\",\"0\",\"PrimaryOnly\",,,\"False\",\"T\",\"EveryTick\")","v":190.77},3.6706869428432932E-4,{"$f":"RTD(\"cqg.rtd\",,\"StudyData\", \"Close(\"&$D$12&\") when LocalYear(\"&$D$12&\")=\"&$D$4&\" and localMonth(\"&$D$12&\") =\"&$E$4&\" and LocalDay(\"&$D$12&\")=\"&$F$4&\" and Barix(\"&$D$12&\",reference:=StartOfSession)=\"&A70&\"\", \"Bar\", \"\", \"Close\",\"5\",\"0\",\"PrimaryOnly\",,,\"False\",\"T\",\"EveryTick\")","v":191.74},-2.8084044102350326E-3,{"$f":"RTD(\"cqg.rtd\",,\"StudyData\", \"Close(\"&$D$12&\") when LocalYear(\"&$D$12&\")=\"&$D$5&\" and localMonth(\"&$D$12&\") =\"&$E$5&\" and LocalDay(\"&$D$12&\")=\"&$F$5&\" and Barix(\"&$D$12&\",reference:=StartOfSession)=\"&A70&\"\", \"Bar\", \"\", \"Close\",\"5\",\"0\",\"PrimaryOnly\",,,\"False\",\"T\",\"EveryTick\")","v":191.7},2.4577733619201951E-3,{"$f":"RTD(\"cqg.rtd\",,\"StudyData\", \"Close(\"&$D$12&\") when LocalYear(\"&$D$12&\")=\"&$D$6&\" and localMonth(\"&$D$12&\") =\"&$E$6&\" and LocalDay(\"&$D$12&\")=\"&$F$6&\" and Barix(\"&$D$12&\",reference:=StartOfSession)=\"&A70&\"\", \"Bar\", \"\", \"Close\",\"5\",\"0\",\"PrimaryOnly\",,,\"False\",\"T\",\"EveryTick\")","v":191.3},-2.086593635889292E-3,{"$f":"RTD(\"cqg.rtd\",,\"StudyData\", \"Close(\"&$D$12&\") when LocalYear(\"&$D$12&\")=\"&$D$7&\" and localMonth(\"&$D$12&\") =\"&$E$7&\" and LocalDay(\"&$D$12&\")=\"&$F$7&\" and Barix(\"&$D$12&\",reference:=StartOfSession)=\"&A70&\"\", \"Bar\", \"\", \"Close\",\"5\",\"0\",\"PrimaryOnly\",,,\"False\",\"T\",\"EveryTick\")","v":191.49},-1.0182983562493532E-2,{"$f":"RTD(\"cqg.rtd\",,\"StudyData\", \"Close(\"&$D$12&\") when LocalYear(\"&$D$12&\")=\"&$D$8&\" and localMonth(\"&$D$12&\") =\"&$E$8&\" and LocalDay(\"&$D$12&\")=\"&$F$8&\" and Barix(\"&$D$12&\",reference:=StartOfSession)=\"&A70&\"\", \"Bar\", \"\", \"Close\",\"5\",\"0\",\"PrimaryOnly\",,,\"False\",\"T\",\"EveryTick\")","v":193.37},-3.1446540880502383E-3,{"$f":"RTD(\"cqg.rtd\",,\"StudyData\", \"Close(\"&$D$12&\") when LocalYear(\"&$D$12&\")=\"&$D$9&\" and localMonth(\"&$D$12&\") =\"&$E$9&\" and LocalDay(\"&$D$12&\")=\"&$F$9&\" and Barix(\"&$D$12&\",reference:=StartOfSession)=\"&A70&\"\", \"Bar\", \"\", \"Close\",\"5\",\"0\",\"PrimaryOnly\",,,\"False\",\"T\",\"EveryTick\")","v":193.41},5.1730381252906897E-4,{"$f":"RTD(\"cqg.rtd\",,\"StudyData\", \"Close(\"&$D$12&\") when LocalYear(\"&$D$12&\")=\"&$D$10&\" and localMonth(\"&$D$12&\") =\"&$E$10&\" and LocalDay(\"&$D$12&\")=\"&$F$10&\" and Barix(\"&$D$12&\",reference:=StartOfSession)=\"&A70&\"\", \"Bar\", \"\", \"Close\",\"5\",\"0\",\"PrimaryOnly\",,,\"False\",\"T\",\"EveryTick\")","v":193.02},6.2034092686232478E-3,null,null,null,""]
[70,"14:20:00",-7,{"$f":" RTD(\"cqg.rtd\",,\"StudyData\", $D$12,  \"Tick\", \"FlatTicks=0\", \"Tick\",\"D\",C71,\"PrimaryOnly\")","v":187.92},null,null,null,{"$f":"RTD(\"cqg.rtd\",,\"StudyData\", \"Close(\"&$D$12&\") when LocalYear(\"&$D$12&\")=\"&$D$1&\" and localMonth(\"&$D$12&\") =\"&$E$1&\" and LocalDay(\"&$D$12&\")=\"&$F$1&\" and Barix(\"&$D$12&\",reference:=StartOfSession)=\"&A71&\"\", \"Bar\", \"\", \"Close\",\"5\",\"0\",\"PrimaryOnly\",,,\"False\",\"T\",\"EveryTick\")","v":""},{"$error":"#N/A"},{"$f":"RTD(\"cqg.rtd\",,\"StudyData\", \"Close(\"&$D$12&\") when LocalYear(\"&$D$12&\")=\"&$D$2&\" and localMonth(\"&$D$12&\") =\"&$E$2&\" and LocalDay(\"&$D$12&\")=\"&$F$2&\" and Barix(\"&$D$12&\",reference:=StartOfSession)=\"&A71&\"\", \"Bar\", \"\", \"Close\",\"5\",\"0\",\"PrimaryOnly\",,,\"False\",\"T\",\"EveryTick\")","v":188.93},-9.8008385744235028E-3,{"$f":"RTD(\"cqg.rtd\",,\"StudyData\", \"Close(\"&$D$12&\") when LocalYear(\"&$D$12&\")=\"&$D$3&\" and localMonth(\"&$D$12&\") =\"&$E$3&\" and LocalDay(\"&$D$12&\")=\"&$F$3&\" and Barix(\"&$D$12&\",reference:=StartOfSession)=\"&A71&\"\", \"Bar\", \"\", \"Close\",\"5\",\"0\",\"PrimaryOnly\",,,\"False\",\"T\",\"EveryTick\")","v":190.84},7.3413738856850967E-4,{"$f":"RTD(\"cqg.rtd\",,\"StudyData\", \"Close(\"&$D$12&\") when LocalYear(\"&$D$12&\")=\"&$D$4&\" and localMonth(\"&$D$12&\") =\"&$E$4&\" and LocalDay(\"&$D$12&\")=\"&$F$4&\" and Barix(\"&$D$12&\",reference:=StartOfSession)=\"&A71&\"\", \"Bar\", \"\", \"Close\",\"5\",\"0\",\"PrimaryOnly\",,,\"False\",\"T\",\"EveryTick\")","v":191.57},-3.692531724568379E-3,{"$f":"RTD(\"cqg.rtd\",,\"StudyData\", \"Close(\"&$D$12&\") when LocalYear(\"&$D$12&\")=\"&$D$5&\" and localMonth(\"&$D$12&\") =\"&$E$5&\" and LocalDay(\"&$D$12&\")=\"&$F$5&\" and Barix(\"&$D$12&\",reference:=StartOfSession)=\"&A71&\"\", \"Bar\", \"\", \"Close\",\"5\",\"0\",\"PrimaryOnly\",,,\"False\",\"T\",\"EveryTick\")","v":191.8},2.9807038644565267E-3,{"$f":"RTD(\"cqg.rtd\",,\"StudyData\", \"Close(\"&$D$12&\") when LocalYear(\"&$D$12&\")=\"&$D$6&\" and localMonth(\"&$D$12&\") =\"&$E$6&\" and LocalDay(\"&$D$12&\")=\"&$F$6&\" and Barix(\"&$D$12&\",reference:=StartOfSession)=\"&A71&\"\", \"Bar\", \"\", \"Close\",\"5\",\"0\",\"PrimaryOnly\",,,\"False\",\"T\",\"EveryTick\")","v":191.39},-1.6171100678143051E-3,{"$f":"RTD(\"cqg.rtd\",,\"StudyData\", \"Close(\"&$D$12&\") when LocalYear(\"&$D$12&\")=\"&$D$7&\" and localMonth(\"&$D$12&\") =\"&$E$7&\" and LocalDay(\"&$D$12&\")=\"&$F$7&\" and Barix(\"&$D$12&\",reference:=StartOfSession)=\"&A71&\"\", \"Bar\", \"\", \"Close\",\"5\",\"0\",\"PrimaryOnly\",,,\"False\",\"T\",\"EveryTick\")","v":191.63},-9.4593197560219801E-3,{"$f":"RTD(\"cqg.rtd\",,\"StudyData\", \"Close(\"&$D$12&\") when LocalYear(\"&$D$12&\")=\"&$D$8&\" and localMonth(\"&$D$12&\") =\"&$E$8&\" and LocalDay(\"&$D$12&\")=\"&$F$8&\" and Barix(\"&$D$12&\",reference:=StartOfSession)=\"&A71&\"\", \"Bar\", \"\", \"Close\",\"5\",\"0\",\"PrimaryOnly\",,,\"False\",\"T\",\"EveryTick\")","v":193.47},-2.629137024435462E-3,{"$f":"RTD(\"cqg.rtd\",,\"StudyData\", \"Close(\"&$D$12&\") when LocalYear(\"&$D$12&\")=\"&$D$9&\" and localMonth(\"&$D$12&\") =\"&$E$9&\" and LocalDay(\"&$D$12&\")=\"&$F$9&\" and Barix(\"&$D$12&\",reference:=StartOfSession)=\"&A71&\"\", \"Bar\", \"\", \"Close\",\"5\",\"0\",\"PrimaryOnly\",,,\"False\",\"T\",\"EveryTick\")","v":193.39},4.1384305002319631E-4,{"$f":"RTD(\"cqg.rtd\",,\"StudyData\", \"Close(\"&$D$12&\") when LocalYear(\"&$D$12&\")=\"&$D$10&\" and localMonth(\"&$D$12&\") =\"&$E$10&\" and LocalDay(\"&$D$12&\")=\"&$F$10&\" and Barix(\"&$D$12&\",reference:=StartOfSession)=\"&A71&\"\", \"Bar\", \"\", \"Close\",\"5\",\"0\",\"PrimaryOnly\",,,\"False\",\"T\",\"EveryTick\")","v":192.89},5.5257259031432715E-3,null,null,null,""]
[71,"14:25:00",-6,{"$f":" RTD(\"cqg.rtd\",,\"StudyData\", $D$12,  \"Tick\", \"FlatTicks=0\", \"Tick\",\"D\",C72,\"PrimaryOnly\")","v":187.91},null,null,null,{"$f":"RTD(\"cqg.rtd\",,\"StudyData\", \"Close(\"&$D$12&\") when LocalYear(\"&$D$12&\")=\"&$D$1&\" and localMonth(\"&$D$12&\") =\"&$E$1&\" and LocalDay(\"&$D$12&\")=\"&$F$1&\" and Barix(\"&$D$12&\",reference:=StartOfSession)=\"&A72&\"\", \"Bar\", \"\", \"Close\",\"5\",\"0\",\"PrimaryOnly\",,,\"False\",\"T\",\"EveryTick\")","v":""},{"$error":"#N/A"},{"$f":"RTD(\"cqg.rtd\",,\"StudyData\", \"Close(\"&$D$12&\") when LocalYear(\"&$D$12&\")=\"&$D$2&\" and localMonth(\"&$D$12&\") =\"&$E$2&\" and LocalDay(\"&$D$12&\")=\"&$F$2&\" and Barix(\"&$D$12&\",reference:=StartOfSession)=\"&A72&\"\", \"Bar\", \"\", \"Close\",\"5\",\"0\",\"PrimaryOnly\",,,\"False\",\"T\",\"EveryTick\")","v":188.96},-9.6436058700209819E-3,{"$f":"RTD(\"cqg.rtd\",,\"StudyData\", \"Close(\"&$D$12&\") when LocalYear(\"&$D$12&\")=\"&$D$3&\" and localMonth(\"&$D$12&\") =\"&$E$3&\" and LocalDay(\"&$D$12&\")=\"&$F$3&\" and Barix(\"&$D$12&\",reference:=StartOfSession)=\"&A72&\"\", \"Bar\", \"\", \"Close\",\"5\",\"0\",\"PrimaryOnly\",,,\"False\",\"T\",\"EveryTick\")","v":190.9},1.0487676979549926E-3,{"$f":"RTD(\"cqg.rtd\",,\"StudyData\", \"Close(\"&$D$12&\") when LocalYear(\"&$D$12&\")=\"&$D$4&\" and localMonth(\"&$D$12&\") =\"&$E$4&\" and LocalDay(\"&$D$12&\")=\"&$F$4&\" and Barix(\"&$D$12&\",reference:=StartOfSession)=\"&A72&\"\", \"Bar\", \"\", \"Close\",\"5\",\"0\",\"PrimaryOnly\",,,\"False\",\"T\",\"EveryTick\")","v":191.12},-6.0328687330975482E-3,{"$f":"RTD(\"cqg.rtd\",,\"StudyData\", \"Close(\"&$D$12&\") when LocalYear(\"&$D$12&\")=\"&$D$5&\" and localMonth(\"&$D$12&\") =\"&$E$5&\" and LocalDay(\"&$D$12&\")=\"&$F$5&\" and Barix(\"&$D$12&\",reference:=StartOfSession)=\"&A72&\"\", \"Bar\", \"\", \"Close\",\"5\",\"0\",\"PrimaryOnly\",,,\"False\",\"T\",\"EveryTick\")","v":191.78},2.8761177639492308E-3,{"$f":"RTD(\"cqg.rtd\",,\"StudyData\", \"Close(\"&$D$12&\") when LocalYear(\"&$D$12&\")=\"&$D$6&\" and localMonth(\"&$D$12&\") =\"&$E$6&\" and LocalDay(\"&$D$12&\")=\"&$F$6&\" and Barix(\"&$D$12&\",reference:=StartOfSession)=\"&A72&\"\", \"Bar\", \"\", \"Close\",\"5\",\"0\",\"PrimaryOnly\",,,\"False\",\"T\",\"EveryTick\")","v":191.45},-1.3041210224308817E-3,{"$f":"RTD(\"cqg.rtd\",,\"StudyData\", \"Close(\"&$D$12&\") when LocalYear(\"&$D$12&\")=\"&$D$7&\" and localMonth(\"&$D$12&\") =\"&$E$7&\" and LocalDay(\"&$D$12&\")=\"&$F$7&\" and Barix(\"&$D$12&\",reference:=StartOfSession)=\"&A72&\"\", \"Bar\", \"\", \"Close\",\"5\",\"0\",\"PrimaryOnly\",,,\"False\",\"T\",\"EveryTick\")","v":191.55},-9.8728419311485405E-3,{"$f":"RTD(\"cqg.rtd\",,\"StudyData\", \"Close(\"&$D$12&\") when LocalYear(\"&$D$12&\")=\"&$D$8&\" and localMonth(\"&$D$12&\") =\"&$E$8&\" and LocalDay(\"&$D$12&\")=\"&$F$8&\" and Barix(\"&$D$12&\",reference:=StartOfSession)=\"&A72&\"\", \"Bar\", \"\", \"Close\",\"5\",\"0\",\"PrimaryOnly\",,,\"False\",\"T\",\"EveryTick\")","v":193.67},-1.5981028972059093E-3,{"$f":"RTD(\"cqg.rtd\",,\"StudyData\", \"Close(\"&$D$12&\") when LocalYear(\"&$D$12&\")=\"&$D$9&\" and localMonth(\"&$D$12&\") =\"&$E$9&\" and LocalDay(\"&$D$12&\")=\"&$F$9&\" and Barix(\"&$D$12&\",reference:=StartOfSession)=\"&A72&\"\", \"Bar\", \"\", \"Close\",\"5\",\"0\",\"PrimaryOnly\",,,\"False\",\"T\",\"EveryTick\")","v":193.38},3.6211266877033354E-4,{"$f":"RTD(\"cqg.rtd\",,\"StudyData\", \"Close(\"&$D$12&\") when LocalYear(\"&$D$12&\")=\"&$D$10&\" and localMonth(\"&$D$12&\") =\"&$E$10&\" and LocalDay(\"&$D$12&\")=\"&$F$10&\" and Barix(\"&$D$12&\",reference:=StartOfSession)=\"&A72&\"\", \"Bar\", \"\", \"Close\",\"5\",\"0\",\"PrimaryOnly\",,,\"False\",\"T\",\"EveryTick\")","v":193.09},6.5683156961892867E-3,null,null,null,""]
[72,"14:30:00",-5,{"$f":" RTD(\"cqg.rtd\",,\"StudyData\", $D$12,  \"Tick\", \"FlatTicks=0\", \"Tick\",\"D\",C73,\"PrimaryOnly\")","v":187.92},null,null,null,{"$f":"RTD(\"cqg.rtd\",,\"StudyData\", \"Close(\"&$D$12&\") when LocalYear(\"&$D$12&\")=\"&$D$1&\" and localMonth(\"&$D$12&\") =\"&$E$1&\" and LocalDay(\"&$D$12&\")=\"&$F$1&\" and Barix(\"&$D$12&\",reference:=StartOfSession)=\"&A73&\"\", \"Bar\", \"\", \"Close\",\"5\",\"0\",\"PrimaryOnly\",,,\"False\",\"T\",\"EveryTick\")","v":""},{"$error":"#N/A"},{"$f":"RTD(\"cqg.rtd\",,\"StudyData\", \"Close(\"&$D$12&\") when LocalYear(\"&$D$12&\")=\"&$D$2&\" and localMonth(\"&$D$12&\") =\"&$E$2&\" and LocalDay(\"&$D$12&\")=\"&$F$2&\" and Barix(\"&$D$12&\",reference:=StartOfSession)=\"&A73&\"\", \"Bar\", \"\", \"Close\",\"5\",\"0\",\"PrimaryOnly\",,,\"False\",\"T\",\"EveryTick\")","v":189.02},-9.3291404612159384E-3,{"$f":"RTD(\"cqg.rtd\",,\"StudyData\", \"Close(\"&$D$12&\") when LocalYear(\"&$D$12&\")=\"&$D$3&\" and localMonth(\"&$D$12&\") =\"&$E$3&\" and LocalDay(\"&$D$12&\")=\"&$F$3&\" and Barix(\"&$D$12&\",reference:=StartOfSession)=\"&A73&\"\", \"Bar\", \"\", \"Close\",\"5\",\"0\",\"PrimaryOnly\",,,\"False\",\"T\",\"EveryTick\")","v":190.93},1.2060828526482339E-3,{"$f":"RTD(\"cqg.rtd\",,\"StudyData\", \"Close(\"&$D$12&\") when LocalYear(\"&$D$12&\")=\"&$D$4&\" and localMonth(\"&$D$12&\") =\"&$E$4&\" and LocalDay(\"&$D$12&\")=\"&$F$4&\" and Barix(\"&$D$12&\",reference:=StartOfSession)=\"&A73&\"\", \"Bar\", \"\", \"Close\",\"5\",\"0\",\"PrimaryOnly\",,,\"False\",\"T\",\"EveryTick\")","v":191.14},-5.9288537549407883E-3,{"$f":"RTD(\"cqg.rtd\",,\"StudyData\", \"Close(\"&$D$12&\") when LocalYear(\"&$D$12&\")=\"&$D$5&\" and localMonth(\"&$D$12&\") =\"&$E$5&\" and LocalDay(\"&$D$12&\")=\"&$F$5&\" and Barix(\"&$D$12&\",reference:=StartOfSession)=\"&A73&\"\", \"Bar\", \"\", \"Close\",\"5\",\"0\",\"PrimaryOnly\",,,\"False\",\"T\",\"EveryTick\")","v":191.76},2.7715316634419345E-3,{"$f":"RTD(\"cqg.rtd\",,\"StudyData\", \"Close(\"&$D$12&\") when LocalYear(\"&$D$12&\")=\"&$D$6&\" and localMonth(\"&$D$12&\") =\"&$E$6&\" and LocalDay(\"&$D$12&\")=\"&$F$6&\" and Barix(\"&$D$12&\",reference:=StartOfSession)=\"&A73&\"\", \"Bar\", \"\", \"Close\",\"5\",\"0\",\"PrimaryOnly\",,,\"False\",\"T\",\"EveryTick\")","v":191.45},-1.3041210224308817E-3,{"$f":"RTD(\"cqg.rtd\",,\"StudyData\", \"Close(\"&$D$12&\") when LocalYear(\"&$D$12&\")=\"&$D$7&\" and localMonth(\"&$D$12&\") =\"&$E$7&\" and LocalDay(\"&$D$12&\")=\"&$F$7&\" and Barix(\"&$D$12&\",reference:=StartOfSession)=\"&A73&\"\", \"Bar\", \"\", \"Close\",\"5\",\"0\",\"PrimaryOnly\",,,\"False\",\"T\",\"EveryTick\")","v":191.5},-1.013129329060275E-2,{"$f":"RTD(\"cqg.rtd\",,\"StudyData\", \"Close(\"&$D$12&\") when LocalYear(\"&$D$12&\")=\"&$D$8&\" and localMonth(\"&$D$12&\") =\"&$E$8&\" and LocalDay(\"&$D$12&\")=\"&$F$8&\" and Barix(\"&$D$12&\",reference:=StartOfSession)=\"&A73&\"\", \"Bar\", \"\", \"Close\",\"5\",\"0\",\"PrimaryOnly\",,,\"False\",\"T\",\"EveryTick\")","v":193.83},-7.7327559542209132E-4,{"$f":"RTD(\"cqg.rtd\",,\"StudyData\", \"Close(\"&$D$12&\") when LocalYear(\"&$D$12&\")=\"&$D$9&\" and localMonth(\"&$D$12&\") =\"&$E$9&\" and LocalDay(\"&$D$12&\")=\"&$F$9&\" and Barix(\"&$D$12&\",reference:=StartOfSession)=\"&A73&\"\", \"Bar\", \"\", \"Close\",\"5\",\"0\",\"PrimaryOnly\",,,\"False\",\"T\",\"EveryTick\")","v":193.34},1.5519114375873538E-4,{"$f":"RTD(\"cqg.rtd\",,\"StudyData\", \"Close(\"&$D$12&\") when LocalYear(\"&$D$12&\")=\"&$D$10&\" and localMonth(\"&$D$12&\") =\"&$E$10&\" and LocalDay(\"&$D$12&\")=\"&$F$10&\" and Barix(\"&$D$12&\",reference:=StartOfSession)=\"&A73&\"\", \"Bar\", \"\", \"Close\",\"5\",\"0\",\"PrimaryOnly\",,,\"False\",\"T\",\"EveryTick\")","v":193.08},6.5161862065370377E-3,null,null,null,""]
[73,"14:35:00",-4,{"$f":" RTD(\"cqg.rtd\",,\"StudyData\", $D$12,  \"Tick\", \"FlatTicks=0\", \"Tick\",\"D\",C74,\"PrimaryOnly\")","v":187.91},null,null,null,{"$f":"RTD(\"cqg.rtd\",,\"StudyData\", \"Close(\"&$D$12&\") when LocalYear(\"&$D$12&\")=\"&$D$1&\" and localMonth(\"&$D$12&\") =\"&$E$1&\" and LocalDay(\"&$D$12&\")=\"&$F$1&\" and Barix(\"&$D$12&\",reference:=StartOfSession)=\"&A74&\"\", \"Bar\", \"\", \"Close\",\"5\",\"0\",\"PrimaryOnly\",,,\"False\",\"T\",\"EveryTick\")","v":""},{"$error":"#N/A"},{"$f":"RTD(\"cqg.rtd\",,\"StudyData\", \"Close(\"&$D$12&\") when LocalYear(\"&$D$12&\")=\"&$D$2&\" and localMonth(\"&$D$12&\") =\"&$E$2&\" and LocalDay(\"&$D$12&\")=\"&$F$2&\" and Barix(\"&$D$12&\",reference:=StartOfSession)=\"&A74&\"\", \"Bar\", \"\", \"Close\",\"5\",\"0\",\"PrimaryOnly\",,,\"False\",\"T\",\"EveryTick\")","v":188.63},-1.137316561844872E-2,{"$f":"RTD(\"cqg.rtd\",,\"StudyData\", \"Close(\"&$D$12&\") when LocalYear(\"&$D$12&\")=\"&$D$3&\" and localMonth(\"&$D$12&\") =\"&$E$3&\" and LocalDay(\"&$D$12&\")=\"&$F$3&\" and Barix(\"&$D$12&\",reference:=StartOfSession)=\"&A74&\"\", \"Bar\", \"\", \"Close\",\"5\",\"0\",\"PrimaryOnly\",,,\"False\",\"T\",\"EveryTick\")","v":190.92},1.1536444677503874E-3,{"$f":"RTD(\"cqg.rtd\",,\"StudyData\", \"Close(\"&$D$12&\") when LocalYear(\"&$D$12&\")=\"&$D$4&\" and localMonth(\"&$D$12&\") =\"&$E$4&\" and LocalDay(\"&$D$12&\")=\"&$F$4&\" and Barix(\"&$D$12&\",reference:=StartOfSession)=\"&A74&\"\", \"Bar\", \"\", \"Close\",\"5\",\"0\",\"PrimaryOnly\",,,\"False\",\"T\",\"EveryTick\")","v":191.02},-6.552943623881792E-3,{"$f":"RTD(\"cqg.rtd\",,\"StudyData\", \"Close(\"&$D$12&\") when LocalYear(\"&$D$12&\")=\"&$D$5&\" and localMonth(\"&$D$12&\") =\"&$E$5&\" and LocalDay(\"&$D$12&\")=\"&$F$5&\" and Barix(\"&$D$12&\",reference:=StartOfSession)=\"&A74&\"\", \"Bar\", \"\", \"Close\",\"5\",\"0\",\"PrimaryOnly\",,,\"False\",\"T\",\"EveryTick\")","v":191.79},2.9284108142028044E-3,{"$f":"RTD(\"cqg.rtd\",,\"StudyData\", \"Close(\"&$D$12&\") when LocalYear(\"&$D$12&\")=\"&$D$6&\" and localMonth(\"&$D$12&\") =\"&$E$6&\" and LocalDay(\"&$D$12&\")=\"&$F$6&\" and Barix(\"&$D$12&\",reference:=StartOfSession)=\"&A74&\"\", \"Bar\", \"\", \"Close\",\"5\",\"0\",\"PrimaryOnly\",,,\"False\",\"T\",\"EveryTick\")","v":191.32},-1.9822639540949165E-3,{"$f":"RTD(\"cqg.rtd\",,\"StudyData\", \"Close(\"&$D$12&\") when LocalYear(\"&$D$12&\")=\"&$D$7&\" and localMonth(\"&$D$12&\") =\"&$E$7&\" and LocalDay(\"&$D$12&\")=\"&$F$7&\" and Barix(\"&$D$12&\",reference:=StartOfSession)=\"&A74&\"\", \"Bar\", \"\", \"Close\",\"5\",\"0\",\"PrimaryOnly\",,,\"False\",\"T\",\"EveryTick\")","v":191.58},-9.7177711154760437E-3,{"$f":"RTD(\"cqg.rtd\",,\"StudyData\", \"Close(\"&$D$12&\") when LocalYear(\"&$D$12&\")=\"&$D$8&\" and localMonth(\"&$D$12&\") =\"&$E$8&\" and LocalDay(\"&$D$12&\")=\"&$F$8&\" and Barix(\"&$D$12&\",reference:=StartOfSession)=\"&A74&\"\", \"Bar\", \"\", \"Close\",\"5\",\"0\",\"PrimaryOnly\",,,\"False\",\"T\",\"EveryTick\")","v":193.81},-8.7637900814510519E-4,{"$f":"RTD(\"cqg.rtd\",,\"StudyData\", \"Close(\"&$D$12&\") when LocalYear(\"&$D$12&\")=\"&$D$9&\" and localMonth(\"&$D$12&\") =\"&$E$9&\" and LocalDay(\"&$D$12&\")=\"&$F$9&\" and Barix(\"&$D$12&\",reference:=StartOfSession)=\"&A74&\"\", \"Bar\", \"\", \"Close\",\"5\",\"0\",\"PrimaryOnly\",,,\"False\",\"T\",\"EveryTick\")","v":193.33},1.034607625058726E-4,{"$f":"RTD(\"cqg.rtd\",,\"StudyData\", \"Close(\"&$D$12&\") when LocalYear(\"&$D$12&\")=\"&$D$10&\" and localMonth(\"&$D$12&\") =\"&$E$10&\" and LocalDay(\"&$D$12&\")=\"&$F$10&\" and Barix(\"&$D$12&\",reference:=StartOfSession)=\"&A74&\"\", \"Bar\", \"\", \"Close\",\"5\",\"0\",\"PrimaryOnly\",,,\"False\",\"T\",\"EveryTick\")","v":193.25},7.4023875306260091E-3,null,null,null,""]
[74,"14:40:00",-3,{"$f":" RTD(\"cqg.rtd\",,\"StudyData\", $D$12,  \"Tick\", \"FlatTicks=0\", \"Tick\",\"D\",C75,\"PrimaryOnly\")","v":187.9},null,null,null,{"$f":"RTD(\"cqg.rtd\",,\"StudyData\", \"Close(\"&$D$12&\") when LocalYear(\"&$D$12&\")=\"&$D$1&\" and localMonth(\"&$D$12&\") =\"&$E$1&\" and LocalDay(\"&$D$12&\")=\"&$F$1&\" and Barix(\"&$D$12&\",reference:=StartOfSession)=\"&A75&\"\", \"Bar\", \"\", \"Close\",\"5\",\"0\",\"PrimaryOnly\",,,\"False\",\"T\",\"EveryTick\")","v":""},{"$error":"#N/A"},{"$f":"RTD(\"cqg.rtd\",,\"StudyData\", \"Close(\"&$D$12&\") when LocalYear(\"&$D$12&\")=\"&$D$2&\" and localMonth(\"&$D$12&\") =\"&$E$2&\" and LocalDay(\"&$D$12&\")=\"&$F$2&\" and Barix(\"&$D$12&\",reference:=StartOfSession)=\"&A75&\"\", \"Bar\", \"\", \"Close\",\"5\",\"0\",\"PrimaryOnly\",,,\"False\",\"T\",\"EveryTick\")","v":188.74},-1.0796645702306091E-2,{"$f":"RTD(\"cqg.rtd\",,\"StudyData\", \"Close(\"&$D$12&\") when LocalYear(\"&$D$12&\")=\"&$D$3&\" and localMonth(\"&$D$12&\") =\"&$E$3&\" and LocalDay(\"&$D$12&\")=\"&$F$3&\" and Barix(\"&$D$12&\",reference:=StartOfSession)=\"&A75&\"\", \"Bar\", \"\", \"Close\",\"5\",\"0\",\"PrimaryOnly\",,,\"False\",\"T\",\"EveryTick\")","v":191.11},2.1499737808076823E-3,{"$f":"RTD(\"cqg.rtd\",,\"StudyData\", \"Close(\"&$D$12&\") when LocalYear(\"&$D$12&\")=\"&$D$4&\" and localMonth(\"&$D$12&\") =\"&$E$4&\" and LocalDay(\"&$D$12&\")=\"&$F$4&\" and Barix(\"&$D$12&\",reference:=StartOfSession)=\"&A75&\"\", \"Bar\", \"\", \"Close\",\"5\",\"0\",\"PrimaryOnly\",,,\"False\",\"T\",\"EveryTick\")","v":191.21},-5.5648013313916852E-3,{"$f":"RTD(\"cqg.rtd\",,\"StudyData\", \"Close(\"&$D$12&\") when LocalYear(\"&$D$12&\")=\"&$D$5&\" and localMonth(\"&$D$12&\") =\"&$E$5&\" and LocalDay(\"&$D$12&\")=\"&$F$5&\" and Barix(\"&$D$12&\",reference:=StartOfSession)=\"&A75&\"\", \"Bar\", \"\", \"Close\",\"5\",\"0\",\"PrimaryOnly\",,,\"False\",\"T\",\"EveryTick\")","v":191.66},2.2486011609057512E-3,{"$f":"RTD(\"cqg.rtd\",,\"StudyData\", \"Close(\"&$D$12&\") when LocalYear(\"&$D$12&\")=\"&$D$6&\" and localMonth(\"&$D$12&\") =\"&$E$6&\" and LocalDay(\"&$D$12&\")=\"&$F$6&\" and Barix(\"&$D$12&\",reference:=StartOfSession)=\"&A75&\"\", \"Bar\", \"\", \"Close\",\"5\",\"0\",\"PrimaryOnly\",,,\"False\",\"T\",\"EveryTick\")","v":191.21},-2.5560772039644273E-3,{"$f":"RTD(\"cqg.rtd\",,\"StudyData\", \"Close(\"&$D$12&\") when LocalYear(\"&$D$12&\")=\"&$D$7&\" and localMonth(\"&$D$12&\") =\"&$E$7&\" and LocalDay(\"&$D$12&\")=\"&$F$7&\" and Barix(\"&$D$12&\",reference:=StartOfSession)=\"&A75&\"\", \"Bar\", \"\", \"Close\",\"5\",\"0\",\"PrimaryOnly\",,,\"False\",\"T\",\"EveryTick\")","v":191.56},-9.8211516592577562E-3,{"$f":"RTD(\"cqg.rtd\",,\"StudyData\", \"Close(\"&$D$12&\") when LocalYear(\"&$D$12&\")=\"&$D$8&\" and localMonth(\"&$D$12&\") =\"&$E$8&\" and LocalDay(\"&$D$12&\")=\"&$F$8&\" and Barix(\"&$D$12&\",reference:=StartOfSession)=\"&A75&\"\", \"Bar\", \"\", \"Close\",\"5\",\"0\",\"PrimaryOnly\",,,\"False\",\"T\",\"EveryTick\")","v":193.58},-2.0620682544591055E-3,{"$f":"RTD(\"cqg.rtd\",,\"StudyData\", \"Close(\"&$D$12&\") when LocalYear(\"&$D$12&\")=\"&$D$9&\" and localMonth(\"&$D$12&\") =\"&$E$9&\" and LocalDay(\"&$D$12&\")=\"&$F$9&\" and Barix(\"&$D$12&\",reference:=StartOfSession)=\"&A75&\"\", \"Bar\", \"\", \"Close\",\"5\",\"0\",\"PrimaryOnly\",,,\"False\",\"T\",\"EveryTick\")","v":193.38},3.6211266877033354E-4,{"$f":"RTD(\"cqg.rtd\",,\"StudyData\", \"Close(\"&$D$12&\") when LocalYear(\"&$D$12&\")=\"&$D$10&\" and localMonth(\"&$D$12&\") =\"&$E$10&\" and LocalDay(\"&$D$12&\")=\"&$F$10&\" and Barix(\"&$D$12&\",reference:=StartOfSession)=\"&A75&\"\", \"Bar\", \"\", \"Close\",\"5\",\"0\",\"PrimaryOnly\",,,\"False\",\"T\",\"EveryTick\")","v":193.25},7.4023875306260091E-3,null,null,null,""]
[75,"14:45:00",-2,{"$f":" RTD(\"cqg.rtd\",,\"StudyData\", $D$12,  \"Tick\", \"FlatTicks=0\", \"Tick\",\"D\",C76,\"PrimaryOnly\")","v":187.91},null,null,null,{"$f":"RTD(\"cqg.rtd\",,\"StudyData\", \"Close(\"&$D$12&\") when LocalYear(\"&$D$12&\")=\"&$D$1&\" and localMonth(\"&$D$12&\") =\"&$E$1&\" and LocalDay(\"&$D$12&\")=\"&$F$1&\" and Barix(\"&$D$12&\",reference:=StartOfSession)=\"&A76&\"\", \"Bar\", \"\", \"Close\",\"5\",\"0\",\"PrimaryOnly\",,,\"False\",\"T\",\"EveryTick\")","v":""},{"$error":"#N/A"},{"$f":"RTD(\"cqg.rtd\",,\"StudyData\", \"Close(\"&$D$12&\") when LocalYear(\"&$D$12&\")=\"&$D$2&\" and localMonth(\"&$D$12&\") =\"&$E$2&\" and LocalDay(\"&$D$12&\")=\"&$F$2&\" and Barix(\"&$D$12&\",reference:=StartOfSession)=\"&A76&\"\", \"Bar\", \"\", \"Close\",\"5\",\"0\",\"PrimaryOnly\",,,\"False\",\"T\",\"EveryTick\")","v":188.62},-1.1425576519916178E-2,{"$f":"RTD(\"cqg.rtd\",,\"StudyData\", \"Close(\"&$D$12&\") when LocalYear(\"&$D$12&\")=\"&$D$3&\" and localMonth(\"&$D$12&\") =\"&$E$3&\" and LocalDay(\"&$D$12&\")=\"&$F$3&\" and Barix(\"&$D$12&\",reference:=StartOfSession)=\"&A76&\"\", \"Bar\", \"\", \"Close\",\"5\",\"0\",\"PrimaryOnly\",,,\"False\",\"T\",\"EveryTick\")","v":190.96},1.3633980073414753E-3,{"$f":"RTD(\"cqg.rtd\",,\"StudyData\", \"Close(\"&$D$12&\") when LocalYear(\"&$D$12&\")=\"&$D$4&\" and localMonth(\"&$D$12&\") =\"&$E$4&\" and LocalDay(\"&$D$12&\")=\"&$F$4&\" and Barix(\"&$D$12&\",reference:=StartOfSession)=\"&A76&\"\", \"Bar\", \"\", \"Close\",\"5\",\"0\",\"PrimaryOnly\",,,\"False\",\"T\",\"EveryTick\")","v":190.91},-7.1250260037445624E-3,{"$f":"RTD(\"cqg.rtd\",,\"StudyData\", \"Close(\"&$D$12&\") when LocalYear(\"&$D$12&\")=\"&$D$5&\" and localMonth(\"&$D$12&\") =\"&$E$5&\" and LocalDay(\"&$D$12&\")=\"&$F$5&\" and Barix(\"&$D$12&\",reference:=StartOfSession)=\"&A76&\"\", \"Bar\", \"\", \"Close\",\"5\",\"0\",\"PrimaryOnly\",,,\"False\",\"T\",\"EveryTick\")","v":191.77},2.8238247136956572E-3,{"$f":"RTD(\"cqg.rtd\",,\"StudyData\", \"Close(\"&$D$12&\") when LocalYear(\"&$D$12&\")=\"&$D$6&\" and localMonth(\"&$D$12&\") =\"&$E$6&\" and LocalDay(\"&$D$12&\")=\"&$F$6&\" and Barix(\"&$D$12&\",reference:=StartOfSession)=\"&A76&\"\", \"Bar\", \"\", \"Close\",\"5\",\"0\",\"PrimaryOnly\",,,\"False\",\"T\",\"EveryTick\")","v":191.36},-1.7736045905058686E-3,{"$f":"RTD(\"cqg.rtd\",,\"StudyData\", \"Close(\"&$D$12&\") when LocalYear(\"&$D$12&\")=\"&$D$7&\" and localMonth(\"&$D$12&\") =\"&$E$7&\" and LocalDay(\"&$D$12&\")=\"&$F$7&\" and Barix(\"&$D$12&\",reference:=StartOfSession)=\"&A76&\"\", \"Bar\", \"\", \"Close\",\"5\",\"0\",\"PrimaryOnly\",,,\"False\",\"T\",\"EveryTick\")","v":191.61},-9.5627002998035469E-3,{"$f":"RTD(\"cqg.rtd\",,\"StudyData\", \"Close(\"&$D$12&\") when LocalYear(\"&$D$12&\")=\"&$D$8&\" and localMonth(\"&$D$12&\") =\"&$E$8&\" and LocalDay(\"&$D$12&\")=\"&$F$8&\" and Barix(\"&$D$12&\",reference:=StartOfSession)=\"&A76&\"\", \"Bar\", \"\", \"Close\",\"5\",\"0\",\"PrimaryOnly\",,,\"False\",\"T\",\"EveryTick\")","v":193.27},-3.660171151665015E-3,{"$f":"RTD(\"cqg.rtd\",,\"StudyData\", \"Close(\"&$D$12&\") when LocalYear(\"&$D$12&\")=\"&$D$9&\" and localMonth(\"&$D$12&\") =\"&$E$9&\" and LocalDay(\"&$D$12&\")=\"&$F$9&\" and Barix(\"&$D$12&\",reference:=StartOfSession)=\"&A76&\"\", \"Bar\", \"\", \"Close\",\"5\",\"0\",\"PrimaryOnly\",,,\"False\",\"T\",\"EveryTick\")","v":193.46},7.7595571879367686E-4,{"$f":"RTD(\"cqg.rtd\",,\"StudyData\", \"Close(\"&$D$12&\") when LocalYear(\"&$D$12&\")=\"&$D$10&\" and localMonth(\"&$D$12&\") =\"&$E$10&\" and LocalDay(\"&$D$12&\")=\"&$F$10&\" and Barix(\"&$D$12&\",reference:=StartOfSession)=\"&A76&\"\", \"Bar\", \"\", \"Close\",\"5\",\"0\",\"PrimaryOnly\",,,\"False\",\"T\",\"EveryTick\")","v":193.56},9.0184017098472059E-3,null,null,null,""]
[76,"14:50:00",-1,{"$f":" RTD(\"cqg.rtd\",,\"StudyData\", $D$12,  \"Tick\", \"FlatTicks=0\", \"Tick\",\"D\",C77,\"PrimaryOnly\")","v":187.92},null,null,null,{"$f":"RTD(\"cqg.rtd\",,\"StudyData\", \"Close(\"&$D$12&\") when LocalYear(\"&$D$12&\")=\"&$D$1&\" and localMonth(\"&$D$12&\") =\"&$E$1&\" and LocalDay(\"&$D$12&\")=\"&$F$1&\" and Barix(\"&$D$12&\",reference:=StartOfSession)=\"&A77&\"\", \"Bar\", \"\", \"Close\",\"5\",\"0\",\"PrimaryOnly\",,,\"False\",\"T\",\"EveryTick\")","v":""},{"$error":"#N/A"},{"$f":"RTD(\"cqg.rtd\",,\"StudyData\", \"Close(\"&$D$12&\") when LocalYear(\"&$D$12&\")=\"&$D$2&\" and localMonth(\"&$D$12&\") =\"&$E$2&\" and LocalDay(\"&$D$12&\")=\"&$F$2&\" and Barix(\"&$D$12&\",reference:=StartOfSession)=\"&A77&\"\", \"Bar\", \"\", \"Close\",\"5\",\"0\",\"PrimaryOnly\",,,\"False\",\"T\",\"EveryTick\")","v":188.64},-1.1320754716981263E-2,{"$f":"RTD(\"cqg.rtd\",,\"StudyData\", \"Close(\"&$D$12&\") when LocalYear(\"&$D$12&\")=\"&$D$3&\" and localMonth(\"&$D$12&\") =\"&$E$3&\" and LocalDay(\"&$D$12&\")=\"&$F$3&\" and Barix(\"&$D$12&\",reference:=StartOfSession)=\"&A77&\"\", \"Bar\", \"\", \"Close\",\"5\",\"0\",\"PrimaryOnly\",,,\"False\",\"T\",\"EveryTick\")","v":190.56},-7.3413738856836059E-4,{"$f":"RTD(\"cqg.rtd\",,\"StudyData\", \"Close(\"&$D$12&\") when LocalYear(\"&$D$12&\")=\"&$D$4&\" and localMonth(\"&$D$12&\") =\"&$E$4&\" and LocalDay(\"&$D$12&\")=\"&$F$4&\" and Barix(\"&$D$12&\",reference:=StartOfSession)=\"&A77&\"\", \"Bar\", \"\", \"Close\",\"5\",\"0\",\"PrimaryOnly\",,,\"False\",\"T\",\"EveryTick\")","v":190.57},-8.8932806324111078E-3,{"$f":"RTD(\"cqg.rtd\",,\"StudyData\", \"Close(\"&$D$12&\") when LocalYear(\"&$D$12&\")=\"&$D$5&\" and localMonth(\"&$D$12&\") =\"&$E$5&\" and LocalDay(\"&$D$12&\")=\"&$F$5&\" and Barix(\"&$D$12&\",reference:=StartOfSession)=\"&A77&\"\", \"Bar\", \"\", \"Close\",\"5\",\"0\",\"PrimaryOnly\",,,\"False\",\"T\",\"EveryTick\")","v":192.03},4.1834440202897635E-3,{"$f":"RTD(\"cqg.rtd\",,\"StudyData\", \"Close(\"&$D$12&\") when LocalYear(\"&$D$12&\")=\"&$D$6&\" and localMonth(\"&$D$12&\") =\"&$E$6&\" and LocalDay(\"&$D$12&\")=\"&$F$6&\" and Barix(\"&$D$12&\",reference:=StartOfSession)=\"&A77&\"\", \"Bar\", \"\", \"Close\",\"5\",\"0\",\"PrimaryOnly\",,,\"False\",\"T\",\"EveryTick\")","v":191.15},-2.8690662493478505E-3,{"$f":"RTD(\"cqg.rtd\",,\"StudyData\", \"Close(\"&$D$12&\") when LocalYear(\"&$D$12&\")=\"&$D$7&\" and localMonth(\"&$D$12&\") =\"&$E$7&\" and LocalDay(\"&$D$12&\")=\"&$F$7&\" and Barix(\"&$D$12&\",reference:=StartOfSession)=\"&A77&\"\", \"Bar\", \"\", \"Close\",\"5\",\"0\",\"PrimaryOnly\",,,\"False\",\"T\",\"EveryTick\")","v":191.93},-7.9086115992970177E-3,{"$f":"RTD(\"cqg.rtd\",,\"StudyData\", \"Close(\"&$D$12&\") when LocalYear(\"&$D$12&\")=\"&$D$8&\" and localMonth(\"&$D$12&\") =\"&$E$8&\" and LocalDay(\"&$D$12&\")=\"&$F$8&\" and Barix(\"&$D$12&\",reference:=StartOfSession)=\"&A77&\"\", \"Bar\", \"\", \"Close\",\"5\",\"0\",\"PrimaryOnly\",,,\"False\",\"T\",\"EveryTick\")","v":193.53},-2.3198267862665671E-3,{"$f":"RTD(\"cqg.rtd\",,\"StudyData\", \"Close(\"&$D$12&\") when LocalYear(\"&$D$12&\")=\"&$D$9&\" and localMonth(\"&$D$12&\") =\"&$E$9&\" and LocalDay(\"&$D$12&\")=\"&$F$9&\" and Barix(\"&$D$12&\",reference:=StartOfSession)=\"&A77&\"\", \"Bar\", \"\", \"Close\",\"5\",\"0\",\"PrimaryOnly\",,,\"False\",\"T\",\"EveryTick\")","v":193.91},3.1038228751745604E-3,{"$f":"RTD(\"cqg.rtd\",,\"StudyData\", \"Close(\"&$D$12&\") when LocalYear(\"&$D$12&\")=\"&$D$10&\" and localMonth(\"&$D$12&\") =\"&$E$10&\" and LocalDay(\"&$D$12&\")=\"&$F$10&\" and Barix(\"&$D$12&\",reference:=StartOfSession)=\"&A77&\"\", \"Bar\", \"\", \"Close\",\"5\",\"0\",\"PrimaryOnly\",,,\"False\",\"T\",\"EveryTick\")","v":193.39},8.1322003857580861E-3,null,null,null,""]
[77,"14:55:00",{"$f":"C77+1","v":0},{"$f":" RTD(\"cqg.rtd\",,\"StudyData\", $D$12,  \"Tick\", \"FlatTicks=0\", \"Tick\",\"D\",C78,\"PrimaryOnly\")","v":187.93},null,null,null,{"$f":"RTD(\"cqg.rtd\",,\"StudyData\", \"Close(\"&$D$12&\") when LocalYear(\"&$D$12&\")=\"&$D$1&\" and localMonth(\"&$D$12&\") =\"&$E$1&\" and LocalDay(\"&$D$12&\")=\"&$F$1&\" and Barix(\"&$D$12&\",reference:=StartOfSession)=\"&A78&\"\", \"Bar\", \"\", \"Close\",\"5\",\"0\",\"PrimaryOnly\",,,\"False\",\"T\",\"EveryTick\")","v":""},{"$error":"#N/A"},{"$f":"RTD(\"cqg.rtd\",,\"StudyData\", \"Close(\"&$D$12&\") when LocalYear(\"&$D$12&\")=\"&$D$2&\" and localMonth(\"&$D$12&\") =\"&$E$2&\" and LocalDay(\"&$D$12&\")=\"&$F$2&\" and Barix(\"&$D$12&\",reference:=StartOfSession)=\"&A78&\"\", \"Bar\", \"\", \"Close\",\"5\",\"0\",\"PrimaryOnly\",,,\"False\",\"T\",\"EveryTick\")","v":188.84},-1.0272536687631069E-2,{"$f":"RTD(\"cqg.rtd\",,\"StudyData\", \"Close(\"&$D$12&\") when LocalYear(\"&$D$12&\")=\"&$D$3&\" and localMonth(\"&$D$12&\") =\"&$E$3&\" and LocalDay(\"&$D$12&\")=\"&$F$3&\" and Barix(\"&$D$12&\",reference:=StartOfSession)=\"&A78&\"\", \"Bar\", \"\", \"Close\",\"5\",\"0\",\"PrimaryOnly\",,,\"False\",\"T\",\"EveryTick\")","v":190.8},5.2438384897757076E-4,{"$f":"RTD(\"cqg.rtd\",,\"StudyData\", \"Close(\"&$D$12&\") when LocalYear(\"&$D$12&\")=\"&$D$4&\" and localMonth(\"&$D$12&\") =\"&$E$4&\" and LocalDay(\"&$D$12&\")=\"&$F$4&\" and Barix(\"&$D$12&\",reference:=StartOfSession)=\"&A78&\"\", \"Bar\", \"\", \"Close\",\"5\",\"0\",\"PrimaryOnly\",,,\"False\",\"T\",\"EveryTick\")","v":190.7},-8.2171832743915766E-3,{"$f":"RTD(\"cqg.rtd\",,\"StudyData\", \"Close(\"&$D$12&\") when LocalYear(\"&$D$12&\")=\"&$D$5&\" and localMonth(\"&$D$12&\") =\"&$E$5&\" and LocalDay(\"&$D$12&\")=\"&$F$5&\" and Barix(\"&$D$12&\",reference:=StartOfSession)=\"&A78&\"\", \"Bar\", \"\", \"Close\",\"5\",\"0\",\"PrimaryOnly\",,,\"False\",\"T\",\"EveryTick\")","v":192.28},5.4907702766302958E-3,{"$f":"RTD(\"cqg.rtd\",,\"StudyData\", \"Close(\"&$D$12&\") when LocalYear(\"&$D$12&\")=\"&$D$6&\" and localMonth(\"&$D$12&\") =\"&$E$6&\" and LocalDay(\"&$D$12&\")=\"&$F$6&\" and Barix(\"&$D$12&\",reference:=StartOfSession)=\"&A78&\"\", \"Bar\", \"\", \"Close\",\"5\",\"0\",\"PrimaryOnly\",,,\"False\",\"T\",\"EveryTick\")","v":191.23},-2.4517475221700518E-3,{"$f":"RTD(\"cqg.rtd\",,\"StudyData\", \"Close(\"&$D$12&\") when LocalYear(\"&$D$12&\")=\"&$D$7&\" and localMonth(\"&$D$12&\") =\"&$E$7&\" and LocalDay(\"&$D$12&\")=\"&$F$7&\" and Barix(\"&$D$12&\",reference:=StartOfSession)=\"&A78&\"\", \"Bar\", \"\", \"Close\",\"5\",\"0\",\"PrimaryOnly\",,,\"False\",\"T\",\"EveryTick\")","v":191.7},-9.0974878527862058E-3,{"$f":"RTD(\"cqg.rtd\",,\"StudyData\", \"Close(\"&$D$12&\") when LocalYear(\"&$D$12&\")=\"&$D$8&\" and localMonth(\"&$D$12&\") =\"&$E$8&\" and LocalDay(\"&$D$12&\")=\"&$F$8&\" and Barix(\"&$D$12&\",reference:=StartOfSession)=\"&A78&\"\", \"Bar\", \"\", \"Close\",\"5\",\"0\",\"PrimaryOnly\",,,\"False\",\"T\",\"EveryTick\")","v":193.46},-2.6806887307968957E-3,{"$f":"RTD(\"cqg.rtd\",,\"StudyData\", \"Close(\"&$D$12&\") when LocalYear(\"&$D$12&\")=\"&$D$9&\" and localMonth(\"&$D$12&\") =\"&$E$9&\" and LocalDay(\"&$D$12&\")=\"&$F$9&\" and Barix(\"&$D$12&\",reference:=StartOfSession)=\"&A78&\"\", \"Bar\", \"\", \"Close\",\"5\",\"0\",\"PrimaryOnly\",,,\"False\",\"T\",\"EveryTick\")","v":193.98},3.4659355439448942E-3,{"$f":"RTD(\"cqg.rtd\",,\"StudyData\", \"Close(\"&$D$12&\") when LocalYear(\"&$D$12&\")=\"&$D$10&\" and localMonth(\"&$D$12&\") =\"&$E$10&\" and LocalDay(\"&$D$12&\")=\"&$F$10&\" and Barix(\"&$D$12&\",reference:=StartOfSession)=\"&A78&\"\", \"Bar\", \"\", \"Close\",\"5\",\"0\",\"PrimaryOnly\",,,\"False\",\"T\",\"EveryTick\")","v":193.31},7.715164468539799E-3,null,null,null,""]
[78,"15:00:00",null,null,null,null,null,{"$f":"RTD(\"cqg.rtd\",,\"StudyData\", \"Close(\"&$D$12&\") when LocalYear(\"&$D$12&\")=\"&$D$1&\" and localMonth(\"&$D$12&\") =\"&$E$1&\" and LocalDay(\"&$D$12&\")=\"&$F$1&\" and Barix(\"&$D$12&\",reference:=StartOfSession)=\"&A79&\"\", \"Bar\", \"\", \"Close\",\"5\",\"0\",\"PrimaryOnly\",,,\"False\",\"T\",\"EveryTick\")","v":""},{"$error":"#N/A"},{"$f":"RTD(\"cqg.rtd\",,\"StudyData\", \"Close(\"&$D$12&\") when LocalYear(\"&$D$12&\")=\"&$D$2&\" and localMonth(\"&$D$12&\") =\"&$E$2&\" and LocalDay(\"&$D$12&\")=\"&$F$2&\" and Barix(\"&$D$12&\",reference:=StartOfSession)=\"&A79&\"\", \"Bar\", \"\", \"Close\",\"5\",\"0\",\"PrimaryOnly\",,,\"False\",\"T\",\"EveryTick\")","v":""},{"$error":"#N/A"},{"$f":"RTD(\"cqg.rtd\",,\"StudyData\", \"Close(\"&$D$12&\") when LocalYear(\"&$D$12&\")=\"&$D$3&\" and localMonth(\"&$D$12&\") =\"&$E$3&\" and LocalDay(\"&$D$12&\")=\"&$F$3&\" and Barix(\"&$D$12&\",reference:=StartOfSession)=\"&A79&\"\", \"Bar\", \"\", \"Close\",\"5\",\"0\",\"PrimaryOnly\",,,\"False\",\"T\",\"EveryTick\")","v":""},{"$error":"#N/A"},{"$f":"RTD(\"cqg.rtd\",,\"StudyData\", \"Close(\"&$D$12&\") when LocalYear(\"&$D$12&\")=\"&$D$4&\" and localMonth(\"&$D$12&\") =\"&$E$4&\" and LocalDay(\"&$D$12&\")=\"&$F$4&\" and Barix(\"&$D$12&\",reference:=StartOfSession)=\"&A79&\"\", \"Bar\", \"\", \"Close\",\"5\",\"0\",\"PrimaryOnly\",,,\"False\",\"T\",\"EveryTick\")","v":""},{"$error":"#N/A"},{"$f":"RTD(\"cqg.rtd\",,\"StudyData\", \"Close(\"&$D$12&\") when LocalYear(\"&$D$12&\")=\"&$D$5&\" and localMonth(\"&$D$12&\") =\"&$E$5&\" and LocalDay(\"&$D$12&\")=\"&$F$5&\" and Barix(\"&$D$12&\",reference:=StartOfSession)=\"&A79&\"\", \"Bar\", \"\", \"Close\",\"5\",\"0\",\"PrimaryOnly\",,,\"False\",\"T\",\"EveryTick\")","v":""},{"$error":"#N/A"},{"$f":"RTD(\"cqg.rtd\",,\"StudyData\", \"Close(\"&$D$12&\") when LocalYear(\"&$D$12&\")=\"&$D$6&\" and localMonth(\"&$D$12&\") =\"&$E$6&\" and LocalDay(\"&$D$12&\")=\"&$F$6&\" and Barix(\"&$D$12&\",reference:=StartOfSession)=\"&A79&\"\", \"Bar\", \"\", \"Close\",\"5\",\"0\",\"PrimaryOnly\",,,\"False\",\"T\",\"EveryTick\")","v":""},{"$error":"#N/A"},{"$f":"RTD(\"cqg.rtd\",,\"StudyData\", \"Close(\"&$D$12&\") when LocalYear(\"&$D$12&\")=\"&$D$7&\" and localMonth(\"&$D$12&\") =\"&$E$7&\" and LocalDay(\"&$D$12&\")=\"&$F$7&\" and Barix(\"&$D$12&\",reference:=StartOfSession)=\"&A79&\"\", \"Bar\", \"\", \"Close\",\"5\",\"0\",\"PrimaryOnly\",,,\"False\",\"T\",\"EveryTick\")","v":""},{"$error":"#N/A"},{"$f":"RTD(\"cqg.rtd\",,\"StudyData\", \"Close(\"&$D$12&\") when LocalYear(\"&$D$12&\")=\"&$D$8&\" and localMonth(\"&$D$12&\") =\"&$E$8&\" and LocalDay(\"&$D$12&\")=\"&$F$8&\" and Barix(\"&$D$12&\",reference:=StartOfSession)=\"&A79&\"\", \"Bar\", \"\", \"Close\",\"5\",\"0\",\"PrimaryOnly\",,,\"False\",\"T\",\"EveryTick\")","v":""},{"$error":"#N/A"},{"$f":"RTD(\"cqg.rtd\",,\"StudyData\", \"Close(\"&$D$12&\") when LocalYear(\"&$D$12&\")=\"&$D$9&\" and localMonth(\"&$D$12&\") =\"&$E$9&\" and LocalDay(\"&$D$12&\")=\"&$F$9&\" and Barix(\"&$D$12&\",reference:=StartOfSession)=\"&A79&\"\", \"Bar\", \"\", \"Close\",\"5\",\"0\",\"PrimaryOnly\",,,\"False\",\"T\",\"EveryTick\")","v":""},{"$error":"#N/A"},{"$f":"RTD(\"cqg.rtd\",,\"StudyData\", \"Close(\"&$D$12&\") when LocalYear(\"&$D$12&\")=\"&$D$10&\" and localMonth(\"&$D$12&\") =\"&$E$10&\" and LocalDay(\"&$D$12&\")=\"&$F$10&\" and Barix(\"&$D$12&\",reference:=StartOfSession)=\"&A79&\"\", \"Bar\", \"\", \"Close\",\"5\",\"0\",\"PrimaryOnly\",,,\"False\",\"T\",\"EveryTick\")","v":""},{"$error":"#N/A"},null,null,null,""]
[79,"15:05:00",null,null,null,null,null,{"$f":"RTD(\"cqg.rtd\",,\"StudyData\", \"Close(\"&$D$12&\") when LocalYear(\"&$D$12&\")=\"&$D$1&\" and localMonth(\"&$D$12&\") =\"&$E$1&\" and LocalDay(\"&$D$12&\")=\"&$F$1&\" and Barix(\"&$D$12&\",reference:=StartOfSession)=\"&A80&\"\", \"Bar\", \"\", \"Close\",\"5\",\"0\",\"PrimaryOnly\",,,\"False\",\"T\",\"EveryTick\")","v":""},{"$error":"#N/A"},{"$f":"RTD(\"cqg.rtd\",,\"StudyData\", \"Close(\"&$D$12&\") when LocalYear(\"&$D$12&\")=\"&$D$2&\" and localMonth(\"&$D$12&\") =\"&$E$2&\" and LocalDay(\"&$D$12&\")=\"&$F$2&\" and Barix(\"&$D$12&\",reference:=StartOfSession)=\"&A80&\"\", \"Bar\", \"\", \"Close\",\"5\",\"0\",\"PrimaryOnly\",,,\"False\",\"T\",\"EveryTick\")","v":""},{"$error":"#N/A"},{"$f":"RTD(\"cqg.rtd\",,\"StudyData\", \"Close(\"&$D$12&\") when LocalYear(\"&$D$12&\")=\"&$D$3&\" and localMonth(\"&$D$12&\") =\"&$E$3&\" and LocalDay(\"&$D$12&\")=\"&$F$3&\" and Barix(\"&$D$12&\",reference:=StartOfSession)=\"&A80&\"\", \"Bar\", \"\", \"Close\",\"5\",\"0\",\"PrimaryOnly\",,,\"False\",\"T\",\"EveryTick\")","v":""},{"$error":"#N/A"},{"$f":"RTD(\"cqg.rtd\",,\"StudyData\", \"Close(\"&$D$12&\") when LocalYear(\"&$D$12&\")=\"&$D$4&\" and localMonth(\"&$D$12&\") =\"&$E$4&\" and LocalDay(\"&$D$12&\")=\"&$F$4&\" and Barix(\"&$D$12&\",reference:=StartOfSession)=\"&A80&\"\", \"Bar\", \"\", \"Close\",\"5\",\"0\",\"PrimaryOnly\",,,\"False\",\"T\",\"EveryTick\")","v":""},{"$error":"#N/A"},{"$f":"RTD(\"cqg.rtd\",,\"StudyData\", \"Close(\"&$D$12&\") when LocalYear(\"&$D$12&\")=\"&$D$5&\" and localMonth(\"&$D$12&\") =\"&$E$5&\" and LocalDay(\"&$D$12&\")=\"&$F$5&\" and Barix(\"&$D$12&\",reference:=StartOfSession)=\"&A80&\"\", \"Bar\", \"\", \"Close\",\"5\",\"0\",\"PrimaryOnly\",,,\"False\",\"T\",\"EveryTick\")","v":""},{"$error":"#N/A"},{"$f":"RTD(\"cqg.rtd\",,\"StudyData\", \"Close(\"&$D$12&\") when LocalYear(\"&$D$12&\")=\"&$D$6&\" and localMonth(\"&$D$12&\") =\"&$E$6&\" and LocalDay(\"&$D$12&\")=\"&$F$6&\" and Barix(\"&$D$12&\",reference:=StartOfSession)=\"&A80&\"\", \"Bar\", \"\", \"Close\",\"5\",\"0\",\"PrimaryOnly\",,,\"False\",\"T\",\"EveryTick\")","v":""},{"$error":"#N/A"},{"$f":"RTD(\"cqg.rtd\",,\"StudyData\", \"Close(\"&$D$12&\") when LocalYear(\"&$D$12&\")=\"&$D$7&\" and localMonth(\"&$D$12&\") =\"&$E$7&\" and LocalDay(\"&$D$12&\")=\"&$F$7&\" and Barix(\"&$D$12&\",reference:=StartOfSession)=\"&A80&\"\", \"Bar\", \"\", \"Close\",\"5\",\"0\",\"PrimaryOnly\",,,\"False\",\"T\",\"EveryTick\")","v":""},{"$error":"#N/A"},{"$f":"RTD(\"cqg.rtd\",,\"StudyData\", \"Close(\"&$D$12&\") when LocalYear(\"&$D$12&\")=\"&$D$8&\" and localMonth(\"&$D$12&\") =\"&$E$8&\" and LocalDay(\"&$D$12&\")=\"&$F$8&\" and Barix(\"&$D$12&\",reference:=StartOfSession)=\"&A80&\"\", \"Bar\", \"\", \"Close\",\"5\",\"0\",\"PrimaryOnly\",,,\"False\",\"T\",\"EveryTick\")","v":""},{"$error":"#N/A"},{"$f":"RTD(\"cqg.rtd\",,\"StudyData\", \"Close(\"&$D$12&\") when LocalYear(\"&$D$12&\")=\"&$D$9&\" and localMonth(\"&$D$12&\") =\"&$E$9&\" and LocalDay(\"&$D$12&\")=\"&$F$9&\" and Barix(\"&$D$12&\",reference:=StartOfSession)=\"&A80&\"\", \"Bar\", \"\", \"Close\",\"5\",\"0\",\"PrimaryOnly\",,,\"False\",\"T\",\"EveryTick\")","v":""},{"$error":"#N/A"},{"$f":"RTD(\"cqg.rtd\",,\"StudyData\", \"Close(\"&$D$12&\") when LocalYear(\"&$D$12&\")=\"&$D$10&\" and localMonth(\"&$D$12&\") =\"&$E$10&\" and LocalDay(\"&$D$12&\")=\"&$F$10&\" and Barix(\"&$D$12&\",reference:=StartOfSession)=\"&A80&\"\", \"Bar\", \"\", \"Close\",\"5\",\"0\",\"PrimaryOnly\",,,\"False\",\"T\",\"EveryTick\")","v":""},{"$error":"#N/A"},null,null,null,""]
[80,"15:10:00",null,null,null,null,null,{"$f":"RTD(\"cqg.rtd\",,\"StudyData\", \"Close(\"&$D$12&\") when LocalYear(\"&$D$12&\")=\"&$D$1&\" and localMonth(\"&$D$12&\") =\"&$E$1&\" and LocalDay(\"&$D$12&\")=\"&$F$1&\" and Barix(\"&$D$12&\",reference:=StartOfSession)=\"&A81&\"\", \"Bar\", \"\", \"Close\",\"5\",\"0\",\"PrimaryOnly\",,,\"False\",\"T\",\"EveryTick\")","v":""},{"$error":"#N/A"},{"$f":"RTD(\"cqg.rtd\",,\"StudyData\", \"Close(\"&$D$12&\") when LocalYear(\"&$D$12&\")=\"&$D$2&\" and localMonth(\"&$D$12&\") =\"&$E$2&\" and LocalDay(\"&$D$12&\")=\"&$F$2&\" and Barix(\"&$D$12&\",reference:=StartOfSession)=\"&A81&\"\", \"Bar\", \"\", \"Close\",\"5\",\"0\",\"PrimaryOnly\",,,\"False\",\"T\",\"EveryTick\")","v":""},{"$error":"#N/A"},{"$f":"RTD(\"cqg.rtd\",,\"StudyData\", \"Close(\"&$D$12&\") when LocalYear(\"&$D$12&\")=\"&$D$3&\" and localMonth(\"&$D$12&\") =\"&$E$3&\" and LocalDay(\"&$D$12&\")=\"&$F$3&\" and Barix(\"&$D$12&\",reference:=StartOfSession)=\"&A81&\"\", \"Bar\", \"\", \"Close\",\"5\",\"0\",\"PrimaryOnly\",,,\"False\",\"T\",\"EveryTick\")","v":""},{"$error":"#N/A"},{"$f":"RTD(\"cqg.rtd\",,\"StudyData\", \"Close(\"&$D$12&\") when LocalYear(\"&$D$12&\")=\"&$D$4&\" and localMonth(\"&$D$12&\") =\"&$E$4&\" and LocalDay(\"&$D$12&\")=\"&$F$4&\" and Barix(\"&$D$12&\",reference:=StartOfSession)=\"&A81&\"\", \"Bar\", \"\", \"Close\",\"5\",\"0\",\"PrimaryOnly\",,,\"False\",\"T\",\"EveryTick\")","v":""},{"$error":"#N/A"},{"$f":"RTD(\"cqg.rtd\",,\"StudyData\", \"Close(\"&$D$12&\") when LocalYear(\"&$D$12&\")=\"&$D$5&\" and localMonth(\"&$D$12&\") =\"&$E$5&\" and LocalDay(\"&$D$12&\")=\"&$F$5&\" and Barix(\"&$D$12&\",reference:=StartOfSession)=\"&A81&\"\", \"Bar\", \"\", \"Close\",\"5\",\"0\",\"PrimaryOnly\",,,\"False\",\"T\",\"EveryTick\")","v":""},{"$error":"#N/A"},{"$f":"RTD(\"cqg.rtd\",,\"StudyData\", \"Close(\"&$D$12&\") when LocalYear(\"&$D$12&\")=\"&$D$6&\" and localMonth(\"&$D$12&\") =\"&$E$6&\" and LocalDay(\"&$D$12&\")=\"&$F$6&\" and Barix(\"&$D$12&\",reference:=StartOfSession)=\"&A81&\"\", \"Bar\", \"\", \"Close\",\"5\",\"0\",\"PrimaryOnly\",,,\"False\",\"T\",\"EveryTick\")","v":""},{"$error":"#N/A"},{"$f":"RTD(\"cqg.rtd\",,\"StudyData\", \"Close(\"&$D$12&\") when LocalYear(\"&$D$12&\")=\"&$D$7&\" and localMonth(\"&$D$12&\") =\"&$E$7&\" and LocalDay(\"&$D$12&\")=\"&$F$7&\" and Barix(\"&$D$12&\",reference:=StartOfSession)=\"&A81&\"\", \"Bar\", \"\", \"Close\",\"5\",\"0\",\"PrimaryOnly\",,,\"False\",\"T\",\"EveryTick\")","v":""},{"$error":"#N/A"},{"$f":"RTD(\"cqg.rtd\",,\"StudyData\", \"Close(\"&$D$12&\") when LocalYear(\"&$D$12&\")=\"&$D$8&\" and localMonth(\"&$D$12&\") =\"&$E$8&\" and LocalDay(\"&$D$12&\")=\"&$F$8&\" and Barix(\"&$D$12&\",reference:=StartOfSession)=\"&A81&\"\", \"Bar\", \"\", \"Close\",\"5\",\"0\",\"PrimaryOnly\",,,\"False\",\"T\",\"EveryTick\")","v":""},{"$error":"#N/A"},{"$f":"RTD(\"cqg.rtd\",,\"StudyData\", \"Close(\"&$D$12&\") when LocalYear(\"&$D$12&\")=\"&$D$9&\" and localMonth(\"&$D$12&\") =\"&$E$9&\" and LocalDay(\"&$D$12&\")=\"&$F$9&\" and Barix(\"&$D$12&\",reference:=StartOfSession)=\"&A81&\"\", \"Bar\", \"\", \"Close\",\"5\",\"0\",\"PrimaryOnly\",,,\"False\",\"T\",\"EveryTick\")","v":""},{"$error":"#N/A"},{"$f":"RTD(\"cqg.rtd\",,\"StudyData\", \"Close(\"&$D$12&\") when LocalYear(\"&$D$12&\")=\"&$D$10&\" and localMonth(\"&$D$12&\") =\"&$E$10&\" and LocalDay(\"&$D$12&\")=\"&$F$10&\" and Barix(\"&$D$12&\",reference:=StartOfSession)=\"&A81&\"\", \"Bar\", \"\", \"Close\",\"5\",\"0\",\"PrimaryOnly\",,,\"False\",\"T\",\"EveryTick\")","v":""},{"$error":"#N/A"},null,null,null,""]

{"sheet":"Sheet4","index":2,"n_rows":93,"n_cols":20,"rows_kept":93,"cut":false,"hidden":false,"merged":[]}
[null,{"$f":"Sheet3!I1","v":-6.3545858928194081E-3},{"$f":"Sheet3!K1","v":-5.2410901467505235E-3},null,{"$f":"Sheet3!M1","v":2.0450970110121383E-3},null,{"$f":"Sheet3!O1","v":5.2007489078379993E-5},null,{"$f":"Sheet3!Q1","v":1.777963708623142E-3},null,{"$f":"Sheet3!S1","v":7.8247261345855868E-4},null,{"$f":"Sheet3!U1","v":-1.5817223198594035E-2},null,{"$f":"Sheet3!W1","v":-2.3198267862665671E-3},null,{"$f":"Sheet3!Y1","v":1.6553722000930795E-3},null,{"$f":"Sheet3!AA1","v":6.8289631444506792E-3}]
[null,{"$f":"Sheet3!I2","v":-5.7191273035374522E-3},{"$f":"Sheet3!K2","v":-5.9748427672956742E-3},{"$f":"CORREL($B$1:B2,$C$1:C2)","v":-1},{"$f":"Sheet3!M2","v":1.6255899318301118E-3},{"$f":"CORREL($B$1:B2,$E$1:E2)","v":-1},{"$f":"Sheet3!O2","v":1.040149781569078E-4},{"$f":"CORREL($B$1:B2,$G$1:G2)","v":1},{"$f":"Sheet3!Q2","v":1.1504471055796626E-3},{"$f":"CORREL($B$1:B2,$I$1:I2)","v":-1},{"$f":"Sheet3!S2","v":-1.5649452269171174E-4},{"$f":"CORREL($B$1:B2,$K$1:K2)","v":-1},{"$f":"Sheet3!U2","v":-1.6179055101829813E-2},{"$f":"CORREL($B$1:B2,$M$1:M2)","v":-1},{"$f":"Sheet3!W2","v":-2.1136199608206858E-3},{"$f":"CORREL($B$1:B2,$O$1:O2)","v":1},{"$f":"Sheet3!Y2","v":1.1897987688168732E-3},{"$f":"CORREL($B$1:B2,$Q$1:Q2)","v":-1},{"$f":"Sheet3!AA2","v":6.3597977375801432E-3},{"$f":"CORREL($B$1:B2,$S$1:S2)","v":-1}]
[null,{"$f":"Sheet3!I3","v":-4.8188943020546311E-3},{"$f":"Sheet3!K3","v":-8.5429769392034796E-3},{"$f":"CORREL($B$1:B3,$C$1:C3)","v":-0.97778698435345524},{"$f":"Sheet3!M3","v":-8.3901415836390458E-4},{"$f":"CORREL($B$1:B3,$E$1:E3)","v":-0.95842615326962666},{"$f":"Sheet3!O3","v":-1.5602246723528778E-3},{"$f":"CORREL($B$1:B3,$G$1:G3)","v":-0.89963283427627316},{"$f":"Sheet3!Q3","v":1.5687915076086983E-3},{"$f":"CORREL($B$1:B3,$I$1:I3)","v":-0.23212021384546727},{"$f":"Sheet3!S3","v":-6.2597809076669864E-4},{"$f":"CORREL($B$1:B3,$K$1:K3)","v":-0.95843185071715564},{"$f":"Sheet3!U3","v":-1.7729763258554774E-2},{"$f":"CORREL($B$1:B3,$M$1:M3)","v":-0.97005011170739042},{"$f":"Sheet3!W3","v":-1.5981028972059093E-3},{"$f":"CORREL($B$1:B3,$O$1:O3)","v":0.98974331861078502},{"$f":"Sheet3!Y3","v":5.1730381252862784E-5},{"$f":"CORREL($B$1:B3,$Q$1:Q3)","v":-0.99044804197587033},{"$f":"Sheet3!AA3","v":5.0565604962727355E-3},{"$f":"CORREL($B$1:B3,$S$1:S3)","v":-0.98624138261244876}]
[null,{"$f":"Sheet3!I4","v":{"$error":"#N/A"}},{"$f":"Sheet3!K4","v":-6.761006289308283E-3},{"$f":"CORREL($B$1:B4,$C$1:C4)","v":{"$error":"#N/A"}},{"$f":"Sheet3!M4","v":-2.0975353959096867E-3},{"$f":"CORREL($B$1:B4,$E$1:E4)","v":{"$error":"#N/A"}},{"$f":"Sheet3!O4","v":-7.8011233617643891E-4},{"$f":"CORREL($B$1:B4,$G$1:G4)","v":{"$error":"#N/A"}},{"$f":"Sheet3!Q4","v":1.0981540553260888E-3},{"$f":"CORREL($B$1:B4,$I$1:I4)","v":{"$error":"#N/A"}},{"$f":"Sheet3!S4","v":-1.564945226916969E-3},{"$f":"CORREL($B$1:B4,$K$1:K4)","v":{"$error":"#N/A"}},{"$f":"Sheet3!U4","v":-1.597229401426653E-2},{"$f":"CORREL($B$1:B4,$M$1:M4)","v":{"$error":"#N/A"}},{"$f":"Sheet3!W4","v":-1.5981028972059093E-3},{"$f":"CORREL($B$1:B4,$O$1:O4)","v":{"$error":"#N/A"}},{"$f":"Sheet3!Y4","v":5.6903419378193174E-4},{"$f":"CORREL($B$1:B4,$Q$1:Q4)","v":{"$error":"#N/A"}},{"$f":"Sheet3!AA4","v":3.7011937653129308E-3},{"$f":"CORREL($B$1:B4,$S$1:S4)","v":{"$error":"#N/A"}}]
[null,{"$f":"Sheet3!I5","v":{"$error":"#N/A"}},{"$f":"Sheet3!K5","v":-7.5471698113207426E-3},{"$f":"CORREL($B$1:B5,$C$1:C5)","v":{"$error":"#N/A"}},{"$f":"Sheet3!M5","v":-1.6780283167278092E-3},{"$f":"CORREL($B$1:B5,$E$1:E5)","v":{"$error":"#N/A"}},{"$f":"Sheet3!O5","v":-5.2007489078424339E-4},{"$f":"CORREL($B$1:B5,$G$1:G5)","v":{"$error":"#N/A"}},{"$f":"Sheet3!Q5","v":2.6146525126816595E-4},{"$f":"CORREL($B$1:B5,$I$1:I5)","v":{"$error":"#N/A"}},{"$f":"Sheet3!S5","v":-2.4517475221700518E-3},{"$f":"CORREL($B$1:B5,$K$1:K5)","v":{"$error":"#N/A"}},{"$f":"Sheet3!U5","v":-1.4163134498087506E-2},{"$f":"CORREL($B$1:B5,$M$1:M5)","v":{"$error":"#N/A"}},{"$f":"Sheet3!W5","v":0},{"$f":"CORREL($B$1:B5,$O$1:O5)","v":{"$error":"#N/A"}},{"$f":"Sheet3!Y5","v":1.2932595313227457E-3},{"$f":"CORREL($B$1:B5,$Q$1:Q5)","v":{"$error":"#N/A"}},{"$f":"Sheet3!AA5","v":6.1512797789708504E-3},{"$f":"CORREL($B$1:B5,$S$1:S5)","v":{"$error":"#N/A"}}]
[null,{"$f":"Sheet3!I6","v":{"$error":"#N/A"}},{"$f":"Sheet3!K6","v":-8.0712788259959135E-3},{"$f":"CORREL($B$1:B6,$C$1:C6)","v":{"$error":"#N/A"}},{"$f":"Sheet3!M6","v":-3.6706869428418029E-4},{"$f":"CORREL($B$1:B6,$E$1:E6)","v":{"$error":"#N/A"}},{"$f":"Sheet3!O6","v":3.6405242354895558E-4},{"$f":"CORREL($B$1:B6,$G$1:G6)","v":{"$error":"#N/A"}},{"$f":"Sheet3!Q6","v":0},{"$f":"CORREL($B$1:B6,$I$1:I6)","v":{"$error":"#N/A"}},{"$f":"Sheet3!S6","v":-3.0255607720395625E-3},{"$f":"CORREL($B$1:B6,$K$1:K6)","v":{"$error":"#N/A"}},{"$f":"Sheet3!U6","v":-1.37496123229608E-2},{"$f":"CORREL($B$1:B6,$M$1:M6)","v":{"$error":"#N/A"}},{"$f":"Sheet3!W6","v":-9.2793071450653888E-4},{"$f":"CORREL($B$1:B6,$O$1:O6)","v":{"$error":"#N/A"}},{"$f":"Sheet3!Y6","v":-1.6036418188402166E-3},{"$f":"CORREL($B$1:B6,$Q$1:Q6)","v":{"$error":"#N/A"}},{"$f":"Sheet3!AA6","v":6.0991502893186023E-3},{"$f":"CORREL($B$1:B6,$S$1:S6)","v":{"$error":"#N/A"}}]
[null,{"$f":"Sheet3!I7","v":{"$error":"#N/A"}},{"$f":"Sheet3!K7","v":-7.2327044025158483E-3},{"$f":"CORREL($B$1:B7,$C$1:C7)","v":{"$error":"#N/A"}},{"$f":"Sheet3!M7","v":1.8353434714211995E-3},{"$f":"CORREL($B$1:B7,$E$1:E7)","v":{"$error":"#N/A"}},{"$f":"Sheet3!O7","v":-5.2007489078424339E-4},{"$f":"CORREL($B$1:B7,$G$1:G7)","v":{"$error":"#N/A"}},{"$f":"Sheet3!Q7","v":1.0981540553260888E-3},{"$f":"CORREL($B$1:B7,$I$1:I7)","v":{"$error":"#N/A"}},{"$f":"Sheet3!S7","v":-3.7037037037035972E-3},{"$f":"CORREL($B$1:B7,$K$1:K7)","v":{"$error":"#N/A"}},{"$f":"Sheet3!U7","v":-1.6385816189393238E-2},{"$f":"CORREL($B$1:B7,$M$1:M7)","v":{"$error":"#N/A"}},{"$f":"Sheet3!W7","v":-1.752758016290357E-3},{"$f":"CORREL($B$1:B7,$O$1:O7)","v":{"$error":"#N/A"}},{"$f":"Sheet3!Y7","v":-3.6728570689566393E-3},{"$f":"CORREL($B$1:B7,$Q$1:Q7)","v":{"$error":"#N/A"}},{"$f":"Sheet3!AA7","v":7.66303497888755E-3},{"$f":"CORREL($B$1:B7,$S$1:S7)","v":{"$error":"#N/A"}}]
[null,{"$f":"Sheet3!I8","v":{"$error":"#N/A"}},{"$f":"Sheet3!K8","v":-7.6519916142558063E-3},{"$f":"CORREL($B$1:B8,$C$1:C8)","v":{"$error":"#N/A"}},{"$f":"Sheet3!M8","v":3.1463030938648283E-3},{"$f":"CORREL($B$1:B8,$E$1:E8)","v":{"$error":"#N/A"}},{"$f":"Sheet3!O8","v":-7.8011233617643891E-4},{"$f":"CORREL($B$1:B8,$G$1:G8)","v":{"$error":"#N/A"}},{"$f":"Sheet3!Q8","v":1.7256706583695682E-3},{"$f":"CORREL($B$1:B8,$I$1:I8)","v":{"$error":"#N/A"}},{"$f":"Sheet3!S8","v":-4.5905059989566795E-3},{"$f":"CORREL($B$1:B8,$K$1:K8)","v":{"$error":"#N/A"}},{"$f":"Sheet3!U8","v":-1.524863020779498E-2},{"$f":"CORREL($B$1:B8,$M$1:M8)","v":{"$error":"#N/A"}},{"$f":"Sheet3!W8","v":-3.660171151665015E-3},{"$f":"CORREL($B$1:B8,$O$1:O8)","v":{"$error":"#N/A"}},{"$f":"Sheet3!Y8","v":-2.6382494438983543E-3},{"$f":"CORREL($B$1:B8,$Q$1:Q8)","v":{"$error":"#N/A"}},{"$f":"Sheet3!AA8","v":8.2885888547149806E-3},{"$f":"CORREL($B$1:B8,$S$1:S8)","v":{"$error":"#N/A"}}]
[null,{"$f":"Sheet3!I9","v":{"$error":"#N/A"}},{"$f":"Sheet3!K9","v":-7.809224318658328E-3},{"$f":"CORREL($B$1:B9,$C$1:C9)","v":{"$error":"#N/A"}},{"$f":"Sheet3!M9","v":2.2024121657053799E-3},{"$f":"CORREL($B$1:B9,$E$1:E9)","v":{"$error":"#N/A"}},{"$f":"Sheet3!O9","v":3.1204493447057561E-4},{"$f":"CORREL($B$1:B9,$G$1:G9)","v":{"$error":"#N/A"}},{"$f":"Sheet3!Q9","v":2.7715316634419345E-3},{"$f":"CORREL($B$1:B9,$I$1:I9)","v":{"$error":"#N/A"}},{"$f":"Sheet3!S9","v":-4.9556598852372909E-3},{"$f":"CORREL($B$1:B9,$K$1:K9)","v":{"$error":"#N/A"}},{"$f":"Sheet3!U9","v":-1.5817223198594035E-2},{"$f":"CORREL($B$1:B9,$M$1:M9)","v":{"$error":"#N/A"}},{"$f":"Sheet3!W9","v":-3.1446540880502383E-3},{"$f":"CORREL($B$1:B9,$O$1:O9)","v":{"$error":"#N/A"}},{"$f":"Sheet3!Y9","v":-3.7763178314623651E-3},{"$f":"CORREL($B$1:B9,$Q$1:Q9)","v":{"$error":"#N/A"}},{"$f":"Sheet3!AA9","v":9.6439555856747856E-3},{"$f":"CORREL($B$1:B9,$S$1:S9)","v":{"$error":"#N/A"}}]
[null,{"$f":"Sheet3!I10","v":{"$error":"#N/A"}},{"$f":"Sheet3!K10","v":-8.2809224318658933E-3},{"$f":"CORREL($B$1:B10,$C$1:C10)","v":{"$error":"#N/A"}},{"$f":"Sheet3!M10","v":3.2511798636602235E-3},{"$f":"CORREL($B$1:B10,$E$1:E10)","v":{"$error":"#N/A"}},{"$f":"Sheet3!O10","v":9.881422924901068E-4},{"$f":"CORREL($B$1:B10,$G$1:G10)","v":{"$error":"#N/A"}},{"$f":"Sheet3!Q10","v":2.0917220101448817E-3},{"$f":"CORREL($B$1:B10,$I$1:I10)","v":{"$error":"#N/A"}},{"$f":"Sheet3!S10","v":-5.2686489306207141E-3},{"$f":"CORREL($B$1:B10,$K$1:K10)","v":{"$error":"#N/A"}},{"$f":"Sheet3!U10","v":-1.4163134498087506E-2},{"$f":"CORREL($B$1:B10,$M$1:M10)","v":{"$error":"#N/A"}},{"$f":"Sheet3!W10","v":-3.7632745643880285E-3},{"$f":"CORREL($B$1:B10,$O$1:O10)","v":{"$error":"#N/A"}},{"$f":"Sheet3!Y10","v":-4.6557343127619144E-3},{"$f":"CORREL($B$1:B10,$Q$1:Q10)","v":{"$error":"#N/A"}},{"$f":"Sheet3!AA10","v":1.0269509461502365E-2},{"$f":"CORREL($B$1:B10,$S$1:S10)","v":{"$error":"#N/A"}}]
[null,{"$f":"Sheet3!I11","v":{"$error":"#N/A"}},{"$f":"Sheet3!K11","v":-9.3291404612159384E-3},{"$f":"CORREL($B$1:B11,$C$1:C11)","v":{"$error":"#N/A"}},{"$f":"Sheet3!M11","v":3.1463030938648283E-3},{"$f":"CORREL($B$1:B11,$E$1:E11)","v":{"$error":"#N/A"}},{"$f":"Sheet3!O11","v":3.1204493447057561E-4},{"$f":"CORREL($B$1:B11,$G$1:G11)","v":{"$error":"#N/A"}},{"$f":"Sheet3!Q11","v":1.8825498091304381E-3},{"$f":"CORREL($B$1:B11,$I$1:I11)","v":{"$error":"#N/A"}},{"$f":"Sheet3!S11","v":-4.7470005216483915E-3},{"$f":"CORREL($B$1:B11,$K$1:K11)","v":{"$error":"#N/A"}},{"$f":"Sheet3!U11","v":-1.5455391295358259E-2},{"$f":"CORREL($B$1:B11,$M$1:M11)","v":{"$error":"#N/A"}},{"$f":"Sheet3!W11","v":-3.9694813898339103E-3},{"$f":"CORREL($B$1:B11,$O$1:O11)","v":{"$error":"#N/A"}},{"$f":"Sheet3!Y11","v":-2.6899798251513642E-3},{"$f":"CORREL($B$1:B11,$Q$1:Q11)","v":{"$error":"#N/A"}},{"$f":"Sheet3!AA11","v":1.0113120992545471E-2},{"$f":"CORREL($B$1:B11,$S$1:S11)","v":{"$error":"#N/A"}}]
[null,{"$f":"Sheet3!I12","v":{"$error":"#N/A"}},{"$f":"Sheet3!K12","v":-1.0115303983228546E-2},{"$f":"CORREL($B$1:B12,$C$1:C12)","v":{"$error":"#N/A"}},{"$f":"Sheet3!M12","v":3.3036182485580699E-3},{"$f":"CORREL($B$1:B12,$E$1:E12)","v":{"$error":"#N/A"}},{"$f":"Sheet3!O12","v":6.2408986894115122E-4},{"$f":"CORREL($B$1:B12,$G$1:G12)","v":{"$error":"#N/A"}},{"$f":"Sheet3!Q12","v":1.4642054071014022E-3},{"$f":"CORREL($B$1:B12,$I$1:I12)","v":{"$error":"#N/A"}},{"$f":"Sheet3!S12","v":-5.5816379760041382E-3},{"$f":"CORREL($B$1:B12,$K$1:K12)","v":{"$error":"#N/A"}},{"$f":"Sheet3!U12","v":-1.592060374237575E-2},{"$f":"CORREL($B$1:B12,$M$1:M12)","v":{"$error":"#N/A"}},{"$f":"Sheet3!W12","v":-4.3818950407258188E-3},{"$f":"CORREL($B$1:B12,$O$1:O12)","v":{"$error":"#N/A"}},{"$f":"Sheet3!Y12","v":-3.310744400186306E-3},{"$f":"CORREL($B$1:B12,$Q$1:Q12)","v":{"$error":"#N/A"}},{"$f":"Sheet3!AA12","v":9.3833081374132456E-3},{"$f":"CORREL($B$1:B12,$S$1:S12)","v":{"$error":"#N/A"}}]
[null,{"$f":"Sheet3!I13","v":{"$error":"#N/A"}},{"$f":"Sheet3!K13","v":-1.0744234800838633E-2},{"$f":"CORREL($B$1:B13,$C$1:C13)","v":{"$error":"#N/A"}},{"$f":"Sheet3!M13","v":1.8877818563188971E-3},{"$f":"CORREL($B$1:B13,$E$1:E13)","v":{"$error":"#N/A"}},{"$f":"Sheet3!O13","v":1.1441647597253946E-3},{"$f":"CORREL($B$1:B13,$G$1:G13)","v":{"$error":"#N/A"}},{"$f":"Sheet3!Q13","v":1.9871359096377342E-3},{"$f":"CORREL($B$1:B13,$I$1:I13)","v":{"$error":"#N/A"}},{"$f":"Sheet3!S13","v":-5.3208137715179023E-3},{"$f":"CORREL($B$1:B13,$K$1:K13)","v":{"$error":"#N/A"}},{"$f":"Sheet3!U13","v":-1.6902718908301511E-2},{"$f":"CORREL($B$1:B13,$M$1:M13)","v":{"$error":"#N/A"}},{"$f":"Sheet3!W13","v":-6.7017218269923859E-3},{"$f":"CORREL($B$1:B13,$O$1:O13)","v":{"$error":"#N/A"}},{"$f":"Sheet3!Y13","v":-3.310744400186306E-3},{"$f":"CORREL($B$1:B13,$Q$1:Q13)","v":{"$error":"#N/A"}},{"$f":"Sheet3!AA13","v":9.0184017098472059E-3},{"$f":"CORREL($B$1:B13,$S$1:S13)","v":{"$error":"#N/A"}}]
[null,{"$f":"Sheet3!I14","v":{"$error":"#N/A"}},{"$f":"Sheet3!K14","v":-1.2631027253668893E-2},{"$f":"CORREL($B$1:B14,$C$1:C14)","v":{"$error":"#N/A"}},{"$f":"Sheet3!M14","v":1.9402202412165945E-3},{"$f":"CORREL($B$1:B14,$E$1:E14)","v":{"$error":"#N/A"}},{"$f":"Sheet3!O14","v":-5.7208237986277114E-4},{"$f":"CORREL($B$1:B14,$G$1:G14)","v":{"$error":"#N/A"}},{"$f":"Sheet3!Q14","v":1.045861005072515E-3},{"$f":"CORREL($B$1:B14,$I$1:I14)","v":{"$error":"#N/A"}},{"$f":"Sheet3!S14","v":-6.2597809076681728E-3},{"$f":"CORREL($B$1:B14,$K$1:K14)","v":{"$error":"#N/A"}},{"$f":"Sheet3!U14","v":-1.7833143802336488E-2},{"$f":"CORREL($B$1:B14,$M$1:M14)","v":{"$error":"#N/A"}},{"$f":"Sheet3!W14","v":-6.4955150015465046E-3},{"$f":"CORREL($B$1:B14,$O$1:O14)","v":{"$error":"#N/A"}},{"$f":"Sheet3!Y14","v":-3.8797785939682374E-3},{"$f":"CORREL($B$1:B14,$Q$1:Q14)","v":{"$error":"#N/A"}},{"$f":"Sheet3!AA14","v":8.1322003857580861E-3},{"$f":"CORREL($B$1:B14,$S$1:S14)","v":{"$error":"#N/A"}}]
[null,{"$f":"Sheet3!I15","v":{"$error":"#N/A"}},{"$f":"Sheet3!K15","v":-1.0167714884696004E-2},{"$f":"CORREL($B$1:B15,$C$1:C15)","v":{"$error":"#N/A"}},{"$f":"Sheet3!M15","v":2.4121657052963187E-3},{"$f":"CORREL($B$1:B15,$E$1:E15)","v":{"$error":"#N/A"}},{"$f":"Sheet3!O15","v":-7.2810484709805894E-4},{"$f":"CORREL($B$1:B15,$G$1:G15)","v":{"$error":"#N/A"}},{"$f":"Sheet3!Q15","v":1.6733776081159944E-3},{"$f":"CORREL($B$1:B15,$I$1:I15)","v":{"$error":"#N/A"}},{"$f":"Sheet3!S15","v":-6.8857589984350192E-3},{"$f":"CORREL($B$1:B15,$K$1:K15)","v":{"$error":"#N/A"}},{"$f":"Sheet3!U15","v":-1.6902718908301511E-2},{"$f":"CORREL($B$1:B15,$M$1:M15)","v":{"$error":"#N/A"}},{"$f":"Sheet3!W15","v":-6.6501701206309518E-3},{"$f":"CORREL($B$1:B15,$O$1:O15)","v":{"$error":"#N/A"}},{"$f":"Sheet3!Y15","v":-4.7074646940147768E-3},{"$f":"CORREL($B$1:B15,$Q$1:Q15)","v":{"$error":"#N/A"}},{"$f":"Sheet3!AA15","v":8.4449773236718768E-3},{"$f":"CORREL($B$1:B15,$S$1:S15)","v":{"$error":"#N/A"}}]
[null,{"$f":"Sheet3!I16","v":{"$error":"#N/A"}},{"$f":"Sheet3!K16","v":-9.4863731656184593E-3},{"$f":"CORREL($B$1:B16,$C$1:C16)","v":{"$error":"#N/A"}},{"$f":"Sheet3!M16","v":1.1536444677503874E-3},{"$f":"CORREL($B$1:B16,$E$1:E16)","v":{"$error":"#N/A"}},{"$f":"Sheet3!O16","v":-5.2007489078379993E-5},{"$f":"CORREL($B$1:B16,$G$1:G16)","v":{"$error":"#N/A"}},{"$f":"Sheet3!Q16","v":1.9871359096377342E-3},{"$f":"CORREL($B$1:B16,$I$1:I16)","v":{"$error":"#N/A"}},{"$f":"Sheet3!S16","v":-7.3030777256128188E-3},{"$f":"CORREL($B$1:B16,$K$1:K16)","v":{"$error":"#N/A"}},{"$f":"Sheet3!U16","v":-1.6127364829939029E-2},{"$f":"CORREL($B$1:B16,$M$1:M16)","v":{"$error":"#N/A"}},{"$f":"Sheet3!W16","v":-6.5986184142695185E-3},{"$f":"CORREL($B$1:B16,$O$1:O16)","v":{"$error":"#N/A"}},{"$f":"Sheet3!Y16","v":-6.7249495628783369E-3},{"$f":"CORREL($B$1:B16,$Q$1:Q16)","v":{"$error":"#N/A"}},{"$f":"Sheet3!AA16","v":8.1843298754104843E-3},{"$f":"CORREL($B$1:B16,$S$1:S16)","v":{"$error":"#N/A"}}]
[null,{"$f":"Sheet3!I17","v":{"$error":"#N/A"}},{"$f":"Sheet3!K17","v":-1.0272536687631069E-2},{"$f":"CORREL($B$1:B17,$C$1:C17)","v":{"$error":"#N/A"}},{"$f":"Sheet3!M17","v":8.9145254326175106E-4},{"$f":"CORREL($B$1:B17,$E$1:E17)","v":{"$error":"#N/A"}},{"$f":"Sheet3!O17","v":6.2408986894115122E-4},{"$f":"CORREL($B$1:B17,$G$1:G17)","v":{"$error":"#N/A"}},{"$f":"Sheet3!Q17","v":1.4642054071014022E-3},{"$f":"CORREL($B$1:B17,$I$1:I17)","v":{"$error":"#N/A"}},{"$f":"Sheet3!S17","v":-6.9900886802293956E-3},{"$f":"CORREL($B$1:B17,$K$1:K17)","v":{"$error":"#N/A"}},{"$f":"Sheet3!U17","v":-1.4783417760777491E-2},{"$f":"CORREL($B$1:B17,$M$1:M17)","v":{"$error":"#N/A"}},{"$f":"Sheet3!W17","v":-5.2582740488709241E-3},{"$f":"CORREL($B$1:B17,$O$1:O17)","v":{"$error":"#N/A"}},{"$f":"Sheet3!Y17","v":-5.2764988877968561E-3},{"$f":"CORREL($B$1:B17,$Q$1:Q17)","v":{"$error":"#N/A"}},{"$f":"Sheet3!AA17","v":9.4875671167178911E-3},{"$f":"CORREL($B$1:B17,$S$1:S17)","v":{"$error":"#N/A"}}]
[null,{"$f":"Sheet3!I18","v":{"$error":"#N/A"}},{"$f":"Sheet3!K18","v":-1.0849056603773697E-2},{"$f":"CORREL($B$1:B18,$C$1:C18)","v":{"$error":"#N/A"}},{"$f":"Sheet3!M18","v":-8.9145254326160198E-4},{"$f":"CORREL($B$1:B18,$E$1:E18)","v":{"$error":"#N/A"}},{"$f":"Sheet3!O18","v":1.1441647597253946E-3},{"$f":"CORREL($B$1:B18,$G$1:G18)","v":{"$error":"#N/A"}},{"$f":"Sheet3!Q18","v":1.3073262563405325E-3},{"$f":"CORREL($B$1:B18,$I$1:I18)","v":{"$error":"#N/A"}},{"$f":"Sheet3!S18","v":-6.1554512258736489E-3},{"$f":"CORREL($B$1:B18,$K$1:K18)","v":{"$error":"#N/A"}},{"$f":"Sheet3!U18","v":-1.5558771839139974E-2},{"$f":"CORREL($B$1:B18,$M$1:M18)","v":{"$error":"#N/A"}},{"$f":"Sheet3!W18","v":-3.6086194453035813E-3},{"$f":"CORREL($B$1:B18,$O$1:O18)","v":{"$error":"#N/A"}},{"$f":"Sheet3!Y18","v":-4.552273550256042E-3},{"$f":"CORREL($B$1:B18,$Q$1:Q18)","v":{"$error":"#N/A"}},{"$f":"Sheet3!AA18","v":9.6960850753270347E-3},{"$f":"CORREL($B$1:B18,$S$1:S18)","v":{"$error":"#N/A"}}]
[null,{"$f":"Sheet3!I19","v":{"$error":"#N/A"}},{"$f":"Sheet3!K19","v":-1.2421383647798765E-2},{"$f":"CORREL($B$1:B19,$C$1:C19)","v":{"$error":"#N/A"}},{"$f":"Sheet3!M19","v":2.6219192448878538E-4},{"$f":"CORREL($B$1:B19,$E$1:E19)","v":{"$error":"#N/A"}},{"$f":"Sheet3!O19","v":2.6523819429997448E-3},{"$f":"CORREL($B$1:B19,$G$1:G19)","v":{"$error":"#N/A"}},{"$f":"Sheet3!Q19","v":9.4127490456521903E-4},{"$f":"CORREL($B$1:B19,$I$1:I19)","v":{"$error":"#N/A"}},{"$f":"Sheet3!S19","v":-5.3729786124152388E-3},{"$f":"CORREL($B$1:B19,$K$1:K19)","v":{"$error":"#N/A"}},{"$f":"Sheet3!U19","v":-1.6437506461284022E-2},{"$f":"CORREL($B$1:B19,$M$1:M19)","v":{"$error":"#N/A"}},{"$f":"Sheet3!W19","v":-4.0210330961954902E-3},{"$f":"CORREL($B$1:B19,$O$1:O19)","v":{"$error":"#N/A"}},{"$f":"Sheet3!Y19","v":-3.6728570689566393E-3},{"$f":"CORREL($B$1:B19,$Q$1:Q19)","v":{"$error":"#N/A"}},{"$f":"Sheet3!AA19","v":8.9141427305425604E-3},{"$f":"CORREL($B$1:B19,$S$1:S19)","v":{"$error":"#N/A"}}]
[null,{"$f":"Sheet3!I20","v":{"$error":"#N/A"}},{"$f":"Sheet3!K20","v":-1.2683438155136352E-2},{"$f":"CORREL($B$1:B20,$C$1:C20)","v":{"$error":"#N/A"}},{"$f":"Sheet3!M20","v":8.3901415836405355E-4},{"$f":"CORREL($B$1:B20,$E$1:E20)","v":{"$error":"#N/A"}},{"$f":"Sheet3!O20","v":2.1843145412938814E-3},{"$f":"CORREL($B$1:B20,$G$1:G20)","v":{"$error":"#N/A"}},{"$f":"Sheet3!Q20","v":8.3668880405792293E-4},{"$f":"CORREL($B$1:B20,$I$1:I20)","v":{"$error":"#N/A"}},{"$f":"Sheet3!S20","v":-4.9556598852372909E-3},{"$f":"CORREL($B$1:B20,$K$1:K20)","v":{"$error":"#N/A"}},{"$f":"Sheet3!U20","v":-1.5817223198594035E-2},{"$f":"CORREL($B$1:B20,$M$1:M20)","v":{"$error":"#N/A"}},{"$f":"Sheet3!W20","v":-4.8458603979791614E-3},{"$f":"CORREL($B$1:B20,$O$1:O20)","v":{"$error":"#N/A"}},{"$f":"Sheet3!Y20","v":-3.310744400186306E-3},{"$f":"CORREL($B$1:B20,$Q$1:Q20)","v":{"$error":"#N/A"}},{"$f":"Sheet3!AA20","v":6.4640567168846403E-3},{"$f":"CORREL($B$1:B20,$S$1:S20)","v":{"$error":"#N/A"}}]
[null,{"$f":"Sheet3!I21","v":{"$error":"#N/A"}},{"$f":"Sheet3!K21","v":-1.2264150943396243E-2},{"$f":"CORREL($B$1:B21,$C$1:C21)","v":{"$error":"#N/A"}},{"$f":"Sheet3!M21","v":1.7304667016256555E-3},{"$f":"CORREL($B$1:B21,$E$1:E21)","v":{"$error":"#N/A"}},{"$f":"Sheet3!O21","v":1.7162471395881656E-3},{"$f":"CORREL($B$1:B21,$G$1:G21)","v":{"$error":"#N/A"}},{"$f":"Sheet3!Q21","v":4.7063745228260952E-4},{"$f":"CORREL($B$1:B21,$I$1:I21)","v":{"$error":"#N/A"}},{"$f":"Sheet3!S21","v":-5.5816379760041382E-3},{"$f":"CORREL($B$1:B21,$K$1:K21)","v":{"$error":"#N/A"}},{"$f":"Sheet3!U21","v":-1.4059753954305794E-2},{"$f":"CORREL($B$1:B21,$M$1:M21)","v":{"$error":"#N/A"}},{"$f":"Sheet3!W21","v":-3.0415506753273709E-3},{"$f":"CORREL($B$1:B21,$O$1:O21)","v":{"$error":"#N/A"}},{"$f":"Sheet3!Y21","v":-1.9657544876105501E-3},{"$f":"CORREL($B$1:B21,$Q$1:Q21)","v":{"$error":"#N/A"}},{"$f":"Sheet3!AA21","v":7.767293958192048E-3},{"$f":"CORREL($B$1:B21,$S$1:S21)","v":{"$error":"#N/A"}}]
[null,{"$f":"Sheet3!I22","v":{"$error":"#N/A"}},{"$f":"Sheet3!K22","v":-1.0849056603773697E-2},{"$f":"CORREL($B$1:B22,$C$1:C22)","v":{"$error":"#N/A"}},{"$f":"Sheet3!M22","v":1.9402202412165945E-3},{"$f":"CORREL($B$1:B22,$E$1:E22)","v":{"$error":"#N/A"}},{"$f":"Sheet3!O22","v":2.3403370085291692E-3},{"$f":"CORREL($B$1:B22,$G$1:G22)","v":{"$error":"#N/A"}},{"$f":"Sheet3!Q22","v":3.1375830152173968E-4},{"$f":"CORREL($B$1:B22,$I$1:I22)","v":{"$error":"#N/A"}},{"$f":"Sheet3!S22","v":-5.52947313510695E-3},{"$f":"CORREL($B$1:B22,$K$1:K22)","v":{"$error":"#N/A"}},{"$f":"Sheet3!U22","v":-1.4111444226196724E-2},{"$f":"CORREL($B$1:B22,$M$1:M22)","v":{"$error":"#N/A"}},{"$f":"Sheet3!W22","v":-3.1446540880502383E-3},{"$f":"CORREL($B$1:B22,$O$1:O22)","v":{"$error":"#N/A"}},{"$f":"Sheet3!Y22","v":-1.8105633438518147E-3},{"$f":"CORREL($B$1:B22,$Q$1:Q22)","v":{"$error":"#N/A"}},{"$f":"Sheet3!AA22","v":8.7056247719334168E-3},{"$f":"CORREL($B$1:B22,$S$1:S22)","v":{"$error":"#N/A"}}]
[null,{"$f":"Sheet3!I23","v":{"$error":"#N/A"}},{"$f":"Sheet3!K23","v":-9.7484276729560455E-3},{"$f":"CORREL($B$1:B23,$C$1:C23)","v":{"$error":"#N/A"}},{"$f":"Sheet3!M23","v":2.3072889355007747E-3},{"$f":"CORREL($B$1:B23,$E$1:E23)","v":{"$error":"#N/A"}},{"$f":"Sheet3!O23","v":2.2363220303724092E-3},{"$f":"CORREL($B$1:B23,$G$1:G23)","v":{"$error":"#N/A"}},{"$f":"Sheet3!Q23","v":7.3210270355077546E-4},{"$f":"CORREL($B$1:B23,$I$1:I23)","v":{"$error":"#N/A"}},{"$f":"Sheet3!S23","v":-4.694835680751055E-3},{"$f":"CORREL($B$1:B23,$K$1:K23)","v":{"$error":"#N/A"}},{"$f":"Sheet3!U23","v":-1.3439470691615808E-2},{"$f":"CORREL($B$1:B23,$M$1:M23)","v":{"$error":"#N/A"}},{"$f":"Sheet3!W23","v":-2.7837921435199097E-3},{"$f":"CORREL($B$1:B23,$O$1:O23)","v":{"$error":"#N/A"}},{"$f":"Sheet3!Y23","v":-1.1897987688168732E-3},{"$f":"CORREL($B$1:B23,$Q$1:Q23)","v":{"$error":"#N/A"}},{"$f":"Sheet3!AA23","v":8.6534952822811678E-3},{"$f":"CORREL($B$1:B23,$S$1:S23)","v":{"$error":"#N/A"}}]
[null,{"$f":"Sheet3!I24","v":{"$error":"#N/A"}},{"$f":"Sheet3!K24","v":-1.0534591194968653E-2},{"$f":"CORREL($B$1:B24,$C$1:C24)","v":{"$error":"#N/A"}},{"$f":"Sheet3!M24","v":1.9402202412165945E-3},{"$f":"CORREL($B$1:B24,$E$1:E24)","v":{"$error":"#N/A"}},{"$f":"Sheet3!O24","v":1.9762845849802136E-3},{"$f":"CORREL($B$1:B24,$G$1:G24)","v":{"$error":"#N/A"}},{"$f":"Sheet3!Q24","v":8.8898185431164525E-4},{"$f":"CORREL($B$1:B24,$I$1:I24)","v":{"$error":"#N/A"}},{"$f":"Sheet3!S24","v":-4.6426708398538677E-3},{"$f":"CORREL($B$1:B24,$K$1:K24)","v":{"$error":"#N/A"}},{"$f":"Sheet3!U24","v":-1.4059753954305794E-2},{"$f":"CORREL($B$1:B24,$M$1:M24)","v":{"$error":"#N/A"}},{"$f":"Sheet3!W24","v":-3.4539643262191336E-3},{"$f":"CORREL($B$1:B24,$O$1:O24)","v":{"$error":"#N/A"}},{"$f":"Sheet3!Y24","v":-7.7595571879367686E-4},{"$f":"CORREL($B$1:B24,$Q$1:Q24)","v":{"$error":"#N/A"}},{"$f":"Sheet3!AA24","v":8.1322003857580861E-3},{"$f":"CORREL($B$1:B24,$S$1:S24)","v":{"$error":"#N/A"}}]
[null,{"$f":"Sheet3!I25","v":{"$error":"#N/A"}},{"$f":"Sheet3!K25","v":-1.0849056603773697E-2},{"$f":"CORREL($B$1:B25,$C$1:C25)","v":{"$error":"#N/A"}},{"$f":"Sheet3!M25","v":2.6219192448872575E-3},{"$f":"CORREL($B$1:B25,$E$1:E25)","v":{"$error":"#N/A"}},{"$f":"Sheet3!O25","v":2.5483669648429848E-3},{"$f":"CORREL($B$1:B25,$G$1:G25)","v":{"$error":"#N/A"}},{"$f":"Sheet3!Q25","v":4.7063745228260952E-4},{"$f":"CORREL($B$1:B25,$I$1:I25)","v":{"$error":"#N/A"}},{"$f":"Sheet3!S25","v":-4.0688575899843569E-3},{"$f":"CORREL($B$1:B25,$K$1:K25)","v":{"$error":"#N/A"}},{"$f":"Sheet3!U25","v":-1.4680037216995779E-2},{"$f":"CORREL($B$1:B25,$M$1:M25)","v":{"$error":"#N/A"}},{"$f":"Sheet3!W25","v":-4.7427569852561474E-3},{"$f":"CORREL($B$1:B25,$O$1:O25)","v":{"$error":"#N/A"}},{"$f":"Sheet3!Y25","v":-6.724949562878043E-4},{"$f":"CORREL($B$1:B25,$Q$1:Q25)","v":{"$error":"#N/A"}},{"$f":"Sheet3!AA25","v":6.4119272272323913E-3},{"$f":"CORREL($B$1:B25,$S$1:S25)","v":{"$error":"#N/A"}}]
[null,{"$f":"Sheet3!I26","v":{"$error":"#N/A"}},{"$f":"Sheet3!K26","v":-1.1215932914046198E-2},{"$f":"CORREL($B$1:B26,$C$1:C26)","v":{"$error":"#N/A"}},{"$f":"Sheet3!M26","v":3.3036182485580699E-3},{"$f":"CORREL($B$1:B26,$E$1:E26)","v":{"$error":"#N/A"}},{"$f":"Sheet3!O26","v":2.6523819429997448E-3},{"$f":"CORREL($B$1:B26,$G$1:G26)","v":{"$error":"#N/A"}},{"$f":"Sheet3!Q26","v":9.9356795481879271E-4},{"$f":"CORREL($B$1:B26,$I$1:I26)","v":{"$error":"#N/A"}},{"$f":"Sheet3!S26","v":-3.6515388628064094E-3},{"$f":"CORREL($B$1:B26,$K$1:K26)","v":{"$error":"#N/A"}},{"$f":"Sheet3!U26","v":-1.4783417760777491E-2},{"$f":"CORREL($B$1:B26,$M$1:M26)","v":{"$error":"#N/A"}},{"$f":"Sheet3!W26","v":-3.8663779771110425E-3},{"$f":"CORREL($B$1:B26,$O$1:O26)","v":{"$error":"#N/A"}},{"$f":"Sheet3!Y26","v":-1.5519114375873537E-3},{"$f":"CORREL($B$1:B26,$Q$1:Q26)","v":{"$error":"#N/A"}},{"$f":"Sheet3!AA26","v":7.350258040973761E-3},{"$f":"CORREL($B$1:B26,$S$1:S26)","v":{"$error":"#N/A"}}]
[null,{"$f":"Sheet3!I27","v":{"$error":"#N/A"}},{"$f":"Sheet3!K27","v":-1.1582809224318698E-2},{"$f":"CORREL($B$1:B27,$C$1:C27)","v":{"$error":"#N/A"}},{"$f":"Sheet3!M27","v":3.1987414787625259E-3},{"$f":"CORREL($B$1:B27,$E$1:E27)","v":{"$error":"#N/A"}},{"$f":"Sheet3!O27","v":2.0802995631371214E-3},{"$f":"CORREL($B$1:B27,$G$1:G27)","v":{"$error":"#N/A"}},{"$f":"Sheet3!Q27","v":1.2027401558333849E-3},{"$f":"CORREL($B$1:B27,$I$1:I27)","v":{"$error":"#N/A"}},{"$f":"Sheet3!S27","v":-1.8257694314032047E-3},{"$f":"CORREL($B$1:B27,$K$1:K27)","v":{"$error":"#N/A"}},{"$f":"Sheet3!U27","v":-1.426651504186922E-2},{"$f":"CORREL($B$1:B27,$M$1:M27)","v":{"$error":"#N/A"}},{"$f":"Sheet3!W27","v":-3.0415506753273709E-3},{"$f":"CORREL($B$1:B27,$O$1:O27)","v":{"$error":"#N/A"}},{"$f":"Sheet3!Y27","v":-5.1730381252906897E-4},{"$f":"CORREL($B$1:B27,$Q$1:Q27)","v":{"$error":"#N/A"}},{"$f":"Sheet3!AA27","v":6.0991502893186023E-3},{"$f":"CORREL($B$1:B27,$S$1:S27)","v":{"$error":"#N/A"}}]
[null,{"$f":"Sheet3!I28","v":{"$error":"#N/A"}},{"$f":"Sheet3!K28","v":-1.0534591194968653E-2},{"$f":"CORREL($B$1:B28,$C$1:C28)","v":{"$error":"#N/A"}},{"$f":"Sheet3!M28","v":2.3597273203986211E-3},{"$f":"CORREL($B$1:B28,$E$1:E28)","v":{"$error":"#N/A"}},{"$f":"Sheet3!O28","v":2.8084044102350326E-3},{"$f":"CORREL($B$1:B28,$G$1:G28)","v":{"$error":"#N/A"}},{"$f":"Sheet3!Q28","v":1.8302567588768643E-3},{"$f":"CORREL($B$1:B28,$I$1:I28)","v":{"$error":"#N/A"}},{"$f":"Sheet3!S28","v":-3.0777256129367503E-3},{"$f":"CORREL($B$1:B28,$K$1:K28)","v":{"$error":"#N/A"}},{"$f":"Sheet3!U28","v":-1.4886798304559058E-2},{"$f":"CORREL($B$1:B28,$M$1:M28)","v":{"$error":"#N/A"}},{"$f":"Sheet3!W28","v":-4.0725848025569234E-3},{"$f":"CORREL($B$1:B28,$O$1:O28)","v":{"$error":"#N/A"}},{"$f":"Sheet3!Y28","v":-1.1897987688168732E-3},{"$f":"CORREL($B$1:B28,$Q$1:Q28)","v":{"$error":"#N/A"}},{"$f":"Sheet3!AA28","v":6.9332221237553247E-3},{"$f":"CORREL($B$1:B28,$S$1:S28)","v":{"$error":"#N/A"}}]
[null,{"$f":"Sheet3!I29","v":{"$error":"#N/A"}},{"$f":"Sheet3!K29","v":-8.5429769392034796E-3},{"$f":"CORREL($B$1:B29,$C$1:C29)","v":{"$error":"#N/A"}},{"$f":"Sheet3!M29","v":2.0975353959098359E-3},{"$f":"CORREL($B$1:B29,$E$1:E29)","v":{"$error":"#N/A"}},{"$f":"Sheet3!O29","v":2.7563969211566526E-3},{"$f":"CORREL($B$1:B29,$G$1:G29)","v":{"$error":"#N/A"}},{"$f":"Sheet3!Q29","v":2.562359462427491E-3},{"$f":"CORREL($B$1:B29,$I$1:I29)","v":{"$error":"#N/A"}},{"$f":"Sheet3!S29","v":-2.764736567553475E-3},{"$f":"CORREL($B$1:B29,$K$1:K29)","v":{"$error":"#N/A"}},{"$f":"Sheet3!U29","v":-1.566215238292154E-2},{"$f":"CORREL($B$1:B29,$M$1:M29)","v":{"$error":"#N/A"}},{"$f":"Sheet3!W29","v":-3.5055160325805673E-3},{"$f":"CORREL($B$1:B29,$O$1:O29)","v":{"$error":"#N/A"}},{"$f":"Sheet3!Y29","v":-2.5865190626454915E-3},{"$f":"CORREL($B$1:B29,$Q$1:Q29)","v":{"$error":"#N/A"}},{"$f":"Sheet3!AA29","v":6.7768336547984302E-3},{"$f":"CORREL($B$1:B29,$S$1:S29)","v":{"$error":"#N/A"}}]
[null,{"$f":"Sheet3!I30","v":{"$error":"#N/A"}},{"$f":"Sheet3!K30","v":-8.8574423480083739E-3},{"$f":"CORREL($B$1:B30,$C$1:C30)","v":{"$error":"#N/A"}},{"$f":"Sheet3!M30","v":2.1499737808076823E-3},{"$f":"CORREL($B$1:B30,$E$1:E30)","v":{"$error":"#N/A"}},{"$f":"Sheet3!O30","v":2.392344497607697E-3},{"$f":"CORREL($B$1:B30,$G$1:G30)","v":{"$error":"#N/A"}},{"$f":"Sheet3!Q30","v":2.4054803116666211E-3},{"$f":"CORREL($B$1:B30,$I$1:I30)","v":{"$error":"#N/A"}},{"$f":"Sheet3!S30","v":-2.7125717266561389E-3},{"$f":"CORREL($B$1:B30,$K$1:K30)","v":{"$error":"#N/A"}},{"$f":"Sheet3!U30","v":-1.5145249664013267E-2},{"$f":"CORREL($B$1:B30,$M$1:M30)","v":{"$error":"#N/A"}},{"$f":"Sheet3!W30","v":-3.4024126198576999E-3},{"$f":"CORREL($B$1:B30,$O$1:O30)","v":{"$error":"#N/A"}},{"$f":"Sheet3!Y30","v":-1.1380683875640105E-3},{"$f":"CORREL($B$1:B30,$Q$1:Q30)","v":{"$error":"#N/A"}},{"$f":"Sheet3!AA30","v":7.1417400823644691E-3},{"$f":"CORREL($B$1:B30,$S$1:S30)","v":{"$error":"#N/A"}}]
[null,{"$f":"Sheet3!I31","v":{"$error":"#N/A"}},{"$f":"Sheet3!K31","v":-9.0670859538785013E-3},{"$f":"CORREL($B$1:B31,$C$1:C31)","v":{"$error":"#N/A"}},{"$f":"Sheet3!M31","v":1.8877818563188971E-3},{"$f":"CORREL($B$1:B31,$E$1:E31)","v":{"$error":"#N/A"}},{"$f":"Sheet3!O31","v":2.0282920740585936E-3},{"$f":"CORREL($B$1:B31,$G$1:G31)","v":{"$error":"#N/A"}},{"$f":"Sheet3!Q31","v":2.614652512681065E-3},{"$f":"CORREL($B$1:B31,$I$1:I31)","v":{"$error":"#N/A"}},{"$f":"Sheet3!S31","v":-2.3995826812727157E-3},{"$f":"CORREL($B$1:B31,$K$1:K31)","v":{"$error":"#N/A"}},{"$f":"Sheet3!U31","v":-1.3852992866742514E-2},{"$f":"CORREL($B$1:B31,$M$1:M31)","v":{"$error":"#N/A"}},{"$f":"Sheet3!W31","v":-3.196205794411672E-3},{"$f":"CORREL($B$1:B31,$O$1:O31)","v":{"$error":"#N/A"}},{"$f":"Sheet3!Y31","v":-2.2244063938751581E-3},{"$f":"CORREL($B$1:B31,$Q$1:Q31)","v":{"$error":"#N/A"}},{"$f":"Sheet3!AA31","v":5.6299848824479179E-3},{"$f":"CORREL($B$1:B31,$S$1:S31)","v":{"$error":"#N/A"}}]
[null,{"$f":"Sheet3!I32","v":{"$error":"#N/A"}},{"$f":"Sheet3!K32","v":-9.7484276729560455E-3},{"$f":"CORREL($B$1:B32,$C$1:C32)","v":{"$error":"#N/A"}},{"$f":"Sheet3!M32","v":1.7829050865233531E-3},{"$f":"CORREL($B$1:B32,$E$1:E32)","v":{"$error":"#N/A"}},{"$f":"Sheet3!O32","v":1.8202621177449258E-3},{"$f":"CORREL($B$1:B32,$G$1:G32)","v":{"$error":"#N/A"}},{"$f":"Sheet3!Q32","v":2.3008942111593252E-3},{"$f":"CORREL($B$1:B32,$I$1:I32)","v":{"$error":"#N/A"}},{"$f":"Sheet3!S32","v":-1.8779342723003925E-3},{"$f":"CORREL($B$1:B32,$K$1:K32)","v":{"$error":"#N/A"}},{"$f":"Sheet3!U32","v":-1.3491160963506738E-2},{"$f":"CORREL($B$1:B32,$M$1:M32)","v":{"$error":"#N/A"}},{"$f":"Sheet3!W32","v":-3.3508609134961197E-3},{"$f":"CORREL($B$1:B32,$O$1:O32)","v":{"$error":"#N/A"}},{"$f":"Sheet3!Y32","v":-3.1038228751745604E-3},{"$f":"CORREL($B$1:B32,$Q$1:Q32)","v":{"$error":"#N/A"}},{"$f":"Sheet3!AA32","v":6.3076682479277458E-3},{"$f":"CORREL($B$1:B32,$S$1:S32)","v":{"$error":"#N/A"}}]
[null,{"$f":"Sheet3!I33","v":{"$error":"#N/A"}},{"$f":"Sheet3!K33","v":-9.4863731656184593E-3},{"$f":"CORREL($B$1:B33,$C$1:C33)","v":{"$error":"#N/A"}},{"$f":"Sheet3!M33","v":1.6780283167279581E-3},{"$f":"CORREL($B$1:B33,$E$1:E33)","v":{"$error":"#N/A"}},{"$f":"Sheet3!O33","v":1.4562096941959702E-3},{"$f":"CORREL($B$1:B33,$G$1:G33)","v":{"$error":"#N/A"}},{"$f":"Sheet3!Q33","v":2.2486011609057512E-3},{"$f":"CORREL($B$1:B33,$I$1:I33)","v":{"$error":"#N/A"}},{"$f":"Sheet3!S33","v":-1.8779342723003925E-3},{"$f":"CORREL($B$1:B33,$K$1:K33)","v":{"$error":"#N/A"}},{"$f":"Sheet3!U33","v":-1.37496123229608E-2},{"$f":"CORREL($B$1:B33,$M$1:M33)","v":{"$error":"#N/A"}},{"$f":"Sheet3!W33","v":-3.6086194453035813E-3},{"$f":"CORREL($B$1:B33,$O$1:O33)","v":{"$error":"#N/A"}},{"$f":"Sheet3!Y33","v":-2.5865190626454915E-3},{"$f":"CORREL($B$1:B33,$Q$1:Q33)","v":{"$error":"#N/A"}},{"$f":"Sheet3!AA33","v":6.6204451858415357E-3},{"$f":"CORREL($B$1:B33,$S$1:S33)","v":{"$error":"#N/A"}}]
[null,{"$f":"Sheet3!I34","v":{"$error":"#N/A"}},{"$f":"Sheet3!K34","v":-9.8008385744235028E-3},{"$f":"CORREL($B$1:B34,$C$1:C34)","v":{"$error":"#N/A"}},{"$f":"Sheet3!M34","v":1.2585212375459314E-3},{"$f":"CORREL($B$1:B34,$E$1:E34)","v":{"$error":"#N/A"}},{"$f":"Sheet3!O34","v":4.6806740170586336E-4},{"$f":"CORREL($B$1:B34,$G$1:G34)","v":{"$error":"#N/A"}},{"$f":"Sheet3!Q34","v":2.7715316634419345E-3},{"$f":"CORREL($B$1:B34,$I$1:I34)","v":{"$error":"#N/A"}},{"$f":"Sheet3!S34","v":-1.4084507042252572E-3},{"$f":"CORREL($B$1:B34,$K$1:K34)","v":{"$error":"#N/A"}},{"$f":"Sheet3!U34","v":-1.3956373410524227E-2},{"$f":"CORREL($B$1:B34,$M$1:M34)","v":{"$error":"#N/A"}},{"$f":"Sheet3!W34","v":-4.1756882152799374E-3},{"$f":"CORREL($B$1:B34,$O$1:O34)","v":{"$error":"#N/A"}},{"$f":"Sheet3!Y34","v":-2.534788681392629E-3},{"$f":"CORREL($B$1:B34,$Q$1:Q34)","v":{"$error":"#N/A"}},{"$f":"Sheet3!AA34","v":5.5257259031432715E-3},{"$f":"CORREL($B$1:B34,$S$1:S34)","v":{"$error":"#N/A"}}]
[null,{"$f":"Sheet3!I35","v":{"$error":"#N/A"}},{"$f":"Sheet3!K35","v":-1.0115303983228546E-2},{"$f":"CORREL($B$1:B35,$C$1:C35)","v":{"$error":"#N/A"}},{"$f":"Sheet3!M35","v":1.1536444677503874E-3},{"$f":"CORREL($B$1:B35,$E$1:E35)","v":{"$error":"#N/A"}},{"$f":"Sheet3!O35","v":9.3613480341172672E-4},{"$f":"CORREL($B$1:B35,$G$1:G35)","v":{"$error":"#N/A"}},{"$f":"Sheet3!Q35","v":2.9284108142028044E-3},{"$f":"CORREL($B$1:B35,$I$1:I35)","v":{"$error":"#N/A"}},{"$f":"Sheet3!S35","v":-1.3562858633280694E-3},{"$f":"CORREL($B$1:B35,$K$1:K35)","v":{"$error":"#N/A"}},{"$f":"Sheet3!U35","v":-1.302594851648925E-2},{"$f":"CORREL($B$1:B35,$M$1:M35)","v":{"$error":"#N/A"}},{"$f":"Sheet3!W35","v":-3.299309207134686E-3},{"$f":"CORREL($B$1:B35,$O$1:O35)","v":{"$error":"#N/A"}},{"$f":"Sheet3!Y35","v":-2.4830583001396191E-3},{"$f":"CORREL($B$1:B35,$Q$1:Q35)","v":{"$error":"#N/A"}},{"$f":"Sheet3!AA35","v":4.3788771307927592E-3},{"$f":"CORREL($B$1:B35,$S$1:S35)","v":{"$error":"#N/A"}}]
[null,{"$f":"Sheet3!I36","v":{"$error":"#N/A"}},{"$f":"Sheet3!K36","v":-1.0010482180293632E-2},{"$f":"CORREL($B$1:B36,$C$1:C36)","v":{"$error":"#N/A"}},{"$f":"Sheet3!M36","v":6.8169900367081216E-4},{"$f":"CORREL($B$1:B36,$E$1:E36)","v":{"$error":"#N/A"}},{"$f":"Sheet3!O36","v":3.1204493447057561E-4},{"$f":"CORREL($B$1:B36,$G$1:G36)","v":{"$error":"#N/A"}},{"$f":"Sheet3!Q36","v":2.3531872614130475E-3},{"$f":"CORREL($B$1:B36,$I$1:I36)","v":{"$error":"#N/A"}},{"$f":"Sheet3!S36","v":-1.4606155451225933E-3},{"$f":"CORREL($B$1:B36,$K$1:K36)","v":{"$error":"#N/A"}},{"$f":"Sheet3!U36","v":-1.2922567972707535E-2},{"$f":"CORREL($B$1:B36,$M$1:M36)","v":{"$error":"#N/A"}},{"$f":"Sheet3!W36","v":-3.4539643262191336E-3},{"$f":"CORREL($B$1:B36,$O$1:O36)","v":{"$error":"#N/A"}},{"$f":"Sheet3!Y36","v":-2.6382494438983543E-3},{"$f":"CORREL($B$1:B36,$Q$1:Q36)","v":{"$error":"#N/A"}},{"$f":"Sheet3!AA36","v":5.7342438617525634E-3},{"$f":"CORREL($B$1:B36,$S$1:S36)","v":{"$error":"#N/A"}}]
[null,{"$f":"Sheet3!I37","v":{"$error":"#N/A"}},{"$f":"Sheet3!K37","v":-9.8532494758911092E-3},{"$f":"CORREL($B$1:B37,$C$1:C37)","v":{"$error":"#N/A"}},{"$f":"Sheet3!M37","v":3.6706869428432932E-4},{"$f":"CORREL($B$1:B37,$E$1:E37)","v":{"$error":"#N/A"}},{"$f":"Sheet3!O37","v":4.6806740170586336E-4},{"$f":"CORREL($B$1:B37,$G$1:G37)","v":{"$error":"#N/A"}},{"$f":"Sheet3!Q37","v":2.5100664121739174E-3},{"$f":"CORREL($B$1:B37,$I$1:I37)","v":{"$error":"#N/A"}},{"$f":"Sheet3!S37","v":-4.1731872717779911E-4},{"$f":"CORREL($B$1:B37,$K$1:K37)","v":{"$error":"#N/A"}},{"$f":"Sheet3!U37","v":-1.230228471001755E-2},{"$f":"CORREL($B$1:B37,$M$1:M37)","v":{"$error":"#N/A"}},{"$f":"Sheet3!W37","v":-4.2272399216413716E-3},{"$f":"CORREL($B$1:B37,$O$1:O37)","v":{"$error":"#N/A"}},{"$f":"Sheet3!Y37","v":-2.4830583001396191E-3},{"$f":"CORREL($B$1:B37,$Q$1:Q37)","v":{"$error":"#N/A"}},{"$f":"Sheet3!AA37","v":4.5352655997496537E-3},{"$f":"CORREL($B$1:B37,$S$1:S37)","v":{"$error":"#N/A"}}]
[null,{"$f":"Sheet3!I38","v":{"$error":"#N/A"}},{"$f":"Sheet3!K38","v":-9.7484276729560455E-3},{"$f":"CORREL($B$1:B38,$C$1:C38)","v":{"$error":"#N/A"}},{"$f":"Sheet3!M38","v":4.1950707918202677E-4},{"$f":"CORREL($B$1:B38,$E$1:E38)","v":{"$error":"#N/A"}},{"$f":"Sheet3!O38","v":2.6003744539219558E-4},{"$f":"CORREL($B$1:B38,$G$1:G38)","v":{"$error":"#N/A"}},{"$f":"Sheet3!Q38","v":2.7715316634419345E-3},{"$f":"CORREL($B$1:B38,$I$1:I38)","v":{"$error":"#N/A"}},{"$f":"Sheet3!S38","v":-2.0865936358889956E-4},{"$f":"CORREL($B$1:B38,$K$1:K38)","v":{"$error":"#N/A"}},{"$f":"Sheet3!U38","v":-1.302594851648925E-2},{"$f":"CORREL($B$1:B38,$M$1:M38)","v":{"$error":"#N/A"}},{"$f":"Sheet3!W38","v":-4.0210330961954902E-3},{"$f":"CORREL($B$1:B38,$O$1:O38)","v":{"$error":"#N/A"}},{"$f":"Sheet3!Y38","v":-2.6899798251513642E-3},{"$f":"CORREL($B$1:B38,$Q$1:Q38)","v":{"$error":"#N/A"}},{"$f":"Sheet3!AA38","v":5.7863733514048124E-3},{"$f":"CORREL($B$1:B38,$S$1:S38)","v":{"$error":"#N/A"}}]
[null,{"$f":"Sheet3!I39","v":{"$error":"#N/A"}},{"$f":"Sheet3!K39","v":-1.0010482180293632E-2},{"$f":"CORREL($B$1:B39,$C$1:C39)","v":{"$error":"#N/A"}},{"$f":"Sheet3!M39","v":3.1463030938648284E-4},{"$f":"CORREL($B$1:B39,$E$1:E39)","v":{"$error":"#N/A"}},{"$f":"Sheet3!O39","v":1.560224672352878E-4},{"$f":"CORREL($B$1:B39,$G$1:G39)","v":{"$error":"#N/A"}},{"$f":"Sheet3!Q39","v":2.7715316634419345E-3},{"$f":"CORREL($B$1:B39,$I$1:I39)","v":{"$error":"#N/A"}},{"$f":"Sheet3!S39","v":-4.1731872717779911E-4},{"$f":"CORREL($B$1:B39,$K$1:K39)","v":{"$error":"#N/A"}},{"$f":"Sheet3!U39","v":-1.3439470691615808E-2},{"$f":"CORREL($B$1:B39,$M$1:M39)","v":{"$error":"#N/A"}},{"$f":"Sheet3!W39","v":-3.5055160325805673E-3},{"$f":"CORREL($B$1:B39,$O$1:O39)","v":{"$error":"#N/A"}},{"$f":"Sheet3!Y39","v":-2.8969013501629623E-3},{"$f":"CORREL($B$1:B39,$Q$1:Q39)","v":{"$error":"#N/A"}},{"$f":"Sheet3!AA39","v":6.5683156961892867E-3},{"$f":"CORREL($B$1:B39,$S$1:S39)","v":{"$error":"#N/A"}}]
[null,{"$f":"Sheet3!I40","v":{"$error":"#N/A"}},{"$f":"Sheet3!K40","v":-9.8532494758911092E-3},{"$f":"CORREL($B$1:B40,$C$1:C40)","v":{"$error":"#N/A"}},{"$f":"Sheet3!M40","v":-3.1463030938648284E-4},{"$f":"CORREL($B$1:B40,$E$1:E40)","v":{"$error":"#N/A"}},{"$f":"Sheet3!O40","v":-4.1605991262748339E-4},{"$f":"CORREL($B$1:B40,$G$1:G40)","v":{"$error":"#N/A"}},{"$f":"Sheet3!Q40","v":2.8238247136956572E-3},{"$f":"CORREL($B$1:B40,$I$1:I40)","v":{"$error":"#N/A"}},{"$f":"Sheet3!S40","v":-1.5649452269171174E-4},{"$f":"CORREL($B$1:B40,$K$1:K40)","v":{"$error":"#N/A"}},{"$f":"Sheet3!U40","v":-1.3129329060270962E-2},{"$f":"CORREL($B$1:B40,$M$1:M40)","v":{"$error":"#N/A"}},{"$f":"Sheet3!W40","v":-5.0005155170636095E-3},{"$f":"CORREL($B$1:B40,$O$1:O40)","v":{"$error":"#N/A"}},{"$f":"Sheet3!Y40","v":-2.8451709689100995E-3},{"$f":"CORREL($B$1:B40,$Q$1:Q40)","v":{"$error":"#N/A"}},{"$f":"Sheet3!AA40","v":5.7863733514048124E-3},{"$f":"CORREL($B$1:B40,$S$1:S40)","v":{"$error":"#N/A"}}]
[null,{"$f":"Sheet3!I41","v":{"$error":"#N/A"}},{"$f":"Sheet3!K41","v":-1.0849056603773697E-2},{"$f":"CORREL($B$1:B41,$C$1:C41)","v":{"$error":"#N/A"}},{"$f":"Sheet3!M41","v":8.9145254326175106E-4},{"$f":"CORREL($B$1:B41,$E$1:E41)","v":{"$error":"#N/A"}},{"$f":"Sheet3!O41","v":0},{"$f":"CORREL($B$1:B41,$G$1:G41)","v":{"$error":"#N/A"}},{"$f":"Sheet3!Q41","v":2.8238247136956572E-3},{"$f":"CORREL($B$1:B41,$I$1:I41)","v":{"$error":"#N/A"}},{"$f":"Sheet3!S41","v":5.7381324986965909E-4},{"$f":"CORREL($B$1:B41,$K$1:K41)","v":{"$error":"#N/A"}},{"$f":"Sheet3!U41","v":-1.230228471001755E-2},{"$f":"CORREL($B$1:B41,$M$1:M41)","v":{"$error":"#N/A"}},{"$f":"Sheet3!W41","v":-4.6912052788947141E-3},{"$f":"CORREL($B$1:B41,$O$1:O41)","v":{"$error":"#N/A"}},{"$f":"Sheet3!Y41","v":-2.01748486886356E-3},{"$f":"CORREL($B$1:B41,$Q$1:Q41)","v":{"$error":"#N/A"}},{"$f":"Sheet3!AA41","v":6.6204451858415357E-3},{"$f":"CORREL($B$1:B41,$S$1:S41)","v":{"$error":"#N/A"}}]
[null,{"$f":"Sheet3!I42","v":{"$error":"#N/A"}},{"$f":"Sheet3!K42","v":-1.0272536687631069E-2},{"$f":"CORREL($B$1:B42,$C$1:C42)","v":{"$error":"#N/A"}},{"$f":"Sheet3!M42","v":3.1463030938648284E-4},{"$f":"CORREL($B$1:B42,$E$1:E42)","v":{"$error":"#N/A"}},{"$f":"Sheet3!O42","v":-5.2007489078424339E-4},{"$f":"CORREL($B$1:B42,$G$1:G42)","v":{"$error":"#N/A"}},{"$f":"Sheet3!Q42","v":3.0852899649636742E-3},{"$f":"CORREL($B$1:B42,$I$1:I42)","v":{"$error":"#N/A"}},{"$f":"Sheet3!S42","v":1.0432968179452391E-4},{"$f":"CORREL($B$1:B42,$K$1:K42)","v":{"$error":"#N/A"}},{"$f":"Sheet3!U42","v":-1.235397498190848E-2},{"$f":"CORREL($B$1:B42,$M$1:M42)","v":{"$error":"#N/A"}},{"$f":"Sheet3!W42","v":-3.9179296834724762E-3},{"$f":"CORREL($B$1:B42,$O$1:O42)","v":{"$error":"#N/A"}},{"$f":"Sheet3!Y42","v":-1.758832962598952E-3},{"$f":"CORREL($B$1:B42,$Q$1:Q42)","v":{"$error":"#N/A"}},{"$f":"Sheet3!AA42","v":6.6204451858415357E-3},{"$f":"CORREL($B$1:B42,$S$1:S42)","v":{"$error":"#N/A"}}]
[null,{"$f":"Sheet3!I43","v":{"$error":"#N/A"}},{"$f":"Sheet3!K43","v":-1.0534591194968653E-2},{"$f":"CORREL($B$1:B43,$C$1:C43)","v":{"$error":"#N/A"}},{"$f":"Sheet3!M43","v":3.1463030938648284E-4},{"$f":"CORREL($B$1:B43,$E$1:E43)","v":{"$error":"#N/A"}},{"$f":"Sheet3!O43","v":-5.2007489078424339E-4},{"$f":"CORREL($B$1:B43,$G$1:G43)","v":{"$error":"#N/A"}},{"$f":"Sheet3!Q43","v":3.7650996182607274E-3},{"$f":"CORREL($B$1:B43,$I$1:I43)","v":{"$error":"#N/A"}},{"$f":"Sheet3!S43","v":-7.8247261345841036E-4},{"$f":"CORREL($B$1:B43,$K$1:K43)","v":{"$error":"#N/A"}},{"$f":"Sheet3!U43","v":-1.235397498190848E-2},{"$f":"CORREL($B$1:B43,$M$1:M43)","v":{"$error":"#N/A"}},{"$f":"Sheet3!W43","v":-3.299309207134686E-3},{"$f":"CORREL($B$1:B43,$O$1:O43)","v":{"$error":"#N/A"}},{"$f":"Sheet3!Y43","v":-1.4484506750814812E-3},{"$f":"CORREL($B$1:B43,$Q$1:Q43)","v":{"$error":"#N/A"}},{"$f":"Sheet3!AA43","v":6.2555387582754968E-3},{"$f":"CORREL($B$1:B43,$S$1:S43)","v":{"$error":"#N/A"}}]
[null,{"$f":"Sheet3!I44","v":{"$error":"#N/A"}},{"$f":"Sheet3!K44","v":-9.2767295597484811E-3},{"$f":"CORREL($B$1:B44,$C$1:C44)","v":{"$error":"#N/A"}},{"$f":"Sheet3!M44","v":7.3413738856850967E-4},{"$f":"CORREL($B$1:B44,$E$1:E44)","v":{"$error":"#N/A"}},{"$f":"Sheet3!O44","v":-1.1961722488037746E-3},{"$f":"CORREL($B$1:B44,$G$1:G44)","v":{"$error":"#N/A"}},{"$f":"Sheet3!Q44","v":5.0724258746012597E-3},{"$f":"CORREL($B$1:B44,$I$1:I44)","v":{"$error":"#N/A"}},{"$f":"Sheet3!S44","v":-7.8247261345841036E-4},{"$f":"CORREL($B$1:B44,$K$1:K44)","v":{"$error":"#N/A"}},{"$f":"Sheet3!U44","v":-1.2095523622454271E-2},{"$f":"CORREL($B$1:B44,$M$1:M44)","v":{"$error":"#N/A"}},{"$f":"Sheet3!W44","v":-4.0210330961954902E-3},{"$f":"CORREL($B$1:B44,$O$1:O44)","v":{"$error":"#N/A"}},{"$f":"Sheet3!Y44","v":-1.5519114375873537E-3},{"$f":"CORREL($B$1:B44,$Q$1:Q44)","v":{"$error":"#N/A"}},{"$f":"Sheet3!AA44","v":6.6725746754939322E-3},{"$f":"CORREL($B$1:B44,$S$1:S44)","v":{"$error":"#N/A"}}]
[null,{"$f":"Sheet3!I45","v":{"$error":"#N/A"}},{"$f":"Sheet3!K45","v":-9.6436058700209819E-3},{"$f":"CORREL($B$1:B45,$C$1:C45)","v":{"$error":"#N/A"}},{"$f":"Sheet3!M45","v":1.3633980073414753E-3},{"$f":"CORREL($B$1:B45,$E$1:E45)","v":{"$error":"#N/A"}},{"$f":"Sheet3!O45","v":-1.5082171832743502E-3},{"$f":"CORREL($B$1:B45,$G$1:G45)","v":{"$error":"#N/A"}},{"$f":"Sheet3!Q45","v":5.177011975108556E-3},{"$f":"CORREL($B$1:B45,$I$1:I45)","v":{"$error":"#N/A"}},{"$f":"Sheet3!S45","v":4.1731872717794738E-4},{"$f":"CORREL($B$1:B45,$K$1:K45)","v":{"$error":"#N/A"}},{"$f":"Sheet3!U45","v":-1.2405665253799264E-2},{"$f":"CORREL($B$1:B45,$M$1:M45)","v":{"$error":"#N/A"}},{"$f":"Sheet3!W45","v":-3.7632745643880285E-3},{"$f":"CORREL($B$1:B45,$O$1:O45)","v":{"$error":"#N/A"}},{"$f":"Sheet3!Y45","v":-1.8105633438518147E-3},{"$f":"CORREL($B$1:B45,$Q$1:Q45)","v":{"$error":"#N/A"}},{"$f":"Sheet3!AA45","v":6.8810926341030757E-3},{"$f":"CORREL($B$1:B45,$S$1:S45)","v":{"$error":"#N/A"}}]
[null,{"$f":"Sheet3!I46","v":{"$error":"#N/A"}},{"$f":"Sheet3!K46","v":-9.3815513626835448E-3},{"$f":"CORREL($B$1:B46,$C$1:C46)","v":{"$error":"#N/A"}},{"$f":"Sheet3!M46","v":1.2060828526482339E-3},{"$f":"CORREL($B$1:B46,$E$1:E46)","v":{"$error":"#N/A"}},{"$f":"Sheet3!O46","v":-6.7609735801953119E-4},{"$f":"CORREL($B$1:B46,$G$1:G46)","v":{"$error":"#N/A"}},{"$f":"Sheet3!Q46","v":5.4384772263767218E-3},{"$f":"CORREL($B$1:B46,$I$1:I46)","v":{"$error":"#N/A"}},{"$f":"Sheet3!S46","v":0},{"$f":"CORREL($B$1:B46,$K$1:K46)","v":{"$error":"#N/A"}},{"$f":"Sheet3!U46","v":-1.132016954409179E-2},{"$f":"CORREL($B$1:B46,$M$1:M46)","v":{"$error":"#N/A"}},{"$f":"Sheet3!W46","v":-4.4334467470872529E-3},{"$f":"CORREL($B$1:B46,$O$1:O46)","v":{"$error":"#N/A"}},{"$f":"Sheet3!Y46","v":-2.276136775128021E-3},{"$f":"CORREL($B$1:B46,$Q$1:Q46)","v":{"$error":"#N/A"}},{"$f":"Sheet3!AA46","v":6.6725746754939322E-3},{"$f":"CORREL($B$1:B46,$S$1:S46)","v":{"$error":"#N/A"}}]
[null,{"$f":"Sheet3!I47","v":{"$error":"#N/A"}},{"$f":"Sheet3!K47","v":-9.9580712788260254E-3},{"$f":"CORREL($B$1:B47,$C$1:C47)","v":{"$error":"#N/A"}},{"$f":"Sheet3!M47","v":1.7829050865233531E-3},{"$f":"CORREL($B$1:B47,$E$1:E47)","v":{"$error":"#N/A"}},{"$f":"Sheet3!O47","v":-5.7208237986277114E-4},{"$f":"CORREL($B$1:B47,$G$1:G47)","v":{"$error":"#N/A"}},{"$f":"Sheet3!Q47","v":6.1182868796737754E-3},{"$f":"CORREL($B$1:B47,$I$1:I47)","v":{"$error":"#N/A"}},{"$f":"Sheet3!S47","v":-1.0432968179437565E-4},{"$f":"CORREL($B$1:B47,$K$1:K47)","v":{"$error":"#N/A"}},{"$f":"Sheet3!U47","v":-1.1113408456528509E-2},{"$f":"CORREL($B$1:B47,$M$1:M47)","v":{"$error":"#N/A"}},{"$f":"Sheet3!W47","v":-3.3508609134961197E-3},{"$f":"CORREL($B$1:B47,$O$1:O47)","v":{"$error":"#N/A"}},{"$f":"Sheet3!Y47","v":-3.1038228751745604E-3},{"$f":"CORREL($B$1:B47,$Q$1:Q47)","v":{"$error":"#N/A"}},{"$f":"Sheet3!AA47","v":6.2555387582754968E-3},{"$f":"CORREL($B$1:B47,$S$1:S47)","v":{"$error":"#N/A"}}]
[null,{"$f":"Sheet3!I48","v":{"$error":"#N/A"}},{"$f":"Sheet3!K48","v":-1.0272536687631069E-2},{"$f":"CORREL($B$1:B48,$C$1:C48)","v":{"$error":"#N/A"}},{"$f":"Sheet3!M48","v":1.6780283167279581E-3},{"$f":"CORREL($B$1:B48,$E$1:E48)","v":{"$error":"#N/A"}},{"$f":"Sheet3!O48","v":-5.2007489078424339E-4},{"$f":"CORREL($B$1:B48,$G$1:G48)","v":{"$error":"#N/A"}},{"$f":"Sheet3!Q48","v":6.7458034827172541E-3},{"$f":"CORREL($B$1:B48,$I$1:I48)","v":{"$error":"#N/A"}},{"$f":"Sheet3!S48","v":0},{"$f":"CORREL($B$1:B48,$K$1:K48)","v":{"$error":"#N/A"}},{"$f":"Sheet3!U48","v":-1.08549570970743E-2},{"$f":"CORREL($B$1:B48,$M$1:M48)","v":{"$error":"#N/A"}},{"$f":"Sheet3!W48","v":-4.6396535725331343E-3},{"$f":"CORREL($B$1:B48,$O$1:O48)","v":{"$error":"#N/A"}},{"$f":"Sheet3!Y48","v":-3.1038228751745604E-3},{"$f":"CORREL($B$1:B48,$Q$1:Q48)","v":{"$error":"#N/A"}},{"$f":"Sheet3!AA48","v":6.9332221237553247E-3},{"$f":"CORREL($B$1:B48,$S$1:S48)","v":{"$error":"#N/A"}}]
[null,{"$f":"Sheet3!I49","v":{"$error":"#N/A"}},{"$f":"Sheet3!K49","v":-1.0272536687631069E-2},{"$f":"CORREL($B$1:B49,$C$1:C49)","v":{"$error":"#N/A"}},{"$f":"Sheet3!M49","v":2.7792343995804991E-3},{"$f":"CORREL($B$1:B49,$E$1:E49)","v":{"$error":"#N/A"}},{"$f":"Sheet3!O49","v":-7.2810484709805894E-4},{"$f":"CORREL($B$1:B49,$G$1:G49)","v":{"$error":"#N/A"}},{"$f":"Sheet3!Q49","v":6.3274590806882188E-3},{"$f":"CORREL($B$1:B49,$I$1:I49)","v":{"$error":"#N/A"}},{"$f":"Sheet3!S49","v":-2.0865936358889956E-4},{"$f":"CORREL($B$1:B49,$K$1:K49)","v":{"$error":"#N/A"}},{"$f":"Sheet3!U49","v":-1.1268479272201006E-2},{"$f":"CORREL($B$1:B49,$M$1:M49)","v":{"$error":"#N/A"}},{"$f":"Sheet3!W49","v":-3.9694813898339103E-3},{"$f":"CORREL($B$1:B49,$O$1:O49)","v":{"$error":"#N/A"}},{"$f":"Sheet3!Y49","v":-3.4659355439450412E-3},{"$f":"CORREL($B$1:B49,$Q$1:Q49)","v":{"$error":"#N/A"}},{"$f":"Sheet3!AA49","v":6.6204451858415357E-3},{"$f":"CORREL($B$1:B49,$S$1:S49)","v":{"$error":"#N/A"}}]
[null,{"$f":"Sheet3!I50","v":{"$error":"#N/A"}},{"$f":"Sheet3!K50","v":-1.0324947589098526E-2},{"$f":"CORREL($B$1:B50,$C$1:C50)","v":{"$error":"#N/A"}},{"$f":"Sheet3!M50","v":2.5694808599895603E-3},{"$f":"CORREL($B$1:B50,$E$1:E50)","v":{"$error":"#N/A"}},{"$f":"Sheet3!O50","v":-2.0802995631366778E-4},{"$f":"CORREL($B$1:B50,$G$1:G50)","v":{"$error":"#N/A"}},{"$f":"Sheet3!Q50","v":5.7522355278984616E-3},{"$f":"CORREL($B$1:B50,$I$1:I50)","v":{"$error":"#N/A"}},{"$f":"Sheet3!S50","v":-5.2164840897187823E-5},{"$f":"CORREL($B$1:B50,$K$1:K50)","v":{"$error":"#N/A"}},{"$f":"Sheet3!U50","v":-1.1837072263000209E-2},{"$f":"CORREL($B$1:B50,$M$1:M50)","v":{"$error":"#N/A"}},{"$f":"Sheet3!W50","v":-6.1862047633776092E-3},{"$f":"CORREL($B$1:B50,$O$1:O50)","v":{"$error":"#N/A"}},{"$f":"Sheet3!Y50","v":-2.9486317314158252E-3},{"$f":"CORREL($B$1:B50,$Q$1:Q50)","v":{"$error":"#N/A"}},{"$f":"Sheet3!AA50","v":6.5683156961892867E-3},{"$f":"CORREL($B$1:B50,$S$1:S50)","v":{"$error":"#N/A"}}]
[null,{"$f":"Sheet3!I51","v":{"$error":"#N/A"}},{"$f":"Sheet3!K51","v":-1.0115303983228546E-2},{"$f":"CORREL($B$1:B51,$C$1:C51)","v":{"$error":"#N/A"}},{"$f":"Sheet3!M51","v":2.2024121657053799E-3},{"$f":"CORREL($B$1:B51,$E$1:E51)","v":{"$error":"#N/A"}},{"$f":"Sheet3!O51","v":-2.6003744539219558E-4},{"$f":"CORREL($B$1:B51,$G$1:G51)","v":{"$error":"#N/A"}},{"$f":"Sheet3!Q51","v":5.22930502536213E-3},{"$f":"CORREL($B$1:B51,$I$1:I51)","v":{"$error":"#N/A"}},{"$f":"Sheet3!S51","v":-5.7381324986951088E-4},{"$f":"CORREL($B$1:B51,$K$1:K51)","v":{"$error":"#N/A"}},{"$f":"Sheet3!U51","v":-1.1165098728419294E-2},{"$f":"CORREL($B$1:B51,$M$1:M51)","v":{"$error":"#N/A"}},{"$f":"Sheet3!W51","v":-5.9799979379317279E-3},{"$f":"CORREL($B$1:B51,$O$1:O51)","v":{"$error":"#N/A"}},{"$f":"Sheet3!Y51","v":-2.5865190626454915E-3},{"$f":"CORREL($B$1:B51,$Q$1:Q51)","v":{"$error":"#N/A"}},{"$f":"Sheet3!AA51","v":6.7768336547984302E-3},{"$f":"CORREL($B$1:B51,$S$1:S51)","v":{"$error":"#N/A"}}]
[null,{"$f":"Sheet3!I52","v":{"$error":"#N/A"}},{"$f":"Sheet3!K52","v":-1.1163522012578741E-2},{"$f":"CORREL($B$1:B52,$C$1:C52)","v":{"$error":"#N/A"}},{"$f":"Sheet3!M52","v":1.7829050865233531E-3},{"$f":"CORREL($B$1:B52,$E$1:E52)","v":{"$error":"#N/A"}},{"$f":"Sheet3!O52","v":-2.6003744539219558E-4},{"$f":"CORREL($B$1:B52,$G$1:G52)","v":{"$error":"#N/A"}},{"$f":"Sheet3!Q52","v":5.3861841761229995E-3},{"$f":"CORREL($B$1:B52,$I$1:I52)","v":{"$error":"#N/A"}},{"$f":"Sheet3!S52","v":-7.303077725612226E-4},{"$f":"CORREL($B$1:B52,$K$1:K52)","v":{"$error":"#N/A"}},{"$f":"Sheet3!U52","v":-1.2043833350563488E-2},{"$f":"CORREL($B$1:B52,$M$1:M52)","v":{"$error":"#N/A"}},{"$f":"Sheet3!W52","v":-5.0005155170636095E-3},{"$f":"CORREL($B$1:B52,$O$1:O52)","v":{"$error":"#N/A"}},{"$f":"Sheet3!Y52","v":-2.4830583001396191E-3},{"$f":"CORREL($B$1:B52,$Q$1:Q52)","v":{"$error":"#N/A"}},{"$f":"Sheet3!AA52","v":6.8810926341030757E-3},{"$f":"CORREL($B$1:B52,$S$1:S52)","v":{"$error":"#N/A"}}]
[null,{"$f":"Sheet3!I53","v":{"$error":"#N/A"}},{"$f":"Sheet3!K53","v":-1.1058700209643677E-2},{"$f":"CORREL($B$1:B53,$C$1:C53)","v":{"$error":"#N/A"}},{"$f":"Sheet3!M53","v":2.0975353959098359E-3},{"$f":"CORREL($B$1:B53,$E$1:E53)","v":{"$error":"#N/A"}},{"$f":"Sheet3!O53","v":-1.040149781569078E-4},{"$f":"CORREL($B$1:B53,$G$1:G53)","v":{"$error":"#N/A"}},{"$f":"Sheet3!Q53","v":4.7063745228259467E-3},{"$f":"CORREL($B$1:B53,$I$1:I53)","v":{"$error":"#N/A"}},{"$f":"Sheet3!S53","v":-1.3562858633280694E-3},{"$f":"CORREL($B$1:B53,$K$1:K53)","v":{"$error":"#N/A"}},{"$f":"Sheet3!U53","v":-1.2250594438126768E-2},{"$f":"CORREL($B$1:B53,$M$1:M53)","v":{"$error":"#N/A"}},{"$f":"Sheet3!W53","v":-6.2893081761006232E-3},{"$f":"CORREL($B$1:B53,$O$1:O53)","v":{"$error":"#N/A"}},{"$f":"Sheet3!Y53","v":-3.2590140189332961E-3},{"$f":"CORREL($B$1:B53,$Q$1:Q53)","v":{"$error":"#N/A"}},{"$f":"Sheet3!AA53","v":6.5683156961892867E-3},{"$f":"CORREL($B$1:B53,$S$1:S53)","v":{"$error":"#N/A"}}]
[null,{"$f":"Sheet3!I54","v":{"$error":"#N/A"}},{"$f":"Sheet3!K54","v":-1.1163522012578741E-2},{"$f":"CORREL($B$1:B54,$C$1:C54)","v":{"$error":"#N/A"}},{"$f":"Sheet3!M54","v":1.3109596224436288E-3},{"$f":"CORREL($B$1:B54,$E$1:E54)","v":{"$error":"#N/A"}},{"$f":"Sheet3!O54","v":-5.7208237986277114E-4},{"$f":"CORREL($B$1:B54,$G$1:G54)","v":{"$error":"#N/A"}},{"$f":"Sheet3!Q54","v":6.2228729801809225E-3},{"$f":"CORREL($B$1:B54,$I$1:I54)","v":{"$error":"#N/A"}},{"$f":"Sheet3!S54","v":-1.6692749087114929E-3},{"$f":"CORREL($B$1:B54,$K$1:K54)","v":{"$error":"#N/A"}},{"$f":"Sheet3!U54","v":-1.2043833350563488E-2},{"$f":"CORREL($B$1:B54,$M$1:M54)","v":{"$error":"#N/A"}},{"$f":"Sheet3!W54","v":-7.2172388906071626E-3},{"$f":"CORREL($B$1:B54,$O$1:O54)","v":{"$error":"#N/A"}},{"$f":"Sheet3!Y54","v":-3.2072836376804332E-3},{"$f":"CORREL($B$1:B54,$Q$1:Q54)","v":{"$error":"#N/A"}},{"$f":"Sheet3!AA54","v":6.3597977375801432E-3},{"$f":"CORREL($B$1:B54,$S$1:S54)","v":{"$error":"#N/A"}}]
[null,{"$f":"Sheet3!I55","v":{"$error":"#N/A"}},{"$f":"Sheet3!K55","v":-1.1635220125786157E-2},{"$f":"CORREL($B$1:B55,$C$1:C55)","v":{"$error":"#N/A"}},{"$f":"Sheet3!M55","v":1.7829050865233531E-3},{"$f":"CORREL($B$1:B55,$E$1:E55)","v":{"$error":"#N/A"}},{"$f":"Sheet3!O55","v":-3.1724568337841356E-3},{"$f":"CORREL($B$1:B55,$G$1:G55)","v":{"$error":"#N/A"}},{"$f":"Sheet3!Q55","v":5.4907702766302958E-3},{"$f":"CORREL($B$1:B55,$I$1:I55)","v":{"$error":"#N/A"}},{"$f":"Sheet3!S55","v":-2.3995826812727157E-3},{"$f":"CORREL($B$1:B55,$K$1:K55)","v":{"$error":"#N/A"}},{"$f":"Sheet3!U55","v":-1.1682001447327712E-2},{"$f":"CORREL($B$1:B55,$M$1:M55)","v":{"$error":"#N/A"}},{"$f":"Sheet3!W55","v":-6.0831013506545953E-3},{"$f":"CORREL($B$1:B55,$O$1:O55)","v":{"$error":"#N/A"}},{"$f":"Sheet3!Y55","v":-2.4830583001396191E-3},{"$f":"CORREL($B$1:B55,$Q$1:Q55)","v":{"$error":"#N/A"}},{"$f":"Sheet3!AA55","v":5.6299848824479179E-3},{"$f":"CORREL($B$1:B55,$S$1:S55)","v":{"$error":"#N/A"}}]
[null,{"$f":"Sheet3!I56","v":{"$error":"#N/A"}},{"$f":"Sheet3!K56","v":-1.0901467505241154E-2},{"$f":"CORREL($B$1:B56,$C$1:C56)","v":{"$error":"#N/A"}},{"$f":"Sheet3!M56","v":1.7829050865233531E-3},{"$f":"CORREL($B$1:B56,$E$1:E56)","v":{"$error":"#N/A"}},{"$f":"Sheet3!O56","v":-5.304763885999637E-3},{"$f":"CORREL($B$1:B56,$G$1:G56)","v":{"$error":"#N/A"}},{"$f":"Sheet3!Q56","v":4.9678397740941125E-3},{"$f":"CORREL($B$1:B56,$I$1:I56)","v":{"$error":"#N/A"}},{"$f":"Sheet3!S56","v":-2.1909233176838159E-3},{"$f":"CORREL($B$1:B56,$K$1:K56)","v":{"$error":"#N/A"}},{"$f":"Sheet3!U56","v":-1.1423550087873503E-2},{"$f":"CORREL($B$1:B56,$M$1:M56)","v":{"$error":"#N/A"}},{"$f":"Sheet3!W56","v":-5.7222394061242667E-3},{"$f":"CORREL($B$1:B56,$O$1:O56)","v":{"$error":"#N/A"}},{"$f":"Sheet3!Y56","v":-2.79344058765709E-3},{"$f":"CORREL($B$1:B56,$Q$1:Q56)","v":{"$error":"#N/A"}},{"$f":"Sheet3!AA56","v":6.1512797789708504E-3},{"$f":"CORREL($B$1:B56,$S$1:S56)","v":{"$error":"#N/A"}}]
[null,{"$f":"Sheet3!I57","v":{"$error":"#N/A"}},{"$f":"Sheet3!K57","v":-9.7484276729560455E-3},{"$f":"CORREL($B$1:B57,$C$1:C57)","v":{"$error":"#N/A"}},{"$f":"Sheet3!M57","v":1.8877818563188971E-3},{"$f":"CORREL($B$1:B57,$E$1:E57)","v":{"$error":"#N/A"}},{"$f":"Sheet3!O57","v":-3.1204493447056082E-3},{"$f":"CORREL($B$1:B57,$G$1:G57)","v":{"$error":"#N/A"}},{"$f":"Sheet3!Q57","v":4.5494953720650764E-3},{"$f":"CORREL($B$1:B57,$I$1:I57)","v":{"$error":"#N/A"}},{"$f":"Sheet3!S57","v":-2.5039123630672395E-3},{"$f":"CORREL($B$1:B57,$K$1:K57)","v":{"$error":"#N/A"}},{"$f":"Sheet3!U57","v":-1.0441434921947742E-2},{"$f":"CORREL($B$1:B57,$M$1:M57)","v":{"$error":"#N/A"}},{"$f":"Sheet3!W57","v":-5.1551706361480567E-3},{"$f":"CORREL($B$1:B57,$O$1:O57)","v":{"$error":"#N/A"}},{"$f":"Sheet3!Y57","v":-1.9140241063576873E-3},{"$f":"CORREL($B$1:B57,$Q$1:Q57)","v":{"$error":"#N/A"}},{"$f":"Sheet3!AA57","v":6.4640567168846403E-3},{"$f":"CORREL($B$1:B57,$S$1:S57)","v":{"$error":"#N/A"}}]
[null,{"$f":"Sheet3!I58","v":{"$error":"#N/A"}},{"$f":"Sheet3!K58","v":-9.3815513626835448E-3},{"$f":"CORREL($B$1:B58,$C$1:C58)","v":{"$error":"#N/A"}},{"$f":"Sheet3!M58","v":1.6255899318301118E-3},{"$f":"CORREL($B$1:B58,$E$1:E58)","v":{"$error":"#N/A"}},{"$f":"Sheet3!O58","v":-4.3166215935095302E-3},{"$f":"CORREL($B$1:B58,$G$1:G58)","v":{"$error":"#N/A"}},{"$f":"Sheet3!Q58","v":3.8696857187680237E-3},{"$f":"CORREL($B$1:B58,$I$1:I58)","v":{"$error":"#N/A"}},{"$f":"Sheet3!S58","v":-1.6171100678143051E-3},{"$f":"CORREL($B$1:B58,$K$1:K58)","v":{"$error":"#N/A"}},{"$f":"Sheet3!U58","v":-1.0699886281401951E-2},{"$f":"CORREL($B$1:B58,$M$1:M58)","v":{"$error":"#N/A"}},{"$f":"Sheet3!W58","v":-5.0005155170636095E-3},{"$f":"CORREL($B$1:B58,$O$1:O58)","v":{"$error":"#N/A"}},{"$f":"Sheet3!Y58","v":-1.9657544876105501E-3},{"$f":"CORREL($B$1:B58,$Q$1:Q58)","v":{"$error":"#N/A"}},{"$f":"Sheet3!AA58","v":6.8289631444506792E-3},{"$f":"CORREL($B$1:B58,$S$1:S58)","v":{"$error":"#N/A"}}]
[null,{"$f":"Sheet3!I59","v":{"$error":"#N/A"}},{"$f":"Sheet3!K59","v":-7.6519916142558063E-3},{"$f":"CORREL($B$1:B59,$C$1:C59)","v":{"$error":"#N/A"}},{"$f":"Sheet3!M59","v":1.7829050865233531E-3},{"$f":"CORREL($B$1:B59,$E$1:E59)","v":{"$error":"#N/A"}},{"$f":"Sheet3!O59","v":-6.8649885583523676E-3},{"$f":"CORREL($B$1:B59,$G$1:G59)","v":{"$error":"#N/A"}},{"$f":"Sheet3!Q59","v":3.399048266485414E-3},{"$f":"CORREL($B$1:B59,$I$1:I59)","v":{"$error":"#N/A"}},{"$f":"Sheet3!S59","v":-1.1997913406363578E-3},{"$f":"CORREL($B$1:B59,$K$1:K59)","v":{"$error":"#N/A"}},{"$f":"Sheet3!U59","v":-1.1216789000310224E-2},{"$f":"CORREL($B$1:B59,$M$1:M59)","v":{"$error":"#N/A"}},{"$f":"Sheet3!W59","v":-5.0520672234250427E-3},{"$f":"CORREL($B$1:B59,$O$1:O59)","v":{"$error":"#N/A"}},{"$f":"Sheet3!Y59","v":-1.7071025813460892E-3},{"$f":"CORREL($B$1:B59,$Q$1:Q59)","v":{"$error":"#N/A"}},{"$f":"Sheet3!AA59","v":6.6204451858415357E-3},{"$f":"CORREL($B$1:B59,$S$1:S59)","v":{"$error":"#N/A"}}]
[null,{"$f":"Sheet3!I60","v":{"$error":"#N/A"}},{"$f":"Sheet3!K60","v":-7.4947589098532845E-3},{"$f":"CORREL($B$1:B60,$C$1:C60)","v":{"$error":"#N/A"}},{"$f":"Sheet3!M60","v":1.4158363922391727E-3},{"$f":"CORREL($B$1:B60,$E$1:E60)","v":{"$error":"#N/A"}},{"$f":"Sheet3!O60","v":-6.1368837112544565E-3},{"$f":"CORREL($B$1:B60,$G$1:G60)","v":{"$error":"#N/A"}},{"$f":"Sheet3!Q60","v":1.7256706583695682E-3},{"$f":"CORREL($B$1:B60,$I$1:I60)","v":{"$error":"#N/A"}},{"$f":"Sheet3!S60","v":-1.4606155451225933E-3},{"$f":"CORREL($B$1:B60,$K$1:K60)","v":{"$error":"#N/A"}},{"$f":"Sheet3!U60","v":-1.1940452806781776E-2},{"$f":"CORREL($B$1:B60,$M$1:M60)","v":{"$error":"#N/A"}},{"$f":"Sheet3!W60","v":-5.1036189297864768E-3},{"$f":"CORREL($B$1:B60,$O$1:O60)","v":{"$error":"#N/A"}},{"$f":"Sheet3!Y60","v":-9.311468625524123E-4},{"$f":"CORREL($B$1:B60,$Q$1:Q60)","v":{"$error":"#N/A"}},{"$f":"Sheet3!AA60","v":6.4640567168846403E-3},{"$f":"CORREL($B$1:B60,$S$1:S60)","v":{"$error":"#N/A"}}]
[null,{"$f":"Sheet3!I61","v":{"$error":"#N/A"}},{"$f":"Sheet3!K61","v":-7.180293501048241E-3},{"$f":"CORREL($B$1:B61,$C$1:C61)","v":{"$error":"#N/A"}},{"$f":"Sheet3!M61","v":1.1536444677503874E-3},{"$f":"CORREL($B$1:B61,$E$1:E61)","v":{"$error":"#N/A"}},{"$f":"Sheet3!O61","v":-7.1250260037445624E-3},{"$f":"CORREL($B$1:B61,$G$1:G61)","v":{"$error":"#N/A"}},{"$f":"Sheet3!Q61","v":6.2751660304347936E-4},{"$f":"CORREL($B$1:B61,$I$1:I61)","v":{"$error":"#N/A"}},{"$f":"Sheet3!S61","v":-1.7736045905058686E-3},{"$f":"CORREL($B$1:B61,$K$1:K61)","v":{"$error":"#N/A"}},{"$f":"Sheet3!U61","v":-1.132016954409179E-2},{"$f":"CORREL($B$1:B61,$M$1:M61)","v":{"$error":"#N/A"}},{"$f":"Sheet3!W61","v":-3.9694813898339103E-3},{"$f":"CORREL($B$1:B61,$O$1:O61)","v":{"$error":"#N/A"}},{"$f":"Sheet3!Y61","v":-5.1730381252906897E-4},{"$f":"CORREL($B$1:B61,$Q$1:Q61)","v":{"$error":"#N/A"}},{"$f":"Sheet3!AA61","v":6.0991502893186023E-3},{"$f":"CORREL($B$1:B61,$S$1:S61)","v":{"$error":"#N/A"}}]
[null,{"$f":"Sheet3!I62","v":{"$error":"#N/A"}},{"$f":"Sheet3!K62","v":-8.018867924528307E-3},{"$f":"CORREL($B$1:B62,$C$1:C62)","v":{"$error":"#N/A"}},{"$f":"Sheet3!M62","v":1.10120608285269E-3},{"$f":"CORREL($B$1:B62,$E$1:E62)","v":{"$error":"#N/A"}},{"$f":"Sheet3!O62","v":-5.7728312877055009E-3},{"$f":"CORREL($B$1:B62,$G$1:G62)","v":{"$error":"#N/A"}},{"$f":"Sheet3!Q62","v":1.5164984573551247E-3},{"$f":"CORREL($B$1:B62,$I$1:I62)","v":{"$error":"#N/A"}},{"$f":"Sheet3!S62","v":-1.9300991131975802E-3},{"$f":"CORREL($B$1:B62,$K$1:K62)","v":{"$error":"#N/A"}},{"$f":"Sheet3!U62","v":-1.08549570970743E-2},{"$f":"CORREL($B$1:B62,$M$1:M62)","v":{"$error":"#N/A"}},{"$f":"Sheet3!W62","v":-3.3508609134961197E-3},{"$f":"CORREL($B$1:B62,$O$1:O62)","v":{"$error":"#N/A"}},{"$f":"Sheet3!Y62","v":2.58651906264608E-4},{"$f":"CORREL($B$1:B62,$Q$1:Q62)","v":{"$error":"#N/A"}},{"$f":"Sheet3!AA62","v":5.7863733514048124E-3},{"$f":"CORREL($B$1:B62,$S$1:S62)","v":{"$error":"#N/A"}}]
[null,{"$f":"Sheet3!I63","v":{"$error":"#N/A"}},{"$f":"Sheet3!K63","v":-8.0712788259959135E-3},{"$f":"CORREL($B$1:B63,$C$1:C63)","v":{"$error":"#N/A"}},{"$f":"Sheet3!M63","v":1.10120608285269E-3},{"$f":"CORREL($B$1:B63,$E$1:E63)","v":{"$error":"#N/A"}},{"$f":"Sheet3!O63","v":-5.7728312877055009E-3},{"$f":"CORREL($B$1:B63,$G$1:G63)","v":{"$error":"#N/A"}},{"$f":"Sheet3!Q63","v":1.6210845578622721E-3},{"$f":"CORREL($B$1:B63,$I$1:I63)","v":{"$error":"#N/A"}},{"$f":"Sheet3!S63","v":-2.2430881585810037E-3},{"$f":"CORREL($B$1:B63,$K$1:K63)","v":{"$error":"#N/A"}},{"$f":"Sheet3!U63","v":-1.0338054378166029E-2},{"$f":"CORREL($B$1:B63,$M$1:M63)","v":{"$error":"#N/A"}},{"$f":"Sheet3!W63","v":-3.7632745643880285E-3},{"$f":"CORREL($B$1:B63,$O$1:O63)","v":{"$error":"#N/A"}},{"$f":"Sheet3!Y63","v":8.7941648129940251E-4},{"$f":"CORREL($B$1:B63,$Q$1:Q63)","v":{"$error":"#N/A"}},{"$f":"Sheet3!AA63","v":5.9427618203617069E-3},{"$f":"CORREL($B$1:B63,$S$1:S63)","v":{"$error":"#N/A"}}]
[null,{"$f":"Sheet3!I64","v":{"$error":"#N/A"}},{"$f":"Sheet3!K64","v":-8.8574423480083739E-3},{"$f":"CORREL($B$1:B64,$C$1:C64)","v":{"$error":"#N/A"}},{"$f":"Sheet3!M64","v":8.9145254326175106E-4},{"$f":"CORREL($B$1:B64,$E$1:E64)","v":{"$error":"#N/A"}},{"$f":"Sheet3!O64","v":-6.8129810692739877E-3},{"$f":"CORREL($B$1:B64,$G$1:G64)","v":{"$error":"#N/A"}},{"$f":"Sheet3!Q64","v":1.2027401558333849E-3},{"$f":"CORREL($B$1:B64,$I$1:I64)","v":{"$error":"#N/A"}},{"$f":"Sheet3!S64","v":-2.0344287949921043E-3},{"$f":"CORREL($B$1:B64,$K$1:K64)","v":{"$error":"#N/A"}},{"$f":"Sheet3!U64","v":-1.090664736896523E-2},{"$f":"CORREL($B$1:B64,$M$1:M64)","v":{"$error":"#N/A"}},{"$f":"Sheet3!W64","v":-2.8868955562429237E-3},{"$f":"CORREL($B$1:B64,$O$1:O64)","v":{"$error":"#N/A"}},{"$f":"Sheet3!Y64","v":5.6903419378193174E-4},{"$f":"CORREL($B$1:B64,$Q$1:Q64)","v":{"$error":"#N/A"}},{"$f":"Sheet3!AA64","v":6.4119272272323913E-3},{"$f":"CORREL($B$1:B64,$S$1:S64)","v":{"$error":"#N/A"}}]
[null,{"$f":"Sheet3!I65","v":{"$error":"#N/A"}},{"$f":"Sheet3!K65","v":-8.5429769392034796E-3},{"$f":"CORREL($B$1:B65,$C$1:C65)","v":{"$error":"#N/A"}},{"$f":"Sheet3!M65","v":4.7194546407972428E-4},{"$f":"CORREL($B$1:B65,$E$1:E65)","v":{"$error":"#N/A"}},{"$f":"Sheet3!O65","v":-5.7728312877055009E-3},{"$f":"CORREL($B$1:B65,$G$1:G65)","v":{"$error":"#N/A"}},{"$f":"Sheet3!Q65","v":1.5164984573551247E-3},{"$f":"CORREL($B$1:B65,$I$1:I65)","v":{"$error":"#N/A"}},{"$f":"Sheet3!S65","v":-2.4517475221700518E-3},{"$f":"CORREL($B$1:B65,$K$1:K65)","v":{"$error":"#N/A"}},{"$f":"Sheet3!U65","v":-1.0596505737620238E-2},{"$f":"CORREL($B$1:B65,$M$1:M65)","v":{"$error":"#N/A"}},{"$f":"Sheet3!W65","v":-3.1446540880502383E-3},{"$f":"CORREL($B$1:B65,$O$1:O65)","v":{"$error":"#N/A"}},{"$f":"Sheet3!Y65","v":4.1384305002319631E-4},{"$f":"CORREL($B$1:B65,$Q$1:Q65)","v":{"$error":"#N/A"}},{"$f":"Sheet3!AA65","v":7.4023875306260091E-3},{"$f":"CORREL($B$1:B65,$S$1:S65)","v":{"$error":"#N/A"}}]
[null,{"$f":"Sheet3!I66","v":{"$error":"#N/A"}},{"$f":"Sheet3!K66","v":-8.2285115303984361E-3},{"$f":"CORREL($B$1:B66,$C$1:C66)","v":{"$error":"#N/A"}},{"$f":"Sheet3!M66","v":-5.2438384897742169E-4},{"$f":"CORREL($B$1:B66,$E$1:E66)","v":{"$error":"#N/A"}},{"$f":"Sheet3!O66","v":-4.2126066153526228E-3},{"$f":"CORREL($B$1:B66,$G$1:G66)","v":{"$error":"#N/A"}},{"$f":"Sheet3!Q66","v":4.1834440202903579E-4},{"$f":"CORREL($B$1:B66,$I$1:I66)","v":{"$error":"#N/A"}},{"$f":"Sheet3!S66","v":-1.6692749087114929E-3},{"$f":"CORREL($B$1:B66,$K$1:K66)","v":{"$error":"#N/A"}},{"$f":"Sheet3!U66","v":-1.0699886281401951E-2},{"$f":"CORREL($B$1:B66,$M$1:M66)","v":{"$error":"#N/A"}},{"$f":"Sheet3!W66","v":-3.196205794411672E-3},{"$f":"CORREL($B$1:B66,$O$1:O66)","v":{"$error":"#N/A"}},{"$f":"Sheet3!Y66","v":6.724949562878043E-4},{"$f":"CORREL($B$1:B66,$Q$1:Q66)","v":{"$error":"#N/A"}},{"$f":"Sheet3!AA66","v":7.2981285513213636E-3},{"$f":"CORREL($B$1:B66,$S$1:S66)","v":{"$error":"#N/A"}}]
[null,{"$f":"Sheet3!I67","v":{"$error":"#N/A"}},{"$f":"Sheet3!K67","v":-9.3815513626835448E-3},{"$f":"CORREL($B$1:B67,$C$1:C67)","v":{"$error":"#N/A"}},{"$f":"Sheet3!M67","v":1.5731515469324142E-4},{"$f":"CORREL($B$1:B67,$E$1:E67)","v":{"$error":"#N/A"}},{"$f":"Sheet3!O67","v":-2.8084044102350326E-3},{"$f":"CORREL($B$1:B67,$G$1:G67)","v":{"$error":"#N/A"}},{"$f":"Sheet3!Q67","v":1.045861005072515E-3},{"$f":"CORREL($B$1:B67,$I$1:I67)","v":{"$error":"#N/A"}},{"$f":"Sheet3!S67","v":-1.4606155451225933E-3},{"$f":"CORREL($B$1:B67,$K$1:K67)","v":{"$error":"#N/A"}},{"$f":"Sheet3!U67","v":-1.0234673834384462E-2},{"$f":"CORREL($B$1:B67,$M$1:M67)","v":{"$error":"#N/A"}},{"$f":"Sheet3!W67","v":-3.1446540880502383E-3},{"$f":"CORREL($B$1:B67,$O$1:O67)","v":{"$error":"#N/A"}},{"$f":"Sheet3!Y67","v":5.6903419378193174E-4},{"$f":"CORREL($B$1:B67,$Q$1:Q67)","v":{"$error":"#N/A"}},{"$f":"Sheet3!AA67","v":6.5683156961892867E-3},{"$f":"CORREL($B$1:B67,$S$1:S67)","v":{"$error":"#N/A"}}]
[null,{"$f":"Sheet3!I68","v":{"$error":"#N/A"}},{"$f":"Sheet3!K68","v":-1.0010482180293632E-2},{"$f":"CORREL($B$1:B68,$C$1:C68)","v":{"$error":"#N/A"}},{"$f":"Sheet3!M68","v":4.1950707918202677E-4},{"$f":"CORREL($B$1:B68,$E$1:E68)","v":{"$error":"#N/A"}},{"$f":"Sheet3!O68","v":-2.9644268774703204E-3},{"$f":"CORREL($B$1:B68,$G$1:G68)","v":{"$error":"#N/A"}},{"$f":"Sheet3!Q68","v":1.3596193065942548E-3},{"$f":"CORREL($B$1:B68,$I$1:I68)","v":{"$error":"#N/A"}},{"$f":"Sheet3!S68","v":-1.9822639540949165E-3},{"$f":"CORREL($B$1:B68,$K$1:K68)","v":{"$error":"#N/A"}},{"$f":"Sheet3!U68","v":-1.0079603018711965E-2},{"$f":"CORREL($B$1:B68,$M$1:M68)","v":{"$error":"#N/A"}},{"$f":"Sheet3!W68","v":-4.1241365089183576E-3},{"$f":"CORREL($B$1:B68,$O$1:O68)","v":{"$error":"#N/A"}},{"$f":"Sheet3!Y68","v":0},{"$f":"CORREL($B$1:B68,$Q$1:Q68)","v":{"$error":"#N/A"}},{"$f":"Sheet3!AA68","v":6.9332221237553247E-3},{"$f":"CORREL($B$1:B68,$S$1:S68)","v":{"$error":"#N/A"}}]
[null,{"$f":"Sheet3!I69","v":{"$error":"#N/A"}},{"$f":"Sheet3!K69","v":-1.042976939203359E-2},{"$f":"CORREL($B$1:B69,$C$1:C69)","v":{"$error":"#N/A"}},{"$f":"Sheet3!M69","v":3.6706869428432932E-4},{"$f":"CORREL($B$1:B69,$E$1:E69)","v":{"$error":"#N/A"}},{"$f":"Sheet3!O69","v":-2.9124193883919404E-3},{"$f":"CORREL($B$1:B69,$G$1:G69)","v":{"$error":"#N/A"}},{"$f":"Sheet3!Q69","v":2.0917220101448817E-3},{"$f":"CORREL($B$1:B69,$I$1:I69)","v":{"$error":"#N/A"}},{"$f":"Sheet3!S69","v":-1.7736045905058686E-3},{"$f":"CORREL($B$1:B69,$K$1:K69)","v":{"$error":"#N/A"}},{"$f":"Sheet3!U69","v":-9.8728419311485405E-3},{"$f":"CORREL($B$1:B69,$M$1:M69)","v":{"$error":"#N/A"}},{"$f":"Sheet3!W69","v":-3.5570677389421476E-3},{"$f":"CORREL($B$1:B69,$O$1:O69)","v":{"$error":"#N/A"}},{"$f":"Sheet3!Y69","v":3.6211266877033354E-4},{"$f":"CORREL($B$1:B69,$Q$1:Q69)","v":{"$error":"#N/A"}},{"$f":"Sheet3!AA69","v":5.8906323307094579E-3},{"$f":"CORREL($B$1:B69,$S$1:S69)","v":{"$error":"#N/A"}}]
[null,{"$f":"Sheet3!I70","v":{"$error":"#N/A"}},{"$f":"Sheet3!K70","v":-1.063941299790357E-2},{"$f":"CORREL($B$1:B70,$C$1:C70)","v":{"$error":"#N/A"}},{"$f":"Sheet3!M70","v":3.6706869428432932E-4},{"$f":"CORREL($B$1:B70,$E$1:E70)","v":{"$error":"#N/A"}},{"$f":"Sheet3!O70","v":-2.8084044102350326E-3},{"$f":"CORREL($B$1:B70,$G$1:G70)","v":{"$error":"#N/A"}},{"$f":"Sheet3!Q70","v":2.4577733619201951E-3},{"$f":"CORREL($B$1:B70,$I$1:I70)","v":{"$error":"#N/A"}},{"$f":"Sheet3!S70","v":-2.086593635889292E-3},{"$f":"CORREL($B$1:B70,$K$1:K70)","v":{"$error":"#N/A"}},{"$f":"Sheet3!U70","v":-1.0182983562493532E-2},{"$f":"CORREL($B$1:B70,$M$1:M70)","v":{"$error":"#N/A"}},{"$f":"Sheet3!W70","v":-3.1446540880502383E-3},{"$f":"CORREL($B$1:B70,$O$1:O70)","v":{"$error":"#N/A"}},{"$f":"Sheet3!Y70","v":5.1730381252906897E-4},{"$f":"CORREL($B$1:B70,$Q$1:Q70)","v":{"$error":"#N/A"}},{"$f":"Sheet3!AA70","v":6.2034092686232478E-3},{"$f":"CORREL($B$1:B70,$S$1:S70)","v":{"$error":"#N/A"}}]
[null,{"$f":"Sheet3!I71","v":{"$error":"#N/A"}},{"$f":"Sheet3!K71","v":-9.8008385744235028E-3},{"$f":"CORREL($B$1:B71,$C$1:C71)","v":{"$error":"#N/A"}},{"$f":"Sheet3!M71","v":7.3413738856850967E-4},{"$f":"CORREL($B$1:B71,$E$1:E71)","v":{"$error":"#N/A"}},{"$f":"Sheet3!O71","v":-3.692531724568379E-3},{"$f":"CORREL($B$1:B71,$G$1:G71)","v":{"$error":"#N/A"}},{"$f":"Sheet3!Q71","v":2.9807038644565267E-3},{"$f":"CORREL($B$1:B71,$I$1:I71)","v":{"$error":"#N/A"}},{"$f":"Sheet3!S71","v":-1.6171100678143051E-3},{"$f":"CORREL($B$1:B71,$K$1:K71)","v":{"$error":"#N/A"}},{"$f":"Sheet3!U71","v":-9.4593197560219801E-3},{"$f":"CORREL($B$1:B71,$M$1:M71)","v":{"$error":"#N/A"}},{"$f":"Sheet3!W71","v":-2.629137024435462E-3},{"$f":"CORREL($B$1:B71,$O$1:O71)","v":{"$error":"#N/A"}},{"$f":"Sheet3!Y71","v":4.1384305002319631E-4},{"$f":"CORREL($B$1:B71,$Q$1:Q71)","v":{"$error":"#N/A"}},{"$f":"Sheet3!AA71","v":5.5257259031432715E-3},{"$f":"CORREL($B$1:B71,$S$1:S71)","v":{"$error":"#N/A"}}]
[null,{"$f":"Sheet3!I72","v":{"$error":"#N/A"}},{"$f":"Sheet3!K72","v":-9.6436058700209819E-3},{"$f":"CORREL($B$1:B72,$C$1:C72)","v":{"$error":"#N/A"}},{"$f":"Sheet3!M72","v":1.0487676979549926E-3},{"$f":"CORREL($B$1:B72,$E$1:E72)","v":{"$error":"#N/A"}},{"$f":"Sheet3!O72","v":-6.0328687330975482E-3},{"$f":"CORREL($B$1:B72,$G$1:G72)","v":{"$error":"#N/A"}},{"$f":"Sheet3!Q72","v":2.8761177639492308E-3},{"$f":"CORREL($B$1:B72,$I$1:I72)","v":{"$error":"#N/A"}},{"$f":"Sheet3!S72","v":-1.3041210224308817E-3},{"$f":"CORREL($B$1:B72,$K$1:K72)","v":{"$error":"#N/A"}},{"$f":"Sheet3!U72","v":-9.8728419311485405E-3},{"$f":"CORREL($B$1:B72,$M$1:M72)","v":{"$error":"#N/A"}},{"$f":"Sheet3!W72","v":-1.5981028972059093E-3},{"$f":"CORREL($B$1:B72,$O$1:O72)","v":{"$error":"#N/A"}},{"$f":"Sheet3!Y72","v":3.6211266877033354E-4},{"$f":"CORREL($B$1:B72,$Q$1:Q72)","v":{"$error":"#N/A"}},{"$f":"Sheet3!AA72","v":6.5683156961892867E-3},{"$f":"CORREL($B$1:B72,$S$1:S72)","v":{"$error":"#N/A"}}]
[null,{"$f":"Sheet3!I73","v":{"$error":"#N/A"}},{"$f":"Sheet3!K73","v":-9.3291404612159384E-3},{"$f":"CORREL($B$1:B73,$C$1:C73)","v":{"$error":"#N/A"}},{"$f":"Sheet3!M73","v":1.2060828526482339E-3},{"$f":"CORREL($B$1:B73,$E$1:E73)","v":{"$error":"#N/A"}},{"$f":"Sheet3!O73","v":-5.9288537549407883E-3},{"$f":"CORREL($B$1:B73,$G$1:G73)","v":{"$error":"#N/A"}},{"$f":"Sheet3!Q73","v":2.7715316634419345E-3},{"$f":"CORREL($B$1:B73,$I$1:I73)","v":{"$error":"#N/A"}},{"$f":"Sheet3!S73","v":-1.3041210224308817E-3},{"$f":"CORREL($B$1:B73,$K$1:K73)","v":{"$error":"#N/A"}},{"$f":"Sheet3!U73","v":-1.013129329060275E-2},{"$f":"CORREL($B$1:B73,$M$1:M73)","v":{"$error":"#N/A"}},{"$f":"Sheet3!W73","v":-7.7327559542209132E-4},{"$f":"CORREL($B$1:B73,$O$1:O73)","v":{"$error":"#N/A"}},{"$f":"Sheet3!Y73","v":1.5519114375873538E-4},{"$f":"CORREL($B$1:B73,$Q$1:Q73)","v":{"$error":"#N/A"}},{"$f":"Sheet3!AA73","v":6.5161862065370377E-3},{"$f":"CORREL($B$1:B73,$S$1:S73)","v":{"$error":"#N/A"}}]
[null,{"$f":"Sheet3!I74","v":{"$error":"#N/A"}},{"$f":"Sheet3!K74","v":-1.137316561844872E-2},{"$f":"CORREL($B$1:B74,$C$1:C74)","v":{"$error":"#N/A"}},{"$f":"Sheet3!M74","v":1.1536444677503874E-3},{"$f":"CORREL($B$1:B74,$E$1:E74)","v":{"$error":"#N/A"}},{"$f":"Sheet3!O74","v":-6.552943623881792E-3},{"$f":"CORREL($B$1:B74,$G$1:G74)","v":{"$error":"#N/A"}},{"$f":"Sheet3!Q74","v":2.9284108142028044E-3},{"$f":"CORREL($B$1:B74,$I$1:I74)","v":{"$error":"#N/A"}},{"$f":"Sheet3!S74","v":-1.9822639540949165E-3},{"$f":"CORREL($B$1:B74,$K$1:K74)","v":{"$error":"#N/A"}},{"$f":"Sheet3!U74","v":-9.7177711154760437E-3},{"$f":"CORREL($B$1:B74,$M$1:M74)","v":{"$error":"#N/A"}},{"$f":"Sheet3!W74","v":-8.7637900814510519E-4},{"$f":"CORREL($B$1:B74,$O$1:O74)","v":{"$error":"#N/A"}},{"$f":"Sheet3!Y74","v":1.034607625058726E-4},{"$f":"CORREL($B$1:B74,$Q$1:Q74)","v":{"$error":"#N/A"}},{"$f":"Sheet3!AA74","v":7.4023875306260091E-3},{"$f":"CORREL($B$1:B74,$S$1:S74)","v":{"$error":"#N/A"}}]
[null,{"$f":"Sheet3!I75","v":{"$error":"#N/A"}},{"$f":"Sheet3!K75","v":-1.0796645702306091E-2},{"$f":"CORREL($B$1:B75,$C$1:C75)","v":{"$error":"#N/A"}},{"$f":"Sheet3!M75","v":2.1499737808076823E-3},{"$f":"CORREL($B$1:B75,$E$1:E75)","v":{"$error":"#N/A"}},{"$f":"Sheet3!O75","v":-5.5648013313916852E-3},{"$f":"CORREL($B$1:B75,$G$1:G75)","v":{"$error":"#N/A"}},{"$f":"Sheet3!Q75","v":2.2486011609057512E-3},{"$f":"CORREL($B$1:B75,$I$1:I75)","v":{"$error":"#N/A"}},{"$f":"Sheet3!S75","v":-2.5560772039644273E-3},{"$f":"CORREL($B$1:B75,$K$1:K75)","v":{"$error":"#N/A"}},{"$f":"Sheet3!U75","v":-9.8211516592577562E-3},{"$f":"CORREL($B$1:B75,$M$1:M75)","v":{"$error":"#N/A"}},{"$f":"Sheet3!W75","v":-2.0620682544591055E-3},{"$f":"CORREL($B$1:B75,$O$1:O75)","v":{"$error":"#N/A"}},{"$f":"Sheet3!Y75","v":3.6211266877033354E-4},{"$f":"CORREL($B$1:B75,$Q$1:Q75)","v":{"$error":"#N/A"}},{"$f":"Sheet3!AA75","v":7.4023875306260091E-3},{"$f":"CORREL($B$1:B75,$S$1:S75)","v":{"$error":"#N/A"}}]
[null,{"$f":"Sheet3!I76","v":{"$error":"#N/A"}},{"$f":"Sheet3!K76","v":-1.1425576519916178E-2},{"$f":"CORREL($B$1:B76,$C$1:C76)","v":{"$error":"#N/A"}},{"$f":"Sheet3!M76","v":1.3633980073414753E-3},{"$f":"CORREL($B$1:B76,$E$1:E76)","v":{"$error":"#N/A"}},{"$f":"Sheet3!O76","v":-7.1250260037445624E-3},{"$f":"CORREL($B$1:B76,$G$1:G76)","v":{"$error":"#N/A"}},{"$f":"Sheet3!Q76","v":2.8238247136956572E-3},{"$f":"CORREL($B$1:B76,$I$1:I76)","v":{"$error":"#N/A"}},{"$f":"Sheet3!S76","v":-1.7736045905058686E-3},{"$f":"CORREL($B$1:B76,$K$1:K76)","v":{"$error":"#N/A"}},{"$f":"Sheet3!U76","v":-9.5627002998035469E-3},{"$f":"CORREL($B$1:B76,$M$1:M76)","v":{"$error":"#N/A"}},{"$f":"Sheet3!W76","v":-3.660171151665015E-3},{"$f":"CORREL($B$1:B76,$O$1:O76)","v":{"$error":"#N/A"}},{"$f":"Sheet3!Y76","v":7.7595571879367686E-4},{"$f":"CORREL($B$1:B76,$Q$1:Q76)","v":{"$error":"#N/A"}},{"$f":"Sheet3!AA76","v":9.0184017098472059E-3},{"$f":"CORREL($B$1:B76,$S$1:S76)","v":{"$error":"#N/A"}}]
[null,{"$f":"Sheet3!I77","v":{"$error":"#N/A"}},{"$f":"Sheet3!K77","v":-1.1320754716981263E-2},{"$f":"CORREL($B$1:B77,$C$1:C77)","v":{"$error":"#N/A"}},{"$f":"Sheet3!M77","v":-7.3413738856836059E-4},{"$f":"CORREL($B$1:B77,$E$1:E77)","v":{"$error":"#N/A"}},{"$f":"Sheet3!O77","v":-8.8932806324111078E-3},{"$f":"CORREL($B$1:B77,$G$1:G77)","v":{"$error":"#N/A"}},{"$f":"Sheet3!Q77","v":4.1834440202897635E-3},{"$f":"CORREL($B$1:B77,$I$1:I77)","v":{"$error":"#N/A"}},{"$f":"Sheet3!S77","v":-2.8690662493478505E-3},{"$f":"CORREL($B$1:B77,$K$1:K77)","v":{"$error":"#N/A"}},{"$f":"Sheet3!U77","v":-7.9086115992970177E-3},{"$f":"CORREL($B$1:B77,$M$1:M77)","v":{"$error":"#N/A"}},{"$f":"Sheet3!W77","v":-2.3198267862665671E-3},{"$f":"CORREL($B$1:B77,$O$1:O77)","v":{"$error":"#N/A"}},{"$f":"Sheet3!Y77","v":3.1038228751745604E-3},{"$f":"CORREL($B$1:B77,$Q$1:Q77)","v":{"$error":"#N/A"}},{"$f":"Sheet3!AA77","v":8.1322003857580861E-3},{"$f":"CORREL($B$1:B77,$S$1:S77)","v":{"$error":"#N/A"}}]
[null,{"$f":"Sheet3!I78","v":{"$error":"#N/A"}},{"$f":"Sheet3!K78","v":-1.0272536687631069E-2},{"$f":"CORREL($B$1:B78,$C$1:C78)","v":{"$error":"#N/A"}},{"$f":"Sheet3!M78","v":5.2438384897757076E-4},{"$f":"CORREL($B$1:B78,$E$1:E78)","v":{"$error":"#N/A"}},{"$f":"Sheet3!O78","v":-8.2171832743915766E-3},{"$f":"CORREL($B$1:B78,$G$1:G78)","v":{"$error":"#N/A"}},{"$f":"Sheet3!Q78","v":5.4907702766302958E-3},{"$f":"CORREL($B$1:B78,$I$1:I78)","v":{"$error":"#N/A"}},{"$f":"Sheet3!S78","v":-2.4517475221700518E-3},{"$f":"CORREL($B$1:B78,$K$1:K78)","v":{"$error":"#N/A"}},{"$f":"Sheet3!U78","v":-9.0974878527862058E-3},{"$f":"CORREL($B$1:B78,$M$1:M78)","v":{"$error":"#N/A"}},{"$f":"Sheet3!W78","v":-2.6806887307968957E-3},{"$f":"CORREL($B$1:B78,$O$1:O78)","v":{"$error":"#N/A"}},{"$f":"Sheet3!Y78","v":3.4659355439448942E-3},{"$f":"CORREL($B$1:B78,$Q$1:Q78)","v":{"$error":"#N/A"}},{"$f":"Sheet3!AA78","v":7.715164468539799E-3},{"$f":"CORREL($B$1:B78,$S$1:S78)","v":{"$error":"#N/A"}}]
[null,{"$f":"Sheet3!I79","v":{"$error":"#N/A"}},{"$f":"Sheet3!K79","v":{"$error":"#N/A"}},{"$f":"CORREL($B$1:B79,$C$1:C79)","v":{"$error":"#N/A"}},{"$f":"Sheet3!M79","v":{"$error":"#N/A"}},{"$f":"CORREL($B$1:B79,$E$1:E79)","v":{"$error":"#N/A"}},{"$f":"Sheet3!O79","v":{"$error":"#N/A"}},{"$f":"CORREL($B$1:B79,$G$1:G79)","v":{"$error":"#N/A"}},{"$f":"Sheet3!Q79","v":{"$error":"#N/A"}},{"$f":"CORREL($B$1:B79,$I$1:I79)","v":{"$error":"#N/A"}},{"$f":"Sheet3!S79","v":{"$error":"#N/A"}},{"$f":"CORREL($B$1:B79,$K$1:K79)","v":{"$error":"#N/A"}},{"$f":"Sheet3!U79","v":{"$error":"#N/A"}},{"$f":"CORREL($B$1:B79,$M$1:M79)","v":{"$error":"#N/A"}},{"$f":"Sheet3!W79","v":{"$error":"#N/A"}},{"$f":"CORREL($B$1:B79,$O$1:O79)","v":{"$error":"#N/A"}},{"$f":"Sheet3!Y79","v":{"$error":"#N/A"}},{"$f":"CORREL($B$1:B79,$Q$1:Q79)","v":{"$error":"#N/A"}},{"$f":"Sheet3!AA79","v":{"$error":"#N/A"}},{"$f":"CORREL($B$1:B79,$S$1:S79)","v":{"$error":"#N/A"}}]
[null,{"$f":"Sheet3!I80","v":{"$error":"#N/A"}},{"$f":"Sheet3!K80","v":{"$error":"#N/A"}},{"$f":"CORREL($B$1:B80,$C$1:C80)","v":{"$error":"#N/A"}},{"$f":"Sheet3!M80","v":{"$error":"#N/A"}},{"$f":"CORREL($B$1:B80,$E$1:E80)","v":{"$error":"#N/A"}},{"$f":"Sheet3!O80","v":{"$error":"#N/A"}},{"$f":"CORREL($B$1:B80,$G$1:G80)","v":{"$error":"#N/A"}},{"$f":"Sheet3!Q80","v":{"$error":"#N/A"}},{"$f":"CORREL($B$1:B80,$I$1:I80)","v":{"$error":"#N/A"}},{"$f":"Sheet3!S80","v":{"$error":"#N/A"}},{"$f":"CORREL($B$1:B80,$K$1:K80)","v":{"$error":"#N/A"}},{"$f":"Sheet3!U80","v":{"$error":"#N/A"}},{"$f":"CORREL($B$1:B80,$M$1:M80)","v":{"$error":"#N/A"}},{"$f":"Sheet3!W80","v":{"$error":"#N/A"}},{"$f":"CORREL($B$1:B80,$O$1:O80)","v":{"$error":"#N/A"}},{"$f":"Sheet3!Y80","v":{"$error":"#N/A"}},{"$f":"CORREL($B$1:B80,$Q$1:Q80)","v":{"$error":"#N/A"}},{"$f":"Sheet3!AA80","v":{"$error":"#N/A"}},{"$f":"CORREL($B$1:B80,$S$1:S80)","v":{"$error":"#N/A"}}]
[null,{"$f":"Sheet3!I81","v":{"$error":"#N/A"}},{"$f":"Sheet3!K81","v":{"$error":"#N/A"}},{"$f":"CORREL($B$1:B81,$C$1:C81)","v":{"$error":"#N/A"}},{"$f":"Sheet3!M81","v":{"$error":"#N/A"}},{"$f":"CORREL($B$1:B81,$E$1:E81)","v":{"$error":"#N/A"}},{"$f":"Sheet3!O81","v":{"$error":"#N/A"}},{"$f":"CORREL($B$1:B81,$G$1:G81)","v":{"$error":"#N/A"}},{"$f":"Sheet3!Q81","v":{"$error":"#N/A"}},{"$f":"CORREL($B$1:B81,$I$1:I81)","v":{"$error":"#N/A"}},{"$f":"Sheet3!S81","v":{"$error":"#N/A"}},{"$f":"CORREL($B$1:B81,$K$1:K81)","v":{"$error":"#N/A"}},{"$f":"Sheet3!U81","v":{"$error":"#N/A"}},{"$f":"CORREL($B$1:B81,$M$1:M81)","v":{"$error":"#N/A"}},{"$f":"Sheet3!W81","v":{"$error":"#N/A"}},{"$f":"CORREL($B$1:B81,$O$1:O81)","v":{"$error":"#N/A"}},{"$f":"Sheet3!Y81","v":{"$error":"#N/A"}},{"$f":"CORREL($B$1:B81,$Q$1:Q81)","v":{"$error":"#N/A"}},{"$f":"Sheet3!AA81","v":{"$error":"#N/A"}},{"$f":"CORREL($B$1:B81,$S$1:S81)","v":{"$error":"#N/A"}}]
[null,null,null,{"$f":"Sheet3!C2","v":"2018-06-15"},null,{"$f":"Sheet3!C3","v":"2018-06-14"},null,{"$f":"Sheet3!C4","v":"2018-06-13"},null,{"$f":"Sheet3!C5","v":"2018-06-12"},null,{"$f":"Sheet3!C6","v":"2018-06-11"},null,{"$f":"Sheet3!C7","v":"2018-06-08"},null,{"$f":"Sheet3!C8","v":"2018-06-07"},null,{"$f":"Sheet3!C9","v":"2018-06-06"},null,{"$f":"Sheet3!C10","v":"2018-06-05"}]
[null,null,null,{"$f":"LOOKUP(2,1/(ISNUMBER(D1:D81)),D1:D81)","v":-0.97778698435345524},null,{"$f":"LOOKUP(2,1/(ISNUMBER(F1:F81)),F1:F81)","v":-0.95842615326962666},null,{"$f":"LOOKUP(2,1/(ISNUMBER(H1:H81)),H1:H81)","v":-0.89963283427627316},null,{"$f":"LOOKUP(2,1/(ISNUMBER(J1:J81)),J1:J81)","v":-0.23212021384546727},null,{"$f":"LOOKUP(2,1/(ISNUMBER(L1:L81)),L1:L81)","v":-0.95843185071715564},null,{"$f":"LOOKUP(2,1/(ISNUMBER(N1:N81)),N1:N81)","v":-0.97005011170739042},null,{"$f":"LOOKUP(2,1/(ISNUMBER(P1:P81)),P1:P81)","v":0.98974331861078502},null,{"$f":"LOOKUP(2,1/(ISNUMBER(R1:R81)),R1:R81)","v":-0.99044804197587033},null,{"$f":"LOOKUP(2,1/(ISNUMBER(T1:T81)),T1:T81)","v":-0.98624138261244876}]
[]
[null,null,{"$f":"RANK(D85,$D$85:$D$93,0)+COUNTIF($D$85:D85,D85)-1","v":7},{"$f":"D83","v":-0.97778698435345524},{"$f":"D82","v":"2018-06-15"},{"$f":"RANK(D85,$D$85:$D$93,0)+COUNTIF($D$85:D85,D85)-1","v":7},{"$f":"VLOOKUP(1,C85:E93,3,FALSE)","v":"2018-06-07"},{"$f":"VLOOKUP(1,C85:E93,2,FALSE)","v":0.98974331861078502},{"$f":"IFERROR(VLOOKUP(G85,Sheet3!AK1:AN10,4,FALSE),1)","v":7}]
[null,null,{"$f":"RANK(D86,$D$85:$D$93,0)+COUNTIF($D$85:D86,D86)-1","v":4},{"$f":"F83","v":-0.95842615326962666},{"$f":"F82","v":"2018-06-14"},{"$f":"RANK(D86,$D$85:$D$93,0)+COUNTIF($D$85:D86,D86)-1","v":4},{"$f":"VLOOKUP(2,C85:E93,3,FALSE)","v":"2018-06-12"},{"$f":"VLOOKUP(2,C85:E93,2,FALSE)","v":-0.23212021384546727}]
[null,null,{"$f":"RANK(D87,$D$85:$D$93,0)+COUNTIF($D$85:D87,D87)-1","v":3},{"$f":"H83","v":-0.89963283427627316},{"$f":"H82","v":"2018-06-13"},{"$f":"RANK(D87,$D$85:$D$93,0)+COUNTIF($D$85:D87,D87)-1","v":3},{"$f":"VLOOKUP(3,C85:E93,3,FALSE)","v":"2018-06-13"},{"$f":"VLOOKUP(3,C85:E93,2,FALSE)","v":-0.89963283427627316}]
[null,null,{"$f":"RANK(D88,$D$85:$D$93,0)+COUNTIF($D$85:D88,D88)-1","v":2},{"$f":"J83","v":-0.23212021384546727},{"$f":"J82","v":"2018-06-12"},{"$f":"RANK(D88,$D$85:$D$93,0)+COUNTIF($D$85:D88,D88)-1","v":2},{"$f":"VLOOKUP(4,C85:E93,3,FALSE)","v":"2018-06-14"},{"$f":"VLOOKUP(4,C85:E93,2,FALSE)","v":-0.95842615326962666}]
[null,null,{"$f":"RANK(D89,$D$85:$D$93,0)+COUNTIF($D$85:D89,D89)-1","v":5},{"$f":"L83","v":-0.95843185071715564},{"$f":"L82","v":"2018-06-11"},{"$f":"RANK(D89,$D$85:$D$93,0)+COUNTIF($D$85:D89,D89)-1","v":5},{"$f":"VLOOKUP(5,C85:E93,3,FALSE)","v":"2018-06-11"},{"$f":"VLOOKUP(5,C85:E93,2,FALSE)","v":-0.95843185071715564}]
[null,null,{"$f":"RANK(D90,$D$85:$D$93,0)+COUNTIF($D$85:D90,D90)-1","v":6},{"$f":"N83","v":-0.97005011170739042},{"$f":"N82","v":"2018-06-08"},{"$f":"RANK(D90,$D$85:$D$93,0)+COUNTIF($D$85:D90,D90)-1","v":6},{"$f":"VLOOKUP(6,C85:E93,3,FALSE)","v":"2018-06-08"},{"$f":"VLOOKUP(6,C85:E93,2,FALSE)","v":-0.97005011170739042}]
[null,null,{"$f":"RANK(D91,$D$85:$D$93,0)+COUNTIF($D$85:D91,D91)-1","v":1},{"$f":"P83","v":0.98974331861078502},{"$f":"P82","v":"2018-06-07"},{"$f":"RANK(D91,$D$85:$D$93,0)+COUNTIF($D$85:D91,D91)-1","v":1},{"$f":"VLOOKUP(7,C85:E93,3,FALSE)","v":"2018-06-15"},{"$f":"VLOOKUP(7,C85:E93,2,FALSE)","v":-0.97778698435345524}]
[null,null,{"$f":"RANK(D92,$D$85:$D$93,0)+COUNTIF($D$85:D92,D92)-1","v":9},{"$f":"R83","v":-0.99044804197587033},{"$f":"R82","v":"2018-06-06"},{"$f":"RANK(D92,$D$85:$D$93,0)+COUNTIF($D$85:D92,D92)-1","v":9},{"$f":"VLOOKUP(8,C85:E93,3,FALSE)","v":"2018-06-05"},{"$f":"VLOOKUP(8,C85:E93,2,FALSE)","v":-0.98624138261244876}]
[null,null,{"$f":"RANK(D93,$D$85:$D$93,0)+COUNTIF($D$85:D93,D93)-1","v":8},{"$f":"T83","v":-0.98624138261244876},{"$f":"T82","v":"2018-06-05"},{"$f":"RANK(D93,$D$85:$D$93,0)+COUNTIF($D$85:D93,D93)-1","v":8},{"$f":"VLOOKUP(9,C85:E93,3,FALSE)","v":"2018-06-06"},{"$f":"VLOOKUP(9,C85:E93,2,FALSE)","v":-0.99044804197587033}]

{"sheet":"Sheet3 (2)","index":3,"n_rows":81,"n_cols":40,"rows_kept":81,"cut":false,"hidden":true,"merged":[]}
[0,"08:30:00",{"$f":"IF(WEEKDAY(TODAY())=7,TODAY()-1,IF(WEEKDAY(TODAY())=1,TODAY()-2,TODAY()))","v":"2018-06-18"},{"$f":"YEAR(C1)","v":2018},{"$f":"MONTH(C1)","v":6},{"$f":"DAY(C1)","v":18},null,{"$f":"RTD(\"cqg.rtd\",,\"StudyData\", \"Close(\"&$D$12&\") when LocalYear(\"&$D$12&\")=\"&$D$1&\" and localMonth(\"&$D$12&\") =\"&$E$1&\" and LocalDay(\"&$D$12&\")=\"&$F$1&\" and Barix(\"&$D$12&\",reference:=StartOfSession)=\"&A1&\"\", \"Bar\", \"\", \"Close\",\"5\",\"0\",\"PrimaryOnly\",,,\"False\",\"T\",\"EveryTick\")","v":1707.85},{"$f":"IFERROR((H1-$G$2)/$G$2,NA())","v":-4.7320174595127645E-3},{"$f":"RTD(\"cqg.rtd\",,\"StudyData\", \"Close(\"&$D$12&\") when LocalYear(\"&$D$12&\")=\"&$D$2&\" and localMonth(\"&$D$12&\") =\"&$E$2&\" and LocalDay(\"&$D$12&\")=\"&$F$2&\" and Barix(\"&$D$12&\",reference:=StartOfSession)=\"&A1&\"\", \"Bar\", \"\", \"Close\",\"5\",\"0\",\"PrimaryOnly\",,,\"False\",\"T\",\"EveryTick\")","v":1713.31},{"$f":"IFERROR((J1-$G$3)/$G$3,NA())","v":-6.1199865418305171E-3},{"$f":"RTD(\"cqg.rtd\",,\"StudyData\", \"Close(\"&$D$12&\") when LocalYear(\"&$D$12&\")=\"&$D$3&\" and localMonth(\"&$D$12&\") =\"&$E$3&\" and LocalDay(\"&$D$12&\")=\"&$F$3&\" and Barix(\"&$D$12&\",reference:=StartOfSession)=\"&A1&\"\", \"Bar\", \"\", \"Close\",\"5\",\"0\",\"PrimaryOnly\",,,\"False\",\"T\",\"EveryTick\")","v":1716.83},{"$f":"IFERROR((L1-$G$4)/$G$4,NA())","v":7.0211043722065323E-3},{"$f":"RTD(\"cqg.rtd\",,\"StudyData\", \"Close(\"&$D$12&\") when LocalYear(\"&$D$12&\")=\"&$D$4&\" and localMonth(\"&$D$12&\") =\"&$E$4&\" and LocalDay(\"&$D$12&\")=\"&$F$4&\" and Barix(\"&$D$12&\",reference:=StartOfSession)=\"&A1&\"\", \"Bar\", \"\", \"Close\",\"5\",\"0\",\"PrimaryOnly\",,,\"False\",\"T\",\"EveryTick\")","v":1707.64},{"$f":"IFERROR((N1-$G$5)/$G$5,NA())","v":5.2332597498161004E-3},{"$f":"RTD(\"cqg.rtd\",,\"StudyData\", \"Close(\"&$D$12&\") when LocalYear(\"&$D$12&\")=\"&$D$5&\" and localMonth(\"&$D$12&\") =\"&$E$5&\" and LocalDay(\"&$D$12&\")=\"&$F$5&\" and Barix(\"&$D$12&\",reference:=StartOfSession)=\"&A1&\"\", \"Bar\", \"\", \"Close\",\"5\",\"0\",\"PrimaryOnly\",,,\"False\",\"T\",\"EveryTick\")","v":1697.58},{"$f":"IFERROR((P1-$G$6)/$G$6,NA())","v":5.0085251491901331E-3},{"$f":"RTD(\"cqg.rtd\",,\"StudyData\", \"Close(\"&$D$12&\") when LocalYear(\"&$D$12&\")=\"&$D$6&\" and localMonth(\"&$D$12&\") =\"&$E$6&\" and LocalDay(\"&$D$12&\")=\"&$F$6&\" and Barix(\"&$D$12&\",reference:=StartOfSession)=\"&A1&\"\", \"Bar\", \"\", \"Close\",\"5\",\"0\",\"PrimaryOnly\",,,\"False\",\"T\",\"EveryTick\")","v":1689.16},{"$f":"IFERROR((R1-$G$7)/$G$7,NA())","v":3.0700894898426194E-3},{"$f":"RTD(\"cqg.rtd\",,\"StudyData\", \"Close(\"&$D$12&\") when LocalYear(\"&$D$12&\")=\"&$D$7&\" and localMonth(\"&$D$12&\") =\"&$E$7&\" and LocalDay(\"&$D$12&\")=\"&$F$7&\" and Barix(\"&$D$12&\",reference:=StartOfSession)=\"&A1&\"\", \"Bar\", \"\", \"Close\",\"5\",\"0\",\"PrimaryOnly\",,,\"False\",\"T\",\"EveryTick\")","v":1675.22},{"$f":"IFERROR((T1-$G$8)/$G$8,NA())","v":-8.3348132362516588E-3},{"$f":"RTD(\"cqg.rtd\",,\"StudyData\", \"Close(\"&$D$12&\") when LocalYear(\"&$D$12&\")=\"&$D$8&\" and localMonth(\"&$D$12&\") =\"&$E$8&\" and LocalDay(\"&$D$12&\")=\"&$F$8&\" and Barix(\"&$D$12&\",reference:=StartOfSession)=\"&A1&\"\", \"Bar\", \"\", \"Close\",\"5\",\"0\",\"PrimaryOnly\",,,\"False\",\"T\",\"EveryTick\")","v":1692.76},{"$f":"IFERROR((V1-$G$9)/$G$9,NA())","v":-1.7632316084328521E-3},{"$f":"RTD(\"cqg.rtd\",,\"StudyData\", \"Close(\"&$D$12&\") when LocalYear(\"&$D$12&\")=\"&$D$9&\" and localMonth(\"&$D$12&\") =\"&$E$9&\" and LocalDay(\"&$D$12&\")=\"&$F$9&\" and Barix(\"&$D$12&\",reference:=StartOfSession)=\"&A1&\"\", \"Bar\", \"\", \"Close\",\"5\",\"0\",\"PrimaryOnly\",,,\"False\",\"T\",\"EveryTick\")","v":1709.7},{"$f":"IFERROR((X1-$G$10)/$G$10,NA())","v":7.8698381819790348E-3},{"$f":"RTD(\"cqg.rtd\",,\"StudyData\", \"Close(\"&$D$12&\") when LocalYear(\"&$D$12&\")=\"&$D$10&\" and localMonth(\"&$D$12&\") =\"&$E$10&\" and LocalDay(\"&$D$12&\")=\"&$F$10&\" and Barix(\"&$D$12&\",reference:=StartOfSession)=\"&A1&\"\", \"Bar\", \"\", \"Close\",\"5\",\"0\",\"PrimaryOnly\",,,\"False\",\"T\",\"EveryTick\")","v":1672.55},{"$f":"IFERROR((Z1-$G$11)/$G$11,NA())","v":4.3716634539744141E-3},{"$f":"RANK(AD1,$AD$1:$AD$10)+COUNTIF($AD$1:AD1,AD1)-1","v":7},{"$f":"DATE(D1,E1,F1)","v":"2018-06-18"},{"$f":"VLOOKUP(MAX(AE2:AE81),A1:I81,9,FALSE)","v":1.2004871880044205E-3},null,1,{"$f":"VLOOKUP(AF1,$AB$1:$AD$10,2,FALSE)","v":"2018-06-06"},{"$f":"VLOOKUP(AF1,$AB$1:$AD$10,3,FALSE)","v":7.9936333893360287E-3},null,null,{"$f":"AG1","v":"2018-06-06"},{"$f":"AC1","v":"2018-06-18"},0,{"$f":"VLOOKUP(AK1,$AL$1:$AM$10,2,FALSE)","v":8}]
[{"$f":"A1+1","v":1},"08:35:00",{"$f":"WORKDAY(C1,-G27)","v":"2018-06-15"},{"$f":"YEAR(C2)","v":2018},{"$f":"MONTH(C2)","v":6},{"$f":"DAY(C2)","v":15},{"$f":"RTD(\"cqg.rtd\",,\"StudyData\",$D$12,\"Bar\",,\"Close\",\"D\",\"-1\",,,,,\"T\")","v":1715.97},{"$f":"RTD(\"cqg.rtd\",,\"StudyData\", \"Close(\"&$D$12&\") when LocalYear(\"&$D$12&\")=\"&$D$1&\" and localMonth(\"&$D$12&\") =\"&$E$1&\" and LocalDay(\"&$D$12&\")=\"&$F$1&\" and Barix(\"&$D$12&\",reference:=StartOfSession)=\"&A2&\"\", \"Bar\", \"\", \"Close\",\"5\",\"0\",\"PrimaryOnly\",,,\"False\",\"T\",\"EveryTick\")","v":1710.4},{"$f":"IFERROR((H2-$G$2)/$G$2,NA())","v":-3.2459774937789918E-3},{"$f":"RTD(\"cqg.rtd\",,\"StudyData\", \"Close(\"&$D$12&\") when LocalYear(\"&$D$12&\")=\"&$D$2&\" and localMonth(\"&$D$12&\") =\"&$E$2&\" and LocalDay(\"&$D$12&\")=\"&$F$2&\" and Barix(\"&$D$12&\",reference:=StartOfSession)=\"&A2&\"\", \"Bar\", \"\", \"Close\",\"5\",\"0\",\"PrimaryOnly\",,,\"False\",\"T\",\"EveryTick\")","v":1711.29},{"$f":"IFERROR((J2-$G$3)/$G$3,NA())","v":-7.2917754341999567E-3},{"$f":"RTD(\"cqg.rtd\",,\"StudyData\", \"Close(\"&$D$12&\") when LocalYear(\"&$D$12&\")=\"&$D$3&\" and localMonth(\"&$D$12&\") =\"&$E$3&\" and LocalDay(\"&$D$12&\")=\"&$F$3&\" and Barix(\"&$D$12&\",reference:=StartOfSession)=\"&A2&\"\", \"Bar\", \"\", \"Close\",\"5\",\"0\",\"PrimaryOnly\",,,\"False\",\"T\",\"EveryTick\")","v":1715.56},{"$f":"IFERROR((L2-$G$4)/$G$4,NA())","v":6.2761751698086916E-3},{"$f":"RTD(\"cqg.rtd\",,\"StudyData\", \"Close(\"&$D$12&\") when LocalYear(\"&$D$12&\")=\"&$D$4&\" and localMonth(\"&$D$12&\") =\"&$E$4&\" and LocalDay(\"&$D$12&\")=\"&$F$4&\" and Barix(\"&$D$12&\",reference:=StartOfSession)=\"&A2&\"\", \"Bar\", \"\", \"Close\",\"5\",\"0\",\"PrimaryOnly\",,,\"False\",\"T\",\"EveryTick\")","v":1706.21},{"$f":"IFERROR((N2-$G$5)/$G$5,NA())","v":4.3914643119941348E-3},{"$f":"RTD(\"cqg.rtd\",,\"StudyData\", \"Close(\"&$D$12&\") when LocalYear(\"&$D$12&\")=\"&$D$5&\" and localMonth(\"&$D$12&\") =\"&$E$5&\" and LocalDay(\"&$D$12&\")=\"&$F$5&\" and Barix(\"&$D$12&\",reference:=StartOfSession)=\"&A2&\"\", \"Bar\", \"\", \"Close\",\"5\",\"0\",\"PrimaryOnly\",,,\"False\",\"T\",\"EveryTick\")","v":1696.94},{"$f":"IFERROR((P2-$G$6)/$G$6,NA())","v":4.6296296296297265E-3},{"$f":"RTD(\"cqg.rtd\",,\"StudyData\", \"Close(\"&$D$12&\") when LocalYear(\"&$D$12&\")=\"&$D$6&\" and localMonth(\"&$D$12&\") =\"&$E$6&\" and LocalDay(\"&$D$12&\")=\"&$F$6&\" and Barix(\"&$D$12&\",reference:=StartOfSession)=\"&A2&\"\", \"Bar\", \"\", \"Close\",\"5\",\"0\",\"PrimaryOnly\",,,\"False\",\"T\",\"EveryTick\")","v":1691},{"$f":"IFERROR((R2-$G$7)/$G$7,NA())","v":4.162732557794281E-3},{"$f":"RTD(\"cqg.rtd\",,\"StudyData\", \"Close(\"&$D$12&\") when LocalYear(\"&$D$12&\")=\"&$D$7&\" and localMonth(\"&$D$12&\") =\"&$E$7&\" and LocalDay(\"&$D$12&\")=\"&$F$7&\" and Barix(\"&$D$12&\",reference:=StartOfSession)=\"&A2&\"\", \"Bar\", \"\", \"Close\",\"5\",\"0\",\"PrimaryOnly\",,,\"False\",\"T\",\"EveryTick\")","v":1680},{"$f":"IFERROR((T2-$G$8)/$G$8,NA())","v":-5.5052388563309983E-3},{"$f":"RTD(\"cqg.rtd\",,\"StudyData\", \"Close(\"&$D$12&\") when LocalYear(\"&$D$12&\")=\"&$D$8&\" and localMonth(\"&$D$12&\") =\"&$E$8&\" and LocalDay(\"&$D$12&\")=\"&$F$8&\" and Barix(\"&$D$12&\",reference:=StartOfSession)=\"&A2&\"\", \"Bar\", \"\", \"Close\",\"5\",\"0\",\"PrimaryOnly\",,,\"False\",\"T\",\"EveryTick\")","v":1692.99},{"$f":"IFERROR((V2-$G$9)/$G$9,NA())","v":-1.6275984077841609E-3},{"$f":"RTD(\"cqg.rtd\",,\"StudyData\", \"Close(\"&$D$12&\") when LocalYear(\"&$D$12&\")=\"&$D$9&\" and localMonth(\"&$D$12&\") =\"&$E$9&\" and LocalDay(\"&$D$12&\")=\"&$F$9&\" and Barix(\"&$D$12&\",reference:=StartOfSession)=\"&A2&\"\", \"Bar\", \"\", \"Close\",\"5\",\"0\",\"PrimaryOnly\",,,\"False\",\"T\",\"EveryTick\")","v":1711.66},{"$f":"IFERROR((X2-$G$10)/$G$10,NA())","v":9.0252601173107985E-3},{"$f":"RTD(\"cqg.rtd\",,\"StudyData\", \"Close(\"&$D$12&\") when LocalYear(\"&$D$12&\")=\"&$D$10&\" and localMonth(\"&$D$12&\") =\"&$E$10&\" and LocalDay(\"&$D$12&\")=\"&$F$10&\" and Barix(\"&$D$12&\",reference:=StartOfSession)=\"&A2&\"\", \"Bar\", \"\", \"Close\",\"5\",\"0\",\"PrimaryOnly\",,,\"False\",\"T\",\"EveryTick\")","v":1672.3},{"$f":"IFERROR((Z2-$G$11)/$G$11,NA())","v":4.2215376485494685E-3},{"$f":"RANK(AD2,$AD$1:$AD$10)+COUNTIF($AD$1:AD2,AD2)-1","v":10},{"$f":"DATE(D2,E2,F2)","v":"2018-06-15"},{"$f":"VLOOKUP(MAX(AE2:AE81),A1:K81,11,FALSE)","v":-6.5202510644715985E-3},{"$f":"IF(AND(H1<>\"\",H2<>\"\",H3=\"\"),A2,\"\")","v":""},2,{"$f":"VLOOKUP(AF2,$AB$1:$AD$10,2,FALSE)","v":"2018-06-11"},{"$f":"VLOOKUP(AF2,$AB$1:$AD$10,3,FALSE)","v":5.4929067274746288E-3},null,null,{"$f":"AG2","v":"2018-06-11"},{"$f":"AC2","v":"2018-06-15"},1,{"$f":"VLOOKUP(AK2,$AL$1:$AM$10,2,FALSE)","v":5}]
[{"$f":"A2+1","v":2},"08:40:00",{"$f":"WORKDAY(C2,-G28)","v":"2018-06-14"},2018,6,14,{"$f":"RTD(\"cqg.rtd\",,\"StudyData\",$D$12,\"Bar\",,\"Close\",\"D\",\"-2\",,,,,\"T\")","v":1723.86},{"$f":"RTD(\"cqg.rtd\",,\"StudyData\", \"Close(\"&$D$12&\") when LocalYear(\"&$D$12&\")=\"&$D$1&\" and localMonth(\"&$D$12&\") =\"&$E$1&\" and LocalDay(\"&$D$12&\")=\"&$F$1&\" and Barix(\"&$D$12&\",reference:=StartOfSession)=\"&A3&\"\", \"Bar\", \"\", \"Close\",\"5\",\"0\",\"PrimaryOnly\",,,\"False\",\"T\",\"EveryTick\")","v":1718.03},{"$f":"IFERROR((H3-$G$2)/$G$2,NA())","v":1.2004871880044205E-3},{"$f":"RTD(\"cqg.rtd\",,\"StudyData\", \"Close(\"&$D$12&\") when LocalYear(\"&$D$12&\")=\"&$D$2&\" and localMonth(\"&$D$12&\") =\"&$E$2&\" and LocalDay(\"&$D$12&\")=\"&$F$2&\" and Barix(\"&$D$12&\",reference:=StartOfSession)=\"&A3&\"\", \"Bar\", \"\", \"Close\",\"5\",\"0\",\"PrimaryOnly\",,,\"False\",\"T\",\"EveryTick\")","v":1712.62},-6.5202510644715985E-3,{"$f":"RTD(\"cqg.rtd\",,\"StudyData\", \"Close(\"&$D$12&\") when LocalYear(\"&$D$12&\")=\"&$D$3&\" and localMonth(\"&$D$12&\") =\"&$E$3&\" and LocalDay(\"&$D$12&\")=\"&$F$3&\" and Barix(\"&$D$12&\",reference:=StartOfSession)=\"&A3&\"\", \"Bar\", \"\", \"Close\",\"5\",\"0\",\"PrimaryOnly\",,,\"False\",\"T\",\"EveryTick\")","v":1712.96},4.7511232593879481E-3,{"$f":"RTD(\"cqg.rtd\",,\"StudyData\", \"Close(\"&$D$12&\") when LocalYear(\"&$D$12&\")=\"&$D$4&\" and localMonth(\"&$D$12&\") =\"&$E$4&\" and LocalDay(\"&$D$12&\")=\"&$F$4&\" and Barix(\"&$D$12&\",reference:=StartOfSession)=\"&A3&\"\", \"Bar\", \"\", \"Close\",\"5\",\"0\",\"PrimaryOnly\",,,\"False\",\"T\",\"EveryTick\")","v":1704.5},3.3848417954378219E-3,{"$f":"RTD(\"cqg.rtd\",,\"StudyData\", \"Close(\"&$D$12&\") when LocalYear(\"&$D$12&\")=\"&$D$5&\" and localMonth(\"&$D$12&\") =\"&$E$5&\" and LocalDay(\"&$D$12&\")=\"&$F$5&\" and Barix(\"&$D$12&\",reference:=StartOfSession)=\"&A3&\"\", \"Bar\", \"\", \"Close\",\"5\",\"0\",\"PrimaryOnly\",,,\"False\",\"T\",\"EveryTick\")","v":1695.9},4.0139244103439666E-3,{"$f":"RTD(\"cqg.rtd\",,\"StudyData\", \"Close(\"&$D$12&\") when LocalYear(\"&$D$12&\")=\"&$D$6&\" and localMonth(\"&$D$12&\") =\"&$E$6&\" and LocalDay(\"&$D$12&\")=\"&$F$6&\" and Barix(\"&$D$12&\",reference:=StartOfSession)=\"&A3&\"\", \"Bar\", \"\", \"Close\",\"5\",\"0\",\"PrimaryOnly\",,,\"False\",\"T\",\"EveryTick\")","v":1693.24},5.4929067274746288E-3,{"$f":"RTD(\"cqg.rtd\",,\"StudyData\", \"Close(\"&$D$12&\") when LocalYear(\"&$D$12&\")=\"&$D$7&\" and localMonth(\"&$D$12&\") =\"&$E$7&\" and LocalDay(\"&$D$12&\")=\"&$F$7&\" and Barix(\"&$D$12&\",reference:=StartOfSession)=\"&A3&\"\", \"Bar\", \"\", \"Close\",\"5\",\"0\",\"PrimaryOnly\",,,\"False\",\"T\",\"EveryTick\")","v":1679.03},-6.0794411886580134E-3,{"$f":"RTD(\"cqg.rtd\",,\"StudyData\", \"Close(\"&$D$12&\") when LocalYear(\"&$D$12&\")=\"&$D$8&\" and localMonth(\"&$D$12&\") =\"&$E$8&\" and LocalDay(\"&$D$12&\")=\"&$F$8&\" and Barix(\"&$D$12&\",reference:=StartOfSession)=\"&A3&\"\", \"Bar\", \"\", \"Close\",\"5\",\"0\",\"PrimaryOnly\",,,\"False\",\"T\",\"EveryTick\")","v":1696.16},2.4178092289552224E-4,{"$f":"RTD(\"cqg.rtd\",,\"StudyData\", \"Close(\"&$D$12&\") when LocalYear(\"&$D$12&\")=\"&$D$9&\" and localMonth(\"&$D$12&\") =\"&$E$9&\" and LocalDay(\"&$D$12&\")=\"&$F$9&\" and Barix(\"&$D$12&\",reference:=StartOfSession)=\"&A3&\"\", \"Bar\", \"\", \"Close\",\"5\",\"0\",\"PrimaryOnly\",,,\"False\",\"T\",\"EveryTick\")","v":1709.91},7.9936333893360287E-3,{"$f":"RTD(\"cqg.rtd\",,\"StudyData\", \"Close(\"&$D$12&\") when LocalYear(\"&$D$12&\")=\"&$D$10&\" and localMonth(\"&$D$12&\") =\"&$E$10&\" and LocalDay(\"&$D$12&\")=\"&$F$10&\" and Barix(\"&$D$12&\",reference:=StartOfSession)=\"&A3&\"\", \"Bar\", \"\", \"Close\",\"5\",\"0\",\"PrimaryOnly\",,,\"False\",\"T\",\"EveryTick\")","v":1674.41},5.4885994463360899E-3,{"$f":"RANK(AD3,$AD$1:$AD$10)+COUNTIF($AD$1:AD3,AD3)-1","v":4},"2018-06-14",{"$f":"VLOOKUP(MAX(AE2:AE81),A1:M81,13,FALSE)","v":4.7511232593879481E-3},{"$f":"IF(AND(H2<>\"\",H3<>\"\",H4=\"\"),A3,\"\")","v":2},3,"2018-06-05",5.4885994463360899E-3,null,null,"2018-06-05","2018-06-14",2,9]
[3,"08:45:00","2018-06-13",2018,6,13,{"$f":"RTD(\"cqg.rtd\",,\"StudyData\",$D$12,\"Bar\",,\"Close\",\"D\",\"-3\",,,,,\"T\")","v":1704.86},{"$f":"RTD(\"cqg.rtd\",,\"StudyData\", \"Close(\"&$D$12&\") when LocalYear(\"&$D$12&\")=\"&$D$1&\" and localMonth(\"&$D$12&\") =\"&$E$1&\" and LocalDay(\"&$D$12&\")=\"&$F$1&\" and Barix(\"&$D$12&\",reference:=StartOfSession)=\"&A4&\"\", \"Bar\", \"\", \"Close\",\"5\",\"0\",\"PrimaryOnly\",,,\"False\",\"T\",\"EveryTick\")","v":""},{"$error":"#N/A"},{"$f":"RTD(\"cqg.rtd\",,\"StudyData\", \"Close(\"&$D$12&\") when LocalYear(\"&$D$12&\")=\"&$D$2&\" and localMonth(\"&$D$12&\") =\"&$E$2&\" and LocalDay(\"&$D$12&\")=\"&$F$2&\" and Barix(\"&$D$12&\",reference:=StartOfSession)=\"&A4&\"\", \"Bar\", \"\", \"Close\",\"5\",\"0\",\"PrimaryOnly\",,,\"False\",\"T\",\"EveryTick\")","v":1717.15},-3.8924274593063295E-3,{"$f":"RTD(\"cqg.rtd\",,\"StudyData\", \"Close(\"&$D$12&\") when LocalYear(\"&$D$12&\")=\"&$D$3&\" and localMonth(\"&$D$12&\") =\"&$E$3&\" and LocalDay(\"&$D$12&\")=\"&$F$3&\" and Barix(\"&$D$12&\",reference:=StartOfSession)=\"&A4&\"\", \"Bar\", \"\", \"Close\",\"5\",\"0\",\"PrimaryOnly\",,,\"False\",\"T\",\"EveryTick\")","v":1711.99},4.1821615851155578E-3,{"$f":"RTD(\"cqg.rtd\",,\"StudyData\", \"Close(\"&$D$12&\") when LocalYear(\"&$D$12&\")=\"&$D$4&\" and localMonth(\"&$D$12&\") =\"&$E$4&\" and LocalDay(\"&$D$12&\")=\"&$F$4&\" and Barix(\"&$D$12&\",reference:=StartOfSession)=\"&A4&\"\", \"Bar\", \"\", \"Close\",\"5\",\"0\",\"PrimaryOnly\",,,\"False\",\"T\",\"EveryTick\")","v":1704.3},3.2671081677703925E-3,{"$f":"RTD(\"cqg.rtd\",,\"StudyData\", \"Close(\"&$D$12&\") when LocalYear(\"&$D$12&\")=\"&$D$5&\" and localMonth(\"&$D$12&\") =\"&$E$5&\" and LocalDay(\"&$D$12&\")=\"&$F$5&\" and Barix(\"&$D$12&\",reference:=StartOfSession)=\"&A4&\"\", \"Bar\", \"\", \"Close\",\"5\",\"0\",\"PrimaryOnly\",,,\"False\",\"T\",\"EveryTick\")","v":1695.2},3.5995074358246633E-3,{"$f":"RTD(\"cqg.rtd\",,\"StudyData\", \"Close(\"&$D$12&\") when LocalYear(\"&$D$12&\")=\"&$D$6&\" and localMonth(\"&$D$12&\") =\"&$E$6&\" and LocalDay(\"&$D$12&\")=\"&$F$6&\" and Barix(\"&$D$12&\",reference:=StartOfSession)=\"&A4&\"\", \"Bar\", \"\", \"Close\",\"5\",\"0\",\"PrimaryOnly\",,,\"False\",\"T\",\"EveryTick\")","v":1691.2},4.2814981086586237E-3,{"$f":"RTD(\"cqg.rtd\",,\"StudyData\", \"Close(\"&$D$12&\") when LocalYear(\"&$D$12&\")=\"&$D$7&\" and localMonth(\"&$D$12&\") =\"&$E$7&\" and LocalDay(\"&$D$12&\")=\"&$F$7&\" and Barix(\"&$D$12&\",reference:=StartOfSession)=\"&A4&\"\", \"Bar\", \"\", \"Close\",\"5\",\"0\",\"PrimaryOnly\",,,\"False\",\"T\",\"EveryTick\")","v":1680.75},-5.0612679808204313E-3,{"$f":"RTD(\"cqg.rtd\",,\"StudyData\", \"Close(\"&$D$12&\") when LocalYear(\"&$D$12&\")=\"&$D$8&\" and localMonth(\"&$D$12&\") =\"&$E$8&\" and LocalDay(\"&$D$12&\")=\"&$F$8&\" and Barix(\"&$D$12&\",reference:=StartOfSession)=\"&A4&\"\", \"Bar\", \"\", \"Close\",\"5\",\"0\",\"PrimaryOnly\",,,\"False\",\"T\",\"EveryTick\")","v":1696.42},3.9510541058532966E-4,{"$f":"RTD(\"cqg.rtd\",,\"StudyData\", \"Close(\"&$D$12&\") when LocalYear(\"&$D$12&\")=\"&$D$9&\" and localMonth(\"&$D$12&\") =\"&$E$9&\" and LocalDay(\"&$D$12&\")=\"&$F$9&\" and Barix(\"&$D$12&\",reference:=StartOfSession)=\"&A4&\"\", \"Bar\", \"\", \"Close\",\"5\",\"0\",\"PrimaryOnly\",,,\"False\",\"T\",\"EveryTick\")","v":1709.46},7.7283579449996332E-3,{"$f":"RTD(\"cqg.rtd\",,\"StudyData\", \"Close(\"&$D$12&\") when LocalYear(\"&$D$12&\")=\"&$D$10&\" and localMonth(\"&$D$12&\") =\"&$E$10&\" and LocalDay(\"&$D$12&\")=\"&$F$10&\" and Barix(\"&$D$12&\",reference:=StartOfSession)=\"&A4&\"\", \"Bar\", \"\", \"Close\",\"5\",\"0\",\"PrimaryOnly\",,,\"False\",\"T\",\"EveryTick\")","v":1678.81},8.1308136218150601E-3,{"$f":"RANK(AD4,$AD$1:$AD$10)+COUNTIF($AD$1:AD4,AD4)-1","v":6},"2018-06-13",{"$f":"VLOOKUP(MAX(AE2:AE81),A1:O81,15,FALSE)","v":3.3848417954378219E-3},"",4,"2018-06-14",4.7511232593879481E-3,null,null,"2018-06-14","2018-06-13",3,2]
[4,"08:50:00","2018-06-12",2018,6,12,{"$f":"RTD(\"cqg.rtd\",,\"StudyData\",$D$12,\"Bar\",,\"Close\",\"D\",\"-4\",,,,,\"T\")","v":1698.75},{"$f":"RTD(\"cqg.rtd\",,\"StudyData\", \"Close(\"&$D$12&\") when LocalYear(\"&$D$12&\")=\"&$D$1&\" and localMonth(\"&$D$12&\") =\"&$E$1&\" and LocalDay(\"&$D$12&\")=\"&$F$1&\" and Barix(\"&$D$12&\",reference:=StartOfSession)=\"&A5&\"\", \"Bar\", \"\", \"Close\",\"5\",\"0\",\"PrimaryOnly\",,,\"False\",\"T\",\"EveryTick\")","v":""},{"$error":"#N/A"},{"$f":"RTD(\"cqg.rtd\",,\"StudyData\", \"Close(\"&$D$12&\") when LocalYear(\"&$D$12&\")=\"&$D$2&\" and localMonth(\"&$D$12&\") =\"&$E$2&\" and LocalDay(\"&$D$12&\")=\"&$F$2&\" and Barix(\"&$D$12&\",reference:=StartOfSession)=\"&A5&\"\", \"Bar\", \"\", \"Close\",\"5\",\"0\",\"PrimaryOnly\",,,\"False\",\"T\",\"EveryTick\")","v":1717.87},-3.4747601313331765E-3,{"$f":"RTD(\"cqg.rtd\",,\"StudyData\", \"Close(\"&$D$12&\") when LocalYear(\"&$D$12&\")=\"&$D$3&\" and localMonth(\"&$D$12&\") =\"&$E$3&\" and LocalDay(\"&$D$12&\")=\"&$F$3&\" and Barix(\"&$D$12&\",reference:=StartOfSession)=\"&A5&\"\", \"Bar\", \"\", \"Close\",\"5\",\"0\",\"PrimaryOnly\",,,\"False\",\"T\",\"EveryTick\")","v":1711.54},3.9182102929273162E-3,{"$f":"RTD(\"cqg.rtd\",,\"StudyData\", \"Close(\"&$D$12&\") when LocalYear(\"&$D$12&\")=\"&$D$4&\" and localMonth(\"&$D$12&\") =\"&$E$4&\" and LocalDay(\"&$D$12&\")=\"&$F$4&\" and Barix(\"&$D$12&\",reference:=StartOfSession)=\"&A5&\"\", \"Bar\", \"\", \"Close\",\"5\",\"0\",\"PrimaryOnly\",,,\"False\",\"T\",\"EveryTick\")","v":1703.58},2.8432671081677274E-3,{"$f":"RTD(\"cqg.rtd\",,\"StudyData\", \"Close(\"&$D$12&\") when LocalYear(\"&$D$12&\")=\"&$D$5&\" and localMonth(\"&$D$12&\") =\"&$E$5&\" and LocalDay(\"&$D$12&\")=\"&$F$5&\" and Barix(\"&$D$12&\",reference:=StartOfSession)=\"&A5&\"\", \"Bar\", \"\", \"Close\",\"5\",\"0\",\"PrimaryOnly\",,,\"False\",\"T\",\"EveryTick\")","v":1694.42},3.1377285213603427E-3,{"$f":"RTD(\"cqg.rtd\",,\"StudyData\", \"Close(\"&$D$12&\") when LocalYear(\"&$D$12&\")=\"&$D$6&\" and localMonth(\"&$D$12&\") =\"&$E$6&\" and LocalDay(\"&$D$12&\")=\"&$F$6&\" and Barix(\"&$D$12&\",reference:=StartOfSession)=\"&A5&\"\", \"Bar\", \"\", \"Close\",\"5\",\"0\",\"PrimaryOnly\",,,\"False\",\"T\",\"EveryTick\")","v":1692.04},4.7803134222887036E-3,{"$f":"RTD(\"cqg.rtd\",,\"StudyData\", \"Close(\"&$D$12&\") when LocalYear(\"&$D$12&\")=\"&$D$7&\" and localMonth(\"&$D$12&\") =\"&$E$7&\" and LocalDay(\"&$D$12&\")=\"&$F$7&\" and Barix(\"&$D$12&\",reference:=StartOfSession)=\"&A5&\"\", \"Bar\", \"\", \"Close\",\"5\",\"0\",\"PrimaryOnly\",,,\"False\",\"T\",\"EveryTick\")","v":1683.38},-3.5044101106966471E-3,{"$f":"RTD(\"cqg.rtd\",,\"StudyData\", \"Close(\"&$D$12&\") when LocalYear(\"&$D$12&\")=\"&$D$8&\" and localMonth(\"&$D$12&\") =\"&$E$8&\" and LocalDay(\"&$D$12&\")=\"&$F$8&\" and Barix(\"&$D$12&\",reference:=StartOfSession)=\"&A5&\"\", \"Bar\", \"\", \"Close\",\"5\",\"0\",\"PrimaryOnly\",,,\"False\",\"T\",\"EveryTick\")","v":1694.06},-9.9660916998381508E-4,{"$f":"RTD(\"cqg.rtd\",,\"StudyData\", \"Close(\"&$D$12&\") when LocalYear(\"&$D$12&\")=\"&$D$9&\" and localMonth(\"&$D$12&\") =\"&$E$9&\" and LocalDay(\"&$D$12&\")=\"&$F$9&\" and Barix(\"&$D$12&\",reference:=StartOfSession)=\"&A5&\"\", \"Bar\", \"\", \"Close\",\"5\",\"0\",\"PrimaryOnly\",,,\"False\",\"T\",\"EveryTick\")","v":1709.74},7.8934182214755802E-3,{"$f":"RTD(\"cqg.rtd\",,\"StudyData\", \"Close(\"&$D$12&\") when LocalYear(\"&$D$12&\")=\"&$D$10&\" and localMonth(\"&$D$12&\") =\"&$E$10&\" and LocalDay(\"&$D$12&\")=\"&$F$10&\" and Barix(\"&$D$12&\",reference:=StartOfSession)=\"&A5&\"\", \"Bar\", \"\", \"Close\",\"5\",\"0\",\"PrimaryOnly\",,,\"False\",\"T\",\"EveryTick\")","v":1680.25},8.9955382610627816E-3,{"$f":"RANK(AD5,$AD$1:$AD$10)+COUNTIF($AD$1:AD5,AD5)-1","v":5},"2018-06-12",{"$f":"VLOOKUP(MAX(AE2:AE81),A1:Q81,17,FALSE)","v":4.0139244103439666E-3},"",5,"2018-06-12",4.0139244103439666E-3,null,null,"2018-06-12","2018-06-12",4,4]
[5,"08:55:00","2018-06-11",2018,6,11,{"$f":"RTD(\"cqg.rtd\",,\"StudyData\",$D$12,\"Bar\",,\"Close\",\"D\",\"-5\",,,,,\"T\")","v":1689.12},{"$f":"RTD(\"cqg.rtd\",,\"StudyData\", \"Close(\"&$D$12&\") when LocalYear(\"&$D$12&\")=\"&$D$1&\" and localMonth(\"&$D$12&\") =\"&$E$1&\" and LocalDay(\"&$D$12&\")=\"&$F$1&\" and Barix(\"&$D$12&\",reference:=StartOfSession)=\"&A6&\"\", \"Bar\", \"\", \"Close\",\"5\",\"0\",\"PrimaryOnly\",,,\"False\",\"T\",\"EveryTick\")","v":""},{"$error":"#N/A"},{"$f":"RTD(\"cqg.rtd\",,\"StudyData\", \"Close(\"&$D$12&\") when LocalYear(\"&$D$12&\")=\"&$D$2&\" and localMonth(\"&$D$12&\") =\"&$E$2&\" and LocalDay(\"&$D$12&\")=\"&$F$2&\" and Barix(\"&$D$12&\",reference:=StartOfSession)=\"&A6&\"\", \"Bar\", \"\", \"Close\",\"5\",\"0\",\"PrimaryOnly\",,,\"False\",\"T\",\"EveryTick\")","v":1717.96},-3.4225517153364331E-3,{"$f":"RTD(\"cqg.rtd\",,\"StudyData\", \"Close(\"&$D$12&\") when LocalYear(\"&$D$12&\")=\"&$D$3&\" and localMonth(\"&$D$12&\") =\"&$E$3&\" and LocalDay(\"&$D$12&\")=\"&$F$3&\" and Barix(\"&$D$12&\",reference:=StartOfSession)=\"&A6&\"\", \"Bar\", \"\", \"Close\",\"5\",\"0\",\"PrimaryOnly\",,,\"False\",\"T\",\"EveryTick\")","v":1712.99},4.7687200122004799E-3,{"$f":"RTD(\"cqg.rtd\",,\"StudyData\", \"Close(\"&$D$12&\") when LocalYear(\"&$D$12&\")=\"&$D$4&\" and localMonth(\"&$D$12&\") =\"&$E$4&\" and LocalDay(\"&$D$12&\")=\"&$F$4&\" and Barix(\"&$D$12&\",reference:=StartOfSession)=\"&A6&\"\", \"Bar\", \"\", \"Close\",\"5\",\"0\",\"PrimaryOnly\",,,\"False\",\"T\",\"EveryTick\")","v":1702.62},2.2781456953641743E-3,{"$f":"RTD(\"cqg.rtd\",,\"StudyData\", \"Close(\"&$D$12&\") when LocalYear(\"&$D$12&\")=\"&$D$5&\" and localMonth(\"&$D$12&\") =\"&$E$5&\" and LocalDay(\"&$D$12&\")=\"&$F$5&\" and Barix(\"&$D$12&\",reference:=StartOfSession)=\"&A6&\"\", \"Bar\", \"\", \"Close\",\"5\",\"0\",\"PrimaryOnly\",,,\"False\",\"T\",\"EveryTick\")","v":1694.35},3.096286823908318E-3,{"$f":"RTD(\"cqg.rtd\",,\"StudyData\", \"Close(\"&$D$12&\") when LocalYear(\"&$D$12&\")=\"&$D$6&\" and localMonth(\"&$D$12&\") =\"&$E$6&\" and LocalDay(\"&$D$12&\")=\"&$F$6&\" and Barix(\"&$D$12&\",reference:=StartOfSession)=\"&A6&\"\", \"Bar\", \"\", \"Close\",\"5\",\"0\",\"PrimaryOnly\",,,\"False\",\"T\",\"EveryTick\")","v":1692.28},4.922832083325889E-3,{"$f":"RTD(\"cqg.rtd\",,\"StudyData\", \"Close(\"&$D$12&\") when LocalYear(\"&$D$12&\")=\"&$D$7&\" and localMonth(\"&$D$12&\") =\"&$E$7&\" and LocalDay(\"&$D$12&\")=\"&$F$7&\" and Barix(\"&$D$12&\",reference:=StartOfSession)=\"&A6&\"\", \"Bar\", \"\", \"Close\",\"5\",\"0\",\"PrimaryOnly\",,,\"False\",\"T\",\"EveryTick\")","v":1682.26},-4.1674066181258294E-3,{"$f":"RTD(\"cqg.rtd\",,\"StudyData\", \"Close(\"&$D$12&\") when LocalYear(\"&$D$12&\")=\"&$D$8&\" and localMonth(\"&$D$12&\") =\"&$E$8&\" and LocalDay(\"&$D$12&\")=\"&$F$8&\" and Barix(\"&$D$12&\",reference:=StartOfSession)=\"&A6&\"\", \"Bar\", \"\", \"Close\",\"5\",\"0\",\"PrimaryOnly\",,,\"False\",\"T\",\"EveryTick\")","v":1693.38},-1.3976116762493829E-3,{"$f":"RTD(\"cqg.rtd\",,\"StudyData\", \"Close(\"&$D$12&\") when LocalYear(\"&$D$12&\")=\"&$D$9&\" and localMonth(\"&$D$12&\") =\"&$E$9&\" and LocalDay(\"&$D$12&\")=\"&$F$9&\" and Barix(\"&$D$12&\",reference:=StartOfSession)=\"&A6&\"\", \"Bar\", \"\", \"Close\",\"5\",\"0\",\"PrimaryOnly\",,,\"False\",\"T\",\"EveryTick\")","v":1696.11},-1.4148023697940231E-4,{"$f":"RTD(\"cqg.rtd\",,\"StudyData\", \"Close(\"&$D$12&\") when LocalYear(\"&$D$12&\")=\"&$D$10&\" and localMonth(\"&$D$12&\") =\"&$E$10&\" and LocalDay(\"&$D$12&\")=\"&$F$10&\" and Barix(\"&$D$12&\",reference:=StartOfSession)=\"&A6&\"\", \"Bar\", \"\", \"Close\",\"5\",\"0\",\"PrimaryOnly\",,,\"False\",\"T\",\"EveryTick\")","v":1681.37},9.6681018693664748E-3,{"$f":"RANK(AD6,$AD$1:$AD$10)+COUNTIF($AD$1:AD6,AD6)-1","v":2},"2018-06-11",{"$f":"VLOOKUP(MAX(AE2:AE81),A1:S81,19,FALSE)","v":5.4929067274746288E-3},"",6,"2018-06-13",3.3848417954378219E-3,null,null,"2018-06-13","2018-06-11",5,3]
[6,"09:00:00","2018-06-08",2018,6,8,{"$f":"RTD(\"cqg.rtd\",,\"StudyData\",$D$12,\"Bar\",,\"Close\",\"D\",\"-6\",,,,,\"T\")","v":1683.99},{"$f":"RTD(\"cqg.rtd\",,\"StudyData\", \"Close(\"&$D$12&\") when LocalYear(\"&$D$12&\")=\"&$D$1&\" and localMonth(\"&$D$12&\") =\"&$E$1&\" and LocalDay(\"&$D$12&\")=\"&$F$1&\" and Barix(\"&$D$12&\",reference:=StartOfSession)=\"&A7&\"\", \"Bar\", \"\", \"Close\",\"5\",\"0\",\"PrimaryOnly\",,,\"False\",\"T\",\"EveryTick\")","v":""},{"$error":"#N/A"},{"$f":"RTD(\"cqg.rtd\",,\"StudyData\", \"Close(\"&$D$12&\") when LocalYear(\"&$D$12&\")=\"&$D$2&\" and localMonth(\"&$D$12&\") =\"&$E$2&\" and LocalDay(\"&$D$12&\")=\"&$F$2&\" and Barix(\"&$D$12&\",reference:=StartOfSession)=\"&A7&\"\", \"Bar\", \"\", \"Close\",\"5\",\"0\",\"PrimaryOnly\",,,\"False\",\"T\",\"EveryTick\")","v":1717.55},-3.6603900548768148E-3,{"$f":"RTD(\"cqg.rtd\",,\"StudyData\", \"Close(\"&$D$12&\") when LocalYear(\"&$D$12&\")=\"&$D$3&\" and localMonth(\"&$D$12&\") =\"&$E$3&\" and LocalDay(\"&$D$12&\")=\"&$F$3&\" and Barix(\"&$D$12&\",reference:=StartOfSession)=\"&A7&\"\", \"Bar\", \"\", \"Close\",\"5\",\"0\",\"PrimaryOnly\",,,\"False\",\"T\",\"EveryTick\")","v":1715.92},6.4873362035593385E-3,{"$f":"RTD(\"cqg.rtd\",,\"StudyData\", \"Close(\"&$D$12&\") when LocalYear(\"&$D$12&\")=\"&$D$4&\" and localMonth(\"&$D$12&\") =\"&$E$4&\" and LocalDay(\"&$D$12&\")=\"&$F$4&\" and Barix(\"&$D$12&\",reference:=StartOfSession)=\"&A7&\"\", \"Bar\", \"\", \"Close\",\"5\",\"0\",\"PrimaryOnly\",,,\"False\",\"T\",\"EveryTick\")","v":1704.16},3.1846946284032861E-3,{"$f":"RTD(\"cqg.rtd\",,\"StudyData\", \"Close(\"&$D$12&\") when LocalYear(\"&$D$12&\")=\"&$D$5&\" and localMonth(\"&$D$12&\") =\"&$E$5&\" and LocalDay(\"&$D$12&\")=\"&$F$5&\" and Barix(\"&$D$12&\",reference:=StartOfSession)=\"&A7&\"\", \"Bar\", \"\", \"Close\",\"5\",\"0\",\"PrimaryOnly\",,,\"False\",\"T\",\"EveryTick\")","v":1697.7},5.0795680591077929E-3,{"$f":"RTD(\"cqg.rtd\",,\"StudyData\", \"Close(\"&$D$12&\") when LocalYear(\"&$D$12&\")=\"&$D$6&\" and localMonth(\"&$D$12&\") =\"&$E$6&\" and LocalDay(\"&$D$12&\")=\"&$F$6&\" and Barix(\"&$D$12&\",reference:=StartOfSession)=\"&A7&\"\", \"Bar\", \"\", \"Close\",\"5\",\"0\",\"PrimaryOnly\",,,\"False\",\"T\",\"EveryTick\")","v":1690.25},3.7173617420530945E-3,{"$f":"RTD(\"cqg.rtd\",,\"StudyData\", \"Close(\"&$D$12&\") when LocalYear(\"&$D$12&\")=\"&$D$7&\" and localMonth(\"&$D$12&\") =\"&$E$7&\" and LocalDay(\"&$D$12&\")=\"&$F$7&\" and Barix(\"&$D$12&\",reference:=StartOfSession)=\"&A7&\"\", \"Bar\", \"\", \"Close\",\"5\",\"0\",\"PrimaryOnly\",,,\"False\",\"T\",\"EveryTick\")","v":1680.07},-5.4638015746167161E-3,{"$f":"RTD(\"cqg.rtd\",,\"StudyData\", \"Close(\"&$D$12&\") when LocalYear(\"&$D$12&\")=\"&$D$8&\" and localMonth(\"&$D$12&\") =\"&$E$8&\" and LocalDay(\"&$D$12&\")=\"&$F$8&\" and Barix(\"&$D$12&\",reference:=StartOfSession)=\"&A7&\"\", \"Bar\", \"\", \"Close\",\"5\",\"0\",\"PrimaryOnly\",,,\"False\",\"T\",\"EveryTick\")","v":1692.99},-1.6275984077841609E-3,{"$f":"RTD(\"cqg.rtd\",,\"StudyData\", \"Close(\"&$D$12&\") when LocalYear(\"&$D$12&\")=\"&$D$9&\" and localMonth(\"&$D$12&\") =\"&$E$9&\" and LocalDay(\"&$D$12&\")=\"&$F$9&\" and Barix(\"&$D$12&\",reference:=StartOfSession)=\"&A7&\"\", \"Bar\", \"\", \"Close\",\"5\",\"0\",\"PrimaryOnly\",,,\"False\",\"T\",\"EveryTick\")","v":1694.19},-1.2733221328144867E-3,{"$f":"RTD(\"cqg.rtd\",,\"StudyData\", \"Close(\"&$D$12&\") when LocalYear(\"&$D$12&\")=\"&$D$10&\" and localMonth(\"&$D$12&\") =\"&$E$10&\" and LocalDay(\"&$D$12&\")=\"&$F$10&\" and Barix(\"&$D$12&\",reference:=StartOfSession)=\"&A7&\"\", \"Bar\", \"\", \"Close\",\"5\",\"0\",\"PrimaryOnly\",,,\"False\",\"T\",\"EveryTick\")","v":1685},1.1847928564136757E-2,{"$f":"RANK(AD7,$AD$1:$AD$10)+COUNTIF($AD$1:AD7,AD7)-1","v":9},"2018-06-08",{"$f":"VLOOKUP(MAX(AE2:AE81),A1:U81,21,FALSE)","v":-6.0794411886580134E-3},"",7,"2018-06-18",1.2004871880044205E-3,null,null,"2018-06-18","2018-06-08",6,0]
[7,"09:05:00","2018-06-07",2018,6,7,{"$f":"RTD(\"cqg.rtd\",,\"StudyData\",$D$12,\"Bar\",,\"Close\",\"D\",\"-7\",,,,,\"T\")","v":1689.3},{"$f":"RTD(\"cqg.rtd\",,\"StudyData\", \"Close(\"&$D$12&\") when LocalYear(\"&$D$12&\")=\"&$D$1&\" and localMonth(\"&$D$12&\") =\"&$E$1&\" and LocalDay(\"&$D$12&\")=\"&$F$1&\" and Barix(\"&$D$12&\",reference:=StartOfSession)=\"&A8&\"\", \"Bar\", \"\", \"Close\",\"5\",\"0\",\"PrimaryOnly\",,,\"False\",\"T\",\"EveryTick\")","v":""},{"$error":"#N/A"},{"$f":"RTD(\"cqg.rtd\",,\"StudyData\", \"Close(\"&$D$12&\") when LocalYear(\"&$D$12&\")=\"&$D$2&\" and localMonth(\"&$D$12&\") =\"&$E$2&\" and LocalDay(\"&$D$12&\")=\"&$F$2&\" and Barix(\"&$D$12&\",reference:=StartOfSession)=\"&A8&\"\", \"Bar\", \"\", \"Close\",\"5\",\"0\",\"PrimaryOnly\",,,\"False\",\"T\",\"EveryTick\")","v":1717.21},-3.8576218486419222E-3,{"$f":"RTD(\"cqg.rtd\",,\"StudyData\", \"Close(\"&$D$12&\") when LocalYear(\"&$D$12&\")=\"&$D$3&\" and localMonth(\"&$D$12&\") =\"&$E$3&\" and LocalDay(\"&$D$12&\")=\"&$F$3&\" and Barix(\"&$D$12&\",reference:=StartOfSession)=\"&A8&\"\", \"Bar\", \"\", \"Close\",\"5\",\"0\",\"PrimaryOnly\",,,\"False\",\"T\",\"EveryTick\")","v":1716.8},7.0035076193940005E-3,{"$f":"RTD(\"cqg.rtd\",,\"StudyData\", \"Close(\"&$D$12&\") when LocalYear(\"&$D$12&\")=\"&$D$4&\" and localMonth(\"&$D$12&\") =\"&$E$4&\" and LocalDay(\"&$D$12&\")=\"&$F$4&\" and Barix(\"&$D$12&\",reference:=StartOfSession)=\"&A8&\"\", \"Bar\", \"\", \"Close\",\"5\",\"0\",\"PrimaryOnly\",,,\"False\",\"T\",\"EveryTick\")","v":1704.01},3.0963944076526804E-3,{"$f":"RTD(\"cqg.rtd\",,\"StudyData\", \"Close(\"&$D$12&\") when LocalYear(\"&$D$12&\")=\"&$D$5&\" and localMonth(\"&$D$12&\") =\"&$E$5&\" and LocalDay(\"&$D$12&\")=\"&$F$5&\" and Barix(\"&$D$12&\",reference:=StartOfSession)=\"&A8&\"\", \"Bar\", \"\", \"Close\",\"5\",\"0\",\"PrimaryOnly\",,,\"False\",\"T\",\"EveryTick\")","v":1695.05},3.5107037984276213E-3,{"$f":"RTD(\"cqg.rtd\",,\"StudyData\", \"Close(\"&$D$12&\") when LocalYear(\"&$D$12&\")=\"&$D$6&\" and localMonth(\"&$D$12&\") =\"&$E$6&\" and LocalDay(\"&$D$12&\")=\"&$F$6&\" and Barix(\"&$D$12&\",reference:=StartOfSession)=\"&A8&\"\", \"Bar\", \"\", \"Close\",\"5\",\"0\",\"PrimaryOnly\",,,\"False\",\"T\",\"EveryTick\")","v":1690.12},3.6401641339912244E-3,{"$f":"RTD(\"cqg.rtd\",,\"StudyData\", \"Close(\"&$D$12&\") when LocalYear(\"&$D$12&\")=\"&$D$7&\" and localMonth(\"&$D$12&\") =\"&$E$7&\" and LocalDay(\"&$D$12&\")=\"&$F$7&\" and Barix(\"&$D$12&\",reference:=StartOfSession)=\"&A8&\"\", \"Bar\", \"\", \"Close\",\"5\",\"0\",\"PrimaryOnly\",,,\"False\",\"T\",\"EveryTick\")","v":1681.53},-4.5995382702894586E-3,{"$f":"RTD(\"cqg.rtd\",,\"StudyData\", \"Close(\"&$D$12&\") when LocalYear(\"&$D$12&\")=\"&$D$8&\" and localMonth(\"&$D$12&\") =\"&$E$8&\" and LocalDay(\"&$D$12&\")=\"&$F$8&\" and Barix(\"&$D$12&\",reference:=StartOfSession)=\"&A8&\"\", \"Bar\", \"\", \"Close\",\"5\",\"0\",\"PrimaryOnly\",,,\"False\",\"T\",\"EveryTick\")","v":1688.71},-4.1515553589856783E-3,{"$f":"RTD(\"cqg.rtd\",,\"StudyData\", \"Close(\"&$D$12&\") when LocalYear(\"&$D$12&\")=\"&$D$9&\" and localMonth(\"&$D$12&\") =\"&$E$9&\" and LocalDay(\"&$D$12&\")=\"&$F$9&\" and Barix(\"&$D$12&\",reference:=StartOfSession)=\"&A8&\"\", \"Bar\", \"\", \"Close\",\"5\",\"0\",\"PrimaryOnly\",,,\"False\",\"T\",\"EveryTick\")","v":1695.53},-4.8339080967956872E-4,{"$f":"RTD(\"cqg.rtd\",,\"StudyData\", \"Close(\"&$D$12&\") when LocalYear(\"&$D$12&\")=\"&$D$10&\" and localMonth(\"&$D$12&\") =\"&$E$10&\" and LocalDay(\"&$D$12&\")=\"&$F$10&\" and Barix(\"&$D$12&\",reference:=StartOfSession)=\"&A8&\"\", \"Bar\", \"\", \"Close\",\"5\",\"0\",\"PrimaryOnly\",,,\"False\",\"T\",\"EveryTick\")","v":1682},1.0046418899037405E-2,{"$f":"RANK(AD8,$AD$1:$AD$10)+COUNTIF($AD$1:AD8,AD8)-1","v":8},"2018-06-07",{"$f":"VLOOKUP(MAX(AE2:AE81),A1:W81,23,FALSE)","v":2.4178092289552224E-4},"",8,"2018-06-07",2.4178092289552224E-4,null,null,"2018-06-07","2018-06-07",7,7]
[8,"09:10:00","2018-06-06",2018,6,6,{"$f":"RTD(\"cqg.rtd\",,\"StudyData\",$D$12,\"Bar\",,\"Close\",\"D\",\"-8\",,,,,\"T\")","v":1695.75},{"$f":"RTD(\"cqg.rtd\",,\"StudyData\", \"Close(\"&$D$12&\") when LocalYear(\"&$D$12&\")=\"&$D$1&\" and localMonth(\"&$D$12&\") =\"&$E$1&\" and LocalDay(\"&$D$12&\")=\"&$F$1&\" and Barix(\"&$D$12&\",reference:=StartOfSession)=\"&A9&\"\", \"Bar\", \"\", \"Close\",\"5\",\"0\",\"PrimaryOnly\",,,\"False\",\"T\",\"EveryTick\")","v":""},{"$error":"#N/A"},{"$f":"RTD(\"cqg.rtd\",,\"StudyData\", \"Close(\"&$D$12&\") when LocalYear(\"&$D$12&\")=\"&$D$2&\" and localMonth(\"&$D$12&\") =\"&$E$2&\" and LocalDay(\"&$D$12&\")=\"&$F$2&\" and Barix(\"&$D$12&\",reference:=StartOfSession)=\"&A9&\"\", \"Bar\", \"\", \"Close\",\"5\",\"0\",\"PrimaryOnly\",,,\"False\",\"T\",\"EveryTick\")","v":1718.27},-3.2427227269035295E-3,{"$f":"RTD(\"cqg.rtd\",,\"StudyData\", \"Close(\"&$D$12&\") when LocalYear(\"&$D$12&\")=\"&$D$3&\" and localMonth(\"&$D$12&\") =\"&$E$3&\" and LocalDay(\"&$D$12&\")=\"&$F$3&\" and Barix(\"&$D$12&\",reference:=StartOfSession)=\"&A9&\"\", \"Bar\", \"\", \"Close\",\"5\",\"0\",\"PrimaryOnly\",,,\"False\",\"T\",\"EveryTick\")","v":1714.96},5.9242401135577915E-3,{"$f":"RTD(\"cqg.rtd\",,\"StudyData\", \"Close(\"&$D$12&\") when LocalYear(\"&$D$12&\")=\"&$D$4&\" and localMonth(\"&$D$12&\") =\"&$E$4&\" and LocalDay(\"&$D$12&\")=\"&$F$4&\" and Barix(\"&$D$12&\",reference:=StartOfSession)=\"&A9&\"\", \"Bar\", \"\", \"Close\",\"5\",\"0\",\"PrimaryOnly\",,,\"False\",\"T\",\"EveryTick\")","v":1705.18},3.7851361295070281E-3,{"$f":"RTD(\"cqg.rtd\",,\"StudyData\", \"Close(\"&$D$12&\") when LocalYear(\"&$D$12&\")=\"&$D$5&\" and localMonth(\"&$D$12&\") =\"&$E$5&\" and LocalDay(\"&$D$12&\")=\"&$F$5&\" and Barix(\"&$D$12&\",reference:=StartOfSession)=\"&A9&\"\", \"Bar\", \"\", \"Close\",\"5\",\"0\",\"PrimaryOnly\",,,\"False\",\"T\",\"EveryTick\")","v":1694.64},3.2679738562092745E-3,{"$f":"RTD(\"cqg.rtd\",,\"StudyData\", \"Close(\"&$D$12&\") when LocalYear(\"&$D$12&\")=\"&$D$6&\" and localMonth(\"&$D$12&\") =\"&$E$6&\" and LocalDay(\"&$D$12&\")=\"&$F$6&\" and Barix(\"&$D$12&\",reference:=StartOfSession)=\"&A9&\"\", \"Bar\", \"\", \"Close\",\"5\",\"0\",\"PrimaryOnly\",,,\"False\",\"T\",\"EveryTick\")","v":1693.45},5.6176105558821826E-3,{"$f":"RTD(\"cqg.rtd\",,\"StudyData\", \"Close(\"&$D$12&\") when LocalYear(\"&$D$12&\")=\"&$D$7&\" and localMonth(\"&$D$12&\") =\"&$E$7&\" and LocalDay(\"&$D$12&\")=\"&$F$7&\" and Barix(\"&$D$12&\",reference:=StartOfSession)=\"&A9&\"\", \"Bar\", \"\", \"Close\",\"5\",\"0\",\"PrimaryOnly\",,,\"False\",\"T\",\"EveryTick\")","v":1680.23},-5.3690877878410804E-3,{"$f":"RTD(\"cqg.rtd\",,\"StudyData\", \"Close(\"&$D$12&\") when LocalYear(\"&$D$12&\")=\"&$D$8&\" and localMonth(\"&$D$12&\") =\"&$E$8&\" and LocalDay(\"&$D$12&\")=\"&$F$8&\" and Barix(\"&$D$12&\",reference:=StartOfSession)=\"&A9&\"\", \"Bar\", \"\", \"Close\",\"5\",\"0\",\"PrimaryOnly\",,,\"False\",\"T\",\"EveryTick\")","v":1685.67},-5.9442724458203906E-3,{"$f":"RTD(\"cqg.rtd\",,\"StudyData\", \"Close(\"&$D$12&\") when LocalYear(\"&$D$12&\")=\"&$D$9&\" and localMonth(\"&$D$12&\") =\"&$E$9&\" and LocalDay(\"&$D$12&\")=\"&$F$9&\" and Barix(\"&$D$12&\",reference:=StartOfSession)=\"&A9&\"\", \"Bar\", \"\", \"Close\",\"5\",\"0\",\"PrimaryOnly\",,,\"False\",\"T\",\"EveryTick\")","v":1695.18},-6.89716155274469E-4,{"$f":"RTD(\"cqg.rtd\",,\"StudyData\", \"Close(\"&$D$12&\") when LocalYear(\"&$D$12&\")=\"&$D$10&\" and localMonth(\"&$D$12&\") =\"&$E$10&\" and LocalDay(\"&$D$12&\")=\"&$F$10&\" and Barix(\"&$D$12&\",reference:=StartOfSession)=\"&A9&\"\", \"Bar\", \"\", \"Close\",\"5\",\"0\",\"PrimaryOnly\",,,\"False\",\"T\",\"EveryTick\")","v":1680.84},9.349835161865605E-3,{"$f":"RANK(AD9,$AD$1:$AD$10)+COUNTIF($AD$1:AD9,AD9)-1","v":1},"2018-06-06",{"$f":"VLOOKUP(MAX(AE2:AE81),A1:Y81,25,FALSE)","v":7.9936333893360287E-3},"",9,"2018-06-08",-6.0794411886580134E-3,null,null,"2018-06-08","2018-06-06",8,6]
[9,"09:15:00","2018-06-05",2018,6,5,{"$f":"RTD(\"cqg.rtd\",,\"StudyData\",$D$12,\"Bar\",,\"Close\",\"D\",\"-9\",,,,,\"T\")","v":1696.35},{"$f":"RTD(\"cqg.rtd\",,\"StudyData\", \"Close(\"&$D$12&\") when LocalYear(\"&$D$12&\")=\"&$D$1&\" and localMonth(\"&$D$12&\") =\"&$E$1&\" and LocalDay(\"&$D$12&\")=\"&$F$1&\" and Barix(\"&$D$12&\",reference:=StartOfSession)=\"&A10&\"\", \"Bar\", \"\", \"Close\",\"5\",\"0\",\"PrimaryOnly\",,,\"False\",\"T\",\"EveryTick\")","v":""},{"$error":"#N/A"},{"$f":"RTD(\"cqg.rtd\",,\"StudyData\", \"Close(\"&$D$12&\") when LocalYear(\"&$D$12&\")=\"&$D$2&\" and localMonth(\"&$D$12&\") =\"&$E$2&\" and LocalDay(\"&$D$12&\")=\"&$F$2&\" and Barix(\"&$D$12&\",reference:=StartOfSession)=\"&A10&\"\", \"Bar\", \"\", \"Close\",\"5\",\"0\",\"PrimaryOnly\",,,\"False\",\"T\",\"EveryTick\")","v":1719.1},-2.7612451127121641E-3,{"$f":"RTD(\"cqg.rtd\",,\"StudyData\", \"Close(\"&$D$12&\") when LocalYear(\"&$D$12&\")=\"&$D$3&\" and localMonth(\"&$D$12&\") =\"&$E$3&\" and LocalDay(\"&$D$12&\")=\"&$F$3&\" and Barix(\"&$D$12&\",reference:=StartOfSession)=\"&A10&\"\", \"Bar\", \"\", \"Close\",\"5\",\"0\",\"PrimaryOnly\",,,\"False\",\"T\",\"EveryTick\")","v":1716.4},6.7688842485601119E-3,{"$f":"RTD(\"cqg.rtd\",,\"StudyData\", \"Close(\"&$D$12&\") when LocalYear(\"&$D$12&\")=\"&$D$4&\" and localMonth(\"&$D$12&\") =\"&$E$4&\" and LocalDay(\"&$D$12&\")=\"&$F$4&\" and Barix(\"&$D$12&\",reference:=StartOfSession)=\"&A10&\"\", \"Bar\", \"\", \"Close\",\"5\",\"0\",\"PrimaryOnly\",,,\"False\",\"T\",\"EveryTick\")","v":1705.62},4.0441501103752114E-3,{"$f":"RTD(\"cqg.rtd\",,\"StudyData\", \"Close(\"&$D$12&\") when LocalYear(\"&$D$12&\")=\"&$D$5&\" and localMonth(\"&$D$12&\") =\"&$E$5&\" and LocalDay(\"&$D$12&\")=\"&$F$5&\" and Barix(\"&$D$12&\",reference:=StartOfSession)=\"&A10&\"\", \"Bar\", \"\", \"Close\",\"5\",\"0\",\"PrimaryOnly\",,,\"False\",\"T\",\"EveryTick\")","v":1695.6},3.8363171355498831E-3,{"$f":"RTD(\"cqg.rtd\",,\"StudyData\", \"Close(\"&$D$12&\") when LocalYear(\"&$D$12&\")=\"&$D$6&\" and localMonth(\"&$D$12&\") =\"&$E$6&\" and LocalDay(\"&$D$12&\")=\"&$F$6&\" and Barix(\"&$D$12&\",reference:=StartOfSession)=\"&A10&\"\", \"Bar\", \"\", \"Close\",\"5\",\"0\",\"PrimaryOnly\",,,\"False\",\"T\",\"EveryTick\")","v":1692.85},5.2613139032891528E-3,{"$f":"RTD(\"cqg.rtd\",,\"StudyData\", \"Close(\"&$D$12&\") when LocalYear(\"&$D$12&\")=\"&$D$7&\" and localMonth(\"&$D$12&\") =\"&$E$7&\" and LocalDay(\"&$D$12&\")=\"&$F$7&\" and Barix(\"&$D$12&\",reference:=StartOfSession)=\"&A10&\"\", \"Bar\", \"\", \"Close\",\"5\",\"0\",\"PrimaryOnly\",,,\"False\",\"T\",\"EveryTick\")","v":1681.32},-4.7238501154324387E-3,{"$f":"RTD(\"cqg.rtd\",,\"StudyData\", \"Close(\"&$D$12&\") when LocalYear(\"&$D$12&\")=\"&$D$8&\" and localMonth(\"&$D$12&\") =\"&$E$8&\" and LocalDay(\"&$D$12&\")=\"&$F$8&\" and Barix(\"&$D$12&\",reference:=StartOfSession)=\"&A10&\"\", \"Bar\", \"\", \"Close\",\"5\",\"0\",\"PrimaryOnly\",,,\"False\",\"T\",\"EveryTick\")","v":1686.37},-5.5314757481940788E-3,{"$f":"RTD(\"cqg.rtd\",,\"StudyData\", \"Close(\"&$D$12&\") when LocalYear(\"&$D$12&\")=\"&$D$9&\" and localMonth(\"&$D$12&\") =\"&$E$9&\" and LocalDay(\"&$D$12&\")=\"&$F$9&\" and Barix(\"&$D$12&\",reference:=StartOfSession)=\"&A10&\"\", \"Bar\", \"\", \"Close\",\"5\",\"0\",\"PrimaryOnly\",,,\"False\",\"T\",\"EveryTick\")","v":1688.32},-4.7336929289356405E-3,{"$f":"RTD(\"cqg.rtd\",,\"StudyData\", \"Close(\"&$D$12&\") when LocalYear(\"&$D$12&\")=\"&$D$10&\" and localMonth(\"&$D$12&\") =\"&$E$10&\" and LocalDay(\"&$D$12&\")=\"&$F$10&\" and Barix(\"&$D$12&\",reference:=StartOfSession)=\"&A10&\"\", \"Bar\", \"\", \"Close\",\"5\",\"0\",\"PrimaryOnly\",,,\"False\",\"T\",\"EveryTick\")","v":1683.25},1.0797047926162135E-2,{"$f":"RANK(AD10,$AD$1:$AD$10)+COUNTIF($AD$1:AD10,AD10)-1","v":3},"2018-06-05",{"$f":"VLOOKUP(MAX(AE2:AE81),A1:AA81,27,FALSE)","v":5.4885994463360899E-3},"",10,"2018-06-15",-6.5202510644715985E-3,null,null,"2018-06-15","2018-06-05",9,1]
[10,"09:20:00","2018-06-04",2018,6,4,{"$f":"RTD(\"cqg.rtd\",,\"StudyData\",$D$12,\"Bar\",,\"Close\",\"D\",\"-10\",,,,,\"T\")","v":1665.27},{"$f":"RTD(\"cqg.rtd\",,\"StudyData\", \"Close(\"&$D$12&\") when LocalYear(\"&$D$12&\")=\"&$D$1&\" and localMonth(\"&$D$12&\") =\"&$E$1&\" and LocalDay(\"&$D$12&\")=\"&$F$1&\" and Barix(\"&$D$12&\",reference:=StartOfSession)=\"&A11&\"\", \"Bar\", \"\", \"Close\",\"5\",\"0\",\"PrimaryOnly\",,,\"False\",\"T\",\"EveryTick\")","v":""},{"$error":"#N/A"},{"$f":"RTD(\"cqg.rtd\",,\"StudyData\", \"Close(\"&$D$12&\") when LocalYear(\"&$D$12&\")=\"&$D$2&\" and localMonth(\"&$D$12&\") =\"&$E$2&\" and LocalDay(\"&$D$12&\")=\"&$F$2&\" and Barix(\"&$D$12&\",reference:=StartOfSession)=\"&A11&\"\", \"Bar\", \"\", \"Close\",\"5\",\"0\",\"PrimaryOnly\",,,\"False\",\"T\",\"EveryTick\")","v":1718.46},-3.1325049597994408E-3,{"$f":"RTD(\"cqg.rtd\",,\"StudyData\", \"Close(\"&$D$12&\") when LocalYear(\"&$D$12&\")=\"&$D$3&\" and localMonth(\"&$D$12&\") =\"&$E$3&\" and LocalDay(\"&$D$12&\")=\"&$F$3&\" and Barix(\"&$D$12&\",reference:=StartOfSession)=\"&A11&\"\", \"Bar\", \"\", \"Close\",\"5\",\"0\",\"PrimaryOnly\",,,\"False\",\"T\",\"EveryTick\")","v":1716.99},7.1149537205401677E-3,{"$f":"RTD(\"cqg.rtd\",,\"StudyData\", \"Close(\"&$D$12&\") when LocalYear(\"&$D$12&\")=\"&$D$4&\" and localMonth(\"&$D$12&\") =\"&$E$4&\" and LocalDay(\"&$D$12&\")=\"&$F$4&\" and Barix(\"&$D$12&\",reference:=StartOfSession)=\"&A11&\"\", \"Bar\", \"\", \"Close\",\"5\",\"0\",\"PrimaryOnly\",,,\"False\",\"T\",\"EveryTick\")","v":1705.71},4.0971302428256286E-3,{"$f":"RTD(\"cqg.rtd\",,\"StudyData\", \"Close(\"&$D$12&\") when LocalYear(\"&$D$12&\")=\"&$D$5&\" and localMonth(\"&$D$12&\") =\"&$E$5&\" and LocalDay(\"&$D$12&\")=\"&$F$5&\" and Barix(\"&$D$12&\",reference:=StartOfSession)=\"&A11&\"\", \"Bar\", \"\", \"Close\",\"5\",\"0\",\"PrimaryOnly\",,,\"False\",\"T\",\"EveryTick\")","v":1694.25},3.0370843989770469E-3,{"$f":"RTD(\"cqg.rtd\",,\"StudyData\", \"Close(\"&$D$12&\") when LocalYear(\"&$D$12&\")=\"&$D$6&\" and localMonth(\"&$D$12&\") =\"&$E$6&\" and LocalDay(\"&$D$12&\")=\"&$F$6&\" and Barix(\"&$D$12&\",reference:=StartOfSession)=\"&A11&\"\", \"Bar\", \"\", \"Close\",\"5\",\"0\",\"PrimaryOnly\",,,\"False\",\"T\",\"EveryTick\")","v":1690.74},4.0083373416706751E-3,{"$f":"RTD(\"cqg.rtd\",,\"StudyData\", \"Close(\"&$D$12&\") when LocalYear(\"&$D$12&\")=\"&$D$7&\" and localMonth(\"&$D$12&\") =\"&$E$7&\" and LocalDay(\"&$D$12&\")=\"&$F$7&\" and Barix(\"&$D$12&\",reference:=StartOfSession)=\"&A11&\"\", \"Bar\", \"\", \"Close\",\"5\",\"0\",\"PrimaryOnly\",,,\"False\",\"T\",\"EveryTick\")","v":1682.39},-4.0904516663706003E-3,{"$f":"RTD(\"cqg.rtd\",,\"StudyData\", \"Close(\"&$D$12&\") when LocalYear(\"&$D$12&\")=\"&$D$8&\" and localMonth(\"&$D$12&\") =\"&$E$8&\" and LocalDay(\"&$D$12&\")=\"&$F$8&\" and Barix(\"&$D$12&\",reference:=StartOfSession)=\"&A11&\"\", \"Bar\", \"\", \"Close\",\"5\",\"0\",\"PrimaryOnly\",,,\"False\",\"T\",\"EveryTick\")","v":1685},-6.33937785640572E-3,{"$f":"RTD(\"cqg.rtd\",,\"StudyData\", \"Close(\"&$D$12&\") when LocalYear(\"&$D$12&\")=\"&$D$9&\" and localMonth(\"&$D$12&\") =\"&$E$9&\" and LocalDay(\"&$D$12&\")=\"&$F$9&\" and Barix(\"&$D$12&\",reference:=StartOfSession)=\"&A11&\"\", \"Bar\", \"\", \"Close\",\"5\",\"0\",\"PrimaryOnly\",,,\"False\",\"T\",\"EveryTick\")","v":1692.35},-2.3580039496566159E-3,{"$f":"RTD(\"cqg.rtd\",,\"StudyData\", \"Close(\"&$D$12&\") when LocalYear(\"&$D$12&\")=\"&$D$10&\" and localMonth(\"&$D$12&\") =\"&$E$10&\" and LocalDay(\"&$D$12&\")=\"&$F$10&\" and Barix(\"&$D$12&\",reference:=StartOfSession)=\"&A11&\"\", \"Bar\", \"\", \"Close\",\"5\",\"0\",\"PrimaryOnly\",,,\"False\",\"T\",\"EveryTick\")","v":1683.3},1.0827073087247096E-2,null,null,null,""]
[11,"09:25:00",null,{"$f":"MainDisplay!R5","v":"S.AMZN"},null,null,null,{"$f":"RTD(\"cqg.rtd\",,\"StudyData\", \"Close(\"&$D$12&\") when LocalYear(\"&$D$12&\")=\"&$D$1&\" and localMonth(\"&$D$12&\") =\"&$E$1&\" and LocalDay(\"&$D$12&\")=\"&$F$1&\" and Barix(\"&$D$12&\",reference:=StartOfSession)=\"&A12&\"\", \"Bar\", \"\", \"Close\",\"5\",\"0\",\"PrimaryOnly\",,,\"False\",\"T\",\"EveryTick\")","v":""},{"$error":"#N/A"},{"$f":"RTD(\"cqg.rtd\",,\"StudyData\", \"Close(\"&$D$12&\") when LocalYear(\"&$D$12&\")=\"&$D$2&\" and localMonth(\"&$D$12&\") =\"&$E$2&\" and LocalDay(\"&$D$12&\")=\"&$F$2&\" and Barix(\"&$D$12&\",reference:=StartOfSession)=\"&A12&\"\", \"Bar\", \"\", \"Close\",\"5\",\"0\",\"PrimaryOnly\",,,\"False\",\"T\",\"EveryTick\")","v":1716.48},-4.2810901117259423E-3,{"$f":"RTD(\"cqg.rtd\",,\"StudyData\", \"Close(\"&$D$12&\") when LocalYear(\"&$D$12&\")=\"&$D$3&\" and localMonth(\"&$D$12&\") =\"&$E$3&\" and LocalDay(\"&$D$12&\")=\"&$F$3&\" and Barix(\"&$D$12&\",reference:=StartOfSession)=\"&A12&\"\", \"Bar\", \"\", \"Close\",\"5\",\"0\",\"PrimaryOnly\",,,\"False\",\"T\",\"EveryTick\")","v":1717.61},7.4786199453327554E-3,{"$f":"RTD(\"cqg.rtd\",,\"StudyData\", \"Close(\"&$D$12&\") when LocalYear(\"&$D$12&\")=\"&$D$4&\" and localMonth(\"&$D$12&\") =\"&$E$4&\" and LocalDay(\"&$D$12&\")=\"&$F$4&\" and Barix(\"&$D$12&\",reference:=StartOfSession)=\"&A12&\"\", \"Bar\", \"\", \"Close\",\"5\",\"0\",\"PrimaryOnly\",,,\"False\",\"T\",\"EveryTick\")","v":1706.3},4.4444444444444176E-3,{"$f":"RTD(\"cqg.rtd\",,\"StudyData\", \"Close(\"&$D$12&\") when LocalYear(\"&$D$12&\")=\"&$D$5&\" and localMonth(\"&$D$12&\") =\"&$E$5&\" and LocalDay(\"&$D$12&\")=\"&$F$5&\" and Barix(\"&$D$12&\",reference:=StartOfSession)=\"&A12&\"\", \"Bar\", \"\", \"Close\",\"5\",\"0\",\"PrimaryOnly\",,,\"False\",\"T\",\"EveryTick\")","v":1693.5},2.5930662119921081E-3,{"$f":"RTD(\"cqg.rtd\",,\"StudyData\", \"Close(\"&$D$12&\") when LocalYear(\"&$D$12&\")=\"&$D$6&\" and localMonth(\"&$D$12&\") =\"&$E$6&\" and LocalDay(\"&$D$12&\")=\"&$F$6&\" and Barix(\"&$D$12&\",reference:=StartOfSession)=\"&A12&\"\", \"Bar\", \"\", \"Close\",\"5\",\"0\",\"PrimaryOnly\",,,\"False\",\"T\",\"EveryTick\")","v":1687.46},2.0605823074959038E-3,{"$f":"RTD(\"cqg.rtd\",,\"StudyData\", \"Close(\"&$D$12&\") when LocalYear(\"&$D$12&\")=\"&$D$7&\" and localMonth(\"&$D$12&\") =\"&$E$7&\" and LocalDay(\"&$D$12&\")=\"&$F$7&\" and Barix(\"&$D$12&\",reference:=StartOfSession)=\"&A12&\"\", \"Bar\", \"\", \"Close\",\"5\",\"0\",\"PrimaryOnly\",,,\"False\",\"T\",\"EveryTick\")","v":1682.42},-4.0726928313501937E-3,{"$f":"RTD(\"cqg.rtd\",,\"StudyData\", \"Close(\"&$D$12&\") when LocalYear(\"&$D$12&\")=\"&$D$8&\" and localMonth(\"&$D$12&\") =\"&$E$8&\" and LocalDay(\"&$D$12&\")=\"&$F$8&\" and Barix(\"&$D$12&\",reference:=StartOfSession)=\"&A12&\"\", \"Bar\", \"\", \"Close\",\"5\",\"0\",\"PrimaryOnly\",,,\"False\",\"T\",\"EveryTick\")","v":1683.62},-7.1531770602978675E-3,{"$f":"RTD(\"cqg.rtd\",,\"StudyData\", \"Close(\"&$D$12&\") when LocalYear(\"&$D$12&\")=\"&$D$9&\" and localMonth(\"&$D$12&\") =\"&$E$9&\" and LocalDay(\"&$D$12&\")=\"&$F$9&\" and Barix(\"&$D$12&\",reference:=StartOfSession)=\"&A12&\"\", \"Bar\", \"\", \"Close\",\"5\",\"0\",\"PrimaryOnly\",,,\"False\",\"T\",\"EveryTick\")","v":1691.7},-2.7411795914757354E-3,{"$f":"RTD(\"cqg.rtd\",,\"StudyData\", \"Close(\"&$D$12&\") when LocalYear(\"&$D$12&\")=\"&$D$10&\" and localMonth(\"&$D$12&\") =\"&$E$10&\" and LocalDay(\"&$D$12&\")=\"&$F$10&\" and Barix(\"&$D$12&\",reference:=StartOfSession)=\"&A12&\"\", \"Bar\", \"\", \"Close\",\"5\",\"0\",\"PrimaryOnly\",,,\"False\",\"T\",\"EveryTick\")","v":1685.11},1.1913983918523673E-2,null,{"$f":"VLOOKUP(MAX(AE2:AE81),A1:B81,2,FALSE)","v":"08:40:00"},null,""]
[12,"09:30:00",null,{"$f":"RTD(\"cqg.rtd\", ,\"ContractData\",D12, \"LastQuoteToday\",, \"T\")","v":1718.42},null,null,{"$f":"C1","v":"2018-06-18"},{"$f":"RTD(\"cqg.rtd\",,\"StudyData\", \"Close(\"&$D$12&\") when LocalYear(\"&$D$12&\")=\"&$D$1&\" and localMonth(\"&$D$12&\") =\"&$E$1&\" and LocalDay(\"&$D$12&\")=\"&$F$1&\" and Barix(\"&$D$12&\",reference:=StartOfSession)=\"&A13&\"\", \"Bar\", \"\", \"Close\",\"5\",\"0\",\"PrimaryOnly\",,,\"False\",\"T\",\"EveryTick\")","v":""},{"$error":"#N/A"},{"$f":"RTD(\"cqg.rtd\",,\"StudyData\", \"Close(\"&$D$12&\") when LocalYear(\"&$D$12&\")=\"&$D$2&\" and localMonth(\"&$D$12&\") =\"&$E$2&\" and LocalDay(\"&$D$12&\")=\"&$F$2&\" and Barix(\"&$D$12&\",reference:=StartOfSession)=\"&A13&\"\", \"Bar\", \"\", \"Close\",\"5\",\"0\",\"PrimaryOnly\",,,\"False\",\"T\",\"EveryTick\")","v":1716.66},-4.1766732797325875E-3,{"$f":"RTD(\"cqg.rtd\",,\"StudyData\", \"Close(\"&$D$12&\") when LocalYear(\"&$D$12&\")=\"&$D$3&\" and localMonth(\"&$D$12&\") =\"&$E$3&\" and LocalDay(\"&$D$12&\")=\"&$F$3&\" and Barix(\"&$D$12&\",reference:=StartOfSession)=\"&A13&\"\", \"Bar\", \"\", \"Close\",\"5\",\"0\",\"PrimaryOnly\",,,\"False\",\"T\",\"EveryTick\")","v":1714.99},5.9418368663703234E-3,{"$f":"RTD(\"cqg.rtd\",,\"StudyData\", \"Close(\"&$D$12&\") when LocalYear(\"&$D$12&\")=\"&$D$4&\" and localMonth(\"&$D$12&\") =\"&$E$4&\" and LocalDay(\"&$D$12&\")=\"&$F$4&\" and Barix(\"&$D$12&\",reference:=StartOfSession)=\"&A13&\"\", \"Bar\", \"\", \"Close\",\"5\",\"0\",\"PrimaryOnly\",,,\"False\",\"T\",\"EveryTick\")","v":1706.85},4.7682119205297475E-3,{"$f":"RTD(\"cqg.rtd\",,\"StudyData\", \"Close(\"&$D$12&\") when LocalYear(\"&$D$12&\")=\"&$D$5&\" and localMonth(\"&$D$12&\") =\"&$E$5&\" and LocalDay(\"&$D$12&\")=\"&$F$5&\" and Barix(\"&$D$12&\",reference:=StartOfSession)=\"&A13&\"\", \"Bar\", \"\", \"Close\",\"5\",\"0\",\"PrimaryOnly\",,,\"False\",\"T\",\"EveryTick\")","v":1693.27},2.4569006346500492E-3,{"$f":"RTD(\"cqg.rtd\",,\"StudyData\", \"Close(\"&$D$12&\") when LocalYear(\"&$D$12&\")=\"&$D$6&\" and localMonth(\"&$D$12&\") =\"&$E$6&\" and LocalDay(\"&$D$12&\")=\"&$F$6&\" and Barix(\"&$D$12&\",reference:=StartOfSession)=\"&A13&\"\", \"Bar\", \"\", \"Close\",\"5\",\"0\",\"PrimaryOnly\",,,\"False\",\"T\",\"EveryTick\")","v":1686.5},1.4905076633471642E-3,{"$f":"RTD(\"cqg.rtd\",,\"StudyData\", \"Close(\"&$D$12&\") when LocalYear(\"&$D$12&\")=\"&$D$7&\" and localMonth(\"&$D$12&\") =\"&$E$7&\" and LocalDay(\"&$D$12&\")=\"&$F$7&\" and Barix(\"&$D$12&\",reference:=StartOfSession)=\"&A13&\"\", \"Bar\", \"\", \"Close\",\"5\",\"0\",\"PrimaryOnly\",,,\"False\",\"T\",\"EveryTick\")","v":1680.15},-5.4164446812288306E-3,{"$f":"RTD(\"cqg.rtd\",,\"StudyData\", \"Close(\"&$D$12&\") when LocalYear(\"&$D$12&\")=\"&$D$8&\" and localMonth(\"&$D$12&\") =\"&$E$8&\" and LocalDay(\"&$D$12&\")=\"&$F$8&\" and Barix(\"&$D$12&\",reference:=StartOfSession)=\"&A13&\"\", \"Bar\", \"\", \"Close\",\"5\",\"0\",\"PrimaryOnly\",,,\"False\",\"T\",\"EveryTick\")","v":1681.33},-8.5036119711042746E-3,{"$f":"RTD(\"cqg.rtd\",,\"StudyData\", \"Close(\"&$D$12&\") when LocalYear(\"&$D$12&\")=\"&$D$9&\" and localMonth(\"&$D$12&\") =\"&$E$9&\" and LocalDay(\"&$D$12&\")=\"&$F$9&\" and Barix(\"&$D$12&\",reference:=StartOfSession)=\"&A13&\"\", \"Bar\", \"\", \"Close\",\"5\",\"0\",\"PrimaryOnly\",,,\"False\",\"T\",\"EveryTick\")","v":1689.7},-3.9201815663040436E-3,{"$f":"RTD(\"cqg.rtd\",,\"StudyData\", \"Close(\"&$D$12&\") when LocalYear(\"&$D$12&\")=\"&$D$10&\" and localMonth(\"&$D$12&\") =\"&$E$10&\" and LocalDay(\"&$D$12&\")=\"&$F$10&\" and Barix(\"&$D$12&\",reference:=StartOfSession)=\"&A13&\"\", \"Bar\", \"\", \"Close\",\"5\",\"0\",\"PrimaryOnly\",,,\"False\",\"T\",\"EveryTick\")","v":1684.55},1.1577702114371827E-2,null,null,null,""]
[13,"09:35:00",null,{"$f":"RTD(\"cqg.rtd\", ,\"ContractData\",D12, \"LongDescription\",, \"T\")","v":"Amazon.com Inc"},null,null,{"$f":"C2","v":"2018-06-15"},{"$f":"RTD(\"cqg.rtd\",,\"StudyData\", \"Close(\"&$D$12&\") when LocalYear(\"&$D$12&\")=\"&$D$1&\" and localMonth(\"&$D$12&\") =\"&$E$1&\" and LocalDay(\"&$D$12&\")=\"&$F$1&\" and Barix(\"&$D$12&\",reference:=StartOfSession)=\"&A14&\"\", \"Bar\", \"\", \"Close\",\"5\",\"0\",\"PrimaryOnly\",,,\"False\",\"T\",\"EveryTick\")","v":""},{"$error":"#N/A"},{"$f":"RTD(\"cqg.rtd\",,\"StudyData\", \"Close(\"&$D$12&\") when LocalYear(\"&$D$12&\")=\"&$D$2&\" and localMonth(\"&$D$12&\") =\"&$E$2&\" and LocalDay(\"&$D$12&\")=\"&$F$2&\" and Barix(\"&$D$12&\",reference:=StartOfSession)=\"&A14&\"\", \"Bar\", \"\", \"Close\",\"5\",\"0\",\"PrimaryOnly\",,,\"False\",\"T\",\"EveryTick\")","v":1716},-4.5595349970414655E-3,{"$f":"RTD(\"cqg.rtd\",,\"StudyData\", \"Close(\"&$D$12&\") when LocalYear(\"&$D$12&\")=\"&$D$3&\" and localMonth(\"&$D$12&\") =\"&$E$3&\" and LocalDay(\"&$D$12&\")=\"&$F$3&\" and Barix(\"&$D$12&\",reference:=StartOfSession)=\"&A14&\"\", \"Bar\", \"\", \"Close\",\"5\",\"0\",\"PrimaryOnly\",,,\"False\",\"T\",\"EveryTick\")","v":1715.99},6.5283952934552456E-3,{"$f":"RTD(\"cqg.rtd\",,\"StudyData\", \"Close(\"&$D$12&\") when LocalYear(\"&$D$12&\")=\"&$D$4&\" and localMonth(\"&$D$12&\") =\"&$E$4&\" and LocalDay(\"&$D$12&\")=\"&$F$4&\" and Barix(\"&$D$12&\",reference:=StartOfSession)=\"&A14&\"\", \"Bar\", \"\", \"Close\",\"5\",\"0\",\"PrimaryOnly\",,,\"False\",\"T\",\"EveryTick\")","v":1706.3},4.4444444444444176E-3,{"$f":"RTD(\"cqg.rtd\",,\"StudyData\", \"Close(\"&$D$12&\") when LocalYear(\"&$D$12&\")=\"&$D$5&\" and localMonth(\"&$D$12&\") =\"&$E$5&\" and LocalDay(\"&$D$12&\")=\"&$F$5&\" and Barix(\"&$D$12&\",reference:=StartOfSession)=\"&A14&\"\", \"Bar\", \"\", \"Close\",\"5\",\"0\",\"PrimaryOnly\",,,\"False\",\"T\",\"EveryTick\")","v":1692.71},2.1253670550346604E-3,{"$f":"RTD(\"cqg.rtd\",,\"StudyData\", \"Close(\"&$D$12&\") when LocalYear(\"&$D$12&\")=\"&$D$6&\" and localMonth(\"&$D$12&\") =\"&$E$6&\" and LocalDay(\"&$D$12&\")=\"&$F$6&\" and Barix(\"&$D$12&\",reference:=StartOfSession)=\"&A14&\"\", \"Bar\", \"\", \"Close\",\"5\",\"0\",\"PrimaryOnly\",,,\"False\",\"T\",\"EveryTick\")","v":1687.91},2.3278047969406425E-3,{"$f":"RTD(\"cqg.rtd\",,\"StudyData\", \"Close(\"&$D$12&\") when LocalYear(\"&$D$12&\")=\"&$D$7&\" and localMonth(\"&$D$12&\") =\"&$E$7&\" and LocalDay(\"&$D$12&\")=\"&$F$7&\" and Barix(\"&$D$12&\",reference:=StartOfSession)=\"&A14&\"\", \"Bar\", \"\", \"Close\",\"5\",\"0\",\"PrimaryOnly\",,,\"False\",\"T\",\"EveryTick\")","v":1679.62},-5.730184099923083E-3,{"$f":"RTD(\"cqg.rtd\",,\"StudyData\", \"Close(\"&$D$12&\") when LocalYear(\"&$D$12&\")=\"&$D$8&\" and localMonth(\"&$D$12&\") =\"&$E$8&\" and LocalDay(\"&$D$12&\")=\"&$F$8&\" and Barix(\"&$D$12&\",reference:=StartOfSession)=\"&A14&\"\", \"Bar\", \"\", \"Close\",\"5\",\"0\",\"PrimaryOnly\",,,\"False\",\"T\",\"EveryTick\")","v":1677.84},-1.0561698363555997E-2,{"$f":"RTD(\"cqg.rtd\",,\"StudyData\", \"Close(\"&$D$12&\") when LocalYear(\"&$D$12&\")=\"&$D$9&\" and localMonth(\"&$D$12&\") =\"&$E$9&\" and LocalDay(\"&$D$12&\")=\"&$F$9&\" and Barix(\"&$D$12&\",reference:=StartOfSession)=\"&A14&\"\", \"Bar\", \"\", \"Close\",\"5\",\"0\",\"PrimaryOnly\",,,\"False\",\"T\",\"EveryTick\")","v":1691.05},-3.1243552332949893E-3,{"$f":"RTD(\"cqg.rtd\",,\"StudyData\", \"Close(\"&$D$12&\") when LocalYear(\"&$D$12&\")=\"&$D$10&\" and localMonth(\"&$D$12&\") =\"&$E$10&\" and LocalDay(\"&$D$12&\")=\"&$F$10&\" and Barix(\"&$D$12&\",reference:=StartOfSession)=\"&A14&\"\", \"Bar\", \"\", \"Close\",\"5\",\"0\",\"PrimaryOnly\",,,\"False\",\"T\",\"EveryTick\")","v":1683.27},1.0809057990596119E-2,null,null,null,""]
[14,"09:40:00","",null,null,null,"2018-06-14",{"$f":"RTD(\"cqg.rtd\",,\"StudyData\", \"Close(\"&$D$12&\") when LocalYear(\"&$D$12&\")=\"&$D$1&\" and localMonth(\"&$D$12&\") =\"&$E$1&\" and LocalDay(\"&$D$12&\")=\"&$F$1&\" and Barix(\"&$D$12&\",reference:=StartOfSession)=\"&A15&\"\", \"Bar\", \"\", \"Close\",\"5\",\"0\",\"PrimaryOnly\",,,\"False\",\"T\",\"EveryTick\")","v":""},{"$error":"#N/A"},{"$f":"RTD(\"cqg.rtd\",,\"StudyData\", \"Close(\"&$D$12&\") when LocalYear(\"&$D$12&\")=\"&$D$2&\" and localMonth(\"&$D$12&\") =\"&$E$2&\" and LocalDay(\"&$D$12&\")=\"&$F$2&\" and Barix(\"&$D$12&\",reference:=StartOfSession)=\"&A15&\"\", \"Bar\", \"\", \"Close\",\"5\",\"0\",\"PrimaryOnly\",,,\"False\",\"T\",\"EveryTick\")","v":1717.82},-3.5037648068868494E-3,{"$f":"RTD(\"cqg.rtd\",,\"StudyData\", \"Close(\"&$D$12&\") when LocalYear(\"&$D$12&\")=\"&$D$3&\" and localMonth(\"&$D$12&\") =\"&$E$3&\" and LocalDay(\"&$D$12&\")=\"&$F$3&\" and Barix(\"&$D$12&\",reference:=StartOfSession)=\"&A15&\"\", \"Bar\", \"\", \"Close\",\"5\",\"0\",\"PrimaryOnly\",,,\"False\",\"T\",\"EveryTick\")","v":1716.32},6.721959574393227E-3,{"$f":"RTD(\"cqg.rtd\",,\"StudyData\", \"Close(\"&$D$12&\") when LocalYear(\"&$D$12&\")=\"&$D$4&\" and localMonth(\"&$D$12&\") =\"&$E$4&\" and LocalDay(\"&$D$12&\")=\"&$F$4&\" and Barix(\"&$D$12&\",reference:=StartOfSession)=\"&A15&\"\", \"Bar\", \"\", \"Close\",\"5\",\"0\",\"PrimaryOnly\",,,\"False\",\"T\",\"EveryTick\")","v":1706.61},4.6269315673288592E-3,{"$f":"RTD(\"cqg.rtd\",,\"StudyData\", \"Close(\"&$D$12&\") when LocalYear(\"&$D$12&\")=\"&$D$5&\" and localMonth(\"&$D$12&\") =\"&$E$5&\" and LocalDay(\"&$D$12&\")=\"&$F$5&\" and Barix(\"&$D$12&\",reference:=StartOfSession)=\"&A15&\"\", \"Bar\", \"\", \"Close\",\"5\",\"0\",\"PrimaryOnly\",,,\"False\",\"T\",\"EveryTick\")","v":1693.88},2.8180354267312085E-3,{"$f":"RTD(\"cqg.rtd\",,\"StudyData\", \"Close(\"&$D$12&\") when LocalYear(\"&$D$12&\")=\"&$D$6&\" and localMonth(\"&$D$12&\") =\"&$E$6&\" and LocalDay(\"&$D$12&\")=\"&$F$6&\" and Barix(\"&$D$12&\",reference:=StartOfSession)=\"&A15&\"\", \"Bar\", \"\", \"Close\",\"5\",\"0\",\"PrimaryOnly\",,,\"False\",\"T\",\"EveryTick\")","v":1687.16},1.8824339811994565E-3,{"$f":"RTD(\"cqg.rtd\",,\"StudyData\", \"Close(\"&$D$12&\") when LocalYear(\"&$D$12&\")=\"&$D$7&\" and localMonth(\"&$D$12&\") =\"&$E$7&\" and LocalDay(\"&$D$12&\")=\"&$F$7&\" and Barix(\"&$D$12&\",reference:=StartOfSession)=\"&A15&\"\", \"Bar\", \"\", \"Close\",\"5\",\"0\",\"PrimaryOnly\",,,\"False\",\"T\",\"EveryTick\")","v":1680.33},-5.3098916711063916E-3,{"$f":"RTD(\"cqg.rtd\",,\"StudyData\", \"Close(\"&$D$12&\") when LocalYear(\"&$D$12&\")=\"&$D$8&\" and localMonth(\"&$D$12&\") =\"&$E$8&\" and LocalDay(\"&$D$12&\")=\"&$F$8&\" and Barix(\"&$D$12&\",reference:=StartOfSession)=\"&A15&\"\", \"Bar\", \"\", \"Close\",\"5\",\"0\",\"PrimaryOnly\",,,\"False\",\"T\",\"EveryTick\")","v":1679.48},-9.5945746719740422E-3,{"$f":"RTD(\"cqg.rtd\",,\"StudyData\", \"Close(\"&$D$12&\") when LocalYear(\"&$D$12&\")=\"&$D$9&\" and localMonth(\"&$D$12&\") =\"&$E$9&\" and LocalDay(\"&$D$12&\")=\"&$F$9&\" and Barix(\"&$D$12&\",reference:=StartOfSession)=\"&A15&\"\", \"Bar\", \"\", \"Close\",\"5\",\"0\",\"PrimaryOnly\",,,\"False\",\"T\",\"EveryTick\")","v":1691.97},-2.5820143248739247E-3,{"$f":"RTD(\"cqg.rtd\",,\"StudyData\", \"Close(\"&$D$12&\") when LocalYear(\"&$D$12&\")=\"&$D$10&\" and localMonth(\"&$D$12&\") =\"&$E$10&\" and LocalDay(\"&$D$12&\")=\"&$F$10&\" and Barix(\"&$D$12&\",reference:=StartOfSession)=\"&A15&\"\", \"Bar\", \"\", \"Close\",\"5\",\"0\",\"PrimaryOnly\",,,\"False\",\"T\",\"EveryTick\")","v":1683.74},1.1091294504795035E-2,null,null,null,""]
[15,"09:45:00",null,{"$f":"RTD(\"cqg.rtd\", ,\"ContractData\",D12, \"Ticksize\",, \"T\")","v":0.01},null,null,"2018-06-13",{"$f":"RTD(\"cqg.rtd\",,\"StudyData\", \"Close(\"&$D$12&\") when LocalYear(\"&$D$12&\")=\"&$D$1&\" and localMonth(\"&$D$12&\") =\"&$E$1&\" and LocalDay(\"&$D$12&\")=\"&$F$1&\" and Barix(\"&$D$12&\",reference:=StartOfSession)=\"&A16&\"\", \"Bar\", \"\", \"Close\",\"5\",\"0\",\"PrimaryOnly\",,,\"False\",\"T\",\"EveryTick\")","v":""},{"$error":"#N/A"},{"$f":"RTD(\"cqg.rtd\",,\"StudyData\", \"Close(\"&$D$12&\") when LocalYear(\"&$D$12&\")=\"&$D$2&\" and localMonth(\"&$D$12&\") =\"&$E$2&\" and LocalDay(\"&$D$12&\")=\"&$F$2&\" and Barix(\"&$D$12&\",reference:=StartOfSession)=\"&A16&\"\", \"Bar\", \"\", \"Close\",\"5\",\"0\",\"PrimaryOnly\",,,\"False\",\"T\",\"EveryTick\")","v":1718.61},-3.0454909331384221E-3,{"$f":"RTD(\"cqg.rtd\",,\"StudyData\", \"Close(\"&$D$12&\") when LocalYear(\"&$D$12&\")=\"&$D$3&\" and localMonth(\"&$D$12&\") =\"&$E$3&\" and LocalDay(\"&$D$12&\")=\"&$F$3&\" and Barix(\"&$D$12&\",reference:=StartOfSession)=\"&A16&\"\", \"Bar\", \"\", \"Close\",\"5\",\"0\",\"PrimaryOnly\",,,\"False\",\"T\",\"EveryTick\")","v":1716.16},6.6281102260597252E-3,{"$f":"RTD(\"cqg.rtd\",,\"StudyData\", \"Close(\"&$D$12&\") when LocalYear(\"&$D$12&\")=\"&$D$4&\" and localMonth(\"&$D$12&\") =\"&$E$4&\" and LocalDay(\"&$D$12&\")=\"&$F$4&\" and Barix(\"&$D$12&\",reference:=StartOfSession)=\"&A16&\"\", \"Bar\", \"\", \"Close\",\"5\",\"0\",\"PrimaryOnly\",,,\"False\",\"T\",\"EveryTick\")","v":1705.31},3.8616629874907698E-3,{"$f":"RTD(\"cqg.rtd\",,\"StudyData\", \"Close(\"&$D$12&\") when LocalYear(\"&$D$12&\")=\"&$D$5&\" and localMonth(\"&$D$12&\") =\"&$E$5&\" and LocalDay(\"&$D$12&\")=\"&$F$5&\" and Barix(\"&$D$12&\",reference:=StartOfSession)=\"&A16&\"\", \"Bar\", \"\", \"Close\",\"5\",\"0\",\"PrimaryOnly\",,,\"False\",\"T\",\"EveryTick\")","v":1693.78},2.7588330017998025E-3,{"$f":"RTD(\"cqg.rtd\",,\"StudyData\", \"Close(\"&$D$12&\") when LocalYear(\"&$D$12&\")=\"&$D$6&\" and localMonth(\"&$D$12&\") =\"&$E$6&\" and LocalDay(\"&$D$12&\")=\"&$F$6&\" and Barix(\"&$D$12&\",reference:=StartOfSession)=\"&A16&\"\", \"Bar\", \"\", \"Close\",\"5\",\"0\",\"PrimaryOnly\",,,\"False\",\"T\",\"EveryTick\")","v":1686.44},1.4548779980879016E-3,{"$f":"RTD(\"cqg.rtd\",,\"StudyData\", \"Close(\"&$D$12&\") when LocalYear(\"&$D$12&\")=\"&$D$7&\" and localMonth(\"&$D$12&\") =\"&$E$7&\" and LocalDay(\"&$D$12&\")=\"&$F$7&\" and Barix(\"&$D$12&\",reference:=StartOfSession)=\"&A16&\"\", \"Bar\", \"\", \"Close\",\"5\",\"0\",\"PrimaryOnly\",,,\"False\",\"T\",\"EveryTick\")","v":1680.5},-5.209258272657287E-3,{"$f":"RTD(\"cqg.rtd\",,\"StudyData\", \"Close(\"&$D$12&\") when LocalYear(\"&$D$12&\")=\"&$D$8&\" and localMonth(\"&$D$12&\") =\"&$E$8&\" and LocalDay(\"&$D$12&\")=\"&$F$8&\" and Barix(\"&$D$12&\",reference:=StartOfSession)=\"&A16&\"\", \"Bar\", \"\", \"Close\",\"5\",\"0\",\"PrimaryOnly\",,,\"False\",\"T\",\"EveryTick\")","v":1679.11},-9.8127672121480769E-3,{"$f":"RTD(\"cqg.rtd\",,\"StudyData\", \"Close(\"&$D$12&\") when LocalYear(\"&$D$12&\")=\"&$D$9&\" and localMonth(\"&$D$12&\") =\"&$E$9&\" and LocalDay(\"&$D$12&\")=\"&$F$9&\" and Barix(\"&$D$12&\",reference:=StartOfSession)=\"&A16&\"\", \"Bar\", \"\", \"Close\",\"5\",\"0\",\"PrimaryOnly\",,,\"False\",\"T\",\"EveryTick\")","v":1688.04},-4.8987532054115875E-3,{"$f":"RTD(\"cqg.rtd\",,\"StudyData\", \"Close(\"&$D$12&\") when LocalYear(\"&$D$12&\")=\"&$D$10&\" and localMonth(\"&$D$12&\") =\"&$E$10&\" and LocalDay(\"&$D$12&\")=\"&$F$10&\" and Barix(\"&$D$12&\",reference:=StartOfSession)=\"&A16&\"\", \"Bar\", \"\", \"Close\",\"5\",\"0\",\"PrimaryOnly\",,,\"False\",\"T\",\"EveryTick\")","v":1683.34},1.0851093216115066E-2,null,null,null,""]
[16,"09:50:00",null,{"$f":"IF(D16>=1,0,IF(LEN(D16)-2=1,2,LEN(D16)-2))","v":2},null,{"$f":"VLOOKUP(D17,D18:E25,2,FALSE)","v":"#.00"},"2018-06-12",{"$f":"RTD(\"cqg.rtd\",,\"StudyData\", \"Close(\"&$D$12&\") when LocalYear(\"&$D$12&\")=\"&$D$1&\" and localMonth(\"&$D$12&\") =\"&$E$1&\" and LocalDay(\"&$D$12&\")=\"&$F$1&\" and Barix(\"&$D$12&\",reference:=StartOfSession)=\"&A17&\"\", \"Bar\", \"\", \"Close\",\"5\",\"0\",\"PrimaryOnly\",,,\"False\",\"T\",\"EveryTick\")","v":""},{"$error":"#N/A"},{"$f":"RTD(\"cqg.rtd\",,\"StudyData\", \"Close(\"&$D$12&\") when LocalYear(\"&$D$12&\")=\"&$D$2&\" and localMonth(\"&$D$12&\") =\"&$E$2&\" and LocalDay(\"&$D$12&\")=\"&$F$2&\" and Barix(\"&$D$12&\",reference:=StartOfSession)=\"&A17&\"\", \"Bar\", \"\", \"Close\",\"5\",\"0\",\"PrimaryOnly\",,,\"False\",\"T\",\"EveryTick\")","v":1718.59},-3.0570928033598912E-3,{"$f":"RTD(\"cqg.rtd\",,\"StudyData\", \"Close(\"&$D$12&\") when LocalYear(\"&$D$12&\")=\"&$D$3&\" and localMonth(\"&$D$12&\") =\"&$E$3&\" and LocalDay(\"&$D$12&\")=\"&$F$3&\" and Barix(\"&$D$12&\",reference:=StartOfSession)=\"&A17&\"\", \"Bar\", \"\", \"Close\",\"5\",\"0\",\"PrimaryOnly\",,,\"False\",\"T\",\"EveryTick\")","v":1716.92},7.0738946306442606E-3,{"$f":"RTD(\"cqg.rtd\",,\"StudyData\", \"Close(\"&$D$12&\") when LocalYear(\"&$D$12&\")=\"&$D$4&\" and localMonth(\"&$D$12&\") =\"&$E$4&\" and LocalDay(\"&$D$12&\")=\"&$F$4&\" and Barix(\"&$D$12&\",reference:=StartOfSession)=\"&A17&\"\", \"Bar\", \"\", \"Close\",\"5\",\"0\",\"PrimaryOnly\",,,\"False\",\"T\",\"EveryTick\")","v":1706.73},4.6975717439293706E-3,{"$f":"RTD(\"cqg.rtd\",,\"StudyData\", \"Close(\"&$D$12&\") when LocalYear(\"&$D$12&\")=\"&$D$5&\" and localMonth(\"&$D$12&\") =\"&$E$5&\" and LocalDay(\"&$D$12&\")=\"&$F$5&\" and Barix(\"&$D$12&\",reference:=StartOfSession)=\"&A17&\"\", \"Bar\", \"\", \"Close\",\"5\",\"0\",\"PrimaryOnly\",,,\"False\",\"T\",\"EveryTick\")","v":1695.46},3.7534337406461031E-3,{"$f":"RTD(\"cqg.rtd\",,\"StudyData\", \"Close(\"&$D$12&\") when LocalYear(\"&$D$12&\")=\"&$D$6&\" and localMonth(\"&$D$12&\") =\"&$E$6&\" and LocalDay(\"&$D$12&\")=\"&$F$6&\" and Barix(\"&$D$12&\",reference:=StartOfSession)=\"&A17&\"\", \"Bar\", \"\", \"Close\",\"5\",\"0\",\"PrimaryOnly\",,,\"False\",\"T\",\"EveryTick\")","v":1687.43},2.0427674748662726E-3,{"$f":"RTD(\"cqg.rtd\",,\"StudyData\", \"Close(\"&$D$12&\") when LocalYear(\"&$D$12&\")=\"&$D$7&\" and localMonth(\"&$D$12&\") =\"&$E$7&\" and LocalDay(\"&$D$12&\")=\"&$F$7&\" and Barix(\"&$D$12&\",reference:=StartOfSession)=\"&A17&\"\", \"Bar\", \"\", \"Close\",\"5\",\"0\",\"PrimaryOnly\",,,\"False\",\"T\",\"EveryTick\")","v":1682.07},-4.2798792399218718E-3,{"$f":"RTD(\"cqg.rtd\",,\"StudyData\", \"Close(\"&$D$12&\") when LocalYear(\"&$D$12&\")=\"&$D$8&\" and localMonth(\"&$D$12&\") =\"&$E$8&\" and LocalDay(\"&$D$12&\")=\"&$F$8&\" and Barix(\"&$D$12&\",reference:=StartOfSession)=\"&A17&\"\", \"Bar\", \"\", \"Close\",\"5\",\"0\",\"PrimaryOnly\",,,\"False\",\"T\",\"EveryTick\")","v":1679.75},-9.4353530886038626E-3,{"$f":"RTD(\"cqg.rtd\",,\"StudyData\", \"Close(\"&$D$12&\") when LocalYear(\"&$D$12&\")=\"&$D$9&\" and localMonth(\"&$D$12&\") =\"&$E$9&\" and LocalDay(\"&$D$12&\")=\"&$F$9&\" and Barix(\"&$D$12&\",reference:=StartOfSession)=\"&A17&\"\", \"Bar\", \"\", \"Close\",\"5\",\"0\",\"PrimaryOnly\",,,\"False\",\"T\",\"EveryTick\")","v":1691.79},-2.68812450260851E-3,{"$f":"RTD(\"cqg.rtd\",,\"StudyData\", \"Close(\"&$D$12&\") when LocalYear(\"&$D$12&\")=\"&$D$10&\" and localMonth(\"&$D$12&\") =\"&$E$10&\" and LocalDay(\"&$D$12&\")=\"&$F$10&\" and Barix(\"&$D$12&\",reference:=StartOfSession)=\"&A17&\"\", \"Bar\", \"\", \"Close\",\"5\",\"0\",\"PrimaryOnly\",,,\"False\",\"T\",\"EveryTick\")","v":1685.19},1.196202417625975E-2,null,null,null,""]
[17,"09:55:00",null,0,"#",null,"2018-06-11",{"$f":"RTD(\"cqg.rtd\",,\"StudyData\", \"Close(\"&$D$12&\") when LocalYear(\"&$D$12&\")=\"&$D$1&\" and localMonth(\"&$D$12&\") =\"&$E$1&\" and LocalDay(\"&$D$12&\")=\"&$F$1&\" and Barix(\"&$D$12&\",reference:=StartOfSession)=\"&A18&\"\", \"Bar\", \"\", \"Close\",\"5\",\"0\",\"PrimaryOnly\",,,\"False\",\"T\",\"EveryTick\")","v":""},{"$error":"#N/A"},{"$f":"RTD(\"cqg.rtd\",,\"StudyData\", \"Close(\"&$D$12&\") when LocalYear(\"&$D$12&\")=\"&$D$2&\" and localMonth(\"&$D$12&\") =\"&$E$2&\" and LocalDay(\"&$D$12&\")=\"&$F$2&\" and Barix(\"&$D$12&\",reference:=StartOfSession)=\"&A18&\"\", \"Bar\", \"\", \"Close\",\"5\",\"0\",\"PrimaryOnly\",,,\"False\",\"T\",\"EveryTick\")","v":1718.12},-3.3297367535646801E-3,{"$f":"RTD(\"cqg.rtd\",,\"StudyData\", \"Close(\"&$D$12&\") when LocalYear(\"&$D$12&\")=\"&$D$3&\" and localMonth(\"&$D$12&\") =\"&$E$3&\" and LocalDay(\"&$D$12&\")=\"&$F$3&\" and Barix(\"&$D$12&\",reference:=StartOfSession)=\"&A18&\"\", \"Bar\", \"\", \"Close\",\"5\",\"0\",\"PrimaryOnly\",,,\"False\",\"T\",\"EveryTick\")","v":1713.39},5.0033433830345021E-3,{"$f":"RTD(\"cqg.rtd\",,\"StudyData\", \"Close(\"&$D$12&\") when LocalYear(\"&$D$12&\")=\"&$D$4&\" and localMonth(\"&$D$12&\") =\"&$E$4&\" and LocalDay(\"&$D$12&\")=\"&$F$4&\" and Barix(\"&$D$12&\",reference:=StartOfSession)=\"&A18&\"\", \"Bar\", \"\", \"Close\",\"5\",\"0\",\"PrimaryOnly\",,,\"False\",\"T\",\"EveryTick\")","v":1707.08},4.9036055923472712E-3,{"$f":"RTD(\"cqg.rtd\",,\"StudyData\", \"Close(\"&$D$12&\") when LocalYear(\"&$D$12&\")=\"&$D$5&\" and localMonth(\"&$D$12&\") =\"&$E$5&\" and LocalDay(\"&$D$12&\")=\"&$F$5&\" and Barix(\"&$D$12&\",reference:=StartOfSession)=\"&A18&\"\", \"Bar\", \"\", \"Close\",\"5\",\"0\",\"PrimaryOnly\",,,\"False\",\"T\",\"EveryTick\")","v":1695.93},4.0316851378233475E-3,{"$f":"RTD(\"cqg.rtd\",,\"StudyData\", \"Close(\"&$D$12&\") when LocalYear(\"&$D$12&\")=\"&$D$6&\" and localMonth(\"&$D$12&\") =\"&$E$6&\" and LocalDay(\"&$D$12&\")=\"&$F$6&\" and Barix(\"&$D$12&\",reference:=StartOfSession)=\"&A18&\"\", \"Bar\", \"\", \"Close\",\"5\",\"0\",\"PrimaryOnly\",,,\"False\",\"T\",\"EveryTick\")","v":1689.12},3.0463363796696427E-3,{"$f":"RTD(\"cqg.rtd\",,\"StudyData\", \"Close(\"&$D$12&\") when LocalYear(\"&$D$12&\")=\"&$D$7&\" and localMonth(\"&$D$12&\") =\"&$E$7&\" and LocalDay(\"&$D$12&\")=\"&$F$7&\" and Barix(\"&$D$12&\",reference:=StartOfSession)=\"&A18&\"\", \"Bar\", \"\", \"Close\",\"5\",\"0\",\"PrimaryOnly\",,,\"False\",\"T\",\"EveryTick\")","v":1683.4},-3.4925708873497093E-3,{"$f":"RTD(\"cqg.rtd\",,\"StudyData\", \"Close(\"&$D$12&\") when LocalYear(\"&$D$12&\")=\"&$D$8&\" and localMonth(\"&$D$12&\") =\"&$E$8&\" and LocalDay(\"&$D$12&\")=\"&$F$8&\" and Barix(\"&$D$12&\",reference:=StartOfSession)=\"&A18&\"\", \"Bar\", \"\", \"Close\",\"5\",\"0\",\"PrimaryOnly\",,,\"False\",\"T\",\"EveryTick\")","v":1685.59},-5.9914492112635009E-3,{"$f":"RTD(\"cqg.rtd\",,\"StudyData\", \"Close(\"&$D$12&\") when LocalYear(\"&$D$12&\")=\"&$D$9&\" and localMonth(\"&$D$12&\") =\"&$E$9&\" and LocalDay(\"&$D$12&\")=\"&$F$9&\" and Barix(\"&$D$12&\",reference:=StartOfSession)=\"&A18&\"\", \"Bar\", \"\", \"Close\",\"5\",\"0\",\"PrimaryOnly\",,,\"False\",\"T\",\"EveryTick\")","v":1698.81},1.4501724290388403E-3,{"$f":"RTD(\"cqg.rtd\",,\"StudyData\", \"Close(\"&$D$12&\") when LocalYear(\"&$D$12&\")=\"&$D$10&\" and localMonth(\"&$D$12&\") =\"&$E$10&\" and LocalDay(\"&$D$12&\")=\"&$F$10&\" and Barix(\"&$D$12&\",reference:=StartOfSession)=\"&A18&\"\", \"Bar\", \"\", \"Close\",\"5\",\"0\",\"PrimaryOnly\",,,\"False\",\"T\",\"EveryTick\")","v":1685.19},1.196202417625975E-2,null,null,null,""]
[18,"10:00:00",null,1,"#.0",null,"2018-06-08",{"$f":"RTD(\"cqg.rtd\",,\"StudyData\", \"Close(\"&$D$12&\") when LocalYear(\"&$D$12&\")=\"&$D$1&\" and localMonth(\"&$D$12&\") =\"&$E$1&\" and LocalDay(\"&$D$12&\")=\"&$F$1&\" and Barix(\"&$D$12&\",reference:=StartOfSession)=\"&A19&\"\", \"Bar\", \"\", \"Close\",\"5\",\"0\",\"PrimaryOnly\",,,\"False\",\"T\",\"EveryTick\")","v":""},{"$error":"#N/A"},{"$f":"RTD(\"cqg.rtd\",,\"StudyData\", \"Close(\"&$D$12&\") when LocalYear(\"&$D$12&\")=\"&$D$2&\" and localMonth(\"&$D$12&\") =\"&$E$2&\" and LocalDay(\"&$D$12&\")=\"&$F$2&\" and Barix(\"&$D$12&\",reference:=StartOfSession)=\"&A19&\"\", \"Bar\", \"\", \"Close\",\"5\",\"0\",\"PrimaryOnly\",,,\"False\",\"T\",\"EveryTick\")","v":1717.79},-3.5211676122190532E-3,{"$f":"RTD(\"cqg.rtd\",,\"StudyData\", \"Close(\"&$D$12&\") when LocalYear(\"&$D$12&\")=\"&$D$3&\" and localMonth(\"&$D$12&\") =\"&$E$3&\" and LocalDay(\"&$D$12&\")=\"&$F$3&\" and Barix(\"&$D$12&\",reference:=StartOfSession)=\"&A19&\"\", \"Bar\", \"\", \"Close\",\"5\",\"0\",\"PrimaryOnly\",,,\"False\",\"T\",\"EveryTick\")","v":1715.33},6.1412667315791491E-3,{"$f":"RTD(\"cqg.rtd\",,\"StudyData\", \"Close(\"&$D$12&\") when LocalYear(\"&$D$12&\")=\"&$D$4&\" and localMonth(\"&$D$12&\") =\"&$E$4&\" and LocalDay(\"&$D$12&\")=\"&$F$4&\" and Barix(\"&$D$12&\",reference:=StartOfSession)=\"&A19&\"\", \"Bar\", \"\", \"Close\",\"5\",\"0\",\"PrimaryOnly\",,,\"False\",\"T\",\"EveryTick\")","v":1708.85},5.9455481972037726E-3,{"$f":"RTD(\"cqg.rtd\",,\"StudyData\", \"Close(\"&$D$12&\") when LocalYear(\"&$D$12&\")=\"&$D$5&\" and localMonth(\"&$D$12&\") =\"&$E$5&\" and LocalDay(\"&$D$12&\")=\"&$F$5&\" and Barix(\"&$D$12&\",reference:=StartOfSession)=\"&A19&\"\", \"Bar\", \"\", \"Close\",\"5\",\"0\",\"PrimaryOnly\",,,\"False\",\"T\",\"EveryTick\")","v":1695.98},4.0612863502889835E-3,{"$f":"RTD(\"cqg.rtd\",,\"StudyData\", \"Close(\"&$D$12&\") when LocalYear(\"&$D$12&\")=\"&$D$6&\" and localMonth(\"&$D$12&\") =\"&$E$6&\" and LocalDay(\"&$D$12&\")=\"&$F$6&\" and Barix(\"&$D$12&\",reference:=StartOfSession)=\"&A19&\"\", \"Bar\", \"\", \"Close\",\"5\",\"0\",\"PrimaryOnly\",,,\"False\",\"T\",\"EveryTick\")","v":1688.73},2.8147435554843015E-3,{"$f":"RTD(\"cqg.rtd\",,\"StudyData\", \"Close(\"&$D$12&\") when LocalYear(\"&$D$12&\")=\"&$D$7&\" and localMonth(\"&$D$12&\") =\"&$E$7&\" and LocalDay(\"&$D$12&\")=\"&$F$7&\" and Barix(\"&$D$12&\",reference:=StartOfSession)=\"&A19&\"\", \"Bar\", \"\", \"Close\",\"5\",\"0\",\"PrimaryOnly\",,,\"False\",\"T\",\"EveryTick\")","v":1682.82},-3.8359083644113057E-3,{"$f":"RTD(\"cqg.rtd\",,\"StudyData\", \"Close(\"&$D$12&\") when LocalYear(\"&$D$12&\")=\"&$D$8&\" and localMonth(\"&$D$12&\") =\"&$E$8&\" and LocalDay(\"&$D$12&\")=\"&$F$8&\" and Barix(\"&$D$12&\",reference:=StartOfSession)=\"&A19&\"\", \"Bar\", \"\", \"Close\",\"5\",\"0\",\"PrimaryOnly\",,,\"False\",\"T\",\"EveryTick\")","v":1686.68},-5.3486657821022769E-3,{"$f":"RTD(\"cqg.rtd\",,\"StudyData\", \"Close(\"&$D$12&\") when LocalYear(\"&$D$12&\")=\"&$D$9&\" and localMonth(\"&$D$12&\") =\"&$E$9&\" and LocalDay(\"&$D$12&\")=\"&$F$9&\" and Barix(\"&$D$12&\",reference:=StartOfSession)=\"&A19&\"\", \"Bar\", \"\", \"Close\",\"5\",\"0\",\"PrimaryOnly\",,,\"False\",\"T\",\"EveryTick\")","v":1698.98},1.5503875968992892E-3,{"$f":"RTD(\"cqg.rtd\",,\"StudyData\", \"Close(\"&$D$12&\") when LocalYear(\"&$D$12&\")=\"&$D$10&\" and localMonth(\"&$D$12&\") =\"&$E$10&\" and LocalDay(\"&$D$12&\")=\"&$F$10&\" and Barix(\"&$D$12&\",reference:=StartOfSession)=\"&A19&\"\", \"Bar\", \"\", \"Close\",\"5\",\"0\",\"PrimaryOnly\",,,\"False\",\"T\",\"EveryTick\")","v":1685.29},1.2022074498429673E-2,null,null,null,""]
[19,"10:05:00",null,2,"#.00",null,"2018-06-07",{"$f":"RTD(\"cqg.rtd\",,\"StudyData\", \"Close(\"&$D$12&\") when LocalYear(\"&$D$12&\")=\"&$D$1&\" and localMonth(\"&$D$12&\") =\"&$E$1&\" and LocalDay(\"&$D$12&\")=\"&$F$1&\" and Barix(\"&$D$12&\",reference:=StartOfSession)=\"&A20&\"\", \"Bar\", \"\", \"Close\",\"5\",\"0\",\"PrimaryOnly\",,,\"False\",\"T\",\"EveryTick\")","v":""},{"$error":"#N/A"},{"$f":"RTD(\"cqg.rtd\",,\"StudyData\", \"Close(\"&$D$12&\") when LocalYear(\"&$D$12&\")=\"&$D$2&\" and localMonth(\"&$D$12&\") =\"&$E$2&\" and LocalDay(\"&$D$12&\")=\"&$F$2&\" and Barix(\"&$D$12&\",reference:=StartOfSession)=\"&A20&\"\", \"Bar\", \"\", \"Close\",\"5\",\"0\",\"PrimaryOnly\",,,\"False\",\"T\",\"EveryTick\")","v":1718.09},-3.3471395588968839E-3,{"$f":"RTD(\"cqg.rtd\",,\"StudyData\", \"Close(\"&$D$12&\") when LocalYear(\"&$D$12&\")=\"&$D$3&\" and localMonth(\"&$D$12&\") =\"&$E$3&\" and LocalDay(\"&$D$12&\")=\"&$F$3&\" and Barix(\"&$D$12&\",reference:=StartOfSession)=\"&A20&\"\", \"Bar\", \"\", \"Close\",\"5\",\"0\",\"PrimaryOnly\",,,\"False\",\"T\",\"EveryTick\")","v":1716.75},6.974179698039781E-3,{"$f":"RTD(\"cqg.rtd\",,\"StudyData\", \"Close(\"&$D$12&\") when LocalYear(\"&$D$12&\")=\"&$D$4&\" and localMonth(\"&$D$12&\") =\"&$E$4&\" and LocalDay(\"&$D$12&\")=\"&$F$4&\" and Barix(\"&$D$12&\",reference:=StartOfSession)=\"&A20&\"\", \"Bar\", \"\", \"Close\",\"5\",\"0\",\"PrimaryOnly\",,,\"False\",\"T\",\"EveryTick\")","v":1708.54},5.7630610743193309E-3,{"$f":"RTD(\"cqg.rtd\",,\"StudyData\", \"Close(\"&$D$12&\") when LocalYear(\"&$D$12&\")=\"&$D$5&\" and localMonth(\"&$D$12&\") =\"&$E$5&\" and LocalDay(\"&$D$12&\")=\"&$F$5&\" and Barix(\"&$D$12&\",reference:=StartOfSession)=\"&A20&\"\", \"Bar\", \"\", \"Close\",\"5\",\"0\",\"PrimaryOnly\",,,\"False\",\"T\",\"EveryTick\")","v":1697.24},4.8072369044236752E-3,{"$f":"RTD(\"cqg.rtd\",,\"StudyData\", \"Close(\"&$D$12&\") when LocalYear(\"&$D$12&\")=\"&$D$6&\" and localMonth(\"&$D$12&\") =\"&$E$6&\" and LocalDay(\"&$D$12&\")=\"&$F$6&\" and Barix(\"&$D$12&\",reference:=StartOfSession)=\"&A20&\"\", \"Bar\", \"\", \"Close\",\"5\",\"0\",\"PrimaryOnly\",,,\"False\",\"T\",\"EveryTick\")","v":1688.45},2.6484717842742752E-3,{"$f":"RTD(\"cqg.rtd\",,\"StudyData\", \"Close(\"&$D$12&\") when LocalYear(\"&$D$12&\")=\"&$D$7&\" and localMonth(\"&$D$12&\") =\"&$E$7&\" and LocalDay(\"&$D$12&\")=\"&$F$7&\" and Barix(\"&$D$12&\",reference:=StartOfSession)=\"&A20&\"\", \"Bar\", \"\", \"Close\",\"5\",\"0\",\"PrimaryOnly\",,,\"False\",\"T\",\"EveryTick\")","v":1686.61},-1.5923755401645976E-3,{"$f":"RTD(\"cqg.rtd\",,\"StudyData\", \"Close(\"&$D$12&\") when LocalYear(\"&$D$12&\")=\"&$D$8&\" and localMonth(\"&$D$12&\") =\"&$E$8&\" and LocalDay(\"&$D$12&\")=\"&$F$8&\" and Barix(\"&$D$12&\",reference:=StartOfSession)=\"&A20&\"\", \"Bar\", \"\", \"Close\",\"5\",\"0\",\"PrimaryOnly\",,,\"False\",\"T\",\"EveryTick\")","v":1684.91},-6.3924517175290687E-3,{"$f":"RTD(\"cqg.rtd\",,\"StudyData\", \"Close(\"&$D$12&\") when LocalYear(\"&$D$12&\")=\"&$D$9&\" and localMonth(\"&$D$12&\") =\"&$E$9&\" and LocalDay(\"&$D$12&\")=\"&$F$9&\" and Barix(\"&$D$12&\",reference:=StartOfSession)=\"&A20&\"\", \"Bar\", \"\", \"Close\",\"5\",\"0\",\"PrimaryOnly\",,,\"False\",\"T\",\"EveryTick\")","v":1699.23},1.6977628437528278E-3,{"$f":"RTD(\"cqg.rtd\",,\"StudyData\", \"Close(\"&$D$12&\") when LocalYear(\"&$D$12&\")=\"&$D$10&\" and localMonth(\"&$D$12&\") =\"&$E$10&\" and LocalDay(\"&$D$12&\")=\"&$F$10&\" and Barix(\"&$D$12&\",reference:=StartOfSession)=\"&A20&\"\", \"Bar\", \"\", \"Close\",\"5\",\"0\",\"PrimaryOnly\",,,\"False\",\"T\",\"EveryTick\")","v":1679.98},8.8334023912038512E-3,null,null,null,""]
[20,"10:10:00",null,3,"#.000",null,"2018-06-06",{"$f":"RTD(\"cqg.rtd\",,\"StudyData\", \"Close(\"&$D$12&\") when LocalYear(\"&$D$12&\")=\"&$D$1&\" and localMonth(\"&$D$12&\") =\"&$E$1&\" and LocalDay(\"&$D$12&\")=\"&$F$1&\" and Barix(\"&$D$12&\",reference:=StartOfSession)=\"&A21&\"\", \"Bar\", \"\", \"Close\",\"5\",\"0\",\"PrimaryOnly\",,,\"False\",\"T\",\"EveryTick\")","v":""},{"$error":"#N/A"},{"$f":"RTD(\"cqg.rtd\",,\"StudyData\", \"Close(\"&$D$12&\") when LocalYear(\"&$D$12&\")=\"&$D$2&\" and localMonth(\"&$D$12&\") =\"&$E$2&\" and LocalDay(\"&$D$12&\")=\"&$F$2&\" and Barix(\"&$D$12&\",reference:=StartOfSession)=\"&A21&\"\", \"Bar\", \"\", \"Close\",\"5\",\"0\",\"PrimaryOnly\",,,\"False\",\"T\",\"EveryTick\")","v":1717.25},-3.8344181081989841E-3,{"$f":"RTD(\"cqg.rtd\",,\"StudyData\", \"Close(\"&$D$12&\") when LocalYear(\"&$D$12&\")=\"&$D$3&\" and localMonth(\"&$D$12&\") =\"&$E$3&\" and LocalDay(\"&$D$12&\")=\"&$F$3&\" and Barix(\"&$D$12&\",reference:=StartOfSession)=\"&A21&\"\", \"Bar\", \"\", \"Close\",\"5\",\"0\",\"PrimaryOnly\",,,\"False\",\"T\",\"EveryTick\")","v":1717.25},7.2674589115822421E-3,{"$f":"RTD(\"cqg.rtd\",,\"StudyData\", \"Close(\"&$D$12&\") when LocalYear(\"&$D$12&\")=\"&$D$4&\" and localMonth(\"&$D$12&\") =\"&$E$4&\" and LocalDay(\"&$D$12&\")=\"&$F$4&\" and Barix(\"&$D$12&\",reference:=StartOfSession)=\"&A21&\"\", \"Bar\", \"\", \"Close\",\"5\",\"0\",\"PrimaryOnly\",,,\"False\",\"T\",\"EveryTick\")","v":1709.03},6.0515084621044725E-3,{"$f":"RTD(\"cqg.rtd\",,\"StudyData\", \"Close(\"&$D$12&\") when LocalYear(\"&$D$12&\")=\"&$D$5&\" and localMonth(\"&$D$12&\") =\"&$E$5&\" and LocalDay(\"&$D$12&\")=\"&$F$5&\" and Barix(\"&$D$12&\",reference:=StartOfSession)=\"&A21&\"\", \"Bar\", \"\", \"Close\",\"5\",\"0\",\"PrimaryOnly\",,,\"False\",\"T\",\"EveryTick\")","v":1695.8},3.9547219854125602E-3,{"$f":"RTD(\"cqg.rtd\",,\"StudyData\", \"Close(\"&$D$12&\") when LocalYear(\"&$D$12&\")=\"&$D$6&\" and localMonth(\"&$D$12&\") =\"&$E$6&\" and LocalDay(\"&$D$12&\")=\"&$F$6&\" and Barix(\"&$D$12&\",reference:=StartOfSession)=\"&A21&\"\", \"Bar\", \"\", \"Close\",\"5\",\"0\",\"PrimaryOnly\",,,\"False\",\"T\",\"EveryTick\")","v":1687.5},2.0843354176687456E-3,{"$f":"RTD(\"cqg.rtd\",,\"StudyData\", \"Close(\"&$D$12&\") when LocalYear(\"&$D$12&\")=\"&$D$7&\" and localMonth(\"&$D$12&\") =\"&$E$7&\" and LocalDay(\"&$D$12&\")=\"&$F$7&\" and Barix(\"&$D$12&\",reference:=StartOfSession)=\"&A21&\"\", \"Bar\", \"\", \"Close\",\"5\",\"0\",\"PrimaryOnly\",,,\"False\",\"T\",\"EveryTick\")","v":1688.61},-4.0845320546975349E-4,{"$f":"RTD(\"cqg.rtd\",,\"StudyData\", \"Close(\"&$D$12&\") when LocalYear(\"&$D$12&\")=\"&$D$8&\" and localMonth(\"&$D$12&\") =\"&$E$8&\" and LocalDay(\"&$D$12&\")=\"&$F$8&\" and Barix(\"&$D$12&\",reference:=StartOfSession)=\"&A21&\"\", \"Bar\", \"\", \"Close\",\"5\",\"0\",\"PrimaryOnly\",,,\"False\",\"T\",\"EveryTick\")","v":1687.74},-4.7235736399823033E-3,{"$f":"RTD(\"cqg.rtd\",,\"StudyData\", \"Close(\"&$D$12&\") when LocalYear(\"&$D$12&\")=\"&$D$9&\" and localMonth(\"&$D$12&\") =\"&$E$9&\" and LocalDay(\"&$D$12&\")=\"&$F$9&\" and Barix(\"&$D$12&\",reference:=StartOfSession)=\"&A21&\"\", \"Bar\", \"\", \"Close\",\"5\",\"0\",\"PrimaryOnly\",,,\"False\",\"T\",\"EveryTick\")","v":1701.64},3.118460223420987E-3,{"$f":"RTD(\"cqg.rtd\",,\"StudyData\", \"Close(\"&$D$12&\") when LocalYear(\"&$D$12&\")=\"&$D$10&\" and localMonth(\"&$D$12&\") =\"&$E$10&\" and LocalDay(\"&$D$12&\")=\"&$F$10&\" and Barix(\"&$D$12&\",reference:=StartOfSession)=\"&A21&\"\", \"Bar\", \"\", \"Close\",\"5\",\"0\",\"PrimaryOnly\",,,\"False\",\"T\",\"EveryTick\")","v":1684.68},1.1655767533192864E-2,null,null,null,""]
[21,"10:15:00",null,4,"#.0000",null,"2018-06-05",{"$f":"RTD(\"cqg.rtd\",,\"StudyData\", \"Close(\"&$D$12&\") when LocalYear(\"&$D$12&\")=\"&$D$1&\" and localMonth(\"&$D$12&\") =\"&$E$1&\" and LocalDay(\"&$D$12&\")=\"&$F$1&\" and Barix(\"&$D$12&\",reference:=StartOfSession)=\"&A22&\"\", \"Bar\", \"\", \"Close\",\"5\",\"0\",\"PrimaryOnly\",,,\"False\",\"T\",\"EveryTick\")","v":""},{"$error":"#N/A"},{"$f":"RTD(\"cqg.rtd\",,\"StudyData\", \"Close(\"&$D$12&\") when LocalYear(\"&$D$12&\")=\"&$D$2&\" and localMonth(\"&$D$12&\") =\"&$E$2&\" and LocalDay(\"&$D$12&\")=\"&$F$2&\" and Barix(\"&$D$12&\",reference:=StartOfSession)=\"&A22&\"\", \"Bar\", \"\", \"Close\",\"5\",\"0\",\"PrimaryOnly\",,,\"False\",\"T\",\"EveryTick\")","v":1717.35},-3.7764087570916383E-3,{"$f":"RTD(\"cqg.rtd\",,\"StudyData\", \"Close(\"&$D$12&\") when LocalYear(\"&$D$12&\")=\"&$D$3&\" and localMonth(\"&$D$12&\") =\"&$E$3&\" and LocalDay(\"&$D$12&\")=\"&$F$3&\" and Barix(\"&$D$12&\",reference:=StartOfSession)=\"&A22&\"\", \"Bar\", \"\", \"Close\",\"5\",\"0\",\"PrimaryOnly\",,,\"False\",\"T\",\"EveryTick\")","v":1716.85},7.0328355407482199E-3,{"$f":"RTD(\"cqg.rtd\",,\"StudyData\", \"Close(\"&$D$12&\") when LocalYear(\"&$D$12&\")=\"&$D$4&\" and localMonth(\"&$D$12&\") =\"&$E$4&\" and LocalDay(\"&$D$12&\")=\"&$F$4&\" and Barix(\"&$D$12&\",reference:=StartOfSession)=\"&A22&\"\", \"Bar\", \"\", \"Close\",\"5\",\"0\",\"PrimaryOnly\",,,\"False\",\"T\",\"EveryTick\")","v":1710.55},6.9462840323767207E-3,{"$f":"RTD(\"cqg.rtd\",,\"StudyData\", \"Close(\"&$D$12&\") when LocalYear(\"&$D$12&\")=\"&$D$5&\" and localMonth(\"&$D$12&\") =\"&$E$5&\" and LocalDay(\"&$D$12&\")=\"&$F$5&\" and Barix(\"&$D$12&\",reference:=StartOfSession)=\"&A22&\"\", \"Bar\", \"\", \"Close\",\"5\",\"0\",\"PrimaryOnly\",,,\"False\",\"T\",\"EveryTick\")","v":1695.45},3.747513498152976E-3,{"$f":"RTD(\"cqg.rtd\",,\"StudyData\", \"Close(\"&$D$12&\") when LocalYear(\"&$D$12&\")=\"&$D$6&\" and localMonth(\"&$D$12&\") =\"&$E$6&\" and LocalDay(\"&$D$12&\")=\"&$F$6&\" and Barix(\"&$D$12&\",reference:=StartOfSession)=\"&A22&\"\", \"Bar\", \"\", \"Close\",\"5\",\"0\",\"PrimaryOnly\",,,\"False\",\"T\",\"EveryTick\")","v":1686.38},1.4192483328286391E-3,{"$f":"RTD(\"cqg.rtd\",,\"StudyData\", \"Close(\"&$D$12&\") when LocalYear(\"&$D$12&\")=\"&$D$7&\" and localMonth(\"&$D$12&\") =\"&$E$7&\" and LocalDay(\"&$D$12&\")=\"&$F$7&\" and Barix(\"&$D$12&\",reference:=StartOfSession)=\"&A22&\"\", \"Bar\", \"\", \"Close\",\"5\",\"0\",\"PrimaryOnly\",,,\"False\",\"T\",\"EveryTick\")","v":1688.16},-6.7483573077598577E-4,{"$f":"RTD(\"cqg.rtd\",,\"StudyData\", \"Close(\"&$D$12&\") when LocalYear(\"&$D$12&\")=\"&$D$8&\" and localMonth(\"&$D$12&\") =\"&$E$8&\" and LocalDay(\"&$D$12&\")=\"&$F$8&\" and Barix(\"&$D$12&\",reference:=StartOfSession)=\"&A22&\"\", \"Bar\", \"\", \"Close\",\"5\",\"0\",\"PrimaryOnly\",,,\"False\",\"T\",\"EveryTick\")","v":1688.95},-4.0100250626566147E-3,{"$f":"RTD(\"cqg.rtd\",,\"StudyData\", \"Close(\"&$D$12&\") when LocalYear(\"&$D$12&\")=\"&$D$9&\" and localMonth(\"&$D$12&\") =\"&$E$9&\" and LocalDay(\"&$D$12&\")=\"&$F$9&\" and Barix(\"&$D$12&\",reference:=StartOfSession)=\"&A22&\"\", \"Bar\", \"\", \"Close\",\"5\",\"0\",\"PrimaryOnly\",,,\"False\",\"T\",\"EveryTick\")","v":1703.9},4.4507324549769699E-3,{"$f":"RTD(\"cqg.rtd\",,\"StudyData\", \"Close(\"&$D$12&\") when LocalYear(\"&$D$12&\")=\"&$D$10&\" and localMonth(\"&$D$12&\") =\"&$E$10&\" and LocalDay(\"&$D$12&\")=\"&$F$10&\" and Barix(\"&$D$12&\",reference:=StartOfSession)=\"&A22&\"\", \"Bar\", \"\", \"Close\",\"5\",\"0\",\"PrimaryOnly\",,,\"False\",\"T\",\"EveryTick\")","v":1685.63},1.2226245593807687E-2,null,null,null,""]
[22,"10:20:00",null,5,"#.00000",null,null,{"$f":"RTD(\"cqg.rtd\",,\"StudyData\", \"Close(\"&$D$12&\") when LocalYear(\"&$D$12&\")=\"&$D$1&\" and localMonth(\"&$D$12&\") =\"&$E$1&\" and LocalDay(\"&$D$12&\")=\"&$F$1&\" and Barix(\"&$D$12&\",reference:=StartOfSession)=\"&A23&\"\", \"Bar\", \"\", \"Close\",\"5\",\"0\",\"PrimaryOnly\",,,\"False\",\"T\",\"EveryTick\")","v":""},{"$error":"#N/A"},{"$f":"RTD(\"cqg.rtd\",,\"StudyData\", \"Close(\"&$D$12&\") when LocalYear(\"&$D$12&\")=\"&$D$2&\" and localMonth(\"&$D$12&\") =\"&$E$2&\" and LocalDay(\"&$D$12&\")=\"&$F$2&\" and Barix(\"&$D$12&\",reference:=StartOfSession)=\"&A23&\"\", \"Bar\", \"\", \"Close\",\"5\",\"0\",\"PrimaryOnly\",,,\"False\",\"T\",\"EveryTick\")","v":1716.97},-3.9968442912996843E-3,{"$f":"RTD(\"cqg.rtd\",,\"StudyData\", \"Close(\"&$D$12&\") when LocalYear(\"&$D$12&\")=\"&$D$3&\" and localMonth(\"&$D$12&\") =\"&$E$3&\" and LocalDay(\"&$D$12&\")=\"&$F$3&\" and Barix(\"&$D$12&\",reference:=StartOfSession)=\"&A23&\"\", \"Bar\", \"\", \"Close\",\"5\",\"0\",\"PrimaryOnly\",,,\"False\",\"T\",\"EveryTick\")","v":1716.62},6.8979271025186766E-3,{"$f":"RTD(\"cqg.rtd\",,\"StudyData\", \"Close(\"&$D$12&\") when LocalYear(\"&$D$12&\")=\"&$D$4&\" and localMonth(\"&$D$12&\") =\"&$E$4&\" and LocalDay(\"&$D$12&\")=\"&$F$4&\" and Barix(\"&$D$12&\",reference:=StartOfSession)=\"&A23&\"\", \"Bar\", \"\", \"Close\",\"5\",\"0\",\"PrimaryOnly\",,,\"False\",\"T\",\"EveryTick\")","v":1711.29},7.3818984547461153E-3,{"$f":"RTD(\"cqg.rtd\",,\"StudyData\", \"Close(\"&$D$12&\") when LocalYear(\"&$D$12&\")=\"&$D$5&\" and localMonth(\"&$D$12&\") =\"&$E$5&\" and LocalDay(\"&$D$12&\")=\"&$F$5&\" and Barix(\"&$D$12&\",reference:=StartOfSession)=\"&A23&\"\", \"Bar\", \"\", \"Close\",\"5\",\"0\",\"PrimaryOnly\",,,\"False\",\"T\",\"EveryTick\")","v":1696.18},4.179691200151661E-3,{"$f":"RTD(\"cqg.rtd\",,\"StudyData\", \"Close(\"&$D$12&\") when LocalYear(\"&$D$12&\")=\"&$D$6&\" and localMonth(\"&$D$12&\") =\"&$E$6&\" and LocalDay(\"&$D$12&\")=\"&$F$6&\" and Barix(\"&$D$12&\",reference:=StartOfSession)=\"&A23&\"\", \"Bar\", \"\", \"Close\",\"5\",\"0\",\"PrimaryOnly\",,,\"False\",\"T\",\"EveryTick\")","v":1687.83},2.2802985765948245E-3,{"$f":"RTD(\"cqg.rtd\",,\"StudyData\", \"Close(\"&$D$12&\") when LocalYear(\"&$D$12&\")=\"&$D$7&\" and localMonth(\"&$D$12&\") =\"&$E$7&\" and LocalDay(\"&$D$12&\")=\"&$F$7&\" and Barix(\"&$D$12&\",reference:=StartOfSession)=\"&A23&\"\", \"Bar\", \"\", \"Close\",\"5\",\"0\",\"PrimaryOnly\",,,\"False\",\"T\",\"EveryTick\")","v":1686.4},-1.716687385307443E-3,{"$f":"RTD(\"cqg.rtd\",,\"StudyData\", \"Close(\"&$D$12&\") when LocalYear(\"&$D$12&\")=\"&$D$8&\" and localMonth(\"&$D$12&\") =\"&$E$8&\" and LocalDay(\"&$D$12&\")=\"&$F$8&\" and Barix(\"&$D$12&\",reference:=StartOfSession)=\"&A23&\"\", \"Bar\", \"\", \"Close\",\"5\",\"0\",\"PrimaryOnly\",,,\"False\",\"T\",\"EveryTick\")","v":1690.1},-3.3318590594132928E-3,{"$f":"RTD(\"cqg.rtd\",,\"StudyData\", \"Close(\"&$D$12&\") when LocalYear(\"&$D$12&\")=\"&$D$9&\" and localMonth(\"&$D$12&\") =\"&$E$9&\" and LocalDay(\"&$D$12&\")=\"&$F$9&\" and Barix(\"&$D$12&\",reference:=StartOfSession)=\"&A23&\"\", \"Bar\", \"\", \"Close\",\"5\",\"0\",\"PrimaryOnly\",,,\"False\",\"T\",\"EveryTick\")","v":1704.84},5.0048633831461728E-3,{"$f":"RTD(\"cqg.rtd\",,\"StudyData\", \"Close(\"&$D$12&\") when LocalYear(\"&$D$12&\")=\"&$D$10&\" and localMonth(\"&$D$12&\") =\"&$E$10&\" and LocalDay(\"&$D$12&\")=\"&$F$10&\" and Barix(\"&$D$12&\",reference:=StartOfSession)=\"&A23&\"\", \"Bar\", \"\", \"Close\",\"5\",\"0\",\"PrimaryOnly\",,,\"False\",\"T\",\"EveryTick\")","v":1683.69},1.1061269343710073E-2,null,null,null,""]
[23,"10:25:00",null,6,"#.000000",null,null,{"$f":"RTD(\"cqg.rtd\",,\"StudyData\", \"Close(\"&$D$12&\") when LocalYear(\"&$D$12&\")=\"&$D$1&\" and localMonth(\"&$D$12&\") =\"&$E$1&\" and LocalDay(\"&$D$12&\")=\"&$F$1&\" and Barix(\"&$D$12&\",reference:=StartOfSession)=\"&A24&\"\", \"Bar\", \"\", \"Close\",\"5\",\"0\",\"PrimaryOnly\",,,\"False\",\"T\",\"EveryTick\")","v":""},{"$error":"#N/A"},{"$f":"RTD(\"cqg.rtd\",,\"StudyData\", \"Close(\"&$D$12&\") when LocalYear(\"&$D$12&\")=\"&$D$2&\" and localMonth(\"&$D$12&\") =\"&$E$2&\" and LocalDay(\"&$D$12&\")=\"&$F$2&\" and Barix(\"&$D$12&\",reference:=StartOfSession)=\"&A24&\"\", \"Bar\", \"\", \"Close\",\"5\",\"0\",\"PrimaryOnly\",,,\"False\",\"T\",\"EveryTick\")","v":1715.29},-4.9714013899040156E-3,{"$f":"RTD(\"cqg.rtd\",,\"StudyData\", \"Close(\"&$D$12&\") when LocalYear(\"&$D$12&\")=\"&$D$3&\" and localMonth(\"&$D$12&\") =\"&$E$3&\" and LocalDay(\"&$D$12&\")=\"&$F$3&\" and Barix(\"&$D$12&\",reference:=StartOfSession)=\"&A24&\"\", \"Bar\", \"\", \"Close\",\"5\",\"0\",\"PrimaryOnly\",,,\"False\",\"T\",\"EveryTick\")","v":1716.79},6.9976420351231562E-3,{"$f":"RTD(\"cqg.rtd\",,\"StudyData\", \"Close(\"&$D$12&\") when LocalYear(\"&$D$12&\")=\"&$D$4&\" and localMonth(\"&$D$12&\") =\"&$E$4&\" and LocalDay(\"&$D$12&\")=\"&$F$4&\" and Barix(\"&$D$12&\",reference:=StartOfSession)=\"&A24&\"\", \"Bar\", \"\", \"Close\",\"5\",\"0\",\"PrimaryOnly\",,,\"False\",\"T\",\"EveryTick\")","v":1712.67},8.1942604856512571E-3,{"$f":"RTD(\"cqg.rtd\",,\"StudyData\", \"Close(\"&$D$12&\") when LocalYear(\"&$D$12&\")=\"&$D$5&\" and localMonth(\"&$D$12&\") =\"&$E$5&\" and LocalDay(\"&$D$12&\")=\"&$F$5&\" and Barix(\"&$D$12&\",reference:=StartOfSession)=\"&A24&\"\", \"Bar\", \"\", \"Close\",\"5\",\"0\",\"PrimaryOnly\",,,\"False\",\"T\",\"EveryTick\")","v":1696.06},4.1086482902340004E-3,{"$f":"RTD(\"cqg.rtd\",,\"StudyData\", \"Close(\"&$D$12&\") when LocalYear(\"&$D$12&\")=\"&$D$6&\" and localMonth(\"&$D$12&\") =\"&$E$6&\" and LocalDay(\"&$D$12&\")=\"&$F$6&\" and Barix(\"&$D$12&\",reference:=StartOfSession)=\"&A24&\"\", \"Bar\", \"\", \"Close\",\"5\",\"0\",\"PrimaryOnly\",,,\"False\",\"T\",\"EveryTick\")","v":1688.26},2.5356445109531423E-3,{"$f":"RTD(\"cqg.rtd\",,\"StudyData\", \"Close(\"&$D$12&\") when LocalYear(\"&$D$12&\")=\"&$D$7&\" and localMonth(\"&$D$12&\") =\"&$E$7&\" and LocalDay(\"&$D$12&\")=\"&$F$7&\" and Barix(\"&$D$12&\",reference:=StartOfSession)=\"&A24&\"\", \"Bar\", \"\", \"Close\",\"5\",\"0\",\"PrimaryOnly\",,,\"False\",\"T\",\"EveryTick\")","v":1686.86},-1.4443852483277421E-3,{"$f":"RTD(\"cqg.rtd\",,\"StudyData\", \"Close(\"&$D$12&\") when LocalYear(\"&$D$12&\")=\"&$D$8&\" and localMonth(\"&$D$12&\") =\"&$E$8&\" and LocalDay(\"&$D$12&\")=\"&$F$8&\" and Barix(\"&$D$12&\",reference:=StartOfSession)=\"&A24&\"\", \"Bar\", \"\", \"Close\",\"5\",\"0\",\"PrimaryOnly\",,,\"False\",\"T\",\"EveryTick\")","v":1689.47},-3.7033760872769998E-3,{"$f":"RTD(\"cqg.rtd\",,\"StudyData\", \"Close(\"&$D$12&\") when LocalYear(\"&$D$12&\")=\"&$D$9&\" and localMonth(\"&$D$12&\") =\"&$E$9&\" and LocalDay(\"&$D$12&\")=\"&$F$9&\" and Barix(\"&$D$12&\",reference:=StartOfSession)=\"&A24&\"\", \"Bar\", \"\", \"Close\",\"5\",\"0\",\"PrimaryOnly\",,,\"False\",\"T\",\"EveryTick\")","v":1704.81},4.9871783535237642E-3,{"$f":"RTD(\"cqg.rtd\",,\"StudyData\", \"Close(\"&$D$12&\") when LocalYear(\"&$D$12&\")=\"&$D$10&\" and localMonth(\"&$D$12&\") =\"&$E$10&\" and LocalDay(\"&$D$12&\")=\"&$F$10&\" and Barix(\"&$D$12&\",reference:=StartOfSession)=\"&A24&\"\", \"Bar\", \"\", \"Close\",\"5\",\"0\",\"PrimaryOnly\",,,\"False\",\"T\",\"EveryTick\")","v":1683},1.0646922120737189E-2,null,null,null,""]
[24,"10:30:00",null,7,"#.0000000",null,null,{"$f":"RTD(\"cqg.rtd\",,\"StudyData\", \"Close(\"&$D$12&\") when LocalYear(\"&$D$12&\")=\"&$D$1&\" and localMonth(\"&$D$12&\") =\"&$E$1&\" and LocalDay(\"&$D$12&\")=\"&$F$1&\" and Barix(\"&$D$12&\",reference:=StartOfSession)=\"&A25&\"\", \"Bar\", \"\", \"Close\",\"5\",\"0\",\"PrimaryOnly\",,,\"False\",\"T\",\"EveryTick\")","v":""},{"$error":"#N/A"},{"$f":"RTD(\"cqg.rtd\",,\"StudyData\", \"Close(\"&$D$12&\") when LocalYear(\"&$D$12&\")=\"&$D$2&\" and localMonth(\"&$D$12&\") =\"&$E$2&\" and LocalDay(\"&$D$12&\")=\"&$F$2&\" and Barix(\"&$D$12&\",reference:=StartOfSession)=\"&A25&\"\", \"Bar\", \"\", \"Close\",\"5\",\"0\",\"PrimaryOnly\",,,\"False\",\"T\",\"EveryTick\")","v":1716.18},-4.4551181650481107E-3,{"$f":"RTD(\"cqg.rtd\",,\"StudyData\", \"Close(\"&$D$12&\") when LocalYear(\"&$D$12&\")=\"&$D$3&\" and localMonth(\"&$D$12&\") =\"&$E$3&\" and LocalDay(\"&$D$12&\")=\"&$F$3&\" and Barix(\"&$D$12&\",reference:=StartOfSession)=\"&A25&\"\", \"Bar\", \"\", \"Close\",\"5\",\"0\",\"PrimaryOnly\",,,\"False\",\"T\",\"EveryTick\")","v":1718.29},7.8774796757505386E-3,{"$f":"RTD(\"cqg.rtd\",,\"StudyData\", \"Close(\"&$D$12&\") when LocalYear(\"&$D$12&\")=\"&$D$4&\" and localMonth(\"&$D$12&\") =\"&$E$4&\" and LocalDay(\"&$D$12&\")=\"&$F$4&\" and Barix(\"&$D$12&\",reference:=StartOfSession)=\"&A25&\"\", \"Bar\", \"\", \"Close\",\"5\",\"0\",\"PrimaryOnly\",,,\"False\",\"T\",\"EveryTick\")","v":1713.56},8.7181751287711239E-3,{"$f":"RTD(\"cqg.rtd\",,\"StudyData\", \"Close(\"&$D$12&\") when LocalYear(\"&$D$12&\")=\"&$D$5&\" and localMonth(\"&$D$12&\") =\"&$E$5&\" and LocalDay(\"&$D$12&\")=\"&$F$5&\" and Barix(\"&$D$12&\",reference:=StartOfSession)=\"&A25&\"\", \"Bar\", \"\", \"Close\",\"5\",\"0\",\"PrimaryOnly\",,,\"False\",\"T\",\"EveryTick\")","v":1695.14},3.5639859808659002E-3,{"$f":"RTD(\"cqg.rtd\",,\"StudyData\", \"Close(\"&$D$12&\") when LocalYear(\"&$D$12&\")=\"&$D$6&\" and localMonth(\"&$D$12&\") =\"&$E$6&\" and LocalDay(\"&$D$12&\")=\"&$F$6&\" and Barix(\"&$D$12&\",reference:=StartOfSession)=\"&A25&\"\", \"Bar\", \"\", \"Close\",\"5\",\"0\",\"PrimaryOnly\",,,\"False\",\"T\",\"EveryTick\")","v":1687.33},1.9833846994340336E-3,{"$f":"RTD(\"cqg.rtd\",,\"StudyData\", \"Close(\"&$D$12&\") when LocalYear(\"&$D$12&\")=\"&$D$7&\" and localMonth(\"&$D$12&\") =\"&$E$7&\" and LocalDay(\"&$D$12&\")=\"&$F$7&\" and Barix(\"&$D$12&\",reference:=StartOfSession)=\"&A25&\"\", \"Bar\", \"\", \"Close\",\"5\",\"0\",\"PrimaryOnly\",,,\"False\",\"T\",\"EveryTick\")","v":1685.68},-2.1428994257976031E-3,{"$f":"RTD(\"cqg.rtd\",,\"StudyData\", \"Close(\"&$D$12&\") when LocalYear(\"&$D$12&\")=\"&$D$8&\" and localMonth(\"&$D$12&\") =\"&$E$8&\" and LocalDay(\"&$D$12&\")=\"&$F$8&\" and Barix(\"&$D$12&\",reference:=StartOfSession)=\"&A25&\"\", \"Bar\", \"\", \"Close\",\"5\",\"0\",\"PrimaryOnly\",,,\"False\",\"T\",\"EveryTick\")","v":1687.8},-4.6881910659000714E-3,{"$f":"RTD(\"cqg.rtd\",,\"StudyData\", \"Close(\"&$D$12&\") when LocalYear(\"&$D$12&\")=\"&$D$9&\" and localMonth(\"&$D$12&\") =\"&$E$9&\" and LocalDay(\"&$D$12&\")=\"&$F$9&\" and Barix(\"&$D$12&\",reference:=StartOfSession)=\"&A25&\"\", \"Bar\", \"\", \"Close\",\"5\",\"0\",\"PrimaryOnly\",,,\"False\",\"T\",\"EveryTick\")","v":1704.2},4.6275827512011888E-3,{"$f":"RTD(\"cqg.rtd\",,\"StudyData\", \"Close(\"&$D$12&\") when LocalYear(\"&$D$12&\")=\"&$D$10&\" and localMonth(\"&$D$12&\") =\"&$E$10&\" and LocalDay(\"&$D$12&\")=\"&$F$10&\" and Barix(\"&$D$12&\",reference:=StartOfSession)=\"&A25&\"\", \"Bar\", \"\", \"Close\",\"5\",\"0\",\"PrimaryOnly\",,,\"False\",\"T\",\"EveryTick\")","v":1681.49},9.7401622559705192E-3,null,null,null,""]
[25,"10:35:00",{"$f":"IF(WEEKDAY(TODAY())=7,TODAY()-1,IF(WEEKDAY(TODAY())=1,TODAY()-2,TODAY()))","v":"2018-06-18"},{"$f":"YEAR(C26)","v":2018},{"$f":"MONTH(C26)","v":6},{"$f":"DAY(C26)","v":18},null,{"$f":"RTD(\"cqg.rtd\",,\"StudyData\", \"Close(\"&$D$12&\") when LocalYear(\"&$D$12&\")=\"&$D$1&\" and localMonth(\"&$D$12&\") =\"&$E$1&\" and LocalDay(\"&$D$12&\")=\"&$F$1&\" and Barix(\"&$D$12&\",reference:=StartOfSession)=\"&A26&\"\", \"Bar\", \"\", \"Close\",\"5\",\"0\",\"PrimaryOnly\",,,\"False\",\"T\",\"EveryTick\")","v":""},{"$error":"#N/A"},{"$f":"RTD(\"cqg.rtd\",,\"StudyData\", \"Close(\"&$D$12&\") when LocalYear(\"&$D$12&\")=\"&$D$2&\" and localMonth(\"&$D$12&\") =\"&$E$2&\" and LocalDay(\"&$D$12&\")=\"&$F$2&\" and Barix(\"&$D$12&\",reference:=StartOfSession)=\"&A26&\"\", \"Bar\", \"\", \"Close\",\"5\",\"0\",\"PrimaryOnly\",,,\"False\",\"T\",\"EveryTick\")","v":1716.37},-4.3449003979441538E-3,{"$f":"RTD(\"cqg.rtd\",,\"StudyData\", \"Close(\"&$D$12&\") when LocalYear(\"&$D$12&\")=\"&$D$3&\" and localMonth(\"&$D$12&\") =\"&$E$3&\" and LocalDay(\"&$D$12&\")=\"&$F$3&\" and Barix(\"&$D$12&\",reference:=StartOfSession)=\"&A26&\"\", \"Bar\", \"\", \"Close\",\"5\",\"0\",\"PrimaryOnly\",,,\"False\",\"T\",\"EveryTick\")","v":1719.51},8.5930809567941607E-3,{"$f":"RTD(\"cqg.rtd\",,\"StudyData\", \"Close(\"&$D$12&\") when LocalYear(\"&$D$12&\")=\"&$D$4&\" and localMonth(\"&$D$12&\") =\"&$E$4&\" and LocalDay(\"&$D$12&\")=\"&$F$4&\" and Barix(\"&$D$12&\",reference:=StartOfSession)=\"&A26&\"\", \"Bar\", \"\", \"Close\",\"5\",\"0\",\"PrimaryOnly\",,,\"False\",\"T\",\"EveryTick\")","v":1712.3},7.9764532744664926E-3,{"$f":"RTD(\"cqg.rtd\",,\"StudyData\", \"Close(\"&$D$12&\") when LocalYear(\"&$D$12&\")=\"&$D$5&\" and localMonth(\"&$D$12&\") =\"&$E$5&\" and LocalDay(\"&$D$12&\")=\"&$F$5&\" and Barix(\"&$D$12&\",reference:=StartOfSession)=\"&A26&\"\", \"Bar\", \"\", \"Close\",\"5\",\"0\",\"PrimaryOnly\",,,\"False\",\"T\",\"EveryTick\")","v":1696.6},4.428341384863135E-3,{"$f":"RTD(\"cqg.rtd\",,\"StudyData\", \"Close(\"&$D$12&\") when LocalYear(\"&$D$12&\")=\"&$D$6&\" and localMonth(\"&$D$12&\") =\"&$E$6&\" and LocalDay(\"&$D$12&\")=\"&$F$6&\" and Barix(\"&$D$12&\",reference:=StartOfSession)=\"&A26&\"\", \"Bar\", \"\", \"Close\",\"5\",\"0\",\"PrimaryOnly\",,,\"False\",\"T\",\"EveryTick\")","v":1686.69},1.6033349366682971E-3,{"$f":"RTD(\"cqg.rtd\",,\"StudyData\", \"Close(\"&$D$12&\") when LocalYear(\"&$D$12&\")=\"&$D$7&\" and localMonth(\"&$D$12&\") =\"&$E$7&\" and LocalDay(\"&$D$12&\")=\"&$F$7&\" and Barix(\"&$D$12&\",reference:=StartOfSession)=\"&A26&\"\", \"Bar\", \"\", \"Close\",\"5\",\"0\",\"PrimaryOnly\",,,\"False\",\"T\",\"EveryTick\")","v":1685.53},-2.2316936008997704E-3,{"$f":"RTD(\"cqg.rtd\",,\"StudyData\", \"Close(\"&$D$12&\") when LocalYear(\"&$D$12&\")=\"&$D$8&\" and localMonth(\"&$D$12&\") =\"&$E$8&\" and LocalDay(\"&$D$12&\")=\"&$F$8&\" and Barix(\"&$D$12&\",reference:=StartOfSession)=\"&A26&\"\", \"Bar\", \"\", \"Close\",\"5\",\"0\",\"PrimaryOnly\",,,\"False\",\"T\",\"EveryTick\")","v":1688.51},-4.2694972725932532E-3,{"$f":"RTD(\"cqg.rtd\",,\"StudyData\", \"Close(\"&$D$12&\") when LocalYear(\"&$D$12&\")=\"&$D$9&\" and localMonth(\"&$D$12&\") =\"&$E$9&\" and LocalDay(\"&$D$12&\")=\"&$F$9&\" and Barix(\"&$D$12&\",reference:=StartOfSession)=\"&A26&\"\", \"Bar\", \"\", \"Close\",\"5\",\"0\",\"PrimaryOnly\",,,\"False\",\"T\",\"EveryTick\")","v":1702.77},3.7845963391989115E-3,{"$f":"RTD(\"cqg.rtd\",,\"StudyData\", \"Close(\"&$D$12&\") when LocalYear(\"&$D$12&\")=\"&$D$10&\" and localMonth(\"&$D$12&\") =\"&$E$10&\" and LocalDay(\"&$D$12&\")=\"&$F$10&\" and Barix(\"&$D$12&\",reference:=StartOfSession)=\"&A26&\"\", \"Bar\", \"\", \"Close\",\"5\",\"0\",\"PrimaryOnly\",,,\"False\",\"T\",\"EveryTick\")","v":1682.87},1.0568856701916152E-2,null,null,null,""]
[26,"10:40:00",{"$f":"WORKDAY(C26,-1)","v":"2018-06-15"},{"$f":"YEAR(C27)","v":2018},{"$f":"MONTH(C27)","v":6},{"$f":"DAY(C27)","v":15},{"$f":"IF(RTD(\"cqg.rtd\",,\"StudyData\", \"Close(\"&$D$12&\") when LocalYear(\"&$D$12&\")=\"&D27&\" and localMonth(\"&$D$12&\") =\"&E27&\" and LocalDay(\"&$D$12&\")=\"&F27&\" and Barix(\"&$D$12&\",reference:=StartOfSession)=77\", \"Bar\", \"\", \"Close\",\"5\",\"0\",\"PrimaryOnly\",,,\"False\",\"T\",\"EveryTick\")=\"\",2,1)","v":1},{"$f":"RTD(\"cqg.rtd\",,\"StudyData\", \"Close(\"&$D$12&\") when LocalYear(\"&$D$12&\")=\"&$D$1&\" and localMonth(\"&$D$12&\") =\"&$E$1&\" and LocalDay(\"&$D$12&\")=\"&$F$1&\" and Barix(\"&$D$12&\",reference:=StartOfSession)=\"&A27&\"\", \"Bar\", \"\", \"Close\",\"5\",\"0\",\"PrimaryOnly\",,,\"False\",\"T\",\"EveryTick\")","v":""},{"$error":"#N/A"},{"$f":"RTD(\"cqg.rtd\",,\"StudyData\", \"Close(\"&$D$12&\") when LocalYear(\"&$D$12&\")=\"&$D$2&\" and localMonth(\"&$D$12&\") =\"&$E$2&\" and LocalDay(\"&$D$12&\")=\"&$F$2&\" and Barix(\"&$D$12&\",reference:=StartOfSession)=\"&A27&\"\", \"Bar\", \"\", \"Close\",\"5\",\"0\",\"PrimaryOnly\",,,\"False\",\"T\",\"EveryTick\")","v":1716.58},-4.2230807606185965E-3,{"$f":"RTD(\"cqg.rtd\",,\"StudyData\", \"Close(\"&$D$12&\") when LocalYear(\"&$D$12&\")=\"&$D$3&\" and localMonth(\"&$D$12&\") =\"&$E$3&\" and LocalDay(\"&$D$12&\")=\"&$F$3&\" and Barix(\"&$D$12&\",reference:=StartOfSession)=\"&A27&\"\", \"Bar\", \"\", \"Close\",\"5\",\"0\",\"PrimaryOnly\",,,\"False\",\"T\",\"EveryTick\")","v":1719.26},8.4464413500229298E-3,{"$f":"RTD(\"cqg.rtd\",,\"StudyData\", \"Close(\"&$D$12&\") when LocalYear(\"&$D$12&\")=\"&$D$4&\" and localMonth(\"&$D$12&\") =\"&$E$4&\" and LocalDay(\"&$D$12&\")=\"&$F$4&\" and Barix(\"&$D$12&\",reference:=StartOfSession)=\"&A27&\"\", \"Bar\", \"\", \"Close\",\"5\",\"0\",\"PrimaryOnly\",,,\"False\",\"T\",\"EveryTick\")","v":1711.95},7.770419426048592E-3,{"$f":"RTD(\"cqg.rtd\",,\"StudyData\", \"Close(\"&$D$12&\") when LocalYear(\"&$D$12&\")=\"&$D$5&\" and localMonth(\"&$D$12&\") =\"&$E$5&\" and LocalDay(\"&$D$12&\")=\"&$F$5&\" and Barix(\"&$D$12&\",reference:=StartOfSession)=\"&A27&\"\", \"Bar\", \"\", \"Close\",\"5\",\"0\",\"PrimaryOnly\",,,\"False\",\"T\",\"EveryTick\")","v":1697.13},4.7421142369992774E-3,{"$f":"RTD(\"cqg.rtd\",,\"StudyData\", \"Close(\"&$D$12&\") when LocalYear(\"&$D$12&\")=\"&$D$6&\" and localMonth(\"&$D$12&\") =\"&$E$6&\" and LocalDay(\"&$D$12&\")=\"&$F$6&\" and Barix(\"&$D$12&\",reference:=StartOfSession)=\"&A27&\"\", \"Bar\", \"\", \"Close\",\"5\",\"0\",\"PrimaryOnly\",,,\"False\",\"T\",\"EveryTick\")","v":1689.6},3.3313737017440126E-3,{"$f":"RTD(\"cqg.rtd\",,\"StudyData\", \"Close(\"&$D$12&\") when LocalYear(\"&$D$12&\")=\"&$D$7&\" and localMonth(\"&$D$12&\") =\"&$E$7&\" and LocalDay(\"&$D$12&\")=\"&$F$7&\" and Barix(\"&$D$12&\",reference:=StartOfSession)=\"&A27&\"\", \"Bar\", \"\", \"Close\",\"5\",\"0\",\"PrimaryOnly\",,,\"False\",\"T\",\"EveryTick\")","v":1686.53},-1.6397324335523482E-3,{"$f":"RTD(\"cqg.rtd\",,\"StudyData\", \"Close(\"&$D$12&\") when LocalYear(\"&$D$12&\")=\"&$D$8&\" and localMonth(\"&$D$12&\") =\"&$E$8&\" and LocalDay(\"&$D$12&\")=\"&$F$8&\" and Barix(\"&$D$12&\",reference:=StartOfSession)=\"&A27&\"\", \"Bar\", \"\", \"Close\",\"5\",\"0\",\"PrimaryOnly\",,,\"False\",\"T\",\"EveryTick\")","v":1689.47},-3.7033760872769998E-3,{"$f":"RTD(\"cqg.rtd\",,\"StudyData\", \"Close(\"&$D$12&\") when LocalYear(\"&$D$12&\")=\"&$D$9&\" and localMonth(\"&$D$12&\") =\"&$E$9&\" and LocalDay(\"&$D$12&\")=\"&$F$9&\" and Barix(\"&$D$12&\",reference:=StartOfSession)=\"&A27&\"\", \"Bar\", \"\", \"Close\",\"5\",\"0\",\"PrimaryOnly\",,,\"False\",\"T\",\"EveryTick\")","v":1702.67},3.7256462404575493E-3,{"$f":"RTD(\"cqg.rtd\",,\"StudyData\", \"Close(\"&$D$12&\") when LocalYear(\"&$D$12&\")=\"&$D$10&\" and localMonth(\"&$D$12&\") =\"&$E$10&\" and LocalDay(\"&$D$12&\")=\"&$F$10&\" and Barix(\"&$D$12&\",reference:=StartOfSession)=\"&A27&\"\", \"Bar\", \"\", \"Close\",\"5\",\"0\",\"PrimaryOnly\",,,\"False\",\"T\",\"EveryTick\")","v":1678.68},8.0527482029941581E-3,null,null,null,""]
[27,"10:45:00",{"$f":"WORKDAY(C27,-1)","v":"2018-06-14"},2018,6,14,{"$f":"IF(RTD(\"cqg.rtd\",,\"StudyData\", \"Close(EP) when LocalYear(\"&$D$12&\")=\"&D28&\" and localMonth(\"&$D$12&\") =\"&E28&\" and LocalDay(\"&$D$12&\")=\"&F28&\" and Barix(\"&$D$12&\",reference:=StartOfSession)=77\", \"Bar\", \"\", \"Close\",\"5\",\"0\",\"PrimaryOnly\",,,\"False\",\"T\",\"EveryTick\")=\"\",2,1)","v":1},{"$f":"RTD(\"cqg.rtd\",,\"StudyData\", \"Close(\"&$D$12&\") when LocalYear(\"&$D$12&\")=\"&$D$1&\" and localMonth(\"&$D$12&\") =\"&$E$1&\" and LocalDay(\"&$D$12&\")=\"&$F$1&\" and Barix(\"&$D$12&\",reference:=StartOfSession)=\"&A28&\"\", \"Bar\", \"\", \"Close\",\"5\",\"0\",\"PrimaryOnly\",,,\"False\",\"T\",\"EveryTick\")","v":""},{"$error":"#N/A"},{"$f":"RTD(\"cqg.rtd\",,\"StudyData\", \"Close(\"&$D$12&\") when LocalYear(\"&$D$12&\")=\"&$D$2&\" and localMonth(\"&$D$12&\") =\"&$E$2&\" and LocalDay(\"&$D$12&\")=\"&$F$2&\" and Barix(\"&$D$12&\",reference:=StartOfSession)=\"&A28&\"\", \"Bar\", \"\", \"Close\",\"5\",\"0\",\"PrimaryOnly\",,,\"False\",\"T\",\"EveryTick\")","v":1717.59},-3.6371863144338762E-3,{"$f":"RTD(\"cqg.rtd\",,\"StudyData\", \"Close(\"&$D$12&\") when LocalYear(\"&$D$12&\")=\"&$D$3&\" and localMonth(\"&$D$12&\") =\"&$E$3&\" and LocalDay(\"&$D$12&\")=\"&$F$3&\" and Barix(\"&$D$12&\",reference:=StartOfSession)=\"&A28&\"\", \"Bar\", \"\", \"Close\",\"5\",\"0\",\"PrimaryOnly\",,,\"False\",\"T\",\"EveryTick\")","v":1717.77},7.5724692936663908E-3,{"$f":"RTD(\"cqg.rtd\",,\"StudyData\", \"Close(\"&$D$12&\") when LocalYear(\"&$D$12&\")=\"&$D$4&\" and localMonth(\"&$D$12&\") =\"&$E$4&\" and LocalDay(\"&$D$12&\")=\"&$F$4&\" and Barix(\"&$D$12&\",reference:=StartOfSession)=\"&A28&\"\", \"Bar\", \"\", \"Close\",\"5\",\"0\",\"PrimaryOnly\",,,\"False\",\"T\",\"EveryTick\")","v":1710.91},7.1582045621781205E-3,{"$f":"RTD(\"cqg.rtd\",,\"StudyData\", \"Close(\"&$D$12&\") when LocalYear(\"&$D$12&\")=\"&$D$5&\" and localMonth(\"&$D$12&\") =\"&$E$5&\" and LocalDay(\"&$D$12&\")=\"&$F$5&\" and Barix(\"&$D$12&\",reference:=StartOfSession)=\"&A28&\"\", \"Bar\", \"\", \"Close\",\"5\",\"0\",\"PrimaryOnly\",,,\"False\",\"T\",\"EveryTick\")","v":1697.41},4.9078810268069718E-3,{"$f":"RTD(\"cqg.rtd\",,\"StudyData\", \"Close(\"&$D$12&\") when LocalYear(\"&$D$12&\")=\"&$D$6&\" and localMonth(\"&$D$12&\") =\"&$E$6&\" and LocalDay(\"&$D$12&\")=\"&$F$6&\" and Barix(\"&$D$12&\",reference:=StartOfSession)=\"&A28&\"\", \"Bar\", \"\", \"Close\",\"5\",\"0\",\"PrimaryOnly\",,,\"False\",\"T\",\"EveryTick\")","v":1689.07},3.0166449919535906E-3,{"$f":"RTD(\"cqg.rtd\",,\"StudyData\", \"Close(\"&$D$12&\") when LocalYear(\"&$D$12&\")=\"&$D$7&\" and localMonth(\"&$D$12&\") =\"&$E$7&\" and LocalDay(\"&$D$12&\")=\"&$F$7&\" and Barix(\"&$D$12&\",reference:=StartOfSession)=\"&A28&\"\", \"Bar\", \"\", \"Close\",\"5\",\"0\",\"PrimaryOnly\",,,\"False\",\"T\",\"EveryTick\")","v":1686.58},-1.610134375185004E-3,{"$f":"RTD(\"cqg.rtd\",,\"StudyData\", \"Close(\"&$D$12&\") when LocalYear(\"&$D$12&\")=\"&$D$8&\" and localMonth(\"&$D$12&\") =\"&$E$8&\" and LocalDay(\"&$D$12&\")=\"&$F$8&\" and Barix(\"&$D$12&\",reference:=StartOfSession)=\"&A28&\"\", \"Bar\", \"\", \"Close\",\"5\",\"0\",\"PrimaryOnly\",,,\"False\",\"T\",\"EveryTick\")","v":1686.71},-5.3309744950611609E-3,{"$f":"RTD(\"cqg.rtd\",,\"StudyData\", \"Close(\"&$D$12&\") when LocalYear(\"&$D$12&\")=\"&$D$9&\" and localMonth(\"&$D$12&\") =\"&$E$9&\" and LocalDay(\"&$D$12&\")=\"&$F$9&\" and Barix(\"&$D$12&\",reference:=StartOfSession)=\"&A28&\"\", \"Bar\", \"\", \"Close\",\"5\",\"0\",\"PrimaryOnly\",,,\"False\",\"T\",\"EveryTick\")","v":1703.82},4.4035723759837464E-3,{"$f":"RTD(\"cqg.rtd\",,\"StudyData\", \"Close(\"&$D$12&\") when LocalYear(\"&$D$12&\")=\"&$D$10&\" and localMonth(\"&$D$12&\") =\"&$E$10&\" and LocalDay(\"&$D$12&\")=\"&$F$10&\" and Barix(\"&$D$12&\",reference:=StartOfSession)=\"&A28&\"\", \"Bar\", \"\", \"Close\",\"5\",\"0\",\"PrimaryOnly\",,,\"False\",\"T\",\"EveryTick\")","v":1682.84},1.0550841605265175E-2,null,null,null,""]
[28,"10:50:00","2018-06-13",2018,6,13,{"$f":"IF(RTD(\"cqg.rtd\",,\"StudyData\", \"Close(EP) when LocalYear(\"&$D$12&\")=\"&D29&\" and localMonth(\"&$D$12&\") =\"&E29&\" and LocalDay(\"&$D$12&\")=\"&F29&\" and Barix(\"&$D$12&\",reference:=StartOfSession)=77\", \"Bar\", \"\", \"Close\",\"5\",\"0\",\"PrimaryOnly\",,,\"False\",\"T\",\"EveryTick\")=\"\",2,1)","v":1},{"$f":"RTD(\"cqg.rtd\",,\"StudyData\", \"Close(\"&$D$12&\") when LocalYear(\"&$D$12&\")=\"&$D$1&\" and localMonth(\"&$D$12&\") =\"&$E$1&\" and LocalDay(\"&$D$12&\")=\"&$F$1&\" and Barix(\"&$D$12&\",reference:=StartOfSession)=\"&A29&\"\", \"Bar\", \"\", \"Close\",\"5\",\"0\",\"PrimaryOnly\",,,\"False\",\"T\",\"EveryTick\")","v":""},{"$error":"#N/A"},{"$f":"RTD(\"cqg.rtd\",,\"StudyData\", \"Close(\"&$D$12&\") when LocalYear(\"&$D$12&\")=\"&$D$2&\" and localMonth(\"&$D$12&\") =\"&$E$2&\" and LocalDay(\"&$D$12&\")=\"&$F$2&\" and Barix(\"&$D$12&\",reference:=StartOfSession)=\"&A29&\"\", \"Bar\", \"\", \"Close\",\"5\",\"0\",\"PrimaryOnly\",,,\"False\",\"T\",\"EveryTick\")","v":1718.8},-2.9352731660343334E-3,{"$f":"RTD(\"cqg.rtd\",,\"StudyData\", \"Close(\"&$D$12&\") when LocalYear(\"&$D$12&\")=\"&$D$3&\" and localMonth(\"&$D$12&\") =\"&$E$3&\" and LocalDay(\"&$D$12&\")=\"&$F$3&\" and Barix(\"&$D$12&\",reference:=StartOfSession)=\"&A29&\"\", \"Bar\", \"\", \"Close\",\"5\",\"0\",\"PrimaryOnly\",,,\"False\",\"T\",\"EveryTick\")","v":1718.15},7.7953614959587253E-3,{"$f":"RTD(\"cqg.rtd\",,\"StudyData\", \"Close(\"&$D$12&\") when LocalYear(\"&$D$12&\")=\"&$D$4&\" and localMonth(\"&$D$12&\") =\"&$E$4&\" and LocalDay(\"&$D$12&\")=\"&$F$4&\" and Barix(\"&$D$12&\",reference:=StartOfSession)=\"&A29&\"\", \"Bar\", \"\", \"Close\",\"5\",\"0\",\"PrimaryOnly\",,,\"False\",\"T\",\"EveryTick\")","v":1711.29},7.3818984547461153E-3,{"$f":"RTD(\"cqg.rtd\",,\"StudyData\", \"Close(\"&$D$12&\") when LocalYear(\"&$D$12&\")=\"&$D$5&\" and localMonth(\"&$D$12&\") =\"&$E$5&\" and LocalDay(\"&$D$12&\")=\"&$F$5&\" and Barix(\"&$D$12&\",reference:=StartOfSession)=\"&A29&\"\", \"Bar\", \"\", \"Close\",\"5\",\"0\",\"PrimaryOnly\",,,\"False\",\"T\",\"EveryTick\")","v":1697.62},5.0322061191626416E-3,{"$f":"RTD(\"cqg.rtd\",,\"StudyData\", \"Close(\"&$D$12&\") when LocalYear(\"&$D$12&\")=\"&$D$6&\" and localMonth(\"&$D$12&\") =\"&$E$6&\" and LocalDay(\"&$D$12&\")=\"&$F$6&\" and Barix(\"&$D$12&\",reference:=StartOfSession)=\"&A29&\"\", \"Bar\", \"\", \"Close\",\"5\",\"0\",\"PrimaryOnly\",,,\"False\",\"T\",\"EveryTick\")","v":1687.94},2.3456196295702737E-3,{"$f":"RTD(\"cqg.rtd\",,\"StudyData\", \"Close(\"&$D$12&\") when LocalYear(\"&$D$12&\")=\"&$D$7&\" and localMonth(\"&$D$12&\") =\"&$E$7&\" and LocalDay(\"&$D$12&\")=\"&$F$7&\" and Barix(\"&$D$12&\",reference:=StartOfSession)=\"&A29&\"\", \"Bar\", \"\", \"Close\",\"5\",\"0\",\"PrimaryOnly\",,,\"False\",\"T\",\"EveryTick\")","v":1687.24},-1.219440004735657E-3,{"$f":"RTD(\"cqg.rtd\",,\"StudyData\", \"Close(\"&$D$12&\") when LocalYear(\"&$D$12&\")=\"&$D$8&\" and localMonth(\"&$D$12&\") =\"&$E$8&\" and LocalDay(\"&$D$12&\")=\"&$F$8&\" and Barix(\"&$D$12&\",reference:=StartOfSession)=\"&A29&\"\", \"Bar\", \"\", \"Close\",\"5\",\"0\",\"PrimaryOnly\",,,\"False\",\"T\",\"EveryTick\")","v":1686.22},-5.6199321833996594E-3,{"$f":"RTD(\"cqg.rtd\",,\"StudyData\", \"Close(\"&$D$12&\") when LocalYear(\"&$D$12&\")=\"&$D$9&\" and localMonth(\"&$D$12&\") =\"&$E$9&\" and LocalDay(\"&$D$12&\")=\"&$F$9&\" and Barix(\"&$D$12&\",reference:=StartOfSession)=\"&A29&\"\", \"Bar\", \"\", \"Close\",\"5\",\"0\",\"PrimaryOnly\",,,\"False\",\"T\",\"EveryTick\")","v":1701.11},2.8060247000913675E-3,{"$f":"RTD(\"cqg.rtd\",,\"StudyData\", \"Close(\"&$D$12&\") when LocalYear(\"&$D$12&\")=\"&$D$10&\" and localMonth(\"&$D$12&\") =\"&$E$10&\" and LocalDay(\"&$D$12&\")=\"&$F$10&\" and Barix(\"&$D$12&\",reference:=StartOfSession)=\"&A29&\"\", \"Bar\", \"\", \"Close\",\"5\",\"0\",\"PrimaryOnly\",,,\"False\",\"T\",\"EveryTick\")","v":1683.94},1.1211395149135019E-2,null,null,null,""]
[29,"10:55:00","2018-06-12",2018,6,12,{"$f":"IF(RTD(\"cqg.rtd\",,\"StudyData\", \"Close(EP) when LocalYear(\"&$D$12&\")=\"&D30&\" and localMonth(\"&$D$12&\") =\"&E30&\" and LocalDay(\"&$D$12&\")=\"&F30&\" and Barix(\"&$D$12&\",reference:=StartOfSession)=77\", \"Bar\", \"\", \"Close\",\"5\",\"0\",\"PrimaryOnly\",,,\"False\",\"T\",\"EveryTick\")=\"\",2,1)","v":1},{"$f":"RTD(\"cqg.rtd\",,\"StudyData\", \"Close(\"&$D$12&\") when LocalYear(\"&$D$12&\")=\"&$D$1&\" and localMonth(\"&$D$12&\") =\"&$E$1&\" and LocalDay(\"&$D$12&\")=\"&$F$1&\" and Barix(\"&$D$12&\",reference:=StartOfSession)=\"&A30&\"\", \"Bar\", \"\", \"Close\",\"5\",\"0\",\"PrimaryOnly\",,,\"False\",\"T\",\"EveryTick\")","v":""},{"$error":"#N/A"},{"$f":"RTD(\"cqg.rtd\",,\"StudyData\", \"Close(\"&$D$12&\") when LocalYear(\"&$D$12&\")=\"&$D$2&\" and localMonth(\"&$D$12&\") =\"&$E$2&\" and LocalDay(\"&$D$12&\")=\"&$F$2&\" and Barix(\"&$D$12&\",reference:=StartOfSession)=\"&A30&\"\", \"Bar\", \"\", \"Close\",\"5\",\"0\",\"PrimaryOnly\",,,\"False\",\"T\",\"EveryTick\")","v":1718.08},-3.3529404940076182E-3,{"$f":"RTD(\"cqg.rtd\",,\"StudyData\", \"Close(\"&$D$12&\") when LocalYear(\"&$D$12&\")=\"&$D$3&\" and localMonth(\"&$D$12&\") =\"&$E$3&\" and LocalDay(\"&$D$12&\")=\"&$F$3&\" and Barix(\"&$D$12&\",reference:=StartOfSession)=\"&A30&\"\", \"Bar\", \"\", \"Close\",\"5\",\"0\",\"PrimaryOnly\",,,\"False\",\"T\",\"EveryTick\")","v":1718.49},7.9947913611675501E-3,{"$f":"RTD(\"cqg.rtd\",,\"StudyData\", \"Close(\"&$D$12&\") when LocalYear(\"&$D$12&\")=\"&$D$4&\" and localMonth(\"&$D$12&\") =\"&$E$4&\" and LocalDay(\"&$D$12&\")=\"&$F$4&\" and Barix(\"&$D$12&\",reference:=StartOfSession)=\"&A30&\"\", \"Bar\", \"\", \"Close\",\"5\",\"0\",\"PrimaryOnly\",,,\"False\",\"T\",\"EveryTick\")","v":1711.46},7.4819720382634505E-3,{"$f":"RTD(\"cqg.rtd\",,\"StudyData\", \"Close(\"&$D$12&\") when LocalYear(\"&$D$12&\")=\"&$D$5&\" and localMonth(\"&$D$12&\") =\"&$E$5&\" and LocalDay(\"&$D$12&\")=\"&$F$5&\" and Barix(\"&$D$12&\",reference:=StartOfSession)=\"&A30&\"\", \"Bar\", \"\", \"Close\",\"5\",\"0\",\"PrimaryOnly\",,,\"False\",\"T\",\"EveryTick\")","v":1697.75},5.1091692715734289E-3,{"$f":"RTD(\"cqg.rtd\",,\"StudyData\", \"Close(\"&$D$12&\") when LocalYear(\"&$D$12&\")=\"&$D$6&\" and localMonth(\"&$D$12&\") =\"&$E$6&\" and LocalDay(\"&$D$12&\")=\"&$F$6&\" and Barix(\"&$D$12&\",reference:=StartOfSession)=\"&A30&\"\", \"Bar\", \"\", \"Close\",\"5\",\"0\",\"PrimaryOnly\",,,\"False\",\"T\",\"EveryTick\")","v":1688.48},2.6662866169039063E-3,{"$f":"RTD(\"cqg.rtd\",,\"StudyData\", \"Close(\"&$D$12&\") when LocalYear(\"&$D$12&\")=\"&$D$7&\" and localMonth(\"&$D$12&\") =\"&$E$7&\" and LocalDay(\"&$D$12&\")=\"&$F$7&\" and Barix(\"&$D$12&\",reference:=StartOfSession)=\"&A30&\"\", \"Bar\", \"\", \"Close\",\"5\",\"0\",\"PrimaryOnly\",,,\"False\",\"T\",\"EveryTick\")","v":1687.25},-1.2135203930621883E-3,{"$f":"RTD(\"cqg.rtd\",,\"StudyData\", \"Close(\"&$D$12&\") when LocalYear(\"&$D$12&\")=\"&$D$8&\" and localMonth(\"&$D$12&\") =\"&$E$8&\" and LocalDay(\"&$D$12&\")=\"&$F$8&\" and Barix(\"&$D$12&\",reference:=StartOfSession)=\"&A30&\"\", \"Bar\", \"\", \"Close\",\"5\",\"0\",\"PrimaryOnly\",,,\"False\",\"T\",\"EveryTick\")","v":1688.34},-4.3697478991597122E-3,{"$f":"RTD(\"cqg.rtd\",,\"StudyData\", \"Close(\"&$D$12&\") when LocalYear(\"&$D$12&\")=\"&$D$9&\" and localMonth(\"&$D$12&\") =\"&$E$9&\" and LocalDay(\"&$D$12&\")=\"&$F$9&\" and Barix(\"&$D$12&\",reference:=StartOfSession)=\"&A30&\"\", \"Bar\", \"\", \"Close\",\"5\",\"0\",\"PrimaryOnly\",,,\"False\",\"T\",\"EveryTick\")","v":1703.76},4.3682023167389292E-3,{"$f":"RTD(\"cqg.rtd\",,\"StudyData\", \"Close(\"&$D$12&\") when LocalYear(\"&$D$12&\")=\"&$D$10&\" and localMonth(\"&$D$12&\") =\"&$E$10&\" and LocalDay(\"&$D$12&\")=\"&$F$10&\" and Barix(\"&$D$12&\",reference:=StartOfSession)=\"&A30&\"\", \"Bar\", \"\", \"Close\",\"5\",\"0\",\"PrimaryOnly\",,,\"False\",\"T\",\"EveryTick\")","v":1683.68},1.105526431149308E-2,null,null,null,""]
[30,"11:00:00","2018-06-11",2018,6,11,{"$f":"IF(RTD(\"cqg.rtd\",,\"StudyData\", \"Close(EP) when LocalYear(\"&$D$12&\")=\"&D31&\" and localMonth(\"&$D$12&\") =\"&E31&\" and LocalDay(\"&$D$12&\")=\"&F31&\" and Barix(\"&$D$12&\",reference:=StartOfSession)=77\", \"Bar\", \"\", \"Close\",\"5\",\"0\",\"PrimaryOnly\",,,\"False\",\"T\",\"EveryTick\")=\"\",2,1)","v":1},{"$f":"RTD(\"cqg.rtd\",,\"StudyData\", \"Close(\"&$D$12&\") when LocalYear(\"&$D$12&\")=\"&$D$1&\" and localMonth(\"&$D$12&\") =\"&$E$1&\" and LocalDay(\"&$D$12&\")=\"&$F$1&\" and Barix(\"&$D$12&\",reference:=StartOfSession)=\"&A31&\"\", \"Bar\", \"\", \"Close\",\"5\",\"0\",\"PrimaryOnly\",,,\"False\",\"T\",\"EveryTick\")","v":""},{"$error":"#N/A"},{"$f":"RTD(\"cqg.rtd\",,\"StudyData\", \"Close(\"&$D$12&\") when LocalYear(\"&$D$12&\")=\"&$D$2&\" and localMonth(\"&$D$12&\") =\"&$E$2&\" and LocalDay(\"&$D$12&\")=\"&$F$2&\" and Barix(\"&$D$12&\",reference:=StartOfSession)=\"&A31&\"\", \"Bar\", \"\", \"Close\",\"5\",\"0\",\"PrimaryOnly\",,,\"False\",\"T\",\"EveryTick\")","v":1718.46},-3.1325049597994408E-3,{"$f":"RTD(\"cqg.rtd\",,\"StudyData\", \"Close(\"&$D$12&\") when LocalYear(\"&$D$12&\")=\"&$D$3&\" and localMonth(\"&$D$12&\") =\"&$E$3&\" and LocalDay(\"&$D$12&\")=\"&$F$3&\" and Barix(\"&$D$12&\",reference:=StartOfSession)=\"&A31&\"\", \"Bar\", \"\", \"Close\",\"5\",\"0\",\"PrimaryOnly\",,,\"False\",\"T\",\"EveryTick\")","v":1718.6},8.0593127881468333E-3,{"$f":"RTD(\"cqg.rtd\",,\"StudyData\", \"Close(\"&$D$12&\") when LocalYear(\"&$D$12&\")=\"&$D$4&\" and localMonth(\"&$D$12&\") =\"&$E$4&\" and LocalDay(\"&$D$12&\")=\"&$F$4&\" and Barix(\"&$D$12&\",reference:=StartOfSession)=\"&A31&\"\", \"Bar\", \"\", \"Close\",\"5\",\"0\",\"PrimaryOnly\",,,\"False\",\"T\",\"EveryTick\")","v":1709.68},6.4341427520235844E-3,{"$f":"RTD(\"cqg.rtd\",,\"StudyData\", \"Close(\"&$D$12&\") when LocalYear(\"&$D$12&\")=\"&$D$5&\" and localMonth(\"&$D$12&\") =\"&$E$5&\" and LocalDay(\"&$D$12&\")=\"&$F$5&\" and Barix(\"&$D$12&\",reference:=StartOfSession)=\"&A31&\"\", \"Bar\", \"\", \"Close\",\"5\",\"0\",\"PrimaryOnly\",,,\"False\",\"T\",\"EveryTick\")","v":1698.12},5.3282182438192669E-3,{"$f":"RTD(\"cqg.rtd\",,\"StudyData\", \"Close(\"&$D$12&\") when LocalYear(\"&$D$12&\")=\"&$D$6&\" and localMonth(\"&$D$12&\") =\"&$E$6&\" and LocalDay(\"&$D$12&\")=\"&$F$6&\" and Barix(\"&$D$12&\",reference:=StartOfSession)=\"&A31&\"\", \"Bar\", \"\", \"Close\",\"5\",\"0\",\"PrimaryOnly\",,,\"False\",\"T\",\"EveryTick\")","v":1689.32},3.1651019305339863E-3,{"$f":"RTD(\"cqg.rtd\",,\"StudyData\", \"Close(\"&$D$12&\") when LocalYear(\"&$D$12&\")=\"&$D$7&\" and localMonth(\"&$D$12&\") =\"&$E$7&\" and LocalDay(\"&$D$12&\")=\"&$F$7&\" and Barix(\"&$D$12&\",reference:=StartOfSession)=\"&A31&\"\", \"Bar\", \"\", \"Close\",\"5\",\"0\",\"PrimaryOnly\",,,\"False\",\"T\",\"EveryTick\")","v":1688.09},-7.1627301249040218E-4,{"$f":"RTD(\"cqg.rtd\",,\"StudyData\", \"Close(\"&$D$12&\") when LocalYear(\"&$D$12&\")=\"&$D$8&\" and localMonth(\"&$D$12&\") =\"&$E$8&\" and LocalDay(\"&$D$12&\")=\"&$F$8&\" and Barix(\"&$D$12&\",reference:=StartOfSession)=\"&A31&\"\", \"Bar\", \"\", \"Close\",\"5\",\"0\",\"PrimaryOnly\",,,\"False\",\"T\",\"EveryTick\")","v":1688.49},-4.2812914639539972E-3,{"$f":"RTD(\"cqg.rtd\",,\"StudyData\", \"Close(\"&$D$12&\") when LocalYear(\"&$D$12&\")=\"&$D$9&\" and localMonth(\"&$D$12&\") =\"&$E$9&\" and LocalDay(\"&$D$12&\")=\"&$F$9&\" and Barix(\"&$D$12&\",reference:=StartOfSession)=\"&A31&\"\", \"Bar\", \"\", \"Close\",\"5\",\"0\",\"PrimaryOnly\",,,\"False\",\"T\",\"EveryTick\")","v":1703.76},4.3682023167389292E-3,{"$f":"RTD(\"cqg.rtd\",,\"StudyData\", \"Close(\"&$D$12&\") when LocalYear(\"&$D$12&\")=\"&$D$10&\" and localMonth(\"&$D$12&\") =\"&$E$10&\" and LocalDay(\"&$D$12&\")=\"&$F$10&\" and Barix(\"&$D$12&\",reference:=StartOfSession)=\"&A31&\"\", \"Bar\", \"\", \"Close\",\"5\",\"0\",\"PrimaryOnly\",,,\"False\",\"T\",\"EveryTick\")","v":1682.32},1.0238579929981298E-2,null,null,null,""]
[31,"11:05:00","2018-06-08",2018,6,8,{"$f":"IF(RTD(\"cqg.rtd\",,\"StudyData\", \"Close(EP) when LocalYear(\"&$D$12&\")=\"&D32&\" and localMonth(\"&$D$12&\") =\"&E32&\" and LocalDay(\"&$D$12&\")=\"&F32&\" and Barix(\"&$D$12&\",reference:=StartOfSession)=77\", \"Bar\", \"\", \"Close\",\"5\",\"0\",\"PrimaryOnly\",,,\"False\",\"T\",\"EveryTick\")=\"\",2,1)","v":1},{"$f":"RTD(\"cqg.rtd\",,\"StudyData\", \"Close(\"&$D$12&\") when LocalYear(\"&$D$12&\")=\"&$D$1&\" and localMonth(\"&$D$12&\") =\"&$E$1&\" and LocalDay(\"&$D$12&\")=\"&$F$1&\" and Barix(\"&$D$12&\",reference:=StartOfSession)=\"&A32&\"\", \"Bar\", \"\", \"Close\",\"5\",\"0\",\"PrimaryOnly\",,,\"False\",\"T\",\"EveryTick\")","v":""},{"$error":"#N/A"},{"$f":"RTD(\"cqg.rtd\",,\"StudyData\", \"Close(\"&$D$12&\") when LocalYear(\"&$D$12&\")=\"&$D$2&\" and localMonth(\"&$D$12&\") =\"&$E$2&\" and LocalDay(\"&$D$12&\")=\"&$F$2&\" and Barix(\"&$D$12&\",reference:=StartOfSession)=\"&A32&\"\", \"Bar\", \"\", \"Close\",\"5\",\"0\",\"PrimaryOnly\",,,\"False\",\"T\",\"EveryTick\")","v":1717.4},-3.7474040815378335E-3,{"$f":"RTD(\"cqg.rtd\",,\"StudyData\", \"Close(\"&$D$12&\") when LocalYear(\"&$D$12&\")=\"&$D$3&\" and localMonth(\"&$D$12&\") =\"&$E$3&\" and LocalDay(\"&$D$12&\")=\"&$F$3&\" and Barix(\"&$D$12&\",reference:=StartOfSession)=\"&A32&\"\", \"Bar\", \"\", \"Close\",\"5\",\"0\",\"PrimaryOnly\",,,\"False\",\"T\",\"EveryTick\")","v":1719.35},8.4992316084605245E-3,{"$f":"RTD(\"cqg.rtd\",,\"StudyData\", \"Close(\"&$D$12&\") when LocalYear(\"&$D$12&\")=\"&$D$4&\" and localMonth(\"&$D$12&\") =\"&$E$4&\" and LocalDay(\"&$D$12&\")=\"&$F$4&\" and Barix(\"&$D$12&\",reference:=StartOfSession)=\"&A32&\"\", \"Bar\", \"\", \"Close\",\"5\",\"0\",\"PrimaryOnly\",,,\"False\",\"T\",\"EveryTick\")","v":1710.27},6.7814569536423733E-3,{"$f":"RTD(\"cqg.rtd\",,\"StudyData\", \"Close(\"&$D$12&\") when LocalYear(\"&$D$12&\")=\"&$D$5&\" and localMonth(\"&$D$12&\") =\"&$E$5&\" and LocalDay(\"&$D$12&\")=\"&$F$5&\" and Barix(\"&$D$12&\",reference:=StartOfSession)=\"&A32&\"\", \"Bar\", \"\", \"Close\",\"5\",\"0\",\"PrimaryOnly\",,,\"False\",\"T\",\"EveryTick\")","v":1696.97},4.6473903571091083E-3,{"$f":"RTD(\"cqg.rtd\",,\"StudyData\", \"Close(\"&$D$12&\") when LocalYear(\"&$D$12&\")=\"&$D$6&\" and localMonth(\"&$D$12&\") =\"&$E$6&\" and LocalDay(\"&$D$12&\")=\"&$F$6&\" and Barix(\"&$D$12&\",reference:=StartOfSession)=\"&A32&\"\", \"Bar\", \"\", \"Close\",\"5\",\"0\",\"PrimaryOnly\",,,\"False\",\"T\",\"EveryTick\")","v":1691.17},4.2636832760289929E-3,{"$f":"RTD(\"cqg.rtd\",,\"StudyData\", \"Close(\"&$D$12&\") when LocalYear(\"&$D$12&\")=\"&$D$7&\" and localMonth(\"&$D$12&\") =\"&$E$7&\" and LocalDay(\"&$D$12&\")=\"&$F$7&\" and Barix(\"&$D$12&\",reference:=StartOfSession)=\"&A32&\"\", \"Bar\", \"\", \"Close\",\"5\",\"0\",\"PrimaryOnly\",,,\"False\",\"T\",\"EveryTick\")","v":1687.54},-1.0418516545314574E-3,{"$f":"RTD(\"cqg.rtd\",,\"StudyData\", \"Close(\"&$D$12&\") when LocalYear(\"&$D$12&\")=\"&$D$8&\" and localMonth(\"&$D$12&\") =\"&$E$8&\" and LocalDay(\"&$D$12&\")=\"&$F$8&\" and Barix(\"&$D$12&\",reference:=StartOfSession)=\"&A32&\"\", \"Bar\", \"\", \"Close\",\"5\",\"0\",\"PrimaryOnly\",,,\"False\",\"T\",\"EveryTick\")","v":1689.39},-3.7505528527199765E-3,{"$f":"RTD(\"cqg.rtd\",,\"StudyData\", \"Close(\"&$D$12&\") when LocalYear(\"&$D$12&\")=\"&$D$9&\" and localMonth(\"&$D$12&\") =\"&$E$9&\" and LocalDay(\"&$D$12&\")=\"&$F$9&\" and Barix(\"&$D$12&\",reference:=StartOfSession)=\"&A32&\"\", \"Bar\", \"\", \"Close\",\"5\",\"0\",\"PrimaryOnly\",,,\"False\",\"T\",\"EveryTick\")","v":1698.69},1.379432310549206E-3,{"$f":"RTD(\"cqg.rtd\",,\"StudyData\", \"Close(\"&$D$12&\") when LocalYear(\"&$D$12&\")=\"&$D$10&\" and localMonth(\"&$D$12&\") =\"&$E$10&\" and LocalDay(\"&$D$12&\")=\"&$F$10&\" and Barix(\"&$D$12&\",reference:=StartOfSession)=\"&A32&\"\", \"Bar\", \"\", \"Close\",\"5\",\"0\",\"PrimaryOnly\",,,\"False\",\"T\",\"EveryTick\")","v":1682.69},1.0460766122010289E-2,null,null,null,""]
[32,"11:10:00","2018-06-07",2018,6,7,{"$f":"IF(RTD(\"cqg.rtd\",,\"StudyData\", \"Close(EP) when LocalYear(\"&$D$12&\")=\"&D33&\" and localMonth(\"&$D$12&\") =\"&E33&\" and LocalDay(\"&$D$12&\")=\"&F33&\" and Barix(\"&$D$12&\",reference:=StartOfSession)=77\", \"Bar\", \"\", \"Close\",\"5\",\"0\",\"PrimaryOnly\",,,\"False\",\"T\",\"EveryTick\")=\"\",2,1)","v":1},{"$f":"RTD(\"cqg.rtd\",,\"StudyData\", \"Close(\"&$D$12&\") when LocalYear(\"&$D$12&\")=\"&$D$1&\" and localMonth(\"&$D$12&\") =\"&$E$1&\" and LocalDay(\"&$D$12&\")=\"&$F$1&\" and Barix(\"&$D$12&\",reference:=StartOfSession)=\"&A33&\"\", \"Bar\", \"\", \"Close\",\"5\",\"0\",\"PrimaryOnly\",,,\"False\",\"T\",\"EveryTick\")","v":""},{"$error":"#N/A"},{"$f":"RTD(\"cqg.rtd\",,\"StudyData\", \"Close(\"&$D$12&\") when LocalYear(\"&$D$12&\")=\"&$D$2&\" and localMonth(\"&$D$12&\") =\"&$E$2&\" and LocalDay(\"&$D$12&\")=\"&$F$2&\" and Barix(\"&$D$12&\",reference:=StartOfSession)=\"&A33&\"\", \"Bar\", \"\", \"Close\",\"5\",\"0\",\"PrimaryOnly\",,,\"False\",\"T\",\"EveryTick\")","v":1717.89},-3.4631582611115755E-3,{"$f":"RTD(\"cqg.rtd\",,\"StudyData\", \"Close(\"&$D$12&\") when LocalYear(\"&$D$12&\")=\"&$D$3&\" and localMonth(\"&$D$12&\") =\"&$E$3&\" and LocalDay(\"&$D$12&\")=\"&$F$3&\" and Barix(\"&$D$12&\",reference:=StartOfSession)=\"&A33&\"\", \"Bar\", \"\", \"Close\",\"5\",\"0\",\"PrimaryOnly\",,,\"False\",\"T\",\"EveryTick\")","v":1718.4},7.9420011027299554E-3,{"$f":"RTD(\"cqg.rtd\",,\"StudyData\", \"Close(\"&$D$12&\") when LocalYear(\"&$D$12&\")=\"&$D$4&\" and localMonth(\"&$D$12&\") =\"&$E$4&\" and LocalDay(\"&$D$12&\")=\"&$F$4&\" and Barix(\"&$D$12&\",reference:=StartOfSession)=\"&A33&\"\", \"Bar\", \"\", \"Close\",\"5\",\"0\",\"PrimaryOnly\",,,\"False\",\"T\",\"EveryTick\")","v":1709.46},6.3046357615894255E-3,{"$f":"RTD(\"cqg.rtd\",,\"StudyData\", \"Close(\"&$D$12&\") when LocalYear(\"&$D$12&\")=\"&$D$5&\" and localMonth(\"&$D$12&\") =\"&$E$5&\" and LocalDay(\"&$D$12&\")=\"&$F$5&\" and Barix(\"&$D$12&\",reference:=StartOfSession)=\"&A33&\"\", \"Bar\", \"\", \"Close\",\"5\",\"0\",\"PrimaryOnly\",,,\"False\",\"T\",\"EveryTick\")","v":1697.39},4.8960405418207167E-3,{"$f":"RTD(\"cqg.rtd\",,\"StudyData\", \"Close(\"&$D$12&\") when LocalYear(\"&$D$12&\")=\"&$D$6&\" and localMonth(\"&$D$12&\") =\"&$E$6&\" and LocalDay(\"&$D$12&\")=\"&$F$6&\" and Barix(\"&$D$12&\",reference:=StartOfSession)=\"&A33&\"\", \"Bar\", \"\", \"Close\",\"5\",\"0\",\"PrimaryOnly\",,,\"False\",\"T\",\"EveryTick\")","v":1691.82},4.6496713163379395E-3,{"$f":"RTD(\"cqg.rtd\",,\"StudyData\", \"Close(\"&$D$12&\") when LocalYear(\"&$D$12&\")=\"&$D$7&\" and localMonth(\"&$D$12&\") =\"&$E$7&\" and LocalDay(\"&$D$12&\")=\"&$F$7&\" and Barix(\"&$D$12&\",reference:=StartOfSession)=\"&A33&\"\", \"Bar\", \"\", \"Close\",\"5\",\"0\",\"PrimaryOnly\",,,\"False\",\"T\",\"EveryTick\")","v":1686.88},-1.4325460249806697E-3,{"$f":"RTD(\"cqg.rtd\",,\"StudyData\", \"Close(\"&$D$12&\") when LocalYear(\"&$D$12&\")=\"&$D$8&\" and localMonth(\"&$D$12&\") =\"&$E$8&\" and LocalDay(\"&$D$12&\")=\"&$F$8&\" and Barix(\"&$D$12&\",reference:=StartOfSession)=\"&A33&\"\", \"Bar\", \"\", \"Close\",\"5\",\"0\",\"PrimaryOnly\",,,\"False\",\"T\",\"EveryTick\")","v":1688.4},-4.3343653250773459E-3,{"$f":"RTD(\"cqg.rtd\",,\"StudyData\", \"Close(\"&$D$12&\") when LocalYear(\"&$D$12&\")=\"&$D$9&\" and localMonth(\"&$D$12&\") =\"&$E$9&\" and LocalDay(\"&$D$12&\")=\"&$F$9&\" and Barix(\"&$D$12&\",reference:=StartOfSession)=\"&A33&\"\", \"Bar\", \"\", \"Close\",\"5\",\"0\",\"PrimaryOnly\",,,\"False\",\"T\",\"EveryTick\")","v":1699.84},2.0573584460754028E-3,{"$f":"RTD(\"cqg.rtd\",,\"StudyData\", \"Close(\"&$D$12&\") when LocalYear(\"&$D$12&\")=\"&$D$10&\" and localMonth(\"&$D$12&\") =\"&$E$10&\" and LocalDay(\"&$D$12&\")=\"&$F$10&\" and Barix(\"&$D$12&\",reference:=StartOfSession)=\"&A33&\"\", \"Bar\", \"\", \"Close\",\"5\",\"0\",\"PrimaryOnly\",,,\"False\",\"T\",\"EveryTick\")","v":1683.88},1.1175364955833064E-2,null,null,null,""]
[33,"11:15:00","2018-06-06",2018,6,6,{"$f":"IF(RTD(\"cqg.rtd\",,\"StudyData\", \"Close(EP) when LocalYear(\"&$D$12&\")=\"&D34&\" and localMonth(\"&$D$12&\") =\"&E34&\" and LocalDay(\"&$D$12&\")=\"&F34&\" and Barix(\"&$D$12&\",reference:=StartOfSession)=77\", \"Bar\", \"\", \"Close\",\"5\",\"0\",\"PrimaryOnly\",,,\"False\",\"T\",\"EveryTick\")=\"\",2,1)","v":1},{"$f":"RTD(\"cqg.rtd\",,\"StudyData\", \"Close(\"&$D$12&\") when LocalYear(\"&$D$12&\")=\"&$D$1&\" and localMonth(\"&$D$12&\") =\"&$E$1&\" and LocalDay(\"&$D$12&\")=\"&$F$1&\" and Barix(\"&$D$12&\",reference:=StartOfSession)=\"&A34&\"\", \"Bar\", \"\", \"Close\",\"5\",\"0\",\"PrimaryOnly\",,,\"False\",\"T\",\"EveryTick\")","v":""},{"$error":"#N/A"},{"$f":"RTD(\"cqg.rtd\",,\"StudyData\", \"Close(\"&$D$12&\") when LocalYear(\"&$D$12&\")=\"&$D$2&\" and localMonth(\"&$D$12&\") =\"&$E$2&\" and LocalDay(\"&$D$12&\")=\"&$F$2&\" and Barix(\"&$D$12&\",reference:=StartOfSession)=\"&A34&\"\", \"Bar\", \"\", \"Close\",\"5\",\"0\",\"PrimaryOnly\",,,\"False\",\"T\",\"EveryTick\")","v":1717.46},-3.7125984708734259E-3,{"$f":"RTD(\"cqg.rtd\",,\"StudyData\", \"Close(\"&$D$12&\") when LocalYear(\"&$D$12&\")=\"&$D$3&\" and localMonth(\"&$D$12&\") =\"&$E$3&\" and LocalDay(\"&$D$12&\")=\"&$F$3&\" and Barix(\"&$D$12&\",reference:=StartOfSession)=\"&A34&\"\", \"Bar\", \"\", \"Close\",\"5\",\"0\",\"PrimaryOnly\",,,\"False\",\"T\",\"EveryTick\")","v":1717.51},7.4199641026243164E-3,{"$f":"RTD(\"cqg.rtd\",,\"StudyData\", \"Close(\"&$D$12&\") when LocalYear(\"&$D$12&\")=\"&$D$4&\" and localMonth(\"&$D$12&\") =\"&$E$4&\" and LocalDay(\"&$D$12&\")=\"&$F$4&\" and Barix(\"&$D$12&\",reference:=StartOfSession)=\"&A34&\"\", \"Bar\", \"\", \"Close\",\"5\",\"0\",\"PrimaryOnly\",,,\"False\",\"T\",\"EveryTick\")","v":1709.21},6.1574687270051724E-3,{"$f":"RTD(\"cqg.rtd\",,\"StudyData\", \"Close(\"&$D$12&\") when LocalYear(\"&$D$12&\")=\"&$D$5&\" and localMonth(\"&$D$12&\") =\"&$E$5&\" and LocalDay(\"&$D$12&\")=\"&$F$5&\" and Barix(\"&$D$12&\",reference:=StartOfSession)=\"&A34&\"\", \"Bar\", \"\", \"Close\",\"5\",\"0\",\"PrimaryOnly\",,,\"False\",\"T\",\"EveryTick\")","v":1697.14},4.7480344794924041E-3,{"$f":"RTD(\"cqg.rtd\",,\"StudyData\", \"Close(\"&$D$12&\") when LocalYear(\"&$D$12&\")=\"&$D$6&\" and localMonth(\"&$D$12&\") =\"&$E$6&\" and LocalDay(\"&$D$12&\")=\"&$F$6&\" and Barix(\"&$D$12&\",reference:=StartOfSession)=\"&A34&\"\", \"Bar\", \"\", \"Close\",\"5\",\"0\",\"PrimaryOnly\",,,\"False\",\"T\",\"EveryTick\")","v":1692.5},5.053474189276653E-3,{"$f":"RTD(\"cqg.rtd\",,\"StudyData\", \"Close(\"&$D$12&\") when LocalYear(\"&$D$12&\")=\"&$D$7&\" and localMonth(\"&$D$12&\") =\"&$E$7&\" and LocalDay(\"&$D$12&\")=\"&$F$7&\" and Barix(\"&$D$12&\",reference:=StartOfSession)=\"&A34&\"\", \"Bar\", \"\", \"Close\",\"5\",\"0\",\"PrimaryOnly\",,,\"False\",\"T\",\"EveryTick\")","v":1686.72},-1.5272598117563058E-3,{"$f":"RTD(\"cqg.rtd\",,\"StudyData\", \"Close(\"&$D$12&\") when LocalYear(\"&$D$12&\")=\"&$D$8&\" and localMonth(\"&$D$12&\") =\"&$E$8&\" and LocalDay(\"&$D$12&\")=\"&$F$8&\" and Barix(\"&$D$12&\",reference:=StartOfSession)=\"&A34&\"\", \"Bar\", \"\", \"Close\",\"5\",\"0\",\"PrimaryOnly\",,,\"False\",\"T\",\"EveryTick\")","v":1688.78},-4.1102756892230736E-3,{"$f":"RTD(\"cqg.rtd\",,\"StudyData\", \"Close(\"&$D$12&\") when LocalYear(\"&$D$12&\")=\"&$D$9&\" and localMonth(\"&$D$12&\") =\"&$E$9&\" and LocalDay(\"&$D$12&\")=\"&$F$9&\" and Barix(\"&$D$12&\",reference:=StartOfSession)=\"&A34&\"\", \"Bar\", \"\", \"Close\",\"5\",\"0\",\"PrimaryOnly\",,,\"False\",\"T\",\"EveryTick\")","v":1700.97},2.7234945618534608E-3,{"$f":"RTD(\"cqg.rtd\",,\"StudyData\", \"Close(\"&$D$12&\") when LocalYear(\"&$D$12&\")=\"&$D$10&\" and localMonth(\"&$D$12&\") =\"&$E$10&\" and LocalDay(\"&$D$12&\")=\"&$F$10&\" and Barix(\"&$D$12&\",reference:=StartOfSession)=\"&A34&\"\", \"Bar\", \"\", \"Close\",\"5\",\"0\",\"PrimaryOnly\",,,\"False\",\"T\",\"EveryTick\")","v":1682.41},1.0292625219934366E-2,null,null,null,""]
[34,"11:20:00","2018-06-05",2018,6,5,{"$f":"IF(RTD(\"cqg.rtd\",,\"StudyData\", \"Close(EP) when LocalYear(\"&$D$12&\")=\"&D35&\" and localMonth(\"&$D$12&\") =\"&E35&\" and LocalDay(\"&$D$12&\")=\"&F35&\" and Barix(\"&$D$12&\",reference:=StartOfSession)=77\", \"Bar\", \"\", \"Close\",\"5\",\"0\",\"PrimaryOnly\",,,\"False\",\"T\",\"EveryTick\")=\"\",2,1)","v":1},{"$f":"RTD(\"cqg.rtd\",,\"StudyData\", \"Close(\"&$D$12&\") when LocalYear(\"&$D$12&\")=\"&$D$1&\" and localMonth(\"&$D$12&\") =\"&$E$1&\" and LocalDay(\"&$D$12&\")=\"&$F$1&\" and Barix(\"&$D$12&\",reference:=StartOfSession)=\"&A35&\"\", \"Bar\", \"\", \"Close\",\"5\",\"0\",\"PrimaryOnly\",,,\"False\",\"T\",\"EveryTick\")","v":""},{"$error":"#N/A"},{"$f":"RTD(\"cqg.rtd\",,\"StudyData\", \"Close(\"&$D$12&\") when LocalYear(\"&$D$12&\")=\"&$D$2&\" and localMonth(\"&$D$12&\") =\"&$E$2&\" and LocalDay(\"&$D$12&\")=\"&$F$2&\" and Barix(\"&$D$12&\",reference:=StartOfSession)=\"&A35&\"\", \"Bar\", \"\", \"Close\",\"5\",\"0\",\"PrimaryOnly\",,,\"False\",\"T\",\"EveryTick\")","v":1718},-3.399347974893495E-3,{"$f":"RTD(\"cqg.rtd\",,\"StudyData\", \"Close(\"&$D$12&\") when LocalYear(\"&$D$12&\")=\"&$D$3&\" and localMonth(\"&$D$12&\") =\"&$E$3&\" and LocalDay(\"&$D$12&\")=\"&$F$3&\" and Barix(\"&$D$12&\",reference:=StartOfSession)=\"&A35&\"\", \"Bar\", \"\", \"Close\",\"5\",\"0\",\"PrimaryOnly\",,,\"False\",\"T\",\"EveryTick\")","v":1716.77},6.9859108665814686E-3,{"$f":"RTD(\"cqg.rtd\",,\"StudyData\", \"Close(\"&$D$12&\") when LocalYear(\"&$D$12&\")=\"&$D$4&\" and localMonth(\"&$D$12&\") =\"&$E$4&\" and LocalDay(\"&$D$12&\")=\"&$F$4&\" and Barix(\"&$D$12&\",reference:=StartOfSession)=\"&A35&\"\", \"Bar\", \"\", \"Close\",\"5\",\"0\",\"PrimaryOnly\",,,\"False\",\"T\",\"EveryTick\")","v":1710.7},7.0345842531273264E-3,{"$f":"RTD(\"cqg.rtd\",,\"StudyData\", \"Close(\"&$D$12&\") when LocalYear(\"&$D$12&\")=\"&$D$5&\" and localMonth(\"&$D$12&\") =\"&$E$5&\" and LocalDay(\"&$D$12&\")=\"&$F$5&\" and Barix(\"&$D$12&\",reference:=StartOfSession)=\"&A35&\"\", \"Bar\", \"\", \"Close\",\"5\",\"0\",\"PrimaryOnly\",,,\"False\",\"T\",\"EveryTick\")","v":1696.35},4.2803353225348223E-3,{"$f":"RTD(\"cqg.rtd\",,\"StudyData\", \"Close(\"&$D$12&\") when LocalYear(\"&$D$12&\")=\"&$D$6&\" and localMonth(\"&$D$12&\") =\"&$E$6&\" and LocalDay(\"&$D$12&\")=\"&$F$6&\" and Barix(\"&$D$12&\",reference:=StartOfSession)=\"&A35&\"\", \"Bar\", \"\", \"Close\",\"5\",\"0\",\"PrimaryOnly\",,,\"False\",\"T\",\"EveryTick\")","v":1692.88},5.2791287359189188E-3,{"$f":"RTD(\"cqg.rtd\",,\"StudyData\", \"Close(\"&$D$12&\") when LocalYear(\"&$D$12&\")=\"&$D$7&\" and localMonth(\"&$D$12&\") =\"&$E$7&\" and LocalDay(\"&$D$12&\")=\"&$F$7&\" and Barix(\"&$D$12&\",reference:=StartOfSession)=\"&A35&\"\", \"Bar\", \"\", \"Close\",\"5\",\"0\",\"PrimaryOnly\",,,\"False\",\"T\",\"EveryTick\")","v":1687.29},-1.1898419463683128E-3,{"$f":"RTD(\"cqg.rtd\",,\"StudyData\", \"Close(\"&$D$12&\") when LocalYear(\"&$D$12&\")=\"&$D$8&\" and localMonth(\"&$D$12&\") =\"&$E$8&\" and LocalDay(\"&$D$12&\")=\"&$F$8&\" and Barix(\"&$D$12&\",reference:=StartOfSession)=\"&A35&\"\", \"Bar\", \"\", \"Close\",\"5\",\"0\",\"PrimaryOnly\",,,\"False\",\"T\",\"EveryTick\")","v":1690.36},-3.1785345717234852E-3,{"$f":"RTD(\"cqg.rtd\",,\"StudyData\", \"Close(\"&$D$12&\") when LocalYear(\"&$D$12&\")=\"&$D$9&\" and localMonth(\"&$D$12&\") =\"&$E$9&\" and LocalDay(\"&$D$12&\")=\"&$F$9&\" and Barix(\"&$D$12&\",reference:=StartOfSession)=\"&A35&\"\", \"Bar\", \"\", \"Close\",\"5\",\"0\",\"PrimaryOnly\",,,\"False\",\"T\",\"EveryTick\")","v":1700.78},2.6114893742447396E-3,{"$f":"RTD(\"cqg.rtd\",,\"StudyData\", \"Close(\"&$D$12&\") when LocalYear(\"&$D$12&\")=\"&$D$10&\" and localMonth(\"&$D$12&\") =\"&$E$10&\" and LocalDay(\"&$D$12&\")=\"&$F$10&\" and Barix(\"&$D$12&\",reference:=StartOfSession)=\"&A35&\"\", \"Bar\", \"\", \"Close\",\"5\",\"0\",\"PrimaryOnly\",,,\"False\",\"T\",\"EveryTick\")","v":1681.1},9.5059659995075443E-3,null,null,null,""]
[35,"11:25:00","2018-06-04",2018,6,4,{"$f":"IF(RTD(\"cqg.rtd\",,\"StudyData\", \"Close(EP) when LocalYear(\"&$D$12&\")=\"&D36&\" and localMonth(\"&$D$12&\") =\"&E36&\" and LocalDay(\"&$D$12&\")=\"&F36&\" and Barix(\"&$D$12&\",reference:=StartOfSession)=77\", \"Bar\", \"\", \"Close\",\"5\",\"0\",\"PrimaryOnly\",,,\"False\",\"T\",\"EveryTick\")=\"\",2,1)","v":1},{"$f":"RTD(\"cqg.rtd\",,\"StudyData\", \"Close(\"&$D$12&\") when LocalYear(\"&$D$12&\")=\"&$D$1&\" and localMonth(\"&$D$12&\") =\"&$E$1&\" and LocalDay(\"&$D$12&\")=\"&$F$1&\" and Barix(\"&$D$12&\",reference:=StartOfSession)=\"&A36&\"\", \"Bar\", \"\", \"Close\",\"5\",\"0\",\"PrimaryOnly\",,,\"False\",\"T\",\"EveryTick\")","v":""},{"$error":"#N/A"},{"$f":"RTD(\"cqg.rtd\",,\"StudyData\", \"Close(\"&$D$12&\") when LocalYear(\"&$D$12&\")=\"&$D$2&\" and localMonth(\"&$D$12&\") =\"&$E$2&\" and LocalDay(\"&$D$12&\")=\"&$F$2&\" and Barix(\"&$D$12&\",reference:=StartOfSession)=\"&A36&\"\", \"Bar\", \"\", \"Close\",\"5\",\"0\",\"PrimaryOnly\",,,\"False\",\"T\",\"EveryTick\")","v":1718.04},-3.3761442344505568E-3,{"$f":"RTD(\"cqg.rtd\",,\"StudyData\", \"Close(\"&$D$12&\") when LocalYear(\"&$D$12&\")=\"&$D$3&\" and localMonth(\"&$D$12&\") =\"&$E$3&\" and LocalDay(\"&$D$12&\")=\"&$F$3&\" and Barix(\"&$D$12&\",reference:=StartOfSession)=\"&A36&\"\", \"Bar\", \"\", \"Close\",\"5\",\"0\",\"PrimaryOnly\",,,\"False\",\"T\",\"EveryTick\")","v":1717.33},7.3143835857489925E-3,{"$f":"RTD(\"cqg.rtd\",,\"StudyData\", \"Close(\"&$D$12&\") when LocalYear(\"&$D$12&\")=\"&$D$4&\" and localMonth(\"&$D$12&\") =\"&$E$4&\" and LocalDay(\"&$D$12&\")=\"&$F$4&\" and Barix(\"&$D$12&\",reference:=StartOfSession)=\"&A36&\"\", \"Bar\", \"\", \"Close\",\"5\",\"0\",\"PrimaryOnly\",,,\"False\",\"T\",\"EveryTick\")","v":1712.32},7.9882266372332221E-3,{"$f":"RTD(\"cqg.rtd\",,\"StudyData\", \"Close(\"&$D$12&\") when LocalYear(\"&$D$12&\")=\"&$D$5&\" and localMonth(\"&$D$12&\") =\"&$E$5&\" and LocalDay(\"&$D$12&\")=\"&$F$5&\" and Barix(\"&$D$12&\",reference:=StartOfSession)=\"&A36&\"\", \"Bar\", \"\", \"Close\",\"5\",\"0\",\"PrimaryOnly\",,,\"False\",\"T\",\"EveryTick\")","v":1696.64},4.4520223548357779E-3,{"$f":"RTD(\"cqg.rtd\",,\"StudyData\", \"Close(\"&$D$12&\") when LocalYear(\"&$D$12&\")=\"&$D$6&\" and localMonth(\"&$D$12&\") =\"&$E$6&\" and LocalDay(\"&$D$12&\")=\"&$F$6&\" and Barix(\"&$D$12&\",reference:=StartOfSession)=\"&A36&\"\", \"Bar\", \"\", \"Close\",\"5\",\"0\",\"PrimaryOnly\",,,\"False\",\"T\",\"EveryTick\")","v":1693},5.3503880664374434E-3,{"$f":"RTD(\"cqg.rtd\",,\"StudyData\", \"Close(\"&$D$12&\") when LocalYear(\"&$D$12&\")=\"&$D$7&\" and localMonth(\"&$D$12&\") =\"&$E$7&\" and LocalDay(\"&$D$12&\")=\"&$F$7&\" and Barix(\"&$D$12&\",reference:=StartOfSession)=\"&A36&\"\", \"Bar\", \"\", \"Close\",\"5\",\"0\",\"PrimaryOnly\",,,\"False\",\"T\",\"EveryTick\")","v":1687.8},-8.8794175102113303E-4,{"$f":"RTD(\"cqg.rtd\",,\"StudyData\", \"Close(\"&$D$12&\") when LocalYear(\"&$D$12&\")=\"&$D$8&\" and localMonth(\"&$D$12&\") =\"&$E$8&\" and LocalDay(\"&$D$12&\")=\"&$F$8&\" and Barix(\"&$D$12&\",reference:=StartOfSession)=\"&A36&\"\", \"Bar\", \"\", \"Close\",\"5\",\"0\",\"PrimaryOnly\",,,\"False\",\"T\",\"EveryTick\")","v":1692.28},-2.0462922010909788E-3,{"$f":"RTD(\"cqg.rtd\",,\"StudyData\", \"Close(\"&$D$12&\") when LocalYear(\"&$D$12&\")=\"&$D$9&\" and localMonth(\"&$D$12&\") =\"&$E$9&\" and LocalDay(\"&$D$12&\")=\"&$F$9&\" and Barix(\"&$D$12&\",reference:=StartOfSession)=\"&A36&\"\", \"Bar\", \"\", \"Close\",\"5\",\"0\",\"PrimaryOnly\",,,\"False\",\"T\",\"EveryTick\")","v":1700.47},2.428744068146384E-3,{"$f":"RTD(\"cqg.rtd\",,\"StudyData\", \"Close(\"&$D$12&\") when LocalYear(\"&$D$12&\")=\"&$D$10&\" and localMonth(\"&$D$12&\") =\"&$E$10&\" and LocalDay(\"&$D$12&\")=\"&$F$10&\" and Barix(\"&$D$12&\",reference:=StartOfSession)=\"&A36&\"\", \"Bar\", \"\", \"Close\",\"5\",\"0\",\"PrimaryOnly\",,,\"False\",\"T\",\"EveryTick\")","v":1682.64},1.0430740960925326E-2,null,null,null,""]
[36,"11:30:00",null,null,null,null,null,{"$f":"RTD(\"cqg.rtd\",,\"StudyData\", \"Close(\"&$D$12&\") when LocalYear(\"&$D$12&\")=\"&$D$1&\" and localMonth(\"&$D$12&\") =\"&$E$1&\" and LocalDay(\"&$D$12&\")=\"&$F$1&\" and Barix(\"&$D$12&\",reference:=StartOfSession)=\"&A37&\"\", \"Bar\", \"\", \"Close\",\"5\",\"0\",\"PrimaryOnly\",,,\"False\",\"T\",\"EveryTick\")","v":""},{"$error":"#N/A"},{"$f":"RTD(\"cqg.rtd\",,\"StudyData\", \"Close(\"&$D$12&\") when LocalYear(\"&$D$12&\")=\"&$D$2&\" and localMonth(\"&$D$12&\") =\"&$E$2&\" and LocalDay(\"&$D$12&\")=\"&$F$2&\" and Barix(\"&$D$12&\",reference:=StartOfSession)=\"&A37&\"\", \"Bar\", \"\", \"Close\",\"5\",\"0\",\"PrimaryOnly\",,,\"False\",\"T\",\"EveryTick\")","v":1718.41},-3.1615096353531137E-3,{"$f":"RTD(\"cqg.rtd\",,\"StudyData\", \"Close(\"&$D$12&\") when LocalYear(\"&$D$12&\")=\"&$D$3&\" and localMonth(\"&$D$12&\") =\"&$E$3&\" and LocalDay(\"&$D$12&\")=\"&$F$3&\" and Barix(\"&$D$12&\",reference:=StartOfSession)=\"&A37&\"\", \"Bar\", \"\", \"Close\",\"5\",\"0\",\"PrimaryOnly\",,,\"False\",\"T\",\"EveryTick\")","v":1717.05},7.1501472261652306E-3,{"$f":"RTD(\"cqg.rtd\",,\"StudyData\", \"Close(\"&$D$12&\") when LocalYear(\"&$D$12&\")=\"&$D$4&\" and localMonth(\"&$D$12&\") =\"&$E$4&\" and LocalDay(\"&$D$12&\")=\"&$F$4&\" and Barix(\"&$D$12&\",reference:=StartOfSession)=\"&A37&\"\", \"Bar\", \"\", \"Close\",\"5\",\"0\",\"PrimaryOnly\",,,\"False\",\"T\",\"EveryTick\")","v":1710.75},7.0640176600441501E-3,{"$f":"RTD(\"cqg.rtd\",,\"StudyData\", \"Close(\"&$D$12&\") when LocalYear(\"&$D$12&\")=\"&$D$5&\" and localMonth(\"&$D$12&\") =\"&$E$5&\" and LocalDay(\"&$D$12&\")=\"&$F$5&\" and Barix(\"&$D$12&\",reference:=StartOfSession)=\"&A37&\"\", \"Bar\", \"\", \"Close\",\"5\",\"0\",\"PrimaryOnly\",,,\"False\",\"T\",\"EveryTick\")","v":1696.86},4.5822676896845752E-3,{"$f":"RTD(\"cqg.rtd\",,\"StudyData\", \"Close(\"&$D$12&\") when LocalYear(\"&$D$12&\")=\"&$D$6&\" and localMonth(\"&$D$12&\") =\"&$E$6&\" and LocalDay(\"&$D$12&\")=\"&$F$6&\" and Barix(\"&$D$12&\",reference:=StartOfSession)=\"&A37&\"\", \"Bar\", \"\", \"Close\",\"5\",\"0\",\"PrimaryOnly\",,,\"False\",\"T\",\"EveryTick\")","v":1692.71},5.1781780176842068E-3,{"$f":"RTD(\"cqg.rtd\",,\"StudyData\", \"Close(\"&$D$12&\") when LocalYear(\"&$D$12&\")=\"&$D$7&\" and localMonth(\"&$D$12&\") =\"&$E$7&\" and LocalDay(\"&$D$12&\")=\"&$F$7&\" and Barix(\"&$D$12&\",reference:=StartOfSession)=\"&A37&\"\", \"Bar\", \"\", \"Close\",\"5\",\"0\",\"PrimaryOnly\",,,\"False\",\"T\",\"EveryTick\")","v":1688.83},-2.7822174865330449E-4,{"$f":"RTD(\"cqg.rtd\",,\"StudyData\", \"Close(\"&$D$12&\") when LocalYear(\"&$D$12&\")=\"&$D$8&\" and localMonth(\"&$D$12&\") =\"&$E$8&\" and LocalDay(\"&$D$12&\")=\"&$F$8&\" and Barix(\"&$D$12&\",reference:=StartOfSession)=\"&A37&\"\", \"Bar\", \"\", \"Close\",\"5\",\"0\",\"PrimaryOnly\",,,\"False\",\"T\",\"EveryTick\")","v":1688.13},-4.4935869084475255E-3,{"$f":"RTD(\"cqg.rtd\",,\"StudyData\", \"Close(\"&$D$12&\") when LocalYear(\"&$D$12&\")=\"&$D$9&\" and localMonth(\"&$D$12&\") =\"&$E$9&\" and LocalDay(\"&$D$12&\")=\"&$F$9&\" and Barix(\"&$D$12&\",reference:=StartOfSession)=\"&A37&\"\", \"Bar\", \"\", \"Close\",\"5\",\"0\",\"PrimaryOnly\",,,\"False\",\"T\",\"EveryTick\")","v":1699.73},1.9925133374599046E-3,{"$f":"RTD(\"cqg.rtd\",,\"StudyData\", \"Close(\"&$D$12&\") when LocalYear(\"&$D$12&\")=\"&$D$10&\" and localMonth(\"&$D$12&\") =\"&$E$10&\" and LocalDay(\"&$D$12&\")=\"&$F$10&\" and Barix(\"&$D$12&\",reference:=StartOfSession)=\"&A37&\"\", \"Bar\", \"\", \"Close\",\"5\",\"0\",\"PrimaryOnly\",,,\"False\",\"T\",\"EveryTick\")","v":1682.21},1.0172524575594382E-2,null,null,null,""]
[37,"11:35:00",-40,{"$f":" RTD(\"cqg.rtd\",,\"StudyData\", $D$12,  \"Tick\", \"FlatTicks=0\", \"Tick\",\"D\",C38,\"PrimaryOnly\")","v":1715.77},null,"EP",null,{"$f":"RTD(\"cqg.rtd\",,\"StudyData\", \"Close(\"&$D$12&\") when LocalYear(\"&$D$12&\")=\"&$D$1&\" and localMonth(\"&$D$12&\") =\"&$E$1&\" and LocalDay(\"&$D$12&\")=\"&$F$1&\" and Barix(\"&$D$12&\",reference:=StartOfSession)=\"&A38&\"\", \"Bar\", \"\", \"Close\",\"5\",\"0\",\"PrimaryOnly\",,,\"False\",\"T\",\"EveryTick\")","v":""},{"$error":"#N/A"},{"$f":"RTD(\"cqg.rtd\",,\"StudyData\", \"Close(\"&$D$12&\") when LocalYear(\"&$D$12&\")=\"&$D$2&\" and localMonth(\"&$D$12&\") =\"&$E$2&\" and LocalDay(\"&$D$12&\")=\"&$F$2&\" and Barix(\"&$D$12&\",reference:=StartOfSession)=\"&A38&\"\", \"Bar\", \"\", \"Close\",\"5\",\"0\",\"PrimaryOnly\",,,\"False\",\"T\",\"EveryTick\")","v":1717.95},-3.4283526504471679E-3,{"$f":"RTD(\"cqg.rtd\",,\"StudyData\", \"Close(\"&$D$12&\") when LocalYear(\"&$D$12&\")=\"&$D$3&\" and localMonth(\"&$D$12&\") =\"&$E$3&\" and LocalDay(\"&$D$12&\")=\"&$F$3&\" and Barix(\"&$D$12&\",reference:=StartOfSession)=\"&A38&\"\", \"Bar\", \"\", \"Close\",\"5\",\"0\",\"PrimaryOnly\",,,\"False\",\"T\",\"EveryTick\")","v":1717.16},7.2146686531446465E-3,{"$f":"RTD(\"cqg.rtd\",,\"StudyData\", \"Close(\"&$D$12&\") when LocalYear(\"&$D$12&\")=\"&$D$4&\" and localMonth(\"&$D$12&\") =\"&$E$4&\" and LocalDay(\"&$D$12&\")=\"&$F$4&\" and Barix(\"&$D$12&\",reference:=StartOfSession)=\"&A38&\"\", \"Bar\", \"\", \"Close\",\"5\",\"0\",\"PrimaryOnly\",,,\"False\",\"T\",\"EveryTick\")","v":1709.6},6.3870493009565319E-3,{"$f":"RTD(\"cqg.rtd\",,\"StudyData\", \"Close(\"&$D$12&\") when LocalYear(\"&$D$12&\")=\"&$D$5&\" and localMonth(\"&$D$12&\") =\"&$E$5&\" and LocalDay(\"&$D$12&\")=\"&$F$5&\" and Barix(\"&$D$12&\",reference:=StartOfSession)=\"&A38&\"\", \"Bar\", \"\", \"Close\",\"5\",\"0\",\"PrimaryOnly\",,,\"False\",\"T\",\"EveryTick\")","v":1696.84},4.570427204698321E-3,{"$f":"RTD(\"cqg.rtd\",,\"StudyData\", \"Close(\"&$D$12&\") when LocalYear(\"&$D$12&\")=\"&$D$6&\" and localMonth(\"&$D$12&\") =\"&$E$6&\" and LocalDay(\"&$D$12&\")=\"&$F$6&\" and Barix(\"&$D$12&\",reference:=StartOfSession)=\"&A38&\"\", \"Bar\", \"\", \"Close\",\"5\",\"0\",\"PrimaryOnly\",,,\"False\",\"T\",\"EveryTick\")","v":1691.8},4.6377947612515191E-3,{"$f":"RTD(\"cqg.rtd\",,\"StudyData\", \"Close(\"&$D$12&\") when LocalYear(\"&$D$12&\")=\"&$D$7&\" and localMonth(\"&$D$12&\") =\"&$E$7&\" and LocalDay(\"&$D$12&\")=\"&$F$7&\" and Barix(\"&$D$12&\",reference:=StartOfSession)=\"&A38&\"\", \"Bar\", \"\", \"Close\",\"5\",\"0\",\"PrimaryOnly\",,,\"False\",\"T\",\"EveryTick\")","v":1687.69},-9.5305747942929021E-4,{"$f":"RTD(\"cqg.rtd\",,\"StudyData\", \"Close(\"&$D$12&\") when LocalYear(\"&$D$12&\")=\"&$D$8&\" and localMonth(\"&$D$12&\") =\"&$E$8&\" and LocalDay(\"&$D$12&\")=\"&$F$8&\" and Barix(\"&$D$12&\",reference:=StartOfSession)=\"&A38&\"\", \"Bar\", \"\", \"Close\",\"5\",\"0\",\"PrimaryOnly\",,,\"False\",\"T\",\"EveryTick\")","v":1688.2},-4.4523072386849208E-3,{"$f":"RTD(\"cqg.rtd\",,\"StudyData\", \"Close(\"&$D$12&\") when LocalYear(\"&$D$12&\")=\"&$D$9&\" and localMonth(\"&$D$12&\") =\"&$E$9&\" and LocalDay(\"&$D$12&\")=\"&$F$9&\" and Barix(\"&$D$12&\",reference:=StartOfSession)=\"&A38&\"\", \"Bar\", \"\", \"Close\",\"5\",\"0\",\"PrimaryOnly\",,,\"False\",\"T\",\"EveryTick\")","v":1696.54},1.1200518760872141E-4,{"$f":"RTD(\"cqg.rtd\",,\"StudyData\", \"Close(\"&$D$12&\") when LocalYear(\"&$D$12&\")=\"&$D$10&\" and localMonth(\"&$D$12&\") =\"&$E$10&\" and LocalDay(\"&$D$12&\")=\"&$F$10&\" and Barix(\"&$D$12&\",reference:=StartOfSession)=\"&A38&\"\", \"Bar\", \"\", \"Close\",\"5\",\"0\",\"PrimaryOnly\",,,\"False\",\"T\",\"EveryTick\")","v":1684.65},1.1637752436541887E-2,null,null,null,""]
[38,"11:40:00",{"$f":"C38+1","v":-39},{"$f":" RTD(\"cqg.rtd\",,\"StudyData\", $D$12,  \"Tick\", \"FlatTicks=0\", \"Tick\",\"D\",C39,\"PrimaryOnly\")","v":1715.79},null,"ENQ",null,{"$f":"RTD(\"cqg.rtd\",,\"StudyData\", \"Close(\"&$D$12&\") when LocalYear(\"&$D$12&\")=\"&$D$1&\" and localMonth(\"&$D$12&\") =\"&$E$1&\" and LocalDay(\"&$D$12&\")=\"&$F$1&\" and Barix(\"&$D$12&\",reference:=StartOfSession)=\"&A39&\"\", \"Bar\", \"\", \"Close\",\"5\",\"0\",\"PrimaryOnly\",,,\"False\",\"T\",\"EveryTick\")","v":""},{"$error":"#N/A"},{"$f":"RTD(\"cqg.rtd\",,\"StudyData\", \"Close(\"&$D$12&\") when LocalYear(\"&$D$12&\")=\"&$D$2&\" and localMonth(\"&$D$12&\") =\"&$E$2&\" and LocalDay(\"&$D$12&\")=\"&$F$2&\" and Barix(\"&$D$12&\",reference:=StartOfSession)=\"&A39&\"\", \"Bar\", \"\", \"Close\",\"5\",\"0\",\"PrimaryOnly\",,,\"False\",\"T\",\"EveryTick\")","v":1717.5},-3.6893947304304877E-3,{"$f":"RTD(\"cqg.rtd\",,\"StudyData\", \"Close(\"&$D$12&\") when LocalYear(\"&$D$12&\")=\"&$D$3&\" and localMonth(\"&$D$12&\") =\"&$E$3&\" and LocalDay(\"&$D$12&\")=\"&$F$3&\" and Barix(\"&$D$12&\",reference:=StartOfSession)=\"&A39&\"\", \"Bar\", \"\", \"Close\",\"5\",\"0\",\"PrimaryOnly\",,,\"False\",\"T\",\"EveryTick\")","v":1717.41},7.3613082599158774E-3,{"$f":"RTD(\"cqg.rtd\",,\"StudyData\", \"Close(\"&$D$12&\") when LocalYear(\"&$D$12&\")=\"&$D$4&\" and localMonth(\"&$D$12&\") =\"&$E$4&\" and LocalDay(\"&$D$12&\")=\"&$F$4&\" and Barix(\"&$D$12&\",reference:=StartOfSession)=\"&A39&\"\", \"Bar\", \"\", \"Close\",\"5\",\"0\",\"PrimaryOnly\",,,\"False\",\"T\",\"EveryTick\")","v":1711.25},7.3583517292126564E-3,{"$f":"RTD(\"cqg.rtd\",,\"StudyData\", \"Close(\"&$D$12&\") when LocalYear(\"&$D$12&\")=\"&$D$5&\" and localMonth(\"&$D$12&\") =\"&$E$5&\" and LocalDay(\"&$D$12&\")=\"&$F$5&\" and Barix(\"&$D$12&\",reference:=StartOfSession)=\"&A39&\"\", \"Bar\", \"\", \"Close\",\"5\",\"0\",\"PrimaryOnly\",,,\"False\",\"T\",\"EveryTick\")","v":1695.55},3.8067159230842475E-3,{"$f":"RTD(\"cqg.rtd\",,\"StudyData\", \"Close(\"&$D$12&\") when LocalYear(\"&$D$12&\")=\"&$D$6&\" and localMonth(\"&$D$12&\") =\"&$E$6&\" and LocalDay(\"&$D$12&\")=\"&$F$6&\" and Barix(\"&$D$12&\",reference:=StartOfSession)=\"&A39&\"\", \"Bar\", \"\", \"Close\",\"5\",\"0\",\"PrimaryOnly\",,,\"False\",\"T\",\"EveryTick\")","v":1690.28},3.7351765746827261E-3,{"$f":"RTD(\"cqg.rtd\",,\"StudyData\", \"Close(\"&$D$12&\") when LocalYear(\"&$D$12&\")=\"&$D$7&\" and localMonth(\"&$D$12&\") =\"&$E$7&\" and LocalDay(\"&$D$12&\")=\"&$F$7&\" and Barix(\"&$D$12&\",reference:=StartOfSession)=\"&A39&\"\", \"Bar\", \"\", \"Close\",\"5\",\"0\",\"PrimaryOnly\",,,\"False\",\"T\",\"EveryTick\")","v":1687.09},-1.3082341798378242E-3,{"$f":"RTD(\"cqg.rtd\",,\"StudyData\", \"Close(\"&$D$12&\") when LocalYear(\"&$D$12&\")=\"&$D$8&\" and localMonth(\"&$D$12&\") =\"&$E$8&\" and LocalDay(\"&$D$12&\")=\"&$F$8&\" and Barix(\"&$D$12&\",reference:=StartOfSession)=\"&A39&\"\", \"Bar\", \"\", \"Close\",\"5\",\"0\",\"PrimaryOnly\",,,\"False\",\"T\",\"EveryTick\")","v":1686.45},-5.4842989827509686E-3,{"$f":"RTD(\"cqg.rtd\",,\"StudyData\", \"Close(\"&$D$12&\") when LocalYear(\"&$D$12&\")=\"&$D$9&\" and localMonth(\"&$D$12&\") =\"&$E$9&\" and LocalDay(\"&$D$12&\")=\"&$F$9&\" and Barix(\"&$D$12&\",reference:=StartOfSession)=\"&A39&\"\", \"Bar\", \"\", \"Close\",\"5\",\"0\",\"PrimaryOnly\",,,\"False\",\"T\",\"EveryTick\")","v":1696.89},3.1833053320375575E-4,{"$f":"RTD(\"cqg.rtd\",,\"StudyData\", \"Close(\"&$D$12&\") when LocalYear(\"&$D$12&\")=\"&$D$10&\" and localMonth(\"&$D$12&\") =\"&$E$10&\" and LocalDay(\"&$D$12&\")=\"&$F$10&\" and Barix(\"&$D$12&\",reference:=StartOfSession)=\"&A39&\"\", \"Bar\", \"\", \"Close\",\"5\",\"0\",\"PrimaryOnly\",,,\"False\",\"T\",\"EveryTick\")","v":1684.9},1.1787878241966834E-2,null,null,null,""]
[39,"11:45:00",{"$f":"C39+1","v":-38},{"$f":" RTD(\"cqg.rtd\",,\"StudyData\", $D$12,  \"Tick\", \"FlatTicks=0\", \"Tick\",\"D\",C40,\"PrimaryOnly\")","v":1715.69},null,"YM",null,{"$f":"RTD(\"cqg.rtd\",,\"StudyData\", \"Close(\"&$D$12&\") when LocalYear(\"&$D$12&\")=\"&$D$1&\" and localMonth(\"&$D$12&\") =\"&$E$1&\" and LocalDay(\"&$D$12&\")=\"&$F$1&\" and Barix(\"&$D$12&\",reference:=StartOfSession)=\"&A40&\"\", \"Bar\", \"\", \"Close\",\"5\",\"0\",\"PrimaryOnly\",,,\"False\",\"T\",\"EveryTick\")","v":""},{"$error":"#N/A"},{"$f":"RTD(\"cqg.rtd\",,\"StudyData\", \"Close(\"&$D$12&\") when LocalYear(\"&$D$12&\")=\"&$D$2&\" and localMonth(\"&$D$12&\") =\"&$E$2&\" and LocalDay(\"&$D$12&\")=\"&$F$2&\" and Barix(\"&$D$12&\",reference:=StartOfSession)=\"&A40&\"\", \"Bar\", \"\", \"Close\",\"5\",\"0\",\"PrimaryOnly\",,,\"False\",\"T\",\"EveryTick\")","v":1718.27},-3.2427227269035295E-3,{"$f":"RTD(\"cqg.rtd\",,\"StudyData\", \"Close(\"&$D$12&\") when LocalYear(\"&$D$12&\")=\"&$D$3&\" and localMonth(\"&$D$12&\") =\"&$E$3&\" and LocalDay(\"&$D$12&\")=\"&$F$3&\" and Barix(\"&$D$12&\",reference:=StartOfSession)=\"&A40&\"\", \"Bar\", \"\", \"Close\",\"5\",\"0\",\"PrimaryOnly\",,,\"False\",\"T\",\"EveryTick\")","v":1718},7.7073777318959332E-3,{"$f":"RTD(\"cqg.rtd\",,\"StudyData\", \"Close(\"&$D$12&\") when LocalYear(\"&$D$12&\")=\"&$D$4&\" and localMonth(\"&$D$12&\") =\"&$E$4&\" and LocalDay(\"&$D$12&\")=\"&$F$4&\" and Barix(\"&$D$12&\",reference:=StartOfSession)=\"&A40&\"\", \"Bar\", \"\", \"Close\",\"5\",\"0\",\"PrimaryOnly\",,,\"False\",\"T\",\"EveryTick\")","v":1711.5},7.5055187637969095E-3,{"$f":"RTD(\"cqg.rtd\",,\"StudyData\", \"Close(\"&$D$12&\") when LocalYear(\"&$D$12&\")=\"&$D$5&\" and localMonth(\"&$D$12&\") =\"&$E$5&\" and LocalDay(\"&$D$12&\")=\"&$F$5&\" and Barix(\"&$D$12&\",reference:=StartOfSession)=\"&A40&\"\", \"Bar\", \"\", \"Close\",\"5\",\"0\",\"PrimaryOnly\",,,\"False\",\"T\",\"EveryTick\")","v":1695.67},3.8777588330019077E-3,{"$f":"RTD(\"cqg.rtd\",,\"StudyData\", \"Close(\"&$D$12&\") when LocalYear(\"&$D$12&\")=\"&$D$6&\" and localMonth(\"&$D$12&\") =\"&$E$6&\" and LocalDay(\"&$D$12&\")=\"&$F$6&\" and Barix(\"&$D$12&\",reference:=StartOfSession)=\"&A40&\"\", \"Bar\", \"\", \"Close\",\"5\",\"0\",\"PrimaryOnly\",,,\"False\",\"T\",\"EveryTick\")","v":1691.27},4.3230660514610971E-3,{"$f":"RTD(\"cqg.rtd\",,\"StudyData\", \"Close(\"&$D$12&\") when LocalYear(\"&$D$12&\")=\"&$D$7&\" and localMonth(\"&$D$12&\") =\"&$E$7&\" and LocalDay(\"&$D$12&\")=\"&$F$7&\" and Barix(\"&$D$12&\",reference:=StartOfSession)=\"&A40&\"\", \"Bar\", \"\", \"Close\",\"5\",\"0\",\"PrimaryOnly\",,,\"False\",\"T\",\"EveryTick\")","v":1687.88},-8.4058485763324775E-4,{"$f":"RTD(\"cqg.rtd\",,\"StudyData\", \"Close(\"&$D$12&\") when LocalYear(\"&$D$12&\")=\"&$D$8&\" and localMonth(\"&$D$12&\") =\"&$E$8&\" and LocalDay(\"&$D$12&\")=\"&$F$8&\" and Barix(\"&$D$12&\",reference:=StartOfSession)=\"&A40&\"\", \"Bar\", \"\", \"Close\",\"5\",\"0\",\"PrimaryOnly\",,,\"False\",\"T\",\"EveryTick\")","v":1684.32},-6.7403803626714222E-3,{"$f":"RTD(\"cqg.rtd\",,\"StudyData\", \"Close(\"&$D$12&\") when LocalYear(\"&$D$12&\")=\"&$D$9&\" and localMonth(\"&$D$12&\") =\"&$E$9&\" and LocalDay(\"&$D$12&\")=\"&$F$9&\" and Barix(\"&$D$12&\",reference:=StartOfSession)=\"&A40&\"\", \"Bar\", \"\", \"Close\",\"5\",\"0\",\"PrimaryOnly\",,,\"False\",\"T\",\"EveryTick\")","v":1697.95},9.4320157986272669E-4,{"$f":"RTD(\"cqg.rtd\",,\"StudyData\", \"Close(\"&$D$12&\") when LocalYear(\"&$D$12&\")=\"&$D$10&\" and localMonth(\"&$D$12&\") =\"&$E$10&\" and LocalDay(\"&$D$12&\")=\"&$F$10&\" and Barix(\"&$D$12&\",reference:=StartOfSession)=\"&A40&\"\", \"Bar\", \"\", \"Close\",\"5\",\"0\",\"PrimaryOnly\",,,\"False\",\"T\",\"EveryTick\")","v":1685.25},1.1998054369561703E-2,null,null,null,""]
[40,"11:50:00",-37,{"$f":" RTD(\"cqg.rtd\",,\"StudyData\", $D$12,  \"Tick\", \"FlatTicks=0\", \"Tick\",\"D\",C41,\"PrimaryOnly\")","v":1715.67},null,"RTY",null,{"$f":"RTD(\"cqg.rtd\",,\"StudyData\", \"Close(\"&$D$12&\") when LocalYear(\"&$D$12&\")=\"&$D$1&\" and localMonth(\"&$D$12&\") =\"&$E$1&\" and LocalDay(\"&$D$12&\")=\"&$F$1&\" and Barix(\"&$D$12&\",reference:=StartOfSession)=\"&A41&\"\", \"Bar\", \"\", \"Close\",\"5\",\"0\",\"PrimaryOnly\",,,\"False\",\"T\",\"EveryTick\")","v":""},{"$error":"#N/A"},{"$f":"RTD(\"cqg.rtd\",,\"StudyData\", \"Close(\"&$D$12&\") when LocalYear(\"&$D$12&\")=\"&$D$2&\" and localMonth(\"&$D$12&\") =\"&$E$2&\" and LocalDay(\"&$D$12&\")=\"&$F$2&\" and Barix(\"&$D$12&\",reference:=StartOfSession)=\"&A41&\"\", \"Bar\", \"\", \"Close\",\"5\",\"0\",\"PrimaryOnly\",,,\"False\",\"T\",\"EveryTick\")","v":1718.46},-3.1325049597994408E-3,{"$f":"RTD(\"cqg.rtd\",,\"StudyData\", \"Close(\"&$D$12&\") when LocalYear(\"&$D$12&\")=\"&$D$3&\" and localMonth(\"&$D$12&\") =\"&$E$3&\" and LocalDay(\"&$D$12&\")=\"&$F$3&\" and Barix(\"&$D$12&\",reference:=StartOfSession)=\"&A41&\"\", \"Bar\", \"\", \"Close\",\"5\",\"0\",\"PrimaryOnly\",,,\"False\",\"T\",\"EveryTick\")","v":1718.66},8.0945062937720306E-3,{"$f":"RTD(\"cqg.rtd\",,\"StudyData\", \"Close(\"&$D$12&\") when LocalYear(\"&$D$12&\")=\"&$D$4&\" and localMonth(\"&$D$12&\") =\"&$E$4&\" and LocalDay(\"&$D$12&\")=\"&$F$4&\" and Barix(\"&$D$12&\",reference:=StartOfSession)=\"&A41&\"\", \"Bar\", \"\", \"Close\",\"5\",\"0\",\"PrimaryOnly\",,,\"False\",\"T\",\"EveryTick\")","v":1710},6.6225165562913907E-3,{"$f":"RTD(\"cqg.rtd\",,\"StudyData\", \"Close(\"&$D$12&\") when LocalYear(\"&$D$12&\")=\"&$D$5&\" and localMonth(\"&$D$12&\") =\"&$E$5&\" and LocalDay(\"&$D$12&\")=\"&$F$5&\" and Barix(\"&$D$12&\",reference:=StartOfSession)=\"&A41&\"\", \"Bar\", \"\", \"Close\",\"5\",\"0\",\"PrimaryOnly\",,,\"False\",\"T\",\"EveryTick\")","v":1695.24},3.6231884057971717E-3,{"$f":"RTD(\"cqg.rtd\",,\"StudyData\", \"Close(\"&$D$12&\") when LocalYear(\"&$D$12&\")=\"&$D$6&\" and localMonth(\"&$D$12&\") =\"&$E$6&\" and LocalDay(\"&$D$12&\")=\"&$F$6&\" and Barix(\"&$D$12&\",reference:=StartOfSession)=\"&A41&\"\", \"Bar\", \"\", \"Close\",\"5\",\"0\",\"PrimaryOnly\",,,\"False\",\"T\",\"EveryTick\")","v":1691.63},4.5368440430169415E-3,{"$f":"RTD(\"cqg.rtd\",,\"StudyData\", \"Close(\"&$D$12&\") when LocalYear(\"&$D$12&\")=\"&$D$7&\" and localMonth(\"&$D$12&\") =\"&$E$7&\" and LocalDay(\"&$D$12&\")=\"&$F$7&\" and Barix(\"&$D$12&\",reference:=StartOfSession)=\"&A41&\"\", \"Bar\", \"\", \"Close\",\"5\",\"0\",\"PrimaryOnly\",,,\"False\",\"T\",\"EveryTick\")","v":1688.6},-4.1437281714322232E-4,{"$f":"RTD(\"cqg.rtd\",,\"StudyData\", \"Close(\"&$D$12&\") when LocalYear(\"&$D$12&\")=\"&$D$8&\" and localMonth(\"&$D$12&\") =\"&$E$8&\" and LocalDay(\"&$D$12&\")=\"&$F$8&\" and Barix(\"&$D$12&\",reference:=StartOfSession)=\"&A41&\"\", \"Bar\", \"\", \"Close\",\"5\",\"0\",\"PrimaryOnly\",,,\"False\",\"T\",\"EveryTick\")","v":1684.21},-6.8052484151555149E-3,{"$f":"RTD(\"cqg.rtd\",,\"StudyData\", \"Close(\"&$D$12&\") when LocalYear(\"&$D$12&\")=\"&$D$9&\" and localMonth(\"&$D$12&\") =\"&$E$9&\" and LocalDay(\"&$D$12&\")=\"&$F$9&\" and Barix(\"&$D$12&\",reference:=StartOfSession)=\"&A41&\"\", \"Bar\", \"\", \"Close\",\"5\",\"0\",\"PrimaryOnly\",,,\"False\",\"T\",\"EveryTick\")","v":1698.9},1.5032275179061999E-3,{"$f":"RTD(\"cqg.rtd\",,\"StudyData\", \"Close(\"&$D$12&\") when LocalYear(\"&$D$12&\")=\"&$D$10&\" and localMonth(\"&$D$12&\") =\"&$E$10&\" and LocalDay(\"&$D$12&\")=\"&$F$10&\" and Barix(\"&$D$12&\",reference:=StartOfSession)=\"&A41&\"\", \"Bar\", \"\", \"Close\",\"5\",\"0\",\"PrimaryOnly\",,,\"False\",\"T\",\"EveryTick\")","v":1685.23},1.1986044305127719E-2,null,null,null,""]
[41,"11:55:00",-36,{"$f":" RTD(\"cqg.rtd\",,\"StudyData\", $D$12,  \"Tick\", \"FlatTicks=0\", \"Tick\",\"D\",C42,\"PrimaryOnly\")","v":1715.68},null,"EMD",null,{"$f":"RTD(\"cqg.rtd\",,\"StudyData\", \"Close(\"&$D$12&\") when LocalYear(\"&$D$12&\")=\"&$D$1&\" and localMonth(\"&$D$12&\") =\"&$E$1&\" and LocalDay(\"&$D$12&\")=\"&$F$1&\" and Barix(\"&$D$12&\",reference:=StartOfSession)=\"&A42&\"\", \"Bar\", \"\", \"Close\",\"5\",\"0\",\"PrimaryOnly\",,,\"False\",\"T\",\"EveryTick\")","v":""},{"$error":"#N/A"},{"$f":"RTD(\"cqg.rtd\",,\"StudyData\", \"Close(\"&$D$12&\") when LocalYear(\"&$D$12&\")=\"&$D$2&\" and localMonth(\"&$D$12&\") =\"&$E$2&\" and LocalDay(\"&$D$12&\")=\"&$F$2&\" and Barix(\"&$D$12&\",reference:=StartOfSession)=\"&A42&\"\", \"Bar\", \"\", \"Close\",\"5\",\"0\",\"PrimaryOnly\",,,\"False\",\"T\",\"EveryTick\")","v":1718.8},-2.9352731660343334E-3,{"$f":"RTD(\"cqg.rtd\",,\"StudyData\", \"Close(\"&$D$12&\") when LocalYear(\"&$D$12&\")=\"&$D$3&\" and localMonth(\"&$D$12&\") =\"&$E$3&\" and LocalDay(\"&$D$12&\")=\"&$F$3&\" and Barix(\"&$D$12&\",reference:=StartOfSession)=\"&A42&\"\", \"Bar\", \"\", \"Close\",\"5\",\"0\",\"PrimaryOnly\",,,\"False\",\"T\",\"EveryTick\")","v":1717.96},7.683915394812558E-3,{"$f":"RTD(\"cqg.rtd\",,\"StudyData\", \"Close(\"&$D$12&\") when LocalYear(\"&$D$12&\")=\"&$D$4&\" and localMonth(\"&$D$12&\") =\"&$E$4&\" and LocalDay(\"&$D$12&\")=\"&$F$4&\" and Barix(\"&$D$12&\",reference:=StartOfSession)=\"&A42&\"\", \"Bar\", \"\", \"Close\",\"5\",\"0\",\"PrimaryOnly\",,,\"False\",\"T\",\"EveryTick\")","v":1709.89},6.5577630610743785E-3,{"$f":"RTD(\"cqg.rtd\",,\"StudyData\", \"Close(\"&$D$12&\") when LocalYear(\"&$D$12&\")=\"&$D$5&\" and localMonth(\"&$D$12&\") =\"&$E$5&\" and LocalDay(\"&$D$12&\")=\"&$F$5&\" and Barix(\"&$D$12&\",reference:=StartOfSession)=\"&A42&\"\", \"Bar\", \"\", \"Close\",\"5\",\"0\",\"PrimaryOnly\",,,\"False\",\"T\",\"EveryTick\")","v":1695.21},3.6054276783177904E-3,{"$f":"RTD(\"cqg.rtd\",,\"StudyData\", \"Close(\"&$D$12&\") when LocalYear(\"&$D$12&\")=\"&$D$6&\" and localMonth(\"&$D$12&\") =\"&$E$6&\" and LocalDay(\"&$D$12&\")=\"&$F$6&\" and Barix(\"&$D$12&\",reference:=StartOfSession)=\"&A42&\"\", \"Bar\", \"\", \"Close\",\"5\",\"0\",\"PrimaryOnly\",,,\"False\",\"T\",\"EveryTick\")","v":1691.51},4.4655847124982816E-3,{"$f":"RTD(\"cqg.rtd\",,\"StudyData\", \"Close(\"&$D$12&\") when LocalYear(\"&$D$12&\")=\"&$D$7&\" and localMonth(\"&$D$12&\") =\"&$E$7&\" and LocalDay(\"&$D$12&\")=\"&$F$7&\" and Barix(\"&$D$12&\",reference:=StartOfSession)=\"&A42&\"\", \"Bar\", \"\", \"Close\",\"5\",\"0\",\"PrimaryOnly\",,,\"False\",\"T\",\"EveryTick\")","v":1687.85},-8.5834369265378884E-4,{"$f":"RTD(\"cqg.rtd\",,\"StudyData\", \"Close(\"&$D$12&\") when LocalYear(\"&$D$12&\")=\"&$D$8&\" and localMonth(\"&$D$12&\") =\"&$E$8&\" and LocalDay(\"&$D$12&\")=\"&$F$8&\" and Barix(\"&$D$12&\",reference:=StartOfSession)=\"&A42&\"\", \"Bar\", \"\", \"Close\",\"5\",\"0\",\"PrimaryOnly\",,,\"False\",\"T\",\"EveryTick\")","v":1684.01},-6.9231903287630897E-3,{"$f":"RTD(\"cqg.rtd\",,\"StudyData\", \"Close(\"&$D$12&\") when LocalYear(\"&$D$12&\")=\"&$D$9&\" and localMonth(\"&$D$12&\") =\"&$E$9&\" and LocalDay(\"&$D$12&\")=\"&$F$9&\" and Barix(\"&$D$12&\",reference:=StartOfSession)=\"&A42&\"\", \"Bar\", \"\", \"Close\",\"5\",\"0\",\"PrimaryOnly\",,,\"False\",\"T\",\"EveryTick\")","v":1700.06},2.1870486633065326E-3,{"$f":"RTD(\"cqg.rtd\",,\"StudyData\", \"Close(\"&$D$12&\") when LocalYear(\"&$D$12&\")=\"&$D$10&\" and localMonth(\"&$D$12&\") =\"&$E$10&\" and LocalDay(\"&$D$12&\")=\"&$F$10&\" and Barix(\"&$D$12&\",reference:=StartOfSession)=\"&A42&\"\", \"Bar\", \"\", \"Close\",\"5\",\"0\",\"PrimaryOnly\",,,\"False\",\"T\",\"EveryTick\")","v":1685.36},1.206410972394862E-2,null,null,null,""]
[42,"12:00:00",-35,{"$f":" RTD(\"cqg.rtd\",,\"StudyData\", $D$12,  \"Tick\", \"FlatTicks=0\", \"Tick\",\"D\",C43,\"PrimaryOnly\")","v":1715.76},null,"FTS",null,{"$f":"RTD(\"cqg.rtd\",,\"StudyData\", \"Close(\"&$D$12&\") when LocalYear(\"&$D$12&\")=\"&$D$1&\" and localMonth(\"&$D$12&\") =\"&$E$1&\" and LocalDay(\"&$D$12&\")=\"&$F$1&\" and Barix(\"&$D$12&\",reference:=StartOfSession)=\"&A43&\"\", \"Bar\", \"\", \"Close\",\"5\",\"0\",\"PrimaryOnly\",,,\"False\",\"T\",\"EveryTick\")","v":""},{"$error":"#N/A"},{"$f":"RTD(\"cqg.rtd\",,\"StudyData\", \"Close(\"&$D$12&\") when LocalYear(\"&$D$12&\")=\"&$D$2&\" and localMonth(\"&$D$12&\") =\"&$E$2&\" and LocalDay(\"&$D$12&\")=\"&$F$2&\" and Barix(\"&$D$12&\",reference:=StartOfSession)=\"&A43&\"\", \"Bar\", \"\", \"Close\",\"5\",\"0\",\"PrimaryOnly\",,,\"False\",\"T\",\"EveryTick\")","v":1718.39},-3.1731115055745828E-3,{"$f":"RTD(\"cqg.rtd\",,\"StudyData\", \"Close(\"&$D$12&\") when LocalYear(\"&$D$12&\")=\"&$D$3&\" and localMonth(\"&$D$12&\") =\"&$E$3&\" and LocalDay(\"&$D$12&\")=\"&$F$3&\" and Barix(\"&$D$12&\",reference:=StartOfSession)=\"&A43&\"\", \"Bar\", \"\", \"Close\",\"5\",\"0\",\"PrimaryOnly\",,,\"False\",\"T\",\"EveryTick\")","v":1718.2},7.8246894173129439E-3,{"$f":"RTD(\"cqg.rtd\",,\"StudyData\", \"Close(\"&$D$12&\") when LocalYear(\"&$D$12&\")=\"&$D$4&\" and localMonth(\"&$D$12&\") =\"&$E$4&\" and LocalDay(\"&$D$12&\")=\"&$F$4&\" and Barix(\"&$D$12&\",reference:=StartOfSession)=\"&A43&\"\", \"Bar\", \"\", \"Close\",\"5\",\"0\",\"PrimaryOnly\",,,\"False\",\"T\",\"EveryTick\")","v":1709.89},6.5577630610743785E-3,{"$f":"RTD(\"cqg.rtd\",,\"StudyData\", \"Close(\"&$D$12&\") when LocalYear(\"&$D$12&\")=\"&$D$5&\" and localMonth(\"&$D$12&\") =\"&$E$5&\" and LocalDay(\"&$D$12&\")=\"&$F$5&\" and Barix(\"&$D$12&\",reference:=StartOfSession)=\"&A43&\"\", \"Bar\", \"\", \"Close\",\"5\",\"0\",\"PrimaryOnly\",,,\"False\",\"T\",\"EveryTick\")","v":1696.3},4.2507341100691863E-3,{"$f":"RTD(\"cqg.rtd\",,\"StudyData\", \"Close(\"&$D$12&\") when LocalYear(\"&$D$12&\")=\"&$D$6&\" and localMonth(\"&$D$12&\") =\"&$E$6&\" and LocalDay(\"&$D$12&\")=\"&$F$6&\" and Barix(\"&$D$12&\",reference:=StartOfSession)=\"&A43&\"\", \"Bar\", \"\", \"Close\",\"5\",\"0\",\"PrimaryOnly\",,,\"False\",\"T\",\"EveryTick\")","v":1691.03},4.1805473904239117E-3,{"$f":"RTD(\"cqg.rtd\",,\"StudyData\", \"Close(\"&$D$12&\") when LocalYear(\"&$D$12&\")=\"&$D$7&\" and localMonth(\"&$D$12&\") =\"&$E$7&\" and LocalDay(\"&$D$12&\")=\"&$F$7&\" and Barix(\"&$D$12&\",reference:=StartOfSession)=\"&A43&\"\", \"Bar\", \"\", \"Close\",\"5\",\"0\",\"PrimaryOnly\",,,\"False\",\"T\",\"EveryTick\")","v":1687.89},-8.3466524595977886E-4,{"$f":"RTD(\"cqg.rtd\",,\"StudyData\", \"Close(\"&$D$12&\") when LocalYear(\"&$D$12&\")=\"&$D$8&\" and localMonth(\"&$D$12&\") =\"&$E$8&\" and LocalDay(\"&$D$12&\")=\"&$F$8&\" and Barix(\"&$D$12&\",reference:=StartOfSession)=\"&A43&\"\", \"Bar\", \"\", \"Close\",\"5\",\"0\",\"PrimaryOnly\",,,\"False\",\"T\",\"EveryTick\")","v":1685.21},-6.2155388471177731E-3,{"$f":"RTD(\"cqg.rtd\",,\"StudyData\", \"Close(\"&$D$12&\") when LocalYear(\"&$D$12&\")=\"&$D$9&\" and localMonth(\"&$D$12&\") =\"&$E$9&\" and LocalDay(\"&$D$12&\")=\"&$F$9&\" and Barix(\"&$D$12&\",reference:=StartOfSession)=\"&A43&\"\", \"Bar\", \"\", \"Close\",\"5\",\"0\",\"PrimaryOnly\",,,\"False\",\"T\",\"EveryTick\")","v":1700.3},2.3285289002859351E-3,{"$f":"RTD(\"cqg.rtd\",,\"StudyData\", \"Close(\"&$D$12&\") when LocalYear(\"&$D$12&\")=\"&$D$10&\" and localMonth(\"&$D$12&\") =\"&$E$10&\" and LocalDay(\"&$D$12&\")=\"&$F$10&\" and Barix(\"&$D$12&\",reference:=StartOfSession)=\"&A43&\"\", \"Bar\", \"\", \"Close\",\"5\",\"0\",\"PrimaryOnly\",,,\"False\",\"T\",\"EveryTick\")","v":1685.64},1.223225062602468E-2,null,null,null,""]
[43,"12:05:00",-34,{"$f":" RTD(\"cqg.rtd\",,\"StudyData\", $D$12,  \"Tick\", \"FlatTicks=0\", \"Tick\",\"D\",C44,\"PrimaryOnly\")","v":1715.67},null,"BTC",null,{"$f":"RTD(\"cqg.rtd\",,\"StudyData\", \"Close(\"&$D$12&\") when LocalYear(\"&$D$12&\")=\"&$D$1&\" and localMonth(\"&$D$12&\") =\"&$E$1&\" and LocalDay(\"&$D$12&\")=\"&$F$1&\" and Barix(\"&$D$12&\",reference:=StartOfSession)=\"&A44&\"\", \"Bar\", \"\", \"Close\",\"5\",\"0\",\"PrimaryOnly\",,,\"False\",\"T\",\"EveryTick\")","v":""},{"$error":"#N/A"},{"$f":"RTD(\"cqg.rtd\",,\"StudyData\", \"Close(\"&$D$12&\") when LocalYear(\"&$D$12&\")=\"&$D$2&\" and localMonth(\"&$D$12&\") =\"&$E$2&\" and LocalDay(\"&$D$12&\")=\"&$F$2&\" and Barix(\"&$D$12&\",reference:=StartOfSession)=\"&A44&\"\", \"Bar\", \"\", \"Close\",\"5\",\"0\",\"PrimaryOnly\",,,\"False\",\"T\",\"EveryTick\")","v":1718.84},-2.9120694255913948E-3,{"$f":"RTD(\"cqg.rtd\",,\"StudyData\", \"Close(\"&$D$12&\") when LocalYear(\"&$D$12&\")=\"&$D$3&\" and localMonth(\"&$D$12&\") =\"&$E$3&\" and LocalDay(\"&$D$12&\")=\"&$F$3&\" and Barix(\"&$D$12&\",reference:=StartOfSession)=\"&A44&\"\", \"Bar\", \"\", \"Close\",\"5\",\"0\",\"PrimaryOnly\",,,\"False\",\"T\",\"EveryTick\")","v":1718.45},7.9713290240841748E-3,{"$f":"RTD(\"cqg.rtd\",,\"StudyData\", \"Close(\"&$D$12&\") when LocalYear(\"&$D$12&\")=\"&$D$4&\" and localMonth(\"&$D$12&\") =\"&$E$4&\" and LocalDay(\"&$D$12&\")=\"&$F$4&\" and Barix(\"&$D$12&\",reference:=StartOfSession)=\"&A44&\"\", \"Bar\", \"\", \"Close\",\"5\",\"0\",\"PrimaryOnly\",,,\"False\",\"T\",\"EveryTick\")","v":1707.45},5.1214128035320357E-3,{"$f":"RTD(\"cqg.rtd\",,\"StudyData\", \"Close(\"&$D$12&\") when LocalYear(\"&$D$12&\")=\"&$D$5&\" and localMonth(\"&$D$12&\") =\"&$E$5&\" and LocalDay(\"&$D$12&\")=\"&$F$5&\" and Barix(\"&$D$12&\",reference:=StartOfSession)=\"&A44&\"\", \"Bar\", \"\", \"Close\",\"5\",\"0\",\"PrimaryOnly\",,,\"False\",\"T\",\"EveryTick\")","v":1695.95},4.0435256228096017E-3,{"$f":"RTD(\"cqg.rtd\",,\"StudyData\", \"Close(\"&$D$12&\") when LocalYear(\"&$D$12&\")=\"&$D$6&\" and localMonth(\"&$D$12&\") =\"&$E$6&\" and LocalDay(\"&$D$12&\")=\"&$F$6&\" and Barix(\"&$D$12&\",reference:=StartOfSession)=\"&A44&\"\", \"Bar\", \"\", \"Close\",\"5\",\"0\",\"PrimaryOnly\",,,\"False\",\"T\",\"EveryTick\")","v":1691.76},4.6140416510786772E-3,{"$f":"RTD(\"cqg.rtd\",,\"StudyData\", \"Close(\"&$D$12&\") when LocalYear(\"&$D$12&\")=\"&$D$7&\" and localMonth(\"&$D$12&\") =\"&$E$7&\" and LocalDay(\"&$D$12&\")=\"&$F$7&\" and Barix(\"&$D$12&\",reference:=StartOfSession)=\"&A44&\"\", \"Bar\", \"\", \"Close\",\"5\",\"0\",\"PrimaryOnly\",,,\"False\",\"T\",\"EveryTick\")","v":1686.91},-1.4147871899602633E-3,{"$f":"RTD(\"cqg.rtd\",,\"StudyData\", \"Close(\"&$D$12&\") when LocalYear(\"&$D$12&\")=\"&$D$8&\" and localMonth(\"&$D$12&\") =\"&$E$8&\" and LocalDay(\"&$D$12&\")=\"&$F$8&\" and Barix(\"&$D$12&\",reference:=StartOfSession)=\"&A44&\"\", \"Bar\", \"\", \"Close\",\"5\",\"0\",\"PrimaryOnly\",,,\"False\",\"T\",\"EveryTick\")","v":1683.34},-7.3182957393484191E-3,{"$f":"RTD(\"cqg.rtd\",,\"StudyData\", \"Close(\"&$D$12&\") when LocalYear(\"&$D$12&\")=\"&$D$9&\" and localMonth(\"&$D$12&\") =\"&$E$9&\" and LocalDay(\"&$D$12&\")=\"&$F$9&\" and Barix(\"&$D$12&\",reference:=StartOfSession)=\"&A44&\"\", \"Bar\", \"\", \"Close\",\"5\",\"0\",\"PrimaryOnly\",,,\"False\",\"T\",\"EveryTick\")","v":1699.1},1.6211277153889234E-3,{"$f":"RTD(\"cqg.rtd\",,\"StudyData\", \"Close(\"&$D$12&\") when LocalYear(\"&$D$12&\")=\"&$D$10&\" and localMonth(\"&$D$12&\") =\"&$E$10&\" and LocalDay(\"&$D$12&\")=\"&$F$10&\" and Barix(\"&$D$12&\",reference:=StartOfSession)=\"&A44&\"\", \"Bar\", \"\", \"Close\",\"5\",\"0\",\"PrimaryOnly\",,,\"False\",\"T\",\"EveryTick\")","v":1686.56},1.2784713589988389E-2,null,null,null,""]
[44,"12:10:00",-33,{"$f":" RTD(\"cqg.rtd\",,\"StudyData\", $D$12,  \"Tick\", \"FlatTicks=0\", \"Tick\",\"D\",C45,\"PrimaryOnly\")","v":1715.76},null,null,null,{"$f":"RTD(\"cqg.rtd\",,\"StudyData\", \"Close(\"&$D$12&\") when LocalYear(\"&$D$12&\")=\"&$D$1&\" and localMonth(\"&$D$12&\") =\"&$E$1&\" and LocalDay(\"&$D$12&\")=\"&$F$1&\" and Barix(\"&$D$12&\",reference:=StartOfSession)=\"&A45&\"\", \"Bar\", \"\", \"Close\",\"5\",\"0\",\"PrimaryOnly\",,,\"False\",\"T\",\"EveryTick\")","v":""},{"$error":"#N/A"},{"$f":"RTD(\"cqg.rtd\",,\"StudyData\", \"Close(\"&$D$12&\") when LocalYear(\"&$D$12&\")=\"&$D$2&\" and localMonth(\"&$D$12&\") =\"&$E$2&\" and LocalDay(\"&$D$12&\")=\"&$F$2&\" and Barix(\"&$D$12&\",reference:=StartOfSession)=\"&A45&\"\", \"Bar\", \"\", \"Close\",\"5\",\"0\",\"PrimaryOnly\",,,\"False\",\"T\",\"EveryTick\")","v":1718.14},-3.3181348833430792E-3,{"$f":"RTD(\"cqg.rtd\",,\"StudyData\", \"Close(\"&$D$12&\") when LocalYear(\"&$D$12&\")=\"&$D$3&\" and localMonth(\"&$D$12&\") =\"&$E$3&\" and LocalDay(\"&$D$12&\")=\"&$F$3&\" and Barix(\"&$D$12&\",reference:=StartOfSession)=\"&A45&\"\", \"Bar\", \"\", \"Close\",\"5\",\"0\",\"PrimaryOnly\",,,\"False\",\"T\",\"EveryTick\")","v":1719.27},8.452306934293774E-3,{"$f":"RTD(\"cqg.rtd\",,\"StudyData\", \"Close(\"&$D$12&\") when LocalYear(\"&$D$12&\")=\"&$D$4&\" and localMonth(\"&$D$12&\") =\"&$E$4&\" and LocalDay(\"&$D$12&\")=\"&$F$4&\" and Barix(\"&$D$12&\",reference:=StartOfSession)=\"&A45&\"\", \"Bar\", \"\", \"Close\",\"5\",\"0\",\"PrimaryOnly\",,,\"False\",\"T\",\"EveryTick\")","v":1707.51},5.1567328918322242E-3,{"$f":"RTD(\"cqg.rtd\",,\"StudyData\", \"Close(\"&$D$12&\") when LocalYear(\"&$D$12&\")=\"&$D$5&\" and localMonth(\"&$D$12&\") =\"&$E$5&\" and LocalDay(\"&$D$12&\")=\"&$F$5&\" and Barix(\"&$D$12&\",reference:=StartOfSession)=\"&A45&\"\", \"Bar\", \"\", \"Close\",\"5\",\"0\",\"PrimaryOnly\",,,\"False\",\"T\",\"EveryTick\")","v":1696.37},4.2921758075210766E-3,{"$f":"RTD(\"cqg.rtd\",,\"StudyData\", \"Close(\"&$D$12&\") when LocalYear(\"&$D$12&\")=\"&$D$6&\" and localMonth(\"&$D$12&\") =\"&$E$6&\" and LocalDay(\"&$D$12&\")=\"&$F$6&\" and Barix(\"&$D$12&\",reference:=StartOfSession)=\"&A45&\"\", \"Bar\", \"\", \"Close\",\"5\",\"0\",\"PrimaryOnly\",,,\"False\",\"T\",\"EveryTick\")","v":1692.54},5.0772272994494948E-3,{"$f":"RTD(\"cqg.rtd\",,\"StudyData\", \"Close(\"&$D$12&\") when LocalYear(\"&$D$12&\")=\"&$D$7&\" and localMonth(\"&$D$12&\") =\"&$E$7&\" and LocalDay(\"&$D$12&\")=\"&$F$7&\" and Barix(\"&$D$12&\",reference:=StartOfSession)=\"&A45&\"\", \"Bar\", \"\", \"Close\",\"5\",\"0\",\"PrimaryOnly\",,,\"False\",\"T\",\"EveryTick\")","v":1687.06},-1.3259930148582307E-3,{"$f":"RTD(\"cqg.rtd\",,\"StudyData\", \"Close(\"&$D$12&\") when LocalYear(\"&$D$12&\")=\"&$D$8&\" and localMonth(\"&$D$12&\") =\"&$E$8&\" and LocalDay(\"&$D$12&\")=\"&$F$8&\" and Barix(\"&$D$12&\",reference:=StartOfSession)=\"&A45&\"\", \"Bar\", \"\", \"Close\",\"5\",\"0\",\"PrimaryOnly\",,,\"False\",\"T\",\"EveryTick\")","v":1683.55},-7.1944567300604723E-3,{"$f":"RTD(\"cqg.rtd\",,\"StudyData\", \"Close(\"&$D$12&\") when LocalYear(\"&$D$12&\")=\"&$D$9&\" and localMonth(\"&$D$12&\") =\"&$E$9&\" and LocalDay(\"&$D$12&\")=\"&$F$9&\" and Barix(\"&$D$12&\",reference:=StartOfSession)=\"&A45&\"\", \"Bar\", \"\", \"Close\",\"5\",\"0\",\"PrimaryOnly\",,,\"False\",\"T\",\"EveryTick\")","v":1697.6},7.368762342676924E-4,{"$f":"RTD(\"cqg.rtd\",,\"StudyData\", \"Close(\"&$D$12&\") when LocalYear(\"&$D$12&\")=\"&$D$10&\" and localMonth(\"&$D$12&\") =\"&$E$10&\" and LocalDay(\"&$D$12&\")=\"&$F$10&\" and Barix(\"&$D$12&\",reference:=StartOfSession)=\"&A45&\"\", \"Bar\", \"\", \"Close\",\"5\",\"0\",\"PrimaryOnly\",,,\"False\",\"T\",\"EveryTick\")","v":1687.34},1.3253106102914204E-2,null,null,null,""]
[45,"12:15:00",-32,{"$f":" RTD(\"cqg.rtd\",,\"StudyData\", $D$12,  \"Tick\", \"FlatTicks=0\", \"Tick\",\"D\",C46,\"PrimaryOnly\")","v":1715.77},null,null,null,{"$f":"RTD(\"cqg.rtd\",,\"StudyData\", \"Close(\"&$D$12&\") when LocalYear(\"&$D$12&\")=\"&$D$1&\" and localMonth(\"&$D$12&\") =\"&$E$1&\" and LocalDay(\"&$D$12&\")=\"&$F$1&\" and Barix(\"&$D$12&\",reference:=StartOfSession)=\"&A46&\"\", \"Bar\", \"\", \"Close\",\"5\",\"0\",\"PrimaryOnly\",,,\"False\",\"T\",\"EveryTick\")","v":""},{"$error":"#N/A"},{"$f":"RTD(\"cqg.rtd\",,\"StudyData\", \"Close(\"&$D$12&\") when LocalYear(\"&$D$12&\")=\"&$D$2&\" and localMonth(\"&$D$12&\") =\"&$E$2&\" and LocalDay(\"&$D$12&\")=\"&$F$2&\" and Barix(\"&$D$12&\",reference:=StartOfSession)=\"&A46&\"\", \"Bar\", \"\", \"Close\",\"5\",\"0\",\"PrimaryOnly\",,,\"False\",\"T\",\"EveryTick\")","v":1718.47},-3.1267040246887061E-3,{"$f":"RTD(\"cqg.rtd\",,\"StudyData\", \"Close(\"&$D$12&\") when LocalYear(\"&$D$12&\")=\"&$D$3&\" and localMonth(\"&$D$12&\") =\"&$E$3&\" and LocalDay(\"&$D$12&\")=\"&$F$3&\" and Barix(\"&$D$12&\",reference:=StartOfSession)=\"&A46&\"\", \"Bar\", \"\", \"Close\",\"5\",\"0\",\"PrimaryOnly\",,,\"False\",\"T\",\"EveryTick\")","v":1718.97},8.2763394061683235E-3,{"$f":"RTD(\"cqg.rtd\",,\"StudyData\", \"Close(\"&$D$12&\") when LocalYear(\"&$D$12&\")=\"&$D$4&\" and localMonth(\"&$D$12&\") =\"&$E$4&\" and LocalDay(\"&$D$12&\")=\"&$F$4&\" and Barix(\"&$D$12&\",reference:=StartOfSession)=\"&A46&\"\", \"Bar\", \"\", \"Close\",\"5\",\"0\",\"PrimaryOnly\",,,\"False\",\"T\",\"EveryTick\")","v":1706.7},4.6799116997792763E-3,{"$f":"RTD(\"cqg.rtd\",,\"StudyData\", \"Close(\"&$D$12&\") when LocalYear(\"&$D$12&\")=\"&$D$5&\" and localMonth(\"&$D$12&\") =\"&$E$5&\" and LocalDay(\"&$D$12&\")=\"&$F$5&\" and Barix(\"&$D$12&\",reference:=StartOfSession)=\"&A46&\"\", \"Bar\", \"\", \"Close\",\"5\",\"0\",\"PrimaryOnly\",,,\"False\",\"T\",\"EveryTick\")","v":1695.81},3.9606422279056877E-3,{"$f":"RTD(\"cqg.rtd\",,\"StudyData\", \"Close(\"&$D$12&\") when LocalYear(\"&$D$12&\")=\"&$D$6&\" and localMonth(\"&$D$12&\") =\"&$E$6&\" and LocalDay(\"&$D$12&\")=\"&$F$6&\" and Barix(\"&$D$12&\",reference:=StartOfSession)=\"&A46&\"\", \"Bar\", \"\", \"Close\",\"5\",\"0\",\"PrimaryOnly\",,,\"False\",\"T\",\"EveryTick\")","v":1692.2},4.8753258629802053E-3,{"$f":"RTD(\"cqg.rtd\",,\"StudyData\", \"Close(\"&$D$12&\") when LocalYear(\"&$D$12&\")=\"&$D$7&\" and localMonth(\"&$D$12&\") =\"&$E$7&\" and LocalDay(\"&$D$12&\")=\"&$F$7&\" and Barix(\"&$D$12&\",reference:=StartOfSession)=\"&A46&\"\", \"Bar\", \"\", \"Close\",\"5\",\"0\",\"PrimaryOnly\",,,\"False\",\"T\",\"EveryTick\")","v":1687.39},-1.1306458296334899E-3,{"$f":"RTD(\"cqg.rtd\",,\"StudyData\", \"Close(\"&$D$12&\") when LocalYear(\"&$D$12&\")=\"&$D$8&\" and localMonth(\"&$D$12&\") =\"&$E$8&\" and LocalDay(\"&$D$12&\")=\"&$F$8&\" and Barix(\"&$D$12&\",reference:=StartOfSession)=\"&A46&\"\", \"Bar\", \"\", \"Close\",\"5\",\"0\",\"PrimaryOnly\",,,\"False\",\"T\",\"EveryTick\")","v":1682.71},-7.6898127672121262E-3,{"$f":"RTD(\"cqg.rtd\",,\"StudyData\", \"Close(\"&$D$12&\") when LocalYear(\"&$D$12&\")=\"&$D$9&\" and localMonth(\"&$D$12&\") =\"&$E$9&\" and LocalDay(\"&$D$12&\")=\"&$F$9&\" and Barix(\"&$D$12&\",reference:=StartOfSession)=\"&A46&\"\", \"Bar\", \"\", \"Close\",\"5\",\"0\",\"PrimaryOnly\",,,\"False\",\"T\",\"EveryTick\")","v":1696.28},-4.1265069118953249E-5,{"$f":"RTD(\"cqg.rtd\",,\"StudyData\", \"Close(\"&$D$12&\") when LocalYear(\"&$D$12&\")=\"&$D$10&\" and localMonth(\"&$D$12&\") =\"&$E$10&\" and LocalDay(\"&$D$12&\")=\"&$F$10&\" and Barix(\"&$D$12&\",reference:=StartOfSession)=\"&A46&\"\", \"Bar\", \"\", \"Close\",\"5\",\"0\",\"PrimaryOnly\",,,\"False\",\"T\",\"EveryTick\")","v":1687.67},1.3451272166075225E-2,null,null,null,""]
[46,"12:20:00",-31,{"$f":" RTD(\"cqg.rtd\",,\"StudyData\", $D$12,  \"Tick\", \"FlatTicks=0\", \"Tick\",\"D\",C47,\"PrimaryOnly\")","v":1715.75},null,null,null,{"$f":"RTD(\"cqg.rtd\",,\"StudyData\", \"Close(\"&$D$12&\") when LocalYear(\"&$D$12&\")=\"&$D$1&\" and localMonth(\"&$D$12&\") =\"&$E$1&\" and LocalDay(\"&$D$12&\")=\"&$F$1&\" and Barix(\"&$D$12&\",reference:=StartOfSession)=\"&A47&\"\", \"Bar\", \"\", \"Close\",\"5\",\"0\",\"PrimaryOnly\",,,\"False\",\"T\",\"EveryTick\")","v":""},{"$error":"#N/A"},{"$f":"RTD(\"cqg.rtd\",,\"StudyData\", \"Close(\"&$D$12&\") when LocalYear(\"&$D$12&\")=\"&$D$2&\" and localMonth(\"&$D$12&\") =\"&$E$2&\" and LocalDay(\"&$D$12&\")=\"&$F$2&\" and Barix(\"&$D$12&\",reference:=StartOfSession)=\"&A47&\"\", \"Bar\", \"\", \"Close\",\"5\",\"0\",\"PrimaryOnly\",,,\"False\",\"T\",\"EveryTick\")","v":1718.51},-3.1035002842457679E-3,{"$f":"RTD(\"cqg.rtd\",,\"StudyData\", \"Close(\"&$D$12&\") when LocalYear(\"&$D$12&\")=\"&$D$3&\" and localMonth(\"&$D$12&\") =\"&$E$3&\" and LocalDay(\"&$D$12&\")=\"&$F$3&\" and Barix(\"&$D$12&\",reference:=StartOfSession)=\"&A47&\"\", \"Bar\", \"\", \"Close\",\"5\",\"0\",\"PrimaryOnly\",,,\"False\",\"T\",\"EveryTick\")","v":1719.82},8.7749140691904537E-3,{"$f":"RTD(\"cqg.rtd\",,\"StudyData\", \"Close(\"&$D$12&\") when LocalYear(\"&$D$12&\")=\"&$D$4&\" and localMonth(\"&$D$12&\") =\"&$E$4&\" and LocalDay(\"&$D$12&\")=\"&$F$4&\" and Barix(\"&$D$12&\",reference:=StartOfSession)=\"&A47&\"\", \"Bar\", \"\", \"Close\",\"5\",\"0\",\"PrimaryOnly\",,,\"False\",\"T\",\"EveryTick\")","v":1707.69},5.2626931567329241E-3,{"$f":"RTD(\"cqg.rtd\",,\"StudyData\", \"Close(\"&$D$12&\") when LocalYear(\"&$D$12&\")=\"&$D$5&\" and localMonth(\"&$D$12&\") =\"&$E$5&\" and LocalDay(\"&$D$12&\")=\"&$F$5&\" and Barix(\"&$D$12&\",reference:=StartOfSession)=\"&A47&\"\", \"Bar\", \"\", \"Close\",\"5\",\"0\",\"PrimaryOnly\",,,\"False\",\"T\",\"EveryTick\")","v":1695.91},4.0198446528370933E-3,{"$f":"RTD(\"cqg.rtd\",,\"StudyData\", \"Close(\"&$D$12&\") when LocalYear(\"&$D$12&\")=\"&$D$6&\" and localMonth(\"&$D$12&\") =\"&$E$6&\" and LocalDay(\"&$D$12&\")=\"&$F$6&\" and Barix(\"&$D$12&\",reference:=StartOfSession)=\"&A47&\"\", \"Bar\", \"\", \"Close\",\"5\",\"0\",\"PrimaryOnly\",,,\"False\",\"T\",\"EveryTick\")","v":1691.2},4.2814981086586237E-3,{"$f":"RTD(\"cqg.rtd\",,\"StudyData\", \"Close(\"&$D$12&\") when LocalYear(\"&$D$12&\")=\"&$D$7&\" and localMonth(\"&$D$12&\") =\"&$E$7&\" and LocalDay(\"&$D$12&\")=\"&$F$7&\" and Barix(\"&$D$12&\",reference:=StartOfSession)=\"&A47&\"\", \"Bar\", \"\", \"Close\",\"5\",\"0\",\"PrimaryOnly\",,,\"False\",\"T\",\"EveryTick\")","v":1687.15},-1.2727165097968765E-3,{"$f":"RTD(\"cqg.rtd\",,\"StudyData\", \"Close(\"&$D$12&\") when LocalYear(\"&$D$12&\")=\"&$D$8&\" and localMonth(\"&$D$12&\") =\"&$E$8&\" and LocalDay(\"&$D$12&\")=\"&$F$8&\" and Barix(\"&$D$12&\",reference:=StartOfSession)=\"&A47&\"\", \"Bar\", \"\", \"Close\",\"5\",\"0\",\"PrimaryOnly\",,,\"False\",\"T\",\"EveryTick\")","v":1685.32},-6.1506707946336805E-3,{"$f":"RTD(\"cqg.rtd\",,\"StudyData\", \"Close(\"&$D$12&\") when LocalYear(\"&$D$12&\")=\"&$D$9&\" and localMonth(\"&$D$12&\") =\"&$E$9&\" and LocalDay(\"&$D$12&\")=\"&$F$9&\" and Barix(\"&$D$12&\",reference:=StartOfSession)=\"&A47&\"\", \"Bar\", \"\", \"Close\",\"5\",\"0\",\"PrimaryOnly\",,,\"False\",\"T\",\"EveryTick\")","v":1695.38},-5.7181595779161136E-4,{"$f":"RTD(\"cqg.rtd\",,\"StudyData\", \"Close(\"&$D$12&\") when LocalYear(\"&$D$12&\")=\"&$D$10&\" and localMonth(\"&$D$12&\") =\"&$E$10&\" and LocalDay(\"&$D$12&\")=\"&$F$10&\" and Barix(\"&$D$12&\",reference:=StartOfSession)=\"&A47&\"\", \"Bar\", \"\", \"Close\",\"5\",\"0\",\"PrimaryOnly\",,,\"False\",\"T\",\"EveryTick\")","v":1688.82},1.4141850871029897E-2,null,null,null,""]
[47,"12:25:00",-30,{"$f":" RTD(\"cqg.rtd\",,\"StudyData\", $D$12,  \"Tick\", \"FlatTicks=0\", \"Tick\",\"D\",C48,\"PrimaryOnly\")","v":1715.76},null,null,null,{"$f":"RTD(\"cqg.rtd\",,\"StudyData\", \"Close(\"&$D$12&\") when LocalYear(\"&$D$12&\")=\"&$D$1&\" and localMonth(\"&$D$12&\") =\"&$E$1&\" and LocalDay(\"&$D$12&\")=\"&$F$1&\" and Barix(\"&$D$12&\",reference:=StartOfSession)=\"&A48&\"\", \"Bar\", \"\", \"Close\",\"5\",\"0\",\"PrimaryOnly\",,,\"False\",\"T\",\"EveryTick\")","v":""},{"$error":"#N/A"},{"$f":"RTD(\"cqg.rtd\",,\"StudyData\", \"Close(\"&$D$12&\") when LocalYear(\"&$D$12&\")=\"&$D$2&\" and localMonth(\"&$D$12&\") =\"&$E$2&\" and LocalDay(\"&$D$12&\")=\"&$F$2&\" and Barix(\"&$D$12&\",reference:=StartOfSession)=\"&A48&\"\", \"Bar\", \"\", \"Close\",\"5\",\"0\",\"PrimaryOnly\",,,\"False\",\"T\",\"EveryTick\")","v":1718.88},-2.8888656851483248E-3,{"$f":"RTD(\"cqg.rtd\",,\"StudyData\", \"Close(\"&$D$12&\") when LocalYear(\"&$D$12&\")=\"&$D$3&\" and localMonth(\"&$D$12&\") =\"&$E$3&\" and LocalDay(\"&$D$12&\")=\"&$F$3&\" and Barix(\"&$D$12&\",reference:=StartOfSession)=\"&A48&\"\", \"Bar\", \"\", \"Close\",\"5\",\"0\",\"PrimaryOnly\",,,\"False\",\"T\",\"EveryTick\")","v":1719.59},8.6400056309609112E-3,{"$f":"RTD(\"cqg.rtd\",,\"StudyData\", \"Close(\"&$D$12&\") when LocalYear(\"&$D$12&\")=\"&$D$4&\" and localMonth(\"&$D$12&\") =\"&$E$4&\" and LocalDay(\"&$D$12&\")=\"&$F$4&\" and Barix(\"&$D$12&\",reference:=StartOfSession)=\"&A48&\"\", \"Bar\", \"\", \"Close\",\"5\",\"0\",\"PrimaryOnly\",,,\"False\",\"T\",\"EveryTick\")","v":1707.88},5.3745401030169887E-3,{"$f":"RTD(\"cqg.rtd\",,\"StudyData\", \"Close(\"&$D$12&\") when LocalYear(\"&$D$12&\")=\"&$D$5&\" and localMonth(\"&$D$12&\") =\"&$E$5&\" and LocalDay(\"&$D$12&\")=\"&$F$5&\" and Barix(\"&$D$12&\",reference:=StartOfSession)=\"&A48&\"\", \"Bar\", \"\", \"Close\",\"5\",\"0\",\"PrimaryOnly\",,,\"False\",\"T\",\"EveryTick\")","v":1696.13},4.150089987686025E-3,{"$f":"RTD(\"cqg.rtd\",,\"StudyData\", \"Close(\"&$D$12&\") when LocalYear(\"&$D$12&\")=\"&$D$6&\" and localMonth(\"&$D$12&\") =\"&$E$6&\" and LocalDay(\"&$D$12&\")=\"&$F$6&\" and Barix(\"&$D$12&\",reference:=StartOfSession)=\"&A48&\"\", \"Bar\", \"\", \"Close\",\"5\",\"0\",\"PrimaryOnly\",,,\"False\",\"T\",\"EveryTick\")","v":1692.27},4.9168938057826787E-3,{"$f":"RTD(\"cqg.rtd\",,\"StudyData\", \"Close(\"&$D$12&\") when LocalYear(\"&$D$12&\")=\"&$D$7&\" and localMonth(\"&$D$12&\") =\"&$E$7&\" and LocalDay(\"&$D$12&\")=\"&$F$7&\" and Barix(\"&$D$12&\",reference:=StartOfSession)=\"&A48&\"\", \"Bar\", \"\", \"Close\",\"5\",\"0\",\"PrimaryOnly\",,,\"False\",\"T\",\"EveryTick\")","v":1686.6},-1.5982951518380664E-3,{"$f":"RTD(\"cqg.rtd\",,\"StudyData\", \"Close(\"&$D$12&\") when LocalYear(\"&$D$12&\")=\"&$D$8&\" and localMonth(\"&$D$12&\") =\"&$E$8&\" and LocalDay(\"&$D$12&\")=\"&$F$8&\" and Barix(\"&$D$12&\",reference:=StartOfSession)=\"&A48&\"\", \"Bar\", \"\", \"Close\",\"5\",\"0\",\"PrimaryOnly\",,,\"False\",\"T\",\"EveryTick\")","v":1681.71},-8.2795223352498688E-3,{"$f":"RTD(\"cqg.rtd\",,\"StudyData\", \"Close(\"&$D$12&\") when LocalYear(\"&$D$12&\")=\"&$D$9&\" and localMonth(\"&$D$12&\") =\"&$E$9&\" and LocalDay(\"&$D$12&\")=\"&$F$9&\" and Barix(\"&$D$12&\",reference:=StartOfSession)=\"&A48&\"\", \"Bar\", \"\", \"Close\",\"5\",\"0\",\"PrimaryOnly\",,,\"False\",\"T\",\"EveryTick\")","v":1695.88},-2.7706546408453442E-4,{"$f":"RTD(\"cqg.rtd\",,\"StudyData\", \"Close(\"&$D$12&\") when LocalYear(\"&$D$12&\")=\"&$D$10&\" and localMonth(\"&$D$12&\") =\"&$E$10&\" and LocalDay(\"&$D$12&\")=\"&$F$10&\" and Barix(\"&$D$12&\",reference:=StartOfSession)=\"&A48&\"\", \"Bar\", \"\", \"Close\",\"5\",\"0\",\"PrimaryOnly\",,,\"False\",\"T\",\"EveryTick\")","v":1688.71},1.407579551664298E-2,null,null,null,""]
[48,"12:30:00",-29,{"$f":" RTD(\"cqg.rtd\",,\"StudyData\", $D$12,  \"Tick\", \"FlatTicks=0\", \"Tick\",\"D\",C49,\"PrimaryOnly\")","v":1715.97},null,null,null,{"$f":"RTD(\"cqg.rtd\",,\"StudyData\", \"Close(\"&$D$12&\") when LocalYear(\"&$D$12&\")=\"&$D$1&\" and localMonth(\"&$D$12&\") =\"&$E$1&\" and LocalDay(\"&$D$12&\")=\"&$F$1&\" and Barix(\"&$D$12&\",reference:=StartOfSession)=\"&A49&\"\", \"Bar\", \"\", \"Close\",\"5\",\"0\",\"PrimaryOnly\",,,\"False\",\"T\",\"EveryTick\")","v":""},{"$error":"#N/A"},{"$f":"RTD(\"cqg.rtd\",,\"StudyData\", \"Close(\"&$D$12&\") when LocalYear(\"&$D$12&\")=\"&$D$2&\" and localMonth(\"&$D$12&\") =\"&$E$2&\" and LocalDay(\"&$D$12&\")=\"&$F$2&\" and Barix(\"&$D$12&\",reference:=StartOfSession)=\"&A49&\"\", \"Bar\", \"\", \"Close\",\"5\",\"0\",\"PrimaryOnly\",,,\"False\",\"T\",\"EveryTick\")","v":1718.29},-3.2311208566820604E-3,{"$f":"RTD(\"cqg.rtd\",,\"StudyData\", \"Close(\"&$D$12&\") when LocalYear(\"&$D$12&\")=\"&$D$3&\" and localMonth(\"&$D$12&\") =\"&$E$3&\" and LocalDay(\"&$D$12&\")=\"&$F$3&\" and Barix(\"&$D$12&\",reference:=StartOfSession)=\"&A49&\"\", \"Bar\", \"\", \"Close\",\"5\",\"0\",\"PrimaryOnly\",,,\"False\",\"T\",\"EveryTick\")","v":1719.6},8.6458712152317554E-3,{"$f":"RTD(\"cqg.rtd\",,\"StudyData\", \"Close(\"&$D$12&\") when LocalYear(\"&$D$12&\")=\"&$D$4&\" and localMonth(\"&$D$12&\") =\"&$E$4&\" and LocalDay(\"&$D$12&\")=\"&$F$4&\" and Barix(\"&$D$12&\",reference:=StartOfSession)=\"&A49&\"\", \"Bar\", \"\", \"Close\",\"5\",\"0\",\"PrimaryOnly\",,,\"False\",\"T\",\"EveryTick\")","v":1708.52},5.7512877115526015E-3,{"$f":"RTD(\"cqg.rtd\",,\"StudyData\", \"Close(\"&$D$12&\") when LocalYear(\"&$D$12&\")=\"&$D$5&\" and localMonth(\"&$D$12&\") =\"&$E$5&\" and LocalDay(\"&$D$12&\")=\"&$F$5&\" and Barix(\"&$D$12&\",reference:=StartOfSession)=\"&A49&\"\", \"Bar\", \"\", \"Close\",\"5\",\"0\",\"PrimaryOnly\",,,\"False\",\"T\",\"EveryTick\")","v":1696},4.0731268352752377E-3,{"$f":"RTD(\"cqg.rtd\",,\"StudyData\", \"Close(\"&$D$12&\") when LocalYear(\"&$D$12&\")=\"&$D$6&\" and localMonth(\"&$D$12&\") =\"&$E$6&\" and LocalDay(\"&$D$12&\")=\"&$F$6&\" and Barix(\"&$D$12&\",reference:=StartOfSession)=\"&A49&\"\", \"Bar\", \"\", \"Close\",\"5\",\"0\",\"PrimaryOnly\",,,\"False\",\"T\",\"EveryTick\")","v":1691.86},4.6734244265107814E-3,{"$f":"RTD(\"cqg.rtd\",,\"StudyData\", \"Close(\"&$D$12&\") when LocalYear(\"&$D$12&\")=\"&$D$7&\" and localMonth(\"&$D$12&\") =\"&$E$7&\" and LocalDay(\"&$D$12&\")=\"&$F$7&\" and Barix(\"&$D$12&\",reference:=StartOfSession)=\"&A49&\"\", \"Bar\", \"\", \"Close\",\"5\",\"0\",\"PrimaryOnly\",,,\"False\",\"T\",\"EveryTick\")","v":1687.19},-1.2490380631030012E-3,{"$f":"RTD(\"cqg.rtd\",,\"StudyData\", \"Close(\"&$D$12&\") when LocalYear(\"&$D$12&\")=\"&$D$8&\" and localMonth(\"&$D$12&\") =\"&$E$8&\" and LocalDay(\"&$D$12&\")=\"&$F$8&\" and Barix(\"&$D$12&\",reference:=StartOfSession)=\"&A49&\"\", \"Bar\", \"\", \"Close\",\"5\",\"0\",\"PrimaryOnly\",,,\"False\",\"T\",\"EveryTick\")","v":1682.76},-7.6603272888102663E-3,{"$f":"RTD(\"cqg.rtd\",,\"StudyData\", \"Close(\"&$D$12&\") when LocalYear(\"&$D$12&\")=\"&$D$9&\" and localMonth(\"&$D$12&\") =\"&$E$9&\" and LocalDay(\"&$D$12&\")=\"&$F$9&\" and Barix(\"&$D$12&\",reference:=StartOfSession)=\"&A49&\"\", \"Bar\", \"\", \"Close\",\"5\",\"0\",\"PrimaryOnly\",,,\"False\",\"T\",\"EveryTick\")","v":1694.92},-8.4298641200214366E-4,{"$f":"RTD(\"cqg.rtd\",,\"StudyData\", \"Close(\"&$D$12&\") when LocalYear(\"&$D$12&\")=\"&$D$10&\" and localMonth(\"&$D$12&\") =\"&$E$10&\" and LocalDay(\"&$D$12&\")=\"&$F$10&\" and Barix(\"&$D$12&\",reference:=StartOfSession)=\"&A49&\"\", \"Bar\", \"\", \"Close\",\"5\",\"0\",\"PrimaryOnly\",,,\"False\",\"T\",\"EveryTick\")","v":1687.26},1.3205065845178264E-2,null,null,null,""]
[49,"12:35:00",-28,{"$f":" RTD(\"cqg.rtd\",,\"StudyData\", $D$12,  \"Tick\", \"FlatTicks=0\", \"Tick\",\"D\",C50,\"PrimaryOnly\")","v":1715.84},null,null,null,{"$f":"RTD(\"cqg.rtd\",,\"StudyData\", \"Close(\"&$D$12&\") when LocalYear(\"&$D$12&\")=\"&$D$1&\" and localMonth(\"&$D$12&\") =\"&$E$1&\" and LocalDay(\"&$D$12&\")=\"&$F$1&\" and Barix(\"&$D$12&\",reference:=StartOfSession)=\"&A50&\"\", \"Bar\", \"\", \"Close\",\"5\",\"0\",\"PrimaryOnly\",,,\"False\",\"T\",\"EveryTick\")","v":""},{"$error":"#N/A"},{"$f":"RTD(\"cqg.rtd\",,\"StudyData\", \"Close(\"&$D$12&\") when LocalYear(\"&$D$12&\")=\"&$D$2&\" and localMonth(\"&$D$12&\") =\"&$E$2&\" and LocalDay(\"&$D$12&\")=\"&$F$2&\" and Barix(\"&$D$12&\",reference:=StartOfSession)=\"&A50&\"\", \"Bar\", \"\", \"Close\",\"5\",\"0\",\"PrimaryOnly\",,,\"False\",\"T\",\"EveryTick\")","v":1719.05},-2.790249788265837E-3,{"$f":"RTD(\"cqg.rtd\",,\"StudyData\", \"Close(\"&$D$12&\") when LocalYear(\"&$D$12&\")=\"&$D$3&\" and localMonth(\"&$D$12&\") =\"&$E$3&\" and LocalDay(\"&$D$12&\")=\"&$F$3&\" and Barix(\"&$D$12&\",reference:=StartOfSession)=\"&A50&\"\", \"Bar\", \"\", \"Close\",\"5\",\"0\",\"PrimaryOnly\",,,\"False\",\"T\",\"EveryTick\")","v":1720.26},9.0329997771078519E-3,{"$f":"RTD(\"cqg.rtd\",,\"StudyData\", \"Close(\"&$D$12&\") when LocalYear(\"&$D$12&\")=\"&$D$4&\" and localMonth(\"&$D$12&\") =\"&$E$4&\" and LocalDay(\"&$D$12&\")=\"&$F$4&\" and Barix(\"&$D$12&\",reference:=StartOfSession)=\"&A50&\"\", \"Bar\", \"\", \"Close\",\"5\",\"0\",\"PrimaryOnly\",,,\"False\",\"T\",\"EveryTick\")","v":1709.25},6.1810154525386313E-3,{"$f":"RTD(\"cqg.rtd\",,\"StudyData\", \"Close(\"&$D$12&\") when LocalYear(\"&$D$12&\")=\"&$D$5&\" and localMonth(\"&$D$12&\") =\"&$E$5&\" and LocalDay(\"&$D$12&\")=\"&$F$5&\" and Barix(\"&$D$12&\",reference:=StartOfSession)=\"&A50&\"\", \"Bar\", \"\", \"Close\",\"5\",\"0\",\"PrimaryOnly\",,,\"False\",\"T\",\"EveryTick\")","v":1695.45},3.747513498152976E-3,{"$f":"RTD(\"cqg.rtd\",,\"StudyData\", \"Close(\"&$D$12&\") when LocalYear(\"&$D$12&\")=\"&$D$6&\" and localMonth(\"&$D$12&\") =\"&$E$6&\" and LocalDay(\"&$D$12&\")=\"&$F$6&\" and Barix(\"&$D$12&\",reference:=StartOfSession)=\"&A50&\"\", \"Bar\", \"\", \"Close\",\"5\",\"0\",\"PrimaryOnly\",,,\"False\",\"T\",\"EveryTick\")","v":1691.6},4.5190292103871755E-3,{"$f":"RTD(\"cqg.rtd\",,\"StudyData\", \"Close(\"&$D$12&\") when LocalYear(\"&$D$12&\")=\"&$D$7&\" and localMonth(\"&$D$12&\") =\"&$E$7&\" and LocalDay(\"&$D$12&\")=\"&$F$7&\" and Barix(\"&$D$12&\",reference:=StartOfSession)=\"&A50&\"\", \"Bar\", \"\", \"Close\",\"5\",\"0\",\"PrimaryOnly\",,,\"False\",\"T\",\"EveryTick\")","v":1687.26},-1.2076007813887194E-3,{"$f":"RTD(\"cqg.rtd\",,\"StudyData\", \"Close(\"&$D$12&\") when LocalYear(\"&$D$12&\")=\"&$D$8&\" and localMonth(\"&$D$12&\") =\"&$E$8&\" and LocalDay(\"&$D$12&\")=\"&$F$8&\" and Barix(\"&$D$12&\",reference:=StartOfSession)=\"&A50&\"\", \"Bar\", \"\", \"Close\",\"5\",\"0\",\"PrimaryOnly\",,,\"False\",\"T\",\"EveryTick\")","v":1679.6},-9.5238095238095767E-3,{"$f":"RTD(\"cqg.rtd\",,\"StudyData\", \"Close(\"&$D$12&\") when LocalYear(\"&$D$12&\")=\"&$D$9&\" and localMonth(\"&$D$12&\") =\"&$E$9&\" and LocalDay(\"&$D$12&\")=\"&$F$9&\" and Barix(\"&$D$12&\",reference:=StartOfSession)=\"&A50&\"\", \"Bar\", \"\", \"Close\",\"5\",\"0\",\"PrimaryOnly\",,,\"False\",\"T\",\"EveryTick\")","v":1695.45},-5.3055088867265811E-4,{"$f":"RTD(\"cqg.rtd\",,\"StudyData\", \"Close(\"&$D$12&\") when LocalYear(\"&$D$12&\")=\"&$D$10&\" and localMonth(\"&$D$12&\") =\"&$E$10&\" and LocalDay(\"&$D$12&\")=\"&$F$10&\" and Barix(\"&$D$12&\",reference:=StartOfSession)=\"&A50&\"\", \"Bar\", \"\", \"Close\",\"5\",\"0\",\"PrimaryOnly\",,,\"False\",\"T\",\"EveryTick\")","v":1688.84},1.4153860935463881E-2,null,null,null,""]
[50,"12:40:00",-27,{"$f":" RTD(\"cqg.rtd\",,\"StudyData\", $D$12,  \"Tick\", \"FlatTicks=0\", \"Tick\",\"D\",C51,\"PrimaryOnly\")","v":1715.76},null,null,null,{"$f":"RTD(\"cqg.rtd\",,\"StudyData\", \"Close(\"&$D$12&\") when LocalYear(\"&$D$12&\")=\"&$D$1&\" and localMonth(\"&$D$12&\") =\"&$E$1&\" and LocalDay(\"&$D$12&\")=\"&$F$1&\" and Barix(\"&$D$12&\",reference:=StartOfSession)=\"&A51&\"\", \"Bar\", \"\", \"Close\",\"5\",\"0\",\"PrimaryOnly\",,,\"False\",\"T\",\"EveryTick\")","v":""},{"$error":"#N/A"},{"$f":"RTD(\"cqg.rtd\",,\"StudyData\", \"Close(\"&$D$12&\") when LocalYear(\"&$D$12&\")=\"&$D$2&\" and localMonth(\"&$D$12&\") =\"&$E$2&\" and LocalDay(\"&$D$12&\")=\"&$F$2&\" and Barix(\"&$D$12&\",reference:=StartOfSession)=\"&A51&\"\", \"Bar\", \"\", \"Close\",\"5\",\"0\",\"PrimaryOnly\",,,\"False\",\"T\",\"EveryTick\")","v":1718.64},-3.0280881278060864E-3,{"$f":"RTD(\"cqg.rtd\",,\"StudyData\", \"Close(\"&$D$12&\") when LocalYear(\"&$D$12&\")=\"&$D$3&\" and localMonth(\"&$D$12&\") =\"&$E$3&\" and LocalDay(\"&$D$12&\")=\"&$F$3&\" and Barix(\"&$D$12&\",reference:=StartOfSession)=\"&A51&\"\", \"Bar\", \"\", \"Close\",\"5\",\"0\",\"PrimaryOnly\",,,\"False\",\"T\",\"EveryTick\")","v":1720.59},9.2265640580458334E-3,{"$f":"RTD(\"cqg.rtd\",,\"StudyData\", \"Close(\"&$D$12&\") when LocalYear(\"&$D$12&\")=\"&$D$4&\" and localMonth(\"&$D$12&\") =\"&$E$4&\" and LocalDay(\"&$D$12&\")=\"&$F$4&\" and Barix(\"&$D$12&\",reference:=StartOfSession)=\"&A51&\"\", \"Bar\", \"\", \"Close\",\"5\",\"0\",\"PrimaryOnly\",,,\"False\",\"T\",\"EveryTick\")","v":1709.78},6.4930095658572318E-3,{"$f":"RTD(\"cqg.rtd\",,\"StudyData\", \"Close(\"&$D$12&\") when LocalYear(\"&$D$12&\")=\"&$D$5&\" and localMonth(\"&$D$12&\") =\"&$E$5&\" and LocalDay(\"&$D$12&\")=\"&$F$5&\" and Barix(\"&$D$12&\",reference:=StartOfSession)=\"&A51&\"\", \"Bar\", \"\", \"Close\",\"5\",\"0\",\"PrimaryOnly\",,,\"False\",\"T\",\"EveryTick\")","v":1695.12},3.5521454958795115E-3,{"$f":"RTD(\"cqg.rtd\",,\"StudyData\", \"Close(\"&$D$12&\") when LocalYear(\"&$D$12&\")=\"&$D$6&\" and localMonth(\"&$D$12&\") =\"&$E$6&\" and LocalDay(\"&$D$12&\")=\"&$F$6&\" and Barix(\"&$D$12&\",reference:=StartOfSession)=\"&A51&\"\", \"Bar\", \"\", \"Close\",\"5\",\"0\",\"PrimaryOnly\",,,\"False\",\"T\",\"EveryTick\")","v":1691.69},4.5724737082762047E-3,{"$f":"RTD(\"cqg.rtd\",,\"StudyData\", \"Close(\"&$D$12&\") when LocalYear(\"&$D$12&\")=\"&$D$7&\" and localMonth(\"&$D$12&\") =\"&$E$7&\" and LocalDay(\"&$D$12&\")=\"&$F$7&\" and Barix(\"&$D$12&\",reference:=StartOfSession)=\"&A51&\"\", \"Bar\", \"\", \"Close\",\"5\",\"0\",\"PrimaryOnly\",,,\"False\",\"T\",\"EveryTick\")","v":1686.55},-1.6278932102054106E-3,{"$f":"RTD(\"cqg.rtd\",,\"StudyData\", \"Close(\"&$D$12&\") when LocalYear(\"&$D$12&\")=\"&$D$8&\" and localMonth(\"&$D$12&\") =\"&$E$8&\" and LocalDay(\"&$D$12&\")=\"&$F$8&\" and Barix(\"&$D$12&\",reference:=StartOfSession)=\"&A51&\"\", \"Bar\", \"\", \"Close\",\"5\",\"0\",\"PrimaryOnly\",,,\"False\",\"T\",\"EveryTick\")","v":1682},-8.1085065605189452E-3,{"$f":"RTD(\"cqg.rtd\",,\"StudyData\", \"Close(\"&$D$12&\") when LocalYear(\"&$D$12&\")=\"&$D$9&\" and localMonth(\"&$D$12&\") =\"&$E$9&\" and LocalDay(\"&$D$12&\")=\"&$F$9&\" and Barix(\"&$D$12&\",reference:=StartOfSession)=\"&A51&\"\", \"Bar\", \"\", \"Close\",\"5\",\"0\",\"PrimaryOnly\",,,\"False\",\"T\",\"EveryTick\")","v":1695.65},-4.1265069118980052E-4,{"$f":"RTD(\"cqg.rtd\",,\"StudyData\", \"Close(\"&$D$12&\") when LocalYear(\"&$D$12&\")=\"&$D$10&\" and localMonth(\"&$D$12&\") =\"&$E$10&\" and LocalDay(\"&$D$12&\")=\"&$F$10&\" and Barix(\"&$D$12&\",reference:=StartOfSession)=\"&A51&\"\", \"Bar\", \"\", \"Close\",\"5\",\"0\",\"PrimaryOnly\",,,\"False\",\"T\",\"EveryTick\")","v":1689.57},1.4592228287304734E-2,null,null,null,""]
[51,"12:45:00",-26,{"$f":" RTD(\"cqg.rtd\",,\"StudyData\", $D$12,  \"Tick\", \"FlatTicks=0\", \"Tick\",\"D\",C52,\"PrimaryOnly\")","v":1715.97},null,null,null,{"$f":"RTD(\"cqg.rtd\",,\"StudyData\", \"Close(\"&$D$12&\") when LocalYear(\"&$D$12&\")=\"&$D$1&\" and localMonth(\"&$D$12&\") =\"&$E$1&\" and LocalDay(\"&$D$12&\")=\"&$F$1&\" and Barix(\"&$D$12&\",reference:=StartOfSession)=\"&A52&\"\", \"Bar\", \"\", \"Close\",\"5\",\"0\",\"PrimaryOnly\",,,\"False\",\"T\",\"EveryTick\")","v":""},{"$error":"#N/A"},{"$f":"RTD(\"cqg.rtd\",,\"StudyData\", \"Close(\"&$D$12&\") when LocalYear(\"&$D$12&\")=\"&$D$2&\" and localMonth(\"&$D$12&\") =\"&$E$2&\" and LocalDay(\"&$D$12&\")=\"&$F$2&\" and Barix(\"&$D$12&\",reference:=StartOfSession)=\"&A52&\"\", \"Bar\", \"\", \"Close\",\"5\",\"0\",\"PrimaryOnly\",,,\"False\",\"T\",\"EveryTick\")","v":1717.77},-3.5327694824405223E-3,{"$f":"RTD(\"cqg.rtd\",,\"StudyData\", \"Close(\"&$D$12&\") when LocalYear(\"&$D$12&\")=\"&$D$3&\" and localMonth(\"&$D$12&\") =\"&$E$3&\" and LocalDay(\"&$D$12&\")=\"&$F$3&\" and Barix(\"&$D$12&\",reference:=StartOfSession)=\"&A52&\"\", \"Bar\", \"\", \"Close\",\"5\",\"0\",\"PrimaryOnly\",,,\"False\",\"T\",\"EveryTick\")","v":1720.76},9.3262789906503121E-3,{"$f":"RTD(\"cqg.rtd\",,\"StudyData\", \"Close(\"&$D$12&\") when LocalYear(\"&$D$12&\")=\"&$D$4&\" and localMonth(\"&$D$12&\") =\"&$E$4&\" and LocalDay(\"&$D$12&\")=\"&$F$4&\" and Barix(\"&$D$12&\",reference:=StartOfSession)=\"&A52&\"\", \"Bar\", \"\", \"Close\",\"5\",\"0\",\"PrimaryOnly\",,,\"False\",\"T\",\"EveryTick\")","v":1710.87},7.1346578366445271E-3,{"$f":"RTD(\"cqg.rtd\",,\"StudyData\", \"Close(\"&$D$12&\") when LocalYear(\"&$D$12&\")=\"&$D$5&\" and localMonth(\"&$D$12&\") =\"&$E$5&\" and LocalDay(\"&$D$12&\")=\"&$F$5&\" and Barix(\"&$D$12&\",reference:=StartOfSession)=\"&A52&\"\", \"Bar\", \"\", \"Close\",\"5\",\"0\",\"PrimaryOnly\",,,\"False\",\"T\",\"EveryTick\")","v":1695.68},3.8836790754950348E-3,{"$f":"RTD(\"cqg.rtd\",,\"StudyData\", \"Close(\"&$D$12&\") when LocalYear(\"&$D$12&\")=\"&$D$6&\" and localMonth(\"&$D$12&\") =\"&$E$6&\" and LocalDay(\"&$D$12&\")=\"&$F$6&\" and Barix(\"&$D$12&\",reference:=StartOfSession)=\"&A52&\"\", \"Bar\", \"\", \"Close\",\"5\",\"0\",\"PrimaryOnly\",,,\"False\",\"T\",\"EveryTick\")","v":1691.35},4.3705722718067799E-3,{"$f":"RTD(\"cqg.rtd\",,\"StudyData\", \"Close(\"&$D$12&\") when LocalYear(\"&$D$12&\")=\"&$D$7&\" and localMonth(\"&$D$12&\") =\"&$E$7&\" and LocalDay(\"&$D$12&\")=\"&$F$7&\" and Barix(\"&$D$12&\",reference:=StartOfSession)=\"&A52&\"\", \"Bar\", \"\", \"Close\",\"5\",\"0\",\"PrimaryOnly\",,,\"False\",\"T\",\"EveryTick\")","v":1686.58},-1.610134375185004E-3,{"$f":"RTD(\"cqg.rtd\",,\"StudyData\", \"Close(\"&$D$12&\") when LocalYear(\"&$D$12&\")=\"&$D$8&\" and localMonth(\"&$D$12&\") =\"&$E$8&\" and LocalDay(\"&$D$12&\")=\"&$F$8&\" and Barix(\"&$D$12&\",reference:=StartOfSession)=\"&A52&\"\", \"Bar\", \"\", \"Close\",\"5\",\"0\",\"PrimaryOnly\",,,\"False\",\"T\",\"EveryTick\")","v":1684.11},-6.8642193719593691E-3,{"$f":"RTD(\"cqg.rtd\",,\"StudyData\", \"Close(\"&$D$12&\") when LocalYear(\"&$D$12&\")=\"&$D$9&\" and localMonth(\"&$D$12&\") =\"&$E$9&\" and LocalDay(\"&$D$12&\")=\"&$F$9&\" and Barix(\"&$D$12&\",reference:=StartOfSession)=\"&A52&\"\", \"Bar\", \"\", \"Close\",\"5\",\"0\",\"PrimaryOnly\",,,\"False\",\"T\",\"EveryTick\")","v":1695.21},-6.720311256520605E-4,{"$f":"RTD(\"cqg.rtd\",,\"StudyData\", \"Close(\"&$D$12&\") when LocalYear(\"&$D$12&\")=\"&$D$10&\" and localMonth(\"&$D$12&\") =\"&$E$10&\" and LocalDay(\"&$D$12&\")=\"&$F$10&\" and Barix(\"&$D$12&\",reference:=StartOfSession)=\"&A52&\"\", \"Bar\", \"\", \"Close\",\"5\",\"0\",\"PrimaryOnly\",,,\"False\",\"T\",\"EveryTick\")","v":1689.85},1.4760369189380658E-2,null,null,null,""]
[52,"12:50:00",-25,{"$f":" RTD(\"cqg.rtd\",,\"StudyData\", $D$12,  \"Tick\", \"FlatTicks=0\", \"Tick\",\"D\",C53,\"PrimaryOnly\")","v":1715.96},null,null,null,{"$f":"RTD(\"cqg.rtd\",,\"StudyData\", \"Close(\"&$D$12&\") when LocalYear(\"&$D$12&\")=\"&$D$1&\" and localMonth(\"&$D$12&\") =\"&$E$1&\" and LocalDay(\"&$D$12&\")=\"&$F$1&\" and Barix(\"&$D$12&\",reference:=StartOfSession)=\"&A53&\"\", \"Bar\", \"\", \"Close\",\"5\",\"0\",\"PrimaryOnly\",,,\"False\",\"T\",\"EveryTick\")","v":""},{"$error":"#N/A"},{"$f":"RTD(\"cqg.rtd\",,\"StudyData\", \"Close(\"&$D$12&\") when LocalYear(\"&$D$12&\")=\"&$D$2&\" and localMonth(\"&$D$12&\") =\"&$E$2&\" and LocalDay(\"&$D$12&\")=\"&$F$2&\" and Barix(\"&$D$12&\",reference:=StartOfSession)=\"&A53&\"\", \"Bar\", \"\", \"Close\",\"5\",\"0\",\"PrimaryOnly\",,,\"False\",\"T\",\"EveryTick\")","v":1718.14},-3.3181348833430792E-3,{"$f":"RTD(\"cqg.rtd\",,\"StudyData\", \"Close(\"&$D$12&\") when LocalYear(\"&$D$12&\")=\"&$D$3&\" and localMonth(\"&$D$12&\") =\"&$E$3&\" and LocalDay(\"&$D$12&\")=\"&$F$3&\" and Barix(\"&$D$12&\",reference:=StartOfSession)=\"&A53&\"\", \"Bar\", \"\", \"Close\",\"5\",\"0\",\"PrimaryOnly\",,,\"False\",\"T\",\"EveryTick\")","v":1721.5},9.7603322266931608E-3,{"$f":"RTD(\"cqg.rtd\",,\"StudyData\", \"Close(\"&$D$12&\") when LocalYear(\"&$D$12&\")=\"&$D$4&\" and localMonth(\"&$D$12&\") =\"&$E$4&\" and LocalDay(\"&$D$12&\")=\"&$F$4&\" and Barix(\"&$D$12&\",reference:=StartOfSession)=\"&A53&\"\", \"Bar\", \"\", \"Close\",\"5\",\"0\",\"PrimaryOnly\",,,\"False\",\"T\",\"EveryTick\")","v":1711.96},7.7763061074319568E-3,{"$f":"RTD(\"cqg.rtd\",,\"StudyData\", \"Close(\"&$D$12&\") when LocalYear(\"&$D$12&\")=\"&$D$5&\" and localMonth(\"&$D$12&\") =\"&$E$5&\" and LocalDay(\"&$D$12&\")=\"&$F$5&\" and Barix(\"&$D$12&\",reference:=StartOfSession)=\"&A53&\"\", \"Bar\", \"\", \"Close\",\"5\",\"0\",\"PrimaryOnly\",,,\"False\",\"T\",\"EveryTick\")","v":1695.94},4.037605380316475E-3,{"$f":"RTD(\"cqg.rtd\",,\"StudyData\", \"Close(\"&$D$12&\") when LocalYear(\"&$D$12&\")=\"&$D$6&\" and localMonth(\"&$D$12&\") =\"&$E$6&\" and LocalDay(\"&$D$12&\")=\"&$F$6&\" and Barix(\"&$D$12&\",reference:=StartOfSession)=\"&A53&\"\", \"Bar\", \"\", \"Close\",\"5\",\"0\",\"PrimaryOnly\",,,\"False\",\"T\",\"EveryTick\")","v":1690.94},4.1271028925350187E-3,{"$f":"RTD(\"cqg.rtd\",,\"StudyData\", \"Close(\"&$D$12&\") when LocalYear(\"&$D$12&\")=\"&$D$7&\" and localMonth(\"&$D$12&\") =\"&$E$7&\" and LocalDay(\"&$D$12&\")=\"&$F$7&\" and Barix(\"&$D$12&\",reference:=StartOfSession)=\"&A53&\"\", \"Bar\", \"\", \"Close\",\"5\",\"0\",\"PrimaryOnly\",,,\"False\",\"T\",\"EveryTick\")","v":1685.83},-2.0541052506955707E-3,{"$f":"RTD(\"cqg.rtd\",,\"StudyData\", \"Close(\"&$D$12&\") when LocalYear(\"&$D$12&\")=\"&$D$8&\" and localMonth(\"&$D$12&\") =\"&$E$8&\" and LocalDay(\"&$D$12&\")=\"&$F$8&\" and Barix(\"&$D$12&\",reference:=StartOfSession)=\"&A53&\"\", \"Bar\", \"\", \"Close\",\"5\",\"0\",\"PrimaryOnly\",,,\"False\",\"T\",\"EveryTick\")","v":1683.9},-6.9880583812471824E-3,{"$f":"RTD(\"cqg.rtd\",,\"StudyData\", \"Close(\"&$D$12&\") when LocalYear(\"&$D$12&\")=\"&$D$9&\" and localMonth(\"&$D$12&\") =\"&$E$9&\" and LocalDay(\"&$D$12&\")=\"&$F$9&\" and Barix(\"&$D$12&\",reference:=StartOfSession)=\"&A53&\"\", \"Bar\", \"\", \"Close\",\"5\",\"0\",\"PrimaryOnly\",,,\"False\",\"T\",\"EveryTick\")","v":1693.61},-1.6152327055147871E-3,{"$f":"RTD(\"cqg.rtd\",,\"StudyData\", \"Close(\"&$D$12&\") when LocalYear(\"&$D$12&\")=\"&$D$10&\" and localMonth(\"&$D$12&\") =\"&$E$10&\" and LocalDay(\"&$D$12&\")=\"&$F$10&\" and Barix(\"&$D$12&\",reference:=StartOfSession)=\"&A53&\"\", \"Bar\", \"\", \"Close\",\"5\",\"0\",\"PrimaryOnly\",,,\"False\",\"T\",\"EveryTick\")","v":1691.72},1.5883310213959324E-2,null,null,null,""]
[53,"12:55:00",-24,{"$f":" RTD(\"cqg.rtd\",,\"StudyData\", $D$12,  \"Tick\", \"FlatTicks=0\", \"Tick\",\"D\",C54,\"PrimaryOnly\")","v":1716},null,null,null,{"$f":"RTD(\"cqg.rtd\",,\"StudyData\", \"Close(\"&$D$12&\") when LocalYear(\"&$D$12&\")=\"&$D$1&\" and localMonth(\"&$D$12&\") =\"&$E$1&\" and LocalDay(\"&$D$12&\")=\"&$F$1&\" and Barix(\"&$D$12&\",reference:=StartOfSession)=\"&A54&\"\", \"Bar\", \"\", \"Close\",\"5\",\"0\",\"PrimaryOnly\",,,\"False\",\"T\",\"EveryTick\")","v":""},{"$error":"#N/A"},{"$f":"RTD(\"cqg.rtd\",,\"StudyData\", \"Close(\"&$D$12&\") when LocalYear(\"&$D$12&\")=\"&$D$2&\" and localMonth(\"&$D$12&\") =\"&$E$2&\" and LocalDay(\"&$D$12&\")=\"&$F$2&\" and Barix(\"&$D$12&\",reference:=StartOfSession)=\"&A54&\"\", \"Bar\", \"\", \"Close\",\"5\",\"0\",\"PrimaryOnly\",,,\"False\",\"T\",\"EveryTick\")","v":1717.47},-3.7067975357626911E-3,{"$f":"RTD(\"cqg.rtd\",,\"StudyData\", \"Close(\"&$D$12&\") when LocalYear(\"&$D$12&\")=\"&$D$3&\" and localMonth(\"&$D$12&\") =\"&$E$3&\" and LocalDay(\"&$D$12&\")=\"&$F$3&\" and Barix(\"&$D$12&\",reference:=StartOfSession)=\"&A54&\"\", \"Bar\", \"\", \"Close\",\"5\",\"0\",\"PrimaryOnly\",,,\"False\",\"T\",\"EveryTick\")","v":1721.12},9.5374400244008263E-3,{"$f":"RTD(\"cqg.rtd\",,\"StudyData\", \"Close(\"&$D$12&\") when LocalYear(\"&$D$12&\")=\"&$D$4&\" and localMonth(\"&$D$12&\") =\"&$E$4&\" and LocalDay(\"&$D$12&\")=\"&$F$4&\" and Barix(\"&$D$12&\",reference:=StartOfSession)=\"&A54&\"\", \"Bar\", \"\", \"Close\",\"5\",\"0\",\"PrimaryOnly\",,,\"False\",\"T\",\"EveryTick\")","v":1710.31},6.8050036791758323E-3,{"$f":"RTD(\"cqg.rtd\",,\"StudyData\", \"Close(\"&$D$12&\") when LocalYear(\"&$D$12&\")=\"&$D$5&\" and localMonth(\"&$D$12&\") =\"&$E$5&\" and LocalDay(\"&$D$12&\")=\"&$F$5&\" and Barix(\"&$D$12&\",reference:=StartOfSession)=\"&A54&\"\", \"Bar\", \"\", \"Close\",\"5\",\"0\",\"PrimaryOnly\",,,\"False\",\"T\",\"EveryTick\")","v":1696.92},4.6177891446434723E-3,{"$f":"RTD(\"cqg.rtd\",,\"StudyData\", \"Close(\"&$D$12&\") when LocalYear(\"&$D$12&\")=\"&$D$6&\" and localMonth(\"&$D$12&\") =\"&$E$6&\" and LocalDay(\"&$D$12&\")=\"&$F$6&\" and Barix(\"&$D$12&\",reference:=StartOfSession)=\"&A54&\"\", \"Bar\", \"\", \"Close\",\"5\",\"0\",\"PrimaryOnly\",,,\"False\",\"T\",\"EveryTick\")","v":1692.75},5.2019311278570486E-3,{"$f":"RTD(\"cqg.rtd\",,\"StudyData\", \"Close(\"&$D$12&\") when LocalYear(\"&$D$12&\")=\"&$D$7&\" and localMonth(\"&$D$12&\") =\"&$E$7&\" and LocalDay(\"&$D$12&\")=\"&$F$7&\" and Barix(\"&$D$12&\",reference:=StartOfSession)=\"&A54&\"\", \"Bar\", \"\", \"Close\",\"5\",\"0\",\"PrimaryOnly\",,,\"False\",\"T\",\"EveryTick\")","v":1684.85},-2.6342271946960551E-3,{"$f":"RTD(\"cqg.rtd\",,\"StudyData\", \"Close(\"&$D$12&\") when LocalYear(\"&$D$12&\")=\"&$D$8&\" and localMonth(\"&$D$12&\") =\"&$E$8&\" and LocalDay(\"&$D$12&\")=\"&$F$8&\" and Barix(\"&$D$12&\",reference:=StartOfSession)=\"&A54&\"\", \"Bar\", \"\", \"Close\",\"5\",\"0\",\"PrimaryOnly\",,,\"False\",\"T\",\"EveryTick\")","v":1682.8},-7.6367389060887783E-3,{"$f":"RTD(\"cqg.rtd\",,\"StudyData\", \"Close(\"&$D$12&\") when LocalYear(\"&$D$12&\")=\"&$D$9&\" and localMonth(\"&$D$12&\") =\"&$E$9&\" and LocalDay(\"&$D$12&\")=\"&$F$9&\" and Barix(\"&$D$12&\",reference:=StartOfSession)=\"&A54&\"\", \"Bar\", \"\", \"Close\",\"5\",\"0\",\"PrimaryOnly\",,,\"False\",\"T\",\"EveryTick\")","v":1691.73},-2.7234945618533268E-3,{"$f":"RTD(\"cqg.rtd\",,\"StudyData\", \"Close(\"&$D$12&\") when LocalYear(\"&$D$12&\")=\"&$D$10&\" and localMonth(\"&$D$12&\") =\"&$E$10&\" and LocalDay(\"&$D$12&\")=\"&$F$10&\" and Barix(\"&$D$12&\",reference:=StartOfSession)=\"&A54&\"\", \"Bar\", \"\", \"Close\",\"5\",\"0\",\"PrimaryOnly\",,,\"False\",\"T\",\"EveryTick\")","v":1692.83},1.6549868790046027E-2,null,null,null,""]
[54,"13:00:00",-23,{"$f":" RTD(\"cqg.rtd\",,\"StudyData\", $D$12,  \"Tick\", \"FlatTicks=0\", \"Tick\",\"D\",C55,\"PrimaryOnly\")","v":1715.98},null,null,null,{"$f":"RTD(\"cqg.rtd\",,\"StudyData\", \"Close(\"&$D$12&\") when LocalYear(\"&$D$12&\")=\"&$D$1&\" and localMonth(\"&$D$12&\") =\"&$E$1&\" and LocalDay(\"&$D$12&\")=\"&$F$1&\" and Barix(\"&$D$12&\",reference:=StartOfSession)=\"&A55&\"\", \"Bar\", \"\", \"Close\",\"5\",\"0\",\"PrimaryOnly\",,,\"False\",\"T\",\"EveryTick\")","v":""},{"$error":"#N/A"},{"$f":"RTD(\"cqg.rtd\",,\"StudyData\", \"Close(\"&$D$12&\") when LocalYear(\"&$D$12&\")=\"&$D$2&\" and localMonth(\"&$D$12&\") =\"&$E$2&\" and LocalDay(\"&$D$12&\")=\"&$F$2&\" and Barix(\"&$D$12&\",reference:=StartOfSession)=\"&A55&\"\", \"Bar\", \"\", \"Close\",\"5\",\"0\",\"PrimaryOnly\",,,\"False\",\"T\",\"EveryTick\")","v":1717.23},-3.8460199784204532E-3,{"$f":"RTD(\"cqg.rtd\",,\"StudyData\", \"Close(\"&$D$12&\") when LocalYear(\"&$D$12&\")=\"&$D$3&\" and localMonth(\"&$D$12&\") =\"&$E$3&\" and LocalDay(\"&$D$12&\")=\"&$F$3&\" and Barix(\"&$D$12&\",reference:=StartOfSession)=\"&A55&\"\", \"Bar\", \"\", \"Close\",\"5\",\"0\",\"PrimaryOnly\",,,\"False\",\"T\",\"EveryTick\")","v":1720.9},9.4083971704422599E-3,{"$f":"RTD(\"cqg.rtd\",,\"StudyData\", \"Close(\"&$D$12&\") when LocalYear(\"&$D$12&\")=\"&$D$4&\" and localMonth(\"&$D$12&\") =\"&$E$4&\" and LocalDay(\"&$D$12&\")=\"&$F$4&\" and Barix(\"&$D$12&\",reference:=StartOfSession)=\"&A55&\"\", \"Bar\", \"\", \"Close\",\"5\",\"0\",\"PrimaryOnly\",,,\"False\",\"T\",\"EveryTick\")","v":1707.67},5.2509197939661946E-3,{"$f":"RTD(\"cqg.rtd\",,\"StudyData\", \"Close(\"&$D$12&\") when LocalYear(\"&$D$12&\")=\"&$D$5&\" and localMonth(\"&$D$12&\") =\"&$E$5&\" and LocalDay(\"&$D$12&\")=\"&$F$5&\" and Barix(\"&$D$12&\",reference:=StartOfSession)=\"&A55&\"\", \"Bar\", \"\", \"Close\",\"5\",\"0\",\"PrimaryOnly\",,,\"False\",\"T\",\"EveryTick\")","v":1697.16},4.7598749644786583E-3,{"$f":"RTD(\"cqg.rtd\",,\"StudyData\", \"Close(\"&$D$12&\") when LocalYear(\"&$D$12&\")=\"&$D$6&\" and localMonth(\"&$D$12&\") =\"&$E$6&\" and LocalDay(\"&$D$12&\")=\"&$F$6&\" and Barix(\"&$D$12&\",reference:=StartOfSession)=\"&A55&\"\", \"Bar\", \"\", \"Close\",\"5\",\"0\",\"PrimaryOnly\",,,\"False\",\"T\",\"EveryTick\")","v":1691.53},4.4774612675847029E-3,{"$f":"RTD(\"cqg.rtd\",,\"StudyData\", \"Close(\"&$D$12&\") when LocalYear(\"&$D$12&\")=\"&$D$7&\" and localMonth(\"&$D$12&\") =\"&$E$7&\" and LocalDay(\"&$D$12&\")=\"&$F$7&\" and Barix(\"&$D$12&\",reference:=StartOfSession)=\"&A55&\"\", \"Bar\", \"\", \"Close\",\"5\",\"0\",\"PrimaryOnly\",,,\"False\",\"T\",\"EveryTick\")","v":1685.31},-2.3619250577162194E-3,{"$f":"RTD(\"cqg.rtd\",,\"StudyData\", \"Close(\"&$D$12&\") when LocalYear(\"&$D$12&\")=\"&$D$8&\" and localMonth(\"&$D$12&\") =\"&$E$8&\" and LocalDay(\"&$D$12&\")=\"&$F$8&\" and Barix(\"&$D$12&\",reference:=StartOfSession)=\"&A55&\"\", \"Bar\", \"\", \"Close\",\"5\",\"0\",\"PrimaryOnly\",,,\"False\",\"T\",\"EveryTick\")","v":1682.78},-7.6485330974495223E-3,{"$f":"RTD(\"cqg.rtd\",,\"StudyData\", \"Close(\"&$D$12&\") when LocalYear(\"&$D$12&\")=\"&$D$9&\" and localMonth(\"&$D$12&\") =\"&$E$9&\" and LocalDay(\"&$D$12&\")=\"&$F$9&\" and Barix(\"&$D$12&\",reference:=StartOfSession)=\"&A55&\"\", \"Bar\", \"\", \"Close\",\"5\",\"0\",\"PrimaryOnly\",,,\"False\",\"T\",\"EveryTick\")","v":1694.17},-1.285112152562759E-3,{"$f":"RTD(\"cqg.rtd\",,\"StudyData\", \"Close(\"&$D$12&\") when LocalYear(\"&$D$12&\")=\"&$D$10&\" and localMonth(\"&$D$12&\") =\"&$E$10&\" and LocalDay(\"&$D$12&\")=\"&$F$10&\" and Barix(\"&$D$12&\",reference:=StartOfSession)=\"&A55&\"\", \"Bar\", \"\", \"Close\",\"5\",\"0\",\"PrimaryOnly\",,,\"False\",\"T\",\"EveryTick\")","v":1693.36},1.6868135497546895E-2,null,null,null,""]
[55,"13:05:00",-22,{"$f":" RTD(\"cqg.rtd\",,\"StudyData\", $D$12,  \"Tick\", \"FlatTicks=0\", \"Tick\",\"D\",C56,\"PrimaryOnly\")","v":1716},null,null,null,{"$f":"RTD(\"cqg.rtd\",,\"StudyData\", \"Close(\"&$D$12&\") when LocalYear(\"&$D$12&\")=\"&$D$1&\" and localMonth(\"&$D$12&\") =\"&$E$1&\" and LocalDay(\"&$D$12&\")=\"&$F$1&\" and Barix(\"&$D$12&\",reference:=StartOfSession)=\"&A56&\"\", \"Bar\", \"\", \"Close\",\"5\",\"0\",\"PrimaryOnly\",,,\"False\",\"T\",\"EveryTick\")","v":""},{"$error":"#N/A"},{"$f":"RTD(\"cqg.rtd\",,\"StudyData\", \"Close(\"&$D$12&\") when LocalYear(\"&$D$12&\")=\"&$D$2&\" and localMonth(\"&$D$12&\") =\"&$E$2&\" and LocalDay(\"&$D$12&\")=\"&$F$2&\" and Barix(\"&$D$12&\",reference:=StartOfSession)=\"&A56&\"\", \"Bar\", \"\", \"Close\",\"5\",\"0\",\"PrimaryOnly\",,,\"False\",\"T\",\"EveryTick\")","v":1716.82},-4.0838583179608349E-3,{"$f":"RTD(\"cqg.rtd\",,\"StudyData\", \"Close(\"&$D$12&\") when LocalYear(\"&$D$12&\")=\"&$D$3&\" and localMonth(\"&$D$12&\") =\"&$E$3&\" and LocalDay(\"&$D$12&\")=\"&$F$3&\" and Barix(\"&$D$12&\",reference:=StartOfSession)=\"&A56&\"\", \"Bar\", \"\", \"Close\",\"5\",\"0\",\"PrimaryOnly\",,,\"False\",\"T\",\"EveryTick\")","v":1720.19},8.9919406872119439E-3,{"$f":"RTD(\"cqg.rtd\",,\"StudyData\", \"Close(\"&$D$12&\") when LocalYear(\"&$D$12&\")=\"&$D$4&\" and localMonth(\"&$D$12&\") =\"&$E$4&\" and LocalDay(\"&$D$12&\")=\"&$F$4&\" and Barix(\"&$D$12&\",reference:=StartOfSession)=\"&A56&\"\", \"Bar\", \"\", \"Close\",\"5\",\"0\",\"PrimaryOnly\",,,\"False\",\"T\",\"EveryTick\")","v":1705.43},3.9323031640912812E-3,{"$f":"RTD(\"cqg.rtd\",,\"StudyData\", \"Close(\"&$D$12&\") when LocalYear(\"&$D$12&\")=\"&$D$5&\" and localMonth(\"&$D$12&\") =\"&$E$5&\" and LocalDay(\"&$D$12&\")=\"&$F$5&\" and Barix(\"&$D$12&\",reference:=StartOfSession)=\"&A56&\"\", \"Bar\", \"\", \"Close\",\"5\",\"0\",\"PrimaryOnly\",,,\"False\",\"T\",\"EveryTick\")","v":1696.85},4.5763474471914476E-3,{"$f":"RTD(\"cqg.rtd\",,\"StudyData\", \"Close(\"&$D$12&\") when LocalYear(\"&$D$12&\")=\"&$D$6&\" and localMonth(\"&$D$12&\") =\"&$E$6&\" and LocalDay(\"&$D$12&\")=\"&$F$6&\" and Barix(\"&$D$12&\",reference:=StartOfSession)=\"&A56&\"\", \"Bar\", \"\", \"Close\",\"5\",\"0\",\"PrimaryOnly\",,,\"False\",\"T\",\"EveryTick\")","v":1691.21},4.2874363862018348E-3,{"$f":"RTD(\"cqg.rtd\",,\"StudyData\", \"Close(\"&$D$12&\") when LocalYear(\"&$D$12&\")=\"&$D$7&\" and localMonth(\"&$D$12&\") =\"&$E$7&\" and LocalDay(\"&$D$12&\")=\"&$F$7&\" and Barix(\"&$D$12&\",reference:=StartOfSession)=\"&A56&\"\", \"Bar\", \"\", \"Close\",\"5\",\"0\",\"PrimaryOnly\",,,\"False\",\"T\",\"EveryTick\")","v":1685.35},-2.3382466110223438E-3,{"$f":"RTD(\"cqg.rtd\",,\"StudyData\", \"Close(\"&$D$12&\") when LocalYear(\"&$D$12&\")=\"&$D$8&\" and localMonth(\"&$D$12&\") =\"&$E$8&\" and LocalDay(\"&$D$12&\")=\"&$F$8&\" and Barix(\"&$D$12&\",reference:=StartOfSession)=\"&A56&\"\", \"Bar\", \"\", \"Close\",\"5\",\"0\",\"PrimaryOnly\",,,\"False\",\"T\",\"EveryTick\")","v":1682.57},-7.7723721067374692E-3,{"$f":"RTD(\"cqg.rtd\",,\"StudyData\", \"Close(\"&$D$12&\") when LocalYear(\"&$D$12&\")=\"&$D$9&\" and localMonth(\"&$D$12&\") =\"&$E$9&\" and LocalDay(\"&$D$12&\")=\"&$F$9&\" and Barix(\"&$D$12&\",reference:=StartOfSession)=\"&A56&\"\", \"Bar\", \"\", \"Close\",\"5\",\"0\",\"PrimaryOnly\",,,\"False\",\"T\",\"EveryTick\")","v":1694.42},-1.1377369057092206E-3,{"$f":"RTD(\"cqg.rtd\",,\"StudyData\", \"Close(\"&$D$12&\") when LocalYear(\"&$D$12&\")=\"&$D$10&\" and localMonth(\"&$D$12&\") =\"&$E$10&\" and LocalDay(\"&$D$12&\")=\"&$F$10&\" and Barix(\"&$D$12&\",reference:=StartOfSession)=\"&A56&\"\", \"Bar\", \"\", \"Close\",\"5\",\"0\",\"PrimaryOnly\",,,\"False\",\"T\",\"EveryTick\")","v":1692.52},1.6363712791319127E-2,null,null,null,""]
[56,"13:10:00",-21,{"$f":" RTD(\"cqg.rtd\",,\"StudyData\", $D$12,  \"Tick\", \"FlatTicks=0\", \"Tick\",\"D\",C57,\"PrimaryOnly\")","v":1716.03},null,null,null,{"$f":"RTD(\"cqg.rtd\",,\"StudyData\", \"Close(\"&$D$12&\") when LocalYear(\"&$D$12&\")=\"&$D$1&\" and localMonth(\"&$D$12&\") =\"&$E$1&\" and LocalDay(\"&$D$12&\")=\"&$F$1&\" and Barix(\"&$D$12&\",reference:=StartOfSession)=\"&A57&\"\", \"Bar\", \"\", \"Close\",\"5\",\"0\",\"PrimaryOnly\",,,\"False\",\"T\",\"EveryTick\")","v":""},{"$error":"#N/A"},{"$f":"RTD(\"cqg.rtd\",,\"StudyData\", \"Close(\"&$D$12&\") when LocalYear(\"&$D$12&\")=\"&$D$2&\" and localMonth(\"&$D$12&\") =\"&$E$2&\" and LocalDay(\"&$D$12&\")=\"&$F$2&\" and Barix(\"&$D$12&\",reference:=StartOfSession)=\"&A57&\"\", \"Bar\", \"\", \"Close\",\"5\",\"0\",\"PrimaryOnly\",,,\"False\",\"T\",\"EveryTick\")","v":1715.21},-5.0178088707898928E-3,{"$f":"RTD(\"cqg.rtd\",,\"StudyData\", \"Close(\"&$D$12&\") when LocalYear(\"&$D$12&\")=\"&$D$3&\" and localMonth(\"&$D$12&\") =\"&$E$3&\" and LocalDay(\"&$D$12&\")=\"&$F$3&\" and Barix(\"&$D$12&\",reference:=StartOfSession)=\"&A57&\"\", \"Bar\", \"\", \"Close\",\"5\",\"0\",\"PrimaryOnly\",,,\"False\",\"T\",\"EveryTick\")","v":1719.75},8.7338549792945475E-3,{"$f":"RTD(\"cqg.rtd\",,\"StudyData\", \"Close(\"&$D$12&\") when LocalYear(\"&$D$12&\")=\"&$D$4&\" and localMonth(\"&$D$12&\") =\"&$E$4&\" and LocalDay(\"&$D$12&\")=\"&$F$4&\" and Barix(\"&$D$12&\",reference:=StartOfSession)=\"&A57&\"\", \"Bar\", \"\", \"Close\",\"5\",\"0\",\"PrimaryOnly\",,,\"False\",\"T\",\"EveryTick\")","v":1709.64},6.4105960264901254E-3,{"$f":"RTD(\"cqg.rtd\",,\"StudyData\", \"Close(\"&$D$12&\") when LocalYear(\"&$D$12&\")=\"&$D$5&\" and localMonth(\"&$D$12&\") =\"&$E$5&\" and LocalDay(\"&$D$12&\")=\"&$F$5&\" and Barix(\"&$D$12&\",reference:=StartOfSession)=\"&A57&\"\", \"Bar\", \"\", \"Close\",\"5\",\"0\",\"PrimaryOnly\",,,\"False\",\"T\",\"EveryTick\")","v":1696.22},4.2033721701241695E-3,{"$f":"RTD(\"cqg.rtd\",,\"StudyData\", \"Close(\"&$D$12&\") when LocalYear(\"&$D$12&\")=\"&$D$6&\" and localMonth(\"&$D$12&\") =\"&$E$6&\" and LocalDay(\"&$D$12&\")=\"&$F$6&\" and Barix(\"&$D$12&\",reference:=StartOfSession)=\"&A57&\"\", \"Bar\", \"\", \"Close\",\"5\",\"0\",\"PrimaryOnly\",,,\"False\",\"T\",\"EveryTick\")","v":1690.9},4.1033497823621768E-3,{"$f":"RTD(\"cqg.rtd\",,\"StudyData\", \"Close(\"&$D$12&\") when LocalYear(\"&$D$12&\")=\"&$D$7&\" and localMonth(\"&$D$12&\") =\"&$E$7&\" and LocalDay(\"&$D$12&\")=\"&$F$7&\" and Barix(\"&$D$12&\",reference:=StartOfSession)=\"&A57&\"\", \"Bar\", \"\", \"Close\",\"5\",\"0\",\"PrimaryOnly\",,,\"False\",\"T\",\"EveryTick\")","v":1686.21},-1.8291600071034856E-3,{"$f":"RTD(\"cqg.rtd\",,\"StudyData\", \"Close(\"&$D$12&\") when LocalYear(\"&$D$12&\")=\"&$D$8&\" and localMonth(\"&$D$12&\") =\"&$E$8&\" and LocalDay(\"&$D$12&\")=\"&$F$8&\" and Barix(\"&$D$12&\",reference:=StartOfSession)=\"&A57&\"\", \"Bar\", \"\", \"Close\",\"5\",\"0\",\"PrimaryOnly\",,,\"False\",\"T\",\"EveryTick\")","v":1684.56},-6.5988500663423585E-3,{"$f":"RTD(\"cqg.rtd\",,\"StudyData\", \"Close(\"&$D$12&\") when LocalYear(\"&$D$12&\")=\"&$D$9&\" and localMonth(\"&$D$12&\") =\"&$E$9&\" and LocalDay(\"&$D$12&\")=\"&$F$9&\" and Barix(\"&$D$12&\",reference:=StartOfSession)=\"&A57&\"\", \"Bar\", \"\", \"Close\",\"5\",\"0\",\"PrimaryOnly\",,,\"False\",\"T\",\"EveryTick\")","v":1695.14},-7.1329619477101364E-4,{"$f":"RTD(\"cqg.rtd\",,\"StudyData\", \"Close(\"&$D$12&\") when LocalYear(\"&$D$12&\")=\"&$D$10&\" and localMonth(\"&$D$12&\") =\"&$E$10&\" and LocalDay(\"&$D$12&\")=\"&$F$10&\" and Barix(\"&$D$12&\",reference:=StartOfSession)=\"&A57&\"\", \"Bar\", \"\", \"Close\",\"5\",\"0\",\"PrimaryOnly\",,,\"False\",\"T\",\"EveryTick\")","v":1694.44},1.7516678976982756E-2,null,null,null,""]
[57,"13:15:00",-20,{"$f":" RTD(\"cqg.rtd\",,\"StudyData\", $D$12,  \"Tick\", \"FlatTicks=0\", \"Tick\",\"D\",C58,\"PrimaryOnly\")","v":1716.57},null,null,null,{"$f":"RTD(\"cqg.rtd\",,\"StudyData\", \"Close(\"&$D$12&\") when LocalYear(\"&$D$12&\")=\"&$D$1&\" and localMonth(\"&$D$12&\") =\"&$E$1&\" and LocalDay(\"&$D$12&\")=\"&$F$1&\" and Barix(\"&$D$12&\",reference:=StartOfSession)=\"&A58&\"\", \"Bar\", \"\", \"Close\",\"5\",\"0\",\"PrimaryOnly\",,,\"False\",\"T\",\"EveryTick\")","v":""},{"$error":"#N/A"},{"$f":"RTD(\"cqg.rtd\",,\"StudyData\", \"Close(\"&$D$12&\") when LocalYear(\"&$D$12&\")=\"&$D$2&\" and localMonth(\"&$D$12&\") =\"&$E$2&\" and LocalDay(\"&$D$12&\")=\"&$F$2&\" and Barix(\"&$D$12&\",reference:=StartOfSession)=\"&A58&\"\", \"Bar\", \"\", \"Close\",\"5\",\"0\",\"PrimaryOnly\",,,\"False\",\"T\",\"EveryTick\")","v":1715.64},-4.7683686610280416E-3,{"$f":"RTD(\"cqg.rtd\",,\"StudyData\", \"Close(\"&$D$12&\") when LocalYear(\"&$D$12&\")=\"&$D$3&\" and localMonth(\"&$D$12&\") =\"&$E$3&\" and LocalDay(\"&$D$12&\")=\"&$F$3&\" and Barix(\"&$D$12&\",reference:=StartOfSession)=\"&A58&\"\", \"Bar\", \"\", \"Close\",\"5\",\"0\",\"PrimaryOnly\",,,\"False\",\"T\",\"EveryTick\")","v":1718.51},8.0065225297092386E-3,{"$f":"RTD(\"cqg.rtd\",,\"StudyData\", \"Close(\"&$D$12&\") when LocalYear(\"&$D$12&\")=\"&$D$4&\" and localMonth(\"&$D$12&\") =\"&$E$4&\" and LocalDay(\"&$D$12&\")=\"&$F$4&\" and Barix(\"&$D$12&\",reference:=StartOfSession)=\"&A58&\"\", \"Bar\", \"\", \"Close\",\"5\",\"0\",\"PrimaryOnly\",,,\"False\",\"T\",\"EveryTick\")","v":1709.58},6.3752759381898024E-3,{"$f":"RTD(\"cqg.rtd\",,\"StudyData\", \"Close(\"&$D$12&\") when LocalYear(\"&$D$12&\")=\"&$D$5&\" and localMonth(\"&$D$12&\") =\"&$E$5&\" and LocalDay(\"&$D$12&\")=\"&$F$5&\" and Barix(\"&$D$12&\",reference:=StartOfSession)=\"&A58&\"\", \"Bar\", \"\", \"Close\",\"5\",\"0\",\"PrimaryOnly\",,,\"False\",\"T\",\"EveryTick\")","v":1696.33},4.2684948375485681E-3,{"$f":"RTD(\"cqg.rtd\",,\"StudyData\", \"Close(\"&$D$12&\") when LocalYear(\"&$D$12&\")=\"&$D$6&\" and localMonth(\"&$D$12&\") =\"&$E$6&\" and LocalDay(\"&$D$12&\")=\"&$F$6&\" and Barix(\"&$D$12&\",reference:=StartOfSession)=\"&A58&\"\", \"Bar\", \"\", \"Close\",\"5\",\"0\",\"PrimaryOnly\",,,\"False\",\"T\",\"EveryTick\")","v":1691.99},4.7506220345726515E-3,{"$f":"RTD(\"cqg.rtd\",,\"StudyData\", \"Close(\"&$D$12&\") when LocalYear(\"&$D$12&\")=\"&$D$7&\" and localMonth(\"&$D$12&\") =\"&$E$7&\" and LocalDay(\"&$D$12&\")=\"&$F$7&\" and Barix(\"&$D$12&\",reference:=StartOfSession)=\"&A58&\"\", \"Bar\", \"\", \"Close\",\"5\",\"0\",\"PrimaryOnly\",,,\"False\",\"T\",\"EveryTick\")","v":1684.95},-2.5750310779612318E-3,{"$f":"RTD(\"cqg.rtd\",,\"StudyData\", \"Close(\"&$D$12&\") when LocalYear(\"&$D$12&\")=\"&$D$8&\" and localMonth(\"&$D$12&\") =\"&$E$8&\" and LocalDay(\"&$D$12&\")=\"&$F$8&\" and Barix(\"&$D$12&\",reference:=StartOfSession)=\"&A58&\"\", \"Bar\", \"\", \"Close\",\"5\",\"0\",\"PrimaryOnly\",,,\"False\",\"T\",\"EveryTick\")","v":1684.93},-6.3806575261683247E-3,{"$f":"RTD(\"cqg.rtd\",,\"StudyData\", \"Close(\"&$D$12&\") when LocalYear(\"&$D$12&\")=\"&$D$9&\" and localMonth(\"&$D$12&\") =\"&$E$9&\" and LocalDay(\"&$D$12&\")=\"&$F$9&\" and Barix(\"&$D$12&\",reference:=StartOfSession)=\"&A58&\"\", \"Bar\", \"\", \"Close\",\"5\",\"0\",\"PrimaryOnly\",,,\"False\",\"T\",\"EveryTick\")","v":1694},-1.3853273204232081E-3,{"$f":"RTD(\"cqg.rtd\",,\"StudyData\", \"Close(\"&$D$12&\") when LocalYear(\"&$D$12&\")=\"&$D$10&\" and localMonth(\"&$D$12&\") =\"&$E$10&\" and LocalDay(\"&$D$12&\")=\"&$F$10&\" and Barix(\"&$D$12&\",reference:=StartOfSession)=\"&A58&\"\", \"Bar\", \"\", \"Close\",\"5\",\"0\",\"PrimaryOnly\",,,\"False\",\"T\",\"EveryTick\")","v":1696.05},1.8483489163919349E-2,null,null,null,""]
[58,"13:20:00",-19,{"$f":" RTD(\"cqg.rtd\",,\"StudyData\", $D$12,  \"Tick\", \"FlatTicks=0\", \"Tick\",\"D\",C59,\"PrimaryOnly\")","v":1716.6},null,null,null,{"$f":"RTD(\"cqg.rtd\",,\"StudyData\", \"Close(\"&$D$12&\") when LocalYear(\"&$D$12&\")=\"&$D$1&\" and localMonth(\"&$D$12&\") =\"&$E$1&\" and LocalDay(\"&$D$12&\")=\"&$F$1&\" and Barix(\"&$D$12&\",reference:=StartOfSession)=\"&A59&\"\", \"Bar\", \"\", \"Close\",\"5\",\"0\",\"PrimaryOnly\",,,\"False\",\"T\",\"EveryTick\")","v":""},{"$error":"#N/A"},{"$f":"RTD(\"cqg.rtd\",,\"StudyData\", \"Close(\"&$D$12&\") when LocalYear(\"&$D$12&\")=\"&$D$2&\" and localMonth(\"&$D$12&\") =\"&$E$2&\" and LocalDay(\"&$D$12&\")=\"&$F$2&\" and Barix(\"&$D$12&\",reference:=StartOfSession)=\"&A59&\"\", \"Bar\", \"\", \"Close\",\"5\",\"0\",\"PrimaryOnly\",,,\"False\",\"T\",\"EveryTick\")","v":1716.97},-3.9968442912996843E-3,{"$f":"RTD(\"cqg.rtd\",,\"StudyData\", \"Close(\"&$D$12&\") when LocalYear(\"&$D$12&\")=\"&$D$3&\" and localMonth(\"&$D$12&\") =\"&$E$3&\" and LocalDay(\"&$D$12&\")=\"&$F$3&\" and Barix(\"&$D$12&\",reference:=StartOfSession)=\"&A59&\"\", \"Bar\", \"\", \"Close\",\"5\",\"0\",\"PrimaryOnly\",,,\"False\",\"T\",\"EveryTick\")","v":1719.82},8.7749140691904537E-3,{"$f":"RTD(\"cqg.rtd\",,\"StudyData\", \"Close(\"&$D$12&\") when LocalYear(\"&$D$12&\")=\"&$D$4&\" and localMonth(\"&$D$12&\") =\"&$E$4&\" and LocalDay(\"&$D$12&\")=\"&$F$4&\" and Barix(\"&$D$12&\",reference:=StartOfSession)=\"&A59&\"\", \"Bar\", \"\", \"Close\",\"5\",\"0\",\"PrimaryOnly\",,,\"False\",\"T\",\"EveryTick\")","v":1705.25},3.8263428991905813E-3,{"$f":"RTD(\"cqg.rtd\",,\"StudyData\", \"Close(\"&$D$12&\") when LocalYear(\"&$D$12&\")=\"&$D$5&\" and localMonth(\"&$D$12&\") =\"&$E$5&\" and LocalDay(\"&$D$12&\")=\"&$F$5&\" and Barix(\"&$D$12&\",reference:=StartOfSession)=\"&A59&\"\", \"Bar\", \"\", \"Close\",\"5\",\"0\",\"PrimaryOnly\",,,\"False\",\"T\",\"EveryTick\")","v":1696.03},4.0908875627546195E-3,{"$f":"RTD(\"cqg.rtd\",,\"StudyData\", \"Close(\"&$D$12&\") when LocalYear(\"&$D$12&\")=\"&$D$6&\" and localMonth(\"&$D$12&\") =\"&$E$6&\" and LocalDay(\"&$D$12&\")=\"&$F$6&\" and Barix(\"&$D$12&\",reference:=StartOfSession)=\"&A59&\"\", \"Bar\", \"\", \"Close\",\"5\",\"0\",\"PrimaryOnly\",,,\"False\",\"T\",\"EveryTick\")","v":1693.55},5.6769933313142867E-3,{"$f":"RTD(\"cqg.rtd\",,\"StudyData\", \"Close(\"&$D$12&\") when LocalYear(\"&$D$12&\")=\"&$D$7&\" and localMonth(\"&$D$12&\") =\"&$E$7&\" and LocalDay(\"&$D$12&\")=\"&$F$7&\" and Barix(\"&$D$12&\",reference:=StartOfSession)=\"&A59&\"\", \"Bar\", \"\", \"Close\",\"5\",\"0\",\"PrimaryOnly\",,,\"False\",\"T\",\"EveryTick\")","v":1684.68},-2.7348605931450253E-3,{"$f":"RTD(\"cqg.rtd\",,\"StudyData\", \"Close(\"&$D$12&\") when LocalYear(\"&$D$12&\")=\"&$D$8&\" and localMonth(\"&$D$12&\") =\"&$E$8&\" and LocalDay(\"&$D$12&\")=\"&$F$8&\" and Barix(\"&$D$12&\",reference:=StartOfSession)=\"&A59&\"\", \"Bar\", \"\", \"Close\",\"5\",\"0\",\"PrimaryOnly\",,,\"False\",\"T\",\"EveryTick\")","v":1684.61},-6.5693645879404986E-3,{"$f":"RTD(\"cqg.rtd\",,\"StudyData\", \"Close(\"&$D$12&\") when LocalYear(\"&$D$12&\")=\"&$D$9&\" and localMonth(\"&$D$12&\") =\"&$E$9&\" and LocalDay(\"&$D$12&\")=\"&$F$9&\" and Barix(\"&$D$12&\",reference:=StartOfSession)=\"&A59&\"\", \"Bar\", \"\", \"Close\",\"5\",\"0\",\"PrimaryOnly\",,,\"False\",\"T\",\"EveryTick\")","v":1695.24},-6.5434609602965188E-4,{"$f":"RTD(\"cqg.rtd\",,\"StudyData\", \"Close(\"&$D$12&\") when LocalYear(\"&$D$12&\")=\"&$D$10&\" and localMonth(\"&$D$12&\") =\"&$E$10&\" and LocalDay(\"&$D$12&\")=\"&$F$10&\" and Barix(\"&$D$12&\",reference:=StartOfSession)=\"&A59&\"\", \"Bar\", \"\", \"Close\",\"5\",\"0\",\"PrimaryOnly\",,,\"False\",\"T\",\"EveryTick\")","v":1696.8},1.8933866580194185E-2,null,null,null,""]
[59,"13:25:00",-18,{"$f":" RTD(\"cqg.rtd\",,\"StudyData\", $D$12,  \"Tick\", \"FlatTicks=0\", \"Tick\",\"D\",C60,\"PrimaryOnly\")","v":1716.58},null,null,null,{"$f":"RTD(\"cqg.rtd\",,\"StudyData\", \"Close(\"&$D$12&\") when LocalYear(\"&$D$12&\")=\"&$D$1&\" and localMonth(\"&$D$12&\") =\"&$E$1&\" and LocalDay(\"&$D$12&\")=\"&$F$1&\" and Barix(\"&$D$12&\",reference:=StartOfSession)=\"&A60&\"\", \"Bar\", \"\", \"Close\",\"5\",\"0\",\"PrimaryOnly\",,,\"False\",\"T\",\"EveryTick\")","v":""},{"$error":"#N/A"},{"$f":"RTD(\"cqg.rtd\",,\"StudyData\", \"Close(\"&$D$12&\") when LocalYear(\"&$D$12&\")=\"&$D$2&\" and localMonth(\"&$D$12&\") =\"&$E$2&\" and LocalDay(\"&$D$12&\")=\"&$F$2&\" and Barix(\"&$D$12&\",reference:=StartOfSession)=\"&A60&\"\", \"Bar\", \"\", \"Close\",\"5\",\"0\",\"PrimaryOnly\",,,\"False\",\"T\",\"EveryTick\")","v":1717.57},-3.6487881846553457E-3,{"$f":"RTD(\"cqg.rtd\",,\"StudyData\", \"Close(\"&$D$12&\") when LocalYear(\"&$D$12&\")=\"&$D$3&\" and localMonth(\"&$D$12&\") =\"&$E$3&\" and LocalDay(\"&$D$12&\")=\"&$F$3&\" and Barix(\"&$D$12&\",reference:=StartOfSession)=\"&A60&\"\", \"Bar\", \"\", \"Close\",\"5\",\"0\",\"PrimaryOnly\",,,\"False\",\"T\",\"EveryTick\")","v":1719.46},8.5637530354399412E-3,{"$f":"RTD(\"cqg.rtd\",,\"StudyData\", \"Close(\"&$D$12&\") when LocalYear(\"&$D$12&\")=\"&$D$4&\" and localMonth(\"&$D$12&\") =\"&$E$4&\" and LocalDay(\"&$D$12&\")=\"&$F$4&\" and Barix(\"&$D$12&\",reference:=StartOfSession)=\"&A60&\"\", \"Bar\", \"\", \"Close\",\"5\",\"0\",\"PrimaryOnly\",,,\"False\",\"T\",\"EveryTick\")","v":1704.24},3.2317880794702041E-3,{"$f":"RTD(\"cqg.rtd\",,\"StudyData\", \"Close(\"&$D$12&\") when LocalYear(\"&$D$12&\")=\"&$D$5&\" and localMonth(\"&$D$12&\") =\"&$E$5&\" and LocalDay(\"&$D$12&\")=\"&$F$5&\" and Barix(\"&$D$12&\",reference:=StartOfSession)=\"&A60&\"\", \"Bar\", \"\", \"Close\",\"5\",\"0\",\"PrimaryOnly\",,,\"False\",\"T\",\"EveryTick\")","v":1694.4},3.1258880363740885E-3,{"$f":"RTD(\"cqg.rtd\",,\"StudyData\", \"Close(\"&$D$12&\") when LocalYear(\"&$D$12&\")=\"&$D$6&\" and localMonth(\"&$D$12&\") =\"&$E$6&\" and LocalDay(\"&$D$12&\")=\"&$F$6&\" and Barix(\"&$D$12&\",reference:=StartOfSession)=\"&A60&\"\", \"Bar\", \"\", \"Close\",\"5\",\"0\",\"PrimaryOnly\",,,\"False\",\"T\",\"EveryTick\")","v":1692.58},5.1009804096223367E-3,{"$f":"RTD(\"cqg.rtd\",,\"StudyData\", \"Close(\"&$D$12&\") when LocalYear(\"&$D$12&\")=\"&$D$7&\" and localMonth(\"&$D$12&\") =\"&$E$7&\" and LocalDay(\"&$D$12&\")=\"&$F$7&\" and Barix(\"&$D$12&\",reference:=StartOfSession)=\"&A60&\"\", \"Bar\", \"\", \"Close\",\"5\",\"0\",\"PrimaryOnly\",,,\"False\",\"T\",\"EveryTick\")","v":1685.52},-2.2376132125732392E-3,{"$f":"RTD(\"cqg.rtd\",,\"StudyData\", \"Close(\"&$D$12&\") when LocalYear(\"&$D$12&\")=\"&$D$8&\" and localMonth(\"&$D$12&\") =\"&$E$8&\" and LocalDay(\"&$D$12&\")=\"&$F$8&\" and Barix(\"&$D$12&\",reference:=StartOfSession)=\"&A60&\"\", \"Bar\", \"\", \"Close\",\"5\",\"0\",\"PrimaryOnly\",,,\"False\",\"T\",\"EveryTick\")","v":1684.8},-6.4573197700132949E-3,{"$f":"RTD(\"cqg.rtd\",,\"StudyData\", \"Close(\"&$D$12&\") when LocalYear(\"&$D$12&\")=\"&$D$9&\" and localMonth(\"&$D$12&\") =\"&$E$9&\" and LocalDay(\"&$D$12&\")=\"&$F$9&\" and Barix(\"&$D$12&\",reference:=StartOfSession)=\"&A60&\"\", \"Bar\", \"\", \"Close\",\"5\",\"0\",\"PrimaryOnly\",,,\"False\",\"T\",\"EveryTick\")","v":1697.6},7.368762342676924E-4,{"$f":"RTD(\"cqg.rtd\",,\"StudyData\", \"Close(\"&$D$12&\") when LocalYear(\"&$D$12&\")=\"&$D$10&\" and localMonth(\"&$D$12&\") =\"&$E$10&\" and LocalDay(\"&$D$12&\")=\"&$F$10&\" and Barix(\"&$D$12&\",reference:=StartOfSession)=\"&A60&\"\", \"Bar\", \"\", \"Close\",\"5\",\"0\",\"PrimaryOnly\",,,\"False\",\"T\",\"EveryTick\")","v":1696.7},1.8873816258024263E-2,null,null,null,""]
[60,"13:30:00",-17,{"$f":" RTD(\"cqg.rtd\",,\"StudyData\", $D$12,  \"Tick\", \"FlatTicks=0\", \"Tick\",\"D\",C61,\"PrimaryOnly\")","v":1716.59},null,null,null,{"$f":"RTD(\"cqg.rtd\",,\"StudyData\", \"Close(\"&$D$12&\") when LocalYear(\"&$D$12&\")=\"&$D$1&\" and localMonth(\"&$D$12&\") =\"&$E$1&\" and LocalDay(\"&$D$12&\")=\"&$F$1&\" and Barix(\"&$D$12&\",reference:=StartOfSession)=\"&A61&\"\", \"Bar\", \"\", \"Close\",\"5\",\"0\",\"PrimaryOnly\",,,\"False\",\"T\",\"EveryTick\")","v":""},{"$error":"#N/A"},{"$f":"RTD(\"cqg.rtd\",,\"StudyData\", \"Close(\"&$D$12&\") when LocalYear(\"&$D$12&\")=\"&$D$2&\" and localMonth(\"&$D$12&\") =\"&$E$2&\" and LocalDay(\"&$D$12&\")=\"&$F$2&\" and Barix(\"&$D$12&\",reference:=StartOfSession)=\"&A61&\"\", \"Bar\", \"\", \"Close\",\"5\",\"0\",\"PrimaryOnly\",,,\"False\",\"T\",\"EveryTick\")","v":1718.53},-3.0918984140242988E-3,{"$f":"RTD(\"cqg.rtd\",,\"StudyData\", \"Close(\"&$D$12&\") when LocalYear(\"&$D$12&\")=\"&$D$3&\" and localMonth(\"&$D$12&\") =\"&$E$3&\" and LocalDay(\"&$D$12&\")=\"&$F$3&\" and Barix(\"&$D$12&\",reference:=StartOfSession)=\"&A61&\"\", \"Bar\", \"\", \"Close\",\"5\",\"0\",\"PrimaryOnly\",,,\"False\",\"T\",\"EveryTick\")","v":1719.31},8.4757692713771492E-3,{"$f":"RTD(\"cqg.rtd\",,\"StudyData\", \"Close(\"&$D$12&\") when LocalYear(\"&$D$12&\")=\"&$D$4&\" and localMonth(\"&$D$12&\") =\"&$E$4&\" and LocalDay(\"&$D$12&\")=\"&$F$4&\" and Barix(\"&$D$12&\",reference:=StartOfSession)=\"&A61&\"\", \"Bar\", \"\", \"Close\",\"5\",\"0\",\"PrimaryOnly\",,,\"False\",\"T\",\"EveryTick\")","v":1704.51},3.3907284768211867E-3,{"$f":"RTD(\"cqg.rtd\",,\"StudyData\", \"Close(\"&$D$12&\") when LocalYear(\"&$D$12&\")=\"&$D$5&\" and localMonth(\"&$D$12&\") =\"&$E$5&\" and LocalDay(\"&$D$12&\")=\"&$F$5&\" and Barix(\"&$D$12&\",reference:=StartOfSession)=\"&A61&\"\", \"Bar\", \"\", \"Close\",\"5\",\"0\",\"PrimaryOnly\",,,\"False\",\"T\",\"EveryTick\")","v":1693.55},2.6226674244577437E-3,{"$f":"RTD(\"cqg.rtd\",,\"StudyData\", \"Close(\"&$D$12&\") when LocalYear(\"&$D$12&\")=\"&$D$6&\" and localMonth(\"&$D$12&\") =\"&$E$6&\" and LocalDay(\"&$D$12&\")=\"&$F$6&\" and Barix(\"&$D$12&\",reference:=StartOfSession)=\"&A61&\"\", \"Bar\", \"\", \"Close\",\"5\",\"0\",\"PrimaryOnly\",,,\"False\",\"T\",\"EveryTick\")","v":1692.56},5.0891038545359153E-3,{"$f":"RTD(\"cqg.rtd\",,\"StudyData\", \"Close(\"&$D$12&\") when LocalYear(\"&$D$12&\")=\"&$D$7&\" and localMonth(\"&$D$12&\") =\"&$E$7&\" and LocalDay(\"&$D$12&\")=\"&$F$7&\" and Barix(\"&$D$12&\",reference:=StartOfSession)=\"&A61&\"\", \"Bar\", \"\", \"Close\",\"5\",\"0\",\"PrimaryOnly\",,,\"False\",\"T\",\"EveryTick\")","v":1685.28},-2.3796838927366256E-3,{"$f":"RTD(\"cqg.rtd\",,\"StudyData\", \"Close(\"&$D$12&\") when LocalYear(\"&$D$12&\")=\"&$D$8&\" and localMonth(\"&$D$12&\") =\"&$E$8&\" and LocalDay(\"&$D$12&\")=\"&$F$8&\" and Barix(\"&$D$12&\",reference:=StartOfSession)=\"&A61&\"\", \"Bar\", \"\", \"Close\",\"5\",\"0\",\"PrimaryOnly\",,,\"False\",\"T\",\"EveryTick\")","v":1684.41},-6.6873065015479391E-3,{"$f":"RTD(\"cqg.rtd\",,\"StudyData\", \"Close(\"&$D$12&\") when LocalYear(\"&$D$12&\")=\"&$D$9&\" and localMonth(\"&$D$12&\") =\"&$E$9&\" and LocalDay(\"&$D$12&\")=\"&$F$9&\" and Barix(\"&$D$12&\",reference:=StartOfSession)=\"&A61&\"\", \"Bar\", \"\", \"Close\",\"5\",\"0\",\"PrimaryOnly\",,,\"False\",\"T\",\"EveryTick\")","v":1698.05},1.0021516786040885E-3,{"$f":"RTD(\"cqg.rtd\",,\"StudyData\", \"Close(\"&$D$12&\") when LocalYear(\"&$D$12&\")=\"&$D$10&\" and localMonth(\"&$D$12&\") =\"&$E$10&\" and LocalDay(\"&$D$12&\")=\"&$F$10&\" and Barix(\"&$D$12&\",reference:=StartOfSession)=\"&A61&\"\", \"Bar\", \"\", \"Close\",\"5\",\"0\",\"PrimaryOnly\",,,\"False\",\"T\",\"EveryTick\")","v":1698.18},1.9762561026139956E-2,null,null,null,""]
[61,"13:35:00",-16,{"$f":" RTD(\"cqg.rtd\",,\"StudyData\", $D$12,  \"Tick\", \"FlatTicks=0\", \"Tick\",\"D\",C62,\"PrimaryOnly\")","v":1716.58},null,null,null,{"$f":"RTD(\"cqg.rtd\",,\"StudyData\", \"Close(\"&$D$12&\") when LocalYear(\"&$D$12&\")=\"&$D$1&\" and localMonth(\"&$D$12&\") =\"&$E$1&\" and LocalDay(\"&$D$12&\")=\"&$F$1&\" and Barix(\"&$D$12&\",reference:=StartOfSession)=\"&A62&\"\", \"Bar\", \"\", \"Close\",\"5\",\"0\",\"PrimaryOnly\",,,\"False\",\"T\",\"EveryTick\")","v":""},{"$error":"#N/A"},{"$f":"RTD(\"cqg.rtd\",,\"StudyData\", \"Close(\"&$D$12&\") when LocalYear(\"&$D$12&\")=\"&$D$2&\" and localMonth(\"&$D$12&\") =\"&$E$2&\" and LocalDay(\"&$D$12&\")=\"&$F$2&\" and Barix(\"&$D$12&\",reference:=StartOfSession)=\"&A62&\"\", \"Bar\", \"\", \"Close\",\"5\",\"0\",\"PrimaryOnly\",,,\"False\",\"T\",\"EveryTick\")","v":1717.64},-3.6081816388800715E-3,{"$f":"RTD(\"cqg.rtd\",,\"StudyData\", \"Close(\"&$D$12&\") when LocalYear(\"&$D$12&\")=\"&$D$3&\" and localMonth(\"&$D$12&\") =\"&$E$3&\" and LocalDay(\"&$D$12&\")=\"&$F$3&\" and Barix(\"&$D$12&\",reference:=StartOfSession)=\"&A62&\"\", \"Bar\", \"\", \"Close\",\"5\",\"0\",\"PrimaryOnly\",,,\"False\",\"T\",\"EveryTick\")","v":1718.53},8.0182536982509253E-3,{"$f":"RTD(\"cqg.rtd\",,\"StudyData\", \"Close(\"&$D$12&\") when LocalYear(\"&$D$12&\")=\"&$D$4&\" and localMonth(\"&$D$12&\") =\"&$E$4&\" and LocalDay(\"&$D$12&\")=\"&$F$4&\" and Barix(\"&$D$12&\",reference:=StartOfSession)=\"&A62&\"\", \"Bar\", \"\", \"Close\",\"5\",\"0\",\"PrimaryOnly\",,,\"False\",\"T\",\"EveryTick\")","v":1707.95},5.415746872700542E-3,{"$f":"RTD(\"cqg.rtd\",,\"StudyData\", \"Close(\"&$D$12&\") when LocalYear(\"&$D$12&\")=\"&$D$5&\" and localMonth(\"&$D$12&\") =\"&$E$5&\" and LocalDay(\"&$D$12&\")=\"&$F$5&\" and Barix(\"&$D$12&\",reference:=StartOfSession)=\"&A62&\"\", \"Bar\", \"\", \"Close\",\"5\",\"0\",\"PrimaryOnly\",,,\"False\",\"T\",\"EveryTick\")","v":1694.11},2.9542010040731325E-3,{"$f":"RTD(\"cqg.rtd\",,\"StudyData\", \"Close(\"&$D$12&\") when LocalYear(\"&$D$12&\")=\"&$D$6&\" and localMonth(\"&$D$12&\") =\"&$E$6&\" and LocalDay(\"&$D$12&\")=\"&$F$6&\" and Barix(\"&$D$12&\",reference:=StartOfSession)=\"&A62&\"\", \"Bar\", \"\", \"Close\",\"5\",\"0\",\"PrimaryOnly\",,,\"False\",\"T\",\"EveryTick\")","v":1692.47},5.0356593566470214E-3,{"$f":"RTD(\"cqg.rtd\",,\"StudyData\", \"Close(\"&$D$12&\") when LocalYear(\"&$D$12&\")=\"&$D$7&\" and localMonth(\"&$D$12&\") =\"&$E$7&\" and LocalDay(\"&$D$12&\")=\"&$F$7&\" and Barix(\"&$D$12&\",reference:=StartOfSession)=\"&A62&\"\", \"Bar\", \"\", \"Close\",\"5\",\"0\",\"PrimaryOnly\",,,\"False\",\"T\",\"EveryTick\")","v":1685.23},-2.40928195110397E-3,{"$f":"RTD(\"cqg.rtd\",,\"StudyData\", \"Close(\"&$D$12&\") when LocalYear(\"&$D$12&\")=\"&$D$8&\" and localMonth(\"&$D$12&\") =\"&$E$8&\" and LocalDay(\"&$D$12&\")=\"&$F$8&\" and Barix(\"&$D$12&\",reference:=StartOfSession)=\"&A62&\"\", \"Bar\", \"\", \"Close\",\"5\",\"0\",\"PrimaryOnly\",,,\"False\",\"T\",\"EveryTick\")","v":1687.6},-4.8061329795076463E-3,{"$f":"RTD(\"cqg.rtd\",,\"StudyData\", \"Close(\"&$D$12&\") when LocalYear(\"&$D$12&\")=\"&$D$9&\" and localMonth(\"&$D$12&\") =\"&$E$9&\" and LocalDay(\"&$D$12&\")=\"&$F$9&\" and Barix(\"&$D$12&\",reference:=StartOfSession)=\"&A62&\"\", \"Bar\", \"\", \"Close\",\"5\",\"0\",\"PrimaryOnly\",,,\"False\",\"T\",\"EveryTick\")","v":1698.01},9.7857163910754371E-4,{"$f":"RTD(\"cqg.rtd\",,\"StudyData\", \"Close(\"&$D$12&\") when LocalYear(\"&$D$12&\")=\"&$D$10&\" and localMonth(\"&$D$12&\") =\"&$E$10&\" and LocalDay(\"&$D$12&\")=\"&$F$10&\" and Barix(\"&$D$12&\",reference:=StartOfSession)=\"&A62&\"\", \"Bar\", \"\", \"Close\",\"5\",\"0\",\"PrimaryOnly\",,,\"False\",\"T\",\"EveryTick\")","v":1697.53},1.9372233932035039E-2,null,null,null,""]
[62,"13:40:00",-15,{"$f":" RTD(\"cqg.rtd\",,\"StudyData\", $D$12,  \"Tick\", \"FlatTicks=0\", \"Tick\",\"D\",C63,\"PrimaryOnly\")","v":1716.6},null,null,null,{"$f":"RTD(\"cqg.rtd\",,\"StudyData\", \"Close(\"&$D$12&\") when LocalYear(\"&$D$12&\")=\"&$D$1&\" and localMonth(\"&$D$12&\") =\"&$E$1&\" and LocalDay(\"&$D$12&\")=\"&$F$1&\" and Barix(\"&$D$12&\",reference:=StartOfSession)=\"&A63&\"\", \"Bar\", \"\", \"Close\",\"5\",\"0\",\"PrimaryOnly\",,,\"False\",\"T\",\"EveryTick\")","v":""},{"$error":"#N/A"},{"$f":"RTD(\"cqg.rtd\",,\"StudyData\", \"Close(\"&$D$12&\") when LocalYear(\"&$D$12&\")=\"&$D$2&\" and localMonth(\"&$D$12&\") =\"&$E$2&\" and LocalDay(\"&$D$12&\")=\"&$F$2&\" and Barix(\"&$D$12&\",reference:=StartOfSession)=\"&A63&\"\", \"Bar\", \"\", \"Close\",\"5\",\"0\",\"PrimaryOnly\",,,\"False\",\"T\",\"EveryTick\")","v":1716.99},-3.9852424210782148E-3,{"$f":"RTD(\"cqg.rtd\",,\"StudyData\", \"Close(\"&$D$12&\") when LocalYear(\"&$D$12&\")=\"&$D$3&\" and localMonth(\"&$D$12&\") =\"&$E$3&\" and LocalDay(\"&$D$12&\")=\"&$F$3&\" and Barix(\"&$D$12&\",reference:=StartOfSession)=\"&A63&\"\", \"Bar\", \"\", \"Close\",\"5\",\"0\",\"PrimaryOnly\",,,\"False\",\"T\",\"EveryTick\")","v":1719.6},8.6458712152317554E-3,{"$f":"RTD(\"cqg.rtd\",,\"StudyData\", \"Close(\"&$D$12&\") when LocalYear(\"&$D$12&\")=\"&$D$4&\" and localMonth(\"&$D$12&\") =\"&$E$4&\" and LocalDay(\"&$D$12&\")=\"&$F$4&\" and Barix(\"&$D$12&\",reference:=StartOfSession)=\"&A63&\"\", \"Bar\", \"\", \"Close\",\"5\",\"0\",\"PrimaryOnly\",,,\"False\",\"T\",\"EveryTick\")","v":1706.88},4.7858719646799762E-3,{"$f":"RTD(\"cqg.rtd\",,\"StudyData\", \"Close(\"&$D$12&\") when LocalYear(\"&$D$12&\")=\"&$D$5&\" and localMonth(\"&$D$12&\") =\"&$E$5&\" and LocalDay(\"&$D$12&\")=\"&$F$5&\" and Barix(\"&$D$12&\",reference:=StartOfSession)=\"&A63&\"\", \"Bar\", \"\", \"Close\",\"5\",\"0\",\"PrimaryOnly\",,,\"False\",\"T\",\"EveryTick\")","v":1694.12},2.9601212465662596E-3,{"$f":"RTD(\"cqg.rtd\",,\"StudyData\", \"Close(\"&$D$12&\") when LocalYear(\"&$D$12&\")=\"&$D$6&\" and localMonth(\"&$D$12&\") =\"&$E$6&\" and LocalDay(\"&$D$12&\")=\"&$F$6&\" and Barix(\"&$D$12&\",reference:=StartOfSession)=\"&A63&\"\", \"Bar\", \"\", \"Close\",\"5\",\"0\",\"PrimaryOnly\",,,\"False\",\"T\",\"EveryTick\")","v":1692.73},5.1900545727706273E-3,{"$f":"RTD(\"cqg.rtd\",,\"StudyData\", \"Close(\"&$D$12&\") when LocalYear(\"&$D$12&\")=\"&$D$7&\" and localMonth(\"&$D$12&\") =\"&$E$7&\" and LocalDay(\"&$D$12&\")=\"&$F$7&\" and Barix(\"&$D$12&\",reference:=StartOfSession)=\"&A63&\"\", \"Bar\", \"\", \"Close\",\"5\",\"0\",\"PrimaryOnly\",,,\"False\",\"T\",\"EveryTick\")","v":1685.8},-2.0718640857159769E-3,{"$f":"RTD(\"cqg.rtd\",,\"StudyData\", \"Close(\"&$D$12&\") when LocalYear(\"&$D$12&\")=\"&$D$8&\" and localMonth(\"&$D$12&\") =\"&$E$8&\" and LocalDay(\"&$D$12&\")=\"&$F$8&\" and Barix(\"&$D$12&\",reference:=StartOfSession)=\"&A63&\"\", \"Bar\", \"\", \"Close\",\"5\",\"0\",\"PrimaryOnly\",,,\"False\",\"T\",\"EveryTick\")","v":1687.68},-4.758956214064536E-3,{"$f":"RTD(\"cqg.rtd\",,\"StudyData\", \"Close(\"&$D$12&\") when LocalYear(\"&$D$12&\")=\"&$D$9&\" and localMonth(\"&$D$12&\") =\"&$E$9&\" and LocalDay(\"&$D$12&\")=\"&$F$9&\" and Barix(\"&$D$12&\",reference:=StartOfSession)=\"&A63&\"\", \"Bar\", \"\", \"Close\",\"5\",\"0\",\"PrimaryOnly\",,,\"False\",\"T\",\"EveryTick\")","v":1697.43},6.3666106640737738E-4,{"$f":"RTD(\"cqg.rtd\",,\"StudyData\", \"Close(\"&$D$12&\") when LocalYear(\"&$D$12&\")=\"&$D$10&\" and localMonth(\"&$D$12&\") =\"&$E$10&\" and LocalDay(\"&$D$12&\")=\"&$F$10&\" and Barix(\"&$D$12&\",reference:=StartOfSession)=\"&A63&\"\", \"Bar\", \"\", \"Close\",\"5\",\"0\",\"PrimaryOnly\",,,\"False\",\"T\",\"EveryTick\")","v":1698},1.9654470446233956E-2,null,null,null,""]
[63,"13:45:00",-14,{"$f":" RTD(\"cqg.rtd\",,\"StudyData\", $D$12,  \"Tick\", \"FlatTicks=0\", \"Tick\",\"D\",C64,\"PrimaryOnly\")","v":1716.68},null,null,null,{"$f":"RTD(\"cqg.rtd\",,\"StudyData\", \"Close(\"&$D$12&\") when LocalYear(\"&$D$12&\")=\"&$D$1&\" and localMonth(\"&$D$12&\") =\"&$E$1&\" and LocalDay(\"&$D$12&\")=\"&$F$1&\" and Barix(\"&$D$12&\",reference:=StartOfSession)=\"&A64&\"\", \"Bar\", \"\", \"Close\",\"5\",\"0\",\"PrimaryOnly\",,,\"False\",\"T\",\"EveryTick\")","v":""},{"$error":"#N/A"},{"$f":"RTD(\"cqg.rtd\",,\"StudyData\", \"Close(\"&$D$12&\") when LocalYear(\"&$D$12&\")=\"&$D$2&\" and localMonth(\"&$D$12&\") =\"&$E$2&\" and LocalDay(\"&$D$12&\")=\"&$F$2&\" and Barix(\"&$D$12&\",reference:=StartOfSession)=\"&A64&\"\", \"Bar\", \"\", \"Close\",\"5\",\"0\",\"PrimaryOnly\",,,\"False\",\"T\",\"EveryTick\")","v":1717.01},-3.9736405508567453E-3,{"$f":"RTD(\"cqg.rtd\",,\"StudyData\", \"Close(\"&$D$12&\") when LocalYear(\"&$D$12&\")=\"&$D$3&\" and localMonth(\"&$D$12&\") =\"&$E$3&\" and LocalDay(\"&$D$12&\")=\"&$F$3&\" and Barix(\"&$D$12&\",reference:=StartOfSession)=\"&A64&\"\", \"Bar\", \"\", \"Close\",\"5\",\"0\",\"PrimaryOnly\",,,\"False\",\"T\",\"EveryTick\")","v":1719.94},8.8453010804407147E-3,{"$f":"RTD(\"cqg.rtd\",,\"StudyData\", \"Close(\"&$D$12&\") when LocalYear(\"&$D$12&\")=\"&$D$4&\" and localMonth(\"&$D$12&\") =\"&$E$4&\" and LocalDay(\"&$D$12&\")=\"&$F$4&\" and Barix(\"&$D$12&\",reference:=StartOfSession)=\"&A64&\"\", \"Bar\", \"\", \"Close\",\"5\",\"0\",\"PrimaryOnly\",,,\"False\",\"T\",\"EveryTick\")","v":1706.38},4.49153789551147E-3,{"$f":"RTD(\"cqg.rtd\",,\"StudyData\", \"Close(\"&$D$12&\") when LocalYear(\"&$D$12&\")=\"&$D$5&\" and localMonth(\"&$D$12&\") =\"&$E$5&\" and LocalDay(\"&$D$12&\")=\"&$F$5&\" and Barix(\"&$D$12&\",reference:=StartOfSession)=\"&A64&\"\", \"Bar\", \"\", \"Close\",\"5\",\"0\",\"PrimaryOnly\",,,\"False\",\"T\",\"EveryTick\")","v":1693.76},2.7469925168135479E-3,{"$f":"RTD(\"cqg.rtd\",,\"StudyData\", \"Close(\"&$D$12&\") when LocalYear(\"&$D$12&\")=\"&$D$6&\" and localMonth(\"&$D$12&\") =\"&$E$6&\" and LocalDay(\"&$D$12&\")=\"&$F$6&\" and Barix(\"&$D$12&\",reference:=StartOfSession)=\"&A64&\"\", \"Bar\", \"\", \"Close\",\"5\",\"0\",\"PrimaryOnly\",,,\"False\",\"T\",\"EveryTick\")","v":1692.17},4.8575110303505746E-3,{"$f":"RTD(\"cqg.rtd\",,\"StudyData\", \"Close(\"&$D$12&\") when LocalYear(\"&$D$12&\")=\"&$D$7&\" and localMonth(\"&$D$12&\") =\"&$E$7&\" and LocalDay(\"&$D$12&\")=\"&$F$7&\" and Barix(\"&$D$12&\",reference:=StartOfSession)=\"&A64&\"\", \"Bar\", \"\", \"Close\",\"5\",\"0\",\"PrimaryOnly\",,,\"False\",\"T\",\"EveryTick\")","v":1685.55},-2.2198543775528326E-3,{"$f":"RTD(\"cqg.rtd\",,\"StudyData\", \"Close(\"&$D$12&\") when LocalYear(\"&$D$12&\")=\"&$D$8&\" and localMonth(\"&$D$12&\") =\"&$E$8&\" and LocalDay(\"&$D$12&\")=\"&$F$8&\" and Barix(\"&$D$12&\",reference:=StartOfSession)=\"&A64&\"\", \"Bar\", \"\", \"Close\",\"5\",\"0\",\"PrimaryOnly\",,,\"False\",\"T\",\"EveryTick\")","v":1689.68},-3.579537077989053E-3,{"$f":"RTD(\"cqg.rtd\",,\"StudyData\", \"Close(\"&$D$12&\") when LocalYear(\"&$D$12&\")=\"&$D$9&\" and localMonth(\"&$D$12&\") =\"&$E$9&\" and LocalDay(\"&$D$12&\")=\"&$F$9&\" and Barix(\"&$D$12&\",reference:=StartOfSession)=\"&A64&\"\", \"Bar\", \"\", \"Close\",\"5\",\"0\",\"PrimaryOnly\",,,\"False\",\"T\",\"EveryTick\")","v":1695.76},-3.4780558257430257E-4,{"$f":"RTD(\"cqg.rtd\",,\"StudyData\", \"Close(\"&$D$12&\") when LocalYear(\"&$D$12&\")=\"&$D$10&\" and localMonth(\"&$D$12&\") =\"&$E$10&\" and LocalDay(\"&$D$12&\")=\"&$F$10&\" and Barix(\"&$D$12&\",reference:=StartOfSession)=\"&A64&\"\", \"Bar\", \"\", \"Close\",\"5\",\"0\",\"PrimaryOnly\",,,\"False\",\"T\",\"EveryTick\")","v":1697.48},1.9342208770950078E-2,null,null,null,""]
[64,"13:50:00",-13,{"$f":" RTD(\"cqg.rtd\",,\"StudyData\", $D$12,  \"Tick\", \"FlatTicks=0\", \"Tick\",\"D\",C65,\"PrimaryOnly\")","v":1716.7},null,null,null,{"$f":"RTD(\"cqg.rtd\",,\"StudyData\", \"Close(\"&$D$12&\") when LocalYear(\"&$D$12&\")=\"&$D$1&\" and localMonth(\"&$D$12&\") =\"&$E$1&\" and LocalDay(\"&$D$12&\")=\"&$F$1&\" and Barix(\"&$D$12&\",reference:=StartOfSession)=\"&A65&\"\", \"Bar\", \"\", \"Close\",\"5\",\"0\",\"PrimaryOnly\",,,\"False\",\"T\",\"EveryTick\")","v":""},{"$error":"#N/A"},{"$f":"RTD(\"cqg.rtd\",,\"StudyData\", \"Close(\"&$D$12&\") when LocalYear(\"&$D$12&\")=\"&$D$2&\" and localMonth(\"&$D$12&\") =\"&$E$2&\" and LocalDay(\"&$D$12&\")=\"&$F$2&\" and Barix(\"&$D$12&\",reference:=StartOfSession)=\"&A65&\"\", \"Bar\", \"\", \"Close\",\"5\",\"0\",\"PrimaryOnly\",,,\"False\",\"T\",\"EveryTick\")","v":1716.99},-3.9852424210782148E-3,{"$f":"RTD(\"cqg.rtd\",,\"StudyData\", \"Close(\"&$D$12&\") when LocalYear(\"&$D$12&\")=\"&$D$3&\" and localMonth(\"&$D$12&\") =\"&$E$3&\" and LocalDay(\"&$D$12&\")=\"&$F$3&\" and Barix(\"&$D$12&\",reference:=StartOfSession)=\"&A65&\"\", \"Bar\", \"\", \"Close\",\"5\",\"0\",\"PrimaryOnly\",,,\"False\",\"T\",\"EveryTick\")","v":1719.07},8.3349952488767625E-3,{"$f":"RTD(\"cqg.rtd\",,\"StudyData\", \"Close(\"&$D$12&\") when LocalYear(\"&$D$12&\")=\"&$D$4&\" and localMonth(\"&$D$12&\") =\"&$E$4&\" and LocalDay(\"&$D$12&\")=\"&$F$4&\" and Barix(\"&$D$12&\",reference:=StartOfSession)=\"&A65&\"\", \"Bar\", \"\", \"Close\",\"5\",\"0\",\"PrimaryOnly\",,,\"False\",\"T\",\"EveryTick\")","v":1707.6},5.2097130242825069E-3,{"$f":"RTD(\"cqg.rtd\",,\"StudyData\", \"Close(\"&$D$12&\") when LocalYear(\"&$D$12&\")=\"&$D$5&\" and localMonth(\"&$D$12&\") =\"&$E$5&\" and LocalDay(\"&$D$12&\")=\"&$F$5&\" and Barix(\"&$D$12&\",reference:=StartOfSession)=\"&A65&\"\", \"Bar\", \"\", \"Close\",\"5\",\"0\",\"PrimaryOnly\",,,\"False\",\"T\",\"EveryTick\")","v":1694.1},2.9482807615800054E-3,{"$f":"RTD(\"cqg.rtd\",,\"StudyData\", \"Close(\"&$D$12&\") when LocalYear(\"&$D$12&\")=\"&$D$6&\" and localMonth(\"&$D$12&\") =\"&$E$6&\" and LocalDay(\"&$D$12&\")=\"&$F$6&\" and Barix(\"&$D$12&\",reference:=StartOfSession)=\"&A65&\"\", \"Bar\", \"\", \"Close\",\"5\",\"0\",\"PrimaryOnly\",,,\"False\",\"T\",\"EveryTick\")","v":1692.75},5.2019311278570486E-3,{"$f":"RTD(\"cqg.rtd\",,\"StudyData\", \"Close(\"&$D$12&\") when LocalYear(\"&$D$12&\")=\"&$D$7&\" and localMonth(\"&$D$12&\") =\"&$E$7&\" and LocalDay(\"&$D$12&\")=\"&$F$7&\" and Barix(\"&$D$12&\",reference:=StartOfSession)=\"&A65&\"\", \"Bar\", \"\", \"Close\",\"5\",\"0\",\"PrimaryOnly\",,,\"False\",\"T\",\"EveryTick\")","v":1685.48},-2.2612916592671143E-3,{"$f":"RTD(\"cqg.rtd\",,\"StudyData\", \"Close(\"&$D$12&\") when LocalYear(\"&$D$12&\")=\"&$D$8&\" and localMonth(\"&$D$12&\") =\"&$E$8&\" and LocalDay(\"&$D$12&\")=\"&$F$8&\" and Barix(\"&$D$12&\",reference:=StartOfSession)=\"&A65&\"\", \"Bar\", \"\", \"Close\",\"5\",\"0\",\"PrimaryOnly\",,,\"False\",\"T\",\"EveryTick\")","v":1689.81},-3.5028748341442164E-3,{"$f":"RTD(\"cqg.rtd\",,\"StudyData\", \"Close(\"&$D$12&\") when LocalYear(\"&$D$12&\")=\"&$D$9&\" and localMonth(\"&$D$12&\") =\"&$E$9&\" and LocalDay(\"&$D$12&\")=\"&$F$9&\" and Barix(\"&$D$12&\",reference:=StartOfSession)=\"&A65&\"\", \"Bar\", \"\", \"Close\",\"5\",\"0\",\"PrimaryOnly\",,,\"False\",\"T\",\"EveryTick\")","v":1694.45},-1.120051876086812E-3,{"$f":"RTD(\"cqg.rtd\",,\"StudyData\", \"Close(\"&$D$12&\") when LocalYear(\"&$D$12&\")=\"&$D$10&\" and localMonth(\"&$D$12&\") =\"&$E$10&\" and LocalDay(\"&$D$12&\")=\"&$F$10&\" and Barix(\"&$D$12&\",reference:=StartOfSession)=\"&A65&\"\", \"Bar\", \"\", \"Close\",\"5\",\"0\",\"PrimaryOnly\",,,\"False\",\"T\",\"EveryTick\")","v":1697.93},1.961243522071501E-2,null,null,null,""]
[65,"13:55:00",-12,{"$f":" RTD(\"cqg.rtd\",,\"StudyData\", $D$12,  \"Tick\", \"FlatTicks=0\", \"Tick\",\"D\",C66,\"PrimaryOnly\")","v":1716.91},null,null,null,{"$f":"RTD(\"cqg.rtd\",,\"StudyData\", \"Close(\"&$D$12&\") when LocalYear(\"&$D$12&\")=\"&$D$1&\" and localMonth(\"&$D$12&\") =\"&$E$1&\" and LocalDay(\"&$D$12&\")=\"&$F$1&\" and Barix(\"&$D$12&\",reference:=StartOfSession)=\"&A66&\"\", \"Bar\", \"\", \"Close\",\"5\",\"0\",\"PrimaryOnly\",,,\"False\",\"T\",\"EveryTick\")","v":""},{"$error":"#N/A"},{"$f":"RTD(\"cqg.rtd\",,\"StudyData\", \"Close(\"&$D$12&\") when LocalYear(\"&$D$12&\")=\"&$D$2&\" and localMonth(\"&$D$12&\") =\"&$E$2&\" and LocalDay(\"&$D$12&\")=\"&$F$2&\" and Barix(\"&$D$12&\",reference:=StartOfSession)=\"&A66&\"\", \"Bar\", \"\", \"Close\",\"5\",\"0\",\"PrimaryOnly\",,,\"False\",\"T\",\"EveryTick\")","v":1716.95},{"$f":"IFERROR((J66-$G$3)/$G$3,NA())","v":-4.0084461615211529E-3},{"$f":"RTD(\"cqg.rtd\",,\"StudyData\", \"Close(\"&$D$12&\") when LocalYear(\"&$D$12&\")=\"&$D$3&\" and localMonth(\"&$D$12&\") =\"&$E$3&\" and LocalDay(\"&$D$12&\")=\"&$F$3&\" and Barix(\"&$D$12&\",reference:=StartOfSession)=\"&A66&\"\", \"Bar\", \"\", \"Close\",\"5\",\"0\",\"PrimaryOnly\",,,\"False\",\"T\",\"EveryTick\")","v":1718.26},{"$f":"IFERROR((L66-$G$4)/$G$4,NA())","v":7.8598829229380076E-3},{"$f":"RTD(\"cqg.rtd\",,\"StudyData\", \"Close(\"&$D$12&\") when LocalYear(\"&$D$12&\")=\"&$D$4&\" and localMonth(\"&$D$12&\") =\"&$E$4&\" and LocalDay(\"&$D$12&\")=\"&$F$4&\" and Barix(\"&$D$12&\",reference:=StartOfSession)=\"&A66&\"\", \"Bar\", \"\", \"Close\",\"5\",\"0\",\"PrimaryOnly\",,,\"False\",\"T\",\"EveryTick\")","v":1711.3},{"$f":"IFERROR((N66-$G$5)/$G$5,NA())","v":7.3877851361294801E-3},{"$f":"RTD(\"cqg.rtd\",,\"StudyData\", \"Close(\"&$D$12&\") when LocalYear(\"&$D$12&\")=\"&$D$5&\" and localMonth(\"&$D$12&\") =\"&$E$5&\" and LocalDay(\"&$D$12&\")=\"&$F$5&\" and Barix(\"&$D$12&\",reference:=StartOfSession)=\"&A66&\"\", \"Bar\", \"\", \"Close\",\"5\",\"0\",\"PrimaryOnly\",,,\"False\",\"T\",\"EveryTick\")","v":1692.2},{"$f":"IFERROR((P66-$G$6)/$G$6,NA())","v":1.8234346878849073E-3},{"$f":"RTD(\"cqg.rtd\",,\"StudyData\", \"Close(\"&$D$12&\") when LocalYear(\"&$D$12&\")=\"&$D$6&\" and localMonth(\"&$D$12&\") =\"&$E$6&\" and LocalDay(\"&$D$12&\")=\"&$F$6&\" and Barix(\"&$D$12&\",reference:=StartOfSession)=\"&A66&\"\", \"Bar\", \"\", \"Close\",\"5\",\"0\",\"PrimaryOnly\",,,\"False\",\"T\",\"EveryTick\")","v":1693.68},{"$f":"IFERROR((R66-$G$7)/$G$7,NA())","v":5.7541909393761569E-3},{"$f":"RTD(\"cqg.rtd\",,\"StudyData\", \"Close(\"&$D$12&\") when LocalYear(\"&$D$12&\")=\"&$D$7&\" and localMonth(\"&$D$12&\") =\"&$E$7&\" and LocalDay(\"&$D$12&\")=\"&$F$7&\" and Barix(\"&$D$12&\",reference:=StartOfSession)=\"&A66&\"\", \"Bar\", \"\", \"Close\",\"5\",\"0\",\"PrimaryOnly\",,,\"False\",\"T\",\"EveryTick\")","v":1685.57},{"$f":"IFERROR((T66-$G$8)/$G$8,NA())","v":-2.2080151542058948E-3},{"$f":"RTD(\"cqg.rtd\",,\"StudyData\", \"Close(\"&$D$12&\") when LocalYear(\"&$D$12&\")=\"&$D$8&\" and localMonth(\"&$D$12&\") =\"&$E$8&\" and LocalDay(\"&$D$12&\")=\"&$F$8&\" and Barix(\"&$D$12&\",reference:=StartOfSession)=\"&A66&\"\", \"Bar\", \"\", \"Close\",\"5\",\"0\",\"PrimaryOnly\",,,\"False\",\"T\",\"EveryTick\")","v":1689.25},{"$f":"IFERROR((V66-$G$9)/$G$9,NA())","v":-3.8331121922453191E-3},{"$f":"RTD(\"cqg.rtd\",,\"StudyData\", \"Close(\"&$D$12&\") when LocalYear(\"&$D$12&\")=\"&$D$9&\" and localMonth(\"&$D$12&\") =\"&$E$9&\" and LocalDay(\"&$D$12&\")=\"&$F$9&\" and Barix(\"&$D$12&\",reference:=StartOfSession)=\"&A66&\"\", \"Bar\", \"\", \"Close\",\"5\",\"0\",\"PrimaryOnly\",,,\"False\",\"T\",\"EveryTick\")","v":1695.27},{"$f":"IFERROR((X66-$G$10)/$G$10,NA())","v":-6.3666106640724337E-4},{"$f":"RTD(\"cqg.rtd\",,\"StudyData\", \"Close(\"&$D$12&\") when LocalYear(\"&$D$12&\")=\"&$D$10&\" and localMonth(\"&$D$12&\") =\"&$E$10&\" and LocalDay(\"&$D$12&\")=\"&$F$10&\" and Barix(\"&$D$12&\",reference:=StartOfSession)=\"&A66&\"\", \"Bar\", \"\", \"Close\",\"5\",\"0\",\"PrimaryOnly\",,,\"False\",\"T\",\"EveryTick\")","v":1697.39},{"$f":"IFERROR((Z66-$G$11)/$G$11,NA())","v":1.9288163480997145E-2},null,null,null,""]
[{"$f":"A66+1","v":66},"14:00:00",-11,{"$f":" RTD(\"cqg.rtd\",,\"StudyData\", $D$12,  \"Tick\", \"FlatTicks=0\", \"Tick\",\"D\",C67,\"PrimaryOnly\")","v":1716.94},null,null,null,{"$f":"RTD(\"cqg.rtd\",,\"StudyData\", \"Close(\"&$D$12&\") when LocalYear(\"&$D$12&\")=\"&$D$1&\" and localMonth(\"&$D$12&\") =\"&$E$1&\" and LocalDay(\"&$D$12&\")=\"&$F$1&\" and Barix(\"&$D$12&\",reference:=StartOfSession)=\"&A67&\"\", \"Bar\", \"\", \"Close\",\"5\",\"0\",\"PrimaryOnly\",,,\"False\",\"T\",\"EveryTick\")","v":""},{"$f":"IFERROR((H67-$G$2)/$G$2,NA())","v":{"$error":"#N/A"}},{"$f":"RTD(\"cqg.rtd\",,\"StudyData\", \"Close(\"&$D$12&\") when LocalYear(\"&$D$12&\")=\"&$D$2&\" and localMonth(\"&$D$12&\") =\"&$E$2&\" and LocalDay(\"&$D$12&\")=\"&$F$2&\" and Barix(\"&$D$12&\",reference:=StartOfSession)=\"&A67&\"\", \"Bar\", \"\", \"Close\",\"5\",\"0\",\"PrimaryOnly\",,,\"False\",\"T\",\"EveryTick\")","v":1716.43},-4.3100947872796152E-3,{"$f":"RTD(\"cqg.rtd\",,\"StudyData\", \"Close(\"&$D$12&\") when LocalYear(\"&$D$12&\")=\"&$D$3&\" and localMonth(\"&$D$12&\") =\"&$E$3&\" and LocalDay(\"&$D$12&\")=\"&$F$3&\" and Barix(\"&$D$12&\",reference:=StartOfSession)=\"&A67&\"\", \"Bar\", \"\", \"Close\",\"5\",\"0\",\"PrimaryOnly\",,,\"False\",\"T\",\"EveryTick\")","v":1719.35},8.4992316084605245E-3,{"$f":"RTD(\"cqg.rtd\",,\"StudyData\", \"Close(\"&$D$12&\") when LocalYear(\"&$D$12&\")=\"&$D$4&\" and localMonth(\"&$D$12&\") =\"&$E$4&\" and LocalDay(\"&$D$12&\")=\"&$F$4&\" and Barix(\"&$D$12&\",reference:=StartOfSession)=\"&A67&\"\", \"Bar\", \"\", \"Close\",\"5\",\"0\",\"PrimaryOnly\",,,\"False\",\"T\",\"EveryTick\")","v":1711.44},7.470198675496721E-3,{"$f":"RTD(\"cqg.rtd\",,\"StudyData\", \"Close(\"&$D$12&\") when LocalYear(\"&$D$12&\")=\"&$D$5&\" and localMonth(\"&$D$12&\") =\"&$E$5&\" and LocalDay(\"&$D$12&\")=\"&$F$5&\" and Barix(\"&$D$12&\",reference:=StartOfSession)=\"&A67&\"\", \"Bar\", \"\", \"Close\",\"5\",\"0\",\"PrimaryOnly\",,,\"False\",\"T\",\"EveryTick\")","v":1694.01},2.894998579141861E-3,{"$f":"RTD(\"cqg.rtd\",,\"StudyData\", \"Close(\"&$D$12&\") when LocalYear(\"&$D$12&\")=\"&$D$6&\" and localMonth(\"&$D$12&\") =\"&$E$6&\" and LocalDay(\"&$D$12&\")=\"&$F$6&\" and Barix(\"&$D$12&\",reference:=StartOfSession)=\"&A67&\"\", \"Bar\", \"\", \"Close\",\"5\",\"0\",\"PrimaryOnly\",,,\"False\",\"T\",\"EveryTick\")","v":1693.82},5.8373268249811028E-3,{"$f":"RTD(\"cqg.rtd\",,\"StudyData\", \"Close(\"&$D$12&\") when LocalYear(\"&$D$12&\")=\"&$D$7&\" and localMonth(\"&$D$12&\") =\"&$E$7&\" and LocalDay(\"&$D$12&\")=\"&$F$7&\" and Barix(\"&$D$12&\",reference:=StartOfSession)=\"&A67&\"\", \"Bar\", \"\", \"Close\",\"5\",\"0\",\"PrimaryOnly\",,,\"False\",\"T\",\"EveryTick\")","v":1684.61},-2.7762978748594415E-3,{"$f":"RTD(\"cqg.rtd\",,\"StudyData\", \"Close(\"&$D$12&\") when LocalYear(\"&$D$12&\")=\"&$D$8&\" and localMonth(\"&$D$12&\") =\"&$E$8&\" and LocalDay(\"&$D$12&\")=\"&$F$8&\" and Barix(\"&$D$12&\",reference:=StartOfSession)=\"&A67&\"\", \"Bar\", \"\", \"Close\",\"5\",\"0\",\"PrimaryOnly\",,,\"False\",\"T\",\"EveryTick\")","v":1688.42},-4.3225711337166019E-3,{"$f":"RTD(\"cqg.rtd\",,\"StudyData\", \"Close(\"&$D$12&\") when LocalYear(\"&$D$12&\")=\"&$D$9&\" and localMonth(\"&$D$12&\") =\"&$E$9&\" and LocalDay(\"&$D$12&\")=\"&$F$9&\" and Barix(\"&$D$12&\",reference:=StartOfSession)=\"&A67&\"\", \"Bar\", \"\", \"Close\",\"5\",\"0\",\"PrimaryOnly\",,,\"False\",\"T\",\"EveryTick\")","v":1695.38},-5.7181595779161136E-4,{"$f":"RTD(\"cqg.rtd\",,\"StudyData\", \"Close(\"&$D$12&\") when LocalYear(\"&$D$12&\")=\"&$D$10&\" and localMonth(\"&$D$12&\") =\"&$E$10&\" and LocalDay(\"&$D$12&\")=\"&$F$10&\" and Barix(\"&$D$12&\",reference:=StartOfSession)=\"&A67&\"\", \"Bar\", \"\", \"Close\",\"5\",\"0\",\"PrimaryOnly\",,,\"False\",\"T\",\"EveryTick\")","v":1697.86},1.9570399995195924E-2,null,null,null,{"$f":"IF(AND(H66<>\"\",H67<>\"\",H68=\"\"),A67,\"\")","v":""}]
[67,"14:05:00",-10,{"$f":" RTD(\"cqg.rtd\",,\"StudyData\", $D$12,  \"Tick\", \"FlatTicks=0\", \"Tick\",\"D\",C68,\"PrimaryOnly\")","v":1716.69},null,null,null,{"$f":"RTD(\"cqg.rtd\",,\"StudyData\", \"Close(\"&$D$12&\") when LocalYear(\"&$D$12&\")=\"&$D$1&\" and localMonth(\"&$D$12&\") =\"&$E$1&\" and LocalDay(\"&$D$12&\")=\"&$F$1&\" and Barix(\"&$D$12&\",reference:=StartOfSession)=\"&A68&\"\", \"Bar\", \"\", \"Close\",\"5\",\"0\",\"PrimaryOnly\",,,\"False\",\"T\",\"EveryTick\")","v":""},{"$error":"#N/A"},{"$f":"RTD(\"cqg.rtd\",,\"StudyData\", \"Close(\"&$D$12&\") when LocalYear(\"&$D$12&\")=\"&$D$2&\" and localMonth(\"&$D$12&\") =\"&$E$2&\" and LocalDay(\"&$D$12&\")=\"&$F$2&\" and Barix(\"&$D$12&\",reference:=StartOfSession)=\"&A68&\"\", \"Bar\", \"\", \"Close\",\"5\",\"0\",\"PrimaryOnly\",,,\"False\",\"T\",\"EveryTick\")","v":1716.54},-4.2462845010615346E-3,{"$f":"RTD(\"cqg.rtd\",,\"StudyData\", \"Close(\"&$D$12&\") when LocalYear(\"&$D$12&\")=\"&$D$3&\" and localMonth(\"&$D$12&\") =\"&$E$3&\" and LocalDay(\"&$D$12&\")=\"&$F$3&\" and Barix(\"&$D$12&\",reference:=StartOfSession)=\"&A68&\"\", \"Bar\", \"\", \"Close\",\"5\",\"0\",\"PrimaryOnly\",,,\"False\",\"T\",\"EveryTick\")","v":1720.07},8.9215536759616847E-3,{"$f":"RTD(\"cqg.rtd\",,\"StudyData\", \"Close(\"&$D$12&\") when LocalYear(\"&$D$12&\")=\"&$D$4&\" and localMonth(\"&$D$12&\") =\"&$E$4&\" and LocalDay(\"&$D$12&\")=\"&$F$4&\" and Barix(\"&$D$12&\",reference:=StartOfSession)=\"&A68&\"\", \"Bar\", \"\", \"Close\",\"5\",\"0\",\"PrimaryOnly\",,,\"False\",\"T\",\"EveryTick\")","v":1710.86},7.1287711552611623E-3,{"$f":"RTD(\"cqg.rtd\",,\"StudyData\", \"Close(\"&$D$12&\") when LocalYear(\"&$D$12&\")=\"&$D$5&\" and localMonth(\"&$D$12&\") =\"&$E$5&\" and LocalDay(\"&$D$12&\")=\"&$F$5&\" and Barix(\"&$D$12&\",reference:=StartOfSession)=\"&A68&\"\", \"Bar\", \"\", \"Close\",\"5\",\"0\",\"PrimaryOnly\",,,\"False\",\"T\",\"EveryTick\")","v":1694.66},3.2798143411955287E-3,{"$f":"RTD(\"cqg.rtd\",,\"StudyData\", \"Close(\"&$D$12&\") when LocalYear(\"&$D$12&\")=\"&$D$6&\" and localMonth(\"&$D$12&\") =\"&$E$6&\" and LocalDay(\"&$D$12&\")=\"&$F$6&\" and Barix(\"&$D$12&\",reference:=StartOfSession)=\"&A68&\"\", \"Bar\", \"\", \"Close\",\"5\",\"0\",\"PrimaryOnly\",,,\"False\",\"T\",\"EveryTick\")","v":1693.28},5.5166598376474706E-3,{"$f":"RTD(\"cqg.rtd\",,\"StudyData\", \"Close(\"&$D$12&\") when LocalYear(\"&$D$12&\")=\"&$D$7&\" and localMonth(\"&$D$12&\") =\"&$E$7&\" and LocalDay(\"&$D$12&\")=\"&$F$7&\" and Barix(\"&$D$12&\",reference:=StartOfSession)=\"&A68&\"\", \"Bar\", \"\", \"Close\",\"5\",\"0\",\"PrimaryOnly\",,,\"False\",\"T\",\"EveryTick\")","v":1682},-4.3213165216361539E-3,{"$f":"RTD(\"cqg.rtd\",,\"StudyData\", \"Close(\"&$D$12&\") when LocalYear(\"&$D$12&\")=\"&$D$8&\" and localMonth(\"&$D$12&\") =\"&$E$8&\" and LocalDay(\"&$D$12&\")=\"&$F$8&\" and Barix(\"&$D$12&\",reference:=StartOfSession)=\"&A68&\"\", \"Bar\", \"\", \"Close\",\"5\",\"0\",\"PrimaryOnly\",,,\"False\",\"T\",\"EveryTick\")","v":1685.94},-5.785050862450211E-3,{"$f":"RTD(\"cqg.rtd\",,\"StudyData\", \"Close(\"&$D$12&\") when LocalYear(\"&$D$12&\")=\"&$D$9&\" and localMonth(\"&$D$12&\") =\"&$E$9&\" and LocalDay(\"&$D$12&\")=\"&$F$9&\" and Barix(\"&$D$12&\",reference:=StartOfSession)=\"&A68&\"\", \"Bar\", \"\", \"Close\",\"5\",\"0\",\"PrimaryOnly\",,,\"False\",\"T\",\"EveryTick\")","v":1692.82},-2.0809384855719473E-3,{"$f":"RTD(\"cqg.rtd\",,\"StudyData\", \"Close(\"&$D$12&\") when LocalYear(\"&$D$12&\")=\"&$D$10&\" and localMonth(\"&$D$12&\") =\"&$E$10&\" and LocalDay(\"&$D$12&\")=\"&$F$10&\" and Barix(\"&$D$12&\",reference:=StartOfSession)=\"&A68&\"\", \"Bar\", \"\", \"Close\",\"5\",\"0\",\"PrimaryOnly\",,,\"False\",\"T\",\"EveryTick\")","v":1697.92},1.9606430188498017E-2,null,null,null,""]
[68,"14:10:00",-9,{"$f":" RTD(\"cqg.rtd\",,\"StudyData\", $D$12,  \"Tick\", \"FlatTicks=0\", \"Tick\",\"D\",C69,\"PrimaryOnly\")","v":1717},null,null,null,{"$f":"RTD(\"cqg.rtd\",,\"StudyData\", \"Close(\"&$D$12&\") when LocalYear(\"&$D$12&\")=\"&$D$1&\" and localMonth(\"&$D$12&\") =\"&$E$1&\" and LocalDay(\"&$D$12&\")=\"&$F$1&\" and Barix(\"&$D$12&\",reference:=StartOfSession)=\"&A69&\"\", \"Bar\", \"\", \"Close\",\"5\",\"0\",\"PrimaryOnly\",,,\"False\",\"T\",\"EveryTick\")","v":""},{"$error":"#N/A"},{"$f":"RTD(\"cqg.rtd\",,\"StudyData\", \"Close(\"&$D$12&\") when LocalYear(\"&$D$12&\")=\"&$D$2&\" and localMonth(\"&$D$12&\") =\"&$E$2&\" and LocalDay(\"&$D$12&\")=\"&$F$2&\" and Barix(\"&$D$12&\",reference:=StartOfSession)=\"&A69&\"\", \"Bar\", \"\", \"Close\",\"5\",\"0\",\"PrimaryOnly\",,,\"False\",\"T\",\"EveryTick\")","v":1716.4},-4.3274975926118186E-3,{"$f":"RTD(\"cqg.rtd\",,\"StudyData\", \"Close(\"&$D$12&\") when LocalYear(\"&$D$12&\")=\"&$D$3&\" and localMonth(\"&$D$12&\") =\"&$E$3&\" and LocalDay(\"&$D$12&\")=\"&$F$3&\" and Barix(\"&$D$12&\",reference:=StartOfSession)=\"&A69&\"\", \"Bar\", \"\", \"Close\",\"5\",\"0\",\"PrimaryOnly\",,,\"False\",\"T\",\"EveryTick\")","v":1720.4},9.1151179568997997E-3,{"$f":"RTD(\"cqg.rtd\",,\"StudyData\", \"Close(\"&$D$12&\") when LocalYear(\"&$D$12&\")=\"&$D$4&\" and localMonth(\"&$D$12&\") =\"&$E$4&\" and LocalDay(\"&$D$12&\")=\"&$F$4&\" and Barix(\"&$D$12&\",reference:=StartOfSession)=\"&A69&\"\", \"Bar\", \"\", \"Close\",\"5\",\"0\",\"PrimaryOnly\",,,\"False\",\"T\",\"EveryTick\")","v":1711.59},7.5584988962471922E-3,{"$f":"RTD(\"cqg.rtd\",,\"StudyData\", \"Close(\"&$D$12&\") when LocalYear(\"&$D$12&\")=\"&$D$5&\" and localMonth(\"&$D$12&\") =\"&$E$5&\" and LocalDay(\"&$D$12&\")=\"&$F$5&\" and Barix(\"&$D$12&\",reference:=StartOfSession)=\"&A69&\"\", \"Bar\", \"\", \"Close\",\"5\",\"0\",\"PrimaryOnly\",,,\"False\",\"T\",\"EveryTick\")","v":1694.69},3.29757506867491E-3,{"$f":"RTD(\"cqg.rtd\",,\"StudyData\", \"Close(\"&$D$12&\") when LocalYear(\"&$D$12&\")=\"&$D$6&\" and localMonth(\"&$D$12&\") =\"&$E$6&\" and LocalDay(\"&$D$12&\")=\"&$F$6&\" and Barix(\"&$D$12&\",reference:=StartOfSession)=\"&A69&\"\", \"Bar\", \"\", \"Close\",\"5\",\"0\",\"PrimaryOnly\",,,\"False\",\"T\",\"EveryTick\")","v":1693.09},5.4038325643263373E-3,{"$f":"RTD(\"cqg.rtd\",,\"StudyData\", \"Close(\"&$D$12&\") when LocalYear(\"&$D$12&\")=\"&$D$7&\" and localMonth(\"&$D$12&\") =\"&$E$7&\" and LocalDay(\"&$D$12&\")=\"&$F$7&\" and Barix(\"&$D$12&\",reference:=StartOfSession)=\"&A69&\"\", \"Bar\", \"\", \"Close\",\"5\",\"0\",\"PrimaryOnly\",,,\"False\",\"T\",\"EveryTick\")","v":1684.51},-2.8354939915941299E-3,{"$f":"RTD(\"cqg.rtd\",,\"StudyData\", \"Close(\"&$D$12&\") when LocalYear(\"&$D$12&\")=\"&$D$8&\" and localMonth(\"&$D$12&\") =\"&$E$8&\" and LocalDay(\"&$D$12&\")=\"&$F$8&\" and Barix(\"&$D$12&\",reference:=StartOfSession)=\"&A69&\"\", \"Bar\", \"\", \"Close\",\"5\",\"0\",\"PrimaryOnly\",,,\"False\",\"T\",\"EveryTick\")","v":1688.03},-4.5525578652513797E-3,{"$f":"RTD(\"cqg.rtd\",,\"StudyData\", \"Close(\"&$D$12&\") when LocalYear(\"&$D$12&\")=\"&$D$9&\" and localMonth(\"&$D$12&\") =\"&$E$9&\" and LocalDay(\"&$D$12&\")=\"&$F$9&\" and Barix(\"&$D$12&\",reference:=StartOfSession)=\"&A69&\"\", \"Bar\", \"\", \"Close\",\"5\",\"0\",\"PrimaryOnly\",,,\"False\",\"T\",\"EveryTick\")","v":1693.05},-1.9453532584666811E-3,{"$f":"RTD(\"cqg.rtd\",,\"StudyData\", \"Close(\"&$D$12&\") when LocalYear(\"&$D$12&\")=\"&$D$10&\" and localMonth(\"&$D$12&\") =\"&$E$10&\" and LocalDay(\"&$D$12&\")=\"&$F$10&\" and Barix(\"&$D$12&\",reference:=StartOfSession)=\"&A69&\"\", \"Bar\", \"\", \"Close\",\"5\",\"0\",\"PrimaryOnly\",,,\"False\",\"T\",\"EveryTick\")","v":1698.19},1.9768566058356946E-2,null,null,null,""]
[69,"14:15:00",-8,{"$f":" RTD(\"cqg.rtd\",,\"StudyData\", $D$12,  \"Tick\", \"FlatTicks=0\", \"Tick\",\"D\",C70,\"PrimaryOnly\")","v":1717.16},null,null,null,{"$f":"RTD(\"cqg.rtd\",,\"StudyData\", \"Close(\"&$D$12&\") when LocalYear(\"&$D$12&\")=\"&$D$1&\" and localMonth(\"&$D$12&\") =\"&$E$1&\" and LocalDay(\"&$D$12&\")=\"&$F$1&\" and Barix(\"&$D$12&\",reference:=StartOfSession)=\"&A70&\"\", \"Bar\", \"\", \"Close\",\"5\",\"0\",\"PrimaryOnly\",,,\"False\",\"T\",\"EveryTick\")","v":""},{"$error":"#N/A"},{"$f":"RTD(\"cqg.rtd\",,\"StudyData\", \"Close(\"&$D$12&\") when LocalYear(\"&$D$12&\")=\"&$D$2&\" and localMonth(\"&$D$12&\") =\"&$E$2&\" and LocalDay(\"&$D$12&\")=\"&$F$2&\" and Barix(\"&$D$12&\",reference:=StartOfSession)=\"&A70&\"\", \"Bar\", \"\", \"Close\",\"5\",\"0\",\"PrimaryOnly\",,,\"False\",\"T\",\"EveryTick\")","v":1716.8},-4.0954601881823035E-3,{"$f":"RTD(\"cqg.rtd\",,\"StudyData\", \"Close(\"&$D$12&\") when LocalYear(\"&$D$12&\")=\"&$D$3&\" and localMonth(\"&$D$12&\") =\"&$E$3&\" and LocalDay(\"&$D$12&\")=\"&$F$3&\" and Barix(\"&$D$12&\",reference:=StartOfSession)=\"&A70&\"\", \"Bar\", \"\", \"Close\",\"5\",\"0\",\"PrimaryOnly\",,,\"False\",\"T\",\"EveryTick\")","v":1719.95},8.8511666647115572E-3,{"$f":"RTD(\"cqg.rtd\",,\"StudyData\", \"Close(\"&$D$12&\") when LocalYear(\"&$D$12&\")=\"&$D$4&\" and localMonth(\"&$D$12&\") =\"&$E$4&\" and LocalDay(\"&$D$12&\")=\"&$F$4&\" and Barix(\"&$D$12&\",reference:=StartOfSession)=\"&A70&\"\", \"Bar\", \"\", \"Close\",\"5\",\"0\",\"PrimaryOnly\",,,\"False\",\"T\",\"EveryTick\")","v":1711.61},7.5702722590139217E-3,{"$f":"RTD(\"cqg.rtd\",,\"StudyData\", \"Close(\"&$D$12&\") when LocalYear(\"&$D$12&\")=\"&$D$5&\" and localMonth(\"&$D$12&\") =\"&$E$5&\" and LocalDay(\"&$D$12&\")=\"&$F$5&\" and Barix(\"&$D$12&\",reference:=StartOfSession)=\"&A70&\"\", \"Bar\", \"\", \"Close\",\"5\",\"0\",\"PrimaryOnly\",,,\"False\",\"T\",\"EveryTick\")","v":1694.85},3.3922989485649442E-3,{"$f":"RTD(\"cqg.rtd\",,\"StudyData\", \"Close(\"&$D$12&\") when LocalYear(\"&$D$12&\")=\"&$D$6&\" and localMonth(\"&$D$12&\") =\"&$E$6&\" and LocalDay(\"&$D$12&\")=\"&$F$6&\" and Barix(\"&$D$12&\",reference:=StartOfSession)=\"&A70&\"\", \"Bar\", \"\", \"Close\",\"5\",\"0\",\"PrimaryOnly\",,,\"False\",\"T\",\"EveryTick\")","v":1692.33},4.952523471041941E-3,{"$f":"RTD(\"cqg.rtd\",,\"StudyData\", \"Close(\"&$D$12&\") when LocalYear(\"&$D$12&\")=\"&$D$7&\" and localMonth(\"&$D$12&\") =\"&$E$7&\" and LocalDay(\"&$D$12&\")=\"&$F$7&\" and Barix(\"&$D$12&\",reference:=StartOfSession)=\"&A70&\"\", \"Bar\", \"\", \"Close\",\"5\",\"0\",\"PrimaryOnly\",,,\"False\",\"T\",\"EveryTick\")","v":1682.16},-4.2266027348605182E-3,{"$f":"RTD(\"cqg.rtd\",,\"StudyData\", \"Close(\"&$D$12&\") when LocalYear(\"&$D$12&\")=\"&$D$8&\" and localMonth(\"&$D$12&\") =\"&$E$8&\" and LocalDay(\"&$D$12&\")=\"&$F$8&\" and Barix(\"&$D$12&\",reference:=StartOfSession)=\"&A70&\"\", \"Bar\", \"\", \"Close\",\"5\",\"0\",\"PrimaryOnly\",,,\"False\",\"T\",\"EveryTick\")","v":1687.7},-4.7471620227037912E-3,{"$f":"RTD(\"cqg.rtd\",,\"StudyData\", \"Close(\"&$D$12&\") when LocalYear(\"&$D$12&\")=\"&$D$9&\" and localMonth(\"&$D$12&\") =\"&$E$9&\" and LocalDay(\"&$D$12&\")=\"&$F$9&\" and Barix(\"&$D$12&\",reference:=StartOfSession)=\"&A70&\"\", \"Bar\", \"\", \"Close\",\"5\",\"0\",\"PrimaryOnly\",,,\"False\",\"T\",\"EveryTick\")","v":1693.46},-1.7036578536268299E-3,{"$f":"RTD(\"cqg.rtd\",,\"StudyData\", \"Close(\"&$D$12&\") when LocalYear(\"&$D$12&\")=\"&$D$10&\" and localMonth(\"&$D$12&\") =\"&$E$10&\" and LocalDay(\"&$D$12&\")=\"&$F$10&\" and Barix(\"&$D$12&\",reference:=StartOfSession)=\"&A70&\"\", \"Bar\", \"\", \"Close\",\"5\",\"0\",\"PrimaryOnly\",,,\"False\",\"T\",\"EveryTick\")","v":1697.58},1.9402259093120003E-2,null,null,null,""]
[70,"14:20:00",-7,{"$f":" RTD(\"cqg.rtd\",,\"StudyData\", $D$12,  \"Tick\", \"FlatTicks=0\", \"Tick\",\"D\",C71,\"PrimaryOnly\")","v":1717.23},null,null,null,{"$f":"RTD(\"cqg.rtd\",,\"StudyData\", \"Close(\"&$D$12&\") when LocalYear(\"&$D$12&\")=\"&$D$1&\" and localMonth(\"&$D$12&\") =\"&$E$1&\" and LocalDay(\"&$D$12&\")=\"&$F$1&\" and Barix(\"&$D$12&\",reference:=StartOfSession)=\"&A71&\"\", \"Bar\", \"\", \"Close\",\"5\",\"0\",\"PrimaryOnly\",,,\"False\",\"T\",\"EveryTick\")","v":""},{"$error":"#N/A"},{"$f":"RTD(\"cqg.rtd\",,\"StudyData\", \"Close(\"&$D$12&\") when LocalYear(\"&$D$12&\")=\"&$D$2&\" and localMonth(\"&$D$12&\") =\"&$E$2&\" and LocalDay(\"&$D$12&\")=\"&$F$2&\" and Barix(\"&$D$12&\",reference:=StartOfSession)=\"&A71&\"\", \"Bar\", \"\", \"Close\",\"5\",\"0\",\"PrimaryOnly\",,,\"False\",\"T\",\"EveryTick\")","v":1716.7},-4.1534695392896493E-3,{"$f":"RTD(\"cqg.rtd\",,\"StudyData\", \"Close(\"&$D$12&\") when LocalYear(\"&$D$12&\")=\"&$D$3&\" and localMonth(\"&$D$12&\") =\"&$E$3&\" and LocalDay(\"&$D$12&\")=\"&$F$3&\" and Barix(\"&$D$12&\",reference:=StartOfSession)=\"&A71&\"\", \"Bar\", \"\", \"Close\",\"5\",\"0\",\"PrimaryOnly\",,,\"False\",\"T\",\"EveryTick\")","v":1720.2},8.9978062714827882E-3,{"$f":"RTD(\"cqg.rtd\",,\"StudyData\", \"Close(\"&$D$12&\") when LocalYear(\"&$D$12&\")=\"&$D$4&\" and localMonth(\"&$D$12&\") =\"&$E$4&\" and LocalDay(\"&$D$12&\")=\"&$F$4&\" and Barix(\"&$D$12&\",reference:=StartOfSession)=\"&A71&\"\", \"Bar\", \"\", \"Close\",\"5\",\"0\",\"PrimaryOnly\",,,\"False\",\"T\",\"EveryTick\")","v":1711.39},7.4407652685798973E-3,{"$f":"RTD(\"cqg.rtd\",,\"StudyData\", \"Close(\"&$D$12&\") when LocalYear(\"&$D$12&\")=\"&$D$5&\" and localMonth(\"&$D$12&\") =\"&$E$5&\" and LocalDay(\"&$D$12&\")=\"&$F$5&\" and Barix(\"&$D$12&\",reference:=StartOfSession)=\"&A71&\"\", \"Bar\", \"\", \"Close\",\"5\",\"0\",\"PrimaryOnly\",,,\"False\",\"T\",\"EveryTick\")","v":1694.78},3.3508572511130544E-3,{"$f":"RTD(\"cqg.rtd\",,\"StudyData\", \"Close(\"&$D$12&\") when LocalYear(\"&$D$12&\")=\"&$D$6&\" and localMonth(\"&$D$12&\") =\"&$E$6&\" and LocalDay(\"&$D$12&\")=\"&$F$6&\" and Barix(\"&$D$12&\",reference:=StartOfSession)=\"&A71&\"\", \"Bar\", \"\", \"Close\",\"5\",\"0\",\"PrimaryOnly\",,,\"False\",\"T\",\"EveryTick\")","v":1693.05},5.3800794541534955E-3,{"$f":"RTD(\"cqg.rtd\",,\"StudyData\", \"Close(\"&$D$12&\") when LocalYear(\"&$D$12&\")=\"&$D$7&\" and localMonth(\"&$D$12&\") =\"&$E$7&\" and LocalDay(\"&$D$12&\")=\"&$F$7&\" and Barix(\"&$D$12&\",reference:=StartOfSession)=\"&A71&\"\", \"Bar\", \"\", \"Close\",\"5\",\"0\",\"PrimaryOnly\",,,\"False\",\"T\",\"EveryTick\")","v":1683.25},-3.5813650624518761E-3,{"$f":"RTD(\"cqg.rtd\",,\"StudyData\", \"Close(\"&$D$12&\") when LocalYear(\"&$D$12&\")=\"&$D$8&\" and localMonth(\"&$D$12&\") =\"&$E$8&\" and LocalDay(\"&$D$12&\")=\"&$F$8&\" and Barix(\"&$D$12&\",reference:=StartOfSession)=\"&A71&\"\", \"Bar\", \"\", \"Close\",\"5\",\"0\",\"PrimaryOnly\",,,\"False\",\"T\",\"EveryTick\")","v":1689.29},-3.8095238095238308E-3,{"$f":"RTD(\"cqg.rtd\",,\"StudyData\", \"Close(\"&$D$12&\") when LocalYear(\"&$D$12&\")=\"&$D$9&\" and localMonth(\"&$D$12&\") =\"&$E$9&\" and LocalDay(\"&$D$12&\")=\"&$F$9&\" and Barix(\"&$D$12&\",reference:=StartOfSession)=\"&A71&\"\", \"Bar\", \"\", \"Close\",\"5\",\"0\",\"PrimaryOnly\",,,\"False\",\"T\",\"EveryTick\")","v":1693.66},-1.5857576561439722E-3,{"$f":"RTD(\"cqg.rtd\",,\"StudyData\", \"Close(\"&$D$12&\") when LocalYear(\"&$D$12&\")=\"&$D$10&\" and localMonth(\"&$D$12&\") =\"&$E$10&\" and LocalDay(\"&$D$12&\")=\"&$F$10&\" and Barix(\"&$D$12&\",reference:=StartOfSession)=\"&A71&\"\", \"Bar\", \"\", \"Close\",\"5\",\"0\",\"PrimaryOnly\",,,\"False\",\"T\",\"EveryTick\")","v":1694.98},1.7840950716700617E-2,null,null,null,""]
[71,"14:25:00",-6,{"$f":" RTD(\"cqg.rtd\",,\"StudyData\", $D$12,  \"Tick\", \"FlatTicks=0\", \"Tick\",\"D\",C72,\"PrimaryOnly\")","v":1717.36},null,null,null,{"$f":"RTD(\"cqg.rtd\",,\"StudyData\", \"Close(\"&$D$12&\") when LocalYear(\"&$D$12&\")=\"&$D$1&\" and localMonth(\"&$D$12&\") =\"&$E$1&\" and LocalDay(\"&$D$12&\")=\"&$F$1&\" and Barix(\"&$D$12&\",reference:=StartOfSession)=\"&A72&\"\", \"Bar\", \"\", \"Close\",\"5\",\"0\",\"PrimaryOnly\",,,\"False\",\"T\",\"EveryTick\")","v":""},{"$error":"#N/A"},{"$f":"RTD(\"cqg.rtd\",,\"StudyData\", \"Close(\"&$D$12&\") when LocalYear(\"&$D$12&\")=\"&$D$2&\" and localMonth(\"&$D$12&\") =\"&$E$2&\" and LocalDay(\"&$D$12&\")=\"&$F$2&\" and Barix(\"&$D$12&\",reference:=StartOfSession)=\"&A72&\"\", \"Bar\", \"\", \"Close\",\"5\",\"0\",\"PrimaryOnly\",,,\"False\",\"T\",\"EveryTick\")","v":1716.33},-4.3681041383870928E-3,{"$f":"RTD(\"cqg.rtd\",,\"StudyData\", \"Close(\"&$D$12&\") when LocalYear(\"&$D$12&\")=\"&$D$3&\" and localMonth(\"&$D$12&\") =\"&$E$3&\" and LocalDay(\"&$D$12&\")=\"&$F$3&\" and Barix(\"&$D$12&\",reference:=StartOfSession)=\"&A72&\"\", \"Bar\", \"\", \"Close\",\"5\",\"0\",\"PrimaryOnly\",,,\"False\",\"T\",\"EveryTick\")","v":1721.25},9.6136926199219298E-3,{"$f":"RTD(\"cqg.rtd\",,\"StudyData\", \"Close(\"&$D$12&\") when LocalYear(\"&$D$12&\")=\"&$D$4&\" and localMonth(\"&$D$12&\") =\"&$E$4&\" and LocalDay(\"&$D$12&\")=\"&$F$4&\" and Barix(\"&$D$12&\",reference:=StartOfSession)=\"&A72&\"\", \"Bar\", \"\", \"Close\",\"5\",\"0\",\"PrimaryOnly\",,,\"False\",\"T\",\"EveryTick\")","v":1709.3},6.2104488594554551E-3,{"$f":"RTD(\"cqg.rtd\",,\"StudyData\", \"Close(\"&$D$12&\") when LocalYear(\"&$D$12&\")=\"&$D$5&\" and localMonth(\"&$D$12&\") =\"&$E$5&\" and LocalDay(\"&$D$12&\")=\"&$F$5&\" and Barix(\"&$D$12&\",reference:=StartOfSession)=\"&A72&\"\", \"Bar\", \"\", \"Close\",\"5\",\"0\",\"PrimaryOnly\",,,\"False\",\"T\",\"EveryTick\")","v":1695.64},3.8599981055225264E-3,{"$f":"RTD(\"cqg.rtd\",,\"StudyData\", \"Close(\"&$D$12&\") when LocalYear(\"&$D$12&\")=\"&$D$6&\" and localMonth(\"&$D$12&\") =\"&$E$6&\" and LocalDay(\"&$D$12&\")=\"&$F$6&\" and Barix(\"&$D$12&\",reference:=StartOfSession)=\"&A72&\"\", \"Bar\", \"\", \"Close\",\"5\",\"0\",\"PrimaryOnly\",,,\"False\",\"T\",\"EveryTick\")","v":1693.49},5.6413636660550244E-3,{"$f":"RTD(\"cqg.rtd\",,\"StudyData\", \"Close(\"&$D$12&\") when LocalYear(\"&$D$12&\")=\"&$D$7&\" and localMonth(\"&$D$12&\") =\"&$E$7&\" and LocalDay(\"&$D$12&\")=\"&$F$7&\" and Barix(\"&$D$12&\",reference:=StartOfSession)=\"&A72&\"\", \"Bar\", \"\", \"Close\",\"5\",\"0\",\"PrimaryOnly\",,,\"False\",\"T\",\"EveryTick\")","v":1683.52},-3.4215355472680831E-3,{"$f":"RTD(\"cqg.rtd\",,\"StudyData\", \"Close(\"&$D$12&\") when LocalYear(\"&$D$12&\")=\"&$D$8&\" and localMonth(\"&$D$12&\") =\"&$E$8&\" and LocalDay(\"&$D$12&\")=\"&$F$8&\" and Barix(\"&$D$12&\",reference:=StartOfSession)=\"&A72&\"\", \"Bar\", \"\", \"Close\",\"5\",\"0\",\"PrimaryOnly\",,,\"False\",\"T\",\"EveryTick\")","v":1688.41},-4.3284682293969739E-3,{"$f":"RTD(\"cqg.rtd\",,\"StudyData\", \"Close(\"&$D$12&\") when LocalYear(\"&$D$12&\")=\"&$D$9&\" and localMonth(\"&$D$12&\") =\"&$E$9&\" and LocalDay(\"&$D$12&\")=\"&$F$9&\" and Barix(\"&$D$12&\",reference:=StartOfSession)=\"&A72&\"\", \"Bar\", \"\", \"Close\",\"5\",\"0\",\"PrimaryOnly\",,,\"False\",\"T\",\"EveryTick\")","v":1692.14},-2.4817991570134754E-3,{"$f":"RTD(\"cqg.rtd\",,\"StudyData\", \"Close(\"&$D$12&\") when LocalYear(\"&$D$12&\")=\"&$D$10&\" and localMonth(\"&$D$12&\") =\"&$E$10&\" and LocalDay(\"&$D$12&\")=\"&$F$10&\" and Barix(\"&$D$12&\",reference:=StartOfSession)=\"&A72&\"\", \"Bar\", \"\", \"Close\",\"5\",\"0\",\"PrimaryOnly\",,,\"False\",\"T\",\"EveryTick\")","v":1696.26},1.8609594840476324E-2,null,null,null,""]
[72,"14:30:00",-5,{"$f":" RTD(\"cqg.rtd\",,\"StudyData\", $D$12,  \"Tick\", \"FlatTicks=0\", \"Tick\",\"D\",C73,\"PrimaryOnly\")","v":1717.5},null,null,null,{"$f":"RTD(\"cqg.rtd\",,\"StudyData\", \"Close(\"&$D$12&\") when LocalYear(\"&$D$12&\")=\"&$D$1&\" and localMonth(\"&$D$12&\") =\"&$E$1&\" and LocalDay(\"&$D$12&\")=\"&$F$1&\" and Barix(\"&$D$12&\",reference:=StartOfSession)=\"&A73&\"\", \"Bar\", \"\", \"Close\",\"5\",\"0\",\"PrimaryOnly\",,,\"False\",\"T\",\"EveryTick\")","v":""},{"$error":"#N/A"},{"$f":"RTD(\"cqg.rtd\",,\"StudyData\", \"Close(\"&$D$12&\") when LocalYear(\"&$D$12&\")=\"&$D$2&\" and localMonth(\"&$D$12&\") =\"&$E$2&\" and LocalDay(\"&$D$12&\")=\"&$F$2&\" and Barix(\"&$D$12&\",reference:=StartOfSession)=\"&A73&\"\", \"Bar\", \"\", \"Close\",\"5\",\"0\",\"PrimaryOnly\",,,\"False\",\"T\",\"EveryTick\")","v":1715.78},-4.6871555694777576E-3,{"$f":"RTD(\"cqg.rtd\",,\"StudyData\", \"Close(\"&$D$12&\") when LocalYear(\"&$D$12&\")=\"&$D$3&\" and localMonth(\"&$D$12&\") =\"&$E$3&\" and LocalDay(\"&$D$12&\")=\"&$F$3&\" and Barix(\"&$D$12&\",reference:=StartOfSession)=\"&A73&\"\", \"Bar\", \"\", \"Close\",\"5\",\"0\",\"PrimaryOnly\",,,\"False\",\"T\",\"EveryTick\")","v":1721.23},9.6019614513802413E-3,{"$f":"RTD(\"cqg.rtd\",,\"StudyData\", \"Close(\"&$D$12&\") when LocalYear(\"&$D$12&\")=\"&$D$4&\" and localMonth(\"&$D$12&\") =\"&$E$4&\" and LocalDay(\"&$D$12&\")=\"&$F$4&\" and Barix(\"&$D$12&\",reference:=StartOfSession)=\"&A73&\"\", \"Bar\", \"\", \"Close\",\"5\",\"0\",\"PrimaryOnly\",,,\"False\",\"T\",\"EveryTick\")","v":1709.81},6.5106696100073261E-3,{"$f":"RTD(\"cqg.rtd\",,\"StudyData\", \"Close(\"&$D$12&\") when LocalYear(\"&$D$12&\")=\"&$D$5&\" and localMonth(\"&$D$12&\") =\"&$E$5&\" and LocalDay(\"&$D$12&\")=\"&$F$5&\" and Barix(\"&$D$12&\",reference:=StartOfSession)=\"&A73&\"\", \"Bar\", \"\", \"Close\",\"5\",\"0\",\"PrimaryOnly\",,,\"False\",\"T\",\"EveryTick\")","v":1695.81},3.9606422279056877E-3,{"$f":"RTD(\"cqg.rtd\",,\"StudyData\", \"Close(\"&$D$12&\") when LocalYear(\"&$D$12&\")=\"&$D$6&\" and localMonth(\"&$D$12&\") =\"&$E$6&\" and LocalDay(\"&$D$12&\")=\"&$F$6&\" and Barix(\"&$D$12&\",reference:=StartOfSession)=\"&A73&\"\", \"Bar\", \"\", \"Close\",\"5\",\"0\",\"PrimaryOnly\",,,\"False\",\"T\",\"EveryTick\")","v":1693.31},5.5344746702771013E-3,{"$f":"RTD(\"cqg.rtd\",,\"StudyData\", \"Close(\"&$D$12&\") when LocalYear(\"&$D$12&\")=\"&$D$7&\" and localMonth(\"&$D$12&\") =\"&$E$7&\" and LocalDay(\"&$D$12&\")=\"&$F$7&\" and Barix(\"&$D$12&\",reference:=StartOfSession)=\"&A73&\"\", \"Bar\", \"\", \"Close\",\"5\",\"0\",\"PrimaryOnly\",,,\"False\",\"T\",\"EveryTick\")","v":1682.82},-3.8359083644113057E-3,{"$f":"RTD(\"cqg.rtd\",,\"StudyData\", \"Close(\"&$D$12&\") when LocalYear(\"&$D$12&\")=\"&$D$8&\" and localMonth(\"&$D$12&\") =\"&$E$8&\" and LocalDay(\"&$D$12&\")=\"&$F$8&\" and Barix(\"&$D$12&\",reference:=StartOfSession)=\"&A73&\"\", \"Bar\", \"\", \"Close\",\"5\",\"0\",\"PrimaryOnly\",,,\"False\",\"T\",\"EveryTick\")","v":1689.49},-3.6915818959162559E-3,{"$f":"RTD(\"cqg.rtd\",,\"StudyData\", \"Close(\"&$D$12&\") when LocalYear(\"&$D$12&\")=\"&$D$9&\" and localMonth(\"&$D$12&\") =\"&$E$9&\" and LocalDay(\"&$D$12&\")=\"&$F$9&\" and Barix(\"&$D$12&\",reference:=StartOfSession)=\"&A73&\"\", \"Bar\", \"\", \"Close\",\"5\",\"0\",\"PrimaryOnly\",,,\"False\",\"T\",\"EveryTick\")","v":1690.68},-3.3424705986381618E-3,{"$f":"RTD(\"cqg.rtd\",,\"StudyData\", \"Close(\"&$D$12&\") when LocalYear(\"&$D$12&\")=\"&$D$10&\" and localMonth(\"&$D$12&\") =\"&$E$10&\" and LocalDay(\"&$D$12&\")=\"&$F$10&\" and Barix(\"&$D$12&\",reference:=StartOfSession)=\"&A73&\"\", \"Bar\", \"\", \"Close\",\"5\",\"0\",\"PrimaryOnly\",,,\"False\",\"T\",\"EveryTick\")","v":1694.65},1.7642784653539731E-2,null,null,null,""]
[73,"14:35:00",-4,{"$f":" RTD(\"cqg.rtd\",,\"StudyData\", $D$12,  \"Tick\", \"FlatTicks=0\", \"Tick\",\"D\",C74,\"PrimaryOnly\")","v":1717.64},null,null,null,{"$f":"RTD(\"cqg.rtd\",,\"StudyData\", \"Close(\"&$D$12&\") when LocalYear(\"&$D$12&\")=\"&$D$1&\" and localMonth(\"&$D$12&\") =\"&$E$1&\" and LocalDay(\"&$D$12&\")=\"&$F$1&\" and Barix(\"&$D$12&\",reference:=StartOfSession)=\"&A74&\"\", \"Bar\", \"\", \"Close\",\"5\",\"0\",\"PrimaryOnly\",,,\"False\",\"T\",\"EveryTick\")","v":""},{"$error":"#N/A"},{"$f":"RTD(\"cqg.rtd\",,\"StudyData\", \"Close(\"&$D$12&\") when LocalYear(\"&$D$12&\")=\"&$D$2&\" and localMonth(\"&$D$12&\") =\"&$E$2&\" and LocalDay(\"&$D$12&\")=\"&$F$2&\" and Barix(\"&$D$12&\",reference:=StartOfSession)=\"&A74&\"\", \"Bar\", \"\", \"Close\",\"5\",\"0\",\"PrimaryOnly\",,,\"False\",\"T\",\"EveryTick\")","v":1714.86},-5.2208415996658668E-3,{"$f":"RTD(\"cqg.rtd\",,\"StudyData\", \"Close(\"&$D$12&\") when LocalYear(\"&$D$12&\")=\"&$D$3&\" and localMonth(\"&$D$12&\") =\"&$E$3&\" and LocalDay(\"&$D$12&\")=\"&$F$3&\" and Barix(\"&$D$12&\",reference:=StartOfSession)=\"&A74&\"\", \"Bar\", \"\", \"Close\",\"5\",\"0\",\"PrimaryOnly\",,,\"False\",\"T\",\"EveryTick\")","v":1721.32},9.6547517098178361E-3,{"$f":"RTD(\"cqg.rtd\",,\"StudyData\", \"Close(\"&$D$12&\") when LocalYear(\"&$D$12&\")=\"&$D$4&\" and localMonth(\"&$D$12&\") =\"&$E$4&\" and LocalDay(\"&$D$12&\")=\"&$F$4&\" and Barix(\"&$D$12&\",reference:=StartOfSession)=\"&A74&\"\", \"Bar\", \"\", \"Close\",\"5\",\"0\",\"PrimaryOnly\",,,\"False\",\"T\",\"EveryTick\")","v":1706.72},4.6916850625460058E-3,{"$f":"RTD(\"cqg.rtd\",,\"StudyData\", \"Close(\"&$D$12&\") when LocalYear(\"&$D$12&\")=\"&$D$5&\" and localMonth(\"&$D$12&\") =\"&$E$5&\" and LocalDay(\"&$D$12&\")=\"&$F$5&\" and Barix(\"&$D$12&\",reference:=StartOfSession)=\"&A74&\"\", \"Bar\", \"\", \"Close\",\"5\",\"0\",\"PrimaryOnly\",,,\"False\",\"T\",\"EveryTick\")","v":1694.77},3.3449370086199273E-3,{"$f":"RTD(\"cqg.rtd\",,\"StudyData\", \"Close(\"&$D$12&\") when LocalYear(\"&$D$12&\")=\"&$D$6&\" and localMonth(\"&$D$12&\") =\"&$E$6&\" and LocalDay(\"&$D$12&\")=\"&$F$6&\" and Barix(\"&$D$12&\",reference:=StartOfSession)=\"&A74&\"\", \"Bar\", \"\", \"Close\",\"5\",\"0\",\"PrimaryOnly\",,,\"False\",\"T\",\"EveryTick\")","v":1692},4.7565603121158626E-3,{"$f":"RTD(\"cqg.rtd\",,\"StudyData\", \"Close(\"&$D$12&\") when LocalYear(\"&$D$12&\")=\"&$D$7&\" and localMonth(\"&$D$12&\") =\"&$E$7&\" and LocalDay(\"&$D$12&\")=\"&$F$7&\" and Barix(\"&$D$12&\",reference:=StartOfSession)=\"&A74&\"\", \"Bar\", \"\", \"Close\",\"5\",\"0\",\"PrimaryOnly\",,,\"False\",\"T\",\"EveryTick\")","v":1683.3},-3.5517670040845321E-3,{"$f":"RTD(\"cqg.rtd\",,\"StudyData\", \"Close(\"&$D$12&\") when LocalYear(\"&$D$12&\")=\"&$D$8&\" and localMonth(\"&$D$12&\") =\"&$E$8&\" and LocalDay(\"&$D$12&\")=\"&$F$8&\" and Barix(\"&$D$12&\",reference:=StartOfSession)=\"&A74&\"\", \"Bar\", \"\", \"Close\",\"5\",\"0\",\"PrimaryOnly\",,,\"False\",\"T\",\"EveryTick\")","v":1690.44},-3.1313578062803749E-3,{"$f":"RTD(\"cqg.rtd\",,\"StudyData\", \"Close(\"&$D$12&\") when LocalYear(\"&$D$12&\")=\"&$D$9&\" and localMonth(\"&$D$12&\") =\"&$E$9&\" and LocalDay(\"&$D$12&\")=\"&$F$9&\" and Barix(\"&$D$12&\",reference:=StartOfSession)=\"&A74&\"\", \"Bar\", \"\", \"Close\",\"5\",\"0\",\"PrimaryOnly\",,,\"False\",\"T\",\"EveryTick\")","v":1690.7},-3.3306805788898895E-3,{"$f":"RTD(\"cqg.rtd\",,\"StudyData\", \"Close(\"&$D$12&\") when LocalYear(\"&$D$12&\")=\"&$D$10&\" and localMonth(\"&$D$12&\") =\"&$E$10&\" and LocalDay(\"&$D$12&\")=\"&$F$10&\" and Barix(\"&$D$12&\",reference:=StartOfSession)=\"&A74&\"\", \"Bar\", \"\", \"Close\",\"5\",\"0\",\"PrimaryOnly\",,,\"False\",\"T\",\"EveryTick\")","v":1694.79},1.7726855104577624E-2,null,null,null,""]
[74,"14:40:00",-3,{"$f":" RTD(\"cqg.rtd\",,\"StudyData\", $D$12,  \"Tick\", \"FlatTicks=0\", \"Tick\",\"D\",C75,\"PrimaryOnly\")","v":1717.61},null,null,null,{"$f":"RTD(\"cqg.rtd\",,\"StudyData\", \"Close(\"&$D$12&\") when LocalYear(\"&$D$12&\")=\"&$D$1&\" and localMonth(\"&$D$12&\") =\"&$E$1&\" and LocalDay(\"&$D$12&\")=\"&$F$1&\" and Barix(\"&$D$12&\",reference:=StartOfSession)=\"&A75&\"\", \"Bar\", \"\", \"Close\",\"5\",\"0\",\"PrimaryOnly\",,,\"False\",\"T\",\"EveryTick\")","v":""},{"$error":"#N/A"},{"$f":"RTD(\"cqg.rtd\",,\"StudyData\", \"Close(\"&$D$12&\") when LocalYear(\"&$D$12&\")=\"&$D$2&\" and localMonth(\"&$D$12&\") =\"&$E$2&\" and LocalDay(\"&$D$12&\")=\"&$F$2&\" and Barix(\"&$D$12&\",reference:=StartOfSession)=\"&A75&\"\", \"Bar\", \"\", \"Close\",\"5\",\"0\",\"PrimaryOnly\",,,\"False\",\"T\",\"EveryTick\")","v":1713.5},-6.0097687747264284E-3,{"$f":"RTD(\"cqg.rtd\",,\"StudyData\", \"Close(\"&$D$12&\") when LocalYear(\"&$D$12&\")=\"&$D$3&\" and localMonth(\"&$D$12&\") =\"&$E$3&\" and LocalDay(\"&$D$12&\")=\"&$F$3&\" and Barix(\"&$D$12&\",reference:=StartOfSession)=\"&A75&\"\", \"Bar\", \"\", \"Close\",\"5\",\"0\",\"PrimaryOnly\",,,\"False\",\"T\",\"EveryTick\")","v":1722.71},1.0470067923465937E-2,{"$f":"RTD(\"cqg.rtd\",,\"StudyData\", \"Close(\"&$D$12&\") when LocalYear(\"&$D$12&\")=\"&$D$4&\" and localMonth(\"&$D$12&\") =\"&$E$4&\" and LocalDay(\"&$D$12&\")=\"&$F$4&\" and Barix(\"&$D$12&\",reference:=StartOfSession)=\"&A75&\"\", \"Bar\", \"\", \"Close\",\"5\",\"0\",\"PrimaryOnly\",,,\"False\",\"T\",\"EveryTick\")","v":1708.14},5.5275938189846066E-3,{"$f":"RTD(\"cqg.rtd\",,\"StudyData\", \"Close(\"&$D$12&\") when LocalYear(\"&$D$12&\")=\"&$D$5&\" and localMonth(\"&$D$12&\") =\"&$E$5&\" and LocalDay(\"&$D$12&\")=\"&$F$5&\" and Barix(\"&$D$12&\",reference:=StartOfSession)=\"&A75&\"\", \"Bar\", \"\", \"Close\",\"5\",\"0\",\"PrimaryOnly\",,,\"False\",\"T\",\"EveryTick\")","v":1694.56},3.2206119162641227E-3,{"$f":"RTD(\"cqg.rtd\",,\"StudyData\", \"Close(\"&$D$12&\") when LocalYear(\"&$D$12&\")=\"&$D$6&\" and localMonth(\"&$D$12&\") =\"&$E$6&\" and LocalDay(\"&$D$12&\")=\"&$F$6&\" and Barix(\"&$D$12&\",reference:=StartOfSession)=\"&A75&\"\", \"Bar\", \"\", \"Close\",\"5\",\"0\",\"PrimaryOnly\",,,\"False\",\"T\",\"EveryTick\")","v":1692.44},5.0178445240173907E-3,{"$f":"RTD(\"cqg.rtd\",,\"StudyData\", \"Close(\"&$D$12&\") when LocalYear(\"&$D$12&\")=\"&$D$7&\" and localMonth(\"&$D$12&\") =\"&$E$7&\" and LocalDay(\"&$D$12&\")=\"&$F$7&\" and Barix(\"&$D$12&\",reference:=StartOfSession)=\"&A75&\"\", \"Bar\", \"\", \"Close\",\"5\",\"0\",\"PrimaryOnly\",,,\"False\",\"T\",\"EveryTick\")","v":1683.26},-3.5754454507784077E-3,{"$f":"RTD(\"cqg.rtd\",,\"StudyData\", \"Close(\"&$D$12&\") when LocalYear(\"&$D$12&\")=\"&$D$8&\" and localMonth(\"&$D$12&\") =\"&$E$8&\" and LocalDay(\"&$D$12&\")=\"&$F$8&\" and Barix(\"&$D$12&\",reference:=StartOfSession)=\"&A75&\"\", \"Bar\", \"\", \"Close\",\"5\",\"0\",\"PrimaryOnly\",,,\"False\",\"T\",\"EveryTick\")","v":1690.46},-3.1195636149196305E-3,{"$f":"RTD(\"cqg.rtd\",,\"StudyData\", \"Close(\"&$D$12&\") when LocalYear(\"&$D$12&\")=\"&$D$9&\" and localMonth(\"&$D$12&\") =\"&$E$9&\" and LocalDay(\"&$D$12&\")=\"&$F$9&\" and Barix(\"&$D$12&\",reference:=StartOfSession)=\"&A75&\"\", \"Bar\", \"\", \"Close\",\"5\",\"0\",\"PrimaryOnly\",,,\"False\",\"T\",\"EveryTick\")","v":1691.35},-2.9475049370707696E-3,{"$f":"RTD(\"cqg.rtd\",,\"StudyData\", \"Close(\"&$D$12&\") when LocalYear(\"&$D$12&\")=\"&$D$10&\" and localMonth(\"&$D$12&\") =\"&$E$10&\" and LocalDay(\"&$D$12&\")=\"&$F$10&\" and Barix(\"&$D$12&\",reference:=StartOfSession)=\"&A75&\"\", \"Bar\", \"\", \"Close\",\"5\",\"0\",\"PrimaryOnly\",,,\"False\",\"T\",\"EveryTick\")","v":1693.53},1.6970221045235902E-2,null,null,null,""]
[75,"14:45:00",-2,{"$f":" RTD(\"cqg.rtd\",,\"StudyData\", $D$12,  \"Tick\", \"FlatTicks=0\", \"Tick\",\"D\",C76,\"PrimaryOnly\")","v":1718},null,null,null,{"$f":"RTD(\"cqg.rtd\",,\"StudyData\", \"Close(\"&$D$12&\") when LocalYear(\"&$D$12&\")=\"&$D$1&\" and localMonth(\"&$D$12&\") =\"&$E$1&\" and LocalDay(\"&$D$12&\")=\"&$F$1&\" and Barix(\"&$D$12&\",reference:=StartOfSession)=\"&A76&\"\", \"Bar\", \"\", \"Close\",\"5\",\"0\",\"PrimaryOnly\",,,\"False\",\"T\",\"EveryTick\")","v":""},{"$error":"#N/A"},{"$f":"RTD(\"cqg.rtd\",,\"StudyData\", \"Close(\"&$D$12&\") when LocalYear(\"&$D$12&\")=\"&$D$2&\" and localMonth(\"&$D$12&\") =\"&$E$2&\" and LocalDay(\"&$D$12&\")=\"&$F$2&\" and Barix(\"&$D$12&\",reference:=StartOfSession)=\"&A76&\"\", \"Bar\", \"\", \"Close\",\"5\",\"0\",\"PrimaryOnly\",,,\"False\",\"T\",\"EveryTick\")","v":1714.89},-5.2034387943335307E-3,{"$f":"RTD(\"cqg.rtd\",,\"StudyData\", \"Close(\"&$D$12&\") when LocalYear(\"&$D$12&\")=\"&$D$3&\" and localMonth(\"&$D$12&\") =\"&$E$3&\" and LocalDay(\"&$D$12&\")=\"&$F$3&\" and Barix(\"&$D$12&\",reference:=StartOfSession)=\"&A76&\"\", \"Bar\", \"\", \"Close\",\"5\",\"0\",\"PrimaryOnly\",,,\"False\",\"T\",\"EveryTick\")","v":1724.12},1.1297115305655591E-2,{"$f":"RTD(\"cqg.rtd\",,\"StudyData\", \"Close(\"&$D$12&\") when LocalYear(\"&$D$12&\")=\"&$D$4&\" and localMonth(\"&$D$12&\") =\"&$E$4&\" and LocalDay(\"&$D$12&\")=\"&$F$4&\" and Barix(\"&$D$12&\",reference:=StartOfSession)=\"&A76&\"\", \"Bar\", \"\", \"Close\",\"5\",\"0\",\"PrimaryOnly\",,,\"False\",\"T\",\"EveryTick\")","v":1705.23},3.8145695364238518E-3,{"$f":"RTD(\"cqg.rtd\",,\"StudyData\", \"Close(\"&$D$12&\") when LocalYear(\"&$D$12&\")=\"&$D$5&\" and localMonth(\"&$D$12&\") =\"&$E$5&\" and LocalDay(\"&$D$12&\")=\"&$F$5&\" and Barix(\"&$D$12&\",reference:=StartOfSession)=\"&A76&\"\", \"Bar\", \"\", \"Close\",\"5\",\"0\",\"PrimaryOnly\",,,\"False\",\"T\",\"EveryTick\")","v":1695.69},3.8895993179881619E-3,{"$f":"RTD(\"cqg.rtd\",,\"StudyData\", \"Close(\"&$D$12&\") when LocalYear(\"&$D$12&\")=\"&$D$6&\" and localMonth(\"&$D$12&\") =\"&$E$6&\" and LocalDay(\"&$D$12&\")=\"&$F$6&\" and Barix(\"&$D$12&\",reference:=StartOfSession)=\"&A76&\"\", \"Bar\", \"\", \"Close\",\"5\",\"0\",\"PrimaryOnly\",,,\"False\",\"T\",\"EveryTick\")","v":1692.74},5.1959928503138375E-3,{"$f":"RTD(\"cqg.rtd\",,\"StudyData\", \"Close(\"&$D$12&\") when LocalYear(\"&$D$12&\")=\"&$D$7&\" and localMonth(\"&$D$12&\") =\"&$E$7&\" and LocalDay(\"&$D$12&\")=\"&$F$7&\" and Barix(\"&$D$12&\",reference:=StartOfSession)=\"&A76&\"\", \"Bar\", \"\", \"Close\",\"5\",\"0\",\"PrimaryOnly\",,,\"False\",\"T\",\"EveryTick\")","v":1683.5},-3.4333747706150209E-3,{"$f":"RTD(\"cqg.rtd\",,\"StudyData\", \"Close(\"&$D$12&\") when LocalYear(\"&$D$12&\")=\"&$D$8&\" and localMonth(\"&$D$12&\") =\"&$E$8&\" and LocalDay(\"&$D$12&\")=\"&$F$8&\" and Barix(\"&$D$12&\",reference:=StartOfSession)=\"&A76&\"\", \"Bar\", \"\", \"Close\",\"5\",\"0\",\"PrimaryOnly\",,,\"False\",\"T\",\"EveryTick\")","v":1688.74},-4.1338640719445615E-3,{"$f":"RTD(\"cqg.rtd\",,\"StudyData\", \"Close(\"&$D$12&\") when LocalYear(\"&$D$12&\")=\"&$D$9&\" and localMonth(\"&$D$12&\") =\"&$E$9&\" and LocalDay(\"&$D$12&\")=\"&$F$9&\" and Barix(\"&$D$12&\",reference:=StartOfSession)=\"&A76&\"\", \"Bar\", \"\", \"Close\",\"5\",\"0\",\"PrimaryOnly\",,,\"False\",\"T\",\"EveryTick\")","v":1692.21},-2.4405340878945222E-3,{"$f":"RTD(\"cqg.rtd\",,\"StudyData\", \"Close(\"&$D$12&\") when LocalYear(\"&$D$12&\")=\"&$D$10&\" and localMonth(\"&$D$12&\") =\"&$E$10&\" and LocalDay(\"&$D$12&\")=\"&$F$10&\" and Barix(\"&$D$12&\",reference:=StartOfSession)=\"&A76&\"\", \"Bar\", \"\", \"Close\",\"5\",\"0\",\"PrimaryOnly\",,,\"False\",\"T\",\"EveryTick\")","v":1696.51},1.8759720645901271E-2,null,null,null,""]
[76,"14:50:00",-1,{"$f":" RTD(\"cqg.rtd\",,\"StudyData\", $D$12,  \"Tick\", \"FlatTicks=0\", \"Tick\",\"D\",C77,\"PrimaryOnly\")","v":1718.21},null,null,null,{"$f":"RTD(\"cqg.rtd\",,\"StudyData\", \"Close(\"&$D$12&\") when LocalYear(\"&$D$12&\")=\"&$D$1&\" and localMonth(\"&$D$12&\") =\"&$E$1&\" and LocalDay(\"&$D$12&\")=\"&$F$1&\" and Barix(\"&$D$12&\",reference:=StartOfSession)=\"&A77&\"\", \"Bar\", \"\", \"Close\",\"5\",\"0\",\"PrimaryOnly\",,,\"False\",\"T\",\"EveryTick\")","v":""},{"$error":"#N/A"},{"$f":"RTD(\"cqg.rtd\",,\"StudyData\", \"Close(\"&$D$12&\") when LocalYear(\"&$D$12&\")=\"&$D$2&\" and localMonth(\"&$D$12&\") =\"&$E$2&\" and LocalDay(\"&$D$12&\")=\"&$F$2&\" and Barix(\"&$D$12&\",reference:=StartOfSession)=\"&A77&\"\", \"Bar\", \"\", \"Close\",\"5\",\"0\",\"PrimaryOnly\",,,\"False\",\"T\",\"EveryTick\")","v":1715.24},-5.0004060654576885E-3,{"$f":"RTD(\"cqg.rtd\",,\"StudyData\", \"Close(\"&$D$12&\") when LocalYear(\"&$D$12&\")=\"&$D$3&\" and localMonth(\"&$D$12&\") =\"&$E$3&\" and LocalDay(\"&$D$12&\")=\"&$F$3&\" and Barix(\"&$D$12&\",reference:=StartOfSession)=\"&A77&\"\", \"Bar\", \"\", \"Close\",\"5\",\"0\",\"PrimaryOnly\",,,\"False\",\"T\",\"EveryTick\")","v":1723.27},1.0798540642633461E-2,{"$f":"RTD(\"cqg.rtd\",,\"StudyData\", \"Close(\"&$D$12&\") when LocalYear(\"&$D$12&\")=\"&$D$4&\" and localMonth(\"&$D$12&\") =\"&$E$4&\" and LocalDay(\"&$D$12&\")=\"&$F$4&\" and Barix(\"&$D$12&\",reference:=StartOfSession)=\"&A77&\"\", \"Bar\", \"\", \"Close\",\"5\",\"0\",\"PrimaryOnly\",,,\"False\",\"T\",\"EveryTick\")","v":1706.38},4.49153789551147E-3,{"$f":"RTD(\"cqg.rtd\",,\"StudyData\", \"Close(\"&$D$12&\") when LocalYear(\"&$D$12&\")=\"&$D$5&\" and localMonth(\"&$D$12&\") =\"&$E$5&\" and LocalDay(\"&$D$12&\")=\"&$F$5&\" and Barix(\"&$D$12&\",reference:=StartOfSession)=\"&A77&\"\", \"Bar\", \"\", \"Close\",\"5\",\"0\",\"PrimaryOnly\",,,\"False\",\"T\",\"EveryTick\")","v":1697.27},4.8249976319030569E-3,{"$f":"RTD(\"cqg.rtd\",,\"StudyData\", \"Close(\"&$D$12&\") when LocalYear(\"&$D$12&\")=\"&$D$6&\" and localMonth(\"&$D$12&\") =\"&$E$6&\" and LocalDay(\"&$D$12&\")=\"&$F$6&\" and Barix(\"&$D$12&\",reference:=StartOfSession)=\"&A77&\"\", \"Bar\", \"\", \"Close\",\"5\",\"0\",\"PrimaryOnly\",,,\"False\",\"T\",\"EveryTick\")","v":1690.62},3.9370780111520152E-3,{"$f":"RTD(\"cqg.rtd\",,\"StudyData\", \"Close(\"&$D$12&\") when LocalYear(\"&$D$12&\")=\"&$D$7&\" and localMonth(\"&$D$12&\") =\"&$E$7&\" and LocalDay(\"&$D$12&\")=\"&$F$7&\" and Barix(\"&$D$12&\",reference:=StartOfSession)=\"&A77&\"\", \"Bar\", \"\", \"Close\",\"5\",\"0\",\"PrimaryOnly\",,,\"False\",\"T\",\"EveryTick\")","v":1684.16},-3.0426804001656739E-3,{"$f":"RTD(\"cqg.rtd\",,\"StudyData\", \"Close(\"&$D$12&\") when LocalYear(\"&$D$12&\")=\"&$D$8&\" and localMonth(\"&$D$12&\") =\"&$E$8&\" and LocalDay(\"&$D$12&\")=\"&$F$8&\" and Barix(\"&$D$12&\",reference:=StartOfSession)=\"&A77&\"\", \"Bar\", \"\", \"Close\",\"5\",\"0\",\"PrimaryOnly\",,,\"False\",\"T\",\"EveryTick\")","v":1689.84},-3.4851835471031E-3,{"$f":"RTD(\"cqg.rtd\",,\"StudyData\", \"Close(\"&$D$12&\") when LocalYear(\"&$D$12&\")=\"&$D$9&\" and localMonth(\"&$D$12&\") =\"&$E$9&\" and LocalDay(\"&$D$12&\")=\"&$F$9&\" and Barix(\"&$D$12&\",reference:=StartOfSession)=\"&A77&\"\", \"Bar\", \"\", \"Close\",\"5\",\"0\",\"PrimaryOnly\",,,\"False\",\"T\",\"EveryTick\")","v":1695.68},-3.9496566156739201E-4,{"$f":"RTD(\"cqg.rtd\",,\"StudyData\", \"Close(\"&$D$12&\") when LocalYear(\"&$D$12&\")=\"&$D$10&\" and localMonth(\"&$D$12&\") =\"&$E$10&\" and LocalDay(\"&$D$12&\")=\"&$F$10&\" and Barix(\"&$D$12&\",reference:=StartOfSession)=\"&A77&\"\", \"Bar\", \"\", \"Close\",\"5\",\"0\",\"PrimaryOnly\",,,\"False\",\"T\",\"EveryTick\")","v":1695.95},1.8423438841749424E-2,null,null,null,""]
[77,"14:55:00",0,{"$f":" RTD(\"cqg.rtd\",,\"StudyData\", $D$12,  \"Tick\", \"FlatTicks=0\", \"Tick\",\"D\",C78,\"PrimaryOnly\")","v":1718.03},null,null,null,{"$f":"RTD(\"cqg.rtd\",,\"StudyData\", \"Close(\"&$D$12&\") when LocalYear(\"&$D$12&\")=\"&$D$1&\" and localMonth(\"&$D$12&\") =\"&$E$1&\" and LocalDay(\"&$D$12&\")=\"&$F$1&\" and Barix(\"&$D$12&\",reference:=StartOfSession)=\"&A78&\"\", \"Bar\", \"\", \"Close\",\"5\",\"0\",\"PrimaryOnly\",,,\"False\",\"T\",\"EveryTick\")","v":""},{"$error":"#N/A"},{"$f":"RTD(\"cqg.rtd\",,\"StudyData\", \"Close(\"&$D$12&\") when LocalYear(\"&$D$12&\")=\"&$D$2&\" and localMonth(\"&$D$12&\") =\"&$E$2&\" and LocalDay(\"&$D$12&\")=\"&$F$2&\" and Barix(\"&$D$12&\",reference:=StartOfSession)=\"&A78&\"\", \"Bar\", \"\", \"Close\",\"5\",\"0\",\"PrimaryOnly\",,,\"False\",\"T\",\"EveryTick\")","v":1715.97},-4.5769378023736689E-3,{"$f":"RTD(\"cqg.rtd\",,\"StudyData\", \"Close(\"&$D$12&\") when LocalYear(\"&$D$12&\")=\"&$D$3&\" and localMonth(\"&$D$12&\") =\"&$E$3&\" and LocalDay(\"&$D$12&\")=\"&$F$3&\" and Barix(\"&$D$12&\",reference:=StartOfSession)=\"&A78&\"\", \"Bar\", \"\", \"Close\",\"5\",\"0\",\"PrimaryOnly\",,,\"False\",\"T\",\"EveryTick\")","v":1723.86},1.1144610114613518E-2,{"$f":"RTD(\"cqg.rtd\",,\"StudyData\", \"Close(\"&$D$12&\") when LocalYear(\"&$D$12&\")=\"&$D$4&\" and localMonth(\"&$D$12&\") =\"&$E$4&\" and LocalDay(\"&$D$12&\")=\"&$F$4&\" and Barix(\"&$D$12&\",reference:=StartOfSession)=\"&A78&\"\", \"Bar\", \"\", \"Close\",\"5\",\"0\",\"PrimaryOnly\",,,\"False\",\"T\",\"EveryTick\")","v":1704.86},3.5967623252390877E-3,{"$f":"RTD(\"cqg.rtd\",,\"StudyData\", \"Close(\"&$D$12&\") when LocalYear(\"&$D$12&\")=\"&$D$5&\" and localMonth(\"&$D$12&\") =\"&$E$5&\" and LocalDay(\"&$D$12&\")=\"&$F$5&\" and Barix(\"&$D$12&\",reference:=StartOfSession)=\"&A78&\"\", \"Bar\", \"\", \"Close\",\"5\",\"0\",\"PrimaryOnly\",,,\"False\",\"T\",\"EveryTick\")","v":1698.75},5.7011935208866804E-3,{"$f":"RTD(\"cqg.rtd\",,\"StudyData\", \"Close(\"&$D$12&\") when LocalYear(\"&$D$12&\")=\"&$D$6&\" and localMonth(\"&$D$12&\") =\"&$E$6&\" and LocalDay(\"&$D$12&\")=\"&$F$6&\" and Barix(\"&$D$12&\",reference:=StartOfSession)=\"&A78&\"\", \"Bar\", \"\", \"Close\",\"5\",\"0\",\"PrimaryOnly\",,,\"False\",\"T\",\"EveryTick\")","v":1689.12},3.0463363796696427E-3,{"$f":"RTD(\"cqg.rtd\",,\"StudyData\", \"Close(\"&$D$12&\") when LocalYear(\"&$D$12&\")=\"&$D$7&\" and localMonth(\"&$D$12&\") =\"&$E$7&\" and LocalDay(\"&$D$12&\")=\"&$F$7&\" and Barix(\"&$D$12&\",reference:=StartOfSession)=\"&A78&\"\", \"Bar\", \"\", \"Close\",\"5\",\"0\",\"PrimaryOnly\",,,\"False\",\"T\",\"EveryTick\")","v":1683.99},-3.1433137986147785E-3,{"$f":"RTD(\"cqg.rtd\",,\"StudyData\", \"Close(\"&$D$12&\") when LocalYear(\"&$D$12&\")=\"&$D$8&\" and localMonth(\"&$D$12&\") =\"&$E$8&\" and LocalDay(\"&$D$12&\")=\"&$F$8&\" and Barix(\"&$D$12&\",reference:=StartOfSession)=\"&A78&\"\", \"Bar\", \"\", \"Close\",\"5\",\"0\",\"PrimaryOnly\",,,\"False\",\"T\",\"EveryTick\")","v":1689.3},-3.8036267138434588E-3,{"$f":"RTD(\"cqg.rtd\",,\"StudyData\", \"Close(\"&$D$12&\") when LocalYear(\"&$D$12&\")=\"&$D$9&\" and localMonth(\"&$D$12&\") =\"&$E$9&\" and LocalDay(\"&$D$12&\")=\"&$F$9&\" and Barix(\"&$D$12&\",reference:=StartOfSession)=\"&A78&\"\", \"Bar\", \"\", \"Close\",\"5\",\"0\",\"PrimaryOnly\",,,\"False\",\"T\",\"EveryTick\")","v":1695.75},-3.5370059244843876E-4,{"$f":"RTD(\"cqg.rtd\",,\"StudyData\", \"Close(\"&$D$12&\") when LocalYear(\"&$D$12&\")=\"&$D$10&\" and localMonth(\"&$D$12&\") =\"&$E$10&\" and LocalDay(\"&$D$12&\")=\"&$F$10&\" and Barix(\"&$D$12&\",reference:=StartOfSession)=\"&A78&\"\", \"Bar\", \"\", \"Close\",\"5\",\"0\",\"PrimaryOnly\",,,\"False\",\"T\",\"EveryTick\")","v":1696.35},1.8663640130429256E-2,null,null,null,""]
[78,"15:00:00",null,null,null,null,null,{"$f":"RTD(\"cqg.rtd\",,\"StudyData\", \"Close(\"&$D$12&\") when LocalYear(\"&$D$12&\")=\"&$D$1&\" and localMonth(\"&$D$12&\") =\"&$E$1&\" and LocalDay(\"&$D$12&\")=\"&$F$1&\" and Barix(\"&$D$12&\",reference:=StartOfSession)=\"&A79&\"\", \"Bar\", \"\", \"Close\",\"5\",\"0\",\"PrimaryOnly\",,,\"False\",\"T\",\"EveryTick\")","v":""},{"$error":"#N/A"},{"$f":"RTD(\"cqg.rtd\",,\"StudyData\", \"Close(\"&$D$12&\") when LocalYear(\"&$D$12&\")=\"&$D$2&\" and localMonth(\"&$D$12&\") =\"&$E$2&\" and LocalDay(\"&$D$12&\")=\"&$F$2&\" and Barix(\"&$D$12&\",reference:=StartOfSession)=\"&A79&\"\", \"Bar\", \"\", \"Close\",\"5\",\"0\",\"PrimaryOnly\",,,\"False\",\"T\",\"EveryTick\")","v":""},{"$error":"#N/A"},{"$f":"RTD(\"cqg.rtd\",,\"StudyData\", \"Close(\"&$D$12&\") when LocalYear(\"&$D$12&\")=\"&$D$3&\" and localMonth(\"&$D$12&\") =\"&$E$3&\" and LocalDay(\"&$D$12&\")=\"&$F$3&\" and Barix(\"&$D$12&\",reference:=StartOfSession)=\"&A79&\"\", \"Bar\", \"\", \"Close\",\"5\",\"0\",\"PrimaryOnly\",,,\"False\",\"T\",\"EveryTick\")","v":""},{"$error":"#N/A"},{"$f":"RTD(\"cqg.rtd\",,\"StudyData\", \"Close(\"&$D$12&\") when LocalYear(\"&$D$12&\")=\"&$D$4&\" and localMonth(\"&$D$12&\") =\"&$E$4&\" and LocalDay(\"&$D$12&\")=\"&$F$4&\" and Barix(\"&$D$12&\",reference:=StartOfSession)=\"&A79&\"\", \"Bar\", \"\", \"Close\",\"5\",\"0\",\"PrimaryOnly\",,,\"False\",\"T\",\"EveryTick\")","v":""},{"$error":"#N/A"},{"$f":"RTD(\"cqg.rtd\",,\"StudyData\", \"Close(\"&$D$12&\") when LocalYear(\"&$D$12&\")=\"&$D$5&\" and localMonth(\"&$D$12&\") =\"&$E$5&\" and LocalDay(\"&$D$12&\")=\"&$F$5&\" and Barix(\"&$D$12&\",reference:=StartOfSession)=\"&A79&\"\", \"Bar\", \"\", \"Close\",\"5\",\"0\",\"PrimaryOnly\",,,\"False\",\"T\",\"EveryTick\")","v":""},{"$error":"#N/A"},{"$f":"RTD(\"cqg.rtd\",,\"StudyData\", \"Close(\"&$D$12&\") when LocalYear(\"&$D$12&\")=\"&$D$6&\" and localMonth(\"&$D$12&\") =\"&$E$6&\" and LocalDay(\"&$D$12&\")=\"&$F$6&\" and Barix(\"&$D$12&\",reference:=StartOfSession)=\"&A79&\"\", \"Bar\", \"\", \"Close\",\"5\",\"0\",\"PrimaryOnly\",,,\"False\",\"T\",\"EveryTick\")","v":""},{"$error":"#N/A"},{"$f":"RTD(\"cqg.rtd\",,\"StudyData\", \"Close(\"&$D$12&\") when LocalYear(\"&$D$12&\")=\"&$D$7&\" and localMonth(\"&$D$12&\") =\"&$E$7&\" and LocalDay(\"&$D$12&\")=\"&$F$7&\" and Barix(\"&$D$12&\",reference:=StartOfSession)=\"&A79&\"\", \"Bar\", \"\", \"Close\",\"5\",\"0\",\"PrimaryOnly\",,,\"False\",\"T\",\"EveryTick\")","v":""},{"$error":"#N/A"},{"$f":"RTD(\"cqg.rtd\",,\"StudyData\", \"Close(\"&$D$12&\") when LocalYear(\"&$D$12&\")=\"&$D$8&\" and localMonth(\"&$D$12&\") =\"&$E$8&\" and LocalDay(\"&$D$12&\")=\"&$F$8&\" and Barix(\"&$D$12&\",reference:=StartOfSession)=\"&A79&\"\", \"Bar\", \"\", \"Close\",\"5\",\"0\",\"PrimaryOnly\",,,\"False\",\"T\",\"EveryTick\")","v":""},{"$error":"#N/A"},{"$f":"RTD(\"cqg.rtd\",,\"StudyData\", \"Close(\"&$D$12&\") when LocalYear(\"&$D$12&\")=\"&$D$9&\" and localMonth(\"&$D$12&\") =\"&$E$9&\" and LocalDay(\"&$D$12&\")=\"&$F$9&\" and Barix(\"&$D$12&\",reference:=StartOfSession)=\"&A79&\"\", \"Bar\", \"\", \"Close\",\"5\",\"0\",\"PrimaryOnly\",,,\"False\",\"T\",\"EveryTick\")","v":""},{"$error":"#N/A"},{"$f":"RTD(\"cqg.rtd\",,\"StudyData\", \"Close(\"&$D$12&\") when LocalYear(\"&$D$12&\")=\"&$D$10&\" and localMonth(\"&$D$12&\") =\"&$E$10&\" and LocalDay(\"&$D$12&\")=\"&$F$10&\" and Barix(\"&$D$12&\",reference:=StartOfSession)=\"&A79&\"\", \"Bar\", \"\", \"Close\",\"5\",\"0\",\"PrimaryOnly\",,,\"False\",\"T\",\"EveryTick\")","v":""},{"$error":"#N/A"},null,null,null,""]
[79,"15:05:00",null,null,null,null,null,{"$f":"RTD(\"cqg.rtd\",,\"StudyData\", \"Close(\"&$D$12&\") when LocalYear(\"&$D$12&\")=\"&$D$1&\" and localMonth(\"&$D$12&\") =\"&$E$1&\" and LocalDay(\"&$D$12&\")=\"&$F$1&\" and Barix(\"&$D$12&\",reference:=StartOfSession)=\"&A80&\"\", \"Bar\", \"\", \"Close\",\"5\",\"0\",\"PrimaryOnly\",,,\"False\",\"T\",\"EveryTick\")","v":""},{"$error":"#N/A"},{"$f":"RTD(\"cqg.rtd\",,\"StudyData\", \"Close(\"&$D$12&\") when LocalYear(\"&$D$12&\")=\"&$D$2&\" and localMonth(\"&$D$12&\") =\"&$E$2&\" and LocalDay(\"&$D$12&\")=\"&$F$2&\" and Barix(\"&$D$12&\",reference:=StartOfSession)=\"&A80&\"\", \"Bar\", \"\", \"Close\",\"5\",\"0\",\"PrimaryOnly\",,,\"False\",\"T\",\"EveryTick\")","v":""},{"$error":"#N/A"},{"$f":"RTD(\"cqg.rtd\",,\"StudyData\", \"Close(\"&$D$12&\") when LocalYear(\"&$D$12&\")=\"&$D$3&\" and localMonth(\"&$D$12&\") =\"&$E$3&\" and LocalDay(\"&$D$12&\")=\"&$F$3&\" and Barix(\"&$D$12&\",reference:=StartOfSession)=\"&A80&\"\", \"Bar\", \"\", \"Close\",\"5\",\"0\",\"PrimaryOnly\",,,\"False\",\"T\",\"EveryTick\")","v":""},{"$error":"#N/A"},{"$f":"RTD(\"cqg.rtd\",,\"StudyData\", \"Close(\"&$D$12&\") when LocalYear(\"&$D$12&\")=\"&$D$4&\" and localMonth(\"&$D$12&\") =\"&$E$4&\" and LocalDay(\"&$D$12&\")=\"&$F$4&\" and Barix(\"&$D$12&\",reference:=StartOfSession)=\"&A80&\"\", \"Bar\", \"\", \"Close\",\"5\",\"0\",\"PrimaryOnly\",,,\"False\",\"T\",\"EveryTick\")","v":""},{"$error":"#N/A"},{"$f":"RTD(\"cqg.rtd\",,\"StudyData\", \"Close(\"&$D$12&\") when LocalYear(\"&$D$12&\")=\"&$D$5&\" and localMonth(\"&$D$12&\") =\"&$E$5&\" and LocalDay(\"&$D$12&\")=\"&$F$5&\" and Barix(\"&$D$12&\",reference:=StartOfSession)=\"&A80&\"\", \"Bar\", \"\", \"Close\",\"5\",\"0\",\"PrimaryOnly\",,,\"False\",\"T\",\"EveryTick\")","v":""},{"$error":"#N/A"},{"$f":"RTD(\"cqg.rtd\",,\"StudyData\", \"Close(\"&$D$12&\") when LocalYear(\"&$D$12&\")=\"&$D$6&\" and localMonth(\"&$D$12&\") =\"&$E$6&\" and LocalDay(\"&$D$12&\")=\"&$F$6&\" and Barix(\"&$D$12&\",reference:=StartOfSession)=\"&A80&\"\", \"Bar\", \"\", \"Close\",\"5\",\"0\",\"PrimaryOnly\",,,\"False\",\"T\",\"EveryTick\")","v":""},{"$error":"#N/A"},{"$f":"RTD(\"cqg.rtd\",,\"StudyData\", \"Close(\"&$D$12&\") when LocalYear(\"&$D$12&\")=\"&$D$7&\" and localMonth(\"&$D$12&\") =\"&$E$7&\" and LocalDay(\"&$D$12&\")=\"&$F$7&\" and Barix(\"&$D$12&\",reference:=StartOfSession)=\"&A80&\"\", \"Bar\", \"\", \"Close\",\"5\",\"0\",\"PrimaryOnly\",,,\"False\",\"T\",\"EveryTick\")","v":""},{"$error":"#N/A"},{"$f":"RTD(\"cqg.rtd\",,\"StudyData\", \"Close(\"&$D$12&\") when LocalYear(\"&$D$12&\")=\"&$D$8&\" and localMonth(\"&$D$12&\") =\"&$E$8&\" and LocalDay(\"&$D$12&\")=\"&$F$8&\" and Barix(\"&$D$12&\",reference:=StartOfSession)=\"&A80&\"\", \"Bar\", \"\", \"Close\",\"5\",\"0\",\"PrimaryOnly\",,,\"False\",\"T\",\"EveryTick\")","v":""},{"$error":"#N/A"},{"$f":"RTD(\"cqg.rtd\",,\"StudyData\", \"Close(\"&$D$12&\") when LocalYear(\"&$D$12&\")=\"&$D$9&\" and localMonth(\"&$D$12&\") =\"&$E$9&\" and LocalDay(\"&$D$12&\")=\"&$F$9&\" and Barix(\"&$D$12&\",reference:=StartOfSession)=\"&A80&\"\", \"Bar\", \"\", \"Close\",\"5\",\"0\",\"PrimaryOnly\",,,\"False\",\"T\",\"EveryTick\")","v":""},{"$error":"#N/A"},{"$f":"RTD(\"cqg.rtd\",,\"StudyData\", \"Close(\"&$D$12&\") when LocalYear(\"&$D$12&\")=\"&$D$10&\" and localMonth(\"&$D$12&\") =\"&$E$10&\" and LocalDay(\"&$D$12&\")=\"&$F$10&\" and Barix(\"&$D$12&\",reference:=StartOfSession)=\"&A80&\"\", \"Bar\", \"\", \"Close\",\"5\",\"0\",\"PrimaryOnly\",,,\"False\",\"T\",\"EveryTick\")","v":""},{"$error":"#N/A"},null,null,null,""]
[80,"15:10:00",null,null,null,null,null,{"$f":"RTD(\"cqg.rtd\",,\"StudyData\", \"Close(\"&$D$12&\") when LocalYear(\"&$D$12&\")=\"&$D$1&\" and localMonth(\"&$D$12&\") =\"&$E$1&\" and LocalDay(\"&$D$12&\")=\"&$F$1&\" and Barix(\"&$D$12&\",reference:=StartOfSession)=\"&A81&\"\", \"Bar\", \"\", \"Close\",\"5\",\"0\",\"PrimaryOnly\",,,\"False\",\"T\",\"EveryTick\")","v":""},{"$error":"#N/A"},{"$f":"RTD(\"cqg.rtd\",,\"StudyData\", \"Close(\"&$D$12&\") when LocalYear(\"&$D$12&\")=\"&$D$2&\" and localMonth(\"&$D$12&\") =\"&$E$2&\" and LocalDay(\"&$D$12&\")=\"&$F$2&\" and Barix(\"&$D$12&\",reference:=StartOfSession)=\"&A81&\"\", \"Bar\", \"\", \"Close\",\"5\",\"0\",\"PrimaryOnly\",,,\"False\",\"T\",\"EveryTick\")","v":""},{"$error":"#N/A"},{"$f":"RTD(\"cqg.rtd\",,\"StudyData\", \"Close(\"&$D$12&\") when LocalYear(\"&$D$12&\")=\"&$D$3&\" and localMonth(\"&$D$12&\") =\"&$E$3&\" and LocalDay(\"&$D$12&\")=\"&$F$3&\" and Barix(\"&$D$12&\",reference:=StartOfSession)=\"&A81&\"\", \"Bar\", \"\", \"Close\",\"5\",\"0\",\"PrimaryOnly\",,,\"False\",\"T\",\"EveryTick\")","v":""},{"$error":"#N/A"},{"$f":"RTD(\"cqg.rtd\",,\"StudyData\", \"Close(\"&$D$12&\") when LocalYear(\"&$D$12&\")=\"&$D$4&\" and localMonth(\"&$D$12&\") =\"&$E$4&\" and LocalDay(\"&$D$12&\")=\"&$F$4&\" and Barix(\"&$D$12&\",reference:=StartOfSession)=\"&A81&\"\", \"Bar\", \"\", \"Close\",\"5\",\"0\",\"PrimaryOnly\",,,\"False\",\"T\",\"EveryTick\")","v":""},{"$error":"#N/A"},{"$f":"RTD(\"cqg.rtd\",,\"StudyData\", \"Close(\"&$D$12&\") when LocalYear(\"&$D$12&\")=\"&$D$5&\" and localMonth(\"&$D$12&\") =\"&$E$5&\" and LocalDay(\"&$D$12&\")=\"&$F$5&\" and Barix(\"&$D$12&\",reference:=StartOfSession)=\"&A81&\"\", \"Bar\", \"\", \"Close\",\"5\",\"0\",\"PrimaryOnly\",,,\"False\",\"T\",\"EveryTick\")","v":""},{"$error":"#N/A"},{"$f":"RTD(\"cqg.rtd\",,\"StudyData\", \"Close(\"&$D$12&\") when LocalYear(\"&$D$12&\")=\"&$D$6&\" and localMonth(\"&$D$12&\") =\"&$E$6&\" and LocalDay(\"&$D$12&\")=\"&$F$6&\" and Barix(\"&$D$12&\",reference:=StartOfSession)=\"&A81&\"\", \"Bar\", \"\", \"Close\",\"5\",\"0\",\"PrimaryOnly\",,,\"False\",\"T\",\"EveryTick\")","v":""},{"$error":"#N/A"},{"$f":"RTD(\"cqg.rtd\",,\"StudyData\", \"Close(\"&$D$12&\") when LocalYear(\"&$D$12&\")=\"&$D$7&\" and localMonth(\"&$D$12&\") =\"&$E$7&\" and LocalDay(\"&$D$12&\")=\"&$F$7&\" and Barix(\"&$D$12&\",reference:=StartOfSession)=\"&A81&\"\", \"Bar\", \"\", \"Close\",\"5\",\"0\",\"PrimaryOnly\",,,\"False\",\"T\",\"EveryTick\")","v":""},{"$error":"#N/A"},{"$f":"RTD(\"cqg.rtd\",,\"StudyData\", \"Close(\"&$D$12&\") when LocalYear(\"&$D$12&\")=\"&$D$8&\" and localMonth(\"&$D$12&\") =\"&$E$8&\" and LocalDay(\"&$D$12&\")=\"&$F$8&\" and Barix(\"&$D$12&\",reference:=StartOfSession)=\"&A81&\"\", \"Bar\", \"\", \"Close\",\"5\",\"0\",\"PrimaryOnly\",,,\"False\",\"T\",\"EveryTick\")","v":""},{"$error":"#N/A"},{"$f":"RTD(\"cqg.rtd\",,\"StudyData\", \"Close(\"&$D$12&\") when LocalYear(\"&$D$12&\")=\"&$D$9&\" and localMonth(\"&$D$12&\") =\"&$E$9&\" and LocalDay(\"&$D$12&\")=\"&$F$9&\" and Barix(\"&$D$12&\",reference:=StartOfSession)=\"&A81&\"\", \"Bar\", \"\", \"Close\",\"5\",\"0\",\"PrimaryOnly\",,,\"False\",\"T\",\"EveryTick\")","v":""},{"$error":"#N/A"},{"$f":"RTD(\"cqg.rtd\",,\"StudyData\", \"Close(\"&$D$12&\") when LocalYear(\"&$D$12&\")=\"&$D$10&\" and localMonth(\"&$D$12&\") =\"&$E$10&\" and LocalDay(\"&$D$12&\")=\"&$F$10&\" and Barix(\"&$D$12&\",reference:=StartOfSession)=\"&A81&\"\", \"Bar\", \"\", \"Close\",\"5\",\"0\",\"PrimaryOnly\",,,\"False\",\"T\",\"EveryTick\")","v":""},{"$error":"#N/A"},null,null,null,""]

{"sheet":"Sheet4 (2)","index":4,"n_rows":93,"n_cols":20,"rows_kept":93,"cut":false,"hidden":true,"merged":[]}
[null,{"$f":"'Sheet3 (2)'!I1","v":-4.7320174595127645E-3},{"$f":"'Sheet3 (2)'!K1","v":-6.1199865418305171E-3},null,{"$f":"'Sheet3 (2)'!M1","v":7.0211043722065323E-3},null,{"$f":"'Sheet3 (2)'!O1","v":5.2332597498161004E-3},null,{"$f":"'Sheet3 (2)'!Q1","v":5.0085251491901331E-3},null,{"$f":"'Sheet3 (2)'!S1","v":3.0700894898426194E-3},null,{"$f":"'Sheet3 (2)'!U1","v":-8.3348132362516588E-3},null,{"$f":"'Sheet3 (2)'!W1","v":-1.7632316084328521E-3},null,{"$f":"'Sheet3 (2)'!Y1","v":7.8698381819790348E-3},null,{"$f":"'Sheet3 (2)'!AA1","v":4.3716634539744141E-3}]
[null,{"$f":"'Sheet3 (2)'!I2","v":-3.2459774937789918E-3},{"$f":"'Sheet3 (2)'!K2","v":-7.2917754341999567E-3},{"$f":"CORREL($B$1:B2,$C$1:C2)","v":-1.0000000000000002},{"$f":"'Sheet3 (2)'!M2","v":6.2761751698086916E-3},{"$f":"CORREL($B$1:B2,$E$1:E2)","v":-1.0000000000000002},{"$f":"'Sheet3 (2)'!O2","v":4.3914643119941348E-3},{"$f":"CORREL($B$1:B2,$G$1:G2)","v":-0.99999999999999978},{"$f":"'Sheet3 (2)'!Q2","v":4.6296296296297265E-3},{"$f":"CORREL($B$1:B2,$I$1:I2)","v":-1.0000000000000002},{"$f":"'Sheet3 (2)'!S2","v":4.162732557794281E-3},{"$f":"CORREL($B$1:B2,$K$1:K2)","v":1},{"$f":"'Sheet3 (2)'!U2","v":-5.5052388563309983E-3},{"$f":"CORREL($B$1:B2,$M$1:M2)","v":1},{"$f":"'Sheet3 (2)'!W2","v":-1.6275984077841609E-3},{"$f":"CORREL($B$1:B2,$O$1:O2)","v":1},{"$f":"'Sheet3 (2)'!Y2","v":9.0252601173107985E-3},{"$f":"CORREL($B$1:B2,$Q$1:Q2)","v":1},{"$f":"'Sheet3 (2)'!AA2","v":4.2215376485494685E-3},{"$f":"CORREL($B$1:B2,$S$1:S2)","v":-1}]
[null,{"$f":"'Sheet3 (2)'!I3","v":1.2004871880044205E-3},{"$f":"'Sheet3 (2)'!K3","v":-6.5202510644715985E-3},{"$f":"CORREL($B$1:B3,$C$1:C3)","v":-6.2124819677325908E-2},{"$f":"'Sheet3 (2)'!M3","v":4.7511232593879481E-3},{"$f":"CORREL($B$1:B3,$E$1:E3)","v":-0.99642035817811814},{"$f":"'Sheet3 (2)'!O3","v":3.3848417954378219E-3},{"$f":"CORREL($B$1:B3,$G$1:G3)","v":-0.97387725326322405},{"$f":"'Sheet3 (2)'!Q3","v":4.0139244103439666E-3},{"$f":"CORREL($B$1:B3,$I$1:I3)","v":-0.989663799521875},{"$f":"'Sheet3 (2)'!S3","v":5.4929067274746288E-3},{"$f":"CORREL($B$1:B3,$K$1:K3)","v":0.97502368412220397},{"$f":"'Sheet3 (2)'!U3","v":-6.0794411886580134E-3},{"$f":"CORREL($B$1:B3,$M$1:M3)","v":0.5426072047504551},{"$f":"'Sheet3 (2)'!W3","v":2.4178092289552224E-4},{"$f":"CORREL($B$1:B3,$O$1:O3)","v":0.98338820679776251},{"$f":"'Sheet3 (2)'!Y3","v":7.9936333893360287E-3},{"$f":"CORREL($B$1:B3,$Q$1:Q3)","v":-0.18176693016710879},{"$f":"'Sheet3 (2)'!AA3","v":5.4885994463360899E-3},{"$f":"CORREL($B$1:B3,$S$1:S3)","v":0.93877836412988269}]
[null,{"$f":"'Sheet3 (2)'!I4","v":{"$error":"#N/A"}},{"$f":"'Sheet3 (2)'!K4","v":-3.8924274593063295E-3},{"$f":"CORREL($B$1:B4,$C$1:C4)","v":{"$error":"#N/A"}},{"$f":"'Sheet3 (2)'!M4","v":4.1821615851155578E-3},{"$f":"CORREL($B$1:B4,$E$1:E4)","v":{"$error":"#N/A"}},{"$f":"'Sheet3 (2)'!O4","v":3.2671081677703925E-3},{"$f":"CORREL($B$1:B4,$G$1:G4)","v":{"$error":"#N/A"}},{"$f":"'Sheet3 (2)'!Q4","v":3.5995074358246633E-3},{"$f":"CORREL($B$1:B4,$I$1:I4)","v":{"$error":"#N/A"}},{"$f":"'Sheet3 (2)'!S4","v":4.2814981086586237E-3},{"$f":"CORREL($B$1:B4,$K$1:K4)","v":{"$error":"#N/A"}},{"$f":"'Sheet3 (2)'!U4","v":-5.0612679808204313E-3},{"$f":"CORREL($B$1:B4,$M$1:M4)","v":{"$error":"#N/A"}},{"$f":"'Sheet3 (2)'!W4","v":3.9510541058532966E-4},{"$f":"CORREL($B$1:B4,$O$1:O4)","v":{"$error":"#N/A"}},{"$f":"'Sheet3 (2)'!Y4","v":7.7283579449996332E-3},{"$f":"CORREL($B$1:B4,$Q$1:Q4)","v":{"$error":"#N/A"}},{"$f":"'Sheet3 (2)'!AA4","v":8.1308136218150601E-3},{"$f":"CORREL($B$1:B4,$S$1:S4)","v":{"$error":"#N/A"}}]
[null,{"$f":"'Sheet3 (2)'!I5","v":{"$error":"#N/A"}},{"$f":"'Sheet3 (2)'!K5","v":-3.4747601313331765E-3},{"$f":"CORREL($B$1:B5,$C$1:C5)","v":{"$error":"#N/A"}},{"$f":"'Sheet3 (2)'!M5","v":3.9182102929273162E-3},{"$f":"CORREL($B$1:B5,$E$1:E5)","v":{"$error":"#N/A"}},{"$f":"'Sheet3 (2)'!O5","v":2.8432671081677274E-3},{"$f":"CORREL($B$1:B5,$G$1:G5)","v":{"$error":"#N/A"}},{"$f":"'Sheet3 (2)'!Q5","v":3.1377285213603427E-3},{"$f":"CORREL($B$1:B5,$I$1:I5)","v":{"$error":"#N/A"}},{"$f":"'Sheet3 (2)'!S5","v":4.7803134222887036E-3},{"$f":"CORREL($B$1:B5,$K$1:K5)","v":{"$error":"#N/A"}},{"$f":"'Sheet3 (2)'!U5","v":-3.5044101106966471E-3},{"$f":"CORREL($B$1:B5,$M$1:M5)","v":{"$error":"#N/A"}},{"$f":"'Sheet3 (2)'!W5","v":-9.9660916998381508E-4},{"$f":"CORREL($B$1:B5,$O$1:O5)","v":{"$error":"#N/A"}},{"$f":"'Sheet3 (2)'!Y5","v":7.8934182214755802E-3},{"$f":"CORREL($B$1:B5,$Q$1:Q5)","v":{"$error":"#N/A"}},{"$f":"'Sheet3 (2)'!AA5","v":8.9955382610627816E-3},{"$f":"CORREL($B$1:B5,$S$1:S5)","v":{"$error":"#N/A"}}]
[null,{"$f":"'Sheet3 (2)'!I6","v":{"$error":"#N/A"}},{"$f":"'Sheet3 (2)'!K6","v":-3.4225517153364331E-3},{"$f":"CORREL($B$1:B6,$C$1:C6)","v":{"$error":"#N/A"}},{"$f":"'Sheet3 (2)'!M6","v":4.7687200122004799E-3},{"$f":"CORREL($B$1:B6,$E$1:E6)","v":{"$error":"#N/A"}},{"$f":"'Sheet3 (2)'!O6","v":2.2781456953641743E-3},{"$f":"CORREL($B$1:B6,$G$1:G6)","v":{"$error":"#N/A"}},{"$f":"'Sheet3 (2)'!Q6","v":3.096286823908318E-3},{"$f":"CORREL($B$1:B6,$I$1:I6)","v":{"$error":"#N/A"}},{"$f":"'Sheet3 (2)'!S6","v":4.922832083325889E-3},{"$f":"CORREL($B$1:B6,$K$1:K6)","v":{"$error":"#N/A"}},{"$f":"'Sheet3 (2)'!U6","v":-4.1674066181258294E-3},{"$f":"CORREL($B$1:B6,$M$1:M6)","v":{"$error":"#N/A"}},{"$f":"'Sheet3 (2)'!W6","v":-1.3976116762493829E-3},{"$f":"CORREL($B$1:B6,$O$1:O6)","v":{"$error":"#N/A"}},{"$f":"'Sheet3 (2)'!Y6","v":-1.4148023697940231E-4},{"$f":"CORREL($B$1:B6,$Q$1:Q6)","v":{"$error":"#N/A"}},{"$f":"'Sheet3 (2)'!AA6","v":9.6681018693664748E-3},{"$f":"CORREL($B$1:B6,$S$1:S6)","v":{"$error":"#N/A"}}]
[null,{"$f":"'Sheet3 (2)'!I7","v":{"$error":"#N/A"}},{"$f":"'Sheet3 (2)'!K7","v":-3.6603900548768148E-3},{"$f":"CORREL($B$1:B7,$C$1:C7)","v":{"$error":"#N/A"}},{"$f":"'Sheet3 (2)'!M7","v":6.4873362035593385E-3},{"$f":"CORREL($B$1:B7,$E$1:E7)","v":{"$error":"#N/A"}},{"$f":"'Sheet3 (2)'!O7","v":3.1846946284032861E-3},{"$f":"CORREL($B$1:B7,$G$1:G7)","v":{"$error":"#N/A"}},{"$f":"'Sheet3 (2)'!Q7","v":5.0795680591077929E-3},{"$f":"CORREL($B$1:B7,$I$1:I7)","v":{"$error":"#N/A"}},{"$f":"'Sheet3 (2)'!S7","v":3.7173617420530945E-3},{"$f":"CORREL($B$1:B7,$K$1:K7)","v":{"$error":"#N/A"}},{"$f":"'Sheet3 (2)'!U7","v":-5.4638015746167161E-3},{"$f":"CORREL($B$1:B7,$M$1:M7)","v":{"$error":"#N/A"}},{"$f":"'Sheet3 (2)'!W7","v":-1.6275984077841609E-3},{"$f":"CORREL($B$1:B7,$O$1:O7)","v":{"$error":"#N/A"}},{"$f":"'Sheet3 (2)'!Y7","v":-1.2733221328144867E-3},{"$f":"CORREL($B$1:B7,$Q$1:Q7)","v":{"$error":"#N/A"}},{"$f":"'Sheet3 (2)'!AA7","v":1.1847928564136757E-2},{"$f":"CORREL($B$1:B7,$S$1:S7)","v":{"$error":"#N/A"}}]
[null,{"$f":"'Sheet3 (2)'!I8","v":{"$error":"#N/A"}},{"$f":"'Sheet3 (2)'!K8","v":-3.8576218486419222E-3},{"$f":"CORREL($B$1:B8,$C$1:C8)","v":{"$error":"#N/A"}},{"$f":"'Sheet3 (2)'!M8","v":7.0035076193940005E-3},{"$f":"CORREL($B$1:B8,$E$1:E8)","v":{"$error":"#N/A"}},{"$f":"'Sheet3 (2)'!O8","v":3.0963944076526804E-3},{"$f":"CORREL($B$1:B8,$G$1:G8)","v":{"$error":"#N/A"}},{"$f":"'Sheet3 (2)'!Q8","v":3.5107037984276213E-3},{"$f":"CORREL($B$1:B8,$I$1:I8)","v":{"$error":"#N/A"}},{"$f":"'Sheet3 (2)'!S8","v":3.6401641339912244E-3},{"$f":"CORREL($B$1:B8,$K$1:K8)","v":{"$error":"#N/A"}},{"$f":"'Sheet3 (2)'!U8","v":-4.5995382702894586E-3},{"$f":"CORREL($B$1:B8,$M$1:M8)","v":{"$error":"#N/A"}},{"$f":"'Sheet3 (2)'!W8","v":-4.1515553589856783E-3},{"$f":"CORREL($B$1:B8,$O$1:O8)","v":{"$error":"#N/A"}},{"$f":"'Sheet3 (2)'!Y8","v":-4.8339080967956872E-4},{"$f":"CORREL($B$1:B8,$Q$1:Q8)","v":{"$error":"#N/A"}},{"$f":"'Sheet3 (2)'!AA8","v":1.0046418899037405E-2},{"$f":"CORREL($B$1:B8,$S$1:S8)","v":{"$error":"#N/A"}}]
[null,{"$f":"'Sheet3 (2)'!I9","v":{"$error":"#N/A"}},{"$f":"'Sheet3 (2)'!K9","v":-3.2427227269035295E-3},{"$f":"CORREL($B$1:B9,$C$1:C9)","v":{"$error":"#N/A"}},{"$f":"'Sheet3 (2)'!M9","v":5.9242401135577915E-3},{"$f":"CORREL($B$1:B9,$E$1:E9)","v":{"$error":"#N/A"}},{"$f":"'Sheet3 (2)'!O9","v":3.7851361295070281E-3},{"$f":"CORREL($B$1:B9,$G$1:G9)","v":{"$error":"#N/A"}},{"$f":"'Sheet3 (2)'!Q9","v":3.2679738562092745E-3},{"$f":"CORREL($B$1:B9,$I$1:I9)","v":{"$error":"#N/A"}},{"$f":"'Sheet3 (2)'!S9","v":5.6176105558821826E-3},{"$f":"CORREL($B$1:B9,$K$1:K9)","v":{"$error":"#N/A"}},{"$f":"'Sheet3 (2)'!U9","v":-5.3690877878410804E-3},{"$f":"CORREL($B$1:B9,$M$1:M9)","v":{"$error":"#N/A"}},{"$f":"'Sheet3 (2)'!W9","v":-5.9442724458203906E-3},{"$f":"CORREL($B$1:B9,$O$1:O9)","v":{"$error":"#N/A"}},{"$f":"'Sheet3 (2)'!Y9","v":-6.89716155274469E-4},{"$f":"CORREL($B$1:B9,$Q$1:Q9)","v":{"$error":"#N/A"}},{"$f":"'Sheet3 (2)'!AA9","v":9.349835161865605E-3},{"$f":"CORREL($B$1:B9,$S$1:S9)","v":{"$error":"#N/A"}}]
[null,{"$f":"'Sheet3 (2)'!I10","v":{"$error":"#N/A"}},{"$f":"'Sheet3 (2)'!K10","v":-2.7612451127121641E-3},{"$f":"CORREL($B$1:B10,$C$1:C10)","v":{"$error":"#N/A"}},{"$f":"'Sheet3 (2)'!M10","v":6.7688842485601119E-3},{"$f":"CORREL($B$1:B10,$E$1:E10)","v":{"$error":"#N/A"}},{"$f":"'Sheet3 (2)'!O10","v":4.0441501103752114E-3},{"$f":"CORREL($B$1:B10,$G$1:G10)","v":{"$error":"#N/A"}},{"$f":"'Sheet3 (2)'!Q10","v":3.8363171355498831E-3},{"$f":"CORREL($B$1:B10,$I$1:I10)","v":{"$error":"#N/A"}},{"$f":"'Sheet3 (2)'!S10","v":5.2613139032891528E-3},{"$f":"CORREL($B$1:B10,$K$1:K10)","v":{"$error":"#N/A"}},{"$f":"'Sheet3 (2)'!U10","v":-4.7238501154324387E-3},{"$f":"CORREL($B$1:B10,$M$1:M10)","v":{"$error":"#N/A"}},{"$f":"'Sheet3 (2)'!W10","v":-5.5314757481940788E-3},{"$f":"CORREL($B$1:B10,$O$1:O10)","v":{"$error":"#N/A"}},{"$f":"'Sheet3 (2)'!Y10","v":-4.7336929289356405E-3},{"$f":"CORREL($B$1:B10,$Q$1:Q10)","v":{"$error":"#N/A"}},{"$f":"'Sheet3 (2)'!AA10","v":1.0797047926162135E-2},{"$f":"CORREL($B$1:B10,$S$1:S10)","v":{"$error":"#N/A"}}]
[null,{"$f":"'Sheet3 (2)'!I11","v":{"$error":"#N/A"}},{"$f":"'Sheet3 (2)'!K11","v":-3.1325049597994408E-3},{"$f":"CORREL($B$1:B11,$C$1:C11)","v":{"$error":"#N/A"}},{"$f":"'Sheet3 (2)'!M11","v":7.1149537205401677E-3},{"$f":"CORREL($B$1:B11,$E$1:E11)","v":{"$error":"#N/A"}},{"$f":"'Sheet3 (2)'!O11","v":4.0971302428256286E-3},{"$f":"CORREL($B$1:B11,$G$1:G11)","v":{"$error":"#N/A"}},{"$f":"'Sheet3 (2)'!Q11","v":3.0370843989770469E-3},{"$f":"CORREL($B$1:B11,$I$1:I11)","v":{"$error":"#N/A"}},{"$f":"'Sheet3 (2)'!S11","v":4.0083373416706751E-3},{"$f":"CORREL($B$1:B11,$K$1:K11)","v":{"$error":"#N/A"}},{"$f":"'Sheet3 (2)'!U11","v":-4.0904516663706003E-3},{"$f":"CORREL($B$1:B11,$M$1:M11)","v":{"$error":"#N/A"}},{"$f":"'Sheet3 (2)'!W11","v":-6.33937785640572E-3},{"$f":"CORREL($B$1:B11,$O$1:O11)","v":{"$error":"#N/A"}},{"$f":"'Sheet3 (2)'!Y11","v":-2.3580039496566159E-3},{"$f":"CORREL($B$1:B11,$Q$1:Q11)","v":{"$error":"#N/A"}},{"$f":"'Sheet3 (2)'!AA11","v":1.0827073087247096E-2},{"$f":"CORREL($B$1:B11,$S$1:S11)","v":{"$error":"#N/A"}}]
[null,{"$f":"'Sheet3 (2)'!I12","v":{"$error":"#N/A"}},{"$f":"'Sheet3 (2)'!K12","v":-4.2810901117259423E-3},{"$f":"CORREL($B$1:B12,$C$1:C12)","v":{"$error":"#N/A"}},{"$f":"'Sheet3 (2)'!M12","v":7.4786199453327554E-3},{"$f":"CORREL($B$1:B12,$E$1:E12)","v":{"$error":"#N/A"}},{"$f":"'Sheet3 (2)'!O12","v":4.4444444444444176E-3},{"$f":"CORREL($B$1:B12,$G$1:G12)","v":{"$error":"#N/A"}},{"$f":"'Sheet3 (2)'!Q12","v":2.5930662119921081E-3},{"$f":"CORREL($B$1:B12,$I$1:I12)","v":{"$error":"#N/A"}},{"$f":"'Sheet3 (2)'!S12","v":2.0605823074959038E-3},{"$f":"CORREL($B$1:B12,$K$1:K12)","v":{"$error":"#N/A"}},{"$f":"'Sheet3 (2)'!U12","v":-4.0726928313501937E-3},{"$f":"CORREL($B$1:B12,$M$1:M12)","v":{"$error":"#N/A"}},{"$f":"'Sheet3 (2)'!W12","v":-7.1531770602978675E-3},{"$f":"CORREL($B$1:B12,$O$1:O12)","v":{"$error":"#N/A"}},{"$f":"'Sheet3 (2)'!Y12","v":-2.7411795914757354E-3},{"$f":"CORREL($B$1:B12,$Q$1:Q12)","v":{"$error":"#N/A"}},{"$f":"'Sheet3 (2)'!AA12","v":1.1913983918523673E-2},{"$f":"CORREL($B$1:B12,$S$1:S12)","v":{"$error":"#N/A"}}]
[null,{"$f":"'Sheet3 (2)'!I13","v":{"$error":"#N/A"}},{"$f":"'Sheet3 (2)'!K13","v":-4.1766732797325875E-3},{"$f":"CORREL($B$1:B13,$C$1:C13)","v":{"$error":"#N/A"}},{"$f":"'Sheet3 (2)'!M13","v":5.9418368663703234E-3},{"$f":"CORREL($B$1:B13,$E$1:E13)","v":{"$error":"#N/A"}},{"$f":"'Sheet3 (2)'!O13","v":4.7682119205297475E-3},{"$f":"CORREL($B$1:B13,$G$1:G13)","v":{"$error":"#N/A"}},{"$f":"'Sheet3 (2)'!Q13","v":2.4569006346500492E-3},{"$f":"CORREL($B$1:B13,$I$1:I13)","v":{"$error":"#N/A"}},{"$f":"'Sheet3 (2)'!S13","v":1.4905076633471642E-3},{"$f":"CORREL($B$1:B13,$K$1:K13)","v":{"$error":"#N/A"}},{"$f":"'Sheet3 (2)'!U13","v":-5.4164446812288306E-3},{"$f":"CORREL($B$1:B13,$M$1:M13)","v":{"$error":"#N/A"}},{"$f":"'Sheet3 (2)'!W13","v":-8.5036119711042746E-3},{"$f":"CORREL($B$1:B13,$O$1:O13)","v":{"$error":"#N/A"}},{"$f":"'Sheet3 (2)'!Y13","v":-3.9201815663040436E-3},{"$f":"CORREL($B$1:B13,$Q$1:Q13)","v":{"$error":"#N/A"}},{"$f":"'Sheet3 (2)'!AA13","v":1.1577702114371827E-2},{"$f":"CORREL($B$1:B13,$S$1:S13)","v":{"$error":"#N/A"}}]
[null,{"$f":"'Sheet3 (2)'!I14","v":{"$error":"#N/A"}},{"$f":"'Sheet3 (2)'!K14","v":-4.5595349970414655E-3},{"$f":"CORREL($B$1:B14,$C$1:C14)","v":{"$error":"#N/A"}},{"$f":"'Sheet3 (2)'!M14","v":6.5283952934552456E-3},{"$f":"CORREL($B$1:B14,$E$1:E14)","v":{"$error":"#N/A"}},{"$f":"'Sheet3 (2)'!O14","v":4.4444444444444176E-3},{"$f":"CORREL($B$1:B14,$G$1:G14)","v":{"$error":"#N/A"}},{"$f":"'Sheet3 (2)'!Q14","v":2.1253670550346604E-3},{"$f":"CORREL($B$1:B14,$I$1:I14)","v":{"$error":"#N/A"}},{"$f":"'Sheet3 (2)'!S14","v":2.3278047969406425E-3},{"$f":"CORREL($B$1:B14,$K$1:K14)","v":{"$error":"#N/A"}},{"$f":"'Sheet3 (2)'!U14","v":-5.730184099923083E-3},{"$f":"CORREL($B$1:B14,$M$1:M14)","v":{"$error":"#N/A"}},{"$f":"'Sheet3 (2)'!W14","v":-1.0561698363555997E-2},{"$f":"CORREL($B$1:B14,$O$1:O14)","v":{"$error":"#N/A"}},{"$f":"'Sheet3 (2)'!Y14","v":-3.1243552332949893E-3},{"$f":"CORREL($B$1:B14,$Q$1:Q14)","v":{"$error":"#N/A"}},{"$f":"'Sheet3 (2)'!AA14","v":1.0809057990596119E-2},{"$f":"CORREL($B$1:B14,$S$1:S14)","v":{"$error":"#N/A"}}]
[null,{"$f":"'Sheet3 (2)'!I15","v":{"$error":"#N/A"}},{"$f":"'Sheet3 (2)'!K15","v":-3.5037648068868494E-3},{"$f":"CORREL($B$1:B15,$C$1:C15)","v":{"$error":"#N/A"}},{"$f":"'Sheet3 (2)'!M15","v":6.721959574393227E-3},{"$f":"CORREL($B$1:B15,$E$1:E15)","v":{"$error":"#N/A"}},{"$f":"'Sheet3 (2)'!O15","v":4.6269315673288592E-3},{"$f":"CORREL($B$1:B15,$G$1:G15)","v":{"$error":"#N/A"}},{"$f":"'Sheet3 (2)'!Q15","v":2.8180354267312085E-3},{"$f":"CORREL($B$1:B15,$I$1:I15)","v":{"$error":"#N/A"}},{"$f":"'Sheet3 (2)'!S15","v":1.8824339811994565E-3},{"$f":"CORREL($B$1:B15,$K$1:K15)","v":{"$error":"#N/A"}},{"$f":"'Sheet3 (2)'!U15","v":-5.3098916711063916E-3},{"$f":"CORREL($B$1:B15,$M$1:M15)","v":{"$error":"#N/A"}},{"$f":"'Sheet3 (2)'!W15","v":-9.5945746719740422E-3},{"$f":"CORREL($B$1:B15,$O$1:O15)","v":{"$error":"#N/A"}},{"$f":"'Sheet3 (2)'!Y15","v":-2.5820143248739247E-3},{"$f":"CORREL($B$1:B15,$Q$1:Q15)","v":{"$error":"#N/A"}},{"$f":"'Sheet3 (2)'!AA15","v":1.1091294504795035E-2},{"$f":"CORREL($B$1:B15,$S$1:S15)","v":{"$error":"#N/A"}}]
[null,{"$f":"'Sheet3 (2)'!I16","v":{"$error":"#N/A"}},{"$f":"'Sheet3 (2)'!K16","v":-3.0454909331384221E-3},{"$f":"CORREL($B$1:B16,$C$1:C16)","v":{"$error":"#N/A"}},{"$f":"'Sheet3 (2)'!M16","v":6.6281102260597252E-3},{"$f":"CORREL($B$1:B16,$E$1:E16)","v":{"$error":"#N/A"}},{"$f":"'Sheet3 (2)'!O16","v":3.8616629874907698E-3},{"$f":"CORREL($B$1:B16,$G$1:G16)","v":{"$error":"#N/A"}},{"$f":"'Sheet3 (2)'!Q16","v":2.7588330017998025E-3},{"$f":"CORREL($B$1:B16,$I$1:I16)","v":{"$error":"#N/A"}},{"$f":"'Sheet3 (2)'!S16","v":1.4548779980879016E-3},{"$f":"CORREL($B$1:B16,$K$1:K16)","v":{"$error":"#N/A"}},{"$f":"'Sheet3 (2)'!U16","v":-5.209258272657287E-3},{"$f":"CORREL($B$1:B16,$M$1:M16)","v":{"$error":"#N/A"}},{"$f":"'Sheet3 (2)'!W16","v":-9.8127672121480769E-3},{"$f":"CORREL($B$1:B16,$O$1:O16)","v":{"$error":"#N/A"}},{"$f":"'Sheet3 (2)'!Y16","v":-4.8987532054115875E-3},{"$f":"CORREL($B$1:B16,$Q$1:Q16)","v":{"$error":"#N/A"}},{"$f":"'Sheet3 (2)'!AA16","v":1.0851093216115066E-2},{"$f":"CORREL($B$1:B16,$S$1:S16)","v":{"$error":"#N/A"}}]
[null,{"$f":"'Sheet3 (2)'!I17","v":{"$error":"#N/A"}},{"$f":"'Sheet3 (2)'!K17","v":-3.0570928033598912E-3},{"$f":"CORREL($B$1:B17,$C$1:C17)","v":{"$error":"#N/A"}},{"$f":"'Sheet3 (2)'!M17","v":7.0738946306442606E-3},{"$f":"CORREL($B$1:B17,$E$1:E17)","v":{"$error":"#N/A"}},{"$f":"'Sheet3 (2)'!O17","v":4.6975717439293706E-3},{"$f":"CORREL($B$1:B17,$G$1:G17)","v":{"$error":"#N/A"}},{"$f":"'Sheet3 (2)'!Q17","v":3.7534337406461031E-3},{"$f":"CORREL($B$1:B17,$I$1:I17)","v":{"$error":"#N/A"}},{"$f":"'Sheet3 (2)'!S17","v":2.0427674748662726E-3},{"$f":"CORREL($B$1:B17,$K$1:K17)","v":{"$error":"#N/A"}},{"$f":"'Sheet3 (2)'!U17","v":-4.2798792399218718E-3},{"$f":"CORREL($B$1:B17,$M$1:M17)","v":{"$error":"#N/A"}},{"$f":"'Sheet3 (2)'!W17","v":-9.4353530886038626E-3},{"$f":"CORREL($B$1:B17,$O$1:O17)","v":{"$error":"#N/A"}},{"$f":"'Sheet3 (2)'!Y17","v":-2.68812450260851E-3},{"$f":"CORREL($B$1:B17,$Q$1:Q17)","v":{"$error":"#N/A"}},{"$f":"'Sheet3 (2)'!AA17","v":1.196202417625975E-2},{"$f":"CORREL($B$1:B17,$S$1:S17)","v":{"$error":"#N/A"}}]
[null,{"$f":"'Sheet3 (2)'!I18","v":{"$error":"#N/A"}},{"$f":"'Sheet3 (2)'!K18","v":-3.3297367535646801E-3},{"$f":"CORREL($B$1:B18,$C$1:C18)","v":{"$error":"#N/A"}},{"$f":"'Sheet3 (2)'!M18","v":5.0033433830345021E-3},{"$f":"CORREL($B$1:B18,$E$1:E18)","v":{"$error":"#N/A"}},{"$f":"'Sheet3 (2)'!O18","v":4.9036055923472712E-3},{"$f":"CORREL($B$1:B18,$G$1:G18)","v":{"$error":"#N/A"}},{"$f":"'Sheet3 (2)'!Q18","v":4.0316851378233475E-3},{"$f":"CORREL($B$1:B18,$I$1:I18)","v":{"$error":"#N/A"}},{"$f":"'Sheet3 (2)'!S18","v":3.0463363796696427E-3},{"$f":"CORREL($B$1:B18,$K$1:K18)","v":{"$error":"#N/A"}},{"$f":"'Sheet3 (2)'!U18","v":-3.4925708873497093E-3},{"$f":"CORREL($B$1:B18,$M$1:M18)","v":{"$error":"#N/A"}},{"$f":"'Sheet3 (2)'!W18","v":-5.9914492112635009E-3},{"$f":"CORREL($B$1:B18,$O$1:O18)","v":{"$error":"#N/A"}},{"$f":"'Sheet3 (2)'!Y18","v":1.4501724290388403E-3},{"$f":"CORREL($B$1:B18,$Q$1:Q18)","v":{"$error":"#N/A"}},{"$f":"'Sheet3 (2)'!AA18","v":1.196202417625975E-2},{"$f":"CORREL($B$1:B18,$S$1:S18)","v":{"$error":"#N/A"}}]
[null,{"$f":"'Sheet3 (2)'!I19","v":{"$error":"#N/A"}},{"$f":"'Sheet3 (2)'!K19","v":-3.5211676122190532E-3},{"$f":"CORREL($B$1:B19,$C$1:C19)","v":{"$error":"#N/A"}},{"$f":"'Sheet3 (2)'!M19","v":6.1412667315791491E-3},{"$f":"CORREL($B$1:B19,$E$1:E19)","v":{"$error":"#N/A"}},{"$f":"'Sheet3 (2)'!O19","v":5.9455481972037726E-3},{"$f":"CORREL($B$1:B19,$G$1:G19)","v":{"$error":"#N/A"}},{"$f":"'Sheet3 (2)'!Q19","v":4.0612863502889835E-3},{"$f":"CORREL($B$1:B19,$I$1:I19)","v":{"$error":"#N/A"}},{"$f":"'Sheet3 (2)'!S19","v":2.8147435554843015E-3},{"$f":"CORREL($B$1:B19,$K$1:K19)","v":{"$error":"#N/A"}},{"$f":"'Sheet3 (2)'!U19","v":-3.8359083644113057E-3},{"$f":"CORREL($B$1:B19,$M$1:M19)","v":{"$error":"#N/A"}},{"$f":"'Sheet3 (2)'!W19","v":-5.3486657821022769E-3},{"$f":"CORREL($B$1:B19,$O$1:O19)","v":{"$error":"#N/A"}},{"$f":"'Sheet3 (2)'!Y19","v":1.5503875968992892E-3},{"$f":"CORREL($B$1:B19,$Q$1:Q19)","v":{"$error":"#N/A"}},{"$f":"'Sheet3 (2)'!AA19","v":1.2022074498429673E-2},{"$f":"CORREL($B$1:B19,$S$1:S19)","v":{"$error":"#N/A"}}]
[null,{"$f":"'Sheet3 (2)'!I20","v":{"$error":"#N/A"}},{"$f":"'Sheet3 (2)'!K20","v":-3.3471395588968839E-3},{"$f":"CORREL($B$1:B20,$C$1:C20)","v":{"$error":"#N/A"}},{"$f":"'Sheet3 (2)'!M20","v":6.974179698039781E-3},{"$f":"CORREL($B$1:B20,$E$1:E20)","v":{"$error":"#N/A"}},{"$f":"'Sheet3 (2)'!O20","v":5.7630610743193309E-3},{"$f":"CORREL($B$1:B20,$G$1:G20)","v":{"$error":"#N/A"}},{"$f":"'Sheet3 (2)'!Q20","v":4.8072369044236752E-3},{"$f":"CORREL($B$1:B20,$I$1:I20)","v":{"$error":"#N/A"}},{"$f":"'Sheet3 (2)'!S20","v":2.6484717842742752E-3},{"$f":"CORREL($B$1:B20,$K$1:K20)","v":{"$error":"#N/A"}},{"$f":"'Sheet3 (2)'!U20","v":-1.5923755401645976E-3},{"$f":"CORREL($B$1:B20,$M$1:M20)","v":{"$error":"#N/A"}},{"$f":"'Sheet3 (2)'!W20","v":-6.3924517175290687E-3},{"$f":"CORREL($B$1:B20,$O$1:O20)","v":{"$error":"#N/A"}},{"$f":"'Sheet3 (2)'!Y20","v":1.6977628437528278E-3},{"$f":"CORREL($B$1:B20,$Q$1:Q20)","v":{"$error":"#N/A"}},{"$f":"'Sheet3 (2)'!AA20","v":8.8334023912038512E-3},{"$f":"CORREL($B$1:B20,$S$1:S20)","v":{"$error":"#N/A"}}]
[null,{"$f":"'Sheet3 (2)'!I21","v":{"$error":"#N/A"}},{"$f":"'Sheet3 (2)'!K21","v":-3.8344181081989841E-3},{"$f":"CORREL($B$1:B21,$C$1:C21)","v":{"$error":"#N/A"}},{"$f":"'Sheet3 (2)'!M21","v":7.2674589115822421E-3},{"$f":"CORREL($B$1:B21,$E$1:E21)","v":{"$error":"#N/A"}},{"$f":"'Sheet3 (2)'!O21","v":6.0515084621044725E-3},{"$f":"CORREL($B$1:B21,$G$1:G21)","v":{"$error":"#N/A"}},{"$f":"'Sheet3 (2)'!Q21","v":3.9547219854125602E-3},{"$f":"CORREL($B$1:B21,$I$1:I21)","v":{"$error":"#N/A"}},{"$f":"'Sheet3 (2)'!S21","v":2.0843354176687456E-3},{"$f":"CORREL($B$1:B21,$K$1:K21)","v":{"$error":"#N/A"}},{"$f":"'Sheet3 (2)'!U21","v":-4.0845320546975349E-4},{"$f":"CORREL($B$1:B21,$M$1:M21)","v":{"$error":"#N/A"}},{"$f":"'Sheet3 (2)'!W21","v":-4.7235736399823033E-3},{"$f":"CORREL($B$1:B21,$O$1:O21)","v":{"$error":"#N/A"}},{"$f":"'Sheet3 (2)'!Y21","v":3.118460223420987E-3},{"$f":"CORREL($B$1:B21,$Q$1:Q21)","v":{"$error":"#N/A"}},{"$f":"'Sheet3 (2)'!AA21","v":1.1655767533192864E-2},{"$f":"CORREL($B$1:B21,$S$1:S21)","v":{"$error":"#N/A"}}]
[null,{"$f":"'Sheet3 (2)'!I22","v":{"$error":"#N/A"}},{"$f":"'Sheet3 (2)'!K22","v":-3.7764087570916383E-3},{"$f":"CORREL($B$1:B22,$C$1:C22)","v":{"$error":"#N/A"}},{"$f":"'Sheet3 (2)'!M22","v":7.0328355407482199E-3},{"$f":"CORREL($B$1:B22,$E$1:E22)","v":{"$error":"#N/A"}},{"$f":"'Sheet3 (2)'!O22","v":6.9462840323767207E-3},{"$f":"CORREL($B$1:B22,$G$1:G22)","v":{"$error":"#N/A"}},{"$f":"'Sheet3 (2)'!Q22","v":3.747513498152976E-3},{"$f":"CORREL($B$1:B22,$I$1:I22)","v":{"$error":"#N/A"}},{"$f":"'Sheet3 (2)'!S22","v":1.4192483328286391E-3},{"$f":"CORREL($B$1:B22,$K$1:K22)","v":{"$error":"#N/A"}},{"$f":"'Sheet3 (2)'!U22","v":-6.7483573077598577E-4},{"$f":"CORREL($B$1:B22,$M$1:M22)","v":{"$error":"#N/A"}},{"$f":"'Sheet3 (2)'!W22","v":-4.0100250626566147E-3},{"$f":"CORREL($B$1:B22,$O$1:O22)","v":{"$error":"#N/A"}},{"$f":"'Sheet3 (2)'!Y22","v":4.4507324549769699E-3},{"$f":"CORREL($B$1:B22,$Q$1:Q22)","v":{"$error":"#N/A"}},{"$f":"'Sheet3 (2)'!AA22","v":1.2226245593807687E-2},{"$f":"CORREL($B$1:B22,$S$1:S22)","v":{"$error":"#N/A"}}]
[null,{"$f":"'Sheet3 (2)'!I23","v":{"$error":"#N/A"}},{"$f":"'Sheet3 (2)'!K23","v":-3.9968442912996843E-3},{"$f":"CORREL($B$1:B23,$C$1:C23)","v":{"$error":"#N/A"}},{"$f":"'Sheet3 (2)'!M23","v":6.8979271025186766E-3},{"$f":"CORREL($B$1:B23,$E$1:E23)","v":{"$error":"#N/A"}},{"$f":"'Sheet3 (2)'!O23","v":7.3818984547461153E-3},{"$f":"CORREL($B$1:B23,$G$1:G23)","v":{"$error":"#N/A"}},{"$f":"'Sheet3 (2)'!Q23","v":4.179691200151661E-3},{"$f":"CORREL($B$1:B23,$I$1:I23)","v":{"$error":"#N/A"}},{"$f":"'Sheet3 (2)'!S23","v":2.2802985765948245E-3},{"$f":"CORREL($B$1:B23,$K$1:K23)","v":{"$error":"#N/A"}},{"$f":"'Sheet3 (2)'!U23","v":-1.716687385307443E-3},{"$f":"CORREL($B$1:B23,$M$1:M23)","v":{"$error":"#N/A"}},{"$f":"'Sheet3 (2)'!W23","v":-3.3318590594132928E-3},{"$f":"CORREL($B$1:B23,$O$1:O23)","v":{"$error":"#N/A"}},{"$f":"'Sheet3 (2)'!Y23","v":5.0048633831461728E-3},{"$f":"CORREL($B$1:B23,$Q$1:Q23)","v":{"$error":"#N/A"}},{"$f":"'Sheet3 (2)'!AA23","v":1.1061269343710073E-2},{"$f":"CORREL($B$1:B23,$S$1:S23)","v":{"$error":"#N/A"}}]
[null,{"$f":"'Sheet3 (2)'!I24","v":{"$error":"#N/A"}},{"$f":"'Sheet3 (2)'!K24","v":-4.9714013899040156E-3},{"$f":"CORREL($B$1:B24,$C$1:C24)","v":{"$error":"#N/A"}},{"$f":"'Sheet3 (2)'!M24","v":6.9976420351231562E-3},{"$f":"CORREL($B$1:B24,$E$1:E24)","v":{"$error":"#N/A"}},{"$f":"'Sheet3 (2)'!O24","v":8.1942604856512571E-3},{"$f":"CORREL($B$1:B24,$G$1:G24)","v":{"$error":"#N/A"}},{"$f":"'Sheet3 (2)'!Q24","v":4.1086482902340004E-3},{"$f":"CORREL($B$1:B24,$I$1:I24)","v":{"$error":"#N/A"}},{"$f":"'Sheet3 (2)'!S24","v":2.5356445109531423E-3},{"$f":"CORREL($B$1:B24,$K$1:K24)","v":{"$error":"#N/A"}},{"$f":"'Sheet3 (2)'!U24","v":-1.4443852483277421E-3},{"$f":"CORREL($B$1:B24,$M$1:M24)","v":{"$error":"#N/A"}},{"$f":"'Sheet3 (2)'!W24","v":-3.7033760872769998E-3},{"$f":"CORREL($B$1:B24,$O$1:O24)","v":{"$error":"#N/A"}},{"$f":"'Sheet3 (2)'!Y24","v":4.9871783535237642E-3},{"$f":"CORREL($B$1:B24,$Q$1:Q24)","v":{"$error":"#N/A"}},{"$f":"'Sheet3 (2)'!AA24","v":1.0646922120737189E-2},{"$f":"CORREL($B$1:B24,$S$1:S24)","v":{"$error":"#N/A"}}]
[null,{"$f":"'Sheet3 (2)'!I25","v":{"$error":"#N/A"}},{"$f":"'Sheet3 (2)'!K25","v":-4.4551181650481107E-3},{"$f":"CORREL($B$1:B25,$C$1:C25)","v":{"$error":"#N/A"}},{"$f":"'Sheet3 (2)'!M25","v":7.8774796757505386E-3},{"$f":"CORREL($B$1:B25,$E$1:E25)","v":{"$error":"#N/A"}},{"$f":"'Sheet3 (2)'!O25","v":8.7181751287711239E-3},{"$f":"CORREL($B$1:B25,$G$1:G25)","v":{"$error":"#N/A"}},{"$f":"'Sheet3 (2)'!Q25","v":3.5639859808659002E-3},{"$f":"CORREL($B$1:B25,$I$1:I25)","v":{"$error":"#N/A"}},{"$f":"'Sheet3 (2)'!S25","v":1.9833846994340336E-3},{"$f":"CORREL($B$1:B25,$K$1:K25)","v":{"$error":"#N/A"}},{"$f":"'Sheet3 (2)'!U25","v":-2.1428994257976031E-3},{"$f":"CORREL($B$1:B25,$M$1:M25)","v":{"$error":"#N/A"}},{"$f":"'Sheet3 (2)'!W25","v":-4.6881910659000714E-3},{"$f":"CORREL($B$1:B25,$O$1:O25)","v":{"$error":"#N/A"}},{"$f":"'Sheet3 (2)'!Y25","v":4.6275827512011888E-3},{"$f":"CORREL($B$1:B25,$Q$1:Q25)","v":{"$error":"#N/A"}},{"$f":"'Sheet3 (2)'!AA25","v":9.7401622559705192E-3},{"$f":"CORREL($B$1:B25,$S$1:S25)","v":{"$error":"#N/A"}}]
[null,{"$f":"'Sheet3 (2)'!I26","v":{"$error":"#N/A"}},{"$f":"'Sheet3 (2)'!K26","v":-4.3449003979441538E-3},{"$f":"CORREL($B$1:B26,$C$1:C26)","v":{"$error":"#N/A"}},{"$f":"'Sheet3 (2)'!M26","v":8.5930809567941607E-3},{"$f":"CORREL($B$1:B26,$E$1:E26)","v":{"$error":"#N/A"}},{"$f":"'Sheet3 (2)'!O26","v":7.9764532744664926E-3},{"$f":"CORREL($B$1:B26,$G$1:G26)","v":{"$error":"#N/A"}},{"$f":"'Sheet3 (2)'!Q26","v":4.428341384863135E-3},{"$f":"CORREL($B$1:B26,$I$1:I26)","v":{"$error":"#N/A"}},{"$f":"'Sheet3 (2)'!S26","v":1.6033349366682971E-3},{"$f":"CORREL($B$1:B26,$K$1:K26)","v":{"$error":"#N/A"}},{"$f":"'Sheet3 (2)'!U26","v":-2.2316936008997704E-3},{"$f":"CORREL($B$1:B26,$M$1:M26)","v":{"$error":"#N/A"}},{"$f":"'Sheet3 (2)'!W26","v":-4.2694972725932532E-3},{"$f":"CORREL($B$1:B26,$O$1:O26)","v":{"$error":"#N/A"}},{"$f":"'Sheet3 (2)'!Y26","v":3.7845963391989115E-3},{"$f":"CORREL($B$1:B26,$Q$1:Q26)","v":{"$error":"#N/A"}},{"$f":"'Sheet3 (2)'!AA26","v":1.0568856701916152E-2},{"$f":"CORREL($B$1:B26,$S$1:S26)","v":{"$error":"#N/A"}}]
[null,{"$f":"'Sheet3 (2)'!I27","v":{"$error":"#N/A"}},{"$f":"'Sheet3 (2)'!K27","v":-4.2230807606185965E-3},{"$f":"CORREL($B$1:B27,$C$1:C27)","v":{"$error":"#N/A"}},{"$f":"'Sheet3 (2)'!M27","v":8.4464413500229298E-3},{"$f":"CORREL($B$1:B27,$E$1:E27)","v":{"$error":"#N/A"}},{"$f":"'Sheet3 (2)'!O27","v":7.770419426048592E-3},{"$f":"CORREL($B$1:B27,$G$1:G27)","v":{"$error":"#N/A"}},{"$f":"'Sheet3 (2)'!Q27","v":4.7421142369992774E-3},{"$f":"CORREL($B$1:B27,$I$1:I27)","v":{"$error":"#N/A"}},{"$f":"'Sheet3 (2)'!S27","v":3.3313737017440126E-3},{"$f":"CORREL($B$1:B27,$K$1:K27)","v":{"$error":"#N/A"}},{"$f":"'Sheet3 (2)'!U27","v":-1.6397324335523482E-3},{"$f":"CORREL($B$1:B27,$M$1:M27)","v":{"$error":"#N/A"}},{"$f":"'Sheet3 (2)'!W27","v":-3.7033760872769998E-3},{"$f":"CORREL($B$1:B27,$O$1:O27)","v":{"$error":"#N/A"}},{"$f":"'Sheet3 (2)'!Y27","v":3.7256462404575493E-3},{"$f":"CORREL($B$1:B27,$Q$1:Q27)","v":{"$error":"#N/A"}},{"$f":"'Sheet3 (2)'!AA27","v":8.0527482029941581E-3},{"$f":"CORREL($B$1:B27,$S$1:S27)","v":{"$error":"#N/A"}}]
[null,{"$f":"'Sheet3 (2)'!I28","v":{"$error":"#N/A"}},{"$f":"'Sheet3 (2)'!K28","v":-3.6371863144338762E-3},{"$f":"CORREL($B$1:B28,$C$1:C28)","v":{"$error":"#N/A"}},{"$f":"'Sheet3 (2)'!M28","v":7.5724692936663908E-3},{"$f":"CORREL($B$1:B28,$E$1:E28)","v":{"$error":"#N/A"}},{"$f":"'Sheet3 (2)'!O28","v":7.1582045621781205E-3},{"$f":"CORREL($B$1:B28,$G$1:G28)","v":{"$error":"#N/A"}},{"$f":"'Sheet3 (2)'!Q28","v":4.9078810268069718E-3},{"$f":"CORREL($B$1:B28,$I$1:I28)","v":{"$error":"#N/A"}},{"$f":"'Sheet3 (2)'!S28","v":3.0166449919535906E-3},{"$f":"CORREL($B$1:B28,$K$1:K28)","v":{"$error":"#N/A"}},{"$f":"'Sheet3 (2)'!U28","v":-1.610134375185004E-3},{"$f":"CORREL($B$1:B28,$M$1:M28)","v":{"$error":"#N/A"}},{"$f":"'Sheet3 (2)'!W28","v":-5.3309744950611609E-3},{"$f":"CORREL($B$1:B28,$O$1:O28)","v":{"$error":"#N/A"}},{"$f":"'Sheet3 (2)'!Y28","v":4.4035723759837464E-3},{"$f":"CORREL($B$1:B28,$Q$1:Q28)","v":{"$error":"#N/A"}},{"$f":"'Sheet3 (2)'!AA28","v":1.0550841605265175E-2},{"$f":"CORREL($B$1:B28,$S$1:S28)","v":{"$error":"#N/A"}}]
[null,{"$f":"'Sheet3 (2)'!I29","v":{"$error":"#N/A"}},{"$f":"'Sheet3 (2)'!K29","v":-2.9352731660343334E-3},{"$f":"CORREL($B$1:B29,$C$1:C29)","v":{"$error":"#N/A"}},{"$f":"'Sheet3 (2)'!M29","v":7.7953614959587253E-3},{"$f":"CORREL($B$1:B29,$E$1:E29)","v":{"$error":"#N/A"}},{"$f":"'Sheet3 (2)'!O29","v":7.3818984547461153E-3},{"$f":"CORREL($B$1:B29,$G$1:G29)","v":{"$error":"#N/A"}},{"$f":"'Sheet3 (2)'!Q29","v":5.0322061191626416E-3},{"$f":"CORREL($B$1:B29,$I$1:I29)","v":{"$error":"#N/A"}},{"$f":"'Sheet3 (2)'!S29","v":2.3456196295702737E-3},{"$f":"CORREL($B$1:B29,$K$1:K29)","v":{"$error":"#N/A"}},{"$f":"'Sheet3 (2)'!U29","v":-1.219440004735657E-3},{"$f":"CORREL($B$1:B29,$M$1:M29)","v":{"$error":"#N/A"}},{"$f":"'Sheet3 (2)'!W29","v":-5.6199321833996594E-3},{"$f":"CORREL($B$1:B29,$O$1:O29)","v":{"$error":"#N/A"}},{"$f":"'Sheet3 (2)'!Y29","v":2.8060247000913675E-3},{"$f":"CORREL($B$1:B29,$Q$1:Q29)","v":{"$error":"#N/A"}},{"$f":"'Sheet3 (2)'!AA29","v":1.1211395149135019E-2},{"$f":"CORREL($B$1:B29,$S$1:S29)","v":{"$error":"#N/A"}}]
[null,{"$f":"'Sheet3 (2)'!I30","v":{"$error":"#N/A"}},{"$f":"'Sheet3 (2)'!K30","v":-3.3529404940076182E-3},{"$f":"CORREL($B$1:B30,$C$1:C30)","v":{"$error":"#N/A"}},{"$f":"'Sheet3 (2)'!M30","v":7.9947913611675501E-3},{"$f":"CORREL($B$1:B30,$E$1:E30)","v":{"$error":"#N/A"}},{"$f":"'Sheet3 (2)'!O30","v":7.4819720382634505E-3},{"$f":"CORREL($B$1:B30,$G$1:G30)","v":{"$error":"#N/A"}},{"$f":"'Sheet3 (2)'!Q30","v":5.1091692715734289E-3},{"$f":"CORREL($B$1:B30,$I$1:I30)","v":{"$error":"#N/A"}},{"$f":"'Sheet3 (2)'!S30","v":2.6662866169039063E-3},{"$f":"CORREL($B$1:B30,$K$1:K30)","v":{"$error":"#N/A"}},{"$f":"'Sheet3 (2)'!U30","v":-1.2135203930621883E-3},{"$f":"CORREL($B$1:B30,$M$1:M30)","v":{"$error":"#N/A"}},{"$f":"'Sheet3 (2)'!W30","v":-4.3697478991597122E-3},{"$f":"CORREL($B$1:B30,$O$1:O30)","v":{"$error":"#N/A"}},{"$f":"'Sheet3 (2)'!Y30","v":4.3682023167389292E-3},{"$f":"CORREL($B$1:B30,$Q$1:Q30)","v":{"$error":"#N/A"}},{"$f":"'Sheet3 (2)'!AA30","v":1.105526431149308E-2},{"$f":"CORREL($B$1:B30,$S$1:S30)","v":{"$error":"#N/A"}}]
[null,{"$f":"'Sheet3 (2)'!I31","v":{"$error":"#N/A"}},{"$f":"'Sheet3 (2)'!K31","v":-3.1325049597994408E-3},{"$f":"CORREL($B$1:B31,$C$1:C31)","v":{"$error":"#N/A"}},{"$f":"'Sheet3 (2)'!M31","v":8.0593127881468333E-3},{"$f":"CORREL($B$1:B31,$E$1:E31)","v":{"$error":"#N/A"}},{"$f":"'Sheet3 (2)'!O31","v":6.4341427520235844E-3},{"$f":"CORREL($B$1:B31,$G$1:G31)","v":{"$error":"#N/A"}},{"$f":"'Sheet3 (2)'!Q31","v":5.3282182438192669E-3},{"$f":"CORREL($B$1:B31,$I$1:I31)","v":{"$error":"#N/A"}},{"$f":"'Sheet3 (2)'!S31","v":3.1651019305339863E-3},{"$f":"CORREL($B$1:B31,$K$1:K31)","v":{"$error":"#N/A"}},{"$f":"'Sheet3 (2)'!U31","v":-7.1627301249040218E-4},{"$f":"CORREL($B$1:B31,$M$1:M31)","v":{"$error":"#N/A"}},{"$f":"'Sheet3 (2)'!W31","v":-4.2812914639539972E-3},{"$f":"CORREL($B$1:B31,$O$1:O31)","v":{"$error":"#N/A"}},{"$f":"'Sheet3 (2)'!Y31","v":4.3682023167389292E-3},{"$f":"CORREL($B$1:B31,$Q$1:Q31)","v":{"$error":"#N/A"}},{"$f":"'Sheet3 (2)'!AA31","v":1.0238579929981298E-2},{"$f":"CORREL($B$1:B31,$S$1:S31)","v":{"$error":"#N/A"}}]
[null,{"$f":"'Sheet3 (2)'!I32","v":{"$error":"#N/A"}},{"$f":"'Sheet3 (2)'!K32","v":-3.7474040815378335E-3},{"$f":"CORREL($B$1:B32,$C$1:C32)","v":{"$error":"#N/A"}},{"$f":"'Sheet3 (2)'!M32","v":8.4992316084605245E-3},{"$f":"CORREL($B$1:B32,$E$1:E32)","v":{"$error":"#N/A"}},{"$f":"'Sheet3 (2)'!O32","v":6.7814569536423733E-3},{"$f":"CORREL($B$1:B32,$G$1:G32)","v":{"$error":"#N/A"}},{"$f":"'Sheet3 (2)'!Q32","v":4.6473903571091083E-3},{"$f":"CORREL($B$1:B32,$I$1:I32)","v":{"$error":"#N/A"}},{"$f":"'Sheet3 (2)'!S32","v":4.2636832760289929E-3},{"$f":"CORREL($B$1:B32,$K$1:K32)","v":{"$error":"#N/A"}},{"$f":"'Sheet3 (2)'!U32","v":-1.0418516545314574E-3},{"$f":"CORREL($B$1:B32,$M$1:M32)","v":{"$error":"#N/A"}},{"$f":"'Sheet3 (2)'!W32","v":-3.7505528527199765E-3},{"$f":"CORREL($B$1:B32,$O$1:O32)","v":{"$error":"#N/A"}},{"$f":"'Sheet3 (2)'!Y32","v":1.379432310549206E-3},{"$f":"CORREL($B$1:B32,$Q$1:Q32)","v":{"$error":"#N/A"}},{"$f":"'Sheet3 (2)'!AA32","v":1.0460766122010289E-2},{"$f":"CORREL($B$1:B32,$S$1:S32)","v":{"$error":"#N/A"}}]
[null,{"$f":"'Sheet3 (2)'!I33","v":{"$error":"#N/A"}},{"$f":"'Sheet3 (2)'!K33","v":-3.4631582611115755E-3},{"$f":"CORREL($B$1:B33,$C$1:C33)","v":{"$error":"#N/A"}},{"$f":"'Sheet3 (2)'!M33","v":7.9420011027299554E-3},{"$f":"CORREL($B$1:B33,$E$1:E33)","v":{"$error":"#N/A"}},{"$f":"'Sheet3 (2)'!O33","v":6.3046357615894255E-3},{"$f":"CORREL($B$1:B33,$G$1:G33)","v":{"$error":"#N/A"}},{"$f":"'Sheet3 (2)'!Q33","v":4.8960405418207167E-3},{"$f":"CORREL($B$1:B33,$I$1:I33)","v":{"$error":"#N/A"}},{"$f":"'Sheet3 (2)'!S33","v":4.6496713163379395E-3},{"$f":"CORREL($B$1:B33,$K$1:K33)","v":{"$error":"#N/A"}},{"$f":"'Sheet3 (2)'!U33","v":-1.4325460249806697E-3},{"$f":"CORREL($B$1:B33,$M$1:M33)","v":{"$error":"#N/A"}},{"$f":"'Sheet3 (2)'!W33","v":-4.3343653250773459E-3},{"$f":"CORREL($B$1:B33,$O$1:O33)","v":{"$error":"#N/A"}},{"$f":"'Sheet3 (2)'!Y33","v":2.0573584460754028E-3},{"$f":"CORREL($B$1:B33,$Q$1:Q33)","v":{"$error":"#N/A"}},{"$f":"'Sheet3 (2)'!AA33","v":1.1175364955833064E-2},{"$f":"CORREL($B$1:B33,$S$1:S33)","v":{"$error":"#N/A"}}]
[null,{"$f":"'Sheet3 (2)'!I34","v":{"$error":"#N/A"}},{"$f":"'Sheet3 (2)'!K34","v":-3.7125984708734259E-3},{"$f":"CORREL($B$1:B34,$C$1:C34)","v":{"$error":"#N/A"}},{"$f":"'Sheet3 (2)'!M34","v":7.4199641026243164E-3},{"$f":"CORREL($B$1:B34,$E$1:E34)","v":{"$error":"#N/A"}},{"$f":"'Sheet3 (2)'!O34","v":6.1574687270051724E-3},{"$f":"CORREL($B$1:B34,$G$1:G34)","v":{"$error":"#N/A"}},{"$f":"'Sheet3 (2)'!Q34","v":4.7480344794924041E-3},{"$f":"CORREL($B$1:B34,$I$1:I34)","v":{"$error":"#N/A"}},{"$f":"'Sheet3 (2)'!S34","v":5.053474189276653E-3},{"$f":"CORREL($B$1:B34,$K$1:K34)","v":{"$error":"#N/A"}},{"$f":"'Sheet3 (2)'!U34","v":-1.5272598117563058E-3},{"$f":"CORREL($B$1:B34,$M$1:M34)","v":{"$error":"#N/A"}},{"$f":"'Sheet3 (2)'!W34","v":-4.1102756892230736E-3},{"$f":"CORREL($B$1:B34,$O$1:O34)","v":{"$error":"#N/A"}},{"$f":"'Sheet3 (2)'!Y34","v":2.7234945618534608E-3},{"$f":"CORREL($B$1:B34,$Q$1:Q34)","v":{"$error":"#N/A"}},{"$f":"'Sheet3 (2)'!AA34","v":1.0292625219934366E-2},{"$f":"CORREL($B$1:B34,$S$1:S34)","v":{"$error":"#N/A"}}]
[null,{"$f":"'Sheet3 (2)'!I35","v":{"$error":"#N/A"}},{"$f":"'Sheet3 (2)'!K35","v":-3.399347974893495E-3},{"$f":"CORREL($B$1:B35,$C$1:C35)","v":{"$error":"#N/A"}},{"$f":"'Sheet3 (2)'!M35","v":6.9859108665814686E-3},{"$f":"CORREL($B$1:B35,$E$1:E35)","v":{"$error":"#N/A"}},{"$f":"'Sheet3 (2)'!O35","v":7.0345842531273264E-3},{"$f":"CORREL($B$1:B35,$G$1:G35)","v":{"$error":"#N/A"}},{"$f":"'Sheet3 (2)'!Q35","v":4.2803353225348223E-3},{"$f":"CORREL($B$1:B35,$I$1:I35)","v":{"$error":"#N/A"}},{"$f":"'Sheet3 (2)'!S35","v":5.2791287359189188E-3},{"$f":"CORREL($B$1:B35,$K$1:K35)","v":{"$error":"#N/A"}},{"$f":"'Sheet3 (2)'!U35","v":-1.1898419463683128E-3},{"$f":"CORREL($B$1:B35,$M$1:M35)","v":{"$error":"#N/A"}},{"$f":"'Sheet3 (2)'!W35","v":-3.1785345717234852E-3},{"$f":"CORREL($B$1:B35,$O$1:O35)","v":{"$error":"#N/A"}},{"$f":"'Sheet3 (2)'!Y35","v":2.6114893742447396E-3},{"$f":"CORREL($B$1:B35,$Q$1:Q35)","v":{"$error":"#N/A"}},{"$f":"'Sheet3 (2)'!AA35","v":9.5059659995075443E-3},{"$f":"CORREL($B$1:B35,$S$1:S35)","v":{"$error":"#N/A"}}]
[null,{"$f":"'Sheet3 (2)'!I36","v":{"$error":"#N/A"}},{"$f":"'Sheet3 (2)'!K36","v":-3.3761442344505568E-3},{"$f":"CORREL($B$1:B36,$C$1:C36)","v":{"$error":"#N/A"}},{"$f":"'Sheet3 (2)'!M36","v":7.3143835857489925E-3},{"$f":"CORREL($B$1:B36,$E$1:E36)","v":{"$error":"#N/A"}},{"$f":"'Sheet3 (2)'!O36","v":7.9882266372332221E-3},{"$f":"CORREL($B$1:B36,$G$1:G36)","v":{"$error":"#N/A"}},{"$f":"'Sheet3 (2)'!Q36","v":4.4520223548357779E-3},{"$f":"CORREL($B$1:B36,$I$1:I36)","v":{"$error":"#N/A"}},{"$f":"'Sheet3 (2)'!S36","v":5.3503880664374434E-3},{"$f":"CORREL($B$1:B36,$K$1:K36)","v":{"$error":"#N/A"}},{"$f":"'Sheet3 (2)'!U36","v":-8.8794175102113303E-4},{"$f":"CORREL($B$1:B36,$M$1:M36)","v":{"$error":"#N/A"}},{"$f":"'Sheet3 (2)'!W36","v":-2.0462922010909788E-3},{"$f":"CORREL($B$1:B36,$O$1:O36)","v":{"$error":"#N/A"}},{"$f":"'Sheet3 (2)'!Y36","v":2.428744068146384E-3},{"$f":"CORREL($B$1:B36,$Q$1:Q36)","v":{"$error":"#N/A"}},{"$f":"'Sheet3 (2)'!AA36","v":1.0430740960925326E-2},{"$f":"CORREL($B$1:B36,$S$1:S36)","v":{"$error":"#N/A"}}]
[null,{"$f":"'Sheet3 (2)'!I37","v":{"$error":"#N/A"}},{"$f":"'Sheet3 (2)'!K37","v":-3.1615096353531137E-3},{"$f":"CORREL($B$1:B37,$C$1:C37)","v":{"$error":"#N/A"}},{"$f":"'Sheet3 (2)'!M37","v":7.1501472261652306E-3},{"$f":"CORREL($B$1:B37,$E$1:E37)","v":{"$error":"#N/A"}},{"$f":"'Sheet3 (2)'!O37","v":7.0640176600441501E-3},{"$f":"CORREL($B$1:B37,$G$1:G37)","v":{"$error":"#N/A"}},{"$f":"'Sheet3 (2)'!Q37","v":4.5822676896845752E-3},{"$f":"CORREL($B$1:B37,$I$1:I37)","v":{"$error":"#N/A"}},{"$f":"'Sheet3 (2)'!S37","v":5.1781780176842068E-3},{"$f":"CORREL($B$1:B37,$K$1:K37)","v":{"$error":"#N/A"}},{"$f":"'Sheet3 (2)'!U37","v":-2.7822174865330449E-4},{"$f":"CORREL($B$1:B37,$M$1:M37)","v":{"$error":"#N/A"}},{"$f":"'Sheet3 (2)'!W37","v":-4.4935869084475255E-3},{"$f":"CORREL($B$1:B37,$O$1:O37)","v":{"$error":"#N/A"}},{"$f":"'Sheet3 (2)'!Y37","v":1.9925133374599046E-3},{"$f":"CORREL($B$1:B37,$Q$1:Q37)","v":{"$error":"#N/A"}},{"$f":"'Sheet3 (2)'!AA37","v":1.0172524575594382E-2},{"$f":"CORREL($B$1:B37,$S$1:S37)","v":{"$error":"#N/A"}}]
[null,{"$f":"'Sheet3 (2)'!I38","v":{"$error":"#N/A"}},{"$f":"'Sheet3 (2)'!K38","v":-3.4283526504471679E-3},{"$f":"CORREL($B$1:B38,$C$1:C38)","v":{"$error":"#N/A"}},{"$f":"'Sheet3 (2)'!M38","v":7.2146686531446465E-3},{"$f":"CORREL($B$1:B38,$E$1:E38)","v":{"$error":"#N/A"}},{"$f":"'Sheet3 (2)'!O38","v":6.3870493009565319E-3},{"$f":"CORREL($B$1:B38,$G$1:G38)","v":{"$error":"#N/A"}},{"$f":"'Sheet3 (2)'!Q38","v":4.570427204698321E-3},{"$f":"CORREL($B$1:B38,$I$1:I38)","v":{"$error":"#N/A"}},{"$f":"'Sheet3 (2)'!S38","v":4.6377947612515191E-3},{"$f":"CORREL($B$1:B38,$K$1:K38)","v":{"$error":"#N/A"}},{"$f":"'Sheet3 (2)'!U38","v":-9.5305747942929021E-4},{"$f":"CORREL($B$1:B38,$M$1:M38)","v":{"$error":"#N/A"}},{"$f":"'Sheet3 (2)'!W38","v":-4.4523072386849208E-3},{"$f":"CORREL($B$1:B38,$O$1:O38)","v":{"$error":"#N/A"}},{"$f":"'Sheet3 (2)'!Y38","v":1.1200518760872141E-4},{"$f":"CORREL($B$1:B38,$Q$1:Q38)","v":{"$error":"#N/A"}},{"$f":"'Sheet3 (2)'!AA38","v":1.1637752436541887E-2},{"$f":"CORREL($B$1:B38,$S$1:S38)","v":{"$error":"#N/A"}}]
[null,{"$f":"'Sheet3 (2)'!I39","v":{"$error":"#N/A"}},{"$f":"'Sheet3 (2)'!K39","v":-3.6893947304304877E-3},{"$f":"CORREL($B$1:B39,$C$1:C39)","v":{"$error":"#N/A"}},{"$f":"'Sheet3 (2)'!M39","v":7.3613082599158774E-3},{"$f":"CORREL($B$1:B39,$E$1:E39)","v":{"$error":"#N/A"}},{"$f":"'Sheet3 (2)'!O39","v":7.3583517292126564E-3},{"$f":"CORREL($B$1:B39,$G$1:G39)","v":{"$error":"#N/A"}},{"$f":"'Sheet3 (2)'!Q39","v":3.8067159230842475E-3},{"$f":"CORREL($B$1:B39,$I$1:I39)","v":{"$error":"#N/A"}},{"$f":"'Sheet3 (2)'!S39","v":3.7351765746827261E-3},{"$f":"CORREL($B$1:B39,$K$1:K39)","v":{"$error":"#N/A"}},{"$f":"'Sheet3 (2)'!U39","v":-1.3082341798378242E-3},{"$f":"CORREL($B$1:B39,$M$1:M39)","v":{"$error":"#N/A"}},{"$f":"'Sheet3 (2)'!W39","v":-5.4842989827509686E-3},{"$f":"CORREL($B$1:B39,$O$1:O39)","v":{"$error":"#N/A"}},{"$f":"'Sheet3 (2)'!Y39","v":3.1833053320375575E-4},{"$f":"CORREL($B$1:B39,$Q$1:Q39)","v":{"$error":"#N/A"}},{"$f":"'Sheet3 (2)'!AA39","v":1.1787878241966834E-2},{"$f":"CORREL($B$1:B39,$S$1:S39)","v":{"$error":"#N/A"}}]
[null,{"$f":"'Sheet3 (2)'!I40","v":{"$error":"#N/A"}},{"$f":"'Sheet3 (2)'!K40","v":-3.2427227269035295E-3},{"$f":"CORREL($B$1:B40,$C$1:C40)","v":{"$error":"#N/A"}},{"$f":"'Sheet3 (2)'!M40","v":7.7073777318959332E-3},{"$f":"CORREL($B$1:B40,$E$1:E40)","v":{"$error":"#N/A"}},{"$f":"'Sheet3 (2)'!O40","v":7.5055187637969095E-3},{"$f":"CORREL($B$1:B40,$G$1:G40)","v":{"$error":"#N/A"}},{"$f":"'Sheet3 (2)'!Q40","v":3.8777588330019077E-3},{"$f":"CORREL($B$1:B40,$I$1:I40)","v":{"$error":"#N/A"}},{"$f":"'Sheet3 (2)'!S40","v":4.3230660514610971E-3},{"$f":"CORREL($B$1:B40,$K$1:K40)","v":{"$error":"#N/A"}},{"$f":"'Sheet3 (2)'!U40","v":-8.4058485763324775E-4},{"$f":"CORREL($B$1:B40,$M$1:M40)","v":{"$error":"#N/A"}},{"$f":"'Sheet3 (2)'!W40","v":-6.7403803626714222E-3},{"$f":"CORREL($B$1:B40,$O$1:O40)","v":{"$error":"#N/A"}},{"$f":"'Sheet3 (2)'!Y40","v":9.4320157986272669E-4},{"$f":"CORREL($B$1:B40,$Q$1:Q40)","v":{"$error":"#N/A"}},{"$f":"'Sheet3 (2)'!AA40","v":1.1998054369561703E-2},{"$f":"CORREL($B$1:B40,$S$1:S40)","v":{"$error":"#N/A"}}]
[null,{"$f":"'Sheet3 (2)'!I41","v":{"$error":"#N/A"}},{"$f":"'Sheet3 (2)'!K41","v":-3.1325049597994408E-3},{"$f":"CORREL($B$1:B41,$C$1:C41)","v":{"$error":"#N/A"}},{"$f":"'Sheet3 (2)'!M41","v":8.0945062937720306E-3},{"$f":"CORREL($B$1:B41,$E$1:E41)","v":{"$error":"#N/A"}},{"$f":"'Sheet3 (2)'!O41","v":6.6225165562913907E-3},{"$f":"CORREL($B$1:B41,$G$1:G41)","v":{"$error":"#N/A"}},{"$f":"'Sheet3 (2)'!Q41","v":3.6231884057971717E-3},{"$f":"CORREL($B$1:B41,$I$1:I41)","v":{"$error":"#N/A"}},{"$f":"'Sheet3 (2)'!S41","v":4.5368440430169415E-3},{"$f":"CORREL($B$1:B41,$K$1:K41)","v":{"$error":"#N/A"}},{"$f":"'Sheet3 (2)'!U41","v":-4.1437281714322232E-4},{"$f":"CORREL($B$1:B41,$M$1:M41)","v":{"$error":"#N/A"}},{"$f":"'Sheet3 (2)'!W41","v":-6.8052484151555149E-3},{"$f":"CORREL($B$1:B41,$O$1:O41)","v":{"$error":"#N/A"}},{"$f":"'Sheet3 (2)'!Y41","v":1.5032275179061999E-3},{"$f":"CORREL($B$1:B41,$Q$1:Q41)","v":{"$error":"#N/A"}},{"$f":"'Sheet3 (2)'!AA41","v":1.1986044305127719E-2},{"$f":"CORREL($B$1:B41,$S$1:S41)","v":{"$error":"#N/A"}}]
[null,{"$f":"'Sheet3 (2)'!I42","v":{"$error":"#N/A"}},{"$f":"'Sheet3 (2)'!K42","v":-2.9352731660343334E-3},{"$f":"CORREL($B$1:B42,$C$1:C42)","v":{"$error":"#N/A"}},{"$f":"'Sheet3 (2)'!M42","v":7.683915394812558E-3},{"$f":"CORREL($B$1:B42,$E$1:E42)","v":{"$error":"#N/A"}},{"$f":"'Sheet3 (2)'!O42","v":6.5577630610743785E-3},{"$f":"CORREL($B$1:B42,$G$1:G42)","v":{"$error":"#N/A"}},{"$f":"'Sheet3 (2)'!Q42","v":3.6054276783177904E-3},{"$f":"CORREL($B$1:B42,$I$1:I42)","v":{"$error":"#N/A"}},{"$f":"'Sheet3 (2)'!S42","v":4.4655847124982816E-3},{"$f":"CORREL($B$1:B42,$K$1:K42)","v":{"$error":"#N/A"}},{"$f":"'Sheet3 (2)'!U42","v":-8.5834369265378884E-4},{"$f":"CORREL($B$1:B42,$M$1:M42)","v":{"$error":"#N/A"}},{"$f":"'Sheet3 (2)'!W42","v":-6.9231903287630897E-3},{"$f":"CORREL($B$1:B42,$O$1:O42)","v":{"$error":"#N/A"}},{"$f":"'Sheet3 (2)'!Y42","v":2.1870486633065326E-3},{"$f":"CORREL($B$1:B42,$Q$1:Q42)","v":{"$error":"#N/A"}},{"$f":"'Sheet3 (2)'!AA42","v":1.206410972394862E-2},{"$f":"CORREL($B$1:B42,$S$1:S42)","v":{"$error":"#N/A"}}]
[null,{"$f":"'Sheet3 (2)'!I43","v":{"$error":"#N/A"}},{"$f":"'Sheet3 (2)'!K43","v":-3.1731115055745828E-3},{"$f":"CORREL($B$1:B43,$C$1:C43)","v":{"$error":"#N/A"}},{"$f":"'Sheet3 (2)'!M43","v":7.8246894173129439E-3},{"$f":"CORREL($B$1:B43,$E$1:E43)","v":{"$error":"#N/A"}},{"$f":"'Sheet3 (2)'!O43","v":6.5577630610743785E-3},{"$f":"CORREL($B$1:B43,$G$1:G43)","v":{"$error":"#N/A"}},{"$f":"'Sheet3 (2)'!Q43","v":4.2507341100691863E-3},{"$f":"CORREL($B$1:B43,$I$1:I43)","v":{"$error":"#N/A"}},{"$f":"'Sheet3 (2)'!S43","v":4.1805473904239117E-3},{"$f":"CORREL($B$1:B43,$K$1:K43)","v":{"$error":"#N/A"}},{"$f":"'Sheet3 (2)'!U43","v":-8.3466524595977886E-4},{"$f":"CORREL($B$1:B43,$M$1:M43)","v":{"$error":"#N/A"}},{"$f":"'Sheet3 (2)'!W43","v":-6.2155388471177731E-3},{"$f":"CORREL($B$1:B43,$O$1:O43)","v":{"$error":"#N/A"}},{"$f":"'Sheet3 (2)'!Y43","v":2.3285289002859351E-3},{"$f":"CORREL($B$1:B43,$Q$1:Q43)","v":{"$error":"#N/A"}},{"$f":"'Sheet3 (2)'!AA43","v":1.223225062602468E-2},{"$f":"CORREL($B$1:B43,$S$1:S43)","v":{"$error":"#N/A"}}]
[null,{"$f":"'Sheet3 (2)'!I44","v":{"$error":"#N/A"}},{"$f":"'Sheet3 (2)'!K44","v":-2.9120694255913948E-3},{"$f":"CORREL($B$1:B44,$C$1:C44)","v":{"$error":"#N/A"}},{"$f":"'Sheet3 (2)'!M44","v":7.9713290240841748E-3},{"$f":"CORREL($B$1:B44,$E$1:E44)","v":{"$error":"#N/A"}},{"$f":"'Sheet3 (2)'!O44","v":5.1214128035320357E-3},{"$f":"CORREL($B$1:B44,$G$1:G44)","v":{"$error":"#N/A"}},{"$f":"'Sheet3 (2)'!Q44","v":4.0435256228096017E-3},{"$f":"CORREL($B$1:B44,$I$1:I44)","v":{"$error":"#N/A"}},{"$f":"'Sheet3 (2)'!S44","v":4.6140416510786772E-3},{"$f":"CORREL($B$1:B44,$K$1:K44)","v":{"$error":"#N/A"}},{"$f":"'Sheet3 (2)'!U44","v":-1.4147871899602633E-3},{"$f":"CORREL($B$1:B44,$M$1:M44)","v":{"$error":"#N/A"}},{"$f":"'Sheet3 (2)'!W44","v":-7.3182957393484191E-3},{"$f":"CORREL($B$1:B44,$O$1:O44)","v":{"$error":"#N/A"}},{"$f":"'Sheet3 (2)'!Y44","v":1.6211277153889234E-3},{"$f":"CORREL($B$1:B44,$Q$1:Q44)","v":{"$error":"#N/A"}},{"$f":"'Sheet3 (2)'!AA44","v":1.2784713589988389E-2},{"$f":"CORREL($B$1:B44,$S$1:S44)","v":{"$error":"#N/A"}}]
[null,{"$f":"'Sheet3 (2)'!I45","v":{"$error":"#N/A"}},{"$f":"'Sheet3 (2)'!K45","v":-3.3181348833430792E-3},{"$f":"CORREL($B$1:B45,$C$1:C45)","v":{"$error":"#N/A"}},{"$f":"'Sheet3 (2)'!M45","v":8.452306934293774E-3},{"$f":"CORREL($B$1:B45,$E$1:E45)","v":{"$error":"#N/A"}},{"$f":"'Sheet3 (2)'!O45","v":5.1567328918322242E-3},{"$f":"CORREL($B$1:B45,$G$1:G45)","v":{"$error":"#N/A"}},{"$f":"'Sheet3 (2)'!Q45","v":4.2921758075210766E-3},{"$f":"CORREL($B$1:B45,$I$1:I45)","v":{"$error":"#N/A"}},{"$f":"'Sheet3 (2)'!S45","v":5.0772272994494948E-3},{"$f":"CORREL($B$1:B45,$K$1:K45)","v":{"$error":"#N/A"}},{"$f":"'Sheet3 (2)'!U45","v":-1.3259930148582307E-3},{"$f":"CORREL($B$1:B45,$M$1:M45)","v":{"$error":"#N/A"}},{"$f":"'Sheet3 (2)'!W45","v":-7.1944567300604723E-3},{"$f":"CORREL($B$1:B45,$O$1:O45)","v":{"$error":"#N/A"}},{"$f":"'Sheet3 (2)'!Y45","v":7.368762342676924E-4},{"$f":"CORREL($B$1:B45,$Q$1:Q45)","v":{"$error":"#N/A"}},{"$f":"'Sheet3 (2)'!AA45","v":1.3253106102914204E-2},{"$f":"CORREL($B$1:B45,$S$1:S45)","v":{"$error":"#N/A"}}]
[null,{"$f":"'Sheet3 (2)'!I46","v":{"$error":"#N/A"}},{"$f":"'Sheet3 (2)'!K46","v":-3.1267040246887061E-3},{"$f":"CORREL($B$1:B46,$C$1:C46)","v":{"$error":"#N/A"}},{"$f":"'Sheet3 (2)'!M46","v":8.2763394061683235E-3},{"$f":"CORREL($B$1:B46,$E$1:E46)","v":{"$error":"#N/A"}},{"$f":"'Sheet3 (2)'!O46","v":4.6799116997792763E-3},{"$f":"CORREL($B$1:B46,$G$1:G46)","v":{"$error":"#N/A"}},{"$f":"'Sheet3 (2)'!Q46","v":3.9606422279056877E-3},{"$f":"CORREL($B$1:B46,$I$1:I46)","v":{"$error":"#N/A"}},{"$f":"'Sheet3 (2)'!S46","v":4.8753258629802053E-3},{"$f":"CORREL($B$1:B46,$K$1:K46)","v":{"$error":"#N/A"}},{"$f":"'Sheet3 (2)'!U46","v":-1.1306458296334899E-3},{"$f":"CORREL($B$1:B46,$M$1:M46)","v":{"$error":"#N/A"}},{"$f":"'Sheet3 (2)'!W46","v":-7.6898127672121262E-3},{"$f":"CORREL($B$1:B46,$O$1:O46)","v":{"$error":"#N/A"}},{"$f":"'Sheet3 (2)'!Y46","v":-4.1265069118953249E-5},{"$f":"CORREL($B$1:B46,$Q$1:Q46)","v":{"$error":"#N/A"}},{"$f":"'Sheet3 (2)'!AA46","v":1.3451272166075225E-2},{"$f":"CORREL($B$1:B46,$S$1:S46)","v":{"$error":"#N/A"}}]
[null,{"$f":"'Sheet3 (2)'!I47","v":{"$error":"#N/A"}},{"$f":"'Sheet3 (2)'!K47","v":-3.1035002842457679E-3},{"$f":"CORREL($B$1:B47,$C$1:C47)","v":{"$error":"#N/A"}},{"$f":"'Sheet3 (2)'!M47","v":8.7749140691904537E-3},{"$f":"CORREL($B$1:B47,$E$1:E47)","v":{"$error":"#N/A"}},{"$f":"'Sheet3 (2)'!O47","v":5.2626931567329241E-3},{"$f":"CORREL($B$1:B47,$G$1:G47)","v":{"$error":"#N/A"}},{"$f":"'Sheet3 (2)'!Q47","v":4.0198446528370933E-3},{"$f":"CORREL($B$1:B47,$I$1:I47)","v":{"$error":"#N/A"}},{"$f":"'Sheet3 (2)'!S47","v":4.2814981086586237E-3},{"$f":"CORREL($B$1:B47,$K$1:K47)","v":{"$error":"#N/A"}},{"$f":"'Sheet3 (2)'!U47","v":-1.2727165097968765E-3},{"$f":"CORREL($B$1:B47,$M$1:M47)","v":{"$error":"#N/A"}},{"$f":"'Sheet3 (2)'!W47","v":-6.1506707946336805E-3},{"$f":"CORREL($B$1:B47,$O$1:O47)","v":{"$error":"#N/A"}},{"$f":"'Sheet3 (2)'!Y47","v":-5.7181595779161136E-4},{"$f":"CORREL($B$1:B47,$Q$1:Q47)","v":{"$error":"#N/A"}},{"$f":"'Sheet3 (2)'!AA47","v":1.4141850871029897E-2},{"$f":"CORREL($B$1:B47,$S$1:S47)","v":{"$error":"#N/A"}}]
[null,{"$f":"'Sheet3 (2)'!I48","v":{"$error":"#N/A"}},{"$f":"'Sheet3 (2)'!K48","v":-2.8888656851483248E-3},{"$f":"CORREL($B$1:B48,$C$1:C48)","v":{"$error":"#N/A"}},{"$f":"'Sheet3 (2)'!M48","v":8.6400056309609112E-3},{"$f":"CORREL($B$1:B48,$E$1:E48)","v":{"$error":"#N/A"}},{"$f":"'Sheet3 (2)'!O48","v":5.3745401030169887E-3},{"$f":"CORREL($B$1:B48,$G$1:G48)","v":{"$error":"#N/A"}},{"$f":"'Sheet3 (2)'!Q48","v":4.150089987686025E-3},{"$f":"CORREL($B$1:B48,$I$1:I48)","v":{"$error":"#N/A"}},{"$f":"'Sheet3 (2)'!S48","v":4.9168938057826787E-3},{"$f":"CORREL($B$1:B48,$K$1:K48)","v":{"$error":"#N/A"}},{"$f":"'Sheet3 (2)'!U48","v":-1.5982951518380664E-3},{"$f":"CORREL($B$1:B48,$M$1:M48)","v":{"$error":"#N/A"}},{"$f":"'Sheet3 (2)'!W48","v":-8.2795223352498688E-3},{"$f":"CORREL($B$1:B48,$O$1:O48)","v":{"$error":"#N/A"}},{"$f":"'Sheet3 (2)'!Y48","v":-2.7706546408453442E-4},{"$f":"CORREL($B$1:B48,$Q$1:Q48)","v":{"$error":"#N/A"}},{"$f":"'Sheet3 (2)'!AA48","v":1.407579551664298E-2},{"$f":"CORREL($B$1:B48,$S$1:S48)","v":{"$error":"#N/A"}}]
[null,{"$f":"'Sheet3 (2)'!I49","v":{"$error":"#N/A"}},{"$f":"'Sheet3 (2)'!K49","v":-3.2311208566820604E-3},{"$f":"CORREL($B$1:B49,$C$1:C49)","v":{"$error":"#N/A"}},{"$f":"'Sheet3 (2)'!M49","v":8.6458712152317554E-3},{"$f":"CORREL($B$1:B49,$E$1:E49)","v":{"$error":"#N/A"}},{"$f":"'Sheet3 (2)'!O49","v":5.7512877115526015E-3},{"$f":"CORREL($B$1:B49,$G$1:G49)","v":{"$error":"#N/A"}},{"$f":"'Sheet3 (2)'!Q49","v":4.0731268352752377E-3},{"$f":"CORREL($B$1:B49,$I$1:I49)","v":{"$error":"#N/A"}},{"$f":"'Sheet3 (2)'!S49","v":4.6734244265107814E-3},{"$f":"CORREL($B$1:B49,$K$1:K49)","v":{"$error":"#N/A"}},{"$f":"'Sheet3 (2)'!U49","v":-1.2490380631030012E-3},{"$f":"CORREL($B$1:B49,$M$1:M49)","v":{"$error":"#N/A"}},{"$f":"'Sheet3 (2)'!W49","v":-7.6603272888102663E-3},{"$f":"CORREL($B$1:B49,$O$1:O49)","v":{"$error":"#N/A"}},{"$f":"'Sheet3 (2)'!Y49","v":-8.4298641200214366E-4},{"$f":"CORREL($B$1:B49,$Q$1:Q49)","v":{"$error":"#N/A"}},{"$f":"'Sheet3 (2)'!AA49","v":1.3205065845178264E-2},{"$f":"CORREL($B$1:B49,$S$1:S49)","v":{"$error":"#N/A"}}]
[null,{"$f":"'Sheet3 (2)'!I50","v":{"$error":"#N/A"}},{"$f":"'Sheet3 (2)'!K50","v":-2.790249788265837E-3},{"$f":"CORREL($B$1:B50,$C$1:C50)","v":{"$error":"#N/A"}},{"$f":"'Sheet3 (2)'!M50","v":9.0329997771078519E-3},{"$f":"CORREL($B$1:B50,$E$1:E50)","v":{"$error":"#N/A"}},{"$f":"'Sheet3 (2)'!O50","v":6.1810154525386313E-3},{"$f":"CORREL($B$1:B50,$G$1:G50)","v":{"$error":"#N/A"}},{"$f":"'Sheet3 (2)'!Q50","v":3.747513498152976E-3},{"$f":"CORREL($B$1:B50,$I$1:I50)","v":{"$error":"#N/A"}},{"$f":"'Sheet3 (2)'!S50","v":4.5190292103871755E-3},{"$f":"CORREL($B$1:B50,$K$1:K50)","v":{"$error":"#N/A"}},{"$f":"'Sheet3 (2)'!U50","v":-1.2076007813887194E-3},{"$f":"CORREL($B$1:B50,$M$1:M50)","v":{"$error":"#N/A"}},{"$f":"'Sheet3 (2)'!W50","v":-9.5238095238095767E-3},{"$f":"CORREL($B$1:B50,$O$1:O50)","v":{"$error":"#N/A"}},{"$f":"'Sheet3 (2)'!Y50","v":-5.3055088867265811E-4},{"$f":"CORREL($B$1:B50,$Q$1:Q50)","v":{"$error":"#N/A"}},{"$f":"'Sheet3 (2)'!AA50","v":1.4153860935463881E-2},{"$f":"CORREL($B$1:B50,$S$1:S50)","v":{"$error":"#N/A"}}]
[null,{"$f":"'Sheet3 (2)'!I51","v":{"$error":"#N/A"}},{"$f":"'Sheet3 (2)'!K51","v":-3.0280881278060864E-3},{"$f":"CORREL($B$1:B51,$C$1:C51)","v":{"$error":"#N/A"}},{"$f":"'Sheet3 (2)'!M51","v":9.2265640580458334E-3},{"$f":"CORREL($B$1:B51,$E$1:E51)","v":{"$error":"#N/A"}},{"$f":"'Sheet3 (2)'!O51","v":6.4930095658572318E-3},{"$f":"CORREL($B$1:B51,$G$1:G51)","v":{"$error":"#N/A"}},{"$f":"'Sheet3 (2)'!Q51","v":3.5521454958795115E-3},{"$f":"CORREL($B$1:B51,$I$1:I51)","v":{"$error":"#N/A"}},{"$f":"'Sheet3 (2)'!S51","v":4.5724737082762047E-3},{"$f":"CORREL($B$1:B51,$K$1:K51)","v":{"$error":"#N/A"}},{"$f":"'Sheet3 (2)'!U51","v":-1.6278932102054106E-3},{"$f":"CORREL($B$1:B51,$M$1:M51)","v":{"$error":"#N/A"}},{"$f":"'Sheet3 (2)'!W51","v":-8.1085065605189452E-3},{"$f":"CORREL($B$1:B51,$O$1:O51)","v":{"$error":"#N/A"}},{"$f":"'Sheet3 (2)'!Y51","v":-4.1265069118980052E-4},{"$f":"CORREL($B$1:B51,$Q$1:Q51)","v":{"$error":"#N/A"}},{"$f":"'Sheet3 (2)'!AA51","v":1.4592228287304734E-2},{"$f":"CORREL($B$1:B51,$S$1:S51)","v":{"$error":"#N/A"}}]
[null,{"$f":"'Sheet3 (2)'!I52","v":{"$error":"#N/A"}},{"$f":"'Sheet3 (2)'!K52","v":-3.5327694824405223E-3},{"$f":"CORREL($B$1:B52,$C$1:C52)","v":{"$error":"#N/A"}},{"$f":"'Sheet3 (2)'!M52","v":9.3262789906503121E-3},{"$f":"CORREL($B$1:B52,$E$1:E52)","v":{"$error":"#N/A"}},{"$f":"'Sheet3 (2)'!O52","v":7.1346578366445271E-3},{"$f":"CORREL($B$1:B52,$G$1:G52)","v":{"$error":"#N/A"}},{"$f":"'Sheet3 (2)'!Q52","v":3.8836790754950348E-3},{"$f":"CORREL($B$1:B52,$I$1:I52)","v":{"$error":"#N/A"}},{"$f":"'Sheet3 (2)'!S52","v":4.3705722718067799E-3},{"$f":"CORREL($B$1:B52,$K$1:K52)","v":{"$error":"#N/A"}},{"$f":"'Sheet3 (2)'!U52","v":-1.610134375185004E-3},{"$f":"CORREL($B$1:B52,$M$1:M52)","v":{"$error":"#N/A"}},{"$f":"'Sheet3 (2)'!W52","v":-6.8642193719593691E-3},{"$f":"CORREL($B$1:B52,$O$1:O52)","v":{"$error":"#N/A"}},{"$f":"'Sheet3 (2)'!Y52","v":-6.720311256520605E-4},{"$f":"CORREL($B$1:B52,$Q$1:Q52)","v":{"$error":"#N/A"}},{"$f":"'Sheet3 (2)'!AA52","v":1.4760369189380658E-2},{"$f":"CORREL($B$1:B52,$S$1:S52)","v":{"$error":"#N/A"}}]
[null,{"$f":"'Sheet3 (2)'!I53","v":{"$error":"#N/A"}},{"$f":"'Sheet3 (2)'!K53","v":-3.3181348833430792E-3},{"$f":"CORREL($B$1:B53,$C$1:C53)","v":{"$error":"#N/A"}},{"$f":"'Sheet3 (2)'!M53","v":9.7603322266931608E-3},{"$f":"CORREL($B$1:B53,$E$1:E53)","v":{"$error":"#N/A"}},{"$f":"'Sheet3 (2)'!O53","v":7.7763061074319568E-3},{"$f":"CORREL($B$1:B53,$G$1:G53)","v":{"$error":"#N/A"}},{"$f":"'Sheet3 (2)'!Q53","v":4.037605380316475E-3},{"$f":"CORREL($B$1:B53,$I$1:I53)","v":{"$error":"#N/A"}},{"$f":"'Sheet3 (2)'!S53","v":4.1271028925350187E-3},{"$f":"CORREL($B$1:B53,$K$1:K53)","v":{"$error":"#N/A"}},{"$f":"'Sheet3 (2)'!U53","v":-2.0541052506955707E-3},{"$f":"CORREL($B$1:B53,$M$1:M53)","v":{"$error":"#N/A"}},{"$f":"'Sheet3 (2)'!W53","v":-6.9880583812471824E-3},{"$f":"CORREL($B$1:B53,$O$1:O53)","v":{"$error":"#N/A"}},{"$f":"'Sheet3 (2)'!Y53","v":-1.6152327055147871E-3},{"$f":"CORREL($B$1:B53,$Q$1:Q53)","v":{"$error":"#N/A"}},{"$f":"'Sheet3 (2)'!AA53","v":1.5883310213959324E-2},{"$f":"CORREL($B$1:B53,$S$1:S53)","v":{"$error":"#N/A"}}]
[null,{"$f":"'Sheet3 (2)'!I54","v":{"$error":"#N/A"}},{"$f":"'Sheet3 (2)'!K54","v":-3.7067975357626911E-3},{"$f":"CORREL($B$1:B54,$C$1:C54)","v":{"$error":"#N/A"}},{"$f":"'Sheet3 (2)'!M54","v":9.5374400244008263E-3},{"$f":"CORREL($B$1:B54,$E$1:E54)","v":{"$error":"#N/A"}},{"$f":"'Sheet3 (2)'!O54","v":6.8050036791758323E-3},{"$f":"CORREL($B$1:B54,$G$1:G54)","v":{"$error":"#N/A"}},{"$f":"'Sheet3 (2)'!Q54","v":4.6177891446434723E-3},{"$f":"CORREL($B$1:B54,$I$1:I54)","v":{"$error":"#N/A"}},{"$f":"'Sheet3 (2)'!S54","v":5.2019311278570486E-3},{"$f":"CORREL($B$1:B54,$K$1:K54)","v":{"$error":"#N/A"}},{"$f":"'Sheet3 (2)'!U54","v":-2.6342271946960551E-3},{"$f":"CORREL($B$1:B54,$M$1:M54)","v":{"$error":"#N/A"}},{"$f":"'Sheet3 (2)'!W54","v":-7.6367389060887783E-3},{"$f":"CORREL($B$1:B54,$O$1:O54)","v":{"$error":"#N/A"}},{"$f":"'Sheet3 (2)'!Y54","v":-2.7234945618533268E-3},{"$f":"CORREL($B$1:B54,$Q$1:Q54)","v":{"$error":"#N/A"}},{"$f":"'Sheet3 (2)'!AA54","v":1.6549868790046027E-2},{"$f":"CORREL($B$1:B54,$S$1:S54)","v":{"$error":"#N/A"}}]
[null,{"$f":"'Sheet3 (2)'!I55","v":{"$error":"#N/A"}},{"$f":"'Sheet3 (2)'!K55","v":-3.8460199784204532E-3},{"$f":"CORREL($B$1:B55,$C$1:C55)","v":{"$error":"#N/A"}},{"$f":"'Sheet3 (2)'!M55","v":9.4083971704422599E-3},{"$f":"CORREL($B$1:B55,$E$1:E55)","v":{"$error":"#N/A"}},{"$f":"'Sheet3 (2)'!O55","v":5.2509197939661946E-3},{"$f":"CORREL($B$1:B55,$G$1:G55)","v":{"$error":"#N/A"}},{"$f":"'Sheet3 (2)'!Q55","v":4.7598749644786583E-3},{"$f":"CORREL($B$1:B55,$I$1:I55)","v":{"$error":"#N/A"}},{"$f":"'Sheet3 (2)'!S55","v":4.4774612675847029E-3},{"$f":"CORREL($B$1:B55,$K$1:K55)","v":{"$error":"#N/A"}},{"$f":"'Sheet3 (2)'!U55","v":-2.3619250577162194E-3},{"$f":"CORREL($B$1:B55,$M$1:M55)","v":{"$error":"#N/A"}},{"$f":"'Sheet3 (2)'!W55","v":-7.6485330974495223E-3},{"$f":"CORREL($B$1:B55,$O$1:O55)","v":{"$error":"#N/A"}},{"$f":"'Sheet3 (2)'!Y55","v":-1.285112152562759E-3},{"$f":"CORREL($B$1:B55,$Q$1:Q55)","v":{"$error":"#N/A"}},{"$f":"'Sheet3 (2)'!AA55","v":1.6868135497546895E-2},{"$f":"CORREL($B$1:B55,$S$1:S55)","v":{"$error":"#N/A"}}]
[null,{"$f":"'Sheet3 (2)'!I56","v":{"$error":"#N/A"}},{"$f":"'Sheet3 (2)'!K56","v":-4.0838583179608349E-3},{"$f":"CORREL($B$1:B56,$C$1:C56)","v":{"$error":"#N/A"}},{"$f":"'Sheet3 (2)'!M56","v":8.9919406872119439E-3},{"$f":"CORREL($B$1:B56,$E$1:E56)","v":{"$error":"#N/A"}},{"$f":"'Sheet3 (2)'!O56","v":3.9323031640912812E-3},{"$f":"CORREL($B$1:B56,$G$1:G56)","v":{"$error":"#N/A"}},{"$f":"'Sheet3 (2)'!Q56","v":4.5763474471914476E-3},{"$f":"CORREL($B$1:B56,$I$1:I56)","v":{"$error":"#N/A"}},{"$f":"'Sheet3 (2)'!S56","v":4.2874363862018348E-3},{"$f":"CORREL($B$1:B56,$K$1:K56)","v":{"$error":"#N/A"}},{"$f":"'Sheet3 (2)'!U56","v":-2.3382466110223438E-3},{"$f":"CORREL($B$1:B56,$M$1:M56)","v":{"$error":"#N/A"}},{"$f":"'Sheet3 (2)'!W56","v":-7.7723721067374692E-3},{"$f":"CORREL($B$1:B56,$O$1:O56)","v":{"$error":"#N/A"}},{"$f":"'Sheet3 (2)'!Y56","v":-1.1377369057092206E-3},{"$f":"CORREL($B$1:B56,$Q$1:Q56)","v":{"$error":"#N/A"}},{"$f":"'Sheet3 (2)'!AA56","v":1.6363712791319127E-2},{"$f":"CORREL($B$1:B56,$S$1:S56)","v":{"$error":"#N/A"}}]
[null,{"$f":"'Sheet3 (2)'!I57","v":{"$error":"#N/A"}},{"$f":"'Sheet3 (2)'!K57","v":-5.0178088707898928E-3},{"$f":"CORREL($B$1:B57,$C$1:C57)","v":{"$error":"#N/A"}},{"$f":"'Sheet3 (2)'!M57","v":8.7338549792945475E-3},{"$f":"CORREL($B$1:B57,$E$1:E57)","v":{"$error":"#N/A"}},{"$f":"'Sheet3 (2)'!O57","v":6.4105960264901254E-3},{"$f":"CORREL($B$1:B57,$G$1:G57)","v":{"$error":"#N/A"}},{"$f":"'Sheet3 (2)'!Q57","v":4.2033721701241695E-3},{"$f":"CORREL($B$1:B57,$I$1:I57)","v":{"$error":"#N/A"}},{"$f":"'Sheet3 (2)'!S57","v":4.1033497823621768E-3},{"$f":"CORREL($B$1:B57,$K$1:K57)","v":{"$error":"#N/A"}},{"$f":"'Sheet3 (2)'!U57","v":-1.8291600071034856E-3},{"$f":"CORREL($B$1:B57,$M$1:M57)","v":{"$error":"#N/A"}},{"$f":"'Sheet3 (2)'!W57","v":-6.5988500663423585E-3},{"$f":"CORREL($B$1:B57,$O$1:O57)","v":{"$error":"#N/A"}},{"$f":"'Sheet3 (2)'!Y57","v":-7.1329619477101364E-4},{"$f":"CORREL($B$1:B57,$Q$1:Q57)","v":{"$error":"#N/A"}},{"$f":"'Sheet3 (2)'!AA57","v":1.7516678976982756E-2},{"$f":"CORREL($B$1:B57,$S$1:S57)","v":{"$error":"#N/A"}}]
[null,{"$f":"'Sheet3 (2)'!I58","v":{"$error":"#N/A"}},{"$f":"'Sheet3 (2)'!K58","v":-4.7683686610280416E-3},{"$f":"CORREL($B$1:B58,$C$1:C58)","v":{"$error":"#N/A"}},{"$f":"'Sheet3 (2)'!M58","v":8.0065225297092386E-3},{"$f":"CORREL($B$1:B58,$E$1:E58)","v":{"$error":"#N/A"}},{"$f":"'Sheet3 (2)'!O58","v":6.3752759381898024E-3},{"$f":"CORREL($B$1:B58,$G$1:G58)","v":{"$error":"#N/A"}},{"$f":"'Sheet3 (2)'!Q58","v":4.2684948375485681E-3},{"$f":"CORREL($B$1:B58,$I$1:I58)","v":{"$error":"#N/A"}},{"$f":"'Sheet3 (2)'!S58","v":4.7506220345726515E-3},{"$f":"CORREL($B$1:B58,$K$1:K58)","v":{"$error":"#N/A"}},{"$f":"'Sheet3 (2)'!U58","v":-2.5750310779612318E-3},{"$f":"CORREL($B$1:B58,$M$1:M58)","v":{"$error":"#N/A"}},{"$f":"'Sheet3 (2)'!W58","v":-6.3806575261683247E-3},{"$f":"CORREL($B$1:B58,$O$1:O58)","v":{"$error":"#N/A"}},{"$f":"'Sheet3 (2)'!Y58","v":-1.3853273204232081E-3},{"$f":"CORREL($B$1:B58,$Q$1:Q58)","v":{"$error":"#N/A"}},{"$f":"'Sheet3 (2)'!AA58","v":1.8483489163919349E-2},{"$f":"CORREL($B$1:B58,$S$1:S58)","v":{"$error":"#N/A"}}]
[null,{"$f":"'Sheet3 (2)'!I59","v":{"$error":"#N/A"}},{"$f":"'Sheet3 (2)'!K59","v":-3.9968442912996843E-3},{"$f":"CORREL($B$1:B59,$C$1:C59)","v":{"$error":"#N/A"}},{"$f":"'Sheet3 (2)'!M59","v":8.7749140691904537E-3},{"$f":"CORREL($B$1:B59,$E$1:E59)","v":{"$error":"#N/A"}},{"$f":"'Sheet3 (2)'!O59","v":3.8263428991905813E-3},{"$f":"CORREL($B$1:B59,$G$1:G59)","v":{"$error":"#N/A"}},{"$f":"'Sheet3 (2)'!Q59","v":4.0908875627546195E-3},{"$f":"CORREL($B$1:B59,$I$1:I59)","v":{"$error":"#N/A"}},{"$f":"'Sheet3 (2)'!S59","v":5.6769933313142867E-3},{"$f":"CORREL($B$1:B59,$K$1:K59)","v":{"$error":"#N/A"}},{"$f":"'Sheet3 (2)'!U59","v":-2.7348605931450253E-3},{"$f":"CORREL($B$1:B59,$M$1:M59)","v":{"$error":"#N/A"}},{"$f":"'Sheet3 (2)'!W59","v":-6.5693645879404986E-3},{"$f":"CORREL($B$1:B59,$O$1:O59)","v":{"$error":"#N/A"}},{"$f":"'Sheet3 (2)'!Y59","v":-6.5434609602965188E-4},{"$f":"CORREL($B$1:B59,$Q$1:Q59)","v":{"$error":"#N/A"}},{"$f":"'Sheet3 (2)'!AA59","v":1.8933866580194185E-2},{"$f":"CORREL($B$1:B59,$S$1:S59)","v":{"$error":"#N/A"}}]
[null,{"$f":"'Sheet3 (2)'!I60","v":{"$error":"#N/A"}},{"$f":"'Sheet3 (2)'!K60","v":-3.6487881846553457E-3},{"$f":"CORREL($B$1:B60,$C$1:C60)","v":{"$error":"#N/A"}},{"$f":"'Sheet3 (2)'!M60","v":8.5637530354399412E-3},{"$f":"CORREL($B$1:B60,$E$1:E60)","v":{"$error":"#N/A"}},{"$f":"'Sheet3 (2)'!O60","v":3.2317880794702041E-3},{"$f":"CORREL($B$1:B60,$G$1:G60)","v":{"$error":"#N/A"}},{"$f":"'Sheet3 (2)'!Q60","v":3.1258880363740885E-3},{"$f":"CORREL($B$1:B60,$I$1:I60)","v":{"$error":"#N/A"}},{"$f":"'Sheet3 (2)'!S60","v":5.1009804096223367E-3},{"$f":"CORREL($B$1:B60,$K$1:K60)","v":{"$error":"#N/A"}},{"$f":"'Sheet3 (2)'!U60","v":-2.2376132125732392E-3},{"$f":"CORREL($B$1:B60,$M$1:M60)","v":{"$error":"#N/A"}},{"$f":"'Sheet3 (2)'!W60","v":-6.4573197700132949E-3},{"$f":"CORREL($B$1:B60,$O$1:O60)","v":{"$error":"#N/A"}},{"$f":"'Sheet3 (2)'!Y60","v":7.368762342676924E-4},{"$f":"CORREL($B$1:B60,$Q$1:Q60)","v":{"$error":"#N/A"}},{"$f":"'Sheet3 (2)'!AA60","v":1.8873816258024263E-2},{"$f":"CORREL($B$1:B60,$S$1:S60)","v":{"$error":"#N/A"}}]
[null,{"$f":"'Sheet3 (2)'!I61","v":{"$error":"#N/A"}},{"$f":"'Sheet3 (2)'!K61","v":-3.0918984140242988E-3},{"$f":"CORREL($B$1:B61,$C$1:C61)","v":{"$error":"#N/A"}},{"$f":"'Sheet3 (2)'!M61","v":8.4757692713771492E-3},{"$f":"CORREL($B$1:B61,$E$1:E61)","v":{"$error":"#N/A"}},{"$f":"'Sheet3 (2)'!O61","v":3.3907284768211867E-3},{"$f":"CORREL($B$1:B61,$G$1:G61)","v":{"$error":"#N/A"}},{"$f":"'Sheet3 (2)'!Q61","v":2.6226674244577437E-3},{"$f":"CORREL($B$1:B61,$I$1:I61)","v":{"$error":"#N/A"}},{"$f":"'Sheet3 (2)'!S61","v":5.0891038545359153E-3},{"$f":"CORREL($B$1:B61,$K$1:K61)","v":{"$error":"#N/A"}},{"$f":"'Sheet3 (2)'!U61","v":-2.3796838927366256E-3},{"$f":"CORREL($B$1:B61,$M$1:M61)","v":{"$error":"#N/A"}},{"$f":"'Sheet3 (2)'!W61","v":-6.6873065015479391E-3},{"$f":"CORREL($B$1:B61,$O$1:O61)","v":{"$error":"#N/A"}},{"$f":"'Sheet3 (2)'!Y61","v":1.0021516786040885E-3},{"$f":"CORREL($B$1:B61,$Q$1:Q61)","v":{"$error":"#N/A"}},{"$f":"'Sheet3 (2)'!AA61","v":1.9762561026139956E-2},{"$f":"CORREL($B$1:B61,$S$1:S61)","v":{"$error":"#N/A"}}]
[null,{"$f":"'Sheet3 (2)'!I62","v":{"$error":"#N/A"}},{"$f":"'Sheet3 (2)'!K62","v":-3.6081816388800715E-3},{"$f":"CORREL($B$1:B62,$C$1:C62)","v":{"$error":"#N/A"}},{"$f":"'Sheet3 (2)'!M62","v":8.0182536982509253E-3},{"$f":"CORREL($B$1:B62,$E$1:E62)","v":{"$error":"#N/A"}},{"$f":"'Sheet3 (2)'!O62","v":5.415746872700542E-3},{"$f":"CORREL($B$1:B62,$G$1:G62)","v":{"$error":"#N/A"}},{"$f":"'Sheet3 (2)'!Q62","v":2.9542010040731325E-3},{"$f":"CORREL($B$1:B62,$I$1:I62)","v":{"$error":"#N/A"}},{"$f":"'Sheet3 (2)'!S62","v":5.0356593566470214E-3},{"$f":"CORREL($B$1:B62,$K$1:K62)","v":{"$error":"#N/A"}},{"$f":"'Sheet3 (2)'!U62","v":-2.40928195110397E-3},{"$f":"CORREL($B$1:B62,$M$1:M62)","v":{"$error":"#N/A"}},{"$f":"'Sheet3 (2)'!W62","v":-4.8061329795076463E-3},{"$f":"CORREL($B$1:B62,$O$1:O62)","v":{"$error":"#N/A"}},{"$f":"'Sheet3 (2)'!Y62","v":9.7857163910754371E-4},{"$f":"CORREL($B$1:B62,$Q$1:Q62)","v":{"$error":"#N/A"}},{"$f":"'Sheet3 (2)'!AA62","v":1.9372233932035039E-2},{"$f":"CORREL($B$1:B62,$S$1:S62)","v":{"$error":"#N/A"}}]
[null,{"$f":"'Sheet3 (2)'!I63","v":{"$error":"#N/A"}},{"$f":"'Sheet3 (2)'!K63","v":-3.9852424210782148E-3},{"$f":"CORREL($B$1:B63,$C$1:C63)","v":{"$error":"#N/A"}},{"$f":"'Sheet3 (2)'!M63","v":8.6458712152317554E-3},{"$f":"CORREL($B$1:B63,$E$1:E63)","v":{"$error":"#N/A"}},{"$f":"'Sheet3 (2)'!O63","v":4.7858719646799762E-3},{"$f":"CORREL($B$1:B63,$G$1:G63)","v":{"$error":"#N/A"}},{"$f":"'Sheet3 (2)'!Q63","v":2.9601212465662596E-3},{"$f":"CORREL($B$1:B63,$I$1:I63)","v":{"$error":"#N/A"}},{"$f":"'Sheet3 (2)'!S63","v":5.1900545727706273E-3},{"$f":"CORREL($B$1:B63,$K$1:K63)","v":{"$error":"#N/A"}},{"$f":"'Sheet3 (2)'!U63","v":-2.0718640857159769E-3},{"$f":"CORREL($B$1:B63,$M$1:M63)","v":{"$error":"#N/A"}},{"$f":"'Sheet3 (2)'!W63","v":-4.758956214064536E-3},{"$f":"CORREL($B$1:B63,$O$1:O63)","v":{"$error":"#N/A"}},{"$f":"'Sheet3 (2)'!Y63","v":6.3666106640737738E-4},{"$f":"CORREL($B$1:B63,$Q$1:Q63)","v":{"$error":"#N/A"}},{"$f":"'Sheet3 (2)'!AA63","v":1.9654470446233956E-2},{"$f":"CORREL($B$1:B63,$S$1:S63)","v":{"$error":"#N/A"}}]
[null,{"$f":"'Sheet3 (2)'!I64","v":{"$error":"#N/A"}},{"$f":"'Sheet3 (2)'!K64","v":-3.9736405508567453E-3},{"$f":"CORREL($B$1:B64,$C$1:C64)","v":{"$error":"#N/A"}},{"$f":"'Sheet3 (2)'!M64","v":8.8453010804407147E-3},{"$f":"CORREL($B$1:B64,$E$1:E64)","v":{"$error":"#N/A"}},{"$f":"'Sheet3 (2)'!O64","v":4.49153789551147E-3},{"$f":"CORREL($B$1:B64,$G$1:G64)","v":{"$error":"#N/A"}},{"$f":"'Sheet3 (2)'!Q64","v":2.7469925168135479E-3},{"$f":"CORREL($B$1:B64,$I$1:I64)","v":{"$error":"#N/A"}},{"$f":"'Sheet3 (2)'!S64","v":4.8575110303505746E-3},{"$f":"CORREL($B$1:B64,$K$1:K64)","v":{"$error":"#N/A"}},{"$f":"'Sheet3 (2)'!U64","v":-2.2198543775528326E-3},{"$f":"CORREL($B$1:B64,$M$1:M64)","v":{"$error":"#N/A"}},{"$f":"'Sheet3 (2)'!W64","v":-3.579537077989053E-3},{"$f":"CORREL($B$1:B64,$O$1:O64)","v":{"$error":"#N/A"}},{"$f":"'Sheet3 (2)'!Y64","v":-3.4780558257430257E-4},{"$f":"CORREL($B$1:B64,$Q$1:Q64)","v":{"$error":"#N/A"}},{"$f":"'Sheet3 (2)'!AA64","v":1.9342208770950078E-2},{"$f":"CORREL($B$1:B64,$S$1:S64)","v":{"$error":"#N/A"}}]
[null,{"$f":"'Sheet3 (2)'!I65","v":{"$error":"#N/A"}},{"$f":"'Sheet3 (2)'!K65","v":-3.9852424210782148E-3},{"$f":"CORREL($B$1:B65,$C$1:C65)","v":{"$error":"#N/A"}},{"$f":"'Sheet3 (2)'!M65","v":8.3349952488767625E-3},{"$f":"CORREL($B$1:B65,$E$1:E65)","v":{"$error":"#N/A"}},{"$f":"'Sheet3 (2)'!O65","v":5.2097130242825069E-3},{"$f":"CORREL($B$1:B65,$G$1:G65)","v":{"$error":"#N/A"}},{"$f":"'Sheet3 (2)'!Q65","v":2.9482807615800054E-3},{"$f":"CORREL($B$1:B65,$I$1:I65)","v":{"$error":"#N/A"}},{"$f":"'Sheet3 (2)'!S65","v":5.2019311278570486E-3},{"$f":"CORREL($B$1:B65,$K$1:K65)","v":{"$error":"#N/A"}},{"$f":"'Sheet3 (2)'!U65","v":-2.2612916592671143E-3},{"$f":"CORREL($B$1:B65,$M$1:M65)","v":{"$error":"#N/A"}},{"$f":"'Sheet3 (2)'!W65","v":-3.5028748341442164E-3},{"$f":"CORREL($B$1:B65,$O$1:O65)","v":{"$error":"#N/A"}},{"$f":"'Sheet3 (2)'!Y65","v":-1.120051876086812E-3},{"$f":"CORREL($B$1:B65,$Q$1:Q65)","v":{"$error":"#N/A"}},{"$f":"'Sheet3 (2)'!AA65","v":1.961243522071501E-2},{"$f":"CORREL($B$1:B65,$S$1:S65)","v":{"$error":"#N/A"}}]
[null,{"$f":"'Sheet3 (2)'!I66","v":{"$error":"#N/A"}},{"$f":"'Sheet3 (2)'!K66","v":-4.0084461615211529E-3},{"$f":"CORREL($B$1:B66,$C$1:C66)","v":{"$error":"#N/A"}},{"$f":"'Sheet3 (2)'!M66","v":7.8598829229380076E-3},{"$f":"CORREL($B$1:B66,$E$1:E66)","v":{"$error":"#N/A"}},{"$f":"'Sheet3 (2)'!O66","v":7.3877851361294801E-3},{"$f":"CORREL($B$1:B66,$G$1:G66)","v":{"$error":"#N/A"}},{"$f":"'Sheet3 (2)'!Q66","v":1.8234346878849073E-3},{"$f":"CORREL($B$1:B66,$I$1:I66)","v":{"$error":"#N/A"}},{"$f":"'Sheet3 (2)'!S66","v":5.7541909393761569E-3},{"$f":"CORREL($B$1:B66,$K$1:K66)","v":{"$error":"#N/A"}},{"$f":"'Sheet3 (2)'!U66","v":-2.2080151542058948E-3},{"$f":"CORREL($B$1:B66,$M$1:M66)","v":{"$error":"#N/A"}},{"$f":"'Sheet3 (2)'!W66","v":-3.8331121922453191E-3},{"$f":"CORREL($B$1:B66,$O$1:O66)","v":{"$error":"#N/A"}},{"$f":"'Sheet3 (2)'!Y66","v":-6.3666106640724337E-4},{"$f":"CORREL($B$1:B66,$Q$1:Q66)","v":{"$error":"#N/A"}},{"$f":"'Sheet3 (2)'!AA66","v":1.9288163480997145E-2},{"$f":"CORREL($B$1:B66,$S$1:S66)","v":{"$error":"#N/A"}}]
[null,{"$f":"'Sheet3 (2)'!I67","v":{"$error":"#N/A"}},{"$f":"'Sheet3 (2)'!K67","v":-4.3100947872796152E-3},{"$f":"CORREL($B$1:B67,$C$1:C67)","v":{"$error":"#N/A"}},{"$f":"'Sheet3 (2)'!M67","v":8.4992316084605245E-3},{"$f":"CORREL($B$1:B67,$E$1:E67)","v":{"$error":"#N/A"}},{"$f":"'Sheet3 (2)'!O67","v":7.470198675496721E-3},{"$f":"CORREL($B$1:B67,$G$1:G67)","v":{"$error":"#N/A"}},{"$f":"'Sheet3 (2)'!Q67","v":2.894998579141861E-3},{"$f":"CORREL($B$1:B67,$I$1:I67)","v":{"$error":"#N/A"}},{"$f":"'Sheet3 (2)'!S67","v":5.8373268249811028E-3},{"$f":"CORREL($B$1:B67,$K$1:K67)","v":{"$error":"#N/A"}},{"$f":"'Sheet3 (2)'!U67","v":-2.7762978748594415E-3},{"$f":"CORREL($B$1:B67,$M$1:M67)","v":{"$error":"#N/A"}},{"$f":"'Sheet3 (2)'!W67","v":-4.3225711337166019E-3},{"$f":"CORREL($B$1:B67,$O$1:O67)","v":{"$error":"#N/A"}},{"$f":"'Sheet3 (2)'!Y67","v":-5.7181595779161136E-4},{"$f":"CORREL($B$1:B67,$Q$1:Q67)","v":{"$error":"#N/A"}},{"$f":"'Sheet3 (2)'!AA67","v":1.9570399995195924E-2},{"$f":"CORREL($B$1:B67,$S$1:S67)","v":{"$error":"#N/A"}}]
[null,{"$f":"'Sheet3 (2)'!I68","v":{"$error":"#N/A"}},{"$f":"'Sheet3 (2)'!K68","v":-4.2462845010615346E-3},{"$f":"CORREL($B$1:B68,$C$1:C68)","v":{"$error":"#N/A"}},{"$f":"'Sheet3 (2)'!M68","v":8.9215536759616847E-3},{"$f":"CORREL($B$1:B68,$E$1:E68)","v":{"$error":"#N/A"}},{"$f":"'Sheet3 (2)'!O68","v":7.1287711552611623E-3},{"$f":"CORREL($B$1:B68,$G$1:G68)","v":{"$error":"#N/A"}},{"$f":"'Sheet3 (2)'!Q68","v":3.2798143411955287E-3},{"$f":"CORREL($B$1:B68,$I$1:I68)","v":{"$error":"#N/A"}},{"$f":"'Sheet3 (2)'!S68","v":5.5166598376474706E-3},{"$f":"CORREL($B$1:B68,$K$1:K68)","v":{"$error":"#N/A"}},{"$f":"'Sheet3 (2)'!U68","v":-4.3213165216361539E-3},{"$f":"CORREL($B$1:B68,$M$1:M68)","v":{"$error":"#N/A"}},{"$f":"'Sheet3 (2)'!W68","v":-5.785050862450211E-3},{"$f":"CORREL($B$1:B68,$O$1:O68)","v":{"$error":"#N/A"}},{"$f":"'Sheet3 (2)'!Y68","v":-2.0809384855719473E-3},{"$f":"CORREL($B$1:B68,$Q$1:Q68)","v":{"$error":"#N/A"}},{"$f":"'Sheet3 (2)'!AA68","v":1.9606430188498017E-2},{"$f":"CORREL($B$1:B68,$S$1:S68)","v":{"$error":"#N/A"}}]
[null,{"$f":"'Sheet3 (2)'!I69","v":{"$error":"#N/A"}},{"$f":"'Sheet3 (2)'!K69","v":-4.3274975926118186E-3},{"$f":"CORREL($B$1:B69,$C$1:C69)","v":{"$error":"#N/A"}},{"$f":"'Sheet3 (2)'!M69","v":9.1151179568997997E-3},{"$f":"CORREL($B$1:B69,$E$1:E69)","v":{"$error":"#N/A"}},{"$f":"'Sheet3 (2)'!O69","v":7.5584988962471922E-3},{"$f":"CORREL($B$1:B69,$G$1:G69)","v":{"$error":"#N/A"}},{"$f":"'Sheet3 (2)'!Q69","v":3.29757506867491E-3},{"$f":"CORREL($B$1:B69,$I$1:I69)","v":{"$error":"#N/A"}},{"$f":"'Sheet3 (2)'!S69","v":5.4038325643263373E-3},{"$f":"CORREL($B$1:B69,$K$1:K69)","v":{"$error":"#N/A"}},{"$f":"'Sheet3 (2)'!U69","v":-2.8354939915941299E-3},{"$f":"CORREL($B$1:B69,$M$1:M69)","v":{"$error":"#N/A"}},{"$f":"'Sheet3 (2)'!W69","v":-4.5525578652513797E-3},{"$f":"CORREL($B$1:B69,$O$1:O69)","v":{"$error":"#N/A"}},{"$f":"'Sheet3 (2)'!Y69","v":-1.9453532584666811E-3},{"$f":"CORREL($B$1:B69,$Q$1:Q69)","v":{"$error":"#N/A"}},{"$f":"'Sheet3 (2)'!AA69","v":1.9768566058356946E-2},{"$f":"CORREL($B$1:B69,$S$1:S69)","v":{"$error":"#N/A"}}]
[null,{"$f":"'Sheet3 (2)'!I70","v":{"$error":"#N/A"}},{"$f":"'Sheet3 (2)'!K70","v":-4.0954601881823035E-3},{"$f":"CORREL($B$1:B70,$C$1:C70)","v":{"$error":"#N/A"}},{"$f":"'Sheet3 (2)'!M70","v":8.8511666647115572E-3},{"$f":"CORREL($B$1:B70,$E$1:E70)","v":{"$error":"#N/A"}},{"$f":"'Sheet3 (2)'!O70","v":7.5702722590139217E-3},{"$f":"CORREL($B$1:B70,$G$1:G70)","v":{"$error":"#N/A"}},{"$f":"'Sheet3 (2)'!Q70","v":3.3922989485649442E-3},{"$f":"CORREL($B$1:B70,$I$1:I70)","v":{"$error":"#N/A"}},{"$f":"'Sheet3 (2)'!S70","v":4.952523471041941E-3},{"$f":"CORREL($B$1:B70,$K$1:K70)","v":{"$error":"#N/A"}},{"$f":"'Sheet3 (2)'!U70","v":-4.2266027348605182E-3},{"$f":"CORREL($B$1:B70,$M$1:M70)","v":{"$error":"#N/A"}},{"$f":"'Sheet3 (2)'!W70","v":-4.7471620227037912E-3},{"$f":"CORREL($B$1:B70,$O$1:O70)","v":{"$error":"#N/A"}},{"$f":"'Sheet3 (2)'!Y70","v":-1.7036578536268299E-3},{"$f":"CORREL($B$1:B70,$Q$1:Q70)","v":{"$error":"#N/A"}},{"$f":"'Sheet3 (2)'!AA70","v":1.9402259093120003E-2},{"$f":"CORREL($B$1:B70,$S$1:S70)","v":{"$error":"#N/A"}}]
[null,{"$f":"'Sheet3 (2)'!I71","v":{"$error":"#N/A"}},{"$f":"'Sheet3 (2)'!K71","v":-4.1534695392896493E-3},{"$f":"CORREL($B$1:B71,$C$1:C71)","v":{"$error":"#N/A"}},{"$f":"'Sheet3 (2)'!M71","v":8.9978062714827882E-3},{"$f":"CORREL($B$1:B71,$E$1:E71)","v":{"$error":"#N/A"}},{"$f":"'Sheet3 (2)'!O71","v":7.4407652685798973E-3},{"$f":"CORREL($B$1:B71,$G$1:G71)","v":{"$error":"#N/A"}},{"$f":"'Sheet3 (2)'!Q71","v":3.3508572511130544E-3},{"$f":"CORREL($B$1:B71,$I$1:I71)","v":{"$error":"#N/A"}},{"$f":"'Sheet3 (2)'!S71","v":5.3800794541534955E-3},{"$f":"CORREL($B$1:B71,$K$1:K71)","v":{"$error":"#N/A"}},{"$f":"'Sheet3 (2)'!U71","v":-3.5813650624518761E-3},{"$f":"CORREL($B$1:B71,$M$1:M71)","v":{"$error":"#N/A"}},{"$f":"'Sheet3 (2)'!W71","v":-3.8095238095238308E-3},{"$f":"CORREL($B$1:B71,$O$1:O71)","v":{"$error":"#N/A"}},{"$f":"'Sheet3 (2)'!Y71","v":-1.5857576561439722E-3},{"$f":"CORREL($B$1:B71,$Q$1:Q71)","v":{"$error":"#N/A"}},{"$f":"'Sheet3 (2)'!AA71","v":1.7840950716700617E-2},{"$f":"CORREL($B$1:B71,$S$1:S71)","v":{"$error":"#N/A"}}]
[null,{"$f":"'Sheet3 (2)'!I72","v":{"$error":"#N/A"}},{"$f":"'Sheet3 (2)'!K72","v":-4.3681041383870928E-3},{"$f":"CORREL($B$1:B72,$C$1:C72)","v":{"$error":"#N/A"}},{"$f":"'Sheet3 (2)'!M72","v":9.6136926199219298E-3},{"$f":"CORREL($B$1:B72,$E$1:E72)","v":{"$error":"#N/A"}},{"$f":"'Sheet3 (2)'!O72","v":6.2104488594554551E-3},{"$f":"CORREL($B$1:B72,$G$1:G72)","v":{"$error":"#N/A"}},{"$f":"'Sheet3 (2)'!Q72","v":3.8599981055225264E-3},{"$f":"CORREL($B$1:B72,$I$1:I72)","v":{"$error":"#N/A"}},{"$f":"'Sheet3 (2)'!S72","v":5.6413636660550244E-3},{"$f":"CORREL($B$1:B72,$K$1:K72)","v":{"$error":"#N/A"}},{"$f":"'Sheet3 (2)'!U72","v":-3.4215355472680831E-3},{"$f":"CORREL($B$1:B72,$M$1:M72)","v":{"$error":"#N/A"}},{"$f":"'Sheet3 (2)'!W72","v":-4.3284682293969739E-3},{"$f":"CORREL($B$1:B72,$O$1:O72)","v":{"$error":"#N/A"}},{"$f":"'Sheet3 (2)'!Y72","v":-2.4817991570134754E-3},{"$f":"CORREL($B$1:B72,$Q$1:Q72)","v":{"$error":"#N/A"}},{"$f":"'Sheet3 (2)'!AA72","v":1.8609594840476324E-2},{"$f":"CORREL($B$1:B72,$S$1:S72)","v":{"$error":"#N/A"}}]
[null,{"$f":"'Sheet3 (2)'!I73","v":{"$error":"#N/A"}},{"$f":"'Sheet3 (2)'!K73","v":-4.6871555694777576E-3},{"$f":"CORREL($B$1:B73,$C$1:C73)","v":{"$error":"#N/A"}},{"$f":"'Sheet3 (2)'!M73","v":9.6019614513802413E-3},{"$f":"CORREL($B$1:B73,$E$1:E73)","v":{"$error":"#N/A"}},{"$f":"'Sheet3 (2)'!O73","v":6.5106696100073261E-3},{"$f":"CORREL($B$1:B73,$G$1:G73)","v":{"$error":"#N/A"}},{"$f":"'Sheet3 (2)'!Q73","v":3.9606422279056877E-3},{"$f":"CORREL($B$1:B73,$I$1:I73)","v":{"$error":"#N/A"}},{"$f":"'Sheet3 (2)'!S73","v":5.5344746702771013E-3},{"$f":"CORREL($B$1:B73,$K$1:K73)","v":{"$error":"#N/A"}},{"$f":"'Sheet3 (2)'!U73","v":-3.8359083644113057E-3},{"$f":"CORREL($B$1:B73,$M$1:M73)","v":{"$error":"#N/A"}},{"$f":"'Sheet3 (2)'!W73","v":-3.6915818959162559E-3},{"$f":"CORREL($B$1:B73,$O$1:O73)","v":{"$error":"#N/A"}},{"$f":"'Sheet3 (2)'!Y73","v":-3.3424705986381618E-3},{"$f":"CORREL($B$1:B73,$Q$1:Q73)","v":{"$error":"#N/A"}},{"$f":"'Sheet3 (2)'!AA73","v":1.7642784653539731E-2},{"$f":"CORREL($B$1:B73,$S$1:S73)","v":{"$error":"#N/A"}}]
[null,{"$f":"'Sheet3 (2)'!I74","v":{"$error":"#N/A"}},{"$f":"'Sheet3 (2)'!K74","v":-5.2208415996658668E-3},{"$f":"CORREL($B$1:B74,$C$1:C74)","v":{"$error":"#N/A"}},{"$f":"'Sheet3 (2)'!M74","v":9.6547517098178361E-3},{"$f":"CORREL($B$1:B74,$E$1:E74)","v":{"$error":"#N/A"}},{"$f":"'Sheet3 (2)'!O74","v":4.6916850625460058E-3},{"$f":"CORREL($B$1:B74,$G$1:G74)","v":{"$error":"#N/A"}},{"$f":"'Sheet3 (2)'!Q74","v":3.3449370086199273E-3},{"$f":"CORREL($B$1:B74,$I$1:I74)","v":{"$error":"#N/A"}},{"$f":"'Sheet3 (2)'!S74","v":4.7565603121158626E-3},{"$f":"CORREL($B$1:B74,$K$1:K74)","v":{"$error":"#N/A"}},{"$f":"'Sheet3 (2)'!U74","v":-3.5517670040845321E-3},{"$f":"CORREL($B$1:B74,$M$1:M74)","v":{"$error":"#N/A"}},{"$f":"'Sheet3 (2)'!W74","v":-3.1313578062803749E-3},{"$f":"CORREL($B$1:B74,$O$1:O74)","v":{"$error":"#N/A"}},{"$f":"'Sheet3 (2)'!Y74","v":-3.3306805788898895E-3},{"$f":"CORREL($B$1:B74,$Q$1:Q74)","v":{"$error":"#N/A"}},{"$f":"'Sheet3 (2)'!AA74","v":1.7726855104577624E-2},{"$f":"CORREL($B$1:B74,$S$1:S74)","v":{"$error":"#N/A"}}]
[null,{"$f":"'Sheet3 (2)'!I75","v":{"$error":"#N/A"}},{"$f":"'Sheet3 (2)'!K75","v":-6.0097687747264284E-3},{"$f":"CORREL($B$1:B75,$C$1:C75)","v":{"$error":"#N/A"}},{"$f":"'Sheet3 (2)'!M75","v":1.0470067923465937E-2},{"$f":"CORREL($B$1:B75,$E$1:E75)","v":{"$error":"#N/A"}},{"$f":"'Sheet3 (2)'!O75","v":5.5275938189846066E-3},{"$f":"CORREL($B$1:B75,$G$1:G75)","v":{"$error":"#N/A"}},{"$f":"'Sheet3 (2)'!Q75","v":3.2206119162641227E-3},{"$f":"CORREL($B$1:B75,$I$1:I75)","v":{"$error":"#N/A"}},{"$f":"'Sheet3 (2)'!S75","v":5.0178445240173907E-3},{"$f":"CORREL($B$1:B75,$K$1:K75)","v":{"$error":"#N/A"}},{"$f":"'Sheet3 (2)'!U75","v":-3.5754454507784077E-3},{"$f":"CORREL($B$1:B75,$M$1:M75)","v":{"$error":"#N/A"}},{"$f":"'Sheet3 (2)'!W75","v":-3.1195636149196305E-3},{"$f":"CORREL($B$1:B75,$O$1:O75)","v":{"$error":"#N/A"}},{"$f":"'Sheet3 (2)'!Y75","v":-2.9475049370707696E-3},{"$f":"CORREL($B$1:B75,$Q$1:Q75)","v":{"$error":"#N/A"}},{"$f":"'Sheet3 (2)'!AA75","v":1.6970221045235902E-2},{"$f":"CORREL($B$1:B75,$S$1:S75)","v":{"$error":"#N/A"}}]
[null,{"$f":"'Sheet3 (2)'!I76","v":{"$error":"#N/A"}},{"$f":"'Sheet3 (2)'!K76","v":-5.2034387943335307E-3},{"$f":"CORREL($B$1:B76,$C$1:C76)","v":{"$error":"#N/A"}},{"$f":"'Sheet3 (2)'!M76","v":1.1297115305655591E-2},{"$f":"CORREL($B$1:B76,$E$1:E76)","v":{"$error":"#N/A"}},{"$f":"'Sheet3 (2)'!O76","v":3.8145695364238518E-3},{"$f":"CORREL($B$1:B76,$G$1:G76)","v":{"$error":"#N/A"}},{"$f":"'Sheet3 (2)'!Q76","v":3.8895993179881619E-3},{"$f":"CORREL($B$1:B76,$I$1:I76)","v":{"$error":"#N/A"}},{"$f":"'Sheet3 (2)'!S76","v":5.1959928503138375E-3},{"$f":"CORREL($B$1:B76,$K$1:K76)","v":{"$error":"#N/A"}},{"$f":"'Sheet3 (2)'!U76","v":-3.4333747706150209E-3},{"$f":"CORREL($B$1:B76,$M$1:M76)","v":{"$error":"#N/A"}},{"$f":"'Sheet3 (2)'!W76","v":-4.1338640719445615E-3},{"$f":"CORREL($B$1:B76,$O$1:O76)","v":{"$error":"#N/A"}},{"$f":"'Sheet3 (2)'!Y76","v":-2.4405340878945222E-3},{"$f":"CORREL($B$1:B76,$Q$1:Q76)","v":{"$error":"#N/A"}},{"$f":"'Sheet3 (2)'!AA76","v":1.8759720645901271E-2},{"$f":"CORREL($B$1:B76,$S$1:S76)","v":{"$error":"#N/A"}}]
[null,{"$f":"'Sheet3 (2)'!I77","v":{"$error":"#N/A"}},{"$f":"'Sheet3 (2)'!K77","v":-5.0004060654576885E-3},{"$f":"CORREL($B$1:B77,$C$1:C77)","v":{"$error":"#N/A"}},{"$f":"'Sheet3 (2)'!M77","v":1.0798540642633461E-2},{"$f":"CORREL($B$1:B77,$E$1:E77)","v":{"$error":"#N/A"}},{"$f":"'Sheet3 (2)'!O77","v":4.49153789551147E-3},{"$f":"CORREL($B$1:B77,$G$1:G77)","v":{"$error":"#N/A"}},{"$f":"'Sheet3 (2)'!Q77","v":4.8249976319030569E-3},{"$f":"CORREL($B$1:B77,$I$1:I77)","v":{"$error":"#N/A"}},{"$f":"'Sheet3 (2)'!S77","v":3.9370780111520152E-3},{"$f":"CORREL($B$1:B77,$K$1:K77)","v":{"$error":"#N/A"}},{"$f":"'Sheet3 (2)'!U77","v":-3.0426804001656739E-3},{"$f":"CORREL($B$1:B77,$M$1:M77)","v":{"$error":"#N/A"}},{"$f":"'Sheet3 (2)'!W77","v":-3.4851835471031E-3},{"$f":"CORREL($B$1:B77,$O$1:O77)","v":{"$error":"#N/A"}},{"$f":"'Sheet3 (2)'!Y77","v":-3.9496566156739201E-4},{"$f":"CORREL($B$1:B77,$Q$1:Q77)","v":{"$error":"#N/A"}},{"$f":"'Sheet3 (2)'!AA77","v":1.8423438841749424E-2},{"$f":"CORREL($B$1:B77,$S$1:S77)","v":{"$error":"#N/A"}}]
[null,{"$f":"'Sheet3 (2)'!I78","v":{"$error":"#N/A"}},{"$f":"'Sheet3 (2)'!K78","v":-4.5769378023736689E-3},{"$f":"CORREL($B$1:B78,$C$1:C78)","v":{"$error":"#N/A"}},{"$f":"'Sheet3 (2)'!M78","v":1.1144610114613518E-2},{"$f":"CORREL($B$1:B78,$E$1:E78)","v":{"$error":"#N/A"}},{"$f":"'Sheet3 (2)'!O78","v":3.5967623252390877E-3},{"$f":"CORREL($B$1:B78,$G$1:G78)","v":{"$error":"#N/A"}},{"$f":"'Sheet3 (2)'!Q78","v":5.7011935208866804E-3},{"$f":"CORREL($B$1:B78,$I$1:I78)","v":{"$error":"#N/A"}},{"$f":"'Sheet3 (2)'!S78","v":3.0463363796696427E-3},{"$f":"CORREL($B$1:B78,$K$1:K78)","v":{"$error":"#N/A"}},{"$f":"'Sheet3 (2)'!U78","v":-3.1433137986147785E-3},{"$f":"CORREL($B$1:B78,$M$1:M78)","v":{"$error":"#N/A"}},{"$f":"'Sheet3 (2)'!W78","v":-3.8036267138434588E-3},{"$f":"CORREL($B$1:B78,$O$1:O78)","v":{"$error":"#N/A"}},{"$f":"'Sheet3 (2)'!Y78","v":-3.5370059244843876E-4},{"$f":"CORREL($B$1:B78,$Q$1:Q78)","v":{"$error":"#N/A"}},{"$f":"'Sheet3 (2)'!AA78","v":1.8663640130429256E-2},{"$f":"CORREL($B$1:B78,$S$1:S78)","v":{"$error":"#N/A"}}]
[null,{"$f":"'Sheet3 (2)'!I79","v":{"$error":"#N/A"}},{"$f":"'Sheet3 (2)'!K79","v":{"$error":"#N/A"}},{"$f":"CORREL($B$1:B79,$C$1:C79)","v":{"$error":"#N/A"}},{"$f":"'Sheet3 (2)'!M79","v":{"$error":"#N/A"}},{"$f":"CORREL($B$1:B79,$E$1:E79)","v":{"$error":"#N/A"}},{"$f":"'Sheet3 (2)'!O79","v":{"$error":"#N/A"}},{"$f":"CORREL($B$1:B79,$G$1:G79)","v":{"$error":"#N/A"}},{"$f":"'Sheet3 (2)'!Q79","v":{"$error":"#N/A"}},{"$f":"CORREL($B$1:B79,$I$1:I79)","v":{"$error":"#N/A"}},{"$f":"'Sheet3 (2)'!S79","v":{"$error":"#N/A"}},{"$f":"CORREL($B$1:B79,$K$1:K79)","v":{"$error":"#N/A"}},{"$f":"'Sheet3 (2)'!U79","v":{"$error":"#N/A"}},{"$f":"CORREL($B$1:B79,$M$1:M79)","v":{"$error":"#N/A"}},{"$f":"'Sheet3 (2)'!W79","v":{"$error":"#N/A"}},{"$f":"CORREL($B$1:B79,$O$1:O79)","v":{"$error":"#N/A"}},{"$f":"'Sheet3 (2)'!Y79","v":{"$error":"#N/A"}},{"$f":"CORREL($B$1:B79,$Q$1:Q79)","v":{"$error":"#N/A"}},{"$f":"'Sheet3 (2)'!AA79","v":{"$error":"#N/A"}},{"$f":"CORREL($B$1:B79,$S$1:S79)","v":{"$error":"#N/A"}}]
[null,{"$f":"'Sheet3 (2)'!I80","v":{"$error":"#N/A"}},{"$f":"'Sheet3 (2)'!K80","v":{"$error":"#N/A"}},{"$f":"CORREL($B$1:B80,$C$1:C80)","v":{"$error":"#N/A"}},{"$f":"'Sheet3 (2)'!M80","v":{"$error":"#N/A"}},{"$f":"CORREL($B$1:B80,$E$1:E80)","v":{"$error":"#N/A"}},{"$f":"'Sheet3 (2)'!O80","v":{"$error":"#N/A"}},{"$f":"CORREL($B$1:B80,$G$1:G80)","v":{"$error":"#N/A"}},{"$f":"'Sheet3 (2)'!Q80","v":{"$error":"#N/A"}},{"$f":"CORREL($B$1:B80,$I$1:I80)","v":{"$error":"#N/A"}},{"$f":"'Sheet3 (2)'!S80","v":{"$error":"#N/A"}},{"$f":"CORREL($B$1:B80,$K$1:K80)","v":{"$error":"#N/A"}},{"$f":"'Sheet3 (2)'!U80","v":{"$error":"#N/A"}},{"$f":"CORREL($B$1:B80,$M$1:M80)","v":{"$error":"#N/A"}},{"$f":"'Sheet3 (2)'!W80","v":{"$error":"#N/A"}},{"$f":"CORREL($B$1:B80,$O$1:O80)","v":{"$error":"#N/A"}},{"$f":"'Sheet3 (2)'!Y80","v":{"$error":"#N/A"}},{"$f":"CORREL($B$1:B80,$Q$1:Q80)","v":{"$error":"#N/A"}},{"$f":"'Sheet3 (2)'!AA80","v":{"$error":"#N/A"}},{"$f":"CORREL($B$1:B80,$S$1:S80)","v":{"$error":"#N/A"}}]
[null,{"$f":"'Sheet3 (2)'!I81","v":{"$error":"#N/A"}},{"$f":"'Sheet3 (2)'!K81","v":{"$error":"#N/A"}},{"$f":"CORREL($B$1:B81,$C$1:C81)","v":{"$error":"#N/A"}},{"$f":"'Sheet3 (2)'!M81","v":{"$error":"#N/A"}},{"$f":"CORREL($B$1:B81,$E$1:E81)","v":{"$error":"#N/A"}},{"$f":"'Sheet3 (2)'!O81","v":{"$error":"#N/A"}},{"$f":"CORREL($B$1:B81,$G$1:G81)","v":{"$error":"#N/A"}},{"$f":"'Sheet3 (2)'!Q81","v":{"$error":"#N/A"}},{"$f":"CORREL($B$1:B81,$I$1:I81)","v":{"$error":"#N/A"}},{"$f":"'Sheet3 (2)'!S81","v":{"$error":"#N/A"}},{"$f":"CORREL($B$1:B81,$K$1:K81)","v":{"$error":"#N/A"}},{"$f":"'Sheet3 (2)'!U81","v":{"$error":"#N/A"}},{"$f":"CORREL($B$1:B81,$M$1:M81)","v":{"$error":"#N/A"}},{"$f":"'Sheet3 (2)'!W81","v":{"$error":"#N/A"}},{"$f":"CORREL($B$1:B81,$O$1:O81)","v":{"$error":"#N/A"}},{"$f":"'Sheet3 (2)'!Y81","v":{"$error":"#N/A"}},{"$f":"CORREL($B$1:B81,$Q$1:Q81)","v":{"$error":"#N/A"}},{"$f":"'Sheet3 (2)'!AA81","v":{"$error":"#N/A"}},{"$f":"CORREL($B$1:B81,$S$1:S81)","v":{"$error":"#N/A"}}]
[null,null,null,{"$f":"'Sheet3 (2)'!C2","v":"2018-06-15"},null,{"$f":"'Sheet3 (2)'!C3","v":"2018-06-14"},null,{"$f":"'Sheet3 (2)'!C4","v":"2018-06-13"},null,{"$f":"'Sheet3 (2)'!C5","v":"2018-06-12"},null,{"$f":"'Sheet3 (2)'!C6","v":"2018-06-11"},null,{"$f":"'Sheet3 (2)'!C7","v":"2018-06-08"},null,{"$f":"'Sheet3 (2)'!C8","v":"2018-06-07"},null,{"$f":"'Sheet3 (2)'!C9","v":"2018-06-06"},null,{"$f":"'Sheet3 (2)'!C10","v":"2018-06-05"}]
[null,null,null,{"$f":"LOOKUP(2,1/(ISNUMBER(D1:D81)),D1:D81)","v":-6.2124819677325908E-2},null,{"$f":"LOOKUP(2,1/(ISNUMBER(F1:F81)),F1:F81)","v":-0.99642035817811814},null,{"$f":"LOOKUP(2,1/(ISNUMBER(H1:H81)),H1:H81)","v":-0.97387725326322405},null,{"$f":"LOOKUP(2,1/(ISNUMBER(J1:J81)),J1:J81)","v":-0.989663799521875},null,{"$f":"LOOKUP(2,1/(ISNUMBER(L1:L81)),L1:L81)","v":0.97502368412220397},null,{"$f":"LOOKUP(2,1/(ISNUMBER(N1:N81)),N1:N81)","v":0.5426072047504551},null,{"$f":"LOOKUP(2,1/(ISNUMBER(P1:P81)),P1:P81)","v":0.98338820679776251},null,{"$f":"LOOKUP(2,1/(ISNUMBER(R1:R81)),R1:R81)","v":-0.18176693016710879},null,{"$f":"LOOKUP(2,1/(ISNUMBER(T1:T81)),T1:T81)","v":0.93877836412988269}]
[]
[null,null,{"$f":"RANK(D85,$D$85:$D$93,0)+COUNTIF($D$85:D85,D85)-1","v":5},{"$f":"D83","v":-6.2124819677325908E-2},{"$f":"D82","v":"2018-06-15"},{"$f":"RANK(D85,$D$85:$D$93,0)+COUNTIF($D$85:D85,D85)-1","v":5},{"$f":"VLOOKUP(1,C85:E93,3,FALSE)","v":"2018-06-07"},{"$f":"VLOOKUP(1,C85:E93,2,FALSE)","v":0.98338820679776251},{"$f":"IFERROR(VLOOKUP(G85,'Sheet3 (2)'!AK1:AN10,4,FALSE),1)","v":7}]
[null,null,{"$f":"RANK(D86,$D$85:$D$93,0)+COUNTIF($D$85:D86,D86)-1","v":9},{"$f":"F83","v":-0.99642035817811814},{"$f":"F82","v":"2018-06-14"},{"$f":"RANK(D86,$D$85:$D$93,0)+COUNTIF($D$85:D86,D86)-1","v":9},{"$f":"VLOOKUP(2,C85:E93,3,FALSE)","v":"2018-06-11"},{"$f":"VLOOKUP(2,C85:E93,2,FALSE)","v":0.97502368412220397}]
[null,null,{"$f":"RANK(D87,$D$85:$D$93,0)+COUNTIF($D$85:D87,D87)-1","v":7},{"$f":"H83","v":-0.97387725326322405},{"$f":"H82","v":"2018-06-13"},{"$f":"RANK(D87,$D$85:$D$93,0)+COUNTIF($D$85:D87,D87)-1","v":7},{"$f":"VLOOKUP(3,C85:E93,3,FALSE)","v":"2018-06-05"},{"$f":"VLOOKUP(3,C85:E93,2,FALSE)","v":0.93877836412988269}]
[null,null,{"$f":"RANK(D88,$D$85:$D$93,0)+COUNTIF($D$85:D88,D88)-1","v":8},{"$f":"J83","v":-0.989663799521875},{"$f":"J82","v":"2018-06-12"},{"$f":"RANK(D88,$D$85:$D$93,0)+COUNTIF($D$85:D88,D88)-1","v":8},{"$f":"VLOOKUP(4,C85:E93,3,FALSE)","v":"2018-06-08"},{"$f":"VLOOKUP(4,C85:E93,2,FALSE)","v":0.5426072047504551}]
[null,null,{"$f":"RANK(D89,$D$85:$D$93,0)+COUNTIF($D$85:D89,D89)-1","v":2},{"$f":"L83","v":0.97502368412220397},{"$f":"L82","v":"2018-06-11"},{"$f":"RANK(D89,$D$85:$D$93,0)+COUNTIF($D$85:D89,D89)-1","v":2},{"$f":"VLOOKUP(5,C85:E93,3,FALSE)","v":"2018-06-15"},{"$f":"VLOOKUP(5,C85:E93,2,FALSE)","v":-6.2124819677325908E-2}]
[null,null,{"$f":"RANK(D90,$D$85:$D$93,0)+COUNTIF($D$85:D90,D90)-1","v":4},{"$f":"N83","v":0.5426072047504551},{"$f":"N82","v":"2018-06-08"},{"$f":"RANK(D90,$D$85:$D$93,0)+COUNTIF($D$85:D90,D90)-1","v":4},{"$f":"VLOOKUP(6,C85:E93,3,FALSE)","v":"2018-06-06"},{"$f":"VLOOKUP(6,C85:E93,2,FALSE)","v":-0.18176693016710879}]
[null,null,{"$f":"RANK(D91,$D$85:$D$93,0)+COUNTIF($D$85:D91,D91)-1","v":1},{"$f":"P83","v":0.98338820679776251},{"$f":"P82","v":"2018-06-07"},{"$f":"RANK(D91,$D$85:$D$93,0)+COUNTIF($D$85:D91,D91)-1","v":1},{"$f":"VLOOKUP(7,C85:E93,3,FALSE)","v":"2018-06-13"},{"$f":"VLOOKUP(7,C85:E93,2,FALSE)","v":-0.97387725326322405}]
[null,null,{"$f":"RANK(D92,$D$85:$D$93,0)+COUNTIF($D$85:D92,D92)-1","v":6},{"$f":"R83","v":-0.18176693016710879},{"$f":"R82","v":"2018-06-06"},{"$f":"RANK(D92,$D$85:$D$93,0)+COUNTIF($D$85:D92,D92)-1","v":6},{"$f":"VLOOKUP(8,C85:E93,3,FALSE)","v":"2018-06-12"},{"$f":"VLOOKUP(8,C85:E93,2,FALSE)","v":-0.989663799521875}]
[null,null,{"$f":"RANK(D93,$D$85:$D$93,0)+COUNTIF($D$85:D93,D93)-1","v":3},{"$f":"T83","v":0.93877836412988269},{"$f":"T82","v":"2018-06-05"},{"$f":"RANK(D93,$D$85:$D$93,0)+COUNTIF($D$85:D93,D93)-1","v":3},{"$f":"VLOOKUP(9,C85:E93,3,FALSE)","v":"2018-06-14"},{"$f":"VLOOKUP(9,C85:E93,2,FALSE)","v":-0.99642035817811814}]

{"sheet":"Sheet3 (3)","index":5,"n_rows":81,"n_cols":40,"rows_kept":81,"cut":false,"hidden":true,"merged":[]}
[0,"08:30:00",{"$f":"IF(WEEKDAY(TODAY())=7,TODAY()-1,IF(WEEKDAY(TODAY())=1,TODAY()-2,TODAY()))","v":"2018-06-18"},{"$f":"YEAR(C1)","v":2018},{"$f":"MONTH(C1)","v":6},{"$f":"DAY(C1)","v":18},null,{"$f":"RTD(\"cqg.rtd\",,\"StudyData\", \"Close(\"&$D$12&\") when LocalYear(\"&$D$12&\")=\"&$D$1&\" and localMonth(\"&$D$12&\") =\"&$E$1&\" and LocalDay(\"&$D$12&\")=\"&$F$1&\" and Barix(\"&$D$12&\",reference:=StartOfSession)=\"&A1&\"\", \"Bar\", \"\", \"Close\",\"5\",\"0\",\"PrimaryOnly\",,,\"False\",\"T\",\"EveryTick\")","v":164.46},{"$f":"IFERROR((H1-$G$2)/$G$2,NA())","v":-9.6947070512433623E-3},{"$f":"RTD(\"cqg.rtd\",,\"StudyData\", \"Close(\"&$D$12&\") when LocalYear(\"&$D$12&\")=\"&$D$2&\" and localMonth(\"&$D$12&\") =\"&$E$2&\" and LocalDay(\"&$D$12&\")=\"&$F$2&\" and Barix(\"&$D$12&\",reference:=StartOfSession)=\"&A1&\"\", \"Bar\", \"\", \"Close\",\"5\",\"0\",\"PrimaryOnly\",,,\"False\",\"T\",\"EveryTick\")","v":165.3},{"$f":"IFERROR((J1-$G$3)/$G$3,NA())","v":-7.6244221648555073E-3},{"$f":"RTD(\"cqg.rtd\",,\"StudyData\", \"Close(\"&$D$12&\") when LocalYear(\"&$D$12&\")=\"&$D$3&\" and localMonth(\"&$D$12&\") =\"&$E$3&\" and LocalDay(\"&$D$12&\")=\"&$F$3&\" and Barix(\"&$D$12&\",reference:=StartOfSession)=\"&A1&\"\", \"Bar\", \"\", \"Close\",\"5\",\"0\",\"PrimaryOnly\",,,\"False\",\"T\",\"EveryTick\")","v":166.53},{"$f":"IFERROR((L1-$G$4)/$G$4,NA())","v":6.4059950444189419E-3},{"$f":"RTD(\"cqg.rtd\",,\"StudyData\", \"Close(\"&$D$12&\") when LocalYear(\"&$D$12&\")=\"&$D$4&\" and localMonth(\"&$D$12&\") =\"&$E$4&\" and LocalDay(\"&$D$12&\")=\"&$F$4&\" and Barix(\"&$D$12&\",reference:=StartOfSession)=\"&A1&\"\", \"Bar\", \"\", \"Close\",\"5\",\"0\",\"PrimaryOnly\",,,\"False\",\"T\",\"EveryTick\")","v":165.5},{"$f":"IFERROR((N1-$G$5)/$G$5,NA())","v":-1.2083131947807051E-4},{"$f":"RTD(\"cqg.rtd\",,\"StudyData\", \"Close(\"&$D$12&\") when LocalYear(\"&$D$12&\")=\"&$D$5&\" and localMonth(\"&$D$12&\") =\"&$E$5&\" and LocalDay(\"&$D$12&\")=\"&$F$5&\" and Barix(\"&$D$12&\",reference:=StartOfSession)=\"&A1&\"\", \"Bar\", \"\", \"Close\",\"5\",\"0\",\"PrimaryOnly\",,,\"False\",\"T\",\"EveryTick\")","v":164.74},{"$f":"IFERROR((P1-$G$6)/$G$6,NA())","v":1.6416367726637699E-3},{"$f":"RTD(\"cqg.rtd\",,\"StudyData\", \"Close(\"&$D$12&\") when LocalYear(\"&$D$12&\")=\"&$D$6&\" and localMonth(\"&$D$12&\") =\"&$E$6&\" and LocalDay(\"&$D$12&\")=\"&$F$6&\" and Barix(\"&$D$12&\",reference:=StartOfSession)=\"&A1&\"\", \"Bar\", \"\", \"Close\",\"5\",\"0\",\"PrimaryOnly\",,,\"False\",\"T\",\"EveryTick\")","v":164.4},{"$f":"IFERROR((R1-$G$7)/$G$7,NA())","v":6.0864272671938102E-4},{"$f":"RTD(\"cqg.rtd\",,\"StudyData\", \"Close(\"&$D$12&\") when LocalYear(\"&$D$12&\")=\"&$D$7&\" and localMonth(\"&$D$12&\") =\"&$E$7&\" and LocalDay(\"&$D$12&\")=\"&$F$7&\" and Barix(\"&$D$12&\",reference:=StartOfSession)=\"&A1&\"\", \"Bar\", \"\", \"Close\",\"5\",\"0\",\"PrimaryOnly\",,,\"False\",\"T\",\"EveryTick\")","v":162.88},{"$f":"IFERROR((T1-$G$8)/$G$8,NA())","v":-5.9807152447212139E-3},{"$f":"RTD(\"cqg.rtd\",,\"StudyData\", \"Close(\"&$D$12&\") when LocalYear(\"&$D$12&\")=\"&$D$8&\" and localMonth(\"&$D$12&\") =\"&$E$8&\" and LocalDay(\"&$D$12&\")=\"&$F$8&\" and Barix(\"&$D$12&\",reference:=StartOfSession)=\"&A1&\"\", \"Bar\", \"\", \"Close\",\"5\",\"0\",\"PrimaryOnly\",,,\"False\",\"T\",\"EveryTick\")","v":165.41},{"$f":"IFERROR((V1-$G$9)/$G$9,NA())","v":-9.0601594588068186E-4},{"$f":"RTD(\"cqg.rtd\",,\"StudyData\", \"Close(\"&$D$12&\") when LocalYear(\"&$D$12&\")=\"&$D$9&\" and localMonth(\"&$D$12&\") =\"&$E$9&\" and LocalDay(\"&$D$12&\")=\"&$F$9&\" and Barix(\"&$D$12&\",reference:=StartOfSession)=\"&A1&\"\", \"Bar\", \"\", \"Close\",\"5\",\"0\",\"PrimaryOnly\",,,\"False\",\"T\",\"EveryTick\")","v":164.5},{"$f":"IFERROR((X1-$G$10)/$G$10,NA())","v":1.5830491962980449E-3},{"$f":"RTD(\"cqg.rtd\",,\"StudyData\", \"Close(\"&$D$12&\") when LocalYear(\"&$D$12&\")=\"&$D$10&\" and localMonth(\"&$D$12&\") =\"&$E$10&\" and LocalDay(\"&$D$12&\")=\"&$F$10&\" and Barix(\"&$D$12&\",reference:=StartOfSession)=\"&A1&\"\", \"Bar\", \"\", \"Close\",\"5\",\"0\",\"PrimaryOnly\",,,\"False\",\"T\",\"EveryTick\")","v":163.69999999999999},{"$f":"IFERROR((Z1-$G$11)/$G$11,NA())","v":4.7259559319952236E-3},{"$f":"RANK(AD1,$AD$1:$AD$10)+COUNTIF($AD$1:AD1,AD1)-1","v":9},{"$f":"DATE(D1,E1,F1)","v":"2018-06-18"},{"$f":"VLOOKUP(MAX(AE2:AE81),A1:I81,9,FALSE)","v":-1.0176431625218267E-2},null,1,{"$f":"VLOOKUP(AF1,$AB$1:$AD$10,2,FALSE)","v":"2018-06-14"},{"$f":"VLOOKUP(AF1,$AB$1:$AD$10,3,FALSE)","v":6.9499002840394371E-3},null,null,{"$f":"AG1","v":"2018-06-14"},{"$f":"AC1","v":"2018-06-18"},0,{"$f":"VLOOKUP(AK1,$AL$1:$AM$10,2,FALSE)","v":2}]
[{"$f":"A1+1","v":1},"08:35:00",{"$f":"WORKDAY(C1,-G27)","v":"2018-06-15"},{"$f":"YEAR(C2)","v":2018},{"$f":"MONTH(C2)","v":6},{"$f":"DAY(C2)","v":15},{"$f":"RTD(\"cqg.rtd\",,\"StudyData\",$D$12,\"Bar\",,\"Close\",\"D\",\"-1\",,,,,\"T\")","v":166.07},{"$f":"RTD(\"cqg.rtd\",,\"StudyData\", \"Close(\"&$D$12&\") when LocalYear(\"&$D$12&\")=\"&$D$1&\" and localMonth(\"&$D$12&\") =\"&$E$1&\" and LocalDay(\"&$D$12&\")=\"&$F$1&\" and Barix(\"&$D$12&\",reference:=StartOfSession)=\"&A2&\"\", \"Bar\", \"\", \"Close\",\"5\",\"0\",\"PrimaryOnly\",,,\"False\",\"T\",\"EveryTick\")","v":164.16},{"$f":"IFERROR((H2-$G$2)/$G$2,NA())","v":-1.1501174203649043E-2},{"$f":"RTD(\"cqg.rtd\",,\"StudyData\", \"Close(\"&$D$12&\") when LocalYear(\"&$D$12&\")=\"&$D$2&\" and localMonth(\"&$D$12&\") =\"&$E$2&\" and LocalDay(\"&$D$12&\")=\"&$F$2&\" and Barix(\"&$D$12&\",reference:=StartOfSession)=\"&A2&\"\", \"Bar\", \"\", \"Close\",\"5\",\"0\",\"PrimaryOnly\",,,\"False\",\"T\",\"EveryTick\")","v":165.14},{"$f":"IFERROR((J2-$G$3)/$G$3,NA())","v":-8.584979287987073E-3},{"$f":"RTD(\"cqg.rtd\",,\"StudyData\", \"Close(\"&$D$12&\") when LocalYear(\"&$D$12&\")=\"&$D$3&\" and localMonth(\"&$D$12&\") =\"&$E$3&\" and LocalDay(\"&$D$12&\")=\"&$F$3&\" and Barix(\"&$D$12&\",reference:=StartOfSession)=\"&A2&\"\", \"Bar\", \"\", \"Close\",\"5\",\"0\",\"PrimaryOnly\",,,\"False\",\"T\",\"EveryTick\")","v":166.74},{"$f":"IFERROR((L2-$G$4)/$G$4,NA())","v":7.675107270200098E-3},{"$f":"RTD(\"cqg.rtd\",,\"StudyData\", \"Close(\"&$D$12&\") when LocalYear(\"&$D$12&\")=\"&$D$4&\" and localMonth(\"&$D$12&\") =\"&$E$4&\" and LocalDay(\"&$D$12&\")=\"&$F$4&\" and Barix(\"&$D$12&\",reference:=StartOfSession)=\"&A2&\"\", \"Bar\", \"\", \"Close\",\"5\",\"0\",\"PrimaryOnly\",,,\"False\",\"T\",\"EveryTick\")","v":165.5},{"$f":"IFERROR((N2-$G$5)/$G$5,NA())","v":-1.2083131947807051E-4},{"$f":"RTD(\"cqg.rtd\",,\"StudyData\", \"Close(\"&$D$12&\") when LocalYear(\"&$D$12&\")=\"&$D$5&\" and localMonth(\"&$D$12&\") =\"&$E$5&\" and LocalDay(\"&$D$12&\")=\"&$F$5&\" and Barix(\"&$D$12&\",reference:=StartOfSession)=\"&A2&\"\", \"Bar\", \"\", \"Close\",\"5\",\"0\",\"PrimaryOnly\",,,\"False\",\"T\",\"EveryTick\")","v":164.61},{"$f":"IFERROR((P2-$G$6)/$G$6,NA())","v":8.5121906730719753E-4},{"$f":"RTD(\"cqg.rtd\",,\"StudyData\", \"Close(\"&$D$12&\") when LocalYear(\"&$D$12&\")=\"&$D$6&\" and localMonth(\"&$D$12&\") =\"&$E$6&\" and LocalDay(\"&$D$12&\")=\"&$F$6&\" and Barix(\"&$D$12&\",reference:=StartOfSession)=\"&A2&\"\", \"Bar\", \"\", \"Close\",\"5\",\"0\",\"PrimaryOnly\",,,\"False\",\"T\",\"EveryTick\")","v":164.42},{"$f":"IFERROR((R2-$G$7)/$G$7,NA())","v":7.3037127206315353E-4},{"$f":"RTD(\"cqg.rtd\",,\"StudyData\", \"Close(\"&$D$12&\") when LocalYear(\"&$D$12&\")=\"&$D$7&\" and localMonth(\"&$D$12&\") =\"&$E$7&\" and LocalDay(\"&$D$12&\")=\"&$F$7&\" and Barix(\"&$D$12&\",reference:=StartOfSession)=\"&A2&\"\", \"Bar\", \"\", \"Close\",\"5\",\"0\",\"PrimaryOnly\",,,\"False\",\"T\",\"EveryTick\")","v":162.88},{"$f":"IFERROR((T2-$G$8)/$G$8,NA())","v":-5.9807152447212139E-3},{"$f":"RTD(\"cqg.rtd\",,\"StudyData\", \"Close(\"&$D$12&\") when LocalYear(\"&$D$12&\")=\"&$D$8&\" and localMonth(\"&$D$12&\") =\"&$E$8&\" and LocalDay(\"&$D$12&\")=\"&$F$8&\" and Barix(\"&$D$12&\",reference:=StartOfSession)=\"&A2&\"\", \"Bar\", \"\", \"Close\",\"5\",\"0\",\"PrimaryOnly\",,,\"False\",\"T\",\"EveryTick\")","v":165.41},{"$f":"IFERROR((V2-$G$9)/$G$9,NA())","v":-9.0601594588068186E-4},{"$f":"RTD(\"cqg.rtd\",,\"StudyData\", \"Close(\"&$D$12&\") when LocalYear(\"&$D$12&\")=\"&$D$9&\" and localMonth(\"&$D$12&\") =\"&$E$9&\" and LocalDay(\"&$D$12&\")=\"&$F$9&\" and Barix(\"&$D$12&\",reference:=StartOfSession)=\"&A2&\"\", \"Bar\", \"\", \"Close\",\"5\",\"0\",\"PrimaryOnly\",,,\"False\",\"T\",\"EveryTick\")","v":164.42},{"$f":"IFERROR((X2-$G$10)/$G$10,NA())","v":1.0959571358985533E-3},{"$f":"RTD(\"cqg.rtd\",,\"StudyData\", \"Close(\"&$D$12&\") when LocalYear(\"&$D$12&\")=\"&$D$10&\" and localMonth(\"&$D$12&\") =\"&$E$10&\" and LocalDay(\"&$D$12&\")=\"&$F$10&\" and Barix(\"&$D$12&\",reference:=StartOfSession)=\"&A2&\"\", \"Bar\", \"\", \"Close\",\"5\",\"0\",\"PrimaryOnly\",,,\"False\",\"T\",\"EveryTick\")","v":163.55000000000001},{"$f":"IFERROR((Z2-$G$11)/$G$11,NA())","v":3.805315166022246E-3},{"$f":"RANK(AD2,$AD$1:$AD$10)+COUNTIF($AD$1:AD2,AD2)-1","v":10},{"$f":"DATE(D2,E2,F2)","v":"2018-06-15"},{"$f":"VLOOKUP(MAX(AE2:AE81),A1:K81,11,FALSE)","v":-1.0986372095815478E-2},{"$f":"IF(AND(H1<>\"\",H2<>\"\",H3=\"\"),A2,\"\")","v":""},2,{"$f":"VLOOKUP(AF2,$AB$1:$AD$10,2,FALSE)","v":"2018-06-05"},{"$f":"VLOOKUP(AF2,$AB$1:$AD$10,3,FALSE)","v":3.805315166022246E-3},null,null,{"$f":"AG2","v":"2018-06-05"},{"$f":"AC2","v":"2018-06-15"},1,{"$f":"VLOOKUP(AK2,$AL$1:$AM$10,2,FALSE)","v":9}]
[{"$f":"A2+1","v":2},"08:40:00",{"$f":"WORKDAY(C2,-G28)","v":"2018-06-14"},2018,6,14,{"$f":"RTD(\"cqg.rtd\",,\"StudyData\",$D$12,\"Bar\",,\"Close\",\"D\",\"-2\",,,,,\"T\")","v":166.57},{"$f":"RTD(\"cqg.rtd\",,\"StudyData\", \"Close(\"&$D$12&\") when LocalYear(\"&$D$12&\")=\"&$D$1&\" and localMonth(\"&$D$12&\") =\"&$E$1&\" and LocalDay(\"&$D$12&\")=\"&$F$1&\" and Barix(\"&$D$12&\",reference:=StartOfSession)=\"&A3&\"\", \"Bar\", \"\", \"Close\",\"5\",\"0\",\"PrimaryOnly\",,,\"False\",\"T\",\"EveryTick\")","v":164.38},{"$f":"IFERROR((H3-$G$2)/$G$2,NA())","v":-1.0176431625218267E-2},{"$f":"RTD(\"cqg.rtd\",,\"StudyData\", \"Close(\"&$D$12&\") when LocalYear(\"&$D$12&\")=\"&$D$2&\" and localMonth(\"&$D$12&\") =\"&$E$2&\" and LocalDay(\"&$D$12&\")=\"&$F$2&\" and Barix(\"&$D$12&\",reference:=StartOfSession)=\"&A3&\"\", \"Bar\", \"\", \"Close\",\"5\",\"0\",\"PrimaryOnly\",,,\"False\",\"T\",\"EveryTick\")","v":164.74},-1.0986372095815478E-2,{"$f":"RTD(\"cqg.rtd\",,\"StudyData\", \"Close(\"&$D$12&\") when LocalYear(\"&$D$12&\")=\"&$D$3&\" and localMonth(\"&$D$12&\") =\"&$E$3&\" and LocalDay(\"&$D$12&\")=\"&$F$3&\" and Barix(\"&$D$12&\",reference:=StartOfSession)=\"&A3&\"\", \"Bar\", \"\", \"Close\",\"5\",\"0\",\"PrimaryOnly\",,,\"False\",\"T\",\"EveryTick\")","v":166.62},6.9499002840394371E-3,{"$f":"RTD(\"cqg.rtd\",,\"StudyData\", \"Close(\"&$D$12&\") when LocalYear(\"&$D$12&\")=\"&$D$4&\" and localMonth(\"&$D$12&\") =\"&$E$4&\" and LocalDay(\"&$D$12&\")=\"&$F$4&\" and Barix(\"&$D$12&\",reference:=StartOfSession)=\"&A3&\"\", \"Bar\", \"\", \"Close\",\"5\",\"0\",\"PrimaryOnly\",,,\"False\",\"T\",\"EveryTick\")","v":166},2.899951667472147E-3,{"$f":"RTD(\"cqg.rtd\",,\"StudyData\", \"Close(\"&$D$12&\") when LocalYear(\"&$D$12&\")=\"&$D$5&\" and localMonth(\"&$D$12&\") =\"&$E$5&\" and LocalDay(\"&$D$12&\")=\"&$F$5&\" and Barix(\"&$D$12&\",reference:=StartOfSession)=\"&A3&\"\", \"Bar\", \"\", \"Close\",\"5\",\"0\",\"PrimaryOnly\",,,\"False\",\"T\",\"EveryTick\")","v":164.7},1.3984313248616147E-3,{"$f":"RTD(\"cqg.rtd\",,\"StudyData\", \"Close(\"&$D$12&\") when LocalYear(\"&$D$12&\")=\"&$D$6&\" and localMonth(\"&$D$12&\") =\"&$E$6&\" and LocalDay(\"&$D$12&\")=\"&$F$6&\" and Barix(\"&$D$12&\",reference:=StartOfSession)=\"&A3&\"\", \"Bar\", \"\", \"Close\",\"5\",\"0\",\"PrimaryOnly\",,,\"False\",\"T\",\"EveryTick\")","v":164.53},1.3998782714545938E-3,{"$f":"RTD(\"cqg.rtd\",,\"StudyData\", \"Close(\"&$D$12&\") when LocalYear(\"&$D$12&\")=\"&$D$7&\" and localMonth(\"&$D$12&\") =\"&$E$7&\" and LocalDay(\"&$D$12&\")=\"&$F$7&\" and Barix(\"&$D$12&\",reference:=StartOfSession)=\"&A3&\"\", \"Bar\", \"\", \"Close\",\"5\",\"0\",\"PrimaryOnly\",,,\"False\",\"T\",\"EveryTick\")","v":163.19999999999999},-4.0278286342000794E-3,{"$f":"RTD(\"cqg.rtd\",,\"StudyData\", \"Close(\"&$D$12&\") when LocalYear(\"&$D$12&\")=\"&$D$8&\" and localMonth(\"&$D$12&\") =\"&$E$8&\" and LocalDay(\"&$D$12&\")=\"&$F$8&\" and Barix(\"&$D$12&\",reference:=StartOfSession)=\"&A3&\"\", \"Bar\", \"\", \"Close\",\"5\",\"0\",\"PrimaryOnly\",,,\"False\",\"T\",\"EveryTick\")","v":165.28},-1.6912297656438821E-3,{"$f":"RTD(\"cqg.rtd\",,\"StudyData\", \"Close(\"&$D$12&\") when LocalYear(\"&$D$12&\")=\"&$D$9&\" and localMonth(\"&$D$12&\") =\"&$E$9&\" and LocalDay(\"&$D$12&\")=\"&$F$9&\" and Barix(\"&$D$12&\",reference:=StartOfSession)=\"&A3&\"\", \"Bar\", \"\", \"Close\",\"5\",\"0\",\"PrimaryOnly\",,,\"False\",\"T\",\"EveryTick\")","v":164.51},1.6439357038479164E-3,{"$f":"RTD(\"cqg.rtd\",,\"StudyData\", \"Close(\"&$D$12&\") when LocalYear(\"&$D$12&\")=\"&$D$10&\" and localMonth(\"&$D$12&\") =\"&$E$10&\" and LocalDay(\"&$D$12&\")=\"&$F$10&\" and Barix(\"&$D$12&\",reference:=StartOfSession)=\"&A3&\"\", \"Bar\", \"\", \"Close\",\"5\",\"0\",\"PrimaryOnly\",,,\"False\",\"T\",\"EveryTick\")","v":163.55000000000001},3.805315166022246E-3,{"$f":"RANK(AD3,$AD$1:$AD$10)+COUNTIF($AD$1:AD3,AD3)-1","v":1},"2018-06-14",{"$f":"VLOOKUP(MAX(AE2:AE81),A1:M81,13,FALSE)","v":6.9499002840394371E-3},{"$f":"IF(AND(H2<>\"\",H3<>\"\",H4=\"\"),A3,\"\")","v":2},3,"2018-06-13",2.899951667472147E-3,null,null,"2018-06-13","2018-06-14",2,3]
[3,"08:45:00","2018-06-13",2018,6,13,{"$f":"RTD(\"cqg.rtd\",,\"StudyData\",$D$12,\"Bar\",,\"Close\",\"D\",\"-3\",,,,,\"T\")","v":165.47},{"$f":"RTD(\"cqg.rtd\",,\"StudyData\", \"Close(\"&$D$12&\") when LocalYear(\"&$D$12&\")=\"&$D$1&\" and localMonth(\"&$D$12&\") =\"&$E$1&\" and LocalDay(\"&$D$12&\")=\"&$F$1&\" and Barix(\"&$D$12&\",reference:=StartOfSession)=\"&A4&\"\", \"Bar\", \"\", \"Close\",\"5\",\"0\",\"PrimaryOnly\",,,\"False\",\"T\",\"EveryTick\")","v":""},{"$error":"#N/A"},{"$f":"RTD(\"cqg.rtd\",,\"StudyData\", \"Close(\"&$D$12&\") when LocalYear(\"&$D$12&\")=\"&$D$2&\" and localMonth(\"&$D$12&\") =\"&$E$2&\" and LocalDay(\"&$D$12&\")=\"&$F$2&\" and Barix(\"&$D$12&\",reference:=StartOfSession)=\"&A4&\"\", \"Bar\", \"\", \"Close\",\"5\",\"0\",\"PrimaryOnly\",,,\"False\",\"T\",\"EveryTick\")","v":164.82},-1.0506093534249866E-2,{"$f":"RTD(\"cqg.rtd\",,\"StudyData\", \"Close(\"&$D$12&\") when LocalYear(\"&$D$12&\")=\"&$D$3&\" and localMonth(\"&$D$12&\") =\"&$E$3&\" and LocalDay(\"&$D$12&\")=\"&$F$3&\" and Barix(\"&$D$12&\",reference:=StartOfSession)=\"&A4&\"\", \"Bar\", \"\", \"Close\",\"5\",\"0\",\"PrimaryOnly\",,,\"False\",\"T\",\"EveryTick\")","v":166.74},7.675107270200098E-3,{"$f":"RTD(\"cqg.rtd\",,\"StudyData\", \"Close(\"&$D$12&\") when LocalYear(\"&$D$12&\")=\"&$D$4&\" and localMonth(\"&$D$12&\") =\"&$E$4&\" and LocalDay(\"&$D$12&\")=\"&$F$4&\" and Barix(\"&$D$12&\",reference:=StartOfSession)=\"&A4&\"\", \"Bar\", \"\", \"Close\",\"5\",\"0\",\"PrimaryOnly\",,,\"False\",\"T\",\"EveryTick\")","v":165.96},2.6582890285161776E-3,{"$f":"RTD(\"cqg.rtd\",,\"StudyData\", \"Close(\"&$D$12&\") when LocalYear(\"&$D$12&\")=\"&$D$5&\" and localMonth(\"&$D$12&\") =\"&$E$5&\" and LocalDay(\"&$D$12&\")=\"&$F$5&\" and Barix(\"&$D$12&\",reference:=StartOfSession)=\"&A4&\"\", \"Bar\", \"\", \"Close\",\"5\",\"0\",\"PrimaryOnly\",,,\"False\",\"T\",\"EveryTick\")","v":164.7},1.3984313248616147E-3,{"$f":"RTD(\"cqg.rtd\",,\"StudyData\", \"Close(\"&$D$12&\") when LocalYear(\"&$D$12&\")=\"&$D$6&\" and localMonth(\"&$D$12&\") =\"&$E$6&\" and LocalDay(\"&$D$12&\")=\"&$F$6&\" and Barix(\"&$D$12&\",reference:=StartOfSession)=\"&A4&\"\", \"Bar\", \"\", \"Close\",\"5\",\"0\",\"PrimaryOnly\",,,\"False\",\"T\",\"EveryTick\")","v":164.49},1.156421180766876E-3,{"$f":"RTD(\"cqg.rtd\",,\"StudyData\", \"Close(\"&$D$12&\") when LocalYear(\"&$D$12&\")=\"&$D$7&\" and localMonth(\"&$D$12&\") =\"&$E$7&\" and LocalDay(\"&$D$12&\")=\"&$F$7&\" and Barix(\"&$D$12&\",reference:=StartOfSession)=\"&A4&\"\", \"Bar\", \"\", \"Close\",\"5\",\"0\",\"PrimaryOnly\",,,\"False\",\"T\",\"EveryTick\")","v":163.30000000000001},-3.4175515684120726E-3,{"$f":"RTD(\"cqg.rtd\",,\"StudyData\", \"Close(\"&$D$12&\") when LocalYear(\"&$D$12&\")=\"&$D$8&\" and localMonth(\"&$D$12&\") =\"&$E$8&\" and LocalDay(\"&$D$12&\")=\"&$F$8&\" and Barix(\"&$D$12&\",reference:=StartOfSession)=\"&A4&\"\", \"Bar\", \"\", \"Close\",\"5\",\"0\",\"PrimaryOnly\",,,\"False\",\"T\",\"EveryTick\")","v":165.37},-1.147620198115473E-3,{"$f":"RTD(\"cqg.rtd\",,\"StudyData\", \"Close(\"&$D$12&\") when LocalYear(\"&$D$12&\")=\"&$D$9&\" and localMonth(\"&$D$12&\") =\"&$E$9&\" and LocalDay(\"&$D$12&\")=\"&$F$9&\" and Barix(\"&$D$12&\",reference:=StartOfSession)=\"&A4&\"\", \"Bar\", \"\", \"Close\",\"5\",\"0\",\"PrimaryOnly\",,,\"False\",\"T\",\"EveryTick\")","v":164.41},1.0350706283486818E-3,{"$f":"RTD(\"cqg.rtd\",,\"StudyData\", \"Close(\"&$D$12&\") when LocalYear(\"&$D$12&\")=\"&$D$10&\" and localMonth(\"&$D$12&\") =\"&$E$10&\" and LocalDay(\"&$D$12&\")=\"&$F$10&\" and Barix(\"&$D$12&\",reference:=StartOfSession)=\"&A4&\"\", \"Bar\", \"\", \"Close\",\"5\",\"0\",\"PrimaryOnly\",,,\"False\",\"T\",\"EveryTick\")","v":163.55000000000001},3.805315166022246E-3,{"$f":"RANK(AD4,$AD$1:$AD$10)+COUNTIF($AD$1:AD4,AD4)-1","v":3},"2018-06-13",{"$f":"VLOOKUP(MAX(AE2:AE81),A1:O81,15,FALSE)","v":2.899951667472147E-3},"",4,"2018-06-06",1.6439357038479164E-3,null,null,"2018-06-06","2018-06-13",3,8]
[4,"08:50:00","2018-06-12",2018,6,12,{"$f":"RTD(\"cqg.rtd\",,\"StudyData\",$D$12,\"Bar\",,\"Close\",\"D\",\"-4\",,,,,\"T\")","v":165.52},{"$f":"RTD(\"cqg.rtd\",,\"StudyData\", \"Close(\"&$D$12&\") when LocalYear(\"&$D$12&\")=\"&$D$1&\" and localMonth(\"&$D$12&\") =\"&$E$1&\" and LocalDay(\"&$D$12&\")=\"&$F$1&\" and Barix(\"&$D$12&\",reference:=StartOfSession)=\"&A5&\"\", \"Bar\", \"\", \"Close\",\"5\",\"0\",\"PrimaryOnly\",,,\"False\",\"T\",\"EveryTick\")","v":""},{"$error":"#N/A"},{"$f":"RTD(\"cqg.rtd\",,\"StudyData\", \"Close(\"&$D$12&\") when LocalYear(\"&$D$12&\")=\"&$D$2&\" and localMonth(\"&$D$12&\") =\"&$E$2&\" and LocalDay(\"&$D$12&\")=\"&$F$2&\" and Barix(\"&$D$12&\",reference:=StartOfSession)=\"&A5&\"\", \"Bar\", \"\", \"Close\",\"5\",\"0\",\"PrimaryOnly\",,,\"False\",\"T\",\"EveryTick\")","v":165.09},-8.8851533889655384E-3,{"$f":"RTD(\"cqg.rtd\",,\"StudyData\", \"Close(\"&$D$12&\") when LocalYear(\"&$D$12&\")=\"&$D$3&\" and localMonth(\"&$D$12&\") =\"&$E$3&\" and LocalDay(\"&$D$12&\")=\"&$F$3&\" and Barix(\"&$D$12&\",reference:=StartOfSession)=\"&A5&\"\", \"Bar\", \"\", \"Close\",\"5\",\"0\",\"PrimaryOnly\",,,\"False\",\"T\",\"EveryTick\")","v":166.53},6.4059950444189419E-3,{"$f":"RTD(\"cqg.rtd\",,\"StudyData\", \"Close(\"&$D$12&\") when LocalYear(\"&$D$12&\")=\"&$D$4&\" and localMonth(\"&$D$12&\") =\"&$E$4&\" and LocalDay(\"&$D$12&\")=\"&$F$4&\" and Barix(\"&$D$12&\",reference:=StartOfSession)=\"&A5&\"\", \"Bar\", \"\", \"Close\",\"5\",\"0\",\"PrimaryOnly\",,,\"False\",\"T\",\"EveryTick\")","v":165.96},2.6582890285161776E-3,{"$f":"RTD(\"cqg.rtd\",,\"StudyData\", \"Close(\"&$D$12&\") when LocalYear(\"&$D$12&\")=\"&$D$5&\" and localMonth(\"&$D$12&\") =\"&$E$5&\" and LocalDay(\"&$D$12&\")=\"&$F$5&\" and Barix(\"&$D$12&\",reference:=StartOfSession)=\"&A5&\"\", \"Bar\", \"\", \"Close\",\"5\",\"0\",\"PrimaryOnly\",,,\"False\",\"T\",\"EveryTick\")","v":164.7},1.3984313248616147E-3,{"$f":"RTD(\"cqg.rtd\",,\"StudyData\", \"Close(\"&$D$12&\") when LocalYear(\"&$D$12&\")=\"&$D$6&\" and localMonth(\"&$D$12&\") =\"&$E$6&\" and LocalDay(\"&$D$12&\")=\"&$F$6&\" and Barix(\"&$D$12&\",reference:=StartOfSession)=\"&A5&\"\", \"Bar\", \"\", \"Close\",\"5\",\"0\",\"PrimaryOnly\",,,\"False\",\"T\",\"EveryTick\")","v":164.59},1.765063907486257E-3,{"$f":"RTD(\"cqg.rtd\",,\"StudyData\", \"Close(\"&$D$12&\") when LocalYear(\"&$D$12&\")=\"&$D$7&\" and localMonth(\"&$D$12&\") =\"&$E$7&\" and LocalDay(\"&$D$12&\")=\"&$F$7&\" and Barix(\"&$D$12&\",reference:=StartOfSession)=\"&A5&\"\", \"Bar\", \"\", \"Close\",\"5\",\"0\",\"PrimaryOnly\",,,\"False\",\"T\",\"EveryTick\")","v":163.30000000000001},-3.4175515684120726E-3,{"$f":"RTD(\"cqg.rtd\",,\"StudyData\", \"Close(\"&$D$12&\") when LocalYear(\"&$D$12&\")=\"&$D$8&\" and localMonth(\"&$D$12&\") =\"&$E$8&\" and LocalDay(\"&$D$12&\")=\"&$F$8&\" and Barix(\"&$D$12&\",reference:=StartOfSession)=\"&A5&\"\", \"Bar\", \"\", \"Close\",\"5\",\"0\",\"PrimaryOnly\",,,\"False\",\"T\",\"EveryTick\")","v":165.38},-1.0872191350568181E-3,{"$f":"RTD(\"cqg.rtd\",,\"StudyData\", \"Close(\"&$D$12&\") when LocalYear(\"&$D$12&\")=\"&$D$9&\" and localMonth(\"&$D$12&\") =\"&$E$9&\" and LocalDay(\"&$D$12&\")=\"&$F$9&\" and Barix(\"&$D$12&\",reference:=StartOfSession)=\"&A5&\"\", \"Bar\", \"\", \"Close\",\"5\",\"0\",\"PrimaryOnly\",,,\"False\",\"T\",\"EveryTick\")","v":164.41},1.0350706283486818E-3,{"$f":"RTD(\"cqg.rtd\",,\"StudyData\", \"Close(\"&$D$12&\") when LocalYear(\"&$D$12&\")=\"&$D$10&\" and localMonth(\"&$D$12&\") =\"&$E$10&\" and LocalDay(\"&$D$12&\")=\"&$F$10&\" and Barix(\"&$D$12&\",reference:=StartOfSession)=\"&A5&\"\", \"Bar\", \"\", \"Close\",\"5\",\"0\",\"PrimaryOnly\",,,\"False\",\"T\",\"EveryTick\")","v":163.96},6.3217332596820792E-3,{"$f":"RANK(AD5,$AD$1:$AD$10)+COUNTIF($AD$1:AD5,AD5)-1","v":6},"2018-06-12",{"$f":"VLOOKUP(MAX(AE2:AE81),A1:Q81,17,FALSE)","v":1.3984313248616147E-3},"",5,"2018-06-11",1.3998782714545938E-3,null,null,"2018-06-11","2018-06-12",4,5]
[5,"08:55:00","2018-06-11",2018,6,11,{"$f":"RTD(\"cqg.rtd\",,\"StudyData\",$D$12,\"Bar\",,\"Close\",\"D\",\"-5\",,,,,\"T\")","v":164.47},{"$f":"RTD(\"cqg.rtd\",,\"StudyData\", \"Close(\"&$D$12&\") when LocalYear(\"&$D$12&\")=\"&$D$1&\" and localMonth(\"&$D$12&\") =\"&$E$1&\" and LocalDay(\"&$D$12&\")=\"&$F$1&\" and Barix(\"&$D$12&\",reference:=StartOfSession)=\"&A6&\"\", \"Bar\", \"\", \"Close\",\"5\",\"0\",\"PrimaryOnly\",,,\"False\",\"T\",\"EveryTick\")","v":""},{"$error":"#N/A"},{"$f":"RTD(\"cqg.rtd\",,\"StudyData\", \"Close(\"&$D$12&\") when LocalYear(\"&$D$12&\")=\"&$D$2&\" and localMonth(\"&$D$12&\") =\"&$E$2&\" and LocalDay(\"&$D$12&\")=\"&$F$2&\" and Barix(\"&$D$12&\",reference:=StartOfSession)=\"&A6&\"\", \"Bar\", \"\", \"Close\",\"5\",\"0\",\"PrimaryOnly\",,,\"False\",\"T\",\"EveryTick\")","v":165.23},-8.0446659062256322E-3,{"$f":"RTD(\"cqg.rtd\",,\"StudyData\", \"Close(\"&$D$12&\") when LocalYear(\"&$D$12&\")=\"&$D$3&\" and localMonth(\"&$D$12&\") =\"&$E$3&\" and LocalDay(\"&$D$12&\")=\"&$F$3&\" and Barix(\"&$D$12&\",reference:=StartOfSession)=\"&A6&\"\", \"Bar\", \"\", \"Close\",\"5\",\"0\",\"PrimaryOnly\",,,\"False\",\"T\",\"EveryTick\")","v":166.38},5.4994863117181153E-3,{"$f":"RTD(\"cqg.rtd\",,\"StudyData\", \"Close(\"&$D$12&\") when LocalYear(\"&$D$12&\")=\"&$D$4&\" and localMonth(\"&$D$12&\") =\"&$E$4&\" and LocalDay(\"&$D$12&\")=\"&$F$4&\" and Barix(\"&$D$12&\",reference:=StartOfSession)=\"&A6&\"\", \"Bar\", \"\", \"Close\",\"5\",\"0\",\"PrimaryOnly\",,,\"False\",\"T\",\"EveryTick\")","v":165.96},2.6582890285161776E-3,{"$f":"RTD(\"cqg.rtd\",,\"StudyData\", \"Close(\"&$D$12&\") when LocalYear(\"&$D$12&\")=\"&$D$5&\" and localMonth(\"&$D$12&\") =\"&$E$5&\" and LocalDay(\"&$D$12&\")=\"&$F$5&\" and Barix(\"&$D$12&\",reference:=StartOfSession)=\"&A6&\"\", \"Bar\", \"\", \"Close\",\"5\",\"0\",\"PrimaryOnly\",,,\"False\",\"T\",\"EveryTick\")","v":164.33},-8.5121906730702471E-4,{"$f":"RTD(\"cqg.rtd\",,\"StudyData\", \"Close(\"&$D$12&\") when LocalYear(\"&$D$12&\")=\"&$D$6&\" and localMonth(\"&$D$12&\") =\"&$E$6&\" and LocalDay(\"&$D$12&\")=\"&$F$6&\" and Barix(\"&$D$12&\",reference:=StartOfSession)=\"&A6&\"\", \"Bar\", \"\", \"Close\",\"5\",\"0\",\"PrimaryOnly\",,,\"False\",\"T\",\"EveryTick\")","v":164.54},1.4607425441264799E-3,{"$f":"RTD(\"cqg.rtd\",,\"StudyData\", \"Close(\"&$D$12&\") when LocalYear(\"&$D$12&\")=\"&$D$7&\" and localMonth(\"&$D$12&\") =\"&$E$7&\" and LocalDay(\"&$D$12&\")=\"&$F$7&\" and Barix(\"&$D$12&\",reference:=StartOfSession)=\"&A6&\"\", \"Bar\", \"\", \"Close\",\"5\",\"0\",\"PrimaryOnly\",,,\"False\",\"T\",\"EveryTick\")","v":163.28},-3.5396069815697086E-3,{"$f":"RTD(\"cqg.rtd\",,\"StudyData\", \"Close(\"&$D$12&\") when LocalYear(\"&$D$12&\")=\"&$D$8&\" and localMonth(\"&$D$12&\") =\"&$E$8&\" and LocalDay(\"&$D$12&\")=\"&$F$8&\" and Barix(\"&$D$12&\",reference:=StartOfSession)=\"&A6&\"\", \"Bar\", \"\", \"Close\",\"5\",\"0\",\"PrimaryOnly\",,,\"False\",\"T\",\"EveryTick\")","v":165.4},-9.664170089393367E-4,{"$f":"RTD(\"cqg.rtd\",,\"StudyData\", \"Close(\"&$D$12&\") when LocalYear(\"&$D$12&\")=\"&$D$9&\" and localMonth(\"&$D$12&\") =\"&$E$9&\" and LocalDay(\"&$D$12&\")=\"&$F$9&\" and Barix(\"&$D$12&\",reference:=StartOfSession)=\"&A6&\"\", \"Bar\", \"\", \"Close\",\"5\",\"0\",\"PrimaryOnly\",,,\"False\",\"T\",\"EveryTick\")","v":164.1},-8.5241110569906709E-4,{"$f":"RTD(\"cqg.rtd\",,\"StudyData\", \"Close(\"&$D$12&\") when LocalYear(\"&$D$12&\")=\"&$D$10&\" and localMonth(\"&$D$12&\") =\"&$E$10&\" and LocalDay(\"&$D$12&\")=\"&$F$10&\" and Barix(\"&$D$12&\",reference:=StartOfSession)=\"&A6&\"\", \"Bar\", \"\", \"Close\",\"5\",\"0\",\"PrimaryOnly\",,,\"False\",\"T\",\"EveryTick\")","v":163.84},5.5852206469035569E-3,{"$f":"RANK(AD6,$AD$1:$AD$10)+COUNTIF($AD$1:AD6,AD6)-1","v":5},"2018-06-11",{"$f":"VLOOKUP(MAX(AE2:AE81),A1:S81,19,FALSE)","v":1.3998782714545938E-3},"",6,"2018-06-12",1.3984313248616147E-3,null,null,"2018-06-12","2018-06-11",5,4]
[6,"09:00:00","2018-06-08",2018,6,8,{"$f":"RTD(\"cqg.rtd\",,\"StudyData\",$D$12,\"Bar\",,\"Close\",\"D\",\"-6\",,,,,\"T\")","v":164.3},{"$f":"RTD(\"cqg.rtd\",,\"StudyData\", \"Close(\"&$D$12&\") when LocalYear(\"&$D$12&\")=\"&$D$1&\" and localMonth(\"&$D$12&\") =\"&$E$1&\" and LocalDay(\"&$D$12&\")=\"&$F$1&\" and Barix(\"&$D$12&\",reference:=StartOfSession)=\"&A7&\"\", \"Bar\", \"\", \"Close\",\"5\",\"0\",\"PrimaryOnly\",,,\"False\",\"T\",\"EveryTick\")","v":""},{"$error":"#N/A"},{"$f":"RTD(\"cqg.rtd\",,\"StudyData\", \"Close(\"&$D$12&\") when LocalYear(\"&$D$12&\")=\"&$D$2&\" and localMonth(\"&$D$12&\") =\"&$E$2&\" and LocalDay(\"&$D$12&\")=\"&$F$2&\" and Barix(\"&$D$12&\",reference:=StartOfSession)=\"&A7&\"\", \"Bar\", \"\", \"Close\",\"5\",\"0\",\"PrimaryOnly\",,,\"False\",\"T\",\"EveryTick\")","v":165.16},-8.4649096475955862E-3,{"$f":"RTD(\"cqg.rtd\",,\"StudyData\", \"Close(\"&$D$12&\") when LocalYear(\"&$D$12&\")=\"&$D$3&\" and localMonth(\"&$D$12&\") =\"&$E$3&\" and LocalDay(\"&$D$12&\")=\"&$F$3&\" and Barix(\"&$D$12&\",reference:=StartOfSession)=\"&A7&\"\", \"Bar\", \"\", \"Close\",\"5\",\"0\",\"PrimaryOnly\",,,\"False\",\"T\",\"EveryTick\")","v":166.38},5.4994863117181153E-3,{"$f":"RTD(\"cqg.rtd\",,\"StudyData\", \"Close(\"&$D$12&\") when LocalYear(\"&$D$12&\")=\"&$D$4&\" and localMonth(\"&$D$12&\") =\"&$E$4&\" and LocalDay(\"&$D$12&\")=\"&$F$4&\" and Barix(\"&$D$12&\",reference:=StartOfSession)=\"&A7&\"\", \"Bar\", \"\", \"Close\",\"5\",\"0\",\"PrimaryOnly\",,,\"False\",\"T\",\"EveryTick\")","v":166.19},4.0478492025132155E-3,{"$f":"RTD(\"cqg.rtd\",,\"StudyData\", \"Close(\"&$D$12&\") when LocalYear(\"&$D$12&\")=\"&$D$5&\" and localMonth(\"&$D$12&\") =\"&$E$5&\" and LocalDay(\"&$D$12&\")=\"&$F$5&\" and Barix(\"&$D$12&\",reference:=StartOfSession)=\"&A7&\"\", \"Bar\", \"\", \"Close\",\"5\",\"0\",\"PrimaryOnly\",,,\"False\",\"T\",\"EveryTick\")","v":164.31},-9.7282179120810231E-4,{"$f":"RTD(\"cqg.rtd\",,\"StudyData\", \"Close(\"&$D$12&\") when LocalYear(\"&$D$12&\")=\"&$D$6&\" and localMonth(\"&$D$12&\") =\"&$E$6&\" and LocalDay(\"&$D$12&\")=\"&$F$6&\" and Barix(\"&$D$12&\",reference:=StartOfSession)=\"&A7&\"\", \"Bar\", \"\", \"Close\",\"5\",\"0\",\"PrimaryOnly\",,,\"False\",\"T\",\"EveryTick\")","v":164.62},1.9476567255020886E-3,{"$f":"RTD(\"cqg.rtd\",,\"StudyData\", \"Close(\"&$D$12&\") when LocalYear(\"&$D$12&\")=\"&$D$7&\" and localMonth(\"&$D$12&\") =\"&$E$7&\" and LocalDay(\"&$D$12&\")=\"&$F$7&\" and Barix(\"&$D$12&\",reference:=StartOfSession)=\"&A7&\"\", \"Bar\", \"\", \"Close\",\"5\",\"0\",\"PrimaryOnly\",,,\"False\",\"T\",\"EveryTick\")","v":163.28},-3.5396069815697086E-3,{"$f":"RTD(\"cqg.rtd\",,\"StudyData\", \"Close(\"&$D$12&\") when LocalYear(\"&$D$12&\")=\"&$D$8&\" and localMonth(\"&$D$12&\") =\"&$E$8&\" and LocalDay(\"&$D$12&\")=\"&$F$8&\" and Barix(\"&$D$12&\",reference:=StartOfSession)=\"&A7&\"\", \"Bar\", \"\", \"Close\",\"5\",\"0\",\"PrimaryOnly\",,,\"False\",\"T\",\"EveryTick\")","v":165.4},-9.664170089393367E-4,{"$f":"RTD(\"cqg.rtd\",,\"StudyData\", \"Close(\"&$D$12&\") when LocalYear(\"&$D$12&\")=\"&$D$9&\" and localMonth(\"&$D$12&\") =\"&$E$9&\" and LocalDay(\"&$D$12&\")=\"&$F$9&\" and Barix(\"&$D$12&\",reference:=StartOfSession)=\"&A7&\"\", \"Bar\", \"\", \"Close\",\"5\",\"0\",\"PrimaryOnly\",,,\"False\",\"T\",\"EveryTick\")","v":164.1},-8.5241110569906709E-4,{"$f":"RTD(\"cqg.rtd\",,\"StudyData\", \"Close(\"&$D$12&\") when LocalYear(\"&$D$12&\")=\"&$D$10&\" and localMonth(\"&$D$12&\") =\"&$E$10&\" and LocalDay(\"&$D$12&\")=\"&$F$10&\" and Barix(\"&$D$12&\",reference:=StartOfSession)=\"&A7&\"\", \"Bar\", \"\", \"Close\",\"5\",\"0\",\"PrimaryOnly\",,,\"False\",\"T\",\"EveryTick\")","v":163.84},5.5852206469035569E-3,{"$f":"RANK(AD7,$AD$1:$AD$10)+COUNTIF($AD$1:AD7,AD7)-1","v":8},"2018-06-08",{"$f":"VLOOKUP(MAX(AE2:AE81),A1:U81,21,FALSE)","v":-4.0278286342000794E-3},"",7,"2018-06-07",-1.6912297656438821E-3,null,null,"2018-06-07","2018-06-08",6,7]
[7,"09:05:00","2018-06-07",2018,6,7,{"$f":"RTD(\"cqg.rtd\",,\"StudyData\",$D$12,\"Bar\",,\"Close\",\"D\",\"-7\",,,,,\"T\")","v":163.86},{"$f":"RTD(\"cqg.rtd\",,\"StudyData\", \"Close(\"&$D$12&\") when LocalYear(\"&$D$12&\")=\"&$D$1&\" and localMonth(\"&$D$12&\") =\"&$E$1&\" and LocalDay(\"&$D$12&\")=\"&$F$1&\" and Barix(\"&$D$12&\",reference:=StartOfSession)=\"&A8&\"\", \"Bar\", \"\", \"Close\",\"5\",\"0\",\"PrimaryOnly\",,,\"False\",\"T\",\"EveryTick\")","v":""},{"$error":"#N/A"},{"$f":"RTD(\"cqg.rtd\",,\"StudyData\", \"Close(\"&$D$12&\") when LocalYear(\"&$D$12&\")=\"&$D$2&\" and localMonth(\"&$D$12&\") =\"&$E$2&\" and LocalDay(\"&$D$12&\")=\"&$F$2&\" and Barix(\"&$D$12&\",reference:=StartOfSession)=\"&A8&\"\", \"Bar\", \"\", \"Close\",\"5\",\"0\",\"PrimaryOnly\",,,\"False\",\"T\",\"EveryTick\")","v":165.23},-8.0446659062256322E-3,{"$f":"RTD(\"cqg.rtd\",,\"StudyData\", \"Close(\"&$D$12&\") when LocalYear(\"&$D$12&\")=\"&$D$3&\" and localMonth(\"&$D$12&\") =\"&$E$3&\" and LocalDay(\"&$D$12&\")=\"&$F$3&\" and Barix(\"&$D$12&\",reference:=StartOfSession)=\"&A8&\"\", \"Bar\", \"\", \"Close\",\"5\",\"0\",\"PrimaryOnly\",,,\"False\",\"T\",\"EveryTick\")","v":166.96},9.0046534114945863E-3,{"$f":"RTD(\"cqg.rtd\",,\"StudyData\", \"Close(\"&$D$12&\") when LocalYear(\"&$D$12&\")=\"&$D$4&\" and localMonth(\"&$D$12&\") =\"&$E$4&\" and LocalDay(\"&$D$12&\")=\"&$F$4&\" and Barix(\"&$D$12&\",reference:=StartOfSession)=\"&A8&\"\", \"Bar\", \"\", \"Close\",\"5\",\"0\",\"PrimaryOnly\",,,\"False\",\"T\",\"EveryTick\")","v":166.19},4.0478492025132155E-3,{"$f":"RTD(\"cqg.rtd\",,\"StudyData\", \"Close(\"&$D$12&\") when LocalYear(\"&$D$12&\")=\"&$D$5&\" and localMonth(\"&$D$12&\") =\"&$E$5&\" and LocalDay(\"&$D$12&\")=\"&$F$5&\" and Barix(\"&$D$12&\",reference:=StartOfSession)=\"&A8&\"\", \"Bar\", \"\", \"Close\",\"5\",\"0\",\"PrimaryOnly\",,,\"False\",\"T\",\"EveryTick\")","v":164.55},4.8641089560413756E-4,{"$f":"RTD(\"cqg.rtd\",,\"StudyData\", \"Close(\"&$D$12&\") when LocalYear(\"&$D$12&\")=\"&$D$6&\" and localMonth(\"&$D$12&\") =\"&$E$6&\" and LocalDay(\"&$D$12&\")=\"&$F$6&\" and Barix(\"&$D$12&\",reference:=StartOfSession)=\"&A8&\"\", \"Bar\", \"\", \"Close\",\"5\",\"0\",\"PrimaryOnly\",,,\"False\",\"T\",\"EveryTick\")","v":164.53},1.3998782714545938E-3,{"$f":"RTD(\"cqg.rtd\",,\"StudyData\", \"Close(\"&$D$12&\") when LocalYear(\"&$D$12&\")=\"&$D$7&\" and localMonth(\"&$D$12&\") =\"&$E$7&\" and LocalDay(\"&$D$12&\")=\"&$F$7&\" and Barix(\"&$D$12&\",reference:=StartOfSession)=\"&A8&\"\", \"Bar\", \"\", \"Close\",\"5\",\"0\",\"PrimaryOnly\",,,\"False\",\"T\",\"EveryTick\")","v":163.28},-3.5396069815697086E-3,{"$f":"RTD(\"cqg.rtd\",,\"StudyData\", \"Close(\"&$D$12&\") when LocalYear(\"&$D$12&\")=\"&$D$8&\" and localMonth(\"&$D$12&\") =\"&$E$8&\" and LocalDay(\"&$D$12&\")=\"&$F$8&\" and Barix(\"&$D$12&\",reference:=StartOfSession)=\"&A8&\"\", \"Bar\", \"\", \"Close\",\"5\",\"0\",\"PrimaryOnly\",,,\"False\",\"T\",\"EveryTick\")","v":165.4},-9.664170089393367E-4,{"$f":"RTD(\"cqg.rtd\",,\"StudyData\", \"Close(\"&$D$12&\") when LocalYear(\"&$D$12&\")=\"&$D$9&\" and localMonth(\"&$D$12&\") =\"&$E$9&\" and LocalDay(\"&$D$12&\")=\"&$F$9&\" and Barix(\"&$D$12&\",reference:=StartOfSession)=\"&A8&\"\", \"Bar\", \"\", \"Close\",\"5\",\"0\",\"PrimaryOnly\",,,\"False\",\"T\",\"EveryTick\")","v":164.1},-8.5241110569906709E-4,{"$f":"RTD(\"cqg.rtd\",,\"StudyData\", \"Close(\"&$D$12&\") when LocalYear(\"&$D$12&\")=\"&$D$10&\" and localMonth(\"&$D$12&\") =\"&$E$10&\" and LocalDay(\"&$D$12&\")=\"&$F$10&\" and Barix(\"&$D$12&\",reference:=StartOfSession)=\"&A8&\"\", \"Bar\", \"\", \"Close\",\"5\",\"0\",\"PrimaryOnly\",,,\"False\",\"T\",\"EveryTick\")","v":163.84},5.5852206469035569E-3,{"$f":"RANK(AD8,$AD$1:$AD$10)+COUNTIF($AD$1:AD8,AD8)-1","v":7},"2018-06-07",{"$f":"VLOOKUP(MAX(AE2:AE81),A1:W81,23,FALSE)","v":-1.6912297656438821E-3},"",8,"2018-06-08",-4.0278286342000794E-3,null,null,"2018-06-08","2018-06-07",7,6]
[8,"09:10:00","2018-06-06",2018,6,6,{"$f":"RTD(\"cqg.rtd\",,\"StudyData\",$D$12,\"Bar\",,\"Close\",\"D\",\"-8\",,,,,\"T\")","v":165.56},{"$f":"RTD(\"cqg.rtd\",,\"StudyData\", \"Close(\"&$D$12&\") when LocalYear(\"&$D$12&\")=\"&$D$1&\" and localMonth(\"&$D$12&\") =\"&$E$1&\" and LocalDay(\"&$D$12&\")=\"&$F$1&\" and Barix(\"&$D$12&\",reference:=StartOfSession)=\"&A9&\"\", \"Bar\", \"\", \"Close\",\"5\",\"0\",\"PrimaryOnly\",,,\"False\",\"T\",\"EveryTick\")","v":""},{"$error":"#N/A"},{"$f":"RTD(\"cqg.rtd\",,\"StudyData\", \"Close(\"&$D$12&\") when LocalYear(\"&$D$12&\")=\"&$D$2&\" and localMonth(\"&$D$12&\") =\"&$E$2&\" and LocalDay(\"&$D$12&\")=\"&$F$2&\" and Barix(\"&$D$12&\",reference:=StartOfSession)=\"&A9&\"\", \"Bar\", \"\", \"Close\",\"5\",\"0\",\"PrimaryOnly\",,,\"False\",\"T\",\"EveryTick\")","v":165.31},-7.5643873446598481E-3,{"$f":"RTD(\"cqg.rtd\",,\"StudyData\", \"Close(\"&$D$12&\") when LocalYear(\"&$D$12&\")=\"&$D$3&\" and localMonth(\"&$D$12&\") =\"&$E$3&\" and LocalDay(\"&$D$12&\")=\"&$F$3&\" and Barix(\"&$D$12&\",reference:=StartOfSession)=\"&A9&\"\", \"Bar\", \"\", \"Close\",\"5\",\"0\",\"PrimaryOnly\",,,\"False\",\"T\",\"EveryTick\")","v":166.94},8.8837855804677519E-3,{"$f":"RTD(\"cqg.rtd\",,\"StudyData\", \"Close(\"&$D$12&\") when LocalYear(\"&$D$12&\")=\"&$D$4&\" and localMonth(\"&$D$12&\") =\"&$E$4&\" and LocalDay(\"&$D$12&\")=\"&$F$4&\" and Barix(\"&$D$12&\",reference:=StartOfSession)=\"&A9&\"\", \"Bar\", \"\", \"Close\",\"5\",\"0\",\"PrimaryOnly\",,,\"False\",\"T\",\"EveryTick\")","v":166.19},4.0478492025132155E-3,{"$f":"RTD(\"cqg.rtd\",,\"StudyData\", \"Close(\"&$D$12&\") when LocalYear(\"&$D$12&\")=\"&$D$5&\" and localMonth(\"&$D$12&\") =\"&$E$5&\" and LocalDay(\"&$D$12&\")=\"&$F$5&\" and Barix(\"&$D$12&\",reference:=StartOfSession)=\"&A9&\"\", \"Bar\", \"\", \"Close\",\"5\",\"0\",\"PrimaryOnly\",,,\"False\",\"T\",\"EveryTick\")","v":164.51},2.4320544780198237E-4,{"$f":"RTD(\"cqg.rtd\",,\"StudyData\", \"Close(\"&$D$12&\") when LocalYear(\"&$D$12&\")=\"&$D$6&\" and localMonth(\"&$D$12&\") =\"&$E$6&\" and LocalDay(\"&$D$12&\")=\"&$F$6&\" and Barix(\"&$D$12&\",reference:=StartOfSession)=\"&A9&\"\", \"Bar\", \"\", \"Close\",\"5\",\"0\",\"PrimaryOnly\",,,\"False\",\"T\",\"EveryTick\")","v":164.61},1.8867924528302024E-3,{"$f":"RTD(\"cqg.rtd\",,\"StudyData\", \"Close(\"&$D$12&\") when LocalYear(\"&$D$12&\")=\"&$D$7&\" and localMonth(\"&$D$12&\") =\"&$E$7&\" and LocalDay(\"&$D$12&\")=\"&$F$7&\" and Barix(\"&$D$12&\",reference:=StartOfSession)=\"&A9&\"\", \"Bar\", \"\", \"Close\",\"5\",\"0\",\"PrimaryOnly\",,,\"False\",\"T\",\"EveryTick\")","v":163.57},-1.769803490784941E-3,{"$f":"RTD(\"cqg.rtd\",,\"StudyData\", \"Close(\"&$D$12&\") when LocalYear(\"&$D$12&\")=\"&$D$8&\" and localMonth(\"&$D$12&\") =\"&$E$8&\" and LocalDay(\"&$D$12&\")=\"&$F$8&\" and Barix(\"&$D$12&\",reference:=StartOfSession)=\"&A9&\"\", \"Bar\", \"\", \"Close\",\"5\",\"0\",\"PrimaryOnly\",,,\"False\",\"T\",\"EveryTick\")","v":165.4},-9.664170089393367E-4,{"$f":"RTD(\"cqg.rtd\",,\"StudyData\", \"Close(\"&$D$12&\") when LocalYear(\"&$D$12&\")=\"&$D$9&\" and localMonth(\"&$D$12&\") =\"&$E$9&\" and LocalDay(\"&$D$12&\")=\"&$F$9&\" and Barix(\"&$D$12&\",reference:=StartOfSession)=\"&A9&\"\", \"Bar\", \"\", \"Close\",\"5\",\"0\",\"PrimaryOnly\",,,\"False\",\"T\",\"EveryTick\")","v":164.16},-4.8709206039949162E-4,{"$f":"RTD(\"cqg.rtd\",,\"StudyData\", \"Close(\"&$D$12&\") when LocalYear(\"&$D$12&\")=\"&$D$10&\" and localMonth(\"&$D$12&\") =\"&$E$10&\" and LocalDay(\"&$D$12&\")=\"&$F$10&\" and Barix(\"&$D$12&\",reference:=StartOfSession)=\"&A9&\"\", \"Bar\", \"\", \"Close\",\"5\",\"0\",\"PrimaryOnly\",,,\"False\",\"T\",\"EveryTick\")","v":163.84},5.5852206469035569E-3,{"$f":"RANK(AD9,$AD$1:$AD$10)+COUNTIF($AD$1:AD9,AD9)-1","v":4},"2018-06-06",{"$f":"VLOOKUP(MAX(AE2:AE81),A1:Y81,25,FALSE)","v":1.6439357038479164E-3},"",9,"2018-06-18",-1.0176431625218267E-2,null,null,"2018-06-18","2018-06-06",8,0]
[9,"09:15:00","2018-06-05",2018,6,5,{"$f":"RTD(\"cqg.rtd\",,\"StudyData\",$D$12,\"Bar\",,\"Close\",\"D\",\"-9\",,,,,\"T\")","v":164.24},{"$f":"RTD(\"cqg.rtd\",,\"StudyData\", \"Close(\"&$D$12&\") when LocalYear(\"&$D$12&\")=\"&$D$1&\" and localMonth(\"&$D$12&\") =\"&$E$1&\" and LocalDay(\"&$D$12&\")=\"&$F$1&\" and Barix(\"&$D$12&\",reference:=StartOfSession)=\"&A10&\"\", \"Bar\", \"\", \"Close\",\"5\",\"0\",\"PrimaryOnly\",,,\"False\",\"T\",\"EveryTick\")","v":""},{"$error":"#N/A"},{"$f":"RTD(\"cqg.rtd\",,\"StudyData\", \"Close(\"&$D$12&\") when LocalYear(\"&$D$12&\")=\"&$D$2&\" and localMonth(\"&$D$12&\") =\"&$E$2&\" and LocalDay(\"&$D$12&\")=\"&$F$2&\" and Barix(\"&$D$12&\",reference:=StartOfSession)=\"&A10&\"\", \"Bar\", \"\", \"Close\",\"5\",\"0\",\"PrimaryOnly\",,,\"False\",\"T\",\"EveryTick\")","v":165.31},-7.5643873446598481E-3,{"$f":"RTD(\"cqg.rtd\",,\"StudyData\", \"Close(\"&$D$12&\") when LocalYear(\"&$D$12&\")=\"&$D$3&\" and localMonth(\"&$D$12&\") =\"&$E$3&\" and LocalDay(\"&$D$12&\")=\"&$F$3&\" and Barix(\"&$D$12&\",reference:=StartOfSession)=\"&A10&\"\", \"Bar\", \"\", \"Close\",\"5\",\"0\",\"PrimaryOnly\",,,\"False\",\"T\",\"EveryTick\")","v":167.04},9.4881247356015785E-3,{"$f":"RTD(\"cqg.rtd\",,\"StudyData\", \"Close(\"&$D$12&\") when LocalYear(\"&$D$12&\")=\"&$D$4&\" and localMonth(\"&$D$12&\") =\"&$E$4&\" and LocalDay(\"&$D$12&\")=\"&$F$4&\" and Barix(\"&$D$12&\",reference:=StartOfSession)=\"&A10&\"\", \"Bar\", \"\", \"Close\",\"5\",\"0\",\"PrimaryOnly\",,,\"False\",\"T\",\"EveryTick\")","v":166.32},4.8332527791202446E-3,{"$f":"RTD(\"cqg.rtd\",,\"StudyData\", \"Close(\"&$D$12&\") when LocalYear(\"&$D$12&\")=\"&$D$5&\" and localMonth(\"&$D$12&\") =\"&$E$5&\" and LocalDay(\"&$D$12&\")=\"&$F$5&\" and Barix(\"&$D$12&\",reference:=StartOfSession)=\"&A10&\"\", \"Bar\", \"\", \"Close\",\"5\",\"0\",\"PrimaryOnly\",,,\"False\",\"T\",\"EveryTick\")","v":164.53},3.6480817170305997E-4,{"$f":"RTD(\"cqg.rtd\",,\"StudyData\", \"Close(\"&$D$12&\") when LocalYear(\"&$D$12&\")=\"&$D$6&\" and localMonth(\"&$D$12&\") =\"&$E$6&\" and LocalDay(\"&$D$12&\")=\"&$F$6&\" and Barix(\"&$D$12&\",reference:=StartOfSession)=\"&A10&\"\", \"Bar\", \"\", \"Close\",\"5\",\"0\",\"PrimaryOnly\",,,\"False\",\"T\",\"EveryTick\")","v":164.25},-3.0432136335977703E-4,{"$f":"RTD(\"cqg.rtd\",,\"StudyData\", \"Close(\"&$D$12&\") when LocalYear(\"&$D$12&\")=\"&$D$7&\" and localMonth(\"&$D$12&\") =\"&$E$7&\" and LocalDay(\"&$D$12&\")=\"&$F$7&\" and Barix(\"&$D$12&\",reference:=StartOfSession)=\"&A10&\"\", \"Bar\", \"\", \"Close\",\"5\",\"0\",\"PrimaryOnly\",,,\"False\",\"T\",\"EveryTick\")","v":163.57},-1.769803490784941E-3,{"$f":"RTD(\"cqg.rtd\",,\"StudyData\", \"Close(\"&$D$12&\") when LocalYear(\"&$D$12&\")=\"&$D$8&\" and localMonth(\"&$D$12&\") =\"&$E$8&\" and LocalDay(\"&$D$12&\")=\"&$F$8&\" and Barix(\"&$D$12&\",reference:=StartOfSession)=\"&A10&\"\", \"Bar\", \"\", \"Close\",\"5\",\"0\",\"PrimaryOnly\",,,\"False\",\"T\",\"EveryTick\")","v":165},-3.3824595312877642E-3,{"$f":"RTD(\"cqg.rtd\",,\"StudyData\", \"Close(\"&$D$12&\") when LocalYear(\"&$D$12&\")=\"&$D$9&\" and localMonth(\"&$D$12&\") =\"&$E$9&\" and LocalDay(\"&$D$12&\")=\"&$F$9&\" and Barix(\"&$D$12&\",reference:=StartOfSession)=\"&A10&\"\", \"Bar\", \"\", \"Close\",\"5\",\"0\",\"PrimaryOnly\",,,\"False\",\"T\",\"EveryTick\")","v":164.09},-9.1329761324893859E-4,{"$f":"RTD(\"cqg.rtd\",,\"StudyData\", \"Close(\"&$D$12&\") when LocalYear(\"&$D$12&\")=\"&$D$10&\" and localMonth(\"&$D$12&\") =\"&$E$10&\" and LocalDay(\"&$D$12&\")=\"&$F$10&\" and Barix(\"&$D$12&\",reference:=StartOfSession)=\"&A10&\"\", \"Bar\", \"\", \"Close\",\"5\",\"0\",\"PrimaryOnly\",,,\"False\",\"T\",\"EveryTick\")","v":163.84},5.5852206469035569E-3,{"$f":"RANK(AD10,$AD$1:$AD$10)+COUNTIF($AD$1:AD10,AD10)-1","v":2},"2018-06-05",{"$f":"VLOOKUP(MAX(AE2:AE81),A1:AA81,27,FALSE)","v":3.805315166022246E-3},"",10,"2018-06-15",-1.0986372095815478E-2,null,null,"2018-06-15","2018-06-05",9,1]
[10,"09:20:00","2018-06-04",2018,6,4,{"$f":"RTD(\"cqg.rtd\",,\"StudyData\",$D$12,\"Bar\",,\"Close\",\"D\",\"-10\",,,,,\"T\")","v":162.93},{"$f":"RTD(\"cqg.rtd\",,\"StudyData\", \"Close(\"&$D$12&\") when LocalYear(\"&$D$12&\")=\"&$D$1&\" and localMonth(\"&$D$12&\") =\"&$E$1&\" and LocalDay(\"&$D$12&\")=\"&$F$1&\" and Barix(\"&$D$12&\",reference:=StartOfSession)=\"&A11&\"\", \"Bar\", \"\", \"Close\",\"5\",\"0\",\"PrimaryOnly\",,,\"False\",\"T\",\"EveryTick\")","v":""},{"$error":"#N/A"},{"$f":"RTD(\"cqg.rtd\",,\"StudyData\", \"Close(\"&$D$12&\") when LocalYear(\"&$D$12&\")=\"&$D$2&\" and localMonth(\"&$D$12&\") =\"&$E$2&\" and LocalDay(\"&$D$12&\")=\"&$F$2&\" and Barix(\"&$D$12&\",reference:=StartOfSession)=\"&A11&\"\", \"Bar\", \"\", \"Close\",\"5\",\"0\",\"PrimaryOnly\",,,\"False\",\"T\",\"EveryTick\")","v":165.31},-7.5643873446598481E-3,{"$f":"RTD(\"cqg.rtd\",,\"StudyData\", \"Close(\"&$D$12&\") when LocalYear(\"&$D$12&\")=\"&$D$3&\" and localMonth(\"&$D$12&\") =\"&$E$3&\" and LocalDay(\"&$D$12&\")=\"&$F$3&\" and Barix(\"&$D$12&\",reference:=StartOfSession)=\"&A11&\"\", \"Bar\", \"\", \"Close\",\"5\",\"0\",\"PrimaryOnly\",,,\"False\",\"T\",\"EveryTick\")","v":167.05},9.5485586511150806E-3,{"$f":"RTD(\"cqg.rtd\",,\"StudyData\", \"Close(\"&$D$12&\") when LocalYear(\"&$D$12&\")=\"&$D$4&\" and localMonth(\"&$D$12&\") =\"&$E$4&\" and LocalDay(\"&$D$12&\")=\"&$F$4&\" and Barix(\"&$D$12&\",reference:=StartOfSession)=\"&A11&\"\", \"Bar\", \"\", \"Close\",\"5\",\"0\",\"PrimaryOnly\",,,\"False\",\"T\",\"EveryTick\")","v":166.29},4.6520057999032251E-3,{"$f":"RTD(\"cqg.rtd\",,\"StudyData\", \"Close(\"&$D$12&\") when LocalYear(\"&$D$12&\")=\"&$D$5&\" and localMonth(\"&$D$12&\") =\"&$E$5&\" and LocalDay(\"&$D$12&\")=\"&$F$5&\" and Barix(\"&$D$12&\",reference:=StartOfSession)=\"&A11&\"\", \"Bar\", \"\", \"Close\",\"5\",\"0\",\"PrimaryOnly\",,,\"False\",\"T\",\"EveryTick\")","v":164.48},6.0801361950452394E-5,{"$f":"RTD(\"cqg.rtd\",,\"StudyData\", \"Close(\"&$D$12&\") when LocalYear(\"&$D$12&\")=\"&$D$6&\" and localMonth(\"&$D$12&\") =\"&$E$6&\" and LocalDay(\"&$D$12&\")=\"&$F$6&\" and Barix(\"&$D$12&\",reference:=StartOfSession)=\"&A11&\"\", \"Bar\", \"\", \"Close\",\"5\",\"0\",\"PrimaryOnly\",,,\"False\",\"T\",\"EveryTick\")","v":164.25},-3.0432136335977703E-4,{"$f":"RTD(\"cqg.rtd\",,\"StudyData\", \"Close(\"&$D$12&\") when LocalYear(\"&$D$12&\")=\"&$D$7&\" and localMonth(\"&$D$12&\") =\"&$E$7&\" and LocalDay(\"&$D$12&\")=\"&$F$7&\" and Barix(\"&$D$12&\",reference:=StartOfSession)=\"&A11&\"\", \"Bar\", \"\", \"Close\",\"5\",\"0\",\"PrimaryOnly\",,,\"False\",\"T\",\"EveryTick\")","v":163.57},-1.769803490784941E-3,{"$f":"RTD(\"cqg.rtd\",,\"StudyData\", \"Close(\"&$D$12&\") when LocalYear(\"&$D$12&\")=\"&$D$8&\" and localMonth(\"&$D$12&\") =\"&$E$8&\" and LocalDay(\"&$D$12&\")=\"&$F$8&\" and Barix(\"&$D$12&\",reference:=StartOfSession)=\"&A11&\"\", \"Bar\", \"\", \"Close\",\"5\",\"0\",\"PrimaryOnly\",,,\"False\",\"T\",\"EveryTick\")","v":164.54},-6.1609084319884646E-3,{"$f":"RTD(\"cqg.rtd\",,\"StudyData\", \"Close(\"&$D$12&\") when LocalYear(\"&$D$12&\")=\"&$D$9&\" and localMonth(\"&$D$12&\") =\"&$E$9&\" and LocalDay(\"&$D$12&\")=\"&$F$9&\" and Barix(\"&$D$12&\",reference:=StartOfSession)=\"&A11&\"\", \"Bar\", \"\", \"Close\",\"5\",\"0\",\"PrimaryOnly\",,,\"False\",\"T\",\"EveryTick\")","v":164.27},1.8265952264978771E-4,{"$f":"RTD(\"cqg.rtd\",,\"StudyData\", \"Close(\"&$D$12&\") when LocalYear(\"&$D$12&\")=\"&$D$10&\" and localMonth(\"&$D$12&\") =\"&$E$10&\" and LocalDay(\"&$D$12&\")=\"&$F$10&\" and Barix(\"&$D$12&\",reference:=StartOfSession)=\"&A11&\"\", \"Bar\", \"\", \"Close\",\"5\",\"0\",\"PrimaryOnly\",,,\"False\",\"T\",\"EveryTick\")","v":163.80000000000001},5.3397164426441076E-3,null,null,null,""]
[11,"09:25:00",null,{"$f":"MainDisplay!B31","v":"S.RYT"},null,null,null,{"$f":"RTD(\"cqg.rtd\",,\"StudyData\", \"Close(\"&$D$12&\") when LocalYear(\"&$D$12&\")=\"&$D$1&\" and localMonth(\"&$D$12&\") =\"&$E$1&\" and LocalDay(\"&$D$12&\")=\"&$F$1&\" and Barix(\"&$D$12&\",reference:=StartOfSession)=\"&A12&\"\", \"Bar\", \"\", \"Close\",\"5\",\"0\",\"PrimaryOnly\",,,\"False\",\"T\",\"EveryTick\")","v":""},{"$error":"#N/A"},{"$f":"RTD(\"cqg.rtd\",,\"StudyData\", \"Close(\"&$D$12&\") when LocalYear(\"&$D$12&\")=\"&$D$2&\" and localMonth(\"&$D$12&\") =\"&$E$2&\" and LocalDay(\"&$D$12&\")=\"&$F$2&\" and Barix(\"&$D$12&\",reference:=StartOfSession)=\"&A12&\"\", \"Bar\", \"\", \"Close\",\"5\",\"0\",\"PrimaryOnly\",,,\"False\",\"T\",\"EveryTick\")","v":165.38},-7.144143603289895E-3,{"$f":"RTD(\"cqg.rtd\",,\"StudyData\", \"Close(\"&$D$12&\") when LocalYear(\"&$D$12&\")=\"&$D$3&\" and localMonth(\"&$D$12&\") =\"&$E$3&\" and LocalDay(\"&$D$12&\")=\"&$F$3&\" and Barix(\"&$D$12&\",reference:=StartOfSession)=\"&A12&\"\", \"Bar\", \"\", \"Close\",\"5\",\"0\",\"PrimaryOnly\",,,\"False\",\"T\",\"EveryTick\")","v":167.15},1.0152897806248909E-2,{"$f":"RTD(\"cqg.rtd\",,\"StudyData\", \"Close(\"&$D$12&\") when LocalYear(\"&$D$12&\")=\"&$D$4&\" and localMonth(\"&$D$12&\") =\"&$E$4&\" and LocalDay(\"&$D$12&\")=\"&$F$4&\" and Barix(\"&$D$12&\",reference:=StartOfSession)=\"&A12&\"\", \"Bar\", \"\", \"Close\",\"5\",\"0\",\"PrimaryOnly\",,,\"False\",\"T\",\"EveryTick\")","v":166.29},4.6520057999032251E-3,{"$f":"RTD(\"cqg.rtd\",,\"StudyData\", \"Close(\"&$D$12&\") when LocalYear(\"&$D$12&\")=\"&$D$5&\" and localMonth(\"&$D$12&\") =\"&$E$5&\" and LocalDay(\"&$D$12&\")=\"&$F$5&\" and Barix(\"&$D$12&\",reference:=StartOfSession)=\"&A12&\"\", \"Bar\", \"\", \"Close\",\"5\",\"0\",\"PrimaryOnly\",,,\"False\",\"T\",\"EveryTick\")","v":164.48},6.0801361950452394E-5,{"$f":"RTD(\"cqg.rtd\",,\"StudyData\", \"Close(\"&$D$12&\") when LocalYear(\"&$D$12&\")=\"&$D$6&\" and localMonth(\"&$D$12&\") =\"&$E$6&\" and LocalDay(\"&$D$12&\")=\"&$F$6&\" and Barix(\"&$D$12&\",reference:=StartOfSession)=\"&A12&\"\", \"Bar\", \"\", \"Close\",\"5\",\"0\",\"PrimaryOnly\",,,\"False\",\"T\",\"EveryTick\")","v":164.23},-4.2604990870372242E-4,{"$f":"RTD(\"cqg.rtd\",,\"StudyData\", \"Close(\"&$D$12&\") when LocalYear(\"&$D$12&\")=\"&$D$7&\" and localMonth(\"&$D$12&\") =\"&$E$7&\" and LocalDay(\"&$D$12&\")=\"&$F$7&\" and Barix(\"&$D$12&\",reference:=StartOfSession)=\"&A12&\"\", \"Bar\", \"\", \"Close\",\"5\",\"0\",\"PrimaryOnly\",,,\"False\",\"T\",\"EveryTick\")","v":163.31},-3.3565238618333414E-3,{"$f":"RTD(\"cqg.rtd\",,\"StudyData\", \"Close(\"&$D$12&\") when LocalYear(\"&$D$12&\")=\"&$D$8&\" and localMonth(\"&$D$12&\") =\"&$E$8&\" and LocalDay(\"&$D$12&\")=\"&$F$8&\" and Barix(\"&$D$12&\",reference:=StartOfSession)=\"&A12&\"\", \"Bar\", \"\", \"Close\",\"5\",\"0\",\"PrimaryOnly\",,,\"False\",\"T\",\"EveryTick\")","v":164.6},-5.7985020536361924E-3,{"$f":"RTD(\"cqg.rtd\",,\"StudyData\", \"Close(\"&$D$12&\") when LocalYear(\"&$D$12&\")=\"&$D$9&\" and localMonth(\"&$D$12&\") =\"&$E$9&\" and LocalDay(\"&$D$12&\")=\"&$F$9&\" and Barix(\"&$D$12&\",reference:=StartOfSession)=\"&A12&\"\", \"Bar\", \"\", \"Close\",\"5\",\"0\",\"PrimaryOnly\",,,\"False\",\"T\",\"EveryTick\")","v":164.37},7.9152459814902244E-4,{"$f":"RTD(\"cqg.rtd\",,\"StudyData\", \"Close(\"&$D$12&\") when LocalYear(\"&$D$12&\")=\"&$D$10&\" and localMonth(\"&$D$12&\") =\"&$E$10&\" and LocalDay(\"&$D$12&\")=\"&$F$10&\" and Barix(\"&$D$12&\",reference:=StartOfSession)=\"&A12&\"\", \"Bar\", \"\", \"Close\",\"5\",\"0\",\"PrimaryOnly\",,,\"False\",\"T\",\"EveryTick\")","v":163.92},6.0762290554224555E-3,null,{"$f":"VLOOKUP(MAX(AE2:AE81),A1:B81,2,FALSE)","v":"08:40:00"},null,""]
[12,"09:30:00",null,{"$f":"RTD(\"cqg.rtd\", ,\"ContractData\",D12, \"LastQuoteToday\",, \"T\")","v":164.59},null,null,{"$f":"C1","v":"2018-06-18"},{"$f":"RTD(\"cqg.rtd\",,\"StudyData\", \"Close(\"&$D$12&\") when LocalYear(\"&$D$12&\")=\"&$D$1&\" and localMonth(\"&$D$12&\") =\"&$E$1&\" and LocalDay(\"&$D$12&\")=\"&$F$1&\" and Barix(\"&$D$12&\",reference:=StartOfSession)=\"&A13&\"\", \"Bar\", \"\", \"Close\",\"5\",\"0\",\"PrimaryOnly\",,,\"False\",\"T\",\"EveryTick\")","v":""},{"$error":"#N/A"},{"$f":"RTD(\"cqg.rtd\",,\"StudyData\", \"Close(\"&$D$12&\") when LocalYear(\"&$D$12&\")=\"&$D$2&\" and localMonth(\"&$D$12&\") =\"&$E$2&\" and LocalDay(\"&$D$12&\")=\"&$F$2&\" and Barix(\"&$D$12&\",reference:=StartOfSession)=\"&A13&\"\", \"Bar\", \"\", \"Close\",\"5\",\"0\",\"PrimaryOnly\",,,\"False\",\"T\",\"EveryTick\")","v":165.27},-7.8045266254426551E-3,{"$f":"RTD(\"cqg.rtd\",,\"StudyData\", \"Close(\"&$D$12&\") when LocalYear(\"&$D$12&\")=\"&$D$3&\" and localMonth(\"&$D$12&\") =\"&$E$3&\" and LocalDay(\"&$D$12&\")=\"&$F$3&\" and Barix(\"&$D$12&\",reference:=StartOfSession)=\"&A13&\"\", \"Bar\", \"\", \"Close\",\"5\",\"0\",\"PrimaryOnly\",,,\"False\",\"T\",\"EveryTick\")","v":166.93},8.8233516649544198E-3,{"$f":"RTD(\"cqg.rtd\",,\"StudyData\", \"Close(\"&$D$12&\") when LocalYear(\"&$D$12&\")=\"&$D$4&\" and localMonth(\"&$D$12&\") =\"&$E$4&\" and LocalDay(\"&$D$12&\")=\"&$F$4&\" and Barix(\"&$D$12&\",reference:=StartOfSession)=\"&A13&\"\", \"Bar\", \"\", \"Close\",\"5\",\"0\",\"PrimaryOnly\",,,\"False\",\"T\",\"EveryTick\")","v":166.25},4.4103431609472553E-3,{"$f":"RTD(\"cqg.rtd\",,\"StudyData\", \"Close(\"&$D$12&\") when LocalYear(\"&$D$12&\")=\"&$D$5&\" and localMonth(\"&$D$12&\") =\"&$E$5&\" and LocalDay(\"&$D$12&\")=\"&$F$5&\" and Barix(\"&$D$12&\",reference:=StartOfSession)=\"&A13&\"\", \"Bar\", \"\", \"Close\",\"5\",\"0\",\"PrimaryOnly\",,,\"False\",\"T\",\"EveryTick\")","v":164.48},6.0801361950452394E-5,{"$f":"RTD(\"cqg.rtd\",,\"StudyData\", \"Close(\"&$D$12&\") when LocalYear(\"&$D$12&\")=\"&$D$6&\" and localMonth(\"&$D$12&\") =\"&$E$6&\" and LocalDay(\"&$D$12&\")=\"&$F$6&\" and Barix(\"&$D$12&\",reference:=StartOfSession)=\"&A13&\"\", \"Bar\", \"\", \"Close\",\"5\",\"0\",\"PrimaryOnly\",,,\"False\",\"T\",\"EveryTick\")","v":164.23},-4.2604990870372242E-4,{"$f":"RTD(\"cqg.rtd\",,\"StudyData\", \"Close(\"&$D$12&\") when LocalYear(\"&$D$12&\")=\"&$D$7&\" and localMonth(\"&$D$12&\") =\"&$E$7&\" and LocalDay(\"&$D$12&\")=\"&$F$7&\" and Barix(\"&$D$12&\",reference:=StartOfSession)=\"&A13&\"\", \"Bar\", \"\", \"Close\",\"5\",\"0\",\"PrimaryOnly\",,,\"False\",\"T\",\"EveryTick\")","v":163.27000000000001},-3.6006346881484398E-3,{"$f":"RTD(\"cqg.rtd\",,\"StudyData\", \"Close(\"&$D$12&\") when LocalYear(\"&$D$12&\")=\"&$D$8&\" and localMonth(\"&$D$12&\") =\"&$E$8&\" and LocalDay(\"&$D$12&\")=\"&$F$8&\" and Barix(\"&$D$12&\",reference:=StartOfSession)=\"&A13&\"\", \"Bar\", \"\", \"Close\",\"5\",\"0\",\"PrimaryOnly\",,,\"False\",\"T\",\"EveryTick\")","v":164.6},-5.7985020536361924E-3,{"$f":"RTD(\"cqg.rtd\",,\"StudyData\", \"Close(\"&$D$12&\") when LocalYear(\"&$D$12&\")=\"&$D$9&\" and localMonth(\"&$D$12&\") =\"&$E$9&\" and LocalDay(\"&$D$12&\")=\"&$F$9&\" and Barix(\"&$D$12&\",reference:=StartOfSession)=\"&A13&\"\", \"Bar\", \"\", \"Close\",\"5\",\"0\",\"PrimaryOnly\",,,\"False\",\"T\",\"EveryTick\")","v":164.23},-6.0886507550044608E-5,{"$f":"RTD(\"cqg.rtd\",,\"StudyData\", \"Close(\"&$D$12&\") when LocalYear(\"&$D$12&\")=\"&$D$10&\" and localMonth(\"&$D$12&\") =\"&$E$10&\" and LocalDay(\"&$D$12&\")=\"&$F$10&\" and Barix(\"&$D$12&\",reference:=StartOfSession)=\"&A13&\"\", \"Bar\", \"\", \"Close\",\"5\",\"0\",\"PrimaryOnly\",,,\"False\",\"T\",\"EveryTick\")","v":164.03},6.7513656171361586E-3,null,null,null,""]
[13,"09:35:00",null,{"$f":"RTD(\"cqg.rtd\", ,\"ContractData\",D12, \"LongDescription\",, \"T\")","v":"Guggenheim S&P 500 Eq Wt Technology ETF"},null,null,{"$f":"C2","v":"2018-06-15"},{"$f":"RTD(\"cqg.rtd\",,\"StudyData\", \"Close(\"&$D$12&\") when LocalYear(\"&$D$12&\")=\"&$D$1&\" and localMonth(\"&$D$12&\") =\"&$E$1&\" and LocalDay(\"&$D$12&\")=\"&$F$1&\" and Barix(\"&$D$12&\",reference:=StartOfSession)=\"&A14&\"\", \"Bar\", \"\", \"Close\",\"5\",\"0\",\"PrimaryOnly\",,,\"False\",\"T\",\"EveryTick\")","v":""},{"$error":"#N/A"},{"$f":"RTD(\"cqg.rtd\",,\"StudyData\", \"Close(\"&$D$12&\") when LocalYear(\"&$D$12&\")=\"&$D$2&\" and localMonth(\"&$D$12&\") =\"&$E$2&\" and LocalDay(\"&$D$12&\")=\"&$F$2&\" and Barix(\"&$D$12&\",reference:=StartOfSession)=\"&A14&\"\", \"Bar\", \"\", \"Close\",\"5\",\"0\",\"PrimaryOnly\",,,\"False\",\"T\",\"EveryTick\")","v":165.02},-9.3053971303354924E-3,{"$f":"RTD(\"cqg.rtd\",,\"StudyData\", \"Close(\"&$D$12&\") when LocalYear(\"&$D$12&\")=\"&$D$3&\" and localMonth(\"&$D$12&\") =\"&$E$3&\" and LocalDay(\"&$D$12&\")=\"&$F$3&\" and Barix(\"&$D$12&\",reference:=StartOfSession)=\"&A14&\"\", \"Bar\", \"\", \"Close\",\"5\",\"0\",\"PrimaryOnly\",,,\"False\",\"T\",\"EveryTick\")","v":166.85},8.3398803408472558E-3,{"$f":"RTD(\"cqg.rtd\",,\"StudyData\", \"Close(\"&$D$12&\") when LocalYear(\"&$D$12&\")=\"&$D$4&\" and localMonth(\"&$D$12&\") =\"&$E$4&\" and LocalDay(\"&$D$12&\")=\"&$F$4&\" and Barix(\"&$D$12&\",reference:=StartOfSession)=\"&A14&\"\", \"Bar\", \"\", \"Close\",\"5\",\"0\",\"PrimaryOnly\",,,\"False\",\"T\",\"EveryTick\")","v":166.38},5.1957467375542844E-3,{"$f":"RTD(\"cqg.rtd\",,\"StudyData\", \"Close(\"&$D$12&\") when LocalYear(\"&$D$12&\")=\"&$D$5&\" and localMonth(\"&$D$12&\") =\"&$E$5&\" and LocalDay(\"&$D$12&\")=\"&$F$5&\" and Barix(\"&$D$12&\",reference:=StartOfSession)=\"&A14&\"\", \"Bar\", \"\", \"Close\",\"5\",\"0\",\"PrimaryOnly\",,,\"False\",\"T\",\"EveryTick\")","v":164.41},-3.6480817170305997E-4,{"$f":"RTD(\"cqg.rtd\",,\"StudyData\", \"Close(\"&$D$12&\") when LocalYear(\"&$D$12&\")=\"&$D$6&\" and localMonth(\"&$D$12&\") =\"&$E$6&\" and LocalDay(\"&$D$12&\")=\"&$F$6&\" and Barix(\"&$D$12&\",reference:=StartOfSession)=\"&A14&\"\", \"Bar\", \"\", \"Close\",\"5\",\"0\",\"PrimaryOnly\",,,\"False\",\"T\",\"EveryTick\")","v":164.21},-5.4777845404749487E-4,{"$f":"RTD(\"cqg.rtd\",,\"StudyData\", \"Close(\"&$D$12&\") when LocalYear(\"&$D$12&\")=\"&$D$7&\" and localMonth(\"&$D$12&\") =\"&$E$7&\" and LocalDay(\"&$D$12&\")=\"&$F$7&\" and Barix(\"&$D$12&\",reference:=StartOfSession)=\"&A14&\"\", \"Bar\", \"\", \"Close\",\"5\",\"0\",\"PrimaryOnly\",,,\"False\",\"T\",\"EveryTick\")","v":163.27000000000001},-3.6006346881484398E-3,{"$f":"RTD(\"cqg.rtd\",,\"StudyData\", \"Close(\"&$D$12&\") when LocalYear(\"&$D$12&\")=\"&$D$8&\" and localMonth(\"&$D$12&\") =\"&$E$8&\" and LocalDay(\"&$D$12&\")=\"&$F$8&\" and Barix(\"&$D$12&\",reference:=StartOfSession)=\"&A14&\"\", \"Bar\", \"\", \"Close\",\"5\",\"0\",\"PrimaryOnly\",,,\"False\",\"T\",\"EveryTick\")","v":164.1},-8.8185552065716839E-3,{"$f":"RTD(\"cqg.rtd\",,\"StudyData\", \"Close(\"&$D$12&\") when LocalYear(\"&$D$12&\")=\"&$D$9&\" and localMonth(\"&$D$12&\") =\"&$E$9&\" and LocalDay(\"&$D$12&\")=\"&$F$9&\" and Barix(\"&$D$12&\",reference:=StartOfSession)=\"&A14&\"\", \"Bar\", \"\", \"Close\",\"5\",\"0\",\"PrimaryOnly\",,,\"False\",\"T\",\"EveryTick\")","v":164.3},3.6531904529957541E-4,{"$f":"RTD(\"cqg.rtd\",,\"StudyData\", \"Close(\"&$D$12&\") when LocalYear(\"&$D$12&\")=\"&$D$10&\" and localMonth(\"&$D$12&\") =\"&$E$10&\" and LocalDay(\"&$D$12&\")=\"&$F$10&\" and Barix(\"&$D$12&\",reference:=StartOfSession)=\"&A14&\"\", \"Bar\", \"\", \"Close\",\"5\",\"0\",\"PrimaryOnly\",,,\"False\",\"T\",\"EveryTick\")","v":163.79},5.2783403915791149E-3,null,null,null,""]
[14,"09:40:00","",null,null,null,"2018-06-14",{"$f":"RTD(\"cqg.rtd\",,\"StudyData\", \"Close(\"&$D$12&\") when LocalYear(\"&$D$12&\")=\"&$D$1&\" and localMonth(\"&$D$12&\") =\"&$E$1&\" and LocalDay(\"&$D$12&\")=\"&$F$1&\" and Barix(\"&$D$12&\",reference:=StartOfSession)=\"&A15&\"\", \"Bar\", \"\", \"Close\",\"5\",\"0\",\"PrimaryOnly\",,,\"False\",\"T\",\"EveryTick\")","v":""},{"$error":"#N/A"},{"$f":"RTD(\"cqg.rtd\",,\"StudyData\", \"Close(\"&$D$12&\") when LocalYear(\"&$D$12&\")=\"&$D$2&\" and localMonth(\"&$D$12&\") =\"&$E$2&\" and LocalDay(\"&$D$12&\")=\"&$F$2&\" and Barix(\"&$D$12&\",reference:=StartOfSession)=\"&A15&\"\", \"Bar\", \"\", \"Close\",\"5\",\"0\",\"PrimaryOnly\",,,\"False\",\"T\",\"EveryTick\")","v":165.23},-8.0446659062256322E-3,{"$f":"RTD(\"cqg.rtd\",,\"StudyData\", \"Close(\"&$D$12&\") when LocalYear(\"&$D$12&\")=\"&$D$3&\" and localMonth(\"&$D$12&\") =\"&$E$3&\" and LocalDay(\"&$D$12&\")=\"&$F$3&\" and Barix(\"&$D$12&\",reference:=StartOfSession)=\"&A15&\"\", \"Bar\", \"\", \"Close\",\"5\",\"0\",\"PrimaryOnly\",,,\"False\",\"T\",\"EveryTick\")","v":166.89},8.5816160029007528E-3,{"$f":"RTD(\"cqg.rtd\",,\"StudyData\", \"Close(\"&$D$12&\") when LocalYear(\"&$D$12&\")=\"&$D$4&\" and localMonth(\"&$D$12&\") =\"&$E$4&\" and LocalDay(\"&$D$12&\")=\"&$F$4&\" and Barix(\"&$D$12&\",reference:=StartOfSession)=\"&A15&\"\", \"Bar\", \"\", \"Close\",\"5\",\"0\",\"PrimaryOnly\",,,\"False\",\"T\",\"EveryTick\")","v":166.27},4.531174480425326E-3,{"$f":"RTD(\"cqg.rtd\",,\"StudyData\", \"Close(\"&$D$12&\") when LocalYear(\"&$D$12&\")=\"&$D$5&\" and localMonth(\"&$D$12&\") =\"&$E$5&\" and LocalDay(\"&$D$12&\")=\"&$F$5&\" and Barix(\"&$D$12&\",reference:=StartOfSession)=\"&A15&\"\", \"Bar\", \"\", \"Close\",\"5\",\"0\",\"PrimaryOnly\",,,\"False\",\"T\",\"EveryTick\")","v":164.57},6.0801361950504234E-4,{"$f":"RTD(\"cqg.rtd\",,\"StudyData\", \"Close(\"&$D$12&\") when LocalYear(\"&$D$12&\")=\"&$D$6&\" and localMonth(\"&$D$12&\") =\"&$E$6&\" and LocalDay(\"&$D$12&\")=\"&$F$6&\" and Barix(\"&$D$12&\",reference:=StartOfSession)=\"&A15&\"\", \"Bar\", \"\", \"Close\",\"5\",\"0\",\"PrimaryOnly\",,,\"False\",\"T\",\"EveryTick\")","v":164.09},-1.2781497261108213E-3,{"$f":"RTD(\"cqg.rtd\",,\"StudyData\", \"Close(\"&$D$12&\") when LocalYear(\"&$D$12&\")=\"&$D$7&\" and localMonth(\"&$D$12&\") =\"&$E$7&\" and LocalDay(\"&$D$12&\")=\"&$F$7&\" and Barix(\"&$D$12&\",reference:=StartOfSession)=\"&A15&\"\", \"Bar\", \"\", \"Close\",\"5\",\"0\",\"PrimaryOnly\",,,\"False\",\"T\",\"EveryTick\")","v":163.27000000000001},-3.6006346881484398E-3,{"$f":"RTD(\"cqg.rtd\",,\"StudyData\", \"Close(\"&$D$12&\") when LocalYear(\"&$D$12&\")=\"&$D$8&\" and localMonth(\"&$D$12&\") =\"&$E$8&\" and LocalDay(\"&$D$12&\")=\"&$F$8&\" and Barix(\"&$D$12&\",reference:=StartOfSession)=\"&A15&\"\", \"Bar\", \"\", \"Close\",\"5\",\"0\",\"PrimaryOnly\",,,\"False\",\"T\",\"EveryTick\")","v":164.34},-7.3689296931625931E-3,{"$f":"RTD(\"cqg.rtd\",,\"StudyData\", \"Close(\"&$D$12&\") when LocalYear(\"&$D$12&\")=\"&$D$9&\" and localMonth(\"&$D$12&\") =\"&$E$9&\" and LocalDay(\"&$D$12&\")=\"&$F$9&\" and Barix(\"&$D$12&\",reference:=StartOfSession)=\"&A15&\"\", \"Bar\", \"\", \"Close\",\"5\",\"0\",\"PrimaryOnly\",,,\"False\",\"T\",\"EveryTick\")","v":164.29},3.0443253774953082E-4,{"$f":"RTD(\"cqg.rtd\",,\"StudyData\", \"Close(\"&$D$12&\") when LocalYear(\"&$D$12&\")=\"&$D$10&\" and localMonth(\"&$D$12&\") =\"&$E$10&\" and LocalDay(\"&$D$12&\")=\"&$F$10&\" and Barix(\"&$D$12&\",reference:=StartOfSession)=\"&A15&\"\", \"Bar\", \"\", \"Close\",\"5\",\"0\",\"PrimaryOnly\",,,\"False\",\"T\",\"EveryTick\")","v":163.83000000000001},5.5238445958387386E-3,null,null,null,""]
[15,"09:45:00",null,{"$f":"RTD(\"cqg.rtd\", ,\"ContractData\",D12, \"Ticksize\",, \"T\")","v":0.01},null,null,"2018-06-13",{"$f":"RTD(\"cqg.rtd\",,\"StudyData\", \"Close(\"&$D$12&\") when LocalYear(\"&$D$12&\")=\"&$D$1&\" and localMonth(\"&$D$12&\") =\"&$E$1&\" and LocalDay(\"&$D$12&\")=\"&$F$1&\" and Barix(\"&$D$12&\",reference:=StartOfSession)=\"&A16&\"\", \"Bar\", \"\", \"Close\",\"5\",\"0\",\"PrimaryOnly\",,,\"False\",\"T\",\"EveryTick\")","v":""},{"$error":"#N/A"},{"$f":"RTD(\"cqg.rtd\",,\"StudyData\", \"Close(\"&$D$12&\") when LocalYear(\"&$D$12&\")=\"&$D$2&\" and localMonth(\"&$D$12&\") =\"&$E$2&\" and LocalDay(\"&$D$12&\")=\"&$F$2&\" and Barix(\"&$D$12&\",reference:=StartOfSession)=\"&A16&\"\", \"Bar\", \"\", \"Close\",\"5\",\"0\",\"PrimaryOnly\",,,\"False\",\"T\",\"EveryTick\")","v":165.23},-8.0446659062256322E-3,{"$f":"RTD(\"cqg.rtd\",,\"StudyData\", \"Close(\"&$D$12&\") when LocalYear(\"&$D$12&\")=\"&$D$3&\" and localMonth(\"&$D$12&\") =\"&$E$3&\" and LocalDay(\"&$D$12&\")=\"&$F$3&\" and Barix(\"&$D$12&\",reference:=StartOfSession)=\"&A16&\"\", \"Bar\", \"\", \"Close\",\"5\",\"0\",\"PrimaryOnly\",,,\"False\",\"T\",\"EveryTick\")","v":166.94},8.8837855804677519E-3,{"$f":"RTD(\"cqg.rtd\",,\"StudyData\", \"Close(\"&$D$12&\") when LocalYear(\"&$D$12&\")=\"&$D$4&\" and localMonth(\"&$D$12&\") =\"&$E$4&\" and LocalDay(\"&$D$12&\")=\"&$F$4&\" and Barix(\"&$D$12&\",reference:=StartOfSession)=\"&A16&\"\", \"Bar\", \"\", \"Close\",\"5\",\"0\",\"PrimaryOnly\",,,\"False\",\"T\",\"EveryTick\")","v":166.27},4.531174480425326E-3,{"$f":"RTD(\"cqg.rtd\",,\"StudyData\", \"Close(\"&$D$12&\") when LocalYear(\"&$D$12&\")=\"&$D$5&\" and localMonth(\"&$D$12&\") =\"&$E$5&\" and LocalDay(\"&$D$12&\")=\"&$F$5&\" and Barix(\"&$D$12&\",reference:=StartOfSession)=\"&A16&\"\", \"Bar\", \"\", \"Close\",\"5\",\"0\",\"PrimaryOnly\",,,\"False\",\"T\",\"EveryTick\")","v":164.58},6.688149814556676E-4,{"$f":"RTD(\"cqg.rtd\",,\"StudyData\", \"Close(\"&$D$12&\") when LocalYear(\"&$D$12&\")=\"&$D$6&\" and localMonth(\"&$D$12&\") =\"&$E$6&\" and LocalDay(\"&$D$12&\")=\"&$F$6&\" and Barix(\"&$D$12&\",reference:=StartOfSession)=\"&A16&\"\", \"Bar\", \"\", \"Close\",\"5\",\"0\",\"PrimaryOnly\",,,\"False\",\"T\",\"EveryTick\")","v":164.09},-1.2781497261108213E-3,{"$f":"RTD(\"cqg.rtd\",,\"StudyData\", \"Close(\"&$D$12&\") when LocalYear(\"&$D$12&\")=\"&$D$7&\" and localMonth(\"&$D$12&\") =\"&$E$7&\" and LocalDay(\"&$D$12&\")=\"&$F$7&\" and Barix(\"&$D$12&\",reference:=StartOfSession)=\"&A16&\"\", \"Bar\", \"\", \"Close\",\"5\",\"0\",\"PrimaryOnly\",,,\"False\",\"T\",\"EveryTick\")","v":163.03},-5.0652996460393779E-3,{"$f":"RTD(\"cqg.rtd\",,\"StudyData\", \"Close(\"&$D$12&\") when LocalYear(\"&$D$12&\")=\"&$D$8&\" and localMonth(\"&$D$12&\") =\"&$E$8&\" and LocalDay(\"&$D$12&\")=\"&$F$8&\" and Barix(\"&$D$12&\",reference:=StartOfSession)=\"&A16&\"\", \"Bar\", \"\", \"Close\",\"5\",\"0\",\"PrimaryOnly\",,,\"False\",\"T\",\"EveryTick\")","v":163.9},-1.0026576467745811E-2,{"$f":"RTD(\"cqg.rtd\",,\"StudyData\", \"Close(\"&$D$12&\") when LocalYear(\"&$D$12&\")=\"&$D$9&\" and localMonth(\"&$D$12&\") =\"&$E$9&\" and LocalDay(\"&$D$12&\")=\"&$F$9&\" and Barix(\"&$D$12&\",reference:=StartOfSession)=\"&A16&\"\", \"Bar\", \"\", \"Close\",\"5\",\"0\",\"PrimaryOnly\",,,\"False\",\"T\",\"EveryTick\")","v":164.1},-8.5241110569906709E-4,{"$f":"RTD(\"cqg.rtd\",,\"StudyData\", \"Close(\"&$D$12&\") when LocalYear(\"&$D$12&\")=\"&$D$10&\" and localMonth(\"&$D$12&\") =\"&$E$10&\" and LocalDay(\"&$D$12&\")=\"&$F$10&\" and Barix(\"&$D$12&\",reference:=StartOfSession)=\"&A16&\"\", \"Bar\", \"\", \"Close\",\"5\",\"0\",\"PrimaryOnly\",,,\"False\",\"T\",\"EveryTick\")","v":163.72},4.8487080341250354E-3,null,null,null,""]
[16,"09:50:00",null,{"$f":"IF(D16>=1,0,IF(LEN(D16)-2=1,2,LEN(D16)-2))","v":2},null,{"$f":"VLOOKUP(D17,D18:E25,2,FALSE)","v":"#.00"},"2018-06-12",{"$f":"RTD(\"cqg.rtd\",,\"StudyData\", \"Close(\"&$D$12&\") when LocalYear(\"&$D$12&\")=\"&$D$1&\" and localMonth(\"&$D$12&\") =\"&$E$1&\" and LocalDay(\"&$D$12&\")=\"&$F$1&\" and Barix(\"&$D$12&\",reference:=StartOfSession)=\"&A17&\"\", \"Bar\", \"\", \"Close\",\"5\",\"0\",\"PrimaryOnly\",,,\"False\",\"T\",\"EveryTick\")","v":""},{"$error":"#N/A"},{"$f":"RTD(\"cqg.rtd\",,\"StudyData\", \"Close(\"&$D$12&\") when LocalYear(\"&$D$12&\")=\"&$D$2&\" and localMonth(\"&$D$12&\") =\"&$E$2&\" and LocalDay(\"&$D$12&\")=\"&$F$2&\" and Barix(\"&$D$12&\",reference:=StartOfSession)=\"&A17&\"\", \"Bar\", \"\", \"Close\",\"5\",\"0\",\"PrimaryOnly\",,,\"False\",\"T\",\"EveryTick\")","v":165.61},-5.7633427387883745E-3,{"$f":"RTD(\"cqg.rtd\",,\"StudyData\", \"Close(\"&$D$12&\") when LocalYear(\"&$D$12&\")=\"&$D$3&\" and localMonth(\"&$D$12&\") =\"&$E$3&\" and LocalDay(\"&$D$12&\")=\"&$F$3&\" and Barix(\"&$D$12&\",reference:=StartOfSession)=\"&A17&\"\", \"Bar\", \"\", \"Close\",\"5\",\"0\",\"PrimaryOnly\",,,\"False\",\"T\",\"EveryTick\")","v":166.91},8.7024838339275871E-3,{"$f":"RTD(\"cqg.rtd\",,\"StudyData\", \"Close(\"&$D$12&\") when LocalYear(\"&$D$12&\")=\"&$D$4&\" and localMonth(\"&$D$12&\") =\"&$E$4&\" and LocalDay(\"&$D$12&\")=\"&$F$4&\" and Barix(\"&$D$12&\",reference:=StartOfSession)=\"&A17&\"\", \"Bar\", \"\", \"Close\",\"5\",\"0\",\"PrimaryOnly\",,,\"False\",\"T\",\"EveryTick\")","v":166.27},4.531174480425326E-3,{"$f":"RTD(\"cqg.rtd\",,\"StudyData\", \"Close(\"&$D$12&\") when LocalYear(\"&$D$12&\")=\"&$D$5&\" and localMonth(\"&$D$12&\") =\"&$E$5&\" and LocalDay(\"&$D$12&\")=\"&$F$5&\" and Barix(\"&$D$12&\",reference:=StartOfSession)=\"&A17&\"\", \"Bar\", \"\", \"Close\",\"5\",\"0\",\"PrimaryOnly\",,,\"False\",\"T\",\"EveryTick\")","v":164.58},6.688149814556676E-4,{"$f":"RTD(\"cqg.rtd\",,\"StudyData\", \"Close(\"&$D$12&\") when LocalYear(\"&$D$12&\")=\"&$D$6&\" and localMonth(\"&$D$12&\") =\"&$E$6&\" and LocalDay(\"&$D$12&\")=\"&$F$6&\" and Barix(\"&$D$12&\",reference:=StartOfSession)=\"&A17&\"\", \"Bar\", \"\", \"Close\",\"5\",\"0\",\"PrimaryOnly\",,,\"False\",\"T\",\"EveryTick\")","v":164.18},-7.3037127206332646E-4,{"$f":"RTD(\"cqg.rtd\",,\"StudyData\", \"Close(\"&$D$12&\") when LocalYear(\"&$D$12&\")=\"&$D$7&\" and localMonth(\"&$D$12&\") =\"&$E$7&\" and LocalDay(\"&$D$12&\")=\"&$F$7&\" and Barix(\"&$D$12&\",reference:=StartOfSession)=\"&A17&\"\", \"Bar\", \"\", \"Close\",\"5\",\"0\",\"PrimaryOnly\",,,\"False\",\"T\",\"EveryTick\")","v":163.05000000000001},-4.943244232881742E-3,{"$f":"RTD(\"cqg.rtd\",,\"StudyData\", \"Close(\"&$D$12&\") when LocalYear(\"&$D$12&\")=\"&$D$8&\" and localMonth(\"&$D$12&\") =\"&$E$8&\" and LocalDay(\"&$D$12&\")=\"&$F$8&\" and Barix(\"&$D$12&\",reference:=StartOfSession)=\"&A17&\"\", \"Bar\", \"\", \"Close\",\"5\",\"0\",\"PrimaryOnly\",,,\"False\",\"T\",\"EveryTick\")","v":163.9},-1.0026576467745811E-2,{"$f":"RTD(\"cqg.rtd\",,\"StudyData\", \"Close(\"&$D$12&\") when LocalYear(\"&$D$12&\")=\"&$D$9&\" and localMonth(\"&$D$12&\") =\"&$E$9&\" and LocalDay(\"&$D$12&\")=\"&$F$9&\" and Barix(\"&$D$12&\",reference:=StartOfSession)=\"&A17&\"\", \"Bar\", \"\", \"Close\",\"5\",\"0\",\"PrimaryOnly\",,,\"False\",\"T\",\"EveryTick\")","v":164.17},-4.2620555284962006E-4,{"$f":"RTD(\"cqg.rtd\",,\"StudyData\", \"Close(\"&$D$12&\") when LocalYear(\"&$D$12&\")=\"&$D$10&\" and localMonth(\"&$D$12&\") =\"&$E$10&\" and LocalDay(\"&$D$12&\")=\"&$F$10&\" and Barix(\"&$D$12&\",reference:=StartOfSession)=\"&A17&\"\", \"Bar\", \"\", \"Close\",\"5\",\"0\",\"PrimaryOnly\",,,\"False\",\"T\",\"EveryTick\")","v":163.84},5.5852206469035569E-3,null,null,null,""]
[17,"09:55:00",null,0,"#",null,"2018-06-11",{"$f":"RTD(\"cqg.rtd\",,\"StudyData\", \"Close(\"&$D$12&\") when LocalYear(\"&$D$12&\")=\"&$D$1&\" and localMonth(\"&$D$12&\") =\"&$E$1&\" and LocalDay(\"&$D$12&\")=\"&$F$1&\" and Barix(\"&$D$12&\",reference:=StartOfSession)=\"&A18&\"\", \"Bar\", \"\", \"Close\",\"5\",\"0\",\"PrimaryOnly\",,,\"False\",\"T\",\"EveryTick\")","v":""},{"$error":"#N/A"},{"$f":"RTD(\"cqg.rtd\",,\"StudyData\", \"Close(\"&$D$12&\") when LocalYear(\"&$D$12&\")=\"&$D$2&\" and localMonth(\"&$D$12&\") =\"&$E$2&\" and LocalDay(\"&$D$12&\")=\"&$F$2&\" and Barix(\"&$D$12&\",reference:=StartOfSession)=\"&A18&\"\", \"Bar\", \"\", \"Close\",\"5\",\"0\",\"PrimaryOnly\",,,\"False\",\"T\",\"EveryTick\")","v":165.52},-6.303656120549817E-3,{"$f":"RTD(\"cqg.rtd\",,\"StudyData\", \"Close(\"&$D$12&\") when LocalYear(\"&$D$12&\")=\"&$D$3&\" and localMonth(\"&$D$12&\") =\"&$E$3&\" and LocalDay(\"&$D$12&\")=\"&$F$3&\" and Barix(\"&$D$12&\",reference:=StartOfSession)=\"&A18&\"\", \"Bar\", \"\", \"Close\",\"5\",\"0\",\"PrimaryOnly\",,,\"False\",\"T\",\"EveryTick\")","v":166.77},7.8564090167402637E-3,{"$f":"RTD(\"cqg.rtd\",,\"StudyData\", \"Close(\"&$D$12&\") when LocalYear(\"&$D$12&\")=\"&$D$4&\" and localMonth(\"&$D$12&\") =\"&$E$4&\" and LocalDay(\"&$D$12&\")=\"&$F$4&\" and Barix(\"&$D$12&\",reference:=StartOfSession)=\"&A18&\"\", \"Bar\", \"\", \"Close\",\"5\",\"0\",\"PrimaryOnly\",,,\"False\",\"T\",\"EveryTick\")","v":166.37},5.1353310778153348E-3,{"$f":"RTD(\"cqg.rtd\",,\"StudyData\", \"Close(\"&$D$12&\") when LocalYear(\"&$D$12&\")=\"&$D$5&\" and localMonth(\"&$D$12&\") =\"&$E$5&\" and LocalDay(\"&$D$12&\")=\"&$F$5&\" and Barix(\"&$D$12&\",reference:=StartOfSession)=\"&A18&\"\", \"Bar\", \"\", \"Close\",\"5\",\"0\",\"PrimaryOnly\",,,\"False\",\"T\",\"EveryTick\")","v":164.66},1.1552258770596323E-3,{"$f":"RTD(\"cqg.rtd\",,\"StudyData\", \"Close(\"&$D$12&\") when LocalYear(\"&$D$12&\")=\"&$D$6&\" and localMonth(\"&$D$12&\") =\"&$E$6&\" and LocalDay(\"&$D$12&\")=\"&$F$6&\" and Barix(\"&$D$12&\",reference:=StartOfSession)=\"&A18&\"\", \"Bar\", \"\", \"Close\",\"5\",\"0\",\"PrimaryOnly\",,,\"False\",\"T\",\"EveryTick\")","v":164.18},-7.3037127206332646E-4,{"$f":"RTD(\"cqg.rtd\",,\"StudyData\", \"Close(\"&$D$12&\") when LocalYear(\"&$D$12&\")=\"&$D$7&\" and localMonth(\"&$D$12&\") =\"&$E$7&\" and LocalDay(\"&$D$12&\")=\"&$F$7&\" and Barix(\"&$D$12&\",reference:=StartOfSession)=\"&A18&\"\", \"Bar\", \"\", \"Close\",\"5\",\"0\",\"PrimaryOnly\",,,\"False\",\"T\",\"EveryTick\")","v":163.29},-3.4785792749909773E-3,{"$f":"RTD(\"cqg.rtd\",,\"StudyData\", \"Close(\"&$D$12&\") when LocalYear(\"&$D$12&\")=\"&$D$8&\" and localMonth(\"&$D$12&\") =\"&$E$8&\" and LocalDay(\"&$D$12&\")=\"&$F$8&\" and Barix(\"&$D$12&\",reference:=StartOfSession)=\"&A18&\"\", \"Bar\", \"\", \"Close\",\"5\",\"0\",\"PrimaryOnly\",,,\"False\",\"T\",\"EveryTick\")","v":164.22},-8.0937424498671376E-3,{"$f":"RTD(\"cqg.rtd\",,\"StudyData\", \"Close(\"&$D$12&\") when LocalYear(\"&$D$12&\")=\"&$D$9&\" and localMonth(\"&$D$12&\") =\"&$E$9&\" and LocalDay(\"&$D$12&\")=\"&$F$9&\" and Barix(\"&$D$12&\",reference:=StartOfSession)=\"&A18&\"\", \"Bar\", \"\", \"Close\",\"5\",\"0\",\"PrimaryOnly\",,,\"False\",\"T\",\"EveryTick\")","v":164.31},4.2620555284944702E-4,{"$f":"RTD(\"cqg.rtd\",,\"StudyData\", \"Close(\"&$D$12&\") when LocalYear(\"&$D$12&\")=\"&$D$10&\" and localMonth(\"&$D$12&\") =\"&$E$10&\" and LocalDay(\"&$D$12&\")=\"&$F$10&\" and Barix(\"&$D$12&\",reference:=StartOfSession)=\"&A18&\"\", \"Bar\", \"\", \"Close\",\"5\",\"0\",\"PrimaryOnly\",,,\"False\",\"T\",\"EveryTick\")","v":163.84},5.5852206469035569E-3,null,null,null,""]
[18,"10:00:00",null,1,"#.0",null,"2018-06-08",{"$f":"RTD(\"cqg.rtd\",,\"StudyData\", \"Close(\"&$D$12&\") when LocalYear(\"&$D$12&\")=\"&$D$1&\" and localMonth(\"&$D$12&\") =\"&$E$1&\" and LocalDay(\"&$D$12&\")=\"&$F$1&\" and Barix(\"&$D$12&\",reference:=StartOfSession)=\"&A19&\"\", \"Bar\", \"\", \"Close\",\"5\",\"0\",\"PrimaryOnly\",,,\"False\",\"T\",\"EveryTick\")","v":""},{"$error":"#N/A"},{"$f":"RTD(\"cqg.rtd\",,\"StudyData\", \"Close(\"&$D$12&\") when LocalYear(\"&$D$12&\")=\"&$D$2&\" and localMonth(\"&$D$12&\") =\"&$E$2&\" and LocalDay(\"&$D$12&\")=\"&$F$2&\" and Barix(\"&$D$12&\",reference:=StartOfSession)=\"&A19&\"\", \"Bar\", \"\", \"Close\",\"5\",\"0\",\"PrimaryOnly\",,,\"False\",\"T\",\"EveryTick\")","v":165.51},-6.3636909407456463E-3,{"$f":"RTD(\"cqg.rtd\",,\"StudyData\", \"Close(\"&$D$12&\") when LocalYear(\"&$D$12&\")=\"&$D$3&\" and localMonth(\"&$D$12&\") =\"&$E$3&\" and LocalDay(\"&$D$12&\")=\"&$F$3&\" and Barix(\"&$D$12&\",reference:=StartOfSession)=\"&A19&\"\", \"Bar\", \"\", \"Close\",\"5\",\"0\",\"PrimaryOnly\",,,\"False\",\"T\",\"EveryTick\")","v":166.44},5.8620898047984458E-3,{"$f":"RTD(\"cqg.rtd\",,\"StudyData\", \"Close(\"&$D$12&\") when LocalYear(\"&$D$12&\")=\"&$D$4&\" and localMonth(\"&$D$12&\") =\"&$E$4&\" and LocalDay(\"&$D$12&\")=\"&$F$4&\" and Barix(\"&$D$12&\",reference:=StartOfSession)=\"&A19&\"\", \"Bar\", \"\", \"Close\",\"5\",\"0\",\"PrimaryOnly\",,,\"False\",\"T\",\"EveryTick\")","v":166.51},5.9811503141613135E-3,{"$f":"RTD(\"cqg.rtd\",,\"StudyData\", \"Close(\"&$D$12&\") when LocalYear(\"&$D$12&\")=\"&$D$5&\" and localMonth(\"&$D$12&\") =\"&$E$5&\" and LocalDay(\"&$D$12&\")=\"&$F$5&\" and Barix(\"&$D$12&\",reference:=StartOfSession)=\"&A19&\"\", \"Bar\", \"\", \"Close\",\"5\",\"0\",\"PrimaryOnly\",,,\"False\",\"T\",\"EveryTick\")","v":164.76},1.7632394965646746E-3,{"$f":"RTD(\"cqg.rtd\",,\"StudyData\", \"Close(\"&$D$12&\") when LocalYear(\"&$D$12&\")=\"&$D$6&\" and localMonth(\"&$D$12&\") =\"&$E$6&\" and LocalDay(\"&$D$12&\")=\"&$F$6&\" and Barix(\"&$D$12&\",reference:=StartOfSession)=\"&A19&\"\", \"Bar\", \"\", \"Close\",\"5\",\"0\",\"PrimaryOnly\",,,\"False\",\"T\",\"EveryTick\")","v":164.18},-7.3037127206332646E-4,{"$f":"RTD(\"cqg.rtd\",,\"StudyData\", \"Close(\"&$D$12&\") when LocalYear(\"&$D$12&\")=\"&$D$7&\" and localMonth(\"&$D$12&\") =\"&$E$7&\" and LocalDay(\"&$D$12&\")=\"&$F$7&\" and Barix(\"&$D$12&\",reference:=StartOfSession)=\"&A19&\"\", \"Bar\", \"\", \"Close\",\"5\",\"0\",\"PrimaryOnly\",,,\"False\",\"T\",\"EveryTick\")","v":163.29},-3.4785792749909773E-3,{"$f":"RTD(\"cqg.rtd\",,\"StudyData\", \"Close(\"&$D$12&\") when LocalYear(\"&$D$12&\")=\"&$D$8&\" and localMonth(\"&$D$12&\") =\"&$E$8&\" and LocalDay(\"&$D$12&\")=\"&$F$8&\" and Barix(\"&$D$12&\",reference:=StartOfSession)=\"&A19&\"\", \"Bar\", \"\", \"Close\",\"5\",\"0\",\"PrimaryOnly\",,,\"False\",\"T\",\"EveryTick\")","v":164.18},-8.3353467021019291E-3,{"$f":"RTD(\"cqg.rtd\",,\"StudyData\", \"Close(\"&$D$12&\") when LocalYear(\"&$D$12&\")=\"&$D$9&\" and localMonth(\"&$D$12&\") =\"&$E$9&\" and LocalDay(\"&$D$12&\")=\"&$F$9&\" and Barix(\"&$D$12&\",reference:=StartOfSession)=\"&A19&\"\", \"Bar\", \"\", \"Close\",\"5\",\"0\",\"PrimaryOnly\",,,\"False\",\"T\",\"EveryTick\")","v":164.45},1.2786166585483411E-3,{"$f":"RTD(\"cqg.rtd\",,\"StudyData\", \"Close(\"&$D$12&\") when LocalYear(\"&$D$12&\")=\"&$D$10&\" and localMonth(\"&$D$12&\") =\"&$E$10&\" and LocalDay(\"&$D$12&\")=\"&$F$10&\" and Barix(\"&$D$12&\",reference:=StartOfSession)=\"&A19&\"\", \"Bar\", \"\", \"Close\",\"5\",\"0\",\"PrimaryOnly\",,,\"False\",\"T\",\"EveryTick\")","v":163.82},5.462468544773745E-3,null,null,null,""]
[19,"10:05:00",null,2,"#.00",null,"2018-06-07",{"$f":"RTD(\"cqg.rtd\",,\"StudyData\", \"Close(\"&$D$12&\") when LocalYear(\"&$D$12&\")=\"&$D$1&\" and localMonth(\"&$D$12&\") =\"&$E$1&\" and LocalDay(\"&$D$12&\")=\"&$F$1&\" and Barix(\"&$D$12&\",reference:=StartOfSession)=\"&A20&\"\", \"Bar\", \"\", \"Close\",\"5\",\"0\",\"PrimaryOnly\",,,\"False\",\"T\",\"EveryTick\")","v":""},{"$error":"#N/A"},{"$f":"RTD(\"cqg.rtd\",,\"StudyData\", \"Close(\"&$D$12&\") when LocalYear(\"&$D$12&\")=\"&$D$2&\" and localMonth(\"&$D$12&\") =\"&$E$2&\" and LocalDay(\"&$D$12&\")=\"&$F$2&\" and Barix(\"&$D$12&\",reference:=StartOfSession)=\"&A20&\"\", \"Bar\", \"\", \"Close\",\"5\",\"0\",\"PrimaryOnly\",,,\"False\",\"T\",\"EveryTick\")","v":165.47},-6.6038302215284525E-3,{"$f":"RTD(\"cqg.rtd\",,\"StudyData\", \"Close(\"&$D$12&\") when LocalYear(\"&$D$12&\")=\"&$D$3&\" and localMonth(\"&$D$12&\") =\"&$E$3&\" and LocalDay(\"&$D$12&\")=\"&$F$3&\" and Barix(\"&$D$12&\",reference:=StartOfSession)=\"&A20&\"\", \"Bar\", \"\", \"Close\",\"5\",\"0\",\"PrimaryOnly\",,,\"False\",\"T\",\"EveryTick\")","v":166.7},7.4333716081464302E-3,{"$f":"RTD(\"cqg.rtd\",,\"StudyData\", \"Close(\"&$D$12&\") when LocalYear(\"&$D$12&\")=\"&$D$4&\" and localMonth(\"&$D$12&\") =\"&$E$4&\" and LocalDay(\"&$D$12&\")=\"&$F$4&\" and Barix(\"&$D$12&\",reference:=StartOfSession)=\"&A20&\"\", \"Bar\", \"\", \"Close\",\"5\",\"0\",\"PrimaryOnly\",,,\"False\",\"T\",\"EveryTick\")","v":166.44},5.5582406959883241E-3,{"$f":"RTD(\"cqg.rtd\",,\"StudyData\", \"Close(\"&$D$12&\") when LocalYear(\"&$D$12&\")=\"&$D$5&\" and localMonth(\"&$D$12&\") =\"&$E$5&\" and LocalDay(\"&$D$12&\")=\"&$F$5&\" and Barix(\"&$D$12&\",reference:=StartOfSession)=\"&A20&\"\", \"Bar\", \"\", \"Close\",\"5\",\"0\",\"PrimaryOnly\",,,\"False\",\"T\",\"EveryTick\")","v":164.76},1.7632394965646746E-3,{"$f":"RTD(\"cqg.rtd\",,\"StudyData\", \"Close(\"&$D$12&\") when LocalYear(\"&$D$12&\")=\"&$D$6&\" and localMonth(\"&$D$12&\") =\"&$E$6&\" and LocalDay(\"&$D$12&\")=\"&$F$6&\" and Barix(\"&$D$12&\",reference:=StartOfSession)=\"&A20&\"\", \"Bar\", \"\", \"Close\",\"5\",\"0\",\"PrimaryOnly\",,,\"False\",\"T\",\"EveryTick\")","v":164.16},-8.520998174072719E-4,{"$f":"RTD(\"cqg.rtd\",,\"StudyData\", \"Close(\"&$D$12&\") when LocalYear(\"&$D$12&\")=\"&$D$7&\" and localMonth(\"&$D$12&\") =\"&$E$7&\" and LocalDay(\"&$D$12&\")=\"&$F$7&\" and Barix(\"&$D$12&\",reference:=StartOfSession)=\"&A20&\"\", \"Bar\", \"\", \"Close\",\"5\",\"0\",\"PrimaryOnly\",,,\"False\",\"T\",\"EveryTick\")","v":163.29},-3.4785792749909773E-3,{"$f":"RTD(\"cqg.rtd\",,\"StudyData\", \"Close(\"&$D$12&\") when LocalYear(\"&$D$12&\")=\"&$D$8&\" and localMonth(\"&$D$12&\") =\"&$E$8&\" and LocalDay(\"&$D$12&\")=\"&$F$8&\" and Barix(\"&$D$12&\",reference:=StartOfSession)=\"&A20&\"\", \"Bar\", \"\", \"Close\",\"5\",\"0\",\"PrimaryOnly\",,,\"False\",\"T\",\"EveryTick\")","v":164.14},-8.5769509543368923E-3,{"$f":"RTD(\"cqg.rtd\",,\"StudyData\", \"Close(\"&$D$12&\") when LocalYear(\"&$D$12&\")=\"&$D$9&\" and localMonth(\"&$D$12&\") =\"&$E$9&\" and LocalDay(\"&$D$12&\")=\"&$F$9&\" and Barix(\"&$D$12&\",reference:=StartOfSession)=\"&A20&\"\", \"Bar\", \"\", \"Close\",\"5\",\"0\",\"PrimaryOnly\",,,\"False\",\"T\",\"EveryTick\")","v":164.42},1.0959571358985533E-3,{"$f":"RTD(\"cqg.rtd\",,\"StudyData\", \"Close(\"&$D$12&\") when LocalYear(\"&$D$12&\")=\"&$D$10&\" and localMonth(\"&$D$12&\") =\"&$E$10&\" and LocalDay(\"&$D$12&\")=\"&$F$10&\" and Barix(\"&$D$12&\",reference:=StartOfSession)=\"&A20&\"\", \"Bar\", \"\", \"Close\",\"5\",\"0\",\"PrimaryOnly\",,,\"False\",\"T\",\"EveryTick\")","v":163.72},4.8487080341250354E-3,null,null,null,""]
[20,"10:10:00",null,3,"#.000",null,"2018-06-06",{"$f":"RTD(\"cqg.rtd\",,\"StudyData\", \"Close(\"&$D$12&\") when LocalYear(\"&$D$12&\")=\"&$D$1&\" and localMonth(\"&$D$12&\") =\"&$E$1&\" and LocalDay(\"&$D$12&\")=\"&$F$1&\" and Barix(\"&$D$12&\",reference:=StartOfSession)=\"&A21&\"\", \"Bar\", \"\", \"Close\",\"5\",\"0\",\"PrimaryOnly\",,,\"False\",\"T\",\"EveryTick\")","v":""},{"$error":"#N/A"},{"$f":"RTD(\"cqg.rtd\",,\"StudyData\", \"Close(\"&$D$12&\") when LocalYear(\"&$D$12&\")=\"&$D$2&\" and localMonth(\"&$D$12&\") =\"&$E$2&\" and LocalDay(\"&$D$12&\")=\"&$F$2&\" and Barix(\"&$D$12&\",reference:=StartOfSession)=\"&A21&\"\", \"Bar\", \"\", \"Close\",\"5\",\"0\",\"PrimaryOnly\",,,\"False\",\"T\",\"EveryTick\")","v":165.49},-6.4837605811369639E-3,{"$f":"RTD(\"cqg.rtd\",,\"StudyData\", \"Close(\"&$D$12&\") when LocalYear(\"&$D$12&\")=\"&$D$3&\" and localMonth(\"&$D$12&\") =\"&$E$3&\" and LocalDay(\"&$D$12&\")=\"&$F$3&\" and Barix(\"&$D$12&\",reference:=StartOfSession)=\"&A21&\"\", \"Bar\", \"\", \"Close\",\"5\",\"0\",\"PrimaryOnly\",,,\"False\",\"T\",\"EveryTick\")","v":166.7},7.4333716081464302E-3,{"$f":"RTD(\"cqg.rtd\",,\"StudyData\", \"Close(\"&$D$12&\") when LocalYear(\"&$D$12&\")=\"&$D$4&\" and localMonth(\"&$D$12&\") =\"&$E$4&\" and LocalDay(\"&$D$12&\")=\"&$F$4&\" and Barix(\"&$D$12&\",reference:=StartOfSession)=\"&A21&\"\", \"Bar\", \"\", \"Close\",\"5\",\"0\",\"PrimaryOnly\",,,\"False\",\"T\",\"EveryTick\")","v":166.37},5.1353310778153348E-3,{"$f":"RTD(\"cqg.rtd\",,\"StudyData\", \"Close(\"&$D$12&\") when LocalYear(\"&$D$12&\")=\"&$D$5&\" and localMonth(\"&$D$12&\") =\"&$E$5&\" and LocalDay(\"&$D$12&\")=\"&$F$5&\" and Barix(\"&$D$12&\",reference:=StartOfSession)=\"&A21&\"\", \"Bar\", \"\", \"Close\",\"5\",\"0\",\"PrimaryOnly\",,,\"False\",\"T\",\"EveryTick\")","v":164.85},2.3104517541192647E-3,{"$f":"RTD(\"cqg.rtd\",,\"StudyData\", \"Close(\"&$D$12&\") when LocalYear(\"&$D$12&\")=\"&$D$6&\" and localMonth(\"&$D$12&\") =\"&$E$6&\" and LocalDay(\"&$D$12&\")=\"&$F$6&\" and Barix(\"&$D$12&\",reference:=StartOfSession)=\"&A21&\"\", \"Bar\", \"\", \"Close\",\"5\",\"0\",\"PrimaryOnly\",,,\"False\",\"T\",\"EveryTick\")","v":164.16},-8.520998174072719E-4,{"$f":"RTD(\"cqg.rtd\",,\"StudyData\", \"Close(\"&$D$12&\") when LocalYear(\"&$D$12&\")=\"&$D$7&\" and localMonth(\"&$D$12&\") =\"&$E$7&\" and LocalDay(\"&$D$12&\")=\"&$F$7&\" and Barix(\"&$D$12&\",reference:=StartOfSession)=\"&A21&\"\", \"Bar\", \"\", \"Close\",\"5\",\"0\",\"PrimaryOnly\",,,\"False\",\"T\",\"EveryTick\")","v":163.29},-3.4785792749909773E-3,{"$f":"RTD(\"cqg.rtd\",,\"StudyData\", \"Close(\"&$D$12&\") when LocalYear(\"&$D$12&\")=\"&$D$8&\" and localMonth(\"&$D$12&\") =\"&$E$8&\" and LocalDay(\"&$D$12&\")=\"&$F$8&\" and Barix(\"&$D$12&\",reference:=StartOfSession)=\"&A21&\"\", \"Bar\", \"\", \"Close\",\"5\",\"0\",\"PrimaryOnly\",,,\"False\",\"T\",\"EveryTick\")","v":164.16},-8.4561488282194116E-3,{"$f":"RTD(\"cqg.rtd\",,\"StudyData\", \"Close(\"&$D$12&\") when LocalYear(\"&$D$12&\")=\"&$D$9&\" and localMonth(\"&$D$12&\") =\"&$E$9&\" and LocalDay(\"&$D$12&\")=\"&$F$9&\" and Barix(\"&$D$12&\",reference:=StartOfSession)=\"&A21&\"\", \"Bar\", \"\", \"Close\",\"5\",\"0\",\"PrimaryOnly\",,,\"False\",\"T\",\"EveryTick\")","v":164.42},1.0959571358985533E-3,{"$f":"RTD(\"cqg.rtd\",,\"StudyData\", \"Close(\"&$D$12&\") when LocalYear(\"&$D$12&\")=\"&$D$10&\" and localMonth(\"&$D$12&\") =\"&$E$10&\" and LocalDay(\"&$D$12&\")=\"&$F$10&\" and Barix(\"&$D$12&\",reference:=StartOfSession)=\"&A21&\"\", \"Bar\", \"\", \"Close\",\"5\",\"0\",\"PrimaryOnly\",,,\"False\",\"T\",\"EveryTick\")","v":163.55000000000001},3.805315166022246E-3,null,null,null,""]
[21,"10:15:00",null,4,"#.0000",null,"2018-06-05",{"$f":"RTD(\"cqg.rtd\",,\"StudyData\", \"Close(\"&$D$12&\") when LocalYear(\"&$D$12&\")=\"&$D$1&\" and localMonth(\"&$D$12&\") =\"&$E$1&\" and LocalDay(\"&$D$12&\")=\"&$F$1&\" and Barix(\"&$D$12&\",reference:=StartOfSession)=\"&A22&\"\", \"Bar\", \"\", \"Close\",\"5\",\"0\",\"PrimaryOnly\",,,\"False\",\"T\",\"EveryTick\")","v":""},{"$error":"#N/A"},{"$f":"RTD(\"cqg.rtd\",,\"StudyData\", \"Close(\"&$D$12&\") when LocalYear(\"&$D$12&\")=\"&$D$2&\" and localMonth(\"&$D$12&\") =\"&$E$2&\" and LocalDay(\"&$D$12&\")=\"&$F$2&\" and Barix(\"&$D$12&\",reference:=StartOfSession)=\"&A22&\"\", \"Bar\", \"\", \"Close\",\"5\",\"0\",\"PrimaryOnly\",,,\"False\",\"T\",\"EveryTick\")","v":165.51},-6.3636909407456463E-3,{"$f":"RTD(\"cqg.rtd\",,\"StudyData\", \"Close(\"&$D$12&\") when LocalYear(\"&$D$12&\")=\"&$D$3&\" and localMonth(\"&$D$12&\") =\"&$E$3&\" and LocalDay(\"&$D$12&\")=\"&$F$3&\" and Barix(\"&$D$12&\",reference:=StartOfSession)=\"&A22&\"\", \"Bar\", \"\", \"Close\",\"5\",\"0\",\"PrimaryOnly\",,,\"False\",\"T\",\"EveryTick\")","v":166.7},7.4333716081464302E-3,{"$f":"RTD(\"cqg.rtd\",,\"StudyData\", \"Close(\"&$D$12&\") when LocalYear(\"&$D$12&\")=\"&$D$4&\" and localMonth(\"&$D$12&\") =\"&$E$4&\" and LocalDay(\"&$D$12&\")=\"&$F$4&\" and Barix(\"&$D$12&\",reference:=StartOfSession)=\"&A22&\"\", \"Bar\", \"\", \"Close\",\"5\",\"0\",\"PrimaryOnly\",,,\"False\",\"T\",\"EveryTick\")","v":166.5},5.9207346544223639E-3,{"$f":"RTD(\"cqg.rtd\",,\"StudyData\", \"Close(\"&$D$12&\") when LocalYear(\"&$D$12&\")=\"&$D$5&\" and localMonth(\"&$D$12&\") =\"&$E$5&\" and LocalDay(\"&$D$12&\")=\"&$F$5&\" and Barix(\"&$D$12&\",reference:=StartOfSession)=\"&A22&\"\", \"Bar\", \"\", \"Close\",\"5\",\"0\",\"PrimaryOnly\",,,\"False\",\"T\",\"EveryTick\")","v":164.85},2.3104517541192647E-3,{"$f":"RTD(\"cqg.rtd\",,\"StudyData\", \"Close(\"&$D$12&\") when LocalYear(\"&$D$12&\")=\"&$D$6&\" and localMonth(\"&$D$12&\") =\"&$E$6&\" and LocalDay(\"&$D$12&\")=\"&$F$6&\" and Barix(\"&$D$12&\",reference:=StartOfSession)=\"&A22&\"\", \"Bar\", \"\", \"Close\",\"5\",\"0\",\"PrimaryOnly\",,,\"False\",\"T\",\"EveryTick\")","v":164.16},-8.520998174072719E-4,{"$f":"RTD(\"cqg.rtd\",,\"StudyData\", \"Close(\"&$D$12&\") when LocalYear(\"&$D$12&\")=\"&$D$7&\" and localMonth(\"&$D$12&\") =\"&$E$7&\" and LocalDay(\"&$D$12&\")=\"&$F$7&\" and Barix(\"&$D$12&\",reference:=StartOfSession)=\"&A22&\"\", \"Bar\", \"\", \"Close\",\"5\",\"0\",\"PrimaryOnly\",,,\"False\",\"T\",\"EveryTick\")","v":163.29},-3.4785792749909773E-3,{"$f":"RTD(\"cqg.rtd\",,\"StudyData\", \"Close(\"&$D$12&\") when LocalYear(\"&$D$12&\")=\"&$D$8&\" and localMonth(\"&$D$12&\") =\"&$E$8&\" and LocalDay(\"&$D$12&\")=\"&$F$8&\" and Barix(\"&$D$12&\",reference:=StartOfSession)=\"&A22&\"\", \"Bar\", \"\", \"Close\",\"5\",\"0\",\"PrimaryOnly\",,,\"False\",\"T\",\"EveryTick\")","v":164.16},-8.4561488282194116E-3,{"$f":"RTD(\"cqg.rtd\",,\"StudyData\", \"Close(\"&$D$12&\") when LocalYear(\"&$D$12&\")=\"&$D$9&\" and localMonth(\"&$D$12&\") =\"&$E$9&\" and LocalDay(\"&$D$12&\")=\"&$F$9&\" and Barix(\"&$D$12&\",reference:=StartOfSession)=\"&A22&\"\", \"Bar\", \"\", \"Close\",\"5\",\"0\",\"PrimaryOnly\",,,\"False\",\"T\",\"EveryTick\")","v":164.42},1.0959571358985533E-3,{"$f":"RTD(\"cqg.rtd\",,\"StudyData\", \"Close(\"&$D$12&\") when LocalYear(\"&$D$12&\")=\"&$D$10&\" and localMonth(\"&$D$12&\") =\"&$E$10&\" and LocalDay(\"&$D$12&\")=\"&$F$10&\" and Barix(\"&$D$12&\",reference:=StartOfSession)=\"&A22&\"\", \"Bar\", \"\", \"Close\",\"5\",\"0\",\"PrimaryOnly\",,,\"False\",\"T\",\"EveryTick\")","v":163.55000000000001},3.805315166022246E-3,null,null,null,""]
[22,"10:20:00",null,5,"#.00000",null,null,{"$f":"RTD(\"cqg.rtd\",,\"StudyData\", \"Close(\"&$D$12&\") when LocalYear(\"&$D$12&\")=\"&$D$1&\" and localMonth(\"&$D$12&\") =\"&$E$1&\" and LocalDay(\"&$D$12&\")=\"&$F$1&\" and Barix(\"&$D$12&\",reference:=StartOfSession)=\"&A23&\"\", \"Bar\", \"\", \"Close\",\"5\",\"0\",\"PrimaryOnly\",,,\"False\",\"T\",\"EveryTick\")","v":""},{"$error":"#N/A"},{"$f":"RTD(\"cqg.rtd\",,\"StudyData\", \"Close(\"&$D$12&\") when LocalYear(\"&$D$12&\")=\"&$D$2&\" and localMonth(\"&$D$12&\") =\"&$E$2&\" and LocalDay(\"&$D$12&\")=\"&$F$2&\" and Barix(\"&$D$12&\",reference:=StartOfSession)=\"&A23&\"\", \"Bar\", \"\", \"Close\",\"5\",\"0\",\"PrimaryOnly\",,,\"False\",\"T\",\"EveryTick\")","v":165.54},-6.1835864801584994E-3,{"$f":"RTD(\"cqg.rtd\",,\"StudyData\", \"Close(\"&$D$12&\") when LocalYear(\"&$D$12&\")=\"&$D$3&\" and localMonth(\"&$D$12&\") =\"&$E$3&\" and LocalDay(\"&$D$12&\")=\"&$F$3&\" and Barix(\"&$D$12&\",reference:=StartOfSession)=\"&A23&\"\", \"Bar\", \"\", \"Close\",\"5\",\"0\",\"PrimaryOnly\",,,\"False\",\"T\",\"EveryTick\")","v":166.7},7.4333716081464302E-3,{"$f":"RTD(\"cqg.rtd\",,\"StudyData\", \"Close(\"&$D$12&\") when LocalYear(\"&$D$12&\")=\"&$D$4&\" and localMonth(\"&$D$12&\") =\"&$E$4&\" and LocalDay(\"&$D$12&\")=\"&$F$4&\" and Barix(\"&$D$12&\",reference:=StartOfSession)=\"&A23&\"\", \"Bar\", \"\", \"Close\",\"5\",\"0\",\"PrimaryOnly\",,,\"False\",\"T\",\"EveryTick\")","v":166.51},5.9811503141613135E-3,{"$f":"RTD(\"cqg.rtd\",,\"StudyData\", \"Close(\"&$D$12&\") when LocalYear(\"&$D$12&\")=\"&$D$5&\" and localMonth(\"&$D$12&\") =\"&$E$5&\" and LocalDay(\"&$D$12&\")=\"&$F$5&\" and Barix(\"&$D$12&\",reference:=StartOfSession)=\"&A23&\"\", \"Bar\", \"\", \"Close\",\"5\",\"0\",\"PrimaryOnly\",,,\"False\",\"T\",\"EveryTick\")","v":164.85},2.3104517541192647E-3,{"$f":"RTD(\"cqg.rtd\",,\"StudyData\", \"Close(\"&$D$12&\") when LocalYear(\"&$D$12&\")=\"&$D$6&\" and localMonth(\"&$D$12&\") =\"&$E$6&\" and LocalDay(\"&$D$12&\")=\"&$F$6&\" and Barix(\"&$D$12&\",reference:=StartOfSession)=\"&A23&\"\", \"Bar\", \"\", \"Close\",\"5\",\"0\",\"PrimaryOnly\",,,\"False\",\"T\",\"EveryTick\")","v":164.16},-8.520998174072719E-4,{"$f":"RTD(\"cqg.rtd\",,\"StudyData\", \"Close(\"&$D$12&\") when LocalYear(\"&$D$12&\")=\"&$D$7&\" and localMonth(\"&$D$12&\") =\"&$E$7&\" and LocalDay(\"&$D$12&\")=\"&$F$7&\" and Barix(\"&$D$12&\",reference:=StartOfSession)=\"&A23&\"\", \"Bar\", \"\", \"Close\",\"5\",\"0\",\"PrimaryOnly\",,,\"False\",\"T\",\"EveryTick\")","v":163.43},-2.6241913828878726E-3,{"$f":"RTD(\"cqg.rtd\",,\"StudyData\", \"Close(\"&$D$12&\") when LocalYear(\"&$D$12&\")=\"&$D$8&\" and localMonth(\"&$D$12&\") =\"&$E$8&\" and LocalDay(\"&$D$12&\")=\"&$F$8&\" and Barix(\"&$D$12&\",reference:=StartOfSession)=\"&A23&\"\", \"Bar\", \"\", \"Close\",\"5\",\"0\",\"PrimaryOnly\",,,\"False\",\"T\",\"EveryTick\")","v":164.28},-7.7313360715148653E-3,{"$f":"RTD(\"cqg.rtd\",,\"StudyData\", \"Close(\"&$D$12&\") when LocalYear(\"&$D$12&\")=\"&$D$9&\" and localMonth(\"&$D$12&\") =\"&$E$9&\" and LocalDay(\"&$D$12&\")=\"&$F$9&\" and Barix(\"&$D$12&\",reference:=StartOfSession)=\"&A23&\"\", \"Bar\", \"\", \"Close\",\"5\",\"0\",\"PrimaryOnly\",,,\"False\",\"T\",\"EveryTick\")","v":164.69},2.7398928397466427E-3,{"$f":"RTD(\"cqg.rtd\",,\"StudyData\", \"Close(\"&$D$12&\") when LocalYear(\"&$D$12&\")=\"&$D$10&\" and localMonth(\"&$D$12&\") =\"&$E$10&\" and LocalDay(\"&$D$12&\")=\"&$F$10&\" and Barix(\"&$D$12&\",reference:=StartOfSession)=\"&A23&\"\", \"Bar\", \"\", \"Close\",\"5\",\"0\",\"PrimaryOnly\",,,\"False\",\"T\",\"EveryTick\")","v":163.63999999999999},4.3576996256059625E-3,null,null,null,""]
[23,"10:25:00",null,6,"#.000000",null,null,{"$f":"RTD(\"cqg.rtd\",,\"StudyData\", \"Close(\"&$D$12&\") when LocalYear(\"&$D$12&\")=\"&$D$1&\" and localMonth(\"&$D$12&\") =\"&$E$1&\" and LocalDay(\"&$D$12&\")=\"&$F$1&\" and Barix(\"&$D$12&\",reference:=StartOfSession)=\"&A24&\"\", \"Bar\", \"\", \"Close\",\"5\",\"0\",\"PrimaryOnly\",,,\"False\",\"T\",\"EveryTick\")","v":""},{"$error":"#N/A"},{"$f":"RTD(\"cqg.rtd\",,\"StudyData\", \"Close(\"&$D$12&\") when LocalYear(\"&$D$12&\")=\"&$D$2&\" and localMonth(\"&$D$12&\") =\"&$E$2&\" and LocalDay(\"&$D$12&\")=\"&$F$2&\" and Barix(\"&$D$12&\",reference:=StartOfSession)=\"&A24&\"\", \"Bar\", \"\", \"Close\",\"5\",\"0\",\"PrimaryOnly\",,,\"False\",\"T\",\"EveryTick\")","v":165.39},-7.0841087830942357E-3,{"$f":"RTD(\"cqg.rtd\",,\"StudyData\", \"Close(\"&$D$12&\") when LocalYear(\"&$D$12&\")=\"&$D$3&\" and localMonth(\"&$D$12&\") =\"&$E$3&\" and LocalDay(\"&$D$12&\")=\"&$F$3&\" and Barix(\"&$D$12&\",reference:=StartOfSession)=\"&A24&\"\", \"Bar\", \"\", \"Close\",\"5\",\"0\",\"PrimaryOnly\",,,\"False\",\"T\",\"EveryTick\")","v":166.7},7.4333716081464302E-3,{"$f":"RTD(\"cqg.rtd\",,\"StudyData\", \"Close(\"&$D$12&\") when LocalYear(\"&$D$12&\")=\"&$D$4&\" and localMonth(\"&$D$12&\") =\"&$E$4&\" and LocalDay(\"&$D$12&\")=\"&$F$4&\" and Barix(\"&$D$12&\",reference:=StartOfSession)=\"&A24&\"\", \"Bar\", \"\", \"Close\",\"5\",\"0\",\"PrimaryOnly\",,,\"False\",\"T\",\"EveryTick\")","v":166.61},6.585306911551494E-3,{"$f":"RTD(\"cqg.rtd\",,\"StudyData\", \"Close(\"&$D$12&\") when LocalYear(\"&$D$12&\")=\"&$D$5&\" and localMonth(\"&$D$12&\") =\"&$E$5&\" and LocalDay(\"&$D$12&\")=\"&$F$5&\" and Barix(\"&$D$12&\",reference:=StartOfSession)=\"&A24&\"\", \"Bar\", \"\", \"Close\",\"5\",\"0\",\"PrimaryOnly\",,,\"False\",\"T\",\"EveryTick\")","v":164.85},2.3104517541192647E-3,{"$f":"RTD(\"cqg.rtd\",,\"StudyData\", \"Close(\"&$D$12&\") when LocalYear(\"&$D$12&\")=\"&$D$6&\" and localMonth(\"&$D$12&\") =\"&$E$6&\" and LocalDay(\"&$D$12&\")=\"&$F$6&\" and Barix(\"&$D$12&\",reference:=StartOfSession)=\"&A24&\"\", \"Bar\", \"\", \"Close\",\"5\",\"0\",\"PrimaryOnly\",,,\"False\",\"T\",\"EveryTick\")","v":164.16},-8.520998174072719E-4,{"$f":"RTD(\"cqg.rtd\",,\"StudyData\", \"Close(\"&$D$12&\") when LocalYear(\"&$D$12&\")=\"&$D$7&\" and localMonth(\"&$D$12&\") =\"&$E$7&\" and LocalDay(\"&$D$12&\")=\"&$F$7&\" and Barix(\"&$D$12&\",reference:=StartOfSession)=\"&A24&\"\", \"Bar\", \"\", \"Close\",\"5\",\"0\",\"PrimaryOnly\",,,\"False\",\"T\",\"EveryTick\")","v":163.43},-2.6241913828878726E-3,{"$f":"RTD(\"cqg.rtd\",,\"StudyData\", \"Close(\"&$D$12&\") when LocalYear(\"&$D$12&\")=\"&$D$8&\" and localMonth(\"&$D$12&\") =\"&$E$8&\" and LocalDay(\"&$D$12&\")=\"&$F$8&\" and Barix(\"&$D$12&\",reference:=StartOfSession)=\"&A24&\"\", \"Bar\", \"\", \"Close\",\"5\",\"0\",\"PrimaryOnly\",,,\"False\",\"T\",\"EveryTick\")","v":164.3},-7.6105339453973837E-3,{"$f":"RTD(\"cqg.rtd\",,\"StudyData\", \"Close(\"&$D$12&\") when LocalYear(\"&$D$12&\")=\"&$D$9&\" and localMonth(\"&$D$12&\") =\"&$E$9&\" and LocalDay(\"&$D$12&\")=\"&$F$9&\" and Barix(\"&$D$12&\",reference:=StartOfSession)=\"&A24&\"\", \"Bar\", \"\", \"Close\",\"5\",\"0\",\"PrimaryOnly\",,,\"False\",\"T\",\"EveryTick\")","v":164.69},2.7398928397466427E-3,{"$f":"RTD(\"cqg.rtd\",,\"StudyData\", \"Close(\"&$D$12&\") when LocalYear(\"&$D$12&\")=\"&$D$10&\" and localMonth(\"&$D$12&\") =\"&$E$10&\" and LocalDay(\"&$D$12&\")=\"&$F$10&\" and Barix(\"&$D$12&\",reference:=StartOfSession)=\"&A24&\"\", \"Bar\", \"\", \"Close\",\"5\",\"0\",\"PrimaryOnly\",,,\"False\",\"T\",\"EveryTick\")","v":163.63999999999999},4.3576996256059625E-3,null,null,null,""]
[24,"10:30:00",null,7,"#.0000000",null,null,{"$f":"RTD(\"cqg.rtd\",,\"StudyData\", \"Close(\"&$D$12&\") when LocalYear(\"&$D$12&\")=\"&$D$1&\" and localMonth(\"&$D$12&\") =\"&$E$1&\" and LocalDay(\"&$D$12&\")=\"&$F$1&\" and Barix(\"&$D$12&\",reference:=StartOfSession)=\"&A25&\"\", \"Bar\", \"\", \"Close\",\"5\",\"0\",\"PrimaryOnly\",,,\"False\",\"T\",\"EveryTick\")","v":""},{"$error":"#N/A"},{"$f":"RTD(\"cqg.rtd\",,\"StudyData\", \"Close(\"&$D$12&\") when LocalYear(\"&$D$12&\")=\"&$D$2&\" and localMonth(\"&$D$12&\") =\"&$E$2&\" and LocalDay(\"&$D$12&\")=\"&$F$2&\" and Barix(\"&$D$12&\",reference:=StartOfSession)=\"&A25&\"\", \"Bar\", \"\", \"Close\",\"5\",\"0\",\"PrimaryOnly\",,,\"False\",\"T\",\"EveryTick\")","v":165.23},-8.0446659062256322E-3,{"$f":"RTD(\"cqg.rtd\",,\"StudyData\", \"Close(\"&$D$12&\") when LocalYear(\"&$D$12&\")=\"&$D$3&\" and localMonth(\"&$D$12&\") =\"&$E$3&\" and LocalDay(\"&$D$12&\")=\"&$F$3&\" and Barix(\"&$D$12&\",reference:=StartOfSession)=\"&A25&\"\", \"Bar\", \"\", \"Close\",\"5\",\"0\",\"PrimaryOnly\",,,\"False\",\"T\",\"EveryTick\")","v":166.97},9.0650873270079167E-3,{"$f":"RTD(\"cqg.rtd\",,\"StudyData\", \"Close(\"&$D$12&\") when LocalYear(\"&$D$12&\")=\"&$D$4&\" and localMonth(\"&$D$12&\") =\"&$E$4&\" and LocalDay(\"&$D$12&\")=\"&$F$4&\" and Barix(\"&$D$12&\",reference:=StartOfSession)=\"&A25&\"\", \"Bar\", \"\", \"Close\",\"5\",\"0\",\"PrimaryOnly\",,,\"False\",\"T\",\"EveryTick\")","v":166.61},6.585306911551494E-3,{"$f":"RTD(\"cqg.rtd\",,\"StudyData\", \"Close(\"&$D$12&\") when LocalYear(\"&$D$12&\")=\"&$D$5&\" and localMonth(\"&$D$12&\") =\"&$E$5&\" and LocalDay(\"&$D$12&\")=\"&$F$5&\" and Barix(\"&$D$12&\",reference:=StartOfSession)=\"&A25&\"\", \"Bar\", \"\", \"Close\",\"5\",\"0\",\"PrimaryOnly\",,,\"False\",\"T\",\"EveryTick\")","v":164.85},2.3104517541192647E-3,{"$f":"RTD(\"cqg.rtd\",,\"StudyData\", \"Close(\"&$D$12&\") when LocalYear(\"&$D$12&\")=\"&$D$6&\" and localMonth(\"&$D$12&\") =\"&$E$6&\" and LocalDay(\"&$D$12&\")=\"&$F$6&\" and Barix(\"&$D$12&\",reference:=StartOfSession)=\"&A25&\"\", \"Bar\", \"\", \"Close\",\"5\",\"0\",\"PrimaryOnly\",,,\"False\",\"T\",\"EveryTick\")","v":164.32},1.2172854534377242E-4,{"$f":"RTD(\"cqg.rtd\",,\"StudyData\", \"Close(\"&$D$12&\") when LocalYear(\"&$D$12&\")=\"&$D$7&\" and localMonth(\"&$D$12&\") =\"&$E$7&\" and LocalDay(\"&$D$12&\")=\"&$F$7&\" and Barix(\"&$D$12&\",reference:=StartOfSession)=\"&A25&\"\", \"Bar\", \"\", \"Close\",\"5\",\"0\",\"PrimaryOnly\",,,\"False\",\"T\",\"EveryTick\")","v":163.22},-3.905773221042443E-3,{"$f":"RTD(\"cqg.rtd\",,\"StudyData\", \"Close(\"&$D$12&\") when LocalYear(\"&$D$12&\")=\"&$D$8&\" and localMonth(\"&$D$12&\") =\"&$E$8&\" and LocalDay(\"&$D$12&\")=\"&$F$8&\" and Barix(\"&$D$12&\",reference:=StartOfSession)=\"&A25&\"\", \"Bar\", \"\", \"Close\",\"5\",\"0\",\"PrimaryOnly\",,,\"False\",\"T\",\"EveryTick\")","v":164.3},-7.6105339453973837E-3,{"$f":"RTD(\"cqg.rtd\",,\"StudyData\", \"Close(\"&$D$12&\") when LocalYear(\"&$D$12&\")=\"&$D$9&\" and localMonth(\"&$D$12&\") =\"&$E$9&\" and LocalDay(\"&$D$12&\")=\"&$F$9&\" and Barix(\"&$D$12&\",reference:=StartOfSession)=\"&A25&\"\", \"Bar\", \"\", \"Close\",\"5\",\"0\",\"PrimaryOnly\",,,\"False\",\"T\",\"EveryTick\")","v":164.89},3.9576229907451119E-3,{"$f":"RTD(\"cqg.rtd\",,\"StudyData\", \"Close(\"&$D$12&\") when LocalYear(\"&$D$12&\")=\"&$D$10&\" and localMonth(\"&$D$12&\") =\"&$E$10&\" and LocalDay(\"&$D$12&\")=\"&$F$10&\" and Barix(\"&$D$12&\",reference:=StartOfSession)=\"&A25&\"\", \"Bar\", \"\", \"Close\",\"5\",\"0\",\"PrimaryOnly\",,,\"False\",\"T\",\"EveryTick\")","v":163.63999999999999},4.3576996256059625E-3,null,null,null,""]
[25,"10:35:00",{"$f":"IF(WEEKDAY(TODAY())=7,TODAY()-1,IF(WEEKDAY(TODAY())=1,TODAY()-2,TODAY()))","v":"2018-06-18"},{"$f":"YEAR(C26)","v":2018},{"$f":"MONTH(C26)","v":6},{"$f":"DAY(C26)","v":18},null,{"$f":"RTD(\"cqg.rtd\",,\"StudyData\", \"Close(\"&$D$12&\") when LocalYear(\"&$D$12&\")=\"&$D$1&\" and localMonth(\"&$D$12&\") =\"&$E$1&\" and LocalDay(\"&$D$12&\")=\"&$F$1&\" and Barix(\"&$D$12&\",reference:=StartOfSession)=\"&A26&\"\", \"Bar\", \"\", \"Close\",\"5\",\"0\",\"PrimaryOnly\",,,\"False\",\"T\",\"EveryTick\")","v":""},{"$error":"#N/A"},{"$f":"RTD(\"cqg.rtd\",,\"StudyData\", \"Close(\"&$D$12&\") when LocalYear(\"&$D$12&\")=\"&$D$2&\" and localMonth(\"&$D$12&\") =\"&$E$2&\" and LocalDay(\"&$D$12&\")=\"&$F$2&\" and Barix(\"&$D$12&\",reference:=StartOfSession)=\"&A26&\"\", \"Bar\", \"\", \"Close\",\"5\",\"0\",\"PrimaryOnly\",,,\"False\",\"T\",\"EveryTick\")","v":165.23},-8.0446659062256322E-3,{"$f":"RTD(\"cqg.rtd\",,\"StudyData\", \"Close(\"&$D$12&\") when LocalYear(\"&$D$12&\")=\"&$D$3&\" and localMonth(\"&$D$12&\") =\"&$E$3&\" and LocalDay(\"&$D$12&\")=\"&$F$3&\" and Barix(\"&$D$12&\",reference:=StartOfSession)=\"&A26&\"\", \"Bar\", \"\", \"Close\",\"5\",\"0\",\"PrimaryOnly\",,,\"False\",\"T\",\"EveryTick\")","v":167.03},9.427690820088248E-3,{"$f":"RTD(\"cqg.rtd\",,\"StudyData\", \"Close(\"&$D$12&\") when LocalYear(\"&$D$12&\")=\"&$D$4&\" and localMonth(\"&$D$12&\") =\"&$E$4&\" and LocalDay(\"&$D$12&\")=\"&$F$4&\" and Barix(\"&$D$12&\",reference:=StartOfSession)=\"&A26&\"\", \"Bar\", \"\", \"Close\",\"5\",\"0\",\"PrimaryOnly\",,,\"False\",\"T\",\"EveryTick\")","v":166.69},7.0686321894634328E-3,{"$f":"RTD(\"cqg.rtd\",,\"StudyData\", \"Close(\"&$D$12&\") when LocalYear(\"&$D$12&\")=\"&$D$5&\" and localMonth(\"&$D$12&\") =\"&$E$5&\" and LocalDay(\"&$D$12&\")=\"&$F$5&\" and Barix(\"&$D$12&\",reference:=StartOfSession)=\"&A26&\"\", \"Bar\", \"\", \"Close\",\"5\",\"0\",\"PrimaryOnly\",,,\"False\",\"T\",\"EveryTick\")","v":164.85},2.3104517541192647E-3,{"$f":"RTD(\"cqg.rtd\",,\"StudyData\", \"Close(\"&$D$12&\") when LocalYear(\"&$D$12&\")=\"&$D$6&\" and localMonth(\"&$D$12&\") =\"&$E$6&\" and LocalDay(\"&$D$12&\")=\"&$F$6&\" and Barix(\"&$D$12&\",reference:=StartOfSession)=\"&A26&\"\", \"Bar\", \"\", \"Close\",\"5\",\"0\",\"PrimaryOnly\",,,\"False\",\"T\",\"EveryTick\")","v":164.26},-2.4345709068789083E-4,{"$f":"RTD(\"cqg.rtd\",,\"StudyData\", \"Close(\"&$D$12&\") when LocalYear(\"&$D$12&\")=\"&$D$7&\" and localMonth(\"&$D$12&\") =\"&$E$7&\" and LocalDay(\"&$D$12&\")=\"&$F$7&\" and Barix(\"&$D$12&\",reference:=StartOfSession)=\"&A26&\"\", \"Bar\", \"\", \"Close\",\"5\",\"0\",\"PrimaryOnly\",,,\"False\",\"T\",\"EveryTick\")","v":163.36000000000001},-3.0513853289393382E-3,{"$f":"RTD(\"cqg.rtd\",,\"StudyData\", \"Close(\"&$D$12&\") when LocalYear(\"&$D$12&\")=\"&$D$8&\" and localMonth(\"&$D$12&\") =\"&$E$8&\" and LocalDay(\"&$D$12&\")=\"&$F$8&\" and Barix(\"&$D$12&\",reference:=StartOfSession)=\"&A26&\"\", \"Bar\", \"\", \"Close\",\"5\",\"0\",\"PrimaryOnly\",,,\"False\",\"T\",\"EveryTick\")","v":163.94},-9.7849722155110199E-3,{"$f":"RTD(\"cqg.rtd\",,\"StudyData\", \"Close(\"&$D$12&\") when LocalYear(\"&$D$12&\")=\"&$D$9&\" and localMonth(\"&$D$12&\") =\"&$E$9&\" and LocalDay(\"&$D$12&\")=\"&$F$9&\" and Barix(\"&$D$12&\",reference:=StartOfSession)=\"&A26&\"\", \"Bar\", \"\", \"Close\",\"5\",\"0\",\"PrimaryOnly\",,,\"False\",\"T\",\"EveryTick\")","v":164.89},3.9576229907451119E-3,{"$f":"RTD(\"cqg.rtd\",,\"StudyData\", \"Close(\"&$D$12&\") when LocalYear(\"&$D$12&\")=\"&$D$10&\" and localMonth(\"&$D$12&\") =\"&$E$10&\" and LocalDay(\"&$D$12&\")=\"&$F$10&\" and Barix(\"&$D$12&\",reference:=StartOfSession)=\"&A26&\"\", \"Bar\", \"\", \"Close\",\"5\",\"0\",\"PrimaryOnly\",,,\"False\",\"T\",\"EveryTick\")","v":163.5},3.4984349106978035E-3,null,null,null,""]
[26,"10:40:00",{"$f":"WORKDAY(C26,-1)","v":"2018-06-15"},{"$f":"YEAR(C27)","v":2018},{"$f":"MONTH(C27)","v":6},{"$f":"DAY(C27)","v":15},{"$f":"IF(RTD(\"cqg.rtd\",,\"StudyData\", \"Close(\"&$D$12&\") when LocalYear(\"&$D$12&\")=\"&D27&\" and localMonth(\"&$D$12&\") =\"&E27&\" and LocalDay(\"&$D$12&\")=\"&F27&\" and Barix(\"&$D$12&\",reference:=StartOfSession)=77\", \"Bar\", \"\", \"Close\",\"5\",\"0\",\"PrimaryOnly\",,,\"False\",\"T\",\"EveryTick\")=\"\",2,1)","v":1},{"$f":"RTD(\"cqg.rtd\",,\"StudyData\", \"Close(\"&$D$12&\") when LocalYear(\"&$D$12&\")=\"&$D$1&\" and localMonth(\"&$D$12&\") =\"&$E$1&\" and LocalDay(\"&$D$12&\")=\"&$F$1&\" and Barix(\"&$D$12&\",reference:=StartOfSession)=\"&A27&\"\", \"Bar\", \"\", \"Close\",\"5\",\"0\",\"PrimaryOnly\",,,\"False\",\"T\",\"EveryTick\")","v":""},{"$error":"#N/A"},{"$f":"RTD(\"cqg.rtd\",,\"StudyData\", \"Close(\"&$D$12&\") when LocalYear(\"&$D$12&\")=\"&$D$2&\" and localMonth(\"&$D$12&\") =\"&$E$2&\" and LocalDay(\"&$D$12&\")=\"&$F$2&\" and Barix(\"&$D$12&\",reference:=StartOfSession)=\"&A27&\"\", \"Bar\", \"\", \"Close\",\"5\",\"0\",\"PrimaryOnly\",,,\"False\",\"T\",\"EveryTick\")","v":165.23},-8.0446659062256322E-3,{"$f":"RTD(\"cqg.rtd\",,\"StudyData\", \"Close(\"&$D$12&\") when LocalYear(\"&$D$12&\")=\"&$D$3&\" and localMonth(\"&$D$12&\") =\"&$E$3&\" and LocalDay(\"&$D$12&\")=\"&$F$3&\" and Barix(\"&$D$12&\",reference:=StartOfSession)=\"&A27&\"\", \"Bar\", \"\", \"Close\",\"5\",\"0\",\"PrimaryOnly\",,,\"False\",\"T\",\"EveryTick\")","v":167.09},9.7902943131685776E-3,{"$f":"RTD(\"cqg.rtd\",,\"StudyData\", \"Close(\"&$D$12&\") when LocalYear(\"&$D$12&\")=\"&$D$4&\" and localMonth(\"&$D$12&\") =\"&$E$4&\" and LocalDay(\"&$D$12&\")=\"&$F$4&\" and Barix(\"&$D$12&\",reference:=StartOfSession)=\"&A27&\"\", \"Bar\", \"\", \"Close\",\"5\",\"0\",\"PrimaryOnly\",,,\"False\",\"T\",\"EveryTick\")","v":166.69},7.0686321894634328E-3,{"$f":"RTD(\"cqg.rtd\",,\"StudyData\", \"Close(\"&$D$12&\") when LocalYear(\"&$D$12&\")=\"&$D$5&\" and localMonth(\"&$D$12&\") =\"&$E$5&\" and LocalDay(\"&$D$12&\")=\"&$F$5&\" and Barix(\"&$D$12&\",reference:=StartOfSession)=\"&A27&\"\", \"Bar\", \"\", \"Close\",\"5\",\"0\",\"PrimaryOnly\",,,\"False\",\"T\",\"EveryTick\")","v":165.15},4.1344926126345646E-3,{"$f":"RTD(\"cqg.rtd\",,\"StudyData\", \"Close(\"&$D$12&\") when LocalYear(\"&$D$12&\")=\"&$D$6&\" and localMonth(\"&$D$12&\") =\"&$E$6&\" and LocalDay(\"&$D$12&\")=\"&$F$6&\" and Barix(\"&$D$12&\",reference:=StartOfSession)=\"&A27&\"\", \"Bar\", \"\", \"Close\",\"5\",\"0\",\"PrimaryOnly\",,,\"False\",\"T\",\"EveryTick\")","v":164.26},-2.4345709068789083E-4,{"$f":"RTD(\"cqg.rtd\",,\"StudyData\", \"Close(\"&$D$12&\") when LocalYear(\"&$D$12&\")=\"&$D$7&\" and localMonth(\"&$D$12&\") =\"&$E$7&\" and LocalDay(\"&$D$12&\")=\"&$F$7&\" and Barix(\"&$D$12&\",reference:=StartOfSession)=\"&A27&\"\", \"Bar\", \"\", \"Close\",\"5\",\"0\",\"PrimaryOnly\",,,\"False\",\"T\",\"EveryTick\")","v":163.36000000000001},-3.0513853289393382E-3,{"$f":"RTD(\"cqg.rtd\",,\"StudyData\", \"Close(\"&$D$12&\") when LocalYear(\"&$D$12&\")=\"&$D$8&\" and localMonth(\"&$D$12&\") =\"&$E$8&\" and LocalDay(\"&$D$12&\")=\"&$F$8&\" and Barix(\"&$D$12&\",reference:=StartOfSession)=\"&A27&\"\", \"Bar\", \"\", \"Close\",\"5\",\"0\",\"PrimaryOnly\",,,\"False\",\"T\",\"EveryTick\")","v":164.04},-9.1809615849239561E-3,{"$f":"RTD(\"cqg.rtd\",,\"StudyData\", \"Close(\"&$D$12&\") when LocalYear(\"&$D$12&\")=\"&$D$9&\" and localMonth(\"&$D$12&\") =\"&$E$9&\" and LocalDay(\"&$D$12&\")=\"&$F$9&\" and Barix(\"&$D$12&\",reference:=StartOfSession)=\"&A27&\"\", \"Bar\", \"\", \"Close\",\"5\",\"0\",\"PrimaryOnly\",,,\"False\",\"T\",\"EveryTick\")","v":164.84},3.6531904529955813E-3,{"$f":"RTD(\"cqg.rtd\",,\"StudyData\", \"Close(\"&$D$12&\") when LocalYear(\"&$D$12&\")=\"&$D$10&\" and localMonth(\"&$D$12&\") =\"&$E$10&\" and LocalDay(\"&$D$12&\")=\"&$F$10&\" and Barix(\"&$D$12&\",reference:=StartOfSession)=\"&A27&\"\", \"Bar\", \"\", \"Close\",\"5\",\"0\",\"PrimaryOnly\",,,\"False\",\"T\",\"EveryTick\")","v":163.38999999999999},2.8232983489841004E-3,null,null,null,""]
[27,"10:45:00",{"$f":"WORKDAY(C27,-1)","v":"2018-06-14"},2018,6,14,{"$f":"IF(RTD(\"cqg.rtd\",,\"StudyData\", \"Close(EP) when LocalYear(\"&$D$12&\")=\"&D28&\" and localMonth(\"&$D$12&\") =\"&E28&\" and LocalDay(\"&$D$12&\")=\"&F28&\" and Barix(\"&$D$12&\",reference:=StartOfSession)=77\", \"Bar\", \"\", \"Close\",\"5\",\"0\",\"PrimaryOnly\",,,\"False\",\"T\",\"EveryTick\")=\"\",2,1)","v":1},{"$f":"RTD(\"cqg.rtd\",,\"StudyData\", \"Close(\"&$D$12&\") when LocalYear(\"&$D$12&\")=\"&$D$1&\" and localMonth(\"&$D$12&\") =\"&$E$1&\" and LocalDay(\"&$D$12&\")=\"&$F$1&\" and Barix(\"&$D$12&\",reference:=StartOfSession)=\"&A28&\"\", \"Bar\", \"\", \"Close\",\"5\",\"0\",\"PrimaryOnly\",,,\"False\",\"T\",\"EveryTick\")","v":""},{"$error":"#N/A"},{"$f":"RTD(\"cqg.rtd\",,\"StudyData\", \"Close(\"&$D$12&\") when LocalYear(\"&$D$12&\")=\"&$D$2&\" and localMonth(\"&$D$12&\") =\"&$E$2&\" and LocalDay(\"&$D$12&\")=\"&$F$2&\" and Barix(\"&$D$12&\",reference:=StartOfSession)=\"&A28&\"\", \"Bar\", \"\", \"Close\",\"5\",\"0\",\"PrimaryOnly\",,,\"False\",\"T\",\"EveryTick\")","v":165.29},-7.6844569850513366E-3,{"$f":"RTD(\"cqg.rtd\",,\"StudyData\", \"Close(\"&$D$12&\") when LocalYear(\"&$D$12&\")=\"&$D$3&\" and localMonth(\"&$D$12&\") =\"&$E$3&\" and LocalDay(\"&$D$12&\")=\"&$F$3&\" and Barix(\"&$D$12&\",reference:=StartOfSession)=\"&A28&\"\", \"Bar\", \"\", \"Close\",\"5\",\"0\",\"PrimaryOnly\",,,\"False\",\"T\",\"EveryTick\")","v":167.02},9.3672569045749159E-3,{"$f":"RTD(\"cqg.rtd\",,\"StudyData\", \"Close(\"&$D$12&\") when LocalYear(\"&$D$12&\")=\"&$D$4&\" and localMonth(\"&$D$12&\") =\"&$E$4&\" and LocalDay(\"&$D$12&\")=\"&$F$4&\" and Barix(\"&$D$12&\",reference:=StartOfSession)=\"&A28&\"\", \"Bar\", \"\", \"Close\",\"5\",\"0\",\"PrimaryOnly\",,,\"False\",\"T\",\"EveryTick\")","v":166.62},6.6457225712904435E-3,{"$f":"RTD(\"cqg.rtd\",,\"StudyData\", \"Close(\"&$D$12&\") when LocalYear(\"&$D$12&\")=\"&$D$5&\" and localMonth(\"&$D$12&\") =\"&$E$5&\" and LocalDay(\"&$D$12&\")=\"&$F$5&\" and Barix(\"&$D$12&\",reference:=StartOfSession)=\"&A28&\"\", \"Bar\", \"\", \"Close\",\"5\",\"0\",\"PrimaryOnly\",,,\"False\",\"T\",\"EveryTick\")","v":165.24},4.6817048701891543E-3,{"$f":"RTD(\"cqg.rtd\",,\"StudyData\", \"Close(\"&$D$12&\") when LocalYear(\"&$D$12&\")=\"&$D$6&\" and localMonth(\"&$D$12&\") =\"&$E$6&\" and LocalDay(\"&$D$12&\")=\"&$F$6&\" and Barix(\"&$D$12&\",reference:=StartOfSession)=\"&A28&\"\", \"Bar\", \"\", \"Close\",\"5\",\"0\",\"PrimaryOnly\",,,\"False\",\"T\",\"EveryTick\")","v":164.4},6.0864272671938102E-4,{"$f":"RTD(\"cqg.rtd\",,\"StudyData\", \"Close(\"&$D$12&\") when LocalYear(\"&$D$12&\")=\"&$D$7&\" and localMonth(\"&$D$12&\") =\"&$E$7&\" and LocalDay(\"&$D$12&\")=\"&$F$7&\" and Barix(\"&$D$12&\",reference:=StartOfSession)=\"&A28&\"\", \"Bar\", \"\", \"Close\",\"5\",\"0\",\"PrimaryOnly\",,,\"False\",\"T\",\"EveryTick\")","v":163.29},-3.4785792749909773E-3,{"$f":"RTD(\"cqg.rtd\",,\"StudyData\", \"Close(\"&$D$12&\") when LocalYear(\"&$D$12&\")=\"&$D$8&\" and localMonth(\"&$D$12&\") =\"&$E$8&\" and LocalDay(\"&$D$12&\")=\"&$F$8&\" and Barix(\"&$D$12&\",reference:=StartOfSession)=\"&A28&\"\", \"Bar\", \"\", \"Close\",\"5\",\"0\",\"PrimaryOnly\",,,\"False\",\"T\",\"EveryTick\")","v":164.06},-9.0601594588064754E-3,{"$f":"RTD(\"cqg.rtd\",,\"StudyData\", \"Close(\"&$D$12&\") when LocalYear(\"&$D$12&\")=\"&$D$9&\" and localMonth(\"&$D$12&\") =\"&$E$9&\" and LocalDay(\"&$D$12&\")=\"&$F$9&\" and Barix(\"&$D$12&\",reference:=StartOfSession)=\"&A28&\"\", \"Bar\", \"\", \"Close\",\"5\",\"0\",\"PrimaryOnly\",,,\"False\",\"T\",\"EveryTick\")","v":165},4.6273745737943914E-3,{"$f":"RTD(\"cqg.rtd\",,\"StudyData\", \"Close(\"&$D$12&\") when LocalYear(\"&$D$12&\")=\"&$D$10&\" and localMonth(\"&$D$12&\") =\"&$E$10&\" and LocalDay(\"&$D$12&\")=\"&$F$10&\" and Barix(\"&$D$12&\",reference:=StartOfSession)=\"&A28&\"\", \"Bar\", \"\", \"Close\",\"5\",\"0\",\"PrimaryOnly\",,,\"False\",\"T\",\"EveryTick\")","v":163.29},2.2095378383353908E-3,null,null,null,""]
[28,"10:50:00","2018-06-13",2018,6,13,{"$f":"IF(RTD(\"cqg.rtd\",,\"StudyData\", \"Close(EP) when LocalYear(\"&$D$12&\")=\"&D29&\" and localMonth(\"&$D$12&\") =\"&E29&\" and LocalDay(\"&$D$12&\")=\"&F29&\" and Barix(\"&$D$12&\",reference:=StartOfSession)=77\", \"Bar\", \"\", \"Close\",\"5\",\"0\",\"PrimaryOnly\",,,\"False\",\"T\",\"EveryTick\")=\"\",2,1)","v":1},{"$f":"RTD(\"cqg.rtd\",,\"StudyData\", \"Close(\"&$D$12&\") when LocalYear(\"&$D$12&\")=\"&$D$1&\" and localMonth(\"&$D$12&\") =\"&$E$1&\" and LocalDay(\"&$D$12&\")=\"&$F$1&\" and Barix(\"&$D$12&\",reference:=StartOfSession)=\"&A29&\"\", \"Bar\", \"\", \"Close\",\"5\",\"0\",\"PrimaryOnly\",,,\"False\",\"T\",\"EveryTick\")","v":""},{"$error":"#N/A"},{"$f":"RTD(\"cqg.rtd\",,\"StudyData\", \"Close(\"&$D$12&\") when LocalYear(\"&$D$12&\")=\"&$D$2&\" and localMonth(\"&$D$12&\") =\"&$E$2&\" and LocalDay(\"&$D$12&\")=\"&$F$2&\" and Barix(\"&$D$12&\",reference:=StartOfSession)=\"&A29&\"\", \"Bar\", \"\", \"Close\",\"5\",\"0\",\"PrimaryOnly\",,,\"False\",\"T\",\"EveryTick\")","v":165.29},-7.6844569850513366E-3,{"$f":"RTD(\"cqg.rtd\",,\"StudyData\", \"Close(\"&$D$12&\") when LocalYear(\"&$D$12&\")=\"&$D$3&\" and localMonth(\"&$D$12&\") =\"&$E$3&\" and LocalDay(\"&$D$12&\")=\"&$F$3&\" and Barix(\"&$D$12&\",reference:=StartOfSession)=\"&A29&\"\", \"Bar\", \"\", \"Close\",\"5\",\"0\",\"PrimaryOnly\",,,\"False\",\"T\",\"EveryTick\")","v":166.99},9.1859551580347511E-3,{"$f":"RTD(\"cqg.rtd\",,\"StudyData\", \"Close(\"&$D$12&\") when LocalYear(\"&$D$12&\")=\"&$D$4&\" and localMonth(\"&$D$12&\") =\"&$E$4&\" and LocalDay(\"&$D$12&\")=\"&$F$4&\" and Barix(\"&$D$12&\",reference:=StartOfSession)=\"&A29&\"\", \"Bar\", \"\", \"Close\",\"5\",\"0\",\"PrimaryOnly\",,,\"False\",\"T\",\"EveryTick\")","v":166.6},6.5248912518123736E-3,{"$f":"RTD(\"cqg.rtd\",,\"StudyData\", \"Close(\"&$D$12&\") when LocalYear(\"&$D$12&\")=\"&$D$5&\" and localMonth(\"&$D$12&\") =\"&$E$5&\" and LocalDay(\"&$D$12&\")=\"&$F$5&\" and Barix(\"&$D$12&\",reference:=StartOfSession)=\"&A29&\"\", \"Bar\", \"\", \"Close\",\"5\",\"0\",\"PrimaryOnly\",,,\"False\",\"T\",\"EveryTick\")","v":165.23},4.6209035082385294E-3,{"$f":"RTD(\"cqg.rtd\",,\"StudyData\", \"Close(\"&$D$12&\") when LocalYear(\"&$D$12&\")=\"&$D$6&\" and localMonth(\"&$D$12&\") =\"&$E$6&\" and LocalDay(\"&$D$12&\")=\"&$F$6&\" and Barix(\"&$D$12&\",reference:=StartOfSession)=\"&A29&\"\", \"Bar\", \"\", \"Close\",\"5\",\"0\",\"PrimaryOnly\",,,\"False\",\"T\",\"EveryTick\")","v":164.4},6.0864272671938102E-4,{"$f":"RTD(\"cqg.rtd\",,\"StudyData\", \"Close(\"&$D$12&\") when LocalYear(\"&$D$12&\")=\"&$D$7&\" and localMonth(\"&$D$12&\") =\"&$E$7&\" and LocalDay(\"&$D$12&\")=\"&$F$7&\" and Barix(\"&$D$12&\",reference:=StartOfSession)=\"&A29&\"\", \"Bar\", \"\", \"Close\",\"5\",\"0\",\"PrimaryOnly\",,,\"False\",\"T\",\"EveryTick\")","v":163.29},-3.4785792749909773E-3,{"$f":"RTD(\"cqg.rtd\",,\"StudyData\", \"Close(\"&$D$12&\") when LocalYear(\"&$D$12&\")=\"&$D$8&\" and localMonth(\"&$D$12&\") =\"&$E$8&\" and LocalDay(\"&$D$12&\")=\"&$F$8&\" and Barix(\"&$D$12&\",reference:=StartOfSession)=\"&A29&\"\", \"Bar\", \"\", \"Close\",\"5\",\"0\",\"PrimaryOnly\",,,\"False\",\"T\",\"EveryTick\")","v":163.77000000000001},-1.0811790287509011E-2,{"$f":"RTD(\"cqg.rtd\",,\"StudyData\", \"Close(\"&$D$12&\") when LocalYear(\"&$D$12&\")=\"&$D$9&\" and localMonth(\"&$D$12&\") =\"&$E$9&\" and LocalDay(\"&$D$12&\")=\"&$F$9&\" and Barix(\"&$D$12&\",reference:=StartOfSession)=\"&A29&\"\", \"Bar\", \"\", \"Close\",\"5\",\"0\",\"PrimaryOnly\",,,\"False\",\"T\",\"EveryTick\")","v":165},4.6273745737943914E-3,{"$f":"RTD(\"cqg.rtd\",,\"StudyData\", \"Close(\"&$D$12&\") when LocalYear(\"&$D$12&\")=\"&$D$10&\" and localMonth(\"&$D$12&\") =\"&$E$10&\" and LocalDay(\"&$D$12&\")=\"&$F$10&\" and Barix(\"&$D$12&\",reference:=StartOfSession)=\"&A29&\"\", \"Bar\", \"\", \"Close\",\"5\",\"0\",\"PrimaryOnly\",,,\"False\",\"T\",\"EveryTick\")","v":163.53},3.6825630638924341E-3,null,null,null,""]
[29,"10:55:00","2018-06-12",2018,6,12,{"$f":"IF(RTD(\"cqg.rtd\",,\"StudyData\", \"Close(EP) when LocalYear(\"&$D$12&\")=\"&D30&\" and localMonth(\"&$D$12&\") =\"&E30&\" and LocalDay(\"&$D$12&\")=\"&F30&\" and Barix(\"&$D$12&\",reference:=StartOfSession)=77\", \"Bar\", \"\", \"Close\",\"5\",\"0\",\"PrimaryOnly\",,,\"False\",\"T\",\"EveryTick\")=\"\",2,1)","v":1},{"$f":"RTD(\"cqg.rtd\",,\"StudyData\", \"Close(\"&$D$12&\") when LocalYear(\"&$D$12&\")=\"&$D$1&\" and localMonth(\"&$D$12&\") =\"&$E$1&\" and LocalDay(\"&$D$12&\")=\"&$F$1&\" and Barix(\"&$D$12&\",reference:=StartOfSession)=\"&A30&\"\", \"Bar\", \"\", \"Close\",\"5\",\"0\",\"PrimaryOnly\",,,\"False\",\"T\",\"EveryTick\")","v":""},{"$error":"#N/A"},{"$f":"RTD(\"cqg.rtd\",,\"StudyData\", \"Close(\"&$D$12&\") when LocalYear(\"&$D$12&\")=\"&$D$2&\" and localMonth(\"&$D$12&\") =\"&$E$2&\" and LocalDay(\"&$D$12&\")=\"&$F$2&\" and Barix(\"&$D$12&\",reference:=StartOfSession)=\"&A30&\"\", \"Bar\", \"\", \"Close\",\"5\",\"0\",\"PrimaryOnly\",,,\"False\",\"T\",\"EveryTick\")","v":165.49},-6.4837605811369639E-3,{"$f":"RTD(\"cqg.rtd\",,\"StudyData\", \"Close(\"&$D$12&\") when LocalYear(\"&$D$12&\")=\"&$D$3&\" and localMonth(\"&$D$12&\") =\"&$E$3&\" and LocalDay(\"&$D$12&\")=\"&$F$3&\" and Barix(\"&$D$12&\",reference:=StartOfSession)=\"&A30&\"\", \"Bar\", \"\", \"Close\",\"5\",\"0\",\"PrimaryOnly\",,,\"False\",\"T\",\"EveryTick\")","v":167},9.2463890735480815E-3,{"$f":"RTD(\"cqg.rtd\",,\"StudyData\", \"Close(\"&$D$12&\") when LocalYear(\"&$D$12&\")=\"&$D$4&\" and localMonth(\"&$D$12&\") =\"&$E$4&\" and LocalDay(\"&$D$12&\")=\"&$F$4&\" and Barix(\"&$D$12&\",reference:=StartOfSession)=\"&A30&\"\", \"Bar\", \"\", \"Close\",\"5\",\"0\",\"PrimaryOnly\",,,\"False\",\"T\",\"EveryTick\")","v":166.6},6.5248912518123736E-3,{"$f":"RTD(\"cqg.rtd\",,\"StudyData\", \"Close(\"&$D$12&\") when LocalYear(\"&$D$12&\")=\"&$D$5&\" and localMonth(\"&$D$12&\") =\"&$E$5&\" and LocalDay(\"&$D$12&\")=\"&$F$5&\" and Barix(\"&$D$12&\",reference:=StartOfSession)=\"&A30&\"\", \"Bar\", \"\", \"Close\",\"5\",\"0\",\"PrimaryOnly\",,,\"False\",\"T\",\"EveryTick\")","v":165.23},4.6209035082385294E-3,{"$f":"RTD(\"cqg.rtd\",,\"StudyData\", \"Close(\"&$D$12&\") when LocalYear(\"&$D$12&\")=\"&$D$6&\" and localMonth(\"&$D$12&\") =\"&$E$6&\" and LocalDay(\"&$D$12&\")=\"&$F$6&\" and Barix(\"&$D$12&\",reference:=StartOfSession)=\"&A30&\"\", \"Bar\", \"\", \"Close\",\"5\",\"0\",\"PrimaryOnly\",,,\"False\",\"T\",\"EveryTick\")","v":164.6},1.8259281801581433E-3,{"$f":"RTD(\"cqg.rtd\",,\"StudyData\", \"Close(\"&$D$12&\") when LocalYear(\"&$D$12&\")=\"&$D$7&\" and localMonth(\"&$D$12&\") =\"&$E$7&\" and LocalDay(\"&$D$12&\")=\"&$F$7&\" and Barix(\"&$D$12&\",reference:=StartOfSession)=\"&A30&\"\", \"Bar\", \"\", \"Close\",\"5\",\"0\",\"PrimaryOnly\",,,\"False\",\"T\",\"EveryTick\")","v":163.41},-2.7462467960455085E-3,{"$f":"RTD(\"cqg.rtd\",,\"StudyData\", \"Close(\"&$D$12&\") when LocalYear(\"&$D$12&\")=\"&$D$8&\" and localMonth(\"&$D$12&\") =\"&$E$8&\" and LocalDay(\"&$D$12&\")=\"&$F$8&\" and Barix(\"&$D$12&\",reference:=StartOfSession)=\"&A30&\"\", \"Bar\", \"\", \"Close\",\"5\",\"0\",\"PrimaryOnly\",,,\"False\",\"T\",\"EveryTick\")","v":163.93},-9.8453732785696753E-3,{"$f":"RTD(\"cqg.rtd\",,\"StudyData\", \"Close(\"&$D$12&\") when LocalYear(\"&$D$12&\")=\"&$D$9&\" and localMonth(\"&$D$12&\") =\"&$E$9&\" and LocalDay(\"&$D$12&\")=\"&$F$9&\" and Barix(\"&$D$12&\",reference:=StartOfSession)=\"&A30&\"\", \"Bar\", \"\", \"Close\",\"5\",\"0\",\"PrimaryOnly\",,,\"False\",\"T\",\"EveryTick\")","v":164.94},4.2620555284948163E-3,{"$f":"RTD(\"cqg.rtd\",,\"StudyData\", \"Close(\"&$D$12&\") when LocalYear(\"&$D$12&\")=\"&$D$10&\" and localMonth(\"&$D$12&\") =\"&$E$10&\" and LocalDay(\"&$D$12&\")=\"&$F$10&\" and Barix(\"&$D$12&\",reference:=StartOfSession)=\"&A30&\"\", \"Bar\", \"\", \"Close\",\"5\",\"0\",\"PrimaryOnly\",,,\"False\",\"T\",\"EveryTick\")","v":163.57},3.928067268151883E-3,null,null,null,""]
[30,"11:00:00","2018-06-11",2018,6,11,{"$f":"IF(RTD(\"cqg.rtd\",,\"StudyData\", \"Close(EP) when LocalYear(\"&$D$12&\")=\"&D31&\" and localMonth(\"&$D$12&\") =\"&E31&\" and LocalDay(\"&$D$12&\")=\"&F31&\" and Barix(\"&$D$12&\",reference:=StartOfSession)=77\", \"Bar\", \"\", \"Close\",\"5\",\"0\",\"PrimaryOnly\",,,\"False\",\"T\",\"EveryTick\")=\"\",2,1)","v":1},{"$f":"RTD(\"cqg.rtd\",,\"StudyData\", \"Close(\"&$D$12&\") when LocalYear(\"&$D$12&\")=\"&$D$1&\" and localMonth(\"&$D$12&\") =\"&$E$1&\" and LocalDay(\"&$D$12&\")=\"&$F$1&\" and Barix(\"&$D$12&\",reference:=StartOfSession)=\"&A31&\"\", \"Bar\", \"\", \"Close\",\"5\",\"0\",\"PrimaryOnly\",,,\"False\",\"T\",\"EveryTick\")","v":""},{"$error":"#N/A"},{"$f":"RTD(\"cqg.rtd\",,\"StudyData\", \"Close(\"&$D$12&\") when LocalYear(\"&$D$12&\")=\"&$D$2&\" and localMonth(\"&$D$12&\") =\"&$E$2&\" and LocalDay(\"&$D$12&\")=\"&$F$2&\" and Barix(\"&$D$12&\",reference:=StartOfSession)=\"&A31&\"\", \"Bar\", \"\", \"Close\",\"5\",\"0\",\"PrimaryOnly\",,,\"False\",\"T\",\"EveryTick\")","v":165.49},-6.4837605811369639E-3,{"$f":"RTD(\"cqg.rtd\",,\"StudyData\", \"Close(\"&$D$12&\") when LocalYear(\"&$D$12&\")=\"&$D$3&\" and localMonth(\"&$D$12&\") =\"&$E$3&\" and LocalDay(\"&$D$12&\")=\"&$F$3&\" and Barix(\"&$D$12&\",reference:=StartOfSession)=\"&A31&\"\", \"Bar\", \"\", \"Close\",\"5\",\"0\",\"PrimaryOnly\",,,\"False\",\"T\",\"EveryTick\")","v":167},9.2463890735480815E-3,{"$f":"RTD(\"cqg.rtd\",,\"StudyData\", \"Close(\"&$D$12&\") when LocalYear(\"&$D$12&\")=\"&$D$4&\" and localMonth(\"&$D$12&\") =\"&$E$4&\" and LocalDay(\"&$D$12&\")=\"&$F$4&\" and Barix(\"&$D$12&\",reference:=StartOfSession)=\"&A31&\"\", \"Bar\", \"\", \"Close\",\"5\",\"0\",\"PrimaryOnly\",,,\"False\",\"T\",\"EveryTick\")","v":166.41},5.3769937167713047E-3,{"$f":"RTD(\"cqg.rtd\",,\"StudyData\", \"Close(\"&$D$12&\") when LocalYear(\"&$D$12&\")=\"&$D$5&\" and localMonth(\"&$D$12&\") =\"&$E$5&\" and LocalDay(\"&$D$12&\")=\"&$F$5&\" and Barix(\"&$D$12&\",reference:=StartOfSession)=\"&A31&\"\", \"Bar\", \"\", \"Close\",\"5\",\"0\",\"PrimaryOnly\",,,\"False\",\"T\",\"EveryTick\")","v":165.39},5.5937252994466315E-3,{"$f":"RTD(\"cqg.rtd\",,\"StudyData\", \"Close(\"&$D$12&\") when LocalYear(\"&$D$12&\")=\"&$D$6&\" and localMonth(\"&$D$12&\") =\"&$E$6&\" and LocalDay(\"&$D$12&\")=\"&$F$6&\" and Barix(\"&$D$12&\",reference:=StartOfSession)=\"&A31&\"\", \"Bar\", \"\", \"Close\",\"5\",\"0\",\"PrimaryOnly\",,,\"False\",\"T\",\"EveryTick\")","v":164.57},1.6433353621423115E-3,{"$f":"RTD(\"cqg.rtd\",,\"StudyData\", \"Close(\"&$D$12&\") when LocalYear(\"&$D$12&\")=\"&$D$7&\" and localMonth(\"&$D$12&\") =\"&$E$7&\" and LocalDay(\"&$D$12&\")=\"&$F$7&\" and Barix(\"&$D$12&\",reference:=StartOfSession)=\"&A31&\"\", \"Bar\", \"\", \"Close\",\"5\",\"0\",\"PrimaryOnly\",,,\"False\",\"T\",\"EveryTick\")","v":163.44},-2.5631636763091413E-3,{"$f":"RTD(\"cqg.rtd\",,\"StudyData\", \"Close(\"&$D$12&\") when LocalYear(\"&$D$12&\")=\"&$D$8&\" and localMonth(\"&$D$12&\") =\"&$E$8&\" and LocalDay(\"&$D$12&\")=\"&$F$8&\" and Barix(\"&$D$12&\",reference:=StartOfSession)=\"&A31&\"\", \"Bar\", \"\", \"Close\",\"5\",\"0\",\"PrimaryOnly\",,,\"False\",\"T\",\"EveryTick\")","v":163.87},-1.0207779656921948E-2,{"$f":"RTD(\"cqg.rtd\",,\"StudyData\", \"Close(\"&$D$12&\") when LocalYear(\"&$D$12&\")=\"&$D$9&\" and localMonth(\"&$D$12&\") =\"&$E$9&\" and LocalDay(\"&$D$12&\")=\"&$F$9&\" and Barix(\"&$D$12&\",reference:=StartOfSession)=\"&A31&\"\", \"Bar\", \"\", \"Close\",\"5\",\"0\",\"PrimaryOnly\",,,\"False\",\"T\",\"EveryTick\")","v":165.02},4.7491475888943079E-3,{"$f":"RTD(\"cqg.rtd\",,\"StudyData\", \"Close(\"&$D$12&\") when LocalYear(\"&$D$12&\")=\"&$D$10&\" and localMonth(\"&$D$12&\") =\"&$E$10&\" and LocalDay(\"&$D$12&\")=\"&$F$10&\" and Barix(\"&$D$12&\",reference:=StartOfSession)=\"&A31&\"\", \"Bar\", \"\", \"Close\",\"5\",\"0\",\"PrimaryOnly\",,,\"False\",\"T\",\"EveryTick\")","v":163.57},3.928067268151883E-3,null,null,null,""]
[31,"11:05:00","2018-06-08",2018,6,8,{"$f":"IF(RTD(\"cqg.rtd\",,\"StudyData\", \"Close(EP) when LocalYear(\"&$D$12&\")=\"&D32&\" and localMonth(\"&$D$12&\") =\"&E32&\" and LocalDay(\"&$D$12&\")=\"&F32&\" and Barix(\"&$D$12&\",reference:=StartOfSession)=77\", \"Bar\", \"\", \"Close\",\"5\",\"0\",\"PrimaryOnly\",,,\"False\",\"T\",\"EveryTick\")=\"\",2,1)","v":1},{"$f":"RTD(\"cqg.rtd\",,\"StudyData\", \"Close(\"&$D$12&\") when LocalYear(\"&$D$12&\")=\"&$D$1&\" and localMonth(\"&$D$12&\") =\"&$E$1&\" and LocalDay(\"&$D$12&\")=\"&$F$1&\" and Barix(\"&$D$12&\",reference:=StartOfSession)=\"&A32&\"\", \"Bar\", \"\", \"Close\",\"5\",\"0\",\"PrimaryOnly\",,,\"False\",\"T\",\"EveryTick\")","v":""},{"$error":"#N/A"},{"$f":"RTD(\"cqg.rtd\",,\"StudyData\", \"Close(\"&$D$12&\") when LocalYear(\"&$D$12&\")=\"&$D$2&\" and localMonth(\"&$D$12&\") =\"&$E$2&\" and LocalDay(\"&$D$12&\")=\"&$F$2&\" and Barix(\"&$D$12&\",reference:=StartOfSession)=\"&A32&\"\", \"Bar\", \"\", \"Close\",\"5\",\"0\",\"PrimaryOnly\",,,\"False\",\"T\",\"EveryTick\")","v":165.45},-6.723899861919941E-3,{"$f":"RTD(\"cqg.rtd\",,\"StudyData\", \"Close(\"&$D$12&\") when LocalYear(\"&$D$12&\")=\"&$D$3&\" and localMonth(\"&$D$12&\") =\"&$E$3&\" and LocalDay(\"&$D$12&\")=\"&$F$3&\" and Barix(\"&$D$12&\",reference:=StartOfSession)=\"&A32&\"\", \"Bar\", \"\", \"Close\",\"5\",\"0\",\"PrimaryOnly\",,,\"False\",\"T\",\"EveryTick\")","v":167},9.2463890735480815E-3,{"$f":"RTD(\"cqg.rtd\",,\"StudyData\", \"Close(\"&$D$12&\") when LocalYear(\"&$D$12&\")=\"&$D$4&\" and localMonth(\"&$D$12&\") =\"&$E$4&\" and LocalDay(\"&$D$12&\")=\"&$F$4&\" and Barix(\"&$D$12&\",reference:=StartOfSession)=\"&A32&\"\", \"Bar\", \"\", \"Close\",\"5\",\"0\",\"PrimaryOnly\",,,\"False\",\"T\",\"EveryTick\")","v":166.39},5.2561623972932339E-3,{"$f":"RTD(\"cqg.rtd\",,\"StudyData\", \"Close(\"&$D$12&\") when LocalYear(\"&$D$12&\")=\"&$D$5&\" and localMonth(\"&$D$12&\") =\"&$E$5&\" and LocalDay(\"&$D$12&\")=\"&$F$5&\" and Barix(\"&$D$12&\",reference:=StartOfSession)=\"&A32&\"\", \"Bar\", \"\", \"Close\",\"5\",\"0\",\"PrimaryOnly\",,,\"False\",\"T\",\"EveryTick\")","v":165.39},5.5937252994466315E-3,{"$f":"RTD(\"cqg.rtd\",,\"StudyData\", \"Close(\"&$D$12&\") when LocalYear(\"&$D$12&\")=\"&$D$6&\" and localMonth(\"&$D$12&\") =\"&$E$6&\" and LocalDay(\"&$D$12&\")=\"&$F$6&\" and Barix(\"&$D$12&\",reference:=StartOfSession)=\"&A32&\"\", \"Bar\", \"\", \"Close\",\"5\",\"0\",\"PrimaryOnly\",,,\"False\",\"T\",\"EveryTick\")","v":164.55},1.5216068167985392E-3,{"$f":"RTD(\"cqg.rtd\",,\"StudyData\", \"Close(\"&$D$12&\") when LocalYear(\"&$D$12&\")=\"&$D$7&\" and localMonth(\"&$D$12&\") =\"&$E$7&\" and LocalDay(\"&$D$12&\")=\"&$F$7&\" and Barix(\"&$D$12&\",reference:=StartOfSession)=\"&A32&\"\", \"Bar\", \"\", \"Close\",\"5\",\"0\",\"PrimaryOnly\",,,\"False\",\"T\",\"EveryTick\")","v":163.57},-1.769803490784941E-3,{"$f":"RTD(\"cqg.rtd\",,\"StudyData\", \"Close(\"&$D$12&\") when LocalYear(\"&$D$12&\")=\"&$D$8&\" and localMonth(\"&$D$12&\") =\"&$E$8&\" and LocalDay(\"&$D$12&\")=\"&$F$8&\" and Barix(\"&$D$12&\",reference:=StartOfSession)=\"&A32&\"\", \"Bar\", \"\", \"Close\",\"5\",\"0\",\"PrimaryOnly\",,,\"False\",\"T\",\"EveryTick\")","v":163.78},-1.0751389224450358E-2,{"$f":"RTD(\"cqg.rtd\",,\"StudyData\", \"Close(\"&$D$12&\") when LocalYear(\"&$D$12&\")=\"&$D$9&\" and localMonth(\"&$D$12&\") =\"&$E$9&\" and LocalDay(\"&$D$12&\")=\"&$F$9&\" and Barix(\"&$D$12&\",reference:=StartOfSession)=\"&A32&\"\", \"Bar\", \"\", \"Close\",\"5\",\"0\",\"PrimaryOnly\",,,\"False\",\"T\",\"EveryTick\")","v":164.8},3.4096444227959223E-3,{"$f":"RTD(\"cqg.rtd\",,\"StudyData\", \"Close(\"&$D$12&\") when LocalYear(\"&$D$12&\")=\"&$D$10&\" and localMonth(\"&$D$12&\") =\"&$E$10&\" and LocalDay(\"&$D$12&\")=\"&$F$10&\" and Barix(\"&$D$12&\",reference:=StartOfSession)=\"&A32&\"\", \"Bar\", \"\", \"Close\",\"5\",\"0\",\"PrimaryOnly\",,,\"False\",\"T\",\"EveryTick\")","v":163.34},2.5164180936598328E-3,null,null,null,""]
[32,"11:10:00","2018-06-07",2018,6,7,{"$f":"IF(RTD(\"cqg.rtd\",,\"StudyData\", \"Close(EP) when LocalYear(\"&$D$12&\")=\"&D33&\" and localMonth(\"&$D$12&\") =\"&E33&\" and LocalDay(\"&$D$12&\")=\"&F33&\" and Barix(\"&$D$12&\",reference:=StartOfSession)=77\", \"Bar\", \"\", \"Close\",\"5\",\"0\",\"PrimaryOnly\",,,\"False\",\"T\",\"EveryTick\")=\"\",2,1)","v":1},{"$f":"RTD(\"cqg.rtd\",,\"StudyData\", \"Close(\"&$D$12&\") when LocalYear(\"&$D$12&\")=\"&$D$1&\" and localMonth(\"&$D$12&\") =\"&$E$1&\" and LocalDay(\"&$D$12&\")=\"&$F$1&\" and Barix(\"&$D$12&\",reference:=StartOfSession)=\"&A33&\"\", \"Bar\", \"\", \"Close\",\"5\",\"0\",\"PrimaryOnly\",,,\"False\",\"T\",\"EveryTick\")","v":""},{"$error":"#N/A"},{"$f":"RTD(\"cqg.rtd\",,\"StudyData\", \"Close(\"&$D$12&\") when LocalYear(\"&$D$12&\")=\"&$D$2&\" and localMonth(\"&$D$12&\") =\"&$E$2&\" and LocalDay(\"&$D$12&\")=\"&$F$2&\" and Barix(\"&$D$12&\",reference:=StartOfSession)=\"&A33&\"\", \"Bar\", \"\", \"Close\",\"5\",\"0\",\"PrimaryOnly\",,,\"False\",\"T\",\"EveryTick\")","v":165.45},-6.723899861919941E-3,{"$f":"RTD(\"cqg.rtd\",,\"StudyData\", \"Close(\"&$D$12&\") when LocalYear(\"&$D$12&\")=\"&$D$3&\" and localMonth(\"&$D$12&\") =\"&$E$3&\" and LocalDay(\"&$D$12&\")=\"&$F$3&\" and Barix(\"&$D$12&\",reference:=StartOfSession)=\"&A33&\"\", \"Bar\", \"\", \"Close\",\"5\",\"0\",\"PrimaryOnly\",,,\"False\",\"T\",\"EveryTick\")","v":167},9.2463890735480815E-3,{"$f":"RTD(\"cqg.rtd\",,\"StudyData\", \"Close(\"&$D$12&\") when LocalYear(\"&$D$12&\")=\"&$D$4&\" and localMonth(\"&$D$12&\") =\"&$E$4&\" and LocalDay(\"&$D$12&\")=\"&$F$4&\" and Barix(\"&$D$12&\",reference:=StartOfSession)=\"&A33&\"\", \"Bar\", \"\", \"Close\",\"5\",\"0\",\"PrimaryOnly\",,,\"False\",\"T\",\"EveryTick\")","v":166.37},5.1353310778153348E-3,{"$f":"RTD(\"cqg.rtd\",,\"StudyData\", \"Close(\"&$D$12&\") when LocalYear(\"&$D$12&\")=\"&$D$5&\" and localMonth(\"&$D$12&\") =\"&$E$5&\" and LocalDay(\"&$D$12&\")=\"&$F$5&\" and Barix(\"&$D$12&\",reference:=StartOfSession)=\"&A33&\"\", \"Bar\", \"\", \"Close\",\"5\",\"0\",\"PrimaryOnly\",,,\"False\",\"T\",\"EveryTick\")","v":165.39},5.5937252994466315E-3,{"$f":"RTD(\"cqg.rtd\",,\"StudyData\", \"Close(\"&$D$12&\") when LocalYear(\"&$D$12&\")=\"&$D$6&\" and localMonth(\"&$D$12&\") =\"&$E$6&\" and LocalDay(\"&$D$12&\")=\"&$F$6&\" and Barix(\"&$D$12&\",reference:=StartOfSession)=\"&A33&\"\", \"Bar\", \"\", \"Close\",\"5\",\"0\",\"PrimaryOnly\",,,\"False\",\"T\",\"EveryTick\")","v":164.55},1.5216068167985392E-3,{"$f":"RTD(\"cqg.rtd\",,\"StudyData\", \"Close(\"&$D$12&\") when LocalYear(\"&$D$12&\")=\"&$D$7&\" and localMonth(\"&$D$12&\") =\"&$E$7&\" and LocalDay(\"&$D$12&\")=\"&$F$7&\" and Barix(\"&$D$12&\",reference:=StartOfSession)=\"&A33&\"\", \"Bar\", \"\", \"Close\",\"5\",\"0\",\"PrimaryOnly\",,,\"False\",\"T\",\"EveryTick\")","v":163.6},-1.5867203710485738E-3,{"$f":"RTD(\"cqg.rtd\",,\"StudyData\", \"Close(\"&$D$12&\") when LocalYear(\"&$D$12&\")=\"&$D$8&\" and localMonth(\"&$D$12&\") =\"&$E$8&\" and LocalDay(\"&$D$12&\")=\"&$F$8&\" and Barix(\"&$D$12&\",reference:=StartOfSession)=\"&A33&\"\", \"Bar\", \"\", \"Close\",\"5\",\"0\",\"PrimaryOnly\",,,\"False\",\"T\",\"EveryTick\")","v":163.78},-1.0751389224450358E-2,{"$f":"RTD(\"cqg.rtd\",,\"StudyData\", \"Close(\"&$D$12&\") when LocalYear(\"&$D$12&\")=\"&$D$9&\" and localMonth(\"&$D$12&\") =\"&$E$9&\" and LocalDay(\"&$D$12&\")=\"&$F$9&\" and Barix(\"&$D$12&\",reference:=StartOfSession)=\"&A33&\"\", \"Bar\", \"\", \"Close\",\"5\",\"0\",\"PrimaryOnly\",,,\"False\",\"T\",\"EveryTick\")","v":164.77},3.2269849001461343E-3,{"$f":"RTD(\"cqg.rtd\",,\"StudyData\", \"Close(\"&$D$12&\") when LocalYear(\"&$D$12&\")=\"&$D$10&\" and localMonth(\"&$D$12&\") =\"&$E$10&\" and LocalDay(\"&$D$12&\")=\"&$F$10&\" and Barix(\"&$D$12&\",reference:=StartOfSession)=\"&A33&\"\", \"Bar\", \"\", \"Close\",\"5\",\"0\",\"PrimaryOnly\",,,\"False\",\"T\",\"EveryTick\")","v":163.34},2.5164180936598328E-3,null,null,null,""]
[33,"11:15:00","2018-06-06",2018,6,6,{"$f":"IF(RTD(\"cqg.rtd\",,\"StudyData\", \"Close(EP) when LocalYear(\"&$D$12&\")=\"&D34&\" and localMonth(\"&$D$12&\") =\"&E34&\" and LocalDay(\"&$D$12&\")=\"&F34&\" and Barix(\"&$D$12&\",reference:=StartOfSession)=77\", \"Bar\", \"\", \"Close\",\"5\",\"0\",\"PrimaryOnly\",,,\"False\",\"T\",\"EveryTick\")=\"\",2,1)","v":1},{"$f":"RTD(\"cqg.rtd\",,\"StudyData\", \"Close(\"&$D$12&\") when LocalYear(\"&$D$12&\")=\"&$D$1&\" and localMonth(\"&$D$12&\") =\"&$E$1&\" and LocalDay(\"&$D$12&\")=\"&$F$1&\" and Barix(\"&$D$12&\",reference:=StartOfSession)=\"&A34&\"\", \"Bar\", \"\", \"Close\",\"5\",\"0\",\"PrimaryOnly\",,,\"False\",\"T\",\"EveryTick\")","v":""},{"$error":"#N/A"},{"$f":"RTD(\"cqg.rtd\",,\"StudyData\", \"Close(\"&$D$12&\") when LocalYear(\"&$D$12&\")=\"&$D$2&\" and localMonth(\"&$D$12&\") =\"&$E$2&\" and LocalDay(\"&$D$12&\")=\"&$F$2&\" and Barix(\"&$D$12&\",reference:=StartOfSession)=\"&A34&\"\", \"Bar\", \"\", \"Close\",\"5\",\"0\",\"PrimaryOnly\",,,\"False\",\"T\",\"EveryTick\")","v":165.53},-6.2436213003541578E-3,{"$f":"RTD(\"cqg.rtd\",,\"StudyData\", \"Close(\"&$D$12&\") when LocalYear(\"&$D$12&\")=\"&$D$3&\" and localMonth(\"&$D$12&\") =\"&$E$3&\" and LocalDay(\"&$D$12&\")=\"&$F$3&\" and Barix(\"&$D$12&\",reference:=StartOfSession)=\"&A34&\"\", \"Bar\", \"\", \"Close\",\"5\",\"0\",\"PrimaryOnly\",,,\"False\",\"T\",\"EveryTick\")","v":167},9.2463890735480815E-3,{"$f":"RTD(\"cqg.rtd\",,\"StudyData\", \"Close(\"&$D$12&\") when LocalYear(\"&$D$12&\")=\"&$D$4&\" and localMonth(\"&$D$12&\") =\"&$E$4&\" and LocalDay(\"&$D$12&\")=\"&$F$4&\" and Barix(\"&$D$12&\",reference:=StartOfSession)=\"&A34&\"\", \"Bar\", \"\", \"Close\",\"5\",\"0\",\"PrimaryOnly\",,,\"False\",\"T\",\"EveryTick\")","v":166.37},5.1353310778153348E-3,{"$f":"RTD(\"cqg.rtd\",,\"StudyData\", \"Close(\"&$D$12&\") when LocalYear(\"&$D$12&\")=\"&$D$5&\" and localMonth(\"&$D$12&\") =\"&$E$5&\" and LocalDay(\"&$D$12&\")=\"&$F$5&\" and Barix(\"&$D$12&\",reference:=StartOfSession)=\"&A34&\"\", \"Bar\", \"\", \"Close\",\"5\",\"0\",\"PrimaryOnly\",,,\"False\",\"T\",\"EveryTick\")","v":165.39},5.5937252994466315E-3,{"$f":"RTD(\"cqg.rtd\",,\"StudyData\", \"Close(\"&$D$12&\") when LocalYear(\"&$D$12&\")=\"&$D$6&\" and localMonth(\"&$D$12&\") =\"&$E$6&\" and LocalDay(\"&$D$12&\")=\"&$F$6&\" and Barix(\"&$D$12&\",reference:=StartOfSession)=\"&A34&\"\", \"Bar\", \"\", \"Close\",\"5\",\"0\",\"PrimaryOnly\",,,\"False\",\"T\",\"EveryTick\")","v":164.65},2.1302495435179202E-3,{"$f":"RTD(\"cqg.rtd\",,\"StudyData\", \"Close(\"&$D$12&\") when LocalYear(\"&$D$12&\")=\"&$D$7&\" and localMonth(\"&$D$12&\") =\"&$E$7&\" and LocalDay(\"&$D$12&\")=\"&$F$7&\" and Barix(\"&$D$12&\",reference:=StartOfSession)=\"&A34&\"\", \"Bar\", \"\", \"Close\",\"5\",\"0\",\"PrimaryOnly\",,,\"False\",\"T\",\"EveryTick\")","v":163.6},-1.5867203710485738E-3,{"$f":"RTD(\"cqg.rtd\",,\"StudyData\", \"Close(\"&$D$12&\") when LocalYear(\"&$D$12&\")=\"&$D$8&\" and localMonth(\"&$D$12&\") =\"&$E$8&\" and LocalDay(\"&$D$12&\")=\"&$F$8&\" and Barix(\"&$D$12&\",reference:=StartOfSession)=\"&A34&\"\", \"Bar\", \"\", \"Close\",\"5\",\"0\",\"PrimaryOnly\",,,\"False\",\"T\",\"EveryTick\")","v":163.78},-1.0751389224450358E-2,{"$f":"RTD(\"cqg.rtd\",,\"StudyData\", \"Close(\"&$D$12&\") when LocalYear(\"&$D$12&\")=\"&$D$9&\" and localMonth(\"&$D$12&\") =\"&$E$9&\" and LocalDay(\"&$D$12&\")=\"&$F$9&\" and Barix(\"&$D$12&\",reference:=StartOfSession)=\"&A34&\"\", \"Bar\", \"\", \"Close\",\"5\",\"0\",\"PrimaryOnly\",,,\"False\",\"T\",\"EveryTick\")","v":164.77},3.2269849001461343E-3,{"$f":"RTD(\"cqg.rtd\",,\"StudyData\", \"Close(\"&$D$12&\") when LocalYear(\"&$D$12&\")=\"&$D$10&\" and localMonth(\"&$D$12&\") =\"&$E$10&\" and LocalDay(\"&$D$12&\")=\"&$F$10&\" and Barix(\"&$D$12&\",reference:=StartOfSession)=\"&A34&\"\", \"Bar\", \"\", \"Close\",\"5\",\"0\",\"PrimaryOnly\",,,\"False\",\"T\",\"EveryTick\")","v":163.34},2.5164180936598328E-3,null,null,null,""]
[34,"11:20:00","2018-06-05",2018,6,5,{"$f":"IF(RTD(\"cqg.rtd\",,\"StudyData\", \"Close(EP) when LocalYear(\"&$D$12&\")=\"&D35&\" and localMonth(\"&$D$12&\") =\"&E35&\" and LocalDay(\"&$D$12&\")=\"&F35&\" and Barix(\"&$D$12&\",reference:=StartOfSession)=77\", \"Bar\", \"\", \"Close\",\"5\",\"0\",\"PrimaryOnly\",,,\"False\",\"T\",\"EveryTick\")=\"\",2,1)","v":1},{"$f":"RTD(\"cqg.rtd\",,\"StudyData\", \"Close(\"&$D$12&\") when LocalYear(\"&$D$12&\")=\"&$D$1&\" and localMonth(\"&$D$12&\") =\"&$E$1&\" and LocalDay(\"&$D$12&\")=\"&$F$1&\" and Barix(\"&$D$12&\",reference:=StartOfSession)=\"&A35&\"\", \"Bar\", \"\", \"Close\",\"5\",\"0\",\"PrimaryOnly\",,,\"False\",\"T\",\"EveryTick\")","v":""},{"$error":"#N/A"},{"$f":"RTD(\"cqg.rtd\",,\"StudyData\", \"Close(\"&$D$12&\") when LocalYear(\"&$D$12&\")=\"&$D$2&\" and localMonth(\"&$D$12&\") =\"&$E$2&\" and LocalDay(\"&$D$12&\")=\"&$F$2&\" and Barix(\"&$D$12&\",reference:=StartOfSession)=\"&A35&\"\", \"Bar\", \"\", \"Close\",\"5\",\"0\",\"PrimaryOnly\",,,\"False\",\"T\",\"EveryTick\")","v":165.49},-6.4837605811369639E-3,{"$f":"RTD(\"cqg.rtd\",,\"StudyData\", \"Close(\"&$D$12&\") when LocalYear(\"&$D$12&\")=\"&$D$3&\" and localMonth(\"&$D$12&\") =\"&$E$3&\" and LocalDay(\"&$D$12&\")=\"&$F$3&\" and Barix(\"&$D$12&\",reference:=StartOfSession)=\"&A35&\"\", \"Bar\", \"\", \"Close\",\"5\",\"0\",\"PrimaryOnly\",,,\"False\",\"T\",\"EveryTick\")","v":167},9.2463890735480815E-3,{"$f":"RTD(\"cqg.rtd\",,\"StudyData\", \"Close(\"&$D$12&\") when LocalYear(\"&$D$12&\")=\"&$D$4&\" and localMonth(\"&$D$12&\") =\"&$E$4&\" and LocalDay(\"&$D$12&\")=\"&$F$4&\" and Barix(\"&$D$12&\",reference:=StartOfSession)=\"&A35&\"\", \"Bar\", \"\", \"Close\",\"5\",\"0\",\"PrimaryOnly\",,,\"False\",\"T\",\"EveryTick\")","v":166.21},4.1686805219912863E-3,{"$f":"RTD(\"cqg.rtd\",,\"StudyData\", \"Close(\"&$D$12&\") when LocalYear(\"&$D$12&\")=\"&$D$5&\" and localMonth(\"&$D$12&\") =\"&$E$5&\" and LocalDay(\"&$D$12&\")=\"&$F$5&\" and Barix(\"&$D$12&\",reference:=StartOfSession)=\"&A35&\"\", \"Bar\", \"\", \"Close\",\"5\",\"0\",\"PrimaryOnly\",,,\"False\",\"T\",\"EveryTick\")","v":165.29},4.9857116799415895E-3,{"$f":"RTD(\"cqg.rtd\",,\"StudyData\", \"Close(\"&$D$12&\") when LocalYear(\"&$D$12&\")=\"&$D$6&\" and localMonth(\"&$D$12&\") =\"&$E$6&\" and LocalDay(\"&$D$12&\")=\"&$F$6&\" and Barix(\"&$D$12&\",reference:=StartOfSession)=\"&A35&\"\", \"Bar\", \"\", \"Close\",\"5\",\"0\",\"PrimaryOnly\",,,\"False\",\"T\",\"EveryTick\")","v":164.65},2.1302495435179202E-3,{"$f":"RTD(\"cqg.rtd\",,\"StudyData\", \"Close(\"&$D$12&\") when LocalYear(\"&$D$12&\")=\"&$D$7&\" and localMonth(\"&$D$12&\") =\"&$E$7&\" and LocalDay(\"&$D$12&\")=\"&$F$7&\" and Barix(\"&$D$12&\",reference:=StartOfSession)=\"&A35&\"\", \"Bar\", \"\", \"Close\",\"5\",\"0\",\"PrimaryOnly\",,,\"False\",\"T\",\"EveryTick\")","v":163.75},-6.7130477236673769E-4,{"$f":"RTD(\"cqg.rtd\",,\"StudyData\", \"Close(\"&$D$12&\") when LocalYear(\"&$D$12&\")=\"&$D$8&\" and localMonth(\"&$D$12&\") =\"&$E$8&\" and LocalDay(\"&$D$12&\")=\"&$F$8&\" and Barix(\"&$D$12&\",reference:=StartOfSession)=\"&A35&\"\", \"Bar\", \"\", \"Close\",\"5\",\"0\",\"PrimaryOnly\",,,\"False\",\"T\",\"EveryTick\")","v":163.63},-1.1657405170331038E-2,{"$f":"RTD(\"cqg.rtd\",,\"StudyData\", \"Close(\"&$D$12&\") when LocalYear(\"&$D$12&\")=\"&$D$9&\" and localMonth(\"&$D$12&\") =\"&$E$9&\" and LocalDay(\"&$D$12&\")=\"&$F$9&\" and Barix(\"&$D$12&\",reference:=StartOfSession)=\"&A35&\"\", \"Bar\", \"\", \"Close\",\"5\",\"0\",\"PrimaryOnly\",,,\"False\",\"T\",\"EveryTick\")","v":164.77},3.2269849001461343E-3,{"$f":"RTD(\"cqg.rtd\",,\"StudyData\", \"Close(\"&$D$12&\") when LocalYear(\"&$D$12&\")=\"&$D$10&\" and localMonth(\"&$D$12&\") =\"&$E$10&\" and LocalDay(\"&$D$12&\")=\"&$F$10&\" and Barix(\"&$D$12&\",reference:=StartOfSession)=\"&A35&\"\", \"Bar\", \"\", \"Close\",\"5\",\"0\",\"PrimaryOnly\",,,\"False\",\"T\",\"EveryTick\")","v":163.57},3.928067268151883E-3,null,null,null,""]
[35,"11:25:00","2018-06-04",2018,6,4,{"$f":"IF(RTD(\"cqg.rtd\",,\"StudyData\", \"Close(EP) when LocalYear(\"&$D$12&\")=\"&D36&\" and localMonth(\"&$D$12&\") =\"&E36&\" and LocalDay(\"&$D$12&\")=\"&F36&\" and Barix(\"&$D$12&\",reference:=StartOfSession)=77\", \"Bar\", \"\", \"Close\",\"5\",\"0\",\"PrimaryOnly\",,,\"False\",\"T\",\"EveryTick\")=\"\",2,1)","v":1},{"$f":"RTD(\"cqg.rtd\",,\"StudyData\", \"Close(\"&$D$12&\") when LocalYear(\"&$D$12&\")=\"&$D$1&\" and localMonth(\"&$D$12&\") =\"&$E$1&\" and LocalDay(\"&$D$12&\")=\"&$F$1&\" and Barix(\"&$D$12&\",reference:=StartOfSession)=\"&A36&\"\", \"Bar\", \"\", \"Close\",\"5\",\"0\",\"PrimaryOnly\",,,\"False\",\"T\",\"EveryTick\")","v":""},{"$error":"#N/A"},{"$f":"RTD(\"cqg.rtd\",,\"StudyData\", \"Close(\"&$D$12&\") when LocalYear(\"&$D$12&\")=\"&$D$2&\" and localMonth(\"&$D$12&\") =\"&$E$2&\" and LocalDay(\"&$D$12&\")=\"&$F$2&\" and Barix(\"&$D$12&\",reference:=StartOfSession)=\"&A36&\"\", \"Bar\", \"\", \"Close\",\"5\",\"0\",\"PrimaryOnly\",,,\"False\",\"T\",\"EveryTick\")","v":165.49},-6.4837605811369639E-3,{"$f":"RTD(\"cqg.rtd\",,\"StudyData\", \"Close(\"&$D$12&\") when LocalYear(\"&$D$12&\")=\"&$D$3&\" and localMonth(\"&$D$12&\") =\"&$E$3&\" and LocalDay(\"&$D$12&\")=\"&$F$3&\" and Barix(\"&$D$12&\",reference:=StartOfSession)=\"&A36&\"\", \"Bar\", \"\", \"Close\",\"5\",\"0\",\"PrimaryOnly\",,,\"False\",\"T\",\"EveryTick\")","v":166.9},8.642049918414255E-3,{"$f":"RTD(\"cqg.rtd\",,\"StudyData\", \"Close(\"&$D$12&\") when LocalYear(\"&$D$12&\")=\"&$D$4&\" and localMonth(\"&$D$12&\") =\"&$E$4&\" and LocalDay(\"&$D$12&\")=\"&$F$4&\" and Barix(\"&$D$12&\",reference:=StartOfSession)=\"&A36&\"\", \"Bar\", \"\", \"Close\",\"5\",\"0\",\"PrimaryOnly\",,,\"False\",\"T\",\"EveryTick\")","v":166.32},4.8332527791202446E-3,{"$f":"RTD(\"cqg.rtd\",,\"StudyData\", \"Close(\"&$D$12&\") when LocalYear(\"&$D$12&\")=\"&$D$5&\" and localMonth(\"&$D$12&\") =\"&$E$5&\" and LocalDay(\"&$D$12&\")=\"&$F$5&\" and Barix(\"&$D$12&\",reference:=StartOfSession)=\"&A36&\"\", \"Bar\", \"\", \"Close\",\"5\",\"0\",\"PrimaryOnly\",,,\"False\",\"T\",\"EveryTick\")","v":165.29},4.9857116799415895E-3,{"$f":"RTD(\"cqg.rtd\",,\"StudyData\", \"Close(\"&$D$12&\") when LocalYear(\"&$D$12&\")=\"&$D$6&\" and localMonth(\"&$D$12&\") =\"&$E$6&\" and LocalDay(\"&$D$12&\")=\"&$F$6&\" and Barix(\"&$D$12&\",reference:=StartOfSession)=\"&A36&\"\", \"Bar\", \"\", \"Close\",\"5\",\"0\",\"PrimaryOnly\",,,\"False\",\"T\",\"EveryTick\")","v":164.65},2.1302495435179202E-3,{"$f":"RTD(\"cqg.rtd\",,\"StudyData\", \"Close(\"&$D$12&\") when LocalYear(\"&$D$12&\")=\"&$D$7&\" and localMonth(\"&$D$12&\") =\"&$E$7&\" and LocalDay(\"&$D$12&\")=\"&$F$7&\" and Barix(\"&$D$12&\",reference:=StartOfSession)=\"&A36&\"\", \"Bar\", \"\", \"Close\",\"5\",\"0\",\"PrimaryOnly\",,,\"False\",\"T\",\"EveryTick\")","v":163.81},-3.0513853289400322E-4,{"$f":"RTD(\"cqg.rtd\",,\"StudyData\", \"Close(\"&$D$12&\") when LocalYear(\"&$D$12&\")=\"&$D$8&\" and localMonth(\"&$D$12&\") =\"&$E$8&\" and LocalDay(\"&$D$12&\")=\"&$F$8&\" and Barix(\"&$D$12&\",reference:=StartOfSession)=\"&A36&\"\", \"Bar\", \"\", \"Close\",\"5\",\"0\",\"PrimaryOnly\",,,\"False\",\"T\",\"EveryTick\")","v":163.63},-1.1657405170331038E-2,{"$f":"RTD(\"cqg.rtd\",,\"StudyData\", \"Close(\"&$D$12&\") when LocalYear(\"&$D$12&\")=\"&$D$9&\" and localMonth(\"&$D$12&\") =\"&$E$9&\" and LocalDay(\"&$D$12&\")=\"&$F$9&\" and Barix(\"&$D$12&\",reference:=StartOfSession)=\"&A36&\"\", \"Bar\", \"\", \"Close\",\"5\",\"0\",\"PrimaryOnly\",,,\"False\",\"T\",\"EveryTick\")","v":164.73},2.9834388699463022E-3,{"$f":"RTD(\"cqg.rtd\",,\"StudyData\", \"Close(\"&$D$12&\") when LocalYear(\"&$D$12&\")=\"&$D$10&\" and localMonth(\"&$D$12&\") =\"&$E$10&\" and LocalDay(\"&$D$12&\")=\"&$F$10&\" and Barix(\"&$D$12&\",reference:=StartOfSession)=\"&A36&\"\", \"Bar\", \"\", \"Close\",\"5\",\"0\",\"PrimaryOnly\",,,\"False\",\"T\",\"EveryTick\")","v":163.57},3.928067268151883E-3,null,null,null,""]
[36,"11:30:00",null,null,null,null,null,{"$f":"RTD(\"cqg.rtd\",,\"StudyData\", \"Close(\"&$D$12&\") when LocalYear(\"&$D$12&\")=\"&$D$1&\" and localMonth(\"&$D$12&\") =\"&$E$1&\" and LocalDay(\"&$D$12&\")=\"&$F$1&\" and Barix(\"&$D$12&\",reference:=StartOfSession)=\"&A37&\"\", \"Bar\", \"\", \"Close\",\"5\",\"0\",\"PrimaryOnly\",,,\"False\",\"T\",\"EveryTick\")","v":""},{"$error":"#N/A"},{"$f":"RTD(\"cqg.rtd\",,\"StudyData\", \"Close(\"&$D$12&\") when LocalYear(\"&$D$12&\")=\"&$D$2&\" and localMonth(\"&$D$12&\") =\"&$E$2&\" and LocalDay(\"&$D$12&\")=\"&$F$2&\" and Barix(\"&$D$12&\",reference:=StartOfSession)=\"&A37&\"\", \"Bar\", \"\", \"Close\",\"5\",\"0\",\"PrimaryOnly\",,,\"False\",\"T\",\"EveryTick\")","v":165.49},-6.4837605811369639E-3,{"$f":"RTD(\"cqg.rtd\",,\"StudyData\", \"Close(\"&$D$12&\") when LocalYear(\"&$D$12&\")=\"&$D$3&\" and localMonth(\"&$D$12&\") =\"&$E$3&\" and LocalDay(\"&$D$12&\")=\"&$F$3&\" and Barix(\"&$D$12&\",reference:=StartOfSession)=\"&A37&\"\", \"Bar\", \"\", \"Close\",\"5\",\"0\",\"PrimaryOnly\",,,\"False\",\"T\",\"EveryTick\")","v":166.95},8.9442194959810824E-3,{"$f":"RTD(\"cqg.rtd\",,\"StudyData\", \"Close(\"&$D$12&\") when LocalYear(\"&$D$12&\")=\"&$D$4&\" and localMonth(\"&$D$12&\") =\"&$E$4&\" and LocalDay(\"&$D$12&\")=\"&$F$4&\" and Barix(\"&$D$12&\",reference:=StartOfSession)=\"&A37&\"\", \"Bar\", \"\", \"Close\",\"5\",\"0\",\"PrimaryOnly\",,,\"False\",\"T\",\"EveryTick\")","v":166.32},4.8332527791202446E-3,{"$f":"RTD(\"cqg.rtd\",,\"StudyData\", \"Close(\"&$D$12&\") when LocalYear(\"&$D$12&\")=\"&$D$5&\" and localMonth(\"&$D$12&\") =\"&$E$5&\" and LocalDay(\"&$D$12&\")=\"&$F$5&\" and Barix(\"&$D$12&\",reference:=StartOfSession)=\"&A37&\"\", \"Bar\", \"\", \"Close\",\"5\",\"0\",\"PrimaryOnly\",,,\"False\",\"T\",\"EveryTick\")","v":165.29},4.9857116799415895E-3,{"$f":"RTD(\"cqg.rtd\",,\"StudyData\", \"Close(\"&$D$12&\") when LocalYear(\"&$D$12&\")=\"&$D$6&\" and localMonth(\"&$D$12&\") =\"&$E$6&\" and LocalDay(\"&$D$12&\")=\"&$F$6&\" and Barix(\"&$D$12&\",reference:=StartOfSession)=\"&A37&\"\", \"Bar\", \"\", \"Close\",\"5\",\"0\",\"PrimaryOnly\",,,\"False\",\"T\",\"EveryTick\")","v":164.65},2.1302495435179202E-3,{"$f":"RTD(\"cqg.rtd\",,\"StudyData\", \"Close(\"&$D$12&\") when LocalYear(\"&$D$12&\")=\"&$D$7&\" and localMonth(\"&$D$12&\") =\"&$E$7&\" and LocalDay(\"&$D$12&\")=\"&$F$7&\" and Barix(\"&$D$12&\",reference:=StartOfSession)=\"&A37&\"\", \"Bar\", \"\", \"Close\",\"5\",\"0\",\"PrimaryOnly\",,,\"False\",\"T\",\"EveryTick\")","v":163.81},-3.0513853289400322E-4,{"$f":"RTD(\"cqg.rtd\",,\"StudyData\", \"Close(\"&$D$12&\") when LocalYear(\"&$D$12&\")=\"&$D$8&\" and localMonth(\"&$D$12&\") =\"&$E$8&\" and LocalDay(\"&$D$12&\")=\"&$F$8&\" and Barix(\"&$D$12&\",reference:=StartOfSession)=\"&A37&\"\", \"Bar\", \"\", \"Close\",\"5\",\"0\",\"PrimaryOnly\",,,\"False\",\"T\",\"EveryTick\")","v":163.65},-1.1536603044213558E-2,{"$f":"RTD(\"cqg.rtd\",,\"StudyData\", \"Close(\"&$D$12&\") when LocalYear(\"&$D$12&\")=\"&$D$9&\" and localMonth(\"&$D$12&\") =\"&$E$9&\" and LocalDay(\"&$D$12&\")=\"&$F$9&\" and Barix(\"&$D$12&\",reference:=StartOfSession)=\"&A37&\"\", \"Bar\", \"\", \"Close\",\"5\",\"0\",\"PrimaryOnly\",,,\"False\",\"T\",\"EveryTick\")","v":164.81},3.4705309303457938E-3,{"$f":"RTD(\"cqg.rtd\",,\"StudyData\", \"Close(\"&$D$12&\") when LocalYear(\"&$D$12&\")=\"&$D$10&\" and localMonth(\"&$D$12&\") =\"&$E$10&\" and LocalDay(\"&$D$12&\")=\"&$F$10&\" and Barix(\"&$D$12&\",reference:=StartOfSession)=\"&A37&\"\", \"Bar\", \"\", \"Close\",\"5\",\"0\",\"PrimaryOnly\",,,\"False\",\"T\",\"EveryTick\")","v":163.57},3.928067268151883E-3,null,null,null,""]
[37,"11:35:00",-40,{"$f":" RTD(\"cqg.rtd\",,\"StudyData\", $D$12,  \"Tick\", \"FlatTicks=0\", \"Tick\",\"D\",C38,\"PrimaryOnly\")","v":165.89},null,"EP",null,{"$f":"RTD(\"cqg.rtd\",,\"StudyData\", \"Close(\"&$D$12&\") when LocalYear(\"&$D$12&\")=\"&$D$1&\" and localMonth(\"&$D$12&\") =\"&$E$1&\" and LocalDay(\"&$D$12&\")=\"&$F$1&\" and Barix(\"&$D$12&\",reference:=StartOfSession)=\"&A38&\"\", \"Bar\", \"\", \"Close\",\"5\",\"0\",\"PrimaryOnly\",,,\"False\",\"T\",\"EveryTick\")","v":""},{"$error":"#N/A"},{"$f":"RTD(\"cqg.rtd\",,\"StudyData\", \"Close(\"&$D$12&\") when LocalYear(\"&$D$12&\")=\"&$D$2&\" and localMonth(\"&$D$12&\") =\"&$E$2&\" and LocalDay(\"&$D$12&\")=\"&$F$2&\" and Barix(\"&$D$12&\",reference:=StartOfSession)=\"&A38&\"\", \"Bar\", \"\", \"Close\",\"5\",\"0\",\"PrimaryOnly\",,,\"False\",\"T\",\"EveryTick\")","v":165.49},-6.4837605811369639E-3,{"$f":"RTD(\"cqg.rtd\",,\"StudyData\", \"Close(\"&$D$12&\") when LocalYear(\"&$D$12&\")=\"&$D$3&\" and localMonth(\"&$D$12&\") =\"&$E$3&\" and LocalDay(\"&$D$12&\")=\"&$F$3&\" and Barix(\"&$D$12&\",reference:=StartOfSession)=\"&A38&\"\", \"Bar\", \"\", \"Close\",\"5\",\"0\",\"PrimaryOnly\",,,\"False\",\"T\",\"EveryTick\")","v":166.95},8.9442194959810824E-3,{"$f":"RTD(\"cqg.rtd\",,\"StudyData\", \"Close(\"&$D$12&\") when LocalYear(\"&$D$12&\")=\"&$D$4&\" and localMonth(\"&$D$12&\") =\"&$E$4&\" and LocalDay(\"&$D$12&\")=\"&$F$4&\" and Barix(\"&$D$12&\",reference:=StartOfSession)=\"&A38&\"\", \"Bar\", \"\", \"Close\",\"5\",\"0\",\"PrimaryOnly\",,,\"False\",\"T\",\"EveryTick\")","v":166.3},4.7124214596423455E-3,{"$f":"RTD(\"cqg.rtd\",,\"StudyData\", \"Close(\"&$D$12&\") when LocalYear(\"&$D$12&\")=\"&$D$5&\" and localMonth(\"&$D$12&\") =\"&$E$5&\" and LocalDay(\"&$D$12&\")=\"&$F$5&\" and Barix(\"&$D$12&\",reference:=StartOfSession)=\"&A38&\"\", \"Bar\", \"\", \"Close\",\"5\",\"0\",\"PrimaryOnly\",,,\"False\",\"T\",\"EveryTick\")","v":165.29},4.9857116799415895E-3,{"$f":"RTD(\"cqg.rtd\",,\"StudyData\", \"Close(\"&$D$12&\") when LocalYear(\"&$D$12&\")=\"&$D$6&\" and localMonth(\"&$D$12&\") =\"&$E$6&\" and LocalDay(\"&$D$12&\")=\"&$F$6&\" and Barix(\"&$D$12&\",reference:=StartOfSession)=\"&A38&\"\", \"Bar\", \"\", \"Close\",\"5\",\"0\",\"PrimaryOnly\",,,\"False\",\"T\",\"EveryTick\")","v":164.65},2.1302495435179202E-3,{"$f":"RTD(\"cqg.rtd\",,\"StudyData\", \"Close(\"&$D$12&\") when LocalYear(\"&$D$12&\")=\"&$D$7&\" and localMonth(\"&$D$12&\") =\"&$E$7&\" and LocalDay(\"&$D$12&\")=\"&$F$7&\" and Barix(\"&$D$12&\",reference:=StartOfSession)=\"&A38&\"\", \"Bar\", \"\", \"Close\",\"5\",\"0\",\"PrimaryOnly\",,,\"False\",\"T\",\"EveryTick\")","v":163.92},3.6616623947256099E-4,{"$f":"RTD(\"cqg.rtd\",,\"StudyData\", \"Close(\"&$D$12&\") when LocalYear(\"&$D$12&\")=\"&$D$8&\" and localMonth(\"&$D$12&\") =\"&$E$8&\" and LocalDay(\"&$D$12&\")=\"&$F$8&\" and Barix(\"&$D$12&\",reference:=StartOfSession)=\"&A38&\"\", \"Bar\", \"\", \"Close\",\"5\",\"0\",\"PrimaryOnly\",,,\"False\",\"T\",\"EveryTick\")","v":163.65},-1.1536603044213558E-2,{"$f":"RTD(\"cqg.rtd\",,\"StudyData\", \"Close(\"&$D$12&\") when LocalYear(\"&$D$12&\")=\"&$D$9&\" and localMonth(\"&$D$12&\") =\"&$E$9&\" and LocalDay(\"&$D$12&\")=\"&$F$9&\" and Barix(\"&$D$12&\",reference:=StartOfSession)=\"&A38&\"\", \"Bar\", \"\", \"Close\",\"5\",\"0\",\"PrimaryOnly\",,,\"False\",\"T\",\"EveryTick\")","v":164.73},2.9834388699463022E-3,{"$f":"RTD(\"cqg.rtd\",,\"StudyData\", \"Close(\"&$D$12&\") when LocalYear(\"&$D$12&\")=\"&$D$10&\" and localMonth(\"&$D$12&\") =\"&$E$10&\" and LocalDay(\"&$D$12&\")=\"&$F$10&\" and Barix(\"&$D$12&\",reference:=StartOfSession)=\"&A38&\"\", \"Bar\", \"\", \"Close\",\"5\",\"0\",\"PrimaryOnly\",,,\"False\",\"T\",\"EveryTick\")","v":163.57},3.928067268151883E-3,null,null,null,""]
[38,"11:40:00",{"$f":"C38+1","v":-39},{"$f":" RTD(\"cqg.rtd\",,\"StudyData\", $D$12,  \"Tick\", \"FlatTicks=0\", \"Tick\",\"D\",C39,\"PrimaryOnly\")","v":165.87},null,"ENQ",null,{"$f":"RTD(\"cqg.rtd\",,\"StudyData\", \"Close(\"&$D$12&\") when LocalYear(\"&$D$12&\")=\"&$D$1&\" and localMonth(\"&$D$12&\") =\"&$E$1&\" and LocalDay(\"&$D$12&\")=\"&$F$1&\" and Barix(\"&$D$12&\",reference:=StartOfSession)=\"&A39&\"\", \"Bar\", \"\", \"Close\",\"5\",\"0\",\"PrimaryOnly\",,,\"False\",\"T\",\"EveryTick\")","v":""},{"$error":"#N/A"},{"$f":"RTD(\"cqg.rtd\",,\"StudyData\", \"Close(\"&$D$12&\") when LocalYear(\"&$D$12&\")=\"&$D$2&\" and localMonth(\"&$D$12&\") =\"&$E$2&\" and LocalDay(\"&$D$12&\")=\"&$F$2&\" and Barix(\"&$D$12&\",reference:=StartOfSession)=\"&A39&\"\", \"Bar\", \"\", \"Close\",\"5\",\"0\",\"PrimaryOnly\",,,\"False\",\"T\",\"EveryTick\")","v":165.49},-6.4837605811369639E-3,{"$f":"RTD(\"cqg.rtd\",,\"StudyData\", \"Close(\"&$D$12&\") when LocalYear(\"&$D$12&\")=\"&$D$3&\" and localMonth(\"&$D$12&\") =\"&$E$3&\" and LocalDay(\"&$D$12&\")=\"&$F$3&\" and Barix(\"&$D$12&\",reference:=StartOfSession)=\"&A39&\"\", \"Bar\", \"\", \"Close\",\"5\",\"0\",\"PrimaryOnly\",,,\"False\",\"T\",\"EveryTick\")","v":166.95},8.9442194959810824E-3,{"$f":"RTD(\"cqg.rtd\",,\"StudyData\", \"Close(\"&$D$12&\") when LocalYear(\"&$D$12&\")=\"&$D$4&\" and localMonth(\"&$D$12&\") =\"&$E$4&\" and LocalDay(\"&$D$12&\")=\"&$F$4&\" and Barix(\"&$D$12&\",reference:=StartOfSession)=\"&A39&\"\", \"Bar\", \"\", \"Close\",\"5\",\"0\",\"PrimaryOnly\",,,\"False\",\"T\",\"EveryTick\")","v":166.29},4.6520057999032251E-3,{"$f":"RTD(\"cqg.rtd\",,\"StudyData\", \"Close(\"&$D$12&\") when LocalYear(\"&$D$12&\")=\"&$D$5&\" and localMonth(\"&$D$12&\") =\"&$E$5&\" and LocalDay(\"&$D$12&\")=\"&$F$5&\" and Barix(\"&$D$12&\",reference:=StartOfSession)=\"&A39&\"\", \"Bar\", \"\", \"Close\",\"5\",\"0\",\"PrimaryOnly\",,,\"False\",\"T\",\"EveryTick\")","v":165.26},4.803307594090059E-3,{"$f":"RTD(\"cqg.rtd\",,\"StudyData\", \"Close(\"&$D$12&\") when LocalYear(\"&$D$12&\")=\"&$D$6&\" and localMonth(\"&$D$12&\") =\"&$E$6&\" and LocalDay(\"&$D$12&\")=\"&$F$6&\" and Barix(\"&$D$12&\",reference:=StartOfSession)=\"&A39&\"\", \"Bar\", \"\", \"Close\",\"5\",\"0\",\"PrimaryOnly\",,,\"False\",\"T\",\"EveryTick\")","v":164.65},2.1302495435179202E-3,{"$f":"RTD(\"cqg.rtd\",,\"StudyData\", \"Close(\"&$D$12&\") when LocalYear(\"&$D$12&\")=\"&$D$7&\" and localMonth(\"&$D$12&\") =\"&$E$7&\" and LocalDay(\"&$D$12&\")=\"&$F$7&\" and Barix(\"&$D$12&\",reference:=StartOfSession)=\"&A39&\"\", \"Bar\", \"\", \"Close\",\"5\",\"0\",\"PrimaryOnly\",,,\"False\",\"T\",\"EveryTick\")","v":163.91},3.0513853289382975E-4,{"$f":"RTD(\"cqg.rtd\",,\"StudyData\", \"Close(\"&$D$12&\") when LocalYear(\"&$D$12&\")=\"&$D$8&\" and localMonth(\"&$D$12&\") =\"&$E$8&\" and LocalDay(\"&$D$12&\")=\"&$F$8&\" and Barix(\"&$D$12&\",reference:=StartOfSession)=\"&A39&\"\", \"Bar\", \"\", \"Close\",\"5\",\"0\",\"PrimaryOnly\",,,\"False\",\"T\",\"EveryTick\")","v":163.63},-1.1657405170331038E-2,{"$f":"RTD(\"cqg.rtd\",,\"StudyData\", \"Close(\"&$D$12&\") when LocalYear(\"&$D$12&\")=\"&$D$9&\" and localMonth(\"&$D$12&\") =\"&$E$9&\" and LocalDay(\"&$D$12&\")=\"&$F$9&\" and Barix(\"&$D$12&\",reference:=StartOfSession)=\"&A39&\"\", \"Bar\", \"\", \"Close\",\"5\",\"0\",\"PrimaryOnly\",,,\"False\",\"T\",\"EveryTick\")","v":164.73},2.9834388699463022E-3,{"$f":"RTD(\"cqg.rtd\",,\"StudyData\", \"Close(\"&$D$12&\") when LocalYear(\"&$D$12&\")=\"&$D$10&\" and localMonth(\"&$D$12&\") =\"&$E$10&\" and LocalDay(\"&$D$12&\")=\"&$F$10&\" and Barix(\"&$D$12&\",reference:=StartOfSession)=\"&A39&\"\", \"Bar\", \"\", \"Close\",\"5\",\"0\",\"PrimaryOnly\",,,\"False\",\"T\",\"EveryTick\")","v":163.52000000000001},3.6211870128276154E-3,null,null,null,""]
[39,"11:45:00",{"$f":"C39+1","v":-38},{"$f":" RTD(\"cqg.rtd\",,\"StudyData\", $D$12,  \"Tick\", \"FlatTicks=0\", \"Tick\",\"D\",C40,\"PrimaryOnly\")","v":165.86},null,"YM",null,{"$f":"RTD(\"cqg.rtd\",,\"StudyData\", \"Close(\"&$D$12&\") when LocalYear(\"&$D$12&\")=\"&$D$1&\" and localMonth(\"&$D$12&\") =\"&$E$1&\" and LocalDay(\"&$D$12&\")=\"&$F$1&\" and Barix(\"&$D$12&\",reference:=StartOfSession)=\"&A40&\"\", \"Bar\", \"\", \"Close\",\"5\",\"0\",\"PrimaryOnly\",,,\"False\",\"T\",\"EveryTick\")","v":""},{"$error":"#N/A"},{"$f":"RTD(\"cqg.rtd\",,\"StudyData\", \"Close(\"&$D$12&\") when LocalYear(\"&$D$12&\")=\"&$D$2&\" and localMonth(\"&$D$12&\") =\"&$E$2&\" and LocalDay(\"&$D$12&\")=\"&$F$2&\" and Barix(\"&$D$12&\",reference:=StartOfSession)=\"&A40&\"\", \"Bar\", \"\", \"Close\",\"5\",\"0\",\"PrimaryOnly\",,,\"False\",\"T\",\"EveryTick\")","v":165.56},-6.0635168397670108E-3,{"$f":"RTD(\"cqg.rtd\",,\"StudyData\", \"Close(\"&$D$12&\") when LocalYear(\"&$D$12&\")=\"&$D$3&\" and localMonth(\"&$D$12&\") =\"&$E$3&\" and LocalDay(\"&$D$12&\")=\"&$F$3&\" and Barix(\"&$D$12&\",reference:=StartOfSession)=\"&A40&\"\", \"Bar\", \"\", \"Close\",\"5\",\"0\",\"PrimaryOnly\",,,\"False\",\"T\",\"EveryTick\")","v":166.95},8.9442194959810824E-3,{"$f":"RTD(\"cqg.rtd\",,\"StudyData\", \"Close(\"&$D$12&\") when LocalYear(\"&$D$12&\")=\"&$D$4&\" and localMonth(\"&$D$12&\") =\"&$E$4&\" and LocalDay(\"&$D$12&\")=\"&$F$4&\" and Barix(\"&$D$12&\",reference:=StartOfSession)=\"&A40&\"\", \"Bar\", \"\", \"Close\",\"5\",\"0\",\"PrimaryOnly\",,,\"False\",\"T\",\"EveryTick\")","v":166.29},4.6520057999032251E-3,{"$f":"RTD(\"cqg.rtd\",,\"StudyData\", \"Close(\"&$D$12&\") when LocalYear(\"&$D$12&\")=\"&$D$5&\" and localMonth(\"&$D$12&\") =\"&$E$5&\" and LocalDay(\"&$D$12&\")=\"&$F$5&\" and Barix(\"&$D$12&\",reference:=StartOfSession)=\"&A40&\"\", \"Bar\", \"\", \"Close\",\"5\",\"0\",\"PrimaryOnly\",,,\"False\",\"T\",\"EveryTick\")","v":165.25},4.7425062321396066E-3,{"$f":"RTD(\"cqg.rtd\",,\"StudyData\", \"Close(\"&$D$12&\") when LocalYear(\"&$D$12&\")=\"&$D$6&\" and localMonth(\"&$D$12&\") =\"&$E$6&\" and LocalDay(\"&$D$12&\")=\"&$F$6&\" and Barix(\"&$D$12&\",reference:=StartOfSession)=\"&A40&\"\", \"Bar\", \"\", \"Close\",\"5\",\"0\",\"PrimaryOnly\",,,\"False\",\"T\",\"EveryTick\")","v":164.7},2.4345709068775241E-3,{"$f":"RTD(\"cqg.rtd\",,\"StudyData\", \"Close(\"&$D$12&\") when LocalYear(\"&$D$12&\")=\"&$D$7&\" and localMonth(\"&$D$12&\") =\"&$E$7&\" and LocalDay(\"&$D$12&\")=\"&$F$7&\" and Barix(\"&$D$12&\",reference:=StartOfSession)=\"&A40&\"\", \"Bar\", \"\", \"Close\",\"5\",\"0\",\"PrimaryOnly\",,,\"False\",\"T\",\"EveryTick\")","v":163.97},6.7130477236656421E-4,{"$f":"RTD(\"cqg.rtd\",,\"StudyData\", \"Close(\"&$D$12&\") when LocalYear(\"&$D$12&\")=\"&$D$8&\" and localMonth(\"&$D$12&\") =\"&$E$8&\" and LocalDay(\"&$D$12&\")=\"&$F$8&\" and Barix(\"&$D$12&\",reference:=StartOfSession)=\"&A40&\"\", \"Bar\", \"\", \"Close\",\"5\",\"0\",\"PrimaryOnly\",,,\"False\",\"T\",\"EveryTick\")","v":163.63},-1.1657405170331038E-2,{"$f":"RTD(\"cqg.rtd\",,\"StudyData\", \"Close(\"&$D$12&\") when LocalYear(\"&$D$12&\")=\"&$D$9&\" and localMonth(\"&$D$12&\") =\"&$E$9&\" and LocalDay(\"&$D$12&\")=\"&$F$9&\" and Barix(\"&$D$12&\",reference:=StartOfSession)=\"&A40&\"\", \"Bar\", \"\", \"Close\",\"5\",\"0\",\"PrimaryOnly\",,,\"False\",\"T\",\"EveryTick\")","v":164.73},2.9834388699463022E-3,{"$f":"RTD(\"cqg.rtd\",,\"StudyData\", \"Close(\"&$D$12&\") when LocalYear(\"&$D$12&\")=\"&$D$10&\" and localMonth(\"&$D$12&\") =\"&$E$10&\" and LocalDay(\"&$D$12&\")=\"&$F$10&\" and Barix(\"&$D$12&\",reference:=StartOfSession)=\"&A40&\"\", \"Bar\", \"\", \"Close\",\"5\",\"0\",\"PrimaryOnly\",,,\"False\",\"T\",\"EveryTick\")","v":163.52000000000001},3.6211870128276154E-3,null,null,null,""]
[40,"11:50:00",-37,{"$f":" RTD(\"cqg.rtd\",,\"StudyData\", $D$12,  \"Tick\", \"FlatTicks=0\", \"Tick\",\"D\",C41,\"PrimaryOnly\")","v":165.87},null,"RTY",null,{"$f":"RTD(\"cqg.rtd\",,\"StudyData\", \"Close(\"&$D$12&\") when LocalYear(\"&$D$12&\")=\"&$D$1&\" and localMonth(\"&$D$12&\") =\"&$E$1&\" and LocalDay(\"&$D$12&\")=\"&$F$1&\" and Barix(\"&$D$12&\",reference:=StartOfSession)=\"&A41&\"\", \"Bar\", \"\", \"Close\",\"5\",\"0\",\"PrimaryOnly\",,,\"False\",\"T\",\"EveryTick\")","v":""},{"$error":"#N/A"},{"$f":"RTD(\"cqg.rtd\",,\"StudyData\", \"Close(\"&$D$12&\") when LocalYear(\"&$D$12&\")=\"&$D$2&\" and localMonth(\"&$D$12&\") =\"&$E$2&\" and LocalDay(\"&$D$12&\")=\"&$F$2&\" and Barix(\"&$D$12&\",reference:=StartOfSession)=\"&A41&\"\", \"Bar\", \"\", \"Close\",\"5\",\"0\",\"PrimaryOnly\",,,\"False\",\"T\",\"EveryTick\")","v":165.56},-6.0635168397670108E-3,{"$f":"RTD(\"cqg.rtd\",,\"StudyData\", \"Close(\"&$D$12&\") when LocalYear(\"&$D$12&\")=\"&$D$3&\" and localMonth(\"&$D$12&\") =\"&$E$3&\" and LocalDay(\"&$D$12&\")=\"&$F$3&\" and Barix(\"&$D$12&\",reference:=StartOfSession)=\"&A41&\"\", \"Bar\", \"\", \"Close\",\"5\",\"0\",\"PrimaryOnly\",,,\"False\",\"T\",\"EveryTick\")","v":166.8},8.0377107632804284E-3,{"$f":"RTD(\"cqg.rtd\",,\"StudyData\", \"Close(\"&$D$12&\") when LocalYear(\"&$D$12&\")=\"&$D$4&\" and localMonth(\"&$D$12&\") =\"&$E$4&\" and LocalDay(\"&$D$12&\")=\"&$F$4&\" and Barix(\"&$D$12&\",reference:=StartOfSession)=\"&A41&\"\", \"Bar\", \"\", \"Close\",\"5\",\"0\",\"PrimaryOnly\",,,\"False\",\"T\",\"EveryTick\")","v":166.32},4.8332527791202446E-3,{"$f":"RTD(\"cqg.rtd\",,\"StudyData\", \"Close(\"&$D$12&\") when LocalYear(\"&$D$12&\")=\"&$D$5&\" and localMonth(\"&$D$12&\") =\"&$E$5&\" and LocalDay(\"&$D$12&\")=\"&$F$5&\" and Barix(\"&$D$12&\",reference:=StartOfSession)=\"&A41&\"\", \"Bar\", \"\", \"Close\",\"5\",\"0\",\"PrimaryOnly\",,,\"False\",\"T\",\"EveryTick\")","v":165.25},4.7425062321396066E-3,{"$f":"RTD(\"cqg.rtd\",,\"StudyData\", \"Close(\"&$D$12&\") when LocalYear(\"&$D$12&\")=\"&$D$6&\" and localMonth(\"&$D$12&\") =\"&$E$6&\" and LocalDay(\"&$D$12&\")=\"&$F$6&\" and Barix(\"&$D$12&\",reference:=StartOfSession)=\"&A41&\"\", \"Bar\", \"\", \"Close\",\"5\",\"0\",\"PrimaryOnly\",,,\"False\",\"T\",\"EveryTick\")","v":164.69},2.3737066342056383E-3,{"$f":"RTD(\"cqg.rtd\",,\"StudyData\", \"Close(\"&$D$12&\") when LocalYear(\"&$D$12&\")=\"&$D$7&\" and localMonth(\"&$D$12&\") =\"&$E$7&\" and LocalDay(\"&$D$12&\")=\"&$F$7&\" and Barix(\"&$D$12&\",reference:=StartOfSession)=\"&A41&\"\", \"Bar\", \"\", \"Close\",\"5\",\"0\",\"PrimaryOnly\",,,\"False\",\"T\",\"EveryTick\")","v":163.97},6.7130477236656421E-4,{"$f":"RTD(\"cqg.rtd\",,\"StudyData\", \"Close(\"&$D$12&\") when LocalYear(\"&$D$12&\")=\"&$D$8&\" and localMonth(\"&$D$12&\") =\"&$E$8&\" and LocalDay(\"&$D$12&\")=\"&$F$8&\" and Barix(\"&$D$12&\",reference:=StartOfSession)=\"&A41&\"\", \"Bar\", \"\", \"Close\",\"5\",\"0\",\"PrimaryOnly\",,,\"False\",\"T\",\"EveryTick\")","v":163.32},-1.3529838125151057E-2,{"$f":"RTD(\"cqg.rtd\",,\"StudyData\", \"Close(\"&$D$12&\") when LocalYear(\"&$D$12&\")=\"&$D$9&\" and localMonth(\"&$D$12&\") =\"&$E$9&\" and LocalDay(\"&$D$12&\")=\"&$F$9&\" and Barix(\"&$D$12&\",reference:=StartOfSession)=\"&A41&\"\", \"Bar\", \"\", \"Close\",\"5\",\"0\",\"PrimaryOnly\",,,\"False\",\"T\",\"EveryTick\")","v":164.73},2.9834388699463022E-3,{"$f":"RTD(\"cqg.rtd\",,\"StudyData\", \"Close(\"&$D$12&\") when LocalYear(\"&$D$12&\")=\"&$D$10&\" and localMonth(\"&$D$12&\") =\"&$E$10&\" and LocalDay(\"&$D$12&\")=\"&$F$10&\" and Barix(\"&$D$12&\",reference:=StartOfSession)=\"&A41&\"\", \"Bar\", \"\", \"Close\",\"5\",\"0\",\"PrimaryOnly\",,,\"False\",\"T\",\"EveryTick\")","v":163.58000000000001},3.9894433192168765E-3,null,null,null,""]
[41,"11:55:00",-36,{"$f":" RTD(\"cqg.rtd\",,\"StudyData\", $D$12,  \"Tick\", \"FlatTicks=0\", \"Tick\",\"D\",C42,\"PrimaryOnly\")","v":165.86},null,"EMD",null,{"$f":"RTD(\"cqg.rtd\",,\"StudyData\", \"Close(\"&$D$12&\") when LocalYear(\"&$D$12&\")=\"&$D$1&\" and localMonth(\"&$D$12&\") =\"&$E$1&\" and LocalDay(\"&$D$12&\")=\"&$F$1&\" and Barix(\"&$D$12&\",reference:=StartOfSession)=\"&A42&\"\", \"Bar\", \"\", \"Close\",\"5\",\"0\",\"PrimaryOnly\",,,\"False\",\"T\",\"EveryTick\")","v":""},{"$error":"#N/A"},{"$f":"RTD(\"cqg.rtd\",,\"StudyData\", \"Close(\"&$D$12&\") when LocalYear(\"&$D$12&\")=\"&$D$2&\" and localMonth(\"&$D$12&\") =\"&$E$2&\" and LocalDay(\"&$D$12&\")=\"&$F$2&\" and Barix(\"&$D$12&\",reference:=StartOfSession)=\"&A42&\"\", \"Bar\", \"\", \"Close\",\"5\",\"0\",\"PrimaryOnly\",,,\"False\",\"T\",\"EveryTick\")","v":165.56},-6.0635168397670108E-3,{"$f":"RTD(\"cqg.rtd\",,\"StudyData\", \"Close(\"&$D$12&\") when LocalYear(\"&$D$12&\")=\"&$D$3&\" and localMonth(\"&$D$12&\") =\"&$E$3&\" and LocalDay(\"&$D$12&\")=\"&$F$3&\" and Barix(\"&$D$12&\",reference:=StartOfSession)=\"&A42&\"\", \"Bar\", \"\", \"Close\",\"5\",\"0\",\"PrimaryOnly\",,,\"False\",\"T\",\"EveryTick\")","v":166.8},8.0377107632804284E-3,{"$f":"RTD(\"cqg.rtd\",,\"StudyData\", \"Close(\"&$D$12&\") when LocalYear(\"&$D$12&\")=\"&$D$4&\" and localMonth(\"&$D$12&\") =\"&$E$4&\" and LocalDay(\"&$D$12&\")=\"&$F$4&\" and Barix(\"&$D$12&\",reference:=StartOfSession)=\"&A42&\"\", \"Bar\", \"\", \"Close\",\"5\",\"0\",\"PrimaryOnly\",,,\"False\",\"T\",\"EveryTick\")","v":166.3},4.7124214596423455E-3,{"$f":"RTD(\"cqg.rtd\",,\"StudyData\", \"Close(\"&$D$12&\") when LocalYear(\"&$D$12&\")=\"&$D$5&\" and localMonth(\"&$D$12&\") =\"&$E$5&\" and LocalDay(\"&$D$12&\")=\"&$F$5&\" and Barix(\"&$D$12&\",reference:=StartOfSession)=\"&A42&\"\", \"Bar\", \"\", \"Close\",\"5\",\"0\",\"PrimaryOnly\",,,\"False\",\"T\",\"EveryTick\")","v":165.35},5.3505198516446495E-3,{"$f":"RTD(\"cqg.rtd\",,\"StudyData\", \"Close(\"&$D$12&\") when LocalYear(\"&$D$12&\")=\"&$D$6&\" and localMonth(\"&$D$12&\") =\"&$E$6&\" and LocalDay(\"&$D$12&\")=\"&$F$6&\" and Barix(\"&$D$12&\",reference:=StartOfSession)=\"&A42&\"\", \"Bar\", \"\", \"Close\",\"5\",\"0\",\"PrimaryOnly\",,,\"False\",\"T\",\"EveryTick\")","v":164.71},2.4954351795495834E-3,{"$f":"RTD(\"cqg.rtd\",,\"StudyData\", \"Close(\"&$D$12&\") when LocalYear(\"&$D$12&\")=\"&$D$7&\" and localMonth(\"&$D$12&\") =\"&$E$7&\" and LocalDay(\"&$D$12&\")=\"&$F$7&\" and Barix(\"&$D$12&\",reference:=StartOfSession)=\"&A42&\"\", \"Bar\", \"\", \"Close\",\"5\",\"0\",\"PrimaryOnly\",,,\"False\",\"T\",\"EveryTick\")","v":164.06},1.2205541315756659E-3,{"$f":"RTD(\"cqg.rtd\",,\"StudyData\", \"Close(\"&$D$12&\") when LocalYear(\"&$D$12&\")=\"&$D$8&\" and localMonth(\"&$D$12&\") =\"&$E$8&\" and LocalDay(\"&$D$12&\")=\"&$F$8&\" and Barix(\"&$D$12&\",reference:=StartOfSession)=\"&A42&\"\", \"Bar\", \"\", \"Close\",\"5\",\"0\",\"PrimaryOnly\",,,\"False\",\"T\",\"EveryTick\")","v":163.13},-1.4677458323266531E-2,{"$f":"RTD(\"cqg.rtd\",,\"StudyData\", \"Close(\"&$D$12&\") when LocalYear(\"&$D$12&\")=\"&$D$9&\" and localMonth(\"&$D$12&\") =\"&$E$9&\" and LocalDay(\"&$D$12&\")=\"&$F$9&\" and Barix(\"&$D$12&\",reference:=StartOfSession)=\"&A42&\"\", \"Bar\", \"\", \"Close\",\"5\",\"0\",\"PrimaryOnly\",,,\"False\",\"T\",\"EveryTick\")","v":164.73},2.9834388699463022E-3,{"$f":"RTD(\"cqg.rtd\",,\"StudyData\", \"Close(\"&$D$12&\") when LocalYear(\"&$D$12&\")=\"&$D$10&\" and localMonth(\"&$D$12&\") =\"&$E$10&\" and LocalDay(\"&$D$12&\")=\"&$F$10&\" and Barix(\"&$D$12&\",reference:=StartOfSession)=\"&A42&\"\", \"Bar\", \"\", \"Close\",\"5\",\"0\",\"PrimaryOnly\",,,\"False\",\"T\",\"EveryTick\")","v":163.58000000000001},3.9894433192168765E-3,null,null,null,""]
[42,"12:00:00",-35,{"$f":" RTD(\"cqg.rtd\",,\"StudyData\", $D$12,  \"Tick\", \"FlatTicks=0\", \"Tick\",\"D\",C43,\"PrimaryOnly\")","v":165.85},null,"FTS",null,{"$f":"RTD(\"cqg.rtd\",,\"StudyData\", \"Close(\"&$D$12&\") when LocalYear(\"&$D$12&\")=\"&$D$1&\" and localMonth(\"&$D$12&\") =\"&$E$1&\" and LocalDay(\"&$D$12&\")=\"&$F$1&\" and Barix(\"&$D$12&\",reference:=StartOfSession)=\"&A43&\"\", \"Bar\", \"\", \"Close\",\"5\",\"0\",\"PrimaryOnly\",,,\"False\",\"T\",\"EveryTick\")","v":""},{"$error":"#N/A"},{"$f":"RTD(\"cqg.rtd\",,\"StudyData\", \"Close(\"&$D$12&\") when LocalYear(\"&$D$12&\")=\"&$D$2&\" and localMonth(\"&$D$12&\") =\"&$E$2&\" and LocalDay(\"&$D$12&\")=\"&$F$2&\" and Barix(\"&$D$12&\",reference:=StartOfSession)=\"&A43&\"\", \"Bar\", \"\", \"Close\",\"5\",\"0\",\"PrimaryOnly\",,,\"False\",\"T\",\"EveryTick\")","v":165.56},-6.0635168397670108E-3,{"$f":"RTD(\"cqg.rtd\",,\"StudyData\", \"Close(\"&$D$12&\") when LocalYear(\"&$D$12&\")=\"&$D$3&\" and localMonth(\"&$D$12&\") =\"&$E$3&\" and LocalDay(\"&$D$12&\")=\"&$F$3&\" and Barix(\"&$D$12&\",reference:=StartOfSession)=\"&A43&\"\", \"Bar\", \"\", \"Close\",\"5\",\"0\",\"PrimaryOnly\",,,\"False\",\"T\",\"EveryTick\")","v":166.8},8.0377107632804284E-3,{"$f":"RTD(\"cqg.rtd\",,\"StudyData\", \"Close(\"&$D$12&\") when LocalYear(\"&$D$12&\")=\"&$D$4&\" and localMonth(\"&$D$12&\") =\"&$E$4&\" and LocalDay(\"&$D$12&\")=\"&$F$4&\" and Barix(\"&$D$12&\",reference:=StartOfSession)=\"&A43&\"\", \"Bar\", \"\", \"Close\",\"5\",\"0\",\"PrimaryOnly\",,,\"False\",\"T\",\"EveryTick\")","v":166.19},4.0478492025132155E-3,{"$f":"RTD(\"cqg.rtd\",,\"StudyData\", \"Close(\"&$D$12&\") when LocalYear(\"&$D$12&\")=\"&$D$5&\" and localMonth(\"&$D$12&\") =\"&$E$5&\" and LocalDay(\"&$D$12&\")=\"&$F$5&\" and Barix(\"&$D$12&\",reference:=StartOfSession)=\"&A43&\"\", \"Bar\", \"\", \"Close\",\"5\",\"0\",\"PrimaryOnly\",,,\"False\",\"T\",\"EveryTick\")","v":165.38},5.5329239374961791E-3,{"$f":"RTD(\"cqg.rtd\",,\"StudyData\", \"Close(\"&$D$12&\") when LocalYear(\"&$D$12&\")=\"&$D$6&\" and localMonth(\"&$D$12&\") =\"&$E$6&\" and LocalDay(\"&$D$12&\")=\"&$F$6&\" and Barix(\"&$D$12&\",reference:=StartOfSession)=\"&A43&\"\", \"Bar\", \"\", \"Close\",\"5\",\"0\",\"PrimaryOnly\",,,\"False\",\"T\",\"EveryTick\")","v":164.63},2.0085209981739746E-3,{"$f":"RTD(\"cqg.rtd\",,\"StudyData\", \"Close(\"&$D$12&\") when LocalYear(\"&$D$12&\")=\"&$D$7&\" and localMonth(\"&$D$12&\") =\"&$E$7&\" and LocalDay(\"&$D$12&\")=\"&$F$7&\" and Barix(\"&$D$12&\",reference:=StartOfSession)=\"&A43&\"\", \"Bar\", \"\", \"Close\",\"5\",\"0\",\"PrimaryOnly\",,,\"False\",\"T\",\"EveryTick\")","v":164.06},1.2205541315756659E-3,{"$f":"RTD(\"cqg.rtd\",,\"StudyData\", \"Close(\"&$D$12&\") when LocalYear(\"&$D$12&\")=\"&$D$8&\" and localMonth(\"&$D$12&\") =\"&$E$8&\" and LocalDay(\"&$D$12&\")=\"&$F$8&\" and Barix(\"&$D$12&\",reference:=StartOfSession)=\"&A43&\"\", \"Bar\", \"\", \"Close\",\"5\",\"0\",\"PrimaryOnly\",,,\"False\",\"T\",\"EveryTick\")","v":163.25},-1.3952645566561984E-2,{"$f":"RTD(\"cqg.rtd\",,\"StudyData\", \"Close(\"&$D$12&\") when LocalYear(\"&$D$12&\")=\"&$D$9&\" and localMonth(\"&$D$12&\") =\"&$E$9&\" and LocalDay(\"&$D$12&\")=\"&$F$9&\" and Barix(\"&$D$12&\",reference:=StartOfSession)=\"&A43&\"\", \"Bar\", \"\", \"Close\",\"5\",\"0\",\"PrimaryOnly\",,,\"False\",\"T\",\"EveryTick\")","v":164.83},3.5923039454457098E-3,{"$f":"RTD(\"cqg.rtd\",,\"StudyData\", \"Close(\"&$D$12&\") when LocalYear(\"&$D$12&\")=\"&$D$10&\" and localMonth(\"&$D$12&\") =\"&$E$10&\" and LocalDay(\"&$D$12&\")=\"&$F$10&\" and Barix(\"&$D$12&\",reference:=StartOfSession)=\"&A43&\"\", \"Bar\", \"\", \"Close\",\"5\",\"0\",\"PrimaryOnly\",,,\"False\",\"T\",\"EveryTick\")","v":163.58000000000001},3.9894433192168765E-3,null,null,null,""]
[43,"12:05:00",-34,{"$f":" RTD(\"cqg.rtd\",,\"StudyData\", $D$12,  \"Tick\", \"FlatTicks=0\", \"Tick\",\"D\",C44,\"PrimaryOnly\")","v":165.87},null,"BTC",null,{"$f":"RTD(\"cqg.rtd\",,\"StudyData\", \"Close(\"&$D$12&\") when LocalYear(\"&$D$12&\")=\"&$D$1&\" and localMonth(\"&$D$12&\") =\"&$E$1&\" and LocalDay(\"&$D$12&\")=\"&$F$1&\" and Barix(\"&$D$12&\",reference:=StartOfSession)=\"&A44&\"\", \"Bar\", \"\", \"Close\",\"5\",\"0\",\"PrimaryOnly\",,,\"False\",\"T\",\"EveryTick\")","v":""},{"$error":"#N/A"},{"$f":"RTD(\"cqg.rtd\",,\"StudyData\", \"Close(\"&$D$12&\") when LocalYear(\"&$D$12&\")=\"&$D$2&\" and localMonth(\"&$D$12&\") =\"&$E$2&\" and LocalDay(\"&$D$12&\")=\"&$F$2&\" and Barix(\"&$D$12&\",reference:=StartOfSession)=\"&A44&\"\", \"Bar\", \"\", \"Close\",\"5\",\"0\",\"PrimaryOnly\",,,\"False\",\"T\",\"EveryTick\")","v":165.56},-6.0635168397670108E-3,{"$f":"RTD(\"cqg.rtd\",,\"StudyData\", \"Close(\"&$D$12&\") when LocalYear(\"&$D$12&\")=\"&$D$3&\" and localMonth(\"&$D$12&\") =\"&$E$3&\" and LocalDay(\"&$D$12&\")=\"&$F$3&\" and Barix(\"&$D$12&\",reference:=StartOfSession)=\"&A44&\"\", \"Bar\", \"\", \"Close\",\"5\",\"0\",\"PrimaryOnly\",,,\"False\",\"T\",\"EveryTick\")","v":166.8},8.0377107632804284E-3,{"$f":"RTD(\"cqg.rtd\",,\"StudyData\", \"Close(\"&$D$12&\") when LocalYear(\"&$D$12&\")=\"&$D$4&\" and localMonth(\"&$D$12&\") =\"&$E$4&\" and LocalDay(\"&$D$12&\")=\"&$F$4&\" and Barix(\"&$D$12&\",reference:=StartOfSession)=\"&A44&\"\", \"Bar\", \"\", \"Close\",\"5\",\"0\",\"PrimaryOnly\",,,\"False\",\"T\",\"EveryTick\")","v":166.3},4.7124214596423455E-3,{"$f":"RTD(\"cqg.rtd\",,\"StudyData\", \"Close(\"&$D$12&\") when LocalYear(\"&$D$12&\")=\"&$D$5&\" and localMonth(\"&$D$12&\") =\"&$E$5&\" and LocalDay(\"&$D$12&\")=\"&$F$5&\" and Barix(\"&$D$12&\",reference:=StartOfSession)=\"&A44&\"\", \"Bar\", \"\", \"Close\",\"5\",\"0\",\"PrimaryOnly\",,,\"False\",\"T\",\"EveryTick\")","v":165.51},6.3233416428527516E-3,{"$f":"RTD(\"cqg.rtd\",,\"StudyData\", \"Close(\"&$D$12&\") when LocalYear(\"&$D$12&\")=\"&$D$6&\" and localMonth(\"&$D$12&\") =\"&$E$6&\" and LocalDay(\"&$D$12&\")=\"&$F$6&\" and Barix(\"&$D$12&\",reference:=StartOfSession)=\"&A44&\"\", \"Bar\", \"\", \"Close\",\"5\",\"0\",\"PrimaryOnly\",,,\"False\",\"T\",\"EveryTick\")","v":164.63},2.0085209981739746E-3,{"$f":"RTD(\"cqg.rtd\",,\"StudyData\", \"Close(\"&$D$12&\") when LocalYear(\"&$D$12&\")=\"&$D$7&\" and localMonth(\"&$D$12&\") =\"&$E$7&\" and LocalDay(\"&$D$12&\")=\"&$F$7&\" and Barix(\"&$D$12&\",reference:=StartOfSession)=\"&A44&\"\", \"Bar\", \"\", \"Close\",\"5\",\"0\",\"PrimaryOnly\",,,\"False\",\"T\",\"EveryTick\")","v":164.06},1.2205541315756659E-3,{"$f":"RTD(\"cqg.rtd\",,\"StudyData\", \"Close(\"&$D$12&\") when LocalYear(\"&$D$12&\")=\"&$D$8&\" and localMonth(\"&$D$12&\") =\"&$E$8&\" and LocalDay(\"&$D$12&\")=\"&$F$8&\" and Barix(\"&$D$12&\",reference:=StartOfSession)=\"&A44&\"\", \"Bar\", \"\", \"Close\",\"5\",\"0\",\"PrimaryOnly\",,,\"False\",\"T\",\"EveryTick\")","v":163.25},-1.3952645566561984E-2,{"$f":"RTD(\"cqg.rtd\",,\"StudyData\", \"Close(\"&$D$12&\") when LocalYear(\"&$D$12&\")=\"&$D$9&\" and localMonth(\"&$D$12&\") =\"&$E$9&\" and LocalDay(\"&$D$12&\")=\"&$F$9&\" and Barix(\"&$D$12&\",reference:=StartOfSession)=\"&A44&\"\", \"Bar\", \"\", \"Close\",\"5\",\"0\",\"PrimaryOnly\",,,\"False\",\"T\",\"EveryTick\")","v":164.79},3.3487579152458773E-3,{"$f":"RTD(\"cqg.rtd\",,\"StudyData\", \"Close(\"&$D$12&\") when LocalYear(\"&$D$12&\")=\"&$D$10&\" and localMonth(\"&$D$12&\") =\"&$E$10&\" and LocalDay(\"&$D$12&\")=\"&$F$10&\" and Barix(\"&$D$12&\",reference:=StartOfSession)=\"&A44&\"\", \"Bar\", \"\", \"Close\",\"5\",\"0\",\"PrimaryOnly\",,,\"False\",\"T\",\"EveryTick\")","v":163.69999999999999},4.7259559319952236E-3,null,null,null,""]
[44,"12:10:00",-33,{"$f":" RTD(\"cqg.rtd\",,\"StudyData\", $D$12,  \"Tick\", \"FlatTicks=0\", \"Tick\",\"D\",C45,\"PrimaryOnly\")","v":165.9},null,null,null,{"$f":"RTD(\"cqg.rtd\",,\"StudyData\", \"Close(\"&$D$12&\") when LocalYear(\"&$D$12&\")=\"&$D$1&\" and localMonth(\"&$D$12&\") =\"&$E$1&\" and LocalDay(\"&$D$12&\")=\"&$F$1&\" and Barix(\"&$D$12&\",reference:=StartOfSession)=\"&A45&\"\", \"Bar\", \"\", \"Close\",\"5\",\"0\",\"PrimaryOnly\",,,\"False\",\"T\",\"EveryTick\")","v":""},{"$error":"#N/A"},{"$f":"RTD(\"cqg.rtd\",,\"StudyData\", \"Close(\"&$D$12&\") when LocalYear(\"&$D$12&\")=\"&$D$2&\" and localMonth(\"&$D$12&\") =\"&$E$2&\" and LocalDay(\"&$D$12&\")=\"&$F$2&\" and Barix(\"&$D$12&\",reference:=StartOfSession)=\"&A45&\"\", \"Bar\", \"\", \"Close\",\"5\",\"0\",\"PrimaryOnly\",,,\"False\",\"T\",\"EveryTick\")","v":165.56},-6.0635168397670108E-3,{"$f":"RTD(\"cqg.rtd\",,\"StudyData\", \"Close(\"&$D$12&\") when LocalYear(\"&$D$12&\")=\"&$D$3&\" and localMonth(\"&$D$12&\") =\"&$E$3&\" and LocalDay(\"&$D$12&\")=\"&$F$3&\" and Barix(\"&$D$12&\",reference:=StartOfSession)=\"&A45&\"\", \"Bar\", \"\", \"Close\",\"5\",\"0\",\"PrimaryOnly\",,,\"False\",\"T\",\"EveryTick\")","v":166.83},8.2190125098205932E-3,{"$f":"RTD(\"cqg.rtd\",,\"StudyData\", \"Close(\"&$D$12&\") when LocalYear(\"&$D$12&\")=\"&$D$4&\" and localMonth(\"&$D$12&\") =\"&$E$4&\" and LocalDay(\"&$D$12&\")=\"&$F$4&\" and Barix(\"&$D$12&\",reference:=StartOfSession)=\"&A45&\"\", \"Bar\", \"\", \"Close\",\"5\",\"0\",\"PrimaryOnly\",,,\"False\",\"T\",\"EveryTick\")","v":166.19},4.0478492025132155E-3,{"$f":"RTD(\"cqg.rtd\",,\"StudyData\", \"Close(\"&$D$12&\") when LocalYear(\"&$D$12&\")=\"&$D$5&\" and localMonth(\"&$D$12&\") =\"&$E$5&\" and LocalDay(\"&$D$12&\")=\"&$F$5&\" and Barix(\"&$D$12&\",reference:=StartOfSession)=\"&A45&\"\", \"Bar\", \"\", \"Close\",\"5\",\"0\",\"PrimaryOnly\",,,\"False\",\"T\",\"EveryTick\")","v":165.51},6.3233416428527516E-3,{"$f":"RTD(\"cqg.rtd\",,\"StudyData\", \"Close(\"&$D$12&\") when LocalYear(\"&$D$12&\")=\"&$D$6&\" and localMonth(\"&$D$12&\") =\"&$E$6&\" and LocalDay(\"&$D$12&\")=\"&$F$6&\" and Barix(\"&$D$12&\",reference:=StartOfSession)=\"&A45&\"\", \"Bar\", \"\", \"Close\",\"5\",\"0\",\"PrimaryOnly\",,,\"False\",\"T\",\"EveryTick\")","v":164.65},2.1302495435179202E-3,{"$f":"RTD(\"cqg.rtd\",,\"StudyData\", \"Close(\"&$D$12&\") when LocalYear(\"&$D$12&\")=\"&$D$7&\" and localMonth(\"&$D$12&\") =\"&$E$7&\" and LocalDay(\"&$D$12&\")=\"&$F$7&\" and Barix(\"&$D$12&\",reference:=StartOfSession)=\"&A45&\"\", \"Bar\", \"\", \"Close\",\"5\",\"0\",\"PrimaryOnly\",,,\"False\",\"T\",\"EveryTick\")","v":164.07},1.2815818381543972E-3,{"$f":"RTD(\"cqg.rtd\",,\"StudyData\", \"Close(\"&$D$12&\") when LocalYear(\"&$D$12&\")=\"&$D$8&\" and localMonth(\"&$D$12&\") =\"&$E$8&\" and LocalDay(\"&$D$12&\")=\"&$F$8&\" and Barix(\"&$D$12&\",reference:=StartOfSession)=\"&A45&\"\", \"Bar\", \"\", \"Close\",\"5\",\"0\",\"PrimaryOnly\",,,\"False\",\"T\",\"EveryTick\")","v":163.28},-1.3771442377385848E-2,{"$f":"RTD(\"cqg.rtd\",,\"StudyData\", \"Close(\"&$D$12&\") when LocalYear(\"&$D$12&\")=\"&$D$9&\" and localMonth(\"&$D$12&\") =\"&$E$9&\" and LocalDay(\"&$D$12&\")=\"&$F$9&\" and Barix(\"&$D$12&\",reference:=StartOfSession)=\"&A45&\"\", \"Bar\", \"\", \"Close\",\"5\",\"0\",\"PrimaryOnly\",,,\"False\",\"T\",\"EveryTick\")","v":164.72},2.9225523623964303E-3,{"$f":"RTD(\"cqg.rtd\",,\"StudyData\", \"Close(\"&$D$12&\") when LocalYear(\"&$D$12&\")=\"&$D$10&\" and localMonth(\"&$D$12&\") =\"&$E$10&\" and LocalDay(\"&$D$12&\")=\"&$F$10&\" and Barix(\"&$D$12&\",reference:=StartOfSession)=\"&A45&\"\", \"Bar\", \"\", \"Close\",\"5\",\"0\",\"PrimaryOnly\",,,\"False\",\"T\",\"EveryTick\")","v":163.69999999999999},4.7259559319952236E-3,null,null,null,""]
[45,"12:15:00",-32,{"$f":" RTD(\"cqg.rtd\",,\"StudyData\", $D$12,  \"Tick\", \"FlatTicks=0\", \"Tick\",\"D\",C46,\"PrimaryOnly\")","v":165.91},null,null,null,{"$f":"RTD(\"cqg.rtd\",,\"StudyData\", \"Close(\"&$D$12&\") when LocalYear(\"&$D$12&\")=\"&$D$1&\" and localMonth(\"&$D$12&\") =\"&$E$1&\" and LocalDay(\"&$D$12&\")=\"&$F$1&\" and Barix(\"&$D$12&\",reference:=StartOfSession)=\"&A46&\"\", \"Bar\", \"\", \"Close\",\"5\",\"0\",\"PrimaryOnly\",,,\"False\",\"T\",\"EveryTick\")","v":""},{"$error":"#N/A"},{"$f":"RTD(\"cqg.rtd\",,\"StudyData\", \"Close(\"&$D$12&\") when LocalYear(\"&$D$12&\")=\"&$D$2&\" and localMonth(\"&$D$12&\") =\"&$E$2&\" and LocalDay(\"&$D$12&\")=\"&$F$2&\" and Barix(\"&$D$12&\",reference:=StartOfSession)=\"&A46&\"\", \"Bar\", \"\", \"Close\",\"5\",\"0\",\"PrimaryOnly\",,,\"False\",\"T\",\"EveryTick\")","v":165.56},-6.0635168397670108E-3,{"$f":"RTD(\"cqg.rtd\",,\"StudyData\", \"Close(\"&$D$12&\") when LocalYear(\"&$D$12&\")=\"&$D$3&\" and localMonth(\"&$D$12&\") =\"&$E$3&\" and LocalDay(\"&$D$12&\")=\"&$F$3&\" and Barix(\"&$D$12&\",reference:=StartOfSession)=\"&A46&\"\", \"Bar\", \"\", \"Close\",\"5\",\"0\",\"PrimaryOnly\",,,\"False\",\"T\",\"EveryTick\")","v":166.83},8.2190125098205932E-3,{"$f":"RTD(\"cqg.rtd\",,\"StudyData\", \"Close(\"&$D$12&\") when LocalYear(\"&$D$12&\")=\"&$D$4&\" and localMonth(\"&$D$12&\") =\"&$E$4&\" and LocalDay(\"&$D$12&\")=\"&$F$4&\" and Barix(\"&$D$12&\",reference:=StartOfSession)=\"&A46&\"\", \"Bar\", \"\", \"Close\",\"5\",\"0\",\"PrimaryOnly\",,,\"False\",\"T\",\"EveryTick\")","v":166.22},4.2290961817302358E-3,{"$f":"RTD(\"cqg.rtd\",,\"StudyData\", \"Close(\"&$D$12&\") when LocalYear(\"&$D$12&\")=\"&$D$5&\" and localMonth(\"&$D$12&\") =\"&$E$5&\" and LocalDay(\"&$D$12&\")=\"&$F$5&\" and Barix(\"&$D$12&\",reference:=StartOfSession)=\"&A46&\"\", \"Bar\", \"\", \"Close\",\"5\",\"0\",\"PrimaryOnly\",,,\"False\",\"T\",\"EveryTick\")","v":165.48},6.1409375570012211E-3,{"$f":"RTD(\"cqg.rtd\",,\"StudyData\", \"Close(\"&$D$12&\") when LocalYear(\"&$D$12&\")=\"&$D$6&\" and localMonth(\"&$D$12&\") =\"&$E$6&\" and LocalDay(\"&$D$12&\")=\"&$F$6&\" and Barix(\"&$D$12&\",reference:=StartOfSession)=\"&A46&\"\", \"Bar\", \"\", \"Close\",\"5\",\"0\",\"PrimaryOnly\",,,\"False\",\"T\",\"EveryTick\")","v":164.65},2.1302495435179202E-3,{"$f":"RTD(\"cqg.rtd\",,\"StudyData\", \"Close(\"&$D$12&\") when LocalYear(\"&$D$12&\")=\"&$D$7&\" and localMonth(\"&$D$12&\") =\"&$E$7&\" and LocalDay(\"&$D$12&\")=\"&$F$7&\" and Barix(\"&$D$12&\",reference:=StartOfSession)=\"&A46&\"\", \"Bar\", \"\", \"Close\",\"5\",\"0\",\"PrimaryOnly\",,,\"False\",\"T\",\"EveryTick\")","v":164.05},1.1595264249969347E-3,{"$f":"RTD(\"cqg.rtd\",,\"StudyData\", \"Close(\"&$D$12&\") when LocalYear(\"&$D$12&\")=\"&$D$8&\" and localMonth(\"&$D$12&\") =\"&$E$8&\" and LocalDay(\"&$D$12&\")=\"&$F$8&\" and Barix(\"&$D$12&\",reference:=StartOfSession)=\"&A46&\"\", \"Bar\", \"\", \"Close\",\"5\",\"0\",\"PrimaryOnly\",,,\"False\",\"T\",\"EveryTick\")","v":162.94999999999999},-1.5764677458323349E-2,{"$f":"RTD(\"cqg.rtd\",,\"StudyData\", \"Close(\"&$D$12&\") when LocalYear(\"&$D$12&\")=\"&$D$9&\" and localMonth(\"&$D$12&\") =\"&$E$9&\" and LocalDay(\"&$D$12&\")=\"&$F$9&\" and Barix(\"&$D$12&\",reference:=StartOfSession)=\"&A46&\"\", \"Bar\", \"\", \"Close\",\"5\",\"0\",\"PrimaryOnly\",,,\"False\",\"T\",\"EveryTick\")","v":164.72},2.9225523623964303E-3,{"$f":"RTD(\"cqg.rtd\",,\"StudyData\", \"Close(\"&$D$12&\") when LocalYear(\"&$D$12&\")=\"&$D$10&\" and localMonth(\"&$D$12&\") =\"&$E$10&\" and LocalDay(\"&$D$12&\")=\"&$F$10&\" and Barix(\"&$D$12&\",reference:=StartOfSession)=\"&A46&\"\", \"Bar\", \"\", \"Close\",\"5\",\"0\",\"PrimaryOnly\",,,\"False\",\"T\",\"EveryTick\")","v":163.69999999999999},4.7259559319952236E-3,null,null,null,""]
[46,"12:20:00",-31,{"$f":" RTD(\"cqg.rtd\",,\"StudyData\", $D$12,  \"Tick\", \"FlatTicks=0\", \"Tick\",\"D\",C47,\"PrimaryOnly\")","v":165.88},null,null,null,{"$f":"RTD(\"cqg.rtd\",,\"StudyData\", \"Close(\"&$D$12&\") when LocalYear(\"&$D$12&\")=\"&$D$1&\" and localMonth(\"&$D$12&\") =\"&$E$1&\" and LocalDay(\"&$D$12&\")=\"&$F$1&\" and Barix(\"&$D$12&\",reference:=StartOfSession)=\"&A47&\"\", \"Bar\", \"\", \"Close\",\"5\",\"0\",\"PrimaryOnly\",,,\"False\",\"T\",\"EveryTick\")","v":""},{"$error":"#N/A"},{"$f":"RTD(\"cqg.rtd\",,\"StudyData\", \"Close(\"&$D$12&\") when LocalYear(\"&$D$12&\")=\"&$D$2&\" and localMonth(\"&$D$12&\") =\"&$E$2&\" and LocalDay(\"&$D$12&\")=\"&$F$2&\" and Barix(\"&$D$12&\",reference:=StartOfSession)=\"&A47&\"\", \"Bar\", \"\", \"Close\",\"5\",\"0\",\"PrimaryOnly\",,,\"False\",\"T\",\"EveryTick\")","v":165.75},-4.9228552560484674E-3,{"$f":"RTD(\"cqg.rtd\",,\"StudyData\", \"Close(\"&$D$12&\") when LocalYear(\"&$D$12&\")=\"&$D$3&\" and localMonth(\"&$D$12&\") =\"&$E$3&\" and LocalDay(\"&$D$12&\")=\"&$F$3&\" and Barix(\"&$D$12&\",reference:=StartOfSession)=\"&A47&\"\", \"Bar\", \"\", \"Close\",\"5\",\"0\",\"PrimaryOnly\",,,\"False\",\"T\",\"EveryTick\")","v":166.82},8.1585785943070911E-3,{"$f":"RTD(\"cqg.rtd\",,\"StudyData\", \"Close(\"&$D$12&\") when LocalYear(\"&$D$12&\")=\"&$D$4&\" and localMonth(\"&$D$12&\") =\"&$E$4&\" and LocalDay(\"&$D$12&\")=\"&$F$4&\" and Barix(\"&$D$12&\",reference:=StartOfSession)=\"&A47&\"\", \"Bar\", \"\", \"Close\",\"5\",\"0\",\"PrimaryOnly\",,,\"False\",\"T\",\"EveryTick\")","v":166.22},4.2290961817302358E-3,{"$f":"RTD(\"cqg.rtd\",,\"StudyData\", \"Close(\"&$D$12&\") when LocalYear(\"&$D$12&\")=\"&$D$5&\" and localMonth(\"&$D$12&\") =\"&$E$5&\" and LocalDay(\"&$D$12&\")=\"&$F$5&\" and Barix(\"&$D$12&\",reference:=StartOfSession)=\"&A47&\"\", \"Bar\", \"\", \"Close\",\"5\",\"0\",\"PrimaryOnly\",,,\"False\",\"T\",\"EveryTick\")","v":165.47},6.0801361950507688E-3,{"$f":"RTD(\"cqg.rtd\",,\"StudyData\", \"Close(\"&$D$12&\") when LocalYear(\"&$D$12&\")=\"&$D$6&\" and localMonth(\"&$D$12&\") =\"&$E$6&\" and LocalDay(\"&$D$12&\")=\"&$F$6&\" and Barix(\"&$D$12&\",reference:=StartOfSession)=\"&A47&\"\", \"Bar\", \"\", \"Close\",\"5\",\"0\",\"PrimaryOnly\",,,\"False\",\"T\",\"EveryTick\")","v":164.65},2.1302495435179202E-3,{"$f":"RTD(\"cqg.rtd\",,\"StudyData\", \"Close(\"&$D$12&\") when LocalYear(\"&$D$12&\")=\"&$D$7&\" and localMonth(\"&$D$12&\") =\"&$E$7&\" and LocalDay(\"&$D$12&\")=\"&$F$7&\" and Barix(\"&$D$12&\",reference:=StartOfSession)=\"&A47&\"\", \"Bar\", \"\", \"Close\",\"5\",\"0\",\"PrimaryOnly\",,,\"False\",\"T\",\"EveryTick\")","v":164.06},1.2205541315756659E-3,{"$f":"RTD(\"cqg.rtd\",,\"StudyData\", \"Close(\"&$D$12&\") when LocalYear(\"&$D$12&\")=\"&$D$8&\" and localMonth(\"&$D$12&\") =\"&$E$8&\" and LocalDay(\"&$D$12&\")=\"&$F$8&\" and Barix(\"&$D$12&\",reference:=StartOfSession)=\"&A47&\"\", \"Bar\", \"\", \"Close\",\"5\",\"0\",\"PrimaryOnly\",,,\"False\",\"T\",\"EveryTick\")","v":163.16999999999999},-1.4435854071031739E-2,{"$f":"RTD(\"cqg.rtd\",,\"StudyData\", \"Close(\"&$D$12&\") when LocalYear(\"&$D$12&\")=\"&$D$9&\" and localMonth(\"&$D$12&\") =\"&$E$9&\" and LocalDay(\"&$D$12&\")=\"&$F$9&\" and Barix(\"&$D$12&\",reference:=StartOfSession)=\"&A47&\"\", \"Bar\", \"\", \"Close\",\"5\",\"0\",\"PrimaryOnly\",,,\"False\",\"T\",\"EveryTick\")","v":164.6},2.1919142717972797E-3,{"$f":"RTD(\"cqg.rtd\",,\"StudyData\", \"Close(\"&$D$12&\") when LocalYear(\"&$D$12&\")=\"&$D$10&\" and localMonth(\"&$D$12&\") =\"&$E$10&\" and LocalDay(\"&$D$12&\")=\"&$F$10&\" and Barix(\"&$D$12&\",reference:=StartOfSession)=\"&A47&\"\", \"Bar\", \"\", \"Close\",\"5\",\"0\",\"PrimaryOnly\",,,\"False\",\"T\",\"EveryTick\")","v":163.83000000000001},5.5238445958387386E-3,null,null,null,""]
[47,"12:25:00",-30,{"$f":" RTD(\"cqg.rtd\",,\"StudyData\", $D$12,  \"Tick\", \"FlatTicks=0\", \"Tick\",\"D\",C48,\"PrimaryOnly\")","v":165.87},null,null,null,{"$f":"RTD(\"cqg.rtd\",,\"StudyData\", \"Close(\"&$D$12&\") when LocalYear(\"&$D$12&\")=\"&$D$1&\" and localMonth(\"&$D$12&\") =\"&$E$1&\" and LocalDay(\"&$D$12&\")=\"&$F$1&\" and Barix(\"&$D$12&\",reference:=StartOfSession)=\"&A48&\"\", \"Bar\", \"\", \"Close\",\"5\",\"0\",\"PrimaryOnly\",,,\"False\",\"T\",\"EveryTick\")","v":""},{"$error":"#N/A"},{"$f":"RTD(\"cqg.rtd\",,\"StudyData\", \"Close(\"&$D$12&\") when LocalYear(\"&$D$12&\")=\"&$D$2&\" and localMonth(\"&$D$12&\") =\"&$E$2&\" and LocalDay(\"&$D$12&\")=\"&$F$2&\" and Barix(\"&$D$12&\",reference:=StartOfSession)=\"&A48&\"\", \"Bar\", \"\", \"Close\",\"5\",\"0\",\"PrimaryOnly\",,,\"False\",\"T\",\"EveryTick\")","v":165.75},-4.9228552560484674E-3,{"$f":"RTD(\"cqg.rtd\",,\"StudyData\", \"Close(\"&$D$12&\") when LocalYear(\"&$D$12&\")=\"&$D$3&\" and localMonth(\"&$D$12&\") =\"&$E$3&\" and LocalDay(\"&$D$12&\")=\"&$F$3&\" and Barix(\"&$D$12&\",reference:=StartOfSession)=\"&A48&\"\", \"Bar\", \"\", \"Close\",\"5\",\"0\",\"PrimaryOnly\",,,\"False\",\"T\",\"EveryTick\")","v":166.89},8.5816160029007528E-3,{"$f":"RTD(\"cqg.rtd\",,\"StudyData\", \"Close(\"&$D$12&\") when LocalYear(\"&$D$12&\")=\"&$D$4&\" and localMonth(\"&$D$12&\") =\"&$E$4&\" and LocalDay(\"&$D$12&\")=\"&$F$4&\" and Barix(\"&$D$12&\",reference:=StartOfSession)=\"&A48&\"\", \"Bar\", \"\", \"Close\",\"5\",\"0\",\"PrimaryOnly\",,,\"False\",\"T\",\"EveryTick\")","v":166.19},4.0478492025132155E-3,{"$f":"RTD(\"cqg.rtd\",,\"StudyData\", \"Close(\"&$D$12&\") when LocalYear(\"&$D$12&\")=\"&$D$5&\" and localMonth(\"&$D$12&\") =\"&$E$5&\" and LocalDay(\"&$D$12&\")=\"&$F$5&\" and Barix(\"&$D$12&\",reference:=StartOfSession)=\"&A48&\"\", \"Bar\", \"\", \"Close\",\"5\",\"0\",\"PrimaryOnly\",,,\"False\",\"T\",\"EveryTick\")","v":165.44},5.8977321091992392E-3,{"$f":"RTD(\"cqg.rtd\",,\"StudyData\", \"Close(\"&$D$12&\") when LocalYear(\"&$D$12&\")=\"&$D$6&\" and localMonth(\"&$D$12&\") =\"&$E$6&\" and LocalDay(\"&$D$12&\")=\"&$F$6&\" and Barix(\"&$D$12&\",reference:=StartOfSession)=\"&A48&\"\", \"Bar\", \"\", \"Close\",\"5\",\"0\",\"PrimaryOnly\",,,\"False\",\"T\",\"EveryTick\")","v":164.55},1.5216068167985392E-3,{"$f":"RTD(\"cqg.rtd\",,\"StudyData\", \"Close(\"&$D$12&\") when LocalYear(\"&$D$12&\")=\"&$D$7&\" and localMonth(\"&$D$12&\") =\"&$E$7&\" and LocalDay(\"&$D$12&\")=\"&$F$7&\" and Barix(\"&$D$12&\",reference:=StartOfSession)=\"&A48&\"\", \"Bar\", \"\", \"Close\",\"5\",\"0\",\"PrimaryOnly\",,,\"False\",\"T\",\"EveryTick\")","v":164.01},9.1541559868166267E-4,{"$f":"RTD(\"cqg.rtd\",,\"StudyData\", \"Close(\"&$D$12&\") when LocalYear(\"&$D$12&\")=\"&$D$8&\" and localMonth(\"&$D$12&\") =\"&$E$8&\" and LocalDay(\"&$D$12&\")=\"&$F$8&\" and Barix(\"&$D$12&\",reference:=StartOfSession)=\"&A48&\"\", \"Bar\", \"\", \"Close\",\"5\",\"0\",\"PrimaryOnly\",,,\"False\",\"T\",\"EveryTick\")","v":163},-1.5462672143029731E-2,{"$f":"RTD(\"cqg.rtd\",,\"StudyData\", \"Close(\"&$D$12&\") when LocalYear(\"&$D$12&\")=\"&$D$9&\" and localMonth(\"&$D$12&\") =\"&$E$9&\" and LocalDay(\"&$D$12&\")=\"&$F$9&\" and Barix(\"&$D$12&\",reference:=StartOfSession)=\"&A48&\"\", \"Bar\", \"\", \"Close\",\"5\",\"0\",\"PrimaryOnly\",,,\"False\",\"T\",\"EveryTick\")","v":164.6},2.1919142717972797E-3,{"$f":"RTD(\"cqg.rtd\",,\"StudyData\", \"Close(\"&$D$12&\") when LocalYear(\"&$D$12&\")=\"&$D$10&\" and localMonth(\"&$D$12&\") =\"&$E$10&\" and LocalDay(\"&$D$12&\")=\"&$F$10&\" and Barix(\"&$D$12&\",reference:=StartOfSession)=\"&A48&\"\", \"Bar\", \"\", \"Close\",\"5\",\"0\",\"PrimaryOnly\",,,\"False\",\"T\",\"EveryTick\")","v":163.79},5.2783403915791149E-3,null,null,null,""]
[48,"12:30:00",-29,{"$f":" RTD(\"cqg.rtd\",,\"StudyData\", $D$12,  \"Tick\", \"FlatTicks=0\", \"Tick\",\"D\",C49,\"PrimaryOnly\")","v":165.84},null,null,null,{"$f":"RTD(\"cqg.rtd\",,\"StudyData\", \"Close(\"&$D$12&\") when LocalYear(\"&$D$12&\")=\"&$D$1&\" and localMonth(\"&$D$12&\") =\"&$E$1&\" and LocalDay(\"&$D$12&\")=\"&$F$1&\" and Barix(\"&$D$12&\",reference:=StartOfSession)=\"&A49&\"\", \"Bar\", \"\", \"Close\",\"5\",\"0\",\"PrimaryOnly\",,,\"False\",\"T\",\"EveryTick\")","v":""},{"$error":"#N/A"},{"$f":"RTD(\"cqg.rtd\",,\"StudyData\", \"Close(\"&$D$12&\") when LocalYear(\"&$D$12&\")=\"&$D$2&\" and localMonth(\"&$D$12&\") =\"&$E$2&\" and LocalDay(\"&$D$12&\")=\"&$F$2&\" and Barix(\"&$D$12&\",reference:=StartOfSession)=\"&A49&\"\", \"Bar\", \"\", \"Close\",\"5\",\"0\",\"PrimaryOnly\",,,\"False\",\"T\",\"EveryTick\")","v":165.75},-4.9228552560484674E-3,{"$f":"RTD(\"cqg.rtd\",,\"StudyData\", \"Close(\"&$D$12&\") when LocalYear(\"&$D$12&\")=\"&$D$3&\" and localMonth(\"&$D$12&\") =\"&$E$3&\" and LocalDay(\"&$D$12&\")=\"&$F$3&\" and Barix(\"&$D$12&\",reference:=StartOfSession)=\"&A49&\"\", \"Bar\", \"\", \"Close\",\"5\",\"0\",\"PrimaryOnly\",,,\"False\",\"T\",\"EveryTick\")","v":166.96},9.0046534114945863E-3,{"$f":"RTD(\"cqg.rtd\",,\"StudyData\", \"Close(\"&$D$12&\") when LocalYear(\"&$D$12&\")=\"&$D$4&\" and localMonth(\"&$D$12&\") =\"&$E$4&\" and LocalDay(\"&$D$12&\")=\"&$F$4&\" and Barix(\"&$D$12&\",reference:=StartOfSession)=\"&A49&\"\", \"Bar\", \"\", \"Close\",\"5\",\"0\",\"PrimaryOnly\",,,\"False\",\"T\",\"EveryTick\")","v":166.18},3.9874335427742659E-3,{"$f":"RTD(\"cqg.rtd\",,\"StudyData\", \"Close(\"&$D$12&\") when LocalYear(\"&$D$12&\")=\"&$D$5&\" and localMonth(\"&$D$12&\") =\"&$E$5&\" and LocalDay(\"&$D$12&\")=\"&$F$5&\" and Barix(\"&$D$12&\",reference:=StartOfSession)=\"&A49&\"\", \"Bar\", \"\", \"Close\",\"5\",\"0\",\"PrimaryOnly\",,,\"False\",\"T\",\"EveryTick\")","v":165.44},5.8977321091992392E-3,{"$f":"RTD(\"cqg.rtd\",,\"StudyData\", \"Close(\"&$D$12&\") when LocalYear(\"&$D$12&\")=\"&$D$6&\" and localMonth(\"&$D$12&\") =\"&$E$6&\" and LocalDay(\"&$D$12&\")=\"&$F$6&\" and Barix(\"&$D$12&\",reference:=StartOfSession)=\"&A49&\"\", \"Bar\", \"\", \"Close\",\"5\",\"0\",\"PrimaryOnly\",,,\"False\",\"T\",\"EveryTick\")","v":164.55},1.5216068167985392E-3,{"$f":"RTD(\"cqg.rtd\",,\"StudyData\", \"Close(\"&$D$12&\") when LocalYear(\"&$D$12&\")=\"&$D$7&\" and localMonth(\"&$D$12&\") =\"&$E$7&\" and LocalDay(\"&$D$12&\")=\"&$F$7&\" and Barix(\"&$D$12&\",reference:=StartOfSession)=\"&A49&\"\", \"Bar\", \"\", \"Close\",\"5\",\"0\",\"PrimaryOnly\",,,\"False\",\"T\",\"EveryTick\")","v":164},8.5438789210293142E-4,{"$f":"RTD(\"cqg.rtd\",,\"StudyData\", \"Close(\"&$D$12&\") when LocalYear(\"&$D$12&\")=\"&$D$8&\" and localMonth(\"&$D$12&\") =\"&$E$8&\" and LocalDay(\"&$D$12&\")=\"&$F$8&\" and Barix(\"&$D$12&\",reference:=StartOfSession)=\"&A49&\"\", \"Bar\", \"\", \"Close\",\"5\",\"0\",\"PrimaryOnly\",,,\"False\",\"T\",\"EveryTick\")","v":162.94999999999999},-1.5764677458323349E-2,{"$f":"RTD(\"cqg.rtd\",,\"StudyData\", \"Close(\"&$D$12&\") when LocalYear(\"&$D$12&\")=\"&$D$9&\" and localMonth(\"&$D$12&\") =\"&$E$9&\" and LocalDay(\"&$D$12&\")=\"&$F$9&\" and Barix(\"&$D$12&\",reference:=StartOfSession)=\"&A49&\"\", \"Bar\", \"\", \"Close\",\"5\",\"0\",\"PrimaryOnly\",,,\"False\",\"T\",\"EveryTick\")","v":164.62},2.3136872868971957E-3,{"$f":"RTD(\"cqg.rtd\",,\"StudyData\", \"Close(\"&$D$12&\") when LocalYear(\"&$D$12&\")=\"&$D$10&\" and localMonth(\"&$D$12&\") =\"&$E$10&\" and LocalDay(\"&$D$12&\")=\"&$F$10&\" and Barix(\"&$D$12&\",reference:=StartOfSession)=\"&A49&\"\", \"Bar\", \"\", \"Close\",\"5\",\"0\",\"PrimaryOnly\",,,\"False\",\"T\",\"EveryTick\")","v":163.84},5.5852206469035569E-3,null,null,null,""]
[49,"12:35:00",-28,{"$f":" RTD(\"cqg.rtd\",,\"StudyData\", $D$12,  \"Tick\", \"FlatTicks=0\", \"Tick\",\"D\",C50,\"PrimaryOnly\")","v":165.82},null,null,null,{"$f":"RTD(\"cqg.rtd\",,\"StudyData\", \"Close(\"&$D$12&\") when LocalYear(\"&$D$12&\")=\"&$D$1&\" and localMonth(\"&$D$12&\") =\"&$E$1&\" and LocalDay(\"&$D$12&\")=\"&$F$1&\" and Barix(\"&$D$12&\",reference:=StartOfSession)=\"&A50&\"\", \"Bar\", \"\", \"Close\",\"5\",\"0\",\"PrimaryOnly\",,,\"False\",\"T\",\"EveryTick\")","v":""},{"$error":"#N/A"},{"$f":"RTD(\"cqg.rtd\",,\"StudyData\", \"Close(\"&$D$12&\") when LocalYear(\"&$D$12&\")=\"&$D$2&\" and localMonth(\"&$D$12&\") =\"&$E$2&\" and LocalDay(\"&$D$12&\")=\"&$F$2&\" and Barix(\"&$D$12&\",reference:=StartOfSession)=\"&A50&\"\", \"Bar\", \"\", \"Close\",\"5\",\"0\",\"PrimaryOnly\",,,\"False\",\"T\",\"EveryTick\")","v":165.72},-5.1029597166356144E-3,{"$f":"RTD(\"cqg.rtd\",,\"StudyData\", \"Close(\"&$D$12&\") when LocalYear(\"&$D$12&\")=\"&$D$3&\" and localMonth(\"&$D$12&\") =\"&$E$3&\" and LocalDay(\"&$D$12&\")=\"&$F$3&\" and Barix(\"&$D$12&\",reference:=StartOfSession)=\"&A50&\"\", \"Bar\", \"\", \"Close\",\"5\",\"0\",\"PrimaryOnly\",,,\"False\",\"T\",\"EveryTick\")","v":166.92},8.7629177494409176E-3,{"$f":"RTD(\"cqg.rtd\",,\"StudyData\", \"Close(\"&$D$12&\") when LocalYear(\"&$D$12&\")=\"&$D$4&\" and localMonth(\"&$D$12&\") =\"&$E$4&\" and LocalDay(\"&$D$12&\")=\"&$F$4&\" and Barix(\"&$D$12&\",reference:=StartOfSession)=\"&A50&\"\", \"Bar\", \"\", \"Close\",\"5\",\"0\",\"PrimaryOnly\",,,\"False\",\"T\",\"EveryTick\")","v":166.18},3.9874335427742659E-3,{"$f":"RTD(\"cqg.rtd\",,\"StudyData\", \"Close(\"&$D$12&\") when LocalYear(\"&$D$12&\")=\"&$D$5&\" and localMonth(\"&$D$12&\") =\"&$E$5&\" and LocalDay(\"&$D$12&\")=\"&$F$5&\" and Barix(\"&$D$12&\",reference:=StartOfSession)=\"&A50&\"\", \"Bar\", \"\", \"Close\",\"5\",\"0\",\"PrimaryOnly\",,,\"False\",\"T\",\"EveryTick\")","v":165.55},6.566547090654907E-3,{"$f":"RTD(\"cqg.rtd\",,\"StudyData\", \"Close(\"&$D$12&\") when LocalYear(\"&$D$12&\")=\"&$D$6&\" and localMonth(\"&$D$12&\") =\"&$E$6&\" and LocalDay(\"&$D$12&\")=\"&$F$6&\" and Barix(\"&$D$12&\",reference:=StartOfSession)=\"&A50&\"\", \"Bar\", \"\", \"Close\",\"5\",\"0\",\"PrimaryOnly\",,,\"False\",\"T\",\"EveryTick\")","v":164.55},1.5216068167985392E-3,{"$f":"RTD(\"cqg.rtd\",,\"StudyData\", \"Close(\"&$D$12&\") when LocalYear(\"&$D$12&\")=\"&$D$7&\" and localMonth(\"&$D$12&\") =\"&$E$7&\" and LocalDay(\"&$D$12&\")=\"&$F$7&\" and Barix(\"&$D$12&\",reference:=StartOfSession)=\"&A50&\"\", \"Bar\", \"\", \"Close\",\"5\",\"0\",\"PrimaryOnly\",,,\"False\",\"T\",\"EveryTick\")","v":164},8.5438789210293142E-4,{"$f":"RTD(\"cqg.rtd\",,\"StudyData\", \"Close(\"&$D$12&\") when LocalYear(\"&$D$12&\")=\"&$D$8&\" and localMonth(\"&$D$12&\") =\"&$E$8&\" and LocalDay(\"&$D$12&\")=\"&$F$8&\" and Barix(\"&$D$12&\",reference:=StartOfSession)=\"&A50&\"\", \"Bar\", \"\", \"Close\",\"5\",\"0\",\"PrimaryOnly\",,,\"False\",\"T\",\"EveryTick\")","v":163},-1.5462672143029731E-2,{"$f":"RTD(\"cqg.rtd\",,\"StudyData\", \"Close(\"&$D$12&\") when LocalYear(\"&$D$12&\")=\"&$D$9&\" and localMonth(\"&$D$12&\") =\"&$E$9&\" and LocalDay(\"&$D$12&\")=\"&$F$9&\" and Barix(\"&$D$12&\",reference:=StartOfSession)=\"&A50&\"\", \"Bar\", \"\", \"Close\",\"5\",\"0\",\"PrimaryOnly\",,,\"False\",\"T\",\"EveryTick\")","v":164.62},2.3136872868971957E-3,{"$f":"RTD(\"cqg.rtd\",,\"StudyData\", \"Close(\"&$D$12&\") when LocalYear(\"&$D$12&\")=\"&$D$10&\" and localMonth(\"&$D$12&\") =\"&$E$10&\" and LocalDay(\"&$D$12&\")=\"&$F$10&\" and Barix(\"&$D$12&\",reference:=StartOfSession)=\"&A50&\"\", \"Bar\", \"\", \"Close\",\"5\",\"0\",\"PrimaryOnly\",,,\"False\",\"T\",\"EveryTick\")","v":163.84},5.5852206469035569E-3,null,null,null,""]
[50,"12:40:00",-27,{"$f":" RTD(\"cqg.rtd\",,\"StudyData\", $D$12,  \"Tick\", \"FlatTicks=0\", \"Tick\",\"D\",C51,\"PrimaryOnly\")","v":165.81},null,null,null,{"$f":"RTD(\"cqg.rtd\",,\"StudyData\", \"Close(\"&$D$12&\") when LocalYear(\"&$D$12&\")=\"&$D$1&\" and localMonth(\"&$D$12&\") =\"&$E$1&\" and LocalDay(\"&$D$12&\")=\"&$F$1&\" and Barix(\"&$D$12&\",reference:=StartOfSession)=\"&A51&\"\", \"Bar\", \"\", \"Close\",\"5\",\"0\",\"PrimaryOnly\",,,\"False\",\"T\",\"EveryTick\")","v":""},{"$error":"#N/A"},{"$f":"RTD(\"cqg.rtd\",,\"StudyData\", \"Close(\"&$D$12&\") when LocalYear(\"&$D$12&\")=\"&$D$2&\" and localMonth(\"&$D$12&\") =\"&$E$2&\" and LocalDay(\"&$D$12&\")=\"&$F$2&\" and Barix(\"&$D$12&\",reference:=StartOfSession)=\"&A51&\"\", \"Bar\", \"\", \"Close\",\"5\",\"0\",\"PrimaryOnly\",,,\"False\",\"T\",\"EveryTick\")","v":165.72},-5.1029597166356144E-3,{"$f":"RTD(\"cqg.rtd\",,\"StudyData\", \"Close(\"&$D$12&\") when LocalYear(\"&$D$12&\")=\"&$D$3&\" and localMonth(\"&$D$12&\") =\"&$E$3&\" and LocalDay(\"&$D$12&\")=\"&$F$3&\" and Barix(\"&$D$12&\",reference:=StartOfSession)=\"&A51&\"\", \"Bar\", \"\", \"Close\",\"5\",\"0\",\"PrimaryOnly\",,,\"False\",\"T\",\"EveryTick\")","v":166.92},8.7629177494409176E-3,{"$f":"RTD(\"cqg.rtd\",,\"StudyData\", \"Close(\"&$D$12&\") when LocalYear(\"&$D$12&\")=\"&$D$4&\" and localMonth(\"&$D$12&\") =\"&$E$4&\" and LocalDay(\"&$D$12&\")=\"&$F$4&\" and Barix(\"&$D$12&\",reference:=StartOfSession)=\"&A51&\"\", \"Bar\", \"\", \"Close\",\"5\",\"0\",\"PrimaryOnly\",,,\"False\",\"T\",\"EveryTick\")","v":166.3},4.7124214596423455E-3,{"$f":"RTD(\"cqg.rtd\",,\"StudyData\", \"Close(\"&$D$12&\") when LocalYear(\"&$D$12&\")=\"&$D$5&\" and localMonth(\"&$D$12&\") =\"&$E$5&\" and LocalDay(\"&$D$12&\")=\"&$F$5&\" and Barix(\"&$D$12&\",reference:=StartOfSession)=\"&A51&\"\", \"Bar\", \"\", \"Close\",\"5\",\"0\",\"PrimaryOnly\",,,\"False\",\"T\",\"EveryTick\")","v":165.55},6.566547090654907E-3,{"$f":"RTD(\"cqg.rtd\",,\"StudyData\", \"Close(\"&$D$12&\") when LocalYear(\"&$D$12&\")=\"&$D$6&\" and localMonth(\"&$D$12&\") =\"&$E$6&\" and LocalDay(\"&$D$12&\")=\"&$F$6&\" and Barix(\"&$D$12&\",reference:=StartOfSession)=\"&A51&\"\", \"Bar\", \"\", \"Close\",\"5\",\"0\",\"PrimaryOnly\",,,\"False\",\"T\",\"EveryTick\")","v":164.68},2.312842361533752E-3,{"$f":"RTD(\"cqg.rtd\",,\"StudyData\", \"Close(\"&$D$12&\") when LocalYear(\"&$D$12&\")=\"&$D$7&\" and localMonth(\"&$D$12&\") =\"&$E$7&\" and LocalDay(\"&$D$12&\")=\"&$F$7&\" and Barix(\"&$D$12&\",reference:=StartOfSession)=\"&A51&\"\", \"Bar\", \"\", \"Close\",\"5\",\"0\",\"PrimaryOnly\",,,\"False\",\"T\",\"EveryTick\")","v":164},8.5438789210293142E-4,{"$f":"RTD(\"cqg.rtd\",,\"StudyData\", \"Close(\"&$D$12&\") when LocalYear(\"&$D$12&\")=\"&$D$8&\" and localMonth(\"&$D$12&\") =\"&$E$8&\" and LocalDay(\"&$D$12&\")=\"&$F$8&\" and Barix(\"&$D$12&\",reference:=StartOfSession)=\"&A51&\"\", \"Bar\", \"\", \"Close\",\"5\",\"0\",\"PrimaryOnly\",,,\"False\",\"T\",\"EveryTick\")","v":163},-1.5462672143029731E-2,{"$f":"RTD(\"cqg.rtd\",,\"StudyData\", \"Close(\"&$D$12&\") when LocalYear(\"&$D$12&\")=\"&$D$9&\" and localMonth(\"&$D$12&\") =\"&$E$9&\" and LocalDay(\"&$D$12&\")=\"&$F$9&\" and Barix(\"&$D$12&\",reference:=StartOfSession)=\"&A51&\"\", \"Bar\", \"\", \"Close\",\"5\",\"0\",\"PrimaryOnly\",,,\"False\",\"T\",\"EveryTick\")","v":164.62},2.3136872868971957E-3,{"$f":"RTD(\"cqg.rtd\",,\"StudyData\", \"Close(\"&$D$12&\") when LocalYear(\"&$D$12&\")=\"&$D$10&\" and localMonth(\"&$D$12&\") =\"&$E$10&\" and LocalDay(\"&$D$12&\")=\"&$F$10&\" and Barix(\"&$D$12&\",reference:=StartOfSession)=\"&A51&\"\", \"Bar\", \"\", \"Close\",\"5\",\"0\",\"PrimaryOnly\",,,\"False\",\"T\",\"EveryTick\")","v":163.91},6.0148530043576363E-3,null,null,null,""]
[51,"12:45:00",-26,{"$f":" RTD(\"cqg.rtd\",,\"StudyData\", $D$12,  \"Tick\", \"FlatTicks=0\", \"Tick\",\"D\",C52,\"PrimaryOnly\")","v":165.76},null,null,null,{"$f":"RTD(\"cqg.rtd\",,\"StudyData\", \"Close(\"&$D$12&\") when LocalYear(\"&$D$12&\")=\"&$D$1&\" and localMonth(\"&$D$12&\") =\"&$E$1&\" and LocalDay(\"&$D$12&\")=\"&$F$1&\" and Barix(\"&$D$12&\",reference:=StartOfSession)=\"&A52&\"\", \"Bar\", \"\", \"Close\",\"5\",\"0\",\"PrimaryOnly\",,,\"False\",\"T\",\"EveryTick\")","v":""},{"$error":"#N/A"},{"$f":"RTD(\"cqg.rtd\",,\"StudyData\", \"Close(\"&$D$12&\") when LocalYear(\"&$D$12&\")=\"&$D$2&\" and localMonth(\"&$D$12&\") =\"&$E$2&\" and LocalDay(\"&$D$12&\")=\"&$F$2&\" and Barix(\"&$D$12&\",reference:=StartOfSession)=\"&A52&\"\", \"Bar\", \"\", \"Close\",\"5\",\"0\",\"PrimaryOnly\",,,\"False\",\"T\",\"EveryTick\")","v":165.75},-4.9228552560484674E-3,{"$f":"RTD(\"cqg.rtd\",,\"StudyData\", \"Close(\"&$D$12&\") when LocalYear(\"&$D$12&\")=\"&$D$3&\" and localMonth(\"&$D$12&\") =\"&$E$3&\" and LocalDay(\"&$D$12&\")=\"&$F$3&\" and Barix(\"&$D$12&\",reference:=StartOfSession)=\"&A52&\"\", \"Bar\", \"\", \"Close\",\"5\",\"0\",\"PrimaryOnly\",,,\"False\",\"T\",\"EveryTick\")","v":166.97},9.0650873270079167E-3,{"$f":"RTD(\"cqg.rtd\",,\"StudyData\", \"Close(\"&$D$12&\") when LocalYear(\"&$D$12&\")=\"&$D$4&\" and localMonth(\"&$D$12&\") =\"&$E$4&\" and LocalDay(\"&$D$12&\")=\"&$F$4&\" and Barix(\"&$D$12&\",reference:=StartOfSession)=\"&A52&\"\", \"Bar\", \"\", \"Close\",\"5\",\"0\",\"PrimaryOnly\",,,\"False\",\"T\",\"EveryTick\")","v":166.32},4.8332527791202446E-3,{"$f":"RTD(\"cqg.rtd\",,\"StudyData\", \"Close(\"&$D$12&\") when LocalYear(\"&$D$12&\")=\"&$D$5&\" and localMonth(\"&$D$12&\") =\"&$E$5&\" and LocalDay(\"&$D$12&\")=\"&$F$5&\" and Barix(\"&$D$12&\",reference:=StartOfSession)=\"&A52&\"\", \"Bar\", \"\", \"Close\",\"5\",\"0\",\"PrimaryOnly\",,,\"False\",\"T\",\"EveryTick\")","v":165.53},6.4449443667538289E-3,{"$f":"RTD(\"cqg.rtd\",,\"StudyData\", \"Close(\"&$D$12&\") when LocalYear(\"&$D$12&\")=\"&$D$6&\" and localMonth(\"&$D$12&\") =\"&$E$6&\" and LocalDay(\"&$D$12&\")=\"&$F$6&\" and Barix(\"&$D$12&\",reference:=StartOfSession)=\"&A52&\"\", \"Bar\", \"\", \"Close\",\"5\",\"0\",\"PrimaryOnly\",,,\"False\",\"T\",\"EveryTick\")","v":164.52},1.3390139987827076E-3,{"$f":"RTD(\"cqg.rtd\",,\"StudyData\", \"Close(\"&$D$12&\") when LocalYear(\"&$D$12&\")=\"&$D$7&\" and localMonth(\"&$D$12&\") =\"&$E$7&\" and LocalDay(\"&$D$12&\")=\"&$F$7&\" and Barix(\"&$D$12&\",reference:=StartOfSession)=\"&A52&\"\", \"Bar\", \"\", \"Close\",\"5\",\"0\",\"PrimaryOnly\",,,\"False\",\"T\",\"EveryTick\")","v":164.12},1.5867203710484004E-3,{"$f":"RTD(\"cqg.rtd\",,\"StudyData\", \"Close(\"&$D$12&\") when LocalYear(\"&$D$12&\")=\"&$D$8&\" and localMonth(\"&$D$12&\") =\"&$E$8&\" and LocalDay(\"&$D$12&\")=\"&$F$8&\" and Barix(\"&$D$12&\",reference:=StartOfSession)=\"&A52&\"\", \"Bar\", \"\", \"Close\",\"5\",\"0\",\"PrimaryOnly\",,,\"False\",\"T\",\"EveryTick\")","v":162.87},-1.6247885962792932E-2,{"$f":"RTD(\"cqg.rtd\",,\"StudyData\", \"Close(\"&$D$12&\") when LocalYear(\"&$D$12&\")=\"&$D$9&\" and localMonth(\"&$D$12&\") =\"&$E$9&\" and LocalDay(\"&$D$12&\")=\"&$F$9&\" and Barix(\"&$D$12&\",reference:=StartOfSession)=\"&A52&\"\", \"Bar\", \"\", \"Close\",\"5\",\"0\",\"PrimaryOnly\",,,\"False\",\"T\",\"EveryTick\")","v":164.62},2.3136872868971957E-3,{"$f":"RTD(\"cqg.rtd\",,\"StudyData\", \"Close(\"&$D$12&\") when LocalYear(\"&$D$12&\")=\"&$D$10&\" and localMonth(\"&$D$12&\") =\"&$E$10&\" and LocalDay(\"&$D$12&\")=\"&$F$10&\" and Barix(\"&$D$12&\",reference:=StartOfSession)=\"&A52&\"\", \"Bar\", \"\", \"Close\",\"5\",\"0\",\"PrimaryOnly\",,,\"False\",\"T\",\"EveryTick\")","v":163.92},6.0762290554224555E-3,null,null,null,""]
[52,"12:50:00",-25,{"$f":" RTD(\"cqg.rtd\",,\"StudyData\", $D$12,  \"Tick\", \"FlatTicks=0\", \"Tick\",\"D\",C53,\"PrimaryOnly\")","v":165.78},null,null,null,{"$f":"RTD(\"cqg.rtd\",,\"StudyData\", \"Close(\"&$D$12&\") when LocalYear(\"&$D$12&\")=\"&$D$1&\" and localMonth(\"&$D$12&\") =\"&$E$1&\" and LocalDay(\"&$D$12&\")=\"&$F$1&\" and Barix(\"&$D$12&\",reference:=StartOfSession)=\"&A53&\"\", \"Bar\", \"\", \"Close\",\"5\",\"0\",\"PrimaryOnly\",,,\"False\",\"T\",\"EveryTick\")","v":""},{"$error":"#N/A"},{"$f":"RTD(\"cqg.rtd\",,\"StudyData\", \"Close(\"&$D$12&\") when LocalYear(\"&$D$12&\")=\"&$D$2&\" and localMonth(\"&$D$12&\") =\"&$E$2&\" and LocalDay(\"&$D$12&\")=\"&$F$2&\" and Barix(\"&$D$12&\",reference:=StartOfSession)=\"&A53&\"\", \"Bar\", \"\", \"Close\",\"5\",\"0\",\"PrimaryOnly\",,,\"False\",\"T\",\"EveryTick\")","v":165.64},-5.5832382782013976E-3,{"$f":"RTD(\"cqg.rtd\",,\"StudyData\", \"Close(\"&$D$12&\") when LocalYear(\"&$D$12&\")=\"&$D$3&\" and localMonth(\"&$D$12&\") =\"&$E$3&\" and LocalDay(\"&$D$12&\")=\"&$F$3&\" and Barix(\"&$D$12&\",reference:=StartOfSession)=\"&A53&\"\", \"Bar\", \"\", \"Close\",\"5\",\"0\",\"PrimaryOnly\",,,\"False\",\"T\",\"EveryTick\")","v":166.9},8.642049918414255E-3,{"$f":"RTD(\"cqg.rtd\",,\"StudyData\", \"Close(\"&$D$12&\") when LocalYear(\"&$D$12&\")=\"&$D$4&\" and localMonth(\"&$D$12&\") =\"&$E$4&\" and LocalDay(\"&$D$12&\")=\"&$F$4&\" and Barix(\"&$D$12&\",reference:=StartOfSession)=\"&A53&\"\", \"Bar\", \"\", \"Close\",\"5\",\"0\",\"PrimaryOnly\",,,\"False\",\"T\",\"EveryTick\")","v":166.36},5.0749154180763853E-3,{"$f":"RTD(\"cqg.rtd\",,\"StudyData\", \"Close(\"&$D$12&\") when LocalYear(\"&$D$12&\")=\"&$D$5&\" and localMonth(\"&$D$12&\") =\"&$E$5&\" and LocalDay(\"&$D$12&\")=\"&$F$5&\" and Barix(\"&$D$12&\",reference:=StartOfSession)=\"&A53&\"\", \"Bar\", \"\", \"Close\",\"5\",\"0\",\"PrimaryOnly\",,,\"False\",\"T\",\"EveryTick\")","v":165.53},6.4449443667538289E-3,{"$f":"RTD(\"cqg.rtd\",,\"StudyData\", \"Close(\"&$D$12&\") when LocalYear(\"&$D$12&\")=\"&$D$6&\" and localMonth(\"&$D$12&\") =\"&$E$6&\" and LocalDay(\"&$D$12&\")=\"&$F$6&\" and Barix(\"&$D$12&\",reference:=StartOfSession)=\"&A53&\"\", \"Bar\", \"\", \"Close\",\"5\",\"0\",\"PrimaryOnly\",,,\"False\",\"T\",\"EveryTick\")","v":164.52},1.3390139987827076E-3,{"$f":"RTD(\"cqg.rtd\",,\"StudyData\", \"Close(\"&$D$12&\") when LocalYear(\"&$D$12&\")=\"&$D$7&\" and localMonth(\"&$D$12&\") =\"&$E$7&\" and LocalDay(\"&$D$12&\")=\"&$F$7&\" and Barix(\"&$D$12&\",reference:=StartOfSession)=\"&A53&\"\", \"Bar\", \"\", \"Close\",\"5\",\"0\",\"PrimaryOnly\",,,\"False\",\"T\",\"EveryTick\")","v":164},8.5438789210293142E-4,{"$f":"RTD(\"cqg.rtd\",,\"StudyData\", \"Close(\"&$D$12&\") when LocalYear(\"&$D$12&\")=\"&$D$8&\" and localMonth(\"&$D$12&\") =\"&$E$8&\" and LocalDay(\"&$D$12&\")=\"&$F$8&\" and Barix(\"&$D$12&\",reference:=StartOfSession)=\"&A53&\"\", \"Bar\", \"\", \"Close\",\"5\",\"0\",\"PrimaryOnly\",,,\"False\",\"T\",\"EveryTick\")","v":162.87},-1.6247885962792932E-2,{"$f":"RTD(\"cqg.rtd\",,\"StudyData\", \"Close(\"&$D$12&\") when LocalYear(\"&$D$12&\")=\"&$D$9&\" and localMonth(\"&$D$12&\") =\"&$E$9&\" and LocalDay(\"&$D$12&\")=\"&$F$9&\" and Barix(\"&$D$12&\",reference:=StartOfSession)=\"&A53&\"\", \"Bar\", \"\", \"Close\",\"5\",\"0\",\"PrimaryOnly\",,,\"False\",\"T\",\"EveryTick\")","v":164.57},2.0092547491474917E-3,{"$f":"RTD(\"cqg.rtd\",,\"StudyData\", \"Close(\"&$D$12&\") when LocalYear(\"&$D$12&\")=\"&$D$10&\" and localMonth(\"&$D$12&\") =\"&$E$10&\" and LocalDay(\"&$D$12&\")=\"&$F$10&\" and Barix(\"&$D$12&\",reference:=StartOfSession)=\"&A53&\"\", \"Bar\", \"\", \"Close\",\"5\",\"0\",\"PrimaryOnly\",,,\"False\",\"T\",\"EveryTick\")","v":163.92},6.0762290554224555E-3,null,null,null,""]
[53,"12:55:00",-24,{"$f":" RTD(\"cqg.rtd\",,\"StudyData\", $D$12,  \"Tick\", \"FlatTicks=0\", \"Tick\",\"D\",C54,\"PrimaryOnly\")","v":165.7},null,null,null,{"$f":"RTD(\"cqg.rtd\",,\"StudyData\", \"Close(\"&$D$12&\") when LocalYear(\"&$D$12&\")=\"&$D$1&\" and localMonth(\"&$D$12&\") =\"&$E$1&\" and LocalDay(\"&$D$12&\")=\"&$F$1&\" and Barix(\"&$D$12&\",reference:=StartOfSession)=\"&A54&\"\", \"Bar\", \"\", \"Close\",\"5\",\"0\",\"PrimaryOnly\",,,\"False\",\"T\",\"EveryTick\")","v":""},{"$error":"#N/A"},{"$f":"RTD(\"cqg.rtd\",,\"StudyData\", \"Close(\"&$D$12&\") when LocalYear(\"&$D$12&\")=\"&$D$2&\" and localMonth(\"&$D$12&\") =\"&$E$2&\" and LocalDay(\"&$D$12&\")=\"&$F$2&\" and Barix(\"&$D$12&\",reference:=StartOfSession)=\"&A54&\"\", \"Bar\", \"\", \"Close\",\"5\",\"0\",\"PrimaryOnly\",,,\"False\",\"T\",\"EveryTick\")","v":165.66},-5.4631686378099099E-3,{"$f":"RTD(\"cqg.rtd\",,\"StudyData\", \"Close(\"&$D$12&\") when LocalYear(\"&$D$12&\")=\"&$D$3&\" and localMonth(\"&$D$12&\") =\"&$E$3&\" and LocalDay(\"&$D$12&\")=\"&$F$3&\" and Barix(\"&$D$12&\",reference:=StartOfSession)=\"&A54&\"\", \"Bar\", \"\", \"Close\",\"5\",\"0\",\"PrimaryOnly\",,,\"False\",\"T\",\"EveryTick\")","v":166.87},8.4607481718740902E-3,{"$f":"RTD(\"cqg.rtd\",,\"StudyData\", \"Close(\"&$D$12&\") when LocalYear(\"&$D$12&\")=\"&$D$4&\" and localMonth(\"&$D$12&\") =\"&$E$4&\" and LocalDay(\"&$D$12&\")=\"&$F$4&\" and Barix(\"&$D$12&\",reference:=StartOfSession)=\"&A54&\"\", \"Bar\", \"\", \"Close\",\"5\",\"0\",\"PrimaryOnly\",,,\"False\",\"T\",\"EveryTick\")","v":166.38},5.1957467375542844E-3,{"$f":"RTD(\"cqg.rtd\",,\"StudyData\", \"Close(\"&$D$12&\") when LocalYear(\"&$D$12&\")=\"&$D$5&\" and localMonth(\"&$D$12&\") =\"&$E$5&\" and LocalDay(\"&$D$12&\")=\"&$F$5&\" and Barix(\"&$D$12&\",reference:=StartOfSession)=\"&A54&\"\", \"Bar\", \"\", \"Close\",\"5\",\"0\",\"PrimaryOnly\",,,\"False\",\"T\",\"EveryTick\")","v":165.69},7.4177661579619318E-3,{"$f":"RTD(\"cqg.rtd\",,\"StudyData\", \"Close(\"&$D$12&\") when LocalYear(\"&$D$12&\")=\"&$D$6&\" and localMonth(\"&$D$12&\") =\"&$E$6&\" and LocalDay(\"&$D$12&\")=\"&$F$6&\" and Barix(\"&$D$12&\",reference:=StartOfSession)=\"&A54&\"\", \"Bar\", \"\", \"Close\",\"5\",\"0\",\"PrimaryOnly\",,,\"False\",\"T\",\"EveryTick\")","v":164.6},1.8259281801581433E-3,{"$f":"RTD(\"cqg.rtd\",,\"StudyData\", \"Close(\"&$D$12&\") when LocalYear(\"&$D$12&\")=\"&$D$7&\" and localMonth(\"&$D$12&\") =\"&$E$7&\" and LocalDay(\"&$D$12&\")=\"&$F$7&\" and Barix(\"&$D$12&\",reference:=StartOfSession)=\"&A54&\"\", \"Bar\", \"\", \"Close\",\"5\",\"0\",\"PrimaryOnly\",,,\"False\",\"T\",\"EveryTick\")","v":163.96},6.1027706578783297E-4,{"$f":"RTD(\"cqg.rtd\",,\"StudyData\", \"Close(\"&$D$12&\") when LocalYear(\"&$D$12&\")=\"&$D$8&\" and localMonth(\"&$D$12&\") =\"&$E$8&\" and LocalDay(\"&$D$12&\")=\"&$F$8&\" and Barix(\"&$D$12&\",reference:=StartOfSession)=\"&A54&\"\", \"Bar\", \"\", \"Close\",\"5\",\"0\",\"PrimaryOnly\",,,\"False\",\"T\",\"EveryTick\")","v":162.88999999999999},-1.6127083836675622E-2,{"$f":"RTD(\"cqg.rtd\",,\"StudyData\", \"Close(\"&$D$12&\") when LocalYear(\"&$D$12&\")=\"&$D$9&\" and localMonth(\"&$D$12&\") =\"&$E$9&\" and LocalDay(\"&$D$12&\")=\"&$F$9&\" and Barix(\"&$D$12&\",reference:=StartOfSession)=\"&A54&\"\", \"Bar\", \"\", \"Close\",\"5\",\"0\",\"PrimaryOnly\",,,\"False\",\"T\",\"EveryTick\")","v":164.57},2.0092547491474917E-3,{"$f":"RTD(\"cqg.rtd\",,\"StudyData\", \"Close(\"&$D$12&\") when LocalYear(\"&$D$12&\")=\"&$D$10&\" and localMonth(\"&$D$12&\") =\"&$E$10&\" and LocalDay(\"&$D$12&\")=\"&$F$10&\" and Barix(\"&$D$12&\",reference:=StartOfSession)=\"&A54&\"\", \"Bar\", \"\", \"Close\",\"5\",\"0\",\"PrimaryOnly\",,,\"False\",\"T\",\"EveryTick\")","v":163.92},6.0762290554224555E-3,null,null,null,""]
[54,"13:00:00",-23,{"$f":" RTD(\"cqg.rtd\",,\"StudyData\", $D$12,  \"Tick\", \"FlatTicks=0\", \"Tick\",\"D\",C55,\"PrimaryOnly\")","v":165.82},null,null,null,{"$f":"RTD(\"cqg.rtd\",,\"StudyData\", \"Close(\"&$D$12&\") when LocalYear(\"&$D$12&\")=\"&$D$1&\" and localMonth(\"&$D$12&\") =\"&$E$1&\" and LocalDay(\"&$D$12&\")=\"&$F$1&\" and Barix(\"&$D$12&\",reference:=StartOfSession)=\"&A55&\"\", \"Bar\", \"\", \"Close\",\"5\",\"0\",\"PrimaryOnly\",,,\"False\",\"T\",\"EveryTick\")","v":""},{"$error":"#N/A"},{"$f":"RTD(\"cqg.rtd\",,\"StudyData\", \"Close(\"&$D$12&\") when LocalYear(\"&$D$12&\")=\"&$D$2&\" and localMonth(\"&$D$12&\") =\"&$E$2&\" and LocalDay(\"&$D$12&\")=\"&$F$2&\" and Barix(\"&$D$12&\",reference:=StartOfSession)=\"&A55&\"\", \"Bar\", \"\", \"Close\",\"5\",\"0\",\"PrimaryOnly\",,,\"False\",\"T\",\"EveryTick\")","v":165.65},-5.5232034580055683E-3,{"$f":"RTD(\"cqg.rtd\",,\"StudyData\", \"Close(\"&$D$12&\") when LocalYear(\"&$D$12&\")=\"&$D$3&\" and localMonth(\"&$D$12&\") =\"&$E$3&\" and LocalDay(\"&$D$12&\")=\"&$F$3&\" and Barix(\"&$D$12&\",reference:=StartOfSession)=\"&A55&\"\", \"Bar\", \"\", \"Close\",\"5\",\"0\",\"PrimaryOnly\",,,\"False\",\"T\",\"EveryTick\")","v":166.83},8.2190125098205932E-3,{"$f":"RTD(\"cqg.rtd\",,\"StudyData\", \"Close(\"&$D$12&\") when LocalYear(\"&$D$12&\")=\"&$D$4&\" and localMonth(\"&$D$12&\") =\"&$E$4&\" and LocalDay(\"&$D$12&\")=\"&$F$4&\" and Barix(\"&$D$12&\",reference:=StartOfSession)=\"&A55&\"\", \"Bar\", \"\", \"Close\",\"5\",\"0\",\"PrimaryOnly\",,,\"False\",\"T\",\"EveryTick\")","v":165.95},2.5978733687770563E-3,{"$f":"RTD(\"cqg.rtd\",,\"StudyData\", \"Close(\"&$D$12&\") when LocalYear(\"&$D$12&\")=\"&$D$5&\" and localMonth(\"&$D$12&\") =\"&$E$5&\" and LocalDay(\"&$D$12&\")=\"&$F$5&\" and Barix(\"&$D$12&\",reference:=StartOfSession)=\"&A55&\"\", \"Bar\", \"\", \"Close\",\"5\",\"0\",\"PrimaryOnly\",,,\"False\",\"T\",\"EveryTick\")","v":165.69},7.4177661579619318E-3,{"$f":"RTD(\"cqg.rtd\",,\"StudyData\", \"Close(\"&$D$12&\") when LocalYear(\"&$D$12&\")=\"&$D$6&\" and localMonth(\"&$D$12&\") =\"&$E$6&\" and LocalDay(\"&$D$12&\")=\"&$F$6&\" and Barix(\"&$D$12&\",reference:=StartOfSession)=\"&A55&\"\", \"Bar\", \"\", \"Close\",\"5\",\"0\",\"PrimaryOnly\",,,\"False\",\"T\",\"EveryTick\")","v":164.55},1.5216068167985392E-3,{"$f":"RTD(\"cqg.rtd\",,\"StudyData\", \"Close(\"&$D$12&\") when LocalYear(\"&$D$12&\")=\"&$D$7&\" and localMonth(\"&$D$12&\") =\"&$E$7&\" and LocalDay(\"&$D$12&\")=\"&$F$7&\" and Barix(\"&$D$12&\",reference:=StartOfSession)=\"&A55&\"\", \"Bar\", \"\", \"Close\",\"5\",\"0\",\"PrimaryOnly\",,,\"False\",\"T\",\"EveryTick\")","v":163.96},6.1027706578783297E-4,{"$f":"RTD(\"cqg.rtd\",,\"StudyData\", \"Close(\"&$D$12&\") when LocalYear(\"&$D$12&\")=\"&$D$8&\" and localMonth(\"&$D$12&\") =\"&$E$8&\" and LocalDay(\"&$D$12&\")=\"&$F$8&\" and Barix(\"&$D$12&\",reference:=StartOfSession)=\"&A55&\"\", \"Bar\", \"\", \"Close\",\"5\",\"0\",\"PrimaryOnly\",,,\"False\",\"T\",\"EveryTick\")","v":162.9},-1.6066682773616794E-2,{"$f":"RTD(\"cqg.rtd\",,\"StudyData\", \"Close(\"&$D$12&\") when LocalYear(\"&$D$12&\")=\"&$D$9&\" and localMonth(\"&$D$12&\") =\"&$E$9&\" and LocalDay(\"&$D$12&\")=\"&$F$9&\" and Barix(\"&$D$12&\",reference:=StartOfSession)=\"&A55&\"\", \"Bar\", \"\", \"Close\",\"5\",\"0\",\"PrimaryOnly\",,,\"False\",\"T\",\"EveryTick\")","v":164.63},2.3745737944470672E-3,{"$f":"RTD(\"cqg.rtd\",,\"StudyData\", \"Close(\"&$D$12&\") when LocalYear(\"&$D$12&\")=\"&$D$10&\" and localMonth(\"&$D$12&\") =\"&$E$10&\" and LocalDay(\"&$D$12&\")=\"&$F$10&\" and Barix(\"&$D$12&\",reference:=StartOfSession)=\"&A55&\"\", \"Bar\", \"\", \"Close\",\"5\",\"0\",\"PrimaryOnly\",,,\"False\",\"T\",\"EveryTick\")","v":163.66},4.4804517277357743E-3,null,null,null,""]
[55,"13:05:00",-22,{"$f":" RTD(\"cqg.rtd\",,\"StudyData\", $D$12,  \"Tick\", \"FlatTicks=0\", \"Tick\",\"D\",C56,\"PrimaryOnly\")","v":165.83},null,null,null,{"$f":"RTD(\"cqg.rtd\",,\"StudyData\", \"Close(\"&$D$12&\") when LocalYear(\"&$D$12&\")=\"&$D$1&\" and localMonth(\"&$D$12&\") =\"&$E$1&\" and LocalDay(\"&$D$12&\")=\"&$F$1&\" and Barix(\"&$D$12&\",reference:=StartOfSession)=\"&A56&\"\", \"Bar\", \"\", \"Close\",\"5\",\"0\",\"PrimaryOnly\",,,\"False\",\"T\",\"EveryTick\")","v":""},{"$error":"#N/A"},{"$f":"RTD(\"cqg.rtd\",,\"StudyData\", \"Close(\"&$D$12&\") when LocalYear(\"&$D$12&\")=\"&$D$2&\" and localMonth(\"&$D$12&\") =\"&$E$2&\" and LocalDay(\"&$D$12&\")=\"&$F$2&\" and Barix(\"&$D$12&\",reference:=StartOfSession)=\"&A56&\"\", \"Bar\", \"\", \"Close\",\"5\",\"0\",\"PrimaryOnly\",,,\"False\",\"T\",\"EveryTick\")","v":165.65},-5.5232034580055683E-3,{"$f":"RTD(\"cqg.rtd\",,\"StudyData\", \"Close(\"&$D$12&\") when LocalYear(\"&$D$12&\")=\"&$D$3&\" and localMonth(\"&$D$12&\") =\"&$E$3&\" and LocalDay(\"&$D$12&\")=\"&$F$3&\" and Barix(\"&$D$12&\",reference:=StartOfSession)=\"&A56&\"\", \"Bar\", \"\", \"Close\",\"5\",\"0\",\"PrimaryOnly\",,,\"False\",\"T\",\"EveryTick\")","v":166.8},8.0377107632804284E-3,{"$f":"RTD(\"cqg.rtd\",,\"StudyData\", \"Close(\"&$D$12&\") when LocalYear(\"&$D$12&\")=\"&$D$4&\" and localMonth(\"&$D$12&\") =\"&$E$4&\" and LocalDay(\"&$D$12&\")=\"&$F$4&\" and Barix(\"&$D$12&\",reference:=StartOfSession)=\"&A56&\"\", \"Bar\", \"\", \"Close\",\"5\",\"0\",\"PrimaryOnly\",,,\"False\",\"T\",\"EveryTick\")","v":165.61},5.4374093765105968E-4,{"$f":"RTD(\"cqg.rtd\",,\"StudyData\", \"Close(\"&$D$12&\") when LocalYear(\"&$D$12&\")=\"&$D$5&\" and localMonth(\"&$D$12&\") =\"&$E$5&\" and LocalDay(\"&$D$12&\")=\"&$F$5&\" and Barix(\"&$D$12&\",reference:=StartOfSession)=\"&A56&\"\", \"Bar\", \"\", \"Close\",\"5\",\"0\",\"PrimaryOnly\",,,\"False\",\"T\",\"EveryTick\")","v":165.69},7.4177661579619318E-3,{"$f":"RTD(\"cqg.rtd\",,\"StudyData\", \"Close(\"&$D$12&\") when LocalYear(\"&$D$12&\")=\"&$D$6&\" and localMonth(\"&$D$12&\") =\"&$E$6&\" and LocalDay(\"&$D$12&\")=\"&$F$6&\" and Barix(\"&$D$12&\",reference:=StartOfSession)=\"&A56&\"\", \"Bar\", \"\", \"Close\",\"5\",\"0\",\"PrimaryOnly\",,,\"False\",\"T\",\"EveryTick\")","v":164.51},1.2781497261106483E-3,{"$f":"RTD(\"cqg.rtd\",,\"StudyData\", \"Close(\"&$D$12&\") when LocalYear(\"&$D$12&\")=\"&$D$7&\" and localMonth(\"&$D$12&\") =\"&$E$7&\" and LocalDay(\"&$D$12&\")=\"&$F$7&\" and Barix(\"&$D$12&\",reference:=StartOfSession)=\"&A56&\"\", \"Bar\", \"\", \"Close\",\"5\",\"0\",\"PrimaryOnly\",,,\"False\",\"T\",\"EveryTick\")","v":163.96},6.1027706578783297E-4,{"$f":"RTD(\"cqg.rtd\",,\"StudyData\", \"Close(\"&$D$12&\") when LocalYear(\"&$D$12&\")=\"&$D$8&\" and localMonth(\"&$D$12&\") =\"&$E$8&\" and LocalDay(\"&$D$12&\")=\"&$F$8&\" and Barix(\"&$D$12&\",reference:=StartOfSession)=\"&A56&\"\", \"Bar\", \"\", \"Close\",\"5\",\"0\",\"PrimaryOnly\",,,\"False\",\"T\",\"EveryTick\")","v":163.08000000000001},-1.4979463638559976E-2,{"$f":"RTD(\"cqg.rtd\",,\"StudyData\", \"Close(\"&$D$12&\") when LocalYear(\"&$D$12&\")=\"&$D$9&\" and localMonth(\"&$D$12&\") =\"&$E$9&\" and LocalDay(\"&$D$12&\")=\"&$F$9&\" and Barix(\"&$D$12&\",reference:=StartOfSession)=\"&A56&\"\", \"Bar\", \"\", \"Close\",\"5\",\"0\",\"PrimaryOnly\",,,\"False\",\"T\",\"EveryTick\")","v":164.7},2.8007793472965142E-3,{"$f":"RTD(\"cqg.rtd\",,\"StudyData\", \"Close(\"&$D$12&\") when LocalYear(\"&$D$12&\")=\"&$D$10&\" and localMonth(\"&$D$12&\") =\"&$E$10&\" and LocalDay(\"&$D$12&\")=\"&$F$10&\" and Barix(\"&$D$12&\",reference:=StartOfSession)=\"&A56&\"\", \"Bar\", \"\", \"Close\",\"5\",\"0\",\"PrimaryOnly\",,,\"False\",\"T\",\"EveryTick\")","v":163.77000000000001},5.1555882894494774E-3,null,null,null,""]
[56,"13:10:00",-21,{"$f":" RTD(\"cqg.rtd\",,\"StudyData\", $D$12,  \"Tick\", \"FlatTicks=0\", \"Tick\",\"D\",C57,\"PrimaryOnly\")","v":165.86},null,null,null,{"$f":"RTD(\"cqg.rtd\",,\"StudyData\", \"Close(\"&$D$12&\") when LocalYear(\"&$D$12&\")=\"&$D$1&\" and localMonth(\"&$D$12&\") =\"&$E$1&\" and LocalDay(\"&$D$12&\")=\"&$F$1&\" and Barix(\"&$D$12&\",reference:=StartOfSession)=\"&A57&\"\", \"Bar\", \"\", \"Close\",\"5\",\"0\",\"PrimaryOnly\",,,\"False\",\"T\",\"EveryTick\")","v":""},{"$error":"#N/A"},{"$f":"RTD(\"cqg.rtd\",,\"StudyData\", \"Close(\"&$D$12&\") when LocalYear(\"&$D$12&\")=\"&$D$2&\" and localMonth(\"&$D$12&\") =\"&$E$2&\" and LocalDay(\"&$D$12&\")=\"&$F$2&\" and Barix(\"&$D$12&\",reference:=StartOfSession)=\"&A57&\"\", \"Bar\", \"\", \"Close\",\"5\",\"0\",\"PrimaryOnly\",,,\"False\",\"T\",\"EveryTick\")","v":165.67},-5.4031338176142507E-3,{"$f":"RTD(\"cqg.rtd\",,\"StudyData\", \"Close(\"&$D$12&\") when LocalYear(\"&$D$12&\")=\"&$D$3&\" and localMonth(\"&$D$12&\") =\"&$E$3&\" and LocalDay(\"&$D$12&\")=\"&$F$3&\" and Barix(\"&$D$12&\",reference:=StartOfSession)=\"&A57&\"\", \"Bar\", \"\", \"Close\",\"5\",\"0\",\"PrimaryOnly\",,,\"False\",\"T\",\"EveryTick\")","v":166.81},8.0981446787937589E-3,{"$f":"RTD(\"cqg.rtd\",,\"StudyData\", \"Close(\"&$D$12&\") when LocalYear(\"&$D$12&\")=\"&$D$4&\" and localMonth(\"&$D$12&\") =\"&$E$4&\" and LocalDay(\"&$D$12&\")=\"&$F$4&\" and Barix(\"&$D$12&\",reference:=StartOfSession)=\"&A57&\"\", \"Bar\", \"\", \"Close\",\"5\",\"0\",\"PrimaryOnly\",,,\"False\",\"T\",\"EveryTick\")","v":165.94},2.5374577090381068E-3,{"$f":"RTD(\"cqg.rtd\",,\"StudyData\", \"Close(\"&$D$12&\") when LocalYear(\"&$D$12&\")=\"&$D$5&\" and localMonth(\"&$D$12&\") =\"&$E$5&\" and LocalDay(\"&$D$12&\")=\"&$F$5&\" and Barix(\"&$D$12&\",reference:=StartOfSession)=\"&A57&\"\", \"Bar\", \"\", \"Close\",\"5\",\"0\",\"PrimaryOnly\",,,\"False\",\"T\",\"EveryTick\")","v":165.69},7.4177661579619318E-3,{"$f":"RTD(\"cqg.rtd\",,\"StudyData\", \"Close(\"&$D$12&\") when LocalYear(\"&$D$12&\")=\"&$D$6&\" and localMonth(\"&$D$12&\") =\"&$E$6&\" and LocalDay(\"&$D$12&\")=\"&$F$6&\" and Barix(\"&$D$12&\",reference:=StartOfSession)=\"&A57&\"\", \"Bar\", \"\", \"Close\",\"5\",\"0\",\"PrimaryOnly\",,,\"False\",\"T\",\"EveryTick\")","v":164.59},1.765063907486257E-3,{"$f":"RTD(\"cqg.rtd\",,\"StudyData\", \"Close(\"&$D$12&\") when LocalYear(\"&$D$12&\")=\"&$D$7&\" and localMonth(\"&$D$12&\") =\"&$E$7&\" and LocalDay(\"&$D$12&\")=\"&$F$7&\" and Barix(\"&$D$12&\",reference:=StartOfSession)=\"&A57&\"\", \"Bar\", \"\", \"Close\",\"5\",\"0\",\"PrimaryOnly\",,,\"False\",\"T\",\"EveryTick\")","v":163.96},6.1027706578783297E-4,{"$f":"RTD(\"cqg.rtd\",,\"StudyData\", \"Close(\"&$D$12&\") when LocalYear(\"&$D$12&\")=\"&$D$8&\" and localMonth(\"&$D$12&\") =\"&$E$8&\" and LocalDay(\"&$D$12&\")=\"&$F$8&\" and Barix(\"&$D$12&\",reference:=StartOfSession)=\"&A57&\"\", \"Bar\", \"\", \"Close\",\"5\",\"0\",\"PrimaryOnly\",,,\"False\",\"T\",\"EveryTick\")","v":163.08000000000001},-1.4979463638559976E-2,{"$f":"RTD(\"cqg.rtd\",,\"StudyData\", \"Close(\"&$D$12&\") when LocalYear(\"&$D$12&\")=\"&$D$9&\" and localMonth(\"&$D$12&\") =\"&$E$9&\" and LocalDay(\"&$D$12&\")=\"&$F$9&\" and Barix(\"&$D$12&\",reference:=StartOfSession)=\"&A57&\"\", \"Bar\", \"\", \"Close\",\"5\",\"0\",\"PrimaryOnly\",,,\"False\",\"T\",\"EveryTick\")","v":164.8},3.4096444227959223E-3,{"$f":"RTD(\"cqg.rtd\",,\"StudyData\", \"Close(\"&$D$12&\") when LocalYear(\"&$D$12&\")=\"&$D$10&\" and localMonth(\"&$D$12&\") =\"&$E$10&\" and LocalDay(\"&$D$12&\")=\"&$F$10&\" and Barix(\"&$D$12&\",reference:=StartOfSession)=\"&A57&\"\", \"Bar\", \"\", \"Close\",\"5\",\"0\",\"PrimaryOnly\",,,\"False\",\"T\",\"EveryTick\")","v":163.77000000000001},5.1555882894494774E-3,null,null,null,""]
[57,"13:15:00",-20,{"$f":" RTD(\"cqg.rtd\",,\"StudyData\", $D$12,  \"Tick\", \"FlatTicks=0\", \"Tick\",\"D\",C58,\"PrimaryOnly\")","v":165.96},null,null,null,{"$f":"RTD(\"cqg.rtd\",,\"StudyData\", \"Close(\"&$D$12&\") when LocalYear(\"&$D$12&\")=\"&$D$1&\" and localMonth(\"&$D$12&\") =\"&$E$1&\" and LocalDay(\"&$D$12&\")=\"&$F$1&\" and Barix(\"&$D$12&\",reference:=StartOfSession)=\"&A58&\"\", \"Bar\", \"\", \"Close\",\"5\",\"0\",\"PrimaryOnly\",,,\"False\",\"T\",\"EveryTick\")","v":""},{"$error":"#N/A"},{"$f":"RTD(\"cqg.rtd\",,\"StudyData\", \"Close(\"&$D$12&\") when LocalYear(\"&$D$12&\")=\"&$D$2&\" and localMonth(\"&$D$12&\") =\"&$E$2&\" and LocalDay(\"&$D$12&\")=\"&$F$2&\" and Barix(\"&$D$12&\",reference:=StartOfSession)=\"&A58&\"\", \"Bar\", \"\", \"Close\",\"5\",\"0\",\"PrimaryOnly\",,,\"False\",\"T\",\"EveryTick\")","v":165.68},-5.3430989974184214E-3,{"$f":"RTD(\"cqg.rtd\",,\"StudyData\", \"Close(\"&$D$12&\") when LocalYear(\"&$D$12&\")=\"&$D$3&\" and localMonth(\"&$D$12&\") =\"&$E$3&\" and LocalDay(\"&$D$12&\")=\"&$F$3&\" and Barix(\"&$D$12&\",reference:=StartOfSession)=\"&A58&\"\", \"Bar\", \"\", \"Close\",\"5\",\"0\",\"PrimaryOnly\",,,\"False\",\"T\",\"EveryTick\")","v":166.68},7.3125037771197676E-3,{"$f":"RTD(\"cqg.rtd\",,\"StudyData\", \"Close(\"&$D$12&\") when LocalYear(\"&$D$12&\")=\"&$D$4&\" and localMonth(\"&$D$12&\") =\"&$E$4&\" and LocalDay(\"&$D$12&\")=\"&$F$4&\" and Barix(\"&$D$12&\",reference:=StartOfSession)=\"&A58&\"\", \"Bar\", \"\", \"Close\",\"5\",\"0\",\"PrimaryOnly\",,,\"False\",\"T\",\"EveryTick\")","v":165.9},2.2957950700821378E-3,{"$f":"RTD(\"cqg.rtd\",,\"StudyData\", \"Close(\"&$D$12&\") when LocalYear(\"&$D$12&\")=\"&$D$5&\" and localMonth(\"&$D$12&\") =\"&$E$5&\" and LocalDay(\"&$D$12&\")=\"&$F$5&\" and Barix(\"&$D$12&\",reference:=StartOfSession)=\"&A58&\"\", \"Bar\", \"\", \"Close\",\"5\",\"0\",\"PrimaryOnly\",,,\"False\",\"T\",\"EveryTick\")","v":165.69},7.4177661579619318E-3,{"$f":"RTD(\"cqg.rtd\",,\"StudyData\", \"Close(\"&$D$12&\") when LocalYear(\"&$D$12&\")=\"&$D$6&\" and localMonth(\"&$D$12&\") =\"&$E$6&\" and LocalDay(\"&$D$12&\")=\"&$F$6&\" and Barix(\"&$D$12&\",reference:=StartOfSession)=\"&A58&\"\", \"Bar\", \"\", \"Close\",\"5\",\"0\",\"PrimaryOnly\",,,\"False\",\"T\",\"EveryTick\")","v":164.59},1.765063907486257E-3,{"$f":"RTD(\"cqg.rtd\",,\"StudyData\", \"Close(\"&$D$12&\") when LocalYear(\"&$D$12&\")=\"&$D$7&\" and localMonth(\"&$D$12&\") =\"&$E$7&\" and LocalDay(\"&$D$12&\")=\"&$F$7&\" and Barix(\"&$D$12&\",reference:=StartOfSession)=\"&A58&\"\", \"Bar\", \"\", \"Close\",\"5\",\"0\",\"PrimaryOnly\",,,\"False\",\"T\",\"EveryTick\")","v":163.96},6.1027706578783297E-4,{"$f":"RTD(\"cqg.rtd\",,\"StudyData\", \"Close(\"&$D$12&\") when LocalYear(\"&$D$12&\")=\"&$D$8&\" and localMonth(\"&$D$12&\") =\"&$E$8&\" and LocalDay(\"&$D$12&\")=\"&$F$8&\" and Barix(\"&$D$12&\",reference:=StartOfSession)=\"&A58&\"\", \"Bar\", \"\", \"Close\",\"5\",\"0\",\"PrimaryOnly\",,,\"False\",\"T\",\"EveryTick\")","v":163.13},-1.4677458323266531E-2,{"$f":"RTD(\"cqg.rtd\",,\"StudyData\", \"Close(\"&$D$12&\") when LocalYear(\"&$D$12&\")=\"&$D$9&\" and localMonth(\"&$D$12&\") =\"&$E$9&\" and LocalDay(\"&$D$12&\")=\"&$F$9&\" and Barix(\"&$D$12&\",reference:=StartOfSession)=\"&A58&\"\", \"Bar\", \"\", \"Close\",\"5\",\"0\",\"PrimaryOnly\",,,\"False\",\"T\",\"EveryTick\")","v":164.85},3.7140769605454528E-3,{"$f":"RTD(\"cqg.rtd\",,\"StudyData\", \"Close(\"&$D$12&\") when LocalYear(\"&$D$12&\")=\"&$D$10&\" and localMonth(\"&$D$12&\") =\"&$E$10&\" and LocalDay(\"&$D$12&\")=\"&$F$10&\" and Barix(\"&$D$12&\",reference:=StartOfSession)=\"&A58&\"\", \"Bar\", \"\", \"Close\",\"5\",\"0\",\"PrimaryOnly\",,,\"False\",\"T\",\"EveryTick\")","v":163.89},5.8921009022278245E-3,null,null,null,""]
[58,"13:20:00",-19,{"$f":" RTD(\"cqg.rtd\",,\"StudyData\", $D$12,  \"Tick\", \"FlatTicks=0\", \"Tick\",\"D\",C59,\"PrimaryOnly\")","v":165.93},null,null,null,{"$f":"RTD(\"cqg.rtd\",,\"StudyData\", \"Close(\"&$D$12&\") when LocalYear(\"&$D$12&\")=\"&$D$1&\" and localMonth(\"&$D$12&\") =\"&$E$1&\" and LocalDay(\"&$D$12&\")=\"&$F$1&\" and Barix(\"&$D$12&\",reference:=StartOfSession)=\"&A59&\"\", \"Bar\", \"\", \"Close\",\"5\",\"0\",\"PrimaryOnly\",,,\"False\",\"T\",\"EveryTick\")","v":""},{"$error":"#N/A"},{"$f":"RTD(\"cqg.rtd\",,\"StudyData\", \"Close(\"&$D$12&\") when LocalYear(\"&$D$12&\")=\"&$D$2&\" and localMonth(\"&$D$12&\") =\"&$E$2&\" and LocalDay(\"&$D$12&\")=\"&$F$2&\" and Barix(\"&$D$12&\",reference:=StartOfSession)=\"&A59&\"\", \"Bar\", \"\", \"Close\",\"5\",\"0\",\"PrimaryOnly\",,,\"False\",\"T\",\"EveryTick\")","v":165.68},-5.3430989974184214E-3,{"$f":"RTD(\"cqg.rtd\",,\"StudyData\", \"Close(\"&$D$12&\") when LocalYear(\"&$D$12&\")=\"&$D$3&\" and localMonth(\"&$D$12&\") =\"&$E$3&\" and LocalDay(\"&$D$12&\")=\"&$F$3&\" and Barix(\"&$D$12&\",reference:=StartOfSession)=\"&A59&\"\", \"Bar\", \"\", \"Close\",\"5\",\"0\",\"PrimaryOnly\",,,\"False\",\"T\",\"EveryTick\")","v":166.66},7.1916359460929341E-3,{"$f":"RTD(\"cqg.rtd\",,\"StudyData\", \"Close(\"&$D$12&\") when LocalYear(\"&$D$12&\")=\"&$D$4&\" and localMonth(\"&$D$12&\") =\"&$E$4&\" and LocalDay(\"&$D$12&\")=\"&$F$4&\" and Barix(\"&$D$12&\",reference:=StartOfSession)=\"&A59&\"\", \"Bar\", \"\", \"Close\",\"5\",\"0\",\"PrimaryOnly\",,,\"False\",\"T\",\"EveryTick\")","v":165.51},-6.0415659739121112E-5,{"$f":"RTD(\"cqg.rtd\",,\"StudyData\", \"Close(\"&$D$12&\") when LocalYear(\"&$D$12&\")=\"&$D$5&\" and localMonth(\"&$D$12&\") =\"&$E$5&\" and LocalDay(\"&$D$12&\")=\"&$F$5&\" and Barix(\"&$D$12&\",reference:=StartOfSession)=\"&A59&\"\", \"Bar\", \"\", \"Close\",\"5\",\"0\",\"PrimaryOnly\",,,\"False\",\"T\",\"EveryTick\")","v":165.23},4.6209035082385294E-3,{"$f":"RTD(\"cqg.rtd\",,\"StudyData\", \"Close(\"&$D$12&\") when LocalYear(\"&$D$12&\")=\"&$D$6&\" and localMonth(\"&$D$12&\") =\"&$E$6&\" and LocalDay(\"&$D$12&\")=\"&$F$6&\" and Barix(\"&$D$12&\",reference:=StartOfSession)=\"&A59&\"\", \"Bar\", \"\", \"Close\",\"5\",\"0\",\"PrimaryOnly\",,,\"False\",\"T\",\"EveryTick\")","v":164.62},1.9476567255020886E-3,{"$f":"RTD(\"cqg.rtd\",,\"StudyData\", \"Close(\"&$D$12&\") when LocalYear(\"&$D$12&\")=\"&$D$7&\" and localMonth(\"&$D$12&\") =\"&$E$7&\" and LocalDay(\"&$D$12&\")=\"&$F$7&\" and Barix(\"&$D$12&\",reference:=StartOfSession)=\"&A59&\"\", \"Bar\", \"\", \"Close\",\"5\",\"0\",\"PrimaryOnly\",,,\"False\",\"T\",\"EveryTick\")","v":164.15},1.7698034907847676E-3,{"$f":"RTD(\"cqg.rtd\",,\"StudyData\", \"Close(\"&$D$12&\") when LocalYear(\"&$D$12&\")=\"&$D$8&\" and localMonth(\"&$D$12&\") =\"&$E$8&\" and LocalDay(\"&$D$12&\")=\"&$F$8&\" and Barix(\"&$D$12&\",reference:=StartOfSession)=\"&A59&\"\", \"Bar\", \"\", \"Close\",\"5\",\"0\",\"PrimaryOnly\",,,\"False\",\"T\",\"EveryTick\")","v":163.13},-1.4677458323266531E-2,{"$f":"RTD(\"cqg.rtd\",,\"StudyData\", \"Close(\"&$D$12&\") when LocalYear(\"&$D$12&\")=\"&$D$9&\" and localMonth(\"&$D$12&\") =\"&$E$9&\" and LocalDay(\"&$D$12&\")=\"&$F$9&\" and Barix(\"&$D$12&\",reference:=StartOfSession)=\"&A59&\"\", \"Bar\", \"\", \"Close\",\"5\",\"0\",\"PrimaryOnly\",,,\"False\",\"T\",\"EveryTick\")","v":164.8},3.4096444227959223E-3,{"$f":"RTD(\"cqg.rtd\",,\"StudyData\", \"Close(\"&$D$12&\") when LocalYear(\"&$D$12&\")=\"&$D$10&\" and localMonth(\"&$D$12&\") =\"&$E$10&\" and LocalDay(\"&$D$12&\")=\"&$F$10&\" and Barix(\"&$D$12&\",reference:=StartOfSession)=\"&A59&\"\", \"Bar\", \"\", \"Close\",\"5\",\"0\",\"PrimaryOnly\",,,\"False\",\"T\",\"EveryTick\")","v":163.9},5.953476953292818E-3,null,null,null,""]
[59,"13:25:00",-18,{"$f":" RTD(\"cqg.rtd\",,\"StudyData\", $D$12,  \"Tick\", \"FlatTicks=0\", \"Tick\",\"D\",C60,\"PrimaryOnly\")","v":165.92},null,null,null,{"$f":"RTD(\"cqg.rtd\",,\"StudyData\", \"Close(\"&$D$12&\") when LocalYear(\"&$D$12&\")=\"&$D$1&\" and localMonth(\"&$D$12&\") =\"&$E$1&\" and LocalDay(\"&$D$12&\")=\"&$F$1&\" and Barix(\"&$D$12&\",reference:=StartOfSession)=\"&A60&\"\", \"Bar\", \"\", \"Close\",\"5\",\"0\",\"PrimaryOnly\",,,\"False\",\"T\",\"EveryTick\")","v":""},{"$error":"#N/A"},{"$f":"RTD(\"cqg.rtd\",,\"StudyData\", \"Close(\"&$D$12&\") when LocalYear(\"&$D$12&\")=\"&$D$2&\" and localMonth(\"&$D$12&\") =\"&$E$2&\" and LocalDay(\"&$D$12&\")=\"&$F$2&\" and Barix(\"&$D$12&\",reference:=StartOfSession)=\"&A60&\"\", \"Bar\", \"\", \"Close\",\"5\",\"0\",\"PrimaryOnly\",,,\"False\",\"T\",\"EveryTick\")","v":165.97},-3.6020892117427767E-3,{"$f":"RTD(\"cqg.rtd\",,\"StudyData\", \"Close(\"&$D$12&\") when LocalYear(\"&$D$12&\")=\"&$D$3&\" and localMonth(\"&$D$12&\") =\"&$E$3&\" and LocalDay(\"&$D$12&\")=\"&$F$3&\" and Barix(\"&$D$12&\",reference:=StartOfSession)=\"&A60&\"\", \"Bar\", \"\", \"Close\",\"5\",\"0\",\"PrimaryOnly\",,,\"False\",\"T\",\"EveryTick\")","v":166.66},7.1916359460929341E-3,{"$f":"RTD(\"cqg.rtd\",,\"StudyData\", \"Close(\"&$D$12&\") when LocalYear(\"&$D$12&\")=\"&$D$4&\" and localMonth(\"&$D$12&\") =\"&$E$4&\" and LocalDay(\"&$D$12&\")=\"&$F$4&\" and Barix(\"&$D$12&\",reference:=StartOfSession)=\"&A60&\"\", \"Bar\", \"\", \"Close\",\"5\",\"0\",\"PrimaryOnly\",,,\"False\",\"T\",\"EveryTick\")","v":165.51},-6.0415659739121112E-5,{"$f":"RTD(\"cqg.rtd\",,\"StudyData\", \"Close(\"&$D$12&\") when LocalYear(\"&$D$12&\")=\"&$D$5&\" and localMonth(\"&$D$12&\") =\"&$E$5&\" and LocalDay(\"&$D$12&\")=\"&$F$5&\" and Barix(\"&$D$12&\",reference:=StartOfSession)=\"&A60&\"\", \"Bar\", \"\", \"Close\",\"5\",\"0\",\"PrimaryOnly\",,,\"False\",\"T\",\"EveryTick\")","v":164.94},2.8576640116738548E-3,{"$f":"RTD(\"cqg.rtd\",,\"StudyData\", \"Close(\"&$D$12&\") when LocalYear(\"&$D$12&\")=\"&$D$6&\" and localMonth(\"&$D$12&\") =\"&$E$6&\" and LocalDay(\"&$D$12&\")=\"&$F$6&\" and Barix(\"&$D$12&\",reference:=StartOfSession)=\"&A60&\"\", \"Bar\", \"\", \"Close\",\"5\",\"0\",\"PrimaryOnly\",,,\"False\",\"T\",\"EveryTick\")","v":164.62},1.9476567255020886E-3,{"$f":"RTD(\"cqg.rtd\",,\"StudyData\", \"Close(\"&$D$12&\") when LocalYear(\"&$D$12&\")=\"&$D$7&\" and localMonth(\"&$D$12&\") =\"&$E$7&\" and LocalDay(\"&$D$12&\")=\"&$F$7&\" and Barix(\"&$D$12&\",reference:=StartOfSession)=\"&A60&\"\", \"Bar\", \"\", \"Close\",\"5\",\"0\",\"PrimaryOnly\",,,\"False\",\"T\",\"EveryTick\")","v":164.15},1.7698034907847676E-3,{"$f":"RTD(\"cqg.rtd\",,\"StudyData\", \"Close(\"&$D$12&\") when LocalYear(\"&$D$12&\")=\"&$D$8&\" and localMonth(\"&$D$12&\") =\"&$E$8&\" and LocalDay(\"&$D$12&\")=\"&$F$8&\" and Barix(\"&$D$12&\",reference:=StartOfSession)=\"&A60&\"\", \"Bar\", \"\", \"Close\",\"5\",\"0\",\"PrimaryOnly\",,,\"False\",\"T\",\"EveryTick\")","v":163.11000000000001},-1.479826044938384E-2,{"$f":"RTD(\"cqg.rtd\",,\"StudyData\", \"Close(\"&$D$12&\") when LocalYear(\"&$D$12&\")=\"&$D$9&\" and localMonth(\"&$D$12&\") =\"&$E$9&\" and LocalDay(\"&$D$12&\")=\"&$F$9&\" and Barix(\"&$D$12&\",reference:=StartOfSession)=\"&A60&\"\", \"Bar\", \"\", \"Close\",\"5\",\"0\",\"PrimaryOnly\",,,\"False\",\"T\",\"EveryTick\")","v":164.82},3.5314174378956653E-3,{"$f":"RTD(\"cqg.rtd\",,\"StudyData\", \"Close(\"&$D$12&\") when LocalYear(\"&$D$12&\")=\"&$D$10&\" and localMonth(\"&$D$12&\") =\"&$E$10&\" and LocalDay(\"&$D$12&\")=\"&$F$10&\" and Barix(\"&$D$12&\",reference:=StartOfSession)=\"&A60&\"\", \"Bar\", \"\", \"Close\",\"5\",\"0\",\"PrimaryOnly\",,,\"False\",\"T\",\"EveryTick\")","v":163.92},6.0762290554224555E-3,null,null,null,""]
[60,"13:30:00",-17,{"$f":" RTD(\"cqg.rtd\",,\"StudyData\", $D$12,  \"Tick\", \"FlatTicks=0\", \"Tick\",\"D\",C61,\"PrimaryOnly\")","v":165.86},null,null,null,{"$f":"RTD(\"cqg.rtd\",,\"StudyData\", \"Close(\"&$D$12&\") when LocalYear(\"&$D$12&\")=\"&$D$1&\" and localMonth(\"&$D$12&\") =\"&$E$1&\" and LocalDay(\"&$D$12&\")=\"&$F$1&\" and Barix(\"&$D$12&\",reference:=StartOfSession)=\"&A61&\"\", \"Bar\", \"\", \"Close\",\"5\",\"0\",\"PrimaryOnly\",,,\"False\",\"T\",\"EveryTick\")","v":""},{"$error":"#N/A"},{"$f":"RTD(\"cqg.rtd\",,\"StudyData\", \"Close(\"&$D$12&\") when LocalYear(\"&$D$12&\")=\"&$D$2&\" and localMonth(\"&$D$12&\") =\"&$E$2&\" and LocalDay(\"&$D$12&\")=\"&$F$2&\" and Barix(\"&$D$12&\",reference:=StartOfSession)=\"&A61&\"\", \"Bar\", \"\", \"Close\",\"5\",\"0\",\"PrimaryOnly\",,,\"False\",\"T\",\"EveryTick\")","v":165.94},-3.782193672329924E-3,{"$f":"RTD(\"cqg.rtd\",,\"StudyData\", \"Close(\"&$D$12&\") when LocalYear(\"&$D$12&\")=\"&$D$3&\" and localMonth(\"&$D$12&\") =\"&$E$3&\" and LocalDay(\"&$D$12&\")=\"&$F$3&\" and Barix(\"&$D$12&\",reference:=StartOfSession)=\"&A61&\"\", \"Bar\", \"\", \"Close\",\"5\",\"0\",\"PrimaryOnly\",,,\"False\",\"T\",\"EveryTick\")","v":166.6},6.8290324530126036E-3,{"$f":"RTD(\"cqg.rtd\",,\"StudyData\", \"Close(\"&$D$12&\") when LocalYear(\"&$D$12&\")=\"&$D$4&\" and localMonth(\"&$D$12&\") =\"&$E$4&\" and LocalDay(\"&$D$12&\")=\"&$F$4&\" and Barix(\"&$D$12&\",reference:=StartOfSession)=\"&A61&\"\", \"Bar\", \"\", \"Close\",\"5\",\"0\",\"PrimaryOnly\",,,\"False\",\"T\",\"EveryTick\")","v":165.43},-5.4374093765105968E-4,{"$f":"RTD(\"cqg.rtd\",,\"StudyData\", \"Close(\"&$D$12&\") when LocalYear(\"&$D$12&\")=\"&$D$5&\" and localMonth(\"&$D$12&\") =\"&$E$5&\" and LocalDay(\"&$D$12&\")=\"&$F$5&\" and Barix(\"&$D$12&\",reference:=StartOfSession)=\"&A61&\"\", \"Bar\", \"\", \"Close\",\"5\",\"0\",\"PrimaryOnly\",,,\"False\",\"T\",\"EveryTick\")","v":164.94},2.8576640116738548E-3,{"$f":"RTD(\"cqg.rtd\",,\"StudyData\", \"Close(\"&$D$12&\") when LocalYear(\"&$D$12&\")=\"&$D$6&\" and localMonth(\"&$D$12&\") =\"&$E$6&\" and LocalDay(\"&$D$12&\")=\"&$F$6&\" and Barix(\"&$D$12&\",reference:=StartOfSession)=\"&A61&\"\", \"Bar\", \"\", \"Close\",\"5\",\"0\",\"PrimaryOnly\",,,\"False\",\"T\",\"EveryTick\")","v":164.65},2.1302495435179202E-3,{"$f":"RTD(\"cqg.rtd\",,\"StudyData\", \"Close(\"&$D$12&\") when LocalYear(\"&$D$12&\")=\"&$D$7&\" and localMonth(\"&$D$12&\") =\"&$E$7&\" and LocalDay(\"&$D$12&\")=\"&$F$7&\" and Barix(\"&$D$12&\",reference:=StartOfSession)=\"&A61&\"\", \"Bar\", \"\", \"Close\",\"5\",\"0\",\"PrimaryOnly\",,,\"False\",\"T\",\"EveryTick\")","v":164.17},1.89185890394223E-3,{"$f":"RTD(\"cqg.rtd\",,\"StudyData\", \"Close(\"&$D$12&\") when LocalYear(\"&$D$12&\")=\"&$D$8&\" and localMonth(\"&$D$12&\") =\"&$E$8&\" and LocalDay(\"&$D$12&\")=\"&$F$8&\" and Barix(\"&$D$12&\",reference:=StartOfSession)=\"&A61&\"\", \"Bar\", \"\", \"Close\",\"5\",\"0\",\"PrimaryOnly\",,,\"False\",\"T\",\"EveryTick\")","v":163.34},-1.3409035999033576E-2,{"$f":"RTD(\"cqg.rtd\",,\"StudyData\", \"Close(\"&$D$12&\") when LocalYear(\"&$D$12&\")=\"&$D$9&\" and localMonth(\"&$D$12&\") =\"&$E$9&\" and LocalDay(\"&$D$12&\")=\"&$F$9&\" and Barix(\"&$D$12&\",reference:=StartOfSession)=\"&A61&\"\", \"Bar\", \"\", \"Close\",\"5\",\"0\",\"PrimaryOnly\",,,\"False\",\"T\",\"EveryTick\")","v":164.82},3.5314174378956653E-3,{"$f":"RTD(\"cqg.rtd\",,\"StudyData\", \"Close(\"&$D$12&\") when LocalYear(\"&$D$12&\")=\"&$D$10&\" and localMonth(\"&$D$12&\") =\"&$E$10&\" and LocalDay(\"&$D$12&\")=\"&$F$10&\" and Barix(\"&$D$12&\",reference:=StartOfSession)=\"&A61&\"\", \"Bar\", \"\", \"Close\",\"5\",\"0\",\"PrimaryOnly\",,,\"False\",\"T\",\"EveryTick\")","v":163.99},6.5058614128767093E-3,null,null,null,""]
[61,"13:35:00",-16,{"$f":" RTD(\"cqg.rtd\",,\"StudyData\", $D$12,  \"Tick\", \"FlatTicks=0\", \"Tick\",\"D\",C62,\"PrimaryOnly\")","v":165.91},null,null,null,{"$f":"RTD(\"cqg.rtd\",,\"StudyData\", \"Close(\"&$D$12&\") when LocalYear(\"&$D$12&\")=\"&$D$1&\" and localMonth(\"&$D$12&\") =\"&$E$1&\" and LocalDay(\"&$D$12&\")=\"&$F$1&\" and Barix(\"&$D$12&\",reference:=StartOfSession)=\"&A62&\"\", \"Bar\", \"\", \"Close\",\"5\",\"0\",\"PrimaryOnly\",,,\"False\",\"T\",\"EveryTick\")","v":""},{"$error":"#N/A"},{"$f":"RTD(\"cqg.rtd\",,\"StudyData\", \"Close(\"&$D$12&\") when LocalYear(\"&$D$12&\")=\"&$D$2&\" and localMonth(\"&$D$12&\") =\"&$E$2&\" and LocalDay(\"&$D$12&\")=\"&$F$2&\" and Barix(\"&$D$12&\",reference:=StartOfSession)=\"&A62&\"\", \"Bar\", \"\", \"Close\",\"5\",\"0\",\"PrimaryOnly\",,,\"False\",\"T\",\"EveryTick\")","v":165.93},-3.8422284925255833E-3,{"$f":"RTD(\"cqg.rtd\",,\"StudyData\", \"Close(\"&$D$12&\") when LocalYear(\"&$D$12&\")=\"&$D$3&\" and localMonth(\"&$D$12&\") =\"&$E$3&\" and LocalDay(\"&$D$12&\")=\"&$F$3&\" and Barix(\"&$D$12&\",reference:=StartOfSession)=\"&A62&\"\", \"Bar\", \"\", \"Close\",\"5\",\"0\",\"PrimaryOnly\",,,\"False\",\"T\",\"EveryTick\")","v":166.55},6.5268628754457754E-3,{"$f":"RTD(\"cqg.rtd\",,\"StudyData\", \"Close(\"&$D$12&\") when LocalYear(\"&$D$12&\")=\"&$D$4&\" and localMonth(\"&$D$12&\") =\"&$E$4&\" and LocalDay(\"&$D$12&\")=\"&$F$4&\" and Barix(\"&$D$12&\",reference:=StartOfSession)=\"&A62&\"\", \"Bar\", \"\", \"Close\",\"5\",\"0\",\"PrimaryOnly\",,,\"False\",\"T\",\"EveryTick\")","v":165.63},6.6457225712895853E-4,{"$f":"RTD(\"cqg.rtd\",,\"StudyData\", \"Close(\"&$D$12&\") when LocalYear(\"&$D$12&\")=\"&$D$5&\" and localMonth(\"&$D$12&\") =\"&$E$5&\" and LocalDay(\"&$D$12&\")=\"&$F$5&\" and Barix(\"&$D$12&\",reference:=StartOfSession)=\"&A62&\"\", \"Bar\", \"\", \"Close\",\"5\",\"0\",\"PrimaryOnly\",,,\"False\",\"T\",\"EveryTick\")","v":164.94},2.8576640116738548E-3,{"$f":"RTD(\"cqg.rtd\",,\"StudyData\", \"Close(\"&$D$12&\") when LocalYear(\"&$D$12&\")=\"&$D$6&\" and localMonth(\"&$D$12&\") =\"&$E$6&\" and LocalDay(\"&$D$12&\")=\"&$F$6&\" and Barix(\"&$D$12&\",reference:=StartOfSession)=\"&A62&\"\", \"Bar\", \"\", \"Close\",\"5\",\"0\",\"PrimaryOnly\",,,\"False\",\"T\",\"EveryTick\")","v":164.65},2.1302495435179202E-3,{"$f":"RTD(\"cqg.rtd\",,\"StudyData\", \"Close(\"&$D$12&\") when LocalYear(\"&$D$12&\")=\"&$D$7&\" and localMonth(\"&$D$12&\") =\"&$E$7&\" and LocalDay(\"&$D$12&\")=\"&$F$7&\" and Barix(\"&$D$12&\",reference:=StartOfSession)=\"&A62&\"\", \"Bar\", \"\", \"Close\",\"5\",\"0\",\"PrimaryOnly\",,,\"False\",\"T\",\"EveryTick\")","v":164.17},1.89185890394223E-3,{"$f":"RTD(\"cqg.rtd\",,\"StudyData\", \"Close(\"&$D$12&\") when LocalYear(\"&$D$12&\")=\"&$D$8&\" and localMonth(\"&$D$12&\") =\"&$E$8&\" and LocalDay(\"&$D$12&\")=\"&$F$8&\" and Barix(\"&$D$12&\",reference:=StartOfSession)=\"&A62&\"\", \"Bar\", \"\", \"Close\",\"5\",\"0\",\"PrimaryOnly\",,,\"False\",\"T\",\"EveryTick\")","v":163.56},-1.2080212611741966E-2,{"$f":"RTD(\"cqg.rtd\",,\"StudyData\", \"Close(\"&$D$12&\") when LocalYear(\"&$D$12&\")=\"&$D$9&\" and localMonth(\"&$D$12&\") =\"&$E$9&\" and LocalDay(\"&$D$12&\")=\"&$F$9&\" and Barix(\"&$D$12&\",reference:=StartOfSession)=\"&A62&\"\", \"Bar\", \"\", \"Close\",\"5\",\"0\",\"PrimaryOnly\",,,\"False\",\"T\",\"EveryTick\")","v":164.97},4.4447150511446034E-3,{"$f":"RTD(\"cqg.rtd\",,\"StudyData\", \"Close(\"&$D$12&\") when LocalYear(\"&$D$12&\")=\"&$D$10&\" and localMonth(\"&$D$12&\") =\"&$E$10&\" and LocalDay(\"&$D$12&\")=\"&$F$10&\" and Barix(\"&$D$12&\",reference:=StartOfSession)=\"&A62&\"\", \"Bar\", \"\", \"Close\",\"5\",\"0\",\"PrimaryOnly\",,,\"False\",\"T\",\"EveryTick\")","v":163.93},6.1376051064874482E-3,null,null,null,""]
[62,"13:40:00",-15,{"$f":" RTD(\"cqg.rtd\",,\"StudyData\", $D$12,  \"Tick\", \"FlatTicks=0\", \"Tick\",\"D\",C63,\"PrimaryOnly\")","v":165.98},null,null,null,{"$f":"RTD(\"cqg.rtd\",,\"StudyData\", \"Close(\"&$D$12&\") when LocalYear(\"&$D$12&\")=\"&$D$1&\" and localMonth(\"&$D$12&\") =\"&$E$1&\" and LocalDay(\"&$D$12&\")=\"&$F$1&\" and Barix(\"&$D$12&\",reference:=StartOfSession)=\"&A63&\"\", \"Bar\", \"\", \"Close\",\"5\",\"0\",\"PrimaryOnly\",,,\"False\",\"T\",\"EveryTick\")","v":""},{"$error":"#N/A"},{"$f":"RTD(\"cqg.rtd\",,\"StudyData\", \"Close(\"&$D$12&\") when LocalYear(\"&$D$12&\")=\"&$D$2&\" and localMonth(\"&$D$12&\") =\"&$E$2&\" and LocalDay(\"&$D$12&\")=\"&$F$2&\" and Barix(\"&$D$12&\",reference:=StartOfSession)=\"&A63&\"\", \"Bar\", \"\", \"Close\",\"5\",\"0\",\"PrimaryOnly\",,,\"False\",\"T\",\"EveryTick\")","v":165.9},-4.0223329531127302E-3,{"$f":"RTD(\"cqg.rtd\",,\"StudyData\", \"Close(\"&$D$12&\") when LocalYear(\"&$D$12&\")=\"&$D$3&\" and localMonth(\"&$D$12&\") =\"&$E$3&\" and LocalDay(\"&$D$12&\")=\"&$F$3&\" and Barix(\"&$D$12&\",reference:=StartOfSession)=\"&A63&\"\", \"Bar\", \"\", \"Close\",\"5\",\"0\",\"PrimaryOnly\",,,\"False\",\"T\",\"EveryTick\")","v":166.56},6.5872967909591067E-3,{"$f":"RTD(\"cqg.rtd\",,\"StudyData\", \"Close(\"&$D$12&\") when LocalYear(\"&$D$12&\")=\"&$D$4&\" and localMonth(\"&$D$12&\") =\"&$E$4&\" and LocalDay(\"&$D$12&\")=\"&$F$4&\" and Barix(\"&$D$12&\",reference:=StartOfSession)=\"&A63&\"\", \"Bar\", \"\", \"Close\",\"5\",\"0\",\"PrimaryOnly\",,,\"False\",\"T\",\"EveryTick\")","v":165.63},6.6457225712895853E-4,{"$f":"RTD(\"cqg.rtd\",,\"StudyData\", \"Close(\"&$D$12&\") when LocalYear(\"&$D$12&\")=\"&$D$5&\" and localMonth(\"&$D$12&\") =\"&$E$5&\" and LocalDay(\"&$D$12&\")=\"&$F$5&\" and Barix(\"&$D$12&\",reference:=StartOfSession)=\"&A63&\"\", \"Bar\", \"\", \"Close\",\"5\",\"0\",\"PrimaryOnly\",,,\"False\",\"T\",\"EveryTick\")","v":165.02},3.3440749072779921E-3,{"$f":"RTD(\"cqg.rtd\",,\"StudyData\", \"Close(\"&$D$12&\") when LocalYear(\"&$D$12&\")=\"&$D$6&\" and localMonth(\"&$D$12&\") =\"&$E$6&\" and LocalDay(\"&$D$12&\")=\"&$F$6&\" and Barix(\"&$D$12&\",reference:=StartOfSession)=\"&A63&\"\", \"Bar\", \"\", \"Close\",\"5\",\"0\",\"PrimaryOnly\",,,\"False\",\"T\",\"EveryTick\")","v":164.65},2.1302495435179202E-3,{"$f":"RTD(\"cqg.rtd\",,\"StudyData\", \"Close(\"&$D$12&\") when LocalYear(\"&$D$12&\")=\"&$D$7&\" and localMonth(\"&$D$12&\") =\"&$E$7&\" and LocalDay(\"&$D$12&\")=\"&$F$7&\" and Barix(\"&$D$12&\",reference:=StartOfSession)=\"&A63&\"\", \"Bar\", \"\", \"Close\",\"5\",\"0\",\"PrimaryOnly\",,,\"False\",\"T\",\"EveryTick\")","v":164.16},1.8308311973634988E-3,{"$f":"RTD(\"cqg.rtd\",,\"StudyData\", \"Close(\"&$D$12&\") when LocalYear(\"&$D$12&\")=\"&$D$8&\" and localMonth(\"&$D$12&\") =\"&$E$8&\" and LocalDay(\"&$D$12&\")=\"&$F$8&\" and Barix(\"&$D$12&\",reference:=StartOfSession)=\"&A63&\"\", \"Bar\", \"\", \"Close\",\"5\",\"0\",\"PrimaryOnly\",,,\"False\",\"T\",\"EveryTick\")","v":163.5},-1.244261899009424E-2,{"$f":"RTD(\"cqg.rtd\",,\"StudyData\", \"Close(\"&$D$12&\") when LocalYear(\"&$D$12&\")=\"&$D$9&\" and localMonth(\"&$D$12&\") =\"&$E$9&\" and LocalDay(\"&$D$12&\")=\"&$F$9&\" and Barix(\"&$D$12&\",reference:=StartOfSession)=\"&A63&\"\", \"Bar\", \"\", \"Close\",\"5\",\"0\",\"PrimaryOnly\",,,\"False\",\"T\",\"EveryTick\")","v":165.01},4.6882610813442629E-3,{"$f":"RTD(\"cqg.rtd\",,\"StudyData\", \"Close(\"&$D$12&\") when LocalYear(\"&$D$12&\")=\"&$D$10&\" and localMonth(\"&$D$12&\") =\"&$E$10&\" and LocalDay(\"&$D$12&\")=\"&$F$10&\" and Barix(\"&$D$12&\",reference:=StartOfSession)=\"&A63&\"\", \"Bar\", \"\", \"Close\",\"5\",\"0\",\"PrimaryOnly\",,,\"False\",\"T\",\"EveryTick\")","v":164},6.5672374639415276E-3,null,null,null,""]
[63,"13:45:00",-14,{"$f":" RTD(\"cqg.rtd\",,\"StudyData\", $D$12,  \"Tick\", \"FlatTicks=0\", \"Tick\",\"D\",C64,\"PrimaryOnly\")","v":165.97},null,null,null,{"$f":"RTD(\"cqg.rtd\",,\"StudyData\", \"Close(\"&$D$12&\") when LocalYear(\"&$D$12&\")=\"&$D$1&\" and localMonth(\"&$D$12&\") =\"&$E$1&\" and LocalDay(\"&$D$12&\")=\"&$F$1&\" and Barix(\"&$D$12&\",reference:=StartOfSession)=\"&A64&\"\", \"Bar\", \"\", \"Close\",\"5\",\"0\",\"PrimaryOnly\",,,\"False\",\"T\",\"EveryTick\")","v":""},{"$error":"#N/A"},{"$f":"RTD(\"cqg.rtd\",,\"StudyData\", \"Close(\"&$D$12&\") when LocalYear(\"&$D$12&\")=\"&$D$2&\" and localMonth(\"&$D$12&\") =\"&$E$2&\" and LocalDay(\"&$D$12&\")=\"&$F$2&\" and Barix(\"&$D$12&\",reference:=StartOfSession)=\"&A64&\"\", \"Bar\", \"\", \"Close\",\"5\",\"0\",\"PrimaryOnly\",,,\"False\",\"T\",\"EveryTick\")","v":165.92},-3.9022633127214126E-3,{"$f":"RTD(\"cqg.rtd\",,\"StudyData\", \"Close(\"&$D$12&\") when LocalYear(\"&$D$12&\")=\"&$D$3&\" and localMonth(\"&$D$12&\") =\"&$E$3&\" and LocalDay(\"&$D$12&\")=\"&$F$3&\" and Barix(\"&$D$12&\",reference:=StartOfSession)=\"&A64&\"\", \"Bar\", \"\", \"Close\",\"5\",\"0\",\"PrimaryOnly\",,,\"False\",\"T\",\"EveryTick\")","v":166.49},6.1642593823654449E-3,{"$f":"RTD(\"cqg.rtd\",,\"StudyData\", \"Close(\"&$D$12&\") when LocalYear(\"&$D$12&\")=\"&$D$4&\" and localMonth(\"&$D$12&\") =\"&$E$4&\" and LocalDay(\"&$D$12&\")=\"&$F$4&\" and Barix(\"&$D$12&\",reference:=StartOfSession)=\"&A64&\"\", \"Bar\", \"\", \"Close\",\"5\",\"0\",\"PrimaryOnly\",,,\"False\",\"T\",\"EveryTick\")","v":165.45},-4.2290961817316095E-4,{"$f":"RTD(\"cqg.rtd\",,\"StudyData\", \"Close(\"&$D$12&\") when LocalYear(\"&$D$12&\")=\"&$D$5&\" and localMonth(\"&$D$12&\") =\"&$E$5&\" and LocalDay(\"&$D$12&\")=\"&$F$5&\" and Barix(\"&$D$12&\",reference:=StartOfSession)=\"&A64&\"\", \"Bar\", \"\", \"Close\",\"5\",\"0\",\"PrimaryOnly\",,,\"False\",\"T\",\"EveryTick\")","v":165.01},3.2832735453273668E-3,{"$f":"RTD(\"cqg.rtd\",,\"StudyData\", \"Close(\"&$D$12&\") when LocalYear(\"&$D$12&\")=\"&$D$6&\" and localMonth(\"&$D$12&\") =\"&$E$6&\" and LocalDay(\"&$D$12&\")=\"&$F$6&\" and Barix(\"&$D$12&\",reference:=StartOfSession)=\"&A64&\"\", \"Bar\", \"\", \"Close\",\"5\",\"0\",\"PrimaryOnly\",,,\"False\",\"T\",\"EveryTick\")","v":164.68},2.312842361533752E-3,{"$f":"RTD(\"cqg.rtd\",,\"StudyData\", \"Close(\"&$D$12&\") when LocalYear(\"&$D$12&\")=\"&$D$7&\" and localMonth(\"&$D$12&\") =\"&$E$7&\" and LocalDay(\"&$D$12&\")=\"&$F$7&\" and Barix(\"&$D$12&\",reference:=StartOfSession)=\"&A64&\"\", \"Bar\", \"\", \"Close\",\"5\",\"0\",\"PrimaryOnly\",,,\"False\",\"T\",\"EveryTick\")","v":164.21},2.1359697302575022E-3,{"$f":"RTD(\"cqg.rtd\",,\"StudyData\", \"Close(\"&$D$12&\") when LocalYear(\"&$D$12&\")=\"&$D$8&\" and localMonth(\"&$D$12&\") =\"&$E$8&\" and LocalDay(\"&$D$12&\")=\"&$F$8&\" and Barix(\"&$D$12&\",reference:=StartOfSession)=\"&A64&\"\", \"Bar\", \"\", \"Close\",\"5\",\"0\",\"PrimaryOnly\",,,\"False\",\"T\",\"EveryTick\")","v":163.5},-1.244261899009424E-2,{"$f":"RTD(\"cqg.rtd\",,\"StudyData\", \"Close(\"&$D$12&\") when LocalYear(\"&$D$12&\")=\"&$D$9&\" and localMonth(\"&$D$12&\") =\"&$E$9&\" and LocalDay(\"&$D$12&\")=\"&$F$9&\" and Barix(\"&$D$12&\",reference:=StartOfSession)=\"&A64&\"\", \"Bar\", \"\", \"Close\",\"5\",\"0\",\"PrimaryOnly\",,,\"False\",\"T\",\"EveryTick\")","v":165.1},5.236239649293626E-3,{"$f":"RTD(\"cqg.rtd\",,\"StudyData\", \"Close(\"&$D$12&\") when LocalYear(\"&$D$12&\")=\"&$D$10&\" and localMonth(\"&$D$12&\") =\"&$E$10&\" and LocalDay(\"&$D$12&\")=\"&$F$10&\" and Barix(\"&$D$12&\",reference:=StartOfSession)=\"&A64&\"\", \"Bar\", \"\", \"Close\",\"5\",\"0\",\"PrimaryOnly\",,,\"False\",\"T\",\"EveryTick\")","v":164},6.5672374639415276E-3,null,null,null,""]
[64,"13:50:00",-13,{"$f":" RTD(\"cqg.rtd\",,\"StudyData\", $D$12,  \"Tick\", \"FlatTicks=0\", \"Tick\",\"D\",C65,\"PrimaryOnly\")","v":166.01},null,null,null,{"$f":"RTD(\"cqg.rtd\",,\"StudyData\", \"Close(\"&$D$12&\") when LocalYear(\"&$D$12&\")=\"&$D$1&\" and localMonth(\"&$D$12&\") =\"&$E$1&\" and LocalDay(\"&$D$12&\")=\"&$F$1&\" and Barix(\"&$D$12&\",reference:=StartOfSession)=\"&A65&\"\", \"Bar\", \"\", \"Close\",\"5\",\"0\",\"PrimaryOnly\",,,\"False\",\"T\",\"EveryTick\")","v":""},{"$error":"#N/A"},{"$f":"RTD(\"cqg.rtd\",,\"StudyData\", \"Close(\"&$D$12&\") when LocalYear(\"&$D$12&\")=\"&$D$2&\" and localMonth(\"&$D$12&\") =\"&$E$2&\" and LocalDay(\"&$D$12&\")=\"&$F$2&\" and Barix(\"&$D$12&\",reference:=StartOfSession)=\"&A65&\"\", \"Bar\", \"\", \"Close\",\"5\",\"0\",\"PrimaryOnly\",,,\"False\",\"T\",\"EveryTick\")","v":165.86},-4.2624722338955364E-3,{"$f":"RTD(\"cqg.rtd\",,\"StudyData\", \"Close(\"&$D$12&\") when LocalYear(\"&$D$12&\")=\"&$D$3&\" and localMonth(\"&$D$12&\") =\"&$E$3&\" and LocalDay(\"&$D$12&\")=\"&$F$3&\" and Barix(\"&$D$12&\",reference:=StartOfSession)=\"&A65&\"\", \"Bar\", \"\", \"Close\",\"5\",\"0\",\"PrimaryOnly\",,,\"False\",\"T\",\"EveryTick\")","v":166.39},5.5599202272314466E-3,{"$f":"RTD(\"cqg.rtd\",,\"StudyData\", \"Close(\"&$D$12&\") when LocalYear(\"&$D$12&\")=\"&$D$4&\" and localMonth(\"&$D$12&\") =\"&$E$4&\" and LocalDay(\"&$D$12&\")=\"&$F$4&\" and Barix(\"&$D$12&\",reference:=StartOfSession)=\"&A65&\"\", \"Bar\", \"\", \"Close\",\"5\",\"0\",\"PrimaryOnly\",,,\"False\",\"T\",\"EveryTick\")","v":165.66},8.4581923634597842E-4,{"$f":"RTD(\"cqg.rtd\",,\"StudyData\", \"Close(\"&$D$12&\") when LocalYear(\"&$D$12&\")=\"&$D$5&\" and localMonth(\"&$D$12&\") =\"&$E$5&\" and LocalDay(\"&$D$12&\")=\"&$F$5&\" and Barix(\"&$D$12&\",reference:=StartOfSession)=\"&A65&\"\", \"Bar\", \"\", \"Close\",\"5\",\"0\",\"PrimaryOnly\",,,\"False\",\"T\",\"EveryTick\")","v":165.01},3.2832735453273668E-3,{"$f":"RTD(\"cqg.rtd\",,\"StudyData\", \"Close(\"&$D$12&\") when LocalYear(\"&$D$12&\")=\"&$D$6&\" and localMonth(\"&$D$12&\") =\"&$E$6&\" and LocalDay(\"&$D$12&\")=\"&$F$6&\" and Barix(\"&$D$12&\",reference:=StartOfSession)=\"&A65&\"\", \"Bar\", \"\", \"Close\",\"5\",\"0\",\"PrimaryOnly\",,,\"False\",\"T\",\"EveryTick\")","v":164.68},2.312842361533752E-3,{"$f":"RTD(\"cqg.rtd\",,\"StudyData\", \"Close(\"&$D$12&\") when LocalYear(\"&$D$12&\")=\"&$D$7&\" and localMonth(\"&$D$12&\") =\"&$E$7&\" and LocalDay(\"&$D$12&\")=\"&$F$7&\" and Barix(\"&$D$12&\",reference:=StartOfSession)=\"&A65&\"\", \"Bar\", \"\", \"Close\",\"5\",\"0\",\"PrimaryOnly\",,,\"False\",\"T\",\"EveryTick\")","v":164.26},2.4411082631513319E-3,{"$f":"RTD(\"cqg.rtd\",,\"StudyData\", \"Close(\"&$D$12&\") when LocalYear(\"&$D$12&\")=\"&$D$8&\" and localMonth(\"&$D$12&\") =\"&$E$8&\" and LocalDay(\"&$D$12&\")=\"&$F$8&\" and Barix(\"&$D$12&\",reference:=StartOfSession)=\"&A65&\"\", \"Bar\", \"\", \"Close\",\"5\",\"0\",\"PrimaryOnly\",,,\"False\",\"T\",\"EveryTick\")","v":163.5},-1.244261899009424E-2,{"$f":"RTD(\"cqg.rtd\",,\"StudyData\", \"Close(\"&$D$12&\") when LocalYear(\"&$D$12&\")=\"&$D$9&\" and localMonth(\"&$D$12&\") =\"&$E$9&\" and LocalDay(\"&$D$12&\")=\"&$F$9&\" and Barix(\"&$D$12&\",reference:=StartOfSession)=\"&A65&\"\", \"Bar\", \"\", \"Close\",\"5\",\"0\",\"PrimaryOnly\",,,\"False\",\"T\",\"EveryTick\")","v":165.11},5.297126156843671E-3,{"$f":"RTD(\"cqg.rtd\",,\"StudyData\", \"Close(\"&$D$12&\") when LocalYear(\"&$D$12&\")=\"&$D$10&\" and localMonth(\"&$D$12&\") =\"&$E$10&\" and LocalDay(\"&$D$12&\")=\"&$F$10&\" and Barix(\"&$D$12&\",reference:=StartOfSession)=\"&A65&\"\", \"Bar\", \"\", \"Close\",\"5\",\"0\",\"PrimaryOnly\",,,\"False\",\"T\",\"EveryTick\")","v":164.13},7.3651261277848682E-3,null,null,null,""]
[65,"13:55:00",-12,{"$f":" RTD(\"cqg.rtd\",,\"StudyData\", $D$12,  \"Tick\", \"FlatTicks=0\", \"Tick\",\"D\",C66,\"PrimaryOnly\")","v":166},null,null,null,{"$f":"RTD(\"cqg.rtd\",,\"StudyData\", \"Close(\"&$D$12&\") when LocalYear(\"&$D$12&\")=\"&$D$1&\" and localMonth(\"&$D$12&\") =\"&$E$1&\" and LocalDay(\"&$D$12&\")=\"&$F$1&\" and Barix(\"&$D$12&\",reference:=StartOfSession)=\"&A66&\"\", \"Bar\", \"\", \"Close\",\"5\",\"0\",\"PrimaryOnly\",,,\"False\",\"T\",\"EveryTick\")","v":""},{"$error":"#N/A"},{"$f":"RTD(\"cqg.rtd\",,\"StudyData\", \"Close(\"&$D$12&\") when LocalYear(\"&$D$12&\")=\"&$D$2&\" and localMonth(\"&$D$12&\") =\"&$E$2&\" and LocalDay(\"&$D$12&\")=\"&$F$2&\" and Barix(\"&$D$12&\",reference:=StartOfSession)=\"&A66&\"\", \"Bar\", \"\", \"Close\",\"5\",\"0\",\"PrimaryOnly\",,,\"False\",\"T\",\"EveryTick\")","v":165.87},{"$f":"IFERROR((J66-$G$3)/$G$3,NA())","v":-4.202437413699878E-3},{"$f":"RTD(\"cqg.rtd\",,\"StudyData\", \"Close(\"&$D$12&\") when LocalYear(\"&$D$12&\")=\"&$D$3&\" and localMonth(\"&$D$12&\") =\"&$E$3&\" and LocalDay(\"&$D$12&\")=\"&$F$3&\" and Barix(\"&$D$12&\",reference:=StartOfSession)=\"&A66&\"\", \"Bar\", \"\", \"Close\",\"5\",\"0\",\"PrimaryOnly\",,,\"False\",\"T\",\"EveryTick\")","v":166.09},{"$f":"IFERROR((L66-$G$4)/$G$4,NA())","v":3.7469027618299666E-3},{"$f":"RTD(\"cqg.rtd\",,\"StudyData\", \"Close(\"&$D$12&\") when LocalYear(\"&$D$12&\")=\"&$D$4&\" and localMonth(\"&$D$12&\") =\"&$E$4&\" and LocalDay(\"&$D$12&\")=\"&$F$4&\" and Barix(\"&$D$12&\",reference:=StartOfSession)=\"&A66&\"\", \"Bar\", \"\", \"Close\",\"5\",\"0\",\"PrimaryOnly\",,,\"False\",\"T\",\"EveryTick\")","v":165.9},{"$f":"IFERROR((N66-$G$5)/$G$5,NA())","v":2.2957950700821378E-3},{"$f":"RTD(\"cqg.rtd\",,\"StudyData\", \"Close(\"&$D$12&\") when LocalYear(\"&$D$12&\")=\"&$D$5&\" and localMonth(\"&$D$12&\") =\"&$E$5&\" and LocalDay(\"&$D$12&\")=\"&$F$5&\" and Barix(\"&$D$12&\",reference:=StartOfSession)=\"&A66&\"\", \"Bar\", \"\", \"Close\",\"5\",\"0\",\"PrimaryOnly\",,,\"False\",\"T\",\"EveryTick\")","v":164.99},{"$f":"IFERROR((P66-$G$6)/$G$6,NA())","v":3.1616708214264621E-3},{"$f":"RTD(\"cqg.rtd\",,\"StudyData\", \"Close(\"&$D$12&\") when LocalYear(\"&$D$12&\")=\"&$D$6&\" and localMonth(\"&$D$12&\") =\"&$E$6&\" and LocalDay(\"&$D$12&\")=\"&$F$6&\" and Barix(\"&$D$12&\",reference:=StartOfSession)=\"&A66&\"\", \"Bar\", \"\", \"Close\",\"5\",\"0\",\"PrimaryOnly\",,,\"False\",\"T\",\"EveryTick\")","v":164.68},{"$f":"IFERROR((R66-$G$7)/$G$7,NA())","v":2.312842361533752E-3},{"$f":"RTD(\"cqg.rtd\",,\"StudyData\", \"Close(\"&$D$12&\") when LocalYear(\"&$D$12&\")=\"&$D$7&\" and localMonth(\"&$D$12&\") =\"&$E$7&\" and LocalDay(\"&$D$12&\")=\"&$F$7&\" and Barix(\"&$D$12&\",reference:=StartOfSession)=\"&A66&\"\", \"Bar\", \"\", \"Close\",\"5\",\"0\",\"PrimaryOnly\",,,\"False\",\"T\",\"EveryTick\")","v":164.14},{"$f":"IFERROR((T66-$G$8)/$G$8,NA())","v":1.7087757842058628E-3},{"$f":"RTD(\"cqg.rtd\",,\"StudyData\", \"Close(\"&$D$12&\") when LocalYear(\"&$D$12&\")=\"&$D$8&\" and localMonth(\"&$D$12&\") =\"&$E$8&\" and LocalDay(\"&$D$12&\")=\"&$F$8&\" and Barix(\"&$D$12&\",reference:=StartOfSession)=\"&A66&\"\", \"Bar\", \"\", \"Close\",\"5\",\"0\",\"PrimaryOnly\",,,\"False\",\"T\",\"EveryTick\")","v":163.65},{"$f":"IFERROR((V66-$G$9)/$G$9,NA())","v":-1.1536603044213558E-2},{"$f":"RTD(\"cqg.rtd\",,\"StudyData\", \"Close(\"&$D$12&\") when LocalYear(\"&$D$12&\")=\"&$D$9&\" and localMonth(\"&$D$12&\") =\"&$E$9&\" and LocalDay(\"&$D$12&\")=\"&$F$9&\" and Barix(\"&$D$12&\",reference:=StartOfSession)=\"&A66&\"\", \"Bar\", \"\", \"Close\",\"5\",\"0\",\"PrimaryOnly\",,,\"False\",\"T\",\"EveryTick\")","v":165.15},{"$f":"IFERROR((X66-$G$10)/$G$10,NA())","v":5.5406721870433304E-3},{"$f":"RTD(\"cqg.rtd\",,\"StudyData\", \"Close(\"&$D$12&\") when LocalYear(\"&$D$12&\")=\"&$D$10&\" and localMonth(\"&$D$12&\") =\"&$E$10&\" and LocalDay(\"&$D$12&\")=\"&$F$10&\" and Barix(\"&$D$12&\",reference:=StartOfSession)=\"&A66&\"\", \"Bar\", \"\", \"Close\",\"5\",\"0\",\"PrimaryOnly\",,,\"False\",\"T\",\"EveryTick\")","v":164.13},{"$f":"IFERROR((Z66-$G$11)/$G$11,NA())","v":7.3651261277848682E-3},null,null,null,""]
[{"$f":"A66+1","v":66},"14:00:00",-11,{"$f":" RTD(\"cqg.rtd\",,\"StudyData\", $D$12,  \"Tick\", \"FlatTicks=0\", \"Tick\",\"D\",C67,\"PrimaryOnly\")","v":166.07},null,null,null,{"$f":"RTD(\"cqg.rtd\",,\"StudyData\", \"Close(\"&$D$12&\") when LocalYear(\"&$D$12&\")=\"&$D$1&\" and localMonth(\"&$D$12&\") =\"&$E$1&\" and LocalDay(\"&$D$12&\")=\"&$F$1&\" and Barix(\"&$D$12&\",reference:=StartOfSession)=\"&A67&\"\", \"Bar\", \"\", \"Close\",\"5\",\"0\",\"PrimaryOnly\",,,\"False\",\"T\",\"EveryTick\")","v":""},{"$f":"IFERROR((H67-$G$2)/$G$2,NA())","v":{"$error":"#N/A"}},{"$f":"RTD(\"cqg.rtd\",,\"StudyData\", \"Close(\"&$D$12&\") when LocalYear(\"&$D$12&\")=\"&$D$2&\" and localMonth(\"&$D$12&\") =\"&$E$2&\" and LocalDay(\"&$D$12&\")=\"&$F$2&\" and Barix(\"&$D$12&\",reference:=StartOfSession)=\"&A67&\"\", \"Bar\", \"\", \"Close\",\"5\",\"0\",\"PrimaryOnly\",,,\"False\",\"T\",\"EveryTick\")","v":165.81},-4.5626463348741727E-3,{"$f":"RTD(\"cqg.rtd\",,\"StudyData\", \"Close(\"&$D$12&\") when LocalYear(\"&$D$12&\")=\"&$D$3&\" and localMonth(\"&$D$12&\") =\"&$E$3&\" and LocalDay(\"&$D$12&\")=\"&$F$3&\" and Barix(\"&$D$12&\",reference:=StartOfSession)=\"&A67&\"\", \"Bar\", \"\", \"Close\",\"5\",\"0\",\"PrimaryOnly\",,,\"False\",\"T\",\"EveryTick\")","v":166.16},4.1699401704236279E-3,{"$f":"RTD(\"cqg.rtd\",,\"StudyData\", \"Close(\"&$D$12&\") when LocalYear(\"&$D$12&\")=\"&$D$4&\" and localMonth(\"&$D$12&\") =\"&$E$4&\" and LocalDay(\"&$D$12&\")=\"&$F$4&\" and Barix(\"&$D$12&\",reference:=StartOfSession)=\"&A67&\"\", \"Bar\", \"\", \"Close\",\"5\",\"0\",\"PrimaryOnly\",,,\"False\",\"T\",\"EveryTick\")","v":166.3},4.7124214596423455E-3,{"$f":"RTD(\"cqg.rtd\",,\"StudyData\", \"Close(\"&$D$12&\") when LocalYear(\"&$D$12&\")=\"&$D$5&\" and localMonth(\"&$D$12&\") =\"&$E$5&\" and LocalDay(\"&$D$12&\")=\"&$F$5&\" and Barix(\"&$D$12&\",reference:=StartOfSession)=\"&A67&\"\", \"Bar\", \"\", \"Close\",\"5\",\"0\",\"PrimaryOnly\",,,\"False\",\"T\",\"EveryTick\")","v":165},3.2224721833769144E-3,{"$f":"RTD(\"cqg.rtd\",,\"StudyData\", \"Close(\"&$D$12&\") when LocalYear(\"&$D$12&\")=\"&$D$6&\" and localMonth(\"&$D$12&\") =\"&$E$6&\" and LocalDay(\"&$D$12&\")=\"&$F$6&\" and Barix(\"&$D$12&\",reference:=StartOfSession)=\"&A67&\"\", \"Bar\", \"\", \"Close\",\"5\",\"0\",\"PrimaryOnly\",,,\"False\",\"T\",\"EveryTick\")","v":164.68},2.312842361533752E-3,{"$f":"RTD(\"cqg.rtd\",,\"StudyData\", \"Close(\"&$D$12&\") when LocalYear(\"&$D$12&\")=\"&$D$7&\" and localMonth(\"&$D$12&\") =\"&$E$7&\" and LocalDay(\"&$D$12&\")=\"&$F$7&\" and Barix(\"&$D$12&\",reference:=StartOfSession)=\"&A67&\"\", \"Bar\", \"\", \"Close\",\"5\",\"0\",\"PrimaryOnly\",,,\"False\",\"T\",\"EveryTick\")","v":164.14},1.7087757842058628E-3,{"$f":"RTD(\"cqg.rtd\",,\"StudyData\", \"Close(\"&$D$12&\") when LocalYear(\"&$D$12&\")=\"&$D$8&\" and localMonth(\"&$D$12&\") =\"&$E$8&\" and LocalDay(\"&$D$12&\")=\"&$F$8&\" and Barix(\"&$D$12&\",reference:=StartOfSession)=\"&A67&\"\", \"Bar\", \"\", \"Close\",\"5\",\"0\",\"PrimaryOnly\",,,\"False\",\"T\",\"EveryTick\")","v":163.59},-1.189900942256583E-2,{"$f":"RTD(\"cqg.rtd\",,\"StudyData\", \"Close(\"&$D$12&\") when LocalYear(\"&$D$12&\")=\"&$D$9&\" and localMonth(\"&$D$12&\") =\"&$E$9&\" and LocalDay(\"&$D$12&\")=\"&$F$9&\" and Barix(\"&$D$12&\",reference:=StartOfSession)=\"&A67&\"\", \"Bar\", \"\", \"Close\",\"5\",\"0\",\"PrimaryOnly\",,,\"False\",\"T\",\"EveryTick\")","v":165.17},5.6624452021430734E-3,{"$f":"RTD(\"cqg.rtd\",,\"StudyData\", \"Close(\"&$D$12&\") when LocalYear(\"&$D$12&\")=\"&$D$10&\" and localMonth(\"&$D$12&\") =\"&$E$10&\" and LocalDay(\"&$D$12&\")=\"&$F$10&\" and Barix(\"&$D$12&\",reference:=StartOfSession)=\"&A67&\"\", \"Bar\", \"\", \"Close\",\"5\",\"0\",\"PrimaryOnly\",,,\"False\",\"T\",\"EveryTick\")","v":164.01},6.6286135150063468E-3,null,null,null,{"$f":"IF(AND(H66<>\"\",H67<>\"\",H68=\"\"),A67,\"\")","v":""}]
[67,"14:05:00",-10,{"$f":" RTD(\"cqg.rtd\",,\"StudyData\", $D$12,  \"Tick\", \"FlatTicks=0\", \"Tick\",\"D\",C68,\"PrimaryOnly\")","v":164.76},null,null,null,{"$f":"RTD(\"cqg.rtd\",,\"StudyData\", \"Close(\"&$D$12&\") when LocalYear(\"&$D$12&\")=\"&$D$1&\" and localMonth(\"&$D$12&\") =\"&$E$1&\" and LocalDay(\"&$D$12&\")=\"&$F$1&\" and Barix(\"&$D$12&\",reference:=StartOfSession)=\"&A68&\"\", \"Bar\", \"\", \"Close\",\"5\",\"0\",\"PrimaryOnly\",,,\"False\",\"T\",\"EveryTick\")","v":""},{"$error":"#N/A"},{"$f":"RTD(\"cqg.rtd\",,\"StudyData\", \"Close(\"&$D$12&\") when LocalYear(\"&$D$12&\")=\"&$D$2&\" and localMonth(\"&$D$12&\") =\"&$E$2&\" and LocalDay(\"&$D$12&\")=\"&$F$2&\" and Barix(\"&$D$12&\",reference:=StartOfSession)=\"&A68&\"\", \"Bar\", \"\", \"Close\",\"5\",\"0\",\"PrimaryOnly\",,,\"False\",\"T\",\"EveryTick\")","v":165.81},-4.5626463348741727E-3,{"$f":"RTD(\"cqg.rtd\",,\"StudyData\", \"Close(\"&$D$12&\") when LocalYear(\"&$D$12&\")=\"&$D$3&\" and localMonth(\"&$D$12&\") =\"&$E$3&\" and LocalDay(\"&$D$12&\")=\"&$F$3&\" and Barix(\"&$D$12&\",reference:=StartOfSession)=\"&A68&\"\", \"Bar\", \"\", \"Close\",\"5\",\"0\",\"PrimaryOnly\",,,\"False\",\"T\",\"EveryTick\")","v":166.18},4.2908080014504623E-3,{"$f":"RTD(\"cqg.rtd\",,\"StudyData\", \"Close(\"&$D$12&\") when LocalYear(\"&$D$12&\")=\"&$D$4&\" and localMonth(\"&$D$12&\") =\"&$E$4&\" and LocalDay(\"&$D$12&\")=\"&$F$4&\" and Barix(\"&$D$12&\",reference:=StartOfSession)=\"&A68&\"\", \"Bar\", \"\", \"Close\",\"5\",\"0\",\"PrimaryOnly\",,,\"False\",\"T\",\"EveryTick\")","v":166.22},4.2290961817302358E-3,{"$f":"RTD(\"cqg.rtd\",,\"StudyData\", \"Close(\"&$D$12&\") when LocalYear(\"&$D$12&\")=\"&$D$5&\" and localMonth(\"&$D$12&\") =\"&$E$5&\" and LocalDay(\"&$D$12&\")=\"&$F$5&\" and Barix(\"&$D$12&\",reference:=StartOfSession)=\"&A68&\"\", \"Bar\", \"\", \"Close\",\"5\",\"0\",\"PrimaryOnly\",,,\"False\",\"T\",\"EveryTick\")","v":165.06},3.5872803550799745E-3,{"$f":"RTD(\"cqg.rtd\",,\"StudyData\", \"Close(\"&$D$12&\") when LocalYear(\"&$D$12&\")=\"&$D$6&\" and localMonth(\"&$D$12&\") =\"&$E$6&\" and LocalDay(\"&$D$12&\")=\"&$F$6&\" and Barix(\"&$D$12&\",reference:=StartOfSession)=\"&A68&\"\", \"Bar\", \"\", \"Close\",\"5\",\"0\",\"PrimaryOnly\",,,\"False\",\"T\",\"EveryTick\")","v":164.68},2.312842361533752E-3,{"$f":"RTD(\"cqg.rtd\",,\"StudyData\", \"Close(\"&$D$12&\") when LocalYear(\"&$D$12&\")=\"&$D$7&\" and localMonth(\"&$D$12&\") =\"&$E$7&\" and LocalDay(\"&$D$12&\")=\"&$F$7&\" and Barix(\"&$D$12&\",reference:=StartOfSession)=\"&A68&\"\", \"Bar\", \"\", \"Close\",\"5\",\"0\",\"PrimaryOnly\",,,\"False\",\"T\",\"EveryTick\")","v":164.17},1.89185890394223E-3,{"$f":"RTD(\"cqg.rtd\",,\"StudyData\", \"Close(\"&$D$12&\") when LocalYear(\"&$D$12&\")=\"&$D$8&\" and localMonth(\"&$D$12&\") =\"&$E$8&\" and LocalDay(\"&$D$12&\")=\"&$F$8&\" and Barix(\"&$D$12&\",reference:=StartOfSession)=\"&A68&\"\", \"Bar\", \"\", \"Close\",\"5\",\"0\",\"PrimaryOnly\",,,\"False\",\"T\",\"EveryTick\")","v":163.74},-1.0992993476685147E-2,{"$f":"RTD(\"cqg.rtd\",,\"StudyData\", \"Close(\"&$D$12&\") when LocalYear(\"&$D$12&\")=\"&$D$9&\" and localMonth(\"&$D$12&\") =\"&$E$9&\" and LocalDay(\"&$D$12&\")=\"&$F$9&\" and Barix(\"&$D$12&\",reference:=StartOfSession)=\"&A68&\"\", \"Bar\", \"\", \"Close\",\"5\",\"0\",\"PrimaryOnly\",,,\"False\",\"T\",\"EveryTick\")","v":165.17},5.6624452021430734E-3,{"$f":"RTD(\"cqg.rtd\",,\"StudyData\", \"Close(\"&$D$12&\") when LocalYear(\"&$D$12&\")=\"&$D$10&\" and localMonth(\"&$D$12&\") =\"&$E$10&\" and LocalDay(\"&$D$12&\")=\"&$F$10&\" and Barix(\"&$D$12&\",reference:=StartOfSession)=\"&A68&\"\", \"Bar\", \"\", \"Close\",\"5\",\"0\",\"PrimaryOnly\",,,\"False\",\"T\",\"EveryTick\")","v":164.01},6.6286135150063468E-3,null,null,null,""]
[68,"14:10:00",-9,{"$f":" RTD(\"cqg.rtd\",,\"StudyData\", $D$12,  \"Tick\", \"FlatTicks=0\", \"Tick\",\"D\",C69,\"PrimaryOnly\")","v":164.77},null,null,null,{"$f":"RTD(\"cqg.rtd\",,\"StudyData\", \"Close(\"&$D$12&\") when LocalYear(\"&$D$12&\")=\"&$D$1&\" and localMonth(\"&$D$12&\") =\"&$E$1&\" and LocalDay(\"&$D$12&\")=\"&$F$1&\" and Barix(\"&$D$12&\",reference:=StartOfSession)=\"&A69&\"\", \"Bar\", \"\", \"Close\",\"5\",\"0\",\"PrimaryOnly\",,,\"False\",\"T\",\"EveryTick\")","v":""},{"$error":"#N/A"},{"$f":"RTD(\"cqg.rtd\",,\"StudyData\", \"Close(\"&$D$12&\") when LocalYear(\"&$D$12&\")=\"&$D$2&\" and localMonth(\"&$D$12&\") =\"&$E$2&\" and LocalDay(\"&$D$12&\")=\"&$F$2&\" and Barix(\"&$D$12&\",reference:=StartOfSession)=\"&A69&\"\", \"Bar\", \"\", \"Close\",\"5\",\"0\",\"PrimaryOnly\",,,\"False\",\"T\",\"EveryTick\")","v":165.81},-4.5626463348741727E-3,{"$f":"RTD(\"cqg.rtd\",,\"StudyData\", \"Close(\"&$D$12&\") when LocalYear(\"&$D$12&\")=\"&$D$3&\" and localMonth(\"&$D$12&\") =\"&$E$3&\" and LocalDay(\"&$D$12&\")=\"&$F$3&\" and Barix(\"&$D$12&\",reference:=StartOfSession)=\"&A69&\"\", \"Bar\", \"\", \"Close\",\"5\",\"0\",\"PrimaryOnly\",,,\"False\",\"T\",\"EveryTick\")","v":166.39},5.5599202272314466E-3,{"$f":"RTD(\"cqg.rtd\",,\"StudyData\", \"Close(\"&$D$12&\") when LocalYear(\"&$D$12&\")=\"&$D$4&\" and localMonth(\"&$D$12&\") =\"&$E$4&\" and LocalDay(\"&$D$12&\")=\"&$F$4&\" and Barix(\"&$D$12&\",reference:=StartOfSession)=\"&A69&\"\", \"Bar\", \"\", \"Close\",\"5\",\"0\",\"PrimaryOnly\",,,\"False\",\"T\",\"EveryTick\")","v":166.15},3.8061865635572465E-3,{"$f":"RTD(\"cqg.rtd\",,\"StudyData\", \"Close(\"&$D$12&\") when LocalYear(\"&$D$12&\")=\"&$D$5&\" and localMonth(\"&$D$12&\") =\"&$E$5&\" and LocalDay(\"&$D$12&\")=\"&$F$5&\" and Barix(\"&$D$12&\",reference:=StartOfSession)=\"&A69&\"\", \"Bar\", \"\", \"Close\",\"5\",\"0\",\"PrimaryOnly\",,,\"False\",\"T\",\"EveryTick\")","v":165.06},3.5872803550799745E-3,{"$f":"RTD(\"cqg.rtd\",,\"StudyData\", \"Close(\"&$D$12&\") when LocalYear(\"&$D$12&\")=\"&$D$6&\" and localMonth(\"&$D$12&\") =\"&$E$6&\" and LocalDay(\"&$D$12&\")=\"&$F$6&\" and Barix(\"&$D$12&\",reference:=StartOfSession)=\"&A69&\"\", \"Bar\", \"\", \"Close\",\"5\",\"0\",\"PrimaryOnly\",,,\"False\",\"T\",\"EveryTick\")","v":164.68},2.312842361533752E-3,{"$f":"RTD(\"cqg.rtd\",,\"StudyData\", \"Close(\"&$D$12&\") when LocalYear(\"&$D$12&\")=\"&$D$7&\" and localMonth(\"&$D$12&\") =\"&$E$7&\" and LocalDay(\"&$D$12&\")=\"&$F$7&\" and Barix(\"&$D$12&\",reference:=StartOfSession)=\"&A69&\"\", \"Bar\", \"\", \"Close\",\"5\",\"0\",\"PrimaryOnly\",,,\"False\",\"T\",\"EveryTick\")","v":164.19},2.0139143170998662E-3,{"$f":"RTD(\"cqg.rtd\",,\"StudyData\", \"Close(\"&$D$12&\") when LocalYear(\"&$D$12&\")=\"&$D$8&\" and localMonth(\"&$D$12&\") =\"&$E$8&\" and LocalDay(\"&$D$12&\")=\"&$F$8&\" and Barix(\"&$D$12&\",reference:=StartOfSession)=\"&A69&\"\", \"Bar\", \"\", \"Close\",\"5\",\"0\",\"PrimaryOnly\",,,\"False\",\"T\",\"EveryTick\")","v":163.74},-1.0992993476685147E-2,{"$f":"RTD(\"cqg.rtd\",,\"StudyData\", \"Close(\"&$D$12&\") when LocalYear(\"&$D$12&\")=\"&$D$9&\" and localMonth(\"&$D$12&\") =\"&$E$9&\" and LocalDay(\"&$D$12&\")=\"&$F$9&\" and Barix(\"&$D$12&\",reference:=StartOfSession)=\"&A69&\"\", \"Bar\", \"\", \"Close\",\"5\",\"0\",\"PrimaryOnly\",,,\"False\",\"T\",\"EveryTick\")","v":165.17},5.6624452021430734E-3,{"$f":"RTD(\"cqg.rtd\",,\"StudyData\", \"Close(\"&$D$12&\") when LocalYear(\"&$D$12&\")=\"&$D$10&\" and localMonth(\"&$D$12&\") =\"&$E$10&\" and LocalDay(\"&$D$12&\")=\"&$F$10&\" and Barix(\"&$D$12&\",reference:=StartOfSession)=\"&A69&\"\", \"Bar\", \"\", \"Close\",\"5\",\"0\",\"PrimaryOnly\",,,\"False\",\"T\",\"EveryTick\")","v":164.01},6.6286135150063468E-3,null,null,null,""]
[69,"14:15:00",-8,{"$f":" RTD(\"cqg.rtd\",,\"StudyData\", $D$12,  \"Tick\", \"FlatTicks=0\", \"Tick\",\"D\",C70,\"PrimaryOnly\")","v":164.56},null,null,null,{"$f":"RTD(\"cqg.rtd\",,\"StudyData\", \"Close(\"&$D$12&\") when LocalYear(\"&$D$12&\")=\"&$D$1&\" and localMonth(\"&$D$12&\") =\"&$E$1&\" and LocalDay(\"&$D$12&\")=\"&$F$1&\" and Barix(\"&$D$12&\",reference:=StartOfSession)=\"&A70&\"\", \"Bar\", \"\", \"Close\",\"5\",\"0\",\"PrimaryOnly\",,,\"False\",\"T\",\"EveryTick\")","v":""},{"$error":"#N/A"},{"$f":"RTD(\"cqg.rtd\",,\"StudyData\", \"Close(\"&$D$12&\") when LocalYear(\"&$D$12&\")=\"&$D$2&\" and localMonth(\"&$D$12&\") =\"&$E$2&\" and LocalDay(\"&$D$12&\")=\"&$F$2&\" and Barix(\"&$D$12&\",reference:=StartOfSession)=\"&A70&\"\", \"Bar\", \"\", \"Close\",\"5\",\"0\",\"PrimaryOnly\",,,\"False\",\"T\",\"EveryTick\")","v":165.7},-5.2230293570271029E-3,{"$f":"RTD(\"cqg.rtd\",,\"StudyData\", \"Close(\"&$D$12&\") when LocalYear(\"&$D$12&\")=\"&$D$3&\" and localMonth(\"&$D$12&\") =\"&$E$3&\" and LocalDay(\"&$D$12&\")=\"&$F$3&\" and Barix(\"&$D$12&\",reference:=StartOfSession)=\"&A70&\"\", \"Bar\", \"\", \"Close\",\"5\",\"0\",\"PrimaryOnly\",,,\"False\",\"T\",\"EveryTick\")","v":166.36},5.3786184806914536E-3,{"$f":"RTD(\"cqg.rtd\",,\"StudyData\", \"Close(\"&$D$12&\") when LocalYear(\"&$D$12&\")=\"&$D$4&\" and localMonth(\"&$D$12&\") =\"&$E$4&\" and LocalDay(\"&$D$12&\")=\"&$F$4&\" and Barix(\"&$D$12&\",reference:=StartOfSession)=\"&A70&\"\", \"Bar\", \"\", \"Close\",\"5\",\"0\",\"PrimaryOnly\",,,\"False\",\"T\",\"EveryTick\")","v":166.22},4.2290961817302358E-3,{"$f":"RTD(\"cqg.rtd\",,\"StudyData\", \"Close(\"&$D$12&\") when LocalYear(\"&$D$12&\")=\"&$D$5&\" and localMonth(\"&$D$12&\") =\"&$E$5&\" and LocalDay(\"&$D$12&\")=\"&$F$5&\" and Barix(\"&$D$12&\",reference:=StartOfSession)=\"&A70&\"\", \"Bar\", \"\", \"Close\",\"5\",\"0\",\"PrimaryOnly\",,,\"False\",\"T\",\"EveryTick\")","v":165.06},3.5872803550799745E-3,{"$f":"RTD(\"cqg.rtd\",,\"StudyData\", \"Close(\"&$D$12&\") when LocalYear(\"&$D$12&\")=\"&$D$6&\" and localMonth(\"&$D$12&\") =\"&$E$6&\" and LocalDay(\"&$D$12&\")=\"&$F$6&\" and Barix(\"&$D$12&\",reference:=StartOfSession)=\"&A70&\"\", \"Bar\", \"\", \"Close\",\"5\",\"0\",\"PrimaryOnly\",,,\"False\",\"T\",\"EveryTick\")","v":164.69},2.3737066342056383E-3,{"$f":"RTD(\"cqg.rtd\",,\"StudyData\", \"Close(\"&$D$12&\") when LocalYear(\"&$D$12&\")=\"&$D$7&\" and localMonth(\"&$D$12&\") =\"&$E$7&\" and LocalDay(\"&$D$12&\")=\"&$F$7&\" and Barix(\"&$D$12&\",reference:=StartOfSession)=\"&A70&\"\", \"Bar\", \"\", \"Close\",\"5\",\"0\",\"PrimaryOnly\",,,\"False\",\"T\",\"EveryTick\")","v":164.19},2.0139143170998662E-3,{"$f":"RTD(\"cqg.rtd\",,\"StudyData\", \"Close(\"&$D$12&\") when LocalYear(\"&$D$12&\")=\"&$D$8&\" and localMonth(\"&$D$12&\") =\"&$E$8&\" and LocalDay(\"&$D$12&\")=\"&$F$8&\" and Barix(\"&$D$12&\",reference:=StartOfSession)=\"&A70&\"\", \"Bar\", \"\", \"Close\",\"5\",\"0\",\"PrimaryOnly\",,,\"False\",\"T\",\"EveryTick\")","v":163.74},-1.0992993476685147E-2,{"$f":"RTD(\"cqg.rtd\",,\"StudyData\", \"Close(\"&$D$12&\") when LocalYear(\"&$D$12&\")=\"&$D$9&\" and localMonth(\"&$D$12&\") =\"&$E$9&\" and LocalDay(\"&$D$12&\")=\"&$F$9&\" and Barix(\"&$D$12&\",reference:=StartOfSession)=\"&A70&\"\", \"Bar\", \"\", \"Close\",\"5\",\"0\",\"PrimaryOnly\",,,\"False\",\"T\",\"EveryTick\")","v":165.2},5.8451047247928605E-3,{"$f":"RTD(\"cqg.rtd\",,\"StudyData\", \"Close(\"&$D$12&\") when LocalYear(\"&$D$12&\")=\"&$D$10&\" and localMonth(\"&$D$12&\") =\"&$E$10&\" and LocalDay(\"&$D$12&\")=\"&$F$10&\" and Barix(\"&$D$12&\",reference:=StartOfSession)=\"&A70&\"\", \"Bar\", \"\", \"Close\",\"5\",\"0\",\"PrimaryOnly\",,,\"False\",\"T\",\"EveryTick\")","v":163.98},6.4444853618117158E-3,null,null,null,""]
[70,"14:20:00",-7,{"$f":" RTD(\"cqg.rtd\",,\"StudyData\", $D$12,  \"Tick\", \"FlatTicks=0\", \"Tick\",\"D\",C71,\"PrimaryOnly\")","v":164.5},null,null,null,{"$f":"RTD(\"cqg.rtd\",,\"StudyData\", \"Close(\"&$D$12&\") when LocalYear(\"&$D$12&\")=\"&$D$1&\" and localMonth(\"&$D$12&\") =\"&$E$1&\" and LocalDay(\"&$D$12&\")=\"&$F$1&\" and Barix(\"&$D$12&\",reference:=StartOfSession)=\"&A71&\"\", \"Bar\", \"\", \"Close\",\"5\",\"0\",\"PrimaryOnly\",,,\"False\",\"T\",\"EveryTick\")","v":""},{"$error":"#N/A"},{"$f":"RTD(\"cqg.rtd\",,\"StudyData\", \"Close(\"&$D$12&\") when LocalYear(\"&$D$12&\")=\"&$D$2&\" and localMonth(\"&$D$12&\") =\"&$E$2&\" and LocalDay(\"&$D$12&\")=\"&$F$2&\" and Barix(\"&$D$12&\",reference:=StartOfSession)=\"&A71&\"\", \"Bar\", \"\", \"Close\",\"5\",\"0\",\"PrimaryOnly\",,,\"False\",\"T\",\"EveryTick\")","v":165.82},-4.5026115146785135E-3,{"$f":"RTD(\"cqg.rtd\",,\"StudyData\", \"Close(\"&$D$12&\") when LocalYear(\"&$D$12&\")=\"&$D$3&\" and localMonth(\"&$D$12&\") =\"&$E$3&\" and LocalDay(\"&$D$12&\")=\"&$F$3&\" and Barix(\"&$D$12&\",reference:=StartOfSession)=\"&A71&\"\", \"Bar\", \"\", \"Close\",\"5\",\"0\",\"PrimaryOnly\",,,\"False\",\"T\",\"EveryTick\")","v":166.41},5.680788058258281E-3,{"$f":"RTD(\"cqg.rtd\",,\"StudyData\", \"Close(\"&$D$12&\") when LocalYear(\"&$D$12&\")=\"&$D$4&\" and localMonth(\"&$D$12&\") =\"&$E$4&\" and LocalDay(\"&$D$12&\")=\"&$F$4&\" and Barix(\"&$D$12&\",reference:=StartOfSession)=\"&A71&\"\", \"Bar\", \"\", \"Close\",\"5\",\"0\",\"PrimaryOnly\",,,\"False\",\"T\",\"EveryTick\")","v":166.22},4.2290961817302358E-3,{"$f":"RTD(\"cqg.rtd\",,\"StudyData\", \"Close(\"&$D$12&\") when LocalYear(\"&$D$12&\")=\"&$D$5&\" and localMonth(\"&$D$12&\") =\"&$E$5&\" and LocalDay(\"&$D$12&\")=\"&$F$5&\" and Barix(\"&$D$12&\",reference:=StartOfSession)=\"&A71&\"\", \"Bar\", \"\", \"Close\",\"5\",\"0\",\"PrimaryOnly\",,,\"False\",\"T\",\"EveryTick\")","v":165.23},4.6209035082385294E-3,{"$f":"RTD(\"cqg.rtd\",,\"StudyData\", \"Close(\"&$D$12&\") when LocalYear(\"&$D$12&\")=\"&$D$6&\" and localMonth(\"&$D$12&\") =\"&$E$6&\" and LocalDay(\"&$D$12&\")=\"&$F$6&\" and Barix(\"&$D$12&\",reference:=StartOfSession)=\"&A71&\"\", \"Bar\", \"\", \"Close\",\"5\",\"0\",\"PrimaryOnly\",,,\"False\",\"T\",\"EveryTick\")","v":164.69},2.3737066342056383E-3,{"$f":"RTD(\"cqg.rtd\",,\"StudyData\", \"Close(\"&$D$12&\") when LocalYear(\"&$D$12&\")=\"&$D$7&\" and localMonth(\"&$D$12&\") =\"&$E$7&\" and LocalDay(\"&$D$12&\")=\"&$F$7&\" and Barix(\"&$D$12&\",reference:=StartOfSession)=\"&A71&\"\", \"Bar\", \"\", \"Close\",\"5\",\"0\",\"PrimaryOnly\",,,\"False\",\"T\",\"EveryTick\")","v":164.13},1.6477480776271316E-3,{"$f":"RTD(\"cqg.rtd\",,\"StudyData\", \"Close(\"&$D$12&\") when LocalYear(\"&$D$12&\")=\"&$D$8&\" and localMonth(\"&$D$12&\") =\"&$E$8&\" and LocalDay(\"&$D$12&\")=\"&$F$8&\" and Barix(\"&$D$12&\",reference:=StartOfSession)=\"&A71&\"\", \"Bar\", \"\", \"Close\",\"5\",\"0\",\"PrimaryOnly\",,,\"False\",\"T\",\"EveryTick\")","v":163.74},-1.0992993476685147E-2,{"$f":"RTD(\"cqg.rtd\",,\"StudyData\", \"Close(\"&$D$12&\") when LocalYear(\"&$D$12&\")=\"&$D$9&\" and localMonth(\"&$D$12&\") =\"&$E$9&\" and LocalDay(\"&$D$12&\")=\"&$F$9&\" and Barix(\"&$D$12&\",reference:=StartOfSession)=\"&A71&\"\", \"Bar\", \"\", \"Close\",\"5\",\"0\",\"PrimaryOnly\",,,\"False\",\"T\",\"EveryTick\")","v":165.28},6.332196785192353E-3,{"$f":"RTD(\"cqg.rtd\",,\"StudyData\", \"Close(\"&$D$12&\") when LocalYear(\"&$D$12&\")=\"&$D$10&\" and localMonth(\"&$D$12&\") =\"&$E$10&\" and LocalDay(\"&$D$12&\")=\"&$F$10&\" and Barix(\"&$D$12&\",reference:=StartOfSession)=\"&A71&\"\", \"Bar\", \"\", \"Close\",\"5\",\"0\",\"PrimaryOnly\",,,\"False\",\"T\",\"EveryTick\")","v":163.94},6.1989811575522673E-3,null,null,null,""]
[71,"14:25:00",-6,{"$f":" RTD(\"cqg.rtd\",,\"StudyData\", $D$12,  \"Tick\", \"FlatTicks=0\", \"Tick\",\"D\",C72,\"PrimaryOnly\")","v":164.47},null,null,null,{"$f":"RTD(\"cqg.rtd\",,\"StudyData\", \"Close(\"&$D$12&\") when LocalYear(\"&$D$12&\")=\"&$D$1&\" and localMonth(\"&$D$12&\") =\"&$E$1&\" and LocalDay(\"&$D$12&\")=\"&$F$1&\" and Barix(\"&$D$12&\",reference:=StartOfSession)=\"&A72&\"\", \"Bar\", \"\", \"Close\",\"5\",\"0\",\"PrimaryOnly\",,,\"False\",\"T\",\"EveryTick\")","v":""},{"$error":"#N/A"},{"$f":"RTD(\"cqg.rtd\",,\"StudyData\", \"Close(\"&$D$12&\") when LocalYear(\"&$D$12&\")=\"&$D$2&\" and localMonth(\"&$D$12&\") =\"&$E$2&\" and LocalDay(\"&$D$12&\")=\"&$F$2&\" and Barix(\"&$D$12&\",reference:=StartOfSession)=\"&A72&\"\", \"Bar\", \"\", \"Close\",\"5\",\"0\",\"PrimaryOnly\",,,\"False\",\"T\",\"EveryTick\")","v":165.86},-4.2624722338955364E-3,{"$f":"RTD(\"cqg.rtd\",,\"StudyData\", \"Close(\"&$D$12&\") when LocalYear(\"&$D$12&\")=\"&$D$3&\" and localMonth(\"&$D$12&\") =\"&$E$3&\" and LocalDay(\"&$D$12&\")=\"&$F$3&\" and Barix(\"&$D$12&\",reference:=StartOfSession)=\"&A72&\"\", \"Bar\", \"\", \"Close\",\"5\",\"0\",\"PrimaryOnly\",,,\"False\",\"T\",\"EveryTick\")","v":166.45},5.9225237203117771E-3,{"$f":"RTD(\"cqg.rtd\",,\"StudyData\", \"Close(\"&$D$12&\") when LocalYear(\"&$D$12&\")=\"&$D$4&\" and localMonth(\"&$D$12&\") =\"&$E$4&\" and LocalDay(\"&$D$12&\")=\"&$F$4&\" and Barix(\"&$D$12&\",reference:=StartOfSession)=\"&A72&\"\", \"Bar\", \"\", \"Close\",\"5\",\"0\",\"PrimaryOnly\",,,\"False\",\"T\",\"EveryTick\")","v":165.86},2.0541324311261684E-3,{"$f":"RTD(\"cqg.rtd\",,\"StudyData\", \"Close(\"&$D$12&\") when LocalYear(\"&$D$12&\")=\"&$D$5&\" and localMonth(\"&$D$12&\") =\"&$E$5&\" and LocalDay(\"&$D$12&\")=\"&$F$5&\" and Barix(\"&$D$12&\",reference:=StartOfSession)=\"&A72&\"\", \"Bar\", \"\", \"Close\",\"5\",\"0\",\"PrimaryOnly\",,,\"False\",\"T\",\"EveryTick\")","v":165.24},4.6817048701891543E-3,{"$f":"RTD(\"cqg.rtd\",,\"StudyData\", \"Close(\"&$D$12&\") when LocalYear(\"&$D$12&\")=\"&$D$6&\" and localMonth(\"&$D$12&\") =\"&$E$6&\" and LocalDay(\"&$D$12&\")=\"&$F$6&\" and Barix(\"&$D$12&\",reference:=StartOfSession)=\"&A72&\"\", \"Bar\", \"\", \"Close\",\"5\",\"0\",\"PrimaryOnly\",,,\"False\",\"T\",\"EveryTick\")","v":164.69},2.3737066342056383E-3,{"$f":"RTD(\"cqg.rtd\",,\"StudyData\", \"Close(\"&$D$12&\") when LocalYear(\"&$D$12&\")=\"&$D$7&\" and localMonth(\"&$D$12&\") =\"&$E$7&\" and LocalDay(\"&$D$12&\")=\"&$F$7&\" and Barix(\"&$D$12&\",reference:=StartOfSession)=\"&A72&\"\", \"Bar\", \"\", \"Close\",\"5\",\"0\",\"PrimaryOnly\",,,\"False\",\"T\",\"EveryTick\")","v":164.21},2.1359697302575022E-3,{"$f":"RTD(\"cqg.rtd\",,\"StudyData\", \"Close(\"&$D$12&\") when LocalYear(\"&$D$12&\")=\"&$D$8&\" and localMonth(\"&$D$12&\") =\"&$E$8&\" and LocalDay(\"&$D$12&\")=\"&$F$8&\" and Barix(\"&$D$12&\",reference:=StartOfSession)=\"&A72&\"\", \"Bar\", \"\", \"Close\",\"5\",\"0\",\"PrimaryOnly\",,,\"False\",\"T\",\"EveryTick\")","v":163.81},-1.057018603527422E-2,{"$f":"RTD(\"cqg.rtd\",,\"StudyData\", \"Close(\"&$D$12&\") when LocalYear(\"&$D$12&\")=\"&$D$9&\" and localMonth(\"&$D$12&\") =\"&$E$9&\" and LocalDay(\"&$D$12&\")=\"&$F$9&\" and Barix(\"&$D$12&\",reference:=StartOfSession)=\"&A72&\"\", \"Bar\", \"\", \"Close\",\"5\",\"0\",\"PrimaryOnly\",,,\"False\",\"T\",\"EveryTick\")","v":165.25},6.149537262542565E-3,{"$f":"RTD(\"cqg.rtd\",,\"StudyData\", \"Close(\"&$D$12&\") when LocalYear(\"&$D$12&\")=\"&$D$10&\" and localMonth(\"&$D$12&\") =\"&$E$10&\" and LocalDay(\"&$D$12&\")=\"&$F$10&\" and Barix(\"&$D$12&\",reference:=StartOfSession)=\"&A72&\"\", \"Bar\", \"\", \"Close\",\"5\",\"0\",\"PrimaryOnly\",,,\"False\",\"T\",\"EveryTick\")","v":163.89},5.8921009022278245E-3,null,null,null,""]
[72,"14:30:00",-5,{"$f":" RTD(\"cqg.rtd\",,\"StudyData\", $D$12,  \"Tick\", \"FlatTicks=0\", \"Tick\",\"D\",C73,\"PrimaryOnly\")","v":164.46},null,null,null,{"$f":"RTD(\"cqg.rtd\",,\"StudyData\", \"Close(\"&$D$12&\") when LocalYear(\"&$D$12&\")=\"&$D$1&\" and localMonth(\"&$D$12&\") =\"&$E$1&\" and LocalDay(\"&$D$12&\")=\"&$F$1&\" and Barix(\"&$D$12&\",reference:=StartOfSession)=\"&A73&\"\", \"Bar\", \"\", \"Close\",\"5\",\"0\",\"PrimaryOnly\",,,\"False\",\"T\",\"EveryTick\")","v":""},{"$error":"#N/A"},{"$f":"RTD(\"cqg.rtd\",,\"StudyData\", \"Close(\"&$D$12&\") when LocalYear(\"&$D$12&\")=\"&$D$2&\" and localMonth(\"&$D$12&\") =\"&$E$2&\" and LocalDay(\"&$D$12&\")=\"&$F$2&\" and Barix(\"&$D$12&\",reference:=StartOfSession)=\"&A73&\"\", \"Bar\", \"\", \"Close\",\"5\",\"0\",\"PrimaryOnly\",,,\"False\",\"T\",\"EveryTick\")","v":165.86},-4.2624722338955364E-3,{"$f":"RTD(\"cqg.rtd\",,\"StudyData\", \"Close(\"&$D$12&\") when LocalYear(\"&$D$12&\")=\"&$D$3&\" and localMonth(\"&$D$12&\") =\"&$E$3&\" and LocalDay(\"&$D$12&\")=\"&$F$3&\" and Barix(\"&$D$12&\",reference:=StartOfSession)=\"&A73&\"\", \"Bar\", \"\", \"Close\",\"5\",\"0\",\"PrimaryOnly\",,,\"False\",\"T\",\"EveryTick\")","v":166.48},6.1038254668519427E-3,{"$f":"RTD(\"cqg.rtd\",,\"StudyData\", \"Close(\"&$D$12&\") when LocalYear(\"&$D$12&\")=\"&$D$4&\" and localMonth(\"&$D$12&\") =\"&$E$4&\" and LocalDay(\"&$D$12&\")=\"&$F$4&\" and Barix(\"&$D$12&\",reference:=StartOfSession)=\"&A73&\"\", \"Bar\", \"\", \"Close\",\"5\",\"0\",\"PrimaryOnly\",,,\"False\",\"T\",\"EveryTick\")","v":165.75},1.3895601739970381E-3,{"$f":"RTD(\"cqg.rtd\",,\"StudyData\", \"Close(\"&$D$12&\") when LocalYear(\"&$D$12&\")=\"&$D$5&\" and localMonth(\"&$D$12&\") =\"&$E$5&\" and LocalDay(\"&$D$12&\")=\"&$F$5&\" and Barix(\"&$D$12&\",reference:=StartOfSession)=\"&A73&\"\", \"Bar\", \"\", \"Close\",\"5\",\"0\",\"PrimaryOnly\",,,\"False\",\"T\",\"EveryTick\")","v":165.27},4.8641089560406848E-3,{"$f":"RTD(\"cqg.rtd\",,\"StudyData\", \"Close(\"&$D$12&\") when LocalYear(\"&$D$12&\")=\"&$D$6&\" and localMonth(\"&$D$12&\") =\"&$E$6&\" and LocalDay(\"&$D$12&\")=\"&$F$6&\" and Barix(\"&$D$12&\",reference:=StartOfSession)=\"&A73&\"\", \"Bar\", \"\", \"Close\",\"5\",\"0\",\"PrimaryOnly\",,,\"False\",\"T\",\"EveryTick\")","v":164.69},2.3737066342056383E-3,{"$f":"RTD(\"cqg.rtd\",,\"StudyData\", \"Close(\"&$D$12&\") when LocalYear(\"&$D$12&\")=\"&$D$7&\" and localMonth(\"&$D$12&\") =\"&$E$7&\" and LocalDay(\"&$D$12&\")=\"&$F$7&\" and Barix(\"&$D$12&\",reference:=StartOfSession)=\"&A73&\"\", \"Bar\", \"\", \"Close\",\"5\",\"0\",\"PrimaryOnly\",,,\"False\",\"T\",\"EveryTick\")","v":164.21},2.1359697302575022E-3,{"$f":"RTD(\"cqg.rtd\",,\"StudyData\", \"Close(\"&$D$12&\") when LocalYear(\"&$D$12&\")=\"&$D$8&\" and localMonth(\"&$D$12&\") =\"&$E$8&\" and LocalDay(\"&$D$12&\")=\"&$F$8&\" and Barix(\"&$D$12&\",reference:=StartOfSession)=\"&A73&\"\", \"Bar\", \"\", \"Close\",\"5\",\"0\",\"PrimaryOnly\",,,\"False\",\"T\",\"EveryTick\")","v":163.80000000000001},-1.0630587098332875E-2,{"$f":"RTD(\"cqg.rtd\",,\"StudyData\", \"Close(\"&$D$12&\") when LocalYear(\"&$D$12&\")=\"&$D$9&\" and localMonth(\"&$D$12&\") =\"&$E$9&\" and LocalDay(\"&$D$12&\")=\"&$F$9&\" and Barix(\"&$D$12&\",reference:=StartOfSession)=\"&A73&\"\", \"Bar\", \"\", \"Close\",\"5\",\"0\",\"PrimaryOnly\",,,\"False\",\"T\",\"EveryTick\")","v":165.27},6.2713102776424806E-3,{"$f":"RTD(\"cqg.rtd\",,\"StudyData\", \"Close(\"&$D$12&\") when LocalYear(\"&$D$12&\")=\"&$D$10&\" and localMonth(\"&$D$12&\") =\"&$E$10&\" and LocalDay(\"&$D$12&\")=\"&$F$10&\" and Barix(\"&$D$12&\",reference:=StartOfSession)=\"&A73&\"\", \"Bar\", \"\", \"Close\",\"5\",\"0\",\"PrimaryOnly\",,,\"False\",\"T\",\"EveryTick\")","v":163.89},5.8921009022278245E-3,null,null,null,""]
[73,"14:35:00",-4,{"$f":" RTD(\"cqg.rtd\",,\"StudyData\", $D$12,  \"Tick\", \"FlatTicks=0\", \"Tick\",\"D\",C74,\"PrimaryOnly\")","v":164.16},null,null,null,{"$f":"RTD(\"cqg.rtd\",,\"StudyData\", \"Close(\"&$D$12&\") when LocalYear(\"&$D$12&\")=\"&$D$1&\" and localMonth(\"&$D$12&\") =\"&$E$1&\" and LocalDay(\"&$D$12&\")=\"&$F$1&\" and Barix(\"&$D$12&\",reference:=StartOfSession)=\"&A74&\"\", \"Bar\", \"\", \"Close\",\"5\",\"0\",\"PrimaryOnly\",,,\"False\",\"T\",\"EveryTick\")","v":""},{"$error":"#N/A"},{"$f":"RTD(\"cqg.rtd\",,\"StudyData\", \"Close(\"&$D$12&\") when LocalYear(\"&$D$12&\")=\"&$D$2&\" and localMonth(\"&$D$12&\") =\"&$E$2&\" and LocalDay(\"&$D$12&\")=\"&$F$2&\" and Barix(\"&$D$12&\",reference:=StartOfSession)=\"&A74&\"\", \"Bar\", \"\", \"Close\",\"5\",\"0\",\"PrimaryOnly\",,,\"False\",\"T\",\"EveryTick\")","v":165.86},-4.2624722338955364E-3,{"$f":"RTD(\"cqg.rtd\",,\"StudyData\", \"Close(\"&$D$12&\") when LocalYear(\"&$D$12&\")=\"&$D$3&\" and localMonth(\"&$D$12&\") =\"&$E$3&\" and LocalDay(\"&$D$12&\")=\"&$F$3&\" and Barix(\"&$D$12&\",reference:=StartOfSession)=\"&A74&\"\", \"Bar\", \"\", \"Close\",\"5\",\"0\",\"PrimaryOnly\",,,\"False\",\"T\",\"EveryTick\")","v":166.49},6.1642593823654449E-3,{"$f":"RTD(\"cqg.rtd\",,\"StudyData\", \"Close(\"&$D$12&\") when LocalYear(\"&$D$12&\")=\"&$D$4&\" and localMonth(\"&$D$12&\") =\"&$E$4&\" and LocalDay(\"&$D$12&\")=\"&$F$4&\" and Barix(\"&$D$12&\",reference:=StartOfSession)=\"&A74&\"\", \"Bar\", \"\", \"Close\",\"5\",\"0\",\"PrimaryOnly\",,,\"False\",\"T\",\"EveryTick\")","v":165.69},1.0270662155629983E-3,{"$f":"RTD(\"cqg.rtd\",,\"StudyData\", \"Close(\"&$D$12&\") when LocalYear(\"&$D$12&\")=\"&$D$5&\" and localMonth(\"&$D$12&\") =\"&$E$5&\" and LocalDay(\"&$D$12&\")=\"&$F$5&\" and Barix(\"&$D$12&\",reference:=StartOfSession)=\"&A74&\"\", \"Bar\", \"\", \"Close\",\"5\",\"0\",\"PrimaryOnly\",,,\"False\",\"T\",\"EveryTick\")","v":165.27},4.8641089560406848E-3,{"$f":"RTD(\"cqg.rtd\",,\"StudyData\", \"Close(\"&$D$12&\") when LocalYear(\"&$D$12&\")=\"&$D$6&\" and localMonth(\"&$D$12&\") =\"&$E$6&\" and LocalDay(\"&$D$12&\")=\"&$F$6&\" and Barix(\"&$D$12&\",reference:=StartOfSession)=\"&A74&\"\", \"Bar\", \"\", \"Close\",\"5\",\"0\",\"PrimaryOnly\",,,\"False\",\"T\",\"EveryTick\")","v":164.66},2.1911138161898065E-3,{"$f":"RTD(\"cqg.rtd\",,\"StudyData\", \"Close(\"&$D$12&\") when LocalYear(\"&$D$12&\")=\"&$D$7&\" and localMonth(\"&$D$12&\") =\"&$E$7&\" and LocalDay(\"&$D$12&\")=\"&$F$7&\" and Barix(\"&$D$12&\",reference:=StartOfSession)=\"&A74&\"\", \"Bar\", \"\", \"Close\",\"5\",\"0\",\"PrimaryOnly\",,,\"False\",\"T\",\"EveryTick\")","v":164.3},2.6852190894666038E-3,{"$f":"RTD(\"cqg.rtd\",,\"StudyData\", \"Close(\"&$D$12&\") when LocalYear(\"&$D$12&\")=\"&$D$8&\" and localMonth(\"&$D$12&\") =\"&$E$8&\" and LocalDay(\"&$D$12&\")=\"&$F$8&\" and Barix(\"&$D$12&\",reference:=StartOfSession)=\"&A74&\"\", \"Bar\", \"\", \"Close\",\"5\",\"0\",\"PrimaryOnly\",,,\"False\",\"T\",\"EveryTick\")","v":163.97},-9.6037690263348838E-3,{"$f":"RTD(\"cqg.rtd\",,\"StudyData\", \"Close(\"&$D$12&\") when LocalYear(\"&$D$12&\")=\"&$D$9&\" and localMonth(\"&$D$12&\") =\"&$E$9&\" and LocalDay(\"&$D$12&\")=\"&$F$9&\" and Barix(\"&$D$12&\",reference:=StartOfSession)=\"&A74&\"\", \"Bar\", \"\", \"Close\",\"5\",\"0\",\"PrimaryOnly\",,,\"False\",\"T\",\"EveryTick\")","v":165.26},6.2104237700924365E-3,{"$f":"RTD(\"cqg.rtd\",,\"StudyData\", \"Close(\"&$D$12&\") when LocalYear(\"&$D$12&\")=\"&$D$10&\" and localMonth(\"&$D$12&\") =\"&$E$10&\" and LocalDay(\"&$D$12&\")=\"&$F$10&\" and Barix(\"&$D$12&\",reference:=StartOfSession)=\"&A74&\"\", \"Bar\", \"\", \"Close\",\"5\",\"0\",\"PrimaryOnly\",,,\"False\",\"T\",\"EveryTick\")","v":164.08},7.0582458724606006E-3,null,null,null,""]
[74,"14:40:00",-3,{"$f":" RTD(\"cqg.rtd\",,\"StudyData\", $D$12,  \"Tick\", \"FlatTicks=0\", \"Tick\",\"D\",C75,\"PrimaryOnly\")","v":164.2},null,null,null,{"$f":"RTD(\"cqg.rtd\",,\"StudyData\", \"Close(\"&$D$12&\") when LocalYear(\"&$D$12&\")=\"&$D$1&\" and localMonth(\"&$D$12&\") =\"&$E$1&\" and LocalDay(\"&$D$12&\")=\"&$F$1&\" and Barix(\"&$D$12&\",reference:=StartOfSession)=\"&A75&\"\", \"Bar\", \"\", \"Close\",\"5\",\"0\",\"PrimaryOnly\",,,\"False\",\"T\",\"EveryTick\")","v":""},{"$error":"#N/A"},{"$f":"RTD(\"cqg.rtd\",,\"StudyData\", \"Close(\"&$D$12&\") when LocalYear(\"&$D$12&\")=\"&$D$2&\" and localMonth(\"&$D$12&\") =\"&$E$2&\" and LocalDay(\"&$D$12&\")=\"&$F$2&\" and Barix(\"&$D$12&\",reference:=StartOfSession)=\"&A75&\"\", \"Bar\", \"\", \"Close\",\"5\",\"0\",\"PrimaryOnly\",,,\"False\",\"T\",\"EveryTick\")","v":165.86},-4.2624722338955364E-3,{"$f":"RTD(\"cqg.rtd\",,\"StudyData\", \"Close(\"&$D$12&\") when LocalYear(\"&$D$12&\")=\"&$D$3&\" and localMonth(\"&$D$12&\") =\"&$E$3&\" and LocalDay(\"&$D$12&\")=\"&$F$3&\" and Barix(\"&$D$12&\",reference:=StartOfSession)=\"&A75&\"\", \"Bar\", \"\", \"Close\",\"5\",\"0\",\"PrimaryOnly\",,,\"False\",\"T\",\"EveryTick\")","v":166.62},6.9499002840394371E-3,{"$f":"RTD(\"cqg.rtd\",,\"StudyData\", \"Close(\"&$D$12&\") when LocalYear(\"&$D$12&\")=\"&$D$4&\" and localMonth(\"&$D$12&\") =\"&$E$4&\" and LocalDay(\"&$D$12&\")=\"&$F$4&\" and Barix(\"&$D$12&\",reference:=StartOfSession)=\"&A75&\"\", \"Bar\", \"\", \"Close\",\"5\",\"0\",\"PrimaryOnly\",,,\"False\",\"T\",\"EveryTick\")","v":165.69},1.0270662155629983E-3,{"$f":"RTD(\"cqg.rtd\",,\"StudyData\", \"Close(\"&$D$12&\") when LocalYear(\"&$D$12&\")=\"&$D$5&\" and localMonth(\"&$D$12&\") =\"&$E$5&\" and LocalDay(\"&$D$12&\")=\"&$F$5&\" and Barix(\"&$D$12&\",reference:=StartOfSession)=\"&A75&\"\", \"Bar\", \"\", \"Close\",\"5\",\"0\",\"PrimaryOnly\",,,\"False\",\"T\",\"EveryTick\")","v":165.33},5.2289171277437449E-3,{"$f":"RTD(\"cqg.rtd\",,\"StudyData\", \"Close(\"&$D$12&\") when LocalYear(\"&$D$12&\")=\"&$D$6&\" and localMonth(\"&$D$12&\") =\"&$E$6&\" and LocalDay(\"&$D$12&\")=\"&$F$6&\" and Barix(\"&$D$12&\",reference:=StartOfSession)=\"&A75&\"\", \"Bar\", \"\", \"Close\",\"5\",\"0\",\"PrimaryOnly\",,,\"False\",\"T\",\"EveryTick\")","v":164.62},1.9476567255020886E-3,{"$f":"RTD(\"cqg.rtd\",,\"StudyData\", \"Close(\"&$D$12&\") when LocalYear(\"&$D$12&\")=\"&$D$7&\" and localMonth(\"&$D$12&\") =\"&$E$7&\" and LocalDay(\"&$D$12&\")=\"&$F$7&\" and Barix(\"&$D$12&\",reference:=StartOfSession)=\"&A75&\"\", \"Bar\", \"\", \"Close\",\"5\",\"0\",\"PrimaryOnly\",,,\"False\",\"T\",\"EveryTick\")","v":164.27},2.5021359697302366E-3,{"$f":"RTD(\"cqg.rtd\",,\"StudyData\", \"Close(\"&$D$12&\") when LocalYear(\"&$D$12&\")=\"&$D$8&\" and localMonth(\"&$D$12&\") =\"&$E$8&\" and LocalDay(\"&$D$12&\")=\"&$F$8&\" and Barix(\"&$D$12&\",reference:=StartOfSession)=\"&A75&\"\", \"Bar\", \"\", \"Close\",\"5\",\"0\",\"PrimaryOnly\",,,\"False\",\"T\",\"EveryTick\")","v":163.91},-9.966175404687156E-3,{"$f":"RTD(\"cqg.rtd\",,\"StudyData\", \"Close(\"&$D$12&\") when LocalYear(\"&$D$12&\")=\"&$D$9&\" and localMonth(\"&$D$12&\") =\"&$E$9&\" and LocalDay(\"&$D$12&\")=\"&$F$9&\" and Barix(\"&$D$12&\",reference:=StartOfSession)=\"&A75&\"\", \"Bar\", \"\", \"Close\",\"5\",\"0\",\"PrimaryOnly\",,,\"False\",\"T\",\"EveryTick\")","v":165.25},6.149537262542565E-3,{"$f":"RTD(\"cqg.rtd\",,\"StudyData\", \"Close(\"&$D$12&\") when LocalYear(\"&$D$12&\")=\"&$D$10&\" and localMonth(\"&$D$12&\") =\"&$E$10&\" and LocalDay(\"&$D$12&\")=\"&$F$10&\" and Barix(\"&$D$12&\",reference:=StartOfSession)=\"&A75&\"\", \"Bar\", \"\", \"Close\",\"5\",\"0\",\"PrimaryOnly\",,,\"False\",\"T\",\"EveryTick\")","v":164.04},6.812741668200977E-3,null,null,null,""]
[75,"14:45:00",-2,{"$f":" RTD(\"cqg.rtd\",,\"StudyData\", $D$12,  \"Tick\", \"FlatTicks=0\", \"Tick\",\"D\",C76,\"PrimaryOnly\")","v":164.35},null,null,null,{"$f":"RTD(\"cqg.rtd\",,\"StudyData\", \"Close(\"&$D$12&\") when LocalYear(\"&$D$12&\")=\"&$D$1&\" and localMonth(\"&$D$12&\") =\"&$E$1&\" and LocalDay(\"&$D$12&\")=\"&$F$1&\" and Barix(\"&$D$12&\",reference:=StartOfSession)=\"&A76&\"\", \"Bar\", \"\", \"Close\",\"5\",\"0\",\"PrimaryOnly\",,,\"False\",\"T\",\"EveryTick\")","v":""},{"$error":"#N/A"},{"$f":"RTD(\"cqg.rtd\",,\"StudyData\", \"Close(\"&$D$12&\") when LocalYear(\"&$D$12&\")=\"&$D$2&\" and localMonth(\"&$D$12&\") =\"&$E$2&\" and LocalDay(\"&$D$12&\")=\"&$F$2&\" and Barix(\"&$D$12&\",reference:=StartOfSession)=\"&A76&\"\", \"Bar\", \"\", \"Close\",\"5\",\"0\",\"PrimaryOnly\",,,\"False\",\"T\",\"EveryTick\")","v":165.86},-4.2624722338955364E-3,{"$f":"RTD(\"cqg.rtd\",,\"StudyData\", \"Close(\"&$D$12&\") when LocalYear(\"&$D$12&\")=\"&$D$3&\" and localMonth(\"&$D$12&\") =\"&$E$3&\" and LocalDay(\"&$D$12&\")=\"&$F$3&\" and Barix(\"&$D$12&\",reference:=StartOfSession)=\"&A76&\"\", \"Bar\", \"\", \"Close\",\"5\",\"0\",\"PrimaryOnly\",,,\"False\",\"T\",\"EveryTick\")","v":166.6},6.8290324530126036E-3,{"$f":"RTD(\"cqg.rtd\",,\"StudyData\", \"Close(\"&$D$12&\") when LocalYear(\"&$D$12&\")=\"&$D$4&\" and localMonth(\"&$D$12&\") =\"&$E$4&\" and LocalDay(\"&$D$12&\")=\"&$F$4&\" and Barix(\"&$D$12&\",reference:=StartOfSession)=\"&A76&\"\", \"Bar\", \"\", \"Close\",\"5\",\"0\",\"PrimaryOnly\",,,\"False\",\"T\",\"EveryTick\")","v":165.73},1.2687288545189677E-3,{"$f":"RTD(\"cqg.rtd\",,\"StudyData\", \"Close(\"&$D$12&\") when LocalYear(\"&$D$12&\")=\"&$D$5&\" and localMonth(\"&$D$12&\") =\"&$E$5&\" and LocalDay(\"&$D$12&\")=\"&$F$5&\" and Barix(\"&$D$12&\",reference:=StartOfSession)=\"&A76&\"\", \"Bar\", \"\", \"Close\",\"5\",\"0\",\"PrimaryOnly\",,,\"False\",\"T\",\"EveryTick\")","v":165.29},4.9857116799415895E-3,{"$f":"RTD(\"cqg.rtd\",,\"StudyData\", \"Close(\"&$D$12&\") when LocalYear(\"&$D$12&\")=\"&$D$6&\" and localMonth(\"&$D$12&\") =\"&$E$6&\" and LocalDay(\"&$D$12&\")=\"&$F$6&\" and Barix(\"&$D$12&\",reference:=StartOfSession)=\"&A76&\"\", \"Bar\", \"\", \"Close\",\"5\",\"0\",\"PrimaryOnly\",,,\"False\",\"T\",\"EveryTick\")","v":164.7},2.4345709068775241E-3,{"$f":"RTD(\"cqg.rtd\",,\"StudyData\", \"Close(\"&$D$12&\") when LocalYear(\"&$D$12&\")=\"&$D$7&\" and localMonth(\"&$D$12&\") =\"&$E$7&\" and LocalDay(\"&$D$12&\")=\"&$F$7&\" and Barix(\"&$D$12&\",reference:=StartOfSession)=\"&A76&\"\", \"Bar\", \"\", \"Close\",\"5\",\"0\",\"PrimaryOnly\",,,\"False\",\"T\",\"EveryTick\")","v":164.27},2.5021359697302366E-3,{"$f":"RTD(\"cqg.rtd\",,\"StudyData\", \"Close(\"&$D$12&\") when LocalYear(\"&$D$12&\")=\"&$D$8&\" and localMonth(\"&$D$12&\") =\"&$E$8&\" and LocalDay(\"&$D$12&\")=\"&$F$8&\" and Barix(\"&$D$12&\",reference:=StartOfSession)=\"&A76&\"\", \"Bar\", \"\", \"Close\",\"5\",\"0\",\"PrimaryOnly\",,,\"False\",\"T\",\"EveryTick\")","v":163.79},-1.0690988161391702E-2,{"$f":"RTD(\"cqg.rtd\",,\"StudyData\", \"Close(\"&$D$12&\") when LocalYear(\"&$D$12&\")=\"&$D$9&\" and localMonth(\"&$D$12&\") =\"&$E$9&\" and LocalDay(\"&$D$12&\")=\"&$F$9&\" and Barix(\"&$D$12&\",reference:=StartOfSession)=\"&A76&\"\", \"Bar\", \"\", \"Close\",\"5\",\"0\",\"PrimaryOnly\",,,\"False\",\"T\",\"EveryTick\")","v":165.26},6.2104237700924365E-3,{"$f":"RTD(\"cqg.rtd\",,\"StudyData\", \"Close(\"&$D$12&\") when LocalYear(\"&$D$12&\")=\"&$D$10&\" and localMonth(\"&$D$12&\") =\"&$E$10&\" and LocalDay(\"&$D$12&\")=\"&$F$10&\" and Barix(\"&$D$12&\",reference:=StartOfSession)=\"&A76&\"\", \"Bar\", \"\", \"Close\",\"5\",\"0\",\"PrimaryOnly\",,,\"False\",\"T\",\"EveryTick\")","v":164.03},6.7513656171361586E-3,null,null,null,""]
[76,"14:50:00",-1,{"$f":" RTD(\"cqg.rtd\",,\"StudyData\", $D$12,  \"Tick\", \"FlatTicks=0\", \"Tick\",\"D\",C77,\"PrimaryOnly\")","v":164.42},null,null,null,{"$f":"RTD(\"cqg.rtd\",,\"StudyData\", \"Close(\"&$D$12&\") when LocalYear(\"&$D$12&\")=\"&$D$1&\" and localMonth(\"&$D$12&\") =\"&$E$1&\" and LocalDay(\"&$D$12&\")=\"&$F$1&\" and Barix(\"&$D$12&\",reference:=StartOfSession)=\"&A77&\"\", \"Bar\", \"\", \"Close\",\"5\",\"0\",\"PrimaryOnly\",,,\"False\",\"T\",\"EveryTick\")","v":""},{"$error":"#N/A"},{"$f":"RTD(\"cqg.rtd\",,\"StudyData\", \"Close(\"&$D$12&\") when LocalYear(\"&$D$12&\")=\"&$D$2&\" and localMonth(\"&$D$12&\") =\"&$E$2&\" and LocalDay(\"&$D$12&\")=\"&$F$2&\" and Barix(\"&$D$12&\",reference:=StartOfSession)=\"&A77&\"\", \"Bar\", \"\", \"Close\",\"5\",\"0\",\"PrimaryOnly\",,,\"False\",\"T\",\"EveryTick\")","v":165.86},-4.2624722338955364E-3,{"$f":"RTD(\"cqg.rtd\",,\"StudyData\", \"Close(\"&$D$12&\") when LocalYear(\"&$D$12&\")=\"&$D$3&\" and localMonth(\"&$D$12&\") =\"&$E$3&\" and LocalDay(\"&$D$12&\")=\"&$F$3&\" and Barix(\"&$D$12&\",reference:=StartOfSession)=\"&A77&\"\", \"Bar\", \"\", \"Close\",\"5\",\"0\",\"PrimaryOnly\",,,\"False\",\"T\",\"EveryTick\")","v":166.43},5.8016558892851153E-3,{"$f":"RTD(\"cqg.rtd\",,\"StudyData\", \"Close(\"&$D$12&\") when LocalYear(\"&$D$12&\")=\"&$D$4&\" and localMonth(\"&$D$12&\") =\"&$E$4&\" and LocalDay(\"&$D$12&\")=\"&$F$4&\" and Barix(\"&$D$12&\",reference:=StartOfSession)=\"&A77&\"\", \"Bar\", \"\", \"Close\",\"5\",\"0\",\"PrimaryOnly\",,,\"False\",\"T\",\"EveryTick\")","v":165.67},9.0623489608492784E-4,{"$f":"RTD(\"cqg.rtd\",,\"StudyData\", \"Close(\"&$D$12&\") when LocalYear(\"&$D$12&\")=\"&$D$5&\" and localMonth(\"&$D$12&\") =\"&$E$5&\" and LocalDay(\"&$D$12&\")=\"&$F$5&\" and Barix(\"&$D$12&\",reference:=StartOfSession)=\"&A77&\"\", \"Bar\", \"\", \"Close\",\"5\",\"0\",\"PrimaryOnly\",,,\"False\",\"T\",\"EveryTick\")","v":165.43},5.8369307472487869E-3,{"$f":"RTD(\"cqg.rtd\",,\"StudyData\", \"Close(\"&$D$12&\") when LocalYear(\"&$D$12&\")=\"&$D$6&\" and localMonth(\"&$D$12&\") =\"&$E$6&\" and LocalDay(\"&$D$12&\")=\"&$F$6&\" and Barix(\"&$D$12&\",reference:=StartOfSession)=\"&A77&\"\", \"Bar\", \"\", \"Close\",\"5\",\"0\",\"PrimaryOnly\",,,\"False\",\"T\",\"EveryTick\")","v":164.56},1.5824710894704254E-3,{"$f":"RTD(\"cqg.rtd\",,\"StudyData\", \"Close(\"&$D$12&\") when LocalYear(\"&$D$12&\")=\"&$D$7&\" and localMonth(\"&$D$12&\") =\"&$E$7&\" and LocalDay(\"&$D$12&\")=\"&$F$7&\" and Barix(\"&$D$12&\",reference:=StartOfSession)=\"&A77&\"\", \"Bar\", \"\", \"Close\",\"5\",\"0\",\"PrimaryOnly\",,,\"False\",\"T\",\"EveryTick\")","v":164.33},2.868302209202971E-3,{"$f":"RTD(\"cqg.rtd\",,\"StudyData\", \"Close(\"&$D$12&\") when LocalYear(\"&$D$12&\")=\"&$D$8&\" and localMonth(\"&$D$12&\") =\"&$E$8&\" and LocalDay(\"&$D$12&\")=\"&$F$8&\" and Barix(\"&$D$12&\",reference:=StartOfSession)=\"&A77&\"\", \"Bar\", \"\", \"Close\",\"5\",\"0\",\"PrimaryOnly\",,,\"False\",\"T\",\"EveryTick\")","v":163.91},-9.966175404687156E-3,{"$f":"RTD(\"cqg.rtd\",,\"StudyData\", \"Close(\"&$D$12&\") when LocalYear(\"&$D$12&\")=\"&$D$9&\" and localMonth(\"&$D$12&\") =\"&$E$9&\" and LocalDay(\"&$D$12&\")=\"&$F$9&\" and Barix(\"&$D$12&\",reference:=StartOfSession)=\"&A77&\"\", \"Bar\", \"\", \"Close\",\"5\",\"0\",\"PrimaryOnly\",,,\"False\",\"T\",\"EveryTick\")","v":165.41},7.1237213833413747E-3,{"$f":"RTD(\"cqg.rtd\",,\"StudyData\", \"Close(\"&$D$12&\") when LocalYear(\"&$D$12&\")=\"&$D$10&\" and localMonth(\"&$D$12&\") =\"&$E$10&\" and LocalDay(\"&$D$12&\")=\"&$F$10&\" and Barix(\"&$D$12&\",reference:=StartOfSession)=\"&A77&\"\", \"Bar\", \"\", \"Close\",\"5\",\"0\",\"PrimaryOnly\",,,\"False\",\"T\",\"EveryTick\")","v":164.12},7.3037500767200499E-3,null,null,null,""]
[77,"14:55:00",0,{"$f":" RTD(\"cqg.rtd\",,\"StudyData\", $D$12,  \"Tick\", \"FlatTicks=0\", \"Tick\",\"D\",C78,\"PrimaryOnly\")","v":164.38},null,null,null,{"$f":"RTD(\"cqg.rtd\",,\"StudyData\", \"Close(\"&$D$12&\") when LocalYear(\"&$D$12&\")=\"&$D$1&\" and localMonth(\"&$D$12&\") =\"&$E$1&\" and LocalDay(\"&$D$12&\")=\"&$F$1&\" and Barix(\"&$D$12&\",reference:=StartOfSession)=\"&A78&\"\", \"Bar\", \"\", \"Close\",\"5\",\"0\",\"PrimaryOnly\",,,\"False\",\"T\",\"EveryTick\")","v":""},{"$error":"#N/A"},{"$f":"RTD(\"cqg.rtd\",,\"StudyData\", \"Close(\"&$D$12&\") when LocalYear(\"&$D$12&\")=\"&$D$2&\" and localMonth(\"&$D$12&\") =\"&$E$2&\" and LocalDay(\"&$D$12&\")=\"&$F$2&\" and Barix(\"&$D$12&\",reference:=StartOfSession)=\"&A78&\"\", \"Bar\", \"\", \"Close\",\"5\",\"0\",\"PrimaryOnly\",,,\"False\",\"T\",\"EveryTick\")","v":166.07},-3.0017410097856758E-3,{"$f":"RTD(\"cqg.rtd\",,\"StudyData\", \"Close(\"&$D$12&\") when LocalYear(\"&$D$12&\")=\"&$D$3&\" and localMonth(\"&$D$12&\") =\"&$E$3&\" and LocalDay(\"&$D$12&\")=\"&$F$3&\" and Barix(\"&$D$12&\",reference:=StartOfSession)=\"&A78&\"\", \"Bar\", \"\", \"Close\",\"5\",\"0\",\"PrimaryOnly\",,,\"False\",\"T\",\"EveryTick\")","v":166.57},6.647730706472438E-3,{"$f":"RTD(\"cqg.rtd\",,\"StudyData\", \"Close(\"&$D$12&\") when LocalYear(\"&$D$12&\")=\"&$D$4&\" and localMonth(\"&$D$12&\") =\"&$E$4&\" and LocalDay(\"&$D$12&\")=\"&$F$4&\" and Barix(\"&$D$12&\",reference:=StartOfSession)=\"&A78&\"\", \"Bar\", \"\", \"Close\",\"5\",\"0\",\"PrimaryOnly\",,,\"False\",\"T\",\"EveryTick\")","v":165.47},-3.0207829869509042E-4,{"$f":"RTD(\"cqg.rtd\",,\"StudyData\", \"Close(\"&$D$12&\") when LocalYear(\"&$D$12&\")=\"&$D$5&\" and localMonth(\"&$D$12&\") =\"&$E$5&\" and LocalDay(\"&$D$12&\")=\"&$F$5&\" and Barix(\"&$D$12&\",reference:=StartOfSession)=\"&A78&\"\", \"Bar\", \"\", \"Close\",\"5\",\"0\",\"PrimaryOnly\",,,\"False\",\"T\",\"EveryTick\")","v":165.52},6.3841430048033766E-3,{"$f":"RTD(\"cqg.rtd\",,\"StudyData\", \"Close(\"&$D$12&\") when LocalYear(\"&$D$12&\")=\"&$D$6&\" and localMonth(\"&$D$12&\") =\"&$E$6&\" and LocalDay(\"&$D$12&\")=\"&$F$6&\" and Barix(\"&$D$12&\",reference:=StartOfSession)=\"&A78&\"\", \"Bar\", \"\", \"Close\",\"5\",\"0\",\"PrimaryOnly\",,,\"False\",\"T\",\"EveryTick\")","v":164.47},1.0346926354229305E-3,{"$f":"RTD(\"cqg.rtd\",,\"StudyData\", \"Close(\"&$D$12&\") when LocalYear(\"&$D$12&\")=\"&$D$7&\" and localMonth(\"&$D$12&\") =\"&$E$7&\" and LocalDay(\"&$D$12&\")=\"&$F$7&\" and Barix(\"&$D$12&\",reference:=StartOfSession)=\"&A78&\"\", \"Bar\", \"\", \"Close\",\"5\",\"0\",\"PrimaryOnly\",,,\"False\",\"T\",\"EveryTick\")","v":164.3},2.6852190894666038E-3,{"$f":"RTD(\"cqg.rtd\",,\"StudyData\", \"Close(\"&$D$12&\") when LocalYear(\"&$D$12&\")=\"&$D$8&\" and localMonth(\"&$D$12&\") =\"&$E$8&\" and LocalDay(\"&$D$12&\")=\"&$F$8&\" and Barix(\"&$D$12&\",reference:=StartOfSession)=\"&A78&\"\", \"Bar\", \"\", \"Close\",\"5\",\"0\",\"PrimaryOnly\",,,\"False\",\"T\",\"EveryTick\")","v":163.86},-1.0268180719980603E-2,{"$f":"RTD(\"cqg.rtd\",,\"StudyData\", \"Close(\"&$D$12&\") when LocalYear(\"&$D$12&\")=\"&$D$9&\" and localMonth(\"&$D$12&\") =\"&$E$9&\" and LocalDay(\"&$D$12&\")=\"&$F$9&\" and Barix(\"&$D$12&\",reference:=StartOfSession)=\"&A78&\"\", \"Bar\", \"\", \"Close\",\"5\",\"0\",\"PrimaryOnly\",,,\"False\",\"T\",\"EveryTick\")","v":165.56},8.0370189965903137E-3,{"$f":"RTD(\"cqg.rtd\",,\"StudyData\", \"Close(\"&$D$12&\") when LocalYear(\"&$D$12&\")=\"&$D$10&\" and localMonth(\"&$D$12&\") =\"&$E$10&\" and LocalDay(\"&$D$12&\")=\"&$F$10&\" and Barix(\"&$D$12&\",reference:=StartOfSession)=\"&A78&\"\", \"Bar\", \"\", \"Close\",\"5\",\"0\",\"PrimaryOnly\",,,\"False\",\"T\",\"EveryTick\")","v":164.24},8.0402626894985705E-3,null,null,null,""]
[78,"15:00:00",null,null,null,null,null,{"$f":"RTD(\"cqg.rtd\",,\"StudyData\", \"Close(\"&$D$12&\") when LocalYear(\"&$D$12&\")=\"&$D$1&\" and localMonth(\"&$D$12&\") =\"&$E$1&\" and LocalDay(\"&$D$12&\")=\"&$F$1&\" and Barix(\"&$D$12&\",reference:=StartOfSession)=\"&A79&\"\", \"Bar\", \"\", \"Close\",\"5\",\"0\",\"PrimaryOnly\",,,\"False\",\"T\",\"EveryTick\")","v":""},{"$error":"#N/A"},{"$f":"RTD(\"cqg.rtd\",,\"StudyData\", \"Close(\"&$D$12&\") when LocalYear(\"&$D$12&\")=\"&$D$2&\" and localMonth(\"&$D$12&\") =\"&$E$2&\" and LocalDay(\"&$D$12&\")=\"&$F$2&\" and Barix(\"&$D$12&\",reference:=StartOfSession)=\"&A79&\"\", \"Bar\", \"\", \"Close\",\"5\",\"0\",\"PrimaryOnly\",,,\"False\",\"T\",\"EveryTick\")","v":""},{"$error":"#N/A"},{"$f":"RTD(\"cqg.rtd\",,\"StudyData\", \"Close(\"&$D$12&\") when LocalYear(\"&$D$12&\")=\"&$D$3&\" and localMonth(\"&$D$12&\") =\"&$E$3&\" and LocalDay(\"&$D$12&\")=\"&$F$3&\" and Barix(\"&$D$12&\",reference:=StartOfSession)=\"&A79&\"\", \"Bar\", \"\", \"Close\",\"5\",\"0\",\"PrimaryOnly\",,,\"False\",\"T\",\"EveryTick\")","v":""},{"$error":"#N/A"},{"$f":"RTD(\"cqg.rtd\",,\"StudyData\", \"Close(\"&$D$12&\") when LocalYear(\"&$D$12&\")=\"&$D$4&\" and localMonth(\"&$D$12&\") =\"&$E$4&\" and LocalDay(\"&$D$12&\")=\"&$F$4&\" and Barix(\"&$D$12&\",reference:=StartOfSession)=\"&A79&\"\", \"Bar\", \"\", \"Close\",\"5\",\"0\",\"PrimaryOnly\",,,\"False\",\"T\",\"EveryTick\")","v":""},{"$error":"#N/A"},{"$f":"RTD(\"cqg.rtd\",,\"StudyData\", \"Close(\"&$D$12&\") when LocalYear(\"&$D$12&\")=\"&$D$5&\" and localMonth(\"&$D$12&\") =\"&$E$5&\" and LocalDay(\"&$D$12&\")=\"&$F$5&\" and Barix(\"&$D$12&\",reference:=StartOfSession)=\"&A79&\"\", \"Bar\", \"\", \"Close\",\"5\",\"0\",\"PrimaryOnly\",,,\"False\",\"T\",\"EveryTick\")","v":""},{"$error":"#N/A"},{"$f":"RTD(\"cqg.rtd\",,\"StudyData\", \"Close(\"&$D$12&\") when LocalYear(\"&$D$12&\")=\"&$D$6&\" and localMonth(\"&$D$12&\") =\"&$E$6&\" and LocalDay(\"&$D$12&\")=\"&$F$6&\" and Barix(\"&$D$12&\",reference:=StartOfSession)=\"&A79&\"\", \"Bar\", \"\", \"Close\",\"5\",\"0\",\"PrimaryOnly\",,,\"False\",\"T\",\"EveryTick\")","v":""},{"$error":"#N/A"},{"$f":"RTD(\"cqg.rtd\",,\"StudyData\", \"Close(\"&$D$12&\") when LocalYear(\"&$D$12&\")=\"&$D$7&\" and localMonth(\"&$D$12&\") =\"&$E$7&\" and LocalDay(\"&$D$12&\")=\"&$F$7&\" and Barix(\"&$D$12&\",reference:=StartOfSession)=\"&A79&\"\", \"Bar\", \"\", \"Close\",\"5\",\"0\",\"PrimaryOnly\",,,\"False\",\"T\",\"EveryTick\")","v":""},{"$error":"#N/A"},{"$f":"RTD(\"cqg.rtd\",,\"StudyData\", \"Close(\"&$D$12&\") when LocalYear(\"&$D$12&\")=\"&$D$8&\" and localMonth(\"&$D$12&\") =\"&$E$8&\" and LocalDay(\"&$D$12&\")=\"&$F$8&\" and Barix(\"&$D$12&\",reference:=StartOfSession)=\"&A79&\"\", \"Bar\", \"\", \"Close\",\"5\",\"0\",\"PrimaryOnly\",,,\"False\",\"T\",\"EveryTick\")","v":""},{"$error":"#N/A"},{"$f":"RTD(\"cqg.rtd\",,\"StudyData\", \"Close(\"&$D$12&\") when LocalYear(\"&$D$12&\")=\"&$D$9&\" and localMonth(\"&$D$12&\") =\"&$E$9&\" and LocalDay(\"&$D$12&\")=\"&$F$9&\" and Barix(\"&$D$12&\",reference:=StartOfSession)=\"&A79&\"\", \"Bar\", \"\", \"Close\",\"5\",\"0\",\"PrimaryOnly\",,,\"False\",\"T\",\"EveryTick\")","v":""},{"$error":"#N/A"},{"$f":"RTD(\"cqg.rtd\",,\"StudyData\", \"Close(\"&$D$12&\") when LocalYear(\"&$D$12&\")=\"&$D$10&\" and localMonth(\"&$D$12&\") =\"&$E$10&\" and LocalDay(\"&$D$12&\")=\"&$F$10&\" and Barix(\"&$D$12&\",reference:=StartOfSession)=\"&A79&\"\", \"Bar\", \"\", \"Close\",\"5\",\"0\",\"PrimaryOnly\",,,\"False\",\"T\",\"EveryTick\")","v":""},{"$error":"#N/A"},null,null,null,""]
[79,"15:05:00",null,null,null,null,null,{"$f":"RTD(\"cqg.rtd\",,\"StudyData\", \"Close(\"&$D$12&\") when LocalYear(\"&$D$12&\")=\"&$D$1&\" and localMonth(\"&$D$12&\") =\"&$E$1&\" and LocalDay(\"&$D$12&\")=\"&$F$1&\" and Barix(\"&$D$12&\",reference:=StartOfSession)=\"&A80&\"\", \"Bar\", \"\", \"Close\",\"5\",\"0\",\"PrimaryOnly\",,,\"False\",\"T\",\"EveryTick\")","v":""},{"$error":"#N/A"},{"$f":"RTD(\"cqg.rtd\",,\"StudyData\", \"Close(\"&$D$12&\") when LocalYear(\"&$D$12&\")=\"&$D$2&\" and localMonth(\"&$D$12&\") =\"&$E$2&\" and LocalDay(\"&$D$12&\")=\"&$F$2&\" and Barix(\"&$D$12&\",reference:=StartOfSession)=\"&A80&\"\", \"Bar\", \"\", \"Close\",\"5\",\"0\",\"PrimaryOnly\",,,\"False\",\"T\",\"EveryTick\")","v":""},{"$error":"#N/A"},{"$f":"RTD(\"cqg.rtd\",,\"StudyData\", \"Close(\"&$D$12&\") when LocalYear(\"&$D$12&\")=\"&$D$3&\" and localMonth(\"&$D$12&\") =\"&$E$3&\" and LocalDay(\"&$D$12&\")=\"&$F$3&\" and Barix(\"&$D$12&\",reference:=StartOfSession)=\"&A80&\"\", \"Bar\", \"\", \"Close\",\"5\",\"0\",\"PrimaryOnly\",,,\"False\",\"T\",\"EveryTick\")","v":""},{"$error":"#N/A"},{"$f":"RTD(\"cqg.rtd\",,\"StudyData\", \"Close(\"&$D$12&\") when LocalYear(\"&$D$12&\")=\"&$D$4&\" and localMonth(\"&$D$12&\") =\"&$E$4&\" and LocalDay(\"&$D$12&\")=\"&$F$4&\" and Barix(\"&$D$12&\",reference:=StartOfSession)=\"&A80&\"\", \"Bar\", \"\", \"Close\",\"5\",\"0\",\"PrimaryOnly\",,,\"False\",\"T\",\"EveryTick\")","v":""},{"$error":"#N/A"},{"$f":"RTD(\"cqg.rtd\",,\"StudyData\", \"Close(\"&$D$12&\") when LocalYear(\"&$D$12&\")=\"&$D$5&\" and localMonth(\"&$D$12&\") =\"&$E$5&\" and LocalDay(\"&$D$12&\")=\"&$F$5&\" and Barix(\"&$D$12&\",reference:=StartOfSession)=\"&A80&\"\", \"Bar\", \"\", \"Close\",\"5\",\"0\",\"PrimaryOnly\",,,\"False\",\"T\",\"EveryTick\")","v":""},{"$error":"#N/A"},{"$f":"RTD(\"cqg.rtd\",,\"StudyData\", \"Close(\"&$D$12&\") when LocalYear(\"&$D$12&\")=\"&$D$6&\" and localMonth(\"&$D$12&\") =\"&$E$6&\" and LocalDay(\"&$D$12&\")=\"&$F$6&\" and Barix(\"&$D$12&\",reference:=StartOfSession)=\"&A80&\"\", \"Bar\", \"\", \"Close\",\"5\",\"0\",\"PrimaryOnly\",,,\"False\",\"T\",\"EveryTick\")","v":""},{"$error":"#N/A"},{"$f":"RTD(\"cqg.rtd\",,\"StudyData\", \"Close(\"&$D$12&\") when LocalYear(\"&$D$12&\")=\"&$D$7&\" and localMonth(\"&$D$12&\") =\"&$E$7&\" and LocalDay(\"&$D$12&\")=\"&$F$7&\" and Barix(\"&$D$12&\",reference:=StartOfSession)=\"&A80&\"\", \"Bar\", \"\", \"Close\",\"5\",\"0\",\"PrimaryOnly\",,,\"False\",\"T\",\"EveryTick\")","v":""},{"$error":"#N/A"},{"$f":"RTD(\"cqg.rtd\",,\"StudyData\", \"Close(\"&$D$12&\") when LocalYear(\"&$D$12&\")=\"&$D$8&\" and localMonth(\"&$D$12&\") =\"&$E$8&\" and LocalDay(\"&$D$12&\")=\"&$F$8&\" and Barix(\"&$D$12&\",reference:=StartOfSession)=\"&A80&\"\", \"Bar\", \"\", \"Close\",\"5\",\"0\",\"PrimaryOnly\",,,\"False\",\"T\",\"EveryTick\")","v":""},{"$error":"#N/A"},{"$f":"RTD(\"cqg.rtd\",,\"StudyData\", \"Close(\"&$D$12&\") when LocalYear(\"&$D$12&\")=\"&$D$9&\" and localMonth(\"&$D$12&\") =\"&$E$9&\" and LocalDay(\"&$D$12&\")=\"&$F$9&\" and Barix(\"&$D$12&\",reference:=StartOfSession)=\"&A80&\"\", \"Bar\", \"\", \"Close\",\"5\",\"0\",\"PrimaryOnly\",,,\"False\",\"T\",\"EveryTick\")","v":""},{"$error":"#N/A"},{"$f":"RTD(\"cqg.rtd\",,\"StudyData\", \"Close(\"&$D$12&\") when LocalYear(\"&$D$12&\")=\"&$D$10&\" and localMonth(\"&$D$12&\") =\"&$E$10&\" and LocalDay(\"&$D$12&\")=\"&$F$10&\" and Barix(\"&$D$12&\",reference:=StartOfSession)=\"&A80&\"\", \"Bar\", \"\", \"Close\",\"5\",\"0\",\"PrimaryOnly\",,,\"False\",\"T\",\"EveryTick\")","v":""},{"$error":"#N/A"},null,null,null,""]
[80,"15:10:00",null,null,null,null,null,{"$f":"RTD(\"cqg.rtd\",,\"StudyData\", \"Close(\"&$D$12&\") when LocalYear(\"&$D$12&\")=\"&$D$1&\" and localMonth(\"&$D$12&\") =\"&$E$1&\" and LocalDay(\"&$D$12&\")=\"&$F$1&\" and Barix(\"&$D$12&\",reference:=StartOfSession)=\"&A81&\"\", \"Bar\", \"\", \"Close\",\"5\",\"0\",\"PrimaryOnly\",,,\"False\",\"T\",\"EveryTick\")","v":""},{"$error":"#N/A"},{"$f":"RTD(\"cqg.rtd\",,\"StudyData\", \"Close(\"&$D$12&\") when LocalYear(\"&$D$12&\")=\"&$D$2&\" and localMonth(\"&$D$12&\") =\"&$E$2&\" and LocalDay(\"&$D$12&\")=\"&$F$2&\" and Barix(\"&$D$12&\",reference:=StartOfSession)=\"&A81&\"\", \"Bar\", \"\", \"Close\",\"5\",\"0\",\"PrimaryOnly\",,,\"False\",\"T\",\"EveryTick\")","v":""},{"$error":"#N/A"},{"$f":"RTD(\"cqg.rtd\",,\"StudyData\", \"Close(\"&$D$12&\") when LocalYear(\"&$D$12&\")=\"&$D$3&\" and localMonth(\"&$D$12&\") =\"&$E$3&\" and LocalDay(\"&$D$12&\")=\"&$F$3&\" and Barix(\"&$D$12&\",reference:=StartOfSession)=\"&A81&\"\", \"Bar\", \"\", \"Close\",\"5\",\"0\",\"PrimaryOnly\",,,\"False\",\"T\",\"EveryTick\")","v":""},{"$error":"#N/A"},{"$f":"RTD(\"cqg.rtd\",,\"StudyData\", \"Close(\"&$D$12&\") when LocalYear(\"&$D$12&\")=\"&$D$4&\" and localMonth(\"&$D$12&\") =\"&$E$4&\" and LocalDay(\"&$D$12&\")=\"&$F$4&\" and Barix(\"&$D$12&\",reference:=StartOfSession)=\"&A81&\"\", \"Bar\", \"\", \"Close\",\"5\",\"0\",\"PrimaryOnly\",,,\"False\",\"T\",\"EveryTick\")","v":""},{"$error":"#N/A"},{"$f":"RTD(\"cqg.rtd\",,\"StudyData\", \"Close(\"&$D$12&\") when LocalYear(\"&$D$12&\")=\"&$D$5&\" and localMonth(\"&$D$12&\") =\"&$E$5&\" and LocalDay(\"&$D$12&\")=\"&$F$5&\" and Barix(\"&$D$12&\",reference:=StartOfSession)=\"&A81&\"\", \"Bar\", \"\", \"Close\",\"5\",\"0\",\"PrimaryOnly\",,,\"False\",\"T\",\"EveryTick\")","v":""},{"$error":"#N/A"},{"$f":"RTD(\"cqg.rtd\",,\"StudyData\", \"Close(\"&$D$12&\") when LocalYear(\"&$D$12&\")=\"&$D$6&\" and localMonth(\"&$D$12&\") =\"&$E$6&\" and LocalDay(\"&$D$12&\")=\"&$F$6&\" and Barix(\"&$D$12&\",reference:=StartOfSession)=\"&A81&\"\", \"Bar\", \"\", \"Close\",\"5\",\"0\",\"PrimaryOnly\",,,\"False\",\"T\",\"EveryTick\")","v":""},{"$error":"#N/A"},{"$f":"RTD(\"cqg.rtd\",,\"StudyData\", \"Close(\"&$D$12&\") when LocalYear(\"&$D$12&\")=\"&$D$7&\" and localMonth(\"&$D$12&\") =\"&$E$7&\" and LocalDay(\"&$D$12&\")=\"&$F$7&\" and Barix(\"&$D$12&\",reference:=StartOfSession)=\"&A81&\"\", \"Bar\", \"\", \"Close\",\"5\",\"0\",\"PrimaryOnly\",,,\"False\",\"T\",\"EveryTick\")","v":""},{"$error":"#N/A"},{"$f":"RTD(\"cqg.rtd\",,\"StudyData\", \"Close(\"&$D$12&\") when LocalYear(\"&$D$12&\")=\"&$D$8&\" and localMonth(\"&$D$12&\") =\"&$E$8&\" and LocalDay(\"&$D$12&\")=\"&$F$8&\" and Barix(\"&$D$12&\",reference:=StartOfSession)=\"&A81&\"\", \"Bar\", \"\", \"Close\",\"5\",\"0\",\"PrimaryOnly\",,,\"False\",\"T\",\"EveryTick\")","v":""},{"$error":"#N/A"},{"$f":"RTD(\"cqg.rtd\",,\"StudyData\", \"Close(\"&$D$12&\") when LocalYear(\"&$D$12&\")=\"&$D$9&\" and localMonth(\"&$D$12&\") =\"&$E$9&\" and LocalDay(\"&$D$12&\")=\"&$F$9&\" and Barix(\"&$D$12&\",reference:=StartOfSession)=\"&A81&\"\", \"Bar\", \"\", \"Close\",\"5\",\"0\",\"PrimaryOnly\",,,\"False\",\"T\",\"EveryTick\")","v":""},{"$error":"#N/A"},{"$f":"RTD(\"cqg.rtd\",,\"StudyData\", \"Close(\"&$D$12&\") when LocalYear(\"&$D$12&\")=\"&$D$10&\" and localMonth(\"&$D$12&\") =\"&$E$10&\" and LocalDay(\"&$D$12&\")=\"&$F$10&\" and Barix(\"&$D$12&\",reference:=StartOfSession)=\"&A81&\"\", \"Bar\", \"\", \"Close\",\"5\",\"0\",\"PrimaryOnly\",,,\"False\",\"T\",\"EveryTick\")","v":""},{"$error":"#N/A"},null,null,null,""]

{"sheet":"Sheet4 (3)","index":6,"n_rows":93,"n_cols":20,"rows_kept":93,"cut":false,"hidden":true,"merged":[]}
[null,{"$f":"'Sheet3 (3)'!I1","v":-9.6947070512433623E-3},{"$f":"'Sheet3 (3)'!K1","v":-7.6244221648555073E-3},null,{"$f":"'Sheet3 (3)'!M1","v":6.4059950444189419E-3},null,{"$f":"'Sheet3 (3)'!O1","v":-1.2083131947807051E-4},null,{"$f":"'Sheet3 (3)'!Q1","v":1.6416367726637699E-3},null,{"$f":"'Sheet3 (3)'!S1","v":6.0864272671938102E-4},null,{"$f":"'Sheet3 (3)'!U1","v":-5.9807152447212139E-3},null,{"$f":"'Sheet3 (3)'!W1","v":-9.0601594588068186E-4},null,{"$f":"'Sheet3 (3)'!Y1","v":1.5830491962980449E-3},null,{"$f":"'Sheet3 (3)'!AA1","v":4.7259559319952236E-3}]
[null,{"$f":"'Sheet3 (3)'!I2","v":-1.1501174203649043E-2},{"$f":"'Sheet3 (3)'!K2","v":-8.584979287987073E-3},{"$f":"CORREL($B$1:B2,$C$1:C2)","v":1},{"$f":"'Sheet3 (3)'!M2","v":7.675107270200098E-3},{"$f":"CORREL($B$1:B2,$E$1:E2)","v":-0.99999999999999978},{"$f":"'Sheet3 (3)'!O2","v":-1.2083131947807051E-4},{"$f":"CORREL($B$1:B2,$G$1:G2)","v":{"$error":"#DIV/0!"}},{"$f":"'Sheet3 (3)'!Q2","v":8.5121906730719753E-4},{"$f":"CORREL($B$1:B2,$I$1:I2)","v":1},{"$f":"'Sheet3 (3)'!S2","v":7.3037127206315353E-4},{"$f":"CORREL($B$1:B2,$K$1:K2)","v":-1},{"$f":"'Sheet3 (3)'!U2","v":-5.9807152447212139E-3},{"$f":"CORREL($B$1:B2,$M$1:M2)","v":{"$error":"#DIV/0!"}},{"$f":"'Sheet3 (3)'!W2","v":-9.0601594588068186E-4},{"$f":"CORREL($B$1:B2,$O$1:O2)","v":{"$error":"#DIV/0!"}},{"$f":"'Sheet3 (3)'!Y2","v":1.0959571358985533E-3},{"$f":"CORREL($B$1:B2,$Q$1:Q2)","v":1},{"$f":"'Sheet3 (3)'!AA2","v":3.805315166022246E-3},{"$f":"CORREL($B$1:B2,$S$1:S2)","v":1}]
[null,{"$f":"'Sheet3 (3)'!I3","v":-1.0176431625218267E-2},{"$f":"'Sheet3 (3)'!K3","v":-1.0986372095815478E-2},{"$f":"CORREL($B$1:B3,$C$1:C3)","v":1.7853347905983981E-2},{"$f":"'Sheet3 (3)'!M3","v":6.9499002840394371E-3},{"$f":"CORREL($B$1:B3,$E$1:E3)","v":-0.98368427954993187},{"$f":"'Sheet3 (3)'!O3","v":2.899951667472147E-3},{"$f":"CORREL($B$1:B3,$G$1:G3)","v":0.26015295118647547},{"$f":"'Sheet3 (3)'!Q3","v":1.3984313248616147E-3},{"$f":"CORREL($B$1:B3,$I$1:I3)","v":0.99900253497474112},{"$f":"'Sheet3 (3)'!S3","v":1.3998782714545938E-3},{"$f":"CORREL($B$1:B3,$K$1:K3)","v":0.11954644243932853},{"$f":"'Sheet3 (3)'!U3","v":-4.0278286342000794E-3},{"$f":"CORREL($B$1:B3,$M$1:M3)","v":0.26015295118647547},{"$f":"'Sheet3 (3)'!W3","v":-1.6912297656438821E-3},{"$f":"CORREL($B$1:B3,$O$1:O3)","v":-0.26015295118647547},{"$f":"'Sheet3 (3)'!Y3","v":1.6439357038479164E-3},{"$f":"CORREL($B$1:B3,$Q$1:Q3)","v":0.93520699549509445},{"$f":"'Sheet3 (3)'!AA3","v":3.805315166022246E-3},{"$f":"CORREL($B$1:B3,$S$1:S3)","v":0.70612943893483182}]
[null,{"$f":"'Sheet3 (3)'!I4","v":{"$error":"#N/A"}},{"$f":"'Sheet3 (3)'!K4","v":-1.0506093534249866E-2},{"$f":"CORREL($B$1:B4,$C$1:C4)","v":{"$error":"#N/A"}},{"$f":"'Sheet3 (3)'!M4","v":7.675107270200098E-3},{"$f":"CORREL($B$1:B4,$E$1:E4)","v":{"$error":"#N/A"}},{"$f":"'Sheet3 (3)'!O4","v":2.6582890285161776E-3},{"$f":"CORREL($B$1:B4,$G$1:G4)","v":{"$error":"#N/A"}},{"$f":"'Sheet3 (3)'!Q4","v":1.3984313248616147E-3},{"$f":"CORREL($B$1:B4,$I$1:I4)","v":{"$error":"#N/A"}},{"$f":"'Sheet3 (3)'!S4","v":1.156421180766876E-3},{"$f":"CORREL($B$1:B4,$K$1:K4)","v":{"$error":"#N/A"}},{"$f":"'Sheet3 (3)'!U4","v":-3.4175515684120726E-3},{"$f":"CORREL($B$1:B4,$M$1:M4)","v":{"$error":"#N/A"}},{"$f":"'Sheet3 (3)'!W4","v":-1.147620198115473E-3},{"$f":"CORREL($B$1:B4,$O$1:O4)","v":{"$error":"#N/A"}},{"$f":"'Sheet3 (3)'!Y4","v":1.0350706283486818E-3},{"$f":"CORREL($B$1:B4,$Q$1:Q4)","v":{"$error":"#N/A"}},{"$f":"'Sheet3 (3)'!AA4","v":3.805315166022246E-3},{"$f":"CORREL($B$1:B4,$S$1:S4)","v":{"$error":"#N/A"}}]
[null,{"$f":"'Sheet3 (3)'!I5","v":{"$error":"#N/A"}},{"$f":"'Sheet3 (3)'!K5","v":-8.8851533889655384E-3},{"$f":"CORREL($B$1:B5,$C$1:C5)","v":{"$error":"#N/A"}},{"$f":"'Sheet3 (3)'!M5","v":6.4059950444189419E-3},{"$f":"CORREL($B$1:B5,$E$1:E5)","v":{"$error":"#N/A"}},{"$f":"'Sheet3 (3)'!O5","v":2.6582890285161776E-3},{"$f":"CORREL($B$1:B5,$G$1:G5)","v":{"$error":"#N/A"}},{"$f":"'Sheet3 (3)'!Q5","v":1.3984313248616147E-3},{"$f":"CORREL($B$1:B5,$I$1:I5)","v":{"$error":"#N/A"}},{"$f":"'Sheet3 (3)'!S5","v":1.765063907486257E-3},{"$f":"CORREL($B$1:B5,$K$1:K5)","v":{"$error":"#N/A"}},{"$f":"'Sheet3 (3)'!U5","v":-3.4175515684120726E-3},{"$f":"CORREL($B$1:B5,$M$1:M5)","v":{"$error":"#N/A"}},{"$f":"'Sheet3 (3)'!W5","v":-1.0872191350568181E-3},{"$f":"CORREL($B$1:B5,$O$1:O5)","v":{"$error":"#N/A"}},{"$f":"'Sheet3 (3)'!Y5","v":1.0350706283486818E-3},{"$f":"CORREL($B$1:B5,$Q$1:Q5)","v":{"$error":"#N/A"}},{"$f":"'Sheet3 (3)'!AA5","v":6.3217332596820792E-3},{"$f":"CORREL($B$1:B5,$S$1:S5)","v":{"$error":"#N/A"}}]
[null,{"$f":"'Sheet3 (3)'!I6","v":{"$error":"#N/A"}},{"$f":"'Sheet3 (3)'!K6","v":-8.0446659062256322E-3},{"$f":"CORREL($B$1:B6,$C$1:C6)","v":{"$error":"#N/A"}},{"$f":"'Sheet3 (3)'!M6","v":5.4994863117181153E-3},{"$f":"CORREL($B$1:B6,$E$1:E6)","v":{"$error":"#N/A"}},{"$f":"'Sheet3 (3)'!O6","v":2.6582890285161776E-3},{"$f":"CORREL($B$1:B6,$G$1:G6)","v":{"$error":"#N/A"}},{"$f":"'Sheet3 (3)'!Q6","v":-8.5121906730702471E-4},{"$f":"CORREL($B$1:B6,$I$1:I6)","v":{"$error":"#N/A"}},{"$f":"'Sheet3 (3)'!S6","v":1.4607425441264799E-3},{"$f":"CORREL($B$1:B6,$K$1:K6)","v":{"$error":"#N/A"}},{"$f":"'Sheet3 (3)'!U6","v":-3.5396069815697086E-3},{"$f":"CORREL($B$1:B6,$M$1:M6)","v":{"$error":"#N/A"}},{"$f":"'Sheet3 (3)'!W6","v":-9.664170089393367E-4},{"$f":"CORREL($B$1:B6,$O$1:O6)","v":{"$error":"#N/A"}},{"$f":"'Sheet3 (3)'!Y6","v":-8.5241110569906709E-4},{"$f":"CORREL($B$1:B6,$Q$1:Q6)","v":{"$error":"#N/A"}},{"$f":"'Sheet3 (3)'!AA6","v":5.5852206469035569E-3},{"$f":"CORREL($B$1:B6,$S$1:S6)","v":{"$error":"#N/A"}}]
[null,{"$f":"'Sheet3 (3)'!I7","v":{"$error":"#N/A"}},{"$f":"'Sheet3 (3)'!K7","v":-8.4649096475955862E-3},{"$f":"CORREL($B$1:B7,$C$1:C7)","v":{"$error":"#N/A"}},{"$f":"'Sheet3 (3)'!M7","v":5.4994863117181153E-3},{"$f":"CORREL($B$1:B7,$E$1:E7)","v":{"$error":"#N/A"}},{"$f":"'Sheet3 (3)'!O7","v":4.0478492025132155E-3},{"$f":"CORREL($B$1:B7,$G$1:G7)","v":{"$error":"#N/A"}},{"$f":"'Sheet3 (3)'!Q7","v":-9.7282179120810231E-4},{"$f":"CORREL($B$1:B7,$I$1:I7)","v":{"$error":"#N/A"}},{"$f":"'Sheet3 (3)'!S7","v":1.9476567255020886E-3},{"$f":"CORREL($B$1:B7,$K$1:K7)","v":{"$error":"#N/A"}},{"$f":"'Sheet3 (3)'!U7","v":-3.5396069815697086E-3},{"$f":"CORREL($B$1:B7,$M$1:M7)","v":{"$error":"#N/A"}},{"$f":"'Sheet3 (3)'!W7","v":-9.664170089393367E-4},{"$f":"CORREL($B$1:B7,$O$1:O7)","v":{"$error":"#N/A"}},{"$f":"'Sheet3 (3)'!Y7","v":-8.5241110569906709E-4},{"$f":"CORREL($B$1:B7,$Q$1:Q7)","v":{"$error":"#N/A"}},{"$f":"'Sheet3 (3)'!AA7","v":5.5852206469035569E-3},{"$f":"CORREL($B$1:B7,$S$1:S7)","v":{"$error":"#N/A"}}]
[null,{"$f":"'Sheet3 (3)'!I8","v":{"$error":"#N/A"}},{"$f":"'Sheet3 (3)'!K8","v":-8.0446659062256322E-3},{"$f":"CORREL($B$1:B8,$C$1:C8)","v":{"$error":"#N/A"}},{"$f":"'Sheet3 (3)'!M8","v":9.0046534114945863E-3},{"$f":"CORREL($B$1:B8,$E$1:E8)","v":{"$error":"#N/A"}},{"$f":"'Sheet3 (3)'!O8","v":4.0478492025132155E-3},{"$f":"CORREL($B$1:B8,$G$1:G8)","v":{"$error":"#N/A"}},{"$f":"'Sheet3 (3)'!Q8","v":4.8641089560413756E-4},{"$f":"CORREL($B$1:B8,$I$1:I8)","v":{"$error":"#N/A"}},{"$f":"'Sheet3 (3)'!S8","v":1.3998782714545938E-3},{"$f":"CORREL($B$1:B8,$K$1:K8)","v":{"$error":"#N/A"}},{"$f":"'Sheet3 (3)'!U8","v":-3.5396069815697086E-3},{"$f":"CORREL($B$1:B8,$M$1:M8)","v":{"$error":"#N/A"}},{"$f":"'Sheet3 (3)'!W8","v":-9.664170089393367E-4},{"$f":"CORREL($B$1:B8,$O$1:O8)","v":{"$error":"#N/A"}},{"$f":"'Sheet3 (3)'!Y8","v":-8.5241110569906709E-4},{"$f":"CORREL($B$1:B8,$Q$1:Q8)","v":{"$error":"#N/A"}},{"$f":"'Sheet3 (3)'!AA8","v":5.5852206469035569E-3},{"$f":"CORREL($B$1:B8,$S$1:S8)","v":{"$error":"#N/A"}}]
[null,{"$f":"'Sheet3 (3)'!I9","v":{"$error":"#N/A"}},{"$f":"'Sheet3 (3)'!K9","v":-7.5643873446598481E-3},{"$f":"CORREL($B$1:B9,$C$1:C9)","v":{"$error":"#N/A"}},{"$f":"'Sheet3 (3)'!M9","v":8.8837855804677519E-3},{"$f":"CORREL($B$1:B9,$E$1:E9)","v":{"$error":"#N/A"}},{"$f":"'Sheet3 (3)'!O9","v":4.0478492025132155E-3},{"$f":"CORREL($B$1:B9,$G$1:G9)","v":{"$error":"#N/A"}},{"$f":"'Sheet3 (3)'!Q9","v":2.4320544780198237E-4},{"$f":"CORREL($B$1:B9,$I$1:I9)","v":{"$error":"#N/A"}},{"$f":"'Sheet3 (3)'!S9","v":1.8867924528302024E-3},{"$f":"CORREL($B$1:B9,$K$1:K9)","v":{"$error":"#N/A"}},{"$f":"'Sheet3 (3)'!U9","v":-1.769803490784941E-3},{"$f":"CORREL($B$1:B9,$M$1:M9)","v":{"$error":"#N/A"}},{"$f":"'Sheet3 (3)'!W9","v":-9.664170089393367E-4},{"$f":"CORREL($B$1:B9,$O$1:O9)","v":{"$error":"#N/A"}},{"$f":"'Sheet3 (3)'!Y9","v":-4.8709206039949162E-4},{"$f":"CORREL($B$1:B9,$Q$1:Q9)","v":{"$error":"#N/A"}},{"$f":"'Sheet3 (3)'!AA9","v":5.5852206469035569E-3},{"$f":"CORREL($B$1:B9,$S$1:S9)","v":{"$error":"#N/A"}}]
[null,{"$f":"'Sheet3 (3)'!I10","v":{"$error":"#N/A"}},{"$f":"'Sheet3 (3)'!K10","v":-7.5643873446598481E-3},{"$f":"CORREL($B$1:B10,$C$1:C10)","v":{"$error":"#N/A"}},{"$f":"'Sheet3 (3)'!M10","v":9.4881247356015785E-3},{"$f":"CORREL($B$1:B10,$E$1:E10)","v":{"$error":"#N/A"}},{"$f":"'Sheet3 (3)'!O10","v":4.8332527791202446E-3},{"$f":"CORREL($B$1:B10,$G$1:G10)","v":{"$error":"#N/A"}},{"$f":"'Sheet3 (3)'!Q10","v":3.6480817170305997E-4},{"$f":"CORREL($B$1:B10,$I$1:I10)","v":{"$error":"#N/A"}},{"$f":"'Sheet3 (3)'!S10","v":-3.0432136335977703E-4},{"$f":"CORREL($B$1:B10,$K$1:K10)","v":{"$error":"#N/A"}},{"$f":"'Sheet3 (3)'!U10","v":-1.769803490784941E-3},{"$f":"CORREL($B$1:B10,$M$1:M10)","v":{"$error":"#N/A"}},{"$f":"'Sheet3 (3)'!W10","v":-3.3824595312877642E-3},{"$f":"CORREL($B$1:B10,$O$1:O10)","v":{"$error":"#N/A"}},{"$f":"'Sheet3 (3)'!Y10","v":-9.1329761324893859E-4},{"$f":"CORREL($B$1:B10,$Q$1:Q10)","v":{"$error":"#N/A"}},{"$f":"'Sheet3 (3)'!AA10","v":5.5852206469035569E-3},{"$f":"CORREL($B$1:B10,$S$1:S10)","v":{"$error":"#N/A"}}]
[null,{"$f":"'Sheet3 (3)'!I11","v":{"$error":"#N/A"}},{"$f":"'Sheet3 (3)'!K11","v":-7.5643873446598481E-3},{"$f":"CORREL($B$1:B11,$C$1:C11)","v":{"$error":"#N/A"}},{"$f":"'Sheet3 (3)'!M11","v":9.5485586511150806E-3},{"$f":"CORREL($B$1:B11,$E$1:E11)","v":{"$error":"#N/A"}},{"$f":"'Sheet3 (3)'!O11","v":4.6520057999032251E-3},{"$f":"CORREL($B$1:B11,$G$1:G11)","v":{"$error":"#N/A"}},{"$f":"'Sheet3 (3)'!Q11","v":6.0801361950452394E-5},{"$f":"CORREL($B$1:B11,$I$1:I11)","v":{"$error":"#N/A"}},{"$f":"'Sheet3 (3)'!S11","v":-3.0432136335977703E-4},{"$f":"CORREL($B$1:B11,$K$1:K11)","v":{"$error":"#N/A"}},{"$f":"'Sheet3 (3)'!U11","v":-1.769803490784941E-3},{"$f":"CORREL($B$1:B11,$M$1:M11)","v":{"$error":"#N/A"}},{"$f":"'Sheet3 (3)'!W11","v":-6.1609084319884646E-3},{"$f":"CORREL($B$1:B11,$O$1:O11)","v":{"$error":"#N/A"}},{"$f":"'Sheet3 (3)'!Y11","v":1.8265952264978771E-4},{"$f":"CORREL($B$1:B11,$Q$1:Q11)","v":{"$error":"#N/A"}},{"$f":"'Sheet3 (3)'!AA11","v":5.3397164426441076E-3},{"$f":"CORREL($B$1:B11,$S$1:S11)","v":{"$error":"#N/A"}}]
[null,{"$f":"'Sheet3 (3)'!I12","v":{"$error":"#N/A"}},{"$f":"'Sheet3 (3)'!K12","v":-7.144143603289895E-3},{"$f":"CORREL($B$1:B12,$C$1:C12)","v":{"$error":"#N/A"}},{"$f":"'Sheet3 (3)'!M12","v":1.0152897806248909E-2},{"$f":"CORREL($B$1:B12,$E$1:E12)","v":{"$error":"#N/A"}},{"$f":"'Sheet3 (3)'!O12","v":4.6520057999032251E-3},{"$f":"CORREL($B$1:B12,$G$1:G12)","v":{"$error":"#N/A"}},{"$f":"'Sheet3 (3)'!Q12","v":6.0801361950452394E-5},{"$f":"CORREL($B$1:B12,$I$1:I12)","v":{"$error":"#N/A"}},{"$f":"'Sheet3 (3)'!S12","v":-4.2604990870372242E-4},{"$f":"CORREL($B$1:B12,$K$1:K12)","v":{"$error":"#N/A"}},{"$f":"'Sheet3 (3)'!U12","v":-3.3565238618333414E-3},{"$f":"CORREL($B$1:B12,$M$1:M12)","v":{"$error":"#N/A"}},{"$f":"'Sheet3 (3)'!W12","v":-5.7985020536361924E-3},{"$f":"CORREL($B$1:B12,$O$1:O12)","v":{"$error":"#N/A"}},{"$f":"'Sheet3 (3)'!Y12","v":7.9152459814902244E-4},{"$f":"CORREL($B$1:B12,$Q$1:Q12)","v":{"$error":"#N/A"}},{"$f":"'Sheet3 (3)'!AA12","v":6.0762290554224555E-3},{"$f":"CORREL($B$1:B12,$S$1:S12)","v":{"$error":"#N/A"}}]
[null,{"$f":"'Sheet3 (3)'!I13","v":{"$error":"#N/A"}},{"$f":"'Sheet3 (3)'!K13","v":-7.8045266254426551E-3},{"$f":"CORREL($B$1:B13,$C$1:C13)","v":{"$error":"#N/A"}},{"$f":"'Sheet3 (3)'!M13","v":8.8233516649544198E-3},{"$f":"CORREL($B$1:B13,$E$1:E13)","v":{"$error":"#N/A"}},{"$f":"'Sheet3 (3)'!O13","v":4.4103431609472553E-3},{"$f":"CORREL($B$1:B13,$G$1:G13)","v":{"$error":"#N/A"}},{"$f":"'Sheet3 (3)'!Q13","v":6.0801361950452394E-5},{"$f":"CORREL($B$1:B13,$I$1:I13)","v":{"$error":"#N/A"}},{"$f":"'Sheet3 (3)'!S13","v":-4.2604990870372242E-4},{"$f":"CORREL($B$1:B13,$K$1:K13)","v":{"$error":"#N/A"}},{"$f":"'Sheet3 (3)'!U13","v":-3.6006346881484398E-3},{"$f":"CORREL($B$1:B13,$M$1:M13)","v":{"$error":"#N/A"}},{"$f":"'Sheet3 (3)'!W13","v":-5.7985020536361924E-3},{"$f":"CORREL($B$1:B13,$O$1:O13)","v":{"$error":"#N/A"}},{"$f":"'Sheet3 (3)'!Y13","v":-6.0886507550044608E-5},{"$f":"CORREL($B$1:B13,$Q$1:Q13)","v":{"$error":"#N/A"}},{"$f":"'Sheet3 (3)'!AA13","v":6.7513656171361586E-3},{"$f":"CORREL($B$1:B13,$S$1:S13)","v":{"$error":"#N/A"}}]
[null,{"$f":"'Sheet3 (3)'!I14","v":{"$error":"#N/A"}},{"$f":"'Sheet3 (3)'!K14","v":-9.3053971303354924E-3},{"$f":"CORREL($B$1:B14,$C$1:C14)","v":{"$error":"#N/A"}},{"$f":"'Sheet3 (3)'!M14","v":8.3398803408472558E-3},{"$f":"CORREL($B$1:B14,$E$1:E14)","v":{"$error":"#N/A"}},{"$f":"'Sheet3 (3)'!O14","v":5.1957467375542844E-3},{"$f":"CORREL($B$1:B14,$G$1:G14)","v":{"$error":"#N/A"}},{"$f":"'Sheet3 (3)'!Q14","v":-3.6480817170305997E-4},{"$f":"CORREL($B$1:B14,$I$1:I14)","v":{"$error":"#N/A"}},{"$f":"'Sheet3 (3)'!S14","v":-5.4777845404749487E-4},{"$f":"CORREL($B$1:B14,$K$1:K14)","v":{"$error":"#N/A"}},{"$f":"'Sheet3 (3)'!U14","v":-3.6006346881484398E-3},{"$f":"CORREL($B$1:B14,$M$1:M14)","v":{"$error":"#N/A"}},{"$f":"'Sheet3 (3)'!W14","v":-8.8185552065716839E-3},{"$f":"CORREL($B$1:B14,$O$1:O14)","v":{"$error":"#N/A"}},{"$f":"'Sheet3 (3)'!Y14","v":3.6531904529957541E-4},{"$f":"CORREL($B$1:B14,$Q$1:Q14)","v":{"$error":"#N/A"}},{"$f":"'Sheet3 (3)'!AA14","v":5.2783403915791149E-3},{"$f":"CORREL($B$1:B14,$S$1:S14)","v":{"$error":"#N/A"}}]
[null,{"$f":"'Sheet3 (3)'!I15","v":{"$error":"#N/A"}},{"$f":"'Sheet3 (3)'!K15","v":-8.0446659062256322E-3},{"$f":"CORREL($B$1:B15,$C$1:C15)","v":{"$error":"#N/A"}},{"$f":"'Sheet3 (3)'!M15","v":8.5816160029007528E-3},{"$f":"CORREL($B$1:B15,$E$1:E15)","v":{"$error":"#N/A"}},{"$f":"'Sheet3 (3)'!O15","v":4.531174480425326E-3},{"$f":"CORREL($B$1:B15,$G$1:G15)","v":{"$error":"#N/A"}},{"$f":"'Sheet3 (3)'!Q15","v":6.0801361950504234E-4},{"$f":"CORREL($B$1:B15,$I$1:I15)","v":{"$error":"#N/A"}},{"$f":"'Sheet3 (3)'!S15","v":-1.2781497261108213E-3},{"$f":"CORREL($B$1:B15,$K$1:K15)","v":{"$error":"#N/A"}},{"$f":"'Sheet3 (3)'!U15","v":-3.6006346881484398E-3},{"$f":"CORREL($B$1:B15,$M$1:M15)","v":{"$error":"#N/A"}},{"$f":"'Sheet3 (3)'!W15","v":-7.3689296931625931E-3},{"$f":"CORREL($B$1:B15,$O$1:O15)","v":{"$error":"#N/A"}},{"$f":"'Sheet3 (3)'!Y15","v":3.0443253774953082E-4},{"$f":"CORREL($B$1:B15,$Q$1:Q15)","v":{"$error":"#N/A"}},{"$f":"'Sheet3 (3)'!AA15","v":5.5238445958387386E-3},{"$f":"CORREL($B$1:B15,$S$1:S15)","v":{"$error":"#N/A"}}]
[null,{"$f":"'Sheet3 (3)'!I16","v":{"$error":"#N/A"}},{"$f":"'Sheet3 (3)'!K16","v":-8.0446659062256322E-3},{"$f":"CORREL($B$1:B16,$C$1:C16)","v":{"$error":"#N/A"}},{"$f":"'Sheet3 (3)'!M16","v":8.8837855804677519E-3},{"$f":"CORREL($B$1:B16,$E$1:E16)","v":{"$error":"#N/A"}},{"$f":"'Sheet3 (3)'!O16","v":4.531174480425326E-3},{"$f":"CORREL($B$1:B16,$G$1:G16)","v":{"$error":"#N/A"}},{"$f":"'Sheet3 (3)'!Q16","v":6.688149814556676E-4},{"$f":"CORREL($B$1:B16,$I$1:I16)","v":{"$error":"#N/A"}},{"$f":"'Sheet3 (3)'!S16","v":-1.2781497261108213E-3},{"$f":"CORREL($B$1:B16,$K$1:K16)","v":{"$error":"#N/A"}},{"$f":"'Sheet3 (3)'!U16","v":-5.0652996460393779E-3},{"$f":"CORREL($B$1:B16,$M$1:M16)","v":{"$error":"#N/A"}},{"$f":"'Sheet3 (3)'!W16","v":-1.0026576467745811E-2},{"$f":"CORREL($B$1:B16,$O$1:O16)","v":{"$error":"#N/A"}},{"$f":"'Sheet3 (3)'!Y16","v":-8.5241110569906709E-4},{"$f":"CORREL($B$1:B16,$Q$1:Q16)","v":{"$error":"#N/A"}},{"$f":"'Sheet3 (3)'!AA16","v":4.8487080341250354E-3},{"$f":"CORREL($B$1:B16,$S$1:S16)","v":{"$error":"#N/A"}}]
[null,{"$f":"'Sheet3 (3)'!I17","v":{"$error":"#N/A"}},{"$f":"'Sheet3 (3)'!K17","v":-5.7633427387883745E-3},{"$f":"CORREL($B$1:B17,$C$1:C17)","v":{"$error":"#N/A"}},{"$f":"'Sheet3 (3)'!M17","v":8.7024838339275871E-3},{"$f":"CORREL($B$1:B17,$E$1:E17)","v":{"$error":"#N/A"}},{"$f":"'Sheet3 (3)'!O17","v":4.531174480425326E-3},{"$f":"CORREL($B$1:B17,$G$1:G17)","v":{"$error":"#N/A"}},{"$f":"'Sheet3 (3)'!Q17","v":6.688149814556676E-4},{"$f":"CORREL($B$1:B17,$I$1:I17)","v":{"$error":"#N/A"}},{"$f":"'Sheet3 (3)'!S17","v":-7.3037127206332646E-4},{"$f":"CORREL($B$1:B17,$K$1:K17)","v":{"$error":"#N/A"}},{"$f":"'Sheet3 (3)'!U17","v":-4.943244232881742E-3},{"$f":"CORREL($B$1:B17,$M$1:M17)","v":{"$error":"#N/A"}},{"$f":"'Sheet3 (3)'!W17","v":-1.0026576467745811E-2},{"$f":"CORREL($B$1:B17,$O$1:O17)","v":{"$error":"#N/A"}},{"$f":"'Sheet3 (3)'!Y17","v":-4.2620555284962006E-4},{"$f":"CORREL($B$1:B17,$Q$1:Q17)","v":{"$error":"#N/A"}},{"$f":"'Sheet3 (3)'!AA17","v":5.5852206469035569E-3},{"$f":"CORREL($B$1:B17,$S$1:S17)","v":{"$error":"#N/A"}}]
[null,{"$f":"'Sheet3 (3)'!I18","v":{"$error":"#N/A"}},{"$f":"'Sheet3 (3)'!K18","v":-6.303656120549817E-3},{"$f":"CORREL($B$1:B18,$C$1:C18)","v":{"$error":"#N/A"}},{"$f":"'Sheet3 (3)'!M18","v":7.8564090167402637E-3},{"$f":"CORREL($B$1:B18,$E$1:E18)","v":{"$error":"#N/A"}},{"$f":"'Sheet3 (3)'!O18","v":5.1353310778153348E-3},{"$f":"CORREL($B$1:B18,$G$1:G18)","v":{"$error":"#N/A"}},{"$f":"'Sheet3 (3)'!Q18","v":1.1552258770596323E-3},{"$f":"CORREL($B$1:B18,$I$1:I18)","v":{"$error":"#N/A"}},{"$f":"'Sheet3 (3)'!S18","v":-7.3037127206332646E-4},{"$f":"CORREL($B$1:B18,$K$1:K18)","v":{"$error":"#N/A"}},{"$f":"'Sheet3 (3)'!U18","v":-3.4785792749909773E-3},{"$f":"CORREL($B$1:B18,$M$1:M18)","v":{"$error":"#N/A"}},{"$f":"'Sheet3 (3)'!W18","v":-8.0937424498671376E-3},{"$f":"CORREL($B$1:B18,$O$1:O18)","v":{"$error":"#N/A"}},{"$f":"'Sheet3 (3)'!Y18","v":4.2620555284944702E-4},{"$f":"CORREL($B$1:B18,$Q$1:Q18)","v":{"$error":"#N/A"}},{"$f":"'Sheet3 (3)'!AA18","v":5.5852206469035569E-3},{"$f":"CORREL($B$1:B18,$S$1:S18)","v":{"$error":"#N/A"}}]
[null,{"$f":"'Sheet3 (3)'!I19","v":{"$error":"#N/A"}},{"$f":"'Sheet3 (3)'!K19","v":-6.3636909407456463E-3},{"$f":"CORREL($B$1:B19,$C$1:C19)","v":{"$error":"#N/A"}},{"$f":"'Sheet3 (3)'!M19","v":5.8620898047984458E-3},{"$f":"CORREL($B$1:B19,$E$1:E19)","v":{"$error":"#N/A"}},{"$f":"'Sheet3 (3)'!O19","v":5.9811503141613135E-3},{"$f":"CORREL($B$1:B19,$G$1:G19)","v":{"$error":"#N/A"}},{"$f":"'Sheet3 (3)'!Q19","v":1.7632394965646746E-3},{"$f":"CORREL($B$1:B19,$I$1:I19)","v":{"$error":"#N/A"}},{"$f":"'Sheet3 (3)'!S19","v":-7.3037127206332646E-4},{"$f":"CORREL($B$1:B19,$K$1:K19)","v":{"$error":"#N/A"}},{"$f":"'Sheet3 (3)'!U19","v":-3.4785792749909773E-3},{"$f":"CORREL($B$1:B19,$M$1:M19)","v":{"$error":"#N/A"}},{"$f":"'Sheet3 (3)'!W19","v":-8.3353467021019291E-3},{"$f":"CORREL($B$1:B19,$O$1:O19)","v":{"$error":"#N/A"}},{"$f":"'Sheet3 (3)'!Y19","v":1.2786166585483411E-3},{"$f":"CORREL($B$1:B19,$Q$1:Q19)","v":{"$error":"#N/A"}},{"$f":"'Sheet3 (3)'!AA19","v":5.462468544773745E-3},{"$f":"CORREL($B$1:B19,$S$1:S19)","v":{"$error":"#N/A"}}]
[null,{"$f":"'Sheet3 (3)'!I20","v":{"$error":"#N/A"}},{"$f":"'Sheet3 (3)'!K20","v":-6.6038302215284525E-3},{"$f":"CORREL($B$1:B20,$C$1:C20)","v":{"$error":"#N/A"}},{"$f":"'Sheet3 (3)'!M20","v":7.4333716081464302E-3},{"$f":"CORREL($B$1:B20,$E$1:E20)","v":{"$error":"#N/A"}},{"$f":"'Sheet3 (3)'!O20","v":5.5582406959883241E-3},{"$f":"CORREL($B$1:B20,$G$1:G20)","v":{"$error":"#N/A"}},{"$f":"'Sheet3 (3)'!Q20","v":1.7632394965646746E-3},{"$f":"CORREL($B$1:B20,$I$1:I20)","v":{"$error":"#N/A"}},{"$f":"'Sheet3 (3)'!S20","v":-8.520998174072719E-4},{"$f":"CORREL($B$1:B20,$K$1:K20)","v":{"$error":"#N/A"}},{"$f":"'Sheet3 (3)'!U20","v":-3.4785792749909773E-3},{"$f":"CORREL($B$1:B20,$M$1:M20)","v":{"$error":"#N/A"}},{"$f":"'Sheet3 (3)'!W20","v":-8.5769509543368923E-3},{"$f":"CORREL($B$1:B20,$O$1:O20)","v":{"$error":"#N/A"}},{"$f":"'Sheet3 (3)'!Y20","v":1.0959571358985533E-3},{"$f":"CORREL($B$1:B20,$Q$1:Q20)","v":{"$error":"#N/A"}},{"$f":"'Sheet3 (3)'!AA20","v":4.8487080341250354E-3},{"$f":"CORREL($B$1:B20,$S$1:S20)","v":{"$error":"#N/A"}}]
[null,{"$f":"'Sheet3 (3)'!I21","v":{"$error":"#N/A"}},{"$f":"'Sheet3 (3)'!K21","v":-6.4837605811369639E-3},{"$f":"CORREL($B$1:B21,$C$1:C21)","v":{"$error":"#N/A"}},{"$f":"'Sheet3 (3)'!M21","v":7.4333716081464302E-3},{"$f":"CORREL($B$1:B21,$E$1:E21)","v":{"$error":"#N/A"}},{"$f":"'Sheet3 (3)'!O21","v":5.1353310778153348E-3},{"$f":"CORREL($B$1:B21,$G$1:G21)","v":{"$error":"#N/A"}},{"$f":"'Sheet3 (3)'!Q21","v":2.3104517541192647E-3},{"$f":"CORREL($B$1:B21,$I$1:I21)","v":{"$error":"#N/A"}},{"$f":"'Sheet3 (3)'!S21","v":-8.520998174072719E-4},{"$f":"CORREL($B$1:B21,$K$1:K21)","v":{"$error":"#N/A"}},{"$f":"'Sheet3 (3)'!U21","v":-3.4785792749909773E-3},{"$f":"CORREL($B$1:B21,$M$1:M21)","v":{"$error":"#N/A"}},{"$f":"'Sheet3 (3)'!W21","v":-8.4561488282194116E-3},{"$f":"CORREL($B$1:B21,$O$1:O21)","v":{"$error":"#N/A"}},{"$f":"'Sheet3 (3)'!Y21","v":1.0959571358985533E-3},{"$f":"CORREL($B$1:B21,$Q$1:Q21)","v":{"$error":"#N/A"}},{"$f":"'Sheet3 (3)'!AA21","v":3.805315166022246E-3},{"$f":"CORREL($B$1:B21,$S$1:S21)","v":{"$error":"#N/A"}}]
[null,{"$f":"'Sheet3 (3)'!I22","v":{"$error":"#N/A"}},{"$f":"'Sheet3 (3)'!K22","v":-6.3636909407456463E-3},{"$f":"CORREL($B$1:B22,$C$1:C22)","v":{"$error":"#N/A"}},{"$f":"'Sheet3 (3)'!M22","v":7.4333716081464302E-3},{"$f":"CORREL($B$1:B22,$E$1:E22)","v":{"$error":"#N/A"}},{"$f":"'Sheet3 (3)'!O22","v":5.9207346544223639E-3},{"$f":"CORREL($B$1:B22,$G$1:G22)","v":{"$error":"#N/A"}},{"$f":"'Sheet3 (3)'!Q22","v":2.3104517541192647E-3},{"$f":"CORREL($B$1:B22,$I$1:I22)","v":{"$error":"#N/A"}},{"$f":"'Sheet3 (3)'!S22","v":-8.520998174072719E-4},{"$f":"CORREL($B$1:B22,$K$1:K22)","v":{"$error":"#N/A"}},{"$f":"'Sheet3 (3)'!U22","v":-3.4785792749909773E-3},{"$f":"CORREL($B$1:B22,$M$1:M22)","v":{"$error":"#N/A"}},{"$f":"'Sheet3 (3)'!W22","v":-8.4561488282194116E-3},{"$f":"CORREL($B$1:B22,$O$1:O22)","v":{"$error":"#N/A"}},{"$f":"'Sheet3 (3)'!Y22","v":1.0959571358985533E-3},{"$f":"CORREL($B$1:B22,$Q$1:Q22)","v":{"$error":"#N/A"}},{"$f":"'Sheet3 (3)'!AA22","v":3.805315166022246E-3},{"$f":"CORREL($B$1:B22,$S$1:S22)","v":{"$error":"#N/A"}}]
[null,{"$f":"'Sheet3 (3)'!I23","v":{"$error":"#N/A"}},{"$f":"'Sheet3 (3)'!K23","v":-6.1835864801584994E-3},{"$f":"CORREL($B$1:B23,$C$1:C23)","v":{"$error":"#N/A"}},{"$f":"'Sheet3 (3)'!M23","v":7.4333716081464302E-3},{"$f":"CORREL($B$1:B23,$E$1:E23)","v":{"$error":"#N/A"}},{"$f":"'Sheet3 (3)'!O23","v":5.9811503141613135E-3},{"$f":"CORREL($B$1:B23,$G$1:G23)","v":{"$error":"#N/A"}},{"$f":"'Sheet3 (3)'!Q23","v":2.3104517541192647E-3},{"$f":"CORREL($B$1:B23,$I$1:I23)","v":{"$error":"#N/A"}},{"$f":"'Sheet3 (3)'!S23","v":-8.520998174072719E-4},{"$f":"CORREL($B$1:B23,$K$1:K23)","v":{"$error":"#N/A"}},{"$f":"'Sheet3 (3)'!U23","v":-2.6241913828878726E-3},{"$f":"CORREL($B$1:B23,$M$1:M23)","v":{"$error":"#N/A"}},{"$f":"'Sheet3 (3)'!W23","v":-7.7313360715148653E-3},{"$f":"CORREL($B$1:B23,$O$1:O23)","v":{"$error":"#N/A"}},{"$f":"'Sheet3 (3)'!Y23","v":2.7398928397466427E-3},{"$f":"CORREL($B$1:B23,$Q$1:Q23)","v":{"$error":"#N/A"}},{"$f":"'Sheet3 (3)'!AA23","v":4.3576996256059625E-3},{"$f":"CORREL($B$1:B23,$S$1:S23)","v":{"$error":"#N/A"}}]
[null,{"$f":"'Sheet3 (3)'!I24","v":{"$error":"#N/A"}},{"$f":"'Sheet3 (3)'!K24","v":-7.0841087830942357E-3},{"$f":"CORREL($B$1:B24,$C$1:C24)","v":{"$error":"#N/A"}},{"$f":"'Sheet3 (3)'!M24","v":7.4333716081464302E-3},{"$f":"CORREL($B$1:B24,$E$1:E24)","v":{"$error":"#N/A"}},{"$f":"'Sheet3 (3)'!O24","v":6.585306911551494E-3},{"$f":"CORREL($B$1:B24,$G$1:G24)","v":{"$error":"#N/A"}},{"$f":"'Sheet3 (3)'!Q24","v":2.3104517541192647E-3},{"$f":"CORREL($B$1:B24,$I$1:I24)","v":{"$error":"#N/A"}},{"$f":"'Sheet3 (3)'!S24","v":-8.520998174072719E-4},{"$f":"CORREL($B$1:B24,$K$1:K24)","v":{"$error":"#N/A"}},{"$f":"'Sheet3 (3)'!U24","v":-2.6241913828878726E-3},{"$f":"CORREL($B$1:B24,$M$1:M24)","v":{"$error":"#N/A"}},{"$f":"'Sheet3 (3)'!W24","v":-7.6105339453973837E-3},{"$f":"CORREL($B$1:B24,$O$1:O24)","v":{"$error":"#N/A"}},{"$f":"'Sheet3 (3)'!Y24","v":2.7398928397466427E-3},{"$f":"CORREL($B$1:B24,$Q$1:Q24)","v":{"$error":"#N/A"}},{"$f":"'Sheet3 (3)'!AA24","v":4.3576996256059625E-3},{"$f":"CORREL($B$1:B24,$S$1:S24)","v":{"$error":"#N/A"}}]
[null,{"$f":"'Sheet3 (3)'!I25","v":{"$error":"#N/A"}},{"$f":"'Sheet3 (3)'!K25","v":-8.0446659062256322E-3},{"$f":"CORREL($B$1:B25,$C$1:C25)","v":{"$error":"#N/A"}},{"$f":"'Sheet3 (3)'!M25","v":9.0650873270079167E-3},{"$f":"CORREL($B$1:B25,$E$1:E25)","v":{"$error":"#N/A"}},{"$f":"'Sheet3 (3)'!O25","v":6.585306911551494E-3},{"$f":"CORREL($B$1:B25,$G$1:G25)","v":{"$error":"#N/A"}},{"$f":"'Sheet3 (3)'!Q25","v":2.3104517541192647E-3},{"$f":"CORREL($B$1:B25,$I$1:I25)","v":{"$error":"#N/A"}},{"$f":"'Sheet3 (3)'!S25","v":1.2172854534377242E-4},{"$f":"CORREL($B$1:B25,$K$1:K25)","v":{"$error":"#N/A"}},{"$f":"'Sheet3 (3)'!U25","v":-3.905773221042443E-3},{"$f":"CORREL($B$1:B25,$M$1:M25)","v":{"$error":"#N/A"}},{"$f":"'Sheet3 (3)'!W25","v":-7.6105339453973837E-3},{"$f":"CORREL($B$1:B25,$O$1:O25)","v":{"$error":"#N/A"}},{"$f":"'Sheet3 (3)'!Y25","v":3.9576229907451119E-3},{"$f":"CORREL($B$1:B25,$Q$1:Q25)","v":{"$error":"#N/A"}},{"$f":"'Sheet3 (3)'!AA25","v":4.3576996256059625E-3},{"$f":"CORREL($B$1:B25,$S$1:S25)","v":{"$error":"#N/A"}}]
[null,{"$f":"'Sheet3 (3)'!I26","v":{"$error":"#N/A"}},{"$f":"'Sheet3 (3)'!K26","v":-8.0446659062256322E-3},{"$f":"CORREL($B$1:B26,$C$1:C26)","v":{"$error":"#N/A"}},{"$f":"'Sheet3 (3)'!M26","v":9.427690820088248E-3},{"$f":"CORREL($B$1:B26,$E$1:E26)","v":{"$error":"#N/A"}},{"$f":"'Sheet3 (3)'!O26","v":7.0686321894634328E-3},{"$f":"CORREL($B$1:B26,$G$1:G26)","v":{"$error":"#N/A"}},{"$f":"'Sheet3 (3)'!Q26","v":2.3104517541192647E-3},{"$f":"CORREL($B$1:B26,$I$1:I26)","v":{"$error":"#N/A"}},{"$f":"'Sheet3 (3)'!S26","v":-2.4345709068789083E-4},{"$f":"CORREL($B$1:B26,$K$1:K26)","v":{"$error":"#N/A"}},{"$f":"'Sheet3 (3)'!U26","v":-3.0513853289393382E-3},{"$f":"CORREL($B$1:B26,$M$1:M26)","v":{"$error":"#N/A"}},{"$f":"'Sheet3 (3)'!W26","v":-9.7849722155110199E-3},{"$f":"CORREL($B$1:B26,$O$1:O26)","v":{"$error":"#N/A"}},{"$f":"'Sheet3 (3)'!Y26","v":3.9576229907451119E-3},{"$f":"CORREL($B$1:B26,$Q$1:Q26)","v":{"$error":"#N/A"}},{"$f":"'Sheet3 (3)'!AA26","v":3.4984349106978035E-3},{"$f":"CORREL($B$1:B26,$S$1:S26)","v":{"$error":"#N/A"}}]
[null,{"$f":"'Sheet3 (3)'!I27","v":{"$error":"#N/A"}},{"$f":"'Sheet3 (3)'!K27","v":-8.0446659062256322E-3},{"$f":"CORREL($B$1:B27,$C$1:C27)","v":{"$error":"#N/A"}},{"$f":"'Sheet3 (3)'!M27","v":9.7902943131685776E-3},{"$f":"CORREL($B$1:B27,$E$1:E27)","v":{"$error":"#N/A"}},{"$f":"'Sheet3 (3)'!O27","v":7.0686321894634328E-3},{"$f":"CORREL($B$1:B27,$G$1:G27)","v":{"$error":"#N/A"}},{"$f":"'Sheet3 (3)'!Q27","v":4.1344926126345646E-3},{"$f":"CORREL($B$1:B27,$I$1:I27)","v":{"$error":"#N/A"}},{"$f":"'Sheet3 (3)'!S27","v":-2.4345709068789083E-4},{"$f":"CORREL($B$1:B27,$K$1:K27)","v":{"$error":"#N/A"}},{"$f":"'Sheet3 (3)'!U27","v":-3.0513853289393382E-3},{"$f":"CORREL($B$1:B27,$M$1:M27)","v":{"$error":"#N/A"}},{"$f":"'Sheet3 (3)'!W27","v":-9.1809615849239561E-3},{"$f":"CORREL($B$1:B27,$O$1:O27)","v":{"$error":"#N/A"}},{"$f":"'Sheet3 (3)'!Y27","v":3.6531904529955813E-3},{"$f":"CORREL($B$1:B27,$Q$1:Q27)","v":{"$error":"#N/A"}},{"$f":"'Sheet3 (3)'!AA27","v":2.8232983489841004E-3},{"$f":"CORREL($B$1:B27,$S$1:S27)","v":{"$error":"#N/A"}}]
[null,{"$f":"'Sheet3 (3)'!I28","v":{"$error":"#N/A"}},{"$f":"'Sheet3 (3)'!K28","v":-7.6844569850513366E-3},{"$f":"CORREL($B$1:B28,$C$1:C28)","v":{"$error":"#N/A"}},{"$f":"'Sheet3 (3)'!M28","v":9.3672569045749159E-3},{"$f":"CORREL($B$1:B28,$E$1:E28)","v":{"$error":"#N/A"}},{"$f":"'Sheet3 (3)'!O28","v":6.6457225712904435E-3},{"$f":"CORREL($B$1:B28,$G$1:G28)","v":{"$error":"#N/A"}},{"$f":"'Sheet3 (3)'!Q28","v":4.6817048701891543E-3},{"$f":"CORREL($B$1:B28,$I$1:I28)","v":{"$error":"#N/A"}},{"$f":"'Sheet3 (3)'!S28","v":6.0864272671938102E-4},{"$f":"CORREL($B$1:B28,$K$1:K28)","v":{"$error":"#N/A"}},{"$f":"'Sheet3 (3)'!U28","v":-3.4785792749909773E-3},{"$f":"CORREL($B$1:B28,$M$1:M28)","v":{"$error":"#N/A"}},{"$f":"'Sheet3 (3)'!W28","v":-9.0601594588064754E-3},{"$f":"CORREL($B$1:B28,$O$1:O28)","v":{"$error":"#N/A"}},{"$f":"'Sheet3 (3)'!Y28","v":4.6273745737943914E-3},{"$f":"CORREL($B$1:B28,$Q$1:Q28)","v":{"$error":"#N/A"}},{"$f":"'Sheet3 (3)'!AA28","v":2.2095378383353908E-3},{"$f":"CORREL($B$1:B28,$S$1:S28)","v":{"$error":"#N/A"}}]
[null,{"$f":"'Sheet3 (3)'!I29","v":{"$error":"#N/A"}},{"$f":"'Sheet3 (3)'!K29","v":-7.6844569850513366E-3},{"$f":"CORREL($B$1:B29,$C$1:C29)","v":{"$error":"#N/A"}},{"$f":"'Sheet3 (3)'!M29","v":9.1859551580347511E-3},{"$f":"CORREL($B$1:B29,$E$1:E29)","v":{"$error":"#N/A"}},{"$f":"'Sheet3 (3)'!O29","v":6.5248912518123736E-3},{"$f":"CORREL($B$1:B29,$G$1:G29)","v":{"$error":"#N/A"}},{"$f":"'Sheet3 (3)'!Q29","v":4.6209035082385294E-3},{"$f":"CORREL($B$1:B29,$I$1:I29)","v":{"$error":"#N/A"}},{"$f":"'Sheet3 (3)'!S29","v":6.0864272671938102E-4},{"$f":"CORREL($B$1:B29,$K$1:K29)","v":{"$error":"#N/A"}},{"$f":"'Sheet3 (3)'!U29","v":-3.4785792749909773E-3},{"$f":"CORREL($B$1:B29,$M$1:M29)","v":{"$error":"#N/A"}},{"$f":"'Sheet3 (3)'!W29","v":-1.0811790287509011E-2},{"$f":"CORREL($B$1:B29,$O$1:O29)","v":{"$error":"#N/A"}},{"$f":"'Sheet3 (3)'!Y29","v":4.6273745737943914E-3},{"$f":"CORREL($B$1:B29,$Q$1:Q29)","v":{"$error":"#N/A"}},{"$f":"'Sheet3 (3)'!AA29","v":3.6825630638924341E-3},{"$f":"CORREL($B$1:B29,$S$1:S29)","v":{"$error":"#N/A"}}]
[null,{"$f":"'Sheet3 (3)'!I30","v":{"$error":"#N/A"}},{"$f":"'Sheet3 (3)'!K30","v":-6.4837605811369639E-3},{"$f":"CORREL($B$1:B30,$C$1:C30)","v":{"$error":"#N/A"}},{"$f":"'Sheet3 (3)'!M30","v":9.2463890735480815E-3},{"$f":"CORREL($B$1:B30,$E$1:E30)","v":{"$error":"#N/A"}},{"$f":"'Sheet3 (3)'!O30","v":6.5248912518123736E-3},{"$f":"CORREL($B$1:B30,$G$1:G30)","v":{"$error":"#N/A"}},{"$f":"'Sheet3 (3)'!Q30","v":4.6209035082385294E-3},{"$f":"CORREL($B$1:B30,$I$1:I30)","v":{"$error":"#N/A"}},{"$f":"'Sheet3 (3)'!S30","v":1.8259281801581433E-3},{"$f":"CORREL($B$1:B30,$K$1:K30)","v":{"$error":"#N/A"}},{"$f":"'Sheet3 (3)'!U30","v":-2.7462467960455085E-3},{"$f":"CORREL($B$1:B30,$M$1:M30)","v":{"$error":"#N/A"}},{"$f":"'Sheet3 (3)'!W30","v":-9.8453732785696753E-3},{"$f":"CORREL($B$1:B30,$O$1:O30)","v":{"$error":"#N/A"}},{"$f":"'Sheet3 (3)'!Y30","v":4.2620555284948163E-3},{"$f":"CORREL($B$1:B30,$Q$1:Q30)","v":{"$error":"#N/A"}},{"$f":"'Sheet3 (3)'!AA30","v":3.928067268151883E-3},{"$f":"CORREL($B$1:B30,$S$1:S30)","v":{"$error":"#N/A"}}]
[null,{"$f":"'Sheet3 (3)'!I31","v":{"$error":"#N/A"}},{"$f":"'Sheet3 (3)'!K31","v":-6.4837605811369639E-3},{"$f":"CORREL($B$1:B31,$C$1:C31)","v":{"$error":"#N/A"}},{"$f":"'Sheet3 (3)'!M31","v":9.2463890735480815E-3},{"$f":"CORREL($B$1:B31,$E$1:E31)","v":{"$error":"#N/A"}},{"$f":"'Sheet3 (3)'!O31","v":5.3769937167713047E-3},{"$f":"CORREL($B$1:B31,$G$1:G31)","v":{"$error":"#N/A"}},{"$f":"'Sheet3 (3)'!Q31","v":5.5937252994466315E-3},{"$f":"CORREL($B$1:B31,$I$1:I31)","v":{"$error":"#N/A"}},{"$f":"'Sheet3 (3)'!S31","v":1.6433353621423115E-3},{"$f":"CORREL($B$1:B31,$K$1:K31)","v":{"$error":"#N/A"}},{"$f":"'Sheet3 (3)'!U31","v":-2.5631636763091413E-3},{"$f":"CORREL($B$1:B31,$M$1:M31)","v":{"$error":"#N/A"}},{"$f":"'Sheet3 (3)'!W31","v":-1.0207779656921948E-2},{"$f":"CORREL($B$1:B31,$O$1:O31)","v":{"$error":"#N/A"}},{"$f":"'Sheet3 (3)'!Y31","v":4.7491475888943079E-3},{"$f":"CORREL($B$1:B31,$Q$1:Q31)","v":{"$error":"#N/A"}},{"$f":"'Sheet3 (3)'!AA31","v":3.928067268151883E-3},{"$f":"CORREL($B$1:B31,$S$1:S31)","v":{"$error":"#N/A"}}]
[null,{"$f":"'Sheet3 (3)'!I32","v":{"$error":"#N/A"}},{"$f":"'Sheet3 (3)'!K32","v":-6.723899861919941E-3},{"$f":"CORREL($B$1:B32,$C$1:C32)","v":{"$error":"#N/A"}},{"$f":"'Sheet3 (3)'!M32","v":9.2463890735480815E-3},{"$f":"CORREL($B$1:B32,$E$1:E32)","v":{"$error":"#N/A"}},{"$f":"'Sheet3 (3)'!O32","v":5.2561623972932339E-3},{"$f":"CORREL($B$1:B32,$G$1:G32)","v":{"$error":"#N/A"}},{"$f":"'Sheet3 (3)'!Q32","v":5.5937252994466315E-3},{"$f":"CORREL($B$1:B32,$I$1:I32)","v":{"$error":"#N/A"}},{"$f":"'Sheet3 (3)'!S32","v":1.5216068167985392E-3},{"$f":"CORREL($B$1:B32,$K$1:K32)","v":{"$error":"#N/A"}},{"$f":"'Sheet3 (3)'!U32","v":-1.769803490784941E-3},{"$f":"CORREL($B$1:B32,$M$1:M32)","v":{"$error":"#N/A"}},{"$f":"'Sheet3 (3)'!W32","v":-1.0751389224450358E-2},{"$f":"CORREL($B$1:B32,$O$1:O32)","v":{"$error":"#N/A"}},{"$f":"'Sheet3 (3)'!Y32","v":3.4096444227959223E-3},{"$f":"CORREL($B$1:B32,$Q$1:Q32)","v":{"$error":"#N/A"}},{"$f":"'Sheet3 (3)'!AA32","v":2.5164180936598328E-3},{"$f":"CORREL($B$1:B32,$S$1:S32)","v":{"$error":"#N/A"}}]
[null,{"$f":"'Sheet3 (3)'!I33","v":{"$error":"#N/A"}},{"$f":"'Sheet3 (3)'!K33","v":-6.723899861919941E-3},{"$f":"CORREL($B$1:B33,$C$1:C33)","v":{"$error":"#N/A"}},{"$f":"'Sheet3 (3)'!M33","v":9.2463890735480815E-3},{"$f":"CORREL($B$1:B33,$E$1:E33)","v":{"$error":"#N/A"}},{"$f":"'Sheet3 (3)'!O33","v":5.1353310778153348E-3},{"$f":"CORREL($B$1:B33,$G$1:G33)","v":{"$error":"#N/A"}},{"$f":"'Sheet3 (3)'!Q33","v":5.5937252994466315E-3},{"$f":"CORREL($B$1:B33,$I$1:I33)","v":{"$error":"#N/A"}},{"$f":"'Sheet3 (3)'!S33","v":1.5216068167985392E-3},{"$f":"CORREL($B$1:B33,$K$1:K33)","v":{"$error":"#N/A"}},{"$f":"'Sheet3 (3)'!U33","v":-1.5867203710485738E-3},{"$f":"CORREL($B$1:B33,$M$1:M33)","v":{"$error":"#N/A"}},{"$f":"'Sheet3 (3)'!W33","v":-1.0751389224450358E-2},{"$f":"CORREL($B$1:B33,$O$1:O33)","v":{"$error":"#N/A"}},{"$f":"'Sheet3 (3)'!Y33","v":3.2269849001461343E-3},{"$f":"CORREL($B$1:B33,$Q$1:Q33)","v":{"$error":"#N/A"}},{"$f":"'Sheet3 (3)'!AA33","v":2.5164180936598328E-3},{"$f":"CORREL($B$1:B33,$S$1:S33)","v":{"$error":"#N/A"}}]
[null,{"$f":"'Sheet3 (3)'!I34","v":{"$error":"#N/A"}},{"$f":"'Sheet3 (3)'!K34","v":-6.2436213003541578E-3},{"$f":"CORREL($B$1:B34,$C$1:C34)","v":{"$error":"#N/A"}},{"$f":"'Sheet3 (3)'!M34","v":9.2463890735480815E-3},{"$f":"CORREL($B$1:B34,$E$1:E34)","v":{"$error":"#N/A"}},{"$f":"'Sheet3 (3)'!O34","v":5.1353310778153348E-3},{"$f":"CORREL($B$1:B34,$G$1:G34)","v":{"$error":"#N/A"}},{"$f":"'Sheet3 (3)'!Q34","v":5.5937252994466315E-3},{"$f":"CORREL($B$1:B34,$I$1:I34)","v":{"$error":"#N/A"}},{"$f":"'Sheet3 (3)'!S34","v":2.1302495435179202E-3},{"$f":"CORREL($B$1:B34,$K$1:K34)","v":{"$error":"#N/A"}},{"$f":"'Sheet3 (3)'!U34","v":-1.5867203710485738E-3},{"$f":"CORREL($B$1:B34,$M$1:M34)","v":{"$error":"#N/A"}},{"$f":"'Sheet3 (3)'!W34","v":-1.0751389224450358E-2},{"$f":"CORREL($B$1:B34,$O$1:O34)","v":{"$error":"#N/A"}},{"$f":"'Sheet3 (3)'!Y34","v":3.2269849001461343E-3},{"$f":"CORREL($B$1:B34,$Q$1:Q34)","v":{"$error":"#N/A"}},{"$f":"'Sheet3 (3)'!AA34","v":2.5164180936598328E-3},{"$f":"CORREL($B$1:B34,$S$1:S34)","v":{"$error":"#N/A"}}]
[null,{"$f":"'Sheet3 (3)'!I35","v":{"$error":"#N/A"}},{"$f":"'Sheet3 (3)'!K35","v":-6.4837605811369639E-3},{"$f":"CORREL($B$1:B35,$C$1:C35)","v":{"$error":"#N/A"}},{"$f":"'Sheet3 (3)'!M35","v":9.2463890735480815E-3},{"$f":"CORREL($B$1:B35,$E$1:E35)","v":{"$error":"#N/A"}},{"$f":"'Sheet3 (3)'!O35","v":4.1686805219912863E-3},{"$f":"CORREL($B$1:B35,$G$1:G35)","v":{"$error":"#N/A"}},{"$f":"'Sheet3 (3)'!Q35","v":4.9857116799415895E-3},{"$f":"CORREL($B$1:B35,$I$1:I35)","v":{"$error":"#N/A"}},{"$f":"'Sheet3 (3)'!S35","v":2.1302495435179202E-3},{"$f":"CORREL($B$1:B35,$K$1:K35)","v":{"$error":"#N/A"}},{"$f":"'Sheet3 (3)'!U35","v":-6.7130477236673769E-4},{"$f":"CORREL($B$1:B35,$M$1:M35)","v":{"$error":"#N/A"}},{"$f":"'Sheet3 (3)'!W35","v":-1.1657405170331038E-2},{"$f":"CORREL($B$1:B35,$O$1:O35)","v":{"$error":"#N/A"}},{"$f":"'Sheet3 (3)'!Y35","v":3.2269849001461343E-3},{"$f":"CORREL($B$1:B35,$Q$1:Q35)","v":{"$error":"#N/A"}},{"$f":"'Sheet3 (3)'!AA35","v":3.928067268151883E-3},{"$f":"CORREL($B$1:B35,$S$1:S35)","v":{"$error":"#N/A"}}]
[null,{"$f":"'Sheet3 (3)'!I36","v":{"$error":"#N/A"}},{"$f":"'Sheet3 (3)'!K36","v":-6.4837605811369639E-3},{"$f":"CORREL($B$1:B36,$C$1:C36)","v":{"$error":"#N/A"}},{"$f":"'Sheet3 (3)'!M36","v":8.642049918414255E-3},{"$f":"CORREL($B$1:B36,$E$1:E36)","v":{"$error":"#N/A"}},{"$f":"'Sheet3 (3)'!O36","v":4.8332527791202446E-3},{"$f":"CORREL($B$1:B36,$G$1:G36)","v":{"$error":"#N/A"}},{"$f":"'Sheet3 (3)'!Q36","v":4.9857116799415895E-3},{"$f":"CORREL($B$1:B36,$I$1:I36)","v":{"$error":"#N/A"}},{"$f":"'Sheet3 (3)'!S36","v":2.1302495435179202E-3},{"$f":"CORREL($B$1:B36,$K$1:K36)","v":{"$error":"#N/A"}},{"$f":"'Sheet3 (3)'!U36","v":-3.0513853289400322E-4},{"$f":"CORREL($B$1:B36,$M$1:M36)","v":{"$error":"#N/A"}},{"$f":"'Sheet3 (3)'!W36","v":-1.1657405170331038E-2},{"$f":"CORREL($B$1:B36,$O$1:O36)","v":{"$error":"#N/A"}},{"$f":"'Sheet3 (3)'!Y36","v":2.9834388699463022E-3},{"$f":"CORREL($B$1:B36,$Q$1:Q36)","v":{"$error":"#N/A"}},{"$f":"'Sheet3 (3)'!AA36","v":3.928067268151883E-3},{"$f":"CORREL($B$1:B36,$S$1:S36)","v":{"$error":"#N/A"}}]
[null,{"$f":"'Sheet3 (3)'!I37","v":{"$error":"#N/A"}},{"$f":"'Sheet3 (3)'!K37","v":-6.4837605811369639E-3},{"$f":"CORREL($B$1:B37,$C$1:C37)","v":{"$error":"#N/A"}},{"$f":"'Sheet3 (3)'!M37","v":8.9442194959810824E-3},{"$f":"CORREL($B$1:B37,$E$1:E37)","v":{"$error":"#N/A"}},{"$f":"'Sheet3 (3)'!O37","v":4.8332527791202446E-3},{"$f":"CORREL($B$1:B37,$G$1:G37)","v":{"$error":"#N/A"}},{"$f":"'Sheet3 (3)'!Q37","v":4.9857116799415895E-3},{"$f":"CORREL($B$1:B37,$I$1:I37)","v":{"$error":"#N/A"}},{"$f":"'Sheet3 (3)'!S37","v":2.1302495435179202E-3},{"$f":"CORREL($B$1:B37,$K$1:K37)","v":{"$error":"#N/A"}},{"$f":"'Sheet3 (3)'!U37","v":-3.0513853289400322E-4},{"$f":"CORREL($B$1:B37,$M$1:M37)","v":{"$error":"#N/A"}},{"$f":"'Sheet3 (3)'!W37","v":-1.1536603044213558E-2},{"$f":"CORREL($B$1:B37,$O$1:O37)","v":{"$error":"#N/A"}},{"$f":"'Sheet3 (3)'!Y37","v":3.4705309303457938E-3},{"$f":"CORREL($B$1:B37,$Q$1:Q37)","v":{"$error":"#N/A"}},{"$f":"'Sheet3 (3)'!AA37","v":3.928067268151883E-3},{"$f":"CORREL($B$1:B37,$S$1:S37)","v":{"$error":"#N/A"}}]
[null,{"$f":"'Sheet3 (3)'!I38","v":{"$error":"#N/A"}},{"$f":"'Sheet3 (3)'!K38","v":-6.4837605811369639E-3},{"$f":"CORREL($B$1:B38,$C$1:C38)","v":{"$error":"#N/A"}},{"$f":"'Sheet3 (3)'!M38","v":8.9442194959810824E-3},{"$f":"CORREL($B$1:B38,$E$1:E38)","v":{"$error":"#N/A"}},{"$f":"'Sheet3 (3)'!O38","v":4.7124214596423455E-3},{"$f":"CORREL($B$1:B38,$G$1:G38)","v":{"$error":"#N/A"}},{"$f":"'Sheet3 (3)'!Q38","v":4.9857116799415895E-3},{"$f":"CORREL($B$1:B38,$I$1:I38)","v":{"$error":"#N/A"}},{"$f":"'Sheet3 (3)'!S38","v":2.1302495435179202E-3},{"$f":"CORREL($B$1:B38,$K$1:K38)","v":{"$error":"#N/A"}},{"$f":"'Sheet3 (3)'!U38","v":3.6616623947256099E-4},{"$f":"CORREL($B$1:B38,$M$1:M38)","v":{"$error":"#N/A"}},{"$f":"'Sheet3 (3)'!W38","v":-1.1536603044213558E-2},{"$f":"CORREL($B$1:B38,$O$1:O38)","v":{"$error":"#N/A"}},{"$f":"'Sheet3 (3)'!Y38","v":2.9834388699463022E-3},{"$f":"CORREL($B$1:B38,$Q$1:Q38)","v":{"$error":"#N/A"}},{"$f":"'Sheet3 (3)'!AA38","v":3.928067268151883E-3},{"$f":"CORREL($B$1:B38,$S$1:S38)","v":{"$error":"#N/A"}}]
[null,{"$f":"'Sheet3 (3)'!I39","v":{"$error":"#N/A"}},{"$f":"'Sheet3 (3)'!K39","v":-6.4837605811369639E-3},{"$f":"CORREL($B$1:B39,$C$1:C39)","v":{"$error":"#N/A"}},{"$f":"'Sheet3 (3)'!M39","v":8.9442194959810824E-3},{"$f":"CORREL($B$1:B39,$E$1:E39)","v":{"$error":"#N/A"}},{"$f":"'Sheet3 (3)'!O39","v":4.6520057999032251E-3},{"$f":"CORREL($B$1:B39,$G$1:G39)","v":{"$error":"#N/A"}},{"$f":"'Sheet3 (3)'!Q39","v":4.803307594090059E-3},{"$f":"CORREL($B$1:B39,$I$1:I39)","v":{"$error":"#N/A"}},{"$f":"'Sheet3 (3)'!S39","v":2.1302495435179202E-3},{"$f":"CORREL($B$1:B39,$K$1:K39)","v":{"$error":"#N/A"}},{"$f":"'Sheet3 (3)'!U39","v":3.0513853289382975E-4},{"$f":"CORREL($B$1:B39,$M$1:M39)","v":{"$error":"#N/A"}},{"$f":"'Sheet3 (3)'!W39","v":-1.1657405170331038E-2},{"$f":"CORREL($B$1:B39,$O$1:O39)","v":{"$error":"#N/A"}},{"$f":"'Sheet3 (3)'!Y39","v":2.9834388699463022E-3},{"$f":"CORREL($B$1:B39,$Q$1:Q39)","v":{"$error":"#N/A"}},{"$f":"'Sheet3 (3)'!AA39","v":3.6211870128276154E-3},{"$f":"CORREL($B$1:B39,$S$1:S39)","v":{"$error":"#N/A"}}]
[null,{"$f":"'Sheet3 (3)'!I40","v":{"$error":"#N/A"}},{"$f":"'Sheet3 (3)'!K40","v":-6.0635168397670108E-3},{"$f":"CORREL($B$1:B40,$C$1:C40)","v":{"$error":"#N/A"}},{"$f":"'Sheet3 (3)'!M40","v":8.9442194959810824E-3},{"$f":"CORREL($B$1:B40,$E$1:E40)","v":{"$error":"#N/A"}},{"$f":"'Sheet3 (3)'!O40","v":4.6520057999032251E-3},{"$f":"CORREL($B$1:B40,$G$1:G40)","v":{"$error":"#N/A"}},{"$f":"'Sheet3 (3)'!Q40","v":4.7425062321396066E-3},{"$f":"CORREL($B$1:B40,$I$1:I40)","v":{"$error":"#N/A"}},{"$f":"'Sheet3 (3)'!S40","v":2.4345709068775241E-3},{"$f":"CORREL($B$1:B40,$K$1:K40)","v":{"$error":"#N/A"}},{"$f":"'Sheet3 (3)'!U40","v":6.7130477236656421E-4},{"$f":"CORREL($B$1:B40,$M$1:M40)","v":{"$error":"#N/A"}},{"$f":"'Sheet3 (3)'!W40","v":-1.1657405170331038E-2},{"$f":"CORREL($B$1:B40,$O$1:O40)","v":{"$error":"#N/A"}},{"$f":"'Sheet3 (3)'!Y40","v":2.9834388699463022E-3},{"$f":"CORREL($B$1:B40,$Q$1:Q40)","v":{"$error":"#N/A"}},{"$f":"'Sheet3 (3)'!AA40","v":3.6211870128276154E-3},{"$f":"CORREL($B$1:B40,$S$1:S40)","v":{"$error":"#N/A"}}]
[null,{"$f":"'Sheet3 (3)'!I41","v":{"$error":"#N/A"}},{"$f":"'Sheet3 (3)'!K41","v":-6.0635168397670108E-3},{"$f":"CORREL($B$1:B41,$C$1:C41)","v":{"$error":"#N/A"}},{"$f":"'Sheet3 (3)'!M41","v":8.0377107632804284E-3},{"$f":"CORREL($B$1:B41,$E$1:E41)","v":{"$error":"#N/A"}},{"$f":"'Sheet3 (3)'!O41","v":4.8332527791202446E-3},{"$f":"CORREL($B$1:B41,$G$1:G41)","v":{"$error":"#N/A"}},{"$f":"'Sheet3 (3)'!Q41","v":4.7425062321396066E-3},{"$f":"CORREL($B$1:B41,$I$1:I41)","v":{"$error":"#N/A"}},{"$f":"'Sheet3 (3)'!S41","v":2.3737066342056383E-3},{"$f":"CORREL($B$1:B41,$K$1:K41)","v":{"$error":"#N/A"}},{"$f":"'Sheet3 (3)'!U41","v":6.7130477236656421E-4},{"$f":"CORREL($B$1:B41,$M$1:M41)","v":{"$error":"#N/A"}},{"$f":"'Sheet3 (3)'!W41","v":-1.3529838125151057E-2},{"$f":"CORREL($B$1:B41,$O$1:O41)","v":{"$error":"#N/A"}},{"$f":"'Sheet3 (3)'!Y41","v":2.9834388699463022E-3},{"$f":"CORREL($B$1:B41,$Q$1:Q41)","v":{"$error":"#N/A"}},{"$f":"'Sheet3 (3)'!AA41","v":3.9894433192168765E-3},{"$f":"CORREL($B$1:B41,$S$1:S41)","v":{"$error":"#N/A"}}]
[null,{"$f":"'Sheet3 (3)'!I42","v":{"$error":"#N/A"}},{"$f":"'Sheet3 (3)'!K42","v":-6.0635168397670108E-3},{"$f":"CORREL($B$1:B42,$C$1:C42)","v":{"$error":"#N/A"}},{"$f":"'Sheet3 (3)'!M42","v":8.0377107632804284E-3},{"$f":"CORREL($B$1:B42,$E$1:E42)","v":{"$error":"#N/A"}},{"$f":"'Sheet3 (3)'!O42","v":4.7124214596423455E-3},{"$f":"CORREL($B$1:B42,$G$1:G42)","v":{"$error":"#N/A"}},{"$f":"'Sheet3 (3)'!Q42","v":5.3505198516446495E-3},{"$f":"CORREL($B$1:B42,$I$1:I42)","v":{"$error":"#N/A"}},{"$f":"'Sheet3 (3)'!S42","v":2.4954351795495834E-3},{"$f":"CORREL($B$1:B42,$K$1:K42)","v":{"$error":"#N/A"}},{"$f":"'Sheet3 (3)'!U42","v":1.2205541315756659E-3},{"$f":"CORREL($B$1:B42,$M$1:M42)","v":{"$error":"#N/A"}},{"$f":"'Sheet3 (3)'!W42","v":-1.4677458323266531E-2},{"$f":"CORREL($B$1:B42,$O$1:O42)","v":{"$error":"#N/A"}},{"$f":"'Sheet3 (3)'!Y42","v":2.9834388699463022E-3},{"$f":"CORREL($B$1:B42,$Q$1:Q42)","v":{"$error":"#N/A"}},{"$f":"'Sheet3 (3)'!AA42","v":3.9894433192168765E-3},{"$f":"CORREL($B$1:B42,$S$1:S42)","v":{"$error":"#N/A"}}]
[null,{"$f":"'Sheet3 (3)'!I43","v":{"$error":"#N/A"}},{"$f":"'Sheet3 (3)'!K43","v":-6.0635168397670108E-3},{"$f":"CORREL($B$1:B43,$C$1:C43)","v":{"$error":"#N/A"}},{"$f":"'Sheet3 (3)'!M43","v":8.0377107632804284E-3},{"$f":"CORREL($B$1:B43,$E$1:E43)","v":{"$error":"#N/A"}},{"$f":"'Sheet3 (3)'!O43","v":4.0478492025132155E-3},{"$f":"CORREL($B$1:B43,$G$1:G43)","v":{"$error":"#N/A"}},{"$f":"'Sheet3 (3)'!Q43","v":5.5329239374961791E-3},{"$f":"CORREL($B$1:B43,$I$1:I43)","v":{"$error":"#N/A"}},{"$f":"'Sheet3 (3)'!S43","v":2.0085209981739746E-3},{"$f":"CORREL($B$1:B43,$K$1:K43)","v":{"$error":"#N/A"}},{"$f":"'Sheet3 (3)'!U43","v":1.2205541315756659E-3},{"$f":"CORREL($B$1:B43,$M$1:M43)","v":{"$error":"#N/A"}},{"$f":"'Sheet3 (3)'!W43","v":-1.3952645566561984E-2},{"$f":"CORREL($B$1:B43,$O$1:O43)","v":{"$error":"#N/A"}},{"$f":"'Sheet3 (3)'!Y43","v":3.5923039454457098E-3},{"$f":"CORREL($B$1:B43,$Q$1:Q43)","v":{"$error":"#N/A"}},{"$f":"'Sheet3 (3)'!AA43","v":3.9894433192168765E-3},{"$f":"CORREL($B$1:B43,$S$1:S43)","v":{"$error":"#N/A"}}]
[null,{"$f":"'Sheet3 (3)'!I44","v":{"$error":"#N/A"}},{"$f":"'Sheet3 (3)'!K44","v":-6.0635168397670108E-3},{"$f":"CORREL($B$1:B44,$C$1:C44)","v":{"$error":"#N/A"}},{"$f":"'Sheet3 (3)'!M44","v":8.0377107632804284E-3},{"$f":"CORREL($B$1:B44,$E$1:E44)","v":{"$error":"#N/A"}},{"$f":"'Sheet3 (3)'!O44","v":4.7124214596423455E-3},{"$f":"CORREL($B$1:B44,$G$1:G44)","v":{"$error":"#N/A"}},{"$f":"'Sheet3 (3)'!Q44","v":6.3233416428527516E-3},{"$f":"CORREL($B$1:B44,$I$1:I44)","v":{"$error":"#N/A"}},{"$f":"'Sheet3 (3)'!S44","v":2.0085209981739746E-3},{"$f":"CORREL($B$1:B44,$K$1:K44)","v":{"$error":"#N/A"}},{"$f":"'Sheet3 (3)'!U44","v":1.2205541315756659E-3},{"$f":"CORREL($B$1:B44,$M$1:M44)","v":{"$error":"#N/A"}},{"$f":"'Sheet3 (3)'!W44","v":-1.3952645566561984E-2},{"$f":"CORREL($B$1:B44,$O$1:O44)","v":{"$error":"#N/A"}},{"$f":"'Sheet3 (3)'!Y44","v":3.3487579152458773E-3},{"$f":"CORREL($B$1:B44,$Q$1:Q44)","v":{"$error":"#N/A"}},{"$f":"'Sheet3 (3)'!AA44","v":4.7259559319952236E-3},{"$f":"CORREL($B$1:B44,$S$1:S44)","v":{"$error":"#N/A"}}]
[null,{"$f":"'Sheet3 (3)'!I45","v":{"$error":"#N/A"}},{"$f":"'Sheet3 (3)'!K45","v":-6.0635168397670108E-3},{"$f":"CORREL($B$1:B45,$C$1:C45)","v":{"$error":"#N/A"}},{"$f":"'Sheet3 (3)'!M45","v":8.2190125098205932E-3},{"$f":"CORREL($B$1:B45,$E$1:E45)","v":{"$error":"#N/A"}},{"$f":"'Sheet3 (3)'!O45","v":4.0478492025132155E-3},{"$f":"CORREL($B$1:B45,$G$1:G45)","v":{"$error":"#N/A"}},{"$f":"'Sheet3 (3)'!Q45","v":6.3233416428527516E-3},{"$f":"CORREL($B$1:B45,$I$1:I45)","v":{"$error":"#N/A"}},{"$f":"'Sheet3 (3)'!S45","v":2.1302495435179202E-3},{"$f":"CORREL($B$1:B45,$K$1:K45)","v":{"$error":"#N/A"}},{"$f":"'Sheet3 (3)'!U45","v":1.2815818381543972E-3},{"$f":"CORREL($B$1:B45,$M$1:M45)","v":{"$error":"#N/A"}},{"$f":"'Sheet3 (3)'!W45","v":-1.3771442377385848E-2},{"$f":"CORREL($B$1:B45,$O$1:O45)","v":{"$error":"#N/A"}},{"$f":"'Sheet3 (3)'!Y45","v":2.9225523623964303E-3},{"$f":"CORREL($B$1:B45,$Q$1:Q45)","v":{"$error":"#N/A"}},{"$f":"'Sheet3 (3)'!AA45","v":4.7259559319952236E-3},{"$f":"CORREL($B$1:B45,$S$1:S45)","v":{"$error":"#N/A"}}]
[null,{"$f":"'Sheet3 (3)'!I46","v":{"$error":"#N/A"}},{"$f":"'Sheet3 (3)'!K46","v":-6.0635168397670108E-3},{"$f":"CORREL($B$1:B46,$C$1:C46)","v":{"$error":"#N/A"}},{"$f":"'Sheet3 (3)'!M46","v":8.2190125098205932E-3},{"$f":"CORREL($B$1:B46,$E$1:E46)","v":{"$error":"#N/A"}},{"$f":"'Sheet3 (3)'!O46","v":4.2290961817302358E-3},{"$f":"CORREL($B$1:B46,$G$1:G46)","v":{"$error":"#N/A"}},{"$f":"'Sheet3 (3)'!Q46","v":6.1409375570012211E-3},{"$f":"CORREL($B$1:B46,$I$1:I46)","v":{"$error":"#N/A"}},{"$f":"'Sheet3 (3)'!S46","v":2.1302495435179202E-3},{"$f":"CORREL($B$1:B46,$K$1:K46)","v":{"$error":"#N/A"}},{"$f":"'Sheet3 (3)'!U46","v":1.1595264249969347E-3},{"$f":"CORREL($B$1:B46,$M$1:M46)","v":{"$error":"#N/A"}},{"$f":"'Sheet3 (3)'!W46","v":-1.5764677458323349E-2},{"$f":"CORREL($B$1:B46,$O$1:O46)","v":{"$error":"#N/A"}},{"$f":"'Sheet3 (3)'!Y46","v":2.9225523623964303E-3},{"$f":"CORREL($B$1:B46,$Q$1:Q46)","v":{"$error":"#N/A"}},{"$f":"'Sheet3 (3)'!AA46","v":4.7259559319952236E-3},{"$f":"CORREL($B$1:B46,$S$1:S46)","v":{"$error":"#N/A"}}]
[null,{"$f":"'Sheet3 (3)'!I47","v":{"$error":"#N/A"}},{"$f":"'Sheet3 (3)'!K47","v":-4.9228552560484674E-3},{"$f":"CORREL($B$1:B47,$C$1:C47)","v":{"$error":"#N/A"}},{"$f":"'Sheet3 (3)'!M47","v":8.1585785943070911E-3},{"$f":"CORREL($B$1:B47,$E$1:E47)","v":{"$error":"#N/A"}},{"$f":"'Sheet3 (3)'!O47","v":4.2290961817302358E-3},{"$f":"CORREL($B$1:B47,$G$1:G47)","v":{"$error":"#N/A"}},{"$f":"'Sheet3 (3)'!Q47","v":6.0801361950507688E-3},{"$f":"CORREL($B$1:B47,$I$1:I47)","v":{"$error":"#N/A"}},{"$f":"'Sheet3 (3)'!S47","v":2.1302495435179202E-3},{"$f":"CORREL($B$1:B47,$K$1:K47)","v":{"$error":"#N/A"}},{"$f":"'Sheet3 (3)'!U47","v":1.2205541315756659E-3},{"$f":"CORREL($B$1:B47,$M$1:M47)","v":{"$error":"#N/A"}},{"$f":"'Sheet3 (3)'!W47","v":-1.4435854071031739E-2},{"$f":"CORREL($B$1:B47,$O$1:O47)","v":{"$error":"#N/A"}},{"$f":"'Sheet3 (3)'!Y47","v":2.1919142717972797E-3},{"$f":"CORREL($B$1:B47,$Q$1:Q47)","v":{"$error":"#N/A"}},{"$f":"'Sheet3 (3)'!AA47","v":5.5238445958387386E-3},{"$f":"CORREL($B$1:B47,$S$1:S47)","v":{"$error":"#N/A"}}]
[null,{"$f":"'Sheet3 (3)'!I48","v":{"$error":"#N/A"}},{"$f":"'Sheet3 (3)'!K48","v":-4.9228552560484674E-3},{"$f":"CORREL($B$1:B48,$C$1:C48)","v":{"$error":"#N/A"}},{"$f":"'Sheet3 (3)'!M48","v":8.5816160029007528E-3},{"$f":"CORREL($B$1:B48,$E$1:E48)","v":{"$error":"#N/A"}},{"$f":"'Sheet3 (3)'!O48","v":4.0478492025132155E-3},{"$f":"CORREL($B$1:B48,$G$1:G48)","v":{"$error":"#N/A"}},{"$f":"'Sheet3 (3)'!Q48","v":5.8977321091992392E-3},{"$f":"CORREL($B$1:B48,$I$1:I48)","v":{"$error":"#N/A"}},{"$f":"'Sheet3 (3)'!S48","v":1.5216068167985392E-3},{"$f":"CORREL($B$1:B48,$K$1:K48)","v":{"$error":"#N/A"}},{"$f":"'Sheet3 (3)'!U48","v":9.1541559868166267E-4},{"$f":"CORREL($B$1:B48,$M$1:M48)","v":{"$error":"#N/A"}},{"$f":"'Sheet3 (3)'!W48","v":-1.5462672143029731E-2},{"$f":"CORREL($B$1:B48,$O$1:O48)","v":{"$error":"#N/A"}},{"$f":"'Sheet3 (3)'!Y48","v":2.1919142717972797E-3},{"$f":"CORREL($B$1:B48,$Q$1:Q48)","v":{"$error":"#N/A"}},{"$f":"'Sheet3 (3)'!AA48","v":5.2783403915791149E-3},{"$f":"CORREL($B$1:B48,$S$1:S48)","v":{"$error":"#N/A"}}]
[null,{"$f":"'Sheet3 (3)'!I49","v":{"$error":"#N/A"}},{"$f":"'Sheet3 (3)'!K49","v":-4.9228552560484674E-3},{"$f":"CORREL($B$1:B49,$C$1:C49)","v":{"$error":"#N/A"}},{"$f":"'Sheet3 (3)'!M49","v":9.0046534114945863E-3},{"$f":"CORREL($B$1:B49,$E$1:E49)","v":{"$error":"#N/A"}},{"$f":"'Sheet3 (3)'!O49","v":3.9874335427742659E-3},{"$f":"CORREL($B$1:B49,$G$1:G49)","v":{"$error":"#N/A"}},{"$f":"'Sheet3 (3)'!Q49","v":5.8977321091992392E-3},{"$f":"CORREL($B$1:B49,$I$1:I49)","v":{"$error":"#N/A"}},{"$f":"'Sheet3 (3)'!S49","v":1.5216068167985392E-3},{"$f":"CORREL($B$1:B49,$K$1:K49)","v":{"$error":"#N/A"}},{"$f":"'Sheet3 (3)'!U49","v":8.5438789210293142E-4},{"$f":"CORREL($B$1:B49,$M$1:M49)","v":{"$error":"#N/A"}},{"$f":"'Sheet3 (3)'!W49","v":-1.5764677458323349E-2},{"$f":"CORREL($B$1:B49,$O$1:O49)","v":{"$error":"#N/A"}},{"$f":"'Sheet3 (3)'!Y49","v":2.3136872868971957E-3},{"$f":"CORREL($B$1:B49,$Q$1:Q49)","v":{"$error":"#N/A"}},{"$f":"'Sheet3 (3)'!AA49","v":5.5852206469035569E-3},{"$f":"CORREL($B$1:B49,$S$1:S49)","v":{"$error":"#N/A"}}]
[null,{"$f":"'Sheet3 (3)'!I50","v":{"$error":"#N/A"}},{"$f":"'Sheet3 (3)'!K50","v":-5.1029597166356144E-3},{"$f":"CORREL($B$1:B50,$C$1:C50)","v":{"$error":"#N/A"}},{"$f":"'Sheet3 (3)'!M50","v":8.7629177494409176E-3},{"$f":"CORREL($B$1:B50,$E$1:E50)","v":{"$error":"#N/A"}},{"$f":"'Sheet3 (3)'!O50","v":3.9874335427742659E-3},{"$f":"CORREL($B$1:B50,$G$1:G50)","v":{"$error":"#N/A"}},{"$f":"'Sheet3 (3)'!Q50","v":6.566547090654907E-3},{"$f":"CORREL($B$1:B50,$I$1:I50)","v":{"$error":"#N/A"}},{"$f":"'Sheet3 (3)'!S50","v":1.5216068167985392E-3},{"$f":"CORREL($B$1:B50,$K$1:K50)","v":{"$error":"#N/A"}},{"$f":"'Sheet3 (3)'!U50","v":8.5438789210293142E-4},{"$f":"CORREL($B$1:B50,$M$1:M50)","v":{"$error":"#N/A"}},{"$f":"'Sheet3 (3)'!W50","v":-1.5462672143029731E-2},{"$f":"CORREL($B$1:B50,$O$1:O50)","v":{"$error":"#N/A"}},{"$f":"'Sheet3 (3)'!Y50","v":2.3136872868971957E-3},{"$f":"CORREL($B$1:B50,$Q$1:Q50)","v":{"$error":"#N/A"}},{"$f":"'Sheet3 (3)'!AA50","v":5.5852206469035569E-3},{"$f":"CORREL($B$1:B50,$S$1:S50)","v":{"$error":"#N/A"}}]
[null,{"$f":"'Sheet3 (3)'!I51","v":{"$error":"#N/A"}},{"$f":"'Sheet3 (3)'!K51","v":-5.1029597166356144E-3},{"$f":"CORREL($B$1:B51,$C$1:C51)","v":{"$error":"#N/A"}},{"$f":"'Sheet3 (3)'!M51","v":8.7629177494409176E-3},{"$f":"CORREL($B$1:B51,$E$1:E51)","v":{"$error":"#N/A"}},{"$f":"'Sheet3 (3)'!O51","v":4.7124214596423455E-3},{"$f":"CORREL($B$1:B51,$G$1:G51)","v":{"$error":"#N/A"}},{"$f":"'Sheet3 (3)'!Q51","v":6.566547090654907E-3},{"$f":"CORREL($B$1:B51,$I$1:I51)","v":{"$error":"#N/A"}},{"$f":"'Sheet3 (3)'!S51","v":2.312842361533752E-3},{"$f":"CORREL($B$1:B51,$K$1:K51)","v":{"$error":"#N/A"}},{"$f":"'Sheet3 (3)'!U51","v":8.5438789210293142E-4},{"$f":"CORREL($B$1:B51,$M$1:M51)","v":{"$error":"#N/A"}},{"$f":"'Sheet3 (3)'!W51","v":-1.5462672143029731E-2},{"$f":"CORREL($B$1:B51,$O$1:O51)","v":{"$error":"#N/A"}},{"$f":"'Sheet3 (3)'!Y51","v":2.3136872868971957E-3},{"$f":"CORREL($B$1:B51,$Q$1:Q51)","v":{"$error":"#N/A"}},{"$f":"'Sheet3 (3)'!AA51","v":6.0148530043576363E-3},{"$f":"CORREL($B$1:B51,$S$1:S51)","v":{"$error":"#N/A"}}]
[null,{"$f":"'Sheet3 (3)'!I52","v":{"$error":"#N/A"}},{"$f":"'Sheet3 (3)'!K52","v":-4.9228552560484674E-3},{"$f":"CORREL($B$1:B52,$C$1:C52)","v":{"$error":"#N/A"}},{"$f":"'Sheet3 (3)'!M52","v":9.0650873270079167E-3},{"$f":"CORREL($B$1:B52,$E$1:E52)","v":{"$error":"#N/A"}},{"$f":"'Sheet3 (3)'!O52","v":4.8332527791202446E-3},{"$f":"CORREL($B$1:B52,$G$1:G52)","v":{"$error":"#N/A"}},{"$f":"'Sheet3 (3)'!Q52","v":6.4449443667538289E-3},{"$f":"CORREL($B$1:B52,$I$1:I52)","v":{"$error":"#N/A"}},{"$f":"'Sheet3 (3)'!S52","v":1.3390139987827076E-3},{"$f":"CORREL($B$1:B52,$K$1:K52)","v":{"$error":"#N/A"}},{"$f":"'Sheet3 (3)'!U52","v":1.5867203710484004E-3},{"$f":"CORREL($B$1:B52,$M$1:M52)","v":{"$error":"#N/A"}},{"$f":"'Sheet3 (3)'!W52","v":-1.6247885962792932E-2},{"$f":"CORREL($B$1:B52,$O$1:O52)","v":{"$error":"#N/A"}},{"$f":"'Sheet3 (3)'!Y52","v":2.3136872868971957E-3},{"$f":"CORREL($B$1:B52,$Q$1:Q52)","v":{"$error":"#N/A"}},{"$f":"'Sheet3 (3)'!AA52","v":6.0762290554224555E-3},{"$f":"CORREL($B$1:B52,$S$1:S52)","v":{"$error":"#N/A"}}]
[null,{"$f":"'Sheet3 (3)'!I53","v":{"$error":"#N/A"}},{"$f":"'Sheet3 (3)'!K53","v":-5.5832382782013976E-3},{"$f":"CORREL($B$1:B53,$C$1:C53)","v":{"$error":"#N/A"}},{"$f":"'Sheet3 (3)'!M53","v":8.642049918414255E-3},{"$f":"CORREL($B$1:B53,$E$1:E53)","v":{"$error":"#N/A"}},{"$f":"'Sheet3 (3)'!O53","v":5.0749154180763853E-3},{"$f":"CORREL($B$1:B53,$G$1:G53)","v":{"$error":"#N/A"}},{"$f":"'Sheet3 (3)'!Q53","v":6.4449443667538289E-3},{"$f":"CORREL($B$1:B53,$I$1:I53)","v":{"$error":"#N/A"}},{"$f":"'Sheet3 (3)'!S53","v":1.3390139987827076E-3},{"$f":"CORREL($B$1:B53,$K$1:K53)","v":{"$error":"#N/A"}},{"$f":"'Sheet3 (3)'!U53","v":8.5438789210293142E-4},{"$f":"CORREL($B$1:B53,$M$1:M53)","v":{"$error":"#N/A"}},{"$f":"'Sheet3 (3)'!W53","v":-1.6247885962792932E-2},{"$f":"CORREL($B$1:B53,$O$1:O53)","v":{"$error":"#N/A"}},{"$f":"'Sheet3 (3)'!Y53","v":2.0092547491474917E-3},{"$f":"CORREL($B$1:B53,$Q$1:Q53)","v":{"$error":"#N/A"}},{"$f":"'Sheet3 (3)'!AA53","v":6.0762290554224555E-3},{"$f":"CORREL($B$1:B53,$S$1:S53)","v":{"$error":"#N/A"}}]
[null,{"$f":"'Sheet3 (3)'!I54","v":{"$error":"#N/A"}},{"$f":"'Sheet3 (3)'!K54","v":-5.4631686378099099E-3},{"$f":"CORREL($B$1:B54,$C$1:C54)","v":{"$error":"#N/A"}},{"$f":"'Sheet3 (3)'!M54","v":8.4607481718740902E-3},{"$f":"CORREL($B$1:B54,$E$1:E54)","v":{"$error":"#N/A"}},{"$f":"'Sheet3 (3)'!O54","v":5.1957467375542844E-3},{"$f":"CORREL($B$1:B54,$G$1:G54)","v":{"$error":"#N/A"}},{"$f":"'Sheet3 (3)'!Q54","v":7.4177661579619318E-3},{"$f":"CORREL($B$1:B54,$I$1:I54)","v":{"$error":"#N/A"}},{"$f":"'Sheet3 (3)'!S54","v":1.8259281801581433E-3},{"$f":"CORREL($B$1:B54,$K$1:K54)","v":{"$error":"#N/A"}},{"$f":"'Sheet3 (3)'!U54","v":6.1027706578783297E-4},{"$f":"CORREL($B$1:B54,$M$1:M54)","v":{"$error":"#N/A"}},{"$f":"'Sheet3 (3)'!W54","v":-1.6127083836675622E-2},{"$f":"CORREL($B$1:B54,$O$1:O54)","v":{"$error":"#N/A"}},{"$f":"'Sheet3 (3)'!Y54","v":2.0092547491474917E-3},{"$f":"CORREL($B$1:B54,$Q$1:Q54)","v":{"$error":"#N/A"}},{"$f":"'Sheet3 (3)'!AA54","v":6.0762290554224555E-3},{"$f":"CORREL($B$1:B54,$S$1:S54)","v":{"$error":"#N/A"}}]
[null,{"$f":"'Sheet3 (3)'!I55","v":{"$error":"#N/A"}},{"$f":"'Sheet3 (3)'!K55","v":-5.5232034580055683E-3},{"$f":"CORREL($B$1:B55,$C$1:C55)","v":{"$error":"#N/A"}},{"$f":"'Sheet3 (3)'!M55","v":8.2190125098205932E-3},{"$f":"CORREL($B$1:B55,$E$1:E55)","v":{"$error":"#N/A"}},{"$f":"'Sheet3 (3)'!O55","v":2.5978733687770563E-3},{"$f":"CORREL($B$1:B55,$G$1:G55)","v":{"$error":"#N/A"}},{"$f":"'Sheet3 (3)'!Q55","v":7.4177661579619318E-3},{"$f":"CORREL($B$1:B55,$I$1:I55)","v":{"$error":"#N/A"}},{"$f":"'Sheet3 (3)'!S55","v":1.5216068167985392E-3},{"$f":"CORREL($B$1:B55,$K$1:K55)","v":{"$error":"#N/A"}},{"$f":"'Sheet3 (3)'!U55","v":6.1027706578783297E-4},{"$f":"CORREL($B$1:B55,$M$1:M55)","v":{"$error":"#N/A"}},{"$f":"'Sheet3 (3)'!W55","v":-1.6066682773616794E-2},{"$f":"CORREL($B$1:B55,$O$1:O55)","v":{"$error":"#N/A"}},{"$f":"'Sheet3 (3)'!Y55","v":2.3745737944470672E-3},{"$f":"CORREL($B$1:B55,$Q$1:Q55)","v":{"$error":"#N/A"}},{"$f":"'Sheet3 (3)'!AA55","v":4.4804517277357743E-3},{"$f":"CORREL($B$1:B55,$S$1:S55)","v":{"$error":"#N/A"}}]
[null,{"$f":"'Sheet3 (3)'!I56","v":{"$error":"#N/A"}},{"$f":"'Sheet3 (3)'!K56","v":-5.5232034580055683E-3},{"$f":"CORREL($B$1:B56,$C$1:C56)","v":{"$error":"#N/A"}},{"$f":"'Sheet3 (3)'!M56","v":8.0377107632804284E-3},{"$f":"CORREL($B$1:B56,$E$1:E56)","v":{"$error":"#N/A"}},{"$f":"'Sheet3 (3)'!O56","v":5.4374093765105968E-4},{"$f":"CORREL($B$1:B56,$G$1:G56)","v":{"$error":"#N/A"}},{"$f":"'Sheet3 (3)'!Q56","v":7.4177661579619318E-3},{"$f":"CORREL($B$1:B56,$I$1:I56)","v":{"$error":"#N/A"}},{"$f":"'Sheet3 (3)'!S56","v":1.2781497261106483E-3},{"$f":"CORREL($B$1:B56,$K$1:K56)","v":{"$error":"#N/A"}},{"$f":"'Sheet3 (3)'!U56","v":6.1027706578783297E-4},{"$f":"CORREL($B$1:B56,$M$1:M56)","v":{"$error":"#N/A"}},{"$f":"'Sheet3 (3)'!W56","v":-1.4979463638559976E-2},{"$f":"CORREL($B$1:B56,$O$1:O56)","v":{"$error":"#N/A"}},{"$f":"'Sheet3 (3)'!Y56","v":2.8007793472965142E-3},{"$f":"CORREL($B$1:B56,$Q$1:Q56)","v":{"$error":"#N/A"}},{"$f":"'Sheet3 (3)'!AA56","v":5.1555882894494774E-3},{"$f":"CORREL($B$1:B56,$S$1:S56)","v":{"$error":"#N/A"}}]
[null,{"$f":"'Sheet3 (3)'!I57","v":{"$error":"#N/A"}},{"$f":"'Sheet3 (3)'!K57","v":-5.4031338176142507E-3},{"$f":"CORREL($B$1:B57,$C$1:C57)","v":{"$error":"#N/A"}},{"$f":"'Sheet3 (3)'!M57","v":8.0981446787937589E-3},{"$f":"CORREL($B$1:B57,$E$1:E57)","v":{"$error":"#N/A"}},{"$f":"'Sheet3 (3)'!O57","v":2.5374577090381068E-3},{"$f":"CORREL($B$1:B57,$G$1:G57)","v":{"$error":"#N/A"}},{"$f":"'Sheet3 (3)'!Q57","v":7.4177661579619318E-3},{"$f":"CORREL($B$1:B57,$I$1:I57)","v":{"$error":"#N/A"}},{"$f":"'Sheet3 (3)'!S57","v":1.765063907486257E-3},{"$f":"CORREL($B$1:B57,$K$1:K57)","v":{"$error":"#N/A"}},{"$f":"'Sheet3 (3)'!U57","v":6.1027706578783297E-4},{"$f":"CORREL($B$1:B57,$M$1:M57)","v":{"$error":"#N/A"}},{"$f":"'Sheet3 (3)'!W57","v":-1.4979463638559976E-2},{"$f":"CORREL($B$1:B57,$O$1:O57)","v":{"$error":"#N/A"}},{"$f":"'Sheet3 (3)'!Y57","v":3.4096444227959223E-3},{"$f":"CORREL($B$1:B57,$Q$1:Q57)","v":{"$error":"#N/A"}},{"$f":"'Sheet3 (3)'!AA57","v":5.1555882894494774E-3},{"$f":"CORREL($B$1:B57,$S$1:S57)","v":{"$error":"#N/A"}}]
[null,{"$f":"'Sheet3 (3)'!I58","v":{"$error":"#N/A"}},{"$f":"'Sheet3 (3)'!K58","v":-5.3430989974184214E-3},{"$f":"CORREL($B$1:B58,$C$1:C58)","v":{"$error":"#N/A"}},{"$f":"'Sheet3 (3)'!M58","v":7.3125037771197676E-3},{"$f":"CORREL($B$1:B58,$E$1:E58)","v":{"$error":"#N/A"}},{"$f":"'Sheet3 (3)'!O58","v":2.2957950700821378E-3},{"$f":"CORREL($B$1:B58,$G$1:G58)","v":{"$error":"#N/A"}},{"$f":"'Sheet3 (3)'!Q58","v":7.4177661579619318E-3},{"$f":"CORREL($B$1:B58,$I$1:I58)","v":{"$error":"#N/A"}},{"$f":"'Sheet3 (3)'!S58","v":1.765063907486257E-3},{"$f":"CORREL($B$1:B58,$K$1:K58)","v":{"$error":"#N/A"}},{"$f":"'Sheet3 (3)'!U58","v":6.1027706578783297E-4},{"$f":"CORREL($B$1:B58,$M$1:M58)","v":{"$error":"#N/A"}},{"$f":"'Sheet3 (3)'!W58","v":-1.4677458323266531E-2},{"$f":"CORREL($B$1:B58,$O$1:O58)","v":{"$error":"#N/A"}},{"$f":"'Sheet3 (3)'!Y58","v":3.7140769605454528E-3},{"$f":"CORREL($B$1:B58,$Q$1:Q58)","v":{"$error":"#N/A"}},{"$f":"'Sheet3 (3)'!AA58","v":5.8921009022278245E-3},{"$f":"CORREL($B$1:B58,$S$1:S58)","v":{"$error":"#N/A"}}]
[null,{"$f":"'Sheet3 (3)'!I59","v":{"$error":"#N/A"}},{"$f":"'Sheet3 (3)'!K59","v":-5.3430989974184214E-3},{"$f":"CORREL($B$1:B59,$C$1:C59)","v":{"$error":"#N/A"}},{"$f":"'Sheet3 (3)'!M59","v":7.1916359460929341E-3},{"$f":"CORREL($B$1:B59,$E$1:E59)","v":{"$error":"#N/A"}},{"$f":"'Sheet3 (3)'!O59","v":-6.0415659739121112E-5},{"$f":"CORREL($B$1:B59,$G$1:G59)","v":{"$error":"#N/A"}},{"$f":"'Sheet3 (3)'!Q59","v":4.6209035082385294E-3},{"$f":"CORREL($B$1:B59,$I$1:I59)","v":{"$error":"#N/A"}},{"$f":"'Sheet3 (3)'!S59","v":1.9476567255020886E-3},{"$f":"CORREL($B$1:B59,$K$1:K59)","v":{"$error":"#N/A"}},{"$f":"'Sheet3 (3)'!U59","v":1.7698034907847676E-3},{"$f":"CORREL($B$1:B59,$M$1:M59)","v":{"$error":"#N/A"}},{"$f":"'Sheet3 (3)'!W59","v":-1.4677458323266531E-2},{"$f":"CORREL($B$1:B59,$O$1:O59)","v":{"$error":"#N/A"}},{"$f":"'Sheet3 (3)'!Y59","v":3.4096444227959223E-3},{"$f":"CORREL($B$1:B59,$Q$1:Q59)","v":{"$error":"#N/A"}},{"$f":"'Sheet3 (3)'!AA59","v":5.953476953292818E-3},{"$f":"CORREL($B$1:B59,$S$1:S59)","v":{"$error":"#N/A"}}]
[null,{"$f":"'Sheet3 (3)'!I60","v":{"$error":"#N/A"}},{"$f":"'Sheet3 (3)'!K60","v":-3.6020892117427767E-3},{"$f":"CORREL($B$1:B60,$C$1:C60)","v":{"$error":"#N/A"}},{"$f":"'Sheet3 (3)'!M60","v":7.1916359460929341E-3},{"$f":"CORREL($B$1:B60,$E$1:E60)","v":{"$error":"#N/A"}},{"$f":"'Sheet3 (3)'!O60","v":-6.0415659739121112E-5},{"$f":"CORREL($B$1:B60,$G$1:G60)","v":{"$error":"#N/A"}},{"$f":"'Sheet3 (3)'!Q60","v":2.8576640116738548E-3},{"$f":"CORREL($B$1:B60,$I$1:I60)","v":{"$error":"#N/A"}},{"$f":"'Sheet3 (3)'!S60","v":1.9476567255020886E-3},{"$f":"CORREL($B$1:B60,$K$1:K60)","v":{"$error":"#N/A"}},{"$f":"'Sheet3 (3)'!U60","v":1.7698034907847676E-3},{"$f":"CORREL($B$1:B60,$M$1:M60)","v":{"$error":"#N/A"}},{"$f":"'Sheet3 (3)'!W60","v":-1.479826044938384E-2},{"$f":"CORREL($B$1:B60,$O$1:O60)","v":{"$error":"#N/A"}},{"$f":"'Sheet3 (3)'!Y60","v":3.5314174378956653E-3},{"$f":"CORREL($B$1:B60,$Q$1:Q60)","v":{"$error":"#N/A"}},{"$f":"'Sheet3 (3)'!AA60","v":6.0762290554224555E-3},{"$f":"CORREL($B$1:B60,$S$1:S60)","v":{"$error":"#N/A"}}]
[null,{"$f":"'Sheet3 (3)'!I61","v":{"$error":"#N/A"}},{"$f":"'Sheet3 (3)'!K61","v":-3.782193672329924E-3},{"$f":"CORREL($B$1:B61,$C$1:C61)","v":{"$error":"#N/A"}},{"$f":"'Sheet3 (3)'!M61","v":6.8290324530126036E-3},{"$f":"CORREL($B$1:B61,$E$1:E61)","v":{"$error":"#N/A"}},{"$f":"'Sheet3 (3)'!O61","v":-5.4374093765105968E-4},{"$f":"CORREL($B$1:B61,$G$1:G61)","v":{"$error":"#N/A"}},{"$f":"'Sheet3 (3)'!Q61","v":2.8576640116738548E-3},{"$f":"CORREL($B$1:B61,$I$1:I61)","v":{"$error":"#N/A"}},{"$f":"'Sheet3 (3)'!S61","v":2.1302495435179202E-3},{"$f":"CORREL($B$1:B61,$K$1:K61)","v":{"$error":"#N/A"}},{"$f":"'Sheet3 (3)'!U61","v":1.89185890394223E-3},{"$f":"CORREL($B$1:B61,$M$1:M61)","v":{"$error":"#N/A"}},{"$f":"'Sheet3 (3)'!W61","v":-1.3409035999033576E-2},{"$f":"CORREL($B$1:B61,$O$1:O61)","v":{"$error":"#N/A"}},{"$f":"'Sheet3 (3)'!Y61","v":3.5314174378956653E-3},{"$f":"CORREL($B$1:B61,$Q$1:Q61)","v":{"$error":"#N/A"}},{"$f":"'Sheet3 (3)'!AA61","v":6.5058614128767093E-3},{"$f":"CORREL($B$1:B61,$S$1:S61)","v":{"$error":"#N/A"}}]
[null,{"$f":"'Sheet3 (3)'!I62","v":{"$error":"#N/A"}},{"$f":"'Sheet3 (3)'!K62","v":-3.8422284925255833E-3},{"$f":"CORREL($B$1:B62,$C$1:C62)","v":{"$error":"#N/A"}},{"$f":"'Sheet3 (3)'!M62","v":6.5268628754457754E-3},{"$f":"CORREL($B$1:B62,$E$1:E62)","v":{"$error":"#N/A"}},{"$f":"'Sheet3 (3)'!O62","v":6.6457225712895853E-4},{"$f":"CORREL($B$1:B62,$G$1:G62)","v":{"$error":"#N/A"}},{"$f":"'Sheet3 (3)'!Q62","v":2.8576640116738548E-3},{"$f":"CORREL($B$1:B62,$I$1:I62)","v":{"$error":"#N/A"}},{"$f":"'Sheet3 (3)'!S62","v":2.1302495435179202E-3},{"$f":"CORREL($B$1:B62,$K$1:K62)","v":{"$error":"#N/A"}},{"$f":"'Sheet3 (3)'!U62","v":1.89185890394223E-3},{"$f":"CORREL($B$1:B62,$M$1:M62)","v":{"$error":"#N/A"}},{"$f":"'Sheet3 (3)'!W62","v":-1.2080212611741966E-2},{"$f":"CORREL($B$1:B62,$O$1:O62)","v":{"$error":"#N/A"}},{"$f":"'Sheet3 (3)'!Y62","v":4.4447150511446034E-3},{"$f":"CORREL($B$1:B62,$Q$1:Q62)","v":{"$error":"#N/A"}},{"$f":"'Sheet3 (3)'!AA62","v":6.1376051064874482E-3},{"$f":"CORREL($B$1:B62,$S$1:S62)","v":{"$error":"#N/A"}}]
[null,{"$f":"'Sheet3 (3)'!I63","v":{"$error":"#N/A"}},{"$f":"'Sheet3 (3)'!K63","v":-4.0223329531127302E-3},{"$f":"CORREL($B$1:B63,$C$1:C63)","v":{"$error":"#N/A"}},{"$f":"'Sheet3 (3)'!M63","v":6.5872967909591067E-3},{"$f":"CORREL($B$1:B63,$E$1:E63)","v":{"$error":"#N/A"}},{"$f":"'Sheet3 (3)'!O63","v":6.6457225712895853E-4},{"$f":"CORREL($B$1:B63,$G$1:G63)","v":{"$error":"#N/A"}},{"$f":"'Sheet3 (3)'!Q63","v":3.3440749072779921E-3},{"$f":"CORREL($B$1:B63,$I$1:I63)","v":{"$error":"#N/A"}},{"$f":"'Sheet3 (3)'!S63","v":2.1302495435179202E-3},{"$f":"CORREL($B$1:B63,$K$1:K63)","v":{"$error":"#N/A"}},{"$f":"'Sheet3 (3)'!U63","v":1.8308311973634988E-3},{"$f":"CORREL($B$1:B63,$M$1:M63)","v":{"$error":"#N/A"}},{"$f":"'Sheet3 (3)'!W63","v":-1.244261899009424E-2},{"$f":"CORREL($B$1:B63,$O$1:O63)","v":{"$error":"#N/A"}},{"$f":"'Sheet3 (3)'!Y63","v":4.6882610813442629E-3},{"$f":"CORREL($B$1:B63,$Q$1:Q63)","v":{"$error":"#N/A"}},{"$f":"'Sheet3 (3)'!AA63","v":6.5672374639415276E-3},{"$f":"CORREL($B$1:B63,$S$1:S63)","v":{"$error":"#N/A"}}]
[null,{"$f":"'Sheet3 (3)'!I64","v":{"$error":"#N/A"}},{"$f":"'Sheet3 (3)'!K64","v":-3.9022633127214126E-3},{"$f":"CORREL($B$1:B64,$C$1:C64)","v":{"$error":"#N/A"}},{"$f":"'Sheet3 (3)'!M64","v":6.1642593823654449E-3},{"$f":"CORREL($B$1:B64,$E$1:E64)","v":{"$error":"#N/A"}},{"$f":"'Sheet3 (3)'!O64","v":-4.2290961817316095E-4},{"$f":"CORREL($B$1:B64,$G$1:G64)","v":{"$error":"#N/A"}},{"$f":"'Sheet3 (3)'!Q64","v":3.2832735453273668E-3},{"$f":"CORREL($B$1:B64,$I$1:I64)","v":{"$error":"#N/A"}},{"$f":"'Sheet3 (3)'!S64","v":2.312842361533752E-3},{"$f":"CORREL($B$1:B64,$K$1:K64)","v":{"$error":"#N/A"}},{"$f":"'Sheet3 (3)'!U64","v":2.1359697302575022E-3},{"$f":"CORREL($B$1:B64,$M$1:M64)","v":{"$error":"#N/A"}},{"$f":"'Sheet3 (3)'!W64","v":-1.244261899009424E-2},{"$f":"CORREL($B$1:B64,$O$1:O64)","v":{"$error":"#N/A"}},{"$f":"'Sheet3 (3)'!Y64","v":5.236239649293626E-3},{"$f":"CORREL($B$1:B64,$Q$1:Q64)","v":{"$error":"#N/A"}},{"$f":"'Sheet3 (3)'!AA64","v":6.5672374639415276E-3},{"$f":"CORREL($B$1:B64,$S$1:S64)","v":{"$error":"#N/A"}}]
[null,{"$f":"'Sheet3 (3)'!I65","v":{"$error":"#N/A"}},{"$f":"'Sheet3 (3)'!K65","v":-4.2624722338955364E-3},{"$f":"CORREL($B$1:B65,$C$1:C65)","v":{"$error":"#N/A"}},{"$f":"'Sheet3 (3)'!M65","v":5.5599202272314466E-3},{"$f":"CORREL($B$1:B65,$E$1:E65)","v":{"$error":"#N/A"}},{"$f":"'Sheet3 (3)'!O65","v":8.4581923634597842E-4},{"$f":"CORREL($B$1:B65,$G$1:G65)","v":{"$error":"#N/A"}},{"$f":"'Sheet3 (3)'!Q65","v":3.2832735453273668E-3},{"$f":"CORREL($B$1:B65,$I$1:I65)","v":{"$error":"#N/A"}},{"$f":"'Sheet3 (3)'!S65","v":2.312842361533752E-3},{"$f":"CORREL($B$1:B65,$K$1:K65)","v":{"$error":"#N/A"}},{"$f":"'Sheet3 (3)'!U65","v":2.4411082631513319E-3},{"$f":"CORREL($B$1:B65,$M$1:M65)","v":{"$error":"#N/A"}},{"$f":"'Sheet3 (3)'!W65","v":-1.244261899009424E-2},{"$f":"CORREL($B$1:B65,$O$1:O65)","v":{"$error":"#N/A"}},{"$f":"'Sheet3 (3)'!Y65","v":5.297126156843671E-3},{"$f":"CORREL($B$1:B65,$Q$1:Q65)","v":{"$error":"#N/A"}},{"$f":"'Sheet3 (3)'!AA65","v":7.3651261277848682E-3},{"$f":"CORREL($B$1:B65,$S$1:S65)","v":{"$error":"#N/A"}}]
[null,{"$f":"'Sheet3 (3)'!I66","v":{"$error":"#N/A"}},{"$f":"'Sheet3 (3)'!K66","v":-4.202437413699878E-3},{"$f":"CORREL($B$1:B66,$C$1:C66)","v":{"$error":"#N/A"}},{"$f":"'Sheet3 (3)'!M66","v":3.7469027618299666E-3},{"$f":"CORREL($B$1:B66,$E$1:E66)","v":{"$error":"#N/A"}},{"$f":"'Sheet3 (3)'!O66","v":2.2957950700821378E-3},{"$f":"CORREL($B$1:B66,$G$1:G66)","v":{"$error":"#N/A"}},{"$f":"'Sheet3 (3)'!Q66","v":3.1616708214264621E-3},{"$f":"CORREL($B$1:B66,$I$1:I66)","v":{"$error":"#N/A"}},{"$f":"'Sheet3 (3)'!S66","v":2.312842361533752E-3},{"$f":"CORREL($B$1:B66,$K$1:K66)","v":{"$error":"#N/A"}},{"$f":"'Sheet3 (3)'!U66","v":1.7087757842058628E-3},{"$f":"CORREL($B$1:B66,$M$1:M66)","v":{"$error":"#N/A"}},{"$f":"'Sheet3 (3)'!W66","v":-1.1536603044213558E-2},{"$f":"CORREL($B$1:B66,$O$1:O66)","v":{"$error":"#N/A"}},{"$f":"'Sheet3 (3)'!Y66","v":5.5406721870433304E-3},{"$f":"CORREL($B$1:B66,$Q$1:Q66)","v":{"$error":"#N/A"}},{"$f":"'Sheet3 (3)'!AA66","v":7.3651261277848682E-3},{"$f":"CORREL($B$1:B66,$S$1:S66)","v":{"$error":"#N/A"}}]
[null,{"$f":"'Sheet3 (3)'!I67","v":{"$error":"#N/A"}},{"$f":"'Sheet3 (3)'!K67","v":-4.5626463348741727E-3},{"$f":"CORREL($B$1:B67,$C$1:C67)","v":{"$error":"#N/A"}},{"$f":"'Sheet3 (3)'!M67","v":4.1699401704236279E-3},{"$f":"CORREL($B$1:B67,$E$1:E67)","v":{"$error":"#N/A"}},{"$f":"'Sheet3 (3)'!O67","v":4.7124214596423455E-3},{"$f":"CORREL($B$1:B67,$G$1:G67)","v":{"$error":"#N/A"}},{"$f":"'Sheet3 (3)'!Q67","v":3.2224721833769144E-3},{"$f":"CORREL($B$1:B67,$I$1:I67)","v":{"$error":"#N/A"}},{"$f":"'Sheet3 (3)'!S67","v":2.312842361533752E-3},{"$f":"CORREL($B$1:B67,$K$1:K67)","v":{"$error":"#N/A"}},{"$f":"'Sheet3 (3)'!U67","v":1.7087757842058628E-3},{"$f":"CORREL($B$1:B67,$M$1:M67)","v":{"$error":"#N/A"}},{"$f":"'Sheet3 (3)'!W67","v":-1.189900942256583E-2},{"$f":"CORREL($B$1:B67,$O$1:O67)","v":{"$error":"#N/A"}},{"$f":"'Sheet3 (3)'!Y67","v":5.6624452021430734E-3},{"$f":"CORREL($B$1:B67,$Q$1:Q67)","v":{"$error":"#N/A"}},{"$f":"'Sheet3 (3)'!AA67","v":6.6286135150063468E-3},{"$f":"CORREL($B$1:B67,$S$1:S67)","v":{"$error":"#N/A"}}]
[null,{"$f":"'Sheet3 (3)'!I68","v":{"$error":"#N/A"}},{"$f":"'Sheet3 (3)'!K68","v":-4.5626463348741727E-3},{"$f":"CORREL($B$1:B68,$C$1:C68)","v":{"$error":"#N/A"}},{"$f":"'Sheet3 (3)'!M68","v":4.2908080014504623E-3},{"$f":"CORREL($B$1:B68,$E$1:E68)","v":{"$error":"#N/A"}},{"$f":"'Sheet3 (3)'!O68","v":4.2290961817302358E-3},{"$f":"CORREL($B$1:B68,$G$1:G68)","v":{"$error":"#N/A"}},{"$f":"'Sheet3 (3)'!Q68","v":3.5872803550799745E-3},{"$f":"CORREL($B$1:B68,$I$1:I68)","v":{"$error":"#N/A"}},{"$f":"'Sheet3 (3)'!S68","v":2.312842361533752E-3},{"$f":"CORREL($B$1:B68,$K$1:K68)","v":{"$error":"#N/A"}},{"$f":"'Sheet3 (3)'!U68","v":1.89185890394223E-3},{"$f":"CORREL($B$1:B68,$M$1:M68)","v":{"$error":"#N/A"}},{"$f":"'Sheet3 (3)'!W68","v":-1.0992993476685147E-2},{"$f":"CORREL($B$1:B68,$O$1:O68)","v":{"$error":"#N/A"}},{"$f":"'Sheet3 (3)'!Y68","v":5.6624452021430734E-3},{"$f":"CORREL($B$1:B68,$Q$1:Q68)","v":{"$error":"#N/A"}},{"$f":"'Sheet3 (3)'!AA68","v":6.6286135150063468E-3},{"$f":"CORREL($B$1:B68,$S$1:S68)","v":{"$error":"#N/A"}}]
[null,{"$f":"'Sheet3 (3)'!I69","v":{"$error":"#N/A"}},{"$f":"'Sheet3 (3)'!K69","v":-4.5626463348741727E-3},{"$f":"CORREL($B$1:B69,$C$1:C69)","v":{"$error":"#N/A"}},{"$f":"'Sheet3 (3)'!M69","v":5.5599202272314466E-3},{"$f":"CORREL($B$1:B69,$E$1:E69)","v":{"$error":"#N/A"}},{"$f":"'Sheet3 (3)'!O69","v":3.8061865635572465E-3},{"$f":"CORREL($B$1:B69,$G$1:G69)","v":{"$error":"#N/A"}},{"$f":"'Sheet3 (3)'!Q69","v":3.5872803550799745E-3},{"$f":"CORREL($B$1:B69,$I$1:I69)","v":{"$error":"#N/A"}},{"$f":"'Sheet3 (3)'!S69","v":2.312842361533752E-3},{"$f":"CORREL($B$1:B69,$K$1:K69)","v":{"$error":"#N/A"}},{"$f":"'Sheet3 (3)'!U69","v":2.0139143170998662E-3},{"$f":"CORREL($B$1:B69,$M$1:M69)","v":{"$error":"#N/A"}},{"$f":"'Sheet3 (3)'!W69","v":-1.0992993476685147E-2},{"$f":"CORREL($B$1:B69,$O$1:O69)","v":{"$error":"#N/A"}},{"$f":"'Sheet3 (3)'!Y69","v":5.6624452021430734E-3},{"$f":"CORREL($B$1:B69,$Q$1:Q69)","v":{"$error":"#N/A"}},{"$f":"'Sheet3 (3)'!AA69","v":6.6286135150063468E-3},{"$f":"CORREL($B$1:B69,$S$1:S69)","v":{"$error":"#N/A"}}]
[null,{"$f":"'Sheet3 (3)'!I70","v":{"$error":"#N/A"}},{"$f":"'Sheet3 (3)'!K70","v":-5.2230293570271029E-3},{"$f":"CORREL($B$1:B70,$C$1:C70)","v":{"$error":"#N/A"}},{"$f":"'Sheet3 (3)'!M70","v":5.3786184806914536E-3},{"$f":"CORREL($B$1:B70,$E$1:E70)","v":{"$error":"#N/A"}},{"$f":"'Sheet3 (3)'!O70","v":4.2290961817302358E-3},{"$f":"CORREL($B$1:B70,$G$1:G70)","v":{"$error":"#N/A"}},{"$f":"'Sheet3 (3)'!Q70","v":3.5872803550799745E-3},{"$f":"CORREL($B$1:B70,$I$1:I70)","v":{"$error":"#N/A"}},{"$f":"'Sheet3 (3)'!S70","v":2.3737066342056383E-3},{"$f":"CORREL($B$1:B70,$K$1:K70)","v":{"$error":"#N/A"}},{"$f":"'Sheet3 (3)'!U70","v":2.0139143170998662E-3},{"$f":"CORREL($B$1:B70,$M$1:M70)","v":{"$error":"#N/A"}},{"$f":"'Sheet3 (3)'!W70","v":-1.0992993476685147E-2},{"$f":"CORREL($B$1:B70,$O$1:O70)","v":{"$error":"#N/A"}},{"$f":"'Sheet3 (3)'!Y70","v":5.8451047247928605E-3},{"$f":"CORREL($B$1:B70,$Q$1:Q70)","v":{"$error":"#N/A"}},{"$f":"'Sheet3 (3)'!AA70","v":6.4444853618117158E-3},{"$f":"CORREL($B$1:B70,$S$1:S70)","v":{"$error":"#N/A"}}]
[null,{"$f":"'Sheet3 (3)'!I71","v":{"$error":"#N/A"}},{"$f":"'Sheet3 (3)'!K71","v":-4.5026115146785135E-3},{"$f":"CORREL($B$1:B71,$C$1:C71)","v":{"$error":"#N/A"}},{"$f":"'Sheet3 (3)'!M71","v":5.680788058258281E-3},{"$f":"CORREL($B$1:B71,$E$1:E71)","v":{"$error":"#N/A"}},{"$f":"'Sheet3 (3)'!O71","v":4.2290961817302358E-3},{"$f":"CORREL($B$1:B71,$G$1:G71)","v":{"$error":"#N/A"}},{"$f":"'Sheet3 (3)'!Q71","v":4.6209035082385294E-3},{"$f":"CORREL($B$1:B71,$I$1:I71)","v":{"$error":"#N/A"}},{"$f":"'Sheet3 (3)'!S71","v":2.3737066342056383E-3},{"$f":"CORREL($B$1:B71,$K$1:K71)","v":{"$error":"#N/A"}},{"$f":"'Sheet3 (3)'!U71","v":1.6477480776271316E-3},{"$f":"CORREL($B$1:B71,$M$1:M71)","v":{"$error":"#N/A"}},{"$f":"'Sheet3 (3)'!W71","v":-1.0992993476685147E-2},{"$f":"CORREL($B$1:B71,$O$1:O71)","v":{"$error":"#N/A"}},{"$f":"'Sheet3 (3)'!Y71","v":6.332196785192353E-3},{"$f":"CORREL($B$1:B71,$Q$1:Q71)","v":{"$error":"#N/A"}},{"$f":"'Sheet3 (3)'!AA71","v":6.1989811575522673E-3},{"$f":"CORREL($B$1:B71,$S$1:S71)","v":{"$error":"#N/A"}}]
[null,{"$f":"'Sheet3 (3)'!I72","v":{"$error":"#N/A"}},{"$f":"'Sheet3 (3)'!K72","v":-4.2624722338955364E-3},{"$f":"CORREL($B$1:B72,$C$1:C72)","v":{"$error":"#N/A"}},{"$f":"'Sheet3 (3)'!M72","v":5.9225237203117771E-3},{"$f":"CORREL($B$1:B72,$E$1:E72)","v":{"$error":"#N/A"}},{"$f":"'Sheet3 (3)'!O72","v":2.0541324311261684E-3},{"$f":"CORREL($B$1:B72,$G$1:G72)","v":{"$error":"#N/A"}},{"$f":"'Sheet3 (3)'!Q72","v":4.6817048701891543E-3},{"$f":"CORREL($B$1:B72,$I$1:I72)","v":{"$error":"#N/A"}},{"$f":"'Sheet3 (3)'!S72","v":2.3737066342056383E-3},{"$f":"CORREL($B$1:B72,$K$1:K72)","v":{"$error":"#N/A"}},{"$f":"'Sheet3 (3)'!U72","v":2.1359697302575022E-3},{"$f":"CORREL($B$1:B72,$M$1:M72)","v":{"$error":"#N/A"}},{"$f":"'Sheet3 (3)'!W72","v":-1.057018603527422E-2},{"$f":"CORREL($B$1:B72,$O$1:O72)","v":{"$error":"#N/A"}},{"$f":"'Sheet3 (3)'!Y72","v":6.149537262542565E-3},{"$f":"CORREL($B$1:B72,$Q$1:Q72)","v":{"$error":"#N/A"}},{"$f":"'Sheet3 (3)'!AA72","v":5.8921009022278245E-3},{"$f":"CORREL($B$1:B72,$S$1:S72)","v":{"$error":"#N/A"}}]
[null,{"$f":"'Sheet3 (3)'!I73","v":{"$error":"#N/A"}},{"$f":"'Sheet3 (3)'!K73","v":-4.2624722338955364E-3},{"$f":"CORREL($B$1:B73,$C$1:C73)","v":{"$error":"#N/A"}},{"$f":"'Sheet3 (3)'!M73","v":6.1038254668519427E-3},{"$f":"CORREL($B$1:B73,$E$1:E73)","v":{"$error":"#N/A"}},{"$f":"'Sheet3 (3)'!O73","v":1.3895601739970381E-3},{"$f":"CORREL($B$1:B73,$G$1:G73)","v":{"$error":"#N/A"}},{"$f":"'Sheet3 (3)'!Q73","v":4.8641089560406848E-3},{"$f":"CORREL($B$1:B73,$I$1:I73)","v":{"$error":"#N/A"}},{"$f":"'Sheet3 (3)'!S73","v":2.3737066342056383E-3},{"$f":"CORREL($B$1:B73,$K$1:K73)","v":{"$error":"#N/A"}},{"$f":"'Sheet3 (3)'!U73","v":2.1359697302575022E-3},{"$f":"CORREL($B$1:B73,$M$1:M73)","v":{"$error":"#N/A"}},{"$f":"'Sheet3 (3)'!W73","v":-1.0630587098332875E-2},{"$f":"CORREL($B$1:B73,$O$1:O73)","v":{"$error":"#N/A"}},{"$f":"'Sheet3 (3)'!Y73","v":6.2713102776424806E-3},{"$f":"CORREL($B$1:B73,$Q$1:Q73)","v":{"$error":"#N/A"}},{"$f":"'Sheet3 (3)'!AA73","v":5.8921009022278245E-3},{"$f":"CORREL($B$1:B73,$S$1:S73)","v":{"$error":"#N/A"}}]
[null,{"$f":"'Sheet3 (3)'!I74","v":{"$error":"#N/A"}},{"$f":"'Sheet3 (3)'!K74","v":-4.2624722338955364E-3},{"$f":"CORREL($B$1:B74,$C$1:C74)","v":{"$error":"#N/A"}},{"$f":"'Sheet3 (3)'!M74","v":6.1642593823654449E-3},{"$f":"CORREL($B$1:B74,$E$1:E74)","v":{"$error":"#N/A"}},{"$f":"'Sheet3 (3)'!O74","v":1.0270662155629983E-3},{"$f":"CORREL($B$1:B74,$G$1:G74)","v":{"$error":"#N/A"}},{"$f":"'Sheet3 (3)'!Q74","v":4.8641089560406848E-3},{"$f":"CORREL($B$1:B74,$I$1:I74)","v":{"$error":"#N/A"}},{"$f":"'Sheet3 (3)'!S74","v":2.1911138161898065E-3},{"$f":"CORREL($B$1:B74,$K$1:K74)","v":{"$error":"#N/A"}},{"$f":"'Sheet3 (3)'!U74","v":2.6852190894666038E-3},{"$f":"CORREL($B$1:B74,$M$1:M74)","v":{"$error":"#N/A"}},{"$f":"'Sheet3 (3)'!W74","v":-9.6037690263348838E-3},{"$f":"CORREL($B$1:B74,$O$1:O74)","v":{"$error":"#N/A"}},{"$f":"'Sheet3 (3)'!Y74","v":6.2104237700924365E-3},{"$f":"CORREL($B$1:B74,$Q$1:Q74)","v":{"$error":"#N/A"}},{"$f":"'Sheet3 (3)'!AA74","v":7.0582458724606006E-3},{"$f":"CORREL($B$1:B74,$S$1:S74)","v":{"$error":"#N/A"}}]
[null,{"$f":"'Sheet3 (3)'!I75","v":{"$error":"#N/A"}},{"$f":"'Sheet3 (3)'!K75","v":-4.2624722338955364E-3},{"$f":"CORREL($B$1:B75,$C$1:C75)","v":{"$error":"#N/A"}},{"$f":"'Sheet3 (3)'!M75","v":6.9499002840394371E-3},{"$f":"CORREL($B$1:B75,$E$1:E75)","v":{"$error":"#N/A"}},{"$f":"'Sheet3 (3)'!O75","v":1.0270662155629983E-3},{"$f":"CORREL($B$1:B75,$G$1:G75)","v":{"$error":"#N/A"}},{"$f":"'Sheet3 (3)'!Q75","v":5.2289171277437449E-3},{"$f":"CORREL($B$1:B75,$I$1:I75)","v":{"$error":"#N/A"}},{"$f":"'Sheet3 (3)'!S75","v":1.9476567255020886E-3},{"$f":"CORREL($B$1:B75,$K$1:K75)","v":{"$error":"#N/A"}},{"$f":"'Sheet3 (3)'!U75","v":2.5021359697302366E-3},{"$f":"CORREL($B$1:B75,$M$1:M75)","v":{"$error":"#N/A"}},{"$f":"'Sheet3 (3)'!W75","v":-9.966175404687156E-3},{"$f":"CORREL($B$1:B75,$O$1:O75)","v":{"$error":"#N/A"}},{"$f":"'Sheet3 (3)'!Y75","v":6.149537262542565E-3},{"$f":"CORREL($B$1:B75,$Q$1:Q75)","v":{"$error":"#N/A"}},{"$f":"'Sheet3 (3)'!AA75","v":6.812741668200977E-3},{"$f":"CORREL($B$1:B75,$S$1:S75)","v":{"$error":"#N/A"}}]
[null,{"$f":"'Sheet3 (3)'!I76","v":{"$error":"#N/A"}},{"$f":"'Sheet3 (3)'!K76","v":-4.2624722338955364E-3},{"$f":"CORREL($B$1:B76,$C$1:C76)","v":{"$error":"#N/A"}},{"$f":"'Sheet3 (3)'!M76","v":6.8290324530126036E-3},{"$f":"CORREL($B$1:B76,$E$1:E76)","v":{"$error":"#N/A"}},{"$f":"'Sheet3 (3)'!O76","v":1.2687288545189677E-3},{"$f":"CORREL($B$1:B76,$G$1:G76)","v":{"$error":"#N/A"}},{"$f":"'Sheet3 (3)'!Q76","v":4.9857116799415895E-3},{"$f":"CORREL($B$1:B76,$I$1:I76)","v":{"$error":"#N/A"}},{"$f":"'Sheet3 (3)'!S76","v":2.4345709068775241E-3},{"$f":"CORREL($B$1:B76,$K$1:K76)","v":{"$error":"#N/A"}},{"$f":"'Sheet3 (3)'!U76","v":2.5021359697302366E-3},{"$f":"CORREL($B$1:B76,$M$1:M76)","v":{"$error":"#N/A"}},{"$f":"'Sheet3 (3)'!W76","v":-1.0690988161391702E-2},{"$f":"CORREL($B$1:B76,$O$1:O76)","v":{"$error":"#N/A"}},{"$f":"'Sheet3 (3)'!Y76","v":6.2104237700924365E-3},{"$f":"CORREL($B$1:B76,$Q$1:Q76)","v":{"$error":"#N/A"}},{"$f":"'Sheet3 (3)'!AA76","v":6.7513656171361586E-3},{"$f":"CORREL($B$1:B76,$S$1:S76)","v":{"$error":"#N/A"}}]
[null,{"$f":"'Sheet3 (3)'!I77","v":{"$error":"#N/A"}},{"$f":"'Sheet3 (3)'!K77","v":-4.2624722338955364E-3},{"$f":"CORREL($B$1:B77,$C$1:C77)","v":{"$error":"#N/A"}},{"$f":"'Sheet3 (3)'!M77","v":5.8016558892851153E-3},{"$f":"CORREL($B$1:B77,$E$1:E77)","v":{"$error":"#N/A"}},{"$f":"'Sheet3 (3)'!O77","v":9.0623489608492784E-4},{"$f":"CORREL($B$1:B77,$G$1:G77)","v":{"$error":"#N/A"}},{"$f":"'Sheet3 (3)'!Q77","v":5.8369307472487869E-3},{"$f":"CORREL($B$1:B77,$I$1:I77)","v":{"$error":"#N/A"}},{"$f":"'Sheet3 (3)'!S77","v":1.5824710894704254E-3},{"$f":"CORREL($B$1:B77,$K$1:K77)","v":{"$error":"#N/A"}},{"$f":"'Sheet3 (3)'!U77","v":2.868302209202971E-3},{"$f":"CORREL($B$1:B77,$M$1:M77)","v":{"$error":"#N/A"}},{"$f":"'Sheet3 (3)'!W77","v":-9.966175404687156E-3},{"$f":"CORREL($B$1:B77,$O$1:O77)","v":{"$error":"#N/A"}},{"$f":"'Sheet3 (3)'!Y77","v":7.1237213833413747E-3},{"$f":"CORREL($B$1:B77,$Q$1:Q77)","v":{"$error":"#N/A"}},{"$f":"'Sheet3 (3)'!AA77","v":7.3037500767200499E-3},{"$f":"CORREL($B$1:B77,$S$1:S77)","v":{"$error":"#N/A"}}]
[null,{"$f":"'Sheet3 (3)'!I78","v":{"$error":"#N/A"}},{"$f":"'Sheet3 (3)'!K78","v":-3.0017410097856758E-3},{"$f":"CORREL($B$1:B78,$C$1:C78)","v":{"$error":"#N/A"}},{"$f":"'Sheet3 (3)'!M78","v":6.647730706472438E-3},{"$f":"CORREL($B$1:B78,$E$1:E78)","v":{"$error":"#N/A"}},{"$f":"'Sheet3 (3)'!O78","v":-3.0207829869509042E-4},{"$f":"CORREL($B$1:B78,$G$1:G78)","v":{"$error":"#N/A"}},{"$f":"'Sheet3 (3)'!Q78","v":6.3841430048033766E-3},{"$f":"CORREL($B$1:B78,$I$1:I78)","v":{"$error":"#N/A"}},{"$f":"'Sheet3 (3)'!S78","v":1.0346926354229305E-3},{"$f":"CORREL($B$1:B78,$K$1:K78)","v":{"$error":"#N/A"}},{"$f":"'Sheet3 (3)'!U78","v":2.6852190894666038E-3},{"$f":"CORREL($B$1:B78,$M$1:M78)","v":{"$error":"#N/A"}},{"$f":"'Sheet3 (3)'!W78","v":-1.0268180719980603E-2},{"$f":"CORREL($B$1:B78,$O$1:O78)","v":{"$error":"#N/A"}},{"$f":"'Sheet3 (3)'!Y78","v":8.0370189965903137E-3},{"$f":"CORREL($B$1:B78,$Q$1:Q78)","v":{"$error":"#N/A"}},{"$f":"'Sheet3 (3)'!AA78","v":8.0402626894985705E-3},{"$f":"CORREL($B$1:B78,$S$1:S78)","v":{"$error":"#N/A"}}]
[null,{"$f":"'Sheet3 (3)'!I79","v":{"$error":"#N/A"}},{"$f":"'Sheet3 (3)'!K79","v":{"$error":"#N/A"}},{"$f":"CORREL($B$1:B79,$C$1:C79)","v":{"$error":"#N/A"}},{"$f":"'Sheet3 (3)'!M79","v":{"$error":"#N/A"}},{"$f":"CORREL($B$1:B79,$E$1:E79)","v":{"$error":"#N/A"}},{"$f":"'Sheet3 (3)'!O79","v":{"$error":"#N/A"}},{"$f":"CORREL($B$1:B79,$G$1:G79)","v":{"$error":"#N/A"}},{"$f":"'Sheet3 (3)'!Q79","v":{"$error":"#N/A"}},{"$f":"CORREL($B$1:B79,$I$1:I79)","v":{"$error":"#N/A"}},{"$f":"'Sheet3 (3)'!S79","v":{"$error":"#N/A"}},{"$f":"CORREL($B$1:B79,$K$1:K79)","v":{"$error":"#N/A"}},{"$f":"'Sheet3 (3)'!U79","v":{"$error":"#N/A"}},{"$f":"CORREL($B$1:B79,$M$1:M79)","v":{"$error":"#N/A"}},{"$f":"'Sheet3 (3)'!W79","v":{"$error":"#N/A"}},{"$f":"CORREL($B$1:B79,$O$1:O79)","v":{"$error":"#N/A"}},{"$f":"'Sheet3 (3)'!Y79","v":{"$error":"#N/A"}},{"$f":"CORREL($B$1:B79,$Q$1:Q79)","v":{"$error":"#N/A"}},{"$f":"'Sheet3 (3)'!AA79","v":{"$error":"#N/A"}},{"$f":"CORREL($B$1:B79,$S$1:S79)","v":{"$error":"#N/A"}}]
[null,{"$f":"'Sheet3 (3)'!I80","v":{"$error":"#N/A"}},{"$f":"'Sheet3 (3)'!K80","v":{"$error":"#N/A"}},{"$f":"CORREL($B$1:B80,$C$1:C80)","v":{"$error":"#N/A"}},{"$f":"'Sheet3 (3)'!M80","v":{"$error":"#N/A"}},{"$f":"CORREL($B$1:B80,$E$1:E80)","v":{"$error":"#N/A"}},{"$f":"'Sheet3 (3)'!O80","v":{"$error":"#N/A"}},{"$f":"CORREL($B$1:B80,$G$1:G80)","v":{"$error":"#N/A"}},{"$f":"'Sheet3 (3)'!Q80","v":{"$error":"#N/A"}},{"$f":"CORREL($B$1:B80,$I$1:I80)","v":{"$error":"#N/A"}},{"$f":"'Sheet3 (3)'!S80","v":{"$error":"#N/A"}},{"$f":"CORREL($B$1:B80,$K$1:K80)","v":{"$error":"#N/A"}},{"$f":"'Sheet3 (3)'!U80","v":{"$error":"#N/A"}},{"$f":"CORREL($B$1:B80,$M$1:M80)","v":{"$error":"#N/A"}},{"$f":"'Sheet3 (3)'!W80","v":{"$error":"#N/A"}},{"$f":"CORREL($B$1:B80,$O$1:O80)","v":{"$error":"#N/A"}},{"$f":"'Sheet3 (3)'!Y80","v":{"$error":"#N/A"}},{"$f":"CORREL($B$1:B80,$Q$1:Q80)","v":{"$error":"#N/A"}},{"$f":"'Sheet3 (3)'!AA80","v":{"$error":"#N/A"}},{"$f":"CORREL($B$1:B80,$S$1:S80)","v":{"$error":"#N/A"}}]
[null,{"$f":"'Sheet3 (3)'!I81","v":{"$error":"#N/A"}},{"$f":"'Sheet3 (3)'!K81","v":{"$error":"#N/A"}},{"$f":"CORREL($B$1:B81,$C$1:C81)","v":{"$error":"#N/A"}},{"$f":"'Sheet3 (3)'!M81","v":{"$error":"#N/A"}},{"$f":"CORREL($B$1:B81,$E$1:E81)","v":{"$error":"#N/A"}},{"$f":"'Sheet3 (3)'!O81","v":{"$error":"#N/A"}},{"$f":"CORREL($B$1:B81,$G$1:G81)","v":{"$error":"#N/A"}},{"$f":"'Sheet3 (3)'!Q81","v":{"$error":"#N/A"}},{"$f":"CORREL($B$1:B81,$I$1:I81)","v":{"$error":"#N/A"}},{"$f":"'Sheet3 (3)'!S81","v":{"$error":"#N/A"}},{"$f":"CORREL($B$1:B81,$K$1:K81)","v":{"$error":"#N/A"}},{"$f":"'Sheet3 (3)'!U81","v":{"$error":"#N/A"}},{"$f":"CORREL($B$1:B81,$M$1:M81)","v":{"$error":"#N/A"}},{"$f":"'Sheet3 (3)'!W81","v":{"$error":"#N/A"}},{"$f":"CORREL($B$1:B81,$O$1:O81)","v":{"$error":"#N/A"}},{"$f":"'Sheet3 (3)'!Y81","v":{"$error":"#N/A"}},{"$f":"CORREL($B$1:B81,$Q$1:Q81)","v":{"$error":"#N/A"}},{"$f":"'Sheet3 (3)'!AA81","v":{"$error":"#N/A"}},{"$f":"CORREL($B$1:B81,$S$1:S81)","v":{"$error":"#N/A"}}]
[null,null,null,{"$f":"'Sheet3 (3)'!C2","v":"2018-06-15"},null,{"$f":"'Sheet3 (3)'!C3","v":"2018-06-14"},null,{"$f":"'Sheet3 (3)'!C4","v":"2018-06-13"},null,{"$f":"'Sheet3 (3)'!C5","v":"2018-06-12"},null,{"$f":"'Sheet3 (3)'!C6","v":"2018-06-11"},null,{"$f":"'Sheet3 (3)'!C7","v":"2018-06-08"},null,{"$f":"'Sheet3 (3)'!C8","v":"2018-06-07"},null,{"$f":"'Sheet3 (3)'!C9","v":"2018-06-06"},null,{"$f":"'Sheet3 (3)'!C10","v":"2018-06-05"}]
[null,null,null,{"$f":"LOOKUP(2,1/(ISNUMBER(D1:D81)),D1:D81)","v":1.7853347905983981E-2},null,{"$f":"LOOKUP(2,1/(ISNUMBER(F1:F81)),F1:F81)","v":-0.98368427954993187},null,{"$f":"LOOKUP(2,1/(ISNUMBER(H1:H81)),H1:H81)","v":0.26015295118647547},null,{"$f":"LOOKUP(2,1/(ISNUMBER(J1:J81)),J1:J81)","v":0.99900253497474112},null,{"$f":"LOOKUP(2,1/(ISNUMBER(L1:L81)),L1:L81)","v":0.11954644243932853},null,{"$f":"LOOKUP(2,1/(ISNUMBER(N1:N81)),N1:N81)","v":0.26015295118647547},null,{"$f":"LOOKUP(2,1/(ISNUMBER(P1:P81)),P1:P81)","v":-0.26015295118647547},null,{"$f":"LOOKUP(2,1/(ISNUMBER(R1:R81)),R1:R81)","v":0.93520699549509445},null,{"$f":"LOOKUP(2,1/(ISNUMBER(T1:T81)),T1:T81)","v":0.70612943893483182}]
[]
[null,null,{"$f":"RANK(D85,$D$85:$D$93,0)+COUNTIF($D$85:D85,D85)-1","v":7},{"$f":"D83","v":1.7853347905983981E-2},{"$f":"D82","v":"2018-06-15"},{"$f":"RANK(D85,$D$85:$D$93,0)+COUNTIF($D$85:D85,D85)-1","v":7},{"$f":"VLOOKUP(1,C85:E93,3,FALSE)","v":"2018-06-12"},{"$f":"VLOOKUP(1,C85:E93,2,FALSE)","v":0.99900253497474112},{"$f":"IFERROR(VLOOKUP(G85,'Sheet3 (3)'!AK1:AN10,4,FALSE),1)","v":4}]
[null,null,{"$f":"RANK(D86,$D$85:$D$93,0)+COUNTIF($D$85:D86,D86)-1","v":9},{"$f":"F83","v":-0.98368427954993187},{"$f":"F82","v":"2018-06-14"},{"$f":"RANK(D86,$D$85:$D$93,0)+COUNTIF($D$85:D86,D86)-1","v":9},{"$f":"VLOOKUP(2,C85:E93,3,FALSE)","v":"2018-06-06"},{"$f":"VLOOKUP(2,C85:E93,2,FALSE)","v":0.93520699549509445}]
[null,null,{"$f":"RANK(D87,$D$85:$D$93,0)+COUNTIF($D$85:D87,D87)-1","v":4},{"$f":"H83","v":0.26015295118647547},{"$f":"H82","v":"2018-06-13"},{"$f":"RANK(D87,$D$85:$D$93,0)+COUNTIF($D$85:D87,D87)-1","v":4},{"$f":"VLOOKUP(3,C85:E93,3,FALSE)","v":"2018-06-05"},{"$f":"VLOOKUP(3,C85:E93,2,FALSE)","v":0.70612943893483182}]
[null,null,{"$f":"RANK(D88,$D$85:$D$93,0)+COUNTIF($D$85:D88,D88)-1","v":1},{"$f":"J83","v":0.99900253497474112},{"$f":"J82","v":"2018-06-12"},{"$f":"RANK(D88,$D$85:$D$93,0)+COUNTIF($D$85:D88,D88)-1","v":1},{"$f":"VLOOKUP(4,C85:E93,3,FALSE)","v":"2018-06-13"},{"$f":"VLOOKUP(4,C85:E93,2,FALSE)","v":0.26015295118647547}]
[null,null,{"$f":"RANK(D89,$D$85:$D$93,0)+COUNTIF($D$85:D89,D89)-1","v":6},{"$f":"L83","v":0.11954644243932853},{"$f":"L82","v":"2018-06-11"},{"$f":"RANK(D89,$D$85:$D$93,0)+COUNTIF($D$85:D89,D89)-1","v":6},{"$f":"VLOOKUP(5,C85:E93,3,FALSE)","v":"2018-06-08"},{"$f":"VLOOKUP(5,C85:E93,2,FALSE)","v":0.26015295118647547}]
[null,null,{"$f":"RANK(D90,$D$85:$D$93,0)+COUNTIF($D$85:D90,D90)-1","v":5},{"$f":"N83","v":0.26015295118647547},{"$f":"N82","v":"2018-06-08"},{"$f":"RANK(D90,$D$85:$D$93,0)+COUNTIF($D$85:D90,D90)-1","v":5},{"$f":"VLOOKUP(6,C85:E93,3,FALSE)","v":"2018-06-11"},{"$f":"VLOOKUP(6,C85:E93,2,FALSE)","v":0.11954644243932853}]
[null,null,{"$f":"RANK(D91,$D$85:$D$93,0)+COUNTIF($D$85:D91,D91)-1","v":8},{"$f":"P83","v":-0.26015295118647547},{"$f":"P82","v":"2018-06-07"},{"$f":"RANK(D91,$D$85:$D$93,0)+COUNTIF($D$85:D91,D91)-1","v":8},{"$f":"VLOOKUP(7,C85:E93,3,FALSE)","v":"2018-06-15"},{"$f":"VLOOKUP(7,C85:E93,2,FALSE)","v":1.7853347905983981E-2}]
[null,null,{"$f":"RANK(D92,$D$85:$D$93,0)+COUNTIF($D$85:D92,D92)-1","v":2},{"$f":"R83","v":0.93520699549509445},{"$f":"R82","v":"2018-06-06"},{"$f":"RANK(D92,$D$85:$D$93,0)+COUNTIF($D$85:D92,D92)-1","v":2},{"$f":"VLOOKUP(8,C85:E93,3,FALSE)","v":"2018-06-07"},{"$f":"VLOOKUP(8,C85:E93,2,FALSE)","v":-0.26015295118647547}]
[null,null,{"$f":"RANK(D93,$D$85:$D$93,0)+COUNTIF($D$85:D93,D93)-1","v":3},{"$f":"T83","v":0.70612943893483182},{"$f":"T82","v":"2018-06-05"},{"$f":"RANK(D93,$D$85:$D$93,0)+COUNTIF($D$85:D93,D93)-1","v":3},{"$f":"VLOOKUP(9,C85:E93,3,FALSE)","v":"2018-06-14"},{"$f":"VLOOKUP(9,C85:E93,2,FALSE)","v":-0.98368427954993187}]

{"sheet":"Sheet3 (4)","index":7,"n_rows":81,"n_cols":40,"rows_kept":81,"cut":false,"hidden":true,"merged":[]}
[0,"08:30:00",{"$f":"IF(WEEKDAY(TODAY())=7,TODAY()-1,IF(WEEKDAY(TODAY())=1,TODAY()-2,TODAY()))","v":"2018-06-18"},{"$f":"YEAR(C1)","v":2018},{"$f":"MONTH(C1)","v":6},{"$f":"DAY(C1)","v":18},null,{"$f":"RTD(\"cqg.rtd\",,\"StudyData\", \"Close(\"&$D$12&\") when LocalYear(\"&$D$12&\")=\"&$D$1&\" and localMonth(\"&$D$12&\") =\"&$E$1&\" and LocalDay(\"&$D$12&\")=\"&$F$1&\" and Barix(\"&$D$12&\",reference:=StartOfSession)=\"&A1&\"\", \"Bar\", \"\", \"Close\",\"5\",\"0\",\"PrimaryOnly\",,,\"False\",\"T\",\"EveryTick\")","v":388.02},{"$f":"IFERROR((H1-$G$2)/$G$2,NA())","v":-1.0102556252870137E-2},{"$f":"RTD(\"cqg.rtd\",,\"StudyData\", \"Close(\"&$D$12&\") when LocalYear(\"&$D$12&\")=\"&$D$2&\" and localMonth(\"&$D$12&\") =\"&$E$2&\" and LocalDay(\"&$D$12&\")=\"&$F$2&\" and Barix(\"&$D$12&\",reference:=StartOfSession)=\"&A1&\"\", \"Bar\", \"\", \"Close\",\"5\",\"0\",\"PrimaryOnly\",,,\"False\",\"T\",\"EveryTick\")","v":389.48},{"$f":"IFERROR((J1-$G$3)/$G$3,NA())","v":-8.6288085117213996E-3},{"$f":"RTD(\"cqg.rtd\",,\"StudyData\", \"Close(\"&$D$12&\") when LocalYear(\"&$D$12&\")=\"&$D$3&\" and localMonth(\"&$D$12&\") =\"&$E$3&\" and LocalDay(\"&$D$12&\")=\"&$F$3&\" and Barix(\"&$D$12&\",reference:=StartOfSession)=\"&A1&\"\", \"Bar\", \"\", \"Close\",\"5\",\"0\",\"PrimaryOnly\",,,\"False\",\"T\",\"EveryTick\")","v":386.63},{"$f":"IFERROR((L1-$G$4)/$G$4,NA())","v":1.76348274682178E-2},{"$f":"RTD(\"cqg.rtd\",,\"StudyData\", \"Close(\"&$D$12&\") when LocalYear(\"&$D$12&\")=\"&$D$4&\" and localMonth(\"&$D$12&\") =\"&$E$4&\" and LocalDay(\"&$D$12&\")=\"&$F$4&\" and Barix(\"&$D$12&\",reference:=StartOfSession)=\"&A1&\"\", \"Bar\", \"\", \"Close\",\"5\",\"0\",\"PrimaryOnly\",,,\"False\",\"T\",\"EveryTick\")","v":367.41},{"$f":"IFERROR((N1-$G$5)/$G$5,NA())","v":9.8397603276256518E-3},{"$f":"RTD(\"cqg.rtd\",,\"StudyData\", \"Close(\"&$D$12&\") when LocalYear(\"&$D$12&\")=\"&$D$5&\" and localMonth(\"&$D$12&\") =\"&$E$5&\" and LocalDay(\"&$D$12&\")=\"&$F$5&\" and Barix(\"&$D$12&\",reference:=StartOfSession)=\"&A1&\"\", \"Bar\", \"\", \"Close\",\"5\",\"0\",\"PrimaryOnly\",,,\"False\",\"T\",\"EveryTick\")","v":364.51},{"$f":"IFERROR((P1-$G$6)/$G$6,NA())","v":8.4659012311523105E-3},{"$f":"RTD(\"cqg.rtd\",,\"StudyData\", \"Close(\"&$D$12&\") when LocalYear(\"&$D$12&\")=\"&$D$6&\" and localMonth(\"&$D$12&\") =\"&$E$6&\" and LocalDay(\"&$D$12&\")=\"&$F$6&\" and Barix(\"&$D$12&\",reference:=StartOfSession)=\"&A1&\"\", \"Bar\", \"\", \"Close\",\"5\",\"0\",\"PrimaryOnly\",,,\"False\",\"T\",\"EveryTick\")","v":363.93},{"$f":"IFERROR((R1-$G$7)/$G$7,NA())","v":9.3185789167152394E-3},{"$f":"RTD(\"cqg.rtd\",,\"StudyData\", \"Close(\"&$D$12&\") when LocalYear(\"&$D$12&\")=\"&$D$7&\" and localMonth(\"&$D$12&\") =\"&$E$7&\" and LocalDay(\"&$D$12&\")=\"&$F$7&\" and Barix(\"&$D$12&\",reference:=StartOfSession)=\"&A1&\"\", \"Bar\", \"\", \"Close\",\"5\",\"0\",\"PrimaryOnly\",,,\"False\",\"T\",\"EveryTick\")","v":356.68},{"$f":"IFERROR((T1-$G$8)/$G$8,NA())","v":-1.3060320973989958E-2},{"$f":"RTD(\"cqg.rtd\",,\"StudyData\", \"Close(\"&$D$12&\") when LocalYear(\"&$D$12&\")=\"&$D$8&\" and localMonth(\"&$D$12&\") =\"&$E$8&\" and LocalDay(\"&$D$12&\")=\"&$F$8&\" and Barix(\"&$D$12&\",reference:=StartOfSession)=\"&A1&\"\", \"Bar\", \"\", \"Close\",\"5\",\"0\",\"PrimaryOnly\",,,\"False\",\"T\",\"EveryTick\")","v":365.45},{"$f":"IFERROR((V1-$G$9)/$G$9,NA())","v":-5.4429174037283982E-3},{"$f":"RTD(\"cqg.rtd\",,\"StudyData\", \"Close(\"&$D$12&\") when LocalYear(\"&$D$12&\")=\"&$D$9&\" and localMonth(\"&$D$12&\") =\"&$E$9&\" and LocalDay(\"&$D$12&\")=\"&$F$9&\" and Barix(\"&$D$12&\",reference:=StartOfSession)=\"&A1&\"\", \"Bar\", \"\", \"Close\",\"5\",\"0\",\"PrimaryOnly\",,,\"False\",\"T\",\"EveryTick\")","v":368.65},{"$f":"IFERROR((X1-$G$10)/$G$10,NA())","v":7.7911427009293762E-3},{"$f":"RTD(\"cqg.rtd\",,\"StudyData\", \"Close(\"&$D$12&\") when LocalYear(\"&$D$12&\")=\"&$D$10&\" and localMonth(\"&$D$12&\") =\"&$E$10&\" and LocalDay(\"&$D$12&\")=\"&$F$10&\" and Barix(\"&$D$12&\",reference:=StartOfSession)=\"&A1&\"\", \"Bar\", \"\", \"Close\",\"5\",\"0\",\"PrimaryOnly\",,,\"False\",\"T\",\"EveryTick\")","v":361.95},{"$f":"IFERROR((Z1-$G$11)/$G$11,NA())","v":3.8694342334370623E-4},{"$f":"RANK(AD1,$AD$1:$AD$10)+COUNTIF($AD$1:AD1,AD1)-1","v":7},{"$f":"DATE(D1,E1,F1)","v":"2018-06-18"},{"$f":"VLOOKUP(MAX(AE2:AE81),A1:I81,9,FALSE)","v":-1.479667329965919E-3},null,1,{"$f":"VLOOKUP(AF1,$AB$1:$AD$10,2,FALSE)","v":"2018-06-13"},{"$f":"VLOOKUP(AF1,$AB$1:$AD$10,3,FALSE)","v":1.9542093835032883E-2},null,null,{"$f":"AG1","v":"2018-06-13"},{"$f":"AC1","v":"2018-06-18"},0,{"$f":"VLOOKUP(AK1,$AL$1:$AM$10,2,FALSE)","v":3}]
[{"$f":"A1+1","v":1},"08:35:00",{"$f":"WORKDAY(C1,-G27)","v":"2018-06-15"},{"$f":"YEAR(C2)","v":2018},{"$f":"MONTH(C2)","v":6},{"$f":"DAY(C2)","v":15},{"$f":"RTD(\"cqg.rtd\",,\"StudyData\",$D$12,\"Bar\",,\"Close\",\"D\",\"-1\",,,,,\"T\")","v":391.98},{"$f":"RTD(\"cqg.rtd\",,\"StudyData\", \"Close(\"&$D$12&\") when LocalYear(\"&$D$12&\")=\"&$D$1&\" and localMonth(\"&$D$12&\") =\"&$E$1&\" and LocalDay(\"&$D$12&\")=\"&$F$1&\" and Barix(\"&$D$12&\",reference:=StartOfSession)=\"&A2&\"\", \"Bar\", \"\", \"Close\",\"5\",\"0\",\"PrimaryOnly\",,,\"False\",\"T\",\"EveryTick\")","v":389.54},{"$f":"IFERROR((H2-$G$2)/$G$2,NA())","v":-6.2248073881320419E-3},{"$f":"RTD(\"cqg.rtd\",,\"StudyData\", \"Close(\"&$D$12&\") when LocalYear(\"&$D$12&\")=\"&$D$2&\" and localMonth(\"&$D$12&\") =\"&$E$2&\" and LocalDay(\"&$D$12&\")=\"&$F$2&\" and Barix(\"&$D$12&\",reference:=StartOfSession)=\"&A2&\"\", \"Bar\", \"\", \"Close\",\"5\",\"0\",\"PrimaryOnly\",,,\"False\",\"T\",\"EveryTick\")","v":390.12},{"$f":"IFERROR((J2-$G$3)/$G$3,NA())","v":-6.9997709165881845E-3},{"$f":"RTD(\"cqg.rtd\",,\"StudyData\", \"Close(\"&$D$12&\") when LocalYear(\"&$D$12&\")=\"&$D$3&\" and localMonth(\"&$D$12&\") =\"&$E$3&\" and LocalDay(\"&$D$12&\")=\"&$F$3&\" and Barix(\"&$D$12&\",reference:=StartOfSession)=\"&A2&\"\", \"Bar\", \"\", \"Close\",\"5\",\"0\",\"PrimaryOnly\",,,\"False\",\"T\",\"EveryTick\")","v":386.99},{"$f":"IFERROR((L2-$G$4)/$G$4,NA())","v":1.858237043665939E-2},{"$f":"RTD(\"cqg.rtd\",,\"StudyData\", \"Close(\"&$D$12&\") when LocalYear(\"&$D$12&\")=\"&$D$4&\" and localMonth(\"&$D$12&\") =\"&$E$4&\" and LocalDay(\"&$D$12&\")=\"&$F$4&\" and Barix(\"&$D$12&\",reference:=StartOfSession)=\"&A2&\"\", \"Bar\", \"\", \"Close\",\"5\",\"0\",\"PrimaryOnly\",,,\"False\",\"T\",\"EveryTick\")","v":369.82},{"$f":"IFERROR((N2-$G$5)/$G$5,NA())","v":1.6463733062144433E-2},{"$f":"RTD(\"cqg.rtd\",,\"StudyData\", \"Close(\"&$D$12&\") when LocalYear(\"&$D$12&\")=\"&$D$5&\" and localMonth(\"&$D$12&\") =\"&$E$5&\" and LocalDay(\"&$D$12&\")=\"&$F$5&\" and Barix(\"&$D$12&\",reference:=StartOfSession)=\"&A2&\"\", \"Bar\", \"\", \"Close\",\"5\",\"0\",\"PrimaryOnly\",,,\"False\",\"T\",\"EveryTick\")","v":365.14},{"$f":"IFERROR((P2-$G$6)/$G$6,NA())","v":1.0208880896389536E-2},{"$f":"RTD(\"cqg.rtd\",,\"StudyData\", \"Close(\"&$D$12&\") when LocalYear(\"&$D$12&\")=\"&$D$6&\" and localMonth(\"&$D$12&\") =\"&$E$6&\" and LocalDay(\"&$D$12&\")=\"&$F$6&\" and Barix(\"&$D$12&\",reference:=StartOfSession)=\"&A2&\"\", \"Bar\", \"\", \"Close\",\"5\",\"0\",\"PrimaryOnly\",,,\"False\",\"T\",\"EveryTick\")","v":365.14},{"$f":"IFERROR((R2-$G$7)/$G$7,NA())","v":1.2674376681365597E-2},{"$f":"RTD(\"cqg.rtd\",,\"StudyData\", \"Close(\"&$D$12&\") when LocalYear(\"&$D$12&\")=\"&$D$7&\" and localMonth(\"&$D$12&\") =\"&$E$7&\" and LocalDay(\"&$D$12&\")=\"&$F$7&\" and Barix(\"&$D$12&\",reference:=StartOfSession)=\"&A2&\"\", \"Bar\", \"\", \"Close\",\"5\",\"0\",\"PrimaryOnly\",,,\"False\",\"T\",\"EveryTick\")","v":359.24},{"$f":"IFERROR((T2-$G$8)/$G$8,NA())","v":-5.9767570558936587E-3},{"$f":"RTD(\"cqg.rtd\",,\"StudyData\", \"Close(\"&$D$12&\") when LocalYear(\"&$D$12&\")=\"&$D$8&\" and localMonth(\"&$D$12&\") =\"&$E$8&\" and LocalDay(\"&$D$12&\")=\"&$F$8&\" and Barix(\"&$D$12&\",reference:=StartOfSession)=\"&A2&\"\", \"Bar\", \"\", \"Close\",\"5\",\"0\",\"PrimaryOnly\",,,\"False\",\"T\",\"EveryTick\")","v":365.82},{"$f":"IFERROR((V2-$G$9)/$G$9,NA())","v":-4.4359776840386328E-3},{"$f":"RTD(\"cqg.rtd\",,\"StudyData\", \"Close(\"&$D$12&\") when LocalYear(\"&$D$12&\")=\"&$D$9&\" and localMonth(\"&$D$12&\") =\"&$E$9&\" and LocalDay(\"&$D$12&\")=\"&$F$9&\" and Barix(\"&$D$12&\",reference:=StartOfSession)=\"&A2&\"\", \"Bar\", \"\", \"Close\",\"5\",\"0\",\"PrimaryOnly\",,,\"False\",\"T\",\"EveryTick\")","v":368.77},{"$f":"IFERROR((X2-$G$10)/$G$10,NA())","v":8.1191908146527342E-3},{"$f":"RTD(\"cqg.rtd\",,\"StudyData\", \"Close(\"&$D$12&\") when LocalYear(\"&$D$12&\")=\"&$D$10&\" and localMonth(\"&$D$12&\") =\"&$E$10&\" and LocalDay(\"&$D$12&\")=\"&$F$10&\" and Barix(\"&$D$12&\",reference:=StartOfSession)=\"&A2&\"\", \"Bar\", \"\", \"Close\",\"5\",\"0\",\"PrimaryOnly\",,,\"False\",\"T\",\"EveryTick\")","v":363.04},{"$f":"IFERROR((Z2-$G$11)/$G$11,NA())","v":3.3995743622343721E-3},{"$f":"RANK(AD2,$AD$1:$AD$10)+COUNTIF($AD$1:AD2,AD2)-1","v":10},{"$f":"DATE(D2,E2,F2)","v":"2018-06-15"},{"$f":"VLOOKUP(MAX(AE2:AE81),A1:K81,11,FALSE)","v":-8.2724565377860354E-3},{"$f":"IF(AND(H1<>\"\",H2<>\"\",H3=\"\"),A2,\"\")","v":""},2,{"$f":"VLOOKUP(AF2,$AB$1:$AD$10,2,FALSE)","v":"2018-06-14"},{"$f":"VLOOKUP(AF2,$AB$1:$AD$10,3,FALSE)","v":1.6213513015555413E-2},null,null,{"$f":"AG2","v":"2018-06-14"},{"$f":"AC2","v":"2018-06-15"},1,{"$f":"VLOOKUP(AK2,$AL$1:$AM$10,2,FALSE)","v":2}]
[{"$f":"A2+1","v":2},"08:40:00",{"$f":"WORKDAY(C2,-G28)","v":"2018-06-14"},2018,6,14,{"$f":"RTD(\"cqg.rtd\",,\"StudyData\",$D$12,\"Bar\",,\"Close\",\"D\",\"-2\",,,,,\"T\")","v":392.87},{"$f":"RTD(\"cqg.rtd\",,\"StudyData\", \"Close(\"&$D$12&\") when LocalYear(\"&$D$12&\")=\"&$D$1&\" and localMonth(\"&$D$12&\") =\"&$E$1&\" and LocalDay(\"&$D$12&\")=\"&$F$1&\" and Barix(\"&$D$12&\",reference:=StartOfSession)=\"&A3&\"\", \"Bar\", \"\", \"Close\",\"5\",\"0\",\"PrimaryOnly\",,,\"False\",\"T\",\"EveryTick\")","v":391.4},{"$f":"IFERROR((H3-$G$2)/$G$2,NA())","v":-1.479667329965919E-3},{"$f":"RTD(\"cqg.rtd\",,\"StudyData\", \"Close(\"&$D$12&\") when LocalYear(\"&$D$12&\")=\"&$D$2&\" and localMonth(\"&$D$12&\") =\"&$E$2&\" and LocalDay(\"&$D$12&\")=\"&$F$2&\" and Barix(\"&$D$12&\",reference:=StartOfSession)=\"&A3&\"\", \"Bar\", \"\", \"Close\",\"5\",\"0\",\"PrimaryOnly\",,,\"False\",\"T\",\"EveryTick\")","v":389.62},-8.2724565377860354E-3,{"$f":"RTD(\"cqg.rtd\",,\"StudyData\", \"Close(\"&$D$12&\") when LocalYear(\"&$D$12&\")=\"&$D$3&\" and localMonth(\"&$D$12&\") =\"&$E$3&\" and LocalDay(\"&$D$12&\")=\"&$F$3&\" and Barix(\"&$D$12&\",reference:=StartOfSession)=\"&A3&\"\", \"Bar\", \"\", \"Close\",\"5\",\"0\",\"PrimaryOnly\",,,\"False\",\"T\",\"EveryTick\")","v":386.09},1.6213513015555413E-2,{"$f":"RTD(\"cqg.rtd\",,\"StudyData\", \"Close(\"&$D$12&\") when LocalYear(\"&$D$12&\")=\"&$D$4&\" and localMonth(\"&$D$12&\") =\"&$E$4&\" and LocalDay(\"&$D$12&\")=\"&$F$4&\" and Barix(\"&$D$12&\",reference:=StartOfSession)=\"&A3&\"\", \"Bar\", \"\", \"Close\",\"5\",\"0\",\"PrimaryOnly\",,,\"False\",\"T\",\"EveryTick\")","v":370.94},1.9542093835032883E-2,{"$f":"RTD(\"cqg.rtd\",,\"StudyData\", \"Close(\"&$D$12&\") when LocalYear(\"&$D$12&\")=\"&$D$5&\" and localMonth(\"&$D$12&\") =\"&$E$5&\" and LocalDay(\"&$D$12&\")=\"&$F$5&\" and Barix(\"&$D$12&\",reference:=StartOfSession)=\"&A3&\"\", \"Bar\", \"\", \"Close\",\"5\",\"0\",\"PrimaryOnly\",,,\"False\",\"T\",\"EveryTick\")","v":364.76},9.1575598284686748E-3,{"$f":"RTD(\"cqg.rtd\",,\"StudyData\", \"Close(\"&$D$12&\") when LocalYear(\"&$D$12&\")=\"&$D$6&\" and localMonth(\"&$D$12&\") =\"&$E$6&\" and LocalDay(\"&$D$12&\")=\"&$F$6&\" and Barix(\"&$D$12&\",reference:=StartOfSession)=\"&A3&\"\", \"Bar\", \"\", \"Close\",\"5\",\"0\",\"PrimaryOnly\",,,\"False\",\"T\",\"EveryTick\")","v":365.28},1.306265080289536E-2,{"$f":"RTD(\"cqg.rtd\",,\"StudyData\", \"Close(\"&$D$12&\") when LocalYear(\"&$D$12&\")=\"&$D$7&\" and localMonth(\"&$D$12&\") =\"&$E$7&\" and LocalDay(\"&$D$12&\")=\"&$F$7&\" and Barix(\"&$D$12&\",reference:=StartOfSession)=\"&A3&\"\", \"Bar\", \"\", \"Close\",\"5\",\"0\",\"PrimaryOnly\",,,\"False\",\"T\",\"EveryTick\")","v":358.94},-6.8068622025455995E-3,{"$f":"RTD(\"cqg.rtd\",,\"StudyData\", \"Close(\"&$D$12&\") when LocalYear(\"&$D$12&\")=\"&$D$8&\" and localMonth(\"&$D$12&\") =\"&$E$8&\" and LocalDay(\"&$D$12&\")=\"&$F$8&\" and Barix(\"&$D$12&\",reference:=StartOfSession)=\"&A3&\"\", \"Bar\", \"\", \"Close\",\"5\",\"0\",\"PrimaryOnly\",,,\"False\",\"T\",\"EveryTick\")","v":365.74},-4.6536943801877249E-3,{"$f":"RTD(\"cqg.rtd\",,\"StudyData\", \"Close(\"&$D$12&\") when LocalYear(\"&$D$12&\")=\"&$D$9&\" and localMonth(\"&$D$12&\") =\"&$E$9&\" and LocalDay(\"&$D$12&\")=\"&$F$9&\" and Barix(\"&$D$12&\",reference:=StartOfSession)=\"&A3&\"\", \"Bar\", \"\", \"Close\",\"5\",\"0\",\"PrimaryOnly\",,,\"False\",\"T\",\"EveryTick\")","v":368.21},6.5882996172771137E-3,{"$f":"RTD(\"cqg.rtd\",,\"StudyData\", \"Close(\"&$D$12&\") when LocalYear(\"&$D$12&\")=\"&$D$10&\" and localMonth(\"&$D$12&\") =\"&$E$10&\" and LocalDay(\"&$D$12&\")=\"&$F$10&\" and Barix(\"&$D$12&\",reference:=StartOfSession)=\"&A3&\"\", \"Bar\", \"\", \"Close\",\"5\",\"0\",\"PrimaryOnly\",,,\"False\",\"T\",\"EveryTick\")","v":364.73},8.0705342583124173E-3,{"$f":"RANK(AD3,$AD$1:$AD$10)+COUNTIF($AD$1:AD3,AD3)-1","v":2},"2018-06-14",{"$f":"VLOOKUP(MAX(AE2:AE81),A1:M81,13,FALSE)","v":1.6213513015555413E-2},{"$f":"IF(AND(H2<>\"\",H3<>\"\",H4=\"\"),A3,\"\")","v":2},3,"2018-06-11",1.306265080289536E-2,null,null,"2018-06-11","2018-06-14",2,5]
[3,"08:45:00","2018-06-13",2018,6,13,{"$f":"RTD(\"cqg.rtd\",,\"StudyData\",$D$12,\"Bar\",,\"Close\",\"D\",\"-3\",,,,,\"T\")","v":379.93},{"$f":"RTD(\"cqg.rtd\",,\"StudyData\", \"Close(\"&$D$12&\") when LocalYear(\"&$D$12&\")=\"&$D$1&\" and localMonth(\"&$D$12&\") =\"&$E$1&\" and LocalDay(\"&$D$12&\")=\"&$F$1&\" and Barix(\"&$D$12&\",reference:=StartOfSession)=\"&A4&\"\", \"Bar\", \"\", \"Close\",\"5\",\"0\",\"PrimaryOnly\",,,\"False\",\"T\",\"EveryTick\")","v":""},{"$error":"#N/A"},{"$f":"RTD(\"cqg.rtd\",,\"StudyData\", \"Close(\"&$D$12&\") when LocalYear(\"&$D$12&\")=\"&$D$2&\" and localMonth(\"&$D$12&\") =\"&$E$2&\" and LocalDay(\"&$D$12&\")=\"&$F$2&\" and Barix(\"&$D$12&\",reference:=StartOfSession)=\"&A4&\"\", \"Bar\", \"\", \"Close\",\"5\",\"0\",\"PrimaryOnly\",,,\"False\",\"T\",\"EveryTick\")","v":392.46},-1.0436022093823021E-3,{"$f":"RTD(\"cqg.rtd\",,\"StudyData\", \"Close(\"&$D$12&\") when LocalYear(\"&$D$12&\")=\"&$D$3&\" and localMonth(\"&$D$12&\") =\"&$E$3&\" and LocalDay(\"&$D$12&\")=\"&$F$3&\" and Barix(\"&$D$12&\",reference:=StartOfSession)=\"&A4&\"\", \"Bar\", \"\", \"Close\",\"5\",\"0\",\"PrimaryOnly\",,,\"False\",\"T\",\"EveryTick\")","v":384.24},1.13441949832864E-2,{"$f":"RTD(\"cqg.rtd\",,\"StudyData\", \"Close(\"&$D$12&\") when LocalYear(\"&$D$12&\")=\"&$D$4&\" and localMonth(\"&$D$12&\") =\"&$E$4&\" and LocalDay(\"&$D$12&\")=\"&$F$4&\" and Barix(\"&$D$12&\",reference:=StartOfSession)=\"&A4&\"\", \"Bar\", \"\", \"Close\",\"5\",\"0\",\"PrimaryOnly\",,,\"False\",\"T\",\"EveryTick\")","v":372.76},2.4544430090976576E-2,{"$f":"RTD(\"cqg.rtd\",,\"StudyData\", \"Close(\"&$D$12&\") when LocalYear(\"&$D$12&\")=\"&$D$5&\" and localMonth(\"&$D$12&\") =\"&$E$5&\" and LocalDay(\"&$D$12&\")=\"&$F$5&\" and Barix(\"&$D$12&\",reference:=StartOfSession)=\"&A4&\"\", \"Bar\", \"\", \"Close\",\"5\",\"0\",\"PrimaryOnly\",,,\"False\",\"T\",\"EveryTick\")","v":364.47},8.355235855581792E-3,{"$f":"RTD(\"cqg.rtd\",,\"StudyData\", \"Close(\"&$D$12&\") when LocalYear(\"&$D$12&\")=\"&$D$6&\" and localMonth(\"&$D$12&\") =\"&$E$6&\" and LocalDay(\"&$D$12&\")=\"&$F$6&\" and Barix(\"&$D$12&\",reference:=StartOfSession)=\"&A4&\"\", \"Bar\", \"\", \"Close\",\"5\",\"0\",\"PrimaryOnly\",,,\"False\",\"T\",\"EveryTick\")","v":364.26},1.0233796488892581E-2,{"$f":"RTD(\"cqg.rtd\",,\"StudyData\", \"Close(\"&$D$12&\") when LocalYear(\"&$D$12&\")=\"&$D$7&\" and localMonth(\"&$D$12&\") =\"&$E$7&\" and LocalDay(\"&$D$12&\")=\"&$F$7&\" and Barix(\"&$D$12&\",reference:=StartOfSession)=\"&A4&\"\", \"Bar\", \"\", \"Close\",\"5\",\"0\",\"PrimaryOnly\",,,\"False\",\"T\",\"EveryTick\")","v":360.44},-2.6563364692860532E-3,{"$f":"RTD(\"cqg.rtd\",,\"StudyData\", \"Close(\"&$D$12&\") when LocalYear(\"&$D$12&\")=\"&$D$8&\" and localMonth(\"&$D$12&\") =\"&$E$8&\" and LocalDay(\"&$D$12&\")=\"&$F$8&\" and Barix(\"&$D$12&\",reference:=StartOfSession)=\"&A4&\"\", \"Bar\", \"\", \"Close\",\"5\",\"0\",\"PrimaryOnly\",,,\"False\",\"T\",\"EveryTick\")","v":365.12},-6.3409987753435407E-3,{"$f":"RTD(\"cqg.rtd\",,\"StudyData\", \"Close(\"&$D$12&\") when LocalYear(\"&$D$12&\")=\"&$D$9&\" and localMonth(\"&$D$12&\") =\"&$E$9&\" and LocalDay(\"&$D$12&\")=\"&$F$9&\" and Barix(\"&$D$12&\",reference:=StartOfSession)=\"&A4&\"\", \"Bar\", \"\", \"Close\",\"5\",\"0\",\"PrimaryOnly\",,,\"False\",\"T\",\"EveryTick\")","v":367.34},4.2099507927828416E-3,{"$f":"RTD(\"cqg.rtd\",,\"StudyData\", \"Close(\"&$D$12&\") when LocalYear(\"&$D$12&\")=\"&$D$10&\" and localMonth(\"&$D$12&\") =\"&$E$10&\" and LocalDay(\"&$D$12&\")=\"&$F$10&\" and Barix(\"&$D$12&\",reference:=StartOfSession)=\"&A4&\"\", \"Bar\", \"\", \"Close\",\"5\",\"0\",\"PrimaryOnly\",,,\"False\",\"T\",\"EveryTick\")","v":366.06},1.1746496780077942E-2,{"$f":"RANK(AD4,$AD$1:$AD$10)+COUNTIF($AD$1:AD4,AD4)-1","v":1},"2018-06-13",{"$f":"VLOOKUP(MAX(AE2:AE81),A1:O81,15,FALSE)","v":1.9542093835032883E-2},"",4,"2018-06-12",9.1575598284686748E-3,null,null,"2018-06-12","2018-06-13",3,4]
[4,"08:50:00","2018-06-12",2018,6,12,{"$f":"RTD(\"cqg.rtd\",,\"StudyData\",$D$12,\"Bar\",,\"Close\",\"D\",\"-4\",,,,,\"T\")","v":363.83},{"$f":"RTD(\"cqg.rtd\",,\"StudyData\", \"Close(\"&$D$12&\") when LocalYear(\"&$D$12&\")=\"&$D$1&\" and localMonth(\"&$D$12&\") =\"&$E$1&\" and LocalDay(\"&$D$12&\")=\"&$F$1&\" and Barix(\"&$D$12&\",reference:=StartOfSession)=\"&A5&\"\", \"Bar\", \"\", \"Close\",\"5\",\"0\",\"PrimaryOnly\",,,\"False\",\"T\",\"EveryTick\")","v":""},{"$error":"#N/A"},{"$f":"RTD(\"cqg.rtd\",,\"StudyData\", \"Close(\"&$D$12&\") when LocalYear(\"&$D$12&\")=\"&$D$2&\" and localMonth(\"&$D$12&\") =\"&$E$2&\" and LocalDay(\"&$D$12&\")=\"&$F$2&\" and Barix(\"&$D$12&\",reference:=StartOfSession)=\"&A5&\"\", \"Bar\", \"\", \"Close\",\"5\",\"0\",\"PrimaryOnly\",,,\"False\",\"T\",\"EveryTick\")","v":391.92},-2.4181026802758891E-3,{"$f":"RTD(\"cqg.rtd\",,\"StudyData\", \"Close(\"&$D$12&\") when LocalYear(\"&$D$12&\")=\"&$D$3&\" and localMonth(\"&$D$12&\") =\"&$E$3&\" and LocalDay(\"&$D$12&\")=\"&$F$3&\" and Barix(\"&$D$12&\",reference:=StartOfSession)=\"&A5&\"\", \"Bar\", \"\", \"Close\",\"5\",\"0\",\"PrimaryOnly\",,,\"False\",\"T\",\"EveryTick\")","v":385.47},1.4581633458795094E-2,{"$f":"RTD(\"cqg.rtd\",,\"StudyData\", \"Close(\"&$D$12&\") when LocalYear(\"&$D$12&\")=\"&$D$4&\" and localMonth(\"&$D$12&\") =\"&$E$4&\" and LocalDay(\"&$D$12&\")=\"&$F$4&\" and Barix(\"&$D$12&\",reference:=StartOfSession)=\"&A5&\"\", \"Bar\", \"\", \"Close\",\"5\",\"0\",\"PrimaryOnly\",,,\"False\",\"T\",\"EveryTick\")","v":373.37},2.6221037297639065E-2,{"$f":"RTD(\"cqg.rtd\",,\"StudyData\", \"Close(\"&$D$12&\") when LocalYear(\"&$D$12&\")=\"&$D$5&\" and localMonth(\"&$D$12&\") =\"&$E$5&\" and LocalDay(\"&$D$12&\")=\"&$F$5&\" and Barix(\"&$D$12&\",reference:=StartOfSession)=\"&A5&\"\", \"Bar\", \"\", \"Close\",\"5\",\"0\",\"PrimaryOnly\",,,\"False\",\"T\",\"EveryTick\")","v":363.81},6.5292571586665201E-3,{"$f":"RTD(\"cqg.rtd\",,\"StudyData\", \"Close(\"&$D$12&\") when LocalYear(\"&$D$12&\")=\"&$D$6&\" and localMonth(\"&$D$12&\") =\"&$E$6&\" and LocalDay(\"&$D$12&\")=\"&$F$6&\" and Barix(\"&$D$12&\",reference:=StartOfSession)=\"&A5&\"\", \"Bar\", \"\", \"Close\",\"5\",\"0\",\"PrimaryOnly\",,,\"False\",\"T\",\"EveryTick\")","v":364.78},1.1675957511717502E-2,{"$f":"RTD(\"cqg.rtd\",,\"StudyData\", \"Close(\"&$D$12&\") when LocalYear(\"&$D$12&\")=\"&$D$7&\" and localMonth(\"&$D$12&\") =\"&$E$7&\" and LocalDay(\"&$D$12&\")=\"&$F$7&\" and Barix(\"&$D$12&\",reference:=StartOfSession)=\"&A5&\"\", \"Bar\", \"\", \"Close\",\"5\",\"0\",\"PrimaryOnly\",,,\"False\",\"T\",\"EveryTick\")","v":361.35},-1.3835085777519238E-4,{"$f":"RTD(\"cqg.rtd\",,\"StudyData\", \"Close(\"&$D$12&\") when LocalYear(\"&$D$12&\")=\"&$D$8&\" and localMonth(\"&$D$12&\") =\"&$E$8&\" and LocalDay(\"&$D$12&\")=\"&$F$8&\" and Barix(\"&$D$12&\",reference:=StartOfSession)=\"&A5&\"\", \"Bar\", \"\", \"Close\",\"5\",\"0\",\"PrimaryOnly\",,,\"False\",\"T\",\"EveryTick\")","v":364.85},-7.0757926248468253E-3,{"$f":"RTD(\"cqg.rtd\",,\"StudyData\", \"Close(\"&$D$12&\") when LocalYear(\"&$D$12&\")=\"&$D$9&\" and localMonth(\"&$D$12&\") =\"&$E$9&\" and LocalDay(\"&$D$12&\")=\"&$F$9&\" and Barix(\"&$D$12&\",reference:=StartOfSession)=\"&A5&\"\", \"Bar\", \"\", \"Close\",\"5\",\"0\",\"PrimaryOnly\",,,\"False\",\"T\",\"EveryTick\")","v":367.35},4.2372881355932515E-3,{"$f":"RTD(\"cqg.rtd\",,\"StudyData\", \"Close(\"&$D$12&\") when LocalYear(\"&$D$12&\")=\"&$D$10&\" and localMonth(\"&$D$12&\") =\"&$E$10&\" and LocalDay(\"&$D$12&\")=\"&$F$10&\" and Barix(\"&$D$12&\",reference:=StartOfSession)=\"&A5&\"\", \"Bar\", \"\", \"Close\",\"5\",\"0\",\"PrimaryOnly\",,,\"False\",\"T\",\"EveryTick\")","v":367.83},1.663856720378094E-2,{"$f":"RANK(AD5,$AD$1:$AD$10)+COUNTIF($AD$1:AD5,AD5)-1","v":4},"2018-06-12",{"$f":"VLOOKUP(MAX(AE2:AE81),A1:Q81,17,FALSE)","v":9.1575598284686748E-3},"",5,"2018-06-05",8.0705342583124173E-3,null,null,"2018-06-05","2018-06-12",4,9]
[5,"08:55:00","2018-06-11",2018,6,11,{"$f":"RTD(\"cqg.rtd\",,\"StudyData\",$D$12,\"Bar\",,\"Close\",\"D\",\"-5\",,,,,\"T\")","v":361.45},{"$f":"RTD(\"cqg.rtd\",,\"StudyData\", \"Close(\"&$D$12&\") when LocalYear(\"&$D$12&\")=\"&$D$1&\" and localMonth(\"&$D$12&\") =\"&$E$1&\" and LocalDay(\"&$D$12&\")=\"&$F$1&\" and Barix(\"&$D$12&\",reference:=StartOfSession)=\"&A6&\"\", \"Bar\", \"\", \"Close\",\"5\",\"0\",\"PrimaryOnly\",,,\"False\",\"T\",\"EveryTick\")","v":""},{"$error":"#N/A"},{"$f":"RTD(\"cqg.rtd\",,\"StudyData\", \"Close(\"&$D$12&\") when LocalYear(\"&$D$12&\")=\"&$D$2&\" and localMonth(\"&$D$12&\") =\"&$E$2&\" and LocalDay(\"&$D$12&\")=\"&$F$2&\" and Barix(\"&$D$12&\",reference:=StartOfSession)=\"&A6&\"\", \"Bar\", \"\", \"Close\",\"5\",\"0\",\"PrimaryOnly\",,,\"False\",\"T\",\"EveryTick\")","v":393.64},1.9599358566446453E-3,{"$f":"RTD(\"cqg.rtd\",,\"StudyData\", \"Close(\"&$D$12&\") when LocalYear(\"&$D$12&\")=\"&$D$3&\" and localMonth(\"&$D$12&\") =\"&$E$3&\" and LocalDay(\"&$D$12&\")=\"&$F$3&\" and Barix(\"&$D$12&\",reference:=StartOfSession)=\"&A6&\"\", \"Bar\", \"\", \"Close\",\"5\",\"0\",\"PrimaryOnly\",,,\"False\",\"T\",\"EveryTick\")","v":386.22},1.6555681309714999E-2,{"$f":"RTD(\"cqg.rtd\",,\"StudyData\", \"Close(\"&$D$12&\") when LocalYear(\"&$D$12&\")=\"&$D$4&\" and localMonth(\"&$D$12&\") =\"&$E$4&\" and LocalDay(\"&$D$12&\")=\"&$F$4&\" and Barix(\"&$D$12&\",reference:=StartOfSession)=\"&A6&\"\", \"Bar\", \"\", \"Close\",\"5\",\"0\",\"PrimaryOnly\",,,\"False\",\"T\",\"EveryTick\")","v":372.37},2.3472500893274389E-2,{"$f":"RTD(\"cqg.rtd\",,\"StudyData\", \"Close(\"&$D$12&\") when LocalYear(\"&$D$12&\")=\"&$D$5&\" and localMonth(\"&$D$12&\") =\"&$E$5&\" and LocalDay(\"&$D$12&\")=\"&$F$5&\" and Barix(\"&$D$12&\",reference:=StartOfSession)=\"&A6&\"\", \"Bar\", \"\", \"Close\",\"5\",\"0\",\"PrimaryOnly\",,,\"False\",\"T\",\"EveryTick\")","v":363.3},5.1182736201411611E-3,{"$f":"RTD(\"cqg.rtd\",,\"StudyData\", \"Close(\"&$D$12&\") when LocalYear(\"&$D$12&\")=\"&$D$6&\" and localMonth(\"&$D$12&\") =\"&$E$6&\" and LocalDay(\"&$D$12&\")=\"&$F$6&\" and Barix(\"&$D$12&\",reference:=StartOfSession)=\"&A6&\"\", \"Bar\", \"\", \"Close\",\"5\",\"0\",\"PrimaryOnly\",,,\"False\",\"T\",\"EveryTick\")","v":364.84},1.1842360706658851E-2,{"$f":"RTD(\"cqg.rtd\",,\"StudyData\", \"Close(\"&$D$12&\") when LocalYear(\"&$D$12&\")=\"&$D$7&\" and localMonth(\"&$D$12&\") =\"&$E$7&\" and LocalDay(\"&$D$12&\")=\"&$F$7&\" and Barix(\"&$D$12&\",reference:=StartOfSession)=\"&A6&\"\", \"Bar\", \"\", \"Close\",\"5\",\"0\",\"PrimaryOnly\",,,\"False\",\"T\",\"EveryTick\")","v":360.83},-1.5771997786386087E-3,{"$f":"RTD(\"cqg.rtd\",,\"StudyData\", \"Close(\"&$D$12&\") when LocalYear(\"&$D$12&\")=\"&$D$8&\" and localMonth(\"&$D$12&\") =\"&$E$8&\" and LocalDay(\"&$D$12&\")=\"&$F$8&\" and Barix(\"&$D$12&\",reference:=StartOfSession)=\"&A6&\"\", \"Bar\", \"\", \"Close\",\"5\",\"0\",\"PrimaryOnly\",,,\"False\",\"T\",\"EveryTick\")","v":365.5},-5.3068444686351574E-3,{"$f":"RTD(\"cqg.rtd\",,\"StudyData\", \"Close(\"&$D$12&\") when LocalYear(\"&$D$12&\")=\"&$D$9&\" and localMonth(\"&$D$12&\") =\"&$E$9&\" and LocalDay(\"&$D$12&\")=\"&$F$9&\" and Barix(\"&$D$12&\",reference:=StartOfSession)=\"&A6&\"\", \"Bar\", \"\", \"Close\",\"5\",\"0\",\"PrimaryOnly\",,,\"False\",\"T\",\"EveryTick\")","v":365.76},-1.0934937124117131E-4,{"$f":"RTD(\"cqg.rtd\",,\"StudyData\", \"Close(\"&$D$12&\") when LocalYear(\"&$D$12&\")=\"&$D$10&\" and localMonth(\"&$D$12&\") =\"&$E$10&\" and LocalDay(\"&$D$12&\")=\"&$F$10&\" and Barix(\"&$D$12&\",reference:=StartOfSession)=\"&A6&\"\", \"Bar\", \"\", \"Close\",\"5\",\"0\",\"PrimaryOnly\",,,\"False\",\"T\",\"EveryTick\")","v":367.4},1.5450098117796565E-2,{"$f":"RANK(AD6,$AD$1:$AD$10)+COUNTIF($AD$1:AD6,AD6)-1","v":3},"2018-06-11",{"$f":"VLOOKUP(MAX(AE2:AE81),A1:S81,19,FALSE)","v":1.306265080289536E-2},"",6,"2018-06-06",6.5882996172771137E-3,null,null,"2018-06-06","2018-06-11",5,8]
[6,"09:00:00","2018-06-08",2018,6,8,{"$f":"RTD(\"cqg.rtd\",,\"StudyData\",$D$12,\"Bar\",,\"Close\",\"D\",\"-6\",,,,,\"T\")","v":360.57},{"$f":"RTD(\"cqg.rtd\",,\"StudyData\", \"Close(\"&$D$12&\") when LocalYear(\"&$D$12&\")=\"&$D$1&\" and localMonth(\"&$D$12&\") =\"&$E$1&\" and LocalDay(\"&$D$12&\")=\"&$F$1&\" and Barix(\"&$D$12&\",reference:=StartOfSession)=\"&A7&\"\", \"Bar\", \"\", \"Close\",\"5\",\"0\",\"PrimaryOnly\",,,\"False\",\"T\",\"EveryTick\")","v":""},{"$error":"#N/A"},{"$f":"RTD(\"cqg.rtd\",,\"StudyData\", \"Close(\"&$D$12&\") when LocalYear(\"&$D$12&\")=\"&$D$2&\" and localMonth(\"&$D$12&\") =\"&$E$2&\" and LocalDay(\"&$D$12&\")=\"&$F$2&\" and Barix(\"&$D$12&\",reference:=StartOfSession)=\"&A7&\"\", \"Bar\", \"\", \"Close\",\"5\",\"0\",\"PrimaryOnly\",,,\"False\",\"T\",\"EveryTick\")","v":394.06},3.0289917784508814E-3,{"$f":"RTD(\"cqg.rtd\",,\"StudyData\", \"Close(\"&$D$12&\") when LocalYear(\"&$D$12&\")=\"&$D$3&\" and localMonth(\"&$D$12&\") =\"&$E$3&\" and LocalDay(\"&$D$12&\")=\"&$F$3&\" and Barix(\"&$D$12&\",reference:=StartOfSession)=\"&A7&\"\", \"Bar\", \"\", \"Close\",\"5\",\"0\",\"PrimaryOnly\",,,\"False\",\"T\",\"EveryTick\")","v":386.65},1.7687468744242284E-2,{"$f":"RTD(\"cqg.rtd\",,\"StudyData\", \"Close(\"&$D$12&\") when LocalYear(\"&$D$12&\")=\"&$D$4&\" and localMonth(\"&$D$12&\") =\"&$E$4&\" and LocalDay(\"&$D$12&\")=\"&$F$4&\" and Barix(\"&$D$12&\",reference:=StartOfSession)=\"&A7&\"\", \"Bar\", \"\", \"Close\",\"5\",\"0\",\"PrimaryOnly\",,,\"False\",\"T\",\"EveryTick\")","v":371.32},2.0586537668691448E-2,{"$f":"RTD(\"cqg.rtd\",,\"StudyData\", \"Close(\"&$D$12&\") when LocalYear(\"&$D$12&\")=\"&$D$5&\" and localMonth(\"&$D$12&\") =\"&$E$5&\" and LocalDay(\"&$D$12&\")=\"&$F$5&\" and Barix(\"&$D$12&\",reference:=StartOfSession)=\"&A7&\"\", \"Bar\", \"\", \"Close\",\"5\",\"0\",\"PrimaryOnly\",,,\"False\",\"T\",\"EveryTick\")","v":364.4},8.1615714483330715E-3,{"$f":"RTD(\"cqg.rtd\",,\"StudyData\", \"Close(\"&$D$12&\") when LocalYear(\"&$D$12&\")=\"&$D$6&\" and localMonth(\"&$D$12&\") =\"&$E$6&\" and LocalDay(\"&$D$12&\")=\"&$F$6&\" and Barix(\"&$D$12&\",reference:=StartOfSession)=\"&A7&\"\", \"Bar\", \"\", \"Close\",\"5\",\"0\",\"PrimaryOnly\",,,\"False\",\"T\",\"EveryTick\")","v":364.3},1.0344731952186865E-2,{"$f":"RTD(\"cqg.rtd\",,\"StudyData\", \"Close(\"&$D$12&\") when LocalYear(\"&$D$12&\")=\"&$D$7&\" and localMonth(\"&$D$12&\") =\"&$E$7&\" and LocalDay(\"&$D$12&\")=\"&$F$7&\" and Barix(\"&$D$12&\",reference:=StartOfSession)=\"&A7&\"\", \"Bar\", \"\", \"Close\",\"5\",\"0\",\"PrimaryOnly\",,,\"False\",\"T\",\"EveryTick\")","v":360},-3.8738240177088471E-3,{"$f":"RTD(\"cqg.rtd\",,\"StudyData\", \"Close(\"&$D$12&\") when LocalYear(\"&$D$12&\")=\"&$D$8&\" and localMonth(\"&$D$12&\") =\"&$E$8&\" and LocalDay(\"&$D$12&\")=\"&$F$8&\" and Barix(\"&$D$12&\",reference:=StartOfSession)=\"&A7&\"\", \"Bar\", \"\", \"Close\",\"5\",\"0\",\"PrimaryOnly\",,,\"False\",\"T\",\"EveryTick\")","v":364.37},-8.3820928017416911E-3,{"$f":"RTD(\"cqg.rtd\",,\"StudyData\", \"Close(\"&$D$12&\") when LocalYear(\"&$D$12&\")=\"&$D$9&\" and localMonth(\"&$D$12&\") =\"&$E$9&\" and LocalDay(\"&$D$12&\")=\"&$F$9&\" and Barix(\"&$D$12&\",reference:=StartOfSession)=\"&A7&\"\", \"Bar\", \"\", \"Close\",\"5\",\"0\",\"PrimaryOnly\",,,\"False\",\"T\",\"EveryTick\")","v":365.4},-1.0934937124112468E-3,{"$f":"RTD(\"cqg.rtd\",,\"StudyData\", \"Close(\"&$D$12&\") when LocalYear(\"&$D$12&\")=\"&$D$10&\" and localMonth(\"&$D$12&\") =\"&$E$10&\" and LocalDay(\"&$D$12&\")=\"&$F$10&\" and Barix(\"&$D$12&\",reference:=StartOfSession)=\"&A7&\"\", \"Bar\", \"\", \"Close\",\"5\",\"0\",\"PrimaryOnly\",,,\"False\",\"T\",\"EveryTick\")","v":368.34},1.8048146817390268E-2,{"$f":"RANK(AD7,$AD$1:$AD$10)+COUNTIF($AD$1:AD7,AD7)-1","v":9},"2018-06-08",{"$f":"VLOOKUP(MAX(AE2:AE81),A1:U81,21,FALSE)","v":-6.8068622025455995E-3},"",7,"2018-06-18",-1.479667329965919E-3,null,null,"2018-06-18","2018-06-08",6,0]
[7,"09:05:00","2018-06-07",2018,6,7,{"$f":"RTD(\"cqg.rtd\",,\"StudyData\",$D$12,\"Bar\",,\"Close\",\"D\",\"-7\",,,,,\"T\")","v":361.4},{"$f":"RTD(\"cqg.rtd\",,\"StudyData\", \"Close(\"&$D$12&\") when LocalYear(\"&$D$12&\")=\"&$D$1&\" and localMonth(\"&$D$12&\") =\"&$E$1&\" and LocalDay(\"&$D$12&\")=\"&$F$1&\" and Barix(\"&$D$12&\",reference:=StartOfSession)=\"&A8&\"\", \"Bar\", \"\", \"Close\",\"5\",\"0\",\"PrimaryOnly\",,,\"False\",\"T\",\"EveryTick\")","v":""},{"$error":"#N/A"},{"$f":"RTD(\"cqg.rtd\",,\"StudyData\", \"Close(\"&$D$12&\") when LocalYear(\"&$D$12&\")=\"&$D$2&\" and localMonth(\"&$D$12&\") =\"&$E$2&\" and LocalDay(\"&$D$12&\")=\"&$F$2&\" and Barix(\"&$D$12&\",reference:=StartOfSession)=\"&A8&\"\", \"Bar\", \"\", \"Close\",\"5\",\"0\",\"PrimaryOnly\",,,\"False\",\"T\",\"EveryTick\")","v":395.79},7.4324840277954947E-3,{"$f":"RTD(\"cqg.rtd\",,\"StudyData\", \"Close(\"&$D$12&\") when LocalYear(\"&$D$12&\")=\"&$D$3&\" and localMonth(\"&$D$12&\") =\"&$E$3&\" and LocalDay(\"&$D$12&\")=\"&$F$3&\" and Barix(\"&$D$12&\",reference:=StartOfSession)=\"&A8&\"\", \"Bar\", \"\", \"Close\",\"5\",\"0\",\"PrimaryOnly\",,,\"False\",\"T\",\"EveryTick\")","v":388.48},2.2504145500486961E-2,{"$f":"RTD(\"cqg.rtd\",,\"StudyData\", \"Close(\"&$D$12&\") when LocalYear(\"&$D$12&\")=\"&$D$4&\" and localMonth(\"&$D$12&\") =\"&$E$4&\" and LocalDay(\"&$D$12&\")=\"&$F$4&\" and Barix(\"&$D$12&\",reference:=StartOfSession)=\"&A8&\"\", \"Bar\", \"\", \"Close\",\"5\",\"0\",\"PrimaryOnly\",,,\"False\",\"T\",\"EveryTick\")","v":372.4},2.3554956985405252E-2,{"$f":"RTD(\"cqg.rtd\",,\"StudyData\", \"Close(\"&$D$12&\") when LocalYear(\"&$D$12&\")=\"&$D$5&\" and localMonth(\"&$D$12&\") =\"&$E$5&\" and LocalDay(\"&$D$12&\")=\"&$F$5&\" and Barix(\"&$D$12&\",reference:=StartOfSession)=\"&A8&\"\", \"Bar\", \"\", \"Close\",\"5\",\"0\",\"PrimaryOnly\",,,\"False\",\"T\",\"EveryTick\")","v":363.73},6.3079264075253279E-3,{"$f":"RTD(\"cqg.rtd\",,\"StudyData\", \"Close(\"&$D$12&\") when LocalYear(\"&$D$12&\")=\"&$D$6&\" and localMonth(\"&$D$12&\") =\"&$E$6&\" and LocalDay(\"&$D$12&\")=\"&$F$6&\" and Barix(\"&$D$12&\",reference:=StartOfSession)=\"&A8&\"\", \"Bar\", \"\", \"Close\",\"5\",\"0\",\"PrimaryOnly\",,,\"False\",\"T\",\"EveryTick\")","v":364.86},1.1897828438306073E-2,{"$f":"RTD(\"cqg.rtd\",,\"StudyData\", \"Close(\"&$D$12&\") when LocalYear(\"&$D$12&\")=\"&$D$7&\" and localMonth(\"&$D$12&\") =\"&$E$7&\" and LocalDay(\"&$D$12&\")=\"&$F$7&\" and Barix(\"&$D$12&\",reference:=StartOfSession)=\"&A8&\"\", \"Bar\", \"\", \"Close\",\"5\",\"0\",\"PrimaryOnly\",,,\"False\",\"T\",\"EveryTick\")","v":361.33},-1.9369120088542663E-4,{"$f":"RTD(\"cqg.rtd\",,\"StudyData\", \"Close(\"&$D$12&\") when LocalYear(\"&$D$12&\")=\"&$D$8&\" and localMonth(\"&$D$12&\") =\"&$E$8&\" and LocalDay(\"&$D$12&\")=\"&$F$8&\" and Barix(\"&$D$12&\",reference:=StartOfSession)=\"&A8&\"\", \"Bar\", \"\", \"Close\",\"5\",\"0\",\"PrimaryOnly\",,,\"False\",\"T\",\"EveryTick\")","v":362.72},-1.2872499659817557E-2,{"$f":"RTD(\"cqg.rtd\",,\"StudyData\", \"Close(\"&$D$12&\") when LocalYear(\"&$D$12&\")=\"&$D$9&\" and localMonth(\"&$D$12&\") =\"&$E$9&\" and LocalDay(\"&$D$12&\")=\"&$F$9&\" and Barix(\"&$D$12&\",reference:=StartOfSession)=\"&A8&\"\", \"Bar\", \"\", \"Close\",\"5\",\"0\",\"PrimaryOnly\",,,\"False\",\"T\",\"EveryTick\")","v":365.1},-1.9136139967194878E-3,{"$f":"RTD(\"cqg.rtd\",,\"StudyData\", \"Close(\"&$D$12&\") when LocalYear(\"&$D$12&\")=\"&$D$10&\" and localMonth(\"&$D$12&\") =\"&$E$10&\" and LocalDay(\"&$D$12&\")=\"&$F$10&\" and Barix(\"&$D$12&\",reference:=StartOfSession)=\"&A8&\"\", \"Bar\", \"\", \"Close\",\"5\",\"0\",\"PrimaryOnly\",,,\"False\",\"T\",\"EveryTick\")","v":368.34},1.8048146817390268E-2,{"$f":"RANK(AD8,$AD$1:$AD$10)+COUNTIF($AD$1:AD8,AD8)-1","v":8},"2018-06-07",{"$f":"VLOOKUP(MAX(AE2:AE81),A1:W81,23,FALSE)","v":-4.6536943801877249E-3},"",8,"2018-06-07",-4.6536943801877249E-3,null,null,"2018-06-07","2018-06-07",7,7]
[8,"09:10:00","2018-06-06",2018,6,6,{"$f":"RTD(\"cqg.rtd\",,\"StudyData\",$D$12,\"Bar\",,\"Close\",\"D\",\"-8\",,,,,\"T\")","v":367.45},{"$f":"RTD(\"cqg.rtd\",,\"StudyData\", \"Close(\"&$D$12&\") when LocalYear(\"&$D$12&\")=\"&$D$1&\" and localMonth(\"&$D$12&\") =\"&$E$1&\" and LocalDay(\"&$D$12&\")=\"&$F$1&\" and Barix(\"&$D$12&\",reference:=StartOfSession)=\"&A9&\"\", \"Bar\", \"\", \"Close\",\"5\",\"0\",\"PrimaryOnly\",,,\"False\",\"T\",\"EveryTick\")","v":""},{"$error":"#N/A"},{"$f":"RTD(\"cqg.rtd\",,\"StudyData\", \"Close(\"&$D$12&\") when LocalYear(\"&$D$12&\")=\"&$D$2&\" and localMonth(\"&$D$12&\") =\"&$E$2&\" and LocalDay(\"&$D$12&\")=\"&$F$2&\" and Barix(\"&$D$12&\",reference:=StartOfSession)=\"&A9&\"\", \"Bar\", \"\", \"Close\",\"5\",\"0\",\"PrimaryOnly\",,,\"False\",\"T\",\"EveryTick\")","v":398.37},1.3999541833176369E-2,{"$f":"RTD(\"cqg.rtd\",,\"StudyData\", \"Close(\"&$D$12&\") when LocalYear(\"&$D$12&\")=\"&$D$3&\" and localMonth(\"&$D$12&\") =\"&$E$3&\" and LocalDay(\"&$D$12&\")=\"&$F$3&\" and Barix(\"&$D$12&\",reference:=StartOfSession)=\"&A9&\"\", \"Bar\", \"\", \"Close\",\"5\",\"0\",\"PrimaryOnly\",,,\"False\",\"T\",\"EveryTick\")","v":388.75},2.3214802726818081E-2,{"$f":"RTD(\"cqg.rtd\",,\"StudyData\", \"Close(\"&$D$12&\") when LocalYear(\"&$D$12&\")=\"&$D$4&\" and localMonth(\"&$D$12&\") =\"&$E$4&\" and LocalDay(\"&$D$12&\")=\"&$F$4&\" and Barix(\"&$D$12&\",reference:=StartOfSession)=\"&A9&\"\", \"Bar\", \"\", \"Close\",\"5\",\"0\",\"PrimaryOnly\",,,\"False\",\"T\",\"EveryTick\")","v":373.17},2.5671330016766161E-2,{"$f":"RTD(\"cqg.rtd\",,\"StudyData\", \"Close(\"&$D$12&\") when LocalYear(\"&$D$12&\")=\"&$D$5&\" and localMonth(\"&$D$12&\") =\"&$E$5&\" and LocalDay(\"&$D$12&\")=\"&$F$5&\" and Barix(\"&$D$12&\",reference:=StartOfSession)=\"&A9&\"\", \"Bar\", \"\", \"Close\",\"5\",\"0\",\"PrimaryOnly\",,,\"False\",\"T\",\"EveryTick\")","v":364.3},7.8849080094066208E-3,{"$f":"RTD(\"cqg.rtd\",,\"StudyData\", \"Close(\"&$D$12&\") when LocalYear(\"&$D$12&\")=\"&$D$6&\" and localMonth(\"&$D$12&\") =\"&$E$6&\" and LocalDay(\"&$D$12&\")=\"&$F$6&\" and Barix(\"&$D$12&\",reference:=StartOfSession)=\"&A9&\"\", \"Bar\", \"\", \"Close\",\"5\",\"0\",\"PrimaryOnly\",,,\"False\",\"T\",\"EveryTick\")","v":364.49},1.0871675402834445E-2,{"$f":"RTD(\"cqg.rtd\",,\"StudyData\", \"Close(\"&$D$12&\") when LocalYear(\"&$D$12&\")=\"&$D$7&\" and localMonth(\"&$D$12&\") =\"&$E$7&\" and LocalDay(\"&$D$12&\")=\"&$F$7&\" and Barix(\"&$D$12&\",reference:=StartOfSession)=\"&A9&\"\", \"Bar\", \"\", \"Close\",\"5\",\"0\",\"PrimaryOnly\",,,\"False\",\"T\",\"EveryTick\")","v":361.74},9.4078583287225193E-4,{"$f":"RTD(\"cqg.rtd\",,\"StudyData\", \"Close(\"&$D$12&\") when LocalYear(\"&$D$12&\")=\"&$D$8&\" and localMonth(\"&$D$12&\") =\"&$E$8&\" and LocalDay(\"&$D$12&\")=\"&$F$8&\" and Barix(\"&$D$12&\",reference:=StartOfSession)=\"&A9&\"\", \"Bar\", \"\", \"Close\",\"5\",\"0\",\"PrimaryOnly\",,,\"False\",\"T\",\"EveryTick\")","v":362.5},-1.3471220574227756E-2,{"$f":"RTD(\"cqg.rtd\",,\"StudyData\", \"Close(\"&$D$12&\") when LocalYear(\"&$D$12&\")=\"&$D$9&\" and localMonth(\"&$D$12&\") =\"&$E$9&\" and LocalDay(\"&$D$12&\")=\"&$F$9&\" and Barix(\"&$D$12&\",reference:=StartOfSession)=\"&A9&\"\", \"Bar\", \"\", \"Close\",\"5\",\"0\",\"PrimaryOnly\",,,\"False\",\"T\",\"EveryTick\")","v":365.17},-1.7222525970475545E-3,{"$f":"RTD(\"cqg.rtd\",,\"StudyData\", \"Close(\"&$D$12&\") when LocalYear(\"&$D$12&\")=\"&$D$10&\" and localMonth(\"&$D$12&\") =\"&$E$10&\" and LocalDay(\"&$D$12&\")=\"&$F$10&\" and Barix(\"&$D$12&\",reference:=StartOfSession)=\"&A9&\"\", \"Bar\", \"\", \"Close\",\"5\",\"0\",\"PrimaryOnly\",,,\"False\",\"T\",\"EveryTick\")","v":368.51},1.8518006688593429E-2,{"$f":"RANK(AD9,$AD$1:$AD$10)+COUNTIF($AD$1:AD9,AD9)-1","v":6},"2018-06-06",{"$f":"VLOOKUP(MAX(AE2:AE81),A1:Y81,25,FALSE)","v":6.5882996172771137E-3},"",9,"2018-06-08",-6.8068622025455995E-3,null,null,"2018-06-08","2018-06-06",8,6]
[9,"09:15:00","2018-06-05",2018,6,5,{"$f":"RTD(\"cqg.rtd\",,\"StudyData\",$D$12,\"Bar\",,\"Close\",\"D\",\"-9\",,,,,\"T\")","v":365.8},{"$f":"RTD(\"cqg.rtd\",,\"StudyData\", \"Close(\"&$D$12&\") when LocalYear(\"&$D$12&\")=\"&$D$1&\" and localMonth(\"&$D$12&\") =\"&$E$1&\" and LocalDay(\"&$D$12&\")=\"&$F$1&\" and Barix(\"&$D$12&\",reference:=StartOfSession)=\"&A10&\"\", \"Bar\", \"\", \"Close\",\"5\",\"0\",\"PrimaryOnly\",,,\"False\",\"T\",\"EveryTick\")","v":""},{"$error":"#N/A"},{"$f":"RTD(\"cqg.rtd\",,\"StudyData\", \"Close(\"&$D$12&\") when LocalYear(\"&$D$12&\")=\"&$D$2&\" and localMonth(\"&$D$12&\") =\"&$E$2&\" and LocalDay(\"&$D$12&\")=\"&$F$2&\" and Barix(\"&$D$12&\",reference:=StartOfSession)=\"&A10&\"\", \"Bar\", \"\", \"Close\",\"5\",\"0\",\"PrimaryOnly\",,,\"False\",\"T\",\"EveryTick\")","v":397.27},1.1199633466541037E-2,{"$f":"RTD(\"cqg.rtd\",,\"StudyData\", \"Close(\"&$D$12&\") when LocalYear(\"&$D$12&\")=\"&$D$3&\" and localMonth(\"&$D$12&\") =\"&$E$3&\" and LocalDay(\"&$D$12&\")=\"&$F$3&\" and Barix(\"&$D$12&\",reference:=StartOfSession)=\"&A10&\"\", \"Bar\", \"\", \"Close\",\"5\",\"0\",\"PrimaryOnly\",,,\"False\",\"T\",\"EveryTick\")","v":388.39},2.2267259758376488E-2,{"$f":"RTD(\"cqg.rtd\",,\"StudyData\", \"Close(\"&$D$12&\") when LocalYear(\"&$D$12&\")=\"&$D$4&\" and localMonth(\"&$D$12&\") =\"&$E$4&\" and LocalDay(\"&$D$12&\")=\"&$F$4&\" and Barix(\"&$D$12&\",reference:=StartOfSession)=\"&A10&\"\", \"Bar\", \"\", \"Close\",\"5\",\"0\",\"PrimaryOnly\",,,\"False\",\"T\",\"EveryTick\")","v":373.3},2.6028639749333556E-2,{"$f":"RTD(\"cqg.rtd\",,\"StudyData\", \"Close(\"&$D$12&\") when LocalYear(\"&$D$12&\")=\"&$D$5&\" and localMonth(\"&$D$12&\") =\"&$E$5&\" and LocalDay(\"&$D$12&\")=\"&$F$5&\" and Barix(\"&$D$12&\",reference:=StartOfSession)=\"&A10&\"\", \"Bar\", \"\", \"Close\",\"5\",\"0\",\"PrimaryOnly\",,,\"False\",\"T\",\"EveryTick\")","v":364.73},9.0745607967907867E-3,{"$f":"RTD(\"cqg.rtd\",,\"StudyData\", \"Close(\"&$D$12&\") when LocalYear(\"&$D$12&\")=\"&$D$6&\" and localMonth(\"&$D$12&\") =\"&$E$6&\" and LocalDay(\"&$D$12&\")=\"&$F$6&\" and Barix(\"&$D$12&\",reference:=StartOfSession)=\"&A10&\"\", \"Bar\", \"\", \"Close\",\"5\",\"0\",\"PrimaryOnly\",,,\"False\",\"T\",\"EveryTick\")","v":364.81},1.1759159109188256E-2,{"$f":"RTD(\"cqg.rtd\",,\"StudyData\", \"Close(\"&$D$12&\") when LocalYear(\"&$D$12&\")=\"&$D$7&\" and localMonth(\"&$D$12&\") =\"&$E$7&\" and LocalDay(\"&$D$12&\")=\"&$F$7&\" and Barix(\"&$D$12&\",reference:=StartOfSession)=\"&A10&\"\", \"Bar\", \"\", \"Close\",\"5\",\"0\",\"PrimaryOnly\",,,\"False\",\"T\",\"EveryTick\")","v":361.85},1.2451577199779898E-3,{"$f":"RTD(\"cqg.rtd\",,\"StudyData\", \"Close(\"&$D$12&\") when LocalYear(\"&$D$12&\")=\"&$D$8&\" and localMonth(\"&$D$12&\") =\"&$E$8&\" and LocalDay(\"&$D$12&\")=\"&$F$8&\" and Barix(\"&$D$12&\",reference:=StartOfSession)=\"&A10&\"\", \"Bar\", \"\", \"Close\",\"5\",\"0\",\"PrimaryOnly\",,,\"False\",\"T\",\"EveryTick\")","v":362.23},-1.4206014423731039E-2,{"$f":"RTD(\"cqg.rtd\",,\"StudyData\", \"Close(\"&$D$12&\") when LocalYear(\"&$D$12&\")=\"&$D$9&\" and localMonth(\"&$D$12&\") =\"&$E$9&\" and LocalDay(\"&$D$12&\")=\"&$F$9&\" and Barix(\"&$D$12&\",reference:=StartOfSession)=\"&A10&\"\", \"Bar\", \"\", \"Close\",\"5\",\"0\",\"PrimaryOnly\",,,\"False\",\"T\",\"EveryTick\")","v":364.54},-3.444505194095109E-3,{"$f":"RTD(\"cqg.rtd\",,\"StudyData\", \"Close(\"&$D$12&\") when LocalYear(\"&$D$12&\")=\"&$D$10&\" and localMonth(\"&$D$12&\") =\"&$E$10&\" and LocalDay(\"&$D$12&\")=\"&$F$10&\" and Barix(\"&$D$12&\",reference:=StartOfSession)=\"&A10&\"\", \"Bar\", \"\", \"Close\",\"5\",\"0\",\"PrimaryOnly\",,,\"False\",\"T\",\"EveryTick\")","v":368.44},1.8324534976921575E-2,{"$f":"RANK(AD10,$AD$1:$AD$10)+COUNTIF($AD$1:AD10,AD10)-1","v":5},"2018-06-05",{"$f":"VLOOKUP(MAX(AE2:AE81),A1:AA81,27,FALSE)","v":8.0705342583124173E-3},"",10,"2018-06-15",-8.2724565377860354E-3,null,null,"2018-06-15","2018-06-05",9,1]
[10,"09:20:00","2018-06-04",2018,6,4,{"$f":"RTD(\"cqg.rtd\",,\"StudyData\",$D$12,\"Bar\",,\"Close\",\"D\",\"-10\",,,,,\"T\")","v":361.81},{"$f":"RTD(\"cqg.rtd\",,\"StudyData\", \"Close(\"&$D$12&\") when LocalYear(\"&$D$12&\")=\"&$D$1&\" and localMonth(\"&$D$12&\") =\"&$E$1&\" and LocalDay(\"&$D$12&\")=\"&$F$1&\" and Barix(\"&$D$12&\",reference:=StartOfSession)=\"&A11&\"\", \"Bar\", \"\", \"Close\",\"5\",\"0\",\"PrimaryOnly\",,,\"False\",\"T\",\"EveryTick\")","v":""},{"$error":"#N/A"},{"$f":"RTD(\"cqg.rtd\",,\"StudyData\", \"Close(\"&$D$12&\") when LocalYear(\"&$D$12&\")=\"&$D$2&\" and localMonth(\"&$D$12&\") =\"&$E$2&\" and LocalDay(\"&$D$12&\")=\"&$F$2&\" and Barix(\"&$D$12&\",reference:=StartOfSession)=\"&A11&\"\", \"Bar\", \"\", \"Close\",\"5\",\"0\",\"PrimaryOnly\",,,\"False\",\"T\",\"EveryTick\")","v":397.68},1.224323567592334E-2,{"$f":"RTD(\"cqg.rtd\",,\"StudyData\", \"Close(\"&$D$12&\") when LocalYear(\"&$D$12&\")=\"&$D$3&\" and localMonth(\"&$D$12&\") =\"&$E$3&\" and LocalDay(\"&$D$12&\")=\"&$F$3&\" and Barix(\"&$D$12&\",reference:=StartOfSession)=\"&A11&\"\", \"Bar\", \"\", \"Close\",\"5\",\"0\",\"PrimaryOnly\",,,\"False\",\"T\",\"EveryTick\")","v":389.36},2.4820361645566304E-2,{"$f":"RTD(\"cqg.rtd\",,\"StudyData\", \"Close(\"&$D$12&\") when LocalYear(\"&$D$12&\")=\"&$D$4&\" and localMonth(\"&$D$12&\") =\"&$E$4&\" and LocalDay(\"&$D$12&\")=\"&$F$4&\" and Barix(\"&$D$12&\",reference:=StartOfSession)=\"&A11&\"\", \"Bar\", \"\", \"Close\",\"5\",\"0\",\"PrimaryOnly\",,,\"False\",\"T\",\"EveryTick\")","v":372.91},2.4956710551631369E-2,{"$f":"RTD(\"cqg.rtd\",,\"StudyData\", \"Close(\"&$D$12&\") when LocalYear(\"&$D$12&\")=\"&$D$5&\" and localMonth(\"&$D$12&\") =\"&$E$5&\" and LocalDay(\"&$D$12&\")=\"&$F$5&\" and Barix(\"&$D$12&\",reference:=StartOfSession)=\"&A11&\"\", \"Bar\", \"\", \"Close\",\"5\",\"0\",\"PrimaryOnly\",,,\"False\",\"T\",\"EveryTick\")","v":364.25},7.7465762899433157E-3,{"$f":"RTD(\"cqg.rtd\",,\"StudyData\", \"Close(\"&$D$12&\") when LocalYear(\"&$D$12&\")=\"&$D$6&\" and localMonth(\"&$D$12&\") =\"&$E$6&\" and LocalDay(\"&$D$12&\")=\"&$F$6&\" and Barix(\"&$D$12&\",reference:=StartOfSession)=\"&A11&\"\", \"Bar\", \"\", \"Close\",\"5\",\"0\",\"PrimaryOnly\",,,\"False\",\"T\",\"EveryTick\")","v":365.3},1.311811853454258E-2,{"$f":"RTD(\"cqg.rtd\",,\"StudyData\", \"Close(\"&$D$12&\") when LocalYear(\"&$D$12&\")=\"&$D$7&\" and localMonth(\"&$D$12&\") =\"&$E$7&\" and LocalDay(\"&$D$12&\")=\"&$F$7&\" and Barix(\"&$D$12&\",reference:=StartOfSession)=\"&A11&\"\", \"Bar\", \"\", \"Close\",\"5\",\"0\",\"PrimaryOnly\",,,\"False\",\"T\",\"EveryTick\")","v":361.73},9.1311566131721349E-4,{"$f":"RTD(\"cqg.rtd\",,\"StudyData\", \"Close(\"&$D$12&\") when LocalYear(\"&$D$12&\")=\"&$D$8&\" and localMonth(\"&$D$12&\") =\"&$E$8&\" and LocalDay(\"&$D$12&\")=\"&$F$8&\" and Barix(\"&$D$12&\",reference:=StartOfSession)=\"&A11&\"\", \"Bar\", \"\", \"Close\",\"5\",\"0\",\"PrimaryOnly\",,,\"False\",\"T\",\"EveryTick\")","v":360.45},-1.9050210913049394E-2,{"$f":"RTD(\"cqg.rtd\",,\"StudyData\", \"Close(\"&$D$12&\") when LocalYear(\"&$D$12&\")=\"&$D$9&\" and localMonth(\"&$D$12&\") =\"&$E$9&\" and LocalDay(\"&$D$12&\")=\"&$F$9&\" and Barix(\"&$D$12&\",reference:=StartOfSession)=\"&A11&\"\", \"Bar\", \"\", \"Close\",\"5\",\"0\",\"PrimaryOnly\",,,\"False\",\"T\",\"EveryTick\")","v":364.92},-2.4056861673045255E-3,{"$f":"RTD(\"cqg.rtd\",,\"StudyData\", \"Close(\"&$D$12&\") when LocalYear(\"&$D$12&\")=\"&$D$10&\" and localMonth(\"&$D$12&\") =\"&$E$10&\" and LocalDay(\"&$D$12&\")=\"&$F$10&\" and Barix(\"&$D$12&\",reference:=StartOfSession)=\"&A11&\"\", \"Bar\", \"\", \"Close\",\"5\",\"0\",\"PrimaryOnly\",,,\"False\",\"T\",\"EveryTick\")","v":368.87},1.9513004062905952E-2,null,null,null,""]
[11,"09:25:00",null,{"$f":"MainDisplay!R31","v":"S.NFLX"},null,null,null,{"$f":"RTD(\"cqg.rtd\",,\"StudyData\", \"Close(\"&$D$12&\") when LocalYear(\"&$D$12&\")=\"&$D$1&\" and localMonth(\"&$D$12&\") =\"&$E$1&\" and LocalDay(\"&$D$12&\")=\"&$F$1&\" and Barix(\"&$D$12&\",reference:=StartOfSession)=\"&A12&\"\", \"Bar\", \"\", \"Close\",\"5\",\"0\",\"PrimaryOnly\",,,\"False\",\"T\",\"EveryTick\")","v":""},{"$error":"#N/A"},{"$f":"RTD(\"cqg.rtd\",,\"StudyData\", \"Close(\"&$D$12&\") when LocalYear(\"&$D$12&\")=\"&$D$2&\" and localMonth(\"&$D$12&\") =\"&$E$2&\" and LocalDay(\"&$D$12&\")=\"&$F$2&\" and Barix(\"&$D$12&\",reference:=StartOfSession)=\"&A12&\"\", \"Bar\", \"\", \"Close\",\"5\",\"0\",\"PrimaryOnly\",,,\"False\",\"T\",\"EveryTick\")","v":396.45},9.1124290477765778E-3,{"$f":"RTD(\"cqg.rtd\",,\"StudyData\", \"Close(\"&$D$12&\") when LocalYear(\"&$D$12&\")=\"&$D$3&\" and localMonth(\"&$D$12&\") =\"&$E$3&\" and LocalDay(\"&$D$12&\")=\"&$F$3&\" and Barix(\"&$D$12&\",reference:=StartOfSession)=\"&A12&\"\", \"Bar\", \"\", \"Close\",\"5\",\"0\",\"PrimaryOnly\",,,\"False\",\"T\",\"EveryTick\")","v":390.93},2.8952701813491959E-2,{"$f":"RTD(\"cqg.rtd\",,\"StudyData\", \"Close(\"&$D$12&\") when LocalYear(\"&$D$12&\")=\"&$D$4&\" and localMonth(\"&$D$12&\") =\"&$E$4&\" and LocalDay(\"&$D$12&\")=\"&$F$4&\" and Barix(\"&$D$12&\",reference:=StartOfSession)=\"&A12&\"\", \"Bar\", \"\", \"Close\",\"5\",\"0\",\"PrimaryOnly\",,,\"False\",\"T\",\"EveryTick\")","v":372.51},2.3857295989885407E-2,{"$f":"RTD(\"cqg.rtd\",,\"StudyData\", \"Close(\"&$D$12&\") when LocalYear(\"&$D$12&\")=\"&$D$5&\" and localMonth(\"&$D$12&\") =\"&$E$5&\" and LocalDay(\"&$D$12&\")=\"&$F$5&\" and Barix(\"&$D$12&\",reference:=StartOfSession)=\"&A12&\"\", \"Bar\", \"\", \"Close\",\"5\",\"0\",\"PrimaryOnly\",,,\"False\",\"T\",\"EveryTick\")","v":364.37},8.0785724166551835E-3,{"$f":"RTD(\"cqg.rtd\",,\"StudyData\", \"Close(\"&$D$12&\") when LocalYear(\"&$D$12&\")=\"&$D$6&\" and localMonth(\"&$D$12&\") =\"&$E$6&\" and LocalDay(\"&$D$12&\")=\"&$F$6&\" and Barix(\"&$D$12&\",reference:=StartOfSession)=\"&A12&\"\", \"Bar\", \"\", \"Close\",\"5\",\"0\",\"PrimaryOnly\",,,\"False\",\"T\",\"EveryTick\")","v":363.74},8.7916354660676592E-3,{"$f":"RTD(\"cqg.rtd\",,\"StudyData\", \"Close(\"&$D$12&\") when LocalYear(\"&$D$12&\")=\"&$D$7&\" and localMonth(\"&$D$12&\") =\"&$E$7&\" and LocalDay(\"&$D$12&\")=\"&$F$7&\" and Barix(\"&$D$12&\",reference:=StartOfSession)=\"&A12&\"\", \"Bar\", \"\", \"Close\",\"5\",\"0\",\"PrimaryOnly\",,,\"False\",\"T\",\"EveryTick\")","v":360.65},-2.0752628666297732E-3,{"$f":"RTD(\"cqg.rtd\",,\"StudyData\", \"Close(\"&$D$12&\") when LocalYear(\"&$D$12&\")=\"&$D$8&\" and localMonth(\"&$D$12&\") =\"&$E$8&\" and LocalDay(\"&$D$12&\")=\"&$F$8&\" and Barix(\"&$D$12&\",reference:=StartOfSession)=\"&A12&\"\", \"Bar\", \"\", \"Close\",\"5\",\"0\",\"PrimaryOnly\",,,\"False\",\"T\",\"EveryTick\")","v":361.04},-1.7444550278949429E-2,{"$f":"RTD(\"cqg.rtd\",,\"StudyData\", \"Close(\"&$D$12&\") when LocalYear(\"&$D$12&\")=\"&$D$9&\" and localMonth(\"&$D$12&\") =\"&$E$9&\" and LocalDay(\"&$D$12&\")=\"&$F$9&\" and Barix(\"&$D$12&\",reference:=StartOfSession)=\"&A12&\"\", \"Bar\", \"\", \"Close\",\"5\",\"0\",\"PrimaryOnly\",,,\"False\",\"T\",\"EveryTick\")","v":365.26},-1.4762165117551134E-3,{"$f":"RTD(\"cqg.rtd\",,\"StudyData\", \"Close(\"&$D$12&\") when LocalYear(\"&$D$12&\")=\"&$D$10&\" and localMonth(\"&$D$12&\") =\"&$E$10&\" and LocalDay(\"&$D$12&\")=\"&$F$10&\" and Barix(\"&$D$12&\",reference:=StartOfSession)=\"&A12&\"\", \"Bar\", \"\", \"Close\",\"5\",\"0\",\"PrimaryOnly\",,,\"False\",\"T\",\"EveryTick\")","v":369.52},2.1309527099858984E-2,null,{"$f":"VLOOKUP(MAX(AE2:AE81),A1:B81,2,FALSE)","v":"08:40:00"},null,""]
[12,"09:30:00",null,{"$f":"RTD(\"cqg.rtd\", ,\"ContractData\",D12, \"LastQuoteToday\",, \"T\")","v":391.40000000000003},null,null,{"$f":"C1","v":"2018-06-18"},{"$f":"RTD(\"cqg.rtd\",,\"StudyData\", \"Close(\"&$D$12&\") when LocalYear(\"&$D$12&\")=\"&$D$1&\" and localMonth(\"&$D$12&\") =\"&$E$1&\" and LocalDay(\"&$D$12&\")=\"&$F$1&\" and Barix(\"&$D$12&\",reference:=StartOfSession)=\"&A13&\"\", \"Bar\", \"\", \"Close\",\"5\",\"0\",\"PrimaryOnly\",,,\"False\",\"T\",\"EveryTick\")","v":""},{"$error":"#N/A"},{"$f":"RTD(\"cqg.rtd\",,\"StudyData\", \"Close(\"&$D$12&\") when LocalYear(\"&$D$12&\")=\"&$D$2&\" and localMonth(\"&$D$12&\") =\"&$E$2&\" and LocalDay(\"&$D$12&\")=\"&$F$2&\" and Barix(\"&$D$12&\",reference:=StartOfSession)=\"&A13&\"\", \"Bar\", \"\", \"Close\",\"5\",\"0\",\"PrimaryOnly\",,,\"False\",\"T\",\"EveryTick\")","v":396.6},9.49423473413602E-3,{"$f":"RTD(\"cqg.rtd\",,\"StudyData\", \"Close(\"&$D$12&\") when LocalYear(\"&$D$12&\")=\"&$D$3&\" and localMonth(\"&$D$12&\") =\"&$E$3&\" and LocalDay(\"&$D$12&\")=\"&$F$3&\" and Barix(\"&$D$12&\",reference:=StartOfSession)=\"&A13&\"\", \"Bar\", \"\", \"Close\",\"5\",\"0\",\"PrimaryOnly\",,,\"False\",\"T\",\"EveryTick\")","v":389.12},2.4188666333271911E-2,{"$f":"RTD(\"cqg.rtd\",,\"StudyData\", \"Close(\"&$D$12&\") when LocalYear(\"&$D$12&\")=\"&$D$4&\" and localMonth(\"&$D$12&\") =\"&$E$4&\" and LocalDay(\"&$D$12&\")=\"&$F$4&\" and Barix(\"&$D$12&\",reference:=StartOfSession)=\"&A13&\"\", \"Bar\", \"\", \"Close\",\"5\",\"0\",\"PrimaryOnly\",,,\"False\",\"T\",\"EveryTick\")","v":372.45},2.369238380562352E-2,{"$f":"RTD(\"cqg.rtd\",,\"StudyData\", \"Close(\"&$D$12&\") when LocalYear(\"&$D$12&\")=\"&$D$5&\" and localMonth(\"&$D$12&\") =\"&$E$5&\" and LocalDay(\"&$D$12&\")=\"&$F$5&\" and Barix(\"&$D$12&\",reference:=StartOfSession)=\"&A13&\"\", \"Bar\", \"\", \"Close\",\"5\",\"0\",\"PrimaryOnly\",,,\"False\",\"T\",\"EveryTick\")","v":364.66},8.8808963895422224E-3,{"$f":"RTD(\"cqg.rtd\",,\"StudyData\", \"Close(\"&$D$12&\") when LocalYear(\"&$D$12&\")=\"&$D$6&\" and localMonth(\"&$D$12&\") =\"&$E$6&\" and LocalDay(\"&$D$12&\")=\"&$F$6&\" and Barix(\"&$D$12&\",reference:=StartOfSession)=\"&A13&\"\", \"Bar\", \"\", \"Close\",\"5\",\"0\",\"PrimaryOnly\",,,\"False\",\"T\",\"EveryTick\")","v":363.63},8.4865629420084934E-3,{"$f":"RTD(\"cqg.rtd\",,\"StudyData\", \"Close(\"&$D$12&\") when LocalYear(\"&$D$12&\")=\"&$D$7&\" and localMonth(\"&$D$12&\") =\"&$E$7&\" and LocalDay(\"&$D$12&\")=\"&$F$7&\" and Barix(\"&$D$12&\",reference:=StartOfSession)=\"&A13&\"\", \"Bar\", \"\", \"Close\",\"5\",\"0\",\"PrimaryOnly\",,,\"False\",\"T\",\"EveryTick\")","v":360.48},-2.545655783065742E-3,{"$f":"RTD(\"cqg.rtd\",,\"StudyData\", \"Close(\"&$D$12&\") when LocalYear(\"&$D$12&\")=\"&$D$8&\" and localMonth(\"&$D$12&\") =\"&$E$8&\" and LocalDay(\"&$D$12&\")=\"&$F$8&\" and Barix(\"&$D$12&\",reference:=StartOfSession)=\"&A13&\"\", \"Bar\", \"\", \"Close\",\"5\",\"0\",\"PrimaryOnly\",,,\"False\",\"T\",\"EveryTick\")","v":360.81},-1.8070485780378245E-2,{"$f":"RTD(\"cqg.rtd\",,\"StudyData\", \"Close(\"&$D$12&\") when LocalYear(\"&$D$12&\")=\"&$D$9&\" and localMonth(\"&$D$12&\") =\"&$E$9&\" and LocalDay(\"&$D$12&\")=\"&$F$9&\" and Barix(\"&$D$12&\",reference:=StartOfSession)=\"&A13&\"\", \"Bar\", \"\", \"Close\",\"5\",\"0\",\"PrimaryOnly\",,,\"False\",\"T\",\"EveryTick\")","v":364.38},-3.8819026790596388E-3,{"$f":"RTD(\"cqg.rtd\",,\"StudyData\", \"Close(\"&$D$12&\") when LocalYear(\"&$D$12&\")=\"&$D$10&\" and localMonth(\"&$D$12&\") =\"&$E$10&\" and LocalDay(\"&$D$12&\")=\"&$F$10&\" and Barix(\"&$D$12&\",reference:=StartOfSession)=\"&A13&\"\", \"Bar\", \"\", \"Close\",\"5\",\"0\",\"PrimaryOnly\",,,\"False\",\"T\",\"EveryTick\")","v":368.98},1.9817031038390359E-2,null,null,null,""]
[13,"09:35:00",null,{"$f":"RTD(\"cqg.rtd\", ,\"ContractData\",D12, \"LongDescription\",, \"T\")","v":"Netflix Inc"},null,null,{"$f":"C2","v":"2018-06-15"},{"$f":"RTD(\"cqg.rtd\",,\"StudyData\", \"Close(\"&$D$12&\") when LocalYear(\"&$D$12&\")=\"&$D$1&\" and localMonth(\"&$D$12&\") =\"&$E$1&\" and LocalDay(\"&$D$12&\")=\"&$F$1&\" and Barix(\"&$D$12&\",reference:=StartOfSession)=\"&A14&\"\", \"Bar\", \"\", \"Close\",\"5\",\"0\",\"PrimaryOnly\",,,\"False\",\"T\",\"EveryTick\")","v":""},{"$error":"#N/A"},{"$f":"RTD(\"cqg.rtd\",,\"StudyData\", \"Close(\"&$D$12&\") when LocalYear(\"&$D$12&\")=\"&$D$2&\" and localMonth(\"&$D$12&\") =\"&$E$2&\" and LocalDay(\"&$D$12&\")=\"&$F$2&\" and Barix(\"&$D$12&\",reference:=StartOfSession)=\"&A14&\"\", \"Bar\", \"\", \"Close\",\"5\",\"0\",\"PrimaryOnly\",,,\"False\",\"T\",\"EveryTick\")","v":396.11},8.2470028253621014E-3,{"$f":"RTD(\"cqg.rtd\",,\"StudyData\", \"Close(\"&$D$12&\") when LocalYear(\"&$D$12&\")=\"&$D$3&\" and localMonth(\"&$D$12&\") =\"&$E$3&\" and LocalDay(\"&$D$12&\")=\"&$F$3&\" and Barix(\"&$D$12&\",reference:=StartOfSession)=\"&A14&\"\", \"Bar\", \"\", \"Close\",\"5\",\"0\",\"PrimaryOnly\",,,\"False\",\"T\",\"EveryTick\")","v":389.99},2.6478561840339015E-2,{"$f":"RTD(\"cqg.rtd\",,\"StudyData\", \"Close(\"&$D$12&\") when LocalYear(\"&$D$12&\")=\"&$D$4&\" and localMonth(\"&$D$12&\") =\"&$E$4&\" and LocalDay(\"&$D$12&\")=\"&$F$4&\" and Barix(\"&$D$12&\",reference:=StartOfSession)=\"&A14&\"\", \"Bar\", \"\", \"Close\",\"5\",\"0\",\"PrimaryOnly\",,,\"False\",\"T\",\"EveryTick\")","v":372.37},2.3472500893274389E-2,{"$f":"RTD(\"cqg.rtd\",,\"StudyData\", \"Close(\"&$D$12&\") when LocalYear(\"&$D$12&\")=\"&$D$5&\" and localMonth(\"&$D$12&\") =\"&$E$5&\" and LocalDay(\"&$D$12&\")=\"&$F$5&\" and Barix(\"&$D$12&\",reference:=StartOfSession)=\"&A14&\"\", \"Bar\", \"\", \"Close\",\"5\",\"0\",\"PrimaryOnly\",,,\"False\",\"T\",\"EveryTick\")","v":364.88},9.4895559551805425E-3,{"$f":"RTD(\"cqg.rtd\",,\"StudyData\", \"Close(\"&$D$12&\") when LocalYear(\"&$D$12&\")=\"&$D$6&\" and localMonth(\"&$D$12&\") =\"&$E$6&\" and LocalDay(\"&$D$12&\")=\"&$F$6&\" and Barix(\"&$D$12&\",reference:=StartOfSession)=\"&A14&\"\", \"Bar\", \"\", \"Close\",\"5\",\"0\",\"PrimaryOnly\",,,\"False\",\"T\",\"EveryTick\")","v":363.88},9.1799095875974221E-3,{"$f":"RTD(\"cqg.rtd\",,\"StudyData\", \"Close(\"&$D$12&\") when LocalYear(\"&$D$12&\")=\"&$D$7&\" and localMonth(\"&$D$12&\") =\"&$E$7&\" and LocalDay(\"&$D$12&\")=\"&$F$7&\" and Barix(\"&$D$12&\",reference:=StartOfSession)=\"&A14&\"\", \"Bar\", \"\", \"Close\",\"5\",\"0\",\"PrimaryOnly\",,,\"False\",\"T\",\"EveryTick\")","v":359.52},-5.2019922523519526E-3,{"$f":"RTD(\"cqg.rtd\",,\"StudyData\", \"Close(\"&$D$12&\") when LocalYear(\"&$D$12&\")=\"&$D$8&\" and localMonth(\"&$D$12&\") =\"&$E$8&\" and LocalDay(\"&$D$12&\")=\"&$F$8&\" and Barix(\"&$D$12&\",reference:=StartOfSession)=\"&A14&\"\", \"Bar\", \"\", \"Close\",\"5\",\"0\",\"PrimaryOnly\",,,\"False\",\"T\",\"EveryTick\")","v":359.07},-2.2805823921621976E-2,{"$f":"RTD(\"cqg.rtd\",,\"StudyData\", \"Close(\"&$D$12&\") when LocalYear(\"&$D$12&\")=\"&$D$9&\" and localMonth(\"&$D$12&\") =\"&$E$9&\" and LocalDay(\"&$D$12&\")=\"&$F$9&\" and Barix(\"&$D$12&\",reference:=StartOfSession)=\"&A14&\"\", \"Bar\", \"\", \"Close\",\"5\",\"0\",\"PrimaryOnly\",,,\"False\",\"T\",\"EveryTick\")","v":364.23},-4.2919628212137592E-3,{"$f":"RTD(\"cqg.rtd\",,\"StudyData\", \"Close(\"&$D$12&\") when LocalYear(\"&$D$12&\")=\"&$D$10&\" and localMonth(\"&$D$12&\") =\"&$E$10&\" and LocalDay(\"&$D$12&\")=\"&$F$10&\" and Barix(\"&$D$12&\",reference:=StartOfSession)=\"&A14&\"\", \"Bar\", \"\", \"Close\",\"5\",\"0\",\"PrimaryOnly\",,,\"False\",\"T\",\"EveryTick\")","v":369.34},2.0812028412702726E-2,null,null,null,""]
[14,"09:40:00","",null,null,null,"2018-06-14",{"$f":"RTD(\"cqg.rtd\",,\"StudyData\", \"Close(\"&$D$12&\") when LocalYear(\"&$D$12&\")=\"&$D$1&\" and localMonth(\"&$D$12&\") =\"&$E$1&\" and LocalDay(\"&$D$12&\")=\"&$F$1&\" and Barix(\"&$D$12&\",reference:=StartOfSession)=\"&A15&\"\", \"Bar\", \"\", \"Close\",\"5\",\"0\",\"PrimaryOnly\",,,\"False\",\"T\",\"EveryTick\")","v":""},{"$error":"#N/A"},{"$f":"RTD(\"cqg.rtd\",,\"StudyData\", \"Close(\"&$D$12&\") when LocalYear(\"&$D$12&\")=\"&$D$2&\" and localMonth(\"&$D$12&\") =\"&$E$2&\" and LocalDay(\"&$D$12&\")=\"&$F$2&\" and Barix(\"&$D$12&\",reference:=StartOfSession)=\"&A15&\"\", \"Bar\", \"\", \"Close\",\"5\",\"0\",\"PrimaryOnly\",,,\"False\",\"T\",\"EveryTick\")","v":395.15},5.8034464326621338E-3,{"$f":"RTD(\"cqg.rtd\",,\"StudyData\", \"Close(\"&$D$12&\") when LocalYear(\"&$D$12&\")=\"&$D$3&\" and localMonth(\"&$D$12&\") =\"&$E$3&\" and LocalDay(\"&$D$12&\")=\"&$F$3&\" and Barix(\"&$D$12&\",reference:=StartOfSession)=\"&A15&\"\", \"Bar\", \"\", \"Close\",\"5\",\"0\",\"PrimaryOnly\",,,\"False\",\"T\",\"EveryTick\")","v":389.49},2.5162529939725745E-2,{"$f":"RTD(\"cqg.rtd\",,\"StudyData\", \"Close(\"&$D$12&\") when LocalYear(\"&$D$12&\")=\"&$D$4&\" and localMonth(\"&$D$12&\") =\"&$E$4&\" and LocalDay(\"&$D$12&\")=\"&$F$4&\" and Barix(\"&$D$12&\",reference:=StartOfSession)=\"&A15&\"\", \"Bar\", \"\", \"Close\",\"5\",\"0\",\"PrimaryOnly\",,,\"False\",\"T\",\"EveryTick\")","v":372.8},2.4654371547151218E-2,{"$f":"RTD(\"cqg.rtd\",,\"StudyData\", \"Close(\"&$D$12&\") when LocalYear(\"&$D$12&\")=\"&$D$5&\" and localMonth(\"&$D$12&\") =\"&$E$5&\" and LocalDay(\"&$D$12&\")=\"&$F$5&\" and Barix(\"&$D$12&\",reference:=StartOfSession)=\"&A15&\"\", \"Bar\", \"\", \"Close\",\"5\",\"0\",\"PrimaryOnly\",,,\"False\",\"T\",\"EveryTick\")","v":364.85},9.4065569235026545E-3,{"$f":"RTD(\"cqg.rtd\",,\"StudyData\", \"Close(\"&$D$12&\") when LocalYear(\"&$D$12&\")=\"&$D$6&\" and localMonth(\"&$D$12&\") =\"&$E$6&\" and LocalDay(\"&$D$12&\")=\"&$F$6&\" and Barix(\"&$D$12&\",reference:=StartOfSession)=\"&A15&\"\", \"Bar\", \"\", \"Close\",\"5\",\"0\",\"PrimaryOnly\",,,\"False\",\"T\",\"EveryTick\")","v":363.13},7.0998696508306359E-3,{"$f":"RTD(\"cqg.rtd\",,\"StudyData\", \"Close(\"&$D$12&\") when LocalYear(\"&$D$12&\")=\"&$D$7&\" and localMonth(\"&$D$12&\") =\"&$E$7&\" and LocalDay(\"&$D$12&\")=\"&$F$7&\" and Barix(\"&$D$12&\",reference:=StartOfSession)=\"&A15&\"\", \"Bar\", \"\", \"Close\",\"5\",\"0\",\"PrimaryOnly\",,,\"False\",\"T\",\"EveryTick\")","v":359.28},-5.8660763696735049E-3,{"$f":"RTD(\"cqg.rtd\",,\"StudyData\", \"Close(\"&$D$12&\") when LocalYear(\"&$D$12&\")=\"&$D$8&\" and localMonth(\"&$D$12&\") =\"&$E$8&\" and LocalDay(\"&$D$12&\")=\"&$F$8&\" and Barix(\"&$D$12&\",reference:=StartOfSession)=\"&A15&\"\", \"Bar\", \"\", \"Close\",\"5\",\"0\",\"PrimaryOnly\",,,\"False\",\"T\",\"EveryTick\")","v":359.08},-2.2778609334603361E-2,{"$f":"RTD(\"cqg.rtd\",,\"StudyData\", \"Close(\"&$D$12&\") when LocalYear(\"&$D$12&\")=\"&$D$9&\" and localMonth(\"&$D$12&\") =\"&$E$9&\" and LocalDay(\"&$D$12&\")=\"&$F$9&\" and Barix(\"&$D$12&\",reference:=StartOfSession)=\"&A15&\"\", \"Bar\", \"\", \"Close\",\"5\",\"0\",\"PrimaryOnly\",,,\"False\",\"T\",\"EveryTick\")","v":364.06},-4.7566976489885433E-3,{"$f":"RTD(\"cqg.rtd\",,\"StudyData\", \"Close(\"&$D$12&\") when LocalYear(\"&$D$12&\")=\"&$D$10&\" and localMonth(\"&$D$12&\") =\"&$E$10&\" and LocalDay(\"&$D$12&\")=\"&$F$10&\" and Barix(\"&$D$12&\",reference:=StartOfSession)=\"&A15&\"\", \"Bar\", \"\", \"Close\",\"5\",\"0\",\"PrimaryOnly\",,,\"False\",\"T\",\"EveryTick\")","v":369.63},2.1613554075343395E-2,null,null,null,""]
[15,"09:45:00",null,{"$f":"RTD(\"cqg.rtd\", ,\"ContractData\",D12, \"Ticksize\",, \"T\")","v":0.01},null,null,"2018-06-13",{"$f":"RTD(\"cqg.rtd\",,\"StudyData\", \"Close(\"&$D$12&\") when LocalYear(\"&$D$12&\")=\"&$D$1&\" and localMonth(\"&$D$12&\") =\"&$E$1&\" and LocalDay(\"&$D$12&\")=\"&$F$1&\" and Barix(\"&$D$12&\",reference:=StartOfSession)=\"&A16&\"\", \"Bar\", \"\", \"Close\",\"5\",\"0\",\"PrimaryOnly\",,,\"False\",\"T\",\"EveryTick\")","v":""},{"$error":"#N/A"},{"$f":"RTD(\"cqg.rtd\",,\"StudyData\", \"Close(\"&$D$12&\") when LocalYear(\"&$D$12&\")=\"&$D$2&\" and localMonth(\"&$D$12&\") =\"&$E$2&\" and LocalDay(\"&$D$12&\")=\"&$F$2&\" and Barix(\"&$D$12&\",reference:=StartOfSession)=\"&A16&\"\", \"Bar\", \"\", \"Close\",\"5\",\"0\",\"PrimaryOnly\",,,\"False\",\"T\",\"EveryTick\")","v":396.03},8.0433731259703413E-3,{"$f":"RTD(\"cqg.rtd\",,\"StudyData\", \"Close(\"&$D$12&\") when LocalYear(\"&$D$12&\")=\"&$D$3&\" and localMonth(\"&$D$12&\") =\"&$E$3&\" and LocalDay(\"&$D$12&\")=\"&$F$3&\" and Barix(\"&$D$12&\",reference:=StartOfSession)=\"&A16&\"\", \"Bar\", \"\", \"Close\",\"5\",\"0\",\"PrimaryOnly\",,,\"False\",\"T\",\"EveryTick\")","v":388.77},2.3267444002842561E-2,{"$f":"RTD(\"cqg.rtd\",,\"StudyData\", \"Close(\"&$D$12&\") when LocalYear(\"&$D$12&\")=\"&$D$4&\" and localMonth(\"&$D$12&\") =\"&$E$4&\" and LocalDay(\"&$D$12&\")=\"&$F$4&\" and Barix(\"&$D$12&\",reference:=StartOfSession)=\"&A16&\"\", \"Bar\", \"\", \"Close\",\"5\",\"0\",\"PrimaryOnly\",,,\"False\",\"T\",\"EveryTick\")","v":372.57},2.4022208174147294E-2,{"$f":"RTD(\"cqg.rtd\",,\"StudyData\", \"Close(\"&$D$12&\") when LocalYear(\"&$D$12&\")=\"&$D$5&\" and localMonth(\"&$D$12&\") =\"&$E$5&\" and LocalDay(\"&$D$12&\")=\"&$F$5&\" and Barix(\"&$D$12&\",reference:=StartOfSession)=\"&A16&\"\", \"Bar\", \"\", \"Close\",\"5\",\"0\",\"PrimaryOnly\",,,\"False\",\"T\",\"EveryTick\")","v":364.71},9.0192281090053696E-3,{"$f":"RTD(\"cqg.rtd\",,\"StudyData\", \"Close(\"&$D$12&\") when LocalYear(\"&$D$12&\")=\"&$D$6&\" and localMonth(\"&$D$12&\") =\"&$E$6&\" and LocalDay(\"&$D$12&\")=\"&$F$6&\" and Barix(\"&$D$12&\",reference:=StartOfSession)=\"&A16&\"\", \"Bar\", \"\", \"Close\",\"5\",\"0\",\"PrimaryOnly\",,,\"False\",\"T\",\"EveryTick\")","v":362.73},5.990515017888413E-3,{"$f":"RTD(\"cqg.rtd\",,\"StudyData\", \"Close(\"&$D$12&\") when LocalYear(\"&$D$12&\")=\"&$D$7&\" and localMonth(\"&$D$12&\") =\"&$E$7&\" and LocalDay(\"&$D$12&\")=\"&$F$7&\" and Barix(\"&$D$12&\",reference:=StartOfSession)=\"&A16&\"\", \"Bar\", \"\", \"Close\",\"5\",\"0\",\"PrimaryOnly\",,,\"False\",\"T\",\"EveryTick\")","v":359.92},-4.0951853901493125E-3,{"$f":"RTD(\"cqg.rtd\",,\"StudyData\", \"Close(\"&$D$12&\") when LocalYear(\"&$D$12&\")=\"&$D$8&\" and localMonth(\"&$D$12&\") =\"&$E$8&\" and LocalDay(\"&$D$12&\")=\"&$F$8&\" and Barix(\"&$D$12&\",reference:=StartOfSession)=\"&A16&\"\", \"Bar\", \"\", \"Close\",\"5\",\"0\",\"PrimaryOnly\",,,\"False\",\"T\",\"EveryTick\")","v":358.92},-2.3214042726901547E-2,{"$f":"RTD(\"cqg.rtd\",,\"StudyData\", \"Close(\"&$D$12&\") when LocalYear(\"&$D$12&\")=\"&$D$9&\" and localMonth(\"&$D$12&\") =\"&$E$9&\" and LocalDay(\"&$D$12&\")=\"&$F$9&\" and Barix(\"&$D$12&\",reference:=StartOfSession)=\"&A16&\"\", \"Bar\", \"\", \"Close\",\"5\",\"0\",\"PrimaryOnly\",,,\"False\",\"T\",\"EveryTick\")","v":363.72},-5.6861673045379554E-3,{"$f":"RTD(\"cqg.rtd\",,\"StudyData\", \"Close(\"&$D$12&\") when LocalYear(\"&$D$12&\")=\"&$D$10&\" and localMonth(\"&$D$12&\") =\"&$E$10&\" and LocalDay(\"&$D$12&\")=\"&$F$10&\" and Barix(\"&$D$12&\",reference:=StartOfSession)=\"&A16&\"\", \"Bar\", \"\", \"Close\",\"5\",\"0\",\"PrimaryOnly\",,,\"False\",\"T\",\"EveryTick\")","v":369.05},2.0010502750062213E-2,null,null,null,""]
[16,"09:50:00",null,{"$f":"IF(D16>=1,0,IF(LEN(D16)-2=1,2,LEN(D16)-2))","v":2},null,{"$f":"VLOOKUP(D17,D18:E25,2,FALSE)","v":"#.00"},"2018-06-12",{"$f":"RTD(\"cqg.rtd\",,\"StudyData\", \"Close(\"&$D$12&\") when LocalYear(\"&$D$12&\")=\"&$D$1&\" and localMonth(\"&$D$12&\") =\"&$E$1&\" and LocalDay(\"&$D$12&\")=\"&$F$1&\" and Barix(\"&$D$12&\",reference:=StartOfSession)=\"&A17&\"\", \"Bar\", \"\", \"Close\",\"5\",\"0\",\"PrimaryOnly\",,,\"False\",\"T\",\"EveryTick\")","v":""},{"$error":"#N/A"},{"$f":"RTD(\"cqg.rtd\",,\"StudyData\", \"Close(\"&$D$12&\") when LocalYear(\"&$D$12&\")=\"&$D$2&\" and localMonth(\"&$D$12&\") =\"&$E$2&\" and LocalDay(\"&$D$12&\")=\"&$F$2&\" and Barix(\"&$D$12&\",reference:=StartOfSession)=\"&A17&\"\", \"Bar\", \"\", \"Close\",\"5\",\"0\",\"PrimaryOnly\",,,\"False\",\"T\",\"EveryTick\")","v":397.34},1.1377809453508719E-2,{"$f":"RTD(\"cqg.rtd\",,\"StudyData\", \"Close(\"&$D$12&\") when LocalYear(\"&$D$12&\")=\"&$D$3&\" and localMonth(\"&$D$12&\") =\"&$E$3&\" and LocalDay(\"&$D$12&\")=\"&$F$3&\" and Barix(\"&$D$12&\",reference:=StartOfSession)=\"&A17&\"\", \"Bar\", \"\", \"Close\",\"5\",\"0\",\"PrimaryOnly\",,,\"False\",\"T\",\"EveryTick\")","v":388.4},2.2293580396388731E-2,{"$f":"RTD(\"cqg.rtd\",,\"StudyData\", \"Close(\"&$D$12&\") when LocalYear(\"&$D$12&\")=\"&$D$4&\" and localMonth(\"&$D$12&\") =\"&$E$4&\" and LocalDay(\"&$D$12&\")=\"&$F$4&\" and Barix(\"&$D$12&\",reference:=StartOfSession)=\"&A17&\"\", \"Bar\", \"\", \"Close\",\"5\",\"0\",\"PrimaryOnly\",,,\"False\",\"T\",\"EveryTick\")","v":373.07},2.5396476376329632E-2,{"$f":"RTD(\"cqg.rtd\",,\"StudyData\", \"Close(\"&$D$12&\") when LocalYear(\"&$D$12&\")=\"&$D$5&\" and localMonth(\"&$D$12&\") =\"&$E$5&\" and LocalDay(\"&$D$12&\")=\"&$F$5&\" and Barix(\"&$D$12&\",reference:=StartOfSession)=\"&A17&\"\", \"Bar\", \"\", \"Close\",\"5\",\"0\",\"PrimaryOnly\",,,\"False\",\"T\",\"EveryTick\")","v":365.12},1.0153548208604278E-2,{"$f":"RTD(\"cqg.rtd\",,\"StudyData\", \"Close(\"&$D$12&\") when LocalYear(\"&$D$12&\")=\"&$D$6&\" and localMonth(\"&$D$12&\") =\"&$E$6&\" and LocalDay(\"&$D$12&\")=\"&$F$6&\" and Barix(\"&$D$12&\",reference:=StartOfSession)=\"&A17&\"\", \"Bar\", \"\", \"Close\",\"5\",\"0\",\"PrimaryOnly\",,,\"False\",\"T\",\"EveryTick\")","v":362.84},6.2955875419474219E-3,{"$f":"RTD(\"cqg.rtd\",,\"StudyData\", \"Close(\"&$D$12&\") when LocalYear(\"&$D$12&\")=\"&$D$7&\" and localMonth(\"&$D$12&\") =\"&$E$7&\" and LocalDay(\"&$D$12&\")=\"&$F$7&\" and Barix(\"&$D$12&\",reference:=StartOfSession)=\"&A17&\"\", \"Bar\", \"\", \"Close\",\"5\",\"0\",\"PrimaryOnly\",,,\"False\",\"T\",\"EveryTick\")","v":360.48},-2.545655783065742E-3,{"$f":"RTD(\"cqg.rtd\",,\"StudyData\", \"Close(\"&$D$12&\") when LocalYear(\"&$D$12&\")=\"&$D$8&\" and localMonth(\"&$D$12&\") =\"&$E$8&\" and LocalDay(\"&$D$12&\")=\"&$F$8&\" and Barix(\"&$D$12&\",reference:=StartOfSession)=\"&A17&\"\", \"Bar\", \"\", \"Close\",\"5\",\"0\",\"PrimaryOnly\",,,\"False\",\"T\",\"EveryTick\")","v":358.14},-2.53367805143557E-2,{"$f":"RTD(\"cqg.rtd\",,\"StudyData\", \"Close(\"&$D$12&\") when LocalYear(\"&$D$12&\")=\"&$D$9&\" and localMonth(\"&$D$12&\") =\"&$E$9&\" and LocalDay(\"&$D$12&\")=\"&$F$9&\" and Barix(\"&$D$12&\",reference:=StartOfSession)=\"&A17&\"\", \"Bar\", \"\", \"Close\",\"5\",\"0\",\"PrimaryOnly\",,,\"False\",\"T\",\"EveryTick\")","v":364.16},-4.4833242208856929E-3,{"$f":"RTD(\"cqg.rtd\",,\"StudyData\", \"Close(\"&$D$12&\") when LocalYear(\"&$D$12&\")=\"&$D$10&\" and localMonth(\"&$D$12&\") =\"&$E$10&\" and LocalDay(\"&$D$12&\")=\"&$F$10&\" and Barix(\"&$D$12&\",reference:=StartOfSession)=\"&A17&\"\", \"Bar\", \"\", \"Close\",\"5\",\"0\",\"PrimaryOnly\",,,\"False\",\"T\",\"EveryTick\")","v":368.59},1.8739117216218383E-2,null,null,null,""]
[17,"09:55:00",null,0,"#",null,"2018-06-11",{"$f":"RTD(\"cqg.rtd\",,\"StudyData\", \"Close(\"&$D$12&\") when LocalYear(\"&$D$12&\")=\"&$D$1&\" and localMonth(\"&$D$12&\") =\"&$E$1&\" and LocalDay(\"&$D$12&\")=\"&$F$1&\" and Barix(\"&$D$12&\",reference:=StartOfSession)=\"&A18&\"\", \"Bar\", \"\", \"Close\",\"5\",\"0\",\"PrimaryOnly\",,,\"False\",\"T\",\"EveryTick\")","v":""},{"$error":"#N/A"},{"$f":"RTD(\"cqg.rtd\",,\"StudyData\", \"Close(\"&$D$12&\") when LocalYear(\"&$D$12&\")=\"&$D$2&\" and localMonth(\"&$D$12&\") =\"&$E$2&\" and LocalDay(\"&$D$12&\")=\"&$F$2&\" and Barix(\"&$D$12&\",reference:=StartOfSession)=\"&A18&\"\", \"Bar\", \"\", \"Close\",\"5\",\"0\",\"PrimaryOnly\",,,\"False\",\"T\",\"EveryTick\")","v":397.23},1.1097818616845301E-2,{"$f":"RTD(\"cqg.rtd\",,\"StudyData\", \"Close(\"&$D$12&\") when LocalYear(\"&$D$12&\")=\"&$D$3&\" and localMonth(\"&$D$12&\") =\"&$E$3&\" and LocalDay(\"&$D$12&\")=\"&$F$3&\" and Barix(\"&$D$12&\",reference:=StartOfSession)=\"&A18&\"\", \"Bar\", \"\", \"Close\",\"5\",\"0\",\"PrimaryOnly\",,,\"False\",\"T\",\"EveryTick\")","v":387.02},1.8661332350696114E-2,{"$f":"RTD(\"cqg.rtd\",,\"StudyData\", \"Close(\"&$D$12&\") when LocalYear(\"&$D$12&\")=\"&$D$4&\" and localMonth(\"&$D$12&\") =\"&$E$4&\" and LocalDay(\"&$D$12&\")=\"&$F$4&\" and Barix(\"&$D$12&\",reference:=StartOfSession)=\"&A18&\"\", \"Bar\", \"\", \"Close\",\"5\",\"0\",\"PrimaryOnly\",,,\"False\",\"T\",\"EveryTick\")","v":372.78},2.4599400819063817E-2,{"$f":"RTD(\"cqg.rtd\",,\"StudyData\", \"Close(\"&$D$12&\") when LocalYear(\"&$D$12&\")=\"&$D$5&\" and localMonth(\"&$D$12&\") =\"&$E$5&\" and LocalDay(\"&$D$12&\")=\"&$F$5&\" and Barix(\"&$D$12&\",reference:=StartOfSession)=\"&A18&\"\", \"Bar\", \"\", \"Close\",\"5\",\"0\",\"PrimaryOnly\",,,\"False\",\"T\",\"EveryTick\")","v":365.17},1.0291879928067581E-2,{"$f":"RTD(\"cqg.rtd\",,\"StudyData\", \"Close(\"&$D$12&\") when LocalYear(\"&$D$12&\")=\"&$D$6&\" and localMonth(\"&$D$12&\") =\"&$E$6&\" and LocalDay(\"&$D$12&\")=\"&$F$6&\" and Barix(\"&$D$12&\",reference:=StartOfSession)=\"&A18&\"\", \"Bar\", \"\", \"Close\",\"5\",\"0\",\"PrimaryOnly\",,,\"False\",\"T\",\"EveryTick\")","v":363.25},7.4326760407133338E-3,{"$f":"RTD(\"cqg.rtd\",,\"StudyData\", \"Close(\"&$D$12&\") when LocalYear(\"&$D$12&\")=\"&$D$7&\" and localMonth(\"&$D$12&\") =\"&$E$7&\" and LocalDay(\"&$D$12&\")=\"&$F$7&\" and Barix(\"&$D$12&\",reference:=StartOfSession)=\"&A18&\"\", \"Bar\", \"\", \"Close\",\"5\",\"0\",\"PrimaryOnly\",,,\"False\",\"T\",\"EveryTick\")","v":361.07},-9.1311566131705617E-4,{"$f":"RTD(\"cqg.rtd\",,\"StudyData\", \"Close(\"&$D$12&\") when LocalYear(\"&$D$12&\")=\"&$D$8&\" and localMonth(\"&$D$12&\") =\"&$E$8&\" and LocalDay(\"&$D$12&\")=\"&$F$8&\" and Barix(\"&$D$12&\",reference:=StartOfSession)=\"&A18&\"\", \"Bar\", \"\", \"Close\",\"5\",\"0\",\"PrimaryOnly\",,,\"False\",\"T\",\"EveryTick\")","v":359.59},-2.1390665396652644E-2,{"$f":"RTD(\"cqg.rtd\",,\"StudyData\", \"Close(\"&$D$12&\") when LocalYear(\"&$D$12&\")=\"&$D$9&\" and localMonth(\"&$D$12&\") =\"&$E$9&\" and LocalDay(\"&$D$12&\")=\"&$F$9&\" and Barix(\"&$D$12&\",reference:=StartOfSession)=\"&A18&\"\", \"Bar\", \"\", \"Close\",\"5\",\"0\",\"PrimaryOnly\",,,\"False\",\"T\",\"EveryTick\")","v":365.56},-6.5609622744671706E-4,{"$f":"RTD(\"cqg.rtd\",,\"StudyData\", \"Close(\"&$D$12&\") when LocalYear(\"&$D$12&\")=\"&$D$10&\" and localMonth(\"&$D$12&\") =\"&$E$10&\" and LocalDay(\"&$D$12&\")=\"&$F$10&\" and Barix(\"&$D$12&\",reference:=StartOfSession)=\"&A18&\"\", \"Bar\", \"\", \"Close\",\"5\",\"0\",\"PrimaryOnly\",,,\"False\",\"T\",\"EveryTick\")","v":368.81},1.9347171167187198E-2,null,null,null,""]
[18,"10:00:00",null,1,"#.0",null,"2018-06-08",{"$f":"RTD(\"cqg.rtd\",,\"StudyData\", \"Close(\"&$D$12&\") when LocalYear(\"&$D$12&\")=\"&$D$1&\" and localMonth(\"&$D$12&\") =\"&$E$1&\" and LocalDay(\"&$D$12&\")=\"&$F$1&\" and Barix(\"&$D$12&\",reference:=StartOfSession)=\"&A19&\"\", \"Bar\", \"\", \"Close\",\"5\",\"0\",\"PrimaryOnly\",,,\"False\",\"T\",\"EveryTick\")","v":""},{"$error":"#N/A"},{"$f":"RTD(\"cqg.rtd\",,\"StudyData\", \"Close(\"&$D$12&\") when LocalYear(\"&$D$12&\")=\"&$D$2&\" and localMonth(\"&$D$12&\") =\"&$E$2&\" and LocalDay(\"&$D$12&\")=\"&$F$2&\" and Barix(\"&$D$12&\",reference:=StartOfSession)=\"&A19&\"\", \"Bar\", \"\", \"Close\",\"5\",\"0\",\"PrimaryOnly\",,,\"False\",\"T\",\"EveryTick\")","v":395.67},7.1270394787079985E-3,{"$f":"RTD(\"cqg.rtd\",,\"StudyData\", \"Close(\"&$D$12&\") when LocalYear(\"&$D$12&\")=\"&$D$3&\" and localMonth(\"&$D$12&\") =\"&$E$3&\" and LocalDay(\"&$D$12&\")=\"&$F$3&\" and Barix(\"&$D$12&\",reference:=StartOfSession)=\"&A19&\"\", \"Bar\", \"\", \"Close\",\"5\",\"0\",\"PrimaryOnly\",,,\"False\",\"T\",\"EveryTick\")","v":388.16},2.1661885084094487E-2,{"$f":"RTD(\"cqg.rtd\",,\"StudyData\", \"Close(\"&$D$12&\") when LocalYear(\"&$D$12&\")=\"&$D$4&\" and localMonth(\"&$D$12&\") =\"&$E$4&\" and LocalDay(\"&$D$12&\")=\"&$F$4&\" and Barix(\"&$D$12&\",reference:=StartOfSession)=\"&A19&\"\", \"Bar\", \"\", \"Close\",\"5\",\"0\",\"PrimaryOnly\",,,\"False\",\"T\",\"EveryTick\")","v":372.81},2.468185691119484E-2,{"$f":"RTD(\"cqg.rtd\",,\"StudyData\", \"Close(\"&$D$12&\") when LocalYear(\"&$D$12&\")=\"&$D$5&\" and localMonth(\"&$D$12&\") =\"&$E$5&\" and LocalDay(\"&$D$12&\")=\"&$F$5&\" and Barix(\"&$D$12&\",reference:=StartOfSession)=\"&A19&\"\", \"Bar\", \"\", \"Close\",\"5\",\"0\",\"PrimaryOnly\",,,\"False\",\"T\",\"EveryTick\")","v":365.17},1.0291879928067581E-2,{"$f":"RTD(\"cqg.rtd\",,\"StudyData\", \"Close(\"&$D$12&\") when LocalYear(\"&$D$12&\")=\"&$D$6&\" and localMonth(\"&$D$12&\") =\"&$E$6&\" and LocalDay(\"&$D$12&\")=\"&$F$6&\" and Barix(\"&$D$12&\",reference:=StartOfSession)=\"&A19&\"\", \"Bar\", \"\", \"Close\",\"5\",\"0\",\"PrimaryOnly\",,,\"False\",\"T\",\"EveryTick\")","v":362.95},6.6006600660065886E-3,{"$f":"RTD(\"cqg.rtd\",,\"StudyData\", \"Close(\"&$D$12&\") when LocalYear(\"&$D$12&\")=\"&$D$7&\" and localMonth(\"&$D$12&\") =\"&$E$7&\" and LocalDay(\"&$D$12&\")=\"&$F$7&\" and Barix(\"&$D$12&\",reference:=StartOfSession)=\"&A19&\"\", \"Bar\", \"\", \"Close\",\"5\",\"0\",\"PrimaryOnly\",,,\"False\",\"T\",\"EveryTick\")","v":360.65},-2.0752628666297732E-3,{"$f":"RTD(\"cqg.rtd\",,\"StudyData\", \"Close(\"&$D$12&\") when LocalYear(\"&$D$12&\")=\"&$D$8&\" and localMonth(\"&$D$12&\") =\"&$E$8&\" and LocalDay(\"&$D$12&\")=\"&$F$8&\" and Barix(\"&$D$12&\",reference:=StartOfSession)=\"&A19&\"\", \"Bar\", \"\", \"Close\",\"5\",\"0\",\"PrimaryOnly\",,,\"False\",\"T\",\"EveryTick\")","v":360.97},-1.7635052388079907E-2,{"$f":"RTD(\"cqg.rtd\",,\"StudyData\", \"Close(\"&$D$12&\") when LocalYear(\"&$D$12&\")=\"&$D$9&\" and localMonth(\"&$D$12&\") =\"&$E$9&\" and LocalDay(\"&$D$12&\")=\"&$F$9&\" and Barix(\"&$D$12&\",reference:=StartOfSession)=\"&A19&\"\", \"Bar\", \"\", \"Close\",\"5\",\"0\",\"PrimaryOnly\",,,\"False\",\"T\",\"EveryTick\")","v":365.56},-6.5609622744671706E-4,{"$f":"RTD(\"cqg.rtd\",,\"StudyData\", \"Close(\"&$D$12&\") when LocalYear(\"&$D$12&\")=\"&$D$10&\" and localMonth(\"&$D$12&\") =\"&$E$10&\" and LocalDay(\"&$D$12&\")=\"&$F$10&\" and Barix(\"&$D$12&\",reference:=StartOfSession)=\"&A19&\"\", \"Bar\", \"\", \"Close\",\"5\",\"0\",\"PrimaryOnly\",,,\"False\",\"T\",\"EveryTick\")","v":368.72},1.9098421823609147E-2,null,null,null,""]
[19,"10:05:00",null,2,"#.00",null,"2018-06-07",{"$f":"RTD(\"cqg.rtd\",,\"StudyData\", \"Close(\"&$D$12&\") when LocalYear(\"&$D$12&\")=\"&$D$1&\" and localMonth(\"&$D$12&\") =\"&$E$1&\" and LocalDay(\"&$D$12&\")=\"&$F$1&\" and Barix(\"&$D$12&\",reference:=StartOfSession)=\"&A20&\"\", \"Bar\", \"\", \"Close\",\"5\",\"0\",\"PrimaryOnly\",,,\"False\",\"T\",\"EveryTick\")","v":""},{"$error":"#N/A"},{"$f":"RTD(\"cqg.rtd\",,\"StudyData\", \"Close(\"&$D$12&\") when LocalYear(\"&$D$12&\")=\"&$D$2&\" and localMonth(\"&$D$12&\") =\"&$E$2&\" and LocalDay(\"&$D$12&\")=\"&$F$2&\" and Barix(\"&$D$12&\",reference:=StartOfSession)=\"&A20&\"\", \"Bar\", \"\", \"Close\",\"5\",\"0\",\"PrimaryOnly\",,,\"False\",\"T\",\"EveryTick\")","v":395.61},6.9743172041642505E-3,{"$f":"RTD(\"cqg.rtd\",,\"StudyData\", \"Close(\"&$D$12&\") when LocalYear(\"&$D$12&\")=\"&$D$3&\" and localMonth(\"&$D$12&\") =\"&$E$3&\" and LocalDay(\"&$D$12&\")=\"&$F$3&\" and Barix(\"&$D$12&\",reference:=StartOfSession)=\"&A20&\"\", \"Bar\", \"\", \"Close\",\"5\",\"0\",\"PrimaryOnly\",,,\"False\",\"T\",\"EveryTick\")","v":389.27},2.4583475903455835E-2,{"$f":"RTD(\"cqg.rtd\",,\"StudyData\", \"Close(\"&$D$12&\") when LocalYear(\"&$D$12&\")=\"&$D$4&\" and localMonth(\"&$D$12&\") =\"&$E$4&\" and LocalDay(\"&$D$12&\")=\"&$F$4&\" and Barix(\"&$D$12&\",reference:=StartOfSession)=\"&A20&\"\", \"Bar\", \"\", \"Close\",\"5\",\"0\",\"PrimaryOnly\",,,\"False\",\"T\",\"EveryTick\")","v":373.17},2.5671330016766161E-2,{"$f":"RTD(\"cqg.rtd\",,\"StudyData\", \"Close(\"&$D$12&\") when LocalYear(\"&$D$12&\")=\"&$D$5&\" and localMonth(\"&$D$12&\") =\"&$E$5&\" and LocalDay(\"&$D$12&\")=\"&$F$5&\" and Barix(\"&$D$12&\",reference:=StartOfSession)=\"&A20&\"\", \"Bar\", \"\", \"Close\",\"5\",\"0\",\"PrimaryOnly\",,,\"False\",\"T\",\"EveryTick\")","v":365.34},1.0762207774242596E-2,{"$f":"RTD(\"cqg.rtd\",,\"StudyData\", \"Close(\"&$D$12&\") when LocalYear(\"&$D$12&\")=\"&$D$6&\" and localMonth(\"&$D$12&\") =\"&$E$6&\" and LocalDay(\"&$D$12&\")=\"&$F$6&\" and Barix(\"&$D$12&\",reference:=StartOfSession)=\"&A20&\"\", \"Bar\", \"\", \"Close\",\"5\",\"0\",\"PrimaryOnly\",,,\"False\",\"T\",\"EveryTick\")","v":362.77},6.1014504811825404E-3,{"$f":"RTD(\"cqg.rtd\",,\"StudyData\", \"Close(\"&$D$12&\") when LocalYear(\"&$D$12&\")=\"&$D$7&\" and localMonth(\"&$D$12&\") =\"&$E$7&\" and LocalDay(\"&$D$12&\")=\"&$F$7&\" and Barix(\"&$D$12&\",reference:=StartOfSession)=\"&A20&\"\", \"Bar\", \"\", \"Close\",\"5\",\"0\",\"PrimaryOnly\",,,\"False\",\"T\",\"EveryTick\")","v":361.44},1.106806862203112E-4,{"$f":"RTD(\"cqg.rtd\",,\"StudyData\", \"Close(\"&$D$12&\") when LocalYear(\"&$D$12&\")=\"&$D$8&\" and localMonth(\"&$D$12&\") =\"&$E$8&\" and LocalDay(\"&$D$12&\")=\"&$F$8&\" and Barix(\"&$D$12&\",reference:=StartOfSession)=\"&A20&\"\", \"Bar\", \"\", \"Close\",\"5\",\"0\",\"PrimaryOnly\",,,\"False\",\"T\",\"EveryTick\")","v":360.76},-1.8206558715471489E-2,{"$f":"RTD(\"cqg.rtd\",,\"StudyData\", \"Close(\"&$D$12&\") when LocalYear(\"&$D$12&\")=\"&$D$9&\" and localMonth(\"&$D$12&\") =\"&$E$9&\" and LocalDay(\"&$D$12&\")=\"&$F$9&\" and Barix(\"&$D$12&\",reference:=StartOfSession)=\"&A20&\"\", \"Bar\", \"\", \"Close\",\"5\",\"0\",\"PrimaryOnly\",,,\"False\",\"T\",\"EveryTick\")","v":364.91},-2.4330235101147793E-3,{"$f":"RTD(\"cqg.rtd\",,\"StudyData\", \"Close(\"&$D$12&\") when LocalYear(\"&$D$12&\")=\"&$D$10&\" and localMonth(\"&$D$12&\") =\"&$E$10&\" and LocalDay(\"&$D$12&\")=\"&$F$10&\" and Barix(\"&$D$12&\",reference:=StartOfSession)=\"&A20&\"\", \"Bar\", \"\", \"Close\",\"5\",\"0\",\"PrimaryOnly\",,,\"False\",\"T\",\"EveryTick\")","v":367.6},1.6002874436859181E-2,null,null,null,""]
[20,"10:10:00",null,3,"#.000",null,"2018-06-06",{"$f":"RTD(\"cqg.rtd\",,\"StudyData\", \"Close(\"&$D$12&\") when LocalYear(\"&$D$12&\")=\"&$D$1&\" and localMonth(\"&$D$12&\") =\"&$E$1&\" and LocalDay(\"&$D$12&\")=\"&$F$1&\" and Barix(\"&$D$12&\",reference:=StartOfSession)=\"&A21&\"\", \"Bar\", \"\", \"Close\",\"5\",\"0\",\"PrimaryOnly\",,,\"False\",\"T\",\"EveryTick\")","v":""},{"$error":"#N/A"},{"$f":"RTD(\"cqg.rtd\",,\"StudyData\", \"Close(\"&$D$12&\") when LocalYear(\"&$D$12&\")=\"&$D$2&\" and localMonth(\"&$D$12&\") =\"&$E$2&\" and LocalDay(\"&$D$12&\")=\"&$F$2&\" and Barix(\"&$D$12&\",reference:=StartOfSession)=\"&A21&\"\", \"Bar\", \"\", \"Close\",\"5\",\"0\",\"PrimaryOnly\",,,\"False\",\"T\",\"EveryTick\")","v":395.25},6.0579835569017628E-3,{"$f":"RTD(\"cqg.rtd\",,\"StudyData\", \"Close(\"&$D$12&\") when LocalYear(\"&$D$12&\")=\"&$D$3&\" and localMonth(\"&$D$12&\") =\"&$E$3&\" and LocalDay(\"&$D$12&\")=\"&$F$3&\" and Barix(\"&$D$12&\",reference:=StartOfSession)=\"&A21&\"\", \"Bar\", \"\", \"Close\",\"5\",\"0\",\"PrimaryOnly\",,,\"False\",\"T\",\"EveryTick\")","v":389.56},2.5346774405811585E-2,{"$f":"RTD(\"cqg.rtd\",,\"StudyData\", \"Close(\"&$D$12&\") when LocalYear(\"&$D$12&\")=\"&$D$4&\" and localMonth(\"&$D$12&\") =\"&$E$4&\" and LocalDay(\"&$D$12&\")=\"&$F$4&\" and Barix(\"&$D$12&\",reference:=StartOfSession)=\"&A21&\"\", \"Bar\", \"\", \"Close\",\"5\",\"0\",\"PrimaryOnly\",,,\"False\",\"T\",\"EveryTick\")","v":372.73},2.4461973998845709E-2,{"$f":"RTD(\"cqg.rtd\",,\"StudyData\", \"Close(\"&$D$12&\") when LocalYear(\"&$D$12&\")=\"&$D$5&\" and localMonth(\"&$D$12&\") =\"&$E$5&\" and LocalDay(\"&$D$12&\")=\"&$F$5&\" and Barix(\"&$D$12&\",reference:=StartOfSession)=\"&A21&\"\", \"Bar\", \"\", \"Close\",\"5\",\"0\",\"PrimaryOnly\",,,\"False\",\"T\",\"EveryTick\")","v":364.94},9.6555540185364764E-3,{"$f":"RTD(\"cqg.rtd\",,\"StudyData\", \"Close(\"&$D$12&\") when LocalYear(\"&$D$12&\")=\"&$D$6&\" and localMonth(\"&$D$12&\") =\"&$E$6&\" and LocalDay(\"&$D$12&\")=\"&$F$6&\" and Barix(\"&$D$12&\",reference:=StartOfSession)=\"&A21&\"\", \"Bar\", \"\", \"Close\",\"5\",\"0\",\"PrimaryOnly\",,,\"False\",\"T\",\"EveryTick\")","v":362.79},6.1569182128297624E-3,{"$f":"RTD(\"cqg.rtd\",,\"StudyData\", \"Close(\"&$D$12&\") when LocalYear(\"&$D$12&\")=\"&$D$7&\" and localMonth(\"&$D$12&\") =\"&$E$7&\" and LocalDay(\"&$D$12&\")=\"&$F$7&\" and Barix(\"&$D$12&\",reference:=StartOfSession)=\"&A21&\"\", \"Bar\", \"\", \"Close\",\"5\",\"0\",\"PrimaryOnly\",,,\"False\",\"T\",\"EveryTick\")","v":361.97},1.5771997786387661E-3,{"$f":"RTD(\"cqg.rtd\",,\"StudyData\", \"Close(\"&$D$12&\") when LocalYear(\"&$D$12&\")=\"&$D$8&\" and localMonth(\"&$D$12&\") =\"&$E$8&\" and LocalDay(\"&$D$12&\")=\"&$F$8&\" and Barix(\"&$D$12&\",reference:=StartOfSession)=\"&A21&\"\", \"Bar\", \"\", \"Close\",\"5\",\"0\",\"PrimaryOnly\",,,\"False\",\"T\",\"EveryTick\")","v":362.22},-1.4233229010749656E-2,{"$f":"RTD(\"cqg.rtd\",,\"StudyData\", \"Close(\"&$D$12&\") when LocalYear(\"&$D$12&\")=\"&$D$9&\" and localMonth(\"&$D$12&\") =\"&$E$9&\" and LocalDay(\"&$D$12&\")=\"&$F$9&\" and Barix(\"&$D$12&\",reference:=StartOfSession)=\"&A21&\"\", \"Bar\", \"\", \"Close\",\"5\",\"0\",\"PrimaryOnly\",,,\"False\",\"T\",\"EveryTick\")","v":365.85},1.3668671405142529E-4,{"$f":"RTD(\"cqg.rtd\",,\"StudyData\", \"Close(\"&$D$12&\") when LocalYear(\"&$D$12&\")=\"&$D$10&\" and localMonth(\"&$D$12&\") =\"&$E$10&\" and LocalDay(\"&$D$12&\")=\"&$F$10&\" and Barix(\"&$D$12&\",reference:=StartOfSession)=\"&A21&\"\", \"Bar\", \"\", \"Close\",\"5\",\"0\",\"PrimaryOnly\",,,\"False\",\"T\",\"EveryTick\")","v":368.8},1.9319532351234098E-2,null,null,null,""]
[21,"10:15:00",null,4,"#.0000",null,"2018-06-05",{"$f":"RTD(\"cqg.rtd\",,\"StudyData\", \"Close(\"&$D$12&\") when LocalYear(\"&$D$12&\")=\"&$D$1&\" and localMonth(\"&$D$12&\") =\"&$E$1&\" and LocalDay(\"&$D$12&\")=\"&$F$1&\" and Barix(\"&$D$12&\",reference:=StartOfSession)=\"&A22&\"\", \"Bar\", \"\", \"Close\",\"5\",\"0\",\"PrimaryOnly\",,,\"False\",\"T\",\"EveryTick\")","v":""},{"$error":"#N/A"},{"$f":"RTD(\"cqg.rtd\",,\"StudyData\", \"Close(\"&$D$12&\") when LocalYear(\"&$D$12&\")=\"&$D$2&\" and localMonth(\"&$D$12&\") =\"&$E$2&\" and LocalDay(\"&$D$12&\")=\"&$F$2&\" and Barix(\"&$D$12&\",reference:=StartOfSession)=\"&A22&\"\", \"Bar\", \"\", \"Close\",\"5\",\"0\",\"PrimaryOnly\",,,\"False\",\"T\",\"EveryTick\")","v":394.95},5.2943721841830224E-3,{"$f":"RTD(\"cqg.rtd\",,\"StudyData\", \"Close(\"&$D$12&\") when LocalYear(\"&$D$12&\")=\"&$D$3&\" and localMonth(\"&$D$12&\") =\"&$E$3&\" and LocalDay(\"&$D$12&\")=\"&$F$3&\" and Barix(\"&$D$12&\",reference:=StartOfSession)=\"&A22&\"\", \"Bar\", \"\", \"Close\",\"5\",\"0\",\"PrimaryOnly\",,,\"False\",\"T\",\"EveryTick\")","v":389.42},2.4978285473639904E-2,{"$f":"RTD(\"cqg.rtd\",,\"StudyData\", \"Close(\"&$D$12&\") when LocalYear(\"&$D$12&\")=\"&$D$4&\" and localMonth(\"&$D$12&\") =\"&$E$4&\" and LocalDay(\"&$D$12&\")=\"&$F$4&\" and Barix(\"&$D$12&\",reference:=StartOfSession)=\"&A22&\"\", \"Bar\", \"\", \"Close\",\"5\",\"0\",\"PrimaryOnly\",,,\"False\",\"T\",\"EveryTick\")","v":372.75},2.4516944726932954E-2,{"$f":"RTD(\"cqg.rtd\",,\"StudyData\", \"Close(\"&$D$12&\") when LocalYear(\"&$D$12&\")=\"&$D$5&\" and localMonth(\"&$D$12&\") =\"&$E$5&\" and LocalDay(\"&$D$12&\")=\"&$F$5&\" and Barix(\"&$D$12&\",reference:=StartOfSession)=\"&A22&\"\", \"Bar\", \"\", \"Close\",\"5\",\"0\",\"PrimaryOnly\",,,\"False\",\"T\",\"EveryTick\")","v":365.13},1.0181214552496907E-2,{"$f":"RTD(\"cqg.rtd\",,\"StudyData\", \"Close(\"&$D$12&\") when LocalYear(\"&$D$12&\")=\"&$D$6&\" and localMonth(\"&$D$12&\") =\"&$E$6&\" and LocalDay(\"&$D$12&\")=\"&$F$6&\" and Barix(\"&$D$12&\",reference:=StartOfSession)=\"&A22&\"\", \"Bar\", \"\", \"Close\",\"5\",\"0\",\"PrimaryOnly\",,,\"False\",\"T\",\"EveryTick\")","v":362.15},4.3819508001219851E-3,{"$f":"RTD(\"cqg.rtd\",,\"StudyData\", \"Close(\"&$D$12&\") when LocalYear(\"&$D$12&\")=\"&$D$7&\" and localMonth(\"&$D$12&\") =\"&$E$7&\" and LocalDay(\"&$D$12&\")=\"&$F$7&\" and Barix(\"&$D$12&\",reference:=StartOfSession)=\"&A22&\"\", \"Bar\", \"\", \"Close\",\"5\",\"0\",\"PrimaryOnly\",,,\"False\",\"T\",\"EveryTick\")","v":361.79},1.0791366906476017E-3,{"$f":"RTD(\"cqg.rtd\",,\"StudyData\", \"Close(\"&$D$12&\") when LocalYear(\"&$D$12&\")=\"&$D$8&\" and localMonth(\"&$D$12&\") =\"&$E$8&\" and LocalDay(\"&$D$12&\")=\"&$F$8&\" and Barix(\"&$D$12&\",reference:=StartOfSession)=\"&A22&\"\", \"Bar\", \"\", \"Close\",\"5\",\"0\",\"PrimaryOnly\",,,\"False\",\"T\",\"EveryTick\")","v":361.97},-1.4913593686215707E-2,{"$f":"RTD(\"cqg.rtd\",,\"StudyData\", \"Close(\"&$D$12&\") when LocalYear(\"&$D$12&\")=\"&$D$9&\" and localMonth(\"&$D$12&\") =\"&$E$9&\" and LocalDay(\"&$D$12&\")=\"&$F$9&\" and Barix(\"&$D$12&\",reference:=StartOfSession)=\"&A22&\"\", \"Bar\", \"\", \"Close\",\"5\",\"0\",\"PrimaryOnly\",,,\"False\",\"T\",\"EveryTick\")","v":365.63},-4.6473482777478379E-4,{"$f":"RTD(\"cqg.rtd\",,\"StudyData\", \"Close(\"&$D$12&\") when LocalYear(\"&$D$12&\")=\"&$D$10&\" and localMonth(\"&$D$12&\") =\"&$E$10&\" and LocalDay(\"&$D$12&\")=\"&$F$10&\" and Barix(\"&$D$12&\",reference:=StartOfSession)=\"&A22&\"\", \"Bar\", \"\", \"Close\",\"5\",\"0\",\"PrimaryOnly\",,,\"False\",\"T\",\"EveryTick\")","v":368.94},1.9706475774577806E-2,null,null,null,""]
[22,"10:20:00",null,5,"#.00000",null,null,{"$f":"RTD(\"cqg.rtd\",,\"StudyData\", \"Close(\"&$D$12&\") when LocalYear(\"&$D$12&\")=\"&$D$1&\" and localMonth(\"&$D$12&\") =\"&$E$1&\" and LocalDay(\"&$D$12&\")=\"&$F$1&\" and Barix(\"&$D$12&\",reference:=StartOfSession)=\"&A23&\"\", \"Bar\", \"\", \"Close\",\"5\",\"0\",\"PrimaryOnly\",,,\"False\",\"T\",\"EveryTick\")","v":""},{"$error":"#N/A"},{"$f":"RTD(\"cqg.rtd\",,\"StudyData\", \"Close(\"&$D$12&\") when LocalYear(\"&$D$12&\")=\"&$D$2&\" and localMonth(\"&$D$12&\") =\"&$E$2&\" and LocalDay(\"&$D$12&\")=\"&$F$2&\" and Barix(\"&$D$12&\",reference:=StartOfSession)=\"&A23&\"\", \"Bar\", \"\", \"Close\",\"5\",\"0\",\"PrimaryOnly\",,,\"False\",\"T\",\"EveryTick\")","v":394.54},4.2507699748008648E-3,{"$f":"RTD(\"cqg.rtd\",,\"StudyData\", \"Close(\"&$D$12&\") when LocalYear(\"&$D$12&\")=\"&$D$3&\" and localMonth(\"&$D$12&\") =\"&$E$3&\" and LocalDay(\"&$D$12&\")=\"&$F$3&\" and Barix(\"&$D$12&\",reference:=StartOfSession)=\"&A23&\"\", \"Bar\", \"\", \"Close\",\"5\",\"0\",\"PrimaryOnly\",,,\"False\",\"T\",\"EveryTick\")","v":389.45},2.5057247387676628E-2,{"$f":"RTD(\"cqg.rtd\",,\"StudyData\", \"Close(\"&$D$12&\") when LocalYear(\"&$D$12&\")=\"&$D$4&\" and localMonth(\"&$D$12&\") =\"&$E$4&\" and LocalDay(\"&$D$12&\")=\"&$F$4&\" and Barix(\"&$D$12&\",reference:=StartOfSession)=\"&A23&\"\", \"Bar\", \"\", \"Close\",\"5\",\"0\",\"PrimaryOnly\",,,\"False\",\"T\",\"EveryTick\")","v":373.29},2.6001154385289934E-2,{"$f":"RTD(\"cqg.rtd\",,\"StudyData\", \"Close(\"&$D$12&\") when LocalYear(\"&$D$12&\")=\"&$D$5&\" and localMonth(\"&$D$12&\") =\"&$E$5&\" and LocalDay(\"&$D$12&\")=\"&$F$5&\" and Barix(\"&$D$12&\",reference:=StartOfSession)=\"&A23&\"\", \"Bar\", \"\", \"Close\",\"5\",\"0\",\"PrimaryOnly\",,,\"False\",\"T\",\"EveryTick\")","v":365.33},1.0734541430349968E-2,{"$f":"RTD(\"cqg.rtd\",,\"StudyData\", \"Close(\"&$D$12&\") when LocalYear(\"&$D$12&\")=\"&$D$6&\" and localMonth(\"&$D$12&\") =\"&$E$6&\" and LocalDay(\"&$D$12&\")=\"&$F$6&\" and Barix(\"&$D$12&\",reference:=StartOfSession)=\"&A23&\"\", \"Bar\", \"\", \"Close\",\"5\",\"0\",\"PrimaryOnly\",,,\"False\",\"T\",\"EveryTick\")","v":362.74},6.0182488837119451E-3,{"$f":"RTD(\"cqg.rtd\",,\"StudyData\", \"Close(\"&$D$12&\") when LocalYear(\"&$D$12&\")=\"&$D$7&\" and localMonth(\"&$D$12&\") =\"&$E$7&\" and LocalDay(\"&$D$12&\")=\"&$F$7&\" and Barix(\"&$D$12&\",reference:=StartOfSession)=\"&A23&\"\", \"Bar\", \"\", \"Close\",\"5\",\"0\",\"PrimaryOnly\",,,\"False\",\"T\",\"EveryTick\")","v":361.53},3.5971223021581477E-4,{"$f":"RTD(\"cqg.rtd\",,\"StudyData\", \"Close(\"&$D$12&\") when LocalYear(\"&$D$12&\")=\"&$D$8&\" and localMonth(\"&$D$12&\") =\"&$E$8&\" and LocalDay(\"&$D$12&\")=\"&$F$8&\" and Barix(\"&$D$12&\",reference:=StartOfSession)=\"&A23&\"\", \"Bar\", \"\", \"Close\",\"5\",\"0\",\"PrimaryOnly\",,,\"False\",\"T\",\"EveryTick\")","v":362.17},-1.4369301945842898E-2,{"$f":"RTD(\"cqg.rtd\",,\"StudyData\", \"Close(\"&$D$12&\") when LocalYear(\"&$D$12&\")=\"&$D$9&\" and localMonth(\"&$D$12&\") =\"&$E$9&\" and LocalDay(\"&$D$12&\")=\"&$F$9&\" and Barix(\"&$D$12&\",reference:=StartOfSession)=\"&A23&\"\", \"Bar\", \"\", \"Close\",\"5\",\"0\",\"PrimaryOnly\",,,\"False\",\"T\",\"EveryTick\")","v":365.65},-4.1006014215427583E-4,{"$f":"RTD(\"cqg.rtd\",,\"StudyData\", \"Close(\"&$D$12&\") when LocalYear(\"&$D$12&\")=\"&$D$10&\" and localMonth(\"&$D$12&\") =\"&$E$10&\" and LocalDay(\"&$D$12&\")=\"&$F$10&\" and Barix(\"&$D$12&\",reference:=StartOfSession)=\"&A23&\"\", \"Bar\", \"\", \"Close\",\"5\",\"0\",\"PrimaryOnly\",,,\"False\",\"T\",\"EveryTick\")","v":368.9},1.9595920510765249E-2,null,null,null,""]
[23,"10:25:00",null,6,"#.000000",null,null,{"$f":"RTD(\"cqg.rtd\",,\"StudyData\", \"Close(\"&$D$12&\") when LocalYear(\"&$D$12&\")=\"&$D$1&\" and localMonth(\"&$D$12&\") =\"&$E$1&\" and LocalDay(\"&$D$12&\")=\"&$F$1&\" and Barix(\"&$D$12&\",reference:=StartOfSession)=\"&A24&\"\", \"Bar\", \"\", \"Close\",\"5\",\"0\",\"PrimaryOnly\",,,\"False\",\"T\",\"EveryTick\")","v":""},{"$error":"#N/A"},{"$f":"RTD(\"cqg.rtd\",,\"StudyData\", \"Close(\"&$D$12&\") when LocalYear(\"&$D$12&\")=\"&$D$2&\" and localMonth(\"&$D$12&\") =\"&$E$2&\" and LocalDay(\"&$D$12&\")=\"&$F$2&\" and Barix(\"&$D$12&\",reference:=StartOfSession)=\"&A24&\"\", \"Bar\", \"\", \"Close\",\"5\",\"0\",\"PrimaryOnly\",,,\"False\",\"T\",\"EveryTick\")","v":393.78},2.3162878305800091E-3,{"$f":"RTD(\"cqg.rtd\",,\"StudyData\", \"Close(\"&$D$12&\") when LocalYear(\"&$D$12&\")=\"&$D$3&\" and localMonth(\"&$D$12&\") =\"&$E$3&\" and LocalDay(\"&$D$12&\")=\"&$F$3&\" and Barix(\"&$D$12&\",reference:=StartOfSession)=\"&A24&\"\", \"Bar\", \"\", \"Close\",\"5\",\"0\",\"PrimaryOnly\",,,\"False\",\"T\",\"EveryTick\")","v":387.52},1.9977364251309384E-2,{"$f":"RTD(\"cqg.rtd\",,\"StudyData\", \"Close(\"&$D$12&\") when LocalYear(\"&$D$12&\")=\"&$D$4&\" and localMonth(\"&$D$12&\") =\"&$E$4&\" and LocalDay(\"&$D$12&\")=\"&$F$4&\" and Barix(\"&$D$12&\",reference:=StartOfSession)=\"&A24&\"\", \"Bar\", \"\", \"Close\",\"5\",\"0\",\"PrimaryOnly\",,,\"False\",\"T\",\"EveryTick\")","v":373.68},2.7073083582992121E-2,{"$f":"RTD(\"cqg.rtd\",,\"StudyData\", \"Close(\"&$D$12&\") when LocalYear(\"&$D$12&\")=\"&$D$5&\" and localMonth(\"&$D$12&\") =\"&$E$5&\" and LocalDay(\"&$D$12&\")=\"&$F$5&\" and Barix(\"&$D$12&\",reference:=StartOfSession)=\"&A24&\"\", \"Bar\", \"\", \"Close\",\"5\",\"0\",\"PrimaryOnly\",,,\"False\",\"T\",\"EveryTick\")","v":365.45},1.1066537557061835E-2,{"$f":"RTD(\"cqg.rtd\",,\"StudyData\", \"Close(\"&$D$12&\") when LocalYear(\"&$D$12&\")=\"&$D$6&\" and localMonth(\"&$D$12&\") =\"&$E$6&\" and LocalDay(\"&$D$12&\")=\"&$F$6&\" and Barix(\"&$D$12&\",reference:=StartOfSession)=\"&A24&\"\", \"Bar\", \"\", \"Close\",\"5\",\"0\",\"PrimaryOnly\",,,\"False\",\"T\",\"EveryTick\")","v":363.16},7.1830712483013891E-3,{"$f":"RTD(\"cqg.rtd\",,\"StudyData\", \"Close(\"&$D$12&\") when LocalYear(\"&$D$12&\")=\"&$D$7&\" and localMonth(\"&$D$12&\") =\"&$E$7&\" and LocalDay(\"&$D$12&\")=\"&$F$7&\" and Barix(\"&$D$12&\",reference:=StartOfSession)=\"&A24&\"\", \"Bar\", \"\", \"Close\",\"5\",\"0\",\"PrimaryOnly\",,,\"False\",\"T\",\"EveryTick\")","v":362.09},1.9092418372993851E-3,{"$f":"RTD(\"cqg.rtd\",,\"StudyData\", \"Close(\"&$D$12&\") when LocalYear(\"&$D$12&\")=\"&$D$8&\" and localMonth(\"&$D$12&\") =\"&$E$8&\" and LocalDay(\"&$D$12&\")=\"&$F$8&\" and Barix(\"&$D$12&\",reference:=StartOfSession)=\"&A24&\"\", \"Bar\", \"\", \"Close\",\"5\",\"0\",\"PrimaryOnly\",,,\"False\",\"T\",\"EveryTick\")","v":361.15},-1.7145189821744487E-2,{"$f":"RTD(\"cqg.rtd\",,\"StudyData\", \"Close(\"&$D$12&\") when LocalYear(\"&$D$12&\")=\"&$D$9&\" and localMonth(\"&$D$12&\") =\"&$E$9&\" and LocalDay(\"&$D$12&\")=\"&$F$9&\" and Barix(\"&$D$12&\",reference:=StartOfSession)=\"&A24&\"\", \"Bar\", \"\", \"Close\",\"5\",\"0\",\"PrimaryOnly\",,,\"False\",\"T\",\"EveryTick\")","v":366.4},1.6402405686166371E-3,{"$f":"RTD(\"cqg.rtd\",,\"StudyData\", \"Close(\"&$D$12&\") when LocalYear(\"&$D$12&\")=\"&$D$10&\" and localMonth(\"&$D$12&\") =\"&$E$10&\" and LocalDay(\"&$D$12&\")=\"&$F$10&\" and Barix(\"&$D$12&\",reference:=StartOfSession)=\"&A24&\"\", \"Bar\", \"\", \"Close\",\"5\",\"0\",\"PrimaryOnly\",,,\"False\",\"T\",\"EveryTick\")","v":368.69},1.901550537574969E-2,null,null,null,""]
[24,"10:30:00",null,7,"#.0000000",null,null,{"$f":"RTD(\"cqg.rtd\",,\"StudyData\", \"Close(\"&$D$12&\") when LocalYear(\"&$D$12&\")=\"&$D$1&\" and localMonth(\"&$D$12&\") =\"&$E$1&\" and LocalDay(\"&$D$12&\")=\"&$F$1&\" and Barix(\"&$D$12&\",reference:=StartOfSession)=\"&A25&\"\", \"Bar\", \"\", \"Close\",\"5\",\"0\",\"PrimaryOnly\",,,\"False\",\"T\",\"EveryTick\")","v":""},{"$error":"#N/A"},{"$f":"RTD(\"cqg.rtd\",,\"StudyData\", \"Close(\"&$D$12&\") when LocalYear(\"&$D$12&\")=\"&$D$2&\" and localMonth(\"&$D$12&\") =\"&$E$2&\" and LocalDay(\"&$D$12&\")=\"&$F$2&\" and Barix(\"&$D$12&\",reference:=StartOfSession)=\"&A25&\"\", \"Bar\", \"\", \"Close\",\"5\",\"0\",\"PrimaryOnly\",,,\"False\",\"T\",\"EveryTick\")","v":393.06},4.8362053605517788E-4,{"$f":"RTD(\"cqg.rtd\",,\"StudyData\", \"Close(\"&$D$12&\") when LocalYear(\"&$D$12&\")=\"&$D$3&\" and localMonth(\"&$D$12&\") =\"&$E$3&\" and LocalDay(\"&$D$12&\")=\"&$F$3&\" and Barix(\"&$D$12&\",reference:=StartOfSession)=\"&A25&\"\", \"Bar\", \"\", \"Close\",\"5\",\"0\",\"PrimaryOnly\",,,\"False\",\"T\",\"EveryTick\")","v":389.44},2.5030926749664388E-2,{"$f":"RTD(\"cqg.rtd\",,\"StudyData\", \"Close(\"&$D$12&\") when LocalYear(\"&$D$12&\")=\"&$D$4&\" and localMonth(\"&$D$12&\") =\"&$E$4&\" and LocalDay(\"&$D$12&\")=\"&$F$4&\" and Barix(\"&$D$12&\",reference:=StartOfSession)=\"&A25&\"\", \"Bar\", \"\", \"Close\",\"5\",\"0\",\"PrimaryOnly\",,,\"False\",\"T\",\"EveryTick\")","v":374.73},2.9959046807575062E-2,{"$f":"RTD(\"cqg.rtd\",,\"StudyData\", \"Close(\"&$D$12&\") when LocalYear(\"&$D$12&\")=\"&$D$5&\" and localMonth(\"&$D$12&\") =\"&$E$5&\" and LocalDay(\"&$D$12&\")=\"&$F$5&\" and Barix(\"&$D$12&\",reference:=StartOfSession)=\"&A25&\"\", \"Bar\", \"\", \"Close\",\"5\",\"0\",\"PrimaryOnly\",,,\"False\",\"T\",\"EveryTick\")","v":365.42},1.0983538525383946E-2,{"$f":"RTD(\"cqg.rtd\",,\"StudyData\", \"Close(\"&$D$12&\") when LocalYear(\"&$D$12&\")=\"&$D$6&\" and localMonth(\"&$D$12&\") =\"&$E$6&\" and LocalDay(\"&$D$12&\")=\"&$F$6&\" and Barix(\"&$D$12&\",reference:=StartOfSession)=\"&A25&\"\", \"Bar\", \"\", \"Close\",\"5\",\"0\",\"PrimaryOnly\",,,\"False\",\"T\",\"EveryTick\")","v":362.57},5.546773164711429E-3,{"$f":"RTD(\"cqg.rtd\",,\"StudyData\", \"Close(\"&$D$12&\") when LocalYear(\"&$D$12&\")=\"&$D$7&\" and localMonth(\"&$D$12&\") =\"&$E$7&\" and LocalDay(\"&$D$12&\")=\"&$F$7&\" and Barix(\"&$D$12&\",reference:=StartOfSession)=\"&A25&\"\", \"Bar\", \"\", \"Close\",\"5\",\"0\",\"PrimaryOnly\",,,\"False\",\"T\",\"EveryTick\")","v":361.63},6.364139457665141E-4,{"$f":"RTD(\"cqg.rtd\",,\"StudyData\", \"Close(\"&$D$12&\") when LocalYear(\"&$D$12&\")=\"&$D$8&\" and localMonth(\"&$D$12&\") =\"&$E$8&\" and LocalDay(\"&$D$12&\")=\"&$F$8&\" and Barix(\"&$D$12&\",reference:=StartOfSession)=\"&A25&\"\", \"Bar\", \"\", \"Close\",\"5\",\"0\",\"PrimaryOnly\",,,\"False\",\"T\",\"EveryTick\")","v":360.65},-1.8505919172676587E-2,{"$f":"RTD(\"cqg.rtd\",,\"StudyData\", \"Close(\"&$D$12&\") when LocalYear(\"&$D$12&\")=\"&$D$9&\" and localMonth(\"&$D$12&\") =\"&$E$9&\" and LocalDay(\"&$D$12&\")=\"&$F$9&\" and Barix(\"&$D$12&\",reference:=StartOfSession)=\"&A25&\"\", \"Bar\", \"\", \"Close\",\"5\",\"0\",\"PrimaryOnly\",,,\"False\",\"T\",\"EveryTick\")","v":366.23},1.1755057408420087E-3,{"$f":"RTD(\"cqg.rtd\",,\"StudyData\", \"Close(\"&$D$12&\") when LocalYear(\"&$D$12&\")=\"&$D$10&\" and localMonth(\"&$D$12&\") =\"&$E$10&\" and LocalDay(\"&$D$12&\")=\"&$F$10&\" and Barix(\"&$D$12&\",reference:=StartOfSession)=\"&A25&\"\", \"Bar\", \"\", \"Close\",\"5\",\"0\",\"PrimaryOnly\",,,\"False\",\"T\",\"EveryTick\")","v":368.1},1.7384815234515408E-2,null,null,null,""]
[25,"10:35:00",{"$f":"IF(WEEKDAY(TODAY())=7,TODAY()-1,IF(WEEKDAY(TODAY())=1,TODAY()-2,TODAY()))","v":"2018-06-18"},{"$f":"YEAR(C26)","v":2018},{"$f":"MONTH(C26)","v":6},{"$f":"DAY(C26)","v":18},null,{"$f":"RTD(\"cqg.rtd\",,\"StudyData\", \"Close(\"&$D$12&\") when LocalYear(\"&$D$12&\")=\"&$D$1&\" and localMonth(\"&$D$12&\") =\"&$E$1&\" and LocalDay(\"&$D$12&\")=\"&$F$1&\" and Barix(\"&$D$12&\",reference:=StartOfSession)=\"&A26&\"\", \"Bar\", \"\", \"Close\",\"5\",\"0\",\"PrimaryOnly\",,,\"False\",\"T\",\"EveryTick\")","v":""},{"$error":"#N/A"},{"$f":"RTD(\"cqg.rtd\",,\"StudyData\", \"Close(\"&$D$12&\") when LocalYear(\"&$D$12&\")=\"&$D$2&\" and localMonth(\"&$D$12&\") =\"&$E$2&\" and LocalDay(\"&$D$12&\")=\"&$F$2&\" and Barix(\"&$D$12&\",reference:=StartOfSession)=\"&A26&\"\", \"Bar\", \"\", \"Close\",\"5\",\"0\",\"PrimaryOnly\",,,\"False\",\"T\",\"EveryTick\")","v":392.51},-9.1633364726248793E-4,{"$f":"RTD(\"cqg.rtd\",,\"StudyData\", \"Close(\"&$D$12&\") when LocalYear(\"&$D$12&\")=\"&$D$3&\" and localMonth(\"&$D$12&\") =\"&$E$3&\" and LocalDay(\"&$D$12&\")=\"&$F$3&\" and Barix(\"&$D$12&\",reference:=StartOfSession)=\"&A26&\"\", \"Bar\", \"\", \"Close\",\"5\",\"0\",\"PrimaryOnly\",,,\"False\",\"T\",\"EveryTick\")","v":389.61},2.5478377595872941E-2,{"$f":"RTD(\"cqg.rtd\",,\"StudyData\", \"Close(\"&$D$12&\") when LocalYear(\"&$D$12&\")=\"&$D$4&\" and localMonth(\"&$D$12&\") =\"&$E$4&\" and LocalDay(\"&$D$12&\")=\"&$F$4&\" and Barix(\"&$D$12&\",reference:=StartOfSession)=\"&A26&\"\", \"Bar\", \"\", \"Close\",\"5\",\"0\",\"PrimaryOnly\",,,\"False\",\"T\",\"EveryTick\")","v":374.56},2.9491795618833024E-2,{"$f":"RTD(\"cqg.rtd\",,\"StudyData\", \"Close(\"&$D$12&\") when LocalYear(\"&$D$12&\")=\"&$D$5&\" and localMonth(\"&$D$12&\") =\"&$E$5&\" and LocalDay(\"&$D$12&\")=\"&$F$5&\" and Barix(\"&$D$12&\",reference:=StartOfSession)=\"&A26&\"\", \"Bar\", \"\", \"Close\",\"5\",\"0\",\"PrimaryOnly\",,,\"False\",\"T\",\"EveryTick\")","v":365.48},1.114953658873988E-2,{"$f":"RTD(\"cqg.rtd\",,\"StudyData\", \"Close(\"&$D$12&\") when LocalYear(\"&$D$12&\")=\"&$D$6&\" and localMonth(\"&$D$12&\") =\"&$E$6&\" and LocalDay(\"&$D$12&\")=\"&$F$6&\" and Barix(\"&$D$12&\",reference:=StartOfSession)=\"&A26&\"\", \"Bar\", \"\", \"Close\",\"5\",\"0\",\"PrimaryOnly\",,,\"False\",\"T\",\"EveryTick\")","v":362.53},5.4358377014171438E-3,{"$f":"RTD(\"cqg.rtd\",,\"StudyData\", \"Close(\"&$D$12&\") when LocalYear(\"&$D$12&\")=\"&$D$7&\" and localMonth(\"&$D$12&\") =\"&$E$7&\" and LocalDay(\"&$D$12&\")=\"&$F$7&\" and Barix(\"&$D$12&\",reference:=StartOfSession)=\"&A26&\"\", \"Bar\", \"\", \"Close\",\"5\",\"0\",\"PrimaryOnly\",,,\"False\",\"T\",\"EveryTick\")","v":361.61},5.8107360265643722E-4,{"$f":"RTD(\"cqg.rtd\",,\"StudyData\", \"Close(\"&$D$12&\") when LocalYear(\"&$D$12&\")=\"&$D$8&\" and localMonth(\"&$D$12&\") =\"&$E$8&\" and LocalDay(\"&$D$12&\")=\"&$F$8&\" and Barix(\"&$D$12&\",reference:=StartOfSession)=\"&A26&\"\", \"Bar\", \"\", \"Close\",\"5\",\"0\",\"PrimaryOnly\",,,\"False\",\"T\",\"EveryTick\")","v":361.13},-1.7199618995781721E-2,{"$f":"RTD(\"cqg.rtd\",,\"StudyData\", \"Close(\"&$D$12&\") when LocalYear(\"&$D$12&\")=\"&$D$9&\" and localMonth(\"&$D$12&\") =\"&$E$9&\" and LocalDay(\"&$D$12&\")=\"&$F$9&\" and Barix(\"&$D$12&\",reference:=StartOfSession)=\"&A26&\"\", \"Bar\", \"\", \"Close\",\"5\",\"0\",\"PrimaryOnly\",,,\"False\",\"T\",\"EveryTick\")","v":365.62},-4.9207217058503771E-4,{"$f":"RTD(\"cqg.rtd\",,\"StudyData\", \"Close(\"&$D$12&\") when LocalYear(\"&$D$12&\")=\"&$D$10&\" and localMonth(\"&$D$12&\") =\"&$E$10&\" and LocalDay(\"&$D$12&\")=\"&$F$10&\" and Barix(\"&$D$12&\",reference:=StartOfSession)=\"&A26&\"\", \"Bar\", \"\", \"Close\",\"5\",\"0\",\"PrimaryOnly\",,,\"False\",\"T\",\"EveryTick\")","v":368.35},1.8075785633343524E-2,null,null,null,""]
[26,"10:40:00",{"$f":"WORKDAY(C26,-1)","v":"2018-06-15"},{"$f":"YEAR(C27)","v":2018},{"$f":"MONTH(C27)","v":6},{"$f":"DAY(C27)","v":15},{"$f":"IF(RTD(\"cqg.rtd\",,\"StudyData\", \"Close(\"&$D$12&\") when LocalYear(\"&$D$12&\")=\"&D27&\" and localMonth(\"&$D$12&\") =\"&E27&\" and LocalDay(\"&$D$12&\")=\"&F27&\" and Barix(\"&$D$12&\",reference:=StartOfSession)=77\", \"Bar\", \"\", \"Close\",\"5\",\"0\",\"PrimaryOnly\",,,\"False\",\"T\",\"EveryTick\")=\"\",2,1)","v":1},{"$f":"RTD(\"cqg.rtd\",,\"StudyData\", \"Close(\"&$D$12&\") when LocalYear(\"&$D$12&\")=\"&$D$1&\" and localMonth(\"&$D$12&\") =\"&$E$1&\" and LocalDay(\"&$D$12&\")=\"&$F$1&\" and Barix(\"&$D$12&\",reference:=StartOfSession)=\"&A27&\"\", \"Bar\", \"\", \"Close\",\"5\",\"0\",\"PrimaryOnly\",,,\"False\",\"T\",\"EveryTick\")","v":""},{"$error":"#N/A"},{"$f":"RTD(\"cqg.rtd\",,\"StudyData\", \"Close(\"&$D$12&\") when LocalYear(\"&$D$12&\")=\"&$D$2&\" and localMonth(\"&$D$12&\") =\"&$E$2&\" and LocalDay(\"&$D$12&\")=\"&$F$2&\" and Barix(\"&$D$12&\",reference:=StartOfSession)=\"&A27&\"\", \"Bar\", \"\", \"Close\",\"5\",\"0\",\"PrimaryOnly\",,,\"False\",\"T\",\"EveryTick\")","v":393.66},2.0108432814926577E-3,{"$f":"RTD(\"cqg.rtd\",,\"StudyData\", \"Close(\"&$D$12&\") when LocalYear(\"&$D$12&\")=\"&$D$3&\" and localMonth(\"&$D$12&\") =\"&$E$3&\" and LocalDay(\"&$D$12&\")=\"&$F$3&\" and Barix(\"&$D$12&\",reference:=StartOfSession)=\"&A27&\"\", \"Bar\", \"\", \"Close\",\"5\",\"0\",\"PrimaryOnly\",,,\"False\",\"T\",\"EveryTick\")","v":389.21},2.4425552075382235E-2,{"$f":"RTD(\"cqg.rtd\",,\"StudyData\", \"Close(\"&$D$12&\") when LocalYear(\"&$D$12&\")=\"&$D$4&\" and localMonth(\"&$D$12&\") =\"&$E$4&\" and LocalDay(\"&$D$12&\")=\"&$F$4&\" and Barix(\"&$D$12&\",reference:=StartOfSession)=\"&A27&\"\", \"Bar\", \"\", \"Close\",\"5\",\"0\",\"PrimaryOnly\",,,\"False\",\"T\",\"EveryTick\")","v":375.43},3.1883022290630302E-2,{"$f":"RTD(\"cqg.rtd\",,\"StudyData\", \"Close(\"&$D$12&\") when LocalYear(\"&$D$12&\")=\"&$D$5&\" and localMonth(\"&$D$12&\") =\"&$E$5&\" and LocalDay(\"&$D$12&\")=\"&$F$5&\" and Barix(\"&$D$12&\",reference:=StartOfSession)=\"&A27&\"\", \"Bar\", \"\", \"Close\",\"5\",\"0\",\"PrimaryOnly\",,,\"False\",\"T\",\"EveryTick\")","v":365.55},1.1343200995988444E-2,{"$f":"RTD(\"cqg.rtd\",,\"StudyData\", \"Close(\"&$D$12&\") when LocalYear(\"&$D$12&\")=\"&$D$6&\" and localMonth(\"&$D$12&\") =\"&$E$6&\" and LocalDay(\"&$D$12&\")=\"&$F$6&\" and Barix(\"&$D$12&\",reference:=StartOfSession)=\"&A27&\"\", \"Bar\", \"\", \"Close\",\"5\",\"0\",\"PrimaryOnly\",,,\"False\",\"T\",\"EveryTick\")","v":362.68},5.8518456887705957E-3,{"$f":"RTD(\"cqg.rtd\",,\"StudyData\", \"Close(\"&$D$12&\") when LocalYear(\"&$D$12&\")=\"&$D$7&\" and localMonth(\"&$D$12&\") =\"&$E$7&\" and LocalDay(\"&$D$12&\")=\"&$F$7&\" and Barix(\"&$D$12&\",reference:=StartOfSession)=\"&A27&\"\", \"Bar\", \"\", \"Close\",\"5\",\"0\",\"PrimaryOnly\",,,\"False\",\"T\",\"EveryTick\")","v":362.01},1.6878804648589199E-3,{"$f":"RTD(\"cqg.rtd\",,\"StudyData\", \"Close(\"&$D$12&\") when LocalYear(\"&$D$12&\")=\"&$D$8&\" and localMonth(\"&$D$12&\") =\"&$E$8&\" and LocalDay(\"&$D$12&\")=\"&$F$8&\" and Barix(\"&$D$12&\",reference:=StartOfSession)=\"&A27&\"\", \"Bar\", \"\", \"Close\",\"5\",\"0\",\"PrimaryOnly\",,,\"False\",\"T\",\"EveryTick\")","v":361.39},-1.6492039733297055E-2,{"$f":"RTD(\"cqg.rtd\",,\"StudyData\", \"Close(\"&$D$12&\") when LocalYear(\"&$D$12&\")=\"&$D$9&\" and localMonth(\"&$D$12&\") =\"&$E$9&\" and LocalDay(\"&$D$12&\")=\"&$F$9&\" and Barix(\"&$D$12&\",reference:=StartOfSession)=\"&A27&\"\", \"Bar\", \"\", \"Close\",\"5\",\"0\",\"PrimaryOnly\",,,\"False\",\"T\",\"EveryTick\")","v":365.79},-2.7337342810253975E-5,{"$f":"RTD(\"cqg.rtd\",,\"StudyData\", \"Close(\"&$D$12&\") when LocalYear(\"&$D$12&\")=\"&$D$10&\" and localMonth(\"&$D$12&\") =\"&$E$10&\" and LocalDay(\"&$D$12&\")=\"&$F$10&\" and Barix(\"&$D$12&\",reference:=StartOfSession)=\"&A27&\"\", \"Bar\", \"\", \"Close\",\"5\",\"0\",\"PrimaryOnly\",,,\"False\",\"T\",\"EveryTick\")","v":367.06},1.4510378375390398E-2,null,null,null,""]
[27,"10:45:00",{"$f":"WORKDAY(C27,-1)","v":"2018-06-14"},2018,6,14,{"$f":"IF(RTD(\"cqg.rtd\",,\"StudyData\", \"Close(EP) when LocalYear(\"&$D$12&\")=\"&D28&\" and localMonth(\"&$D$12&\") =\"&E28&\" and LocalDay(\"&$D$12&\")=\"&F28&\" and Barix(\"&$D$12&\",reference:=StartOfSession)=77\", \"Bar\", \"\", \"Close\",\"5\",\"0\",\"PrimaryOnly\",,,\"False\",\"T\",\"EveryTick\")=\"\",2,1)","v":1},{"$f":"RTD(\"cqg.rtd\",,\"StudyData\", \"Close(\"&$D$12&\") when LocalYear(\"&$D$12&\")=\"&$D$1&\" and localMonth(\"&$D$12&\") =\"&$E$1&\" and LocalDay(\"&$D$12&\")=\"&$F$1&\" and Barix(\"&$D$12&\",reference:=StartOfSession)=\"&A28&\"\", \"Bar\", \"\", \"Close\",\"5\",\"0\",\"PrimaryOnly\",,,\"False\",\"T\",\"EveryTick\")","v":""},{"$error":"#N/A"},{"$f":"RTD(\"cqg.rtd\",,\"StudyData\", \"Close(\"&$D$12&\") when LocalYear(\"&$D$12&\")=\"&$D$2&\" and localMonth(\"&$D$12&\") =\"&$E$2&\" and LocalDay(\"&$D$12&\")=\"&$F$2&\" and Barix(\"&$D$12&\",reference:=StartOfSession)=\"&A28&\"\", \"Bar\", \"\", \"Close\",\"5\",\"0\",\"PrimaryOnly\",,,\"False\",\"T\",\"EveryTick\")","v":394.23},3.4617048896581912E-3,{"$f":"RTD(\"cqg.rtd\",,\"StudyData\", \"Close(\"&$D$12&\") when LocalYear(\"&$D$12&\")=\"&$D$3&\" and localMonth(\"&$D$12&\") =\"&$E$3&\" and LocalDay(\"&$D$12&\")=\"&$F$3&\" and Barix(\"&$D$12&\",reference:=StartOfSession)=\"&A28&\"\", \"Bar\", \"\", \"Close\",\"5\",\"0\",\"PrimaryOnly\",,,\"False\",\"T\",\"EveryTick\")","v":388.99},2.3846498039112474E-2,{"$f":"RTD(\"cqg.rtd\",,\"StudyData\", \"Close(\"&$D$12&\") when LocalYear(\"&$D$12&\")=\"&$D$4&\" and localMonth(\"&$D$12&\") =\"&$E$4&\" and LocalDay(\"&$D$12&\")=\"&$F$4&\" and Barix(\"&$D$12&\",reference:=StartOfSession)=\"&A28&\"\", \"Bar\", \"\", \"Close\",\"5\",\"0\",\"PrimaryOnly\",,,\"False\",\"T\",\"EveryTick\")","v":375.63},3.2432729571503206E-2,{"$f":"RTD(\"cqg.rtd\",,\"StudyData\", \"Close(\"&$D$12&\") when LocalYear(\"&$D$12&\")=\"&$D$5&\" and localMonth(\"&$D$12&\") =\"&$E$5&\" and LocalDay(\"&$D$12&\")=\"&$F$5&\" and Barix(\"&$D$12&\",reference:=StartOfSession)=\"&A28&\"\", \"Bar\", \"\", \"Close\",\"5\",\"0\",\"PrimaryOnly\",,,\"False\",\"T\",\"EveryTick\")","v":365.62},1.1536865403237007E-2,{"$f":"RTD(\"cqg.rtd\",,\"StudyData\", \"Close(\"&$D$12&\") when LocalYear(\"&$D$12&\")=\"&$D$6&\" and localMonth(\"&$D$12&\") =\"&$E$6&\" and LocalDay(\"&$D$12&\")=\"&$F$6&\" and Barix(\"&$D$12&\",reference:=StartOfSession)=\"&A28&\"\", \"Bar\", \"\", \"Close\",\"5\",\"0\",\"PrimaryOnly\",,,\"False\",\"T\",\"EveryTick\")","v":361.9},3.6886041545330563E-3,{"$f":"RTD(\"cqg.rtd\",,\"StudyData\", \"Close(\"&$D$12&\") when LocalYear(\"&$D$12&\")=\"&$D$7&\" and localMonth(\"&$D$12&\") =\"&$E$7&\" and LocalDay(\"&$D$12&\")=\"&$F$7&\" and Barix(\"&$D$12&\",reference:=StartOfSession)=\"&A28&\"\", \"Bar\", \"\", \"Close\",\"5\",\"0\",\"PrimaryOnly\",,,\"False\",\"T\",\"EveryTick\")","v":361.75},9.6845600442729037E-4,{"$f":"RTD(\"cqg.rtd\",,\"StudyData\", \"Close(\"&$D$12&\") when LocalYear(\"&$D$12&\")=\"&$D$8&\" and localMonth(\"&$D$12&\") =\"&$E$8&\" and LocalDay(\"&$D$12&\")=\"&$F$8&\" and Barix(\"&$D$12&\",reference:=StartOfSession)=\"&A28&\"\", \"Bar\", \"\", \"Close\",\"5\",\"0\",\"PrimaryOnly\",,,\"False\",\"T\",\"EveryTick\")","v":360.49},-1.894135256497477E-2,{"$f":"RTD(\"cqg.rtd\",,\"StudyData\", \"Close(\"&$D$12&\") when LocalYear(\"&$D$12&\")=\"&$D$9&\" and localMonth(\"&$D$12&\") =\"&$E$9&\" and LocalDay(\"&$D$12&\")=\"&$F$9&\" and Barix(\"&$D$12&\",reference:=StartOfSession)=\"&A28&\"\", \"Bar\", \"\", \"Close\",\"5\",\"0\",\"PrimaryOnly\",,,\"False\",\"T\",\"EveryTick\")","v":365.8},0,{"$f":"RTD(\"cqg.rtd\",,\"StudyData\", \"Close(\"&$D$12&\") when LocalYear(\"&$D$12&\")=\"&$D$10&\" and localMonth(\"&$D$12&\") =\"&$E$10&\" and LocalDay(\"&$D$12&\")=\"&$F$10&\" and Barix(\"&$D$12&\",reference:=StartOfSession)=\"&A28&\"\", \"Bar\", \"\", \"Close\",\"5\",\"0\",\"PrimaryOnly\",,,\"False\",\"T\",\"EveryTick\")","v":368.62},1.8822033664077836E-2,null,null,null,""]
[28,"10:50:00","2018-06-13",2018,6,13,{"$f":"IF(RTD(\"cqg.rtd\",,\"StudyData\", \"Close(EP) when LocalYear(\"&$D$12&\")=\"&D29&\" and localMonth(\"&$D$12&\") =\"&E29&\" and LocalDay(\"&$D$12&\")=\"&F29&\" and Barix(\"&$D$12&\",reference:=StartOfSession)=77\", \"Bar\", \"\", \"Close\",\"5\",\"0\",\"PrimaryOnly\",,,\"False\",\"T\",\"EveryTick\")=\"\",2,1)","v":1},{"$f":"RTD(\"cqg.rtd\",,\"StudyData\", \"Close(\"&$D$12&\") when LocalYear(\"&$D$12&\")=\"&$D$1&\" and localMonth(\"&$D$12&\") =\"&$E$1&\" and LocalDay(\"&$D$12&\")=\"&$F$1&\" and Barix(\"&$D$12&\",reference:=StartOfSession)=\"&A29&\"\", \"Bar\", \"\", \"Close\",\"5\",\"0\",\"PrimaryOnly\",,,\"False\",\"T\",\"EveryTick\")","v":""},{"$error":"#N/A"},{"$f":"RTD(\"cqg.rtd\",,\"StudyData\", \"Close(\"&$D$12&\") when LocalYear(\"&$D$12&\")=\"&$D$2&\" and localMonth(\"&$D$12&\") =\"&$E$2&\" and LocalDay(\"&$D$12&\")=\"&$F$2&\" and Barix(\"&$D$12&\",reference:=StartOfSession)=\"&A29&\"\", \"Bar\", \"\", \"Close\",\"5\",\"0\",\"PrimaryOnly\",,,\"False\",\"T\",\"EveryTick\")","v":394.41},3.9198717132894354E-3,{"$f":"RTD(\"cqg.rtd\",,\"StudyData\", \"Close(\"&$D$12&\") when LocalYear(\"&$D$12&\")=\"&$D$3&\" and localMonth(\"&$D$12&\") =\"&$E$3&\" and LocalDay(\"&$D$12&\")=\"&$F$3&\" and Barix(\"&$D$12&\",reference:=StartOfSession)=\"&A29&\"\", \"Bar\", \"\", \"Close\",\"5\",\"0\",\"PrimaryOnly\",,,\"False\",\"T\",\"EveryTick\")","v":389.69},2.5688942699971021E-2,{"$f":"RTD(\"cqg.rtd\",,\"StudyData\", \"Close(\"&$D$12&\") when LocalYear(\"&$D$12&\")=\"&$D$4&\" and localMonth(\"&$D$12&\") =\"&$E$4&\" and LocalDay(\"&$D$12&\")=\"&$F$4&\" and Barix(\"&$D$12&\",reference:=StartOfSession)=\"&A29&\"\", \"Bar\", \"\", \"Close\",\"5\",\"0\",\"PrimaryOnly\",,,\"False\",\"T\",\"EveryTick\")","v":375.53},3.2157875931066678E-2,{"$f":"RTD(\"cqg.rtd\",,\"StudyData\", \"Close(\"&$D$12&\") when LocalYear(\"&$D$12&\")=\"&$D$5&\" and localMonth(\"&$D$12&\") =\"&$E$5&\" and LocalDay(\"&$D$12&\")=\"&$F$5&\" and Barix(\"&$D$12&\",reference:=StartOfSession)=\"&A29&\"\", \"Bar\", \"\", \"Close\",\"5\",\"0\",\"PrimaryOnly\",,,\"False\",\"T\",\"EveryTick\")","v":365.56},1.1370867339881073E-2,{"$f":"RTD(\"cqg.rtd\",,\"StudyData\", \"Close(\"&$D$12&\") when LocalYear(\"&$D$12&\")=\"&$D$6&\" and localMonth(\"&$D$12&\") =\"&$E$6&\" and LocalDay(\"&$D$12&\")=\"&$F$6&\" and Barix(\"&$D$12&\",reference:=StartOfSession)=\"&A29&\"\", \"Bar\", \"\", \"Close\",\"5\",\"0\",\"PrimaryOnly\",,,\"False\",\"T\",\"EveryTick\")","v":361.21},1.7749674127076195E-3,{"$f":"RTD(\"cqg.rtd\",,\"StudyData\", \"Close(\"&$D$12&\") when LocalYear(\"&$D$12&\")=\"&$D$7&\" and localMonth(\"&$D$12&\") =\"&$E$7&\" and LocalDay(\"&$D$12&\")=\"&$F$7&\" and Barix(\"&$D$12&\",reference:=StartOfSession)=\"&A29&\"\", \"Bar\", \"\", \"Close\",\"5\",\"0\",\"PrimaryOnly\",,,\"False\",\"T\",\"EveryTick\")","v":361.84},1.2174875484227941E-3,{"$f":"RTD(\"cqg.rtd\",,\"StudyData\", \"Close(\"&$D$12&\") when LocalYear(\"&$D$12&\")=\"&$D$8&\" and localMonth(\"&$D$12&\") =\"&$E$8&\" and LocalDay(\"&$D$12&\")=\"&$F$8&\" and Barix(\"&$D$12&\",reference:=StartOfSession)=\"&A29&\"\", \"Bar\", \"\", \"Close\",\"5\",\"0\",\"PrimaryOnly\",,,\"False\",\"T\",\"EveryTick\")","v":360.59},-1.8669206694788443E-2,{"$f":"RTD(\"cqg.rtd\",,\"StudyData\", \"Close(\"&$D$12&\") when LocalYear(\"&$D$12&\")=\"&$D$9&\" and localMonth(\"&$D$12&\") =\"&$E$9&\" and LocalDay(\"&$D$12&\")=\"&$F$9&\" and Barix(\"&$D$12&\",reference:=StartOfSession)=\"&A29&\"\", \"Bar\", \"\", \"Close\",\"5\",\"0\",\"PrimaryOnly\",,,\"False\",\"T\",\"EveryTick\")","v":365.41},-1.0661563696008375E-3,{"$f":"RTD(\"cqg.rtd\",,\"StudyData\", \"Close(\"&$D$12&\") when LocalYear(\"&$D$12&\")=\"&$D$10&\" and localMonth(\"&$D$12&\") =\"&$E$10&\" and LocalDay(\"&$D$12&\")=\"&$F$10&\" and Barix(\"&$D$12&\",reference:=StartOfSession)=\"&A29&\"\", \"Bar\", \"\", \"Close\",\"5\",\"0\",\"PrimaryOnly\",,,\"False\",\"T\",\"EveryTick\")","v":368.75},1.9181338271468444E-2,null,null,null,""]
[29,"10:55:00","2018-06-12",2018,6,12,{"$f":"IF(RTD(\"cqg.rtd\",,\"StudyData\", \"Close(EP) when LocalYear(\"&$D$12&\")=\"&D30&\" and localMonth(\"&$D$12&\") =\"&E30&\" and LocalDay(\"&$D$12&\")=\"&F30&\" and Barix(\"&$D$12&\",reference:=StartOfSession)=77\", \"Bar\", \"\", \"Close\",\"5\",\"0\",\"PrimaryOnly\",,,\"False\",\"T\",\"EveryTick\")=\"\",2,1)","v":1},{"$f":"RTD(\"cqg.rtd\",,\"StudyData\", \"Close(\"&$D$12&\") when LocalYear(\"&$D$12&\")=\"&$D$1&\" and localMonth(\"&$D$12&\") =\"&$E$1&\" and LocalDay(\"&$D$12&\")=\"&$F$1&\" and Barix(\"&$D$12&\",reference:=StartOfSession)=\"&A30&\"\", \"Bar\", \"\", \"Close\",\"5\",\"0\",\"PrimaryOnly\",,,\"False\",\"T\",\"EveryTick\")","v":""},{"$error":"#N/A"},{"$f":"RTD(\"cqg.rtd\",,\"StudyData\", \"Close(\"&$D$12&\") when LocalYear(\"&$D$12&\")=\"&$D$2&\" and localMonth(\"&$D$12&\") =\"&$E$2&\" and LocalDay(\"&$D$12&\")=\"&$F$2&\" and Barix(\"&$D$12&\",reference:=StartOfSession)=\"&A30&\"\", \"Bar\", \"\", \"Close\",\"5\",\"0\",\"PrimaryOnly\",,,\"False\",\"T\",\"EveryTick\")","v":394.11},3.1562603405706955E-3,{"$f":"RTD(\"cqg.rtd\",,\"StudyData\", \"Close(\"&$D$12&\") when LocalYear(\"&$D$12&\")=\"&$D$3&\" and localMonth(\"&$D$12&\") =\"&$E$3&\" and LocalDay(\"&$D$12&\")=\"&$F$3&\" and Barix(\"&$D$12&\",reference:=StartOfSession)=\"&A30&\"\", \"Bar\", \"\", \"Close\",\"5\",\"0\",\"PrimaryOnly\",,,\"False\",\"T\",\"EveryTick\")","v":389.9},2.6241676098228542E-2,{"$f":"RTD(\"cqg.rtd\",,\"StudyData\", \"Close(\"&$D$12&\") when LocalYear(\"&$D$12&\")=\"&$D$4&\" and localMonth(\"&$D$12&\") =\"&$E$4&\" and LocalDay(\"&$D$12&\")=\"&$F$4&\" and Barix(\"&$D$12&\",reference:=StartOfSession)=\"&A30&\"\", \"Bar\", \"\", \"Close\",\"5\",\"0\",\"PrimaryOnly\",,,\"False\",\"T\",\"EveryTick\")","v":375.65},3.2487700299590451E-2,{"$f":"RTD(\"cqg.rtd\",,\"StudyData\", \"Close(\"&$D$12&\") when LocalYear(\"&$D$12&\")=\"&$D$5&\" and localMonth(\"&$D$12&\") =\"&$E$5&\" and LocalDay(\"&$D$12&\")=\"&$F$5&\" and Barix(\"&$D$12&\",reference:=StartOfSession)=\"&A30&\"\", \"Bar\", \"\", \"Close\",\"5\",\"0\",\"PrimaryOnly\",,,\"False\",\"T\",\"EveryTick\")","v":365.53},1.1287868308203027E-2,{"$f":"RTD(\"cqg.rtd\",,\"StudyData\", \"Close(\"&$D$12&\") when LocalYear(\"&$D$12&\")=\"&$D$6&\" and localMonth(\"&$D$12&\") =\"&$E$6&\" and LocalDay(\"&$D$12&\")=\"&$F$6&\" and Barix(\"&$D$12&\",reference:=StartOfSession)=\"&A30&\"\", \"Bar\", \"\", \"Close\",\"5\",\"0\",\"PrimaryOnly\",,,\"False\",\"T\",\"EveryTick\")","v":361.86},3.5776686912389285E-3,{"$f":"RTD(\"cqg.rtd\",,\"StudyData\", \"Close(\"&$D$12&\") when LocalYear(\"&$D$12&\")=\"&$D$7&\" and localMonth(\"&$D$12&\") =\"&$E$7&\" and LocalDay(\"&$D$12&\")=\"&$F$7&\" and Barix(\"&$D$12&\",reference:=StartOfSession)=\"&A30&\"\", \"Bar\", \"\", \"Close\",\"5\",\"0\",\"PrimaryOnly\",,,\"False\",\"T\",\"EveryTick\")","v":361.83},1.1898173768677555E-3,{"$f":"RTD(\"cqg.rtd\",,\"StudyData\", \"Close(\"&$D$12&\") when LocalYear(\"&$D$12&\")=\"&$D$8&\" and localMonth(\"&$D$12&\") =\"&$E$8&\" and LocalDay(\"&$D$12&\")=\"&$F$8&\" and Barix(\"&$D$12&\",reference:=StartOfSession)=\"&A30&\"\", \"Bar\", \"\", \"Close\",\"5\",\"0\",\"PrimaryOnly\",,,\"False\",\"T\",\"EveryTick\")","v":360.87},-1.7907198258266387E-2,{"$f":"RTD(\"cqg.rtd\",,\"StudyData\", \"Close(\"&$D$12&\") when LocalYear(\"&$D$12&\")=\"&$D$9&\" and localMonth(\"&$D$12&\") =\"&$E$9&\" and LocalDay(\"&$D$12&\")=\"&$F$9&\" and Barix(\"&$D$12&\",reference:=StartOfSession)=\"&A30&\"\", \"Bar\", \"\", \"Close\",\"5\",\"0\",\"PrimaryOnly\",,,\"False\",\"T\",\"EveryTick\")","v":365.59},-5.7408419901595507E-4,{"$f":"RTD(\"cqg.rtd\",,\"StudyData\", \"Close(\"&$D$12&\") when LocalYear(\"&$D$12&\")=\"&$D$10&\" and localMonth(\"&$D$12&\") =\"&$E$10&\" and LocalDay(\"&$D$12&\")=\"&$F$10&\" and Barix(\"&$D$12&\",reference:=StartOfSession)=\"&A30&\"\", \"Bar\", \"\", \"Close\",\"5\",\"0\",\"PrimaryOnly\",,,\"False\",\"T\",\"EveryTick\")","v":368.71},1.9070783007655891E-2,null,null,null,""]
[30,"11:00:00","2018-06-11",2018,6,11,{"$f":"IF(RTD(\"cqg.rtd\",,\"StudyData\", \"Close(EP) when LocalYear(\"&$D$12&\")=\"&D31&\" and localMonth(\"&$D$12&\") =\"&E31&\" and LocalDay(\"&$D$12&\")=\"&F31&\" and Barix(\"&$D$12&\",reference:=StartOfSession)=77\", \"Bar\", \"\", \"Close\",\"5\",\"0\",\"PrimaryOnly\",,,\"False\",\"T\",\"EveryTick\")=\"\",2,1)","v":1},{"$f":"RTD(\"cqg.rtd\",,\"StudyData\", \"Close(\"&$D$12&\") when LocalYear(\"&$D$12&\")=\"&$D$1&\" and localMonth(\"&$D$12&\") =\"&$E$1&\" and LocalDay(\"&$D$12&\")=\"&$F$1&\" and Barix(\"&$D$12&\",reference:=StartOfSession)=\"&A31&\"\", \"Bar\", \"\", \"Close\",\"5\",\"0\",\"PrimaryOnly\",,,\"False\",\"T\",\"EveryTick\")","v":""},{"$error":"#N/A"},{"$f":"RTD(\"cqg.rtd\",,\"StudyData\", \"Close(\"&$D$12&\") when LocalYear(\"&$D$12&\")=\"&$D$2&\" and localMonth(\"&$D$12&\") =\"&$E$2&\" and LocalDay(\"&$D$12&\")=\"&$F$2&\" and Barix(\"&$D$12&\",reference:=StartOfSession)=\"&A31&\"\", \"Bar\", \"\", \"Close\",\"5\",\"0\",\"PrimaryOnly\",,,\"False\",\"T\",\"EveryTick\")","v":393.95},2.7490009417873193E-3,{"$f":"RTD(\"cqg.rtd\",,\"StudyData\", \"Close(\"&$D$12&\") when LocalYear(\"&$D$12&\")=\"&$D$3&\" and localMonth(\"&$D$12&\") =\"&$E$3&\" and LocalDay(\"&$D$12&\")=\"&$F$3&\" and Barix(\"&$D$12&\",reference:=StartOfSession)=\"&A31&\"\", \"Bar\", \"\", \"Close\",\"5\",\"0\",\"PrimaryOnly\",,,\"False\",\"T\",\"EveryTick\")","v":389.72},2.5767904614007898E-2,{"$f":"RTD(\"cqg.rtd\",,\"StudyData\", \"Close(\"&$D$12&\") when LocalYear(\"&$D$12&\")=\"&$D$4&\" and localMonth(\"&$D$12&\") =\"&$E$4&\" and LocalDay(\"&$D$12&\")=\"&$F$4&\" and Barix(\"&$D$12&\",reference:=StartOfSession)=\"&A31&\"\", \"Bar\", \"\", \"Close\",\"5\",\"0\",\"PrimaryOnly\",,,\"False\",\"T\",\"EveryTick\")","v":375.79},3.2872495396201622E-2,{"$f":"RTD(\"cqg.rtd\",,\"StudyData\", \"Close(\"&$D$12&\") when LocalYear(\"&$D$12&\")=\"&$D$5&\" and localMonth(\"&$D$12&\") =\"&$E$5&\" and LocalDay(\"&$D$12&\")=\"&$F$5&\" and Barix(\"&$D$12&\",reference:=StartOfSession)=\"&A31&\"\", \"Bar\", \"\", \"Close\",\"5\",\"0\",\"PrimaryOnly\",,,\"False\",\"T\",\"EveryTick\")","v":365.26},1.0540877023101403E-2,{"$f":"RTD(\"cqg.rtd\",,\"StudyData\", \"Close(\"&$D$12&\") when LocalYear(\"&$D$12&\")=\"&$D$6&\" and localMonth(\"&$D$12&\") =\"&$E$6&\" and LocalDay(\"&$D$12&\")=\"&$F$6&\" and Barix(\"&$D$12&\",reference:=StartOfSession)=\"&A31&\"\", \"Bar\", \"\", \"Close\",\"5\",\"0\",\"PrimaryOnly\",,,\"False\",\"T\",\"EveryTick\")","v":362.31},4.8256926532989682E-3,{"$f":"RTD(\"cqg.rtd\",,\"StudyData\", \"Close(\"&$D$12&\") when LocalYear(\"&$D$12&\")=\"&$D$7&\" and localMonth(\"&$D$12&\") =\"&$E$7&\" and LocalDay(\"&$D$12&\")=\"&$F$7&\" and Barix(\"&$D$12&\",reference:=StartOfSession)=\"&A31&\"\", \"Bar\", \"\", \"Close\",\"5\",\"0\",\"PrimaryOnly\",,,\"False\",\"T\",\"EveryTick\")","v":362.15},2.0752628666297732E-3,{"$f":"RTD(\"cqg.rtd\",,\"StudyData\", \"Close(\"&$D$12&\") when LocalYear(\"&$D$12&\")=\"&$D$8&\" and localMonth(\"&$D$12&\") =\"&$E$8&\" and LocalDay(\"&$D$12&\")=\"&$F$8&\" and Barix(\"&$D$12&\",reference:=StartOfSession)=\"&A31&\"\", \"Bar\", \"\", \"Close\",\"5\",\"0\",\"PrimaryOnly\",,,\"False\",\"T\",\"EveryTick\")","v":360.67},-1.8451489998639197E-2,{"$f":"RTD(\"cqg.rtd\",,\"StudyData\", \"Close(\"&$D$12&\") when LocalYear(\"&$D$12&\")=\"&$D$9&\" and localMonth(\"&$D$12&\") =\"&$E$9&\" and LocalDay(\"&$D$12&\")=\"&$F$9&\" and Barix(\"&$D$12&\",reference:=StartOfSession)=\"&A31&\"\", \"Bar\", \"\", \"Close\",\"5\",\"0\",\"PrimaryOnly\",,,\"False\",\"T\",\"EveryTick\")","v":365.38},-1.1481683980317549E-3,{"$f":"RTD(\"cqg.rtd\",,\"StudyData\", \"Close(\"&$D$12&\") when LocalYear(\"&$D$12&\")=\"&$D$10&\" and localMonth(\"&$D$12&\") =\"&$E$10&\" and LocalDay(\"&$D$12&\")=\"&$F$10&\" and Barix(\"&$D$12&\",reference:=StartOfSession)=\"&A31&\"\", \"Bar\", \"\", \"Close\",\"5\",\"0\",\"PrimaryOnly\",,,\"False\",\"T\",\"EveryTick\")","v":367.95},1.6970232995218448E-2,null,null,null,""]
[31,"11:05:00","2018-06-08",2018,6,8,{"$f":"IF(RTD(\"cqg.rtd\",,\"StudyData\", \"Close(EP) when LocalYear(\"&$D$12&\")=\"&D32&\" and localMonth(\"&$D$12&\") =\"&E32&\" and LocalDay(\"&$D$12&\")=\"&F32&\" and Barix(\"&$D$12&\",reference:=StartOfSession)=77\", \"Bar\", \"\", \"Close\",\"5\",\"0\",\"PrimaryOnly\",,,\"False\",\"T\",\"EveryTick\")=\"\",2,1)","v":1},{"$f":"RTD(\"cqg.rtd\",,\"StudyData\", \"Close(\"&$D$12&\") when LocalYear(\"&$D$12&\")=\"&$D$1&\" and localMonth(\"&$D$12&\") =\"&$E$1&\" and LocalDay(\"&$D$12&\")=\"&$F$1&\" and Barix(\"&$D$12&\",reference:=StartOfSession)=\"&A32&\"\", \"Bar\", \"\", \"Close\",\"5\",\"0\",\"PrimaryOnly\",,,\"False\",\"T\",\"EveryTick\")","v":""},{"$error":"#N/A"},{"$f":"RTD(\"cqg.rtd\",,\"StudyData\", \"Close(\"&$D$12&\") when LocalYear(\"&$D$12&\")=\"&$D$2&\" and localMonth(\"&$D$12&\") =\"&$E$2&\" and LocalDay(\"&$D$12&\")=\"&$F$2&\" and Barix(\"&$D$12&\",reference:=StartOfSession)=\"&A32&\"\", \"Bar\", \"\", \"Close\",\"5\",\"0\",\"PrimaryOnly\",,,\"False\",\"T\",\"EveryTick\")","v":393.59},1.8326672945248312E-3,{"$f":"RTD(\"cqg.rtd\",,\"StudyData\", \"Close(\"&$D$12&\") when LocalYear(\"&$D$12&\")=\"&$D$3&\" and localMonth(\"&$D$12&\") =\"&$E$3&\" and LocalDay(\"&$D$12&\")=\"&$F$3&\" and Barix(\"&$D$12&\",reference:=StartOfSession)=\"&A32&\"\", \"Bar\", \"\", \"Close\",\"5\",\"0\",\"PrimaryOnly\",,,\"False\",\"T\",\"EveryTick\")","v":389.52},2.5241491853762468E-2,{"$f":"RTD(\"cqg.rtd\",,\"StudyData\", \"Close(\"&$D$12&\") when LocalYear(\"&$D$12&\")=\"&$D$4&\" and localMonth(\"&$D$12&\") =\"&$E$4&\" and LocalDay(\"&$D$12&\")=\"&$F$4&\" and Barix(\"&$D$12&\",reference:=StartOfSession)=\"&A32&\"\", \"Bar\", \"\", \"Close\",\"5\",\"0\",\"PrimaryOnly\",,,\"False\",\"T\",\"EveryTick\")","v":376.01},3.3477173405161771E-2,{"$f":"RTD(\"cqg.rtd\",,\"StudyData\", \"Close(\"&$D$12&\") when LocalYear(\"&$D$12&\")=\"&$D$5&\" and localMonth(\"&$D$12&\") =\"&$E$5&\" and LocalDay(\"&$D$12&\")=\"&$F$5&\" and Barix(\"&$D$12&\",reference:=StartOfSession)=\"&A32&\"\", \"Bar\", \"\", \"Close\",\"5\",\"0\",\"PrimaryOnly\",,,\"False\",\"T\",\"EveryTick\")","v":364.95},9.6832203624291052E-3,{"$f":"RTD(\"cqg.rtd\",,\"StudyData\", \"Close(\"&$D$12&\") when LocalYear(\"&$D$12&\")=\"&$D$6&\" and localMonth(\"&$D$12&\") =\"&$E$6&\" and LocalDay(\"&$D$12&\")=\"&$F$6&\" and Barix(\"&$D$12&\",reference:=StartOfSession)=\"&A32&\"\", \"Bar\", \"\", \"Close\",\"5\",\"0\",\"PrimaryOnly\",,,\"False\",\"T\",\"EveryTick\")","v":362.99},6.7115955293008739E-3,{"$f":"RTD(\"cqg.rtd\",,\"StudyData\", \"Close(\"&$D$12&\") when LocalYear(\"&$D$12&\")=\"&$D$7&\" and localMonth(\"&$D$12&\") =\"&$E$7&\" and LocalDay(\"&$D$12&\")=\"&$F$7&\" and Barix(\"&$D$12&\",reference:=StartOfSession)=\"&A32&\"\", \"Bar\", \"\", \"Close\",\"5\",\"0\",\"PrimaryOnly\",,,\"False\",\"T\",\"EveryTick\")","v":362.08},1.8815716657443467E-3,{"$f":"RTD(\"cqg.rtd\",,\"StudyData\", \"Close(\"&$D$12&\") when LocalYear(\"&$D$12&\")=\"&$D$8&\" and localMonth(\"&$D$12&\") =\"&$E$8&\" and LocalDay(\"&$D$12&\")=\"&$F$8&\" and Barix(\"&$D$12&\",reference:=StartOfSession)=\"&A32&\"\", \"Bar\", \"\", \"Close\",\"5\",\"0\",\"PrimaryOnly\",,,\"False\",\"T\",\"EveryTick\")","v":361.45},-1.6328752211185196E-2,{"$f":"RTD(\"cqg.rtd\",,\"StudyData\", \"Close(\"&$D$12&\") when LocalYear(\"&$D$12&\")=\"&$D$9&\" and localMonth(\"&$D$12&\") =\"&$E$9&\" and LocalDay(\"&$D$12&\")=\"&$F$9&\" and Barix(\"&$D$12&\",reference:=StartOfSession)=\"&A32&\"\", \"Bar\", \"\", \"Close\",\"5\",\"0\",\"PrimaryOnly\",,,\"False\",\"T\",\"EveryTick\")","v":364.95},-2.3236741388737636E-3,{"$f":"RTD(\"cqg.rtd\",,\"StudyData\", \"Close(\"&$D$12&\") when LocalYear(\"&$D$12&\")=\"&$D$10&\" and localMonth(\"&$D$12&\") =\"&$E$10&\" and LocalDay(\"&$D$12&\")=\"&$F$10&\" and Barix(\"&$D$12&\",reference:=StartOfSession)=\"&A32&\"\", \"Bar\", \"\", \"Close\",\"5\",\"0\",\"PrimaryOnly\",,,\"False\",\"T\",\"EveryTick\")","v":367.5},1.5726486277327874E-2,null,null,null,""]
[32,"11:10:00","2018-06-07",2018,6,7,{"$f":"IF(RTD(\"cqg.rtd\",,\"StudyData\", \"Close(EP) when LocalYear(\"&$D$12&\")=\"&D33&\" and localMonth(\"&$D$12&\") =\"&E33&\" and LocalDay(\"&$D$12&\")=\"&F33&\" and Barix(\"&$D$12&\",reference:=StartOfSession)=77\", \"Bar\", \"\", \"Close\",\"5\",\"0\",\"PrimaryOnly\",,,\"False\",\"T\",\"EveryTick\")=\"\",2,1)","v":1},{"$f":"RTD(\"cqg.rtd\",,\"StudyData\", \"Close(\"&$D$12&\") when LocalYear(\"&$D$12&\")=\"&$D$1&\" and localMonth(\"&$D$12&\") =\"&$E$1&\" and LocalDay(\"&$D$12&\")=\"&$F$1&\" and Barix(\"&$D$12&\",reference:=StartOfSession)=\"&A33&\"\", \"Bar\", \"\", \"Close\",\"5\",\"0\",\"PrimaryOnly\",,,\"False\",\"T\",\"EveryTick\")","v":""},{"$error":"#N/A"},{"$f":"RTD(\"cqg.rtd\",,\"StudyData\", \"Close(\"&$D$12&\") when LocalYear(\"&$D$12&\")=\"&$D$2&\" and localMonth(\"&$D$12&\") =\"&$E$2&\" and LocalDay(\"&$D$12&\")=\"&$F$2&\" and Barix(\"&$D$12&\",reference:=StartOfSession)=\"&A33&\"\", \"Bar\", \"\", \"Close\",\"5\",\"0\",\"PrimaryOnly\",,,\"False\",\"T\",\"EveryTick\")","v":393.45},1.4763153205894675E-3,{"$f":"RTD(\"cqg.rtd\",,\"StudyData\", \"Close(\"&$D$12&\") when LocalYear(\"&$D$12&\")=\"&$D$3&\" and localMonth(\"&$D$12&\") =\"&$E$3&\" and LocalDay(\"&$D$12&\")=\"&$F$3&\" and Barix(\"&$D$12&\",reference:=StartOfSession)=\"&A33&\"\", \"Bar\", \"\", \"Close\",\"5\",\"0\",\"PrimaryOnly\",,,\"False\",\"T\",\"EveryTick\")","v":389.89},2.6215355460216302E-2,{"$f":"RTD(\"cqg.rtd\",,\"StudyData\", \"Close(\"&$D$12&\") when LocalYear(\"&$D$12&\")=\"&$D$4&\" and localMonth(\"&$D$12&\") =\"&$E$4&\" and LocalDay(\"&$D$12&\")=\"&$F$4&\" and Barix(\"&$D$12&\",reference:=StartOfSession)=\"&A33&\"\", \"Bar\", \"\", \"Close\",\"5\",\"0\",\"PrimaryOnly\",,,\"False\",\"T\",\"EveryTick\")","v":378.45},4.0183602231811576E-2,{"$f":"RTD(\"cqg.rtd\",,\"StudyData\", \"Close(\"&$D$12&\") when LocalYear(\"&$D$12&\")=\"&$D$5&\" and localMonth(\"&$D$12&\") =\"&$E$5&\" and LocalDay(\"&$D$12&\")=\"&$F$5&\" and Barix(\"&$D$12&\",reference:=StartOfSession)=\"&A33&\"\", \"Bar\", \"\", \"Close\",\"5\",\"0\",\"PrimaryOnly\",,,\"False\",\"T\",\"EveryTick\")","v":364.62},8.7702310139715477E-3,{"$f":"RTD(\"cqg.rtd\",,\"StudyData\", \"Close(\"&$D$12&\") when LocalYear(\"&$D$12&\")=\"&$D$6&\" and localMonth(\"&$D$12&\") =\"&$E$6&\" and LocalDay(\"&$D$12&\")=\"&$F$6&\" and Barix(\"&$D$12&\",reference:=StartOfSession)=\"&A33&\"\", \"Bar\", \"\", \"Close\",\"5\",\"0\",\"PrimaryOnly\",,,\"False\",\"T\",\"EveryTick\")","v":362.72},5.962781152064881E-3,{"$f":"RTD(\"cqg.rtd\",,\"StudyData\", \"Close(\"&$D$12&\") when LocalYear(\"&$D$12&\")=\"&$D$7&\" and localMonth(\"&$D$12&\") =\"&$E$7&\" and LocalDay(\"&$D$12&\")=\"&$F$7&\" and Barix(\"&$D$12&\",reference:=StartOfSession)=\"&A33&\"\", \"Bar\", \"\", \"Close\",\"5\",\"0\",\"PrimaryOnly\",,,\"False\",\"T\",\"EveryTick\")","v":361.84},1.2174875484227941E-3,{"$f":"RTD(\"cqg.rtd\",,\"StudyData\", \"Close(\"&$D$12&\") when LocalYear(\"&$D$12&\")=\"&$D$8&\" and localMonth(\"&$D$12&\") =\"&$E$8&\" and LocalDay(\"&$D$12&\")=\"&$F$8&\" and Barix(\"&$D$12&\",reference:=StartOfSession)=\"&A33&\"\", \"Bar\", \"\", \"Close\",\"5\",\"0\",\"PrimaryOnly\",,,\"False\",\"T\",\"EveryTick\")","v":361.59},-1.5947747992924245E-2,{"$f":"RTD(\"cqg.rtd\",,\"StudyData\", \"Close(\"&$D$12&\") when LocalYear(\"&$D$12&\")=\"&$D$9&\" and localMonth(\"&$D$12&\") =\"&$E$9&\" and LocalDay(\"&$D$12&\")=\"&$F$9&\" and Barix(\"&$D$12&\",reference:=StartOfSession)=\"&A33&\"\", \"Bar\", \"\", \"Close\",\"5\",\"0\",\"PrimaryOnly\",,,\"False\",\"T\",\"EveryTick\")","v":365.05},-2.0503007107709132E-3,{"$f":"RTD(\"cqg.rtd\",,\"StudyData\", \"Close(\"&$D$12&\") when LocalYear(\"&$D$12&\")=\"&$D$10&\" and localMonth(\"&$D$12&\") =\"&$E$10&\" and LocalDay(\"&$D$12&\")=\"&$F$10&\" and Barix(\"&$D$12&\",reference:=StartOfSession)=\"&A33&\"\", \"Bar\", \"\", \"Close\",\"5\",\"0\",\"PrimaryOnly\",,,\"False\",\"T\",\"EveryTick\")","v":367.53},1.5809402725187171E-2,null,null,null,""]
[33,"11:15:00","2018-06-06",2018,6,6,{"$f":"IF(RTD(\"cqg.rtd\",,\"StudyData\", \"Close(EP) when LocalYear(\"&$D$12&\")=\"&D34&\" and localMonth(\"&$D$12&\") =\"&E34&\" and LocalDay(\"&$D$12&\")=\"&F34&\" and Barix(\"&$D$12&\",reference:=StartOfSession)=77\", \"Bar\", \"\", \"Close\",\"5\",\"0\",\"PrimaryOnly\",,,\"False\",\"T\",\"EveryTick\")=\"\",2,1)","v":1},{"$f":"RTD(\"cqg.rtd\",,\"StudyData\", \"Close(\"&$D$12&\") when LocalYear(\"&$D$12&\")=\"&$D$1&\" and localMonth(\"&$D$12&\") =\"&$E$1&\" and LocalDay(\"&$D$12&\")=\"&$F$1&\" and Barix(\"&$D$12&\",reference:=StartOfSession)=\"&A34&\"\", \"Bar\", \"\", \"Close\",\"5\",\"0\",\"PrimaryOnly\",,,\"False\",\"T\",\"EveryTick\")","v":""},{"$error":"#N/A"},{"$f":"RTD(\"cqg.rtd\",,\"StudyData\", \"Close(\"&$D$12&\") when LocalYear(\"&$D$12&\")=\"&$D$2&\" and localMonth(\"&$D$12&\") =\"&$E$2&\" and LocalDay(\"&$D$12&\")=\"&$F$2&\" and Barix(\"&$D$12&\",reference:=StartOfSession)=\"&A34&\"\", \"Bar\", \"\", \"Close\",\"5\",\"0\",\"PrimaryOnly\",,,\"False\",\"T\",\"EveryTick\")","v":392.65},-5.5998167332712418E-4,{"$f":"RTD(\"cqg.rtd\",,\"StudyData\", \"Close(\"&$D$12&\") when LocalYear(\"&$D$12&\")=\"&$D$3&\" and localMonth(\"&$D$12&\") =\"&$E$3&\" and LocalDay(\"&$D$12&\")=\"&$F$3&\" and Barix(\"&$D$12&\",reference:=StartOfSession)=\"&A34&\"\", \"Bar\", \"\", \"Close\",\"5\",\"0\",\"PrimaryOnly\",,,\"False\",\"T\",\"EveryTick\")","v":389.87},2.6162714184191818E-2,{"$f":"RTD(\"cqg.rtd\",,\"StudyData\", \"Close(\"&$D$12&\") when LocalYear(\"&$D$12&\")=\"&$D$4&\" and localMonth(\"&$D$12&\") =\"&$E$4&\" and LocalDay(\"&$D$12&\")=\"&$F$4&\" and Barix(\"&$D$12&\",reference:=StartOfSession)=\"&A34&\"\", \"Bar\", \"\", \"Close\",\"5\",\"0\",\"PrimaryOnly\",,,\"False\",\"T\",\"EveryTick\")","v":379.66},4.3509331281092932E-2,{"$f":"RTD(\"cqg.rtd\",,\"StudyData\", \"Close(\"&$D$12&\") when LocalYear(\"&$D$12&\")=\"&$D$5&\" and localMonth(\"&$D$12&\") =\"&$E$5&\" and LocalDay(\"&$D$12&\")=\"&$F$5&\" and Barix(\"&$D$12&\",reference:=StartOfSession)=\"&A34&\"\", \"Bar\", \"\", \"Close\",\"5\",\"0\",\"PrimaryOnly\",,,\"False\",\"T\",\"EveryTick\")","v":364.57},8.6318992945082443E-3,{"$f":"RTD(\"cqg.rtd\",,\"StudyData\", \"Close(\"&$D$12&\") when LocalYear(\"&$D$12&\")=\"&$D$6&\" and localMonth(\"&$D$12&\") =\"&$E$6&\" and LocalDay(\"&$D$12&\")=\"&$F$6&\" and Barix(\"&$D$12&\",reference:=StartOfSession)=\"&A34&\"\", \"Bar\", \"\", \"Close\",\"5\",\"0\",\"PrimaryOnly\",,,\"False\",\"T\",\"EveryTick\")","v":363.01},6.7670632609479371E-3,{"$f":"RTD(\"cqg.rtd\",,\"StudyData\", \"Close(\"&$D$12&\") when LocalYear(\"&$D$12&\")=\"&$D$7&\" and localMonth(\"&$D$12&\") =\"&$E$7&\" and LocalDay(\"&$D$12&\")=\"&$F$7&\" and Barix(\"&$D$12&\",reference:=StartOfSession)=\"&A34&\"\", \"Bar\", \"\", \"Close\",\"5\",\"0\",\"PrimaryOnly\",,,\"False\",\"T\",\"EveryTick\")","v":361.52},3.3204205866077633E-4,{"$f":"RTD(\"cqg.rtd\",,\"StudyData\", \"Close(\"&$D$12&\") when LocalYear(\"&$D$12&\")=\"&$D$8&\" and localMonth(\"&$D$12&\") =\"&$E$8&\" and LocalDay(\"&$D$12&\")=\"&$F$8&\" and Barix(\"&$D$12&\",reference:=StartOfSession)=\"&A34&\"\", \"Bar\", \"\", \"Close\",\"5\",\"0\",\"PrimaryOnly\",,,\"False\",\"T\",\"EveryTick\")","v":361.3},-1.6736971016464763E-2,{"$f":"RTD(\"cqg.rtd\",,\"StudyData\", \"Close(\"&$D$12&\") when LocalYear(\"&$D$12&\")=\"&$D$9&\" and localMonth(\"&$D$12&\") =\"&$E$9&\" and LocalDay(\"&$D$12&\")=\"&$F$9&\" and Barix(\"&$D$12&\",reference:=StartOfSession)=\"&A34&\"\", \"Bar\", \"\", \"Close\",\"5\",\"0\",\"PrimaryOnly\",,,\"False\",\"T\",\"EveryTick\")","v":365.16},-1.7495899398578085E-3,{"$f":"RTD(\"cqg.rtd\",,\"StudyData\", \"Close(\"&$D$12&\") when LocalYear(\"&$D$12&\")=\"&$D$10&\" and localMonth(\"&$D$12&\") =\"&$E$10&\" and LocalDay(\"&$D$12&\")=\"&$F$10&\" and Barix(\"&$D$12&\",reference:=StartOfSession)=\"&A34&\"\", \"Bar\", \"\", \"Close\",\"5\",\"0\",\"PrimaryOnly\",,,\"False\",\"T\",\"EveryTick\")","v":366.47},1.2879688234156118E-2,null,null,null,""]
[34,"11:20:00","2018-06-05",2018,6,5,{"$f":"IF(RTD(\"cqg.rtd\",,\"StudyData\", \"Close(EP) when LocalYear(\"&$D$12&\")=\"&D35&\" and localMonth(\"&$D$12&\") =\"&E35&\" and LocalDay(\"&$D$12&\")=\"&F35&\" and Barix(\"&$D$12&\",reference:=StartOfSession)=77\", \"Bar\", \"\", \"Close\",\"5\",\"0\",\"PrimaryOnly\",,,\"False\",\"T\",\"EveryTick\")=\"\",2,1)","v":1},{"$f":"RTD(\"cqg.rtd\",,\"StudyData\", \"Close(\"&$D$12&\") when LocalYear(\"&$D$12&\")=\"&$D$1&\" and localMonth(\"&$D$12&\") =\"&$E$1&\" and LocalDay(\"&$D$12&\")=\"&$F$1&\" and Barix(\"&$D$12&\",reference:=StartOfSession)=\"&A35&\"\", \"Bar\", \"\", \"Close\",\"5\",\"0\",\"PrimaryOnly\",,,\"False\",\"T\",\"EveryTick\")","v":""},{"$error":"#N/A"},{"$f":"RTD(\"cqg.rtd\",,\"StudyData\", \"Close(\"&$D$12&\") when LocalYear(\"&$D$12&\")=\"&$D$2&\" and localMonth(\"&$D$12&\") =\"&$E$2&\" and LocalDay(\"&$D$12&\")=\"&$F$2&\" and Barix(\"&$D$12&\",reference:=StartOfSession)=\"&A35&\"\", \"Bar\", \"\", \"Close\",\"5\",\"0\",\"PrimaryOnly\",,,\"False\",\"T\",\"EveryTick\")","v":393.45},1.4763153205894675E-3,{"$f":"RTD(\"cqg.rtd\",,\"StudyData\", \"Close(\"&$D$12&\") when LocalYear(\"&$D$12&\")=\"&$D$3&\" and localMonth(\"&$D$12&\") =\"&$E$3&\" and LocalDay(\"&$D$12&\")=\"&$F$3&\" and Barix(\"&$D$12&\",reference:=StartOfSession)=\"&A35&\"\", \"Bar\", \"\", \"Close\",\"5\",\"0\",\"PrimaryOnly\",,,\"False\",\"T\",\"EveryTick\")","v":390.09},2.6741768220461579E-2,{"$f":"RTD(\"cqg.rtd\",,\"StudyData\", \"Close(\"&$D$12&\") when LocalYear(\"&$D$12&\")=\"&$D$4&\" and localMonth(\"&$D$12&\") =\"&$E$4&\" and LocalDay(\"&$D$12&\")=\"&$F$4&\" and Barix(\"&$D$12&\",reference:=StartOfSession)=\"&A35&\"\", \"Bar\", \"\", \"Close\",\"5\",\"0\",\"PrimaryOnly\",,,\"False\",\"T\",\"EveryTick\")","v":381.31},4.8044416348294587E-2,{"$f":"RTD(\"cqg.rtd\",,\"StudyData\", \"Close(\"&$D$12&\") when LocalYear(\"&$D$12&\")=\"&$D$5&\" and localMonth(\"&$D$12&\") =\"&$E$5&\" and LocalDay(\"&$D$12&\")=\"&$F$5&\" and Barix(\"&$D$12&\",reference:=StartOfSession)=\"&A35&\"\", \"Bar\", \"\", \"Close\",\"5\",\"0\",\"PrimaryOnly\",,,\"False\",\"T\",\"EveryTick\")","v":364.38},8.1062387605478122E-3,{"$f":"RTD(\"cqg.rtd\",,\"StudyData\", \"Close(\"&$D$12&\") when LocalYear(\"&$D$12&\")=\"&$D$6&\" and localMonth(\"&$D$12&\") =\"&$E$6&\" and LocalDay(\"&$D$12&\")=\"&$F$6&\" and Barix(\"&$D$12&\",reference:=StartOfSession)=\"&A35&\"\", \"Bar\", \"\", \"Close\",\"5\",\"0\",\"PrimaryOnly\",,,\"False\",\"T\",\"EveryTick\")","v":363.28},7.51587763818393E-3,{"$f":"RTD(\"cqg.rtd\",,\"StudyData\", \"Close(\"&$D$12&\") when LocalYear(\"&$D$12&\")=\"&$D$7&\" and localMonth(\"&$D$12&\") =\"&$E$7&\" and LocalDay(\"&$D$12&\")=\"&$F$7&\" and Barix(\"&$D$12&\",reference:=StartOfSession)=\"&A35&\"\", \"Bar\", \"\", \"Close\",\"5\",\"0\",\"PrimaryOnly\",,,\"False\",\"T\",\"EveryTick\")","v":361.61},5.8107360265643722E-4,{"$f":"RTD(\"cqg.rtd\",,\"StudyData\", \"Close(\"&$D$12&\") when LocalYear(\"&$D$12&\")=\"&$D$8&\" and localMonth(\"&$D$12&\") =\"&$E$8&\" and LocalDay(\"&$D$12&\")=\"&$F$8&\" and Barix(\"&$D$12&\",reference:=StartOfSession)=\"&A35&\"\", \"Bar\", \"\", \"Close\",\"5\",\"0\",\"PrimaryOnly\",,,\"False\",\"T\",\"EveryTick\")","v":361.85},-1.5240168730439423E-2,{"$f":"RTD(\"cqg.rtd\",,\"StudyData\", \"Close(\"&$D$12&\") when LocalYear(\"&$D$12&\")=\"&$D$9&\" and localMonth(\"&$D$12&\") =\"&$E$9&\" and LocalDay(\"&$D$12&\")=\"&$F$9&\" and Barix(\"&$D$12&\",reference:=StartOfSession)=\"&A35&\"\", \"Bar\", \"\", \"Close\",\"5\",\"0\",\"PrimaryOnly\",,,\"False\",\"T\",\"EveryTick\")","v":365.17},-1.7222525970475545E-3,{"$f":"RTD(\"cqg.rtd\",,\"StudyData\", \"Close(\"&$D$12&\") when LocalYear(\"&$D$12&\")=\"&$D$10&\" and localMonth(\"&$D$12&\") =\"&$E$10&\" and LocalDay(\"&$D$12&\")=\"&$F$10&\" and Barix(\"&$D$12&\",reference:=StartOfSession)=\"&A35&\"\", \"Bar\", \"\", \"Close\",\"5\",\"0\",\"PrimaryOnly\",,,\"False\",\"T\",\"EveryTick\")","v":365.53},1.0281639534562258E-2,null,null,null,""]
[35,"11:25:00","2018-06-04",2018,6,4,{"$f":"IF(RTD(\"cqg.rtd\",,\"StudyData\", \"Close(EP) when LocalYear(\"&$D$12&\")=\"&D36&\" and localMonth(\"&$D$12&\") =\"&E36&\" and LocalDay(\"&$D$12&\")=\"&F36&\" and Barix(\"&$D$12&\",reference:=StartOfSession)=77\", \"Bar\", \"\", \"Close\",\"5\",\"0\",\"PrimaryOnly\",,,\"False\",\"T\",\"EveryTick\")=\"\",2,1)","v":1},{"$f":"RTD(\"cqg.rtd\",,\"StudyData\", \"Close(\"&$D$12&\") when LocalYear(\"&$D$12&\")=\"&$D$1&\" and localMonth(\"&$D$12&\") =\"&$E$1&\" and LocalDay(\"&$D$12&\")=\"&$F$1&\" and Barix(\"&$D$12&\",reference:=StartOfSession)=\"&A36&\"\", \"Bar\", \"\", \"Close\",\"5\",\"0\",\"PrimaryOnly\",,,\"False\",\"T\",\"EveryTick\")","v":""},{"$error":"#N/A"},{"$f":"RTD(\"cqg.rtd\",,\"StudyData\", \"Close(\"&$D$12&\") when LocalYear(\"&$D$12&\")=\"&$D$2&\" and localMonth(\"&$D$12&\") =\"&$E$2&\" and LocalDay(\"&$D$12&\")=\"&$F$2&\" and Barix(\"&$D$12&\",reference:=StartOfSession)=\"&A36&\"\", \"Bar\", \"\", \"Close\",\"5\",\"0\",\"PrimaryOnly\",,,\"False\",\"T\",\"EveryTick\")","v":393.93},2.6980935169394512E-3,{"$f":"RTD(\"cqg.rtd\",,\"StudyData\", \"Close(\"&$D$12&\") when LocalYear(\"&$D$12&\")=\"&$D$3&\" and localMonth(\"&$D$12&\") =\"&$E$3&\" and LocalDay(\"&$D$12&\")=\"&$F$3&\" and Barix(\"&$D$12&\",reference:=StartOfSession)=\"&A36&\"\", \"Bar\", \"\", \"Close\",\"5\",\"0\",\"PrimaryOnly\",,,\"False\",\"T\",\"EveryTick\")","v":390.92},2.8926381175479719E-2,{"$f":"RTD(\"cqg.rtd\",,\"StudyData\", \"Close(\"&$D$12&\") when LocalYear(\"&$D$12&\")=\"&$D$4&\" and localMonth(\"&$D$12&\") =\"&$E$4&\" and LocalDay(\"&$D$12&\")=\"&$F$4&\" and Barix(\"&$D$12&\",reference:=StartOfSession)=\"&A36&\"\", \"Bar\", \"\", \"Close\",\"5\",\"0\",\"PrimaryOnly\",,,\"False\",\"T\",\"EveryTick\")","v":383.31},5.354148915702394E-2,{"$f":"RTD(\"cqg.rtd\",,\"StudyData\", \"Close(\"&$D$12&\") when LocalYear(\"&$D$12&\")=\"&$D$5&\" and localMonth(\"&$D$12&\") =\"&$E$5&\" and LocalDay(\"&$D$12&\")=\"&$F$5&\" and Barix(\"&$D$12&\",reference:=StartOfSession)=\"&A36&\"\", \"Bar\", \"\", \"Close\",\"5\",\"0\",\"PrimaryOnly\",,,\"False\",\"T\",\"EveryTick\")","v":364.11},7.3592474754461895E-3,{"$f":"RTD(\"cqg.rtd\",,\"StudyData\", \"Close(\"&$D$12&\") when LocalYear(\"&$D$12&\")=\"&$D$6&\" and localMonth(\"&$D$12&\") =\"&$E$6&\" and LocalDay(\"&$D$12&\")=\"&$F$6&\" and Barix(\"&$D$12&\",reference:=StartOfSession)=\"&A36&\"\", \"Bar\", \"\", \"Close\",\"5\",\"0\",\"PrimaryOnly\",,,\"False\",\"T\",\"EveryTick\")","v":363.28},7.51587763818393E-3,{"$f":"RTD(\"cqg.rtd\",,\"StudyData\", \"Close(\"&$D$12&\") when LocalYear(\"&$D$12&\")=\"&$D$7&\" and localMonth(\"&$D$12&\") =\"&$E$7&\" and LocalDay(\"&$D$12&\")=\"&$F$7&\" and Barix(\"&$D$12&\",reference:=StartOfSession)=\"&A36&\"\", \"Bar\", \"\", \"Close\",\"5\",\"0\",\"PrimaryOnly\",,,\"False\",\"T\",\"EveryTick\")","v":361.64},6.6408411732155265E-4,{"$f":"RTD(\"cqg.rtd\",,\"StudyData\", \"Close(\"&$D$12&\") when LocalYear(\"&$D$12&\")=\"&$D$8&\" and localMonth(\"&$D$12&\") =\"&$E$8&\" and LocalDay(\"&$D$12&\")=\"&$F$8&\" and Barix(\"&$D$12&\",reference:=StartOfSession)=\"&A36&\"\", \"Bar\", \"\", \"Close\",\"5\",\"0\",\"PrimaryOnly\",,,\"False\",\"T\",\"EveryTick\")","v":362.03},-1.4750306164104004E-2,{"$f":"RTD(\"cqg.rtd\",,\"StudyData\", \"Close(\"&$D$12&\") when LocalYear(\"&$D$12&\")=\"&$D$9&\" and localMonth(\"&$D$12&\") =\"&$E$9&\" and LocalDay(\"&$D$12&\")=\"&$F$9&\" and Barix(\"&$D$12&\",reference:=StartOfSession)=\"&A36&\"\", \"Bar\", \"\", \"Close\",\"5\",\"0\",\"PrimaryOnly\",,,\"False\",\"T\",\"EveryTick\")","v":364.91},-2.4330235101147793E-3,{"$f":"RTD(\"cqg.rtd\",,\"StudyData\", \"Close(\"&$D$12&\") when LocalYear(\"&$D$12&\")=\"&$D$10&\" and localMonth(\"&$D$12&\") =\"&$E$10&\" and LocalDay(\"&$D$12&\")=\"&$F$10&\" and Barix(\"&$D$12&\",reference:=StartOfSession)=\"&A36&\"\", \"Bar\", \"\", \"Close\",\"5\",\"0\",\"PrimaryOnly\",,,\"False\",\"T\",\"EveryTick\")","v":365.39},9.8946961112185514E-3,null,null,null,""]
[36,"11:30:00",null,null,null,null,null,{"$f":"RTD(\"cqg.rtd\",,\"StudyData\", \"Close(\"&$D$12&\") when LocalYear(\"&$D$12&\")=\"&$D$1&\" and localMonth(\"&$D$12&\") =\"&$E$1&\" and LocalDay(\"&$D$12&\")=\"&$F$1&\" and Barix(\"&$D$12&\",reference:=StartOfSession)=\"&A37&\"\", \"Bar\", \"\", \"Close\",\"5\",\"0\",\"PrimaryOnly\",,,\"False\",\"T\",\"EveryTick\")","v":""},{"$error":"#N/A"},{"$f":"RTD(\"cqg.rtd\",,\"StudyData\", \"Close(\"&$D$12&\") when LocalYear(\"&$D$12&\")=\"&$D$2&\" and localMonth(\"&$D$12&\") =\"&$E$2&\" and LocalDay(\"&$D$12&\")=\"&$F$2&\" and Barix(\"&$D$12&\",reference:=StartOfSession)=\"&A37&\"\", \"Bar\", \"\", \"Close\",\"5\",\"0\",\"PrimaryOnly\",,,\"False\",\"T\",\"EveryTick\")","v":394.18},3.3344363275383771E-3,{"$f":"RTD(\"cqg.rtd\",,\"StudyData\", \"Close(\"&$D$12&\") when LocalYear(\"&$D$12&\")=\"&$D$3&\" and localMonth(\"&$D$12&\") =\"&$E$3&\" and LocalDay(\"&$D$12&\")=\"&$F$3&\" and Barix(\"&$D$12&\",reference:=StartOfSession)=\"&A37&\"\", \"Bar\", \"\", \"Close\",\"5\",\"0\",\"PrimaryOnly\",,,\"False\",\"T\",\"EveryTick\")","v":390.48},2.7768273102940045E-2,{"$f":"RTD(\"cqg.rtd\",,\"StudyData\", \"Close(\"&$D$12&\") when LocalYear(\"&$D$12&\")=\"&$D$4&\" and localMonth(\"&$D$12&\") =\"&$E$4&\" and LocalDay(\"&$D$12&\")=\"&$F$4&\" and Barix(\"&$D$12&\",reference:=StartOfSession)=\"&A37&\"\", \"Bar\", \"\", \"Close\",\"5\",\"0\",\"PrimaryOnly\",,,\"False\",\"T\",\"EveryTick\")","v":379.45},4.2932138636176252E-2,{"$f":"RTD(\"cqg.rtd\",,\"StudyData\", \"Close(\"&$D$12&\") when LocalYear(\"&$D$12&\")=\"&$D$5&\" and localMonth(\"&$D$12&\") =\"&$E$5&\" and LocalDay(\"&$D$12&\")=\"&$F$5&\" and Barix(\"&$D$12&\",reference:=StartOfSession)=\"&A37&\"\", \"Bar\", \"\", \"Close\",\"5\",\"0\",\"PrimaryOnly\",,,\"False\",\"T\",\"EveryTick\")","v":363.94},6.8889196292710175E-3,{"$f":"RTD(\"cqg.rtd\",,\"StudyData\", \"Close(\"&$D$12&\") when LocalYear(\"&$D$12&\")=\"&$D$6&\" and localMonth(\"&$D$12&\") =\"&$E$6&\" and LocalDay(\"&$D$12&\")=\"&$F$6&\" and Barix(\"&$D$12&\",reference:=StartOfSession)=\"&A37&\"\", \"Bar\", \"\", \"Close\",\"5\",\"0\",\"PrimaryOnly\",,,\"False\",\"T\",\"EveryTick\")","v":363.11},7.0444019191835718E-3,{"$f":"RTD(\"cqg.rtd\",,\"StudyData\", \"Close(\"&$D$12&\") when LocalYear(\"&$D$12&\")=\"&$D$7&\" and localMonth(\"&$D$12&\") =\"&$E$7&\" and LocalDay(\"&$D$12&\")=\"&$F$7&\" and Barix(\"&$D$12&\",reference:=StartOfSession)=\"&A37&\"\", \"Bar\", \"\", \"Close\",\"5\",\"0\",\"PrimaryOnly\",,,\"False\",\"T\",\"EveryTick\")","v":361.55},4.1505257332604903E-4,{"$f":"RTD(\"cqg.rtd\",,\"StudyData\", \"Close(\"&$D$12&\") when LocalYear(\"&$D$12&\")=\"&$D$8&\" and localMonth(\"&$D$12&\") =\"&$E$8&\" and LocalDay(\"&$D$12&\")=\"&$F$8&\" and Barix(\"&$D$12&\",reference:=StartOfSession)=\"&A37&\"\", \"Bar\", \"\", \"Close\",\"5\",\"0\",\"PrimaryOnly\",,,\"False\",\"T\",\"EveryTick\")","v":361.21},-1.6981902299632628E-2,{"$f":"RTD(\"cqg.rtd\",,\"StudyData\", \"Close(\"&$D$12&\") when LocalYear(\"&$D$12&\")=\"&$D$9&\" and localMonth(\"&$D$12&\") =\"&$E$9&\" and LocalDay(\"&$D$12&\")=\"&$F$9&\" and Barix(\"&$D$12&\",reference:=StartOfSession)=\"&A37&\"\", \"Bar\", \"\", \"Close\",\"5\",\"0\",\"PrimaryOnly\",,,\"False\",\"T\",\"EveryTick\")","v":364.71},-2.9797703663204805E-3,{"$f":"RTD(\"cqg.rtd\",,\"StudyData\", \"Close(\"&$D$12&\") when LocalYear(\"&$D$12&\")=\"&$D$10&\" and localMonth(\"&$D$12&\") =\"&$E$10&\" and LocalDay(\"&$D$12&\")=\"&$F$10&\" and Barix(\"&$D$12&\",reference:=StartOfSession)=\"&A37&\"\", \"Bar\", \"\", \"Close\",\"5\",\"0\",\"PrimaryOnly\",,,\"False\",\"T\",\"EveryTick\")","v":364.67},7.9047013625936635E-3,null,null,null,""]
[37,"11:35:00",-40,{"$f":" RTD(\"cqg.rtd\",,\"StudyData\", $D$12,  \"Tick\", \"FlatTicks=0\", \"Tick\",\"D\",C38,\"PrimaryOnly\")","v":391.42},null,"EP",null,{"$f":"RTD(\"cqg.rtd\",,\"StudyData\", \"Close(\"&$D$12&\") when LocalYear(\"&$D$12&\")=\"&$D$1&\" and localMonth(\"&$D$12&\") =\"&$E$1&\" and LocalDay(\"&$D$12&\")=\"&$F$1&\" and Barix(\"&$D$12&\",reference:=StartOfSession)=\"&A38&\"\", \"Bar\", \"\", \"Close\",\"5\",\"0\",\"PrimaryOnly\",,,\"False\",\"T\",\"EveryTick\")","v":""},{"$error":"#N/A"},{"$f":"RTD(\"cqg.rtd\",,\"StudyData\", \"Close(\"&$D$12&\") when LocalYear(\"&$D$12&\")=\"&$D$2&\" and localMonth(\"&$D$12&\") =\"&$E$2&\" and LocalDay(\"&$D$12&\")=\"&$F$2&\" and Barix(\"&$D$12&\",reference:=StartOfSession)=\"&A38&\"\", \"Bar\", \"\", \"Close\",\"5\",\"0\",\"PrimaryOnly\",,,\"False\",\"T\",\"EveryTick\")","v":394.19},3.3598900399623112E-3,{"$f":"RTD(\"cqg.rtd\",,\"StudyData\", \"Close(\"&$D$12&\") when LocalYear(\"&$D$12&\")=\"&$D$3&\" and localMonth(\"&$D$12&\") =\"&$E$3&\" and LocalDay(\"&$D$12&\")=\"&$F$3&\" and Barix(\"&$D$12&\",reference:=StartOfSession)=\"&A38&\"\", \"Bar\", \"\", \"Close\",\"5\",\"0\",\"PrimaryOnly\",,,\"False\",\"T\",\"EveryTick\")","v":390.7},2.8347327139209805E-2,{"$f":"RTD(\"cqg.rtd\",,\"StudyData\", \"Close(\"&$D$12&\") when LocalYear(\"&$D$12&\")=\"&$D$4&\" and localMonth(\"&$D$12&\") =\"&$E$4&\" and LocalDay(\"&$D$12&\")=\"&$F$4&\" and Barix(\"&$D$12&\",reference:=StartOfSession)=\"&A38&\"\", \"Bar\", \"\", \"Close\",\"5\",\"0\",\"PrimaryOnly\",,,\"False\",\"T\",\"EveryTick\")","v":378.7},4.0870736332902745E-2,{"$f":"RTD(\"cqg.rtd\",,\"StudyData\", \"Close(\"&$D$12&\") when LocalYear(\"&$D$12&\")=\"&$D$5&\" and localMonth(\"&$D$12&\") =\"&$E$5&\" and LocalDay(\"&$D$12&\")=\"&$F$5&\" and Barix(\"&$D$12&\",reference:=StartOfSession)=\"&A38&\"\", \"Bar\", \"\", \"Close\",\"5\",\"0\",\"PrimaryOnly\",,,\"False\",\"T\",\"EveryTick\")","v":364.05},7.1932494120902557E-3,{"$f":"RTD(\"cqg.rtd\",,\"StudyData\", \"Close(\"&$D$12&\") when LocalYear(\"&$D$12&\")=\"&$D$6&\" and localMonth(\"&$D$12&\") =\"&$E$6&\" and LocalDay(\"&$D$12&\")=\"&$F$6&\" and Barix(\"&$D$12&\",reference:=StartOfSession)=\"&A38&\"\", \"Bar\", \"\", \"Close\",\"5\",\"0\",\"PrimaryOnly\",,,\"False\",\"T\",\"EveryTick\")","v":362.6},5.6299747621821822E-3,{"$f":"RTD(\"cqg.rtd\",,\"StudyData\", \"Close(\"&$D$12&\") when LocalYear(\"&$D$12&\")=\"&$D$7&\" and localMonth(\"&$D$12&\") =\"&$E$7&\" and LocalDay(\"&$D$12&\")=\"&$F$7&\" and Barix(\"&$D$12&\",reference:=StartOfSession)=\"&A38&\"\", \"Bar\", \"\", \"Close\",\"5\",\"0\",\"PrimaryOnly\",,,\"False\",\"T\",\"EveryTick\")","v":360.99},-1.1344770337575214E-3,{"$f":"RTD(\"cqg.rtd\",,\"StudyData\", \"Close(\"&$D$12&\") when LocalYear(\"&$D$12&\")=\"&$D$8&\" and localMonth(\"&$D$12&\") =\"&$E$8&\" and LocalDay(\"&$D$12&\")=\"&$F$8&\" and Barix(\"&$D$12&\",reference:=StartOfSession)=\"&A38&\"\", \"Bar\", \"\", \"Close\",\"5\",\"0\",\"PrimaryOnly\",,,\"False\",\"T\",\"EveryTick\")","v":360.89},-1.7852769084229152E-2,{"$f":"RTD(\"cqg.rtd\",,\"StudyData\", \"Close(\"&$D$12&\") when LocalYear(\"&$D$12&\")=\"&$D$9&\" and localMonth(\"&$D$12&\") =\"&$E$9&\" and LocalDay(\"&$D$12&\")=\"&$F$9&\" and Barix(\"&$D$12&\",reference:=StartOfSession)=\"&A38&\"\", \"Bar\", \"\", \"Close\",\"5\",\"0\",\"PrimaryOnly\",,,\"False\",\"T\",\"EveryTick\")","v":363.96},-5.0300710770913937E-3,{"$f":"RTD(\"cqg.rtd\",,\"StudyData\", \"Close(\"&$D$12&\") when LocalYear(\"&$D$12&\")=\"&$D$10&\" and localMonth(\"&$D$12&\") =\"&$E$10&\" and LocalDay(\"&$D$12&\")=\"&$F$10&\" and Barix(\"&$D$12&\",reference:=StartOfSession)=\"&A38&\"\", \"Bar\", \"\", \"Close\",\"5\",\"0\",\"PrimaryOnly\",,,\"False\",\"T\",\"EveryTick\")","v":365.9},1.1304275724827879E-2,null,null,null,""]
[38,"11:40:00",{"$f":"C38+1","v":-39},{"$f":" RTD(\"cqg.rtd\",,\"StudyData\", $D$12,  \"Tick\", \"FlatTicks=0\", \"Tick\",\"D\",C39,\"PrimaryOnly\")","v":391.39},null,"ENQ",null,{"$f":"RTD(\"cqg.rtd\",,\"StudyData\", \"Close(\"&$D$12&\") when LocalYear(\"&$D$12&\")=\"&$D$1&\" and localMonth(\"&$D$12&\") =\"&$E$1&\" and LocalDay(\"&$D$12&\")=\"&$F$1&\" and Barix(\"&$D$12&\",reference:=StartOfSession)=\"&A39&\"\", \"Bar\", \"\", \"Close\",\"5\",\"0\",\"PrimaryOnly\",,,\"False\",\"T\",\"EveryTick\")","v":""},{"$error":"#N/A"},{"$f":"RTD(\"cqg.rtd\",,\"StudyData\", \"Close(\"&$D$12&\") when LocalYear(\"&$D$12&\")=\"&$D$2&\" and localMonth(\"&$D$12&\") =\"&$E$2&\" and LocalDay(\"&$D$12&\")=\"&$F$2&\" and Barix(\"&$D$12&\",reference:=StartOfSession)=\"&A39&\"\", \"Bar\", \"\", \"Close\",\"5\",\"0\",\"PrimaryOnly\",,,\"False\",\"T\",\"EveryTick\")","v":393.47},1.5272227454374799E-3,{"$f":"RTD(\"cqg.rtd\",,\"StudyData\", \"Close(\"&$D$12&\") when LocalYear(\"&$D$12&\")=\"&$D$3&\" and localMonth(\"&$D$12&\") =\"&$E$3&\" and LocalDay(\"&$D$12&\")=\"&$F$3&\" and Barix(\"&$D$12&\",reference:=StartOfSession)=\"&A39&\"\", \"Bar\", \"\", \"Close\",\"5\",\"0\",\"PrimaryOnly\",,,\"False\",\"T\",\"EveryTick\")","v":390.01},2.6531203116363498E-2,{"$f":"RTD(\"cqg.rtd\",,\"StudyData\", \"Close(\"&$D$12&\") when LocalYear(\"&$D$12&\")=\"&$D$4&\" and localMonth(\"&$D$12&\") =\"&$E$4&\" and LocalDay(\"&$D$12&\")=\"&$F$4&\" and Barix(\"&$D$12&\",reference:=StartOfSession)=\"&A39&\"\", \"Bar\", \"\", \"Close\",\"5\",\"0\",\"PrimaryOnly\",,,\"False\",\"T\",\"EveryTick\")","v":379.06},4.1860209438474065E-2,{"$f":"RTD(\"cqg.rtd\",,\"StudyData\", \"Close(\"&$D$12&\") when LocalYear(\"&$D$12&\")=\"&$D$5&\" and localMonth(\"&$D$12&\") =\"&$E$5&\" and LocalDay(\"&$D$12&\")=\"&$F$5&\" and Barix(\"&$D$12&\",reference:=StartOfSession)=\"&A39&\"\", \"Bar\", \"\", \"Close\",\"5\",\"0\",\"PrimaryOnly\",,,\"False\",\"T\",\"EveryTick\")","v":363.79},6.4739244708812618E-3,{"$f":"RTD(\"cqg.rtd\",,\"StudyData\", \"Close(\"&$D$12&\") when LocalYear(\"&$D$12&\")=\"&$D$6&\" and localMonth(\"&$D$12&\") =\"&$E$6&\" and LocalDay(\"&$D$12&\")=\"&$F$6&\" and Barix(\"&$D$12&\",reference:=StartOfSession)=\"&A39&\"\", \"Bar\", \"\", \"Close\",\"5\",\"0\",\"PrimaryOnly\",,,\"False\",\"T\",\"EveryTick\")","v":362.65},5.7686440912998425E-3,{"$f":"RTD(\"cqg.rtd\",,\"StudyData\", \"Close(\"&$D$12&\") when LocalYear(\"&$D$12&\")=\"&$D$7&\" and localMonth(\"&$D$12&\") =\"&$E$7&\" and LocalDay(\"&$D$12&\")=\"&$F$7&\" and Barix(\"&$D$12&\",reference:=StartOfSession)=\"&A39&\"\", \"Bar\", \"\", \"Close\",\"5\",\"0\",\"PrimaryOnly\",,,\"False\",\"T\",\"EveryTick\")","v":360.9},-1.3835085777531822E-3,{"$f":"RTD(\"cqg.rtd\",,\"StudyData\", \"Close(\"&$D$12&\") when LocalYear(\"&$D$12&\")=\"&$D$8&\" and localMonth(\"&$D$12&\") =\"&$E$8&\" and LocalDay(\"&$D$12&\")=\"&$F$8&\" and Barix(\"&$D$12&\",reference:=StartOfSession)=\"&A39&\"\", \"Bar\", \"\", \"Close\",\"5\",\"0\",\"PrimaryOnly\",,,\"False\",\"T\",\"EveryTick\")","v":360.61},-1.8614777520751056E-2,{"$f":"RTD(\"cqg.rtd\",,\"StudyData\", \"Close(\"&$D$12&\") when LocalYear(\"&$D$12&\")=\"&$D$9&\" and localMonth(\"&$D$12&\") =\"&$E$9&\" and LocalDay(\"&$D$12&\")=\"&$F$9&\" and Barix(\"&$D$12&\",reference:=StartOfSession)=\"&A39&\"\", \"Bar\", \"\", \"Close\",\"5\",\"0\",\"PrimaryOnly\",,,\"False\",\"T\",\"EveryTick\")","v":364.19},-4.4013121924549306E-3,{"$f":"RTD(\"cqg.rtd\",,\"StudyData\", \"Close(\"&$D$12&\") when LocalYear(\"&$D$12&\")=\"&$D$10&\" and localMonth(\"&$D$12&\") =\"&$E$10&\" and LocalDay(\"&$D$12&\")=\"&$F$10&\" and Barix(\"&$D$12&\",reference:=StartOfSession)=\"&A39&\"\", \"Bar\", \"\", \"Close\",\"5\",\"0\",\"PrimaryOnly\",,,\"False\",\"T\",\"EveryTick\")","v":366.32},1.2465105994859156E-2,null,null,null,""]
[39,"11:45:00",{"$f":"C39+1","v":-38},{"$f":" RTD(\"cqg.rtd\",,\"StudyData\", $D$12,  \"Tick\", \"FlatTicks=0\", \"Tick\",\"D\",C40,\"PrimaryOnly\")","v":391.42},null,"YM",null,{"$f":"RTD(\"cqg.rtd\",,\"StudyData\", \"Close(\"&$D$12&\") when LocalYear(\"&$D$12&\")=\"&$D$1&\" and localMonth(\"&$D$12&\") =\"&$E$1&\" and LocalDay(\"&$D$12&\")=\"&$F$1&\" and Barix(\"&$D$12&\",reference:=StartOfSession)=\"&A40&\"\", \"Bar\", \"\", \"Close\",\"5\",\"0\",\"PrimaryOnly\",,,\"False\",\"T\",\"EveryTick\")","v":""},{"$error":"#N/A"},{"$f":"RTD(\"cqg.rtd\",,\"StudyData\", \"Close(\"&$D$12&\") when LocalYear(\"&$D$12&\")=\"&$D$2&\" and localMonth(\"&$D$12&\") =\"&$E$2&\" and LocalDay(\"&$D$12&\")=\"&$F$2&\" and Barix(\"&$D$12&\",reference:=StartOfSession)=\"&A40&\"\", \"Bar\", \"\", \"Close\",\"5\",\"0\",\"PrimaryOnly\",,,\"False\",\"T\",\"EveryTick\")","v":394.3},3.6398808766258733E-3,{"$f":"RTD(\"cqg.rtd\",,\"StudyData\", \"Close(\"&$D$12&\") when LocalYear(\"&$D$12&\")=\"&$D$3&\" and localMonth(\"&$D$12&\") =\"&$E$3&\" and LocalDay(\"&$D$12&\")=\"&$F$3&\" and Barix(\"&$D$12&\",reference:=StartOfSession)=\"&A40&\"\", \"Bar\", \"\", \"Close\",\"5\",\"0\",\"PrimaryOnly\",,,\"False\",\"T\",\"EveryTick\")","v":390.13},2.6847050772510695E-2,{"$f":"RTD(\"cqg.rtd\",,\"StudyData\", \"Close(\"&$D$12&\") when LocalYear(\"&$D$12&\")=\"&$D$4&\" and localMonth(\"&$D$12&\") =\"&$E$4&\" and LocalDay(\"&$D$12&\")=\"&$F$4&\" and Barix(\"&$D$12&\",reference:=StartOfSession)=\"&A40&\"\", \"Bar\", \"\", \"Close\",\"5\",\"0\",\"PrimaryOnly\",,,\"False\",\"T\",\"EveryTick\")","v":380.27},4.5185938487755269E-2,{"$f":"RTD(\"cqg.rtd\",,\"StudyData\", \"Close(\"&$D$12&\") when LocalYear(\"&$D$12&\")=\"&$D$5&\" and localMonth(\"&$D$12&\") =\"&$E$5&\" and LocalDay(\"&$D$12&\")=\"&$F$5&\" and Barix(\"&$D$12&\",reference:=StartOfSession)=\"&A40&\"\", \"Bar\", \"\", \"Close\",\"5\",\"0\",\"PrimaryOnly\",,,\"False\",\"T\",\"EveryTick\")","v":363.72},6.2802600636326983E-3,{"$f":"RTD(\"cqg.rtd\",,\"StudyData\", \"Close(\"&$D$12&\") when LocalYear(\"&$D$12&\")=\"&$D$6&\" and localMonth(\"&$D$12&\") =\"&$E$6&\" and LocalDay(\"&$D$12&\")=\"&$F$6&\" and Barix(\"&$D$12&\",reference:=StartOfSession)=\"&A40&\"\", \"Bar\", \"\", \"Close\",\"5\",\"0\",\"PrimaryOnly\",,,\"False\",\"T\",\"EveryTick\")","v":362.63},5.7131763596527784E-3,{"$f":"RTD(\"cqg.rtd\",,\"StudyData\", \"Close(\"&$D$12&\") when LocalYear(\"&$D$12&\")=\"&$D$7&\" and localMonth(\"&$D$12&\") =\"&$E$7&\" and LocalDay(\"&$D$12&\")=\"&$F$7&\" and Barix(\"&$D$12&\",reference:=StartOfSession)=\"&A40&\"\", \"Bar\", \"\", \"Close\",\"5\",\"0\",\"PrimaryOnly\",,,\"False\",\"T\",\"EveryTick\")","v":360.88},-1.4388489208632591E-3,{"$f":"RTD(\"cqg.rtd\",,\"StudyData\", \"Close(\"&$D$12&\") when LocalYear(\"&$D$12&\")=\"&$D$8&\" and localMonth(\"&$D$12&\") =\"&$E$8&\" and LocalDay(\"&$D$12&\")=\"&$F$8&\" and Barix(\"&$D$12&\",reference:=StartOfSession)=\"&A40&\"\", \"Bar\", \"\", \"Close\",\"5\",\"0\",\"PrimaryOnly\",,,\"False\",\"T\",\"EveryTick\")","v":360.36},-1.9295142196217106E-2,{"$f":"RTD(\"cqg.rtd\",,\"StudyData\", \"Close(\"&$D$12&\") when LocalYear(\"&$D$12&\")=\"&$D$9&\" and localMonth(\"&$D$12&\") =\"&$E$9&\" and LocalDay(\"&$D$12&\")=\"&$F$9&\" and Barix(\"&$D$12&\",reference:=StartOfSession)=\"&A40&\"\", \"Bar\", \"\", \"Close\",\"5\",\"0\",\"PrimaryOnly\",,,\"False\",\"T\",\"EveryTick\")","v":364.49},-3.5811919081465342E-3,{"$f":"RTD(\"cqg.rtd\",,\"StudyData\", \"Close(\"&$D$12&\") when LocalYear(\"&$D$12&\")=\"&$D$10&\" and localMonth(\"&$D$12&\") =\"&$E$10&\" and LocalDay(\"&$D$12&\")=\"&$F$10&\" and Barix(\"&$D$12&\",reference:=StartOfSession)=\"&A40&\"\", \"Bar\", \"\", \"Close\",\"5\",\"0\",\"PrimaryOnly\",,,\"False\",\"T\",\"EveryTick\")","v":366.32},1.2465105994859156E-2,null,null,null,""]
[40,"11:50:00",-37,{"$f":" RTD(\"cqg.rtd\",,\"StudyData\", $D$12,  \"Tick\", \"FlatTicks=0\", \"Tick\",\"D\",C41,\"PrimaryOnly\")","v":391.3},null,"RTY",null,{"$f":"RTD(\"cqg.rtd\",,\"StudyData\", \"Close(\"&$D$12&\") when LocalYear(\"&$D$12&\")=\"&$D$1&\" and localMonth(\"&$D$12&\") =\"&$E$1&\" and LocalDay(\"&$D$12&\")=\"&$F$1&\" and Barix(\"&$D$12&\",reference:=StartOfSession)=\"&A41&\"\", \"Bar\", \"\", \"Close\",\"5\",\"0\",\"PrimaryOnly\",,,\"False\",\"T\",\"EveryTick\")","v":""},{"$error":"#N/A"},{"$f":"RTD(\"cqg.rtd\",,\"StudyData\", \"Close(\"&$D$12&\") when LocalYear(\"&$D$12&\")=\"&$D$2&\" and localMonth(\"&$D$12&\") =\"&$E$2&\" and LocalDay(\"&$D$12&\")=\"&$F$2&\" and Barix(\"&$D$12&\",reference:=StartOfSession)=\"&A41&\"\", \"Bar\", \"\", \"Close\",\"5\",\"0\",\"PrimaryOnly\",,,\"False\",\"T\",\"EveryTick\")","v":394.35},3.7671494387456874E-3,{"$f":"RTD(\"cqg.rtd\",,\"StudyData\", \"Close(\"&$D$12&\") when LocalYear(\"&$D$12&\")=\"&$D$3&\" and localMonth(\"&$D$12&\") =\"&$E$3&\" and LocalDay(\"&$D$12&\")=\"&$F$3&\" and Barix(\"&$D$12&\",reference:=StartOfSession)=\"&A41&\"\", \"Bar\", \"\", \"Close\",\"5\",\"0\",\"PrimaryOnly\",,,\"False\",\"T\",\"EveryTick\")","v":390.23},2.7110257152633408E-2,{"$f":"RTD(\"cqg.rtd\",,\"StudyData\", \"Close(\"&$D$12&\") when LocalYear(\"&$D$12&\")=\"&$D$4&\" and localMonth(\"&$D$12&\") =\"&$E$4&\" and LocalDay(\"&$D$12&\")=\"&$F$4&\" and Barix(\"&$D$12&\",reference:=StartOfSession)=\"&A41&\"\", \"Bar\", \"\", \"Close\",\"5\",\"0\",\"PrimaryOnly\",,,\"False\",\"T\",\"EveryTick\")","v":380.11},4.4746172663057006E-2,{"$f":"RTD(\"cqg.rtd\",,\"StudyData\", \"Close(\"&$D$12&\") when LocalYear(\"&$D$12&\")=\"&$D$5&\" and localMonth(\"&$D$12&\") =\"&$E$5&\" and LocalDay(\"&$D$12&\")=\"&$F$5&\" and Barix(\"&$D$12&\",reference:=StartOfSession)=\"&A41&\"\", \"Bar\", \"\", \"Close\",\"5\",\"0\",\"PrimaryOnly\",,,\"False\",\"T\",\"EveryTick\")","v":363.96},6.9442523170562759E-3,{"$f":"RTD(\"cqg.rtd\",,\"StudyData\", \"Close(\"&$D$12&\") when LocalYear(\"&$D$12&\")=\"&$D$6&\" and localMonth(\"&$D$12&\") =\"&$E$6&\" and LocalDay(\"&$D$12&\")=\"&$F$6&\" and Barix(\"&$D$12&\",reference:=StartOfSession)=\"&A41&\"\", \"Bar\", \"\", \"Close\",\"5\",\"0\",\"PrimaryOnly\",,,\"False\",\"T\",\"EveryTick\")","v":362.6},5.6299747621821822E-3,{"$f":"RTD(\"cqg.rtd\",,\"StudyData\", \"Close(\"&$D$12&\") when LocalYear(\"&$D$12&\")=\"&$D$7&\" and localMonth(\"&$D$12&\") =\"&$E$7&\" and LocalDay(\"&$D$12&\")=\"&$F$7&\" and Barix(\"&$D$12&\",reference:=StartOfSession)=\"&A41&\"\", \"Bar\", \"\", \"Close\",\"5\",\"0\",\"PrimaryOnly\",,,\"False\",\"T\",\"EveryTick\")","v":360.8},-1.6602102933037243E-3,{"$f":"RTD(\"cqg.rtd\",,\"StudyData\", \"Close(\"&$D$12&\") when LocalYear(\"&$D$12&\")=\"&$D$8&\" and localMonth(\"&$D$12&\") =\"&$E$8&\" and LocalDay(\"&$D$12&\")=\"&$F$8&\" and Barix(\"&$D$12&\",reference:=StartOfSession)=\"&A41&\"\", \"Bar\", \"\", \"Close\",\"5\",\"0\",\"PrimaryOnly\",,,\"False\",\"T\",\"EveryTick\")","v":360.26},-1.9567288066403586E-2,{"$f":"RTD(\"cqg.rtd\",,\"StudyData\", \"Close(\"&$D$12&\") when LocalYear(\"&$D$12&\")=\"&$D$9&\" and localMonth(\"&$D$12&\") =\"&$E$9&\" and LocalDay(\"&$D$12&\")=\"&$F$9&\" and Barix(\"&$D$12&\",reference:=StartOfSession)=\"&A41&\"\", \"Bar\", \"\", \"Close\",\"5\",\"0\",\"PrimaryOnly\",,,\"False\",\"T\",\"EveryTick\")","v":364.53},-3.4718425369055185E-3,{"$f":"RTD(\"cqg.rtd\",,\"StudyData\", \"Close(\"&$D$12&\") when LocalYear(\"&$D$12&\")=\"&$D$10&\" and localMonth(\"&$D$12&\") =\"&$E$10&\" and LocalDay(\"&$D$12&\")=\"&$F$10&\" and Barix(\"&$D$12&\",reference:=StartOfSession)=\"&A41&\"\", \"Bar\", \"\", \"Close\",\"5\",\"0\",\"PrimaryOnly\",,,\"False\",\"T\",\"EveryTick\")","v":366.7},1.3515381001077876E-2,null,null,null,""]
[41,"11:55:00",-36,{"$f":" RTD(\"cqg.rtd\",,\"StudyData\", $D$12,  \"Tick\", \"FlatTicks=0\", \"Tick\",\"D\",C42,\"PrimaryOnly\")","v":391.48},null,"EMD",null,{"$f":"RTD(\"cqg.rtd\",,\"StudyData\", \"Close(\"&$D$12&\") when LocalYear(\"&$D$12&\")=\"&$D$1&\" and localMonth(\"&$D$12&\") =\"&$E$1&\" and LocalDay(\"&$D$12&\")=\"&$F$1&\" and Barix(\"&$D$12&\",reference:=StartOfSession)=\"&A42&\"\", \"Bar\", \"\", \"Close\",\"5\",\"0\",\"PrimaryOnly\",,,\"False\",\"T\",\"EveryTick\")","v":""},{"$error":"#N/A"},{"$f":"RTD(\"cqg.rtd\",,\"StudyData\", \"Close(\"&$D$12&\") when LocalYear(\"&$D$12&\")=\"&$D$2&\" and localMonth(\"&$D$12&\") =\"&$E$2&\" and LocalDay(\"&$D$12&\")=\"&$F$2&\" and Barix(\"&$D$12&\",reference:=StartOfSession)=\"&A42&\"\", \"Bar\", \"\", \"Close\",\"5\",\"0\",\"PrimaryOnly\",,,\"False\",\"T\",\"EveryTick\")","v":394.8},4.9125664978237251E-3,{"$f":"RTD(\"cqg.rtd\",,\"StudyData\", \"Close(\"&$D$12&\") when LocalYear(\"&$D$12&\")=\"&$D$3&\" and localMonth(\"&$D$12&\") =\"&$E$3&\" and LocalDay(\"&$D$12&\")=\"&$F$3&\" and Barix(\"&$D$12&\",reference:=StartOfSession)=\"&A42&\"\", \"Bar\", \"\", \"Close\",\"5\",\"0\",\"PrimaryOnly\",,,\"False\",\"T\",\"EveryTick\")","v":390.24},2.7136577790645652E-2,{"$f":"RTD(\"cqg.rtd\",,\"StudyData\", \"Close(\"&$D$12&\") when LocalYear(\"&$D$12&\")=\"&$D$4&\" and localMonth(\"&$D$12&\") =\"&$E$4&\" and LocalDay(\"&$D$12&\")=\"&$F$4&\" and Barix(\"&$D$12&\",reference:=StartOfSession)=\"&A42&\"\", \"Bar\", \"\", \"Close\",\"5\",\"0\",\"PrimaryOnly\",,,\"False\",\"T\",\"EveryTick\")","v":380.63},4.6175411593326589E-2,{"$f":"RTD(\"cqg.rtd\",,\"StudyData\", \"Close(\"&$D$12&\") when LocalYear(\"&$D$12&\")=\"&$D$5&\" and localMonth(\"&$D$12&\") =\"&$E$5&\" and LocalDay(\"&$D$12&\")=\"&$F$5&\" and Barix(\"&$D$12&\",reference:=StartOfSession)=\"&A42&\"\", \"Bar\", \"\", \"Close\",\"5\",\"0\",\"PrimaryOnly\",,,\"False\",\"T\",\"EveryTick\")","v":363.9},6.778254253700342E-3,{"$f":"RTD(\"cqg.rtd\",,\"StudyData\", \"Close(\"&$D$12&\") when LocalYear(\"&$D$12&\")=\"&$D$6&\" and localMonth(\"&$D$12&\") =\"&$E$6&\" and LocalDay(\"&$D$12&\")=\"&$F$6&\" and Barix(\"&$D$12&\",reference:=StartOfSession)=\"&A42&\"\", \"Bar\", \"\", \"Close\",\"5\",\"0\",\"PrimaryOnly\",,,\"False\",\"T\",\"EveryTick\")","v":362.61},5.6577086280057143E-3,{"$f":"RTD(\"cqg.rtd\",,\"StudyData\", \"Close(\"&$D$12&\") when LocalYear(\"&$D$12&\")=\"&$D$7&\" and localMonth(\"&$D$12&\") =\"&$E$7&\" and LocalDay(\"&$D$12&\")=\"&$F$7&\" and Barix(\"&$D$12&\",reference:=StartOfSession)=\"&A42&\"\", \"Bar\", \"\", \"Close\",\"5\",\"0\",\"PrimaryOnly\",,,\"False\",\"T\",\"EveryTick\")","v":360.57},-2.2966242390702381E-3,{"$f":"RTD(\"cqg.rtd\",,\"StudyData\", \"Close(\"&$D$12&\") when LocalYear(\"&$D$12&\")=\"&$D$8&\" and localMonth(\"&$D$12&\") =\"&$E$8&\" and LocalDay(\"&$D$12&\")=\"&$F$8&\" and Barix(\"&$D$12&\",reference:=StartOfSession)=\"&A42&\"\", \"Bar\", \"\", \"Close\",\"5\",\"0\",\"PrimaryOnly\",,,\"False\",\"T\",\"EveryTick\")","v":360.53},-1.8832494216900302E-2,{"$f":"RTD(\"cqg.rtd\",,\"StudyData\", \"Close(\"&$D$12&\") when LocalYear(\"&$D$12&\")=\"&$D$9&\" and localMonth(\"&$D$12&\") =\"&$E$9&\" and LocalDay(\"&$D$12&\")=\"&$F$9&\" and Barix(\"&$D$12&\",reference:=StartOfSession)=\"&A42&\"\", \"Bar\", \"\", \"Close\",\"5\",\"0\",\"PrimaryOnly\",,,\"False\",\"T\",\"EveryTick\")","v":365.25},-1.5035538545653672E-3,{"$f":"RTD(\"cqg.rtd\",,\"StudyData\", \"Close(\"&$D$12&\") when LocalYear(\"&$D$12&\")=\"&$D$10&\" and localMonth(\"&$D$12&\") =\"&$E$10&\" and LocalDay(\"&$D$12&\")=\"&$F$10&\" and Barix(\"&$D$12&\",reference:=StartOfSession)=\"&A42&\"\", \"Bar\", \"\", \"Close\",\"5\",\"0\",\"PrimaryOnly\",,,\"False\",\"T\",\"EveryTick\")","v":366.18},1.2078162571515449E-2,null,null,null,""]
[42,"12:00:00",-35,{"$f":" RTD(\"cqg.rtd\",,\"StudyData\", $D$12,  \"Tick\", \"FlatTicks=0\", \"Tick\",\"D\",C43,\"PrimaryOnly\")","v":391.39},null,"FTS",null,{"$f":"RTD(\"cqg.rtd\",,\"StudyData\", \"Close(\"&$D$12&\") when LocalYear(\"&$D$12&\")=\"&$D$1&\" and localMonth(\"&$D$12&\") =\"&$E$1&\" and LocalDay(\"&$D$12&\")=\"&$F$1&\" and Barix(\"&$D$12&\",reference:=StartOfSession)=\"&A43&\"\", \"Bar\", \"\", \"Close\",\"5\",\"0\",\"PrimaryOnly\",,,\"False\",\"T\",\"EveryTick\")","v":""},{"$error":"#N/A"},{"$f":"RTD(\"cqg.rtd\",,\"StudyData\", \"Close(\"&$D$12&\") when LocalYear(\"&$D$12&\")=\"&$D$2&\" and localMonth(\"&$D$12&\") =\"&$E$2&\" and LocalDay(\"&$D$12&\")=\"&$F$2&\" and Barix(\"&$D$12&\",reference:=StartOfSession)=\"&A43&\"\", \"Bar\", \"\", \"Close\",\"5\",\"0\",\"PrimaryOnly\",,,\"False\",\"T\",\"EveryTick\")","v":394.46},4.0471402754091047E-3,{"$f":"RTD(\"cqg.rtd\",,\"StudyData\", \"Close(\"&$D$12&\") when LocalYear(\"&$D$12&\")=\"&$D$3&\" and localMonth(\"&$D$12&\") =\"&$E$3&\" and LocalDay(\"&$D$12&\")=\"&$F$3&\" and Barix(\"&$D$12&\",reference:=StartOfSession)=\"&A43&\"\", \"Bar\", \"\", \"Close\",\"5\",\"0\",\"PrimaryOnly\",,,\"False\",\"T\",\"EveryTick\")","v":390.91},2.8900060537467475E-2,{"$f":"RTD(\"cqg.rtd\",,\"StudyData\", \"Close(\"&$D$12&\") when LocalYear(\"&$D$12&\")=\"&$D$4&\" and localMonth(\"&$D$12&\") =\"&$E$4&\" and LocalDay(\"&$D$12&\")=\"&$F$4&\" and Barix(\"&$D$12&\",reference:=StartOfSession)=\"&A43&\"\", \"Bar\", \"\", \"Close\",\"5\",\"0\",\"PrimaryOnly\",,,\"False\",\"T\",\"EveryTick\")","v":380.49},4.5790616496715571E-2,{"$f":"RTD(\"cqg.rtd\",,\"StudyData\", \"Close(\"&$D$12&\") when LocalYear(\"&$D$12&\")=\"&$D$5&\" and localMonth(\"&$D$12&\") =\"&$E$5&\" and LocalDay(\"&$D$12&\")=\"&$F$5&\" and Barix(\"&$D$12&\",reference:=StartOfSession)=\"&A43&\"\", \"Bar\", \"\", \"Close\",\"5\",\"0\",\"PrimaryOnly\",,,\"False\",\"T\",\"EveryTick\")","v":364.12},7.3869138193388183E-3,{"$f":"RTD(\"cqg.rtd\",,\"StudyData\", \"Close(\"&$D$12&\") when LocalYear(\"&$D$12&\")=\"&$D$6&\" and localMonth(\"&$D$12&\") =\"&$E$6&\" and LocalDay(\"&$D$12&\")=\"&$F$6&\" and Barix(\"&$D$12&\",reference:=StartOfSession)=\"&A43&\"\", \"Bar\", \"\", \"Close\",\"5\",\"0\",\"PrimaryOnly\",,,\"False\",\"T\",\"EveryTick\")","v":362.42},5.1307651773581349E-3,{"$f":"RTD(\"cqg.rtd\",,\"StudyData\", \"Close(\"&$D$12&\") when LocalYear(\"&$D$12&\")=\"&$D$7&\" and localMonth(\"&$D$12&\") =\"&$E$7&\" and LocalDay(\"&$D$12&\")=\"&$F$7&\" and Barix(\"&$D$12&\",reference:=StartOfSession)=\"&A43&\"\", \"Bar\", \"\", \"Close\",\"5\",\"0\",\"PrimaryOnly\",,,\"False\",\"T\",\"EveryTick\")","v":360.58},-2.2689540675151997E-3,{"$f":"RTD(\"cqg.rtd\",,\"StudyData\", \"Close(\"&$D$12&\") when LocalYear(\"&$D$12&\")=\"&$D$8&\" and localMonth(\"&$D$12&\") =\"&$E$8&\" and LocalDay(\"&$D$12&\")=\"&$F$8&\" and Barix(\"&$D$12&\",reference:=StartOfSession)=\"&A43&\"\", \"Bar\", \"\", \"Close\",\"5\",\"0\",\"PrimaryOnly\",,,\"False\",\"T\",\"EveryTick\")","v":360.15},-1.9866648523608685E-2,{"$f":"RTD(\"cqg.rtd\",,\"StudyData\", \"Close(\"&$D$12&\") when LocalYear(\"&$D$12&\")=\"&$D$9&\" and localMonth(\"&$D$12&\") =\"&$E$9&\" and LocalDay(\"&$D$12&\")=\"&$F$9&\" and Barix(\"&$D$12&\",reference:=StartOfSession)=\"&A43&\"\", \"Bar\", \"\", \"Close\",\"5\",\"0\",\"PrimaryOnly\",,,\"False\",\"T\",\"EveryTick\")","v":365.59},-5.7408419901595507E-4,{"$f":"RTD(\"cqg.rtd\",,\"StudyData\", \"Close(\"&$D$12&\") when LocalYear(\"&$D$12&\")=\"&$D$10&\" and localMonth(\"&$D$12&\") =\"&$E$10&\" and LocalDay(\"&$D$12&\")=\"&$F$10&\" and Barix(\"&$D$12&\",reference:=StartOfSession)=\"&A43&\"\", \"Bar\", \"\", \"Close\",\"5\",\"0\",\"PrimaryOnly\",,,\"False\",\"T\",\"EveryTick\")","v":366.57},1.3156076393687269E-2,null,null,null,""]
[43,"12:05:00",-34,{"$f":" RTD(\"cqg.rtd\",,\"StudyData\", $D$12,  \"Tick\", \"FlatTicks=0\", \"Tick\",\"D\",C44,\"PrimaryOnly\")","v":391.3},null,"BTC",null,{"$f":"RTD(\"cqg.rtd\",,\"StudyData\", \"Close(\"&$D$12&\") when LocalYear(\"&$D$12&\")=\"&$D$1&\" and localMonth(\"&$D$12&\") =\"&$E$1&\" and LocalDay(\"&$D$12&\")=\"&$F$1&\" and Barix(\"&$D$12&\",reference:=StartOfSession)=\"&A44&\"\", \"Bar\", \"\", \"Close\",\"5\",\"0\",\"PrimaryOnly\",,,\"False\",\"T\",\"EveryTick\")","v":""},{"$error":"#N/A"},{"$f":"RTD(\"cqg.rtd\",,\"StudyData\", \"Close(\"&$D$12&\") when LocalYear(\"&$D$12&\")=\"&$D$2&\" and localMonth(\"&$D$12&\") =\"&$E$2&\" and LocalDay(\"&$D$12&\")=\"&$F$2&\" and Barix(\"&$D$12&\",reference:=StartOfSession)=\"&A44&\"\", \"Bar\", \"\", \"Close\",\"5\",\"0\",\"PrimaryOnly\",,,\"False\",\"T\",\"EveryTick\")","v":394.34},3.7416957263216089E-3,{"$f":"RTD(\"cqg.rtd\",,\"StudyData\", \"Close(\"&$D$12&\") when LocalYear(\"&$D$12&\")=\"&$D$3&\" and localMonth(\"&$D$12&\") =\"&$E$3&\" and LocalDay(\"&$D$12&\")=\"&$F$3&\" and Barix(\"&$D$12&\",reference:=StartOfSession)=\"&A44&\"\", \"Bar\", \"\", \"Close\",\"5\",\"0\",\"PrimaryOnly\",,,\"False\",\"T\",\"EveryTick\")","v":391.61},3.0742505198326026E-2,{"$f":"RTD(\"cqg.rtd\",,\"StudyData\", \"Close(\"&$D$12&\") when LocalYear(\"&$D$12&\")=\"&$D$4&\" and localMonth(\"&$D$12&\") =\"&$E$4&\" and LocalDay(\"&$D$12&\")=\"&$F$4&\" and Barix(\"&$D$12&\",reference:=StartOfSession)=\"&A44&\"\", \"Bar\", \"\", \"Close\",\"5\",\"0\",\"PrimaryOnly\",,,\"False\",\"T\",\"EveryTick\")","v":379.95},4.430640683835859E-2,{"$f":"RTD(\"cqg.rtd\",,\"StudyData\", \"Close(\"&$D$12&\") when LocalYear(\"&$D$12&\")=\"&$D$5&\" and localMonth(\"&$D$12&\") =\"&$E$5&\" and LocalDay(\"&$D$12&\")=\"&$F$5&\" and Barix(\"&$D$12&\",reference:=StartOfSession)=\"&A44&\"\", \"Bar\", \"\", \"Close\",\"5\",\"0\",\"PrimaryOnly\",,,\"False\",\"T\",\"EveryTick\")","v":363.98},6.9995850048416922E-3,{"$f":"RTD(\"cqg.rtd\",,\"StudyData\", \"Close(\"&$D$12&\") when LocalYear(\"&$D$12&\")=\"&$D$6&\" and localMonth(\"&$D$12&\") =\"&$E$6&\" and LocalDay(\"&$D$12&\")=\"&$F$6&\" and Barix(\"&$D$12&\",reference:=StartOfSession)=\"&A44&\"\", \"Bar\", \"\", \"Close\",\"5\",\"0\",\"PrimaryOnly\",,,\"False\",\"T\",\"EveryTick\")","v":362.33},4.8811603849460324E-3,{"$f":"RTD(\"cqg.rtd\",,\"StudyData\", \"Close(\"&$D$12&\") when LocalYear(\"&$D$12&\")=\"&$D$7&\" and localMonth(\"&$D$12&\") =\"&$E$7&\" and LocalDay(\"&$D$12&\")=\"&$F$7&\" and Barix(\"&$D$12&\",reference:=StartOfSession)=\"&A44&\"\", \"Bar\", \"\", \"Close\",\"5\",\"0\",\"PrimaryOnly\",,,\"False\",\"T\",\"EveryTick\")","v":360.33},-2.9607083563917909E-3,{"$f":"RTD(\"cqg.rtd\",,\"StudyData\", \"Close(\"&$D$12&\") when LocalYear(\"&$D$12&\")=\"&$D$8&\" and localMonth(\"&$D$12&\") =\"&$E$8&\" and LocalDay(\"&$D$12&\")=\"&$F$8&\" and Barix(\"&$D$12&\",reference:=StartOfSession)=\"&A44&\"\", \"Bar\", \"\", \"Close\",\"5\",\"0\",\"PrimaryOnly\",,,\"False\",\"T\",\"EveryTick\")","v":359.53},-2.1553952918764503E-2,{"$f":"RTD(\"cqg.rtd\",,\"StudyData\", \"Close(\"&$D$12&\") when LocalYear(\"&$D$12&\")=\"&$D$9&\" and localMonth(\"&$D$12&\") =\"&$E$9&\" and LocalDay(\"&$D$12&\")=\"&$F$9&\" and Barix(\"&$D$12&\",reference:=StartOfSession)=\"&A44&\"\", \"Bar\", \"\", \"Close\",\"5\",\"0\",\"PrimaryOnly\",,,\"False\",\"T\",\"EveryTick\")","v":365.37},-1.1755057408420087E-3,{"$f":"RTD(\"cqg.rtd\",,\"StudyData\", \"Close(\"&$D$12&\") when LocalYear(\"&$D$12&\")=\"&$D$10&\" and localMonth(\"&$D$12&\") =\"&$E$10&\" and LocalDay(\"&$D$12&\")=\"&$F$10&\" and Barix(\"&$D$12&\",reference:=StartOfSession)=\"&A44&\"\", \"Bar\", \"\", \"Close\",\"5\",\"0\",\"PrimaryOnly\",,,\"False\",\"T\",\"EveryTick\")","v":366.03},1.1663580332218485E-2,null,null,null,""]
[44,"12:10:00",-33,{"$f":" RTD(\"cqg.rtd\",,\"StudyData\", $D$12,  \"Tick\", \"FlatTicks=0\", \"Tick\",\"D\",C45,\"PrimaryOnly\")","v":391.42},null,null,null,{"$f":"RTD(\"cqg.rtd\",,\"StudyData\", \"Close(\"&$D$12&\") when LocalYear(\"&$D$12&\")=\"&$D$1&\" and localMonth(\"&$D$12&\") =\"&$E$1&\" and LocalDay(\"&$D$12&\")=\"&$F$1&\" and Barix(\"&$D$12&\",reference:=StartOfSession)=\"&A45&\"\", \"Bar\", \"\", \"Close\",\"5\",\"0\",\"PrimaryOnly\",,,\"False\",\"T\",\"EveryTick\")","v":""},{"$error":"#N/A"},{"$f":"RTD(\"cqg.rtd\",,\"StudyData\", \"Close(\"&$D$12&\") when LocalYear(\"&$D$12&\")=\"&$D$2&\" and localMonth(\"&$D$12&\") =\"&$E$2&\" and LocalDay(\"&$D$12&\")=\"&$F$2&\" and Barix(\"&$D$12&\",reference:=StartOfSession)=\"&A45&\"\", \"Bar\", \"\", \"Close\",\"5\",\"0\",\"PrimaryOnly\",,,\"False\",\"T\",\"EveryTick\")","v":394.08},3.079899203298749E-3,{"$f":"RTD(\"cqg.rtd\",,\"StudyData\", \"Close(\"&$D$12&\") when LocalYear(\"&$D$12&\")=\"&$D$3&\" and localMonth(\"&$D$12&\") =\"&$E$3&\" and LocalDay(\"&$D$12&\")=\"&$F$3&\" and Barix(\"&$D$12&\",reference:=StartOfSession)=\"&A45&\"\", \"Bar\", \"\", \"Close\",\"5\",\"0\",\"PrimaryOnly\",,,\"False\",\"T\",\"EveryTick\")","v":391.93},3.1584765614718499E-2,{"$f":"RTD(\"cqg.rtd\",,\"StudyData\", \"Close(\"&$D$12&\") when LocalYear(\"&$D$12&\")=\"&$D$4&\" and localMonth(\"&$D$12&\") =\"&$E$4&\" and LocalDay(\"&$D$12&\")=\"&$F$4&\" and Barix(\"&$D$12&\",reference:=StartOfSession)=\"&A45&\"\", \"Bar\", \"\", \"Close\",\"5\",\"0\",\"PrimaryOnly\",,,\"False\",\"T\",\"EveryTick\")","v":380.34},4.5378336036060778E-2,{"$f":"RTD(\"cqg.rtd\",,\"StudyData\", \"Close(\"&$D$12&\") when LocalYear(\"&$D$12&\")=\"&$D$5&\" and localMonth(\"&$D$12&\") =\"&$E$5&\" and LocalDay(\"&$D$12&\")=\"&$F$5&\" and Barix(\"&$D$12&\",reference:=StartOfSession)=\"&A45&\"\", \"Bar\", \"\", \"Close\",\"5\",\"0\",\"PrimaryOnly\",,,\"False\",\"T\",\"EveryTick\")","v":364.46},8.3275695116890053E-3,{"$f":"RTD(\"cqg.rtd\",,\"StudyData\", \"Close(\"&$D$12&\") when LocalYear(\"&$D$12&\")=\"&$D$6&\" and localMonth(\"&$D$12&\") =\"&$E$6&\" and LocalDay(\"&$D$12&\")=\"&$F$6&\" and Barix(\"&$D$12&\",reference:=StartOfSession)=\"&A45&\"\", \"Bar\", \"\", \"Close\",\"5\",\"0\",\"PrimaryOnly\",,,\"False\",\"T\",\"EveryTick\")","v":362.57},5.546773164711429E-3,{"$f":"RTD(\"cqg.rtd\",,\"StudyData\", \"Close(\"&$D$12&\") when LocalYear(\"&$D$12&\")=\"&$D$7&\" and localMonth(\"&$D$12&\") =\"&$E$7&\" and LocalDay(\"&$D$12&\")=\"&$F$7&\" and Barix(\"&$D$12&\",reference:=StartOfSession)=\"&A45&\"\", \"Bar\", \"\", \"Close\",\"5\",\"0\",\"PrimaryOnly\",,,\"False\",\"T\",\"EveryTick\")","v":360.75},-1.7985611510790739E-3,{"$f":"RTD(\"cqg.rtd\",,\"StudyData\", \"Close(\"&$D$12&\") when LocalYear(\"&$D$12&\")=\"&$D$8&\" and localMonth(\"&$D$12&\") =\"&$E$8&\" and LocalDay(\"&$D$12&\")=\"&$F$8&\" and Barix(\"&$D$12&\",reference:=StartOfSession)=\"&A45&\"\", \"Bar\", \"\", \"Close\",\"5\",\"0\",\"PrimaryOnly\",,,\"False\",\"T\",\"EveryTick\")","v":359.18},-2.2506463464416877E-2,{"$f":"RTD(\"cqg.rtd\",,\"StudyData\", \"Close(\"&$D$12&\") when LocalYear(\"&$D$12&\")=\"&$D$9&\" and localMonth(\"&$D$12&\") =\"&$E$9&\" and LocalDay(\"&$D$12&\")=\"&$F$9&\" and Barix(\"&$D$12&\",reference:=StartOfSession)=\"&A45&\"\", \"Bar\", \"\", \"Close\",\"5\",\"0\",\"PrimaryOnly\",,,\"False\",\"T\",\"EveryTick\")","v":365.22},-1.5855658829961293E-3,{"$f":"RTD(\"cqg.rtd\",,\"StudyData\", \"Close(\"&$D$12&\") when LocalYear(\"&$D$12&\")=\"&$D$10&\" and localMonth(\"&$D$12&\") =\"&$E$10&\" and LocalDay(\"&$D$12&\")=\"&$F$10&\" and Barix(\"&$D$12&\",reference:=StartOfSession)=\"&A45&\"\", \"Bar\", \"\", \"Close\",\"5\",\"0\",\"PrimaryOnly\",,,\"False\",\"T\",\"EveryTick\")","v":365.65},1.0613305325999765E-2,null,null,null,""]
[45,"12:15:00",-32,{"$f":" RTD(\"cqg.rtd\",,\"StudyData\", $D$12,  \"Tick\", \"FlatTicks=0\", \"Tick\",\"D\",C46,\"PrimaryOnly\")","v":391.3},null,null,null,{"$f":"RTD(\"cqg.rtd\",,\"StudyData\", \"Close(\"&$D$12&\") when LocalYear(\"&$D$12&\")=\"&$D$1&\" and localMonth(\"&$D$12&\") =\"&$E$1&\" and LocalDay(\"&$D$12&\")=\"&$F$1&\" and Barix(\"&$D$12&\",reference:=StartOfSession)=\"&A46&\"\", \"Bar\", \"\", \"Close\",\"5\",\"0\",\"PrimaryOnly\",,,\"False\",\"T\",\"EveryTick\")","v":""},{"$error":"#N/A"},{"$f":"RTD(\"cqg.rtd\",,\"StudyData\", \"Close(\"&$D$12&\") when LocalYear(\"&$D$12&\")=\"&$D$2&\" and localMonth(\"&$D$12&\") =\"&$E$2&\" and LocalDay(\"&$D$12&\")=\"&$F$2&\" and Barix(\"&$D$12&\",reference:=StartOfSession)=\"&A46&\"\", \"Bar\", \"\", \"Close\",\"5\",\"0\",\"PrimaryOnly\",,,\"False\",\"T\",\"EveryTick\")","v":395.13},5.7525390078142667E-3,{"$f":"RTD(\"cqg.rtd\",,\"StudyData\", \"Close(\"&$D$12&\") when LocalYear(\"&$D$12&\")=\"&$D$3&\" and localMonth(\"&$D$12&\") =\"&$E$3&\" and LocalDay(\"&$D$12&\")=\"&$F$3&\" and Barix(\"&$D$12&\",reference:=StartOfSession)=\"&A46&\"\", \"Bar\", \"\", \"Close\",\"5\",\"0\",\"PrimaryOnly\",,,\"False\",\"T\",\"EveryTick\")","v":392.34},3.2663911773221296E-2,{"$f":"RTD(\"cqg.rtd\",,\"StudyData\", \"Close(\"&$D$12&\") when LocalYear(\"&$D$12&\")=\"&$D$4&\" and localMonth(\"&$D$12&\") =\"&$E$4&\" and LocalDay(\"&$D$12&\")=\"&$F$4&\" and Barix(\"&$D$12&\",reference:=StartOfSession)=\"&A46&\"\", \"Bar\", \"\", \"Close\",\"5\",\"0\",\"PrimaryOnly\",,,\"False\",\"T\",\"EveryTick\")","v":379.83},4.3976582469834817E-2,{"$f":"RTD(\"cqg.rtd\",,\"StudyData\", \"Close(\"&$D$12&\") when LocalYear(\"&$D$12&\")=\"&$D$5&\" and localMonth(\"&$D$12&\") =\"&$E$5&\" and LocalDay(\"&$D$12&\")=\"&$F$5&\" and Barix(\"&$D$12&\",reference:=StartOfSession)=\"&A46&\"\", \"Bar\", \"\", \"Close\",\"5\",\"0\",\"PrimaryOnly\",,,\"False\",\"T\",\"EveryTick\")","v":364.57},8.6318992945082443E-3,{"$f":"RTD(\"cqg.rtd\",,\"StudyData\", \"Close(\"&$D$12&\") when LocalYear(\"&$D$12&\")=\"&$D$6&\" and localMonth(\"&$D$12&\") =\"&$E$6&\" and LocalDay(\"&$D$12&\")=\"&$F$6&\" and Barix(\"&$D$12&\",reference:=StartOfSession)=\"&A46&\"\", \"Bar\", \"\", \"Close\",\"5\",\"0\",\"PrimaryOnly\",,,\"False\",\"T\",\"EveryTick\")","v":362.54},5.4635715672408337E-3,{"$f":"RTD(\"cqg.rtd\",,\"StudyData\", \"Close(\"&$D$12&\") when LocalYear(\"&$D$12&\")=\"&$D$7&\" and localMonth(\"&$D$12&\") =\"&$E$7&\" and LocalDay(\"&$D$12&\")=\"&$F$7&\" and Barix(\"&$D$12&\",reference:=StartOfSession)=\"&A46&\"\", \"Bar\", \"\", \"Close\",\"5\",\"0\",\"PrimaryOnly\",,,\"False\",\"T\",\"EveryTick\")","v":361.07},-9.1311566131705617E-4,{"$f":"RTD(\"cqg.rtd\",,\"StudyData\", \"Close(\"&$D$12&\") when LocalYear(\"&$D$12&\")=\"&$D$8&\" and localMonth(\"&$D$12&\") =\"&$E$8&\" and LocalDay(\"&$D$12&\")=\"&$F$8&\" and Barix(\"&$D$12&\",reference:=StartOfSession)=\"&A46&\"\", \"Bar\", \"\", \"Close\",\"5\",\"0\",\"PrimaryOnly\",,,\"False\",\"T\",\"EveryTick\")","v":358.5},-2.4357055381684554E-2,{"$f":"RTD(\"cqg.rtd\",,\"StudyData\", \"Close(\"&$D$12&\") when LocalYear(\"&$D$12&\")=\"&$D$9&\" and localMonth(\"&$D$12&\") =\"&$E$9&\" and LocalDay(\"&$D$12&\")=\"&$F$9&\" and Barix(\"&$D$12&\",reference:=StartOfSession)=\"&A46&\"\", \"Bar\", \"\", \"Close\",\"5\",\"0\",\"PrimaryOnly\",,,\"False\",\"T\",\"EveryTick\")","v":364.8},-2.7337342810278839E-3,{"$f":"RTD(\"cqg.rtd\",,\"StudyData\", \"Close(\"&$D$12&\") when LocalYear(\"&$D$12&\")=\"&$D$10&\" and localMonth(\"&$D$12&\") =\"&$E$10&\" and LocalDay(\"&$D$12&\")=\"&$F$10&\" and Barix(\"&$D$12&\",reference:=StartOfSession)=\"&A46&\"\", \"Bar\", \"\", \"Close\",\"5\",\"0\",\"PrimaryOnly\",,,\"False\",\"T\",\"EveryTick\")","v":365.94},1.1414830988640434E-2,null,null,null,""]
[46,"12:20:00",-31,{"$f":" RTD(\"cqg.rtd\",,\"StudyData\", $D$12,  \"Tick\", \"FlatTicks=0\", \"Tick\",\"D\",C47,\"PrimaryOnly\")","v":391.39},null,null,null,{"$f":"RTD(\"cqg.rtd\",,\"StudyData\", \"Close(\"&$D$12&\") when LocalYear(\"&$D$12&\")=\"&$D$1&\" and localMonth(\"&$D$12&\") =\"&$E$1&\" and LocalDay(\"&$D$12&\")=\"&$F$1&\" and Barix(\"&$D$12&\",reference:=StartOfSession)=\"&A47&\"\", \"Bar\", \"\", \"Close\",\"5\",\"0\",\"PrimaryOnly\",,,\"False\",\"T\",\"EveryTick\")","v":""},{"$error":"#N/A"},{"$f":"RTD(\"cqg.rtd\",,\"StudyData\", \"Close(\"&$D$12&\") when LocalYear(\"&$D$12&\")=\"&$D$2&\" and localMonth(\"&$D$12&\") =\"&$E$2&\" and LocalDay(\"&$D$12&\")=\"&$F$2&\" and Barix(\"&$D$12&\",reference:=StartOfSession)=\"&A47&\"\", \"Bar\", \"\", \"Close\",\"5\",\"0\",\"PrimaryOnly\",,,\"False\",\"T\",\"EveryTick\")","v":394.31},3.6653345890498069E-3,{"$f":"RTD(\"cqg.rtd\",,\"StudyData\", \"Close(\"&$D$12&\") when LocalYear(\"&$D$12&\")=\"&$D$3&\" and localMonth(\"&$D$12&\") =\"&$E$3&\" and LocalDay(\"&$D$12&\")=\"&$F$3&\" and Barix(\"&$D$12&\",reference:=StartOfSession)=\"&A47&\"\", \"Bar\", \"\", \"Close\",\"5\",\"0\",\"PrimaryOnly\",,,\"False\",\"T\",\"EveryTick\")","v":392.09},3.2005895822914666E-2,{"$f":"RTD(\"cqg.rtd\",,\"StudyData\", \"Close(\"&$D$12&\") when LocalYear(\"&$D$12&\")=\"&$D$4&\" and localMonth(\"&$D$12&\") =\"&$E$4&\" and LocalDay(\"&$D$12&\")=\"&$F$4&\" and Barix(\"&$D$12&\",reference:=StartOfSession)=\"&A47&\"\", \"Bar\", \"\", \"Close\",\"5\",\"0\",\"PrimaryOnly\",,,\"False\",\"T\",\"EveryTick\")","v":379.21},4.2272489899128705E-2,{"$f":"RTD(\"cqg.rtd\",,\"StudyData\", \"Close(\"&$D$12&\") when LocalYear(\"&$D$12&\")=\"&$D$5&\" and localMonth(\"&$D$12&\") =\"&$E$5&\" and LocalDay(\"&$D$12&\")=\"&$F$5&\" and Barix(\"&$D$12&\",reference:=StartOfSession)=\"&A47&\"\", \"Bar\", \"\", \"Close\",\"5\",\"0\",\"PrimaryOnly\",,,\"False\",\"T\",\"EveryTick\")","v":364.56},8.6042329506156139E-3,{"$f":"RTD(\"cqg.rtd\",,\"StudyData\", \"Close(\"&$D$12&\") when LocalYear(\"&$D$12&\")=\"&$D$6&\" and localMonth(\"&$D$12&\") =\"&$E$6&\" and LocalDay(\"&$D$12&\")=\"&$F$6&\" and Barix(\"&$D$12&\",reference:=StartOfSession)=\"&A47&\"\", \"Bar\", \"\", \"Close\",\"5\",\"0\",\"PrimaryOnly\",,,\"False\",\"T\",\"EveryTick\")","v":362.31},4.8256926532989682E-3,{"$f":"RTD(\"cqg.rtd\",,\"StudyData\", \"Close(\"&$D$12&\") when LocalYear(\"&$D$12&\")=\"&$D$7&\" and localMonth(\"&$D$12&\") =\"&$E$7&\" and LocalDay(\"&$D$12&\")=\"&$F$7&\" and Barix(\"&$D$12&\",reference:=StartOfSession)=\"&A47&\"\", \"Bar\", \"\", \"Close\",\"5\",\"0\",\"PrimaryOnly\",,,\"False\",\"T\",\"EveryTick\")","v":360.96},-1.2174875484227941E-3,{"$f":"RTD(\"cqg.rtd\",,\"StudyData\", \"Close(\"&$D$12&\") when LocalYear(\"&$D$12&\")=\"&$D$8&\" and localMonth(\"&$D$12&\") =\"&$E$8&\" and LocalDay(\"&$D$12&\")=\"&$F$8&\" and Barix(\"&$D$12&\",reference:=StartOfSession)=\"&A47&\"\", \"Bar\", \"\", \"Close\",\"5\",\"0\",\"PrimaryOnly\",,,\"False\",\"T\",\"EveryTick\")","v":359.12},-2.2669750986528736E-2,{"$f":"RTD(\"cqg.rtd\",,\"StudyData\", \"Close(\"&$D$12&\") when LocalYear(\"&$D$12&\")=\"&$D$9&\" and localMonth(\"&$D$12&\") =\"&$E$9&\" and LocalDay(\"&$D$12&\")=\"&$F$9&\" and Barix(\"&$D$12&\",reference:=StartOfSession)=\"&A47&\"\", \"Bar\", \"\", \"Close\",\"5\",\"0\",\"PrimaryOnly\",,,\"False\",\"T\",\"EveryTick\")","v":364.55},-3.4171678512848551E-3,{"$f":"RTD(\"cqg.rtd\",,\"StudyData\", \"Close(\"&$D$12&\") when LocalYear(\"&$D$12&\")=\"&$D$10&\" and localMonth(\"&$D$12&\") =\"&$E$10&\" and LocalDay(\"&$D$12&\")=\"&$F$10&\" and Barix(\"&$D$12&\",reference:=StartOfSession)=\"&A47&\"\", \"Bar\", \"\", \"Close\",\"5\",\"0\",\"PrimaryOnly\",,,\"False\",\"T\",\"EveryTick\")","v":365.42},9.9776125590780064E-3,null,null,null,""]
[47,"12:25:00",-30,{"$f":" RTD(\"cqg.rtd\",,\"StudyData\", $D$12,  \"Tick\", \"FlatTicks=0\", \"Tick\",\"D\",C48,\"PrimaryOnly\")","v":391.3},null,null,null,{"$f":"RTD(\"cqg.rtd\",,\"StudyData\", \"Close(\"&$D$12&\") when LocalYear(\"&$D$12&\")=\"&$D$1&\" and localMonth(\"&$D$12&\") =\"&$E$1&\" and LocalDay(\"&$D$12&\")=\"&$F$1&\" and Barix(\"&$D$12&\",reference:=StartOfSession)=\"&A48&\"\", \"Bar\", \"\", \"Close\",\"5\",\"0\",\"PrimaryOnly\",,,\"False\",\"T\",\"EveryTick\")","v":""},{"$error":"#N/A"},{"$f":"RTD(\"cqg.rtd\",,\"StudyData\", \"Close(\"&$D$12&\") when LocalYear(\"&$D$12&\")=\"&$D$2&\" and localMonth(\"&$D$12&\") =\"&$E$2&\" and LocalDay(\"&$D$12&\")=\"&$F$2&\" and Barix(\"&$D$12&\",reference:=StartOfSession)=\"&A48&\"\", \"Bar\", \"\", \"Close\",\"5\",\"0\",\"PrimaryOnly\",,,\"False\",\"T\",\"EveryTick\")","v":394.7},4.658029373584097E-3,{"$f":"RTD(\"cqg.rtd\",,\"StudyData\", \"Close(\"&$D$12&\") when LocalYear(\"&$D$12&\")=\"&$D$3&\" and localMonth(\"&$D$12&\") =\"&$E$3&\" and LocalDay(\"&$D$12&\")=\"&$F$3&\" and Barix(\"&$D$12&\",reference:=StartOfSession)=\"&A48&\"\", \"Bar\", \"\", \"Close\",\"5\",\"0\",\"PrimaryOnly\",,,\"False\",\"T\",\"EveryTick\")","v":392.54},3.3190324533466729E-2,{"$f":"RTD(\"cqg.rtd\",,\"StudyData\", \"Close(\"&$D$12&\") when LocalYear(\"&$D$12&\")=\"&$D$4&\" and localMonth(\"&$D$12&\") =\"&$E$4&\" and LocalDay(\"&$D$12&\")=\"&$F$4&\" and Barix(\"&$D$12&\",reference:=StartOfSession)=\"&A48&\"\", \"Bar\", \"\", \"Close\",\"5\",\"0\",\"PrimaryOnly\",,,\"False\",\"T\",\"EveryTick\")","v":379.22},4.229997526317248E-2,{"$f":"RTD(\"cqg.rtd\",,\"StudyData\", \"Close(\"&$D$12&\") when LocalYear(\"&$D$12&\")=\"&$D$5&\" and localMonth(\"&$D$12&\") =\"&$E$5&\" and LocalDay(\"&$D$12&\")=\"&$F$5&\" and Barix(\"&$D$12&\",reference:=StartOfSession)=\"&A48&\"\", \"Bar\", \"\", \"Close\",\"5\",\"0\",\"PrimaryOnly\",,,\"False\",\"T\",\"EveryTick\")","v":364.37},8.0785724166551835E-3,{"$f":"RTD(\"cqg.rtd\",,\"StudyData\", \"Close(\"&$D$12&\") when LocalYear(\"&$D$12&\")=\"&$D$6&\" and localMonth(\"&$D$12&\") =\"&$E$6&\" and LocalDay(\"&$D$12&\")=\"&$F$6&\" and Barix(\"&$D$12&\",reference:=StartOfSession)=\"&A48&\"\", \"Bar\", \"\", \"Close\",\"5\",\"0\",\"PrimaryOnly\",,,\"False\",\"T\",\"EveryTick\")","v":362.37},4.9920958482403176E-3,{"$f":"RTD(\"cqg.rtd\",,\"StudyData\", \"Close(\"&$D$12&\") when LocalYear(\"&$D$12&\")=\"&$D$7&\" and localMonth(\"&$D$12&\") =\"&$E$7&\" and LocalDay(\"&$D$12&\")=\"&$F$7&\" and Barix(\"&$D$12&\",reference:=StartOfSession)=\"&A48&\"\", \"Bar\", \"\", \"Close\",\"5\",\"0\",\"PrimaryOnly\",,,\"False\",\"T\",\"EveryTick\")","v":361.12},-7.7476480354170653E-4,{"$f":"RTD(\"cqg.rtd\",,\"StudyData\", \"Close(\"&$D$12&\") when LocalYear(\"&$D$12&\")=\"&$D$8&\" and localMonth(\"&$D$12&\") =\"&$E$8&\" and LocalDay(\"&$D$12&\")=\"&$F$8&\" and Barix(\"&$D$12&\",reference:=StartOfSession)=\"&A48&\"\", \"Bar\", \"\", \"Close\",\"5\",\"0\",\"PrimaryOnly\",,,\"False\",\"T\",\"EveryTick\")","v":358.36},-2.4738059599945503E-2,{"$f":"RTD(\"cqg.rtd\",,\"StudyData\", \"Close(\"&$D$12&\") when LocalYear(\"&$D$12&\")=\"&$D$9&\" and localMonth(\"&$D$12&\") =\"&$E$9&\" and LocalDay(\"&$D$12&\")=\"&$F$9&\" and Barix(\"&$D$12&\",reference:=StartOfSession)=\"&A48&\"\", \"Bar\", \"\", \"Close\",\"5\",\"0\",\"PrimaryOnly\",,,\"False\",\"T\",\"EveryTick\")","v":364.64},-3.1711317659924138E-3,{"$f":"RTD(\"cqg.rtd\",,\"StudyData\", \"Close(\"&$D$12&\") when LocalYear(\"&$D$12&\")=\"&$D$10&\" and localMonth(\"&$D$12&\") =\"&$E$10&\" and LocalDay(\"&$D$12&\")=\"&$F$10&\" and Barix(\"&$D$12&\",reference:=StartOfSession)=\"&A48&\"\", \"Bar\", \"\", \"Close\",\"5\",\"0\",\"PrimaryOnly\",,,\"False\",\"T\",\"EveryTick\")","v":364.9},8.5403941295154225E-3,null,null,null,""]
[48,"12:30:00",-29,{"$f":" RTD(\"cqg.rtd\",,\"StudyData\", $D$12,  \"Tick\", \"FlatTicks=0\", \"Tick\",\"D\",C49,\"PrimaryOnly\")","v":391.4},null,null,null,{"$f":"RTD(\"cqg.rtd\",,\"StudyData\", \"Close(\"&$D$12&\") when LocalYear(\"&$D$12&\")=\"&$D$1&\" and localMonth(\"&$D$12&\") =\"&$E$1&\" and LocalDay(\"&$D$12&\")=\"&$F$1&\" and Barix(\"&$D$12&\",reference:=StartOfSession)=\"&A49&\"\", \"Bar\", \"\", \"Close\",\"5\",\"0\",\"PrimaryOnly\",,,\"False\",\"T\",\"EveryTick\")","v":""},{"$error":"#N/A"},{"$f":"RTD(\"cqg.rtd\",,\"StudyData\", \"Close(\"&$D$12&\") when LocalYear(\"&$D$12&\")=\"&$D$2&\" and localMonth(\"&$D$12&\") =\"&$E$2&\" and LocalDay(\"&$D$12&\")=\"&$F$2&\" and Barix(\"&$D$12&\",reference:=StartOfSession)=\"&A49&\"\", \"Bar\", \"\", \"Close\",\"5\",\"0\",\"PrimaryOnly\",,,\"False\",\"T\",\"EveryTick\")","v":394.47},4.0725939878331835E-3,{"$f":"RTD(\"cqg.rtd\",,\"StudyData\", \"Close(\"&$D$12&\") when LocalYear(\"&$D$12&\")=\"&$D$3&\" and localMonth(\"&$D$12&\") =\"&$E$3&\" and LocalDay(\"&$D$12&\")=\"&$F$3&\" and Barix(\"&$D$12&\",reference:=StartOfSession)=\"&A49&\"\", \"Bar\", \"\", \"Close\",\"5\",\"0\",\"PrimaryOnly\",,,\"False\",\"T\",\"EveryTick\")","v":392.75},3.3743057931724246E-2,{"$f":"RTD(\"cqg.rtd\",,\"StudyData\", \"Close(\"&$D$12&\") when LocalYear(\"&$D$12&\")=\"&$D$4&\" and localMonth(\"&$D$12&\") =\"&$E$4&\" and LocalDay(\"&$D$12&\")=\"&$F$4&\" and Barix(\"&$D$12&\",reference:=StartOfSession)=\"&A49&\"\", \"Bar\", \"\", \"Close\",\"5\",\"0\",\"PrimaryOnly\",,,\"False\",\"T\",\"EveryTick\")","v":380.89},4.689003105846138E-2,{"$f":"RTD(\"cqg.rtd\",,\"StudyData\", \"Close(\"&$D$12&\") when LocalYear(\"&$D$12&\")=\"&$D$5&\" and localMonth(\"&$D$12&\") =\"&$E$5&\" and LocalDay(\"&$D$12&\")=\"&$F$5&\" and Barix(\"&$D$12&\",reference:=StartOfSession)=\"&A49&\"\", \"Bar\", \"\", \"Close\",\"5\",\"0\",\"PrimaryOnly\",,,\"False\",\"T\",\"EveryTick\")","v":364.19},7.5805782265873818E-3,{"$f":"RTD(\"cqg.rtd\",,\"StudyData\", \"Close(\"&$D$12&\") when LocalYear(\"&$D$12&\")=\"&$D$6&\" and localMonth(\"&$D$12&\") =\"&$E$6&\" and LocalDay(\"&$D$12&\")=\"&$F$6&\" and Barix(\"&$D$12&\",reference:=StartOfSession)=\"&A49&\"\", \"Bar\", \"\", \"Close\",\"5\",\"0\",\"PrimaryOnly\",,,\"False\",\"T\",\"EveryTick\")","v":362.34},4.9088942507695644E-3,{"$f":"RTD(\"cqg.rtd\",,\"StudyData\", \"Close(\"&$D$12&\") when LocalYear(\"&$D$12&\")=\"&$D$7&\" and localMonth(\"&$D$12&\") =\"&$E$7&\" and LocalDay(\"&$D$12&\")=\"&$F$7&\" and Barix(\"&$D$12&\",reference:=StartOfSession)=\"&A49&\"\", \"Bar\", \"\", \"Close\",\"5\",\"0\",\"PrimaryOnly\",,,\"False\",\"T\",\"EveryTick\")","v":361.04},-9.9612617598217172E-4,{"$f":"RTD(\"cqg.rtd\",,\"StudyData\", \"Close(\"&$D$12&\") when LocalYear(\"&$D$12&\")=\"&$D$8&\" and localMonth(\"&$D$12&\") =\"&$E$8&\" and LocalDay(\"&$D$12&\")=\"&$F$8&\" and Barix(\"&$D$12&\",reference:=StartOfSession)=\"&A49&\"\", \"Bar\", \"\", \"Close\",\"5\",\"0\",\"PrimaryOnly\",,,\"False\",\"T\",\"EveryTick\")","v":358.54},-2.424819703360993E-2,{"$f":"RTD(\"cqg.rtd\",,\"StudyData\", \"Close(\"&$D$12&\") when LocalYear(\"&$D$12&\")=\"&$D$9&\" and localMonth(\"&$D$12&\") =\"&$E$9&\" and LocalDay(\"&$D$12&\")=\"&$F$9&\" and Barix(\"&$D$12&\",reference:=StartOfSession)=\"&A49&\"\", \"Bar\", \"\", \"Close\",\"5\",\"0\",\"PrimaryOnly\",,,\"False\",\"T\",\"EveryTick\")","v":364.97},-2.2689994532531003E-3,{"$f":"RTD(\"cqg.rtd\",,\"StudyData\", \"Close(\"&$D$12&\") when LocalYear(\"&$D$12&\")=\"&$D$10&\" and localMonth(\"&$D$12&\") =\"&$E$10&\" and LocalDay(\"&$D$12&\")=\"&$F$10&\" and Barix(\"&$D$12&\",reference:=StartOfSession)=\"&A49&\"\", \"Bar\", \"\", \"Close\",\"5\",\"0\",\"PrimaryOnly\",,,\"False\",\"T\",\"EveryTick\")","v":364.98},8.7615046571405328E-3,null,null,null,""]
[49,"12:35:00",-28,{"$f":" RTD(\"cqg.rtd\",,\"StudyData\", $D$12,  \"Tick\", \"FlatTicks=0\", \"Tick\",\"D\",C50,\"PrimaryOnly\")","v":391.48},null,null,null,{"$f":"RTD(\"cqg.rtd\",,\"StudyData\", \"Close(\"&$D$12&\") when LocalYear(\"&$D$12&\")=\"&$D$1&\" and localMonth(\"&$D$12&\") =\"&$E$1&\" and LocalDay(\"&$D$12&\")=\"&$F$1&\" and Barix(\"&$D$12&\",reference:=StartOfSession)=\"&A50&\"\", \"Bar\", \"\", \"Close\",\"5\",\"0\",\"PrimaryOnly\",,,\"False\",\"T\",\"EveryTick\")","v":""},{"$error":"#N/A"},{"$f":"RTD(\"cqg.rtd\",,\"StudyData\", \"Close(\"&$D$12&\") when LocalYear(\"&$D$12&\")=\"&$D$2&\" and localMonth(\"&$D$12&\") =\"&$E$2&\" and LocalDay(\"&$D$12&\")=\"&$F$2&\" and Barix(\"&$D$12&\",reference:=StartOfSession)=\"&A50&\"\", \"Bar\", \"\", \"Close\",\"5\",\"0\",\"PrimaryOnly\",,,\"False\",\"T\",\"EveryTick\")","v":394.14},3.2326214778424971E-3,{"$f":"RTD(\"cqg.rtd\",,\"StudyData\", \"Close(\"&$D$12&\") when LocalYear(\"&$D$12&\")=\"&$D$3&\" and localMonth(\"&$D$12&\") =\"&$E$3&\" and LocalDay(\"&$D$12&\")=\"&$F$3&\" and Barix(\"&$D$12&\",reference:=StartOfSession)=\"&A50&\"\", \"Bar\", \"\", \"Close\",\"5\",\"0\",\"PrimaryOnly\",,,\"False\",\"T\",\"EveryTick\")","v":392.88},3.4085226225883683E-2,{"$f":"RTD(\"cqg.rtd\",,\"StudyData\", \"Close(\"&$D$12&\") when LocalYear(\"&$D$12&\")=\"&$D$4&\" and localMonth(\"&$D$12&\") =\"&$E$4&\" and LocalDay(\"&$D$12&\")=\"&$F$4&\" and Barix(\"&$D$12&\",reference:=StartOfSession)=\"&A50&\"\", \"Bar\", \"\", \"Close\",\"5\",\"0\",\"PrimaryOnly\",,,\"False\",\"T\",\"EveryTick\")","v":381.24},4.7852018799989078E-2,{"$f":"RTD(\"cqg.rtd\",,\"StudyData\", \"Close(\"&$D$12&\") when LocalYear(\"&$D$12&\")=\"&$D$5&\" and localMonth(\"&$D$12&\") =\"&$E$5&\" and LocalDay(\"&$D$12&\")=\"&$F$5&\" and Barix(\"&$D$12&\",reference:=StartOfSession)=\"&A50&\"\", \"Bar\", \"\", \"Close\",\"5\",\"0\",\"PrimaryOnly\",,,\"False\",\"T\",\"EveryTick\")","v":364.57},8.6318992945082443E-3,{"$f":"RTD(\"cqg.rtd\",,\"StudyData\", \"Close(\"&$D$12&\") when LocalYear(\"&$D$12&\")=\"&$D$6&\" and localMonth(\"&$D$12&\") =\"&$E$6&\" and LocalDay(\"&$D$12&\")=\"&$F$6&\" and Barix(\"&$D$12&\",reference:=StartOfSession)=\"&A50&\"\", \"Bar\", \"\", \"Close\",\"5\",\"0\",\"PrimaryOnly\",,,\"False\",\"T\",\"EveryTick\")","v":362.04},4.0768782760629762E-3,{"$f":"RTD(\"cqg.rtd\",,\"StudyData\", \"Close(\"&$D$12&\") when LocalYear(\"&$D$12&\")=\"&$D$7&\" and localMonth(\"&$D$12&\") =\"&$E$7&\" and LocalDay(\"&$D$12&\")=\"&$F$7&\" and Barix(\"&$D$12&\",reference:=StartOfSession)=\"&A50&\"\", \"Bar\", \"\", \"Close\",\"5\",\"0\",\"PrimaryOnly\",,,\"False\",\"T\",\"EveryTick\")","v":360.75},-1.7985611510790739E-3,{"$f":"RTD(\"cqg.rtd\",,\"StudyData\", \"Close(\"&$D$12&\") when LocalYear(\"&$D$12&\")=\"&$D$8&\" and localMonth(\"&$D$12&\") =\"&$E$8&\" and LocalDay(\"&$D$12&\")=\"&$F$8&\" and Barix(\"&$D$12&\",reference:=StartOfSession)=\"&A50&\"\", \"Bar\", \"\", \"Close\",\"5\",\"0\",\"PrimaryOnly\",,,\"False\",\"T\",\"EveryTick\")","v":357.96},-2.5826643080691276E-2,{"$f":"RTD(\"cqg.rtd\",,\"StudyData\", \"Close(\"&$D$12&\") when LocalYear(\"&$D$12&\")=\"&$D$9&\" and localMonth(\"&$D$12&\") =\"&$E$9&\" and LocalDay(\"&$D$12&\")=\"&$F$9&\" and Barix(\"&$D$12&\",reference:=StartOfSession)=\"&A50&\"\", \"Bar\", \"\", \"Close\",\"5\",\"0\",\"PrimaryOnly\",,,\"False\",\"T\",\"EveryTick\")","v":365.13},-1.8316019682887259E-3,{"$f":"RTD(\"cqg.rtd\",,\"StudyData\", \"Close(\"&$D$12&\") when LocalYear(\"&$D$12&\")=\"&$D$10&\" and localMonth(\"&$D$12&\") =\"&$E$10&\" and LocalDay(\"&$D$12&\")=\"&$F$10&\" and Barix(\"&$D$12&\",reference:=StartOfSession)=\"&A50&\"\", \"Bar\", \"\", \"Close\",\"5\",\"0\",\"PrimaryOnly\",,,\"False\",\"T\",\"EveryTick\")","v":365.57},1.0392194798374813E-2,null,null,null,""]
[50,"12:40:00",-27,{"$f":" RTD(\"cqg.rtd\",,\"StudyData\", $D$12,  \"Tick\", \"FlatTicks=0\", \"Tick\",\"D\",C51,\"PrimaryOnly\")","v":391.29},null,null,null,{"$f":"RTD(\"cqg.rtd\",,\"StudyData\", \"Close(\"&$D$12&\") when LocalYear(\"&$D$12&\")=\"&$D$1&\" and localMonth(\"&$D$12&\") =\"&$E$1&\" and LocalDay(\"&$D$12&\")=\"&$F$1&\" and Barix(\"&$D$12&\",reference:=StartOfSession)=\"&A51&\"\", \"Bar\", \"\", \"Close\",\"5\",\"0\",\"PrimaryOnly\",,,\"False\",\"T\",\"EveryTick\")","v":""},{"$error":"#N/A"},{"$f":"RTD(\"cqg.rtd\",,\"StudyData\", \"Close(\"&$D$12&\") when LocalYear(\"&$D$12&\")=\"&$D$2&\" and localMonth(\"&$D$12&\") =\"&$E$2&\" and LocalDay(\"&$D$12&\")=\"&$F$2&\" and Barix(\"&$D$12&\",reference:=StartOfSession)=\"&A51&\"\", \"Bar\", \"\", \"Close\",\"5\",\"0\",\"PrimaryOnly\",,,\"False\",\"T\",\"EveryTick\")","v":394.02},2.9271769287550009E-3,{"$f":"RTD(\"cqg.rtd\",,\"StudyData\", \"Close(\"&$D$12&\") when LocalYear(\"&$D$12&\")=\"&$D$3&\" and localMonth(\"&$D$12&\") =\"&$E$3&\" and LocalDay(\"&$D$12&\")=\"&$F$3&\" and Barix(\"&$D$12&\",reference:=StartOfSession)=\"&A51&\"\", \"Bar\", \"\", \"Close\",\"5\",\"0\",\"PrimaryOnly\",,,\"False\",\"T\",\"EveryTick\")","v":393.46},3.5611823230595037E-2,{"$f":"RTD(\"cqg.rtd\",,\"StudyData\", \"Close(\"&$D$12&\") when LocalYear(\"&$D$12&\")=\"&$D$4&\" and localMonth(\"&$D$12&\") =\"&$E$4&\" and LocalDay(\"&$D$12&\")=\"&$F$4&\" and Barix(\"&$D$12&\",reference:=StartOfSession)=\"&A51&\"\", \"Bar\", \"\", \"Close\",\"5\",\"0\",\"PrimaryOnly\",,,\"False\",\"T\",\"EveryTick\")","v":381.23},4.7824533435945456E-2,{"$f":"RTD(\"cqg.rtd\",,\"StudyData\", \"Close(\"&$D$12&\") when LocalYear(\"&$D$12&\")=\"&$D$5&\" and localMonth(\"&$D$12&\") =\"&$E$5&\" and LocalDay(\"&$D$12&\")=\"&$F$5&\" and Barix(\"&$D$12&\",reference:=StartOfSession)=\"&A51&\"\", \"Bar\", \"\", \"Close\",\"5\",\"0\",\"PrimaryOnly\",,,\"False\",\"T\",\"EveryTick\")","v":364.36},8.0509060727625547E-3,{"$f":"RTD(\"cqg.rtd\",,\"StudyData\", \"Close(\"&$D$12&\") when LocalYear(\"&$D$12&\")=\"&$D$6&\" and localMonth(\"&$D$12&\") =\"&$E$6&\" and LocalDay(\"&$D$12&\")=\"&$F$6&\" and Barix(\"&$D$12&\",reference:=StartOfSession)=\"&A51&\"\", \"Bar\", \"\", \"Close\",\"5\",\"0\",\"PrimaryOnly\",,,\"False\",\"T\",\"EveryTick\")","v":361.77},3.3280638988268259E-3,{"$f":"RTD(\"cqg.rtd\",,\"StudyData\", \"Close(\"&$D$12&\") when LocalYear(\"&$D$12&\")=\"&$D$7&\" and localMonth(\"&$D$12&\") =\"&$E$7&\" and LocalDay(\"&$D$12&\")=\"&$F$7&\" and Barix(\"&$D$12&\",reference:=StartOfSession)=\"&A51&\"\", \"Bar\", \"\", \"Close\",\"5\",\"0\",\"PrimaryOnly\",,,\"False\",\"T\",\"EveryTick\")","v":360.18},-3.3757609297176828E-3,{"$f":"RTD(\"cqg.rtd\",,\"StudyData\", \"Close(\"&$D$12&\") when LocalYear(\"&$D$12&\")=\"&$D$8&\" and localMonth(\"&$D$12&\") =\"&$E$8&\" and LocalDay(\"&$D$12&\")=\"&$F$8&\" and Barix(\"&$D$12&\",reference:=StartOfSession)=\"&A51&\"\", \"Bar\", \"\", \"Close\",\"5\",\"0\",\"PrimaryOnly\",,,\"False\",\"T\",\"EveryTick\")","v":358.48},-2.4411484555721789E-2,{"$f":"RTD(\"cqg.rtd\",,\"StudyData\", \"Close(\"&$D$12&\") when LocalYear(\"&$D$12&\")=\"&$D$9&\" and localMonth(\"&$D$12&\") =\"&$E$9&\" and LocalDay(\"&$D$12&\")=\"&$F$9&\" and Barix(\"&$D$12&\",reference:=StartOfSession)=\"&A51&\"\", \"Bar\", \"\", \"Close\",\"5\",\"0\",\"PrimaryOnly\",,,\"False\",\"T\",\"EveryTick\")","v":365.19},-1.6675779114270466E-3,{"$f":"RTD(\"cqg.rtd\",,\"StudyData\", \"Close(\"&$D$12&\") when LocalYear(\"&$D$12&\")=\"&$D$10&\" and localMonth(\"&$D$12&\") =\"&$E$10&\" and LocalDay(\"&$D$12&\")=\"&$F$10&\" and Barix(\"&$D$12&\",reference:=StartOfSession)=\"&A51&\"\", \"Bar\", \"\", \"Close\",\"5\",\"0\",\"PrimaryOnly\",,,\"False\",\"T\",\"EveryTick\")","v":365.89},1.1276636908874781E-2,null,null,null,""]
[51,"12:45:00",-26,{"$f":" RTD(\"cqg.rtd\",,\"StudyData\", $D$12,  \"Tick\", \"FlatTicks=0\", \"Tick\",\"D\",C52,\"PrimaryOnly\")","v":391.3},null,null,null,{"$f":"RTD(\"cqg.rtd\",,\"StudyData\", \"Close(\"&$D$12&\") when LocalYear(\"&$D$12&\")=\"&$D$1&\" and localMonth(\"&$D$12&\") =\"&$E$1&\" and LocalDay(\"&$D$12&\")=\"&$F$1&\" and Barix(\"&$D$12&\",reference:=StartOfSession)=\"&A52&\"\", \"Bar\", \"\", \"Close\",\"5\",\"0\",\"PrimaryOnly\",,,\"False\",\"T\",\"EveryTick\")","v":""},{"$error":"#N/A"},{"$f":"RTD(\"cqg.rtd\",,\"StudyData\", \"Close(\"&$D$12&\") when LocalYear(\"&$D$12&\")=\"&$D$2&\" and localMonth(\"&$D$12&\") =\"&$E$2&\" and LocalDay(\"&$D$12&\")=\"&$F$2&\" and Barix(\"&$D$12&\",reference:=StartOfSession)=\"&A52&\"\", \"Bar\", \"\", \"Close\",\"5\",\"0\",\"PrimaryOnly\",,,\"False\",\"T\",\"EveryTick\")","v":393.85},2.4944638175478356E-3,{"$f":"RTD(\"cqg.rtd\",,\"StudyData\", \"Close(\"&$D$12&\") when LocalYear(\"&$D$12&\")=\"&$D$3&\" and localMonth(\"&$D$12&\") =\"&$E$3&\" and LocalDay(\"&$D$12&\")=\"&$F$3&\" and Barix(\"&$D$12&\",reference:=StartOfSession)=\"&A52&\"\", \"Bar\", \"\", \"Close\",\"5\",\"0\",\"PrimaryOnly\",,,\"False\",\"T\",\"EveryTick\")","v":393.31},3.5217013660411113E-2,{"$f":"RTD(\"cqg.rtd\",,\"StudyData\", \"Close(\"&$D$12&\") when LocalYear(\"&$D$12&\")=\"&$D$4&\" and localMonth(\"&$D$12&\") =\"&$E$4&\" and LocalDay(\"&$D$12&\")=\"&$F$4&\" and Barix(\"&$D$12&\",reference:=StartOfSession)=\"&A52&\"\", \"Bar\", \"\", \"Close\",\"5\",\"0\",\"PrimaryOnly\",,,\"False\",\"T\",\"EveryTick\")","v":380.88},4.6862545694417758E-2,{"$f":"RTD(\"cqg.rtd\",,\"StudyData\", \"Close(\"&$D$12&\") when LocalYear(\"&$D$12&\")=\"&$D$5&\" and localMonth(\"&$D$12&\") =\"&$E$5&\" and LocalDay(\"&$D$12&\")=\"&$F$5&\" and Barix(\"&$D$12&\",reference:=StartOfSession)=\"&A52&\"\", \"Bar\", \"\", \"Close\",\"5\",\"0\",\"PrimaryOnly\",,,\"False\",\"T\",\"EveryTick\")","v":364.48},8.3829021994744207E-3,{"$f":"RTD(\"cqg.rtd\",,\"StudyData\", \"Close(\"&$D$12&\") when LocalYear(\"&$D$12&\")=\"&$D$6&\" and localMonth(\"&$D$12&\") =\"&$E$6&\" and LocalDay(\"&$D$12&\")=\"&$F$6&\" and Barix(\"&$D$12&\",reference:=StartOfSession)=\"&A52&\"\", \"Bar\", \"\", \"Close\",\"5\",\"0\",\"PrimaryOnly\",,,\"False\",\"T\",\"EveryTick\")","v":361.83},3.4944670937681753E-3,{"$f":"RTD(\"cqg.rtd\",,\"StudyData\", \"Close(\"&$D$12&\") when LocalYear(\"&$D$12&\")=\"&$D$7&\" and localMonth(\"&$D$12&\") =\"&$E$7&\" and LocalDay(\"&$D$12&\")=\"&$F$7&\" and Barix(\"&$D$12&\",reference:=StartOfSession)=\"&A52&\"\", \"Bar\", \"\", \"Close\",\"5\",\"0\",\"PrimaryOnly\",,,\"False\",\"T\",\"EveryTick\")","v":360.79},-1.6878804648587627E-3,{"$f":"RTD(\"cqg.rtd\",,\"StudyData\", \"Close(\"&$D$12&\") when LocalYear(\"&$D$12&\")=\"&$D$8&\" and localMonth(\"&$D$12&\") =\"&$E$8&\" and LocalDay(\"&$D$12&\")=\"&$F$8&\" and Barix(\"&$D$12&\",reference:=StartOfSession)=\"&A52&\"\", \"Bar\", \"\", \"Close\",\"5\",\"0\",\"PrimaryOnly\",,,\"False\",\"T\",\"EveryTick\")","v":359.61},-2.1336236222615254E-2,{"$f":"RTD(\"cqg.rtd\",,\"StudyData\", \"Close(\"&$D$12&\") when LocalYear(\"&$D$12&\")=\"&$D$9&\" and localMonth(\"&$D$12&\") =\"&$E$9&\" and LocalDay(\"&$D$12&\")=\"&$F$9&\" and Barix(\"&$D$12&\",reference:=StartOfSession)=\"&A52&\"\", \"Bar\", \"\", \"Close\",\"5\",\"0\",\"PrimaryOnly\",,,\"False\",\"T\",\"EveryTick\")","v":364.97},-2.2689994532531003E-3,{"$f":"RTD(\"cqg.rtd\",,\"StudyData\", \"Close(\"&$D$12&\") when LocalYear(\"&$D$12&\")=\"&$D$10&\" and localMonth(\"&$D$12&\") =\"&$E$10&\" and LocalDay(\"&$D$12&\")=\"&$F$10&\" and Barix(\"&$D$12&\",reference:=StartOfSession)=\"&A52&\"\", \"Bar\", \"\", \"Close\",\"5\",\"0\",\"PrimaryOnly\",,,\"False\",\"T\",\"EveryTick\")","v":365.96},1.1470108620546633E-2,null,null,null,""]
[52,"12:50:00",-25,{"$f":" RTD(\"cqg.rtd\",,\"StudyData\", $D$12,  \"Tick\", \"FlatTicks=0\", \"Tick\",\"D\",C53,\"PrimaryOnly\")","v":391.29},null,null,null,{"$f":"RTD(\"cqg.rtd\",,\"StudyData\", \"Close(\"&$D$12&\") when LocalYear(\"&$D$12&\")=\"&$D$1&\" and localMonth(\"&$D$12&\") =\"&$E$1&\" and LocalDay(\"&$D$12&\")=\"&$F$1&\" and Barix(\"&$D$12&\",reference:=StartOfSession)=\"&A53&\"\", \"Bar\", \"\", \"Close\",\"5\",\"0\",\"PrimaryOnly\",,,\"False\",\"T\",\"EveryTick\")","v":""},{"$error":"#N/A"},{"$f":"RTD(\"cqg.rtd\",,\"StudyData\", \"Close(\"&$D$12&\") when LocalYear(\"&$D$12&\")=\"&$D$2&\" and localMonth(\"&$D$12&\") =\"&$E$2&\" and LocalDay(\"&$D$12&\")=\"&$F$2&\" and Barix(\"&$D$12&\",reference:=StartOfSession)=\"&A53&\"\", \"Bar\", \"\", \"Close\",\"5\",\"0\",\"PrimaryOnly\",,,\"False\",\"T\",\"EveryTick\")","v":393.75},2.2399266933082074E-3,{"$f":"RTD(\"cqg.rtd\",,\"StudyData\", \"Close(\"&$D$12&\") when LocalYear(\"&$D$12&\")=\"&$D$3&\" and localMonth(\"&$D$12&\") =\"&$E$3&\" and LocalDay(\"&$D$12&\")=\"&$F$3&\" and Barix(\"&$D$12&\",reference:=StartOfSession)=\"&A53&\"\", \"Bar\", \"\", \"Close\",\"5\",\"0\",\"PrimaryOnly\",,,\"False\",\"T\",\"EveryTick\")","v":393.09},3.4637959624141207E-2,{"$f":"RTD(\"cqg.rtd\",,\"StudyData\", \"Close(\"&$D$12&\") when LocalYear(\"&$D$12&\")=\"&$D$4&\" and localMonth(\"&$D$12&\") =\"&$E$4&\" and LocalDay(\"&$D$12&\")=\"&$F$4&\" and Barix(\"&$D$12&\",reference:=StartOfSession)=\"&A53&\"\", \"Bar\", \"\", \"Close\",\"5\",\"0\",\"PrimaryOnly\",,,\"False\",\"T\",\"EveryTick\")","v":380.92},4.69724871505924E-2,{"$f":"RTD(\"cqg.rtd\",,\"StudyData\", \"Close(\"&$D$12&\") when LocalYear(\"&$D$12&\")=\"&$D$5&\" and localMonth(\"&$D$12&\") =\"&$E$5&\" and LocalDay(\"&$D$12&\")=\"&$F$5&\" and Barix(\"&$D$12&\",reference:=StartOfSession)=\"&A53&\"\", \"Bar\", \"\", \"Close\",\"5\",\"0\",\"PrimaryOnly\",,,\"False\",\"T\",\"EveryTick\")","v":364.48},8.3829021994744207E-3,{"$f":"RTD(\"cqg.rtd\",,\"StudyData\", \"Close(\"&$D$12&\") when LocalYear(\"&$D$12&\")=\"&$D$6&\" and localMonth(\"&$D$12&\") =\"&$E$6&\" and LocalDay(\"&$D$12&\")=\"&$F$6&\" and Barix(\"&$D$12&\",reference:=StartOfSession)=\"&A53&\"\", \"Bar\", \"\", \"Close\",\"5\",\"0\",\"PrimaryOnly\",,,\"False\",\"T\",\"EveryTick\")","v":361.9},3.6886041545330563E-3,{"$f":"RTD(\"cqg.rtd\",,\"StudyData\", \"Close(\"&$D$12&\") when LocalYear(\"&$D$12&\")=\"&$D$7&\" and localMonth(\"&$D$12&\") =\"&$E$7&\" and LocalDay(\"&$D$12&\")=\"&$F$7&\" and Barix(\"&$D$12&\",reference:=StartOfSession)=\"&A53&\"\", \"Bar\", \"\", \"Close\",\"5\",\"0\",\"PrimaryOnly\",,,\"False\",\"T\",\"EveryTick\")","v":360.72},-1.8815716657441892E-3,{"$f":"RTD(\"cqg.rtd\",,\"StudyData\", \"Close(\"&$D$12&\") when LocalYear(\"&$D$12&\")=\"&$D$8&\" and localMonth(\"&$D$12&\") =\"&$E$8&\" and LocalDay(\"&$D$12&\")=\"&$F$8&\" and Barix(\"&$D$12&\",reference:=StartOfSession)=\"&A53&\"\", \"Bar\", \"\", \"Close\",\"5\",\"0\",\"PrimaryOnly\",,,\"False\",\"T\",\"EveryTick\")","v":359.39},-2.1934957137025451E-2,{"$f":"RTD(\"cqg.rtd\",,\"StudyData\", \"Close(\"&$D$12&\") when LocalYear(\"&$D$12&\")=\"&$D$9&\" and localMonth(\"&$D$12&\") =\"&$E$9&\" and LocalDay(\"&$D$12&\")=\"&$F$9&\" and Barix(\"&$D$12&\",reference:=StartOfSession)=\"&A53&\"\", \"Bar\", \"\", \"Close\",\"5\",\"0\",\"PrimaryOnly\",,,\"False\",\"T\",\"EveryTick\")","v":364.6},-3.2804811372334299E-3,{"$f":"RTD(\"cqg.rtd\",,\"StudyData\", \"Close(\"&$D$12&\") when LocalYear(\"&$D$12&\")=\"&$D$10&\" and localMonth(\"&$D$12&\") =\"&$E$10&\" and LocalDay(\"&$D$12&\")=\"&$F$10&\" and Barix(\"&$D$12&\",reference:=StartOfSession)=\"&A53&\"\", \"Bar\", \"\", \"Close\",\"5\",\"0\",\"PrimaryOnly\",,,\"False\",\"T\",\"EveryTick\")","v":366.18},1.2078162571515449E-2,null,null,null,""]
[53,"12:55:00",-24,{"$f":" RTD(\"cqg.rtd\",,\"StudyData\", $D$12,  \"Tick\", \"FlatTicks=0\", \"Tick\",\"D\",C54,\"PrimaryOnly\")","v":391.21},null,null,null,{"$f":"RTD(\"cqg.rtd\",,\"StudyData\", \"Close(\"&$D$12&\") when LocalYear(\"&$D$12&\")=\"&$D$1&\" and localMonth(\"&$D$12&\") =\"&$E$1&\" and LocalDay(\"&$D$12&\")=\"&$F$1&\" and Barix(\"&$D$12&\",reference:=StartOfSession)=\"&A54&\"\", \"Bar\", \"\", \"Close\",\"5\",\"0\",\"PrimaryOnly\",,,\"False\",\"T\",\"EveryTick\")","v":""},{"$error":"#N/A"},{"$f":"RTD(\"cqg.rtd\",,\"StudyData\", \"Close(\"&$D$12&\") when LocalYear(\"&$D$12&\")=\"&$D$2&\" and localMonth(\"&$D$12&\") =\"&$E$2&\" and LocalDay(\"&$D$12&\")=\"&$F$2&\" and Barix(\"&$D$12&\",reference:=StartOfSession)=\"&A54&\"\", \"Bar\", \"\", \"Close\",\"5\",\"0\",\"PrimaryOnly\",,,\"False\",\"T\",\"EveryTick\")","v":392.78},-2.2908341181569433E-4,{"$f":"RTD(\"cqg.rtd\",,\"StudyData\", \"Close(\"&$D$12&\") when LocalYear(\"&$D$12&\")=\"&$D$3&\" and localMonth(\"&$D$12&\") =\"&$E$3&\" and LocalDay(\"&$D$12&\")=\"&$F$3&\" and Barix(\"&$D$12&\",reference:=StartOfSession)=\"&A54&\"\", \"Bar\", \"\", \"Close\",\"5\",\"0\",\"PrimaryOnly\",,,\"False\",\"T\",\"EveryTick\")","v":393.14},3.4769562814202563E-2,{"$f":"RTD(\"cqg.rtd\",,\"StudyData\", \"Close(\"&$D$12&\") when LocalYear(\"&$D$12&\")=\"&$D$4&\" and localMonth(\"&$D$12&\") =\"&$E$4&\" and LocalDay(\"&$D$12&\")=\"&$F$4&\" and Barix(\"&$D$12&\",reference:=StartOfSession)=\"&A54&\"\", \"Bar\", \"\", \"Close\",\"5\",\"0\",\"PrimaryOnly\",,,\"False\",\"T\",\"EveryTick\")","v":381.29},4.7989445620207342E-2,{"$f":"RTD(\"cqg.rtd\",,\"StudyData\", \"Close(\"&$D$12&\") when LocalYear(\"&$D$12&\")=\"&$D$5&\" and localMonth(\"&$D$12&\") =\"&$E$5&\" and LocalDay(\"&$D$12&\")=\"&$F$5&\" and Barix(\"&$D$12&\",reference:=StartOfSession)=\"&A54&\"\", \"Bar\", \"\", \"Close\",\"5\",\"0\",\"PrimaryOnly\",,,\"False\",\"T\",\"EveryTick\")","v":364.82},9.3235578918246086E-3,{"$f":"RTD(\"cqg.rtd\",,\"StudyData\", \"Close(\"&$D$12&\") when LocalYear(\"&$D$12&\")=\"&$D$6&\" and localMonth(\"&$D$12&\") =\"&$E$6&\" and LocalDay(\"&$D$12&\")=\"&$F$6&\" and Barix(\"&$D$12&\",reference:=StartOfSession)=\"&A54&\"\", \"Bar\", \"\", \"Close\",\"5\",\"0\",\"PrimaryOnly\",,,\"False\",\"T\",\"EveryTick\")","v":361.91},3.7163380203567458E-3,{"$f":"RTD(\"cqg.rtd\",,\"StudyData\", \"Close(\"&$D$12&\") when LocalYear(\"&$D$12&\")=\"&$D$7&\" and localMonth(\"&$D$12&\") =\"&$E$7&\" and LocalDay(\"&$D$12&\")=\"&$F$7&\" and Barix(\"&$D$12&\",reference:=StartOfSession)=\"&A54&\"\", \"Bar\", \"\", \"Close\",\"5\",\"0\",\"PrimaryOnly\",,,\"False\",\"T\",\"EveryTick\")","v":360.33},-2.9607083563917909E-3,{"$f":"RTD(\"cqg.rtd\",,\"StudyData\", \"Close(\"&$D$12&\") when LocalYear(\"&$D$12&\")=\"&$D$8&\" and localMonth(\"&$D$12&\") =\"&$E$8&\" and LocalDay(\"&$D$12&\")=\"&$F$8&\" and Barix(\"&$D$12&\",reference:=StartOfSession)=\"&A54&\"\", \"Bar\", \"\", \"Close\",\"5\",\"0\",\"PrimaryOnly\",,,\"False\",\"T\",\"EveryTick\")","v":359.26},-2.2288746768267784E-2,{"$f":"RTD(\"cqg.rtd\",,\"StudyData\", \"Close(\"&$D$12&\") when LocalYear(\"&$D$12&\")=\"&$D$9&\" and localMonth(\"&$D$12&\") =\"&$E$9&\" and LocalDay(\"&$D$12&\")=\"&$F$9&\" and Barix(\"&$D$12&\",reference:=StartOfSession)=\"&A54&\"\", \"Bar\", \"\", \"Close\",\"5\",\"0\",\"PrimaryOnly\",,,\"False\",\"T\",\"EveryTick\")","v":364.25},-4.2372881355932515E-3,{"$f":"RTD(\"cqg.rtd\",,\"StudyData\", \"Close(\"&$D$12&\") when LocalYear(\"&$D$12&\")=\"&$D$10&\" and localMonth(\"&$D$12&\") =\"&$E$10&\" and LocalDay(\"&$D$12&\")=\"&$F$10&\" and Barix(\"&$D$12&\",reference:=StartOfSession)=\"&A54&\"\", \"Bar\", \"\", \"Close\",\"5\",\"0\",\"PrimaryOnly\",,,\"False\",\"T\",\"EveryTick\")","v":366.47},1.2879688234156118E-2,null,null,null,""]
[54,"13:00:00",-23,{"$f":" RTD(\"cqg.rtd\",,\"StudyData\", $D$12,  \"Tick\", \"FlatTicks=0\", \"Tick\",\"D\",C55,\"PrimaryOnly\")","v":391.17},null,null,null,{"$f":"RTD(\"cqg.rtd\",,\"StudyData\", \"Close(\"&$D$12&\") when LocalYear(\"&$D$12&\")=\"&$D$1&\" and localMonth(\"&$D$12&\") =\"&$E$1&\" and LocalDay(\"&$D$12&\")=\"&$F$1&\" and Barix(\"&$D$12&\",reference:=StartOfSession)=\"&A55&\"\", \"Bar\", \"\", \"Close\",\"5\",\"0\",\"PrimaryOnly\",,,\"False\",\"T\",\"EveryTick\")","v":""},{"$error":"#N/A"},{"$f":"RTD(\"cqg.rtd\",,\"StudyData\", \"Close(\"&$D$12&\") when LocalYear(\"&$D$12&\")=\"&$D$2&\" and localMonth(\"&$D$12&\") =\"&$E$2&\" and LocalDay(\"&$D$12&\")=\"&$F$2&\" and Barix(\"&$D$12&\",reference:=StartOfSession)=\"&A55&\"\", \"Bar\", \"\", \"Close\",\"5\",\"0\",\"PrimaryOnly\",,,\"False\",\"T\",\"EveryTick\")","v":392.72},-3.8180568635929761E-4,{"$f":"RTD(\"cqg.rtd\",,\"StudyData\", \"Close(\"&$D$12&\") when LocalYear(\"&$D$12&\")=\"&$D$3&\" and localMonth(\"&$D$12&\") =\"&$E$3&\" and LocalDay(\"&$D$12&\")=\"&$F$3&\" and Barix(\"&$D$12&\",reference:=StartOfSession)=\"&A55&\"\", \"Bar\", \"\", \"Close\",\"5\",\"0\",\"PrimaryOnly\",,,\"False\",\"T\",\"EveryTick\")","v":394.09},3.7270023425367747E-2,{"$f":"RTD(\"cqg.rtd\",,\"StudyData\", \"Close(\"&$D$12&\") when LocalYear(\"&$D$12&\")=\"&$D$4&\" and localMonth(\"&$D$12&\") =\"&$E$4&\" and LocalDay(\"&$D$12&\")=\"&$F$4&\" and Barix(\"&$D$12&\",reference:=StartOfSession)=\"&A55&\"\", \"Bar\", \"\", \"Close\",\"5\",\"0\",\"PrimaryOnly\",,,\"False\",\"T\",\"EveryTick\")","v":379.97},4.4361377566445988E-2,{"$f":"RTD(\"cqg.rtd\",,\"StudyData\", \"Close(\"&$D$12&\") when LocalYear(\"&$D$12&\")=\"&$D$5&\" and localMonth(\"&$D$12&\") =\"&$E$5&\" and LocalDay(\"&$D$12&\")=\"&$F$5&\" and Barix(\"&$D$12&\",reference:=StartOfSession)=\"&A55&\"\", \"Bar\", \"\", \"Close\",\"5\",\"0\",\"PrimaryOnly\",,,\"False\",\"T\",\"EveryTick\")","v":364.82},9.3235578918246086E-3,{"$f":"RTD(\"cqg.rtd\",,\"StudyData\", \"Close(\"&$D$12&\") when LocalYear(\"&$D$12&\")=\"&$D$6&\" and localMonth(\"&$D$12&\") =\"&$E$6&\" and LocalDay(\"&$D$12&\")=\"&$F$6&\" and Barix(\"&$D$12&\",reference:=StartOfSession)=\"&A55&\"\", \"Bar\", \"\", \"Close\",\"5\",\"0\",\"PrimaryOnly\",,,\"False\",\"T\",\"EveryTick\")","v":361.47},2.4960479241202377E-3,{"$f":"RTD(\"cqg.rtd\",,\"StudyData\", \"Close(\"&$D$12&\") when LocalYear(\"&$D$12&\")=\"&$D$7&\" and localMonth(\"&$D$12&\") =\"&$E$7&\" and LocalDay(\"&$D$12&\")=\"&$F$7&\" and Barix(\"&$D$12&\",reference:=StartOfSession)=\"&A55&\"\", \"Bar\", \"\", \"Close\",\"5\",\"0\",\"PrimaryOnly\",,,\"False\",\"T\",\"EveryTick\")","v":360.45},-2.6286662977310147E-3,{"$f":"RTD(\"cqg.rtd\",,\"StudyData\", \"Close(\"&$D$12&\") when LocalYear(\"&$D$12&\")=\"&$D$8&\" and localMonth(\"&$D$12&\") =\"&$E$8&\" and LocalDay(\"&$D$12&\")=\"&$F$8&\" and Barix(\"&$D$12&\",reference:=StartOfSession)=\"&A55&\"\", \"Bar\", \"\", \"Close\",\"5\",\"0\",\"PrimaryOnly\",,,\"False\",\"T\",\"EveryTick\")","v":359.67},-2.1172948700503395E-2,{"$f":"RTD(\"cqg.rtd\",,\"StudyData\", \"Close(\"&$D$12&\") when LocalYear(\"&$D$12&\")=\"&$D$9&\" and localMonth(\"&$D$12&\") =\"&$E$9&\" and LocalDay(\"&$D$12&\")=\"&$F$9&\" and Barix(\"&$D$12&\",reference:=StartOfSession)=\"&A55&\"\", \"Bar\", \"\", \"Close\",\"5\",\"0\",\"PrimaryOnly\",,,\"False\",\"T\",\"EveryTick\")","v":364.72},-2.952433023510071E-3,{"$f":"RTD(\"cqg.rtd\",,\"StudyData\", \"Close(\"&$D$12&\") when LocalYear(\"&$D$12&\")=\"&$D$10&\" and localMonth(\"&$D$12&\") =\"&$E$10&\" and LocalDay(\"&$D$12&\")=\"&$F$10&\" and Barix(\"&$D$12&\",reference:=StartOfSession)=\"&A55&\"\", \"Bar\", \"\", \"Close\",\"5\",\"0\",\"PrimaryOnly\",,,\"False\",\"T\",\"EveryTick\")","v":367.06},1.4510378375390398E-2,null,null,null,""]
[55,"13:05:00",-22,{"$f":" RTD(\"cqg.rtd\",,\"StudyData\", $D$12,  \"Tick\", \"FlatTicks=0\", \"Tick\",\"D\",C56,\"PrimaryOnly\")","v":391.13},null,null,null,{"$f":"RTD(\"cqg.rtd\",,\"StudyData\", \"Close(\"&$D$12&\") when LocalYear(\"&$D$12&\")=\"&$D$1&\" and localMonth(\"&$D$12&\") =\"&$E$1&\" and LocalDay(\"&$D$12&\")=\"&$F$1&\" and Barix(\"&$D$12&\",reference:=StartOfSession)=\"&A56&\"\", \"Bar\", \"\", \"Close\",\"5\",\"0\",\"PrimaryOnly\",,,\"False\",\"T\",\"EveryTick\")","v":""},{"$error":"#N/A"},{"$f":"RTD(\"cqg.rtd\",,\"StudyData\", \"Close(\"&$D$12&\") when LocalYear(\"&$D$12&\")=\"&$D$2&\" and localMonth(\"&$D$12&\") =\"&$E$2&\" and LocalDay(\"&$D$12&\")=\"&$F$2&\" and Barix(\"&$D$12&\",reference:=StartOfSession)=\"&A56&\"\", \"Bar\", \"\", \"Close\",\"5\",\"0\",\"PrimaryOnly\",,,\"False\",\"T\",\"EveryTick\")","v":392.63},-6.1088909817499199E-4,{"$f":"RTD(\"cqg.rtd\",,\"StudyData\", \"Close(\"&$D$12&\") when LocalYear(\"&$D$12&\")=\"&$D$3&\" and localMonth(\"&$D$12&\") =\"&$E$3&\" and LocalDay(\"&$D$12&\")=\"&$F$3&\" and Barix(\"&$D$12&\",reference:=StartOfSession)=\"&A56&\"\", \"Bar\", \"\", \"Close\",\"5\",\"0\",\"PrimaryOnly\",,,\"False\",\"T\",\"EveryTick\")","v":393.98},3.6980496407232943E-2,{"$f":"RTD(\"cqg.rtd\",,\"StudyData\", \"Close(\"&$D$12&\") when LocalYear(\"&$D$12&\")=\"&$D$4&\" and localMonth(\"&$D$12&\") =\"&$E$4&\" and LocalDay(\"&$D$12&\")=\"&$F$4&\" and Barix(\"&$D$12&\",reference:=StartOfSession)=\"&A56&\"\", \"Bar\", \"\", \"Close\",\"5\",\"0\",\"PrimaryOnly\",,,\"False\",\"T\",\"EveryTick\")","v":377.68},3.8067229200450824E-2,{"$f":"RTD(\"cqg.rtd\",,\"StudyData\", \"Close(\"&$D$12&\") when LocalYear(\"&$D$12&\")=\"&$D$5&\" and localMonth(\"&$D$12&\") =\"&$E$5&\" and LocalDay(\"&$D$12&\")=\"&$F$5&\" and Barix(\"&$D$12&\",reference:=StartOfSession)=\"&A56&\"\", \"Bar\", \"\", \"Close\",\"5\",\"0\",\"PrimaryOnly\",,,\"False\",\"T\",\"EveryTick\")","v":364.36},8.0509060727625547E-3,{"$f":"RTD(\"cqg.rtd\",,\"StudyData\", \"Close(\"&$D$12&\") when LocalYear(\"&$D$12&\")=\"&$D$6&\" and localMonth(\"&$D$12&\") =\"&$E$6&\" and LocalDay(\"&$D$12&\")=\"&$F$6&\" and Barix(\"&$D$12&\",reference:=StartOfSession)=\"&A56&\"\", \"Bar\", \"\", \"Close\",\"5\",\"0\",\"PrimaryOnly\",,,\"False\",\"T\",\"EveryTick\")","v":361.65},2.9952575089441276E-3,{"$f":"RTD(\"cqg.rtd\",,\"StudyData\", \"Close(\"&$D$12&\") when LocalYear(\"&$D$12&\")=\"&$D$7&\" and localMonth(\"&$D$12&\") =\"&$E$7&\" and LocalDay(\"&$D$12&\")=\"&$F$7&\" and Barix(\"&$D$12&\",reference:=StartOfSession)=\"&A56&\"\", \"Bar\", \"\", \"Close\",\"5\",\"0\",\"PrimaryOnly\",,,\"False\",\"T\",\"EveryTick\")","v":360.67},-2.0199225235195389E-3,{"$f":"RTD(\"cqg.rtd\",,\"StudyData\", \"Close(\"&$D$12&\") when LocalYear(\"&$D$12&\")=\"&$D$8&\" and localMonth(\"&$D$12&\") =\"&$E$8&\" and LocalDay(\"&$D$12&\")=\"&$F$8&\" and Barix(\"&$D$12&\",reference:=StartOfSession)=\"&A56&\"\", \"Bar\", \"\", \"Close\",\"5\",\"0\",\"PrimaryOnly\",,,\"False\",\"T\",\"EveryTick\")","v":359.5},-2.1635596679820353E-2,{"$f":"RTD(\"cqg.rtd\",,\"StudyData\", \"Close(\"&$D$12&\") when LocalYear(\"&$D$12&\")=\"&$D$9&\" and localMonth(\"&$D$12&\") =\"&$E$9&\" and LocalDay(\"&$D$12&\")=\"&$F$9&\" and Barix(\"&$D$12&\",reference:=StartOfSession)=\"&A56&\"\", \"Bar\", \"\", \"Close\",\"5\",\"0\",\"PrimaryOnly\",,,\"False\",\"T\",\"EveryTick\")","v":364.93},-2.3783488244942716E-3,{"$f":"RTD(\"cqg.rtd\",,\"StudyData\", \"Close(\"&$D$12&\") when LocalYear(\"&$D$12&\")=\"&$D$10&\" and localMonth(\"&$D$12&\") =\"&$E$10&\" and LocalDay(\"&$D$12&\")=\"&$F$10&\" and Barix(\"&$D$12&\",reference:=StartOfSession)=\"&A56&\"\", \"Bar\", \"\", \"Close\",\"5\",\"0\",\"PrimaryOnly\",,,\"False\",\"T\",\"EveryTick\")","v":366.65},1.3377186921312222E-2,null,null,null,""]
[56,"13:10:00",-21,{"$f":" RTD(\"cqg.rtd\",,\"StudyData\", $D$12,  \"Tick\", \"FlatTicks=0\", \"Tick\",\"D\",C57,\"PrimaryOnly\")","v":391.12},null,null,null,{"$f":"RTD(\"cqg.rtd\",,\"StudyData\", \"Close(\"&$D$12&\") when LocalYear(\"&$D$12&\")=\"&$D$1&\" and localMonth(\"&$D$12&\") =\"&$E$1&\" and LocalDay(\"&$D$12&\")=\"&$F$1&\" and Barix(\"&$D$12&\",reference:=StartOfSession)=\"&A57&\"\", \"Bar\", \"\", \"Close\",\"5\",\"0\",\"PrimaryOnly\",,,\"False\",\"T\",\"EveryTick\")","v":""},{"$error":"#N/A"},{"$f":"RTD(\"cqg.rtd\",,\"StudyData\", \"Close(\"&$D$12&\") when LocalYear(\"&$D$12&\")=\"&$D$2&\" and localMonth(\"&$D$12&\") =\"&$E$2&\" and LocalDay(\"&$D$12&\")=\"&$F$2&\" and Barix(\"&$D$12&\",reference:=StartOfSession)=\"&A57&\"\", \"Bar\", \"\", \"Close\",\"5\",\"0\",\"PrimaryOnly\",,,\"False\",\"T\",\"EveryTick\")","v":391.89},-2.4944638175478356E-3,{"$f":"RTD(\"cqg.rtd\",,\"StudyData\", \"Close(\"&$D$12&\") when LocalYear(\"&$D$12&\")=\"&$D$3&\" and localMonth(\"&$D$12&\") =\"&$E$3&\" and LocalDay(\"&$D$12&\")=\"&$F$3&\" and Barix(\"&$D$12&\",reference:=StartOfSession)=\"&A57&\"\", \"Bar\", \"\", \"Close\",\"5\",\"0\",\"PrimaryOnly\",,,\"False\",\"T\",\"EveryTick\")","v":394.1},3.7296344063380137E-2,{"$f":"RTD(\"cqg.rtd\",,\"StudyData\", \"Close(\"&$D$12&\") when LocalYear(\"&$D$12&\")=\"&$D$4&\" and localMonth(\"&$D$12&\") =\"&$E$4&\" and LocalDay(\"&$D$12&\")=\"&$F$4&\" and Barix(\"&$D$12&\",reference:=StartOfSession)=\"&A57&\"\", \"Bar\", \"\", \"Close\",\"5\",\"0\",\"PrimaryOnly\",,,\"False\",\"T\",\"EveryTick\")","v":378.99},4.1667811890168556E-2,{"$f":"RTD(\"cqg.rtd\",,\"StudyData\", \"Close(\"&$D$12&\") when LocalYear(\"&$D$12&\")=\"&$D$5&\" and localMonth(\"&$D$12&\") =\"&$E$5&\" and LocalDay(\"&$D$12&\")=\"&$F$5&\" and Barix(\"&$D$12&\",reference:=StartOfSession)=\"&A57&\"\", \"Bar\", \"\", \"Close\",\"5\",\"0\",\"PrimaryOnly\",,,\"False\",\"T\",\"EveryTick\")","v":364.14},7.4422465071240776E-3,{"$f":"RTD(\"cqg.rtd\",,\"StudyData\", \"Close(\"&$D$12&\") when LocalYear(\"&$D$12&\")=\"&$D$6&\" and localMonth(\"&$D$12&\") =\"&$E$6&\" and LocalDay(\"&$D$12&\")=\"&$F$6&\" and Barix(\"&$D$12&\",reference:=StartOfSession)=\"&A57&\"\", \"Bar\", \"\", \"Close\",\"5\",\"0\",\"PrimaryOnly\",,,\"False\",\"T\",\"EveryTick\")","v":361.45},2.4405801924730162E-3,{"$f":"RTD(\"cqg.rtd\",,\"StudyData\", \"Close(\"&$D$12&\") when LocalYear(\"&$D$12&\")=\"&$D$7&\" and localMonth(\"&$D$12&\") =\"&$E$7&\" and LocalDay(\"&$D$12&\")=\"&$F$7&\" and Barix(\"&$D$12&\",reference:=StartOfSession)=\"&A57&\"\", \"Bar\", \"\", \"Close\",\"5\",\"0\",\"PrimaryOnly\",,,\"False\",\"T\",\"EveryTick\")","v":360.9},-1.3835085777531822E-3,{"$f":"RTD(\"cqg.rtd\",,\"StudyData\", \"Close(\"&$D$12&\") when LocalYear(\"&$D$12&\")=\"&$D$8&\" and localMonth(\"&$D$12&\") =\"&$E$8&\" and LocalDay(\"&$D$12&\")=\"&$F$8&\" and Barix(\"&$D$12&\",reference:=StartOfSession)=\"&A57&\"\", \"Bar\", \"\", \"Close\",\"5\",\"0\",\"PrimaryOnly\",,,\"False\",\"T\",\"EveryTick\")","v":360.31},-1.9431215131310346E-2,{"$f":"RTD(\"cqg.rtd\",,\"StudyData\", \"Close(\"&$D$12&\") when LocalYear(\"&$D$12&\")=\"&$D$9&\" and localMonth(\"&$D$12&\") =\"&$E$9&\" and LocalDay(\"&$D$12&\")=\"&$F$9&\" and Barix(\"&$D$12&\",reference:=StartOfSession)=\"&A57&\"\", \"Bar\", \"\", \"Close\",\"5\",\"0\",\"PrimaryOnly\",,,\"False\",\"T\",\"EveryTick\")","v":364.82},-2.6790595954073759E-3,{"$f":"RTD(\"cqg.rtd\",,\"StudyData\", \"Close(\"&$D$12&\") when LocalYear(\"&$D$12&\")=\"&$D$10&\" and localMonth(\"&$D$12&\") =\"&$E$10&\" and LocalDay(\"&$D$12&\")=\"&$F$10&\" and Barix(\"&$D$12&\",reference:=StartOfSession)=\"&A57&\"\", \"Bar\", \"\", \"Close\",\"5\",\"0\",\"PrimaryOnly\",,,\"False\",\"T\",\"EveryTick\")","v":366.5},1.2962604682015415E-2,null,null,null,""]
[57,"13:15:00",-20,{"$f":" RTD(\"cqg.rtd\",,\"StudyData\", $D$12,  \"Tick\", \"FlatTicks=0\", \"Tick\",\"D\",C58,\"PrimaryOnly\")","v":391.19},null,null,null,{"$f":"RTD(\"cqg.rtd\",,\"StudyData\", \"Close(\"&$D$12&\") when LocalYear(\"&$D$12&\")=\"&$D$1&\" and localMonth(\"&$D$12&\") =\"&$E$1&\" and LocalDay(\"&$D$12&\")=\"&$F$1&\" and Barix(\"&$D$12&\",reference:=StartOfSession)=\"&A58&\"\", \"Bar\", \"\", \"Close\",\"5\",\"0\",\"PrimaryOnly\",,,\"False\",\"T\",\"EveryTick\")","v":""},{"$error":"#N/A"},{"$f":"RTD(\"cqg.rtd\",,\"StudyData\", \"Close(\"&$D$12&\") when LocalYear(\"&$D$12&\")=\"&$D$2&\" and localMonth(\"&$D$12&\") =\"&$E$2&\" and LocalDay(\"&$D$12&\")=\"&$F$2&\" and Barix(\"&$D$12&\",reference:=StartOfSession)=\"&A58&\"\", \"Bar\", \"\", \"Close\",\"5\",\"0\",\"PrimaryOnly\",,,\"False\",\"T\",\"EveryTick\")","v":392.16},-1.8072135821008972E-3,{"$f":"RTD(\"cqg.rtd\",,\"StudyData\", \"Close(\"&$D$12&\") when LocalYear(\"&$D$12&\")=\"&$D$3&\" and localMonth(\"&$D$12&\") =\"&$E$3&\" and LocalDay(\"&$D$12&\")=\"&$F$3&\" and Barix(\"&$D$12&\",reference:=StartOfSession)=\"&A58&\"\", \"Bar\", \"\", \"Close\",\"5\",\"0\",\"PrimaryOnly\",,,\"False\",\"T\",\"EveryTick\")","v":393.59},3.5953991524754474E-2,{"$f":"RTD(\"cqg.rtd\",,\"StudyData\", \"Close(\"&$D$12&\") when LocalYear(\"&$D$12&\")=\"&$D$4&\" and localMonth(\"&$D$12&\") =\"&$E$4&\" and LocalDay(\"&$D$12&\")=\"&$F$4&\" and Barix(\"&$D$12&\",reference:=StartOfSession)=\"&A58&\"\", \"Bar\", \"\", \"Close\",\"5\",\"0\",\"PrimaryOnly\",,,\"False\",\"T\",\"EveryTick\")","v":379.64},4.3454360553005535E-2,{"$f":"RTD(\"cqg.rtd\",,\"StudyData\", \"Close(\"&$D$12&\") when LocalYear(\"&$D$12&\")=\"&$D$5&\" and localMonth(\"&$D$12&\") =\"&$E$5&\" and LocalDay(\"&$D$12&\")=\"&$F$5&\" and Barix(\"&$D$12&\",reference:=StartOfSession)=\"&A58&\"\", \"Bar\", \"\", \"Close\",\"5\",\"0\",\"PrimaryOnly\",,,\"False\",\"T\",\"EveryTick\")","v":364.06},7.2209157559828844E-3,{"$f":"RTD(\"cqg.rtd\",,\"StudyData\", \"Close(\"&$D$12&\") when LocalYear(\"&$D$12&\")=\"&$D$6&\" and localMonth(\"&$D$12&\") =\"&$E$6&\" and LocalDay(\"&$D$12&\")=\"&$F$6&\" and Barix(\"&$D$12&\",reference:=StartOfSession)=\"&A58&\"\", \"Bar\", \"\", \"Close\",\"5\",\"0\",\"PrimaryOnly\",,,\"False\",\"T\",\"EveryTick\")","v":361.85},3.5499348254153969E-3,{"$f":"RTD(\"cqg.rtd\",,\"StudyData\", \"Close(\"&$D$12&\") when LocalYear(\"&$D$12&\")=\"&$D$7&\" and localMonth(\"&$D$12&\") =\"&$E$7&\" and LocalDay(\"&$D$12&\")=\"&$F$7&\" and Barix(\"&$D$12&\",reference:=StartOfSession)=\"&A58&\"\", \"Bar\", \"\", \"Close\",\"5\",\"0\",\"PrimaryOnly\",,,\"False\",\"T\",\"EveryTick\")","v":360.47},-2.5733259546207804E-3,{"$f":"RTD(\"cqg.rtd\",,\"StudyData\", \"Close(\"&$D$12&\") when LocalYear(\"&$D$12&\")=\"&$D$8&\" and localMonth(\"&$D$12&\") =\"&$E$8&\" and LocalDay(\"&$D$12&\")=\"&$F$8&\" and Barix(\"&$D$12&\",reference:=StartOfSession)=\"&A58&\"\", \"Bar\", \"\", \"Close\",\"5\",\"0\",\"PrimaryOnly\",,,\"False\",\"T\",\"EveryTick\")","v":360.16},-1.9839433936589913E-2,{"$f":"RTD(\"cqg.rtd\",,\"StudyData\", \"Close(\"&$D$12&\") when LocalYear(\"&$D$12&\")=\"&$D$9&\" and localMonth(\"&$D$12&\") =\"&$E$9&\" and LocalDay(\"&$D$12&\")=\"&$F$9&\" and Barix(\"&$D$12&\",reference:=StartOfSession)=\"&A58&\"\", \"Bar\", \"\", \"Close\",\"5\",\"0\",\"PrimaryOnly\",,,\"False\",\"T\",\"EveryTick\")","v":364.55},-3.4171678512848551E-3,{"$f":"RTD(\"cqg.rtd\",,\"StudyData\", \"Close(\"&$D$12&\") when LocalYear(\"&$D$12&\")=\"&$D$10&\" and localMonth(\"&$D$12&\") =\"&$E$10&\" and LocalDay(\"&$D$12&\")=\"&$F$10&\" and Barix(\"&$D$12&\",reference:=StartOfSession)=\"&A58&\"\", \"Bar\", \"\", \"Close\",\"5\",\"0\",\"PrimaryOnly\",,,\"False\",\"T\",\"EveryTick\")","v":367.2},1.4897321798734105E-2,null,null,null,""]
[58,"13:20:00",-19,{"$f":" RTD(\"cqg.rtd\",,\"StudyData\", $D$12,  \"Tick\", \"FlatTicks=0\", \"Tick\",\"D\",C59,\"PrimaryOnly\")","v":391.18},null,null,null,{"$f":"RTD(\"cqg.rtd\",,\"StudyData\", \"Close(\"&$D$12&\") when LocalYear(\"&$D$12&\")=\"&$D$1&\" and localMonth(\"&$D$12&\") =\"&$E$1&\" and LocalDay(\"&$D$12&\")=\"&$F$1&\" and Barix(\"&$D$12&\",reference:=StartOfSession)=\"&A59&\"\", \"Bar\", \"\", \"Close\",\"5\",\"0\",\"PrimaryOnly\",,,\"False\",\"T\",\"EveryTick\")","v":""},{"$error":"#N/A"},{"$f":"RTD(\"cqg.rtd\",,\"StudyData\", \"Close(\"&$D$12&\") when LocalYear(\"&$D$12&\")=\"&$D$2&\" and localMonth(\"&$D$12&\") =\"&$E$2&\" and LocalDay(\"&$D$12&\")=\"&$F$2&\" and Barix(\"&$D$12&\",reference:=StartOfSession)=\"&A59&\"\", \"Bar\", \"\", \"Close\",\"5\",\"0\",\"PrimaryOnly\",,,\"False\",\"T\",\"EveryTick\")","v":393.86},2.5199175299717696E-3,{"$f":"RTD(\"cqg.rtd\",,\"StudyData\", \"Close(\"&$D$12&\") when LocalYear(\"&$D$12&\")=\"&$D$3&\" and localMonth(\"&$D$12&\") =\"&$E$3&\" and LocalDay(\"&$D$12&\")=\"&$F$3&\" and Barix(\"&$D$12&\",reference:=StartOfSession)=\"&A59&\"\", \"Bar\", \"\", \"Close\",\"5\",\"0\",\"PrimaryOnly\",,,\"False\",\"T\",\"EveryTick\")","v":393.93},3.6848893217171587E-2,{"$f":"RTD(\"cqg.rtd\",,\"StudyData\", \"Close(\"&$D$12&\") when LocalYear(\"&$D$12&\")=\"&$D$4&\" and localMonth(\"&$D$12&\") =\"&$E$4&\" and LocalDay(\"&$D$12&\")=\"&$F$4&\" and Barix(\"&$D$12&\",reference:=StartOfSession)=\"&A59&\"\", \"Bar\", \"\", \"Close\",\"5\",\"0\",\"PrimaryOnly\",,,\"False\",\"T\",\"EveryTick\")","v":378.21},3.9523953494764029E-2,{"$f":"RTD(\"cqg.rtd\",,\"StudyData\", \"Close(\"&$D$12&\") when LocalYear(\"&$D$12&\")=\"&$D$5&\" and localMonth(\"&$D$12&\") =\"&$E$5&\" and LocalDay(\"&$D$12&\")=\"&$F$5&\" and Barix(\"&$D$12&\",reference:=StartOfSession)=\"&A59&\"\", \"Bar\", \"\", \"Close\",\"5\",\"0\",\"PrimaryOnly\",,,\"False\",\"T\",\"EveryTick\")","v":363.85},6.6399225342371948E-3,{"$f":"RTD(\"cqg.rtd\",,\"StudyData\", \"Close(\"&$D$12&\") when LocalYear(\"&$D$12&\")=\"&$D$6&\" and localMonth(\"&$D$12&\") =\"&$E$6&\" and LocalDay(\"&$D$12&\")=\"&$F$6&\" and Barix(\"&$D$12&\",reference:=StartOfSession)=\"&A59&\"\", \"Bar\", \"\", \"Close\",\"5\",\"0\",\"PrimaryOnly\",,,\"False\",\"T\",\"EveryTick\")","v":362.1},4.2432814710043256E-3,{"$f":"RTD(\"cqg.rtd\",,\"StudyData\", \"Close(\"&$D$12&\") when LocalYear(\"&$D$12&\")=\"&$D$7&\" and localMonth(\"&$D$12&\") =\"&$E$7&\" and LocalDay(\"&$D$12&\")=\"&$F$7&\" and Barix(\"&$D$12&\",reference:=StartOfSession)=\"&A59&\"\", \"Bar\", \"\", \"Close\",\"5\",\"0\",\"PrimaryOnly\",,,\"False\",\"T\",\"EveryTick\")","v":360.59},-2.2412838959601613E-3,{"$f":"RTD(\"cqg.rtd\",,\"StudyData\", \"Close(\"&$D$12&\") when LocalYear(\"&$D$12&\")=\"&$D$8&\" and localMonth(\"&$D$12&\") =\"&$E$8&\" and LocalDay(\"&$D$12&\")=\"&$F$8&\" and Barix(\"&$D$12&\",reference:=StartOfSession)=\"&A59&\"\", \"Bar\", \"\", \"Close\",\"5\",\"0\",\"PrimaryOnly\",,,\"False\",\"T\",\"EveryTick\")","v":359.7},-2.1091304939447546E-2,{"$f":"RTD(\"cqg.rtd\",,\"StudyData\", \"Close(\"&$D$12&\") when LocalYear(\"&$D$12&\")=\"&$D$9&\" and localMonth(\"&$D$12&\") =\"&$E$9&\" and LocalDay(\"&$D$12&\")=\"&$F$9&\" and Barix(\"&$D$12&\",reference:=StartOfSession)=\"&A59&\"\", \"Bar\", \"\", \"Close\",\"5\",\"0\",\"PrimaryOnly\",,,\"False\",\"T\",\"EveryTick\")","v":364.55},-3.4171678512848551E-3,{"$f":"RTD(\"cqg.rtd\",,\"StudyData\", \"Close(\"&$D$12&\") when LocalYear(\"&$D$12&\")=\"&$D$10&\" and localMonth(\"&$D$12&\") =\"&$E$10&\" and LocalDay(\"&$D$12&\")=\"&$F$10&\" and Barix(\"&$D$12&\",reference:=StartOfSession)=\"&A59&\"\", \"Bar\", \"\", \"Close\",\"5\",\"0\",\"PrimaryOnly\",,,\"False\",\"T\",\"EveryTick\")","v":366.96},1.4233990215859089E-2,null,null,null,""]
[59,"13:25:00",-18,{"$f":" RTD(\"cqg.rtd\",,\"StudyData\", $D$12,  \"Tick\", \"FlatTicks=0\", \"Tick\",\"D\",C60,\"PrimaryOnly\")","v":391.29},null,null,null,{"$f":"RTD(\"cqg.rtd\",,\"StudyData\", \"Close(\"&$D$12&\") when LocalYear(\"&$D$12&\")=\"&$D$1&\" and localMonth(\"&$D$12&\") =\"&$E$1&\" and LocalDay(\"&$D$12&\")=\"&$F$1&\" and Barix(\"&$D$12&\",reference:=StartOfSession)=\"&A60&\"\", \"Bar\", \"\", \"Close\",\"5\",\"0\",\"PrimaryOnly\",,,\"False\",\"T\",\"EveryTick\")","v":""},{"$error":"#N/A"},{"$f":"RTD(\"cqg.rtd\",,\"StudyData\", \"Close(\"&$D$12&\") when LocalYear(\"&$D$12&\")=\"&$D$2&\" and localMonth(\"&$D$12&\") =\"&$E$2&\" and LocalDay(\"&$D$12&\")=\"&$F$2&\" and Barix(\"&$D$12&\",reference:=StartOfSession)=\"&A60&\"\", \"Bar\", \"\", \"Close\",\"5\",\"0\",\"PrimaryOnly\",,,\"False\",\"T\",\"EveryTick\")","v":394.62},4.4543996741924809E-3,{"$f":"RTD(\"cqg.rtd\",,\"StudyData\", \"Close(\"&$D$12&\") when LocalYear(\"&$D$12&\")=\"&$D$3&\" and localMonth(\"&$D$12&\") =\"&$E$3&\" and LocalDay(\"&$D$12&\")=\"&$F$3&\" and Barix(\"&$D$12&\",reference:=StartOfSession)=\"&A60&\"\", \"Bar\", \"\", \"Close\",\"5\",\"0\",\"PrimaryOnly\",,,\"False\",\"T\",\"EveryTick\")","v":393.79},3.6480404284999907E-2,{"$f":"RTD(\"cqg.rtd\",,\"StudyData\", \"Close(\"&$D$12&\") when LocalYear(\"&$D$12&\")=\"&$D$4&\" and localMonth(\"&$D$12&\") =\"&$E$4&\" and LocalDay(\"&$D$12&\")=\"&$F$4&\" and Barix(\"&$D$12&\",reference:=StartOfSession)=\"&A60&\"\", \"Bar\", \"\", \"Close\",\"5\",\"0\",\"PrimaryOnly\",,,\"False\",\"T\",\"EveryTick\")","v":377.61},3.7874831652145315E-2,{"$f":"RTD(\"cqg.rtd\",,\"StudyData\", \"Close(\"&$D$12&\") when LocalYear(\"&$D$12&\")=\"&$D$5&\" and localMonth(\"&$D$12&\") =\"&$E$5&\" and LocalDay(\"&$D$12&\")=\"&$F$5&\" and Barix(\"&$D$12&\",reference:=StartOfSession)=\"&A60&\"\", \"Bar\", \"\", \"Close\",\"5\",\"0\",\"PrimaryOnly\",,,\"False\",\"T\",\"EveryTick\")","v":363.1},4.5649467422881011E-3,{"$f":"RTD(\"cqg.rtd\",,\"StudyData\", \"Close(\"&$D$12&\") when LocalYear(\"&$D$12&\")=\"&$D$6&\" and localMonth(\"&$D$12&\") =\"&$E$6&\" and LocalDay(\"&$D$12&\")=\"&$F$6&\" and Barix(\"&$D$12&\",reference:=StartOfSession)=\"&A60&\"\", \"Bar\", \"\", \"Close\",\"5\",\"0\",\"PrimaryOnly\",,,\"False\",\"T\",\"EveryTick\")","v":361.93},3.7718057520038095E-3,{"$f":"RTD(\"cqg.rtd\",,\"StudyData\", \"Close(\"&$D$12&\") when LocalYear(\"&$D$12&\")=\"&$D$7&\" and localMonth(\"&$D$12&\") =\"&$E$7&\" and LocalDay(\"&$D$12&\")=\"&$F$7&\" and Barix(\"&$D$12&\",reference:=StartOfSession)=\"&A60&\"\", \"Bar\", \"\", \"Close\",\"5\",\"0\",\"PrimaryOnly\",,,\"False\",\"T\",\"EveryTick\")","v":360.47},-2.5733259546207804E-3,{"$f":"RTD(\"cqg.rtd\",,\"StudyData\", \"Close(\"&$D$12&\") when LocalYear(\"&$D$12&\")=\"&$D$8&\" and localMonth(\"&$D$12&\") =\"&$E$8&\" and LocalDay(\"&$D$12&\")=\"&$F$8&\" and Barix(\"&$D$12&\",reference:=StartOfSession)=\"&A60&\"\", \"Bar\", \"\", \"Close\",\"5\",\"0\",\"PrimaryOnly\",,,\"False\",\"T\",\"EveryTick\")","v":359.44},-2.1798884201932212E-2,{"$f":"RTD(\"cqg.rtd\",,\"StudyData\", \"Close(\"&$D$12&\") when LocalYear(\"&$D$12&\")=\"&$D$9&\" and localMonth(\"&$D$12&\") =\"&$E$9&\" and LocalDay(\"&$D$12&\")=\"&$F$9&\" and Barix(\"&$D$12&\",reference:=StartOfSession)=\"&A60&\"\", \"Bar\", \"\", \"Close\",\"5\",\"0\",\"PrimaryOnly\",,,\"False\",\"T\",\"EveryTick\")","v":365.03},-2.1049753963915765E-3,{"$f":"RTD(\"cqg.rtd\",,\"StudyData\", \"Close(\"&$D$12&\") when LocalYear(\"&$D$12&\")=\"&$D$10&\" and localMonth(\"&$D$12&\") =\"&$E$10&\" and LocalDay(\"&$D$12&\")=\"&$F$10&\" and Barix(\"&$D$12&\",reference:=StartOfSession)=\"&A60&\"\", \"Bar\", \"\", \"Close\",\"5\",\"0\",\"PrimaryOnly\",,,\"False\",\"T\",\"EveryTick\")","v":367.08},1.4565656007296597E-2,null,null,null,""]
[60,"13:30:00",-17,{"$f":" RTD(\"cqg.rtd\",,\"StudyData\", $D$12,  \"Tick\", \"FlatTicks=0\", \"Tick\",\"D\",C61,\"PrimaryOnly\")","v":391.17},null,null,null,{"$f":"RTD(\"cqg.rtd\",,\"StudyData\", \"Close(\"&$D$12&\") when LocalYear(\"&$D$12&\")=\"&$D$1&\" and localMonth(\"&$D$12&\") =\"&$E$1&\" and LocalDay(\"&$D$12&\")=\"&$F$1&\" and Barix(\"&$D$12&\",reference:=StartOfSession)=\"&A61&\"\", \"Bar\", \"\", \"Close\",\"5\",\"0\",\"PrimaryOnly\",,,\"False\",\"T\",\"EveryTick\")","v":""},{"$error":"#N/A"},{"$f":"RTD(\"cqg.rtd\",,\"StudyData\", \"Close(\"&$D$12&\") when LocalYear(\"&$D$12&\")=\"&$D$2&\" and localMonth(\"&$D$12&\") =\"&$E$2&\" and LocalDay(\"&$D$12&\")=\"&$F$2&\" and Barix(\"&$D$12&\",reference:=StartOfSession)=\"&A61&\"\", \"Bar\", \"\", \"Close\",\"5\",\"0\",\"PrimaryOnly\",,,\"False\",\"T\",\"EveryTick\")","v":393.91},2.6471860920915836E-3,{"$f":"RTD(\"cqg.rtd\",,\"StudyData\", \"Close(\"&$D$12&\") when LocalYear(\"&$D$12&\")=\"&$D$3&\" and localMonth(\"&$D$12&\") =\"&$E$3&\" and LocalDay(\"&$D$12&\")=\"&$F$3&\" and Barix(\"&$D$12&\",reference:=StartOfSession)=\"&A61&\"\", \"Bar\", \"\", \"Close\",\"5\",\"0\",\"PrimaryOnly\",,,\"False\",\"T\",\"EveryTick\")","v":393.6},3.598031216276687E-2,{"$f":"RTD(\"cqg.rtd\",,\"StudyData\", \"Close(\"&$D$12&\") when LocalYear(\"&$D$12&\")=\"&$D$4&\" and localMonth(\"&$D$12&\") =\"&$E$4&\" and LocalDay(\"&$D$12&\")=\"&$F$4&\" and Barix(\"&$D$12&\",reference:=StartOfSession)=\"&A61&\"\", \"Bar\", \"\", \"Close\",\"5\",\"0\",\"PrimaryOnly\",,,\"False\",\"T\",\"EveryTick\")","v":378.42},4.0101146139680709E-2,{"$f":"RTD(\"cqg.rtd\",,\"StudyData\", \"Close(\"&$D$12&\") when LocalYear(\"&$D$12&\")=\"&$D$5&\" and localMonth(\"&$D$12&\") =\"&$E$5&\" and LocalDay(\"&$D$12&\")=\"&$F$5&\" and Barix(\"&$D$12&\",reference:=StartOfSession)=\"&A61&\"\", \"Bar\", \"\", \"Close\",\"5\",\"0\",\"PrimaryOnly\",,,\"False\",\"T\",\"EveryTick\")","v":363.03},4.3712823350393806E-3,{"$f":"RTD(\"cqg.rtd\",,\"StudyData\", \"Close(\"&$D$12&\") when LocalYear(\"&$D$12&\")=\"&$D$6&\" and localMonth(\"&$D$12&\") =\"&$E$6&\" and LocalDay(\"&$D$12&\")=\"&$F$6&\" and Barix(\"&$D$12&\",reference:=StartOfSession)=\"&A61&\"\", \"Bar\", \"\", \"Close\",\"5\",\"0\",\"PrimaryOnly\",,,\"False\",\"T\",\"EveryTick\")","v":361.85},3.5499348254153969E-3,{"$f":"RTD(\"cqg.rtd\",,\"StudyData\", \"Close(\"&$D$12&\") when LocalYear(\"&$D$12&\")=\"&$D$7&\" and localMonth(\"&$D$12&\") =\"&$E$7&\" and LocalDay(\"&$D$12&\")=\"&$F$7&\" and Barix(\"&$D$12&\",reference:=StartOfSession)=\"&A61&\"\", \"Bar\", \"\", \"Close\",\"5\",\"0\",\"PrimaryOnly\",,,\"False\",\"T\",\"EveryTick\")","v":360.53},-2.4073049252905493E-3,{"$f":"RTD(\"cqg.rtd\",,\"StudyData\", \"Close(\"&$D$12&\") when LocalYear(\"&$D$12&\")=\"&$D$8&\" and localMonth(\"&$D$12&\") =\"&$E$8&\" and LocalDay(\"&$D$12&\")=\"&$F$8&\" and Barix(\"&$D$12&\",reference:=StartOfSession)=\"&A61&\"\", \"Bar\", \"\", \"Close\",\"5\",\"0\",\"PrimaryOnly\",,,\"False\",\"T\",\"EveryTick\")","v":359.49},-2.1662811266838972E-2,{"$f":"RTD(\"cqg.rtd\",,\"StudyData\", \"Close(\"&$D$12&\") when LocalYear(\"&$D$12&\")=\"&$D$9&\" and localMonth(\"&$D$12&\") =\"&$E$9&\" and LocalDay(\"&$D$12&\")=\"&$F$9&\" and Barix(\"&$D$12&\",reference:=StartOfSession)=\"&A61&\"\", \"Bar\", \"\", \"Close\",\"5\",\"0\",\"PrimaryOnly\",,,\"False\",\"T\",\"EveryTick\")","v":364.87},-2.5423728813559507E-3,{"$f":"RTD(\"cqg.rtd\",,\"StudyData\", \"Close(\"&$D$12&\") when LocalYear(\"&$D$12&\")=\"&$D$10&\" and localMonth(\"&$D$12&\") =\"&$E$10&\" and LocalDay(\"&$D$12&\")=\"&$F$10&\" and Barix(\"&$D$12&\",reference:=StartOfSession)=\"&A61&\"\", \"Bar\", \"\", \"Close\",\"5\",\"0\",\"PrimaryOnly\",,,\"False\",\"T\",\"EveryTick\")","v":366.96},1.4233990215859089E-2,null,null,null,""]
[61,"13:35:00",-16,{"$f":" RTD(\"cqg.rtd\",,\"StudyData\", $D$12,  \"Tick\", \"FlatTicks=0\", \"Tick\",\"D\",C62,\"PrimaryOnly\")","v":391.18},null,null,null,{"$f":"RTD(\"cqg.rtd\",,\"StudyData\", \"Close(\"&$D$12&\") when LocalYear(\"&$D$12&\")=\"&$D$1&\" and localMonth(\"&$D$12&\") =\"&$E$1&\" and LocalDay(\"&$D$12&\")=\"&$F$1&\" and Barix(\"&$D$12&\",reference:=StartOfSession)=\"&A62&\"\", \"Bar\", \"\", \"Close\",\"5\",\"0\",\"PrimaryOnly\",,,\"False\",\"T\",\"EveryTick\")","v":""},{"$error":"#N/A"},{"$f":"RTD(\"cqg.rtd\",,\"StudyData\", \"Close(\"&$D$12&\") when LocalYear(\"&$D$12&\")=\"&$D$2&\" and localMonth(\"&$D$12&\") =\"&$E$2&\" and LocalDay(\"&$D$12&\")=\"&$F$2&\" and Barix(\"&$D$12&\",reference:=StartOfSession)=\"&A62&\"\", \"Bar\", \"\", \"Close\",\"5\",\"0\",\"PrimaryOnly\",,,\"False\",\"T\",\"EveryTick\")","v":393.6},1.8581210069489097E-3,{"$f":"RTD(\"cqg.rtd\",,\"StudyData\", \"Close(\"&$D$12&\") when LocalYear(\"&$D$12&\")=\"&$D$3&\" and localMonth(\"&$D$12&\") =\"&$E$3&\" and LocalDay(\"&$D$12&\")=\"&$F$3&\" and Barix(\"&$D$12&\",reference:=StartOfSession)=\"&A62&\"\", \"Bar\", \"\", \"Close\",\"5\",\"0\",\"PrimaryOnly\",,,\"False\",\"T\",\"EveryTick\")","v":393.62},3.603295343879135E-2,{"$f":"RTD(\"cqg.rtd\",,\"StudyData\", \"Close(\"&$D$12&\") when LocalYear(\"&$D$12&\")=\"&$D$4&\" and localMonth(\"&$D$12&\") =\"&$E$4&\" and LocalDay(\"&$D$12&\")=\"&$F$4&\" and Barix(\"&$D$12&\",reference:=StartOfSession)=\"&A62&\"\", \"Bar\", \"\", \"Close\",\"5\",\"0\",\"PrimaryOnly\",,,\"False\",\"T\",\"EveryTick\")","v":379.98},4.438886293048961E-2,{"$f":"RTD(\"cqg.rtd\",,\"StudyData\", \"Close(\"&$D$12&\") when LocalYear(\"&$D$12&\")=\"&$D$5&\" and localMonth(\"&$D$12&\") =\"&$E$5&\" and LocalDay(\"&$D$12&\")=\"&$F$5&\" and Barix(\"&$D$12&\",reference:=StartOfSession)=\"&A62&\"\", \"Bar\", \"\", \"Close\",\"5\",\"0\",\"PrimaryOnly\",,,\"False\",\"T\",\"EveryTick\")","v":363.17},4.7586111495366646E-3,{"$f":"RTD(\"cqg.rtd\",,\"StudyData\", \"Close(\"&$D$12&\") when LocalYear(\"&$D$12&\")=\"&$D$6&\" and localMonth(\"&$D$12&\") =\"&$E$6&\" and LocalDay(\"&$D$12&\")=\"&$F$6&\" and Barix(\"&$D$12&\",reference:=StartOfSession)=\"&A62&\"\", \"Bar\", \"\", \"Close\",\"5\",\"0\",\"PrimaryOnly\",,,\"False\",\"T\",\"EveryTick\")","v":361.95},3.8272734836508737E-3,{"$f":"RTD(\"cqg.rtd\",,\"StudyData\", \"Close(\"&$D$12&\") when LocalYear(\"&$D$12&\")=\"&$D$7&\" and localMonth(\"&$D$12&\") =\"&$E$7&\" and LocalDay(\"&$D$12&\")=\"&$F$7&\" and Barix(\"&$D$12&\",reference:=StartOfSession)=\"&A62&\"\", \"Bar\", \"\", \"Close\",\"5\",\"0\",\"PrimaryOnly\",,,\"False\",\"T\",\"EveryTick\")","v":360.19},-3.3480907581626444E-3,{"$f":"RTD(\"cqg.rtd\",,\"StudyData\", \"Close(\"&$D$12&\") when LocalYear(\"&$D$12&\")=\"&$D$8&\" and localMonth(\"&$D$12&\") =\"&$E$8&\" and LocalDay(\"&$D$12&\")=\"&$F$8&\" and Barix(\"&$D$12&\",reference:=StartOfSession)=\"&A62&\"\", \"Bar\", \"\", \"Close\",\"5\",\"0\",\"PrimaryOnly\",,,\"False\",\"T\",\"EveryTick\")","v":360.05},-2.0138794393795012E-2,{"$f":"RTD(\"cqg.rtd\",,\"StudyData\", \"Close(\"&$D$12&\") when LocalYear(\"&$D$12&\")=\"&$D$9&\" and localMonth(\"&$D$12&\") =\"&$E$9&\" and LocalDay(\"&$D$12&\")=\"&$F$9&\" and Barix(\"&$D$12&\",reference:=StartOfSession)=\"&A62&\"\", \"Bar\", \"\", \"Close\",\"5\",\"0\",\"PrimaryOnly\",,,\"False\",\"T\",\"EveryTick\")","v":365.16},-1.7495899398578085E-3,{"$f":"RTD(\"cqg.rtd\",,\"StudyData\", \"Close(\"&$D$12&\") when LocalYear(\"&$D$12&\")=\"&$D$10&\" and localMonth(\"&$D$12&\") =\"&$E$10&\" and LocalDay(\"&$D$12&\")=\"&$F$10&\" and Barix(\"&$D$12&\",reference:=StartOfSession)=\"&A62&\"\", \"Bar\", \"\", \"Close\",\"5\",\"0\",\"PrimaryOnly\",,,\"False\",\"T\",\"EveryTick\")","v":366.91},1.4095796136093592E-2,null,null,null,""]
[62,"13:40:00",-15,{"$f":" RTD(\"cqg.rtd\",,\"StudyData\", $D$12,  \"Tick\", \"FlatTicks=0\", \"Tick\",\"D\",C63,\"PrimaryOnly\")","v":391.17},null,null,null,{"$f":"RTD(\"cqg.rtd\",,\"StudyData\", \"Close(\"&$D$12&\") when LocalYear(\"&$D$12&\")=\"&$D$1&\" and localMonth(\"&$D$12&\") =\"&$E$1&\" and LocalDay(\"&$D$12&\")=\"&$F$1&\" and Barix(\"&$D$12&\",reference:=StartOfSession)=\"&A63&\"\", \"Bar\", \"\", \"Close\",\"5\",\"0\",\"PrimaryOnly\",,,\"False\",\"T\",\"EveryTick\")","v":""},{"$error":"#N/A"},{"$f":"RTD(\"cqg.rtd\",,\"StudyData\", \"Close(\"&$D$12&\") when LocalYear(\"&$D$12&\")=\"&$D$2&\" and localMonth(\"&$D$12&\") =\"&$E$2&\" and LocalDay(\"&$D$12&\")=\"&$F$2&\" and Barix(\"&$D$12&\",reference:=StartOfSession)=\"&A63&\"\", \"Bar\", \"\", \"Close\",\"5\",\"0\",\"PrimaryOnly\",,,\"False\",\"T\",\"EveryTick\")","v":392.8},-1.7817598696768188E-4,{"$f":"RTD(\"cqg.rtd\",,\"StudyData\", \"Close(\"&$D$12&\") when LocalYear(\"&$D$12&\")=\"&$D$3&\" and localMonth(\"&$D$12&\") =\"&$E$3&\" and LocalDay(\"&$D$12&\")=\"&$F$3&\" and Barix(\"&$D$12&\",reference:=StartOfSession)=\"&A63&\"\", \"Bar\", \"\", \"Close\",\"5\",\"0\",\"PrimaryOnly\",,,\"False\",\"T\",\"EveryTick\")","v":394.34},3.7928039375674384E-2,{"$f":"RTD(\"cqg.rtd\",,\"StudyData\", \"Close(\"&$D$12&\") when LocalYear(\"&$D$12&\")=\"&$D$4&\" and localMonth(\"&$D$12&\") =\"&$E$4&\" and LocalDay(\"&$D$12&\")=\"&$F$4&\" and Barix(\"&$D$12&\",reference:=StartOfSession)=\"&A63&\"\", \"Bar\", \"\", \"Close\",\"5\",\"0\",\"PrimaryOnly\",,,\"False\",\"T\",\"EveryTick\")","v":379.32},4.2574828903608856E-2,{"$f":"RTD(\"cqg.rtd\",,\"StudyData\", \"Close(\"&$D$12&\") when LocalYear(\"&$D$12&\")=\"&$D$5&\" and localMonth(\"&$D$12&\") =\"&$E$5&\" and LocalDay(\"&$D$12&\")=\"&$F$5&\" and Barix(\"&$D$12&\",reference:=StartOfSession)=\"&A63&\"\", \"Bar\", \"\", \"Close\",\"5\",\"0\",\"PrimaryOnly\",,,\"False\",\"T\",\"EveryTick\")","v":362.96},4.1776179277908171E-3,{"$f":"RTD(\"cqg.rtd\",,\"StudyData\", \"Close(\"&$D$12&\") when LocalYear(\"&$D$12&\")=\"&$D$6&\" and localMonth(\"&$D$12&\") =\"&$E$6&\" and LocalDay(\"&$D$12&\")=\"&$F$6&\" and Barix(\"&$D$12&\",reference:=StartOfSession)=\"&A63&\"\", \"Bar\", \"\", \"Close\",\"5\",\"0\",\"PrimaryOnly\",,,\"False\",\"T\",\"EveryTick\")","v":361.95},3.8272734836508737E-3,{"$f":"RTD(\"cqg.rtd\",,\"StudyData\", \"Close(\"&$D$12&\") when LocalYear(\"&$D$12&\")=\"&$D$7&\" and localMonth(\"&$D$12&\") =\"&$E$7&\" and LocalDay(\"&$D$12&\")=\"&$F$7&\" and Barix(\"&$D$12&\",reference:=StartOfSession)=\"&A63&\"\", \"Bar\", \"\", \"Close\",\"5\",\"0\",\"PrimaryOnly\",,,\"False\",\"T\",\"EveryTick\")","v":360.6},-2.2136137244049658E-3,{"$f":"RTD(\"cqg.rtd\",,\"StudyData\", \"Close(\"&$D$12&\") when LocalYear(\"&$D$12&\")=\"&$D$8&\" and localMonth(\"&$D$12&\") =\"&$E$8&\" and LocalDay(\"&$D$12&\")=\"&$F$8&\" and Barix(\"&$D$12&\",reference:=StartOfSession)=\"&A63&\"\", \"Bar\", \"\", \"Close\",\"5\",\"0\",\"PrimaryOnly\",,,\"False\",\"T\",\"EveryTick\")","v":360.88},-1.7879983671247771E-2,{"$f":"RTD(\"cqg.rtd\",,\"StudyData\", \"Close(\"&$D$12&\") when LocalYear(\"&$D$12&\")=\"&$D$9&\" and localMonth(\"&$D$12&\") =\"&$E$9&\" and LocalDay(\"&$D$12&\")=\"&$F$9&\" and Barix(\"&$D$12&\",reference:=StartOfSession)=\"&A63&\"\", \"Bar\", \"\", \"Close\",\"5\",\"0\",\"PrimaryOnly\",,,\"False\",\"T\",\"EveryTick\")","v":365.39},-1.1208310552215009E-3,{"$f":"RTD(\"cqg.rtd\",,\"StudyData\", \"Close(\"&$D$12&\") when LocalYear(\"&$D$12&\")=\"&$D$10&\" and localMonth(\"&$D$12&\") =\"&$E$10&\" and LocalDay(\"&$D$12&\")=\"&$F$10&\" and Barix(\"&$D$12&\",reference:=StartOfSession)=\"&A63&\"\", \"Bar\", \"\", \"Close\",\"5\",\"0\",\"PrimaryOnly\",,,\"False\",\"T\",\"EveryTick\")","v":366.86},1.3957602056327938E-2,null,null,null,""]
[63,"13:45:00",-14,{"$f":" RTD(\"cqg.rtd\",,\"StudyData\", $D$12,  \"Tick\", \"FlatTicks=0\", \"Tick\",\"D\",C64,\"PrimaryOnly\")","v":391.04},null,null,null,{"$f":"RTD(\"cqg.rtd\",,\"StudyData\", \"Close(\"&$D$12&\") when LocalYear(\"&$D$12&\")=\"&$D$1&\" and localMonth(\"&$D$12&\") =\"&$E$1&\" and LocalDay(\"&$D$12&\")=\"&$F$1&\" and Barix(\"&$D$12&\",reference:=StartOfSession)=\"&A64&\"\", \"Bar\", \"\", \"Close\",\"5\",\"0\",\"PrimaryOnly\",,,\"False\",\"T\",\"EveryTick\")","v":""},{"$error":"#N/A"},{"$f":"RTD(\"cqg.rtd\",,\"StudyData\", \"Close(\"&$D$12&\") when LocalYear(\"&$D$12&\")=\"&$D$2&\" and localMonth(\"&$D$12&\") =\"&$E$2&\" and LocalDay(\"&$D$12&\")=\"&$F$2&\" and Barix(\"&$D$12&\",reference:=StartOfSession)=\"&A64&\"\", \"Bar\", \"\", \"Close\",\"5\",\"0\",\"PrimaryOnly\",,,\"False\",\"T\",\"EveryTick\")","v":392.84},-7.6361137271946342E-5,{"$f":"RTD(\"cqg.rtd\",,\"StudyData\", \"Close(\"&$D$12&\") when LocalYear(\"&$D$12&\")=\"&$D$3&\" and localMonth(\"&$D$12&\") =\"&$E$3&\" and LocalDay(\"&$D$12&\")=\"&$F$3&\" and Barix(\"&$D$12&\",reference:=StartOfSession)=\"&A64&\"\", \"Bar\", \"\", \"Close\",\"5\",\"0\",\"PrimaryOnly\",,,\"False\",\"T\",\"EveryTick\")","v":393.75},3.6375121732950787E-2,{"$f":"RTD(\"cqg.rtd\",,\"StudyData\", \"Close(\"&$D$12&\") when LocalYear(\"&$D$12&\")=\"&$D$4&\" and localMonth(\"&$D$12&\") =\"&$E$4&\" and LocalDay(\"&$D$12&\")=\"&$F$4&\" and Barix(\"&$D$12&\",reference:=StartOfSession)=\"&A64&\"\", \"Bar\", \"\", \"Close\",\"5\",\"0\",\"PrimaryOnly\",,,\"False\",\"T\",\"EveryTick\")","v":379.49},4.3042080092350894E-2,{"$f":"RTD(\"cqg.rtd\",,\"StudyData\", \"Close(\"&$D$12&\") when LocalYear(\"&$D$12&\")=\"&$D$5&\" and localMonth(\"&$D$12&\") =\"&$E$5&\" and LocalDay(\"&$D$12&\")=\"&$F$5&\" and Barix(\"&$D$12&\",reference:=StartOfSession)=\"&A64&\"\", \"Bar\", \"\", \"Close\",\"5\",\"0\",\"PrimaryOnly\",,,\"False\",\"T\",\"EveryTick\")","v":362.59},3.153963203762585E-3,{"$f":"RTD(\"cqg.rtd\",,\"StudyData\", \"Close(\"&$D$12&\") when LocalYear(\"&$D$12&\")=\"&$D$6&\" and localMonth(\"&$D$12&\") =\"&$E$6&\" and LocalDay(\"&$D$12&\")=\"&$F$6&\" and Barix(\"&$D$12&\",reference:=StartOfSession)=\"&A64&\"\", \"Bar\", \"\", \"Close\",\"5\",\"0\",\"PrimaryOnly\",,,\"False\",\"T\",\"EveryTick\")","v":361.83},3.4944670937681753E-3,{"$f":"RTD(\"cqg.rtd\",,\"StudyData\", \"Close(\"&$D$12&\") when LocalYear(\"&$D$12&\")=\"&$D$7&\" and localMonth(\"&$D$12&\") =\"&$E$7&\" and LocalDay(\"&$D$12&\")=\"&$F$7&\" and Barix(\"&$D$12&\",reference:=StartOfSession)=\"&A64&\"\", \"Bar\", \"\", \"Close\",\"5\",\"0\",\"PrimaryOnly\",,,\"False\",\"T\",\"EveryTick\")","v":359.92},-4.0951853901493125E-3,{"$f":"RTD(\"cqg.rtd\",,\"StudyData\", \"Close(\"&$D$12&\") when LocalYear(\"&$D$12&\")=\"&$D$8&\" and localMonth(\"&$D$12&\") =\"&$E$8&\" and LocalDay(\"&$D$12&\")=\"&$F$8&\" and Barix(\"&$D$12&\",reference:=StartOfSession)=\"&A64&\"\", \"Bar\", \"\", \"Close\",\"5\",\"0\",\"PrimaryOnly\",,,\"False\",\"T\",\"EveryTick\")","v":361.18},-1.7063546060688481E-2,{"$f":"RTD(\"cqg.rtd\",,\"StudyData\", \"Close(\"&$D$12&\") when LocalYear(\"&$D$12&\")=\"&$D$9&\" and localMonth(\"&$D$12&\") =\"&$E$9&\" and LocalDay(\"&$D$12&\")=\"&$F$9&\" and Barix(\"&$D$12&\",reference:=StartOfSession)=\"&A64&\"\", \"Bar\", \"\", \"Close\",\"5\",\"0\",\"PrimaryOnly\",,,\"False\",\"T\",\"EveryTick\")","v":365.11},-1.8862766539092337E-3,{"$f":"RTD(\"cqg.rtd\",,\"StudyData\", \"Close(\"&$D$12&\") when LocalYear(\"&$D$12&\")=\"&$D$10&\" and localMonth(\"&$D$12&\") =\"&$E$10&\" and LocalDay(\"&$D$12&\")=\"&$F$10&\" and Barix(\"&$D$12&\",reference:=StartOfSession)=\"&A64&\"\", \"Bar\", \"\", \"Close\",\"5\",\"0\",\"PrimaryOnly\",,,\"False\",\"T\",\"EveryTick\")","v":366.81},1.3819407976562285E-2,null,null,null,""]
[64,"13:50:00",-13,{"$f":" RTD(\"cqg.rtd\",,\"StudyData\", $D$12,  \"Tick\", \"FlatTicks=0\", \"Tick\",\"D\",C65,\"PrimaryOnly\")","v":391.17},null,null,null,{"$f":"RTD(\"cqg.rtd\",,\"StudyData\", \"Close(\"&$D$12&\") when LocalYear(\"&$D$12&\")=\"&$D$1&\" and localMonth(\"&$D$12&\") =\"&$E$1&\" and LocalDay(\"&$D$12&\")=\"&$F$1&\" and Barix(\"&$D$12&\",reference:=StartOfSession)=\"&A65&\"\", \"Bar\", \"\", \"Close\",\"5\",\"0\",\"PrimaryOnly\",,,\"False\",\"T\",\"EveryTick\")","v":""},{"$error":"#N/A"},{"$f":"RTD(\"cqg.rtd\",,\"StudyData\", \"Close(\"&$D$12&\") when LocalYear(\"&$D$12&\")=\"&$D$2&\" and localMonth(\"&$D$12&\") =\"&$E$2&\" and LocalDay(\"&$D$12&\")=\"&$F$2&\" and Barix(\"&$D$12&\",reference:=StartOfSession)=\"&A65&\"\", \"Bar\", \"\", \"Close\",\"5\",\"0\",\"PrimaryOnly\",,,\"False\",\"T\",\"EveryTick\")","v":393.6},1.8581210069489097E-3,{"$f":"RTD(\"cqg.rtd\",,\"StudyData\", \"Close(\"&$D$12&\") when LocalYear(\"&$D$12&\")=\"&$D$3&\" and localMonth(\"&$D$12&\") =\"&$E$3&\" and LocalDay(\"&$D$12&\")=\"&$F$3&\" and Barix(\"&$D$12&\",reference:=StartOfSession)=\"&A65&\"\", \"Bar\", \"\", \"Close\",\"5\",\"0\",\"PrimaryOnly\",,,\"False\",\"T\",\"EveryTick\")","v":393.56},3.587502961071775E-2,{"$f":"RTD(\"cqg.rtd\",,\"StudyData\", \"Close(\"&$D$12&\") when LocalYear(\"&$D$12&\")=\"&$D$4&\" and localMonth(\"&$D$12&\") =\"&$E$4&\" and LocalDay(\"&$D$12&\")=\"&$F$4&\" and Barix(\"&$D$12&\",reference:=StartOfSession)=\"&A65&\"\", \"Bar\", \"\", \"Close\",\"5\",\"0\",\"PrimaryOnly\",,,\"False\",\"T\",\"EveryTick\")","v":380.7},4.6367809141632098E-2,{"$f":"RTD(\"cqg.rtd\",,\"StudyData\", \"Close(\"&$D$12&\") when LocalYear(\"&$D$12&\")=\"&$D$5&\" and localMonth(\"&$D$12&\") =\"&$E$5&\" and LocalDay(\"&$D$12&\")=\"&$F$5&\" and Barix(\"&$D$12&\",reference:=StartOfSession)=\"&A65&\"\", \"Bar\", \"\", \"Close\",\"5\",\"0\",\"PrimaryOnly\",,,\"False\",\"T\",\"EveryTick\")","v":362.52},2.9602987965140219E-3,{"$f":"RTD(\"cqg.rtd\",,\"StudyData\", \"Close(\"&$D$12&\") when LocalYear(\"&$D$12&\")=\"&$D$6&\" and localMonth(\"&$D$12&\") =\"&$E$6&\" and LocalDay(\"&$D$12&\")=\"&$F$6&\" and Barix(\"&$D$12&\",reference:=StartOfSession)=\"&A65&\"\", \"Bar\", \"\", \"Close\",\"5\",\"0\",\"PrimaryOnly\",,,\"False\",\"T\",\"EveryTick\")","v":361.5},2.5792495215908335E-3,{"$f":"RTD(\"cqg.rtd\",,\"StudyData\", \"Close(\"&$D$12&\") when LocalYear(\"&$D$12&\")=\"&$D$7&\" and localMonth(\"&$D$12&\") =\"&$E$7&\" and LocalDay(\"&$D$12&\")=\"&$F$7&\" and Barix(\"&$D$12&\",reference:=StartOfSession)=\"&A65&\"\", \"Bar\", \"\", \"Close\",\"5\",\"0\",\"PrimaryOnly\",,,\"False\",\"T\",\"EveryTick\")","v":359.98},-3.929164360818924E-3,{"$f":"RTD(\"cqg.rtd\",,\"StudyData\", \"Close(\"&$D$12&\") when LocalYear(\"&$D$12&\")=\"&$D$8&\" and localMonth(\"&$D$12&\") =\"&$E$8&\" and LocalDay(\"&$D$12&\")=\"&$F$8&\" and Barix(\"&$D$12&\",reference:=StartOfSession)=\"&A65&\"\", \"Bar\", \"\", \"Close\",\"5\",\"0\",\"PrimaryOnly\",,,\"False\",\"T\",\"EveryTick\")","v":360.91},-1.7798339910191766E-2,{"$f":"RTD(\"cqg.rtd\",,\"StudyData\", \"Close(\"&$D$12&\") when LocalYear(\"&$D$12&\")=\"&$D$9&\" and localMonth(\"&$D$12&\") =\"&$E$9&\" and LocalDay(\"&$D$12&\")=\"&$F$9&\" and Barix(\"&$D$12&\",reference:=StartOfSession)=\"&A65&\"\", \"Bar\", \"\", \"Close\",\"5\",\"0\",\"PrimaryOnly\",,,\"False\",\"T\",\"EveryTick\")","v":364.86},-2.5697102241662049E-3,{"$f":"RTD(\"cqg.rtd\",,\"StudyData\", \"Close(\"&$D$12&\") when LocalYear(\"&$D$12&\")=\"&$D$10&\" and localMonth(\"&$D$12&\") =\"&$E$10&\" and LocalDay(\"&$D$12&\")=\"&$F$10&\" and Barix(\"&$D$12&\",reference:=StartOfSession)=\"&A65&\"\", \"Bar\", \"\", \"Close\",\"5\",\"0\",\"PrimaryOnly\",,,\"False\",\"T\",\"EveryTick\")","v":366.76},1.3681213896796629E-2,null,null,null,""]
[65,"13:55:00",-12,{"$f":" RTD(\"cqg.rtd\",,\"StudyData\", $D$12,  \"Tick\", \"FlatTicks=0\", \"Tick\",\"D\",C66,\"PrimaryOnly\")","v":391.13},null,null,null,{"$f":"RTD(\"cqg.rtd\",,\"StudyData\", \"Close(\"&$D$12&\") when LocalYear(\"&$D$12&\")=\"&$D$1&\" and localMonth(\"&$D$12&\") =\"&$E$1&\" and LocalDay(\"&$D$12&\")=\"&$F$1&\" and Barix(\"&$D$12&\",reference:=StartOfSession)=\"&A66&\"\", \"Bar\", \"\", \"Close\",\"5\",\"0\",\"PrimaryOnly\",,,\"False\",\"T\",\"EveryTick\")","v":""},{"$error":"#N/A"},{"$f":"RTD(\"cqg.rtd\",,\"StudyData\", \"Close(\"&$D$12&\") when LocalYear(\"&$D$12&\")=\"&$D$2&\" and localMonth(\"&$D$12&\") =\"&$E$2&\" and LocalDay(\"&$D$12&\")=\"&$F$2&\" and Barix(\"&$D$12&\",reference:=StartOfSession)=\"&A66&\"\", \"Bar\", \"\", \"Close\",\"5\",\"0\",\"PrimaryOnly\",,,\"False\",\"T\",\"EveryTick\")","v":393.59},{"$f":"IFERROR((J66-$G$3)/$G$3,NA())","v":1.8326672945248312E-3},{"$f":"RTD(\"cqg.rtd\",,\"StudyData\", \"Close(\"&$D$12&\") when LocalYear(\"&$D$12&\")=\"&$D$3&\" and localMonth(\"&$D$12&\") =\"&$E$3&\" and LocalDay(\"&$D$12&\")=\"&$F$3&\" and Barix(\"&$D$12&\",reference:=StartOfSession)=\"&A66&\"\", \"Bar\", \"\", \"Close\",\"5\",\"0\",\"PrimaryOnly\",,,\"False\",\"T\",\"EveryTick\")","v":392.29},{"$f":"IFERROR((L66-$G$4)/$G$4,NA())","v":3.2532308583160092E-2},{"$f":"RTD(\"cqg.rtd\",,\"StudyData\", \"Close(\"&$D$12&\") when LocalYear(\"&$D$12&\")=\"&$D$4&\" and localMonth(\"&$D$12&\") =\"&$E$4&\" and LocalDay(\"&$D$12&\")=\"&$F$4&\" and Barix(\"&$D$12&\",reference:=StartOfSession)=\"&A66&\"\", \"Bar\", \"\", \"Close\",\"5\",\"0\",\"PrimaryOnly\",,,\"False\",\"T\",\"EveryTick\")","v":381.9},{"$f":"IFERROR((N66-$G$5)/$G$5,NA())","v":4.9666052826869672E-2},{"$f":"RTD(\"cqg.rtd\",,\"StudyData\", \"Close(\"&$D$12&\") when LocalYear(\"&$D$12&\")=\"&$D$5&\" and localMonth(\"&$D$12&\") =\"&$E$5&\" and LocalDay(\"&$D$12&\")=\"&$F$5&\" and Barix(\"&$D$12&\",reference:=StartOfSession)=\"&A66&\"\", \"Bar\", \"\", \"Close\",\"5\",\"0\",\"PrimaryOnly\",,,\"False\",\"T\",\"EveryTick\")","v":362.18},{"$f":"IFERROR((P66-$G$6)/$G$6,NA())","v":2.0196431041638353E-3},{"$f":"RTD(\"cqg.rtd\",,\"StudyData\", \"Close(\"&$D$12&\") when LocalYear(\"&$D$12&\")=\"&$D$6&\" and localMonth(\"&$D$12&\") =\"&$E$6&\" and LocalDay(\"&$D$12&\")=\"&$F$6&\" and Barix(\"&$D$12&\",reference:=StartOfSession)=\"&A66&\"\", \"Bar\", \"\", \"Close\",\"5\",\"0\",\"PrimaryOnly\",,,\"False\",\"T\",\"EveryTick\")","v":361.82},{"$f":"IFERROR((R66-$G$7)/$G$7,NA())","v":3.4667332279446432E-3},{"$f":"RTD(\"cqg.rtd\",,\"StudyData\", \"Close(\"&$D$12&\") when LocalYear(\"&$D$12&\")=\"&$D$7&\" and localMonth(\"&$D$12&\") =\"&$E$7&\" and LocalDay(\"&$D$12&\")=\"&$F$7&\" and Barix(\"&$D$12&\",reference:=StartOfSession)=\"&A66&\"\", \"Bar\", \"\", \"Close\",\"5\",\"0\",\"PrimaryOnly\",,,\"False\",\"T\",\"EveryTick\")","v":359.79},{"$f":"IFERROR((T66-$G$8)/$G$8,NA())","v":-4.4548976203651267E-3},{"$f":"RTD(\"cqg.rtd\",,\"StudyData\", \"Close(\"&$D$12&\") when LocalYear(\"&$D$12&\")=\"&$D$8&\" and localMonth(\"&$D$12&\") =\"&$E$8&\" and LocalDay(\"&$D$12&\")=\"&$F$8&\" and Barix(\"&$D$12&\",reference:=StartOfSession)=\"&A66&\"\", \"Bar\", \"\", \"Close\",\"5\",\"0\",\"PrimaryOnly\",,,\"False\",\"T\",\"EveryTick\")","v":360.5},{"$f":"IFERROR((V66-$G$9)/$G$9,NA())","v":-1.8914137977956155E-2},{"$f":"RTD(\"cqg.rtd\",,\"StudyData\", \"Close(\"&$D$12&\") when LocalYear(\"&$D$12&\")=\"&$D$9&\" and localMonth(\"&$D$12&\") =\"&$E$9&\" and LocalDay(\"&$D$12&\")=\"&$F$9&\" and Barix(\"&$D$12&\",reference:=StartOfSession)=\"&A66&\"\", \"Bar\", \"\", \"Close\",\"5\",\"0\",\"PrimaryOnly\",,,\"False\",\"T\",\"EveryTick\")","v":365.06},{"$f":"IFERROR((X66-$G$10)/$G$10,NA())","v":-2.0229633679606589E-3},{"$f":"RTD(\"cqg.rtd\",,\"StudyData\", \"Close(\"&$D$12&\") when LocalYear(\"&$D$12&\")=\"&$D$10&\" and localMonth(\"&$D$12&\") =\"&$E$10&\" and LocalDay(\"&$D$12&\")=\"&$F$10&\" and Barix(\"&$D$12&\",reference:=StartOfSession)=\"&A66&\"\", \"Bar\", \"\", \"Close\",\"5\",\"0\",\"PrimaryOnly\",,,\"False\",\"T\",\"EveryTick\")","v":366.65},{"$f":"IFERROR((Z66-$G$11)/$G$11,NA())","v":1.3377186921312222E-2},null,null,null,""]
[{"$f":"A66+1","v":66},"14:00:00",-11,{"$f":" RTD(\"cqg.rtd\",,\"StudyData\", $D$12,  \"Tick\", \"FlatTicks=0\", \"Tick\",\"D\",C67,\"PrimaryOnly\")","v":391.29},null,null,null,{"$f":"RTD(\"cqg.rtd\",,\"StudyData\", \"Close(\"&$D$12&\") when LocalYear(\"&$D$12&\")=\"&$D$1&\" and localMonth(\"&$D$12&\") =\"&$E$1&\" and LocalDay(\"&$D$12&\")=\"&$F$1&\" and Barix(\"&$D$12&\",reference:=StartOfSession)=\"&A67&\"\", \"Bar\", \"\", \"Close\",\"5\",\"0\",\"PrimaryOnly\",,,\"False\",\"T\",\"EveryTick\")","v":""},{"$f":"IFERROR((H67-$G$2)/$G$2,NA())","v":{"$error":"#N/A"}},{"$f":"RTD(\"cqg.rtd\",,\"StudyData\", \"Close(\"&$D$12&\") when LocalYear(\"&$D$12&\")=\"&$D$2&\" and localMonth(\"&$D$12&\") =\"&$E$2&\" and LocalDay(\"&$D$12&\")=\"&$F$2&\" and Barix(\"&$D$12&\",reference:=StartOfSession)=\"&A67&\"\", \"Bar\", \"\", \"Close\",\"5\",\"0\",\"PrimaryOnly\",,,\"False\",\"T\",\"EveryTick\")","v":393.11},6.1088909817499199E-4,{"$f":"RTD(\"cqg.rtd\",,\"StudyData\", \"Close(\"&$D$12&\") when LocalYear(\"&$D$12&\")=\"&$D$3&\" and localMonth(\"&$D$12&\") =\"&$E$3&\" and LocalDay(\"&$D$12&\")=\"&$F$3&\" and Barix(\"&$D$12&\",reference:=StartOfSession)=\"&A67&\"\", \"Bar\", \"\", \"Close\",\"5\",\"0\",\"PrimaryOnly\",,,\"False\",\"T\",\"EveryTick\")","v":393.07},3.458531834811672E-2,{"$f":"RTD(\"cqg.rtd\",,\"StudyData\", \"Close(\"&$D$12&\") when LocalYear(\"&$D$12&\")=\"&$D$4&\" and localMonth(\"&$D$12&\") =\"&$E$4&\" and LocalDay(\"&$D$12&\")=\"&$F$4&\" and Barix(\"&$D$12&\",reference:=StartOfSession)=\"&A67&\"\", \"Bar\", \"\", \"Close\",\"5\",\"0\",\"PrimaryOnly\",,,\"False\",\"T\",\"EveryTick\")","v":381.57},4.8759035813429379E-2,{"$f":"RTD(\"cqg.rtd\",,\"StudyData\", \"Close(\"&$D$12&\") when LocalYear(\"&$D$12&\")=\"&$D$5&\" and localMonth(\"&$D$12&\") =\"&$E$5&\" and LocalDay(\"&$D$12&\")=\"&$F$5&\" and Barix(\"&$D$12&\",reference:=StartOfSession)=\"&A67&\"\", \"Bar\", \"\", \"Close\",\"5\",\"0\",\"PrimaryOnly\",,,\"False\",\"T\",\"EveryTick\")","v":362.52},2.9602987965140219E-3,{"$f":"RTD(\"cqg.rtd\",,\"StudyData\", \"Close(\"&$D$12&\") when LocalYear(\"&$D$12&\")=\"&$D$6&\" and localMonth(\"&$D$12&\") =\"&$E$6&\" and LocalDay(\"&$D$12&\")=\"&$F$6&\" and Barix(\"&$D$12&\",reference:=StartOfSession)=\"&A67&\"\", \"Bar\", \"\", \"Close\",\"5\",\"0\",\"PrimaryOnly\",,,\"False\",\"T\",\"EveryTick\")","v":361.78},3.355797764650358E-3,{"$f":"RTD(\"cqg.rtd\",,\"StudyData\", \"Close(\"&$D$12&\") when LocalYear(\"&$D$12&\")=\"&$D$7&\" and localMonth(\"&$D$12&\") =\"&$E$7&\" and LocalDay(\"&$D$12&\")=\"&$F$7&\" and Barix(\"&$D$12&\",reference:=StartOfSession)=\"&A67&\"\", \"Bar\", \"\", \"Close\",\"5\",\"0\",\"PrimaryOnly\",,,\"False\",\"T\",\"EveryTick\")","v":360.22},-3.2650802434973716E-3,{"$f":"RTD(\"cqg.rtd\",,\"StudyData\", \"Close(\"&$D$12&\") when LocalYear(\"&$D$12&\")=\"&$D$8&\" and localMonth(\"&$D$12&\") =\"&$E$8&\" and LocalDay(\"&$D$12&\")=\"&$F$8&\" and Barix(\"&$D$12&\",reference:=StartOfSession)=\"&A67&\"\", \"Bar\", \"\", \"Close\",\"5\",\"0\",\"PrimaryOnly\",,,\"False\",\"T\",\"EveryTick\")","v":360.8},-1.8097700367396864E-2,{"$f":"RTD(\"cqg.rtd\",,\"StudyData\", \"Close(\"&$D$12&\") when LocalYear(\"&$D$12&\")=\"&$D$9&\" and localMonth(\"&$D$12&\") =\"&$E$9&\" and LocalDay(\"&$D$12&\")=\"&$F$9&\" and Barix(\"&$D$12&\",reference:=StartOfSession)=\"&A67&\"\", \"Bar\", \"\", \"Close\",\"5\",\"0\",\"PrimaryOnly\",,,\"False\",\"T\",\"EveryTick\")","v":365.22},-1.5855658829961293E-3,{"$f":"RTD(\"cqg.rtd\",,\"StudyData\", \"Close(\"&$D$12&\") when LocalYear(\"&$D$12&\")=\"&$D$10&\" and localMonth(\"&$D$12&\") =\"&$E$10&\" and LocalDay(\"&$D$12&\")=\"&$F$10&\" and Barix(\"&$D$12&\",reference:=StartOfSession)=\"&A67&\"\", \"Bar\", \"\", \"Close\",\"5\",\"0\",\"PrimaryOnly\",,,\"False\",\"T\",\"EveryTick\")","v":366.73},1.3598297448937332E-2,null,null,null,{"$f":"IF(AND(H66<>\"\",H67<>\"\",H68=\"\"),A67,\"\")","v":""}]
[67,"14:05:00",-10,{"$f":" RTD(\"cqg.rtd\",,\"StudyData\", $D$12,  \"Tick\", \"FlatTicks=0\", \"Tick\",\"D\",C68,\"PrimaryOnly\")","v":391.18},null,null,null,{"$f":"RTD(\"cqg.rtd\",,\"StudyData\", \"Close(\"&$D$12&\") when LocalYear(\"&$D$12&\")=\"&$D$1&\" and localMonth(\"&$D$12&\") =\"&$E$1&\" and LocalDay(\"&$D$12&\")=\"&$F$1&\" and Barix(\"&$D$12&\",reference:=StartOfSession)=\"&A68&\"\", \"Bar\", \"\", \"Close\",\"5\",\"0\",\"PrimaryOnly\",,,\"False\",\"T\",\"EveryTick\")","v":""},{"$error":"#N/A"},{"$f":"RTD(\"cqg.rtd\",,\"StudyData\", \"Close(\"&$D$12&\") when LocalYear(\"&$D$12&\")=\"&$D$2&\" and localMonth(\"&$D$12&\") =\"&$E$2&\" and LocalDay(\"&$D$12&\")=\"&$F$2&\" and Barix(\"&$D$12&\",reference:=StartOfSession)=\"&A68&\"\", \"Bar\", \"\", \"Close\",\"5\",\"0\",\"PrimaryOnly\",,,\"False\",\"T\",\"EveryTick\")","v":393.08},5.3452796090304564E-4,{"$f":"RTD(\"cqg.rtd\",,\"StudyData\", \"Close(\"&$D$12&\") when LocalYear(\"&$D$12&\")=\"&$D$3&\" and localMonth(\"&$D$12&\") =\"&$E$3&\" and LocalDay(\"&$D$12&\")=\"&$F$3&\" and Barix(\"&$D$12&\",reference:=StartOfSession)=\"&A68&\"\", \"Bar\", \"\", \"Close\",\"5\",\"0\",\"PrimaryOnly\",,,\"False\",\"T\",\"EveryTick\")","v":393.84},3.661200747506111E-2,{"$f":"RTD(\"cqg.rtd\",,\"StudyData\", \"Close(\"&$D$12&\") when LocalYear(\"&$D$12&\")=\"&$D$4&\" and localMonth(\"&$D$12&\") =\"&$E$4&\" and LocalDay(\"&$D$12&\")=\"&$F$4&\" and Barix(\"&$D$12&\",reference:=StartOfSession)=\"&A68&\"\", \"Bar\", \"\", \"Close\",\"5\",\"0\",\"PrimaryOnly\",,,\"False\",\"T\",\"EveryTick\")","v":381.38},4.8236813896600096E-2,{"$f":"RTD(\"cqg.rtd\",,\"StudyData\", \"Close(\"&$D$12&\") when LocalYear(\"&$D$12&\")=\"&$D$5&\" and localMonth(\"&$D$12&\") =\"&$E$5&\" and LocalDay(\"&$D$12&\")=\"&$F$5&\" and Barix(\"&$D$12&\",reference:=StartOfSession)=\"&A68&\"\", \"Bar\", \"\", \"Close\",\"5\",\"0\",\"PrimaryOnly\",,,\"False\",\"T\",\"EveryTick\")","v":362.61},3.2092958915480013E-3,{"$f":"RTD(\"cqg.rtd\",,\"StudyData\", \"Close(\"&$D$12&\") when LocalYear(\"&$D$12&\")=\"&$D$6&\" and localMonth(\"&$D$12&\") =\"&$E$6&\" and LocalDay(\"&$D$12&\")=\"&$F$6&\" and Barix(\"&$D$12&\",reference:=StartOfSession)=\"&A68&\"\", \"Bar\", \"\", \"Close\",\"5\",\"0\",\"PrimaryOnly\",,,\"False\",\"T\",\"EveryTick\")","v":361.75},3.2725961671797622E-3,{"$f":"RTD(\"cqg.rtd\",,\"StudyData\", \"Close(\"&$D$12&\") when LocalYear(\"&$D$12&\")=\"&$D$7&\" and localMonth(\"&$D$12&\") =\"&$E$7&\" and LocalDay(\"&$D$12&\")=\"&$F$7&\" and Barix(\"&$D$12&\",reference:=StartOfSession)=\"&A68&\"\", \"Bar\", \"\", \"Close\",\"5\",\"0\",\"PrimaryOnly\",,,\"False\",\"T\",\"EveryTick\")","v":360.06},-3.707802988378459E-3,{"$f":"RTD(\"cqg.rtd\",,\"StudyData\", \"Close(\"&$D$12&\") when LocalYear(\"&$D$12&\")=\"&$D$8&\" and localMonth(\"&$D$12&\") =\"&$E$8&\" and LocalDay(\"&$D$12&\")=\"&$F$8&\" and Barix(\"&$D$12&\",reference:=StartOfSession)=\"&A68&\"\", \"Bar\", \"\", \"Close\",\"5\",\"0\",\"PrimaryOnly\",,,\"False\",\"T\",\"EveryTick\")","v":360.35},-1.9322356783235722E-2,{"$f":"RTD(\"cqg.rtd\",,\"StudyData\", \"Close(\"&$D$12&\") when LocalYear(\"&$D$12&\")=\"&$D$9&\" and localMonth(\"&$D$12&\") =\"&$E$9&\" and LocalDay(\"&$D$12&\")=\"&$F$9&\" and Barix(\"&$D$12&\",reference:=StartOfSession)=\"&A68&\"\", \"Bar\", \"\", \"Close\",\"5\",\"0\",\"PrimaryOnly\",,,\"False\",\"T\",\"EveryTick\")","v":364.94},-2.3510114816840174E-3,{"$f":"RTD(\"cqg.rtd\",,\"StudyData\", \"Close(\"&$D$12&\") when LocalYear(\"&$D$12&\")=\"&$D$10&\" and localMonth(\"&$D$12&\") =\"&$E$10&\" and LocalDay(\"&$D$12&\")=\"&$F$10&\" and Barix(\"&$D$12&\",reference:=StartOfSession)=\"&A68&\"\", \"Bar\", \"\", \"Close\",\"5\",\"0\",\"PrimaryOnly\",,,\"False\",\"T\",\"EveryTick\")","v":366.8},1.3791769160609185E-2,null,null,null,""]
[68,"14:10:00",-9,{"$f":" RTD(\"cqg.rtd\",,\"StudyData\", $D$12,  \"Tick\", \"FlatTicks=0\", \"Tick\",\"D\",C69,\"PrimaryOnly\")","v":391.38},null,null,null,{"$f":"RTD(\"cqg.rtd\",,\"StudyData\", \"Close(\"&$D$12&\") when LocalYear(\"&$D$12&\")=\"&$D$1&\" and localMonth(\"&$D$12&\") =\"&$E$1&\" and LocalDay(\"&$D$12&\")=\"&$F$1&\" and Barix(\"&$D$12&\",reference:=StartOfSession)=\"&A69&\"\", \"Bar\", \"\", \"Close\",\"5\",\"0\",\"PrimaryOnly\",,,\"False\",\"T\",\"EveryTick\")","v":""},{"$error":"#N/A"},{"$f":"RTD(\"cqg.rtd\",,\"StudyData\", \"Close(\"&$D$12&\") when LocalYear(\"&$D$12&\")=\"&$D$2&\" and localMonth(\"&$D$12&\") =\"&$E$2&\" and LocalDay(\"&$D$12&\")=\"&$F$2&\" and Barix(\"&$D$12&\",reference:=StartOfSession)=\"&A69&\"\", \"Bar\", \"\", \"Close\",\"5\",\"0\",\"PrimaryOnly\",,,\"False\",\"T\",\"EveryTick\")","v":393.2},8.3997250999054158E-4,{"$f":"RTD(\"cqg.rtd\",,\"StudyData\", \"Close(\"&$D$12&\") when LocalYear(\"&$D$12&\")=\"&$D$3&\" and localMonth(\"&$D$12&\") =\"&$E$3&\" and LocalDay(\"&$D$12&\")=\"&$F$3&\" and Barix(\"&$D$12&\",reference:=StartOfSession)=\"&A69&\"\", \"Bar\", \"\", \"Close\",\"5\",\"0\",\"PrimaryOnly\",,,\"False\",\"T\",\"EveryTick\")","v":393.6},3.598031216276687E-2,{"$f":"RTD(\"cqg.rtd\",,\"StudyData\", \"Close(\"&$D$12&\") when LocalYear(\"&$D$12&\")=\"&$D$4&\" and localMonth(\"&$D$12&\") =\"&$E$4&\" and LocalDay(\"&$D$12&\")=\"&$F$4&\" and Barix(\"&$D$12&\",reference:=StartOfSession)=\"&A69&\"\", \"Bar\", \"\", \"Close\",\"5\",\"0\",\"PrimaryOnly\",,,\"False\",\"T\",\"EveryTick\")","v":382.32},5.0820438116702886E-2,{"$f":"RTD(\"cqg.rtd\",,\"StudyData\", \"Close(\"&$D$12&\") when LocalYear(\"&$D$12&\")=\"&$D$5&\" and localMonth(\"&$D$12&\") =\"&$E$5&\" and LocalDay(\"&$D$12&\")=\"&$F$5&\" and Barix(\"&$D$12&\",reference:=StartOfSession)=\"&A69&\"\", \"Bar\", \"\", \"Close\",\"5\",\"0\",\"PrimaryOnly\",,,\"False\",\"T\",\"EveryTick\")","v":362.86},3.900954488864366E-3,{"$f":"RTD(\"cqg.rtd\",,\"StudyData\", \"Close(\"&$D$12&\") when LocalYear(\"&$D$12&\")=\"&$D$6&\" and localMonth(\"&$D$12&\") =\"&$E$6&\" and LocalDay(\"&$D$12&\")=\"&$F$6&\" and Barix(\"&$D$12&\",reference:=StartOfSession)=\"&A69&\"\", \"Bar\", \"\", \"Close\",\"5\",\"0\",\"PrimaryOnly\",,,\"False\",\"T\",\"EveryTick\")","v":361.64},2.9675236431205955E-3,{"$f":"RTD(\"cqg.rtd\",,\"StudyData\", \"Close(\"&$D$12&\") when LocalYear(\"&$D$12&\")=\"&$D$7&\" and localMonth(\"&$D$12&\") =\"&$E$7&\" and LocalDay(\"&$D$12&\")=\"&$F$7&\" and Barix(\"&$D$12&\",reference:=StartOfSession)=\"&A69&\"\", \"Bar\", \"\", \"Close\",\"5\",\"0\",\"PrimaryOnly\",,,\"False\",\"T\",\"EveryTick\")","v":360.29},-3.0713890426119447E-3,{"$f":"RTD(\"cqg.rtd\",,\"StudyData\", \"Close(\"&$D$12&\") when LocalYear(\"&$D$12&\")=\"&$D$8&\" and localMonth(\"&$D$12&\") =\"&$E$8&\" and LocalDay(\"&$D$12&\")=\"&$F$8&\" and Barix(\"&$D$12&\",reference:=StartOfSession)=\"&A69&\"\", \"Bar\", \"\", \"Close\",\"5\",\"0\",\"PrimaryOnly\",,,\"False\",\"T\",\"EveryTick\")","v":360.55},-1.8778065042862915E-2,{"$f":"RTD(\"cqg.rtd\",,\"StudyData\", \"Close(\"&$D$12&\") when LocalYear(\"&$D$12&\")=\"&$D$9&\" and localMonth(\"&$D$12&\") =\"&$E$9&\" and LocalDay(\"&$D$12&\")=\"&$F$9&\" and Barix(\"&$D$12&\",reference:=StartOfSession)=\"&A69&\"\", \"Bar\", \"\", \"Close\",\"5\",\"0\",\"PrimaryOnly\",,,\"False\",\"T\",\"EveryTick\")","v":364.81},-2.7063969382176301E-3,{"$f":"RTD(\"cqg.rtd\",,\"StudyData\", \"Close(\"&$D$12&\") when LocalYear(\"&$D$12&\")=\"&$D$10&\" and localMonth(\"&$D$12&\") =\"&$E$10&\" and LocalDay(\"&$D$12&\")=\"&$F$10&\" and Barix(\"&$D$12&\",reference:=StartOfSession)=\"&A69&\"\", \"Bar\", \"\", \"Close\",\"5\",\"0\",\"PrimaryOnly\",,,\"False\",\"T\",\"EveryTick\")","v":366.36},1.2575661258671709E-2,null,null,null,""]
[69,"14:15:00",-8,{"$f":" RTD(\"cqg.rtd\",,\"StudyData\", $D$12,  \"Tick\", \"FlatTicks=0\", \"Tick\",\"D\",C70,\"PrimaryOnly\")","v":391.29},null,null,null,{"$f":"RTD(\"cqg.rtd\",,\"StudyData\", \"Close(\"&$D$12&\") when LocalYear(\"&$D$12&\")=\"&$D$1&\" and localMonth(\"&$D$12&\") =\"&$E$1&\" and LocalDay(\"&$D$12&\")=\"&$F$1&\" and Barix(\"&$D$12&\",reference:=StartOfSession)=\"&A70&\"\", \"Bar\", \"\", \"Close\",\"5\",\"0\",\"PrimaryOnly\",,,\"False\",\"T\",\"EveryTick\")","v":""},{"$error":"#N/A"},{"$f":"RTD(\"cqg.rtd\",,\"StudyData\", \"Close(\"&$D$12&\") when LocalYear(\"&$D$12&\")=\"&$D$2&\" and localMonth(\"&$D$12&\") =\"&$E$2&\" and LocalDay(\"&$D$12&\")=\"&$F$2&\" and Barix(\"&$D$12&\",reference:=StartOfSession)=\"&A70&\"\", \"Bar\", \"\", \"Close\",\"5\",\"0\",\"PrimaryOnly\",,,\"False\",\"T\",\"EveryTick\")","v":393.09},5.5998167332697954E-4,{"$f":"RTD(\"cqg.rtd\",,\"StudyData\", \"Close(\"&$D$12&\") when LocalYear(\"&$D$12&\")=\"&$D$3&\" and localMonth(\"&$D$12&\") =\"&$E$3&\" and LocalDay(\"&$D$12&\")=\"&$F$3&\" and Barix(\"&$D$12&\",reference:=StartOfSession)=\"&A70&\"\", \"Bar\", \"\", \"Close\",\"5\",\"0\",\"PrimaryOnly\",,,\"False\",\"T\",\"EveryTick\")","v":393.6},3.598031216276687E-2,{"$f":"RTD(\"cqg.rtd\",,\"StudyData\", \"Close(\"&$D$12&\") when LocalYear(\"&$D$12&\")=\"&$D$4&\" and localMonth(\"&$D$12&\") =\"&$E$4&\" and LocalDay(\"&$D$12&\")=\"&$F$4&\" and Barix(\"&$D$12&\",reference:=StartOfSession)=\"&A70&\"\", \"Bar\", \"\", \"Close\",\"5\",\"0\",\"PrimaryOnly\",,,\"False\",\"T\",\"EveryTick\")","v":382.35},5.0902894208833906E-2,{"$f":"RTD(\"cqg.rtd\",,\"StudyData\", \"Close(\"&$D$12&\") when LocalYear(\"&$D$12&\")=\"&$D$5&\" and localMonth(\"&$D$12&\") =\"&$E$5&\" and LocalDay(\"&$D$12&\")=\"&$F$5&\" and Barix(\"&$D$12&\",reference:=StartOfSession)=\"&A70&\"\", \"Bar\", \"\", \"Close\",\"5\",\"0\",\"PrimaryOnly\",,,\"False\",\"T\",\"EveryTick\")","v":363.06},4.4542813667174264E-3,{"$f":"RTD(\"cqg.rtd\",,\"StudyData\", \"Close(\"&$D$12&\") when LocalYear(\"&$D$12&\")=\"&$D$6&\" and localMonth(\"&$D$12&\") =\"&$E$6&\" and LocalDay(\"&$D$12&\")=\"&$F$6&\" and Barix(\"&$D$12&\",reference:=StartOfSession)=\"&A70&\"\", \"Bar\", \"\", \"Close\",\"5\",\"0\",\"PrimaryOnly\",,,\"False\",\"T\",\"EveryTick\")","v":361.24},1.8581690101783729E-3,{"$f":"RTD(\"cqg.rtd\",,\"StudyData\", \"Close(\"&$D$12&\") when LocalYear(\"&$D$12&\")=\"&$D$7&\" and localMonth(\"&$D$12&\") =\"&$E$7&\" and LocalDay(\"&$D$12&\")=\"&$F$7&\" and Barix(\"&$D$12&\",reference:=StartOfSession)=\"&A70&\"\", \"Bar\", \"\", \"Close\",\"5\",\"0\",\"PrimaryOnly\",,,\"False\",\"T\",\"EveryTick\")","v":359.9},-4.1505257332595464E-3,{"$f":"RTD(\"cqg.rtd\",,\"StudyData\", \"Close(\"&$D$12&\") when LocalYear(\"&$D$12&\")=\"&$D$8&\" and localMonth(\"&$D$12&\") =\"&$E$8&\" and LocalDay(\"&$D$12&\")=\"&$F$8&\" and Barix(\"&$D$12&\",reference:=StartOfSession)=\"&A70&\"\", \"Bar\", \"\", \"Close\",\"5\",\"0\",\"PrimaryOnly\",,,\"False\",\"T\",\"EveryTick\")","v":360.7},-1.8369846237583344E-2,{"$f":"RTD(\"cqg.rtd\",,\"StudyData\", \"Close(\"&$D$12&\") when LocalYear(\"&$D$12&\")=\"&$D$9&\" and localMonth(\"&$D$12&\") =\"&$E$9&\" and LocalDay(\"&$D$12&\")=\"&$F$9&\" and Barix(\"&$D$12&\",reference:=StartOfSession)=\"&A70&\"\", \"Bar\", \"\", \"Close\",\"5\",\"0\",\"PrimaryOnly\",,,\"False\",\"T\",\"EveryTick\")","v":364.61},-3.2531437944231757E-3,{"$f":"RTD(\"cqg.rtd\",,\"StudyData\", \"Close(\"&$D$12&\") when LocalYear(\"&$D$12&\")=\"&$D$10&\" and localMonth(\"&$D$12&\") =\"&$E$10&\" and LocalDay(\"&$D$12&\")=\"&$F$10&\" and Barix(\"&$D$12&\",reference:=StartOfSession)=\"&A70&\"\", \"Bar\", \"\", \"Close\",\"5\",\"0\",\"PrimaryOnly\",,,\"False\",\"T\",\"EveryTick\")","v":366.71},1.3543019817030976E-2,null,null,null,""]
[70,"14:20:00",-7,{"$f":" RTD(\"cqg.rtd\",,\"StudyData\", $D$12,  \"Tick\", \"FlatTicks=0\", \"Tick\",\"D\",C71,\"PrimaryOnly\")","v":391.31},null,null,null,{"$f":"RTD(\"cqg.rtd\",,\"StudyData\", \"Close(\"&$D$12&\") when LocalYear(\"&$D$12&\")=\"&$D$1&\" and localMonth(\"&$D$12&\") =\"&$E$1&\" and LocalDay(\"&$D$12&\")=\"&$F$1&\" and Barix(\"&$D$12&\",reference:=StartOfSession)=\"&A71&\"\", \"Bar\", \"\", \"Close\",\"5\",\"0\",\"PrimaryOnly\",,,\"False\",\"T\",\"EveryTick\")","v":""},{"$error":"#N/A"},{"$f":"RTD(\"cqg.rtd\",,\"StudyData\", \"Close(\"&$D$12&\") when LocalYear(\"&$D$12&\")=\"&$D$2&\" and localMonth(\"&$D$12&\") =\"&$E$2&\" and LocalDay(\"&$D$12&\")=\"&$F$2&\" and Barix(\"&$D$12&\",reference:=StartOfSession)=\"&A71&\"\", \"Bar\", \"\", \"Close\",\"5\",\"0\",\"PrimaryOnly\",,,\"False\",\"T\",\"EveryTick\")","v":393.01},3.5635197393536376E-4,{"$f":"RTD(\"cqg.rtd\",,\"StudyData\", \"Close(\"&$D$12&\") when LocalYear(\"&$D$12&\")=\"&$D$3&\" and localMonth(\"&$D$12&\") =\"&$E$3&\" and LocalDay(\"&$D$12&\")=\"&$F$3&\" and Barix(\"&$D$12&\",reference:=StartOfSession)=\"&A71&\"\", \"Bar\", \"\", \"Close\",\"5\",\"0\",\"PrimaryOnly\",,,\"False\",\"T\",\"EveryTick\")","v":393.06},3.4558997710104483E-2,{"$f":"RTD(\"cqg.rtd\",,\"StudyData\", \"Close(\"&$D$12&\") when LocalYear(\"&$D$12&\")=\"&$D$4&\" and localMonth(\"&$D$12&\") =\"&$E$4&\" and LocalDay(\"&$D$12&\")=\"&$F$4&\" and Barix(\"&$D$12&\",reference:=StartOfSession)=\"&A71&\"\", \"Bar\", \"\", \"Close\",\"5\",\"0\",\"PrimaryOnly\",,,\"False\",\"T\",\"EveryTick\")","v":382.19},5.046312838413549E-2,{"$f":"RTD(\"cqg.rtd\",,\"StudyData\", \"Close(\"&$D$12&\") when LocalYear(\"&$D$12&\")=\"&$D$5&\" and localMonth(\"&$D$12&\") =\"&$E$5&\" and LocalDay(\"&$D$12&\")=\"&$F$5&\" and Barix(\"&$D$12&\",reference:=StartOfSession)=\"&A71&\"\", \"Bar\", \"\", \"Close\",\"5\",\"0\",\"PrimaryOnly\",,,\"False\",\"T\",\"EveryTick\")","v":363.04},4.3989486789321672E-3,{"$f":"RTD(\"cqg.rtd\",,\"StudyData\", \"Close(\"&$D$12&\") when LocalYear(\"&$D$12&\")=\"&$D$6&\" and localMonth(\"&$D$12&\") =\"&$E$6&\" and LocalDay(\"&$D$12&\")=\"&$F$6&\" and Barix(\"&$D$12&\",reference:=StartOfSession)=\"&A71&\"\", \"Bar\", \"\", \"Close\",\"5\",\"0\",\"PrimaryOnly\",,,\"False\",\"T\",\"EveryTick\")","v":361.2},1.7472335468840877E-3,{"$f":"RTD(\"cqg.rtd\",,\"StudyData\", \"Close(\"&$D$12&\") when LocalYear(\"&$D$12&\")=\"&$D$7&\" and localMonth(\"&$D$12&\") =\"&$E$7&\" and LocalDay(\"&$D$12&\")=\"&$F$7&\" and Barix(\"&$D$12&\",reference:=StartOfSession)=\"&A71&\"\", \"Bar\", \"\", \"Close\",\"5\",\"0\",\"PrimaryOnly\",,,\"False\",\"T\",\"EveryTick\")","v":359.99},-3.9014941892638855E-3,{"$f":"RTD(\"cqg.rtd\",,\"StudyData\", \"Close(\"&$D$12&\") when LocalYear(\"&$D$12&\")=\"&$D$8&\" and localMonth(\"&$D$12&\") =\"&$E$8&\" and LocalDay(\"&$D$12&\")=\"&$F$8&\" and Barix(\"&$D$12&\",reference:=StartOfSession)=\"&A71&\"\", \"Bar\", \"\", \"Close\",\"5\",\"0\",\"PrimaryOnly\",,,\"False\",\"T\",\"EveryTick\")","v":360.76},-1.8206558715471489E-2,{"$f":"RTD(\"cqg.rtd\",,\"StudyData\", \"Close(\"&$D$12&\") when LocalYear(\"&$D$12&\")=\"&$D$9&\" and localMonth(\"&$D$12&\") =\"&$E$9&\" and LocalDay(\"&$D$12&\")=\"&$F$9&\" and Barix(\"&$D$12&\",reference:=StartOfSession)=\"&A71&\"\", \"Bar\", \"\", \"Close\",\"5\",\"0\",\"PrimaryOnly\",,,\"False\",\"T\",\"EveryTick\")","v":364.46},-3.6632039365774517E-3,{"$f":"RTD(\"cqg.rtd\",,\"StudyData\", \"Close(\"&$D$12&\") when LocalYear(\"&$D$12&\")=\"&$D$10&\" and localMonth(\"&$D$12&\") =\"&$E$10&\" and LocalDay(\"&$D$12&\")=\"&$F$10&\" and Barix(\"&$D$12&\",reference:=StartOfSession)=\"&A71&\"\", \"Bar\", \"\", \"Close\",\"5\",\"0\",\"PrimaryOnly\",,,\"False\",\"T\",\"EveryTick\")","v":365.53},1.0281639534562258E-2,null,null,null,""]
[71,"14:25:00",-6,{"$f":" RTD(\"cqg.rtd\",,\"StudyData\", $D$12,  \"Tick\", \"FlatTicks=0\", \"Tick\",\"D\",C72,\"PrimaryOnly\")","v":391.3},null,null,null,{"$f":"RTD(\"cqg.rtd\",,\"StudyData\", \"Close(\"&$D$12&\") when LocalYear(\"&$D$12&\")=\"&$D$1&\" and localMonth(\"&$D$12&\") =\"&$E$1&\" and LocalDay(\"&$D$12&\")=\"&$F$1&\" and Barix(\"&$D$12&\",reference:=StartOfSession)=\"&A72&\"\", \"Bar\", \"\", \"Close\",\"5\",\"0\",\"PrimaryOnly\",,,\"False\",\"T\",\"EveryTick\")","v":""},{"$error":"#N/A"},{"$f":"RTD(\"cqg.rtd\",,\"StudyData\", \"Close(\"&$D$12&\") when LocalYear(\"&$D$12&\")=\"&$D$2&\" and localMonth(\"&$D$12&\") =\"&$E$2&\" and LocalDay(\"&$D$12&\")=\"&$F$2&\" and Barix(\"&$D$12&\",reference:=StartOfSession)=\"&A72&\"\", \"Bar\", \"\", \"Close\",\"5\",\"0\",\"PrimaryOnly\",,,\"False\",\"T\",\"EveryTick\")","v":392.61},-6.617965230228597E-4,{"$f":"RTD(\"cqg.rtd\",,\"StudyData\", \"Close(\"&$D$12&\") when LocalYear(\"&$D$12&\")=\"&$D$3&\" and localMonth(\"&$D$12&\") =\"&$E$3&\" and LocalDay(\"&$D$12&\")=\"&$F$3&\" and Barix(\"&$D$12&\",reference:=StartOfSession)=\"&A72&\"\", \"Bar\", \"\", \"Close\",\"5\",\"0\",\"PrimaryOnly\",,,\"False\",\"T\",\"EveryTick\")","v":393.26},3.5085410470349757E-2,{"$f":"RTD(\"cqg.rtd\",,\"StudyData\", \"Close(\"&$D$12&\") when LocalYear(\"&$D$12&\")=\"&$D$4&\" and localMonth(\"&$D$12&\") =\"&$E$4&\" and LocalDay(\"&$D$12&\")=\"&$F$4&\" and Barix(\"&$D$12&\",reference:=StartOfSession)=\"&A72&\"\", \"Bar\", \"\", \"Close\",\"5\",\"0\",\"PrimaryOnly\",,,\"False\",\"T\",\"EveryTick\")","v":381.49},4.8539152901080247E-2,{"$f":"RTD(\"cqg.rtd\",,\"StudyData\", \"Close(\"&$D$12&\") when LocalYear(\"&$D$12&\")=\"&$D$5&\" and localMonth(\"&$D$12&\") =\"&$E$5&\" and LocalDay(\"&$D$12&\")=\"&$F$5&\" and Barix(\"&$D$12&\",reference:=StartOfSession)=\"&A72&\"\", \"Bar\", \"\", \"Close\",\"5\",\"0\",\"PrimaryOnly\",,,\"False\",\"T\",\"EveryTick\")","v":363.12},4.6202794300733603E-3,{"$f":"RTD(\"cqg.rtd\",,\"StudyData\", \"Close(\"&$D$12&\") when LocalYear(\"&$D$12&\")=\"&$D$6&\" and localMonth(\"&$D$12&\") =\"&$E$6&\" and LocalDay(\"&$D$12&\")=\"&$F$6&\" and Barix(\"&$D$12&\",reference:=StartOfSession)=\"&A72&\"\", \"Bar\", \"\", \"Close\",\"5\",\"0\",\"PrimaryOnly\",,,\"False\",\"T\",\"EveryTick\")","v":361.28},1.9691044734725005E-3,{"$f":"RTD(\"cqg.rtd\",,\"StudyData\", \"Close(\"&$D$12&\") when LocalYear(\"&$D$12&\")=\"&$D$7&\" and localMonth(\"&$D$12&\") =\"&$E$7&\" and LocalDay(\"&$D$12&\")=\"&$F$7&\" and Barix(\"&$D$12&\",reference:=StartOfSession)=\"&A72&\"\", \"Bar\", \"\", \"Close\",\"5\",\"0\",\"PrimaryOnly\",,,\"False\",\"T\",\"EveryTick\")","v":360},-3.8738240177088471E-3,{"$f":"RTD(\"cqg.rtd\",,\"StudyData\", \"Close(\"&$D$12&\") when LocalYear(\"&$D$12&\")=\"&$D$8&\" and localMonth(\"&$D$12&\") =\"&$E$8&\" and LocalDay(\"&$D$12&\")=\"&$F$8&\" and Barix(\"&$D$12&\",reference:=StartOfSession)=\"&A72&\"\", \"Bar\", \"\", \"Close\",\"5\",\"0\",\"PrimaryOnly\",,,\"False\",\"T\",\"EveryTick\")","v":360.43},-1.9104640087086629E-2,{"$f":"RTD(\"cqg.rtd\",,\"StudyData\", \"Close(\"&$D$12&\") when LocalYear(\"&$D$12&\")=\"&$D$9&\" and localMonth(\"&$D$12&\") =\"&$E$9&\" and LocalDay(\"&$D$12&\")=\"&$F$9&\" and Barix(\"&$D$12&\",reference:=StartOfSession)=\"&A72&\"\", \"Bar\", \"\", \"Close\",\"5\",\"0\",\"PrimaryOnly\",,,\"False\",\"T\",\"EveryTick\")","v":364.24},-4.2646254784035054E-3,{"$f":"RTD(\"cqg.rtd\",,\"StudyData\", \"Close(\"&$D$12&\") when LocalYear(\"&$D$12&\")=\"&$D$10&\" and localMonth(\"&$D$12&\") =\"&$E$10&\" and LocalDay(\"&$D$12&\")=\"&$F$10&\" and Barix(\"&$D$12&\",reference:=StartOfSession)=\"&A72&\"\", \"Bar\", \"\", \"Close\",\"5\",\"0\",\"PrimaryOnly\",,,\"False\",\"T\",\"EveryTick\")","v":365.46},1.0088167822890404E-2,null,null,null,""]
[72,"14:30:00",-5,{"$f":" RTD(\"cqg.rtd\",,\"StudyData\", $D$12,  \"Tick\", \"FlatTicks=0\", \"Tick\",\"D\",C73,\"PrimaryOnly\")","v":391.24},null,null,null,{"$f":"RTD(\"cqg.rtd\",,\"StudyData\", \"Close(\"&$D$12&\") when LocalYear(\"&$D$12&\")=\"&$D$1&\" and localMonth(\"&$D$12&\") =\"&$E$1&\" and LocalDay(\"&$D$12&\")=\"&$F$1&\" and Barix(\"&$D$12&\",reference:=StartOfSession)=\"&A73&\"\", \"Bar\", \"\", \"Close\",\"5\",\"0\",\"PrimaryOnly\",,,\"False\",\"T\",\"EveryTick\")","v":""},{"$error":"#N/A"},{"$f":"RTD(\"cqg.rtd\",,\"StudyData\", \"Close(\"&$D$12&\") when LocalYear(\"&$D$12&\")=\"&$D$2&\" and localMonth(\"&$D$12&\") =\"&$E$2&\" and LocalDay(\"&$D$12&\")=\"&$F$2&\" and Barix(\"&$D$12&\",reference:=StartOfSession)=\"&A73&\"\", \"Bar\", \"\", \"Close\",\"5\",\"0\",\"PrimaryOnly\",,,\"False\",\"T\",\"EveryTick\")","v":392.94},1.7817598696768188E-4,{"$f":"RTD(\"cqg.rtd\",,\"StudyData\", \"Close(\"&$D$12&\") when LocalYear(\"&$D$12&\")=\"&$D$3&\" and localMonth(\"&$D$12&\") =\"&$E$3&\" and LocalDay(\"&$D$12&\")=\"&$F$3&\" and Barix(\"&$D$12&\",reference:=StartOfSession)=\"&A73&\"\", \"Bar\", \"\", \"Close\",\"5\",\"0\",\"PrimaryOnly\",,,\"False\",\"T\",\"EveryTick\")","v":392.77},3.3795699207748726E-2,{"$f":"RTD(\"cqg.rtd\",,\"StudyData\", \"Close(\"&$D$12&\") when LocalYear(\"&$D$12&\")=\"&$D$4&\" and localMonth(\"&$D$12&\") =\"&$E$4&\" and LocalDay(\"&$D$12&\")=\"&$F$4&\" and Barix(\"&$D$12&\",reference:=StartOfSession)=\"&A73&\"\", \"Bar\", \"\", \"Close\",\"5\",\"0\",\"PrimaryOnly\",,,\"False\",\"T\",\"EveryTick\")","v":380.94},4.7027457878679645E-2,{"$f":"RTD(\"cqg.rtd\",,\"StudyData\", \"Close(\"&$D$12&\") when LocalYear(\"&$D$12&\")=\"&$D$5&\" and localMonth(\"&$D$12&\") =\"&$E$5&\" and LocalDay(\"&$D$12&\")=\"&$F$5&\" and Barix(\"&$D$12&\",reference:=StartOfSession)=\"&A73&\"\", \"Bar\", \"\", \"Close\",\"5\",\"0\",\"PrimaryOnly\",,,\"False\",\"T\",\"EveryTick\")","v":363.3},5.1182736201411611E-3,{"$f":"RTD(\"cqg.rtd\",,\"StudyData\", \"Close(\"&$D$12&\") when LocalYear(\"&$D$12&\")=\"&$D$6&\" and localMonth(\"&$D$12&\") =\"&$E$6&\" and LocalDay(\"&$D$12&\")=\"&$F$6&\" and Barix(\"&$D$12&\",reference:=StartOfSession)=\"&A73&\"\", \"Bar\", \"\", \"Close\",\"5\",\"0\",\"PrimaryOnly\",,,\"False\",\"T\",\"EveryTick\")","v":361.37},2.2187092658846031E-3,{"$f":"RTD(\"cqg.rtd\",,\"StudyData\", \"Close(\"&$D$12&\") when LocalYear(\"&$D$12&\")=\"&$D$7&\" and localMonth(\"&$D$12&\") =\"&$E$7&\" and LocalDay(\"&$D$12&\")=\"&$F$7&\" and Barix(\"&$D$12&\",reference:=StartOfSession)=\"&A73&\"\", \"Bar\", \"\", \"Close\",\"5\",\"0\",\"PrimaryOnly\",,,\"False\",\"T\",\"EveryTick\")","v":360.27},-3.126729385722179E-3,{"$f":"RTD(\"cqg.rtd\",,\"StudyData\", \"Close(\"&$D$12&\") when LocalYear(\"&$D$12&\")=\"&$D$8&\" and localMonth(\"&$D$12&\") =\"&$E$8&\" and LocalDay(\"&$D$12&\")=\"&$F$8&\" and Barix(\"&$D$12&\",reference:=StartOfSession)=\"&A73&\"\", \"Bar\", \"\", \"Close\",\"5\",\"0\",\"PrimaryOnly\",,,\"False\",\"T\",\"EveryTick\")","v":360.66},-1.8478704585657812E-2,{"$f":"RTD(\"cqg.rtd\",,\"StudyData\", \"Close(\"&$D$12&\") when LocalYear(\"&$D$12&\")=\"&$D$9&\" and localMonth(\"&$D$12&\") =\"&$E$9&\" and LocalDay(\"&$D$12&\")=\"&$F$9&\" and Barix(\"&$D$12&\",reference:=StartOfSession)=\"&A73&\"\", \"Bar\", \"\", \"Close\",\"5\",\"0\",\"PrimaryOnly\",,,\"False\",\"T\",\"EveryTick\")","v":364.24},-4.2646254784035054E-3,{"$f":"RTD(\"cqg.rtd\",,\"StudyData\", \"Close(\"&$D$12&\") when LocalYear(\"&$D$12&\")=\"&$D$10&\" and localMonth(\"&$D$12&\") =\"&$E$10&\" and LocalDay(\"&$D$12&\")=\"&$F$10&\" and Barix(\"&$D$12&\",reference:=StartOfSession)=\"&A73&\"\", \"Bar\", \"\", \"Close\",\"5\",\"0\",\"PrimaryOnly\",,,\"False\",\"T\",\"EveryTick\")","v":365.31},9.673585583593599E-3,null,null,null,""]
[73,"14:35:00",-4,{"$f":" RTD(\"cqg.rtd\",,\"StudyData\", $D$12,  \"Tick\", \"FlatTicks=0\", \"Tick\",\"D\",C74,\"PrimaryOnly\")","v":391.37},null,null,null,{"$f":"RTD(\"cqg.rtd\",,\"StudyData\", \"Close(\"&$D$12&\") when LocalYear(\"&$D$12&\")=\"&$D$1&\" and localMonth(\"&$D$12&\") =\"&$E$1&\" and LocalDay(\"&$D$12&\")=\"&$F$1&\" and Barix(\"&$D$12&\",reference:=StartOfSession)=\"&A74&\"\", \"Bar\", \"\", \"Close\",\"5\",\"0\",\"PrimaryOnly\",,,\"False\",\"T\",\"EveryTick\")","v":""},{"$error":"#N/A"},{"$f":"RTD(\"cqg.rtd\",,\"StudyData\", \"Close(\"&$D$12&\") when LocalYear(\"&$D$12&\")=\"&$D$2&\" and localMonth(\"&$D$12&\") =\"&$E$2&\" and LocalDay(\"&$D$12&\")=\"&$F$2&\" and Barix(\"&$D$12&\",reference:=StartOfSession)=\"&A74&\"\", \"Bar\", \"\", \"Close\",\"5\",\"0\",\"PrimaryOnly\",,,\"False\",\"T\",\"EveryTick\")","v":393.1},5.8543538575105808E-4,{"$f":"RTD(\"cqg.rtd\",,\"StudyData\", \"Close(\"&$D$12&\") when LocalYear(\"&$D$12&\")=\"&$D$3&\" and localMonth(\"&$D$12&\") =\"&$E$3&\" and LocalDay(\"&$D$12&\")=\"&$F$3&\" and Barix(\"&$D$12&\",reference:=StartOfSession)=\"&A74&\"\", \"Bar\", \"\", \"Close\",\"5\",\"0\",\"PrimaryOnly\",,,\"False\",\"T\",\"EveryTick\")","v":392.72},3.3664096017687523E-2,{"$f":"RTD(\"cqg.rtd\",,\"StudyData\", \"Close(\"&$D$12&\") when LocalYear(\"&$D$12&\")=\"&$D$4&\" and localMonth(\"&$D$12&\") =\"&$E$4&\" and LocalDay(\"&$D$12&\")=\"&$F$4&\" and Barix(\"&$D$12&\",reference:=StartOfSession)=\"&A74&\"\", \"Bar\", \"\", \"Close\",\"5\",\"0\",\"PrimaryOnly\",,,\"False\",\"T\",\"EveryTick\")","v":379.51},4.3097050820438139E-2,{"$f":"RTD(\"cqg.rtd\",,\"StudyData\", \"Close(\"&$D$12&\") when LocalYear(\"&$D$12&\")=\"&$D$5&\" and localMonth(\"&$D$12&\") =\"&$E$5&\" and LocalDay(\"&$D$12&\")=\"&$F$5&\" and Barix(\"&$D$12&\",reference:=StartOfSession)=\"&A74&\"\", \"Bar\", \"\", \"Close\",\"5\",\"0\",\"PrimaryOnly\",,,\"False\",\"T\",\"EveryTick\")","v":363.2},4.8416101812145526E-3,{"$f":"RTD(\"cqg.rtd\",,\"StudyData\", \"Close(\"&$D$12&\") when LocalYear(\"&$D$12&\")=\"&$D$6&\" and localMonth(\"&$D$12&\") =\"&$E$6&\" and LocalDay(\"&$D$12&\")=\"&$F$6&\" and Barix(\"&$D$12&\",reference:=StartOfSession)=\"&A74&\"\", \"Bar\", \"\", \"Close\",\"5\",\"0\",\"PrimaryOnly\",,,\"False\",\"T\",\"EveryTick\")","v":361.24},1.8581690101783729E-3,{"$f":"RTD(\"cqg.rtd\",,\"StudyData\", \"Close(\"&$D$12&\") when LocalYear(\"&$D$12&\")=\"&$D$7&\" and localMonth(\"&$D$12&\") =\"&$E$7&\" and LocalDay(\"&$D$12&\")=\"&$F$7&\" and Barix(\"&$D$12&\",reference:=StartOfSession)=\"&A74&\"\", \"Bar\", \"\", \"Close\",\"5\",\"0\",\"PrimaryOnly\",,,\"False\",\"T\",\"EveryTick\")","v":360.71},-1.9092418372993851E-3,{"$f":"RTD(\"cqg.rtd\",,\"StudyData\", \"Close(\"&$D$12&\") when LocalYear(\"&$D$12&\")=\"&$D$8&\" and localMonth(\"&$D$12&\") =\"&$E$8&\" and LocalDay(\"&$D$12&\")=\"&$F$8&\" and Barix(\"&$D$12&\",reference:=StartOfSession)=\"&A74&\"\", \"Bar\", \"\", \"Close\",\"5\",\"0\",\"PrimaryOnly\",,,\"False\",\"T\",\"EveryTick\")","v":361.2},-1.7009116886651247E-2,{"$f":"RTD(\"cqg.rtd\",,\"StudyData\", \"Close(\"&$D$12&\") when LocalYear(\"&$D$12&\")=\"&$D$9&\" and localMonth(\"&$D$12&\") =\"&$E$9&\" and LocalDay(\"&$D$12&\")=\"&$F$9&\" and Barix(\"&$D$12&\",reference:=StartOfSession)=\"&A74&\"\", \"Bar\", \"\", \"Close\",\"5\",\"0\",\"PrimaryOnly\",,,\"False\",\"T\",\"EveryTick\")","v":364.52},-3.4991798797157723E-3,{"$f":"RTD(\"cqg.rtd\",,\"StudyData\", \"Close(\"&$D$12&\") when LocalYear(\"&$D$12&\")=\"&$D$10&\" and localMonth(\"&$D$12&\") =\"&$E$10&\" and LocalDay(\"&$D$12&\")=\"&$F$10&\" and Barix(\"&$D$12&\",reference:=StartOfSession)=\"&A74&\"\", \"Bar\", \"\", \"Close\",\"5\",\"0\",\"PrimaryOnly\",,,\"False\",\"T\",\"EveryTick\")","v":365.37},9.8394184793123528E-3,null,null,null,""]
[74,"14:40:00",-3,{"$f":" RTD(\"cqg.rtd\",,\"StudyData\", $D$12,  \"Tick\", \"FlatTicks=0\", \"Tick\",\"D\",C75,\"PrimaryOnly\")","v":391.36},null,null,null,{"$f":"RTD(\"cqg.rtd\",,\"StudyData\", \"Close(\"&$D$12&\") when LocalYear(\"&$D$12&\")=\"&$D$1&\" and localMonth(\"&$D$12&\") =\"&$E$1&\" and LocalDay(\"&$D$12&\")=\"&$F$1&\" and Barix(\"&$D$12&\",reference:=StartOfSession)=\"&A75&\"\", \"Bar\", \"\", \"Close\",\"5\",\"0\",\"PrimaryOnly\",,,\"False\",\"T\",\"EveryTick\")","v":""},{"$error":"#N/A"},{"$f":"RTD(\"cqg.rtd\",,\"StudyData\", \"Close(\"&$D$12&\") when LocalYear(\"&$D$12&\")=\"&$D$2&\" and localMonth(\"&$D$12&\") =\"&$E$2&\" and LocalDay(\"&$D$12&\")=\"&$F$2&\" and Barix(\"&$D$12&\",reference:=StartOfSession)=\"&A75&\"\", \"Bar\", \"\", \"Close\",\"5\",\"0\",\"PrimaryOnly\",,,\"False\",\"T\",\"EveryTick\")","v":392.22},-1.6544913075571494E-3,{"$f":"RTD(\"cqg.rtd\",,\"StudyData\", \"Close(\"&$D$12&\") when LocalYear(\"&$D$12&\")=\"&$D$3&\" and localMonth(\"&$D$12&\") =\"&$E$3&\" and LocalDay(\"&$D$12&\")=\"&$F$3&\" and Barix(\"&$D$12&\",reference:=StartOfSession)=\"&A75&\"\", \"Bar\", \"\", \"Close\",\"5\",\"0\",\"PrimaryOnly\",,,\"False\",\"T\",\"EveryTick\")","v":393.23},3.5006448556313033E-2,{"$f":"RTD(\"cqg.rtd\",,\"StudyData\", \"Close(\"&$D$12&\") when LocalYear(\"&$D$12&\")=\"&$D$4&\" and localMonth(\"&$D$12&\") =\"&$E$4&\" and LocalDay(\"&$D$12&\")=\"&$F$4&\" and Barix(\"&$D$12&\",reference:=StartOfSession)=\"&A75&\"\", \"Bar\", \"\", \"Close\",\"5\",\"0\",\"PrimaryOnly\",,,\"False\",\"T\",\"EveryTick\")","v":380.17},4.4911084847318893E-2,{"$f":"RTD(\"cqg.rtd\",,\"StudyData\", \"Close(\"&$D$12&\") when LocalYear(\"&$D$12&\")=\"&$D$5&\" and localMonth(\"&$D$12&\") =\"&$E$5&\" and LocalDay(\"&$D$12&\")=\"&$F$5&\" and Barix(\"&$D$12&\",reference:=StartOfSession)=\"&A75&\"\", \"Bar\", \"\", \"Close\",\"5\",\"0\",\"PrimaryOnly\",,,\"False\",\"T\",\"EveryTick\")","v":363.03},4.3712823350393806E-3,{"$f":"RTD(\"cqg.rtd\",,\"StudyData\", \"Close(\"&$D$12&\") when LocalYear(\"&$D$12&\")=\"&$D$6&\" and localMonth(\"&$D$12&\") =\"&$E$6&\" and LocalDay(\"&$D$12&\")=\"&$F$6&\" and Barix(\"&$D$12&\",reference:=StartOfSession)=\"&A75&\"\", \"Bar\", \"\", \"Close\",\"5\",\"0\",\"PrimaryOnly\",,,\"False\",\"T\",\"EveryTick\")","v":361.61},2.8843220456499998E-3,{"$f":"RTD(\"cqg.rtd\",,\"StudyData\", \"Close(\"&$D$12&\") when LocalYear(\"&$D$12&\")=\"&$D$7&\" and localMonth(\"&$D$12&\") =\"&$E$7&\" and LocalDay(\"&$D$12&\")=\"&$F$7&\" and Barix(\"&$D$12&\",reference:=StartOfSession)=\"&A75&\"\", \"Bar\", \"\", \"Close\",\"5\",\"0\",\"PrimaryOnly\",,,\"False\",\"T\",\"EveryTick\")","v":360.5},-2.4903154399556651E-3,{"$f":"RTD(\"cqg.rtd\",,\"StudyData\", \"Close(\"&$D$12&\") when LocalYear(\"&$D$12&\")=\"&$D$8&\" and localMonth(\"&$D$12&\") =\"&$E$8&\" and LocalDay(\"&$D$12&\")=\"&$F$8&\" and Barix(\"&$D$12&\",reference:=StartOfSession)=\"&A75&\"\", \"Bar\", \"\", \"Close\",\"5\",\"0\",\"PrimaryOnly\",,,\"False\",\"T\",\"EveryTick\")","v":361.46},-1.6301537624166577E-2,{"$f":"RTD(\"cqg.rtd\",,\"StudyData\", \"Close(\"&$D$12&\") when LocalYear(\"&$D$12&\")=\"&$D$9&\" and localMonth(\"&$D$12&\") =\"&$E$9&\" and LocalDay(\"&$D$12&\")=\"&$F$9&\" and Barix(\"&$D$12&\",reference:=StartOfSession)=\"&A75&\"\", \"Bar\", \"\", \"Close\",\"5\",\"0\",\"PrimaryOnly\",,,\"False\",\"T\",\"EveryTick\")","v":364.28},-4.1552761071624892E-3,{"$f":"RTD(\"cqg.rtd\",,\"StudyData\", \"Close(\"&$D$12&\") when LocalYear(\"&$D$12&\")=\"&$D$10&\" and localMonth(\"&$D$12&\") =\"&$E$10&\" and LocalDay(\"&$D$12&\")=\"&$F$10&\" and Barix(\"&$D$12&\",reference:=StartOfSession)=\"&A75&\"\", \"Bar\", \"\", \"Close\",\"5\",\"0\",\"PrimaryOnly\",,,\"False\",\"T\",\"EveryTick\")","v":365.41},9.9499737431249079E-3,null,null,null,""]
[75,"14:45:00",-2,{"$f":" RTD(\"cqg.rtd\",,\"StudyData\", $D$12,  \"Tick\", \"FlatTicks=0\", \"Tick\",\"D\",C76,\"PrimaryOnly\")","v":391.37},null,null,null,{"$f":"RTD(\"cqg.rtd\",,\"StudyData\", \"Close(\"&$D$12&\") when LocalYear(\"&$D$12&\")=\"&$D$1&\" and localMonth(\"&$D$12&\") =\"&$E$1&\" and LocalDay(\"&$D$12&\")=\"&$F$1&\" and Barix(\"&$D$12&\",reference:=StartOfSession)=\"&A76&\"\", \"Bar\", \"\", \"Close\",\"5\",\"0\",\"PrimaryOnly\",,,\"False\",\"T\",\"EveryTick\")","v":""},{"$error":"#N/A"},{"$f":"RTD(\"cqg.rtd\",,\"StudyData\", \"Close(\"&$D$12&\") when LocalYear(\"&$D$12&\")=\"&$D$2&\" and localMonth(\"&$D$12&\") =\"&$E$2&\" and LocalDay(\"&$D$12&\")=\"&$F$2&\" and Barix(\"&$D$12&\",reference:=StartOfSession)=\"&A76&\"\", \"Bar\", \"\", \"Close\",\"5\",\"0\",\"PrimaryOnly\",,,\"False\",\"T\",\"EveryTick\")","v":392.25},-1.5781301702853477E-3,{"$f":"RTD(\"cqg.rtd\",,\"StudyData\", \"Close(\"&$D$12&\") when LocalYear(\"&$D$12&\")=\"&$D$3&\" and localMonth(\"&$D$12&\") =\"&$E$3&\" and LocalDay(\"&$D$12&\")=\"&$F$3&\" and Barix(\"&$D$12&\",reference:=StartOfSession)=\"&A76&\"\", \"Bar\", \"\", \"Close\",\"5\",\"0\",\"PrimaryOnly\",,,\"False\",\"T\",\"EveryTick\")","v":392.78},3.382201984576097E-2,{"$f":"RTD(\"cqg.rtd\",,\"StudyData\", \"Close(\"&$D$12&\") when LocalYear(\"&$D$12&\")=\"&$D$4&\" and localMonth(\"&$D$12&\") =\"&$E$4&\" and LocalDay(\"&$D$12&\")=\"&$F$4&\" and Barix(\"&$D$12&\",reference:=StartOfSession)=\"&A76&\"\", \"Bar\", \"\", \"Close\",\"5\",\"0\",\"PrimaryOnly\",,,\"False\",\"T\",\"EveryTick\")","v":380.21},4.5021026303493382E-2,{"$f":"RTD(\"cqg.rtd\",,\"StudyData\", \"Close(\"&$D$12&\") when LocalYear(\"&$D$12&\")=\"&$D$5&\" and localMonth(\"&$D$12&\") =\"&$E$5&\" and LocalDay(\"&$D$12&\")=\"&$F$5&\" and Barix(\"&$D$12&\",reference:=StartOfSession)=\"&A76&\"\", \"Bar\", \"\", \"Close\",\"5\",\"0\",\"PrimaryOnly\",,,\"False\",\"T\",\"EveryTick\")","v":363.04},4.3989486789321672E-3,{"$f":"RTD(\"cqg.rtd\",,\"StudyData\", \"Close(\"&$D$12&\") when LocalYear(\"&$D$12&\")=\"&$D$6&\" and localMonth(\"&$D$12&\") =\"&$E$6&\" and LocalDay(\"&$D$12&\")=\"&$F$6&\" and Barix(\"&$D$12&\",reference:=StartOfSession)=\"&A76&\"\", \"Bar\", \"\", \"Close\",\"5\",\"0\",\"PrimaryOnly\",,,\"False\",\"T\",\"EveryTick\")","v":361.92},3.7440718861802779E-3,{"$f":"RTD(\"cqg.rtd\",,\"StudyData\", \"Close(\"&$D$12&\") when LocalYear(\"&$D$12&\")=\"&$D$7&\" and localMonth(\"&$D$12&\") =\"&$E$7&\" and LocalDay(\"&$D$12&\")=\"&$F$7&\" and Barix(\"&$D$12&\",reference:=StartOfSession)=\"&A76&\"\", \"Bar\", \"\", \"Close\",\"5\",\"0\",\"PrimaryOnly\",,,\"False\",\"T\",\"EveryTick\")","v":360.89},-1.4111787493082206E-3,{"$f":"RTD(\"cqg.rtd\",,\"StudyData\", \"Close(\"&$D$12&\") when LocalYear(\"&$D$12&\")=\"&$D$8&\" and localMonth(\"&$D$12&\") =\"&$E$8&\" and LocalDay(\"&$D$12&\")=\"&$F$8&\" and Barix(\"&$D$12&\",reference:=StartOfSession)=\"&A76&\"\", \"Bar\", \"\", \"Close\",\"5\",\"0\",\"PrimaryOnly\",,,\"False\",\"T\",\"EveryTick\")","v":360.68},-1.8424275411620578E-2,{"$f":"RTD(\"cqg.rtd\",,\"StudyData\", \"Close(\"&$D$12&\") when LocalYear(\"&$D$12&\")=\"&$D$9&\" and localMonth(\"&$D$12&\") =\"&$E$9&\" and LocalDay(\"&$D$12&\")=\"&$F$9&\" and Barix(\"&$D$12&\",reference:=StartOfSession)=\"&A76&\"\", \"Bar\", \"\", \"Close\",\"5\",\"0\",\"PrimaryOnly\",,,\"False\",\"T\",\"EveryTick\")","v":365.14},-1.8042646254784718E-3,{"$f":"RTD(\"cqg.rtd\",,\"StudyData\", \"Close(\"&$D$12&\") when LocalYear(\"&$D$12&\")=\"&$D$10&\" and localMonth(\"&$D$12&\") =\"&$E$10&\" and LocalDay(\"&$D$12&\")=\"&$F$10&\" and Barix(\"&$D$12&\",reference:=StartOfSession)=\"&A76&\"\", \"Bar\", \"\", \"Close\",\"5\",\"0\",\"PrimaryOnly\",,,\"False\",\"T\",\"EveryTick\")","v":365.57},1.0392194798374813E-2,null,null,null,""]
[76,"14:50:00",-1,{"$f":" RTD(\"cqg.rtd\",,\"StudyData\", $D$12,  \"Tick\", \"FlatTicks=0\", \"Tick\",\"D\",C77,\"PrimaryOnly\")","v":391.38},null,null,null,{"$f":"RTD(\"cqg.rtd\",,\"StudyData\", \"Close(\"&$D$12&\") when LocalYear(\"&$D$12&\")=\"&$D$1&\" and localMonth(\"&$D$12&\") =\"&$E$1&\" and LocalDay(\"&$D$12&\")=\"&$F$1&\" and Barix(\"&$D$12&\",reference:=StartOfSession)=\"&A77&\"\", \"Bar\", \"\", \"Close\",\"5\",\"0\",\"PrimaryOnly\",,,\"False\",\"T\",\"EveryTick\")","v":""},{"$error":"#N/A"},{"$f":"RTD(\"cqg.rtd\",,\"StudyData\", \"Close(\"&$D$12&\") when LocalYear(\"&$D$12&\")=\"&$D$2&\" and localMonth(\"&$D$12&\") =\"&$E$2&\" and LocalDay(\"&$D$12&\")=\"&$F$2&\" and Barix(\"&$D$12&\",reference:=StartOfSession)=\"&A77&\"\", \"Bar\", \"\", \"Close\",\"5\",\"0\",\"PrimaryOnly\",,,\"False\",\"T\",\"EveryTick\")","v":391.7},-2.9780843536030134E-3,{"$f":"RTD(\"cqg.rtd\",,\"StudyData\", \"Close(\"&$D$12&\") when LocalYear(\"&$D$12&\")=\"&$D$3&\" and localMonth(\"&$D$12&\") =\"&$E$3&\" and LocalDay(\"&$D$12&\")=\"&$F$3&\" and Barix(\"&$D$12&\",reference:=StartOfSession)=\"&A77&\"\", \"Bar\", \"\", \"Close\",\"5\",\"0\",\"PrimaryOnly\",,,\"False\",\"T\",\"EveryTick\")","v":392.68},3.355881346563841E-2,{"$f":"RTD(\"cqg.rtd\",,\"StudyData\", \"Close(\"&$D$12&\") when LocalYear(\"&$D$12&\")=\"&$D$4&\" and localMonth(\"&$D$12&\") =\"&$E$4&\" and LocalDay(\"&$D$12&\")=\"&$F$4&\" and Barix(\"&$D$12&\",reference:=StartOfSession)=\"&A77&\"\", \"Bar\", \"\", \"Close\",\"5\",\"0\",\"PrimaryOnly\",,,\"False\",\"T\",\"EveryTick\")","v":381.33},4.8099387076381832E-2,{"$f":"RTD(\"cqg.rtd\",,\"StudyData\", \"Close(\"&$D$12&\") when LocalYear(\"&$D$12&\")=\"&$D$5&\" and localMonth(\"&$D$12&\") =\"&$E$5&\" and LocalDay(\"&$D$12&\")=\"&$F$5&\" and Barix(\"&$D$12&\",reference:=StartOfSession)=\"&A77&\"\", \"Bar\", \"\", \"Close\",\"5\",\"0\",\"PrimaryOnly\",,,\"False\",\"T\",\"EveryTick\")","v":363.41},5.4226034029603992E-3,{"$f":"RTD(\"cqg.rtd\",,\"StudyData\", \"Close(\"&$D$12&\") when LocalYear(\"&$D$12&\")=\"&$D$6&\" and localMonth(\"&$D$12&\") =\"&$E$6&\" and LocalDay(\"&$D$12&\")=\"&$F$6&\" and Barix(\"&$D$12&\",reference:=StartOfSession)=\"&A77&\"\", \"Bar\", \"\", \"Close\",\"5\",\"0\",\"PrimaryOnly\",,,\"False\",\"T\",\"EveryTick\")","v":361.53},2.6624511190614293E-3,{"$f":"RTD(\"cqg.rtd\",,\"StudyData\", \"Close(\"&$D$12&\") when LocalYear(\"&$D$12&\")=\"&$D$7&\" and localMonth(\"&$D$12&\") =\"&$E$7&\" and LocalDay(\"&$D$12&\")=\"&$F$7&\" and Barix(\"&$D$12&\",reference:=StartOfSession)=\"&A77&\"\", \"Bar\", \"\", \"Close\",\"5\",\"0\",\"PrimaryOnly\",,,\"False\",\"T\",\"EveryTick\")","v":360.92},-1.3281682346429479E-3,{"$f":"RTD(\"cqg.rtd\",,\"StudyData\", \"Close(\"&$D$12&\") when LocalYear(\"&$D$12&\")=\"&$D$8&\" and localMonth(\"&$D$12&\") =\"&$E$8&\" and LocalDay(\"&$D$12&\")=\"&$F$8&\" and Barix(\"&$D$12&\",reference:=StartOfSession)=\"&A77&\"\", \"Bar\", \"\", \"Close\",\"5\",\"0\",\"PrimaryOnly\",,,\"False\",\"T\",\"EveryTick\")","v":361.26},-1.6845829364539388E-2,{"$f":"RTD(\"cqg.rtd\",,\"StudyData\", \"Close(\"&$D$12&\") when LocalYear(\"&$D$12&\")=\"&$D$9&\" and localMonth(\"&$D$12&\") =\"&$E$9&\" and LocalDay(\"&$D$12&\")=\"&$F$9&\" and Barix(\"&$D$12&\",reference:=StartOfSession)=\"&A77&\"\", \"Bar\", \"\", \"Close\",\"5\",\"0\",\"PrimaryOnly\",,,\"False\",\"T\",\"EveryTick\")","v":366.41},1.6675779114270466E-3,{"$f":"RTD(\"cqg.rtd\",,\"StudyData\", \"Close(\"&$D$12&\") when LocalYear(\"&$D$12&\")=\"&$D$10&\" and localMonth(\"&$D$12&\") =\"&$E$10&\" and LocalDay(\"&$D$12&\")=\"&$F$10&\" and Barix(\"&$D$12&\",reference:=StartOfSession)=\"&A77&\"\", \"Bar\", \"\", \"Close\",\"5\",\"0\",\"PrimaryOnly\",,,\"False\",\"T\",\"EveryTick\")","v":365.97},1.1497747436499889E-2,null,null,null,""]
[77,"14:55:00",0,{"$f":" RTD(\"cqg.rtd\",,\"StudyData\", $D$12,  \"Tick\", \"FlatTicks=0\", \"Tick\",\"D\",C78,\"PrimaryOnly\")","v":391.4},null,null,null,{"$f":"RTD(\"cqg.rtd\",,\"StudyData\", \"Close(\"&$D$12&\") when LocalYear(\"&$D$12&\")=\"&$D$1&\" and localMonth(\"&$D$12&\") =\"&$E$1&\" and LocalDay(\"&$D$12&\")=\"&$F$1&\" and Barix(\"&$D$12&\",reference:=StartOfSession)=\"&A78&\"\", \"Bar\", \"\", \"Close\",\"5\",\"0\",\"PrimaryOnly\",,,\"False\",\"T\",\"EveryTick\")","v":""},{"$error":"#N/A"},{"$f":"RTD(\"cqg.rtd\",,\"StudyData\", \"Close(\"&$D$12&\") when LocalYear(\"&$D$12&\")=\"&$D$2&\" and localMonth(\"&$D$12&\") =\"&$E$2&\" and LocalDay(\"&$D$12&\")=\"&$F$2&\" and Barix(\"&$D$12&\",reference:=StartOfSession)=\"&A78&\"\", \"Bar\", \"\", \"Close\",\"5\",\"0\",\"PrimaryOnly\",,,\"False\",\"T\",\"EveryTick\")","v":391.98},-2.2653804057321415E-3,{"$f":"RTD(\"cqg.rtd\",,\"StudyData\", \"Close(\"&$D$12&\") when LocalYear(\"&$D$12&\")=\"&$D$3&\" and localMonth(\"&$D$12&\") =\"&$E$3&\" and LocalDay(\"&$D$12&\")=\"&$F$3&\" and Barix(\"&$D$12&\",reference:=StartOfSession)=\"&A78&\"\", \"Bar\", \"\", \"Close\",\"5\",\"0\",\"PrimaryOnly\",,,\"False\",\"T\",\"EveryTick\")","v":392.87},3.4058905587871446E-2,{"$f":"RTD(\"cqg.rtd\",,\"StudyData\", \"Close(\"&$D$12&\") when LocalYear(\"&$D$12&\")=\"&$D$4&\" and localMonth(\"&$D$12&\") =\"&$E$4&\" and LocalDay(\"&$D$12&\")=\"&$F$4&\" and Barix(\"&$D$12&\",reference:=StartOfSession)=\"&A78&\"\", \"Bar\", \"\", \"Close\",\"5\",\"0\",\"PrimaryOnly\",,,\"False\",\"T\",\"EveryTick\")","v":379.93},4.4251436110271346E-2,{"$f":"RTD(\"cqg.rtd\",,\"StudyData\", \"Close(\"&$D$12&\") when LocalYear(\"&$D$12&\")=\"&$D$5&\" and localMonth(\"&$D$12&\") =\"&$E$5&\" and LocalDay(\"&$D$12&\")=\"&$F$5&\" and Barix(\"&$D$12&\",reference:=StartOfSession)=\"&A78&\"\", \"Bar\", \"\", \"Close\",\"5\",\"0\",\"PrimaryOnly\",,,\"False\",\"T\",\"EveryTick\")","v":363.83},6.5845898464517794E-3,{"$f":"RTD(\"cqg.rtd\",,\"StudyData\", \"Close(\"&$D$12&\") when LocalYear(\"&$D$12&\")=\"&$D$6&\" and localMonth(\"&$D$12&\") =\"&$E$6&\" and LocalDay(\"&$D$12&\")=\"&$F$6&\" and Barix(\"&$D$12&\",reference:=StartOfSession)=\"&A78&\"\", \"Bar\", \"\", \"Close\",\"5\",\"0\",\"PrimaryOnly\",,,\"False\",\"T\",\"EveryTick\")","v":361.45},2.4405801924730162E-3,{"$f":"RTD(\"cqg.rtd\",,\"StudyData\", \"Close(\"&$D$12&\") when LocalYear(\"&$D$12&\")=\"&$D$7&\" and localMonth(\"&$D$12&\") =\"&$E$7&\" and LocalDay(\"&$D$12&\")=\"&$F$7&\" and Barix(\"&$D$12&\",reference:=StartOfSession)=\"&A78&\"\", \"Bar\", \"\", \"Close\",\"5\",\"0\",\"PrimaryOnly\",,,\"False\",\"T\",\"EveryTick\")","v":360.57},-2.2966242390702381E-3,{"$f":"RTD(\"cqg.rtd\",,\"StudyData\", \"Close(\"&$D$12&\") when LocalYear(\"&$D$12&\")=\"&$D$8&\" and localMonth(\"&$D$12&\") =\"&$E$8&\" and LocalDay(\"&$D$12&\")=\"&$F$8&\" and Barix(\"&$D$12&\",reference:=StartOfSession)=\"&A78&\"\", \"Bar\", \"\", \"Close\",\"5\",\"0\",\"PrimaryOnly\",,,\"False\",\"T\",\"EveryTick\")","v":361.4},-1.6464825146278436E-2,{"$f":"RTD(\"cqg.rtd\",,\"StudyData\", \"Close(\"&$D$12&\") when LocalYear(\"&$D$12&\")=\"&$D$9&\" and localMonth(\"&$D$12&\") =\"&$E$9&\" and LocalDay(\"&$D$12&\")=\"&$F$9&\" and Barix(\"&$D$12&\",reference:=StartOfSession)=\"&A78&\"\", \"Bar\", \"\", \"Close\",\"5\",\"0\",\"PrimaryOnly\",,,\"False\",\"T\",\"EveryTick\")","v":367.45},4.5106615636959467E-3,{"$f":"RTD(\"cqg.rtd\",,\"StudyData\", \"Close(\"&$D$12&\") when LocalYear(\"&$D$12&\")=\"&$D$10&\" and localMonth(\"&$D$12&\") =\"&$E$10&\" and LocalDay(\"&$D$12&\")=\"&$F$10&\" and Barix(\"&$D$12&\",reference:=StartOfSession)=\"&A78&\"\", \"Bar\", \"\", \"Close\",\"5\",\"0\",\"PrimaryOnly\",,,\"False\",\"T\",\"EveryTick\")","v":365.8},1.1027887565296728E-2,null,null,null,""]
[78,"15:00:00",null,null,null,null,null,{"$f":"RTD(\"cqg.rtd\",,\"StudyData\", \"Close(\"&$D$12&\") when LocalYear(\"&$D$12&\")=\"&$D$1&\" and localMonth(\"&$D$12&\") =\"&$E$1&\" and LocalDay(\"&$D$12&\")=\"&$F$1&\" and Barix(\"&$D$12&\",reference:=StartOfSession)=\"&A79&\"\", \"Bar\", \"\", \"Close\",\"5\",\"0\",\"PrimaryOnly\",,,\"False\",\"T\",\"EveryTick\")","v":""},{"$error":"#N/A"},{"$f":"RTD(\"cqg.rtd\",,\"StudyData\", \"Close(\"&$D$12&\") when LocalYear(\"&$D$12&\")=\"&$D$2&\" and localMonth(\"&$D$12&\") =\"&$E$2&\" and LocalDay(\"&$D$12&\")=\"&$F$2&\" and Barix(\"&$D$12&\",reference:=StartOfSession)=\"&A79&\"\", \"Bar\", \"\", \"Close\",\"5\",\"0\",\"PrimaryOnly\",,,\"False\",\"T\",\"EveryTick\")","v":""},{"$error":"#N/A"},{"$f":"RTD(\"cqg.rtd\",,\"StudyData\", \"Close(\"&$D$12&\") when LocalYear(\"&$D$12&\")=\"&$D$3&\" and localMonth(\"&$D$12&\") =\"&$E$3&\" and LocalDay(\"&$D$12&\")=\"&$F$3&\" and Barix(\"&$D$12&\",reference:=StartOfSession)=\"&A79&\"\", \"Bar\", \"\", \"Close\",\"5\",\"0\",\"PrimaryOnly\",,,\"False\",\"T\",\"EveryTick\")","v":""},{"$error":"#N/A"},{"$f":"RTD(\"cqg.rtd\",,\"StudyData\", \"Close(\"&$D$12&\") when LocalYear(\"&$D$12&\")=\"&$D$4&\" and localMonth(\"&$D$12&\") =\"&$E$4&\" and LocalDay(\"&$D$12&\")=\"&$F$4&\" and Barix(\"&$D$12&\",reference:=StartOfSession)=\"&A79&\"\", \"Bar\", \"\", \"Close\",\"5\",\"0\",\"PrimaryOnly\",,,\"False\",\"T\",\"EveryTick\")","v":""},{"$error":"#N/A"},{"$f":"RTD(\"cqg.rtd\",,\"StudyData\", \"Close(\"&$D$12&\") when LocalYear(\"&$D$12&\")=\"&$D$5&\" and localMonth(\"&$D$12&\") =\"&$E$5&\" and LocalDay(\"&$D$12&\")=\"&$F$5&\" and Barix(\"&$D$12&\",reference:=StartOfSession)=\"&A79&\"\", \"Bar\", \"\", \"Close\",\"5\",\"0\",\"PrimaryOnly\",,,\"False\",\"T\",\"EveryTick\")","v":""},{"$error":"#N/A"},{"$f":"RTD(\"cqg.rtd\",,\"StudyData\", \"Close(\"&$D$12&\") when LocalYear(\"&$D$12&\")=\"&$D$6&\" and localMonth(\"&$D$12&\") =\"&$E$6&\" and LocalDay(\"&$D$12&\")=\"&$F$6&\" and Barix(\"&$D$12&\",reference:=StartOfSession)=\"&A79&\"\", \"Bar\", \"\", \"Close\",\"5\",\"0\",\"PrimaryOnly\",,,\"False\",\"T\",\"EveryTick\")","v":""},{"$error":"#N/A"},{"$f":"RTD(\"cqg.rtd\",,\"StudyData\", \"Close(\"&$D$12&\") when LocalYear(\"&$D$12&\")=\"&$D$7&\" and localMonth(\"&$D$12&\") =\"&$E$7&\" and LocalDay(\"&$D$12&\")=\"&$F$7&\" and Barix(\"&$D$12&\",reference:=StartOfSession)=\"&A79&\"\", \"Bar\", \"\", \"Close\",\"5\",\"0\",\"PrimaryOnly\",,,\"False\",\"T\",\"EveryTick\")","v":""},{"$error":"#N/A"},{"$f":"RTD(\"cqg.rtd\",,\"StudyData\", \"Close(\"&$D$12&\") when LocalYear(\"&$D$12&\")=\"&$D$8&\" and localMonth(\"&$D$12&\") =\"&$E$8&\" and LocalDay(\"&$D$12&\")=\"&$F$8&\" and Barix(\"&$D$12&\",reference:=StartOfSession)=\"&A79&\"\", \"Bar\", \"\", \"Close\",\"5\",\"0\",\"PrimaryOnly\",,,\"False\",\"T\",\"EveryTick\")","v":""},{"$error":"#N/A"},{"$f":"RTD(\"cqg.rtd\",,\"StudyData\", \"Close(\"&$D$12&\") when LocalYear(\"&$D$12&\")=\"&$D$9&\" and localMonth(\"&$D$12&\") =\"&$E$9&\" and LocalDay(\"&$D$12&\")=\"&$F$9&\" and Barix(\"&$D$12&\",reference:=StartOfSession)=\"&A79&\"\", \"Bar\", \"\", \"Close\",\"5\",\"0\",\"PrimaryOnly\",,,\"False\",\"T\",\"EveryTick\")","v":""},{"$error":"#N/A"},{"$f":"RTD(\"cqg.rtd\",,\"StudyData\", \"Close(\"&$D$12&\") when LocalYear(\"&$D$12&\")=\"&$D$10&\" and localMonth(\"&$D$12&\") =\"&$E$10&\" and LocalDay(\"&$D$12&\")=\"&$F$10&\" and Barix(\"&$D$12&\",reference:=StartOfSession)=\"&A79&\"\", \"Bar\", \"\", \"Close\",\"5\",\"0\",\"PrimaryOnly\",,,\"False\",\"T\",\"EveryTick\")","v":""},{"$error":"#N/A"},null,null,null,""]
[79,"15:05:00",null,null,null,null,null,{"$f":"RTD(\"cqg.rtd\",,\"StudyData\", \"Close(\"&$D$12&\") when LocalYear(\"&$D$12&\")=\"&$D$1&\" and localMonth(\"&$D$12&\") =\"&$E$1&\" and LocalDay(\"&$D$12&\")=\"&$F$1&\" and Barix(\"&$D$12&\",reference:=StartOfSession)=\"&A80&\"\", \"Bar\", \"\", \"Close\",\"5\",\"0\",\"PrimaryOnly\",,,\"False\",\"T\",\"EveryTick\")","v":""},{"$error":"#N/A"},{"$f":"RTD(\"cqg.rtd\",,\"StudyData\", \"Close(\"&$D$12&\") when LocalYear(\"&$D$12&\")=\"&$D$2&\" and localMonth(\"&$D$12&\") =\"&$E$2&\" and LocalDay(\"&$D$12&\")=\"&$F$2&\" and Barix(\"&$D$12&\",reference:=StartOfSession)=\"&A80&\"\", \"Bar\", \"\", \"Close\",\"5\",\"0\",\"PrimaryOnly\",,,\"False\",\"T\",\"EveryTick\")","v":""},{"$error":"#N/A"},{"$f":"RTD(\"cqg.rtd\",,\"StudyData\", \"Close(\"&$D$12&\") when LocalYear(\"&$D$12&\")=\"&$D$3&\" and localMonth(\"&$D$12&\") =\"&$E$3&\" and LocalDay(\"&$D$12&\")=\"&$F$3&\" and Barix(\"&$D$12&\",reference:=StartOfSession)=\"&A80&\"\", \"Bar\", \"\", \"Close\",\"5\",\"0\",\"PrimaryOnly\",,,\"False\",\"T\",\"EveryTick\")","v":""},{"$error":"#N/A"},{"$f":"RTD(\"cqg.rtd\",,\"StudyData\", \"Close(\"&$D$12&\") when LocalYear(\"&$D$12&\")=\"&$D$4&\" and localMonth(\"&$D$12&\") =\"&$E$4&\" and LocalDay(\"&$D$12&\")=\"&$F$4&\" and Barix(\"&$D$12&\",reference:=StartOfSession)=\"&A80&\"\", \"Bar\", \"\", \"Close\",\"5\",\"0\",\"PrimaryOnly\",,,\"False\",\"T\",\"EveryTick\")","v":""},{"$error":"#N/A"},{"$f":"RTD(\"cqg.rtd\",,\"StudyData\", \"Close(\"&$D$12&\") when LocalYear(\"&$D$12&\")=\"&$D$5&\" and localMonth(\"&$D$12&\") =\"&$E$5&\" and LocalDay(\"&$D$12&\")=\"&$F$5&\" and Barix(\"&$D$12&\",reference:=StartOfSession)=\"&A80&\"\", \"Bar\", \"\", \"Close\",\"5\",\"0\",\"PrimaryOnly\",,,\"False\",\"T\",\"EveryTick\")","v":""},{"$error":"#N/A"},{"$f":"RTD(\"cqg.rtd\",,\"StudyData\", \"Close(\"&$D$12&\") when LocalYear(\"&$D$12&\")=\"&$D$6&\" and localMonth(\"&$D$12&\") =\"&$E$6&\" and LocalDay(\"&$D$12&\")=\"&$F$6&\" and Barix(\"&$D$12&\",reference:=StartOfSession)=\"&A80&\"\", \"Bar\", \"\", \"Close\",\"5\",\"0\",\"PrimaryOnly\",,,\"False\",\"T\",\"EveryTick\")","v":""},{"$error":"#N/A"},{"$f":"RTD(\"cqg.rtd\",,\"StudyData\", \"Close(\"&$D$12&\") when LocalYear(\"&$D$12&\")=\"&$D$7&\" and localMonth(\"&$D$12&\") =\"&$E$7&\" and LocalDay(\"&$D$12&\")=\"&$F$7&\" and Barix(\"&$D$12&\",reference:=StartOfSession)=\"&A80&\"\", \"Bar\", \"\", \"Close\",\"5\",\"0\",\"PrimaryOnly\",,,\"False\",\"T\",\"EveryTick\")","v":""},{"$error":"#N/A"},{"$f":"RTD(\"cqg.rtd\",,\"StudyData\", \"Close(\"&$D$12&\") when LocalYear(\"&$D$12&\")=\"&$D$8&\" and localMonth(\"&$D$12&\") =\"&$E$8&\" and LocalDay(\"&$D$12&\")=\"&$F$8&\" and Barix(\"&$D$12&\",reference:=StartOfSession)=\"&A80&\"\", \"Bar\", \"\", \"Close\",\"5\",\"0\",\"PrimaryOnly\",,,\"False\",\"T\",\"EveryTick\")","v":""},{"$error":"#N/A"},{"$f":"RTD(\"cqg.rtd\",,\"StudyData\", \"Close(\"&$D$12&\") when LocalYear(\"&$D$12&\")=\"&$D$9&\" and localMonth(\"&$D$12&\") =\"&$E$9&\" and LocalDay(\"&$D$12&\")=\"&$F$9&\" and Barix(\"&$D$12&\",reference:=StartOfSession)=\"&A80&\"\", \"Bar\", \"\", \"Close\",\"5\",\"0\",\"PrimaryOnly\",,,\"False\",\"T\",\"EveryTick\")","v":""},{"$error":"#N/A"},{"$f":"RTD(\"cqg.rtd\",,\"StudyData\", \"Close(\"&$D$12&\") when LocalYear(\"&$D$12&\")=\"&$D$10&\" and localMonth(\"&$D$12&\") =\"&$E$10&\" and LocalDay(\"&$D$12&\")=\"&$F$10&\" and Barix(\"&$D$12&\",reference:=StartOfSession)=\"&A80&\"\", \"Bar\", \"\", \"Close\",\"5\",\"0\",\"PrimaryOnly\",,,\"False\",\"T\",\"EveryTick\")","v":""},{"$error":"#N/A"},null,null,null,""]
[80,"15:10:00",null,null,null,null,null,{"$f":"RTD(\"cqg.rtd\",,\"StudyData\", \"Close(\"&$D$12&\") when LocalYear(\"&$D$12&\")=\"&$D$1&\" and localMonth(\"&$D$12&\") =\"&$E$1&\" and LocalDay(\"&$D$12&\")=\"&$F$1&\" and Barix(\"&$D$12&\",reference:=StartOfSession)=\"&A81&\"\", \"Bar\", \"\", \"Close\",\"5\",\"0\",\"PrimaryOnly\",,,\"False\",\"T\",\"EveryTick\")","v":""},{"$error":"#N/A"},{"$f":"RTD(\"cqg.rtd\",,\"StudyData\", \"Close(\"&$D$12&\") when LocalYear(\"&$D$12&\")=\"&$D$2&\" and localMonth(\"&$D$12&\") =\"&$E$2&\" and LocalDay(\"&$D$12&\")=\"&$F$2&\" and Barix(\"&$D$12&\",reference:=StartOfSession)=\"&A81&\"\", \"Bar\", \"\", \"Close\",\"5\",\"0\",\"PrimaryOnly\",,,\"False\",\"T\",\"EveryTick\")","v":""},{"$error":"#N/A"},{"$f":"RTD(\"cqg.rtd\",,\"StudyData\", \"Close(\"&$D$12&\") when LocalYear(\"&$D$12&\")=\"&$D$3&\" and localMonth(\"&$D$12&\") =\"&$E$3&\" and LocalDay(\"&$D$12&\")=\"&$F$3&\" and Barix(\"&$D$12&\",reference:=StartOfSession)=\"&A81&\"\", \"Bar\", \"\", \"Close\",\"5\",\"0\",\"PrimaryOnly\",,,\"False\",\"T\",\"EveryTick\")","v":""},{"$error":"#N/A"},{"$f":"RTD(\"cqg.rtd\",,\"StudyData\", \"Close(\"&$D$12&\") when LocalYear(\"&$D$12&\")=\"&$D$4&\" and localMonth(\"&$D$12&\") =\"&$E$4&\" and LocalDay(\"&$D$12&\")=\"&$F$4&\" and Barix(\"&$D$12&\",reference:=StartOfSession)=\"&A81&\"\", \"Bar\", \"\", \"Close\",\"5\",\"0\",\"PrimaryOnly\",,,\"False\",\"T\",\"EveryTick\")","v":""},{"$error":"#N/A"},{"$f":"RTD(\"cqg.rtd\",,\"StudyData\", \"Close(\"&$D$12&\") when LocalYear(\"&$D$12&\")=\"&$D$5&\" and localMonth(\"&$D$12&\") =\"&$E$5&\" and LocalDay(\"&$D$12&\")=\"&$F$5&\" and Barix(\"&$D$12&\",reference:=StartOfSession)=\"&A81&\"\", \"Bar\", \"\", \"Close\",\"5\",\"0\",\"PrimaryOnly\",,,\"False\",\"T\",\"EveryTick\")","v":""},{"$error":"#N/A"},{"$f":"RTD(\"cqg.rtd\",,\"StudyData\", \"Close(\"&$D$12&\") when LocalYear(\"&$D$12&\")=\"&$D$6&\" and localMonth(\"&$D$12&\") =\"&$E$6&\" and LocalDay(\"&$D$12&\")=\"&$F$6&\" and Barix(\"&$D$12&\",reference:=StartOfSession)=\"&A81&\"\", \"Bar\", \"\", \"Close\",\"5\",\"0\",\"PrimaryOnly\",,,\"False\",\"T\",\"EveryTick\")","v":""},{"$error":"#N/A"},{"$f":"RTD(\"cqg.rtd\",,\"StudyData\", \"Close(\"&$D$12&\") when LocalYear(\"&$D$12&\")=\"&$D$7&\" and localMonth(\"&$D$12&\") =\"&$E$7&\" and LocalDay(\"&$D$12&\")=\"&$F$7&\" and Barix(\"&$D$12&\",reference:=StartOfSession)=\"&A81&\"\", \"Bar\", \"\", \"Close\",\"5\",\"0\",\"PrimaryOnly\",,,\"False\",\"T\",\"EveryTick\")","v":""},{"$error":"#N/A"},{"$f":"RTD(\"cqg.rtd\",,\"StudyData\", \"Close(\"&$D$12&\") when LocalYear(\"&$D$12&\")=\"&$D$8&\" and localMonth(\"&$D$12&\") =\"&$E$8&\" and LocalDay(\"&$D$12&\")=\"&$F$8&\" and Barix(\"&$D$12&\",reference:=StartOfSession)=\"&A81&\"\", \"Bar\", \"\", \"Close\",\"5\",\"0\",\"PrimaryOnly\",,,\"False\",\"T\",\"EveryTick\")","v":""},{"$error":"#N/A"},{"$f":"RTD(\"cqg.rtd\",,\"StudyData\", \"Close(\"&$D$12&\") when LocalYear(\"&$D$12&\")=\"&$D$9&\" and localMonth(\"&$D$12&\") =\"&$E$9&\" and LocalDay(\"&$D$12&\")=\"&$F$9&\" and Barix(\"&$D$12&\",reference:=StartOfSession)=\"&A81&\"\", \"Bar\", \"\", \"Close\",\"5\",\"0\",\"PrimaryOnly\",,,\"False\",\"T\",\"EveryTick\")","v":""},{"$error":"#N/A"},{"$f":"RTD(\"cqg.rtd\",,\"StudyData\", \"Close(\"&$D$12&\") when LocalYear(\"&$D$12&\")=\"&$D$10&\" and localMonth(\"&$D$12&\") =\"&$E$10&\" and LocalDay(\"&$D$12&\")=\"&$F$10&\" and Barix(\"&$D$12&\",reference:=StartOfSession)=\"&A81&\"\", \"Bar\", \"\", \"Close\",\"5\",\"0\",\"PrimaryOnly\",,,\"False\",\"T\",\"EveryTick\")","v":""},{"$error":"#N/A"},null,null,null,""]

{"sheet":"Sheet4 (4)","index":8,"n_rows":93,"n_cols":20,"rows_kept":93,"cut":false,"hidden":true,"merged":[]}
[null,{"$f":"'Sheet3 (4)'!I1","v":-1.0102556252870137E-2},{"$f":"'Sheet3 (4)'!K1","v":-8.6288085117213996E-3},null,{"$f":"'Sheet3 (4)'!M1","v":1.76348274682178E-2},null,{"$f":"'Sheet3 (4)'!O1","v":9.8397603276256518E-3},null,{"$f":"'Sheet3 (4)'!Q1","v":8.4659012311523105E-3},null,{"$f":"'Sheet3 (4)'!S1","v":9.3185789167152394E-3},null,{"$f":"'Sheet3 (4)'!U1","v":-1.3060320973989958E-2},null,{"$f":"'Sheet3 (4)'!W1","v":-5.4429174037283982E-3},null,{"$f":"'Sheet3 (4)'!Y1","v":7.7911427009293762E-3},null,{"$f":"'Sheet3 (4)'!AA1","v":3.8694342334370623E-4}]
[null,{"$f":"'Sheet3 (4)'!I2","v":-6.2248073881320419E-3},{"$f":"'Sheet3 (4)'!K2","v":-6.9997709165881845E-3},{"$f":"CORREL($B$1:B2,$C$1:C2)","v":1},{"$f":"'Sheet3 (4)'!M2","v":1.858237043665939E-2},{"$f":"CORREL($B$1:B2,$E$1:E2)","v":1},{"$f":"'Sheet3 (4)'!O2","v":1.6463733062144433E-2},{"$f":"CORREL($B$1:B2,$G$1:G2)","v":1.0000000000000002},{"$f":"'Sheet3 (4)'!Q2","v":1.0208880896389536E-2},{"$f":"CORREL($B$1:B2,$I$1:I2)","v":1},{"$f":"'Sheet3 (4)'!S2","v":1.2674376681365597E-2},{"$f":"CORREL($B$1:B2,$K$1:K2)","v":1},{"$f":"'Sheet3 (4)'!U2","v":-5.9767570558936587E-3},{"$f":"CORREL($B$1:B2,$M$1:M2)","v":1},{"$f":"'Sheet3 (4)'!W2","v":-4.4359776840386328E-3},{"$f":"CORREL($B$1:B2,$O$1:O2)","v":1},{"$f":"'Sheet3 (4)'!Y2","v":8.1191908146527342E-3},{"$f":"CORREL($B$1:B2,$Q$1:Q2)","v":1},{"$f":"'Sheet3 (4)'!AA2","v":3.3995743622343721E-3},{"$f":"CORREL($B$1:B2,$S$1:S2)","v":1.0000000000000002}]
[null,{"$f":"'Sheet3 (4)'!I3","v":-1.479667329965919E-3},{"$f":"'Sheet3 (4)'!K3","v":-8.2724565377860354E-3},{"$f":"CORREL($B$1:B3,$C$1:C3)","v":0.15099318642273074},{"$f":"'Sheet3 (4)'!M3","v":1.6213513015555413E-2},{"$f":"CORREL($B$1:B3,$E$1:E3)","v":-0.64159140434432493},{"$f":"'Sheet3 (4)'!O3","v":1.9542093835032883E-2},{"$f":"CORREL($B$1:B3,$G$1:G3)","v":0.96484372602487822},{"$f":"'Sheet3 (4)'!Q3","v":9.1575598284686748E-3},{"$f":"CORREL($B$1:B3,$I$1:I3)","v":0.34008793796897813},{"$f":"'Sheet3 (4)'!S3","v":1.306265080289536E-2},{"$f":"CORREL($B$1:B3,$K$1:K3)","v":0.88366095695915636},{"$f":"'Sheet3 (4)'!U3","v":-6.8068622025455995E-3},{"$f":"CORREL($B$1:B3,$M$1:M3)","v":0.77188246871265187},{"$f":"'Sheet3 (4)'!W3","v":-4.6536943801877249E-3},{"$f":"CORREL($B$1:B3,$O$1:O3)","v":0.70487436632084632},{"$f":"'Sheet3 (4)'!Y3","v":6.5882996172771137E-3},{"$f":"CORREL($B$1:B3,$Q$1:Q3)","v":-0.78350134397516003},{"$f":"'Sheet3 (4)'!AA3","v":8.0705342583124173E-3},{"$f":"CORREL($B$1:B3,$S$1:S3)","v":0.99782559333119702}]
[null,{"$f":"'Sheet3 (4)'!I4","v":{"$error":"#N/A"}},{"$f":"'Sheet3 (4)'!K4","v":-1.0436022093823021E-3},{"$f":"CORREL($B$1:B4,$C$1:C4)","v":{"$error":"#N/A"}},{"$f":"'Sheet3 (4)'!M4","v":1.13441949832864E-2},{"$f":"CORREL($B$1:B4,$E$1:E4)","v":{"$error":"#N/A"}},{"$f":"'Sheet3 (4)'!O4","v":2.4544430090976576E-2},{"$f":"CORREL($B$1:B4,$G$1:G4)","v":{"$error":"#N/A"}},{"$f":"'Sheet3 (4)'!Q4","v":8.355235855581792E-3},{"$f":"CORREL($B$1:B4,$I$1:I4)","v":{"$error":"#N/A"}},{"$f":"'Sheet3 (4)'!S4","v":1.0233796488892581E-2},{"$f":"CORREL($B$1:B4,$K$1:K4)","v":{"$error":"#N/A"}},{"$f":"'Sheet3 (4)'!U4","v":-2.6563364692860532E-3},{"$f":"CORREL($B$1:B4,$M$1:M4)","v":{"$error":"#N/A"}},{"$f":"'Sheet3 (4)'!W4","v":-6.3409987753435407E-3},{"$f":"CORREL($B$1:B4,$O$1:O4)","v":{"$error":"#N/A"}},{"$f":"'Sheet3 (4)'!Y4","v":4.2099507927828416E-3},{"$f":"CORREL($B$1:B4,$Q$1:Q4)","v":{"$error":"#N/A"}},{"$f":"'Sheet3 (4)'!AA4","v":1.1746496780077942E-2},{"$f":"CORREL($B$1:B4,$S$1:S4)","v":{"$error":"#N/A"}}]
[null,{"$f":"'Sheet3 (4)'!I5","v":{"$error":"#N/A"}},{"$f":"'Sheet3 (4)'!K5","v":-2.4181026802758891E-3},{"$f":"CORREL($B$1:B5,$C$1:C5)","v":{"$error":"#N/A"}},{"$f":"'Sheet3 (4)'!M5","v":1.4581633458795094E-2},{"$f":"CORREL($B$1:B5,$E$1:E5)","v":{"$error":"#N/A"}},{"$f":"'Sheet3 (4)'!O5","v":2.6221037297639065E-2},{"$f":"CORREL($B$1:B5,$G$1:G5)","v":{"$error":"#N/A"}},{"$f":"'Sheet3 (4)'!Q5","v":6.5292571586665201E-3},{"$f":"CORREL($B$1:B5,$I$1:I5)","v":{"$error":"#N/A"}},{"$f":"'Sheet3 (4)'!S5","v":1.1675957511717502E-2},{"$f":"CORREL($B$1:B5,$K$1:K5)","v":{"$error":"#N/A"}},{"$f":"'Sheet3 (4)'!U5","v":-1.3835085777519238E-4},{"$f":"CORREL($B$1:B5,$M$1:M5)","v":{"$error":"#N/A"}},{"$f":"'Sheet3 (4)'!W5","v":-7.0757926248468253E-3},{"$f":"CORREL($B$1:B5,$O$1:O5)","v":{"$error":"#N/A"}},{"$f":"'Sheet3 (4)'!Y5","v":4.2372881355932515E-3},{"$f":"CORREL($B$1:B5,$Q$1:Q5)","v":{"$error":"#N/A"}},{"$f":"'Sheet3 (4)'!AA5","v":1.663856720378094E-2},{"$f":"CORREL($B$1:B5,$S$1:S5)","v":{"$error":"#N/A"}}]
[null,{"$f":"'Sheet3 (4)'!I6","v":{"$error":"#N/A"}},{"$f":"'Sheet3 (4)'!K6","v":1.9599358566446453E-3},{"$f":"CORREL($B$1:B6,$C$1:C6)","v":{"$error":"#N/A"}},{"$f":"'Sheet3 (4)'!M6","v":1.6555681309714999E-2},{"$f":"CORREL($B$1:B6,$E$1:E6)","v":{"$error":"#N/A"}},{"$f":"'Sheet3 (4)'!O6","v":2.3472500893274389E-2},{"$f":"CORREL($B$1:B6,$G$1:G6)","v":{"$error":"#N/A"}},{"$f":"'Sheet3 (4)'!Q6","v":5.1182736201411611E-3},{"$f":"CORREL($B$1:B6,$I$1:I6)","v":{"$error":"#N/A"}},{"$f":"'Sheet3 (4)'!S6","v":1.1842360706658851E-2},{"$f":"CORREL($B$1:B6,$K$1:K6)","v":{"$error":"#N/A"}},{"$f":"'Sheet3 (4)'!U6","v":-1.5771997786386087E-3},{"$f":"CORREL($B$1:B6,$M$1:M6)","v":{"$error":"#N/A"}},{"$f":"'Sheet3 (4)'!W6","v":-5.3068444686351574E-3},{"$f":"CORREL($B$1:B6,$O$1:O6)","v":{"$error":"#N/A"}},{"$f":"'Sheet3 (4)'!Y6","v":-1.0934937124117131E-4},{"$f":"CORREL($B$1:B6,$Q$1:Q6)","v":{"$error":"#N/A"}},{"$f":"'Sheet3 (4)'!AA6","v":1.5450098117796565E-2},{"$f":"CORREL($B$1:B6,$S$1:S6)","v":{"$error":"#N/A"}}]
[null,{"$f":"'Sheet3 (4)'!I7","v":{"$error":"#N/A"}},{"$f":"'Sheet3 (4)'!K7","v":3.0289917784508814E-3},{"$f":"CORREL($B$1:B7,$C$1:C7)","v":{"$error":"#N/A"}},{"$f":"'Sheet3 (4)'!M7","v":1.7687468744242284E-2},{"$f":"CORREL($B$1:B7,$E$1:E7)","v":{"$error":"#N/A"}},{"$f":"'Sheet3 (4)'!O7","v":2.0586537668691448E-2},{"$f":"CORREL($B$1:B7,$G$1:G7)","v":{"$error":"#N/A"}},{"$f":"'Sheet3 (4)'!Q7","v":8.1615714483330715E-3},{"$f":"CORREL($B$1:B7,$I$1:I7)","v":{"$error":"#N/A"}},{"$f":"'Sheet3 (4)'!S7","v":1.0344731952186865E-2},{"$f":"CORREL($B$1:B7,$K$1:K7)","v":{"$error":"#N/A"}},{"$f":"'Sheet3 (4)'!U7","v":-3.8738240177088471E-3},{"$f":"CORREL($B$1:B7,$M$1:M7)","v":{"$error":"#N/A"}},{"$f":"'Sheet3 (4)'!W7","v":-8.3820928017416911E-3},{"$f":"CORREL($B$1:B7,$O$1:O7)","v":{"$error":"#N/A"}},{"$f":"'Sheet3 (4)'!Y7","v":-1.0934937124112468E-3},{"$f":"CORREL($B$1:B7,$Q$1:Q7)","v":{"$error":"#N/A"}},{"$f":"'Sheet3 (4)'!AA7","v":1.8048146817390268E-2},{"$f":"CORREL($B$1:B7,$S$1:S7)","v":{"$error":"#N/A"}}]
[null,{"$f":"'Sheet3 (4)'!I8","v":{"$error":"#N/A"}},{"$f":"'Sheet3 (4)'!K8","v":7.4324840277954947E-3},{"$f":"CORREL($B$1:B8,$C$1:C8)","v":{"$error":"#N/A"}},{"$f":"'Sheet3 (4)'!M8","v":2.2504145500486961E-2},{"$f":"CORREL($B$1:B8,$E$1:E8)","v":{"$error":"#N/A"}},{"$f":"'Sheet3 (4)'!O8","v":2.3554956985405252E-2},{"$f":"CORREL($B$1:B8,$G$1:G8)","v":{"$error":"#N/A"}},{"$f":"'Sheet3 (4)'!Q8","v":6.3079264075253279E-3},{"$f":"CORREL($B$1:B8,$I$1:I8)","v":{"$error":"#N/A"}},{"$f":"'Sheet3 (4)'!S8","v":1.1897828438306073E-2},{"$f":"CORREL($B$1:B8,$K$1:K8)","v":{"$error":"#N/A"}},{"$f":"'Sheet3 (4)'!U8","v":-1.9369120088542663E-4},{"$f":"CORREL($B$1:B8,$M$1:M8)","v":{"$error":"#N/A"}},{"$f":"'Sheet3 (4)'!W8","v":-1.2872499659817557E-2},{"$f":"CORREL($B$1:B8,$O$1:O8)","v":{"$error":"#N/A"}},{"$f":"'Sheet3 (4)'!Y8","v":-1.9136139967194878E-3},{"$f":"CORREL($B$1:B8,$Q$1:Q8)","v":{"$error":"#N/A"}},{"$f":"'Sheet3 (4)'!AA8","v":1.8048146817390268E-2},{"$f":"CORREL($B$1:B8,$S$1:S8)","v":{"$error":"#N/A"}}]
[null,{"$f":"'Sheet3 (4)'!I9","v":{"$error":"#N/A"}},{"$f":"'Sheet3 (4)'!K9","v":1.3999541833176369E-2},{"$f":"CORREL($B$1:B9,$C$1:C9)","v":{"$error":"#N/A"}},{"$f":"'Sheet3 (4)'!M9","v":2.3214802726818081E-2},{"$f":"CORREL($B$1:B9,$E$1:E9)","v":{"$error":"#N/A"}},{"$f":"'Sheet3 (4)'!O9","v":2.5671330016766161E-2},{"$f":"CORREL($B$1:B9,$G$1:G9)","v":{"$error":"#N/A"}},{"$f":"'Sheet3 (4)'!Q9","v":7.8849080094066208E-3},{"$f":"CORREL($B$1:B9,$I$1:I9)","v":{"$error":"#N/A"}},{"$f":"'Sheet3 (4)'!S9","v":1.0871675402834445E-2},{"$f":"CORREL($B$1:B9,$K$1:K9)","v":{"$error":"#N/A"}},{"$f":"'Sheet3 (4)'!U9","v":9.4078583287225193E-4},{"$f":"CORREL($B$1:B9,$M$1:M9)","v":{"$error":"#N/A"}},{"$f":"'Sheet3 (4)'!W9","v":-1.3471220574227756E-2},{"$f":"CORREL($B$1:B9,$O$1:O9)","v":{"$error":"#N/A"}},{"$f":"'Sheet3 (4)'!Y9","v":-1.7222525970475545E-3},{"$f":"CORREL($B$1:B9,$Q$1:Q9)","v":{"$error":"#N/A"}},{"$f":"'Sheet3 (4)'!AA9","v":1.8518006688593429E-2},{"$f":"CORREL($B$1:B9,$S$1:S9)","v":{"$error":"#N/A"}}]
[null,{"$f":"'Sheet3 (4)'!I10","v":{"$error":"#N/A"}},{"$f":"'Sheet3 (4)'!K10","v":1.1199633466541037E-2},{"$f":"CORREL($B$1:B10,$C$1:C10)","v":{"$error":"#N/A"}},{"$f":"'Sheet3 (4)'!M10","v":2.2267259758376488E-2},{"$f":"CORREL($B$1:B10,$E$1:E10)","v":{"$error":"#N/A"}},{"$f":"'Sheet3 (4)'!O10","v":2.6028639749333556E-2},{"$f":"CORREL($B$1:B10,$G$1:G10)","v":{"$error":"#N/A"}},{"$f":"'Sheet3 (4)'!Q10","v":9.0745607967907867E-3},{"$f":"CORREL($B$1:B10,$I$1:I10)","v":{"$error":"#N/A"}},{"$f":"'Sheet3 (4)'!S10","v":1.1759159109188256E-2},{"$f":"CORREL($B$1:B10,$K$1:K10)","v":{"$error":"#N/A"}},{"$f":"'Sheet3 (4)'!U10","v":1.2451577199779898E-3},{"$f":"CORREL($B$1:B10,$M$1:M10)","v":{"$error":"#N/A"}},{"$f":"'Sheet3 (4)'!W10","v":-1.4206014423731039E-2},{"$f":"CORREL($B$1:B10,$O$1:O10)","v":{"$error":"#N/A"}},{"$f":"'Sheet3 (4)'!Y10","v":-3.444505194095109E-3},{"$f":"CORREL($B$1:B10,$Q$1:Q10)","v":{"$error":"#N/A"}},{"$f":"'Sheet3 (4)'!AA10","v":1.8324534976921575E-2},{"$f":"CORREL($B$1:B10,$S$1:S10)","v":{"$error":"#N/A"}}]
[null,{"$f":"'Sheet3 (4)'!I11","v":{"$error":"#N/A"}},{"$f":"'Sheet3 (4)'!K11","v":1.224323567592334E-2},{"$f":"CORREL($B$1:B11,$C$1:C11)","v":{"$error":"#N/A"}},{"$f":"'Sheet3 (4)'!M11","v":2.4820361645566304E-2},{"$f":"CORREL($B$1:B11,$E$1:E11)","v":{"$error":"#N/A"}},{"$f":"'Sheet3 (4)'!O11","v":2.4956710551631369E-2},{"$f":"CORREL($B$1:B11,$G$1:G11)","v":{"$error":"#N/A"}},{"$f":"'Sheet3 (4)'!Q11","v":7.7465762899433157E-3},{"$f":"CORREL($B$1:B11,$I$1:I11)","v":{"$error":"#N/A"}},{"$f":"'Sheet3 (4)'!S11","v":1.311811853454258E-2},{"$f":"CORREL($B$1:B11,$K$1:K11)","v":{"$error":"#N/A"}},{"$f":"'Sheet3 (4)'!U11","v":9.1311566131721349E-4},{"$f":"CORREL($B$1:B11,$M$1:M11)","v":{"$error":"#N/A"}},{"$f":"'Sheet3 (4)'!W11","v":-1.9050210913049394E-2},{"$f":"CORREL($B$1:B11,$O$1:O11)","v":{"$error":"#N/A"}},{"$f":"'Sheet3 (4)'!Y11","v":-2.4056861673045255E-3},{"$f":"CORREL($B$1:B11,$Q$1:Q11)","v":{"$error":"#N/A"}},{"$f":"'Sheet3 (4)'!AA11","v":1.9513004062905952E-2},{"$f":"CORREL($B$1:B11,$S$1:S11)","v":{"$error":"#N/A"}}]
[null,{"$f":"'Sheet3 (4)'!I12","v":{"$error":"#N/A"}},{"$f":"'Sheet3 (4)'!K12","v":9.1124290477765778E-3},{"$f":"CORREL($B$1:B12,$C$1:C12)","v":{"$error":"#N/A"}},{"$f":"'Sheet3 (4)'!M12","v":2.8952701813491959E-2},{"$f":"CORREL($B$1:B12,$E$1:E12)","v":{"$error":"#N/A"}},{"$f":"'Sheet3 (4)'!O12","v":2.3857295989885407E-2},{"$f":"CORREL($B$1:B12,$G$1:G12)","v":{"$error":"#N/A"}},{"$f":"'Sheet3 (4)'!Q12","v":8.0785724166551835E-3},{"$f":"CORREL($B$1:B12,$I$1:I12)","v":{"$error":"#N/A"}},{"$f":"'Sheet3 (4)'!S12","v":8.7916354660676592E-3},{"$f":"CORREL($B$1:B12,$K$1:K12)","v":{"$error":"#N/A"}},{"$f":"'Sheet3 (4)'!U12","v":-2.0752628666297732E-3},{"$f":"CORREL($B$1:B12,$M$1:M12)","v":{"$error":"#N/A"}},{"$f":"'Sheet3 (4)'!W12","v":-1.7444550278949429E-2},{"$f":"CORREL($B$1:B12,$O$1:O12)","v":{"$error":"#N/A"}},{"$f":"'Sheet3 (4)'!Y12","v":-1.4762165117551134E-3},{"$f":"CORREL($B$1:B12,$Q$1:Q12)","v":{"$error":"#N/A"}},{"$f":"'Sheet3 (4)'!AA12","v":2.1309527099858984E-2},{"$f":"CORREL($B$1:B12,$S$1:S12)","v":{"$error":"#N/A"}}]
[null,{"$f":"'Sheet3 (4)'!I13","v":{"$error":"#N/A"}},{"$f":"'Sheet3 (4)'!K13","v":9.49423473413602E-3},{"$f":"CORREL($B$1:B13,$C$1:C13)","v":{"$error":"#N/A"}},{"$f":"'Sheet3 (4)'!M13","v":2.4188666333271911E-2},{"$f":"CORREL($B$1:B13,$E$1:E13)","v":{"$error":"#N/A"}},{"$f":"'Sheet3 (4)'!O13","v":2.369238380562352E-2},{"$f":"CORREL($B$1:B13,$G$1:G13)","v":{"$error":"#N/A"}},{"$f":"'Sheet3 (4)'!Q13","v":8.8808963895422224E-3},{"$f":"CORREL($B$1:B13,$I$1:I13)","v":{"$error":"#N/A"}},{"$f":"'Sheet3 (4)'!S13","v":8.4865629420084934E-3},{"$f":"CORREL($B$1:B13,$K$1:K13)","v":{"$error":"#N/A"}},{"$f":"'Sheet3 (4)'!U13","v":-2.545655783065742E-3},{"$f":"CORREL($B$1:B13,$M$1:M13)","v":{"$error":"#N/A"}},{"$f":"'Sheet3 (4)'!W13","v":-1.8070485780378245E-2},{"$f":"CORREL($B$1:B13,$O$1:O13)","v":{"$error":"#N/A"}},{"$f":"'Sheet3 (4)'!Y13","v":-3.8819026790596388E-3},{"$f":"CORREL($B$1:B13,$Q$1:Q13)","v":{"$error":"#N/A"}},{"$f":"'Sheet3 (4)'!AA13","v":1.9817031038390359E-2},{"$f":"CORREL($B$1:B13,$S$1:S13)","v":{"$error":"#N/A"}}]
[null,{"$f":"'Sheet3 (4)'!I14","v":{"$error":"#N/A"}},{"$f":"'Sheet3 (4)'!K14","v":8.2470028253621014E-3},{"$f":"CORREL($B$1:B14,$C$1:C14)","v":{"$error":"#N/A"}},{"$f":"'Sheet3 (4)'!M14","v":2.6478561840339015E-2},{"$f":"CORREL($B$1:B14,$E$1:E14)","v":{"$error":"#N/A"}},{"$f":"'Sheet3 (4)'!O14","v":2.3472500893274389E-2},{"$f":"CORREL($B$1:B14,$G$1:G14)","v":{"$error":"#N/A"}},{"$f":"'Sheet3 (4)'!Q14","v":9.4895559551805425E-3},{"$f":"CORREL($B$1:B14,$I$1:I14)","v":{"$error":"#N/A"}},{"$f":"'Sheet3 (4)'!S14","v":9.1799095875974221E-3},{"$f":"CORREL($B$1:B14,$K$1:K14)","v":{"$error":"#N/A"}},{"$f":"'Sheet3 (4)'!U14","v":-5.2019922523519526E-3},{"$f":"CORREL($B$1:B14,$M$1:M14)","v":{"$error":"#N/A"}},{"$f":"'Sheet3 (4)'!W14","v":-2.2805823921621976E-2},{"$f":"CORREL($B$1:B14,$O$1:O14)","v":{"$error":"#N/A"}},{"$f":"'Sheet3 (4)'!Y14","v":-4.2919628212137592E-3},{"$f":"CORREL($B$1:B14,$Q$1:Q14)","v":{"$error":"#N/A"}},{"$f":"'Sheet3 (4)'!AA14","v":2.0812028412702726E-2},{"$f":"CORREL($B$1:B14,$S$1:S14)","v":{"$error":"#N/A"}}]
[null,{"$f":"'Sheet3 (4)'!I15","v":{"$error":"#N/A"}},{"$f":"'Sheet3 (4)'!K15","v":5.8034464326621338E-3},{"$f":"CORREL($B$1:B15,$C$1:C15)","v":{"$error":"#N/A"}},{"$f":"'Sheet3 (4)'!M15","v":2.5162529939725745E-2},{"$f":"CORREL($B$1:B15,$E$1:E15)","v":{"$error":"#N/A"}},{"$f":"'Sheet3 (4)'!O15","v":2.4654371547151218E-2},{"$f":"CORREL($B$1:B15,$G$1:G15)","v":{"$error":"#N/A"}},{"$f":"'Sheet3 (4)'!Q15","v":9.4065569235026545E-3},{"$f":"CORREL($B$1:B15,$I$1:I15)","v":{"$error":"#N/A"}},{"$f":"'Sheet3 (4)'!S15","v":7.0998696508306359E-3},{"$f":"CORREL($B$1:B15,$K$1:K15)","v":{"$error":"#N/A"}},{"$f":"'Sheet3 (4)'!U15","v":-5.8660763696735049E-3},{"$f":"CORREL($B$1:B15,$M$1:M15)","v":{"$error":"#N/A"}},{"$f":"'Sheet3 (4)'!W15","v":-2.2778609334603361E-2},{"$f":"CORREL($B$1:B15,$O$1:O15)","v":{"$error":"#N/A"}},{"$f":"'Sheet3 (4)'!Y15","v":-4.7566976489885433E-3},{"$f":"CORREL($B$1:B15,$Q$1:Q15)","v":{"$error":"#N/A"}},{"$f":"'Sheet3 (4)'!AA15","v":2.1613554075343395E-2},{"$f":"CORREL($B$1:B15,$S$1:S15)","v":{"$error":"#N/A"}}]
[null,{"$f":"'Sheet3 (4)'!I16","v":{"$error":"#N/A"}},{"$f":"'Sheet3 (4)'!K16","v":8.0433731259703413E-3},{"$f":"CORREL($B$1:B16,$C$1:C16)","v":{"$error":"#N/A"}},{"$f":"'Sheet3 (4)'!M16","v":2.3267444002842561E-2},{"$f":"CORREL($B$1:B16,$E$1:E16)","v":{"$error":"#N/A"}},{"$f":"'Sheet3 (4)'!O16","v":2.4022208174147294E-2},{"$f":"CORREL($B$1:B16,$G$1:G16)","v":{"$error":"#N/A"}},{"$f":"'Sheet3 (4)'!Q16","v":9.0192281090053696E-3},{"$f":"CORREL($B$1:B16,$I$1:I16)","v":{"$error":"#N/A"}},{"$f":"'Sheet3 (4)'!S16","v":5.990515017888413E-3},{"$f":"CORREL($B$1:B16,$K$1:K16)","v":{"$error":"#N/A"}},{"$f":"'Sheet3 (4)'!U16","v":-4.0951853901493125E-3},{"$f":"CORREL($B$1:B16,$M$1:M16)","v":{"$error":"#N/A"}},{"$f":"'Sheet3 (4)'!W16","v":-2.3214042726901547E-2},{"$f":"CORREL($B$1:B16,$O$1:O16)","v":{"$error":"#N/A"}},{"$f":"'Sheet3 (4)'!Y16","v":-5.6861673045379554E-3},{"$f":"CORREL($B$1:B16,$Q$1:Q16)","v":{"$error":"#N/A"}},{"$f":"'Sheet3 (4)'!AA16","v":2.0010502750062213E-2},{"$f":"CORREL($B$1:B16,$S$1:S16)","v":{"$error":"#N/A"}}]
[null,{"$f":"'Sheet3 (4)'!I17","v":{"$error":"#N/A"}},{"$f":"'Sheet3 (4)'!K17","v":1.1377809453508719E-2},{"$f":"CORREL($B$1:B17,$C$1:C17)","v":{"$error":"#N/A"}},{"$f":"'Sheet3 (4)'!M17","v":2.2293580396388731E-2},{"$f":"CORREL($B$1:B17,$E$1:E17)","v":{"$error":"#N/A"}},{"$f":"'Sheet3 (4)'!O17","v":2.5396476376329632E-2},{"$f":"CORREL($B$1:B17,$G$1:G17)","v":{"$error":"#N/A"}},{"$f":"'Sheet3 (4)'!Q17","v":1.0153548208604278E-2},{"$f":"CORREL($B$1:B17,$I$1:I17)","v":{"$error":"#N/A"}},{"$f":"'Sheet3 (4)'!S17","v":6.2955875419474219E-3},{"$f":"CORREL($B$1:B17,$K$1:K17)","v":{"$error":"#N/A"}},{"$f":"'Sheet3 (4)'!U17","v":-2.545655783065742E-3},{"$f":"CORREL($B$1:B17,$M$1:M17)","v":{"$error":"#N/A"}},{"$f":"'Sheet3 (4)'!W17","v":-2.53367805143557E-2},{"$f":"CORREL($B$1:B17,$O$1:O17)","v":{"$error":"#N/A"}},{"$f":"'Sheet3 (4)'!Y17","v":-4.4833242208856929E-3},{"$f":"CORREL($B$1:B17,$Q$1:Q17)","v":{"$error":"#N/A"}},{"$f":"'Sheet3 (4)'!AA17","v":1.8739117216218383E-2},{"$f":"CORREL($B$1:B17,$S$1:S17)","v":{"$error":"#N/A"}}]
[null,{"$f":"'Sheet3 (4)'!I18","v":{"$error":"#N/A"}},{"$f":"'Sheet3 (4)'!K18","v":1.1097818616845301E-2},{"$f":"CORREL($B$1:B18,$C$1:C18)","v":{"$error":"#N/A"}},{"$f":"'Sheet3 (4)'!M18","v":1.8661332350696114E-2},{"$f":"CORREL($B$1:B18,$E$1:E18)","v":{"$error":"#N/A"}},{"$f":"'Sheet3 (4)'!O18","v":2.4599400819063817E-2},{"$f":"CORREL($B$1:B18,$G$1:G18)","v":{"$error":"#N/A"}},{"$f":"'Sheet3 (4)'!Q18","v":1.0291879928067581E-2},{"$f":"CORREL($B$1:B18,$I$1:I18)","v":{"$error":"#N/A"}},{"$f":"'Sheet3 (4)'!S18","v":7.4326760407133338E-3},{"$f":"CORREL($B$1:B18,$K$1:K18)","v":{"$error":"#N/A"}},{"$f":"'Sheet3 (4)'!U18","v":-9.1311566131705617E-4},{"$f":"CORREL($B$1:B18,$M$1:M18)","v":{"$error":"#N/A"}},{"$f":"'Sheet3 (4)'!W18","v":-2.1390665396652644E-2},{"$f":"CORREL($B$1:B18,$O$1:O18)","v":{"$error":"#N/A"}},{"$f":"'Sheet3 (4)'!Y18","v":-6.5609622744671706E-4},{"$f":"CORREL($B$1:B18,$Q$1:Q18)","v":{"$error":"#N/A"}},{"$f":"'Sheet3 (4)'!AA18","v":1.9347171167187198E-2},{"$f":"CORREL($B$1:B18,$S$1:S18)","v":{"$error":"#N/A"}}]
[null,{"$f":"'Sheet3 (4)'!I19","v":{"$error":"#N/A"}},{"$f":"'Sheet3 (4)'!K19","v":7.1270394787079985E-3},{"$f":"CORREL($B$1:B19,$C$1:C19)","v":{"$error":"#N/A"}},{"$f":"'Sheet3 (4)'!M19","v":2.1661885084094487E-2},{"$f":"CORREL($B$1:B19,$E$1:E19)","v":{"$error":"#N/A"}},{"$f":"'Sheet3 (4)'!O19","v":2.468185691119484E-2},{"$f":"CORREL($B$1:B19,$G$1:G19)","v":{"$error":"#N/A"}},{"$f":"'Sheet3 (4)'!Q19","v":1.0291879928067581E-2},{"$f":"CORREL($B$1:B19,$I$1:I19)","v":{"$error":"#N/A"}},{"$f":"'Sheet3 (4)'!S19","v":6.6006600660065886E-3},{"$f":"CORREL($B$1:B19,$K$1:K19)","v":{"$error":"#N/A"}},{"$f":"'Sheet3 (4)'!U19","v":-2.0752628666297732E-3},{"$f":"CORREL($B$1:B19,$M$1:M19)","v":{"$error":"#N/A"}},{"$f":"'Sheet3 (4)'!W19","v":-1.7635052388079907E-2},{"$f":"CORREL($B$1:B19,$O$1:O19)","v":{"$error":"#N/A"}},{"$f":"'Sheet3 (4)'!Y19","v":-6.5609622744671706E-4},{"$f":"CORREL($B$1:B19,$Q$1:Q19)","v":{"$error":"#N/A"}},{"$f":"'Sheet3 (4)'!AA19","v":1.9098421823609147E-2},{"$f":"CORREL($B$1:B19,$S$1:S19)","v":{"$error":"#N/A"}}]
[null,{"$f":"'Sheet3 (4)'!I20","v":{"$error":"#N/A"}},{"$f":"'Sheet3 (4)'!K20","v":6.9743172041642505E-3},{"$f":"CORREL($B$1:B20,$C$1:C20)","v":{"$error":"#N/A"}},{"$f":"'Sheet3 (4)'!M20","v":2.4583475903455835E-2},{"$f":"CORREL($B$1:B20,$E$1:E20)","v":{"$error":"#N/A"}},{"$f":"'Sheet3 (4)'!O20","v":2.5671330016766161E-2},{"$f":"CORREL($B$1:B20,$G$1:G20)","v":{"$error":"#N/A"}},{"$f":"'Sheet3 (4)'!Q20","v":1.0762207774242596E-2},{"$f":"CORREL($B$1:B20,$I$1:I20)","v":{"$error":"#N/A"}},{"$f":"'Sheet3 (4)'!S20","v":6.1014504811825404E-3},{"$f":"CORREL($B$1:B20,$K$1:K20)","v":{"$error":"#N/A"}},{"$f":"'Sheet3 (4)'!U20","v":1.106806862203112E-4},{"$f":"CORREL($B$1:B20,$M$1:M20)","v":{"$error":"#N/A"}},{"$f":"'Sheet3 (4)'!W20","v":-1.8206558715471489E-2},{"$f":"CORREL($B$1:B20,$O$1:O20)","v":{"$error":"#N/A"}},{"$f":"'Sheet3 (4)'!Y20","v":-2.4330235101147793E-3},{"$f":"CORREL($B$1:B20,$Q$1:Q20)","v":{"$error":"#N/A"}},{"$f":"'Sheet3 (4)'!AA20","v":1.6002874436859181E-2},{"$f":"CORREL($B$1:B20,$S$1:S20)","v":{"$error":"#N/A"}}]
[null,{"$f":"'Sheet3 (4)'!I21","v":{"$error":"#N/A"}},{"$f":"'Sheet3 (4)'!K21","v":6.0579835569017628E-3},{"$f":"CORREL($B$1:B21,$C$1:C21)","v":{"$error":"#N/A"}},{"$f":"'Sheet3 (4)'!M21","v":2.5346774405811585E-2},{"$f":"CORREL($B$1:B21,$E$1:E21)","v":{"$error":"#N/A"}},{"$f":"'Sheet3 (4)'!O21","v":2.4461973998845709E-2},{"$f":"CORREL($B$1:B21,$G$1:G21)","v":{"$error":"#N/A"}},{"$f":"'Sheet3 (4)'!Q21","v":9.6555540185364764E-3},{"$f":"CORREL($B$1:B21,$I$1:I21)","v":{"$error":"#N/A"}},{"$f":"'Sheet3 (4)'!S21","v":6.1569182128297624E-3},{"$f":"CORREL($B$1:B21,$K$1:K21)","v":{"$error":"#N/A"}},{"$f":"'Sheet3 (4)'!U21","v":1.5771997786387661E-3},{"$f":"CORREL($B$1:B21,$M$1:M21)","v":{"$error":"#N/A"}},{"$f":"'Sheet3 (4)'!W21","v":-1.4233229010749656E-2},{"$f":"CORREL($B$1:B21,$O$1:O21)","v":{"$error":"#N/A"}},{"$f":"'Sheet3 (4)'!Y21","v":1.3668671405142529E-4},{"$f":"CORREL($B$1:B21,$Q$1:Q21)","v":{"$error":"#N/A"}},{"$f":"'Sheet3 (4)'!AA21","v":1.9319532351234098E-2},{"$f":"CORREL($B$1:B21,$S$1:S21)","v":{"$error":"#N/A"}}]
[null,{"$f":"'Sheet3 (4)'!I22","v":{"$error":"#N/A"}},{"$f":"'Sheet3 (4)'!K22","v":5.2943721841830224E-3},{"$f":"CORREL($B$1:B22,$C$1:C22)","v":{"$error":"#N/A"}},{"$f":"'Sheet3 (4)'!M22","v":2.4978285473639904E-2},{"$f":"CORREL($B$1:B22,$E$1:E22)","v":{"$error":"#N/A"}},{"$f":"'Sheet3 (4)'!O22","v":2.4516944726932954E-2},{"$f":"CORREL($B$1:B22,$G$1:G22)","v":{"$error":"#N/A"}},{"$f":"'Sheet3 (4)'!Q22","v":1.0181214552496907E-2},{"$f":"CORREL($B$1:B22,$I$1:I22)","v":{"$error":"#N/A"}},{"$f":"'Sheet3 (4)'!S22","v":4.3819508001219851E-3},{"$f":"CORREL($B$1:B22,$K$1:K22)","v":{"$error":"#N/A"}},{"$f":"'Sheet3 (4)'!U22","v":1.0791366906476017E-3},{"$f":"CORREL($B$1:B22,$M$1:M22)","v":{"$error":"#N/A"}},{"$f":"'Sheet3 (4)'!W22","v":-1.4913593686215707E-2},{"$f":"CORREL($B$1:B22,$O$1:O22)","v":{"$error":"#N/A"}},{"$f":"'Sheet3 (4)'!Y22","v":-4.6473482777478379E-4},{"$f":"CORREL($B$1:B22,$Q$1:Q22)","v":{"$error":"#N/A"}},{"$f":"'Sheet3 (4)'!AA22","v":1.9706475774577806E-2},{"$f":"CORREL($B$1:B22,$S$1:S22)","v":{"$error":"#N/A"}}]
[null,{"$f":"'Sheet3 (4)'!I23","v":{"$error":"#N/A"}},{"$f":"'Sheet3 (4)'!K23","v":4.2507699748008648E-3},{"$f":"CORREL($B$1:B23,$C$1:C23)","v":{"$error":"#N/A"}},{"$f":"'Sheet3 (4)'!M23","v":2.5057247387676628E-2},{"$f":"CORREL($B$1:B23,$E$1:E23)","v":{"$error":"#N/A"}},{"$f":"'Sheet3 (4)'!O23","v":2.6001154385289934E-2},{"$f":"CORREL($B$1:B23,$G$1:G23)","v":{"$error":"#N/A"}},{"$f":"'Sheet3 (4)'!Q23","v":1.0734541430349968E-2},{"$f":"CORREL($B$1:B23,$I$1:I23)","v":{"$error":"#N/A"}},{"$f":"'Sheet3 (4)'!S23","v":6.0182488837119451E-3},{"$f":"CORREL($B$1:B23,$K$1:K23)","v":{"$error":"#N/A"}},{"$f":"'Sheet3 (4)'!U23","v":3.5971223021581477E-4},{"$f":"CORREL($B$1:B23,$M$1:M23)","v":{"$error":"#N/A"}},{"$f":"'Sheet3 (4)'!W23","v":-1.4369301945842898E-2},{"$f":"CORREL($B$1:B23,$O$1:O23)","v":{"$error":"#N/A"}},{"$f":"'Sheet3 (4)'!Y23","v":-4.1006014215427583E-4},{"$f":"CORREL($B$1:B23,$Q$1:Q23)","v":{"$error":"#N/A"}},{"$f":"'Sheet3 (4)'!AA23","v":1.9595920510765249E-2},{"$f":"CORREL($B$1:B23,$S$1:S23)","v":{"$error":"#N/A"}}]
[null,{"$f":"'Sheet3 (4)'!I24","v":{"$error":"#N/A"}},{"$f":"'Sheet3 (4)'!K24","v":2.3162878305800091E-3},{"$f":"CORREL($B$1:B24,$C$1:C24)","v":{"$error":"#N/A"}},{"$f":"'Sheet3 (4)'!M24","v":1.9977364251309384E-2},{"$f":"CORREL($B$1:B24,$E$1:E24)","v":{"$error":"#N/A"}},{"$f":"'Sheet3 (4)'!O24","v":2.7073083582992121E-2},{"$f":"CORREL($B$1:B24,$G$1:G24)","v":{"$error":"#N/A"}},{"$f":"'Sheet3 (4)'!Q24","v":1.1066537557061835E-2},{"$f":"CORREL($B$1:B24,$I$1:I24)","v":{"$error":"#N/A"}},{"$f":"'Sheet3 (4)'!S24","v":7.1830712483013891E-3},{"$f":"CORREL($B$1:B24,$K$1:K24)","v":{"$error":"#N/A"}},{"$f":"'Sheet3 (4)'!U24","v":1.9092418372993851E-3},{"$f":"CORREL($B$1:B24,$M$1:M24)","v":{"$error":"#N/A"}},{"$f":"'Sheet3 (4)'!W24","v":-1.7145189821744487E-2},{"$f":"CORREL($B$1:B24,$O$1:O24)","v":{"$error":"#N/A"}},{"$f":"'Sheet3 (4)'!Y24","v":1.6402405686166371E-3},{"$f":"CORREL($B$1:B24,$Q$1:Q24)","v":{"$error":"#N/A"}},{"$f":"'Sheet3 (4)'!AA24","v":1.901550537574969E-2},{"$f":"CORREL($B$1:B24,$S$1:S24)","v":{"$error":"#N/A"}}]
[null,{"$f":"'Sheet3 (4)'!I25","v":{"$error":"#N/A"}},{"$f":"'Sheet3 (4)'!K25","v":4.8362053605517788E-4},{"$f":"CORREL($B$1:B25,$C$1:C25)","v":{"$error":"#N/A"}},{"$f":"'Sheet3 (4)'!M25","v":2.5030926749664388E-2},{"$f":"CORREL($B$1:B25,$E$1:E25)","v":{"$error":"#N/A"}},{"$f":"'Sheet3 (4)'!O25","v":2.9959046807575062E-2},{"$f":"CORREL($B$1:B25,$G$1:G25)","v":{"$error":"#N/A"}},{"$f":"'Sheet3 (4)'!Q25","v":1.0983538525383946E-2},{"$f":"CORREL($B$1:B25,$I$1:I25)","v":{"$error":"#N/A"}},{"$f":"'Sheet3 (4)'!S25","v":5.546773164711429E-3},{"$f":"CORREL($B$1:B25,$K$1:K25)","v":{"$error":"#N/A"}},{"$f":"'Sheet3 (4)'!U25","v":6.364139457665141E-4},{"$f":"CORREL($B$1:B25,$M$1:M25)","v":{"$error":"#N/A"}},{"$f":"'Sheet3 (4)'!W25","v":-1.8505919172676587E-2},{"$f":"CORREL($B$1:B25,$O$1:O25)","v":{"$error":"#N/A"}},{"$f":"'Sheet3 (4)'!Y25","v":1.1755057408420087E-3},{"$f":"CORREL($B$1:B25,$Q$1:Q25)","v":{"$error":"#N/A"}},{"$f":"'Sheet3 (4)'!AA25","v":1.7384815234515408E-2},{"$f":"CORREL($B$1:B25,$S$1:S25)","v":{"$error":"#N/A"}}]
[null,{"$f":"'Sheet3 (4)'!I26","v":{"$error":"#N/A"}},{"$f":"'Sheet3 (4)'!K26","v":-9.1633364726248793E-4},{"$f":"CORREL($B$1:B26,$C$1:C26)","v":{"$error":"#N/A"}},{"$f":"'Sheet3 (4)'!M26","v":2.5478377595872941E-2},{"$f":"CORREL($B$1:B26,$E$1:E26)","v":{"$error":"#N/A"}},{"$f":"'Sheet3 (4)'!O26","v":2.9491795618833024E-2},{"$f":"CORREL($B$1:B26,$G$1:G26)","v":{"$error":"#N/A"}},{"$f":"'Sheet3 (4)'!Q26","v":1.114953658873988E-2},{"$f":"CORREL($B$1:B26,$I$1:I26)","v":{"$error":"#N/A"}},{"$f":"'Sheet3 (4)'!S26","v":5.4358377014171438E-3},{"$f":"CORREL($B$1:B26,$K$1:K26)","v":{"$error":"#N/A"}},{"$f":"'Sheet3 (4)'!U26","v":5.8107360265643722E-4},{"$f":"CORREL($B$1:B26,$M$1:M26)","v":{"$error":"#N/A"}},{"$f":"'Sheet3 (4)'!W26","v":-1.7199618995781721E-2},{"$f":"CORREL($B$1:B26,$O$1:O26)","v":{"$error":"#N/A"}},{"$f":"'Sheet3 (4)'!Y26","v":-4.9207217058503771E-4},{"$f":"CORREL($B$1:B26,$Q$1:Q26)","v":{"$error":"#N/A"}},{"$f":"'Sheet3 (4)'!AA26","v":1.8075785633343524E-2},{"$f":"CORREL($B$1:B26,$S$1:S26)","v":{"$error":"#N/A"}}]
[null,{"$f":"'Sheet3 (4)'!I27","v":{"$error":"#N/A"}},{"$f":"'Sheet3 (4)'!K27","v":2.0108432814926577E-3},{"$f":"CORREL($B$1:B27,$C$1:C27)","v":{"$error":"#N/A"}},{"$f":"'Sheet3 (4)'!M27","v":2.4425552075382235E-2},{"$f":"CORREL($B$1:B27,$E$1:E27)","v":{"$error":"#N/A"}},{"$f":"'Sheet3 (4)'!O27","v":3.1883022290630302E-2},{"$f":"CORREL($B$1:B27,$G$1:G27)","v":{"$error":"#N/A"}},{"$f":"'Sheet3 (4)'!Q27","v":1.1343200995988444E-2},{"$f":"CORREL($B$1:B27,$I$1:I27)","v":{"$error":"#N/A"}},{"$f":"'Sheet3 (4)'!S27","v":5.8518456887705957E-3},{"$f":"CORREL($B$1:B27,$K$1:K27)","v":{"$error":"#N/A"}},{"$f":"'Sheet3 (4)'!U27","v":1.6878804648589199E-3},{"$f":"CORREL($B$1:B27,$M$1:M27)","v":{"$error":"#N/A"}},{"$f":"'Sheet3 (4)'!W27","v":-1.6492039733297055E-2},{"$f":"CORREL($B$1:B27,$O$1:O27)","v":{"$error":"#N/A"}},{"$f":"'Sheet3 (4)'!Y27","v":-2.7337342810253975E-5},{"$f":"CORREL($B$1:B27,$Q$1:Q27)","v":{"$error":"#N/A"}},{"$f":"'Sheet3 (4)'!AA27","v":1.4510378375390398E-2},{"$f":"CORREL($B$1:B27,$S$1:S27)","v":{"$error":"#N/A"}}]
[null,{"$f":"'Sheet3 (4)'!I28","v":{"$error":"#N/A"}},{"$f":"'Sheet3 (4)'!K28","v":3.4617048896581912E-3},{"$f":"CORREL($B$1:B28,$C$1:C28)","v":{"$error":"#N/A"}},{"$f":"'Sheet3 (4)'!M28","v":2.3846498039112474E-2},{"$f":"CORREL($B$1:B28,$E$1:E28)","v":{"$error":"#N/A"}},{"$f":"'Sheet3 (4)'!O28","v":3.2432729571503206E-2},{"$f":"CORREL($B$1:B28,$G$1:G28)","v":{"$error":"#N/A"}},{"$f":"'Sheet3 (4)'!Q28","v":1.1536865403237007E-2},{"$f":"CORREL($B$1:B28,$I$1:I28)","v":{"$error":"#N/A"}},{"$f":"'Sheet3 (4)'!S28","v":3.6886041545330563E-3},{"$f":"CORREL($B$1:B28,$K$1:K28)","v":{"$error":"#N/A"}},{"$f":"'Sheet3 (4)'!U28","v":9.6845600442729037E-4},{"$f":"CORREL($B$1:B28,$M$1:M28)","v":{"$error":"#N/A"}},{"$f":"'Sheet3 (4)'!W28","v":-1.894135256497477E-2},{"$f":"CORREL($B$1:B28,$O$1:O28)","v":{"$error":"#N/A"}},{"$f":"'Sheet3 (4)'!Y28","v":0},{"$f":"CORREL($B$1:B28,$Q$1:Q28)","v":{"$error":"#N/A"}},{"$f":"'Sheet3 (4)'!AA28","v":1.8822033664077836E-2},{"$f":"CORREL($B$1:B28,$S$1:S28)","v":{"$error":"#N/A"}}]
[null,{"$f":"'Sheet3 (4)'!I29","v":{"$error":"#N/A"}},{"$f":"'Sheet3 (4)'!K29","v":3.9198717132894354E-3},{"$f":"CORREL($B$1:B29,$C$1:C29)","v":{"$error":"#N/A"}},{"$f":"'Sheet3 (4)'!M29","v":2.5688942699971021E-2},{"$f":"CORREL($B$1:B29,$E$1:E29)","v":{"$error":"#N/A"}},{"$f":"'Sheet3 (4)'!O29","v":3.2157875931066678E-2},{"$f":"CORREL($B$1:B29,$G$1:G29)","v":{"$error":"#N/A"}},{"$f":"'Sheet3 (4)'!Q29","v":1.1370867339881073E-2},{"$f":"CORREL($B$1:B29,$I$1:I29)","v":{"$error":"#N/A"}},{"$f":"'Sheet3 (4)'!S29","v":1.7749674127076195E-3},{"$f":"CORREL($B$1:B29,$K$1:K29)","v":{"$error":"#N/A"}},{"$f":"'Sheet3 (4)'!U29","v":1.2174875484227941E-3},{"$f":"CORREL($B$1:B29,$M$1:M29)","v":{"$error":"#N/A"}},{"$f":"'Sheet3 (4)'!W29","v":-1.8669206694788443E-2},{"$f":"CORREL($B$1:B29,$O$1:O29)","v":{"$error":"#N/A"}},{"$f":"'Sheet3 (4)'!Y29","v":-1.0661563696008375E-3},{"$f":"CORREL($B$1:B29,$Q$1:Q29)","v":{"$error":"#N/A"}},{"$f":"'Sheet3 (4)'!AA29","v":1.9181338271468444E-2},{"$f":"CORREL($B$1:B29,$S$1:S29)","v":{"$error":"#N/A"}}]
[null,{"$f":"'Sheet3 (4)'!I30","v":{"$error":"#N/A"}},{"$f":"'Sheet3 (4)'!K30","v":3.1562603405706955E-3},{"$f":"CORREL($B$1:B30,$C$1:C30)","v":{"$error":"#N/A"}},{"$f":"'Sheet3 (4)'!M30","v":2.6241676098228542E-2},{"$f":"CORREL($B$1:B30,$E$1:E30)","v":{"$error":"#N/A"}},{"$f":"'Sheet3 (4)'!O30","v":3.2487700299590451E-2},{"$f":"CORREL($B$1:B30,$G$1:G30)","v":{"$error":"#N/A"}},{"$f":"'Sheet3 (4)'!Q30","v":1.1287868308203027E-2},{"$f":"CORREL($B$1:B30,$I$1:I30)","v":{"$error":"#N/A"}},{"$f":"'Sheet3 (4)'!S30","v":3.5776686912389285E-3},{"$f":"CORREL($B$1:B30,$K$1:K30)","v":{"$error":"#N/A"}},{"$f":"'Sheet3 (4)'!U30","v":1.1898173768677555E-3},{"$f":"CORREL($B$1:B30,$M$1:M30)","v":{"$error":"#N/A"}},{"$f":"'Sheet3 (4)'!W30","v":-1.7907198258266387E-2},{"$f":"CORREL($B$1:B30,$O$1:O30)","v":{"$error":"#N/A"}},{"$f":"'Sheet3 (4)'!Y30","v":-5.7408419901595507E-4},{"$f":"CORREL($B$1:B30,$Q$1:Q30)","v":{"$error":"#N/A"}},{"$f":"'Sheet3 (4)'!AA30","v":1.9070783007655891E-2},{"$f":"CORREL($B$1:B30,$S$1:S30)","v":{"$error":"#N/A"}}]
[null,{"$f":"'Sheet3 (4)'!I31","v":{"$error":"#N/A"}},{"$f":"'Sheet3 (4)'!K31","v":2.7490009417873193E-3},{"$f":"CORREL($B$1:B31,$C$1:C31)","v":{"$error":"#N/A"}},{"$f":"'Sheet3 (4)'!M31","v":2.5767904614007898E-2},{"$f":"CORREL($B$1:B31,$E$1:E31)","v":{"$error":"#N/A"}},{"$f":"'Sheet3 (4)'!O31","v":3.2872495396201622E-2},{"$f":"CORREL($B$1:B31,$G$1:G31)","v":{"$error":"#N/A"}},{"$f":"'Sheet3 (4)'!Q31","v":1.0540877023101403E-2},{"$f":"CORREL($B$1:B31,$I$1:I31)","v":{"$error":"#N/A"}},{"$f":"'Sheet3 (4)'!S31","v":4.8256926532989682E-3},{"$f":"CORREL($B$1:B31,$K$1:K31)","v":{"$error":"#N/A"}},{"$f":"'Sheet3 (4)'!U31","v":2.0752628666297732E-3},{"$f":"CORREL($B$1:B31,$M$1:M31)","v":{"$error":"#N/A"}},{"$f":"'Sheet3 (4)'!W31","v":-1.8451489998639197E-2},{"$f":"CORREL($B$1:B31,$O$1:O31)","v":{"$error":"#N/A"}},{"$f":"'Sheet3 (4)'!Y31","v":-1.1481683980317549E-3},{"$f":"CORREL($B$1:B31,$Q$1:Q31)","v":{"$error":"#N/A"}},{"$f":"'Sheet3 (4)'!AA31","v":1.6970232995218448E-2},{"$f":"CORREL($B$1:B31,$S$1:S31)","v":{"$error":"#N/A"}}]
[null,{"$f":"'Sheet3 (4)'!I32","v":{"$error":"#N/A"}},{"$f":"'Sheet3 (4)'!K32","v":1.8326672945248312E-3},{"$f":"CORREL($B$1:B32,$C$1:C32)","v":{"$error":"#N/A"}},{"$f":"'Sheet3 (4)'!M32","v":2.5241491853762468E-2},{"$f":"CORREL($B$1:B32,$E$1:E32)","v":{"$error":"#N/A"}},{"$f":"'Sheet3 (4)'!O32","v":3.3477173405161771E-2},{"$f":"CORREL($B$1:B32,$G$1:G32)","v":{"$error":"#N/A"}},{"$f":"'Sheet3 (4)'!Q32","v":9.6832203624291052E-3},{"$f":"CORREL($B$1:B32,$I$1:I32)","v":{"$error":"#N/A"}},{"$f":"'Sheet3 (4)'!S32","v":6.7115955293008739E-3},{"$f":"CORREL($B$1:B32,$K$1:K32)","v":{"$error":"#N/A"}},{"$f":"'Sheet3 (4)'!U32","v":1.8815716657443467E-3},{"$f":"CORREL($B$1:B32,$M$1:M32)","v":{"$error":"#N/A"}},{"$f":"'Sheet3 (4)'!W32","v":-1.6328752211185196E-2},{"$f":"CORREL($B$1:B32,$O$1:O32)","v":{"$error":"#N/A"}},{"$f":"'Sheet3 (4)'!Y32","v":-2.3236741388737636E-3},{"$f":"CORREL($B$1:B32,$Q$1:Q32)","v":{"$error":"#N/A"}},{"$f":"'Sheet3 (4)'!AA32","v":1.5726486277327874E-2},{"$f":"CORREL($B$1:B32,$S$1:S32)","v":{"$error":"#N/A"}}]
[null,{"$f":"'Sheet3 (4)'!I33","v":{"$error":"#N/A"}},{"$f":"'Sheet3 (4)'!K33","v":1.4763153205894675E-3},{"$f":"CORREL($B$1:B33,$C$1:C33)","v":{"$error":"#N/A"}},{"$f":"'Sheet3 (4)'!M33","v":2.6215355460216302E-2},{"$f":"CORREL($B$1:B33,$E$1:E33)","v":{"$error":"#N/A"}},{"$f":"'Sheet3 (4)'!O33","v":4.0183602231811576E-2},{"$f":"CORREL($B$1:B33,$G$1:G33)","v":{"$error":"#N/A"}},{"$f":"'Sheet3 (4)'!Q33","v":8.7702310139715477E-3},{"$f":"CORREL($B$1:B33,$I$1:I33)","v":{"$error":"#N/A"}},{"$f":"'Sheet3 (4)'!S33","v":5.962781152064881E-3},{"$f":"CORREL($B$1:B33,$K$1:K33)","v":{"$error":"#N/A"}},{"$f":"'Sheet3 (4)'!U33","v":1.2174875484227941E-3},{"$f":"CORREL($B$1:B33,$M$1:M33)","v":{"$error":"#N/A"}},{"$f":"'Sheet3 (4)'!W33","v":-1.5947747992924245E-2},{"$f":"CORREL($B$1:B33,$O$1:O33)","v":{"$error":"#N/A"}},{"$f":"'Sheet3 (4)'!Y33","v":-2.0503007107709132E-3},{"$f":"CORREL($B$1:B33,$Q$1:Q33)","v":{"$error":"#N/A"}},{"$f":"'Sheet3 (4)'!AA33","v":1.5809402725187171E-2},{"$f":"CORREL($B$1:B33,$S$1:S33)","v":{"$error":"#N/A"}}]
[null,{"$f":"'Sheet3 (4)'!I34","v":{"$error":"#N/A"}},{"$f":"'Sheet3 (4)'!K34","v":-5.5998167332712418E-4},{"$f":"CORREL($B$1:B34,$C$1:C34)","v":{"$error":"#N/A"}},{"$f":"'Sheet3 (4)'!M34","v":2.6162714184191818E-2},{"$f":"CORREL($B$1:B34,$E$1:E34)","v":{"$error":"#N/A"}},{"$f":"'Sheet3 (4)'!O34","v":4.3509331281092932E-2},{"$f":"CORREL($B$1:B34,$G$1:G34)","v":{"$error":"#N/A"}},{"$f":"'Sheet3 (4)'!Q34","v":8.6318992945082443E-3},{"$f":"CORREL($B$1:B34,$I$1:I34)","v":{"$error":"#N/A"}},{"$f":"'Sheet3 (4)'!S34","v":6.7670632609479371E-3},{"$f":"CORREL($B$1:B34,$K$1:K34)","v":{"$error":"#N/A"}},{"$f":"'Sheet3 (4)'!U34","v":3.3204205866077633E-4},{"$f":"CORREL($B$1:B34,$M$1:M34)","v":{"$error":"#N/A"}},{"$f":"'Sheet3 (4)'!W34","v":-1.6736971016464763E-2},{"$f":"CORREL($B$1:B34,$O$1:O34)","v":{"$error":"#N/A"}},{"$f":"'Sheet3 (4)'!Y34","v":-1.7495899398578085E-3},{"$f":"CORREL($B$1:B34,$Q$1:Q34)","v":{"$error":"#N/A"}},{"$f":"'Sheet3 (4)'!AA34","v":1.2879688234156118E-2},{"$f":"CORREL($B$1:B34,$S$1:S34)","v":{"$error":"#N/A"}}]
[null,{"$f":"'Sheet3 (4)'!I35","v":{"$error":"#N/A"}},{"$f":"'Sheet3 (4)'!K35","v":1.4763153205894675E-3},{"$f":"CORREL($B$1:B35,$C$1:C35)","v":{"$error":"#N/A"}},{"$f":"'Sheet3 (4)'!M35","v":2.6741768220461579E-2},{"$f":"CORREL($B$1:B35,$E$1:E35)","v":{"$error":"#N/A"}},{"$f":"'Sheet3 (4)'!O35","v":4.8044416348294587E-2},{"$f":"CORREL($B$1:B35,$G$1:G35)","v":{"$error":"#N/A"}},{"$f":"'Sheet3 (4)'!Q35","v":8.1062387605478122E-3},{"$f":"CORREL($B$1:B35,$I$1:I35)","v":{"$error":"#N/A"}},{"$f":"'Sheet3 (4)'!S35","v":7.51587763818393E-3},{"$f":"CORREL($B$1:B35,$K$1:K35)","v":{"$error":"#N/A"}},{"$f":"'Sheet3 (4)'!U35","v":5.8107360265643722E-4},{"$f":"CORREL($B$1:B35,$M$1:M35)","v":{"$error":"#N/A"}},{"$f":"'Sheet3 (4)'!W35","v":-1.5240168730439423E-2},{"$f":"CORREL($B$1:B35,$O$1:O35)","v":{"$error":"#N/A"}},{"$f":"'Sheet3 (4)'!Y35","v":-1.7222525970475545E-3},{"$f":"CORREL($B$1:B35,$Q$1:Q35)","v":{"$error":"#N/A"}},{"$f":"'Sheet3 (4)'!AA35","v":1.0281639534562258E-2},{"$f":"CORREL($B$1:B35,$S$1:S35)","v":{"$error":"#N/A"}}]
[null,{"$f":"'Sheet3 (4)'!I36","v":{"$error":"#N/A"}},{"$f":"'Sheet3 (4)'!K36","v":2.6980935169394512E-3},{"$f":"CORREL($B$1:B36,$C$1:C36)","v":{"$error":"#N/A"}},{"$f":"'Sheet3 (4)'!M36","v":2.8926381175479719E-2},{"$f":"CORREL($B$1:B36,$E$1:E36)","v":{"$error":"#N/A"}},{"$f":"'Sheet3 (4)'!O36","v":5.354148915702394E-2},{"$f":"CORREL($B$1:B36,$G$1:G36)","v":{"$error":"#N/A"}},{"$f":"'Sheet3 (4)'!Q36","v":7.3592474754461895E-3},{"$f":"CORREL($B$1:B36,$I$1:I36)","v":{"$error":"#N/A"}},{"$f":"'Sheet3 (4)'!S36","v":7.51587763818393E-3},{"$f":"CORREL($B$1:B36,$K$1:K36)","v":{"$error":"#N/A"}},{"$f":"'Sheet3 (4)'!U36","v":6.6408411732155265E-4},{"$f":"CORREL($B$1:B36,$M$1:M36)","v":{"$error":"#N/A"}},{"$f":"'Sheet3 (4)'!W36","v":-1.4750306164104004E-2},{"$f":"CORREL($B$1:B36,$O$1:O36)","v":{"$error":"#N/A"}},{"$f":"'Sheet3 (4)'!Y36","v":-2.4330235101147793E-3},{"$f":"CORREL($B$1:B36,$Q$1:Q36)","v":{"$error":"#N/A"}},{"$f":"'Sheet3 (4)'!AA36","v":9.8946961112185514E-3},{"$f":"CORREL($B$1:B36,$S$1:S36)","v":{"$error":"#N/A"}}]
[null,{"$f":"'Sheet3 (4)'!I37","v":{"$error":"#N/A"}},{"$f":"'Sheet3 (4)'!K37","v":3.3344363275383771E-3},{"$f":"CORREL($B$1:B37,$C$1:C37)","v":{"$error":"#N/A"}},{"$f":"'Sheet3 (4)'!M37","v":2.7768273102940045E-2},{"$f":"CORREL($B$1:B37,$E$1:E37)","v":{"$error":"#N/A"}},{"$f":"'Sheet3 (4)'!O37","v":4.2932138636176252E-2},{"$f":"CORREL($B$1:B37,$G$1:G37)","v":{"$error":"#N/A"}},{"$f":"'Sheet3 (4)'!Q37","v":6.8889196292710175E-3},{"$f":"CORREL($B$1:B37,$I$1:I37)","v":{"$error":"#N/A"}},{"$f":"'Sheet3 (4)'!S37","v":7.0444019191835718E-3},{"$f":"CORREL($B$1:B37,$K$1:K37)","v":{"$error":"#N/A"}},{"$f":"'Sheet3 (4)'!U37","v":4.1505257332604903E-4},{"$f":"CORREL($B$1:B37,$M$1:M37)","v":{"$error":"#N/A"}},{"$f":"'Sheet3 (4)'!W37","v":-1.6981902299632628E-2},{"$f":"CORREL($B$1:B37,$O$1:O37)","v":{"$error":"#N/A"}},{"$f":"'Sheet3 (4)'!Y37","v":-2.9797703663204805E-3},{"$f":"CORREL($B$1:B37,$Q$1:Q37)","v":{"$error":"#N/A"}},{"$f":"'Sheet3 (4)'!AA37","v":7.9047013625936635E-3},{"$f":"CORREL($B$1:B37,$S$1:S37)","v":{"$error":"#N/A"}}]
[null,{"$f":"'Sheet3 (4)'!I38","v":{"$error":"#N/A"}},{"$f":"'Sheet3 (4)'!K38","v":3.3598900399623112E-3},{"$f":"CORREL($B$1:B38,$C$1:C38)","v":{"$error":"#N/A"}},{"$f":"'Sheet3 (4)'!M38","v":2.8347327139209805E-2},{"$f":"CORREL($B$1:B38,$E$1:E38)","v":{"$error":"#N/A"}},{"$f":"'Sheet3 (4)'!O38","v":4.0870736332902745E-2},{"$f":"CORREL($B$1:B38,$G$1:G38)","v":{"$error":"#N/A"}},{"$f":"'Sheet3 (4)'!Q38","v":7.1932494120902557E-3},{"$f":"CORREL($B$1:B38,$I$1:I38)","v":{"$error":"#N/A"}},{"$f":"'Sheet3 (4)'!S38","v":5.6299747621821822E-3},{"$f":"CORREL($B$1:B38,$K$1:K38)","v":{"$error":"#N/A"}},{"$f":"'Sheet3 (4)'!U38","v":-1.1344770337575214E-3},{"$f":"CORREL($B$1:B38,$M$1:M38)","v":{"$error":"#N/A"}},{"$f":"'Sheet3 (4)'!W38","v":-1.7852769084229152E-2},{"$f":"CORREL($B$1:B38,$O$1:O38)","v":{"$error":"#N/A"}},{"$f":"'Sheet3 (4)'!Y38","v":-5.0300710770913937E-3},{"$f":"CORREL($B$1:B38,$Q$1:Q38)","v":{"$error":"#N/A"}},{"$f":"'Sheet3 (4)'!AA38","v":1.1304275724827879E-2},{"$f":"CORREL($B$1:B38,$S$1:S38)","v":{"$error":"#N/A"}}]
[null,{"$f":"'Sheet3 (4)'!I39","v":{"$error":"#N/A"}},{"$f":"'Sheet3 (4)'!K39","v":1.5272227454374799E-3},{"$f":"CORREL($B$1:B39,$C$1:C39)","v":{"$error":"#N/A"}},{"$f":"'Sheet3 (4)'!M39","v":2.6531203116363498E-2},{"$f":"CORREL($B$1:B39,$E$1:E39)","v":{"$error":"#N/A"}},{"$f":"'Sheet3 (4)'!O39","v":4.1860209438474065E-2},{"$f":"CORREL($B$1:B39,$G$1:G39)","v":{"$error":"#N/A"}},{"$f":"'Sheet3 (4)'!Q39","v":6.4739244708812618E-3},{"$f":"CORREL($B$1:B39,$I$1:I39)","v":{"$error":"#N/A"}},{"$f":"'Sheet3 (4)'!S39","v":5.7686440912998425E-3},{"$f":"CORREL($B$1:B39,$K$1:K39)","v":{"$error":"#N/A"}},{"$f":"'Sheet3 (4)'!U39","v":-1.3835085777531822E-3},{"$f":"CORREL($B$1:B39,$M$1:M39)","v":{"$error":"#N/A"}},{"$f":"'Sheet3 (4)'!W39","v":-1.8614777520751056E-2},{"$f":"CORREL($B$1:B39,$O$1:O39)","v":{"$error":"#N/A"}},{"$f":"'Sheet3 (4)'!Y39","v":-4.4013121924549306E-3},{"$f":"CORREL($B$1:B39,$Q$1:Q39)","v":{"$error":"#N/A"}},{"$f":"'Sheet3 (4)'!AA39","v":1.2465105994859156E-2},{"$f":"CORREL($B$1:B39,$S$1:S39)","v":{"$error":"#N/A"}}]
[null,{"$f":"'Sheet3 (4)'!I40","v":{"$error":"#N/A"}},{"$f":"'Sheet3 (4)'!K40","v":3.6398808766258733E-3},{"$f":"CORREL($B$1:B40,$C$1:C40)","v":{"$error":"#N/A"}},{"$f":"'Sheet3 (4)'!M40","v":2.6847050772510695E-2},{"$f":"CORREL($B$1:B40,$E$1:E40)","v":{"$error":"#N/A"}},{"$f":"'Sheet3 (4)'!O40","v":4.5185938487755269E-2},{"$f":"CORREL($B$1:B40,$G$1:G40)","v":{"$error":"#N/A"}},{"$f":"'Sheet3 (4)'!Q40","v":6.2802600636326983E-3},{"$f":"CORREL($B$1:B40,$I$1:I40)","v":{"$error":"#N/A"}},{"$f":"'Sheet3 (4)'!S40","v":5.7131763596527784E-3},{"$f":"CORREL($B$1:B40,$K$1:K40)","v":{"$error":"#N/A"}},{"$f":"'Sheet3 (4)'!U40","v":-1.4388489208632591E-3},{"$f":"CORREL($B$1:B40,$M$1:M40)","v":{"$error":"#N/A"}},{"$f":"'Sheet3 (4)'!W40","v":-1.9295142196217106E-2},{"$f":"CORREL($B$1:B40,$O$1:O40)","v":{"$error":"#N/A"}},{"$f":"'Sheet3 (4)'!Y40","v":-3.5811919081465342E-3},{"$f":"CORREL($B$1:B40,$Q$1:Q40)","v":{"$error":"#N/A"}},{"$f":"'Sheet3 (4)'!AA40","v":1.2465105994859156E-2},{"$f":"CORREL($B$1:B40,$S$1:S40)","v":{"$error":"#N/A"}}]
[null,{"$f":"'Sheet3 (4)'!I41","v":{"$error":"#N/A"}},{"$f":"'Sheet3 (4)'!K41","v":3.7671494387456874E-3},{"$f":"CORREL($B$1:B41,$C$1:C41)","v":{"$error":"#N/A"}},{"$f":"'Sheet3 (4)'!M41","v":2.7110257152633408E-2},{"$f":"CORREL($B$1:B41,$E$1:E41)","v":{"$error":"#N/A"}},{"$f":"'Sheet3 (4)'!O41","v":4.4746172663057006E-2},{"$f":"CORREL($B$1:B41,$G$1:G41)","v":{"$error":"#N/A"}},{"$f":"'Sheet3 (4)'!Q41","v":6.9442523170562759E-3},{"$f":"CORREL($B$1:B41,$I$1:I41)","v":{"$error":"#N/A"}},{"$f":"'Sheet3 (4)'!S41","v":5.6299747621821822E-3},{"$f":"CORREL($B$1:B41,$K$1:K41)","v":{"$error":"#N/A"}},{"$f":"'Sheet3 (4)'!U41","v":-1.6602102933037243E-3},{"$f":"CORREL($B$1:B41,$M$1:M41)","v":{"$error":"#N/A"}},{"$f":"'Sheet3 (4)'!W41","v":-1.9567288066403586E-2},{"$f":"CORREL($B$1:B41,$O$1:O41)","v":{"$error":"#N/A"}},{"$f":"'Sheet3 (4)'!Y41","v":-3.4718425369055185E-3},{"$f":"CORREL($B$1:B41,$Q$1:Q41)","v":{"$error":"#N/A"}},{"$f":"'Sheet3 (4)'!AA41","v":1.3515381001077876E-2},{"$f":"CORREL($B$1:B41,$S$1:S41)","v":{"$error":"#N/A"}}]
[null,{"$f":"'Sheet3 (4)'!I42","v":{"$error":"#N/A"}},{"$f":"'Sheet3 (4)'!K42","v":4.9125664978237251E-3},{"$f":"CORREL($B$1:B42,$C$1:C42)","v":{"$error":"#N/A"}},{"$f":"'Sheet3 (4)'!M42","v":2.7136577790645652E-2},{"$f":"CORREL($B$1:B42,$E$1:E42)","v":{"$error":"#N/A"}},{"$f":"'Sheet3 (4)'!O42","v":4.6175411593326589E-2},{"$f":"CORREL($B$1:B42,$G$1:G42)","v":{"$error":"#N/A"}},{"$f":"'Sheet3 (4)'!Q42","v":6.778254253700342E-3},{"$f":"CORREL($B$1:B42,$I$1:I42)","v":{"$error":"#N/A"}},{"$f":"'Sheet3 (4)'!S42","v":5.6577086280057143E-3},{"$f":"CORREL($B$1:B42,$K$1:K42)","v":{"$error":"#N/A"}},{"$f":"'Sheet3 (4)'!U42","v":-2.2966242390702381E-3},{"$f":"CORREL($B$1:B42,$M$1:M42)","v":{"$error":"#N/A"}},{"$f":"'Sheet3 (4)'!W42","v":-1.8832494216900302E-2},{"$f":"CORREL($B$1:B42,$O$1:O42)","v":{"$error":"#N/A"}},{"$f":"'Sheet3 (4)'!Y42","v":-1.5035538545653672E-3},{"$f":"CORREL($B$1:B42,$Q$1:Q42)","v":{"$error":"#N/A"}},{"$f":"'Sheet3 (4)'!AA42","v":1.2078162571515449E-2},{"$f":"CORREL($B$1:B42,$S$1:S42)","v":{"$error":"#N/A"}}]
[null,{"$f":"'Sheet3 (4)'!I43","v":{"$error":"#N/A"}},{"$f":"'Sheet3 (4)'!K43","v":4.0471402754091047E-3},{"$f":"CORREL($B$1:B43,$C$1:C43)","v":{"$error":"#N/A"}},{"$f":"'Sheet3 (4)'!M43","v":2.8900060537467475E-2},{"$f":"CORREL($B$1:B43,$E$1:E43)","v":{"$error":"#N/A"}},{"$f":"'Sheet3 (4)'!O43","v":4.5790616496715571E-2},{"$f":"CORREL($B$1:B43,$G$1:G43)","v":{"$error":"#N/A"}},{"$f":"'Sheet3 (4)'!Q43","v":7.3869138193388183E-3},{"$f":"CORREL($B$1:B43,$I$1:I43)","v":{"$error":"#N/A"}},{"$f":"'Sheet3 (4)'!S43","v":5.1307651773581349E-3},{"$f":"CORREL($B$1:B43,$K$1:K43)","v":{"$error":"#N/A"}},{"$f":"'Sheet3 (4)'!U43","v":-2.2689540675151997E-3},{"$f":"CORREL($B$1:B43,$M$1:M43)","v":{"$error":"#N/A"}},{"$f":"'Sheet3 (4)'!W43","v":-1.9866648523608685E-2},{"$f":"CORREL($B$1:B43,$O$1:O43)","v":{"$error":"#N/A"}},{"$f":"'Sheet3 (4)'!Y43","v":-5.7408419901595507E-4},{"$f":"CORREL($B$1:B43,$Q$1:Q43)","v":{"$error":"#N/A"}},{"$f":"'Sheet3 (4)'!AA43","v":1.3156076393687269E-2},{"$f":"CORREL($B$1:B43,$S$1:S43)","v":{"$error":"#N/A"}}]
[null,{"$f":"'Sheet3 (4)'!I44","v":{"$error":"#N/A"}},{"$f":"'Sheet3 (4)'!K44","v":3.7416957263216089E-3},{"$f":"CORREL($B$1:B44,$C$1:C44)","v":{"$error":"#N/A"}},{"$f":"'Sheet3 (4)'!M44","v":3.0742505198326026E-2},{"$f":"CORREL($B$1:B44,$E$1:E44)","v":{"$error":"#N/A"}},{"$f":"'Sheet3 (4)'!O44","v":4.430640683835859E-2},{"$f":"CORREL($B$1:B44,$G$1:G44)","v":{"$error":"#N/A"}},{"$f":"'Sheet3 (4)'!Q44","v":6.9995850048416922E-3},{"$f":"CORREL($B$1:B44,$I$1:I44)","v":{"$error":"#N/A"}},{"$f":"'Sheet3 (4)'!S44","v":4.8811603849460324E-3},{"$f":"CORREL($B$1:B44,$K$1:K44)","v":{"$error":"#N/A"}},{"$f":"'Sheet3 (4)'!U44","v":-2.9607083563917909E-3},{"$f":"CORREL($B$1:B44,$M$1:M44)","v":{"$error":"#N/A"}},{"$f":"'Sheet3 (4)'!W44","v":-2.1553952918764503E-2},{"$f":"CORREL($B$1:B44,$O$1:O44)","v":{"$error":"#N/A"}},{"$f":"'Sheet3 (4)'!Y44","v":-1.1755057408420087E-3},{"$f":"CORREL($B$1:B44,$Q$1:Q44)","v":{"$error":"#N/A"}},{"$f":"'Sheet3 (4)'!AA44","v":1.1663580332218485E-2},{"$f":"CORREL($B$1:B44,$S$1:S44)","v":{"$error":"#N/A"}}]
[null,{"$f":"'Sheet3 (4)'!I45","v":{"$error":"#N/A"}},{"$f":"'Sheet3 (4)'!K45","v":3.079899203298749E-3},{"$f":"CORREL($B$1:B45,$C$1:C45)","v":{"$error":"#N/A"}},{"$f":"'Sheet3 (4)'!M45","v":3.1584765614718499E-2},{"$f":"CORREL($B$1:B45,$E$1:E45)","v":{"$error":"#N/A"}},{"$f":"'Sheet3 (4)'!O45","v":4.5378336036060778E-2},{"$f":"CORREL($B$1:B45,$G$1:G45)","v":{"$error":"#N/A"}},{"$f":"'Sheet3 (4)'!Q45","v":8.3275695116890053E-3},{"$f":"CORREL($B$1:B45,$I$1:I45)","v":{"$error":"#N/A"}},{"$f":"'Sheet3 (4)'!S45","v":5.546773164711429E-3},{"$f":"CORREL($B$1:B45,$K$1:K45)","v":{"$error":"#N/A"}},{"$f":"'Sheet3 (4)'!U45","v":-1.7985611510790739E-3},{"$f":"CORREL($B$1:B45,$M$1:M45)","v":{"$error":"#N/A"}},{"$f":"'Sheet3 (4)'!W45","v":-2.2506463464416877E-2},{"$f":"CORREL($B$1:B45,$O$1:O45)","v":{"$error":"#N/A"}},{"$f":"'Sheet3 (4)'!Y45","v":-1.5855658829961293E-3},{"$f":"CORREL($B$1:B45,$Q$1:Q45)","v":{"$error":"#N/A"}},{"$f":"'Sheet3 (4)'!AA45","v":1.0613305325999765E-2},{"$f":"CORREL($B$1:B45,$S$1:S45)","v":{"$error":"#N/A"}}]
[null,{"$f":"'Sheet3 (4)'!I46","v":{"$error":"#N/A"}},{"$f":"'Sheet3 (4)'!K46","v":5.7525390078142667E-3},{"$f":"CORREL($B$1:B46,$C$1:C46)","v":{"$error":"#N/A"}},{"$f":"'Sheet3 (4)'!M46","v":3.2663911773221296E-2},{"$f":"CORREL($B$1:B46,$E$1:E46)","v":{"$error":"#N/A"}},{"$f":"'Sheet3 (4)'!O46","v":4.3976582469834817E-2},{"$f":"CORREL($B$1:B46,$G$1:G46)","v":{"$error":"#N/A"}},{"$f":"'Sheet3 (4)'!Q46","v":8.6318992945082443E-3},{"$f":"CORREL($B$1:B46,$I$1:I46)","v":{"$error":"#N/A"}},{"$f":"'Sheet3 (4)'!S46","v":5.4635715672408337E-3},{"$f":"CORREL($B$1:B46,$K$1:K46)","v":{"$error":"#N/A"}},{"$f":"'Sheet3 (4)'!U46","v":-9.1311566131705617E-4},{"$f":"CORREL($B$1:B46,$M$1:M46)","v":{"$error":"#N/A"}},{"$f":"'Sheet3 (4)'!W46","v":-2.4357055381684554E-2},{"$f":"CORREL($B$1:B46,$O$1:O46)","v":{"$error":"#N/A"}},{"$f":"'Sheet3 (4)'!Y46","v":-2.7337342810278839E-3},{"$f":"CORREL($B$1:B46,$Q$1:Q46)","v":{"$error":"#N/A"}},{"$f":"'Sheet3 (4)'!AA46","v":1.1414830988640434E-2},{"$f":"CORREL($B$1:B46,$S$1:S46)","v":{"$error":"#N/A"}}]
[null,{"$f":"'Sheet3 (4)'!I47","v":{"$error":"#N/A"}},{"$f":"'Sheet3 (4)'!K47","v":3.6653345890498069E-3},{"$f":"CORREL($B$1:B47,$C$1:C47)","v":{"$error":"#N/A"}},{"$f":"'Sheet3 (4)'!M47","v":3.2005895822914666E-2},{"$f":"CORREL($B$1:B47,$E$1:E47)","v":{"$error":"#N/A"}},{"$f":"'Sheet3 (4)'!O47","v":4.2272489899128705E-2},{"$f":"CORREL($B$1:B47,$G$1:G47)","v":{"$error":"#N/A"}},{"$f":"'Sheet3 (4)'!Q47","v":8.6042329506156139E-3},{"$f":"CORREL($B$1:B47,$I$1:I47)","v":{"$error":"#N/A"}},{"$f":"'Sheet3 (4)'!S47","v":4.8256926532989682E-3},{"$f":"CORREL($B$1:B47,$K$1:K47)","v":{"$error":"#N/A"}},{"$f":"'Sheet3 (4)'!U47","v":-1.2174875484227941E-3},{"$f":"CORREL($B$1:B47,$M$1:M47)","v":{"$error":"#N/A"}},{"$f":"'Sheet3 (4)'!W47","v":-2.2669750986528736E-2},{"$f":"CORREL($B$1:B47,$O$1:O47)","v":{"$error":"#N/A"}},{"$f":"'Sheet3 (4)'!Y47","v":-3.4171678512848551E-3},{"$f":"CORREL($B$1:B47,$Q$1:Q47)","v":{"$error":"#N/A"}},{"$f":"'Sheet3 (4)'!AA47","v":9.9776125590780064E-3},{"$f":"CORREL($B$1:B47,$S$1:S47)","v":{"$error":"#N/A"}}]
[null,{"$f":"'Sheet3 (4)'!I48","v":{"$error":"#N/A"}},{"$f":"'Sheet3 (4)'!K48","v":4.658029373584097E-3},{"$f":"CORREL($B$1:B48,$C$1:C48)","v":{"$error":"#N/A"}},{"$f":"'Sheet3 (4)'!M48","v":3.3190324533466729E-2},{"$f":"CORREL($B$1:B48,$E$1:E48)","v":{"$error":"#N/A"}},{"$f":"'Sheet3 (4)'!O48","v":4.229997526317248E-2},{"$f":"CORREL($B$1:B48,$G$1:G48)","v":{"$error":"#N/A"}},{"$f":"'Sheet3 (4)'!Q48","v":8.0785724166551835E-3},{"$f":"CORREL($B$1:B48,$I$1:I48)","v":{"$error":"#N/A"}},{"$f":"'Sheet3 (4)'!S48","v":4.9920958482403176E-3},{"$f":"CORREL($B$1:B48,$K$1:K48)","v":{"$error":"#N/A"}},{"$f":"'Sheet3 (4)'!U48","v":-7.7476480354170653E-4},{"$f":"CORREL($B$1:B48,$M$1:M48)","v":{"$error":"#N/A"}},{"$f":"'Sheet3 (4)'!W48","v":-2.4738059599945503E-2},{"$f":"CORREL($B$1:B48,$O$1:O48)","v":{"$error":"#N/A"}},{"$f":"'Sheet3 (4)'!Y48","v":-3.1711317659924138E-3},{"$f":"CORREL($B$1:B48,$Q$1:Q48)","v":{"$error":"#N/A"}},{"$f":"'Sheet3 (4)'!AA48","v":8.5403941295154225E-3},{"$f":"CORREL($B$1:B48,$S$1:S48)","v":{"$error":"#N/A"}}]
[null,{"$f":"'Sheet3 (4)'!I49","v":{"$error":"#N/A"}},{"$f":"'Sheet3 (4)'!K49","v":4.0725939878331835E-3},{"$f":"CORREL($B$1:B49,$C$1:C49)","v":{"$error":"#N/A"}},{"$f":"'Sheet3 (4)'!M49","v":3.3743057931724246E-2},{"$f":"CORREL($B$1:B49,$E$1:E49)","v":{"$error":"#N/A"}},{"$f":"'Sheet3 (4)'!O49","v":4.689003105846138E-2},{"$f":"CORREL($B$1:B49,$G$1:G49)","v":{"$error":"#N/A"}},{"$f":"'Sheet3 (4)'!Q49","v":7.5805782265873818E-3},{"$f":"CORREL($B$1:B49,$I$1:I49)","v":{"$error":"#N/A"}},{"$f":"'Sheet3 (4)'!S49","v":4.9088942507695644E-3},{"$f":"CORREL($B$1:B49,$K$1:K49)","v":{"$error":"#N/A"}},{"$f":"'Sheet3 (4)'!U49","v":-9.9612617598217172E-4},{"$f":"CORREL($B$1:B49,$M$1:M49)","v":{"$error":"#N/A"}},{"$f":"'Sheet3 (4)'!W49","v":-2.424819703360993E-2},{"$f":"CORREL($B$1:B49,$O$1:O49)","v":{"$error":"#N/A"}},{"$f":"'Sheet3 (4)'!Y49","v":-2.2689994532531003E-3},{"$f":"CORREL($B$1:B49,$Q$1:Q49)","v":{"$error":"#N/A"}},{"$f":"'Sheet3 (4)'!AA49","v":8.7615046571405328E-3},{"$f":"CORREL($B$1:B49,$S$1:S49)","v":{"$error":"#N/A"}}]
[null,{"$f":"'Sheet3 (4)'!I50","v":{"$error":"#N/A"}},{"$f":"'Sheet3 (4)'!K50","v":3.2326214778424971E-3},{"$f":"CORREL($B$1:B50,$C$1:C50)","v":{"$error":"#N/A"}},{"$f":"'Sheet3 (4)'!M50","v":3.4085226225883683E-2},{"$f":"CORREL($B$1:B50,$E$1:E50)","v":{"$error":"#N/A"}},{"$f":"'Sheet3 (4)'!O50","v":4.7852018799989078E-2},{"$f":"CORREL($B$1:B50,$G$1:G50)","v":{"$error":"#N/A"}},{"$f":"'Sheet3 (4)'!Q50","v":8.6318992945082443E-3},{"$f":"CORREL($B$1:B50,$I$1:I50)","v":{"$error":"#N/A"}},{"$f":"'Sheet3 (4)'!S50","v":4.0768782760629762E-3},{"$f":"CORREL($B$1:B50,$K$1:K50)","v":{"$error":"#N/A"}},{"$f":"'Sheet3 (4)'!U50","v":-1.7985611510790739E-3},{"$f":"CORREL($B$1:B50,$M$1:M50)","v":{"$error":"#N/A"}},{"$f":"'Sheet3 (4)'!W50","v":-2.5826643080691276E-2},{"$f":"CORREL($B$1:B50,$O$1:O50)","v":{"$error":"#N/A"}},{"$f":"'Sheet3 (4)'!Y50","v":-1.8316019682887259E-3},{"$f":"CORREL($B$1:B50,$Q$1:Q50)","v":{"$error":"#N/A"}},{"$f":"'Sheet3 (4)'!AA50","v":1.0392194798374813E-2},{"$f":"CORREL($B$1:B50,$S$1:S50)","v":{"$error":"#N/A"}}]
[null,{"$f":"'Sheet3 (4)'!I51","v":{"$error":"#N/A"}},{"$f":"'Sheet3 (4)'!K51","v":2.9271769287550009E-3},{"$f":"CORREL($B$1:B51,$C$1:C51)","v":{"$error":"#N/A"}},{"$f":"'Sheet3 (4)'!M51","v":3.5611823230595037E-2},{"$f":"CORREL($B$1:B51,$E$1:E51)","v":{"$error":"#N/A"}},{"$f":"'Sheet3 (4)'!O51","v":4.7824533435945456E-2},{"$f":"CORREL($B$1:B51,$G$1:G51)","v":{"$error":"#N/A"}},{"$f":"'Sheet3 (4)'!Q51","v":8.0509060727625547E-3},{"$f":"CORREL($B$1:B51,$I$1:I51)","v":{"$error":"#N/A"}},{"$f":"'Sheet3 (4)'!S51","v":3.3280638988268259E-3},{"$f":"CORREL($B$1:B51,$K$1:K51)","v":{"$error":"#N/A"}},{"$f":"'Sheet3 (4)'!U51","v":-3.3757609297176828E-3},{"$f":"CORREL($B$1:B51,$M$1:M51)","v":{"$error":"#N/A"}},{"$f":"'Sheet3 (4)'!W51","v":-2.4411484555721789E-2},{"$f":"CORREL($B$1:B51,$O$1:O51)","v":{"$error":"#N/A"}},{"$f":"'Sheet3 (4)'!Y51","v":-1.6675779114270466E-3},{"$f":"CORREL($B$1:B51,$Q$1:Q51)","v":{"$error":"#N/A"}},{"$f":"'Sheet3 (4)'!AA51","v":1.1276636908874781E-2},{"$f":"CORREL($B$1:B51,$S$1:S51)","v":{"$error":"#N/A"}}]
[null,{"$f":"'Sheet3 (4)'!I52","v":{"$error":"#N/A"}},{"$f":"'Sheet3 (4)'!K52","v":2.4944638175478356E-3},{"$f":"CORREL($B$1:B52,$C$1:C52)","v":{"$error":"#N/A"}},{"$f":"'Sheet3 (4)'!M52","v":3.5217013660411113E-2},{"$f":"CORREL($B$1:B52,$E$1:E52)","v":{"$error":"#N/A"}},{"$f":"'Sheet3 (4)'!O52","v":4.6862545694417758E-2},{"$f":"CORREL($B$1:B52,$G$1:G52)","v":{"$error":"#N/A"}},{"$f":"'Sheet3 (4)'!Q52","v":8.3829021994744207E-3},{"$f":"CORREL($B$1:B52,$I$1:I52)","v":{"$error":"#N/A"}},{"$f":"'Sheet3 (4)'!S52","v":3.4944670937681753E-3},{"$f":"CORREL($B$1:B52,$K$1:K52)","v":{"$error":"#N/A"}},{"$f":"'Sheet3 (4)'!U52","v":-1.6878804648587627E-3},{"$f":"CORREL($B$1:B52,$M$1:M52)","v":{"$error":"#N/A"}},{"$f":"'Sheet3 (4)'!W52","v":-2.1336236222615254E-2},{"$f":"CORREL($B$1:B52,$O$1:O52)","v":{"$error":"#N/A"}},{"$f":"'Sheet3 (4)'!Y52","v":-2.2689994532531003E-3},{"$f":"CORREL($B$1:B52,$Q$1:Q52)","v":{"$error":"#N/A"}},{"$f":"'Sheet3 (4)'!AA52","v":1.1470108620546633E-2},{"$f":"CORREL($B$1:B52,$S$1:S52)","v":{"$error":"#N/A"}}]
[null,{"$f":"'Sheet3 (4)'!I53","v":{"$error":"#N/A"}},{"$f":"'Sheet3 (4)'!K53","v":2.2399266933082074E-3},{"$f":"CORREL($B$1:B53,$C$1:C53)","v":{"$error":"#N/A"}},{"$f":"'Sheet3 (4)'!M53","v":3.4637959624141207E-2},{"$f":"CORREL($B$1:B53,$E$1:E53)","v":{"$error":"#N/A"}},{"$f":"'Sheet3 (4)'!O53","v":4.69724871505924E-2},{"$f":"CORREL($B$1:B53,$G$1:G53)","v":{"$error":"#N/A"}},{"$f":"'Sheet3 (4)'!Q53","v":8.3829021994744207E-3},{"$f":"CORREL($B$1:B53,$I$1:I53)","v":{"$error":"#N/A"}},{"$f":"'Sheet3 (4)'!S53","v":3.6886041545330563E-3},{"$f":"CORREL($B$1:B53,$K$1:K53)","v":{"$error":"#N/A"}},{"$f":"'Sheet3 (4)'!U53","v":-1.8815716657441892E-3},{"$f":"CORREL($B$1:B53,$M$1:M53)","v":{"$error":"#N/A"}},{"$f":"'Sheet3 (4)'!W53","v":-2.1934957137025451E-2},{"$f":"CORREL($B$1:B53,$O$1:O53)","v":{"$error":"#N/A"}},{"$f":"'Sheet3 (4)'!Y53","v":-3.2804811372334299E-3},{"$f":"CORREL($B$1:B53,$Q$1:Q53)","v":{"$error":"#N/A"}},{"$f":"'Sheet3 (4)'!AA53","v":1.2078162571515449E-2},{"$f":"CORREL($B$1:B53,$S$1:S53)","v":{"$error":"#N/A"}}]
[null,{"$f":"'Sheet3 (4)'!I54","v":{"$error":"#N/A"}},{"$f":"'Sheet3 (4)'!K54","v":-2.2908341181569433E-4},{"$f":"CORREL($B$1:B54,$C$1:C54)","v":{"$error":"#N/A"}},{"$f":"'Sheet3 (4)'!M54","v":3.4769562814202563E-2},{"$f":"CORREL($B$1:B54,$E$1:E54)","v":{"$error":"#N/A"}},{"$f":"'Sheet3 (4)'!O54","v":4.7989445620207342E-2},{"$f":"CORREL($B$1:B54,$G$1:G54)","v":{"$error":"#N/A"}},{"$f":"'Sheet3 (4)'!Q54","v":9.3235578918246086E-3},{"$f":"CORREL($B$1:B54,$I$1:I54)","v":{"$error":"#N/A"}},{"$f":"'Sheet3 (4)'!S54","v":3.7163380203567458E-3},{"$f":"CORREL($B$1:B54,$K$1:K54)","v":{"$error":"#N/A"}},{"$f":"'Sheet3 (4)'!U54","v":-2.9607083563917909E-3},{"$f":"CORREL($B$1:B54,$M$1:M54)","v":{"$error":"#N/A"}},{"$f":"'Sheet3 (4)'!W54","v":-2.2288746768267784E-2},{"$f":"CORREL($B$1:B54,$O$1:O54)","v":{"$error":"#N/A"}},{"$f":"'Sheet3 (4)'!Y54","v":-4.2372881355932515E-3},{"$f":"CORREL($B$1:B54,$Q$1:Q54)","v":{"$error":"#N/A"}},{"$f":"'Sheet3 (4)'!AA54","v":1.2879688234156118E-2},{"$f":"CORREL($B$1:B54,$S$1:S54)","v":{"$error":"#N/A"}}]
[null,{"$f":"'Sheet3 (4)'!I55","v":{"$error":"#N/A"}},{"$f":"'Sheet3 (4)'!K55","v":-3.8180568635929761E-4},{"$f":"CORREL($B$1:B55,$C$1:C55)","v":{"$error":"#N/A"}},{"$f":"'Sheet3 (4)'!M55","v":3.7270023425367747E-2},{"$f":"CORREL($B$1:B55,$E$1:E55)","v":{"$error":"#N/A"}},{"$f":"'Sheet3 (4)'!O55","v":4.4361377566445988E-2},{"$f":"CORREL($B$1:B55,$G$1:G55)","v":{"$error":"#N/A"}},{"$f":"'Sheet3 (4)'!Q55","v":9.3235578918246086E-3},{"$f":"CORREL($B$1:B55,$I$1:I55)","v":{"$error":"#N/A"}},{"$f":"'Sheet3 (4)'!S55","v":2.4960479241202377E-3},{"$f":"CORREL($B$1:B55,$K$1:K55)","v":{"$error":"#N/A"}},{"$f":"'Sheet3 (4)'!U55","v":-2.6286662977310147E-3},{"$f":"CORREL($B$1:B55,$M$1:M55)","v":{"$error":"#N/A"}},{"$f":"'Sheet3 (4)'!W55","v":-2.1172948700503395E-2},{"$f":"CORREL($B$1:B55,$O$1:O55)","v":{"$error":"#N/A"}},{"$f":"'Sheet3 (4)'!Y55","v":-2.952433023510071E-3},{"$f":"CORREL($B$1:B55,$Q$1:Q55)","v":{"$error":"#N/A"}},{"$f":"'Sheet3 (4)'!AA55","v":1.4510378375390398E-2},{"$f":"CORREL($B$1:B55,$S$1:S55)","v":{"$error":"#N/A"}}]
[null,{"$f":"'Sheet3 (4)'!I56","v":{"$error":"#N/A"}},{"$f":"'Sheet3 (4)'!K56","v":-6.1088909817499199E-4},{"$f":"CORREL($B$1:B56,$C$1:C56)","v":{"$error":"#N/A"}},{"$f":"'Sheet3 (4)'!M56","v":3.6980496407232943E-2},{"$f":"CORREL($B$1:B56,$E$1:E56)","v":{"$error":"#N/A"}},{"$f":"'Sheet3 (4)'!O56","v":3.8067229200450824E-2},{"$f":"CORREL($B$1:B56,$G$1:G56)","v":{"$error":"#N/A"}},{"$f":"'Sheet3 (4)'!Q56","v":8.0509060727625547E-3},{"$f":"CORREL($B$1:B56,$I$1:I56)","v":{"$error":"#N/A"}},{"$f":"'Sheet3 (4)'!S56","v":2.9952575089441276E-3},{"$f":"CORREL($B$1:B56,$K$1:K56)","v":{"$error":"#N/A"}},{"$f":"'Sheet3 (4)'!U56","v":-2.0199225235195389E-3},{"$f":"CORREL($B$1:B56,$M$1:M56)","v":{"$error":"#N/A"}},{"$f":"'Sheet3 (4)'!W56","v":-2.1635596679820353E-2},{"$f":"CORREL($B$1:B56,$O$1:O56)","v":{"$error":"#N/A"}},{"$f":"'Sheet3 (4)'!Y56","v":-2.3783488244942716E-3},{"$f":"CORREL($B$1:B56,$Q$1:Q56)","v":{"$error":"#N/A"}},{"$f":"'Sheet3 (4)'!AA56","v":1.3377186921312222E-2},{"$f":"CORREL($B$1:B56,$S$1:S56)","v":{"$error":"#N/A"}}]
[null,{"$f":"'Sheet3 (4)'!I57","v":{"$error":"#N/A"}},{"$f":"'Sheet3 (4)'!K57","v":-2.4944638175478356E-3},{"$f":"CORREL($B$1:B57,$C$1:C57)","v":{"$error":"#N/A"}},{"$f":"'Sheet3 (4)'!M57","v":3.7296344063380137E-2},{"$f":"CORREL($B$1:B57,$E$1:E57)","v":{"$error":"#N/A"}},{"$f":"'Sheet3 (4)'!O57","v":4.1667811890168556E-2},{"$f":"CORREL($B$1:B57,$G$1:G57)","v":{"$error":"#N/A"}},{"$f":"'Sheet3 (4)'!Q57","v":7.4422465071240776E-3},{"$f":"CORREL($B$1:B57,$I$1:I57)","v":{"$error":"#N/A"}},{"$f":"'Sheet3 (4)'!S57","v":2.4405801924730162E-3},{"$f":"CORREL($B$1:B57,$K$1:K57)","v":{"$error":"#N/A"}},{"$f":"'Sheet3 (4)'!U57","v":-1.3835085777531822E-3},{"$f":"CORREL($B$1:B57,$M$1:M57)","v":{"$error":"#N/A"}},{"$f":"'Sheet3 (4)'!W57","v":-1.9431215131310346E-2},{"$f":"CORREL($B$1:B57,$O$1:O57)","v":{"$error":"#N/A"}},{"$f":"'Sheet3 (4)'!Y57","v":-2.6790595954073759E-3},{"$f":"CORREL($B$1:B57,$Q$1:Q57)","v":{"$error":"#N/A"}},{"$f":"'Sheet3 (4)'!AA57","v":1.2962604682015415E-2},{"$f":"CORREL($B$1:B57,$S$1:S57)","v":{"$error":"#N/A"}}]
[null,{"$f":"'Sheet3 (4)'!I58","v":{"$error":"#N/A"}},{"$f":"'Sheet3 (4)'!K58","v":-1.8072135821008972E-3},{"$f":"CORREL($B$1:B58,$C$1:C58)","v":{"$error":"#N/A"}},{"$f":"'Sheet3 (4)'!M58","v":3.5953991524754474E-2},{"$f":"CORREL($B$1:B58,$E$1:E58)","v":{"$error":"#N/A"}},{"$f":"'Sheet3 (4)'!O58","v":4.3454360553005535E-2},{"$f":"CORREL($B$1:B58,$G$1:G58)","v":{"$error":"#N/A"}},{"$f":"'Sheet3 (4)'!Q58","v":7.2209157559828844E-3},{"$f":"CORREL($B$1:B58,$I$1:I58)","v":{"$error":"#N/A"}},{"$f":"'Sheet3 (4)'!S58","v":3.5499348254153969E-3},{"$f":"CORREL($B$1:B58,$K$1:K58)","v":{"$error":"#N/A"}},{"$f":"'Sheet3 (4)'!U58","v":-2.5733259546207804E-3},{"$f":"CORREL($B$1:B58,$M$1:M58)","v":{"$error":"#N/A"}},{"$f":"'Sheet3 (4)'!W58","v":-1.9839433936589913E-2},{"$f":"CORREL($B$1:B58,$O$1:O58)","v":{"$error":"#N/A"}},{"$f":"'Sheet3 (4)'!Y58","v":-3.4171678512848551E-3},{"$f":"CORREL($B$1:B58,$Q$1:Q58)","v":{"$error":"#N/A"}},{"$f":"'Sheet3 (4)'!AA58","v":1.4897321798734105E-2},{"$f":"CORREL($B$1:B58,$S$1:S58)","v":{"$error":"#N/A"}}]
[null,{"$f":"'Sheet3 (4)'!I59","v":{"$error":"#N/A"}},{"$f":"'Sheet3 (4)'!K59","v":2.5199175299717696E-3},{"$f":"CORREL($B$1:B59,$C$1:C59)","v":{"$error":"#N/A"}},{"$f":"'Sheet3 (4)'!M59","v":3.6848893217171587E-2},{"$f":"CORREL($B$1:B59,$E$1:E59)","v":{"$error":"#N/A"}},{"$f":"'Sheet3 (4)'!O59","v":3.9523953494764029E-2},{"$f":"CORREL($B$1:B59,$G$1:G59)","v":{"$error":"#N/A"}},{"$f":"'Sheet3 (4)'!Q59","v":6.6399225342371948E-3},{"$f":"CORREL($B$1:B59,$I$1:I59)","v":{"$error":"#N/A"}},{"$f":"'Sheet3 (4)'!S59","v":4.2432814710043256E-3},{"$f":"CORREL($B$1:B59,$K$1:K59)","v":{"$error":"#N/A"}},{"$f":"'Sheet3 (4)'!U59","v":-2.2412838959601613E-3},{"$f":"CORREL($B$1:B59,$M$1:M59)","v":{"$error":"#N/A"}},{"$f":"'Sheet3 (4)'!W59","v":-2.1091304939447546E-2},{"$f":"CORREL($B$1:B59,$O$1:O59)","v":{"$error":"#N/A"}},{"$f":"'Sheet3 (4)'!Y59","v":-3.4171678512848551E-3},{"$f":"CORREL($B$1:B59,$Q$1:Q59)","v":{"$error":"#N/A"}},{"$f":"'Sheet3 (4)'!AA59","v":1.4233990215859089E-2},{"$f":"CORREL($B$1:B59,$S$1:S59)","v":{"$error":"#N/A"}}]
[null,{"$f":"'Sheet3 (4)'!I60","v":{"$error":"#N/A"}},{"$f":"'Sheet3 (4)'!K60","v":4.4543996741924809E-3},{"$f":"CORREL($B$1:B60,$C$1:C60)","v":{"$error":"#N/A"}},{"$f":"'Sheet3 (4)'!M60","v":3.6480404284999907E-2},{"$f":"CORREL($B$1:B60,$E$1:E60)","v":{"$error":"#N/A"}},{"$f":"'Sheet3 (4)'!O60","v":3.7874831652145315E-2},{"$f":"CORREL($B$1:B60,$G$1:G60)","v":{"$error":"#N/A"}},{"$f":"'Sheet3 (4)'!Q60","v":4.5649467422881011E-3},{"$f":"CORREL($B$1:B60,$I$1:I60)","v":{"$error":"#N/A"}},{"$f":"'Sheet3 (4)'!S60","v":3.7718057520038095E-3},{"$f":"CORREL($B$1:B60,$K$1:K60)","v":{"$error":"#N/A"}},{"$f":"'Sheet3 (4)'!U60","v":-2.5733259546207804E-3},{"$f":"CORREL($B$1:B60,$M$1:M60)","v":{"$error":"#N/A"}},{"$f":"'Sheet3 (4)'!W60","v":-2.1798884201932212E-2},{"$f":"CORREL($B$1:B60,$O$1:O60)","v":{"$error":"#N/A"}},{"$f":"'Sheet3 (4)'!Y60","v":-2.1049753963915765E-3},{"$f":"CORREL($B$1:B60,$Q$1:Q60)","v":{"$error":"#N/A"}},{"$f":"'Sheet3 (4)'!AA60","v":1.4565656007296597E-2},{"$f":"CORREL($B$1:B60,$S$1:S60)","v":{"$error":"#N/A"}}]
[null,{"$f":"'Sheet3 (4)'!I61","v":{"$error":"#N/A"}},{"$f":"'Sheet3 (4)'!K61","v":2.6471860920915836E-3},{"$f":"CORREL($B$1:B61,$C$1:C61)","v":{"$error":"#N/A"}},{"$f":"'Sheet3 (4)'!M61","v":3.598031216276687E-2},{"$f":"CORREL($B$1:B61,$E$1:E61)","v":{"$error":"#N/A"}},{"$f":"'Sheet3 (4)'!O61","v":4.0101146139680709E-2},{"$f":"CORREL($B$1:B61,$G$1:G61)","v":{"$error":"#N/A"}},{"$f":"'Sheet3 (4)'!Q61","v":4.3712823350393806E-3},{"$f":"CORREL($B$1:B61,$I$1:I61)","v":{"$error":"#N/A"}},{"$f":"'Sheet3 (4)'!S61","v":3.5499348254153969E-3},{"$f":"CORREL($B$1:B61,$K$1:K61)","v":{"$error":"#N/A"}},{"$f":"'Sheet3 (4)'!U61","v":-2.4073049252905493E-3},{"$f":"CORREL($B$1:B61,$M$1:M61)","v":{"$error":"#N/A"}},{"$f":"'Sheet3 (4)'!W61","v":-2.1662811266838972E-2},{"$f":"CORREL($B$1:B61,$O$1:O61)","v":{"$error":"#N/A"}},{"$f":"'Sheet3 (4)'!Y61","v":-2.5423728813559507E-3},{"$f":"CORREL($B$1:B61,$Q$1:Q61)","v":{"$error":"#N/A"}},{"$f":"'Sheet3 (4)'!AA61","v":1.4233990215859089E-2},{"$f":"CORREL($B$1:B61,$S$1:S61)","v":{"$error":"#N/A"}}]
[null,{"$f":"'Sheet3 (4)'!I62","v":{"$error":"#N/A"}},{"$f":"'Sheet3 (4)'!K62","v":1.8581210069489097E-3},{"$f":"CORREL($B$1:B62,$C$1:C62)","v":{"$error":"#N/A"}},{"$f":"'Sheet3 (4)'!M62","v":3.603295343879135E-2},{"$f":"CORREL($B$1:B62,$E$1:E62)","v":{"$error":"#N/A"}},{"$f":"'Sheet3 (4)'!O62","v":4.438886293048961E-2},{"$f":"CORREL($B$1:B62,$G$1:G62)","v":{"$error":"#N/A"}},{"$f":"'Sheet3 (4)'!Q62","v":4.7586111495366646E-3},{"$f":"CORREL($B$1:B62,$I$1:I62)","v":{"$error":"#N/A"}},{"$f":"'Sheet3 (4)'!S62","v":3.8272734836508737E-3},{"$f":"CORREL($B$1:B62,$K$1:K62)","v":{"$error":"#N/A"}},{"$f":"'Sheet3 (4)'!U62","v":-3.3480907581626444E-3},{"$f":"CORREL($B$1:B62,$M$1:M62)","v":{"$error":"#N/A"}},{"$f":"'Sheet3 (4)'!W62","v":-2.0138794393795012E-2},{"$f":"CORREL($B$1:B62,$O$1:O62)","v":{"$error":"#N/A"}},{"$f":"'Sheet3 (4)'!Y62","v":-1.7495899398578085E-3},{"$f":"CORREL($B$1:B62,$Q$1:Q62)","v":{"$error":"#N/A"}},{"$f":"'Sheet3 (4)'!AA62","v":1.4095796136093592E-2},{"$f":"CORREL($B$1:B62,$S$1:S62)","v":{"$error":"#N/A"}}]
[null,{"$f":"'Sheet3 (4)'!I63","v":{"$error":"#N/A"}},{"$f":"'Sheet3 (4)'!K63","v":-1.7817598696768188E-4},{"$f":"CORREL($B$1:B63,$C$1:C63)","v":{"$error":"#N/A"}},{"$f":"'Sheet3 (4)'!M63","v":3.7928039375674384E-2},{"$f":"CORREL($B$1:B63,$E$1:E63)","v":{"$error":"#N/A"}},{"$f":"'Sheet3 (4)'!O63","v":4.2574828903608856E-2},{"$f":"CORREL($B$1:B63,$G$1:G63)","v":{"$error":"#N/A"}},{"$f":"'Sheet3 (4)'!Q63","v":4.1776179277908171E-3},{"$f":"CORREL($B$1:B63,$I$1:I63)","v":{"$error":"#N/A"}},{"$f":"'Sheet3 (4)'!S63","v":3.8272734836508737E-3},{"$f":"CORREL($B$1:B63,$K$1:K63)","v":{"$error":"#N/A"}},{"$f":"'Sheet3 (4)'!U63","v":-2.2136137244049658E-3},{"$f":"CORREL($B$1:B63,$M$1:M63)","v":{"$error":"#N/A"}},{"$f":"'Sheet3 (4)'!W63","v":-1.7879983671247771E-2},{"$f":"CORREL($B$1:B63,$O$1:O63)","v":{"$error":"#N/A"}},{"$f":"'Sheet3 (4)'!Y63","v":-1.1208310552215009E-3},{"$f":"CORREL($B$1:B63,$Q$1:Q63)","v":{"$error":"#N/A"}},{"$f":"'Sheet3 (4)'!AA63","v":1.3957602056327938E-2},{"$f":"CORREL($B$1:B63,$S$1:S63)","v":{"$error":"#N/A"}}]
[null,{"$f":"'Sheet3 (4)'!I64","v":{"$error":"#N/A"}},{"$f":"'Sheet3 (4)'!K64","v":-7.6361137271946342E-5},{"$f":"CORREL($B$1:B64,$C$1:C64)","v":{"$error":"#N/A"}},{"$f":"'Sheet3 (4)'!M64","v":3.6375121732950787E-2},{"$f":"CORREL($B$1:B64,$E$1:E64)","v":{"$error":"#N/A"}},{"$f":"'Sheet3 (4)'!O64","v":4.3042080092350894E-2},{"$f":"CORREL($B$1:B64,$G$1:G64)","v":{"$error":"#N/A"}},{"$f":"'Sheet3 (4)'!Q64","v":3.153963203762585E-3},{"$f":"CORREL($B$1:B64,$I$1:I64)","v":{"$error":"#N/A"}},{"$f":"'Sheet3 (4)'!S64","v":3.4944670937681753E-3},{"$f":"CORREL($B$1:B64,$K$1:K64)","v":{"$error":"#N/A"}},{"$f":"'Sheet3 (4)'!U64","v":-4.0951853901493125E-3},{"$f":"CORREL($B$1:B64,$M$1:M64)","v":{"$error":"#N/A"}},{"$f":"'Sheet3 (4)'!W64","v":-1.7063546060688481E-2},{"$f":"CORREL($B$1:B64,$O$1:O64)","v":{"$error":"#N/A"}},{"$f":"'Sheet3 (4)'!Y64","v":-1.8862766539092337E-3},{"$f":"CORREL($B$1:B64,$Q$1:Q64)","v":{"$error":"#N/A"}},{"$f":"'Sheet3 (4)'!AA64","v":1.3819407976562285E-2},{"$f":"CORREL($B$1:B64,$S$1:S64)","v":{"$error":"#N/A"}}]
[null,{"$f":"'Sheet3 (4)'!I65","v":{"$error":"#N/A"}},{"$f":"'Sheet3 (4)'!K65","v":1.8581210069489097E-3},{"$f":"CORREL($B$1:B65,$C$1:C65)","v":{"$error":"#N/A"}},{"$f":"'Sheet3 (4)'!M65","v":3.587502961071775E-2},{"$f":"CORREL($B$1:B65,$E$1:E65)","v":{"$error":"#N/A"}},{"$f":"'Sheet3 (4)'!O65","v":4.6367809141632098E-2},{"$f":"CORREL($B$1:B65,$G$1:G65)","v":{"$error":"#N/A"}},{"$f":"'Sheet3 (4)'!Q65","v":2.9602987965140219E-3},{"$f":"CORREL($B$1:B65,$I$1:I65)","v":{"$error":"#N/A"}},{"$f":"'Sheet3 (4)'!S65","v":2.5792495215908335E-3},{"$f":"CORREL($B$1:B65,$K$1:K65)","v":{"$error":"#N/A"}},{"$f":"'Sheet3 (4)'!U65","v":-3.929164360818924E-3},{"$f":"CORREL($B$1:B65,$M$1:M65)","v":{"$error":"#N/A"}},{"$f":"'Sheet3 (4)'!W65","v":-1.7798339910191766E-2},{"$f":"CORREL($B$1:B65,$O$1:O65)","v":{"$error":"#N/A"}},{"$f":"'Sheet3 (4)'!Y65","v":-2.5697102241662049E-3},{"$f":"CORREL($B$1:B65,$Q$1:Q65)","v":{"$error":"#N/A"}},{"$f":"'Sheet3 (4)'!AA65","v":1.3681213896796629E-2},{"$f":"CORREL($B$1:B65,$S$1:S65)","v":{"$error":"#N/A"}}]
[null,{"$f":"'Sheet3 (4)'!I66","v":{"$error":"#N/A"}},{"$f":"'Sheet3 (4)'!K66","v":1.8326672945248312E-3},{"$f":"CORREL($B$1:B66,$C$1:C66)","v":{"$error":"#N/A"}},{"$f":"'Sheet3 (4)'!M66","v":3.2532308583160092E-2},{"$f":"CORREL($B$1:B66,$E$1:E66)","v":{"$error":"#N/A"}},{"$f":"'Sheet3 (4)'!O66","v":4.9666052826869672E-2},{"$f":"CORREL($B$1:B66,$G$1:G66)","v":{"$error":"#N/A"}},{"$f":"'Sheet3 (4)'!Q66","v":2.0196431041638353E-3},{"$f":"CORREL($B$1:B66,$I$1:I66)","v":{"$error":"#N/A"}},{"$f":"'Sheet3 (4)'!S66","v":3.4667332279446432E-3},{"$f":"CORREL($B$1:B66,$K$1:K66)","v":{"$error":"#N/A"}},{"$f":"'Sheet3 (4)'!U66","v":-4.4548976203651267E-3},{"$f":"CORREL($B$1:B66,$M$1:M66)","v":{"$error":"#N/A"}},{"$f":"'Sheet3 (4)'!W66","v":-1.8914137977956155E-2},{"$f":"CORREL($B$1:B66,$O$1:O66)","v":{"$error":"#N/A"}},{"$f":"'Sheet3 (4)'!Y66","v":-2.0229633679606589E-3},{"$f":"CORREL($B$1:B66,$Q$1:Q66)","v":{"$error":"#N/A"}},{"$f":"'Sheet3 (4)'!AA66","v":1.3377186921312222E-2},{"$f":"CORREL($B$1:B66,$S$1:S66)","v":{"$error":"#N/A"}}]
[null,{"$f":"'Sheet3 (4)'!I67","v":{"$error":"#N/A"}},{"$f":"'Sheet3 (4)'!K67","v":6.1088909817499199E-4},{"$f":"CORREL($B$1:B67,$C$1:C67)","v":{"$error":"#N/A"}},{"$f":"'Sheet3 (4)'!M67","v":3.458531834811672E-2},{"$f":"CORREL($B$1:B67,$E$1:E67)","v":{"$error":"#N/A"}},{"$f":"'Sheet3 (4)'!O67","v":4.8759035813429379E-2},{"$f":"CORREL($B$1:B67,$G$1:G67)","v":{"$error":"#N/A"}},{"$f":"'Sheet3 (4)'!Q67","v":2.9602987965140219E-3},{"$f":"CORREL($B$1:B67,$I$1:I67)","v":{"$error":"#N/A"}},{"$f":"'Sheet3 (4)'!S67","v":3.355797764650358E-3},{"$f":"CORREL($B$1:B67,$K$1:K67)","v":{"$error":"#N/A"}},{"$f":"'Sheet3 (4)'!U67","v":-3.2650802434973716E-3},{"$f":"CORREL($B$1:B67,$M$1:M67)","v":{"$error":"#N/A"}},{"$f":"'Sheet3 (4)'!W67","v":-1.8097700367396864E-2},{"$f":"CORREL($B$1:B67,$O$1:O67)","v":{"$error":"#N/A"}},{"$f":"'Sheet3 (4)'!Y67","v":-1.5855658829961293E-3},{"$f":"CORREL($B$1:B67,$Q$1:Q67)","v":{"$error":"#N/A"}},{"$f":"'Sheet3 (4)'!AA67","v":1.3598297448937332E-2},{"$f":"CORREL($B$1:B67,$S$1:S67)","v":{"$error":"#N/A"}}]
[null,{"$f":"'Sheet3 (4)'!I68","v":{"$error":"#N/A"}},{"$f":"'Sheet3 (4)'!K68","v":5.3452796090304564E-4},{"$f":"CORREL($B$1:B68,$C$1:C68)","v":{"$error":"#N/A"}},{"$f":"'Sheet3 (4)'!M68","v":3.661200747506111E-2},{"$f":"CORREL($B$1:B68,$E$1:E68)","v":{"$error":"#N/A"}},{"$f":"'Sheet3 (4)'!O68","v":4.8236813896600096E-2},{"$f":"CORREL($B$1:B68,$G$1:G68)","v":{"$error":"#N/A"}},{"$f":"'Sheet3 (4)'!Q68","v":3.2092958915480013E-3},{"$f":"CORREL($B$1:B68,$I$1:I68)","v":{"$error":"#N/A"}},{"$f":"'Sheet3 (4)'!S68","v":3.2725961671797622E-3},{"$f":"CORREL($B$1:B68,$K$1:K68)","v":{"$error":"#N/A"}},{"$f":"'Sheet3 (4)'!U68","v":-3.707802988378459E-3},{"$f":"CORREL($B$1:B68,$M$1:M68)","v":{"$error":"#N/A"}},{"$f":"'Sheet3 (4)'!W68","v":-1.9322356783235722E-2},{"$f":"CORREL($B$1:B68,$O$1:O68)","v":{"$error":"#N/A"}},{"$f":"'Sheet3 (4)'!Y68","v":-2.3510114816840174E-3},{"$f":"CORREL($B$1:B68,$Q$1:Q68)","v":{"$error":"#N/A"}},{"$f":"'Sheet3 (4)'!AA68","v":1.3791769160609185E-2},{"$f":"CORREL($B$1:B68,$S$1:S68)","v":{"$error":"#N/A"}}]
[null,{"$f":"'Sheet3 (4)'!I69","v":{"$error":"#N/A"}},{"$f":"'Sheet3 (4)'!K69","v":8.3997250999054158E-4},{"$f":"CORREL($B$1:B69,$C$1:C69)","v":{"$error":"#N/A"}},{"$f":"'Sheet3 (4)'!M69","v":3.598031216276687E-2},{"$f":"CORREL($B$1:B69,$E$1:E69)","v":{"$error":"#N/A"}},{"$f":"'Sheet3 (4)'!O69","v":5.0820438116702886E-2},{"$f":"CORREL($B$1:B69,$G$1:G69)","v":{"$error":"#N/A"}},{"$f":"'Sheet3 (4)'!Q69","v":3.900954488864366E-3},{"$f":"CORREL($B$1:B69,$I$1:I69)","v":{"$error":"#N/A"}},{"$f":"'Sheet3 (4)'!S69","v":2.9675236431205955E-3},{"$f":"CORREL($B$1:B69,$K$1:K69)","v":{"$error":"#N/A"}},{"$f":"'Sheet3 (4)'!U69","v":-3.0713890426119447E-3},{"$f":"CORREL($B$1:B69,$M$1:M69)","v":{"$error":"#N/A"}},{"$f":"'Sheet3 (4)'!W69","v":-1.8778065042862915E-2},{"$f":"CORREL($B$1:B69,$O$1:O69)","v":{"$error":"#N/A"}},{"$f":"'Sheet3 (4)'!Y69","v":-2.7063969382176301E-3},{"$f":"CORREL($B$1:B69,$Q$1:Q69)","v":{"$error":"#N/A"}},{"$f":"'Sheet3 (4)'!AA69","v":1.2575661258671709E-2},{"$f":"CORREL($B$1:B69,$S$1:S69)","v":{"$error":"#N/A"}}]
[null,{"$f":"'Sheet3 (4)'!I70","v":{"$error":"#N/A"}},{"$f":"'Sheet3 (4)'!K70","v":5.5998167332697954E-4},{"$f":"CORREL($B$1:B70,$C$1:C70)","v":{"$error":"#N/A"}},{"$f":"'Sheet3 (4)'!M70","v":3.598031216276687E-2},{"$f":"CORREL($B$1:B70,$E$1:E70)","v":{"$error":"#N/A"}},{"$f":"'Sheet3 (4)'!O70","v":5.0902894208833906E-2},{"$f":"CORREL($B$1:B70,$G$1:G70)","v":{"$error":"#N/A"}},{"$f":"'Sheet3 (4)'!Q70","v":4.4542813667174264E-3},{"$f":"CORREL($B$1:B70,$I$1:I70)","v":{"$error":"#N/A"}},{"$f":"'Sheet3 (4)'!S70","v":1.8581690101783729E-3},{"$f":"CORREL($B$1:B70,$K$1:K70)","v":{"$error":"#N/A"}},{"$f":"'Sheet3 (4)'!U70","v":-4.1505257332595464E-3},{"$f":"CORREL($B$1:B70,$M$1:M70)","v":{"$error":"#N/A"}},{"$f":"'Sheet3 (4)'!W70","v":-1.8369846237583344E-2},{"$f":"CORREL($B$1:B70,$O$1:O70)","v":{"$error":"#N/A"}},{"$f":"'Sheet3 (4)'!Y70","v":-3.2531437944231757E-3},{"$f":"CORREL($B$1:B70,$Q$1:Q70)","v":{"$error":"#N/A"}},{"$f":"'Sheet3 (4)'!AA70","v":1.3543019817030976E-2},{"$f":"CORREL($B$1:B70,$S$1:S70)","v":{"$error":"#N/A"}}]
[null,{"$f":"'Sheet3 (4)'!I71","v":{"$error":"#N/A"}},{"$f":"'Sheet3 (4)'!K71","v":3.5635197393536376E-4},{"$f":"CORREL($B$1:B71,$C$1:C71)","v":{"$error":"#N/A"}},{"$f":"'Sheet3 (4)'!M71","v":3.4558997710104483E-2},{"$f":"CORREL($B$1:B71,$E$1:E71)","v":{"$error":"#N/A"}},{"$f":"'Sheet3 (4)'!O71","v":5.046312838413549E-2},{"$f":"CORREL($B$1:B71,$G$1:G71)","v":{"$error":"#N/A"}},{"$f":"'Sheet3 (4)'!Q71","v":4.3989486789321672E-3},{"$f":"CORREL($B$1:B71,$I$1:I71)","v":{"$error":"#N/A"}},{"$f":"'Sheet3 (4)'!S71","v":1.7472335468840877E-3},{"$f":"CORREL($B$1:B71,$K$1:K71)","v":{"$error":"#N/A"}},{"$f":"'Sheet3 (4)'!U71","v":-3.9014941892638855E-3},{"$f":"CORREL($B$1:B71,$M$1:M71)","v":{"$error":"#N/A"}},{"$f":"'Sheet3 (4)'!W71","v":-1.8206558715471489E-2},{"$f":"CORREL($B$1:B71,$O$1:O71)","v":{"$error":"#N/A"}},{"$f":"'Sheet3 (4)'!Y71","v":-3.6632039365774517E-3},{"$f":"CORREL($B$1:B71,$Q$1:Q71)","v":{"$error":"#N/A"}},{"$f":"'Sheet3 (4)'!AA71","v":1.0281639534562258E-2},{"$f":"CORREL($B$1:B71,$S$1:S71)","v":{"$error":"#N/A"}}]
[null,{"$f":"'Sheet3 (4)'!I72","v":{"$error":"#N/A"}},{"$f":"'Sheet3 (4)'!K72","v":-6.617965230228597E-4},{"$f":"CORREL($B$1:B72,$C$1:C72)","v":{"$error":"#N/A"}},{"$f":"'Sheet3 (4)'!M72","v":3.5085410470349757E-2},{"$f":"CORREL($B$1:B72,$E$1:E72)","v":{"$error":"#N/A"}},{"$f":"'Sheet3 (4)'!O72","v":4.8539152901080247E-2},{"$f":"CORREL($B$1:B72,$G$1:G72)","v":{"$error":"#N/A"}},{"$f":"'Sheet3 (4)'!Q72","v":4.6202794300733603E-3},{"$f":"CORREL($B$1:B72,$I$1:I72)","v":{"$error":"#N/A"}},{"$f":"'Sheet3 (4)'!S72","v":1.9691044734725005E-3},{"$f":"CORREL($B$1:B72,$K$1:K72)","v":{"$error":"#N/A"}},{"$f":"'Sheet3 (4)'!U72","v":-3.8738240177088471E-3},{"$f":"CORREL($B$1:B72,$M$1:M72)","v":{"$error":"#N/A"}},{"$f":"'Sheet3 (4)'!W72","v":-1.9104640087086629E-2},{"$f":"CORREL($B$1:B72,$O$1:O72)","v":{"$error":"#N/A"}},{"$f":"'Sheet3 (4)'!Y72","v":-4.2646254784035054E-3},{"$f":"CORREL($B$1:B72,$Q$1:Q72)","v":{"$error":"#N/A"}},{"$f":"'Sheet3 (4)'!AA72","v":1.0088167822890404E-2},{"$f":"CORREL($B$1:B72,$S$1:S72)","v":{"$error":"#N/A"}}]
[null,{"$f":"'Sheet3 (4)'!I73","v":{"$error":"#N/A"}},{"$f":"'Sheet3 (4)'!K73","v":1.7817598696768188E-4},{"$f":"CORREL($B$1:B73,$C$1:C73)","v":{"$error":"#N/A"}},{"$f":"'Sheet3 (4)'!M73","v":3.3795699207748726E-2},{"$f":"CORREL($B$1:B73,$E$1:E73)","v":{"$error":"#N/A"}},{"$f":"'Sheet3 (4)'!O73","v":4.7027457878679645E-2},{"$f":"CORREL($B$1:B73,$G$1:G73)","v":{"$error":"#N/A"}},{"$f":"'Sheet3 (4)'!Q73","v":5.1182736201411611E-3},{"$f":"CORREL($B$1:B73,$I$1:I73)","v":{"$error":"#N/A"}},{"$f":"'Sheet3 (4)'!S73","v":2.2187092658846031E-3},{"$f":"CORREL($B$1:B73,$K$1:K73)","v":{"$error":"#N/A"}},{"$f":"'Sheet3 (4)'!U73","v":-3.126729385722179E-3},{"$f":"CORREL($B$1:B73,$M$1:M73)","v":{"$error":"#N/A"}},{"$f":"'Sheet3 (4)'!W73","v":-1.8478704585657812E-2},{"$f":"CORREL($B$1:B73,$O$1:O73)","v":{"$error":"#N/A"}},{"$f":"'Sheet3 (4)'!Y73","v":-4.2646254784035054E-3},{"$f":"CORREL($B$1:B73,$Q$1:Q73)","v":{"$error":"#N/A"}},{"$f":"'Sheet3 (4)'!AA73","v":9.673585583593599E-3},{"$f":"CORREL($B$1:B73,$S$1:S73)","v":{"$error":"#N/A"}}]
[null,{"$f":"'Sheet3 (4)'!I74","v":{"$error":"#N/A"}},{"$f":"'Sheet3 (4)'!K74","v":5.8543538575105808E-4},{"$f":"CORREL($B$1:B74,$C$1:C74)","v":{"$error":"#N/A"}},{"$f":"'Sheet3 (4)'!M74","v":3.3664096017687523E-2},{"$f":"CORREL($B$1:B74,$E$1:E74)","v":{"$error":"#N/A"}},{"$f":"'Sheet3 (4)'!O74","v":4.3097050820438139E-2},{"$f":"CORREL($B$1:B74,$G$1:G74)","v":{"$error":"#N/A"}},{"$f":"'Sheet3 (4)'!Q74","v":4.8416101812145526E-3},{"$f":"CORREL($B$1:B74,$I$1:I74)","v":{"$error":"#N/A"}},{"$f":"'Sheet3 (4)'!S74","v":1.8581690101783729E-3},{"$f":"CORREL($B$1:B74,$K$1:K74)","v":{"$error":"#N/A"}},{"$f":"'Sheet3 (4)'!U74","v":-1.9092418372993851E-3},{"$f":"CORREL($B$1:B74,$M$1:M74)","v":{"$error":"#N/A"}},{"$f":"'Sheet3 (4)'!W74","v":-1.7009116886651247E-2},{"$f":"CORREL($B$1:B74,$O$1:O74)","v":{"$error":"#N/A"}},{"$f":"'Sheet3 (4)'!Y74","v":-3.4991798797157723E-3},{"$f":"CORREL($B$1:B74,$Q$1:Q74)","v":{"$error":"#N/A"}},{"$f":"'Sheet3 (4)'!AA74","v":9.8394184793123528E-3},{"$f":"CORREL($B$1:B74,$S$1:S74)","v":{"$error":"#N/A"}}]
[null,{"$f":"'Sheet3 (4)'!I75","v":{"$error":"#N/A"}},{"$f":"'Sheet3 (4)'!K75","v":-1.6544913075571494E-3},{"$f":"CORREL($B$1:B75,$C$1:C75)","v":{"$error":"#N/A"}},{"$f":"'Sheet3 (4)'!M75","v":3.5006448556313033E-2},{"$f":"CORREL($B$1:B75,$E$1:E75)","v":{"$error":"#N/A"}},{"$f":"'Sheet3 (4)'!O75","v":4.4911084847318893E-2},{"$f":"CORREL($B$1:B75,$G$1:G75)","v":{"$error":"#N/A"}},{"$f":"'Sheet3 (4)'!Q75","v":4.3712823350393806E-3},{"$f":"CORREL($B$1:B75,$I$1:I75)","v":{"$error":"#N/A"}},{"$f":"'Sheet3 (4)'!S75","v":2.8843220456499998E-3},{"$f":"CORREL($B$1:B75,$K$1:K75)","v":{"$error":"#N/A"}},{"$f":"'Sheet3 (4)'!U75","v":-2.4903154399556651E-3},{"$f":"CORREL($B$1:B75,$M$1:M75)","v":{"$error":"#N/A"}},{"$f":"'Sheet3 (4)'!W75","v":-1.6301537624166577E-2},{"$f":"CORREL($B$1:B75,$O$1:O75)","v":{"$error":"#N/A"}},{"$f":"'Sheet3 (4)'!Y75","v":-4.1552761071624892E-3},{"$f":"CORREL($B$1:B75,$Q$1:Q75)","v":{"$error":"#N/A"}},{"$f":"'Sheet3 (4)'!AA75","v":9.9499737431249079E-3},{"$f":"CORREL($B$1:B75,$S$1:S75)","v":{"$error":"#N/A"}}]
[null,{"$f":"'Sheet3 (4)'!I76","v":{"$error":"#N/A"}},{"$f":"'Sheet3 (4)'!K76","v":-1.5781301702853477E-3},{"$f":"CORREL($B$1:B76,$C$1:C76)","v":{"$error":"#N/A"}},{"$f":"'Sheet3 (4)'!M76","v":3.382201984576097E-2},{"$f":"CORREL($B$1:B76,$E$1:E76)","v":{"$error":"#N/A"}},{"$f":"'Sheet3 (4)'!O76","v":4.5021026303493382E-2},{"$f":"CORREL($B$1:B76,$G$1:G76)","v":{"$error":"#N/A"}},{"$f":"'Sheet3 (4)'!Q76","v":4.3989486789321672E-3},{"$f":"CORREL($B$1:B76,$I$1:I76)","v":{"$error":"#N/A"}},{"$f":"'Sheet3 (4)'!S76","v":3.7440718861802779E-3},{"$f":"CORREL($B$1:B76,$K$1:K76)","v":{"$error":"#N/A"}},{"$f":"'Sheet3 (4)'!U76","v":-1.4111787493082206E-3},{"$f":"CORREL($B$1:B76,$M$1:M76)","v":{"$error":"#N/A"}},{"$f":"'Sheet3 (4)'!W76","v":-1.8424275411620578E-2},{"$f":"CORREL($B$1:B76,$O$1:O76)","v":{"$error":"#N/A"}},{"$f":"'Sheet3 (4)'!Y76","v":-1.8042646254784718E-3},{"$f":"CORREL($B$1:B76,$Q$1:Q76)","v":{"$error":"#N/A"}},{"$f":"'Sheet3 (4)'!AA76","v":1.0392194798374813E-2},{"$f":"CORREL($B$1:B76,$S$1:S76)","v":{"$error":"#N/A"}}]
[null,{"$f":"'Sheet3 (4)'!I77","v":{"$error":"#N/A"}},{"$f":"'Sheet3 (4)'!K77","v":-2.9780843536030134E-3},{"$f":"CORREL($B$1:B77,$C$1:C77)","v":{"$error":"#N/A"}},{"$f":"'Sheet3 (4)'!M77","v":3.355881346563841E-2},{"$f":"CORREL($B$1:B77,$E$1:E77)","v":{"$error":"#N/A"}},{"$f":"'Sheet3 (4)'!O77","v":4.8099387076381832E-2},{"$f":"CORREL($B$1:B77,$G$1:G77)","v":{"$error":"#N/A"}},{"$f":"'Sheet3 (4)'!Q77","v":5.4226034029603992E-3},{"$f":"CORREL($B$1:B77,$I$1:I77)","v":{"$error":"#N/A"}},{"$f":"'Sheet3 (4)'!S77","v":2.6624511190614293E-3},{"$f":"CORREL($B$1:B77,$K$1:K77)","v":{"$error":"#N/A"}},{"$f":"'Sheet3 (4)'!U77","v":-1.3281682346429479E-3},{"$f":"CORREL($B$1:B77,$M$1:M77)","v":{"$error":"#N/A"}},{"$f":"'Sheet3 (4)'!W77","v":-1.6845829364539388E-2},{"$f":"CORREL($B$1:B77,$O$1:O77)","v":{"$error":"#N/A"}},{"$f":"'Sheet3 (4)'!Y77","v":1.6675779114270466E-3},{"$f":"CORREL($B$1:B77,$Q$1:Q77)","v":{"$error":"#N/A"}},{"$f":"'Sheet3 (4)'!AA77","v":1.1497747436499889E-2},{"$f":"CORREL($B$1:B77,$S$1:S77)","v":{"$error":"#N/A"}}]
[null,{"$f":"'Sheet3 (4)'!I78","v":{"$error":"#N/A"}},{"$f":"'Sheet3 (4)'!K78","v":-2.2653804057321415E-3},{"$f":"CORREL($B$1:B78,$C$1:C78)","v":{"$error":"#N/A"}},{"$f":"'Sheet3 (4)'!M78","v":3.4058905587871446E-2},{"$f":"CORREL($B$1:B78,$E$1:E78)","v":{"$error":"#N/A"}},{"$f":"'Sheet3 (4)'!O78","v":4.4251436110271346E-2},{"$f":"CORREL($B$1:B78,$G$1:G78)","v":{"$error":"#N/A"}},{"$f":"'Sheet3 (4)'!Q78","v":6.5845898464517794E-3},{"$f":"CORREL($B$1:B78,$I$1:I78)","v":{"$error":"#N/A"}},{"$f":"'Sheet3 (4)'!S78","v":2.4405801924730162E-3},{"$f":"CORREL($B$1:B78,$K$1:K78)","v":{"$error":"#N/A"}},{"$f":"'Sheet3 (4)'!U78","v":-2.2966242390702381E-3},{"$f":"CORREL($B$1:B78,$M$1:M78)","v":{"$error":"#N/A"}},{"$f":"'Sheet3 (4)'!W78","v":-1.6464825146278436E-2},{"$f":"CORREL($B$1:B78,$O$1:O78)","v":{"$error":"#N/A"}},{"$f":"'Sheet3 (4)'!Y78","v":4.5106615636959467E-3},{"$f":"CORREL($B$1:B78,$Q$1:Q78)","v":{"$error":"#N/A"}},{"$f":"'Sheet3 (4)'!AA78","v":1.1027887565296728E-2},{"$f":"CORREL($B$1:B78,$S$1:S78)","v":{"$error":"#N/A"}}]
[null,{"$f":"'Sheet3 (4)'!I79","v":{"$error":"#N/A"}},{"$f":"'Sheet3 (4)'!K79","v":{"$error":"#N/A"}},{"$f":"CORREL($B$1:B79,$C$1:C79)","v":{"$error":"#N/A"}},{"$f":"'Sheet3 (4)'!M79","v":{"$error":"#N/A"}},{"$f":"CORREL($B$1:B79,$E$1:E79)","v":{"$error":"#N/A"}},{"$f":"'Sheet3 (4)'!O79","v":{"$error":"#N/A"}},{"$f":"CORREL($B$1:B79,$G$1:G79)","v":{"$error":"#N/A"}},{"$f":"'Sheet3 (4)'!Q79","v":{"$error":"#N/A"}},{"$f":"CORREL($B$1:B79,$I$1:I79)","v":{"$error":"#N/A"}},{"$f":"'Sheet3 (4)'!S79","v":{"$error":"#N/A"}},{"$f":"CORREL($B$1:B79,$K$1:K79)","v":{"$error":"#N/A"}},{"$f":"'Sheet3 (4)'!U79","v":{"$error":"#N/A"}},{"$f":"CORREL($B$1:B79,$M$1:M79)","v":{"$error":"#N/A"}},{"$f":"'Sheet3 (4)'!W79","v":{"$error":"#N/A"}},{"$f":"CORREL($B$1:B79,$O$1:O79)","v":{"$error":"#N/A"}},{"$f":"'Sheet3 (4)'!Y79","v":{"$error":"#N/A"}},{"$f":"CORREL($B$1:B79,$Q$1:Q79)","v":{"$error":"#N/A"}},{"$f":"'Sheet3 (4)'!AA79","v":{"$error":"#N/A"}},{"$f":"CORREL($B$1:B79,$S$1:S79)","v":{"$error":"#N/A"}}]
[null,{"$f":"'Sheet3 (4)'!I80","v":{"$error":"#N/A"}},{"$f":"'Sheet3 (4)'!K80","v":{"$error":"#N/A"}},{"$f":"CORREL($B$1:B80,$C$1:C80)","v":{"$error":"#N/A"}},{"$f":"'Sheet3 (4)'!M80","v":{"$error":"#N/A"}},{"$f":"CORREL($B$1:B80,$E$1:E80)","v":{"$error":"#N/A"}},{"$f":"'Sheet3 (4)'!O80","v":{"$error":"#N/A"}},{"$f":"CORREL($B$1:B80,$G$1:G80)","v":{"$error":"#N/A"}},{"$f":"'Sheet3 (4)'!Q80","v":{"$error":"#N/A"}},{"$f":"CORREL($B$1:B80,$I$1:I80)","v":{"$error":"#N/A"}},{"$f":"'Sheet3 (4)'!S80","v":{"$error":"#N/A"}},{"$f":"CORREL($B$1:B80,$K$1:K80)","v":{"$error":"#N/A"}},{"$f":"'Sheet3 (4)'!U80","v":{"$error":"#N/A"}},{"$f":"CORREL($B$1:B80,$M$1:M80)","v":{"$error":"#N/A"}},{"$f":"'Sheet3 (4)'!W80","v":{"$error":"#N/A"}},{"$f":"CORREL($B$1:B80,$O$1:O80)","v":{"$error":"#N/A"}},{"$f":"'Sheet3 (4)'!Y80","v":{"$error":"#N/A"}},{"$f":"CORREL($B$1:B80,$Q$1:Q80)","v":{"$error":"#N/A"}},{"$f":"'Sheet3 (4)'!AA80","v":{"$error":"#N/A"}},{"$f":"CORREL($B$1:B80,$S$1:S80)","v":{"$error":"#N/A"}}]
[null,{"$f":"'Sheet3 (4)'!I81","v":{"$error":"#N/A"}},{"$f":"'Sheet3 (4)'!K81","v":{"$error":"#N/A"}},{"$f":"CORREL($B$1:B81,$C$1:C81)","v":{"$error":"#N/A"}},{"$f":"'Sheet3 (4)'!M81","v":{"$error":"#N/A"}},{"$f":"CORREL($B$1:B81,$E$1:E81)","v":{"$error":"#N/A"}},{"$f":"'Sheet3 (4)'!O81","v":{"$error":"#N/A"}},{"$f":"CORREL($B$1:B81,$G$1:G81)","v":{"$error":"#N/A"}},{"$f":"'Sheet3 (4)'!Q81","v":{"$error":"#N/A"}},{"$f":"CORREL($B$1:B81,$I$1:I81)","v":{"$error":"#N/A"}},{"$f":"'Sheet3 (4)'!S81","v":{"$error":"#N/A"}},{"$f":"CORREL($B$1:B81,$K$1:K81)","v":{"$error":"#N/A"}},{"$f":"'Sheet3 (4)'!U81","v":{"$error":"#N/A"}},{"$f":"CORREL($B$1:B81,$M$1:M81)","v":{"$error":"#N/A"}},{"$f":"'Sheet3 (4)'!W81","v":{"$error":"#N/A"}},{"$f":"CORREL($B$1:B81,$O$1:O81)","v":{"$error":"#N/A"}},{"$f":"'Sheet3 (4)'!Y81","v":{"$error":"#N/A"}},{"$f":"CORREL($B$1:B81,$Q$1:Q81)","v":{"$error":"#N/A"}},{"$f":"'Sheet3 (4)'!AA81","v":{"$error":"#N/A"}},{"$f":"CORREL($B$1:B81,$S$1:S81)","v":{"$error":"#N/A"}}]
[null,null,null,{"$f":"'Sheet3 (4)'!C2","v":"2018-06-15"},null,{"$f":"'Sheet3 (4)'!C3","v":"2018-06-14"},null,{"$f":"'Sheet3 (4)'!C4","v":"2018-06-13"},null,{"$f":"'Sheet3 (4)'!C5","v":"2018-06-12"},null,{"$f":"'Sheet3 (4)'!C6","v":"2018-06-11"},null,{"$f":"'Sheet3 (4)'!C7","v":"2018-06-08"},null,{"$f":"'Sheet3 (4)'!C8","v":"2018-06-07"},null,{"$f":"'Sheet3 (4)'!C9","v":"2018-06-06"},null,{"$f":"'Sheet3 (4)'!C10","v":"2018-06-05"}]
[null,null,null,{"$f":"LOOKUP(2,1/(ISNUMBER(D1:D81)),D1:D81)","v":0.15099318642273074},null,{"$f":"LOOKUP(2,1/(ISNUMBER(F1:F81)),F1:F81)","v":-0.64159140434432493},null,{"$f":"LOOKUP(2,1/(ISNUMBER(H1:H81)),H1:H81)","v":0.96484372602487822},null,{"$f":"LOOKUP(2,1/(ISNUMBER(J1:J81)),J1:J81)","v":0.34008793796897813},null,{"$f":"LOOKUP(2,1/(ISNUMBER(L1:L81)),L1:L81)","v":0.88366095695915636},null,{"$f":"LOOKUP(2,1/(ISNUMBER(N1:N81)),N1:N81)","v":0.77188246871265187},null,{"$f":"LOOKUP(2,1/(ISNUMBER(P1:P81)),P1:P81)","v":0.70487436632084632},null,{"$f":"LOOKUP(2,1/(ISNUMBER(R1:R81)),R1:R81)","v":-0.78350134397516003},null,{"$f":"LOOKUP(2,1/(ISNUMBER(T1:T81)),T1:T81)","v":0.99782559333119702}]
[]
[null,null,{"$f":"RANK(D85,$D$85:$D$93,0)+COUNTIF($D$85:D85,D85)-1","v":7},{"$f":"D83","v":0.15099318642273074},{"$f":"D82","v":"2018-06-15"},{"$f":"RANK(D85,$D$85:$D$93,0)+COUNTIF($D$85:D85,D85)-1","v":7},{"$f":"VLOOKUP(1,C85:E93,3,FALSE)","v":"2018-06-05"},{"$f":"VLOOKUP(1,C85:E93,2,FALSE)","v":0.99782559333119702},{"$f":"IFERROR(VLOOKUP(G85,'Sheet3 (4)'!AK1:AN10,4,FALSE),1)","v":9}]
[null,null,{"$f":"RANK(D86,$D$85:$D$93,0)+COUNTIF($D$85:D86,D86)-1","v":8},{"$f":"F83","v":-0.64159140434432493},{"$f":"F82","v":"2018-06-14"},{"$f":"RANK(D86,$D$85:$D$93,0)+COUNTIF($D$85:D86,D86)-1","v":8},{"$f":"VLOOKUP(2,C85:E93,3,FALSE)","v":"2018-06-13"},{"$f":"VLOOKUP(2,C85:E93,2,FALSE)","v":0.96484372602487822}]
[null,null,{"$f":"RANK(D87,$D$85:$D$93,0)+COUNTIF($D$85:D87,D87)-1","v":2},{"$f":"H83","v":0.96484372602487822},{"$f":"H82","v":"2018-06-13"},{"$f":"RANK(D87,$D$85:$D$93,0)+COUNTIF($D$85:D87,D87)-1","v":2},{"$f":"VLOOKUP(3,C85:E93,3,FALSE)","v":"2018-06-11"},{"$f":"VLOOKUP(3,C85:E93,2,FALSE)","v":0.88366095695915636}]
[null,null,{"$f":"RANK(D88,$D$85:$D$93,0)+COUNTIF($D$85:D88,D88)-1","v":6},{"$f":"J83","v":0.34008793796897813},{"$f":"J82","v":"2018-06-12"},{"$f":"RANK(D88,$D$85:$D$93,0)+COUNTIF($D$85:D88,D88)-1","v":6},{"$f":"VLOOKUP(4,C85:E93,3,FALSE)","v":"2018-06-08"},{"$f":"VLOOKUP(4,C85:E93,2,FALSE)","v":0.77188246871265187}]
[null,null,{"$f":"RANK(D89,$D$85:$D$93,0)+COUNTIF($D$85:D89,D89)-1","v":3},{"$f":"L83","v":0.88366095695915636},{"$f":"L82","v":"2018-06-11"},{"$f":"RANK(D89,$D$85:$D$93,0)+COUNTIF($D$85:D89,D89)-1","v":3},{"$f":"VLOOKUP(5,C85:E93,3,FALSE)","v":"2018-06-07"},{"$f":"VLOOKUP(5,C85:E93,2,FALSE)","v":0.70487436632084632}]
[null,null,{"$f":"RANK(D90,$D$85:$D$93,0)+COUNTIF($D$85:D90,D90)-1","v":4},{"$f":"N83","v":0.77188246871265187},{"$f":"N82","v":"2018-06-08"},{"$f":"RANK(D90,$D$85:$D$93,0)+COUNTIF($D$85:D90,D90)-1","v":4},{"$f":"VLOOKUP(6,C85:E93,3,FALSE)","v":"2018-06-12"},{"$f":"VLOOKUP(6,C85:E93,2,FALSE)","v":0.34008793796897813}]
[null,null,{"$f":"RANK(D91,$D$85:$D$93,0)+COUNTIF($D$85:D91,D91)-1","v":5},{"$f":"P83","v":0.70487436632084632},{"$f":"P82","v":"2018-06-07"},{"$f":"RANK(D91,$D$85:$D$93,0)+COUNTIF($D$85:D91,D91)-1","v":5},{"$f":"VLOOKUP(7,C85:E93,3,FALSE)","v":"2018-06-15"},{"$f":"VLOOKUP(7,C85:E93,2,FALSE)","v":0.15099318642273074}]
[null,null,{"$f":"RANK(D92,$D$85:$D$93,0)+COUNTIF($D$85:D92,D92)-1","v":9},{"$f":"R83","v":-0.78350134397516003},{"$f":"R82","v":"2018-06-06"},{"$f":"RANK(D92,$D$85:$D$93,0)+COUNTIF($D$85:D92,D92)-1","v":9},{"$f":"VLOOKUP(8,C85:E93,3,FALSE)","v":"2018-06-14"},{"$f":"VLOOKUP(8,C85:E93,2,FALSE)","v":-0.64159140434432493}]
[null,null,{"$f":"RANK(D93,$D$85:$D$93,0)+COUNTIF($D$85:D93,D93)-1","v":1},{"$f":"T83","v":0.99782559333119702},{"$f":"T82","v":"2018-06-05"},{"$f":"RANK(D93,$D$85:$D$93,0)+COUNTIF($D$85:D93,D93)-1","v":1},{"$f":"VLOOKUP(9,C85:E93,3,FALSE)","v":"2018-06-06"},{"$f":"VLOOKUP(9,C85:E93,2,FALSE)","v":-0.78350134397516003}]