{"text_format":"1","workbook":"xlsx","n_sheets":4,"sheets":["Main","Symbols","NASDAQ","NYSE"],"not_rendered":{"charts":2,"images":1,"macros":1,"external_links":0,"defined_names":0,"comments":0,"pivot_tables":0},"unopened":[],"bounds":{"document_bytes":16777216,"sheet_cells":100000,"rows_first":2000,"rows_last":500,"rows_between":2000,"halvings":0,"cell_chars":16384,"cell_head_chars":4096},"cells_cut":0,"cells_raw":0,"read":"whole","date_system":"1900"}

{"sheet":"Main","index":0,"n_rows":48,"n_cols":28,"rows_kept":48,"cut":false,"hidden":false,"merged":[[46,1,47,1],[46,2,47,3],[46,4,47,6],[46,7,47,18],[47,19,47,26],[13,17,13,19],[36,11,36,13],[34,14,34,16],[34,11,34,13],[45,14,45,16],[45,11,45,13],[43,14,43,16],[43,11,43,13],[42,14,42,16],[42,11,42,13],[40,14,40,16],[40,11,40,13],[35,11,35,13],[35,14,35,16],[38,11,38,13],[39,14,39,16],[39,11,39,13],[37,14,37,16],[37,11,37,13],[38,14,38,16],[41,11,41,13],[41,14,41,16],[44,11,44,13],[44,14,44,16],[21,17,21,19],[20,17,20,19],[19,17,19,19],[18,17,18,19],[33,14,33,16],[33,11,33,13],[31,14,31,16],[31,11,31,13],[44,17,44,19],[29,11,29,13],[29,14,29,16],[32,11,32,13],[36,14,36,16],[32,14,32,16],[17,17,17,19],[15,17,15,19],[14,17,14,19],[26,17,26,19],[16,17,16,19],[13,1,13,3],[12,1,12,3],[21,1,21,3],[20,1,20,3],[19,1,19,3],[18,1,18,3],[17,1,17,3],[16,1,16,3],[22,11,22,16],[26,14,26,16],[14,11,14,16],[15,1,15,3],[14,1,14,3],[11,1,11,3],[11,17,11,19],[23,11,23,13],[24,11,24,13],[30,11,30,13],[28,11,28,13],[27,11,27,13],[25,11,25,13],[30,14,30,16],[28,14,28,16],[27,14,27,16],[25,14,25,16],[24,14,24,16],[23,14,23,16],[24,17,24,26],[25,17,25,19],[24,1,24,10],[12,17,12,19],[22,24,23,24],[22,25,23,25],[22,26,23,26],[27,17,27,19],[28,17,28,19],[26,11,26,13],[45,17,45,19],[22,1,23,3],[22,8,23,8],[22,9,23,9],[22,10,23,10],[22,17,23,19],[39,17,39,19],[40,17,40,19],[41,17,41,19],[42,17,42,19],[43,17,43,19],[34,17,34,19],[35,17,35,26],[36,17,36,19],[37,17,37,19],[38,17,38,19],[29,17,29,19],[30,17,30,19],[31,17,31,19],[34,1,34,3],[33,17,33,19],[25,1,25,3],[32,17,32,19],[36,1,36,3],[1,24,2,26],[1,4,2,23],[5,1,5,3],[3,1,4,3],[3,8,4,8],[3,9,4,9],[3,10,4,10],[8,1,8,3],[8,17,8,19],[3,26,4,26],[5,11,5,16],[9,17,9,19],[9,1,9,3],[10,1,10,3],[3,24,4,24],[3,25,4,25],[5,17,5,19],[6,1,6,3],[7,1,7,3],[6,17,6,19],[7,17,7,19],[3,17,4,19],[3,11,4,16],[46,19,46,26],[3,22,3,23],[4,22,4,23],[44,1,44,3],[45,1,45,3],[39,1,39,3],[40,1,40,3],[41,1,41,3],[42,1,42,3],[43,1,43,3],[10,17,10,19],[3,6,3,7],[4,6,4,7],[37,1,37,3],[38,1,38,3],[35,1,35,10],[26,1,26,3],[27,1,27,3],[28,1,28,3],[29,1,29,3],[30,1,30,3],[31,1,31,3],[32,1,32,3],[33,1,33,3]]}
[]
[null,null,null,null,"CQG NYSE and Nasdaq Performance Dashboard",null,null,null,null,null,null,null,null,null,null,null,null,null,null,null,null,null,null,null,{"$f":"RTD(\"cqg.rtd\", ,\"SystemInfo\", \"Linetime\")","v":42704.389224537037}]
[]
[null,"Description",null,null,null,"Net","% Net",null,"Open","High","Low","5-minute Charts",null,null,null,null,null,"Description",null,null,"Last","Net","% Net",null,"Open","High","Low"]
[null,null,null,null,null,"Change","Change",null,null,null,null,null,null,null,null,null,null,null,null,null,"Price","Change","Change"]
[{"$f":"Symbols!C5","v":"X.US.SPC"},{"$f":"RTD(\"cqg.rtd\",,\"ContractData\",A6,\"LongDescription\",,\"T\")&\"  (\"&RIGHT(A6,LEN(A6)-5)&\")\"","v":"S&P 500  (SPC)"},null,null,{"$f":"IFERROR(RTD(\"cqg.rtd\", ,\"ContractData\",A6, \"LastTrade\",, \"T\"),\"\")","v":2207.38},{"$f":"IFERROR(RTD(\"cqg.rtd\", ,\"ContractData\",A6, \"NetChange\",, \"T\"),\"\")","v":3.24},{"$f":"IFERROR(RTD(\"cqg.rtd\", ,\"ContractData\",A6, \"PerCentNetLastTrade\",, \"T\")/100,\"\")","v":1.2337503288488928E-3},{"$f":"G6","v":1.2337503288488928E-3},{"$f":"IFERROR(RTD(\"cqg.rtd\", ,\"ContractData\",A6, \"Open\",, \"T\"),\"\")","v":2204.9700000000003},{"$f":"IFERROR(RTD(\"cqg.rtd\", ,\"ContractData\",A6, \"High\",, \"T\"),\"\")","v":2214.1},{"$f":"IFERROR(RTD(\"cqg.rtd\", ,\"ContractData\",A6, \"Low\",, \"T\"),\"\")","v":2204.9500000000003},{"$f":"B6","v":"S&P 500  (SPC)"},null,null,null,null,null,{"$f":"IFERROR(RTD(\"cqg.rtd\", ,\"ContractData\",AB6, \"LongDescription\",, \"T\"),\"\")&\"  (\"&RIGHT(AB6,LEN(AB6)-5)&\")\"","v":"NASDAQ Composite Index  (NQCOMP)"},null,null,{"$f":"IFERROR(RTD(\"cqg.rtd\", ,\"ContractData\",AB6, \"LastTrade\",, \"T\"),\"\")","v":5367.22},{"$f":"IFERROR(RTD(\"cqg.rtd\", ,\"ContractData\",AB6, \"NetChange\",, \"T\"),\"\")","v":-12.700000000000001},{"$f":"IFERROR(RTD(\"cqg.rtd\", ,\"ContractData\",AB6, \"PerCentNetLastTrade\",, \"T\")/100,\"\")","v":-2.3606298978423468E-3},{"$f":"W6","v":-2.3606298978423468E-3},{"$f":"IFERROR(RTD(\"cqg.rtd\", ,\"ContractData\",AB6, \"Open\",, \"T\"),\"\")","v":5391.35},{"$f":"IFERROR(RTD(\"cqg.rtd\", ,\"ContractData\",AB6, \"High\",, \"T\"),\"\")","v":5393.1500000000005},{"$f":"IFERROR(RTD(\"cqg.rtd\", ,\"ContractData\",AB6, \"Low\",, \"T\"),\"\")","v":5366.97},{"$f":"Symbols!H5","v":"X.US.NQCOMP"}]
[{"$f":"Symbols!C6","v":"X.US.DJI"},{"$f":"RTD(\"cqg.rtd\",,\"ContractData\",A7,\"LongDescription\",,\"T\")&\"  (\"&RIGHT(A7,LEN(A7)-5)&\")\"","v":"DJ Industrial Average  (DJI)"},null,null,{"$f":"IFERROR(RTD(\"cqg.rtd\", ,\"ContractData\",A7, \"LastTrade\",, \"T\"),\"\")","v":19180.600000000002},{"$f":"IFERROR(RTD(\"cqg.rtd\", ,\"ContractData\",A7, \"NetChange\",, \"T\"),\"\")","v":61.900000000000006},{"$f":"IFERROR(RTD(\"cqg.rtd\", ,\"ContractData\",A7, \"PerCentNetLastTrade\",, \"T\")/100,\"\")","v":3.0855158564136891E-3},3.0855158564136891E-3,{"$f":"IFERROR(RTD(\"cqg.rtd\", ,\"ContractData\",A7, \"Open\",, \"T\"),\"\")","v":19135.600000000002},{"$f":"IFERROR(RTD(\"cqg.rtd\", ,\"ContractData\",A7, \"High\",, \"T\"),\"\")","v":19225.2},{"$f":"IFERROR(RTD(\"cqg.rtd\", ,\"ContractData\",A7, \"Low\",, \"T\"),\"\")","v":19135.5},null,null,null,null,null,null,{"$f":"IFERROR(RTD(\"cqg.rtd\", ,\"ContractData\",AB7, \"LongDescription\",, \"T\"),\"\")&\"  (\"&RIGHT(AB7,LEN(AB7)-5)&\")\"","v":"NASDAQ-100 Index  (NDX)"},null,null,{"$f":"IFERROR(RTD(\"cqg.rtd\", ,\"ContractData\",AB7, \"LastTrade\",, \"T\"),\"\")","v":4850.9400000000005},{"$f":"IFERROR(RTD(\"cqg.rtd\", ,\"ContractData\",AB7, \"NetChange\",, \"T\"),\"\")","v":-22.27},{"$f":"IFERROR(RTD(\"cqg.rtd\", ,\"ContractData\",AB7, \"PerCentNetLastTrade\",, \"T\")/100,\"\")","v":-4.569883095536618E-3},-4.569883095536618E-3,{"$f":"IFERROR(RTD(\"cqg.rtd\", ,\"ContractData\",AB7, \"Open\",, \"T\"),\"\")","v":4876.3},{"$f":"IFERROR(RTD(\"cqg.rtd\", ,\"ContractData\",AB7, \"High\",, \"T\"),\"\")","v":4880.76},{"$f":"IFERROR(RTD(\"cqg.rtd\", ,\"ContractData\",AB7, \"Low\",, \"T\"),\"\")","v":4850.6099999999997},{"$f":"Symbols!H6","v":"X.US.NDX"}]
[{"$f":"Symbols!C7","v":"X.US.NYK"},{"$f":"RTD(\"cqg.rtd\",,\"ContractData\",A8,\"LongDescription\",,\"T\")&\"  (\"&RIGHT(A8,LEN(A8)-5)&\")\"","v":"NYSE Financial Index  (NYK)"},null,null,{"$f":"IFERROR(RTD(\"cqg.rtd\", ,\"ContractData\",A8, \"LastTrade\",, \"T\"),\"\")","v":6733.38},{"$f":"IFERROR(RTD(\"cqg.rtd\", ,\"ContractData\",A8, \"NetChange\",, \"T\"),\"\")","v":29.900000000000002},{"$f":"IFERROR(RTD(\"cqg.rtd\", ,\"ContractData\",A8, \"PerCentNetLastTrade\",, \"T\")/100,\"\")","v":4.460369837755912E-3},4.460369837755912E-3,{"$f":"IFERROR(RTD(\"cqg.rtd\", ,\"ContractData\",A8, \"Open\",, \"T\"),\"\")","v":6740.76},{"$f":"IFERROR(RTD(\"cqg.rtd\", ,\"ContractData\",A8, \"High\",, \"T\"),\"\")","v":6753.6100000000006},{"$f":"IFERROR(RTD(\"cqg.rtd\", ,\"ContractData\",A8, \"Low\",, \"T\"),\"\")","v":6732.17},null,null,null,null,null,null,{"$f":"IFERROR(RTD(\"cqg.rtd\", ,\"ContractData\",AB8, \"LongDescription\",, \"T\"),\"\")&\"  (\"&RIGHT(AB8,LEN(AB8)-5)&\")\"","v":"NASDAQ Financial 100  (IXF)"},null,null,{"$f":"IFERROR(RTD(\"cqg.rtd\", ,\"ContractData\",AB8, \"LastTrade\",, \"T\"),\"\")","v":3854.4},{"$f":"IFERROR(RTD(\"cqg.rtd\", ,\"ContractData\",AB8, \"NetChange\",, \"T\"),\"\")","v":28.48},{"$f":"IFERROR(RTD(\"cqg.rtd\", ,\"ContractData\",AB8, \"PerCentNetLastTrade\",, \"T\")/100,\"\")","v":7.443961191033791E-3},7.443961191033791E-3,{"$f":"IFERROR(RTD(\"cqg.rtd\", ,\"ContractData\",AB8, \"Open\",, \"T\"),\"\")","v":3854.9},{"$f":"IFERROR(RTD(\"cqg.rtd\", ,\"ContractData\",AB8, \"High\",, \"T\"),\"\")","v":3864.12},{"$f":"IFERROR(RTD(\"cqg.rtd\", ,\"ContractData\",AB8, \"Low\",, \"T\"),\"\")","v":3849.4900000000002},{"$f":"Symbols!H7","v":"X.US.IXF"}]
[{"$f":"Symbols!C8","v":"X.US.BTK"},{"$f":"RTD(\"cqg.rtd\",,\"ContractData\",A9,\"LongDescription\",,\"T\")&\"  (\"&RIGHT(A9,LEN(A9)-5)&\")\"","v":"Biotechnology Index  (BTK)"},null,null,{"$f":"IFERROR(RTD(\"cqg.rtd\", ,\"ContractData\",A9, \"LastTrade\",, \"T\"),\"\")","v":3262.58},{"$f":"IFERROR(RTD(\"cqg.rtd\", ,\"ContractData\",A9, \"NetChange\",, \"T\"),\"\")","v":-26.73},{"$f":"IFERROR(RTD(\"cqg.rtd\", ,\"ContractData\",A9, \"PerCentNetLastTrade\",, \"T\")/100,\"\")","v":-8.1263243659004461E-3},-8.1263243659004461E-3,{"$f":"IFERROR(RTD(\"cqg.rtd\", ,\"ContractData\",A9, \"Open\",, \"T\"),\"\")","v":3300.11},{"$f":"IFERROR(RTD(\"cqg.rtd\", ,\"ContractData\",A9, \"High\",, \"T\"),\"\")","v":3305.34},{"$f":"IFERROR(RTD(\"cqg.rtd\", ,\"ContractData\",A9, \"Low\",, \"T\"),\"\")","v":3259.38},null,null,null,null,null,null,{"$f":"IFERROR(RTD(\"cqg.rtd\", ,\"ContractData\",AB9, \"LongDescription\",, \"T\"),\"\")&\"  (\"&RIGHT(AB9,LEN(AB9)-5)&\")\"","v":"NASDAQ Biotechnology  (NBI)"},null,null,{"$f":"IFERROR(RTD(\"cqg.rtd\", ,\"ContractData\",AB9, \"LastTrade\",, \"T\"),\"\")","v":2910.87},{"$f":"IFERROR(RTD(\"cqg.rtd\", ,\"ContractData\",AB9, \"NetChange\",, \"T\"),\"\")","v":-21.71},{"$f":"IFERROR(RTD(\"cqg.rtd\", ,\"ContractData\",AB9, \"PerCentNetLastTrade\",, \"T\")/100,\"\")","v":-7.4030375982922893E-3},-7.4030375982922893E-3,{"$f":"IFERROR(RTD(\"cqg.rtd\", ,\"ContractData\",AB9, \"Open\",, \"T\"),\"\")","v":2939.2400000000002},{"$f":"IFERROR(RTD(\"cqg.rtd\", ,\"ContractData\",AB9, \"High\",, \"T\"),\"\")","v":2939.59},{"$f":"IFERROR(RTD(\"cqg.rtd\", ,\"ContractData\",AB9, \"Low\",, \"T\"),\"\")","v":2908.66},{"$f":"Symbols!H8","v":"X.US.NBI"}]
[{"$f":"Symbols!C9","v":"X.US.NYPID"},{"$f":"RTD(\"cqg.rtd\",,\"ContractData\",A10,\"LongDescription\",,\"T\")&\"  (\"&RIGHT(A10,LEN(A10)-5)&\")\"","v":"NYSE Healthcare Index  (NYPID)"},null,null,{"$f":"IFERROR(RTD(\"cqg.rtd\", ,\"ContractData\",A10, \"LastTrade\",, \"T\"),\"\")","v":11691.84},{"$f":"IFERROR(RTD(\"cqg.rtd\", ,\"ContractData\",A10, \"NetChange\",, \"T\"),\"\")","v":-53.61},{"$f":"IFERROR(RTD(\"cqg.rtd\", ,\"ContractData\",A10, \"PerCentNetLastTrade\",, \"T\")/100,\"\")","v":-4.5643206518268774E-3},-4.5643206518268774E-3,{"$f":"IFERROR(RTD(\"cqg.rtd\", ,\"ContractData\",A10, \"Open\",, \"T\"),\"\")","v":11768.9},{"$f":"IFERROR(RTD(\"cqg.rtd\", ,\"ContractData\",A10, \"High\",, \"T\"),\"\")","v":11768.9},{"$f":"IFERROR(RTD(\"cqg.rtd\", ,\"ContractData\",A10, \"Low\",, \"T\"),\"\")","v":11686.97},null,null,null,null,null,null,{"$f":"IFERROR(RTD(\"cqg.rtd\", ,\"ContractData\",AB10, \"LongDescription\",, \"T\"),\"\")&\"  (\"&RIGHT(AB10,LEN(AB10)-5)&\")\"","v":"Nasdaq Health Care Index  (NHC)"},null,null,{"$f":"IFERROR(RTD(\"cqg.rtd\", ,\"ContractData\",AB10, \"LastTrade\",, \"T\"),\"\")","v":649.33000000000004},{"$f":"IFERROR(RTD(\"cqg.rtd\", ,\"ContractData\",AB10, \"NetChange\",, \"T\"),\"\")","v":-4.47},{"$f":"IFERROR(RTD(\"cqg.rtd\", ,\"ContractData\",AB10, \"PerCentNetLastTrade\",, \"T\")/100,\"\")","v":-6.8369531966962372E-3},-6.8369531966962372E-3,{"$f":"IFERROR(RTD(\"cqg.rtd\", ,\"ContractData\",AB10, \"Open\",, \"T\"),\"\")","v":654.91},{"$f":"IFERROR(RTD(\"cqg.rtd\", ,\"ContractData\",AB10, \"High\",, \"T\"),\"\")","v":654.93000000000006},{"$f":"IFERROR(RTD(\"cqg.rtd\", ,\"ContractData\",AB10, \"Low\",, \"T\"),\"\")","v":648.93000000000006},{"$f":"Symbols!H9","v":"X.US.NHC"}]
[{"$f":"Symbols!C10","v":"X.US.IXE"},{"$f":"RTD(\"cqg.rtd\",,\"ContractData\",A11,\"LongDescription\",,\"T\")&\"  (\"&RIGHT(A11,LEN(A11)-5)&\")\"","v":"S&P 500 Select Sector Energy Index  (IXE)"},null,null,{"$f":"IFERROR(RTD(\"cqg.rtd\", ,\"ContractData\",A11, \"LastTrade\",, \"T\"),\"\")","v":737.43000000000006},{"$f":"IFERROR(RTD(\"cqg.rtd\", ,\"ContractData\",A11, \"NetChange\",, \"T\"),\"\")","v":29.44},{"$f":"IFERROR(RTD(\"cqg.rtd\", ,\"ContractData\",A11, \"PerCentNetLastTrade\",, \"T\")/100,\"\")","v":4.1582508227517342E-2},4.1582508227517342E-2,{"$f":"IFERROR(RTD(\"cqg.rtd\", ,\"ContractData\",A11, \"Open\",, \"T\"),\"\")","v":709.72},{"$f":"IFERROR(RTD(\"cqg.rtd\", ,\"ContractData\",A11, \"High\",, \"T\"),\"\")","v":740.29},{"$f":"IFERROR(RTD(\"cqg.rtd\", ,\"ContractData\",A11, \"Low\",, \"T\"),\"\")","v":709.72},null,null,null,null,null,null,{"$f":"IFERROR(RTD(\"cqg.rtd\", ,\"ContractData\",AB11, \"LongDescription\",, \"T\"),\"\")&\"  (\"&RIGHT(AB11,LEN(AB11)-5)&\")\"","v":"PHLX Oil Service Sector  (OSX)"},null,null,{"$f":"IFERROR(RTD(\"cqg.rtd\", ,\"ContractData\",AB11, \"LastTrade\",, \"T\"),\"\")","v":172.41},{"$f":"IFERROR(RTD(\"cqg.rtd\", ,\"ContractData\",AB11, \"NetChange\",, \"T\"),\"\")","v":11.25},{"$f":"IFERROR(RTD(\"cqg.rtd\", ,\"ContractData\",AB11, \"PerCentNetLastTrade\",, \"T\")/100,\"\")","v":6.9806403574087864E-2},6.9806403574087864E-2,{"$f":"IFERROR(RTD(\"cqg.rtd\", ,\"ContractData\",AB11, \"Open\",, \"T\"),\"\")","v":161.94},{"$f":"IFERROR(RTD(\"cqg.rtd\", ,\"ContractData\",AB11, \"High\",, \"T\"),\"\")","v":173.08},{"$f":"IFERROR(RTD(\"cqg.rtd\", ,\"ContractData\",AB11, \"Low\",, \"T\"),\"\")","v":161.92000000000002},{"$f":"Symbols!H10","v":"X.US.OSX"}]
[{"$f":"Symbols!C11","v":"S.US.BAC"},{"$f":"RTD(\"cqg.rtd\",,\"ContractData\",A12,\"LongDescription\",,\"T\")&\"  (\"&RIGHT(A12,LEN(A12)-5)&\")\"","v":"Bank of America Corp  (BAC)"},null,null,{"$f":"IFERROR(RTD(\"cqg.rtd\", ,\"ContractData\",A12, \"LastTrade\",, \"T\"),\"\")","v":20.76},{"$f":"IFERROR(RTD(\"cqg.rtd\", ,\"ContractData\",A12, \"NetChange\",, \"T\"),\"\")","v":0.47000000000000003},{"$f":"IFERROR(RTD(\"cqg.rtd\", ,\"ContractData\",A12, \"PerCentNetLastTrade\",, \"T\")/100,\"\")","v":2.3164120256283883E-2},{"$f":"G12","v":2.3164120256283883E-2},{"$f":"IFERROR(RTD(\"cqg.rtd\", ,\"ContractData\",A12, \"Open\",, \"T\"),\"\")","v":20.77},{"$f":"IFERROR(RTD(\"cqg.rtd\", ,\"ContractData\",A12, \"High\",, \"T\"),\"\")","v":20.84},{"$f":"IFERROR(RTD(\"cqg.rtd\", ,\"ContractData\",A12, \"Low\",, \"T\"),\"\")","v":20.72},null,null,null,null,null,null,{"$f":"IFERROR(RTD(\"cqg.rtd\", ,\"ContractData\",AB12, \"LongDescription\",, \"T\"),\"\")&\"  (\"&RIGHT(AB12,LEN(AB12)-5)&\")\"","v":"Sirius XM Holdings Inc.  (SIRI)"},null,null,{"$f":"IFERROR(RTD(\"cqg.rtd\", ,\"ContractData\",AB12, \"LastTrade\",, \"T\"),\"\")","v":4.6100000000000003},{"$f":"IFERROR(RTD(\"cqg.rtd\", ,\"ContractData\",AB12, \"NetChange\",, \"T\"),\"\")","v":0},{"$f":"IFERROR(RTD(\"cqg.rtd\", ,\"ContractData\",AB12, \"PerCentNetLastTrade\",, \"T\")/100,\"\")","v":0},0,{"$f":"IFERROR(RTD(\"cqg.rtd\", ,\"ContractData\",AB12, \"Open\",, \"T\"),\"\")","v":4.62},{"$f":"IFERROR(RTD(\"cqg.rtd\", ,\"ContractData\",AB12, \"High\",, \"T\"),\"\")","v":4.6500000000000004},{"$f":"IFERROR(RTD(\"cqg.rtd\", ,\"ContractData\",AB12, \"Low\",, \"T\"),\"\")","v":4.6000000000000005},{"$f":"Symbols!H11","v":"S.US.SIRI"}]
[{"$f":"Symbols!C12","v":"S.US.GE"},{"$f":"RTD(\"cqg.rtd\",,\"ContractData\",A13,\"LongDescription\",,\"T\")&\"  (\"&RIGHT(A13,LEN(A13)-5)&\")\"","v":"General Electric Co  (GE)"},null,null,{"$f":"IFERROR(RTD(\"cqg.rtd\", ,\"ContractData\",A13, \"LastTrade\",, \"T\"),\"\")","v":31.05},{"$f":"IFERROR(RTD(\"cqg.rtd\", ,\"ContractData\",A13, \"NetChange\",, \"T\"),\"\")","v":0},{"$f":"IFERROR(RTD(\"cqg.rtd\", ,\"ContractData\",A13, \"PerCentNetLastTrade\",, \"T\")/100,\"\")","v":0},{"$f":"G13","v":0},{"$f":"IFERROR(RTD(\"cqg.rtd\", ,\"ContractData\",A13, \"Open\",, \"T\"),\"\")","v":31.18},{"$f":"IFERROR(RTD(\"cqg.rtd\", ,\"ContractData\",A13, \"High\",, \"T\"),\"\")","v":31.27},{"$f":"IFERROR(RTD(\"cqg.rtd\", ,\"ContractData\",A13, \"Low\",, \"T\"),\"\")","v":31.05},null,null,null,null,null,null,{"$f":"IFERROR(RTD(\"cqg.rtd\", ,\"ContractData\",AB13, \"LongDescription\",, \"T\"),\"\")&\"  (\"&RIGHT(AB13,LEN(AB13)-5)&\")\"","v":"Apple Inc  (AAPL)"},null,null,{"$f":"IFERROR(RTD(\"cqg.rtd\", ,\"ContractData\",AB13, \"LastTrade\",, \"T\"),\"\")","v":111.05},{"$f":"IFERROR(RTD(\"cqg.rtd\", ,\"ContractData\",AB13, \"NetChange\",, \"T\"),\"\")","v":-0.41000000000000003},{"$f":"IFERROR(RTD(\"cqg.rtd\", ,\"ContractData\",AB13, \"PerCentNetLastTrade\",, \"T\")/100,\"\")","v":-3.6784496680423474E-3},{"$f":"W13","v":-3.6784496680423474E-3},{"$f":"IFERROR(RTD(\"cqg.rtd\", ,\"ContractData\",AB13, \"Open\",, \"T\"),\"\")","v":111.60000000000001},{"$f":"IFERROR(RTD(\"cqg.rtd\", ,\"ContractData\",AB13, \"High\",, \"T\"),\"\")","v":112.2},{"$f":"IFERROR(RTD(\"cqg.rtd\", ,\"ContractData\",AB13, \"Low\",, \"T\"),\"\")","v":111.05},{"$f":"Symbols!H12","v":"S.US.AAPL"}]
[{"$f":"Symbols!C13","v":"S.US.SPY"},{"$f":"RTD(\"cqg.rtd\",,\"ContractData\",A14,\"LongDescription\",,\"T\")&\"  (\"&RIGHT(A14,LEN(A14)-5)&\")\"","v":"SPDR S&P 500  (SPY)"},null,null,{"$f":"IFERROR(RTD(\"cqg.rtd\", ,\"ContractData\",A14, \"LastTrade\",, \"T\"),\"\")","v":221.16},{"$f":"IFERROR(RTD(\"cqg.rtd\", ,\"ContractData\",A14, \"NetChange\",, \"T\"),\"\")","v":0.25},{"$f":"IFERROR(RTD(\"cqg.rtd\", ,\"ContractData\",A14, \"PerCentNetLastTrade\",, \"T\")/100,\"\")","v":1.1316825856683716E-3},1.1316825856683716E-3,{"$f":"IFERROR(RTD(\"cqg.rtd\", ,\"ContractData\",A14, \"Open\",, \"T\"),\"\")","v":221.63},{"$f":"IFERROR(RTD(\"cqg.rtd\", ,\"ContractData\",A14, \"High\",, \"T\"),\"\")","v":221.82},{"$f":"IFERROR(RTD(\"cqg.rtd\", ,\"ContractData\",A14, \"Low\",, \"T\"),\"\")","v":221.12},null,null,null,null,null,null,{"$f":"IFERROR(RTD(\"cqg.rtd\", ,\"ContractData\",AB14, \"LongDescription\",, \"T\"),\"\")&\"  (\"&RIGHT(AB14,LEN(AB14)-5)&\")\"","v":"Tesla Motors, Inc.  (TSLA)"},null,null,{"$f":"IFERROR(RTD(\"cqg.rtd\", ,\"ContractData\",AB14, \"LastTrade\",, \"T\"),\"\")","v":188.91},{"$f":"IFERROR(RTD(\"cqg.rtd\", ,\"ContractData\",AB14, \"NetChange\",, \"T\"),\"\")","v":-0.63},{"$f":"IFERROR(RTD(\"cqg.rtd\", ,\"ContractData\",AB14, \"PerCentNetLastTrade\",, \"T\")/100,\"\")","v":-3.4815635385345785E-3},-3.4815635385345785E-3,{"$f":"IFERROR(RTD(\"cqg.rtd\", ,\"ContractData\",AB14, \"Open\",, \"T\"),\"\")","v":191},{"$f":"IFERROR(RTD(\"cqg.rtd\", ,\"ContractData\",AB14, \"High\",, \"T\"),\"\")","v":191.89000000000001},{"$f":"IFERROR(RTD(\"cqg.rtd\", ,\"ContractData\",AB14, \"Low\",, \"T\"),\"\")","v":188.69},{"$f":"Symbols!H13","v":"S.US.TSLA"}]
[{"$f":"Symbols!C14","v":"F.US.EP"},{"$f":"RTD(\"cqg.rtd\",,\"ContractData\",A15,\"LongDescription\",,\"T\")&\"  (\"&RIGHT(A15,LEN(A15)-5)&\")\"","v":"E-Mini S&P 500, Dec 16  (EP)"},null,null,{"$f":"IFERROR(RTD(\"cqg.rtd\", ,\"ContractData\",A15, \"LastTrade\",, \"T\"),\"\")","v":2206.5},{"$f":"IFERROR(RTD(\"cqg.rtd\", ,\"ContractData\",A15, \"NetChange\",, \"T\"),\"\")","v":2.75},{"$f":"IFERROR(RTD(\"cqg.rtd\", ,\"ContractData\",A15, \"PerCentNetLastTrade\",, \"T\")/100,\"\")","v":1.2478729438457176E-3},1.2478729438457176E-3,{"$f":"IFERROR(RTD(\"cqg.rtd\", ,\"ContractData\",A15, \"Open\",, \"T\"),\"\")","v":2203.25},{"$f":"IFERROR(RTD(\"cqg.rtd\", ,\"ContractData\",A15, \"High\",, \"T\"),\"\")","v":2213.75},{"$f":"IFERROR(RTD(\"cqg.rtd\", ,\"ContractData\",A15, \"Low\",, \"T\"),\"\")","v":2200.75},{"$f":"R6","v":"NASDAQ Composite Index  (NQCOMP)"},null,null,null,null,null,{"$f":"IFERROR(RTD(\"cqg.rtd\", ,\"ContractData\",AB15, \"LongDescription\",, \"T\"),\"\")&\"  (\"&RIGHT(AB15,LEN(AB15)-5)&\")\"","v":"Micron Technology Inc  (MU)"},null,null,{"$f":"IFERROR(RTD(\"cqg.rtd\", ,\"ContractData\",AB15, \"LastTrade\",, \"T\"),\"\")","v":19.46},{"$f":"IFERROR(RTD(\"cqg.rtd\", ,\"ContractData\",AB15, \"NetChange\",, \"T\"),\"\")","v":0.04},{"$f":"IFERROR(RTD(\"cqg.rtd\", ,\"ContractData\",AB15, \"PerCentNetLastTrade\",, \"T\")/100,\"\")","v":2.0597322348094747E-3},2.0597322348094747E-3,{"$f":"IFERROR(RTD(\"cqg.rtd\", ,\"ContractData\",AB15, \"Open\",, \"T\"),\"\")","v":19.580000000000002},{"$f":"IFERROR(RTD(\"cqg.rtd\", ,\"ContractData\",AB15, \"High\",, \"T\"),\"\")","v":19.7},{"$f":"IFERROR(RTD(\"cqg.rtd\", ,\"ContractData\",AB15, \"Low\",, \"T\"),\"\")","v":19.39},{"$f":"Symbols!H14","v":"S.US.MU"}]
[{"$f":"Symbols!C15","v":"F.US.CLE"},{"$f":"RTD(\"cqg.rtd\",,\"ContractData\",A16,\"LongDescription\",,\"T\")&\"  (\"&RIGHT(A16,LEN(A16)-5)&\")\"","v":"Crude Light (Globex), Jan 17  (CLE)"},null,null,{"$f":"IFERROR(RTD(\"cqg.rtd\", ,\"ContractData\",A16, \"LastTrade\",, \"T\"),\"\")","v":48.53},{"$f":"IFERROR(RTD(\"cqg.rtd\", ,\"ContractData\",A16, \"NetChange\",, \"T\"),\"\")","v":3.3000000000000003},{"$f":"IFERROR(RTD(\"cqg.rtd\", ,\"ContractData\",A16, \"PerCentNetLastTrade\",, \"T\")/100,\"\")","v":7.2960424497015258E-2},7.2960424497015258E-2,{"$f":"IFERROR(RTD(\"cqg.rtd\", ,\"ContractData\",A16, \"Open\",, \"T\"),\"\")","v":45.24},{"$f":"IFERROR(RTD(\"cqg.rtd\", ,\"ContractData\",A16, \"High\",, \"T\"),\"\")","v":49.120000000000005},{"$f":"IFERROR(RTD(\"cqg.rtd\", ,\"ContractData\",A16, \"Low\",, \"T\"),\"\")","v":45.22},null,null,null,null,null,null,{"$f":"IFERROR(RTD(\"cqg.rtd\", ,\"ContractData\",AB16, \"LongDescription\",, \"T\"),\"\")&\"  (\"&RIGHT(AB16,LEN(AB16)-5)&\")\"","v":"Powershares QQQ Trust  (QQQ)"},null,null,{"$f":"IFERROR(RTD(\"cqg.rtd\", ,\"ContractData\",AB16, \"LastTrade\",, \"T\"),\"\")","v":118.41},{"$f":"IFERROR(RTD(\"cqg.rtd\", ,\"ContractData\",AB16, \"NetChange\",, \"T\"),\"\")","v":-0.53},{"$f":"IFERROR(RTD(\"cqg.rtd\", ,\"ContractData\",AB16, \"PerCentNetLastTrade\",, \"T\")/100,\"\")","v":-4.4560282495375823E-3},-4.4560282495375823E-3,{"$f":"IFERROR(RTD(\"cqg.rtd\", ,\"ContractData\",AB16, \"Open\",, \"T\"),\"\")","v":119.06},{"$f":"IFERROR(RTD(\"cqg.rtd\", ,\"ContractData\",AB16, \"High\",, \"T\"),\"\")","v":119.13},{"$f":"IFERROR(RTD(\"cqg.rtd\", ,\"ContractData\",AB16, \"Low\",, \"T\"),\"\")","v":118.39},{"$f":"Symbols!H15","v":"S.US.QQQ"}]
[{"$f":"Symbols!C16","v":"F.US.HOE"},{"$f":"RTD(\"cqg.rtd\",,\"ContractData\",A17,\"LongDescription\",,\"T\")&\"  (\"&RIGHT(A17,LEN(A17)-5)&\")\"","v":"NY Harbor ULSD, Jan 17  (HOE)"},null,null,{"$f":"IFERROR(RTD(\"cqg.rtd\", ,\"ContractData\",A17, \"LastTrade\",, \"T\"),\"\")","v":1.5663},{"$f":"IFERROR(RTD(\"cqg.rtd\", ,\"ContractData\",A17, \"NetChange\",, \"T\"),\"\")","v":8.8500000000000009E-2},{"$f":"IFERROR(RTD(\"cqg.rtd\", ,\"ContractData\",A17, \"PerCentNetLastTrade\",, \"T\")/100,\"\")","v":5.988631749898498E-2},5.988631749898498E-2,{"$f":"IFERROR(RTD(\"cqg.rtd\", ,\"ContractData\",A17, \"Open\",, \"T\"),\"\")","v":1.4798},{"$f":"IFERROR(RTD(\"cqg.rtd\", ,\"ContractData\",A17, \"High\",, \"T\"),\"\")","v":1.5770000000000002},{"$f":"IFERROR(RTD(\"cqg.rtd\", ,\"ContractData\",A17, \"Low\",, \"T\"),\"\")","v":1.4749000000000001},null,null,null,null,null,null,{"$f":"IFERROR(RTD(\"cqg.rtd\", ,\"ContractData\",AB17, \"LongDescription\",, \"T\"),\"\")&\"  (\"&RIGHT(AB17,LEN(AB17)-5)&\")\"","v":"Cisco Systems Inc  (CSCO)"},null,null,{"$f":"IFERROR(RTD(\"cqg.rtd\", ,\"ContractData\",AB17, \"LastTrade\",, \"T\"),\"\")","v":29.810000000000002},{"$f":"IFERROR(RTD(\"cqg.rtd\", ,\"ContractData\",AB17, \"NetChange\",, \"T\"),\"\")","v":-0.02},{"$f":"IFERROR(RTD(\"cqg.rtd\", ,\"ContractData\",AB17, \"PerCentNetLastTrade\",, \"T\")/100,\"\")","v":-6.7046597385182706E-4},-6.7046597385182706E-4,{"$f":"IFERROR(RTD(\"cqg.rtd\", ,\"ContractData\",AB17, \"Open\",, \"T\"),\"\")","v":29.76},{"$f":"IFERROR(RTD(\"cqg.rtd\", ,\"ContractData\",AB17, \"High\",, \"T\"),\"\")","v":29.94},{"$f":"IFERROR(RTD(\"cqg.rtd\", ,\"ContractData\",AB17, \"Low\",, \"T\"),\"\")","v":29.68},{"$f":"Symbols!H16","v":"S.US.CSCO"}]
[{"$f":"Symbols!C17","v":"F.US.RBE"},{"$f":"RTD(\"cqg.rtd\",,\"ContractData\",A18,\"LongDescription\",,\"T\")&\"  (\"&RIGHT(A18,LEN(A18)-5)&\")\"","v":"RBOB Gasoline (Globex), Jan 17  (RBE)"},null,null,{"$f":"IFERROR(RTD(\"cqg.rtd\", ,\"ContractData\",A18, \"LastTrade\",, \"T\"),\"\")","v":1.4608000000000001},{"$f":"IFERROR(RTD(\"cqg.rtd\", ,\"ContractData\",A18, \"NetChange\",, \"T\"),\"\")","v":8.3500000000000005E-2},{"$f":"IFERROR(RTD(\"cqg.rtd\", ,\"ContractData\",A18, \"PerCentNetLastTrade\",, \"T\")/100,\"\")","v":6.0702875399361027E-2},6.0702875399361027E-2,{"$f":"IFERROR(RTD(\"cqg.rtd\", ,\"ContractData\",A18, \"Open\",, \"T\"),\"\")","v":1.377},{"$f":"IFERROR(RTD(\"cqg.rtd\", ,\"ContractData\",A18, \"High\",, \"T\"),\"\")","v":1.4659},{"$f":"IFERROR(RTD(\"cqg.rtd\", ,\"ContractData\",A18, \"Low\",, \"T\"),\"\")","v":1.3736000000000002},null,null,null,null,null,null,{"$f":"IFERROR(RTD(\"cqg.rtd\", ,\"ContractData\",AB18, \"LongDescription\",, \"T\"),\"\")&\"  (\"&RIGHT(AB18,LEN(AB18)-5)&\")\"","v":"Facebook, Inc.  (FB)"},null,null,{"$f":"IFERROR(RTD(\"cqg.rtd\", ,\"ContractData\",AB18, \"LastTrade\",, \"T\"),\"\")","v":120.11},{"$f":"IFERROR(RTD(\"cqg.rtd\", ,\"ContractData\",AB18, \"NetChange\",, \"T\"),\"\")","v":-0.76},{"$f":"IFERROR(RTD(\"cqg.rtd\", ,\"ContractData\",AB18, \"PerCentNetLastTrade\",, \"T\")/100,\"\")","v":-6.2877471663770994E-3},-6.2877471663770994E-3,{"$f":"IFERROR(RTD(\"cqg.rtd\", ,\"ContractData\",AB18, \"Open\",, \"T\"),\"\")","v":120.32000000000001},{"$f":"IFERROR(RTD(\"cqg.rtd\", ,\"ContractData\",AB18, \"High\",, \"T\"),\"\")","v":121.32000000000001},{"$f":"IFERROR(RTD(\"cqg.rtd\", ,\"ContractData\",AB18, \"Low\",, \"T\"),\"\")","v":120},{"$f":"Symbols!H17","v":"S.US.FB"}]
[{"$f":"Symbols!C18","v":"F.US.GCE"},{"$f":"RTD(\"cqg.rtd\",,\"ContractData\",A19,\"LongDescription\",,\"T\")&\"  (\"&RIGHT(A19,LEN(A19)-5)&\")\"","v":"Gold (Globex), Feb 17  (GCE)"},null,null,{"$f":"IFERROR(RTD(\"cqg.rtd\", ,\"ContractData\",A19, \"LastTrade\",, \"T\"),\"\")","v":1178.6000000000001},{"$f":"IFERROR(RTD(\"cqg.rtd\", ,\"ContractData\",A19, \"NetChange\",, \"T\"),\"\")","v":-12.100000000000001},{"$f":"IFERROR(RTD(\"cqg.rtd\", ,\"ContractData\",A19, \"PerCentNetLastTrade\",, \"T\")/100,\"\")","v":-1.0245213301981861E-2},-1.0245213301981861E-2,{"$f":"IFERROR(RTD(\"cqg.rtd\", ,\"ContractData\",A19, \"Open\",, \"T\"),\"\")","v":1190.7},{"$f":"IFERROR(RTD(\"cqg.rtd\", ,\"ContractData\",A19, \"High\",, \"T\"),\"\")","v":1196.8},{"$f":"IFERROR(RTD(\"cqg.rtd\", ,\"ContractData\",A19, \"Low\",, \"T\"),\"\")","v":1176},null,null,null,null,null,null,{"$f":"IFERROR(RTD(\"cqg.rtd\", ,\"ContractData\",AB19, \"LongDescription\",, \"T\"),\"\")&\"  (\"&RIGHT(AB19,LEN(AB19)-5)&\")\"","v":"iShares 20+ Year Treasury Bond ETF  (TLT)"},null,null,{"$f":"IFERROR(RTD(\"cqg.rtd\", ,\"ContractData\",AB19, \"LastTrade\",, \"T\"),\"\")","v":119.88},{"$f":"IFERROR(RTD(\"cqg.rtd\", ,\"ContractData\",AB19, \"NetChange\",, \"T\"),\"\")","v":-2.33},{"$f":"IFERROR(RTD(\"cqg.rtd\", ,\"ContractData\",AB19, \"PerCentNetLastTrade\",, \"T\")/100,\"\")","v":-1.9145802650957292E-2},-1.9145802650957292E-2,{"$f":"IFERROR(RTD(\"cqg.rtd\", ,\"ContractData\",AB19, \"Open\",, \"T\"),\"\")","v":119.97},{"$f":"IFERROR(RTD(\"cqg.rtd\", ,\"ContractData\",AB19, \"High\",, \"T\"),\"\")","v":120.13},{"$f":"IFERROR(RTD(\"cqg.rtd\", ,\"ContractData\",AB19, \"Low\",, \"T\"),\"\")","v":119.56},{"$f":"Symbols!H18","v":"S.US.TLT"}]
[{"$f":"Symbols!C19","v":"F.US.DD"},{"$f":"RTD(\"cqg.rtd\",,\"ContractData\",A20,\"LongDescription\",,\"T\")&\"  (\"&RIGHT(A20,LEN(A20)-5)&\")\"","v":"DAX Index, Dec 16  (DD)"},null,null,{"$f":"IFERROR(RTD(\"cqg.rtd\", ,\"ContractData\",A20, \"LastTrade\",, \"T\"),\"\")","v":10636},{"$f":"IFERROR(RTD(\"cqg.rtd\", ,\"ContractData\",A20, \"NetChange\",, \"T\"),\"\")","v":29},{"$f":"IFERROR(RTD(\"cqg.rtd\", ,\"ContractData\",A20, \"PerCentNetLastTrade\",, \"T\")/100,\"\")","v":2.7813133455899686E-3},2.7813133455899686E-3,{"$f":"IFERROR(RTD(\"cqg.rtd\", ,\"ContractData\",A20, \"Open\",, \"T\"),\"\")","v":10625},{"$f":"IFERROR(RTD(\"cqg.rtd\", ,\"ContractData\",A20, \"High\",, \"T\"),\"\")","v":10693},{"$f":"IFERROR(RTD(\"cqg.rtd\", ,\"ContractData\",A20, \"Low\",, \"T\"),\"\")","v":10602},null,null,null,null,null,null,{"$f":"IFERROR(RTD(\"cqg.rtd\", ,\"ContractData\",AB20, \"LongDescription\",, \"T\"),\"\")&\"  (\"&RIGHT(AB20,LEN(AB20)-5)&\")\"","v":"Intel Corporation  (INTC)"},null,null,{"$f":"IFERROR(RTD(\"cqg.rtd\", ,\"ContractData\",AB20, \"LastTrade\",, \"T\"),\"\")","v":35.19},{"$f":"IFERROR(RTD(\"cqg.rtd\", ,\"ContractData\",AB20, \"NetChange\",, \"T\"),\"\")","v":-0.12},{"$f":"IFERROR(RTD(\"cqg.rtd\", ,\"ContractData\",AB20, \"PerCentNetLastTrade\",, \"T\")/100,\"\")","v":-3.3984706881903144E-3},-3.3984706881903144E-3,{"$f":"IFERROR(RTD(\"cqg.rtd\", ,\"ContractData\",AB20, \"Open\",, \"T\"),\"\")","v":35.200000000000003},{"$f":"IFERROR(RTD(\"cqg.rtd\", ,\"ContractData\",AB20, \"High\",, \"T\"),\"\")","v":35.300000000000004},{"$f":"IFERROR(RTD(\"cqg.rtd\", ,\"ContractData\",AB20, \"Low\",, \"T\"),\"\")","v":35.03},{"$f":"Symbols!H19","v":"S.US.INTC"}]
[{"$f":"Symbols!C20","v":"F.US.DSX"},{"$f":"RTD(\"cqg.rtd\",,\"ContractData\",A21,\"LongDescription\",,\"T\")&\"  (\"&RIGHT(A21,LEN(A21)-5)&\")\"","v":"Euro STOXX 50, Dec 16  (DSX)"},null,null,{"$f":"IFERROR(RTD(\"cqg.rtd\", ,\"ContractData\",A21, \"LastTrade\",, \"T\"),\"\")","v":3052},{"$f":"IFERROR(RTD(\"cqg.rtd\", ,\"ContractData\",A21, \"NetChange\",, \"T\"),\"\")","v":17},{"$f":"IFERROR(RTD(\"cqg.rtd\", ,\"ContractData\",A21, \"PerCentNetLastTrade\",, \"T\")/100,\"\")","v":5.6013179571663919E-3},5.6013179571663919E-3,{"$f":"IFERROR(RTD(\"cqg.rtd\", ,\"ContractData\",A21, \"Open\",, \"T\"),\"\")","v":3036},{"$f":"IFERROR(RTD(\"cqg.rtd\", ,\"ContractData\",A21, \"High\",, \"T\"),\"\")","v":3061},{"$f":"IFERROR(RTD(\"cqg.rtd\", ,\"ContractData\",A21, \"Low\",, \"T\"),\"\")","v":3031},null,null,null,null,null,null,{"$f":"IFERROR(RTD(\"cqg.rtd\", ,\"ContractData\",AB21, \"LongDescription\",, \"T\"),\"\")&\"  (\"&RIGHT(AB21,LEN(AB21)-5)&\")\"","v":"QUALCOMM Inc  (QCOM)"},null,null,{"$f":"IFERROR(RTD(\"cqg.rtd\", ,\"ContractData\",AB21, \"LastTrade\",, \"T\"),\"\")","v":66.930000000000007},{"$f":"IFERROR(RTD(\"cqg.rtd\", ,\"ContractData\",AB21, \"NetChange\",, \"T\"),\"\")","v":0.16},{"$f":"IFERROR(RTD(\"cqg.rtd\", ,\"ContractData\",AB21, \"PerCentNetLastTrade\",, \"T\")/100,\"\")","v":2.3962857570765314E-3},2.3962857570765314E-3,{"$f":"IFERROR(RTD(\"cqg.rtd\", ,\"ContractData\",AB21, \"Open\",, \"T\"),\"\")","v":66.8},{"$f":"IFERROR(RTD(\"cqg.rtd\", ,\"ContractData\",AB21, \"High\",, \"T\"),\"\")","v":67.06},{"$f":"IFERROR(RTD(\"cqg.rtd\", ,\"ContractData\",AB21, \"Low\",, \"T\"),\"\")","v":66.5},{"$f":"Symbols!H20","v":"S.US.QCOM"}]
[{"$f":"Symbols!C21","v":"F.US.TYA"},{"$f":"RTD(\"cqg.rtd\",,\"ContractData\",A22,\"LongDescription\",,\"T\")&\"  (\"&RIGHT(A22,LEN(A22)-5)&\")\"","v":"10yr US Treasury Notes (Globex), Mar 17  (TYA)"},null,null,{"$f":"IFERROR(RTD(\"cqg.rtd\", ,\"ContractData\",A22, \"LastTrade\",, \"T\"),\"\")","v":124.484375},{"$f":"IFERROR(RTD(\"cqg.rtd\", ,\"ContractData\",A22, \"NetChange\",, \"T\"),\"\")","v":-0.625},{"$f":"IFERROR(RTD(\"cqg.rtd\", ,\"ContractData\",A22, \"PerCentNetLastTrade\",, \"T\")/100,\"\")","v":-4.9956288247783188E-3},-4.9956288247783188E-3,{"$f":"IFERROR(RTD(\"cqg.rtd\", ,\"ContractData\",A22, \"Open\",, \"T\"),\"\")","v":125.140625},{"$f":"IFERROR(RTD(\"cqg.rtd\", ,\"ContractData\",A22, \"High\",, \"T\"),\"\")","v":125.1875},{"$f":"IFERROR(RTD(\"cqg.rtd\", ,\"ContractData\",A22, \"Low\",, \"T\"),\"\")","v":124.265625},null,null,null,null,null,null,{"$f":"IFERROR(RTD(\"cqg.rtd\", ,\"ContractData\",AB22, \"LongDescription\",, \"T\"),\"\")&\"  (\"&RIGHT(AB22,LEN(AB22)-5)&\")\"","v":"American Airlines Group Inc.  (AAL)"},null,null,{"$f":"IFERROR(RTD(\"cqg.rtd\", ,\"ContractData\",AB22, \"LastTrade\",, \"T\"),\"\")","v":46.26},{"$f":"IFERROR(RTD(\"cqg.rtd\", ,\"ContractData\",AB22, \"NetChange\",, \"T\"),\"\")","v":-0.63},{"$f":"IFERROR(RTD(\"cqg.rtd\", ,\"ContractData\",AB22, \"PerCentNetLastTrade\",, \"T\")/100,\"\")","v":-1.3435700575815739E-2},-1.3435700575815739E-2,{"$f":"IFERROR(RTD(\"cqg.rtd\", ,\"ContractData\",AB22, \"Open\",, \"T\"),\"\")","v":46.14},{"$f":"IFERROR(RTD(\"cqg.rtd\", ,\"ContractData\",AB22, \"High\",, \"T\"),\"\")","v":46.54},{"$f":"IFERROR(RTD(\"cqg.rtd\", ,\"ContractData\",AB22, \"Low\",, \"T\"),\"\")","v":45.42},{"$f":"Symbols!H21","v":"S.US.AAL"}]
[null,"Description",null,null,"Last","Net","% Net","Tdy Vol","Open","High","Low",null,null,null,null,null,null,"Description",null,null,"Last","Net","% Net","Tdy Vol","Open","High","Low"]
[null,null,null,null,"Price","Change","Change","21d-Vol",null,null,null,"NYSE Total Volume",null,null,"NASDAQ Total Volume",null,null,null,null,null,"Price","Change","Change","21d-Vol"]
[null,"CQG Top Ten Percentage Performers on the NYSE",null,null,null,null,null,null,null,null,null,{"$f":"IFERROR(RTD(\"cqg.rtd\", ,\"ContractData\",\"DJTOV\", \"LastTrade\",, \"T\"),\"\")","v":220802},null,null,{"$f":"O28+O31+O34","v":418094},null,null,"CQG Top Ten Percentage Performers on the NASDAQ"]
[{"$f":"NYSE!I1","v":"S.US.SM"},{"$f":"IFERROR(RTD(\"cqg.rtd\",,\"ContractData\",A26,\"LongDescription\",,\"T\")&\"  (\"&RIGHT(A26,LEN(A26)-5)&\")\",\"\")","v":"SM Energy Company  (SM)"},null,null,{"$f":"IF(B26=\"\",\"\",IFERROR(RTD(\"cqg.rtd\",,\"ContractData\",A26,\"LastTrade\",,\"T\"),\"\"))","v":38.83},{"$f":"IF(B26=\"\",\"\",IFERROR(RTD(\"cqg.rtd\", ,\"ContractData\",A26, \"NetChange\",, \"T\"),\"\"))","v":6.92},{"$f":"IFERROR(RTD(\"cqg.rtd\", ,\"ContractData\",A26, \"PerCentNetLastTrade\",, \"T\")/100,\"\")","v":0.21685991852083986},{"$f":"IFERROR(RTD(\"cqg.rtd\",,\"StudyData\",A26, \"Vol\", \"VolType=Exchange,CoCType=Exchange\", \"Vol\",\"ADC\",\"0\",\"ALL\",,,\"TRUE\",\"T\")/ RTD(\"cqg.rtd\",,\"StudyData\",A26, \"MA\", \"InputChoice=ContractVol,MAType=Sim,Period=21\", \"MA\",\"D\",\"-1\",\"all\",,,,\"T\"),\"\")","v":0.53044573100455195},{"$f":"IF(B26=\"\",\"\",IFERROR(RTD(\"cqg.rtd\", ,\"ContractData\",A26, \"Open\",, \"T\"),\"\"))","v":37.25},{"$f":"IF(B26=\"\",\"\",IFERROR(RTD(\"cqg.rtd\", ,\"ContractData\",A26, \"High\",, \"T\"),\"\"))","v":38.980000000000004},{"$f":"IF(B26=\"\",\"\",IFERROR(RTD(\"cqg.rtd\",,\"ContractData\",A26,\"Low\",,\"T\"),\"\"))","v":36.800000000000004},"NYSE Up Volume",null,null,"NASDAQ Up Volume",null,null,{"$f":"IFERROR(RTD(\"cqg.rtd\",,\"ContractData\",AB26,\"LongDescription\",,\"T\")&\"  (\"&RIGHT(AB26,LEN(AB26)-5)&\")\",\"\")","v":"Superconductor Tech  (SCON)"},null,null,{"$f":"IF(R26=\"\",\"\",IFERROR(RTD(\"cqg.rtd\",,\"ContractData\",AB26,\"LastTrade\",,\"T\"),\"\"))","v":3.17},{"$f":"IF(R26=\"\",\"\",IFERROR(RTD(\"cqg.rtd\", ,\"ContractData\",AB26, \"NetChange\",, \"T\"),\"\"))","v":1.17},{"$f":"IFERROR(RTD(\"cqg.rtd\", ,\"ContractData\",AB26, \"PerCentNetLastTrade\",, \"T\")/100,\"\")","v":0.58499999999999996},{"$f":"IFERROR(RTD(\"cqg.rtd\",,\"StudyData\",AB26, \"Vol\", \"VolType=Exchange,CoCType=Exchange\", \"Vol\",\"ADC\",\"0\",\"ALL\",,,\"TRUE\",\"T\")/ RTD(\"cqg.rtd\",,\"StudyData\",AB26, \"MA\", \"InputChoice=ContractVol,MAType=Sim,Period=21\", \"MA\",\"D\",\"-1\",\"all\",,,,\"T\"),\"\")","v":3.1962960235883644},{"$f":"IF(R26=\"\",\"\",IFERROR(RTD(\"cqg.rtd\", ,\"ContractData\",AB26, \"Open\",, \"T\"),\"\"))","v":3.6},{"$f":"IF(R26=\"\",\"\",IFERROR(RTD(\"cqg.rtd\", ,\"ContractData\",AB26, \"High\",, \"T\"),\"\"))","v":3.7800000000000002},{"$f":"IF(R26=\"\",\"\",IFERROR(RTD(\"cqg.rtd\", ,\"ContractData\",AB26, \"Low\",, \"T\"),\"\"))","v":2.9},{"$f":"NASDAQ!I1","v":"S.US.SCON"}]
[{"$f":"NYSE!I2","v":"S.US.JONE"},{"$f":"IFERROR(RTD(\"cqg.rtd\",,\"ContractData\",A27,\"LongDescription\",,\"T\")&\"  (\"&RIGHT(A27,LEN(A27)-5)&\")\",\"\")","v":"Jones Energy, Inc.  (JONE)"},null,null,{"$f":"IF(B27=\"\",\"\",IFERROR(RTD(\"cqg.rtd\",,\"ContractData\",A27,\"LastTrade\",,\"T\"),\"\"))","v":4.62},{"$f":"IF(B27=\"\",\"\",IFERROR(RTD(\"cqg.rtd\", ,\"ContractData\",A27, \"NetChange\",, \"T\"),\"\"))","v":0.82000000000000006},{"$f":"IFERROR(RTD(\"cqg.rtd\", ,\"ContractData\",A27, \"PerCentNetLastTrade\",, \"T\")/100,\"\")","v":0.2157894736842105},{"$f":"IFERROR(RTD(\"cqg.rtd\",,\"StudyData\",A27, \"Vol\", \"VolType=Exchange,CoCType=Exchange\", \"Vol\",\"ADC\",\"0\",\"ALL\",,,\"TRUE\",\"T\")/ RTD(\"cqg.rtd\",,\"StudyData\",A27, \"MA\", \"InputChoice=ContractVol,MAType=Sim,Period=21\", \"MA\",\"D\",\"-1\",\"all\",,,,\"T\"),\"\")","v":0.83864839689777781},{"$f":"IF(B27=\"\",\"\",IFERROR(RTD(\"cqg.rtd\", ,\"ContractData\",A27, \"Open\",, \"T\"),\"\"))","v":4.5},{"$f":"IF(B27=\"\",\"\",IFERROR(RTD(\"cqg.rtd\", ,\"ContractData\",A27, \"High\",, \"T\"),\"\"))","v":4.75},{"$f":"IF(B27=\"\",\"\",IFERROR(RTD(\"cqg.rtd\",,\"ContractData\",A27,\"Low\",,\"T\"),\"\"))","v":4.3},null,null,null,null,null,null,{"$f":"IFERROR(RTD(\"cqg.rtd\",,\"ContractData\",AB27,\"LongDescription\",,\"T\")&\"  (\"&RIGHT(AB27,LEN(AB27)-5)&\")\",\"\")","v":"Champions Oncology, Inc.  (CSBR)"},null,null,{"$f":"IF(R27=\"\",\"\",IFERROR(RTD(\"cqg.rtd\",,\"ContractData\",AB27,\"LastTrade\",,\"T\"),\"\"))","v":2.39},{"$f":"IF(R27=\"\",\"\",IFERROR(RTD(\"cqg.rtd\", ,\"ContractData\",AB27, \"NetChange\",, \"T\"),\"\"))","v":0.48},{"$f":"IFERROR(RTD(\"cqg.rtd\", ,\"ContractData\",AB27, \"PerCentNetLastTrade\",, \"T\")/100,\"\")","v":0.25130890052356025},{"$f":"IFERROR(RTD(\"cqg.rtd\",,\"StudyData\",AB27, \"Vol\", \"VolType=Exchange,CoCType=Exchange\", \"Vol\",\"ADC\",\"0\",\"ALL\",,,\"TRUE\",\"T\")/ RTD(\"cqg.rtd\",,\"StudyData\",AB27, \"MA\", \"InputChoice=ContractVol,MAType=Sim,Period=21\", \"MA\",\"D\",\"-1\",\"all\",,,,\"T\"),\"\")","v":18.055735523193501},{"$f":"IF(R27=\"\",\"\",IFERROR(RTD(\"cqg.rtd\", ,\"ContractData\",AB27, \"Open\",, \"T\"),\"\"))","v":2.23},{"$f":"IF(R27=\"\",\"\",IFERROR(RTD(\"cqg.rtd\", ,\"ContractData\",AB27, \"High\",, \"T\"),\"\"))","v":2.82},{"$f":"IF(R27=\"\",\"\",IFERROR(RTD(\"cqg.rtd\", ,\"ContractData\",AB27, \"Low\",, \"T\"),\"\"))","v":2.13},{"$f":"NASDAQ!I2","v":"S.US.CSBR"}]
[{"$f":"NYSE!I3","v":"S.US.CRC"},{"$f":"IFERROR(RTD(\"cqg.rtd\",,\"ContractData\",A28,\"LongDescription\",,\"T\")&\"  (\"&RIGHT(A28,LEN(A28)-5)&\")\",\"\")","v":"California Resources Corporation  (CRC)"},null,null,{"$f":"IF(B28=\"\",\"\",IFERROR(RTD(\"cqg.rtd\",,\"ContractData\",A28,\"LastTrade\",,\"T\"),\"\"))","v":14.63},{"$f":"IF(B28=\"\",\"\",IFERROR(RTD(\"cqg.rtd\", ,\"ContractData\",A28, \"NetChange\",, \"T\"),\"\"))","v":2.58},{"$f":"IFERROR(RTD(\"cqg.rtd\", ,\"ContractData\",A28, \"PerCentNetLastTrade\",, \"T\")/100,\"\")","v":0.21410788381742737},{"$f":"IFERROR(RTD(\"cqg.rtd\",,\"StudyData\",A28, \"Vol\", \"VolType=Exchange,CoCType=Exchange\", \"Vol\",\"ADC\",\"0\",\"ALL\",,,\"TRUE\",\"T\")/ RTD(\"cqg.rtd\",,\"StudyData\",A28, \"MA\", \"InputChoice=ContractVol,MAType=Sim,Period=21\", \"MA\",\"D\",\"-1\",\"all\",,,,\"T\"),\"\")","v":0.99576277432102045},{"$f":"IF(B28=\"\",\"\",IFERROR(RTD(\"cqg.rtd\", ,\"ContractData\",A28, \"Open\",, \"T\"),\"\"))","v":15.59},{"$f":"IF(B28=\"\",\"\",IFERROR(RTD(\"cqg.rtd\", ,\"ContractData\",A28, \"High\",, \"T\"),\"\"))","v":16.490000000000002},{"$f":"IF(B28=\"\",\"\",IFERROR(RTD(\"cqg.rtd\",,\"ContractData\",A28,\"Low\",,\"T\"),\"\"))","v":13.82},{"$f":"IFERROR(RTD(\"cqg.rtd\", ,\"ContractData\",\"DJUPV\", \"LastTrade\",, \"T\"),\"\")","v":149777},null,null,{"$f":"IFERROR(RTD(\"cqg.rtd\", ,\"ContractData\",\"NASUPV\", \"LastTrade\",, \"T\"),\"\")","v":149922},null,null,{"$f":"IFERROR(RTD(\"cqg.rtd\",,\"ContractData\",AB28,\"LongDescription\",,\"T\")&\"  (\"&RIGHT(AB28,LEN(AB28)-5)&\")\",\"\")","v":"Memorial Production Partners LP  (MEMP)"},null,null,{"$f":"IF(R28=\"\",\"\",IFERROR(RTD(\"cqg.rtd\",,\"ContractData\",AB28,\"LastTrade\",,\"T\"),\"\"))","v":0.37},{"$f":"IF(R28=\"\",\"\",IFERROR(RTD(\"cqg.rtd\", ,\"ContractData\",AB28, \"NetChange\",, \"T\"),\"\"))","v":0.06},{"$f":"IFERROR(RTD(\"cqg.rtd\", ,\"ContractData\",AB28, \"PerCentNetLastTrade\",, \"T\")/100,\"\")","v":0.19354838709677419},{"$f":"IFERROR(RTD(\"cqg.rtd\",,\"StudyData\",AB28, \"Vol\", \"VolType=Exchange,CoCType=Exchange\", \"Vol\",\"ADC\",\"0\",\"ALL\",,,\"TRUE\",\"T\")/ RTD(\"cqg.rtd\",,\"StudyData\",AB28, \"MA\", \"InputChoice=ContractVol,MAType=Sim,Period=21\", \"MA\",\"D\",\"-1\",\"all\",,,,\"T\"),\"\")","v":0.39950121703695973},{"$f":"IF(R28=\"\",\"\",IFERROR(RTD(\"cqg.rtd\", ,\"ContractData\",AB28, \"Open\",, \"T\"),\"\"))","v":0.37},{"$f":"IF(R28=\"\",\"\",IFERROR(RTD(\"cqg.rtd\", ,\"ContractData\",AB28, \"High\",, \"T\"),\"\"))","v":0.38},{"$f":"IF(R28=\"\",\"\",IFERROR(RTD(\"cqg.rtd\", ,\"ContractData\",AB28, \"Low\",, \"T\"),\"\"))","v":0.36},{"$f":"NASDAQ!I3","v":"S.US.MEMP"}]
[{"$f":"NYSE!I4","v":"S.US.OAS"},{"$f":"IFERROR(RTD(\"cqg.rtd\",,\"ContractData\",A29,\"LongDescription\",,\"T\")&\"  (\"&RIGHT(A29,LEN(A29)-5)&\")\",\"\")","v":"Oasis Petroleum Inc.  (OAS)"},null,null,{"$f":"IF(B29=\"\",\"\",IFERROR(RTD(\"cqg.rtd\",,\"ContractData\",A29,\"LastTrade\",,\"T\"),\"\"))","v":14.13},{"$f":"IF(B29=\"\",\"\",IFERROR(RTD(\"cqg.rtd\", ,\"ContractData\",A29, \"NetChange\",, \"T\"),\"\"))","v":2.41},{"$f":"IFERROR(RTD(\"cqg.rtd\", ,\"ContractData\",A29, \"PerCentNetLastTrade\",, \"T\")/100,\"\")","v":0.20563139931740615},{"$f":"IFERROR(RTD(\"cqg.rtd\",,\"StudyData\",A29, \"Vol\", \"VolType=Exchange,CoCType=Exchange\", \"Vol\",\"ADC\",\"0\",\"ALL\",,,\"TRUE\",\"T\")/ RTD(\"cqg.rtd\",,\"StudyData\",A29, \"MA\", \"InputChoice=ContractVol,MAType=Sim,Period=21\", \"MA\",\"D\",\"-1\",\"all\",,,,\"T\"),\"\")","v":0.66749746120627029},{"$f":"IF(B29=\"\",\"\",IFERROR(RTD(\"cqg.rtd\", ,\"ContractData\",A29, \"Open\",, \"T\"),\"\"))","v":13.59},{"$f":"IF(B29=\"\",\"\",IFERROR(RTD(\"cqg.rtd\", ,\"ContractData\",A29, \"High\",, \"T\"),\"\"))","v":14.280000000000001},{"$f":"IF(B29=\"\",\"\",IFERROR(RTD(\"cqg.rtd\",,\"ContractData\",A29,\"Low\",,\"T\"),\"\"))","v":13.47},"NYSE Down Volume",null,null,"NASDAQ Down Volume",null,null,{"$f":"IFERROR(RTD(\"cqg.rtd\",,\"ContractData\",AB29,\"LongDescription\",,\"T\")&\"  (\"&RIGHT(AB29,LEN(AB29)-5)&\")\",\"\")","v":"Mid-Con Energy Partners, LP  (MCEP)"},null,null,{"$f":"IF(R29=\"\",\"\",IFERROR(RTD(\"cqg.rtd\",,\"ContractData\",AB29,\"LastTrade\",,\"T\"),\"\"))","v":2.5100000000000002},{"$f":"IF(R29=\"\",\"\",IFERROR(RTD(\"cqg.rtd\", ,\"ContractData\",AB29, \"NetChange\",, \"T\"),\"\"))","v":0.43},{"$f":"IFERROR(RTD(\"cqg.rtd\", ,\"ContractData\",AB29, \"PerCentNetLastTrade\",, \"T\")/100,\"\")","v":0.18957345971563982},{"$f":"IFERROR(RTD(\"cqg.rtd\",,\"StudyData\",AB29, \"Vol\", \"VolType=Exchange,CoCType=Exchange\", \"Vol\",\"ADC\",\"0\",\"ALL\",,,\"TRUE\",\"T\")/ RTD(\"cqg.rtd\",,\"StudyData\",AB29, \"MA\", \"InputChoice=ContractVol,MAType=Sim,Period=21\", \"MA\",\"D\",\"-1\",\"all\",,,,\"T\"),\"\")","v":1.0924207930131233},{"$f":"IF(R29=\"\",\"\",IFERROR(RTD(\"cqg.rtd\", ,\"ContractData\",AB29, \"Open\",, \"T\"),\"\"))","v":2.2800000000000002},{"$f":"IF(R29=\"\",\"\",IFERROR(RTD(\"cqg.rtd\", ,\"ContractData\",AB29, \"High\",, \"T\"),\"\"))","v":2.54},{"$f":"IF(R29=\"\",\"\",IFERROR(RTD(\"cqg.rtd\", ,\"ContractData\",AB29, \"Low\",, \"T\"),\"\"))","v":2.25},{"$f":"NASDAQ!I4","v":"S.US.MCEP"}]
[{"$f":"NYSE!I5","v":"S.US.WPX"},{"$f":"IFERROR(RTD(\"cqg.rtd\",,\"ContractData\",A30,\"LongDescription\",,\"T\")&\"  (\"&RIGHT(A30,LEN(A30)-5)&\")\",\"\")","v":"WPX Energy, Inc.  (WPX)"},null,null,{"$f":"IF(B30=\"\",\"\",IFERROR(RTD(\"cqg.rtd\",,\"ContractData\",A30,\"LastTrade\",,\"T\"),\"\"))","v":14.48},{"$f":"IF(B30=\"\",\"\",IFERROR(RTD(\"cqg.rtd\", ,\"ContractData\",A30, \"NetChange\",, \"T\"),\"\"))","v":2.3000000000000003},{"$f":"IFERROR(RTD(\"cqg.rtd\", ,\"ContractData\",A30, \"PerCentNetLastTrade\",, \"T\")/100,\"\")","v":0.18883415435139572},{"$f":"IFERROR(RTD(\"cqg.rtd\",,\"StudyData\",A30, \"Vol\", \"VolType=Exchange,CoCType=Exchange\", \"Vol\",\"ADC\",\"0\",\"ALL\",,,\"TRUE\",\"T\")/ RTD(\"cqg.rtd\",,\"StudyData\",A30, \"MA\", \"InputChoice=ContractVol,MAType=Sim,Period=21\", \"MA\",\"D\",\"-1\",\"all\",,,,\"T\"),\"\")","v":0.62018662284742865},{"$f":"IF(B30=\"\",\"\",IFERROR(RTD(\"cqg.rtd\", ,\"ContractData\",A30, \"Open\",, \"T\"),\"\"))","v":13.71},{"$f":"IF(B30=\"\",\"\",IFERROR(RTD(\"cqg.rtd\", ,\"ContractData\",A30, \"High\",, \"T\"),\"\"))","v":14.68},{"$f":"IF(B30=\"\",\"\",IFERROR(RTD(\"cqg.rtd\",,\"ContractData\",A30,\"Low\",,\"T\"),\"\"))","v":13.71},null,null,null,null,null,null,{"$f":"IFERROR(RTD(\"cqg.rtd\",,\"ContractData\",AB30,\"LongDescription\",,\"T\")&\"  (\"&RIGHT(AB30,LEN(AB30)-5)&\")\",\"\")","v":"Rex Energy Corporation  (REXX)"},null,null,{"$f":"IF(R30=\"\",\"\",IFERROR(RTD(\"cqg.rtd\",,\"ContractData\",AB30,\"LastTrade\",,\"T\"),\"\"))","v":0.45},{"$f":"IF(R30=\"\",\"\",IFERROR(RTD(\"cqg.rtd\", ,\"ContractData\",AB30, \"NetChange\",, \"T\"),\"\"))","v":7.0000000000000007E-2},{"$f":"IFERROR(RTD(\"cqg.rtd\", ,\"ContractData\",AB30, \"PerCentNetLastTrade\",, \"T\")/100,\"\")","v":0.18421052631578949},{"$f":"IFERROR(RTD(\"cqg.rtd\",,\"StudyData\",AB30, \"Vol\", \"VolType=Exchange,CoCType=Exchange\", \"Vol\",\"ADC\",\"0\",\"ALL\",,,\"TRUE\",\"T\")/ RTD(\"cqg.rtd\",,\"StudyData\",AB30, \"MA\", \"InputChoice=ContractVol,MAType=Sim,Period=21\", \"MA\",\"D\",\"-1\",\"all\",,,,\"T\"),\"\")","v":0.86267392232559936},{"$f":"IF(R30=\"\",\"\",IFERROR(RTD(\"cqg.rtd\", ,\"ContractData\",AB30, \"Open\",, \"T\"),\"\"))","v":0.46},{"$f":"IF(R30=\"\",\"\",IFERROR(RTD(\"cqg.rtd\", ,\"ContractData\",AB30, \"High\",, \"T\"),\"\"))","v":0.47000000000000003},{"$f":"IF(R30=\"\",\"\",IFERROR(RTD(\"cqg.rtd\", ,\"ContractData\",AB30, \"Low\",, \"T\"),\"\"))","v":0.44},{"$f":"NASDAQ!I5","v":"S.US.REXX"}]
[{"$f":"NYSE!I6","v":"S.US.HLX"},{"$f":"IFERROR(RTD(\"cqg.rtd\",,\"ContractData\",A31,\"LongDescription\",,\"T\")&\"  (\"&RIGHT(A31,LEN(A31)-5)&\")\",\"\")","v":"Helix Energy Solutions Group  (HLX)"},null,null,{"$f":"IF(B31=\"\",\"\",IFERROR(RTD(\"cqg.rtd\",,\"ContractData\",A31,\"LastTrade\",,\"T\"),\"\"))","v":10.76},{"$f":"IF(B31=\"\",\"\",IFERROR(RTD(\"cqg.rtd\", ,\"ContractData\",A31, \"NetChange\",, \"T\"),\"\"))","v":1.61},{"$f":"IFERROR(RTD(\"cqg.rtd\", ,\"ContractData\",A31, \"PerCentNetLastTrade\",, \"T\")/100,\"\")","v":0.17595628415300546},{"$f":"IFERROR(RTD(\"cqg.rtd\",,\"StudyData\",A31, \"Vol\", \"VolType=Exchange,CoCType=Exchange\", \"Vol\",\"ADC\",\"0\",\"ALL\",,,\"TRUE\",\"T\")/ RTD(\"cqg.rtd\",,\"StudyData\",A31, \"MA\", \"InputChoice=ContractVol,MAType=Sim,Period=21\", \"MA\",\"D\",\"-1\",\"all\",,,,\"T\"),\"\")","v":0.36355359527770553},{"$f":"IF(B31=\"\",\"\",IFERROR(RTD(\"cqg.rtd\", ,\"ContractData\",A31, \"Open\",, \"T\"),\"\"))","v":10.220000000000001},{"$f":"IF(B31=\"\",\"\",IFERROR(RTD(\"cqg.rtd\", ,\"ContractData\",A31, \"High\",, \"T\"),\"\"))","v":10.86},{"$f":"IF(B31=\"\",\"\",IFERROR(RTD(\"cqg.rtd\",,\"ContractData\",A31,\"Low\",,\"T\"),\"\"))","v":10.130000000000001},{"$f":"IFERROR(RTD(\"cqg.rtd\", ,\"ContractData\",\"DJDNV\", \"LastTrade\",, \"T\"),\"\")","v":69904},null,null,{"$f":"IFERROR(RTD(\"cqg.rtd\", ,\"ContractData\",\"NASDNV\", \"LastTrade\",, \"T\"),\"\")","v":164320},null,null,{"$f":"IFERROR(RTD(\"cqg.rtd\",,\"ContractData\",AB31,\"LongDescription\",,\"T\")&\"  (\"&RIGHT(AB31,LEN(AB31)-5)&\")\",\"\")","v":"Recon Technology, Ltd.  (RCON)"},null,null,{"$f":"IF(R31=\"\",\"\",IFERROR(RTD(\"cqg.rtd\",,\"ContractData\",AB31,\"LastTrade\",,\"T\"),\"\"))","v":1.43},{"$f":"IF(R31=\"\",\"\",IFERROR(RTD(\"cqg.rtd\", ,\"ContractData\",AB31, \"NetChange\",, \"T\"),\"\"))","v":0.25},{"$f":"IFERROR(RTD(\"cqg.rtd\", ,\"ContractData\",AB31, \"PerCentNetLastTrade\",, \"T\")/100,\"\")","v":0.15322580645161291},{"$f":"IFERROR(RTD(\"cqg.rtd\",,\"StudyData\",AB31, \"Vol\", \"VolType=Exchange,CoCType=Exchange\", \"Vol\",\"ADC\",\"0\",\"ALL\",,,\"TRUE\",\"T\")/ RTD(\"cqg.rtd\",,\"StudyData\",AB31, \"MA\", \"InputChoice=ContractVol,MAType=Sim,Period=21\", \"MA\",\"D\",\"-1\",\"all\",,,,\"T\"),\"\")","v":0.69694619971380023},{"$f":"IF(R31=\"\",\"\",IFERROR(RTD(\"cqg.rtd\", ,\"ContractData\",AB31, \"Open\",, \"T\"),\"\"))","v":1.24},{"$f":"IF(R31=\"\",\"\",IFERROR(RTD(\"cqg.rtd\", ,\"ContractData\",AB31, \"High\",, \"T\"),\"\"))","v":1.59},{"$f":"IF(R31=\"\",\"\",IFERROR(RTD(\"cqg.rtd\", ,\"ContractData\",AB31, \"Low\",, \"T\"),\"\"))","v":1.21},{"$f":"NASDAQ!I6","v":"S.US.RCON"}]
[{"$f":"NYSE!I7","v":"S.US.CRR"},{"$f":"IFERROR(RTD(\"cqg.rtd\",,\"ContractData\",A32,\"LongDescription\",,\"T\")&\"  (\"&RIGHT(A32,LEN(A32)-5)&\")\",\"\")","v":"Carbo Ceramics Inc  (CRR)"},null,null,{"$f":"IF(B32=\"\",\"\",IFERROR(RTD(\"cqg.rtd\",,\"ContractData\",A32,\"LastTrade\",,\"T\"),\"\"))","v":7.97},{"$f":"IF(B32=\"\",\"\",IFERROR(RTD(\"cqg.rtd\", ,\"ContractData\",A32, \"NetChange\",, \"T\"),\"\"))","v":1.19},{"$f":"IFERROR(RTD(\"cqg.rtd\", ,\"ContractData\",A32, \"PerCentNetLastTrade\",, \"T\")/100,\"\")","v":0.17551622418879056},{"$f":"IFERROR(RTD(\"cqg.rtd\",,\"StudyData\",A32, \"Vol\", \"VolType=Exchange,CoCType=Exchange\", \"Vol\",\"ADC\",\"0\",\"ALL\",,,\"TRUE\",\"T\")/ RTD(\"cqg.rtd\",,\"StudyData\",A32, \"MA\", \"InputChoice=ContractVol,MAType=Sim,Period=21\", \"MA\",\"D\",\"-1\",\"all\",,,,\"T\"),\"\")","v":0.48751429011883018},{"$f":"IF(B32=\"\",\"\",IFERROR(RTD(\"cqg.rtd\", ,\"ContractData\",A32, \"Open\",, \"T\"),\"\"))","v":7.48},{"$f":"IF(B32=\"\",\"\",IFERROR(RTD(\"cqg.rtd\", ,\"ContractData\",A32, \"High\",, \"T\"),\"\"))","v":8.09},{"$f":"IF(B32=\"\",\"\",IFERROR(RTD(\"cqg.rtd\",,\"ContractData\",A32,\"Low\",,\"T\"),\"\"))","v":7.46},"NYSE Unchanged Vol",null,null,"NASDAQ Unchanged Vol",null,null,{"$f":"IFERROR(RTD(\"cqg.rtd\",,\"ContractData\",AB32,\"LongDescription\",,\"T\")&\"  (\"&RIGHT(AB32,LEN(AB32)-5)&\")\",\"\")","v":"One Horizon Group, Inc.  (OHGI)"},null,null,{"$f":"IF(R32=\"\",\"\",IFERROR(RTD(\"cqg.rtd\",,\"ContractData\",AB32,\"LastTrade\",,\"T\"),\"\"))","v":0.32},{"$f":"IF(R32=\"\",\"\",IFERROR(RTD(\"cqg.rtd\", ,\"ContractData\",AB32, \"NetChange\",, \"T\"),\"\"))","v":0.03},{"$f":"IFERROR(RTD(\"cqg.rtd\", ,\"ContractData\",AB32, \"PerCentNetLastTrade\",, \"T\")/100,\"\")","v":0.14285714285714288},{"$f":"IFERROR(RTD(\"cqg.rtd\",,\"StudyData\",AB32, \"Vol\", \"VolType=Exchange,CoCType=Exchange\", \"Vol\",\"ADC\",\"0\",\"ALL\",,,\"TRUE\",\"T\")/ RTD(\"cqg.rtd\",,\"StudyData\",AB32, \"MA\", \"InputChoice=ContractVol,MAType=Sim,Period=21\", \"MA\",\"D\",\"-1\",\"all\",,,,\"T\"),\"\")","v":0.34592608799822105},{"$f":"IF(R32=\"\",\"\",IFERROR(RTD(\"cqg.rtd\", ,\"ContractData\",AB32, \"Open\",, \"T\"),\"\"))","v":0.32},{"$f":"IF(R32=\"\",\"\",IFERROR(RTD(\"cqg.rtd\", ,\"ContractData\",AB32, \"High\",, \"T\"),\"\"))","v":0.32},{"$f":"IF(R32=\"\",\"\",IFERROR(RTD(\"cqg.rtd\", ,\"ContractData\",AB32, \"Low\",, \"T\"),\"\"))","v":0.3},{"$f":"NASDAQ!I7","v":"S.US.OHGI"}]
[{"$f":"NYSE!I8","v":"S.US.CLR"},{"$f":"IFERROR(RTD(\"cqg.rtd\",,\"ContractData\",A33,\"LongDescription\",,\"T\")&\"  (\"&RIGHT(A33,LEN(A33)-5)&\")\",\"\")","v":"Continental Resources  (CLR)"},null,null,{"$f":"IF(B33=\"\",\"\",IFERROR(RTD(\"cqg.rtd\",,\"ContractData\",A33,\"LastTrade\",,\"T\"),\"\"))","v":55.46},{"$f":"IF(B33=\"\",\"\",IFERROR(RTD(\"cqg.rtd\", ,\"ContractData\",A33, \"NetChange\",, \"T\"),\"\"))","v":8.25},{"$f":"IFERROR(RTD(\"cqg.rtd\", ,\"ContractData\",A33, \"PerCentNetLastTrade\",, \"T\")/100,\"\")","v":0.17475111205253124},{"$f":"IFERROR(RTD(\"cqg.rtd\",,\"StudyData\",A33, \"Vol\", \"VolType=Exchange,CoCType=Exchange\", \"Vol\",\"ADC\",\"0\",\"ALL\",,,\"TRUE\",\"T\")/ RTD(\"cqg.rtd\",,\"StudyData\",A33, \"MA\", \"InputChoice=ContractVol,MAType=Sim,Period=21\", \"MA\",\"D\",\"-1\",\"all\",,,,\"T\"),\"\")","v":1.0863895919723818},{"$f":"IF(B33=\"\",\"\",IFERROR(RTD(\"cqg.rtd\", ,\"ContractData\",A33, \"Open\",, \"T\"),\"\"))","v":52.370000000000005},{"$f":"IF(B33=\"\",\"\",IFERROR(RTD(\"cqg.rtd\", ,\"ContractData\",A33, \"High\",, \"T\"),\"\"))","v":55.9},{"$f":"IF(B33=\"\",\"\",IFERROR(RTD(\"cqg.rtd\",,\"ContractData\",A33,\"Low\",,\"T\"),\"\"))","v":52.370000000000005},null,null,null,null,null,null,{"$f":"IFERROR(RTD(\"cqg.rtd\",,\"ContractData\",AB33,\"LongDescription\",,\"T\")&\"  (\"&RIGHT(AB33,LEN(AB33)-5)&\")\",\"\")","v":"BluePhoenix Solutions Ltd  (MDSY)"},null,null,{"$f":"IF(R33=\"\",\"\",IFERROR(RTD(\"cqg.rtd\",,\"ContractData\",AB33,\"LastTrade\",,\"T\"),\"\"))","v":1.24},{"$f":"IF(R33=\"\",\"\",IFERROR(RTD(\"cqg.rtd\", ,\"ContractData\",AB33, \"NetChange\",, \"T\"),\"\"))","v":0.16},{"$f":"IFERROR(RTD(\"cqg.rtd\", ,\"ContractData\",AB33, \"PerCentNetLastTrade\",, \"T\")/100,\"\")","v":0.13761467889908258},{"$f":"IFERROR(RTD(\"cqg.rtd\",,\"StudyData\",AB33, \"Vol\", \"VolType=Exchange,CoCType=Exchange\", \"Vol\",\"ADC\",\"0\",\"ALL\",,,\"TRUE\",\"T\")/ RTD(\"cqg.rtd\",,\"StudyData\",AB33, \"MA\", \"InputChoice=ContractVol,MAType=Sim,Period=21\", \"MA\",\"D\",\"-1\",\"all\",,,,\"T\"),\"\")","v":1.646729477633304E-2},{"$f":"IF(R33=\"\",\"\",IFERROR(RTD(\"cqg.rtd\", ,\"ContractData\",AB33, \"Open\",, \"T\"),\"\"))","v":1.24},{"$f":"IF(R33=\"\",\"\",IFERROR(RTD(\"cqg.rtd\", ,\"ContractData\",AB33, \"High\",, \"T\"),\"\"))","v":1.24},{"$f":"IF(R33=\"\",\"\",IFERROR(RTD(\"cqg.rtd\", ,\"ContractData\",AB33, \"Low\",, \"T\"),\"\"))","v":1.24},{"$f":"NASDAQ!I8","v":"S.US.MDSY"}]
[{"$f":"NYSE!I9","v":"S.US.FMSA"},{"$f":"IFERROR(RTD(\"cqg.rtd\",,\"ContractData\",A34,\"LongDescription\",,\"T\")&\"  (\"&RIGHT(A34,LEN(A34)-5)&\")\",\"\")","v":"FMSA Holdings Inc  (FMSA)"},null,null,{"$f":"IF(B34=\"\",\"\",IFERROR(RTD(\"cqg.rtd\",,\"ContractData\",A34,\"LastTrade\",,\"T\"),\"\"))","v":9.34},{"$f":"IF(B34=\"\",\"\",IFERROR(RTD(\"cqg.rtd\", ,\"ContractData\",A34, \"NetChange\",, \"T\"),\"\"))","v":1.34},{"$f":"IFERROR(RTD(\"cqg.rtd\", ,\"ContractData\",A34, \"PerCentNetLastTrade\",, \"T\")/100,\"\")","v":0.16750000000000001},{"$f":"IFERROR(RTD(\"cqg.rtd\",,\"StudyData\",A34, \"Vol\", \"VolType=Exchange,CoCType=Exchange\", \"Vol\",\"ADC\",\"0\",\"ALL\",,,\"TRUE\",\"T\")/ RTD(\"cqg.rtd\",,\"StudyData\",A34, \"MA\", \"InputChoice=ContractVol,MAType=Sim,Period=21\", \"MA\",\"D\",\"-1\",\"all\",,,,\"T\"),\"\")","v":0.36884761644132935},{"$f":"IF(B34=\"\",\"\",IFERROR(RTD(\"cqg.rtd\", ,\"ContractData\",A34, \"Open\",, \"T\"),\"\"))","v":8.86},{"$f":"IF(B34=\"\",\"\",IFERROR(RTD(\"cqg.rtd\", ,\"ContractData\",A34, \"High\",, \"T\"),\"\"))","v":9.4},{"$f":"IF(B34=\"\",\"\",IFERROR(RTD(\"cqg.rtd\",,\"ContractData\",A34,\"Low\",,\"T\"),\"\"))","v":8.75},{"$f":"IFERROR(RTD(\"cqg.rtd\", ,\"ContractData\",\"DJUCV\", \"LastTrade\",, \"T\"),\"\")","v":1120},null,null,{"$f":"IFERROR(RTD(\"cqg.rtd\", ,\"ContractData\",\"NASUCV\", \"LastTrade\",, \"T\"),\"\")","v":103852},null,null,{"$f":"IFERROR(RTD(\"cqg.rtd\",,\"ContractData\",AB34,\"LongDescription\",,\"T\")&\"  (\"&RIGHT(AB34,LEN(AB34)-5)&\")\",\"\")","v":"Legacy Reserves LP Units  (LGCY)"},null,null,{"$f":"IF(R34=\"\",\"\",IFERROR(RTD(\"cqg.rtd\",,\"ContractData\",AB34,\"LastTrade\",,\"T\"),\"\"))","v":1.92},{"$f":"IF(R34=\"\",\"\",IFERROR(RTD(\"cqg.rtd\", ,\"ContractData\",AB34, \"NetChange\",, \"T\"),\"\"))","v":0.22},{"$f":"IFERROR(RTD(\"cqg.rtd\", ,\"ContractData\",AB34, \"PerCentNetLastTrade\",, \"T\")/100,\"\")","v":0.12941176470588237},{"$f":"IFERROR(RTD(\"cqg.rtd\",,\"StudyData\",AB34, \"Vol\", \"VolType=Exchange,CoCType=Exchange\", \"Vol\",\"ADC\",\"0\",\"ALL\",,,\"TRUE\",\"T\")/ RTD(\"cqg.rtd\",,\"StudyData\",AB34, \"MA\", \"InputChoice=ContractVol,MAType=Sim,Period=21\", \"MA\",\"D\",\"-1\",\"all\",,,,\"T\"),\"\")","v":0.4008821811056244},{"$f":"IF(R34=\"\",\"\",IFERROR(RTD(\"cqg.rtd\", ,\"ContractData\",AB34, \"Open\",, \"T\"),\"\"))","v":1.86},{"$f":"IF(R34=\"\",\"\",IFERROR(RTD(\"cqg.rtd\", ,\"ContractData\",AB34, \"High\",, \"T\"),\"\"))","v":1.93},{"$f":"IF(R34=\"\",\"\",IFERROR(RTD(\"cqg.rtd\", ,\"ContractData\",AB34, \"Low\",, \"T\"),\"\"))","v":1.81},{"$f":"NASDAQ!I9","v":"S.US.LGCY"}]
[{"$f":"NYSE!I10","v":"S.US.DNR"},{"$f":"IFERROR(RTD(\"cqg.rtd\",,\"ContractData\",A35,\"LongDescription\",,\"T\")&\"  (\"&RIGHT(A35,LEN(A35)-5)&\")\",\"\")","v":"Denbury Resources Inc  (DNR)"},null,null,{"$f":"IF(B35=\"\",\"\",IFERROR(RTD(\"cqg.rtd\",,\"ContractData\",A35,\"LastTrade\",,\"T\"),\"\"))","v":3.3000000000000003},{"$f":"IF(B35=\"\",\"\",IFERROR(RTD(\"cqg.rtd\", ,\"ContractData\",A35, \"NetChange\",, \"T\"),\"\"))","v":0.47000000000000003},{"$f":"IFERROR(RTD(\"cqg.rtd\", ,\"ContractData\",A35, \"PerCentNetLastTrade\",, \"T\")/100,\"\")","v":0.16607773851590107},{"$f":"IFERROR(RTD(\"cqg.rtd\",,\"StudyData\",A35, \"Vol\", \"VolType=Exchange,CoCType=Exchange\", \"Vol\",\"ADC\",\"0\",\"ALL\",,,\"TRUE\",\"T\")/ RTD(\"cqg.rtd\",,\"StudyData\",A35, \"MA\", \"InputChoice=ContractVol,MAType=Sim,Period=21\", \"MA\",\"D\",\"-1\",\"all\",,,,\"T\"),\"\")","v":0.81656201473014789},{"$f":"IF(B35=\"\",\"\",IFERROR(RTD(\"cqg.rtd\", ,\"ContractData\",A35, \"Open\",, \"T\"),\"\"))","v":3.25},{"$f":"IF(B35=\"\",\"\",IFERROR(RTD(\"cqg.rtd\", ,\"ContractData\",A35, \"High\",, \"T\"),\"\"))","v":3.36},{"$f":"IF(B35=\"\",\"\",IFERROR(RTD(\"cqg.rtd\",,\"ContractData\",A35,\"Low\",,\"T\"),\"\"))","v":3.15},"NYSE Adv Issues",null,null,"NASDAQ Adv Issues",null,null,{"$f":"IFERROR(RTD(\"cqg.rtd\",,\"ContractData\",AB35,\"LongDescription\",,\"T\")&\"  (\"&RIGHT(AB35,LEN(AB35)-5)&\")\",\"\")","v":"Ocean Rig UDW Inc.  (ORIG)"},null,null,{"$f":"IF(R35=\"\",\"\",IFERROR(RTD(\"cqg.rtd\",,\"ContractData\",AB35,\"LastTrade\",,\"T\"),\"\"))","v":1.58},{"$f":"IF(R35=\"\",\"\",IFERROR(RTD(\"cqg.rtd\", ,\"ContractData\",AB35, \"NetChange\",, \"T\"),\"\"))","v":0.18},{"$f":"IFERROR(RTD(\"cqg.rtd\", ,\"ContractData\",AB35, \"PerCentNetLastTrade\",, \"T\")/100,\"\")","v":0.12857142857142859},{"$f":"IFERROR(RTD(\"cqg.rtd\",,\"StudyData\",AB35, \"Vol\", \"VolType=Exchange,CoCType=Exchange\", \"Vol\",\"ADC\",\"0\",\"ALL\",,,\"TRUE\",\"T\")/ RTD(\"cqg.rtd\",,\"StudyData\",AB35, \"MA\", \"InputChoice=ContractVol,MAType=Sim,Period=21\", \"MA\",\"D\",\"-1\",\"all\",,,,\"T\"),\"\")","v":0.49496998223791611},{"$f":"IF(R35=\"\",\"\",IFERROR(RTD(\"cqg.rtd\", ,\"ContractData\",AB35, \"Open\",, \"T\"),\"\"))","v":1.6600000000000001},{"$f":"IF(R35=\"\",\"\",IFERROR(RTD(\"cqg.rtd\", ,\"ContractData\",AB35, \"High\",, \"T\"),\"\"))","v":1.6600000000000001},{"$f":"IF(R35=\"\",\"\",IFERROR(RTD(\"cqg.rtd\", ,\"ContractData\",AB35, \"Low\",, \"T\"),\"\"))","v":1.54},{"$f":"NASDAQ!I10","v":"S.US.ORIG"}]
[null,"CQG Bottom Ten Percentage Performers on the NYSE",null,null,null,null,null,null,null,null,null,null,null,null,null,null,null,"CQG Bottom Ten Percentage Performers on the NASDAQ"]
[{"$f":"NYSE!N1","v":"S.US.CMRE"},{"$f":"IFERROR(RTD(\"cqg.rtd\",,\"ContractData\",A37,\"LongDescription\",,\"T\")&\"  (\"&RIGHT(A37,LEN(A37)-5)&\")\",\"\")","v":"Costamare Inc.  (CMRE)"},null,null,{"$f":"IF(B37=\"\",\"\",IFERROR(RTD(\"cqg.rtd\",,\"ContractData\",A37,\"LastTrade\",,\"T\"),\"\"))","v":5.75},{"$f":"IF(B37=\"\",\"\",IFERROR(RTD(\"cqg.rtd\", ,\"ContractData\",A37, \"NetChange\",, \"T\"),\"\"))","v":-0.9},{"$f":"IFERROR(RTD(\"cqg.rtd\", ,\"ContractData\",A37, \"PerCentNetLastTrade\",, \"T\")/100,\"\")","v":-0.13533834586466165},{"$f":"IFERROR(RTD(\"cqg.rtd\",,\"StudyData\",A37, \"Vol\", \"VolType=Exchange,CoCType=Exchange\", \"Vol\",\"ADC\",\"0\",\"ALL\",,,\"TRUE\",\"T\")/ RTD(\"cqg.rtd\",,\"StudyData\",A37, \"MA\", \"InputChoice=ContractVol,MAType=Sim,Period=21\", \"MA\",\"D\",\"-1\",\"all\",,,,\"T\"),\"\")","v":8.6515035051344729},{"$f":"IF(B37=\"\",\"\",IFERROR(RTD(\"cqg.rtd\", ,\"ContractData\",A37, \"Open\",, \"T\"),\"\"))","v":5.65},{"$f":"IF(B37=\"\",\"\",IFERROR(RTD(\"cqg.rtd\", ,\"ContractData\",A37, \"High\",, \"T\"),\"\"))","v":5.9},{"$f":"IF(B37=\"\",\"\",IFERROR(RTD(\"cqg.rtd\",,\"ContractData\",A37,\"Low\",,\"T\"),\"\"))","v":5.64},{"$f":"IFERROR(RTD(\"cqg.rtd\", ,\"ContractData\",\"DJIUP\", \"LastTrade\",, \"T\"),\"\")","v":1446},null,null,{"$f":"IFERROR(RTD(\"cqg.rtd\", ,\"ContractData\",\"NASIUP\", \"LastTrade\",, \"T\"),\"\")","v":1460},null,null,{"$f":"IFERROR(RTD(\"cqg.rtd\",,\"ContractData\",AB37,\"LongDescription\",,\"T\")&\"  (\"&RIGHT(AB37,LEN(AB37)-5)&\")\",\"\")","v":"Arrowhead Pharmaceuticals, Inc.  (ARWR)"},null,null,{"$f":"IF(R37=\"\",\"\",IFERROR(RTD(\"cqg.rtd\",,\"ContractData\",AB37,\"LastTrade\",,\"T\"),\"\"))","v":1.7},{"$f":"IF(R37=\"\",\"\",IFERROR(RTD(\"cqg.rtd\", ,\"ContractData\",AB37, \"NetChange\",, \"T\"),\"\"))","v":-2.69},{"$f":"IFERROR(RTD(\"cqg.rtd\", ,\"ContractData\",AB37, \"PerCentNetLastTrade\",, \"T\")/100,\"\")","v":-0.6127562642369021},{"$f":"IFERROR(RTD(\"cqg.rtd\",,\"StudyData\",AB37, \"Vol\", \"VolType=Exchange,CoCType=Exchange\", \"Vol\",\"ADC\",\"0\",\"ALL\",,,\"TRUE\",\"T\")/ RTD(\"cqg.rtd\",,\"StudyData\",AB37, \"MA\", \"InputChoice=ContractVol,MAType=Sim,Period=21\", \"MA\",\"D\",\"-1\",\"all\",,,,\"T\"),\"\")","v":5.5709541377781422},{"$f":"IF(R37=\"\",\"\",IFERROR(RTD(\"cqg.rtd\", ,\"ContractData\",AB37, \"Open\",, \"T\"),\"\"))","v":1.69},{"$f":"IF(R37=\"\",\"\",IFERROR(RTD(\"cqg.rtd\", ,\"ContractData\",AB37, \"High\",, \"T\"),\"\"))","v":1.8},{"$f":"IF(R37=\"\",\"\",IFERROR(RTD(\"cqg.rtd\", ,\"ContractData\",AB37, \"Low\",, \"T\"),\"\"))","v":1.6400000000000001},{"$f":"NASDAQ!N1","v":"S.US.ARWR"}]
[{"$f":"NYSE!N2","v":"S.US.AEO"},{"$f":"IFERROR(RTD(\"cqg.rtd\",,\"ContractData\",A38,\"LongDescription\",,\"T\")&\"  (\"&RIGHT(A38,LEN(A38)-5)&\")\",\"\")","v":"American Eagle Outfitters  (AEO)"},null,null,{"$f":"IF(B38=\"\",\"\",IFERROR(RTD(\"cqg.rtd\",,\"ContractData\",A38,\"LastTrade\",,\"T\"),\"\"))","v":16.580000000000002},{"$f":"IF(B38=\"\",\"\",IFERROR(RTD(\"cqg.rtd\", ,\"ContractData\",A38, \"NetChange\",, \"T\"),\"\"))","v":-2.33},{"$f":"IFERROR(RTD(\"cqg.rtd\", ,\"ContractData\",A38, \"PerCentNetLastTrade\",, \"T\")/100,\"\")","v":-0.12321523003701745},{"$f":"IFERROR(RTD(\"cqg.rtd\",,\"StudyData\",A38, \"Vol\", \"VolType=Exchange,CoCType=Exchange\", \"Vol\",\"ADC\",\"0\",\"ALL\",,,\"TRUE\",\"T\")/ RTD(\"cqg.rtd\",,\"StudyData\",A38, \"MA\", \"InputChoice=ContractVol,MAType=Sim,Period=21\", \"MA\",\"D\",\"-1\",\"all\",,,,\"T\"),\"\")","v":1.5585180671415713},{"$f":"IF(B38=\"\",\"\",IFERROR(RTD(\"cqg.rtd\", ,\"ContractData\",A38, \"Open\",, \"T\"),\"\"))","v":16.87},{"$f":"IF(B38=\"\",\"\",IFERROR(RTD(\"cqg.rtd\", ,\"ContractData\",A38, \"High\",, \"T\"),\"\"))","v":16.98},{"$f":"IF(B38=\"\",\"\",IFERROR(RTD(\"cqg.rtd\",,\"ContractData\",A38,\"Low\",,\"T\"),\"\"))","v":16.05},"NYSE Dec Issues",null,null,"NASDAQ Dec Issues",null,null,{"$f":"IFERROR(RTD(\"cqg.rtd\",,\"ContractData\",AB38,\"LongDescription\",,\"T\")&\"  (\"&RIGHT(AB38,LEN(AB38)-5)&\")\",\"\")","v":"Cerecor Inc.  (CERC)"},null,null,{"$f":"IF(R38=\"\",\"\",IFERROR(RTD(\"cqg.rtd\",,\"ContractData\",AB38,\"LastTrade\",,\"T\"),\"\"))","v":2.4500000000000002},{"$f":"IF(R38=\"\",\"\",IFERROR(RTD(\"cqg.rtd\", ,\"ContractData\",AB38, \"NetChange\",, \"T\"),\"\"))","v":-2.27},{"$f":"IFERROR(RTD(\"cqg.rtd\", ,\"ContractData\",AB38, \"PerCentNetLastTrade\",, \"T\")/100,\"\")","v":-0.4809322033898305},{"$f":"IFERROR(RTD(\"cqg.rtd\",,\"StudyData\",AB38, \"Vol\", \"VolType=Exchange,CoCType=Exchange\", \"Vol\",\"ADC\",\"0\",\"ALL\",,,\"TRUE\",\"T\")/ RTD(\"cqg.rtd\",,\"StudyData\",AB38, \"MA\", \"InputChoice=ContractVol,MAType=Sim,Period=21\", \"MA\",\"D\",\"-1\",\"all\",,,,\"T\"),\"\")","v":6.962746239796239},{"$f":"IF(R38=\"\",\"\",IFERROR(RTD(\"cqg.rtd\", ,\"ContractData\",AB38, \"Open\",, \"T\"),\"\"))","v":2.34},{"$f":"IF(R38=\"\",\"\",IFERROR(RTD(\"cqg.rtd\", ,\"ContractData\",AB38, \"High\",, \"T\"),\"\"))","v":2.68},{"$f":"IF(R38=\"\",\"\",IFERROR(RTD(\"cqg.rtd\", ,\"ContractData\",AB38, \"Low\",, \"T\"),\"\"))","v":1.98},{"$f":"NASDAQ!N2","v":"S.US.CERC"}]
[{"$f":"NYSE!N3","v":"S.US.FBP"},{"$f":"IFERROR(RTD(\"cqg.rtd\",,\"ContractData\",A39,\"LongDescription\",,\"T\")&\"  (\"&RIGHT(A39,LEN(A39)-5)&\")\",\"\")","v":"First BanCorp.  (FBP)"},null,null,{"$f":"IF(B39=\"\",\"\",IFERROR(RTD(\"cqg.rtd\",,\"ContractData\",A39,\"LastTrade\",,\"T\"),\"\"))","v":5.91},{"$f":"IF(B39=\"\",\"\",IFERROR(RTD(\"cqg.rtd\", ,\"ContractData\",A39, \"NetChange\",, \"T\"),\"\"))","v":-0.46},{"$f":"IFERROR(RTD(\"cqg.rtd\", ,\"ContractData\",A39, \"PerCentNetLastTrade\",, \"T\")/100,\"\")","v":-7.2213500784929358E-2},{"$f":"IFERROR(RTD(\"cqg.rtd\",,\"StudyData\",A39, \"Vol\", \"VolType=Exchange,CoCType=Exchange\", \"Vol\",\"ADC\",\"0\",\"ALL\",,,\"TRUE\",\"T\")/ RTD(\"cqg.rtd\",,\"StudyData\",A39, \"MA\", \"InputChoice=ContractVol,MAType=Sim,Period=21\", \"MA\",\"D\",\"-1\",\"all\",,,,\"T\"),\"\")","v":3.4408217123864069},{"$f":"IF(B39=\"\",\"\",IFERROR(RTD(\"cqg.rtd\", ,\"ContractData\",A39, \"Open\",, \"T\"),\"\"))","v":5.9},{"$f":"IF(B39=\"\",\"\",IFERROR(RTD(\"cqg.rtd\", ,\"ContractData\",A39, \"High\",, \"T\"),\"\"))","v":6.04},{"$f":"IF(B39=\"\",\"\",IFERROR(RTD(\"cqg.rtd\",,\"ContractData\",A39,\"Low\",,\"T\"),\"\"))","v":5.8500000000000005},null,null,null,null,null,null,{"$f":"IFERROR(RTD(\"cqg.rtd\",,\"ContractData\",AB39,\"LongDescription\",,\"T\")&\"  (\"&RIGHT(AB39,LEN(AB39)-5)&\")\",\"\")","v":"Atlanticus Holdings Corporation  (ATLC)"},null,null,{"$f":"IF(R39=\"\",\"\",IFERROR(RTD(\"cqg.rtd\",,\"ContractData\",AB39,\"LastTrade\",,\"T\"),\"\"))","v":3},{"$f":"IF(R39=\"\",\"\",IFERROR(RTD(\"cqg.rtd\", ,\"ContractData\",AB39, \"NetChange\",, \"T\"),\"\"))","v":-2.68},{"$f":"IFERROR(RTD(\"cqg.rtd\", ,\"ContractData\",AB39, \"PerCentNetLastTrade\",, \"T\")/100,\"\")","v":-0.48006932409012132},{"$f":"IFERROR(RTD(\"cqg.rtd\",,\"StudyData\",AB39, \"Vol\", \"VolType=Exchange,CoCType=Exchange\", \"Vol\",\"ADC\",\"0\",\"ALL\",,,\"TRUE\",\"T\")/ RTD(\"cqg.rtd\",,\"StudyData\",AB39, \"MA\", \"InputChoice=ContractVol,MAType=Sim,Period=21\", \"MA\",\"D\",\"-1\",\"all\",,,,\"T\"),\"\")","v":1.1233283803869976},{"$f":"IF(R39=\"\",\"\",IFERROR(RTD(\"cqg.rtd\", ,\"ContractData\",AB39, \"Open\",, \"T\"),\"\"))","v":3},{"$f":"IF(R39=\"\",\"\",IFERROR(RTD(\"cqg.rtd\", ,\"ContractData\",AB39, \"High\",, \"T\"),\"\"))","v":3},{"$f":"IF(R39=\"\",\"\",IFERROR(RTD(\"cqg.rtd\", ,\"ContractData\",AB39, \"Low\",, \"T\"),\"\"))","v":3},{"$f":"NASDAQ!N3","v":"S.US.ATLC"}]
[{"$f":"NYSE!N4","v":"S.US.VRX"},{"$f":"IFERROR(RTD(\"cqg.rtd\",,\"ContractData\",A40,\"LongDescription\",,\"T\")&\"  (\"&RIGHT(A40,LEN(A40)-5)&\")\",\"\")","v":"Valeant Pharmaceuticals Intl  (VRX)"},null,null,{"$f":"IF(B40=\"\",\"\",IFERROR(RTD(\"cqg.rtd\",,\"ContractData\",A40,\"LastTrade\",,\"T\"),\"\"))","v":15.99},{"$f":"IF(B40=\"\",\"\",IFERROR(RTD(\"cqg.rtd\", ,\"ContractData\",A40, \"NetChange\",, \"T\"),\"\"))","v":-1.1599999999999999},{"$f":"IFERROR(RTD(\"cqg.rtd\", ,\"ContractData\",A40, \"PerCentNetLastTrade\",, \"T\")/100,\"\")","v":-6.8181818181818177E-2},{"$f":"IFERROR(RTD(\"cqg.rtd\",,\"StudyData\",A40, \"Vol\", \"VolType=Exchange,CoCType=Exchange\", \"Vol\",\"ADC\",\"0\",\"ALL\",,,\"TRUE\",\"T\")/ RTD(\"cqg.rtd\",,\"StudyData\",A40, \"MA\", \"InputChoice=ContractVol,MAType=Sim,Period=21\", \"MA\",\"D\",\"-1\",\"all\",,,,\"T\"),\"\")","v":0.3882474331744693},{"$f":"IF(B40=\"\",\"\",IFERROR(RTD(\"cqg.rtd\", ,\"ContractData\",A40, \"Open\",, \"T\"),\"\"))","v":17.02},{"$f":"IF(B40=\"\",\"\",IFERROR(RTD(\"cqg.rtd\", ,\"ContractData\",A40, \"High\",, \"T\"),\"\"))","v":17.080000000000002},{"$f":"IF(B40=\"\",\"\",IFERROR(RTD(\"cqg.rtd\",,\"ContractData\",A40,\"Low\",,\"T\"),\"\"))","v":15.85},{"$f":"IFERROR(RTD(\"cqg.rtd\", ,\"ContractData\",\"DJIDN\", \"LastTrade\",, \"T\"),\"\")","v":1455},null,null,{"$f":"IFERROR(RTD(\"cqg.rtd\", ,\"ContractData\",\"NASIDN\", \"LastTrade\",, \"T\"),\"\")","v":1069},null,null,{"$f":"IFERROR(RTD(\"cqg.rtd\",,\"ContractData\",AB40,\"LongDescription\",,\"T\")&\"  (\"&RIGHT(AB40,LEN(AB40)-5)&\")\",\"\")","v":"Towerstream Corporation  (TWER)"},null,null,{"$f":"IF(R40=\"\",\"\",IFERROR(RTD(\"cqg.rtd\",,\"ContractData\",AB40,\"LastTrade\",,\"T\"),\"\"))","v":0.24},{"$f":"IF(R40=\"\",\"\",IFERROR(RTD(\"cqg.rtd\", ,\"ContractData\",AB40, \"NetChange\",, \"T\"),\"\"))","v":-0.1},{"$f":"IFERROR(RTD(\"cqg.rtd\", ,\"ContractData\",AB40, \"PerCentNetLastTrade\",, \"T\")/100,\"\")","v":-0.29411764705882354},{"$f":"IFERROR(RTD(\"cqg.rtd\",,\"StudyData\",AB40, \"Vol\", \"VolType=Exchange,CoCType=Exchange\", \"Vol\",\"ADC\",\"0\",\"ALL\",,,\"TRUE\",\"T\")/ RTD(\"cqg.rtd\",,\"StudyData\",AB40, \"MA\", \"InputChoice=ContractVol,MAType=Sim,Period=21\", \"MA\",\"D\",\"-1\",\"all\",,,,\"T\"),\"\")","v":1.42440290732104},{"$f":"IF(R40=\"\",\"\",IFERROR(RTD(\"cqg.rtd\", ,\"ContractData\",AB40, \"Open\",, \"T\"),\"\"))","v":0.24},{"$f":"IF(R40=\"\",\"\",IFERROR(RTD(\"cqg.rtd\", ,\"ContractData\",AB40, \"High\",, \"T\"),\"\"))","v":0.24},{"$f":"IF(R40=\"\",\"\",IFERROR(RTD(\"cqg.rtd\", ,\"ContractData\",AB40, \"Low\",, \"T\"),\"\"))","v":0.2},{"$f":"NASDAQ!N4","v":"S.US.TWER"}]
[{"$f":"NYSE!N5","v":"S.US.DRD"},{"$f":"IFERROR(RTD(\"cqg.rtd\",,\"ContractData\",A41,\"LongDescription\",,\"T\")&\"  (\"&RIGHT(A41,LEN(A41)-5)&\")\",\"\")","v":"DRDGOLD Limited  (DRD)"},null,null,{"$f":"IF(B41=\"\",\"\",IFERROR(RTD(\"cqg.rtd\",,\"ContractData\",A41,\"LastTrade\",,\"T\"),\"\"))","v":4.3600000000000003},{"$f":"IF(B41=\"\",\"\",IFERROR(RTD(\"cqg.rtd\", ,\"ContractData\",A41, \"NetChange\",, \"T\"),\"\"))","v":-0.28000000000000003},{"$f":"IFERROR(RTD(\"cqg.rtd\", ,\"ContractData\",A41, \"PerCentNetLastTrade\",, \"T\")/100,\"\")","v":-6.0344827586206892E-2},{"$f":"IFERROR(RTD(\"cqg.rtd\",,\"StudyData\",A41, \"Vol\", \"VolType=Exchange,CoCType=Exchange\", \"Vol\",\"ADC\",\"0\",\"ALL\",,,\"TRUE\",\"T\")/ RTD(\"cqg.rtd\",,\"StudyData\",A41, \"MA\", \"InputChoice=ContractVol,MAType=Sim,Period=21\", \"MA\",\"D\",\"-1\",\"all\",,,,\"T\"),\"\")","v":0.36084213221501071},{"$f":"IF(B41=\"\",\"\",IFERROR(RTD(\"cqg.rtd\", ,\"ContractData\",A41, \"Open\",, \"T\"),\"\"))","v":4.41},{"$f":"IF(B41=\"\",\"\",IFERROR(RTD(\"cqg.rtd\", ,\"ContractData\",A41, \"High\",, \"T\"),\"\"))","v":4.47},{"$f":"IF(B41=\"\",\"\",IFERROR(RTD(\"cqg.rtd\",,\"ContractData\",A41,\"Low\",,\"T\"),\"\"))","v":4.12},"NYSE Unc Issues",null,null,"NASDAQ Unc Issues",null,null,{"$f":"IFERROR(RTD(\"cqg.rtd\",,\"ContractData\",AB41,\"LongDescription\",,\"T\")&\"  (\"&RIGHT(AB41,LEN(AB41)-5)&\")\",\"\")","v":"Celyad SA  (CYAD)"},null,null,{"$f":"IF(R41=\"\",\"\",IFERROR(RTD(\"cqg.rtd\",,\"ContractData\",AB41,\"LastTrade\",,\"T\"),\"\"))","v":18.79},{"$f":"IF(R41=\"\",\"\",IFERROR(RTD(\"cqg.rtd\", ,\"ContractData\",AB41, \"NetChange\",, \"T\"),\"\"))","v":-4.8100000000000005},{"$f":"IFERROR(RTD(\"cqg.rtd\", ,\"ContractData\",AB41, \"PerCentNetLastTrade\",, \"T\")/100,\"\")","v":-0.21708333333333332},{"$f":"IFERROR(RTD(\"cqg.rtd\",,\"StudyData\",AB41, \"Vol\", \"VolType=Exchange,CoCType=Exchange\", \"Vol\",\"ADC\",\"0\",\"ALL\",,,\"TRUE\",\"T\")/ RTD(\"cqg.rtd\",,\"StudyData\",AB41, \"MA\", \"InputChoice=ContractVol,MAType=Sim,Period=21\", \"MA\",\"D\",\"-1\",\"all\",,,,\"T\"),\"\")","v":11.057761732891906},{"$f":"IF(R41=\"\",\"\",IFERROR(RTD(\"cqg.rtd\", ,\"ContractData\",AB41, \"Open\",, \"T\"),\"\"))","v":19.8},{"$f":"IF(R41=\"\",\"\",IFERROR(RTD(\"cqg.rtd\", ,\"ContractData\",AB41, \"High\",, \"T\"),\"\"))","v":19.8},{"$f":"IF(R41=\"\",\"\",IFERROR(RTD(\"cqg.rtd\", ,\"ContractData\",AB41, \"Low\",, \"T\"),\"\"))","v":18.79},{"$f":"NASDAQ!N5","v":"S.US.CYAD"}]
[{"$f":"NYSE!N6","v":"S.US.FPI"},{"$f":"IFERROR(RTD(\"cqg.rtd\",,\"ContractData\",A42,\"LongDescription\",,\"T\")&\"  (\"&RIGHT(A42,LEN(A42)-5)&\")\",\"\")","v":"Farmland Partners, Inc.  (FPI)"},null,null,{"$f":"IF(B42=\"\",\"\",IFERROR(RTD(\"cqg.rtd\",,\"ContractData\",A42,\"LastTrade\",,\"T\"),\"\"))","v":11.15},{"$f":"IF(B42=\"\",\"\",IFERROR(RTD(\"cqg.rtd\", ,\"ContractData\",A42, \"NetChange\",, \"T\"),\"\"))","v":-0.69000000000000006},{"$f":"IFERROR(RTD(\"cqg.rtd\", ,\"ContractData\",A42, \"PerCentNetLastTrade\",, \"T\")/100,\"\")","v":-5.8277027027027029E-2},{"$f":"IFERROR(RTD(\"cqg.rtd\",,\"StudyData\",A42, \"Vol\", \"VolType=Exchange,CoCType=Exchange\", \"Vol\",\"ADC\",\"0\",\"ALL\",,,\"TRUE\",\"T\")/ RTD(\"cqg.rtd\",,\"StudyData\",A42, \"MA\", \"InputChoice=ContractVol,MAType=Sim,Period=21\", \"MA\",\"D\",\"-1\",\"all\",,,,\"T\"),\"\")","v":2.1773182216042732},{"$f":"IF(B42=\"\",\"\",IFERROR(RTD(\"cqg.rtd\", ,\"ContractData\",A42, \"Open\",, \"T\"),\"\"))","v":11.1},{"$f":"IF(B42=\"\",\"\",IFERROR(RTD(\"cqg.rtd\", ,\"ContractData\",A42, \"High\",, \"T\"),\"\"))","v":11.18},{"$f":"IF(B42=\"\",\"\",IFERROR(RTD(\"cqg.rtd\",,\"ContractData\",A42,\"Low\",,\"T\"),\"\"))","v":10.91},null,null,null,null,null,null,{"$f":"IFERROR(RTD(\"cqg.rtd\",,\"ContractData\",AB42,\"LongDescription\",,\"T\")&\"  (\"&RIGHT(AB42,LEN(AB42)-5)&\")\",\"\")","v":"Interpace Diagnostics Group, Inc.  (IDXG)"},null,null,{"$f":"IF(R42=\"\",\"\",IFERROR(RTD(\"cqg.rtd\",,\"ContractData\",AB42,\"LastTrade\",,\"T\"),\"\"))","v":0.14000000000000001},{"$f":"IF(R42=\"\",\"\",IFERROR(RTD(\"cqg.rtd\", ,\"ContractData\",AB42, \"NetChange\",, \"T\"),\"\"))","v":-0.03},{"$f":"IFERROR(RTD(\"cqg.rtd\", ,\"ContractData\",AB42, \"PerCentNetLastTrade\",, \"T\")/100,\"\")","v":-0.17647058823529413},{"$f":"IFERROR(RTD(\"cqg.rtd\",,\"StudyData\",AB42, \"Vol\", \"VolType=Exchange,CoCType=Exchange\", \"Vol\",\"ADC\",\"0\",\"ALL\",,,\"TRUE\",\"T\")/ RTD(\"cqg.rtd\",,\"StudyData\",AB42, \"MA\", \"InputChoice=ContractVol,MAType=Sim,Period=21\", \"MA\",\"D\",\"-1\",\"all\",,,,\"T\"),\"\")","v":0.33665115823336461},{"$f":"IF(R42=\"\",\"\",IFERROR(RTD(\"cqg.rtd\", ,\"ContractData\",AB42, \"Open\",, \"T\"),\"\"))","v":0.17},{"$f":"IF(R42=\"\",\"\",IFERROR(RTD(\"cqg.rtd\", ,\"ContractData\",AB42, \"High\",, \"T\"),\"\"))","v":0.18},{"$f":"IF(R42=\"\",\"\",IFERROR(RTD(\"cqg.rtd\", ,\"ContractData\",AB42, \"Low\",, \"T\"),\"\"))","v":0.14000000000000001},{"$f":"NASDAQ!N6","v":"S.US.IDXG"}]
[{"$f":"NYSE!N7","v":"S.US.OOMA"},{"$f":"IFERROR(RTD(\"cqg.rtd\",,\"ContractData\",A43,\"LongDescription\",,\"T\")&\"  (\"&RIGHT(A43,LEN(A43)-5)&\")\",\"\")","v":"Ooma, Inc.  (OOMA)"},null,null,{"$f":"IF(B43=\"\",\"\",IFERROR(RTD(\"cqg.rtd\",,\"ContractData\",A43,\"LastTrade\",,\"T\"),\"\"))","v":8.9500000000000011},{"$f":"IF(B43=\"\",\"\",IFERROR(RTD(\"cqg.rtd\", ,\"ContractData\",A43, \"NetChange\",, \"T\"),\"\"))","v":-0.55000000000000004},{"$f":"IFERROR(RTD(\"cqg.rtd\", ,\"ContractData\",A43, \"PerCentNetLastTrade\",, \"T\")/100,\"\")","v":-5.7894736842105263E-2},{"$f":"IFERROR(RTD(\"cqg.rtd\",,\"StudyData\",A43, \"Vol\", \"VolType=Exchange,CoCType=Exchange\", \"Vol\",\"ADC\",\"0\",\"ALL\",,,\"TRUE\",\"T\")/ RTD(\"cqg.rtd\",,\"StudyData\",A43, \"MA\", \"InputChoice=ContractVol,MAType=Sim,Period=21\", \"MA\",\"D\",\"-1\",\"all\",,,,\"T\"),\"\")","v":0.82948459644228612},{"$f":"IF(B43=\"\",\"\",IFERROR(RTD(\"cqg.rtd\", ,\"ContractData\",A43, \"Open\",, \"T\"),\"\"))","v":9.9},{"$f":"IF(B43=\"\",\"\",IFERROR(RTD(\"cqg.rtd\", ,\"ContractData\",A43, \"High\",, \"T\"),\"\"))","v":9.9},{"$f":"IF(B43=\"\",\"\",IFERROR(RTD(\"cqg.rtd\",,\"ContractData\",A43,\"Low\",,\"T\"),\"\"))","v":8.9},{"$f":"IFERROR(RTD(\"cqg.rtd\", ,\"ContractData\",\"DJIUC\", \"LastTrade\",, \"T\"),\"\")","v":66},null,null,{"$f":"IFERROR(RTD(\"cqg.rtd\", ,\"ContractData\",\"NASIUC\", \"LastTrade\",, \"T\"),\"\")","v":164},null,null,{"$f":"IFERROR(RTD(\"cqg.rtd\",,\"ContractData\",AB43,\"LongDescription\",,\"T\")&\"  (\"&RIGHT(AB43,LEN(AB43)-5)&\")\",\"\")","v":"Transgenomic, Inc.  (TBIO)"},null,null,{"$f":"IF(R43=\"\",\"\",IFERROR(RTD(\"cqg.rtd\",,\"ContractData\",AB43,\"LastTrade\",,\"T\"),\"\"))","v":0.19},{"$f":"IF(R43=\"\",\"\",IFERROR(RTD(\"cqg.rtd\", ,\"ContractData\",AB43, \"NetChange\",, \"T\"),\"\"))","v":-0.04},{"$f":"IFERROR(RTD(\"cqg.rtd\", ,\"ContractData\",AB43, \"PerCentNetLastTrade\",, \"T\")/100,\"\")","v":-0.17391304347826086},{"$f":"IFERROR(RTD(\"cqg.rtd\",,\"StudyData\",AB43, \"Vol\", \"VolType=Exchange,CoCType=Exchange\", \"Vol\",\"ADC\",\"0\",\"ALL\",,,\"TRUE\",\"T\")/ RTD(\"cqg.rtd\",,\"StudyData\",AB43, \"MA\", \"InputChoice=ContractVol,MAType=Sim,Period=21\", \"MA\",\"D\",\"-1\",\"all\",,,,\"T\"),\"\")","v":0.23856443462170349},{"$f":"IF(R43=\"\",\"\",IFERROR(RTD(\"cqg.rtd\", ,\"ContractData\",AB43, \"Open\",, \"T\"),\"\"))","v":0.23},{"$f":"IF(R43=\"\",\"\",IFERROR(RTD(\"cqg.rtd\", ,\"ContractData\",AB43, \"High\",, \"T\"),\"\"))","v":0.23},{"$f":"IF(R43=\"\",\"\",IFERROR(RTD(\"cqg.rtd\", ,\"ContractData\",AB43, \"Low\",, \"T\"),\"\"))","v":0.19},{"$f":"NASDAQ!N7","v":"S.US.TBIO"}]
[{"$f":"NYSE!N8","v":"S.US.EVGN"},{"$f":"IFERROR(RTD(\"cqg.rtd\",,\"ContractData\",A44,\"LongDescription\",,\"T\")&\"  (\"&RIGHT(A44,LEN(A44)-5)&\")\",\"\")","v":"EvoGene Ltd.  (EVGN)"},null,null,{"$f":"IF(B44=\"\",\"\",IFERROR(RTD(\"cqg.rtd\",,\"ContractData\",A44,\"LastTrade\",,\"T\"),\"\"))","v":5.44},{"$f":"IF(B44=\"\",\"\",IFERROR(RTD(\"cqg.rtd\", ,\"ContractData\",A44, \"NetChange\",, \"T\"),\"\"))","v":-7.0000000000000007E-2},{"$f":"IFERROR(RTD(\"cqg.rtd\", ,\"ContractData\",A44, \"PerCentNetLastTrade\",, \"T\")/100,\"\")","v":-5.0610820244328093E-2},{"$f":"IFERROR(RTD(\"cqg.rtd\",,\"StudyData\",A44, \"Vol\", \"VolType=Exchange,CoCType=Exchange\", \"Vol\",\"ADC\",\"0\",\"ALL\",,,\"TRUE\",\"T\")/ RTD(\"cqg.rtd\",,\"StudyData\",A44, \"MA\", \"InputChoice=ContractVol,MAType=Sim,Period=21\", \"MA\",\"D\",\"-1\",\"all\",,,,\"T\"),\"\")","v":0.16261961391684285},{"$f":"IF(B44=\"\",\"\",IFERROR(RTD(\"cqg.rtd\", ,\"ContractData\",A44, \"Open\",, \"T\"),\"\"))","v":5.55},{"$f":"IF(B44=\"\",\"\",IFERROR(RTD(\"cqg.rtd\", ,\"ContractData\",A44, \"High\",, \"T\"),\"\"))","v":5.55},{"$f":"IF(B44=\"\",\"\",IFERROR(RTD(\"cqg.rtd\",,\"ContractData\",A44,\"Low\",,\"T\"),\"\"))","v":5.44},"NYSE Tick",null,null,"NASDAQ Tick",null,null,{"$f":"IFERROR(RTD(\"cqg.rtd\",,\"ContractData\",AB44,\"LongDescription\",,\"T\")&\"  (\"&RIGHT(AB44,LEN(AB44)-5)&\")\",\"\")","v":"Dataram Corp  (DRAM)"},null,null,{"$f":"IF(R44=\"\",\"\",IFERROR(RTD(\"cqg.rtd\",,\"ContractData\",AB44,\"LastTrade\",,\"T\"),\"\"))","v":1.2},{"$f":"IF(R44=\"\",\"\",IFERROR(RTD(\"cqg.rtd\", ,\"ContractData\",AB44, \"NetChange\",, \"T\"),\"\"))","v":-0.21},{"$f":"IFERROR(RTD(\"cqg.rtd\", ,\"ContractData\",AB44, \"PerCentNetLastTrade\",, \"T\")/100,\"\")","v":-0.14893617021276595},{"$f":"IFERROR(RTD(\"cqg.rtd\",,\"StudyData\",AB44, \"Vol\", \"VolType=Exchange,CoCType=Exchange\", \"Vol\",\"ADC\",\"0\",\"ALL\",,,\"TRUE\",\"T\")/ RTD(\"cqg.rtd\",,\"StudyData\",AB44, \"MA\", \"InputChoice=ContractVol,MAType=Sim,Period=21\", \"MA\",\"D\",\"-1\",\"all\",,,,\"T\"),\"\")","v":0.96863955387095468},{"$f":"IF(R44=\"\",\"\",IFERROR(RTD(\"cqg.rtd\", ,\"ContractData\",AB44, \"Open\",, \"T\"),\"\"))","v":1.3900000000000001},{"$f":"IF(R44=\"\",\"\",IFERROR(RTD(\"cqg.rtd\", ,\"ContractData\",AB44, \"High\",, \"T\"),\"\"))","v":1.4000000000000001},{"$f":"IF(R44=\"\",\"\",IFERROR(RTD(\"cqg.rtd\", ,\"ContractData\",AB44, \"Low\",, \"T\"),\"\"))","v":1.1500000000000001},{"$f":"NASDAQ!N8","v":"S.US.DRAM"}]
[{"$f":"NYSE!N9","v":"S.US.NOMD"},{"$f":"IFERROR(RTD(\"cqg.rtd\",,\"ContractData\",A45,\"LongDescription\",,\"T\")&\"  (\"&RIGHT(A45,LEN(A45)-5)&\")\",\"\")","v":"Nomad Holdings Ltd.  (NOMD)"},null,null,{"$f":"IF(B45=\"\",\"\",IFERROR(RTD(\"cqg.rtd\",,\"ContractData\",A45,\"LastTrade\",,\"T\"),\"\"))","v":9.5},{"$f":"IF(B45=\"\",\"\",IFERROR(RTD(\"cqg.rtd\", ,\"ContractData\",A45, \"NetChange\",, \"T\"),\"\"))","v":-0.5},{"$f":"IFERROR(RTD(\"cqg.rtd\", ,\"ContractData\",A45, \"PerCentNetLastTrade\",, \"T\")/100,\"\")","v":-0.05},{"$f":"IFERROR(RTD(\"cqg.rtd\",,\"StudyData\",A45, \"Vol\", \"VolType=Exchange,CoCType=Exchange\", \"Vol\",\"ADC\",\"0\",\"ALL\",,,\"TRUE\",\"T\")/ RTD(\"cqg.rtd\",,\"StudyData\",A45, \"MA\", \"InputChoice=ContractVol,MAType=Sim,Period=21\", \"MA\",\"D\",\"-1\",\"all\",,,,\"T\"),\"\")","v":0.89222805300911179},{"$f":"IF(B45=\"\",\"\",IFERROR(RTD(\"cqg.rtd\", ,\"ContractData\",A45, \"Open\",, \"T\"),\"\"))","v":10.1},{"$f":"IF(B45=\"\",\"\",IFERROR(RTD(\"cqg.rtd\", ,\"ContractData\",A45, \"High\",, \"T\"),\"\"))","v":10.120000000000001},{"$f":"IF(B45=\"\",\"\",IFERROR(RTD(\"cqg.rtd\",,\"ContractData\",A45,\"Low\",,\"T\"),\"\"))","v":9.49},null,null,null,null,null,null,{"$f":"IFERROR(RTD(\"cqg.rtd\",,\"ContractData\",AB45,\"LongDescription\",,\"T\")&\"  (\"&RIGHT(AB45,LEN(AB45)-5)&\")\",\"\")","v":"OptimumBank Holdings Inc  (OPHC)"},null,null,{"$f":"IF(R45=\"\",\"\",IFERROR(RTD(\"cqg.rtd\",,\"ContractData\",AB45,\"LastTrade\",,\"T\"),\"\"))","v":4.2700000000000005},{"$f":"IF(R45=\"\",\"\",IFERROR(RTD(\"cqg.rtd\", ,\"ContractData\",AB45, \"NetChange\",, \"T\"),\"\"))","v":-0.04},{"$f":"IFERROR(RTD(\"cqg.rtd\", ,\"ContractData\",AB45, \"PerCentNetLastTrade\",, \"T\")/100,\"\")","v":-0.14428857715430862},{"$f":"IFERROR(RTD(\"cqg.rtd\",,\"StudyData\",AB45, \"Vol\", \"VolType=Exchange,CoCType=Exchange\", \"Vol\",\"ADC\",\"0\",\"ALL\",,,\"TRUE\",\"T\")/ RTD(\"cqg.rtd\",,\"StudyData\",AB45, \"MA\", \"InputChoice=ContractVol,MAType=Sim,Period=21\", \"MA\",\"D\",\"-1\",\"all\",,,,\"T\"),\"\")","v":7.1834165697229821E-2},{"$f":"IF(R45=\"\",\"\",IFERROR(RTD(\"cqg.rtd\", ,\"ContractData\",AB45, \"Open\",, \"T\"),\"\"))","v":4.2700000000000005},{"$f":"IF(R45=\"\",\"\",IFERROR(RTD(\"cqg.rtd\", ,\"ContractData\",AB45, \"High\",, \"T\"),\"\"))","v":4.2700000000000005},{"$f":"IF(R45=\"\",\"\",IFERROR(RTD(\"cqg.rtd\", ,\"ContractData\",AB45, \"Low\",, \"T\"),\"\"))","v":4.2700000000000005},{"$f":"NASDAQ!N9","v":"S.US.OPHC"}]
[{"$f":"NYSE!N10","v":"S.US.GWRE"},{"$f":"IFERROR(RTD(\"cqg.rtd\",,\"ContractData\",A46,\"LongDescription\",,\"T\")&\"  (\"&RIGHT(A46,LEN(A46)-5)&\")\",\"\")","v":"Guidewire Software, Inc.  (GWRE)"},null,null,{"$f":"IF(B46=\"\",\"\",IFERROR(RTD(\"cqg.rtd\",,\"ContractData\",A46,\"LastTrade\",,\"T\"),\"\"))","v":54.69},{"$f":"IF(B46=\"\",\"\",IFERROR(RTD(\"cqg.rtd\", ,\"ContractData\",A46, \"NetChange\",, \"T\"),\"\"))","v":-2.86},{"$f":"IFERROR(RTD(\"cqg.rtd\", ,\"ContractData\",A46, \"PerCentNetLastTrade\",, \"T\")/100,\"\")","v":-4.9695916594265858E-2},{"$f":"IFERROR(RTD(\"cqg.rtd\",,\"StudyData\",A46, \"Vol\", \"VolType=Exchange,CoCType=Exchange\", \"Vol\",\"ADC\",\"0\",\"ALL\",,,\"TRUE\",\"T\")/ RTD(\"cqg.rtd\",,\"StudyData\",A46, \"MA\", \"InputChoice=ContractVol,MAType=Sim,Period=21\", \"MA\",\"D\",\"-1\",\"all\",,,,\"T\"),\"\")","v":1.5256311296393583},{"$f":"IF(B46=\"\",\"\",IFERROR(RTD(\"cqg.rtd\", ,\"ContractData\",A46, \"Open\",, \"T\"),\"\"))","v":58.86},{"$f":"IF(B46=\"\",\"\",IFERROR(RTD(\"cqg.rtd\", ,\"ContractData\",A46, \"High\",, \"T\"),\"\"))","v":58.96},{"$f":"IF(B46=\"\",\"\",IFERROR(RTD(\"cqg.rtd\",,\"ContractData\",A46,\"Low\",,\"T\"),\"\"))","v":52.97},{"$f":"IFERROR(RTD(\"cqg.rtd\", ,\"ContractData\",\"DJTIC\", \"LastTrade\",, \"T\"),\"\")","v":-69},null,null,{"$f":"IFERROR(RTD(\"cqg.rtd\", ,\"ContractData\",\"NASTIC\", \"LastTrade\",, \"T\"),\"\")","v":96},null,null,{"$f":"IFERROR(RTD(\"cqg.rtd\",,\"ContractData\",AB46,\"LongDescription\",,\"T\")&\"  (\"&RIGHT(AB46,LEN(AB46)-5)&\")\",\"\")","v":"PAVmed Inc.  (PAVM)"},null,null,{"$f":"IF(R46=\"\",\"\",IFERROR(RTD(\"cqg.rtd\",,\"ContractData\",AB46,\"LastTrade\",,\"T\"),\"\"))","v":7.45},{"$f":"IF(R46=\"\",\"\",IFERROR(RTD(\"cqg.rtd\", ,\"ContractData\",AB46, \"NetChange\",, \"T\"),\"\"))","v":-0.2},{"$f":"IFERROR(RTD(\"cqg.rtd\", ,\"ContractData\",AB46, \"PerCentNetLastTrade\",, \"T\")/100,\"\")","v":-0.14367816091954022},{"$f":"IFERROR(RTD(\"cqg.rtd\",,\"StudyData\",AB46, \"Vol\", \"VolType=Exchange,CoCType=Exchange\", \"Vol\",\"ADC\",\"0\",\"ALL\",,,\"TRUE\",\"T\")/ RTD(\"cqg.rtd\",,\"StudyData\",AB46, \"MA\", \"InputChoice=ContractVol,MAType=Sim,Period=21\", \"MA\",\"D\",\"-1\",\"all\",,,,\"T\"),\"\")","v":6.8217215242517087E-2},{"$f":"IF(R46=\"\",\"\",IFERROR(RTD(\"cqg.rtd\", ,\"ContractData\",AB46, \"Open\",, \"T\"),\"\"))","v":7.45},{"$f":"IF(R46=\"\",\"\",IFERROR(RTD(\"cqg.rtd\", ,\"ContractData\",AB46, \"High\",, \"T\"),\"\"))","v":7.45},{"$f":"IF(R46=\"\",\"\",IFERROR(RTD(\"cqg.rtd\", ,\"ContractData\",AB46, \"Low\",, \"T\"),\"\"))","v":7.45},{"$f":"NASDAQ!N10","v":"S.US.PAVM"}]
[null,null,"  Copyright © 2016",null,"Designed by Thom Hartle",null,null,null,null,null,null,null,null,null,null,null,null,null,null,"To better manage performance the dashboard ranking does not update on every quote, but once every"]
[null,null,null,null,null,null,null,null,null,null,null,null,null,null,null,null,null,null,null,"second. Click \"Rank\" to force an update if the percent net change column is out of order."]

{"sheet":"Symbols","index":1,"n_rows":41,"n_cols":51,"rows_kept":41,"cut":false,"hidden":false,"merged":[]}
[]
[null,null,null,null,"Requires Real-Time Data"]
[null,null,"Left hand display",null,null,null,null,"Right hand display",null,null,null,"DJUPV",null,null,"DJDNV",null,null,"NASUPV",null,null,"NASDNV",null,null,"DJUCV",null,null,"NASUCV",null,null,"DJIUP",null,null,"NASIUP",null,null,"DJIDN",null,null,"NASIDN",null,null,"DJIUC",null,null,"NASIUC",null,null,"DJTIC",null,null,"NASTIC"]
[null,null,"Symbols","Description",null,null,null,"Symbols","Description",null,-10,{"$f":"RTD(\"cqg.rtd\",,\"StudyData\",$L$3,\"Bar\",,\"Close\",\"5\",K4,,,,,\"T\")","v":51718},null,-10,{"$f":"RTD(\"cqg.rtd\",,\"StudyData\",$O$3,\"Bar\",,\"Close\",\"5\",N4,,,,,\"T\")","v":19933},null,-10,{"$f":"RTD(\"cqg.rtd\",,\"StudyData\",$R$3,\"Bar\",,\"Close\",\"5\",Q4,,,,,\"T\")","v":36587},null,-10,{"$f":"RTD(\"cqg.rtd\",,\"StudyData\",$U$3,\"Bar\",,\"Close\",\"5\",T4,,,,,\"T\")","v":28494},null,-10,{"$f":"RTD(\"cqg.rtd\",,\"StudyData\",$X$3,\"Bar\",,\"Close\",\"5\",W4,,,,,\"T\")","v":848},null,-10,{"$f":"RTD(\"cqg.rtd\",,\"StudyData\",$AA$3,\"Bar\",,\"Close\",\"5\",Z4,,,,,\"T\")","v":13786},null,-10,{"$f":"RTD(\"cqg.rtd\",,\"StudyData\",$AD$3,\"Bar\",,\"Close\",\"5\",AC4,,,,,\"T\")","v":1583},null,-10,{"$f":"RTD(\"cqg.rtd\",,\"StudyData\",$AG$3,\"Bar\",,\"Close\",\"5\",AF4,,,,,\"T\")","v":1456},null,-10,{"$f":"RTD(\"cqg.rtd\",,\"StudyData\",$AJ$3,\"Bar\",,\"Close\",\"5\",AI4,,,,,\"T\")","v":1132},null,-10,{"$f":"RTD(\"cqg.rtd\",,\"StudyData\",$AM$3,\"Bar\",,\"Close\",\"5\",AL4,,,,,\"T\")","v":774},null,-10,{"$f":"RTD(\"cqg.rtd\",,\"StudyData\",$AP$3,\"Bar\",,\"Close\",\"5\",AO4,,,,,\"T\")","v":107},null,-10,{"$f":"RTD(\"cqg.rtd\",,\"StudyData\",$AS$3,\"Bar\",,\"Close\",\"5\",AR4,,,,,\"T\")","v":209},null,-10,{"$f":"RTD(\"cqg.rtd\",,\"StudyData\",$AV$3,\"Bar\",,\"Close\",\"5\",AU4,,,,,\"T\")","v":-64},null,-10,{"$f":"RTD(\"cqg.rtd\",,\"StudyData\",$AY$3,\"Bar\",,\"Close\",\"5\",AX4,,,,,\"T\")","v":242}]
[null,null,"X.US.SPC",{"$f":"RTD(\"cqg.rtd\", ,\"ContractData\",C5, \"LongDescription\",, \"T\")","v":"S&P 500"},null,null,null,"X.US.NQCOMP",{"$f":"RTD(\"cqg.rtd\", ,\"ContractData\",H5, \"LongDescription\",, \"T\")","v":"NASDAQ Composite Index"},null,{"$f":"K4+1","v":-9},{"$f":"RTD(\"cqg.rtd\",,\"StudyData\",$L$3,\"Bar\",,\"Close\",\"5\",K5,,,,,\"T\")","v":70853},null,{"$f":"N4+1","v":-9},{"$f":"RTD(\"cqg.rtd\",,\"StudyData\",$O$3,\"Bar\",,\"Close\",\"5\",N5,,,,,\"T\")","v":24655},null,{"$f":"Q4+1","v":-9},{"$f":"RTD(\"cqg.rtd\",,\"StudyData\",$R$3,\"Bar\",,\"Close\",\"5\",Q5,,,,,\"T\")","v":57673},null,{"$f":"T4+1","v":-9},{"$f":"RTD(\"cqg.rtd\",,\"StudyData\",$U$3,\"Bar\",,\"Close\",\"5\",T5,,,,,\"T\")","v":40912},null,{"$f":"W4+1","v":-9},{"$f":"RTD(\"cqg.rtd\",,\"StudyData\",$X$3,\"Bar\",,\"Close\",\"5\",W5,,,,,\"T\")","v":1559},null,{"$f":"Z4+1","v":-9},{"$f":"RTD(\"cqg.rtd\",,\"StudyData\",$AA$3,\"Bar\",,\"Close\",\"5\",Z5,,,,,\"T\")","v":23738},null,{"$f":"AC4+1","v":-9},{"$f":"RTD(\"cqg.rtd\",,\"StudyData\",$AD$3,\"Bar\",,\"Close\",\"5\",AC5,,,,,\"T\")","v":1561},null,{"$f":"AF4+1","v":-9},{"$f":"RTD(\"cqg.rtd\",,\"StudyData\",$AG$3,\"Bar\",,\"Close\",\"5\",AF5,,,,,\"T\")","v":1403},null,{"$f":"AI4+1","v":-9},{"$f":"RTD(\"cqg.rtd\",,\"StudyData\",$AJ$3,\"Bar\",,\"Close\",\"5\",AI5,,,,,\"T\")","v":1185},null,{"$f":"AL4+1","v":-9},{"$f":"RTD(\"cqg.rtd\",,\"StudyData\",$AM$3,\"Bar\",,\"Close\",\"5\",AL5,,,,,\"T\")","v":885},null,{"$f":"AO4+1","v":-9},{"$f":"RTD(\"cqg.rtd\",,\"StudyData\",$AP$3,\"Bar\",,\"Close\",\"5\",AO5,,,,,\"T\")","v":111},null,{"$f":"AR4+1","v":-9},{"$f":"RTD(\"cqg.rtd\",,\"StudyData\",$AS$3,\"Bar\",,\"Close\",\"5\",AR5,,,,,\"T\")","v":200},null,{"$f":"AU4+1","v":-9},{"$f":"RTD(\"cqg.rtd\",,\"StudyData\",$AV$3,\"Bar\",,\"Close\",\"5\",AU5,,,,,\"T\")","v":-118},null,{"$f":"AX4+1","v":-9},{"$f":"RTD(\"cqg.rtd\",,\"StudyData\",$AY$3,\"Bar\",,\"Close\",\"5\",AX5,,,,,\"T\")","v":182}]
[null,null,"X.US.DJI",{"$f":"RTD(\"cqg.rtd\", ,\"ContractData\",C6, \"LongDescription\",, \"T\")","v":"DJ Industrial Average"},null,null,null,"X.US.NDX",{"$f":"RTD(\"cqg.rtd\", ,\"ContractData\",H6, \"LongDescription\",, \"T\")","v":"NASDAQ-100 Index"},null,{"$f":"K5+1","v":-8},{"$f":"RTD(\"cqg.rtd\",,\"StudyData\",$L$3,\"Bar\",,\"Close\",\"5\",K6,,,,,\"T\")","v":82583},null,{"$f":"N5+1","v":-8},{"$f":"RTD(\"cqg.rtd\",,\"StudyData\",$O$3,\"Bar\",,\"Close\",\"5\",N6,,,,,\"T\")","v":30634},null,{"$f":"Q5+1","v":-8},{"$f":"RTD(\"cqg.rtd\",,\"StudyData\",$R$3,\"Bar\",,\"Close\",\"5\",Q6,,,,,\"T\")","v":73020},null,{"$f":"T5+1","v":-8},{"$f":"RTD(\"cqg.rtd\",,\"StudyData\",$U$3,\"Bar\",,\"Close\",\"5\",T6,,,,,\"T\")","v":55397},null,{"$f":"W5+1","v":-8},{"$f":"RTD(\"cqg.rtd\",,\"StudyData\",$X$3,\"Bar\",,\"Close\",\"5\",W6,,,,,\"T\")","v":794},null,{"$f":"Z5+1","v":-8},{"$f":"RTD(\"cqg.rtd\",,\"StudyData\",$AA$3,\"Bar\",,\"Close\",\"5\",Z6,,,,,\"T\")","v":24862},null,{"$f":"AC5+1","v":-8},{"$f":"RTD(\"cqg.rtd\",,\"StudyData\",$AD$3,\"Bar\",,\"Close\",\"5\",AC6,,,,,\"T\")","v":1528},null,{"$f":"AF5+1","v":-8},{"$f":"RTD(\"cqg.rtd\",,\"StudyData\",$AG$3,\"Bar\",,\"Close\",\"5\",AF6,,,,,\"T\")","v":1350},null,{"$f":"AI5+1","v":-8},{"$f":"RTD(\"cqg.rtd\",,\"StudyData\",$AJ$3,\"Bar\",,\"Close\",\"5\",AI6,,,,,\"T\")","v":1261},null,{"$f":"AL5+1","v":-8},{"$f":"RTD(\"cqg.rtd\",,\"StudyData\",$AM$3,\"Bar\",,\"Close\",\"5\",AL6,,,,,\"T\")","v":972},null,{"$f":"AO5+1","v":-8},{"$f":"RTD(\"cqg.rtd\",,\"StudyData\",$AP$3,\"Bar\",,\"Close\",\"5\",AO6,,,,,\"T\")","v":100},null,{"$f":"AR5+1","v":-8},{"$f":"RTD(\"cqg.rtd\",,\"StudyData\",$AS$3,\"Bar\",,\"Close\",\"5\",AR6,,,,,\"T\")","v":204},null,{"$f":"AU5+1","v":-8},{"$f":"RTD(\"cqg.rtd\",,\"StudyData\",$AV$3,\"Bar\",,\"Close\",\"5\",AU6,,,,,\"T\")","v":-229},null,{"$f":"AX5+1","v":-8},{"$f":"RTD(\"cqg.rtd\",,\"StudyData\",$AY$3,\"Bar\",,\"Close\",\"5\",AX6,,,,,\"T\")","v":89}]
[null,null,"X.US.NYK",{"$f":"RTD(\"cqg.rtd\", ,\"ContractData\",C7, \"LongDescription\",, \"T\")","v":"NYSE Financial Index"},null,null,null,"X.US.IXF",{"$f":"RTD(\"cqg.rtd\", ,\"ContractData\",H7, \"LongDescription\",, \"T\")","v":"NASDAQ Financial 100"},null,-7,{"$f":"RTD(\"cqg.rtd\",,\"StudyData\",$L$3,\"Bar\",,\"Close\",\"5\",K7,,,,,\"T\")","v":96330},null,-7,{"$f":"RTD(\"cqg.rtd\",,\"StudyData\",$O$3,\"Bar\",,\"Close\",\"5\",N7,,,,,\"T\")","v":34822},null,-7,{"$f":"RTD(\"cqg.rtd\",,\"StudyData\",$R$3,\"Bar\",,\"Close\",\"5\",Q7,,,,,\"T\")","v":89043},null,-7,{"$f":"RTD(\"cqg.rtd\",,\"StudyData\",$U$3,\"Bar\",,\"Close\",\"5\",T7,,,,,\"T\")","v":71436},null,-7,{"$f":"RTD(\"cqg.rtd\",,\"StudyData\",$X$3,\"Bar\",,\"Close\",\"5\",W7,,,,,\"T\")","v":987},null,-7,{"$f":"RTD(\"cqg.rtd\",,\"StudyData\",$AA$3,\"Bar\",,\"Close\",\"5\",Z7,,,,,\"T\")","v":25206},null,-7,{"$f":"RTD(\"cqg.rtd\",,\"StudyData\",$AD$3,\"Bar\",,\"Close\",\"5\",AC7,,,,,\"T\")","v":1494},null,-7,{"$f":"RTD(\"cqg.rtd\",,\"StudyData\",$AG$3,\"Bar\",,\"Close\",\"5\",AF7,,,,,\"T\")","v":1318},null,-7,{"$f":"RTD(\"cqg.rtd\",,\"StudyData\",$AJ$3,\"Bar\",,\"Close\",\"5\",AI7,,,,,\"T\")","v":1315},null,-7,{"$f":"RTD(\"cqg.rtd\",,\"StudyData\",$AM$3,\"Bar\",,\"Close\",\"5\",AL7,,,,,\"T\")","v":1061},null,-7,{"$f":"RTD(\"cqg.rtd\",,\"StudyData\",$AP$3,\"Bar\",,\"Close\",\"5\",AO7,,,,,\"T\")","v":95},null,-7,{"$f":"RTD(\"cqg.rtd\",,\"StudyData\",$AS$3,\"Bar\",,\"Close\",\"5\",AR7,,,,,\"T\")","v":192},null,-7,{"$f":"RTD(\"cqg.rtd\",,\"StudyData\",$AV$3,\"Bar\",,\"Close\",\"5\",AU7,,,,,\"T\")","v":-227},null,-7,{"$f":"RTD(\"cqg.rtd\",,\"StudyData\",$AY$3,\"Bar\",,\"Close\",\"5\",AX7,,,,,\"T\")","v":7}]
[null,null,"X.US.BTK",{"$f":"RTD(\"cqg.rtd\", ,\"ContractData\",C8, \"LongDescription\",, \"T\")","v":"Biotechnology Index"},null,null,null,"X.US.NBI",{"$f":"RTD(\"cqg.rtd\", ,\"ContractData\",H8, \"LongDescription\",, \"T\")","v":"NASDAQ Biotechnology"},null,-6,{"$f":"RTD(\"cqg.rtd\",,\"StudyData\",$L$3,\"Bar\",,\"Close\",\"5\",K8,,,,,\"T\")","v":103001},null,-6,{"$f":"RTD(\"cqg.rtd\",,\"StudyData\",$O$3,\"Bar\",,\"Close\",\"5\",N8,,,,,\"T\")","v":44043},null,-6,{"$f":"RTD(\"cqg.rtd\",,\"StudyData\",$R$3,\"Bar\",,\"Close\",\"5\",Q8,,,,,\"T\")","v":101813},null,-6,{"$f":"RTD(\"cqg.rtd\",,\"StudyData\",$U$3,\"Bar\",,\"Close\",\"5\",T8,,,,,\"T\")","v":89064},null,-6,{"$f":"RTD(\"cqg.rtd\",,\"StudyData\",$X$3,\"Bar\",,\"Close\",\"5\",W8,,,,,\"T\")","v":1696},null,-6,{"$f":"RTD(\"cqg.rtd\",,\"StudyData\",$AA$3,\"Bar\",,\"Close\",\"5\",Z8,,,,,\"T\")","v":21803},null,-6,{"$f":"RTD(\"cqg.rtd\",,\"StudyData\",$AD$3,\"Bar\",,\"Close\",\"5\",AC8,,,,,\"T\")","v":1356},null,-6,{"$f":"RTD(\"cqg.rtd\",,\"StudyData\",$AG$3,\"Bar\",,\"Close\",\"5\",AF8,,,,,\"T\")","v":1255},null,-6,{"$f":"RTD(\"cqg.rtd\",,\"StudyData\",$AJ$3,\"Bar\",,\"Close\",\"5\",AI8,,,,,\"T\")","v":1467},null,-6,{"$f":"RTD(\"cqg.rtd\",,\"StudyData\",$AM$3,\"Bar\",,\"Close\",\"5\",AL8,,,,,\"T\")","v":1178},null,-6,{"$f":"RTD(\"cqg.rtd\",,\"StudyData\",$AP$3,\"Bar\",,\"Close\",\"5\",AO8,,,,,\"T\")","v":106},null,-6,{"$f":"RTD(\"cqg.rtd\",,\"StudyData\",$AS$3,\"Bar\",,\"Close\",\"5\",AR8,,,,,\"T\")","v":163},null,-6,{"$f":"RTD(\"cqg.rtd\",,\"StudyData\",$AV$3,\"Bar\",,\"Close\",\"5\",AU8,,,,,\"T\")","v":-383},null,-6,{"$f":"RTD(\"cqg.rtd\",,\"StudyData\",$AY$3,\"Bar\",,\"Close\",\"5\",AX8,,,,,\"T\")","v":-16}]
[null,null,"X.US.NYPID",{"$f":"RTD(\"cqg.rtd\", ,\"ContractData\",C9, \"LongDescription\",, \"T\")","v":"NYSE Healthcare Index"},null,null,null,"X.US.NHC",{"$f":"RTD(\"cqg.rtd\", ,\"ContractData\",H9, \"LongDescription\",, \"T\")","v":"Nasdaq Health Care Index"},null,-5,{"$f":"RTD(\"cqg.rtd\",,\"StudyData\",$L$3,\"Bar\",,\"Close\",\"5\",K9,,,,,\"T\")","v":114345},null,-5,{"$f":"RTD(\"cqg.rtd\",,\"StudyData\",$O$3,\"Bar\",,\"Close\",\"5\",N9,,,,,\"T\")","v":48630},null,-5,{"$f":"RTD(\"cqg.rtd\",,\"StudyData\",$R$3,\"Bar\",,\"Close\",\"5\",Q9,,,,,\"T\")","v":114434},null,-5,{"$f":"RTD(\"cqg.rtd\",,\"StudyData\",$U$3,\"Bar\",,\"Close\",\"5\",T9,,,,,\"T\")","v":101008},null,-5,{"$f":"RTD(\"cqg.rtd\",,\"StudyData\",$X$3,\"Bar\",,\"Close\",\"5\",W9,,,,,\"T\")","v":1132},null,-5,{"$f":"RTD(\"cqg.rtd\",,\"StudyData\",$AA$3,\"Bar\",,\"Close\",\"5\",Z9,,,,,\"T\")","v":29905},null,-5,{"$f":"RTD(\"cqg.rtd\",,\"StudyData\",$AD$3,\"Bar\",,\"Close\",\"5\",AC9,,,,,\"T\")","v":1392},null,-5,{"$f":"RTD(\"cqg.rtd\",,\"StudyData\",$AG$3,\"Bar\",,\"Close\",\"5\",AF9,,,,,\"T\")","v":1346},null,-5,{"$f":"RTD(\"cqg.rtd\",,\"StudyData\",$AJ$3,\"Bar\",,\"Close\",\"5\",AI9,,,,,\"T\")","v":1466},null,-5,{"$f":"RTD(\"cqg.rtd\",,\"StudyData\",$AM$3,\"Bar\",,\"Close\",\"5\",AL9,,,,,\"T\")","v":1112},null,-5,{"$f":"RTD(\"cqg.rtd\",,\"StudyData\",$AP$3,\"Bar\",,\"Close\",\"5\",AO9,,,,,\"T\")","v":80},null,-5,{"$f":"RTD(\"cqg.rtd\",,\"StudyData\",$AS$3,\"Bar\",,\"Close\",\"5\",AR9,,,,,\"T\")","v":164},null,-5,{"$f":"RTD(\"cqg.rtd\",,\"StudyData\",$AV$3,\"Bar\",,\"Close\",\"5\",AU9,,,,,\"T\")","v":129},null,-5,{"$f":"RTD(\"cqg.rtd\",,\"StudyData\",$AY$3,\"Bar\",,\"Close\",\"5\",AX9,,,,,\"T\")","v":159}]
[null,null,"X.US.IXE",{"$f":"RTD(\"cqg.rtd\", ,\"ContractData\",C10, \"LongDescription\",, \"T\")","v":"S&P 500 Select Sector Energy Index"},null,null,null,"X.US.OSX",{"$f":"RTD(\"cqg.rtd\", ,\"ContractData\",H10, \"LongDescription\",, \"T\")","v":"PHLX Oil Service Sector"},null,-4,{"$f":"RTD(\"cqg.rtd\",,\"StudyData\",$L$3,\"Bar\",,\"Close\",\"5\",K10,,,,,\"T\")","v":124113},null,-4,{"$f":"RTD(\"cqg.rtd\",,\"StudyData\",$O$3,\"Bar\",,\"Close\",\"5\",N10,,,,,\"T\")","v":53487},null,-4,{"$f":"RTD(\"cqg.rtd\",,\"StudyData\",$R$3,\"Bar\",,\"Close\",\"5\",Q10,,,,,\"T\")","v":126858},null,-4,{"$f":"RTD(\"cqg.rtd\",,\"StudyData\",$U$3,\"Bar\",,\"Close\",\"5\",T10,,,,,\"T\")","v":113678},null,-4,{"$f":"RTD(\"cqg.rtd\",,\"StudyData\",$X$3,\"Bar\",,\"Close\",\"5\",W10,,,,,\"T\")","v":1590},null,-4,{"$f":"RTD(\"cqg.rtd\",,\"StudyData\",$AA$3,\"Bar\",,\"Close\",\"5\",Z10,,,,,\"T\")","v":48628},null,-4,{"$f":"RTD(\"cqg.rtd\",,\"StudyData\",$AD$3,\"Bar\",,\"Close\",\"5\",AC10,,,,,\"T\")","v":1464},null,-4,{"$f":"RTD(\"cqg.rtd\",,\"StudyData\",$AG$3,\"Bar\",,\"Close\",\"5\",AF10,,,,,\"T\")","v":1475},null,-4,{"$f":"RTD(\"cqg.rtd\",,\"StudyData\",$AJ$3,\"Bar\",,\"Close\",\"5\",AI10,,,,,\"T\")","v":1406},null,-4,{"$f":"RTD(\"cqg.rtd\",,\"StudyData\",$AM$3,\"Bar\",,\"Close\",\"5\",AL10,,,,,\"T\")","v":1014},null,-4,{"$f":"RTD(\"cqg.rtd\",,\"StudyData\",$AP$3,\"Bar\",,\"Close\",\"5\",AO10,,,,,\"T\")","v":75},null,-4,{"$f":"RTD(\"cqg.rtd\",,\"StudyData\",$AS$3,\"Bar\",,\"Close\",\"5\",AR10,,,,,\"T\")","v":149},null,-4,{"$f":"RTD(\"cqg.rtd\",,\"StudyData\",$AV$3,\"Bar\",,\"Close\",\"5\",AU10,,,,,\"T\")","v":48},null,-4,{"$f":"RTD(\"cqg.rtd\",,\"StudyData\",$AY$3,\"Bar\",,\"Close\",\"5\",AX10,,,,,\"T\")","v":233}]
[null,null,"S.US.BAC",{"$f":"RTD(\"cqg.rtd\", ,\"ContractData\",C11, \"LongDescription\",, \"T\")","v":"Bank of America Corp"},null,null,null,"S.US.SIRI",{"$f":"RTD(\"cqg.rtd\", ,\"ContractData\",H11, \"LongDescription\",, \"T\")","v":"Sirius XM Holdings Inc."},null,-3,{"$f":"RTD(\"cqg.rtd\",,\"StudyData\",$L$3,\"Bar\",,\"Close\",\"5\",K11,,,,,\"T\")","v":139045},null,-3,{"$f":"RTD(\"cqg.rtd\",,\"StudyData\",$O$3,\"Bar\",,\"Close\",\"5\",N11,,,,,\"T\")","v":54618},null,-3,{"$f":"RTD(\"cqg.rtd\",,\"StudyData\",$R$3,\"Bar\",,\"Close\",\"5\",Q11,,,,,\"T\")","v":147258},null,-3,{"$f":"RTD(\"cqg.rtd\",,\"StudyData\",$U$3,\"Bar\",,\"Close\",\"5\",T11,,,,,\"T\")","v":116529},null,-3,{"$f":"RTD(\"cqg.rtd\",,\"StudyData\",$X$3,\"Bar\",,\"Close\",\"5\",W11,,,,,\"T\")","v":796},null,-3,{"$f":"RTD(\"cqg.rtd\",,\"StudyData\",$AA$3,\"Bar\",,\"Close\",\"5\",Z11,,,,,\"T\")","v":104810},null,-3,{"$f":"RTD(\"cqg.rtd\",,\"StudyData\",$AD$3,\"Bar\",,\"Close\",\"5\",AC11,,,,,\"T\")","v":1529},null,-3,{"$f":"RTD(\"cqg.rtd\",,\"StudyData\",$AG$3,\"Bar\",,\"Close\",\"5\",AF11,,,,,\"T\")","v":1574},null,-3,{"$f":"RTD(\"cqg.rtd\",,\"StudyData\",$AJ$3,\"Bar\",,\"Close\",\"5\",AI11,,,,,\"T\")","v":1358},null,-3,{"$f":"RTD(\"cqg.rtd\",,\"StudyData\",$AM$3,\"Bar\",,\"Close\",\"5\",AL11,,,,,\"T\")","v":930},null,-3,{"$f":"RTD(\"cqg.rtd\",,\"StudyData\",$AP$3,\"Bar\",,\"Close\",\"5\",AO11,,,,,\"T\")","v":63},null,-3,{"$f":"RTD(\"cqg.rtd\",,\"StudyData\",$AS$3,\"Bar\",,\"Close\",\"5\",AR11,,,,,\"T\")","v":155},null,-3,{"$f":"RTD(\"cqg.rtd\",,\"StudyData\",$AV$3,\"Bar\",,\"Close\",\"5\",AU11,,,,,\"T\")","v":277},null,-3,{"$f":"RTD(\"cqg.rtd\",,\"StudyData\",$AY$3,\"Bar\",,\"Close\",\"5\",AX11,,,,,\"T\")","v":234}]
[null,null,"S.US.GE",{"$f":"RTD(\"cqg.rtd\", ,\"ContractData\",C12, \"LongDescription\",, \"T\")","v":"General Electric Co"},null,null,null,"S.US.AAPL",{"$f":"RTD(\"cqg.rtd\", ,\"ContractData\",H12, \"LongDescription\",, \"T\")","v":"Apple Inc"},null,-2,{"$f":"RTD(\"cqg.rtd\",,\"StudyData\",$L$3,\"Bar\",,\"Close\",\"5\",K12,,,,,\"T\")","v":146521},null,-2,{"$f":"RTD(\"cqg.rtd\",,\"StudyData\",$O$3,\"Bar\",,\"Close\",\"5\",N12,,,,,\"T\")","v":59427},null,-2,{"$f":"RTD(\"cqg.rtd\",,\"StudyData\",$R$3,\"Bar\",,\"Close\",\"5\",Q12,,,,,\"T\")","v":157552},null,-2,{"$f":"RTD(\"cqg.rtd\",,\"StudyData\",$U$3,\"Bar\",,\"Close\",\"5\",T12,,,,,\"T\")","v":139109},null,-2,{"$f":"RTD(\"cqg.rtd\",,\"StudyData\",$X$3,\"Bar\",,\"Close\",\"5\",W12,,,,,\"T\")","v":1465},null,-2,{"$f":"RTD(\"cqg.rtd\",,\"StudyData\",$AA$3,\"Bar\",,\"Close\",\"5\",Z12,,,,,\"T\")","v":27018},null,-2,{"$f":"RTD(\"cqg.rtd\",,\"StudyData\",$AD$3,\"Bar\",,\"Close\",\"5\",AC12,,,,,\"T\")","v":1490},null,-2,{"$f":"RTD(\"cqg.rtd\",,\"StudyData\",$AG$3,\"Bar\",,\"Close\",\"5\",AF12,,,,,\"T\")","v":1526},null,-2,{"$f":"RTD(\"cqg.rtd\",,\"StudyData\",$AJ$3,\"Bar\",,\"Close\",\"5\",AI12,,,,,\"T\")","v":1406},null,-2,{"$f":"RTD(\"cqg.rtd\",,\"StudyData\",$AM$3,\"Bar\",,\"Close\",\"5\",AL12,,,,,\"T\")","v":1003},null,-2,{"$f":"RTD(\"cqg.rtd\",,\"StudyData\",$AP$3,\"Bar\",,\"Close\",\"5\",AO12,,,,,\"T\")","v":62},null,-2,{"$f":"RTD(\"cqg.rtd\",,\"StudyData\",$AS$3,\"Bar\",,\"Close\",\"5\",AR12,,,,,\"T\")","v":146},null,-2,{"$f":"RTD(\"cqg.rtd\",,\"StudyData\",$AV$3,\"Bar\",,\"Close\",\"5\",AU12,,,,,\"T\")","v":69},null,-2,{"$f":"RTD(\"cqg.rtd\",,\"StudyData\",$AY$3,\"Bar\",,\"Close\",\"5\",AX12,,,,,\"T\")","v":174}]
[null,null,"S.US.SPY",{"$f":"RTD(\"cqg.rtd\", ,\"ContractData\",C13, \"LongDescription\",, \"T\")","v":"SPDR S&P 500"},null,null,null,"S.US.TSLA",{"$f":"RTD(\"cqg.rtd\", ,\"ContractData\",H13, \"LongDescription\",, \"T\")","v":"Tesla Motors, Inc."},null,-1,{"$f":"RTD(\"cqg.rtd\",,\"StudyData\",$L$3,\"Bar\",,\"Close\",\"5\",K13,,,,,\"T\")","v":152360},null,-1,{"$f":"RTD(\"cqg.rtd\",,\"StudyData\",$O$3,\"Bar\",,\"Close\",\"5\",N13,,,,,\"T\")","v":66713},null,-1,{"$f":"RTD(\"cqg.rtd\",,\"StudyData\",$R$3,\"Bar\",,\"Close\",\"5\",Q13,,,,,\"T\")","v":150680},null,-1,{"$f":"RTD(\"cqg.rtd\",,\"StudyData\",$U$3,\"Bar\",,\"Close\",\"5\",T13,,,,,\"T\")","v":167493},null,-1,{"$f":"RTD(\"cqg.rtd\",,\"StudyData\",$X$3,\"Bar\",,\"Close\",\"5\",W13,,,,,\"T\")","v":699},null,-1,{"$f":"RTD(\"cqg.rtd\",,\"StudyData\",$AA$3,\"Bar\",,\"Close\",\"5\",Z13,,,,,\"T\")","v":42949},null,-1,{"$f":"RTD(\"cqg.rtd\",,\"StudyData\",$AD$3,\"Bar\",,\"Close\",\"5\",AC13,,,,,\"T\")","v":1457},null,-1,{"$f":"RTD(\"cqg.rtd\",,\"StudyData\",$AG$3,\"Bar\",,\"Close\",\"5\",AF13,,,,,\"T\")","v":1468},null,-1,{"$f":"RTD(\"cqg.rtd\",,\"StudyData\",$AJ$3,\"Bar\",,\"Close\",\"5\",AI13,,,,,\"T\")","v":1448},null,-1,{"$f":"RTD(\"cqg.rtd\",,\"StudyData\",$AM$3,\"Bar\",,\"Close\",\"5\",AL13,,,,,\"T\")","v":1066},null,-1,{"$f":"RTD(\"cqg.rtd\",,\"StudyData\",$AP$3,\"Bar\",,\"Close\",\"5\",AO13,,,,,\"T\")","v":61},null,-1,{"$f":"RTD(\"cqg.rtd\",,\"StudyData\",$AS$3,\"Bar\",,\"Close\",\"5\",AR13,,,,,\"T\")","v":157},null,-1,{"$f":"RTD(\"cqg.rtd\",,\"StudyData\",$AV$3,\"Bar\",,\"Close\",\"5\",AU13,,,,,\"T\")","v":-70},null,-1,{"$f":"RTD(\"cqg.rtd\",,\"StudyData\",$AY$3,\"Bar\",,\"Close\",\"5\",AX13,,,,,\"T\")","v":106}]
[null,null,"F.US.EP",{"$f":"RTD(\"cqg.rtd\", ,\"ContractData\",C14, \"LongDescription\",, \"T\")","v":"E-Mini S&P 500, Dec 16"},null,null,null,"S.US.MU",{"$f":"RTD(\"cqg.rtd\", ,\"ContractData\",H14, \"LongDescription\",, \"T\")","v":"Micron Technology Inc"},null,{"$f":"K13+1","v":0},{"$f":"RTD(\"cqg.rtd\",,\"StudyData\",$L$3,\"Bar\",,\"Close\",\"5\",K14,,,,,\"T\")","v":149777},null,0,{"$f":"RTD(\"cqg.rtd\",,\"StudyData\",$O$3,\"Bar\",,\"Close\",\"5\",N14,,,,,\"T\")","v":69904},null,0,{"$f":"RTD(\"cqg.rtd\",,\"StudyData\",$R$3,\"Bar\",,\"Close\",\"5\",Q14,,,,,\"T\")","v":149922},null,0,{"$f":"RTD(\"cqg.rtd\",,\"StudyData\",$U$3,\"Bar\",,\"Close\",\"5\",T14,,,,,\"T\")","v":164320},null,0,{"$f":"RTD(\"cqg.rtd\",,\"StudyData\",$X$3,\"Bar\",,\"Close\",\"5\",W14,,,,,\"T\")","v":1120},null,0,{"$f":"RTD(\"cqg.rtd\",,\"StudyData\",$AA$3,\"Bar\",,\"Close\",\"5\",Z14,,,,,\"T\")","v":103852},null,0,{"$f":"RTD(\"cqg.rtd\",,\"StudyData\",$AD$3,\"Bar\",,\"Close\",\"5\",AC14,,,,,\"T\")","v":1446},null,0,{"$f":"RTD(\"cqg.rtd\",,\"StudyData\",$AG$3,\"Bar\",,\"Close\",\"5\",AF14,,,,,\"T\")","v":1460},null,0,{"$f":"RTD(\"cqg.rtd\",,\"StudyData\",$AJ$3,\"Bar\",,\"Close\",\"5\",AI14,,,,,\"T\")","v":1455},null,0,{"$f":"RTD(\"cqg.rtd\",,\"StudyData\",$AM$3,\"Bar\",,\"Close\",\"5\",AL14,,,,,\"T\")","v":1069},null,0,{"$f":"RTD(\"cqg.rtd\",,\"StudyData\",$AP$3,\"Bar\",,\"Close\",\"5\",AO14,,,,,\"T\")","v":66},null,0,{"$f":"RTD(\"cqg.rtd\",,\"StudyData\",$AS$3,\"Bar\",,\"Close\",\"5\",AR14,,,,,\"T\")","v":164},null,0,{"$f":"RTD(\"cqg.rtd\",,\"StudyData\",$AV$3,\"Bar\",,\"Close\",\"5\",AU14,,,,,\"T\")","v":-69},null,0,{"$f":"RTD(\"cqg.rtd\",,\"StudyData\",$AY$3,\"Bar\",,\"Close\",\"5\",AX14,,,,,\"T\")","v":96}]
[null,null,"F.US.CLE",{"$f":"RTD(\"cqg.rtd\", ,\"ContractData\",C15, \"LongDescription\",, \"T\")","v":"Crude Light (Globex), Jan 17"},null,null,null,"S.US.QQQ",{"$f":"RTD(\"cqg.rtd\", ,\"ContractData\",H15, \"LongDescription\",, \"T\")","v":"Powershares QQQ Trust"}]
[null,null,"F.US.HOE",{"$f":"RTD(\"cqg.rtd\", ,\"ContractData\",C16, \"LongDescription\",, \"T\")","v":"NY Harbor ULSD, Jan 17"},null,null,null,"S.US.CSCO",{"$f":"RTD(\"cqg.rtd\", ,\"ContractData\",H16, \"LongDescription\",, \"T\")","v":"Cisco Systems Inc"}]
[null,null,"F.US.RBE",{"$f":"RTD(\"cqg.rtd\", ,\"ContractData\",C17, \"LongDescription\",, \"T\")","v":"RBOB Gasoline (Globex), Jan 17"},null,null,null,"S.US.FB",{"$f":"RTD(\"cqg.rtd\", ,\"ContractData\",H17, \"LongDescription\",, \"T\")","v":"Facebook, Inc."},null,-24,{"$f":"RTD(\"cqg.rtd\",,\"StudyData\",$C$5,\"Bar\",,\"Time\",\"5\",K17,,,,,\"T\")","v":42703.586805555555},{"$f":"RTD(\"cqg.rtd\",,\"StudyData\",$C$5,\"Bar\",,\"Open\",\"5\",K17,,,,,\"T\")","v":2206.92},{"$f":"RTD(\"cqg.rtd\",,\"StudyData\",$C$5,\"Bar\",,\"High\",\"5\",K17,,,,,\"T\")","v":2207.33},{"$f":"RTD(\"cqg.rtd\",,\"StudyData\",$C$5,\"Bar\",,\"Low\",\"5\",K17,,,,,\"T\")","v":2206.19},{"$f":"RTD(\"cqg.rtd\",,\"StudyData\",$C$5,\"Bar\",,\"Close\",\"5\",K17,,,,,\"T\")","v":2206.21},null,-24,{"$f":"RTD(\"cqg.rtd\",,\"StudyData\",$H$5,\"Bar\",,\"Time\",\"5\",R17,,,,,\"T\")","v":42703.576388888891},{"$f":"RTD(\"cqg.rtd\",,\"StudyData\",$H$5,\"Bar\",,\"Open\",\"5\",R17,,,,,\"T\")","v":5401.6},{"$f":"RTD(\"cqg.rtd\",,\"StudyData\",$H$5,\"Bar\",,\"High\",\"5\",R17,,,,,\"T\")","v":5401.82},{"$f":"RTD(\"cqg.rtd\",,\"StudyData\",$H$5,\"Bar\",,\"Low\",\"5\",R17,,,,,\"T\")","v":5398.69},{"$f":"RTD(\"cqg.rtd\",,\"StudyData\",$H$5,\"Bar\",,\"Close\",\"5\",R17,,,,,\"T\")","v":5398.82}]
[null,null,"F.US.GCE",{"$f":"RTD(\"cqg.rtd\", ,\"ContractData\",C18, \"LongDescription\",, \"T\")","v":"Gold (Globex), Feb 17"},null,null,null,"S.US.TLT",{"$f":"RTD(\"cqg.rtd\", ,\"ContractData\",H18, \"LongDescription\",, \"T\")","v":"iShares 20+ Year Treasury Bond ETF"},null,{"$f":"K17+1","v":-23},{"$f":"RTD(\"cqg.rtd\",,\"StudyData\",$C$5,\"Bar\",,\"Time\",\"5\",K18,,,,,\"T\")","v":42703.590277777781},{"$f":"RTD(\"cqg.rtd\",,\"StudyData\",$C$5,\"Bar\",,\"Open\",\"5\",K18,,,,,\"T\")","v":2206.19},{"$f":"RTD(\"cqg.rtd\",,\"StudyData\",$C$5,\"Bar\",,\"High\",\"5\",K18,,,,,\"T\")","v":2206.2800000000002},{"$f":"RTD(\"cqg.rtd\",,\"StudyData\",$C$5,\"Bar\",,\"Low\",\"5\",K18,,,,,\"T\")","v":2205.7800000000002},{"$f":"RTD(\"cqg.rtd\",,\"StudyData\",$C$5,\"Bar\",,\"Close\",\"5\",K18,,,,,\"T\")","v":2205.98},null,{"$f":"R17+1","v":-23},{"$f":"RTD(\"cqg.rtd\",,\"StudyData\",$H$5,\"Bar\",,\"Time\",\"5\",R18,,,,,\"T\")","v":42703.579861111109},{"$f":"RTD(\"cqg.rtd\",,\"StudyData\",$H$5,\"Bar\",,\"Open\",\"5\",R18,,,,,\"T\")","v":5398.68},{"$f":"RTD(\"cqg.rtd\",,\"StudyData\",$H$5,\"Bar\",,\"High\",\"5\",R18,,,,,\"T\")","v":5398.68},{"$f":"RTD(\"cqg.rtd\",,\"StudyData\",$H$5,\"Bar\",,\"Low\",\"5\",R18,,,,,\"T\")","v":5395.81},{"$f":"RTD(\"cqg.rtd\",,\"StudyData\",$H$5,\"Bar\",,\"Close\",\"5\",R18,,,,,\"T\")","v":5395.81}]
[null,null,"F.US.DD",{"$f":"RTD(\"cqg.rtd\", ,\"ContractData\",C19, \"LongDescription\",, \"T\")","v":"DAX Index, Dec 16"},null,null,null,"S.US.INTC",{"$f":"RTD(\"cqg.rtd\", ,\"ContractData\",H19, \"LongDescription\",, \"T\")","v":"Intel Corporation"},null,{"$f":"K18+1","v":-22},{"$f":"RTD(\"cqg.rtd\",,\"StudyData\",$C$5,\"Bar\",,\"Time\",\"5\",K19,,,,,\"T\")","v":42703.59375},{"$f":"RTD(\"cqg.rtd\",,\"StudyData\",$C$5,\"Bar\",,\"Open\",\"5\",K19,,,,,\"T\")","v":2205.9699999999998},{"$f":"RTD(\"cqg.rtd\",,\"StudyData\",$C$5,\"Bar\",,\"High\",\"5\",K19,,,,,\"T\")","v":2206.27},{"$f":"RTD(\"cqg.rtd\",,\"StudyData\",$C$5,\"Bar\",,\"Low\",\"5\",K19,,,,,\"T\")","v":2205.04},{"$f":"RTD(\"cqg.rtd\",,\"StudyData\",$C$5,\"Bar\",,\"Close\",\"5\",K19,,,,,\"T\")","v":2205.19},null,{"$f":"R18+1","v":-22},{"$f":"RTD(\"cqg.rtd\",,\"StudyData\",$H$5,\"Bar\",,\"Time\",\"5\",R19,,,,,\"T\")","v":42703.583333333336},{"$f":"RTD(\"cqg.rtd\",,\"StudyData\",$H$5,\"Bar\",,\"Open\",\"5\",R19,,,,,\"T\")","v":5395.81},{"$f":"RTD(\"cqg.rtd\",,\"StudyData\",$H$5,\"Bar\",,\"High\",\"5\",R19,,,,,\"T\")","v":5395.89},{"$f":"RTD(\"cqg.rtd\",,\"StudyData\",$H$5,\"Bar\",,\"Low\",\"5\",R19,,,,,\"T\")","v":5389.79},{"$f":"RTD(\"cqg.rtd\",,\"StudyData\",$H$5,\"Bar\",,\"Close\",\"5\",R19,,,,,\"T\")","v":5389.79}]
[null,null,"F.US.DSX",{"$f":"RTD(\"cqg.rtd\", ,\"ContractData\",C20, \"LongDescription\",, \"T\")","v":"Euro STOXX 50, Dec 16"},null,null,null,"S.US.QCOM",{"$f":"RTD(\"cqg.rtd\", ,\"ContractData\",H20, \"LongDescription\",, \"T\")","v":"QUALCOMM Inc"},null,-21,{"$f":"RTD(\"cqg.rtd\",,\"StudyData\",$C$5,\"Bar\",,\"Time\",\"5\",K20,,,,,\"T\")","v":42703.597222222219},{"$f":"RTD(\"cqg.rtd\",,\"StudyData\",$C$5,\"Bar\",,\"Open\",\"5\",K20,,,,,\"T\")","v":2205.19},{"$f":"RTD(\"cqg.rtd\",,\"StudyData\",$C$5,\"Bar\",,\"High\",\"5\",K20,,,,,\"T\")","v":2206.1},{"$f":"RTD(\"cqg.rtd\",,\"StudyData\",$C$5,\"Bar\",,\"Low\",\"5\",K20,,,,,\"T\")","v":2204.89},{"$f":"RTD(\"cqg.rtd\",,\"StudyData\",$C$5,\"Bar\",,\"Close\",\"5\",K20,,,,,\"T\")","v":2205.79},null,-21,{"$f":"RTD(\"cqg.rtd\",,\"StudyData\",$H$5,\"Bar\",,\"Time\",\"5\",R20,,,,,\"T\")","v":42703.586805555555},{"$f":"RTD(\"cqg.rtd\",,\"StudyData\",$H$5,\"Bar\",,\"Open\",\"5\",R20,,,,,\"T\")","v":5389.79},{"$f":"RTD(\"cqg.rtd\",,\"StudyData\",$H$5,\"Bar\",,\"High\",\"5\",R20,,,,,\"T\")","v":5390.94},{"$f":"RTD(\"cqg.rtd\",,\"StudyData\",$H$5,\"Bar\",,\"Low\",\"5\",R20,,,,,\"T\")","v":5387.88},{"$f":"RTD(\"cqg.rtd\",,\"StudyData\",$H$5,\"Bar\",,\"Close\",\"5\",R20,,,,,\"T\")","v":5388.46}]
[null,null,"F.US.TYA",{"$f":"RTD(\"cqg.rtd\", ,\"ContractData\",C21, \"LongDescription\",, \"T\")","v":"10yr US Treasury Notes (Globex), Mar 17"},null,null,null,"S.US.AAL",{"$f":"RTD(\"cqg.rtd\", ,\"ContractData\",H21, \"LongDescription\",, \"T\")","v":"American Airlines Group Inc."},null,-20,{"$f":"RTD(\"cqg.rtd\",,\"StudyData\",$C$5,\"Bar\",,\"Time\",\"5\",K21,,,,,\"T\")","v":42703.600694444445},{"$f":"RTD(\"cqg.rtd\",,\"StudyData\",$C$5,\"Bar\",,\"Open\",\"5\",K21,,,,,\"T\")","v":2205.8000000000002},{"$f":"RTD(\"cqg.rtd\",,\"StudyData\",$C$5,\"Bar\",,\"High\",\"5\",K21,,,,,\"T\")","v":2205.87},{"$f":"RTD(\"cqg.rtd\",,\"StudyData\",$C$5,\"Bar\",,\"Low\",\"5\",K21,,,,,\"T\")","v":2205.48},{"$f":"RTD(\"cqg.rtd\",,\"StudyData\",$C$5,\"Bar\",,\"Close\",\"5\",K21,,,,,\"T\")","v":2205.59},null,-20,{"$f":"RTD(\"cqg.rtd\",,\"StudyData\",$H$5,\"Bar\",,\"Time\",\"5\",R21,,,,,\"T\")","v":42703.590277777781},{"$f":"RTD(\"cqg.rtd\",,\"StudyData\",$H$5,\"Bar\",,\"Open\",\"5\",R21,,,,,\"T\")","v":5388.37},{"$f":"RTD(\"cqg.rtd\",,\"StudyData\",$H$5,\"Bar\",,\"High\",\"5\",R21,,,,,\"T\")","v":5388.37},{"$f":"RTD(\"cqg.rtd\",,\"StudyData\",$H$5,\"Bar\",,\"Low\",\"5\",R21,,,,,\"T\")","v":5386.23},{"$f":"RTD(\"cqg.rtd\",,\"StudyData\",$H$5,\"Bar\",,\"Close\",\"5\",R21,,,,,\"T\")","v":5387.01}]
[null,null,null,null,null,null,null,null,null,null,-19,{"$f":"RTD(\"cqg.rtd\",,\"StudyData\",$C$5,\"Bar\",,\"Time\",\"5\",K22,,,,,\"T\")","v":42703.604166666664},{"$f":"RTD(\"cqg.rtd\",,\"StudyData\",$C$5,\"Bar\",,\"Open\",\"5\",K22,,,,,\"T\")","v":2205.59},{"$f":"RTD(\"cqg.rtd\",,\"StudyData\",$C$5,\"Bar\",,\"High\",\"5\",K22,,,,,\"T\")","v":2205.62},{"$f":"RTD(\"cqg.rtd\",,\"StudyData\",$C$5,\"Bar\",,\"Low\",\"5\",K22,,,,,\"T\")","v":2204.37},{"$f":"RTD(\"cqg.rtd\",,\"StudyData\",$C$5,\"Bar\",,\"Close\",\"5\",K22,,,,,\"T\")","v":2205.1999999999998},null,-19,{"$f":"RTD(\"cqg.rtd\",,\"StudyData\",$H$5,\"Bar\",,\"Time\",\"5\",R22,,,,,\"T\")","v":42703.59375},{"$f":"RTD(\"cqg.rtd\",,\"StudyData\",$H$5,\"Bar\",,\"Open\",\"5\",R22,,,,,\"T\")","v":5387.01},{"$f":"RTD(\"cqg.rtd\",,\"StudyData\",$H$5,\"Bar\",,\"High\",\"5\",R22,,,,,\"T\")","v":5387.62},{"$f":"RTD(\"cqg.rtd\",,\"StudyData\",$H$5,\"Bar\",,\"Low\",\"5\",R22,,,,,\"T\")","v":5382.69},{"$f":"RTD(\"cqg.rtd\",,\"StudyData\",$H$5,\"Bar\",,\"Close\",\"5\",R22,,,,,\"T\")","v":5383.34}]
[null,null,"Enter in the symbols you require.",null,null,null,null,null,null,null,-18,{"$f":"RTD(\"cqg.rtd\",,\"StudyData\",$C$5,\"Bar\",,\"Time\",\"5\",K23,,,,,\"T\")","v":42703.607638888891},{"$f":"RTD(\"cqg.rtd\",,\"StudyData\",$C$5,\"Bar\",,\"Open\",\"5\",K23,,,,,\"T\")","v":2205.1999999999998},{"$f":"RTD(\"cqg.rtd\",,\"StudyData\",$C$5,\"Bar\",,\"High\",\"5\",K23,,,,,\"T\")","v":2205.66},{"$f":"RTD(\"cqg.rtd\",,\"StudyData\",$C$5,\"Bar\",,\"Low\",\"5\",K23,,,,,\"T\")","v":2203.9699999999998},{"$f":"RTD(\"cqg.rtd\",,\"StudyData\",$C$5,\"Bar\",,\"Close\",\"5\",K23,,,,,\"T\")","v":2203.9699999999998},null,-18,{"$f":"RTD(\"cqg.rtd\",,\"StudyData\",$H$5,\"Bar\",,\"Time\",\"5\",R23,,,,,\"T\")","v":42703.597222222219},{"$f":"RTD(\"cqg.rtd\",,\"StudyData\",$H$5,\"Bar\",,\"Open\",\"5\",R23,,,,,\"T\")","v":5383.34},{"$f":"RTD(\"cqg.rtd\",,\"StudyData\",$H$5,\"Bar\",,\"High\",\"5\",R23,,,,,\"T\")","v":5385.74},{"$f":"RTD(\"cqg.rtd\",,\"StudyData\",$H$5,\"Bar\",,\"Low\",\"5\",R23,,,,,\"T\")","v":5382.58},{"$f":"RTD(\"cqg.rtd\",,\"StudyData\",$H$5,\"Bar\",,\"Close\",\"5\",R23,,,,,\"T\")","v":5385.16}]
[null,null,"The two charts in the center top of the main page use the first symbol in the Left Hand and Right Hand Display columns above.",null,null,null,null,null,null,null,-17,{"$f":"RTD(\"cqg.rtd\",,\"StudyData\",$C$5,\"Bar\",,\"Time\",\"5\",K24,,,,,\"T\")","v":42703.611111111109},{"$f":"RTD(\"cqg.rtd\",,\"StudyData\",$C$5,\"Bar\",,\"Open\",\"5\",K24,,,,,\"T\")","v":2203.9699999999998},{"$f":"RTD(\"cqg.rtd\",,\"StudyData\",$C$5,\"Bar\",,\"High\",\"5\",K24,,,,,\"T\")","v":2204.39},{"$f":"RTD(\"cqg.rtd\",,\"StudyData\",$C$5,\"Bar\",,\"Low\",\"5\",K24,,,,,\"T\")","v":2203.6999999999998},{"$f":"RTD(\"cqg.rtd\",,\"StudyData\",$C$5,\"Bar\",,\"Close\",\"5\",K24,,,,,\"T\")","v":2204.14},null,-17,{"$f":"RTD(\"cqg.rtd\",,\"StudyData\",$H$5,\"Bar\",,\"Time\",\"5\",R24,,,,,\"T\")","v":42703.600694444445},{"$f":"RTD(\"cqg.rtd\",,\"StudyData\",$H$5,\"Bar\",,\"Open\",\"5\",R24,,,,,\"T\")","v":5385.16},{"$f":"RTD(\"cqg.rtd\",,\"StudyData\",$H$5,\"Bar\",,\"High\",\"5\",R24,,,,,\"T\")","v":5385.55},{"$f":"RTD(\"cqg.rtd\",,\"StudyData\",$H$5,\"Bar\",,\"Low\",\"5\",R24,,,,,\"T\")","v":5384.35},{"$f":"RTD(\"cqg.rtd\",,\"StudyData\",$H$5,\"Bar\",,\"Close\",\"5\",R24,,,,,\"T\")","v":5384.78}]
[null,null,null,null,null,null,null,null,null,null,-16,{"$f":"RTD(\"cqg.rtd\",,\"StudyData\",$C$5,\"Bar\",,\"Time\",\"5\",K25,,,,,\"T\")","v":42703.614583333336},{"$f":"RTD(\"cqg.rtd\",,\"StudyData\",$C$5,\"Bar\",,\"Open\",\"5\",K25,,,,,\"T\")","v":2204.14},{"$f":"RTD(\"cqg.rtd\",,\"StudyData\",$C$5,\"Bar\",,\"High\",\"5\",K25,,,,,\"T\")","v":2204.14},{"$f":"RTD(\"cqg.rtd\",,\"StudyData\",$C$5,\"Bar\",,\"Low\",\"5\",K25,,,,,\"T\")","v":2202.96},{"$f":"RTD(\"cqg.rtd\",,\"StudyData\",$C$5,\"Bar\",,\"Close\",\"5\",K25,,,,,\"T\")","v":2203.66},null,-16,{"$f":"RTD(\"cqg.rtd\",,\"StudyData\",$H$5,\"Bar\",,\"Time\",\"5\",R25,,,,,\"T\")","v":42703.604166666664},{"$f":"RTD(\"cqg.rtd\",,\"StudyData\",$H$5,\"Bar\",,\"Open\",\"5\",R25,,,,,\"T\")","v":5384.78},{"$f":"RTD(\"cqg.rtd\",,\"StudyData\",$H$5,\"Bar\",,\"High\",\"5\",R25,,,,,\"T\")","v":5384.79},{"$f":"RTD(\"cqg.rtd\",,\"StudyData\",$H$5,\"Bar\",,\"Low\",\"5\",R25,,,,,\"T\")","v":5380.67},{"$f":"RTD(\"cqg.rtd\",,\"StudyData\",$H$5,\"Bar\",,\"Close\",\"5\",R25,,,,,\"T\")","v":5382.96}]
[null,null,null,null,null,null,null,null,null,null,-15,{"$f":"RTD(\"cqg.rtd\",,\"StudyData\",$C$5,\"Bar\",,\"Time\",\"5\",K26,,,,,\"T\")","v":42703.618055555555},{"$f":"RTD(\"cqg.rtd\",,\"StudyData\",$C$5,\"Bar\",,\"Open\",\"5\",K26,,,,,\"T\")","v":2203.65},{"$f":"RTD(\"cqg.rtd\",,\"StudyData\",$C$5,\"Bar\",,\"High\",\"5\",K26,,,,,\"T\")","v":2204.92},{"$f":"RTD(\"cqg.rtd\",,\"StudyData\",$C$5,\"Bar\",,\"Low\",\"5\",K26,,,,,\"T\")","v":2203.5700000000002},{"$f":"RTD(\"cqg.rtd\",,\"StudyData\",$C$5,\"Bar\",,\"Close\",\"5\",K26,,,,,\"T\")","v":2204.86},null,-15,{"$f":"RTD(\"cqg.rtd\",,\"StudyData\",$H$5,\"Bar\",,\"Time\",\"5\",R26,,,,,\"T\")","v":42703.607638888891},{"$f":"RTD(\"cqg.rtd\",,\"StudyData\",$H$5,\"Bar\",,\"Open\",\"5\",R26,,,,,\"T\")","v":5382.96},{"$f":"RTD(\"cqg.rtd\",,\"StudyData\",$H$5,\"Bar\",,\"High\",\"5\",R26,,,,,\"T\")","v":5383.99},{"$f":"RTD(\"cqg.rtd\",,\"StudyData\",$H$5,\"Bar\",,\"Low\",\"5\",R26,,,,,\"T\")","v":5379.8},{"$f":"RTD(\"cqg.rtd\",,\"StudyData\",$H$5,\"Bar\",,\"Close\",\"5\",R26,,,,,\"T\")","v":5379.8}]
[null,null,"When entering symbols the \"F.US.\" for futures or the \"S.US.\" for stocks or the \"X.US.\" for indicies are required.",null,null,null,null,null,null,null,-14,{"$f":"RTD(\"cqg.rtd\",,\"StudyData\",$C$5,\"Bar\",,\"Time\",\"5\",K27,,,,,\"T\")","v":42703.621527777781},{"$f":"RTD(\"cqg.rtd\",,\"StudyData\",$C$5,\"Bar\",,\"Open\",\"5\",K27,,,,,\"T\")","v":2204.85},{"$f":"RTD(\"cqg.rtd\",,\"StudyData\",$C$5,\"Bar\",,\"High\",\"5\",K27,,,,,\"T\")","v":2205.06},{"$f":"RTD(\"cqg.rtd\",,\"StudyData\",$C$5,\"Bar\",,\"Low\",\"5\",K27,,,,,\"T\")","v":2204.09},{"$f":"RTD(\"cqg.rtd\",,\"StudyData\",$C$5,\"Bar\",,\"Close\",\"5\",K27,,,,,\"T\")","v":2204.66},null,-14,{"$f":"RTD(\"cqg.rtd\",,\"StudyData\",$H$5,\"Bar\",,\"Time\",\"5\",R27,,,,,\"T\")","v":42703.611111111109},{"$f":"RTD(\"cqg.rtd\",,\"StudyData\",$H$5,\"Bar\",,\"Open\",\"5\",R27,,,,,\"T\")","v":5379.81},{"$f":"RTD(\"cqg.rtd\",,\"StudyData\",$H$5,\"Bar\",,\"High\",\"5\",R27,,,,,\"T\")","v":5380.35},{"$f":"RTD(\"cqg.rtd\",,\"StudyData\",$H$5,\"Bar\",,\"Low\",\"5\",R27,,,,,\"T\")","v":5377.98},{"$f":"RTD(\"cqg.rtd\",,\"StudyData\",$H$5,\"Bar\",,\"Close\",\"5\",R27,,,,,\"T\")","v":5378.65}]
[null,null,"Use all capital letters.",null,null,null,null,null,null,null,-13,{"$f":"RTD(\"cqg.rtd\",,\"StudyData\",$C$5,\"Bar\",,\"Time\",\"5\",K28,,,,,\"T\")","v":42703.625},{"$f":"RTD(\"cqg.rtd\",,\"StudyData\",$C$5,\"Bar\",,\"Open\",\"5\",K28,,,,,\"T\")","v":2204.87},{"$f":"RTD(\"cqg.rtd\",,\"StudyData\",$C$5,\"Bar\",,\"High\",\"5\",K28,,,,,\"T\")","v":2204.87},{"$f":"RTD(\"cqg.rtd\",,\"StudyData\",$C$5,\"Bar\",,\"Low\",\"5\",K28,,,,,\"T\")","v":2204.66},{"$f":"RTD(\"cqg.rtd\",,\"StudyData\",$C$5,\"Bar\",,\"Close\",\"5\",K28,,,,,\"T\")","v":2204.66},null,-13,{"$f":"RTD(\"cqg.rtd\",,\"StudyData\",$H$5,\"Bar\",,\"Time\",\"5\",R28,,,,,\"T\")","v":42703.614583333336},{"$f":"RTD(\"cqg.rtd\",,\"StudyData\",$H$5,\"Bar\",,\"Open\",\"5\",R28,,,,,\"T\")","v":5378.59},{"$f":"RTD(\"cqg.rtd\",,\"StudyData\",$H$5,\"Bar\",,\"High\",\"5\",R28,,,,,\"T\")","v":5378.59},{"$f":"RTD(\"cqg.rtd\",,\"StudyData\",$H$5,\"Bar\",,\"Low\",\"5\",R28,,,,,\"T\")","v":5375.88},{"$f":"RTD(\"cqg.rtd\",,\"StudyData\",$H$5,\"Bar\",,\"Close\",\"5\",R28,,,,,\"T\")","v":5376.92}]
[null,null,null,null,null,null,null,null,null,null,-12,{"$f":"RTD(\"cqg.rtd\",,\"StudyData\",$C$5,\"Bar\",,\"Time\",\"5\",K29,,,,,\"T\")","v":42703.628472222219},{"$f":"RTD(\"cqg.rtd\",,\"StudyData\",$C$5,\"Bar\",,\"Open\",\"5\",K29,,,,,\"T\")","v":2204.66},{"$f":"RTD(\"cqg.rtd\",,\"StudyData\",$C$5,\"Bar\",,\"High\",\"5\",K29,,,,,\"T\")","v":2204.66},{"$f":"RTD(\"cqg.rtd\",,\"StudyData\",$C$5,\"Bar\",,\"Low\",\"5\",K29,,,,,\"T\")","v":2204.66},{"$f":"RTD(\"cqg.rtd\",,\"StudyData\",$C$5,\"Bar\",,\"Close\",\"5\",K29,,,,,\"T\")","v":2204.66},null,-12,{"$f":"RTD(\"cqg.rtd\",,\"StudyData\",$H$5,\"Bar\",,\"Time\",\"5\",R29,,,,,\"T\")","v":42703.618055555555},{"$f":"RTD(\"cqg.rtd\",,\"StudyData\",$H$5,\"Bar\",,\"Open\",\"5\",R29,,,,,\"T\")","v":5376.71},{"$f":"RTD(\"cqg.rtd\",,\"StudyData\",$H$5,\"Bar\",,\"High\",\"5\",R29,,,,,\"T\")","v":5380.47},{"$f":"RTD(\"cqg.rtd\",,\"StudyData\",$H$5,\"Bar\",,\"Low\",\"5\",R29,,,,,\"T\")","v":5376.47},{"$f":"RTD(\"cqg.rtd\",,\"StudyData\",$H$5,\"Bar\",,\"Close\",\"5\",R29,,,,,\"T\")","v":5380.29}]
[null,null,null,null,null,null,null,null,null,null,-11,{"$f":"RTD(\"cqg.rtd\",,\"StudyData\",$C$5,\"Bar\",,\"Time\",\"5\",K30,,,,,\"T\")","v":42703.631944444445},{"$f":"RTD(\"cqg.rtd\",,\"StudyData\",$C$5,\"Bar\",,\"Open\",\"5\",K30,,,,,\"T\")","v":2204.66},{"$f":"RTD(\"cqg.rtd\",,\"StudyData\",$C$5,\"Bar\",,\"High\",\"5\",K30,,,,,\"T\")","v":2204.66},{"$f":"RTD(\"cqg.rtd\",,\"StudyData\",$C$5,\"Bar\",,\"Low\",\"5\",K30,,,,,\"T\")","v":2204.66},{"$f":"RTD(\"cqg.rtd\",,\"StudyData\",$C$5,\"Bar\",,\"Close\",\"5\",K30,,,,,\"T\")","v":2204.66},null,-11,{"$f":"RTD(\"cqg.rtd\",,\"StudyData\",$H$5,\"Bar\",,\"Time\",\"5\",R30,,,,,\"T\")","v":42703.621527777781},{"$f":"RTD(\"cqg.rtd\",,\"StudyData\",$H$5,\"Bar\",,\"Open\",\"5\",R30,,,,,\"T\")","v":5380.27},{"$f":"RTD(\"cqg.rtd\",,\"StudyData\",$H$5,\"Bar\",,\"High\",\"5\",R30,,,,,\"T\")","v":5380.94},{"$f":"RTD(\"cqg.rtd\",,\"StudyData\",$H$5,\"Bar\",,\"Low\",\"5\",R30,,,,,\"T\")","v":5377.69},{"$f":"RTD(\"cqg.rtd\",,\"StudyData\",$H$5,\"Bar\",,\"Close\",\"5\",R30,,,,,\"T\")","v":5379.92}]
[null,null,null,null,null,null,null,null,null,null,-10,{"$f":"RTD(\"cqg.rtd\",,\"StudyData\",$C$5,\"Bar\",,\"Time\",\"5\",K31,,,,,\"T\")","v":42704.354166666664},{"$f":"RTD(\"cqg.rtd\",,\"StudyData\",$C$5,\"Bar\",,\"Open\",\"5\",K31,,,,,\"T\")","v":2204.9699999999998},{"$f":"RTD(\"cqg.rtd\",,\"StudyData\",$C$5,\"Bar\",,\"High\",\"5\",K31,,,,,\"T\")","v":2211.31},{"$f":"RTD(\"cqg.rtd\",,\"StudyData\",$C$5,\"Bar\",,\"Low\",\"5\",K31,,,,,\"T\")","v":2204.9499999999998},{"$f":"RTD(\"cqg.rtd\",,\"StudyData\",$C$5,\"Bar\",,\"Close\",\"5\",K31,,,,,\"T\")","v":2211.16},null,-10,{"$f":"RTD(\"cqg.rtd\",,\"StudyData\",$H$5,\"Bar\",,\"Time\",\"5\",R31,,,,,\"T\")","v":42704.354166666664},{"$f":"RTD(\"cqg.rtd\",,\"StudyData\",$H$5,\"Bar\",,\"Open\",\"5\",R31,,,,,\"T\")","v":5391.35},{"$f":"RTD(\"cqg.rtd\",,\"StudyData\",$H$5,\"Bar\",,\"High\",\"5\",R31,,,,,\"T\")","v":5391.71},{"$f":"RTD(\"cqg.rtd\",,\"StudyData\",$H$5,\"Bar\",,\"Low\",\"5\",R31,,,,,\"T\")","v":5384.64},{"$f":"RTD(\"cqg.rtd\",,\"StudyData\",$H$5,\"Bar\",,\"Close\",\"5\",R31,,,,,\"T\")","v":5386.06}]
[null,null,null,null,null,null,null,null,null,null,-9,{"$f":"RTD(\"cqg.rtd\",,\"StudyData\",$C$5,\"Bar\",,\"Time\",\"5\",K32,,,,,\"T\")","v":42704.357638888891},{"$f":"RTD(\"cqg.rtd\",,\"StudyData\",$C$5,\"Bar\",,\"Open\",\"5\",K32,,,,,\"T\")","v":2211.13},{"$f":"RTD(\"cqg.rtd\",,\"StudyData\",$C$5,\"Bar\",,\"High\",\"5\",K32,,,,,\"T\")","v":2213.66},{"$f":"RTD(\"cqg.rtd\",,\"StudyData\",$C$5,\"Bar\",,\"Low\",\"5\",K32,,,,,\"T\")","v":2210.9899999999998},{"$f":"RTD(\"cqg.rtd\",,\"StudyData\",$C$5,\"Bar\",,\"Close\",\"5\",K32,,,,,\"T\")","v":2213.1999999999998},null,-9,{"$f":"RTD(\"cqg.rtd\",,\"StudyData\",$H$5,\"Bar\",,\"Time\",\"5\",R32,,,,,\"T\")","v":42704.357638888891},{"$f":"RTD(\"cqg.rtd\",,\"StudyData\",$H$5,\"Bar\",,\"Open\",\"5\",R32,,,,,\"T\")","v":5385.87},{"$f":"RTD(\"cqg.rtd\",,\"StudyData\",$H$5,\"Bar\",,\"High\",\"5\",R32,,,,,\"T\")","v":5390.32},{"$f":"RTD(\"cqg.rtd\",,\"StudyData\",$H$5,\"Bar\",,\"Low\",\"5\",R32,,,,,\"T\")","v":5385.63},{"$f":"RTD(\"cqg.rtd\",,\"StudyData\",$H$5,\"Bar\",,\"Close\",\"5\",R32,,,,,\"T\")","v":5388.09}]
[null,null,null,null,null,null,null,null,null,null,-8,{"$f":"RTD(\"cqg.rtd\",,\"StudyData\",$C$5,\"Bar\",,\"Time\",\"5\",K33,,,,,\"T\")","v":42704.361111111109},{"$f":"RTD(\"cqg.rtd\",,\"StudyData\",$C$5,\"Bar\",,\"Open\",\"5\",K33,,,,,\"T\")","v":2213.2199999999998},{"$f":"RTD(\"cqg.rtd\",,\"StudyData\",$C$5,\"Bar\",,\"High\",\"5\",K33,,,,,\"T\")","v":2214.09},{"$f":"RTD(\"cqg.rtd\",,\"StudyData\",$C$5,\"Bar\",,\"Low\",\"5\",K33,,,,,\"T\")","v":2213.21},{"$f":"RTD(\"cqg.rtd\",,\"StudyData\",$C$5,\"Bar\",,\"Close\",\"5\",K33,,,,,\"T\")","v":2213.79},null,-8,{"$f":"RTD(\"cqg.rtd\",,\"StudyData\",$H$5,\"Bar\",,\"Time\",\"5\",R33,,,,,\"T\")","v":42704.361111111109},{"$f":"RTD(\"cqg.rtd\",,\"StudyData\",$H$5,\"Bar\",,\"Open\",\"5\",R33,,,,,\"T\")","v":5388.08},{"$f":"RTD(\"cqg.rtd\",,\"StudyData\",$H$5,\"Bar\",,\"High\",\"5\",R33,,,,,\"T\")","v":5393.15},{"$f":"RTD(\"cqg.rtd\",,\"StudyData\",$H$5,\"Bar\",,\"Low\",\"5\",R33,,,,,\"T\")","v":5388.08},{"$f":"RTD(\"cqg.rtd\",,\"StudyData\",$H$5,\"Bar\",,\"Close\",\"5\",R33,,,,,\"T\")","v":5390.18}]
[null,null,null,null,null,null,null,null,null,null,-7,{"$f":"RTD(\"cqg.rtd\",,\"StudyData\",$C$5,\"Bar\",,\"Time\",\"5\",K34,,,,,\"T\")","v":42704.364583333336},{"$f":"RTD(\"cqg.rtd\",,\"StudyData\",$C$5,\"Bar\",,\"Open\",\"5\",K34,,,,,\"T\")","v":2213.8000000000002},{"$f":"RTD(\"cqg.rtd\",,\"StudyData\",$C$5,\"Bar\",,\"High\",\"5\",K34,,,,,\"T\")","v":2214.1},{"$f":"RTD(\"cqg.rtd\",,\"StudyData\",$C$5,\"Bar\",,\"Low\",\"5\",K34,,,,,\"T\")","v":2212.2399999999998},{"$f":"RTD(\"cqg.rtd\",,\"StudyData\",$C$5,\"Bar\",,\"Close\",\"5\",K34,,,,,\"T\")","v":2212.36},null,-7,{"$f":"RTD(\"cqg.rtd\",,\"StudyData\",$H$5,\"Bar\",,\"Time\",\"5\",R34,,,,,\"T\")","v":42704.364583333336},{"$f":"RTD(\"cqg.rtd\",,\"StudyData\",$H$5,\"Bar\",,\"Open\",\"5\",R34,,,,,\"T\")","v":5390.21},{"$f":"RTD(\"cqg.rtd\",,\"StudyData\",$H$5,\"Bar\",,\"High\",\"5\",R34,,,,,\"T\")","v":5391.03},{"$f":"RTD(\"cqg.rtd\",,\"StudyData\",$H$5,\"Bar\",,\"Low\",\"5\",R34,,,,,\"T\")","v":5380.44},{"$f":"RTD(\"cqg.rtd\",,\"StudyData\",$H$5,\"Bar\",,\"Close\",\"5\",R34,,,,,\"T\")","v":5380.59}]
[null,null,null,null,null,null,null,null,null,null,-6,{"$f":"RTD(\"cqg.rtd\",,\"StudyData\",$C$5,\"Bar\",,\"Time\",\"5\",K35,,,,,\"T\")","v":42704.368055555555},{"$f":"RTD(\"cqg.rtd\",,\"StudyData\",$C$5,\"Bar\",,\"Open\",\"5\",K35,,,,,\"T\")","v":2212.35},{"$f":"RTD(\"cqg.rtd\",,\"StudyData\",$C$5,\"Bar\",,\"High\",\"5\",K35,,,,,\"T\")","v":2212.5},{"$f":"RTD(\"cqg.rtd\",,\"StudyData\",$C$5,\"Bar\",,\"Low\",\"5\",K35,,,,,\"T\")","v":2209.96},{"$f":"RTD(\"cqg.rtd\",,\"StudyData\",$C$5,\"Bar\",,\"Close\",\"5\",K35,,,,,\"T\")","v":2210.1999999999998},null,-6,{"$f":"RTD(\"cqg.rtd\",,\"StudyData\",$H$5,\"Bar\",,\"Time\",\"5\",R35,,,,,\"T\")","v":42704.368055555555},{"$f":"RTD(\"cqg.rtd\",,\"StudyData\",$H$5,\"Bar\",,\"Open\",\"5\",R35,,,,,\"T\")","v":5380.64},{"$f":"RTD(\"cqg.rtd\",,\"StudyData\",$H$5,\"Bar\",,\"High\",\"5\",R35,,,,,\"T\")","v":5380.84},{"$f":"RTD(\"cqg.rtd\",,\"StudyData\",$H$5,\"Bar\",,\"Low\",\"5\",R35,,,,,\"T\")","v":5373.73},{"$f":"RTD(\"cqg.rtd\",,\"StudyData\",$H$5,\"Bar\",,\"Close\",\"5\",R35,,,,,\"T\")","v":5375.11}]
[null,null,null,null,null,null,null,null,null,null,-5,{"$f":"RTD(\"cqg.rtd\",,\"StudyData\",$C$5,\"Bar\",,\"Time\",\"5\",K36,,,,,\"T\")","v":42704.371527777781},{"$f":"RTD(\"cqg.rtd\",,\"StudyData\",$C$5,\"Bar\",,\"Open\",\"5\",K36,,,,,\"T\")","v":2210.23},{"$f":"RTD(\"cqg.rtd\",,\"StudyData\",$C$5,\"Bar\",,\"High\",\"5\",K36,,,,,\"T\")","v":2210.8000000000002},{"$f":"RTD(\"cqg.rtd\",,\"StudyData\",$C$5,\"Bar\",,\"Low\",\"5\",K36,,,,,\"T\")","v":2210.02},{"$f":"RTD(\"cqg.rtd\",,\"StudyData\",$C$5,\"Bar\",,\"Close\",\"5\",K36,,,,,\"T\")","v":2210.11},null,-5,{"$f":"RTD(\"cqg.rtd\",,\"StudyData\",$H$5,\"Bar\",,\"Time\",\"5\",R36,,,,,\"T\")","v":42704.371527777781},{"$f":"RTD(\"cqg.rtd\",,\"StudyData\",$H$5,\"Bar\",,\"Open\",\"5\",R36,,,,,\"T\")","v":5375.3},{"$f":"RTD(\"cqg.rtd\",,\"StudyData\",$H$5,\"Bar\",,\"High\",\"5\",R36,,,,,\"T\")","v":5376.67},{"$f":"RTD(\"cqg.rtd\",,\"StudyData\",$H$5,\"Bar\",,\"Low\",\"5\",R36,,,,,\"T\")","v":5375.06},{"$f":"RTD(\"cqg.rtd\",,\"StudyData\",$H$5,\"Bar\",,\"Close\",\"5\",R36,,,,,\"T\")","v":5375.87}]
[null,null,null,null,null,null,null,null,null,null,-4,{"$f":"RTD(\"cqg.rtd\",,\"StudyData\",$C$5,\"Bar\",,\"Time\",\"5\",K37,,,,,\"T\")","v":42704.375},{"$f":"RTD(\"cqg.rtd\",,\"StudyData\",$C$5,\"Bar\",,\"Open\",\"5\",K37,,,,,\"T\")","v":2210.13},{"$f":"RTD(\"cqg.rtd\",,\"StudyData\",$C$5,\"Bar\",,\"High\",\"5\",K37,,,,,\"T\")","v":2210.1999999999998},{"$f":"RTD(\"cqg.rtd\",,\"StudyData\",$C$5,\"Bar\",,\"Low\",\"5\",K37,,,,,\"T\")","v":2208.86},{"$f":"RTD(\"cqg.rtd\",,\"StudyData\",$C$5,\"Bar\",,\"Close\",\"5\",K37,,,,,\"T\")","v":2208.86},null,-4,{"$f":"RTD(\"cqg.rtd\",,\"StudyData\",$H$5,\"Bar\",,\"Time\",\"5\",R37,,,,,\"T\")","v":42704.375},{"$f":"RTD(\"cqg.rtd\",,\"StudyData\",$H$5,\"Bar\",,\"Open\",\"5\",R37,,,,,\"T\")","v":5375.99},{"$f":"RTD(\"cqg.rtd\",,\"StudyData\",$H$5,\"Bar\",,\"High\",\"5\",R37,,,,,\"T\")","v":5376.09},{"$f":"RTD(\"cqg.rtd\",,\"StudyData\",$H$5,\"Bar\",,\"Low\",\"5\",R37,,,,,\"T\")","v":5373.94},{"$f":"RTD(\"cqg.rtd\",,\"StudyData\",$H$5,\"Bar\",,\"Close\",\"5\",R37,,,,,\"T\")","v":5374.36}]
[null,null,null,null,null,null,null,null,null,null,-3,{"$f":"RTD(\"cqg.rtd\",,\"StudyData\",$C$5,\"Bar\",,\"Time\",\"5\",K38,,,,,\"T\")","v":42704.378472222219},{"$f":"RTD(\"cqg.rtd\",,\"StudyData\",$C$5,\"Bar\",,\"Open\",\"5\",K38,,,,,\"T\")","v":2208.84},{"$f":"RTD(\"cqg.rtd\",,\"StudyData\",$C$5,\"Bar\",,\"High\",\"5\",K38,,,,,\"T\")","v":2211.36},{"$f":"RTD(\"cqg.rtd\",,\"StudyData\",$C$5,\"Bar\",,\"Low\",\"5\",K38,,,,,\"T\")","v":2208.8200000000002},{"$f":"RTD(\"cqg.rtd\",,\"StudyData\",$C$5,\"Bar\",,\"Close\",\"5\",K38,,,,,\"T\")","v":2211.36},null,-3,{"$f":"RTD(\"cqg.rtd\",,\"StudyData\",$H$5,\"Bar\",,\"Time\",\"5\",R38,,,,,\"T\")","v":42704.378472222219},{"$f":"RTD(\"cqg.rtd\",,\"StudyData\",$H$5,\"Bar\",,\"Open\",\"5\",R38,,,,,\"T\")","v":5374.32},{"$f":"RTD(\"cqg.rtd\",,\"StudyData\",$H$5,\"Bar\",,\"High\",\"5\",R38,,,,,\"T\")","v":5380.93},{"$f":"RTD(\"cqg.rtd\",,\"StudyData\",$H$5,\"Bar\",,\"Low\",\"5\",R38,,,,,\"T\")","v":5374.12},{"$f":"RTD(\"cqg.rtd\",,\"StudyData\",$H$5,\"Bar\",,\"Close\",\"5\",R38,,,,,\"T\")","v":5380.93}]
[null,null,null,null,null,null,null,null,null,null,-2,{"$f":"RTD(\"cqg.rtd\",,\"StudyData\",$C$5,\"Bar\",,\"Time\",\"5\",K39,,,,,\"T\")","v":42704.381944444445},{"$f":"RTD(\"cqg.rtd\",,\"StudyData\",$C$5,\"Bar\",,\"Open\",\"5\",K39,,,,,\"T\")","v":2211.3000000000002},{"$f":"RTD(\"cqg.rtd\",,\"StudyData\",$C$5,\"Bar\",,\"High\",\"5\",K39,,,,,\"T\")","v":2211.38},{"$f":"RTD(\"cqg.rtd\",,\"StudyData\",$C$5,\"Bar\",,\"Low\",\"5\",K39,,,,,\"T\")","v":2210.19},{"$f":"RTD(\"cqg.rtd\",,\"StudyData\",$C$5,\"Bar\",,\"Close\",\"5\",K39,,,,,\"T\")","v":2210.19},null,-2,{"$f":"RTD(\"cqg.rtd\",,\"StudyData\",$H$5,\"Bar\",,\"Time\",\"5\",R39,,,,,\"T\")","v":42704.381944444445},{"$f":"RTD(\"cqg.rtd\",,\"StudyData\",$H$5,\"Bar\",,\"Open\",\"5\",R39,,,,,\"T\")","v":5380.97},{"$f":"RTD(\"cqg.rtd\",,\"StudyData\",$H$5,\"Bar\",,\"High\",\"5\",R39,,,,,\"T\")","v":5381.71},{"$f":"RTD(\"cqg.rtd\",,\"StudyData\",$H$5,\"Bar\",,\"Low\",\"5\",R39,,,,,\"T\")","v":5375.79},{"$f":"RTD(\"cqg.rtd\",,\"StudyData\",$H$5,\"Bar\",,\"Close\",\"5\",R39,,,,,\"T\")","v":5376.04}]
[null,null,null,null,null,null,null,null,null,null,-1,{"$f":"RTD(\"cqg.rtd\",,\"StudyData\",$C$5,\"Bar\",,\"Time\",\"5\",K40,,,,,\"T\")","v":42704.385416666664},{"$f":"RTD(\"cqg.rtd\",,\"StudyData\",$C$5,\"Bar\",,\"Open\",\"5\",K40,,,,,\"T\")","v":2210.19},{"$f":"RTD(\"cqg.rtd\",,\"StudyData\",$C$5,\"Bar\",,\"High\",\"5\",K40,,,,,\"T\")","v":2210.29},{"$f":"RTD(\"cqg.rtd\",,\"StudyData\",$C$5,\"Bar\",,\"Low\",\"5\",K40,,,,,\"T\")","v":2207.4899999999998},{"$f":"RTD(\"cqg.rtd\",,\"StudyData\",$C$5,\"Bar\",,\"Close\",\"5\",K40,,,,,\"T\")","v":2207.4899999999998},null,-1,{"$f":"RTD(\"cqg.rtd\",,\"StudyData\",$H$5,\"Bar\",,\"Time\",\"5\",R40,,,,,\"T\")","v":42704.385416666664},{"$f":"RTD(\"cqg.rtd\",,\"StudyData\",$H$5,\"Bar\",,\"Open\",\"5\",R40,,,,,\"T\")","v":5376.2},{"$f":"RTD(\"cqg.rtd\",,\"StudyData\",$H$5,\"Bar\",,\"High\",\"5\",R40,,,,,\"T\")","v":5376.25},{"$f":"RTD(\"cqg.rtd\",,\"StudyData\",$H$5,\"Bar\",,\"Low\",\"5\",R40,,,,,\"T\")","v":5367.71},{"$f":"RTD(\"cqg.rtd\",,\"StudyData\",$H$5,\"Bar\",,\"Close\",\"5\",R40,,,,,\"T\")","v":5367.71}]
[null,null,null,null,null,null,null,null,null,null,0,{"$f":"RTD(\"cqg.rtd\",,\"StudyData\",$C$5,\"Bar\",,\"Time\",\"5\",K41,,,,,\"T\")","v":42704.388888888891},{"$f":"IF(RTD(\"cqg.rtd\",,\"StudyData\",$C$5,\"Bar\",,\"Open\",\"5\",K41,,,,,\"T\")=\"\",NA(),RTD(\"cqg.rtd\",,\"StudyData\",$C$5,\"Bar\",,\"Open\",\"5\",K41,,,,,\"T\"))","v":2207.48},{"$f":"IF(RTD(\"cqg.rtd\",,\"StudyData\",$C$5,\"Bar\",,\"High\",\"5\",K41,,,,,\"T\")=\"\",NA(),RTD(\"cqg.rtd\",,\"StudyData\",$C$5,\"Bar\",,\"High\",\"5\",K41,,,,,\"T\"))","v":2207.48},{"$f":"IF(RTD(\"cqg.rtd\",,\"StudyData\",$C$5,\"Bar\",,\"Low\",\"5\",K41,,,,,\"T\")=\"\",NA(),RTD(\"cqg.rtd\",,\"StudyData\",$C$5,\"Bar\",,\"Low\",\"5\",K41,,,,,\"T\"))","v":2207.2199999999998},{"$f":"IF(RTD(\"cqg.rtd\",,\"StudyData\",$C$5,\"Bar\",,\"Close\",\"5\",K41,,,,,\"T\")=\"\",NA(),RTD(\"cqg.rtd\",,\"StudyData\",$C$5,\"Bar\",,\"Close\",\"5\",K41,,,,,\"T\"))","v":2207.38},null,0,{"$f":"RTD(\"cqg.rtd\",,\"StudyData\",$H$5,\"Bar\",,\"Time\",\"5\",R41,,,,,\"T\")","v":42704.388888888891},{"$f":"IF(RTD(\"cqg.rtd\",,\"StudyData\",$H$5,\"Bar\",,\"Open\",\"5\",R41,,,,,\"T\")=\"\",NA(),RTD(\"cqg.rtd\",,\"StudyData\",$H$5,\"Bar\",,\"Open\",\"5\",R41,,,,,\"T\"))","v":5367.68},{"$f":"IF(RTD(\"cqg.rtd\",,\"StudyData\",$H$5,\"Bar\",,\"High\",\"5\",R41,,,,,\"T\")=\"\",NA(),RTD(\"cqg.rtd\",,\"StudyData\",$H$5,\"Bar\",,\"High\",\"5\",R41,,,,,\"T\"))","v":5367.68},{"$f":"IF(RTD(\"cqg.rtd\",,\"StudyData\",$H$5,\"Bar\",,\"Low\",\"5\",R41,,,,,\"T\")=\"\",NA(),RTD(\"cqg.rtd\",,\"StudyData\",$H$5,\"Bar\",,\"Low\",\"5\",R41,,,,,\"T\"))","v":5366.97},{"$f":"IF(RTD(\"cqg.rtd\",,\"StudyData\",$H$5,\"Bar\",,\"Close\",\"5\",R41,,,,,\"T\")=\"\",NA(),RTD(\"cqg.rtd\",,\"StudyData\",$H$5,\"Bar\",,\"Close\",\"5\",R41,,,,,\"T\"))","v":5367.22}]

{"sheet":"NASDAQ","index":2,"n_rows":3044,"n_cols":15,"rows_kept":3044,"cut":false,"hidden":true,"merged":[]}
[null,null,"S.US.AMD",{"$f":"IFERROR(RTD(\"cqg.rtd\", ,\"ContractData\",C1, \"PerCentNetLastTrade\",, \"T\")/100,\"\")","v":1.2318029115341545E-2},608,{"$f":"IFERROR(E1,\"\")","v":608},{"$f":"C1","v":"S.US.AMD"},1,{"$f":"IFERROR(VLOOKUP(H1,$F$1:$G$2860,2,FALSE),\"\")","v":"S.US.SCON"},{"$f":"IFERROR(RTD(\"cqg.rtd\", ,\"ContractData\",I1, \"PerCentNetLastTrade\",, \"T\")/100,\"\")","v":0.58499999999999996},null,{"$f":"MIN(D1:D2860)","v":-0.6127562642369021},{"$f":"VLOOKUP(L1,D1:G2860,3,FALSE)","v":2576},{"$f":"VLOOKUP(M1,$F$1:$G$2860,2,FALSE)","v":"S.US.ARWR"},{"$f":"IFERROR(RTD(\"cqg.rtd\", ,\"ContractData\",N1, \"PerCentNetLastTrade\",, \"T\")/100,\"\")","v":-0.6127562642369021}]
[null,null,"S.US.SIRI",{"$f":"IFERROR(RTD(\"cqg.rtd\", ,\"ContractData\",C2, \"PerCentNetLastTrade\",, \"T\")/100,\"\")","v":0},1371,{"$f":"IFERROR(E2,\"\")","v":1371},{"$f":"C2","v":"S.US.SIRI"},{"$f":"H1+1","v":2},"S.US.CSBR",{"$f":"IFERROR(RTD(\"cqg.rtd\", ,\"ContractData\",I2, \"PerCentNetLastTrade\",, \"T\")/100,\"\")","v":0.25130890052356025},null,null,{"$f":"M1-1","v":2575},"S.US.CERC",{"$f":"IFERROR(RTD(\"cqg.rtd\", ,\"ContractData\",N2, \"PerCentNetLastTrade\",, \"T\")/100,\"\")","v":-0.4809322033898305}]
[null,null,"S.US.AAPL",{"$f":"IFERROR(RTD(\"cqg.rtd\", ,\"ContractData\",C3, \"PerCentNetLastTrade\",, \"T\")/100,\"\")","v":-3.6784496680423474E-3},1790,1790,{"$f":"C3","v":"S.US.AAPL"},{"$f":"H2+1","v":3},"S.US.MEMP",{"$f":"IFERROR(RTD(\"cqg.rtd\", ,\"ContractData\",I3, \"PerCentNetLastTrade\",, \"T\")/100,\"\")","v":0.19354838709677419},null,null,{"$f":"M2-1","v":2574},"S.US.ATLC",{"$f":"IFERROR(RTD(\"cqg.rtd\", ,\"ContractData\",N3, \"PerCentNetLastTrade\",, \"T\")/100,\"\")","v":-0.48006932409012132}]
[null,null,"S.US.FB",{"$f":"IFERROR(RTD(\"cqg.rtd\", ,\"ContractData\",C4, \"PerCentNetLastTrade\",, \"T\")/100,\"\")","v":-6.2877471663770994E-3},1941,1941,"S.US.FB",4,"S.US.MCEP",{"$f":"IFERROR(RTD(\"cqg.rtd\", ,\"ContractData\",I4, \"PerCentNetLastTrade\",, \"T\")/100,\"\")","v":0.18957345971563982},null,null,2573,"S.US.TWER",{"$f":"IFERROR(RTD(\"cqg.rtd\", ,\"ContractData\",N4, \"PerCentNetLastTrade\",, \"T\")/100,\"\")","v":-0.29411764705882354}]
[null,null,"S.US.MSFT",{"$f":"IFERROR(RTD(\"cqg.rtd\", ,\"ContractData\",C5, \"PerCentNetLastTrade\",, \"T\")/100,\"\")","v":-4.5834015387133734E-3},1879,1879,"S.US.MSFT",5,"S.US.REXX",{"$f":"IFERROR(RTD(\"cqg.rtd\", ,\"ContractData\",I5, \"PerCentNetLastTrade\",, \"T\")/100,\"\")","v":0.18421052631578949},null,null,2572,"S.US.CYAD",{"$f":"IFERROR(RTD(\"cqg.rtd\", ,\"ContractData\",N5, \"PerCentNetLastTrade\",, \"T\")/100,\"\")","v":-0.21708333333333332}]
[null,null,"S.US.QQQ",{"$f":"IFERROR(RTD(\"cqg.rtd\", ,\"ContractData\",C6, \"PerCentNetLastTrade\",, \"T\")/100,\"\")","v":-4.4560282495375823E-3},1856,1856,"S.US.QQQ",6,"S.US.RCON",{"$f":"IFERROR(RTD(\"cqg.rtd\", ,\"ContractData\",I6, \"PerCentNetLastTrade\",, \"T\")/100,\"\")","v":0.15322580645161291},null,null,2571,"S.US.IDXG",{"$f":"IFERROR(RTD(\"cqg.rtd\", ,\"ContractData\",N6, \"PerCentNetLastTrade\",, \"T\")/100,\"\")","v":-0.17647058823529413}]
[null,null,"S.US.CSCO",{"$f":"IFERROR(RTD(\"cqg.rtd\", ,\"ContractData\",C7, \"PerCentNetLastTrade\",, \"T\")/100,\"\")","v":-6.7046597385182706E-4},1606,1606,"S.US.CSCO",7,"S.US.OHGI",{"$f":"IFERROR(RTD(\"cqg.rtd\", ,\"ContractData\",I7, \"PerCentNetLastTrade\",, \"T\")/100,\"\")","v":0.14285714285714288},null,null,2570,"S.US.TBIO",{"$f":"IFERROR(RTD(\"cqg.rtd\", ,\"ContractData\",N7, \"PerCentNetLastTrade\",, \"T\")/100,\"\")","v":-0.17391304347826086}]
[null,null,"S.US.MU",{"$f":"IFERROR(RTD(\"cqg.rtd\", ,\"ContractData\",C8, \"PerCentNetLastTrade\",, \"T\")/100,\"\")","v":2.0597322348094747E-3},1255,1255,"S.US.MU",8,"S.US.MDSY",{"$f":"IFERROR(RTD(\"cqg.rtd\", ,\"ContractData\",I8, \"PerCentNetLastTrade\",, \"T\")/100,\"\")","v":0.13761467889908258},null,null,2569,"S.US.DRAM",{"$f":"IFERROR(RTD(\"cqg.rtd\", ,\"ContractData\",N8, \"PerCentNetLastTrade\",, \"T\")/100,\"\")","v":-0.14893617021276595}]
[null,null,"S.US.FTR",{"$f":"IFERROR(RTD(\"cqg.rtd\", ,\"ContractData\",C9, \"PerCentNetLastTrade\",, \"T\")/100,\"\")","v":-5.4495912806539516E-3},1907,1907,"S.US.FTR",9,"S.US.LGCY",{"$f":"IFERROR(RTD(\"cqg.rtd\", ,\"ContractData\",I9, \"PerCentNetLastTrade\",, \"T\")/100,\"\")","v":0.12941176470588237},null,null,2568,"S.US.OPHC",{"$f":"IFERROR(RTD(\"cqg.rtd\", ,\"ContractData\",N9, \"PerCentNetLastTrade\",, \"T\")/100,\"\")","v":-0.14428857715430862}]
[null,null,"S.US.XIV",{"$f":"IFERROR(RTD(\"cqg.rtd\", ,\"ContractData\",C10, \"PerCentNetLastTrade\",, \"T\")/100,\"\")","v":7.5601374570446736E-3},876,876,"S.US.XIV",10,"S.US.ORIG",{"$f":"IFERROR(RTD(\"cqg.rtd\", ,\"ContractData\",I10, \"PerCentNetLastTrade\",, \"T\")/100,\"\")","v":0.12857142857142859},null,null,2567,"S.US.PAVM",{"$f":"IFERROR(RTD(\"cqg.rtd\", ,\"ContractData\",N10, \"PerCentNetLastTrade\",, \"T\")/100,\"\")","v":-0.14367816091954022}]
[null,null,"S.US.INTC",{"$f":"IFERROR(RTD(\"cqg.rtd\", ,\"ContractData\",C11, \"PerCentNetLastTrade\",, \"T\")/100,\"\")","v":-3.3984706881903144E-3},1780,1780,"S.US.INTC",11,"S.US.CRZO"]
[null,null,"S.US.BRCD",{"$f":"IFERROR(RTD(\"cqg.rtd\", ,\"ContractData\",C12, \"PerCentNetLastTrade\",, \"T\")/100,\"\")","v":8.0906148867313909E-4},1330,1330,"S.US.BRCD",12,"S.US.AXAS"]
[null,null,"S.US.GRPN",{"$f":"IFERROR(RTD(\"cqg.rtd\", ,\"ContractData\",C13, \"PerCentNetLastTrade\",, \"T\")/100,\"\")","v":1.0101010101010102E-2},715,715,"S.US.GRPN",13,"S.US.TESO"]
[null,null,"S.US.HBAN",{"$f":"IFERROR(RTD(\"cqg.rtd\", ,\"ContractData\",C14, \"PerCentNetLastTrade\",, \"T\")/100,\"\")","v":2.035830618892508E-2},352,352,"S.US.HBAN",14,"S.US.EVAR"]
[null,null,"S.US.NVDA",{"$f":"IFERROR(RTD(\"cqg.rtd\", ,\"ContractData\",C15, \"PerCentNetLastTrade\",, \"T\")/100,\"\")","v":6.7560321715817691E-3},919,919,"S.US.NVDA",15,"S.US.VLTC"]
[null,null,"S.US.CMCSA",{"$f":"IFERROR(RTD(\"cqg.rtd\", ,\"ContractData\",C16, \"PerCentNetLastTrade\",, \"T\")/100,\"\")","v":-1.0550327915597377E-2},2122,2122,"S.US.CMCSA",16,"S.US.PDCE"]
[null,null,"S.US.ATVI",{"$f":"IFERROR(RTD(\"cqg.rtd\", ,\"ContractData\",C17, \"PerCentNetLastTrade\",, \"T\")/100,\"\")","v":-1.370223978919631E-2},2216,2216,"S.US.ATVI",17,"S.US.FNBC"]
[null,null,"S.US.AMAT",{"$f":"IFERROR(RTD(\"cqg.rtd\", ,\"ContractData\",C18, \"PerCentNetLastTrade\",, \"T\")/100,\"\")","v":2.1766169154228856E-3},1247,1247,"S.US.AMAT",18,"S.US.PTEN"]
[null,null,"S.US.TVIX",{"$f":"IFERROR(RTD(\"cqg.rtd\", ,\"ContractData\",C19, \"PerCentNetLastTrade\",, \"T\")/100,\"\")","v":-1.9861830742659757E-2},2349,2349,"S.US.TVIX",19,"S.US.FANG"]
[null,null,"S.US.SBUX",{"$f":"IFERROR(RTD(\"cqg.rtd\", ,\"ContractData\",C20, \"PerCentNetLastTrade\",, \"T\")/100,\"\")","v":-2.4067388688327317E-3},1715,1715,"S.US.SBUX",20,"S.US.ZIONZ"]
[null,null,"S.US.SYMC",{"$f":"IFERROR(RTD(\"cqg.rtd\", ,\"ContractData\",C21, \"PerCentNetLastTrade\",, \"T\")/100,\"\")","v":1.1101973684210526E-2},663,663,"S.US.SYMC",21,"S.US.ABUS"]
[null,null,"S.US.TLT",{"$f":"IFERROR(RTD(\"cqg.rtd\", ,\"ContractData\",C22, \"PerCentNetLastTrade\",, \"T\")/100,\"\")","v":-1.9145802650957292E-2},2340,2340,"S.US.TLT",22,"S.US.PSCE"]
[null,null,"S.US.JD",{"$f":"IFERROR(RTD(\"cqg.rtd\", ,\"ContractData\",C23, \"PerCentNetLastTrade\",, \"T\")/100,\"\")","v":1.7877094972067038E-2},413,413,"S.US.JD",23,"S.US.XOG"]
[null,null,"S.US.FOXA",{"$f":"IFERROR(RTD(\"cqg.rtd\", ,\"ContractData\",C24, \"PerCentNetLastTrade\",, \"T\")/100,\"\")","v":-6.6736916051984537E-3},1962,1962,"S.US.FOXA",24,"S.US.GMLP"]
[null,null,"S.US.ETRM",{"$f":"IFERROR(RTD(\"cqg.rtd\", ,\"ContractData\",C25, \"PerCentNetLastTrade\",, \"T\")/100,\"\")","v":0},1372,1372,"S.US.ETRM",25,"S.US.VNR"]
[null,null,"S.US.ZNGA",{"$f":"IFERROR(RTD(\"cqg.rtd\", ,\"ContractData\",C26, \"PerCentNetLastTrade\",, \"T\")/100,\"\")","v":6.9686411149825793E-3},915,915,"S.US.ZNGA",26,"S.US.HWBK"]
[null,null,"S.US.YHOO",{"$f":"IFERROR(RTD(\"cqg.rtd\", ,\"ContractData\",C27, \"PerCentNetLastTrade\",, \"T\")/100,\"\")","v":-8.8942307692307689E-3},2059,2059,"S.US.YHOO",27,"S.US.GNVC"]
[null,null,"S.US.GILD",{"$f":"IFERROR(RTD(\"cqg.rtd\", ,\"ContractData\",C28, \"PerCentNetLastTrade\",, \"T\")/100,\"\")","v":-4.1405102177106985E-3},1830,1830,"S.US.GILD",28,"S.US.AREX"]
[null,null,"S.US.CSX",{"$f":"IFERROR(RTD(\"cqg.rtd\", ,\"ContractData\",C29, \"PerCentNetLastTrade\",, \"T\")/100,\"\")","v":3.1609195402298854E-2},168,168,"S.US.CSX",29,"S.US.GLNG"]
[null,null,"S.US.MDLZ",{"$f":"IFERROR(RTD(\"cqg.rtd\", ,\"ContractData\",C30, \"PerCentNetLastTrade\",, \"T\")/100,\"\")","v":-1.2365842277181521E-2},2181,2181,"S.US.MDLZ",30,"S.US.GLBS"]
[null,null,"S.US.QCOM",{"$f":"IFERROR(RTD(\"cqg.rtd\", ,\"ContractData\",C31, \"PerCentNetLastTrade\",, \"T\")/100,\"\")","v":2.3962857570765314E-3},1231,1231,"S.US.QCOM",31,"S.US.CGNT"]
[null,null,"S.US.NVAX",{"$f":"IFERROR(RTD(\"cqg.rtd\", ,\"ContractData\",C32, \"PerCentNetLastTrade\",, \"T\")/100,\"\")","v":0},1373,1373,"S.US.NVAX",32,"S.US.DWSN"]
[null,null,"S.US.CTSH",{"$f":"IFERROR(RTD(\"cqg.rtd\", ,\"ContractData\",C33, \"PerCentNetLastTrade\",, \"T\")/100,\"\")","v":-1.0785547366528852E-2},2123,2123,"S.US.CTSH",33,"S.US.MEOH"]
[null,null,"S.US.SPLS",{"$f":"IFERROR(RTD(\"cqg.rtd\", ,\"ContractData\",C34, \"PerCentNetLastTrade\",, \"T\")/100,\"\")","v":-3.0581039755351678E-3},1696,1696,"S.US.SPLS",34,"S.US.JAGX"]
[null,null,"S.US.SQQQ",{"$f":"IFERROR(RTD(\"cqg.rtd\", ,\"ContractData\",C35, \"PerCentNetLastTrade\",, \"T\")/100,\"\")","v":1.3750954927425516E-2},546,546,"S.US.SQQQ",35,"S.US.CLUB"]
[null,null,"S.US.ODP",{"$f":"IFERROR(RTD(\"cqg.rtd\", ,\"ContractData\",C36, \"PerCentNetLastTrade\",, \"T\")/100,\"\")","v":1.4403292181069959E-2},515,515,"S.US.ODP",36,"S.US.ISIG"]
[null,null,"S.US.EBAY",{"$f":"IFERROR(RTD(\"cqg.rtd\", ,\"ContractData\",C37, \"PerCentNetLastTrade\",, \"T\")/100,\"\")","v":-8.7688530340231489E-3},2049,2049,"S.US.EBAY",37,"S.US.DRYS"]
[null,null,"S.US.PYPL",{"$f":"IFERROR(RTD(\"cqg.rtd\", ,\"ContractData\",C38, \"PerCentNetLastTrade\",, \"T\")/100,\"\")","v":-6.7686136876410133E-3},1966,1966,"S.US.PYPL",38,"S.US.HRTX"]
[null,null,"S.US.FITB",{"$f":"IFERROR(RTD(\"cqg.rtd\", ,\"ContractData\",C39, \"PerCentNetLastTrade\",, \"T\")/100,\"\")","v":2.4812918471839307E-2},249,249,"S.US.FITB",39,"S.US.AAME"]
[null,null,"S.US.DRYS",{"$f":"IFERROR(RTD(\"cqg.rtd\", ,\"ContractData\",C40, \"PerCentNetLastTrade\",, \"T\")/100,\"\")","v":6.9284064665127015E-2},37,37,"S.US.DRYS",40,"S.US.CLMT"]
[null,null,"S.US.ARIA",{"$f":"IFERROR(RTD(\"cqg.rtd\", ,\"ContractData\",C41, \"PerCentNetLastTrade\",, \"T\")/100,\"\")","v":-1.8115942028985508E-2},2319,2319,"S.US.ARIA",41,"S.US.DFBG"]
[null,null,"S.US.EXEL",{"$f":"IFERROR(RTD(\"cqg.rtd\", ,\"ContractData\",C42, \"PerCentNetLastTrade\",, \"T\")/100,\"\")","v":-8.828722778104767E-3},2056,2056,"S.US.EXEL",42,"S.US.AIRG"]
[null,null,"S.US.AAL",{"$f":"IFERROR(RTD(\"cqg.rtd\", ,\"ContractData\",C43, \"PerCentNetLastTrade\",, \"T\")/100,\"\")","v":-1.3435700575815739E-2},2209,2209,"S.US.AAL",43,"S.US.SELB"]
[null,null,"S.US.NFLX",{"$f":"IFERROR(RTD(\"cqg.rtd\", ,\"ContractData\",C44, \"PerCentNetLastTrade\",, \"T\")/100,\"\")","v":1.2339375372308741E-2},613,613,"S.US.NFLX",44,"S.US.GEOS"]
[null,null,"S.US.MYL",{"$f":"IFERROR(RTD(\"cqg.rtd\", ,\"ContractData\",C45, \"PerCentNetLastTrade\",, \"T\")/100,\"\")","v":-4.9916805324459234E-3},1885,1885,"S.US.MYL",45,"S.US.CCLP"]
[null,null,"S.US.ENDP",{"$f":"IFERROR(RTD(\"cqg.rtd\", ,\"ContractData\",C46, \"PerCentNetLastTrade\",, \"T\")/100,\"\")","v":8.0395794681508963E-3},842,842,"S.US.ENDP",46,"S.US.CDEV"]
[null,null,"S.US.VOD",{"$f":"IFERROR(RTD(\"cqg.rtd\", ,\"ContractData\",C47, \"PerCentNetLastTrade\",, \"T\")/100,\"\")","v":4.49162923642303E-3},1085,1085,"S.US.VOD",47,"S.US.TAPR"]
[null,null,"S.US.WFM",{"$f":"IFERROR(RTD(\"cqg.rtd\", ,\"ContractData\",C48, \"PerCentNetLastTrade\",, \"T\")/100,\"\")","v":-2.9402156158118264E-3},1750,1750,"S.US.WFM",48,"S.US.LPTN"]
[null,null,"S.US.GPRO",{"$f":"IFERROR(RTD(\"cqg.rtd\", ,\"ContractData\",C49, \"PerCentNetLastTrade\",, \"T\")/100,\"\")","v":4.7812817904374361E-2},70,70,"S.US.GPRO",49,"S.US.YRCW"]
[null,null,"S.US.ON",{"$f":"IFERROR(RTD(\"cqg.rtd\", ,\"ContractData\",C50, \"PerCentNetLastTrade\",, \"T\")/100,\"\")","v":6.7170445004198151E-3},928,928,"S.US.ON",50,"S.US.SSH"]
[null,null,"S.US.ERIC",{"$f":"IFERROR(RTD(\"cqg.rtd\", ,\"ContractData\",C51, \"PerCentNetLastTrade\",, \"T\")/100,\"\")","v":-1.953125E-3},1690,1690,"S.US.ERIC",51,"S.US.ALDX"]
[null,null,"S.US.CELG",{"$f":"IFERROR(RTD(\"cqg.rtd\", ,\"ContractData\",C52, \"PerCentNetLastTrade\",, \"T\")/100,\"\")","v":-1.1381314992221402E-2},2152,2152,"S.US.CELG",52,"S.US.CFRX"]
[null,null,"S.US.MRVL",{"$f":"IFERROR(RTD(\"cqg.rtd\", ,\"ContractData\",C53, \"PerCentNetLastTrade\",, \"T\")/100,\"\")","v":4.172461752433936E-3},1100,1100,"S.US.MRVL",53,"S.US.PIRS"]
[null,null,"S.US.ASNA",{"$f":"IFERROR(RTD(\"cqg.rtd\", ,\"ContractData\",C54, \"PerCentNetLastTrade\",, \"T\")/100,\"\")","v":0},1374,1374,"S.US.ASNA",54,"S.US.MNTX"]
[null,null,"S.US.JBLU",{"$f":"IFERROR(RTD(\"cqg.rtd\", ,\"ContractData\",C55, \"PerCentNetLastTrade\",, \"T\")/100,\"\")","v":-8.2125603864734303E-3},2032,2032,"S.US.JBLU",55,"S.US.HCM"]
[null,null,"S.US.TXN",{"$f":"IFERROR(RTD(\"cqg.rtd\", ,\"ContractData\",C56, \"PerCentNetLastTrade\",, \"T\")/100,\"\")","v":-2.8225806451612906E-3},1740,1740,"S.US.TXN",56,"S.US.DTRM"]
[null,null,"S.US.OCLR",{"$f":"IFERROR(RTD(\"cqg.rtd\", ,\"ContractData\",C57, \"PerCentNetLastTrade\",, \"T\")/100,\"\")","v":-1.4223194748358862E-2},2232,2232,"S.US.OCLR",57,"S.US.ZN"]
[null,null,"S.US.FEYE",{"$f":"IFERROR(RTD(\"cqg.rtd\", ,\"ContractData\",C58, \"PerCentNetLastTrade\",, \"T\")/100,\"\")","v":-7.8003120124804995E-4},1612,1612,"S.US.FEYE",58,"S.US.DMLP"]
[null,null,"S.US.SLM",{"$f":"IFERROR(RTD(\"cqg.rtd\", ,\"ContractData\",C59, \"PerCentNetLastTrade\",, \"T\")/100,\"\")","v":2.7692307692307693E-2},206,206,"S.US.SLM",59,"S.US.OSN"]
[null,null,"S.US.SINO",{"$f":"IFERROR(RTD(\"cqg.rtd\", ,\"ContractData\",C60, \"PerCentNetLastTrade\",, \"T\")/100,\"\")","v":0},1375,1375,"S.US.SINO",60,"S.US.SMCI"]
[null,null,"S.US.FSLR",{"$f":"IFERROR(RTD(\"cqg.rtd\", ,\"ContractData\",C61, \"PerCentNetLastTrade\",, \"T\")/100,\"\")","v":3.0050083472454091E-3},1182,1182,"S.US.FSLR",61,"S.US.HEES"]
[null,null,"S.US.AMZN",{"$f":"IFERROR(RTD(\"cqg.rtd\", ,\"ContractData\",C62, \"PerCentNetLastTrade\",, \"T\")/100,\"\")","v":-3.3048313486859359E-3},1774,1774,"S.US.AMZN",62,"S.US.OFED"]
[null,null,"S.US.CERN",{"$f":"IFERROR(RTD(\"cqg.rtd\", ,\"ContractData\",C63, \"PerCentNetLastTrade\",, \"T\")/100,\"\")","v":-8.6397428169580071E-3},2044,2044,"S.US.CERN",63,"S.US.GPRE"]
[null,null,"S.US.GEVO",{"$f":"IFERROR(RTD(\"cqg.rtd\", ,\"ContractData\",C64, \"PerCentNetLastTrade\",, \"T\")/100,\"\")","v":-3.0303030303030304E-2},2441,2441,"S.US.GEVO",64,"S.US.AVXS"]
[null,null,"S.US.WBA",{"$f":"IFERROR(RTD(\"cqg.rtd\", ,\"ContractData\",C65, \"PerCentNetLastTrade\",, \"T\")/100,\"\")","v":-6.1966561440430258E-3},1937,1937,"S.US.WBA",65,{"$f":"IFERROR(VLOOKUP(H65,$F$1:$G$2860,2,FALSE),\"\")","v":"S.US.USAK"}]
[null,null,"S.US.MENT",{"$f":"IFERROR(RTD(\"cqg.rtd\", ,\"ContractData\",C66, \"PerCentNetLastTrade\",, \"T\")/100,\"\")","v":2.7329871549603714E-4},1366,{"$f":"IFERROR(E66,\"\")","v":1366},"S.US.MENT",66,"S.US.CLNE"]
[null,null,"S.US.AMGN",{"$f":"IFERROR(RTD(\"cqg.rtd\", ,\"ContractData\",C67, \"PerCentNetLastTrade\",, \"T\")/100,\"\")","v":-3.6986301369863013E-3},1802,1802,{"$f":"C67","v":"S.US.AMGN"},{"$f":"H66+1","v":67},"S.US.NTIC"]
[null,null,"S.US.CTRP",{"$f":"IFERROR(RTD(\"cqg.rtd\", ,\"ContractData\",C68, \"PerCentNetLastTrade\",, \"T\")/100,\"\")","v":-7.1942446043165463E-3},1986,1986,"S.US.CTRP",68,"S.US.FORK"]
[null,null,"S.US.TSLA",{"$f":"IFERROR(RTD(\"cqg.rtd\", ,\"ContractData\",C69, \"PerCentNetLastTrade\",, \"T\")/100,\"\")","v":-3.4815635385345785E-3},1788,1788,"S.US.TSLA",69,"S.US.DTYS"]
[null,null,"S.US.WEN",{"$f":"IFERROR(RTD(\"cqg.rtd\", ,\"ContractData\",C70, \"PerCentNetLastTrade\",, \"T\")/100,\"\")","v":-1.5527950310559005E-3},1661,1661,"S.US.WEN",70,"S.US.GPRO"]
[null,null,"S.US.CY",{"$f":"IFERROR(RTD(\"cqg.rtd\", ,\"ContractData\",C71, \"PerCentNetLastTrade\",, \"T\")/100,\"\")","v":4.4523597506678537E-3},1087,1087,"S.US.CY",71,"S.US.FHCO"]
[null,null,"S.US.ARRY",{"$f":"IFERROR(RTD(\"cqg.rtd\", ,\"ContractData\",C72, \"PerCentNetLastTrade\",, \"T\")/100,\"\")","v":-3.4021871202916158E-2},2466,2466,"S.US.ARRY",72,"S.US.TITN"]
[null,null,"S.US.STLD",{"$f":"IFERROR(RTD(\"cqg.rtd\", ,\"ContractData\",C73, \"PerCentNetLastTrade\",, \"T\")/100,\"\")","v":1.0218563724098779E-2},710,710,"S.US.STLD",73,"S.US.RUN"]
[null,null,"S.US.LSCC",{"$f":"IFERROR(RTD(\"cqg.rtd\", ,\"ContractData\",C74, \"PerCentNetLastTrade\",, \"T\")/100,\"\")","v":1.4204545454545455E-3},1292,1292,"S.US.LSCC",74,"S.US.ICBK"]
[null,null,"S.US.NTAP",{"$f":"IFERROR(RTD(\"cqg.rtd\", ,\"ContractData\",C75, \"PerCentNetLastTrade\",, \"T\")/100,\"\")","v":4.9301561216105174E-3},1050,1050,"S.US.NTAP",75,"S.US.FCEL"]
[null,null,"S.US.MNST",{"$f":"IFERROR(RTD(\"cqg.rtd\", ,\"ContractData\",C76, \"PerCentNetLastTrade\",, \"T\")/100,\"\")","v":-7.9505300353356883E-3},2021,2021,"S.US.MNST",76,"S.US.KNSL"]
[null,null,"S.US.ESRX",{"$f":"IFERROR(RTD(\"cqg.rtd\", ,\"ContractData\",C77, \"PerCentNetLastTrade\",, \"T\")/100,\"\")","v":-7.8064012490241998E-4},1613,1613,"S.US.ESRX",77,"S.US.SAUC"]
[null,null,"S.US.MNKD",{"$f":"IFERROR(RTD(\"cqg.rtd\", ,\"ContractData\",C78, \"PerCentNetLastTrade\",, \"T\")/100,\"\")","v":2.0408163265306124E-2},348,348,"S.US.MNKD",78,"S.US.AMRS"]
[null,null,"S.US.FOX",{"$f":"IFERROR(RTD(\"cqg.rtd\", ,\"ContractData\",C79, \"PerCentNetLastTrade\",, \"T\")/100,\"\")","v":-8.8152327221438648E-3},2055,2055,"S.US.FOX",79,"S.US.AKAO"]
[null,null,"S.US.NXPI",{"$f":"IFERROR(RTD(\"cqg.rtd\", ,\"ContractData\",C80, \"PerCentNetLastTrade\",, \"T\")/100,\"\")","v":1.8209408194233686E-3},1270,1270,"S.US.NXPI",80,"S.US.FLDM"]
[null,null,"S.US.NAVI",{"$f":"IFERROR(RTD(\"cqg.rtd\", ,\"ContractData\",C81, \"PerCentNetLastTrade\",, \"T\")/100,\"\")","v":6.9808027923211171E-3},910,910,"S.US.NAVI",81,"S.US.SIFY"]
[null,null,"S.US.SABR",{"$f":"IFERROR(RTD(\"cqg.rtd\", ,\"ContractData\",C82, \"PerCentNetLastTrade\",, \"T\")/100,\"\")","v":-3.84172109104879E-4},1584,1584,"S.US.SABR",82,"S.US.GOGL"]
[null,null,"S.US.PBCT",{"$f":"IFERROR(RTD(\"cqg.rtd\", ,\"ContractData\",C83, \"PerCentNetLastTrade\",, \"T\")/100,\"\")","v":1.2439156300703082E-2},602,602,"S.US.PBCT",83,"S.US.DXPE"]
[null,null,"S.US.TMUS",{"$f":"IFERROR(RTD(\"cqg.rtd\", ,\"ContractData\",C84, \"PerCentNetLastTrade\",, \"T\")/100,\"\")","v":-5.416140097490522E-4},1596,1596,"S.US.TMUS",84,"S.US.SRTS"]
[null,null,"S.US.EA",{"$f":"IFERROR(RTD(\"cqg.rtd\", ,\"ContractData\",C85, \"PerCentNetLastTrade\",, \"T\")/100,\"\")","v":-1.3149809512105199E-2},2202,2202,"S.US.EA",85,"S.US.VTVT"]
[null,null,"S.US.AGNC",{"$f":"IFERROR(RTD(\"cqg.rtd\", ,\"ContractData\",C86, \"PerCentNetLastTrade\",, \"T\")/100,\"\")","v":-1.9989479221462388E-2},2350,2350,"S.US.AGNC",86,"S.US.PHIIK"]
[null,null,"S.US.WDC",{"$f":"IFERROR(RTD(\"cqg.rtd\", ,\"ContractData\",C87, \"PerCentNetLastTrade\",, \"T\")/100,\"\")","v":6.8613371629168661E-3},920,920,"S.US.WDC",87,"S.US.WATT"]
[null,null,"S.US.CEMP",{"$f":"IFERROR(RTD(\"cqg.rtd\", ,\"ContractData\",C88, \"PerCentNetLastTrade\",, \"T\")/100,\"\")","v":0},1376,1376,"S.US.CEMP",88,"S.US.DLBS"]
[null,null,"S.US.STX",{"$f":"IFERROR(RTD(\"cqg.rtd\", ,\"ContractData\",C89, \"PerCentNetLastTrade\",, \"T\")/100,\"\")","v":4.3037974683544306E-3},1094,1094,"S.US.STX",89,"S.US.MTRX"]
[null,null,"S.US.BBRY",{"$f":"IFERROR(RTD(\"cqg.rtd\", ,\"ContractData\",C90, \"PerCentNetLastTrade\",, \"T\")/100,\"\")","v":1.6129032258064516E-2},457,457,"S.US.BBRY",90,"S.US.SPCB"]
[null,null,"S.US.OPK",{"$f":"IFERROR(RTD(\"cqg.rtd\", ,\"ContractData\",C91, \"PerCentNetLastTrade\",, \"T\")/100,\"\")","v":-3.8058991436726924E-3},1810,1810,"S.US.OPK",91,"S.US.AUBN"]
[null,null,"S.US.URBN",{"$f":"IFERROR(RTD(\"cqg.rtd\", ,\"ContractData\",C92, \"PerCentNetLastTrade\",, \"T\")/100,\"\")","v":-5.2436767427513874E-3},1899,1899,"S.US.URBN",92,"S.US.HIIQ"]
[null,null,"S.US.KHC",{"$f":"IFERROR(RTD(\"cqg.rtd\", ,\"ContractData\",C93, \"PerCentNetLastTrade\",, \"T\")/100,\"\")","v":-1.2261904761904762E-2},2182,2182,"S.US.KHC",93,"S.US.ACOR"]
[null,null,"S.US.DISCA",{"$f":"IFERROR(RTD(\"cqg.rtd\", ,\"ContractData\",C94, \"PerCentNetLastTrade\",, \"T\")/100,\"\")","v":-4.7016274864376132E-3},1870,1870,"S.US.DISCA",94,"S.US.WCST"]
[null,null,"S.US.ORIG",{"$f":"IFERROR(RTD(\"cqg.rtd\", ,\"ContractData\",C95, \"PerCentNetLastTrade\",, \"T\")/100,\"\")","v":0.12857142857142859},10,10,"S.US.ORIG",95,"S.US.VNOM"]
[null,null,"S.US.ZION",{"$f":"IFERROR(RTD(\"cqg.rtd\", ,\"ContractData\",C96, \"PerCentNetLastTrade\",, \"T\")/100,\"\")","v":2.7792207792207792E-2},204,204,"S.US.ZION",96,"S.US.APLP"]
[null,null,"S.US.AMRS",{"$f":"IFERROR(RTD(\"cqg.rtd\", ,\"ContractData\",C97, \"PerCentNetLastTrade\",, \"T\")/100,\"\")","v":4.4943820224719107E-2},78,78,"S.US.AMRS",97,"S.US.PMBC"]
[null,null,"S.US.PLUG",{"$f":"IFERROR(RTD(\"cqg.rtd\", ,\"ContractData\",C98, \"PerCentNetLastTrade\",, \"T\")/100,\"\")","v":0},1377,1377,"S.US.PLUG",98,"S.US.ERII"]
[null,null,"S.US.MAT",{"$f":"IFERROR(RTD(\"cqg.rtd\", ,\"ContractData\",C99, \"PerCentNetLastTrade\",, \"T\")/100,\"\")","v":5.3865652724968318E-3},1023,1023,"S.US.MAT",99,"S.US.HYGS"]
[null,null,"S.US.IMNP",{"$f":"IFERROR(RTD(\"cqg.rtd\", ,\"ContractData\",C100, \"PerCentNetLastTrade\",, \"T\")/100,\"\")","v":-5.8823529411764712E-2},2534,2534,"S.US.IMNP",100,"S.US.RNET"]
[null,null,"S.US.MAR",{"$f":"IFERROR(RTD(\"cqg.rtd\", ,\"ContractData\",C101, \"PerCentNetLastTrade\",, \"T\")/100,\"\")","v":-1.1376564277588168E-2},2151,2151,"S.US.MAR",101,"S.US.ADXS"]
[null,null,"S.US.HZNP",{"$f":"IFERROR(RTD(\"cqg.rtd\", ,\"ContractData\",C102, \"PerCentNetLastTrade\",, \"T\")/100,\"\")","v":-1.9477434679334917E-2},2346,2346,"S.US.HZNP",102,"S.US.IMMY"]
[null,null,"S.US.MOMO",{"$f":"IFERROR(RTD(\"cqg.rtd\", ,\"ContractData\",C103, \"PerCentNetLastTrade\",, \"T\")/100,\"\")","v":-2.929061784897025E-2},2435,2435,"S.US.MOMO",103,"S.US.SHOS"]
[null,null,"S.US.IONS",{"$f":"IFERROR(RTD(\"cqg.rtd\", ,\"ContractData\",C104, \"PerCentNetLastTrade\",, \"T\")/100,\"\")","v":-1.837043440674303E-2},2324,2324,"S.US.IONS",104,"S.US.INVE"]
[null,null,"S.US.ALXN",{"$f":"IFERROR(RTD(\"cqg.rtd\", ,\"ContractData\",C105, \"PerCentNetLastTrade\",, \"T\")/100,\"\")","v":-1.385460625846007E-2},2220,2220,"S.US.ALXN",105,"S.US.VTNR"]
[null,null,"S.US.GT",{"$f":"IFERROR(RTD(\"cqg.rtd\", ,\"ContractData\",C106, \"PerCentNetLastTrade\",, \"T\")/100,\"\")","v":-1.5093127809890815E-2},2260,2260,"S.US.GT",106,"S.US.FBRC"]
[null,null,"S.US.MPEL",{"$f":"IFERROR(RTD(\"cqg.rtd\", ,\"ContractData\",C107, \"PerCentNetLastTrade\",, \"T\")/100,\"\")","v":1.3598326359832635E-2},556,556,"S.US.MPEL",107,"S.US.TGTX"]
[null,null,"S.US.LBTYK",{"$f":"IFERROR(RTD(\"cqg.rtd\", ,\"ContractData\",C108, \"PerCentNetLastTrade\",, \"T\")/100,\"\")","v":-1.7047282084271469E-2},2294,2294,"S.US.LBTYK",108,"S.US.RBCN"]
[null,null,"S.US.PDLI",{"$f":"IFERROR(RTD(\"cqg.rtd\", ,\"ContractData\",C109, \"PerCentNetLastTrade\",, \"T\")/100,\"\")","v":-3.0567685589519653E-2},2443,2443,"S.US.PDLI",109,"S.US.IPCI"]
[null,null,"S.US.ROST",{"$f":"IFERROR(RTD(\"cqg.rtd\", ,\"ContractData\",C110, \"PerCentNetLastTrade\",, \"T\")/100,\"\")","v":-5.2501093772786937E-3},1900,1900,"S.US.ROST",110,"S.US.ARTX"]
[null,null,"S.US.ACHN",{"$f":"IFERROR(RTD(\"cqg.rtd\", ,\"ContractData\",C111, \"PerCentNetLastTrade\",, \"T\")/100,\"\")","v":-2.3866348448687348E-3},1714,1714,"S.US.ACHN",111,"S.US.ARCW"]
[null,null,"S.US.COMM",{"$f":"IFERROR(RTD(\"cqg.rtd\", ,\"ContractData\",C112, \"PerCentNetLastTrade\",, \"T\")/100,\"\")","v":-1.6560861164780568E-3},1687,1687,"S.US.COMM",112,"S.US.DRRX"]
[null,null,"S.US.TRIP",{"$f":"IFERROR(RTD(\"cqg.rtd\", ,\"ContractData\",C113, \"PerCentNetLastTrade\",, \"T\")/100,\"\")","v":-3.8539553752535501E-3},1814,1814,"S.US.TRIP",113,"S.US.VVUS"]
[null,null,"S.US.HTBX",{"$f":"IFERROR(RTD(\"cqg.rtd\", ,\"ContractData\",C114, \"PerCentNetLastTrade\",, \"T\")/100,\"\")","v":-5.3691275167785241E-2},2523,2523,"S.US.HTBX",114,"S.US.WSTL"]
[null,null,"S.US.QVCA",{"$f":"IFERROR(RTD(\"cqg.rtd\", ,\"ContractData\",C115, \"PerCentNetLastTrade\",, \"T\")/100,\"\")","v":-1.3947001394700139E-3},1654,1654,"S.US.QVCA",115,"S.US.VTL"]
[null,null,"S.US.ETFC",{"$f":"IFERROR(RTD(\"cqg.rtd\", ,\"ContractData\",C116, \"PerCentNetLastTrade\",, \"T\")/100,\"\")","v":1.6730261226885822E-2},436,436,"S.US.ETFC",116,"S.US.SOFO"]
[null,null,"S.US.WYNN",{"$f":"IFERROR(RTD(\"cqg.rtd\", ,\"ContractData\",C117, \"PerCentNetLastTrade\",, \"T\")/100,\"\")","v":2.7357450646357351E-2},211,211,"S.US.WYNN",117,"S.US.NEON"]
[null,null,"S.US.FOLD",{"$f":"IFERROR(RTD(\"cqg.rtd\", ,\"ContractData\",C118, \"PerCentNetLastTrade\",, \"T\")/100,\"\")","v":-5.5299539170506916E-2},2524,2524,"S.US.FOLD",118,"S.US.CNIT"]
[null,null,"S.US.FLEX",{"$f":"IFERROR(RTD(\"cqg.rtd\", ,\"ContractData\",C119, \"PerCentNetLastTrade\",, \"T\")/100,\"\")","v":-6.8775790921595599E-4},1608,1608,"S.US.FLEX",119,"S.US.PRAA"]
[null,null,"S.US.PAAS",{"$f":"IFERROR(RTD(\"cqg.rtd\", ,\"ContractData\",C120, \"PerCentNetLastTrade\",, \"T\")/100,\"\")","v":-1.288056206088993E-2},2196,2196,"S.US.PAAS",120,"S.US.LAYN"]
[null,null,"S.US.NWSA",{"$f":"IFERROR(RTD(\"cqg.rtd\", ,\"ContractData\",C121, \"PerCentNetLastTrade\",, \"T\")/100,\"\")","v":-1.7331022530329291E-3},1671,1671,"S.US.NWSA",121,"S.US.PFBX"]
[null,null,"S.US.MACK",{"$f":"IFERROR(RTD(\"cqg.rtd\", ,\"ContractData\",C122, \"PerCentNetLastTrade\",, \"T\")/100,\"\")","v":-1.7064846416382253E-2},2296,2296,"S.US.MACK",122,"S.US.TREE"]
[null,null,"S.US.DLTR",{"$f":"IFERROR(RTD(\"cqg.rtd\", ,\"ContractData\",C123, \"PerCentNetLastTrade\",, \"T\")/100,\"\")","v":-1.1709601873536299E-2},2165,2165,"S.US.DLTR",123,"S.US.APVO"]
[null,null,"S.US.TTMI",{"$f":"IFERROR(RTD(\"cqg.rtd\", ,\"ContractData\",C124, \"PerCentNetLastTrade\",, \"T\")/100,\"\")","v":-1.7155110793423873E-2},2299,2299,"S.US.TTMI",124,"S.US.LMIA"]
[null,null,"S.US.DVAX",{"$f":"IFERROR(RTD(\"cqg.rtd\", ,\"ContractData\",C125, \"PerCentNetLastTrade\",, \"T\")/100,\"\")","v":-3.1578947368421054E-2},2454,2454,"S.US.DVAX",125,"S.US.GULF"]
[null,null,"S.US.SFM",{"$f":"IFERROR(RTD(\"cqg.rtd\", ,\"ContractData\",C126, \"PerCentNetLastTrade\",, \"T\")/100,\"\")","v":-4.8828125E-4},1595,1595,"S.US.SFM",126,"S.US.KPTI"]
[null,null,"S.US.MDRX",{"$f":"IFERROR(RTD(\"cqg.rtd\", ,\"ContractData\",C127, \"PerCentNetLastTrade\",, \"T\")/100,\"\")","v":1.0045662100456621E-2},718,718,"S.US.MDRX",127,"S.US.FORM"]
[null,null,"S.US.DCIX",{"$f":"IFERROR(RTD(\"cqg.rtd\", ,\"ContractData\",C128, \"PerCentNetLastTrade\",, \"T\")/100,\"\")","v":2.5280898876404497E-2},240,240,"S.US.DCIX",128,"S.US.SNDE"]
[null,null,"S.US.LBTYA",{"$f":"IFERROR(RTD(\"cqg.rtd\", ,\"ContractData\",C129, \"PerCentNetLastTrade\",, \"T\")/100,\"\")","v":-1.8385789965721409E-2},2325,2325,"S.US.LBTYA",129,{"$f":"IFERROR(VLOOKUP(H129,$F$1:$G$2860,2,FALSE),\"\")","v":"S.US.SCVL"}]
[null,null,"S.US.HOLX",{"$f":"IFERROR(RTD(\"cqg.rtd\", ,\"ContractData\",C130, \"PerCentNetLastTrade\",, \"T\")/100,\"\")","v":-1.4366341713699333E-2},2237,{"$f":"IFERROR(E130,\"\")","v":2237},"S.US.HOLX",130,"S.US.TOPS"]
[null,null,"S.US.CXRX",{"$f":"IFERROR(RTD(\"cqg.rtd\", ,\"ContractData\",C131, \"PerCentNetLastTrade\",, \"T\")/100,\"\")","v":-1.1406844106463879E-2},2153,2153,{"$f":"C131","v":"S.US.CXRX"},{"$f":"H130+1","v":131},"S.US.ANY"]
[null,null,"S.US.SWHC",{"$f":"IFERROR(RTD(\"cqg.rtd\", ,\"ContractData\",C132, \"PerCentNetLastTrade\",, \"T\")/100,\"\")","v":-2.9583333333333336E-2},2439,2439,"S.US.SWHC",132,"S.US.KNDI"]
[null,null,"S.US.ADI",{"$f":"IFERROR(RTD(\"cqg.rtd\", ,\"ContractData\",C133, \"PerCentNetLastTrade\",, \"T\")/100,\"\")","v":-8.7213202737152825E-3},2047,2047,"S.US.ADI",133,"S.US.PEIX"]
[null,null,"S.US.CLDX",{"$f":"IFERROR(RTD(\"cqg.rtd\", ,\"ContractData\",C134, \"PerCentNetLastTrade\",, \"T\")/100,\"\")","v":-1.2437810945273631E-2},2183,2183,"S.US.CLDX",134,"S.US.MDGS"]
[null,null,"S.US.MDCA",{"$f":"IFERROR(RTD(\"cqg.rtd\", ,\"ContractData\",C135, \"PerCentNetLastTrade\",, \"T\")/100,\"\")","v":2.8333333333333335E-2},199,199,"S.US.MDCA",135,"S.US.ADMP"]
[null,null,"S.US.AMTD",{"$f":"IFERROR(RTD(\"cqg.rtd\", ,\"ContractData\",C136, \"PerCentNetLastTrade\",, \"T\")/100,\"\")","v":2.0674378538026089E-2},343,343,"S.US.AMTD",136,"S.US.RADA"]
[null,null,"S.US.NUAN",{"$f":"IFERROR(RTD(\"cqg.rtd\", ,\"ContractData\",C137, \"PerCentNetLastTrade\",, \"T\")/100,\"\")","v":-3.6764705882352945E-3},1801,1801,"S.US.NUAN",137,"S.US.AZRX"]
[null,null,"S.US.PTEN",{"$f":"IFERROR(RTD(\"cqg.rtd\", ,\"ContractData\",C138, \"PerCentNetLastTrade\",, \"T\")/100,\"\")","v":0.10627177700348431},18,18,"S.US.PTEN",138,"S.US.CIVB"]
[null,null,"S.US.VIAB",{"$f":"IFERROR(RTD(\"cqg.rtd\", ,\"ContractData\",C139, \"PerCentNetLastTrade\",, \"T\")/100,\"\")","v":1.8132611637347765E-2},404,404,"S.US.VIAB",139,"S.US.NWFL"]
[null,null,"S.US.SGYP",{"$f":"IFERROR(RTD(\"cqg.rtd\", ,\"ContractData\",C140, \"PerCentNetLastTrade\",, \"T\")/100,\"\")","v":-3.7105751391465673E-3},1804,1804,"S.US.SGYP",140,"S.US.JOUT"]
[null,null,"S.US.ESEA",{"$f":"IFERROR(RTD(\"cqg.rtd\", ,\"ContractData\",C141, \"PerCentNetLastTrade\",, \"T\")/100,\"\")","v":2.1276595744680851E-2},326,326,"S.US.ESEA",141,"S.US.KIN"]
[null,null,"S.US.ISBC",{"$f":"IFERROR(RTD(\"cqg.rtd\", ,\"ContractData\",C142, \"PerCentNetLastTrade\",, \"T\")/100,\"\")","v":8.771929824561403E-3},809,809,"S.US.ISBC",142,"S.US.RKDA"]
[null,null,"S.US.PTCT",{"$f":"IFERROR(RTD(\"cqg.rtd\", ,\"ContractData\",C143, \"PerCentNetLastTrade\",, \"T\")/100,\"\")","v":6.1028770706190059E-3},964,964,"S.US.PTCT",143,"S.US.LCNB"]
[null,null,"S.US.FAST",{"$f":"IFERROR(RTD(\"cqg.rtd\", ,\"ContractData\",C144, \"PerCentNetLastTrade\",, \"T\")/100,\"\")","v":1.446500744522442E-2},511,511,"S.US.FAST",144,"S.US.RTIX"]
[null,null,"S.US.SPWR",{"$f":"IFERROR(RTD(\"cqg.rtd\", ,\"ContractData\",C145, \"PerCentNetLastTrade\",, \"T\")/100,\"\")","v":-1.1644832605531294E-2},2163,2163,"S.US.SPWR",145,"S.US.FTEK"]
[null,null,"S.US.PAYX",{"$f":"IFERROR(RTD(\"cqg.rtd\", ,\"ContractData\",C146, \"PerCentNetLastTrade\",, \"T\")/100,\"\")","v":-3.3636057854019509E-4},1579,1579,"S.US.PAYX",146,"S.US.MMLP"]
[null,null,"S.US.LLTC",{"$f":"IFERROR(RTD(\"cqg.rtd\", ,\"ContractData\",C147, \"PerCentNetLastTrade\",, \"T\")/100,\"\")","v":-1.4383890043151671E-3},1656,1656,"S.US.LLTC",147,"S.US.CRVS"]
[null,null,"S.US.YNDX",{"$f":"IFERROR(RTD(\"cqg.rtd\", ,\"ContractData\",C148, \"PerCentNetLastTrade\",, \"T\")/100,\"\")","v":1.0292524377031421E-2},708,708,"S.US.YNDX",148,"S.US.ARTW"]
[null,null,"S.US.XLNX",{"$f":"IFERROR(RTD(\"cqg.rtd\", ,\"ContractData\",C149, \"PerCentNetLastTrade\",, \"T\")/100,\"\")","v":5.5545269394556562E-3},1013,1013,"S.US.XLNX",149,"S.US.GEMP"]
[null,null,"S.US.EXAS",{"$f":"IFERROR(RTD(\"cqg.rtd\", ,\"ContractData\",C150, \"PerCentNetLastTrade\",, \"T\")/100,\"\")","v":-7.2559366754617414E-3},1991,1991,"S.US.EXAS",150,"S.US.FRPT"]
[null,null,"S.US.WB",{"$f":"IFERROR(RTD(\"cqg.rtd\", ,\"ContractData\",C151, \"PerCentNetLastTrade\",, \"T\")/100,\"\")","v":-3.8662284941040014E-3},1816,1816,"S.US.WB",151,"S.US.INTX"]
[null,null,"S.US.INFO",{"$f":"IFERROR(RTD(\"cqg.rtd\", ,\"ContractData\",C152, \"PerCentNetLastTrade\",, \"T\")/100,\"\")","v":1.0662177328843996E-2},685,685,"S.US.INFO",152,"S.US.CACQ"]
[null,null,"S.US.ADBE",{"$f":"IFERROR(RTD(\"cqg.rtd\", ,\"ContractData\",C153, \"PerCentNetLastTrade\",, \"T\")/100,\"\")","v":-5.1453072891853267E-3},1891,1891,"S.US.ADBE",153,"S.US.RDNT"]
[null,null,"S.US.CAR",{"$f":"IFERROR(RTD(\"cqg.rtd\", ,\"ContractData\",C154, \"PerCentNetLastTrade\",, \"T\")/100,\"\")","v":2.8690662493479398E-3},1193,1193,"S.US.CAR",154,"S.US.GBT"]
[null,null,"S.US.HIMX",{"$f":"IFERROR(RTD(\"cqg.rtd\", ,\"ContractData\",C155, \"PerCentNetLastTrade\",, \"T\")/100,\"\")","v":2.7247956403269758E-3},1206,1206,"S.US.HIMX",155,"S.US.CIDM"]
[null,null,"S.US.ACAD",{"$f":"IFERROR(RTD(\"cqg.rtd\", ,\"ContractData\",C156, \"PerCentNetLastTrade\",, \"T\")/100,\"\")","v":1.0126582278481013E-2},713,713,"S.US.ACAD",156,"S.US.OSBC"]
[null,null,"S.US.WIN",{"$f":"IFERROR(RTD(\"cqg.rtd\", ,\"ContractData\",C157, \"PerCentNetLastTrade\",, \"T\")/100,\"\")","v":-6.7476383265856954E-3},1964,1964,"S.US.WIN",157,"S.US.NFEC"]
[null,null,"S.US.SNH",{"$f":"IFERROR(RTD(\"cqg.rtd\", ,\"ContractData\",C158, \"PerCentNetLastTrade\",, \"T\")/100,\"\")","v":-2.6790595954073262E-2},2416,2416,"S.US.SNH",158,"S.US.CHEK"]
[null,null,"S.US.WETF",{"$f":"IFERROR(RTD(\"cqg.rtd\", ,\"ContractData\",C159, \"PerCentNetLastTrade\",, \"T\")/100,\"\")","v":2.4930747922437674E-2},245,245,"S.US.WETF",159,"S.US.ROSG"]
[null,null,"S.US.NVCN",{"$f":"IFERROR(RTD(\"cqg.rtd\", ,\"ContractData\",C160, \"PerCentNetLastTrade\",, \"T\")/100,\"\")","v":-1.8867924528301886E-2},2334,2334,"S.US.NVCN",160,"S.US.BPTH"]
[null,null,"S.US.PDCO",{"$f":"IFERROR(RTD(\"cqg.rtd\", ,\"ContractData\",C161, \"PerCentNetLastTrade\",, \"T\")/100,\"\")","v":-2.5726781579624386E-4},1577,1577,"S.US.PDCO",161,"S.US.HLIT"]
[null,null,"S.US.JUNO",{"$f":"IFERROR(RTD(\"cqg.rtd\", ,\"ContractData\",C162, \"PerCentNetLastTrade\",, \"T\")/100,\"\")","v":-2.6502602934216753E-2},2413,2413,"S.US.JUNO",162,"S.US.GASS"]
[null,null,"S.US.SKLN",{"$f":"IFERROR(RTD(\"cqg.rtd\", ,\"ContractData\",C163, \"PerCentNetLastTrade\",, \"T\")/100,\"\")","v":-4.2253521126760563E-2},2495,2495,"S.US.SKLN",163,"S.US.WPRT"]
[null,null,"S.US.AVGO",{"$f":"IFERROR(RTD(\"cqg.rtd\", ,\"ContractData\",C164, \"PerCentNetLastTrade\",, \"T\")/100,\"\")","v":-1.0487318324308921E-2},2117,2117,"S.US.AVGO",164,"S.US.CBAY"]
[null,null,"S.US.AKAM",{"$f":"IFERROR(RTD(\"cqg.rtd\", ,\"ContractData\",C165, \"PerCentNetLastTrade\",, \"T\")/100,\"\")","v":-9.0665873959571933E-3},2065,2065,"S.US.AKAM",165,"S.US.OTEL"]
[null,null,"S.US.ELGX",{"$f":"IFERROR(RTD(\"cqg.rtd\", ,\"ContractData\",C166, \"PerCentNetLastTrade\",, \"T\")/100,\"\")","v":-1.7832647462277092E-2},2309,2309,"S.US.ELGX",166,"S.US.OZRK"]
[null,null,"S.US.MCHP",{"$f":"IFERROR(RTD(\"cqg.rtd\", ,\"ContractData\",C167, \"PerCentNetLastTrade\",, \"T\")/100,\"\")","v":8.783886112373164E-3},808,808,"S.US.MCHP",167,"S.US.GPOR"]
[null,null,"S.US.ZIOP",{"$f":"IFERROR(RTD(\"cqg.rtd\", ,\"ContractData\",C168, \"PerCentNetLastTrade\",, \"T\")/100,\"\")","v":-2.5147928994082844E-2},2396,2396,"S.US.ZIOP",168,"S.US.CSX"]
[null,null,"S.US.COST",{"$f":"IFERROR(RTD(\"cqg.rtd\", ,\"ContractData\",C169, \"PerCentNetLastTrade\",, \"T\")/100,\"\")","v":-1.8484288354898336E-3},1680,1680,"S.US.COST",169,"S.US.MIND"]
[null,null,"S.US.AMRN",{"$f":"IFERROR(RTD(\"cqg.rtd\", ,\"ContractData\",C170, \"PerCentNetLastTrade\",, \"T\")/100,\"\")","v":-9.0634441087613302E-3},2064,2064,"S.US.AMRN",170,"S.US.DGLD"]
[null,null,"S.US.IDTI",{"$f":"IFERROR(RTD(\"cqg.rtd\", ,\"ContractData\",C171, \"PerCentNetLastTrade\",, \"T\")/100,\"\")","v":-3.7480063795853266E-2},2480,2480,"S.US.IDTI",171,"S.US.EGLE"]
[null,null,"S.US.VIP",{"$f":"IFERROR(RTD(\"cqg.rtd\", ,\"ContractData\",C172, \"PerCentNetLastTrade\",, \"T\")/100,\"\")","v":3.048780487804878E-2},177,177,"S.US.VIP",172,"S.US.TRS"]
[null,null,"S.US.CA",{"$f":"IFERROR(RTD(\"cqg.rtd\", ,\"ContractData\",C173, \"PerCentNetLastTrade\",, \"T\")/100,\"\")","v":-9.2364532019704442E-3},2070,2070,"S.US.CA",173,"S.US.RTK"]
[null,null,"S.US.REXX",{"$f":"IFERROR(RTD(\"cqg.rtd\", ,\"ContractData\",C174, \"PerCentNetLastTrade\",, \"T\")/100,\"\")","v":0.18421052631578949},5,5,"S.US.REXX",174,"S.US.NAUH"]
[null,null,"S.US.FTNT",{"$f":"IFERROR(RTD(\"cqg.rtd\", ,\"ContractData\",C175, \"PerCentNetLastTrade\",, \"T\")/100,\"\")","v":-2.3148148148148147E-3},1710,1710,"S.US.FTNT",175,"S.US.SGMO"]
[null,null,"S.US.CHTR",{"$f":"IFERROR(RTD(\"cqg.rtd\", ,\"ContractData\",C176, \"PerCentNetLastTrade\",, \"T\")/100,\"\")","v":-1.9501586509322971E-2},2347,2347,"S.US.CHTR",176,"S.US.CCNE"]
[null,null,"S.US.HDS",{"$f":"IFERROR(RTD(\"cqg.rtd\", ,\"ContractData\",C177, \"PerCentNetLastTrade\",, \"T\")/100,\"\")","v":2.1823850350740449E-2},310,310,"S.US.HDS",177,"S.US.VIP"]
[null,null,"S.US.IBB",{"$f":"IFERROR(RTD(\"cqg.rtd\", ,\"ContractData\",C178, \"PerCentNetLastTrade\",, \"T\")/100,\"\")","v":-6.6711854732260708E-3},1961,1961,"S.US.IBB",178,"S.US.RUSHA"]
[null,null,"S.US.ACWI",{"$f":"IFERROR(RTD(\"cqg.rtd\", ,\"ContractData\",C179, \"PerCentNetLastTrade\",, \"T\")/100,\"\")","v":6.8119891008174395E-4},1351,1351,"S.US.ACWI",179,"S.US.ZEUS"]
[null,null,"S.US.BEAV",{"$f":"IFERROR(RTD(\"cqg.rtd\", ,\"ContractData\",C180, \"PerCentNetLastTrade\",, \"T\")/100,\"\")","v":3.6721749290602569E-3},1135,1135,"S.US.BEAV",180,"S.US.AUPH"]
[null,null,"S.US.ADP",{"$f":"IFERROR(RTD(\"cqg.rtd\", ,\"ContractData\",C181, \"PerCentNetLastTrade\",, \"T\")/100,\"\")","v":-2.4732069249793899E-3},1717,1717,"S.US.ADP",181,"S.US.DXYN"]
[null,null,"S.US.TROW",{"$f":"IFERROR(RTD(\"cqg.rtd\", ,\"ContractData\",C182, \"PerCentNetLastTrade\",, \"T\")/100,\"\")","v":1.2810029980921232E-2},582,582,"S.US.TROW",182,"S.US.GTLS"]
[null,null,"S.US.SWKS",{"$f":"IFERROR(RTD(\"cqg.rtd\", ,\"ContractData\",C183, \"PerCentNetLastTrade\",, \"T\")/100,\"\")","v":-1.9425019425019425E-3},1689,1689,"S.US.SWKS",183,"S.US.STLY"]
[null,null,"S.US.TUBE",{"$f":"IFERROR(RTD(\"cqg.rtd\", ,\"ContractData\",C184, \"PerCentNetLastTrade\",, \"T\")/100,\"\")","v":2.851033499643621E-3},1196,1196,"S.US.TUBE",184,"S.US.BBGI"]
[null,null,"S.US.PPC",{"$f":"IFERROR(RTD(\"cqg.rtd\", ,\"ContractData\",C185, \"PerCentNetLastTrade\",, \"T\")/100,\"\")","v":-1.9672131147540982E-2},2348,2348,"S.US.PPC",185,"S.US.HALL"]
[null,null,"S.US.SRPT",{"$f":"IFERROR(RTD(\"cqg.rtd\", ,\"ContractData\",C186, \"PerCentNetLastTrade\",, \"T\")/100,\"\")","v":-2.7233115468409584E-2},2419,2419,"S.US.SRPT",186,"S.US.ABTL"]
[null,null,"S.US.GOOGL",{"$f":"IFERROR(RTD(\"cqg.rtd\", ,\"ContractData\",C187, \"PerCentNetLastTrade\",, \"T\")/100,\"\")","v":-4.167511147142278E-3},1832,1832,"S.US.GOOGL",187,"S.US.WFBI"]
[null,null,"S.US.TTWO",{"$f":"IFERROR(RTD(\"cqg.rtd\", ,\"ContractData\",C188, \"PerCentNetLastTrade\",, \"T\")/100,\"\")","v":-5.9892194050708723E-3},1928,1928,"S.US.TTWO",188,"S.US.TGA"]
[null,null,"S.US.PSEC",{"$f":"IFERROR(RTD(\"cqg.rtd\", ,\"ContractData\",C189, \"PerCentNetLastTrade\",, \"T\")/100,\"\")","v":0},1378,1378,"S.US.PSEC",189,"S.US.AVNW"]
[null,null,"S.US.BIDU",{"$f":"IFERROR(RTD(\"cqg.rtd\", ,\"ContractData\",C190, \"PerCentNetLastTrade\",, \"T\")/100,\"\")","v":-9.9302518028135719E-3},2094,2094,"S.US.BIDU",190,"S.US.WKHS"]
[null,null,"S.US.CSIQ",{"$f":"IFERROR(RTD(\"cqg.rtd\", ,\"ContractData\",C191, \"PerCentNetLastTrade\",, \"T\")/100,\"\")","v":2.6385224274406332E-3},1212,1212,"S.US.CSIQ",191,"S.US.RAIL"]
[null,null,"S.US.DEPO",{"$f":"IFERROR(RTD(\"cqg.rtd\", ,\"ContractData\",C192, \"PerCentNetLastTrade\",, \"T\")/100,\"\")","v":-1.4191586416624428E-2},2230,2230,"S.US.DEPO",192,"S.US.SIGM"]
[null,null,"S.US.SHIP",{"$f":"IFERROR(RTD(\"cqg.rtd\", ,\"ContractData\",C193, \"PerCentNetLastTrade\",, \"T\")/100,\"\")","v":2.2222222222222223E-2},301,301,"S.US.SHIP",193,{"$f":"IFERROR(VLOOKUP(H193,$F$1:$G$2860,2,FALSE),\"\")","v":"S.US.MVIS"}]
[null,null,"S.US.EBIO",{"$f":"IFERROR(RTD(\"cqg.rtd\", ,\"ContractData\",C194, \"PerCentNetLastTrade\",, \"T\")/100,\"\")","v":-3.8626609442060082E-2},2484,{"$f":"IFERROR(E194,\"\")","v":2484},"S.US.EBIO",194,"S.US.SBBP"]
[null,null,"S.US.CENX",{"$f":"IFERROR(RTD(\"cqg.rtd\", ,\"ContractData\",C195, \"PerCentNetLastTrade\",, \"T\")/100,\"\")","v":2.176278563656148E-2},311,311,{"$f":"C195","v":"S.US.CENX"},{"$f":"H194+1","v":195},"S.US.GENC"]
[null,null,"S.US.SSRI",{"$f":"IFERROR(RTD(\"cqg.rtd\", ,\"ContractData\",C196, \"PerCentNetLastTrade\",, \"T\")/100,\"\")","v":-1.4042126379137411E-2},2225,2225,"S.US.SSRI",196,"S.US.AMTX"]
[null,null,"S.US.CME",{"$f":"IFERROR(RTD(\"cqg.rtd\", ,\"ContractData\",C197, \"PerCentNetLastTrade\",, \"T\")/100,\"\")","v":1.3313215585337712E-3},1298,1298,"S.US.CME",197,"S.US.STDY"]
[null,null,"S.US.ADSK",{"$f":"IFERROR(RTD(\"cqg.rtd\", ,\"ContractData\",C198, \"PerCentNetLastTrade\",, \"T\")/100,\"\")","v":-5.5009301089556206E-2},2526,2526,"S.US.ADSK",198,"S.US.CPLP"]
[null,null,"S.US.HALO",{"$f":"IFERROR(RTD(\"cqg.rtd\", ,\"ContractData\",C199, \"PerCentNetLastTrade\",, \"T\")/100,\"\")","v":-2.4855012427506215E-3},1719,1719,"S.US.HALO",199,"S.US.MDCA"]
[null,null,"S.US.ACIA",{"$f":"IFERROR(RTD(\"cqg.rtd\", ,\"ContractData\",C200, \"PerCentNetLastTrade\",, \"T\")/100,\"\")","v":1.0895712466393094E-2},676,676,"S.US.ACIA",200,"S.US.CASC"]
[null,null,"S.US.LRCX",{"$f":"IFERROR(RTD(\"cqg.rtd\", ,\"ContractData\",C201, \"PerCentNetLastTrade\",, \"T\")/100,\"\")","v":-3.7185088779399461E-3},1805,1805,"S.US.LRCX",201,"S.US.SPAR"]
[null,null,"S.US.CARA",{"$f":"IFERROR(RTD(\"cqg.rtd\", ,\"ContractData\",C202, \"PerCentNetLastTrade\",, \"T\")/100,\"\")","v":-1.7989417989417989E-2},2315,2315,"S.US.CARA",202,"S.US.PI"]
[null,null,"S.US.GPOR",{"$f":"IFERROR(RTD(\"cqg.rtd\", ,\"ContractData\",C203, \"PerCentNetLastTrade\",, \"T\")/100,\"\")","v":3.161592505854801E-2},167,167,"S.US.GPOR",203,"S.US.TNGO"]
[null,null,"S.US.GLUU",{"$f":"IFERROR(RTD(\"cqg.rtd\", ,\"ContractData\",C204, \"PerCentNetLastTrade\",, \"T\")/100,\"\")","v":1.3698630136986301E-2},553,553,"S.US.GLUU",204,"S.US.ZION"]
[null,null,"S.US.ARCC",{"$f":"IFERROR(RTD(\"cqg.rtd\", ,\"ContractData\",C205, \"PerCentNetLastTrade\",, \"T\")/100,\"\")","v":-1.2484394506866417E-3},1643,1643,"S.US.ARCC",205,"S.US.KITE"]
[null,null,"S.US.CDNS",{"$f":"IFERROR(RTD(\"cqg.rtd\", ,\"ContractData\",C206, \"PerCentNetLastTrade\",, \"T\")/100,\"\")","v":-1.0530274539300489E-2},2121,2121,"S.US.CDNS",206,"S.US.SLM"]
[null,null,"S.US.IMMU",{"$f":"IFERROR(RTD(\"cqg.rtd\", ,\"ContractData\",C207, \"PerCentNetLastTrade\",, \"T\")/100,\"\")","v":8.9552238805970154E-3},800,800,"S.US.IMMU",207,"S.US.HBHC"]
[null,null,"S.US.DISH",{"$f":"IFERROR(RTD(\"cqg.rtd\", ,\"ContractData\",C208, \"PerCentNetLastTrade\",, \"T\")/100,\"\")","v":-9.7070549488646202E-3},2087,2087,"S.US.DISH",208,"S.US.TTNP"]
[null,null,"S.US.TRMB",{"$f":"IFERROR(RTD(\"cqg.rtd\", ,\"ContractData\",C209, \"PerCentNetLastTrade\",, \"T\")/100,\"\")","v":-1.4114326040931546E-3},1655,1655,"S.US.TRMB",209,"S.US.EDGE"]
[null,null,"S.US.UMPQ",{"$f":"IFERROR(RTD(\"cqg.rtd\", ,\"ContractData\",C210, \"PerCentNetLastTrade\",, \"T\")/100,\"\")","v":1.1435105774728416E-2},648,648,"S.US.UMPQ",210,"S.US.NATH"]
[null,null,"S.US.RGSE",{"$f":"IFERROR(RTD(\"cqg.rtd\", ,\"ContractData\",C211, \"PerCentNetLastTrade\",, \"T\")/100,\"\")","v":-7.5471698113207544E-2},2550,2550,"S.US.RGSE",211,"S.US.WYNN"]
[null,null,"S.US.TQQQ",{"$f":"IFERROR(RTD(\"cqg.rtd\", ,\"ContractData\",C212, \"PerCentNetLastTrade\",, \"T\")/100,\"\")","v":-1.3732833957553059E-2},2217,2217,"S.US.TQQQ",212,"S.US.CNXR"]
[null,null,"S.US.BBBY",{"$f":"IFERROR(RTD(\"cqg.rtd\", ,\"ContractData\",C213, \"PerCentNetLastTrade\",, \"T\")/100,\"\")","v":4.4385264092321354E-4},1355,1355,"S.US.BBBY",213,"S.US.IBKC"]
[null,null,"S.US.NCLH",{"$f":"IFERROR(RTD(\"cqg.rtd\", ,\"ContractData\",C214, \"PerCentNetLastTrade\",, \"T\")/100,\"\")","v":-3.2915745517071972E-2},2462,2462,"S.US.NCLH",214,"S.US.BPFH"]
[null,null,"S.US.VRTX",{"$f":"IFERROR(RTD(\"cqg.rtd\", ,\"ContractData\",C215, \"PerCentNetLastTrade\",, \"T\")/100,\"\")","v":-1.0274372446001167E-2},2106,2106,"S.US.VRTX",215,"S.US.CBMG"]
[null,null,"S.US.EXPE",{"$f":"IFERROR(RTD(\"cqg.rtd\", ,\"ContractData\",C216, \"PerCentNetLastTrade\",, \"T\")/100,\"\")","v":-2.158273381294964E-3},1702,1702,"S.US.EXPE",216,"S.US.EDIT"]
[null,null,"S.US.VIAV",{"$f":"IFERROR(RTD(\"cqg.rtd\", ,\"ContractData\",C217, \"PerCentNetLastTrade\",, \"T\")/100,\"\")","v":-1.2484394506866416E-2},2184,2184,"S.US.VIAV",217,"S.US.MRLN"]
[null,null,"S.US.GOOG",{"$f":"IFERROR(RTD(\"cqg.rtd\", ,\"ContractData\",C218, \"PerCentNetLastTrade\",, \"T\")/100,\"\")","v":-3.321052358466089E-3},1775,1775,"S.US.GOOG",218,"S.US.SBCF"]
[null,null,"S.US.STRZA",{"$f":"IFERROR(RTD(\"cqg.rtd\", ,\"ContractData\",C219, \"PerCentNetLastTrade\",, \"T\")/100,\"\")","v":1.1785503830288745E-3},1311,1311,"S.US.STRZA",219,"S.US.SPLK"]
[null,null,"S.US.GNTX",{"$f":"IFERROR(RTD(\"cqg.rtd\", ,\"ContractData\",C220, \"PerCentNetLastTrade\",, \"T\")/100,\"\")","v":1.2575177692728267E-2},595,595,"S.US.GNTX",220,"S.US.VKTX"]
[null,null,"S.US.MEMP",{"$f":"IFERROR(RTD(\"cqg.rtd\", ,\"ContractData\",C221, \"PerCentNetLastTrade\",, \"T\")/100,\"\")","v":0.19354838709677419},3,3,"S.US.MEMP",221,"S.US.CNCE"]
[null,null,"S.US.QRVO",{"$f":"IFERROR(RTD(\"cqg.rtd\", ,\"ContractData\",C222, \"PerCentNetLastTrade\",, \"T\")/100,\"\")","v":-9.2114959469417835E-4},1621,1621,"S.US.QRVO",222,"S.US.SYNA"]
[null,null,"S.US.PCAR",{"$f":"IFERROR(RTD(\"cqg.rtd\", ,\"ContractData\",C223, \"PerCentNetLastTrade\",, \"T\")/100,\"\")","v":9.139872694630324E-3},787,787,"S.US.PCAR",223,"S.US.TENX"]
[null,null,"S.US.TSCO",{"$f":"IFERROR(RTD(\"cqg.rtd\", ,\"ContractData\",C224, \"PerCentNetLastTrade\",, \"T\")/100,\"\")","v":5.3511705685618729E-4},1348,1348,"S.US.TSCO",224,"S.US.KANG"]
[null,null,"S.US.AMKR",{"$f":"IFERROR(RTD(\"cqg.rtd\", ,\"ContractData\",C225, \"PerCentNetLastTrade\",, \"T\")/100,\"\")","v":1.6625103906899418E-3},1281,1281,"S.US.AMKR",225,"S.US.EDGW"]
[null,null,"S.US.TOPS",{"$f":"IFERROR(RTD(\"cqg.rtd\", ,\"ContractData\",C226, \"PerCentNetLastTrade\",, \"T\")/100,\"\")","v":3.5714285714285719E-2},130,130,"S.US.TOPS",226,"S.US.INFI"]
[null,null,"S.US.OPXA",{"$f":"IFERROR(RTD(\"cqg.rtd\", ,\"ContractData\",C227, \"PerCentNetLastTrade\",, \"T\")/100,\"\")","v":-3.8834951456310683E-2},2485,2485,"S.US.OPXA",227,"S.US.ONVO"]
[null,null,"S.US.CLNE",{"$f":"IFERROR(RTD(\"cqg.rtd\", ,\"ContractData\",C228, \"PerCentNetLastTrade\",, \"T\")/100,\"\")","v":4.9562682215743441E-2},66,66,"S.US.CLNE",228,"S.US.SPI"]
[null,null,"S.US.NKTR",{"$f":"IFERROR(RTD(\"cqg.rtd\", ,\"ContractData\",C229, \"PerCentNetLastTrade\",, \"T\")/100,\"\")","v":-1.0333863275039745E-2},2111,2111,"S.US.NKTR",229,"S.US.TCON"]
[null,null,"S.US.MXIM",{"$f":"IFERROR(RTD(\"cqg.rtd\", ,\"ContractData\",C230, \"PerCentNetLastTrade\",, \"T\")/100,\"\")","v":-5.2830188679245278E-3},1902,1902,"S.US.MXIM",230,"S.US.WINS"]
[null,null,"S.US.MEET",{"$f":"IFERROR(RTD(\"cqg.rtd\", ,\"ContractData\",C231, \"PerCentNetLastTrade\",, \"T\")/100,\"\")","v":-4.1237113402061857E-3},1829,1829,"S.US.MEET",231,"S.US.HWAY"]
[null,null,"S.US.MSCC",{"$f":"IFERROR(RTD(\"cqg.rtd\", ,\"ContractData\",C232, \"PerCentNetLastTrade\",, \"T\")/100,\"\")","v":4.3580897040130743E-3},1090,1090,"S.US.MSCC",232,"S.US.TSBK"]
[null,null,"S.US.AINV",{"$f":"IFERROR(RTD(\"cqg.rtd\", ,\"ContractData\",C233, \"PerCentNetLastTrade\",, \"T\")/100,\"\")","v":-1.6313213703099511E-3},1666,1666,"S.US.AINV",233,"S.US.RELY"]
[null,null,"S.US.AKRX",{"$f":"IFERROR(RTD(\"cqg.rtd\", ,\"ContractData\",C234, \"PerCentNetLastTrade\",, \"T\")/100,\"\")","v":-2.7272727272727271E-3},1734,1734,"S.US.AKRX",234,"S.US.IXYS"]
[null,null,"S.US.BIOS",{"$f":"IFERROR(RTD(\"cqg.rtd\", ,\"ContractData\",C235, \"PerCentNetLastTrade\",, \"T\")/100,\"\")","v":-1.6129032258064516E-2},2280,2280,"S.US.BIOS",235,"S.US.COMT"]
[null,null,"S.US.INFN",{"$f":"IFERROR(RTD(\"cqg.rtd\", ,\"ContractData\",C236, \"PerCentNetLastTrade\",, \"T\")/100,\"\")","v":1.176470588235294E-3},1312,1312,"S.US.INFN",236,"S.US.RMGN"]
[null,null,"S.US.XRAY",{"$f":"IFERROR(RTD(\"cqg.rtd\", ,\"ContractData\",C237, \"PerCentNetLastTrade\",, \"T\")/100,\"\")","v":-1.5214155779725484E-2},2259,2259,"S.US.XRAY",237,"S.US.JIVE"]
[null,null,"S.US.EXPD",{"$f":"IFERROR(RTD(\"cqg.rtd\", ,\"ContractData\",C238, \"PerCentNetLastTrade\",, \"T\")/100,\"\")","v":-2.2748815165876774E-3},1708,1708,"S.US.EXPD",238,"S.US.CIGI"]
[null,null,"S.US.BLMN",{"$f":"IFERROR(RTD(\"cqg.rtd\", ,\"ContractData\",C239, \"PerCentNetLastTrade\",, \"T\")/100,\"\")","v":5.3333333333333336E-4},1349,1349,"S.US.BLMN",239,"S.US.ESCA"]
[null,null,"S.US.IPXL",{"$f":"IFERROR(RTD(\"cqg.rtd\", ,\"ContractData\",C240, \"PerCentNetLastTrade\",, \"T\")/100,\"\")","v":1.3559322033898306E-3},1297,1297,"S.US.IPXL",240,"S.US.DCIX"]
[null,null,"S.US.EGLE",{"$f":"IFERROR(RTD(\"cqg.rtd\", ,\"ContractData\",C241, \"PerCentNetLastTrade\",, \"T\")/100,\"\")","v":3.1404958677685953E-2},171,171,"S.US.EGLE",241,"S.US.ROLL"]
[null,null,"S.US.DISCK",{"$f":"IFERROR(RTD(\"cqg.rtd\", ,\"ContractData\",C242, \"PerCentNetLastTrade\",, \"T\")/100,\"\")","v":-7.743362831858407E-3},2017,2017,"S.US.DISCK",242,"S.US.LSTR"]
[null,null,"S.US.CRBP",{"$f":"IFERROR(RTD(\"cqg.rtd\", ,\"ContractData\",C243, \"PerCentNetLastTrade\",, \"T\")/100,\"\")","v":-4.3749999999999997E-2},2500,2500,"S.US.CRBP",243,"S.US.STKS"]
[null,null,"S.US.HAIN",{"$f":"IFERROR(RTD(\"cqg.rtd\", ,\"ContractData\",C244, \"PerCentNetLastTrade\",, \"T\")/100,\"\")","v":1.5290519877675839E-3},1288,1288,"S.US.HAIN",244,"S.US.SIVB"]
[null,null,"S.US.KERX",{"$f":"IFERROR(RTD(\"cqg.rtd\", ,\"ContractData\",C245, \"PerCentNetLastTrade\",, \"T\")/100,\"\")","v":1.6778523489932888E-3},1279,1279,"S.US.KERX",245,"S.US.WETF"]
[null,null,"S.US.LULU",{"$f":"IFERROR(RTD(\"cqg.rtd\", ,\"ContractData\",C246, \"PerCentNetLastTrade\",, \"T\")/100,\"\")","v":-1.7146776406035667E-3},1670,1670,"S.US.LULU",246,"S.US.MGI"]
[null,null,"S.US.KLAC",{"$f":"IFERROR(RTD(\"cqg.rtd\", ,\"ContractData\",C247, \"PerCentNetLastTrade\",, \"T\")/100,\"\")","v":-1.0651322233104799E-2},2126,2126,"S.US.KLAC",247,"S.US.CLMS"]
[null,null,"S.US.SPLK",{"$f":"IFERROR(RTD(\"cqg.rtd\", ,\"ContractData\",C248, \"PerCentNetLastTrade\",, \"T\")/100,\"\")","v":2.6838619728128267E-2},219,219,"S.US.SPLK",248,"S.US.ONB"]
[null,null,"S.US.BIIB",{"$f":"IFERROR(RTD(\"cqg.rtd\", ,\"ContractData\",C249, \"PerCentNetLastTrade\",, \"T\")/100,\"\")","v":-1.1659015093965717E-2},2164,2164,"S.US.BIIB",249,"S.US.FITB"]
[null,null,"S.US.OPTT",{"$f":"IFERROR(RTD(\"cqg.rtd\", ,\"ContractData\",C250, \"PerCentNetLastTrade\",, \"T\")/100,\"\")","v":3.1250000000000002E-3},1172,1172,"S.US.OPTT",250,"S.US.ESXB"]
[null,null,"S.US.PGNX",{"$f":"IFERROR(RTD(\"cqg.rtd\", ,\"ContractData\",C251, \"PerCentNetLastTrade\",, \"T\")/100,\"\")","v":4.4198895027624304E-3},1088,1088,"S.US.PGNX",251,"S.US.MPB"]
[null,null,"S.US.RLOG",{"$f":"IFERROR(RTD(\"cqg.rtd\", ,\"ContractData\",C252, \"PerCentNetLastTrade\",, \"T\")/100,\"\")","v":-1.0638297872340425E-2},2124,2124,"S.US.RLOG",252,"S.US.VIVE"]
[null,null,"S.US.GLNG",{"$f":"IFERROR(RTD(\"cqg.rtd\", ,\"ContractData\",C253, \"PerCentNetLastTrade\",, \"T\")/100,\"\")","v":8.8194763435920989E-2},29,29,"S.US.GLNG",253,"S.US.GALT"]
[null,null,"S.US.LKQ",{"$f":"IFERROR(RTD(\"cqg.rtd\", ,\"ContractData\",C254, \"PerCentNetLastTrade\",, \"T\")/100,\"\")","v":2.4235080278703423E-3},1230,1230,"S.US.LKQ",254,"S.US.AKTX"]
[null,null,"S.US.SHPG",{"$f":"IFERROR(RTD(\"cqg.rtd\", ,\"ContractData\",C255, \"PerCentNetLastTrade\",, \"T\")/100,\"\")","v":-2.8443028613686781E-3},1742,1742,"S.US.SHPG",255,"S.US.PLPC"]
[null,null,"S.US.SBGI",{"$f":"IFERROR(RTD(\"cqg.rtd\", ,\"ContractData\",C256, \"PerCentNetLastTrade\",, \"T\")/100,\"\")","v":1.8547140649149921E-2},388,388,"S.US.SBGI",256,"S.US.NEWS"]
[null,null,"S.US.SBAC",{"$f":"IFERROR(RTD(\"cqg.rtd\", ,\"ContractData\",C257, \"PerCentNetLastTrade\",, \"T\")/100,\"\")","v":8.1154192966636611E-3},838,838,"S.US.SBAC",257,{"$f":"IFERROR(VLOOKUP(H257,$F$1:$G$2860,2,FALSE),\"\")","v":"S.US.ADVM"}]
[null,null,"S.US.RNVA",{"$f":"IFERROR(RTD(\"cqg.rtd\", ,\"ContractData\",C258, \"PerCentNetLastTrade\",, \"T\")/100,\"\")","v":-9.0909090909090912E-2},2555,{"$f":"IFERROR(E258,\"\")","v":2555},"S.US.RNVA",258,"S.US.MOBL"]
[null,null,"S.US.AUPH",{"$f":"IFERROR(RTD(\"cqg.rtd\", ,\"ContractData\",C259, \"PerCentNetLastTrade\",, \"T\")/100,\"\")","v":3.0303030303030304E-2},180,180,{"$f":"C259","v":"S.US.AUPH"},{"$f":"H258+1","v":259},"S.US.TRCH"]
[null,null,"S.US.PZRX",{"$f":"IFERROR(RTD(\"cqg.rtd\", ,\"ContractData\",C260, \"PerCentNetLastTrade\",, \"T\")/100,\"\")","v":-1.785714285714286E-2},2310,2310,"S.US.PZRX",260,"S.US.IVAC"]
[null,null,"S.US.ETSY",{"$f":"IFERROR(RTD(\"cqg.rtd\", ,\"ContractData\",C261, \"PerCentNetLastTrade\",, \"T\")/100,\"\")","v":-1.2568735271013353E-2},2188,2188,"S.US.ETSY",261,"S.US.IBOC"]
[null,null,"S.US.ISIL",{"$f":"IFERROR(RTD(\"cqg.rtd\", ,\"ContractData\",C262, \"PerCentNetLastTrade\",, \"T\")/100,\"\")","v":0},1379,1379,"S.US.ISIL",262,"S.US.OLBK"]
[null,null,"S.US.RUN",{"$f":"IFERROR(RTD(\"cqg.rtd\", ,\"ContractData\",C263, \"PerCentNetLastTrade\",, \"T\")/100,\"\")","v":4.6092184368737472E-2},73,73,"S.US.RUN",263,"S.US.CALA"]
[null,null,"S.US.CLVS",{"$f":"IFERROR(RTD(\"cqg.rtd\", ,\"ContractData\",C264, \"PerCentNetLastTrade\",, \"T\")/100,\"\")","v":4.4918585064570469E-3},1084,1084,"S.US.CLVS",264,"S.US.UBOH"]
[null,null,"S.US.MCHI",{"$f":"IFERROR(RTD(\"cqg.rtd\", ,\"ContractData\",C265, \"PerCentNetLastTrade\",, \"T\")/100,\"\")","v":-1.9284336833083351E-3},1685,1685,"S.US.MCHI",265,"S.US.LYTS"]
[null,null,"S.US.MYGN",{"$f":"IFERROR(RTD(\"cqg.rtd\", ,\"ContractData\",C266, \"PerCentNetLastTrade\",, \"T\")/100,\"\")","v":-2.9239766081871343E-3},1749,1749,"S.US.MYGN",266,"S.US.MNGA"]
[null,null,"S.US.INCY",{"$f":"IFERROR(RTD(\"cqg.rtd\", ,\"ContractData\",C267, \"PerCentNetLastTrade\",, \"T\")/100,\"\")","v":-7.613971637955649E-3},2013,2013,"S.US.INCY",267,"S.US.CASM"]
[null,null,"S.US.SCON",{"$f":"IFERROR(RTD(\"cqg.rtd\", ,\"ContractData\",C268, \"PerCentNetLastTrade\",, \"T\")/100,\"\")","v":0.58499999999999996},1,1,"S.US.SCON",268,"S.US.IIN"]
[null,null,"S.US.ACAS",{"$f":"IFERROR(RTD(\"cqg.rtd\", ,\"ContractData\",C269, \"PerCentNetLastTrade\",, \"T\")/100,\"\")","v":1.1547344110854503E-3},1314,1314,"S.US.ACAS",269,"S.US.CVGI"]
[null,null,"S.US.GOGO",{"$f":"IFERROR(RTD(\"cqg.rtd\", ,\"ContractData\",C270, \"PerCentNetLastTrade\",, \"T\")/100,\"\")","v":-3.1847133757961781E-3},1767,1767,"S.US.GOGO",270,"S.US.CDTX"]
[null,null,"S.US.Z",{"$f":"IFERROR(RTD(\"cqg.rtd\", ,\"ContractData\",C271, \"PerCentNetLastTrade\",, \"T\")/100,\"\")","v":-1.3885031935573452E-3},1653,1653,"S.US.Z",271,"S.US.RXDX"]
[null,null,"S.US.INTU",{"$f":"IFERROR(RTD(\"cqg.rtd\", ,\"ContractData\",C272, \"PerCentNetLastTrade\",, \"T\")/100,\"\")","v":-5.8539944903581269E-3},1922,1922,"S.US.INTU",272,"S.US.PFIE"]
[null,null,"S.US.NTNX",{"$f":"IFERROR(RTD(\"cqg.rtd\", ,\"ContractData\",C273, \"PerCentNetLastTrade\",, \"T\")/100,\"\")","v":-4.1654444118509826E-2},2494,2494,"S.US.NTNX",273,"S.US.LTXB"]
[null,null,"S.US.DXCM",{"$f":"IFERROR(RTD(\"cqg.rtd\", ,\"ContractData\",C274, \"PerCentNetLastTrade\",, \"T\")/100,\"\")","v":-4.8479506390480383E-2},2512,2512,"S.US.DXCM",274,"S.US.TLGT"]
[null,null,"S.US.MDCO",{"$f":"IFERROR(RTD(\"cqg.rtd\", ,\"ContractData\",C275, \"PerCentNetLastTrade\",, \"T\")/100,\"\")","v":5.276312135517912E-3},1029,1029,"S.US.MDCO",275,"S.US.UTMD"]
[null,null,"S.US.IRWD",{"$f":"IFERROR(RTD(\"cqg.rtd\", ,\"ContractData\",C276, \"PerCentNetLastTrade\",, \"T\")/100,\"\")","v":6.993006993006993E-3},906,906,"S.US.IRWD",276,"S.US.DMTX"]
[null,null,"S.US.INVA",{"$f":"IFERROR(RTD(\"cqg.rtd\", ,\"ContractData\",C277, \"PerCentNetLastTrade\",, \"T\")/100,\"\")","v":-7.6555023923444978E-3},2015,2015,"S.US.INVA",277,"S.US.TIPT"]
[null,null,"S.US.AMSG",{"$f":"IFERROR(RTD(\"cqg.rtd\", ,\"ContractData\",C278, \"PerCentNetLastTrade\",, \"T\")/100,\"\")","v":-3.7102997922232117E-3},1815,1815,"S.US.AMSG",278,"S.US.DRNA"]
[null,null,"S.US.CSAL",{"$f":"IFERROR(RTD(\"cqg.rtd\", ,\"ContractData\",C279, \"PerCentNetLastTrade\",, \"T\")/100,\"\")","v":-1.4218009478672987E-2},2231,2231,"S.US.CSAL",279,"S.US.FBNC"]
[null,null,"S.US.OZRK",{"$f":"IFERROR(RTD(\"cqg.rtd\", ,\"ContractData\",C280, \"PerCentNetLastTrade\",, \"T\")/100,\"\")","v":3.1715623669646663E-2},166,166,"S.US.OZRK",280,"S.US.RDUS"]
[null,null,"S.US.ALNY",{"$f":"IFERROR(RTD(\"cqg.rtd\", ,\"ContractData\",C281, \"PerCentNetLastTrade\",, \"T\")/100,\"\")","v":-4.7794916358896372E-3},1874,1874,"S.US.ALNY",281,"S.US.CPST"]
[null,null,"S.US.NTRS",{"$f":"IFERROR(RTD(\"cqg.rtd\", ,\"ContractData\",C282, \"PerCentNetLastTrade\",, \"T\")/100,\"\")","v":1.2201133842740941E-2},615,615,"S.US.NTRS",282,"S.US.MTSC"]
[null,null,"S.US.CHRW",{"$f":"IFERROR(RTD(\"cqg.rtd\", ,\"ContractData\",C283, \"PerCentNetLastTrade\",, \"T\")/100,\"\")","v":2.1339023739663909E-3},1242,1242,"S.US.CHRW",283,"S.US.LONE"]
[null,null,"S.US.BLDR",{"$f":"IFERROR(RTD(\"cqg.rtd\", ,\"ContractData\",C284, \"PerCentNetLastTrade\",, \"T\")/100,\"\")","v":1.6304347826086956E-2},450,450,"S.US.BLDR",284,"S.US.EVBS"]
[null,null,"S.US.SGEN",{"$f":"IFERROR(RTD(\"cqg.rtd\", ,\"ContractData\",C285, \"PerCentNetLastTrade\",, \"T\")/100,\"\")","v":-2.335040674902079E-2},2377,2377,"S.US.SGEN",285,"S.US.ANCX"]
[null,null,"S.US.ARNA",{"$f":"IFERROR(RTD(\"cqg.rtd\", ,\"ContractData\",C286, \"PerCentNetLastTrade\",, \"T\")/100,\"\")","v":-6.6225165562913916E-3},1956,1956,"S.US.ARNA",286,"S.US.BHBK"]
[null,null,"S.US.QTEC",{"$f":"IFERROR(RTD(\"cqg.rtd\", ,\"ContractData\",C287, \"PerCentNetLastTrade\",, \"T\")/100,\"\")","v":-3.2350142721217891E-3},1769,1769,"S.US.QTEC",287,"S.US.COVS"]
[null,null,"S.US.CONE",{"$f":"IFERROR(RTD(\"cqg.rtd\", ,\"ContractData\",C288, \"PerCentNetLastTrade\",, \"T\")/100,\"\")","v":-2.9491833030852996E-2},2436,2436,"S.US.CONE",288,"S.US.ARII"]
[null,null,"S.US.FNSR",{"$f":"IFERROR(RTD(\"cqg.rtd\", ,\"ContractData\",C289, \"PerCentNetLastTrade\",, \"T\")/100,\"\")","v":-8.8054006457293811E-3},2052,2052,"S.US.FNSR",289,"S.US.INTL"]
[null,null,"S.US.LILAK",{"$f":"IFERROR(RTD(\"cqg.rtd\", ,\"ContractData\",C290, \"PerCentNetLastTrade\",, \"T\")/100,\"\")","v":-1.3011152416356878E-2},2200,2200,"S.US.LILAK",290,"S.US.GTIM"]
[null,null,"S.US.WMIH",{"$f":"IFERROR(RTD(\"cqg.rtd\", ,\"ContractData\",C291, \"PerCentNetLastTrade\",, \"T\")/100,\"\")","v":-1.8181818181818181E-2},2321,2321,"S.US.WMIH",291,"S.US.JBHT"]
[null,null,"S.US.CRZO",{"$f":"IFERROR(RTD(\"cqg.rtd\", ,\"ContractData\",C292, \"PerCentNetLastTrade\",, \"T\")/100,\"\")","v":0.12311629229456923},11,11,"S.US.CRZO",292,"S.US.KFRC"]
[null,null,"S.US.IMGN",{"$f":"IFERROR(RTD(\"cqg.rtd\", ,\"ContractData\",C293, \"PerCentNetLastTrade\",, \"T\")/100,\"\")","v":1.0928961748633882E-2},672,672,"S.US.IMGN",293,"S.US.PRTK"]
[null,null,"S.US.MTCH",{"$f":"IFERROR(RTD(\"cqg.rtd\", ,\"ContractData\",C294, \"PerCentNetLastTrade\",, \"T\")/100,\"\")","v":-1.2759170653907496E-2},2193,2193,"S.US.MTCH",294,"S.US.INNL"]
[null,null,"S.US.COWN",{"$f":"IFERROR(RTD(\"cqg.rtd\", ,\"ContractData\",C295, \"PerCentNetLastTrade\",, \"T\")/100,\"\")","v":1.3513513513513513E-2},561,561,"S.US.COWN",295,"S.US.EGBN"]
[null,null,"S.US.ARWR",{"$f":"IFERROR(RTD(\"cqg.rtd\", ,\"ContractData\",C296, \"PerCentNetLastTrade\",, \"T\")/100,\"\")","v":-0.6127562642369021},2576,2576,"S.US.ARWR",296,"S.US.OPB"]
[null,null,"S.US.SNI",{"$f":"IFERROR(RTD(\"cqg.rtd\", ,\"ContractData\",C297, \"PerCentNetLastTrade\",, \"T\")/100,\"\")","v":7.136739937196689E-4},1336,1336,"S.US.SNI",297,"S.US.KTOS"]
[null,null,"S.US.NTES",{"$f":"IFERROR(RTD(\"cqg.rtd\", ,\"ContractData\",C298, \"PerCentNetLastTrade\",, \"T\")/100,\"\")","v":-9.1288471570161716E-3},2067,2067,"S.US.NTES",298,"S.US.MRTN"]
[null,null,"S.US.ILMN",{"$f":"IFERROR(RTD(\"cqg.rtd\", ,\"ContractData\",C299, \"PerCentNetLastTrade\",, \"T\")/100,\"\")","v":-1.6626382480041016E-2},2291,2291,"S.US.ILMN",299,"S.US.BBOX"]
[null,null,"S.US.PTC",{"$f":"IFERROR(RTD(\"cqg.rtd\", ,\"ContractData\",C300, \"PerCentNetLastTrade\",, \"T\")/100,\"\")","v":-1.6119282691920211E-2},2279,2279,"S.US.PTC",300,"S.US.JRJC"]
[null,null,"S.US.BUFF",{"$f":"IFERROR(RTD(\"cqg.rtd\", ,\"ContractData\",C301, \"PerCentNetLastTrade\",, \"T\")/100,\"\")","v":9.385665529010238E-3},770,770,"S.US.BUFF",301,"S.US.SHIP"]
[null,null,"S.US.VCSH",{"$f":"IFERROR(RTD(\"cqg.rtd\", ,\"ContractData\",C302, \"PerCentNetLastTrade\",, \"T\")/100,\"\")","v":-1.2572290671360323E-3},1645,1645,"S.US.VCSH",302,"S.US.CDZI"]
[null,null,"S.US.BLUE",{"$f":"IFERROR(RTD(\"cqg.rtd\", ,\"ContractData\",C303, \"PerCentNetLastTrade\",, \"T\")/100,\"\")","v":1.7080745341614908E-2},429,429,"S.US.BLUE",303,"S.US.CFFI"]
[null,null,"S.US.GOLD",{"$f":"IFERROR(RTD(\"cqg.rtd\", ,\"ContractData\",C304, \"PerCentNetLastTrade\",, \"T\")/100,\"\")","v":-2.4453199293574243E-2},2393,2393,"S.US.GOLD",304,"S.US.TPIC"]
[null,null,"S.US.BMRN",{"$f":"IFERROR(RTD(\"cqg.rtd\", ,\"ContractData\",C305, \"PerCentNetLastTrade\",, \"T\")/100,\"\")","v":-5.8823529411764705E-3},1924,1924,"S.US.BMRN",305,"S.US.ECPG"]
[null,null,"S.US.ZVZZT",{"$f":"IFERROR(RTD(\"cqg.rtd\", ,\"ContractData\",C306, \"PerCentNetLastTrade\",, \"T\")/100,\"\")","v":-2.9880478087649402E-3},1752,1752,"S.US.ZVZZT",306,"S.US.FCNCA"]
[null,null,"S.US.CHKP",{"$f":"IFERROR(RTD(\"cqg.rtd\", ,\"ContractData\",C307, \"PerCentNetLastTrade\",, \"T\")/100,\"\")","v":5.0251256281407027E-3},1044,1044,"S.US.CHKP",307,"S.US.RIBT"]
[null,null,"S.US.SSYS",{"$f":"IFERROR(RTD(\"cqg.rtd\", ,\"ContractData\",C308, \"PerCentNetLastTrade\",, \"T\")/100,\"\")","v":-5.5035773252614197E-4},1598,1598,"S.US.SSYS",308,"S.US.EQBK"]
[null,null,"S.US.GERN",{"$f":"IFERROR(RTD(\"cqg.rtd\", ,\"ContractData\",C309, \"PerCentNetLastTrade\",, \"T\")/100,\"\")","v":1.9230769230769232E-2},376,376,"S.US.GERN",309,"S.US.BOKF"]
[null,null,"S.US.CYTR",{"$f":"IFERROR(RTD(\"cqg.rtd\", ,\"ContractData\",C310, \"PerCentNetLastTrade\",, \"T\")/100,\"\")","v":-7.1428571428571438E-2},2548,2548,"S.US.CYTR",310,"S.US.HDS"]
[null,null,"S.US.IDXG",{"$f":"IFERROR(RTD(\"cqg.rtd\", ,\"ContractData\",C311, \"PerCentNetLastTrade\",, \"T\")/100,\"\")","v":-0.17647058823529413},2571,2571,"S.US.IDXG",311,"S.US.CENX"]
[null,null,"S.US.AGEN",{"$f":"IFERROR(RTD(\"cqg.rtd\", ,\"ContractData\",C312, \"PerCentNetLastTrade\",, \"T\")/100,\"\")","v":-3.9080459770114942E-2},2487,2487,"S.US.AGEN",312,"S.US.APDN"]
[null,null,"S.US.VNR",{"$f":"IFERROR(RTD(\"cqg.rtd\", ,\"ContractData\",C313, \"PerCentNetLastTrade\",, \"T\")/100,\"\")","v":9.8039215686274522E-2},25,25,"S.US.VNR",313,"S.US.DSCI"]
[null,null,"S.US.FISV",{"$f":"IFERROR(RTD(\"cqg.rtd\", ,\"ContractData\",C314, \"PerCentNetLastTrade\",, \"T\")/100,\"\")","v":-1.0043176271822789E-2},2100,2100,"S.US.FISV",314,"S.US.ZBIO"]
[null,null,"S.US.AMCC",{"$f":"IFERROR(RTD(\"cqg.rtd\", ,\"ContractData\",C315, \"PerCentNetLastTrade\",, \"T\")/100,\"\")","v":1.7441860465116279E-2},422,422,"S.US.AMCC",315,"S.US.HURC"]
[null,null,"S.US.HMHC",{"$f":"IFERROR(RTD(\"cqg.rtd\", ,\"ContractData\",C316, \"PerCentNetLastTrade\",, \"T\")/100,\"\")","v":6.3063063063063061E-3},946,946,"S.US.HMHC",316,"S.US.TUSK"]
[null,null,"S.US.SINA",{"$f":"IFERROR(RTD(\"cqg.rtd\", ,\"ContractData\",C317, \"PerCentNetLastTrade\",, \"T\")/100,\"\")","v":-4.4281376518218625E-3},1853,1853,"S.US.SINA",317,"S.US.IGLD"]
[null,null,"S.US.ARRS",{"$f":"IFERROR(RTD(\"cqg.rtd\", ,\"ContractData\",C318, \"PerCentNetLastTrade\",, \"T\")/100,\"\")","v":3.0716723549488057E-3},1177,1177,"S.US.ARRS",318,"S.US.PHII"]
[null,null,"S.US.BGCP",{"$f":"IFERROR(RTD(\"cqg.rtd\", ,\"ContractData\",C319, \"PerCentNetLastTrade\",, \"T\")/100,\"\")","v":1.4403292181069959E-2},516,516,"S.US.BGCP",319,"S.US.GIFI"]
[null,null,"S.US.ELNK",{"$f":"IFERROR(RTD(\"cqg.rtd\", ,\"ContractData\",C320, \"PerCentNetLastTrade\",, \"T\")/100,\"\")","v":0},1380,1380,"S.US.ELNK",320,"S.US.SKIS"]
[null,null,"S.US.ILG",{"$f":"IFERROR(RTD(\"cqg.rtd\", ,\"ContractData\",C321, \"PerCentNetLastTrade\",, \"T\")/100,\"\")","v":5.5126791620727675E-4},1344,1344,"S.US.ILG",321,{"$f":"IFERROR(VLOOKUP(H321,$F$1:$G$2860,2,FALSE),\"\")","v":"S.US.FNLC"}]
[null,null,"S.US.AAXJ",{"$f":"IFERROR(RTD(\"cqg.rtd\", ,\"ContractData\",C322, \"PerCentNetLastTrade\",, \"T\")/100,\"\")","v":2.4600246002460025E-3},1224,{"$f":"IFERROR(E322,\"\")","v":1224},"S.US.AAXJ",322,"S.US.AMOV"]
[null,null,"S.US.ACHC",{"$f":"IFERROR(RTD(\"cqg.rtd\", ,\"ContractData\",C323, \"PerCentNetLastTrade\",, \"T\")/100,\"\")","v":6.5754865860073643E-3},934,934,{"$f":"C323","v":"S.US.ACHC"},{"$f":"H322+1","v":323},"S.US.WEB"]
[null,null,"S.US.GENE",{"$f":"IFERROR(RTD(\"cqg.rtd\", ,\"ContractData\",C324, \"PerCentNetLastTrade\",, \"T\")/100,\"\")","v":-8.4112149532710276E-2},2552,2552,"S.US.GENE",324,"S.US.ARCB"]
[null,null,"S.US.SSNC",{"$f":"IFERROR(RTD(\"cqg.rtd\", ,\"ContractData\",C325, \"PerCentNetLastTrade\",, \"T\")/100,\"\")","v":5.6068601583113449E-3},1007,1007,"S.US.SSNC",325,"S.US.BSRR"]
[null,null,"S.US.TWER",{"$f":"IFERROR(RTD(\"cqg.rtd\", ,\"ContractData\",C326, \"PerCentNetLastTrade\",, \"T\")/100,\"\")","v":-0.29411764705882354},2573,2573,"S.US.TWER",326,"S.US.ESEA"]
[null,null,"S.US.USLV",{"$f":"IFERROR(RTD(\"cqg.rtd\", ,\"ContractData\",C327, \"PerCentNetLastTrade\",, \"T\")/100,\"\")","v":-1.9402985074626865E-2},2342,2342,"S.US.USLV",327,"S.US.INOD"]
[null,null,"S.US.FINL",{"$f":"IFERROR(RTD(\"cqg.rtd\", ,\"ContractData\",C328, \"PerCentNetLastTrade\",, \"T\")/100,\"\")","v":6.0711188204683429E-3},967,967,"S.US.FINL",328,"S.US.LECO"]
[null,null,"S.US.TSRO",{"$f":"IFERROR(RTD(\"cqg.rtd\", ,\"ContractData\",C329, \"PerCentNetLastTrade\",, \"T\")/100,\"\")","v":0},1381,1381,"S.US.TSRO",329,"S.US.FELE"]
[null,null,"S.US.OCUL",{"$f":"IFERROR(RTD(\"cqg.rtd\", ,\"ContractData\",C330, \"PerCentNetLastTrade\",, \"T\")/100,\"\")","v":-5.3916581892166839E-2},2525,2525,"S.US.OCUL",330,"S.US.EFOI"]
[null,null,"S.US.SRCL",{"$f":"IFERROR(RTD(\"cqg.rtd\", ,\"ContractData\",C331, \"PerCentNetLastTrade\",, \"T\")/100,\"\")","v":-1.0286166424897799E-2},2107,2107,"S.US.SRCL",331,"S.US.PDEX"]
[null,null,"S.US.GLPI",{"$f":"IFERROR(RTD(\"cqg.rtd\", ,\"ContractData\",C332, \"PerCentNetLastTrade\",, \"T\")/100,\"\")","v":-6.7502410800385727E-3},1965,1965,"S.US.GLPI",332,"S.US.FDML"]
[null,null,"S.US.YY",{"$f":"IFERROR(RTD(\"cqg.rtd\", ,\"ContractData\",C333, \"PerCentNetLastTrade\",, \"T\")/100,\"\")","v":-3.2666666666666663E-2},2460,2460,"S.US.YY",333,"S.US.MLAB"]
[null,null,"S.US.FOSL",{"$f":"IFERROR(RTD(\"cqg.rtd\", ,\"ContractData\",C334, \"PerCentNetLastTrade\",, \"T\")/100,\"\")","v":-3.7313432835820899E-3},1807,1807,"S.US.FOSL",334,"S.US.AGTC"]
[null,null,"S.US.MIK",{"$f":"IFERROR(RTD(\"cqg.rtd\", ,\"ContractData\",C335, \"PerCentNetLastTrade\",, \"T\")/100,\"\")","v":-6.9586573884568162E-3},1975,1975,"S.US.MIK",335,"S.US.MTSI"]
[null,null,"S.US.BOFI",{"$f":"IFERROR(RTD(\"cqg.rtd\", ,\"ContractData\",C336, \"PerCentNetLastTrade\",, \"T\")/100,\"\")","v":-8.0064051240992789E-3},2025,2025,"S.US.BOFI",336,"S.US.INO"]
[null,null,"S.US.PRXL",{"$f":"IFERROR(RTD(\"cqg.rtd\", ,\"ContractData\",C337, \"PerCentNetLastTrade\",, \"T\")/100,\"\")","v":1.0178117048346056E-3},1322,1322,"S.US.PRXL",337,"S.US.FLL"]
[null,null,"S.US.IDRA",{"$f":"IFERROR(RTD(\"cqg.rtd\", ,\"ContractData\",C338, \"PerCentNetLastTrade\",, \"T\")/100,\"\")","v":0},1382,1382,"S.US.IDRA",338,"S.US.ESES"]
[null,null,"S.US.FANG",{"$f":"IFERROR(RTD(\"cqg.rtd\", ,\"ContractData\",C339, \"PerCentNetLastTrade\",, \"T\")/100,\"\")","v":0.1059748427672956},19,19,"S.US.FANG",339,"S.US.VYGR"]
[null,null,"S.US.HSIC",{"$f":"IFERROR(RTD(\"cqg.rtd\", ,\"ContractData\",C340, \"PerCentNetLastTrade\",, \"T\")/100,\"\")","v":-1.2007308796658836E-2},2172,2172,"S.US.HSIC",340,"S.US.FLKS"]
[null,null,"S.US.LPLA",{"$f":"IFERROR(RTD(\"cqg.rtd\", ,\"ContractData\",C341, \"PerCentNetLastTrade\",, \"T\")/100,\"\")","v":2.0566842237271132E-2},346,346,"S.US.LPLA",341,"S.US.REGI"]
[null,null,"S.US.PACB",{"$f":"IFERROR(RTD(\"cqg.rtd\", ,\"ContractData\",C342, \"PerCentNetLastTrade\",, \"T\")/100,\"\")","v":-1.0389610389610388E-2},2113,2113,"S.US.PACB",342,"S.US.UNB"]
[null,null,"S.US.TASR",{"$f":"IFERROR(RTD(\"cqg.rtd\", ,\"ContractData\",C343, \"PerCentNetLastTrade\",, \"T\")/100,\"\")","v":3.2667876588021779E-3},1165,1165,"S.US.TASR",343,"S.US.AMTD"]
[null,null,"S.US.GRMN",{"$f":"IFERROR(RTD(\"cqg.rtd\", ,\"ContractData\",C344, \"PerCentNetLastTrade\",, \"T\")/100,\"\")","v":5.1933064050779E-3},1034,1034,"S.US.GRMN",344,"S.US.SQBG"]
[null,null,"S.US.REGN",{"$f":"IFERROR(RTD(\"cqg.rtd\", ,\"ContractData\",C345, \"PerCentNetLastTrade\",, \"T\")/100,\"\")","v":-4.3898156277436349E-3},1851,1851,"S.US.REGN",345,"S.US.COYN"]
[null,null,"S.US.GLBS",{"$f":"IFERROR(RTD(\"cqg.rtd\", ,\"ContractData\",C346, \"PerCentNetLastTrade\",, \"T\")/100,\"\")","v":8.6175942549371637E-2},30,30,"S.US.GLBS",346,"S.US.LPLA"]
[null,null,"S.US.CSOD",{"$f":"IFERROR(RTD(\"cqg.rtd\", ,\"ContractData\",C347, \"PerCentNetLastTrade\",, \"T\")/100,\"\")","v":-3.5635964912280704E-3},1793,1793,"S.US.CSOD",347,"S.US.TCBK"]
[null,null,"S.US.DNKN",{"$f":"IFERROR(RTD(\"cqg.rtd\", ,\"ContractData\",C348, \"PerCentNetLastTrade\",, \"T\")/100,\"\")","v":1.2917512456172725E-3},1300,1300,"S.US.DNKN",348,"S.US.MNKD"]
[null,null,"S.US.AXAS",{"$f":"IFERROR(RTD(\"cqg.rtd\", ,\"ContractData\",C349, \"PerCentNetLastTrade\",, \"T\")/100,\"\")","v":0.11891891891891891},12,12,"S.US.AXAS",349,"S.US.CCCR"]
[null,null,"S.US.KITE",{"$f":"IFERROR(RTD(\"cqg.rtd\", ,\"ContractData\",C350, \"PerCentNetLastTrade\",, \"T\")/100,\"\")","v":2.7749438890022446E-2},205,205,"S.US.KITE",350,"S.US.QRHC"]
[null,null,"S.US.CREE",{"$f":"IFERROR(RTD(\"cqg.rtd\", ,\"ContractData\",C351, \"PerCentNetLastTrade\",, \"T\")/100,\"\")","v":2.3410066328521262E-3},1236,1236,"S.US.CREE",351,"S.US.ATLO"]
[null,null,"S.US.CAVM",{"$f":"IFERROR(RTD(\"cqg.rtd\", ,\"ContractData\",C352, \"PerCentNetLastTrade\",, \"T\")/100,\"\")","v":-5.2346885360321062E-3},1896,1896,"S.US.CAVM",352,"S.US.HBAN"]
[null,null,"S.US.FULT",{"$f":"IFERROR(RTD(\"cqg.rtd\", ,\"ContractData\",C353, \"PerCentNetLastTrade\",, \"T\")/100,\"\")","v":9.5774647887323944E-3},758,758,"S.US.FULT",353,"S.US.PBIP"]
[null,null,"S.US.INO",{"$f":"IFERROR(RTD(\"cqg.rtd\", ,\"ContractData\",C354, \"PerCentNetLastTrade\",, \"T\")/100,\"\")","v":2.097902097902098E-2},336,336,"S.US.INO",354,"S.US.NNBR"]
[null,null,"S.US.FIVE",{"$f":"IFERROR(RTD(\"cqg.rtd\", ,\"ContractData\",C355, \"PerCentNetLastTrade\",, \"T\")/100,\"\")","v":-7.520681875156681E-3},2010,2010,"S.US.FIVE",355,"S.US.SMRT"]
[null,null,"S.US.QGEN",{"$f":"IFERROR(RTD(\"cqg.rtd\", ,\"ContractData\",C356, \"PerCentNetLastTrade\",, \"T\")/100,\"\")","v":2.9069767441860465E-3},1190,1190,"S.US.QGEN",356,"S.US.NWBO"]
[null,null,"S.US.CRUS",{"$f":"IFERROR(RTD(\"cqg.rtd\", ,\"ContractData\",C357, \"PerCentNetLastTrade\",, \"T\")/100,\"\")","v":-6.9832402234636867E-3},1976,1976,"S.US.CRUS",357,"S.US.RMTI"]
[null,null,"S.US.AREX",{"$f":"IFERROR(RTD(\"cqg.rtd\", ,\"ContractData\",C358, \"PerCentNetLastTrade\",, \"T\")/100,\"\")","v":9.3333333333333338E-2},28,28,"S.US.AREX",358,"S.US.SELF"]
[null,null,"S.US.AMDA",{"$f":"IFERROR(RTD(\"cqg.rtd\", ,\"ContractData\",C359, \"PerCentNetLastTrade\",, \"T\")/100,\"\")","v":-1.492537313432836E-2},2256,2256,"S.US.AMDA",359,"S.US.OREX"]
[null,null,"S.US.ONVO",{"$f":"IFERROR(RTD(\"cqg.rtd\", ,\"ContractData\",C360, \"PerCentNetLastTrade\",, \"T\")/100,\"\")","v":2.6143790849673203E-2},227,227,"S.US.ONVO",360,"S.US.HBP"]
[null,null,"S.US.OPHT",{"$f":"IFERROR(RTD(\"cqg.rtd\", ,\"ContractData\",C361, \"PerCentNetLastTrade\",, \"T\")/100,\"\")","v":-4.7605054363796653E-2},2508,2508,"S.US.OPHT",361,"S.US.TWIN"]
[null,null,"S.US.LITE",{"$f":"IFERROR(RTD(\"cqg.rtd\", ,\"ContractData\",C362, \"PerCentNetLastTrade\",, \"T\")/100,\"\")","v":-1.1366384522370012E-2},2150,2150,"S.US.LITE",362,"S.US.PGC"]
[null,null,"S.US.SEMI",{"$f":"IFERROR(RTD(\"cqg.rtd\", ,\"ContractData\",C363, \"PerCentNetLastTrade\",, \"T\")/100,\"\")","v":0},1383,1383,"S.US.SEMI",363,"S.US.RGLS"]
[null,null,"S.US.ALKS",{"$f":"IFERROR(RTD(\"cqg.rtd\", ,\"ContractData\",C364, \"PerCentNetLastTrade\",, \"T\")/100,\"\")","v":-1.2743240916135698E-2},2192,2192,"S.US.ALKS",364,"S.US.SHLM"]
[null,null,"S.US.ALGN",{"$f":"IFERROR(RTD(\"cqg.rtd\", ,\"ContractData\",C365, \"PerCentNetLastTrade\",, \"T\")/100,\"\")","v":-1.842738980211496E-2},2326,2326,"S.US.ALGN",365,"S.US.DSLV"]
[null,null,"S.US.NWBO",{"$f":"IFERROR(RTD(\"cqg.rtd\", ,\"ContractData\",C366, \"PerCentNetLastTrade\",, \"T\")/100,\"\")","v":0.02},356,356,"S.US.NWBO",366,"S.US.NMIH"]
[null,null,"S.US.SAVE",{"$f":"IFERROR(RTD(\"cqg.rtd\", ,\"ContractData\",C367, \"PerCentNetLastTrade\",, \"T\")/100,\"\")","v":-4.218635363169479E-3},1837,1837,"S.US.SAVE",367,"S.US.AMOT"]
[null,null,"S.US.VRSK",{"$f":"IFERROR(RTD(\"cqg.rtd\", ,\"ContractData\",C368, \"PerCentNetLastTrade\",, \"T\")/100,\"\")","v":5.9608965188364326E-4},1340,1340,"S.US.VRSK",368,"S.US.UBSH"]
[null,null,"S.US.LVNTA",{"$f":"IFERROR(RTD(\"cqg.rtd\", ,\"ContractData\",C369, \"PerCentNetLastTrade\",, \"T\")/100,\"\")","v":-1.3393985342431134E-2},2208,2208,"S.US.LVNTA",369,"S.US.WINA"]
[null,null,"S.US.AMAG",{"$f":"IFERROR(RTD(\"cqg.rtd\", ,\"ContractData\",C370, \"PerCentNetLastTrade\",, \"T\")/100,\"\")","v":-6.8249258160237389E-3},1968,1968,"S.US.AMAG",370,"S.US.CONN"]
[null,null,"S.US.CAKE",{"$f":"IFERROR(RTD(\"cqg.rtd\", ,\"ContractData\",C371, \"PerCentNetLastTrade\",, \"T\")/100,\"\")","v":-6.7647556232031114E-4},1607,1607,"S.US.CAKE",371,"S.US.VLGEA"]
[null,null,"S.US.TNDM",{"$f":"IFERROR(RTD(\"cqg.rtd\", ,\"ContractData\",C372, \"PerCentNetLastTrade\",, \"T\")/100,\"\")","v":-5.0980392156862744E-2},2517,2517,"S.US.TNDM",372,"S.US.AMSC"]
[null,null,"S.US.CERS",{"$f":"IFERROR(RTD(\"cqg.rtd\", ,\"ContractData\",C373, \"PerCentNetLastTrade\",, \"T\")/100,\"\")","v":1.834862385321101E-3},1267,1267,"S.US.CERS",373,"S.US.PUB"]
[null,null,"S.US.JBHT",{"$f":"IFERROR(RTD(\"cqg.rtd\", ,\"ContractData\",C374, \"PerCentNetLastTrade\",, \"T\")/100,\"\")","v":2.256201881950385E-2},291,291,"S.US.JBHT",374,"S.US.CUNB"]
[null,null,"S.US.HDP",{"$f":"IFERROR(RTD(\"cqg.rtd\", ,\"ContractData\",C375, \"PerCentNetLastTrade\",, \"T\")/100,\"\")","v":-1.0917030567685589E-3},1632,1632,"S.US.HDP",375,"S.US.MBVT"]
[null,null,"S.US.HAS",{"$f":"IFERROR(RTD(\"cqg.rtd\", ,\"ContractData\",C376, \"PerCentNetLastTrade\",, \"T\")/100,\"\")","v":-6.0032325098129755E-3},1929,1929,"S.US.HAS",376,"S.US.GERN"]
[null,null,"S.US.CTXS",{"$f":"IFERROR(RTD(\"cqg.rtd\", ,\"ContractData\",C377, \"PerCentNetLastTrade\",, \"T\")/100,\"\")","v":-9.8931089379122126E-3},2093,2093,"S.US.CTXS",377,"S.US.RCII"]
[null,null,"S.US.KTOS",{"$f":"IFERROR(RTD(\"cqg.rtd\", ,\"ContractData\",C378, \"PerCentNetLastTrade\",, \"T\")/100,\"\")","v":2.2346368715083796E-2},297,297,"S.US.KTOS",378,"S.US.HAYN"]
[null,null,"S.US.PODD",{"$f":"IFERROR(RTD(\"cqg.rtd\", ,\"ContractData\",C379, \"PerCentNetLastTrade\",, \"T\")/100,\"\")","v":-4.5832139788026353E-3},1865,1865,"S.US.PODD",379,"S.US.CALM"]
[null,null,"S.US.TXRH",{"$f":"IFERROR(RTD(\"cqg.rtd\", ,\"ContractData\",C380, \"PerCentNetLastTrade\",, \"T\")/100,\"\")","v":-4.2363905952128787E-4},1590,1590,"S.US.TXRH",380,"S.US.TCBI"]
[null,null,"S.US.PEGI",{"$f":"IFERROR(RTD(\"cqg.rtd\", ,\"ContractData\",C381, \"PerCentNetLastTrade\",, \"T\")/100,\"\")","v":-4.4932601098352475E-3},1860,1860,"S.US.PEGI",381,"S.US.UG"]
[null,null,"S.US.PCRX",{"$f":"IFERROR(RTD(\"cqg.rtd\", ,\"ContractData\",C382, \"PerCentNetLastTrade\",, \"T\")/100,\"\")","v":-1.0264385692068429E-2},2105,2105,"S.US.PCRX",382,"S.US.WLB"]
[null,null,"S.US.YRCW",{"$f":"IFERROR(RTD(\"cqg.rtd\", ,\"ContractData\",C383, \"PerCentNetLastTrade\",, \"T\")/100,\"\")","v":5.6572379367720471E-2},49,49,"S.US.YRCW",383,"S.US.ABAC"]
[null,null,"S.US.PDCE",{"$f":"IFERROR(RTD(\"cqg.rtd\", ,\"ContractData\",C384, \"PerCentNetLastTrade\",, \"T\")/100,\"\")","v":0.11045518098493087},16,16,"S.US.PDCE",384,"S.US.ASCMA"]
[null,null,"S.US.CORT",{"$f":"IFERROR(RTD(\"cqg.rtd\", ,\"ContractData\",C385, \"PerCentNetLastTrade\",, \"T\")/100,\"\")","v":1.7793594306049824E-2},418,418,"S.US.CORT",385,{"$f":"IFERROR(VLOOKUP(H385,$F$1:$G$2860,2,FALSE),\"\")","v":"S.US.STAA"}]
[null,null,"S.US.THLD",{"$f":"IFERROR(RTD(\"cqg.rtd\", ,\"ContractData\",C386, \"PerCentNetLastTrade\",, \"T\")/100,\"\")","v":-6.1224489795918366E-2},2541,{"$f":"IFERROR(E386,\"\")","v":2541},"S.US.THLD",386,"S.US.BOOM"]
[null,null,"S.US.CROX",{"$f":"IFERROR(RTD(\"cqg.rtd\", ,\"ContractData\",C387, \"PerCentNetLastTrade\",, \"T\")/100,\"\")","v":-1.0767160161507403E-2},2131,2131,{"$f":"C387","v":"S.US.CROX"},{"$f":"H386+1","v":387},"S.US.FTXO"]
[null,null,"S.US.RCII",{"$f":"IFERROR(RTD(\"cqg.rtd\", ,\"ContractData\",C388, \"PerCentNetLastTrade\",, \"T\")/100,\"\")","v":1.9113814074717638E-2},377,377,"S.US.RCII",388,"S.US.SBGI"]
[null,null,"S.US.NYMT",{"$f":"IFERROR(RTD(\"cqg.rtd\", ,\"ContractData\",C389, \"PerCentNetLastTrade\",, \"T\")/100,\"\")","v":-7.4738415545590429E-3},2005,2005,"S.US.NYMT",389,"S.US.RBCAA"]
[null,null,"S.US.HPT",{"$f":"IFERROR(RTD(\"cqg.rtd\", ,\"ContractData\",C390, \"PerCentNetLastTrade\",, \"T\")/100,\"\")","v":-6.4516129032258064E-3},1949,1949,"S.US.HPT",390,"S.US.MCFT"]
[null,null,"S.US.PENN",{"$f":"IFERROR(RTD(\"cqg.rtd\", ,\"ContractData\",C391, \"PerCentNetLastTrade\",, \"T\")/100,\"\")","v":-2.9433406916850625E-3},1751,1751,"S.US.PENN",391,"S.US.CMTL"]
[null,null,"S.US.TIVO",{"$f":"IFERROR(RTD(\"cqg.rtd\", ,\"ContractData\",C392, \"PerCentNetLastTrade\",, \"T\")/100,\"\")","v":-1.8749999999999999E-2},2331,2331,"S.US.TIVO",392,"S.US.PDVW"]
[null,null,"S.US.AMCX",{"$f":"IFERROR(RTD(\"cqg.rtd\", ,\"ContractData\",C393, \"PerCentNetLastTrade\",, \"T\")/100,\"\")","v":-8.9047195013357075E-3},2060,2060,"S.US.AMCX",393,"S.US.ITCI"]
[null,null,"S.US.GRFS",{"$f":"IFERROR(RTD(\"cqg.rtd\", ,\"ContractData\",C394, \"PerCentNetLastTrade\",, \"T\")/100,\"\")","v":-4.4472681067344345E-3},1855,1855,"S.US.GRFS",394,"S.US.NAME"]
[null,null,"S.US.BIB",{"$f":"IFERROR(RTD(\"cqg.rtd\", ,\"ContractData\",C395, \"PerCentNetLastTrade\",, \"T\")/100,\"\")","v":-1.4308070646098816E-2},2236,2236,"S.US.BIB",395,"S.US.BGFV"]
[null,null,"S.US.CTRV",{"$f":"IFERROR(RTD(\"cqg.rtd\", ,\"ContractData\",C396, \"PerCentNetLastTrade\",, \"T\")/100,\"\")","v":-2.4038461538461536E-2},2386,2386,"S.US.CTRV",396,"S.US.ASTC"]
[null,null,"S.US.CDW",{"$f":"IFERROR(RTD(\"cqg.rtd\", ,\"ContractData\",C397, \"PerCentNetLastTrade\",, \"T\")/100,\"\")","v":1.7381228273464658E-3},1263,1263,"S.US.CDW",397,"S.US.UCBI"]
[null,null,"S.US.EWBC",{"$f":"IFERROR(RTD(\"cqg.rtd\", ,\"ContractData\",C398, \"PerCentNetLastTrade\",, \"T\")/100,\"\")","v":1.1851851851851851E-2},627,627,"S.US.EWBC",398,"S.US.BNSO"]
[null,null,"S.US.NBIX",{"$f":"IFERROR(RTD(\"cqg.rtd\", ,\"ContractData\",C399, \"PerCentNetLastTrade\",, \"T\")/100,\"\")","v":-1.7941843679109094E-2},2312,2312,"S.US.NBIX",399,"S.US.KTEC"]
[null,null,"S.US.RIGL",{"$f":"IFERROR(RTD(\"cqg.rtd\", ,\"ContractData\",C400, \"PerCentNetLastTrade\",, \"T\")/100,\"\")","v":7.4349442379182153E-3},884,884,"S.US.RIGL",400,"S.US.RWLK"]
[null,null,"S.US.WOOF",{"$f":"IFERROR(RTD(\"cqg.rtd\", ,\"ContractData\",C401, \"PerCentNetLastTrade\",, \"T\")/100,\"\")","v":-1.3151787095775955E-2},2203,2203,"S.US.WOOF",401,"S.US.HPJ"]
[null,null,"S.US.CBOE",{"$f":"IFERROR(RTD(\"cqg.rtd\", ,\"ContractData\",C402, \"PerCentNetLastTrade\",, \"T\")/100,\"\")","v":7.9941860465116282E-3},846,846,"S.US.CBOE",402,"S.US.NCOM"]
[null,null,"S.US.BCRX",{"$f":"IFERROR(RTD(\"cqg.rtd\", ,\"ContractData\",C403, \"PerCentNetLastTrade\",, \"T\")/100,\"\")","v":7.1174377224199293E-3},899,899,"S.US.BCRX",403,"S.US.NKSH"]
[null,null,"S.US.SEDG",{"$f":"IFERROR(RTD(\"cqg.rtd\", ,\"ContractData\",C404, \"PerCentNetLastTrade\",, \"T\")/100,\"\")","v":9.3023255813953487E-3},776,776,"S.US.SEDG",404,"S.US.VIAB"]
[null,null,"S.US.SAEX",{"$f":"IFERROR(RTD(\"cqg.rtd\", ,\"ContractData\",C405, \"PerCentNetLastTrade\",, \"T\")/100,\"\")","v":1.5568862275449102E-2},477,477,"S.US.SAEX",405,"S.US.ATHX"]
[null,null,"S.US.ICON",{"$f":"IFERROR(RTD(\"cqg.rtd\", ,\"ContractData\",C406, \"PerCentNetLastTrade\",, \"T\")/100,\"\")","v":5.4764512595837896E-3},1017,1017,"S.US.ICON",406,"S.US.SAIA"]
[null,null,"S.US.ZLTQ",{"$f":"IFERROR(RTD(\"cqg.rtd\", ,\"ContractData\",C407, \"PerCentNetLastTrade\",, \"T\")/100,\"\")","v":8.1756598925484709E-3},836,836,"S.US.ZLTQ",407,"S.US.VRAY"]
[null,null,"S.US.ONB",{"$f":"IFERROR(RTD(\"cqg.rtd\", ,\"ContractData\",C408, \"PerCentNetLastTrade\",, \"T\")/100,\"\")","v":2.4852071005917159E-2},248,248,"S.US.ONB",408,"S.US.CHMG"]
[null,null,"S.US.PACW",{"$f":"IFERROR(RTD(\"cqg.rtd\", ,\"ContractData\",C409, \"PerCentNetLastTrade\",, \"T\")/100,\"\")","v":9.7465886939571145E-3},746,746,"S.US.PACW",409,"S.US.NVEE"]
[null,null,"S.US.TRUE",{"$f":"IFERROR(RTD(\"cqg.rtd\", ,\"ContractData\",C410, \"PerCentNetLastTrade\",, \"T\")/100,\"\")","v":1.3212221304706855E-2},570,570,"S.US.TRUE",410,"S.US.BEAT"]
[null,null,"S.US.TEAM",{"$f":"IFERROR(RTD(\"cqg.rtd\", ,\"ContractData\",C411, \"PerCentNetLastTrade\",, \"T\")/100,\"\")","v":-2.8612821441506703E-2},2431,2431,"S.US.TEAM",411,"S.US.PSIX"]
[null,null,"S.US.ORLY",{"$f":"IFERROR(RTD(\"cqg.rtd\", ,\"ContractData\",C412, \"PerCentNetLastTrade\",, \"T\")/100,\"\")","v":-2.505537601220088E-3},1721,1721,"S.US.ORLY",412,"S.US.HCOM"]
[null,null,"S.US.PTLA",{"$f":"IFERROR(RTD(\"cqg.rtd\", ,\"ContractData\",C413, \"PerCentNetLastTrade\",, \"T\")/100,\"\")","v":-4.7948854555141182E-3},1875,1875,"S.US.PTLA",413,"S.US.JD"]
[null,null,"S.US.AVID",{"$f":"IFERROR(RTD(\"cqg.rtd\", ,\"ContractData\",C414, \"PerCentNetLastTrade\",, \"T\")/100,\"\")","v":-1.8099547511312219E-2},2318,2318,"S.US.AVID",414,"S.US.EZPW"]
[null,null,"S.US.XOG",{"$f":"IFERROR(RTD(\"cqg.rtd\", ,\"ContractData\",C415, \"PerCentNetLastTrade\",, \"T\")/100,\"\")","v":0.10048309178743961},23,23,"S.US.XOG",415,"S.US.TEAR"]
[null,null,"S.US.RRR",{"$f":"IFERROR(RTD(\"cqg.rtd\", ,\"ContractData\",C416, \"PerCentNetLastTrade\",, \"T\")/100,\"\")","v":4.2771599657827201E-4},1357,1357,"S.US.RRR",416,"S.US.KLXI"]
[null,null,"S.US.BNDX",{"$f":"IFERROR(RTD(\"cqg.rtd\", ,\"ContractData\",C417, \"PerCentNetLastTrade\",, \"T\")/100,\"\")","v":-2.1953896816684962E-3},1704,1704,"S.US.BNDX",417,"S.US.SBSI"]
[null,null,"S.US.VWR",{"$f":"IFERROR(RTD(\"cqg.rtd\", ,\"ContractData\",C418, \"PerCentNetLastTrade\",, \"T\")/100,\"\")","v":9.3562874251497015E-3},773,773,"S.US.VWR",418,"S.US.CORT"]
[null,null,"S.US.TERP",{"$f":"IFERROR(RTD(\"cqg.rtd\", ,\"ContractData\",C419, \"PerCentNetLastTrade\",, \"T\")/100,\"\")","v":-1.3178294573643411E-2},2204,2204,"S.US.TERP",419,"S.US.OSUR"]
[null,null,"S.US.CDEV",{"$f":"IFERROR(RTD(\"cqg.rtd\", ,\"ContractData\",C420, \"PerCentNetLastTrade\",, \"T\")/100,\"\")","v":5.9975520195838433E-2},46,46,"S.US.CDEV",420,"S.US.ZFGN"]
[null,null,"S.US.SGMO",{"$f":"IFERROR(RTD(\"cqg.rtd\", ,\"ContractData\",C421, \"PerCentNetLastTrade\",, \"T\")/100,\"\")","v":3.0769230769230771E-2},175,175,"S.US.SGMO",421,"S.US.STFC"]
[null,null,"S.US.AMBA",{"$f":"IFERROR(RTD(\"cqg.rtd\", ,\"ContractData\",C422, \"PerCentNetLastTrade\",, \"T\")/100,\"\")","v":1.0704585397028279E-2},681,681,"S.US.AMBA",422,"S.US.AMCC"]
[null,null,"S.US.URRE",{"$f":"IFERROR(RTD(\"cqg.rtd\", ,\"ContractData\",C423, \"PerCentNetLastTrade\",, \"T\")/100,\"\")","v":-2.9940119760479042E-2},2438,2438,"S.US.URRE",423,"S.US.STRL"]
[null,null,"S.US.MDXG",{"$f":"IFERROR(RTD(\"cqg.rtd\", ,\"ContractData\",C424, \"PerCentNetLastTrade\",, \"T\")/100,\"\")","v":-6.1538461538461538E-3},1935,1935,"S.US.MDXG",424,"S.US.AIMC"]
[null,null,"S.US.PINC",{"$f":"IFERROR(RTD(\"cqg.rtd\", ,\"ContractData\",C425, \"PerCentNetLastTrade\",, \"T\")/100,\"\")","v":3.2797638570022957E-3},1162,1162,"S.US.PINC",425,"S.US.AGRX"]
[null,null,"S.US.DOX",{"$f":"IFERROR(RTD(\"cqg.rtd\", ,\"ContractData\",C426, \"PerCentNetLastTrade\",, \"T\")/100,\"\")","v":3.2219772765813125E-3},1167,1167,"S.US.DOX",426,"S.US.FCBC"]
[null,null,"S.US.HMSY",{"$f":"IFERROR(RTD(\"cqg.rtd\", ,\"ContractData\",C427, \"PerCentNetLastTrade\",, \"T\")/100,\"\")","v":5.4112554112554113E-4},1346,1346,"S.US.HMSY",427,"S.US.COHU"]
[null,null,"S.US.TNXP",{"$f":"IFERROR(RTD(\"cqg.rtd\", ,\"ContractData\",C428, \"PerCentNetLastTrade\",, \"T\")/100,\"\")","v":-0.05},2515,2515,"S.US.TNXP",428,"S.US.PPBI"]
[null,null,"S.US.WBMD",{"$f":"IFERROR(RTD(\"cqg.rtd\", ,\"ContractData\",C429, \"PerCentNetLastTrade\",, \"T\")/100,\"\")","v":-3.7397157816005983E-4},1582,1582,"S.US.WBMD",429,"S.US.BLUE"]
[null,null,"S.US.WMGI",{"$f":"IFERROR(RTD(\"cqg.rtd\", ,\"ContractData\",C430, \"PerCentNetLastTrade\",, \"T\")/100,\"\")","v":-9.7623089983022073E-3},2091,2091,"S.US.WMGI",430,"S.US.MMYT"]
[null,null,"S.US.WLTW",{"$f":"IFERROR(RTD(\"cqg.rtd\", ,\"ContractData\",C431, \"PerCentNetLastTrade\",, \"T\")/100,\"\")","v":3.6179450072358899E-3},1137,1137,"S.US.WLTW",431,"S.US.MOFG"]
[null,null,"S.US.OMER",{"$f":"IFERROR(RTD(\"cqg.rtd\", ,\"ContractData\",C432, \"PerCentNetLastTrade\",, \"T\")/100,\"\")","v":-1.9370460048426151E-2},2341,2341,"S.US.OMER",432,"S.US.OTIC"]
[null,null,"S.US.NDAQ",{"$f":"IFERROR(RTD(\"cqg.rtd\", ,\"ContractData\",C433, \"PerCentNetLastTrade\",, \"T\")/100,\"\")","v":-5.6949361243650923E-3},1914,1914,"S.US.NDAQ",433,"S.US.GLBZ"]
[null,null,"S.US.NWS",{"$f":"IFERROR(RTD(\"cqg.rtd\", ,\"ContractData\",C434, \"PerCentNetLastTrade\",, \"T\")/100,\"\")","v":-4.2016806722689074E-3},1834,1834,"S.US.NWS",434,"S.US.MDWD"]
[null,null,"S.US.WERN",{"$f":"IFERROR(RTD(\"cqg.rtd\", ,\"ContractData\",C435, \"PerCentNetLastTrade\",, \"T\")/100,\"\")","v":1.6697588126159554E-2},438,438,"S.US.WERN",435,"S.US.CYBE"]
[null,null,"S.US.RDUS",{"$f":"IFERROR(RTD(\"cqg.rtd\", ,\"ContractData\",C436, \"PerCentNetLastTrade\",, \"T\")/100,\"\")","v":2.3001508295625941E-2},280,280,"S.US.RDUS",436,"S.US.ETFC"]
[null,null,"S.US.VCIT",{"$f":"IFERROR(RTD(\"cqg.rtd\", ,\"ContractData\",C437, \"PerCentNetLastTrade\",, \"T\")/100,\"\")","v":-3.8394415357766143E-3},1813,1813,"S.US.VCIT",437,"S.US.SGRY"]
[null,null,"S.US.SPPI",{"$f":"IFERROR(RTD(\"cqg.rtd\", ,\"ContractData\",C438, \"PerCentNetLastTrade\",, \"T\")/100,\"\")","v":5.0125313283208017E-3},1046,1046,"S.US.SPPI",438,"S.US.WERN"]
[null,null,"S.US.XGTI",{"$f":"IFERROR(RTD(\"cqg.rtd\", ,\"ContractData\",C439, \"PerCentNetLastTrade\",, \"T\")/100,\"\")","v":-6.0606060606060608E-2},2540,2540,"S.US.XGTI",439,"S.US.WABC"]
[null,null,"S.US.HRTX",{"$f":"IFERROR(RTD(\"cqg.rtd\", ,\"ContractData\",C440, \"PerCentNetLastTrade\",, \"T\")/100,\"\")","v":6.7796610169491525E-2},38,38,"S.US.HRTX",440,"S.US.ACRX"]
[null,null,"S.US.ACWX",{"$f":"IFERROR(RTD(\"cqg.rtd\", ,\"ContractData\",C441, \"PerCentNetLastTrade\",, \"T\")/100,\"\")","v":1.00150225338007E-3},1323,1323,"S.US.ACWX",441,"S.US.LRAD"]
[null,null,"S.US.FFIV",{"$f":"IFERROR(RTD(\"cqg.rtd\", ,\"ContractData\",C442, \"PerCentNetLastTrade\",, \"T\")/100,\"\")","v":-1.4914921924234999E-2},2255,2255,"S.US.FFIV",442,"S.US.SALM"]
[null,null,"S.US.CRTO",{"$f":"IFERROR(RTD(\"cqg.rtd\", ,\"ContractData\",C443, \"PerCentNetLastTrade\",, \"T\")/100,\"\")","v":-6.8965517241379318E-3},1972,1972,"S.US.CRTO",443,"S.US.FBIO"]
[null,null,"S.US.AVXL",{"$f":"IFERROR(RTD(\"cqg.rtd\", ,\"ContractData\",C444, \"PerCentNetLastTrade\",, \"T\")/100,\"\")","v":0.01},721,721,"S.US.AVXL",444,"S.US.FDEF"]
[null,null,"S.US.ALDR",{"$f":"IFERROR(RTD(\"cqg.rtd\", ,\"ContractData\",C445, \"PerCentNetLastTrade\",, \"T\")/100,\"\")","v":-8.2474226804123713E-3},2034,2034,"S.US.ALDR",445,"S.US.TRIB"]
[null,null,"S.US.ROIC",{"$f":"IFERROR(RTD(\"cqg.rtd\", ,\"ContractData\",C446, \"PerCentNetLastTrade\",, \"T\")/100,\"\")","v":-1.3365155131264916E-2},2207,2207,"S.US.ROIC",446,"S.US.MARA"]
[null,null,"S.US.ASML",{"$f":"IFERROR(RTD(\"cqg.rtd\", ,\"ContractData\",C447, \"PerCentNetLastTrade\",, \"T\")/100,\"\")","v":-4.1429810193660275E-3},1831,1831,"S.US.ASML",447,"S.US.PNFP"]
[null,null,"S.US.AIRM",{"$f":"IFERROR(RTD(\"cqg.rtd\", ,\"ContractData\",C448, \"PerCentNetLastTrade\",, \"T\")/100,\"\")","v":-1.070336391437309E-2},2128,2128,"S.US.AIRM",448,"S.US.WEYS"]
[null,null,"S.US.SNMX",{"$f":"IFERROR(RTD(\"cqg.rtd\", ,\"ContractData\",C449, \"PerCentNetLastTrade\",, \"T\")/100,\"\")","v":0},1384,1384,"S.US.SNMX",449,{"$f":"IFERROR(VLOOKUP(H449,$F$1:$G$2860,2,FALSE),\"\")","v":"S.US.WIFI"}]
[null,null,"S.US.FLIR",{"$f":"IFERROR(RTD(\"cqg.rtd\", ,\"ContractData\",C450, \"PerCentNetLastTrade\",, \"T\")/100,\"\")","v":6.2411347517730498E-3},953,{"$f":"IFERROR(E450,\"\")","v":953},"S.US.FLIR",450,"S.US.BLDR"]
[null,null,"S.US.SONC",{"$f":"IFERROR(RTD(\"cqg.rtd\", ,\"ContractData\",C451, \"PerCentNetLastTrade\",, \"T\")/100,\"\")","v":-1.5441176470588236E-2},2266,2266,{"$f":"C451","v":"S.US.SONC"},{"$f":"H450+1","v":451},"S.US.BREW"]
[null,null,"S.US.LAMR",{"$f":"IFERROR(RTD(\"cqg.rtd\", ,\"ContractData\",C452, \"PerCentNetLastTrade\",, \"T\")/100,\"\")","v":-7.4272133095662505E-3},2002,2002,"S.US.LAMR",452,"S.US.LARK"]
[null,null,"S.US.JAZZ",{"$f":"IFERROR(RTD(\"cqg.rtd\", ,\"ContractData\",C453, \"PerCentNetLastTrade\",, \"T\")/100,\"\")","v":-6.9916855631141353E-3},1977,1977,"S.US.JAZZ",453,"S.US.AXDX"]
[null,null,"S.US.ULTA",{"$f":"IFERROR(RTD(\"cqg.rtd\", ,\"ContractData\",C454, \"PerCentNetLastTrade\",, \"T\")/100,\"\")","v":8.4482162743366226E-4},1329,1329,"S.US.ULTA",454,"S.US.ABTX"]
[null,null,"S.US.AFSI",{"$f":"IFERROR(RTD(\"cqg.rtd\", ,\"ContractData\",C455, \"PerCentNetLastTrade\",, \"T\")/100,\"\")","v":-1.5438054805094559E-3},1659,1659,"S.US.AFSI",455,"S.US.SALE"]
[null,null,"S.US.SGMS",{"$f":"IFERROR(RTD(\"cqg.rtd\", ,\"ContractData\",C456, \"PerCentNetLastTrade\",, \"T\")/100,\"\")","v":0},1385,1385,"S.US.SGMS",456,"S.US.GRBK"]
[null,null,"S.US.NUVA",{"$f":"IFERROR(RTD(\"cqg.rtd\", ,\"ContractData\",C457, \"PerCentNetLastTrade\",, \"T\")/100,\"\")","v":-3.5152070915482193E-3},1792,1792,"S.US.NUVA",457,"S.US.BBRY"]
[null,null,"S.US.BGFV",{"$f":"IFERROR(RTD(\"cqg.rtd\", ,\"ContractData\",C458, \"PerCentNetLastTrade\",, \"T\")/100,\"\")","v":1.8324607329842934E-2},395,395,"S.US.BGFV",458,"S.US.BLIN"]
[null,null,"S.US.FNBC",{"$f":"IFERROR(RTD(\"cqg.rtd\", ,\"ContractData\",C459, \"PerCentNetLastTrade\",, \"T\")/100,\"\")","v":0.10666666666666666},17,17,"S.US.FNBC",459,"S.US.ECOL"]
[null,null,"S.US.ZG",{"$f":"IFERROR(RTD(\"cqg.rtd\", ,\"ContractData\",C460, \"PerCentNetLastTrade\",, \"T\")/100,\"\")","v":-6.5118912797281995E-3},1953,1953,"S.US.ZG",460,"S.US.VSAR"]
[null,null,"S.US.RGLD",{"$f":"IFERROR(RTD(\"cqg.rtd\", ,\"ContractData\",C461, \"PerCentNetLastTrade\",, \"T\")/100,\"\")","v":-2.2762184052506632E-2},2376,2376,"S.US.RGLD",461,"S.US.UEPS"]
[null,null,"S.US.TWNK",{"$f":"IFERROR(RTD(\"cqg.rtd\", ,\"ContractData\",C462, \"PerCentNetLastTrade\",, \"T\")/100,\"\")","v":-8.5470085470085461E-3},2043,2043,"S.US.TWNK",462,"S.US.UVSP"]
[null,null,"S.US.ANTH",{"$f":"IFERROR(RTD(\"cqg.rtd\", ,\"ContractData\",C463, \"PerCentNetLastTrade\",, \"T\")/100,\"\")","v":0},1386,1386,"S.US.ANTH",463,"S.US.TESS"]
[null,null,"S.US.SNPS",{"$f":"IFERROR(RTD(\"cqg.rtd\", ,\"ContractData\",C464, \"PerCentNetLastTrade\",, \"T\")/100,\"\")","v":-6.0487166911884918E-3},1931,1931,"S.US.SNPS",464,"S.US.RUSHB"]
[null,null,"S.US.SBNY",{"$f":"IFERROR(RTD(\"cqg.rtd\", ,\"ContractData\",C465, \"PerCentNetLastTrade\",, \"T\")/100,\"\")","v":9.0963815129422778E-3},792,792,"S.US.SBNY",465,"S.US.LNTH"]
[null,null,"S.US.HOPE",{"$f":"IFERROR(RTD(\"cqg.rtd\", ,\"ContractData\",C466, \"PerCentNetLastTrade\",, \"T\")/100,\"\")","v":1.2518778167250878E-2},597,597,"S.US.HOPE",466,"S.US.VIA"]
[null,null,"S.US.INSY",{"$f":"IFERROR(RTD(\"cqg.rtd\", ,\"ContractData\",C467, \"PerCentNetLastTrade\",, \"T\")/100,\"\")","v":-3.1274433150899145E-2},2451,2451,"S.US.INSY",467,"S.US.ARLZ"]
[null,null,"S.US.ODFL",{"$f":"IFERROR(RTD(\"cqg.rtd\", ,\"ContractData\",C468, \"PerCentNetLastTrade\",, \"T\")/100,\"\")","v":1.3747689463955636E-2},548,548,"S.US.ODFL",468,"S.US.ELON"]
[null,null,"S.US.HWAY",{"$f":"IFERROR(RTD(\"cqg.rtd\", ,\"ContractData\",C469, \"PerCentNetLastTrade\",, \"T\")/100,\"\")","v":2.591792656587473E-2},231,231,"S.US.HWAY",469,"S.US.POWL"]
[null,null,"S.US.VSAT",{"$f":"IFERROR(RTD(\"cqg.rtd\", ,\"ContractData\",C470, \"PerCentNetLastTrade\",, \"T\")/100,\"\")","v":-9.9433779864659573E-3},2095,2095,"S.US.VSAT",470,"S.US.PSDV"]
[null,null,"S.US.VRSN",{"$f":"IFERROR(RTD(\"cqg.rtd\", ,\"ContractData\",C471, \"PerCentNetLastTrade\",, \"T\")/100,\"\")","v":-2.780586450960566E-3},1737,1737,"S.US.VRSN",471,"S.US.MERC"]
[null,null,"S.US.PPHM",{"$f":"IFERROR(RTD(\"cqg.rtd\", ,\"ContractData\",C472, \"PerCentNetLastTrade\",, \"T\")/100,\"\")","v":0},1387,1387,"S.US.PPHM",472,"S.US.OESX"]
[null,null,"S.US.GPRE",{"$f":"IFERROR(RTD(\"cqg.rtd\", ,\"ContractData\",C473, \"PerCentNetLastTrade\",, \"T\")/100,\"\")","v":5.1080550098231828E-2},63,63,"S.US.GPRE",473,"S.US.LQDT"]
[null,null,"S.US.VXUS",{"$f":"IFERROR(RTD(\"cqg.rtd\", ,\"ContractData\",C474, \"PerCentNetLastTrade\",, \"T\")/100,\"\")","v":4.4033465433729639E-4},1356,1356,"S.US.VXUS",474,"S.US.FTRI"]
[null,null,"S.US.TRVN",{"$f":"IFERROR(RTD(\"cqg.rtd\", ,\"ContractData\",C475, \"PerCentNetLastTrade\",, \"T\")/100,\"\")","v":5.4054054054054057E-3},1021,1021,"S.US.TRVN",475,"S.US.ESGR"]
[null,null,"S.US.RARE",{"$f":"IFERROR(RTD(\"cqg.rtd\", ,\"ContractData\",C476, \"PerCentNetLastTrade\",, \"T\")/100,\"\")","v":-2.7794274854495784E-2},2425,2425,"S.US.RARE",476,"S.US.ORRF"]
[null,null,"S.US.PVTB",{"$f":"IFERROR(RTD(\"cqg.rtd\", ,\"ContractData\",C477, \"PerCentNetLastTrade\",, \"T\")/100,\"\")","v":-3.4071550255536627E-3},1781,1781,"S.US.PVTB",477,"S.US.SAEX"]
[null,null,"S.US.SYNT",{"$f":"IFERROR(RTD(\"cqg.rtd\", ,\"ContractData\",C478, \"PerCentNetLastTrade\",, \"T\")/100,\"\")","v":2.5773195876288655E-3},1218,1218,"S.US.SYNT",478,"S.US.EFSC"]
[null,null,"S.US.IQNT",{"$f":"IFERROR(RTD(\"cqg.rtd\", ,\"ContractData\",C479, \"PerCentNetLastTrade\",, \"T\")/100,\"\")","v":-8.7604029785370125E-4},1619,1619,"S.US.IQNT",479,"S.US.ISRL"]
[null,null,"S.US.NXST",{"$f":"IFERROR(RTD(\"cqg.rtd\", ,\"ContractData\",C480, \"PerCentNetLastTrade\",, \"T\")/100,\"\")","v":1.433389544688027E-2},519,519,"S.US.NXST",480,"S.US.HFWA"]
[null,null,"S.US.NIHD",{"$f":"IFERROR(RTD(\"cqg.rtd\", ,\"ContractData\",C481, \"PerCentNetLastTrade\",, \"T\")/100,\"\")","v":-1.714285714285714E-2},2298,2298,"S.US.NIHD",481,"S.US.IEP"]
[null,null,"S.US.TSEM",{"$f":"IFERROR(RTD(\"cqg.rtd\", ,\"ContractData\",C482, \"PerCentNetLastTrade\",, \"T\")/100,\"\")","v":-3.87382401770891E-3},1817,1817,"S.US.TSEM",482,"S.US.HTLD"]
[null,null,"S.US.EQIX",{"$f":"IFERROR(RTD(\"cqg.rtd\", ,\"ContractData\",C483, \"PerCentNetLastTrade\",, \"T\")/100,\"\")","v":-1.8142636652203035E-2},2320,2320,"S.US.EQIX",483,"S.US.TBBK"]
[null,null,"S.US.NTCT",{"$f":"IFERROR(RTD(\"cqg.rtd\", ,\"ContractData\",C484, \"PerCentNetLastTrade\",, \"T\")/100,\"\")","v":-1.2500000000000001E-2},2185,2185,"S.US.NTCT",484,"S.US.EIGI"]
[null,null,"S.US.SPWH",{"$f":"IFERROR(RTD(\"cqg.rtd\", ,\"ContractData\",C485, \"PerCentNetLastTrade\",, \"T\")/100,\"\")","v":-2.1621621621621622E-3},1703,1703,"S.US.SPWH",485,"S.US.VDTH"]
[null,null,"S.US.PEIX",{"$f":"IFERROR(RTD(\"cqg.rtd\", ,\"ContractData\",C486, \"PerCentNetLastTrade\",, \"T\")/100,\"\")","v":3.5294117647058823E-2},133,133,"S.US.PEIX",486,"S.US.EMMS"]
[null,null,"S.US.GIII",{"$f":"IFERROR(RTD(\"cqg.rtd\", ,\"ContractData\",C487, \"PerCentNetLastTrade\",, \"T\")/100,\"\")","v":-1.7743080198722499E-3},1675,1675,"S.US.GIII",487,"S.US.IRIX"]
[null,null,"S.US.ERII",{"$f":"IFERROR(RTD(\"cqg.rtd\", ,\"ContractData\",C488, \"PerCentNetLastTrade\",, \"T\")/100,\"\")","v":4.0307101727447218E-2},98,98,"S.US.ERII",488,"S.US.STML"]
[null,null,"S.US.SPHS",{"$f":"IFERROR(RTD(\"cqg.rtd\", ,\"ContractData\",C489, \"PerCentNetLastTrade\",, \"T\")/100,\"\")","v":-3.6544850498338867E-2},2475,2475,"S.US.SPHS",489,"S.US.CSWI"]
[null,null,"S.US.VNQI",{"$f":"IFERROR(RTD(\"cqg.rtd\", ,\"ContractData\",C490, \"PerCentNetLastTrade\",, \"T\")/100,\"\")","v":2.3405500292568754E-3},1237,1237,"S.US.VNQI",490,"S.US.BBSI"]
[null,null,"S.US.MELI",{"$f":"IFERROR(RTD(\"cqg.rtd\", ,\"ContractData\",C491, \"PerCentNetLastTrade\",, \"T\")/100,\"\")","v":-3.069179301454791E-2},2445,2445,"S.US.MELI",491,"S.US.ALQA"]
[null,null,"S.US.HOMB",{"$f":"IFERROR(RTD(\"cqg.rtd\", ,\"ContractData\",C492, \"PerCentNetLastTrade\",, \"T\")/100,\"\")","v":7.6628352490421461E-3},868,868,"S.US.HOMB",492,"S.US.FFHL"]
[null,null,"S.US.AGFS",{"$f":"IFERROR(RTD(\"cqg.rtd\", ,\"ContractData\",C493, \"PerCentNetLastTrade\",, \"T\")/100,\"\")","v":3.4843205574912896E-3},1147,1147,"S.US.AGFS",493,"S.US.CALI"]
[null,null,"S.US.ADXS",{"$f":"IFERROR(RTD(\"cqg.rtd\", ,\"ContractData\",C494, \"PerCentNetLastTrade\",, \"T\")/100,\"\")","v":3.9719626168224303E-2},101,101,"S.US.ADXS",494,"S.US.LTBR"]
[null,null,"S.US.SAFM",{"$f":"IFERROR(RTD(\"cqg.rtd\", ,\"ContractData\",C495, \"PerCentNetLastTrade\",, \"T\")/100,\"\")","v":-6.0130077310099391E-3},1930,1930,"S.US.SAFM",495,"S.US.WILN"]
[null,null,"S.US.LPNT",{"$f":"IFERROR(RTD(\"cqg.rtd\", ,\"ContractData\",C496, \"PerCentNetLastTrade\",, \"T\")/100,\"\")","v":-1.8050541516245488E-3},1677,1677,"S.US.LPNT",496,"S.US.NWLI"]
[null,null,"S.US.FGEN",{"$f":"IFERROR(RTD(\"cqg.rtd\", ,\"ContractData\",C497, \"PerCentNetLastTrade\",, \"T\")/100,\"\")","v":1.0917030567685591E-2},674,674,"S.US.FGEN",497,"S.US.CMCO"]
[null,null,"S.US.PFPT",{"$f":"IFERROR(RTD(\"cqg.rtd\", ,\"ContractData\",C498, \"PerCentNetLastTrade\",, \"T\")/100,\"\")","v":-8.2202017685888643E-3},2033,2033,"S.US.PFPT",498,"S.US.ASPS"]
[null,null,"S.US.CVBF",{"$f":"IFERROR(RTD(\"cqg.rtd\", ,\"ContractData\",C499, \"PerCentNetLastTrade\",, \"T\")/100,\"\")","v":3.8498556304138593E-3},1125,1125,"S.US.CVBF",499,"S.US.JASO"]
[null,null,"S.US.MNTA",{"$f":"IFERROR(RTD(\"cqg.rtd\", ,\"ContractData\",C500, \"PerCentNetLastTrade\",, \"T\")/100,\"\")","v":1.4234875444839859E-2},524,524,"S.US.MNTA",500,"S.US.SYNL"]
[null,null,"S.US.CPRT",{"$f":"IFERROR(RTD(\"cqg.rtd\", ,\"ContractData\",C501, \"PerCentNetLastTrade\",, \"T\")/100,\"\")","v":9.1675834250091678E-4},1328,1328,"S.US.CPRT",501,"S.US.MBRX"]
[null,null,"S.US.SCZ",{"$f":"IFERROR(RTD(\"cqg.rtd\", ,\"ContractData\",C502, \"PerCentNetLastTrade\",, \"T\")/100,\"\")","v":-2.8135048231511255E-3},1739,1739,"S.US.SCZ",502,"S.US.CAC"]
[null,null,"S.US.EAC",{"$f":"IFERROR(RTD(\"cqg.rtd\", ,\"ContractData\",C503, \"PerCentNetLastTrade\",, \"T\")/100,\"\")","v":""},{"$error":"#VALUE!"},"","S.US.EAC",503,"S.US.IVTY"]
[null,null,"S.US.JACK",{"$f":"IFERROR(RTD(\"cqg.rtd\", ,\"ContractData\",C504, \"PerCentNetLastTrade\",, \"T\")/100,\"\")","v":-6.6698427822772747E-3},1960,1960,"S.US.JACK",504,"S.US.AKBA"]
[null,null,"S.US.TVIA",{"$f":"IFERROR(RTD(\"cqg.rtd\", ,\"ContractData\",C505, \"PerCentNetLastTrade\",, \"T\")/100,\"\")","v":-3.4482758620689655E-2},2467,2467,"S.US.TVIA",505,"S.US.SNSS"]
[null,null,"S.US.ZBRA",{"$f":"IFERROR(RTD(\"cqg.rtd\", ,\"ContractData\",C506, \"PerCentNetLastTrade\",, \"T\")/100,\"\")","v":6.4712599923867527E-3},939,939,"S.US.ZBRA",506,"S.US.TCX"]
[null,null,"S.US.AGIO",{"$f":"IFERROR(RTD(\"cqg.rtd\", ,\"ContractData\",C507, \"PerCentNetLastTrade\",, \"T\")/100,\"\")","v":-2.6071370376405411E-3},1727,1727,"S.US.AGIO",507,"S.US.ABCB"]
[null,null,"S.US.PLCE",{"$f":"IFERROR(RTD(\"cqg.rtd\", ,\"ContractData\",C508, \"PerCentNetLastTrade\",, \"T\")/100,\"\")","v":-2.8708133971291866E-3},1744,1744,"S.US.PLCE",508,"S.US.WTFC"]
[null,null,"S.US.GBT",{"$f":"IFERROR(RTD(\"cqg.rtd\", ,\"ContractData\",C509, \"PerCentNetLastTrade\",, \"T\")/100,\"\")","v":3.2707774798927614E-2},154,154,"S.US.GBT",509,"S.US.ADMS"]
[null,null,"S.US.HA",{"$f":"IFERROR(RTD(\"cqg.rtd\", ,\"ContractData\",C510, \"PerCentNetLastTrade\",, \"T\")/100,\"\")","v":-2.2476190476190476E-2},2373,2373,"S.US.HA",510,"S.US.SENEA"]
[null,null,"S.US.LNTH",{"$f":"IFERROR(RTD(\"cqg.rtd\", ,\"ContractData\",C511, \"PerCentNetLastTrade\",, \"T\")/100,\"\")","v":1.5789473684210527E-2},465,465,"S.US.LNTH",511,"S.US.FAST"]
[null,null,"S.US.CZR",{"$f":"IFERROR(RTD(\"cqg.rtd\", ,\"ContractData\",C512, \"PerCentNetLastTrade\",, \"T\")/100,\"\")","v":1.3605442176870748E-2},555,555,"S.US.CZR",512,"S.US.FUND"]
[null,null,"S.US.INFI",{"$f":"IFERROR(RTD(\"cqg.rtd\", ,\"ContractData\",C513, \"PerCentNetLastTrade\",, \"T\")/100,\"\")","v":2.6315789473684213E-2},226,226,"S.US.INFI",513,{"$f":"IFERROR(VLOOKUP(H513,$F$1:$G$2860,2,FALSE),\"\")","v":"S.US.CRMT"}]
[null,null,"S.US.PLAY",{"$f":"IFERROR(RTD(\"cqg.rtd\", ,\"ContractData\",C514, \"PerCentNetLastTrade\",, \"T\")/100,\"\")","v":-2.5115110925073253E-3},1722,{"$f":"IFERROR(E514,\"\")","v":1722},"S.US.PLAY",514,"S.US.ACET"]
[null,null,"S.US.SUPN",{"$f":"IFERROR(RTD(\"cqg.rtd\", ,\"ContractData\",C515, \"PerCentNetLastTrade\",, \"T\")/100,\"\")","v":-3.1460674157303373E-2},2453,2453,{"$f":"C515","v":"S.US.SUPN"},{"$f":"H514+1","v":515},"S.US.ODP"]
[null,null,"S.US.CINF",{"$f":"IFERROR(RTD(\"cqg.rtd\", ,\"ContractData\",C516, \"PerCentNetLastTrade\",, \"T\")/100,\"\")","v":2.5936973155232784E-3},1216,1216,"S.US.CINF",516,"S.US.BGCP"]
[null,null,"S.US.CFFN",{"$f":"IFERROR(RTD(\"cqg.rtd\", ,\"ContractData\",C517, \"PerCentNetLastTrade\",, \"T\")/100,\"\")","v":9.3691442848219866E-3},772,772,"S.US.CFFN",517,"S.US.ANIP"]
[null,null,"S.US.SLGN",{"$f":"IFERROR(RTD(\"cqg.rtd\", ,\"ContractData\",C518, \"PerCentNetLastTrade\",, \"T\")/100,\"\")","v":-1.9688915140775743E-4},1573,1573,"S.US.SLGN",518,"S.US.CARO"]
[null,null,"S.US.BPOP",{"$f":"IFERROR(RTD(\"cqg.rtd\", ,\"ContractData\",C519, \"PerCentNetLastTrade\",, \"T\")/100,\"\")","v":1.278898180029513E-2},583,583,"S.US.BPOP",519,"S.US.NXST"]
[null,null,"S.US.FSC",{"$f":"IFERROR(RTD(\"cqg.rtd\", ,\"ContractData\",C520, \"PerCentNetLastTrade\",, \"T\")/100,\"\")","v":-5.9322033898305086E-2},2537,2537,"S.US.FSC",520,"S.US.LBAI"]
[null,null,"S.US.DTLK",{"$f":"IFERROR(RTD(\"cqg.rtd\", ,\"ContractData\",C521, \"PerCentNetLastTrade\",, \"T\")/100,\"\")","v":2.6857654431512983E-3},1210,1210,"S.US.DTLK",521,"S.US.AAAP"]
[null,null,"S.US.SYNA",{"$f":"IFERROR(RTD(\"cqg.rtd\", ,\"ContractData\",C522, \"PerCentNetLastTrade\",, \"T\")/100,\"\")","v":2.6706789542975361E-2},222,222,"S.US.SYNA",522,"S.US.NVIV"]
[null,null,"S.US.BECN",{"$f":"IFERROR(RTD(\"cqg.rtd\", ,\"ContractData\",C523, \"PerCentNetLastTrade\",, \"T\")/100,\"\")","v":1.0338143441740255E-2},701,701,"S.US.BECN",523,"S.US.CLNT"]
[null,null,"S.US.HQY",{"$f":"IFERROR(RTD(\"cqg.rtd\", ,\"ContractData\",C524, \"PerCentNetLastTrade\",, \"T\")/100,\"\")","v":5.5991041433370659E-3},1009,1009,"S.US.HQY",524,"S.US.MNTA"]
[null,null,"S.US.ITCI",{"$f":"IFERROR(RTD(\"cqg.rtd\", ,\"ContractData\",C525, \"PerCentNetLastTrade\",, \"T\")/100,\"\")","v":1.8341892883345562E-2},393,393,"S.US.ITCI",525,"S.US.PKOH"]
[null,null,"S.US.CTAS",{"$f":"IFERROR(RTD(\"cqg.rtd\", ,\"ContractData\",C526, \"PerCentNetLastTrade\",, \"T\")/100,\"\")","v":-8.6520159197092918E-5},1568,1568,"S.US.CTAS",526,"S.US.IBTX"]
[null,null,"S.US.LBRDK",{"$f":"IFERROR(RTD(\"cqg.rtd\", ,\"ContractData\",C527, \"PerCentNetLastTrade\",, \"T\")/100,\"\")","v":-1.7402199638034247E-2},2302,2302,"S.US.LBRDK",527,"S.US.MBRG"]
[null,null,"S.US.VNDA",{"$f":"IFERROR(RTD(\"cqg.rtd\", ,\"ContractData\",C528, \"PerCentNetLastTrade\",, \"T\")/100,\"\")","v":1.1904761904761904E-3},1310,1310,"S.US.VNDA",528,"S.US.CPHR"]
[null,null,"S.US.SHOO",{"$f":"IFERROR(RTD(\"cqg.rtd\", ,\"ContractData\",C529, \"PerCentNetLastTrade\",, \"T\")/100,\"\")","v":-1.3333333333333333E-3},1649,1649,"S.US.SHOO",529,"S.US.FMBI"]
[null,null,"S.US.FCEL",{"$f":"IFERROR(RTD(\"cqg.rtd\", ,\"ContractData\",C530, \"PerCentNetLastTrade\",, \"T\")/100,\"\")","v":4.5454545454545456E-2},75,75,"S.US.FCEL",530,"S.US.ANDE"]
[null,null,"S.US.ACOR",{"$f":"IFERROR(RTD(\"cqg.rtd\", ,\"ContractData\",C531, \"PerCentNetLastTrade\",, \"T\")/100,\"\")","v":4.1162227602905575E-2},93,93,"S.US.ACOR",531,"S.US.KE"]
[null,null,"S.US.CG",{"$f":"IFERROR(RTD(\"cqg.rtd\", ,\"ContractData\",C532, \"PerCentNetLastTrade\",, \"T\")/100,\"\")","v":-1.9417475728155339E-3},1688,1688,"S.US.CG",532,"S.US.TOWN"]
[null,null,"S.US.SEIC",{"$f":"IFERROR(RTD(\"cqg.rtd\", ,\"ContractData\",C533, \"PerCentNetLastTrade\",, \"T\")/100,\"\")","v":8.2243778996204126E-3},835,835,"S.US.SEIC",533,"S.US.ASRV"]
[null,null,"S.US.SCSS",{"$f":"IFERROR(RTD(\"cqg.rtd\", ,\"ContractData\",C534, \"PerCentNetLastTrade\",, \"T\")/100,\"\")","v":3.894418000865426E-3},1121,1121,"S.US.SCSS",534,"S.US.HIHO"]
[null,null,"S.US.BRKR",{"$f":"IFERROR(RTD(\"cqg.rtd\", ,\"ContractData\",C535, \"PerCentNetLastTrade\",, \"T\")/100,\"\")","v":-1.0300429184549355E-2},2108,2108,"S.US.BRKR",535,"S.US.SMBC"]
[null,null,"S.US.AVXS",{"$f":"IFERROR(RTD(\"cqg.rtd\", ,\"ContractData\",C536, \"PerCentNetLastTrade\",, \"T\")/100,\"\")","v":5.0052687038988408E-2},64,64,"S.US.AVXS",536,"S.US.USEG"]
[null,null,"S.US.CDK",{"$f":"IFERROR(RTD(\"cqg.rtd\", ,\"ContractData\",C537, \"PerCentNetLastTrade\",, \"T\")/100,\"\")","v":-1.6027280477408354E-2},2276,2276,"S.US.CDK",537,"S.US.UFPT"]
[null,null,"S.US.MNGA",{"$f":"IFERROR(RTD(\"cqg.rtd\", ,\"ContractData\",C538, \"PerCentNetLastTrade\",, \"T\")/100,\"\")","v":2.3809523809523808E-2},266,266,"S.US.MNGA",538,"S.US.IPHS"]
[null,null,"S.US.INAP",{"$f":"IFERROR(RTD(\"cqg.rtd\", ,\"ContractData\",C539, \"PerCentNetLastTrade\",, \"T\")/100,\"\")","v":0},1388,1388,"S.US.INAP",539,"S.US.VDSI"]
[null,null,"S.US.HBHC",{"$f":"IFERROR(RTD(\"cqg.rtd\", ,\"ContractData\",C540, \"PerCentNetLastTrade\",, \"T\")/100,\"\")","v":2.7638190954773871E-2},207,207,"S.US.HBHC",540,"S.US.INDB"]
[null,null,"S.US.LNCE",{"$f":"IFERROR(RTD(\"cqg.rtd\", ,\"ContractData\",C541, \"PerCentNetLastTrade\",, \"T\")/100,\"\")","v":-7.3279246270609791E-3},1996,1996,"S.US.LNCE",541,"S.US.ALJJ"]
[null,null,"S.US.AZPN",{"$f":"IFERROR(RTD(\"cqg.rtd\", ,\"ContractData\",C542, \"PerCentNetLastTrade\",, \"T\")/100,\"\")","v":2.8366111951588502E-3},1197,1197,"S.US.AZPN",542,"S.US.CYRN"]
[null,null,"S.US.SANM",{"$f":"IFERROR(RTD(\"cqg.rtd\", ,\"ContractData\",C543, \"PerCentNetLastTrade\",, \"T\")/100,\"\")","v":-4.4576523031203573E-3},1857,1857,"S.US.SANM",543,"S.US.NUTR"]
[null,null,"S.US.CGNX",{"$f":"IFERROR(RTD(\"cqg.rtd\", ,\"ContractData\",C544, \"PerCentNetLastTrade\",, \"T\")/100,\"\")","v":3.148823334438184E-3},1169,1169,"S.US.CGNX",544,"S.US.ENTG"]
[null,null,"S.US.RXII",{"$f":"IFERROR(RTD(\"cqg.rtd\", ,\"ContractData\",C545, \"PerCentNetLastTrade\",, \"T\")/100,\"\")","v":-0.11920529801324503},2562,2562,"S.US.RXII",545,"S.US.LJPC"]
[null,null,"S.US.HLIT",{"$f":"IFERROR(RTD(\"cqg.rtd\", ,\"ContractData\",C546, \"PerCentNetLastTrade\",, \"T\")/100,\"\")","v":3.1914893617021274E-2},161,161,"S.US.HLIT",546,"S.US.SQQQ"]
[null,null,"S.US.CACB",{"$f":"IFERROR(RTD(\"cqg.rtd\", ,\"ContractData\",C547, \"PerCentNetLastTrade\",, \"T\")/100,\"\")","v":9.7629009762900971E-3},743,743,"S.US.CACB",547,"S.US.GRVY"]
[null,null,"S.US.GOV",{"$f":"IFERROR(RTD(\"cqg.rtd\", ,\"ContractData\",C548, \"PerCentNetLastTrade\",, \"T\")/100,\"\")","v":-1.3641133263378805E-2},2215,2215,"S.US.GOV",548,"S.US.ODFL"]
[null,null,"S.US.CTRE",{"$f":"IFERROR(RTD(\"cqg.rtd\", ,\"ContractData\",C549, \"PerCentNetLastTrade\",, \"T\")/100,\"\")","v":-2.5605536332179931E-2},2404,2404,"S.US.CTRE",549,"S.US.PROV"]
[null,null,"S.US.OVAS",{"$f":"IFERROR(RTD(\"cqg.rtd\", ,\"ContractData\",C550, \"PerCentNetLastTrade\",, \"T\")/100,\"\")","v":-2.840909090909091E-3},1741,1741,"S.US.OVAS",550,"S.US.VOXX"]
[null,null,"S.US.ACIW",{"$f":"IFERROR(RTD(\"cqg.rtd\", ,\"ContractData\",C551, \"PerCentNetLastTrade\",, \"T\")/100,\"\")","v":-1.6025641025641027E-3},1664,1664,"S.US.ACIW",551,"S.US.NBTB"]
[null,null,"S.US.CPRX",{"$f":"IFERROR(RTD(\"cqg.rtd\", ,\"ContractData\",C552, \"PerCentNetLastTrade\",, \"T\")/100,\"\")","v":0},1389,1389,"S.US.CPRX",552,"S.US.EBMT"]
[null,null,"S.US.SIVB",{"$f":"IFERROR(RTD(\"cqg.rtd\", ,\"ContractData\",C553, \"PerCentNetLastTrade\",, \"T\")/100,\"\")","v":2.4988611960694997E-2},244,244,"S.US.SIVB",553,"S.US.GLUU"]
[null,null,"S.US.CRIS",{"$f":"IFERROR(RTD(\"cqg.rtd\", ,\"ContractData\",C554, \"PerCentNetLastTrade\",, \"T\")/100,\"\")","v":6.4935064935064931E-3},936,936,"S.US.CRIS",554,"S.US.UIHC"]
[null,null,"S.US.PCTY",{"$f":"IFERROR(RTD(\"cqg.rtd\", ,\"ContractData\",C555, \"PerCentNetLastTrade\",, \"T\")/100,\"\")","v":-5.6179775280898884E-3},1911,1911,"S.US.PCTY",555,"S.US.CZR"]
[null,null,"S.US.TCBI",{"$f":"IFERROR(RTD(\"cqg.rtd\", ,\"ContractData\",C556, \"PerCentNetLastTrade\",, \"T\")/100,\"\")","v":1.8934081346423562E-2},380,380,"S.US.TCBI",556,"S.US.MPEL"]
[null,null,"S.US.EIGI",{"$f":"IFERROR(RTD(\"cqg.rtd\", ,\"ContractData\",C557, \"PerCentNetLastTrade\",, \"T\")/100,\"\")","v":1.5286624203821658E-2},484,484,"S.US.EIGI",557,"S.US.FRTA"]
[null,null,"S.US.GWPH",{"$f":"IFERROR(RTD(\"cqg.rtd\", ,\"ContractData\",C558, \"PerCentNetLastTrade\",, \"T\")/100,\"\")","v":-2.5193465176268273E-2},2398,2398,"S.US.GWPH",558,"S.US.BIS"]
[null,null,"S.US.USCR",{"$f":"IFERROR(RTD(\"cqg.rtd\", ,\"ContractData\",C559, \"PerCentNetLastTrade\",, \"T\")/100,\"\")","v":6.145741878841089E-3},960,960,"S.US.USCR",559,"S.US.FKO"]
[null,null,"S.US.TKAI",{"$f":"IFERROR(RTD(\"cqg.rtd\", ,\"ContractData\",C560, \"PerCentNetLastTrade\",, \"T\")/100,\"\")","v":-4.6296296296296301E-2},2504,2504,"S.US.TKAI",560,"S.US.CFMS"]
[null,null,"S.US.MBFI",{"$f":"IFERROR(RTD(\"cqg.rtd\", ,\"ContractData\",C561, \"PerCentNetLastTrade\",, \"T\")/100,\"\")","v":9.7470410768159665E-3},745,745,"S.US.MBFI",561,"S.US.COWN"]
[null,null,"S.US.INOV",{"$f":"IFERROR(RTD(\"cqg.rtd\", ,\"ContractData\",C562, \"PerCentNetLastTrade\",, \"T\")/100,\"\")","v":3.2362459546925564E-3},1166,1166,"S.US.INOV",562,"S.US.CWCO"]
[null,null,"S.US.CALD",{"$f":"IFERROR(RTD(\"cqg.rtd\", ,\"ContractData\",C563, \"PerCentNetLastTrade\",, \"T\")/100,\"\")","v":6.2893081761006284E-3},947,947,"S.US.CALD",563,"S.US.HBNC"]
[null,null,"S.US.CPLP",{"$f":"IFERROR(RTD(\"cqg.rtd\", ,\"ContractData\",C564, \"PerCentNetLastTrade\",, \"T\")/100,\"\")","v":2.8368794326241134E-2},198,198,"S.US.CPLP",564,"S.US.DCOM"]
[null,null,"S.US.PRAH",{"$f":"IFERROR(RTD(\"cqg.rtd\", ,\"ContractData\",C565, \"PerCentNetLastTrade\",, \"T\")/100,\"\")","v":-1.7039208501282523E-2},2293,2293,"S.US.PRAH",565,"S.US.CVLY"]
[null,null,"S.US.WATT",{"$f":"IFERROR(RTD(\"cqg.rtd\", ,\"ContractData\",C566, \"PerCentNetLastTrade\",, \"T\")/100,\"\")","v":4.2609853528628498E-2},87,87,"S.US.WATT",566,"S.US.UMBF"]
[null,null,"S.US.VNET",{"$f":"IFERROR(RTD(\"cqg.rtd\", ,\"ContractData\",C567, \"PerCentNetLastTrade\",, \"T\")/100,\"\")","v":-2.4296675191815855E-2},2390,2390,"S.US.VNET",567,"S.US.IBCP"]
[null,null,"S.US.IAC",{"$f":"IFERROR(RTD(\"cqg.rtd\", ,\"ContractData\",C568, \"PerCentNetLastTrade\",, \"T\")/100,\"\")","v":-1.7546424915923381E-3},1674,1674,"S.US.IAC",568,"S.US.IMDZ"]
[null,null,"S.US.APOL",{"$f":"IFERROR(RTD(\"cqg.rtd\", ,\"ContractData\",C569, \"PerCentNetLastTrade\",, \"T\")/100,\"\")","v":0},1390,1390,"S.US.APOL",569,"S.US.SODA"]
[null,null,"S.US.UGLD",{"$f":"IFERROR(RTD(\"cqg.rtd\", ,\"ContractData\",C570, \"PerCentNetLastTrade\",, \"T\")/100,\"\")","v":-2.9063509149623253E-2},2434,2434,"S.US.UGLD",570,"S.US.TRUE"]
[null,null,"S.US.MEOH",{"$f":"IFERROR(RTD(\"cqg.rtd\", ,\"ContractData\",C571, \"PerCentNetLastTrade\",, \"T\")/100,\"\")","v":7.2570725707257075E-2},33,33,"S.US.MEOH",571,"S.US.EGLT"]
[null,null,"S.US.OLED",{"$f":"IFERROR(RTD(\"cqg.rtd\", ,\"ContractData\",C572, \"PerCentNetLastTrade\",, \"T\")/100,\"\")","v":-1.4883720930232557E-2},2254,2254,"S.US.OLED",572,"S.US.GLBL"]
[null,null,"S.US.LXRX",{"$f":"IFERROR(RTD(\"cqg.rtd\", ,\"ContractData\",C573, \"PerCentNetLastTrade\",, \"T\")/100,\"\")","v":-9.9688473520249225E-3},2096,2096,"S.US.LXRX",573,"S.US.GIGA"]
[null,null,"S.US.CRAY",{"$f":"IFERROR(RTD(\"cqg.rtd\", ,\"ContractData\",C574, \"PerCentNetLastTrade\",, \"T\")/100,\"\")","v":5.2083333333333339E-3},1032,1032,"S.US.CRAY",574,"S.US.SASR"]
[null,null,"S.US.SSH",{"$f":"IFERROR(RTD(\"cqg.rtd\", ,\"ContractData\",C575, \"PerCentNetLastTrade\",, \"T\")/100,\"\")","v":5.5555555555555552E-2},50,50,"S.US.SSH",575,"S.US.UBNK"]
[null,null,"S.US.WING",{"$f":"IFERROR(RTD(\"cqg.rtd\", ,\"ContractData\",C576, \"PerCentNetLastTrade\",, \"T\")/100,\"\")","v":-3.3344448149383128E-3},1777,1777,"S.US.WING",576,"S.US.SWIR"]
[null,null,"S.US.SIMO",{"$f":"IFERROR(RTD(\"cqg.rtd\", ,\"ContractData\",C577, \"PerCentNetLastTrade\",, \"T\")/100,\"\")","v":-1.0127127774186596E-2},2102,2102,"S.US.SIMO",577,{"$f":"IFERROR(VLOOKUP(H577,$F$1:$G$2860,2,FALSE),\"\")","v":"S.US.SCWX"}]
[null,null,"S.US.LILA",{"$f":"IFERROR(RTD(\"cqg.rtd\", ,\"ContractData\",C578, \"PerCentNetLastTrade\",, \"T\")/100,\"\")","v":-1.0407239819004526E-2},2114,{"$f":"IFERROR(E578,\"\")","v":2114},"S.US.LILA",578,"S.US.GSBC"]
[null,null,"S.US.SHOR",{"$f":"IFERROR(RTD(\"cqg.rtd\", ,\"ContractData\",C579, \"PerCentNetLastTrade\",, \"T\")/100,\"\")","v":1.0071942446043165E-2},717,717,{"$f":"C579","v":"S.US.SHOR"},{"$f":"H578+1","v":579},"S.US.CTBI"]
[null,null,"S.US.VVUS",{"$f":"IFERROR(RTD(\"cqg.rtd\", ,\"ContractData\",C580, \"PerCentNetLastTrade\",, \"T\")/100,\"\")","v":3.787878787878788E-2},113,113,"S.US.VVUS",580,"S.US.EVOL"]
[null,null,"S.US.SBRA",{"$f":"IFERROR(RTD(\"cqg.rtd\", ,\"ContractData\",C581, \"PerCentNetLastTrade\",, \"T\")/100,\"\")","v":-1.1125945705384959E-2},2140,2140,"S.US.SBRA",581,"S.US.CFNL"]
[null,null,"S.US.PNK",{"$f":"IFERROR(RTD(\"cqg.rtd\", ,\"ContractData\",C582, \"PerCentNetLastTrade\",, \"T\")/100,\"\")","v":5.8181818181818178E-3},992,992,"S.US.PNK",582,"S.US.TROW"]
[null,null,"S.US.MHLD",{"$f":"IFERROR(RTD(\"cqg.rtd\", ,\"ContractData\",C583, \"PerCentNetLastTrade\",, \"T\")/100,\"\")","v":7.6923076923076927E-3},863,863,"S.US.MHLD",583,"S.US.BPOP"]
[null,null,"S.US.FRAN",{"$f":"IFERROR(RTD(\"cqg.rtd\", ,\"ContractData\",C584, \"PerCentNetLastTrade\",, \"T\")/100,\"\")","v":-7.2245635159542444E-3},1987,1987,"S.US.FRAN",584,"S.US.AVAV"]
[null,null,"S.US.SOXX",{"$f":"IFERROR(RTD(\"cqg.rtd\", ,\"ContractData\",C585, \"PerCentNetLastTrade\",, \"T\")/100,\"\")","v":-1.6656950112434413E-4},1571,1571,"S.US.SOXX",585,"S.US.CYRX"]
[null,null,"S.US.DPRX",{"$f":"IFERROR(RTD(\"cqg.rtd\", ,\"ContractData\",C586, \"PerCentNetLastTrade\",, \"T\")/100,\"\")","v":0},1391,1391,"S.US.DPRX",586,"S.US.JKI"]
[null,null,"S.US.OLLI",{"$f":"IFERROR(RTD(\"cqg.rtd\", ,\"ContractData\",C587, \"PerCentNetLastTrade\",, \"T\")/100,\"\")","v":-4.2276422764227642E-3},1839,1839,"S.US.OLLI",587,"S.US.MGRC"]
[null,null,"S.US.BDSI",{"$f":"IFERROR(RTD(\"cqg.rtd\", ,\"ContractData\",C588, \"PerCentNetLastTrade\",, \"T\")/100,\"\")","v":0},1392,1392,"S.US.BDSI",588,"S.US.LMCK"]
[null,null,"S.US.LIVN",{"$f":"IFERROR(RTD(\"cqg.rtd\", ,\"ContractData\",C589, \"PerCentNetLastTrade\",, \"T\")/100,\"\")","v":-4.225978647686833E-3},1838,1838,"S.US.LIVN",589,"S.US.DSPG"]
[null,null,"S.US.HTLD",{"$f":"IFERROR(RTD(\"cqg.rtd\", ,\"ContractData\",C590, \"PerCentNetLastTrade\",, \"T\")/100,\"\")","v":1.5348837209302326E-2},482,482,"S.US.HTLD",590,"S.US.PRIM"]
[null,null,"S.US.ATHN",{"$f":"IFERROR(RTD(\"cqg.rtd\", ,\"ContractData\",C591, \"PerCentNetLastTrade\",, \"T\")/100,\"\")","v":-2.01805629314923E-3},1695,1695,"S.US.ATHN",591,"S.US.STBA"]
[null,null,"S.US.NWBI",{"$f":"IFERROR(RTD(\"cqg.rtd\", ,\"ContractData\",C592, \"PerCentNetLastTrade\",, \"T\")/100,\"\")","v":8.8008800880088004E-3},806,806,"S.US.NWBI",592,"S.US.KONA"]
[null,null,"S.US.PRAA",{"$f":"IFERROR(RTD(\"cqg.rtd\", ,\"ContractData\",C593, \"PerCentNetLastTrade\",, \"T\")/100,\"\")","v":3.730272596843616E-2},119,119,"S.US.PRAA",593,"S.US.XPLR"]
[null,null,"S.US.SCMP",{"$f":"IFERROR(RTD(\"cqg.rtd\", ,\"ContractData\",C594, \"PerCentNetLastTrade\",, \"T\")/100,\"\")","v":-2.8571428571428571E-2},2428,2428,"S.US.SCMP",594,"S.US.BFIN"]
[null,null,"S.US.MDSO",{"$f":"IFERROR(RTD(\"cqg.rtd\", ,\"ContractData\",C595, \"PerCentNetLastTrade\",, \"T\")/100,\"\")","v":3.2864706956362969E-3},1161,1161,"S.US.MDSO",595,"S.US.GNTX"]
[null,null,"S.US.EXTR",{"$f":"IFERROR(RTD(\"cqg.rtd\", ,\"ContractData\",C596, \"PerCentNetLastTrade\",, \"T\")/100,\"\")","v":2.2321428571428575E-3},1245,1245,"S.US.EXTR",596,"S.US.BWFG"]
[null,null,"S.US.MLNX",{"$f":"IFERROR(RTD(\"cqg.rtd\", ,\"ContractData\",C597, \"PerCentNetLastTrade\",, \"T\")/100,\"\")","v":1.2195121951219512E-3},1307,1307,"S.US.MLNX",597,"S.US.HOPE"]
[null,null,"S.US.ENPH",{"$f":"IFERROR(RTD(\"cqg.rtd\", ,\"ContractData\",C598, \"PerCentNetLastTrade\",, \"T\")/100,\"\")","v":-8.9285714285714298E-3},2062,2062,"S.US.ENPH",598,"S.US.QURE"]
[null,null,"S.US.GLBL",{"$f":"IFERROR(RTD(\"cqg.rtd\", ,\"ContractData\",C599, \"PerCentNetLastTrade\",, \"T\")/100,\"\")","v":1.3157894736842106E-2},572,572,"S.US.GLBL",599,"S.US.WLDN"]
[null,null,"S.US.PCLN",{"$f":"IFERROR(RTD(\"cqg.rtd\", ,\"ContractData\",C600, \"PerCentNetLastTrade\",, \"T\")/100,\"\")","v":-3.2823116946331904E-3},1773,1773,"S.US.PCLN",600,"S.US.BLBD"]
[null,null,"S.US.IRDM",{"$f":"IFERROR(RTD(\"cqg.rtd\", ,\"ContractData\",C601, \"PerCentNetLastTrade\",, \"T\")/100,\"\")","v":2.2471910112359548E-3},1243,1243,"S.US.IRDM",601,"S.US.BCBP"]
[null,null,"S.US.DRRX",{"$f":"IFERROR(RTD(\"cqg.rtd\", ,\"ContractData\",C602, \"PerCentNetLastTrade\",, \"T\")/100,\"\")","v":3.8461538461538464E-2},112,112,"S.US.DRRX",602,"S.US.PBCT"]
[null,null,"S.US.ANSS",{"$f":"IFERROR(RTD(\"cqg.rtd\", ,\"ContractData\",C603, \"PerCentNetLastTrade\",, \"T\")/100,\"\")","v":-5.500899185443775E-3},1909,1909,"S.US.ANSS",603,"S.US.FLN"]
[null,null,"S.US.IDXX",{"$f":"IFERROR(RTD(\"cqg.rtd\", ,\"ContractData\",C604, \"PerCentNetLastTrade\",, \"T\")/100,\"\")","v":-1.1716802393219213E-2},2166,2166,"S.US.IDXX",604,"S.US.HWKN"]
[null,null,"S.US.BLDP",{"$f":"IFERROR(RTD(\"cqg.rtd\", ,\"ContractData\",C605, \"PerCentNetLastTrade\",, \"T\")/100,\"\")","v":1.0471204188481676E-2},698,698,"S.US.BLDP",605,"S.US.DMPI"]
[null,null,"S.US.LOPE",{"$f":"IFERROR(RTD(\"cqg.rtd\", ,\"ContractData\",C606, \"PerCentNetLastTrade\",, \"T\")/100,\"\")","v":-4.2164441321152499E-3},1836,1836,"S.US.LOPE",606,"S.US.EBSB"]
[null,null,"S.US.BPFH",{"$f":"IFERROR(RTD(\"cqg.rtd\", ,\"ContractData\",C607, \"PerCentNetLastTrade\",, \"T\")/100,\"\")","v":2.7210884353741496E-2},214,214,"S.US.BPFH",607,"S.US.FOXF"]
[null,null,"S.US.UCTT",{"$f":"IFERROR(RTD(\"cqg.rtd\", ,\"ContractData\",C608, \"PerCentNetLastTrade\",, \"T\")/100,\"\")","v":5.0050050050050058E-3},1047,1047,"S.US.UCTT",608,"S.US.AMD"]
[null,null,"S.US.XENT",{"$f":"IFERROR(RTD(\"cqg.rtd\", ,\"ContractData\",C609, \"PerCentNetLastTrade\",, \"T\")/100,\"\")","v":-9.3023255813953487E-3},2072,2072,"S.US.XENT",609,"S.US.CYBR"]
[null,null,"S.US.BV",{"$f":"IFERROR(RTD(\"cqg.rtd\", ,\"ContractData\",C610, \"PerCentNetLastTrade\",, \"T\")/100,\"\")","v":0},1393,1393,"S.US.BV",610,"S.US.EGRX"]
[null,null,"S.US.ECPG",{"$f":"IFERROR(RTD(\"cqg.rtd\", ,\"ContractData\",C611, \"PerCentNetLastTrade\",, \"T\")/100,\"\")","v":2.2058823529411766E-2},305,305,"S.US.ECPG",611,"S.US.TSC"]
[null,null,"S.US.FRTA",{"$f":"IFERROR(RTD(\"cqg.rtd\", ,\"ContractData\",C612, \"PerCentNetLastTrade\",, \"T\")/100,\"\")","v":1.3584117032392895E-2},557,557,"S.US.FRTA",612,"S.US.HCCI"]
[null,null,"S.US.SAGE",{"$f":"IFERROR(RTD(\"cqg.rtd\", ,\"ContractData\",C613, \"PerCentNetLastTrade\",, \"T\")/100,\"\")","v":-5.1181102362204724E-3},1890,1890,"S.US.SAGE",613,"S.US.NFLX"]
[null,null,"S.US.ENTG",{"$f":"IFERROR(RTD(\"cqg.rtd\", ,\"ContractData\",C614, \"PerCentNetLastTrade\",, \"T\")/100,\"\")","v":1.3774104683195591E-2},544,544,"S.US.ENTG",614,"S.US.AIRR"]
[null,null,"S.US.HAWK",{"$f":"IFERROR(RTD(\"cqg.rtd\", ,\"ContractData\",C615, \"PerCentNetLastTrade\",, \"T\")/100,\"\")","v":-6.8493150684931503E-3},1970,1970,"S.US.HAWK",615,"S.US.NTRS"]
[null,null,"S.US.ATRS",{"$f":"IFERROR(RTD(\"cqg.rtd\", ,\"ContractData\",C616, \"PerCentNetLastTrade\",, \"T\")/100,\"\")","v":-4.9504950495049506E-3},1883,1883,"S.US.ATRS",616,"S.US.EVLV"]
[null,null,"S.US.MANH",{"$f":"IFERROR(RTD(\"cqg.rtd\", ,\"ContractData\",C617, \"PerCentNetLastTrade\",, \"T\")/100,\"\")","v":-2.4029574861367834E-3},1681,1681,"S.US.MANH",617,"S.US.CJJD"]
[null,null,"S.US.AAOI",{"$f":"IFERROR(RTD(\"cqg.rtd\", ,\"ContractData\",C618, \"PerCentNetLastTrade\",, \"T\")/100,\"\")","v":-3.5942492012779551E-3},1797,1797,"S.US.AAOI",618,"S.US.SPSC"]
[null,null,"S.US.RMBS",{"$f":"IFERROR(RTD(\"cqg.rtd\", ,\"ContractData\",C619, \"PerCentNetLastTrade\",, \"T\")/100,\"\")","v":2.2388059701492539E-3},1244,1244,"S.US.RMBS",619,"S.US.ERS"]
[null,null,"S.US.HSNI",{"$f":"IFERROR(RTD(\"cqg.rtd\", ,\"ContractData\",C620, \"PerCentNetLastTrade\",, \"T\")/100,\"\")","v":-1.6497461928934011E-2},2286,2286,"S.US.HSNI",620,"S.US.HQCL"]
[null,null,"S.US.ONCE",{"$f":"IFERROR(RTD(\"cqg.rtd\", ,\"ContractData\",C621, \"PerCentNetLastTrade\",, \"T\")/100,\"\")","v":-7.2399788098181173E-3},1989,1989,"S.US.ONCE",621,"S.US.XBKS"]
[null,null,"S.US.UTHR",{"$f":"IFERROR(RTD(\"cqg.rtd\", ,\"ContractData\",C622, \"PerCentNetLastTrade\",, \"T\")/100,\"\")","v":3.9503831871691555E-4},1359,1359,"S.US.UTHR",622,"S.US.ESPR"]
[null,null,"S.US.MIDD",{"$f":"IFERROR(RTD(\"cqg.rtd\", ,\"ContractData\",C623, \"PerCentNetLastTrade\",, \"T\")/100,\"\")","v":-1.123760558207859E-2},2148,2148,"S.US.MIDD",623,"S.US.LPCN"]
[null,null,"S.US.ICLR",{"$f":"IFERROR(RTD(\"cqg.rtd\", ,\"ContractData\",C624, \"PerCentNetLastTrade\",, \"T\")/100,\"\")","v":-1.8855656697009102E-2},2333,2333,"S.US.ICLR",624,"S.US.DFRG"]
[null,null,"S.US.ARLZ",{"$f":"IFERROR(RTD(\"cqg.rtd\", ,\"ContractData\",C625, \"PerCentNetLastTrade\",, \"T\")/100,\"\")","v":1.5748031496062992E-2},467,467,"S.US.ARLZ",625,"S.US.DXLG"]
[null,null,"S.US.RTRX",{"$f":"IFERROR(RTD(\"cqg.rtd\", ,\"ContractData\",C626, \"PerCentNetLastTrade\",, \"T\")/100,\"\")","v":-1.0318949343339587E-2},2110,2110,"S.US.RTRX",626,"S.US.FTGC"]
[null,null,"S.US.MTSI",{"$f":"IFERROR(RTD(\"cqg.rtd\", ,\"ContractData\",C627, \"PerCentNetLastTrade\",, \"T\")/100,\"\")","v":2.1010101010101014E-2},335,335,"S.US.MTSI",627,"S.US.EWBC"]
[null,null,"S.US.LSXMK",{"$f":"IFERROR(RTD(\"cqg.rtd\", ,\"ContractData\",C628, \"PerCentNetLastTrade\",, \"T\")/100,\"\")","v":-8.3869164103997763E-4},1599,1599,"S.US.LSXMK",628,"S.US.LEDS"]
[null,null,"S.US.ABMD",{"$f":"IFERROR(RTD(\"cqg.rtd\", ,\"ContractData\",C629, \"PerCentNetLastTrade\",, \"T\")/100,\"\")","v":-1.4809528057810687E-2},2250,2250,"S.US.ABMD",629,"S.US.WHF"]
[null,null,"S.US.TBPH",{"$f":"IFERROR(RTD(\"cqg.rtd\", ,\"ContractData\",C630, \"PerCentNetLastTrade\",, \"T\")/100,\"\")","v":9.057971014492754E-3},795,795,"S.US.TBPH",630,"S.US.WSFS"]
[null,null,"S.US.HDSN",{"$f":"IFERROR(RTD(\"cqg.rtd\", ,\"ContractData\",C631, \"PerCentNetLastTrade\",, \"T\")/100,\"\")","v":1.2468827930174563E-3},1304,1304,"S.US.HDSN",631,"S.US.LOCO"]
[null,null,"S.US.ICPT",{"$f":"IFERROR(RTD(\"cqg.rtd\", ,\"ContractData\",C632, \"PerCentNetLastTrade\",, \"T\")/100,\"\")","v":-1.6275730014360939E-3},1665,1665,"S.US.ICPT",632,"S.US.USAT"]
[null,null,"S.US.EGRX",{"$f":"IFERROR(RTD(\"cqg.rtd\", ,\"ContractData\",C633, \"PerCentNetLastTrade\",, \"T\")/100,\"\")","v":1.2285641156897875E-2},610,610,"S.US.EGRX",633,"S.US.RFIL"]
[null,null,"S.US.HEES",{"$f":"IFERROR(RTD(\"cqg.rtd\", ,\"ContractData\",C634, \"PerCentNetLastTrade\",, \"T\")/100,\"\")","v":5.14253773057574E-2},61,61,"S.US.HEES",634,"S.US.RNST"]
[null,null,"S.US.UBSI",{"$f":"IFERROR(RTD(\"cqg.rtd\", ,\"ContractData\",C635, \"PerCentNetLastTrade\",, \"T\")/100,\"\")","v":1.0845986984815618E-2},677,677,"S.US.UBSI",635,"S.US.KTCC"]
[null,null,"S.US.WPRT",{"$f":"IFERROR(RTD(\"cqg.rtd\", ,\"ContractData\",C636, \"PerCentNetLastTrade\",, \"T\")/100,\"\")","v":3.1746031746031744E-2},163,163,"S.US.WPRT",636,"S.US.EMITF"]
[null,null,"S.US.ABY",{"$f":"IFERROR(RTD(\"cqg.rtd\", ,\"ContractData\",C637, \"PerCentNetLastTrade\",, \"T\")/100,\"\")","v":5.4914881933003845E-4},1345,1345,"S.US.ABY",637,"S.US.PFBC"]
[null,null,"S.US.HIIQ",{"$f":"IFERROR(RTD(\"cqg.rtd\", ,\"ContractData\",C638, \"PerCentNetLastTrade\",, \"T\")/100,\"\")","v":4.124513618677042E-2},92,92,"S.US.HIIQ",638,"S.US.NYNY"]
[null,null,"S.US.RMTI",{"$f":"IFERROR(RTD(\"cqg.rtd\", ,\"ContractData\",C639, \"PerCentNetLastTrade\",, \"T\")/100,\"\")","v":0.02},357,357,"S.US.RMTI",639,"S.US.COLB"]
[null,null,"S.US.CYBR",{"$f":"IFERROR(RTD(\"cqg.rtd\", ,\"ContractData\",C640, \"PerCentNetLastTrade\",, \"T\")/100,\"\")","v":1.2314308053166537E-2},609,609,"S.US.CYBR",640,"S.US.AQMS"]
[null,null,"S.US.AERI",{"$f":"IFERROR(RTD(\"cqg.rtd\", ,\"ContractData\",C641, \"PerCentNetLastTrade\",, \"T\")/100,\"\")","v":-1.1494252873563218E-2},2156,2156,"S.US.AERI",641,{"$f":"IFERROR(VLOOKUP(H641,$F$1:$G$2860,2,FALSE),\"\")","v":"S.US.KOPN"}]
[null,null,"S.US.TILE",{"$f":"IFERROR(RTD(\"cqg.rtd\", ,\"ContractData\",C642, \"PerCentNetLastTrade\",, \"T\")/100,\"\")","v":-1.1235955056179777E-2},2146,{"$f":"IFERROR(E642,\"\")","v":2146},"S.US.TILE",642,"S.US.RARX"]
[null,null,"S.US.UCBI",{"$f":"IFERROR(RTD(\"cqg.rtd\", ,\"ContractData\",C643, \"PerCentNetLastTrade\",, \"T\")/100,\"\")","v":1.8290406868234417E-2},397,397,{"$f":"C643","v":"S.US.UCBI"},{"$f":"H642+1","v":643},"S.US.OXFD"]
[null,null,"S.US.IMMR",{"$f":"IFERROR(RTD(\"cqg.rtd\", ,\"ContractData\",C644, \"PerCentNetLastTrade\",, \"T\")/100,\"\")","v":5.9171597633136093E-3},982,982,"S.US.IMMR",644,"S.US.ENTA"]
[null,null,"S.US.INCR",{"$f":"IFERROR(RTD(\"cqg.rtd\", ,\"ContractData\",C645, \"PerCentNetLastTrade\",, \"T\")/100,\"\")","v":6.0000000000000001E-3},974,974,"S.US.INCR",645,"S.US.GBCI"]
[null,null,"S.US.LECO",{"$f":"IFERROR(RTD(\"cqg.rtd\", ,\"ContractData\",C646, \"PerCentNetLastTrade\",, \"T\")/100,\"\")","v":2.1491455204557225E-2},328,328,"S.US.LECO",646,"S.US.VBTX"]
[null,null,"S.US.QIWI",{"$f":"IFERROR(RTD(\"cqg.rtd\", ,\"ContractData\",C647, \"PerCentNetLastTrade\",, \"T\")/100,\"\")","v":5.8780308596620137E-3},986,986,"S.US.QIWI",647,"S.US.OMCL"]
[null,null,"S.US.ARAY",{"$f":"IFERROR(RTD(\"cqg.rtd\", ,\"ContractData\",C648, \"PerCentNetLastTrade\",, \"T\")/100,\"\")","v":-1.9417475728155342E-2},2343,2343,"S.US.ARAY",648,"S.US.UMPQ"]
[null,null,"S.US.CARB",{"$f":"IFERROR(RTD(\"cqg.rtd\", ,\"ContractData\",C649, \"PerCentNetLastTrade\",, \"T\")/100,\"\")","v":5.3333333333333332E-3},1025,1025,"S.US.CARB",649,"S.US.RVNC"]
[null,null,"S.US.KTWO",{"$f":"IFERROR(RTD(\"cqg.rtd\", ,\"ContractData\",C650, \"PerCentNetLastTrade\",, \"T\")/100,\"\")","v":-5.3504547886570365E-3},1904,1904,"S.US.KTWO",650,"S.US.FFIC"]
[null,null,"S.US.VRTU",{"$f":"IFERROR(RTD(\"cqg.rtd\", ,\"ContractData\",C651, \"PerCentNetLastTrade\",, \"T\")/100,\"\")","v":-4.4523597506678539E-4},1592,1592,"S.US.VRTU",651,"S.US.TST"]
[null,null,"S.US.IART",{"$f":"IFERROR(RTD(\"cqg.rtd\", ,\"ContractData\",C652, \"PerCentNetLastTrade\",, \"T\")/100,\"\")","v":-9.3171509133259771E-3},2073,2073,"S.US.IART",652,"S.US.LOB"]
[null,null,"S.US.CBMX",{"$f":"IFERROR(RTD(\"cqg.rtd\", ,\"ContractData\",C653, \"PerCentNetLastTrade\",, \"T\")/100,\"\")","v":-6.5573770491803282E-2},2543,2543,"S.US.CBMX",653,"S.US.QABA"]
[null,null,"S.US.MITK",{"$f":"IFERROR(RTD(\"cqg.rtd\", ,\"ContractData\",C654, \"PerCentNetLastTrade\",, \"T\")/100,\"\")","v":0},1394,1394,"S.US.MITK",654,"S.US.AGLE"]
[null,null,"S.US.SHLD",{"$f":"IFERROR(RTD(\"cqg.rtd\", ,\"ContractData\",C655, \"PerCentNetLastTrade\",, \"T\")/100,\"\")","v":4.6153846153846158E-3},1073,1073,"S.US.SHLD",655,"S.US.OKSB"]
[null,null,"S.US.BRKS",{"$f":"IFERROR(RTD(\"cqg.rtd\", ,\"ContractData\",C656, \"PerCentNetLastTrade\",, \"T\")/100,\"\")","v":-6.0060060060060057E-4},1601,1601,"S.US.BRKS",656,"S.US.FWRD"]
[null,null,"S.US.BCOV",{"$f":"IFERROR(RTD(\"cqg.rtd\", ,\"ContractData\",C657, \"PerCentNetLastTrade\",, \"T\")/100,\"\")","v":6.0606060606060606E-3},969,969,"S.US.BCOV",657,"S.US.TRMK"]
[null,null,"S.US.PETX",{"$f":"IFERROR(RTD(\"cqg.rtd\", ,\"ContractData\",C658, \"PerCentNetLastTrade\",, \"T\")/100,\"\")","v":-1.3869625520110958E-2},2221,2221,"S.US.PETX",658,"S.US.GLDD"]
[null,null,"S.US.WLB",{"$f":"IFERROR(RTD(\"cqg.rtd\", ,\"ContractData\",C659, \"PerCentNetLastTrade\",, \"T\")/100,\"\")","v":1.8803418803418803E-2},382,382,"S.US.WLB",659,"S.US.REIS"]
[null,null,"S.US.IIIN",{"$f":"IFERROR(RTD(\"cqg.rtd\", ,\"ContractData\",C660, \"PerCentNetLastTrade\",, \"T\")/100,\"\")","v":-6.7314884068810765E-3},1963,1963,"S.US.IIIN",660,"S.US.DXJS"]
[null,null,"S.US.FLXN",{"$f":"IFERROR(RTD(\"cqg.rtd\", ,\"ContractData\",C661, \"PerCentNetLastTrade\",, \"T\")/100,\"\")","v":-2.6467203682393557E-2},2411,2411,"S.US.FLXN",661,"S.US.RPRX"]
[null,null,"S.US.FIVN",{"$f":"IFERROR(RTD(\"cqg.rtd\", ,\"ContractData\",C662, \"PerCentNetLastTrade\",, \"T\")/100,\"\")","v":-2.5204788909892876E-3},1724,1724,"S.US.FIVN",662,"S.US.NETE"]
[null,null,"S.US.VA",{"$f":"IFERROR(RTD(\"cqg.rtd\", ,\"ContractData\",C663, \"PerCentNetLastTrade\",, \"T\")/100,\"\")","v":0},1395,1395,"S.US.VA",663,"S.US.SYMC"]
[null,null,"S.US.CHRS",{"$f":"IFERROR(RTD(\"cqg.rtd\", ,\"ContractData\",C664, \"PerCentNetLastTrade\",, \"T\")/100,\"\")","v":-1.18491921005386E-2},2168,2168,"S.US.CHRS",664,"S.US.SFLY"]
[null,null,"S.US.PI",{"$f":"IFERROR(RTD(\"cqg.rtd\", ,\"ContractData\",C665, \"PerCentNetLastTrade\",, \"T\")/100,\"\")","v":2.7889908256880737E-2},202,202,"S.US.PI",665,"S.US.GLMD"]
[null,null,"S.US.SNCR",{"$f":"IFERROR(RTD(\"cqg.rtd\", ,\"ContractData\",C666, \"PerCentNetLastTrade\",, \"T\")/100,\"\")","v":-9.7087378640776708E-3},2088,2088,"S.US.SNCR",666,"S.US.MYRG"]
[null,null,"S.US.NXTM",{"$f":"IFERROR(RTD(\"cqg.rtd\", ,\"ContractData\",C667, \"PerCentNetLastTrade\",, \"T\")/100,\"\")","v":1.1686793922867161E-3},1313,1313,"S.US.NXTM",667,"S.US.NEOG"]
[null,null,"S.US.EGHT",{"$f":"IFERROR(RTD(\"cqg.rtd\", ,\"ContractData\",C668, \"PerCentNetLastTrade\",, \"T\")/100,\"\")","v":1.0638297872340425E-2},687,687,"S.US.EGHT",668,"S.US.ONTX"]
[null,null,"S.US.OSUR",{"$f":"IFERROR(RTD(\"cqg.rtd\", ,\"ContractData\",C669, \"PerCentNetLastTrade\",, \"T\")/100,\"\")","v":1.7793594306049824E-2},419,419,"S.US.OSUR",669,"S.US.AMRB"]
[null,null,"S.US.KALV",{"$f":"IFERROR(RTD(\"cqg.rtd\", ,\"ContractData\",C670, \"PerCentNetLastTrade\",, \"T\")/100,\"\")","v":-9.1299677765843176E-2},2556,2556,"S.US.KALV",670,"S.US.MSBF"]
[null,null,"S.US.WAFD",{"$f":"IFERROR(RTD(\"cqg.rtd\", ,\"ContractData\",C671, \"PerCentNetLastTrade\",, \"T\")/100,\"\")","v":6.1068702290076335E-3},963,963,"S.US.WAFD",671,"S.US.INDY"]
[null,null,"S.US.ORBC",{"$f":"IFERROR(RTD(\"cqg.rtd\", ,\"ContractData\",C672, \"PerCentNetLastTrade\",, \"T\")/100,\"\")","v":-8.1206496519721574E-3},2028,2028,"S.US.ORBC",672,"S.US.IMGN"]
[null,null,"S.US.SYUT",{"$f":"IFERROR(RTD(\"cqg.rtd\", ,\"ContractData\",C673, \"PerCentNetLastTrade\",, \"T\")/100,\"\")","v":-5.7692307692307687E-3},1919,1919,"S.US.SYUT",673,"S.US.ALCO"]
[null,null,"S.US.UBNT",{"$f":"IFERROR(RTD(\"cqg.rtd\", ,\"ContractData\",C674, \"PerCentNetLastTrade\",, \"T\")/100,\"\")","v":-5.638766519823789E-3},1912,1912,"S.US.UBNT",674,"S.US.FGEN"]
[null,null,"S.US.ARTX",{"$f":"IFERROR(RTD(\"cqg.rtd\", ,\"ContractData\",C675, \"PerCentNetLastTrade\",, \"T\")/100,\"\")","v":3.896103896103896E-2},110,110,"S.US.ARTX",675,"S.US.ABCO"]
[null,null,"S.US.TTEK",{"$f":"IFERROR(RTD(\"cqg.rtd\", ,\"ContractData\",C676, \"PerCentNetLastTrade\",, \"T\")/100,\"\")","v":1.048951048951049E-2},695,695,"S.US.TTEK",676,"S.US.ACIA"]
[null,null,"S.US.CTIC",{"$f":"IFERROR(RTD(\"cqg.rtd\", ,\"ContractData\",C677, \"PerCentNetLastTrade\",, \"T\")/100,\"\")","v":0},1396,1396,"S.US.CTIC",677,"S.US.UBSI"]
[null,null,"S.US.LGCY",{"$f":"IFERROR(RTD(\"cqg.rtd\", ,\"ContractData\",C678, \"PerCentNetLastTrade\",, \"T\")/100,\"\")","v":0.12941176470588237},9,9,"S.US.LGCY",678,"S.US.RBPAA"]
[null,null,"S.US.CMRX",{"$f":"IFERROR(RTD(\"cqg.rtd\", ,\"ContractData\",C679, \"PerCentNetLastTrade\",, \"T\")/100,\"\")","v":1.9646365422396855E-3},1262,1262,"S.US.CMRX",679,"S.US.FSBK"]
[null,null,"S.US.PNRA",{"$f":"IFERROR(RTD(\"cqg.rtd\", ,\"ContractData\",C680, \"PerCentNetLastTrade\",, \"T\")/100,\"\")","v":-3.0211480362537764E-3},1755,1755,"S.US.PNRA",680,"S.US.EYEG"]
[null,null,"S.US.LSXMA",{"$f":"IFERROR(RTD(\"cqg.rtd\", ,\"ContractData\",C681, \"PerCentNetLastTrade\",, \"T\")/100,\"\")","v":0},1397,1397,"S.US.LSXMA",681,"S.US.AMBA"]
[null,null,"S.US.ANGI",{"$f":"IFERROR(RTD(\"cqg.rtd\", ,\"ContractData\",C682, \"PerCentNetLastTrade\",, \"T\")/100,\"\")","v":8.0000000000000002E-3},844,844,"S.US.ANGI",682,"S.US.SCSC"]
[null,null,"S.US.PLAB",{"$f":"IFERROR(RTD(\"cqg.rtd\", ,\"ContractData\",C683, \"PerCentNetLastTrade\",, \"T\")/100,\"\")","v":9.9009900990099011E-3},731,731,"S.US.PLAB",683,"S.US.CSFL"]
[null,null,"S.US.BANR",{"$f":"IFERROR(RTD(\"cqg.rtd\", ,\"ContractData\",C684, \"PerCentNetLastTrade\",, \"T\")/100,\"\")","v":1.0430751400424956E-2},700,700,"S.US.BANR",684,"S.US.MSFG"]
[null,null,"S.US.PZZA",{"$f":"IFERROR(RTD(\"cqg.rtd\", ,\"ContractData\",C685, \"PerCentNetLastTrade\",, \"T\")/100,\"\")","v":7.2255992659708678E-3},894,894,"S.US.PZZA",685,"S.US.INFO"]
[null,null,"S.US.NEPT",{"$f":"IFERROR(RTD(\"cqg.rtd\", ,\"ContractData\",C686, \"PerCentNetLastTrade\",, \"T\")/100,\"\")","v":9.9009900990099011E-3},732,732,"S.US.NEPT",686,"S.US.PLXS"]
[null,null,"S.US.TTD",{"$f":"IFERROR(RTD(\"cqg.rtd\", ,\"ContractData\",C687, \"PerCentNetLastTrade\",, \"T\")/100,\"\")","v":-1.4749262536873156E-2},2249,2249,"S.US.TTD",687,"S.US.EGHT"]
[null,null,"S.US.CASY",{"$f":"IFERROR(RTD(\"cqg.rtd\", ,\"ContractData\",C688, \"PerCentNetLastTrade\",, \"T\")/100,\"\")","v":-1.0035900783289817E-2},2099,2099,"S.US.CASY",688,"S.US.NRIM"]
[null,null,"S.US.RGLS",{"$f":"IFERROR(RTD(\"cqg.rtd\", ,\"ContractData\",C689, \"PerCentNetLastTrade\",, \"T\")/100,\"\")","v":1.9607843137254902E-2},363,363,"S.US.RGLS",689,"S.US.CCUR"]
[null,null,"S.US.GLDD",{"$f":"IFERROR(RTD(\"cqg.rtd\", ,\"ContractData\",C690, \"PerCentNetLastTrade\",, \"T\")/100,\"\")","v":1.1235955056179777E-2},658,658,"S.US.GLDD",690,"S.US.CHCO"]
[null,null,"S.US.NATI",{"$f":"IFERROR(RTD(\"cqg.rtd\", ,\"ContractData\",C691, \"PerCentNetLastTrade\",, \"T\")/100,\"\")","v":-6.6666666666666664E-4},1605,1605,"S.US.NATI",691,"S.US.DAVE"]
[null,null,"S.US.CCOI",{"$f":"IFERROR(RTD(\"cqg.rtd\", ,\"ContractData\",C692, \"PerCentNetLastTrade\",, \"T\")/100,\"\")","v":2.6143790849673205E-3},1213,1213,"S.US.CCOI",692,"S.US.BDGE"]
[null,null,"S.US.REGI",{"$f":"IFERROR(RTD(\"cqg.rtd\", ,\"ContractData\",C693, \"PerCentNetLastTrade\",, \"T\")/100,\"\")","v":2.0833333333333336E-2},341,341,"S.US.REGI",693,"S.US.HTBK"]
[null,null,"S.US.NVDQ",{"$f":"IFERROR(RTD(\"cqg.rtd\", ,\"ContractData\",C694, \"PerCentNetLastTrade\",, \"T\")/100,\"\")","v":-2.4226110363391659E-2},2389,2389,"S.US.NVDQ",694,"S.US.RECN"]
[null,null,"S.US.TRCH",{"$f":"IFERROR(RTD(\"cqg.rtd\", ,\"ContractData\",C695, \"PerCentNetLastTrade\",, \"T\")/100,\"\")","v":2.4E-2},259,259,"S.US.TRCH",695,"S.US.TTEK"]
[null,null,"S.US.PRTA",{"$f":"IFERROR(RTD(\"cqg.rtd\", ,\"ContractData\",C696, \"PerCentNetLastTrade\",, \"T\")/100,\"\")","v":2.3259677687323477E-3},1239,1239,"S.US.PRTA",696,"S.US.FBZ"]
[null,null,"S.US.RP",{"$f":"IFERROR(RTD(\"cqg.rtd\", ,\"ContractData\",C697, \"PerCentNetLastTrade\",, \"T\")/100,\"\")","v":-8.5034013605442167E-3},2042,2042,"S.US.RP",697,"S.US.HTLF"]
[null,null,"S.US.TBBK",{"$f":"IFERROR(RTD(\"cqg.rtd\", ,\"ContractData\",C698, \"PerCentNetLastTrade\",, \"T\")/100,\"\")","v":1.5299026425591097E-2},483,483,"S.US.TBBK",698,"S.US.BLDP"]
[null,null,"S.US.SODA",{"$f":"IFERROR(RTD(\"cqg.rtd\", ,\"ContractData\",C699, \"PerCentNetLastTrade\",, \"T\")/100,\"\")","v":1.3215859030837005E-2},569,569,"S.US.SODA",699,"S.US.BMCH"]
[null,null,"S.US.KRNY",{"$f":"IFERROR(RTD(\"cqg.rtd\", ,\"ContractData\",C700, \"PerCentNetLastTrade\",, \"T\")/100,\"\")","v":4.5901639344262295E-3},1075,1075,"S.US.KRNY",700,"S.US.BANR"]
[null,null,"S.US.ABCO",{"$f":"IFERROR(RTD(\"cqg.rtd\", ,\"ContractData\",C701, \"PerCentNetLastTrade\",, \"T\")/100,\"\")","v":1.0914051841746248E-2},675,675,"S.US.ABCO",701,"S.US.BECN"]
[null,null,"S.US.UNFI",{"$f":"IFERROR(RTD(\"cqg.rtd\", ,\"ContractData\",C702, \"PerCentNetLastTrade\",, \"T\")/100,\"\")","v":-3.6201022146507668E-3},1799,1799,"S.US.UNFI",702,"S.US.RNWK"]
[null,null,"S.US.SCHN",{"$f":"IFERROR(RTD(\"cqg.rtd\", ,\"ContractData\",C703, \"PerCentNetLastTrade\",, \"T\")/100,\"\")","v":8.9126559714795012E-3},801,801,"S.US.SCHN",703,"S.US.ESND"]
[null,null,"S.US.CLMT",{"$f":"IFERROR(RTD(\"cqg.rtd\", ,\"ContractData\",C704, \"PerCentNetLastTrade\",, \"T\")/100,\"\")","v":6.5789473684210523E-2},40,40,"S.US.CLMT",704,"S.US.NURO"]
[null,null,"S.US.BZUN",{"$f":"IFERROR(RTD(\"cqg.rtd\", ,\"ContractData\",C705, \"PerCentNetLastTrade\",, \"T\")/100,\"\")","v":-3.2573289902280127E-3},1771,1771,"S.US.BZUN",705,{"$f":"IFERROR(VLOOKUP(H705,$F$1:$G$2860,2,FALSE),\"\")","v":"S.US.ARGS"}]
[null,null,"S.US.NVCR",{"$f":"IFERROR(RTD(\"cqg.rtd\", ,\"ContractData\",C706, \"PerCentNetLastTrade\",, \"T\")/100,\"\")","v":-1.019108280254777E-2},2104,{"$f":"IFERROR(E706,\"\")","v":2104},"S.US.NVCR",706,"S.US.PRFZ"]
[null,null,"S.US.ABEO",{"$f":"IFERROR(RTD(\"cqg.rtd\", ,\"ContractData\",C707, \"PerCentNetLastTrade\",, \"T\")/100,\"\")","v":-4.1221374045801527E-2},2492,2492,{"$f":"C707","v":"S.US.ABEO"},{"$f":"H706+1","v":707},"S.US.SPNE"]
[null,null,"S.US.EGLT",{"$f":"IFERROR(RTD(\"cqg.rtd\", ,\"ContractData\",C708, \"PerCentNetLastTrade\",, \"T\")/100,\"\")","v":1.3196480938416421E-2},571,571,"S.US.EGLT",708,"S.US.YNDX"]
[null,null,"S.US.HIBB",{"$f":"IFERROR(RTD(\"cqg.rtd\", ,\"ContractData\",C709, \"PerCentNetLastTrade\",, \"T\")/100,\"\")","v":0},1398,1398,"S.US.HIBB",709,"S.US.KELYA"]
[null,null,"S.US.OSIS",{"$f":"IFERROR(RTD(\"cqg.rtd\", ,\"ContractData\",C710, \"PerCentNetLastTrade\",, \"T\")/100,\"\")","v":7.0931301720740837E-3},900,900,"S.US.OSIS",710,"S.US.STLD"]
[null,null,"S.US.FORM",{"$f":"IFERROR(RTD(\"cqg.rtd\", ,\"ContractData\",C711, \"PerCentNetLastTrade\",, \"T\")/100,\"\")","v":3.6363636363636362E-2},127,127,"S.US.FORM",711,"S.US.CATY"]
[null,null,"S.US.ZAGG",{"$f":"IFERROR(RTD(\"cqg.rtd\", ,\"ContractData\",C712, \"PerCentNetLastTrade\",, \"T\")/100,\"\")","v":-7.246376811594203E-3},1990,1990,"S.US.ZAGG",712,"S.US.CHFC"]
[null,null,"S.US.CBSH",{"$f":"IFERROR(RTD(\"cqg.rtd\", ,\"ContractData\",C713, \"PerCentNetLastTrade\",, \"T\")/100,\"\")","v":-3.6695652173913046E-2},2476,2476,"S.US.CBSH",713,"S.US.ACAD"]
[null,null,"S.US.EFII",{"$f":"IFERROR(RTD(\"cqg.rtd\", ,\"ContractData\",C714, \"PerCentNetLastTrade\",, \"T\")/100,\"\")","v":6.8933823529411769E-4},1337,1337,"S.US.EFII",714,"S.US.LMCA"]
[null,null,"S.US.STMP",{"$f":"IFERROR(RTD(\"cqg.rtd\", ,\"ContractData\",C715, \"PerCentNetLastTrade\",, \"T\")/100,\"\")","v":-1.0854816824966078E-2},2132,2132,"S.US.STMP",715,"S.US.GRPN"]
[null,null,"S.US.NMIH",{"$f":"IFERROR(RTD(\"cqg.rtd\", ,\"ContractData\",C716, \"PerCentNetLastTrade\",, \"T\")/100,\"\")","v":1.9540229885057471E-2},366,366,"S.US.NMIH",716,"S.US.MFSF"]
[null,null,"S.US.SPNC",{"$f":"IFERROR(RTD(\"cqg.rtd\", ,\"ContractData\",C717, \"PerCentNetLastTrade\",, \"T\")/100,\"\")","v":-1.1111111111111112E-2},2137,2137,"S.US.SPNC",717,"S.US.SHOR"]
[null,null,"S.US.PNNT",{"$f":"IFERROR(RTD(\"cqg.rtd\", ,\"ContractData\",C718, \"PerCentNetLastTrade\",, \"T\")/100,\"\")","v":5.4054054054054057E-3},1022,1022,"S.US.PNNT",718,"S.US.MDRX"]
[null,null,"S.US.CSTE",{"$f":"IFERROR(RTD(\"cqg.rtd\", ,\"ContractData\",C719, \"PerCentNetLastTrade\",, \"T\")/100,\"\")","v":-1.2567324955116697E-2},2187,2187,"S.US.CSTE",719,"S.US.TGLS"]
[null,null,"S.US.TGTX",{"$f":"IFERROR(RTD(\"cqg.rtd\", ,\"ContractData\",C720, \"PerCentNetLastTrade\",, \"T\")/100,\"\")","v":3.9285714285714285E-2},107,107,"S.US.TGTX",720,"S.US.MXWL"]
[null,null,"S.US.FOXF",{"$f":"IFERROR(RTD(\"cqg.rtd\", ,\"ContractData\",C721, \"PerCentNetLastTrade\",, \"T\")/100,\"\")","v":1.2345679012345678E-2},607,607,"S.US.FOXF",721,"S.US.AVXL"]
[null,null,"S.US.IGF",{"$f":"IFERROR(RTD(\"cqg.rtd\", ,\"ContractData\",C722, \"PerCentNetLastTrade\",, \"T\")/100,\"\")","v":-1.2863390789812196E-3},1648,1648,"S.US.IGF",722,"S.US.BRKL"]
[null,null,"S.US.MRNS",{"$f":"IFERROR(RTD(\"cqg.rtd\", ,\"ContractData\",C723, \"PerCentNetLastTrade\",, \"T\")/100,\"\")","v":-9.2592592592592587E-3},2071,2071,"S.US.MRNS",723,"S.US.RAVN"]
[null,null,"S.US.XXIA",{"$f":"IFERROR(RTD(\"cqg.rtd\", ,\"ContractData\",C724, \"PerCentNetLastTrade\",, \"T\")/100,\"\")","v":3.5587188612099647E-3},1144,1144,"S.US.XXIA",724,"S.US.DTEA"]
[null,null,"S.US.HABT",{"$f":"IFERROR(RTD(\"cqg.rtd\", ,\"ContractData\",C725, \"PerCentNetLastTrade\",, \"T\")/100,\"\")","v":-1.7804154302670624E-2},2308,2308,"S.US.HABT",725,"S.US.WBB"]
[null,null,"S.US.ARLP",{"$f":"IFERROR(RTD(\"cqg.rtd\", ,\"ContractData\",C726, \"PerCentNetLastTrade\",, \"T\")/100,\"\")","v":4.1841004184100415E-3},1098,1098,"S.US.ARLP",726,"S.US.ICLN"]
[null,null,"S.US.BNSO",{"$f":"IFERROR(RTD(\"cqg.rtd\", ,\"ContractData\",C727, \"PerCentNetLastTrade\",, \"T\")/100,\"\")","v":1.8264840182648401E-2},398,398,"S.US.BNSO",727,"S.US.ADRE"]
[null,null,"S.US.WIX",{"$f":"IFERROR(RTD(\"cqg.rtd\", ,\"ContractData\",C728, \"PerCentNetLastTrade\",, \"T\")/100,\"\")","v":-1.2732615083251715E-2},2190,2190,"S.US.WIX",728,"S.US.WWD"]
[null,null,"S.US.SQBG",{"$f":"IFERROR(RTD(\"cqg.rtd\", ,\"ContractData\",C729, \"PerCentNetLastTrade\",, \"T\")/100,\"\")","v":2.0637898686679174E-2},344,344,"S.US.SQBG",729,"S.US.FRP"]
[null,null,"S.US.SALE",{"$f":"IFERROR(RTD(\"cqg.rtd\", ,\"ContractData\",C730, \"PerCentNetLastTrade\",, \"T\")/100,\"\")","v":1.6216216216216217E-2},455,455,"S.US.SALE",730,"S.US.NANO"]
[null,null,"S.US.DNAI",{"$f":"IFERROR(RTD(\"cqg.rtd\", ,\"ContractData\",C731, \"PerCentNetLastTrade\",, \"T\")/100,\"\")","v":-7.1428571428571426E-3},1984,1984,"S.US.DNAI",731,"S.US.PLAB"]
[null,null,"S.US.SCLN",{"$f":"IFERROR(RTD(\"cqg.rtd\", ,\"ContractData\",C732, \"PerCentNetLastTrade\",, \"T\")/100,\"\")","v":-4.9261083743842365E-3},1882,1882,"S.US.SCLN",732,"S.US.NEPT"]
[null,null,"S.US.ACTG",{"$f":"IFERROR(RTD(\"cqg.rtd\", ,\"ContractData\",C733, \"PerCentNetLastTrade\",, \"T\")/100,\"\")","v":6.993006993006993E-3},907,907,"S.US.ACTG",733,"S.US.FVC"]
[null,null,"S.US.ACRS",{"$f":"IFERROR(RTD(\"cqg.rtd\", ,\"ContractData\",C734, \"PerCentNetLastTrade\",, \"T\")/100,\"\")","v":-1.0948905109489052E-2},2135,2135,"S.US.ACRS",734,"S.US.BLRX"]
[null,null,"S.US.HCSG",{"$f":"IFERROR(RTD(\"cqg.rtd\", ,\"ContractData\",C735, \"PerCentNetLastTrade\",, \"T\")/100,\"\")","v":9.2544987146529565E-3},778,778,"S.US.HCSG",735,"S.US.IMI"]
[null,null,"S.US.DENN",{"$f":"IFERROR(RTD(\"cqg.rtd\", ,\"ContractData\",C736, \"PerCentNetLastTrade\",, \"T\")/100,\"\")","v":2.4469820554649264E-3},1226,1226,"S.US.DENN",736,"S.US.GUID"]
[null,null,"S.US.BSFT",{"$f":"IFERROR(RTD(\"cqg.rtd\", ,\"ContractData\",C737, \"PerCentNetLastTrade\",, \"T\")/100,\"\")","v":-4.0865384615384618E-3},1828,1828,"S.US.BSFT",737,"S.US.JAKK"]
[null,null,"S.US.PEGA",{"$f":"IFERROR(RTD(\"cqg.rtd\", ,\"ContractData\",C738, \"PerCentNetLastTrade\",, \"T\")/100,\"\")","v":6.9832402234636867E-3},909,909,"S.US.PEGA",738,"S.US.PCMI"]
[null,null,"S.US.ERI",{"$f":"IFERROR(RTD(\"cqg.rtd\", ,\"ContractData\",C739, \"PerCentNetLastTrade\",, \"T\")/100,\"\")","v":3.7453183520599256E-3},1126,1126,"S.US.ERI",739,"S.US.WSBC"]
[null,null,"S.US.DWCH",{"$f":"IFERROR(RTD(\"cqg.rtd\", ,\"ContractData\",C740, \"PerCentNetLastTrade\",, \"T\")/100,\"\")","v":0},1399,1399,"S.US.DWCH",740,"S.US.ARCI"]
[null,null,"S.US.LOCO",{"$f":"IFERROR(RTD(\"cqg.rtd\", ,\"ContractData\",C741, \"PerCentNetLastTrade\",, \"T\")/100,\"\")","v":1.1764705882352941E-2},631,631,"S.US.LOCO",741,"S.US.CTSO"]
[null,null,"S.US.CATY",{"$f":"IFERROR(RTD(\"cqg.rtd\", ,\"ContractData\",C742, \"PerCentNetLastTrade\",, \"T\")/100,\"\")","v":1.0218563724098779E-2},711,711,"S.US.CATY",742,"S.US.ADRU"]
[null,null,"S.US.KNDI",{"$f":"IFERROR(RTD(\"cqg.rtd\", ,\"ContractData\",C743, \"PerCentNetLastTrade\",, \"T\")/100,\"\")","v":3.5398230088495575E-2},132,132,"S.US.KNDI",743,"S.US.CACB"]
[null,null,"S.US.ADRO",{"$f":"IFERROR(RTD(\"cqg.rtd\", ,\"ContractData\",C744, \"PerCentNetLastTrade\",, \"T\")/100,\"\")","v":5.6451612903225812E-3},1005,1005,"S.US.ADRO",744,"S.US.CBF"]
[null,null,"S.US.TRNC",{"$f":"IFERROR(RTD(\"cqg.rtd\", ,\"ContractData\",C745, \"PerCentNetLastTrade\",, \"T\")/100,\"\")","v":3.866976024748647E-3},1124,1124,"S.US.TRNC",745,"S.US.MBFI"]
[null,null,"S.US.ATHX",{"$f":"IFERROR(RTD(\"cqg.rtd\", ,\"ContractData\",C746, \"PerCentNetLastTrade\",, \"T\")/100,\"\")","v":1.8072289156626505E-2},405,405,"S.US.ATHX",746,"S.US.PACW"]
[null,null,"S.US.LOGI",{"$f":"IFERROR(RTD(\"cqg.rtd\", ,\"ContractData\",C747, \"PerCentNetLastTrade\",, \"T\")/100,\"\")","v":6.9700697006970071E-3},914,914,"S.US.LOGI",747,"S.US.ATRA"]
[null,null,"S.US.MASI",{"$f":"IFERROR(RTD(\"cqg.rtd\", ,\"ContractData\",C748, \"PerCentNetLastTrade\",, \"T\")/100,\"\")","v":1.6092693916961701E-4},1370,1370,"S.US.MASI",748,"S.US.NOVT"]
[null,null,"S.US.BNFT",{"$f":"IFERROR(RTD(\"cqg.rtd\", ,\"ContractData\",C749, \"PerCentNetLastTrade\",, \"T\")/100,\"\")","v":-3.5778175313059034E-3},1795,1795,"S.US.BNFT",749,"S.US.RETA"]
[null,null,"S.US.WWD",{"$f":"IFERROR(RTD(\"cqg.rtd\", ,\"ContractData\",C750, \"PerCentNetLastTrade\",, \"T\")/100,\"\")","v":9.9436034431582068E-3},728,728,"S.US.WWD",750,"S.US.CPSS"]
[null,null,"S.US.CONN",{"$f":"IFERROR(RTD(\"cqg.rtd\", ,\"ContractData\",C751, \"PerCentNetLastTrade\",, \"T\")/100,\"\")","v":1.9383259911894272E-2},370,370,"S.US.CONN",751,"S.US.WASH"]
[null,null,"S.US.BLKB",{"$f":"IFERROR(RTD(\"cqg.rtd\", ,\"ContractData\",C752, \"PerCentNetLastTrade\",, \"T\")/100,\"\")","v":-3.753518923991242E-3},1850,1850,"S.US.BLKB",752,"S.US.HAFC"]
[null,null,"S.US.MB",{"$f":"IFERROR(RTD(\"cqg.rtd\", ,\"ContractData\",C753, \"PerCentNetLastTrade\",, \"T\")/100,\"\")","v":-3.4977578475336321E-2},2469,2469,"S.US.MB",753,"S.US.CECE"]
[null,null,"S.US.TWOU",{"$f":"IFERROR(RTD(\"cqg.rtd\", ,\"ContractData\",C754, \"PerCentNetLastTrade\",, \"T\")/100,\"\")","v":-7.0721357850070717E-3},1980,1980,"S.US.TWOU",754,"S.US.FRBK"]
[null,null,"S.US.VUZI",{"$f":"IFERROR(RTD(\"cqg.rtd\", ,\"ContractData\",C755, \"PerCentNetLastTrade\",, \"T\")/100,\"\")","v":6.1349693251533744E-3},961,961,"S.US.VUZI",755,"S.US.KVHI"]
[null,null,"S.US.SMTC",{"$f":"IFERROR(RTD(\"cqg.rtd\", ,\"ContractData\",C756, \"PerCentNetLastTrade\",, \"T\")/100,\"\")","v":-1.060070671378092E-3},1631,1631,"S.US.SMTC",756,"S.US.CTG"]
[null,null,"S.US.MVIS",{"$f":"IFERROR(RTD(\"cqg.rtd\", ,\"ContractData\",C757, \"PerCentNetLastTrade\",, \"T\")/100,\"\")","v":2.8735632183908046E-2},193,193,"S.US.MVIS",757,"S.US.ACAT"]
[null,null,"S.US.CECO",{"$f":"IFERROR(RTD(\"cqg.rtd\", ,\"ContractData\",C758, \"PerCentNetLastTrade\",, \"T\")/100,\"\")","v":2.0040080160320644E-3},1257,1257,"S.US.CECO",758,"S.US.FULT"]
[null,null,"S.US.JKHY",{"$f":"IFERROR(RTD(\"cqg.rtd\", ,\"ContractData\",C759, \"PerCentNetLastTrade\",, \"T\")/100,\"\")","v":-6.4530737008943731E-3},1951,1951,"S.US.JKHY",759,"S.US.RPXC"]
[null,null,"S.US.ULTI",{"$f":"IFERROR(RTD(\"cqg.rtd\", ,\"ContractData\",C760, \"PerCentNetLastTrade\",, \"T\")/100,\"\")","v":-1.1414320656083641E-2},2154,2154,"S.US.ULTI",760,"S.US.PEBO"]
[null,null,"S.US.FPRX",{"$f":"IFERROR(RTD(\"cqg.rtd\", ,\"ContractData\",C761, \"PerCentNetLastTrade\",, \"T\")/100,\"\")","v":-9.2339261285909711E-3},2069,2069,"S.US.FPRX",761,"S.US.THRM"]
[null,null,"S.US.AMPH",{"$f":"IFERROR(RTD(\"cqg.rtd\", ,\"ContractData\",C762, \"PerCentNetLastTrade\",, \"T\")/100,\"\")","v":-3.4431874077717663E-3},1785,1785,"S.US.AMPH",762,"S.US.SMED"]
[null,null,"S.US.LMCK",{"$f":"IFERROR(RTD(\"cqg.rtd\", ,\"ContractData\",C763, \"PerCentNetLastTrade\",, \"T\")/100,\"\")","v":1.2726694241170854E-2},588,588,"S.US.LMCK",763,"S.US.PXLW"]
[null,null,"S.US.IBKR",{"$f":"IFERROR(RTD(\"cqg.rtd\", ,\"ContractData\",C764, \"PerCentNetLastTrade\",, \"T\")/100,\"\")","v":9.2617815309180059E-3},777,777,"S.US.IBKR",764,"S.US.HGSH"]
[null,null,"S.US.IIVI",{"$f":"IFERROR(RTD(\"cqg.rtd\", ,\"ContractData\",C765, \"PerCentNetLastTrade\",, \"T\")/100,\"\")","v":-1.1200000000000002E-2},2144,2144,"S.US.IIVI",765,"S.US.WEBK"]
[null,null,"S.US.VTIP",{"$f":"IFERROR(RTD(\"cqg.rtd\", ,\"ContractData\",C766, \"PerCentNetLastTrade\",, \"T\")/100,\"\")","v":-2.0263424518743669E-4},1574,1574,"S.US.VTIP",766,"S.US.GNCMA"]
[null,null,"S.US.KLIC",{"$f":"IFERROR(RTD(\"cqg.rtd\", ,\"ContractData\",C767, \"PerCentNetLastTrade\",, \"T\")/100,\"\")","v":-5.7106598984771571E-3},1915,1915,"S.US.KLIC",767,"S.US.PTX"]
[null,null,"S.US.LSTR",{"$f":"IFERROR(RTD(\"cqg.rtd\", ,\"ContractData\",C768, \"PerCentNetLastTrade\",, \"T\")/100,\"\")","v":2.5294482331060134E-2},242,242,"S.US.LSTR",768,"S.US.JOBS"]
[null,null,"S.US.LMCA",{"$f":"IFERROR(RTD(\"cqg.rtd\", ,\"ContractData\",C769, \"PerCentNetLastTrade\",, \"T\")/100,\"\")","v":1.0126582278481013E-2},714,714,"S.US.LMCA",769,{"$f":"IFERROR(VLOOKUP(H769,$F$1:$G$2860,2,FALSE),\"\")","v":"S.US.AEGN"}]
[null,null,"S.US.CFMS",{"$f":"IFERROR(RTD(\"cqg.rtd\", ,\"ContractData\",C770, \"PerCentNetLastTrade\",, \"T\")/100,\"\")","v":1.3544018058690745E-2},560,{"$f":"IFERROR(E770,\"\")","v":560},"S.US.CFMS",770,"S.US.BUFF"]
[null,null,"S.US.HMNY",{"$f":"IFERROR(RTD(\"cqg.rtd\", ,\"ContractData\",C771, \"PerCentNetLastTrade\",, \"T\")/100,\"\")","v":-2.1032504780114723E-2},2360,2360,{"$f":"C771","v":"S.US.HMNY"},{"$f":"H770+1","v":771},"S.US.FIBK"]
[null,null,"S.US.INSM",{"$f":"IFERROR(RTD(\"cqg.rtd\", ,\"ContractData\",C772, \"PerCentNetLastTrade\",, \"T\")/100,\"\")","v":4.8951048951048955E-3},1053,1053,"S.US.INSM",772,"S.US.CFFN"]
[null,null,"S.US.MDGS",{"$f":"IFERROR(RTD(\"cqg.rtd\", ,\"ContractData\",C773, \"PerCentNetLastTrade\",, \"T\")/100,\"\")","v":3.5294117647058823E-2},134,134,"S.US.MDGS",773,"S.US.VWR"]
[null,null,"S.US.XLRN",{"$f":"IFERROR(RTD(\"cqg.rtd\", ,\"ContractData\",C774, \"PerCentNetLastTrade\",, \"T\")/100,\"\")","v":-1.5881708652792991E-2},2274,2274,"S.US.XLRN",774,"S.US.EXA"]
[null,null,"S.US.HEAR",{"$f":"IFERROR(RTD(\"cqg.rtd\", ,\"ContractData\",C775, \"PerCentNetLastTrade\",, \"T\")/100,\"\")","v":0},1400,1400,"S.US.HEAR",775,"S.US.BWINB"]
[null,null,"S.US.EYEG",{"$f":"IFERROR(RTD(\"cqg.rtd\", ,\"ContractData\",C776, \"PerCentNetLastTrade\",, \"T\")/100,\"\")","v":1.0810810810810811E-2},680,680,"S.US.EYEG",776,"S.US.SEDG"]
[null,null,"S.US.ASPS",{"$f":"IFERROR(RTD(\"cqg.rtd\", ,\"ContractData\",C777, \"PerCentNetLastTrade\",, \"T\")/100,\"\")","v":1.5003750937734435E-2},498,498,"S.US.ASPS",777,"S.US.IBKR"]
[null,null,"S.US.ADTN",{"$f":"IFERROR(RTD(\"cqg.rtd\", ,\"ContractData\",C778, \"PerCentNetLastTrade\",, \"T\")/100,\"\")","v":-2.4154589371980675E-3},1716,1716,"S.US.ADTN",778,"S.US.HCSG"]
[null,null,"S.US.TECD",{"$f":"IFERROR(RTD(\"cqg.rtd\", ,\"ContractData\",C779, \"PerCentNetLastTrade\",, \"T\")/100,\"\")","v":2.5879308316668626E-3},1217,1217,"S.US.TECD",779,"S.US.HBCP"]
[null,null,"S.US.TUES",{"$f":"IFERROR(RTD(\"cqg.rtd\", ,\"ContractData\",C780, \"PerCentNetLastTrade\",, \"T\")/100,\"\")","v":0},1401,1401,"S.US.TUES",780,"S.US.EMIF"]
[null,null,"S.US.ANGO",{"$f":"IFERROR(RTD(\"cqg.rtd\", ,\"ContractData\",C781, \"PerCentNetLastTrade\",, \"T\")/100,\"\")","v":-7.1343638525564797E-3},1983,1983,"S.US.ANGO",781,"S.US.GCBC"]
[null,null,"S.US.TACO",{"$f":"IFERROR(RTD(\"cqg.rtd\", ,\"ContractData\",C782, \"PerCentNetLastTrade\",, \"T\")/100,\"\")","v":-9.4786729857819912E-3},2079,2079,"S.US.TACO",782,"S.US.FISI"]
[null,null,"S.US.VIIX",{"$f":"IFERROR(RTD(\"cqg.rtd\", ,\"ContractData\",C783, \"PerCentNetLastTrade\",, \"T\")/100,\"\")","v":-9.5440084835630972E-3},2084,2084,"S.US.VIIX",783,"S.US.ESIO"]
[null,null,"S.US.ISRG",{"$f":"IFERROR(RTD(\"cqg.rtd\", ,\"ContractData\",C784, \"PerCentNetLastTrade\",, \"T\")/100,\"\")","v":-1.0948624502160508E-2},2134,2134,"S.US.ISRG",784,"S.US.FCFP"]
[null,null,"S.US.ACXM",{"$f":"IFERROR(RTD(\"cqg.rtd\", ,\"ContractData\",C785, \"PerCentNetLastTrade\",, \"T\")/100,\"\")","v":1.1102886750555144E-3},1320,1320,"S.US.ACXM",785,"S.US.IOSP"]
[null,null,"S.US.SCOR",{"$f":"IFERROR(RTD(\"cqg.rtd\", ,\"ContractData\",C786, \"PerCentNetLastTrade\",, \"T\")/100,\"\")","v":5.8319039451114919E-3},989,989,"S.US.SCOR",786,"S.US.XBIT"]
[null,null,"S.US.KLXI",{"$f":"IFERROR(RTD(\"cqg.rtd\", ,\"ContractData\",C787, \"PerCentNetLastTrade\",, \"T\")/100,\"\")","v":1.7843289371605897E-2},416,416,"S.US.KLXI",787,"S.US.PCAR"]
[null,null,"S.US.GTLS",{"$f":"IFERROR(RTD(\"cqg.rtd\", ,\"ContractData\",C788, \"PerCentNetLastTrade\",, \"T\")/100,\"\")","v":3.0002912904165454E-2},182,182,"S.US.GTLS",788,"S.US.APPF"]
[null,null,"S.US.WEB",{"$f":"IFERROR(RTD(\"cqg.rtd\", ,\"ContractData\",C789, \"PerCentNetLastTrade\",, \"T\")/100,\"\")","v":2.1472392638036811E-2},323,323,"S.US.WEB",789,"S.US.MGCD"]
[null,null,"S.US.MKSI",{"$f":"IFERROR(RTD(\"cqg.rtd\", ,\"ContractData\",C790, \"PerCentNetLastTrade\",, \"T\")/100,\"\")","v":5.1502145922746774E-3},1037,1037,"S.US.MKSI",790,"S.US.NFBK"]
[null,null,"S.US.GBCI",{"$f":"IFERROR(RTD(\"cqg.rtd\", ,\"ContractData\",C791, \"PerCentNetLastTrade\",, \"T\")/100,\"\")","v":1.1467215524845633E-2},645,645,"S.US.GBCI",791,"S.US.GBLI"]
[null,null,"S.US.JASO",{"$f":"IFERROR(RTD(\"cqg.rtd\", ,\"ContractData\",C792, \"PerCentNetLastTrade\",, \"T\")/100,\"\")","v":1.4953271028037382E-2},499,499,"S.US.JASO",792,"S.US.SBNY"]
[null,null,"S.US.IRBT",{"$f":"IFERROR(RTD(\"cqg.rtd\", ,\"ContractData\",C793, \"PerCentNetLastTrade\",, \"T\")/100,\"\")","v":-8.4951456310679609E-3},2041,2041,"S.US.IRBT",793,"S.US.TCFC"]
[null,null,"S.US.PTIE",{"$f":"IFERROR(RTD(\"cqg.rtd\", ,\"ContractData\",C794, \"PerCentNetLastTrade\",, \"T\")/100,\"\")","v":-1.492537313432836E-2},2257,2257,"S.US.PTIE",794,"S.US.LWAY"]
[null,null,"S.US.VIRT",{"$f":"IFERROR(RTD(\"cqg.rtd\", ,\"ContractData\",C795, \"PerCentNetLastTrade\",, \"T\")/100,\"\")","v":-9.3525179856115102E-3},2075,2075,"S.US.VIRT",795,"S.US.TBPH"]
[null,null,"S.US.SFLY",{"$f":"IFERROR(RTD(\"cqg.rtd\", ,\"ContractData\",C796, \"PerCentNetLastTrade\",, \"T\")/100,\"\")","v":1.1049723756906079E-2},664,664,"S.US.SFLY",796,"S.US.XNET"]
[null,null,"S.US.XBKS",{"$f":"IFERROR(RTD(\"cqg.rtd\", ,\"ContractData\",C797, \"PerCentNetLastTrade\",, \"T\")/100,\"\")","v":1.2048192771084338E-2},621,621,"S.US.XBKS",797,"S.US.ALIM"]
[null,null,"S.US.LGND",{"$f":"IFERROR(RTD(\"cqg.rtd\", ,\"ContractData\",C798, \"PerCentNetLastTrade\",, \"T\")/100,\"\")","v":-2.7524677296886864E-3},1736,1736,"S.US.LGND",798,"S.US.VALU"]
[null,null,"S.US.SKYW",{"$f":"IFERROR(RTD(\"cqg.rtd\", ,\"ContractData\",C799, \"PerCentNetLastTrade\",, \"T\")/100,\"\")","v":5.3191489361702126E-3},1027,1027,"S.US.SKYW",799,"S.US.CLCT"]
[null,null,"S.US.EZPW",{"$f":"IFERROR(RTD(\"cqg.rtd\", ,\"ContractData\",C800, \"PerCentNetLastTrade\",, \"T\")/100,\"\")","v":1.785714285714286E-2},414,414,"S.US.EZPW",800,"S.US.IMMU"]
[null,null,"S.US.FRGI",{"$f":"IFERROR(RTD(\"cqg.rtd\", ,\"ContractData\",C801, \"PerCentNetLastTrade\",, \"T\")/100,\"\")","v":0},1402,1402,"S.US.FRGI",801,"S.US.SCHN"]
[null,null,"S.US.IBKC",{"$f":"IFERROR(RTD(\"cqg.rtd\", ,\"ContractData\",C802, \"PerCentNetLastTrade\",, \"T\")/100,\"\")","v":2.7261462205700124E-2},213,213,"S.US.IBKC",802,"S.US.EBTC"]
[null,null,"S.US.TSRA",{"$f":"IFERROR(RTD(\"cqg.rtd\", ,\"ContractData\",C803, \"PerCentNetLastTrade\",, \"T\")/100,\"\")","v":-2.4783147459727386E-3},1718,1718,"S.US.TSRA",803,"S.US.JMBA"]
[null,null,"S.US.TEDU",{"$f":"IFERROR(RTD(\"cqg.rtd\", ,\"ContractData\",C804, \"PerCentNetLastTrade\",, \"T\")/100,\"\")","v":0},1403,1403,"S.US.TEDU",804,"S.US.LION"]
[null,null,"S.US.LION",{"$f":"IFERROR(RTD(\"cqg.rtd\", ,\"ContractData\",C805, \"PerCentNetLastTrade\",, \"T\")/100,\"\")","v":8.8731144631765749E-3},804,804,"S.US.LION",805,"S.US.SONA"]
[null,null,"S.US.ZUMZ",{"$f":"IFERROR(RTD(\"cqg.rtd\", ,\"ContractData\",C806, \"PerCentNetLastTrade\",, \"T\")/100,\"\")","v":-6.1099796334012227E-3},1933,1933,"S.US.ZUMZ",806,"S.US.NWBI"]
[null,null,"S.US.ATSG",{"$f":"IFERROR(RTD(\"cqg.rtd\", ,\"ContractData\",C807, \"PerCentNetLastTrade\",, \"T\")/100,\"\")","v":2.4405125076266015E-3},1227,1227,"S.US.ATSG",807,"S.US.ACLS"]
[null,null,"S.US.RYAAY",{"$f":"IFERROR(RTD(\"cqg.rtd\", ,\"ContractData\",C808, \"PerCentNetLastTrade\",, \"T\")/100,\"\")","v":-1.8095700752975466E-2},2317,2317,"S.US.RYAAY",808,"S.US.MCHP"]
[null,null,"S.US.QSII",{"$f":"IFERROR(RTD(\"cqg.rtd\", ,\"ContractData\",C809, \"PerCentNetLastTrade\",, \"T\")/100,\"\")","v":-1.7937219730941704E-2},2329,2329,"S.US.QSII",809,"S.US.ISBC"]
[null,null,"S.US.ENT",{"$f":"IFERROR(RTD(\"cqg.rtd\", ,\"ContractData\",C810, \"PerCentNetLastTrade\",, \"T\")/100,\"\")","v":-1.6417910447761194E-2},2284,2284,"S.US.ENT",810,"S.US.PERI"]
[null,null,"S.US.ADHD",{"$f":"IFERROR(RTD(\"cqg.rtd\", ,\"ContractData\",C811, \"PerCentNetLastTrade\",, \"T\")/100,\"\")","v":-1.0362694300518133E-2},2112,2112,"S.US.ADHD",811,"S.US.NTWK"]
[null,null,"S.US.MOBL",{"$f":"IFERROR(RTD(\"cqg.rtd\", ,\"ContractData\",C812, \"PerCentNetLastTrade\",, \"T\")/100,\"\")","v":2.4096385542168676E-2},258,258,"S.US.MOBL",812,"S.US.PBPB"]
[null,null,"S.US.CATM",{"$f":"IFERROR(RTD(\"cqg.rtd\", ,\"ContractData\",C813, \"PerCentNetLastTrade\",, \"T\")/100,\"\")","v":6.1488009838081567E-3},959,959,"S.US.CATM",813,"S.US.EPZM"]
[null,null,"S.US.VRNT",{"$f":"IFERROR(RTD(\"cqg.rtd\", ,\"ContractData\",C814, \"PerCentNetLastTrade\",, \"T\")/100,\"\")","v":-5.228758169934641E-3},1895,1895,"S.US.VRNT",814,"S.US.CRNT"]
[null,null,"S.US.BKCC",{"$f":"IFERROR(RTD(\"cqg.rtd\", ,\"ContractData\",C815, \"PerCentNetLastTrade\",, \"T\")/100,\"\")","v":-2.6881720430107525E-3},1732,1732,"S.US.BKCC",815,"S.US.WGBS"]
[null,null,"S.US.CHFC",{"$f":"IFERROR(RTD(\"cqg.rtd\", ,\"ContractData\",C816, \"PerCentNetLastTrade\",, \"T\")/100,\"\")","v":1.0200153964588145E-2},712,712,"S.US.CHFC",816,"S.US.HTHT"]
[null,null,"S.US.MNRO",{"$f":"IFERROR(RTD(\"cqg.rtd\", ,\"ContractData\",C817, \"PerCentNetLastTrade\",, \"T\")/100,\"\")","v":6.0449050086355781E-3},971,971,"S.US.MNRO",817,"S.US.MARPS"]
[null,null,"S.US.CLRB",{"$f":"IFERROR(RTD(\"cqg.rtd\", ,\"ContractData\",C818, \"PerCentNetLastTrade\",, \"T\")/100,\"\")","v":-3.2258064516129031E-2},2456,2456,"S.US.CLRB",818,"S.US.SFBS"]
[null,null,"S.US.JCOM",{"$f":"IFERROR(RTD(\"cqg.rtd\", ,\"ContractData\",C819, \"PerCentNetLastTrade\",, \"T\")/100,\"\")","v":-2.1165403710478183E-2},2363,2363,"S.US.JCOM",819,"S.US.AWRE"]
[null,null,"S.US.ACPW",{"$f":"IFERROR(RTD(\"cqg.rtd\", ,\"ContractData\",C820, \"PerCentNetLastTrade\",, \"T\")/100,\"\")","v":""},{"$error":"#VALUE!"},"","S.US.ACPW",820,"S.US.HWCC"]
[null,null,"S.US.AMED",{"$f":"IFERROR(RTD(\"cqg.rtd\", ,\"ContractData\",C821, \"PerCentNetLastTrade\",, \"T\")/100,\"\")","v":-1.705653021442495E-2},2295,2295,"S.US.AMED",821,"S.US.BNCL"]
[null,null,"S.US.QLYS",{"$f":"IFERROR(RTD(\"cqg.rtd\", ,\"ContractData\",C822, \"PerCentNetLastTrade\",, \"T\")/100,\"\")","v":-8.836524300441826E-3},2057,2057,"S.US.QLYS",822,"S.US.FNGN"]
[null,null,"S.US.EEFT",{"$f":"IFERROR(RTD(\"cqg.rtd\", ,\"ContractData\",C823, \"PerCentNetLastTrade\",, \"T\")/100,\"\")","v":-2.1823537287454814E-2},2369,2369,"S.US.EEFT",823,"S.US.KOSS"]
[null,null,"S.US.ESND",{"$f":"IFERROR(RTD(\"cqg.rtd\", ,\"ContractData\",C824, \"PerCentNetLastTrade\",, \"T\")/100,\"\")","v":1.0319917440660475E-2},703,703,"S.US.ESND",824,"S.US.SGNL"]
[null,null,"S.US.WTFC",{"$f":"IFERROR(RTD(\"cqg.rtd\", ,\"ContractData\",C825, \"PerCentNetLastTrade\",, \"T\")/100,\"\")","v":1.4588452088452088E-2},508,508,"S.US.WTFC",825,"S.US.ENOC"]
[null,null,"S.US.CKEC",{"$f":"IFERROR(RTD(\"cqg.rtd\", ,\"ContractData\",C826, \"PerCentNetLastTrade\",, \"T\")/100,\"\")","v":2.9498525073746312E-3},1185,1185,"S.US.CKEC",826,"S.US.ORIT"]
[null,null,"S.US.TRMK",{"$f":"IFERROR(RTD(\"cqg.rtd\", ,\"ContractData\",C827, \"PerCentNetLastTrade\",, \"T\")/100,\"\")","v":1.1252591057151318E-2},657,657,"S.US.TRMK",827,"S.US.FFIN"]
[null,null,"S.US.CYNO",{"$f":"IFERROR(RTD(\"cqg.rtd\", ,\"ContractData\",C828, \"PerCentNetLastTrade\",, \"T\")/100,\"\")","v":1.0893246187363835E-3},1321,1321,"S.US.CYNO",828,"S.US.MZOR"]
[null,null,"S.US.EUFN",{"$f":"IFERROR(RTD(\"cqg.rtd\", ,\"ContractData\",C829, \"PerCentNetLastTrade\",, \"T\")/100,\"\")","v":0},1404,1404,"S.US.EUFN",829,"S.US.CCCL"]
[null,null,"S.US.CAMP",{"$f":"IFERROR(RTD(\"cqg.rtd\", ,\"ContractData\",C830, \"PerCentNetLastTrade\",, \"T\")/100,\"\")","v":-1.3377926421404682E-3},1650,1650,"S.US.CAMP",830,"S.US.ISNS"]
[null,null,"S.US.BWLD",{"$f":"IFERROR(RTD(\"cqg.rtd\", ,\"ContractData\",C831, \"PerCentNetLastTrade\",, \"T\")/100,\"\")","v":-5.0177095631641086E-3},1886,1886,"S.US.BWLD",831,"S.US.CLBH"]
[null,null,"S.US.GALT",{"$f":"IFERROR(RTD(\"cqg.rtd\", ,\"ContractData\",C832, \"PerCentNetLastTrade\",, \"T\")/100,\"\")","v":2.4390243902439025E-2},253,253,"S.US.GALT",832,"S.US.WPCS"]
[null,null,"S.US.TTPH",{"$f":"IFERROR(RTD(\"cqg.rtd\", ,\"ContractData\",C833, \"PerCentNetLastTrade\",, \"T\")/100,\"\")","v":-2.8888888888888888E-2},2432,2432,"S.US.TTPH",833,{"$f":"IFERROR(VLOOKUP(H833,$F$1:$G$2860,2,FALSE),\"\")","v":"S.US.BNCN"}]
[null,null,"S.US.GALE",{"$f":"IFERROR(RTD(\"cqg.rtd\", ,\"ContractData\",C834, \"PerCentNetLastTrade\",, \"T\")/100,\"\")","v":-4.4871794871794872E-2},2501,{"$f":"IFERROR(E834,\"\")","v":2501},"S.US.GALE",834,"S.US.CHFN"]
[null,null,"S.US.MMYT",{"$f":"IFERROR(RTD(\"cqg.rtd\", ,\"ContractData\",C835, \"PerCentNetLastTrade\",, \"T\")/100,\"\")","v":1.7057569296375266E-2},430,430,{"$f":"C835","v":"S.US.MMYT"},{"$f":"H834+1","v":835},"S.US.SEIC"]
[null,null,"S.US.MLHR",{"$f":"IFERROR(RTD(\"cqg.rtd\", ,\"ContractData\",C836, \"PerCentNetLastTrade\",, \"T\")/100,\"\")","v":-6.8249258160237389E-3},1969,1969,"S.US.MLHR",836,"S.US.ZLTQ"]
[null,null,"S.US.ITEK",{"$f":"IFERROR(RTD(\"cqg.rtd\", ,\"ContractData\",C837, \"PerCentNetLastTrade\",, \"T\")/100,\"\")","v":-1.5873015873015872E-2},2273,2273,"S.US.ITEK",837,"S.US.UEIC"]
[null,null,"S.US.LIVE",{"$f":"IFERROR(RTD(\"cqg.rtd\", ,\"ContractData\",C838, \"PerCentNetLastTrade\",, \"T\")/100,\"\")","v":-3.8610038610038609E-2},2483,2483,"S.US.LIVE",838,"S.US.SBAC"]
[null,null,"S.US.CBRL",{"$f":"IFERROR(RTD(\"cqg.rtd\", ,\"ContractData\",C839, \"PerCentNetLastTrade\",, \"T\")/100,\"\")","v":-7.7125543245393892E-3},2016,2016,"S.US.CBRL",839,"S.US.CCRN"]
[null,null,"S.US.TRIL",{"$f":"IFERROR(RTD(\"cqg.rtd\", ,\"ContractData\",C840, \"PerCentNetLastTrade\",, \"T\")/100,\"\")","v":-7.4534161490683228E-3},2003,2003,"S.US.TRIL",840,"S.US.VUSE"]
[null,null,"S.US.TTS",{"$f":"IFERROR(RTD(\"cqg.rtd\", ,\"ContractData\",C841, \"PerCentNetLastTrade\",, \"T\")/100,\"\")","v":2.5062656641604009E-3},1220,1220,"S.US.TTS",841,"S.US.MGPI"]
[null,null,"S.US.USAT",{"$f":"IFERROR(RTD(\"cqg.rtd\", ,\"ContractData\",C842, \"PerCentNetLastTrade\",, \"T\")/100,\"\")","v":1.1764705882352941E-2},632,632,"S.US.USAT",842,"S.US.ENDP"]
[null,null,"S.US.BCOR",{"$f":"IFERROR(RTD(\"cqg.rtd\", ,\"ContractData\",C843, \"PerCentNetLastTrade\",, \"T\")/100,\"\")","v":0},1405,1405,"S.US.BCOR",843,"S.US.PBIB"]
[null,null,"S.US.SMCI",{"$f":"IFERROR(RTD(\"cqg.rtd\", ,\"ContractData\",C844, \"PerCentNetLastTrade\",, \"T\")/100,\"\")","v":5.2490421455938699E-2},60,60,"S.US.SMCI",844,"S.US.ANGI"]
[null,null,"S.US.LGIH",{"$f":"IFERROR(RTD(\"cqg.rtd\", ,\"ContractData\",C845, \"PerCentNetLastTrade\",, \"T\")/100,\"\")","v":-1.4605067064083457E-2},2244,2244,"S.US.LGIH",845,"S.US.TINY"]
[null,null,"S.US.BJRI",{"$f":"IFERROR(RTD(\"cqg.rtd\", ,\"ContractData\",C846, \"PerCentNetLastTrade\",, \"T\")/100,\"\")","v":-5.2770448548812663E-3},1901,1901,"S.US.BJRI",846,"S.US.CBOE"]
[null,null,"S.US.ININ",{"$f":"IFERROR(RTD(\"cqg.rtd\", ,\"ContractData\",C847, \"PerCentNetLastTrade\",, \"T\")/100,\"\")","v":0},1406,1406,"S.US.ININ",847,"S.US.GNBC"]
[null,null,"S.US.VRNS",{"$f":"IFERROR(RTD(\"cqg.rtd\", ,\"ContractData\",C848, \"PerCentNetLastTrade\",, \"T\")/100,\"\")","v":-3.3388981636060101E-3},1778,1778,"S.US.VRNS",848,"S.US.AMSWA"]
[null,null,"S.US.CACC",{"$f":"IFERROR(RTD(\"cqg.rtd\", ,\"ContractData\",C849, \"PerCentNetLastTrade\",, \"T\")/100,\"\")","v":-7.6197204420447098E-3},2014,2014,"S.US.CACC",849,"S.US.KIRK"]
[null,null,"S.US.DRAM",{"$f":"IFERROR(RTD(\"cqg.rtd\", ,\"ContractData\",C850, \"PerCentNetLastTrade\",, \"T\")/100,\"\")","v":-0.14893617021276595},2569,2569,"S.US.DRAM",850,"S.US.ZGNX"]
[null,null,"S.US.AEIS",{"$f":"IFERROR(RTD(\"cqg.rtd\", ,\"ContractData\",C851, \"PerCentNetLastTrade\",, \"T\")/100,\"\")","v":-8.8841506751954511E-4},1620,1620,"S.US.AEIS",851,"S.US.TAX"]
[null,null,"S.US.HTBK",{"$f":"IFERROR(RTD(\"cqg.rtd\", ,\"ContractData\",C852, \"PerCentNetLastTrade\",, \"T\")/100,\"\")","v":9.7008892481810841E-3},693,693,"S.US.HTBK",852,"S.US.SFST"]
[null,null,"S.US.MPWR",{"$f":"IFERROR(RTD(\"cqg.rtd\", ,\"ContractData\",C853, \"PerCentNetLastTrade\",, \"T\")/100,\"\")","v":3.6101083032490973E-4},1363,1363,"S.US.MPWR",853,"S.US.GDEN"]
[null,null,"S.US.FMBI",{"$f":"IFERROR(RTD(\"cqg.rtd\", ,\"ContractData\",C854, \"PerCentNetLastTrade\",, \"T\")/100,\"\")","v":1.416076634735527E-2},529,529,"S.US.FMBI",854,"S.US.LIOX"]
[null,null,"S.US.AIMT",{"$f":"IFERROR(RTD(\"cqg.rtd\", ,\"ContractData\",C855, \"PerCentNetLastTrade\",, \"T\")/100,\"\")","v":-2.9508196721311476E-2},2437,2437,"S.US.AIMT",855,"S.US.SNAK"]
[null,null,"S.US.PMTS",{"$f":"IFERROR(RTD(\"cqg.rtd\", ,\"ContractData\",C856, \"PerCentNetLastTrade\",, \"T\")/100,\"\")","v":-8.0000000000000002E-3},2023,2023,"S.US.PMTS",856,"S.US.ERIE"]
[null,null,"S.US.OGXI",{"$f":"IFERROR(RTD(\"cqg.rtd\", ,\"ContractData\",C857, \"PerCentNetLastTrade\",, \"T\")/100,\"\")","v":0},1407,1407,"S.US.OGXI",857,"S.US.LSBG"]
[null,null,"S.US.RECN",{"$f":"IFERROR(RTD(\"cqg.rtd\", ,\"ContractData\",C858, \"PerCentNetLastTrade\",, \"T\")/100,\"\")","v":1.0493827160493827E-2},694,694,"S.US.RECN",858,"S.US.ASMB"]
[null,null,"S.US.LTXB",{"$f":"IFERROR(RTD(\"cqg.rtd\", ,\"ContractData\",C859, \"PerCentNetLastTrade\",, \"T\")/100,\"\")","v":2.3569023569023569E-2},273,273,"S.US.LTXB",859,"S.US.OMAB"]
[null,null,"S.US.SONS",{"$f":"IFERROR(RTD(\"cqg.rtd\", ,\"ContractData\",C860, \"PerCentNetLastTrade\",, \"T\")/100,\"\")","v":1.6447368421052633E-3},1283,1283,"S.US.SONS",860,"S.US.PARN"]
[null,null,"S.US.CALM",{"$f":"IFERROR(RTD(\"cqg.rtd\", ,\"ContractData\",C861, \"PerCentNetLastTrade\",, \"T\")/100,\"\")","v":1.9E-2},379,379,"S.US.CALM",861,"S.US.CPSH"]
[null,null,"S.US.AMBC",{"$f":"IFERROR(RTD(\"cqg.rtd\", ,\"ContractData\",C862, \"PerCentNetLastTrade\",, \"T\")/100,\"\")","v":6.8993506493506499E-3},918,918,"S.US.AMBC",862,"S.US.CDXC"]
[null,null,"S.US.FVE",{"$f":"IFERROR(RTD(\"cqg.rtd\", ,\"ContractData\",C863, \"PerCentNetLastTrade\",, \"T\")/100,\"\")","v":-2.1276595744680851E-2},2364,2364,"S.US.FVE",863,"S.US.MHLD"]
[null,null,"S.US.LFUS",{"$f":"IFERROR(RTD(\"cqg.rtd\", ,\"ContractData\",C864, \"PerCentNetLastTrade\",, \"T\")/100,\"\")","v":-1.7487220877051386E-3},1672,1672,"S.US.LFUS",864,"S.US.ARDM"]
[null,null,"S.US.BIS",{"$f":"IFERROR(RTD(\"cqg.rtd\", ,\"ContractData\",C865, \"PerCentNetLastTrade\",, \"T\")/100,\"\")","v":1.3556116015132409E-2},558,558,"S.US.BIS",865,"S.US.UBFO"]
[null,null,"S.US.BMCH",{"$f":"IFERROR(RTD(\"cqg.rtd\", ,\"ContractData\",C866, \"PerCentNetLastTrade\",, \"T\")/100,\"\")","v":1.0471204188481676E-2},699,699,"S.US.BMCH",866,"S.US.RGCO"]
[null,null,"S.US.KEYW",{"$f":"IFERROR(RTD(\"cqg.rtd\", ,\"ContractData\",C867, \"PerCentNetLastTrade\",, \"T\")/100,\"\")","v":7.8064012490241998E-4},1333,1333,"S.US.KEYW",867,"S.US.PSCM"]
[null,null,"S.US.CHNR",{"$f":"IFERROR(RTD(\"cqg.rtd\", ,\"ContractData\",C868, \"PerCentNetLastTrade\",, \"T\")/100,\"\")","v":-1.4705882352941178E-2},2247,2247,"S.US.CHNR",868,"S.US.HOMB"]
[null,null,"S.US.PCH",{"$f":"IFERROR(RTD(\"cqg.rtd\", ,\"ContractData\",C869, \"PerCentNetLastTrade\",, \"T\")/100,\"\")","v":-9.5351609058402856E-3},2082,2082,"S.US.PCH",869,"S.US.STRA"]
[null,null,"S.US.SPU",{"$f":"IFERROR(RTD(\"cqg.rtd\", ,\"ContractData\",C870, \"PerCentNetLastTrade\",, \"T\")/100,\"\")","v":-8.9108910891089119E-2},2554,2554,"S.US.SPU",870,"S.US.CBPO"]
[null,null,"S.US.ARCB",{"$f":"IFERROR(RTD(\"cqg.rtd\", ,\"ContractData\",C871, \"PerCentNetLastTrade\",, \"T\")/100,\"\")","v":2.1452145214521452E-2},324,324,"S.US.ARCB",871,"S.US.NCIT"]
[null,null,"S.US.EHTH",{"$f":"IFERROR(RTD(\"cqg.rtd\", ,\"ContractData\",C872, \"PerCentNetLastTrade\",, \"T\")/100,\"\")","v":5.8252427184466013E-3},990,990,"S.US.EHTH",872,"S.US.ECHO"]
[null,null,"S.US.HOLI",{"$f":"IFERROR(RTD(\"cqg.rtd\", ,\"ContractData\",C873, \"PerCentNetLastTrade\",, \"T\")/100,\"\")","v":-1.0593220338983051E-3},1630,1630,"S.US.HOLI",873,"S.US.BUSE"]
[null,null,"S.US.AYA",{"$f":"IFERROR(RTD(\"cqg.rtd\", ,\"ContractData\",C874, \"PerCentNetLastTrade\",, \"T\")/100,\"\")","v":0},1408,1408,"S.US.AYA",874,"S.US.GLYC"]
[null,null,"S.US.ACGL",{"$f":"IFERROR(RTD(\"cqg.rtd\", ,\"ContractData\",C875, \"PerCentNetLastTrade\",, \"T\")/100,\"\")","v":7.1610632358295907E-3},896,896,"S.US.ACGL",875,"S.US.DAKT"]
[null,null,"S.US.STKL",{"$f":"IFERROR(RTD(\"cqg.rtd\", ,\"ContractData\",C876, \"PerCentNetLastTrade\",, \"T\")/100,\"\")","v":2.7397260273972603E-3},1203,1203,"S.US.STKL",876,"S.US.XIV"]
[null,null,"S.US.CUR",{"$f":"IFERROR(RTD(\"cqg.rtd\", ,\"ContractData\",C877, \"PerCentNetLastTrade\",, \"T\")/100,\"\")","v":-3.5714285714285719E-2},2473,2473,"S.US.CUR",877,"S.US.CCXI"]
[null,null,"S.US.ITRI",{"$f":"IFERROR(RTD(\"cqg.rtd\", ,\"ContractData\",C878, \"PerCentNetLastTrade\",, \"T\")/100,\"\")","v":-4.5766590389016018E-3},1863,1863,"S.US.ITRI",878,"S.US.CETV"]
[null,null,"S.US.FNGN",{"$f":"IFERROR(RTD(\"cqg.rtd\", ,\"ContractData\",C879, \"PerCentNetLastTrade\",, \"T\")/100,\"\")","v":8.5836909871244635E-3},822,822,"S.US.FNGN",879,"S.US.NTRA"]
[null,null,"S.US.SIR",{"$f":"IFERROR(RTD(\"cqg.rtd\", ,\"ContractData\",C880, \"PerCentNetLastTrade\",, \"T\")/100,\"\")","v":-1.6607354685646499E-2},2290,2290,"S.US.SIR",880,"S.US.CLIR"]
[null,null,"S.US.CCRN",{"$f":"IFERROR(RTD(\"cqg.rtd\", ,\"ContractData\",C881, \"PerCentNetLastTrade\",, \"T\")/100,\"\")","v":8.0862533692722376E-3},839,839,"S.US.CCRN",881,"S.US.BOLD"]
[null,null,"S.US.PRIM",{"$f":"IFERROR(RTD(\"cqg.rtd\", ,\"ContractData\",C882, \"PerCentNetLastTrade\",, \"T\")/100,\"\")","v":1.2702584318878669E-2},590,590,"S.US.PRIM",882,"S.US.CNBKA"]
[null,null,"S.US.QURE",{"$f":"IFERROR(RTD(\"cqg.rtd\", ,\"ContractData\",C883, \"PerCentNetLastTrade\",, \"T\")/100,\"\")","v":1.2500000000000001E-2},598,598,"S.US.QURE",883,"S.US.SMTX"]
[null,null,"S.US.TICC",{"$f":"IFERROR(RTD(\"cqg.rtd\", ,\"ContractData\",C884, \"PerCentNetLastTrade\",, \"T\")/100,\"\")","v":0},1409,1409,"S.US.TICC",884,"S.US.RIGL"]
[null,null,"S.US.NVFY",{"$f":"IFERROR(RTD(\"cqg.rtd\", ,\"ContractData\",C885, \"PerCentNetLastTrade\",, \"T\")/100,\"\")","v":-5.185185185185185E-2},2519,2519,"S.US.NVFY",885,"S.US.GABC"]
[null,null,"S.US.AEGR",{"$f":"IFERROR(RTD(\"cqg.rtd\", ,\"ContractData\",C886, \"PerCentNetLastTrade\",, \"T\")/100,\"\")","v":""},{"$error":"#VALUE!"},"","S.US.AEGR",886,"S.US.ESSA"]
[null,null,"S.US.EGOV",{"$f":"IFERROR(RTD(\"cqg.rtd\", ,\"ContractData\",C887, \"PerCentNetLastTrade\",, \"T\")/100,\"\")","v":6.0000000000000001E-3},975,975,"S.US.EGOV",887,"S.US.FLML"]
[null,null,"S.US.BEAT",{"$f":"IFERROR(RTD(\"cqg.rtd\", ,\"ContractData\",C888, \"PerCentNetLastTrade\",, \"T\")/100,\"\")","v":1.7902813299232736E-2},410,410,"S.US.BEAT",888,"S.US.NSSC"]
[null,null,"S.US.VIVO",{"$f":"IFERROR(RTD(\"cqg.rtd\", ,\"ContractData\",C889, \"PerCentNetLastTrade\",, \"T\")/100,\"\")","v":2.9239766081871343E-3},1188,1188,"S.US.VIVO",889,"S.US.VONV"]
[null,null,"S.US.BSPM",{"$f":"IFERROR(RTD(\"cqg.rtd\", ,\"ContractData\",C890, \"PerCentNetLastTrade\",, \"T\")/100,\"\")","v":6.1538461538461538E-3},958,958,"S.US.BSPM",890,"S.US.ASND"]
[null,null,"S.US.BLCM",{"$f":"IFERROR(RTD(\"cqg.rtd\", ,\"ContractData\",C891, \"PerCentNetLastTrade\",, \"T\")/100,\"\")","v":7.3068893528183722E-3},891,891,"S.US.BLCM",891,"S.US.BLCM"]
[null,null,"S.US.VMBS",{"$f":"IFERROR(RTD(\"cqg.rtd\", ,\"ContractData\",C892, \"PerCentNetLastTrade\",, \"T\")/100,\"\")","v":-1.7068082685378341E-3},1669,1669,"S.US.VMBS",892,"S.US.LE"]
[null,null,"S.US.EPZM",{"$f":"IFERROR(RTD(\"cqg.rtd\", ,\"ContractData\",C893, \"PerCentNetLastTrade\",, \"T\")/100,\"\")","v":8.6956521739130436E-3},813,813,"S.US.EPZM",893,"S.US.CWST"]
[null,null,"S.US.CVLT",{"$f":"IFERROR(RTD(\"cqg.rtd\", ,\"ContractData\",C894, \"PerCentNetLastTrade\",, \"T\")/100,\"\")","v":-4.578754578754579E-3},1864,1864,"S.US.CVLT",894,"S.US.PZZA"]
[null,null,"S.US.MTGE",{"$f":"IFERROR(RTD(\"cqg.rtd\", ,\"ContractData\",C895, \"PerCentNetLastTrade\",, \"T\")/100,\"\")","v":-5.8997050147492625E-3},1925,1925,"S.US.MTGE",895,"S.US.WVFC"]
[null,null,"S.US.REPH",{"$f":"IFERROR(RTD(\"cqg.rtd\", ,\"ContractData\",C896, \"PerCentNetLastTrade\",, \"T\")/100,\"\")","v":-4.3628013777267508E-2},2499,2499,"S.US.REPH",896,"S.US.ACGL"]
[null,null,"S.US.CMPR",{"$f":"IFERROR(RTD(\"cqg.rtd\", ,\"ContractData\",C897, \"PerCentNetLastTrade\",, \"T\")/100,\"\")","v":-3.0688792907478972E-3},1760,1760,"S.US.CMPR",897,{"$f":"IFERROR(VLOOKUP(H897,$F$1:$G$2860,2,FALSE),\"\")","v":"S.US.NEOS"}]
[null,null,"S.US.ANY",{"$f":"IFERROR(RTD(\"cqg.rtd\", ,\"ContractData\",C898, \"PerCentNetLastTrade\",, \"T\")/100,\"\")","v":3.5714285714285719E-2},131,{"$f":"IFERROR(E898,\"\")","v":131},"S.US.ANY",898,"S.US.SRCE"]
[null,null,"S.US.SMRT",{"$f":"IFERROR(RTD(\"cqg.rtd\", ,\"ContractData\",C899, \"PerCentNetLastTrade\",, \"T\")/100,\"\")","v":2.004008016032064E-2},355,355,{"$f":"C899","v":"S.US.SMRT"},{"$f":"H898+1","v":899},"S.US.BCRX"]
[null,null,"S.US.NEO",{"$f":"IFERROR(RTD(\"cqg.rtd\", ,\"ContractData\",C900, \"PerCentNetLastTrade\",, \"T\")/100,\"\")","v":-7.478632478632479E-3},2006,2006,"S.US.NEO",900,"S.US.OSIS"]
[null,null,"S.US.LOGM",{"$f":"IFERROR(RTD(\"cqg.rtd\", ,\"ContractData\",C901, \"PerCentNetLastTrade\",, \"T\")/100,\"\")","v":-8.6413826212193949E-3},2045,2045,"S.US.LOGM",901,"S.US.DIOD"]
[null,null,"S.US.IDCC",{"$f":"IFERROR(RTD(\"cqg.rtd\", ,\"ContractData\",C902, \"PerCentNetLastTrade\",, \"T\")/100,\"\")","v":-3.7243947858472998E-3},1806,1806,"S.US.IDCC",902,"S.US.ULH"]
[null,null,"S.US.AIRG",{"$f":"IFERROR(RTD(\"cqg.rtd\", ,\"ContractData\",C903, \"PerCentNetLastTrade\",, \"T\")/100,\"\")","v":6.416530723219141E-2},42,42,"S.US.AIRG",903,"S.US.LPTH"]
[null,null,"S.US.SCYX",{"$f":"IFERROR(RTD(\"cqg.rtd\", ,\"ContractData\",C904, \"PerCentNetLastTrade\",, \"T\")/100,\"\")","v":-2.5510204081632654E-2},2401,2401,"S.US.SCYX",904,"S.US.WIRE"]
[null,null,"S.US.DCTH",{"$f":"IFERROR(RTD(\"cqg.rtd\", ,\"ContractData\",C905, \"PerCentNetLastTrade\",, \"T\")/100,\"\")","v":-4.9019607843137254E-3},1878,1878,"S.US.DCTH",905,"S.US.EXFO"]
[null,null,"S.US.CSII",{"$f":"IFERROR(RTD(\"cqg.rtd\", ,\"ContractData\",C906, \"PerCentNetLastTrade\",, \"T\")/100,\"\")","v":-2.0064205457463884E-2},2352,2352,"S.US.CSII",906,"S.US.IRWD"]
[null,null,"S.US.GNMK",{"$f":"IFERROR(RTD(\"cqg.rtd\", ,\"ContractData\",C907, \"PerCentNetLastTrade\",, \"T\")/100,\"\")","v":-2.5597269624573378E-3},1725,1725,"S.US.GNMK",907,"S.US.ACTG"]
[null,null,"S.US.NTGR",{"$f":"IFERROR(RTD(\"cqg.rtd\", ,\"ContractData\",C908, \"PerCentNetLastTrade\",, \"T\")/100,\"\")","v":-9.3632958801498139E-4},1622,1622,"S.US.NTGR",908,"S.US.LUNA"]
[null,null,"S.US.ENSG",{"$f":"IFERROR(RTD(\"cqg.rtd\", ,\"ContractData\",C909, \"PerCentNetLastTrade\",, \"T\")/100,\"\")","v":-4.0504050405040506E-3},1825,1825,"S.US.ENSG",909,"S.US.PEGA"]
[null,null,"S.US.CSQ",{"$f":"IFERROR(RTD(\"cqg.rtd\", ,\"ContractData\",C910, \"PerCentNetLastTrade\",, \"T\")/100,\"\")","v":9.9009900990099011E-4},1325,1325,"S.US.CSQ",910,"S.US.NAVI"]
[null,null,"S.US.TAST",{"$f":"IFERROR(RTD(\"cqg.rtd\", ,\"ContractData\",C911, \"PerCentNetLastTrade\",, \"T\")/100,\"\")","v":-1.4705882352941178E-2},2248,2248,"S.US.TAST",911,"S.US.SHEN"]
[null,null,"S.US.MBOT",{"$f":"IFERROR(RTD(\"cqg.rtd\", ,\"ContractData\",C912, \"PerCentNetLastTrade\",, \"T\")/100,\"\")","v":-3.6525172754195458E-2},2474,2474,"S.US.MBOT",912,"S.US.XONE"]
[null,null,"S.US.ALRM",{"$f":"IFERROR(RTD(\"cqg.rtd\", ,\"ContractData\",C913, \"PerCentNetLastTrade\",, \"T\")/100,\"\")","v":-8.6956521739130436E-3},2046,2046,"S.US.ALRM",913,"S.US.FRME"]
[null,null,"S.US.VCEL",{"$f":"IFERROR(RTD(\"cqg.rtd\", ,\"ContractData\",C914, \"PerCentNetLastTrade\",, \"T\")/100,\"\")","v":0},1410,1410,"S.US.VCEL",914,"S.US.LOGI"]
[null,null,"S.US.MRCY",{"$f":"IFERROR(RTD(\"cqg.rtd\", ,\"ContractData\",C915, \"PerCentNetLastTrade\",, \"T\")/100,\"\")","v":-9.5488969377675332E-3},2085,2085,"S.US.MRCY",915,"S.US.ZNGA"]
[null,null,"S.US.SNLN",{"$f":"IFERROR(RTD(\"cqg.rtd\", ,\"ContractData\",C916, \"PerCentNetLastTrade\",, \"T\")/100,\"\")","v":5.3879310344827585E-4},1347,1347,"S.US.SNLN",916,"S.US.LNDC"]
[null,null,"S.US.EYES",{"$f":"IFERROR(RTD(\"cqg.rtd\", ,\"ContractData\",C917, \"PerCentNetLastTrade\",, \"T\")/100,\"\")","v":4.807692307692308E-3},1062,1062,"S.US.EYES",917,"S.US.HEOP"]
[null,null,"S.US.HMST",{"$f":"IFERROR(RTD(\"cqg.rtd\", ,\"ContractData\",C918, \"PerCentNetLastTrade\",, \"T\")/100,\"\")","v":0},1411,1411,"S.US.HMST",918,"S.US.AMBC"]
[null,null,"S.US.OPB",{"$f":"IFERROR(RTD(\"cqg.rtd\", ,\"ContractData\",C919, \"PerCentNetLastTrade\",, \"T\")/100,\"\")","v":2.2357723577235773E-2},296,296,"S.US.OPB",919,"S.US.NVDA"]
[null,null,"S.US.EDIT",{"$f":"IFERROR(RTD(\"cqg.rtd\", ,\"ContractData\",C920, \"PerCentNetLastTrade\",, \"T\")/100,\"\")","v":2.710413694721826E-2},216,216,"S.US.EDIT",920,"S.US.WDC"]
[null,null,"S.US.PGTI",{"$f":"IFERROR(RTD(\"cqg.rtd\", ,\"ContractData\",C921, \"PerCentNetLastTrade\",, \"T\")/100,\"\")","v":-8.8105726872246687E-3},2053,2053,"S.US.PGTI",921,"S.US.SNHY"]
[null,null,"S.US.DRNA",{"$f":"IFERROR(RTD(\"cqg.rtd\", ,\"ContractData\",C922, \"PerCentNetLastTrade\",, \"T\")/100,\"\")","v":2.3026315789473686E-2},278,278,"S.US.DRNA",922,"S.US.NTRI"]
[null,null,"S.US.RGEN",{"$f":"IFERROR(RTD(\"cqg.rtd\", ,\"ContractData\",C923, \"PerCentNetLastTrade\",, \"T\")/100,\"\")","v":-1.6457211250748057E-2},2285,2285,"S.US.RGEN",923,"S.US.AIQ"]
[null,null,"S.US.EVEP",{"$f":"IFERROR(RTD(\"cqg.rtd\", ,\"ContractData\",C924, \"PerCentNetLastTrade\",, \"T\")/100,\"\")","v":5.8479532163742687E-3},987,987,"S.US.EVEP",924,"S.US.VICR"]
[null,null,"S.US.TLGT",{"$f":"IFERROR(RTD(\"cqg.rtd\", ,\"ContractData\",C925, \"PerCentNetLastTrade\",, \"T\")/100,\"\")","v":2.3545706371191136E-2},274,274,"S.US.TLGT",925,"S.US.BMTC"]
[null,null,"S.US.CHI",{"$f":"IFERROR(RTD(\"cqg.rtd\", ,\"ContractData\",C926, \"PerCentNetLastTrade\",, \"T\")/100,\"\")","v":-5.0352467270896274E-3},1887,1887,"S.US.CHI",926,"S.US.ACIU"]
[null,null,"S.US.TRST",{"$f":"IFERROR(RTD(\"cqg.rtd\", ,\"ContractData\",C927, \"PerCentNetLastTrade\",, \"T\")/100,\"\")","v":0},1412,1412,"S.US.TRST",927,"S.US.DORM"]
[null,null,"S.US.CPST",{"$f":"IFERROR(RTD(\"cqg.rtd\", ,\"ContractData\",C928, \"PerCentNetLastTrade\",, \"T\")/100,\"\")","v":2.2988505747126436E-2},281,281,"S.US.CPST",928,"S.US.ON"]
[null,null,"S.US.MCRB",{"$f":"IFERROR(RTD(\"cqg.rtd\", ,\"ContractData\",C929, \"PerCentNetLastTrade\",, \"T\")/100,\"\")","v":0},1413,1413,"S.US.MCRB",929,"S.US.NERV"]
[null,null,"S.US.CAFD",{"$f":"IFERROR(RTD(\"cqg.rtd\", ,\"ContractData\",C930, \"PerCentNetLastTrade\",, \"T\")/100,\"\")","v":4.5906656465187455E-3},1074,1074,"S.US.CAFD",930,"S.US.OSIR"]
[null,null,"S.US.KANG",{"$f":"IFERROR(RTD(\"cqg.rtd\", ,\"ContractData\",C931, \"PerCentNetLastTrade\",, \"T\")/100,\"\")","v":2.6560424966799466E-2},224,224,"S.US.KANG",931,"S.US.TLF"]
[null,null,"S.US.XNCR",{"$f":"IFERROR(RTD(\"cqg.rtd\", ,\"ContractData\",C932, \"PerCentNetLastTrade\",, \"T\")/100,\"\")","v":1.8982536066818529E-3},1265,1265,"S.US.XNCR",932,"S.US.SFNC"]
[null,null,"S.US.TREE",{"$f":"IFERROR(RTD(\"cqg.rtd\", ,\"ContractData\",C933, \"PerCentNetLastTrade\",, \"T\")/100,\"\")","v":3.6982248520710061E-2},122,122,"S.US.TREE",933,"S.US.GLRE"]
[null,null,"S.US.TROV",{"$f":"IFERROR(RTD(\"cqg.rtd\", ,\"ContractData\",C934, \"PerCentNetLastTrade\",, \"T\")/100,\"\")","v":-1.6949152542372881E-2},2292,2292,"S.US.TROV",934,"S.US.ACHC"]
[null,null,"S.US.NVLS",{"$f":"IFERROR(RTD(\"cqg.rtd\", ,\"ContractData\",C935, \"PerCentNetLastTrade\",, \"T\")/100,\"\")","v":-0.1245136186770428},2565,2565,"S.US.NVLS",935,"S.US.TRCB"]
[null,null,"S.US.SREV",{"$f":"IFERROR(RTD(\"cqg.rtd\", ,\"ContractData\",C936, \"PerCentNetLastTrade\",, \"T\")/100,\"\")","v":5.0675675675675678E-3},1040,1040,"S.US.SREV",936,"S.US.CRIS"]
[null,null,"S.US.AQMS",{"$f":"IFERROR(RTD(\"cqg.rtd\", ,\"ContractData\",C937, \"PerCentNetLastTrade\",, \"T\")/100,\"\")","v":1.1541632316570486E-2},640,640,"S.US.AQMS",937,"S.US.MLVF"]
[null,null,"S.US.CSGP",{"$f":"IFERROR(RTD(\"cqg.rtd\", ,\"ContractData\",C938, \"PerCentNetLastTrade\",, \"T\")/100,\"\")","v":-1.2050664068509307E-2},2175,2175,"S.US.CSGP",938,"S.US.FRPH"]
[null,null,"S.US.NCMI",{"$f":"IFERROR(RTD(\"cqg.rtd\", ,\"ContractData\",C939, \"PerCentNetLastTrade\",, \"T\")/100,\"\")","v":5.7692307692307687E-3},995,995,"S.US.NCMI",939,"S.US.ZBRA"]
[null,null,"S.US.CYTK",{"$f":"IFERROR(RTD(\"cqg.rtd\", ,\"ContractData\",C940, \"PerCentNetLastTrade\",, \"T\")/100,\"\")","v":-1.2145748987854249E-2},2176,2176,"S.US.CYTK",940,"S.US.EWZS"]
[null,null,"S.US.BNCN",{"$f":"IFERROR(RTD(\"cqg.rtd\", ,\"ContractData\",C941, \"PerCentNetLastTrade\",, \"T\")/100,\"\")","v":8.2508250825082501E-3},833,833,"S.US.BNCN",941,"S.US.AROW"]
[null,null,"S.US.BRKL",{"$f":"IFERROR(RTD(\"cqg.rtd\", ,\"ContractData\",C942, \"PerCentNetLastTrade\",, \"T\")/100,\"\")","v":0.01},722,722,"S.US.BRKL",942,"S.US.EMCI"]
[null,null,"S.US.IPCI",{"$f":"IFERROR(RTD(\"cqg.rtd\", ,\"ContractData\",C943, \"PerCentNetLastTrade\",, \"T\")/100,\"\")","v":3.9007092198581561E-2},109,109,"S.US.IPCI",943,"S.US.SPOK"]
[null,null,"S.US.ROCK",{"$f":"IFERROR(RTD(\"cqg.rtd\", ,\"ContractData\",C944, \"PerCentNetLastTrade\",, \"T\")/100,\"\")","v":-4.4444444444444444E-3},1854,1854,"S.US.ROCK",944,"S.US.SLRC"]
[null,null,"S.US.SWIR",{"$f":"IFERROR(RTD(\"cqg.rtd\", ,\"ContractData\",C945, \"PerCentNetLastTrade\",, \"T\")/100,\"\")","v":1.3029315960912051E-2},576,576,"S.US.SWIR",945,"S.US.APEI"]
[null,null,"S.US.AKAO",{"$f":"IFERROR(RTD(\"cqg.rtd\", ,\"ContractData\",C946, \"PerCentNetLastTrade\",, \"T\")/100,\"\")","v":4.4776119402985072E-2},79,79,"S.US.AKAO",946,"S.US.HMHC"]
[null,null,"S.US.CPSI",{"$f":"IFERROR(RTD(\"cqg.rtd\", ,\"ContractData\",C947, \"PerCentNetLastTrade\",, \"T\")/100,\"\")","v":-1.6096579476861168E-2},2277,2277,"S.US.CPSI",947,"S.US.CALD"]
[null,null,"S.US.EBIX",{"$f":"IFERROR(RTD(\"cqg.rtd\", ,\"ContractData\",C948, \"PerCentNetLastTrade\",, \"T\")/100,\"\")","v":-4.0849673202614381E-3},1827,1827,"S.US.EBIX",948,"S.US.SGC"]
[null,null,"S.US.IXUS",{"$f":"IFERROR(RTD(\"cqg.rtd\", ,\"ContractData\",C949, \"PerCentNetLastTrade\",, \"T\")/100,\"\")","v":1.9944156362185878E-4},1369,1369,"S.US.IXUS",949,"S.US.CAAS"]
[null,null,"S.US.FFBC",{"$f":"IFERROR(RTD(\"cqg.rtd\", ,\"ContractData\",C950, \"PerCentNetLastTrade\",, \"T\")/100,\"\")","v":-1.465201465201465E-2},2246,2246,"S.US.FFBC",950,"S.US.NRCIA"]
[null,null,"S.US.CORE",{"$f":"IFERROR(RTD(\"cqg.rtd\", ,\"ContractData\",C951, \"PerCentNetLastTrade\",, \"T\")/100,\"\")","v":5.2500690798563147E-3},1067,1067,"S.US.CORE",951,"S.US.ACBI"]
[null,null,"S.US.COGT",{"$f":"IFERROR(RTD(\"cqg.rtd\", ,\"ContractData\",C952, \"PerCentNetLastTrade\",, \"T\")/100,\"\")","v":-0.10555555555555556},2559,2559,"S.US.COGT",952,"S.US.CRWS"]
[null,null,"S.US.MGNX",{"$f":"IFERROR(RTD(\"cqg.rtd\", ,\"ContractData\",C953, \"PerCentNetLastTrade\",, \"T\")/100,\"\")","v":3.6390101892285295E-4},1362,1362,"S.US.MGNX",953,"S.US.FLIR"]
[null,null,"S.US.WIFI",{"$f":"IFERROR(RTD(\"cqg.rtd\", ,\"ContractData\",C954, \"PerCentNetLastTrade\",, \"T\")/100,\"\")","v":1.6353229762878167E-2},449,449,"S.US.WIFI",954,"S.US.KEQU"]
[null,null,"S.US.MITL",{"$f":"IFERROR(RTD(\"cqg.rtd\", ,\"ContractData\",C955, \"PerCentNetLastTrade\",, \"T\")/100,\"\")","v":4.1379310344827587E-3},1104,1104,"S.US.MITL",955,"S.US.LTRX"]
[null,null,"S.US.MGLN",{"$f":"IFERROR(RTD(\"cqg.rtd\", ,\"ContractData\",C956, \"PerCentNetLastTrade\",, \"T\")/100,\"\")","v":-2.751031636863824E-3},1735,1735,"S.US.MGLN",956,"S.US.ADRD"]
[null,null,"S.US.CERU",{"$f":"IFERROR(RTD(\"cqg.rtd\", ,\"ContractData\",C957, \"PerCentNetLastTrade\",, \"T\")/100,\"\")","v":-1.4285714285714285E-2},2233,2233,"S.US.CERU",957,"S.US.CCIH"]
[null,null,"S.US.CSFL",{"$f":"IFERROR(RTD(\"cqg.rtd\", ,\"ContractData\",C958, \"PerCentNetLastTrade\",, \"T\")/100,\"\")","v":1.068566340160285E-2},683,683,"S.US.CSFL",958,"S.US.BSPM"]
[null,null,"S.US.COLB",{"$f":"IFERROR(RTD(\"cqg.rtd\", ,\"ContractData\",C959, \"PerCentNetLastTrade\",, \"T\")/100,\"\")","v":1.1651469098277609E-2},639,639,"S.US.COLB",959,"S.US.CATM"]
[null,null,"S.US.BNCL",{"$f":"IFERROR(RTD(\"cqg.rtd\", ,\"ContractData\",C960, \"PerCentNetLastTrade\",, \"T\")/100,\"\")","v":8.5959885386819486E-3},821,821,"S.US.BNCL",960,"S.US.USCR"]
[null,null,"S.US.CMTL",{"$f":"IFERROR(RTD(\"cqg.rtd\", ,\"ContractData\",C961, \"PerCentNetLastTrade\",, \"T\")/100,\"\")","v":1.8421052631578946E-2},391,391,"S.US.CMTL",961,{"$f":"IFERROR(VLOOKUP(H961,$F$1:$G$2860,2,FALSE),\"\")","v":"S.US.VUZI"}]
[null,null,"S.US.ACET",{"$f":"IFERROR(RTD(\"cqg.rtd\", ,\"ContractData\",C962, \"PerCentNetLastTrade\",, \"T\")/100,\"\")","v":1.4420686225758331E-2},514,{"$f":"IFERROR(E962,\"\")","v":514},"S.US.ACET",962,"S.US.BANF"]
[null,null,"S.US.LBIO",{"$f":"IFERROR(RTD(\"cqg.rtd\", ,\"ContractData\",C963, \"PerCentNetLastTrade\",, \"T\")/100,\"\")","v":-7.352941176470589E-3},1998,1998,{"$f":"C963","v":"S.US.LBIO"},{"$f":"H962+1","v":963},"S.US.WAFD"]
[null,null,"S.US.IFV",{"$f":"IFERROR(RTD(\"cqg.rtd\", ,\"ContractData\",C964, \"PerCentNetLastTrade\",, \"T\")/100,\"\")","v":2.3654642223536367E-3},1234,1234,"S.US.IFV",964,"S.US.PTCT"]
[null,null,"S.US.RPD",{"$f":"IFERROR(RTD(\"cqg.rtd\", ,\"ContractData\",C965, \"PerCentNetLastTrade\",, \"T\")/100,\"\")","v":-2.3809523809523808E-2},2381,2381,"S.US.RPD",965,"S.US.FAB"]
[null,null,"S.US.COLL",{"$f":"IFERROR(RTD(\"cqg.rtd\", ,\"ContractData\",C966, \"PerCentNetLastTrade\",, \"T\")/100,\"\")","v":-1.8393623543838137E-3},1679,1679,"S.US.COLL",966,"S.US.CTRL"]
[null,null,"S.US.ALIM",{"$f":"IFERROR(RTD(\"cqg.rtd\", ,\"ContractData\",C967, \"PerCentNetLastTrade\",, \"T\")/100,\"\")","v":9.0090090090090089E-3},797,797,"S.US.ALIM",967,"S.US.FINL"]
[null,null,"S.US.QUIK",{"$f":"IFERROR(RTD(\"cqg.rtd\", ,\"ContractData\",C968, \"PerCentNetLastTrade\",, \"T\")/100,\"\")","v":0},1414,1414,"S.US.QUIK",968,"S.US.FRED"]
[null,null,"S.US.THRM",{"$f":"IFERROR(RTD(\"cqg.rtd\", ,\"ContractData\",C969, \"PerCentNetLastTrade\",, \"T\")/100,\"\")","v":9.5238095238095229E-3},761,761,"S.US.THRM",969,"S.US.BCOV"]
[null,null,"S.US.CRNT",{"$f":"IFERROR(RTD(\"cqg.rtd\", ,\"ContractData\",C970, \"PerCentNetLastTrade\",, \"T\")/100,\"\")","v":8.6956521739130436E-3},814,814,"S.US.CRNT",970,"S.US.WHLR"]
[null,null,"S.US.MIRN",{"$f":"IFERROR(RTD(\"cqg.rtd\", ,\"ContractData\",C971, \"PerCentNetLastTrade\",, \"T\")/100,\"\")","v":-3.1446540880503145E-2},2452,2452,"S.US.MIRN",971,"S.US.MNRO"]
[null,null,"S.US.TOWN",{"$f":"IFERROR(RTD(\"cqg.rtd\", ,\"ContractData\",C972, \"PerCentNetLastTrade\",, \"T\")/100,\"\")","v":1.4106583072100314E-2},532,532,"S.US.TOWN",972,"S.US.STBZ"]
[null,null,"S.US.ESPR",{"$f":"IFERROR(RTD(\"cqg.rtd\", ,\"ContractData\",C973, \"PerCentNetLastTrade\",, \"T\")/100,\"\")","v":1.201478743068392E-2},622,622,"S.US.ESPR",973,"S.US.PFIS"]
[null,null,"S.US.CWST",{"$f":"IFERROR(RTD(\"cqg.rtd\", ,\"ContractData\",C974, \"PerCentNetLastTrade\",, \"T\")/100,\"\")","v":7.2522159548751011E-3},893,893,"S.US.CWST",974,"S.US.INCR"]
[null,null,"S.US.NEON",{"$f":"IFERROR(RTD(\"cqg.rtd\", ,\"ContractData\",C975, \"PerCentNetLastTrade\",, \"T\")/100,\"\")","v":3.7499999999999999E-2},117,117,"S.US.NEON",975,"S.US.EGOV"]
[null,null,"S.US.BOJA",{"$f":"IFERROR(RTD(\"cqg.rtd\", ,\"ContractData\",C976, \"PerCentNetLastTrade\",, \"T\")/100,\"\")","v":-5.3619302949061663E-2},2522,2522,"S.US.BOJA",976,"S.US.SIGI"]
[null,null,"S.US.SCAI",{"$f":"IFERROR(RTD(\"cqg.rtd\", ,\"ContractData\",C977, \"PerCentNetLastTrade\",, \"T\")/100,\"\")","v":-1.189365671641791E-2},2170,2170,"S.US.SCAI",977,"S.US.PLBC"]
[null,null,"S.US.LMNX",{"$f":"IFERROR(RTD(\"cqg.rtd\", ,\"ContractData\",C978, \"PerCentNetLastTrade\",, \"T\")/100,\"\")","v":0},1415,1415,"S.US.LMNX",978,"S.US.CARZ"]
[null,null,"S.US.OSIR",{"$f":"IFERROR(RTD(\"cqg.rtd\", ,\"ContractData\",C979, \"PerCentNetLastTrade\",, \"T\")/100,\"\")","v":6.7114093959731551E-3},930,930,"S.US.OSIR",979,"S.US.ISSC"]
[null,null,"S.US.GOGL",{"$f":"IFERROR(RTD(\"cqg.rtd\", ,\"ContractData\",C980, \"PerCentNetLastTrade\",, \"T\")/100,\"\")","v":4.3795620437956206E-2},82,82,"S.US.GOGL",980,"S.US.DWIN"]
[null,null,"S.US.CCXI",{"$f":"IFERROR(RTD(\"cqg.rtd\", ,\"ContractData\",C981, \"PerCentNetLastTrade\",, \"T\")/100,\"\")","v":7.556675062972292E-3},877,877,"S.US.CCXI",981,"S.US.RILY"]
[null,null,"S.US.SIGI",{"$f":"IFERROR(RTD(\"cqg.rtd\", ,\"ContractData\",C982, \"PerCentNetLastTrade\",, \"T\")/100,\"\")","v":5.9880239520958079E-3},976,976,"S.US.SIGI",982,"S.US.IMMR"]
[null,null,"S.US.FFIN",{"$f":"IFERROR(RTD(\"cqg.rtd\", ,\"ContractData\",C983, \"PerCentNetLastTrade\",, \"T\")/100,\"\")","v":8.4090909090909095E-3},827,827,"S.US.FFIN",983,"S.US.AXGN"]
[null,null,"S.US.AXTI",{"$f":"IFERROR(RTD(\"cqg.rtd\", ,\"ContractData\",C984, \"PerCentNetLastTrade\",, \"T\")/100,\"\")","v":0},1416,1416,"S.US.AXTI",984,"S.US.CUTR"]
[null,null,"S.US.NTRA",{"$f":"IFERROR(RTD(\"cqg.rtd\", ,\"ContractData\",C985, \"PerCentNetLastTrade\",, \"T\")/100,\"\")","v":7.5376884422110558E-3},879,879,"S.US.NTRA",985,"S.US.HSTM"]
[null,null,"S.US.ECHO",{"$f":"IFERROR(RTD(\"cqg.rtd\", ,\"ContractData\",C986, \"PerCentNetLastTrade\",, \"T\")/100,\"\")","v":7.6E-3},872,872,"S.US.ECHO",986,"S.US.QIWI"]
[null,null,"S.US.NYMX",{"$f":"IFERROR(RTD(\"cqg.rtd\", ,\"ContractData\",C987, \"PerCentNetLastTrade\",, \"T\")/100,\"\")","v":-9.3749999999999997E-3},2077,2077,"S.US.NYMX",987,"S.US.EVEP"]
[null,null,"S.US.GGAL",{"$f":"IFERROR(RTD(\"cqg.rtd\", ,\"ContractData\",C988, \"PerCentNetLastTrade\",, \"T\")/100,\"\")","v":-4.2507970244420826E-3},1841,1841,"S.US.GGAL",988,"S.US.MFIN"]
[null,null,"S.US.ENTA",{"$f":"IFERROR(RTD(\"cqg.rtd\", ,\"ContractData\",C989, \"PerCentNetLastTrade\",, \"T\")/100,\"\")","v":1.1505273250239693E-2},644,644,"S.US.ENTA",989,"S.US.SCOR"]
[null,null,"S.US.CECE",{"$f":"IFERROR(RTD(\"cqg.rtd\", ,\"ContractData\",C990, \"PerCentNetLastTrade\",, \"T\")/100,\"\")","v":9.6870342771982129E-3},753,753,"S.US.CECE",990,"S.US.EHTH"]
[null,null,"S.US.SRNE",{"$f":"IFERROR(RTD(\"cqg.rtd\", ,\"ContractData\",C991, \"PerCentNetLastTrade\",, \"T\")/100,\"\")","v":0},1417,1417,"S.US.SRNE",991,"S.US.VTWV"]
[null,null,"S.US.FUEL",{"$f":"IFERROR(RTD(\"cqg.rtd\", ,\"ContractData\",C992, \"PerCentNetLastTrade\",, \"T\")/100,\"\")","v":-2.5510204081632654E-2},2402,2402,"S.US.FUEL",992,"S.US.PNK"]
[null,null,"S.US.POOL",{"$f":"IFERROR(RTD(\"cqg.rtd\", ,\"ContractData\",C993, \"PerCentNetLastTrade\",, \"T\")/100,\"\")","v":0},1418,1418,"S.US.POOL",993,"S.US.CVTI"]
[null,null,"S.US.COMT",{"$f":"IFERROR(RTD(\"cqg.rtd\", ,\"ContractData\",C994, \"PerCentNetLastTrade\",, \"T\")/100,\"\")","v":2.5672749768017322E-2},235,235,"S.US.COMT",994,"S.US.GAIA"]
[null,null,"S.US.RWLK",{"$f":"IFERROR(RTD(\"cqg.rtd\", ,\"ContractData\",C995, \"PerCentNetLastTrade\",, \"T\")/100,\"\")","v":1.8181818181818181E-2},400,400,"S.US.RWLK",995,"S.US.NCMI"]
[null,null,"S.US.TA",{"$f":"IFERROR(RTD(\"cqg.rtd\", ,\"ContractData\",C996, \"PerCentNetLastTrade\",, \"T\")/100,\"\")","v":-7.4074074074074068E-3},2001,2001,"S.US.TA",996,"S.US.NGHC"]
[null,null,"S.US.KGJI",{"$f":"IFERROR(RTD(\"cqg.rtd\", ,\"ContractData\",C997, \"PerCentNetLastTrade\",, \"T\")/100,\"\")","v":-2.6490066225165566E-2},2412,2412,"S.US.KGJI",997,"S.US.ADUS"]
[null,null,"S.US.LLNW",{"$f":"IFERROR(RTD(\"cqg.rtd\", ,\"ContractData\",C998, \"PerCentNetLastTrade\",, \"T\")/100,\"\")","v":-8.8105726872246687E-3},2054,2054,"S.US.LLNW",998,"S.US.CPLA"]
[null,null,"S.US.FLDM",{"$f":"IFERROR(RTD(\"cqg.rtd\", ,\"ContractData\",C999, \"PerCentNetLastTrade\",, \"T\")/100,\"\")","v":4.4628099173553724E-2},80,80,"S.US.FLDM",999,"S.US.DXKW"]
[null,null,"S.US.OCRX",{"$f":"IFERROR(RTD(\"cqg.rtd\", ,\"ContractData\",C1000, \"PerCentNetLastTrade\",, \"T\")/100,\"\")","v":-1.3636363636363636E-2},2214,2214,"S.US.OCRX",1000,"S.US.OSTK"]
[null,null,"S.US.COUP",{"$f":"IFERROR(RTD(\"cqg.rtd\", ,\"ContractData\",C1001, \"PerCentNetLastTrade\",, \"T\")/100,\"\")","v":-2.2243107769423558E-2},2372,2372,"S.US.COUP",1001,"S.US.MNOV"]
[null,null,"S.US.IVTY",{"$f":"IFERROR(RTD(\"cqg.rtd\", ,\"ContractData\",C1002, \"PerCentNetLastTrade\",, \"T\")/100,\"\")","v":1.4705882352941178E-2},503,503,"S.US.IVTY",1002,"S.US.FARM"]
[null,null,"S.US.SYKE",{"$f":"IFERROR(RTD(\"cqg.rtd\", ,\"ContractData\",C1003, \"PerCentNetLastTrade\",, \"T\")/100,\"\")","v":-6.2871114215857496E-3},1940,1940,"S.US.SYKE",1003,"S.US.EXAC"]
[null,null,"S.US.BABY",{"$f":"IFERROR(RTD(\"cqg.rtd\", ,\"ContractData\",C1004, \"PerCentNetLastTrade\",, \"T\")/100,\"\")","v":-2.8537455410225919E-2},2427,2427,"S.US.BABY",1004,"S.US.FLXS"]
[null,null,"S.US.RGNX",{"$f":"IFERROR(RTD(\"cqg.rtd\", ,\"ContractData\",C1005, \"PerCentNetLastTrade\",, \"T\")/100,\"\")","v":-6.6079295154185024E-3},1955,1955,"S.US.RGNX",1005,"S.US.ADRO"]
[null,null,"S.US.GRVY",{"$f":"IFERROR(RTD(\"cqg.rtd\", ,\"ContractData\",C1006, \"PerCentNetLastTrade\",, \"T\")/100,\"\")","v":1.3748854262144821E-2},547,547,"S.US.GRVY",1006,"S.US.VRTS"]
[null,null,"S.US.VECO",{"$f":"IFERROR(RTD(\"cqg.rtd\", ,\"ContractData\",C1007, \"PerCentNetLastTrade\",, \"T\")/100,\"\")","v":-9.3632958801498131E-3},2076,2076,"S.US.VECO",1007,"S.US.SSNC"]
[null,null,"S.US.HUBG",{"$f":"IFERROR(RTD(\"cqg.rtd\", ,\"ContractData\",C1008, \"PerCentNetLastTrade\",, \"T\")/100,\"\")","v":4.6674445740956831E-3},1069,1069,"S.US.HUBG",1008,"S.US.SBRAP"]
[null,null,"S.US.CLCD",{"$f":"IFERROR(RTD(\"cqg.rtd\", ,\"ContractData\",C1009, \"PerCentNetLastTrade\",, \"T\")/100,\"\")","v":-2.6206896551724135E-2},2409,2409,"S.US.CLCD",1009,"S.US.HQY"]
[null,null,"S.US.MFIN",{"$f":"IFERROR(RTD(\"cqg.rtd\", ,\"ContractData\",C1010, \"PerCentNetLastTrade\",, \"T\")/100,\"\")","v":5.8479532163742687E-3},988,988,"S.US.MFIN",1010,"S.US.HMTA"]
[null,null,"S.US.BPMC",{"$f":"IFERROR(RTD(\"cqg.rtd\", ,\"ContractData\",C1011, \"PerCentNetLastTrade\",, \"T\")/100,\"\")","v":-1.5491100856954517E-2},2267,2267,"S.US.BPMC",1011,"S.US.FUSB"]
[null,null,"S.US.LPSN",{"$f":"IFERROR(RTD(\"cqg.rtd\", ,\"ContractData\",C1012, \"PerCentNetLastTrade\",, \"T\")/100,\"\")","v":-5.9880239520958079E-3},1927,1927,"S.US.LPSN",1012,"S.US.EDUC"]
[null,null,"S.US.ABUS",{"$f":"IFERROR(RTD(\"cqg.rtd\", ,\"ContractData\",C1013, \"PerCentNetLastTrade\",, \"T\")/100,\"\")","v":7.9245283018867921E-2},21,21,"S.US.ABUS",1013,"S.US.XLNX"]
[null,null,"S.US.FIZZ",{"$f":"IFERROR(RTD(\"cqg.rtd\", ,\"ContractData\",C1014, \"PerCentNetLastTrade\",, \"T\")/100,\"\")","v":-1.4872099940511601E-2},2252,2252,"S.US.FIZZ",1014,"S.US.ICAD"]
[null,null,"S.US.ZGNX",{"$f":"IFERROR(RTD(\"cqg.rtd\", ,\"ContractData\",C1015, \"PerCentNetLastTrade\",, \"T\")/100,\"\")","v":7.9365079365079361E-3},850,850,"S.US.ZGNX",1015,"S.US.OIIM"]
[null,null,"S.US.MMSI",{"$f":"IFERROR(RTD(\"cqg.rtd\", ,\"ContractData\",C1016, \"PerCentNetLastTrade\",, \"T\")/100,\"\")","v":-1.0482180293501049E-2},2116,2116,"S.US.MMSI",1016,"S.US.GSIT"]
[null,null,"S.US.RDWR",{"$f":"IFERROR(RTD(\"cqg.rtd\", ,\"ContractData\",C1017, \"PerCentNetLastTrade\",, \"T\")/100,\"\")","v":0},1419,1419,"S.US.RDWR",1017,"S.US.ICON"]
[null,null,"S.US.DERM",{"$f":"IFERROR(RTD(\"cqg.rtd\", ,\"ContractData\",C1018, \"PerCentNetLastTrade\",, \"T\")/100,\"\")","v":2.7632790911882098E-3},1202,1202,"S.US.DERM",1018,"S.US.BATRA"]
[null,null,"S.US.FRPT",{"$f":"IFERROR(RTD(\"cqg.rtd\", ,\"ContractData\",C1019, \"PerCentNetLastTrade\",, \"T\")/100,\"\")","v":3.3149171270718231E-2},150,150,"S.US.FRPT",1019,"S.US.FARO"]
[null,null,"S.US.CNSL",{"$f":"IFERROR(RTD(\"cqg.rtd\", ,\"ContractData\",C1020, \"PerCentNetLastTrade\",, \"T\")/100,\"\")","v":3.7112010796221321E-3},1133,1133,"S.US.CNSL",1020,"S.US.BMRC"]
[null,null,"S.US.NTRI",{"$f":"IFERROR(RTD(\"cqg.rtd\", ,\"ContractData\",C1021, \"PerCentNetLastTrade\",, \"T\")/100,\"\")","v":6.8119891008174387E-3},922,922,"S.US.NTRI",1021,"S.US.TRVN"]
[null,null,"S.US.COLM",{"$f":"IFERROR(RTD(\"cqg.rtd\", ,\"ContractData\",C1022, \"PerCentNetLastTrade\",, \"T\")/100,\"\")","v":-2.905486241668091E-3},1745,1745,"S.US.COLM",1022,"S.US.PNNT"]
[null,null,"S.US.AXGN",{"$f":"IFERROR(RTD(\"cqg.rtd\", ,\"ContractData\",C1023, \"PerCentNetLastTrade\",, \"T\")/100,\"\")","v":5.9171597633136093E-3},983,983,"S.US.AXGN",1023,"S.US.MAT"]
[null,null,"S.US.CTRL",{"$f":"IFERROR(RTD(\"cqg.rtd\", ,\"ContractData\",C1024, \"PerCentNetLastTrade\",, \"T\")/100,\"\")","v":6.0869565217391312E-3},966,966,"S.US.CTRL",1024,"S.US.SPIL"]
[null,null,"S.US.DXPE",{"$f":"IFERROR(RTD(\"cqg.rtd\", ,\"ContractData\",C1025, \"PerCentNetLastTrade\",, \"T\")/100,\"\")","v":4.3536503683858002E-2},83,83,"S.US.DXPE",1025,{"$f":"IFERROR(VLOOKUP(H1025,$F$1:$G$2860,2,FALSE),\"\")","v":"S.US.CARB"}]
[null,null,"S.US.FES",{"$f":"IFERROR(RTD(\"cqg.rtd\", ,\"ContractData\",C1026, \"PerCentNetLastTrade\",, \"T\")/100,\"\")","v":""},{"$error":"#VALUE!"},{"$f":"IFERROR(E1026,\"\")","v":""},"S.US.FES",1026,"S.US.FYT"]
[null,null,"S.US.TYPE",{"$f":"IFERROR(RTD(\"cqg.rtd\", ,\"ContractData\",C1027, \"PerCentNetLastTrade\",, \"T\")/100,\"\")","v":0},1420,1420,{"$f":"C1027","v":"S.US.TYPE"},{"$f":"H1026+1","v":1027},"S.US.SKYW"]
[null,null,"S.US.QTNA",{"$f":"IFERROR(RTD(\"cqg.rtd\", ,\"ContractData\",C1028, \"PerCentNetLastTrade\",, \"T\")/100,\"\")","v":-3.1234256926952142E-2},2449,2449,"S.US.QTNA",1028,"S.US.INWK"]
[null,null,"S.US.KOPN",{"$f":"IFERROR(RTD(\"cqg.rtd\", ,\"ContractData\",C1029, \"PerCentNetLastTrade\",, \"T\")/100,\"\")","v":1.1538461538461537E-2},641,641,"S.US.KOPN",1029,"S.US.MDCO"]
[null,null,"S.US.BOKF",{"$f":"IFERROR(RTD(\"cqg.rtd\", ,\"ContractData\",C1030, \"PerCentNetLastTrade\",, \"T\")/100,\"\")","v":2.1893191597064033E-2},309,309,"S.US.BOKF",1030,"S.US.SSB"]
[null,null,"S.US.MGI",{"$f":"IFERROR(RTD(\"cqg.rtd\", ,\"ContractData\",C1031, \"PerCentNetLastTrade\",, \"T\")/100,\"\")","v":2.4930747922437674E-2},246,246,"S.US.MGI",1031,"S.US.STB"]
[null,null,"S.US.FATE",{"$f":"IFERROR(RTD(\"cqg.rtd\", ,\"ContractData\",C1032, \"PerCentNetLastTrade\",, \"T\")/100,\"\")","v":-9.7087378640776708E-3},2199,2199,"S.US.FATE",1032,"S.US.CRAY"]
[null,null,"S.US.UMBF",{"$f":"IFERROR(RTD(\"cqg.rtd\", ,\"ContractData\",C1033, \"PerCentNetLastTrade\",, \"T\")/100,\"\")","v":1.3308490817141336E-2},566,566,"S.US.UMBF",1033,"S.US.AIA"]
[null,null,"S.US.PSDV",{"$f":"IFERROR(RTD(\"cqg.rtd\", ,\"ContractData\",C1034, \"PerCentNetLastTrade\",, \"T\")/100,\"\")","v":1.5706806282722516E-2},470,470,"S.US.PSDV",1034,"S.US.GRMN"]
[null,null,"S.US.KPTI",{"$f":"IFERROR(RTD(\"cqg.rtd\", ,\"ContractData\",C1035, \"PerCentNetLastTrade\",, \"T\")/100,\"\")","v":3.6559139784946237E-2},126,126,"S.US.KPTI",1035,"S.US.INBK"]
[null,null,"S.US.AVEO",{"$f":"IFERROR(RTD(\"cqg.rtd\", ,\"ContractData\",C1036, \"PerCentNetLastTrade\",, \"T\")/100,\"\")","v":-3.0769230769230771E-2},2446,2446,"S.US.AVEO",1036,"S.US.BUR"]
[null,null,"S.US.PTX",{"$f":"IFERROR(RTD(\"cqg.rtd\", ,\"ContractData\",C1037, \"PerCentNetLastTrade\",, \"T\")/100,\"\")","v":9.433962264150943E-3},767,767,"S.US.PTX",1037,"S.US.MKSI"]
[null,null,"S.US.LIOX",{"$f":"IFERROR(RTD(\"cqg.rtd\", ,\"ContractData\",C1038, \"PerCentNetLastTrade\",, \"T\")/100,\"\")","v":7.889546351084813E-3},854,854,"S.US.LIOX",1038,"S.US.WMAR"]
[null,null,"S.US.ATRA",{"$f":"IFERROR(RTD(\"cqg.rtd\", ,\"ContractData\",C1039, \"PerCentNetLastTrade\",, \"T\")/100,\"\")","v":9.7323600973236012E-3},747,747,"S.US.ATRA",1039,"S.US.CCN"]
[null,null,"S.US.PNFP",{"$f":"IFERROR(RTD(\"cqg.rtd\", ,\"ContractData\",C1040, \"PerCentNetLastTrade\",, \"T\")/100,\"\")","v":1.6380655226209049E-2},447,447,"S.US.PNFP",1040,"S.US.SREV"]
[null,null,"S.US.ATRC",{"$f":"IFERROR(RTD(\"cqg.rtd\", ,\"ContractData\",C1041, \"PerCentNetLastTrade\",, \"T\")/100,\"\")","v":-6.5609622744669215E-3},1954,1954,"S.US.ATRC",1041,"S.US.PCBK"]
[null,null,"S.US.AMRI",{"$f":"IFERROR(RTD(\"cqg.rtd\", ,\"ContractData\",C1042, \"PerCentNetLastTrade\",, \"T\")/100,\"\")","v":5.8241118229470008E-4},1341,1341,"S.US.AMRI",1042,"S.US.PSTB"]
[null,null,"S.US.AXDX",{"$f":"IFERROR(RTD(\"cqg.rtd\", ,\"ContractData\",C1043, \"PerCentNetLastTrade\",, \"T\")/100,\"\")","v":1.6260162601626015E-2},453,453,"S.US.AXDX",1043,"S.US.FNX"]
[null,null,"S.US.ORBK",{"$f":"IFERROR(RTD(\"cqg.rtd\", ,\"ContractData\",C1044, \"PerCentNetLastTrade\",, \"T\")/100,\"\")","v":-1.2472715933894605E-3},1641,1641,"S.US.ORBK",1044,"S.US.CHKP"]
[null,null,"S.US.GOOD",{"$f":"IFERROR(RTD(\"cqg.rtd\", ,\"ContractData\",C1045, \"PerCentNetLastTrade\",, \"T\")/100,\"\")","v":-2.7749229188078109E-2},2422,2422,"S.US.GOOD",1045,"S.US.BSF"]
[null,null,"S.US.NILE",{"$f":"IFERROR(RTD(\"cqg.rtd\", ,\"ContractData\",C1046, \"PerCentNetLastTrade\",, \"T\")/100,\"\")","v":-2.226069750185506E-3},1706,1706,"S.US.NILE",1046,"S.US.SPPI"]
[null,null,"S.US.FRED",{"$f":"IFERROR(RTD(\"cqg.rtd\", ,\"ContractData\",C1047, \"PerCentNetLastTrade\",, \"T\")/100,\"\")","v":6.0667340748230538E-3},968,968,"S.US.FRED",1047,"S.US.UCTT"]
[null,null,"S.US.PXLW",{"$f":"IFERROR(RTD(\"cqg.rtd\", ,\"ContractData\",C1048, \"PerCentNetLastTrade\",, \"T\")/100,\"\")","v":9.4936708860759497E-3},763,763,"S.US.PXLW",1048,"S.US.RVSB"]
[null,null,"S.US.NTLA",{"$f":"IFERROR(RTD(\"cqg.rtd\", ,\"ContractData\",C1049, \"PerCentNetLastTrade\",, \"T\")/100,\"\")","v":4.8780487804878049E-3},1055,1055,"S.US.NTLA",1049,"S.US.PWOD"]
[null,null,"S.US.SCSC",{"$f":"IFERROR(RTD(\"cqg.rtd\", ,\"ContractData\",C1050, \"PerCentNetLastTrade\",, \"T\")/100,\"\")","v":1.0695187165775402E-2},682,682,"S.US.SCSC",1050,"S.US.NTAP"]
[null,null,"S.US.RMGN",{"$f":"IFERROR(RTD(\"cqg.rtd\", ,\"ContractData\",C1051, \"PerCentNetLastTrade\",, \"T\")/100,\"\")","v":2.5641025641025644E-2},236,236,"S.US.RMGN",1051,"S.US.CHKE"]
[null,null,"S.US.STRL",{"$f":"IFERROR(RTD(\"cqg.rtd\", ,\"ContractData\",C1052, \"PerCentNetLastTrade\",, \"T\")/100,\"\")","v":1.7441860465116279E-2},423,423,"S.US.STRL",1052,"S.US.FORR"]
[null,null,"S.US.EBSB",{"$f":"IFERROR(RTD(\"cqg.rtd\", ,\"ContractData\",C1053, \"PerCentNetLastTrade\",, \"T\")/100,\"\")","v":1.2359550561797751E-2},606,606,"S.US.EBSB",1053,"S.US.INSM"]
[null,null,"S.US.NLNK",{"$f":"IFERROR(RTD(\"cqg.rtd\", ,\"ContractData\",C1054, \"PerCentNetLastTrade\",, \"T\")/100,\"\")","v":-1.8324607329842934E-2},2323,2323,"S.US.NLNK",1054,"S.US.CID"]
[null,null,"S.US.VGLT",{"$f":"IFERROR(RTD(\"cqg.rtd\", ,\"ContractData\",C1055, \"PerCentNetLastTrade\",, \"T\")/100,\"\")","v":-1.629570747217806E-2},2282,2282,"S.US.VGLT",1055,"S.US.NTLA"]
[null,null,"S.US.RVNC",{"$f":"IFERROR(RTD(\"cqg.rtd\", ,\"ContractData\",C1056, \"PerCentNetLastTrade\",, \"T\")/100,\"\")","v":1.1428571428571429E-2},649,649,"S.US.RVNC",1056,"S.US.MINI"]
[null,null,"S.US.JIVE",{"$f":"IFERROR(RTD(\"cqg.rtd\", ,\"ContractData\",C1057, \"PerCentNetLastTrade\",, \"T\")/100,\"\")","v":2.5641025641025644E-2},237,237,"S.US.JIVE",1057,"S.US.OBLN"]
[null,null,"S.US.BIOC",{"$f":"IFERROR(RTD(\"cqg.rtd\", ,\"ContractData\",C1058, \"PerCentNetLastTrade\",, \"T\")/100,\"\")","v":-1.1235955056179777E-2},2147,2147,"S.US.BIOC",1058,"S.US.CSBK"]
[null,null,"S.US.ATOS",{"$f":"IFERROR(RTD(\"cqg.rtd\", ,\"ContractData\",C1059, \"PerCentNetLastTrade\",, \"T\")/100,\"\")","v":-6.0465116279069767E-2},2539,2539,"S.US.ATOS",1059,"S.US.SIEN"]
[null,null,"S.US.UBIO",{"$f":"IFERROR(RTD(\"cqg.rtd\", ,\"ContractData\",C1060, \"PerCentNetLastTrade\",, \"T\")/100,\"\")","v":-1.9108280254777069E-2},2338,2338,"S.US.UBIO",1060,"S.US.PLPM"]
[null,null,"S.US.AEGN",{"$f":"IFERROR(RTD(\"cqg.rtd\", ,\"ContractData\",C1061, \"PerCentNetLastTrade\",, \"T\")/100,\"\")","v":9.3877551020408161E-3},769,769,"S.US.AEGN",1061,"S.US.CASS"]
[null,null,"S.US.ACTA",{"$f":"IFERROR(RTD(\"cqg.rtd\", ,\"ContractData\",C1062, \"PerCentNetLastTrade\",, \"T\")/100,\"\")","v":0},1421,1421,"S.US.ACTA",1062,"S.US.EYES"]
[null,null,"S.US.AAWW",{"$f":"IFERROR(RTD(\"cqg.rtd\", ,\"ContractData\",C1063, \"PerCentNetLastTrade\",, \"T\")/100,\"\")","v":-3.003003003003003E-3},1754,1754,"S.US.AAWW",1063,"S.US.UFCS"]
[null,null,"S.US.RAIL",{"$f":"IFERROR(RTD(\"cqg.rtd\", ,\"ContractData\",C1064, \"PerCentNetLastTrade\",, \"T\")/100,\"\")","v":2.8905712319339298E-2},191,191,"S.US.RAIL",1064,"S.US.FGBI"]
[null,null,"S.US.SAIA",{"$f":"IFERROR(RTD(\"cqg.rtd\", ,\"ContractData\",C1065, \"PerCentNetLastTrade\",, \"T\")/100,\"\")","v":1.7985611510791366E-2},406,406,"S.US.SAIA",1065,"S.US.HURN"]
[null,null,"S.US.CNV",{"$f":"IFERROR(RTD(\"cqg.rtd\", ,\"ContractData\",C1066, \"PerCentNetLastTrade\",, \"T\")/100,\"\")","v":1.8315018315018313E-3},1269,1269,"S.US.CNV",1066,"S.US.TRUP"]
[null,null,"S.US.INGN",{"$f":"IFERROR(RTD(\"cqg.rtd\", ,\"ContractData\",C1067, \"PerCentNetLastTrade\",, \"T\")/100,\"\")","v":-1.4581734458940905E-2},2243,2243,"S.US.INGN",1067,"S.US.CORE"]
[null,null,"S.US.EVOK",{"$f":"IFERROR(RTD(\"cqg.rtd\", ,\"ContractData\",C1068, \"PerCentNetLastTrade\",, \"T\")/100,\"\")","v":-1.785714285714286E-2},2311,2311,"S.US.EVOK",1068,"S.US.RNDB"]
[null,null,"S.US.RUSHA",{"$f":"IFERROR(RTD(\"cqg.rtd\", ,\"ContractData\",C1069, \"PerCentNetLastTrade\",, \"T\")/100,\"\")","v":3.0477480528276327E-2},178,178,"S.US.RUSHA",1069,"S.US.HUBG"]
[null,null,"S.US.TESO",{"$f":"IFERROR(RTD(\"cqg.rtd\", ,\"ContractData\",C1070, \"PerCentNetLastTrade\",, \"T\")/100,\"\")","v":0.11724137931034483},13,13,"S.US.TESO",1070,"S.US.RCKY"]
[null,null,"S.US.NGHC",{"$f":"IFERROR(RTD(\"cqg.rtd\", ,\"ContractData\",C1071, \"PerCentNetLastTrade\",, \"T\")/100,\"\")","v":5.7496682883679782E-3},996,996,"S.US.NGHC",1071,"S.US.MSBI"]
[null,null,"S.US.WSTC",{"$f":"IFERROR(RTD(\"cqg.rtd\", ,\"ContractData\",C1072, \"PerCentNetLastTrade\",, \"T\")/100,\"\")","v":0},1422,1422,"S.US.WSTC",1072,"S.US.TBK"]
[null,null,"S.US.EPAY",{"$f":"IFERROR(RTD(\"cqg.rtd\", ,\"ContractData\",C1073, \"PerCentNetLastTrade\",, \"T\")/100,\"\")","v":4.0404040404040404E-3},1111,1111,"S.US.EPAY",1073,"S.US.SHLD"]
[null,null,"S.US.APOG",{"$f":"IFERROR(RTD(\"cqg.rtd\", ,\"ContractData\",C1074, \"PerCentNetLastTrade\",, \"T\")/100,\"\")","v":2.7219430485762143E-3},1207,1207,"S.US.APOG",1074,"S.US.CAFD"]
[null,null,"S.US.COHR",{"$f":"IFERROR(RTD(\"cqg.rtd\", ,\"ContractData\",C1075, \"PerCentNetLastTrade\",, \"T\")/100,\"\")","v":-1.3534852244529664E-3},1652,1652,"S.US.COHR",1075,"S.US.KRNY"]
[null,null,"S.US.JRVR",{"$f":"IFERROR(RTD(\"cqg.rtd\", ,\"ContractData\",C1076, \"PerCentNetLastTrade\",, \"T\")/100,\"\")","v":-1.0196278358399185E-3},1626,1626,"S.US.JRVR",1076,"S.US.IPGP"]
[null,null,"S.US.OTEX",{"$f":"IFERROR(RTD(\"cqg.rtd\", ,\"ContractData\",C1077, \"PerCentNetLastTrade\",, \"T\")/100,\"\")","v":4.1002996372811861E-3},1106,1106,"S.US.OTEX",1077,"S.US.RELV"]
[null,null,"S.US.SHLM",{"$f":"IFERROR(RTD(\"cqg.rtd\", ,\"ContractData\",C1078, \"PerCentNetLastTrade\",, \"T\")/100,\"\")","v":1.9607843137254902E-2},364,364,"S.US.SHLM",1078,"S.US.CSF"]
[null,null,"S.US.PPH",{"$f":"IFERROR(RTD(\"cqg.rtd\", ,\"ContractData\",C1079, \"PerCentNetLastTrade\",, \"T\")/100,\"\")","v":5.7636887608069167E-4},1342,1342,"S.US.PPH",1079,"S.US.FBNK"]
[null,null,"S.US.NK",{"$f":"IFERROR(RTD(\"cqg.rtd\", ,\"ContractData\",C1080, \"PerCentNetLastTrade\",, \"T\")/100,\"\")","v":-5.8565153733528552E-3},1923,1923,"S.US.NK",1080,"S.US.YIN"]
[null,null,"S.US.CVGW",{"$f":"IFERROR(RTD(\"cqg.rtd\", ,\"ContractData\",C1081, \"PerCentNetLastTrade\",, \"T\")/100,\"\")","v":-6.3405797101449279E-3},1945,1945,"S.US.CVGW",1081,"S.US.USLM"]
[null,null,"S.US.MKTX",{"$f":"IFERROR(RTD(\"cqg.rtd\", ,\"ContractData\",C1082, \"PerCentNetLastTrade\",, \"T\")/100,\"\")","v":-9.528882575757576E-3},2081,2081,"S.US.MKTX",1082,"S.US.VTWO"]
[null,null,"S.US.VDSI",{"$f":"IFERROR(RTD(\"cqg.rtd\", ,\"ContractData\",C1083, \"PerCentNetLastTrade\",, \"T\")/100,\"\")","v":1.3840830449826988E-2},539,539,"S.US.VDSI",1083,"S.US.BATRK"]
[null,null,"S.US.MIME",{"$f":"IFERROR(RTD(\"cqg.rtd\", ,\"ContractData\",C1084, \"PerCentNetLastTrade\",, \"T\")/100,\"\")","v":-4.6533271288971611E-4},1593,1593,"S.US.MIME",1084,"S.US.CLVS"]
[null,null,"S.US.FELE",{"$f":"IFERROR(RTD(\"cqg.rtd\", ,\"ContractData\",C1085, \"PerCentNetLastTrade\",, \"T\")/100,\"\")","v":2.1216041397153943E-2},329,329,"S.US.FELE",1085,"S.US.VOD"]
[null,null,"S.US.MXWL",{"$f":"IFERROR(RTD(\"cqg.rtd\", ,\"ContractData\",C1086, \"PerCentNetLastTrade\",, \"T\")/100,\"\")","v":1.002004008016032E-2},720,720,"S.US.MXWL",1086,"S.US.FNY"]
[null,null,"S.US.PLPM",{"$f":"IFERROR(RTD(\"cqg.rtd\", ,\"ContractData\",C1087, \"PerCentNetLastTrade\",, \"T\")/100,\"\")","v":4.8192771084337345E-3},1060,1060,"S.US.PLPM",1087,"S.US.CY"]
[null,null,"S.US.GMLP",{"$f":"IFERROR(RTD(\"cqg.rtd\", ,\"ContractData\",C1088, \"PerCentNetLastTrade\",, \"T\")/100,\"\")","v":9.8384728340675465E-2},24,24,"S.US.GMLP",1088,"S.US.PGNX"]
[null,null,"S.US.EMKR",{"$f":"IFERROR(RTD(\"cqg.rtd\", ,\"ContractData\",C1089, \"PerCentNetLastTrade\",, \"T\")/100,\"\")","v":0},1423,1423,"S.US.EMKR",1089,{"$f":"IFERROR(VLOOKUP(H1089,$F$1:$G$2860,2,FALSE),\"\")","v":"S.US.ADES"}]
[null,null,"S.US.PSTB",{"$f":"IFERROR(RTD(\"cqg.rtd\", ,\"ContractData\",C1090, \"PerCentNetLastTrade\",, \"T\")/100,\"\")","v":5.0607287449392713E-3},1042,{"$f":"IFERROR(E1090,\"\")","v":1042},"S.US.PSTB",1090,"S.US.MSCC"]
[null,null,"S.US.DLTH",{"$f":"IFERROR(RTD(\"cqg.rtd\", ,\"ContractData\",C1091, \"PerCentNetLastTrade\",, \"T\")/100,\"\")","v":5.7142857142857136E-4},1343,1343,{"$f":"C1091","v":"S.US.DLTH"},{"$f":"H1090+1","v":1091},"S.US.DGICA"]
[null,null,"S.US.RPXC",{"$f":"IFERROR(RTD(\"cqg.rtd\", ,\"ContractData\",C1092, \"PerCentNetLastTrade\",, \"T\")/100,\"\")","v":9.5693779904306216E-3},759,759,"S.US.RPXC",1092,"S.US.CNTY"]
[null,null,"S.US.AEZS",{"$f":"IFERROR(RTD(\"cqg.rtd\", ,\"ContractData\",C1093, \"PerCentNetLastTrade\",, \"T\")/100,\"\")","v":-1.4492753623188406E-2},2239,2239,"S.US.AEZS",1093,"S.US.AHGP"]
[null,null,"S.US.MDVX",{"$f":"IFERROR(RTD(\"cqg.rtd\", ,\"ContractData\",C1094, \"PerCentNetLastTrade\",, \"T\")/100,\"\")","v":-6.8493150684931503E-3},1971,1971,"S.US.MDVX",1094,"S.US.STX"]
[null,null,"S.US.FRP",{"$f":"IFERROR(RTD(\"cqg.rtd\", ,\"ContractData\",C1095, \"PerCentNetLastTrade\",, \"T\")/100,\"\")","v":9.9415204678362564E-3},729,729,"S.US.FRP",1095,"S.US.IMKTA"]
[null,null,"S.US.TRS",{"$f":"IFERROR(RTD(\"cqg.rtd\", ,\"ContractData\",C1096, \"PerCentNetLastTrade\",, \"T\")/100,\"\")","v":3.140096618357488E-2},172,172,"S.US.TRS",1096,"S.US.CADC"]
[null,null,"S.US.MEIP",{"$f":"IFERROR(RTD(\"cqg.rtd\", ,\"ContractData\",C1097, \"PerCentNetLastTrade\",, \"T\")/100,\"\")","v":-1.2048192771084338E-2},2173,2173,"S.US.MEIP",1097,"S.US.CASH"]
[null,null,"S.US.NDSN",{"$f":"IFERROR(RTD(\"cqg.rtd\", ,\"ContractData\",C1098, \"PerCentNetLastTrade\",, \"T\")/100,\"\")","v":2.7875859505668089E-4},1365,1365,"S.US.NDSN",1098,"S.US.ARLP"]
[null,null,"S.US.SHEN",{"$f":"IFERROR(RTD(\"cqg.rtd\", ,\"ContractData\",C1099, \"PerCentNetLastTrade\",, \"T\")/100,\"\")","v":6.9808027923211171E-3},911,911,"S.US.SHEN",1099,"S.US.SATS"]
[null,null,"S.US.PRGS",{"$f":"IFERROR(RTD(\"cqg.rtd\", ,\"ContractData\",C1100, \"PerCentNetLastTrade\",, \"T\")/100,\"\")","v":3.0140656396517081E-3},1180,1180,"S.US.PRGS",1100,"S.US.MRVL"]
[null,null,"S.US.MPAA",{"$f":"IFERROR(RTD(\"cqg.rtd\", ,\"ContractData\",C1101, \"PerCentNetLastTrade\",, \"T\")/100,\"\")","v":-1.9770660340055358E-3},1692,1692,"S.US.MPAA",1101,"S.US.FMNB"]
[null,null,"S.US.SBCF",{"$f":"IFERROR(RTD(\"cqg.rtd\", ,\"ContractData\",C1102, \"PerCentNetLastTrade\",, \"T\")/100,\"\")","v":2.651325662831416E-2},218,218,"S.US.SBCF",1102,"S.US.ABIO"]
[null,null,"S.US.FHB",{"$f":"IFERROR(RTD(\"cqg.rtd\", ,\"ContractData\",C1103, \"PerCentNetLastTrade\",, \"T\")/100,\"\")","v":1.316655694535879E-3},1299,1299,"S.US.FHB",1103,"S.US.FYX"]
[null,null,"S.US.SPIL",{"$f":"IFERROR(RTD(\"cqg.rtd\", ,\"ContractData\",C1104, \"PerCentNetLastTrade\",, \"T\")/100,\"\")","v":5.3547523427041497E-3},1024,1024,"S.US.SPIL",1104,"S.US.MITL"]
[null,null,"S.US.DGII",{"$f":"IFERROR(RTD(\"cqg.rtd\", ,\"ContractData\",C1105, \"PerCentNetLastTrade\",, \"T\")/100,\"\")","v":0},1424,1424,"S.US.DGII",1105,"S.US.ZIV"]
[null,null,"S.US.ANIP",{"$f":"IFERROR(RTD(\"cqg.rtd\", ,\"ContractData\",C1106, \"PerCentNetLastTrade\",, \"T\")/100,\"\")","v":1.4393420150788212E-2},517,517,"S.US.ANIP",1106,"S.US.OTEX"]
[null,null,"S.US.SLAB",{"$f":"IFERROR(RTD(\"cqg.rtd\", ,\"ContractData\",C1107, \"PerCentNetLastTrade\",, \"T\")/100,\"\")","v":3.7285607755406414E-3},1130,1130,"S.US.SLAB",1107,"S.US.ITRN"]
[null,null,"S.US.CHY",{"$f":"IFERROR(RTD(\"cqg.rtd\", ,\"ContractData\",C1108, \"PerCentNetLastTrade\",, \"T\")/100,\"\")","v":-1.9157088122605365E-3},1683,1683,"S.US.CHY",1108,"S.US.CATH"]
[null,null,"S.US.ONCS",{"$f":"IFERROR(RTD(\"cqg.rtd\", ,\"ContractData\",C1109, \"PerCentNetLastTrade\",, \"T\")/100,\"\")","v":-1.4285714285714285E-2},2234,2234,"S.US.ONCS",1109,"S.US.FSTR"]
[null,null,"S.US.BL",{"$f":"IFERROR(RTD(\"cqg.rtd\", ,\"ContractData\",C1110, \"PerCentNetLastTrade\",, \"T\")/100,\"\")","v":-2.8268551236749116E-2},2426,2426,"S.US.BL",1110,"S.US.SPNS"]
[null,null,"S.US.SYRX",{"$f":"IFERROR(RTD(\"cqg.rtd\", ,\"ContractData\",C1111, \"PerCentNetLastTrade\",, \"T\")/100,\"\")","v":-0.1},2558,2558,"S.US.SYRX",1111,"S.US.EPAY"]
[null,null,"S.US.CYOU",{"$f":"IFERROR(RTD(\"cqg.rtd\", ,\"ContractData\",C1112, \"PerCentNetLastTrade\",, \"T\")/100,\"\")","v":-2.9166666666666668E-3},1747,1747,"S.US.CYOU",1112,"S.US.PKBK"]
[null,null,"S.US.ISLE",{"$f":"IFERROR(RTD(\"cqg.rtd\", ,\"ContractData\",C1113, \"PerCentNetLastTrade\",, \"T\")/100,\"\")","v":-3.6003600360036002E-3},1798,1798,"S.US.ISLE",1113,"S.US.JCS"]
[null,null,"S.US.SIGM",{"$f":"IFERROR(RTD(\"cqg.rtd\", ,\"ContractData\",C1114, \"PerCentNetLastTrade\",, \"T\")/100,\"\")","v":2.8758169934640521E-2},192,192,"S.US.SIGM",1114,"S.US.VIGI"]
[null,null,"S.US.APVO",{"$f":"IFERROR(RTD(\"cqg.rtd\", ,\"ContractData\",C1115, \"PerCentNetLastTrade\",, \"T\")/100,\"\")","v":3.6842105263157891E-2},123,123,"S.US.APVO",1115,"S.US.PSCI"]
[null,null,"S.US.BOBE",{"$f":"IFERROR(RTD(\"cqg.rtd\", ,\"ContractData\",C1116, \"PerCentNetLastTrade\",, \"T\")/100,\"\")","v":-2.9206919793304874E-3},1748,1748,"S.US.BOBE",1116,"S.US.ABCD"]
[null,null,"S.US.BEBE",{"$f":"IFERROR(RTD(\"cqg.rtd\", ,\"ContractData\",C1117, \"PerCentNetLastTrade\",, \"T\")/100,\"\")","v":-5.5555555555555552E-2},2527,2527,"S.US.BEBE",1117,"S.US.KINS"]
[null,null,"S.US.IPGP",{"$f":"IFERROR(RTD(\"cqg.rtd\", ,\"ContractData\",C1118, \"PerCentNetLastTrade\",, \"T\")/100,\"\")","v":4.5709536671514651E-3},1076,1076,"S.US.IPGP",1118,"S.US.OFS"]
[null,null,"S.US.MGPI",{"$f":"IFERROR(RTD(\"cqg.rtd\", ,\"ContractData\",C1119, \"PerCentNetLastTrade\",, \"T\")/100,\"\")","v":8.0474375264718342E-3},841,841,"S.US.MGPI",1119,"S.US.AGII"]
[null,null,"S.US.PDFS",{"$f":"IFERROR(RTD(\"cqg.rtd\", ,\"ContractData\",C1120, \"PerCentNetLastTrade\",, \"T\")/100,\"\")","v":-4.2140750105351877E-4},1589,1589,"S.US.PDFS",1120,"S.US.HYND"]
[null,null,"S.US.KFRC",{"$f":"IFERROR(RTD(\"cqg.rtd\", ,\"ContractData\",C1121, \"PerCentNetLastTrade\",, \"T\")/100,\"\")","v":2.2522522522522525E-2},292,292,"S.US.KFRC",1121,"S.US.SCSS"]
[null,null,"S.US.RUTH",{"$f":"IFERROR(RTD(\"cqg.rtd\", ,\"ContractData\",C1122, \"PerCentNetLastTrade\",, \"T\")/100,\"\")","v":-7.5144508670520228E-3},2009,2009,"S.US.RUTH",1122,"S.US.DGRS"]
[null,null,"S.US.FTSM",{"$f":"IFERROR(RTD(\"cqg.rtd\", ,\"ContractData\",C1123, \"PerCentNetLastTrade\",, \"T\")/100,\"\")","v":-3.3372267645586517E-4},1578,1578,"S.US.FTSM",1123,"S.US.SGMA"]
[null,null,"S.US.GNCA",{"$f":"IFERROR(RTD(\"cqg.rtd\", ,\"ContractData\",C1124, \"PerCentNetLastTrade\",, \"T\")/100,\"\")","v":0},1425,1425,"S.US.GNCA",1124,"S.US.TRNC"]
[null,null,"S.US.TCRD",{"$f":"IFERROR(RTD(\"cqg.rtd\", ,\"ContractData\",C1125, \"PerCentNetLastTrade\",, \"T\")/100,\"\")","v":-1.9286403085824494E-3},1686,1686,"S.US.TCRD",1125,"S.US.CVBF"]
[null,null,"S.US.ABCB",{"$f":"IFERROR(RTD(\"cqg.rtd\", ,\"ContractData\",C1126, \"PerCentNetLastTrade\",, \"T\")/100,\"\")","v":1.4606741573033709E-2},507,507,"S.US.ABCB",1126,"S.US.ERI"]
[null,null,"S.US.SOHU",{"$f":"IFERROR(RTD(\"cqg.rtd\", ,\"ContractData\",C1127, \"PerCentNetLastTrade\",, \"T\")/100,\"\")","v":-9.7004279600570609E-3},2086,2086,"S.US.SOHU",1127,"S.US.NMRX"]
[null,null,"S.US.BLPH",{"$f":"IFERROR(RTD(\"cqg.rtd\", ,\"ContractData\",C1128, \"PerCentNetLastTrade\",, \"T\")/100,\"\")","v":0},1426,1426,"S.US.BLPH",1128,"S.US.MNDO"]
[null,null,"S.US.NNBR",{"$f":"IFERROR(RTD(\"cqg.rtd\", ,\"ContractData\",C1129, \"PerCentNetLastTrade\",, \"T\")/100,\"\")","v":2.0172910662824207E-2},354,354,"S.US.NNBR",1129,"S.US.FYC"]
[null,null,"S.US.CACQ",{"$f":"IFERROR(RTD(\"cqg.rtd\", ,\"ContractData\",C1130, \"PerCentNetLastTrade\",, \"T\")/100,\"\")","v":3.2888888888888884E-2},152,152,"S.US.CACQ",1130,"S.US.SLAB"]
[null,null,"S.US.HAFC",{"$f":"IFERROR(RTD(\"cqg.rtd\", ,\"ContractData\",C1131, \"PerCentNetLastTrade\",, \"T\")/100,\"\")","v":9.6930533117932146E-3},752,752,"S.US.HAFC",1131,"S.US.NSIT"]
[null,null,"S.US.PERI",{"$f":"IFERROR(RTD(\"cqg.rtd\", ,\"ContractData\",C1132, \"PerCentNetLastTrade\",, \"T\")/100,\"\")","v":8.771929824561403E-3},810,810,"S.US.PERI",1132,"S.US.SAMG"]
[null,null,"S.US.SOCL",{"$f":"IFERROR(RTD(\"cqg.rtd\", ,\"ContractData\",C1133, \"PerCentNetLastTrade\",, \"T\")/100,\"\")","v":-8.6430423509075186E-4},1618,1618,"S.US.SOCL",1133,"S.US.CNSL"]
[null,null,"S.US.DGRW",{"$f":"IFERROR(RTD(\"cqg.rtd\", ,\"ContractData\",C1134, \"PerCentNetLastTrade\",, \"T\")/100,\"\")","v":0},1427,1427,"S.US.DGRW",1134,"S.US.PTI"]
[null,null,"S.US.ZYNE",{"$f":"IFERROR(RTD(\"cqg.rtd\", ,\"ContractData\",C1135, \"PerCentNetLastTrade\",, \"T\")/100,\"\")","v":7.5528700906344411E-4},1334,1334,"S.US.ZYNE",1135,"S.US.BEAV"]
[null,null,"S.US.APTO",{"$f":"IFERROR(RTD(\"cqg.rtd\", ,\"ContractData\",C1136, \"PerCentNetLastTrade\",, \"T\")/100,\"\")","v":-2.1052631578947368E-2},2361,2361,"S.US.APTO",1136,"S.US.CSTR"]
[null,null,"S.US.OPGN",{"$f":"IFERROR(RTD(\"cqg.rtd\", ,\"ContractData\",C1137, \"PerCentNetLastTrade\",, \"T\")/100,\"\")","v":-3.5087719298245612E-2},2470,2470,"S.US.OPGN",1137,"S.US.WLTW"]
[null,null,"S.US.HSTM",{"$f":"IFERROR(RTD(\"cqg.rtd\", ,\"ContractData\",C1138, \"PerCentNetLastTrade\",, \"T\")/100,\"\")","v":5.9078377313903111E-3},985,985,"S.US.HSTM",1138,"S.US.AAON"]
[null,null,"S.US.VCLT",{"$f":"IFERROR(RTD(\"cqg.rtd\", ,\"ContractData\",C1139, \"PerCentNetLastTrade\",, \"T\")/100,\"\")","v":-1.1476147614761477E-2},2155,2155,"S.US.VCLT",1139,"S.US.CPIX"]
[null,null,"S.US.IBOC",{"$f":"IFERROR(RTD(\"cqg.rtd\", ,\"ContractData\",C1140, \"PerCentNetLastTrade\",, \"T\")/100,\"\")","v":2.3958333333333335E-2},261,261,"S.US.IBOC",1140,"S.US.CTMX"]
[null,null,"S.US.HYLS",{"$f":"IFERROR(RTD(\"cqg.rtd\", ,\"ContractData\",C1141, \"PerCentNetLastTrade\",, \"T\")/100,\"\")","v":-2.094679514034353E-4},1576,1576,"S.US.HYLS",1141,"S.US.PTGX"]
[null,null,"S.US.ASTE",{"$f":"IFERROR(RTD(\"cqg.rtd\", ,\"ContractData\",C1142, \"PerCentNetLastTrade\",, \"T\")/100,\"\")","v":-3.4379671150971598E-3},1784,1784,"S.US.ASTE",1142,"S.US.HBK"]
[null,null,"S.US.CENTA",{"$f":"IFERROR(RTD(\"cqg.rtd\", ,\"ContractData\",C1143, \"PerCentNetLastTrade\",, \"T\")/100,\"\")","v":-3.0239099859353025E-2},2440,2440,"S.US.CENTA",1143,"S.US.CWAY"]
[null,null,"S.US.SITO",{"$f":"IFERROR(RTD(\"cqg.rtd\", ,\"ContractData\",C1144, \"PerCentNetLastTrade\",, \"T\")/100,\"\")","v":-8.2644628099173556E-3},2035,2035,"S.US.SITO",1144,"S.US.XXIA"]
[null,null,"S.US.PRFT",{"$f":"IFERROR(RTD(\"cqg.rtd\", ,\"ContractData\",C1145, \"PerCentNetLastTrade\",, \"T\")/100,\"\")","v":2.7685492801771874E-3},1201,1201,"S.US.PRFT",1145,"S.US.SIFI"]
[null,null,"S.US.PTI",{"$f":"IFERROR(RTD(\"cqg.rtd\", ,\"ContractData\",C1146, \"PerCentNetLastTrade\",, \"T\")/100,\"\")","v":3.6832412523020259E-3},1134,1134,"S.US.PTI",1146,"S.US.EEMA"]
[null,null,"S.US.BDE",{"$f":"IFERROR(RTD(\"cqg.rtd\", ,\"ContractData\",C1147, \"PerCentNetLastTrade\",, \"T\")/100,\"\")","v":0},1428,1428,"S.US.BDE",1147,"S.US.AGFS"]
[null,null,"S.US.VBLT",{"$f":"IFERROR(RTD(\"cqg.rtd\", ,\"ContractData\",C1148, \"PerCentNetLastTrade\",, \"T\")/100,\"\")","v":-3.5398230088495575E-2},2472,2472,"S.US.VBLT",1148,"S.US.WRLD"]
[null,null,"S.US.NDLS",{"$f":"IFERROR(RTD(\"cqg.rtd\", ,\"ContractData\",C1149, \"PerCentNetLastTrade\",, \"T\")/100,\"\")","v":-2.0930232558139538E-2},2359,2359,"S.US.NDLS",1149,"S.US.KOOL"]
[null,null,"S.US.DAKT",{"$f":"IFERROR(RTD(\"cqg.rtd\", ,\"ContractData\",C1150, \"PerCentNetLastTrade\",, \"T\")/100,\"\")","v":7.5614366729678641E-3},875,875,"S.US.DAKT",1150,"S.US.ANIK"]
[null,null,"S.US.SORL",{"$f":"IFERROR(RTD(\"cqg.rtd\", ,\"ContractData\",C1151, \"PerCentNetLastTrade\",, \"T\")/100,\"\")","v":-2.0253164556962026E-2},2353,2353,"S.US.SORL",1151,"S.US.PICO"]
[null,null,"S.US.FRSH",{"$f":"IFERROR(RTD(\"cqg.rtd\", ,\"ContractData\",C1152, \"PerCentNetLastTrade\",, \"T\")/100,\"\")","v":-8.2644628099173556E-3},2036,2036,"S.US.FRSH",1152,"S.US.LMOS"]
[null,null,"S.US.FEX",{"$f":"IFERROR(RTD(\"cqg.rtd\", ,\"ContractData\",C1153, \"PerCentNetLastTrade\",, \"T\")/100,\"\")","v":2.477291494632535E-3},1222,1222,"S.US.FEX",1153,{"$f":"IFERROR(VLOOKUP(H1153,$F$1:$G$2860,2,FALSE),\"\")","v":"S.US.DXGE"}]
[null,null,"S.US.ENOC",{"$f":"IFERROR(RTD(\"cqg.rtd\", ,\"ContractData\",C1154, \"PerCentNetLastTrade\",, \"T\")/100,\"\")","v":8.4745762711864406E-3},825,{"$f":"IFERROR(E1154,\"\")","v":825},"S.US.ENOC",1154,"S.US.HCKT"]
[null,null,"S.US.GBDC",{"$f":"IFERROR(RTD(\"cqg.rtd\", ,\"ContractData\",C1155, \"PerCentNetLastTrade\",, \"T\")/100,\"\")","v":-5.4347826086956522E-4},1597,1597,{"$f":"C1155","v":"S.US.GBDC"},{"$f":"H1154+1","v":1155},"S.US.ITIC"]
[null,null,"S.US.NERV",{"$f":"IFERROR(RTD(\"cqg.rtd\", ,\"ContractData\",C1156, \"PerCentNetLastTrade\",, \"T\")/100,\"\")","v":6.716417910447762E-3},929,929,"S.US.NERV",1156,"S.US.CAMT"]
[null,null,"S.US.GHDX",{"$f":"IFERROR(RTD(\"cqg.rtd\", ,\"ContractData\",C1157, \"PerCentNetLastTrade\",, \"T\")/100,\"\")","v":-1.3478818998716302E-2},2211,2211,"S.US.GHDX",1157,"S.US.EEI"]
[null,null,"S.US.PBPB",{"$f":"IFERROR(RTD(\"cqg.rtd\", ,\"ContractData\",C1158, \"PerCentNetLastTrade\",, \"T\")/100,\"\")","v":8.7272727272727276E-3},812,812,"S.US.PBPB",1158,"S.US.NATR"]
[null,null,"S.US.ADVM",{"$f":"IFERROR(RTD(\"cqg.rtd\", ,\"ContractData\",C1159, \"PerCentNetLastTrade\",, \"T\")/100,\"\")","v":2.4137931034482758E-2},257,257,"S.US.ADVM",1159,"S.US.OFLX"]
[null,null,"S.US.MDGN",{"$f":"IFERROR(RTD(\"cqg.rtd\", ,\"ContractData\",C1160, \"PerCentNetLastTrade\",, \"T\")/100,\"\")","v":-3.7037037037037034E-3},1803,1803,"S.US.MDGN",1160,"S.US.DRIO"]
[null,null,"S.US.KBAL",{"$f":"IFERROR(RTD(\"cqg.rtd\", ,\"ContractData\",C1161, \"PerCentNetLastTrade\",, \"T\")/100,\"\")","v":-1.3968253968253968E-2},2222,2222,"S.US.KBAL",1161,"S.US.MDSO"]
[null,null,"S.US.RNST",{"$f":"IFERROR(RTD(\"cqg.rtd\", ,\"ContractData\",C1162, \"PerCentNetLastTrade\",, \"T\")/100,\"\")","v":1.1756061719324027E-2},634,634,"S.US.RNST",1162,"S.US.PINC"]
[null,null,"S.US.SPTN",{"$f":"IFERROR(RTD(\"cqg.rtd\", ,\"ContractData\",C1163, \"PerCentNetLastTrade\",, \"T\")/100,\"\")","v":-1.7259691980881574E-2},2301,2301,"S.US.SPTN",1163,"S.US.ENTL"]
[null,null,"S.US.CSGS",{"$f":"IFERROR(RTD(\"cqg.rtd\", ,\"ContractData\",C1164, \"PerCentNetLastTrade\",, \"T\")/100,\"\")","v":0},1429,1429,"S.US.CSGS",1164,"S.US.FHK"]
[null,null,"S.US.HNRG",{"$f":"IFERROR(RTD(\"cqg.rtd\", ,\"ContractData\",C1165, \"PerCentNetLastTrade\",, \"T\")/100,\"\")","v":-1.284796573875803E-2},2195,2195,"S.US.HNRG",1165,"S.US.TASR"]
[null,null,"S.US.QTNT",{"$f":"IFERROR(RTD(\"cqg.rtd\", ,\"ContractData\",C1166, \"PerCentNetLastTrade\",, \"T\")/100,\"\")","v":-4.0632054176072234E-2},2491,2491,"S.US.QTNT",1166,"S.US.INOV"]
[null,null,"S.US.MINI",{"$f":"IFERROR(RTD(\"cqg.rtd\", ,\"ContractData\",C1167, \"PerCentNetLastTrade\",, \"T\")/100,\"\")","v":4.8780487804878049E-3},1056,1056,"S.US.MINI",1167,"S.US.DOX"]
[null,null,"S.US.IDSA",{"$f":"IFERROR(RTD(\"cqg.rtd\", ,\"ContractData\",C1168, \"PerCentNetLastTrade\",, \"T\")/100,\"\")","v":-3.8167938931297711E-2},2481,2481,"S.US.IDSA",1168,"S.US.FSAM"]
[null,null,"S.US.HTHT",{"$f":"IFERROR(RTD(\"cqg.rtd\", ,\"ContractData\",C1169, \"PerCentNetLastTrade\",, \"T\")/100,\"\")","v":8.6505190311418692E-3},816,816,"S.US.HTHT",1169,"S.US.CGNX"]
[null,null,"S.US.HURN",{"$f":"IFERROR(RTD(\"cqg.rtd\", ,\"ContractData\",C1170, \"PerCentNetLastTrade\",, \"T\")/100,\"\")","v":4.7846889952153108E-3},1065,1065,"S.US.HURN",1170,"S.US.NHTC"]
[null,null,"S.US.TFSL",{"$f":"IFERROR(RTD(\"cqg.rtd\", ,\"ContractData\",C1171, \"PerCentNetLastTrade\",, \"T\")/100,\"\")","v":1.6059957173447537E-3},1284,1284,"S.US.TFSL",1171,"S.US.HCAP"]
[null,null,"S.US.NLST",{"$f":"IFERROR(RTD(\"cqg.rtd\", ,\"ContractData\",C1172, \"PerCentNetLastTrade\",, \"T\")/100,\"\")","v":0},1430,1430,"S.US.NLST",1172,"S.US.OPTT"]
[null,null,"S.US.SUNW",{"$f":"IFERROR(RTD(\"cqg.rtd\", ,\"ContractData\",C1173, \"PerCentNetLastTrade\",, \"T\")/100,\"\")","v":-4.4247787610619468E-3},1852,1852,"S.US.SUNW",1173,"S.US.MDGL"]
[null,null,"S.US.CNMD",{"$f":"IFERROR(RTD(\"cqg.rtd\", ,\"ContractData\",C1174, \"PerCentNetLastTrade\",, \"T\")/100,\"\")","v":-5.1465652271201609E-3},1892,1892,"S.US.CNMD",1174,"S.US.FCCO"]
[null,null,"S.US.UIHC",{"$f":"IFERROR(RTD(\"cqg.rtd\", ,\"ContractData\",C1175, \"PerCentNetLastTrade\",, \"T\")/100,\"\")","v":1.3688760806916427E-2},554,554,"S.US.UIHC",1175,"S.US.QNST"]
[null,null,"S.US.OMCL",{"$f":"IFERROR(RTD(\"cqg.rtd\", ,\"ContractData\",C1176, \"PerCentNetLastTrade\",, \"T\")/100,\"\")","v":1.1444921316165953E-2},647,647,"S.US.OMCL",1176,"S.US.VYMI"]
[null,null,"S.US.VCYT",{"$f":"IFERROR(RTD(\"cqg.rtd\", ,\"ContractData\",C1177, \"PerCentNetLastTrade\",, \"T\")/100,\"\")","v":-3.831417624521073E-3},1811,1811,"S.US.VCYT",1177,"S.US.ARRS"]
[null,null,"S.US.OMED",{"$f":"IFERROR(RTD(\"cqg.rtd\", ,\"ContractData\",C1178, \"PerCentNetLastTrade\",, \"T\")/100,\"\")","v":1.128668171557562E-3},1318,1318,"S.US.OMED",1178,"S.US.AMSF"]
[null,null,"S.US.GAIN",{"$f":"IFERROR(RTD(\"cqg.rtd\", ,\"ContractData\",C1179, \"PerCentNetLastTrade\",, \"T\")/100,\"\")","v":-7.3710073710073713E-3},2000,2000,"S.US.GAIN",1179,"S.US.NICK"]
[null,null,"S.US.CNAT",{"$f":"IFERROR(RTD(\"cqg.rtd\", ,\"ContractData\",C1180, \"PerCentNetLastTrade\",, \"T\")/100,\"\")","v":-5.3763440860215049E-3},1905,1905,"S.US.CNAT",1180,"S.US.PRGS"]
[null,null,"S.US.SGRY",{"$f":"IFERROR(RTD(\"cqg.rtd\", ,\"ContractData\",C1181, \"PerCentNetLastTrade\",, \"T\")/100,\"\")","v":1.6722408026755852E-2},437,437,"S.US.SGRY",1181,"S.US.BSTC"]
[null,null,"S.US.LPCN",{"$f":"IFERROR(RTD(\"cqg.rtd\", ,\"ContractData\",C1182, \"PerCentNetLastTrade\",, \"T\")/100,\"\")","v":1.2012012012012012E-2},623,623,"S.US.LPCN",1182,"S.US.FSLR"]
[null,null,"S.US.NVIV",{"$f":"IFERROR(RTD(\"cqg.rtd\", ,\"ContractData\",C1183, \"PerCentNetLastTrade\",, \"T\")/100,\"\")","v":1.4285714285714285E-2},522,522,"S.US.NVIV",1183,"S.US.NAII"]
[null,null,"S.US.FIBK",{"$f":"IFERROR(RTD(\"cqg.rtd\", ,\"ContractData\",C1184, \"PerCentNetLastTrade\",, \"T\")/100,\"\")","v":9.3833780160857902E-3},771,771,"S.US.FIBK",1184,"S.US.VONE"]
[null,null,"S.US.EXLS",{"$f":"IFERROR(RTD(\"cqg.rtd\", ,\"ContractData\",C1185, \"PerCentNetLastTrade\",, \"T\")/100,\"\")","v":-7.4999999999999997E-3},2008,2008,"S.US.EXLS",1185,"S.US.CKEC"]
[null,null,"S.US.ZIXI",{"$f":"IFERROR(RTD(\"cqg.rtd\", ,\"ContractData\",C1186, \"PerCentNetLastTrade\",, \"T\")/100,\"\")","v":0},1431,1431,"S.US.ZIXI",1186,"S.US.CNOB"]
[null,null,"S.US.CETX",{"$f":"IFERROR(RTD(\"cqg.rtd\", ,\"ContractData\",C1187, \"PerCentNetLastTrade\",, \"T\")/100,\"\")","v":-1.3129102844638949E-2},2201,2201,"S.US.CETX",1187,"S.US.AFH"]
[null,null,"S.US.NSIT",{"$f":"IFERROR(RTD(\"cqg.rtd\", ,\"ContractData\",C1188, \"PerCentNetLastTrade\",, \"T\")/100,\"\")","v":3.7227949599083622E-3},1131,1131,"S.US.NSIT",1188,"S.US.VIVO"]
[null,null,"S.US.RRGB",{"$f":"IFERROR(RTD(\"cqg.rtd\", ,\"ContractData\",C1189, \"PerCentNetLastTrade\",, \"T\")/100,\"\")","v":-1.5384615384615385E-3},1658,1658,"S.US.RRGB",1189,"S.US.IFGL"]
[null,null,"S.US.CBF",{"$f":"IFERROR(RTD(\"cqg.rtd\", ,\"ContractData\",C1190, \"PerCentNetLastTrade\",, \"T\")/100,\"\")","v":9.7629009762900971E-3},744,744,"S.US.CBF",1190,"S.US.QGEN"]
[null,null,"S.US.AQXP",{"$f":"IFERROR(RTD(\"cqg.rtd\", ,\"ContractData\",C1191, \"PerCentNetLastTrade\",, \"T\")/100,\"\")","v":-2.3858214042263123E-2},2384,2384,"S.US.AQXP",1191,"S.US.TRHC"]
[null,null,"S.US.PETS",{"$f":"IFERROR(RTD(\"cqg.rtd\", ,\"ContractData\",C1192, \"PerCentNetLastTrade\",, \"T\")/100,\"\")","v":2.7260336210813267E-3},1205,1205,"S.US.PETS",1192,"S.US.WSTG"]
[null,null,"S.US.CHUY",{"$f":"IFERROR(RTD(\"cqg.rtd\", ,\"ContractData\",C1193, \"PerCentNetLastTrade\",, \"T\")/100,\"\")","v":-1.5974440894568689E-3},1662,1662,"S.US.CHUY",1193,"S.US.CAR"]
[null,null,"S.US.KALU",{"$f":"IFERROR(RTD(\"cqg.rtd\", ,\"ContractData\",C1194, \"PerCentNetLastTrade\",, \"T\")/100,\"\")","v":-4.313443565780015E-3},1847,1847,"S.US.KALU",1194,"S.US.RDVY"]
[null,null,"S.US.CHEF",{"$f":"IFERROR(RTD(\"cqg.rtd\", ,\"ContractData\",C1195, \"PerCentNetLastTrade\",, \"T\")/100,\"\")","v":0},1432,1432,"S.US.CHEF",1195,"S.US.IPAR"]
[null,null,"S.US.FTD",{"$f":"IFERROR(RTD(\"cqg.rtd\", ,\"ContractData\",C1196, \"PerCentNetLastTrade\",, \"T\")/100,\"\")","v":-9.1225021720243264E-3},2066,2066,"S.US.FTD",1196,"S.US.TUBE"]
[null,null,"S.US.DRWI",{"$f":"IFERROR(RTD(\"cqg.rtd\", ,\"ContractData\",C1197, \"PerCentNetLastTrade\",, \"T\")/100,\"\")","v":0},1433,1433,"S.US.DRWI",1197,"S.US.AZPN"]
[null,null,"S.US.ECYT",{"$f":"IFERROR(RTD(\"cqg.rtd\", ,\"ContractData\",C1198, \"PerCentNetLastTrade\",, \"T\")/100,\"\")","v":0},1434,1434,"S.US.ECYT",1198,"S.US.LABL"]
[null,null,"S.US.VDTH",{"$f":"IFERROR(RTD(\"cqg.rtd\", ,\"ContractData\",C1199, \"PerCentNetLastTrade\",, \"T\")/100,\"\")","v":1.5283842794759826E-2},485,485,"S.US.VDTH",1199,"S.US.LMNR"]
[null,null,"S.US.AUDC",{"$f":"IFERROR(RTD(\"cqg.rtd\", ,\"ContractData\",C1200, \"PerCentNetLastTrade\",, \"T\")/100,\"\")","v":-1.6000000000000001E-3},1663,1663,"S.US.AUDC",1200,"S.US.III"]
[null,null,"S.US.ZFGN",{"$f":"IFERROR(RTD(\"cqg.rtd\", ,\"ContractData\",C1201, \"PerCentNetLastTrade\",, \"T\")/100,\"\")","v":1.7699115044247787E-2},420,420,"S.US.ZFGN",1201,"S.US.PRFT"]
[null,null,"S.US.VOXX",{"$f":"IFERROR(RTD(\"cqg.rtd\", ,\"ContractData\",C1202, \"PerCentNetLastTrade\",, \"T\")/100,\"\")","v":1.3725490196078431E-2},550,550,"S.US.VOXX",1202,"S.US.DERM"]
[null,null,"S.US.SYNC",{"$f":"IFERROR(RTD(\"cqg.rtd\", ,\"ContractData\",C1203, \"PerCentNetLastTrade\",, \"T\")/100,\"\")","v":-1.6393442622950821E-2},2283,2283,"S.US.SYNC",1203,"S.US.STKL"]
[null,null,"S.US.FLWS",{"$f":"IFERROR(RTD(\"cqg.rtd\", ,\"ContractData\",C1204, \"PerCentNetLastTrade\",, \"T\")/100,\"\")","v":0},1435,1435,"S.US.FLWS",1204,"S.US.MBWM"]
[null,null,"S.US.CASC",{"$f":"IFERROR(RTD(\"cqg.rtd\", ,\"ContractData\",C1205, \"PerCentNetLastTrade\",, \"T\")/100,\"\")","v":2.831858407079646E-2},200,200,"S.US.CASC",1205,"S.US.PETS"]
[null,null,"S.US.CBPO",{"$f":"IFERROR(RTD(\"cqg.rtd\", ,\"ContractData\",C1206, \"PerCentNetLastTrade\",, \"T\")/100,\"\")","v":7.6488194213501825E-3},870,870,"S.US.CBPO",1206,"S.US.HIMX"]
[null,null,"S.US.LHCG",{"$f":"IFERROR(RTD(\"cqg.rtd\", ,\"ContractData\",C1207, \"PerCentNetLastTrade\",, \"T\")/100,\"\")","v":-3.0359645025688931E-3},1757,1757,"S.US.LHCG",1207,"S.US.APOG"]
[null,null,"S.US.NSTG",{"$f":"IFERROR(RTD(\"cqg.rtd\", ,\"ContractData\",C1208, \"PerCentNetLastTrade\",, \"T\")/100,\"\")","v":-4.4843049327354259E-3},1859,1859,"S.US.NSTG",1208,"S.US.BICK"]
[null,null,"S.US.TRIB",{"$f":"IFERROR(RTD(\"cqg.rtd\", ,\"ContractData\",C1209, \"PerCentNetLastTrade\",, \"T\")/100,\"\")","v":1.6442451420029897E-2},445,445,"S.US.TRIB",1209,"S.US.PRSC"]
[null,null,"S.US.RPRX",{"$f":"IFERROR(RTD(\"cqg.rtd\", ,\"ContractData\",C1210, \"PerCentNetLastTrade\",, \"T\")/100,\"\")","v":1.1111111111111112E-2},661,661,"S.US.RPRX",1210,"S.US.DTLK"]
[null,null,"S.US.FVC",{"$f":"IFERROR(RTD(\"cqg.rtd\", ,\"ContractData\",C1211, \"PerCentNetLastTrade\",, \"T\")/100,\"\")","v":9.9009900990099011E-3},733,733,"S.US.FVC",1211,"S.US.RDHL"]
[null,null,"S.US.PLKI",{"$f":"IFERROR(RTD(\"cqg.rtd\", ,\"ContractData\",C1212, \"PerCentNetLastTrade\",, \"T\")/100,\"\")","v":-6.5897858319604609E-4},1603,1603,"S.US.PLKI",1212,"S.US.CSIQ"]
[null,null,"S.US.MTRX",{"$f":"IFERROR(RTD(\"cqg.rtd\", ,\"ContractData\",C1213, \"PerCentNetLastTrade\",, \"T\")/100,\"\")","v":4.1871921182266014E-2},89,89,"S.US.MTRX",1213,"S.US.CCOI"]
[null,null,"S.US.VGIT",{"$f":"IFERROR(RTD(\"cqg.rtd\", ,\"ContractData\",C1214, \"PerCentNetLastTrade\",, \"T\")/100,\"\")","v":-3.5658914728682171E-3},1794,1794,"S.US.VGIT",1214,"S.US.FXCM"]
[null,null,"S.US.BGNE",{"$f":"IFERROR(RTD(\"cqg.rtd\", ,\"ContractData\",C1215, \"PerCentNetLastTrade\",, \"T\")/100,\"\")","v":-6.3311174422285531E-3},1944,1944,"S.US.BGNE",1215,"S.US.FTA"]
[null,null,"S.US.CMLS",{"$f":"IFERROR(RTD(\"cqg.rtd\", ,\"ContractData\",C1216, \"PerCentNetLastTrade\",, \"T\")/100,\"\")","v":-3.1007751937984499E-2},2447,2447,"S.US.CMLS",1216,"S.US.CINF"]
[null,null,"S.US.ARDX",{"$f":"IFERROR(RTD(\"cqg.rtd\", ,\"ContractData\",C1217, \"PerCentNetLastTrade\",, \"T\")/100,\"\")","v":-1.5772870662460567E-2},2272,2272,"S.US.ARDX",1217,{"$f":"IFERROR(VLOOKUP(H1217,$F$1:$G$2860,2,FALSE),\"\")","v":"S.US.TECD"}]
[null,null,"S.US.AKBA",{"$f":"IFERROR(RTD(\"cqg.rtd\", ,\"ContractData\",C1218, \"PerCentNetLastTrade\",, \"T\")/100,\"\")","v":1.4705882352941178E-2},504,{"$f":"IFERROR(E1218,\"\")","v":504},"S.US.AKBA",1218,"S.US.SYNT"]
[null,null,"S.US.GTXI",{"$f":"IFERROR(RTD(\"cqg.rtd\", ,\"ContractData\",C1219, \"PerCentNetLastTrade\",, \"T\")/100,\"\")","v":-1.2345679012345678E-2},2178,2178,{"$f":"C1219","v":"S.US.GTXI"},{"$f":"H1218+1","v":1219},"S.US.MBVX"]
[null,null,"S.US.INDY",{"$f":"IFERROR(RTD(\"cqg.rtd\", ,\"ContractData\",C1220, \"PerCentNetLastTrade\",, \"T\")/100,\"\")","v":1.0984987184181618E-2},671,671,"S.US.INDY",1220,"S.US.TTS"]
[null,null,"S.US.FMI",{"$f":"IFERROR(RTD(\"cqg.rtd\", ,\"ContractData\",C1221, \"PerCentNetLastTrade\",, \"T\")/100,\"\")","v":-4.6511627906976744E-2},2505,2505,"S.US.FMI",1221,"S.US.TBNK"]
[null,null,"S.US.HELE",{"$f":"IFERROR(RTD(\"cqg.rtd\", ,\"ContractData\",C1222, \"PerCentNetLastTrade\",, \"T\")/100,\"\")","v":-1.1952191235059761E-2},2171,2171,"S.US.HELE",1222,"S.US.FEX"]
[null,null,"S.US.RXDX",{"$f":"IFERROR(RTD(\"cqg.rtd\", ,\"ContractData\",C1223, \"PerCentNetLastTrade\",, \"T\")/100,\"\")","v":2.3622047244094488E-2},271,271,"S.US.RXDX",1223,"S.US.AIXG"]
[null,null,"S.US.ACRX",{"$f":"IFERROR(RTD(\"cqg.rtd\", ,\"ContractData\",C1224, \"PerCentNetLastTrade\",, \"T\")/100,\"\")","v":1.6666666666666666E-2},440,440,"S.US.ACRX",1224,"S.US.AAXJ"]
[null,null,"S.US.TUSK",{"$f":"IFERROR(RTD(\"cqg.rtd\", ,\"ContractData\",C1225, \"PerCentNetLastTrade\",, \"T\")/100,\"\")","v":2.160702228224173E-2},316,316,"S.US.TUSK",1225,"S.US.PFSW"]
[null,null,"S.US.SPEX",{"$f":"IFERROR(RTD(\"cqg.rtd\", ,\"ContractData\",C1226, \"PerCentNetLastTrade\",, \"T\")/100,\"\")","v":-5.1724137931034482E-2},2518,2518,"S.US.SPEX",1226,"S.US.DENN"]
[null,null,"S.US.MMLP",{"$f":"IFERROR(RTD(\"cqg.rtd\", ,\"ContractData\",C1227, \"PerCentNetLastTrade\",, \"T\")/100,\"\")","v":3.3742331288343558E-2},146,146,"S.US.MMLP",1227,"S.US.ATSG"]
[null,null,"S.US.TBIO",{"$f":"IFERROR(RTD(\"cqg.rtd\", ,\"ContractData\",C1228, \"PerCentNetLastTrade\",, \"T\")/100,\"\")","v":-0.17391304347826086},2570,2570,"S.US.TBIO",1228,"S.US.RSYS"]
[null,null,"S.US.NANO",{"$f":"IFERROR(RTD(\"cqg.rtd\", ,\"ContractData\",C1229, \"PerCentNetLastTrade\",, \"T\")/100,\"\")","v":9.9091659785301399E-3},730,730,"S.US.NANO",1229,"S.US.FFWM"]
[null,null,"S.US.AOSL",{"$f":"IFERROR(RTD(\"cqg.rtd\", ,\"ContractData\",C1230, \"PerCentNetLastTrade\",, \"T\")/100,\"\")","v":-5.6521739130434775E-3},1913,1913,"S.US.AOSL",1230,"S.US.LKQ"]
[null,null,"S.US.VLTC",{"$f":"IFERROR(RTD(\"cqg.rtd\", ,\"ContractData\",C1231, \"PerCentNetLastTrade\",, \"T\")/100,\"\")","v":0.1111111111111111},15,15,"S.US.VLTC",1231,"S.US.QCOM"]
[null,null,"S.US.ORIT",{"$f":"IFERROR(RTD(\"cqg.rtd\", ,\"ContractData\",C1232, \"PerCentNetLastTrade\",, \"T\")/100,\"\")","v":8.4507042253521118E-3},826,826,"S.US.ORIT",1232,"S.US.UCFC"]
[null,null,"S.US.INVT",{"$f":"IFERROR(RTD(\"cqg.rtd\", ,\"ContractData\",C1233, \"PerCentNetLastTrade\",, \"T\")/100,\"\")","v":-3.2786885245901641E-2},2461,2461,"S.US.INVT",1233,"S.US.QADA"]
[null,null,"S.US.FTGC",{"$f":"IFERROR(RTD(\"cqg.rtd\", ,\"ContractData\",C1234, \"PerCentNetLastTrade\",, \"T\")/100,\"\")","v":1.1881188118811881E-2},626,626,"S.US.FTGC",1234,"S.US.IFV"]
[null,null,"S.US.ANDE",{"$f":"IFERROR(RTD(\"cqg.rtd\", ,\"ContractData\",C1235, \"PerCentNetLastTrade\",, \"T\")/100,\"\")","v":1.4138817480719794E-2},530,530,"S.US.ANDE",1235,"S.US.TTGT"]
[null,null,"S.US.GURE",{"$f":"IFERROR(RTD(\"cqg.rtd\", ,\"ContractData\",C1236, \"PerCentNetLastTrade\",, \"T\")/100,\"\")","v":0},1436,1436,"S.US.GURE",1236,"S.US.CREE"]
[null,null,"S.US.MOSY",{"$f":"IFERROR(RTD(\"cqg.rtd\", ,\"ContractData\",C1237, \"PerCentNetLastTrade\",, \"T\")/100,\"\")","v":-2.7777777777777776E-2},2423,2423,"S.US.MOSY",1237,"S.US.VNQI"]
[null,null,"S.US.MCEP",{"$f":"IFERROR(RTD(\"cqg.rtd\", ,\"ContractData\",C1238, \"PerCentNetLastTrade\",, \"T\")/100,\"\")","v":0.18957345971563982},4,4,"S.US.MCEP",1238,"S.US.GBNK"]
[null,null,"S.US.LMAT",{"$f":"IFERROR(RTD(\"cqg.rtd\", ,\"ContractData\",C1239, \"PerCentNetLastTrade\",, \"T\")/100,\"\")","v":-1.550387596899225E-2},2268,2268,"S.US.LMAT",1239,"S.US.PRTA"]
[null,null,"S.US.CALA",{"$f":"IFERROR(RTD(\"cqg.rtd\", ,\"ContractData\",C1240, \"PerCentNetLastTrade\",, \"T\")/100,\"\")","v":2.388059701492537E-2},263,263,"S.US.CALA",1240,"S.US.NCBS"]
[null,null,"S.US.EVLV",{"$f":"IFERROR(RTD(\"cqg.rtd\", ,\"ContractData\",C1241, \"PerCentNetLastTrade\",, \"T\")/100,\"\")","v":1.2195121951219513E-2},616,616,"S.US.EVLV",1241,"S.US.ADAP"]
[null,null,"S.US.TCPC",{"$f":"IFERROR(RTD(\"cqg.rtd\", ,\"ContractData\",C1242, \"PerCentNetLastTrade\",, \"T\")/100,\"\")","v":-5.9171597633136093E-3},1926,1926,"S.US.TCPC",1242,"S.US.CHRW"]
[null,null,"S.US.APPS",{"$f":"IFERROR(RTD(\"cqg.rtd\", ,\"ContractData\",C1243, \"PerCentNetLastTrade\",, \"T\")/100,\"\")","v":0},1437,1437,"S.US.APPS",1243,"S.US.IRDM"]
[null,null,"S.US.DFRG",{"$f":"IFERROR(RTD(\"cqg.rtd\", ,\"ContractData\",C1244, \"PerCentNetLastTrade\",, \"T\")/100,\"\")","v":1.1976047904191616E-2},624,624,"S.US.DFRG",1244,"S.US.RMBS"]
[null,null,"S.US.GLAD",{"$f":"IFERROR(RTD(\"cqg.rtd\", ,\"ContractData\",C1245, \"PerCentNetLastTrade\",, \"T\")/100,\"\")","v":0},1438,1438,"S.US.GLAD",1245,"S.US.EXTR"]
[null,null,"S.US.PLXS",{"$f":"IFERROR(RTD(\"cqg.rtd\", ,\"ContractData\",C1246, \"PerCentNetLastTrade\",, \"T\")/100,\"\")","v":1.0650887573964499E-2},686,686,"S.US.PLXS",1246,"S.US.WCFB"]
[null,null,"S.US.FTSL",{"$f":"IFERROR(RTD(\"cqg.rtd\", ,\"ContractData\",C1247, \"PerCentNetLastTrade\",, \"T\")/100,\"\")","v":-2.0755500207555002E-4},1575,1575,"S.US.FTSL",1247,"S.US.AMAT"]
[null,null,"S.US.INWK",{"$f":"IFERROR(RTD(\"cqg.rtd\", ,\"ContractData\",C1248, \"PerCentNetLastTrade\",, \"T\")/100,\"\")","v":5.2854122621564482E-3},1028,1028,"S.US.INWK",1248,"S.US.CNXN"]
[null,null,"S.US.VSAR",{"$f":"IFERROR(RTD(\"cqg.rtd\", ,\"ContractData\",C1249, \"PerCentNetLastTrade\",, \"T\")/100,\"\")","v":1.5936254980079681E-2},460,460,"S.US.VSAR",1249,"S.US.MESO"]
[null,null,"S.US.LBRDA",{"$f":"IFERROR(RTD(\"cqg.rtd\", ,\"ContractData\",C1250, \"PerCentNetLastTrade\",, \"T\")/100,\"\")","v":-1.7558886509635975E-2},2304,2304,"S.US.LBRDA",1250,"S.US.SHBI"]
[null,null,"S.US.ABTL",{"$f":"IFERROR(RTD(\"cqg.rtd\", ,\"ContractData\",C1251, \"PerCentNetLastTrade\",, \"T\")/100,\"\")","v":2.981818181818182E-2},186,186,"S.US.ABTL",1251,"S.US.ALLT"]
[null,null,"S.US.CGNT",{"$f":"IFERROR(RTD(\"cqg.rtd\", ,\"ContractData\",C1252, \"PerCentNetLastTrade\",, \"T\")/100,\"\")","v":7.407407407407407E-2},31,31,"S.US.CGNT",1252,"S.US.HTBI"]
[null,null,"S.US.QABA",{"$f":"IFERROR(RTD(\"cqg.rtd\", ,\"ContractData\",C1253, \"PerCentNetLastTrade\",, \"T\")/100,\"\")","v":1.1361330898762427E-2},653,653,"S.US.QABA",1253,"S.US.HONE"]
[null,null,"S.US.ESIO",{"$f":"IFERROR(RTD(\"cqg.rtd\", ,\"ContractData\",C1254, \"PerCentNetLastTrade\",, \"T\")/100,\"\")","v":9.1743119266055051E-3},783,783,"S.US.ESIO",1254,"S.US.PTNR"]
[null,null,"S.US.AGTC",{"$f":"IFERROR(RTD(\"cqg.rtd\", ,\"ContractData\",C1255, \"PerCentNetLastTrade\",, \"T\")/100,\"\")","v":2.1052631578947368E-2},334,334,"S.US.AGTC",1255,"S.US.MU"]
[null,null,"S.US.AGII",{"$f":"IFERROR(RTD(\"cqg.rtd\", ,\"ContractData\",C1256, \"PerCentNetLastTrade\",, \"T\")/100,\"\")","v":3.9215686274509803E-3},1119,1119,"S.US.AGII",1256,"S.US.FNWB"]
[null,null,"S.US.RDNT",{"$f":"IFERROR(RTD(\"cqg.rtd\", ,\"ContractData\",C1257, \"PerCentNetLastTrade\",, \"T\")/100,\"\")","v":3.2786885245901641E-2},153,153,"S.US.RDNT",1257,"S.US.CECO"]
[null,null,"S.US.EKSO",{"$f":"IFERROR(RTD(\"cqg.rtd\", ,\"ContractData\",C1258, \"PerCentNetLastTrade\",, \"T\")/100,\"\")","v":-1.7977528089887639E-2},2314,2314,"S.US.EKSO",1258,"S.US.PCTI"]
[null,null,"S.US.DSLV",{"$f":"IFERROR(RTD(\"cqg.rtd\", ,\"ContractData\",C1259, \"PerCentNetLastTrade\",, \"T\")/100,\"\")","v":1.7235552551537681E-2},365,365,"S.US.DSLV",1259,"S.US.JVA"]
[null,null,"S.US.CETV",{"$f":"IFERROR(RTD(\"cqg.rtd\", ,\"ContractData\",C1260, \"PerCentNetLastTrade\",, \"T\")/100,\"\")","v":7.5471698113207556E-3},878,878,"S.US.CETV",1260,"S.US.FEM"]
[null,null,"S.US.ZEUS",{"$f":"IFERROR(RTD(\"cqg.rtd\", ,\"ContractData\",C1261, \"PerCentNetLastTrade\",, \"T\")/100,\"\")","v":3.0351437699680513E-2},179,179,"S.US.ZEUS",1261,"S.US.COBZ"]
[null,null,"S.US.NEWT",{"$f":"IFERROR(RTD(\"cqg.rtd\", ,\"ContractData\",C1262, \"PerCentNetLastTrade\",, \"T\")/100,\"\")","v":-5.8177117000646414E-3},1921,1921,"S.US.NEWT",1262,"S.US.CMRX"]
[null,null,"S.US.CISG",{"$f":"IFERROR(RTD(\"cqg.rtd\", ,\"ContractData\",C1263, \"PerCentNetLastTrade\",, \"T\")/100,\"\")","v":-2.1253985122210413E-3},1699,1699,"S.US.CISG",1263,"S.US.CDW"]
[null,null,"S.US.ACLS",{"$f":"IFERROR(RTD(\"cqg.rtd\", ,\"ContractData\",C1264, \"PerCentNetLastTrade\",, \"T\")/100,\"\")","v":8.7912087912087912E-3},807,807,"S.US.ACLS",1264,"S.US.BLMT"]
[null,null,"S.US.AIRR",{"$f":"IFERROR(RTD(\"cqg.rtd\", ,\"ContractData\",C1265, \"PerCentNetLastTrade\",, \"T\")/100,\"\")","v":1.222707423580786E-2},614,614,"S.US.AIRR",1265,"S.US.XNCR"]
[null,null,"S.US.ACAT",{"$f":"IFERROR(RTD(\"cqg.rtd\", ,\"ContractData\",C1266, \"PerCentNetLastTrade\",, \"T\")/100,\"\")","v":9.6030729833546727E-3},757,757,"S.US.ACAT",1266,"S.US.FAD"]
[null,null,"S.US.MYRG",{"$f":"IFERROR(RTD(\"cqg.rtd\", ,\"ContractData\",C1267, \"PerCentNetLastTrade\",, \"T\")/100,\"\")","v":1.1043912700499606E-2},666,666,"S.US.MYRG",1267,"S.US.CERS"]
[null,null,"S.US.AVAV",{"$f":"IFERROR(RTD(\"cqg.rtd\", ,\"ContractData\",C1268, \"PerCentNetLastTrade\",, \"T\")/100,\"\")","v":1.2775017743080199E-2},584,584,"S.US.AVAV",1268,"S.US.OSHC"]
[null,null,"S.US.JBSS",{"$f":"IFERROR(RTD(\"cqg.rtd\", ,\"ContractData\",C1269, \"PerCentNetLastTrade\",, \"T\")/100,\"\")","v":-8.9733840304182504E-3},2063,2063,"S.US.JBSS",1269,"S.US.CNV"]
[null,null,"S.US.VRA",{"$f":"IFERROR(RTD(\"cqg.rtd\", ,\"ContractData\",C1270, \"PerCentNetLastTrade\",, \"T\")/100,\"\")","v":-7.2799470549305099E-3},1994,1994,"S.US.VRA",1270,"S.US.NXPI"]
[null,null,"S.US.BLRX",{"$f":"IFERROR(RTD(\"cqg.rtd\", ,\"ContractData\",C1271, \"PerCentNetLastTrade\",, \"T\")/100,\"\")","v":9.9009900990099011E-3},734,734,"S.US.BLRX",1271,"S.US.HOFT"]
[null,null,"S.US.EARS",{"$f":"IFERROR(RTD(\"cqg.rtd\", ,\"ContractData\",C1272, \"PerCentNetLastTrade\",, \"T\")/100,\"\")","v":-8.1300813008130073E-3},2029,2029,"S.US.EARS",1272,"S.US.FTC"]
[null,null,"S.US.PRMW",{"$f":"IFERROR(RTD(\"cqg.rtd\", ,\"ContractData\",C1273, \"PerCentNetLastTrade\",, \"T\")/100,\"\")","v":-3.831417624521073E-3},1812,1812,"S.US.PRMW",1273,"S.US.PAHC"]
[null,null,"S.US.ADAP",{"$f":"IFERROR(RTD(\"cqg.rtd\", ,\"ContractData\",C1274, \"PerCentNetLastTrade\",, \"T\")/100,\"\")","v":2.2779043280182231E-3},1241,1241,"S.US.ADAP",1274,"S.US.ATTU"]
[null,null,"S.US.AMWD",{"$f":"IFERROR(RTD(\"cqg.rtd\", ,\"ContractData\",C1275, \"PerCentNetLastTrade\",, \"T\")/100,\"\")","v":5.0473186119873821E-4},1352,1352,"S.US.AMWD",1275,"S.US.QQQC"]
[null,null,"S.US.TPIC",{"$f":"IFERROR(RTD(\"cqg.rtd\", ,\"ContractData\",C1276, \"PerCentNetLastTrade\",, \"T\")/100,\"\")","v":2.2132796780684104E-2},304,304,"S.US.TPIC",1276,"S.US.HYZD"]
[null,null,"S.US.TECH",{"$f":"IFERROR(RTD(\"cqg.rtd\", ,\"ContractData\",C1277, \"PerCentNetLastTrade\",, \"T\")/100,\"\")","v":-1.2350299401197605E-2},2180,2180,"S.US.TECH",1277,"S.US.AEPI"]
[null,null,"S.US.GK",{"$f":"IFERROR(RTD(\"cqg.rtd\", ,\"ContractData\",C1278, \"PerCentNetLastTrade\",, \"T\")/100,\"\")","v":1.6633745711612433E-3},1280,1280,"S.US.GK",1278,"S.US.FNHC"]
[null,null,"S.US.PSMT",{"$f":"IFERROR(RTD(\"cqg.rtd\", ,\"ContractData\",C1279, \"PerCentNetLastTrade\",, \"T\")/100,\"\")","v":1.6547159404302261E-3},1282,1282,"S.US.PSMT",1279,"S.US.KERX"]
[null,null,"S.US.CDZI",{"$f":"IFERROR(RTD(\"cqg.rtd\", ,\"ContractData\",C1280, \"PerCentNetLastTrade\",, \"T\")/100,\"\")","v":2.2222222222222223E-2},302,302,"S.US.CDZI",1280,"S.US.GK"]
[null,null,"S.US.HTLF",{"$f":"IFERROR(RTD(\"cqg.rtd\", ,\"ContractData\",C1281, \"PerCentNetLastTrade\",, \"T\")/100,\"\")","v":1.0477299185098952E-2},697,697,"S.US.HTLF",1281,{"$f":"IFERROR(VLOOKUP(H1281,$F$1:$G$2860,2,FALSE),\"\")","v":"S.US.AMKR"}]
[null,null,"S.US.CHW",{"$f":"IFERROR(RTD(\"cqg.rtd\", ,\"ContractData\",C1282, \"PerCentNetLastTrade\",, \"T\")/100,\"\")","v":-8.3102493074792231E-3},2037,{"$f":"IFERROR(E1282,\"\")","v":2037},"S.US.CHW",1282,"S.US.PSMT"]
[null,null,"S.US.FWRD",{"$f":"IFERROR(RTD(\"cqg.rtd\", ,\"ContractData\",C1283, \"PerCentNetLastTrade\",, \"T\")/100,\"\")","v":1.1259382819015847E-2},656,656,{"$f":"C1283","v":"S.US.FWRD"},{"$f":"H1282+1","v":1283},"S.US.SONS"]
[null,null,"S.US.ACIU",{"$f":"IFERROR(RTD(\"cqg.rtd\", ,\"ContractData\",C1284, \"PerCentNetLastTrade\",, \"T\")/100,\"\")","v":6.7453625632377745E-3},926,926,"S.US.ACIU",1284,"S.US.TFSL"]
[null,null,"S.US.BREW",{"$f":"IFERROR(RTD(\"cqg.rtd\", ,\"ContractData\",C1285, \"PerCentNetLastTrade\",, \"T\")/100,\"\")","v":1.6286644951140065E-2},451,451,"S.US.BREW",1285,"S.US.AMNB"]
[null,null,"S.US.RTIX",{"$f":"IFERROR(RTD(\"cqg.rtd\", ,\"ContractData\",C1286, \"PerCentNetLastTrade\",, \"T\")/100,\"\")","v":3.3898305084745763E-2},144,144,"S.US.RTIX",1286,"S.US.NVMI"]
[null,null,"S.US.GBNK",{"$f":"IFERROR(RTD(\"cqg.rtd\", ,\"ContractData\",C1287, \"PerCentNetLastTrade\",, \"T\")/100,\"\")","v":2.331002331002331E-3},1238,1238,"S.US.GBNK",1287,"S.US.RFEU"]
[null,null,"S.US.OTIC",{"$f":"IFERROR(RTD(\"cqg.rtd\", ,\"ContractData\",C1288, \"PerCentNetLastTrade\",, \"T\")/100,\"\")","v":1.6901408450704224E-2},432,432,"S.US.OTIC",1288,"S.US.HAIN"]
[null,null,"S.US.EVBG",{"$f":"IFERROR(RTD(\"cqg.rtd\", ,\"ContractData\",C1289, \"PerCentNetLastTrade\",, \"T\")/100,\"\")","v":-4.148606811145511E-2},2493,2493,"S.US.EVBG",1289,"S.US.SNC"]
[null,null,"S.US.FSFR",{"$f":"IFERROR(RTD(\"cqg.rtd\", ,\"ContractData\",C1290, \"PerCentNetLastTrade\",, \"T\")/100,\"\")","v":-1.7970401691331923E-2},2313,2313,"S.US.FSFR",1290,"S.US.PCOM"]
[null,null,"S.US.XCRA",{"$f":"IFERROR(RTD(\"cqg.rtd\", ,\"ContractData\",C1291, \"PerCentNetLastTrade\",, \"T\")/100,\"\")","v":-6.1068702290076335E-3},1932,1932,"S.US.XCRA",1291,"S.US.FTHI"]
[null,null,"S.US.NETE",{"$f":"IFERROR(RTD(\"cqg.rtd\", ,\"ContractData\",C1292, \"PerCentNetLastTrade\",, \"T\")/100,\"\")","v":1.1111111111111112E-2},662,662,"S.US.NETE",1292,"S.US.LSCC"]
[null,null,"S.US.NEOG",{"$f":"IFERROR(RTD(\"cqg.rtd\", ,\"ContractData\",C1293, \"PerCentNetLastTrade\",, \"T\")/100,\"\")","v":1.1031175059952039E-2},667,667,"S.US.NEOG",1293,"S.US.SAFT"]
[null,null,"S.US.SATS",{"$f":"IFERROR(RTD(\"cqg.rtd\", ,\"ContractData\",C1294, \"PerCentNetLastTrade\",, \"T\")/100,\"\")","v":4.1791044776119399E-3},1099,1099,"S.US.SATS",1294,"S.US.FFKT"]
[null,null,"S.US.LBAI",{"$f":"IFERROR(RTD(\"cqg.rtd\", ,\"ContractData\",C1295, \"PerCentNetLastTrade\",, \"T\")/100,\"\")","v":1.4326647564469915E-2},520,520,"S.US.LBAI",1295,"S.US.MATW"]
[null,null,"S.US.OCLS",{"$f":"IFERROR(RTD(\"cqg.rtd\", ,\"ContractData\",C1296, \"PerCentNetLastTrade\",, \"T\")/100,\"\")","v":-1.6563146997929608E-2},2289,2289,"S.US.OCLS",1296,"S.US.FTXL"]
[null,null,"S.US.GNCMA",{"$f":"IFERROR(RTD(\"cqg.rtd\", ,\"ContractData\",C1297, \"PerCentNetLastTrade\",, \"T\")/100,\"\")","v":9.4506792675723567E-3},766,766,"S.US.GNCMA",1297,"S.US.IPXL"]
[null,null,"S.US.UBNK",{"$f":"IFERROR(RTD(\"cqg.rtd\", ,\"ContractData\",C1298, \"PerCentNetLastTrade\",, \"T\")/100,\"\")","v":1.3040901007705987E-2},575,575,"S.US.UBNK",1298,"S.US.CME"]
[null,null,"S.US.CFNL",{"$f":"IFERROR(RTD(\"cqg.rtd\", ,\"ContractData\",C1299, \"PerCentNetLastTrade\",, \"T\")/100,\"\")","v":1.2816505157861834E-2},581,581,"S.US.CFNL",1299,"S.US.FHB"]
[null,null,"S.US.JAGX",{"$f":"IFERROR(RTD(\"cqg.rtd\", ,\"ContractData\",C1300, \"PerCentNetLastTrade\",, \"T\")/100,\"\")","v":7.2463768115942032E-2},34,34,"S.US.JAGX",1300,"S.US.DNKN"]
[null,null,"S.US.KCAP",{"$f":"IFERROR(RTD(\"cqg.rtd\", ,\"ContractData\",C1301, \"PerCentNetLastTrade\",, \"T\")/100,\"\")","v":0},1439,1439,"S.US.KCAP",1301,"S.US.PNQI"]
[null,null,"S.US.DORM",{"$f":"IFERROR(RTD(\"cqg.rtd\", ,\"ContractData\",C1302, \"PerCentNetLastTrade\",, \"T\")/100,\"\")","v":6.7283431455004202E-3},927,927,"S.US.DORM",1302,"S.US.QCRH"]
[null,null,"S.US.OTIV",{"$f":"IFERROR(RTD(\"cqg.rtd\", ,\"ContractData\",C1303, \"PerCentNetLastTrade\",, \"T\")/100,\"\")","v":0},1440,1440,"S.US.OTIV",1303,"S.US.LORL"]
[null,null,"S.US.WSFS",{"$f":"IFERROR(RTD(\"cqg.rtd\", ,\"ContractData\",C1304, \"PerCentNetLastTrade\",, \"T\")/100,\"\")","v":1.1778563015312131E-2},630,630,"S.US.WSFS",1304,"S.US.HDSN"]
[null,null,"S.US.CCMP",{"$f":"IFERROR(RTD(\"cqg.rtd\", ,\"ContractData\",C1305, \"PerCentNetLastTrade\",, \"T\")/100,\"\")","v":-1.1647254575707154E-3},1635,1635,"S.US.CCMP",1305,"S.US.PFIN"]
[null,null,"S.US.AVGR",{"$f":"IFERROR(RTD(\"cqg.rtd\", ,\"ContractData\",C1306, \"PerCentNetLastTrade\",, \"T\")/100,\"\")","v":-5.8227848101265821E-2},2533,2533,"S.US.AVGR",1306,"S.US.WVVI"]
[null,null,"S.US.POWI",{"$f":"IFERROR(RTD(\"cqg.rtd\", ,\"ContractData\",C1307, \"PerCentNetLastTrade\",, \"T\")/100,\"\")","v":0},1441,1441,"S.US.POWI",1307,"S.US.MLNX"]
[null,null,"S.US.PPBI",{"$f":"IFERROR(RTD(\"cqg.rtd\", ,\"ContractData\",C1308, \"PerCentNetLastTrade\",, \"T\")/100,\"\")","v":1.7133956386292833E-2},428,428,"S.US.PPBI",1308,"S.US.CRAI"]
[null,null,"S.US.AAON",{"$f":"IFERROR(RTD(\"cqg.rtd\", ,\"ContractData\",C1309, \"PerCentNetLastTrade\",, \"T\")/100,\"\")","v":3.6144578313253013E-3},1138,1138,"S.US.AAON",1309,"S.US.UHAL"]
[null,null,"S.US.MATN",{"$f":"IFERROR(RTD(\"cqg.rtd\", ,\"ContractData\",C1310, \"PerCentNetLastTrade\",, \"T\")/100,\"\")","v":-2.4390243902439025E-2},2391,2391,"S.US.MATN",1310,"S.US.VNDA"]
[null,null,"S.US.IEP",{"$f":"IFERROR(RTD(\"cqg.rtd\", ,\"ContractData\",C1311, \"PerCentNetLastTrade\",, \"T\")/100,\"\")","v":1.5357142857142857E-2},481,481,"S.US.IEP",1311,"S.US.STRZA"]
[null,null,"S.US.HFWA",{"$f":"IFERROR(RTD(\"cqg.rtd\", ,\"ContractData\",C1312, \"PerCentNetLastTrade\",, \"T\")/100,\"\")","v":1.5452538631346577E-2},480,480,"S.US.HFWA",1312,"S.US.INFN"]
[null,null,"S.US.AIMC",{"$f":"IFERROR(RTD(\"cqg.rtd\", ,\"ContractData\",C1313, \"PerCentNetLastTrade\",, \"T\")/100,\"\")","v":1.7441860465116279E-2},424,424,"S.US.AIMC",1313,"S.US.NXTM"]
[null,null,"S.US.KIN",{"$f":"IFERROR(RTD(\"cqg.rtd\", ,\"ContractData\",C1314, \"PerCentNetLastTrade\",, \"T\")/100,\"\")","v":3.4482758620689655E-2},141,141,"S.US.KIN",1314,"S.US.ACAS"]
[null,null,"S.US.BBRG",{"$f":"IFERROR(RTD(\"cqg.rtd\", ,\"ContractData\",C1315, \"PerCentNetLastTrade\",, \"T\")/100,\"\")","v":0},1442,1442,"S.US.BBRG",1315,"S.US.PSCD"]
[null,null,"S.US.ELOS",{"$f":"IFERROR(RTD(\"cqg.rtd\", ,\"ContractData\",C1316, \"PerCentNetLastTrade\",, \"T\")/100,\"\")","v":0},1443,1443,"S.US.ELOS",1316,"S.US.BCPC"]
[null,null,"S.US.RAVN",{"$f":"IFERROR(RTD(\"cqg.rtd\", ,\"ContractData\",C1317, \"PerCentNetLastTrade\",, \"T\")/100,\"\")","v":0.01},723,723,"S.US.RAVN",1317,"S.US.ASRVP"]
[null,null,"S.US.ATRO",{"$f":"IFERROR(RTD(\"cqg.rtd\", ,\"ContractData\",C1318, \"PerCentNetLastTrade\",, \"T\")/100,\"\")","v":7.9850944902848007E-4},1332,1332,"S.US.ATRO",1318,"S.US.OMED"]
[null,null,"S.US.UNXL",{"$f":"IFERROR(RTD(\"cqg.rtd\", ,\"ContractData\",C1319, \"PerCentNetLastTrade\",, \"T\")/100,\"\")","v":-8.1967213114754103E-3},2031,2031,"S.US.UNXL",1319,"S.US.VASC"]
[null,null,"S.US.INTX",{"$f":"IFERROR(RTD(\"cqg.rtd\", ,\"ContractData\",C1320, \"PerCentNetLastTrade\",, \"T\")/100,\"\")","v":3.3018867924528301E-2},151,151,"S.US.INTX",1320,"S.US.ACXM"]
[null,null,"S.US.APTI",{"$f":"IFERROR(RTD(\"cqg.rtd\", ,\"ContractData\",C1321, \"PerCentNetLastTrade\",, \"T\")/100,\"\")","v":-1.3258541560428352E-2},2206,2206,"S.US.APTI",1321,"S.US.CYNO"]
[null,null,"S.US.DIOD",{"$f":"IFERROR(RTD(\"cqg.rtd\", ,\"ContractData\",C1322, \"PerCentNetLastTrade\",, \"T\")/100,\"\")","v":7.0892410341951628E-3},901,901,"S.US.DIOD",1322,"S.US.PRXL"]
[null,null,"S.US.RSYS",{"$f":"IFERROR(RTD(\"cqg.rtd\", ,\"ContractData\",C1323, \"PerCentNetLastTrade\",, \"T\")/100,\"\")","v":2.4271844660194177E-3},1228,1228,"S.US.RSYS",1323,"S.US.ACWX"]
[null,null,"S.US.FCSC",{"$f":"IFERROR(RTD(\"cqg.rtd\", ,\"ContractData\",C1324, \"PerCentNetLastTrade\",, \"T\")/100,\"\")","v":-5.5555555555555552E-2},2528,2528,"S.US.FCSC",1324,"S.US.JSYN"]
[null,null,"S.US.CVGI",{"$f":"IFERROR(RTD(\"cqg.rtd\", ,\"ContractData\",C1325, \"PerCentNetLastTrade\",, \"T\")/100,\"\")","v":2.3762376237623763E-2},269,269,"S.US.CVGI",1325,"S.US.CSQ"]
[null,null,"S.US.IMI",{"$f":"IFERROR(RTD(\"cqg.rtd\", ,\"ContractData\",C1326, \"PerCentNetLastTrade\",, \"T\")/100,\"\")","v":9.9009900990099011E-3},735,735,"S.US.IMI",1326,"S.US.ANAT"]
[null,null,"S.US.CVTI",{"$f":"IFERROR(RTD(\"cqg.rtd\", ,\"ContractData\",C1327, \"PerCentNetLastTrade\",, \"T\")/100,\"\")","v":5.8027079303675042E-3},993,993,"S.US.CVTI",1327,"S.US.CGO"]
[null,null,"S.US.BKMU",{"$f":"IFERROR(RTD(\"cqg.rtd\", ,\"ContractData\",C1328, \"PerCentNetLastTrade\",, \"T\")/100,\"\")","v":0},1444,1444,"S.US.BKMU",1328,"S.US.CPRT"]
[null,null,"S.US.WABC",{"$f":"IFERROR(RTD(\"cqg.rtd\", ,\"ContractData\",C1329, \"PerCentNetLastTrade\",, \"T\")/100,\"\")","v":1.6672115070284405E-2},439,439,"S.US.WABC",1329,"S.US.ULTA"]
[null,null,"S.US.MSTR",{"$f":"IFERROR(RTD(\"cqg.rtd\", ,\"ContractData\",C1330, \"PerCentNetLastTrade\",, \"T\")/100,\"\")","v":-7.2734723147057315E-3},1993,1993,"S.US.MSTR",1330,"S.US.BRCD"]
[null,null,"S.US.SASR",{"$f":"IFERROR(RTD(\"cqg.rtd\", ,\"ContractData\",C1331, \"PerCentNetLastTrade\",, \"T\")/100,\"\")","v":1.3089719116443958E-2},574,574,"S.US.SASR",1331,"S.US.PTSI"]
[null,null,"S.US.ADMS",{"$f":"IFERROR(RTD(\"cqg.rtd\", ,\"ContractData\",C1332, \"PerCentNetLastTrade\",, \"T\")/100,\"\")","v":1.4521452145214522E-2},509,509,"S.US.ADMS",1332,"S.US.ATRO"]
[null,null,"S.US.UBSH",{"$f":"IFERROR(RTD(\"cqg.rtd\", ,\"ContractData\",C1333, \"PerCentNetLastTrade\",, \"T\")/100,\"\")","v":1.9503546099290781E-2},368,368,"S.US.UBSH",1333,"S.US.KEYW"]
[null,null,"S.US.KE",{"$f":"IFERROR(RTD(\"cqg.rtd\", ,\"ContractData\",C1334, \"PerCentNetLastTrade\",, \"T\")/100,\"\")","v":1.4124293785310736E-2},531,531,"S.US.KE",1334,"S.US.ZYNE"]
[null,null,"S.US.STML",{"$f":"IFERROR(RTD(\"cqg.rtd\", ,\"ContractData\",C1335, \"PerCentNetLastTrade\",, \"T\")/100,\"\")","v":1.5209125475285169E-2},488,488,"S.US.STML",1335,"S.US.ADRA"]
[null,null,"S.US.XONE",{"$f":"IFERROR(RTD(\"cqg.rtd\", ,\"ContractData\",C1336, \"PerCentNetLastTrade\",, \"T\")/100,\"\")","v":6.979062811565304E-3},912,912,"S.US.XONE",1336,"S.US.SNI"]
[null,null,"S.US.BCPC",{"$f":"IFERROR(RTD(\"cqg.rtd\", ,\"ContractData\",C1337, \"PerCentNetLastTrade\",, \"T\")/100,\"\")","v":1.1476664116296864E-3},1316,1316,"S.US.BCPC",1337,"S.US.EFII"]
[null,null,"S.US.NEOS",{"$f":"IFERROR(RTD(\"cqg.rtd\", ,\"ContractData\",C1338, \"PerCentNetLastTrade\",, \"T\")/100,\"\")","v":7.1428571428571426E-3},897,897,"S.US.NEOS",1338,"S.US.TAYD"]
[null,null,"S.US.TCCO",{"$f":"IFERROR(RTD(\"cqg.rtd\", ,\"ContractData\",C1339, \"PerCentNetLastTrade\",, \"T\")/100,\"\")","v":-1.1194029850746268E-2},2143,2143,"S.US.TCCO",1339,"S.US.FEMS"]
[null,null,"S.US.CGIX",{"$f":"IFERROR(RTD(\"cqg.rtd\", ,\"ContractData\",C1340, \"PerCentNetLastTrade\",, \"T\")/100,\"\")","v":-3.125E-2},2450,2450,"S.US.CGIX",1340,"S.US.VRSK"]
[null,null,"S.US.ACST",{"$f":"IFERROR(RTD(\"cqg.rtd\", ,\"ContractData\",C1341, \"PerCentNetLastTrade\",, \"T\")/100,\"\")","v":-0.12222222222222222},2564,2564,"S.US.ACST",1341,"S.US.AMRI"]
[null,null,"S.US.STBZ",{"$f":"IFERROR(RTD(\"cqg.rtd\", ,\"ContractData\",C1342, \"PerCentNetLastTrade\",, \"T\")/100,\"\")","v":6.0313630880579009E-3},972,972,"S.US.STBZ",1342,"S.US.PPH"]
[null,null,"S.US.FNHC",{"$f":"IFERROR(RTD(\"cqg.rtd\", ,\"ContractData\",C1343, \"PerCentNetLastTrade\",, \"T\")/100,\"\")","v":1.6939582156973462E-3},1278,1278,"S.US.FNHC",1343,"S.US.DLTH"]
[null,null,"S.US.IPHS",{"$f":"IFERROR(RTD(\"cqg.rtd\", ,\"ContractData\",C1344, \"PerCentNetLastTrade\",, \"T\")/100,\"\")","v":1.3896609227348526E-2},538,538,"S.US.IPHS",1344,"S.US.ILG"]
[null,null,"S.US.NBTB",{"$f":"IFERROR(RTD(\"cqg.rtd\", ,\"ContractData\",C1345, \"PerCentNetLastTrade\",, \"T\")/100,\"\")","v":1.3719906808180171E-2},551,551,"S.US.NBTB",1345,{"$f":"IFERROR(VLOOKUP(H1345,$F$1:$G$2860,2,FALSE),\"\")","v":"S.US.ABY"}]
[null,null,"S.US.TSC",{"$f":"IFERROR(RTD(\"cqg.rtd\", ,\"ContractData\",C1346, \"PerCentNetLastTrade\",, \"T\")/100,\"\")","v":1.2285012285012284E-2},611,{"$f":"IFERROR(E1346,\"\")","v":611},"S.US.TSC",1346,"S.US.HMSY"]
[null,null,"S.US.ROKA",{"$f":"IFERROR(RTD(\"cqg.rtd\", ,\"ContractData\",C1347, \"PerCentNetLastTrade\",, \"T\")/100,\"\")","v":-7.1028037383177575E-2},2547,2547,{"$f":"C1347","v":"S.US.ROKA"},{"$f":"H1346+1","v":1347},"S.US.SNLN"]
[null,null,"S.US.LJPC",{"$f":"IFERROR(RTD(\"cqg.rtd\", ,\"ContractData\",C1348, \"PerCentNetLastTrade\",, \"T\")/100,\"\")","v":1.3766519823788546E-2},545,545,"S.US.LJPC",1348,"S.US.TSCO"]
[null,null,"S.US.SPAR",{"$f":"IFERROR(RTD(\"cqg.rtd\", ,\"ContractData\",C1349, \"PerCentNetLastTrade\",, \"T\")/100,\"\")","v":2.8089887640449441E-2},201,201,"S.US.SPAR",1349,"S.US.BLMN"]
[null,null,"S.US.LMBS",{"$f":"IFERROR(RTD(\"cqg.rtd\", ,\"ContractData\",C1350, \"PerCentNetLastTrade\",, \"T\")/100,\"\")","v":-3.8248231019315357E-4},1583,1583,"S.US.LMBS",1350,"S.US.QQQX"]
[null,null,"S.US.JAKK",{"$f":"IFERROR(RTD(\"cqg.rtd\", ,\"ContractData\",C1351, \"PerCentNetLastTrade\",, \"T\")/100,\"\")","v":9.8591549295774655E-3},737,737,"S.US.JAKK",1351,"S.US.ACWI"]
[null,null,"S.US.CUBA",{"$f":"IFERROR(RTD(\"cqg.rtd\", ,\"ContractData\",C1352, \"PerCentNetLastTrade\",, \"T\")/100,\"\")","v":-1.4880952380952382E-2},2253,2253,"S.US.CUBA",1352,"S.US.AMWD"]
[null,null,"S.US.MATW",{"$f":"IFERROR(RTD(\"cqg.rtd\", ,\"ContractData\",C1353, \"PerCentNetLastTrade\",, \"T\")/100,\"\")","v":1.3774104683195593E-3},1295,1295,"S.US.MATW",1353,"S.US.LKFN"]
[null,null,"S.US.OCFC",{"$f":"IFERROR(RTD(\"cqg.rtd\", ,\"ContractData\",C1354, \"PerCentNetLastTrade\",, \"T\")/100,\"\")","v":-4.2052144659377629E-3},1835,1835,"S.US.OCFC",1354,"S.US.AGND"]
[null,null,"S.US.ZSAN",{"$f":"IFERROR(RTD(\"cqg.rtd\", ,\"ContractData\",C1355, \"PerCentNetLastTrade\",, \"T\")/100,\"\")","v":-0.13829787234042554},2566,2566,"S.US.ZSAN",1355,"S.US.BBBY"]
[null,null,"S.US.UEPS",{"$f":"IFERROR(RTD(\"cqg.rtd\", ,\"ContractData\",C1356, \"PerCentNetLastTrade\",, \"T\")/100,\"\")","v":1.5915119363395226E-2},461,461,"S.US.UEPS",1356,"S.US.VXUS"]
[null,null,"S.US.STB",{"$f":"IFERROR(RTD(\"cqg.rtd\", ,\"ContractData\",C1357, \"PerCentNetLastTrade\",, \"T\")/100,\"\")","v":5.2264808362369342E-3},1031,1031,"S.US.STB",1357,"S.US.RRR"]
[null,null,"S.US.FRME",{"$f":"IFERROR(RTD(\"cqg.rtd\", ,\"ContractData\",C1358, \"PerCentNetLastTrade\",, \"T\")/100,\"\")","v":6.9747166521360072E-3},913,913,"S.US.FRME",1358,"S.US.SMMF"]
[null,null,"S.US.SCVL",{"$f":"IFERROR(RTD(\"cqg.rtd\", ,\"ContractData\",C1359, \"PerCentNetLastTrade\",, \"T\")/100,\"\")","v":3.5946462715105161E-2},129,129,"S.US.SCVL",1359,"S.US.UTHR"]
[null,null,"S.US.NFBK",{"$f":"IFERROR(RTD(\"cqg.rtd\", ,\"ContractData\",C1360, \"PerCentNetLastTrade\",, \"T\")/100,\"\")","v":9.1250670960815877E-3},790,790,"S.US.NFBK",1360,"S.US.AGNCB"]
[null,null,"S.US.UNIS",{"$f":"IFERROR(RTD(\"cqg.rtd\", ,\"ContractData\",C1361, \"PerCentNetLastTrade\",, \"T\")/100,\"\")","v":-3.8759689922480624E-3},1818,1818,"S.US.UNIS",1361,"S.US.WOOD"]
[null,null,"S.US.MANT",{"$f":"IFERROR(RTD(\"cqg.rtd\", ,\"ContractData\",C1362, \"PerCentNetLastTrade\",, \"T\")/100,\"\")","v":-2.6767789426723178E-2},2415,2415,"S.US.MANT",1362,"S.US.MGNX"]
[null,null,"S.US.RELY",{"$f":"IFERROR(RTD(\"cqg.rtd\", ,\"ContractData\",C1363, \"PerCentNetLastTrade\",, \"T\")/100,\"\")","v":2.5862068965517241E-2},233,233,"S.US.RELY",1363,"S.US.MPWR"]
[null,null,"S.US.ABAX",{"$f":"IFERROR(RTD(\"cqg.rtd\", ,\"ContractData\",C1364, \"PerCentNetLastTrade\",, \"T\")/100,\"\")","v":-2.700632062823214E-2},2417,2417,"S.US.ABAX",1364,"S.US.VGSH"]
[null,null,"S.US.STBA",{"$f":"IFERROR(RTD(\"cqg.rtd\", ,\"ContractData\",C1365, \"PerCentNetLastTrade\",, \"T\")/100,\"\")","v":1.2686777558500142E-2},591,591,"S.US.STBA",1365,"S.US.NDSN"]
[null,null,"S.US.SPRT",{"$f":"IFERROR(RTD(\"cqg.rtd\", ,\"ContractData\",C1366, \"PerCentNetLastTrade\",, \"T\")/100,\"\")","v":0},1445,1445,"S.US.SPRT",1366,"S.US.MENT"]
[null,null,"S.US.EXPO",{"$f":"IFERROR(RTD(\"cqg.rtd\", ,\"ContractData\",C1367, \"PerCentNetLastTrade\",, \"T\")/100,\"\")","v":-4.8543689320388354E-3},1876,1876,"S.US.EXPO",1367,"S.US.VSEC"]
[null,null,"S.US.BPTH",{"$f":"IFERROR(RTD(\"cqg.rtd\", ,\"ContractData\",C1368, \"PerCentNetLastTrade\",, \"T\")/100,\"\")","v":3.2000000000000001E-2},160,160,"S.US.BPTH",1368,"S.US.FSFG"]
[null,null,"S.US.CYCC",{"$f":"IFERROR(RTD(\"cqg.rtd\", ,\"ContractData\",C1369, \"PerCentNetLastTrade\",, \"T\")/100,\"\")","v":0},1446,1446,"S.US.CYCC",1369,"S.US.IXUS"]
[null,null,"S.US.QNST",{"$f":"IFERROR(RTD(\"cqg.rtd\", ,\"ContractData\",C1370, \"PerCentNetLastTrade\",, \"T\")/100,\"\")","v":3.105590062111801E-3},1175,1175,"S.US.QNST",1370,"S.US.MASI"]
[null,null,"S.US.ZBIO",{"$f":"IFERROR(RTD(\"cqg.rtd\", ,\"ContractData\",C1371, \"PerCentNetLastTrade\",, \"T\")/100,\"\")","v":2.1718146718146716E-2},314,314,"S.US.ZBIO",1371,"S.US.SIRI"]
[null,null,"S.US.CHMA",{"$f":"IFERROR(RTD(\"cqg.rtd\", ,\"ContractData\",C1372, \"PerCentNetLastTrade\",, \"T\")/100,\"\")","v":-1.4634146341463414E-2},2245,2245,"S.US.CHMA",1372,"S.US.ETRM"]
[null,null,"S.US.IRTC",{"$f":"IFERROR(RTD(\"cqg.rtd\", ,\"ContractData\",C1373, \"PerCentNetLastTrade\",, \"T\")/100,\"\")","v":-4.5248868778280547E-3},1861,1861,"S.US.IRTC",1373,"S.US.NVAX"]
[null,null,"S.US.KWEB",{"$f":"IFERROR(RTD(\"cqg.rtd\", ,\"ContractData\",C1374, \"PerCentNetLastTrade\",, \"T\")/100,\"\")","v":-4.1677520187548842E-3},1833,1833,"S.US.KWEB",1374,"S.US.ASNA"]
[null,null,"S.US.UEIC",{"$f":"IFERROR(RTD(\"cqg.rtd\", ,\"ContractData\",C1375, \"PerCentNetLastTrade\",, \"T\")/100,\"\")","v":8.1602373887240346E-3},837,837,"S.US.UEIC",1375,"S.US.SINO"]
[null,null,"S.US.LIFE",{"$f":"IFERROR(RTD(\"cqg.rtd\", ,\"ContractData\",C1376, \"PerCentNetLastTrade\",, \"T\")/100,\"\")","v":-9.5238095238095229E-3},2080,2080,"S.US.LIFE",1376,"S.US.CEMP"]
[null,null,"S.US.FHCO",{"$f":"IFERROR(RTD(\"cqg.rtd\", ,\"ContractData\",C1377, \"PerCentNetLastTrade\",, \"T\")/100,\"\")","v":4.716981132075472E-2},71,71,"S.US.FHCO",1377,"S.US.PLUG"]
[null,null,"S.US.UTEK",{"$f":"IFERROR(RTD(\"cqg.rtd\", ,\"ContractData\",C1378, \"PerCentNetLastTrade\",, \"T\")/100,\"\")","v":-6.412997007268063E-3},1947,1947,"S.US.UTEK",1378,"S.US.PSEC"]
[null,null,"S.US.IPAS",{"$f":"IFERROR(RTD(\"cqg.rtd\", ,\"ContractData\",C1379, \"PerCentNetLastTrade\",, \"T\")/100,\"\")","v":0},1447,1447,"S.US.IPAS",1379,"S.US.ISIL"]
[null,null,"S.US.SEED",{"$f":"IFERROR(RTD(\"cqg.rtd\", ,\"ContractData\",C1380, \"PerCentNetLastTrade\",, \"T\")/100,\"\")","v":0},1448,1448,"S.US.SEED",1380,"S.US.ELNK"]
[null,null,"S.US.MAGS",{"$f":"IFERROR(RTD(\"cqg.rtd\", ,\"ContractData\",C1381, \"PerCentNetLastTrade\",, \"T\")/100,\"\")","v":0},1449,1449,"S.US.MAGS",1381,"S.US.TSRO"]
[null,null,"S.US.TNGO",{"$f":"IFERROR(RTD(\"cqg.rtd\", ,\"ContractData\",C1382, \"PerCentNetLastTrade\",, \"T\")/100,\"\")","v":2.7848101265822787E-2},203,203,"S.US.TNGO",1382,"S.US.IDRA"]
[null,null,"S.US.KIRK",{"$f":"IFERROR(RTD(\"cqg.rtd\", ,\"ContractData\",C1383, \"PerCentNetLastTrade\",, \"T\")/100,\"\")","v":7.9417604235605555E-3},849,849,"S.US.KIRK",1383,"S.US.SEMI"]
[null,null,"S.US.BBH",{"$f":"IFERROR(RTD(\"cqg.rtd\", ,\"ContractData\",C1384, \"PerCentNetLastTrade\",, \"T\")/100,\"\")","v":-6.2887431497619262E-3},1942,1942,"S.US.BBH",1384,"S.US.SNMX"]
[null,null,"S.US.CNCE",{"$f":"IFERROR(RTD(\"cqg.rtd\", ,\"ContractData\",C1385, \"PerCentNetLastTrade\",, \"T\")/100,\"\")","v":2.6737967914438502E-2},221,221,"S.US.CNCE",1385,"S.US.SGMS"]
[null,null,"S.US.MRTN",{"$f":"IFERROR(RTD(\"cqg.rtd\", ,\"ContractData\",C1386, \"PerCentNetLastTrade\",, \"T\")/100,\"\")","v":2.231237322515213E-2},298,298,"S.US.MRTN",1386,"S.US.ANTH"]
[null,null,"S.US.FBNC",{"$f":"IFERROR(RTD(\"cqg.rtd\", ,\"ContractData\",C1387, \"PerCentNetLastTrade\",, \"T\")/100,\"\")","v":2.3015873015873014E-2},279,279,"S.US.FBNC",1387,"S.US.PPHM"]
[null,null,"S.US.IKGH",{"$f":"IFERROR(RTD(\"cqg.rtd\", ,\"ContractData\",C1388, \"PerCentNetLastTrade\",, \"T\")/100,\"\")","v":0},1450,1450,"S.US.IKGH",1388,"S.US.INAP"]
[null,null,"S.US.WSBC",{"$f":"IFERROR(RTD(\"cqg.rtd\", ,\"ContractData\",C1389, \"PerCentNetLastTrade\",, \"T\")/100,\"\")","v":9.8360655737704909E-3},739,739,"S.US.WSBC",1389,"S.US.CPRX"]
[null,null,"S.US.TENX",{"$f":"IFERROR(RTD(\"cqg.rtd\", ,\"ContractData\",C1390, \"PerCentNetLastTrade\",, \"T\")/100,\"\")","v":2.6595744680851064E-2},223,223,"S.US.TENX",1390,"S.US.APOL"]
[null,null,"S.US.BATRK",{"$f":"IFERROR(RTD(\"cqg.rtd\", ,\"ContractData\",C1391, \"PerCentNetLastTrade\",, \"T\")/100,\"\")","v":4.522613065326633E-3},1083,1083,"S.US.BATRK",1391,"S.US.DPRX"]
[null,null,"S.US.OXLC",{"$f":"IFERROR(RTD(\"cqg.rtd\", ,\"ContractData\",C1392, \"PerCentNetLastTrade\",, \"T\")/100,\"\")","v":-4.3140638481449526E-3},1848,1848,"S.US.OXLC",1392,"S.US.BDSI"]
[null,null,"S.US.OREX",{"$f":"IFERROR(RTD(\"cqg.rtd\", ,\"ContractData\",C1393, \"PerCentNetLastTrade\",, \"T\")/100,\"\")","v":1.9900497512437811E-2},359,359,"S.US.OREX",1393,"S.US.BV"]
[null,null,"S.US.PRTK",{"$f":"IFERROR(RTD(\"cqg.rtd\", ,\"ContractData\",C1394, \"PerCentNetLastTrade\",, \"T\")/100,\"\")","v":2.2471910112359553E-2},293,293,"S.US.PRTK",1394,"S.US.MITK"]
[null,null,"S.US.FDML",{"$f":"IFERROR(RTD(\"cqg.rtd\", ,\"ContractData\",C1395, \"PerCentNetLastTrade\",, \"T\")/100,\"\")","v":2.1097046413502109E-2},332,332,"S.US.FDML",1395,"S.US.VA"]
[null,null,"S.US.TOUR",{"$f":"IFERROR(RTD(\"cqg.rtd\", ,\"ContractData\",C1396, \"PerCentNetLastTrade\",, \"T\")/100,\"\")","v":-3.2573289902280131E-2},2458,2458,"S.US.TOUR",1396,"S.US.CTIC"]
[null,null,"S.US.WRLD",{"$f":"IFERROR(RTD(\"cqg.rtd\", ,\"ContractData\",C1397, \"PerCentNetLastTrade\",, \"T\")/100,\"\")","v":3.4704147145583897E-3},1148,1148,"S.US.WRLD",1397,"S.US.LSXMA"]
[null,null,"S.US.GLRE",{"$f":"IFERROR(RTD(\"cqg.rtd\", ,\"ContractData\",C1398, \"PerCentNetLastTrade\",, \"T\")/100,\"\")","v":6.6371681415929203E-3},933,933,"S.US.GLRE",1398,"S.US.HIBB"]
[null,null,"S.US.FLML",{"$f":"IFERROR(RTD(\"cqg.rtd\", ,\"ContractData\",C1399, \"PerCentNetLastTrade\",, \"T\")/100,\"\")","v":7.4074074074074068E-3},887,887,"S.US.FLML",1399,"S.US.DWCH"]
[null,null,"S.US.LIND",{"$f":"IFERROR(RTD(\"cqg.rtd\", ,\"ContractData\",C1400, \"PerCentNetLastTrade\",, \"T\")/100,\"\")","v":-1.0395010395010396E-3},1627,1627,"S.US.LIND",1400,"S.US.HEAR"]
[null,null,"S.US.MBUU",{"$f":"IFERROR(RTD(\"cqg.rtd\", ,\"ContractData\",C1401, \"PerCentNetLastTrade\",, \"T\")/100,\"\")","v":-1.5317286652078774E-2},2265,2265,"S.US.MBUU",1401,"S.US.TUES"]
[null,null,"S.US.ALGT",{"$f":"IFERROR(RTD(\"cqg.rtd\", ,\"ContractData\",C1402, \"PerCentNetLastTrade\",, \"T\")/100,\"\")","v":-7.8171978352375229E-3},2019,2019,"S.US.ALGT",1402,"S.US.FRGI"]
[null,null,"S.US.FH",{"$f":"IFERROR(RTD(\"cqg.rtd\", ,\"ContractData\",C1403, \"PerCentNetLastTrade\",, \"T\")/100,\"\")","v":-3.7344398340248962E-2},2478,2478,"S.US.FH",1403,"S.US.TEDU"]
[null,null,"S.US.LE",{"$f":"IFERROR(RTD(\"cqg.rtd\", ,\"ContractData\",C1404, \"PerCentNetLastTrade\",, \"T\")/100,\"\")","v":7.3033707865168543E-3},892,892,"S.US.LE",1404,"S.US.EUFN"]
[null,null,"S.US.ISCA",{"$f":"IFERROR(RTD(\"cqg.rtd\", ,\"ContractData\",C1405, \"PerCentNetLastTrade\",, \"T\")/100,\"\")","v":-1.3477088948787061E-3},1651,1651,"S.US.ISCA",1405,"S.US.BCOR"]
[null,null,"S.US.MCFT",{"$f":"IFERROR(RTD(\"cqg.rtd\", ,\"ContractData\",C1406, \"PerCentNetLastTrade\",, \"T\")/100,\"\")","v":1.8433179723502304E-2},390,390,"S.US.MCFT",1406,"S.US.ININ"]
[null,null,"S.US.XBIT",{"$f":"IFERROR(RTD(\"cqg.rtd\", ,\"ContractData\",C1407, \"PerCentNetLastTrade\",, \"T\")/100,\"\")","v":9.1420534458509142E-3},786,786,"S.US.XBIT",1407,"S.US.OGXI"]
[null,null,"S.US.SFNC",{"$f":"IFERROR(RTD(\"cqg.rtd\", ,\"ContractData\",C1408, \"PerCentNetLastTrade\",, \"T\")/100,\"\")","v":6.6555740432612306E-3},932,932,"S.US.SFNC",1408,"S.US.AYA"]
[null,null,"S.US.IOSP",{"$f":"IFERROR(RTD(\"cqg.rtd\", ,\"ContractData\",C1409, \"PerCentNetLastTrade\",, \"T\")/100,\"\")","v":9.1673032849503427E-3},785,785,"S.US.IOSP",1409,{"$f":"IFERROR(VLOOKUP(H1409,$F$1:$G$2860,2,FALSE),\"\")","v":"S.US.TICC"}]
[null,null,"S.US.IFGL",{"$f":"IFERROR(RTD(\"cqg.rtd\", ,\"ContractData\",C1410, \"PerCentNetLastTrade\",, \"T\")/100,\"\")","v":2.9112081513828236E-3},1189,{"$f":"IFERROR(E1410,\"\")","v":1189},"S.US.IFGL",1410,"S.US.VCEL"]
[null,null,"S.US.ECOL",{"$f":"IFERROR(RTD(\"cqg.rtd\", ,\"ContractData\",C1411, \"PerCentNetLastTrade\",, \"T\")/100,\"\")","v":1.607717041800643E-2},459,459,{"$f":"C1411","v":"S.US.ECOL"},{"$f":"H1410+1","v":1411},"S.US.HMST"]
[null,null,"S.US.ARII",{"$f":"IFERROR(RTD(\"cqg.rtd\", ,\"ContractData\",C1412, \"PerCentNetLastTrade\",, \"T\")/100,\"\")","v":2.271694684234439E-2},288,288,"S.US.ARII",1412,"S.US.TRST"]
[null,null,"S.US.MEDP",{"$f":"IFERROR(RTD(\"cqg.rtd\", ,\"ContractData\",C1413, \"PerCentNetLastTrade\",, \"T\")/100,\"\")","v":-1.7672648178357803E-2},2305,2305,"S.US.MEDP",1413,"S.US.MCRB"]
[null,null,"S.US.NOVT",{"$f":"IFERROR(RTD(\"cqg.rtd\", ,\"ContractData\",C1414, \"PerCentNetLastTrade\",, \"T\")/100,\"\")","v":9.7323600973236012E-3},748,748,"S.US.NOVT",1414,"S.US.QUIK"]
[null,null,"S.US.AFMD",{"$f":"IFERROR(RTD(\"cqg.rtd\", ,\"ContractData\",C1415, \"PerCentNetLastTrade\",, \"T\")/100,\"\")","v":-2.3809523809523808E-2},2382,2382,"S.US.AFMD",1415,"S.US.LMNX"]
[null,null,"S.US.LTBR",{"$f":"IFERROR(RTD(\"cqg.rtd\", ,\"ContractData\",C1416, \"PerCentNetLastTrade\",, \"T\")/100,\"\")","v":1.5037593984962405E-2},494,494,"S.US.LTBR",1416,"S.US.AXTI"]
[null,null,"S.US.CEVA",{"$f":"IFERROR(RTD(\"cqg.rtd\", ,\"ContractData\",C1417, \"PerCentNetLastTrade\",, \"T\")/100,\"\")","v":-1.0869565217391304E-2},2133,2133,"S.US.CEVA",1417,"S.US.SRNE"]
[null,null,"S.US.WLDN",{"$f":"IFERROR(RTD(\"cqg.rtd\", ,\"ContractData\",C1418, \"PerCentNetLastTrade\",, \"T\")/100,\"\")","v":1.2489592006661117E-2},599,599,"S.US.WLDN",1418,"S.US.POOL"]
[null,null,"S.US.ICFI",{"$f":"IFERROR(RTD(\"cqg.rtd\", ,\"ContractData\",C1419, \"PerCentNetLastTrade\",, \"T\")/100,\"\")","v":-2.7149321266968325E-3},1733,1733,"S.US.ICFI",1419,"S.US.RDWR"]
[null,null,"S.US.CTMX",{"$f":"IFERROR(RTD(\"cqg.rtd\", ,\"ContractData\",C1420, \"PerCentNetLastTrade\",, \"T\")/100,\"\")","v":3.6036036036036032E-3},1140,1140,"S.US.CTMX",1420,"S.US.TYPE"]
[null,null,"S.US.DELT",{"$f":"IFERROR(RTD(\"cqg.rtd\", ,\"ContractData\",C1421, \"PerCentNetLastTrade\",, \"T\")/100,\"\")","v":-5.8823529411764712E-2},2535,2535,"S.US.DELT",1421,"S.US.ACTA"]
[null,null,"S.US.SPKE",{"$f":"IFERROR(RTD(\"cqg.rtd\", ,\"ContractData\",C1422, \"PerCentNetLastTrade\",, \"T\")/100,\"\")","v":-5.7361376673040155E-3},1917,1917,"S.US.SPKE",1422,"S.US.WSTC"]
[null,null,"S.US.NICE",{"$f":"IFERROR(RTD(\"cqg.rtd\", ,\"ContractData\",C1423, \"PerCentNetLastTrade\",, \"T\")/100,\"\")","v":-1.4150943396226414E-2},2229,2229,"S.US.NICE",1423,"S.US.EMKR"]
[null,null,"S.US.UFPI",{"$f":"IFERROR(RTD(\"cqg.rtd\", ,\"ContractData\",C1424, \"PerCentNetLastTrade\",, \"T\")/100,\"\")","v":-2.6533018867924531E-3},1729,1729,"S.US.UFPI",1424,"S.US.DGII"]
[null,null,"S.US.RDCM",{"$f":"IFERROR(RTD(\"cqg.rtd\", ,\"ContractData\",C1425, \"PerCentNetLastTrade\",, \"T\")/100,\"\")","v":-3.1088082901554404E-2},2448,2448,"S.US.RDCM",1425,"S.US.GNCA"]
[null,null,"S.US.DCOM",{"$f":"IFERROR(RTD(\"cqg.rtd\", ,\"ContractData\",C1426, \"PerCentNetLastTrade\",, \"T\")/100,\"\")","v":1.3333333333333332E-2},564,564,"S.US.DCOM",1426,"S.US.BLPH"]
[null,null,"S.US.TRTL",{"$f":"IFERROR(RTD(\"cqg.rtd\", ,\"ContractData\",C1427, \"PerCentNetLastTrade\",, \"T\")/100,\"\")","v":""},{"$error":"#VALUE!"},"","S.US.TRTL",1427,"S.US.DGRW"]
[null,null,"S.US.IBTX",{"$f":"IFERROR(RTD(\"cqg.rtd\", ,\"ContractData\",C1428, \"PerCentNetLastTrade\",, \"T\")/100,\"\")","v":1.4214046822742474E-2},526,526,"S.US.IBTX",1428,"S.US.BDE"]
[null,null,"S.US.MGRC",{"$f":"IFERROR(RTD(\"cqg.rtd\", ,\"ContractData\",C1429, \"PerCentNetLastTrade\",, \"T\")/100,\"\")","v":1.2740580103008945E-2},587,587,"S.US.MGRC",1429,"S.US.CSGS"]
[null,null,"S.US.MATR",{"$f":"IFERROR(RTD(\"cqg.rtd\", ,\"ContractData\",C1430, \"PerCentNetLastTrade\",, \"T\")/100,\"\")","v":0},1451,1451,"S.US.MATR",1430,"S.US.NLST"]
[null,null,"S.US.SFBS",{"$f":"IFERROR(RTD(\"cqg.rtd\", ,\"ContractData\",C1431, \"PerCentNetLastTrade\",, \"T\")/100,\"\")","v":8.6265918115842801E-3},818,818,"S.US.SFBS",1431,"S.US.ZIXI"]
[null,null,"S.US.HRZN",{"$f":"IFERROR(RTD(\"cqg.rtd\", ,\"ContractData\",C1432, \"PerCentNetLastTrade\",, \"T\")/100,\"\")","v":-1.1638316920322292E-2},2162,2162,"S.US.HRZN",1432,"S.US.CHEF"]
[null,null,"S.US.IGOV",{"$f":"IFERROR(RTD(\"cqg.rtd\", ,\"ContractData\",C1433, \"PerCentNetLastTrade\",, \"T\")/100,\"\")","v":-8.905299739357081E-3},2061,2061,"S.US.IGOV",1433,"S.US.DRWI"]
[null,null,"S.US.CDXC",{"$f":"IFERROR(RTD(\"cqg.rtd\", ,\"ContractData\",C1434, \"PerCentNetLastTrade\",, \"T\")/100,\"\")","v":7.7220077220077222E-3},862,862,"S.US.CDXC",1434,"S.US.ECYT"]
[null,null,"S.US.HSKA",{"$f":"IFERROR(RTD(\"cqg.rtd\", ,\"ContractData\",C1435, \"PerCentNetLastTrade\",, \"T\")/100,\"\")","v":-7.5343477618555173E-3},2011,2011,"S.US.HSKA",1435,"S.US.FLWS"]
[null,null,"S.US.SCHL",{"$f":"IFERROR(RTD(\"cqg.rtd\", ,\"ContractData\",C1436, \"PerCentNetLastTrade\",, \"T\")/100,\"\")","v":-1.1612620508326031E-2},2161,2161,"S.US.SCHL",1436,"S.US.GURE"]
[null,null,"S.US.CPLA",{"$f":"IFERROR(RTD(\"cqg.rtd\", ,\"ContractData\",C1437, \"PerCentNetLastTrade\",, \"T\")/100,\"\")","v":5.7306590257879654E-3},998,998,"S.US.CPLA",1437,"S.US.APPS"]
[null,null,"S.US.CENT",{"$f":"IFERROR(RTD(\"cqg.rtd\", ,\"ContractData\",C1438, \"PerCentNetLastTrade\",, \"T\")/100,\"\")","v":-3.0333333333333334E-2},2442,2442,"S.US.CENT",1438,"S.US.GLAD"]
[null,null,"S.US.KELYA",{"$f":"IFERROR(RTD(\"cqg.rtd\", ,\"ContractData\",C1439, \"PerCentNetLastTrade\",, \"T\")/100,\"\")","v":1.0223953261927946E-2},709,709,"S.US.KELYA",1439,"S.US.KCAP"]
[null,null,"S.US.DTSI",{"$f":"IFERROR(RTD(\"cqg.rtd\", ,\"ContractData\",C1440, \"PerCentNetLastTrade\",, \"T\")/100,\"\")","v":-4.7058823529411766E-4},1594,1594,"S.US.DTSI",1440,"S.US.OTIV"]
[null,null,"S.US.APEI",{"$f":"IFERROR(RTD(\"cqg.rtd\", ,\"ContractData\",C1441, \"PerCentNetLastTrade\",, \"T\")/100,\"\")","v":6.3559322033898301E-3},945,945,"S.US.APEI",1441,"S.US.POWI"]
[null,null,"S.US.FDUS",{"$f":"IFERROR(RTD(\"cqg.rtd\", ,\"ContractData\",C1442, \"PerCentNetLastTrade\",, \"T\")/100,\"\")","v":-2.0606060606060607E-2},2355,2355,"S.US.FDUS",1442,"S.US.BBRG"]
[null,null,"S.US.CBIO",{"$f":"IFERROR(RTD(\"cqg.rtd\", ,\"ContractData\",C1443, \"PerCentNetLastTrade\",, \"T\")/100,\"\")","v":-6.6666666666666666E-2},2544,2544,"S.US.CBIO",1443,"S.US.ELOS"]
[null,null,"S.US.PIRS",{"$f":"IFERROR(RTD(\"cqg.rtd\", ,\"ContractData\",C1444, \"PerCentNetLastTrade\",, \"T\")/100,\"\")","v":5.405405405405405E-2},53,53,"S.US.PIRS",1444,"S.US.BKMU"]
[null,null,"S.US.MGEE",{"$f":"IFERROR(RTD(\"cqg.rtd\", ,\"ContractData\",C1445, \"PerCentNetLastTrade\",, \"T\")/100,\"\")","v":-7.3589533932951756E-3},1999,1999,"S.US.MGEE",1445,"S.US.SPRT"]
[null,null,"S.US.IRG",{"$f":"IFERROR(RTD(\"cqg.rtd\", ,\"ContractData\",C1446, \"PerCentNetLastTrade\",, \"T\")/100,\"\")","v":0},1452,1452,"S.US.IRG",1446,"S.US.CYCC"]
[null,null,"S.US.ICUI",{"$f":"IFERROR(RTD(\"cqg.rtd\", ,\"ContractData\",C1447, \"PerCentNetLastTrade\",, \"T\")/100,\"\")","v":-6.2997347480106105E-3},1943,1943,"S.US.ICUI",1447,"S.US.IPAS"]
[null,null,"S.US.CDXS",{"$f":"IFERROR(RTD(\"cqg.rtd\", ,\"ContractData\",C1448, \"PerCentNetLastTrade\",, \"T\")/100,\"\")","v":0},1453,1453,"S.US.CDXS",1448,"S.US.SEED"]
[null,null,"S.US.BUSE",{"$f":"IFERROR(RTD(\"cqg.rtd\", ,\"ContractData\",C1449, \"PerCentNetLastTrade\",, \"T\")/100,\"\")","v":7.5976845151953685E-3},873,873,"S.US.BUSE",1449,"S.US.MAGS"]
[null,null,"S.US.ATAX",{"$f":"IFERROR(RTD(\"cqg.rtd\", ,\"ContractData\",C1450, \"PerCentNetLastTrade\",, \"T\")/100,\"\")","v":-8.771929824561403E-3},2050,2050,"S.US.ATAX",1450,"S.US.IKGH"]
[null,null,"S.US.ADMP",{"$f":"IFERROR(RTD(\"cqg.rtd\", ,\"ContractData\",C1451, \"PerCentNetLastTrade\",, \"T\")/100,\"\")","v":3.5087719298245612E-2},135,135,"S.US.ADMP",1451,"S.US.MATR"]
[null,null,"S.US.TLND",{"$f":"IFERROR(RTD(\"cqg.rtd\", ,\"ContractData\",C1452, \"PerCentNetLastTrade\",, \"T\")/100,\"\")","v":-5.4968287526427064E-3},1908,1908,"S.US.TLND",1452,"S.US.IRG"]
[null,null,"S.US.SNAK",{"$f":"IFERROR(RTD(\"cqg.rtd\", ,\"ContractData\",C1453, \"PerCentNetLastTrade\",, \"T\")/100,\"\")","v":7.8387458006718928E-3},855,855,"S.US.SNAK",1453,"S.US.CDXS"]
[null,null,"S.US.OFIX",{"$f":"IFERROR(RTD(\"cqg.rtd\", ,\"ContractData\",C1454, \"PerCentNetLastTrade\",, \"T\")/100,\"\")","v":-1.1512297226582941E-2},2158,2158,"S.US.OFIX",1454,"S.US.CTRN"]
[null,null,"S.US.CTRN",{"$f":"IFERROR(RTD(\"cqg.rtd\", ,\"ContractData\",C1455, \"PerCentNetLastTrade\",, \"T\")/100,\"\")","v":0},1454,1454,"S.US.CTRN",1455,"S.US.MRTX"]
[null,null,"S.US.CHEK",{"$f":"IFERROR(RTD(\"cqg.rtd\", ,\"ContractData\",C1456, \"PerCentNetLastTrade\",, \"T\")/100,\"\")","v":3.2258064516129031E-2},158,158,"S.US.CHEK",1456,"S.US.SEAC"]
[null,null,"S.US.KZ",{"$f":"IFERROR(RTD(\"cqg.rtd\", ,\"ContractData\",C1457, \"PerCentNetLastTrade\",, \"T\")/100,\"\")","v":-7.7760497667185065E-3},2018,2018,"S.US.KZ",1457,"S.US.LINC"]
[null,null,"S.US.FTA",{"$f":"IFERROR(RTD(\"cqg.rtd\", ,\"ContractData\",C1458, \"PerCentNetLastTrade\",, \"T\")/100,\"\")","v":2.6075619295958278E-3},1215,1215,"S.US.FTA",1458,"S.US.QUNR"]
[null,null,"S.US.PAHC",{"$f":"IFERROR(RTD(\"cqg.rtd\", ,\"ContractData\",C1459, \"PerCentNetLastTrade\",, \"T\")/100,\"\")","v":1.8018018018018016E-3},1273,1273,"S.US.PAHC",1459,"S.US.WSBF"]
[null,null,"S.US.CGEN",{"$f":"IFERROR(RTD(\"cqg.rtd\", ,\"ContractData\",C1460, \"PerCentNetLastTrade\",, \"T\")/100,\"\")","v":-8.0645161290322578E-3},2027,2027,"S.US.CGEN",1460,"S.US.TDIV"]
[null,null,"S.US.ROLL",{"$f":"IFERROR(RTD(\"cqg.rtd\", ,\"ContractData\",C1461, \"PerCentNetLastTrade\",, \"T\")/100,\"\")","v":2.5191938579654512E-2},241,241,"S.US.ROLL",1461,"S.US.APRI"]
[null,null,"S.US.MRTX",{"$f":"IFERROR(RTD(\"cqg.rtd\", ,\"ContractData\",C1462, \"PerCentNetLastTrade\",, \"T\")/100,\"\")","v":0},1455,1455,"S.US.MRTX",1462,"S.US.UTSI"]
[null,null,"S.US.PCMI",{"$f":"IFERROR(RTD(\"cqg.rtd\", ,\"ContractData\",C1463, \"PerCentNetLastTrade\",, \"T\")/100,\"\")","v":9.852216748768473E-3},738,738,"S.US.PCMI",1463,"S.US.CCD"]
[null,null,"S.US.MZOR",{"$f":"IFERROR(RTD(\"cqg.rtd\", ,\"ContractData\",C1464, \"PerCentNetLastTrade\",, \"T\")/100,\"\")","v":8.395934600088379E-3},828,828,"S.US.MZOR",1464,"S.US.PFMT"]
[null,null,"S.US.QDEL",{"$f":"IFERROR(RTD(\"cqg.rtd\", ,\"ContractData\",C1465, \"PerCentNetLastTrade\",, \"T\")/100,\"\")","v":-2.2094564737074681E-3},1705,1705,"S.US.QDEL",1465,"S.US.WNEB"]
[null,null,"S.US.WIRE",{"$f":"IFERROR(RTD(\"cqg.rtd\", ,\"ContractData\",C1466, \"PerCentNetLastTrade\",, \"T\")/100,\"\")","v":7.0339976553341144E-3},904,904,"S.US.WIRE",1466,"S.US.CALL"]
[null,null,"S.US.PRTS",{"$f":"IFERROR(RTD(\"cqg.rtd\", ,\"ContractData\",C1467, \"PerCentNetLastTrade\",, \"T\")/100,\"\")","v":-3.4965034965034965E-3},1789,1789,"S.US.PRTS",1467,"S.US.ARQL"]
[null,null,"S.US.CSWI",{"$f":"IFERROR(RTD(\"cqg.rtd\", ,\"ContractData\",C1468, \"PerCentNetLastTrade\",, \"T\")/100,\"\")","v":1.5193370165745856E-2},489,489,"S.US.CSWI",1468,"S.US.BSQR"]
[null,null,"S.US.UVSP",{"$f":"IFERROR(RTD(\"cqg.rtd\", ,\"ContractData\",C1469, \"PerCentNetLastTrade\",, \"T\")/100,\"\")","v":1.5901060070671377E-2},462,462,"S.US.UVSP",1469,"S.US.SYBT"]
[null,null,"S.US.ANIK",{"$f":"IFERROR(RTD(\"cqg.rtd\", ,\"ContractData\",C1470, \"PerCentNetLastTrade\",, \"T\")/100,\"\")","v":3.4527406128614592E-3},1150,1150,"S.US.ANIK",1470,"S.US.LFVN"]
[null,null,"S.US.VGSH",{"$f":"IFERROR(RTD(\"cqg.rtd\", ,\"ContractData\",C1471, \"PerCentNetLastTrade\",, \"T\")/100,\"\")","v":3.2894736842105262E-4},1364,1364,"S.US.VGSH",1471,"S.US.IOTS"]
[null,null,"S.US.GLPG",{"$f":"IFERROR(RTD(\"cqg.rtd\", ,\"ContractData\",C1472, \"PerCentNetLastTrade\",, \"T\")/100,\"\")","v":-1.016497250458257E-2},2103,2103,"S.US.GLPG",1472,"S.US.CBLI"]
[null,null,"S.US.MERC",{"$f":"IFERROR(RTD(\"cqg.rtd\", ,\"ContractData\",C1473, \"PerCentNetLastTrade\",, \"T\")/100,\"\")","v":1.5706806282722516E-2},471,471,"S.US.MERC",1473,{"$f":"IFERROR(VLOOKUP(H1473,$F$1:$G$2860,2,FALSE),\"\")","v":"S.US.CRME"}]
[null,null,"S.US.AHGP",{"$f":"IFERROR(RTD(\"cqg.rtd\", ,\"ContractData\",C1474, \"PerCentNetLastTrade\",, \"T\")/100,\"\")","v":4.30416068866571E-3},1093,{"$f":"IFERROR(E1474,\"\")","v":1093},"S.US.AHGP",1474,"S.US.RVLT"]
[null,null,"S.US.WPPGY",{"$f":"IFERROR(RTD(\"cqg.rtd\", ,\"ContractData\",C1475, \"PerCentNetLastTrade\",, \"T\")/100,\"\")","v":-9.538950715421303E-3},2083,2083,{"$f":"C1475","v":"S.US.WPPGY"},{"$f":"H1474+1","v":1475},"S.US.PRKR"]
[null,null,"S.US.BBOX",{"$f":"IFERROR(RTD(\"cqg.rtd\", ,\"ContractData\",C1476, \"PerCentNetLastTrade\",, \"T\")/100,\"\")","v":2.2292993630573247E-2},299,299,"S.US.BBOX",1476,"S.US.SP"]
[null,null,"S.US.VSTM",{"$f":"IFERROR(RTD(\"cqg.rtd\", ,\"ContractData\",C1477, \"PerCentNetLastTrade\",, \"T\")/100,\"\")","v":-2.5641025641025644E-2},2405,2405,"S.US.VSTM",1477,"S.US.KRNT"]
[null,null,"S.US.VWOB",{"$f":"IFERROR(RTD(\"cqg.rtd\", ,\"ContractData\",C1478, \"PerCentNetLastTrade\",, \"T\")/100,\"\")","v":-2.5873221216041399E-3},1726,1726,"S.US.VWOB",1478,"S.US.MDM"]
[null,null,"S.US.SEAC",{"$f":"IFERROR(RTD(\"cqg.rtd\", ,\"ContractData\",C1479, \"PerCentNetLastTrade\",, \"T\")/100,\"\")","v":0},1456,1456,"S.US.SEAC",1479,"S.US.AVHI"]
[null,null,"S.US.HCKT",{"$f":"IFERROR(RTD(\"cqg.rtd\", ,\"ContractData\",C1480, \"PerCentNetLastTrade\",, \"T\")/100,\"\")","v":3.3651149747616375E-3},1154,1154,"S.US.HCKT",1480,"S.US.FALC"]
[null,null,"S.US.CRESY",{"$f":"IFERROR(RTD(\"cqg.rtd\", ,\"ContractData\",C1481, \"PerCentNetLastTrade\",, \"T\")/100,\"\")","v":-4.9140049140049139E-3},1880,1880,"S.US.CRESY",1481,"S.US.NDRM"]
[null,null,"S.US.SLRC",{"$f":"IFERROR(RTD(\"cqg.rtd\", ,\"ContractData\",C1482, \"PerCentNetLastTrade\",, \"T\")/100,\"\")","v":6.3600782778864976E-3},944,944,"S.US.SLRC",1482,"S.US.BOSC"]
[null,null,"S.US.BKEP",{"$f":"IFERROR(RTD(\"cqg.rtd\", ,\"ContractData\",C1483, \"PerCentNetLastTrade\",, \"T\")/100,\"\")","v":-7.4626865671641798E-3},2004,2004,"S.US.BKEP",1483,"S.US.PRGX"]
[null,null,"S.US.ROSG",{"$f":"IFERROR(RTD(\"cqg.rtd\", ,\"ContractData\",C1484, \"PerCentNetLastTrade\",, \"T\")/100,\"\")","v":3.2258064516129031E-2},159,159,"S.US.ROSG",1484,"S.US.NWPX"]
[null,null,"S.US.EGBN",{"$f":"IFERROR(RTD(\"cqg.rtd\", ,\"ContractData\",C1485, \"PerCentNetLastTrade\",, \"T\")/100,\"\")","v":2.2361359570661897E-2},295,295,"S.US.EGBN",1485,"S.US.BSTG"]
[null,null,"S.US.EDAP",{"$f":"IFERROR(RTD(\"cqg.rtd\", ,\"ContractData\",C1486, \"PerCentNetLastTrade\",, \"T\")/100,\"\")","v":-6.4935064935064931E-3},1952,1952,"S.US.EDAP",1486,"S.US.DRAD"]
[null,null,"S.US.QLTI",{"$f":"IFERROR(RTD(\"cqg.rtd\", ,\"ContractData\",C1487, \"PerCentNetLastTrade\",, \"T\")/100,\"\")","v":""},{"$error":"#VALUE!"},"","S.US.QLTI",1487,"S.US.HBIO"]
[null,null,"S.US.CLSN",{"$f":"IFERROR(RTD(\"cqg.rtd\", ,\"ContractData\",C1488, \"PerCentNetLastTrade\",, \"T\")/100,\"\")","v":-2.6666666666666665E-2},2414,2414,"S.US.CLSN",1488,"S.US.RAVE"]
[null,null,"S.US.CLLS",{"$f":"IFERROR(RTD(\"cqg.rtd\", ,\"ContractData\",C1489, \"PerCentNetLastTrade\",, \"T\")/100,\"\")","v":-1.872871736662883E-2},2330,2330,"S.US.CLLS",1489,"S.US.SOHO"]
[null,null,"S.US.LINC",{"$f":"IFERROR(RTD(\"cqg.rtd\", ,\"ContractData\",C1490, \"PerCentNetLastTrade\",, \"T\")/100,\"\")","v":0},1457,1457,"S.US.LINC",1490,"S.US.MBTF"]
[null,null,"S.US.OESX",{"$f":"IFERROR(RTD(\"cqg.rtd\", ,\"ContractData\",C1491, \"PerCentNetLastTrade\",, \"T\")/100,\"\")","v":1.5706806282722516E-2},472,472,"S.US.OESX",1491,"S.US.GPP"]
[null,null,"S.US.LQDT",{"$f":"IFERROR(RTD(\"cqg.rtd\", ,\"ContractData\",C1492, \"PerCentNetLastTrade\",, \"T\")/100,\"\")","v":1.5706806282722516E-2},473,473,"S.US.LQDT",1492,"S.US.TANH"]
[null,null,"S.US.NXTD",{"$f":"IFERROR(RTD(\"cqg.rtd\", ,\"ContractData\",C1493, \"PerCentNetLastTrade\",, \"T\")/100,\"\")","v":-5.7636887608069169E-3},1918,1918,"S.US.NXTD",1493,"S.US.MHGC"]
[null,null,"S.US.LOXO",{"$f":"IFERROR(RTD(\"cqg.rtd\", ,\"ContractData\",C1494, \"PerCentNetLastTrade\",, \"T\")/100,\"\")","v":-1.0010355540214016E-2},2097,2097,"S.US.LOXO",1494,"S.US.MSEX"]
[null,null,"S.US.IMDZ",{"$f":"IFERROR(RTD(\"cqg.rtd\", ,\"ContractData\",C1495, \"PerCentNetLastTrade\",, \"T\")/100,\"\")","v":1.3245033112582783E-2},568,568,"S.US.IMDZ",1495,"S.US.DZSI"]
[null,null,"S.US.WHLR",{"$f":"IFERROR(RTD(\"cqg.rtd\", ,\"ContractData\",C1496, \"PerCentNetLastTrade\",, \"T\")/100,\"\")","v":6.0606060606060606E-3},970,970,"S.US.WHLR",1496,"S.US.OHRP"]
[null,null,"S.US.STRA",{"$f":"IFERROR(RTD(\"cqg.rtd\", ,\"ContractData\",C1497, \"PerCentNetLastTrade\",, \"T\")/100,\"\")","v":7.6575960618077395E-3},869,869,"S.US.STRA",1497,"S.US.PCYG"]
[null,null,"S.US.PGLC",{"$f":"IFERROR(RTD(\"cqg.rtd\", ,\"ContractData\",C1498, \"PerCentNetLastTrade\",, \"T\")/100,\"\")","v":-1.0666666666666666E-2},2127,2127,"S.US.PGLC",1498,"S.US.MBLX"]
[null,null,"S.US.AMSF",{"$f":"IFERROR(RTD(\"cqg.rtd\", ,\"ContractData\",C1499, \"PerCentNetLastTrade\",, \"T\")/100,\"\")","v":3.0581039755351678E-3},1178,1178,"S.US.AMSF",1499,"S.US.MTLS"]
[null,null,"S.US.SIEN",{"$f":"IFERROR(RTD(\"cqg.rtd\", ,\"ContractData\",C1500, \"PerCentNetLastTrade\",, \"T\")/100,\"\")","v":4.830917874396135E-3},1059,1059,"S.US.SIEN",1500,"S.US.NBRV"]
[null,null,"S.US.PATK",{"$f":"IFERROR(RTD(\"cqg.rtd\", ,\"ContractData\",C1501, \"PerCentNetLastTrade\",, \"T\")/100,\"\")","v":-3.0598052851182195E-3},1759,1759,"S.US.PATK",1501,"S.US.PSCT"]
[null,null,"S.US.EFSC",{"$f":"IFERROR(RTD(\"cqg.rtd\", ,\"ContractData\",C1502, \"PerCentNetLastTrade\",, \"T\")/100,\"\")","v":1.5544041450777202E-2},478,478,"S.US.EFSC",1502,"S.US.RICK"]
[null,null,"S.US.NURO",{"$f":"IFERROR(RTD(\"cqg.rtd\", ,\"ContractData\",C1503, \"PerCentNetLastTrade\",, \"T\")/100,\"\")","v":1.0309278350515462E-2},704,704,"S.US.NURO",1503,"S.US.JASN"]
[null,null,"S.US.MRCC",{"$f":"IFERROR(RTD(\"cqg.rtd\", ,\"ContractData\",C1504, \"PerCentNetLastTrade\",, \"T\")/100,\"\")","v":-4.5632333767926985E-3},1862,1862,"S.US.MRCC",1504,"S.US.FOGO"]
[null,null,"S.US.TTNP",{"$f":"IFERROR(RTD(\"cqg.rtd\", ,\"ContractData\",C1505, \"PerCentNetLastTrade\",, \"T\")/100,\"\")","v":2.7586206896551727E-2},208,208,"S.US.TTNP",1505,"S.US.DSGX"]
[null,null,"S.US.CCRC",{"$f":"IFERROR(RTD(\"cqg.rtd\", ,\"ContractData\",C1506, \"PerCentNetLastTrade\",, \"T\")/100,\"\")","v":-1.0067114093959733E-2},2101,2101,"S.US.CCRC",1506,"S.US.PRQR"]
[null,null,"S.US.VLGEA",{"$f":"IFERROR(RTD(\"cqg.rtd\", ,\"ContractData\",C1507, \"PerCentNetLastTrade\",, \"T\")/100,\"\")","v":1.9375361480624638E-2},371,371,"S.US.VLGEA",1507,"S.US.CLFD"]
[null,null,"S.US.PSTI",{"$f":"IFERROR(RTD(\"cqg.rtd\", ,\"ContractData\",C1508, \"PerCentNetLastTrade\",, \"T\")/100,\"\")","v":-1.3245033112582783E-2},2205,2205,"S.US.PSTI",1508,"S.US.NCTY"]
[null,null,"S.US.COBZ",{"$f":"IFERROR(RTD(\"cqg.rtd\", ,\"ContractData\",C1509, \"PerCentNetLastTrade\",, \"T\")/100,\"\")","v":1.9710906701708277E-3},1261,1261,"S.US.COBZ",1509,"S.US.HSGX"]
[null,null,"S.US.INDB",{"$f":"IFERROR(RTD(\"cqg.rtd\", ,\"ContractData\",C1510, \"PerCentNetLastTrade\",, \"T\")/100,\"\")","v":1.3824884792626729E-2},540,540,"S.US.INDB",1510,"S.US.FSNN"]
[null,null,"S.US.TTEC",{"$f":"IFERROR(RTD(\"cqg.rtd\", ,\"ContractData\",C1511, \"PerCentNetLastTrade\",, \"T\")/100,\"\")","v":-1.5202702702702702E-2},2262,2262,"S.US.TTEC",1511,"S.US.CFA"]
[null,null,"S.US.SKYY",{"$f":"IFERROR(RTD(\"cqg.rtd\", ,\"ContractData\",C1512, \"PerCentNetLastTrade\",, \"T\")/100,\"\")","v":-4.2893909064912784E-3},1844,1844,"S.US.SKYY",1512,"S.US.ROIAK"]
[null,null,"S.US.BHBK",{"$f":"IFERROR(RTD(\"cqg.rtd\", ,\"ContractData\",C1513, \"PerCentNetLastTrade\",, \"T\")/100,\"\")","v":2.2727272727272728E-2},286,286,"S.US.BHBK",1513,"S.US.YORW"]
[null,null,"S.US.RTK",{"$f":"IFERROR(RTD(\"cqg.rtd\", ,\"ContractData\",C1514, \"PerCentNetLastTrade\",, \"T\")/100,\"\")","v":3.125E-2},173,173,"S.US.RTK",1514,"S.US.ITI"]
[null,null,"S.US.QUNR",{"$f":"IFERROR(RTD(\"cqg.rtd\", ,\"ContractData\",C1515, \"PerCentNetLastTrade\",, \"T\")/100,\"\")","v":0},1458,1458,"S.US.QUNR",1515,"S.US.SYPR"]
[null,null,"S.US.STAA",{"$f":"IFERROR(RTD(\"cqg.rtd\", ,\"ContractData\",C1516, \"PerCentNetLastTrade\",, \"T\")/100,\"\")","v":1.8604651162790697E-2},385,385,"S.US.STAA",1516,"S.US.ENZY"]
[null,null,"S.US.WINT",{"$f":"IFERROR(RTD(\"cqg.rtd\", ,\"ContractData\",C1517, \"PerCentNetLastTrade\",, \"T\")/100,\"\")","v":-6.9444444444444441E-3},1974,1974,"S.US.WINT",1517,"S.US.DYSL"]
[null,null,"S.US.IESC",{"$f":"IFERROR(RTD(\"cqg.rtd\", ,\"ContractData\",C1518, \"PerCentNetLastTrade\",, \"T\")/100,\"\")","v":-1.0025062656641603E-2},2098,2098,"S.US.IESC",1518,"S.US.EGAN"]
[null,null,"S.US.WSBF",{"$f":"IFERROR(RTD(\"cqg.rtd\", ,\"ContractData\",C1519, \"PerCentNetLastTrade\",, \"T\")/100,\"\")","v":0},1459,1459,"S.US.WSBF",1519,"S.US.KURA"]
[null,null,"S.US.SAUC",{"$f":"IFERROR(RTD(\"cqg.rtd\", ,\"ContractData\",C1520, \"PerCentNetLastTrade\",, \"T\")/100,\"\")","v":4.5112781954887222E-2},77,77,"S.US.SAUC",1520,"S.US.CEMI"]
[null,null,"S.US.CLNT",{"$f":"IFERROR(RTD(\"cqg.rtd\", ,\"ContractData\",C1521, \"PerCentNetLastTrade\",, \"T\")/100,\"\")","v":1.4285714285714285E-2},523,523,"S.US.CLNT",1521,"S.US.WTBA"]
[null,null,"S.US.CLSD",{"$f":"IFERROR(RTD(\"cqg.rtd\", ,\"ContractData\",C1522, \"PerCentNetLastTrade\",, \"T\")/100,\"\")","v":-0.11561318206374933},2561,2561,"S.US.CLSD",1522,"S.US.LCUT"]
[null,null,"S.US.ZAIS",{"$f":"IFERROR(RTD(\"cqg.rtd\", ,\"ContractData\",C1523, \"PerCentNetLastTrade\",, \"T\")/100,\"\")","v":-0.02},2351,2351,"S.US.ZAIS",1523,"S.US.SNBC"]
[null,null,"S.US.TRUP",{"$f":"IFERROR(RTD(\"cqg.rtd\", ,\"ContractData\",C1524, \"PerCentNetLastTrade\",, \"T\")/100,\"\")","v":4.736530491415039E-3},1066,1066,"S.US.TRUP",1524,"S.US.MGIC"]
[null,null,"S.US.DXLG",{"$f":"IFERROR(RTD(\"cqg.rtd\", ,\"ContractData\",C1525, \"PerCentNetLastTrade\",, \"T\")/100,\"\")","v":1.1904761904761904E-2},625,625,"S.US.DXLG",1525,"S.US.FRBA"]
[null,null,"S.US.FARO",{"$f":"IFERROR(RTD(\"cqg.rtd\", ,\"ContractData\",C1526, \"PerCentNetLastTrade\",, \"T\")/100,\"\")","v":5.434782608695652E-3},1019,1019,"S.US.FARO",1526,"S.US.CCBG"]
[null,null,"S.US.SPSC",{"$f":"IFERROR(RTD(\"cqg.rtd\", ,\"ContractData\",C1527, \"PerCentNetLastTrade\",, \"T\")/100,\"\")","v":1.2164367304554219E-2},618,618,"S.US.SPSC",1527,"S.US.RELL"]
[null,null,"S.US.PRSC",{"$f":"IFERROR(RTD(\"cqg.rtd\", ,\"ContractData\",C1528, \"PerCentNetLastTrade\",, \"T\")/100,\"\")","v":2.6881720430107525E-3},1209,1209,"S.US.PRSC",1528,"S.US.VIRC"]
[null,null,"S.US.OSBC",{"$f":"IFERROR(RTD(\"cqg.rtd\", ,\"ContractData\",C1529, \"PerCentNetLastTrade\",, \"T\")/100,\"\")","v":3.2608695652173912E-2},156,156,"S.US.OSBC",1529,"S.US.NBN"]
[null,null,"S.US.QQQX",{"$f":"IFERROR(RTD(\"cqg.rtd\", ,\"ContractData\",C1530, \"PerCentNetLastTrade\",, \"T\")/100,\"\")","v":5.2410901467505244E-4},1350,1350,"S.US.QQQX",1530,"S.US.EIGR"]
[null,null,"S.US.WSTL",{"$f":"IFERROR(RTD(\"cqg.rtd\", ,\"ContractData\",C1531, \"PerCentNetLastTrade\",, \"T\")/100,\"\")","v":3.7735849056603772E-2},114,114,"S.US.WSTL",1531,"S.US.SRSC"]
[null,null,"S.US.TDIV",{"$f":"IFERROR(RTD(\"cqg.rtd\", ,\"ContractData\",C1532, \"PerCentNetLastTrade\",, \"T\")/100,\"\")","v":0},1460,1460,"S.US.TDIV",1532,"S.US.AEMD"]
[null,null,"S.US.SNHY",{"$f":"IFERROR(RTD(\"cqg.rtd\", ,\"ContractData\",C1533, \"PerCentNetLastTrade\",, \"T\")/100,\"\")","v":6.8233510235026539E-3},921,921,"S.US.SNHY",1533,"S.US.MICT"]
[null,null,"S.US.MORN",{"$f":"IFERROR(RTD(\"cqg.rtd\", ,\"ContractData\",C1534, \"PerCentNetLastTrade\",, \"T\")/100,\"\")","v":-1.3650013650013651E-4},1570,1570,"S.US.MORN",1534,"S.US.CXDC"]
[null,null,"S.US.ONTX",{"$f":"IFERROR(RTD(\"cqg.rtd\", ,\"ContractData\",C1535, \"PerCentNetLastTrade\",, \"T\")/100,\"\")","v":1.1029411764705883E-2},668,668,"S.US.ONTX",1535,"S.US.BYBK"]
[null,null,"S.US.APRI",{"$f":"IFERROR(RTD(\"cqg.rtd\", ,\"ContractData\",C1536, \"PerCentNetLastTrade\",, \"T\")/100,\"\")","v":0},1461,1461,"S.US.APRI",1536,"S.US.LAWS"]
[null,null,"S.US.UTSI",{"$f":"IFERROR(RTD(\"cqg.rtd\", ,\"ContractData\",C1537, \"PerCentNetLastTrade\",, \"T\")/100,\"\")","v":0},1462,1462,"S.US.UTSI",1537,{"$f":"IFERROR(VLOOKUP(H1537,$F$1:$G$2860,2,FALSE),\"\")","v":"S.US.CREG"}]
[null,null,"S.US.FLKS",{"$f":"IFERROR(RTD(\"cqg.rtd\", ,\"ContractData\",C1538, \"PerCentNetLastTrade\",, \"T\")/100,\"\")","v":2.0866773675762441E-2},340,{"$f":"IFERROR(E1538,\"\")","v":340},"S.US.FLKS",1538,"S.US.PAAC"]
[null,null,"S.US.OBCI",{"$f":"IFERROR(RTD(\"cqg.rtd\", ,\"ContractData\",C1539, \"PerCentNetLastTrade\",, \"T\")/100,\"\")","v":-5.235602094240838E-3},1897,1897,{"$f":"C1539","v":"S.US.OBCI"},{"$f":"H1538+1","v":1539},"S.US.OTTW"]
[null,null,"S.US.ADUS",{"$f":"IFERROR(RTD(\"cqg.rtd\", ,\"ContractData\",C1540, \"PerCentNetLastTrade\",, \"T\")/100,\"\")","v":5.7471264367816091E-3},997,997,"S.US.ADUS",1540,"S.US.NVEC"]
[null,null,"S.US.FOMX",{"$f":"IFERROR(RTD(\"cqg.rtd\", ,\"ContractData\",C1541, \"PerCentNetLastTrade\",, \"T\")/100,\"\")","v":-1.1739594450373531E-2},2167,2167,"S.US.FOMX",1541,"S.US.MRVC"]
[null,null,"S.US.USAK",{"$f":"IFERROR(RTD(\"cqg.rtd\", ,\"ContractData\",C1542, \"PerCentNetLastTrade\",, \"T\")/100,\"\")","v":4.9830124575311441E-2},65,65,"S.US.USAK",1542,"S.US.GSOL"]
[null,null,"S.US.MTSC",{"$f":"IFERROR(RTD(\"cqg.rtd\", ,\"ContractData\",C1543, \"PerCentNetLastTrade\",, \"T\")/100,\"\")","v":2.2935779816513763E-2},282,282,"S.US.MTSC",1543,"S.US.GIGM"]
[null,null,"S.US.TNAV",{"$f":"IFERROR(RTD(\"cqg.rtd\", ,\"ContractData\",C1544, \"PerCentNetLastTrade\",, \"T\")/100,\"\")","v":-2.4390243902439025E-2},2392,2392,"S.US.TNAV",1544,"S.US.JNP"]
[null,null,"S.US.DMTX",{"$f":"IFERROR(RTD(\"cqg.rtd\", ,\"ContractData\",C1545, \"PerCentNetLastTrade\",, \"T\")/100,\"\")","v":2.3255813953488372E-2},276,276,"S.US.DMTX",1545,"S.US.DVCR"]
[null,null,"S.US.LEDS",{"$f":"IFERROR(RTD(\"cqg.rtd\", ,\"ContractData\",C1546, \"PerCentNetLastTrade\",, \"T\")/100,\"\")","v":1.1848341232227489E-2},628,628,"S.US.LEDS",1546,"S.US.FPXI"]
[null,null,"S.US.IXYS",{"$f":"IFERROR(RTD(\"cqg.rtd\", ,\"ContractData\",C1547, \"PerCentNetLastTrade\",, \"T\")/100,\"\")","v":2.575107296137339E-2},234,234,"S.US.IXYS",1547,"S.US.TWMC"]
[null,null,"S.US.HBP",{"$f":"IFERROR(RTD(\"cqg.rtd\", ,\"ContractData\",C1548, \"PerCentNetLastTrade\",, \"T\")/100,\"\")","v":1.9900497512437811E-2},360,360,"S.US.HBP",1548,"S.US.BASI"]
[null,null,"S.US.OMAB",{"$f":"IFERROR(RTD(\"cqg.rtd\", ,\"ContractData\",C1549, \"PerCentNetLastTrade\",, \"T\")/100,\"\")","v":7.7540106951871661E-3},859,859,"S.US.OMAB",1549,"S.US.WILC"]
[null,null,"S.US.TITN",{"$f":"IFERROR(RTD(\"cqg.rtd\", ,\"ContractData\",C1550, \"PerCentNetLastTrade\",, \"T\")/100,\"\")","v":4.7067901234567902E-2},72,72,"S.US.TITN",1550,"S.US.MFRI"]
[null,null,"S.US.OHGI",{"$f":"IFERROR(RTD(\"cqg.rtd\", ,\"ContractData\",C1551, \"PerCentNetLastTrade\",, \"T\")/100,\"\")","v":0.14285714285714288},7,7,"S.US.OHGI",1551,"S.US.BCTF"]
[null,null,"S.US.APLP",{"$f":"IFERROR(RTD(\"cqg.rtd\", ,\"ContractData\",C1552, \"PerCentNetLastTrade\",, \"T\")/100,\"\")","v":4.0410519563822966E-2},96,96,"S.US.APLP",1552,"S.US.VTHR"]
[null,null,"S.US.WDFC",{"$f":"IFERROR(RTD(\"cqg.rtd\", ,\"ContractData\",C1553, \"PerCentNetLastTrade\",, \"T\")/100,\"\")","v":-2.743362831858407E-2},2420,2420,"S.US.WDFC",1553,"S.US.SNSR"]
[null,null,"S.US.CYTX",{"$f":"IFERROR(RTD(\"cqg.rtd\", ,\"ContractData\",C1554, \"PerCentNetLastTrade\",, \"T\")/100,\"\")","v":-1.2738853503184712E-2},2191,2191,"S.US.CYTX",1554,"S.US.MFNC"]
[null,null,"S.US.UCFC",{"$f":"IFERROR(RTD(\"cqg.rtd\", ,\"ContractData\",C1555, \"PerCentNetLastTrade\",, \"T\")/100,\"\")","v":2.3866348448687348E-3},1232,1232,"S.US.UCFC",1555,"S.US.SGOC"]
[null,null,"S.US.GSUM",{"$f":"IFERROR(RTD(\"cqg.rtd\", ,\"ContractData\",C1556, \"PerCentNetLastTrade\",, \"T\")/100,\"\")","v":-1.5302727877578177E-2},2264,2264,"S.US.GSUM",1556,"S.US.CLRO"]
[null,null,"S.US.ALQA",{"$f":"IFERROR(RTD(\"cqg.rtd\", ,\"ContractData\",C1557, \"PerCentNetLastTrade\",, \"T\")/100,\"\")","v":1.5151515151515152E-2},491,491,"S.US.ALQA",1557,"S.US.EML"]
[null,null,"S.US.SBSI",{"$f":"IFERROR(RTD(\"cqg.rtd\", ,\"ContractData\",C1558, \"PerCentNetLastTrade\",, \"T\")/100,\"\")","v":1.7805708300602251E-2},417,417,"S.US.SBSI",1558,"S.US.GRIF"]
[null,null,"S.US.PHMD",{"$f":"IFERROR(RTD(\"cqg.rtd\", ,\"ContractData\",C1559, \"PerCentNetLastTrade\",, \"T\")/100,\"\")","v":-5.2238805970149259E-2},2520,2520,"S.US.PHMD",1559,"S.US.TGEN"]
[null,null,"S.US.OTTR",{"$f":"IFERROR(RTD(\"cqg.rtd\", ,\"ContractData\",C1560, \"PerCentNetLastTrade\",, \"T\")/100,\"\")","v":-1.2787723785166241E-3},1647,1647,"S.US.OTTR",1560,"S.US.HOVNP"]
[null,null,"S.US.LANC",{"$f":"IFERROR(RTD(\"cqg.rtd\", ,\"ContractData\",C1561, \"PerCentNetLastTrade\",, \"T\")/100,\"\")","v":-9.3666690683766849E-4},1623,1623,"S.US.LANC",1561,"S.US.SGRP"]
[null,null,"S.US.CCD",{"$f":"IFERROR(RTD(\"cqg.rtd\", ,\"ContractData\",C1562, \"PerCentNetLastTrade\",, \"T\")/100,\"\")","v":0},1463,1463,"S.US.CCD",1562,"S.US.TATT"]
[null,null,"S.US.SHOS",{"$f":"IFERROR(RTD(\"cqg.rtd\", ,\"ContractData\",C1563, \"PerCentNetLastTrade\",, \"T\")/100,\"\")","v":3.968253968253968E-2},103,103,"S.US.SHOS",1563,"S.US.WMGIZ"]
[null,null,"S.US.PFMT",{"$f":"IFERROR(RTD(\"cqg.rtd\", ,\"ContractData\",C1564, \"PerCentNetLastTrade\",, \"T\")/100,\"\")","v":0},1464,1464,"S.US.PFMT",1564,"S.US.IIJI"]
[null,null,"S.US.PFLT",{"$f":"IFERROR(RTD(\"cqg.rtd\", ,\"ContractData\",C1565, \"PerCentNetLastTrade\",, \"T\")/100,\"\")","v":-4.3072505384063172E-3},1845,1845,"S.US.PFLT",1565,"S.US.HBMD"]
[null,null,"S.US.GNVC",{"$f":"IFERROR(RTD(\"cqg.rtd\", ,\"ContractData\",C1566, \"PerCentNetLastTrade\",, \"T\")/100,\"\")","v":9.375E-2},27,27,"S.US.GNVC",1566,"S.US.EVK"]
[null,null,"S.US.EVAR",{"$f":"IFERROR(RTD(\"cqg.rtd\", ,\"ContractData\",C1567, \"PerCentNetLastTrade\",, \"T\")/100,\"\")","v":0.1125},14,14,"S.US.EVAR",1567,"S.US.GOODO"]
[null,null,"S.US.NOVN",{"$f":"IFERROR(RTD(\"cqg.rtd\", ,\"ContractData\",C1568, \"PerCentNetLastTrade\",, \"T\")/100,\"\")","v":-6.6225165562913916E-3},1957,1957,"S.US.NOVN",1568,"S.US.CTAS"]
[null,null,"S.US.ATTU",{"$f":"IFERROR(RTD(\"cqg.rtd\", ,\"ContractData\",C1569, \"PerCentNetLastTrade\",, \"T\")/100,\"\")","v":1.7730496453900709E-3},1274,1274,"S.US.ATTU",1569,"S.US.ISHG"]
[null,null,"S.US.LMOS",{"$f":"IFERROR(RTD(\"cqg.rtd\", ,\"ContractData\",C1570, \"PerCentNetLastTrade\",, \"T\")/100,\"\")","v":3.3990482664853837E-3},1152,1152,"S.US.LMOS",1570,"S.US.MORN"]
[null,null,"S.US.CRSP",{"$f":"IFERROR(RTD(\"cqg.rtd\", ,\"ContractData\",C1571, \"PerCentNetLastTrade\",, \"T\")/100,\"\")","v":-3.4677069787602947E-3},1786,1786,"S.US.CRSP",1571,"S.US.SOXX"]
[null,null,"S.US.VKTX",{"$f":"IFERROR(RTD(\"cqg.rtd\", ,\"ContractData\",C1572, \"PerCentNetLastTrade\",, \"T\")/100,\"\")","v":2.6785714285714284E-2},220,220,"S.US.VKTX",1572,"S.US.RFDI"]
[null,null,"S.US.TRHC",{"$f":"IFERROR(RTD(\"cqg.rtd\", ,\"ContractData\",C1573, \"PerCentNetLastTrade\",, \"T\")/100,\"\")","v":2.886002886002886E-3},1191,1191,"S.US.TRHC",1573,"S.US.SLGN"]
[null,null,"S.US.LYTS",{"$f":"IFERROR(RTD(\"cqg.rtd\", ,\"ContractData\",C1574, \"PerCentNetLastTrade\",, \"T\")/100,\"\")","v":2.3858921161825725E-2},265,265,"S.US.LYTS",1574,"S.US.VTIP"]
[null,null,"S.US.LAYN",{"$f":"IFERROR(RTD(\"cqg.rtd\", ,\"ContractData\",C1575, \"PerCentNetLastTrade\",, \"T\")/100,\"\")","v":3.7284894837476101E-2},120,120,"S.US.LAYN",1575,"S.US.FTSL"]
[null,null,"S.US.WNEB",{"$f":"IFERROR(RTD(\"cqg.rtd\", ,\"ContractData\",C1576, \"PerCentNetLastTrade\",, \"T\")/100,\"\")","v":0},1465,1465,"S.US.WNEB",1576,"S.US.HYLS"]
[null,null,"S.US.INNL",{"$f":"IFERROR(RTD(\"cqg.rtd\", ,\"ContractData\",C1577, \"PerCentNetLastTrade\",, \"T\")/100,\"\")","v":2.2471910112359553E-2},294,294,"S.US.INNL",1577,"S.US.PDCO"]
[null,null,"S.US.AMCN",{"$f":"IFERROR(RTD(\"cqg.rtd\", ,\"ContractData\",C1578, \"PerCentNetLastTrade\",, \"T\")/100,\"\")","v":-3.508771929824561E-3},1791,1791,"S.US.AMCN",1578,"S.US.FTSM"]
[null,null,"S.US.GUID",{"$f":"IFERROR(RTD(\"cqg.rtd\", ,\"ContractData\",C1579, \"PerCentNetLastTrade\",, \"T\")/100,\"\")","v":9.8730606488011286E-3},736,736,"S.US.GUID",1579,"S.US.PAYX"]
[null,null,"S.US.ARGS",{"$f":"IFERROR(RTD(\"cqg.rtd\", ,\"ContractData\",C1580, \"PerCentNetLastTrade\",, \"T\")/100,\"\")","v":1.0309278350515462E-2},705,705,"S.US.ARGS",1580,"S.US.ROBO"]
[null,null,"S.US.PERY",{"$f":"IFERROR(RTD(\"cqg.rtd\", ,\"ContractData\",C1581, \"PerCentNetLastTrade\",, \"T\")/100,\"\")","v":-8.0336648814078038E-3},2026,2026,"S.US.PERY",1581,"S.US.IPKW"]
[null,null,"S.US.FBIO",{"$f":"IFERROR(RTD(\"cqg.rtd\", ,\"ContractData\",C1582, \"PerCentNetLastTrade\",, \"T\")/100,\"\")","v":1.6597510373443983E-2},443,443,"S.US.FBIO",1582,"S.US.WBMD"]
[null,null,"S.US.AXAR",{"$f":"IFERROR(RTD(\"cqg.rtd\", ,\"ContractData\",C1583, \"PerCentNetLastTrade\",, \"T\")/100,\"\")","v":""},{"$error":"#VALUE!"},"","S.US.AXAR",1583,"S.US.LMBS"]
[null,null,"S.US.ARCI",{"$f":"IFERROR(RTD(\"cqg.rtd\", ,\"ContractData\",C1584, \"PerCentNetLastTrade\",, \"T\")/100,\"\")","v":9.8039215686274508E-3},740,740,"S.US.ARCI",1584,"S.US.SABR"]
[null,null,"S.US.CAAS",{"$f":"IFERROR(RTD(\"cqg.rtd\", ,\"ContractData\",C1585, \"PerCentNetLastTrade\",, \"T\")/100,\"\")","v":6.2695924764890288E-3},949,949,"S.US.CAAS",1585,"S.US.GLADO"]
[null,null,"S.US.CMCO",{"$f":"IFERROR(RTD(\"cqg.rtd\", ,\"ContractData\",C1586, \"PerCentNetLastTrade\",, \"T\")/100,\"\")","v":1.5011547344110854E-2},497,497,"S.US.CMCO",1586,"S.US.TCBIP"]
[null,null,"S.US.GAIA",{"$f":"IFERROR(RTD(\"cqg.rtd\", ,\"ContractData\",C1587, \"PerCentNetLastTrade\",, \"T\")/100,\"\")","v":5.7803468208092491E-3},994,994,"S.US.GAIA",1587,"S.US.PSCF"]
[null,null,"S.US.CPTA",{"$f":"IFERROR(RTD(\"cqg.rtd\", ,\"ContractData\",C1588, \"PerCentNetLastTrade\",, \"T\")/100,\"\")","v":-8.045052292839903E-4},1615,1615,"S.US.CPTA",1588,"S.US.GNMA"]
[null,null,"S.US.RARX",{"$f":"IFERROR(RTD(\"cqg.rtd\", ,\"ContractData\",C1589, \"PerCentNetLastTrade\",, \"T\")/100,\"\")","v":1.1538461538461537E-2},642,642,"S.US.RARX",1589,"S.US.PDFS"]
[null,null,"S.US.KTOV",{"$f":"IFERROR(RTD(\"cqg.rtd\", ,\"ContractData\",C1590, \"PerCentNetLastTrade\",, \"T\")/100,\"\")","v":-8.771929824561403E-3},2051,2051,"S.US.KTOV",1590,"S.US.TXRH"]
[null,null,"S.US.PFBC",{"$f":"IFERROR(RTD(\"cqg.rtd\", ,\"ContractData\",C1591, \"PerCentNetLastTrade\",, \"T\")/100,\"\")","v":1.1681728014106239E-2},637,637,"S.US.PFBC",1591,"S.US.QYLD"]
[null,null,"S.US.AFAM",{"$f":"IFERROR(RTD(\"cqg.rtd\", ,\"ContractData\",C1592, \"PerCentNetLastTrade\",, \"T\")/100,\"\")","v":-4.8602673147023082E-3},1877,1877,"S.US.AFAM",1592,"S.US.VRTU"]
[null,null,"S.US.CHDN",{"$f":"IFERROR(RTD(\"cqg.rtd\", ,\"ContractData\",C1593, \"PerCentNetLastTrade\",, \"T\")/100,\"\")","v":-1.1874197689345313E-2},2169,2169,"S.US.CHDN",1593,"S.US.MIME"]
[null,null,"S.US.COHU",{"$f":"IFERROR(RTD(\"cqg.rtd\", ,\"ContractData\",C1594, \"PerCentNetLastTrade\",, \"T\")/100,\"\")","v":1.7377567140600316E-2},427,427,"S.US.COHU",1594,"S.US.DTSI"]
[null,null,"S.US.MARA",{"$f":"IFERROR(RTD(\"cqg.rtd\", ,\"ContractData\",C1595, \"PerCentNetLastTrade\",, \"T\")/100,\"\")","v":1.6393442622950821E-2},446,446,"S.US.MARA",1595,"S.US.SFM"]
[null,null,"S.US.BONT",{"$f":"IFERROR(RTD(\"cqg.rtd\", ,\"ContractData\",C1596, \"PerCentNetLastTrade\",, \"T\")/100,\"\")","v":-6.1349693251533744E-3},1934,1934,"S.US.BONT",1596,"S.US.TMUS"]
[null,null,"S.US.INTL",{"$f":"IFERROR(RTD(\"cqg.rtd\", ,\"ContractData\",C1597, \"PerCentNetLastTrade\",, \"T\")/100,\"\")","v":2.2710799710074898E-2},289,289,"S.US.INTL",1597,"S.US.GBDC"]
[null,null,"S.US.SSB",{"$f":"IFERROR(RTD(\"cqg.rtd\", ,\"ContractData\",C1598, \"PerCentNetLastTrade\",, \"T\")/100,\"\")","v":5.275498241500586E-3},1030,1030,"S.US.SSB",1598,"S.US.SSYS"]
[null,null,"S.US.KNSL",{"$f":"IFERROR(RTD(\"cqg.rtd\", ,\"ContractData\",C1599, \"PerCentNetLastTrade\",, \"T\")/100,\"\")","v":4.5438282647584975E-2},76,76,"S.US.KNSL",1599,"S.US.LSXMK"]
[null,null,"S.US.CALL",{"$f":"IFERROR(RTD(\"cqg.rtd\", ,\"ContractData\",C1600, \"PerCentNetLastTrade\",, \"T\")/100,\"\")","v":0},1466,1466,"S.US.CALL",1600,"S.US.IPCC"]
[null,null,"S.US.FYX",{"$f":"IFERROR(RTD(\"cqg.rtd\", ,\"ContractData\",C1601, \"PerCentNetLastTrade\",, \"T\")/100,\"\")","v":4.1431261770244823E-3},1103,1103,"S.US.FYX",1601,{"$f":"IFERROR(VLOOKUP(H1601,$F$1:$G$2860,2,FALSE),\"\")","v":"S.US.BRKS"}]
[null,null,"S.US.MCUR",{"$f":"IFERROR(RTD(\"cqg.rtd\", ,\"ContractData\",C1602, \"PerCentNetLastTrade\",, \"T\")/100,\"\")","v":""},{"$error":"#VALUE!"},{"$f":"IFERROR(E1602,\"\")","v":""},"S.US.MCUR",1602,"S.US.QCLN"]
[null,null,"S.US.HAYN",{"$f":"IFERROR(RTD(\"cqg.rtd\", ,\"ContractData\",C1603, \"PerCentNetLastTrade\",, \"T\")/100,\"\")","v":1.9049804911636447E-2},378,378,{"$f":"C1603","v":"S.US.HAYN"},{"$f":"H1602+1","v":1603},"S.US.PLKI"]
[null,null,"S.US.LABL",{"$f":"IFERROR(RTD(\"cqg.rtd\", ,\"ContractData\",C1604, \"PerCentNetLastTrade\",, \"T\")/100,\"\")","v":2.8228652081863093E-3},1198,1198,"S.US.LABL",1604,"S.US.ONEQ"]
[null,null,"S.US.ARQL",{"$f":"IFERROR(RTD(\"cqg.rtd\", ,\"ContractData\",C1605, \"PerCentNetLastTrade\",, \"T\")/100,\"\")","v":0},1467,1467,"S.US.ARQL",1605,"S.US.NATI"]
[null,null,"S.US.NEWS",{"$f":"IFERROR(RTD(\"cqg.rtd\", ,\"ContractData\",C1606, \"PerCentNetLastTrade\",, \"T\")/100,\"\")","v":2.4221453287197228E-2},256,256,"S.US.NEWS",1606,"S.US.CSCO"]
[null,null,"S.US.CLMS",{"$f":"IFERROR(RTD(\"cqg.rtd\", ,\"ContractData\",C1607, \"PerCentNetLastTrade\",, \"T\")/100,\"\")","v":2.4926686217008796E-2},247,247,"S.US.CLMS",1607,"S.US.CAKE"]
[null,null,"S.US.CRVL",{"$f":"IFERROR(RTD(\"cqg.rtd\", ,\"ContractData\",C1608, \"PerCentNetLastTrade\",, \"T\")/100,\"\")","v":-3.0581039755351678E-3},1758,1758,"S.US.CRVL",1608,"S.US.FLEX"]
[null,null,"S.US.STAF",{"$f":"IFERROR(RTD(\"cqg.rtd\", ,\"ContractData\",C1609, \"PerCentNetLastTrade\",, \"T\")/100,\"\")","v":-1.9417475728155342E-2},2344,2344,"S.US.STAF",1609,"S.US.SGBK"]
[null,null,"S.US.VRTS",{"$f":"IFERROR(RTD(\"cqg.rtd\", ,\"ContractData\",C1610, \"PerCentNetLastTrade\",, \"T\")/100,\"\")","v":5.6325823223570192E-3},1006,1006,"S.US.VRTS",1610,"S.US.CFO"]
[null,null,"S.US.VASC",{"$f":"IFERROR(RTD(\"cqg.rtd\", ,\"ContractData\",C1611, \"PerCentNetLastTrade\",, \"T\")/100,\"\")","v":1.1162790697674418E-3},1319,1319,"S.US.VASC",1611,"S.US.PATI"]
[null,null,"S.US.IBCP",{"$f":"IFERROR(RTD(\"cqg.rtd\", ,\"ContractData\",C1612, \"PerCentNetLastTrade\",, \"T\")/100,\"\")","v":1.3297872340425532E-2},567,567,"S.US.IBCP",1612,"S.US.FEYE"]
[null,null,"S.US.ALLT",{"$f":"IFERROR(RTD(\"cqg.rtd\", ,\"ContractData\",C1613, \"PerCentNetLastTrade\",, \"T\")/100,\"\")","v":2.1231422505307855E-3},1251,1251,"S.US.ALLT",1613,"S.US.ESRX"]
[null,null,"S.US.NHTC",{"$f":"IFERROR(RTD(\"cqg.rtd\", ,\"ContractData\",C1614, \"PerCentNetLastTrade\",, \"T\")/100,\"\")","v":3.1458906802988595E-3},1170,1170,"S.US.NHTC",1614,"S.US.VRIG"]
[null,null,"S.US.ZWZZT",{"$f":"IFERROR(RTD(\"cqg.rtd\", ,\"ContractData\",C1615, \"PerCentNetLastTrade\",, \"T\")/100,\"\")","v":""},{"$error":"#VALUE!"},"","S.US.ZWZZT",1615,"S.US.CPTA"]
[null,null,"S.US.CRMT",{"$f":"IFERROR(RTD(\"cqg.rtd\", ,\"ContractData\",C1616, \"PerCentNetLastTrade\",, \"T\")/100,\"\")","v":1.4444444444444444E-2},513,513,"S.US.CRMT",1616,"S.US.ISM"]
[null,null,"S.US.SNC",{"$f":"IFERROR(RTD(\"cqg.rtd\", ,\"ContractData\",C1617, \"PerCentNetLastTrade\",, \"T\")/100,\"\")","v":1.4619883040935672E-3},1289,1289,"S.US.SNC",1617,"S.US.ABDC"]
[null,null,"S.US.PCBK",{"$f":"IFERROR(RTD(\"cqg.rtd\", ,\"ContractData\",C1618, \"PerCentNetLastTrade\",, \"T\")/100,\"\")","v":5.0632911392405064E-3},1041,1041,"S.US.PCBK",1618,"S.US.SOCL"]
[null,null,"S.US.CERC",{"$f":"IFERROR(RTD(\"cqg.rtd\", ,\"ContractData\",C1619, \"PerCentNetLastTrade\",, \"T\")/100,\"\")","v":-0.4809322033898305},2575,2575,"S.US.CERC",1619,"S.US.IQNT"]
[null,null,"S.US.III",{"$f":"IFERROR(RTD(\"cqg.rtd\", ,\"ContractData\",C1620, \"PerCentNetLastTrade\",, \"T\")/100,\"\")","v":2.7777777777777779E-3},1200,1200,"S.US.III",1620,"S.US.AEIS"]
[null,null,"S.US.BSQR",{"$f":"IFERROR(RTD(\"cqg.rtd\", ,\"ContractData\",C1621, \"PerCentNetLastTrade\",, \"T\")/100,\"\")","v":0},1468,1468,"S.US.BSQR",1621,"S.US.QRVO"]
[null,null,"S.US.LKFN",{"$f":"IFERROR(RTD(\"cqg.rtd\", ,\"ContractData\",C1622, \"PerCentNetLastTrade\",, \"T\")/100,\"\")","v":4.691531785127844E-4},1353,1353,"S.US.LKFN",1622,"S.US.NTGR"]
[null,null,"S.US.AAAP",{"$f":"IFERROR(RTD(\"cqg.rtd\", ,\"ContractData\",C1623, \"PerCentNetLastTrade\",, \"T\")/100,\"\")","v":1.4300306435137895E-2},521,521,"S.US.AAAP",1623,"S.US.LANC"]
[null,null,"S.US.TTOO",{"$f":"IFERROR(RTD(\"cqg.rtd\", ,\"ContractData\",C1624, \"PerCentNetLastTrade\",, \"T\")/100,\"\")","v":-1.1494252873563218E-2},2157,2157,"S.US.TTOO",1624,"S.US.SLQD"]
[null,null,"S.US.SGNL",{"$f":"IFERROR(RTD(\"cqg.rtd\", ,\"ContractData\",C1625, \"PerCentNetLastTrade\",, \"T\")/100,\"\")","v":8.4925690021231421E-3},824,824,"S.US.SGNL",1625,"S.US.VBND"]
[null,null,"S.US.SYBT",{"$f":"IFERROR(RTD(\"cqg.rtd\", ,\"ContractData\",C1626, \"PerCentNetLastTrade\",, \"T\")/100,\"\")","v":0},1469,1469,"S.US.SYBT",1626,"S.US.JRVR"]
[null,null,"S.US.HSII",{"$f":"IFERROR(RTD(\"cqg.rtd\", ,\"ContractData\",C1627, \"PerCentNetLastTrade\",, \"T\")/100,\"\")","v":-2.3752969121140139E-3},1713,1713,"S.US.HSII",1627,"S.US.LIND"]
[null,null,"S.US.SAFT",{"$f":"IFERROR(RTD(\"cqg.rtd\", ,\"ContractData\",C1628, \"PerCentNetLastTrade\",, \"T\")/100,\"\")","v":1.413427561837456E-3},1293,1293,"S.US.SAFT",1628,"S.US.MCBC"]
[null,null,"S.US.HONE",{"$f":"IFERROR(RTD(\"cqg.rtd\", ,\"ContractData\",C1629, \"PerCentNetLastTrade\",, \"T\")/100,\"\")","v":2.0779220779220779E-3},1253,1253,"S.US.HONE",1629,"S.US.FJP"]
[null,null,"S.US.AFH",{"$f":"IFERROR(RTD(\"cqg.rtd\", ,\"ContractData\",C1630, \"PerCentNetLastTrade\",, \"T\")/100,\"\")","v":2.9325513196480938E-3},1187,1187,"S.US.AFH",1630,"S.US.HOLI"]
[null,null,"S.US.UHAL",{"$f":"IFERROR(RTD(\"cqg.rtd\", ,\"ContractData\",C1631, \"PerCentNetLastTrade\",, \"T\")/100,\"\")","v":1.1992862784099218E-3},1309,1309,"S.US.UHAL",1631,"S.US.SMTC"]
[null,null,"S.US.TINY",{"$f":"IFERROR(RTD(\"cqg.rtd\", ,\"ContractData\",C1632, \"PerCentNetLastTrade\",, \"T\")/100,\"\")","v":8.0000000000000002E-3},845,845,"S.US.TINY",1632,"S.US.HDP"]
[null,null,"S.US.VTWO",{"$f":"IFERROR(RTD(\"cqg.rtd\", ,\"ContractData\",C1633, \"PerCentNetLastTrade\",, \"T\")/100,\"\")","v":4.5295838444842883E-3},1082,1082,"S.US.VTWO",1633,"S.US.ASUR"]
[null,null,"S.US.EFOI",{"$f":"IFERROR(RTD(\"cqg.rtd\", ,\"ContractData\",C1634, \"PerCentNetLastTrade\",, \"T\")/100,\"\")","v":2.1186440677966104E-2},330,330,"S.US.EFOI",1634,"S.US.DGAS"]
[null,null,"S.US.CWCO",{"$f":"IFERROR(RTD(\"cqg.rtd\", ,\"ContractData\",C1635, \"PerCentNetLastTrade\",, \"T\")/100,\"\")","v":1.3392857142857142E-2},562,562,"S.US.CWCO",1635,"S.US.CCMP"]
[null,null,"S.US.OXFD",{"$f":"IFERROR(RTD(\"cqg.rtd\", ,\"ContractData\",C1636, \"PerCentNetLastTrade\",, \"T\")/100,\"\")","v":1.152542372881356E-2},643,643,"S.US.OXFD",1636,"S.US.FMB"]
[null,null,"S.US.CUTR",{"$f":"IFERROR(RTD(\"cqg.rtd\", ,\"ContractData\",C1637, \"PerCentNetLastTrade\",, \"T\")/100,\"\")","v":5.9171597633136093E-3},984,984,"S.US.CUTR",1637,"S.US.AMRK"]
[null,null,"S.US.MPET",{"$f":"IFERROR(RTD(\"cqg.rtd\", ,\"ContractData\",C1638, \"PerCentNetLastTrade\",, \"T\")/100,\"\")","v":-2.8571428571428571E-2},2429,2429,"S.US.MPET",1638,"S.US.VONG"]
[null,null,"S.US.CYBE",{"$f":"IFERROR(RTD(\"cqg.rtd\", ,\"ContractData\",C1639, \"PerCentNetLastTrade\",, \"T\")/100,\"\")","v":1.6778523489932886E-2},435,435,"S.US.CYBE",1639,"S.US.MBSD"]
[null,null,"S.US.ALSK",{"$f":"IFERROR(RTD(\"cqg.rtd\", ,\"ContractData\",C1640, \"PerCentNetLastTrade\",, \"T\")/100,\"\")","v":-1.2903225806451613E-2},2198,2198,"S.US.ALSK",1640,"S.US.CSA"]
[null,null,"S.US.XNET",{"$f":"IFERROR(RTD(\"cqg.rtd\", ,\"ContractData\",C1641, \"PerCentNetLastTrade\",, \"T\")/100,\"\")","v":9.0497737556561094E-3},796,796,"S.US.XNET",1641,"S.US.ORBK"]
[null,null,"S.US.TST",{"$f":"IFERROR(RTD(\"cqg.rtd\", ,\"ContractData\",C1642, \"PerCentNetLastTrade\",, \"T\")/100,\"\")","v":1.1363636363636364E-2},651,651,"S.US.TST",1642,"S.US.FKU"]
[null,null,"S.US.ANCX",{"$f":"IFERROR(RTD(\"cqg.rtd\", ,\"ContractData\",C1643, \"PerCentNetLastTrade\",, \"T\")/100,\"\")","v":2.2852930335422045E-2},285,285,"S.US.ANCX",1643,"S.US.ARCC"]
[null,null,"S.US.LOB",{"$f":"IFERROR(RTD(\"cqg.rtd\", ,\"ContractData\",C1644, \"PerCentNetLastTrade\",, \"T\")/100,\"\")","v":1.1363636363636364E-2},652,652,"S.US.LOB",1644,"S.US.FEMB"]
[null,null,"S.US.AGRX",{"$f":"IFERROR(RTD(\"cqg.rtd\", ,\"ContractData\",C1645, \"PerCentNetLastTrade\",, \"T\")/100,\"\")","v":1.7441860465116279E-2},425,425,"S.US.AGRX",1645,"S.US.VCSH"]
[null,null,"S.US.FMNB",{"$f":"IFERROR(RTD(\"cqg.rtd\", ,\"ContractData\",C1646, \"PerCentNetLastTrade\",, \"T\")/100,\"\")","v":4.1666666666666666E-3},1101,1101,"S.US.FMNB",1646,"S.US.YDIV"]
[null,null,"S.US.FFIC",{"$f":"IFERROR(RTD(\"cqg.rtd\", ,\"ContractData\",C1647, \"PerCentNetLastTrade\",, \"T\")/100,\"\")","v":1.1385199240986717E-2},650,650,"S.US.FFIC",1647,"S.US.OTTR"]
[null,null,"S.US.GNBC",{"$f":"IFERROR(RTD(\"cqg.rtd\", ,\"ContractData\",C1648, \"PerCentNetLastTrade\",, \"T\")/100,\"\")","v":7.9681274900398405E-3},847,847,"S.US.GNBC",1648,"S.US.IGF"]
[null,null,"S.US.SLQD",{"$f":"IFERROR(RTD(\"cqg.rtd\", ,\"ContractData\",C1649, \"PerCentNetLastTrade\",, \"T\")/100,\"\")","v":-9.9601593625498006E-4},1624,1624,"S.US.SLQD",1649,"S.US.SHOO"]
[null,null,"S.US.FISI",{"$f":"IFERROR(RTD(\"cqg.rtd\", ,\"ContractData\",C1650, \"PerCentNetLastTrade\",, \"T\")/100,\"\")","v":9.1893665900886108E-3},782,782,"S.US.FISI",1650,"S.US.CAMP"]
[null,null,"S.US.LFVN",{"$f":"IFERROR(RTD(\"cqg.rtd\", ,\"ContractData\",C1651, \"PerCentNetLastTrade\",, \"T\")/100,\"\")","v":0},1470,1470,"S.US.LFVN",1651,"S.US.ISCA"]
[null,null,"S.US.AKER",{"$f":"IFERROR(RTD(\"cqg.rtd\", ,\"ContractData\",C1652, \"PerCentNetLastTrade\",, \"T\")/100,\"\")","v":-5.2631578947368425E-2},2521,2521,"S.US.AKER",1652,"S.US.COHR"]
[null,null,"S.US.NXEO",{"$f":"IFERROR(RTD(\"cqg.rtd\", ,\"ContractData\",C1653, \"PerCentNetLastTrade\",, \"T\")/100,\"\")","v":-6.4516129032258064E-3},1950,1950,"S.US.NXEO",1653,"S.US.Z"]
[null,null,"S.US.WMAR",{"$f":"IFERROR(RTD(\"cqg.rtd\", ,\"ContractData\",C1654, \"PerCentNetLastTrade\",, \"T\")/100,\"\")","v":5.0813008130081308E-3},1038,1038,"S.US.WMAR",1654,"S.US.QVCA"]
[null,null,"S.US.GLMD",{"$f":"IFERROR(RTD(\"cqg.rtd\", ,\"ContractData\",C1655, \"PerCentNetLastTrade\",, \"T\")/100,\"\")","v":1.1049723756906079E-2},665,665,"S.US.GLMD",1655,"S.US.TRMB"]
[null,null,"S.US.IMMY",{"$f":"IFERROR(RTD(\"cqg.rtd\", ,\"ContractData\",C1656, \"PerCentNetLastTrade\",, \"T\")/100,\"\")","v":3.9711191335740074E-2},102,102,"S.US.IMMY",1656,"S.US.LLTC"]
[null,null,"S.US.JRJC",{"$f":"IFERROR(RTD(\"cqg.rtd\", ,\"ContractData\",C1657, \"PerCentNetLastTrade\",, \"T\")/100,\"\")","v":2.227722772277228E-2},300,300,"S.US.JRJC",1657,"S.US.CDL"]
[null,null,"S.US.AMSC",{"$f":"IFERROR(RTD(\"cqg.rtd\", ,\"ContractData\",C1658, \"PerCentNetLastTrade\",, \"T\")/100,\"\")","v":1.935483870967742E-2},372,372,"S.US.AMSC",1658,"S.US.RRGB"]
[null,null,"S.US.PANL",{"$f":"IFERROR(RTD(\"cqg.rtd\", ,\"ContractData\",C1659, \"PerCentNetLastTrade\",, \"T\")/100,\"\")","v":-3.0769230769230769E-3},1761,1761,"S.US.PANL",1659,"S.US.AFSI"]
[null,null,"S.US.VTL",{"$f":"IFERROR(RTD(\"cqg.rtd\", ,\"ContractData\",C1660, \"PerCentNetLastTrade\",, \"T\")/100,\"\")","v":3.7735849056603772E-2},115,115,"S.US.VTL",1660,"S.US.RCMT"]
[null,null,"S.US.ZN",{"$f":"IFERROR(RTD(\"cqg.rtd\", ,\"ContractData\",C1661, \"PerCentNetLastTrade\",, \"T\")/100,\"\")","v":5.3435114503816793E-2},57,57,"S.US.ZN",1661,"S.US.WEN"]
[null,null,"S.US.MBVX",{"$f":"IFERROR(RTD(\"cqg.rtd\", ,\"ContractData\",C1662, \"PerCentNetLastTrade\",, \"T\")/100,\"\")","v":2.5706940874035988E-3},1219,1219,"S.US.MBVX",1662,"S.US.CHUY"]
[null,null,"S.US.HOFT",{"$f":"IFERROR(RTD(\"cqg.rtd\", ,\"ContractData\",C1663, \"PerCentNetLastTrade\",, \"T\")/100,\"\")","v":1.8148820326678765E-3},1271,1271,"S.US.HOFT",1663,"S.US.AUDC"]
[null,null,"S.US.CNIT",{"$f":"IFERROR(RTD(\"cqg.rtd\", ,\"ContractData\",C1664, \"PerCentNetLastTrade\",, \"T\")/100,\"\")","v":3.7499999999999999E-2},118,118,"S.US.CNIT",1664,"S.US.ACIW"]
[null,null,"S.US.KONA",{"$f":"IFERROR(RTD(\"cqg.rtd\", ,\"ContractData\",C1665, \"PerCentNetLastTrade\",, \"T\")/100,\"\")","v":1.2658227848101267E-2},592,592,"S.US.KONA",1665,{"$f":"IFERROR(VLOOKUP(H1665,$F$1:$G$2860,2,FALSE),\"\")","v":"S.US.ICPT"}]
[null,null,"S.US.DSPG",{"$f":"IFERROR(RTD(\"cqg.rtd\", ,\"ContractData\",C1666, \"PerCentNetLastTrade\",, \"T\")/100,\"\")","v":1.271186440677966E-2},589,{"$f":"IFERROR(E1666,\"\")","v":589},"S.US.DSPG",1666,"S.US.AINV"]
[null,null,"S.US.IOTS",{"$f":"IFERROR(RTD(\"cqg.rtd\", ,\"ContractData\",C1667, \"PerCentNetLastTrade\",, \"T\")/100,\"\")","v":0},1471,1471,{"$f":"C1667","v":"S.US.IOTS"},{"$f":"H1666+1","v":1667},"S.US.SBBX"]
[null,null,"S.US.DBVT",{"$f":"IFERROR(RTD(\"cqg.rtd\", ,\"ContractData\",C1668, \"PerCentNetLastTrade\",, \"T\")/100,\"\")","v":-4.9166894291177276E-3},1881,1881,"S.US.DBVT",1668,"S.US.CUI"]
[null,null,"S.US.FEM",{"$f":"IFERROR(RTD(\"cqg.rtd\", ,\"ContractData\",C1669, \"PerCentNetLastTrade\",, \"T\")/100,\"\")","v":1.9723865877712033E-3},1260,1260,"S.US.FEM",1669,"S.US.VMBS"]
[null,null,"S.US.JJSF",{"$f":"IFERROR(RTD(\"cqg.rtd\", ,\"ContractData\",C1670, \"PerCentNetLastTrade\",, \"T\")/100,\"\")","v":-7.9993469920822784E-3},2022,2022,"S.US.JJSF",1670,"S.US.LULU"]
[null,null,"S.US.GSVC",{"$f":"IFERROR(RTD(\"cqg.rtd\", ,\"ContractData\",C1671, \"PerCentNetLastTrade\",, \"T\")/100,\"\")","v":-1.3779527559055118E-2},2219,2219,"S.US.GSVC",1671,"S.US.NWSA"]
[null,null,"S.US.FTCS",{"$f":"IFERROR(RTD(\"cqg.rtd\", ,\"ContractData\",C1672, \"PerCentNetLastTrade\",, \"T\")/100,\"\")","v":-3.4229828850855749E-3},1783,1783,"S.US.FTCS",1672,"S.US.LFUS"]
[null,null,"S.US.IPAR",{"$f":"IFERROR(RTD(\"cqg.rtd\", ,\"ContractData\",C1673, \"PerCentNetLastTrade\",, \"T\")/100,\"\")","v":2.8612303290414883E-3},1195,1195,"S.US.IPAR",1673,"S.US.FFNW"]
[null,null,"S.US.JMBA",{"$f":"IFERROR(RTD(\"cqg.rtd\", ,\"ContractData\",C1674, \"PerCentNetLastTrade\",, \"T\")/100,\"\")","v":8.8845014807502464E-3},803,803,"S.US.JMBA",1674,"S.US.IAC"]
[null,null,"S.US.CBLI",{"$f":"IFERROR(RTD(\"cqg.rtd\", ,\"ContractData\",C1675, \"PerCentNetLastTrade\",, \"T\")/100,\"\")","v":0},1472,1472,"S.US.CBLI",1675,"S.US.GIII"]
[null,null,"S.US.OBLN",{"$f":"IFERROR(RTD(\"cqg.rtd\", ,\"ContractData\",C1676, \"PerCentNetLastTrade\",, \"T\")/100,\"\")","v":4.87012987012987E-3},1057,1057,"S.US.OBLN",1676,"S.US.CBAN"]
[null,null,"S.US.CNOB",{"$f":"IFERROR(RTD(\"cqg.rtd\", ,\"ContractData\",C1677, \"PerCentNetLastTrade\",, \"T\")/100,\"\")","v":2.9473684210526313E-3},1186,1186,"S.US.CNOB",1677,"S.US.LPNT"]
[null,null,"S.US.ENZL",{"$f":"IFERROR(RTD(\"cqg.rtd\", ,\"ContractData\",C1678, \"PerCentNetLastTrade\",, \"T\")/100,\"\")","v":-2.3501762632197414E-3},1712,1712,"S.US.ENZL",1678,"S.US.FBIZ"]
[null,null,"S.US.GEOS",{"$f":"IFERROR(RTD(\"cqg.rtd\", ,\"ContractData\",C1679, \"PerCentNetLastTrade\",, \"T\")/100,\"\")","v":6.2685093780848966E-2},44,44,"S.US.GEOS",1679,"S.US.COLL"]
[null,null,"S.US.BBSI",{"$f":"IFERROR(RTD(\"cqg.rtd\", ,\"ContractData\",C1680, \"PerCentNetLastTrade\",, \"T\")/100,\"\")","v":1.5187713310580204E-2},490,490,"S.US.BBSI",1680,"S.US.COST"]
[null,null,"S.US.FEP",{"$f":"IFERROR(RTD(\"cqg.rtd\", ,\"ContractData\",C1681, \"PerCentNetLastTrade\",, \"T\")/100,\"\")","v":-4.2628774422735346E-3},1842,1842,"S.US.FEP",1681,"S.US.MANH"]
[null,null,"S.US.SYMX",{"$f":"IFERROR(RTD(\"cqg.rtd\", ,\"ContractData\",C1682, \"PerCentNetLastTrade\",, \"T\")/100,\"\")","v":-2.1052631578947368E-2},2362,2362,"S.US.SYMX",1682,"S.US.PTXP"]
[null,null,"S.US.NFEC",{"$f":"IFERROR(RTD(\"cqg.rtd\", ,\"ContractData\",C1683, \"PerCentNetLastTrade\",, \"T\")/100,\"\")","v":3.2608695652173912E-2},157,157,"S.US.NFEC",1683,"S.US.CHY"]
[null,null,"S.US.BDGE",{"$f":"IFERROR(RTD(\"cqg.rtd\", ,\"ContractData\",C1684, \"PerCentNetLastTrade\",, \"T\")/100,\"\")","v":1.0510510510510511E-2},692,692,"S.US.BDGE",1684,"S.US.QQEW"]
[null,null,"S.US.SUMR",{"$f":"IFERROR(RTD(\"cqg.rtd\", ,\"ContractData\",C1685, \"PerCentNetLastTrade\",, \"T\")/100,\"\")","v":-1.3574660633484163E-2},2212,2212,"S.US.SUMR",1685,"S.US.MCHI"]
[null,null,"S.US.CASH",{"$f":"IFERROR(RTD(\"cqg.rtd\", ,\"ContractData\",C1686, \"PerCentNetLastTrade\",, \"T\")/100,\"\")","v":4.246284501061571E-3},1097,1097,"S.US.CASH",1686,"S.US.TCRD"]
[null,null,"S.US.GRBK",{"$f":"IFERROR(RTD(\"cqg.rtd\", ,\"ContractData\",C1687, \"PerCentNetLastTrade\",, \"T\")/100,\"\")","v":1.6216216216216217E-2},456,456,"S.US.GRBK",1687,"S.US.COMM"]
[null,null,"S.US.DGLD",{"$f":"IFERROR(RTD(\"cqg.rtd\", ,\"ContractData\",C1688, \"PerCentNetLastTrade\",, \"T\")/100,\"\")","v":3.1488065007618082E-2},170,170,"S.US.DGLD",1688,"S.US.CG"]
[null,null,"S.US.CAC",{"$f":"IFERROR(RTD(\"cqg.rtd\", ,\"ContractData\",C1689, \"PerCentNetLastTrade\",, \"T\")/100,\"\")","v":1.4709677419354838E-2},502,502,"S.US.CAC",1689,"S.US.SWKS"]
[null,null,"S.US.LUNA",{"$f":"IFERROR(RTD(\"cqg.rtd\", ,\"ContractData\",C1690, \"PerCentNetLastTrade\",, \"T\")/100,\"\")","v":6.993006993006993E-3},908,908,"S.US.LUNA",1690,"S.US.ERIC"]
[null,null,"S.US.TEAR",{"$f":"IFERROR(RTD(\"cqg.rtd\", ,\"ContractData\",C1691, \"PerCentNetLastTrade\",, \"T\")/100,\"\")","v":1.785714285714286E-2},415,415,"S.US.TEAR",1691,"S.US.LMRK"]
[null,null,"S.US.RCON",{"$f":"IFERROR(RTD(\"cqg.rtd\", ,\"ContractData\",C1692, \"PerCentNetLastTrade\",, \"T\")/100,\"\")","v":0.15322580645161291},6,6,"S.US.RCON",1692,"S.US.MPAA"]
[null,null,"S.US.VTNR",{"$f":"IFERROR(RTD(\"cqg.rtd\", ,\"ContractData\",C1693, \"PerCentNetLastTrade\",, \"T\")/100,\"\")","v":3.9603960396039604E-2},105,105,"S.US.VTNR",1693,"S.US.CIBR"]
[null,null,"S.US.DWTR",{"$f":"IFERROR(RTD(\"cqg.rtd\", ,\"ContractData\",C1694, \"PerCentNetLastTrade\",, \"T\")/100,\"\")","v":-5.2187876354877561E-3},1894,1894,"S.US.DWTR",1694,"S.US.LDRI"]
[null,null,"S.US.HBNC",{"$f":"IFERROR(RTD(\"cqg.rtd\", ,\"ContractData\",C1695, \"PerCentNetLastTrade\",, \"T\")/100,\"\")","v":1.3367830961621387E-2},563,563,"S.US.HBNC",1695,"S.US.ATHN"]
[null,null,"S.US.MCHX",{"$f":"IFERROR(RTD(\"cqg.rtd\", ,\"ContractData\",C1696, \"PerCentNetLastTrade\",, \"T\")/100,\"\")","v":-3.8759689922480624E-3},1819,1819,"S.US.MCHX",1696,"S.US.SPLS"]
[null,null,"S.US.IRMD",{"$f":"IFERROR(RTD(\"cqg.rtd\", ,\"ContractData\",C1697, \"PerCentNetLastTrade\",, \"T\")/100,\"\")","v":-7.1111111111111115E-3},1981,1981,"S.US.IRMD",1697,"S.US.GILT"]
[null,null,"S.US.PBMD",{"$f":"IFERROR(RTD(\"cqg.rtd\", ,\"ContractData\",C1698, \"PerCentNetLastTrade\",, \"T\")/100,\"\")","v":-1.2048192771084338E-2},2174,2174,"S.US.PBMD",1698,"S.US.CIZ"]
[null,null,"S.US.BOOM",{"$f":"IFERROR(RTD(\"cqg.rtd\", ,\"ContractData\",C1699, \"PerCentNetLastTrade\",, \"T\")/100,\"\")","v":1.8575851393188854E-2},386,386,"S.US.BOOM",1699,"S.US.CISG"]
[null,null,"S.US.PICO",{"$f":"IFERROR(RTD(\"cqg.rtd\", ,\"ContractData\",C1700, \"PerCentNetLastTrade\",, \"T\")/100,\"\")","v":3.4364261168384879E-3},1151,1151,"S.US.PICO",1700,"S.US.CTWS"]
[null,null,"S.US.CRME",{"$f":"IFERROR(RTD(\"cqg.rtd\", ,\"ContractData\",C1701, \"PerCentNetLastTrade\",, \"T\")/100,\"\")","v":0},1473,1473,"S.US.CRME",1701,"S.US.CNCR"]
[null,null,"S.US.CCIH",{"$f":"IFERROR(RTD(\"cqg.rtd\", ,\"ContractData\",C1702, \"PerCentNetLastTrade\",, \"T\")/100,\"\")","v":6.1919504643962852E-3},957,957,"S.US.CCIH",1702,"S.US.EXPE"]
[null,null,"S.US.QQEW",{"$f":"IFERROR(RTD(\"cqg.rtd\", ,\"ContractData\",C1703, \"PerCentNetLastTrade\",, \"T\")/100,\"\")","v":-1.9280205655526992E-3},1684,1684,"S.US.QQEW",1703,"S.US.SPWH"]
[null,null,"S.US.CSBR",{"$f":"IFERROR(RTD(\"cqg.rtd\", ,\"ContractData\",C1704, \"PerCentNetLastTrade\",, \"T\")/100,\"\")","v":0.25130890052356025},2,2,"S.US.CSBR",1704,"S.US.BNDX"]
[null,null,"S.US.DMRC",{"$f":"IFERROR(RTD(\"cqg.rtd\", ,\"ContractData\",C1705, \"PerCentNetLastTrade\",, \"T\")/100,\"\")","v":-1.1164274322169059E-2},2141,2141,"S.US.DMRC",1705,"S.US.QDEL"]
[null,null,"S.US.CATB",{"$f":"IFERROR(RTD(\"cqg.rtd\", ,\"ContractData\",C1706, \"PerCentNetLastTrade\",, \"T\")/100,\"\")","v":-3.6939313984168866E-2},2477,2477,"S.US.CATB",1706,"S.US.NILE"]
[null,null,"S.US.FNJN",{"$f":"IFERROR(RTD(\"cqg.rtd\", ,\"ContractData\",C1707, \"PerCentNetLastTrade\",, \"T\")/100,\"\")","v":-1.5151515151515152E-2},2261,2261,"S.US.FNJN",1707,"S.US.IPWR"]
[null,null,"S.US.UFCS",{"$f":"IFERROR(RTD(\"cqg.rtd\", ,\"ContractData\",C1708, \"PerCentNetLastTrade\",, \"T\")/100,\"\")","v":4.8013967699694453E-3},1063,1063,"S.US.UFCS",1708,"S.US.EXPD"]
[null,null,"S.US.TISA",{"$f":"IFERROR(RTD(\"cqg.rtd\", ,\"ContractData\",C1709, \"PerCentNetLastTrade\",, \"T\")/100,\"\")","v":-6.6225165562913916E-3},1958,1958,"S.US.TISA",1709,"S.US.FSV"]
[null,null,"S.US.XOMA",{"$f":"IFERROR(RTD(\"cqg.rtd\", ,\"ContractData\",C1710, \"PerCentNetLastTrade\",, \"T\")/100,\"\")","v":-1.8932874354561102E-2},2337,2337,"S.US.XOMA",1710,"S.US.FTNT"]
[null,null,"S.US.DXGE",{"$f":"IFERROR(RTD(\"cqg.rtd\", ,\"ContractData\",C1711, \"PerCentNetLastTrade\",, \"T\")/100,\"\")","v":3.3987915407854984E-3},1153,1153,"S.US.DXGE",1711,"S.US.NAVG"]
[null,null,"S.US.PFSW",{"$f":"IFERROR(RTD(\"cqg.rtd\", ,\"ContractData\",C1712, \"PerCentNetLastTrade\",, \"T\")/100,\"\")","v":2.4479804161566705E-3},1225,1225,"S.US.PFSW",1712,"S.US.ENZL"]
[null,null,"S.US.KOOL",{"$f":"IFERROR(RTD(\"cqg.rtd\", ,\"ContractData\",C1713, \"PerCentNetLastTrade\",, \"T\")/100,\"\")","v":3.4602076124567471E-3},1149,1149,"S.US.KOOL",1713,"S.US.HSII"]
[null,null,"S.US.NVEE",{"$f":"IFERROR(RTD(\"cqg.rtd\", ,\"ContractData\",C1714, \"PerCentNetLastTrade\",, \"T\")/100,\"\")","v":1.790633608815427E-2},409,409,"S.US.NVEE",1714,"S.US.ACHN"]
[null,null,"S.US.MNOV",{"$f":"IFERROR(RTD(\"cqg.rtd\", ,\"ContractData\",C1715, \"PerCentNetLastTrade\",, \"T\")/100,\"\")","v":5.6737588652482273E-3},1001,1001,"S.US.MNOV",1715,"S.US.SBUX"]
[null,null,"S.US.RETA",{"$f":"IFERROR(RTD(\"cqg.rtd\", ,\"ContractData\",C1716, \"PerCentNetLastTrade\",, \"T\")/100,\"\")","v":9.7087378640776708E-3},749,749,"S.US.RETA",1716,"S.US.ADTN"]
[null,null,"S.US.CUI",{"$f":"IFERROR(RTD(\"cqg.rtd\", ,\"ContractData\",C1717, \"PerCentNetLastTrade\",, \"T\")/100,\"\")","v":-1.6638935108153076E-3},1668,1668,"S.US.CUI",1717,"S.US.ADP"]
[null,null,"S.US.WGBS",{"$f":"IFERROR(RTD(\"cqg.rtd\", ,\"ContractData\",C1718, \"PerCentNetLastTrade\",, \"T\")/100,\"\")","v":8.658008658008658E-3},815,815,"S.US.WGBS",1718,"S.US.TSRA"]
[null,null,"S.US.FRBK",{"$f":"IFERROR(RTD(\"cqg.rtd\", ,\"ContractData\",C1719, \"PerCentNetLastTrade\",, \"T\")/100,\"\")","v":9.6153846153846159E-3},754,754,"S.US.FRBK",1719,"S.US.HALO"]
[null,null,"S.US.TTGT",{"$f":"IFERROR(RTD(\"cqg.rtd\", ,\"ContractData\",C1720, \"PerCentNetLastTrade\",, \"T\")/100,\"\")","v":2.3640661938534278E-3},1235,1235,"S.US.TTGT",1720,"S.US.IBUY"]
[null,null,"S.US.RVLT",{"$f":"IFERROR(RTD(\"cqg.rtd\", ,\"ContractData\",C1721, \"PerCentNetLastTrade\",, \"T\")/100,\"\")","v":0},1474,1474,"S.US.RVLT",1721,"S.US.ORLY"]
[null,null,"S.US.CRDS",{"$f":"IFERROR(RTD(\"cqg.rtd\", ,\"ContractData\",C1722, \"PerCentNetLastTrade\",, \"T\")/100,\"\")","v":-2.4943310657596373E-2},2394,2394,"S.US.CRDS",1722,"S.US.PLAY"]
[null,null,"S.US.HEOP",{"$f":"IFERROR(RTD(\"cqg.rtd\", ,\"ContractData\",C1723, \"PerCentNetLastTrade\",, \"T\")/100,\"\")","v":6.9101678183613032E-3},917,917,"S.US.HEOP",1723,"S.US.SNHNI"]
[null,null,"S.US.FTC",{"$f":"IFERROR(RTD(\"cqg.rtd\", ,\"ContractData\",C1724, \"PerCentNetLastTrade\",, \"T\")/100,\"\")","v":1.8145161290322581E-3},1272,1272,"S.US.FTC",1724,"S.US.FIVN"]
[null,null,"S.US.STKS",{"$f":"IFERROR(RTD(\"cqg.rtd\", ,\"ContractData\",C1725, \"PerCentNetLastTrade\",, \"T\")/100,\"\")","v":2.5000000000000001E-2},243,243,"S.US.STKS",1725,"S.US.GNMK"]
[null,null,"S.US.ATEC",{"$f":"IFERROR(RTD(\"cqg.rtd\", ,\"ContractData\",C1726, \"PerCentNetLastTrade\",, \"T\")/100,\"\")","v":-3.3707865168539325E-2},2464,2464,"S.US.ATEC",1726,"S.US.VWOB"]
[null,null,"S.US.CCCL",{"$f":"IFERROR(RTD(\"cqg.rtd\", ,\"ContractData\",C1727, \"PerCentNetLastTrade\",, \"T\")/100,\"\")","v":8.368200836820083E-3},829,829,"S.US.CCCL",1727,"S.US.AGIO"]
[null,null,"S.US.RTTR",{"$f":"IFERROR(RTD(\"cqg.rtd\", ,\"ContractData\",C1728, \"PerCentNetLastTrade\",, \"T\")/100,\"\")","v":-8.4388185654008449E-3},2040,2040,"S.US.RTTR",1728,"S.US.CVCO"]
[null,null,"S.US.AGLE",{"$f":"IFERROR(RTD(\"cqg.rtd\", ,\"ContractData\",C1729, \"PerCentNetLastTrade\",, \"T\")/100,\"\")","v":1.1299435028248588E-2},654,654,"S.US.AGLE",1729,{"$f":"IFERROR(VLOOKUP(H1729,$F$1:$G$2860,2,FALSE),\"\")","v":"S.US.UFPI"}]
[null,null,"S.US.OSTK",{"$f":"IFERROR(RTD(\"cqg.rtd\", ,\"ContractData\",C1730, \"PerCentNetLastTrade\",, \"T\")/100,\"\")","v":5.681818181818182E-3},1000,{"$f":"IFERROR(E1730,\"\")","v":1000},"S.US.OSTK",1730,"S.US.FSBW"]
[null,null,"S.US.DWSN",{"$f":"IFERROR(RTD(\"cqg.rtd\", ,\"ContractData\",C1731, \"PerCentNetLastTrade\",, \"T\")/100,\"\")","v":7.2902338376891335E-2},32,32,{"$f":"C1731","v":"S.US.DWSN"},{"$f":"H1730+1","v":1731},"S.US.FLAT"]
[null,null,"S.US.CBAY",{"$f":"IFERROR(RTD(\"cqg.rtd\", ,\"ContractData\",C1732, \"PerCentNetLastTrade\",, \"T\")/100,\"\")","v":3.1746031746031744E-2},164,164,"S.US.CBAY",1732,"S.US.BKCC"]
[null,null,"S.US.SUNS",{"$f":"IFERROR(RTD(\"cqg.rtd\", ,\"ContractData\",C1733, \"PerCentNetLastTrade\",, \"T\")/100,\"\")","v":-4.7789725209080045E-3},1873,1873,"S.US.SUNS",1733,"S.US.ICFI"]
[null,null,"S.US.RDI",{"$f":"IFERROR(RTD(\"cqg.rtd\", ,\"ContractData\",C1734, \"PerCentNetLastTrade\",, \"T\")/100,\"\")","v":-1.0739102969046115E-2},2130,2130,"S.US.RDI",1734,"S.US.AKRX"]
[null,null,"S.US.HPJ",{"$f":"IFERROR(RTD(\"cqg.rtd\", ,\"ContractData\",C1735, \"PerCentNetLastTrade\",, \"T\")/100,\"\")","v":1.8181818181818181E-2},401,401,"S.US.HPJ",1735,"S.US.MGLN"]
[null,null,"S.US.PRKR",{"$f":"IFERROR(RTD(\"cqg.rtd\", ,\"ContractData\",C1736, \"PerCentNetLastTrade\",, \"T\")/100,\"\")","v":0},1475,1475,"S.US.PRKR",1736,"S.US.LGND"]
[null,null,"S.US.MCBC",{"$f":"IFERROR(RTD(\"cqg.rtd\", ,\"ContractData\",C1737, \"PerCentNetLastTrade\",, \"T\")/100,\"\")","v":-1.0438413361169101E-3},1628,1628,"S.US.MCBC",1737,"S.US.VRSN"]
[null,null,"S.US.REFR",{"$f":"IFERROR(RTD(\"cqg.rtd\", ,\"ContractData\",C1738, \"PerCentNetLastTrade\",, \"T\")/100,\"\")","v":-5.3475935828877011E-3},1903,1903,"S.US.REFR",1738,"S.US.FNK"]
[null,null,"S.US.NEOT",{"$f":"IFERROR(RTD(\"cqg.rtd\", ,\"ContractData\",C1739, \"PerCentNetLastTrade\",, \"T\")/100,\"\")","v":-1.6528925619834711E-2},2287,2287,"S.US.NEOT",1739,"S.US.SCZ"]
[null,null,"S.US.CARO",{"$f":"IFERROR(RTD(\"cqg.rtd\", ,\"ContractData\",C1740, \"PerCentNetLastTrade\",, \"T\")/100,\"\")","v":1.4383043149129447E-2},518,518,"S.US.CARO",1740,"S.US.TXN"]
[null,null,"S.US.ASCMA",{"$f":"IFERROR(RTD(\"cqg.rtd\", ,\"ContractData\",C1741, \"PerCentNetLastTrade\",, \"T\")/100,\"\")","v":1.8665158371040724E-2},384,384,"S.US.ASCMA",1741,"S.US.OVAS"]
[null,null,"S.US.EDGE",{"$f":"IFERROR(RTD(\"cqg.rtd\", ,\"ContractData\",C1742, \"PerCentNetLastTrade\",, \"T\")/100,\"\")","v":2.7454242928452575E-2},209,209,"S.US.EDGE",1742,"S.US.SHPG"]
[null,null,"S.US.CLIR",{"$f":"IFERROR(RTD(\"cqg.rtd\", ,\"ContractData\",C1743, \"PerCentNetLastTrade\",, \"T\")/100,\"\")","v":7.4999999999999997E-3},880,880,"S.US.CLIR",1743,"S.US.AGYS"]
[null,null,"S.US.MSFG",{"$f":"IFERROR(RTD(\"cqg.rtd\", ,\"ContractData\",C1744, \"PerCentNetLastTrade\",, \"T\")/100,\"\")","v":1.0672703751617076E-2},684,684,"S.US.MSFG",1744,"S.US.PLCE"]
[null,null,"S.US.SPOK",{"$f":"IFERROR(RTD(\"cqg.rtd\", ,\"ContractData\",C1745, \"PerCentNetLastTrade\",, \"T\")/100,\"\")","v":6.36604774535809E-3},943,943,"S.US.SPOK",1745,"S.US.COLM"]
[null,null,"S.US.CIBR",{"$f":"IFERROR(RTD(\"cqg.rtd\", ,\"ContractData\",C1746, \"PerCentNetLastTrade\",, \"T\")/100,\"\")","v":-1.9930244145490781E-3},1693,1693,"S.US.CIBR",1746,"S.US.EMCG"]
[null,null,"S.US.SP",{"$f":"IFERROR(RTD(\"cqg.rtd\", ,\"ContractData\",C1747, \"PerCentNetLastTrade\",, \"T\")/100,\"\")","v":0},1476,1476,"S.US.SP",1747,"S.US.CYOU"]
[null,null,"S.US.VICR",{"$f":"IFERROR(RTD(\"cqg.rtd\", ,\"ContractData\",C1748, \"PerCentNetLastTrade\",, \"T\")/100,\"\")","v":6.7567567567567563E-3},924,924,"S.US.VICR",1748,"S.US.BOBE"]
[null,null,"S.US.PSIX",{"$f":"IFERROR(RTD(\"cqg.rtd\", ,\"ContractData\",C1749, \"PerCentNetLastTrade\",, \"T\")/100,\"\")","v":1.7884914463452566E-2},411,411,"S.US.PSIX",1749,"S.US.MYGN"]
[null,null,"S.US.FEMS",{"$f":"IFERROR(RTD(\"cqg.rtd\", ,\"ContractData\",C1750, \"PerCentNetLastTrade\",, \"T\")/100,\"\")","v":6.6379024228343836E-4},1339,1339,"S.US.FEMS",1750,"S.US.WFM"]
[null,null,"S.US.GTIM",{"$f":"IFERROR(RTD(\"cqg.rtd\", ,\"ContractData\",C1751, \"PerCentNetLastTrade\",, \"T\")/100,\"\")","v":2.2580645161290325E-2},290,290,"S.US.GTIM",1751,"S.US.PENN"]
[null,null,"S.US.KVHI",{"$f":"IFERROR(RTD(\"cqg.rtd\", ,\"ContractData\",C1752, \"PerCentNetLastTrade\",, \"T\")/100,\"\")","v":9.6153846153846159E-3},755,755,"S.US.KVHI",1752,"S.US.ZVZZT"]
[null,null,"S.US.CDTX",{"$f":"IFERROR(RTD(\"cqg.rtd\", ,\"ContractData\",C1753, \"PerCentNetLastTrade\",, \"T\")/100,\"\")","v":2.3696682464454978E-2},270,270,"S.US.CDTX",1753,"S.US.POPE"]
[null,null,"S.US.SGBK",{"$f":"IFERROR(RTD(\"cqg.rtd\", ,\"ContractData\",C1754, \"PerCentNetLastTrade\",, \"T\")/100,\"\")","v":-7.4626865671641781E-4},1609,1609,"S.US.SGBK",1754,"S.US.AAWW"]
[null,null,"S.US.PUB",{"$f":"IFERROR(RTD(\"cqg.rtd\", ,\"ContractData\",C1755, \"PerCentNetLastTrade\",, \"T\")/100,\"\")","v":1.935483870967742E-2},373,373,"S.US.PUB",1755,"S.US.PNRA"]
[null,null,"S.US.CAMT",{"$f":"IFERROR(RTD(\"cqg.rtd\", ,\"ContractData\",C1756, \"PerCentNetLastTrade\",, \"T\")/100,\"\")","v":3.3444816053511705E-3},1156,1156,"S.US.CAMT",1756,"S.US.MTEX"]
[null,null,"S.US.KRNT",{"$f":"IFERROR(RTD(\"cqg.rtd\", ,\"ContractData\",C1757, \"PerCentNetLastTrade\",, \"T\")/100,\"\")","v":0},1477,1477,"S.US.KRNT",1757,"S.US.LHCG"]
[null,null,"S.US.CTG",{"$f":"IFERROR(RTD(\"cqg.rtd\", ,\"ContractData\",C1758, \"PerCentNetLastTrade\",, \"T\")/100,\"\")","v":9.6153846153846159E-3},756,756,"S.US.CTG",1758,"S.US.CRVL"]
[null,null,"S.US.MDM",{"$f":"IFERROR(RTD(\"cqg.rtd\", ,\"ContractData\",C1759, \"PerCentNetLastTrade\",, \"T\")/100,\"\")","v":0},1478,1478,"S.US.MDM",1759,"S.US.PATK"]
[null,null,"S.US.AVHI",{"$f":"IFERROR(RTD(\"cqg.rtd\", ,\"ContractData\",C1760, \"PerCentNetLastTrade\",, \"T\")/100,\"\")","v":0},1479,1479,"S.US.AVHI",1760,"S.US.CMPR"]
[null,null,"S.US.GARS",{"$f":"IFERROR(RTD(\"cqg.rtd\", ,\"ContractData\",C1761, \"PerCentNetLastTrade\",, \"T\")/100,\"\")","v":-1.3756613756613755E-2},2218,2218,"S.US.GARS",1761,"S.US.PANL"]
[null,null,"S.US.OIIM",{"$f":"IFERROR(RTD(\"cqg.rtd\", ,\"ContractData\",C1762, \"PerCentNetLastTrade\",, \"T\")/100,\"\")","v":5.4945054945054949E-3},1015,1015,"S.US.OIIM",1762,"S.US.BWINA"]
[null,null,"S.US.EWZS",{"$f":"IFERROR(RTD(\"cqg.rtd\", ,\"ContractData\",C1763, \"PerCentNetLastTrade\",, \"T\")/100,\"\")","v":6.4161319890009161E-3},940,940,"S.US.EWZS",1763,"S.US.TANNI"]
[null,null,"S.US.CHCO",{"$f":"IFERROR(RTD(\"cqg.rtd\", ,\"ContractData\",C1764, \"PerCentNetLastTrade\",, \"T\")/100,\"\")","v":1.0588043655318456E-2},690,690,"S.US.CHCO",1764,"S.US.MILN"]
[null,null,"S.US.LORL",{"$f":"IFERROR(RTD(\"cqg.rtd\", ,\"ContractData\",C1765, \"PerCentNetLastTrade\",, \"T\")/100,\"\")","v":1.2578616352201257E-3},1303,1303,"S.US.LORL",1765,"S.US.CDC"]
[null,null,"S.US.YIN",{"$f":"IFERROR(RTD(\"cqg.rtd\", ,\"ContractData\",C1766, \"PerCentNetLastTrade\",, \"T\")/100,\"\")","v":4.5325779036827192E-3},1080,1080,"S.US.YIN",1766,"S.US.ITEQ"]
[null,null,"S.US.FALC",{"$f":"IFERROR(RTD(\"cqg.rtd\", ,\"ContractData\",C1767, \"PerCentNetLastTrade\",, \"T\")/100,\"\")","v":0},1480,1480,"S.US.FALC",1767,"S.US.GOGO"]
[null,null,"S.US.NDRM",{"$f":"IFERROR(RTD(\"cqg.rtd\", ,\"ContractData\",C1768, \"PerCentNetLastTrade\",, \"T\")/100,\"\")","v":0},1481,1481,"S.US.NDRM",1768,"S.US.BPFHP"]
[null,null,"S.US.SRDX",{"$f":"IFERROR(RTD(\"cqg.rtd\", ,\"ContractData\",C1769, \"PerCentNetLastTrade\",, \"T\")/100,\"\")","v":-6.1728395061728392E-3},1936,1936,"S.US.SRDX",1769,"S.US.QTEC"]
[null,null,"S.US.BOSC",{"$f":"IFERROR(RTD(\"cqg.rtd\", ,\"ContractData\",C1770, \"PerCentNetLastTrade\",, \"T\")/100,\"\")","v":0},1482,1482,"S.US.BOSC",1770,"S.US.ATNI"]
[null,null,"S.US.PRGX",{"$f":"IFERROR(RTD(\"cqg.rtd\", ,\"ContractData\",C1771, \"PerCentNetLastTrade\",, \"T\")/100,\"\")","v":0},1483,1483,"S.US.PRGX",1771,"S.US.BZUN"]
[null,null,"S.US.NWPX",{"$f":"IFERROR(RTD(\"cqg.rtd\", ,\"ContractData\",C1772, \"PerCentNetLastTrade\",, \"T\")/100,\"\")","v":0},1484,1484,"S.US.NWPX",1772,"S.US.UBCP"]
[null,null,"S.US.LNDC",{"$f":"IFERROR(RTD(\"cqg.rtd\", ,\"ContractData\",C1773, \"PerCentNetLastTrade\",, \"T\")/100,\"\")","v":6.9444444444444441E-3},916,916,"S.US.LNDC",1773,"S.US.PCLN"]
[null,null,"S.US.RADA",{"$f":"IFERROR(RTD(\"cqg.rtd\", ,\"ContractData\",C1774, \"PerCentNetLastTrade\",, \"T\")/100,\"\")","v":3.5087719298245612E-2},136,136,"S.US.RADA",1774,"S.US.AMZN"]
[null,null,"S.US.SPNE",{"$f":"IFERROR(RTD(\"cqg.rtd\", ,\"ContractData\",C1775, \"PerCentNetLastTrade\",, \"T\")/100,\"\")","v":1.0294117647058822E-2},707,707,"S.US.SPNE",1775,"S.US.GOOG"]
[null,null,"S.US.CRAI",{"$f":"IFERROR(RTD(\"cqg.rtd\", ,\"ContractData\",C1776, \"PerCentNetLastTrade\",, \"T\")/100,\"\")","v":1.2033694344163659E-3},1308,1308,"S.US.CRAI",1776,"S.US.AEHR"]
[null,null,"S.US.CETC",{"$f":"IFERROR(RTD(\"cqg.rtd\", ,\"ContractData\",C1777, \"PerCentNetLastTrade\",, \"T\")/100,\"\")","v":-2.5787965616045846E-2},2406,2406,"S.US.CETC",1777,"S.US.WING"]
[null,null,"S.US.BSTG",{"$f":"IFERROR(RTD(\"cqg.rtd\", ,\"ContractData\",C1778, \"PerCentNetLastTrade\",, \"T\")/100,\"\")","v":0},1485,1485,"S.US.BSTG",1778,"S.US.VRNS"]
[null,null,"S.US.CPSS",{"$f":"IFERROR(RTD(\"cqg.rtd\", ,\"ContractData\",C1779, \"PerCentNetLastTrade\",, \"T\")/100,\"\")","v":9.7087378640776708E-3},750,750,"S.US.CPSS",1779,"S.US.BSET"]
[null,null,"S.US.ALOG",{"$f":"IFERROR(RTD(\"cqg.rtd\", ,\"ContractData\",C1780, \"PerCentNetLastTrade\",, \"T\")/100,\"\")","v":-1.2260127931769721E-2},2177,2177,"S.US.ALOG",1780,"S.US.INTC"]
[null,null,"S.US.KONE",{"$f":"IFERROR(RTD(\"cqg.rtd\", ,\"ContractData\",C1781, \"PerCentNetLastTrade\",, \"T\")/100,\"\")","v":-3.7383177570093455E-2},2479,2479,"S.US.KONE",1781,"S.US.PVTB"]
[null,null,"S.US.DRAD",{"$f":"IFERROR(RTD(\"cqg.rtd\", ,\"ContractData\",C1782, \"PerCentNetLastTrade\",, \"T\")/100,\"\")","v":0},1486,1486,"S.US.DRAD",1782,"S.US.NVTR"]
[null,null,"S.US.PFIE",{"$f":"IFERROR(RTD(\"cqg.rtd\", ,\"ContractData\",C1783, \"PerCentNetLastTrade\",, \"T\")/100,\"\")","v":2.3622047244094488E-2},272,272,"S.US.PFIE",1783,"S.US.FTCS"]
[null,null,"S.US.PBIB",{"$f":"IFERROR(RTD(\"cqg.rtd\", ,\"ContractData\",C1784, \"PerCentNetLastTrade\",, \"T\")/100,\"\")","v":8.0321285140562242E-3},843,843,"S.US.PBIB",1784,"S.US.ASTE"]
[null,null,"S.US.HBIO",{"$f":"IFERROR(RTD(\"cqg.rtd\", ,\"ContractData\",C1785, \"PerCentNetLastTrade\",, \"T\")/100,\"\")","v":0},1487,1487,"S.US.HBIO",1785,"S.US.AMPH"]
[null,null,"S.US.RAVE",{"$f":"IFERROR(RTD(\"cqg.rtd\", ,\"ContractData\",C1786, \"PerCentNetLastTrade\",, \"T\")/100,\"\")","v":0},1488,1488,"S.US.RAVE",1786,"S.US.CRSP"]
[null,null,"S.US.BIOL",{"$f":"IFERROR(RTD(\"cqg.rtd\", ,\"ContractData\",C1787, \"PerCentNetLastTrade\",, \"T\")/100,\"\")","v":-5.586592178770949E-3},1910,1910,"S.US.BIOL",1787,"S.US.FCVT"]
[null,null,"S.US.APDN",{"$f":"IFERROR(RTD(\"cqg.rtd\", ,\"ContractData\",C1788, \"PerCentNetLastTrade\",, \"T\")/100,\"\")","v":2.1739130434782608E-2},312,312,"S.US.APDN",1788,"S.US.TSLA"]
[null,null,"S.US.CSBK",{"$f":"IFERROR(RTD(\"cqg.rtd\", ,\"ContractData\",C1789, \"PerCentNetLastTrade\",, \"T\")/100,\"\")","v":4.8691418137553257E-3},1058,1058,"S.US.CSBK",1789,"S.US.PRTS"]
[null,null,"S.US.JOBS",{"$f":"IFERROR(RTD(\"cqg.rtd\", ,\"ContractData\",C1790, \"PerCentNetLastTrade\",, \"T\")/100,\"\")","v":9.4258783204798618E-3},768,768,"S.US.JOBS",1790,"S.US.AAPL"]
[null,null,"S.US.ABDC",{"$f":"IFERROR(RTD(\"cqg.rtd\", ,\"ContractData\",C1791, \"PerCentNetLastTrade\",, \"T\")/100,\"\")","v":-8.3263946711074107E-4},1617,1617,"S.US.ABDC",1791,"S.US.AMCN"]
[null,null,"S.US.LOAN",{"$f":"IFERROR(RTD(\"cqg.rtd\", ,\"ContractData\",C1792, \"PerCentNetLastTrade\",, \"T\")/100,\"\")","v":-7.0422535211267599E-3},1979,1979,"S.US.LOAN",1792,"S.US.NUVA"]
[null,null,"S.US.WVE",{"$f":"IFERROR(RTD(\"cqg.rtd\", ,\"ContractData\",C1793, \"PerCentNetLastTrade\",, \"T\")/100,\"\")","v":-2.772543741588156E-2},2421,2421,"S.US.WVE",1793,{"$f":"IFERROR(VLOOKUP(H1793,$F$1:$G$2860,2,FALSE),\"\")","v":"S.US.CSOD"}]
[null,null,"S.US.CDTI",{"$f":"IFERROR(RTD(\"cqg.rtd\", ,\"ContractData\",C1794, \"PerCentNetLastTrade\",, \"T\")/100,\"\")","v":-2.0920502092050208E-2},2358,{"$f":"IFERROR(E1794,\"\")","v":2358},{"$f":"C1794","v":"S.US.CDTI"},1794,"S.US.VGIT"]
[null,null,"S.US.SOHO",{"$f":"IFERROR(RTD(\"cqg.rtd\", ,\"ContractData\",C1795, \"PerCentNetLastTrade\",, \"T\")/100,\"\")","v":0},1489,{"$f":"IFERROR(E1795,\"\")","v":1489},{"$f":"C1795","v":"S.US.SOHO"},{"$f":"H1794+1","v":1795},"S.US.BNFT"]
[null,null,"S.US.ATNI",{"$f":"IFERROR(RTD(\"cqg.rtd\", ,\"ContractData\",C1796, \"PerCentNetLastTrade\",, \"T\")/100,\"\")","v":-3.2423669278573357E-3},1770,1770,"S.US.ATNI",1796,"S.US.BOCH"]
[null,null,"S.US.LMRK",{"$f":"IFERROR(RTD(\"cqg.rtd\", ,\"ContractData\",C1797, \"PerCentNetLastTrade\",, \"T\")/100,\"\")","v":-1.9736842105263159E-3},1691,1691,"S.US.LMRK",1797,"S.US.AAOI"]
[null,null,"S.US.RNWK",{"$f":"IFERROR(RTD(\"cqg.rtd\", ,\"ContractData\",C1798, \"PerCentNetLastTrade\",, \"T\")/100,\"\")","v":1.0330578512396693E-2},702,702,"S.US.RNWK",1798,"S.US.ISLE"]
[null,null,"S.US.PRZM",{"$f":"IFERROR(RTD(\"cqg.rtd\", ,\"ContractData\",C1799, \"PerCentNetLastTrade\",, \"T\")/100,\"\")","v":-6.8965517241379309E-2},2545,2545,"S.US.PRZM",1799,"S.US.UNFI"]
[null,null,"S.US.TCX",{"$f":"IFERROR(RTD(\"cqg.rtd\", ,\"ContractData\",C1800, \"PerCentNetLastTrade\",, \"T\")/100,\"\")","v":1.4641288433382138E-2},506,506,"S.US.TCX",1800,"S.US.LAND"]
[null,null,"S.US.NVTR",{"$f":"IFERROR(RTD(\"cqg.rtd\", ,\"ContractData\",C1801, \"PerCentNetLastTrade\",, \"T\")/100,\"\")","v":-3.4071550255536627E-3},1782,1782,"S.US.NVTR",1801,"S.US.NUAN"]
[null,null,"S.US.FSV",{"$f":"IFERROR(RTD(\"cqg.rtd\", ,\"ContractData\",C1802, \"PerCentNetLastTrade\",, \"T\")/100,\"\")","v":-2.3020257826887659E-3},1709,1709,"S.US.FSV",1802,"S.US.AMGN"]
[null,null,"S.US.NAII",{"$f":"IFERROR(RTD(\"cqg.rtd\", ,\"ContractData\",C1803, \"PerCentNetLastTrade\",, \"T\")/100,\"\")","v":2.9962546816479402E-3},1183,1183,"S.US.NAII",1803,"S.US.MDGN"]
[null,null,"S.US.MBTF",{"$f":"IFERROR(RTD(\"cqg.rtd\", ,\"ContractData\",C1804, \"PerCentNetLastTrade\",, \"T\")/100,\"\")","v":0},1490,1490,"S.US.MBTF",1804,"S.US.SGYP"]
[null,null,"S.US.LPTH",{"$f":"IFERROR(RTD(\"cqg.rtd\", ,\"ContractData\",C1805, \"PerCentNetLastTrade\",, \"T\")/100,\"\")","v":7.0422535211267599E-3},903,903,"S.US.LPTH",1805,"S.US.LRCX"]
[null,null,"S.US.GPP",{"$f":"IFERROR(RTD(\"cqg.rtd\", ,\"ContractData\",C1806, \"PerCentNetLastTrade\",, \"T\")/100,\"\")","v":0},1491,1491,"S.US.GPP",1806,"S.US.IDCC"]
[null,null,"S.US.RNET",{"$f":"IFERROR(RTD(\"cqg.rtd\", ,\"ContractData\",C1807, \"PerCentNetLastTrade\",, \"T\")/100,\"\")","v":3.9880952380952378E-2},100,100,"S.US.RNET",1807,"S.US.FOSL"]
[null,null,"S.US.ASUR",{"$f":"IFERROR(RTD(\"cqg.rtd\", ,\"ContractData\",C1808, \"PerCentNetLastTrade\",, \"T\")/100,\"\")","v":-1.092896174863388E-3},1633,1633,"S.US.ASUR",1808,"S.US.BBP"]
[null,null,"S.US.TANH",{"$f":"IFERROR(RTD(\"cqg.rtd\", ,\"ContractData\",C1809, \"PerCentNetLastTrade\",, \"T\")/100,\"\")","v":0},1492,1492,"S.US.TANH",1809,"S.US.VTWG"]
[null,null,"S.US.QCRH",{"$f":"IFERROR(RTD(\"cqg.rtd\", ,\"ContractData\",C1810, \"PerCentNetLastTrade\",, \"T\")/100,\"\")","v":1.2706480304955528E-3},1302,1302,"S.US.QCRH",1810,"S.US.OPK"]
[null,null,"S.US.MHGC",{"$f":"IFERROR(RTD(\"cqg.rtd\", ,\"ContractData\",C1811, \"PerCentNetLastTrade\",, \"T\")/100,\"\")","v":0},1493,1493,"S.US.MHGC",1811,"S.US.VCYT"]
[null,null,"S.US.TAX",{"$f":"IFERROR(RTD(\"cqg.rtd\", ,\"ContractData\",C1812, \"PerCentNetLastTrade\",, \"T\")/100,\"\")","v":7.9365079365079361E-3},851,851,"S.US.TAX",1812,"S.US.PRMW"]
[null,null,"S.US.CBAK",{"$f":"IFERROR(RTD(\"cqg.rtd\", ,\"ContractData\",C1813, \"PerCentNetLastTrade\",, \"T\")/100,\"\")","v":-5.8823529411764712E-2},2536,2536,"S.US.CBAK",1813,"S.US.VCIT"]
[null,null,"S.US.ICLN",{"$f":"IFERROR(RTD(\"cqg.rtd\", ,\"ContractData\",C1814, \"PerCentNetLastTrade\",, \"T\")/100,\"\")","v":9.9750623441396506E-3},726,726,"S.US.ICLN",1814,"S.US.TRIP"]
[null,null,"S.US.HCCI",{"$f":"IFERROR(RTD(\"cqg.rtd\", ,\"ContractData\",C1815, \"PerCentNetLastTrade\",, \"T\")/100,\"\")","v":1.2269938650306749E-2},612,612,"S.US.HCCI",1815,"S.US.AMSG"]
[null,null,"S.US.TYHT",{"$f":"IFERROR(RTD(\"cqg.rtd\", ,\"ContractData\",C1816, \"PerCentNetLastTrade\",, \"T\")/100,\"\")","v":-3.2183908045977011E-2},2455,2455,"S.US.TYHT",1816,"S.US.WB"]
[null,null,"S.US.RBPAA",{"$f":"IFERROR(RTD(\"cqg.rtd\", ,\"ContractData\",C1817, \"PerCentNetLastTrade\",, \"T\")/100,\"\")","v":1.0830324909747294E-2},678,678,"S.US.RBPAA",1817,"S.US.TSEM"]
[null,null,"S.US.AMSWA",{"$f":"IFERROR(RTD(\"cqg.rtd\", ,\"ContractData\",C1818, \"PerCentNetLastTrade\",, \"T\")/100,\"\")","v":7.9575596816976128E-3},848,848,"S.US.AMSWA",1818,"S.US.UNIS"]
[null,null,"S.US.CIDM",{"$f":"IFERROR(RTD(\"cqg.rtd\", ,\"ContractData\",C1819, \"PerCentNetLastTrade\",, \"T\")/100,\"\")","v":3.2679738562091505E-2},155,155,"S.US.CIDM",1819,"S.US.MCHX"]
[null,null,"S.US.MSEX",{"$f":"IFERROR(RTD(\"cqg.rtd\", ,\"ContractData\",C1820, \"PerCentNetLastTrade\",, \"T\")/100,\"\")","v":0},1494,1494,"S.US.MSEX",1820,"S.US.FLIC"]
[null,null,"S.US.CNTF",{"$f":"IFERROR(RTD(\"cqg.rtd\", ,\"ContractData\",C1821, \"PerCentNetLastTrade\",, \"T\")/100,\"\")","v":""},{"$error":"#VALUE!"},"","S.US.CNTF",1821,"S.US.PRAN"]
[null,null,"S.US.GROW",{"$f":"IFERROR(RTD(\"cqg.rtd\", ,\"ContractData\",C1822, \"PerCentNetLastTrade\",, \"T\")/100,\"\")","v":-1.3605442176870748E-2},2213,2213,"S.US.GROW",1822,"S.US.RMCF"]
[null,null,"S.US.FFNW",{"$f":"IFERROR(RTD(\"cqg.rtd\", ,\"ContractData\",C1823, \"PerCentNetLastTrade\",, \"T\")/100,\"\")","v":-1.7513134851138354E-3},1673,1673,"S.US.FFNW",1823,"S.US.FPA"]
[null,null,"S.US.VNOM",{"$f":"IFERROR(RTD(\"cqg.rtd\", ,\"ContractData\",C1824, \"PerCentNetLastTrade\",, \"T\")/100,\"\")","v":4.0488431876606681E-2},95,95,"S.US.VNOM",1824,"S.US.DGLY"]
[null,null,"S.US.MCRI",{"$f":"IFERROR(RTD(\"cqg.rtd\", ,\"ContractData\",C1825, \"PerCentNetLastTrade\",, \"T\")/100,\"\")","v":-1.5214910612400151E-2},2263,2263,"S.US.MCRI",1825,"S.US.ENSG"]
[null,null,"S.US.DXJS",{"$f":"IFERROR(RTD(\"cqg.rtd\", ,\"ContractData\",C1826, \"PerCentNetLastTrade\",, \"T\")/100,\"\")","v":1.1158798283261802E-2},660,660,"S.US.DXJS",1826,"S.US.NGHCO"]
[null,null,"S.US.TCBK",{"$f":"IFERROR(RTD(\"cqg.rtd\", ,\"ContractData\",C1827, \"PerCentNetLastTrade\",, \"T\")/100,\"\")","v":2.0440753752794635E-2},347,347,"S.US.TCBK",1827,"S.US.EBIX"]
[null,null,"S.US.MBRX",{"$f":"IFERROR(RTD(\"cqg.rtd\", ,\"ContractData\",C1828, \"PerCentNetLastTrade\",, \"T\")/100,\"\")","v":1.4760147601476014E-2},501,501,"S.US.MBRX",1828,"S.US.BSFT"]
[null,null,"S.US.DEST",{"$f":"IFERROR(RTD(\"cqg.rtd\", ,\"ContractData\",C1829, \"PerCentNetLastTrade\",, \"T\")/100,\"\")","v":-2.3391812865497075E-2},2378,2378,"S.US.DEST",1829,"S.US.MEET"]
[null,null,"S.US.BMTC",{"$f":"IFERROR(RTD(\"cqg.rtd\", ,\"ContractData\",C1830, \"PerCentNetLastTrade\",, \"T\")/100,\"\")","v":6.7476383265856954E-3},925,925,"S.US.BMTC",1830,"S.US.GILD"]
[null,null,"S.US.CFRX",{"$f":"IFERROR(RTD(\"cqg.rtd\", ,\"ContractData\",C1831, \"PerCentNetLastTrade\",, \"T\")/100,\"\")","v":5.4852320675105481E-2},52,52,"S.US.CFRX",1831,"S.US.ASML"]
[null,null,"S.US.VYGR",{"$f":"IFERROR(RTD(\"cqg.rtd\", ,\"ContractData\",C1832, \"PerCentNetLastTrade\",, \"T\")/100,\"\")","v":2.0881670533642694E-2},339,339,"S.US.VYGR",1832,"S.US.GOOGL"]
[null,null,"S.US.PSCM",{"$f":"IFERROR(RTD(\"cqg.rtd\", ,\"ContractData\",C1833, \"PerCentNetLastTrade\",, \"T\")/100,\"\")","v":7.6857386848847142E-3},867,867,"S.US.PSCM",1833,"S.US.KWEB"]
[null,null,"S.US.AVIR",{"$f":"IFERROR(RTD(\"cqg.rtd\", ,\"ContractData\",C1834, \"PerCentNetLastTrade\",, \"T\")/100,\"\")","v":-7.1428571428571426E-3},1985,1985,"S.US.AVIR",1834,"S.US.NWS"]
[null,null,"S.US.RBCN",{"$f":"IFERROR(RTD(\"cqg.rtd\", ,\"ContractData\",C1835, \"PerCentNetLastTrade\",, \"T\")/100,\"\")","v":3.9215686274509803E-2},108,108,"S.US.RBCN",1835,"S.US.OCFC"]
[null,null,"S.US.MNTX",{"$f":"IFERROR(RTD(\"cqg.rtd\", ,\"ContractData\",C1836, \"PerCentNetLastTrade\",, \"T\")/100,\"\")","v":5.3949903660886325E-2},54,54,"S.US.MNTX",1836,"S.US.LOPE"]
[null,null,"S.US.CVCO",{"$f":"IFERROR(RTD(\"cqg.rtd\", ,\"ContractData\",C1837, \"PerCentNetLastTrade\",, \"T\")/100,\"\")","v":-2.6164311878597592E-3},1728,1728,"S.US.CVCO",1837,"S.US.SAVE"]
[null,null,"S.US.PEBO",{"$f":"IFERROR(RTD(\"cqg.rtd\", ,\"ContractData\",C1838, \"PerCentNetLastTrade\",, \"T\")/100,\"\")","v":9.5432856169052494E-3},760,760,"S.US.PEBO",1838,"S.US.LIVN"]
[null,null,"S.US.CNTY",{"$f":"IFERROR(RTD(\"cqg.rtd\", ,\"ContractData\",C1839, \"PerCentNetLastTrade\",, \"T\")/100,\"\")","v":4.3103448275862068E-3},1092,1092,"S.US.CNTY",1839,"S.US.OLLI"]
[null,null,"S.US.VICL",{"$f":"IFERROR(RTD(\"cqg.rtd\", ,\"ContractData\",C1840, \"PerCentNetLastTrade\",, \"T\")/100,\"\")","v":-2.4193548387096774E-2},2388,2388,"S.US.VICL",1840,"S.US.FDIV"]
[null,null,"S.US.CFO",{"$f":"IFERROR(RTD(\"cqg.rtd\", ,\"ContractData\",C1841, \"PerCentNetLastTrade\",, \"T\")/100,\"\")","v":-7.4831628835120984E-4},1610,1610,"S.US.CFO",1841,"S.US.GGAL"]
[null,null,"S.US.DZSI",{"$f":"IFERROR(RTD(\"cqg.rtd\", ,\"ContractData\",C1842, \"PerCentNetLastTrade\",, \"T\")/100,\"\")","v":0},1495,1495,"S.US.DZSI",1842,"S.US.FEP"]
[null,null,"S.US.SANW",{"$f":"IFERROR(RTD(\"cqg.rtd\", ,\"ContractData\",C1843, \"PerCentNetLastTrade\",, \"T\")/100,\"\")","v":-1.0526315789473684E-2},2118,2118,"S.US.SANW",1843,"S.US.THFF"]
[null,null,"S.US.GASS",{"$f":"IFERROR(RTD(\"cqg.rtd\", ,\"ContractData\",C1844, \"PerCentNetLastTrade\",, \"T\")/100,\"\")","v":3.1791907514450865E-2},162,162,"S.US.GASS",1844,"S.US.SKYY"]
[null,null,"S.US.HYGS",{"$f":"IFERROR(RTD(\"cqg.rtd\", ,\"ContractData\",C1845, \"PerCentNetLastTrade\",, \"T\")/100,\"\")","v":0.04},99,99,"S.US.HYGS",1845,"S.US.PFLT"]
[null,null,"S.US.NAVG",{"$f":"IFERROR(RTD(\"cqg.rtd\", ,\"ContractData\",C1846, \"PerCentNetLastTrade\",, \"T\")/100,\"\")","v":-2.3191094619666049E-3},1711,1711,"S.US.NAVG",1846,"S.US.TZOO"]
[null,null,"S.US.CVCY",{"$f":"IFERROR(RTD(\"cqg.rtd\", ,\"ContractData\",C1847, \"PerCentNetLastTrade\",, \"T\")/100,\"\")","v":-5.8038305281485781E-3},1920,1920,"S.US.CVCY",1847,"S.US.KALU"]
[null,null,"S.US.ENTL",{"$f":"IFERROR(RTD(\"cqg.rtd\", ,\"ContractData\",C1848, \"PerCentNetLastTrade\",, \"T\")/100,\"\")","v":3.2697547683923707E-3},1163,1163,"S.US.ENTL",1848,"S.US.OXLC"]
[null,null,"S.US.FENX",{"$f":"IFERROR(RTD(\"cqg.rtd\", ,\"ContractData\",C1849, \"PerCentNetLastTrade\",, \"T\")/100,\"\")","v":-1.408450704225352E-2},2227,2227,"S.US.FENX",1849,"S.US.HNH"]
[null,null,"S.US.FNX",{"$f":"IFERROR(RTD(\"cqg.rtd\", ,\"ContractData\",C1850, \"PerCentNetLastTrade\",, \"T\")/100,\"\")","v":5.0341603739661985E-3},1043,1043,"S.US.FNX",1850,"S.US.BLKB"]
[null,null,"S.US.CHKE",{"$f":"IFERROR(RTD(\"cqg.rtd\", ,\"ContractData\",C1851, \"PerCentNetLastTrade\",, \"T\")/100,\"\")","v":4.9261083743842365E-3},1051,1051,"S.US.CHKE",1851,"S.US.REGN"]
[null,null,"S.US.COKE",{"$f":"IFERROR(RTD(\"cqg.rtd\", ,\"ContractData\",C1852, \"PerCentNetLastTrade\",, \"T\")/100,\"\")","v":-4.7255543438749544E-3},1871,1871,"S.US.COKE",1852,"S.US.SUNW"]
[null,null,"S.US.GLYC",{"$f":"IFERROR(RTD(\"cqg.rtd\", ,\"ContractData\",C1853, \"PerCentNetLastTrade\",, \"T\")/100,\"\")","v":7.5642965204235999E-3},874,874,"S.US.GLYC",1853,"S.US.SINA"]
[null,null,"S.US.PULM",{"$f":"IFERROR(RTD(\"cqg.rtd\", ,\"ContractData\",C1854, \"PerCentNetLastTrade\",, \"T\")/100,\"\")","v":-5.9701492537313439E-2},2538,2538,"S.US.PULM",1854,"S.US.ROCK"]
[null,null,"S.US.FLIC",{"$f":"IFERROR(RTD(\"cqg.rtd\", ,\"ContractData\",C1855, \"PerCentNetLastTrade\",, \"T\")/100,\"\")","v":-3.8834951456310678E-3},1820,1820,"S.US.FLIC",1855,"S.US.GRFS"]
[null,null,"S.US.SVA",{"$f":"IFERROR(RTD(\"cqg.rtd\", ,\"ContractData\",C1856, \"PerCentNetLastTrade\",, \"T\")/100,\"\")","v":-8.1433224755700327E-3},2030,2030,"S.US.SVA",1856,"S.US.QQQ"]
[null,null,"S.US.AHPI",{"$f":"IFERROR(RTD(\"cqg.rtd\", ,\"ContractData\",C1857, \"PerCentNetLastTrade\",, \"T\")/100,\"\")","v":-3.2258064516129031E-2},2457,2457,"S.US.AHPI",1857,{"$f":"IFERROR(VLOOKUP(H1857,$F$1:$G$2860,2,FALSE),\"\")","v":"S.US.SANM"}]
[null,null,"S.US.LMNR",{"$f":"IFERROR(RTD(\"cqg.rtd\", ,\"ContractData\",C1858, \"PerCentNetLastTrade\",, \"T\")/100,\"\")","v":2.7932960893854745E-3},1199,{"$f":"IFERROR(E1858,\"\")","v":1199},"S.US.LMNR",1858,"S.US.BCOM"]
[null,null,"S.US.COVS",{"$f":"IFERROR(RTD(\"cqg.rtd\", ,\"ContractData\",C1859, \"PerCentNetLastTrade\",, \"T\")/100,\"\")","v":2.2727272727272728E-2},287,287,{"$f":"C1859","v":"S.US.COVS"},{"$f":"H1858+1","v":1859},"S.US.NSTG"]
[null,null,"S.US.CCLP",{"$f":"IFERROR(RTD(\"cqg.rtd\", ,\"ContractData\",C1860, \"PerCentNetLastTrade\",, \"T\")/100,\"\")","v":6.145833333333333E-2},45,45,"S.US.CCLP",1860,"S.US.PEGI"]
[null,null,"S.US.FTHI",{"$f":"IFERROR(RTD(\"cqg.rtd\", ,\"ContractData\",C1861, \"PerCentNetLastTrade\",, \"T\")/100,\"\")","v":1.4245014245014246E-3},1291,1291,"S.US.FTHI",1861,"S.US.IRTC"]
[null,null,"S.US.BLIN",{"$f":"IFERROR(RTD(\"cqg.rtd\", ,\"ContractData\",C1862, \"PerCentNetLastTrade\",, \"T\")/100,\"\")","v":1.6129032258064516E-2},458,458,"S.US.BLIN",1862,"S.US.MRCC"]
[null,null,"S.US.FSTR",{"$f":"IFERROR(RTD(\"cqg.rtd\", ,\"ContractData\",C1863, \"PerCentNetLastTrade\",, \"T\")/100,\"\")","v":4.0816326530612249E-3},1109,1109,"S.US.FSTR",1863,"S.US.ITRI"]
[null,null,"S.US.ACBI",{"$f":"IFERROR(RTD(\"cqg.rtd\", ,\"ContractData\",C1864, \"PerCentNetLastTrade\",, \"T\")/100,\"\")","v":6.2500000000000003E-3},951,951,"S.US.ACBI",1864,"S.US.CVLT"]
[null,null,"S.US.PGC",{"$f":"IFERROR(RTD(\"cqg.rtd\", ,\"ContractData\",C1865, \"PerCentNetLastTrade\",, \"T\")/100,\"\")","v":1.9673348181143281E-2},362,362,"S.US.PGC",1865,"S.US.PODD"]
[null,null,"S.US.AWRE",{"$f":"IFERROR(RTD(\"cqg.rtd\", ,\"ContractData\",C1866, \"PerCentNetLastTrade\",, \"T\")/100,\"\")","v":8.6206896551724137E-3},819,819,"S.US.AWRE",1866,"S.US.BOTZ"]
[null,null,"S.US.PHIIK",{"$f":"IFERROR(RTD(\"cqg.rtd\", ,\"ContractData\",C1867, \"PerCentNetLastTrade\",, \"T\")/100,\"\")","v":4.3055555555555555E-2},86,86,"S.US.PHIIK",1867,"S.US.SLVO"]
[null,null,"S.US.MSBI",{"$f":"IFERROR(RTD(\"cqg.rtd\", ,\"ContractData\",C1868, \"PerCentNetLastTrade\",, \"T\")/100,\"\")","v":4.6239210850801482E-3},1071,1071,"S.US.MSBI",1868,"S.US.PSCC"]
[null,null,"S.US.SMMT",{"$f":"IFERROR(RTD(\"cqg.rtd\", ,\"ContractData\",C1869, \"PerCentNetLastTrade\",, \"T\")/100,\"\")","v":-5.3763440860215049E-3},1906,1906,"S.US.SMMT",1869,"S.US.ACTS"]
[null,null,"S.US.FNWB",{"$f":"IFERROR(RTD(\"cqg.rtd\", ,\"ContractData\",C1870, \"PerCentNetLastTrade\",, \"T\")/100,\"\")","v":2.0242914979757085E-3},1256,1256,"S.US.FNWB",1870,"S.US.DISCA"]
[null,null,"S.US.HTBI",{"$f":"IFERROR(RTD(\"cqg.rtd\", ,\"ContractData\",C1871, \"PerCentNetLastTrade\",, \"T\")/100,\"\")","v":2.1008403361344537E-3},1252,1252,"S.US.HTBI",1871,"S.US.COKE"]
[null,null,"S.US.WASH",{"$f":"IFERROR(RTD(\"cqg.rtd\", ,\"ContractData\",C1872, \"PerCentNetLastTrade\",, \"T\")/100,\"\")","v":9.7087378640776708E-3},751,751,"S.US.WASH",1872,"S.US.PRTO"]
[null,null,"S.US.SRCE",{"$f":"IFERROR(RTD(\"cqg.rtd\", ,\"ContractData\",C1873, \"PerCentNetLastTrade\",, \"T\")/100,\"\")","v":7.1246819338422395E-3},898,898,"S.US.SRCE",1873,"S.US.SUNS"]
[null,null,"S.US.WPCS",{"$f":"IFERROR(RTD(\"cqg.rtd\", ,\"ContractData\",C1874, \"PerCentNetLastTrade\",, \"T\")/100,\"\")","v":8.2644628099173556E-3},832,832,"S.US.WPCS",1874,"S.US.ALNY"]
[null,null,"S.US.SPI",{"$f":"IFERROR(RTD(\"cqg.rtd\", ,\"ContractData\",C1875, \"PerCentNetLastTrade\",, \"T\")/100,\"\")","v":2.6086956521739132E-2},228,228,"S.US.SPI",1875,"S.US.PTLA"]
[null,null,"S.US.PARN",{"$f":"IFERROR(RTD(\"cqg.rtd\", ,\"ContractData\",C1876, \"PerCentNetLastTrade\",, \"T\")/100,\"\")","v":7.7519379844961248E-3},860,860,"S.US.PARN",1876,"S.US.EXPO"]
[null,null,"S.US.HOTR",{"$f":"IFERROR(RTD(\"cqg.rtd\", ,\"ContractData\",C1877, \"PerCentNetLastTrade\",, \"T\")/100,\"\")","v":-5.6603773584905655E-2},2531,2531,"S.US.HOTR",1877,"S.US.AFAM"]
[null,null,"S.US.FSAM",{"$f":"IFERROR(RTD(\"cqg.rtd\", ,\"ContractData\",C1878, \"PerCentNetLastTrade\",, \"T\")/100,\"\")","v":3.2000000000000002E-3},1168,1168,"S.US.FSAM",1878,"S.US.DCTH"]
[null,null,"S.US.PRTO",{"$f":"IFERROR(RTD(\"cqg.rtd\", ,\"ContractData\",C1879, \"PerCentNetLastTrade\",, \"T\")/100,\"\")","v":-4.7393364928909956E-3},1872,1872,"S.US.PRTO",1879,"S.US.MSFT"]
[null,null,"S.US.IMKTA",{"$f":"IFERROR(RTD(\"cqg.rtd\", ,\"ContractData\",C1880, \"PerCentNetLastTrade\",, \"T\")/100,\"\")","v":4.2643923240938165E-3},1095,1095,"S.US.IMKTA",1880,"S.US.CRESY"]
[null,null,"S.US.OHRP",{"$f":"IFERROR(RTD(\"cqg.rtd\", ,\"ContractData\",C1881, \"PerCentNetLastTrade\",, \"T\")/100,\"\")","v":0},1496,1496,"S.US.OHRP",1881,"S.US.DBVT"]
[null,null,"S.US.MLNK",{"$f":"IFERROR(RTD(\"cqg.rtd\", ,\"ContractData\",C1882, \"PerCentNetLastTrade\",, \"T\")/100,\"\")","v":-1.408450704225352E-2},2228,2228,"S.US.MLNK",1882,"S.US.SCLN"]
[null,null,"S.US.ASND",{"$f":"IFERROR(RTD(\"cqg.rtd\", ,\"ContractData\",C1883, \"PerCentNetLastTrade\",, \"T\")/100,\"\")","v":7.3170731707317069E-3},890,890,"S.US.ASND",1883,"S.US.ATRS"]
[null,null,"S.US.PCYG",{"$f":"IFERROR(RTD(\"cqg.rtd\", ,\"ContractData\",C1884, \"PerCentNetLastTrade\",, \"T\")/100,\"\")","v":0},1497,1497,"S.US.PCYG",1884,"S.US.LVHD"]
[null,null,"S.US.BLBD",{"$f":"IFERROR(RTD(\"cqg.rtd\", ,\"ContractData\",C1885, \"PerCentNetLastTrade\",, \"T\")/100,\"\")","v":1.2461059190031152E-2},600,600,"S.US.BLBD",1885,"S.US.MYL"]
[null,null,"S.US.CTSO",{"$f":"IFERROR(RTD(\"cqg.rtd\", ,\"ContractData\",C1886, \"PerCentNetLastTrade\",, \"T\")/100,\"\")","v":9.8039215686274508E-3},741,741,"S.US.CTSO",1886,"S.US.BWLD"]
[null,null,"S.US.KMPH",{"$f":"IFERROR(RTD(\"cqg.rtd\", ,\"ContractData\",C1887, \"PerCentNetLastTrade\",, \"T\")/100,\"\")","v":-5.5555555555555552E-2},2529,2529,"S.US.KMPH",1887,"S.US.CHI"]
[null,null,"S.US.DWIN",{"$f":"IFERROR(RTD(\"cqg.rtd\", ,\"ContractData\",C1888, \"PerCentNetLastTrade\",, \"T\")/100,\"\")","v":5.9501673484566751E-3},980,980,"S.US.DWIN",1888,"S.US.CMFN"]
[null,null,"S.US.IPCC",{"$f":"IFERROR(RTD(\"cqg.rtd\", ,\"ContractData\",C1889, \"PerCentNetLastTrade\",, \"T\")/100,\"\")","v":-5.7110222729868647E-4},1600,1600,"S.US.IPCC",1889,"S.US.MIIIU"]
[null,null,"S.US.DMLP",{"$f":"IFERROR(RTD(\"cqg.rtd\", ,\"ContractData\",C1890, \"PerCentNetLastTrade\",, \"T\")/100,\"\")","v":5.2631578947368425E-2},58,58,"S.US.DMLP",1890,"S.US.SAGE"]
[null,null,"S.US.SIFY",{"$f":"IFERROR(RTD(\"cqg.rtd\", ,\"ContractData\",C1891, \"PerCentNetLastTrade\",, \"T\")/100,\"\")","v":4.3956043956043959E-2},81,81,"S.US.SIFY",1891,"S.US.ADBE"]
[null,null,"S.US.CDC",{"$f":"IFERROR(RTD(\"cqg.rtd\", ,\"ContractData\",C1892, \"PerCentNetLastTrade\",, \"T\")/100,\"\")","v":-3.1769305962854348E-3},1765,1765,"S.US.CDC",1892,"S.US.CNMD"]
[null,null,"S.US.CRTN",{"$f":"IFERROR(RTD(\"cqg.rtd\", ,\"ContractData\",C1893, \"PerCentNetLastTrade\",, \"T\")/100,\"\")","v":-4.6875E-2},2506,2506,"S.US.CRTN",1893,"S.US.LAKE"]
[null,null,"S.US.PMBC",{"$f":"IFERROR(RTD(\"cqg.rtd\", ,\"ContractData\",C1894, \"PerCentNetLastTrade\",, \"T\")/100,\"\")","v":4.0322580645161289E-2},97,97,"S.US.PMBC",1894,"S.US.DWTR"]
[null,null,"S.US.QADA",{"$f":"IFERROR(RTD(\"cqg.rtd\", ,\"ContractData\",C1895, \"PerCentNetLastTrade\",, \"T\")/100,\"\")","v":2.3769100169779285E-3},1233,1233,"S.US.QADA",1895,"S.US.VRNT"]
[null,null,"S.US.HWCC",{"$f":"IFERROR(RTD(\"cqg.rtd\", ,\"ContractData\",C1896, \"PerCentNetLastTrade\",, \"T\")/100,\"\")","v":8.6206896551724137E-3},820,820,"S.US.HWCC",1896,"S.US.CAVM"]
[null,null,"S.US.FORD",{"$f":"IFERROR(RTD(\"cqg.rtd\", ,\"ContractData\",C1897, \"PerCentNetLastTrade\",, \"T\")/100,\"\")","v":-1.4492753623188406E-2},2240,2240,"S.US.FORD",1897,"S.US.OBCI"]
[null,null,"S.US.MBLX",{"$f":"IFERROR(RTD(\"cqg.rtd\", ,\"ContractData\",C1898, \"PerCentNetLastTrade\",, \"T\")/100,\"\")","v":0},1498,1498,"S.US.MBLX",1898,"S.US.PSCH"]
[null,null,"S.US.FORR",{"$f":"IFERROR(RTD(\"cqg.rtd\", ,\"ContractData\",C1899, \"PerCentNetLastTrade\",, \"T\")/100,\"\")","v":4.9140049140049139E-3},1052,1052,"S.US.FORR",1899,"S.US.URBN"]
[null,null,"S.US.FFWM",{"$f":"IFERROR(RTD(\"cqg.rtd\", ,\"ContractData\",C1900, \"PerCentNetLastTrade\",, \"T\")/100,\"\")","v":2.4263431542461008E-3},1229,1229,"S.US.FFWM",1900,"S.US.ROST"]
[null,null,"S.US.DGLY",{"$f":"IFERROR(RTD(\"cqg.rtd\", ,\"ContractData\",C1901, \"PerCentNetLastTrade\",, \"T\")/100,\"\")","v":-3.9840637450199202E-3},1824,1824,"S.US.DGLY",1901,"S.US.BJRI"]
[null,null,"S.US.PMD",{"$f":"IFERROR(RTD(\"cqg.rtd\", ,\"ContractData\",C1902, \"PerCentNetLastTrade\",, \"T\")/100,\"\")","v":-1.7474185861795076E-2},2303,2303,"S.US.PMD",1902,"S.US.MXIM"]
[null,null,"S.US.ARCW",{"$f":"IFERROR(RTD(\"cqg.rtd\", ,\"ContractData\",C1903, \"PerCentNetLastTrade\",, \"T\")/100,\"\")","v":3.8834951456310683E-2},111,111,"S.US.ARCW",1903,"S.US.REFR"]
[null,null,"S.US.RDHL",{"$f":"IFERROR(RTD(\"cqg.rtd\", ,\"ContractData\",C1904, \"PerCentNetLastTrade\",, \"T\")/100,\"\")","v":2.6666666666666666E-3},1211,1211,"S.US.RDHL",1904,"S.US.KTWO"]
[null,null,"S.US.GLDI",{"$f":"IFERROR(RTD(\"cqg.rtd\", ,\"ContractData\",C1905, \"PerCentNetLastTrade\",, \"T\")/100,\"\")","v":-9.7087378640776708E-3},2089,2089,"S.US.GLDI",1905,"S.US.CNAT"]
[null,null,"S.US.MBVT",{"$f":"IFERROR(RTD(\"cqg.rtd\", ,\"ContractData\",C1906, \"PerCentNetLastTrade\",, \"T\")/100,\"\")","v":1.9250253292806486E-2},375,375,"S.US.MBVT",1906,"S.US.SMMT"]
[null,null,"S.US.MTLS",{"$f":"IFERROR(RTD(\"cqg.rtd\", ,\"ContractData\",C1907, \"PerCentNetLastTrade\",, \"T\")/100,\"\")","v":0},1499,1499,"S.US.MTLS",1907,"S.US.FTR"]
[null,null,"S.US.YECO",{"$f":"IFERROR(RTD(\"cqg.rtd\", ,\"ContractData\",C1908, \"PerCentNetLastTrade\",, \"T\")/100,\"\")","v":-0.12030075187969924},2563,2563,"S.US.YECO",1908,"S.US.TLND"]
[null,null,"S.US.VONV",{"$f":"IFERROR(RTD(\"cqg.rtd\", ,\"ContractData\",C1909, \"PerCentNetLastTrade\",, \"T\")/100,\"\")","v":7.3191133416980348E-3},889,889,"S.US.VONV",1909,"S.US.ANSS"]
[null,null,"S.US.GIGA",{"$f":"IFERROR(RTD(\"cqg.rtd\", ,\"ContractData\",C1910, \"PerCentNetLastTrade\",, \"T\")/100,\"\")","v":1.3157894736842106E-2},573,573,"S.US.GIGA",1910,"S.US.BIOL"]
[null,null,"S.US.CCCR",{"$f":"IFERROR(RTD(\"cqg.rtd\", ,\"ContractData\",C1911, \"PerCentNetLastTrade\",, \"T\")/100,\"\")","v":2.0408163265306124E-2},349,349,"S.US.CCCR",1911,"S.US.PCTY"]
[null,null,"S.US.CNXN",{"$f":"IFERROR(RTD(\"cqg.rtd\", ,\"ContractData\",C1912, \"PerCentNetLastTrade\",, \"T\")/100,\"\")","v":2.176278563656148E-3},1248,1248,"S.US.CNXN",1912,"S.US.UBNT"]
[null,null,"S.US.NBRV",{"$f":"IFERROR(RTD(\"cqg.rtd\", ,\"ContractData\",C1913, \"PerCentNetLastTrade\",, \"T\")/100,\"\")","v":0},1500,1500,"S.US.NBRV",1913,"S.US.AOSL"]
[null,null,"S.US.PRAN",{"$f":"IFERROR(RTD(\"cqg.rtd\", ,\"ContractData\",C1914, \"PerCentNetLastTrade\",, \"T\")/100,\"\")","v":-3.90625E-3},1821,1821,"S.US.PRAN",1914,"S.US.NDAQ"]
[null,null,"S.US.WILN",{"$f":"IFERROR(RTD(\"cqg.rtd\", ,\"ContractData\",C1915, \"PerCentNetLastTrade\",, \"T\")/100,\"\")","v":1.5037593984962405E-2},495,495,"S.US.WILN",1915,"S.US.KLIC"]
[null,null,"S.US.HTGM",{"$f":"IFERROR(RTD(\"cqg.rtd\", ,\"ContractData\",C1916, \"PerCentNetLastTrade\",, \"T\")/100,\"\")","v":-6.25E-2},2542,2542,"S.US.HTGM",1916,"S.US.PERF"]
[null,null,"S.US.ICAD",{"$f":"IFERROR(RTD(\"cqg.rtd\", ,\"ContractData\",C1917, \"PerCentNetLastTrade\",, \"T\")/100,\"\")","v":5.5248618784530393E-3},1014,1014,"S.US.ICAD",1917,"S.US.SPKE"]
[null,null,"S.US.BATRA",{"$f":"IFERROR(RTD(\"cqg.rtd\", ,\"ContractData\",C1918, \"PerCentNetLastTrade\",, \"T\")/100,\"\")","v":5.456349206349206E-3},1018,1018,"S.US.BATRA",1918,"S.US.NXTD"]
[null,null,"S.US.PSCT",{"$f":"IFERROR(RTD(\"cqg.rtd\", ,\"ContractData\",C1919, \"PerCentNetLastTrade\",, \"T\")/100,\"\")","v":0},1501,1501,"S.US.PSCT",1919,"S.US.SYUT"]
[null,null,"S.US.ADES",{"$f":"IFERROR(RTD(\"cqg.rtd\", ,\"ContractData\",C1920, \"PerCentNetLastTrade\",, \"T\")/100,\"\")","v":4.4150110375275938E-3},1089,1089,"S.US.ADES",1920,"S.US.CVCY"]
[null,null,"S.US.PYDS",{"$f":"IFERROR(RTD(\"cqg.rtd\", ,\"ContractData\",C1921, \"PerCentNetLastTrade\",, \"T\")/100,\"\")","v":""},{"$error":"#VALUE!"},"","S.US.PYDS",1921,{"$f":"IFERROR(VLOOKUP(H1921,$F$1:$G$2860,2,FALSE),\"\")","v":"S.US.NEWT"}]
[null,null,"S.US.BSRR",{"$f":"IFERROR(RTD(\"cqg.rtd\", ,\"ContractData\",C1922, \"PerCentNetLastTrade\",, \"T\")/100,\"\")","v":2.1428571428571429E-2},325,{"$f":"IFERROR(E1922,\"\")","v":325},"S.US.BSRR",1922,"S.US.INTU"]
[null,null,"S.US.SCWX",{"$f":"IFERROR(RTD(\"cqg.rtd\", ,\"ContractData\",C1923, \"PerCentNetLastTrade\",, \"T\")/100,\"\")","v":1.3008130081300813E-2},577,577,{"$f":"C1923","v":"S.US.SCWX"},{"$f":"H1922+1","v":1923},"S.US.NK"]
[null,null,"S.US.IFON",{"$f":"IFERROR(RTD(\"cqg.rtd\", ,\"ContractData\",C1924, \"PerCentNetLastTrade\",, \"T\")/100,\"\")","v":-2.2727272727272728E-2},2375,2375,"S.US.IFON",1924,"S.US.BMRN"]
[null,null,"S.US.TGA",{"$f":"IFERROR(RTD(\"cqg.rtd\", ,\"ContractData\",C1925, \"PerCentNetLastTrade\",, \"T\")/100,\"\")","v":2.9411764705882356E-2},188,188,"S.US.TGA",1925,"S.US.MTGE"]
[null,null,"S.US.AVNW",{"$f":"IFERROR(RTD(\"cqg.rtd\", ,\"ContractData\",C1926, \"PerCentNetLastTrade\",, \"T\")/100,\"\")","v":2.9079159935379642E-2},189,189,"S.US.AVNW",1926,"S.US.TCPC"]
[null,null,"S.US.SKYS",{"$f":"IFERROR(RTD(\"cqg.rtd\", ,\"ContractData\",C1927, \"PerCentNetLastTrade\",, \"T\")/100,\"\")","v":-4.5627376425855515E-2},2503,2503,"S.US.SKYS",1927,"S.US.LPSN"]
[null,null,"S.US.CVV",{"$f":"IFERROR(RTD(\"cqg.rtd\", ,\"ContractData\",C1928, \"PerCentNetLastTrade\",, \"T\")/100,\"\")","v":-6.4350064350064354E-3},1948,1948,"S.US.CVV",1928,"S.US.TTWO"]
[null,null,"S.US.SLVO",{"$f":"IFERROR(RTD(\"cqg.rtd\", ,\"ContractData\",C1929, \"PerCentNetLastTrade\",, \"T\")/100,\"\")","v":-4.6565774155995342E-3},1867,1867,"S.US.SLVO",1929,"S.US.HAS"]
[null,null,"S.US.BCLI",{"$f":"IFERROR(RTD(\"cqg.rtd\", ,\"ContractData\",C1930, \"PerCentNetLastTrade\",, \"T\")/100,\"\")","v":-1.8181818181818181E-2},2322,2322,"S.US.BCLI",1930,"S.US.SAFM"]
[null,null,"S.US.CAPR",{"$f":"IFERROR(RTD(\"cqg.rtd\", ,\"ContractData\",C1931, \"PerCentNetLastTrade\",, \"T\")/100,\"\")","v":-1.5625E-2},2270,2270,"S.US.CAPR",1931,"S.US.SNPS"]
[null,null,"S.US.BELFB",{"$f":"IFERROR(RTD(\"cqg.rtd\", ,\"ContractData\",C1932, \"PerCentNetLastTrade\",, \"T\")/100,\"\")","v":-1.1345218800648298E-2},2149,2149,"S.US.BELFB",1932,"S.US.XCRA"]
[null,null,"S.US.CUNB",{"$f":"IFERROR(RTD(\"cqg.rtd\", ,\"ContractData\",C1933, \"PerCentNetLastTrade\",, \"T\")/100,\"\")","v":1.9332161687170474E-2},374,374,"S.US.CUNB",1933,"S.US.ZUMZ"]
[null,null,"S.US.SNSS",{"$f":"IFERROR(RTD(\"cqg.rtd\", ,\"ContractData\",C1934, \"PerCentNetLastTrade\",, \"T\")/100,\"\")","v":1.466992665036675E-2},505,505,"S.US.SNSS",1934,"S.US.BONT"]
[null,null,"S.US.PCO",{"$f":"IFERROR(RTD(\"cqg.rtd\", ,\"ContractData\",C1935, \"PerCentNetLastTrade\",, \"T\")/100,\"\")","v":-1.4423076923076922E-2},2238,2238,"S.US.PCO",1935,"S.US.MDXG"]
[null,null,"S.US.RICK",{"$f":"IFERROR(RTD(\"cqg.rtd\", ,\"ContractData\",C1936, \"PerCentNetLastTrade\",, \"T\")/100,\"\")","v":0},1502,1502,"S.US.RICK",1936,"S.US.SRDX"]
[null,null,"S.US.JASN",{"$f":"IFERROR(RTD(\"cqg.rtd\", ,\"ContractData\",C1937, \"PerCentNetLastTrade\",, \"T\")/100,\"\")","v":0},1503,1503,"S.US.JASN",1937,"S.US.WBA"]
[null,null,"S.US.TZOO",{"$f":"IFERROR(RTD(\"cqg.rtd\", ,\"ContractData\",C1938, \"PerCentNetLastTrade\",, \"T\")/100,\"\")","v":-4.3103448275862068E-3},1846,1846,"S.US.TZOO",1938,"S.US.XENE"]
[null,null,"S.US.VRML",{"$f":"IFERROR(RTD(\"cqg.rtd\", ,\"ContractData\",C1939, \"PerCentNetLastTrade\",, \"T\")/100,\"\")","v":-8.3333333333333332E-3},2039,2039,"S.US.VRML",1939,"S.US.RESN"]
[null,null,"S.US.FTEK",{"$f":"IFERROR(RTD(\"cqg.rtd\", ,\"ContractData\",C1940, \"PerCentNetLastTrade\",, \"T\")/100,\"\")","v":3.3898305084745763E-2},145,145,"S.US.FTEK",1940,"S.US.SYKE"]
[null,null,"S.US.SPNS",{"$f":"IFERROR(RTD(\"cqg.rtd\", ,\"ContractData\",C1941, \"PerCentNetLastTrade\",, \"T\")/100,\"\")","v":4.0705563093622792E-3},1110,1110,"S.US.SPNS",1941,"S.US.FB"]
[null,null,"S.US.PLUS",{"$f":"IFERROR(RTD(\"cqg.rtd\", ,\"ContractData\",C1942, \"PerCentNetLastTrade\",, \"T\")/100,\"\")","v":-7.5994635672776032E-3},2012,2012,"S.US.PLUS",1942,"S.US.BBH"]
[null,null,"S.US.FOGO",{"$f":"IFERROR(RTD(\"cqg.rtd\", ,\"ContractData\",C1943, \"PerCentNetLastTrade\",, \"T\")/100,\"\")","v":0},1504,1504,"S.US.FOGO",1943,"S.US.ICUI"]
[null,null,"S.US.JVA",{"$f":"IFERROR(RTD(\"cqg.rtd\", ,\"ContractData\",C1944, \"PerCentNetLastTrade\",, \"T\")/100,\"\")","v":2E-3},1259,1259,"S.US.JVA",1944,"S.US.BGNE"]
[null,null,"S.US.DTYS",{"$f":"IFERROR(RTD(\"cqg.rtd\", ,\"ContractData\",C1945, \"PerCentNetLastTrade\",, \"T\")/100,\"\")","v":4.7823750671681896E-2},69,69,"S.US.DTYS",1945,"S.US.CVGW"]
[null,null,"S.US.CASI",{"$f":"IFERROR(RTD(\"cqg.rtd\", ,\"ContractData\",C1946, \"PerCentNetLastTrade\",, \"T\")/100,\"\")","v":-2.7777777777777776E-2},2424,2424,"S.US.CASI",1946,"S.US.ACNB"]
[null,null,"S.US.PTXP",{"$f":"IFERROR(RTD(\"cqg.rtd\", ,\"ContractData\",C1947, \"PerCentNetLastTrade\",, \"T\")/100,\"\")","v":-1.884422110552764E-3},1682,1682,"S.US.PTXP",1947,"S.US.UTEK"]
[null,null,"S.US.OFS",{"$f":"IFERROR(RTD(\"cqg.rtd\", ,\"ContractData\",C1948, \"PerCentNetLastTrade\",, \"T\")/100,\"\")","v":3.927729772191673E-3},1118,1118,"S.US.OFS",1948,"S.US.CVV"]
[null,null,"S.US.GIFI",{"$f":"IFERROR(RTD(\"cqg.rtd\", ,\"ContractData\",C1949, \"PerCentNetLastTrade\",, \"T\")/100,\"\")","v":2.1551724137931036E-2},319,319,"S.US.GIFI",1949,"S.US.HPT"]
[null,null,"S.US.PSCE",{"$f":"IFERROR(RTD(\"cqg.rtd\", ,\"ContractData\",C1950, \"PerCentNetLastTrade\",, \"T\")/100,\"\")","v":0.10505836575875487},22,22,"S.US.PSCE",1950,"S.US.NXEO"]
[null,null,"S.US.FARM",{"$f":"IFERROR(RTD(\"cqg.rtd\", ,\"ContractData\",C1951, \"PerCentNetLastTrade\",, \"T\")/100,\"\")","v":5.6657223796033997E-3},1002,1002,"S.US.FARM",1951,"S.US.JKHY"]
[null,null,"S.US.WKHS",{"$f":"IFERROR(RTD(\"cqg.rtd\", ,\"ContractData\",C1952, \"PerCentNetLastTrade\",, \"T\")/100,\"\")","v":2.8967254408060455E-2},190,190,"S.US.WKHS",1952,"S.US.EDAP"]
[null,null,"S.US.LVHD",{"$f":"IFERROR(RTD(\"cqg.rtd\", ,\"ContractData\",C1953, \"PerCentNetLastTrade\",, \"T\")/100,\"\")","v":-4.9504950495049506E-3},1884,1884,"S.US.LVHD",1953,"S.US.ZG"]
[null,null,"S.US.FLN",{"$f":"IFERROR(RTD(\"cqg.rtd\", ,\"ContractData\",C1954, \"PerCentNetLastTrade\",, \"T\")/100,\"\")","v":1.2432432432432432E-2},603,603,"S.US.FLN",1954,"S.US.ATRC"]
[null,null,"S.US.LRAD",{"$f":"IFERROR(RTD(\"cqg.rtd\", ,\"ContractData\",C1955, \"PerCentNetLastTrade\",, \"T\")/100,\"\")","v":1.6666666666666666E-2},441,441,"S.US.LRAD",1955,"S.US.RGNX"]
[null,null,"S.US.FDT",{"$f":"IFERROR(RTD(\"cqg.rtd\", ,\"ContractData\",C1956, \"PerCentNetLastTrade\",, \"T\")/100,\"\")","v":""},{"$error":"#VALUE!"},"","S.US.FDT",1956,"S.US.ARNA"]
[null,null,"S.US.GSIT",{"$f":"IFERROR(RTD(\"cqg.rtd\", ,\"ContractData\",C1957, \"PerCentNetLastTrade\",, \"T\")/100,\"\")","v":5.4844606946983544E-3},1016,1016,"S.US.GSIT",1957,"S.US.NOVN"]
[null,null,"S.US.VRAY",{"$f":"IFERROR(RTD(\"cqg.rtd\", ,\"ContractData\",C1958, \"PerCentNetLastTrade\",, \"T\")/100,\"\")","v":1.7964071856287425E-2},407,407,"S.US.VRAY",1958,"S.US.TISA"]
[null,null,"S.US.DSGX",{"$f":"IFERROR(RTD(\"cqg.rtd\", ,\"ContractData\",C1959, \"PerCentNetLastTrade\",, \"T\")/100,\"\")","v":0},1505,1505,"S.US.DSGX",1959,"S.US.RMR"]
[null,null,"S.US.GRID",{"$f":"IFERROR(RTD(\"cqg.rtd\", ,\"ContractData\",C1960, \"PerCentNetLastTrade\",, \"T\")/100,\"\")","v":-2.1513173797437758E-2},2368,2368,"S.US.GRID",1960,"S.US.JACK"]
[null,null,"S.US.VONG",{"$f":"IFERROR(RTD(\"cqg.rtd\", ,\"ContractData\",C1961, \"PerCentNetLastTrade\",, \"T\")/100,\"\")","v":-1.2079539119122839E-3},1638,1638,"S.US.VONG",1961,"S.US.IBB"]
[null,null,"S.US.STFC",{"$f":"IFERROR(RTD(\"cqg.rtd\", ,\"ContractData\",C1962, \"PerCentNetLastTrade\",, \"T\")/100,\"\")","v":1.7653981953707334E-2},421,421,"S.US.STFC",1962,"S.US.FOXA"]
[null,null,"S.US.VTVT",{"$f":"IFERROR(RTD(\"cqg.rtd\", ,\"ContractData\",C1963, \"PerCentNetLastTrade\",, \"T\")/100,\"\")","v":4.3233082706766915E-2},85,85,"S.US.VTVT",1963,"S.US.IIIN"]
[null,null,"S.US.IVAC",{"$f":"IFERROR(RTD(\"cqg.rtd\", ,\"ContractData\",C1964, \"PerCentNetLastTrade\",, \"T\")/100,\"\")","v":2.4E-2},260,260,"S.US.IVAC",1964,"S.US.WIN"]
[null,null,"S.US.BANF",{"$f":"IFERROR(RTD(\"cqg.rtd\", ,\"ContractData\",C1965, \"PerCentNetLastTrade\",, \"T\")/100,\"\")","v":6.1162079510703356E-3},962,962,"S.US.BANF",1965,"S.US.GLPI"]
[null,null,"S.US.MNDO",{"$f":"IFERROR(RTD(\"cqg.rtd\", ,\"ContractData\",C1966, \"PerCentNetLastTrade\",, \"T\")/100,\"\")","v":3.7313432835820899E-3},1128,1128,"S.US.MNDO",1966,"S.US.PYPL"]
[null,null,"S.US.CTWS",{"$f":"IFERROR(RTD(\"cqg.rtd\", ,\"ContractData\",C1967, \"PerCentNetLastTrade\",, \"T\")/100,\"\")","v":-2.1299254526091589E-3},1700,1700,"S.US.CTWS",1967,"S.US.MRAM"]
[null,null,"S.US.CNXR",{"$f":"IFERROR(RTD(\"cqg.rtd\", ,\"ContractData\",C1968, \"PerCentNetLastTrade\",, \"T\")/100,\"\")","v":2.7322404371584699E-2},212,212,"S.US.CNXR",1968,"S.US.AMAG"]
[null,null,"S.US.PRQR",{"$f":"IFERROR(RTD(\"cqg.rtd\", ,\"ContractData\",C1969, \"PerCentNetLastTrade\",, \"T\")/100,\"\")","v":0},1506,1506,"S.US.PRQR",1969,"S.US.MLHR"]
[null,null,"S.US.OSN",{"$f":"IFERROR(RTD(\"cqg.rtd\", ,\"ContractData\",C1970, \"PerCentNetLastTrade\",, \"T\")/100,\"\")","v":5.2631578947368425E-2},59,59,"S.US.OSN",1970,"S.US.HAWK"]
[null,null,"S.US.TCON",{"$f":"IFERROR(RTD(\"cqg.rtd\", ,\"ContractData\",C1971, \"PerCentNetLastTrade\",, \"T\")/100,\"\")","v":2.6086956521739132E-2},229,229,"S.US.TCON",1971,"S.US.MDVX"]
[null,null,"S.US.STLY",{"$f":"IFERROR(RTD(\"cqg.rtd\", ,\"ContractData\",C1972, \"PerCentNetLastTrade\",, \"T\")/100,\"\")","v":0.03},183,183,"S.US.STLY",1972,"S.US.CRTO"]
[null,null,"S.US.EXA",{"$f":"IFERROR(RTD(\"cqg.rtd\", ,\"ContractData\",C1973, \"PerCentNetLastTrade\",, \"T\")/100,\"\")","v":9.3520374081496327E-3},774,774,"S.US.EXA",1973,"S.US.BANX"]
[null,null,"S.US.HALL",{"$f":"IFERROR(RTD(\"cqg.rtd\", ,\"ContractData\",C1974, \"PerCentNetLastTrade\",, \"T\")/100,\"\")","v":2.9822926374650512E-2},185,185,"S.US.HALL",1974,"S.US.WINT"]
[null,null,"S.US.CLFD",{"$f":"IFERROR(RTD(\"cqg.rtd\", ,\"ContractData\",C1975, \"PerCentNetLastTrade\",, \"T\")/100,\"\")","v":0},1507,1507,"S.US.CLFD",1975,"S.US.MIK"]
[null,null,"S.US.ORPN",{"$f":"IFERROR(RTD(\"cqg.rtd\", ,\"ContractData\",C1976, \"PerCentNetLastTrade\",, \"T\")/100,\"\")","v":-4.2553191489361701E-2},2496,2496,"S.US.ORPN",1976,"S.US.CRUS"]
[null,null,"S.US.HQCL",{"$f":"IFERROR(RTD(\"cqg.rtd\", ,\"ContractData\",C1977, \"PerCentNetLastTrade\",, \"T\")/100,\"\")","v":1.2091898428053204E-2},620,620,"S.US.HQCL",1977,"S.US.JAZZ"]
[null,null,"S.US.SMSI",{"$f":"IFERROR(RTD(\"cqg.rtd\", ,\"ContractData\",C1978, \"PerCentNetLastTrade\",, \"T\")/100,\"\")","v":""},{"$error":"#VALUE!"},"","S.US.SMSI",1978,"S.US.GOODP"]
[null,null,"S.US.AIA",{"$f":"IFERROR(RTD(\"cqg.rtd\", ,\"ContractData\",C1979, \"PerCentNetLastTrade\",, \"T\")/100,\"\")","v":5.1942655308539372E-3},1033,1033,"S.US.AIA",1979,"S.US.LOAN"]
[null,null,"S.US.NCTY",{"$f":"IFERROR(RTD(\"cqg.rtd\", ,\"ContractData\",C1980, \"PerCentNetLastTrade\",, \"T\")/100,\"\")","v":0},1508,1508,"S.US.NCTY",1980,"S.US.TWOU"]
[null,null,"S.US.GENC",{"$f":"IFERROR(RTD(\"cqg.rtd\", ,\"ContractData\",C1981, \"PerCentNetLastTrade\",, \"T\")/100,\"\")","v":2.8571428571428571E-2},195,195,"S.US.GENC",1981,"S.US.IRMD"]
[null,null,"S.US.RVSB",{"$f":"IFERROR(RTD(\"cqg.rtd\", ,\"ContractData\",C1982, \"PerCentNetLastTrade\",, \"T\")/100,\"\")","v":4.9586776859504135E-3},1048,1048,"S.US.RVSB",1982,"S.US.IFEU"]
[null,null,"S.US.DTEA",{"$f":"IFERROR(RTD(\"cqg.rtd\", ,\"ContractData\",C1983, \"PerCentNetLastTrade\",, \"T\")/100,\"\")","v":0.01},724,724,"S.US.DTEA",1983,"S.US.ANGO"]
[null,null,"S.US.CORI",{"$f":"IFERROR(RTD(\"cqg.rtd\", ,\"ContractData\",C1984, \"PerCentNetLastTrade\",, \"T\")/100,\"\")","v":-4.779411764705882E-2},2510,2510,"S.US.CORI",1984,"S.US.DNAI"]
[null,null,"S.US.DSCI",{"$f":"IFERROR(RTD(\"cqg.rtd\", ,\"ContractData\",C1985, \"PerCentNetLastTrade\",, \"T\")/100,\"\")","v":2.1739130434782608E-2},313,313,"S.US.DSCI",1985,{"$f":"IFERROR(VLOOKUP(H1985,$F$1:$G$2860,2,FALSE),\"\")","v":"S.US.AVIR"}]
[null,null,"S.US.ESLT",{"$f":"IFERROR(RTD(\"cqg.rtd\", ,\"ContractData\",C1986, \"PerCentNetLastTrade\",, \"T\")/100,\"\")","v":-1.5732737690589492E-2},2271,{"$f":"IFERROR(E1986,\"\")","v":2271},"S.US.ESLT",1986,"S.US.CTRP"]
[null,null,"S.US.GDEN",{"$f":"IFERROR(RTD(\"cqg.rtd\", ,\"ContractData\",C1987, \"PerCentNetLastTrade\",, \"T\")/100,\"\")","v":7.8926598263614825E-3},853,853,{"$f":"C1987","v":"S.US.GDEN"},{"$f":"H1986+1","v":1987},"S.US.FRAN"]
[null,null,"S.US.PDVW",{"$f":"IFERROR(RTD(\"cqg.rtd\", ,\"ContractData\",C1988, \"PerCentNetLastTrade\",, \"T\")/100,\"\")","v":1.8367346938775512E-2},392,392,"S.US.PDVW",1988,"S.US.SVVC"]
[null,null,"S.US.GEC",{"$f":"IFERROR(RTD(\"cqg.rtd\", ,\"ContractData\",C1989, \"PerCentNetLastTrade\",, \"T\")/100,\"\")","v":""},{"$error":"#VALUE!"},"","S.US.GEC",1989,"S.US.ONCE"]
[null,null,"S.US.SLP",{"$f":"IFERROR(RTD(\"cqg.rtd\", ,\"ContractData\",C1990, \"PerCentNetLastTrade\",, \"T\")/100,\"\")","v":-1.0309278350515462E-2},2109,2109,"S.US.SLP",1990,"S.US.ZAGG"]
[null,null,"S.US.HMTV",{"$f":"IFERROR(RTD(\"cqg.rtd\", ,\"ContractData\",C1991, \"PerCentNetLastTrade\",, \"T\")/100,\"\")","v":-1.2605042016806723E-2},2189,2189,"S.US.HMTV",1991,"S.US.EXAS"]
[null,null,"S.US.VIDI",{"$f":"IFERROR(RTD(\"cqg.rtd\", ,\"ContractData\",C1992, \"PerCentNetLastTrade\",, \"T\")/100,\"\")","v":""},{"$error":"#VALUE!"},"","S.US.VIDI",1992,"S.US.BWEN"]
[null,null,"S.US.HSGX",{"$f":"IFERROR(RTD(\"cqg.rtd\", ,\"ContractData\",C1993, \"PerCentNetLastTrade\",, \"T\")/100,\"\")","v":0},1509,1509,"S.US.HSGX",1993,"S.US.MSTR"]
[null,null,"S.US.XRDC",{"$f":"IFERROR(RTD(\"cqg.rtd\", ,\"ContractData\",C1994, \"PerCentNetLastTrade\",, \"T\")/100,\"\")","v":-3.0674846625766871E-2},2444,2444,"S.US.XRDC",1994,"S.US.VRA"]
[null,null,"S.US.ORMP",{"$f":"IFERROR(RTD(\"cqg.rtd\", ,\"ContractData\",C1995, \"PerCentNetLastTrade\",, \"T\")/100,\"\")","v":-2.3696682464454978E-2},2380,2380,"S.US.ORMP",1995,"S.US.ARKR"]
[null,null,"S.US.ISNS",{"$f":"IFERROR(RTD(\"cqg.rtd\", ,\"ContractData\",C1996, \"PerCentNetLastTrade\",, \"T\")/100,\"\")","v":8.3333333333333332E-3},830,830,"S.US.ISNS",1996,"S.US.LNCE"]
[null,null,"S.US.FLXS",{"$f":"IFERROR(RTD(\"cqg.rtd\", ,\"ContractData\",C1997, \"PerCentNetLastTrade\",, \"T\")/100,\"\")","v":5.6476589542721811E-3},1004,1004,"S.US.FLXS",1997,"S.US.CHSCP"]
[null,null,"S.US.LWAY",{"$f":"IFERROR(RTD(\"cqg.rtd\", ,\"ContractData\",C1998, \"PerCentNetLastTrade\",, \"T\")/100,\"\")","v":9.0834021469859624E-3},794,794,"S.US.LWAY",1998,"S.US.LBIO"]
[null,null,"S.US.ZIV",{"$f":"IFERROR(RTD(\"cqg.rtd\", ,\"ContractData\",C1999, \"PerCentNetLastTrade\",, \"T\")/100,\"\")","v":4.1072200605274537E-3},1105,1105,"S.US.ZIV",1999,"S.US.MGEE"]
[null,null,"S.US.SHBI",{"$f":"IFERROR(RTD(\"cqg.rtd\", ,\"ContractData\",C2000, \"PerCentNetLastTrade\",, \"T\")/100,\"\")","v":2.152080344332855E-3},1250,1250,"S.US.SHBI",2000,"S.US.GAIN"]
[null,null,"S.US.LTRX",{"$f":"IFERROR(RTD(\"cqg.rtd\", ,\"ContractData\",C2001, \"PerCentNetLastTrade\",, \"T\")/100,\"\")","v":6.2111801242236021E-3},955,955,"S.US.LTRX",2001,"S.US.TA"]
[null,null,"S.US.ASMB",{"$f":"IFERROR(RTD(\"cqg.rtd\", ,\"ContractData\",C2002, \"PerCentNetLastTrade\",, \"T\")/100,\"\")","v":7.763975155279503E-3},858,858,"S.US.ASMB",2002,"S.US.LAMR"]
[null,null,"S.US.MBRG",{"$f":"IFERROR(RTD(\"cqg.rtd\", ,\"ContractData\",C2003, \"PerCentNetLastTrade\",, \"T\")/100,\"\")","v":1.4198782961460446E-2},527,527,"S.US.MBRG",2003,"S.US.TRIL"]
[null,null,"S.US.FSNN",{"$f":"IFERROR(RTD(\"cqg.rtd\", ,\"ContractData\",C2004, \"PerCentNetLastTrade\",, \"T\")/100,\"\")","v":0},1510,1510,"S.US.FSNN",2004,"S.US.BKEP"]
[null,null,"S.US.FUND",{"$f":"IFERROR(RTD(\"cqg.rtd\", ,\"ContractData\",C2005, \"PerCentNetLastTrade\",, \"T\")/100,\"\")","v":1.4450867052023121E-2},512,512,"S.US.FUND",2005,"S.US.NYMT"]
[null,null,"S.US.NTWK",{"$f":"IFERROR(RTD(\"cqg.rtd\", ,\"ContractData\",C2006, \"PerCentNetLastTrade\",, \"T\")/100,\"\")","v":8.771929824561403E-3},811,811,"S.US.NTWK",2006,"S.US.NEO"]
[null,null,"S.US.SBOT",{"$f":"IFERROR(RTD(\"cqg.rtd\", ,\"ContractData\",C2007, \"PerCentNetLastTrade\",, \"T\")/100,\"\")","v":-1.5957446808510637E-2},2275,2275,"S.US.SBOT",2007,"S.US.WLFC"]
[null,null,"S.US.FLL",{"$f":"IFERROR(RTD(\"cqg.rtd\", ,\"ContractData\",C2008, \"PerCentNetLastTrade\",, \"T\")/100,\"\")","v":2.0942408376963352E-2},337,337,"S.US.FLL",2008,"S.US.EXLS"]
[null,null,"S.US.ABCD",{"$f":"IFERROR(RTD(\"cqg.rtd\", ,\"ContractData\",C2009, \"PerCentNetLastTrade\",, \"T\")/100,\"\")","v":3.976143141153082E-3},1116,1116,"S.US.ABCD",2009,"S.US.RUTH"]
[null,null,"S.US.CFA",{"$f":"IFERROR(RTD(\"cqg.rtd\", ,\"ContractData\",C2010, \"PerCentNetLastTrade\",, \"T\")/100,\"\")","v":0},1511,1511,"S.US.CFA",2010,"S.US.FIVE"]
[null,null,"S.US.PTGX",{"$f":"IFERROR(RTD(\"cqg.rtd\", ,\"ContractData\",C2011, \"PerCentNetLastTrade\",, \"T\")/100,\"\")","v":3.6014405762304926E-3},1141,1141,"S.US.PTGX",2011,"S.US.HSKA"]
[null,null,"S.US.MBWM",{"$f":"IFERROR(RTD(\"cqg.rtd\", ,\"ContractData\",C2012, \"PerCentNetLastTrade\",, \"T\")/100,\"\")","v":2.7305825242718447E-3},1204,1204,"S.US.MBWM",2012,"S.US.PLUS"]
[null,null,"S.US.CRVS",{"$f":"IFERROR(RTD(\"cqg.rtd\", ,\"ContractData\",C2013, \"PerCentNetLastTrade\",, \"T\")/100,\"\")","v":3.3355570380253503E-2},147,147,"S.US.CRVS",2013,"S.US.INCY"]
[null,null,"S.US.ROIAK",{"$f":"IFERROR(RTD(\"cqg.rtd\", ,\"ContractData\",C2014, \"PerCentNetLastTrade\",, \"T\")/100,\"\")","v":0},1512,1512,"S.US.ROIAK",2014,"S.US.CACC"]
[null,null,"S.US.FFHL",{"$f":"IFERROR(RTD(\"cqg.rtd\", ,\"ContractData\",C2015, \"PerCentNetLastTrade\",, \"T\")/100,\"\")","v":1.5151515151515152E-2},492,492,"S.US.FFHL",2015,"S.US.INVA"]
[null,null,"S.US.BWEN",{"$f":"IFERROR(RTD(\"cqg.rtd\", ,\"ContractData\",C2016, \"PerCentNetLastTrade\",, \"T\")/100,\"\")","v":-7.2639225181598066E-3},1992,1992,"S.US.BWEN",2016,"S.US.CBRL"]
[null,null,"S.US.TACT",{"$f":"IFERROR(RTD(\"cqg.rtd\", ,\"ContractData\",C2017, \"PerCentNetLastTrade\",, \"T\")/100,\"\")","v":-7.874015748031496E-3},2020,2020,"S.US.TACT",2017,"S.US.DISCK"]
[null,null,"S.US.YORW",{"$f":"IFERROR(RTD(\"cqg.rtd\", ,\"ContractData\",C2018, \"PerCentNetLastTrade\",, \"T\")/100,\"\")","v":0},1513,1513,"S.US.YORW",2018,"S.US.KZ"]
[null,null,"S.US.COOL",{"$f":"IFERROR(RTD(\"cqg.rtd\", ,\"ContractData\",C2019, \"PerCentNetLastTrade\",, \"T\")/100,\"\")","v":-3.9877300613496931E-2},2488,2488,"S.US.COOL",2019,"S.US.ALGT"]
[null,null,"S.US.LTEA",{"$f":"IFERROR(RTD(\"cqg.rtd\", ,\"ContractData\",C2020, \"PerCentNetLastTrade\",, \"T\")/100,\"\")","v":-2.0833333333333336E-2},2357,2357,"S.US.LTEA",2020,"S.US.TACT"]
[null,null,"S.US.ARIS",{"$f":"IFERROR(RTD(\"cqg.rtd\", ,\"ContractData\",C2021, \"PerCentNetLastTrade\",, \"T\")/100,\"\")","v":""},{"$error":"#VALUE!"},"","S.US.ARIS",2021,"S.US.MNST"]
[null,null,"S.US.SILC",{"$f":"IFERROR(RTD(\"cqg.rtd\", ,\"ContractData\",C2022, \"PerCentNetLastTrade\",, \"T\")/100,\"\")","v":-8.3228247162673401E-3},2038,2038,"S.US.SILC",2022,"S.US.JJSF"]
[null,null,"S.US.VIA",{"$f":"IFERROR(RTD(\"cqg.rtd\", ,\"ContractData\",C2023, \"PerCentNetLastTrade\",, \"T\")/100,\"\")","v":1.5776699029126214E-2},466,466,"S.US.VIA",2023,"S.US.PMTS"]
[null,null,"S.US.HDNG",{"$f":"IFERROR(RTD(\"cqg.rtd\", ,\"ContractData\",C2024, \"PerCentNetLastTrade\",, \"T\")/100,\"\")","v":-1.7077798861480076E-2},2297,2297,"S.US.HDNG",2024,"S.US.ULBI"]
[null,null,"S.US.TBK",{"$f":"IFERROR(RTD(\"cqg.rtd\", ,\"ContractData\",C2025, \"PerCentNetLastTrade\",, \"T\")/100,\"\")","v":4.6189376443418013E-3},1072,1072,"S.US.TBK",2025,"S.US.BOFI"]
[null,null,"S.US.POWL",{"$f":"IFERROR(RTD(\"cqg.rtd\", ,\"ContractData\",C2026, \"PerCentNetLastTrade\",, \"T\")/100,\"\")","v":1.5737097894006017E-2},469,469,"S.US.POWL",2026,"S.US.PERY"]
[null,null,"S.US.ITI",{"$f":"IFERROR(RTD(\"cqg.rtd\", ,\"ContractData\",C2027, \"PerCentNetLastTrade\",, \"T\")/100,\"\")","v":0},1514,1514,"S.US.ITI",2027,"S.US.CGEN"]
[null,null,"S.US.ROBO",{"$f":"IFERROR(RTD(\"cqg.rtd\", ,\"ContractData\",C2028, \"PerCentNetLastTrade\",, \"T\")/100,\"\")","v":-3.5186488388458831E-4},1580,1580,"S.US.ROBO",2028,"S.US.ORBC"]
[null,null,"S.US.BLVD",{"$f":"IFERROR(RTD(\"cqg.rtd\", ,\"ContractData\",C2029, \"PerCentNetLastTrade\",, \"T\")/100,\"\")","v":""},{"$error":"#VALUE!"},"","S.US.BLVD",2029,"S.US.EARS"]
[null,null,"S.US.BSTC",{"$f":"IFERROR(RTD(\"cqg.rtd\", ,\"ContractData\",C2030, \"PerCentNetLastTrade\",, \"T\")/100,\"\")","v":3.0090270812437314E-3},1181,1181,"S.US.BSTC",2030,"S.US.SVA"]
[null,null,"S.US.FDEF",{"$f":"IFERROR(RTD(\"cqg.rtd\", ,\"ContractData\",C2031, \"PerCentNetLastTrade\",, \"T\")/100,\"\")","v":1.6512974479948529E-2},444,444,"S.US.FDEF",2031,"S.US.UNXL"]
[null,null,"S.US.GABC",{"$f":"IFERROR(RTD(\"cqg.rtd\", ,\"ContractData\",C2032, \"PerCentNetLastTrade\",, \"T\")/100,\"\")","v":7.4318744838976049E-3},885,885,"S.US.GABC",2032,"S.US.JBLU"]
[null,null,"S.US.CLUB",{"$f":"IFERROR(RTD(\"cqg.rtd\", ,\"ContractData\",C2033, \"PerCentNetLastTrade\",, \"T\")/100,\"\")","v":7.1111111111111111E-2},35,35,"S.US.CLUB",2033,"S.US.PFPT"]
[null,null,"S.US.ALJJ",{"$f":"IFERROR(RTD(\"cqg.rtd\", ,\"ContractData\",C2034, \"PerCentNetLastTrade\",, \"T\")/100,\"\")","v":1.3824884792626729E-2},541,541,"S.US.ALJJ",2034,"S.US.ALDR"]
[null,null,"S.US.HSON",{"$f":"IFERROR(RTD(\"cqg.rtd\", ,\"ContractData\",C2035, \"PerCentNetLastTrade\",, \"T\")/100,\"\")","v":-5.5944055944055944E-2},2530,2530,"S.US.HSON",2035,"S.US.SITO"]
[null,null,"S.US.ACSF",{"$f":"IFERROR(RTD(\"cqg.rtd\", ,\"ContractData\",C2036, \"PerCentNetLastTrade\",, \"T\")/100,\"\")","v":-1.2765957446808512E-2},2194,2194,"S.US.ACSF",2036,"S.US.FRSH"]
[null,null,"S.US.FLGT",{"$f":"IFERROR(RTD(\"cqg.rtd\", ,\"ContractData\",C2037, \"PerCentNetLastTrade\",, \"T\")/100,\"\")","v":-1.6096579476861168E-2},2278,2278,"S.US.FLGT",2037,"S.US.CHW"]
[null,null,"S.US.CASM",{"$f":"IFERROR(RTD(\"cqg.rtd\", ,\"ContractData\",C2038, \"PerCentNetLastTrade\",, \"T\")/100,\"\")","v":2.3809523809523808E-2},267,267,"S.US.CASM",2038,"S.US.SILC"]
[null,null,"S.US.RLJE",{"$f":"IFERROR(RTD(\"cqg.rtd\", ,\"ContractData\",C2039, \"PerCentNetLastTrade\",, \"T\")/100,\"\")","v":-4.3209876543209874E-2},2497,2497,"S.US.RLJE",2039,"S.US.VRML"]
[null,null,"S.US.BLFS",{"$f":"IFERROR(RTD(\"cqg.rtd\", ,\"ContractData\",C2040, \"PerCentNetLastTrade\",, \"T\")/100,\"\")","v":-1.8867924528301886E-2},2335,2335,"S.US.BLFS",2040,"S.US.RTTR"]
[null,null,"S.US.OKSB",{"$f":"IFERROR(RTD(\"cqg.rtd\", ,\"ContractData\",C2041, \"PerCentNetLastTrade\",, \"T\")/100,\"\")","v":1.1286681715575621E-2},655,655,"S.US.OKSB",2041,"S.US.IRBT"]
[null,null,"S.US.FONR",{"$f":"IFERROR(RTD(\"cqg.rtd\", ,\"ContractData\",C2042, \"PerCentNetLastTrade\",, \"T\")/100,\"\")","v":-9.876543209876543E-3},2092,2092,"S.US.FONR",2042,"S.US.RP"]
[null,null,"S.US.COYN",{"$f":"IFERROR(RTD(\"cqg.rtd\", ,\"ContractData\",C2043, \"PerCentNetLastTrade\",, \"T\")/100,\"\")","v":2.0618556701030924E-2},345,{"$f":"IFERROR(E2043,\"\")","v":345},{"$f":"C2043","v":"S.US.COYN"},2043,"S.US.TWNK"]
[null,null,"S.US.BFIN",{"$f":"IFERROR(RTD(\"cqg.rtd\", ,\"ContractData\",C2044, \"PerCentNetLastTrade\",, \"T\")/100,\"\")","v":1.2578616352201257E-2},594,{"$f":"IFERROR(E2044,\"\")","v":594},{"$f":"C2044","v":"S.US.BFIN"},2044,"S.US.CERN"]
[null,null,"S.US.CLBS",{"$f":"IFERROR(RTD(\"cqg.rtd\", ,\"ContractData\",C2045, \"PerCentNetLastTrade\",, \"T\")/100,\"\")","v":-1.8041237113402064E-2},2316,{"$f":"IFERROR(E2045,\"\")","v":2316},{"$f":"C2045","v":"S.US.CLBS"},2045,"S.US.LOGM"]
[null,null,"S.US.CTBI",{"$f":"IFERROR(RTD(\"cqg.rtd\", ,\"ContractData\",C2046, \"PerCentNetLastTrade\",, \"T\")/100,\"\")","v":1.2895662368112544E-2},579,579,"S.US.CTBI",2046,"S.US.ALRM"]
[null,null,"S.US.ACUR",{"$f":"IFERROR(RTD(\"cqg.rtd\", ,\"ContractData\",C2047, \"PerCentNetLastTrade\",, \"T\")/100,\"\")","v":-4.0404040404040407E-2},2490,2490,"S.US.ACUR",2047,"S.US.ADI"]
[null,null,"S.US.VTGN",{"$f":"IFERROR(RTD(\"cqg.rtd\", ,\"ContractData\",C2048, \"PerCentNetLastTrade\",, \"T\")/100,\"\")","v":""},{"$error":"#VALUE!"},"","S.US.VTGN",2048,"S.US.STRT"]
[null,null,"S.US.KTCC",{"$f":"IFERROR(RTD(\"cqg.rtd\", ,\"ContractData\",C2049, \"PerCentNetLastTrade\",, \"T\")/100,\"\")","v":1.1734028683181226E-2},635,635,"S.US.KTCC",2049,{"$f":"IFERROR(VLOOKUP(H2049,$F$1:$G$2860,2,FALSE),\"\")","v":"S.US.EBAY"}]
[null,null,"S.US.FFKT",{"$f":"IFERROR(RTD(\"cqg.rtd\", ,\"ContractData\",C2050, \"PerCentNetLastTrade\",, \"T\")/100,\"\")","v":1.3908205841446453E-3},1294,{"$f":"IFERROR(E2050,\"\")","v":1294},"S.US.FFKT",2050,"S.US.ATAX"]
[null,null,"S.US.SYPR",{"$f":"IFERROR(RTD(\"cqg.rtd\", ,\"ContractData\",C2051, \"PerCentNetLastTrade\",, \"T\")/100,\"\")","v":0},1515,1515,{"$f":"C2051","v":"S.US.SYPR"},{"$f":"H2050+1","v":2051},"S.US.KTOV"]
[null,null,"S.US.OMEX",{"$f":"IFERROR(RTD(\"cqg.rtd\", ,\"ContractData\",C2052, \"PerCentNetLastTrade\",, \"T\")/100,\"\")","v":-2.5510204081632654E-2},2403,2403,"S.US.OMEX",2052,"S.US.FNSR"]
[null,null,"S.US.TIPT",{"$f":"IFERROR(RTD(\"cqg.rtd\", ,\"ContractData\",C2053, \"PerCentNetLastTrade\",, \"T\")/100,\"\")","v":2.3255813953488372E-2},277,277,"S.US.TIPT",2053,"S.US.PGTI"]
[null,null,"S.US.RCMT",{"$f":"IFERROR(RTD(\"cqg.rtd\", ,\"ContractData\",C2054, \"PerCentNetLastTrade\",, \"T\")/100,\"\")","v":-1.5479876160990713E-3},1660,1660,"S.US.RCMT",2054,"S.US.LLNW"]
[null,null,"S.US.EGT",{"$f":"IFERROR(RTD(\"cqg.rtd\", ,\"ContractData\",C2055, \"PerCentNetLastTrade\",, \"T\")/100,\"\")","v":""},{"$error":"#VALUE!"},"","S.US.EGT",2055,"S.US.FOX"]
[null,null,"S.US.PCOM",{"$f":"IFERROR(RTD(\"cqg.rtd\", ,\"ContractData\",C2056, \"PerCentNetLastTrade\",, \"T\")/100,\"\")","v":1.4556040756914118E-3},1290,1290,"S.US.PCOM",2056,"S.US.EXEL"]
[null,null,"S.US.AEPI",{"$f":"IFERROR(RTD(\"cqg.rtd\", ,\"ContractData\",C2057, \"PerCentNetLastTrade\",, \"T\")/100,\"\")","v":1.6970725498515061E-3},1277,1277,"S.US.AEPI",2057,"S.US.QLYS"]
[null,null,"S.US.CTHR",{"$f":"IFERROR(RTD(\"cqg.rtd\", ,\"ContractData\",C2058, \"PerCentNetLastTrade\",, \"T\")/100,\"\")","v":-1.1111111111111112E-2},2138,2138,"S.US.CTHR",2058,"S.US.CFNB"]
[null,null,"S.US.LAKE",{"$f":"IFERROR(RTD(\"cqg.rtd\", ,\"ContractData\",C2059, \"PerCentNetLastTrade\",, \"T\")/100,\"\")","v":-5.2173913043478256E-3},1893,1893,"S.US.LAKE",2059,"S.US.YHOO"]
[null,null,"S.US.AGYS",{"$f":"IFERROR(RTD(\"cqg.rtd\", ,\"ContractData\",C2060, \"PerCentNetLastTrade\",, \"T\")/100,\"\")","v":-2.8625954198473278E-3},1743,1743,"S.US.AGYS",2060,"S.US.AMCX"]
[null,null,"S.US.TGLS",{"$f":"IFERROR(RTD(\"cqg.rtd\", ,\"ContractData\",C2061, \"PerCentNetLastTrade\",, \"T\")/100,\"\")","v":1.00418410041841E-2},719,719,"S.US.TGLS",2061,"S.US.IGOV"]
[null,null,"S.US.ENZY",{"$f":"IFERROR(RTD(\"cqg.rtd\", ,\"ContractData\",C2062, \"PerCentNetLastTrade\",, \"T\")/100,\"\")","v":0},1516,1516,"S.US.ENZY",2062,"S.US.ENPH"]
[null,null,"S.US.PKOH",{"$f":"IFERROR(RTD(\"cqg.rtd\", ,\"ContractData\",C2063, \"PerCentNetLastTrade\",, \"T\")/100,\"\")","v":1.4234875444839859E-2},525,525,"S.US.PKOH",2063,"S.US.JBSS"]
[null,null,"S.US.CDNA",{"$f":"IFERROR(RTD(\"cqg.rtd\", ,\"ContractData\",C2064, \"PerCentNetLastTrade\",, \"T\")/100,\"\")","v":-2.1917808219178082E-2},2370,2370,"S.US.CDNA",2064,"S.US.AMRN"]
[null,null,"S.US.CCNE",{"$f":"IFERROR(RTD(\"cqg.rtd\", ,\"ContractData\",C2065, \"PerCentNetLastTrade\",, \"T\")/100,\"\")","v":3.0560271646859084E-2},176,176,"S.US.CCNE",2065,"S.US.AKAM"]
[null,null,"S.US.CHFN",{"$f":"IFERROR(RTD(\"cqg.rtd\", ,\"ContractData\",C2066, \"PerCentNetLastTrade\",, \"T\")/100,\"\")","v":8.2474226804123713E-3},834,834,"S.US.CHFN",2066,"S.US.FTD"]
[null,null,"S.US.CRWS",{"$f":"IFERROR(RTD(\"cqg.rtd\", ,\"ContractData\",C2067, \"PerCentNetLastTrade\",, \"T\")/100,\"\")","v":6.2500000000000003E-3},952,952,"S.US.CRWS",2067,"S.US.NTES"]
[null,null,"S.US.NGHCO",{"$f":"IFERROR(RTD(\"cqg.rtd\", ,\"ContractData\",C2068, \"PerCentNetLastTrade\",, \"T\")/100,\"\")","v":-4.0518638573743921E-3},1826,1826,"S.US.NGHCO",2068,"S.US.PSCU"]
[null,null,"S.US.FCBC",{"$f":"IFERROR(RTD(\"cqg.rtd\", ,\"ContractData\",C2069, \"PerCentNetLastTrade\",, \"T\")/100,\"\")","v":1.738821859474805E-2},426,426,"S.US.FCBC",2069,"S.US.FPRX"]
[null,null,"S.US.INOD",{"$f":"IFERROR(RTD(\"cqg.rtd\", ,\"ContractData\",C2070, \"PerCentNetLastTrade\",, \"T\")/100,\"\")","v":2.1276595744680851E-2},327,327,"S.US.INOD",2070,"S.US.CA"]
[null,null,"S.US.DYSL",{"$f":"IFERROR(RTD(\"cqg.rtd\", ,\"ContractData\",C2071, \"PerCentNetLastTrade\",, \"T\")/100,\"\")","v":0},1517,1517,"S.US.DYSL",2071,"S.US.MRNS"]
[null,null,"S.US.EVOL",{"$f":"IFERROR(RTD(\"cqg.rtd\", ,\"ContractData\",C2072, \"PerCentNetLastTrade\",, \"T\")/100,\"\")","v":1.2820512820512822E-2},580,580,"S.US.EVOL",2072,"S.US.XENT"]
[null,null,"S.US.SALM",{"$f":"IFERROR(RTD(\"cqg.rtd\", ,\"ContractData\",C2073, \"PerCentNetLastTrade\",, \"T\")/100,\"\")","v":1.6666666666666666E-2},442,442,"S.US.SALM",2073,"S.US.IART"]
[null,null,"S.US.CASS",{"$f":"IFERROR(RTD(\"cqg.rtd\", ,\"ContractData\",C2074, \"PerCentNetLastTrade\",, \"T\")/100,\"\")","v":4.8124557678697801E-3},1061,1061,"S.US.CASS",2074,"S.US.ASYS"]
[null,null,"S.US.AMRK",{"$f":"IFERROR(RTD(\"cqg.rtd\", ,\"ContractData\",C2075, \"PerCentNetLastTrade\",, \"T\")/100,\"\")","v":-1.2048192771084336E-3},1637,1637,"S.US.AMRK",2075,"S.US.VIRT"]
[null,null,"S.US.WHF",{"$f":"IFERROR(RTD(\"cqg.rtd\", ,\"ContractData\",C2076, \"PerCentNetLastTrade\",, \"T\")/100,\"\")","v":1.1814345991561181E-2},629,629,"S.US.WHF",2076,"S.US.VECO"]
[null,null,"S.US.JOUT",{"$f":"IFERROR(RTD(\"cqg.rtd\", ,\"ContractData\",C2077, \"PerCentNetLastTrade\",, \"T\")/100,\"\")","v":3.4531360112755462E-2},140,140,"S.US.JOUT",2077,"S.US.NYMX"]
[null,null,"S.US.EGAN",{"$f":"IFERROR(RTD(\"cqg.rtd\", ,\"ContractData\",C2078, \"PerCentNetLastTrade\",, \"T\")/100,\"\")","v":0},1518,1518,"S.US.EGAN",2078,"S.US.GWRS"]
[null,null,"S.US.INVE",{"$f":"IFERROR(RTD(\"cqg.rtd\", ,\"ContractData\",C2079, \"PerCentNetLastTrade\",, \"T\")/100,\"\")","v":3.968253968253968E-2},104,104,"S.US.INVE",2079,"S.US.TACO"]
[null,null,"S.US.ONEQ",{"$f":"IFERROR(RTD(\"cqg.rtd\", ,\"ContractData\",C2080, \"PerCentNetLastTrade\",, \"T\")/100,\"\")","v":-6.6019051211921157E-4},1604,1604,"S.US.ONEQ",2080,"S.US.LIFE"]
[null,null,"S.US.RESN",{"$f":"IFERROR(RTD(\"cqg.rtd\", ,\"ContractData\",C2081, \"PerCentNetLastTrade\",, \"T\")/100,\"\")","v":-6.2761506276150627E-3},1939,1939,"S.US.RESN",2081,"S.US.MKTX"]
[null,null,"S.US.BOLD",{"$f":"IFERROR(RTD(\"cqg.rtd\", ,\"ContractData\",C2082, \"PerCentNetLastTrade\",, \"T\")/100,\"\")","v":7.4841681059297635E-3},881,881,"S.US.BOLD",2082,"S.US.PCH"]
[null,null,"S.US.FBNK",{"$f":"IFERROR(RTD(\"cqg.rtd\", ,\"ContractData\",C2083, \"PerCentNetLastTrade\",, \"T\")/100,\"\")","v":4.5558086560364463E-3},1079,1079,"S.US.FBNK",2083,"S.US.WPPGY"]
[null,null,"S.US.THFF",{"$f":"IFERROR(RTD(\"cqg.rtd\", ,\"ContractData\",C2084, \"PerCentNetLastTrade\",, \"T\")/100,\"\")","v":-4.2735042735042731E-3},1843,1843,"S.US.THFF",2084,"S.US.VIIX"]
[null,null,"S.US.QUMU",{"$f":"IFERROR(RTD(\"cqg.rtd\", ,\"ContractData\",C2085, \"PerCentNetLastTrade\",, \"T\")/100,\"\")","v":""},{"$error":"#VALUE!"},"","S.US.QUMU",2085,"S.US.MRCY"]
[null,null,"S.US.CFBK",{"$f":"IFERROR(RTD(\"cqg.rtd\", ,\"ContractData\",C2086, \"PerCentNetLastTrade\",, \"T\")/100,\"\")","v":""},{"$error":"#VALUE!"},"","S.US.CFBK",2086,"S.US.SOHU"]
[null,null,"S.US.MRAM",{"$f":"IFERROR(RTD(\"cqg.rtd\", ,\"ContractData\",C2087, \"PerCentNetLastTrade\",, \"T\")/100,\"\")","v":-6.8212824010914054E-3},1967,1967,"S.US.MRAM",2087,"S.US.DISH"]
[null,null,"S.US.BBP",{"$f":"IFERROR(RTD(\"cqg.rtd\", ,\"ContractData\",C2088, \"PerCentNetLastTrade\",, \"T\")/100,\"\")","v":-3.7485582468281429E-3},1808,1808,"S.US.BBP",2088,"S.US.SNCR"]
[null,null,"S.US.ESGR",{"$f":"IFERROR(RTD(\"cqg.rtd\", ,\"ContractData\",C2089, \"PerCentNetLastTrade\",, \"T\")/100,\"\")","v":1.5609264853977844E-2},475,475,"S.US.ESGR",2089,"S.US.GLDI"]
[null,null,"S.US.GSBC",{"$f":"IFERROR(RTD(\"cqg.rtd\", ,\"ContractData\",C2090, \"PerCentNetLastTrade\",, \"T\")/100,\"\")","v":1.294820717131474E-2},578,578,"S.US.GSBC",2090,"S.US.OXBR"]
[null,null,"S.US.RMR",{"$f":"IFERROR(RTD(\"cqg.rtd\", ,\"ContractData\",C2091, \"PerCentNetLastTrade\",, \"T\")/100,\"\")","v":-6.6508313539192397E-3},1959,1959,"S.US.RMR",2091,"S.US.WMGI"]
[null,null,"S.US.AEY",{"$f":"IFERROR(RTD(\"cqg.rtd\", ,\"ContractData\",C2092, \"PerCentNetLastTrade\",, \"T\")/100,\"\")","v":""},{"$error":"#VALUE!"},"","S.US.AEY",2092,"S.US.FONR"]
[null,null,"S.US.VIGI",{"$f":"IFERROR(RTD(\"cqg.rtd\", ,\"ContractData\",C2093, \"PerCentNetLastTrade\",, \"T\")/100,\"\")","v":4.0099293488638534E-3},1114,1114,"S.US.VIGI",2093,"S.US.CTXS"]
[null,null,"S.US.GWRS",{"$f":"IFERROR(RTD(\"cqg.rtd\", ,\"ContractData\",C2094, \"PerCentNetLastTrade\",, \"T\")/100,\"\")","v":-9.3786635404454859E-3},2078,2078,"S.US.GWRS",2094,"S.US.BIDU"]
[null,null,"S.US.SMED",{"$f":"IFERROR(RTD(\"cqg.rtd\", ,\"ContractData\",C2095, \"PerCentNetLastTrade\",, \"T\")/100,\"\")","v":9.5011876484560557E-3},762,762,"S.US.SMED",2095,"S.US.VSAT"]
[null,null,"S.US.FDIV",{"$f":"IFERROR(RTD(\"cqg.rtd\", ,\"ContractData\",C2096, \"PerCentNetLastTrade\",, \"T\")/100,\"\")","v":-4.2338709677419359E-3},1840,1840,"S.US.FDIV",2096,"S.US.LXRX"]
[null,null,"S.US.ACTS",{"$f":"IFERROR(RTD(\"cqg.rtd\", ,\"ContractData\",C2097, \"PerCentNetLastTrade\",, \"T\")/100,\"\")","v":-4.6948356807511738E-3},1869,1869,"S.US.ACTS",2097,"S.US.LOXO"]
[null,null,"S.US.XENE",{"$f":"IFERROR(RTD(\"cqg.rtd\", ,\"ContractData\",C2098, \"PerCentNetLastTrade\",, \"T\")/100,\"\")","v":-6.2111801242236021E-3},1938,1938,"S.US.XENE",2098,"S.US.IESC"]
[null,null,"S.US.SSKN",{"$f":"IFERROR(RTD(\"cqg.rtd\", ,\"ContractData\",C2099, \"PerCentNetLastTrade\",, \"T\")/100,\"\")","v":""},{"$error":"#VALUE!"},"","S.US.SSKN",2099,"S.US.CASY"]
[null,null,"S.US.NVMI",{"$f":"IFERROR(RTD(\"cqg.rtd\", ,\"ContractData\",C2100, \"PerCentNetLastTrade\",, \"T\")/100,\"\")","v":1.5772870662460567E-3},1286,1286,"S.US.NVMI",2100,"S.US.FISV"]
[null,null,"S.US.FBRC",{"$f":"IFERROR(RTD(\"cqg.rtd\", ,\"ContractData\",C2101, \"PerCentNetLastTrade\",, \"T\")/100,\"\")","v":3.9301310043668124E-2},106,106,"S.US.FBRC",2101,"S.US.CCRC"]
[null,null,"S.US.ALDX",{"$f":"IFERROR(RTD(\"cqg.rtd\", ,\"ContractData\",C2102, \"PerCentNetLastTrade\",, \"T\")/100,\"\")","v":5.5045871559633024E-2},51,51,"S.US.ALDX",2102,"S.US.SIMO"]
[null,null,"S.US.KURA",{"$f":"IFERROR(RTD(\"cqg.rtd\", ,\"ContractData\",C2103, \"PerCentNetLastTrade\",, \"T\")/100,\"\")","v":0},1519,1519,"S.US.KURA",2103,"S.US.GLPG"]
[null,null,"S.US.DSWL",{"$f":"IFERROR(RTD(\"cqg.rtd\", ,\"ContractData\",C2104, \"PerCentNetLastTrade\",, \"T\")/100,\"\")","v":-3.2608695652173912E-2},2459,2459,"S.US.DSWL",2104,"S.US.NVCR"]
[null,null,"S.US.DXYN",{"$f":"IFERROR(RTD(\"cqg.rtd\", ,\"ContractData\",C2105, \"PerCentNetLastTrade\",, \"T\")/100,\"\")","v":3.0303030303030304E-2},181,181,"S.US.DXYN",2105,"S.US.PCRX"]
[null,null,"S.US.EMMS",{"$f":"IFERROR(RTD(\"cqg.rtd\", ,\"ContractData\",C2106, \"PerCentNetLastTrade\",, \"T\")/100,\"\")","v":1.524390243902439E-2},486,486,"S.US.EMMS",2106,"S.US.VRTX"]
[null,null,"S.US.ASYS",{"$f":"IFERROR(RTD(\"cqg.rtd\", ,\"ContractData\",C2107, \"PerCentNetLastTrade\",, \"T\")/100,\"\")","v":-9.3457943925233638E-3},2074,2074,"S.US.ASYS",2107,"S.US.SRCL"]
[null,null,"S.US.FBZ",{"$f":"IFERROR(RTD(\"cqg.rtd\", ,\"ContractData\",C2108, \"PerCentNetLastTrade\",, \"T\")/100,\"\")","v":1.0486891385767789E-2},696,696,"S.US.FBZ",2108,"S.US.BRKR"]
[null,null,"S.US.HWKN",{"$f":"IFERROR(RTD(\"cqg.rtd\", ,\"ContractData\",C2109, \"PerCentNetLastTrade\",, \"T\")/100,\"\")","v":1.2409513960703207E-2},604,604,"S.US.HWKN",2109,"S.US.SLP"]
[null,null,"S.US.FCNCA",{"$f":"IFERROR(RTD(\"cqg.rtd\", ,\"ContractData\",C2110, \"PerCentNetLastTrade\",, \"T\")/100,\"\")","v":2.2024420860435923E-2},306,306,"S.US.FCNCA",2110,"S.US.RTRX"]
[null,null,"S.US.CMFN",{"$f":"IFERROR(RTD(\"cqg.rtd\", ,\"ContractData\",C2111, \"PerCentNetLastTrade\",, \"T\")/100,\"\")","v":-5.1020408163265311E-3},1888,1888,"S.US.CMFN",2111,"S.US.NKTR"]
[null,null,"S.US.EQBK",{"$f":"IFERROR(RTD(\"cqg.rtd\", ,\"ContractData\",C2112, \"PerCentNetLastTrade\",, \"T\")/100,\"\")","v":2.1900161030595812E-2},308,308,"S.US.EQBK",2112,"S.US.ADHD"]
[null,null,"S.US.FYC",{"$f":"IFERROR(RTD(\"cqg.rtd\", ,\"ContractData\",C2113, \"PerCentNetLastTrade\",, \"T\")/100,\"\")","v":3.7302725968436155E-3},1129,1129,"S.US.FYC",2113,{"$f":"IFERROR(VLOOKUP(H2113,$F$1:$G$2860,2,FALSE),\"\")","v":"S.US.PACB"}]
[null,null,"S.US.VIVE",{"$f":"IFERROR(RTD(\"cqg.rtd\", ,\"ContractData\",C2114, \"PerCentNetLastTrade\",, \"T\")/100,\"\")","v":2.4429967426710098E-2},252,{"$f":"IFERROR(E2114,\"\")","v":252},"S.US.VIVE",2114,"S.US.LILA"]
[null,null,"S.US.ISSC",{"$f":"IFERROR(RTD(\"cqg.rtd\", ,\"ContractData\",C2115, \"PerCentNetLastTrade\",, \"T\")/100,\"\")","v":5.9523809523809521E-3},979,979,{"$f":"C2115","v":"S.US.ISSC"},{"$f":"H2114+1","v":2115},"S.US.MSON"]
[null,null,"S.US.VYMI",{"$f":"IFERROR(RTD(\"cqg.rtd\", ,\"ContractData\",C2116, \"PerCentNetLastTrade\",, \"T\")/100,\"\")","v":3.0797101449275359E-3},1176,1176,"S.US.VYMI",2116,"S.US.MMSI"]
[null,null,"S.US.JYNT",{"$f":"IFERROR(RTD(\"cqg.rtd\", ,\"ContractData\",C2117, \"PerCentNetLastTrade\",, \"T\")/100,\"\")","v":""},{"$error":"#VALUE!"},"","S.US.JYNT",2117,"S.US.AVGO"]
[null,null,"S.US.CEMI",{"$f":"IFERROR(RTD(\"cqg.rtd\", ,\"ContractData\",C2118, \"PerCentNetLastTrade\",, \"T\")/100,\"\")","v":0},1520,1520,"S.US.CEMI",2118,"S.US.SANW"]
[null,null,"S.US.PNQI",{"$f":"IFERROR(RTD(\"cqg.rtd\", ,\"ContractData\",C2119, \"PerCentNetLastTrade\",, \"T\")/100,\"\")","v":1.2892639474917954E-3},1301,1301,"S.US.PNQI",2119,"S.US.OHAI"]
[null,null,"S.US.SENEA",{"$f":"IFERROR(RTD(\"cqg.rtd\", ,\"ContractData\",C2120, \"PerCentNetLastTrade\",, \"T\")/100,\"\")","v":1.4511873350923483E-2},510,510,"S.US.SENEA",2120,"S.US.MSLI"]
[null,null,"S.US.CLCT",{"$f":"IFERROR(RTD(\"cqg.rtd\", ,\"ContractData\",C2121, \"PerCentNetLastTrade\",, \"T\")/100,\"\")","v":8.9820359281437123E-3},799,799,"S.US.CLCT",2121,"S.US.CDNS"]
[null,null,"S.US.NVGN",{"$f":"IFERROR(RTD(\"cqg.rtd\", ,\"ContractData\",C2122, \"PerCentNetLastTrade\",, \"T\")/100,\"\")","v":-2.3952095808383232E-2},2385,2385,"S.US.NVGN",2122,"S.US.CMCSA"]
[null,null,"S.US.STRM",{"$f":"IFERROR(RTD(\"cqg.rtd\", ,\"ContractData\",C2123, \"PerCentNetLastTrade\",, \"T\")/100,\"\")","v":""},{"$error":"#VALUE!"},"","S.US.STRM",2123,"S.US.CTSH"]
[null,null,"S.US.LBIX",{"$f":"IFERROR(RTD(\"cqg.rtd\", ,\"ContractData\",C2124, \"PerCentNetLastTrade\",, \"T\")/100,\"\")","v":""},{"$error":"#VALUE!"},"","S.US.LBIX",2124,"S.US.RLOG"]
[null,null,"S.US.EXAC",{"$f":"IFERROR(RTD(\"cqg.rtd\", ,\"ContractData\",C2125, \"PerCentNetLastTrade\",, \"T\")/100,\"\")","v":5.6603773584905656E-3},1003,1003,"S.US.EXAC",2125,"S.US.IZEA"]
[null,null,"S.US.AXSM",{"$f":"IFERROR(RTD(\"cqg.rtd\", ,\"ContractData\",C2126, \"PerCentNetLastTrade\",, \"T\")/100,\"\")","v":-2.8985507246376812E-2},2433,2433,"S.US.AXSM",2126,"S.US.KLAC"]
[null,null,"S.US.CSWC",{"$f":"IFERROR(RTD(\"cqg.rtd\", ,\"ContractData\",C2127, \"PerCentNetLastTrade\",, \"T\")/100,\"\")","v":""},{"$error":"#VALUE!"},"","S.US.CSWC",2127,"S.US.PGLC"]
[null,null,"S.US.PSCF",{"$f":"IFERROR(RTD(\"cqg.rtd\", ,\"ContractData\",C2128, \"PerCentNetLastTrade\",, \"T\")/100,\"\")","v":-4.0000000000000002E-4},1587,1587,"S.US.PSCF",2128,"S.US.AIRM"]
[null,null,"S.US.WFBI",{"$f":"IFERROR(RTD(\"cqg.rtd\", ,\"ContractData\",C2129, \"PerCentNetLastTrade\",, \"T\")/100,\"\")","v":2.950940612320177E-2},187,187,"S.US.WFBI",2129,"S.US.NYMTP"]
[null,null,"S.US.DGICA",{"$f":"IFERROR(RTD(\"cqg.rtd\", ,\"ContractData\",C2130, \"PerCentNetLastTrade\",, \"T\")/100,\"\")","v":4.3209876543209872E-3},1091,1091,"S.US.DGICA",2130,"S.US.RDI"]
[null,null,"S.US.SONA",{"$f":"IFERROR(RTD(\"cqg.rtd\", ,\"ContractData\",C2131, \"PerCentNetLastTrade\",, \"T\")/100,\"\")","v":8.8255261371350986E-3},805,805,"S.US.SONA",2131,"S.US.CROX"]
[null,null,"S.US.GMAN",{"$f":"IFERROR(RTD(\"cqg.rtd\", ,\"ContractData\",C2132, \"PerCentNetLastTrade\",, \"T\")/100,\"\")","v":-3.896103896103896E-2},2486,2486,"S.US.GMAN",2132,"S.US.STMP"]
[null,null,"S.US.ABTX",{"$f":"IFERROR(RTD(\"cqg.rtd\", ,\"ContractData\",C2133, \"PerCentNetLastTrade\",, \"T\")/100,\"\")","v":1.6233766233766232E-2},454,454,"S.US.ABTX",2133,"S.US.CEVA"]
[null,null,"S.US.SHSP",{"$f":"IFERROR(RTD(\"cqg.rtd\", ,\"ContractData\",C2134, \"PerCentNetLastTrade\",, \"T\")/100,\"\")","v":""},{"$error":"#VALUE!"},"","S.US.SHSP",2134,"S.US.ISRG"]
[null,null,"S.US.CIGI",{"$f":"IFERROR(RTD(\"cqg.rtd\", ,\"ContractData\",C2135, \"PerCentNetLastTrade\",, \"T\")/100,\"\")","v":2.5531914893617023E-2},238,238,"S.US.CIGI",2135,"S.US.ACRS"]
[null,null,"S.US.ERIE",{"$f":"IFERROR(RTD(\"cqg.rtd\", ,\"ContractData\",C2136, \"PerCentNetLastTrade\",, \"T\")/100,\"\")","v":7.7893175074183977E-3},856,856,"S.US.ERIE",2136,"S.US.UNTY"]
[null,null,"S.US.WTBA",{"$f":"IFERROR(RTD(\"cqg.rtd\", ,\"ContractData\",C2137, \"PerCentNetLastTrade\",, \"T\")/100,\"\")","v":0},1521,1521,"S.US.WTBA",2137,"S.US.SPNC"]
[null,null,"S.US.AEHR",{"$f":"IFERROR(RTD(\"cqg.rtd\", ,\"ContractData\",C2138, \"PerCentNetLastTrade\",, \"T\")/100,\"\")","v":-3.3333333333333331E-3},1776,1776,"S.US.AEHR",2138,"S.US.CTHR"]
[null,null,"S.US.VBTX",{"$f":"IFERROR(RTD(\"cqg.rtd\", ,\"ContractData\",C2139, \"PerCentNetLastTrade\",, \"T\")/100,\"\")","v":1.14598903836572E-2},646,646,"S.US.VBTX",2139,"S.US.PLSE"]
[null,null,"S.US.PRFZ",{"$f":"IFERROR(RTD(\"cqg.rtd\", ,\"ContractData\",C2140, \"PerCentNetLastTrade\",, \"T\")/100,\"\")","v":1.0302868816058264E-2},706,706,"S.US.PRFZ",2140,"S.US.SBRA"]
[null,null,"S.US.LCUT",{"$f":"IFERROR(RTD(\"cqg.rtd\", ,\"ContractData\",C2141, \"PerCentNetLastTrade\",, \"T\")/100,\"\")","v":0},1522,1522,"S.US.LCUT",2141,"S.US.DMRC"]
[null,null,"S.US.RFIL",{"$f":"IFERROR(RTD(\"cqg.rtd\", ,\"ContractData\",C2142, \"PerCentNetLastTrade\",, \"T\")/100,\"\")","v":1.1764705882352941E-2},633,633,"S.US.RFIL",2142,"S.US.SMIT"]
[null,null,"S.US.LMIA",{"$f":"IFERROR(RTD(\"cqg.rtd\", ,\"ContractData\",C2143, \"PerCentNetLastTrade\",, \"T\")/100,\"\")","v":3.6830357142857144E-2},124,124,"S.US.LMIA",2143,"S.US.TCCO"]
[null,null,"S.US.AMTX",{"$f":"IFERROR(RTD(\"cqg.rtd\", ,\"ContractData\",C2144, \"PerCentNetLastTrade\",, \"T\")/100,\"\")","v":2.8571428571428571E-2},196,196,"S.US.AMTX",2144,"S.US.IIVI"]
[null,null,"S.US.EVBS",{"$f":"IFERROR(RTD(\"cqg.rtd\", ,\"ContractData\",C2145, \"PerCentNetLastTrade\",, \"T\")/100,\"\")","v":2.2875816993464051E-2},284,284,"S.US.EVBS",2145,"S.US.MMAC"]
[null,null,"S.US.ITRN",{"$f":"IFERROR(RTD(\"cqg.rtd\", ,\"ContractData\",C2146, \"PerCentNetLastTrade\",, \"T\")/100,\"\")","v":4.0899795501022499E-3},1107,1107,"S.US.ITRN",2146,"S.US.TILE"]
[null,null,"S.US.TAIT",{"$f":"IFERROR(RTD(\"cqg.rtd\", ,\"ContractData\",C2147, \"PerCentNetLastTrade\",, \"T\")/100,\"\")","v":-4.878048780487805E-2},2513,2513,"S.US.TAIT",2147,"S.US.BIOC"]
[null,null,"S.US.EFUT",{"$f":"IFERROR(RTD(\"cqg.rtd\", ,\"ContractData\",C2148, \"PerCentNetLastTrade\",, \"T\")/100,\"\")","v":""},{"$error":"#VALUE!"},"","S.US.EFUT",2148,"S.US.MIDD"]
[null,null,"S.US.NAME",{"$f":"IFERROR(RTD(\"cqg.rtd\", ,\"ContractData\",C2149, \"PerCentNetLastTrade\",, \"T\")/100,\"\")","v":1.8337408312958433E-2},394,394,"S.US.NAME",2149,"S.US.BELFB"]
[null,null,"S.US.NMRX",{"$f":"IFERROR(RTD(\"cqg.rtd\", ,\"ContractData\",C2150, \"PerCentNetLastTrade\",, \"T\")/100,\"\")","v":3.7359900373599001E-3},1127,1127,"S.US.NMRX",2150,"S.US.LITE"]
[null,null,"S.US.SNBC",{"$f":"IFERROR(RTD(\"cqg.rtd\", ,\"ContractData\",C2151, \"PerCentNetLastTrade\",, \"T\")/100,\"\")","v":0},1523,1523,"S.US.SNBC",2151,"S.US.MAR"]
[null,null,"S.US.VONE",{"$f":"IFERROR(RTD(\"cqg.rtd\", ,\"ContractData\",C2152, \"PerCentNetLastTrade\",, \"T\")/100,\"\")","v":2.9559562518474726E-3},1184,1184,"S.US.VONE",2152,"S.US.CELG"]
[null,null,"S.US.CGO",{"$f":"IFERROR(RTD(\"cqg.rtd\", ,\"ContractData\",C2153, \"PerCentNetLastTrade\",, \"T\")/100,\"\")","v":9.5238095238095238E-4},1327,1327,"S.US.CGO",2153,"S.US.CXRX"]
[null,null,"S.US.RDVY",{"$f":"IFERROR(RTD(\"cqg.rtd\", ,\"ContractData\",C2154, \"PerCentNetLastTrade\",, \"T\")/100,\"\")","v":2.8618152085036798E-3},1194,1194,"S.US.RDVY",2154,"S.US.ULTI"]
[null,null,"S.US.CCUR",{"$f":"IFERROR(RTD(\"cqg.rtd\", ,\"ContractData\",C2155, \"PerCentNetLastTrade\",, \"T\")/100,\"\")","v":1.0600706713780918E-2},689,689,"S.US.CCUR",2155,"S.US.VCLT"]
[null,null,"S.US.CJJD",{"$f":"IFERROR(RTD(\"cqg.rtd\", ,\"ContractData\",C2156, \"PerCentNetLastTrade\",, \"T\")/100,\"\")","v":1.2195121951219513E-2},617,617,"S.US.CJJD",2156,"S.US.AERI"]
[null,null,"S.US.FMBH",{"$f":"IFERROR(RTD(\"cqg.rtd\", ,\"ContractData\",C2157, \"PerCentNetLastTrade\",, \"T\")/100,\"\")","v":-2.5978296612956267E-2},2407,2407,"S.US.FMBH",2157,"S.US.TTOO"]
[null,null,"S.US.CZNC",{"$f":"IFERROR(RTD(\"cqg.rtd\", ,\"ContractData\",C2158, \"PerCentNetLastTrade\",, \"T\")/100,\"\")","v":-1.5539689206215877E-2},2269,2269,"S.US.CZNC",2158,"S.US.OFIX"]
[null,null,"S.US.FYT",{"$f":"IFERROR(RTD(\"cqg.rtd\", ,\"ContractData\",C2159, \"PerCentNetLastTrade\",, \"T\")/100,\"\")","v":5.3317535545023701E-3},1026,1026,"S.US.FYT",2159,"S.US.CDOR"]
[null,null,"S.US.TSBK",{"$f":"IFERROR(RTD(\"cqg.rtd\", ,\"ContractData\",C2160, \"PerCentNetLastTrade\",, \"T\")/100,\"\")","v":2.5912215758857746E-2},232,232,"S.US.TSBK",2160,"S.US.STRS"]
[null,null,"S.US.MGIC",{"$f":"IFERROR(RTD(\"cqg.rtd\", ,\"ContractData\",C2161, \"PerCentNetLastTrade\",, \"T\")/100,\"\")","v":0},1524,1524,"S.US.MGIC",2161,"S.US.SCHL"]
[null,null,"S.US.UFPT",{"$f":"IFERROR(RTD(\"cqg.rtd\", ,\"ContractData\",C2162, \"PerCentNetLastTrade\",, \"T\")/100,\"\")","v":1.3916500994035786E-2},537,537,"S.US.UFPT",2162,"S.US.HRZN"]
[null,null,"S.US.ENG",{"$f":"IFERROR(RTD(\"cqg.rtd\", ,\"ContractData\",C2163, \"PerCentNetLastTrade\",, \"T\")/100,\"\")","v":-2.1428571428571429E-2},2367,2367,"S.US.ENG",2163,"S.US.SPWR"]
[null,null,"S.US.IPWR",{"$f":"IFERROR(RTD(\"cqg.rtd\", ,\"ContractData\",C2164, \"PerCentNetLastTrade\",, \"T\")/100,\"\")","v":-2.2675736961451248E-3},1707,1707,"S.US.IPWR",2164,"S.US.BIIB"]
[null,null,"S.US.QBAK",{"$f":"IFERROR(RTD(\"cqg.rtd\", ,\"ContractData\",C2165, \"PerCentNetLastTrade\",, \"T\")/100,\"\")","v":-2.0547945205479454E-2},2354,2354,"S.US.QBAK",2165,"S.US.DLTR"]
[null,null,"S.US.MIND",{"$f":"IFERROR(RTD(\"cqg.rtd\", ,\"ContractData\",C2166, \"PerCentNetLastTrade\",, \"T\")/100,\"\")","v":3.151862464183381E-2},169,169,"S.US.MIND",2166,"S.US.IDXX"]
[null,null,"S.US.TCMD",{"$f":"IFERROR(RTD(\"cqg.rtd\", ,\"ContractData\",C2167, \"PerCentNetLastTrade\",, \"T\")/100,\"\")","v":""},{"$error":"#VALUE!"},"","S.US.TCMD",2167,"S.US.FOMX"]
[null,null,"S.US.DMPI",{"$f":"IFERROR(RTD(\"cqg.rtd\", ,\"ContractData\",C2168, \"PerCentNetLastTrade\",, \"T\")/100,\"\")","v":1.2406947890818858E-2},605,605,"S.US.DMPI",2168,"S.US.CHRS"]
[null,null,"S.US.ADMA",{"$f":"IFERROR(RTD(\"cqg.rtd\", ,\"ContractData\",C2169, \"PerCentNetLastTrade\",, \"T\")/100,\"\")","v":-1.4010507880910683E-2},2224,2224,"S.US.ADMA",2169,"S.US.CHDN"]
[null,null,"S.US.DAIO",{"$f":"IFERROR(RTD(\"cqg.rtd\", ,\"ContractData\",C2170, \"PerCentNetLastTrade\",, \"T\")/100,\"\")","v":-1.8475750577367205E-2},2327,2327,"S.US.DAIO",2170,"S.US.SCAI"]
[null,null,"S.US.MSON",{"$f":"IFERROR(RTD(\"cqg.rtd\", ,\"ContractData\",C2171, \"PerCentNetLastTrade\",, \"T\")/100,\"\")","v":-1.0416666666666668E-2},2115,2115,"S.US.MSON",2171,"S.US.HELE"]
[null,null,"S.US.MSDI",{"$f":"IFERROR(RTD(\"cqg.rtd\", ,\"ContractData\",C2172, \"PerCentNetLastTrade\",, \"T\")/100,\"\")","v":-4.7619047619047616E-2},2509,2509,"S.US.MSDI",2172,"S.US.HSIC"]
[null,null,"S.US.USAP",{"$f":"IFERROR(RTD(\"cqg.rtd\", ,\"ContractData\",C2173, \"PerCentNetLastTrade\",, \"T\")/100,\"\")","v":-1.862348178137652E-2},2328,2328,"S.US.USAP",2173,"S.US.MEIP"]
[null,null,"S.US.GNMA",{"$f":"IFERROR(RTD(\"cqg.rtd\", ,\"ContractData\",C2174, \"PerCentNetLastTrade\",, \"T\")/100,\"\")","v":-4.0048057669203043E-4},1588,1588,"S.US.GNMA",2174,"S.US.PBMD"]
[null,null,"S.US.FRBA",{"$f":"IFERROR(RTD(\"cqg.rtd\", ,\"ContractData\",C2175, \"PerCentNetLastTrade\",, \"T\")/100,\"\")","v":0},1525,1525,"S.US.FRBA",2175,"S.US.CSGP"]
[null,null,"S.US.TWIN",{"$f":"IFERROR(RTD(\"cqg.rtd\", ,\"ContractData\",C2176, \"PerCentNetLastTrade\",, \"T\")/100,\"\")","v":1.9774011299435026E-2},361,361,"S.US.TWIN",2176,"S.US.CYTK"]
[null,null,"S.US.KBSF",{"$f":"IFERROR(RTD(\"cqg.rtd\", ,\"ContractData\",C2177, \"PerCentNetLastTrade\",, \"T\")/100,\"\")","v":""},{"$error":"#VALUE!"},"","S.US.KBSF",2177,{"$f":"IFERROR(VLOOKUP(H2177,$F$1:$G$2860,2,FALSE),\"\")","v":"S.US.ALOG"}]
[null,null,"S.US.CAPN",{"$f":"IFERROR(RTD(\"cqg.rtd\", ,\"ContractData\",C2178, \"PerCentNetLastTrade\",, \"T\")/100,\"\")","v":""},{"$error":"#VALUE!"},{"$f":"IFERROR(E2178,\"\")","v":""},"S.US.CAPN",2178,"S.US.GTXI"]
[null,null,"S.US.CYRX",{"$f":"IFERROR(RTD(\"cqg.rtd\", ,\"ContractData\",C2179, \"PerCentNetLastTrade\",, \"T\")/100,\"\")","v":1.2765957446808512E-2},585,585,{"$f":"C2179","v":"S.US.CYRX"},{"$f":"H2178+1","v":2179},"S.US.SBSA"]
[null,null,"S.US.HGSH",{"$f":"IFERROR(RTD(\"cqg.rtd\", ,\"ContractData\",C2180, \"PerCentNetLastTrade\",, \"T\")/100,\"\")","v":9.4786729857819912E-3},764,764,"S.US.HGSH",2180,"S.US.TECH"]
[null,null,"S.US.ESES",{"$f":"IFERROR(RTD(\"cqg.rtd\", ,\"ContractData\",C2181, \"PerCentNetLastTrade\",, \"T\")/100,\"\")","v":2.0942408376963352E-2},338,338,"S.US.ESES",2181,"S.US.MDLZ"]
[null,null,"S.US.CBMG",{"$f":"IFERROR(RTD(\"cqg.rtd\", ,\"ContractData\",C2182, \"PerCentNetLastTrade\",, \"T\")/100,\"\")","v":2.7106227106227107E-2},215,215,"S.US.CBMG",2182,"S.US.KHC"]
[null,null,"S.US.MDWD",{"$f":"IFERROR(RTD(\"cqg.rtd\", ,\"ContractData\",C2183, \"PerCentNetLastTrade\",, \"T\")/100,\"\")","v":1.6822429906542057E-2},434,{"$f":"IFERROR(E2183,\"\")","v":434},{"$f":"C2183","v":"S.US.MDWD"},2183,"S.US.CLDX"]
[null,null,"S.US.AROW",{"$f":"IFERROR(RTD(\"cqg.rtd\", ,\"ContractData\",C2184, \"PerCentNetLastTrade\",, \"T\")/100,\"\")","v":6.4020486555697821E-3},941,941,"S.US.AROW",2184,"S.US.VIAV"]
[null,null,"S.US.SELB",{"$f":"IFERROR(RTD(\"cqg.rtd\", ,\"ContractData\",C2185, \"PerCentNetLastTrade\",, \"T\")/100,\"\")","v":6.3660477453580902E-2},43,43,"S.US.SELB",2185,"S.US.NTCT"]
[null,null,"S.US.FORK",{"$f":"IFERROR(RTD(\"cqg.rtd\", ,\"ContractData\",C2186, \"PerCentNetLastTrade\",, \"T\")/100,\"\")","v":4.878048780487805E-2},68,68,"S.US.FORK",2186,"S.US.SNFCA"]
[null,null,"S.US.BWINB",{"$f":"IFERROR(RTD(\"cqg.rtd\", ,\"ContractData\",C2187, \"PerCentNetLastTrade\",, \"T\")/100,\"\")","v":9.3457943925233638E-3},775,775,"S.US.BWINB",2187,"S.US.CSTE"]
[null,null,"S.US.CSTR",{"$f":"IFERROR(RTD(\"cqg.rtd\", ,\"ContractData\",C2188, \"PerCentNetLastTrade\",, \"T\")/100,\"\")","v":3.6496350364963502E-3},1136,1136,"S.US.CSTR",2188,"S.US.ETSY"]
[null,null,"S.US.XPLR",{"$f":"IFERROR(RTD(\"cqg.rtd\", ,\"ContractData\",C2189, \"PerCentNetLastTrade\",, \"T\")/100,\"\")","v":1.2658227848101267E-2},593,593,"S.US.XPLR",2189,"S.US.HMTV"]
[null,null,"S.US.SPCB",{"$f":"IFERROR(RTD(\"cqg.rtd\", ,\"ContractData\",C2190, \"PerCentNetLastTrade\",, \"T\")/100,\"\")","v":4.1522491349480967E-2},90,90,"S.US.SPCB",2190,"S.US.WIX"]
[null,null,"S.US.IRIX",{"$f":"IFERROR(RTD(\"cqg.rtd\", ,\"ContractData\",C2191, \"PerCentNetLastTrade\",, \"T\")/100,\"\")","v":1.5238095238095238E-2},487,487,"S.US.IRIX",2191,"S.US.CYTX"]
[null,null,"S.US.RBCAA",{"$f":"IFERROR(RTD(\"cqg.rtd\", ,\"ContractData\",C2192, \"PerCentNetLastTrade\",, \"T\")/100,\"\")","v":1.8508437670114317E-2},389,389,"S.US.RBCAA",2192,"S.US.ALKS"]
[null,null,"S.US.KINS",{"$f":"IFERROR(RTD(\"cqg.rtd\", ,\"ContractData\",C2193, \"PerCentNetLastTrade\",, \"T\")/100,\"\")","v":3.937007874015748E-3},1117,1117,"S.US.KINS",2193,"S.US.MTCH"]
[null,null,"S.US.SVVC",{"$f":"IFERROR(RTD(\"cqg.rtd\", ,\"ContractData\",C2194, \"PerCentNetLastTrade\",, \"T\")/100,\"\")","v":-7.2376357056694821E-3},1988,1988,"S.US.SVVC",2194,"S.US.ACSF"]
[null,null,"S.US.RUSHB",{"$f":"IFERROR(RTD(\"cqg.rtd\", ,\"ContractData\",C2195, \"PerCentNetLastTrade\",, \"T\")/100,\"\")","v":1.5791406536907821E-2},464,464,"S.US.RUSHB",2195,"S.US.HNRG"]
[null,null,"S.US.STPP",{"$f":"IFERROR(RTD(\"cqg.rtd\", ,\"ContractData\",C2196, \"PerCentNetLastTrade\",, \"T\")/100,\"\")","v":""},{"$error":"#VALUE!"},"","S.US.STPP",2196,"S.US.PAAS"]
[null,null,"S.US.CCBG",{"$f":"IFERROR(RTD(\"cqg.rtd\", ,\"ContractData\",C2197, \"PerCentNetLastTrade\",, \"T\")/100,\"\")","v":0},1526,1526,"S.US.CCBG",2197,"S.US.ENFC"]
[null,null,"S.US.LAND",{"$f":"IFERROR(RTD(\"cqg.rtd\", ,\"ContractData\",C2198, \"PerCentNetLastTrade\",, \"T\")/100,\"\")","v":-3.6231884057971015E-3},1800,1800,"S.US.LAND",2198,"S.US.ALSK"]
[null,null,"S.US.FSZ",{"$f":"IFERROR(RTD(\"cqg.rtd\", ,\"ContractData\",C2199, \"PerCentNetLastTrade\",, \"T\")/100,\"\")","v":""},{"$error":"#VALUE!"},"","S.US.FSZ",2199,"S.US.FATE"]
[null,null,"S.US.BSF",{"$f":"IFERROR(RTD(\"cqg.rtd\", ,\"ContractData\",C2200, \"PerCentNetLastTrade\",, \"T\")/100,\"\")","v":5.0251256281407027E-3},1045,1045,"S.US.BSF",2200,"S.US.LILAK"]
[null,null,"S.US.AMMA",{"$f":"IFERROR(RTD(\"cqg.rtd\", ,\"ContractData\",C2201, \"PerCentNetLastTrade\",, \"T\")/100,\"\")","v":""},{"$error":"#VALUE!"},"","S.US.AMMA",2201,"S.US.CETX"]
[null,null,"S.US.ESSA",{"$f":"IFERROR(RTD(\"cqg.rtd\", ,\"ContractData\",C2202, \"PerCentNetLastTrade\",, \"T\")/100,\"\")","v":7.4274139095205942E-3},886,886,"S.US.ESSA",2202,"S.US.EA"]
[null,null,"S.US.QYLD",{"$f":"IFERROR(RTD(\"cqg.rtd\", ,\"ContractData\",C2203, \"PerCentNetLastTrade\",, \"T\")/100,\"\")","v":-4.4483985765124558E-4},1591,1591,"S.US.QYLD",2203,"S.US.WOOF"]
[null,null,"S.US.FNY",{"$f":"IFERROR(RTD(\"cqg.rtd\", ,\"ContractData\",C2204, \"PerCentNetLastTrade\",, \"T\")/100,\"\")","v":4.4628626075868668E-3},1086,1086,"S.US.FNY",2204,"S.US.TERP"]
[null,null,"S.US.NSSC",{"$f":"IFERROR(RTD(\"cqg.rtd\", ,\"ContractData\",C2205, \"PerCentNetLastTrade\",, \"T\")/100,\"\")","v":7.3710073710073713E-3},888,888,"S.US.NSSC",2205,"S.US.PSTI"]
[null,null,"S.US.CCN",{"$f":"IFERROR(RTD(\"cqg.rtd\", ,\"ContractData\",C2206, \"PerCentNetLastTrade\",, \"T\")/100,\"\")","v":5.076142131979695E-3},1039,1039,"S.US.CCN",2206,"S.US.APTI"]
[null,null,"S.US.INBK",{"$f":"IFERROR(RTD(\"cqg.rtd\", ,\"ContractData\",C2207, \"PerCentNetLastTrade\",, \"T\")/100,\"\")","v":5.154639175257731E-3},1035,1035,"S.US.INBK",2207,"S.US.ROIC"]
[null,null,"S.US.VSEC",{"$f":"IFERROR(RTD(\"cqg.rtd\", ,\"ContractData\",C2208, \"PerCentNetLastTrade\",, \"T\")/100,\"\")","v":2.5647601949217746E-4},1367,1367,"S.US.VSEC",2208,"S.US.LVNTA"]
[null,null,"S.US.RELL",{"$f":"IFERROR(RTD(\"cqg.rtd\", ,\"ContractData\",C2209, \"PerCentNetLastTrade\",, \"T\")/100,\"\")","v":0},1527,1527,"S.US.RELL",2209,"S.US.AAL"]
[null,null,"S.US.VIRC",{"$f":"IFERROR(RTD(\"cqg.rtd\", ,\"ContractData\",C2210, \"PerCentNetLastTrade\",, \"T\")/100,\"\")","v":0},1528,1528,"S.US.VIRC",2210,"S.US.CFCOU"]
[null,null,"S.US.PSAU",{"$f":"IFERROR(RTD(\"cqg.rtd\", ,\"ContractData\",C2211, \"PerCentNetLastTrade\",, \"T\")/100,\"\")","v":-2.6460859977949284E-2},2410,2410,"S.US.PSAU",2211,"S.US.GHDX"]
[null,null,"S.US.ULBI",{"$f":"IFERROR(RTD(\"cqg.rtd\", ,\"ContractData\",C2212, \"PerCentNetLastTrade\",, \"T\")/100,\"\")","v":-8.0000000000000002E-3},2024,2024,"S.US.ULBI",2212,"S.US.SUMR"]
[null,null,"S.US.DRIO",{"$f":"IFERROR(RTD(\"cqg.rtd\", ,\"ContractData\",C2213, \"PerCentNetLastTrade\",, \"T\")/100,\"\")","v":3.2894736842105266E-3},1160,1160,"S.US.DRIO",2213,"S.US.GROW"]
[null,null,"S.US.PROV",{"$f":"IFERROR(RTD(\"cqg.rtd\", ,\"ContractData\",C2214, \"PerCentNetLastTrade\",, \"T\")/100,\"\")","v":1.3726487036095575E-2},549,549,"S.US.PROV",2214,"S.US.OCRX"]
[null,null,"S.US.JCS",{"$f":"IFERROR(RTD(\"cqg.rtd\", ,\"ContractData\",C2215, \"PerCentNetLastTrade\",, \"T\")/100,\"\")","v":4.0160642570281121E-3},1113,1113,"S.US.JCS",2215,"S.US.GOV"]
[null,null,"S.US.ABIL",{"$f":"IFERROR(RTD(\"cqg.rtd\", ,\"ContractData\",C2216, \"PerCentNetLastTrade\",, \"T\")/100,\"\")","v":-1.404494382022472E-2},2226,2226,"S.US.ABIL",2216,"S.US.ATVI"]
[null,null,"S.US.ORRF",{"$f":"IFERROR(RTD(\"cqg.rtd\", ,\"ContractData\",C2217, \"PerCentNetLastTrade\",, \"T\")/100,\"\")","v":1.5590200445434299E-2},476,476,"S.US.ORRF",2217,"S.US.TQQQ"]
[null,null,"S.US.BSET",{"$f":"IFERROR(RTD(\"cqg.rtd\", ,\"ContractData\",C2218, \"PerCentNetLastTrade\",, \"T\")/100,\"\")","v":-3.3613445378151263E-3},1779,1779,"S.US.BSET",2218,"S.US.GARS"]
[null,null,"S.US.REIS",{"$f":"IFERROR(RTD(\"cqg.rtd\", ,\"ContractData\",C2219, \"PerCentNetLastTrade\",, \"T\")/100,\"\")","v":1.1235955056179777E-2},659,659,"S.US.REIS",2219,"S.US.GSVC"]
[null,null,"S.US.CPIX",{"$f":"IFERROR(RTD(\"cqg.rtd\", ,\"ContractData\",C2220, \"PerCentNetLastTrade\",, \"T\")/100,\"\")","v":3.6101083032490976E-3},1139,1139,"S.US.CPIX",2220,"S.US.ALXN"]
[null,null,"S.US.FCCY",{"$f":"IFERROR(RTD(\"cqg.rtd\", ,\"ContractData\",C2221, \"PerCentNetLastTrade\",, \"T\")/100,\"\")","v":""},{"$error":"#VALUE!"},"","S.US.FCCY",2221,"S.US.PETX"]
[null,null,"S.US.ABIO",{"$f":"IFERROR(RTD(\"cqg.rtd\", ,\"ContractData\",C2222, \"PerCentNetLastTrade\",, \"T\")/100,\"\")","v":4.1666666666666666E-3},1102,1102,"S.US.ABIO",2222,"S.US.KBAL"]
[null,null,"S.US.ARTNA",{"$f":"IFERROR(RTD(\"cqg.rtd\", ,\"ContractData\",C2223, \"PerCentNetLastTrade\",, \"T\")/100,\"\")","v":-1.6163464470875265E-2},2281,2281,"S.US.ARTNA",2223,"S.US.BBC"]
[null,null,"S.US.PCYO",{"$f":"IFERROR(RTD(\"cqg.rtd\", ,\"ContractData\",C2224, \"PerCentNetLastTrade\",, \"T\")/100,\"\")","v":""},{"$error":"#VALUE!"},"","S.US.PCYO",2224,"S.US.ADMA"]
[null,null,"S.US.FCVT",{"$f":"IFERROR(RTD(\"cqg.rtd\", ,\"ContractData\",C2225, \"PerCentNetLastTrade\",, \"T\")/100,\"\")","v":-3.4775888717156105E-3},1787,1787,"S.US.FCVT",2225,"S.US.SSRI"]
[null,null,"S.US.NBN",{"$f":"IFERROR(RTD(\"cqg.rtd\", ,\"ContractData\",C2226, \"PerCentNetLastTrade\",, \"T\")/100,\"\")","v":0},1529,1529,"S.US.NBN",2226,"S.US.ABIL"]
[null,null,"S.US.HCM",{"$f":"IFERROR(RTD(\"cqg.rtd\", ,\"ContractData\",C2227, \"PerCentNetLastTrade\",, \"T\")/100,\"\")","v":5.3846153846153849E-2},55,55,"S.US.HCM",2227,"S.US.FENX"]
[null,null,"S.US.PSCH",{"$f":"IFERROR(RTD(\"cqg.rtd\", ,\"ContractData\",C2228, \"PerCentNetLastTrade\",, \"T\")/100,\"\")","v":-5.241379310344828E-3},1898,1898,"S.US.PSCH",2228,"S.US.MLNK"]
[null,null,"S.US.FKO",{"$f":"IFERROR(RTD(\"cqg.rtd\", ,\"ContractData\",C2229, \"PerCentNetLastTrade\",, \"T\")/100,\"\")","v":1.3550135501355014E-2},559,559,"S.US.FKO",2229,"S.US.NICE"]
[null,null,"S.US.QRHC",{"$f":"IFERROR(RTD(\"cqg.rtd\", ,\"ContractData\",C2230, \"PerCentNetLastTrade\",, \"T\")/100,\"\")","v":2.0408163265306124E-2},350,350,"S.US.QRHC",2230,"S.US.DEPO"]
[null,null,"S.US.RCKY",{"$f":"IFERROR(RTD(\"cqg.rtd\", ,\"ContractData\",C2231, \"PerCentNetLastTrade\",, \"T\")/100,\"\")","v":4.6511627906976744E-3},1070,1070,"S.US.RCKY",2231,"S.US.CSAL"]
[null,null,"S.US.TUTT",{"$f":"IFERROR(RTD(\"cqg.rtd\", ,\"ContractData\",C2232, \"PerCentNetLastTrade\",, \"T\")/100,\"\")","v":""},{"$error":"#VALUE!"},"","S.US.TUTT",2232,"S.US.OCLR"]
[null,null,"S.US.FBIZ",{"$f":"IFERROR(RTD(\"cqg.rtd\", ,\"ContractData\",C2233, \"PerCentNetLastTrade\",, \"T\")/100,\"\")","v":-1.8066847335140017E-3},1678,1678,"S.US.FBIZ",2233,"S.US.CERU"]
[null,null,"S.US.JKI",{"$f":"IFERROR(RTD(\"cqg.rtd\", ,\"ContractData\",C2234, \"PerCentNetLastTrade\",, \"T\")/100,\"\")","v":1.2759058226420414E-2},586,586,"S.US.JKI",2234,"S.US.ONCS"]
[null,null,"S.US.NCOM",{"$f":"IFERROR(RTD(\"cqg.rtd\", ,\"ContractData\",C2235, \"PerCentNetLastTrade\",, \"T\")/100,\"\")","v":1.8181818181818181E-2},402,402,"S.US.NCOM",2235,"S.US.DXTR"]
[null,null,"S.US.IDSY",{"$f":"IFERROR(RTD(\"cqg.rtd\", ,\"ContractData\",C2236, \"PerCentNetLastTrade\",, \"T\")/100,\"\")","v":-3.8383838383838381E-2},2482,2482,"S.US.IDSY",2236,"S.US.BIB"]
[null,null,"S.US.NUTR",{"$f":"IFERROR(RTD(\"cqg.rtd\", ,\"ContractData\",C2237, \"PerCentNetLastTrade\",, \"T\")/100,\"\")","v":1.3803680981595092E-2},543,543,"S.US.NUTR",2237,"S.US.HOLX"]
[null,null,"S.US.IPDN",{"$f":"IFERROR(RTD(\"cqg.rtd\", ,\"ContractData\",C2238, \"PerCentNetLastTrade\",, \"T\")/100,\"\")","v":""},{"$error":"#VALUE!"},"","S.US.IPDN",2238,"S.US.PCO"]
[null,null,"S.US.SRET",{"$f":"IFERROR(RTD(\"cqg.rtd\", ,\"ContractData\",C2239, \"PerCentNetLastTrade\",, \"T\")/100,\"\")","v":-1.4492753623188406E-2},2241,2241,"S.US.SRET",2239,"S.US.AEZS"]
[null,null,"S.US.ARDM",{"$f":"IFERROR(RTD(\"cqg.rtd\", ,\"ContractData\",C2240, \"PerCentNetLastTrade\",, \"T\")/100,\"\")","v":7.6923076923076927E-3},864,864,"S.US.ARDM",2240,"S.US.FORD"]
[null,null,"S.US.NAKD",{"$f":"IFERROR(RTD(\"cqg.rtd\", ,\"ContractData\",C2241, \"PerCentNetLastTrade\",, \"T\")/100,\"\")","v":-5.7692307692307689E-2},2532,2532,"S.US.NAKD",2241,{"$f":"IFERROR(VLOOKUP(H2241,$F$1:$G$2860,2,FALSE),\"\")","v":"S.US.SRET"}]
[null,null,"S.US.MRLN",{"$f":"IFERROR(RTD(\"cqg.rtd\", ,\"ContractData\",C2242, \"PerCentNetLastTrade\",, \"T\")/100,\"\")","v":2.7027027027027025E-2},217,{"$f":"IFERROR(E2242,\"\")","v":217},"S.US.MRLN",2242,"S.US.ICCC"]
[null,null,"S.US.SYNL",{"$f":"IFERROR(RTD(\"cqg.rtd\", ,\"ContractData\",C2243, \"PerCentNetLastTrade\",, \"T\")/100,\"\")","v":1.492537313432836E-2},500,500,{"$f":"C2243","v":"S.US.SYNL"},{"$f":"H2242+1","v":2243},"S.US.INGN"]
[null,null,"S.US.ASTC",{"$f":"IFERROR(RTD(\"cqg.rtd\", ,\"ContractData\",C2244, \"PerCentNetLastTrade\",, \"T\")/100,\"\")","v":1.8292682926829271E-2},396,396,"S.US.ASTC",2244,"S.US.LGIH"]
[null,null,"S.US.USEG",{"$f":"IFERROR(RTD(\"cqg.rtd\", ,\"ContractData\",C2245, \"PerCentNetLastTrade\",, \"T\")/100,\"\")","v":1.3986013986013986E-2},536,536,"S.US.USEG",2245,"S.US.CHMA"]
[null,null,"S.US.HCAP",{"$f":"IFERROR(RTD(\"cqg.rtd\", ,\"ContractData\",C2246, \"PerCentNetLastTrade\",, \"T\")/100,\"\")","v":3.1323414252153485E-3},1171,1171,"S.US.HCAP",2246,"S.US.FFBC"]
[null,null,"S.US.OLBK",{"$f":"IFERROR(RTD(\"cqg.rtd\", ,\"ContractData\",C2247, \"PerCentNetLastTrade\",, \"T\")/100,\"\")","v":2.3898781630740395E-2},262,262,"S.US.OLBK",2247,"S.US.CHNR"]
[null,null,"S.US.ANAT",{"$f":"IFERROR(RTD(\"cqg.rtd\", ,\"ContractData\",C2248, \"PerCentNetLastTrade\",, \"T\")/100,\"\")","v":9.7576841762888277E-4},1326,1326,"S.US.ANAT",2248,"S.US.TAST"]
[null,null,"S.US.AETI",{"$f":"IFERROR(RTD(\"cqg.rtd\", ,\"ContractData\",C2249, \"PerCentNetLastTrade\",, \"T\")/100,\"\")","v":-8.1081081081081086E-2},2551,2551,"S.US.AETI",2249,"S.US.TTD"]
[null,null,"S.US.SIFI",{"$f":"IFERROR(RTD(\"cqg.rtd\", ,\"ContractData\",C2250, \"PerCentNetLastTrade\",, \"T\")/100,\"\")","v":3.5460992907801418E-3},1145,1145,"S.US.SIFI",2250,"S.US.ABMD"]
[null,null,"S.US.MLVF",{"$f":"IFERROR(RTD(\"cqg.rtd\", ,\"ContractData\",C2251, \"PerCentNetLastTrade\",, \"T\")/100,\"\")","v":6.4837905236907736E-3},937,937,"S.US.MLVF",2251,"S.US.JTPY"]
[null,null,"S.US.BMRA",{"$f":"IFERROR(RTD(\"cqg.rtd\", ,\"ContractData\",C2252, \"PerCentNetLastTrade\",, \"T\")/100,\"\")","v":-0.10869565217391304},2560,2560,"S.US.BMRA",2252,"S.US.FIZZ"]
[null,null,"S.US.SGC",{"$f":"IFERROR(RTD(\"cqg.rtd\", ,\"ContractData\",C2253, \"PerCentNetLastTrade\",, \"T\")/100,\"\")","v":6.2761506276150627E-3},948,948,"S.US.SGC",2253,"S.US.CUBA"]
[null,null,"S.US.EIGR",{"$f":"IFERROR(RTD(\"cqg.rtd\", ,\"ContractData\",C2254, \"PerCentNetLastTrade\",, \"T\")/100,\"\")","v":0},1530,1530,"S.US.EIGR",2254,"S.US.OLED"]
[null,null,"S.US.SRSC",{"$f":"IFERROR(RTD(\"cqg.rtd\", ,\"ContractData\",C2255, \"PerCentNetLastTrade\",, \"T\")/100,\"\")","v":0},1531,1531,"S.US.SRSC",2255,"S.US.FFIV"]
[null,null,"S.US.PRCP",{"$f":"IFERROR(RTD(\"cqg.rtd\", ,\"ContractData\",C2256, \"PerCentNetLastTrade\",, \"T\")/100,\"\")","v":-2.2624434389140271E-2},2374,2374,"S.US.PRCP",2256,"S.US.AMDA"]
[null,null,"S.US.DAVE",{"$f":"IFERROR(RTD(\"cqg.rtd\", ,\"ContractData\",C2257, \"PerCentNetLastTrade\",, \"T\")/100,\"\")","v":1.0526315789473684E-2},691,691,"S.US.DAVE",2257,"S.US.PTIE"]
[null,null,"S.US.WEYS",{"$f":"IFERROR(RTD(\"cqg.rtd\", ,\"ContractData\",C2258, \"PerCentNetLastTrade\",, \"T\")/100,\"\")","v":1.6376306620209061E-2},448,448,"S.US.WEYS",2258,"S.US.DHIL"]
[null,null,"S.US.MIII",{"$f":"IFERROR(RTD(\"cqg.rtd\", ,\"ContractData\",C2259, \"PerCentNetLastTrade\",, \"T\")/100,\"\")","v":""},{"$error":"#VALUE!"},"","S.US.MIII",2259,"S.US.XRAY"]
[null,null,"S.US.IIN",{"$f":"IFERROR(RTD(\"cqg.rtd\", ,\"ContractData\",C2260, \"PerCentNetLastTrade\",, \"T\")/100,\"\")","v":2.3809523809523808E-2},268,{"$f":"IFERROR(E2260,\"\")","v":268},{"$f":"C2260","v":"S.US.IIN"},2260,"S.US.GT"]
[null,null,"S.US.WOOD",{"$f":"IFERROR(RTD(\"cqg.rtd\", ,\"ContractData\",C2261, \"PerCentNetLastTrade\",, \"T\")/100,\"\")","v":3.7778617302606723E-4},1361,1361,"S.US.WOOD",2261,"S.US.FNJN"]
[null,null,"S.US.HFBC",{"$f":"IFERROR(RTD(\"cqg.rtd\", ,\"ContractData\",C2262, \"PerCentNetLastTrade\",, \"T\")/100,\"\")","v":""},{"$error":"#VALUE!"},"","S.US.HFBC",2262,"S.US.TTEC"]
[null,null,"S.US.AEMD",{"$f":"IFERROR(RTD(\"cqg.rtd\", ,\"ContractData\",C2263, \"PerCentNetLastTrade\",, \"T\")/100,\"\")","v":0},1532,1532,"S.US.AEMD",2263,"S.US.MCRI"]
[null,null,"S.US.AMRB",{"$f":"IFERROR(RTD(\"cqg.rtd\", ,\"ContractData\",C2264, \"PerCentNetLastTrade\",, \"T\")/100,\"\")","v":1.1029411764705883E-2},669,669,"S.US.AMRB",2264,"S.US.GSUM"]
[null,null,"S.US.FNCX",{"$f":"IFERROR(RTD(\"cqg.rtd\", ,\"ContractData\",C2265, \"PerCentNetLastTrade\",, \"T\")/100,\"\")","v":""},{"$error":"#VALUE!"},"","S.US.FNCX",2265,"S.US.MBUU"]
[null,null,"S.US.MICT",{"$f":"IFERROR(RTD(\"cqg.rtd\", ,\"ContractData\",C2266, \"PerCentNetLastTrade\",, \"T\")/100,\"\")","v":0},1533,1533,"S.US.MICT",2266,"S.US.SONC"]
[null,null,"S.US.CXDC",{"$f":"IFERROR(RTD(\"cqg.rtd\", ,\"ContractData\",C2267, \"PerCentNetLastTrade\",, \"T\")/100,\"\")","v":0},1534,1534,"S.US.CXDC",2267,"S.US.BPMC"]
[null,null,"S.US.DFBG",{"$f":"IFERROR(RTD(\"cqg.rtd\", ,\"ContractData\",C2268, \"PerCentNetLastTrade\",, \"T\")/100,\"\")","v":6.5573770491803282E-2},41,41,"S.US.DFBG",2268,"S.US.LMAT"]
[null,null,"S.US.FMB",{"$f":"IFERROR(RTD(\"cqg.rtd\", ,\"ContractData\",C2269, \"PerCentNetLastTrade\",, \"T\")/100,\"\")","v":-1.1757789535567313E-3},1636,1636,"S.US.FMB",2269,"S.US.CZNC"]
[null,null,"S.US.BLMT",{"$f":"IFERROR(RTD(\"cqg.rtd\", ,\"ContractData\",C2270, \"PerCentNetLastTrade\",, \"T\")/100,\"\")","v":1.9011406844106462E-3},1264,1264,"S.US.BLMT",2270,"S.US.CAPR"]
[null,null,"S.US.ICCC",{"$f":"IFERROR(RTD(\"cqg.rtd\", ,\"ContractData\",C2271, \"PerCentNetLastTrade\",, \"T\")/100,\"\")","v":-1.4545454545454545E-2},2242,2242,"S.US.ICCC",2271,"S.US.ESLT"]
[null,null,"S.US.SLCT",{"$f":"IFERROR(RTD(\"cqg.rtd\", ,\"ContractData\",C2272, \"PerCentNetLastTrade\",, \"T\")/100,\"\")","v":-4.9788135593220338E-2},2514,2514,"S.US.SLCT",2272,"S.US.ARDX"]
[null,null,"S.US.MOFG",{"$f":"IFERROR(RTD(\"cqg.rtd\", ,\"ContractData\",C2273, \"PerCentNetLastTrade\",, \"T\")/100,\"\")","v":1.6939078751857354E-2},431,431,"S.US.MOFG",2273,"S.US.ITEK"]
[null,null,"S.US.SNHNI",{"$f":"IFERROR(RTD(\"cqg.rtd\", ,\"ContractData\",C2274, \"PerCentNetLastTrade\",, \"T\")/100,\"\")","v":-2.5188916876574307E-3},1723,1723,"S.US.SNHNI",2274,"S.US.XLRN"]
[null,null,"S.US.UPLD",{"$f":"IFERROR(RTD(\"cqg.rtd\", ,\"ContractData\",C2275, \"PerCentNetLastTrade\",, \"T\")/100,\"\")","v":-1.7726798748696558E-2},2307,2307,"S.US.UPLD",2275,"S.US.SBOT"]
[null,null,"S.US.DWFI",{"$f":"IFERROR(RTD(\"cqg.rtd\", ,\"ContractData\",C2276, \"PerCentNetLastTrade\",, \"T\")/100,\"\")","v":""},{"$error":"#VALUE!"},"","S.US.DWFI",2276,"S.US.CDK"]
[null,null,"S.US.OHAI",{"$f":"IFERROR(RTD(\"cqg.rtd\", ,\"ContractData\",C2277, \"PerCentNetLastTrade\",, \"T\")/100,\"\")","v":-1.0526315789473684E-2},2119,2119,"S.US.OHAI",2277,"S.US.CPSI"]
[null,null,"S.US.LPTN",{"$f":"IFERROR(RTD(\"cqg.rtd\", ,\"ContractData\",C2278, \"PerCentNetLastTrade\",, \"T\")/100,\"\")","v":5.6768558951965066E-2},48,48,"S.US.LPTN",2278,"S.US.FLGT"]
[null,null,"S.US.APPF",{"$f":"IFERROR(RTD(\"cqg.rtd\", ,\"ContractData\",C2279, \"PerCentNetLastTrade\",, \"T\")/100,\"\")","v":9.1324200913242004E-3},788,788,"S.US.APPF",2279,"S.US.PTC"]
[null,null,"S.US.FTXO",{"$f":"IFERROR(RTD(\"cqg.rtd\", ,\"ContractData\",C2280, \"PerCentNetLastTrade\",, \"T\")/100,\"\")","v":1.8564356435643567E-2},387,387,"S.US.FTXO",2280,"S.US.BIOS"]
[null,null,"S.US.ESCA",{"$f":"IFERROR(RTD(\"cqg.rtd\", ,\"ContractData\",C2281, \"PerCentNetLastTrade\",, \"T\")/100,\"\")","v":2.5362318840579712E-2},239,239,"S.US.ESCA",2281,"S.US.ARTNA"]
[null,null,"S.US.RKDA",{"$f":"IFERROR(RTD(\"cqg.rtd\", ,\"ContractData\",C2282, \"PerCentNetLastTrade\",, \"T\")/100,\"\")","v":3.4482758620689655E-2},142,142,"S.US.RKDA",2282,"S.US.VGLT"]
[null,null,"S.US.AMOT",{"$f":"IFERROR(RTD(\"cqg.rtd\", ,\"ContractData\",C2283, \"PerCentNetLastTrade\",, \"T\")/100,\"\")","v":1.9507663725034836E-2},367,367,"S.US.AMOT",2283,"S.US.SYNC"]
[null,null,"S.US.EMCI",{"$f":"IFERROR(RTD(\"cqg.rtd\", ,\"ContractData\",C2284, \"PerCentNetLastTrade\",, \"T\")/100,\"\")","v":6.3829787234042559E-3},942,942,"S.US.EMCI",2284,"S.US.ENT"]
[null,null,"S.US.CIVB",{"$f":"IFERROR(RTD(\"cqg.rtd\", ,\"ContractData\",C2285, \"PerCentNetLastTrade\",, \"T\")/100,\"\")","v":3.4828807556080282E-2},138,138,"S.US.CIVB",2285,"S.US.RGEN"]
[null,null,"S.US.ABAC",{"$f":"IFERROR(RTD(\"cqg.rtd\", ,\"ContractData\",C2286, \"PerCentNetLastTrade\",, \"T\")/100,\"\")","v":1.8691588785046728E-2},383,383,"S.US.ABAC",2286,"S.US.HSNI"]
[null,null,"S.US.WLFC",{"$f":"IFERROR(RTD(\"cqg.rtd\", ,\"ContractData\",C2287, \"PerCentNetLastTrade\",, \"T\")/100,\"\")","v":-7.4850299401197605E-3},2007,2007,"S.US.WLFC",2287,"S.US.NEOT"]
[null,null,"S.US.MARK",{"$f":"IFERROR(RTD(\"cqg.rtd\", ,\"ContractData\",C2288, \"PerCentNetLastTrade\",, \"T\")/100,\"\")","v":-2.2222222222222223E-2},2371,2371,"S.US.MARK",2288,"S.US.SAL"]
[null,null,"S.US.MIIIU",{"$f":"IFERROR(RTD(\"cqg.rtd\", ,\"ContractData\",C2289, \"PerCentNetLastTrade\",, \"T\")/100,\"\")","v":-5.1020408163265311E-3},1889,1889,"S.US.MIIIU",2289,"S.US.OCLS"]
[null,null,"S.US.SCKT",{"$f":"IFERROR(RTD(\"cqg.rtd\", ,\"ContractData\",C2290, \"PerCentNetLastTrade\",, \"T\")/100,\"\")","v":""},{"$error":"#VALUE!"},"","S.US.SCKT",2290,"S.US.SIR"]
[null,null,"S.US.PSCC",{"$f":"IFERROR(RTD(\"cqg.rtd\", ,\"ContractData\",C2291, \"PerCentNetLastTrade\",, \"T\")/100,\"\")","v":-4.6827794561933537E-3},1868,1868,"S.US.PSCC",2291,"S.US.ILMN"]
[null,null,"S.US.APPY",{"$f":"IFERROR(RTD(\"cqg.rtd\", ,\"ContractData\",C2292, \"PerCentNetLastTrade\",, \"T\")/100,\"\")","v":-2.4137931034482758E-2},2387,2387,"S.US.APPY",2292,"S.US.TROV"]
[null,null,"S.US.VUSE",{"$f":"IFERROR(RTD(\"cqg.rtd\", ,\"ContractData\",C2293, \"PerCentNetLastTrade\",, \"T\")/100,\"\")","v":8.0730080730080731E-3},840,840,"S.US.VUSE",2293,"S.US.PRAH"]
[null,null,"S.US.ELON",{"$f":"IFERROR(RTD(\"cqg.rtd\", ,\"ContractData\",C2294, \"PerCentNetLastTrade\",, \"T\")/100,\"\")","v":1.5748031496062992E-2},468,468,"S.US.ELON",2294,"S.US.LBTYK"]
[null,null,"S.US.TBNK",{"$f":"IFERROR(RTD(\"cqg.rtd\", ,\"ContractData\",C2295, \"PerCentNetLastTrade\",, \"T\")/100,\"\")","v":2.4906600249066002E-3},1221,1221,"S.US.TBNK",2295,"S.US.AMED"]
[null,null,"S.US.BBC",{"$f":"IFERROR(RTD(\"cqg.rtd\", ,\"ContractData\",C2296, \"PerCentNetLastTrade\",, \"T\")/100,\"\")","v":-1.3989387361312109E-2},2223,2223,"S.US.BBC",2296,"S.US.MACK"]
[null,null,"S.US.SMIT",{"$f":"IFERROR(RTD(\"cqg.rtd\", ,\"ContractData\",C2297, \"PerCentNetLastTrade\",, \"T\")/100,\"\")","v":-1.1173184357541898E-2},2142,2142,"S.US.SMIT",2297,"S.US.HDNG"]
[null,null,"S.US.CDL",{"$f":"IFERROR(RTD(\"cqg.rtd\", ,\"ContractData\",C2298, \"PerCentNetLastTrade\",, \"T\")/100,\"\")","v":-1.5045135406218657E-3},1657,1657,"S.US.CDL",2298,"S.US.NIHD"]
[null,null,"S.US.HCOM",{"$f":"IFERROR(RTD(\"cqg.rtd\", ,\"ContractData\",C2299, \"PerCentNetLastTrade\",, \"T\")/100,\"\")","v":1.7880505887483647E-2},412,412,"S.US.HCOM",2299,"S.US.TTMI"]
[null,null,"S.US.RELV",{"$f":"IFERROR(RTD(\"cqg.rtd\", ,\"ContractData\",C2300, \"PerCentNetLastTrade\",, \"T\")/100,\"\")","v":4.5662100456621002E-3},1077,1077,"S.US.RELV",2300,"S.US.ATAI"]
[null,null,"S.US.SHLO",{"$f":"IFERROR(RTD(\"cqg.rtd\", ,\"ContractData\",C2301, \"PerCentNetLastTrade\",, \"T\")/100,\"\")","v":-2.5459688826025461E-2},2400,2400,"S.US.SHLO",2301,"S.US.SPTN"]
[null,null,"S.US.SMMF",{"$f":"IFERROR(RTD(\"cqg.rtd\", ,\"ContractData\",C2302, \"PerCentNetLastTrade\",, \"T\")/100,\"\")","v":4.0832993058391177E-4},1358,1358,"S.US.SMMF",2302,"S.US.LBRDK"]
[null,null,"S.US.BYBK",{"$f":"IFERROR(RTD(\"cqg.rtd\", ,\"ContractData\",C2303, \"PerCentNetLastTrade\",, \"T\")/100,\"\")","v":0},1535,1535,"S.US.BYBK",2303,"S.US.PMD"]
[null,null,"S.US.PFIS",{"$f":"IFERROR(RTD(\"cqg.rtd\", ,\"ContractData\",C2304, \"PerCentNetLastTrade\",, \"T\")/100,\"\")","v":6.0160427807486629E-3},973,973,"S.US.PFIS",2304,"S.US.LBRDA"]
[null,null,"S.US.NTEC",{"$f":"IFERROR(RTD(\"cqg.rtd\", ,\"ContractData\",C2305, \"PerCentNetLastTrade\",, \"T\")/100,\"\")","v":-2.8571428571428571E-2},2430,2430,"S.US.NTEC",2305,{"$f":"IFERROR(VLOOKUP(H2305,$F$1:$G$2860,2,FALSE),\"\")","v":"S.US.MEDP"}]
[null,null,"S.US.PLSE",{"$f":"IFERROR(RTD(\"cqg.rtd\", ,\"ContractData\",C2306, \"PerCentNetLastTrade\",, \"T\")/100,\"\")","v":-1.1111111111111112E-2},2139,{"$f":"IFERROR(E2306,\"\")","v":2139},"S.US.PLSE",2306,"S.US.ASFI"]
[null,null,"S.US.CALI",{"$f":"IFERROR(RTD(\"cqg.rtd\", ,\"ContractData\",C2307, \"PerCentNetLastTrade\",, \"T\")/100,\"\")","v":1.5060240963855422E-2},493,493,{"$f":"C2307","v":"S.US.CALI"},{"$f":"H2306+1","v":2307},"S.US.UPLD"]
[null,null,"S.US.OSHC",{"$f":"IFERROR(RTD(\"cqg.rtd\", ,\"ContractData\",C2308, \"PerCentNetLastTrade\",, \"T\")/100,\"\")","v":1.834862385321101E-3},1268,1268,"S.US.OSHC",2308,"S.US.HABT"]
[null,null,"S.US.NICK",{"$f":"IFERROR(RTD(\"cqg.rtd\", ,\"ContractData\",C2309, \"PerCentNetLastTrade\",, \"T\")/100,\"\")","v":3.0241935483870967E-3},1179,1179,"S.US.NICK",2309,"S.US.ELGX"]
[null,null,"S.US.NRIM",{"$f":"IFERROR(RTD(\"cqg.rtd\", ,\"ContractData\",C2310, \"PerCentNetLastTrade\",, \"T\")/100,\"\")","v":1.0638297872340425E-2},688,688,"S.US.NRIM",2310,"S.US.PZRX"]
[null,null,"S.US.VBND",{"$f":"IFERROR(RTD(\"cqg.rtd\", ,\"ContractData\",C2311, \"PerCentNetLastTrade\",, \"T\")/100,\"\")","v":-9.9880143827407101E-4},1625,1625,"S.US.VBND",2311,"S.US.EVOK"]
[null,null,"S.US.BOCH",{"$f":"IFERROR(RTD(\"cqg.rtd\", ,\"ContractData\",C2312, \"PerCentNetLastTrade\",, \"T\")/100,\"\")","v":-3.592814371257485E-3},1796,1796,"S.US.BOCH",2312,"S.US.NBIX"]
[null,null,"S.US.FNK",{"$f":"IFERROR(RTD(\"cqg.rtd\", ,\"ContractData\",C2313, \"PerCentNetLastTrade\",, \"T\")/100,\"\")","v":-2.7950310559006208E-3},1738,1738,"S.US.FNK",2313,"S.US.FSFR"]
[null,null,"S.US.FTXL",{"$f":"IFERROR(RTD(\"cqg.rtd\", ,\"ContractData\",C2314, \"PerCentNetLastTrade\",, \"T\")/100,\"\")","v":1.3711151736745886E-3},1296,1296,"S.US.FTXL",2314,"S.US.EKSO"]
[null,null,"S.US.WCST",{"$f":"IFERROR(RTD(\"cqg.rtd\", ,\"ContractData\",C2315, \"PerCentNetLastTrade\",, \"T\")/100,\"\")","v":4.0650406504065047E-2},94,94,"S.US.WCST",2315,"S.US.CARA"]
[null,null,"S.US.EBMT",{"$f":"IFERROR(RTD(\"cqg.rtd\", ,\"ContractData\",C2316, \"PerCentNetLastTrade\",, \"T\")/100,\"\")","v":1.3705583756345176E-2},552,552,"S.US.EBMT",2316,"S.US.CLBS"]
[null,null,"S.US.PCTI",{"$f":"IFERROR(RTD(\"cqg.rtd\", ,\"ContractData\",C2317, \"PerCentNetLastTrade\",, \"T\")/100,\"\")","v":2.0040080160320644E-3},1258,1258,"S.US.PCTI",2317,"S.US.RYAAY"]
[null,null,"S.US.CATH",{"$f":"IFERROR(RTD(\"cqg.rtd\", ,\"ContractData\",C2318, \"PerCentNetLastTrade\",, \"T\")/100,\"\")","v":4.0892193308550186E-3},1108,1108,"S.US.CATH",2318,"S.US.AVID"]
[null,null,"S.US.MDGL",{"$f":"IFERROR(RTD(\"cqg.rtd\", ,\"ContractData\",C2319, \"PerCentNetLastTrade\",, \"T\")/100,\"\")","v":3.1250000000000002E-3},1173,1173,"S.US.MDGL",2319,"S.US.ARIA"]
[null,null,"S.US.ZIONZ",{"$f":"IFERROR(RTD(\"cqg.rtd\", ,\"ContractData\",C2320, \"PerCentNetLastTrade\",, \"T\")/100,\"\")","v":0.10576923076923077},20,20,"S.US.ZIONZ",2320,"S.US.EQIX"]
[null,null,"S.US.QPAC",{"$f":"IFERROR(RTD(\"cqg.rtd\", ,\"ContractData\",C2321, \"PerCentNetLastTrade\",, \"T\")/100,\"\")","v":""},{"$error":"#VALUE!"},"","S.US.QPAC",2321,"S.US.WMIH"]
[null,null,"S.US.QQXT",{"$f":"IFERROR(RTD(\"cqg.rtd\", ,\"ContractData\",C2322, \"PerCentNetLastTrade\",, \"T\")/100,\"\")","v":""},{"$error":"#VALUE!"},"","S.US.QQXT",2322,"S.US.BCLI"]
[null,null,"S.US.CNET",{"$f":"IFERROR(RTD(\"cqg.rtd\", ,\"ContractData\",C2323, \"PerCentNetLastTrade\",, \"T\")/100,\"\")","v":-2.3622047244094488E-2},2379,2379,"S.US.CNET",2323,"S.US.NLNK"]
[null,null,"S.US.BYFC",{"$f":"IFERROR(RTD(\"cqg.rtd\", ,\"ContractData\",C2324, \"PerCentNetLastTrade\",, \"T\")/100,\"\")","v":-1.8749999999999999E-2},2332,2332,"S.US.BYFC",2324,"S.US.IONS"]
[null,null,"S.US.PFBI",{"$f":"IFERROR(RTD(\"cqg.rtd\", ,\"ContractData\",C2325, \"PerCentNetLastTrade\",, \"T\")/100,\"\")","v":-4.334677419354839E-2},2498,2498,"S.US.PFBI",2325,"S.US.LBTYA"]
[null,null,"S.US.FCFP",{"$f":"IFERROR(RTD(\"cqg.rtd\", ,\"ContractData\",C2326, \"PerCentNetLastTrade\",, \"T\")/100,\"\")","v":9.1743119266055051E-3},784,784,"S.US.FCFP",2326,"S.US.ALGN"]
[null,null,"S.US.QCLN",{"$f":"IFERROR(RTD(\"cqg.rtd\", ,\"ContractData\",C2327, \"PerCentNetLastTrade\",, \"T\")/100,\"\")","v":-6.5445026178010475E-4},1602,1602,"S.US.QCLN",2327,"S.US.DAIO"]
[null,null,"S.US.EDUC",{"$f":"IFERROR(RTD(\"cqg.rtd\", ,\"ContractData\",C2328, \"PerCentNetLastTrade\",, \"T\")/100,\"\")","v":5.5555555555555558E-3},1012,1012,"S.US.EDUC",2328,"S.US.USAP"]
[null,null,"S.US.NATR",{"$f":"IFERROR(RTD(\"cqg.rtd\", ,\"ContractData\",C2329, \"PerCentNetLastTrade\",, \"T\")/100,\"\")","v":3.3222591362126247E-3},1158,1158,"S.US.NATR",2329,"S.US.QSII"]
[null,null,"S.US.NCBS",{"$f":"IFERROR(RTD(\"cqg.rtd\", ,\"ContractData\",C2330, \"PerCentNetLastTrade\",, \"T\")/100,\"\")","v":2.2920009168003667E-3},1240,1240,"S.US.NCBS",2330,"S.US.CLLS"]
[null,null,"S.US.GBLI",{"$f":"IFERROR(RTD(\"cqg.rtd\", ,\"ContractData\",C2331, \"PerCentNetLastTrade\",, \"T\")/100,\"\")","v":9.0982071180090978E-3},791,791,"S.US.GBLI",2331,"S.US.TIVO"]
[null,null,"S.US.HRMN",{"$f":"IFERROR(RTD(\"cqg.rtd\", ,\"ContractData\",C2332, \"PerCentNetLastTrade\",, \"T\")/100,\"\")","v":""},{"$error":"#VALUE!"},"","S.US.HRMN",2332,"S.US.BYFC"]
[null,null,"S.US.RILY",{"$f":"IFERROR(RTD(\"cqg.rtd\", ,\"ContractData\",C2333, \"PerCentNetLastTrade\",, \"T\")/100,\"\")","v":5.9347181008902071E-3},981,{"$f":"IFERROR(E2333,\"\")","v":981},{"$f":"C2333","v":"S.US.RILY"},2333,"S.US.ICLR"]
[null,null,"S.US.EXFO",{"$f":"IFERROR(RTD(\"cqg.rtd\", ,\"ContractData\",C2334, \"PerCentNetLastTrade\",, \"T\")/100,\"\")","v":7.0257611241217799E-3},905,905,"S.US.EXFO",2334,"S.US.NVCN"]
[null,null,"S.US.CFCO",{"$f":"IFERROR(RTD(\"cqg.rtd\", ,\"ContractData\",C2335, \"PerCentNetLastTrade\",, \"T\")/100,\"\")","v":""},{"$error":"#VALUE!"},"","S.US.CFCO",2335,"S.US.BLFS"]
[null,null,"S.US.EBTC",{"$f":"IFERROR(RTD(\"cqg.rtd\", ,\"ContractData\",C2336, \"PerCentNetLastTrade\",, \"T\")/100,\"\")","v":8.8848039215686271E-3},802,802,"S.US.EBTC",2336,"S.US.DYNT"]
[null,null,"S.US.PRSS",{"$f":"IFERROR(RTD(\"cqg.rtd\", ,\"ContractData\",C2337, \"PerCentNetLastTrade\",, \"T\")/100,\"\")","v":""},{"$error":"#VALUE!"},"","S.US.PRSS",2337,"S.US.XOMA"]
[null,null,"S.US.ITUS",{"$f":"IFERROR(RTD(\"cqg.rtd\", ,\"ContractData\",C2338, \"PerCentNetLastTrade\",, \"T\")/100,\"\")","v":-2.542372881355932E-2},2399,2399,"S.US.ITUS",2338,"S.US.UBIO"]
[null,null,"S.US.LAWS",{"$f":"IFERROR(RTD(\"cqg.rtd\", ,\"ContractData\",C2339, \"PerCentNetLastTrade\",, \"T\")/100,\"\")","v":0},1536,1536,"S.US.LAWS",2339,"S.US.MYOS"]
[null,null,"S.US.AGNCB",{"$f":"IFERROR(RTD(\"cqg.rtd\", ,\"ContractData\",C2340, \"PerCentNetLastTrade\",, \"T\")/100,\"\")","v":3.9432176656151418E-4},1360,1360,"S.US.AGNCB",2340,"S.US.TLT"]
[null,null,"S.US.SMTX",{"$f":"IFERROR(RTD(\"cqg.rtd\", ,\"ContractData\",C2341, \"PerCentNetLastTrade\",, \"T\")/100,\"\")","v":7.4626865671641798E-3},883,883,"S.US.SMTX",2341,"S.US.OMER"]
[null,null,"S.US.CREG",{"$f":"IFERROR(RTD(\"cqg.rtd\", ,\"ContractData\",C2342, \"PerCentNetLastTrade\",, \"T\")/100,\"\")","v":0},1537,1537,"S.US.CREG",2342,"S.US.USLV"]
[null,null,"S.US.NCIT",{"$f":"IFERROR(RTD(\"cqg.rtd\", ,\"ContractData\",C2343, \"PerCentNetLastTrade\",, \"T\")/100,\"\")","v":7.6335877862595426E-3},871,871,"S.US.NCIT",2343,"S.US.ARAY"]
[null,null,"S.US.PESI",{"$f":"IFERROR(RTD(\"cqg.rtd\", ,\"ContractData\",C2344, \"PerCentNetLastTrade\",, \"T\")/100,\"\")","v":-2.5000000000000001E-2},2395,2395,"S.US.PESI",2344,"S.US.STAF"]
[null,null,"S.US.PAAC",{"$f":"IFERROR(RTD(\"cqg.rtd\", ,\"ContractData\",C2345, \"PerCentNetLastTrade\",, \"T\")/100,\"\")","v":0},1538,1538,"S.US.PAAC",2345,"S.US.PEBK"]
[null,null,"S.US.ELEC",{"$f":"IFERROR(RTD(\"cqg.rtd\", ,\"ContractData\",C2346, \"PerCentNetLastTrade\",, \"T\")/100,\"\")","v":""},{"$error":"#VALUE!"},"","S.US.ELEC",2346,"S.US.HZNP"]
[null,null,"S.US.DGRE",{"$f":"IFERROR(RTD(\"cqg.rtd\", ,\"ContractData\",C2347, \"PerCentNetLastTrade\",, \"T\")/100,\"\")","v":""},{"$error":"#VALUE!"},"","S.US.DGRE",2347,"S.US.CHTR"]
[null,null,"S.US.SAMG",{"$f":"IFERROR(RTD(\"cqg.rtd\", ,\"ContractData\",C2348, \"PerCentNetLastTrade\",, \"T\")/100,\"\")","v":3.7174721189591076E-3},1132,1132,"S.US.SAMG",2348,"S.US.PPC"]
[null,null,"S.US.SYRS",{"$f":"IFERROR(RTD(\"cqg.rtd\", ,\"ContractData\",C2349, \"PerCentNetLastTrade\",, \"T\")/100,\"\")","v":""},{"$error":"#VALUE!"},"","S.US.SYRS",2349,"S.US.TVIX"]
[null,null,"S.US.FXCM",{"$f":"IFERROR(RTD(\"cqg.rtd\", ,\"ContractData\",C2350, \"PerCentNetLastTrade\",, \"T\")/100,\"\")","v":2.6143790849673205E-3},1214,1214,"S.US.FXCM",2350,"S.US.AGNC"]
[null,null,"S.US.DGRS",{"$f":"IFERROR(RTD(\"cqg.rtd\", ,\"ContractData\",C2351, \"PerCentNetLastTrade\",, \"T\")/100,\"\")","v":3.884075291305647E-3},1122,1122,"S.US.DGRS",2351,"S.US.ZAIS"]
[null,null,"S.US.SKIS",{"$f":"IFERROR(RTD(\"cqg.rtd\", ,\"ContractData\",C2352, \"PerCentNetLastTrade\",, \"T\")/100,\"\")","v":2.150537634408602E-2},320,320,"S.US.SKIS",2352,"S.US.CSII"]
[null,null,"S.US.BMRC",{"$f":"IFERROR(RTD(\"cqg.rtd\", ,\"ContractData\",C2353, \"PerCentNetLastTrade\",, \"T\")/100,\"\")","v":5.434782608695652E-3},1020,1020,"S.US.BMRC",2353,"S.US.SORL"]
[null,null,"S.US.FGM",{"$f":"IFERROR(RTD(\"cqg.rtd\", ,\"ContractData\",C2354, \"PerCentNetLastTrade\",, \"T\")/100,\"\")","v":""},{"$error":"#VALUE!"},"","S.US.FGM",2354,"S.US.QBAK"]
[null,null,"S.US.EEMA",{"$f":"IFERROR(RTD(\"cqg.rtd\", ,\"ContractData\",C2355, \"PerCentNetLastTrade\",, \"T\")/100,\"\")","v":3.5296303176667286E-3},1146,1146,"S.US.EEMA",2355,"S.US.FDUS"]
[null,null,"S.US.TUTI",{"$f":"IFERROR(RTD(\"cqg.rtd\", ,\"ContractData\",C2356, \"PerCentNetLastTrade\",, \"T\")/100,\"\")","v":""},{"$error":"#VALUE!"},"","S.US.TUTI",2356,"S.US.MTP"]
[null,null,"S.US.SBRAP",{"$f":"IFERROR(RTD(\"cqg.rtd\", ,\"ContractData\",C2357, \"PerCentNetLastTrade\",, \"T\")/100,\"\")","v":5.6000000000000008E-3},1008,1008,"S.US.SBRAP",2357,"S.US.LTEA"]
[null,null,"S.US.FNLC",{"$f":"IFERROR(RTD(\"cqg.rtd\", ,\"ContractData\",C2358, \"PerCentNetLastTrade\",, \"T\")/100,\"\")","v":2.1479713603818618E-2},321,321,"S.US.FNLC",2358,"S.US.CDTI"]
[null,null,"S.US.CSPI",{"$f":"IFERROR(RTD(\"cqg.rtd\", ,\"ContractData\",C2359, \"PerCentNetLastTrade\",, \"T\")/100,\"\")","v":""},{"$error":"#VALUE!"},"","S.US.CSPI",2359,"S.US.NDLS"]
[null,null,"S.US.CDOR",{"$f":"IFERROR(RTD(\"cqg.rtd\", ,\"ContractData\",C2360, \"PerCentNetLastTrade\",, \"T\")/100,\"\")","v":-1.1560693641618498E-2},2159,2159,"S.US.CDOR",2360,"S.US.HMNY"]
[null,null,"S.US.ONS",{"$f":"IFERROR(RTD(\"cqg.rtd\", ,\"ContractData\",C2361, \"PerCentNetLastTrade\",, \"T\")/100,\"\")","v":""},{"$error":"#VALUE!"},"","S.US.ONS",2361,"S.US.APTO"]
[null,null,"S.US.LSBG",{"$f":"IFERROR(RTD(\"cqg.rtd\", ,\"ContractData\",C2362, \"PerCentNetLastTrade\",, \"T\")/100,\"\")","v":7.7874484654145669E-3},857,857,"S.US.LSBG",2362,"S.US.SYMX"]
[null,null,"S.US.MYOS",{"$f":"IFERROR(RTD(\"cqg.rtd\", ,\"ContractData\",C2363, \"PerCentNetLastTrade\",, \"T\")/100,\"\")","v":-1.9108280254777069E-2},2339,2339,"S.US.MYOS",2363,"S.US.JCOM"]
[null,null,"S.US.DHIL",{"$f":"IFERROR(RTD(\"cqg.rtd\", ,\"ContractData\",C2364, \"PerCentNetLastTrade\",, \"T\")/100,\"\")","v":-1.5039366366507944E-2},2258,2258,"S.US.DHIL",2364,"S.US.FVE"]
[null,null,"S.US.ESXB",{"$f":"IFERROR(RTD(\"cqg.rtd\", ,\"ContractData\",C2365, \"PerCentNetLastTrade\",, \"T\")/100,\"\")","v":2.4590163934426229E-2},250,250,"S.US.ESXB",2365,"S.US.ACFC"]
[null,null,"S.US.AIQ",{"$f":"IFERROR(RTD(\"cqg.rtd\", ,\"ContractData\",C2366, \"PerCentNetLastTrade\",, \"T\")/100,\"\")","v":6.8027210884353739E-3},923,923,"S.US.AIQ",2366,"S.US.DJCO"]
[null,null,"S.US.CFCOU",{"$f":"IFERROR(RTD(\"cqg.rtd\", ,\"ContractData\",C2367, \"PerCentNetLastTrade\",, \"T\")/100,\"\")","v":-1.3461538461538462E-2},2210,2210,"S.US.CFCOU",2367,"S.US.ENG"]
[null,null,"S.US.PLBC",{"$f":"IFERROR(RTD(\"cqg.rtd\", ,\"ContractData\",C2368, \"PerCentNetLastTrade\",, \"T\")/100,\"\")","v":5.9880239520958079E-3},977,977,"S.US.PLBC",2368,"S.US.GRID"]
[null,null,"S.US.AMNB",{"$f":"IFERROR(RTD(\"cqg.rtd\", ,\"ContractData\",C2369, \"PerCentNetLastTrade\",, \"T\")/100,\"\")","v":1.6025641025641027E-3},1285,1285,"S.US.AMNB",2369,{"$f":"IFERROR(VLOOKUP(H2369,$F$1:$G$2860,2,FALSE),\"\")","v":"S.US.EEFT"}]
[null,null,"S.US.LCNB",{"$f":"IFERROR(RTD(\"cqg.rtd\", ,\"ContractData\",C2370, \"PerCentNetLastTrade\",, \"T\")/100,\"\")","v":3.4063260340632603E-2},143,{"$f":"IFERROR(E2370,\"\")","v":143},"S.US.LCNB",2370,"S.US.CDNA"]
[null,null,"S.US.OTTW",{"$f":"IFERROR(RTD(\"cqg.rtd\", ,\"ContractData\",C2371, \"PerCentNetLastTrade\",, \"T\")/100,\"\")","v":0},1539,1539,{"$f":"C2371","v":"S.US.OTTW"},{"$f":"H2370+1","v":2371},"S.US.MARK"]
[null,null,"S.US.BANX",{"$f":"IFERROR(RTD(\"cqg.rtd\", ,\"ContractData\",C2372, \"PerCentNetLastTrade\",, \"T\")/100,\"\")","v":-6.9185737094199038E-3},1973,1973,"S.US.BANX",2372,"S.US.COUP"]
[null,null,"S.US.PSCI",{"$f":"IFERROR(RTD(\"cqg.rtd\", ,\"ContractData\",C2373, \"PerCentNetLastTrade\",, \"T\")/100,\"\")","v":3.9869517941283072E-3},1115,1115,"S.US.PSCI",2373,"S.US.HA"]
[null,null,"S.US.DXTR",{"$f":"IFERROR(RTD(\"cqg.rtd\", ,\"ContractData\",C2374, \"PerCentNetLastTrade\",, \"T\")/100,\"\")","v":-1.4285714285714285E-2},2235,2235,"S.US.DXTR",2374,"S.US.PRCP"]
[null,null,"S.US.OTEL",{"$f":"IFERROR(RTD(\"cqg.rtd\", ,\"ContractData\",C2375, \"PerCentNetLastTrade\",, \"T\")/100,\"\")","v":3.1746031746031744E-2},165,165,"S.US.OTEL",2375,"S.US.IFON"]
[null,null,"S.US.SELF",{"$f":"IFERROR(RTD(\"cqg.rtd\", ,\"ContractData\",C2376, \"PerCentNetLastTrade\",, \"T\")/100,\"\")","v":1.9960079840319361E-2},358,358,"S.US.SELF",2376,"S.US.RGLD"]
[null,null,"S.US.CVLY",{"$f":"IFERROR(RTD(\"cqg.rtd\", ,\"ContractData\",C2377, \"PerCentNetLastTrade\",, \"T\")/100,\"\")","v":1.3327780091628487E-2},565,565,"S.US.CVLY",2377,"S.US.SGEN"]
[null,null,"S.US.STRT",{"$f":"IFERROR(RTD(\"cqg.rtd\", ,\"ContractData\",C2378, \"PerCentNetLastTrade\",, \"T\")/100,\"\")","v":-8.7500000000000008E-3},2048,2048,"S.US.STRT",2378,"S.US.DEST"]
[null,null,"S.US.TLF",{"$f":"IFERROR(RTD(\"cqg.rtd\", ,\"ContractData\",C2379, \"PerCentNetLastTrade\",, \"T\")/100,\"\")","v":6.6666666666666662E-3},931,931,"S.US.TLF",2379,"S.US.CNET"]
[null,null,"S.US.MTBC",{"$f":"IFERROR(RTD(\"cqg.rtd\", ,\"ContractData\",C2380, \"PerCentNetLastTrade\",, \"T\")/100,\"\")","v":-7.5268817204301078E-2},2549,2549,"S.US.MTBC",2380,"S.US.ORMP"]
[null,null,"S.US.CNCR",{"$f":"IFERROR(RTD(\"cqg.rtd\", ,\"ContractData\",C2381, \"PerCentNetLastTrade\",, \"T\")/100,\"\")","v":-2.1376656690893546E-3},1701,1701,"S.US.CNCR",2381,"S.US.RPD"]
[null,null,"S.US.ULH",{"$f":"IFERROR(RTD(\"cqg.rtd\", ,\"ContractData\",C2382, \"PerCentNetLastTrade\",, \"T\")/100,\"\")","v":7.0671378091872791E-3},902,902,"S.US.ULH",2382,"S.US.AFMD"]
[null,null,"S.US.MESO",{"$f":"IFERROR(RTD(\"cqg.rtd\", ,\"ContractData\",C2383, \"PerCentNetLastTrade\",, \"T\")/100,\"\")","v":2.1598272138228943E-3},1249,1249,"S.US.MESO",2383,"S.US.LMFA"]
[null,null,"S.US.NVEC",{"$f":"IFERROR(RTD(\"cqg.rtd\", ,\"ContractData\",C2384, \"PerCentNetLastTrade\",, \"T\")/100,\"\")","v":0},1540,1540,"S.US.NVEC",2384,"S.US.AQXP"]
[null,null,"S.US.RFDI",{"$f":"IFERROR(RTD(\"cqg.rtd\", ,\"ContractData\",C2385, \"PerCentNetLastTrade\",, \"T\")/100,\"\")","v":-1.9512195121951221E-4},1572,1572,"S.US.RFDI",2385,"S.US.NVGN"]
[null,null,"S.US.CIZ",{"$f":"IFERROR(RTD(\"cqg.rtd\", ,\"ContractData\",C2386, \"PerCentNetLastTrade\",, \"T\")/100,\"\")","v":-2.1104467112205414E-3},1698,1698,"S.US.CIZ",2386,"S.US.CTRV"]
[null,null,"S.US.MLAB",{"$f":"IFERROR(RTD(\"cqg.rtd\", ,\"ContractData\",C2387, \"PerCentNetLastTrade\",, \"T\")/100,\"\")","v":2.1082220660576249E-2},333,333,"S.US.MLAB",2387,"S.US.APPY"]
[null,null,"S.US.VISN",{"$f":"IFERROR(RTD(\"cqg.rtd\", ,\"ContractData\",C2388, \"PerCentNetLastTrade\",, \"T\")/100,\"\")","v":""},{"$error":"#VALUE!"},"","S.US.VISN",2388,"S.US.VICL"]
[null,null,"S.US.MRVC",{"$f":"IFERROR(RTD(\"cqg.rtd\", ,\"ContractData\",C2389, \"PerCentNetLastTrade\",, \"T\")/100,\"\")","v":0},1541,1541,"S.US.MRVC",2389,"S.US.NVDQ"]
[null,null,"S.US.AIXG",{"$f":"IFERROR(RTD(\"cqg.rtd\", ,\"ContractData\",C2390, \"PerCentNetLastTrade\",, \"T\")/100,\"\")","v":2.4752475247524753E-3},1223,1223,"S.US.AIXG",2390,"S.US.VNET"]
[null,null,"S.US.PTSI",{"$f":"IFERROR(RTD(\"cqg.rtd\", ,\"ContractData\",C2391, \"PerCentNetLastTrade\",, \"T\")/100,\"\")","v":8.0096115338406087E-4},1331,1331,"S.US.PTSI",2391,"S.US.MATN"]
[null,null,"S.US.FKU",{"$f":"IFERROR(RTD(\"cqg.rtd\", ,\"ContractData\",C2392, \"PerCentNetLastTrade\",, \"T\")/100,\"\")","v":-1.2480499219968799E-3},1642,1642,"S.US.FKU",2392,"S.US.TNAV"]
[null,null,"S.US.ISIG",{"$f":"IFERROR(RTD(\"cqg.rtd\", ,\"ContractData\",C2393, \"PerCentNetLastTrade\",, \"T\")/100,\"\")","v":7.1090047393364927E-2},36,36,"S.US.ISIG",2393,"S.US.GOLD"]
[null,null,"S.US.CYRN",{"$f":"IFERROR(RTD(\"cqg.rtd\", ,\"ContractData\",C2394, \"PerCentNetLastTrade\",, \"T\")/100,\"\")","v":1.3824884792626729E-2},542,542,"S.US.CYRN",2394,"S.US.CRDS"]
[null,null,"S.US.ESMC",{"$f":"IFERROR(RTD(\"cqg.rtd\", ,\"ContractData\",C2395, \"PerCentNetLastTrade\",, \"T\")/100,\"\")","v":""},{"$error":"#VALUE!"},"","S.US.ESMC",2395,"S.US.PESI"]
[null,null,"S.US.NSYS",{"$f":"IFERROR(RTD(\"cqg.rtd\", ,\"ContractData\",C2396, \"PerCentNetLastTrade\",, \"T\")/100,\"\")","v":""},{"$error":"#VALUE!"},"","S.US.NSYS",2396,"S.US.ZIOP"]
[null,null,"S.US.MOCO",{"$f":"IFERROR(RTD(\"cqg.rtd\", ,\"ContractData\",C2397, \"PerCentNetLastTrade\",, \"T\")/100,\"\")","v":""},{"$error":"#VALUE!"},"","S.US.MOCO",2397,"S.US.MRUS"]
[null,null,"S.US.RMCF",{"$f":"IFERROR(RTD(\"cqg.rtd\", ,\"ContractData\",C2398, \"PerCentNetLastTrade\",, \"T\")/100,\"\")","v":-3.9215686274509803E-3},1822,1822,"S.US.RMCF",2398,"S.US.GWPH"]
[null,null,"S.US.GSOL",{"$f":"IFERROR(RTD(\"cqg.rtd\", ,\"ContractData\",C2399, \"PerCentNetLastTrade\",, \"T\")/100,\"\")","v":0},1542,1542,"S.US.GSOL",2399,"S.US.ITUS"]
[null,null,"S.US.VTWG",{"$f":"IFERROR(RTD(\"cqg.rtd\", ,\"ContractData\",C2400, \"PerCentNetLastTrade\",, \"T\")/100,\"\")","v":-3.7553648068669528E-3},1809,1809,"S.US.VTWG",2400,"S.US.SHLO"]
[null,null,"S.US.TSRI",{"$f":"IFERROR(RTD(\"cqg.rtd\", ,\"ContractData\",C2401, \"PerCentNetLastTrade\",, \"T\")/100,\"\")","v":""},{"$error":"#VALUE!"},"","S.US.TSRI",2401,"S.US.SCYX"]
[null,null,"S.US.NRCIA",{"$f":"IFERROR(RTD(\"cqg.rtd\", ,\"ContractData\",C2402, \"PerCentNetLastTrade\",, \"T\")/100,\"\")","v":6.2695924764890288E-3},950,950,"S.US.NRCIA",2402,"S.US.FUEL"]
[null,null,"S.US.GIGM",{"$f":"IFERROR(RTD(\"cqg.rtd\", ,\"ContractData\",C2403, \"PerCentNetLastTrade\",, \"T\")/100,\"\")","v":0},1543,1543,"S.US.GIGM",2403,"S.US.OMEX"]
[null,null,"S.US.EMCG",{"$f":"IFERROR(RTD(\"cqg.rtd\", ,\"ContractData\",C2404, \"PerCentNetLastTrade\",, \"T\")/100,\"\")","v":-2.9126213592233006E-3},1746,1746,"S.US.EMCG",2404,"S.US.CTRE"]
[null,null,"S.US.NYNY",{"$f":"IFERROR(RTD(\"cqg.rtd\", ,\"ContractData\",C2405, \"PerCentNetLastTrade\",, \"T\")/100,\"\")","v":1.1655011655011656E-2},638,638,"S.US.NYNY",2405,"S.US.VSTM"]
[null,null,"S.US.VTWV",{"$f":"IFERROR(RTD(\"cqg.rtd\", ,\"ContractData\",C2406, \"PerCentNetLastTrade\",, \"T\")/100,\"\")","v":5.8238778993874888E-3},991,991,"S.US.VTWV",2406,"S.US.CETC"]
[null,null,"S.US.EDGW",{"$f":"IFERROR(RTD(\"cqg.rtd\", ,\"ContractData\",C2407, \"PerCentNetLastTrade\",, \"T\")/100,\"\")","v":2.643171806167401E-2},225,225,"S.US.EDGW",2407,"S.US.FMBH"]
[null,null,"S.US.USLB",{"$f":"IFERROR(RTD(\"cqg.rtd\", ,\"ContractData\",C2408, \"PerCentNetLastTrade\",, \"T\")/100,\"\")","v":""},{"$error":"#VALUE!"},"","S.US.USLB",2408,"S.US.KMDA"]
[null,null,"S.US.PDEX",{"$f":"IFERROR(RTD(\"cqg.rtd\", ,\"ContractData\",C2409, \"PerCentNetLastTrade\",, \"T\")/100,\"\")","v":2.1176470588235293E-2},331,331,"S.US.PDEX",2409,"S.US.CLCD"]
[null,null,"S.US.HBCP",{"$f":"IFERROR(RTD(\"cqg.rtd\", ,\"ContractData\",C2410, \"PerCentNetLastTrade\",, \"T\")/100,\"\")","v":9.2289371836856201E-3},779,779,"S.US.HBCP",2410,"S.US.PSAU"]
[null,null,"S.US.FLAT",{"$f":"IFERROR(RTD(\"cqg.rtd\", ,\"ContractData\",C2411, \"PerCentNetLastTrade\",, \"T\")/100,\"\")","v":-2.6800670016750416E-3},1731,1731,"S.US.FLAT",2411,"S.US.FLXN"]
[null,null,"S.US.FWP",{"$f":"IFERROR(RTD(\"cqg.rtd\", ,\"ContractData\",C2412, \"PerCentNetLastTrade\",, \"T\")/100,\"\")","v":""},{"$error":"#VALUE!"},"","S.US.FWP",2412,"S.US.KGJI"]
[null,null,"S.US.TESS",{"$f":"IFERROR(RTD(\"cqg.rtd\", ,\"ContractData\",C2413, \"PerCentNetLastTrade\",, \"T\")/100,\"\")","v":1.5833333333333331E-2},463,463,"S.US.TESS",2413,"S.US.JUNO"]
[null,null,"S.US.CLWT",{"$f":"IFERROR(RTD(\"cqg.rtd\", ,\"ContractData\",C2414, \"PerCentNetLastTrade\",, \"T\")/100,\"\")","v":""},{"$error":"#VALUE!"},"","S.US.CLWT",2414,"S.US.CLSN"]
[null,null,"S.US.ASRV",{"$f":"IFERROR(RTD(\"cqg.rtd\", ,\"ContractData\",C2415, \"PerCentNetLastTrade\",, \"T\")/100,\"\")","v":1.408450704225352E-2},533,533,"S.US.ASRV",2415,"S.US.MANT"]
[null,null,"S.US.LDRI",{"$f":"IFERROR(RTD(\"cqg.rtd\", ,\"ContractData\",C2416, \"PerCentNetLastTrade\",, \"T\")/100,\"\")","v":-2.0024028834601522E-3},1694,1694,"S.US.LDRI",2416,"S.US.SNH"]
[null,null,"S.US.ONVI",{"$f":"IFERROR(RTD(\"cqg.rtd\", ,\"ContractData\",C2417, \"PerCentNetLastTrade\",, \"T\")/100,\"\")","v":""},{"$error":"#VALUE!"},"","S.US.ONVI",2417,"S.US.ABAX"]
[null,null,"S.US.ATLO",{"$f":"IFERROR(RTD(\"cqg.rtd\", ,\"ContractData\",C2418, \"PerCentNetLastTrade\",, \"T\")/100,\"\")","v":2.037351443123939E-2},351,351,"S.US.ATLO",2418,"S.US.MTSL"]
[null,null,"S.US.EAGL",{"$f":"IFERROR(RTD(\"cqg.rtd\", ,\"ContractData\",C2419, \"PerCentNetLastTrade\",, \"T\")/100,\"\")","v":""},{"$error":"#VALUE!"},"","S.US.EAGL",2419,"S.US.SRPT"]
[null,null,"S.US.MSLI",{"$f":"IFERROR(RTD(\"cqg.rtd\", ,\"ContractData\",C2420, \"PerCentNetLastTrade\",, \"T\")/100,\"\")","v":-1.0526315789473684E-2},2120,2120,"S.US.MSLI",2420,"S.US.WDFC"]
[null,null,"S.US.ELTK",{"$f":"IFERROR(RTD(\"cqg.rtd\", ,\"ContractData\",C2421, \"PerCentNetLastTrade\",, \"T\")/100,\"\")","v":""},{"$error":"#VALUE!"},"","S.US.ELTK",2421,"S.US.WVE"]
[null,null,"S.US.CHSCP",{"$f":"IFERROR(RTD(\"cqg.rtd\", ,\"ContractData\",C2422, \"PerCentNetLastTrade\",, \"T\")/100,\"\")","v":-7.3412065113309917E-3},1997,1997,"S.US.CHSCP",2422,"S.US.GOOD"]
[null,null,"S.US.NNDM",{"$f":"IFERROR(RTD(\"cqg.rtd\", ,\"ContractData\",C2423, \"PerCentNetLastTrade\",, \"T\")/100,\"\")","v":""},{"$error":"#VALUE!"},"","S.US.NNDM",2423,"S.US.MOSY"]
[null,null,"S.US.JNP",{"$f":"IFERROR(RTD(\"cqg.rtd\", ,\"ContractData\",C2424, \"PerCentNetLastTrade\",, \"T\")/100,\"\")","v":0},1544,1544,"S.US.JNP",2424,"S.US.CASI"]
[null,null,"S.US.OFLX",{"$f":"IFERROR(RTD(\"cqg.rtd\", ,\"ContractData\",C2425, \"PerCentNetLastTrade\",, \"T\")/100,\"\")","v":3.3185840707964601E-3},1159,1159,"S.US.OFLX",2425,"S.US.RARE"]
[null,null,"S.US.AMOV",{"$f":"IFERROR(RTD(\"cqg.rtd\", ,\"ContractData\",C2426, \"PerCentNetLastTrade\",, \"T\")/100,\"\")","v":2.147766323024055E-2},322,322,"S.US.AMOV",2426,"S.US.BL"]
[null,null,"S.US.DVCR",{"$f":"IFERROR(RTD(\"cqg.rtd\", ,\"ContractData\",C2427, \"PerCentNetLastTrade\",, \"T\")/100,\"\")","v":0},1545,1545,"S.US.DVCR",2427,"S.US.BABY"]
[null,null,"S.US.FPXI",{"$f":"IFERROR(RTD(\"cqg.rtd\", ,\"ContractData\",C2428, \"PerCentNetLastTrade\",, \"T\")/100,\"\")","v":0},1546,1546,"S.US.FPXI",2428,"S.US.SCMP"]
[null,null,"S.US.RIBT",{"$f":"IFERROR(RTD(\"cqg.rtd\", ,\"ContractData\",C2429, \"PerCentNetLastTrade\",, \"T\")/100,\"\")","v":2.197802197802198E-2},307,307,"S.US.RIBT",2429,"S.US.MPET"]
[null,null,"S.US.SIEB",{"$f":"IFERROR(RTD(\"cqg.rtd\", ,\"ContractData\",C2430, \"PerCentNetLastTrade\",, \"T\")/100,\"\")","v":""},{"$error":"#VALUE!"},"","S.US.SIEB",2430,"S.US.NTEC"]
[null,null,"S.US.BCBP",{"$f":"IFERROR(RTD(\"cqg.rtd\", ,\"ContractData\",C2431, \"PerCentNetLastTrade\",, \"T\")/100,\"\")","v":1.2448132780082988E-2},601,601,"S.US.BCBP",2431,"S.US.TEAM"]
[null,null,"S.US.PBIP",{"$f":"IFERROR(RTD(\"cqg.rtd\", ,\"ContractData\",C2432, \"PerCentNetLastTrade\",, \"T\")/100,\"\")","v":2.0278833967046897E-2},353,353,"S.US.PBIP",2432,"S.US.TTPH"]
[null,null,"S.US.MDSY",{"$f":"IFERROR(RTD(\"cqg.rtd\", ,\"ContractData\",C2433, \"PerCentNetLastTrade\",, \"T\")/100,\"\")","v":0.13761467889908258},8,8,"S.US.MDSY",2433,{"$f":"IFERROR(VLOOKUP(H2433,$F$1:$G$2860,2,FALSE),\"\")","v":"S.US.AXSM"}]
[null,null,"S.US.CFFI",{"$f":"IFERROR(RTD(\"cqg.rtd\", ,\"ContractData\",C2434, \"PerCentNetLastTrade\",, \"T\")/100,\"\")","v":2.2222222222222223E-2},303,{"$f":"IFERROR(E2434,\"\")","v":303},"S.US.CFFI",2434,"S.US.UGLD"]
[null,null,"S.US.SBPH",{"$f":"IFERROR(RTD(\"cqg.rtd\", ,\"ContractData\",C2435, \"PerCentNetLastTrade\",, \"T\")/100,\"\")","v":-3.5151515151515149E-2},2471,2471,{"$f":"C2435","v":"S.US.SBPH"},{"$f":"H2434+1","v":2435},"S.US.MOMO"]
[null,null,"S.US.CPHR",{"$f":"IFERROR(RTD(\"cqg.rtd\", ,\"ContractData\",C2436, \"PerCentNetLastTrade\",, \"T\")/100,\"\")","v":1.4184397163120567E-2},528,528,"S.US.CPHR",2436,"S.US.CONE"]
[null,null,"S.US.HURC",{"$f":"IFERROR(RTD(\"cqg.rtd\", ,\"ContractData\",C2437, \"PerCentNetLastTrade\",, \"T\")/100,\"\")","v":2.1705426356589147E-2},315,315,"S.US.HURC",2437,"S.US.AIMT"]
[null,null,"S.US.GILT",{"$f":"IFERROR(RTD(\"cqg.rtd\", ,\"ContractData\",C2438, \"PerCentNetLastTrade\",, \"T\")/100,\"\")","v":-2.0876826722338203E-3},1697,1697,"S.US.GILT",2438,"S.US.URRE"]
[null,null,"S.US.PIH",{"$f":"IFERROR(RTD(\"cqg.rtd\", ,\"ContractData\",C2439, \"PerCentNetLastTrade\",, \"T\")/100,\"\")","v":""},{"$error":"#VALUE!"},"","S.US.PIH",2439,"S.US.SWHC"]
[null,null,"S.US.ATAI",{"$f":"IFERROR(RTD(\"cqg.rtd\", ,\"ContractData\",C2440, \"PerCentNetLastTrade\",, \"T\")/100,\"\")","v":-1.7156862745098037E-2},2300,2300,"S.US.ATAI",2440,"S.US.CENTA"]
[null,null,"S.US.MTSL",{"$f":"IFERROR(RTD(\"cqg.rtd\", ,\"ContractData\",C2441, \"PerCentNetLastTrade\",, \"T\")/100,\"\")","v":-2.7027027027027025E-2},2418,2418,"S.US.MTSL",2441,"S.US.GEVO"]
[null,null,"S.US.GULF",{"$f":"IFERROR(RTD(\"cqg.rtd\", ,\"ContractData\",C2442, \"PerCentNetLastTrade\",, \"T\")/100,\"\")","v":3.6601307189542485E-2},125,125,"S.US.GULF",2442,"S.US.CENT"]
[null,null,"S.US.SNFCA",{"$f":"IFERROR(RTD(\"cqg.rtd\", ,\"ContractData\",C2443, \"PerCentNetLastTrade\",, \"T\")/100,\"\")","v":-1.2500000000000001E-2},2186,2186,"S.US.SNFCA",2443,"S.US.PDLI"]
[null,null,"S.US.HNNA",{"$f":"IFERROR(RTD(\"cqg.rtd\", ,\"ContractData\",C2444, \"PerCentNetLastTrade\",, \"T\")/100,\"\")","v":""},{"$error":"#VALUE!"},"","S.US.HNNA",2444,"S.US.XRDC"]
[null,null,"S.US.SFST",{"$f":"IFERROR(RTD(\"cqg.rtd\", ,\"ContractData\",C2445, \"PerCentNetLastTrade\",, \"T\")/100,\"\")","v":7.9113924050632917E-3},852,852,"S.US.SFST",2445,"S.US.MELI"]
[null,null,"S.US.MAMS",{"$f":"IFERROR(RTD(\"cqg.rtd\", ,\"ContractData\",C2446, \"PerCentNetLastTrade\",, \"T\")/100,\"\")","v":""},{"$error":"#VALUE!"},"","S.US.MAMS",2446,"S.US.AVEO"]
[null,null,"S.US.DGAS",{"$f":"IFERROR(RTD(\"cqg.rtd\", ,\"ContractData\",C2447, \"PerCentNetLastTrade\",, \"T\")/100,\"\")","v":-1.1450381679389313E-3},1634,1634,"S.US.DGAS",2447,"S.US.CMLS"]
[null,null,"S.US.STRS",{"$f":"IFERROR(RTD(\"cqg.rtd\", ,\"ContractData\",C2448, \"PerCentNetLastTrade\",, \"T\")/100,\"\")","v":-1.1608623548922057E-2},2160,2160,"S.US.STRS",2448,"S.US.RDCM"]
[null,null,"S.US.BWFG",{"$f":"IFERROR(RTD(\"cqg.rtd\", ,\"ContractData\",C2449, \"PerCentNetLastTrade\",, \"T\")/100,\"\")","v":1.2534818941504178E-2},596,596,"S.US.BWFG",2449,"S.US.QTNA"]
[null,null,"S.US.HIHO",{"$f":"IFERROR(RTD(\"cqg.rtd\", ,\"ContractData\",C2450, \"PerCentNetLastTrade\",, \"T\")/100,\"\")","v":1.408450704225352E-2},534,534,"S.US.HIHO",2450,"S.US.CGIX"]
[null,null,"S.US.TWMC",{"$f":"IFERROR(RTD(\"cqg.rtd\", ,\"ContractData\",C2451, \"PerCentNetLastTrade\",, \"T\")/100,\"\")","v":0},1547,1547,"S.US.TWMC",2451,"S.US.INSY"]
[null,null,"S.US.GWGH",{"$f":"IFERROR(RTD(\"cqg.rtd\", ,\"ContractData\",C2452, \"PerCentNetLastTrade\",, \"T\")/100,\"\")","v":""},{"$error":"#VALUE!"},"","S.US.GWGH",2452,"S.US.MIRN"]
[null,null,"S.US.SBCP",{"$f":"IFERROR(RTD(\"cqg.rtd\", ,\"ContractData\",C2453, \"PerCentNetLastTrade\",, \"T\")/100,\"\")","v":""},{"$error":"#VALUE!"},"","S.US.SBCP",2453,"S.US.SUPN"]
[null,null,"S.US.DLHC",{"$f":"IFERROR(RTD(\"cqg.rtd\", ,\"ContractData\",C2454, \"PerCentNetLastTrade\",, \"T\")/100,\"\")","v":""},{"$error":"#VALUE!"},"","S.US.DLHC",2454,"S.US.DVAX"]
[null,null,"S.US.BASI",{"$f":"IFERROR(RTD(\"cqg.rtd\", ,\"ContractData\",C2455, \"PerCentNetLastTrade\",, \"T\")/100,\"\")","v":0},1548,1548,"S.US.BASI",2455,"S.US.TYHT"]
[null,null,"S.US.ADRD",{"$f":"IFERROR(RTD(\"cqg.rtd\", ,\"ContractData\",C2456, \"PerCentNetLastTrade\",, \"T\")/100,\"\")","v":6.2079668908432487E-3},956,956,"S.US.ADRD",2456,"S.US.CLRB"]
[null,null,"S.US.FJP",{"$f":"IFERROR(RTD(\"cqg.rtd\", ,\"ContractData\",C2457, \"PerCentNetLastTrade\",, \"T\")/100,\"\")","v":-1.0447137484329294E-3},1629,1629,"S.US.FJP",2457,"S.US.AHPI"]
[null,null,"S.US.KTEC",{"$f":"IFERROR(RTD(\"cqg.rtd\", ,\"ContractData\",C2458, \"PerCentNetLastTrade\",, \"T\")/100,\"\")","v":1.8213356461405029E-2},399,399,"S.US.KTEC",2458,"S.US.TOUR"]
[null,null,"S.US.DLBS",{"$f":"IFERROR(RTD(\"cqg.rtd\", ,\"ContractData\",C2459, \"PerCentNetLastTrade\",, \"T\")/100,\"\")","v":4.2372881355932208E-2},88,88,"S.US.DLBS",2459,"S.US.DSWL"]
[null,null,"S.US.SSBI",{"$f":"IFERROR(RTD(\"cqg.rtd\", ,\"ContractData\",C2460, \"PerCentNetLastTrade\",, \"T\")/100,\"\")","v":""},{"$error":"#VALUE!"},"","S.US.SSBI",2460,"S.US.YY"]
[null,null,"S.US.SMBC",{"$f":"IFERROR(RTD(\"cqg.rtd\", ,\"ContractData\",C2461, \"PerCentNetLastTrade\",, \"T\")/100,\"\")","v":1.3995801259622114E-2},535,535,"S.US.SMBC",2461,"S.US.INVT"]
[null,null,"S.US.NKSH",{"$f":"IFERROR(RTD(\"cqg.rtd\", ,\"ContractData\",C2462, \"PerCentNetLastTrade\",, \"T\")/100,\"\")","v":1.8181818181818181E-2},403,403,"S.US.NKSH",2462,"S.US.NCLH"]
[null,null,"S.US.DNBF",{"$f":"IFERROR(RTD(\"cqg.rtd\", ,\"ContractData\",C2463, \"PerCentNetLastTrade\",, \"T\")/100,\"\")","v":""},{"$error":"#VALUE!"},"","S.US.DNBF",2463,"S.US.BVXV"]
[null,null,"S.US.IFEU",{"$f":"IFERROR(RTD(\"cqg.rtd\", ,\"ContractData\",C2464, \"PerCentNetLastTrade\",, \"T\")/100,\"\")","v":-7.1295722256664593E-3},1982,1982,"S.US.IFEU",2464,"S.US.ATEC"]
[null,null,"S.US.KLRE",{"$f":"IFERROR(RTD(\"cqg.rtd\", ,\"ContractData\",C2465, \"PerCentNetLastTrade\",, \"T\")/100,\"\")","v":""},{"$error":"#VALUE!"},"","S.US.KLRE",2465,"S.US.CLDC"]
[null,null,"S.US.DTRM",{"$f":"IFERROR(RTD(\"cqg.rtd\", ,\"ContractData\",C2466, \"PerCentNetLastTrade\",, \"T\")/100,\"\")","v":5.3475935828877004E-2},56,56,"S.US.DTRM",2466,"S.US.ARRY"]
[null,null,"S.US.PFIN",{"$f":"IFERROR(RTD(\"cqg.rtd\", ,\"ContractData\",C2467, \"PerCentNetLastTrade\",, \"T\")/100,\"\")","v":1.2406947890818859E-3},1305,1305,"S.US.PFIN",2467,"S.US.TVIA"]
[null,null,"S.US.TCBIP",{"$f":"IFERROR(RTD(\"cqg.rtd\", ,\"ContractData\",C2468, \"PerCentNetLastTrade\",, \"T\")/100,\"\")","v":-3.9541320680110717E-4},1586,1586,"S.US.TCBIP",2468,"S.US.ROIA"]
[null,null,"S.US.IEUS",{"$f":"IFERROR(RTD(\"cqg.rtd\", ,\"ContractData\",C2469, \"PerCentNetLastTrade\",, \"T\")/100,\"\")","v":""},{"$error":"#VALUE!"},"","S.US.IEUS",2469,"S.US.MB"]
[null,null,"S.US.KMDA",{"$f":"IFERROR(RTD(\"cqg.rtd\", ,\"ContractData\",C2470, \"PerCentNetLastTrade\",, \"T\")/100,\"\")","v":-2.6086956521739132E-2},2408,2408,"S.US.KMDA",2470,"S.US.OPGN"]
[null,null,"S.US.NVET",{"$f":"IFERROR(RTD(\"cqg.rtd\", ,\"ContractData\",C2471, \"PerCentNetLastTrade\",, \"T\")/100,\"\")","v":-8.7378640776699032E-2},2553,2553,"S.US.NVET",2471,"S.US.SBPH"]
[null,null,"S.US.AZRX",{"$f":"IFERROR(RTD(\"cqg.rtd\", ,\"ContractData\",C2472, \"PerCentNetLastTrade\",, \"T\")/100,\"\")","v":3.4912718204488782E-2},137,137,"S.US.AZRX",2472,"S.US.VBLT"]
[null,null,"S.US.CADC",{"$f":"IFERROR(RTD(\"cqg.rtd\", ,\"ContractData\",C2473, \"PerCentNetLastTrade\",, \"T\")/100,\"\")","v":4.2553191489361703E-3},1096,1096,"S.US.CADC",2473,"S.US.CUR"]
[null,null,"S.US.IPKW",{"$f":"IFERROR(RTD(\"cqg.rtd\", ,\"ContractData\",C2474, \"PerCentNetLastTrade\",, \"T\")/100,\"\")","v":-3.580379520229144E-4},1581,1581,"S.US.IPKW",2474,"S.US.MBOT"]
[null,null,"S.US.WILC",{"$f":"IFERROR(RTD(\"cqg.rtd\", ,\"ContractData\",C2475, \"PerCentNetLastTrade\",, \"T\")/100,\"\")","v":0},1549,1549,"S.US.WILC",2475,"S.US.SPHS"]
[null,null,"S.US.ZXZZT",{"$f":"IFERROR(RTD(\"cqg.rtd\", ,\"ContractData\",C2476, \"PerCentNetLastTrade\",, \"T\")/100,\"\")","v":""},{"$error":"#VALUE!"},"","S.US.ZXZZT",2476,"S.US.CBSH"]
[null,null,"S.US.NWLI",{"$f":"IFERROR(RTD(\"cqg.rtd\", ,\"ContractData\",C2477, \"PerCentNetLastTrade\",, \"T\")/100,\"\")","v":1.5014554925693273E-2},496,496,"S.US.NWLI",2477,"S.US.CATB"]
[null,null,"S.US.IZEA",{"$f":"IFERROR(RTD(\"cqg.rtd\", ,\"ContractData\",C2478, \"PerCentNetLastTrade\",, \"T\")/100,\"\")","v":-1.0638297872340425E-2},2125,2125,"S.US.IZEA",2478,"S.US.FH"]
[null,null,"S.US.KOSS",{"$f":"IFERROR(RTD(\"cqg.rtd\", ,\"ContractData\",C2479, \"PerCentNetLastTrade\",, \"T\")/100,\"\")","v":8.5106382978723406E-3},823,823,"S.US.KOSS",2479,"S.US.KONE"]
[null,null,"S.US.FAB",{"$f":"IFERROR(RTD(\"cqg.rtd\", ,\"ContractData\",C2480, \"PerCentNetLastTrade\",, \"T\")/100,\"\")","v":6.0888979094783843E-3},965,965,"S.US.FAB",2480,"S.US.IDTI"]
[null,null,"S.US.PNTR",{"$f":"IFERROR(RTD(\"cqg.rtd\", ,\"ContractData\",C2481, \"PerCentNetLastTrade\",, \"T\")/100,\"\")","v":""},{"$error":"#VALUE!"},"","S.US.PNTR",2481,"S.US.IDSA"]
[null,null,"S.US.ACNB",{"$f":"IFERROR(RTD(\"cqg.rtd\", ,\"ContractData\",C2482, \"PerCentNetLastTrade\",, \"T\")/100,\"\")","v":-6.3593004769475362E-3},1946,1946,"S.US.ACNB",2482,"S.US.IDSY"]
[null,null,"S.US.MFRI",{"$f":"IFERROR(RTD(\"cqg.rtd\", ,\"ContractData\",C2483, \"PerCentNetLastTrade\",, \"T\")/100,\"\")","v":0},1550,1550,"S.US.MFRI",2483,"S.US.LIVE"]
[null,null,"S.US.FTXG",{"$f":"IFERROR(RTD(\"cqg.rtd\", ,\"ContractData\",C2484, \"PerCentNetLastTrade\",, \"T\")/100,\"\")","v":""},{"$error":"#VALUE!"},"","S.US.FTXG",2484,"S.US.EBIO"]
[null,null,"S.US.ACFC",{"$f":"IFERROR(RTD(\"cqg.rtd\", ,\"ContractData\",C2485, \"PerCentNetLastTrade\",, \"T\")/100,\"\")","v":-2.1276595744680851E-2},2365,2365,"S.US.ACFC",2485,"S.US.OPXA"]
[null,null,"S.US.PWOD",{"$f":"IFERROR(RTD(\"cqg.rtd\", ,\"ContractData\",C2486, \"PerCentNetLastTrade\",, \"T\")/100,\"\")","v":4.9403046521202141E-3},1049,1049,"S.US.PWOD",2486,"S.US.GMAN"]
[null,null,"S.US.PPSI",{"$f":"IFERROR(RTD(\"cqg.rtd\", ,\"ContractData\",C2487, \"PerCentNetLastTrade\",, \"T\")/100,\"\")","v":""},{"$error":"#VALUE!"},"","S.US.PPSI",2487,"S.US.AGEN"]
[null,null,"S.US.RNDB",{"$f":"IFERROR(RTD(\"cqg.rtd\", ,\"ContractData\",C2488, \"PerCentNetLastTrade\",, \"T\")/100,\"\")","v":4.6948356807511738E-3},1068,1068,"S.US.RNDB",2488,"S.US.COOL"]
[null,null,"S.US.SBSA",{"$f":"IFERROR(RTD(\"cqg.rtd\", ,\"ContractData\",C2489, \"PerCentNetLastTrade\",, \"T\")/100,\"\")","v":-1.2345679012345678E-2},2179,2179,"S.US.SBSA",2489,"S.US.FEIM"]
[null,null,"S.US.EMITF",{"$f":"IFERROR(RTD(\"cqg.rtd\", ,\"ContractData\",C2490, \"PerCentNetLastTrade\",, \"T\")/100,\"\")","v":1.1730205278592375E-2},636,636,"S.US.EMITF",2490,"S.US.ACUR"]
[null,null,"S.US.PSCU",{"$f":"IFERROR(RTD(\"cqg.rtd\", ,\"ContractData\",C2491, \"PerCentNetLastTrade\",, \"T\")/100,\"\")","v":-9.2184368737474945E-3},2068,2068,"S.US.PSCU",2491,"S.US.QTNT"]
[null,null,"S.US.CBFV",{"$f":"IFERROR(RTD(\"cqg.rtd\", ,\"ContractData\",C2492, \"PerCentNetLastTrade\",, \"T\")/100,\"\")","v":""},{"$error":"#VALUE!"},"","S.US.CBFV",2492,"S.US.ABEO"]
[null,null,"S.US.CNFR",{"$f":"IFERROR(RTD(\"cqg.rtd\", ,\"ContractData\",C2493, \"PerCentNetLastTrade\",, \"T\")/100,\"\")","v":""},{"$error":"#VALUE!"},"","S.US.CNFR",2493,"S.US.EVBG"]
[null,null,"S.US.BUR",{"$f":"IFERROR(RTD(\"cqg.rtd\", ,\"ContractData\",C2494, \"PerCentNetLastTrade\",, \"T\")/100,\"\")","v":5.154639175257731E-3},1036,1036,"S.US.BUR",2494,"S.US.NTNX"]
[null,null,"S.US.UBFO",{"$f":"IFERROR(RTD(\"cqg.rtd\", ,\"ContractData\",C2495, \"PerCentNetLastTrade\",, \"T\")/100,\"\")","v":7.6923076923076927E-3},865,865,"S.US.UBFO",2495,"S.US.SKLN"]
[null,null,"S.US.BNTC",{"$f":"IFERROR(RTD(\"cqg.rtd\", ,\"ContractData\",C2496, \"PerCentNetLastTrade\",, \"T\")/100,\"\")","v":-9.2105263157894746E-2},2557,2557,"S.US.BNTC",2496,"S.US.ORPN"]
[null,null,"S.US.NATH",{"$f":"IFERROR(RTD(\"cqg.rtd\", ,\"ContractData\",C2497, \"PerCentNetLastTrade\",, \"T\")/100,\"\")","v":2.7419354838709675E-2},210,210,"S.US.NATH",2497,{"$f":"IFERROR(VLOOKUP(H2497,$F$1:$G$2860,2,FALSE),\"\")","v":"S.US.RLJE"}]
[null,null,"S.US.HNH",{"$f":"IFERROR(RTD(\"cqg.rtd\", ,\"ContractData\",C2498, \"PerCentNetLastTrade\",, \"T\")/100,\"\")","v":-4.3478260869565218E-3},1849,{"$f":"IFERROR(E2498,\"\")","v":1849},"S.US.HNH",2498,"S.US.PFBI"]
[null,null,"S.US.QINC",{"$f":"IFERROR(RTD(\"cqg.rtd\", ,\"ContractData\",C2499, \"PerCentNetLastTrade\",, \"T\")/100,\"\")","v":""},{"$error":"#VALUE!"},"",{"$f":"C2499","v":"S.US.QINC"},{"$f":"H2498+1","v":2499},"S.US.REPH"]
[null,null,"S.US.BCTF",{"$f":"IFERROR(RTD(\"cqg.rtd\", ,\"ContractData\",C2500, \"PerCentNetLastTrade\",, \"T\")/100,\"\")","v":0},1551,1551,"S.US.BCTF",2500,"S.US.CRBP"]
[null,null,"S.US.WSTG",{"$f":"IFERROR(RTD(\"cqg.rtd\", ,\"ContractData\",C2501, \"PerCentNetLastTrade\",, \"T\")/100,\"\")","v":2.8818443804034585E-3},1192,1192,"S.US.WSTG",2501,"S.US.GALE"]
[null,null,"S.US.MFSF",{"$f":"IFERROR(RTD(\"cqg.rtd\", ,\"ContractData\",C2502, \"PerCentNetLastTrade\",, \"T\")/100,\"\")","v":1.0101010101010102E-2},716,716,"S.US.MFSF",2502,"S.US.OCC"]
[null,null,"S.US.MMAC",{"$f":"IFERROR(RTD(\"cqg.rtd\", ,\"ContractData\",C2503, \"PerCentNetLastTrade\",, \"T\")/100,\"\")","v":-1.1204481792717087E-2},2145,2145,"S.US.MMAC",2503,"S.US.SKYS"]
[null,null,"S.US.CPSH",{"$f":"IFERROR(RTD(\"cqg.rtd\", ,\"ContractData\",C2504, \"PerCentNetLastTrade\",, \"T\")/100,\"\")","v":7.7519379844961248E-3},861,861,"S.US.CPSH",2504,"S.US.TKAI"]
[null,null,"S.US.CLBH",{"$f":"IFERROR(RTD(\"cqg.rtd\", ,\"ContractData\",C2505, \"PerCentNetLastTrade\",, \"T\")/100,\"\")","v":8.3333333333333332E-3},831,831,"S.US.CLBH",2505,"S.US.FMI"]
[null,null,"S.US.PRPH",{"$f":"IFERROR(RTD(\"cqg.rtd\", ,\"ContractData\",C2506, \"PerCentNetLastTrade\",, \"T\")/100,\"\")","v":""},{"$error":"#VALUE!"},"","S.US.PRPH",2506,"S.US.CRTN"]
[null,null,"S.US.ICBK",{"$f":"IFERROR(RTD(\"cqg.rtd\", ,\"ContractData\",C2507, \"PerCentNetLastTrade\",, \"T\")/100,\"\")","v":4.5961624274877287E-2},74,74,"S.US.ICBK",2507,"S.US.BELFA"]
[null,null,"S.US.FRPH",{"$f":"IFERROR(RTD(\"cqg.rtd\", ,\"ContractData\",C2508, \"PerCentNetLastTrade\",, \"T\")/100,\"\")","v":6.4766839378238338E-3},938,938,"S.US.FRPH",2508,"S.US.OPHT"]
[null,null,"S.US.VTHR",{"$f":"IFERROR(RTD(\"cqg.rtd\", ,\"ContractData\",C2509, \"PerCentNetLastTrade\",, \"T\")/100,\"\")","v":0},1552,1552,"S.US.VTHR",2509,"S.US.MSDI"]
[null,null,"S.US.FCCO",{"$f":"IFERROR(RTD(\"cqg.rtd\", ,\"ContractData\",C2510, \"PerCentNetLastTrade\",, \"T\")/100,\"\")","v":3.1250000000000002E-3},1174,1174,"S.US.FCCO",2510,"S.US.CORI"]
[null,null,"S.US.WCFB",{"$f":"IFERROR(RTD(\"cqg.rtd\", ,\"ContractData\",C2511, \"PerCentNetLastTrade\",, \"T\")/100,\"\")","v":2.1953896816684962E-3},1246,1246,"S.US.WCFB",2511,"S.US.EPIX"]
[null,null,"S.US.SGMA",{"$f":"IFERROR(RTD(\"cqg.rtd\", ,\"ContractData\",C2512, \"PerCentNetLastTrade\",, \"T\")/100,\"\")","v":3.8684719535783361E-3},1123,1123,"S.US.SGMA",2512,"S.US.DXCM"]
[null,null,"S.US.PSCD",{"$f":"IFERROR(RTD(\"cqg.rtd\", ,\"ContractData\",C2513, \"PerCentNetLastTrade\",, \"T\")/100,\"\")","v":1.152073732718894E-3},1315,1315,"S.US.PSCD",2513,"S.US.TAIT"]
[null,null,"S.US.CWBC",{"$f":"IFERROR(RTD(\"cqg.rtd\", ,\"ContractData\",C2514, \"PerCentNetLastTrade\",, \"T\")/100,\"\")","v":""},{"$error":"#VALUE!"},"","S.US.CWBC",2514,"S.US.SLCT"]
[null,null,"S.US.DXPS",{"$f":"IFERROR(RTD(\"cqg.rtd\", ,\"ContractData\",C2515, \"PerCentNetLastTrade\",, \"T\")/100,\"\")","v":""},{"$error":"#VALUE!"},"","S.US.DXPS",2515,"S.US.TNXP"]
[null,null,"S.US.CBAN",{"$f":"IFERROR(RTD(\"cqg.rtd\", ,\"ContractData\",C2516, \"PerCentNetLastTrade\",, \"T\")/100,\"\")","v":-1.7825311942959001E-3},1676,1676,"S.US.CBAN",2516,"S.US.BVSN"]
[null,null,"S.US.USLM",{"$f":"IFERROR(RTD(\"cqg.rtd\", ,\"ContractData\",C2517, \"PerCentNetLastTrade\",, \"T\")/100,\"\")","v":4.5298558682223752E-3},1081,1081,"S.US.USLM",2517,"S.US.TNDM"]
[null,null,"S.US.FPA",{"$f":"IFERROR(RTD(\"cqg.rtd\", ,\"ContractData\",C2518, \"PerCentNetLastTrade\",, \"T\")/100,\"\")","v":-3.9539899352983464E-3},1823,1823,"S.US.FPA",2518,"S.US.SPEX"]
[null,null,"S.US.ISTR",{"$f":"IFERROR(RTD(\"cqg.rtd\", ,\"ContractData\",C2519, \"PerCentNetLastTrade\",, \"T\")/100,\"\")","v":""},{"$error":"#VALUE!"},"","S.US.ISTR",2519,"S.US.NVFY"]
[null,null,"S.US.GFN",{"$f":"IFERROR(RTD(\"cqg.rtd\", ,\"ContractData\",C2520, \"PerCentNetLastTrade\",, \"T\")/100,\"\")","v":""},{"$error":"#VALUE!"},"","S.US.GFN",2520,"S.US.PHMD"]
[null,null,"S.US.ADRE",{"$f":"IFERROR(RTD(\"cqg.rtd\", ,\"ContractData\",C2521, \"PerCentNetLastTrade\",, \"T\")/100,\"\")","v":9.9547511312217188E-3},727,727,"S.US.ADRE",2521,"S.US.AKER"]
[null,null,"S.US.SNSR",{"$f":"IFERROR(RTD(\"cqg.rtd\", ,\"ContractData\",C2522, \"PerCentNetLastTrade\",, \"T\")/100,\"\")","v":0},1553,1553,"S.US.SNSR",2522,"S.US.BOJA"]
[null,null,"S.US.CWAY",{"$f":"IFERROR(RTD(\"cqg.rtd\", ,\"ContractData\",C2523, \"PerCentNetLastTrade\",, \"T\")/100,\"\")","v":3.5714285714285713E-3},1143,1143,"S.US.CWAY",2523,"S.US.HTBX"]
[null,null,"S.US.TANNI",{"$f":"IFERROR(RTD(\"cqg.rtd\", ,\"ContractData\",C2524, \"PerCentNetLastTrade\",, \"T\")/100,\"\")","v":-3.1189083820662767E-3},1763,1763,"S.US.TANNI",2524,"S.US.FOLD"]
[null,null,"S.US.PVBC",{"$f":"IFERROR(RTD(\"cqg.rtd\", ,\"ContractData\",C2525, \"PerCentNetLastTrade\",, \"T\")/100,\"\")","v":""},{"$error":"#VALUE!"},"","S.US.PVBC",2525,"S.US.OCUL"]
[null,null,"S.US.CHCI",{"$f":"IFERROR(RTD(\"cqg.rtd\", ,\"ContractData\",C2526, \"PerCentNetLastTrade\",, \"T\")/100,\"\")","v":""},{"$error":"#VALUE!"},"","S.US.CHCI",2526,"S.US.ADSK"]
[null,null,"S.US.LONE",{"$f":"IFERROR(RTD(\"cqg.rtd\", ,\"ContractData\",C2527, \"PerCentNetLastTrade\",, \"T\")/100,\"\")","v":2.2919179734620022E-2},283,283,"S.US.LONE",2527,"S.US.BEBE"]
[null,null,"S.US.EQFN",{"$f":"IFERROR(RTD(\"cqg.rtd\", ,\"ContractData\",C2528, \"PerCentNetLastTrade\",, \"T\")/100,\"\")","v":""},{"$error":"#VALUE!"},"","S.US.EQFN",2528,"S.US.FCSC"]
[null,null,"S.US.LMFA",{"$f":"IFERROR(RTD(\"cqg.rtd\", ,\"ContractData\",C2529, \"PerCentNetLastTrade\",, \"T\")/100,\"\")","v":-2.3809523809523808E-2},2383,2383,"S.US.LMFA",2529,"S.US.KMPH"]
[null,null,"S.US.ANCB",{"$f":"IFERROR(RTD(\"cqg.rtd\", ,\"ContractData\",C2530, \"PerCentNetLastTrade\",, \"T\")/100,\"\")","v":""},{"$error":"#VALUE!"},"","S.US.ANCB",2530,"S.US.HSON"]
[null,null,"S.US.MPCT",{"$f":"IFERROR(RTD(\"cqg.rtd\", ,\"ContractData\",C2531, \"PerCentNetLastTrade\",, \"T\")/100,\"\")","v":""},{"$error":"#VALUE!"},"","S.US.MPCT",2531,"S.US.HOTR"]
[null,null,"S.US.NAUH",{"$f":"IFERROR(RTD(\"cqg.rtd\", ,\"ContractData\",C2532, \"PerCentNetLastTrade\",, \"T\")/100,\"\")","v":3.1088082901554404E-2},174,174,"S.US.NAUH",2532,"S.US.NAKD"]
[null,null,"S.US.FSBK",{"$f":"IFERROR(RTD(\"cqg.rtd\", ,\"ContractData\",C2533, \"PerCentNetLastTrade\",, \"T\")/100,\"\")","v":1.0830324909747294E-2},679,679,"S.US.FSBK",2533,"S.US.AVGR"]
[null,null,"S.US.HCAC",{"$f":"IFERROR(RTD(\"cqg.rtd\", ,\"ContractData\",C2534, \"PerCentNetLastTrade\",, \"T\")/100,\"\")","v":""},{"$error":"#VALUE!"},"","S.US.HCAC",2534,"S.US.IMNP"]
[null,null,"S.US.WINA",{"$f":"IFERROR(RTD(\"cqg.rtd\", ,\"ContractData\",C2535, \"PerCentNetLastTrade\",, \"T\")/100,\"\")","v":1.9434628975265017E-2},369,369,"S.US.WINA",2535,"S.US.DELT"]
[null,null,"S.US.PKBK",{"$f":"IFERROR(RTD(\"cqg.rtd\", ,\"ContractData\",C2536, \"PerCentNetLastTrade\",, \"T\")/100,\"\")","v":4.034582132564842E-3},1112,1112,"S.US.PKBK",2536,"S.US.CBAK"]
[null,null,"S.US.ERS",{"$f":"IFERROR(RTD(\"cqg.rtd\", ,\"ContractData\",C2537, \"PerCentNetLastTrade\",, \"T\")/100,\"\")","v":1.2145748987854249E-2},619,619,"S.US.ERS",2537,"S.US.FSC"]
[null,null,"S.US.ALOT",{"$f":"IFERROR(RTD(\"cqg.rtd\", ,\"ContractData\",C2538, \"PerCentNetLastTrade\",, \"T\")/100,\"\")","v":""},{"$error":"#VALUE!"},"","S.US.ALOT",2538,"S.US.PULM"]
[null,null,"S.US.XTLB",{"$f":"IFERROR(RTD(\"cqg.rtd\", ,\"ContractData\",C2539, \"PerCentNetLastTrade\",, \"T\")/100,\"\")","v":""},{"$error":"#VALUE!"},"","S.US.XTLB",2539,"S.US.ATOS"]
[null,null,"S.US.SBBP",{"$f":"IFERROR(RTD(\"cqg.rtd\", ,\"ContractData\",C2540, \"PerCentNetLastTrade\",, \"T\")/100,\"\")","v":2.8645833333333336E-2},194,194,"S.US.SBBP",2540,"S.US.XGTI"]
[null,null,"S.US.STDY",{"$f":"IFERROR(RTD(\"cqg.rtd\", ,\"ContractData\",C2541, \"PerCentNetLastTrade\",, \"T\")/100,\"\")","v":2.8571428571428571E-2},197,197,"S.US.STDY",2541,"S.US.THLD"]
[null,null,"S.US.MFNC",{"$f":"IFERROR(RTD(\"cqg.rtd\", ,\"ContractData\",C2542, \"PerCentNetLastTrade\",, \"T\")/100,\"\")","v":0},1554,1554,"S.US.MFNC",2542,"S.US.HTGM"]
[null,null,"S.US.ALCO",{"$f":"IFERROR(RTD(\"cqg.rtd\", ,\"ContractData\",C2543, \"PerCentNetLastTrade\",, \"T\")/100,\"\")","v":1.0928961748633882E-2},673,673,"S.US.ALCO",2543,"S.US.CBMX"]
[null,null,"S.US.SGOC",{"$f":"IFERROR(RTD(\"cqg.rtd\", ,\"ContractData\",C2544, \"PerCentNetLastTrade\",, \"T\")/100,\"\")","v":0},1555,1555,"S.US.SGOC",2544,"S.US.CBIO"]
[null,null,"S.US.IDLB",{"$f":"IFERROR(RTD(\"cqg.rtd\", ,\"ContractData\",C2545, \"PerCentNetLastTrade\",, \"T\")/100,\"\")","v":""},{"$error":"#VALUE!"},"","S.US.IDLB",2545,"S.US.PRZM"]
[null,null,"S.US.ATOM",{"$f":"IFERROR(RTD(\"cqg.rtd\", ,\"ContractData\",C2546, \"PerCentNetLastTrade\",, \"T\")/100,\"\")","v":""},{"$error":"#VALUE!"},"","S.US.ATOM",2546,"S.US.LENS"]
[null,null,"S.US.WSCI",{"$f":"IFERROR(RTD(\"cqg.rtd\", ,\"ContractData\",C2547, \"PerCentNetLastTrade\",, \"T\")/100,\"\")","v":""},{"$error":"#VALUE!"},"","S.US.WSCI",2547,"S.US.ROKA"]
[null,null,"S.US.BBGI",{"$f":"IFERROR(RTD(\"cqg.rtd\", ,\"ContractData\",C2548, \"PerCentNetLastTrade\",, \"T\")/100,\"\")","v":2.9921259842519685E-2},184,184,"S.US.BBGI",2548,"S.US.CYTR"]
[null,null,"S.US.ASFI",{"$f":"IFERROR(RTD(\"cqg.rtd\", ,\"ContractData\",C2549, \"PerCentNetLastTrade\",, \"T\")/100,\"\")","v":-1.7679558011049722E-2},2306,2306,"S.US.ASFI",2549,"S.US.MTBC"]
[null,null,"S.US.IBUY",{"$f":"IFERROR(RTD(\"cqg.rtd\", ,\"ContractData\",C2550, \"PerCentNetLastTrade\",, \"T\")/100,\"\")","v":-2.5026814444047193E-3},1720,1720,"S.US.IBUY",2550,"S.US.RGSE"]
[null,null,"S.US.UTMD",{"$f":"IFERROR(RTD(\"cqg.rtd\", ,\"ContractData\",C2551, \"PerCentNetLastTrade\",, \"T\")/100,\"\")","v":2.3443223443223443E-2},275,275,"S.US.UTMD",2551,"S.US.AETI"]
[null,null,"S.US.BOTZ",{"$f":"IFERROR(RTD(\"cqg.rtd\", ,\"ContractData\",C2552, \"PerCentNetLastTrade\",, \"T\")/100,\"\")","v":-4.6052631578947364E-3},1866,1866,"S.US.BOTZ",2552,"S.US.GENE"]
[null,null,"S.US.CLRO",{"$f":"IFERROR(RTD(\"cqg.rtd\", ,\"ContractData\",C2553, \"PerCentNetLastTrade\",, \"T\")/100,\"\")","v":0},1556,1556,"S.US.CLRO",2553,"S.US.NVET"]
[null,null,"S.US.OBAS",{"$f":"IFERROR(RTD(\"cqg.rtd\", ,\"ContractData\",C2554, \"PerCentNetLastTrade\",, \"T\")/100,\"\")","v":""},{"$error":"#VALUE!"},"","S.US.OBAS",2554,"S.US.SPU"]
[null,null,"S.US.ASRVP",{"$f":"IFERROR(RTD(\"cqg.rtd\", ,\"ContractData\",C2555, \"PerCentNetLastTrade\",, \"T\")/100,\"\")","v":1.1476664116296864E-3},1317,1317,"S.US.ASRVP",2555,"S.US.RNVA"]
[null,null,"S.US.VRIG",{"$f":"IFERROR(RTD(\"cqg.rtd\", ,\"ContractData\",C2556, \"PerCentNetLastTrade\",, \"T\")/100,\"\")","v":-8.0032012805122054E-4},1614,1614,"S.US.VRIG",2556,"S.US.KALV"]
[null,null,"S.US.YDIV",{"$f":"IFERROR(RTD(\"cqg.rtd\", ,\"ContractData\",C2557, \"PerCentNetLastTrade\",, \"T\")/100,\"\")","v":-1.266624445851805E-3},1646,1646,"S.US.YDIV",2557,"S.US.BNTC"]
[null,null,"S.US.FAD",{"$f":"IFERROR(RTD(\"cqg.rtd\", ,\"ContractData\",C2558, \"PerCentNetLastTrade\",, \"T\")/100,\"\")","v":1.8889308651303363E-3},1266,1266,"S.US.FAD",2558,"S.US.SYRX"]
[null,null,"S.US.PLPC",{"$f":"IFERROR(RTD(\"cqg.rtd\", ,\"ContractData\",C2559, \"PerCentNetLastTrade\",, \"T\")/100,\"\")","v":2.4280575539568347E-2},255,255,"S.US.PLPC",2559,"S.US.COGT"]
[null,null,"S.US.UNB",{"$f":"IFERROR(RTD(\"cqg.rtd\", ,\"ContractData\",C2560, \"PerCentNetLastTrade\",, \"T\")/100,\"\")","v":2.0785219399538105E-2},342,342,"S.US.UNB",2560,"S.US.BMRA"]
[null,null,"S.US.PBNC",{"$f":"IFERROR(RTD(\"cqg.rtd\", ,\"ContractData\",C2561, \"PerCentNetLastTrade\",, \"T\")/100,\"\")","v":""},{"$error":"#VALUE!"},"","S.US.PBNC",2561,{"$f":"IFERROR(VLOOKUP(H2561,$F$1:$G$2860,2,FALSE),\"\")","v":"S.US.CLSD"}]
[null,null,"S.US.FEMB",{"$f":"IFERROR(RTD(\"cqg.rtd\", ,\"ContractData\",C2562, \"PerCentNetLastTrade\",, \"T\")/100,\"\")","v":-1.2528188423953895E-3},1644,{"$f":"IFERROR(E2562,\"\")","v":1644},"S.US.FEMB",2562,"S.US.RXII"]
[null,null,"S.US.DYNT",{"$f":"IFERROR(RTD(\"cqg.rtd\", ,\"ContractData\",C2563, \"PerCentNetLastTrade\",, \"T\")/100,\"\")","v":-1.8867924528301886E-2},2336,2336,{"$f":"C2563","v":"S.US.DYNT"},{"$f":"H2562+1","v":2563},"S.US.YECO"]
[null,null,"S.US.UNTY",{"$f":"IFERROR(RTD(\"cqg.rtd\", ,\"ContractData\",C2564, \"PerCentNetLastTrade\",, \"T\")/100,\"\")","v":-1.1029411764705883E-2},2136,2136,"S.US.UNTY",2564,"S.US.ACST"]
[null,null,"S.US.NYMTP",{"$f":"IFERROR(RTD(\"cqg.rtd\", ,\"ContractData\",C2565, \"PerCentNetLastTrade\",, \"T\")/100,\"\")","v":-1.0706638115631693E-2},2129,2129,"S.US.NYMTP",2565,"S.US.NVLS"]
[null,null,"S.US.GEMP",{"$f":"IFERROR(RTD(\"cqg.rtd\", ,\"ContractData\",C2566, \"PerCentNetLastTrade\",, \"T\")/100,\"\")","v":3.3155080213903745E-2},149,149,"S.US.GEMP",2566,"S.US.ZSAN"]
[null,null,"S.US.SVBI",{"$f":"IFERROR(RTD(\"cqg.rtd\", ,\"ContractData\",C2567, \"PerCentNetLastTrade\",, \"T\")/100,\"\")","v":""},{"$error":"#VALUE!"},"","S.US.SVBI",2567,"S.US.PAVM"]
[null,null,"S.US.ISM",{"$f":"IFERROR(RTD(\"cqg.rtd\", ,\"ContractData\",C2568, \"PerCentNetLastTrade\",, \"T\")/100,\"\")","v":-8.0612656187021366E-4},1616,1616,"S.US.ISM",2568,"S.US.OPHC"]
[null,null,"S.US.MXPT",{"$f":"IFERROR(RTD(\"cqg.rtd\", ,\"ContractData\",C2569, \"PerCentNetLastTrade\",, \"T\")/100,\"\")","v":""},{"$error":"#VALUE!"},"","S.US.MXPT",2569,"S.US.DRAM"]
[null,null,"S.US.BELFA",{"$f":"IFERROR(RTD(\"cqg.rtd\", ,\"ContractData\",C2570, \"PerCentNetLastTrade\",, \"T\")/100,\"\")","v":-4.7504990019960086E-2},2507,2507,"S.US.BELFA",2570,"S.US.TBIO"]
[null,null,"S.US.FUNC",{"$f":"IFERROR(RTD(\"cqg.rtd\", ,\"ContractData\",C2571, \"PerCentNetLastTrade\",, \"T\")/100,\"\")","v":""},{"$error":"#VALUE!"},"","S.US.FUNC",2571,"S.US.IDXG"]
[null,null,"S.US.CZWI",{"$f":"IFERROR(RTD(\"cqg.rtd\", ,\"ContractData\",C2572, \"PerCentNetLastTrade\",, \"T\")/100,\"\")","v":""},{"$error":"#VALUE!"},"","S.US.CZWI",2572,"S.US.CYAD"]
[null,null,"S.US.ATRI",{"$f":"IFERROR(RTD(\"cqg.rtd\", ,\"ContractData\",C2573, \"PerCentNetLastTrade\",, \"T\")/100,\"\")","v":""},{"$error":"#VALUE!"},"","S.US.ATRI",2573,"S.US.TWER"]
[null,null,"S.US.MARPS",{"$f":"IFERROR(RTD(\"cqg.rtd\", ,\"ContractData\",C2574, \"PerCentNetLastTrade\",, \"T\")/100,\"\")","v":8.6455331412103736E-3},817,817,"S.US.MARPS",2574,"S.US.ATLC"]
[null,null,"S.US.JCTCF",{"$f":"IFERROR(RTD(\"cqg.rtd\", ,\"ContractData\",C2575, \"PerCentNetLastTrade\",, \"T\")/100,\"\")","v":""},{"$error":"#VALUE!"},"","S.US.JCTCF",2575,"S.US.CERC"]
[null,null,"S.US.EEI",{"$f":"IFERROR(RTD(\"cqg.rtd\", ,\"ContractData\",C2576, \"PerCentNetLastTrade\",, \"T\")/100,\"\")","v":3.3333333333333331E-3},1157,1157,"S.US.EEI",2576,"S.US.ARWR"]
[null,null,"S.US.UAE",{"$f":"IFERROR(RTD(\"cqg.rtd\", ,\"ContractData\",C2577, \"PerCentNetLastTrade\",, \"T\")/100,\"\")","v":""},{"$error":"#VALUE!"},"","S.US.UAE",2577,""]
[null,null,"S.US.EML",{"$f":"IFERROR(RTD(\"cqg.rtd\", ,\"ContractData\",C2578, \"PerCentNetLastTrade\",, \"T\")/100,\"\")","v":0},1557,1557,"S.US.EML",2578,""]
[null,null,"S.US.FHK",{"$f":"IFERROR(RTD(\"cqg.rtd\", ,\"ContractData\",C2579, \"PerCentNetLastTrade\",, \"T\")/100,\"\")","v":3.2689450222882616E-3},1164,1164,"S.US.FHK",2579,""]
[null,null,"S.US.FBSS",{"$f":"IFERROR(RTD(\"cqg.rtd\", ,\"ContractData\",C2580, \"PerCentNetLastTrade\",, \"T\")/100,\"\")","v":""},{"$error":"#VALUE!"},"","S.US.FBSS",2580,""]
[null,null,"S.US.OXBR",{"$f":"IFERROR(RTD(\"cqg.rtd\", ,\"ContractData\",C2581, \"PerCentNetLastTrade\",, \"T\")/100,\"\")","v":-9.7087378640776708E-3},2090,2090,"S.US.OXBR",2581,""]
[null,null,"S.US.FSCFL",{"$f":"IFERROR(RTD(\"cqg.rtd\", ,\"ContractData\",C2582, \"PerCentNetLastTrade\",, \"T\")/100,\"\")","v":""},{"$error":"#VALUE!"},"","S.US.FSCFL",2582,""]
[null,null,"S.US.SBFG",{"$f":"IFERROR(RTD(\"cqg.rtd\", ,\"ContractData\",C2583, \"PerCentNetLastTrade\",, \"T\")/100,\"\")","v":""},{"$error":"#VALUE!"},"","S.US.SBFG",2583,""]
[null,null,"S.US.EMIF",{"$f":"IFERROR(RTD(\"cqg.rtd\", ,\"ContractData\",C2584, \"PerCentNetLastTrade\",, \"T\")/100,\"\")","v":9.2002830856334032E-3},780,780,"S.US.EMIF",2584,""]
[null,null,"S.US.FSBW",{"$f":"IFERROR(RTD(\"cqg.rtd\", ,\"ContractData\",C2585, \"PerCentNetLastTrade\",, \"T\")/100,\"\")","v":-2.6666666666666666E-3},1730,1730,"S.US.FSBW",2585,""]
[null,null,"S.US.SSFN",{"$f":"IFERROR(RTD(\"cqg.rtd\", ,\"ContractData\",C2586, \"PerCentNetLastTrade\",, \"T\")/100,\"\")","v":""},{"$error":"#VALUE!"},"","S.US.SSFN",2586,""]
[null,null,"S.US.DWLV",{"$f":"IFERROR(RTD(\"cqg.rtd\", ,\"ContractData\",C2587, \"PerCentNetLastTrade\",, \"T\")/100,\"\")","v":""},{"$error":"#VALUE!"},"","S.US.DWLV",2587,""]
[null,null,"S.US.CID",{"$f":"IFERROR(RTD(\"cqg.rtd\", ,\"ContractData\",C2588, \"PerCentNetLastTrade\",, \"T\")/100,\"\")","v":4.8828125E-3},1054,1054,"S.US.CID",2588,""]
[null,null,"S.US.GCBC",{"$f":"IFERROR(RTD(\"cqg.rtd\", ,\"ContractData\",C2589, \"PerCentNetLastTrade\",, \"T\")/100,\"\")","v":9.1954022988505746E-3},781,781,"S.US.GCBC",2589,""]
[null,null,"S.US.SNDE",{"$f":"IFERROR(RTD(\"cqg.rtd\", ,\"ContractData\",C2590, \"PerCentNetLastTrade\",, \"T\")/100,\"\")","v":3.6269430051813469E-2},128,128,"S.US.SNDE",2590,""]
[null,null,"S.US.GTWN",{"$f":"IFERROR(RTD(\"cqg.rtd\", ,\"ContractData\",C2591, \"PerCentNetLastTrade\",, \"T\")/100,\"\")","v":""},{"$error":"#VALUE!"},"","S.US.GTWN",2591,""]
[null,null,"S.US.GRIF",{"$f":"IFERROR(RTD(\"cqg.rtd\", ,\"ContractData\",C2592, \"PerCentNetLastTrade\",, \"T\")/100,\"\")","v":0},1558,1558,"S.US.GRIF",2592,""]
[null,null,"S.US.CHMG",{"$f":"IFERROR(RTD(\"cqg.rtd\", ,\"ContractData\",C2593, \"PerCentNetLastTrade\",, \"T\")/100,\"\")","v":1.7930166719094053E-2},408,408,"S.US.CHMG",2593,""]
[null,null,"S.US.JTPY",{"$f":"IFERROR(RTD(\"cqg.rtd\", ,\"ContractData\",C2594, \"PerCentNetLastTrade\",, \"T\")/100,\"\")","v":-1.4814814814814814E-2},2251,2251,"S.US.JTPY",2594,""]
[null,null,"S.US.ARWA",{"$f":"IFERROR(RTD(\"cqg.rtd\", ,\"ContractData\",C2595, \"PerCentNetLastTrade\",, \"T\")/100,\"\")","v":""},{"$error":"#VALUE!"},"","S.US.ARWA",2595,""]
[null,null,"S.US.CYAN",{"$f":"IFERROR(RTD(\"cqg.rtd\", ,\"ContractData\",C2596, \"PerCentNetLastTrade\",, \"T\")/100,\"\")","v":""},{"$error":"#VALUE!"},"","S.US.CYAN",2596,""]
[null,null,"S.US.FGBI",{"$f":"IFERROR(RTD(\"cqg.rtd\", ,\"ContractData\",C2597, \"PerCentNetLastTrade\",, \"T\")/100,\"\")","v":4.7872340425531915E-3},1064,1064,"S.US.FGBI",2597,""]
[null,null,"S.US.RFEM",{"$f":"IFERROR(RTD(\"cqg.rtd\", ,\"ContractData\",C2598, \"PerCentNetLastTrade\",, \"T\")/100,\"\")","v":""},{"$error":"#VALUE!"},"","S.US.RFEM",2598,""]
[null,null,"S.US.TRCB",{"$f":"IFERROR(RTD(\"cqg.rtd\", ,\"ContractData\",C2599, \"PerCentNetLastTrade\",, \"T\")/100,\"\")","v":6.5693430656934308E-3},935,935,"S.US.TRCB",2599,""]
[null,null,"S.US.MBSD",{"$f":"IFERROR(RTD(\"cqg.rtd\", ,\"ContractData\",C2600, \"PerCentNetLastTrade\",, \"T\")/100,\"\")","v":-1.2315270935960591E-3},1639,1639,"S.US.MBSD",2600,""]
[null,null,"S.US.TGEN",{"$f":"IFERROR(RTD(\"cqg.rtd\", ,\"ContractData\",C2601, \"PerCentNetLastTrade\",, \"T\")/100,\"\")","v":0},1559,1559,"S.US.TGEN",2601,""]
[null,null,"S.US.CSF",{"$f":"IFERROR(RTD(\"cqg.rtd\", ,\"ContractData\",C2602, \"PerCentNetLastTrade\",, \"T\")/100,\"\")","v":4.5627376425855515E-3},1078,1078,"S.US.CSF",2602,""]
[null,null,"S.US.TORM",{"$f":"IFERROR(RTD(\"cqg.rtd\", ,\"ContractData\",C2603, \"PerCentNetLastTrade\",, \"T\")/100,\"\")","v":""},{"$error":"#VALUE!"},"","S.US.TORM",2603,""]
[null,null,"S.US.TRNS",{"$f":"IFERROR(RTD(\"cqg.rtd\", ,\"ContractData\",C2604, \"PerCentNetLastTrade\",, \"T\")/100,\"\")","v":""},{"$error":"#VALUE!"},"","S.US.TRNS",2604,""]
[null,null,"S.US.PERF",{"$f":"IFERROR(RTD(\"cqg.rtd\", ,\"ContractData\",C2605, \"PerCentNetLastTrade\",, \"T\")/100,\"\")","v":-5.7142857142857143E-3},1916,1916,"S.US.PERF",2605,""]
[null,null,"S.US.ENFC",{"$f":"IFERROR(RTD(\"cqg.rtd\", ,\"ContractData\",C2606, \"PerCentNetLastTrade\",, \"T\")/100,\"\")","v":-1.2886597938144331E-2},2197,2197,"S.US.ENFC",2606,""]
[null,null,"S.US.QAT",{"$f":"IFERROR(RTD(\"cqg.rtd\", ,\"ContractData\",C2607, \"PerCentNetLastTrade\",, \"T\")/100,\"\")","v":""},{"$error":"#VALUE!"},"","S.US.QAT",2607,""]
[null,null,"S.US.WVVI",{"$f":"IFERROR(RTD(\"cqg.rtd\", ,\"ContractData\",C2608, \"PerCentNetLastTrade\",, \"T\")/100,\"\")","v":1.2376237623762376E-3},1306,1306,"S.US.WVVI",2608,""]
[null,null,"S.US.TAYD",{"$f":"IFERROR(RTD(\"cqg.rtd\", ,\"ContractData\",C2609, \"PerCentNetLastTrade\",, \"T\")/100,\"\")","v":6.7430883344571813E-4},1338,1338,"S.US.TAYD",2609,""]
[null,null,"S.US.BVSN",{"$f":"IFERROR(RTD(\"cqg.rtd\", ,\"ContractData\",C2610, \"PerCentNetLastTrade\",, \"T\")/100,\"\")","v":-5.0526315789473683E-2},2516,2516,"S.US.BVSN",2610,""]
[null,null,"S.US.FEIM",{"$f":"IFERROR(RTD(\"cqg.rtd\", ,\"ContractData\",C2611, \"PerCentNetLastTrade\",, \"T\")/100,\"\")","v":-4.0191387559808611E-2},2489,2489,"S.US.FEIM",2611,""]
[null,null,"S.US.HOVNP",{"$f":"IFERROR(RTD(\"cqg.rtd\", ,\"ContractData\",C2612, \"PerCentNetLastTrade\",, \"T\")/100,\"\")","v":0},1560,1560,"S.US.HOVNP",2612,""]
[null,null,"S.US.GFED",{"$f":"IFERROR(RTD(\"cqg.rtd\", ,\"ContractData\",C2613, \"PerCentNetLastTrade\",, \"T\")/100,\"\")","v":""},{"$error":"#VALUE!"},"","S.US.GFED",2613,""]
[null,null,"S.US.PBBI",{"$f":"IFERROR(RTD(\"cqg.rtd\", ,\"ContractData\",C2614, \"PerCentNetLastTrade\",, \"T\")/100,\"\")","v":""},{"$error":"#VALUE!"},"","S.US.PBBI",2614,""]
[null,null,"S.US.NHLD",{"$f":"IFERROR(RTD(\"cqg.rtd\", ,\"ContractData\",C2615, \"PerCentNetLastTrade\",, \"T\")/100,\"\")","v":""},{"$error":"#VALUE!"},"","S.US.NHLD",2615,""]
[null,null,"S.US.OVLY",{"$f":"IFERROR(RTD(\"cqg.rtd\", ,\"ContractData\",C2616, \"PerCentNetLastTrade\",, \"T\")/100,\"\")","v":""},{"$error":"#VALUE!"},"","S.US.OVLY",2616,""]
[null,null,"S.US.RFEU",{"$f":"IFERROR(RTD(\"cqg.rtd\", ,\"ContractData\",C2617, \"PerCentNetLastTrade\",, \"T\")/100,\"\")","v":1.5738736966358449E-3},1287,1287,"S.US.RFEU",2617,""]
[null,null,"S.US.VALU",{"$f":"IFERROR(RTD(\"cqg.rtd\", ,\"ContractData\",C2618, \"PerCentNetLastTrade\",, \"T\")/100,\"\")","v":9.0090090090090089E-3},798,798,"S.US.VALU",2618,""]
[null,null,"S.US.MSBF",{"$f":"IFERROR(RTD(\"cqg.rtd\", ,\"ContractData\",C2619, \"PerCentNetLastTrade\",, \"T\")/100,\"\")","v":1.098901098901099E-2},670,670,"S.US.MSBF",2619,""]
[null,null,"S.US.NTIC",{"$f":"IFERROR(RTD(\"cqg.rtd\", ,\"ContractData\",C2620, \"PerCentNetLastTrade\",, \"T\")/100,\"\")","v":4.8951048951048952E-2},67,67,"S.US.NTIC",2620,""]
[null,null,"S.US.CLDC",{"$f":"IFERROR(RTD(\"cqg.rtd\", ,\"ContractData\",C2621, \"PerCentNetLastTrade\",, \"T\")/100,\"\")","v":-3.3850493653032443E-2},2465,2465,"S.US.CLDC",2621,""]
[null,null,"S.US.CNBKA",{"$f":"IFERROR(RTD(\"cqg.rtd\", ,\"ContractData\",C2622, \"PerCentNetLastTrade\",, \"T\")/100,\"\")","v":7.4696545284780582E-3},882,882,"S.US.CNBKA",2622,""]
[null,null,"S.US.PVTBP",{"$f":"IFERROR(RTD(\"cqg.rtd\", ,\"ContractData\",C2623, \"PerCentNetLastTrade\",, \"T\")/100,\"\")","v":""},{"$error":"#VALUE!"},"","S.US.PVTBP",2623,""]
[null,null,"S.US.XELB",{"$f":"IFERROR(RTD(\"cqg.rtd\", ,\"ContractData\",C2624, \"PerCentNetLastTrade\",, \"T\")/100,\"\")","v":""},{"$error":"#VALUE!"},"","S.US.XELB",2624,""]
[null,null,"S.US.ALTY",{"$f":"IFERROR(RTD(\"cqg.rtd\", ,\"ContractData\",C2625, \"PerCentNetLastTrade\",, \"T\")/100,\"\")","v":""},{"$error":"#VALUE!"},"","S.US.ALTY",2625,{"$f":"IFERROR(VLOOKUP(H2625,$F$1:$G$2860,2,FALSE),\"\")","v":""}]
[null,null,"S.US.EPIX",{"$f":"IFERROR(RTD(\"cqg.rtd\", ,\"ContractData\",C2626, \"PerCentNetLastTrade\",, \"T\")/100,\"\")","v":-4.8387096774193547E-2},2511,{"$f":"IFERROR(E2626,\"\")","v":2511},"S.US.EPIX",2626,""]
[null,null,"S.US.PBHC",{"$f":"IFERROR(RTD(\"cqg.rtd\", ,\"ContractData\",C2627, \"PerCentNetLastTrade\",, \"T\")/100,\"\")","v":""},{"$error":"#VALUE!"},"",{"$f":"C2627","v":"S.US.PBHC"},{"$f":"H2626+1","v":2627},""]
[null,null,"S.US.PTNR",{"$f":"IFERROR(RTD(\"cqg.rtd\", ,\"ContractData\",C2628, \"PerCentNetLastTrade\",, \"T\")/100,\"\")","v":2.0661157024793389E-3},1254,1254,"S.US.PTNR",2628,""]
[null,null,"S.US.SBBX",{"$f":"IFERROR(RTD(\"cqg.rtd\", ,\"ContractData\",C2629, \"PerCentNetLastTrade\",, \"T\")/100,\"\")","v":-1.6620498614958448E-3},1667,1667,"S.US.SBBX",2629,""]
[null,null,"S.US.OCC",{"$f":"IFERROR(RTD(\"cqg.rtd\", ,\"ContractData\",C2630, \"PerCentNetLastTrade\",, \"T\")/100,\"\")","v":-4.5454545454545456E-2},2502,2502,"S.US.OCC",2630,""]
[null,null,"S.US.DJCO",{"$f":"IFERROR(RTD(\"cqg.rtd\", ,\"ContractData\",C2631, \"PerCentNetLastTrade\",, \"T\")/100,\"\")","v":-2.1299342105263158E-2},2366,2366,"S.US.DJCO",2631,""]
[null,null,"S.US.WINS",{"$f":"IFERROR(RTD(\"cqg.rtd\", ,\"ContractData\",C2632, \"PerCentNetLastTrade\",, \"T\")/100,\"\")","v":2.6056338028169014E-2},230,230,"S.US.WINS",2632,""]
[null,null,"S.US.CFNB",{"$f":"IFERROR(RTD(\"cqg.rtd\", ,\"ContractData\",C2633, \"PerCentNetLastTrade\",, \"T\")/100,\"\")","v":-8.8607594936708847E-3},2058,2058,"S.US.CFNB",2633,""]
[null,null,"S.US.JSMD",{"$f":"IFERROR(RTD(\"cqg.rtd\", ,\"ContractData\",C2634, \"PerCentNetLastTrade\",, \"T\")/100,\"\")","v":""},{"$error":"#VALUE!"},"","S.US.JSMD",2634,""]
[null,null,"S.US.OASM",{"$f":"IFERROR(RTD(\"cqg.rtd\", ,\"ContractData\",C2635, \"PerCentNetLastTrade\",, \"T\")/100,\"\")","v":""},{"$error":"#VALUE!"},"","S.US.OASM",2635,""]
[null,null,"S.US.FUSB",{"$f":"IFERROR(RTD(\"cqg.rtd\", ,\"ContractData\",C2636, \"PerCentNetLastTrade\",, \"T\")/100,\"\")","v":5.5813953488372094E-3},1011,1011,"S.US.FUSB",2636,""]
[null,null,"S.US.YLCO",{"$f":"IFERROR(RTD(\"cqg.rtd\", ,\"ContractData\",C2637, \"PerCentNetLastTrade\",, \"T\")/100,\"\")","v":""},{"$error":"#VALUE!"},"","S.US.YLCO",2637,""]
[null,null,"S.US.AGZD",{"$f":"IFERROR(RTD(\"cqg.rtd\", ,\"ContractData\",C2638, \"PerCentNetLastTrade\",, \"T\")/100,\"\")","v":""},{"$error":"#VALUE!"},"","S.US.AGZD",2638,""]
[null,null,"S.US.PEBK",{"$f":"IFERROR(RTD(\"cqg.rtd\", ,\"ContractData\",C2639, \"PerCentNetLastTrade\",, \"T\")/100,\"\")","v":-1.9469026548672566E-2},2345,2345,"S.US.PEBK",2639,""]
[null,null,"S.US.MTP",{"$f":"IFERROR(RTD(\"cqg.rtd\", ,\"ContractData\",C2640, \"PerCentNetLastTrade\",, \"T\")/100,\"\")","v":-2.0761245674740483E-2},2356,2356,"S.US.MTP",2640,""]
[null,null,"S.US.ARTW",{"$f":"IFERROR(RTD(\"cqg.rtd\", ,\"ContractData\",C2641, \"PerCentNetLastTrade\",, \"T\")/100,\"\")","v":3.3222591362126248E-2},148,148,"S.US.ARTW",2641,""]
[null,null,"S.US.GPAC",{"$f":"IFERROR(RTD(\"cqg.rtd\", ,\"ContractData\",C2642, \"PerCentNetLastTrade\",, \"T\")/100,\"\")","v":""},{"$error":"#VALUE!"},"","S.US.GPAC",2642,""]
[null,null,"S.US.TAPR",{"$f":"IFERROR(RTD(\"cqg.rtd\", ,\"ContractData\",C2643, \"PerCentNetLastTrade\",, \"T\")/100,\"\")","v":5.9279349089500194E-2},47,47,"S.US.TAPR",2643,""]
[null,null,"S.US.NWFL",{"$f":"IFERROR(RTD(\"cqg.rtd\", ,\"ContractData\",C2644, \"PerCentNetLastTrade\",, \"T\")/100,\"\")","v":3.4769230769230768E-2},139,139,"S.US.NWFL",2644,""]
[null,null,"S.US.NSEC",{"$f":"IFERROR(RTD(\"cqg.rtd\", ,\"ContractData\",C2645, \"PerCentNetLastTrade\",, \"T\")/100,\"\")","v":""},{"$error":"#VALUE!"},"","S.US.NSEC",2645,""]
[null,null,"S.US.SGRP",{"$f":"IFERROR(RTD(\"cqg.rtd\", ,\"ContractData\",C2646, \"PerCentNetLastTrade\",, \"T\")/100,\"\")","v":0},1561,1561,"S.US.SGRP",2646,""]
[null,null,"S.US.APOP",{"$f":"IFERROR(RTD(\"cqg.rtd\", ,\"ContractData\",C2647, \"PerCentNetLastTrade\",, \"T\")/100,\"\")","v":""},{"$error":"#VALUE!"},"","S.US.APOP",2647,""]
[null,null,"S.US.TATT",{"$f":"IFERROR(RTD(\"cqg.rtd\", ,\"ContractData\",C2648, \"PerCentNetLastTrade\",, \"T\")/100,\"\")","v":0},1562,1562,"S.US.TATT",2648,""]
[null,null,"S.US.JMU",{"$f":"IFERROR(RTD(\"cqg.rtd\", ,\"ContractData\",C2649, \"PerCentNetLastTrade\",, \"T\")/100,\"\")","v":""},{"$error":"#VALUE!"},"","S.US.JMU",2649,""]
[null,null,"S.US.MTGEP",{"$f":"IFERROR(RTD(\"cqg.rtd\", ,\"ContractData\",C2650, \"PerCentNetLastTrade\",, \"T\")/100,\"\")","v":""},{"$error":"#VALUE!"},"","S.US.MTGEP",2650,""]
[null,null,"S.US.ISHG",{"$f":"IFERROR(RTD(\"cqg.rtd\", ,\"ContractData\",C2651, \"PerCentNetLastTrade\",, \"T\")/100,\"\")","v":-1.2879958784131889E-4},1569,1569,"S.US.ISHG",2651,""]
[null,null,"S.US.BOTJ",{"$f":"IFERROR(RTD(\"cqg.rtd\", ,\"ContractData\",C2652, \"PerCentNetLastTrade\",, \"T\")/100,\"\")","v":""},{"$error":"#VALUE!"},"","S.US.BOTJ",2652,""]
[null,null,"S.US.ITEQ",{"$f":"IFERROR(RTD(\"cqg.rtd\", ,\"ContractData\",C2653, \"PerCentNetLastTrade\",, \"T\")/100,\"\")","v":-3.1783869686134287E-3},1766,1766,"S.US.ITEQ",2653,""]
[null,null,"S.US.SRAX",{"$f":"IFERROR(RTD(\"cqg.rtd\", ,\"ContractData\",C2654, \"PerCentNetLastTrade\",, \"T\")/100,\"\")","v":""},{"$error":"#VALUE!"},"","S.US.SRAX",2654,""]
[null,null,"S.US.HWBK",{"$f":"IFERROR(RTD(\"cqg.rtd\", ,\"ContractData\",C2655, \"PerCentNetLastTrade\",, \"T\")/100,\"\")","v":9.7791798107255523E-2},26,26,"S.US.HWBK",2655,""]
[null,null,"S.US.BITE",{"$f":"IFERROR(RTD(\"cqg.rtd\", ,\"ContractData\",C2656, \"PerCentNetLastTrade\",, \"T\")/100,\"\")","v":""},{"$error":"#VALUE!"},"","S.US.BITE",2656,""]
[null,null,"S.US.MTEX",{"$f":"IFERROR(RTD(\"cqg.rtd\", ,\"ContractData\",C2657, \"PerCentNetLastTrade\",, \"T\")/100,\"\")","v":-3.0211480362537764E-3},1756,1756,"S.US.MTEX",2657,""]
[null,null,"S.US.HIFS",{"$f":"IFERROR(RTD(\"cqg.rtd\", ,\"ContractData\",C2658, \"PerCentNetLastTrade\",, \"T\")/100,\"\")","v":""},{"$error":"#VALUE!"},"","S.US.HIFS",2658,""]
[null,null,"S.US.AKTX",{"$f":"IFERROR(RTD(\"cqg.rtd\", ,\"ContractData\",C2659, \"PerCentNetLastTrade\",, \"T\")/100,\"\")","v":2.4291497975708499E-2},254,254,"S.US.AKTX",2659,""]
[null,null,"S.US.GNRX",{"$f":"IFERROR(RTD(\"cqg.rtd\", ,\"ContractData\",C2660, \"PerCentNetLastTrade\",, \"T\")/100,\"\")","v":""},{"$error":"#VALUE!"},"","S.US.GNRX",2660,""]
[null,null,"S.US.HBK",{"$f":"IFERROR(RTD(\"cqg.rtd\", ,\"ContractData\",C2661, \"PerCentNetLastTrade\",, \"T\")/100,\"\")","v":3.5971223021582731E-3},1142,1142,"S.US.HBK",2661,""]
[null,null,"S.US.SAL",{"$f":"IFERROR(RTD(\"cqg.rtd\", ,\"ContractData\",C2662, \"PerCentNetLastTrade\",, \"T\")/100,\"\")","v":-1.6528925619834711E-2},2288,2288,"S.US.SAL",2662,""]
[null,null,"S.US.DXKW",{"$f":"IFERROR(RTD(\"cqg.rtd\", ,\"ContractData\",C2663, \"PerCentNetLastTrade\",, \"T\")/100,\"\")","v":5.7142857142857143E-3},999,999,"S.US.DXKW",2663,""]
[null,null,"S.US.CARZ",{"$f":"IFERROR(RTD(\"cqg.rtd\", ,\"ContractData\",C2664, \"PerCentNetLastTrade\",, \"T\")/100,\"\")","v":5.9683676514473297E-3},978,978,"S.US.CARZ",2664,""]
[null,null,"S.US.KFFB",{"$f":"IFERROR(RTD(\"cqg.rtd\", ,\"ContractData\",C2665, \"PerCentNetLastTrade\",, \"T\")/100,\"\")","v":""},{"$error":"#VALUE!"},"","S.US.KFFB",2665,""]
[null,null,"S.US.HMNF",{"$f":"IFERROR(RTD(\"cqg.rtd\", ,\"ContractData\",C2666, \"PerCentNetLastTrade\",, \"T\")/100,\"\")","v":""},{"$error":"#VALUE!"},"","S.US.HMNF",2666,""]
[null,null,"S.US.FCEF",{"$f":"IFERROR(RTD(\"cqg.rtd\", ,\"ContractData\",C2667, \"PerCentNetLastTrade\",, \"T\")/100,\"\")","v":""},{"$error":"#VALUE!"},"","S.US.FCEF",2667,""]
[null,null,"S.US.WMGIZ",{"$f":"IFERROR(RTD(\"cqg.rtd\", ,\"ContractData\",C2668, \"PerCentNetLastTrade\",, \"T\")/100,\"\")","v":0},1563,1563,"S.US.WMGIZ",2668,""]
[null,null,"S.US.DWAC",{"$f":"IFERROR(RTD(\"cqg.rtd\", ,\"ContractData\",C2669, \"PerCentNetLastTrade\",, \"T\")/100,\"\")","v":""},{"$error":"#VALUE!"},"","S.US.DWAC",2669,""]
[null,null,"S.US.PFBX",{"$f":"IFERROR(RTD(\"cqg.rtd\", ,\"ContractData\",C2670, \"PerCentNetLastTrade\",, \"T\")/100,\"\")","v":3.71900826446281E-2},121,121,"S.US.PFBX",2670,""]
[null,null,"S.US.EACQ",{"$f":"IFERROR(RTD(\"cqg.rtd\", ,\"ContractData\",C2671, \"PerCentNetLastTrade\",, \"T\")/100,\"\")","v":""},{"$error":"#VALUE!"},"","S.US.EACQ",2671,""]
[null,null,"S.US.MAUI",{"$f":"IFERROR(RTD(\"cqg.rtd\", ,\"ContractData\",C2672, \"PerCentNetLastTrade\",, \"T\")/100,\"\")","v":""},{"$error":"#VALUE!"},"","S.US.MAUI",2672,""]
[null,null,"S.US.CPAH",{"$f":"IFERROR(RTD(\"cqg.rtd\", ,\"ContractData\",C2673, \"PerCentNetLastTrade\",, \"T\")/100,\"\")","v":""},{"$error":"#VALUE!"},"","S.US.CPAH",2673,""]
[null,null,"S.US.PAVM",{"$f":"IFERROR(RTD(\"cqg.rtd\", ,\"ContractData\",C2674, \"PerCentNetLastTrade\",, \"T\")/100,\"\")","v":-0.14367816091954022},2567,2567,"S.US.PAVM",2674,""]
[null,null,"S.US.STLR",{"$f":"IFERROR(RTD(\"cqg.rtd\", ,\"ContractData\",C2675, \"PerCentNetLastTrade\",, \"T\")/100,\"\")","v":""},{"$error":"#VALUE!"},"","S.US.STLR",2675,""]
[null,null,"S.US.UBCP",{"$f":"IFERROR(RTD(\"cqg.rtd\", ,\"ContractData\",C2676, \"PerCentNetLastTrade\",, \"T\")/100,\"\")","v":-3.2786885245901635E-3},1772,1772,"S.US.UBCP",2676,""]
[null,null,"S.US.RAND",{"$f":"IFERROR(RTD(\"cqg.rtd\", ,\"ContractData\",C2677, \"PerCentNetLastTrade\",, \"T\")/100,\"\")","v":""},{"$error":"#VALUE!"},"","S.US.RAND",2677,""]
[null,null,"S.US.IIJI",{"$f":"IFERROR(RTD(\"cqg.rtd\", ,\"ContractData\",C2678, \"PerCentNetLastTrade\",, \"T\")/100,\"\")","v":0},1564,1564,"S.US.IIJI",2678,""]
[null,null,"S.US.ELSE",{"$f":"IFERROR(RTD(\"cqg.rtd\", ,\"ContractData\",C2679, \"PerCentNetLastTrade\",, \"T\")/100,\"\")","v":""},{"$error":"#VALUE!"},"","S.US.ELSE",2679,""]
[null,null,"S.US.ITIC",{"$f":"IFERROR(RTD(\"cqg.rtd\", ,\"ContractData\",C2680, \"PerCentNetLastTrade\",, \"T\")/100,\"\")","v":3.3546325878594254E-3},1155,1155,"S.US.ITIC",2680,""]
[null,null,"S.US.KEQU",{"$f":"IFERROR(RTD(\"cqg.rtd\", ,\"ContractData\",C2681, \"PerCentNetLastTrade\",, \"T\")/100,\"\")","v":6.2240663900414942E-3},954,954,"S.US.KEQU",2681,""]
[null,null,"S.US.SPAN",{"$f":"IFERROR(RTD(\"cqg.rtd\", ,\"ContractData\",C2682, \"PerCentNetLastTrade\",, \"T\")/100,\"\")","v":""},{"$error":"#VALUE!"},"","S.US.SPAN",2682,""]
[null,null,"S.US.WEBK",{"$f":"IFERROR(RTD(\"cqg.rtd\", ,\"ContractData\",C2683, \"PerCentNetLastTrade\",, \"T\")/100,\"\")","v":9.4572368421052631E-3},765,765,"S.US.WEBK",2683,""]
[null,null,"S.US.UCBA",{"$f":"IFERROR(RTD(\"cqg.rtd\", ,\"ContractData\",C2684, \"PerCentNetLastTrade\",, \"T\")/100,\"\")","v":""},{"$error":"#VALUE!"},"","S.US.UCBA",2684,""]
[null,null,"S.US.AGND",{"$f":"IFERROR(RTD(\"cqg.rtd\", ,\"ContractData\",C2685, \"PerCentNetLastTrade\",, \"T\")/100,\"\")","v":4.5724737082761773E-4},1354,1354,"S.US.AGND",2685,""]
[null,null,"S.US.MILN",{"$f":"IFERROR(RTD(\"cqg.rtd\", ,\"ContractData\",C2686, \"PerCentNetLastTrade\",, \"T\")/100,\"\")","v":-3.1705770450221942E-3},1764,1764,"S.US.MILN",2686,""]
[null,null,"S.US.OVBC",{"$f":"IFERROR(RTD(\"cqg.rtd\", ,\"ContractData\",C2687, \"PerCentNetLastTrade\",, \"T\")/100,\"\")","v":""},{"$error":"#VALUE!"},"","S.US.OVBC",2687,""]
[null,null,"S.US.BVXV",{"$f":"IFERROR(RTD(\"cqg.rtd\", ,\"ContractData\",C2688, \"PerCentNetLastTrade\",, \"T\")/100,\"\")","v":-3.3613445378151259E-2},2463,2463,"S.US.BVXV",2688,""]
[null,null,"S.US.DHXM",{"$f":"IFERROR(RTD(\"cqg.rtd\", ,\"ContractData\",C2689, \"PerCentNetLastTrade\",, \"T\")/100,\"\")","v":""},{"$error":"#VALUE!"},"","S.US.DHXM",2689,{"$f":"IFERROR(VLOOKUP(H2689,$F$1:$G$2860,2,FALSE),\"\")","v":""}]
[null,null,"S.US.PAGG",{"$f":"IFERROR(RTD(\"cqg.rtd\", ,\"ContractData\",C2690, \"PerCentNetLastTrade\",, \"T\")/100,\"\")","v":""},{"$error":"#VALUE!"},{"$f":"IFERROR(E2690,\"\")","v":""},"S.US.PAGG",2690,""]
[null,null,"S.US.ADRA",{"$f":"IFERROR(RTD(\"cqg.rtd\", ,\"ContractData\",C2691, \"PerCentNetLastTrade\",, \"T\")/100,\"\")","v":7.140307033202428E-4},1335,1335,{"$f":"C2691","v":"S.US.ADRA"},{"$f":"H2690+1","v":2691},""]
[null,null,"S.US.FTRI",{"$f":"IFERROR(RTD(\"cqg.rtd\", ,\"ContractData\",C2692, \"PerCentNetLastTrade\",, \"T\")/100,\"\")","v":1.569713758079409E-2},474,474,"S.US.FTRI",2692,""]
[null,null,"S.US.DWAT",{"$f":"IFERROR(RTD(\"cqg.rtd\", ,\"ContractData\",C2693, \"PerCentNetLastTrade\",, \"T\")/100,\"\")","v":""},{"$error":"#VALUE!"},"","S.US.DWAT",2693,""]
[null,null,"S.US.SEV",{"$f":"IFERROR(RTD(\"cqg.rtd\", ,\"ContractData\",C2694, \"PerCentNetLastTrade\",, \"T\")/100,\"\")","v":""},{"$error":"#VALUE!"},"","S.US.SEV",2694,""]
[null,null,"S.US.GOODP",{"$f":"IFERROR(RTD(\"cqg.rtd\", ,\"ContractData\",C2695, \"PerCentNetLastTrade\",, \"T\")/100,\"\")","v":-7.003891050583657E-3},1978,1978,"S.US.GOODP",2695,""]
[null,null,"S.US.SMBK",{"$f":"IFERROR(RTD(\"cqg.rtd\", ,\"ContractData\",C2696, \"PerCentNetLastTrade\",, \"T\")/100,\"\")","v":""},{"$error":"#VALUE!"},"","S.US.SMBK",2696,""]
[null,null,"S.US.CSB",{"$f":"IFERROR(RTD(\"cqg.rtd\", ,\"ContractData\",C2697, \"PerCentNetLastTrade\",, \"T\")/100,\"\")","v":""},{"$error":"#VALUE!"},"","S.US.CSB",2697,""]
[null,null,"S.US.QADB",{"$f":"IFERROR(RTD(\"cqg.rtd\", ,\"ContractData\",C2698, \"PerCentNetLastTrade\",, \"T\")/100,\"\")","v":""},{"$error":"#VALUE!"},"","S.US.QADB",2698,""]
[null,null,"S.US.HBMD",{"$f":"IFERROR(RTD(\"cqg.rtd\", ,\"ContractData\",C2699, \"PerCentNetLastTrade\",, \"T\")/100,\"\")","v":0},1565,1565,"S.US.HBMD",2699,""]
[null,null,"S.US.MPB",{"$f":"IFERROR(RTD(\"cqg.rtd\", ,\"ContractData\",C2700, \"PerCentNetLastTrade\",, \"T\")/100,\"\")","v":2.4553571428571428E-2},251,251,"S.US.MPB",2700,""]
[null,null,"S.US.TIL",{"$f":"IFERROR(RTD(\"cqg.rtd\", ,\"ContractData\",C2701, \"PerCentNetLastTrade\",, \"T\")/100,\"\")","v":""},{"$error":"#VALUE!"},"","S.US.TIL",2701,""]
[null,null,"S.US.GLADO",{"$f":"IFERROR(RTD(\"cqg.rtd\", ,\"ContractData\",C2702, \"PerCentNetLastTrade\",, \"T\")/100,\"\")","v":-3.9308176100628928E-4},1585,1585,"S.US.GLADO",2702,""]
[null,null,"S.US.UG",{"$f":"IFERROR(RTD(\"cqg.rtd\", ,\"ContractData\",C2703, \"PerCentNetLastTrade\",, \"T\")/100,\"\")","v":1.8808777429467086E-2},381,381,"S.US.UG",2703,""]
[null,null,"S.US.FTLB",{"$f":"IFERROR(RTD(\"cqg.rtd\", ,\"ContractData\",C2704, \"PerCentNetLastTrade\",, \"T\")/100,\"\")","v":""},{"$error":"#VALUE!"},"","S.US.FTLB",2704,""]
[null,null,"S.US.GLBZ",{"$f":"IFERROR(RTD(\"cqg.rtd\", ,\"ContractData\",C2705, \"PerCentNetLastTrade\",, \"T\")/100,\"\")","v":1.6865079365079364E-2},433,433,"S.US.GLBZ",2705,""]
[null,null,"S.US.FSBC",{"$f":"IFERROR(RTD(\"cqg.rtd\", ,\"ContractData\",C2706, \"PerCentNetLastTrade\",, \"T\")/100,\"\")","v":""},{"$error":"#VALUE!"},"","S.US.FSBC",2706,""]
[null,null,"S.US.ESGD",{"$f":"IFERROR(RTD(\"cqg.rtd\", ,\"ContractData\",C2707, \"PerCentNetLastTrade\",, \"T\")/100,\"\")","v":""},{"$error":"#VALUE!"},"","S.US.ESGD",2707,""]
[null,null,"S.US.BPFHP",{"$f":"IFERROR(RTD(\"cqg.rtd\", ,\"ContractData\",C2708, \"PerCentNetLastTrade\",, \"T\")/100,\"\")","v":-3.1872509960159364E-3},1768,1768,"S.US.BPFHP",2708,""]
[null,null,"S.US.VIIZ",{"$f":"IFERROR(RTD(\"cqg.rtd\", ,\"ContractData\",C2709, \"PerCentNetLastTrade\",, \"T\")/100,\"\")","v":""},{"$error":"#VALUE!"},"","S.US.VIIZ",2709,""]
[null,null,"S.US.OSBCP",{"$f":"IFERROR(RTD(\"cqg.rtd\", ,\"ContractData\",C2710, \"PerCentNetLastTrade\",, \"T\")/100,\"\")","v":""},{"$error":"#VALUE!"},"","S.US.OSBCP",2710,""]
[null,null,"S.US.LENS",{"$f":"IFERROR(RTD(\"cqg.rtd\", ,\"ContractData\",C2711, \"PerCentNetLastTrade\",, \"T\")/100,\"\")","v":-7.0454545454545464E-2},2546,2546,"S.US.LENS",2711,""]
[null,null,"S.US.CUBN",{"$f":"IFERROR(RTD(\"cqg.rtd\", ,\"ContractData\",C2712, \"PerCentNetLastTrade\",, \"T\")/100,\"\")","v":""},{"$error":"#VALUE!"},"","S.US.CUBN",2712,""]
[null,null,"S.US.BWINA",{"$f":"IFERROR(RTD(\"cqg.rtd\", ,\"ContractData\",C2713, \"PerCentNetLastTrade\",, \"T\")/100,\"\")","v":-3.0828516377649322E-3},1762,1762,"S.US.BWINA",2713,""]
[null,null,"S.US.ESBK",{"$f":"IFERROR(RTD(\"cqg.rtd\", ,\"ContractData\",C2714, \"PerCentNetLastTrade\",, \"T\")/100,\"\")","v":""},{"$error":"#VALUE!"},"","S.US.ESBK",2714,""]
[null,null,"S.US.PHII",{"$f":"IFERROR(RTD(\"cqg.rtd\", ,\"ContractData\",C2715, \"PerCentNetLastTrade\",, \"T\")/100,\"\")","v":2.1582733812949638E-2},318,318,"S.US.PHII",2715,""]
[null,null,"S.US.OPOF",{"$f":"IFERROR(RTD(\"cqg.rtd\", ,\"ContractData\",C2716, \"PerCentNetLastTrade\",, \"T\")/100,\"\")","v":""},{"$error":"#VALUE!"},"","S.US.OPOF",2716,""]
[null,null,"S.US.ASBB",{"$f":"IFERROR(RTD(\"cqg.rtd\", ,\"ContractData\",C2717, \"PerCentNetLastTrade\",, \"T\")/100,\"\")","v":""},{"$error":"#VALUE!"},"","S.US.ASBB",2717,""]
[null,null,"S.US.EVK",{"$f":"IFERROR(RTD(\"cqg.rtd\", ,\"ContractData\",C2718, \"PerCentNetLastTrade\",, \"T\")/100,\"\")","v":0},1566,1566,"S.US.EVK",2718,""]
[null,null,"S.US.OLD",{"$f":"IFERROR(RTD(\"cqg.rtd\", ,\"ContractData\",C2719, \"PerCentNetLastTrade\",, \"T\")/100,\"\")","v":""},{"$error":"#VALUE!"},"","S.US.OLD",2719,""]
[null,null,"S.US.LARK",{"$f":"IFERROR(RTD(\"cqg.rtd\", ,\"ContractData\",C2720, \"PerCentNetLastTrade\",, \"T\")/100,\"\")","v":1.6266173752310535E-2},452,452,"S.US.LARK",2720,""]
[null,null,"S.US.BKSC",{"$f":"IFERROR(RTD(\"cqg.rtd\", ,\"ContractData\",C2721, \"PerCentNetLastTrade\",, \"T\")/100,\"\")","v":""},{"$error":"#VALUE!"},"","S.US.BKSC",2721,""]
[null,null,"S.US.ARKR",{"$f":"IFERROR(RTD(\"cqg.rtd\", ,\"ContractData\",C2722, \"PerCentNetLastTrade\",, \"T\")/100,\"\")","v":-7.2959416324669402E-3},1995,1995,"S.US.ARKR",2722,""]
[null,null,"S.US.ISRL",{"$f":"IFERROR(RTD(\"cqg.rtd\", ,\"ContractData\",C2723, \"PerCentNetLastTrade\",, \"T\")/100,\"\")","v":1.5544041450777202E-2},479,479,"S.US.ISRL",2723,""]
[null,null,"S.US.FBMS",{"$f":"IFERROR(RTD(\"cqg.rtd\", ,\"ContractData\",C2724, \"PerCentNetLastTrade\",, \"T\")/100,\"\")","v":""},{"$error":"#VALUE!"},"","S.US.FBMS",2724,""]
[null,null,"S.US.MRUS",{"$f":"IFERROR(RTD(\"cqg.rtd\", ,\"ContractData\",C2725, \"PerCentNetLastTrade\",, \"T\")/100,\"\")","v":-2.5157232704402514E-2},2397,2397,"S.US.MRUS",2725,""]
[null,null,"S.US.DAX",{"$f":"IFERROR(RTD(\"cqg.rtd\", ,\"ContractData\",C2726, \"PerCentNetLastTrade\",, \"T\")/100,\"\")","v":""},{"$error":"#VALUE!"},"","S.US.DAX",2726,""]
[null,null,"S.US.WAYN",{"$f":"IFERROR(RTD(\"cqg.rtd\", ,\"ContractData\",C2727, \"PerCentNetLastTrade\",, \"T\")/100,\"\")","v":""},{"$error":"#VALUE!"},"","S.US.WAYN",2727,""]
[null,null,"S.US.SMCP",{"$f":"IFERROR(RTD(\"cqg.rtd\", ,\"ContractData\",C2728, \"PerCentNetLastTrade\",, \"T\")/100,\"\")","v":""},{"$error":"#VALUE!"},"","S.US.SMCP",2728,""]
[null,null,"S.US.CIZN",{"$f":"IFERROR(RTD(\"cqg.rtd\", ,\"ContractData\",C2729, \"PerCentNetLastTrade\",, \"T\")/100,\"\")","v":""},{"$error":"#VALUE!"},"","S.US.CIZN",2729,""]
[null,null,"S.US.FCAN",{"$f":"IFERROR(RTD(\"cqg.rtd\", ,\"ContractData\",C2730, \"PerCentNetLastTrade\",, \"T\")/100,\"\")","v":""},{"$error":"#VALUE!"},"","S.US.FCAN",2730,""]
[null,null,"S.US.APWC",{"$f":"IFERROR(RTD(\"cqg.rtd\", ,\"ContractData\",C2731, \"PerCentNetLastTrade\",, \"T\")/100,\"\")","v":""},{"$error":"#VALUE!"},"","S.US.APWC",2731,""]
[null,null,"S.US.AAME",{"$f":"IFERROR(RTD(\"cqg.rtd\", ,\"ContractData\",C2732, \"PerCentNetLastTrade\",, \"T\")/100,\"\")","v":6.6666666666666666E-2},39,39,"S.US.AAME",2732,""]
[null,null,"S.US.SRTS",{"$f":"IFERROR(RTD(\"cqg.rtd\", ,\"ContractData\",C2733, \"PerCentNetLastTrade\",, \"T\")/100,\"\")","v":4.3478260869565216E-2},84,84,"S.US.SRTS",2733,""]
[null,null,"S.US.AUBN",{"$f":"IFERROR(RTD(\"cqg.rtd\", ,\"ContractData\",C2734, \"PerCentNetLastTrade\",, \"T\")/100,\"\")","v":4.1286079649251003E-2},91,91,"S.US.AUBN",2734,""]
[null,null,"S.US.GOODO",{"$f":"IFERROR(RTD(\"cqg.rtd\", ,\"ContractData\",C2735, \"PerCentNetLastTrade\",, \"T\")/100,\"\")","v":0},1567,1567,"S.US.GOODO",2735,""]
[null,null,"S.US.LKOR",{"$f":"IFERROR(RTD(\"cqg.rtd\", ,\"ContractData\",C2736, \"PerCentNetLastTrade\",, \"T\")/100,\"\")","v":""},{"$error":"#VALUE!"},"","S.US.LKOR",2736,""]
[null,null,"S.US.LALT",{"$f":"IFERROR(RTD(\"cqg.rtd\", ,\"ContractData\",C2737, \"PerCentNetLastTrade\",, \"T\")/100,\"\")","v":""},{"$error":"#VALUE!"},"","S.US.LALT",2737,""]
[null,null,"S.US.CFCB",{"$f":"IFERROR(RTD(\"cqg.rtd\", ,\"ContractData\",C2738, \"PerCentNetLastTrade\",, \"T\")/100,\"\")","v":""},{"$error":"#VALUE!"},"","S.US.CFCB",2738,""]
[null,null,"S.US.VRTB",{"$f":"IFERROR(RTD(\"cqg.rtd\", ,\"ContractData\",C2739, \"PerCentNetLastTrade\",, \"T\")/100,\"\")","v":""},{"$error":"#VALUE!"},"","S.US.VRTB",2739,""]
[null,null,"S.US.SOFO",{"$f":"IFERROR(RTD(\"cqg.rtd\", ,\"ContractData\",C2740, \"PerCentNetLastTrade\",, \"T\")/100,\"\")","v":3.7549407114624504E-2},116,116,"S.US.SOFO",2740,""]
[null,null,"S.US.UNAM",{"$f":"IFERROR(RTD(\"cqg.rtd\", ,\"ContractData\",C2741, \"PerCentNetLastTrade\",, \"T\")/100,\"\")","v":""},{"$error":"#VALUE!"},"","S.US.UNAM",2741,""]
[null,null,"S.US.HYXE",{"$f":"IFERROR(RTD(\"cqg.rtd\", ,\"ContractData\",C2742, \"PerCentNetLastTrade\",, \"T\")/100,\"\")","v":""},{"$error":"#VALUE!"},"","S.US.HYXE",2742,""]
[null,null,"S.US.RGCO",{"$f":"IFERROR(RTD(\"cqg.rtd\", ,\"ContractData\",C2743, \"PerCentNetLastTrade\",, \"T\")/100,\"\")","v":7.6891946580331851E-3},866,866,"S.US.RGCO",2743,""]
[null,null,"S.US.MGCD",{"$f":"IFERROR(RTD(\"cqg.rtd\", ,\"ContractData\",C2744, \"PerCentNetLastTrade\",, \"T\")/100,\"\")","v":9.126466753585397E-3},789,789,"S.US.MGCD",2744,""]
[null,null,"S.US.CMCT",{"$f":"IFERROR(RTD(\"cqg.rtd\", ,\"ContractData\",C2745, \"PerCentNetLastTrade\",, \"T\")/100,\"\")","v":""},{"$error":"#VALUE!"},"","S.US.CMCT",2745,""]
[null,null,"S.US.KRMA",{"$f":"IFERROR(RTD(\"cqg.rtd\", ,\"ContractData\",C2746, \"PerCentNetLastTrade\",, \"T\")/100,\"\")","v":""},{"$error":"#VALUE!"},"","S.US.KRMA",2746,""]
[null,null,"S.US.WBB",{"$f":"IFERROR(RTD(\"cqg.rtd\", ,\"ContractData\",C2747, \"PerCentNetLastTrade\",, \"T\")/100,\"\")","v":0.01},725,725,"S.US.WBB",2747,""]
[null,null,"S.US.INTG",{"$f":"IFERROR(RTD(\"cqg.rtd\", ,\"ContractData\",C2748, \"PerCentNetLastTrade\",, \"T\")/100,\"\")","v":""},{"$error":"#VALUE!"},"","S.US.INTG",2748,""]
[null,null,"S.US.GPIC",{"$f":"IFERROR(RTD(\"cqg.rtd\", ,\"ContractData\",C2749, \"PerCentNetLastTrade\",, \"T\")/100,\"\")","v":""},{"$error":"#VALUE!"},"","S.US.GPIC",2749,""]
[null,null,"S.US.QVCB",{"$f":"IFERROR(RTD(\"cqg.rtd\", ,\"ContractData\",C2750, \"PerCentNetLastTrade\",, \"T\")/100,\"\")","v":""},{"$error":"#VALUE!"},"","S.US.QVCB",2750,""]
[null,null,"S.US.CSA",{"$f":"IFERROR(RTD(\"cqg.rtd\", ,\"ContractData\",C2751, \"PerCentNetLastTrade\",, \"T\")/100,\"\")","v":-1.2345679012345679E-3},1640,1640,"S.US.CSA",2751,""]
[null,null,"S.US.QQQC",{"$f":"IFERROR(RTD(\"cqg.rtd\", ,\"ContractData\",C2752, \"PerCentNetLastTrade\",, \"T\")/100,\"\")","v":1.7248814144027599E-3},1275,1275,"S.US.QQQC",2752,""]
[null,null,"S.US.TUSA",{"$f":"IFERROR(RTD(\"cqg.rtd\", ,\"ContractData\",C2753, \"PerCentNetLastTrade\",, \"T\")/100,\"\")","v":""},{"$error":"#VALUE!"},"","S.US.TUSA",2753,{"$f":"IFERROR(VLOOKUP(H2753,$F$1:$G$2860,2,FALSE),\"\")","v":""}]
[null,null,"S.US.FLAG",{"$f":"IFERROR(RTD(\"cqg.rtd\", ,\"ContractData\",C2754, \"PerCentNetLastTrade\",, \"T\")/100,\"\")","v":""},{"$error":"#VALUE!"},{"$f":"IFERROR(E2754,\"\")","v":""},"S.US.FLAG",2754,""]
[null,null,"S.US.IROQ",{"$f":"IFERROR(RTD(\"cqg.rtd\", ,\"ContractData\",C2755, \"PerCentNetLastTrade\",, \"T\")/100,\"\")","v":""},{"$error":"#VALUE!"},"",{"$f":"C2755","v":"S.US.IROQ"},{"$f":"H2754+1","v":2755},""]
[null,null,"S.US.BRID",{"$f":"IFERROR(RTD(\"cqg.rtd\", ,\"ContractData\",C2756, \"PerCentNetLastTrade\",, \"T\")/100,\"\")","v":""},{"$error":"#VALUE!"},"","S.US.BRID",2756,""]
[null,null,"S.US.SAJA",{"$f":"IFERROR(RTD(\"cqg.rtd\", ,\"ContractData\",C2757, \"PerCentNetLastTrade\",, \"T\")/100,\"\")","v":""},{"$error":"#VALUE!"},"","S.US.SAJA",2757,""]
[null,null,"S.US.BICK",{"$f":"IFERROR(RTD(\"cqg.rtd\", ,\"ContractData\",C2758, \"PerCentNetLastTrade\",, \"T\")/100,\"\")","v":2.7051397655545534E-3},1208,1208,"S.US.BICK",2758,""]
[null,null,"S.US.LSBK",{"$f":"IFERROR(RTD(\"cqg.rtd\", ,\"ContractData\",C2759, \"PerCentNetLastTrade\",, \"T\")/100,\"\")","v":""},{"$error":"#VALUE!"},"","S.US.LSBK",2759,""]
[null,null,"S.US.UBOH",{"$f":"IFERROR(RTD(\"cqg.rtd\", ,\"ContractData\",C2760, \"PerCentNetLastTrade\",, \"T\")/100,\"\")","v":2.388059701492537E-2},264,264,"S.US.UBOH",2760,""]
[null,null,"S.US.QLC",{"$f":"IFERROR(RTD(\"cqg.rtd\", ,\"ContractData\",C2761, \"PerCentNetLastTrade\",, \"T\")/100,\"\")","v":""},{"$error":"#VALUE!"},"","S.US.QLC",2761,""]
[null,null,"S.US.JSML",{"$f":"IFERROR(RTD(\"cqg.rtd\", ,\"ContractData\",C2762, \"PerCentNetLastTrade\",, \"T\")/100,\"\")","v":""},{"$error":"#VALUE!"},"","S.US.JSML",2762,""]
[null,null,"S.US.VBFC",{"$f":"IFERROR(RTD(\"cqg.rtd\", ,\"ContractData\",C2763, \"PerCentNetLastTrade\",, \"T\")/100,\"\")","v":""},{"$error":"#VALUE!"},"","S.US.VBFC",2763,""]
[null,null,"S.US.HYND",{"$f":"IFERROR(RTD(\"cqg.rtd\", ,\"ContractData\",C2764, \"PerCentNetLastTrade\",, \"T\")/100,\"\")","v":3.9196472317491425E-3},1120,1120,"S.US.HYND",2764,""]
[null,null,"S.US.FSFG",{"$f":"IFERROR(RTD(\"cqg.rtd\", ,\"ContractData\",C2765, \"PerCentNetLastTrade\",, \"T\")/100,\"\")","v":2.488181139586962E-4},1368,1368,"S.US.FSFG",2765,""]
[null,null,"S.US.HMTA",{"$f":"IFERROR(RTD(\"cqg.rtd\", ,\"ContractData\",C2766, \"PerCentNetLastTrade\",, \"T\")/100,\"\")","v":5.586592178770949E-3},1010,1010,"S.US.HMTA",2766,""]
[null,null,"S.US.PMPT",{"$f":"IFERROR(RTD(\"cqg.rtd\", ,\"ContractData\",C2767, \"PerCentNetLastTrade\",, \"T\")/100,\"\")","v":""},{"$error":"#VALUE!"},"","S.US.PMPT",2767,""]
[null,null,"S.US.TCFC",{"$f":"IFERROR(RTD(\"cqg.rtd\", ,\"ContractData\",C2768, \"PerCentNetLastTrade\",, \"T\")/100,\"\")","v":9.0909090909090905E-3},793,793,"S.US.TCFC",2768,""]
[null,null,"S.US.FINX",{"$f":"IFERROR(RTD(\"cqg.rtd\", ,\"ContractData\",C2769, \"PerCentNetLastTrade\",, \"T\")/100,\"\")","v":""},{"$error":"#VALUE!"},"","S.US.FINX",2769,""]
[null,null,"S.US.HDRA",{"$f":"IFERROR(RTD(\"cqg.rtd\", ,\"ContractData\",C2770, \"PerCentNetLastTrade\",, \"T\")/100,\"\")","v":""},{"$error":"#VALUE!"},"","S.US.HDRA",2770,""]
[null,null,"S.US.EDBI",{"$f":"IFERROR(RTD(\"cqg.rtd\", ,\"ContractData\",C2771, \"PerCentNetLastTrade\",, \"T\")/100,\"\")","v":""},{"$error":"#VALUE!"},"","S.US.EDBI",2771,""]
[null,null,"S.US.DDBI",{"$f":"IFERROR(RTD(\"cqg.rtd\", ,\"ContractData\",C2772, \"PerCentNetLastTrade\",, \"T\")/100,\"\")","v":""},{"$error":"#VALUE!"},"","S.US.DDBI",2772,""]
[null,null,"S.US.OPHC",{"$f":"IFERROR(RTD(\"cqg.rtd\", ,\"ContractData\",C2773, \"PerCentNetLastTrade\",, \"T\")/100,\"\")","v":-0.14428857715430862},2568,2568,"S.US.OPHC",2773,""]
[null,null,"S.US.MELR",{"$f":"IFERROR(RTD(\"cqg.rtd\", ,\"ContractData\",C2774, \"PerCentNetLastTrade\",, \"T\")/100,\"\")","v":""},{"$error":"#VALUE!"},"","S.US.MELR",2774,""]
[null,null,"S.US.HYZD",{"$f":"IFERROR(RTD(\"cqg.rtd\", ,\"ContractData\",C2775, \"PerCentNetLastTrade\",, \"T\")/100,\"\")","v":1.7086715079026058E-3},1276,1276,"S.US.HYZD",2775,""]
[null,null,"S.US.CART",{"$f":"IFERROR(RTD(\"cqg.rtd\", ,\"ContractData\",C2776, \"PerCentNetLastTrade\",, \"T\")/100,\"\")","v":""},{"$error":"#VALUE!"},"","S.US.CART",2776,""]
[null,null,"S.US.JSYN",{"$f":"IFERROR(RTD(\"cqg.rtd\", ,\"ContractData\",C2777, \"PerCentNetLastTrade\",, \"T\")/100,\"\")","v":9.9108027750247768E-4},1324,1324,"S.US.JSYN",2777,""]
[null,null,"S.US.POPE",{"$f":"IFERROR(RTD(\"cqg.rtd\", ,\"ContractData\",C2778, \"PerCentNetLastTrade\",, \"T\")/100,\"\")","v":-2.9976019184652283E-3},1753,1753,"S.US.POPE",2778,""]
[null,null,"S.US.SENEB",{"$f":"IFERROR(RTD(\"cqg.rtd\", ,\"ContractData\",C2779, \"PerCentNetLastTrade\",, \"T\")/100,\"\")","v":""},{"$error":"#VALUE!"},"","S.US.SENEB",2779,""]
[null,null,"S.US.HFBL",{"$f":"IFERROR(RTD(\"cqg.rtd\", ,\"ContractData\",C2780, \"PerCentNetLastTrade\",, \"T\")/100,\"\")","v":""},{"$error":"#VALUE!"},"","S.US.HFBL",2780,""]
[null,null,"S.US.ROIA",{"$f":"IFERROR(RTD(\"cqg.rtd\", ,\"ContractData\",C2781, \"PerCentNetLastTrade\",, \"T\")/100,\"\")","v":-3.4482758620689655E-2},2468,2468,"S.US.ROIA",2781,""]
[null,null,"S.US.MCEF",{"$f":"IFERROR(RTD(\"cqg.rtd\", ,\"ContractData\",C2782, \"PerCentNetLastTrade\",, \"T\")/100,\"\")","v":""},{"$error":"#VALUE!"},"","S.US.MCEF",2782,""]
[null,null,"S.US.PNBK",{"$f":"IFERROR(RTD(\"cqg.rtd\", ,\"ContractData\",C2783, \"PerCentNetLastTrade\",, \"T\")/100,\"\")","v":""},{"$error":"#VALUE!"},"","S.US.PNBK",2783,""]
[null,null,"S.US.FALN",{"$f":"IFERROR(RTD(\"cqg.rtd\", ,\"ContractData\",C2784, \"PerCentNetLastTrade\",, \"T\")/100,\"\")","v":""},{"$error":"#VALUE!"},"","S.US.FALN",2784,""]
[null,null,"S.US.BCOM",{"$f":"IFERROR(RTD(\"cqg.rtd\", ,\"ContractData\",C2785, \"PerCentNetLastTrade\",, \"T\")/100,\"\")","v":-4.4702726866338851E-3},1858,1858,"S.US.BCOM",2785,""]
[null,null,"S.US.CIL",{"$f":"IFERROR(RTD(\"cqg.rtd\", ,\"ContractData\",C2786, \"PerCentNetLastTrade\",, \"T\")/100,\"\")","v":""},{"$error":"#VALUE!"},"","S.US.CIL",2786,""]
[null,null,"S.US.IGLD",{"$f":"IFERROR(RTD(\"cqg.rtd\", ,\"ContractData\",C2787, \"PerCentNetLastTrade\",, \"T\")/100,\"\")","v":2.158894645941278E-2},317,317,"S.US.IGLD",2787,""]
[null,null,"S.US.HLG",{"$f":"IFERROR(RTD(\"cqg.rtd\", ,\"ContractData\",C2788, \"PerCentNetLastTrade\",, \"T\")/100,\"\")","v":""},{"$error":"#VALUE!"},"","S.US.HLG",2788,""]
[null,null,"S.US.FMK",{"$f":"IFERROR(RTD(\"cqg.rtd\", ,\"ContractData\",C2789, \"PerCentNetLastTrade\",, \"T\")/100,\"\")","v":""},{"$error":"#VALUE!"},"","S.US.FMK",2789,""]
[null,null,"S.US.FTXH",{"$f":"IFERROR(RTD(\"cqg.rtd\", ,\"ContractData\",C2790, \"PerCentNetLastTrade\",, \"T\")/100,\"\")","v":""},{"$error":"#VALUE!"},"","S.US.FTXH",2790,""]
[null,null,"S.US.CZFC",{"$f":"IFERROR(RTD(\"cqg.rtd\", ,\"ContractData\",C2791, \"PerCentNetLastTrade\",, \"T\")/100,\"\")","v":""},{"$error":"#VALUE!"},"","S.US.CZFC",2791,""]
[null,null,"S.US.GFNCP",{"$f":"IFERROR(RTD(\"cqg.rtd\", ,\"ContractData\",C2792, \"PerCentNetLastTrade\",, \"T\")/100,\"\")","v":""},{"$error":"#VALUE!"},"","S.US.GFNCP",2792,""]
[null,null,"S.US.CPAA",{"$f":"IFERROR(RTD(\"cqg.rtd\", ,\"ContractData\",C2793, \"PerCentNetLastTrade\",, \"T\")/100,\"\")","v":""},{"$error":"#VALUE!"},"","S.US.CPAA",2793,""]
[null,null,"S.US.EMCF",{"$f":"IFERROR(RTD(\"cqg.rtd\", ,\"ContractData\",C2794, \"PerCentNetLastTrade\",, \"T\")/100,\"\")","v":""},{"$error":"#VALUE!"},"","S.US.EMCF",2794,""]
[null,null,"S.US.IKNX",{"$f":"IFERROR(RTD(\"cqg.rtd\", ,\"ContractData\",C2795, \"PerCentNetLastTrade\",, \"T\")/100,\"\")","v":""},{"$error":"#VALUE!"},"","S.US.IKNX",2795,""]
[null,null,"S.US.FAAR",{"$f":"IFERROR(RTD(\"cqg.rtd\", ,\"ContractData\",C2796, \"PerCentNetLastTrade\",, \"T\")/100,\"\")","v":""},{"$error":"#VALUE!"},"","S.US.FAAR",2796,""]
[null,null,"S.US.FCAP",{"$f":"IFERROR(RTD(\"cqg.rtd\", ,\"ContractData\",C2797, \"PerCentNetLastTrade\",, \"T\")/100,\"\")","v":""},{"$error":"#VALUE!"},"","S.US.FCAP",2797,""]
[null,null,"S.US.CEZ",{"$f":"IFERROR(RTD(\"cqg.rtd\", ,\"ContractData\",C2798, \"PerCentNetLastTrade\",, \"T\")/100,\"\")","v":""},{"$error":"#VALUE!"},"","S.US.CEZ",2798,""]
[null,null,"S.US.PBSK",{"$f":"IFERROR(RTD(\"cqg.rtd\", ,\"ContractData\",C2799, \"PerCentNetLastTrade\",, \"T\")/100,\"\")","v":""},{"$error":"#VALUE!"},"","S.US.PBSK",2799,""]
[null,null,"S.US.CYAD",{"$f":"IFERROR(RTD(\"cqg.rtd\", ,\"ContractData\",C2800, \"PerCentNetLastTrade\",, \"T\")/100,\"\")","v":-0.21708333333333332},2572,2572,"S.US.CYAD",2800,""]
[null,null,"S.US.PATI",{"$f":"IFERROR(RTD(\"cqg.rtd\", ,\"ContractData\",C2801, \"PerCentNetLastTrade\",, \"T\")/100,\"\")","v":-7.5700227100681302E-4},1611,1611,"S.US.PATI",2801,""]
[null,null,"S.US.MBCN",{"$f":"IFERROR(RTD(\"cqg.rtd\", ,\"ContractData\",C2802, \"PerCentNetLastTrade\",, \"T\")/100,\"\")","v":""},{"$error":"#VALUE!"},"","S.US.MBCN",2802,""]
[null,null,"S.US.STRZB",{"$f":"IFERROR(RTD(\"cqg.rtd\", ,\"ContractData\",C2803, \"PerCentNetLastTrade\",, \"T\")/100,\"\")","v":""},{"$error":"#VALUE!"},"","S.US.STRZB",2803,""]
[null,null,"S.US.FITS",{"$f":"IFERROR(RTD(\"cqg.rtd\", ,\"ContractData\",C2804, \"PerCentNetLastTrade\",, \"T\")/100,\"\")","v":""},{"$error":"#VALUE!"},"","S.US.FITS",2804,""]
[null,null,"S.US.SFBC",{"$f":"IFERROR(RTD(\"cqg.rtd\", ,\"ContractData\",C2805, \"PerCentNetLastTrade\",, \"T\")/100,\"\")","v":""},{"$error":"#VALUE!"},"","S.US.SFBC",2805,""]
[null,null,"S.US.FONE",{"$f":"IFERROR(RTD(\"cqg.rtd\", ,\"ContractData\",C2806, \"PerCentNetLastTrade\",, \"T\")/100,\"\")","v":""},{"$error":"#VALUE!"},"","S.US.FONE",2806,""]
[null,null,"S.US.FDTS",{"$f":"IFERROR(RTD(\"cqg.rtd\", ,\"ContractData\",C2807, \"PerCentNetLastTrade\",, \"T\")/100,\"\")","v":""},{"$error":"#VALUE!"},"","S.US.FDTS",2807,""]
[null,null,"S.US.RFAP",{"$f":"IFERROR(RTD(\"cqg.rtd\", ,\"ContractData\",C2808, \"PerCentNetLastTrade\",, \"T\")/100,\"\")","v":""},{"$error":"#VALUE!"},"","S.US.RFAP",2808,""]
[null,null,"S.US.WVFC",{"$f":"IFERROR(RTD(\"cqg.rtd\", ,\"ContractData\",C2809, \"PerCentNetLastTrade\",, \"T\")/100,\"\")","v":7.2202166064981952E-3},895,895,"S.US.WVFC",2809,""]
[null,null,"S.US.ATLC",{"$f":"IFERROR(RTD(\"cqg.rtd\", ,\"ContractData\",C2810, \"PerCentNetLastTrade\",, \"T\")/100,\"\")","v":-0.48006932409012132},2574,2574,"S.US.ATLC",2810,""]
[null,null,"S.US.ESGE",{"$f":"IFERROR(RTD(\"cqg.rtd\", ,\"ContractData\",C2811, \"PerCentNetLastTrade\",, \"T\")/100,\"\")","v":""},{"$error":"#VALUE!"},"","S.US.ESGE",2811,""]
[null,null,"S.US.ADRU",{"$f":"IFERROR(RTD(\"cqg.rtd\", ,\"ContractData\",C2812, \"PerCentNetLastTrade\",, \"T\")/100,\"\")","v":9.7666847531199131E-3},742,742,"S.US.ADRU",2812,""]
[null,null,"S.US.WBKC",{"$f":"IFERROR(RTD(\"cqg.rtd\", ,\"ContractData\",C2813, \"PerCentNetLastTrade\",, \"T\")/100,\"\")","v":""},{"$error":"#VALUE!"},"","S.US.WBKC",2813,""]
[null,null,"S.US.FEUZ",{"$f":"IFERROR(RTD(\"cqg.rtd\", ,\"ContractData\",C2814, \"PerCentNetLastTrade\",, \"T\")/100,\"\")","v":""},{"$error":"#VALUE!"},"","S.US.FEUZ",2814,""]
[null,null,"S.US.CRDT",{"$f":"IFERROR(RTD(\"cqg.rtd\", ,\"ContractData\",C2815, \"PerCentNetLastTrade\",, \"T\")/100,\"\")","v":""},{"$error":"#VALUE!"},"","S.US.CRDT",2815,""]
[null,null,"S.US.AIRT",{"$f":"IFERROR(RTD(\"cqg.rtd\", ,\"ContractData\",C2816, \"PerCentNetLastTrade\",, \"T\")/100,\"\")","v":""},{"$error":"#VALUE!"},"","S.US.AIRT",2816,""]
[null,null,"S.US.FTAG",{"$f":"IFERROR(RTD(\"cqg.rtd\", ,\"ContractData\",C2817, \"PerCentNetLastTrade\",, \"T\")/100,\"\")","v":""},{"$error":"#VALUE!"},"","S.US.FTAG",2817,{"$f":"IFERROR(VLOOKUP(H2817,$F$1:$G$2860,2,FALSE),\"\")","v":""}]
[null,null,"S.US.FCA",{"$f":"IFERROR(RTD(\"cqg.rtd\", ,\"ContractData\",C2818, \"PerCentNetLastTrade\",, \"T\")/100,\"\")","v":""},{"$error":"#VALUE!"},{"$f":"IFERROR(E2818,\"\")","v":""},"S.US.FCA",2818,""]
[null,null,"S.US.BMLA",{"$f":"IFERROR(RTD(\"cqg.rtd\", ,\"ContractData\",C2819, \"PerCentNetLastTrade\",, \"T\")/100,\"\")","v":""},{"$error":"#VALUE!"},"",{"$f":"C2819","v":"S.US.BMLA"},{"$f":"H2818+1","v":2819},""]
[null,null,"S.US.CPHC",{"$f":"IFERROR(RTD(\"cqg.rtd\", ,\"ContractData\",C2820, \"PerCentNetLastTrade\",, \"T\")/100,\"\")","v":""},{"$error":"#VALUE!"},"","S.US.CPHC",2820,""]
[null,null,"S.US.GENY",{"$f":"IFERROR(RTD(\"cqg.rtd\", ,\"ContractData\",C2821, \"PerCentNetLastTrade\",, \"T\")/100,\"\")","v":""},{"$error":"#VALUE!"},"","S.US.GENY",2821,""]
[null,null,"S.US.MGYR",{"$f":"IFERROR(RTD(\"cqg.rtd\", ,\"ContractData\",C2822, \"PerCentNetLastTrade\",, \"T\")/100,\"\")","v":""},{"$error":"#VALUE!"},"","S.US.MGYR",2822,""]
[null,null,"S.US.PY",{"$f":"IFERROR(RTD(\"cqg.rtd\", ,\"ContractData\",C2823, \"PerCentNetLastTrade\",, \"T\")/100,\"\")","v":""},{"$error":"#VALUE!"},"","S.US.PY",2823,""]
[null,null,"S.US.LINK",{"$f":"IFERROR(RTD(\"cqg.rtd\", ,\"ContractData\",C2824, \"PerCentNetLastTrade\",, \"T\")/100,\"\")","v":""},{"$error":"#VALUE!"},"","S.US.LINK",2824,""]
[null,null,"S.US.CYCCP",{"$f":"IFERROR(RTD(\"cqg.rtd\", ,\"ContractData\",C2825, \"PerCentNetLastTrade\",, \"T\")/100,\"\")","v":""},{"$error":"#VALUE!"},"","S.US.CYCCP",2825,""]
[null,null,"S.US.CTIB",{"$f":"IFERROR(RTD(\"cqg.rtd\", ,\"ContractData\",C2826, \"PerCentNetLastTrade\",, \"T\")/100,\"\")","v":""},{"$error":"#VALUE!"},"","S.US.CTIB",2826,""]
[null,null,"S.US.VALX",{"$f":"IFERROR(RTD(\"cqg.rtd\", ,\"ContractData\",C2827, \"PerCentNetLastTrade\",, \"T\")/100,\"\")","v":""},{"$error":"#VALUE!"},"","S.US.VALX",2827,""]
[null,null,"S.US.IMED",{"$f":"IFERROR(RTD(\"cqg.rtd\", ,\"ContractData\",C2828, \"PerCentNetLastTrade\",, \"T\")/100,\"\")","v":""},{"$error":"#VALUE!"},"","S.US.IMED",2828,""]
[null,null,"S.US.OFED",{"$f":"IFERROR(RTD(\"cqg.rtd\", ,\"ContractData\",C2829, \"PerCentNetLastTrade\",, \"T\")/100,\"\")","v":5.140186915887851E-2},62,62,"S.US.OFED",2829,""]
[null,null,"S.US.CARV",{"$f":"IFERROR(RTD(\"cqg.rtd\", ,\"ContractData\",C2830, \"PerCentNetLastTrade\",, \"T\")/100,\"\")","v":""},{"$error":"#VALUE!"},"","S.US.CARV",2830,""]
[null,null,"S.US.BTEC",{"$f":"IFERROR(RTD(\"cqg.rtd\", ,\"ContractData\",C2831, \"PerCentNetLastTrade\",, \"T\")/100,\"\")","v":""},{"$error":"#VALUE!"},"","S.US.BTEC",2831,""]
[null,null,"S.US.SLIM",{"$f":"IFERROR(RTD(\"cqg.rtd\", ,\"ContractData\",C2832, \"PerCentNetLastTrade\",, \"T\")/100,\"\")","v":""},{"$error":"#VALUE!"},"","S.US.SLIM",2832,""]
[null,null,"S.US.ACTX",{"$f":"IFERROR(RTD(\"cqg.rtd\", ,\"ContractData\",C2833, \"PerCentNetLastTrade\",, \"T\")/100,\"\")","v":""},{"$error":"#VALUE!"},"","S.US.ACTX",2833,""]
[null,null,"S.US.UBND",{"$f":"IFERROR(RTD(\"cqg.rtd\", ,\"ContractData\",C2834, \"PerCentNetLastTrade\",, \"T\")/100,\"\")","v":""},{"$error":"#VALUE!"},"","S.US.UBND",2834,""]
[null,null,"S.US.FORTY",{"$f":"IFERROR(RTD(\"cqg.rtd\", ,\"ContractData\",C2835, \"PerCentNetLastTrade\",, \"T\")/100,\"\")","v":""},{"$error":"#VALUE!"},"","S.US.FORTY",2835,""]
[null,null,"S.US.WHLM",{"$f":"IFERROR(RTD(\"cqg.rtd\", ,\"ContractData\",C2836, \"PerCentNetLastTrade\",, \"T\")/100,\"\")","v":""},{"$error":"#VALUE!"},"","S.US.WHLM",2836,""]
[null,null,"S.US.KELYB",{"$f":"IFERROR(RTD(\"cqg.rtd\", ,\"ContractData\",C2837, \"PerCentNetLastTrade\",, \"T\")/100,\"\")","v":""},{"$error":"#VALUE!"},"","S.US.KELYB",2837,""]
[null,null,"S.US.LCA",{"$f":"IFERROR(RTD(\"cqg.rtd\", ,\"ContractData\",C2838, \"PerCentNetLastTrade\",, \"T\")/100,\"\")","v":""},{"$error":"#VALUE!"},"","S.US.LCA",2838,""]
[null,null,"S.US.CAPX",{"$f":"IFERROR(RTD(\"cqg.rtd\", ,\"ContractData\",C2839, \"PerCentNetLastTrade\",, \"T\")/100,\"\")","v":""},{"$error":"#VALUE!"},"","S.US.CAPX",2839,""]
[null,null,"S.US.RVEN",{"$f":"IFERROR(RTD(\"cqg.rtd\", ,\"ContractData\",C2840, \"PerCentNetLastTrade\",, \"T\")/100,\"\")","v":""},{"$error":"#VALUE!"},"","S.US.RVEN",2840,""]
[null,null,"S.US.BANFP",{"$f":"IFERROR(RTD(\"cqg.rtd\", ,\"ContractData\",C2841, \"PerCentNetLastTrade\",, \"T\")/100,\"\")","v":""},{"$error":"#VALUE!"},"","S.US.BANFP",2841,""]
[null,null,"S.US.AAPC",{"$f":"IFERROR(RTD(\"cqg.rtd\", ,\"ContractData\",C2842, \"PerCentNetLastTrade\",, \"T\")/100,\"\")","v":""},{"$error":"#VALUE!"},"","S.US.AAPC",2842,""]
[null,null,"S.US.FTW",{"$f":"IFERROR(RTD(\"cqg.rtd\", ,\"ContractData\",C2843, \"PerCentNetLastTrade\",, \"T\")/100,\"\")","v":""},{"$error":"#VALUE!"},"","S.US.FTW",2843,""]
[null,null,"S.US.ESGG",{"$f":"IFERROR(RTD(\"cqg.rtd\", ,\"ContractData\",C2844, \"PerCentNetLastTrade\",, \"T\")/100,\"\")","v":""},{"$error":"#VALUE!"},"","S.US.ESGG",2844,""]
[null,null,"S.US.DFVS",{"$f":"IFERROR(RTD(\"cqg.rtd\", ,\"ContractData\",C2845, \"PerCentNetLastTrade\",, \"T\")/100,\"\")","v":""},{"$error":"#VALUE!"},"","S.US.DFVS",2845,""]
[null,null,"S.US.PNRG",{"$f":"IFERROR(RTD(\"cqg.rtd\", ,\"ContractData\",C2846, \"PerCentNetLastTrade\",, \"T\")/100,\"\")","v":""},{"$error":"#VALUE!"},"","S.US.PNRG",2846,""]
[null,null,"S.US.MAYS",{"$f":"IFERROR(RTD(\"cqg.rtd\", ,\"ContractData\",C2847, \"PerCentNetLastTrade\",, \"T\")/100,\"\")","v":""},{"$error":"#VALUE!"},"","S.US.MAYS",2847,""]
[null,null,"S.US.FINQ",{"$f":"IFERROR(RTD(\"cqg.rtd\", ,\"ContractData\",C2848, \"PerCentNetLastTrade\",, \"T\")/100,\"\")","v":""},{"$error":"#VALUE!"},"","S.US.FINQ",2848,""]
[null,null,"S.US.LSXMB",{"$f":"IFERROR(RTD(\"cqg.rtd\", ,\"ContractData\",C2849, \"PerCentNetLastTrade\",, \"T\")/100,\"\")","v":""},{"$error":"#VALUE!"},"","S.US.LSXMB",2849,""]
[null,null,"S.US.CXSE",{"$f":"IFERROR(RTD(\"cqg.rtd\", ,\"ContractData\",C2850, \"PerCentNetLastTrade\",, \"T\")/100,\"\")","v":""},{"$error":"#VALUE!"},"","S.US.CXSE",2850,""]
[null,null,"S.US.ORG",{"$f":"IFERROR(RTD(\"cqg.rtd\", ,\"ContractData\",C2851, \"PerCentNetLastTrade\",, \"T\")/100,\"\")","v":""},{"$error":"#VALUE!"},"","S.US.ORG",2851,""]
[null,null,"S.US.LNGR",{"$f":"IFERROR(RTD(\"cqg.rtd\", ,\"ContractData\",C2852, \"PerCentNetLastTrade\",, \"T\")/100,\"\")","v":""},{"$error":"#VALUE!"},"","S.US.LNGR",2852,""]
[null,null,"S.US.DISCB",{"$f":"IFERROR(RTD(\"cqg.rtd\", ,\"ContractData\",C2853, \"PerCentNetLastTrade\",, \"T\")/100,\"\")","v":""},{"$error":"#VALUE!"},"","S.US.DISCB",2853,""]
[null,null,"S.US.LCAHU",{"$f":"IFERROR(RTD(\"cqg.rtd\", ,\"ContractData\",C2854, \"PerCentNetLastTrade\",, \"T\")/100,\"\")","v":""},{"$error":"#VALUE!"},"","S.US.LCAHU",2854,""]
[null,null,"S.US.OACQ",{"$f":"IFERROR(RTD(\"cqg.rtd\", ,\"ContractData\",C2855, \"PerCentNetLastTrade\",, \"T\")/100,\"\")","v":""},{"$error":"#VALUE!"},"","S.US.OACQ",2855,""]
[null,null,"S.US.BFIT",{"$f":"IFERROR(RTD(\"cqg.rtd\", ,\"ContractData\",C2856, \"PerCentNetLastTrade\",, \"T\")/100,\"\")","v":""},{"$error":"#VALUE!"},"","S.US.BFIT",2856,""]
[null,null,"S.US.LVNTB",{"$f":"IFERROR(RTD(\"cqg.rtd\", ,\"ContractData\",C2857, \"PerCentNetLastTrade\",, \"T\")/100,\"\")","v":""},{"$error":"#VALUE!"},"","S.US.LVNTB",2857,""]
[null,null,"S.US.ESG",{"$f":"IFERROR(RTD(\"cqg.rtd\", ,\"ContractData\",C2858, \"PerCentNetLastTrade\",, \"T\")/100,\"\")","v":""},{"$error":"#VALUE!"},"","S.US.ESG",2858,""]
[null,null,"S.US.LBTYB",{"$f":"IFERROR(RTD(\"cqg.rtd\", ,\"ContractData\",C2859, \"PerCentNetLastTrade\",, \"T\")/100,\"\")","v":""},{"$error":"#VALUE!"},"","S.US.LBTYB",2859,""]
[null,null,"S.US.DGICB",{"$f":"IFERROR(RTD(\"cqg.rtd\", ,\"ContractData\",C2860, \"PerCentNetLastTrade\",, \"T\")/100,\"\")","v":""},{"$error":"#VALUE!"},"","S.US.DGICB",2860,""]
[null,null,null,null,1567]
[null,null,null,null,1567]
[null,null,null,null,1567]
[null,null,null,null,1567]
[null,null,null,null,1567]
[null,null,null,null,1567]
[null,null,null,null,1567]
[null,null,null,null,1567]
[null,null,null,null,1567]
[null,null,null,null,1567]
[null,null,null,null,1567]
[null,null,null,null,1567]
[null,null,null,null,1567]
[null,null,null,null,1567]
[null,null,null,null,1567]
[null,null,null,null,1567]
[null,null,null,null,1567]
[null,null,null,null,1567]
[null,null,null,null,1567]
[null,null,null,null,1567]
[null,null,null,null,1567]
[null,null,null,null,1567]
[null,null,null,null,1567]
[null,null,null,null,1567]
[null,null,null,null,1567]
[null,null,null,null,1567]
[null,null,null,null,1567]
[null,null,null,null,1567]
[null,null,null,null,1567]
[null,null,null,null,1567]
[null,null,null,null,1567]
[null,null,null,null,1567]
[null,null,null,null,1567]
[null,null,null,null,1567]
[null,null,null,null,1567]
[null,null,null,null,1567]
[null,null,null,null,1567]
[null,null,null,null,1567]
[null,null,null,null,1567]
[null,null,null,null,1567]
[null,null,null,null,1567]
[null,null,null,null,1567]
[null,null,null,null,1567]
[null,null,null,null,1567]
[null,null,null,null,1567]
[null,null,null,null,1567]
[null,null,null,null,1567]
[null,null,null,null,1567]
[null,null,null,null,1567]
[null,null,null,null,1567]
[null,null,null,null,1567]
[null,null,null,null,1567]
[null,null,null,null,1567]
[null,null,null,null,1567]
[null,null,null,null,1567]
[null,null,null,null,1567]
[null,null,null,null,1567]
[null,null,null,null,1567]
[null,null,null,null,1567]
[null,null,null,null,1567]
[null,null,null,null,1567]
[null,null,null,null,1567]
[null,null,null,null,1567]
[null,null,null,null,1567]
[null,null,null,null,1567]
[null,null,null,null,1567]
[null,null,null,null,1567]
[null,null,null,null,1567]
[null,null,null,null,1567]
[null,null,null,null,1567]
[null,null,null,null,1567]
[null,null,null,null,1567]
[null,null,null,null,1567]
[null,null,null,null,1567]
[null,null,null,null,1567]
[null,null,null,null,1567]
[null,null,null,null,1567]
[null,null,null,null,1567]
[null,null,null,null,1567]
[null,null,null,null,1567]
[null,null,null,null,1567]
[null,null,null,null,1567]
[null,null,null,null,1567]
[null,null,null,null,1567]
[null,null,null,null,1567]
[null,null,null,null,1567]
[null,null,null,null,1567]
[null,null,null,null,1567]
[null,null,null,null,1567]
[null,null,null,null,1567]
[null,null,null,null,1567]
[null,null,null,null,1567]
[null,null,null,null,1567]
[null,null,null,null,1567]
[null,null,null,null,1567]
[null,null,null,null,1567]
[null,null,null,null,1567]
[null,null,null,null,1567]
[null,null,null,null,1567]
[null,null,null,null,1567]
[null,null,null,null,1567]
[null,null,null,null,1567]
[null,null,null,null,1567]
[null,null,null,null,1567]
[null,null,null,null,1567]
[null,null,null,null,1567]
[null,null,null,null,1567]
[null,null,null,null,1567]
[null,null,null,null,1567]
[null,null,null,null,1567]
[null,null,null,null,1567]
[null,null,null,null,1567]
[null,null,null,null,1567]
[null,null,null,null,1567]
[null,null,null,null,1567]
[null,null,null,null,1567]
[null,null,null,null,1567]
[null,null,null,null,1567]
[null,null,null,null,1567]
[null,null,null,null,1567]
[null,null,null,null,1567]
[null,null,null,null,1567]
[null,null,null,null,1567]
[null,null,null,null,1567]
[null,null,null,null,1567]
[null,null,null,null,1567]
[null,null,null,null,1567]
[null,null,null,null,1567]
[null,null,null,null,1567]
[null,null,null,null,1567]
[null,null,null,null,1567]
[null,null,null,null,1567]
[null,null,null,null,1567]
[null,null,null,null,1567]
[null,null,null,null,1567]
[null,null,null,null,1567]
[null,null,null,null,1567]
[null,null,null,null,1567]
[null,null,null,null,1567]
[null,null,null,null,1567]
[null,null,null,null,1567]
[null,null,null,null,1567]
[null,null,null,null,1567]
[null,null,null,null,1567]
[null,null,null,null,1567]
[null,null,null,null,1567]
[null,null,null,null,1567]
[null,null,null,null,1567]
[null,null,null,null,1567]
[null,null,null,null,1567]
[null,null,null,null,1567]
[null,null,null,null,1567]
[null,null,null,null,1567]
[null,null,null,null,1567]
[null,null,null,null,1567]
[null,null,null,null,1567]
[null,null,null,null,1567]
[null,null,null,null,1567]
[null,null,null,null,1567]
[null,null,null,null,1567]
[null,null,null,null,1567]
[null,null,null,null,1567]
[null,null,null,null,1567]
[null,null,null,null,1567]
[null,null,null,null,1567]
[null,null,null,null,1567]
[null,null,null,null,1567]
[null,null,null,null,1567]
[null,null,null,null,1567]
[null,null,null,null,1567]
[null,null,null,null,1567]
[null,null,null,null,1567]
[null,null,null,null,1567]
[null,null,null,null,1567]
[null,null,null,null,1567]
[null,null,null,null,1567]
[null,null,null,null,1567]
[null,null,null,null,1567]
[null,null,null,null,1567]
[null,null,null,null,1567]
[null,null,null,null,1567]
[null,null,null,null,1567]
[null,null,null,null,1567]
[null,null,null,null,1567]

{"sheet":"NYSE","index":3,"n_rows":3044,"n_cols":15,"rows_kept":3044,"cut":false,"hidden":true,"merged":[]}
[null,null,"S.US.BAC",{"$f":"IFERROR(RTD(\"cqg.rtd\", ,\"ContractData\",C1, \"PerCentNetLastTrade\",, \"T\")/100,\"\")","v":2.3164120256283883E-2},352,{"$f":"IFERROR(E1,\"\")","v":352},{"$f":"C1","v":"S.US.BAC"},1,{"$f":"IFERROR(VLOOKUP(H1,$F$1:$G$2522,2,FALSE),\"\")","v":"S.US.SM"},{"$f":"IFERROR(RTD(\"cqg.rtd\", ,\"ContractData\",I1, \"PerCentNetLastTrade\",, \"T\")/100,\"\")","v":0.21685991852083986},null,{"$f":"MIN(D1:D2522)","v":-0.13533834586466165},{"$f":"VLOOKUP(L1,D1:G2522,3,FALSE)","v":2475},{"$f":"VLOOKUP(M1,$H$1:$I$2522,2,FALSE)","v":"S.US.CMRE"},{"$f":"IFERROR(RTD(\"cqg.rtd\", ,\"ContractData\",N1, \"PerCentNetLastTrade\",, \"T\")/100,\"\")","v":-0.13533834586466165}]
[null,null,"S.US.CHK",{"$f":"IFERROR(RTD(\"cqg.rtd\", ,\"ContractData\",C2, \"PerCentNetLastTrade\",, \"T\")/100,\"\")","v":8.1632653061224497E-2},91,{"$f":"IFERROR(E2,\"\")","v":91},{"$f":"C2","v":"S.US.CHK"},{"$f":"H1+1","v":2},"S.US.JONE",{"$f":"IFERROR(RTD(\"cqg.rtd\", ,\"ContractData\",I2, \"PerCentNetLastTrade\",, \"T\")/100,\"\")","v":0.2157894736842105},null,null,{"$f":"M1-1","v":2474},"S.US.AEO",{"$f":"IFERROR(RTD(\"cqg.rtd\", ,\"ContractData\",N2, \"PerCentNetLastTrade\",, \"T\")/100,\"\")","v":-0.12321523003701745}]
[null,null,"S.US.FCX",{"$f":"IFERROR(RTD(\"cqg.rtd\", ,\"ContractData\",C3, \"PerCentNetLastTrade\",, \"T\")/100,\"\")","v":1.8036072144288578E-2},451,451,"S.US.FCX",{"$f":"H2+1","v":3},"S.US.CRC",{"$f":"IFERROR(RTD(\"cqg.rtd\", ,\"ContractData\",I3, \"PerCentNetLastTrade\",, \"T\")/100,\"\")","v":0.21410788381742737},null,null,{"$f":"M2-1","v":2473},"S.US.FBP",{"$f":"IFERROR(RTD(\"cqg.rtd\", ,\"ContractData\",N3, \"PerCentNetLastTrade\",, \"T\")/100,\"\")","v":-7.2213500784929358E-2}]
[null,null,"S.US.WFT",{"$f":"IFERROR(RTD(\"cqg.rtd\", ,\"ContractData\",C4, \"PerCentNetLastTrade\",, \"T\")/100,\"\")","v":0.1273148148148148},37,37,"S.US.WFT",4,"S.US.OAS",{"$f":"IFERROR(RTD(\"cqg.rtd\", ,\"ContractData\",I4, \"PerCentNetLastTrade\",, \"T\")/100,\"\")","v":0.20563139931740615},null,null,2472,"S.US.VRX",{"$f":"IFERROR(RTD(\"cqg.rtd\", ,\"ContractData\",N4, \"PerCentNetLastTrade\",, \"T\")/100,\"\")","v":-6.8181818181818177E-2}]
[null,null,"S.US.VALE",{"$f":"IFERROR(RTD(\"cqg.rtd\", ,\"ContractData\",C5, \"PerCentNetLastTrade\",, \"T\")/100,\"\")","v":-1.1695906432748538E-3},1458,1458,"S.US.VALE",5,"S.US.WPX",{"$f":"IFERROR(RTD(\"cqg.rtd\", ,\"ContractData\",I5, \"PerCentNetLastTrade\",, \"T\")/100,\"\")","v":0.18883415435139572},null,null,2471,"S.US.DRD",{"$f":"IFERROR(RTD(\"cqg.rtd\", ,\"ContractData\",N5, \"PerCentNetLastTrade\",, \"T\")/100,\"\")","v":-6.0344827586206892E-2}]
[null,null,"S.US.PFE",{"$f":"IFERROR(RTD(\"cqg.rtd\", ,\"ContractData\",C6, \"PerCentNetLastTrade\",, \"T\")/100,\"\")","v":-2.1929824561403508E-3},1555,1555,"S.US.PFE",6,"S.US.HLX",{"$f":"IFERROR(RTD(\"cqg.rtd\", ,\"ContractData\",I6, \"PerCentNetLastTrade\",, \"T\")/100,\"\")","v":0.17595628415300546},null,null,2470,"S.US.FPI",{"$f":"IFERROR(RTD(\"cqg.rtd\", ,\"ContractData\",N6, \"PerCentNetLastTrade\",, \"T\")/100,\"\")","v":-5.8277027027027029E-2}]
[null,null,"S.US.F",{"$f":"IFERROR(RTD(\"cqg.rtd\", ,\"ContractData\",C7, \"PerCentNetLastTrade\",, \"T\")/100,\"\")","v":7.5503355704697982E-3},838,838,"S.US.F",7,"S.US.CRR",{"$f":"IFERROR(RTD(\"cqg.rtd\", ,\"ContractData\",I7, \"PerCentNetLastTrade\",, \"T\")/100,\"\")","v":0.17551622418879056},null,null,2469,"S.US.OOMA",{"$f":"IFERROR(RTD(\"cqg.rtd\", ,\"ContractData\",N7, \"PerCentNetLastTrade\",, \"T\")/100,\"\")","v":-5.7894736842105263E-2}]
[null,null,"S.US.GE",{"$f":"IFERROR(RTD(\"cqg.rtd\", ,\"ContractData\",C8, \"PerCentNetLastTrade\",, \"T\")/100,\"\")","v":0},1326,1326,"S.US.GE",8,"S.US.CLR",{"$f":"IFERROR(RTD(\"cqg.rtd\", ,\"ContractData\",I8, \"PerCentNetLastTrade\",, \"T\")/100,\"\")","v":0.17475111205253124},null,null,2468,"S.US.EVGN",{"$f":"IFERROR(RTD(\"cqg.rtd\", ,\"ContractData\",N8, \"PerCentNetLastTrade\",, \"T\")/100,\"\")","v":-5.0610820244328093E-2}]
[null,null,"S.US.WFC",{"$f":"IFERROR(RTD(\"cqg.rtd\", ,\"ContractData\",C9, \"PerCentNetLastTrade\",, \"T\")/100,\"\")","v":1.2148091014269186E-2},619,619,"S.US.WFC",9,"S.US.FMSA",{"$f":"IFERROR(RTD(\"cqg.rtd\", ,\"ContractData\",I9, \"PerCentNetLastTrade\",, \"T\")/100,\"\")","v":0.16750000000000001},null,null,2467,"S.US.NOMD",{"$f":"IFERROR(RTD(\"cqg.rtd\", ,\"ContractData\",N9, \"PerCentNetLastTrade\",, \"T\")/100,\"\")","v":-0.05}]
[null,null,"S.US.RF",{"$f":"IFERROR(RTD(\"cqg.rtd\", ,\"ContractData\",C10, \"PerCentNetLastTrade\",, \"T\")/100,\"\")","v":2.6555386949924129E-2},312,312,"S.US.RF",10,"S.US.DNR",{"$f":"IFERROR(RTD(\"cqg.rtd\", ,\"ContractData\",I10, \"PerCentNetLastTrade\",, \"T\")/100,\"\")","v":0.16607773851590107},null,null,2466,"S.US.GWRE",{"$f":"IFERROR(RTD(\"cqg.rtd\", ,\"ContractData\",N10, \"PerCentNetLastTrade\",, \"T\")/100,\"\")","v":-4.9695916594265858E-2}]
[null,null,"S.US.VRX",{"$f":"IFERROR(RTD(\"cqg.rtd\", ,\"ContractData\",C11, \"PerCentNetLastTrade\",, \"T\")/100,\"\")","v":-6.8181818181818177E-2},2472,2472,"S.US.VRX",11,"S.US.SN"]
[null,null,"S.US.PBR",{"$f":"IFERROR(RTD(\"cqg.rtd\", ,\"ContractData\",C12, \"PerCentNetLastTrade\",, \"T\")/100,\"\")","v":7.7157360406091377E-2},99,99,"S.US.PBR",12,"S.US.EPE"]
[null,null,"S.US.C",{"$f":"IFERROR(RTD(\"cqg.rtd\", ,\"ContractData\",C13, \"PerCentNetLastTrade\",, \"T\")/100,\"\")","v":1.6390489913544668E-2},496,496,"S.US.C",13,"S.US.ERF"]
[null,null,"S.US.AKS",{"$f":"IFERROR(RTD(\"cqg.rtd\", ,\"ContractData\",C14, \"PerCentNetLastTrade\",, \"T\")/100,\"\")","v":3.3557046979865772E-2},250,250,"S.US.AKS",14,"S.US.ATW"]
[null,null,"S.US.T",{"$f":"IFERROR(RTD(\"cqg.rtd\", ,\"ContractData\",C15, \"PerCentNetLastTrade\",, \"T\")/100,\"\")","v":-1.1651469098277609E-2},2148,2148,"S.US.T",15,"S.US.SGY"]
[null,null,"S.US.ABEV",{"$f":"IFERROR(RTD(\"cqg.rtd\", ,\"ContractData\",C16, \"PerCentNetLastTrade\",, \"T\")/100,\"\")","v":1.6032064128256515E-2},503,503,"S.US.ABEV",16,"S.US.WPXP"]
[null,null,"S.US.X",{"$f":"IFERROR(RTD(\"cqg.rtd\", ,\"ContractData\",C17, \"PerCentNetLastTrade\",, \"T\")/100,\"\")","v":3.3376123234916559E-2},252,252,"S.US.X",17,"S.US.NADL"]
[null,null,"S.US.JPM",{"$f":"IFERROR(RTD(\"cqg.rtd\", ,\"ContractData\",C18, \"PerCentNetLastTrade\",, \"T\")/100,\"\")","v":1.1150532184490622E-2},655,655,"S.US.JPM",18,"S.US.FET"]
[null,null,"S.US.MT",{"$f":"IFERROR(RTD(\"cqg.rtd\", ,\"ContractData\",C19, \"PerCentNetLastTrade\",, \"T\")/100,\"\")","v":1.8741633199464525E-2},430,430,"S.US.MT",19,"S.US.CWEI"]
[null,null,"S.US.S",{"$f":"IFERROR(RTD(\"cqg.rtd\", ,\"ContractData\",C20, \"PerCentNetLastTrade\",, \"T\")/100,\"\")","v":7.4999999999999997E-3},839,839,"S.US.S",20,"S.US.KOS"]
[null,null,"S.US.ABX",{"$f":"IFERROR(RTD(\"cqg.rtd\", ,\"ContractData\",C21, \"PerCentNetLastTrade\",, \"T\")/100,\"\")","v":-3.367875647668394E-2},2457,2457,"S.US.ABX",21,"S.US.CPE"]
[null,null,"S.US.WLL",{"$f":"IFERROR(RTD(\"cqg.rtd\", ,\"ContractData\",C22, \"PerCentNetLastTrade\",, \"T\")/100,\"\")","v":0.15031982942430702},22,22,"S.US.WLL",22,"S.US.WLL"]
[null,null,"S.US.CX",{"$f":"IFERROR(RTD(\"cqg.rtd\", ,\"ContractData\",C23, \"PerCentNetLastTrade\",, \"T\")/100,\"\")","v":1.1479591836734694E-2},646,646,"S.US.CX",23,"S.US.PE"]
[null,null,"S.US.TWTR",{"$f":"IFERROR(RTD(\"cqg.rtd\", ,\"ContractData\",C24, \"PerCentNetLastTrade\",, \"T\")/100,\"\")","v":2.473886750962067E-2},336,336,"S.US.TWTR",24,"S.US.ECR"]
[null,null,"S.US.KEY",{"$f":"IFERROR(RTD(\"cqg.rtd\", ,\"ContractData\",C25, \"PerCentNetLastTrade\",, \"T\")/100,\"\")","v":2.7042915931804822E-2},308,308,"S.US.KEY",25,"S.US.NBR"]
[null,null,"S.US.MRO",{"$f":"IFERROR(RTD(\"cqg.rtd\", ,\"ContractData\",C26, \"PerCentNetLastTrade\",, \"T\")/100,\"\")","v":0.13712374581939801},28,28,"S.US.MRO",26,"S.US.HCLP"]
[null,null,"S.US.JCP",{"$f":"IFERROR(RTD(\"cqg.rtd\", ,\"ContractData\",C27, \"PerCentNetLastTrade\",, \"T\")/100,\"\")","v":9.433962264150943E-3},735,735,"S.US.JCP",27,"S.US.LPI"]
[null,null,"S.US.SWN",{"$f":"IFERROR(RTD(\"cqg.rtd\", ,\"ContractData\",C28, \"PerCentNetLastTrade\",, \"T\")/100,\"\")","v":1.5530629853321829E-2},512,512,"S.US.SWN",28,"S.US.MRO"]
[null,null,"S.US.CTL",{"$f":"IFERROR(RTD(\"cqg.rtd\", ,\"ContractData\",C29, \"PerCentNetLastTrade\",, \"T\")/100,\"\")","v":-2.8913672036348613E-3},1612,1612,"S.US.CTL",29,"S.US.MTDR"]
[null,null,"S.US.AUY",{"$f":"IFERROR(RTD(\"cqg.rtd\", ,\"ContractData\",C30, \"PerCentNetLastTrade\",, \"T\")/100,\"\")","v":-1.6722408026755852E-2},2217,2217,"S.US.AUY",30,"S.US.SDRL"]
[null,null,"S.US.BABA",{"$f":"IFERROR(RTD(\"cqg.rtd\", ,\"ContractData\",C31, \"PerCentNetLastTrade\",, \"T\")/100,\"\")","v":-1.358037688177703E-2},2226,2226,"S.US.BABA",31,"S.US.BAS"]
[null,null,"S.US.VZ",{"$f":"IFERROR(RTD(\"cqg.rtd\", ,\"ContractData\",C32, \"PerCentNetLastTrade\",, \"T\")/100,\"\")","v":-7.4568288854003142E-3},1960,1960,"S.US.VZ",32,"S.US.ESV"]
[null,null,"S.US.KGC",{"$f":"IFERROR(RTD(\"cqg.rtd\", ,\"ContractData\",C33, \"PerCentNetLastTrade\",, \"T\")/100,\"\")","v":-2.3738872403560828E-2},2418,2418,"S.US.KGC",33,"S.US.SPN"]
[null,null,"S.US.CLF",{"$f":"IFERROR(RTD(\"cqg.rtd\", ,\"ContractData\",C34, \"PerCentNetLastTrade\",, \"T\")/100,\"\")","v":1.2571428571428572E-2},608,608,"S.US.CLF",34,"S.US.NE"]
[null,null,"S.US.ITUB",{"$f":"IFERROR(RTD(\"cqg.rtd\", ,\"ContractData\",C35, \"PerCentNetLastTrade\",, \"T\")/100,\"\")","v":1.4619883040935673E-2},536,536,"S.US.ITUB",35,"S.US.EMES"]
[null,null,"S.US.RIG",{"$f":"IFERROR(RTD(\"cqg.rtd\", ,\"ContractData\",C36, \"PerCentNetLastTrade\",, \"T\")/100,\"\")","v":0.11070780399274048},55,55,"S.US.RIG",36,"S.US.NFX"]
[null,null,"S.US.KO",{"$f":"IFERROR(RTD(\"cqg.rtd\", ,\"ContractData\",C37, \"PerCentNetLastTrade\",, \"T\")/100,\"\")","v":-5.3462940461725394E-3},1812,1812,"S.US.KO",37,"S.US.WFT"]
[null,null,"S.US.GM",{"$f":"IFERROR(RTD(\"cqg.rtd\", ,\"ContractData\",C38, \"PerCentNetLastTrade\",, \"T\")/100,\"\")","v":1.446340757882557E-3},1231,1231,"S.US.GM",38,"S.US.HOS"]
[null,null,"S.US.ECA",{"$f":"IFERROR(RTD(\"cqg.rtd\", ,\"ContractData\",C39, \"PerCentNetLastTrade\",, \"T\")/100,\"\")","v":9.1954022988505746E-2},76,76,"S.US.ECA",39,"S.US.DO"]
[null,null,"S.US.FIT",{"$f":"IFERROR(RTD(\"cqg.rtd\", ,\"ContractData\",C40, \"PerCentNetLastTrade\",, \"T\")/100,\"\")","v":4.830917874396135E-3},993,993,"S.US.FIT",40,"S.US.QEP"]
[null,null,"S.US.MS",{"$f":"IFERROR(RTD(\"cqg.rtd\", ,\"ContractData\",C41, \"PerCentNetLastTrade\",, \"T\")/100,\"\")","v":1.5517241379310345E-2},513,513,"S.US.MS",41,"S.US.HES"]
[null,null,"S.US.RAD",{"$f":"IFERROR(RTD(\"cqg.rtd\", ,\"ContractData\",C42, \"PerCentNetLastTrade\",, \"T\")/100,\"\")","v":-1.2422360248447204E-2},2175,2175,"S.US.RAD",42,"S.US.GLF"]
[null,null,"S.US.HL",{"$f":"IFERROR(RTD(\"cqg.rtd\", ,\"ContractData\",C43, \"PerCentNetLastTrade\",, \"T\")/100,\"\")","v":-2.8846153846153844E-2},2443,2443,"S.US.HL",43,"S.US.ERA"]
[null,null,"S.US.HPQ",{"$f":"IFERROR(RTD(\"cqg.rtd\", ,\"ContractData\",C44, \"PerCentNetLastTrade\",, \"T\")/100,\"\")","v":0},1327,1327,"S.US.HPQ",44,"S.US.RES"]
[null,null,"S.US.VALEP",{"$f":"IFERROR(RTD(\"cqg.rtd\", ,\"ContractData\",C45, \"PerCentNetLastTrade\",, \"T\")/100,\"\")","v":-1.2953367875647668E-2},2193,2193,"S.US.VALEP",45,"S.US.DVN"]
[null,null,"S.US.HPE",{"$f":"IFERROR(RTD(\"cqg.rtd\", ,\"ContractData\",C46, \"PerCentNetLastTrade\",, \"T\")/100,\"\")","v":-8.4245998315080029E-4},1434,1434,"S.US.HPE",46,"S.US.WTI"]
[null,null,"S.US.TEVA",{"$f":"IFERROR(RTD(\"cqg.rtd\", ,\"ContractData\",C47, \"PerCentNetLastTrade\",, \"T\")/100,\"\")","v":3.6978341257263604E-3},1085,1085,"S.US.TEVA",47,"S.US.RSPP"]
[null,null,"S.US.BBD",{"$f":"IFERROR(RTD(\"cqg.rtd\", ,\"ContractData\",C48, \"PerCentNetLastTrade\",, \"T\")/100,\"\")","v":2.2352941176470589E-2},362,362,"S.US.BBD",48,"S.US.BBG"]
[null,null,"S.US.NE",{"$f":"IFERROR(RTD(\"cqg.rtd\", ,\"ContractData\",C49, \"PerCentNetLastTrade\",, \"T\")/100,\"\")","v":0.13108614232209737},34,34,"S.US.NE",49,"S.US.CPG"]
[null,null,"S.US.KMI",{"$f":"IFERROR(RTD(\"cqg.rtd\", ,\"ContractData\",C50, \"PerCentNetLastTrade\",, \"T\")/100,\"\")","v":3.6915887850467288E-2},223,223,"S.US.KMI",50,"S.US.SLCA"]
[null,null,"S.US.OAS",{"$f":"IFERROR(RTD(\"cqg.rtd\", ,\"ContractData\",C51, \"PerCentNetLastTrade\",, \"T\")/100,\"\")","v":0.20563139931740615},4,4,"S.US.OAS",51,"S.US.MUR"]
[null,null,"S.US.FCAU",{"$f":"IFERROR(RTD(\"cqg.rtd\", ,\"ContractData\",C52, \"PerCentNetLastTrade\",, \"T\")/100,\"\")","v":1.4569536423841059E-2},542,542,"S.US.FCAU",52,"S.US.CIE"]
[null,null,"S.US.NOK",{"$f":"IFERROR(RTD(\"cqg.rtd\", ,\"ContractData\",C53, \"PerCentNetLastTrade\",, \"T\")/100,\"\")","v":2.331002331002331E-3},1165,1165,"S.US.NOK",53,"S.US.RDC"]
[null,null,"S.US.ORCL",{"$f":"IFERROR(RTD(\"cqg.rtd\", ,\"ContractData\",C54, \"PerCentNetLastTrade\",, \"T\")/100,\"\")","v":-1.9728729963008631E-3},1532,1532,"S.US.ORCL",54,"S.US.RIGP"]
[null,null,"S.US.GGB",{"$f":"IFERROR(RTD(\"cqg.rtd\", ,\"ContractData\",C55, \"PerCentNetLastTrade\",, \"T\")/100,\"\")","v":4.8899755501222494E-3},988,988,"S.US.GGB",55,"S.US.RIG"]
[null,null,"S.US.LC",{"$f":"IFERROR(RTD(\"cqg.rtd\", ,\"ContractData\",C56, \"PerCentNetLastTrade\",, \"T\")/100,\"\")","v":5.3380782918149459E-3},954,954,"S.US.LC",56,"S.US.UNT"]
[null,null,"S.US.PBRA",{"$f":"IFERROR(RTD(\"cqg.rtd\", ,\"ContractData\",C57, \"PerCentNetLastTrade\",, \"T\")/100,\"\")","v":7.6655052264808357E-2},100,100,"S.US.PBRA",57,"S.US.PQ"]
[null,null,"S.US.BMY",{"$f":"IFERROR(RTD(\"cqg.rtd\", ,\"ContractData\",C58, \"PerCentNetLastTrade\",, \"T\")/100,\"\")","v":-2.8388928317955998E-3},1609,1609,"S.US.BMY",58,"S.US.BTE"]
[null,null,"S.US.CVS",{"$f":"IFERROR(RTD(\"cqg.rtd\", ,\"ContractData\",C59, \"PerCentNetLastTrade\",, \"T\")/100,\"\")","v":9.3568792830785452E-3},739,739,"S.US.CVS",59,"S.US.PGH"]
[null,null,"S.US.MRK",{"$f":"IFERROR(RTD(\"cqg.rtd\", ,\"ContractData\",C60, \"PerCentNetLastTrade\",, \"T\")/100,\"\")","v":-3.5375462292973146E-3},1667,1667,"S.US.MRK",60,"S.US.BCEI"]
[null,null,"S.US.HST",{"$f":"IFERROR(RTD(\"cqg.rtd\", ,\"ContractData\",C61, \"PerCentNetLastTrade\",, \"T\")/100,\"\")","v":6.9364161849710983E-3},899,899,"S.US.HST",61,"S.US.FTK"]
[null,null,"S.US.V",{"$f":"IFERROR(RTD(\"cqg.rtd\", ,\"ContractData\",C62, \"PerCentNetLastTrade\",, \"T\")/100,\"\")","v":-1.4276689829437776E-2},2241,2241,"S.US.V",62,"S.US.CVE"]
[null,null,"S.US.XOM",{"$f":"IFERROR(RTD(\"cqg.rtd\", ,\"ContractData\",C63, \"PerCentNetLastTrade\",, \"T\")/100,\"\")","v":1.7462165308498253E-2},465,465,"S.US.XOM",63,"S.US.PDS"]
[null,null,"S.US.SCHW",{"$f":"IFERROR(RTD(\"cqg.rtd\", ,\"ContractData\",C64, \"PerCentNetLastTrade\",, \"T\")/100,\"\")","v":1.1180447217888715E-2},660,660,"S.US.SCHW",64,"S.US.EGN"]
[null,null,"S.US.DNR",{"$f":"IFERROR(RTD(\"cqg.rtd\", ,\"ContractData\",C65, \"PerCentNetLastTrade\",, \"T\")/100,\"\")","v":0.16607773851590107},10,10,"S.US.DNR",65,{"$f":"IFERROR(VLOOKUP(H65,$F$1:$G$2522,2,FALSE),\"\")","v":"S.US.CXO"}]
[null,null,"S.US.WMT",{"$f":"IFERROR(RTD(\"cqg.rtd\", ,\"ContractData\",C66, \"PerCentNetLastTrade\",, \"T\")/100,\"\")","v":-8.8272383354350576E-3},2026,{"$f":"IFERROR(E66,\"\")","v":2026},{"$f":"C66","v":"S.US.WMT"},66,"S.US.NR"]
[null,null,"S.US.DAL",{"$f":"IFERROR(RTD(\"cqg.rtd\", ,\"ContractData\",C67, \"PerCentNetLastTrade\",, \"T\")/100,\"\")","v":-1.234821979831241E-3},1464,1464,"S.US.DAL",{"$f":"H66+1","v":67},"S.US.XEC"]
[null,null,"S.US.PG",{"$f":"IFERROR(RTD(\"cqg.rtd\", ,\"ContractData\",C68, \"PerCentNetLastTrade\",, \"T\")/100,\"\")","v":-4.705030763662685E-3},1760,1760,"S.US.PG",68,"S.US.PES"]
[null,null,"S.US.ABBV",{"$f":"IFERROR(RTD(\"cqg.rtd\", ,\"ContractData\",C69, \"PerCentNetLastTrade\",, \"T\")/100,\"\")","v":-1.3476213671050494E-2},2225,2225,"S.US.ABBV",69,"S.US.REN"]
[null,null,"S.US.IBN",{"$f":"IFERROR(RTD(\"cqg.rtd\", ,\"ContractData\",C70, \"PerCentNetLastTrade\",, \"T\")/100,\"\")","v":5.4448871181938904E-2},137,137,"S.US.IBN",70,"S.US.BRS"]
[null,null,"S.US.GG",{"$f":"IFERROR(RTD(\"cqg.rtd\", ,\"ContractData\",C71, \"PerCentNetLastTrade\",, \"T\")/100,\"\")","v":-3.1994047619047616E-2},2453,2453,"S.US.GG",71,"S.US.SEMG"]
[null,null,"S.US.BSX",{"$f":"IFERROR(RTD(\"cqg.rtd\", ,\"ContractData\",C72, \"PerCentNetLastTrade\",, \"T\")/100,\"\")","v":-1.5406836783822821E-2},2273,2273,"S.US.BSX",72,"S.US.APC"]
[null,null,"S.US.COTY",{"$f":"IFERROR(RTD(\"cqg.rtd\", ,\"ContractData\",C73, \"PerCentNetLastTrade\",, \"T\")/100,\"\")","v":-9.7186700767263427E-3},2072,2072,"S.US.COTY",73,"S.US.HAL"]
[null,null,"S.US.HLT",{"$f":"IFERROR(RTD(\"cqg.rtd\", ,\"ContractData\",C74, \"PerCentNetLastTrade\",, \"T\")/100,\"\")","v":-2.8214429665457475E-3},1607,1607,"S.US.HLT",74,"S.US.TRGP"]
[null,null,"S.US.DIS",{"$f":"IFERROR(RTD(\"cqg.rtd\", ,\"ContractData\",C75, \"PerCentNetLastTrade\",, \"T\")/100,\"\")","v":3.0099327781679544E-4},1321,1321,"S.US.DIS",75,"S.US.AAV"]
[null,null,"S.US.USB",{"$f":"IFERROR(RTD(\"cqg.rtd\", ,\"ContractData\",C76, \"PerCentNetLastTrade\",, \"T\")/100,\"\")","v":8.9613034623217923E-3},758,758,"S.US.USB",76,"S.US.ECA"]
[null,null,"S.US.KR",{"$f":"IFERROR(RTD(\"cqg.rtd\", ,\"ContractData\",C77, \"PerCentNetLastTrade\",, \"T\")/100,\"\")","v":-1.540785498489426E-2},2291,2291,"S.US.KR",77,"S.US.TTI"]
[null,null,"S.US.NEM",{"$f":"IFERROR(RTD(\"cqg.rtd\", ,\"ContractData\",C78, \"PerCentNetLastTrade\",, \"T\")/100,\"\")","v":-3.785394932935917E-2},2462,2462,"S.US.NEM",78,"S.US.PWE"]
[null,null,"S.US.IAG",{"$f":"IFERROR(RTD(\"cqg.rtd\", ,\"ContractData\",C79, \"PerCentNetLastTrade\",, \"T\")/100,\"\")","v":-1.8617021276595744E-2},2344,2344,"S.US.IAG",79,"S.US.PAA"]
[null,null,"S.US.GNW",{"$f":"IFERROR(RTD(\"cqg.rtd\", ,\"ContractData\",C80, \"PerCentNetLastTrade\",, \"T\")/100,\"\")","v":1.6470588235294115E-2},494,494,"S.US.GNW",80,"S.US.TK"]
[null,null,"S.US.ETE",{"$f":"IFERROR(RTD(\"cqg.rtd\", ,\"ContractData\",C81, \"PerCentNetLastTrade\",, \"T\")/100,\"\")","v":3.5800970873786406E-2},229,229,"S.US.ETE",81,"S.US.COP"]
[null,null,"S.US.MGM",{"$f":"IFERROR(RTD(\"cqg.rtd\", ,\"ContractData\",C82, \"PerCentNetLastTrade\",, \"T\")/100,\"\")","v":-2.0782819535850364E-3},1545,1545,"S.US.MGM",82,"S.US.TOO"]
[null,null,"S.US.NKE",{"$f":"IFERROR(RTD(\"cqg.rtd\", ,\"ContractData\",C83, \"PerCentNetLastTrade\",, \"T\")/100,\"\")","v":-1.1850681414181316E-3},1461,1461,"S.US.NKE",83,"S.US.PACD"]
[null,null,"S.US.VIPS",{"$f":"IFERROR(RTD(\"cqg.rtd\", ,\"ContractData\",C84, \"PerCentNetLastTrade\",, \"T\")/100,\"\")","v":-1.3089005235602094E-2},2201,2201,"S.US.VIPS",84,"S.US.OIS"]
[null,null,"S.US.ABT",{"$f":"IFERROR(RTD(\"cqg.rtd\", ,\"ContractData\",C85, \"PerCentNetLastTrade\",, \"T\")/100,\"\")","v":-8.7787245029692738E-3},2029,2029,"S.US.ABT",85,"S.US.MEP"]
[null,null,"S.US.SYF",{"$f":"IFERROR(RTD(\"cqg.rtd\", ,\"ContractData\",C86, \"PerCentNetLastTrade\",, \"T\")/100,\"\")","v":1.301775147928994E-2},586,586,"S.US.SYF",86,"S.US.EGY"]
[null,null,"S.US.WPX",{"$f":"IFERROR(RTD(\"cqg.rtd\", ,\"ContractData\",C87, \"PerCentNetLastTrade\",, \"T\")/100,\"\")","v":0.18883415435139572},5,5,"S.US.WPX",87,"S.US.TDW"]
[null,null,"S.US.XRX",{"$f":"IFERROR(RTD(\"cqg.rtd\", ,\"ContractData\",C88, \"PerCentNetLastTrade\",, \"T\")/100,\"\")","v":-4.2283298097251587E-3},1725,1725,"S.US.XRX",88,"S.US.DNOW"]
[null,null,"S.US.COP",{"$f":"IFERROR(RTD(\"cqg.rtd\", ,\"ContractData\",C89, \"PerCentNetLastTrade\",, \"T\")/100,\"\")","v":8.7271082975356101E-2},81,81,"S.US.COP",89,"S.US.CNQ"]
[null,null,"S.US.GLW",{"$f":"IFERROR(RTD(\"cqg.rtd\", ,\"ContractData\",C90, \"PerCentNetLastTrade\",, \"T\")/100,\"\")","v":1.6549441456350847E-3},1217,1217,"S.US.GLW",90,"S.US.ICD"]
[null,null,"S.US.JNJ",{"$f":"IFERROR(RTD(\"cqg.rtd\", ,\"ContractData\",C91, \"PerCentNetLastTrade\",, \"T\")/100,\"\")","v":-7.9125177809388336E-3},1985,1985,"S.US.JNJ",91,"S.US.CHK"]
[null,null,"S.US.SDRL",{"$f":"IFERROR(RTD(\"cqg.rtd\", ,\"ContractData\",C92, \"PerCentNetLastTrade\",, \"T\")/100,\"\")","v":0.13469387755102041},30,30,"S.US.SDRL",92,"S.US.HK"]
[null,null,"S.US.HTZ",{"$f":"IFERROR(RTD(\"cqg.rtd\", ,\"ContractData\",C93, \"PerCentNetLastTrade\",, \"T\")/100,\"\")","v":8.4235860409145619E-3},787,787,"S.US.HTZ",93,"S.US.PAGP"]
[null,null,"S.US.CVX",{"$f":"IFERROR(RTD(\"cqg.rtd\", ,\"ContractData\",C94, \"PerCentNetLastTrade\",, \"T\")/100,\"\")","v":1.9846350832266327E-2},404,404,"S.US.CVX",94,"S.US.EOG"]
[null,null,"S.US.MET",{"$f":"IFERROR(RTD(\"cqg.rtd\", ,\"ContractData\",C95, \"PerCentNetLastTrade\",, \"T\")/100,\"\")","v":1.4578335486252076E-2},539,539,"S.US.MET",95,"S.US.EXTN"]
[null,null,"S.US.ESV",{"$f":"IFERROR(RTD(\"cqg.rtd\", ,\"ContractData\",C96, \"PerCentNetLastTrade\",, \"T\")/100,\"\")","v":0.13324708926261319},32,32,"S.US.ESV",96,"S.US.NBL"]
[null,null,"S.US.HAL",{"$f":"IFERROR(RTD(\"cqg.rtd\", ,\"ContractData\",C97, \"PerCentNetLastTrade\",, \"T\")/100,\"\")","v":9.3324963381460554E-2},73,73,"S.US.HAL",97,"S.US.EC"]
[null,null,"S.US.CFG",{"$f":"IFERROR(RTD(\"cqg.rtd\", ,\"ContractData\",C98, \"PerCentNetLastTrade\",, \"T\")/100,\"\")","v":2.5007718431614694E-2},331,331,"S.US.CFG",98,"S.US.CGG"]
[null,null,"S.US.AIG",{"$f":"IFERROR(RTD(\"cqg.rtd\", ,\"ContractData\",C99, \"PerCentNetLastTrade\",, \"T\")/100,\"\")","v":8.5335018963337544E-3},774,774,"S.US.AIG",99,"S.US.PBR"]
[null,null,"S.US.GPS",{"$f":"IFERROR(RTD(\"cqg.rtd\", ,\"ContractData\",C100, \"PerCentNetLastTrade\",, \"T\")/100,\"\")","v":7.1315372424722665E-3},860,860,"S.US.GPS",100,"S.US.PBRA"]
[null,null,"S.US.MDT",{"$f":"IFERROR(RTD(\"cqg.rtd\", ,\"ContractData\",C101, \"PerCentNetLastTrade\",, \"T\")/100,\"\")","v":-1.3347861618087715E-2},2221,2221,"S.US.MDT",101,"S.US.ROYT"]
[null,null,"S.US.TCK",{"$f":"IFERROR(RTD(\"cqg.rtd\", ,\"ContractData\",C102, \"PerCentNetLastTrade\",, \"T\")/100,\"\")","v":9.5238095238095229E-3},726,726,"S.US.TCK",102,"S.US.APA"]
[null,null,"S.US.LLY",{"$f":"IFERROR(RTD(\"cqg.rtd\", ,\"ContractData\",C103, \"PerCentNetLastTrade\",, \"T\")/100,\"\")","v":-1.3402829486224871E-3},1474,1474,"S.US.LLY",103,"S.US.CHU"]
[null,null,"S.US.VER",{"$f":"IFERROR(RTD(\"cqg.rtd\", ,\"ContractData\",C104, \"PerCentNetLastTrade\",, \"T\")/100,\"\")","v":-2.3474178403755871E-2},2415,2415,"S.US.VER",104,"S.US.PXD"]
[null,null,"S.US.AZN",{"$f":"IFERROR(RTD(\"cqg.rtd\", ,\"ContractData\",C105, \"PerCentNetLastTrade\",, \"T\")/100,\"\")","v":-1.1606140022463496E-2},2145,2145,"S.US.AZN",105,"S.US.PKD"]
[null,null,"S.US.CRM",{"$f":"IFERROR(RTD(\"cqg.rtd\", ,\"ContractData\",C106, \"PerCentNetLastTrade\",, \"T\")/100,\"\")","v":-1.6454134101192923E-3},1502,1502,"S.US.CRM",106,"S.US.CVEO"]
[null,null,"S.US.LOW",{"$f":"IFERROR(RTD(\"cqg.rtd\", ,\"ContractData\",C107, \"PerCentNetLastTrade\",, \"T\")/100,\"\")","v":-2.4041861122896338E-3},1576,1576,"S.US.LOW",107,"S.US.DPM"]
[null,null,"S.US.EGO",{"$f":"IFERROR(RTD(\"cqg.rtd\", ,\"ContractData\",C108, \"PerCentNetLastTrade\",, \"T\")/100,\"\")","v":-1.8450184501845018E-2},2339,2339,"S.US.EGO",108,"S.US.IO"]
[null,null,"S.US.AA",{"$f":"IFERROR(RTD(\"cqg.rtd\", ,\"ContractData\",C109, \"PerCentNetLastTrade\",, \"T\")/100,\"\")","v":-2.0181634712411703E-2},2371,2371,"S.US.AA",109,"S.US.BXE"]
[null,null,"S.US.BBY",{"$f":"IFERROR(RTD(\"cqg.rtd\", ,\"ContractData\",C110, \"PerCentNetLastTrade\",, \"T\")/100,\"\")","v":3.7264357737834281E-3},1071,1071,"S.US.BBY",110,"S.US.HP"]
[null,null,"S.US.AGN",{"$f":"IFERROR(RTD(\"cqg.rtd\", ,\"ContractData\",C111, \"PerCentNetLastTrade\",, \"T\")/100,\"\")","v":-4.9833887043189366E-3},1782,1782,"S.US.AGN",111,"S.US.CEQP"]
[null,null,"S.US.MPC",{"$f":"IFERROR(RTD(\"cqg.rtd\", ,\"ContractData\",C112, \"PerCentNetLastTrade\",, \"T\")/100,\"\")","v":3.9147455415397998E-3},1021,1021,"S.US.MPC",112,"S.US.GLOG"]
[null,null,"S.US.MO",{"$f":"IFERROR(RTD(\"cqg.rtd\", ,\"ContractData\",C113, \"PerCentNetLastTrade\",, \"T\")/100,\"\")","v":-1.6876342436330162E-3},1504,1504,"S.US.MO",113,"S.US.SDLP"]
[null,null,"S.US.DOW",{"$f":"IFERROR(RTD(\"cqg.rtd\", ,\"ContractData\",C114, \"PerCentNetLastTrade\",, \"T\")/100,\"\")","v":7.5939988886830892E-3},821,821,"S.US.DOW",114,"S.US.GPRK"]
[null,null,"S.US.RAI",{"$f":"IFERROR(RTD(\"cqg.rtd\", ,\"ContractData\",C115, \"PerCentNetLastTrade\",, \"T\")/100,\"\")","v":-7.2780203784570589E-4},1423,1423,"S.US.RAI",115,"S.US.AMFW"]
[null,null,"S.US.LUV",{"$f":"IFERROR(RTD(\"cqg.rtd\", ,\"ContractData\",C116, \"PerCentNetLastTrade\",, \"T\")/100,\"\")","v":-1.9051651143099069E-3},1522,1522,"S.US.LUV",116,"S.US.TMST"]
[null,null,"S.US.M",{"$f":"IFERROR(RTD(\"cqg.rtd\", ,\"ContractData\",C117, \"PerCentNetLastTrade\",, \"T\")/100,\"\")","v":-9.413979759943517E-4},1441,1441,"S.US.M",117,"S.US.FI"]
[null,null,"S.US.DB",{"$f":"IFERROR(RTD(\"cqg.rtd\", ,\"ContractData\",C118, \"PerCentNetLastTrade\",, \"T\")/100,\"\")","v":1.0296010296010296E-2},698,698,"S.US.DB",118,"S.US.WLK"]
[null,null,"S.US.CF",{"$f":"IFERROR(RTD(\"cqg.rtd\", ,\"ContractData\",C119, \"PerCentNetLastTrade\",, \"T\")/100,\"\")","v":4.9216186656944945E-2},155,155,"S.US.CF",119,"S.US.MVO"]
[null,null,"S.US.POT",{"$f":"IFERROR(RTD(\"cqg.rtd\", ,\"ContractData\",C120, \"PerCentNetLastTrade\",, \"T\")/100,\"\")","v":2.5641025641025644E-2},327,327,"S.US.POT",120,"S.US.CRK"]
[null,null,"S.US.CYH",{"$f":"IFERROR(RTD(\"cqg.rtd\", ,\"ContractData\",C121, \"PerCentNetLastTrade\",, \"T\")/100,\"\")","v":9.2250922509225092E-3},745,745,"S.US.CYH",121,"S.US.SUN"]
[null,null,"S.US.NLY",{"$f":"IFERROR(RTD(\"cqg.rtd\", ,\"ContractData\",C122, \"PerCentNetLastTrade\",, \"T\")/100,\"\")","v":-1.9286403085824494E-2},2356,2356,"S.US.NLY",122,"S.US.SU"]
[null,null,"S.US.BBT",{"$f":"IFERROR(RTD(\"cqg.rtd\", ,\"ContractData\",C123, \"PerCentNetLastTrade\",, \"T\")/100,\"\")","v":1.7440543601359004E-2},467,467,"S.US.BBT",123,"S.US.NDP"]
[null,null,"S.US.INFY",{"$f":"IFERROR(RTD(\"cqg.rtd\", ,\"ContractData\",C124, \"PerCentNetLastTrade\",, \"T\")/100,\"\")","v":1.3793103448275861E-3},1234,1234,"S.US.INFY",124,"S.US.WG"]
[null,null,"S.US.WMB",{"$f":"IFERROR(RTD(\"cqg.rtd\", ,\"ContractData\",C125, \"PerCentNetLastTrade\",, \"T\")/100,\"\")","v":5.3231939163498103E-2},140,140,"S.US.WMB",125,"S.US.MDR"]
[null,null,"S.US.EXC",{"$f":"IFERROR(RTD(\"cqg.rtd\", ,\"ContractData\",C126, \"PerCentNetLastTrade\",, \"T\")/100,\"\")","v":-2.0796197266785502E-2},2384,2384,"S.US.EXC",126,"S.US.TGP"]
[null,null,"S.US.BK",{"$f":"IFERROR(RTD(\"cqg.rtd\", ,\"ContractData\",C127, \"PerCentNetLastTrade\",, \"T\")/100,\"\")","v":1.0414452709883105E-2},690,690,"S.US.BK",127,"S.US.VET"]
[null,null,"S.US.ALLY",{"$f":"IFERROR(RTD(\"cqg.rtd\", ,\"ContractData\",C128, \"PerCentNetLastTrade\",, \"T\")/100,\"\")","v":2.2314478463933574E-2},363,363,"S.US.ALLY",128,"S.US.NOV"]
[null,null,"S.US.AG",{"$f":"IFERROR(RTD(\"cqg.rtd\", ,\"ContractData\",C129, \"PerCentNetLastTrade\",, \"T\")/100,\"\")","v":-2.1396396396396396E-2},2388,2388,"S.US.AG",129,{"$f":"IFERROR(VLOOKUP(H129,$F$1:$G$2522,2,FALSE),\"\")","v":"S.US.NDRO"}]
[null,null,"S.US.JCI",{"$f":"IFERROR(RTD(\"cqg.rtd\", ,\"ContractData\",C130, \"PerCentNetLastTrade\",, \"T\")/100,\"\")","v":4.8479506390480386E-3},991,{"$f":"IFERROR(E130,\"\")","v":991},{"$f":"C130","v":"S.US.JCI"},130,"S.US.NOA"]
[null,null,"S.US.NBR",{"$f":"IFERROR(RTD(\"cqg.rtd\", ,\"ContractData\",C131, \"PerCentNetLastTrade\",, \"T\")/100,\"\")","v":0.14274867122247531},25,25,"S.US.NBR",{"$f":"H130+1","v":131},"S.US.JMF"]
[null,null,"S.US.SQ",{"$f":"IFERROR(RTD(\"cqg.rtd\", ,\"ContractData\",C132, \"PerCentNetLastTrade\",, \"T\")/100,\"\")","v":3.1300160513643663E-2},270,270,"S.US.SQ",132,"S.US.LPG"]
[null,null,"S.US.BKD",{"$f":"IFERROR(RTD(\"cqg.rtd\", ,\"ContractData\",C133, \"PerCentNetLastTrade\",, \"T\")/100,\"\")","v":-2.5466893039049238E-3},1586,1586,"S.US.BKD",133,"S.US.IPI"]
[null,null,"S.US.TGT",{"$f":"IFERROR(RTD(\"cqg.rtd\", ,\"ContractData\",C134, \"PerCentNetLastTrade\",, \"T\")/100,\"\")","v":-8.034689452875908E-3},1988,1988,"S.US.TGT",134,"S.US.MRC"]
[null,null,"S.US.AMX",{"$f":"IFERROR(RTD(\"cqg.rtd\", ,\"ContractData\",C135, \"PerCentNetLastTrade\",, \"T\")/100,\"\")","v":3.3528918692372171E-3},1091,1091,"S.US.AMX",135,"S.US.JPEP"]
[null,null,"S.US.SO",{"$f":"IFERROR(RTD(\"cqg.rtd\", ,\"ContractData\",C136, \"PerCentNetLastTrade\",, \"T\")/100,\"\")","v":-1.4282757193127717E-2},2245,2245,"S.US.SO",136,"S.US.TS"]
[null,null,"S.US.SRC",{"$f":"IFERROR(RTD(\"cqg.rtd\", ,\"ContractData\",C137, \"PerCentNetLastTrade\",, \"T\")/100,\"\")","v":-2.7002700270027002E-2},2433,2433,"S.US.SRC",137,"S.US.IBN"]
[null,null,"S.US.GFI",{"$f":"IFERROR(RTD(\"cqg.rtd\", ,\"ContractData\",C138, \"PerCentNetLastTrade\",, \"T\")/100,\"\")","v":-3.1152647975077881E-3},1634,1634,"S.US.GFI",138,"S.US.STO"]
[null,null,"S.US.TSM",{"$f":"IFERROR(RTD(\"cqg.rtd\", ,\"ContractData\",C139, \"PerCentNetLastTrade\",, \"T\")/100,\"\")","v":5.076142131979695E-3},970,970,"S.US.TSM",139,"S.US.JMLP"]
[null,null,"S.US.OXY",{"$f":"IFERROR(RTD(\"cqg.rtd\", ,\"ContractData\",C140, \"PerCentNetLastTrade\",, \"T\")/100,\"\")","v":3.8478614769868288E-2},204,204,"S.US.OXY",140,"S.US.WMB"]
[null,null,"S.US.HD",{"$f":"IFERROR(RTD(\"cqg.rtd\", ,\"ContractData\",C141, \"PerCentNetLastTrade\",, \"T\")/100,\"\")","v":-4.6289152908501772E-3},1751,1751,"S.US.HD",141,"S.US.MTW"]
[null,null,"S.US.LVLT",{"$f":"IFERROR(RTD(\"cqg.rtd\", ,\"ContractData\",C142, \"PerCentNetLastTrade\",, \"T\")/100,\"\")","v":-1.6022787965105929E-3},1499,1499,"S.US.LVLT",142,"S.US.REX"]
[null,null,"S.US.P",{"$f":"IFERROR(RTD(\"cqg.rtd\", ,\"ContractData\",C143, \"PerCentNetLastTrade\",, \"T\")/100,\"\")","v":2.762923351158645E-2},302,302,"S.US.P",143,"S.US.AROC"]
[null,null,"S.US.SAN",{"$f":"IFERROR(RTD(\"cqg.rtd\", ,\"ContractData\",C144, \"PerCentNetLastTrade\",, \"T\")/100,\"\")","v":8.9285714285714298E-3},760,760,"S.US.SAN",144,"S.US.SD"]
[null,null,"S.US.SLW",{"$f":"IFERROR(RTD(\"cqg.rtd\", ,\"ContractData\",C145, \"PerCentNetLastTrade\",, \"T\")/100,\"\")","v":-2.8372591006423985E-2},2444,2444,"S.US.SLW",145,"S.US.ENLC"]
[null,null,"S.US.PHM",{"$f":"IFERROR(RTD(\"cqg.rtd\", ,\"ContractData\",C146, \"PerCentNetLastTrade\",, \"T\")/100,\"\")","v":-1.0368066355624676E-2},2096,2096,"S.US.PHM",146,"S.US.CLB"]
[null,null,"S.US.PM",{"$f":"IFERROR(RTD(\"cqg.rtd\", ,\"ContractData\",C147, \"PerCentNetLastTrade\",, \"T\")/100,\"\")","v":-6.5121412803532007E-3},1911,1911,"S.US.PM",147,"S.US.NAO"]
[null,null,"S.US.AVP",{"$f":"IFERROR(RTD(\"cqg.rtd\", ,\"ContractData\",C148, \"PerCentNetLastTrade\",, \"T\")/100,\"\")","v":1.8315018315018313E-3},1201,1201,"S.US.AVP",148,"S.US.CGI"]
[null,null,"S.US.AES",{"$f":"IFERROR(RTD(\"cqg.rtd\", ,\"ContractData\",C149, \"PerCentNetLastTrade\",, \"T\")/100,\"\")","v":-1.2626262626262626E-2},2219,2219,"S.US.AES",149,"S.US.DK"]
[null,null,"S.US.FDC",{"$f":"IFERROR(RTD(\"cqg.rtd\", ,\"ContractData\",C150, \"PerCentNetLastTrade\",, \"T\")/100,\"\")","v":-2.0202020202020202E-3},1541,1541,"S.US.FDC",150,"S.US.ECT"]
[null,null,"S.US.MPW",{"$f":"IFERROR(RTD(\"cqg.rtd\", ,\"ContractData\",C151, \"PerCentNetLastTrade\",, \"T\")/100,\"\")","v":-1.0673234811165846E-2},2107,2107,"S.US.MPW",151,"S.US.CKH"]
[null,null,"S.US.TWX",{"$f":"IFERROR(RTD(\"cqg.rtd\", ,\"ContractData\",C152, \"PerCentNetLastTrade\",, \"T\")/100,\"\")","v":-4.7357657948552366E-3},1763,1763,"S.US.TWX",152,"S.US.OII"]
[null,null,"S.US.TWLO",{"$f":"IFERROR(RTD(\"cqg.rtd\", ,\"ContractData\",C153, \"PerCentNetLastTrade\",, \"T\")/100,\"\")","v":6.8432014281463848E-3},872,872,"S.US.TWLO",153,"S.US.PBT"]
[null,null,"S.US.CS",{"$f":"IFERROR(RTD(\"cqg.rtd\", ,\"ContractData\",C154, \"PerCentNetLastTrade\",, \"T\")/100,\"\")","v":4.5385779122541605E-3},1006,1006,"S.US.CS",154,"S.US.MFCB"]
[null,null,"S.US.COG",{"$f":"IFERROR(RTD(\"cqg.rtd\", ,\"ContractData\",C155, \"PerCentNetLastTrade\",, \"T\")/100,\"\")","v":3.0355594102341715E-3},1114,1114,"S.US.COG",155,"S.US.CF"]
[null,null,"S.US.BP",{"$f":"IFERROR(RTD(\"cqg.rtd\", ,\"ContractData\",C156, \"PerCentNetLastTrade\",, \"T\")/100,\"\")","v":3.4009546539379473E-2},247,247,"S.US.BP",156,"S.US.AMID"]
[null,null,"S.US.DVN",{"$f":"IFERROR(RTD(\"cqg.rtd\", ,\"ContractData\",C157, \"PerCentNetLastTrade\",, \"T\")/100,\"\")","v":0.11764705882352942},45,45,"S.US.DVN",157,"S.US.XCO"]
[null,null,"S.US.NRG",{"$f":"IFERROR(RTD(\"cqg.rtd\", ,\"ContractData\",C158, \"PerCentNetLastTrade\",, \"T\")/100,\"\")","v":1.237842617152962E-2},579,579,"S.US.NRG",158,"S.US.SMM"]
[null,null,"S.US.CAT",{"$f":"IFERROR(RTD(\"cqg.rtd\", ,\"ContractData\",C159, \"PerCentNetLastTrade\",, \"T\")/100,\"\")","v":7.7626541897065082E-3},823,823,"S.US.CAT",159,"S.US.DRQ"]
[null,null,"S.US.UA",{"$f":"IFERROR(RTD(\"cqg.rtd\", ,\"ContractData\",C160, \"PerCentNetLastTrade\",, \"T\")/100,\"\")","v":3.2362459546925564E-3},1101,1101,"S.US.UA",160,"S.US.FLS"]
[null,null,"S.US.AEO",{"$f":"IFERROR(RTD(\"cqg.rtd\", ,\"ContractData\",C161, \"PerCentNetLastTrade\",, \"T\")/100,\"\")","v":-0.12321523003701745},2474,2474,"S.US.AEO",161,"S.US.KRA"]
[null,null,"S.US.TSN",{"$f":"IFERROR(RTD(\"cqg.rtd\", ,\"ContractData\",C162, \"PerCentNetLastTrade\",, \"T\")/100,\"\")","v":-1.9335142469470826E-2},2358,2358,"S.US.TSN",162,"S.US.CEO"]
[null,null,"S.US.HMY",{"$f":"IFERROR(RTD(\"cqg.rtd\", ,\"ContractData\",C163, \"PerCentNetLastTrade\",, \"T\")/100,\"\")","v":-3.0172413793103446E-2},2447,2447,"S.US.HMY",163,"S.US.DOV"]
[null,null,"S.US.NVO",{"$f":"IFERROR(RTD(\"cqg.rtd\", ,\"ContractData\",C164, \"PerCentNetLastTrade\",, \"T\")/100,\"\")","v":3.5452322738386305E-2},234,234,"S.US.NVO",164,"S.US.TEGP"]
[null,null,"S.US.MOS",{"$f":"IFERROR(RTD(\"cqg.rtd\", ,\"ContractData\",C165, \"PerCentNetLastTrade\",, \"T\")/100,\"\")","v":2.1803399852180338E-2},378,378,"S.US.MOS",165,"S.US.NTG"]
[null,null,"S.US.LYG",{"$f":"IFERROR(RTD(\"cqg.rtd\", ,\"ContractData\",C166, \"PerCentNetLastTrade\",, \"T\")/100,\"\")","v":3.4602076124567471E-3},1084,1084,"S.US.LYG",166,"S.US.LYB"]
[null,null,"S.US.CDE",{"$f":"IFERROR(RTD(\"cqg.rtd\", ,\"ContractData\",C167, \"PerCentNetLastTrade\",, \"T\")/100,\"\")","v":-1.9230769230769232E-2},2353,2353,"S.US.CDE",167,"S.US.BPT"]
[null,null,"S.US.DHI",{"$f":"IFERROR(RTD(\"cqg.rtd\", ,\"ContractData\",C168, \"PerCentNetLastTrade\",, \"T\")/100,\"\")","v":-2.7045769764216368E-2},2436,2436,"S.US.DHI",168,"S.US.VOC"]
[null,null,"S.US.SLB",{"$f":"IFERROR(RTD(\"cqg.rtd\", ,\"ContractData\",C169, \"PerCentNetLastTrade\",, \"T\")/100,\"\")","v":3.6536536536536539E-2},224,224,"S.US.SLB",169,"S.US.YPF"]
[null,null,"S.US.VLO",{"$f":"IFERROR(RTD(\"cqg.rtd\", ,\"ContractData\",C170, \"PerCentNetLastTrade\",, \"T\")/100,\"\")","v":-2.9010506507762272E-2},2445,2445,"S.US.VLO",170,"S.US.NGS"]
[null,null,"S.US.BBVA",{"$f":"IFERROR(RTD(\"cqg.rtd\", ,\"ContractData\",C171, \"PerCentNetLastTrade\",, \"T\")/100,\"\")","v":3.2520325203252032E-3},1100,1100,"S.US.BBVA",171,"S.US.KEX"]
[null,null,"S.US.BCS",{"$f":"IFERROR(RTD(\"cqg.rtd\", ,\"ContractData\",C172, \"PerCentNetLastTrade\",, \"T\")/100,\"\")","v":6.5975494816211122E-3},886,886,"S.US.BCS",172,"S.US.UTI"]
[null,null,"S.US.HCP",{"$f":"IFERROR(RTD(\"cqg.rtd\", ,\"ContractData\",C173, \"PerCentNetLastTrade\",, \"T\")/100,\"\")","v":-1.2500000000000001E-2},2179,2179,"S.US.HCP",173,"S.US.OKE"]
[null,null,"S.US.UAL",{"$f":"IFERROR(RTD(\"cqg.rtd\", ,\"ContractData\",C174, \"PerCentNetLastTrade\",, \"T\")/100,\"\")","v":-9.3230063109581186E-3},2052,2052,"S.US.UAL",174,"S.US.GNRT"]
[null,null,"S.US.MTG",{"$f":"IFERROR(RTD(\"cqg.rtd\", ,\"ContractData\",C175, \"PerCentNetLastTrade\",, \"T\")/100,\"\")","v":2.1786492374727671E-3},1178,1178,"S.US.MTG",175,"S.US.CHKPD"]
[null,null,"S.US.HCA",{"$f":"IFERROR(RTD(\"cqg.rtd\", ,\"ContractData\",C176, \"PerCentNetLastTrade\",, \"T\")/100,\"\")","v":-1.3282997762863536E-2},2212,2212,"S.US.HCA",176,"S.US.SSL"]
[null,null,"S.US.THC",{"$f":"IFERROR(RTD(\"cqg.rtd\", ,\"ContractData\",C177, \"PerCentNetLastTrade\",, \"T\")/100,\"\")","v":4.0026684456304197E-3},1048,1048,"S.US.THC",177,"S.US.TNK"]
[null,null,"S.US.APC",{"$f":"IFERROR(RTD(\"cqg.rtd\", ,\"ContractData\",C178, \"PerCentNetLastTrade\",, \"T\")/100,\"\")","v":9.375E-2},72,72,"S.US.APC",178,"S.US.KYE"]
[null,null,"S.US.DYN",{"$f":"IFERROR(RTD(\"cqg.rtd\", ,\"ContractData\",C179, \"PerCentNetLastTrade\",, \"T\")/100,\"\")","v":-1.3407821229050279E-2},2218,2218,"S.US.DYN",179,"S.US.E"]
[null,null,"S.US.EPD",{"$f":"IFERROR(RTD(\"cqg.rtd\", ,\"ContractData\",C180, \"PerCentNetLastTrade\",, \"T\")/100,\"\")","v":2.2108172127911566E-2},367,367,"S.US.EPD",180,"S.US.SJT"]
[null,null,"S.US.CPE",{"$f":"IFERROR(RTD(\"cqg.rtd\", ,\"ContractData\",C181, \"PerCentNetLastTrade\",, \"T\")/100,\"\")","v":0.15294117647058825},21,21,"S.US.CPE",181,"S.US.SRF"]
[null,null,"S.US.PEP",{"$f":"IFERROR(RTD(\"cqg.rtd\", ,\"ContractData\",C182, \"PerCentNetLastTrade\",, \"T\")/100,\"\")","v":-1.3750731421884144E-2},2249,2249,"S.US.PEP",182,"S.US.SCX"]
[null,null,"S.US.YUM",{"$f":"IFERROR(RTD(\"cqg.rtd\", ,\"ContractData\",C183, \"PerCentNetLastTrade\",, \"T\")/100,\"\")","v":6.2952470884482215E-4},1304,1304,"S.US.YUM",183,"S.US.LRN"]
[null,null,"S.US.HBI",{"$f":"IFERROR(RTD(\"cqg.rtd\", ,\"ContractData\",C184, \"PerCentNetLastTrade\",, \"T\")/100,\"\")","v":-8.5215168299957388E-4},1435,1435,"S.US.HBI",184,"S.US.HRI"]
[null,null,"S.US.KSS",{"$f":"IFERROR(RTD(\"cqg.rtd\", ,\"ContractData\",C185, \"PerCentNetLastTrade\",, \"T\")/100,\"\")","v":-5.5411895086811972E-3},1826,1826,"S.US.KSS",185,"S.US.TIF"]
[null,null,"S.US.BX",{"$f":"IFERROR(RTD(\"cqg.rtd\", ,\"ContractData\",C186, \"PerCentNetLastTrade\",, \"T\")/100,\"\")","v":1.0003847633705272E-2},710,710,"S.US.BX",186,"S.US.ENLK"]
[null,null,"S.US.CPN",{"$f":"IFERROR(RTD(\"cqg.rtd\", ,\"ContractData\",C187, \"PerCentNetLastTrade\",, \"T\")/100,\"\")","v":-8.6730268863833475E-4},1436,1436,"S.US.CPN",187,"S.US.GEL"]
[null,null,"S.US.AU",{"$f":"IFERROR(RTD(\"cqg.rtd\", ,\"ContractData\",C188, \"PerCentNetLastTrade\",, \"T\")/100,\"\")","v":-9.9099099099099093E-3},2082,2082,"S.US.AU",188,"S.US.URI"]
[null,null,"S.US.KIM",{"$f":"IFERROR(RTD(\"cqg.rtd\", ,\"ContractData\",C189, \"PerCentNetLastTrade\",, \"T\")/100,\"\")","v":-1.075268817204301E-2},2109,2109,"S.US.KIM",189,"S.US.NSH"]
[null,null,"S.US.STI",{"$f":"IFERROR(RTD(\"cqg.rtd\", ,\"ContractData\",C190, \"PerCentNetLastTrade\",, \"T\")/100,\"\")","v":1.7012123582323034E-2},475,475,"S.US.STI",190,"S.US.BHI"]
[null,null,"S.US.JNPR",{"$f":"IFERROR(RTD(\"cqg.rtd\", ,\"ContractData\",C191, \"PerCentNetLastTrade\",, \"T\")/100,\"\")","v":8.215085884988798E-3},795,795,"S.US.JNPR",191,"S.US.KMF"]
[null,null,"S.US.AXP",{"$f":"IFERROR(RTD(\"cqg.rtd\", ,\"ContractData\",C192, \"PerCentNetLastTrade\",, \"T\")/100,\"\")","v":5.1755490278360605E-3},958,958,"S.US.AXP",192,"S.US.RDSB"]
[null,null,"S.US.ETP",{"$f":"IFERROR(RTD(\"cqg.rtd\", ,\"ContractData\",C193, \"PerCentNetLastTrade\",, \"T\")/100,\"\")","v":4.0968899521531099E-2},199,199,"S.US.ETP",193,{"$f":"IFERROR(VLOOKUP(H193,$F$1:$G$2522,2,FALSE),\"\")","v":"S.US.NL"}]
[null,null,"S.US.CNX",{"$f":"IFERROR(RTD(\"cqg.rtd\", ,\"ContractData\",C194, \"PerCentNetLastTrade\",, \"T\")/100,\"\")","v":2.4703557312252964E-2},337,{"$f":"IFERROR(E194,\"\")","v":337},{"$f":"C194","v":"S.US.CNX"},194,"S.US.MIE"]
[null,null,"S.US.NWL",{"$f":"IFERROR(RTD(\"cqg.rtd\", ,\"ContractData\",C195, \"PerCentNetLastTrade\",, \"T\")/100,\"\")","v":-1.8116705287550033E-2},2342,2342,"S.US.NWL",{"$f":"H194+1","v":195},"S.US.PHX"]
[null,null,"S.US.SFUN",{"$f":"IFERROR(RTD(\"cqg.rtd\", ,\"ContractData\",C196, \"PerCentNetLastTrade\",, \"T\")/100,\"\")","v":1.0344827586206896E-2},695,695,"S.US.SFUN",196,"S.US.WMLP"]
[null,null,"S.US.GGP",{"$f":"IFERROR(RTD(\"cqg.rtd\", ,\"ContractData\",C197, \"PerCentNetLastTrade\",, \"T\")/100,\"\")","v":-1.0132501948558068E-2},2088,2088,"S.US.GGP",197,"S.US.MTZ"]
[null,null,"S.US.CBS",{"$f":"IFERROR(RTD(\"cqg.rtd\", ,\"ContractData\",C198, \"PerCentNetLastTrade\",, \"T\")/100,\"\")","v":9.8360655737704918E-4},1268,1268,"S.US.CBS",198,"S.US.CHKR"]
[null,null,"S.US.BHI",{"$f":"IFERROR(RTD(\"cqg.rtd\", ,\"ContractData\",C199, \"PerCentNetLastTrade\",, \"T\")/100,\"\")","v":4.2824074074074077E-2},190,190,"S.US.BHI",199,"S.US.ETP"]
[null,null,"S.US.SYY",{"$f":"IFERROR(RTD(\"cqg.rtd\", ,\"ContractData\",C200, \"PerCentNetLastTrade\",, \"T\")/100,\"\")","v":-7.7936537390981631E-3},1966,1966,"S.US.SYY",200,"S.US.ARCH"]
[null,null,"S.US.IPG",{"$f":"IFERROR(RTD(\"cqg.rtd\", ,\"ContractData\",C201, \"PerCentNetLastTrade\",, \"T\")/100,\"\")","v":-8.2169268693508624E-4},1431,1431,"S.US.IPG",201,"S.US.GMZ"]
[null,null,"S.US.RDSA",{"$f":"IFERROR(RTD(\"cqg.rtd\", ,\"ContractData\",C202, \"PerCentNetLastTrade\",, \"T\")/100,\"\")","v":3.7097431716265797E-2},217,217,"S.US.RDSA",202,"S.US.SZC"]
[null,null,"S.US.COF",{"$f":"IFERROR(RTD(\"cqg.rtd\", ,\"ContractData\",C203, \"PerCentNetLastTrade\",, \"T\")/100,\"\")","v":1.6343825665859565E-2},498,498,"S.US.COF",203,"S.US.OSG"]
[null,null,"S.US.MUX",{"$f":"IFERROR(RTD(\"cqg.rtd\", ,\"ContractData\",C204, \"PerCentNetLastTrade\",, \"T\")/100,\"\")","v":-1.4388489208633093E-2},2252,2252,"S.US.MUX",204,"S.US.OXY"]
[null,null,"S.US.UNP",{"$f":"IFERROR(RTD(\"cqg.rtd\", ,\"ContractData\",C205, \"PerCentNetLastTrade\",, \"T\")/100,\"\")","v":1.7301382121905139E-2},472,472,"S.US.UNP",205,"S.US.CBR"]
[null,null,"S.US.GSK",{"$f":"IFERROR(RTD(\"cqg.rtd\", ,\"ContractData\",C206, \"PerCentNetLastTrade\",, \"T\")/100,\"\")","v":-9.1455448131695857E-3},2048,2048,"S.US.GSK",206,"S.US.TYG"]
[null,null,"S.US.EMR",{"$f":"IFERROR(RTD(\"cqg.rtd\", ,\"ContractData\",C207, \"PerCentNetLastTrade\",, \"T\")/100,\"\")","v":2.8492647058823529E-2},295,295,"S.US.EMR",207,"S.US.WES"]
[null,null,"S.US.PPL",{"$f":"IFERROR(RTD(\"cqg.rtd\", ,\"ContractData\",C208, \"PerCentNetLastTrade\",, \"T\")/100,\"\")","v":-9.9444281953787669E-3},2083,2083,"S.US.PPL",208,"S.US.OKS"]
[null,null,"S.US.RIO",{"$f":"IFERROR(RTD(\"cqg.rtd\", ,\"ContractData\",C209, \"PerCentNetLastTrade\",, \"T\")/100,\"\")","v":-1.3823682837767344E-2},2238,2238,"S.US.RIO",209,"S.US.KYN"]
[null,null,"S.US.FE",{"$f":"IFERROR(RTD(\"cqg.rtd\", ,\"ContractData\",C210, \"PerCentNetLastTrade\",, \"T\")/100,\"\")","v":-2.7035330261136713E-2},2435,2435,"S.US.FE",210,"S.US.TTP"]
[null,null,"S.US.NBL",{"$f":"IFERROR(RTD(\"cqg.rtd\", ,\"ContractData\",C211, \"PerCentNetLastTrade\",, \"T\")/100,\"\")","v":7.8453994808191527E-2},96,96,"S.US.NBL",211,"S.US.CFX"]
[null,null,"S.US.UNH",{"$f":"IFERROR(RTD(\"cqg.rtd\", ,\"ContractData\",C212, \"PerCentNetLastTrade\",, \"T\")/100,\"\")","v":5.3937432578209273E-3},951,951,"S.US.UNH",212,"S.US.MBT"]
[null,null,"S.US.ZTS",{"$f":"IFERROR(RTD(\"cqg.rtd\", ,\"ContractData\",C213, \"PerCentNetLastTrade\",, \"T\")/100,\"\")","v":1.1892963330029731E-3},1252,1252,"S.US.ZTS",213,"S.US.FTI"]
[null,null,"S.US.WU",{"$f":"IFERROR(RTD(\"cqg.rtd\", ,\"ContractData\",C214, \"PerCentNetLastTrade\",, \"T\")/100,\"\")","v":1.4177693761814744E-3},1232,1232,"S.US.WU",214,"S.US.SDT"]
[null,null,"S.US.BAX",{"$f":"IFERROR(RTD(\"cqg.rtd\", ,\"ContractData\",C215, \"PerCentNetLastTrade\",, \"T\")/100,\"\")","v":-2.7479892761394099E-2},2437,2437,"S.US.BAX",215,"S.US.CHA"]
[null,null,"S.US.WY",{"$f":"IFERROR(RTD(\"cqg.rtd\", ,\"ContractData\",C216, \"PerCentNetLastTrade\",, \"T\")/100,\"\")","v":-7.381258023106547E-3},1956,1956,"S.US.WY",216,"S.US.OMF"]
[null,null,"S.US.CIE",{"$f":"IFERROR(RTD(\"cqg.rtd\", ,\"ContractData\",C217, \"PerCentNetLastTrade\",, \"T\")/100,\"\")","v":0.1111111111111111},52,52,"S.US.CIE",217,"S.US.RDSA"]
[null,null,"S.US.LVS",{"$f":"IFERROR(RTD(\"cqg.rtd\", ,\"ContractData\",C218, \"PerCentNetLastTrade\",, \"T\")/100,\"\")","v":4.1834271922767501E-3},1031,1031,"S.US.LVS",218,"S.US.FELP"]
[null,null,"S.US.TMH",{"$f":"IFERROR(RTD(\"cqg.rtd\", ,\"ContractData\",C219, \"PerCentNetLastTrade\",, \"T\")/100,\"\")","v":-3.5046728971962616E-3},1665,1665,"S.US.TMH",219,"S.US.CTR"]
[null,null,"S.US.WNR",{"$f":"IFERROR(RTD(\"cqg.rtd\", ,\"ContractData\",C220, \"PerCentNetLastTrade\",, \"T\")/100,\"\")","v":8.4317032040472182E-4},1286,1286,"S.US.WNR",220,"S.US.GLOP"]
[null,null,"S.US.CIG",{"$f":"IFERROR(RTD(\"cqg.rtd\", ,\"ContractData\",C221, \"PerCentNetLastTrade\",, \"T\")/100,\"\")","v":0},1328,1328,"S.US.CIG",221,"S.US.PTR"]
[null,null,"S.US.DE",{"$f":"IFERROR(RTD(\"cqg.rtd\", ,\"ContractData\",C222, \"PerCentNetLastTrade\",, \"T\")/100,\"\")","v":1.8933731938216244E-3},1197,1197,"S.US.DE",222,"S.US.FIF"]
[null,null,"S.US.HFC",{"$f":"IFERROR(RTD(\"cqg.rtd\", ,\"ContractData\",C223, \"PerCentNetLastTrade\",, \"T\")/100,\"\")","v":1.2708787218591139E-2},602,602,"S.US.HFC",223,"S.US.KMI"]
[null,null,"S.US.MA",{"$f":"IFERROR(RTD(\"cqg.rtd\", ,\"ContractData\",C224, \"PerCentNetLastTrade\",, \"T\")/100,\"\")","v":-1.4544403775765748E-2},2255,2255,"S.US.MA",224,"S.US.SLB"]
[null,null,"S.US.JWN",{"$f":"IFERROR(RTD(\"cqg.rtd\", ,\"ContractData\",C225, \"PerCentNetLastTrade\",, \"T\")/100,\"\")","v":3.1943212067435671E-3},1105,1105,"S.US.JWN",225,"S.US.STNG"]
[null,null,"S.US.RRC",{"$f":"IFERROR(RTD(\"cqg.rtd\", ,\"ContractData\",C226, \"PerCentNetLastTrade\",, \"T\")/100,\"\")","v":7.9736046191916411E-3},810,810,"S.US.RRC",226,"S.US.IRR"]
[null,null,"S.US.GPT",{"$f":"IFERROR(RTD(\"cqg.rtd\", ,\"ContractData\",C227, \"PerCentNetLastTrade\",, \"T\")/100,\"\")","v":-2.2875816993464051E-2},2407,2407,"S.US.GPT",227,"S.US.TEP"]
[null,null,"S.US.MCD",{"$f":"IFERROR(RTD(\"cqg.rtd\", ,\"ContractData\",C228, \"PerCentNetLastTrade\",, \"T\")/100,\"\")","v":-2.9830957905203847E-3},1629,1629,"S.US.MCD",228,"S.US.TNP"]
[null,null,"S.US.ETN",{"$f":"IFERROR(RTD(\"cqg.rtd\", ,\"ContractData\",C229, \"PerCentNetLastTrade\",, \"T\")/100,\"\")","v":1.7963160298371136E-2},454,454,"S.US.ETN",229,"S.US.ETE"]
[null,null,"S.US.ADM",{"$f":"IFERROR(RTD(\"cqg.rtd\", ,\"ContractData\",C230, \"PerCentNetLastTrade\",, \"T\")/100,\"\")","v":5.8452186111760587E-3},924,924,"S.US.ADM",230,"S.US.KED"]
[null,null,"S.US.NYCB",{"$f":"IFERROR(RTD(\"cqg.rtd\", ,\"ContractData\",C231, \"PerCentNetLastTrade\",, \"T\")/100,\"\")","v":6.2774639045825482E-3},900,900,"S.US.NYCB",231,"S.US.ENBL"]
[null,null,"S.US.CAH",{"$f":"IFERROR(RTD(\"cqg.rtd\", ,\"ContractData\",C232, \"PerCentNetLastTrade\",, \"T\")/100,\"\")","v":8.4518946330469082E-4},1285,1285,"S.US.CAH",232,"S.US.PWR"]
[null,null,"S.US.BRKB",{"$f":"IFERROR(RTD(\"cqg.rtd\", ,\"ContractData\",C233, \"PerCentNetLastTrade\",, \"T\")/100,\"\")","v":6.0248604769152711E-3},914,914,"S.US.BRKB",233,"S.US.SXL"]
[null,null,"S.US.ATW",{"$f":"IFERROR(RTD(\"cqg.rtd\", ,\"ContractData\",C234, \"PerCentNetLastTrade\",, \"T\")/100,\"\")","v":0.15856777493606139},14,14,"S.US.ATW",234,"S.US.NVO"]
[null,null,"S.US.GS",{"$f":"IFERROR(RTD(\"cqg.rtd\", ,\"ContractData\",C235, \"PerCentNetLastTrade\",, \"T\")/100,\"\")","v":3.5230224321133409E-2},237,237,"S.US.GS",235,"S.US.EEP"]
[null,null,"S.US.CAG",{"$f":"IFERROR(RTD(\"cqg.rtd\", ,\"ContractData\",C236, \"PerCentNetLastTrade\",, \"T\")/100,\"\")","v":-1.5641569459172854E-2},2282,2282,"S.US.CAG",236,"S.US.VNCE"]
[null,null,"S.US.ANF",{"$f":"IFERROR(RTD(\"cqg.rtd\", ,\"ContractData\",C237, \"PerCentNetLastTrade\",, \"T\")/100,\"\")","v":-2.9158383035122595E-2},2446,2446,"S.US.ANF",237,"S.US.GS"]
[null,null,"S.US.KATE",{"$f":"IFERROR(RTD(\"cqg.rtd\", ,\"ContractData\",C238, \"PerCentNetLastTrade\",, \"T\")/100,\"\")","v":-2.2801302931596091E-2},2404,2404,"S.US.KATE",238,"S.US.USAC"]
[null,null,"S.US.MAS",{"$f":"IFERROR(RTD(\"cqg.rtd\", ,\"ContractData\",C239, \"PerCentNetLastTrade\",, \"T\")/100,\"\")","v":-8.0720273207078551E-3},1992,1992,"S.US.MAS",239,"S.US.HOME"]
[null,null,"S.US.BEN",{"$f":"IFERROR(RTD(\"cqg.rtd\", ,\"ContractData\",C240, \"PerCentNetLastTrade\",, \"T\")/100,\"\")","v":1.0335917312661497E-2},697,697,"S.US.BEN",240,"S.US.CBA"]
[null,null,"S.US.CCI",{"$f":"IFERROR(RTD(\"cqg.rtd\", ,\"ContractData\",C241, \"PerCentNetLastTrade\",, \"T\")/100,\"\")","v":-1.4783526927138331E-2},2260,2260,"S.US.CCI",241,"S.US.CAS"]
[null,null,"S.US.TJX",{"$f":"IFERROR(RTD(\"cqg.rtd\", ,\"ContractData\",C242, \"PerCentNetLastTrade\",, \"T\")/100,\"\")","v":-2.7915239182844816E-3},1604,1604,"S.US.TJX",242,"S.US.PEO"]
[null,null,"S.US.QEP",{"$f":"IFERROR(RTD(\"cqg.rtd\", ,\"ContractData\",C243, \"PerCentNetLastTrade\",, \"T\")/100,\"\")","v":0.12330383480825959},40,40,"S.US.QEP",243,"S.US.MPLX"]
[null,null,"S.US.BHP",{"$f":"IFERROR(RTD(\"cqg.rtd\", ,\"ContractData\",C244, \"PerCentNetLastTrade\",, \"T\")/100,\"\")","v":1.6034206306787813E-3},1221,1221,"S.US.BHP",244,"S.US.AVAL"]
[null,null,"S.US.LOCK",{"$f":"IFERROR(RTD(\"cqg.rtd\", ,\"ContractData\",C245, \"PerCentNetLastTrade\",, \"T\")/100,\"\")","v":4.2016806722689078E-4},1314,1314,"S.US.LOCK",245,"S.US.SPH"]
[null,null,"S.US.HES",{"$f":"IFERROR(RTD(\"cqg.rtd\", ,\"ContractData\",C246, \"PerCentNetLastTrade\",, \"T\")/100,\"\")","v":0.12293577981651377},41,41,"S.US.HES",246,"S.US.RFP"]
[null,null,"S.US.GXP",{"$f":"IFERROR(RTD(\"cqg.rtd\", ,\"ContractData\",C247, \"PerCentNetLastTrade\",, \"T\")/100,\"\")","v":-1.4364640883977901E-2},2251,2251,"S.US.GXP",247,"S.US.BP"]
[null,null,"S.US.ABC",{"$f":"IFERROR(RTD(\"cqg.rtd\", ,\"ContractData\",C248, \"PerCentNetLastTrade\",, \"T\")/100,\"\")","v":3.4780368414272832E-3},1065,1065,"S.US.ABC",248,"S.US.EEQ"]
[null,null,"S.US.CC",{"$f":"IFERROR(RTD(\"cqg.rtd\", ,\"ContractData\",C249, \"PerCentNetLastTrade\",, \"T\")/100,\"\")","v":8.8907705334462309E-3},761,761,"S.US.CC",249,"S.US.BWA"]
[null,null,"S.US.RICE",{"$f":"IFERROR(RTD(\"cqg.rtd\", ,\"ContractData\",C250, \"PerCentNetLastTrade\",, \"T\")/100,\"\")","v":2.0942408376963352E-2},385,385,"S.US.RICE",250,"S.US.AKS"]
[null,null,"S.US.CL",{"$f":"IFERROR(RTD(\"cqg.rtd\", ,\"ContractData\",C251, \"PerCentNetLastTrade\",, \"T\")/100,\"\")","v":-1.172403427025402E-2},2158,2158,"S.US.CL",251,"S.US.SRV"]
[null,null,"S.US.APA",{"$f":"IFERROR(RTD(\"cqg.rtd\", ,\"ContractData\",C252, \"PerCentNetLastTrade\",, \"T\")/100,\"\")","v":7.4744813961145865E-2},102,102,"S.US.APA",252,"S.US.X"]
[null,null,"S.US.SE",{"$f":"IFERROR(RTD(\"cqg.rtd\", ,\"ContractData\",C253, \"PerCentNetLastTrade\",, \"T\")/100,\"\")","v":1.4834630350194554E-2},531,531,"S.US.SE",253,"S.US.BGR"]
[null,null,"S.US.AR",{"$f":"IFERROR(RTD(\"cqg.rtd\", ,\"ContractData\",C254, \"PerCentNetLastTrade\",, \"T\")/100,\"\")","v":-1.0488100040338845E-2},2067,2067,"S.US.AR",254,"S.US.TX"]
[null,null,"S.US.DUK",{"$f":"IFERROR(RTD(\"cqg.rtd\", ,\"ContractData\",C255, \"PerCentNetLastTrade\",, \"T\")/100,\"\")","v":-2.2390991226921564E-2},2399,2399,"S.US.DUK",255,"S.US.GWW"]
[null,null,"S.US.CNP",{"$f":"IFERROR(RTD(\"cqg.rtd\", ,\"ContractData\",C256, \"PerCentNetLastTrade\",, \"T\")/100,\"\")","v":-2.0755500207555004E-3},1544,1544,"S.US.CNP",256,"S.US.CE"]
[null,null,"S.US.EOG",{"$f":"IFERROR(RTD(\"cqg.rtd\", ,\"ContractData\",C257, \"PerCentNetLastTrade\",, \"T\")/100,\"\")","v":7.9835569017741234E-2},94,{"$f":"IFERROR(E257,\"\")","v":94},{"$f":"C257","v":"S.US.EOG"},257,{"$f":"IFERROR(VLOOKUP(H257,$F$1:$G$2522,2,FALSE),\"\")","v":"S.US.ASC"}]
[null,null,"S.US.PLD",{"$f":"IFERROR(RTD(\"cqg.rtd\", ,\"ContractData\",C258, \"PerCentNetLastTrade\",, \"T\")/100,\"\")","v":-1.1275272161741836E-2},2134,2134,"S.US.PLD",{"$f":"H257+1","v":258},"S.US.CZZ"]
[null,null,"S.US.KORS",{"$f":"IFERROR(RTD(\"cqg.rtd\", ,\"ContractData\",C259, \"PerCentNetLastTrade\",, \"T\")/100,\"\")","v":-8.1743869209809257E-3},1999,1999,"S.US.KORS",259,"S.US.CP"]
[null,null,"S.US.IVZ",{"$f":"IFERROR(RTD(\"cqg.rtd\", ,\"ContractData\",C260, \"PerCentNetLastTrade\",, \"T\")/100,\"\")","v":1.5837104072398189E-2},506,506,"S.US.IVZ",260,"S.US.WCC"]
[null,null,"S.US.COH",{"$f":"IFERROR(RTD(\"cqg.rtd\", ,\"ContractData\",C261, \"PerCentNetLastTrade\",, \"T\")/100,\"\")","v":-4.5454545454545452E-3},1771,1771,"S.US.COH",261,"S.US.NGVT"]
[null,null,"S.US.NVS",{"$f":"IFERROR(RTD(\"cqg.rtd\", ,\"ContractData\",C262, \"PerCentNetLastTrade\",, \"T\")/100,\"\")","v":2.9002320185614848E-4},1322,1322,"S.US.NVS",262,"S.US.BSM"]
[null,null,"S.US.SVU",{"$f":"IFERROR(RTD(\"cqg.rtd\", ,\"ContractData\",C263, \"PerCentNetLastTrade\",, \"T\")/100,\"\")","v":2.1097046413502112E-3},1183,1183,"S.US.SVU",263,"S.US.UIS"]
[null,null,"S.US.TV",{"$f":"IFERROR(RTD(\"cqg.rtd\", ,\"ContractData\",C264, \"PerCentNetLastTrade\",, \"T\")/100,\"\")","v":-5.7306590257879654E-3},1844,1844,"S.US.TV",264,"S.US.TGH"]
[null,null,"S.US.LPI",{"$f":"IFERROR(RTD(\"cqg.rtd\", ,\"ContractData\",C265, \"PerCentNetLastTrade\",, \"T\")/100,\"\")","v":0.13850616388687453},27,27,"S.US.LPI",265,"S.US.PLOW"]
[null,null,"S.US.NEE",{"$f":"IFERROR(RTD(\"cqg.rtd\", ,\"ContractData\",C266, \"PerCentNetLastTrade\",, \"T\")/100,\"\")","v":-1.8077939797049546E-2},2331,2331,"S.US.NEE",266,"S.US.WLKP"]
[null,null,"S.US.NOV",{"$f":"IFERROR(RTD(\"cqg.rtd\", ,\"ContractData\",C267, \"PerCentNetLastTrade\",, \"T\")/100,\"\")","v":5.8670520231213878E-2},128,128,"S.US.NOV",267,"S.US.CBI"]
[null,null,"S.US.IBM",{"$f":"IFERROR(RTD(\"cqg.rtd\", ,\"ContractData\",C268, \"PerCentNetLastTrade\",, \"T\")/100,\"\")","v":-4.1582584235308508E-3},1732,1732,"S.US.IBM",268,"S.US.CEA"]
[null,null,"S.US.PNC",{"$f":"IFERROR(RTD(\"cqg.rtd\", ,\"ContractData\",C269, \"PerCentNetLastTrade\",, \"T\")/100,\"\")","v":1.0799926780157423E-2},672,672,"S.US.PNC",269,"S.US.SXC"]
[null,null,"S.US.DDR",{"$f":"IFERROR(RTD(\"cqg.rtd\", ,\"ContractData\",C270, \"PerCentNetLastTrade\",, \"T\")/100,\"\")","v":-1.3106159895150721E-3},1471,1471,"S.US.DDR",270,"S.US.SQ"]
[null,null,"S.US.NUE",{"$f":"IFERROR(RTD(\"cqg.rtd\", ,\"ContractData\",C271, \"PerCentNetLastTrade\",, \"T\")/100,\"\")","v":6.0035696900859973E-3},925,925,"S.US.NUE",271,"S.US.SKX"]
[null,null,"S.US.CXW",{"$f":"IFERROR(RTD(\"cqg.rtd\", ,\"ContractData\",C272, \"PerCentNetLastTrade\",, \"T\")/100,\"\")","v":-4.9393803322855864E-3},1778,1778,"S.US.CXW",272,"S.US.PZE"]
[null,null,"S.US.CUZ",{"$f":"IFERROR(RTD(\"cqg.rtd\", ,\"ContractData\",C273, \"PerCentNetLastTrade\",, \"T\")/100,\"\")","v":-1.1166253101736974E-2},2131,2131,"S.US.CUZ",273,"S.US.PHH"]
[null,null,"S.US.RDC",{"$f":"IFERROR(RTD(\"cqg.rtd\", ,\"ContractData\",C274, \"PerCentNetLastTrade\",, \"T\")/100,\"\")","v":0.11096774193548388},53,53,"S.US.RDC",274,"S.US.SNP"]
[null,null,"S.US.FTI",{"$f":"IFERROR(RTD(\"cqg.rtd\", ,\"ContractData\",C275, \"PerCentNetLastTrade\",, \"T\")/100,\"\")","v":3.7575757575757575E-2},213,213,"S.US.FTI",275,"S.US.HSC"]
[null,null,"S.US.STNG",{"$f":"IFERROR(RTD(\"cqg.rtd\", ,\"ContractData\",C276, \"PerCentNetLastTrade\",, \"T\")/100,\"\")","v":3.6764705882352942E-2},225,225,"S.US.STNG",276,"S.US.TG"]
[null,null,"S.US.BA",{"$f":"IFERROR(RTD(\"cqg.rtd\", ,\"ContractData\",C277, \"PerCentNetLastTrade\",, \"T\")/100,\"\")","v":5.47348984436824E-3},946,946,"S.US.BA",277,"S.US.WPZ"]
[null,null,"S.US.TRQ",{"$f":"IFERROR(RTD(\"cqg.rtd\", ,\"ContractData\",C278, \"PerCentNetLastTrade\",, \"T\")/100,\"\")","v":-5.8309037900874635E-3},1852,1852,"S.US.TRQ",278,"S.US.TRN"]
[null,null,"S.US.SU",{"$f":"IFERROR(RTD(\"cqg.rtd\", ,\"ContractData\",C279, \"PerCentNetLastTrade\",, \"T\")/100,\"\")","v":5.9960026648900738E-2},122,122,"S.US.SU",279,"S.US.DKL"]
[null,null,"S.US.DHR",{"$f":"IFERROR(RTD(\"cqg.rtd\", ,\"ContractData\",C280, \"PerCentNetLastTrade\",, \"T\")/100,\"\")","v":-8.8462024516618217E-3},2038,2038,"S.US.DHR",280,"S.US.W"]
[null,null,"S.US.ICE",{"$f":"IFERROR(RTD(\"cqg.rtd\", ,\"ContractData\",C281, \"PerCentNetLastTrade\",, \"T\")/100,\"\")","v":1.3129102844638949E-2},583,583,"S.US.ICE",281,"S.US.CEN"]
[null,null,"S.US.SID",{"$f":"IFERROR(RTD(\"cqg.rtd\", ,\"ContractData\",C282, \"PerCentNetLastTrade\",, \"T\")/100,\"\")","v":-7.9575596816976128E-3},1983,1983,"S.US.SID",282,"S.US.EXP"]
[null,null,"S.US.MUR",{"$f":"IFERROR(RTD(\"cqg.rtd\", ,\"ContractData\",C283, \"PerCentNetLastTrade\",, \"T\")/100,\"\")","v":0.11114887831407205},51,51,"S.US.MUR",283,"S.US.ATI"]
[null,null,"S.US.HRL",{"$f":"IFERROR(RTD(\"cqg.rtd\", ,\"ContractData\",C284, \"PerCentNetLastTrade\",, \"T\")/100,\"\")","v":-2.5091626726811391E-2},2421,2421,"S.US.HRL",284,"S.US.FPL"]
[null,null,"S.US.GPK",{"$f":"IFERROR(RTD(\"cqg.rtd\", ,\"ContractData\",C285, \"PerCentNetLastTrade\",, \"T\")/100,\"\")","v":3.8759689922480624E-3},1060,1060,"S.US.GPK",285,"S.US.EMO"]
[null,null,"S.US.DG",{"$f":"IFERROR(RTD(\"cqg.rtd\", ,\"ContractData\",C286, \"PerCentNetLastTrade\",, \"T\")/100,\"\")","v":-4.3417188098582556E-3},1734,1734,"S.US.DG",286,"S.US.CEM"]
[null,null,"S.US.ZTO",{"$f":"IFERROR(RTD(\"cqg.rtd\", ,\"ContractData\",C287, \"PerCentNetLastTrade\",, \"T\")/100,\"\")","v":-2.3032629558541268E-2},2410,2410,"S.US.ZTO",287,"S.US.HGT"]
[null,null,"S.US.GME",{"$f":"IFERROR(RTD(\"cqg.rtd\", ,\"ContractData\",C288, \"PerCentNetLastTrade\",, \"T\")/100,\"\")","v":5.7166190281747655E-3},936,936,"S.US.GME",288,"S.US.ITT"]
[null,null,"S.US.PRU",{"$f":"IFERROR(RTD(\"cqg.rtd\", ,\"ContractData\",C289, \"PerCentNetLastTrade\",, \"T\")/100,\"\")","v":1.2829507868096621E-2},576,576,"S.US.PRU",289,"S.US.AM"]
[null,null,"S.US.DRH",{"$f":"IFERROR(RTD(\"cqg.rtd\", ,\"ContractData\",C290, \"PerCentNetLastTrade\",, \"T\")/100,\"\")","v":8.6289549376797701E-3},771,771,"S.US.DRH",290,"S.US.NS"]
[null,null,"S.US.KKR",{"$f":"IFERROR(RTD(\"cqg.rtd\", ,\"ContractData\",C291, \"PerCentNetLastTrade\",, \"T\")/100,\"\")","v":7.8636959370904317E-3},818,818,"S.US.KKR",291,"S.US.NRT"]
[null,null,"S.US.AEP",{"$f":"IFERROR(RTD(\"cqg.rtd\", ,\"ContractData\",C292, \"PerCentNetLastTrade\",, \"T\")/100,\"\")","v":-2.2849681736575814E-2},2406,2406,"S.US.AEP",292,"S.US.GLP"]
[null,null,"S.US.BUD",{"$f":"IFERROR(RTD(\"cqg.rtd\", ,\"ContractData\",C293, \"PerCentNetLastTrade\",, \"T\")/100,\"\")","v":-3.9118404732372859E-3},1699,1699,"S.US.BUD",293,"S.US.LNN"]
[null,null,"S.US.SPN",{"$f":"IFERROR(RTD(\"cqg.rtd\", ,\"ContractData\",C294, \"PerCentNetLastTrade\",, \"T\")/100,\"\")","v":0.13145216792842396},33,33,"S.US.SPN",294,"S.US.TSL"]
[null,null,"S.US.OHI",{"$f":"IFERROR(RTD(\"cqg.rtd\", ,\"ContractData\",C295, \"PerCentNetLastTrade\",, \"T\")/100,\"\")","v":-1.9587977034785545E-2},2361,2361,"S.US.OHI",295,"S.US.EMR"]
[null,null,"S.US.AET",{"$f":"IFERROR(RTD(\"cqg.rtd\", ,\"ContractData\",C296, \"PerCentNetLastTrade\",, \"T\")/100,\"\")","v":-4.2414602741801108E-3},1727,1727,"S.US.AET",296,"S.US.WEX"]
[null,null,"S.US.AMT",{"$f":"IFERROR(RTD(\"cqg.rtd\", ,\"ContractData\",C297, \"PerCentNetLastTrade\",, \"T\")/100,\"\")","v":-1.5558698727015558E-2},2279,2279,"S.US.AMT",297,"S.US.TBI"]
[null,null,"S.US.UTX",{"$f":"IFERROR(RTD(\"cqg.rtd\", ,\"ContractData\",C298, \"PerCentNetLastTrade\",, \"T\")/100,\"\")","v":4.685777287761852E-3},998,998,"S.US.UTX",298,"S.US.AVH"]
[null,null,"S.US.CCL",{"$f":"IFERROR(RTD(\"cqg.rtd\", ,\"ContractData\",C299, \"PerCentNetLastTrade\",, \"T\")/100,\"\")","v":-3.269447576099211E-2},2454,2454,"S.US.CCL",299,"S.US.TLLP"]
[null,null,"S.US.IM",{"$f":"IFERROR(RTD(\"cqg.rtd\", ,\"ContractData\",C300, \"PerCentNetLastTrade\",, \"T\")/100,\"\")","v":-1.2022441891530858E-2},2160,2160,"S.US.IM",300,"S.US.CRT"]
[null,null,"S.US.PE",{"$f":"IFERROR(RTD(\"cqg.rtd\", ,\"ContractData\",C301, \"PerCentNetLastTrade\",, \"T\")/100,\"\")","v":0.14714805825242719},23,23,"S.US.PE",301,"S.US.NAV"]
[null,null,"S.US.AME",{"$f":"IFERROR(RTD(\"cqg.rtd\", ,\"ContractData\",C302, \"PerCentNetLastTrade\",, \"T\")/100,\"\")","v":2.1313614615050023E-2},380,380,"S.US.AME",302,"S.US.P"]
[null,null,"S.US.NFX",{"$f":"IFERROR(RTD(\"cqg.rtd\", ,\"ContractData\",C303, \"PerCentNetLastTrade\",, \"T\")/100,\"\")","v":0.13017902813299234},36,36,"S.US.NFX",303,"S.US.NSC"]
[null,null,"S.US.MCK",{"$f":"IFERROR(RTD(\"cqg.rtd\", ,\"ContractData\",C304, \"PerCentNetLastTrade\",, \"T\")/100,\"\")","v":2.0530973451327435E-2},389,389,"S.US.MCK",304,"S.US.AEUA"]
[null,null,"S.US.ING",{"$f":"IFERROR(RTD(\"cqg.rtd\", ,\"ContractData\",C305, \"PerCentNetLastTrade\",, \"T\")/100,\"\")","v":1.3452914798206279E-2},572,572,"S.US.ING",305,"S.US.SNOW"]
[null,null,"S.US.XEL",{"$f":"IFERROR(RTD(\"cqg.rtd\", ,\"ContractData\",C306, \"PerCentNetLastTrade\",, \"T\")/100,\"\")","v":-2.2721659669054088E-2},2403,2403,"S.US.XEL",306,"S.US.PJC"]
[null,null,"S.US.DRE",{"$f":"IFERROR(RTD(\"cqg.rtd\", ,\"ContractData\",C307, \"PerCentNetLastTrade\",, \"T\")/100,\"\")","v":-1.588531576908175E-2},2288,2288,"S.US.DRE",307,"S.US.VHI"]
[null,null,"S.US.CCJ",{"$f":"IFERROR(RTD(\"cqg.rtd\", ,\"ContractData\",C308, \"PerCentNetLastTrade\",, \"T\")/100,\"\")","v":1.1025358324145536E-2},664,664,"S.US.CCJ",308,"S.US.KEY"]
[null,null,"S.US.STO",{"$f":"IFERROR(RTD(\"cqg.rtd\", ,\"ContractData\",C309, \"PerCentNetLastTrade\",, \"T\")/100,\"\")","v":5.3822629969418959E-2},138,138,"S.US.STO",309,"S.US.ANW"]
[null,null,"S.US.BAS",{"$f":"IFERROR(RTD(\"cqg.rtd\", ,\"ContractData\",C310, \"PerCentNetLastTrade\",, \"T\")/100,\"\")","v":0.13333333333333333},31,31,"S.US.BAS",310,"S.US.MTL"]
[null,null,"S.US.DD",{"$f":"IFERROR(RTD(\"cqg.rtd\", ,\"ContractData\",C311, \"PerCentNetLastTrade\",, \"T\")/100,\"\")","v":3.3707865168539327E-3},1089,1089,"S.US.DD",311,"S.US.OMN"]
[null,null,"S.US.OCN",{"$f":"IFERROR(RTD(\"cqg.rtd\", ,\"ContractData\",C312, \"PerCentNetLastTrade\",, \"T\")/100,\"\")","v":2.0408163265306124E-2},392,392,"S.US.OCN",312,"S.US.RF"]
[null,null,"S.US.HON",{"$f":"IFERROR(RTD(\"cqg.rtd\", ,\"ContractData\",C313, \"PerCentNetLastTrade\",, \"T\")/100,\"\")","v":7.0584083289218285E-4},1293,1293,"S.US.HON",313,"S.US.OCIP"]
[null,null,"S.US.LYB",{"$f":"IFERROR(RTD(\"cqg.rtd\", ,\"ContractData\",C314, \"PerCentNetLastTrade\",, \"T\")/100,\"\")","v":4.6344959388437648E-2},166,166,"S.US.LYB",314,"S.US.CELP"]
[null,null,"S.US.ZAYO",{"$f":"IFERROR(RTD(\"cqg.rtd\", ,\"ContractData\",C315, \"PerCentNetLastTrade\",, \"T\")/100,\"\")","v":1.1235955056179777E-2},641,641,"S.US.ZAYO",315,"S.US.RXN"]
[null,null,"S.US.GIS",{"$f":"IFERROR(RTD(\"cqg.rtd\", ,\"ContractData\",C316, \"PerCentNetLastTrade\",, \"T\")/100,\"\")","v":-1.6278327481646985E-2},2296,2296,"S.US.GIS",316,"S.US.JKS"]
[null,null,"S.US.MFC",{"$f":"IFERROR(RTD(\"cqg.rtd\", ,\"ContractData\",C317, \"PerCentNetLastTrade\",, \"T\")/100,\"\")","v":1.5715948777648429E-2},509,509,"S.US.MFC",317,"S.US.RMP"]
[null,null,"S.US.CLR",{"$f":"IFERROR(RTD(\"cqg.rtd\", ,\"ContractData\",C318, \"PerCentNetLastTrade\",, \"T\")/100,\"\")","v":0.17475111205253124},8,8,"S.US.CLR",318,"S.US.IVC"]
[null,null,"S.US.MNK",{"$f":"IFERROR(RTD(\"cqg.rtd\", ,\"ContractData\",C319, \"PerCentNetLastTrade\",, \"T\")/100,\"\")","v":6.8676077832888214E-3},865,865,"S.US.MNK",319,"S.US.WNRL"]
[null,null,"S.US.RDN",{"$f":"IFERROR(RTD(\"cqg.rtd\", ,\"ContractData\",C320, \"PerCentNetLastTrade\",, \"T\")/100,\"\")","v":4.0955631399317407E-3},1039,1039,"S.US.RDN",320,"S.US.BWP"]
[null,null,"S.US.CLD",{"$f":"IFERROR(RTD(\"cqg.rtd\", ,\"ContractData\",C321, \"PerCentNetLastTrade\",, \"T\")/100,\"\")","v":2.1466905187835419E-2},377,{"$f":"IFERROR(E321,\"\")","v":377},{"$f":"C321","v":"S.US.CLD"},321,{"$f":"IFERROR(VLOOKUP(H321,$F$1:$G$2522,2,FALSE),\"\")","v":"S.US.FBC"}]
[null,null,"S.US.LGF",{"$f":"IFERROR(RTD(\"cqg.rtd\", ,\"ContractData\",C322, \"PerCentNetLastTrade\",, \"T\")/100,\"\")","v":7.2898799313893658E-3},851,851,"S.US.LGF",{"$f":"H321+1","v":322},"S.US.ALB"]
[null,null,"S.US.MDR",{"$f":"IFERROR(RTD(\"cqg.rtd\", ,\"ContractData\",C323, \"PerCentNetLastTrade\",, \"T\")/100,\"\")","v":5.9190031152647975E-2},125,125,"S.US.MDR",323,"S.US.TEX"]
[null,null,"S.US.UN",{"$f":"IFERROR(RTD(\"cqg.rtd\", ,\"ContractData\",C324, \"PerCentNetLastTrade\",, \"T\")/100,\"\")","v":1.827875095201828E-2},452,452,"S.US.UN",324,"S.US.CIB"]
[null,null,"S.US.ZBH",{"$f":"IFERROR(RTD(\"cqg.rtd\", ,\"ContractData\",C325, \"PerCentNetLastTrade\",, \"T\")/100,\"\")","v":-2.2243713733075435E-3},1558,1558,"S.US.ZBH",325,"S.US.CFR"]
[null,null,"S.US.PBI",{"$f":"IFERROR(RTD(\"cqg.rtd\", ,\"ContractData\",C326, \"PerCentNetLastTrade\",, \"T\")/100,\"\")","v":2.0689655172413794E-3},1187,1187,"S.US.PBI",326,"S.US.CVRR"]
[null,null,"S.US.ALL",{"$f":"IFERROR(RTD(\"cqg.rtd\", ,\"ContractData\",C327, \"PerCentNetLastTrade\",, \"T\")/100,\"\")","v":9.4786729857819912E-3},732,732,"S.US.ALL",327,"S.US.POT"]
[null,null,"S.US.TS",{"$f":"IFERROR(RTD(\"cqg.rtd\", ,\"ContractData\",C328, \"PerCentNetLastTrade\",, \"T\")/100,\"\")","v":5.5720408836135833E-2},136,136,"S.US.TS",328,"S.US.NGL"]
[null,null,"S.US.DLPH",{"$f":"IFERROR(RTD(\"cqg.rtd\", ,\"ContractData\",C329, \"PerCentNetLastTrade\",, \"T\")/100,\"\")","v":2.4905422446406051E-2},334,334,"S.US.DLPH",329,"S.US.CIT"]
[null,null,"S.US.CHS",{"$f":"IFERROR(RTD(\"cqg.rtd\", ,\"ContractData\",C330, \"PerCentNetLastTrade\",, \"T\")/100,\"\")","v":3.2786885245901635E-3},1098,1098,"S.US.CHS",330,"S.US.TCP"]
[null,null,"S.US.NI",{"$f":"IFERROR(RTD(\"cqg.rtd\", ,\"ContractData\",C331, \"PerCentNetLastTrade\",, \"T\")/100,\"\")","v":-1.7881090746535539E-3},1512,1512,"S.US.NI",331,"S.US.CFG"]
[null,null,"S.US.DO",{"$f":"IFERROR(RTD(\"cqg.rtd\", ,\"ContractData\",C332, \"PerCentNetLastTrade\",, \"T\")/100,\"\")","v":0.12412476129853596},39,39,"S.US.DO",332,"S.US.CSTM"]
[null,null,"S.US.BTE",{"$f":"IFERROR(RTD(\"cqg.rtd\", ,\"ContractData\",C333, \"PerCentNetLastTrade\",, \"T\")/100,\"\")","v":0.10899182561307902},58,58,"S.US.BTE",333,"S.US.FEI"]
[null,null,"S.US.FMSA",{"$f":"IFERROR(RTD(\"cqg.rtd\", ,\"ContractData\",C334, \"PerCentNetLastTrade\",, \"T\")/100,\"\")","v":0.16750000000000001},9,9,"S.US.FMSA",334,"S.US.DLPH"]
[null,null,"S.US.LB",{"$f":"IFERROR(RTD(\"cqg.rtd\", ,\"ContractData\",C335, \"PerCentNetLastTrade\",, \"T\")/100,\"\")","v":-1.5010423905489925E-2},2266,2266,"S.US.LB",335,"S.US.KBR"]
[null,null,"S.US.MBLY",{"$f":"IFERROR(RTD(\"cqg.rtd\", ,\"ContractData\",C336, \"PerCentNetLastTrade\",, \"T\")/100,\"\")","v":6.6595631326584982E-3},882,882,"S.US.MBLY",336,"S.US.TWTR"]
[null,null,"S.US.EVHC",{"$f":"IFERROR(RTD(\"cqg.rtd\", ,\"ContractData\",C337, \"PerCentNetLastTrade\",, \"T\")/100,\"\")","v":-4.4464206313917301E-3},1743,1743,"S.US.EVHC",337,"S.US.CNX"]
[null,null,"S.US.UPS",{"$f":"IFERROR(RTD(\"cqg.rtd\", ,\"ContractData\",C338, \"PerCentNetLastTrade\",, \"T\")/100,\"\")","v":3.8699690402476785E-3},1062,1062,"S.US.UPS",338,"S.US.NVGS"]
[null,null,"S.US.HUN",{"$f":"IFERROR(RTD(\"cqg.rtd\", ,\"ContractData\",C339, \"PerCentNetLastTrade\",, \"T\")/100,\"\")","v":8.3989501312335957E-3},789,789,"S.US.HUN",339,"S.US.AHC"]
[null,null,"S.US.SWFT",{"$f":"IFERROR(RTD(\"cqg.rtd\", ,\"ContractData\",C340, \"PerCentNetLastTrade\",, \"T\")/100,\"\")","v":2.2672064777327937E-2},356,356,"S.US.SWFT",340,"S.US.DHX"]
[null,null,"S.US.SUM",{"$f":"IFERROR(RTD(\"cqg.rtd\", ,\"ContractData\",C341, \"PerCentNetLastTrade\",, \"T\")/100,\"\")","v":4.246284501061571E-3},1026,1026,"S.US.SUM",341,"S.US.ICL"]
[null,null,"S.US.HCN",{"$f":"IFERROR(RTD(\"cqg.rtd\", ,\"ContractData\",C342, \"PerCentNetLastTrade\",, \"T\")/100,\"\")","v":-2.0096588253622059E-2},2368,2368,"S.US.HCN",342,"S.US.OFG"]
[null,null,"S.US.D",{"$f":"IFERROR(RTD(\"cqg.rtd\", ,\"ContractData\",C343, \"PerCentNetLastTrade\",, \"T\")/100,\"\")","v":-2.3518591512284848E-2},2416,2416,"S.US.D",343,"S.US.GBX"]
[null,null,"S.US.NLSN",{"$f":"IFERROR(RTD(\"cqg.rtd\", ,\"ContractData\",C344, \"PerCentNetLastTrade\",, \"T\")/100,\"\")","v":-2.304147465437788E-3},1566,1566,"S.US.NLSN",344,"S.US.SHLX"]
[null,null,"S.US.DFS",{"$f":"IFERROR(RTD(\"cqg.rtd\", ,\"ContractData\",C345, \"PerCentNetLastTrade\",, \"T\")/100,\"\")","v":4.8802129547471165E-3},990,990,"S.US.DFS",345,"S.US.MLR"]
[null,null,"S.US.PAH",{"$f":"IFERROR(RTD(\"cqg.rtd\", ,\"ContractData\",C346, \"PerCentNetLastTrade\",, \"T\")/100,\"\")","v":1.5135135135135137E-2},521,521,"S.US.PAH",346,"S.US.SXCP"]
[null,null,"S.US.CBG",{"$f":"IFERROR(RTD(\"cqg.rtd\", ,\"ContractData\",C347, \"PerCentNetLastTrade\",, \"T\")/100,\"\")","v":3.0864197530864196E-3},1111,1111,"S.US.CBG",347,"S.US.GWB"]
[null,null,"S.US.PEG",{"$f":"IFERROR(RTD(\"cqg.rtd\", ,\"ContractData\",C348, \"PerCentNetLastTrade\",, \"T\")/100,\"\")","v":-1.3772175536881419E-2},2229,2229,"S.US.PEG",348,"S.US.NMM"]
[null,null,"S.US.PBF",{"$f":"IFERROR(RTD(\"cqg.rtd\", ,\"ContractData\",C349, \"PerCentNetLastTrade\",, \"T\")/100,\"\")","v":-1.1503371677905595E-2},2141,2141,"S.US.PBF",349,"S.US.KNX"]
[null,null,"S.US.TGNA",{"$f":"IFERROR(RTD(\"cqg.rtd\", ,\"ContractData\",C350, \"PerCentNetLastTrade\",, \"T\")/100,\"\")","v":4.0232454179704967E-3},1044,1044,"S.US.TGNA",350,"S.US.GWR"]
[null,null,"S.US.DDD",{"$f":"IFERROR(RTD(\"cqg.rtd\", ,\"ContractData\",C351, \"PerCentNetLastTrade\",, \"T\")/100,\"\")","v":-1.284796573875803E-2},2265,2265,"S.US.DDD",351,"S.US.GATX"]
[null,null,"S.US.HRB",{"$f":"IFERROR(RTD(\"cqg.rtd\", ,\"ContractData\",C352, \"PerCentNetLastTrade\",, \"T\")/100,\"\")","v":-5.3619302949061663E-3},1849,1849,"S.US.HRB",352,"S.US.BAC"]
[null,null,"S.US.VFC",{"$f":"IFERROR(RTD(\"cqg.rtd\", ,\"ContractData\",C353, \"PerCentNetLastTrade\",, \"T\")/100,\"\")","v":-6.8308466654682723E-3},1928,1928,"S.US.VFC",353,"S.US.WSO"]
[null,null,"S.US.PWR",{"$f":"IFERROR(RTD(\"cqg.rtd\", ,\"ContractData\",C354, \"PerCentNetLastTrade\",, \"T\")/100,\"\")","v":3.5846724351050678E-2},232,232,"S.US.PWR",354,"S.US.KRO"]
[null,null,"S.US.NRZ",{"$f":"IFERROR(RTD(\"cqg.rtd\", ,\"ContractData\",C355, \"PerCentNetLastTrade\",, \"T\")/100,\"\")","v":0},1329,1329,"S.US.NRZ",355,"S.US.HEP"]
[null,null,"S.US.TAHO",{"$f":"IFERROR(RTD(\"cqg.rtd\", ,\"ContractData\",C356, \"PerCentNetLastTrade\",, \"T\")/100,\"\")","v":-9.433962264150943E-3},2054,2054,"S.US.TAHO",356,"S.US.SWFT"]
[null,null,"S.US.PGR",{"$f":"IFERROR(RTD(\"cqg.rtd\", ,\"ContractData\",C357, \"PerCentNetLastTrade\",, \"T\")/100,\"\")","v":-2.3823704586063131E-3},1574,1574,"S.US.PGR",357,"S.US.UNVR"]
[null,null,"S.US.DHT",{"$f":"IFERROR(RTD(\"cqg.rtd\", ,\"ContractData\",C358, \"PerCentNetLastTrade\",, \"T\")/100,\"\")","v":1.8421052631578946E-2},439,439,"S.US.DHT",358,"S.US.PB"]
[null,null,"S.US.IP",{"$f":"IFERROR(RTD(\"cqg.rtd\", ,\"ContractData\",C359, \"PerCentNetLastTrade\",, \"T\")/100,\"\")","v":-3.2760032760032758E-3},1648,1648,"S.US.IP",359,"S.US.FLOW"]
[null,null,"S.US.MBT",{"$f":"IFERROR(RTD(\"cqg.rtd\", ,\"ContractData\",C360, \"PerCentNetLastTrade\",, \"T\")/100,\"\")","v":3.7786774628879895E-2},212,212,"S.US.MBT",360,"S.US.NMR"]
[null,null,"S.US.OLN",{"$f":"IFERROR(RTD(\"cqg.rtd\", ,\"ContractData\",C361, \"PerCentNetLastTrade\",, \"T\")/100,\"\")","v":1.579778830963665E-2},508,508,"S.US.OLN",361,"S.US.NEFF"]
[null,null,"S.US.PCG",{"$f":"IFERROR(RTD(\"cqg.rtd\", ,\"ContractData\",C362, \"PerCentNetLastTrade\",, \"T\")/100,\"\")","v":-1.3066490241481972E-2},2199,2199,"S.US.PCG",362,"S.US.BBD"]
[null,null,"S.US.VTR",{"$f":"IFERROR(RTD(\"cqg.rtd\", ,\"ContractData\",C363, \"PerCentNetLastTrade\",, \"T\")/100,\"\")","v":-1.6374652038644178E-2},2298,2298,"S.US.VTR",363,"S.US.ALLY"]
[null,null,"S.US.CZZ",{"$f":"IFERROR(RTD(\"cqg.rtd\", ,\"ContractData\",C364, \"PerCentNetLastTrade\",, \"T\")/100,\"\")","v":3.2810271041369472E-2},258,258,"S.US.CZZ",364,"S.US.BBDO"]
[null,null,"S.US.CRC",{"$f":"IFERROR(RTD(\"cqg.rtd\", ,\"ContractData\",C365, \"PerCentNetLastTrade\",, \"T\")/100,\"\")","v":0.21410788381742737},3,3,"S.US.CRC",365,"S.US.WGP"]
[null,null,"S.US.ADPT",{"$f":"IFERROR(RTD(\"cqg.rtd\", ,\"ContractData\",C366, \"PerCentNetLastTrade\",, \"T\")/100,\"\")","v":1.2062726176115804E-3},1246,1246,"S.US.ADPT",366,"S.US.KMT"]
[null,null,"S.US.CNC",{"$f":"IFERROR(RTD(\"cqg.rtd\", ,\"ContractData\",C367, \"PerCentNetLastTrade\",, \"T\")/100,\"\")","v":6.7708333333333336E-3},861,861,"S.US.CNC",367,"S.US.EPD"]
[null,null,"S.US.FLR",{"$f":"IFERROR(RTD(\"cqg.rtd\", ,\"ContractData\",C368, \"PerCentNetLastTrade\",, \"T\")/100,\"\")","v":2.1603183627060832E-2},376,376,"S.US.FLR",368,"S.US.BOOT"]
[null,null,"S.US.DVA",{"$f":"IFERROR(RTD(\"cqg.rtd\", ,\"ContractData\",C369, \"PerCentNetLastTrade\",, \"T\")/100,\"\")","v":-4.2412818096135728E-3},1726,1726,"S.US.DVA",369,"S.US.SF"]
[null,null,"S.US.TWO",{"$f":"IFERROR(RTD(\"cqg.rtd\", ,\"ContractData\",C370, \"PerCentNetLastTrade\",, \"T\")/100,\"\")","v":-1.3840830449826988E-2},2232,2232,"S.US.TWO",370,"S.US.WAC"]
[null,null,"S.US.EW",{"$f":"IFERROR(RTD(\"cqg.rtd\", ,\"ContractData\",C371, \"PerCentNetLastTrade\",, \"T\")/100,\"\")","v":-7.2705601907032177E-3},1957,1957,"S.US.EW",371,"S.US.COTV"]
[null,null,"S.US.SXL",{"$f":"IFERROR(RTD(\"cqg.rtd\", ,\"ContractData\",C372, \"PerCentNetLastTrade\",, \"T\")/100,\"\")","v":3.618711385701677E-2},233,233,"S.US.SXL",372,"S.US.PSXP"]
[null,null,"S.US.WPG",{"$f":"IFERROR(RTD(\"cqg.rtd\", ,\"ContractData\",C373, \"PerCentNetLastTrade\",, \"T\")/100,\"\")","v":-3.9385206532180597E-2},2463,2463,"S.US.WPG",373,"S.US.ONDK"]
[null,null,"S.US.ACN",{"$f":"IFERROR(RTD(\"cqg.rtd\", ,\"ContractData\",C374, \"PerCentNetLastTrade\",, \"T\")/100,\"\")","v":-7.6070778898627419E-3},1968,1968,"S.US.ACN",374,"S.US.APU"]
[null,null,"S.US.DKS",{"$f":"IFERROR(RTD(\"cqg.rtd\", ,\"ContractData\",C375, \"PerCentNetLastTrade\",, \"T\")/100,\"\")","v":-9.3054170820870714E-3},2051,2051,"S.US.DKS",375,"S.US.ORN"]
[null,null,"S.US.ENB",{"$f":"IFERROR(RTD(\"cqg.rtd\", ,\"ContractData\",C376, \"PerCentNetLastTrade\",, \"T\")/100,\"\")","v":1.3045540796963946E-2},585,585,"S.US.ENB",376,"S.US.FLR"]
[null,null,"S.US.PSX",{"$f":"IFERROR(RTD(\"cqg.rtd\", ,\"ContractData\",C377, \"PerCentNetLastTrade\",, \"T\")/100,\"\")","v":4.248088360237893E-3},1047,1047,"S.US.PSX",377,"S.US.CLD"]
[null,null,"S.US.MTW",{"$f":"IFERROR(RTD(\"cqg.rtd\", ,\"ContractData\",C378, \"PerCentNetLastTrade\",, \"T\")/100,\"\")","v":5.3191489361702128E-2},141,141,"S.US.MTW",378,"S.US.MOS"]
[null,null,"S.US.HLS",{"$f":"IFERROR(RTD(\"cqg.rtd\", ,\"ContractData\",C379, \"PerCentNetLastTrade\",, \"T\")/100,\"\")","v":2.1423470602237563E-3},1181,1181,"S.US.HLS",379,"S.US.VEDL"]
[null,null,"S.US.STM",{"$f":"IFERROR(RTD(\"cqg.rtd\", ,\"ContractData\",C380, \"PerCentNetLastTrade\",, \"T\")/100,\"\")","v":1.8255578093306288E-2},443,443,"S.US.STM",380,"S.US.AME"]
[null,null,"S.US.IR",{"$f":"IFERROR(RTD(\"cqg.rtd\", ,\"ContractData\",C381, \"PerCentNetLastTrade\",, \"T\")/100,\"\")","v":1.1990407673860913E-3},1248,1248,"S.US.IR",381,"S.US.SPLP"]
[null,null,"S.US.BWA",{"$f":"IFERROR(RTD(\"cqg.rtd\", ,\"ContractData\",C382, \"PerCentNetLastTrade\",, \"T\")/100,\"\")","v":3.3662217063261751E-2},249,249,"S.US.BWA",382,"S.US.PNR"]
[null,null,"S.US.A",{"$f":"IFERROR(RTD(\"cqg.rtd\", ,\"ContractData\",C383, \"PerCentNetLastTrade\",, \"T\")/100,\"\")","v":-4.9460431654676255E-3},1779,1779,"S.US.A",383,"S.US.SFL"]
[null,null,"S.US.HIG",{"$f":"IFERROR(RTD(\"cqg.rtd\", ,\"ContractData\",C384, \"PerCentNetLastTrade\",, \"T\")/100,\"\")","v":7.4595055413469733E-3},841,841,"S.US.HIG",384,"S.US.ATKR"]
[null,null,"S.US.TSO",{"$f":"IFERROR(RTD(\"cqg.rtd\", ,\"ContractData\",C385, \"PerCentNetLastTrade\",, \"T\")/100,\"\")","v":-1.375365141187926E-2},2240,{"$f":"IFERROR(E385,\"\")","v":2240},{"$f":"C385","v":"S.US.TSO"},385,{"$f":"IFERROR(VLOOKUP(H385,$F$1:$G$2522,2,FALSE),\"\")","v":"S.US.RICE"}]
[null,null,"S.US.CNO",{"$f":"IFERROR(RTD(\"cqg.rtd\", ,\"ContractData\",C386, \"PerCentNetLastTrade\",, \"T\")/100,\"\")","v":1.5262860373092142E-2},517,517,"S.US.CNO",{"$f":"H385+1","v":386},"S.US.EQM"]
[null,null,"S.US.CMA",{"$f":"IFERROR(RTD(\"cqg.rtd\", ,\"ContractData\",C387, \"PerCentNetLastTrade\",, \"T\")/100,\"\")","v":1.9757085020242916E-2},411,411,"S.US.CMA",387,"S.US.AVD"]
[null,null,"S.US.BBL",{"$f":"IFERROR(RTD(\"cqg.rtd\", ,\"ContractData\",C388, \"PerCentNetLastTrade\",, \"T\")/100,\"\")","v":1.2239902080783354E-2},615,615,"S.US.BBL",388,"S.US.EQS"]
[null,null,"S.US.KSU",{"$f":"IFERROR(RTD(\"cqg.rtd\", ,\"ContractData\",C389, \"PerCentNetLastTrade\",, \"T\")/100,\"\")","v":1.0574189880613984E-2},683,683,"S.US.KSU",389,"S.US.MCK"]
[null,null,"S.US.CIT",{"$f":"IFERROR(RTD(\"cqg.rtd\", ,\"ContractData\",C390, \"PerCentNetLastTrade\",, \"T\")/100,\"\")","v":2.5149402390438249E-2},329,329,"S.US.CIT",390,"S.US.UL"]
[null,null,"S.US.YELP",{"$f":"IFERROR(RTD(\"cqg.rtd\", ,\"ContractData\",C391, \"PerCentNetLastTrade\",, \"T\")/100,\"\")","v":-1.7488906290785696E-2},2319,2319,"S.US.YELP",391,"S.US.CIR"]
[null,null,"S.US.CNQ",{"$f":"IFERROR(RTD(\"cqg.rtd\", ,\"ContractData\",C392, \"PerCentNetLastTrade\",, \"T\")/100,\"\")","v":8.2231538213479533E-2},89,89,"S.US.CNQ",392,"S.US.OCN"]
[null,null,"S.US.URI",{"$f":"IFERROR(RTD(\"cqg.rtd\", ,\"ContractData\",C393, \"PerCentNetLastTrade\",, \"T\")/100,\"\")","v":4.3094496365524398E-2},188,188,"S.US.URI",393,"S.US.WAIR"]
[null,null,"S.US.ATI",{"$f":"IFERROR(RTD(\"cqg.rtd\", ,\"ContractData\",C394, \"PerCentNetLastTrade\",, \"T\")/100,\"\")","v":2.9696969696969697E-2},283,283,"S.US.ATI",394,"S.US.MN"]
[null,null,"S.US.EXK",{"$f":"IFERROR(RTD(\"cqg.rtd\", ,\"ContractData\",C395, \"PerCentNetLastTrade\",, \"T\")/100,\"\")","v":-2.3255813953488372E-2},2413,2413,"S.US.EXK",395,"S.US.MOD"]
[null,null,"S.US.SLCA",{"$f":"IFERROR(RTD(\"cqg.rtd\", ,\"ContractData\",C396, \"PerCentNetLastTrade\",, \"T\")/100,\"\")","v":0.11197167514936933},50,50,"S.US.SLCA",396,"S.US.TGI"]
[null,null,"S.US.CPB",{"$f":"IFERROR(RTD(\"cqg.rtd\", ,\"ContractData\",C397, \"PerCentNetLastTrade\",, \"T\")/100,\"\")","v":-6.5915004336513441E-3},1916,1916,"S.US.CPB",397,"S.US.BAK"]
[null,null,"S.US.VG",{"$f":"IFERROR(RTD(\"cqg.rtd\", ,\"ContractData\",C398, \"PerCentNetLastTrade\",, \"T\")/100,\"\")","v":-5.9171597633136093E-3},1859,1859,"S.US.VG",398,"S.US.TROX"]
[null,null,"S.US.ARMK",{"$f":"IFERROR(RTD(\"cqg.rtd\", ,\"ContractData\",C399, \"PerCentNetLastTrade\",, \"T\")/100,\"\")","v":-3.707929264118654E-3},1681,1681,"S.US.ARMK",399,"S.US.SBR"]
[null,null,"S.US.SN",{"$f":"IFERROR(RTD(\"cqg.rtd\", ,\"ContractData\",C400, \"PerCentNetLastTrade\",, \"T\")/100,\"\")","v":0.16545718432510884},11,11,"S.US.SN",400,"S.US.TSE"]
[null,null,"S.US.UBS",{"$f":"IFERROR(RTD(\"cqg.rtd\", ,\"ContractData\",C401, \"PerCentNetLastTrade\",, \"T\")/100,\"\")","v":1.2894906511927788E-2},595,595,"S.US.UBS",401,"S.US.AOI"]
[null,null,"S.US.CPPL",{"$f":"IFERROR(RTD(\"cqg.rtd\", ,\"ContractData\",C402, \"PerCentNetLastTrade\",, \"T\")/100,\"\")","v":2.9239766081871343E-3},1121,1121,"S.US.CPPL",402,"S.US.RH"]
[null,null,"S.US.NM",{"$f":"IFERROR(RTD(\"cqg.rtd\", ,\"ContractData\",C403, \"PerCentNetLastTrade\",, \"T\")/100,\"\")","v":5.9523809523809521E-3},918,918,"S.US.NM",403,"S.US.CAPL"]
[null,null,"S.US.CHD",{"$f":"IFERROR(RTD(\"cqg.rtd\", ,\"ContractData\",C404, \"PerCentNetLastTrade\",, \"T\")/100,\"\")","v":-1.7395182872435327E-2},2317,2317,"S.US.CHD",404,"S.US.CVX"]
[null,null,"S.US.KMX",{"$f":"IFERROR(RTD(\"cqg.rtd\", ,\"ContractData\",C405, \"PerCentNetLastTrade\",, \"T\")/100,\"\")","v":4.1731872717788209E-3},1033,1033,"S.US.KMX",405,"S.US.BKS"]
[null,null,"S.US.MJN",{"$f":"IFERROR(RTD(\"cqg.rtd\", ,\"ContractData\",C406, \"PerCentNetLastTrade\",, \"T\")/100,\"\")","v":-5.7923045097227968E-3},1847,1847,"S.US.MJN",406,"S.US.KEM"]
[null,null,"S.US.SHO",{"$f":"IFERROR(RTD(\"cqg.rtd\", ,\"ContractData\",C407, \"PerCentNetLastTrade\",, \"T\")/100,\"\")","v":0},1296,1296,"S.US.SHO",407,"S.US.FIG"]
[null,null,"S.US.SBH",{"$f":"IFERROR(RTD(\"cqg.rtd\", ,\"ContractData\",C408, \"PerCentNetLastTrade\",, \"T\")/100,\"\")","v":5.2970109723798706E-3},956,956,"S.US.SBH",408,"S.US.BGC"]
[null,null,"S.US.FNB",{"$f":"IFERROR(RTD(\"cqg.rtd\", ,\"ContractData\",C409, \"PerCentNetLastTrade\",, \"T\")/100,\"\")","v":1.4608233731739709E-2},537,537,"S.US.FNB",409,"S.US.BCX"]
[null,null,"S.US.FLO",{"$f":"IFERROR(RTD(\"cqg.rtd\", ,\"ContractData\",C410, \"PerCentNetLastTrade\",, \"T\")/100,\"\")","v":-1.3478818998716302E-2},2220,2220,"S.US.FLO",410,"S.US.WBS"]
[null,null,"S.US.TOL",{"$f":"IFERROR(RTD(\"cqg.rtd\", ,\"ContractData\",C411, \"PerCentNetLastTrade\",, \"T\")/100,\"\")","v":-1.7641293694870955E-2},2323,2323,"S.US.TOL",411,"S.US.CMA"]
[null,null,"S.US.RSPP",{"$f":"IFERROR(RTD(\"cqg.rtd\", ,\"ContractData\",C412, \"PerCentNetLastTrade\",, \"T\")/100,\"\")","v":0.11658962506420133},47,47,"S.US.RSPP",412,"S.US.MG"]
[null,null,"S.US.PDS",{"$f":"IFERROR(RTD(\"cqg.rtd\", ,\"ContractData\",C413, \"PerCentNetLastTrade\",, \"T\")/100,\"\")","v":0.10154525386313466},63,63,"S.US.PDS",413,"S.US.CNNX"]
[null,null,"S.US.LEN",{"$f":"IFERROR(RTD(\"cqg.rtd\", ,\"ContractData\",C414, \"PerCentNetLastTrade\",, \"T\")/100,\"\")","v":-2.8254972875226037E-2},2440,2440,"S.US.LEN",414,"S.US.PSO"]
[null,null,"S.US.EPE",{"$f":"IFERROR(RTD(\"cqg.rtd\", ,\"ContractData\",C415, \"PerCentNetLastTrade\",, \"T\")/100,\"\")","v":0.1646778042959427},12,12,"S.US.EPE",415,"S.US.CALX"]
[null,null,"S.US.VOYA",{"$f":"IFERROR(RTD(\"cqg.rtd\", ,\"ContractData\",C416, \"PerCentNetLastTrade\",, \"T\")/100,\"\")","v":1.7446471054718478E-2},466,466,"S.US.VOYA",416,"S.US.PBFX"]
[null,null,"S.US.NSAM",{"$f":"IFERROR(RTD(\"cqg.rtd\", ,\"ContractData\",C417, \"PerCentNetLastTrade\",, \"T\")/100,\"\")","v":-1.4784946236559141E-2},2261,2261,"S.US.NSAM",417,"S.US.LUK"]
[null,null,"S.US.BBG",{"$f":"IFERROR(RTD(\"cqg.rtd\", ,\"ContractData\",C418, \"PerCentNetLastTrade\",, \"T\")/100,\"\")","v":0.11242603550295857},48,48,"S.US.BBG",418,"S.US.BID"]
[null,null,"S.US.SNY",{"$f":"IFERROR(RTD(\"cqg.rtd\", ,\"ContractData\",C419, \"PerCentNetLastTrade\",, \"T\")/100,\"\")","v":1.2363996043521267E-3},1241,1241,"S.US.SNY",419,"S.US.BIOA"]
[null,null,"S.US.SM",{"$f":"IFERROR(RTD(\"cqg.rtd\", ,\"ContractData\",C420, \"PerCentNetLastTrade\",, \"T\")/100,\"\")","v":0.21685991852083986},1,1,"S.US.SM",420,"S.US.INT"]
[null,null,"S.US.PPP",{"$f":"IFERROR(RTD(\"cqg.rtd\", ,\"ContractData\",C421, \"PerCentNetLastTrade\",, \"T\")/100,\"\")","v":-1.1494252873563218E-2},2140,2140,"S.US.PPP",421,"S.US.NNA"]
[null,null,"S.US.AEM",{"$f":"IFERROR(RTD(\"cqg.rtd\", ,\"ContractData\",C422, \"PerCentNetLastTrade\",, \"T\")/100,\"\")","v":-2.2884386174016686E-2},2408,2408,"S.US.AEM",422,"S.US.NTB"]
[null,null,"S.US.ACM",{"$f":"IFERROR(RTD(\"cqg.rtd\", ,\"ContractData\",C423, \"PerCentNetLastTrade\",, \"T\")/100,\"\")","v":1.601325234676974E-2},504,504,"S.US.ACM",423,"S.US.TOWR"]
[null,null,"S.US.TPH",{"$f":"IFERROR(RTD(\"cqg.rtd\", ,\"ContractData\",C424, \"PerCentNetLastTrade\",, \"T\")/100,\"\")","v":-1.2636899747262004E-2},2185,2185,"S.US.TPH",424,"S.US.SALT"]
[null,null,"S.US.SKX",{"$f":"IFERROR(RTD(\"cqg.rtd\", ,\"ContractData\",C425, \"PerCentNetLastTrade\",, \"T\")/100,\"\")","v":3.1191806331471134E-2},271,271,"S.US.SKX",425,"S.US.RATE"]
[null,null,"S.US.GNC",{"$f":"IFERROR(RTD(\"cqg.rtd\", ,\"ContractData\",C426, \"PerCentNetLastTrade\",, \"T\")/100,\"\")","v":-1.3840830449826991E-3},1478,1478,"S.US.GNC",426,"S.US.DSX"]
[null,null,"S.US.XL",{"$f":"IFERROR(RTD(\"cqg.rtd\", ,\"ContractData\",C427, \"PerCentNetLastTrade\",, \"T\")/100,\"\")","v":7.9473828446149624E-3},813,813,"S.US.XL",427,"S.US.XIN"]
[null,null,"S.US.KBH",{"$f":"IFERROR(RTD(\"cqg.rtd\", ,\"ContractData\",C428, \"PerCentNetLastTrade\",, \"T\")/100,\"\")","v":-6.1690314620604567E-4},1413,1413,"S.US.KBH",428,"S.US.SEP"]
[null,null,"S.US.EXPR",{"$f":"IFERROR(RTD(\"cqg.rtd\", ,\"ContractData\",C429, \"PerCentNetLastTrade\",, \"T\")/100,\"\")","v":4.4510385756676559E-3},1015,1015,"S.US.EXPR",429,"S.US.WAL"]
[null,null,"S.US.AXL",{"$f":"IFERROR(RTD(\"cqg.rtd\", ,\"ContractData\",C430, \"PerCentNetLastTrade\",, \"T\")/100,\"\")","v":-1.9518542615484711E-3},1529,1529,"S.US.AXL",430,"S.US.MT"]
[null,null,"S.US.MMC",{"$f":"IFERROR(RTD(\"cqg.rtd\", ,\"ContractData\",C431, \"PerCentNetLastTrade\",, \"T\")/100,\"\")","v":2.6094520150768343E-3},1140,1140,"S.US.MMC",431,"S.US.HTH"]
[null,null,"S.US.AMH",{"$f":"IFERROR(RTD(\"cqg.rtd\", ,\"ContractData\",C432, \"PerCentNetLastTrade\",, \"T\")/100,\"\")","v":-4.7370914258645196E-3},1764,1764,"S.US.AMH",432,"S.US.FHN"]
[null,null,"S.US.RTN",{"$f":"IFERROR(RTD(\"cqg.rtd\", ,\"ContractData\",C433, \"PerCentNetLastTrade\",, \"T\")/100,\"\")","v":-2.059253354590142E-3},1561,1561,"S.US.RTN",433,"S.US.ARCX"]
[null,null,"S.US.UNM",{"$f":"IFERROR(RTD(\"cqg.rtd\", ,\"ContractData\",C434, \"PerCentNetLastTrade\",, \"T\")/100,\"\")","v":9.5192765349833407E-3},728,728,"S.US.UNM",434,"S.US.NAT"]
[null,null,"S.US.STT",{"$f":"IFERROR(RTD(\"cqg.rtd\", ,\"ContractData\",C435, \"PerCentNetLastTrade\",, \"T\")/100,\"\")","v":1.6880924555252565E-2},481,481,"S.US.STT",435,"S.US.DECK"]
[null,null,"S.US.EL",{"$f":"IFERROR(RTD(\"cqg.rtd\", ,\"ContractData\",C436, \"PerCentNetLastTrade\",, \"T\")/100,\"\")","v":-5.0884111436204046E-4},1408,1408,"S.US.EL",436,"S.US.SMLP"]
[null,null,"S.US.HAR",{"$f":"IFERROR(RTD(\"cqg.rtd\", ,\"ContractData\",C437, \"PerCentNetLastTrade\",, \"T\")/100,\"\")","v":4.5682960255824577E-4},1312,1312,"S.US.HAR",437,"S.US.MTX"]
[null,null,"S.US.CIEN",{"$f":"IFERROR(RTD(\"cqg.rtd\", ,\"ContractData\",C438, \"PerCentNetLastTrade\",, \"T\")/100,\"\")","v":0},1330,1330,"S.US.CIEN",438,"S.US.WNC"]
[null,null,"S.US.AER",{"$f":"IFERROR(RTD(\"cqg.rtd\", ,\"ContractData\",C439, \"PerCentNetLastTrade\",, \"T\")/100,\"\")","v":3.9152464302164899E-3},1057,1057,"S.US.AER",439,"S.US.DHT"]
[null,null,"S.US.LNC",{"$f":"IFERROR(RTD(\"cqg.rtd\", ,\"ContractData\",C440, \"PerCentNetLastTrade\",, \"T\")/100,\"\")","v":1.7530006317119394E-2},462,462,"S.US.LNC",440,"S.US.TPL"]
[null,null,"S.US.HOG",{"$f":"IFERROR(RTD(\"cqg.rtd\", ,\"ContractData\",C441, \"PerCentNetLastTrade\",, \"T\")/100,\"\")","v":9.0120160213618163E-3},756,756,"S.US.HOG",441,"S.US.MMP"]
[null,null,"S.US.PIR",{"$f":"IFERROR(RTD(\"cqg.rtd\", ,\"ContractData\",C442, \"PerCentNetLastTrade\",, \"T\")/100,\"\")","v":3.3670033670033673E-3},1090,1090,"S.US.PIR",442,"S.US.BANC"]
[null,null,"S.US.RGC",{"$f":"IFERROR(RTD(\"cqg.rtd\", ,\"ContractData\",C443, \"PerCentNetLastTrade\",, \"T\")/100,\"\")","v":-1.3339070567986231E-2},2215,2215,"S.US.RGC",443,"S.US.STM"]
[null,null,"S.US.STZ",{"$f":"IFERROR(RTD(\"cqg.rtd\", ,\"ContractData\",C444, \"PerCentNetLastTrade\",, \"T\")/100,\"\")","v":-1.5596919127086009E-2},2280,2280,"S.US.STZ",444,"S.US.UAN"]
[null,null,"S.US.CMC",{"$f":"IFERROR(RTD(\"cqg.rtd\", ,\"ContractData\",C445, \"PerCentNetLastTrade\",, \"T\")/100,\"\")","v":-2.7198549410698096E-3},1597,1597,"S.US.CMC",445,"S.US.TREC"]
[null,null,"S.US.CBI",{"$f":"IFERROR(RTD(\"cqg.rtd\", ,\"ContractData\",C446, \"PerCentNetLastTrade\",, \"T\")/100,\"\")","v":3.1473979432845127E-2},267,267,"S.US.CBI",446,"S.US.HDB"]
[null,null,"S.US.FL",{"$f":"IFERROR(RTD(\"cqg.rtd\", ,\"ContractData\",C447, \"PerCentNetLastTrade\",, \"T\")/100,\"\")","v":3.865267807840972E-3},1063,1063,"S.US.FL",447,"S.US.CAL"]
[null,null,"S.US.AGI",{"$f":"IFERROR(RTD(\"cqg.rtd\", ,\"ContractData\",C448, \"PerCentNetLastTrade\",, \"T\")/100,\"\")","v":-1.2176560121765601E-2},2167,2167,"S.US.AGI",448,"S.US.DM"]
[null,null,"S.US.PAA",{"$f":"IFERROR(RTD(\"cqg.rtd\", ,\"ContractData\",C449, \"PerCentNetLastTrade\",, \"T\")/100,\"\")","v":8.7997302764666219E-2},79,{"$f":"IFERROR(E449,\"\")","v":79},{"$f":"C449","v":"S.US.PAA"},449,{"$f":"IFERROR(VLOOKUP(H449,$F$1:$G$2522,2,FALSE),\"\")","v":"S.US.RM"}]
[null,null,"S.US.TRN",{"$f":"IFERROR(RTD(\"cqg.rtd\", ,\"ContractData\",C450, \"PerCentNetLastTrade\",, \"T\")/100,\"\")","v":3.0415430267062313E-2},278,278,"S.US.TRN",{"$f":"H449+1","v":450},"S.US.DL"]
[null,null,"S.US.AEG",{"$f":"IFERROR(RTD(\"cqg.rtd\", ,\"ContractData\",C451, \"PerCentNetLastTrade\",, \"T\")/100,\"\")","v":0},1331,1331,"S.US.AEG",451,"S.US.FCX"]
[null,null,"S.US.NAT",{"$f":"IFERROR(RTD(\"cqg.rtd\", ,\"ContractData\",C452, \"PerCentNetLastTrade\",, \"T\")/100,\"\")","v":1.8561484918793503E-2},434,434,"S.US.NAT",452,"S.US.UN"]
[null,null,"S.US.ANTM",{"$f":"IFERROR(RTD(\"cqg.rtd\", ,\"ContractData\",C453, \"PerCentNetLastTrade\",, \"T\")/100,\"\")","v":-3.9922907488986782E-3},1714,1714,"S.US.ANTM",453,"S.US.KMG"]
[null,null,"S.US.PANW",{"$f":"IFERROR(RTD(\"cqg.rtd\", ,\"ContractData\",C454, \"PerCentNetLastTrade\",, \"T\")/100,\"\")","v":-4.2671058541697863E-3},1731,1731,"S.US.PANW",454,"S.US.ETN"]
[null,null,"S.US.KND",{"$f":"IFERROR(RTD(\"cqg.rtd\", ,\"ContractData\",C455, \"PerCentNetLastTrade\",, \"T\")/100,\"\")","v":-1.8439716312056736E-2},2338,2338,"S.US.KND",455,"S.US.EVA"]
[null,null,"S.US.SEAS",{"$f":"IFERROR(RTD(\"cqg.rtd\", ,\"ContractData\",C456, \"PerCentNetLastTrade\",, \"T\")/100,\"\")","v":-5.8548009367681499E-4},1412,1412,"S.US.SEAS",456,"S.US.HBM"]
[null,null,"S.US.CBL",{"$f":"IFERROR(RTD(\"cqg.rtd\", ,\"ContractData\",C457, \"PerCentNetLastTrade\",, \"T\")/100,\"\")","v":-1.4178482068390326E-2},2242,2242,"S.US.CBL",457,"S.US.ASB"]
[null,null,"S.US.UL",{"$f":"IFERROR(RTD(\"cqg.rtd\", ,\"ContractData\",C458, \"PerCentNetLastTrade\",, \"T\")/100,\"\")","v":2.0764750569764498E-2},390,390,"S.US.UL",458,"S.US.NCT"]
[null,null,"S.US.RCL",{"$f":"IFERROR(RTD(\"cqg.rtd\", ,\"ContractData\",C459, \"PerCentNetLastTrade\",, \"T\")/100,\"\")","v":-2.4119633381572601E-2},2419,2419,"S.US.RCL",459,"S.US.TRCO"]
[null,null,"S.US.MFA",{"$f":"IFERROR(RTD(\"cqg.rtd\", ,\"ContractData\",C460, \"PerCentNetLastTrade\",, \"T\")/100,\"\")","v":-3.8216560509554145E-3},1690,1690,"S.US.MFA",460,"S.US.NEWR"]
[null,null,"S.US.MON",{"$f":"IFERROR(RTD(\"cqg.rtd\", ,\"ContractData\",C461, \"PerCentNetLastTrade\",, \"T\")/100,\"\")","v":2.3439789041898623E-3},1164,1164,"S.US.MON",461,"S.US.WPT"]
[null,null,"S.US.CSC",{"$f":"IFERROR(RTD(\"cqg.rtd\", ,\"ContractData\",C462, \"PerCentNetLastTrade\",, \"T\")/100,\"\")","v":-2.1073107472848109E-2},2383,2383,"S.US.CSC",462,"S.US.LNC"]
[null,null,"S.US.RLGY",{"$f":"IFERROR(RTD(\"cqg.rtd\", ,\"ContractData\",C463, \"PerCentNetLastTrade\",, \"T\")/100,\"\")","v":1.7255546425636811E-2},469,469,"S.US.RLGY",463,"S.US.MC"]
[null,null,"S.US.HSBC",{"$f":"IFERROR(RTD(\"cqg.rtd\", ,\"ContractData\",C464, \"PerCentNetLastTrade\",, \"T\")/100,\"\")","v":2.7982701602645636E-3},1125,1125,"S.US.HSBC",464,"S.US.MSGN"]
[null,null,"S.US.FBR",{"$f":"IFERROR(RTD(\"cqg.rtd\", ,\"ContractData\",C465, \"PerCentNetLastTrade\",, \"T\")/100,\"\")","v":-2.6748971193415638E-2},2432,2432,"S.US.FBR",465,"S.US.XOM"]
[null,null,"S.US.NSC",{"$f":"IFERROR(RTD(\"cqg.rtd\", ,\"ContractData\",C466, \"PerCentNetLastTrade\",, \"T\")/100,\"\")","v":2.7594136246047715E-2},303,303,"S.US.NSC",466,"S.US.VOYA"]
[null,null,"S.US.TMO",{"$f":"IFERROR(RTD(\"cqg.rtd\", ,\"ContractData\",C467, \"PerCentNetLastTrade\",, \"T\")/100,\"\")","v":-5.1674099242585122E-3},1796,1796,"S.US.TMO",467,"S.US.BBT"]
[null,null,"S.US.EQR",{"$f":"IFERROR(RTD(\"cqg.rtd\", ,\"ContractData\",C468, \"PerCentNetLastTrade\",, \"T\")/100,\"\")","v":-3.1410150438088941E-3},1637,1637,"S.US.EQR",468,"S.US.LCI"]
[null,null,"S.US.TIF",{"$f":"IFERROR(RTD(\"cqg.rtd\", ,\"ContractData\",C469, \"PerCentNetLastTrade\",, \"T\")/100,\"\")","v":4.3176178660049629E-2},185,185,"S.US.TIF",469,"S.US.RLGY"]
[null,null,"S.US.GSL",{"$f":"IFERROR(RTD(\"cqg.rtd\", ,\"ContractData\",C470, \"PerCentNetLastTrade\",, \"T\")/100,\"\")","v":5.9523809523809521E-3},919,919,"S.US.GSL",470,"S.US.ALDW"]
[null,null,"S.US.RDSB",{"$f":"IFERROR(RTD(\"cqg.rtd\", ,\"ContractData\",C471, \"PerCentNetLastTrade\",, \"T\")/100,\"\")","v":4.2093068159876429E-2},192,192,"S.US.RDSB",471,"S.US.GEF"]
[null,null,"S.US.FHN",{"$f":"IFERROR(RTD(\"cqg.rtd\", ,\"ContractData\",C472, \"PerCentNetLastTrade\",, \"T\")/100,\"\")","v":1.8696581196581196E-2},432,432,"S.US.FHN",472,"S.US.UNP"]
[null,null,"S.US.BSMX",{"$f":"IFERROR(RTD(\"cqg.rtd\", ,\"ContractData\",C473, \"PerCentNetLastTrade\",, \"T\")/100,\"\")","v":2.8571428571428571E-3},1124,1124,"S.US.BSMX",473,"S.US.LDL"]
[null,null,"S.US.VIV",{"$f":"IFERROR(RTD(\"cqg.rtd\", ,\"ContractData\",C474, \"PerCentNetLastTrade\",, \"T\")/100,\"\")","v":8.4745762711864406E-3},779,779,"S.US.VIV",474,"S.US.SFE"]
[null,null,"S.US.DPLO",{"$f":"IFERROR(RTD(\"cqg.rtd\", ,\"ContractData\",C475, \"PerCentNetLastTrade\",, \"T\")/100,\"\")","v":-3.4270047978067169E-3},1658,1658,"S.US.DPLO",475,"S.US.STI"]
[null,null,"S.US.HW",{"$f":"IFERROR(RTD(\"cqg.rtd\", ,\"ContractData\",C476, \"PerCentNetLastTrade\",, \"T\")/100,\"\")","v":3.3826638477801266E-3},1087,1087,"S.US.HW",476,"S.US.LXU"]
[null,null,"S.US.FNF",{"$f":"IFERROR(RTD(\"cqg.rtd\", ,\"ContractData\",C477, \"PerCentNetLastTrade\",, \"T\")/100,\"\")","v":-1.1652867218644588E-2},2149,2149,"S.US.FNF",477,"S.US.AMG"]
[null,null,"S.US.BURL",{"$f":"IFERROR(RTD(\"cqg.rtd\", ,\"ContractData\",C478, \"PerCentNetLastTrade\",, \"T\")/100,\"\")","v":-5.6230319388214124E-4},1410,1410,"S.US.BURL",478,"S.US.CIA"]
[null,null,"S.US.BVN",{"$f":"IFERROR(RTD(\"cqg.rtd\", ,\"ContractData\",C479, \"PerCentNetLastTrade\",, \"T\")/100,\"\")","v":6.3176895306859202E-3},1007,1007,"S.US.BVN",479,"S.US.AIT"]
[null,null,"S.US.TRGP",{"$f":"IFERROR(RTD(\"cqg.rtd\", ,\"ContractData\",C480, \"PerCentNetLastTrade\",, \"T\")/100,\"\")","v":9.2405844824037867E-2},74,74,"S.US.TRGP",480,"S.US.TNC"]
[null,null,"S.US.DAN",{"$f":"IFERROR(RTD(\"cqg.rtd\", ,\"ContractData\",C481, \"PerCentNetLastTrade\",, \"T\")/100,\"\")","v":1.0644589000591367E-2},677,677,"S.US.DAN",481,"S.US.STT"]
[null,null,"S.US.KBR",{"$f":"IFERROR(RTD(\"cqg.rtd\", ,\"ContractData\",C482, \"PerCentNetLastTrade\",, \"T\")/100,\"\")","v":2.4878640776699032E-2},335,335,"S.US.KBR",482,"S.US.TRC"]
[null,null,"S.US.TK",{"$f":"IFERROR(RTD(\"cqg.rtd\", ,\"ContractData\",C483, \"PerCentNetLastTrade\",, \"T\")/100,\"\")","v":8.7837837837837843E-2},80,80,"S.US.TK",483,"S.US.KWR"]
[null,null,"S.US.O",{"$f":"IFERROR(RTD(\"cqg.rtd\", ,\"ContractData\",C484, \"PerCentNetLastTrade\",, \"T\")/100,\"\")","v":-2.5378921395840678E-2},2425,2425,"S.US.O",484,"S.US.TAC"]
[null,null,"S.US.TAP",{"$f":"IFERROR(RTD(\"cqg.rtd\", ,\"ContractData\",C485, \"PerCentNetLastTrade\",, \"T\")/100,\"\")","v":-1.7991004497751126E-3},1547,1547,"S.US.TAP",485,"S.US.ODC"]
[null,null,"S.US.MMM",{"$f":"IFERROR(RTD(\"cqg.rtd\", ,\"ContractData\",C486, \"PerCentNetLastTrade\",, \"T\")/100,\"\")","v":-3.4728251432540368E-3},1663,1663,"S.US.MMM",486,"S.US.LUB"]
[null,null,"S.US.FCEA",{"$f":"IFERROR(RTD(\"cqg.rtd\", ,\"ContractData\",C487, \"PerCentNetLastTrade\",, \"T\")/100,\"\")","v":-8.0042689434364992E-3},1987,1987,"S.US.FCEA",487,"S.US.BKU"]
[null,null,"S.US.PRGO",{"$f":"IFERROR(RTD(\"cqg.rtd\", ,\"ContractData\",C488, \"PerCentNetLastTrade\",, \"T\")/100,\"\")","v":3.7300384660216806E-3},1070,1070,"S.US.PRGO",488,"S.US.GPI"]
[null,null,"S.US.ORI",{"$f":"IFERROR(RTD(\"cqg.rtd\", ,\"ContractData\",C489, \"PerCentNetLastTrade\",, \"T\")/100,\"\")","v":1.0970927043335162E-3},1260,1260,"S.US.ORI",489,"S.US.ERJ"]
[null,null,"S.US.MTU",{"$f":"IFERROR(RTD(\"cqg.rtd\", ,\"ContractData\",C490, \"PerCentNetLastTrade\",, \"T\")/100,\"\")","v":1.1764705882352941E-2},632,632,"S.US.MTU",490,"S.US.ITCB"]
[null,null,"S.US.CMS",{"$f":"IFERROR(RTD(\"cqg.rtd\", ,\"ContractData\",C491, \"PerCentNetLastTrade\",, \"T\")/100,\"\")","v":-2.5095602294455066E-2},2423,2423,"S.US.CMS",491,"S.US.TLYS"]
[null,null,"S.US.SBS",{"$f":"IFERROR(RTD(\"cqg.rtd\", ,\"ContractData\",C492, \"PerCentNetLastTrade\",, \"T\")/100,\"\")","v":1.1441647597254006E-2},648,648,"S.US.SBS",492,"S.US.BAP"]
[null,null,"S.US.WEC",{"$f":"IFERROR(RTD(\"cqg.rtd\", ,\"ContractData\",C493, \"PerCentNetLastTrade\",, \"T\")/100,\"\")","v":-1.8611063243150094E-2},2343,2343,"S.US.WEC",493,"S.US.TCB"]
[null,null,"S.US.TNK",{"$f":"IFERROR(RTD(\"cqg.rtd\", ,\"ContractData\",C494, \"PerCentNetLastTrade\",, \"T\")/100,\"\")","v":4.4247787610619468E-2},177,177,"S.US.TNK",494,"S.US.GNW"]
[null,null,"S.US.SYK",{"$f":"IFERROR(RTD(\"cqg.rtd\", ,\"ContractData\",C495, \"PerCentNetLastTrade\",, \"T\")/100,\"\")","v":-8.1448747942119409E-3},1995,1995,"S.US.SYK",495,"S.US.GFA"]
[null,null,"S.US.CSRA",{"$f":"IFERROR(RTD(\"cqg.rtd\", ,\"ContractData\",C496, \"PerCentNetLastTrade\",, \"T\")/100,\"\")","v":-1.078582434514638E-2},2113,2113,"S.US.CSRA",496,"S.US.C"]
[null,null,"S.US.TDC",{"$f":"IFERROR(RTD(\"cqg.rtd\", ,\"ContractData\",C497, \"PerCentNetLastTrade\",, \"T\")/100,\"\")","v":-7.352941176470589E-3},1955,1955,"S.US.TDC",497,"S.US.WAGE"]
[null,null,"S.US.WM",{"$f":"IFERROR(RTD(\"cqg.rtd\", ,\"ContractData\",C498, \"PerCentNetLastTrade\",, \"T\")/100,\"\")","v":-2.4151157834919734E-3},1563,1563,"S.US.WM",498,"S.US.COF"]
[null,null,"S.US.OKE",{"$f":"IFERROR(RTD(\"cqg.rtd\", ,\"ContractData\",C499, \"PerCentNetLastTrade\",, \"T\")/100,\"\")","v":4.5766590389016024E-2},173,173,"S.US.OKE",499,"S.US.STL"]
[null,null,"S.US.VLY",{"$f":"IFERROR(RTD(\"cqg.rtd\", ,\"ContractData\",C500, \"PerCentNetLastTrade\",, \"T\")/100,\"\")","v":1.4184397163120567E-2},552,552,"S.US.VLY",500,"S.US.AEL"]
[null,null,"S.US.XPO",{"$f":"IFERROR(RTD(\"cqg.rtd\", ,\"ContractData\",C501, \"PerCentNetLastTrade\",, \"T\")/100,\"\")","v":1.0626271761248021E-2},681,681,"S.US.XPO",501,"S.US.TGS"]
[null,null,"S.US.PFG",{"$f":"IFERROR(RTD(\"cqg.rtd\", ,\"ContractData\",C502, \"PerCentNetLastTrade\",, \"T\")/100,\"\")","v":1.1365623360727399E-2},651,651,"S.US.PFG",502,"S.US.RRTS"]
[null,null,"S.US.SC",{"$f":"IFERROR(RTD(\"cqg.rtd\", ,\"ContractData\",C503, \"PerCentNetLastTrade\",, \"T\")/100,\"\")","v":5.1698670605612998E-3},961,961,"S.US.SC",503,"S.US.ABEV"]
[null,null,"S.US.WUBA",{"$f":"IFERROR(RTD(\"cqg.rtd\", ,\"ContractData\",C504, \"PerCentNetLastTrade\",, \"T\")/100,\"\")","v":-1.1595971925541656E-2},2144,2144,"S.US.WUBA",504,"S.US.ACM"]
[null,null,"S.US.OI",{"$f":"IFERROR(RTD(\"cqg.rtd\", ,\"ContractData\",C505, \"PerCentNetLastTrade\",, \"T\")/100,\"\")","v":1.3259668508287293E-2},580,580,"S.US.OI",505,"S.US.TLP"]
[null,null,"S.US.CCE",{"$f":"IFERROR(RTD(\"cqg.rtd\", ,\"ContractData\",C506, \"PerCentNetLastTrade\",, \"T\")/100,\"\")","v":-9.6940321114813693E-3},2069,2069,"S.US.CCE",506,"S.US.IVZ"]
[null,null,"S.US.STJ",{"$f":"IFERROR(RTD(\"cqg.rtd\", ,\"ContractData\",C507, \"PerCentNetLastTrade\",, \"T\")/100,\"\")","v":-2.7603513174404015E-3},1600,1600,"S.US.STJ",507,"S.US.PKY"]
[null,null,"S.US.DF",{"$f":"IFERROR(RTD(\"cqg.rtd\", ,\"ContractData\",C508, \"PerCentNetLastTrade\",, \"T\")/100,\"\")","v":-1.5114578254509996E-2},2257,2257,"S.US.DF",508,"S.US.OLN"]
[null,null,"S.US.DRI",{"$f":"IFERROR(RTD(\"cqg.rtd\", ,\"ContractData\",C509, \"PerCentNetLastTrade\",, \"T\")/100,\"\")","v":4.3907793633369925E-3},1018,1018,"S.US.DRI",509,"S.US.MFC"]
[null,null,"S.US.JBL",{"$f":"IFERROR(RTD(\"cqg.rtd\", ,\"ContractData\",C510, \"PerCentNetLastTrade\",, \"T\")/100,\"\")","v":-7.0854983467170526E-3},1940,1940,"S.US.JBL",510,"S.US.NYT"]
[null,null,"S.US.ED",{"$f":"IFERROR(RTD(\"cqg.rtd\", ,\"ContractData\",C511, \"PerCentNetLastTrade\",, \"T\")/100,\"\")","v":-1.6379903647625604E-2},2299,2299,"S.US.ED",511,"S.US.TOT"]
[null,null,"S.US.CMI",{"$f":"IFERROR(RTD(\"cqg.rtd\", ,\"ContractData\",C512, \"PerCentNetLastTrade\",, \"T\")/100,\"\")","v":1.1937490956446245E-2},628,628,"S.US.CMI",512,"S.US.SWN"]
[null,null,"S.US.LHO",{"$f":"IFERROR(RTD(\"cqg.rtd\", ,\"ContractData\",C513, \"PerCentNetLastTrade\",, \"T\")/100,\"\")","v":5.1001821493624781E-3},969,{"$f":"IFERROR(E513,\"\")","v":969},{"$f":"C513","v":"S.US.LHO"},513,{"$f":"IFERROR(VLOOKUP(H513,$F$1:$G$2522,2,FALSE),\"\")","v":"S.US.MS"}]
[null,null,"S.US.PWE",{"$f":"IFERROR(RTD(\"cqg.rtd\", ,\"ContractData\",C514, \"PerCentNetLastTrade\",, \"T\")/100,\"\")","v":8.9171974522292988E-2},78,78,"S.US.PWE",{"$f":"H513+1","v":514},"S.US.CVI"]
[null,null,"S.US.NRF",{"$f":"IFERROR(RTD(\"cqg.rtd\", ,\"ContractData\",C515, \"PerCentNetLastTrade\",, \"T\")/100,\"\")","v":-1.7658600392413341E-2},2325,2325,"S.US.NRF",515,"S.US.LFC"]
[null,null,"S.US.VMC",{"$f":"IFERROR(RTD(\"cqg.rtd\", ,\"ContractData\",C516, \"PerCentNetLastTrade\",, \"T\")/100,\"\")","v":6.1840957742012211E-3},904,904,"S.US.VMC",516,"S.US.BRSS"]
[null,null,"S.US.UDR",{"$f":"IFERROR(RTD(\"cqg.rtd\", ,\"ContractData\",C517, \"PerCentNetLastTrade\",, \"T\")/100,\"\")","v":-3.8022813688212923E-3},1689,1689,"S.US.UDR",517,"S.US.CNO"]
[null,null,"S.US.HP",{"$f":"IFERROR(RTD(\"cqg.rtd\", ,\"ContractData\",C518, \"PerCentNetLastTrade\",, \"T\")/100,\"\")","v":6.70415865028859E-2},110,110,"S.US.HP",518,"S.US.KFS"]
[null,null,"S.US.TRV",{"$f":"IFERROR(RTD(\"cqg.rtd\", ,\"ContractData\",C519, \"PerCentNetLastTrade\",, \"T\")/100,\"\")","v":1.0554089709762533E-3},1262,1262,"S.US.TRV",519,"S.US.CBU"]
[null,null,"S.US.HLF",{"$f":"IFERROR(RTD(\"cqg.rtd\", ,\"ContractData\",C520, \"PerCentNetLastTrade\",, \"T\")/100,\"\")","v":4.0609137055837562E-4},1316,1316,"S.US.HLF",520,"S.US.RYAM"]
[null,null,"S.US.TDW",{"$f":"IFERROR(RTD(\"cqg.rtd\", ,\"ContractData\",C521, \"PerCentNetLastTrade\",, \"T\")/100,\"\")","v":8.3743842364532028E-2},87,87,"S.US.TDW",521,"S.US.PAH"]
[null,null,"S.US.KMB",{"$f":"IFERROR(RTD(\"cqg.rtd\", ,\"ContractData\",C522, \"PerCentNetLastTrade\",, \"T\")/100,\"\")","v":-1.1158798283261802E-2},2126,2126,"S.US.KMB",522,"S.US.LDR"]
[null,null,"S.US.LPX",{"$f":"IFERROR(RTD(\"cqg.rtd\", ,\"ContractData\",C523, \"PerCentNetLastTrade\",, \"T\")/100,\"\")","v":-1.0178117048346056E-3},1447,1447,"S.US.LPX",523,"S.US.PAG"]
[null,null,"S.US.STWD",{"$f":"IFERROR(RTD(\"cqg.rtd\", ,\"ContractData\",C524, \"PerCentNetLastTrade\",, \"T\")/100,\"\")","v":-1.7636684303350969E-2},2322,2322,"S.US.STWD",524,"S.US.EDN"]
[null,null,"S.US.TOT",{"$f":"IFERROR(RTD(\"cqg.rtd\", ,\"ContractData\",C525, \"PerCentNetLastTrade\",, \"T\")/100,\"\")","v":1.5561713920272864E-2},511,511,"S.US.TOT",525,"S.US.GTN"]
[null,null,"S.US.TER",{"$f":"IFERROR(RTD(\"cqg.rtd\", ,\"ContractData\",C526, \"PerCentNetLastTrade\",, \"T\")/100,\"\")","v":6.5067100447336315E-3},891,891,"S.US.TER",526,"S.US.ARL"]
[null,null,"S.US.PAY",{"$f":"IFERROR(RTD(\"cqg.rtd\", ,\"ContractData\",C527, \"PerCentNetLastTrade\",, \"T\")/100,\"\")","v":-5.8309037900874635E-4},1411,1411,"S.US.PAY",527,"S.US.AGU"]
[null,null,"S.US.LUK",{"$f":"IFERROR(RTD(\"cqg.rtd\", ,\"ContractData\",C528, \"PerCentNetLastTrade\",, \"T\")/100,\"\")","v":1.9221753398968588E-2},417,417,"S.US.LUK",528,"S.US.CPF"]
[null,null,"S.US.PVG",{"$f":"IFERROR(RTD(\"cqg.rtd\", ,\"ContractData\",C529, \"PerCentNetLastTrade\",, \"T\")/100,\"\")","v":-9.1116173120728925E-3},2045,2045,"S.US.PVG",529,"S.US.EVC"]
[null,null,"S.US.RBS",{"$f":"IFERROR(RTD(\"cqg.rtd\", ,\"ContractData\",C530, \"PerCentNetLastTrade\",, \"T\")/100,\"\")","v":-2.0366598778004074E-2},2374,2374,"S.US.RBS",530,"S.US.ARES"]
[null,null,"S.US.AFL",{"$f":"IFERROR(RTD(\"cqg.rtd\", ,\"ContractData\",C531, \"PerCentNetLastTrade\",, \"T\")/100,\"\")","v":1.6835016835016836E-3},1215,1215,"S.US.AFL",531,"S.US.SE"]
[null,null,"S.US.W",{"$f":"IFERROR(RTD(\"cqg.rtd\", ,\"ContractData\",C532, \"PerCentNetLastTrade\",, \"T\")/100,\"\")","v":3.1088082901554404E-2},280,280,"S.US.W",532,"S.US.MTB"]
[null,null,"S.US.SRE",{"$f":"IFERROR(RTD(\"cqg.rtd\", ,\"ContractData\",C533, \"PerCentNetLastTrade\",, \"T\")/100,\"\")","v":-2.4686481682630592E-3},1580,1580,"S.US.SRE",533,"S.US.CLC"]
[null,null,"S.US.WWAV",{"$f":"IFERROR(RTD(\"cqg.rtd\", ,\"ContractData\",C534, \"PerCentNetLastTrade\",, \"T\")/100,\"\")","v":7.2595281306715069E-4},1292,1292,"S.US.WWAV",534,"S.US.FRC"]
[null,null,"S.US.GD",{"$f":"IFERROR(RTD(\"cqg.rtd\", ,\"ContractData\",C535, \"PerCentNetLastTrade\",, \"T\")/100,\"\")","v":-1.4846114315080225E-3},1489,1489,"S.US.GD",535,"S.US.SUP"]
[null,null,"S.US.SEE",{"$f":"IFERROR(RTD(\"cqg.rtd\", ,\"ContractData\",C536, \"PerCentNetLastTrade\",, \"T\")/100,\"\")","v":-5.533092147265376E-3},1824,1824,"S.US.SEE",536,"S.US.ITUB"]
[null,null,"S.US.LM",{"$f":"IFERROR(RTD(\"cqg.rtd\", ,\"ContractData\",C537, \"PerCentNetLastTrade\",, \"T\")/100,\"\")","v":5.1183621241202813E-3},967,967,"S.US.LM",537,"S.US.FNB"]
[null,null,"S.US.DOV",{"$f":"IFERROR(RTD(\"cqg.rtd\", ,\"ContractData\",C538, \"PerCentNetLastTrade\",, \"T\")/100,\"\")","v":4.7578102608197191E-2},163,163,"S.US.DOV",538,"S.US.SDR"]
[null,null,"S.US.ALSN",{"$f":"IFERROR(RTD(\"cqg.rtd\", ,\"ContractData\",C539, \"PerCentNetLastTrade\",, \"T\")/100,\"\")","v":9.5062864152100583E-3},729,729,"S.US.ALSN",539,"S.US.MET"]
[null,null,"S.US.LDOS",{"$f":"IFERROR(RTD(\"cqg.rtd\", ,\"ContractData\",C540, \"PerCentNetLastTrade\",, \"T\")/100,\"\")","v":9.7541943035505275E-4},1273,1273,"S.US.LDOS",540,"S.US.RBA"]
[null,null,"S.US.MRC",{"$f":"IFERROR(RTD(\"cqg.rtd\", ,\"ContractData\",C541, \"PerCentNetLastTrade\",, \"T\")/100,\"\")","v":5.6623931623931624E-2},134,134,"S.US.MRC",541,"S.US.JE"]
[null,null,"S.US.AXTA",{"$f":"IFERROR(RTD(\"cqg.rtd\", ,\"ContractData\",C542, \"PerCentNetLastTrade\",, \"T\")/100,\"\")","v":-4.1493775933609959E-3},1721,1721,"S.US.AXTA",542,"S.US.FCAU"]
[null,null,"S.US.BDN",{"$f":"IFERROR(RTD(\"cqg.rtd\", ,\"ContractData\",C543, \"PerCentNetLastTrade\",, \"T\")/100,\"\")","v":-1.0960670535138621E-2},2121,2121,"S.US.BDN",543,"S.US.BTO"]
[null,null,"S.US.DSW",{"$f":"IFERROR(RTD(\"cqg.rtd\", ,\"ContractData\",C544, \"PerCentNetLastTrade\",, \"T\")/100,\"\")","v":6.7482075073808526E-3},877,877,"S.US.DSW",544,"S.US.NAP"]
[null,null,"S.US.PXD",{"$f":"IFERROR(RTD(\"cqg.rtd\", ,\"ContractData\",C545, \"PerCentNetLastTrade\",, \"T\")/100,\"\")","v":7.3933321817239592E-2},104,104,"S.US.PXD",545,"S.US.ITG"]
[null,null,"S.US.PPG",{"$f":"IFERROR(RTD(\"cqg.rtd\", ,\"ContractData\",C546, \"PerCentNetLastTrade\",, \"T\")/100,\"\")","v":-8.0612244897959179E-3},1991,1991,"S.US.PPG",546,"S.US.SAH"]
[null,null,"S.US.ABB",{"$f":"IFERROR(RTD(\"cqg.rtd\", ,\"ContractData\",C547, \"PerCentNetLastTrade\",, \"T\")/100,\"\")","v":9.813542688910696E-4},1271,1271,"S.US.ABB",547,"S.US.TRMR"]
[null,null,"S.US.IGT",{"$f":"IFERROR(RTD(\"cqg.rtd\", ,\"ContractData\",C548, \"PerCentNetLastTrade\",, \"T\")/100,\"\")","v":-1.924557351809084E-3},1525,1525,"S.US.IGT",548,"S.US.FCN"]
[null,null,"S.US.SBGL",{"$f":"IFERROR(RTD(\"cqg.rtd\", ,\"ContractData\",C549, \"PerCentNetLastTrade\",, \"T\")/100,\"\")","v":-2.3809523809523807E-3},1573,1573,"S.US.SBGL",549,"S.US.XTLY"]
[null,null,"S.US.Q",{"$f":"IFERROR(RTD(\"cqg.rtd\", ,\"ContractData\",C550, \"PerCentNetLastTrade\",, \"T\")/100,\"\")","v":-1.4333374521191154E-2},2248,2248,"S.US.Q",550,"S.US.HTF"]
[null,null,"S.US.FIS",{"$f":"IFERROR(RTD(\"cqg.rtd\", ,\"ContractData\",C551, \"PerCentNetLastTrade\",, \"T\")/100,\"\")","v":-1.3941698352344738E-3},1480,1480,"S.US.FIS",551,"S.US.CCS"]
[null,null,"S.US.TEF",{"$f":"IFERROR(RTD(\"cqg.rtd\", ,\"ContractData\",C552, \"PerCentNetLastTrade\",, \"T\")/100,\"\")","v":-1.1976047904191617E-3},1332,1332,"S.US.TEF",552,"S.US.VLY"]
[null,null,"S.US.OII",{"$f":"IFERROR(RTD(\"cqg.rtd\", ,\"ContractData\",C553, \"PerCentNetLastTrade\",, \"T\")/100,\"\")","v":4.9382716049382713E-2},152,152,"S.US.OII",553,"S.US.CSU"]
[null,null,"S.US.SWC",{"$f":"IFERROR(RTD(\"cqg.rtd\", ,\"ContractData\",C554, \"PerCentNetLastTrade\",, \"T\")/100,\"\")","v":7.432432432432432E-3},842,842,"S.US.SWC",554,"S.US.BLX"]
[null,null,"S.US.K",{"$f":"IFERROR(RTD(\"cqg.rtd\", ,\"ContractData\",C555, \"PerCentNetLastTrade\",, \"T\")/100,\"\")","v":-1.1681608258625374E-2},2151,2151,"S.US.K",555,"S.US.NSR"]
[null,null,"S.US.WRK",{"$f":"IFERROR(RTD(\"cqg.rtd\", ,\"ContractData\",C556, \"PerCentNetLastTrade\",, \"T\")/100,\"\")","v":9.8251129887993722E-4},1270,1270,"S.US.WRK",556,"S.US.MVC"]
[null,null,"S.US.COL",{"$f":"IFERROR(RTD(\"cqg.rtd\", ,\"ContractData\",C557, \"PerCentNetLastTrade\",, \"T\")/100,\"\")","v":9.7465886939571145E-4},1274,1274,"S.US.COL",557,"S.US.SYX"]
[null,null,"S.US.CRH",{"$f":"IFERROR(RTD(\"cqg.rtd\", ,\"ContractData\",C558, \"PerCentNetLastTrade\",, \"T\")/100,\"\")","v":1.0648007301490721E-2},676,676,"S.US.CRH",558,"S.US.EVTC"]
[null,null,"S.US.BRX",{"$f":"IFERROR(RTD(\"cqg.rtd\", ,\"ContractData\",C559, \"PerCentNetLastTrade\",, \"T\")/100,\"\")","v":-1.7550857598723574E-2},2320,2320,"S.US.BRX",559,"S.US.GEN"]
[null,null,"S.US.XYL",{"$f":"IFERROR(RTD(\"cqg.rtd\", ,\"ContractData\",C560, \"PerCentNetLastTrade\",, \"T\")/100,\"\")","v":2.5321386832878844E-3},1152,1152,"S.US.XYL",560,"S.US.HLI"]
[null,null,"S.US.CUBE",{"$f":"IFERROR(RTD(\"cqg.rtd\", ,\"ContractData\",C561, \"PerCentNetLastTrade\",, \"T\")/100,\"\")","v":-8.870967741935484E-3},2033,2033,"S.US.CUBE",561,"S.US.BBW"]
[null,null,"S.US.DLR",{"$f":"IFERROR(RTD(\"cqg.rtd\", ,\"ContractData\",C562, \"PerCentNetLastTrade\",, \"T\")/100,\"\")","v":-1.7647058823529412E-2},2324,2324,"S.US.DLR",562,"S.US.AYR"]
[null,null,"S.US.HLX",{"$f":"IFERROR(RTD(\"cqg.rtd\", ,\"ContractData\",C563, \"PerCentNetLastTrade\",, \"T\")/100,\"\")","v":0.17595628415300546},6,6,"S.US.HLX",563,"S.US.FLY"]
[null,null,"S.US.CXO",{"$f":"IFERROR(RTD(\"cqg.rtd\", ,\"ContractData\",C564, \"PerCentNetLastTrade\",, \"T\")/100,\"\")","v":9.9897903086468232E-2},65,65,"S.US.CXO",564,"S.US.CEL"]
[null,null,"S.US.RH",{"$f":"IFERROR(RTD(\"cqg.rtd\", ,\"ContractData\",C565, \"PerCentNetLastTrade\",, \"T\")/100,\"\")","v":1.9842348464256591E-2},402,402,"S.US.RH",565,"S.US.FOE"]
[null,null,"S.US.ES",{"$f":"IFERROR(RTD(\"cqg.rtd\", ,\"ContractData\",C566, \"PerCentNetLastTrade\",, \"T\")/100,\"\")","v":-1.6744186046511629E-2},2307,2307,"S.US.ES",566,"S.US.SOL"]
[null,null,"S.US.NMM",{"$f":"IFERROR(RTD(\"cqg.rtd\", ,\"ContractData\",C567, \"PerCentNetLastTrade\",, \"T\")/100,\"\")","v":2.3391812865497075E-2},348,348,"S.US.NMM",567,"S.US.PBA"]
[null,null,"S.US.DAR",{"$f":"IFERROR(RTD(\"cqg.rtd\", ,\"ContractData\",C568, \"PerCentNetLastTrade\",, \"T\")/100,\"\")","v":1.095690284879474E-2},666,666,"S.US.DAR",568,"S.US.UCP"]
[null,null,"S.US.CB",{"$f":"IFERROR(RTD(\"cqg.rtd\", ,\"ContractData\",C569, \"PerCentNetLastTrade\",, \"T\")/100,\"\")","v":5.4585152838427953E-3},947,947,"S.US.CB",569,"S.US.CR"]
[null,null,"S.US.AIV",{"$f":"IFERROR(RTD(\"cqg.rtd\", ,\"ContractData\",C570, \"PerCentNetLastTrade\",, \"T\")/100,\"\")","v":-5.2318668252080858E-3},1804,1804,"S.US.AIV",570,"S.US.CRDB"]
[null,null,"S.US.TIME",{"$f":"IFERROR(RTD(\"cqg.rtd\", ,\"ContractData\",C571, \"PerCentNetLastTrade\",, \"T\")/100,\"\")","v":4.2944785276073623E-3},909,909,"S.US.TIME",571,"S.US.AHP"]
[null,null,"S.US.VMW",{"$f":"IFERROR(RTD(\"cqg.rtd\", ,\"ContractData\",C572, \"PerCentNetLastTrade\",, \"T\")/100,\"\")","v":-7.3520401911530444E-4},1424,1424,"S.US.VMW",572,"S.US.ING"]
[null,null,"S.US.FSM",{"$f":"IFERROR(RTD(\"cqg.rtd\", ,\"ContractData\",C573, \"PerCentNetLastTrade\",, \"T\")/100,\"\")","v":-1.607717041800643E-2},2293,2293,"S.US.FSM",573,"S.US.PH"]
[null,null,"S.US.SPR",{"$f":"IFERROR(RTD(\"cqg.rtd\", ,\"ContractData\",C574, \"PerCentNetLastTrade\",, \"T\")/100,\"\")","v":-4.7757120927852635E-3},1766,1766,"S.US.SPR",574,"S.US.NRP"]
[null,null,"S.US.INVN",{"$f":"IFERROR(RTD(\"cqg.rtd\", ,\"ContractData\",C575, \"PerCentNetLastTrade\",, \"T\")/100,\"\")","v":1.0457516339869282E-2},687,687,"S.US.INVN",575,"S.US.CLH"]
[null,null,"S.US.SPGI",{"$f":"IFERROR(RTD(\"cqg.rtd\", ,\"ContractData\",C576, \"PerCentNetLastTrade\",, \"T\")/100,\"\")","v":1.0032605969400551E-3},1267,1267,"S.US.SPGI",576,"S.US.PRU"]
[null,null,"S.US.WSM",{"$f":"IFERROR(RTD(\"cqg.rtd\", ,\"ContractData\",C577, \"PerCentNetLastTrade\",, \"T\")/100,\"\")","v":5.6683123057231664E-3},938,{"$f":"IFERROR(E577,\"\")","v":938},{"$f":"C577","v":"S.US.WSM"},577,{"$f":"IFERROR(VLOOKUP(H577,$F$1:$G$2522,2,FALSE),\"\")","v":"S.US.ENJ"}]
[null,null,"S.US.MGA",{"$f":"IFERROR(RTD(\"cqg.rtd\", ,\"ContractData\",C578, \"PerCentNetLastTrade\",, \"T\")/100,\"\")","v":9.835259404966806E-4},1269,1269,"S.US.MGA",{"$f":"H577+1","v":578},"S.US.TSU"]
[null,null,"S.US.HUM",{"$f":"IFERROR(RTD(\"cqg.rtd\", ,\"ContractData\",C579, \"PerCentNetLastTrade\",, \"T\")/100,\"\")","v":-2.9523809523809524E-3},1619,1619,"S.US.HUM",579,"S.US.NRG"]
[null,null,"S.US.RRD",{"$f":"IFERROR(RTD(\"cqg.rtd\", ,\"ContractData\",C580, \"PerCentNetLastTrade\",, \"T\")/100,\"\")","v":-3.4305317324185248E-3},1659,1659,"S.US.RRD",580,"S.US.OI"]
[null,null,"S.US.IRM",{"$f":"IFERROR(RTD(\"cqg.rtd\", ,\"ContractData\",C581, \"PerCentNetLastTrade\",, \"T\")/100,\"\")","v":-1.7195375037058997E-2},2314,2314,"S.US.IRM",581,"S.US.STN"]
[null,null,"S.US.AEE",{"$f":"IFERROR(RTD(\"cqg.rtd\", ,\"ContractData\",C582, \"PerCentNetLastTrade\",, \"T\")/100,\"\")","v":-1.8456705281759279E-2},2348,2348,"S.US.AEE",582,"S.US.STV"]
[null,null,"S.US.TCB",{"$f":"IFERROR(RTD(\"cqg.rtd\", ,\"ContractData\",C583, \"PerCentNetLastTrade\",, \"T\")/100,\"\")","v":1.6489988221436984E-2},493,493,"S.US.TCB",583,"S.US.ICE"]
[null,null,"S.US.UAC",{"$f":"IFERROR(RTD(\"cqg.rtd\", ,\"ContractData\",C584, \"PerCentNetLastTrade\",, \"T\")/100,\"\")","v":4.6403712296983757E-3},975,975,"S.US.UAC",584,"S.US.CBSA"]
[null,null,"S.US.MWA",{"$f":"IFERROR(RTD(\"cqg.rtd\", ,\"ContractData\",C585, \"PerCentNetLastTrade\",, \"T\")/100,\"\")","v":5.279034690799397E-3},957,957,"S.US.MWA",585,"S.US.ENB"]
[null,null,"S.US.CIM",{"$f":"IFERROR(RTD(\"cqg.rtd\", ,\"ContractData\",C586, \"PerCentNetLastTrade\",, \"T\")/100,\"\")","v":-1.5734265734265732E-2},2285,2285,"S.US.CIM",586,"S.US.SYF"]
[null,null,"S.US.GRUB",{"$f":"IFERROR(RTD(\"cqg.rtd\", ,\"ContractData\",C587, \"PerCentNetLastTrade\",, \"T\")/100,\"\")","v":-1.5960230245944531E-2},2289,2289,"S.US.GRUB",587,"S.US.YDKN"]
[null,null,"S.US.ZEN",{"$f":"IFERROR(RTD(\"cqg.rtd\", ,\"ContractData\",C588, \"PerCentNetLastTrade\",, \"T\")/100,\"\")","v":0},1333,1333,"S.US.ZEN",588,"S.US.DQ"]
[null,null,"S.US.BYD",{"$f":"IFERROR(RTD(\"cqg.rtd\", ,\"ContractData\",C589, \"PerCentNetLastTrade\",, \"T\")/100,\"\")","v":-1.0378827192527244E-3},1448,1448,"S.US.BYD",589,"S.US.R"]
[null,null,"S.US.EIX",{"$f":"IFERROR(RTD(\"cqg.rtd\", ,\"ContractData\",C590, \"PerCentNetLastTrade\",, \"T\")/100,\"\")","v":-1.8833450456781448E-2},2351,2351,"S.US.EIX",590,"S.US.BC"]
[null,null,"S.US.SCCO",{"$f":"IFERROR(RTD(\"cqg.rtd\", ,\"ContractData\",C591, \"PerCentNetLastTrade\",, \"T\")/100,\"\")","v":4.9504950495049506E-3},985,985,"S.US.SCCO",591,"S.US.BPL"]
[null,null,"S.US.BSBR",{"$f":"IFERROR(RTD(\"cqg.rtd\", ,\"ContractData\",C592, \"PerCentNetLastTrade\",, \"T\")/100,\"\")","v":1.2254901960784315E-2},614,614,"S.US.BSBR",592,"S.US.ENVA"]
[null,null,"S.US.SIG",{"$f":"IFERROR(RTD(\"cqg.rtd\", ,\"ContractData\",C593, \"PerCentNetLastTrade\",, \"T\")/100,\"\")","v":9.2572424308429539E-3},743,743,"S.US.SIG",593,"S.US.SCNB"]
[null,null,"S.US.DATA",{"$f":"IFERROR(RTD(\"cqg.rtd\", ,\"ContractData\",C594, \"PerCentNetLastTrade\",, \"T\")/100,\"\")","v":-7.9347586510910301E-3},1982,1982,"S.US.DATA",594,"S.US.TEN"]
[null,null,"S.US.ETR",{"$f":"IFERROR(RTD(\"cqg.rtd\", ,\"ContractData\",C595, \"PerCentNetLastTrade\",, \"T\")/100,\"\")","v":-2.0308123249299717E-2},2369,2369,"S.US.ETR",595,"S.US.UBS"]
[null,null,"S.US.GCI",{"$f":"IFERROR(RTD(\"cqg.rtd\", ,\"ContractData\",C596, \"PerCentNetLastTrade\",, \"T\")/100,\"\")","v":4.1797283176593517E-3},1032,1032,"S.US.GCI",596,"S.US.ELP"]
[null,null,"S.US.MBI",{"$f":"IFERROR(RTD(\"cqg.rtd\", ,\"ContractData\",C597, \"PerCentNetLastTrade\",, \"T\")/100,\"\")","v":5.8309037900874635E-3},928,928,"S.US.MBI",597,"S.US.CNCO"]
[null,null,"S.US.MPLX",{"$f":"IFERROR(RTD(\"cqg.rtd\", ,\"ContractData\",C598, \"PerCentNetLastTrade\",, \"T\")/100,\"\")","v":3.4321372854914198E-2},243,243,"S.US.MPLX",598,"S.US.DCO"]
[null,null,"S.US.NOW",{"$f":"IFERROR(RTD(\"cqg.rtd\", ,\"ContractData\",C599, \"PerCentNetLastTrade\",, \"T\")/100,\"\")","v":8.3912730760009584E-4},1287,1287,"S.US.NOW",599,"S.US.DCI"]
[null,null,"S.US.RES",{"$f":"IFERROR(RTD(\"cqg.rtd\", ,\"ContractData\",C600, \"PerCentNetLastTrade\",, \"T\")/100,\"\")","v":0.11830985915492959},44,44,"S.US.RES",600,"S.US.AXE"]
[null,null,"S.US.TLN",{"$f":"IFERROR(RTD(\"cqg.rtd\", ,\"ContractData\",C601, \"PerCentNetLastTrade\",, \"T\")/100,\"\")","v":-7.1581961345740881E-4},1418,1418,"S.US.TLN",601,"S.US.CCO"]
[null,null,"S.US.BERY",{"$f":"IFERROR(RTD(\"cqg.rtd\", ,\"ContractData\",C602, \"PerCentNetLastTrade\",, \"T\")/100,\"\")","v":-4.0048057669203043E-4},1403,1403,"S.US.BERY",602,"S.US.HFC"]
[null,null,"S.US.USG",{"$f":"IFERROR(RTD(\"cqg.rtd\", ,\"ContractData\",C603, \"PerCentNetLastTrade\",, \"T\")/100,\"\")","v":9.2296769613063549E-3},744,744,"S.US.USG",603,"S.US.FCF"]
[null,null,"S.US.OMC",{"$f":"IFERROR(RTD(\"cqg.rtd\", ,\"ContractData\",C604, \"PerCentNetLastTrade\",, \"T\")/100,\"\")","v":-5.5467511885895406E-3},1828,1828,"S.US.OMC",604,"S.US.VRTV"]
[null,null,"S.US.OMF",{"$f":"IFERROR(RTD(\"cqg.rtd\", ,\"ContractData\",C605, \"PerCentNetLastTrade\",, \"T\")/100,\"\")","v":3.7131230925737536E-2},216,216,"S.US.OMF",605,"S.US.CUBI"]
[null,null,"S.US.GES",{"$f":"IFERROR(RTD(\"cqg.rtd\", ,\"ContractData\",C606, \"PerCentNetLastTrade\",, \"T\")/100,\"\")","v":1.2210796915167094E-2},617,617,"S.US.GES",606,"S.US.AL"]
[null,null,"S.US.CAA",{"$f":"IFERROR(RTD(\"cqg.rtd\", ,\"ContractData\",C607, \"PerCentNetLastTrade\",, \"T\")/100,\"\")","v":-1.7815420560747662E-2},2327,2327,"S.US.CAA",607,"S.US.MDP"]
[null,null,"S.US.AAP",{"$f":"IFERROR(RTD(\"cqg.rtd\", ,\"ContractData\",C608, \"PerCentNetLastTrade\",, \"T\")/100,\"\")","v":-1.7667844522968198E-3},1510,1510,"S.US.AAP",608,"S.US.CLF"]
[null,null,"S.US.LQ",{"$f":"IFERROR(RTD(\"cqg.rtd\", ,\"ContractData\",C609, \"PerCentNetLastTrade\",, \"T\")/100,\"\")","v":-2.4610336341263331E-3},1578,1578,"S.US.LQ",609,"S.US.BFR"]
[null,null,"S.US.LMT",{"$f":"IFERROR(RTD(\"cqg.rtd\", ,\"ContractData\",C610, \"PerCentNetLastTrade\",, \"T\")/100,\"\")","v":-3.7512191462225225E-4},1400,1400,"S.US.LMT",610,"S.US.PRTY"]
[null,null,"S.US.FDX",{"$f":"IFERROR(RTD(\"cqg.rtd\", ,\"ContractData\",C611, \"PerCentNetLastTrade\",, \"T\")/100,\"\")","v":7.618747372845733E-3},833,833,"S.US.FDX",611,"S.US.TIER"]
[null,null,"S.US.MTDR",{"$f":"IFERROR(RTD(\"cqg.rtd\", ,\"ContractData\",C612, \"PerCentNetLastTrade\",, \"T\")/100,\"\")","v":0.1353615520282187},29,29,"S.US.MTDR",612,"S.US.TLRD"]
[null,null,"S.US.PAYC",{"$f":"IFERROR(RTD(\"cqg.rtd\", ,\"ContractData\",C613, \"PerCentNetLastTrade\",, \"T\")/100,\"\")","v":6.4043915827996347E-3},896,896,"S.US.PAYC",613,"S.US.SQM"]
[null,null,"S.US.JNS",{"$f":"IFERROR(RTD(\"cqg.rtd\", ,\"ContractData\",C614, \"PerCentNetLastTrade\",, \"T\")/100,\"\")","v":-4.4313146233382573E-3},1740,1740,"S.US.JNS",614,"S.US.BSBR"]
[null,null,"S.US.GEO",{"$f":"IFERROR(RTD(\"cqg.rtd\", ,\"ContractData\",C615, \"PerCentNetLastTrade\",, \"T\")/100,\"\")","v":-3.9085989176187615E-3},1698,1698,"S.US.GEO",615,"S.US.BBL"]
[null,null,"S.US.LNT",{"$f":"IFERROR(RTD(\"cqg.rtd\", ,\"ContractData\",C616, \"PerCentNetLastTrade\",, \"T\")/100,\"\")","v":-2.0671140939597318E-2},2382,2382,"S.US.LNT",616,"S.US.EMN"]
[null,null,"S.US.CVE",{"$f":"IFERROR(RTD(\"cqg.rtd\", ,\"ContractData\",C617, \"PerCentNetLastTrade\",, \"T\")/100,\"\")","v":0.10418143160878809},62,62,"S.US.CVE",617,"S.US.GES"]
[null,null,"S.US.NNN",{"$f":"IFERROR(RTD(\"cqg.rtd\", ,\"ContractData\",C618, \"PerCentNetLastTrade\",, \"T\")/100,\"\")","v":-2.3261223540358221E-2},2414,2414,"S.US.NNN",618,"S.US.NTZ"]
[null,null,"S.US.ITW",{"$f":"IFERROR(RTD(\"cqg.rtd\", ,\"ContractData\",C619, \"PerCentNetLastTrade\",, \"T\")/100,\"\")","v":9.5533795080009545E-3},724,724,"S.US.ITW",619,"S.US.WFC"]
[null,null,"S.US.RSG",{"$f":"IFERROR(RTD(\"cqg.rtd\", ,\"ContractData\",C620, \"PerCentNetLastTrade\",, \"T\")/100,\"\")","v":-3.7567084078711987E-3},1686,1686,"S.US.RSG",620,"S.US.EVR"]
[null,null,"S.US.ST",{"$f":"IFERROR(RTD(\"cqg.rtd\", ,\"ContractData\",C621, \"PerCentNetLastTrade\",, \"T\")/100,\"\")","v":4.3254933765882672E-3},1022,1022,"S.US.ST",621,"S.US.SSW"]
[null,null,"S.US.CI",{"$f":"IFERROR(RTD(\"cqg.rtd\", ,\"ContractData\",C622, \"PerCentNetLastTrade\",, \"T\")/100,\"\")","v":-1.3593637020968908E-2},2224,2224,"S.US.CI",622,"S.US.OAK"]
[null,null,"S.US.LCI",{"$f":"IFERROR(RTD(\"cqg.rtd\", ,\"ContractData\",C623, \"PerCentNetLastTrade\",, \"T\")/100,\"\")","v":1.7391304347826087E-2},468,468,"S.US.LCI",623,"S.US.ESNT"]
[null,null,"S.US.EVER",{"$f":"IFERROR(RTD(\"cqg.rtd\", ,\"ContractData\",C624, \"PerCentNetLastTrade\",, \"T\")/100,\"\")","v":1.037344398340249E-3},1265,1265,"S.US.EVER",624,"S.US.MEI"]
[null,null,"S.US.SPG",{"$f":"IFERROR(RTD(\"cqg.rtd\", ,\"ContractData\",C625, \"PerCentNetLastTrade\",, \"T\")/100,\"\")","v":-1.3219967087218868E-2},2198,2198,"S.US.SPG",625,"S.US.GGG"]
[null,null,"S.US.EQY",{"$f":"IFERROR(RTD(\"cqg.rtd\", ,\"ContractData\",C626, \"PerCentNetLastTrade\",, \"T\")/100,\"\")","v":-1.2362178416304709E-2},2152,2152,"S.US.EQY",626,"S.US.TWI"]
[null,null,"S.US.FII",{"$f":"IFERROR(RTD(\"cqg.rtd\", ,\"ContractData\",C627, \"PerCentNetLastTrade\",, \"T\")/100,\"\")","v":6.6176470588235293E-3},885,885,"S.US.FII",627,"S.US.QUOT"]
[null,null,"S.US.AMP",{"$f":"IFERROR(RTD(\"cqg.rtd\", ,\"ContractData\",C628, \"PerCentNetLastTrade\",, \"T\")/100,\"\")","v":1.1690165982509371E-2},635,635,"S.US.AMP",628,"S.US.CMI"]
[null,null,"S.US.LXK",{"$f":"IFERROR(RTD(\"cqg.rtd\", ,\"ContractData\",C629, \"PerCentNetLastTrade\",, \"T\")/100,\"\")","v":""},{"$error":"#VALUE!"},"","S.US.LXK",629,"S.US.JOE"]
[null,null,"S.US.BDX",{"$f":"IFERROR(RTD(\"cqg.rtd\", ,\"ContractData\",C630, \"PerCentNetLastTrade\",, \"T\")/100,\"\")","v":-2.0552307068835755E-2},2377,2377,"S.US.BDX",630,"S.US.GBL"]
[null,null,"S.US.DGX",{"$f":"IFERROR(RTD(\"cqg.rtd\", ,\"ContractData\",C631, \"PerCentNetLastTrade\",, \"T\")/100,\"\")","v":-1.6901408450704224E-3},1505,1505,"S.US.DGX",631,"S.US.AIN"]
[null,null,"S.US.FLT",{"$f":"IFERROR(RTD(\"cqg.rtd\", ,\"ContractData\",C632, \"PerCentNetLastTrade\",, \"T\")/100,\"\")","v":-3.741064867392611E-3},1683,1683,"S.US.FLT",632,"S.US.MTU"]
[null,null,"S.US.TEX",{"$f":"IFERROR(RTD(\"cqg.rtd\", ,\"ContractData\",C633, \"PerCentNetLastTrade\",, \"T\")/100,\"\")","v":2.5908479138627184E-2},323,323,"S.US.TEX",633,"S.US.ATTO"]
[null,null,"S.US.BANC",{"$f":"IFERROR(RTD(\"cqg.rtd\", ,\"ContractData\",C634, \"PerCentNetLastTrade\",, \"T\")/100,\"\")","v":1.8300653594771243E-2},442,442,"S.US.BANC",634,"S.US.HHC"]
[null,null,"S.US.ERJ",{"$f":"IFERROR(RTD(\"cqg.rtd\", ,\"ContractData\",C635, \"PerCentNetLastTrade\",, \"T\")/100,\"\")","v":1.6528925619834711E-2},489,489,"S.US.ERJ",635,"S.US.AMP"]
[null,null,"S.US.CLNY",{"$f":"IFERROR(RTD(\"cqg.rtd\", ,\"ContractData\",C636, \"PerCentNetLastTrade\",, \"T\")/100,\"\")","v":-1.9249278152069296E-2},2354,2354,"S.US.CLNY",636,"S.US.LFL"]
[null,null,"S.US.APD",{"$f":"IFERROR(RTD(\"cqg.rtd\", ,\"ContractData\",C637, \"PerCentNetLastTrade\",, \"T\")/100,\"\")","v":-1.4637206384610023E-3},1500,1500,"S.US.APD",637,"S.US.CEE"]
[null,null,"S.US.VEEV",{"$f":"IFERROR(RTD(\"cqg.rtd\", ,\"ContractData\",C638, \"PerCentNetLastTrade\",, \"T\")/100,\"\")","v":2.5337837837837839E-3},1151,1151,"S.US.VEEV",638,"S.US.TISI"]
[null,null,"S.US.CYS",{"$f":"IFERROR(RTD(\"cqg.rtd\", ,\"ContractData\",C639, \"PerCentNetLastTrade\",, \"T\")/100,\"\")","v":-1.8203883495145633E-2},2333,2333,"S.US.CYS",639,"S.US.KMPR"]
[null,null,"S.US.TTM",{"$f":"IFERROR(RTD(\"cqg.rtd\", ,\"ContractData\",C640, \"PerCentNetLastTrade\",, \"T\")/100,\"\")","v":-2.1103406692794691E-3},1549,1549,"S.US.TTM",640,"S.US.BCO"]
[null,null,"S.US.TEL",{"$f":"IFERROR(RTD(\"cqg.rtd\", ,\"ContractData\",C641, \"PerCentNetLastTrade\",, \"T\")/100,\"\")","v":1.0413567390657543E-2},691,{"$f":"IFERROR(E641,\"\")","v":691},{"$f":"C641","v":"S.US.TEL"},641,{"$f":"IFERROR(VLOOKUP(H641,$F$1:$G$2522,2,FALSE),\"\")","v":"S.US.ZAYO"}]
[null,null,"S.US.BG",{"$f":"IFERROR(RTD(\"cqg.rtd\", ,\"ContractData\",C642, \"PerCentNetLastTrade\",, \"T\")/100,\"\")","v":1.0728654447921324E-2},674,674,"S.US.BG",{"$f":"H641+1","v":642},"S.US.FGB"]
[null,null,"S.US.EMN",{"$f":"IFERROR(RTD(\"cqg.rtd\", ,\"ContractData\",C643, \"PerCentNetLastTrade\",, \"T\")/100,\"\")","v":1.2213326095806758E-2},616,616,"S.US.EMN",643,"S.US.CMG"]
[null,null,"S.US.KS",{"$f":"IFERROR(RTD(\"cqg.rtd\", ,\"ContractData\",C644, \"PerCentNetLastTrade\",, \"T\")/100,\"\")","v":-1.9398642095053344E-3},1527,1527,"S.US.KS",644,"S.US.WIT"]
[null,null,"S.US.BLL",{"$f":"IFERROR(RTD(\"cqg.rtd\", ,\"ContractData\",C645, \"PerCentNetLastTrade\",, \"T\")/100,\"\")","v":1.0382868267358857E-3},1264,1264,"S.US.BLL",645,"S.US.FCB"]
[null,null,"S.US.RHI",{"$f":"IFERROR(RTD(\"cqg.rtd\", ,\"ContractData\",C646, \"PerCentNetLastTrade\",, \"T\")/100,\"\")","v":3.8056861428251623E-3},1068,1068,"S.US.RHI",646,"S.US.CX"]
[null,null,"S.US.TVPT",{"$f":"IFERROR(RTD(\"cqg.rtd\", ,\"ContractData\",C647, \"PerCentNetLastTrade\",, \"T\")/100,\"\")","v":-5.681818181818182E-3},1838,1838,"S.US.TVPT",647,"S.US.TTF"]
[null,null,"S.US.TXT",{"$f":"IFERROR(RTD(\"cqg.rtd\", ,\"ContractData\",C648, \"PerCentNetLastTrade\",, \"T\")/100,\"\")","v":3.6972596781209223E-3},1073,1073,"S.US.TXT",648,"S.US.SBS"]
[null,null,"S.US.DPS",{"$f":"IFERROR(RTD(\"cqg.rtd\", ,\"ContractData\",C649, \"PerCentNetLastTrade\",, \"T\")/100,\"\")","v":-1.5204024594745669E-2},2269,2269,"S.US.DPS",649,"S.US.SWNC"]
[null,null,"S.US.XCO",{"$f":"IFERROR(RTD(\"cqg.rtd\", ,\"ContractData\",C650, \"PerCentNetLastTrade\",, \"T\")/100,\"\")","v":4.9019607843137261E-2},157,157,"S.US.XCO",650,"S.US.RJF"]
[null,null,"S.US.MDU",{"$f":"IFERROR(RTD(\"cqg.rtd\", ,\"ContractData\",C651, \"PerCentNetLastTrade\",, \"T\")/100,\"\")","v":-1.1208406304728547E-2},2132,2132,"S.US.MDU",651,"S.US.PFG"]
[null,null,"S.US.TSL",{"$f":"IFERROR(RTD(\"cqg.rtd\", ,\"ContractData\",C652, \"PerCentNetLastTrade\",, \"T\")/100,\"\")","v":2.8697571743929361E-2},294,294,"S.US.TSL",652,"S.US.SGF"]
[null,null,"S.US.GTN",{"$f":"IFERROR(RTD(\"cqg.rtd\", ,\"ContractData\",C653, \"PerCentNetLastTrade\",, \"T\")/100,\"\")","v":1.4999999999999999E-2},525,525,"S.US.GTN",653,"S.US.PRO"]
[null,null,"S.US.STL",{"$f":"IFERROR(RTD(\"cqg.rtd\", ,\"ContractData\",C654, \"PerCentNetLastTrade\",, \"T\")/100,\"\")","v":1.6335540838852095E-2},499,499,"S.US.STL",654,"S.US.PAR"]
[null,null,"S.US.KAR",{"$f":"IFERROR(RTD(\"cqg.rtd\", ,\"ContractData\",C655, \"PerCentNetLastTrade\",, \"T\")/100,\"\")","v":2.4009603841536613E-3},1159,1159,"S.US.KAR",655,"S.US.JPM"]
[null,null,"S.US.THS",{"$f":"IFERROR(RTD(\"cqg.rtd\", ,\"ContractData\",C656, \"PerCentNetLastTrade\",, \"T\")/100,\"\")","v":-8.1790787774429618E-3},2000,2000,"S.US.THS",656,"S.US.BXS"]
[null,null,"S.US.BRFS",{"$f":"IFERROR(RTD(\"cqg.rtd\", ,\"ContractData\",C657, \"PerCentNetLastTrade\",, \"T\")/100,\"\")","v":3.2362459546925564E-3},1102,1102,"S.US.BRFS",657,"S.US.QTM"]
[null,null,"S.US.PHG",{"$f":"IFERROR(RTD(\"cqg.rtd\", ,\"ContractData\",C658, \"PerCentNetLastTrade\",, \"T\")/100,\"\")","v":-1.4074836937864744E-2},2237,2237,"S.US.PHG",658,"S.US.RLH"]
[null,null,"S.US.RPAI",{"$f":"IFERROR(RTD(\"cqg.rtd\", ,\"ContractData\",C659, \"PerCentNetLastTrade\",, \"T\")/100,\"\")","v":-1.0329244673983216E-2},2093,2093,"S.US.RPAI",659,"S.US.HMN"]
[null,null,"S.US.JEC",{"$f":"IFERROR(RTD(\"cqg.rtd\", ,\"ContractData\",C660, \"PerCentNetLastTrade\",, \"T\")/100,\"\")","v":9.3972780298120541E-3},738,738,"S.US.JEC",660,"S.US.SCHW"]
[null,null,"S.US.DVMT",{"$f":"IFERROR(RTD(\"cqg.rtd\", ,\"ContractData\",C661, \"PerCentNetLastTrade\",, \"T\")/100,\"\")","v":2.064952130655153E-3},1188,1188,"S.US.DVMT",661,"S.US.BRO"]
[null,null,"S.US.FTV",{"$f":"IFERROR(RTD(\"cqg.rtd\", ,\"ContractData\",C662, \"PerCentNetLastTrade\",, \"T\")/100,\"\")","v":5.7887120115774236E-3},930,930,"S.US.FTV",662,"S.US.SFS"]
[null,null,"S.US.CVA",{"$f":"IFERROR(RTD(\"cqg.rtd\", ,\"ContractData\",C663, \"PerCentNetLastTrade\",, \"T\")/100,\"\")","v":1.3745704467353953E-3},1235,1235,"S.US.CVA",663,"S.US.RBC"]
[null,null,"S.US.TROX",{"$f":"IFERROR(RTD(\"cqg.rtd\", ,\"ContractData\",C664, \"PerCentNetLastTrade\",, \"T\")/100,\"\")","v":2.0210896309314587E-2},398,398,"S.US.TROX",664,"S.US.CCJ"]
[null,null,"S.US.FBHS",{"$f":"IFERROR(RTD(\"cqg.rtd\", ,\"ContractData\",C665, \"PerCentNetLastTrade\",, \"T\")/100,\"\")","v":-1.1565836298932384E-2},2142,2142,"S.US.FBHS",665,"S.US.OMAM"]
[null,null,"S.US.TRP",{"$f":"IFERROR(RTD(\"cqg.rtd\", ,\"ContractData\",C666, \"PerCentNetLastTrade\",, \"T\")/100,\"\")","v":2.8940338379341052E-3},1123,1123,"S.US.TRP",666,"S.US.DAR"]
[null,null,"S.US.SUN",{"$f":"IFERROR(RTD(\"cqg.rtd\", ,\"ContractData\",C667, \"PerCentNetLastTrade\",, \"T\")/100,\"\")","v":6.3492063492063489E-2},121,121,"S.US.SUN",667,"S.US.CFI"]
[null,null,"S.US.DBD",{"$f":"IFERROR(RTD(\"cqg.rtd\", ,\"ContractData\",C668, \"PerCentNetLastTrade\",, \"T\")/100,\"\")","v":6.6225165562913916E-3},883,883,"S.US.DBD",668,"S.US.CSLT"]
[null,null,"S.US.WPZ",{"$f":"IFERROR(RTD(\"cqg.rtd\", ,\"ContractData\",C669, \"PerCentNetLastTrade\",, \"T\")/100,\"\")","v":3.0568921596377016E-2},277,277,"S.US.WPZ",669,"S.US.MLI"]
[null,null,"S.US.POST",{"$f":"IFERROR(RTD(\"cqg.rtd\", ,\"ContractData\",C670, \"PerCentNetLastTrade\",, \"T\")/100,\"\")","v":-1.1297984336885352E-2},2135,2135,"S.US.POST",670,"S.US.SLTB"]
[null,null,"S.US.BAH",{"$f":"IFERROR(RTD(\"cqg.rtd\", ,\"ContractData\",C671, \"PerCentNetLastTrade\",, \"T\")/100,\"\")","v":-1.2827225130890052E-2},2192,2192,"S.US.BAH",671,"S.US.BSL"]
[null,null,"S.US.BETR",{"$f":"IFERROR(RTD(\"cqg.rtd\", ,\"ContractData\",C672, \"PerCentNetLastTrade\",, \"T\")/100,\"\")","v":-2.0920502092050207E-3},1546,1546,"S.US.BETR",672,"S.US.PNC"]
[null,null,"S.US.FMC",{"$f":"IFERROR(RTD(\"cqg.rtd\", ,\"ContractData\",C673, \"PerCentNetLastTrade\",, \"T\")/100,\"\")","v":1.8248175182481751E-3},1202,1202,"S.US.FMC",673,"S.US.OB"]
[null,null,"S.US.SERV",{"$f":"IFERROR(RTD(\"cqg.rtd\", ,\"ContractData\",C674, \"PerCentNetLastTrade\",, \"T\")/100,\"\")","v":-9.0392561983471068E-3},2040,2040,"S.US.SERV",674,"S.US.BG"]
[null,null,"S.US.EAT",{"$f":"IFERROR(RTD(\"cqg.rtd\", ,\"ContractData\",C675, \"PerCentNetLastTrade\",, \"T\")/100,\"\")","v":-5.8150440817857814E-3},1851,1851,"S.US.EAT",675,"S.US.DLNG"]
[null,null,"S.US.KMT",{"$f":"IFERROR(RTD(\"cqg.rtd\", ,\"ContractData\",C676, \"PerCentNetLastTrade\",, \"T\")/100,\"\")","v":2.2275022275022274E-2},366,366,"S.US.KMT",676,"S.US.CRH"]
[null,null,"S.US.MOH",{"$f":"IFERROR(RTD(\"cqg.rtd\", ,\"ContractData\",C677, \"PerCentNetLastTrade\",, \"T\")/100,\"\")","v":-5.0382534054860982E-3},1786,1786,"S.US.MOH",677,"S.US.DAN"]
[null,null,"S.US.PF",{"$f":"IFERROR(RTD(\"cqg.rtd\", ,\"ContractData\",C678, \"PerCentNetLastTrade\",, \"T\")/100,\"\")","v":-1.3296288946219488E-2},2213,2213,"S.US.PF",678,"S.US.CNXC"]
[null,null,"S.US.EQT",{"$f":"IFERROR(RTD(\"cqg.rtd\", ,\"ContractData\",C679, \"PerCentNetLastTrade\",, \"T\")/100,\"\")","v":7.0452303790333941E-4},1294,1294,"S.US.EQT",679,"S.US.LDF"]
[null,null,"S.US.WDR",{"$f":"IFERROR(RTD(\"cqg.rtd\", ,\"ContractData\",C680, \"PerCentNetLastTrade\",, \"T\")/100,\"\")","v":1.0351966873706004E-2},694,694,"S.US.WDR",680,"S.US.VLP"]
[null,null,"S.US.IPI",{"$f":"IFERROR(RTD(\"cqg.rtd\", ,\"ContractData\",C681, \"PerCentNetLastTrade\",, \"T\")/100,\"\")","v":5.7377049180327863E-2},133,133,"S.US.IPI",681,"S.US.XPO"]
[null,null,"S.US.TD",{"$f":"IFERROR(RTD(\"cqg.rtd\", ,\"ContractData\",C682, \"PerCentNetLastTrade\",, \"T\")/100,\"\")","v":-3.5609551738583992E-3},1670,1670,"S.US.TD",682,"S.US.ARC"]
[null,null,"S.US.NMBL",{"$f":"IFERROR(RTD(\"cqg.rtd\", ,\"ContractData\",C683, \"PerCentNetLastTrade\",, \"T\")/100,\"\")","v":3.9735099337748344E-3},1051,1051,"S.US.NMBL",683,"S.US.KSU"]
[null,null,"S.US.HOS",{"$f":"IFERROR(RTD(\"cqg.rtd\", ,\"ContractData\",C684, \"PerCentNetLastTrade\",, \"T\")/100,\"\")","v":0.12557077625570778},38,38,"S.US.HOS",684,"S.US.WBC"]
[null,null,"S.US.XON",{"$f":"IFERROR(RTD(\"cqg.rtd\", ,\"ContractData\",C685, \"PerCentNetLastTrade\",, \"T\")/100,\"\")","v":-9.5551894563426689E-3},2059,2059,"S.US.XON",685,"S.US.XOXO"]
[null,null,"S.US.SALT",{"$f":"IFERROR(RTD(\"cqg.rtd\", ,\"ContractData\",C686, \"PerCentNetLastTrade\",, \"T\")/100,\"\")","v":1.9047619047619046E-2},424,424,"S.US.SALT",686,"S.US.OEC"]
[null,null,"S.US.GPN",{"$f":"IFERROR(RTD(\"cqg.rtd\", ,\"ContractData\",C687, \"PerCentNetLastTrade\",, \"T\")/100,\"\")","v":-1.7424564385890354E-2},2315,2315,"S.US.GPN",687,"S.US.INVN"]
[null,null,"S.US.FLS",{"$f":"IFERROR(RTD(\"cqg.rtd\", ,\"ContractData\",C688, \"PerCentNetLastTrade\",, \"T\")/100,\"\")","v":4.8401420959147422E-2},160,160,"S.US.FLS",688,"S.US.KAMN"]
[null,null,"S.US.PNR",{"$f":"IFERROR(RTD(\"cqg.rtd\", ,\"ContractData\",C689, \"PerCentNetLastTrade\",, \"T\")/100,\"\")","v":2.1170610211706103E-2},382,382,"S.US.PNR",689,"S.US.DSL"]
[null,null,"S.US.KOS",{"$f":"IFERROR(RTD(\"cqg.rtd\", ,\"ContractData\",C690, \"PerCentNetLastTrade\",, \"T\")/100,\"\")","v":0.15334773218142547},20,20,"S.US.KOS",690,"S.US.BK"]
[null,null,"S.US.MTB",{"$f":"IFERROR(RTD(\"cqg.rtd\", ,\"ContractData\",C691, \"PerCentNetLastTrade\",, \"T\")/100,\"\")","v":1.4773776546629733E-2},532,532,"S.US.MTB",691,"S.US.TEL"]
[null,null,"S.US.VNTV",{"$f":"IFERROR(RTD(\"cqg.rtd\", ,\"ContractData\",C692, \"PerCentNetLastTrade\",, \"T\")/100,\"\")","v":-9.1379310344827588E-3},2047,2047,"S.US.VNTV",692,"S.US.ECOM"]
[null,null,"S.US.SMFG",{"$f":"IFERROR(RTD(\"cqg.rtd\", ,\"ContractData\",C693, \"PerCentNetLastTrade\",, \"T\")/100,\"\")","v":-2.6455026455026454E-3},1591,1591,"S.US.SMFG",693,"S.US.SMG"]
[null,null,"S.US.MLM",{"$f":"IFERROR(RTD(\"cqg.rtd\", ,\"ContractData\",C694, \"PerCentNetLastTrade\",, \"T\")/100,\"\")","v":7.734553775743707E-3},863,863,"S.US.MLM",694,"S.US.WDR"]
[null,null,"S.US.AOS",{"$f":"IFERROR(RTD(\"cqg.rtd\", ,\"ContractData\",C695, \"PerCentNetLastTrade\",, \"T\")/100,\"\")","v":-2.8618152085036798E-3},1611,1611,"S.US.AOS",695,"S.US.SFUN"]
[null,null,"S.US.NOC",{"$f":"IFERROR(RTD(\"cqg.rtd\", ,\"ContractData\",C696, \"PerCentNetLastTrade\",, \"T\")/100,\"\")","v":-5.3613979348689431E-3},1813,1813,"S.US.NOC",696,"S.US.APAM"]
[null,null,"S.US.FCH",{"$f":"IFERROR(RTD(\"cqg.rtd\", ,\"ContractData\",C697, \"PerCentNetLastTrade\",, \"T\")/100,\"\")","v":8.4151472650771386E-3},788,788,"S.US.FCH",697,"S.US.BEN"]
[null,null,"S.US.DOC",{"$f":"IFERROR(RTD(\"cqg.rtd\", ,\"ContractData\",C698, \"PerCentNetLastTrade\",, \"T\")/100,\"\")","v":-2.3205612520237451E-2},2412,2412,"S.US.DOC",698,"S.US.DB"]
[null,null,"S.US.OSK",{"$f":"IFERROR(RTD(\"cqg.rtd\", ,\"ContractData\",C699, \"PerCentNetLastTrade\",, \"T\")/100,\"\")","v":5.165733964700818E-3},962,962,"S.US.OSK",699,"S.US.KFY"]
[null,null,"S.US.VSH",{"$f":"IFERROR(RTD(\"cqg.rtd\", ,\"ContractData\",C700, \"PerCentNetLastTrade\",, \"T\")/100,\"\")","v":6.6666666666666662E-3},881,881,"S.US.VSH",700,"S.US.LKSD"]
[null,null,"S.US.DSX",{"$f":"IFERROR(RTD(\"cqg.rtd\", ,\"ContractData\",C701, \"PerCentNetLastTrade\",, \"T\")/100,\"\")","v":1.8987341772151899E-2},426,426,"S.US.DSX",701,"S.US.MOV"]
[null,null,"S.US.APH",{"$f":"IFERROR(RTD(\"cqg.rtd\", ,\"ContractData\",C702, \"PerCentNetLastTrade\",, \"T\")/100,\"\")","v":3.2149641969896241E-3},1104,1104,"S.US.APH",702,"S.US.TRR"]
[null,null,"S.US.AL",{"$f":"IFERROR(RTD(\"cqg.rtd\", ,\"ContractData\",C703, \"PerCentNetLastTrade\",, \"T\")/100,\"\")","v":1.2640449438202249E-2},606,606,"S.US.AL",703,"S.US.TNH"]
[null,null,"S.US.SWK",{"$f":"IFERROR(RTD(\"cqg.rtd\", ,\"ContractData\",C704, \"PerCentNetLastTrade\",, \"T\")/100,\"\")","v":-3.9189527224214125E-3},1702,1702,"S.US.SWK",704,"S.US.SHI"]
[null,null,"S.US.L",{"$f":"IFERROR(RTD(\"cqg.rtd\", ,\"ContractData\",C705, \"PerCentNetLastTrade\",, \"T\")/100,\"\")","v":6.0783430886987844E-3},912,{"$f":"IFERROR(E705,\"\")","v":912},{"$f":"C705","v":"S.US.L"},705,{"$f":"IFERROR(VLOOKUP(H705,$F$1:$G$2522,2,FALSE),\"\")","v":"S.US.TDY"}]
[null,null,"S.US.PX",{"$f":"IFERROR(RTD(\"cqg.rtd\", ,\"ContractData\",C706, \"PerCentNetLastTrade\",, \"T\")/100,\"\")","v":-1.1131118022589622E-2},2129,2129,"S.US.PX",{"$f":"H705+1","v":706},"S.US.ENS"]
[null,null,"S.US.CMG",{"$f":"IFERROR(RTD(\"cqg.rtd\", ,\"ContractData\",C707, \"PerCentNetLastTrade\",, \"T\")/100,\"\")","v":1.1490471008073702E-2},643,643,"S.US.CMG",707,"S.US.NPO"]
[null,null,"S.US.TPC",{"$f":"IFERROR(RTD(\"cqg.rtd\", ,\"ContractData\",C708, \"PerCentNetLastTrade\",, \"T\")/100,\"\")","v":-1.8450184501845018E-3},1514,1514,"S.US.TPC",708,"S.US.MPSX"]
[null,null,"S.US.LYV",{"$f":"IFERROR(RTD(\"cqg.rtd\", ,\"ContractData\",C709, \"PerCentNetLastTrade\",, \"T\")/100,\"\")","v":-6.4011379800853483E-3},1902,1902,"S.US.LYV",709,"S.US.LUX"]
[null,null,"S.US.VNO",{"$f":"IFERROR(RTD(\"cqg.rtd\", ,\"ContractData\",C710, \"PerCentNetLastTrade\",, \"T\")/100,\"\")","v":-4.1372351160444002E-3},1719,1719,"S.US.VNO",710,"S.US.BX"]
[null,null,"S.US.WDAY",{"$f":"IFERROR(RTD(\"cqg.rtd\", ,\"ContractData\",C711, \"PerCentNetLastTrade\",, \"T\")/100,\"\")","v":9.2801903628792377E-3},742,742,"S.US.WDAY",711,"S.US.B"]
[null,null,"S.US.STOR",{"$f":"IFERROR(RTD(\"cqg.rtd\", ,\"ContractData\",C712, \"PerCentNetLastTrade\",, \"T\")/100,\"\")","v":-1.9055180627233027E-2},2352,2352,"S.US.STOR",712,"S.US.SLF"]
[null,null,"S.US.CLX",{"$f":"IFERROR(RTD(\"cqg.rtd\", ,\"ContractData\",C713, \"PerCentNetLastTrade\",, \"T\")/100,\"\")","v":-1.2065596057439034E-2},2162,2162,"S.US.CLX",713,"S.US.IDT"]
[null,null,"S.US.LNKD",{"$f":"IFERROR(RTD(\"cqg.rtd\", ,\"ContractData\",C714, \"PerCentNetLastTrade\",, \"T\")/100,\"\")","v":5.1274162949289848E-5},1325,1325,"S.US.LNKD",714,"S.US.RT"]
[null,null,"S.US.SEM",{"$f":"IFERROR(RTD(\"cqg.rtd\", ,\"ContractData\",C715, \"PerCentNetLastTrade\",, \"T\")/100,\"\")","v":-3.9215686274509803E-3},1703,1703,"S.US.SEM",715,"S.US.AVX"]
[null,null,"S.US.HSY",{"$f":"IFERROR(RTD(\"cqg.rtd\", ,\"ContractData\",C716, \"PerCentNetLastTrade\",, \"T\")/100,\"\")","v":-1.6101090390298584E-2},2294,2294,"S.US.HSY",716,"S.US.NEWM"]
[null,null,"S.US.DNOW",{"$f":"IFERROR(RTD(\"cqg.rtd\", ,\"ContractData\",C717, \"PerCentNetLastTrade\",, \"T\")/100,\"\")","v":8.3375699034062015E-2},88,88,"S.US.DNOW",717,"S.US.HY"]
[null,null,"S.US.PH",{"$f":"IFERROR(RTD(\"cqg.rtd\", ,\"ContractData\",C718, \"PerCentNetLastTrade\",, \"T\")/100,\"\")","v":1.3435560423512231E-2},573,573,"S.US.PH",718,"S.US.ROK"]
[null,null,"S.US.TSS",{"$f":"IFERROR(RTD(\"cqg.rtd\", ,\"ContractData\",C719, \"PerCentNetLastTrade\",, \"T\")/100,\"\")","v":-1.7193675889328065E-2},2313,2313,"S.US.TSS",719,"S.US.HUBS"]
[null,null,"S.US.EEP",{"$f":"IFERROR(RTD(\"cqg.rtd\", ,\"ContractData\",C720, \"PerCentNetLastTrade\",, \"T\")/100,\"\")","v":3.5439795046968398E-2},235,235,"S.US.EEP",720,"S.US.FFG"]
[null,null,"S.US.CNHI",{"$f":"IFERROR(RTD(\"cqg.rtd\", ,\"ContractData\",C721, \"PerCentNetLastTrade\",, \"T\")/100,\"\")","v":1.1750881316098707E-3},1254,1254,"S.US.CNHI",721,"S.US.LEJU"]
[null,null,"S.US.HOV",{"$f":"IFERROR(RTD(\"cqg.rtd\", ,\"ContractData\",C722, \"PerCentNetLastTrade\",, \"T\")/100,\"\")","v":5.0251256281407027E-3},976,976,"S.US.HOV",722,"S.US.IIF"]
[null,null,"S.US.HPP",{"$f":"IFERROR(RTD(\"cqg.rtd\", ,\"ContractData\",C723, \"PerCentNetLastTrade\",, \"T\")/100,\"\")","v":-1.5741270749856897E-2},2287,2287,"S.US.HPP",723,"S.US.CEB"]
[null,null,"S.US.WBS",{"$f":"IFERROR(RTD(\"cqg.rtd\", ,\"ContractData\",C724, \"PerCentNetLastTrade\",, \"T\")/100,\"\")","v":1.9816138917262513E-2},410,410,"S.US.WBS",724,"S.US.ITW"]
[null,null,"S.US.TTI",{"$f":"IFERROR(RTD(\"cqg.rtd\", ,\"ContractData\",C725, \"PerCentNetLastTrade\",, \"T\")/100,\"\")","v":8.9795918367346933E-2},77,77,"S.US.TTI",725,"S.US.IL"]
[null,null,"S.US.BAM",{"$f":"IFERROR(RTD(\"cqg.rtd\", ,\"ContractData\",C726, \"PerCentNetLastTrade\",, \"T\")/100,\"\")","v":1.1894142134998512E-3},1251,1251,"S.US.BAM",726,"S.US.TCK"]
[null,null,"S.US.BC",{"$f":"IFERROR(RTD(\"cqg.rtd\", ,\"ContractData\",C727, \"PerCentNetLastTrade\",, \"T\")/100,\"\")","v":1.2979111742040155E-2},590,590,"S.US.BC",727,"S.US.HMC"]
[null,null,"S.US.WNC",{"$f":"IFERROR(RTD(\"cqg.rtd\", ,\"ContractData\",C728, \"PerCentNetLastTrade\",, \"T\")/100,\"\")","v":1.8422991893883568E-2},438,438,"S.US.WNC",728,"S.US.UNM"]
[null,null,"S.US.KNX",{"$f":"IFERROR(RTD(\"cqg.rtd\", ,\"ContractData\",C729, \"PerCentNetLastTrade\",, \"T\")/100,\"\")","v":2.3357664233576641E-2},349,349,"S.US.KNX",729,"S.US.ALSN"]
[null,null,"S.US.OC",{"$f":"IFERROR(RTD(\"cqg.rtd\", ,\"ContractData\",C730, \"PerCentNetLastTrade\",, \"T\")/100,\"\")","v":-2.5094339622641511E-2},2422,2422,"S.US.OC",730,"S.US.ALEX"]
[null,null,"S.US.SXC",{"$f":"IFERROR(RTD(\"cqg.rtd\", ,\"ContractData\",C731, \"PerCentNetLastTrade\",, \"T\")/100,\"\")","v":3.1358885017421602E-2},269,269,"S.US.SXC",731,"S.US.FF"]
[null,null,"S.US.LXP",{"$f":"IFERROR(RTD(\"cqg.rtd\", ,\"ContractData\",C732, \"PerCentNetLastTrade\",, \"T\")/100,\"\")","v":-1.0456273764258554E-2},2098,2098,"S.US.LXP",732,"S.US.ALL"]
[null,null,"S.US.DY",{"$f":"IFERROR(RTD(\"cqg.rtd\", ,\"ContractData\",C733, \"PerCentNetLastTrade\",, \"T\")/100,\"\")","v":8.8556800885568002E-3},763,763,"S.US.DY",733,"S.US.VRS"]
[null,null,"S.US.MSI",{"$f":"IFERROR(RTD(\"cqg.rtd\", ,\"ContractData\",C734, \"PerCentNetLastTrade\",, \"T\")/100,\"\")","v":-7.0274935273085936E-3},1936,1936,"S.US.MSI",734,"S.US.LEA"]
[null,null,"S.US.XEC",{"$f":"IFERROR(RTD(\"cqg.rtd\", ,\"ContractData\",C735, \"PerCentNetLastTrade\",, \"T\")/100,\"\")","v":9.9524155173804335E-2},67,67,"S.US.XEC",735,"S.US.JCP"]
[null,null,"S.US.MTOR",{"$f":"IFERROR(RTD(\"cqg.rtd\", ,\"ContractData\",C736, \"PerCentNetLastTrade\",, \"T\")/100,\"\")","v":7.9113924050632917E-3},816,816,"S.US.MTOR",736,"S.US.TPZ"]
[null,null,"S.US.AON",{"$f":"IFERROR(RTD(\"cqg.rtd\", ,\"ContractData\",C737, \"PerCentNetLastTrade\",, \"T\")/100,\"\")","v":2.639683238011439E-3},1139,1139,"S.US.AON",737,"S.US.CBD"]
[null,null,"S.US.APLE",{"$f":"IFERROR(RTD(\"cqg.rtd\", ,\"ContractData\",C738, \"PerCentNetLastTrade\",, \"T\")/100,\"\")","v":-5.854177754124534E-3},1855,1855,"S.US.APLE",738,"S.US.JEC"]
[null,null,"S.US.ERF",{"$f":"IFERROR(RTD(\"cqg.rtd\", ,\"ContractData\",C739, \"PerCentNetLastTrade\",, \"T\")/100,\"\")","v":0.16282225237449119},13,13,"S.US.ERF",739,"S.US.CVS"]
[null,null,"S.US.CPG",{"$f":"IFERROR(RTD(\"cqg.rtd\", ,\"ContractData\",C740, \"PerCentNetLastTrade\",, \"T\")/100,\"\")","v":0.11317418213969939},49,49,"S.US.CPG",740,"S.US.IOC"]
[null,null,"S.US.AGO",{"$f":"IFERROR(RTD(\"cqg.rtd\", ,\"ContractData\",C741, \"PerCentNetLastTrade\",, \"T\")/100,\"\")","v":6.6908279899637576E-3},880,880,"S.US.AGO",741,"S.US.APFH"]
[null,null,"S.US.BXP",{"$f":"IFERROR(RTD(\"cqg.rtd\", ,\"ContractData\",C742, \"PerCentNetLastTrade\",, \"T\")/100,\"\")","v":-6.3068816860929267E-3},1894,1894,"S.US.BXP",742,"S.US.WDAY"]
[null,null,"S.US.AN",{"$f":"IFERROR(RTD(\"cqg.rtd\", ,\"ContractData\",C743, \"PerCentNetLastTrade\",, \"T\")/100,\"\")","v":8.5914537644132937E-3},772,772,"S.US.AN",743,"S.US.SIG"]
[null,null,"S.US.SNE",{"$f":"IFERROR(RTD(\"cqg.rtd\", ,\"ContractData\",C744, \"PerCentNetLastTrade\",, \"T\")/100,\"\")","v":-8.4774499830450999E-3},2017,2017,"S.US.SNE",744,"S.US.USG"]
[null,null,"S.US.JOY",{"$f":"IFERROR(RTD(\"cqg.rtd\", ,\"ContractData\",C745, \"PerCentNetLastTrade\",, \"T\")/100,\"\")","v":0},1334,1334,"S.US.JOY",745,"S.US.CYH"]
[null,null,"S.US.FRC",{"$f":"IFERROR(RTD(\"cqg.rtd\", ,\"ContractData\",C746, \"PerCentNetLastTrade\",, \"T\")/100,\"\")","v":1.471850852446952E-2},534,534,"S.US.FRC",746,"S.US.MSB"]
[null,null,"S.US.LAZ",{"$f":"IFERROR(RTD(\"cqg.rtd\", ,\"ContractData\",C747, \"PerCentNetLastTrade\",, \"T\")/100,\"\")","v":2.5813113061435213E-3},1144,1144,"S.US.LAZ",747,"S.US.EV"]
[null,null,"S.US.ACC",{"$f":"IFERROR(RTD(\"cqg.rtd\", ,\"ContractData\",C748, \"PerCentNetLastTrade\",, \"T\")/100,\"\")","v":-6.3211125158027818E-3},1896,1896,"S.US.ACC",748,"S.US.LXFR"]
[null,null,"S.US.GMED",{"$f":"IFERROR(RTD(\"cqg.rtd\", ,\"ContractData\",C749, \"PerCentNetLastTrade\",, \"T\")/100,\"\")","v":2.303086135421465E-3},1168,1168,"S.US.GMED",749,"S.US.PIM"]
[null,null,"S.US.AWK",{"$f":"IFERROR(RTD(\"cqg.rtd\", ,\"ContractData\",C750, \"PerCentNetLastTrade\",, \"T\")/100,\"\")","v":-2.4216899183995787E-2},2420,2420,"S.US.AWK",750,"S.US.IHD"]
[null,null,"S.US.LL",{"$f":"IFERROR(RTD(\"cqg.rtd\", ,\"ContractData\",C751, \"PerCentNetLastTrade\",, \"T\")/100,\"\")","v":7.2625698324022348E-3},853,853,"S.US.LL",751,"S.US.SNV"]
[null,null,"S.US.PEB",{"$f":"IFERROR(RTD(\"cqg.rtd\", ,\"ContractData\",C752, \"PerCentNetLastTrade\",, \"T\")/100,\"\")","v":8.1157374735356391E-3},801,801,"S.US.PEB",752,"S.US.INF"]
[null,null,"S.US.BRS",{"$f":"IFERROR(RTD(\"cqg.rtd\", ,\"ContractData\",C753, \"PerCentNetLastTrade\",, \"T\")/100,\"\")","v":9.443631039531479E-2},70,70,"S.US.BRS",753,"S.US.MFD"]
[null,null,"S.US.PLNT",{"$f":"IFERROR(RTD(\"cqg.rtd\", ,\"ContractData\",C754, \"PerCentNetLastTrade\",, \"T\")/100,\"\")","v":-7.7294685990338162E-3},1970,1970,"S.US.PLNT",754,"S.US.MSF"]
[null,null,"S.US.PGH",{"$f":"IFERROR(RTD(\"cqg.rtd\", ,\"ContractData\",C755, \"PerCentNetLastTrade\",, \"T\")/100,\"\")","v":0.10852713178294573},59,59,"S.US.PGH",755,"S.US.FOR"]
[null,null,"S.US.PBYI",{"$f":"IFERROR(RTD(\"cqg.rtd\", ,\"ContractData\",C756, \"PerCentNetLastTrade\",, \"T\")/100,\"\")","v":-1.3348164627363737E-2},2216,2216,"S.US.PBYI",756,"S.US.HOG"]
[null,null,"S.US.ECR",{"$f":"IFERROR(RTD(\"cqg.rtd\", ,\"ContractData\",C757, \"PerCentNetLastTrade\",, \"T\")/100,\"\")","v":0.14285714285714288},24,24,"S.US.ECR",757,"S.US.PGP"]
[null,null,"S.US.SCI",{"$f":"IFERROR(RTD(\"cqg.rtd\", ,\"ContractData\",C758, \"PerCentNetLastTrade\",, \"T\")/100,\"\")","v":-5.1698670605612998E-3},1797,1797,"S.US.SCI",758,"S.US.USB"]
[null,null,"S.US.ALB",{"$f":"IFERROR(RTD(\"cqg.rtd\", ,\"ContractData\",C759, \"PerCentNetLastTrade\",, \"T\")/100,\"\")","v":2.5945317044793484E-2},322,322,"S.US.ALB",759,"S.US.SKM"]
[null,null,"S.US.RHT",{"$f":"IFERROR(RTD(\"cqg.rtd\", ,\"ContractData\",C760, \"PerCentNetLastTrade\",, \"T\")/100,\"\")","v":-1.2624999999999999E-2},2184,2184,"S.US.RHT",760,"S.US.SAN"]
[null,null,"S.US.DTE",{"$f":"IFERROR(RTD(\"cqg.rtd\", ,\"ContractData\",C761, \"PerCentNetLastTrade\",, \"T\")/100,\"\")","v":-1.8684759916492693E-2},2346,2346,"S.US.DTE",761,"S.US.CC"]
[null,null,"S.US.GDDY",{"$f":"IFERROR(RTD(\"cqg.rtd\", ,\"ContractData\",C762, \"PerCentNetLastTrade\",, \"T\")/100,\"\")","v":-1.601325234676974E-2},2292,2292,"S.US.GDDY",762,"S.US.NBHC"]
[null,null,"S.US.EDU",{"$f":"IFERROR(RTD(\"cqg.rtd\", ,\"ContractData\",C763, \"PerCentNetLastTrade\",, \"T\")/100,\"\")","v":-8.368200836820083E-3},2010,2010,"S.US.EDU",763,"S.US.DY"]
[null,null,"S.US.EFX",{"$f":"IFERROR(RTD(\"cqg.rtd\", ,\"ContractData\",C764, \"PerCentNetLastTrade\",, \"T\")/100,\"\")","v":-2.1538719409989943E-2},2389,2389,"S.US.EFX",764,"S.US.KAI"]
[null,null,"S.US.EGN",{"$f":"IFERROR(RTD(\"cqg.rtd\", ,\"ContractData\",C765, \"PerCentNetLastTrade\",, \"T\")/100,\"\")","v":0.10075046904315198},64,64,"S.US.EGN",765,"S.US.CRL"]
[null,null,"S.US.PAGP",{"$f":"IFERROR(RTD(\"cqg.rtd\", ,\"ContractData\",C766, \"PerCentNetLastTrade\",, \"T\")/100,\"\")","v":7.9692307692307687E-2},93,93,"S.US.PAGP",766,"S.US.BDJ"]
[null,null,"S.US.VVV",{"$f":"IFERROR(RTD(\"cqg.rtd\", ,\"ContractData\",C767, \"PerCentNetLastTrade\",, \"T\")/100,\"\")","v":-9.42507068803016E-4},1442,1442,"S.US.VVV",767,"S.US.BOH"]
[null,null,"S.US.MFS",{"$f":"IFERROR(RTD(\"cqg.rtd\", ,\"ContractData\",C768, \"PerCentNetLastTrade\",, \"T\")/100,\"\")","v":8.027522935779817E-3},806,806,"S.US.MFS",768,"S.US.PRLB"]
[null,null,"S.US.SHOP",{"$f":"IFERROR(RTD(\"cqg.rtd\", ,\"ContractData\",C769, \"PerCentNetLastTrade\",, \"T\")/100,\"\")","v":3.5219535102136651E-3},1079,{"$f":"IFERROR(E769,\"\")","v":1079},{"$f":"C769","v":"S.US.SHOP"},769,{"$f":"IFERROR(VLOOKUP(H769,$F$1:$G$2522,2,FALSE),\"\")","v":"S.US.CUB"}]
[null,null,"S.US.MXL",{"$f":"IFERROR(RTD(\"cqg.rtd\", ,\"ContractData\",C770, \"PerCentNetLastTrade\",, \"T\")/100,\"\")","v":-1.4967259120673527E-2},2264,2264,"S.US.MXL",{"$f":"H769+1","v":770},"S.US.SPXC"]
[null,null,"S.US.TPX",{"$f":"IFERROR(RTD(\"cqg.rtd\", ,\"ContractData\",C771, \"PerCentNetLastTrade\",, \"T\")/100,\"\")","v":-4.5741324921135642E-3},1749,1749,"S.US.TPX",771,"S.US.DRH"]
[null,null,"S.US.HRG",{"$f":"IFERROR(RTD(\"cqg.rtd\", ,\"ContractData\",C772, \"PerCentNetLastTrade\",, \"T\")/100,\"\")","v":-3.8289725590299941E-3},1691,1691,"S.US.HRG",772,"S.US.AN"]
[null,null,"S.US.NCR",{"$f":"IFERROR(RTD(\"cqg.rtd\", ,\"ContractData\",C773, \"PerCentNetLastTrade\",, \"T\")/100,\"\")","v":-2.577319587628866E-4},1395,1395,"S.US.NCR",773,"S.US.ETH"]
[null,null,"S.US.WYN",{"$f":"IFERROR(RTD(\"cqg.rtd\", ,\"ContractData\",C774, \"PerCentNetLastTrade\",, \"T\")/100,\"\")","v":-9.6074663738676905E-3},2061,2061,"S.US.WYN",774,"S.US.AIG"]
[null,null,"S.US.MTZ",{"$f":"IFERROR(RTD(\"cqg.rtd\", ,\"ContractData\",C775, \"PerCentNetLastTrade\",, \"T\")/100,\"\")","v":4.1039671682626538E-2},197,197,"S.US.MTZ",775,"S.US.UFS"]
[null,null,"S.US.TSE",{"$f":"IFERROR(RTD(\"cqg.rtd\", ,\"ContractData\",C776, \"PerCentNetLastTrade\",, \"T\")/100,\"\")","v":2.0137693631669534E-2},400,400,"S.US.TSE",776,"S.US.DEL"]
[null,null,"S.US.NPTN",{"$f":"IFERROR(RTD(\"cqg.rtd\", ,\"ContractData\",C777, \"PerCentNetLastTrade\",, \"T\")/100,\"\")","v":-2.2810890360559232E-2},2405,2405,"S.US.NPTN",777,"S.US.AZZ"]
[null,null,"S.US.HTA",{"$f":"IFERROR(RTD(\"cqg.rtd\", ,\"ContractData\",C778, \"PerCentNetLastTrade\",, \"T\")/100,\"\")","v":-1.8678657903839501E-2},2345,2345,"S.US.HTA",778,"S.US.RYI"]
[null,null,"S.US.DV",{"$f":"IFERROR(RTD(\"cqg.rtd\", ,\"ContractData\",C779, \"PerCentNetLastTrade\",, \"T\")/100,\"\")","v":1.6863406408094436E-3},1214,1214,"S.US.DV",779,"S.US.VIV"]
[null,null,"S.US.MSM",{"$f":"IFERROR(RTD(\"cqg.rtd\", ,\"ContractData\",C780, \"PerCentNetLastTrade\",, \"T\")/100,\"\")","v":7.3189956086026353E-3},848,848,"S.US.MSM",780,"S.US.ARCO"]
[null,null,"S.US.LPT",{"$f":"IFERROR(RTD(\"cqg.rtd\", ,\"ContractData\",C781, \"PerCentNetLastTrade\",, \"T\")/100,\"\")","v":-2.2652907123080794E-3},1562,1562,"S.US.LPT",781,"S.US.HI"]
[null,null,"S.US.SLG",{"$f":"IFERROR(RTD(\"cqg.rtd\", ,\"ContractData\",C782, \"PerCentNetLastTrade\",, \"T\")/100,\"\")","v":-4.9985853060454588E-3},1783,1783,"S.US.SLG",782,"S.US.CCC"]
[null,null,"S.US.ASB",{"$f":"IFERROR(RTD(\"cqg.rtd\", ,\"ContractData\",C783, \"PerCentNetLastTrade\",, \"T\")/100,\"\")","v":1.785714285714286E-2},457,457,"S.US.ASB",783,"S.US.ENZ"]
[null,null,"S.US.CNI",{"$f":"IFERROR(RTD(\"cqg.rtd\", ,\"ContractData\",C784, \"PerCentNetLastTrade\",, \"T\")/100,\"\")","v":7.785596646204521E-3},814,814,"S.US.CNI",784,"S.US.IFN"]
[null,null,"S.US.SHW",{"$f":"IFERROR(RTD(\"cqg.rtd\", ,\"ContractData\",C785, \"PerCentNetLastTrade\",, \"T\")/100,\"\")","v":-2.0085408222350897E-2},2367,2367,"S.US.SHW",785,"S.US.NCI"]
[null,null,"S.US.BCE",{"$f":"IFERROR(RTD(\"cqg.rtd\", ,\"ContractData\",C786, \"PerCentNetLastTrade\",, \"T\")/100,\"\")","v":-2.2967386311437756E-4},1393,1393,"S.US.BCE",786,"S.US.DDC"]
[null,null,"S.US.ELLI",{"$f":"IFERROR(RTD(\"cqg.rtd\", ,\"ContractData\",C787, \"PerCentNetLastTrade\",, \"T\")/100,\"\")","v":-3.5519772673454891E-3},1668,1668,"S.US.ELLI",787,"S.US.HTZ"]
[null,null,"S.US.RLJ",{"$f":"IFERROR(RTD(\"cqg.rtd\", ,\"ContractData\",C788, \"PerCentNetLastTrade\",, \"T\")/100,\"\")","v":-1.7738359201773838E-3},1473,1473,"S.US.RLJ",788,"S.US.FCH"]
[null,null,"S.US.REG",{"$f":"IFERROR(RTD(\"cqg.rtd\", ,\"ContractData\",C789, \"PerCentNetLastTrade\",, \"T\")/100,\"\")","v":-1.3004484304932735E-2},2194,2194,"S.US.REG",789,"S.US.HUN"]
[null,null,"S.US.OUT",{"$f":"IFERROR(RTD(\"cqg.rtd\", ,\"ContractData\",C790, \"PerCentNetLastTrade\",, \"T\")/100,\"\")","v":1.1966493817311527E-3},1250,1250,"S.US.OUT",790,"S.US.BW"]
[null,null,"S.US.MCO",{"$f":"IFERROR(RTD(\"cqg.rtd\", ,\"ContractData\",C791, \"PerCentNetLastTrade\",, \"T\")/100,\"\")","v":2.670887328123454E-3},1137,1137,"S.US.MCO",791,"S.US.CYD"]
[null,null,"S.US.BWXT",{"$f":"IFERROR(RTD(\"cqg.rtd\", ,\"ContractData\",C792, \"PerCentNetLastTrade\",, \"T\")/100,\"\")","v":-4.8052604957005566E-3},1770,1770,"S.US.BWXT",792,"S.US.AMRC"]
[null,null,"S.US.BCEI",{"$f":"IFERROR(RTD(\"cqg.rtd\", ,\"ContractData\",C793, \"PerCentNetLastTrade\",, \"T\")/100,\"\")","v":0.1075268817204301},60,60,"S.US.BCEI",793,"S.US.PFSI"]
[null,null,"S.US.UIS",{"$f":"IFERROR(RTD(\"cqg.rtd\", ,\"ContractData\",C794, \"PerCentNetLastTrade\",, \"T\")/100,\"\")","v":3.1756756756756759E-2},263,263,"S.US.UIS",794,"S.US.CTLT"]
[null,null,"S.US.WTR",{"$f":"IFERROR(RTD(\"cqg.rtd\", ,\"ContractData\",C795, \"PerCentNetLastTrade\",, \"T\")/100,\"\")","v":-2.8461784457946913E-2},2441,2441,"S.US.WTR",795,"S.US.JNPR"]
[null,null,"S.US.ELY",{"$f":"IFERROR(RTD(\"cqg.rtd\", ,\"ContractData\",C796, \"PerCentNetLastTrade\",, \"T\")/100,\"\")","v":4.8820179007323028E-3},989,989,"S.US.ELY",796,"S.US.VJET"]
[null,null,"S.US.BZH",{"$f":"IFERROR(RTD(\"cqg.rtd\", ,\"ContractData\",C797, \"PerCentNetLastTrade\",, \"T\")/100,\"\")","v":-1.7291066282420747E-2},2316,2316,"S.US.BZH",797,"S.US.BGH"]
[null,null,"S.US.OFC",{"$f":"IFERROR(RTD(\"cqg.rtd\", ,\"ContractData\",C798, \"PerCentNetLastTrade\",, \"T\")/100,\"\")","v":-1.5421521590130226E-2},2275,2275,"S.US.OFC",798,"S.US.OME"]
[null,null,"S.US.FNV",{"$f":"IFERROR(RTD(\"cqg.rtd\", ,\"ContractData\",C799, \"PerCentNetLastTrade\",, \"T\")/100,\"\")","v":-1.6542876434841324E-2},2303,2303,"S.US.FNV",799,"S.US.VPG"]
[null,null,"S.US.CVT",{"$f":"IFERROR(RTD(\"cqg.rtd\", ,\"ContractData\",C800, \"PerCentNetLastTrade\",, \"T\")/100,\"\")","v":""},{"$error":"#VALUE!"},"","S.US.CVT",800,"S.US.EROS"]
[null,null,"S.US.PII",{"$f":"IFERROR(RTD(\"cqg.rtd\", ,\"ContractData\",C801, \"PerCentNetLastTrade\",, \"T\")/100,\"\")","v":1.6151361329026304E-3},1218,1218,"S.US.PII",801,"S.US.PEB"]
[null,null,"S.US.FBP",{"$f":"IFERROR(RTD(\"cqg.rtd\", ,\"ContractData\",C802, \"PerCentNetLastTrade\",, \"T\")/100,\"\")","v":-7.2213500784929358E-2},2473,2473,"S.US.FBP",802,"S.US.RGS"]
[null,null,"S.US.SNV",{"$f":"IFERROR(RTD(\"cqg.rtd\", ,\"ContractData\",C803, \"PerCentNetLastTrade\",, \"T\")/100,\"\")","v":9.0814737934613379E-3},751,751,"S.US.SNV",803,"S.US.CGA"]
[null,null,"S.US.ALK",{"$f":"IFERROR(RTD(\"cqg.rtd\", ,\"ContractData\",C804, \"PerCentNetLastTrade\",, \"T\")/100,\"\")","v":-5.9193041797535638E-3},1861,1861,"S.US.ALK",804,"S.US.PFS"]
[null,null,"S.US.FRO",{"$f":"IFERROR(RTD(\"cqg.rtd\", ,\"ContractData\",C805, \"PerCentNetLastTrade\",, \"T\")/100,\"\")","v":-1.2345679012345678E-2},2170,2170,"S.US.FRO",805,"S.US.HZO"]
[null,null,"S.US.PVH",{"$f":"IFERROR(RTD(\"cqg.rtd\", ,\"ContractData\",C806, \"PerCentNetLastTrade\",, \"T\")/100,\"\")","v":6.4132792605866261E-3},895,895,"S.US.PVH",806,"S.US.MFS"]
[null,null,"S.US.EXG",{"$f":"IFERROR(RTD(\"cqg.rtd\", ,\"ContractData\",C807, \"PerCentNetLastTrade\",, \"T\")/100,\"\")","v":3.7037037037037034E-3},1072,1072,"S.US.EXG",807,"S.US.VTTI"]
[null,null,"S.US.IMPV",{"$f":"IFERROR(RTD(\"cqg.rtd\", ,\"ContractData\",C808, \"PerCentNetLastTrade\",, \"T\")/100,\"\")","v":-1.6709511568123395E-2},2306,2306,"S.US.IMPV",808,"S.US.CORR"]
[null,null,"S.US.EV",{"$f":"IFERROR(RTD(\"cqg.rtd\", ,\"ContractData\",C809, \"PerCentNetLastTrade\",, \"T\")/100,\"\")","v":9.1971165796669151E-3},747,747,"S.US.EV",809,"S.US.HT"]
[null,null,"S.US.PSA",{"$f":"IFERROR(RTD(\"cqg.rtd\", ,\"ContractData\",C810, \"PerCentNetLastTrade\",, \"T\")/100,\"\")","v":6.6790706550260012E-4},1301,1301,"S.US.PSA",810,"S.US.RRC"]
[null,null,"S.US.SFR",{"$f":"IFERROR(RTD(\"cqg.rtd\", ,\"ContractData\",C811, \"PerCentNetLastTrade\",, \"T\")/100,\"\")","v":-1.328462304882099E-3},1472,1472,"S.US.SFR",811,"S.US.ITGR"]
[null,null,"S.US.QSR",{"$f":"IFERROR(RTD(\"cqg.rtd\", ,\"ContractData\",C812, \"PerCentNetLastTrade\",, \"T\")/100,\"\")","v":-5.9991725279271825E-3},1868,1868,"S.US.QSR",812,"S.US.GGT"]
[null,null,"S.US.WLK",{"$f":"IFERROR(RTD(\"cqg.rtd\", ,\"ContractData\",C813, \"PerCentNetLastTrade\",, \"T\")/100,\"\")","v":6.4142620841757023E-2},118,118,"S.US.WLK",813,"S.US.XL"]
[null,null,"S.US.IPHI",{"$f":"IFERROR(RTD(\"cqg.rtd\", ,\"ContractData\",C814, \"PerCentNetLastTrade\",, \"T\")/100,\"\")","v":4.298302170642596E-4},1313,1313,"S.US.IPHI",814,"S.US.CNI"]
[null,null,"S.US.YPF",{"$f":"IFERROR(RTD(\"cqg.rtd\", ,\"ContractData\",C815, \"PerCentNetLastTrade\",, \"T\")/100,\"\")","v":4.6382189239332093E-2},169,169,"S.US.YPF",815,"S.US.CHL"]
[null,null,"S.US.PGRE",{"$f":"IFERROR(RTD(\"cqg.rtd\", ,\"ContractData\",C816, \"PerCentNetLastTrade\",, \"T\")/100,\"\")","v":-1.8975332068311196E-3},1520,1520,"S.US.PGRE",816,"S.US.MTOR"]
[null,null,"S.US.NNA",{"$f":"IFERROR(RTD(\"cqg.rtd\", ,\"ContractData\",C817, \"PerCentNetLastTrade\",, \"T\")/100,\"\")","v":1.9108280254777069E-2},421,421,"S.US.NNA",817,"S.US.CRDA"]
[null,null,"S.US.EC",{"$f":"IFERROR(RTD(\"cqg.rtd\", ,\"ContractData\",C818, \"PerCentNetLastTrade\",, \"T\")/100,\"\")","v":7.7707006369426748E-2},97,97,"S.US.EC",818,"S.US.KKR"]
[null,null,"S.US.EXP",{"$f":"IFERROR(RTD(\"cqg.rtd\", ,\"ContractData\",C819, \"PerCentNetLastTrade\",, \"T\")/100,\"\")","v":3.0046142289945274E-2},282,282,"S.US.EXP",819,"S.US.GNRC"]
[null,null,"S.US.TSU",{"$f":"IFERROR(RTD(\"cqg.rtd\", ,\"ContractData\",C820, \"PerCentNetLastTrade\",, \"T\")/100,\"\")","v":1.3289036544850499E-2},578,578,"S.US.TSU",820,"S.US.POL"]
[null,null,"S.US.NEA",{"$f":"IFERROR(RTD(\"cqg.rtd\", ,\"ContractData\",C821, \"PerCentNetLastTrade\",, \"T\")/100,\"\")","v":-9.0566037735849061E-3},2043,2043,"S.US.NEA",821,"S.US.DOW"]
[null,null,"S.US.FGP",{"$f":"IFERROR(RTD(\"cqg.rtd\", ,\"ContractData\",C822, \"PerCentNetLastTrade\",, \"T\")/100,\"\")","v":-2.0338983050847456E-2},2394,2394,"S.US.FGP",822,"S.US.CPA"]
[null,null,"S.US.EXR",{"$f":"IFERROR(RTD(\"cqg.rtd\", ,\"ContractData\",C823, \"PerCentNetLastTrade\",, \"T\")/100,\"\")","v":-3.952011291460833E-3},1708,1708,"S.US.EXR",823,"S.US.CAT"]
[null,null,"S.US.ECL",{"$f":"IFERROR(RTD(\"cqg.rtd\", ,\"ContractData\",C824, \"PerCentNetLastTrade\",, \"T\")/100,\"\")","v":2.3193883686968473E-3},1167,1167,"S.US.ECL",824,"S.US.MCRN"]
[null,null,"S.US.CVI",{"$f":"IFERROR(RTD(\"cqg.rtd\", ,\"ContractData\",C825, \"PerCentNetLastTrade\",, \"T\")/100,\"\")","v":1.547029702970297E-2},514,514,"S.US.CVI",825,"S.US.PRI"]
[null,null,"S.US.AMBR",{"$f":"IFERROR(RTD(\"cqg.rtd\", ,\"ContractData\",C826, \"PerCentNetLastTrade\",, \"T\")/100,\"\")","v":4.2918454935622317E-3},1023,1023,"S.US.AMBR",826,"S.US.KOP"]
[null,null,"S.US.HRS",{"$f":"IFERROR(RTD(\"cqg.rtd\", ,\"ContractData\",C827, \"PerCentNetLastTrade\",, \"T\")/100,\"\")","v":-4.7764615972487575E-3},1767,1767,"S.US.HRS",827,"S.US.DGI"]
[null,null,"S.US.OGE",{"$f":"IFERROR(RTD(\"cqg.rtd\", ,\"ContractData\",C828, \"PerCentNetLastTrade\",, \"T\")/100,\"\")","v":-7.1295722256664593E-3},1944,1944,"S.US.OGE",828,"S.US.BEL"]
[null,null,"S.US.ROK",{"$f":"IFERROR(RTD(\"cqg.rtd\", ,\"ContractData\",C829, \"PerCentNetLastTrade\",, \"T\")/100,\"\")","v":9.7456981879092425E-3},718,718,"S.US.ROK",829,"S.US.ATU"]
[null,null,"S.US.STAY",{"$f":"IFERROR(RTD(\"cqg.rtd\", ,\"ContractData\",C830, \"PerCentNetLastTrade\",, \"T\")/100,\"\")","v":-3.8461538461538464E-3},1694,1694,"S.US.STAY",830,"S.US.EVF"]
[null,null,"S.US.SAP",{"$f":"IFERROR(RTD(\"cqg.rtd\", ,\"ContractData\",C831, \"PerCentNetLastTrade\",, \"T\")/100,\"\")","v":-7.6904874585896829E-3},1977,1977,"S.US.SAP",831,"S.US.NNI"]
[null,null,"S.US.RY",{"$f":"IFERROR(RTD(\"cqg.rtd\", ,\"ContractData\",C832, \"PerCentNetLastTrade\",, \"T\")/100,\"\")","v":-2.2073079791200597E-2},2397,2397,"S.US.RY",832,"S.US.GSH"]
[null,null,"S.US.RMD",{"$f":"IFERROR(RTD(\"cqg.rtd\", ,\"ContractData\",C833, \"PerCentNetLastTrade\",, \"T\")/100,\"\")","v":-5.1521494123329577E-3},1795,{"$f":"IFERROR(E833,\"\")","v":1795},{"$f":"C833","v":"S.US.RMD"},833,{"$f":"IFERROR(VLOOKUP(H833,$F$1:$G$2522,2,FALSE),\"\")","v":"S.US.FDX"}]
[null,null,"S.US.LEG",{"$f":"IFERROR(RTD(\"cqg.rtd\", ,\"ContractData\",C834, \"PerCentNetLastTrade\",, \"T\")/100,\"\")","v":-6.5884290714432782E-3},1915,1915,"S.US.LEG",{"$f":"H833+1","v":834},"S.US.NX"]
[null,null,"S.US.AEL",{"$f":"IFERROR(RTD(\"cqg.rtd\", ,\"ContractData\",C835, \"PerCentNetLastTrade\",, \"T\")/100,\"\")","v":1.6288252714708785E-2},500,500,"S.US.AEL",835,"S.US.FNFV"]
[null,null,"S.US.BRO",{"$f":"IFERROR(RTD(\"cqg.rtd\", ,\"ContractData\",C836, \"PerCentNetLastTrade\",, \"T\")/100,\"\")","v":1.0942956926658906E-2},661,661,"S.US.BRO",836,"S.US.BT"]
[null,null,"S.US.BFB",{"$f":"IFERROR(RTD(\"cqg.rtd\", ,\"ContractData\",C837, \"PerCentNetLastTrade\",, \"T\")/100,\"\")","v":-1.5981248668229277E-2},2290,2290,"S.US.BFB",837,"S.US.IHC"]
[null,null,"S.US.HR",{"$f":"IFERROR(RTD(\"cqg.rtd\", ,\"ContractData\",C838, \"PerCentNetLastTrade\",, \"T\")/100,\"\")","v":-1.6387959866220735E-2},2300,2300,"S.US.HR",838,"S.US.F"]
[null,null,"S.US.IMAX",{"$f":"IFERROR(RTD(\"cqg.rtd\", ,\"ContractData\",C839, \"PerCentNetLastTrade\",, \"T\")/100,\"\")","v":-1.1093502377179081E-2},2127,2127,"S.US.IMAX",839,"S.US.S"]
[null,null,"S.US.NUS",{"$f":"IFERROR(RTD(\"cqg.rtd\", ,\"ContractData\",C840, \"PerCentNetLastTrade\",, \"T\")/100,\"\")","v":-9.7014925373134324E-3},2070,2070,"S.US.NUS",840,"S.US.RTEC"]
[null,null,"S.US.ZOES",{"$f":"IFERROR(RTD(\"cqg.rtd\", ,\"ContractData\",C841, \"PerCentNetLastTrade\",, \"T\")/100,\"\")","v":-1.3263665594855305E-2},2210,2210,"S.US.ZOES",841,"S.US.HIG"]
[null,null,"S.US.CE",{"$f":"IFERROR(RTD(\"cqg.rtd\", ,\"ContractData\",C842, \"PerCentNetLastTrade\",, \"T\")/100,\"\")","v":3.3048211508553658E-2},256,256,"S.US.CE",842,"S.US.SWC"]
[null,null,"S.US.HRC",{"$f":"IFERROR(RTD(\"cqg.rtd\", ,\"ContractData\",C843, \"PerCentNetLastTrade\",, \"T\")/100,\"\")","v":-6.3009636767976272E-3},1892,1892,"S.US.HRC",843,"S.US.DLX"]
[null,null,"S.US.DEO",{"$f":"IFERROR(RTD(\"cqg.rtd\", ,\"ContractData\",C844, \"PerCentNetLastTrade\",, \"T\")/100,\"\")","v":-3.3303947497306296E-3},1651,1651,"S.US.DEO",844,"S.US.AF"]
[null,null,"S.US.FET",{"$f":"IFERROR(RTD(\"cqg.rtd\", ,\"ContractData\",C845, \"PerCentNetLastTrade\",, \"T\")/100,\"\")","v":0.15445026178010471},18,18,"S.US.FET",845,"S.US.ALJ"]
[null,null,"S.US.MHK",{"$f":"IFERROR(RTD(\"cqg.rtd\", ,\"ContractData\",C846, \"PerCentNetLastTrade\",, \"T\")/100,\"\")","v":-5.2473763118440772E-3},1808,1808,"S.US.MHK",846,"S.US.CSS"]
[null,null,"S.US.MAC",{"$f":"IFERROR(RTD(\"cqg.rtd\", ,\"ContractData\",C847, \"PerCentNetLastTrade\",, \"T\")/100,\"\")","v":-7.0860448300795378E-3},1941,1941,"S.US.MAC",847,"S.US.TDS"]
[null,null,"S.US.WTW",{"$f":"IFERROR(RTD(\"cqg.rtd\", ,\"ContractData\",C848, \"PerCentNetLastTrade\",, \"T\")/100,\"\")","v":-1.8099547511312219E-2},2332,2332,"S.US.WTW",848,"S.US.MSM"]
[null,null,"S.US.SIX",{"$f":"IFERROR(RTD(\"cqg.rtd\", ,\"ContractData\",C849, \"PerCentNetLastTrade\",, \"T\")/100,\"\")","v":1.7397355601948502E-3},1210,1210,"S.US.SIX",849,"S.US.EBF"]
[null,null,"S.US.SSW",{"$f":"IFERROR(RTD(\"cqg.rtd\", ,\"ContractData\",C850, \"PerCentNetLastTrade\",, \"T\")/100,\"\")","v":1.2114537444933921E-2},621,621,"S.US.SSW",850,"S.US.MLP"]
[null,null,"S.US.RJF",{"$f":"IFERROR(RTD(\"cqg.rtd\", ,\"ContractData\",C851, \"PerCentNetLastTrade\",, \"T\")/100,\"\")","v":1.1392405063291139E-2},650,650,"S.US.RJF",851,"S.US.LGF"]
[null,null,"S.US.G",{"$f":"IFERROR(RTD(\"cqg.rtd\", ,\"ContractData\",C852, \"PerCentNetLastTrade\",, \"T\")/100,\"\")","v":-5.7827344072697226E-3},1846,1846,"S.US.G",852,"S.US.MAN"]
[null,null,"S.US.ALLE",{"$f":"IFERROR(RTD(\"cqg.rtd\", ,\"ContractData\",C853, \"PerCentNetLastTrade\",, \"T\")/100,\"\")","v":-3.2602252519264969E-3},1647,1647,"S.US.ALLE",853,"S.US.LL"]
[null,null,"S.US.ARI",{"$f":"IFERROR(RTD(\"cqg.rtd\", ,\"ContractData\",C854, \"PerCentNetLastTrade\",, \"T\")/100,\"\")","v":-1.5472779369627508E-2},2277,2277,"S.US.ARI",854,"S.US.WAB"]
[null,null,"S.US.FMX",{"$f":"IFERROR(RTD(\"cqg.rtd\", ,\"ContractData\",C855, \"PerCentNetLastTrade\",, \"T\")/100,\"\")","v":-1.1376564277588168E-2},2137,2137,"S.US.FMX",855,"S.US.ESE"]
[null,null,"S.US.TRCO",{"$f":"IFERROR(RTD(\"cqg.rtd\", ,\"ContractData\",C856, \"PerCentNetLastTrade\",, \"T\")/100,\"\")","v":1.7514124293785311E-2},459,459,"S.US.TRCO",856,"S.US.RNG"]
[null,null,"S.US.DK",{"$f":"IFERROR(RTD(\"cqg.rtd\", ,\"ContractData\",C857, \"PerCentNetLastTrade\",, \"T\")/100,\"\")","v":5.1228437009932043E-2},149,149,"S.US.DK",857,"S.US.SHG"]
[null,null,"S.US.TRI",{"$f":"IFERROR(RTD(\"cqg.rtd\", ,\"ContractData\",C858, \"PerCentNetLastTrade\",, \"T\")/100,\"\")","v":2.7688047992616522E-3},1130,1130,"S.US.TRI",858,"S.US.USNA"]
[null,null,"S.US.AVB",{"$f":"IFERROR(RTD(\"cqg.rtd\", ,\"ContractData\",C859, \"PerCentNetLastTrade\",, \"T\")/100,\"\")","v":-2.002913328477786E-3},1537,1537,"S.US.AVB",859,"S.US.NSM"]
[null,null,"S.US.JONE",{"$f":"IFERROR(RTD(\"cqg.rtd\", ,\"ContractData\",C860, \"PerCentNetLastTrade\",, \"T\")/100,\"\")","v":0.2157894736842105},2,2,"S.US.JONE",860,"S.US.GPS"]
[null,null,"S.US.THO",{"$f":"IFERROR(RTD(\"cqg.rtd\", ,\"ContractData\",C861, \"PerCentNetLastTrade\",, \"T\")/100,\"\")","v":-7.8554595443833461E-3},1979,1979,"S.US.THO",861,"S.US.CNC"]
[null,null,"S.US.SYT",{"$f":"IFERROR(RTD(\"cqg.rtd\", ,\"ContractData\",C862, \"PerCentNetLastTrade\",, \"T\")/100,\"\")","v":4.099444591377943E-3},1038,1038,"S.US.SYT",862,"S.US.SRT"]
[null,null,"S.US.ALJ",{"$f":"IFERROR(RTD(\"cqg.rtd\", ,\"ContractData\",C863, \"PerCentNetLastTrade\",, \"T\")/100,\"\")","v":7.3684210526315788E-3},845,845,"S.US.ALJ",863,"S.US.MLM"]
[null,null,"S.US.PSTG",{"$f":"IFERROR(RTD(\"cqg.rtd\", ,\"ContractData\",C864, \"PerCentNetLastTrade\",, \"T\")/100,\"\")","v":-9.1164095371669002E-3},2046,2046,"S.US.PSTG",864,"S.US.IEX"]
[null,null,"S.US.SFL",{"$f":"IFERROR(RTD(\"cqg.rtd\", ,\"ContractData\",C865, \"PerCentNetLastTrade\",, \"T\")/100,\"\")","v":2.1126760563380281E-2},383,383,"S.US.SFL",865,"S.US.MNK"]
[null,null,"S.US.TRU",{"$f":"IFERROR(RTD(\"cqg.rtd\", ,\"ContractData\",C866, \"PerCentNetLastTrade\",, \"T\")/100,\"\")","v":-6.5402223675604977E-3},1914,1914,"S.US.TRU",866,"S.US.EDF"]
[null,null,"S.US.AJG",{"$f":"IFERROR(RTD(\"cqg.rtd\", ,\"ContractData\",C867, \"PerCentNetLastTrade\",, \"T\")/100,\"\")","v":-1.2487804878048781E-2},2178,2178,"S.US.AJG",867,"S.US.UAM"]
[null,null,"S.US.JPS",{"$f":"IFERROR(RTD(\"cqg.rtd\", ,\"ContractData\",C868, \"PerCentNetLastTrade\",, \"T\")/100,\"\")","v":-1.0309278350515462E-2},2091,2091,"S.US.JPS",868,"S.US.CSV"]
[null,null,"S.US.HDB",{"$f":"IFERROR(RTD(\"cqg.rtd\", ,\"ContractData\",C869, \"PerCentNetLastTrade\",, \"T\")/100,\"\")","v":1.8173345759552657E-2},446,446,"S.US.HDB",869,"S.US.BSAC"]
[null,null,"S.US.SHAK",{"$f":"IFERROR(RTD(\"cqg.rtd\", ,\"ContractData\",C870, \"PerCentNetLastTrade\",, \"T\")/100,\"\")","v":-2.9907558455682438E-3},1626,1626,"S.US.SHAK",870,"S.US.BDC"]
[null,null,"S.US.UHS",{"$f":"IFERROR(RTD(\"cqg.rtd\", ,\"ContractData\",C871, \"PerCentNetLastTrade\",, \"T\")/100,\"\")","v":-4.4650105536613088E-3},1746,1746,"S.US.UHS",871,"S.US.ESL"]
[null,null,"S.US.MEG",{"$f":"IFERROR(RTD(\"cqg.rtd\", ,\"ContractData\",C872, \"PerCentNetLastTrade\",, \"T\")/100,\"\")","v":6.5466448445171853E-3},888,888,"S.US.MEG",872,"S.US.TWLO"]
[null,null,"S.US.BIG",{"$f":"IFERROR(RTD(\"cqg.rtd\", ,\"ContractData\",C873, \"PerCentNetLastTrade\",, \"T\")/100,\"\")","v":-6.371886464568449E-3},1900,1900,"S.US.BIG",873,"S.US.CMN"]
[null,null,"S.US.CFX",{"$f":"IFERROR(RTD(\"cqg.rtd\", ,\"ContractData\",C874, \"PerCentNetLastTrade\",, \"T\")/100,\"\")","v":3.7798777098387991E-2},211,211,"S.US.CFX",874,"S.US.CPS"]
[null,null,"S.US.AGCO",{"$f":"IFERROR(RTD(\"cqg.rtd\", ,\"ContractData\",C875, \"PerCentNetLastTrade\",, \"T\")/100,\"\")","v":6.44468313641246E-3},894,894,"S.US.AGCO",875,"S.US.BCH"]
[null,null,"S.US.EURN",{"$f":"IFERROR(RTD(\"cqg.rtd\", ,\"ContractData\",C876, \"PerCentNetLastTrade\",, \"T\")/100,\"\")","v":-1.3245033112582783E-2},2209,2209,"S.US.EURN",876,"S.US.IRL"]
[null,null,"S.US.PNW",{"$f":"IFERROR(RTD(\"cqg.rtd\", ,\"ContractData\",C877, \"PerCentNetLastTrade\",, \"T\")/100,\"\")","v":-2.1909233176838811E-2},2392,2392,"S.US.PNW",877,"S.US.DSW"]
[null,null,"S.US.SJM",{"$f":"IFERROR(RTD(\"cqg.rtd\", ,\"ContractData\",C878, \"PerCentNetLastTrade\",, \"T\")/100,\"\")","v":-4.4000942877347373E-3},1739,1739,"S.US.SJM",878,"S.US.RHP"]
[null,null,"S.US.ANET",{"$f":"IFERROR(RTD(\"cqg.rtd\", ,\"ContractData\",C879, \"PerCentNetLastTrade\",, \"T\")/100,\"\")","v":-2.5122998011095992E-3},1583,1583,"S.US.ANET",879,"S.US.BRKA"]
[null,null,"S.US.DEI",{"$f":"IFERROR(RTD(\"cqg.rtd\", ,\"ContractData\",C880, \"PerCentNetLastTrade\",, \"T\")/100,\"\")","v":-2.9546065001343001E-3},1620,1620,"S.US.DEI",880,"S.US.AGO"]
[null,null,"S.US.WHR",{"$f":"IFERROR(RTD(\"cqg.rtd\", ,\"ContractData\",C881, \"PerCentNetLastTrade\",, \"T\")/100,\"\")","v":-1.3265680401027021E-2},2211,2211,"S.US.WHR",881,"S.US.VSH"]
[null,null,"S.US.WCG",{"$f":"IFERROR(RTD(\"cqg.rtd\", ,\"ContractData\",C882, \"PerCentNetLastTrade\",, \"T\")/100,\"\")","v":-2.2547094334133392E-3},1559,1559,"S.US.WCG",882,"S.US.MBLY"]
[null,null,"S.US.RL",{"$f":"IFERROR(RTD(\"cqg.rtd\", ,\"ContractData\",C883, \"PerCentNetLastTrade\",, \"T\")/100,\"\")","v":-1.4363318294816317E-2},2250,2250,"S.US.RL",883,"S.US.DBD"]
[null,null,"S.US.UAM",{"$f":"IFERROR(RTD(\"cqg.rtd\", ,\"ContractData\",C884, \"PerCentNetLastTrade\",, \"T\")/100,\"\")","v":6.9860279441117772E-3},867,867,"S.US.UAM",884,"S.US.WSR"]
[null,null,"S.US.ENIA",{"$f":"IFERROR(RTD(\"cqg.rtd\", ,\"ContractData\",C885, \"PerCentNetLastTrade\",, \"T\")/100,\"\")","v":-8.8050314465408803E-3},2031,2031,"S.US.ENIA",885,"S.US.FII"]
[null,null,"S.US.BKU",{"$f":"IFERROR(RTD(\"cqg.rtd\", ,\"ContractData\",C886, \"PerCentNetLastTrade\",, \"T\")/100,\"\")","v":1.6566695229934304E-2},487,487,"S.US.BKU",886,"S.US.BCS"]
[null,null,"S.US.ENR",{"$f":"IFERROR(RTD(\"cqg.rtd\", ,\"ContractData\",C887, \"PerCentNetLastTrade\",, \"T\")/100,\"\")","v":2.2722108611679167E-3},1170,1170,"S.US.ENR",887,"S.US.KEF"]
[null,null,"S.US.AVT",{"$f":"IFERROR(RTD(\"cqg.rtd\", ,\"ContractData\",C888, \"PerCentNetLastTrade\",, \"T\")/100,\"\")","v":-4.3393360815795179E-4},1405,1405,"S.US.AVT",888,"S.US.MEG"]
[null,null,"S.US.REN",{"$f":"IFERROR(RTD(\"cqg.rtd\", ,\"ContractData\",C889, \"PerCentNetLastTrade\",, \"T\")/100,\"\")","v":9.4657583363212616E-2},69,69,"S.US.REN",889,"S.US.AFT"]
[null,null,"S.US.USFD",{"$f":"IFERROR(RTD(\"cqg.rtd\", ,\"ContractData\",C890, \"PerCentNetLastTrade\",, \"T\")/100,\"\")","v":-9.871244635193132E-3},2081,2081,"S.US.USFD",890,"S.US.TDF"]
[null,null,"S.US.FR",{"$f":"IFERROR(RTD(\"cqg.rtd\", ,\"ContractData\",C891, \"PerCentNetLastTrade\",, \"T\")/100,\"\")","v":-1.4530551415797318E-2},2254,2254,"S.US.FR",891,"S.US.TER"]
[null,null,"S.US.CVEO",{"$f":"IFERROR(RTD(\"cqg.rtd\", ,\"ContractData\",C892, \"PerCentNetLastTrade\",, \"T\")/100,\"\")","v":7.3033707865168537E-2},106,106,"S.US.CVEO",892,"S.US.TKR"]
[null,null,"S.US.BNS",{"$f":"IFERROR(RTD(\"cqg.rtd\", ,\"ContractData\",C893, \"PerCentNetLastTrade\",, \"T\")/100,\"\")","v":-1.0932944606413995E-3},1453,1453,"S.US.BNS",893,"S.US.SRLP"]
[null,null,"S.US.STON",{"$f":"IFERROR(RTD(\"cqg.rtd\", ,\"ContractData\",C894, \"PerCentNetLastTrade\",, \"T\")/100,\"\")","v":-9.0270812437311925E-3},2039,2039,"S.US.STON",894,"S.US.AGCO"]
[null,null,"S.US.MGP",{"$f":"IFERROR(RTD(\"cqg.rtd\", ,\"ContractData\",C895, \"PerCentNetLastTrade\",, \"T\")/100,\"\")","v":-2.5917065390749602E-2},2428,2428,"S.US.MGP",895,"S.US.PVH"]
[null,null,"S.US.CHGG",{"$f":"IFERROR(RTD(\"cqg.rtd\", ,\"ContractData\",C896, \"PerCentNetLastTrade\",, \"T\")/100,\"\")","v":1.2091898428053206E-3},1245,1245,"S.US.CHGG",896,"S.US.PAYC"]
[null,null,"S.US.BMS",{"$f":"IFERROR(RTD(\"cqg.rtd\", ,\"ContractData\",C897, \"PerCentNetLastTrade\",, \"T\")/100,\"\")","v":-5.8788947677836569E-3},1858,{"$f":"IFERROR(E897,\"\")","v":1858},{"$f":"C897","v":"S.US.BMS"},897,{"$f":"IFERROR(VLOOKUP(H897,$F$1:$G$2522,2,FALSE),\"\")","v":"S.US.PNTA"}]
[null,null,"S.US.IVR",{"$f":"IFERROR(RTD(\"cqg.rtd\", ,\"ContractData\",C898, \"PerCentNetLastTrade\",, \"T\")/100,\"\")","v":-8.5922009253139447E-3},2021,2021,"S.US.IVR",{"$f":"H897+1","v":898},"S.US.HVT"]
[null,null,"S.US.ESNT",{"$f":"IFERROR(RTD(\"cqg.rtd\", ,\"ContractData\",C899, \"PerCentNetLastTrade\",, \"T\")/100,\"\")","v":1.209941137998692E-2},623,623,"S.US.ESNT",899,"S.US.HST"]
[null,null,"S.US.TGI",{"$f":"IFERROR(RTD(\"cqg.rtd\", ,\"ContractData\",C900, \"PerCentNetLastTrade\",, \"T\")/100,\"\")","v":2.0220588235294115E-2},396,396,"S.US.TGI",900,"S.US.NYCB"]
[null,null,"S.US.ALR",{"$f":"IFERROR(RTD(\"cqg.rtd\", ,\"ContractData\",C901, \"PerCentNetLastTrade\",, \"T\")/100,\"\")","v":-2.0563594821020565E-2},2378,2378,"S.US.ALR",901,"S.US.KN"]
[null,null,"S.US.TLRD",{"$f":"IFERROR(RTD(\"cqg.rtd\", ,\"ContractData\",C902, \"PerCentNetLastTrade\",, \"T\")/100,\"\")","v":1.2385568120624664E-2},612,612,"S.US.TLRD",902,"S.US.SXI"]
[null,null,"S.US.PKG",{"$f":"IFERROR(RTD(\"cqg.rtd\", ,\"ContractData\",C903, \"PerCentNetLastTrade\",, \"T\")/100,\"\")","v":-1.0509107893507707E-3},1449,1449,"S.US.PKG",903,"S.US.TREX"]
[null,null,"S.US.LEA",{"$f":"IFERROR(RTD(\"cqg.rtd\", ,\"ContractData\",C904, \"PerCentNetLastTrade\",, \"T\")/100,\"\")","v":9.4486959237857267E-3},734,734,"S.US.LEA",904,"S.US.VMC"]
[null,null,"S.US.KRC",{"$f":"IFERROR(RTD(\"cqg.rtd\", ,\"ContractData\",C905, \"PerCentNetLastTrade\",, \"T\")/100,\"\")","v":-8.5539714867617113E-3},2019,2019,"S.US.KRC",905,"S.US.PMC"]
[null,null,"S.US.SQM",{"$f":"IFERROR(RTD(\"cqg.rtd\", ,\"ContractData\",C906, \"PerCentNetLastTrade\",, \"T\")/100,\"\")","v":1.2372634643377001E-2},613,613,"S.US.SQM",906,"S.US.ARDC"]
[null,null,"S.US.R",{"$f":"IFERROR(RTD(\"cqg.rtd\", ,\"ContractData\",C907, \"PerCentNetLastTrade\",, \"T\")/100,\"\")","v":1.298205421916762E-2},589,589,"S.US.R",907,"S.US.CWH"]
[null,null,"S.US.PRI",{"$f":"IFERROR(RTD(\"cqg.rtd\", ,\"ContractData\",C908, \"PerCentNetLastTrade\",, \"T\")/100,\"\")","v":7.7464788732394367E-3},825,825,"S.US.PRI",908,"S.US.EFT"]
[null,null,"S.US.WWW",{"$f":"IFERROR(RTD(\"cqg.rtd\", ,\"ContractData\",C909, \"PerCentNetLastTrade\",, \"T\")/100,\"\")","v":3.8743004735256135E-3},1061,1061,"S.US.WWW",909,"S.US.TIME"]
[null,null,"S.US.ACCO",{"$f":"IFERROR(RTD(\"cqg.rtd\", ,\"ContractData\",C910, \"PerCentNetLastTrade\",, \"T\")/100,\"\")","v":3.9215686274509803E-3},1056,1056,"S.US.ACCO",910,"S.US.UVE"]
[null,null,"S.US.BKS",{"$f":"IFERROR(RTD(\"cqg.rtd\", ,\"ContractData\",C911, \"PerCentNetLastTrade\",, \"T\")/100,\"\")","v":1.9920318725099601E-2},405,405,"S.US.BKS",911,"S.US.QUAD"]
[null,null,"S.US.ATHM",{"$f":"IFERROR(RTD(\"cqg.rtd\", ,\"ContractData\",C912, \"PerCentNetLastTrade\",, \"T\")/100,\"\")","v":-1.0368251698248123E-2},2097,2097,"S.US.ATHM",912,"S.US.L"]
[null,null,"S.US.ROP",{"$f":"IFERROR(RTD(\"cqg.rtd\", ,\"ContractData\",C913, \"PerCentNetLastTrade\",, \"T\")/100,\"\")","v":4.3622308117062395E-3},1020,1020,"S.US.ROP",913,"S.US.PHI"]
[null,null,"S.US.QTM",{"$f":"IFERROR(RTD(\"cqg.rtd\", ,\"ContractData\",C914, \"PerCentNetLastTrade\",, \"T\")/100,\"\")","v":1.1235955056179777E-2},657,657,"S.US.QTM",914,"S.US.BRKB"]
[null,null,"S.US.EVDY",{"$f":"IFERROR(RTD(\"cqg.rtd\", ,\"ContractData\",C915, \"PerCentNetLastTrade\",, \"T\")/100,\"\")","v":1.9138755980861245E-3},1195,1195,"S.US.EVDY",915,"S.US.RVT"]
[null,null,"S.US.FSIC",{"$f":"IFERROR(RTD(\"cqg.rtd\", ,\"ContractData\",C916, \"PerCentNetLastTrade\",, \"T\")/100,\"\")","v":-2.9268292682926829E-3},1616,1616,"S.US.FSIC",916,"S.US.GHM"]
[null,null,"S.US.AVY",{"$f":"IFERROR(RTD(\"cqg.rtd\", ,\"ContractData\",C917, \"PerCentNetLastTrade\",, \"T\")/100,\"\")","v":-4.9348869088416724E-3},1777,1777,"S.US.AVY",917,"S.US.NFG"]
[null,null,"S.US.CRR",{"$f":"IFERROR(RTD(\"cqg.rtd\", ,\"ContractData\",C918, \"PerCentNetLastTrade\",, \"T\")/100,\"\")","v":0.17551622418879056},7,7,"S.US.CRR",918,"S.US.NM"]
[null,null,"S.US.VAR",{"$f":"IFERROR(RTD(\"cqg.rtd\", ,\"ContractData\",C919, \"PerCentNetLastTrade\",, \"T\")/100,\"\")","v":-2.0796847635726798E-2},2379,2379,"S.US.VAR",919,"S.US.GSL"]
[null,null,"S.US.E",{"$f":"IFERROR(RTD(\"cqg.rtd\", ,\"ContractData\",C920, \"PerCentNetLastTrade\",, \"T\")/100,\"\")","v":4.3898809523809527E-2},179,179,"S.US.E",920,"S.US.CVO"]
[null,null,"S.US.COT",{"$f":"IFERROR(RTD(\"cqg.rtd\", ,\"ContractData\",C921, \"PerCentNetLastTrade\",, \"T\")/100,\"\")","v":-1.2679628064243449E-2},2188,2188,"S.US.COT",921,"S.US.USA"]
[null,null,"S.US.WTI",{"$f":"IFERROR(RTD(\"cqg.rtd\", ,\"ContractData\",C922, \"PerCentNetLastTrade\",, \"T\")/100,\"\")","v":0.11764705882352942},46,46,"S.US.WTI",922,"S.US.AMN"]
[null,null,"S.US.CMO",{"$f":"IFERROR(RTD(\"cqg.rtd\", ,\"ContractData\",C923, \"PerCentNetLastTrade\",, \"T\")/100,\"\")","v":-1.2357414448669201E-2},2173,2173,"S.US.CMO",923,"S.US.TPRE"]
[null,null,"S.US.AMN",{"$f":"IFERROR(RTD(\"cqg.rtd\", ,\"ContractData\",C924, \"PerCentNetLastTrade\",, \"T\")/100,\"\")","v":5.9084194977843431E-3},922,922,"S.US.AMN",924,"S.US.ADM"]
[null,null,"S.US.CAB",{"$f":"IFERROR(RTD(\"cqg.rtd\", ,\"ContractData\",C925, \"PerCentNetLastTrade\",, \"T\")/100,\"\")","v":-1.1192836584585865E-3},1524,1524,"S.US.CAB",925,"S.US.NUE"]
[null,null,"S.US.OMI",{"$f":"IFERROR(RTD(\"cqg.rtd\", ,\"ContractData\",C926, \"PerCentNetLastTrade\",, \"T\")/100,\"\")","v":0},1335,1335,"S.US.OMI",926,"S.US.BHLB"]
[null,null,"S.US.CCK",{"$f":"IFERROR(RTD(\"cqg.rtd\", ,\"ContractData\",C927, \"PerCentNetLastTrade\",, \"T\")/100,\"\")","v":5.0323508267433505E-3},974,974,"S.US.CCK",927,"S.US.USM"]
[null,null,"S.US.IFF",{"$f":"IFERROR(RTD(\"cqg.rtd\", ,\"ContractData\",C928, \"PerCentNetLastTrade\",, \"T\")/100,\"\")","v":-4.3711340206185568E-3},1737,1737,"S.US.IFF",928,"S.US.MBI"]
[null,null,"S.US.BGS",{"$f":"IFERROR(RTD(\"cqg.rtd\", ,\"ContractData\",C929, \"PerCentNetLastTrade\",, \"T\")/100,\"\")","v":-5.8072009291521487E-3},1848,1848,"S.US.BGS",929,"S.US.MOGA"]
[null,null,"S.US.LH",{"$f":"IFERROR(RTD(\"cqg.rtd\", ,\"ContractData\",C930, \"PerCentNetLastTrade\",, \"T\")/100,\"\")","v":-7.2032571249608527E-3},1948,1948,"S.US.LH",930,"S.US.FTV"]
[null,null,"S.US.CLGX",{"$f":"IFERROR(RTD(\"cqg.rtd\", ,\"ContractData\",C931, \"PerCentNetLastTrade\",, \"T\")/100,\"\")","v":-2.1933180311145117E-2},2393,2393,"S.US.CLGX",931,"S.US.BH"]
[null,null,"S.US.WAL",{"$f":"IFERROR(RTD(\"cqg.rtd\", ,\"ContractData\",C932, \"PerCentNetLastTrade\",, \"T\")/100,\"\")","v":1.8806035425322543E-2},429,429,"S.US.WAL",932,"S.US.THR"]
[null,null,"S.US.KT",{"$f":"IFERROR(RTD(\"cqg.rtd\", ,\"ContractData\",C933, \"PerCentNetLastTrade\",, \"T\")/100,\"\")","v":-8.44475721323012E-3},2016,2016,"S.US.KT",933,"S.US.JOF"]
[null,null,"S.US.GPC",{"$f":"IFERROR(RTD(\"cqg.rtd\", ,\"ContractData\",C934, \"PerCentNetLastTrade\",, \"T\")/100,\"\")","v":4.4536509580528219E-3},1014,1014,"S.US.GPC",934,"S.US.CBK"]
[null,null,"S.US.ITT",{"$f":"IFERROR(RTD(\"cqg.rtd\", ,\"ContractData\",C935, \"PerCentNetLastTrade\",, \"T\")/100,\"\")","v":2.914624709827186E-2},288,288,"S.US.ITT",935,"S.US.IVH"]
[null,null,"S.US.NYT",{"$f":"IFERROR(RTD(\"cqg.rtd\", ,\"ContractData\",C936, \"PerCentNetLastTrade\",, \"T\")/100,\"\")","v":1.556420233463035E-2},510,510,"S.US.NYT",936,"S.US.GME"]
[null,null,"S.US.CRK",{"$f":"IFERROR(RTD(\"cqg.rtd\", ,\"ContractData\",C937, \"PerCentNetLastTrade\",, \"T\")/100,\"\")","v":6.1728395061728392E-2},120,120,"S.US.CRK",937,"S.US.BGG"]
[null,null,"S.US.DFT",{"$f":"IFERROR(RTD(\"cqg.rtd\", ,\"ContractData\",C938, \"PerCentNetLastTrade\",, \"T\")/100,\"\")","v":-2.0606347702510658E-2},2380,2380,"S.US.DFT",938,"S.US.WSM"]
[null,null,"S.US.FTK",{"$f":"IFERROR(RTD(\"cqg.rtd\", ,\"ContractData\",C939, \"PerCentNetLastTrade\",, \"T\")/100,\"\")","v":0.10687022900763359},61,61,"S.US.FTK",939,"S.US.GPX"]
[null,null,"S.US.LXU",{"$f":"IFERROR(RTD(\"cqg.rtd\", ,\"ContractData\",C940, \"PerCentNetLastTrade\",, \"T\")/100,\"\")","v":1.6971279373368148E-2},476,476,"S.US.LXU",940,"S.US.SRI"]
[null,null,"S.US.PHK",{"$f":"IFERROR(RTD(\"cqg.rtd\", ,\"ContractData\",C941, \"PerCentNetLastTrade\",, \"T\")/100,\"\")","v":0},1336,1336,"S.US.PHK",941,"S.US.MFG"]
[null,null,"S.US.NAV",{"$f":"IFERROR(RTD(\"cqg.rtd\", ,\"ContractData\",C942, \"PerCentNetLastTrade\",, \"T\")/100,\"\")","v":2.7777777777777776E-2},301,301,"S.US.NAV",942,"S.US.CAJ"]
[null,null,"S.US.FIG",{"$f":"IFERROR(RTD(\"cqg.rtd\", ,\"ContractData\",C943, \"PerCentNetLastTrade\",, \"T\")/100,\"\")","v":1.9880715705765408E-2},407,407,"S.US.FIG",943,"S.US.EFR"]
[null,null,"S.US.FAF",{"$f":"IFERROR(RTD(\"cqg.rtd\", ,\"ContractData\",C944, \"PerCentNetLastTrade\",, \"T\")/100,\"\")","v":-9.5935369856096943E-3},2060,2060,"S.US.FAF",944,"S.US.TDOC"]
[null,null,"S.US.PDM",{"$f":"IFERROR(RTD(\"cqg.rtd\", ,\"ContractData\",C945, \"PerCentNetLastTrade\",, \"T\")/100,\"\")","v":-9.6105209914011131E-3},2062,2062,"S.US.PDM",945,"S.US.EFF"]
[null,null,"S.US.MAN",{"$f":"IFERROR(RTD(\"cqg.rtd\", ,\"ContractData\",C946, \"PerCentNetLastTrade\",, \"T\")/100,\"\")","v":7.2838345864661659E-3},852,852,"S.US.MAN",946,"S.US.BA"]
[null,null,"S.US.CTLT",{"$f":"IFERROR(RTD(\"cqg.rtd\", ,\"ContractData\",C947, \"PerCentNetLastTrade\",, \"T\")/100,\"\")","v":8.2953131480713385E-3},794,794,"S.US.CTLT",947,"S.US.CB"]
[null,null,"S.US.MD",{"$f":"IFERROR(RTD(\"cqg.rtd\", ,\"ContractData\",C948, \"PerCentNetLastTrade\",, \"T\")/100,\"\")","v":1.2119375852143615E-3},1244,1244,"S.US.MD",948,"S.US.TMK"]
[null,null,"S.US.EDR",{"$f":"IFERROR(RTD(\"cqg.rtd\", ,\"ContractData\",C949, \"PerCentNetLastTrade\",, \"T\")/100,\"\")","v":-5.8508044856167719E-3},1853,1853,"S.US.EDR",949,"S.US.MYOV"]
[null,null,"S.US.STAR",{"$f":"IFERROR(RTD(\"cqg.rtd\", ,\"ContractData\",C950, \"PerCentNetLastTrade\",, \"T\")/100,\"\")","v":-1.8253968253968255E-2},2335,2335,"S.US.STAR",950,"S.US.GHL"]
[null,null,"S.US.EVH",{"$f":"IFERROR(RTD(\"cqg.rtd\", ,\"ContractData\",C951, \"PerCentNetLastTrade\",, \"T\")/100,\"\")","v":-2.1220159151193636E-2},2386,2386,"S.US.EVH",951,"S.US.UNH"]
[null,null,"S.US.WAB",{"$f":"IFERROR(RTD(\"cqg.rtd\", ,\"ContractData\",C952, \"PerCentNetLastTrade\",, \"T\")/100,\"\")","v":7.2206439393939391E-3},854,854,"S.US.WAB",952,"S.US.JHI"]
[null,null,"S.US.UGP",{"$f":"IFERROR(RTD(\"cqg.rtd\", ,\"ContractData\",C953, \"PerCentNetLastTrade\",, \"T\")/100,\"\")","v":-4.9140049140049139E-3},1775,1775,"S.US.UGP",953,"S.US.ASPN"]
[null,null,"S.US.APO",{"$f":"IFERROR(RTD(\"cqg.rtd\", ,\"ContractData\",C954, \"PerCentNetLastTrade\",, \"T\")/100,\"\")","v":2.592016588906169E-3},1141,1141,"S.US.APO",954,"S.US.LC"]
[null,null,"S.US.SSI",{"$f":"IFERROR(RTD(\"cqg.rtd\", ,\"ContractData\",C955, \"PerCentNetLastTrade\",, \"T\")/100,\"\")","v":-1.7897091722595078E-2},2329,2329,"S.US.SSI",955,"S.US.GAB"]
[null,null,"S.US.SNN",{"$f":"IFERROR(RTD(\"cqg.rtd\", ,\"ContractData\",C956, \"PerCentNetLastTrade\",, \"T\")/100,\"\")","v":-1.7543859649122805E-3},1548,1548,"S.US.SNN",956,"S.US.SBH"]
[null,null,"S.US.VSTO",{"$f":"IFERROR(RTD(\"cqg.rtd\", ,\"ContractData\",C957, \"PerCentNetLastTrade\",, \"T\")/100,\"\")","v":-1.5159045725646123E-2},2270,2270,"S.US.VSTO",957,"S.US.MWA"]
[null,null,"S.US.BLK",{"$f":"IFERROR(RTD(\"cqg.rtd\", ,\"ContractData\",C958, \"PerCentNetLastTrade\",, \"T\")/100,\"\")","v":3.5273368606701938E-3},1078,1078,"S.US.BLK",958,"S.US.AXP"]
[null,null,"S.US.SEMG",{"$f":"IFERROR(RTD(\"cqg.rtd\", ,\"ContractData\",C959, \"PerCentNetLastTrade\",, \"T\")/100,\"\")","v":9.3939393939393948E-2},71,71,"S.US.SEMG",959,"S.US.CHMT"]
[null,null,"S.US.HXL",{"$f":"IFERROR(RTD(\"cqg.rtd\", ,\"ContractData\",C960, \"PerCentNetLastTrade\",, \"T\")/100,\"\")","v":4.2668735453840183E-3},1025,1025,"S.US.HXL",960,"S.US.RDY"]
[null,null,"S.US.HSC",{"$f":"IFERROR(RTD(\"cqg.rtd\", ,\"ContractData\",C961, \"PerCentNetLastTrade\",, \"T\")/100,\"\")","v":3.065693430656934E-2},275,{"$f":"IFERROR(E961,\"\")","v":275},{"$f":"C961","v":"S.US.HSC"},961,{"$f":"IFERROR(VLOOKUP(H961,$F$1:$G$2522,2,FALSE),\"\")","v":"S.US.SC"}]
[null,null,"S.US.GIL",{"$f":"IFERROR(RTD(\"cqg.rtd\", ,\"ContractData\",C962, \"PerCentNetLastTrade\",, \"T\")/100,\"\")","v":1.8024513338139869E-3},1205,1205,"S.US.GIL",{"$f":"H961+1","v":962},"S.US.OSK"]
[null,null,"S.US.CSTM",{"$f":"IFERROR(RTD(\"cqg.rtd\", ,\"ContractData\",C963, \"PerCentNetLastTrade\",, \"T\")/100,\"\")","v":2.5000000000000001E-2},332,332,"S.US.CSTM",963,"S.US.DBL"]
[null,null,"S.US.EQC",{"$f":"IFERROR(RTD(\"cqg.rtd\", ,\"ContractData\",C964, \"PerCentNetLastTrade\",, \"T\")/100,\"\")","v":-3.4118048447628795E-3},1657,1657,"S.US.EQC",964,"S.US.MDLY"]
[null,null,"S.US.MPG",{"$f":"IFERROR(RTD(\"cqg.rtd\", ,\"ContractData\",C965, \"PerCentNetLastTrade\",, \"T\")/100,\"\")","v":2.4875621890547263E-3},1154,1154,"S.US.MPG",965,"S.US.WTS"]
[null,null,"S.US.SSP",{"$f":"IFERROR(RTD(\"cqg.rtd\", ,\"ContractData\",C966, \"PerCentNetLastTrade\",, \"T\")/100,\"\")","v":-1.1567379988432621E-3},1456,1456,"S.US.SSP",966,"S.US.RESI"]
[null,null,"S.US.UGI",{"$f":"IFERROR(RTD(\"cqg.rtd\", ,\"ContractData\",C967, \"PerCentNetLastTrade\",, \"T\")/100,\"\")","v":-1.0574018126888218E-2},2104,2104,"S.US.UGI",967,"S.US.LM"]
[null,null,"S.US.CRL",{"$f":"IFERROR(RTD(\"cqg.rtd\", ,\"ContractData\",C968, \"PerCentNetLastTrade\",, \"T\")/100,\"\")","v":8.8038010061486857E-3},765,765,"S.US.CRL",968,"S.US.APF"]
[null,null,"S.US.MAA",{"$f":"IFERROR(RTD(\"cqg.rtd\", ,\"ContractData\",C969, \"PerCentNetLastTrade\",, \"T\")/100,\"\")","v":-1.2045624133887645E-2},2161,2161,"S.US.MAA",969,"S.US.LHO"]
[null,null,"S.US.KEP",{"$f":"IFERROR(RTD(\"cqg.rtd\", ,\"ContractData\",C970, \"PerCentNetLastTrade\",, \"T\")/100,\"\")","v":-1.383399209486166E-2},2231,2231,"S.US.KEP",970,"S.US.TSM"]
[null,null,"S.US.PKI",{"$f":"IFERROR(RTD(\"cqg.rtd\", ,\"ContractData\",C971, \"PerCentNetLastTrade\",, \"T\")/100,\"\")","v":-4.6902481923001759E-3},1757,1757,"S.US.PKI",971,"S.US.SGU"]
[null,null,"S.US.CHL",{"$f":"IFERROR(RTD(\"cqg.rtd\", ,\"ContractData\",C972, \"PerCentNetLastTrade\",, \"T\")/100,\"\")","v":7.9204273346841041E-3},815,815,"S.US.CHL",972,"S.US.BRT"]
[null,null,"S.US.WCN",{"$f":"IFERROR(RTD(\"cqg.rtd\", ,\"ContractData\",C973, \"PerCentNetLastTrade\",, \"T\")/100,\"\")","v":-1.9493177387914229E-3},1528,1528,"S.US.WCN",973,"S.US.FOF"]
[null,null,"S.US.INGR",{"$f":"IFERROR(RTD(\"cqg.rtd\", ,\"ContractData\",C974, \"PerCentNetLastTrade\",, \"T\")/100,\"\")","v":-1.6552986191981367E-2},2304,2304,"S.US.INGR",974,"S.US.CCK"]
[null,null,"S.US.ARCH",{"$f":"IFERROR(RTD(\"cqg.rtd\", ,\"ContractData\",C975, \"PerCentNetLastTrade\",, \"T\")/100,\"\")","v":4.048529605696953E-2},200,200,"S.US.ARCH",975,"S.US.UAC"]
[null,null,"S.US.NOMD",{"$f":"IFERROR(RTD(\"cqg.rtd\", ,\"ContractData\",C976, \"PerCentNetLastTrade\",, \"T\")/100,\"\")","v":-0.05},2467,2467,"S.US.NOMD",976,"S.US.HOV"]
[null,null,"S.US.CVG",{"$f":"IFERROR(RTD(\"cqg.rtd\", ,\"ContractData\",C977, \"PerCentNetLastTrade\",, \"T\")/100,\"\")","v":-1.479514415781487E-2},2262,2262,"S.US.CVG",977,"S.US.SQNS"]
[null,null,"S.US.MIC",{"$f":"IFERROR(RTD(\"cqg.rtd\", ,\"ContractData\",C978, \"PerCentNetLastTrade\",, \"T\")/100,\"\")","v":-4.7665607430945976E-3},1765,1765,"S.US.MIC",978,"S.US.JAX"]
[null,null,"S.US.NGG",{"$f":"IFERROR(RTD(\"cqg.rtd\", ,\"ContractData\",C979, \"PerCentNetLastTrade\",, \"T\")/100,\"\")","v":-8.9147951311503507E-3},2035,2035,"S.US.NGG",979,"S.US.FN"]
[null,null,"S.US.FI",{"$f":"IFERROR(RTD(\"cqg.rtd\", ,\"ContractData\",C980, \"PerCentNetLastTrade\",, \"T\")/100,\"\")","v":6.5217391304347824E-2},117,117,"S.US.FI",980,"S.US.EVT"]
[null,null,"S.US.WIT",{"$f":"IFERROR(RTD(\"cqg.rtd\", ,\"ContractData\",C981, \"PerCentNetLastTrade\",, \"T\")/100,\"\")","v":1.1482254697286011E-2},644,644,"S.US.WIT",981,"S.US.TCS"]
[null,null,"S.US.RPT",{"$f":"IFERROR(RTD(\"cqg.rtd\", ,\"ContractData\",C982, \"PerCentNetLastTrade\",, \"T\")/100,\"\")","v":-1.2738853503184712E-2},2191,2191,"S.US.RPT",982,"S.US.SPE"]
[null,null,"S.US.ESRT",{"$f":"IFERROR(RTD(\"cqg.rtd\", ,\"ContractData\",C983, \"PerCentNetLastTrade\",, \"T\")/100,\"\")","v":-5.434782608695652E-3},1816,1816,"S.US.ESRT",983,"S.US.MCI"]
[null,null,"S.US.CNK",{"$f":"IFERROR(RTD(\"cqg.rtd\", ,\"ContractData\",C984, \"PerCentNetLastTrade\",, \"T\")/100,\"\")","v":-1.6585365853658537E-2},2305,2305,"S.US.CNK",984,"S.US.CBT"]
[null,null,"S.US.DECK",{"$f":"IFERROR(RTD(\"cqg.rtd\", ,\"ContractData\",C985, \"PerCentNetLastTrade\",, \"T\")/100,\"\")","v":1.8518518518518517E-2},435,435,"S.US.DECK",985,"S.US.SCCO"]
[null,null,"S.US.SMG",{"$f":"IFERROR(RTD(\"cqg.rtd\", ,\"ContractData\",C986, \"PerCentNetLastTrade\",, \"T\")/100,\"\")","v":1.0370046938107193E-2},693,693,"S.US.SMG",986,"S.US.RMT"]
[null,null,"S.US.KN",{"$f":"IFERROR(RTD(\"cqg.rtd\", ,\"ContractData\",C987, \"PerCentNetLastTrade\",, \"T\")/100,\"\")","v":6.2578222778473091E-3},901,901,"S.US.KN",987,"S.US.MTR"]
[null,null,"S.US.TKR",{"$f":"IFERROR(RTD(\"cqg.rtd\", ,\"ContractData\",C988, \"PerCentNetLastTrade\",, \"T\")/100,\"\")","v":6.4683053040103487E-3},892,892,"S.US.TKR",988,"S.US.GGB"]
[null,null,"S.US.AF",{"$f":"IFERROR(RTD(\"cqg.rtd\", ,\"ContractData\",C989, \"PerCentNetLastTrade\",, \"T\")/100,\"\")","v":7.3982737361282368E-3},844,844,"S.US.AF",989,"S.US.ELY"]
[null,null,"S.US.CSU",{"$f":"IFERROR(RTD(\"cqg.rtd\", ,\"ContractData\",C990, \"PerCentNetLastTrade\",, \"T\")/100,\"\")","v":1.4066496163682864E-2},553,553,"S.US.CSU",990,"S.US.DFS"]
[null,null,"S.US.WR",{"$f":"IFERROR(RTD(\"cqg.rtd\", ,\"ContractData\",C991, \"PerCentNetLastTrade\",, \"T\")/100,\"\")","v":5.2530204867798987E-4},1308,1308,"S.US.WR",991,"S.US.JCI"]
[null,null,"S.US.LLL",{"$f":"IFERROR(RTD(\"cqg.rtd\", ,\"ContractData\",C992, \"PerCentNetLastTrade\",, \"T\")/100,\"\")","v":-5.0431822479984866E-3},1787,1787,"S.US.LLL",992,"S.US.ADX"]
[null,null,"S.US.BID",{"$f":"IFERROR(RTD(\"cqg.rtd\", ,\"ContractData\",C993, \"PerCentNetLastTrade\",, \"T\")/100,\"\")","v":1.9170984455958547E-2},418,418,"S.US.BID",993,"S.US.FIT"]
[null,null,"S.US.BR",{"$f":"IFERROR(RTD(\"cqg.rtd\", ,\"ContractData\",C994, \"PerCentNetLastTrade\",, \"T\")/100,\"\")","v":-1.1212438331589176E-2},2133,2133,"S.US.BR",994,"S.US.HYT"]
[null,null,"S.US.WOR",{"$f":"IFERROR(RTD(\"cqg.rtd\", ,\"ContractData\",C995, \"PerCentNetLastTrade\",, \"T\")/100,\"\")","v":6.9300069300069289E-4},1295,1295,"S.US.WOR",995,"S.US.CRS"]
[null,null,"S.US.CPT",{"$f":"IFERROR(RTD(\"cqg.rtd\", ,\"ContractData\",C996, \"PerCentNetLastTrade\",, \"T\")/100,\"\")","v":-4.5420136260408781E-3},1748,1748,"S.US.CPT",996,"S.US.HYI"]
[null,null,"S.US.RS",{"$f":"IFERROR(RTD(\"cqg.rtd\", ,\"ContractData\",C997, \"PerCentNetLastTrade\",, \"T\")/100,\"\")","v":-6.1229488121479301E-3},1875,1875,"S.US.RS",997,"S.US.VC"]
[null,null,"S.US.TDG",{"$f":"IFERROR(RTD(\"cqg.rtd\", ,\"ContractData\",C998, \"PerCentNetLastTrade\",, \"T\")/100,\"\")","v":-6.4947616654424554E-3},1909,1909,"S.US.TDG",998,"S.US.UTX"]
[null,null,"S.US.BOX",{"$f":"IFERROR(RTD(\"cqg.rtd\", ,\"ContractData\",C999, \"PerCentNetLastTrade\",, \"T\")/100,\"\")","v":-3.9241334205362983E-3},1705,1705,"S.US.BOX",999,"S.US.KODK"]
[null,null,"S.US.AAN",{"$f":"IFERROR(RTD(\"cqg.rtd\", ,\"ContractData\",C1000, \"PerCentNetLastTrade\",, \"T\")/100,\"\")","v":-5.0830227041680784E-3},1791,1791,"S.US.AAN",1000,"S.US.CBB"]
[null,null,"S.US.SA",{"$f":"IFERROR(RTD(\"cqg.rtd\", ,\"ContractData\",C1001, \"PerCentNetLastTrade\",, \"T\")/100,\"\")","v":-5.235602094240838E-3},1806,1806,"S.US.SA",1001,"S.US.MSA"]
[null,null,"S.US.PCI",{"$f":"IFERROR(RTD(\"cqg.rtd\", ,\"ContractData\",C1002, \"PerCentNetLastTrade\",, \"T\")/100,\"\")","v":4.0000000000000001E-3},1049,1049,"S.US.PCI",1002,"S.US.BIF"]
[null,null,"S.US.MTL",{"$f":"IFERROR(RTD(\"cqg.rtd\", ,\"ContractData\",C1003, \"PerCentNetLastTrade\",, \"T\")/100,\"\")","v":2.6881720430107524E-2},310,310,"S.US.MTL",1003,"S.US.ALX"]
[null,null,"S.US.BT",{"$f":"IFERROR(RTD(\"cqg.rtd\", ,\"ContractData\",C1004, \"PerCentNetLastTrade\",, \"T\")/100,\"\")","v":7.5791350869371379E-3},836,836,"S.US.BT",1004,"S.US.KNOP"]
[null,null,"S.US.ENLK",{"$f":"IFERROR(RTD(\"cqg.rtd\", ,\"ContractData\",C1005, \"PerCentNetLastTrade\",, \"T\")/100,\"\")","v":4.3161094224924007E-2},186,186,"S.US.ENLK",1005,"S.US.PAM"]
[null,null,"S.US.SCG",{"$f":"IFERROR(RTD(\"cqg.rtd\", ,\"ContractData\",C1006, \"PerCentNetLastTrade\",, \"T\")/100,\"\")","v":-1.5734989648033125E-2},2286,2286,"S.US.SCG",1006,"S.US.CS"]
[null,null,"S.US.GRA",{"$f":"IFERROR(RTD(\"cqg.rtd\", ,\"ContractData\",C1007, \"PerCentNetLastTrade\",, \"T\")/100,\"\")","v":-2.8652439934338157E-2},2442,2442,"S.US.GRA",1007,"S.US.BVN"]
[null,null,"S.US.CP",{"$f":"IFERROR(RTD(\"cqg.rtd\", ,\"ContractData\",C1008, \"PerCentNetLastTrade\",, \"T\")/100,\"\")","v":3.2680177157428533E-2},259,259,"S.US.CP",1008,"S.US.GOLF"]
[null,null,"S.US.NVG",{"$f":"IFERROR(RTD(\"cqg.rtd\", ,\"ContractData\",C1009, \"PerCentNetLastTrade\",, \"T\")/100,\"\")","v":-7.806955287437899E-3},1975,1975,"S.US.NVG",1009,"S.US.CTS"]
[null,null,"S.US.DM",{"$f":"IFERROR(RTD(\"cqg.rtd\", ,\"ContractData\",C1010, \"PerCentNetLastTrade\",, \"T\")/100,\"\")","v":1.8108651911468814E-2},448,448,"S.US.DM",1010,"S.US.FCAM"]
[null,null,"S.US.MMS",{"$f":"IFERROR(RTD(\"cqg.rtd\", ,\"ContractData\",C1011, \"PerCentNetLastTrade\",, \"T\")/100,\"\")","v":5.3323853537148955E-4},1307,1307,"S.US.MMS",1011,"S.US.KIO"]
[null,null,"S.US.CMCM",{"$f":"IFERROR(RTD(\"cqg.rtd\", ,\"ContractData\",C1012, \"PerCentNetLastTrade\",, \"T\")/100,\"\")","v":3.937007874015748E-3},1054,1054,"S.US.CMCM",1012,"S.US.PGEM"]
[null,null,"S.US.WRI",{"$f":"IFERROR(RTD(\"cqg.rtd\", ,\"ContractData\",C1013, \"PerCentNetLastTrade\",, \"T\")/100,\"\")","v":-5.6022408963585435E-3},1831,1831,"S.US.WRI",1013,"S.US.VVR"]
[null,null,"S.US.TMST",{"$f":"IFERROR(RTD(\"cqg.rtd\", ,\"ContractData\",C1014, \"PerCentNetLastTrade\",, \"T\")/100,\"\")","v":6.5584854631507775E-2},116,116,"S.US.TMST",1014,"S.US.GPC"]
[null,null,"S.US.NVRO",{"$f":"IFERROR(RTD(\"cqg.rtd\", ,\"ContractData\",C1015, \"PerCentNetLastTrade\",, \"T\")/100,\"\")","v":-4.2468148888333744E-2},2464,2464,"S.US.NVRO",1015,"S.US.EXPR"]
[null,null,"S.US.UMC",{"$f":"IFERROR(RTD(\"cqg.rtd\", ,\"ContractData\",C1016, \"PerCentNetLastTrade\",, \"T\")/100,\"\")","v":-1.0928961748633882E-2},2119,2119,"S.US.UMC",1016,"S.US.SCL"]
[null,null,"S.US.MMP",{"$f":"IFERROR(RTD(\"cqg.rtd\", ,\"ContractData\",C1017, \"PerCentNetLastTrade\",, \"T\")/100,\"\")","v":1.8301610541727673E-2},441,441,"S.US.MMP",1017,"S.US.BCC"]
[null,null,"S.US.NEWM",{"$f":"IFERROR(RTD(\"cqg.rtd\", ,\"ContractData\",C1018, \"PerCentNetLastTrade\",, \"T\")/100,\"\")","v":9.8619329388560158E-3},716,716,"S.US.NEWM",1018,"S.US.DRI"]
[null,null,"S.US.DDS",{"$f":"IFERROR(RTD(\"cqg.rtd\", ,\"ContractData\",C1019, \"PerCentNetLastTrade\",, \"T\")/100,\"\")","v":3.6506599269868012E-3},1074,1074,"S.US.DDS",1019,"S.US.HIX"]
[null,null,"S.US.AMG",{"$f":"IFERROR(RTD(\"cqg.rtd\", ,\"ContractData\",C1020, \"PerCentNetLastTrade\",, \"T\")/100,\"\")","v":1.6965517241379312E-2},477,477,"S.US.AMG",1020,"S.US.ROP"]
[null,null,"S.US.GIMO",{"$f":"IFERROR(RTD(\"cqg.rtd\", ,\"ContractData\",C1021, \"PerCentNetLastTrade\",, \"T\")/100,\"\")","v":-1.3513513513513513E-2},2223,2223,"S.US.GIMO",1021,"S.US.MPC"]
[null,null,"S.US.SLF",{"$f":"IFERROR(RTD(\"cqg.rtd\", ,\"ContractData\",C1022, \"PerCentNetLastTrade\",, \"T\")/100,\"\")","v":9.9294486542984058E-3},712,712,"S.US.SLF",1022,"S.US.ST"]
[null,null,"S.US.HCLP",{"$f":"IFERROR(RTD(\"cqg.rtd\", ,\"ContractData\",C1023, \"PerCentNetLastTrade\",, \"T\")/100,\"\")","v":0.14150943396226415},26,26,"S.US.HCLP",1023,"S.US.AMBR"]
[null,null,"S.US.NVTA",{"$f":"IFERROR(RTD(\"cqg.rtd\", ,\"ContractData\",C1024, \"PerCentNetLastTrade\",, \"T\")/100,\"\")","v":-4.3165467625899279E-3},1733,1733,"S.US.NVTA",1024,"S.US.HAE"]
[null,null,"S.US.PFGC",{"$f":"IFERROR(RTD(\"cqg.rtd\", ,\"ContractData\",C1025, \"PerCentNetLastTrade\",, \"T\")/100,\"\")","v":-2.0270270270270271E-2},2373,{"$f":"IFERROR(E1025,\"\")","v":2373},{"$f":"C1025","v":"S.US.PFGC"},1025,{"$f":"IFERROR(VLOOKUP(H1025,$F$1:$G$2522,2,FALSE),\"\")","v":"S.US.HXL"}]
[null,null,"S.US.NYLD",{"$f":"IFERROR(RTD(\"cqg.rtd\", ,\"ContractData\",C1026, \"PerCentNetLastTrade\",, \"T\")/100,\"\")","v":0},1337,1337,"S.US.NYLD",{"$f":"H1025+1","v":1026},"S.US.SUM"]
[null,null,"S.US.GWW",{"$f":"IFERROR(RTD(\"cqg.rtd\", ,\"ContractData\",C1027, \"PerCentNetLastTrade\",, \"T\")/100,\"\")","v":3.3090346808040648E-2},255,255,"S.US.GWW",1027,"S.US.KMPA"]
[null,null,"S.US.HIW",{"$f":"IFERROR(RTD(\"cqg.rtd\", ,\"ContractData\",C1028, \"PerCentNetLastTrade\",, \"T\")/100,\"\")","v":-1.5413070283600495E-2},2274,2274,"S.US.HIW",1028,"S.US.VGR"]
[null,null,"S.US.NEWR",{"$f":"IFERROR(RTD(\"cqg.rtd\", ,\"ContractData\",C1029, \"PerCentNetLastTrade\",, \"T\")/100,\"\")","v":1.7719072164948453E-2},460,460,"S.US.NEWR",1029,"S.US.NEU"]
[null,null,"S.US.BXS",{"$f":"IFERROR(RTD(\"cqg.rtd\", ,\"ContractData\",C1030, \"PerCentNetLastTrade\",, \"T\")/100,\"\")","v":1.124780316344464E-2},656,656,"S.US.BXS",1030,"S.US.KB"]
[null,null,"S.US.CFR",{"$f":"IFERROR(RTD(\"cqg.rtd\", ,\"ContractData\",C1031, \"PerCentNetLastTrade\",, \"T\")/100,\"\")","v":2.5825676682393842E-2},325,325,"S.US.CFR",1031,"S.US.LVS"]
[null,null,"S.US.BGC",{"$f":"IFERROR(RTD(\"cqg.rtd\", ,\"ContractData\",C1032, \"PerCentNetLastTrade\",, \"T\")/100,\"\")","v":1.9839142091152815E-2},408,408,"S.US.BGC",1032,"S.US.GCI"]
[null,null,"S.US.ANH",{"$f":"IFERROR(RTD(\"cqg.rtd\", ,\"ContractData\",C1033, \"PerCentNetLastTrade\",, \"T\")/100,\"\")","v":-9.5419847328244278E-3},2058,2058,"S.US.ANH",1033,"S.US.KMX"]
[null,null,"S.US.SKT",{"$f":"IFERROR(RTD(\"cqg.rtd\", ,\"ContractData\",C1034, \"PerCentNetLastTrade\",, \"T\")/100,\"\")","v":-7.6988879384088963E-3},1969,1969,"S.US.SKT",1034,"S.US.PPT"]
[null,null,"S.US.OZM",{"$f":"IFERROR(RTD(\"cqg.rtd\", ,\"ContractData\",C1035, \"PerCentNetLastTrade\",, \"T\")/100,\"\")","v":-1.408450704225352E-2},2239,2239,"S.US.OZM",1035,"S.US.VTA"]
[null,null,"S.US.WCIC",{"$f":"IFERROR(RTD(\"cqg.rtd\", ,\"ContractData\",C1036, \"PerCentNetLastTrade\",, \"T\")/100,\"\")","v":8.6021505376344097E-4},1282,1282,"S.US.WCIC",1036,"S.US.EMF"]
[null,null,"S.US.KEX",{"$f":"IFERROR(RTD(\"cqg.rtd\", ,\"ContractData\",C1037, \"PerCentNetLastTrade\",, \"T\")/100,\"\")","v":4.5864045864045862E-2},171,171,"S.US.KEX",1037,"S.US.GDOT"]
[null,null,"S.US.WCC",{"$f":"IFERROR(RTD(\"cqg.rtd\", ,\"ContractData\",C1038, \"PerCentNetLastTrade\",, \"T\")/100,\"\")","v":3.2600454890068235E-2},260,260,"S.US.WCC",1038,"S.US.SYT"]
[null,null,"S.US.PNM",{"$f":"IFERROR(RTD(\"cqg.rtd\", ,\"ContractData\",C1039, \"PerCentNetLastTrade\",, \"T\")/100,\"\")","v":-2.2658610271903322E-2},2402,2402,"S.US.PNM",1039,"S.US.RDN"]
[null,null,"S.US.HASI",{"$f":"IFERROR(RTD(\"cqg.rtd\", ,\"ContractData\",C1040, \"PerCentNetLastTrade\",, \"T\")/100,\"\")","v":-1.3725490196078431E-2},2228,2228,"S.US.HASI",1040,"S.US.GDV"]
[null,null,"S.US.UNT",{"$f":"IFERROR(RTD(\"cqg.rtd\", ,\"ContractData\",C1041, \"PerCentNetLastTrade\",, \"T\")/100,\"\")","v":0.11063011063011062},56,56,"S.US.UNT",1041,"S.US.VMI"]
[null,null,"S.US.PUK",{"$f":"IFERROR(RTD(\"cqg.rtd\", ,\"ContractData\",C1042, \"PerCentNetLastTrade\",, \"T\")/100,\"\")","v":3.8981288981288979E-3},1058,1058,"S.US.PUK",1042,"S.US.CIF"]
[null,null,"S.US.VNCE",{"$f":"IFERROR(RTD(\"cqg.rtd\", ,\"ContractData\",C1043, \"PerCentNetLastTrade\",, \"T\")/100,\"\")","v":3.5294117647058823E-2},236,236,"S.US.VNCE",1043,"S.US.HRTG"]
[null,null,"S.US.BITA",{"$f":"IFERROR(RTD(\"cqg.rtd\", ,\"ContractData\",C1044, \"PerCentNetLastTrade\",, \"T\")/100,\"\")","v":-5.1724137931034482E-3},1798,1798,"S.US.BITA",1044,"S.US.TGNA"]
[null,null,"S.US.AWI",{"$f":"IFERROR(RTD(\"cqg.rtd\", ,\"ContractData\",C1045, \"PerCentNetLastTrade\",, \"T\")/100,\"\")","v":-1.2004801920768306E-3},1462,1462,"S.US.AWI",1045,"S.US.XHR"]
[null,null,"S.US.HMC",{"$f":"IFERROR(RTD(\"cqg.rtd\", ,\"ContractData\",C1046, \"PerCentNetLastTrade\",, \"T\")/100,\"\")","v":9.520571234274057E-3},727,727,"S.US.HMC",1046,"S.US.ENV"]
[null,null,"S.US.TNET",{"$f":"IFERROR(RTD(\"cqg.rtd\", ,\"ContractData\",C1047, \"PerCentNetLastTrade\",, \"T\")/100,\"\")","v":7.9207920792079213E-4},1290,1290,"S.US.TNET",1047,"S.US.PSX"]
[null,null,"S.US.DPZ",{"$f":"IFERROR(RTD(\"cqg.rtd\", ,\"ContractData\",C1048, \"PerCentNetLastTrade\",, \"T\")/100,\"\")","v":-9.7735120266869546E-3},2075,2075,"S.US.DPZ",1048,"S.US.THC"]
[null,null,"S.US.NAD",{"$f":"IFERROR(RTD(\"cqg.rtd\", ,\"ContractData\",C1049, \"PerCentNetLastTrade\",, \"T\")/100,\"\")","v":-8.1662954714179659E-3},1998,1998,"S.US.NAD",1049,"S.US.PCI"]
[null,null,"S.US.BPL",{"$f":"IFERROR(RTD(\"cqg.rtd\", ,\"ContractData\",C1050, \"PerCentNetLastTrade\",, \"T\")/100,\"\")","v":1.2958280657395703E-2},591,591,"S.US.BPL",1050,"S.US.TI"]
[null,null,"S.US.EPC",{"$f":"IFERROR(RTD(\"cqg.rtd\", ,\"ContractData\",C1051, \"PerCentNetLastTrade\",, \"T\")/100,\"\")","v":-8.3447502802341516E-3},2009,2009,"S.US.EPC",1051,"S.US.NMBL"]
[null,null,"S.US.RATE",{"$f":"IFERROR(RTD(\"cqg.rtd\", ,\"ContractData\",C1052, \"PerCentNetLastTrade\",, \"T\")/100,\"\")","v":1.9047619047619046E-2},425,425,"S.US.RATE",1052,"S.US.CBZ"]
[null,null,"S.US.DCT",{"$f":"IFERROR(RTD(\"cqg.rtd\", ,\"ContractData\",C1053, \"PerCentNetLastTrade\",, \"T\")/100,\"\")","v":-1.6824849007765316E-2},2308,2308,"S.US.DCT",1053,"S.US.MCV"]
[null,null,"S.US.NR",{"$f":"IFERROR(RTD(\"cqg.rtd\", ,\"ContractData\",C1054, \"PerCentNetLastTrade\",, \"T\")/100,\"\")","v":9.9236641221374045E-2},66,66,"S.US.NR",1054,"S.US.CMCM"]
[null,null,"S.US.SXCP",{"$f":"IFERROR(RTD(\"cqg.rtd\", ,\"ContractData\",C1055, \"PerCentNetLastTrade\",, \"T\")/100,\"\")","v":2.3558897243107769E-2},346,346,"S.US.SXCP",1055,"S.US.LAD"]
[null,null,"S.US.MKC",{"$f":"IFERROR(RTD(\"cqg.rtd\", ,\"ContractData\",C1056, \"PerCentNetLastTrade\",, \"T\")/100,\"\")","v":-1.09524320841834E-2},2120,2120,"S.US.MKC",1056,"S.US.ACCO"]
[null,null,"S.US.PEI",{"$f":"IFERROR(RTD(\"cqg.rtd\", ,\"ContractData\",C1057, \"PerCentNetLastTrade\",, \"T\")/100,\"\")","v":2.0964360587002098E-3},1184,1184,"S.US.PEI",1057,"S.US.AER"]
[null,null,"S.US.WAT",{"$f":"IFERROR(RTD(\"cqg.rtd\", ,\"ContractData\",C1058, \"PerCentNetLastTrade\",, \"T\")/100,\"\")","v":-1.1770689529899006E-2},2156,2156,"S.US.WAT",1058,"S.US.PUK"]
[null,null,"S.US.ADS",{"$f":"IFERROR(RTD(\"cqg.rtd\", ,\"ContractData\",C1059, \"PerCentNetLastTrade\",, \"T\")/100,\"\")","v":-4.066284814831009E-3},1717,1717,"S.US.ADS",1059,"S.US.UNF"]
[null,null,"S.US.BXMT",{"$f":"IFERROR(RTD(\"cqg.rtd\", ,\"ContractData\",C1060, \"PerCentNetLastTrade\",, \"T\")/100,\"\")","v":-2.0635440550278418E-2},2381,2381,"S.US.BXMT",1060,"S.US.GPK"]
[null,null,"S.US.LSI",{"$f":"IFERROR(RTD(\"cqg.rtd\", ,\"ContractData\",C1061, \"PerCentNetLastTrade\",, \"T\")/100,\"\")","v":-5.2324166463859822E-3},1805,1805,"S.US.LSI",1061,"S.US.WWW"]
[null,null,"S.US.VGR",{"$f":"IFERROR(RTD(\"cqg.rtd\", ,\"ContractData\",C1062, \"PerCentNetLastTrade\",, \"T\")/100,\"\")","v":4.227336777829967E-3},1028,1028,"S.US.VGR",1062,"S.US.UPS"]
[null,null,"S.US.SCS",{"$f":"IFERROR(RTD(\"cqg.rtd\", ,\"ContractData\",C1063, \"PerCentNetLastTrade\",, \"T\")/100,\"\")","v":-6.3091482649842269E-3},1895,1895,"S.US.SCS",1063,"S.US.FL"]
[null,null,"S.US.INN",{"$f":"IFERROR(RTD(\"cqg.rtd\", ,\"ContractData\",C1064, \"PerCentNetLastTrade\",, \"T\")/100,\"\")","v":-1.4044943820224721E-3},1482,1482,"S.US.INN",1064,"S.US.BPI"]
[null,null,"S.US.MYCC",{"$f":"IFERROR(RTD(\"cqg.rtd\", ,\"ContractData\",C1065, \"PerCentNetLastTrade\",, \"T\")/100,\"\")","v":0},1338,1338,"S.US.MYCC",1065,"S.US.ABC"]
[null,null,"S.US.POR",{"$f":"IFERROR(RTD(\"cqg.rtd\", ,\"ContractData\",C1066, \"PerCentNetLastTrade\",, \"T\")/100,\"\")","v":-1.5063731170336037E-2},2268,2268,"S.US.POR",1066,"S.US.GF"]
[null,null,"S.US.NJR",{"$f":"IFERROR(RTD(\"cqg.rtd\", ,\"ContractData\",C1067, \"PerCentNetLastTrade\",, \"T\")/100,\"\")","v":2.5495750708215297E-3},1147,1147,"S.US.NJR",1067,"S.US.MCC"]
[null,null,"S.US.SF",{"$f":"IFERROR(RTD(\"cqg.rtd\", ,\"ContractData\",C1068, \"PerCentNetLastTrade\",, \"T\")/100,\"\")","v":2.1969080553295363E-2},369,369,"S.US.SF",1068,"S.US.RHI"]
[null,null,"S.US.JPC",{"$f":"IFERROR(RTD(\"cqg.rtd\", ,\"ContractData\",C1069, \"PerCentNetLastTrade\",, \"T\")/100,\"\")","v":-1.0515247108307044E-2},2101,2101,"S.US.JPC",1069,"S.US.FSS"]
[null,null,"S.US.DCI",{"$f":"IFERROR(RTD(\"cqg.rtd\", ,\"ContractData\",C1070, \"PerCentNetLastTrade\",, \"T\")/100,\"\")","v":1.2740444666500126E-2},599,599,"S.US.DCI",1070,"S.US.PRGO"]
[null,null,"S.US.GNRC",{"$f":"IFERROR(RTD(\"cqg.rtd\", ,\"ContractData\",C1071, \"PerCentNetLastTrade\",, \"T\")/100,\"\")","v":7.8450600637411123E-3},819,819,"S.US.GNRC",1071,"S.US.BBY"]
[null,null,"S.US.RPM",{"$f":"IFERROR(RTD(\"cqg.rtd\", ,\"ContractData\",C1072, \"PerCentNetLastTrade\",, \"T\")/100,\"\")","v":-4.6694060515502425E-3},1754,1754,"S.US.RPM",1072,"S.US.EXG"]
[null,null,"S.US.PES",{"$f":"IFERROR(RTD(\"cqg.rtd\", ,\"ContractData\",C1073, \"PerCentNetLastTrade\",, \"T\")/100,\"\")","v":9.7826086956521743E-2},68,68,"S.US.PES",1073,"S.US.TXT"]
[null,null,"S.US.USA",{"$f":"IFERROR(RTD(\"cqg.rtd\", ,\"ContractData\",C1074, \"PerCentNetLastTrade\",, \"T\")/100,\"\")","v":5.9171597633136093E-3},921,921,"S.US.USA",1074,"S.US.DDS"]
[null,null,"S.US.FN",{"$f":"IFERROR(RTD(\"cqg.rtd\", ,\"ContractData\",C1075, \"PerCentNetLastTrade\",, \"T\")/100,\"\")","v":4.7956154373144551E-3},979,979,"S.US.FN",1075,"S.US.HIVE"]
[null,null,"S.US.H",{"$f":"IFERROR(RTD(\"cqg.rtd\", ,\"ContractData\",C1076, \"PerCentNetLastTrade\",, \"T\")/100,\"\")","v":-3.12677657760091E-2},2450,2450,"S.US.H",1076,"S.US.OSB"]
[null,null,"S.US.LFC",{"$f":"IFERROR(RTD(\"cqg.rtd\", ,\"ContractData\",C1077, \"PerCentNetLastTrade\",, \"T\")/100,\"\")","v":1.5427769985974756E-2},515,515,"S.US.LFC",1077,"S.US.GAM"]
[null,null,"S.US.VVR",{"$f":"IFERROR(RTD(\"cqg.rtd\", ,\"ContractData\",C1078, \"PerCentNetLastTrade\",, \"T\")/100,\"\")","v":4.4642857142857149E-3},1013,1013,"S.US.VVR",1078,"S.US.BLK"]
[null,null,"S.US.INXN",{"$f":"IFERROR(RTD(\"cqg.rtd\", ,\"ContractData\",C1079, \"PerCentNetLastTrade\",, \"T\")/100,\"\")","v":-1.4186450492182976E-2},2243,2243,"S.US.INXN",1079,"S.US.SHOP"]
[null,null,"S.US.BW",{"$f":"IFERROR(RTD(\"cqg.rtd\", ,\"ContractData\",C1080, \"PerCentNetLastTrade\",, \"T\")/100,\"\")","v":8.3870967741935479E-3},790,790,"S.US.BW",1080,"S.US.USDP"]
[null,null,"S.US.AUO",{"$f":"IFERROR(RTD(\"cqg.rtd\", ,\"ContractData\",C1081, \"PerCentNetLastTrade\",, \"T\")/100,\"\")","v":2.7932960893854745E-3},1126,1126,"S.US.AUO",1081,"S.US.NP"]
[null,null,"S.US.PAG",{"$f":"IFERROR(RTD(\"cqg.rtd\", ,\"ContractData\",C1082, \"PerCentNetLastTrade\",, \"T\")/100,\"\")","v":1.5043708070746087E-2},523,523,"S.US.PAG",1082,"S.US.JQC"]
[null,null,"S.US.TMK",{"$f":"IFERROR(RTD(\"cqg.rtd\", ,\"ContractData\",C1083, \"PerCentNetLastTrade\",, \"T\")/100,\"\")","v":5.4542844839959815E-3},948,948,"S.US.TMK",1083,"S.US.PKO"]
[null,null,"S.US.KEYS",{"$f":"IFERROR(RTD(\"cqg.rtd\", ,\"ContractData\",C1084, \"PerCentNetLastTrade\",, \"T\")/100,\"\")","v":2.4154589371980675E-3},1157,1157,"S.US.KEYS",1084,"S.US.LYG"]
[null,null,"S.US.LPL",{"$f":"IFERROR(RTD(\"cqg.rtd\", ,\"ContractData\",C1085, \"PerCentNetLastTrade\",, \"T\")/100,\"\")","v":-8.3263946711074101E-3},2008,2008,"S.US.LPL",1085,"S.US.TEVA"]
[null,null,"S.US.VAL",{"$f":"IFERROR(RTD(\"cqg.rtd\", ,\"ContractData\",C1086, \"PerCentNetLastTrade\",, \"T\")/100,\"\")","v":-4.8909322116795462E-4},1407,1407,"S.US.VAL",1086,"S.US.CHSP"]
[null,null,"S.US.TUP",{"$f":"IFERROR(RTD(\"cqg.rtd\", ,\"ContractData\",C1087, \"PerCentNetLastTrade\",, \"T\")/100,\"\")","v":-2.7710426047800486E-2},2439,2439,"S.US.TUP",1087,"S.US.HW"]
[null,null,"S.US.KCG",{"$f":"IFERROR(RTD(\"cqg.rtd\", ,\"ContractData\",C1088, \"PerCentNetLastTrade\",, \"T\")/100,\"\")","v":-2.0661157024793389E-3},1543,1543,"S.US.KCG",1088,"S.US.MMT"]
[null,null,"S.US.ELP",{"$f":"IFERROR(RTD(\"cqg.rtd\", ,\"ContractData\",C1089, \"PerCentNetLastTrade\",, \"T\")/100,\"\")","v":1.1682242990654205E-2},596,{"$f":"IFERROR(E1089,\"\")","v":596},{"$f":"C1089","v":"S.US.ELP"},1089,{"$f":"IFERROR(VLOOKUP(H1089,$F$1:$G$2522,2,FALSE),\"\")","v":"S.US.DD"}]
[null,null,"S.US.CTB",{"$f":"IFERROR(RTD(\"cqg.rtd\", ,\"ContractData\",C1090, \"PerCentNetLastTrade\",, \"T\")/100,\"\")","v":-1.7834394904458598E-2},2328,2328,"S.US.CTB",{"$f":"H1089+1","v":1090},"S.US.PIR"]
[null,null,"S.US.RIGP",{"$f":"IFERROR(RTD(\"cqg.rtd\", ,\"ContractData\",C1091, \"PerCentNetLastTrade\",, \"T\")/100,\"\")","v":0.1108580106302202},54,54,"S.US.RIGP",1091,"S.US.AMX"]
[null,null,"S.US.TEN",{"$f":"IFERROR(RTD(\"cqg.rtd\", ,\"ContractData\",C1092, \"PerCentNetLastTrade\",, \"T\")/100,\"\")","v":1.2916383412644459E-2},594,594,"S.US.TEN",1092,"S.US.ASGN"]
[null,null,"S.US.SGY",{"$f":"IFERROR(RTD(\"cqg.rtd\", ,\"ContractData\",C1093, \"PerCentNetLastTrade\",, \"T\")/100,\"\")","v":0.15803108808290156},15,15,"S.US.SGY",1093,"S.US.GNK"]
[null,null,"S.US.ARE",{"$f":"IFERROR(RTD(\"cqg.rtd\", ,\"ContractData\",C1094, \"PerCentNetLastTrade\",, \"T\")/100,\"\")","v":-1.3336913712853561E-2},2214,2214,"S.US.ARE",1094,"S.US.BGB"]
[null,null,"S.US.CRI",{"$f":"IFERROR(RTD(\"cqg.rtd\", ,\"ContractData\",C1095, \"PerCentNetLastTrade\",, \"T\")/100,\"\")","v":-1.8810102504491177E-2},2347,2347,"S.US.CRI",1095,"S.US.AP"]
[null,null,"S.US.NUV",{"$f":"IFERROR(RTD(\"cqg.rtd\", ,\"ContractData\",C1096, \"PerCentNetLastTrade\",, \"T\")/100,\"\")","v":-7.3375262054507341E-3},1954,1954,"S.US.NUV",1096,"S.US.QTWO"]
[null,null,"S.US.EPAM",{"$f":"IFERROR(RTD(\"cqg.rtd\", ,\"ContractData\",C1097, \"PerCentNetLastTrade\",, \"T\")/100,\"\")","v":-1.2146348689083099E-2},2165,2165,"S.US.EPAM",1097,"S.US.MSD"]
[null,null,"S.US.ENLC",{"$f":"IFERROR(RTD(\"cqg.rtd\", ,\"ContractData\",C1098, \"PerCentNetLastTrade\",, \"T\")/100,\"\")","v":5.2941176470588235E-2},145,145,"S.US.ENLC",1098,"S.US.CHS"]
[null,null,"S.US.TX",{"$f":"IFERROR(RTD(\"cqg.rtd\", ,\"ContractData\",C1099, \"PerCentNetLastTrade\",, \"T\")/100,\"\")","v":3.316749585406302E-2},254,254,"S.US.TX",1099,"S.US.RAS"]
[null,null,"S.US.LN",{"$f":"IFERROR(RTD(\"cqg.rtd\", ,\"ContractData\",C1100, \"PerCentNetLastTrade\",, \"T\")/100,\"\")","v":2.587991718426501E-3},1142,1142,"S.US.LN",1100,"S.US.BBVA"]
[null,null,"S.US.NZF",{"$f":"IFERROR(RTD(\"cqg.rtd\", ,\"ContractData\",C1101, \"PerCentNetLastTrade\",, \"T\")/100,\"\")","v":-7.9079798705966927E-3},1981,1981,"S.US.NZF",1101,"S.US.UA"]
[null,null,"S.US.ASH",{"$f":"IFERROR(RTD(\"cqg.rtd\", ,\"ContractData\",C1102, \"PerCentNetLastTrade\",, \"T\")/100,\"\")","v":-3.4081971510967401E-3},1656,1656,"S.US.ASH",1102,"S.US.BRFS"]
[null,null,"S.US.JLL",{"$f":"IFERROR(RTD(\"cqg.rtd\", ,\"ContractData\",C1103, \"PerCentNetLastTrade\",, \"T\")/100,\"\")","v":-9.8765432098765434E-4},1446,1446,"S.US.JLL",1103,"S.US.JMP"]
[null,null,"S.US.GWR",{"$f":"IFERROR(RTD(\"cqg.rtd\", ,\"ContractData\",C1104, \"PerCentNetLastTrade\",, \"T\")/100,\"\")","v":2.3295604106343775E-2},350,350,"S.US.GWR",1104,"S.US.APH"]
[null,null,"S.US.HRI",{"$f":"IFERROR(RTD(\"cqg.rtd\", ,\"ContractData\",C1105, \"PerCentNetLastTrade\",, \"T\")/100,\"\")","v":4.3489651558815817E-2},184,184,"S.US.HRI",1105,"S.US.JWN"]
[null,null,"S.US.OA",{"$f":"IFERROR(RTD(\"cqg.rtd\", ,\"ContractData\",C1106, \"PerCentNetLastTrade\",, \"T\")/100,\"\")","v":-1.0009203865623562E-2},2084,2084,"S.US.OA",1106,"S.US.GIM"]
[null,null,"S.US.HE",{"$f":"IFERROR(RTD(\"cqg.rtd\", ,\"ContractData\",C1107, \"PerCentNetLastTrade\",, \"T\")/100,\"\")","v":-1.9873817034700317E-2},2364,2364,"S.US.HE",1107,"S.US.FSB"]
[null,null,"S.US.BKE",{"$f":"IFERROR(RTD(\"cqg.rtd\", ,\"ContractData\",C1108, \"PerCentNetLastTrade\",, \"T\")/100,\"\")","v":-3.929273084479371E-3},1707,1707,"S.US.BKE",1108,"S.US.WWE"]
[null,null,"S.US.AHT",{"$f":"IFERROR(RTD(\"cqg.rtd\", ,\"ContractData\",C1109, \"PerCentNetLastTrade\",, \"T\")/100,\"\")","v":1.4513788098693759E-3},1230,1230,"S.US.AHT",1109,"S.US.GCO"]
[null,null,"S.US.CXP",{"$f":"IFERROR(RTD(\"cqg.rtd\", ,\"ContractData\",C1110, \"PerCentNetLastTrade\",, \"T\")/100,\"\")","v":-9.433962264150943E-3},2055,2055,"S.US.CXP",1110,"S.US.USPH"]
[null,null,"S.US.TWI",{"$f":"IFERROR(RTD(\"cqg.rtd\", ,\"ContractData\",C1111, \"PerCentNetLastTrade\",, \"T\")/100,\"\")","v":1.2048192771084338E-2},626,626,"S.US.TWI",1111,"S.US.CBG"]
[null,null,"S.US.NQ",{"$f":"IFERROR(RTD(\"cqg.rtd\", ,\"ContractData\",C1112, \"PerCentNetLastTrade\",, \"T\")/100,\"\")","v":-1.6483516483516484E-2},2302,2302,"S.US.NQ",1112,"S.US.GCAP"]
[null,null,"S.US.RYAM",{"$f":"IFERROR(RTD(\"cqg.rtd\", ,\"ContractData\",C1113, \"PerCentNetLastTrade\",, \"T\")/100,\"\")","v":1.5173410404624277E-2},520,520,"S.US.RYAM",1113,"S.US.THW"]
[null,null,"S.US.XRS",{"$f":"IFERROR(RTD(\"cqg.rtd\", ,\"ContractData\",C1114, \"PerCentNetLastTrade\",, \"T\")/100,\"\")","v":-8.653467942834666E-3},2025,2025,"S.US.XRS",1114,"S.US.COG"]
[null,null,"S.US.AAC",{"$f":"IFERROR(RTD(\"cqg.rtd\", ,\"ContractData\",C1115, \"PerCentNetLastTrade\",, \"T\")/100,\"\")","v":-2.3014959723820484E-2},2409,2409,"S.US.AAC",1115,"S.US.JCAP"]
[null,null,"S.US.RNG",{"$f":"IFERROR(RTD(\"cqg.rtd\", ,\"ContractData\",C1116, \"PerCentNetLastTrade\",, \"T\")/100,\"\")","v":7.1599045346062047E-3},856,856,"S.US.RNG",1116,"S.US.SWZ"]
[null,null,"S.US.TTC",{"$f":"IFERROR(RTD(\"cqg.rtd\", ,\"ContractData\",C1117, \"PerCentNetLastTrade\",, \"T\")/100,\"\")","v":-1.3084112149532709E-3},1470,1470,"S.US.TTC",1117,"S.US.NCA"]
[null,null,"S.US.CHMT",{"$f":"IFERROR(RTD(\"cqg.rtd\", ,\"ContractData\",C1118, \"PerCentNetLastTrade\",, \"T\")/100,\"\")","v":5.1750380517503799E-3},959,959,"S.US.CHMT",1118,"S.US.FFA"]
[null,null,"S.US.DSL",{"$f":"IFERROR(RTD(\"cqg.rtd\", ,\"ContractData\",C1119, \"PerCentNetLastTrade\",, \"T\")/100,\"\")","v":1.0416666666666668E-2},689,689,"S.US.DSL",1119,"S.US.LGI"]
[null,null,"S.US.RGR",{"$f":"IFERROR(RTD(\"cqg.rtd\", ,\"ContractData\",C1120, \"PerCentNetLastTrade\",, \"T\")/100,\"\")","v":-2.6591760299625466E-2},2431,2431,"S.US.RGR",1120,"S.US.HEIA"]
[null,null,"S.US.CBD",{"$f":"IFERROR(RTD(\"cqg.rtd\", ,\"ContractData\",C1121, \"PerCentNetLastTrade\",, \"T\")/100,\"\")","v":9.4102885821831864E-3},737,737,"S.US.CBD",1121,"S.US.CPPL"]
[null,null,"S.US.ONDK",{"$f":"IFERROR(RTD(\"cqg.rtd\", ,\"ContractData\",C1122, \"PerCentNetLastTrade\",, \"T\")/100,\"\")","v":2.1691973969631236E-2},373,373,"S.US.ONDK",1122,"S.US.ARW"]
[null,null,"S.US.STE",{"$f":"IFERROR(RTD(\"cqg.rtd\", ,\"ContractData\",C1123, \"PerCentNetLastTrade\",, \"T\")/100,\"\")","v":-4.4849753326356703E-3},1747,1747,"S.US.STE",1123,"S.US.TRP"]
[null,null,"S.US.MSGN",{"$f":"IFERROR(RTD(\"cqg.rtd\", ,\"ContractData\",C1124, \"PerCentNetLastTrade\",, \"T\")/100,\"\")","v":1.7500000000000002E-2},464,464,"S.US.MSGN",1124,"S.US.BSMX"]
[null,null,"S.US.CVRR",{"$f":"IFERROR(RTD(\"cqg.rtd\", ,\"ContractData\",C1125, \"PerCentNetLastTrade\",, \"T\")/100,\"\")","v":2.5806451612903226E-2},326,326,"S.US.CVRR",1125,"S.US.HSBC"]
[null,null,"S.US.ENH",{"$f":"IFERROR(RTD(\"cqg.rtd\", ,\"ContractData\",C1126, \"PerCentNetLastTrade\",, \"T\")/100,\"\")","v":8.6749078291043153E-4},1281,1281,"S.US.ENH",1126,"S.US.AUO"]
[null,null,"S.US.STAG",{"$f":"IFERROR(RTD(\"cqg.rtd\", ,\"ContractData\",C1127, \"PerCentNetLastTrade\",, \"T\")/100,\"\")","v":-5.8700209643605871E-3},1857,1857,"S.US.STAG",1127,"S.US.GMS"]
[null,null,"S.US.FOE",{"$f":"IFERROR(RTD(\"cqg.rtd\", ,\"ContractData\",C1128, \"PerCentNetLastTrade\",, \"T\")/100,\"\")","v":1.3698630136986301E-2},565,565,"S.US.FOE",1128,"S.US.AIZ"]
[null,null,"S.US.POL",{"$f":"IFERROR(RTD(\"cqg.rtd\", ,\"ContractData\",C1129, \"PerCentNetLastTrade\",, \"T\")/100,\"\")","v":7.8431372549019607E-3},820,820,"S.US.POL",1129,"S.US.IBA"]
[null,null,"S.US.JKS",{"$f":"IFERROR(RTD(\"cqg.rtd\", ,\"ContractData\",C1130, \"PerCentNetLastTrade\",, \"T\")/100,\"\")","v":2.6315789473684213E-2},316,316,"S.US.JKS",1130,"S.US.TRI"]
[null,null,"S.US.APAM",{"$f":"IFERROR(RTD(\"cqg.rtd\", ,\"ContractData\",C1131, \"PerCentNetLastTrade\",, \"T\")/100,\"\")","v":1.0344827586206896E-2},696,696,"S.US.APAM",1131,"S.US.MAIN"]
[null,null,"S.US.NLS",{"$f":"IFERROR(RTD(\"cqg.rtd\", ,\"ContractData\",C1132, \"PerCentNetLastTrade\",, \"T\")/100,\"\")","v":-5.4644808743169408E-3},1817,1817,"S.US.NLS",1132,"S.US.LADR"]
[null,null,"S.US.GVA",{"$f":"IFERROR(RTD(\"cqg.rtd\", ,\"ContractData\",C1133, \"PerCentNetLastTrade\",, \"T\")/100,\"\")","v":2.1484052222773093E-3},1180,1180,"S.US.GVA",1133,"S.US.BMI"]
[null,null,"S.US.WAIR",{"$f":"IFERROR(RTD(\"cqg.rtd\", ,\"ContractData\",C1134, \"PerCentNetLastTrade\",, \"T\")/100,\"\")","v":2.0408163265306124E-2},393,393,"S.US.WAIR",1134,"S.US.STC"]
[null,null,"S.US.CPA",{"$f":"IFERROR(RTD(\"cqg.rtd\", ,\"ContractData\",C1135, \"PerCentNetLastTrade\",, \"T\")/100,\"\")","v":7.7685206034676883E-3},822,822,"S.US.CPA",1135,"S.US.UVV"]
[null,null,"S.US.EVR",{"$f":"IFERROR(RTD(\"cqg.rtd\", ,\"ContractData\",C1136, \"PerCentNetLastTrade\",, \"T\")/100,\"\")","v":1.2134831460674157E-2},620,620,"S.US.EVR",1136,"S.US.JWA"]
[null,null,"S.US.CGI",{"$f":"IFERROR(RTD(\"cqg.rtd\", ,\"ContractData\",C1137, \"PerCentNetLastTrade\",, \"T\")/100,\"\")","v":5.2173913043478265E-2},148,148,"S.US.CGI",1137,"S.US.MCO"]
[null,null,"S.US.DLB",{"$f":"IFERROR(RTD(\"cqg.rtd\", ,\"ContractData\",C1138, \"PerCentNetLastTrade\",, \"T\")/100,\"\")","v":-1.2847965738758029E-3},1468,1468,"S.US.DLB",1138,"S.US.CW"]
[null,null,"S.US.JQC",{"$f":"IFERROR(RTD(\"cqg.rtd\", ,\"ContractData\",C1139, \"PerCentNetLastTrade\",, \"T\")/100,\"\")","v":3.472222222222222E-3},1082,1082,"S.US.JQC",1139,"S.US.AON"]
[null,null,"S.US.BAK",{"$f":"IFERROR(RTD(\"cqg.rtd\", ,\"ContractData\",C1140, \"PerCentNetLastTrade\",, \"T\")/100,\"\")","v":2.0220588235294115E-2},397,397,"S.US.BAK",1140,"S.US.MMC"]
[null,null,"S.US.MSCI",{"$f":"IFERROR(RTD(\"cqg.rtd\", ,\"ContractData\",C1141, \"PerCentNetLastTrade\",, \"T\")/100,\"\")","v":-5.2089792881061638E-3},1802,1802,"S.US.MSCI",1141,"S.US.APO"]
[null,null,"S.US.IRET",{"$f":"IFERROR(RTD(\"cqg.rtd\", ,\"ContractData\",C1142, \"PerCentNetLastTrade\",, \"T\")/100,\"\")","v":-1.0819165378670788E-2},2117,2117,"S.US.IRET",1142,"S.US.LN"]
[null,null,"S.US.RUBI",{"$f":"IFERROR(RTD(\"cqg.rtd\", ,\"ContractData\",C1143, \"PerCentNetLastTrade\",, \"T\")/100,\"\")","v":-6.51890482398957E-3},1912,1912,"S.US.RUBI",1143,"S.US.MTRN"]
[null,null,"S.US.OKS",{"$f":"IFERROR(RTD(\"cqg.rtd\", ,\"ContractData\",C1144, \"PerCentNetLastTrade\",, \"T\")/100,\"\")","v":3.8307461191787684E-2},208,208,"S.US.OKS",1144,"S.US.LAZ"]
[null,null,"S.US.BMO",{"$f":"IFERROR(RTD(\"cqg.rtd\", ,\"ContractData\",C1145, \"PerCentNetLastTrade\",, \"T\")/100,\"\")","v":-5.5764883195177093E-3},1829,1829,"S.US.BMO",1145,"S.US.INST"]
[null,null,"S.US.AYI",{"$f":"IFERROR(RTD(\"cqg.rtd\", ,\"ContractData\",C1146, \"PerCentNetLastTrade\",, \"T\")/100,\"\")","v":7.9314720812182735E-5},1324,1324,"S.US.AYI",1146,"S.US.ABG"]
[null,null,"S.US.WBC",{"$f":"IFERROR(RTD(\"cqg.rtd\", ,\"ContractData\",C1147, \"PerCentNetLastTrade\",, \"T\")/100,\"\")","v":1.0568031704095114E-2},684,684,"S.US.WBC",1147,"S.US.NJR"]
[null,null,"S.US.TNP",{"$f":"IFERROR(RTD(\"cqg.rtd\", ,\"ContractData\",C1148, \"PerCentNetLastTrade\",, \"T\")/100,\"\")","v":3.6613272311212815E-2},228,228,"S.US.TNP",1148,"S.US.NTL"]
[null,null,"S.US.YRD",{"$f":"IFERROR(RTD(\"cqg.rtd\", ,\"ContractData\",C1149, \"PerCentNetLastTrade\",, \"T\")/100,\"\")","v":-1.3712718546451835E-3},1476,1476,"S.US.YRD",1149,"S.US.CRY"]
[null,null,"S.US.CM",{"$f":"IFERROR(RTD(\"cqg.rtd\", ,\"ContractData\",C1150, \"PerCentNetLastTrade\",, \"T\")/100,\"\")","v":-5.1938180896883715E-3},1800,1800,"S.US.CM",1150,"S.US.MCN"]
[null,null,"S.US.RSO",{"$f":"IFERROR(RTD(\"cqg.rtd\", ,\"ContractData\",C1151, \"PerCentNetLastTrade\",, \"T\")/100,\"\")","v":1.1737089201877935E-3},1255,1255,"S.US.RSO",1151,"S.US.VEEV"]
[null,null,"S.US.NRE",{"$f":"IFERROR(RTD(\"cqg.rtd\", ,\"ContractData\",C1152, \"PerCentNetLastTrade\",, \"T\")/100,\"\")","v":-4.6339202965708995E-3},1752,1752,"S.US.NRE",1152,"S.US.XYL"]
[null,null,"S.US.TOO",{"$f":"IFERROR(RTD(\"cqg.rtd\", ,\"ContractData\",C1153, \"PerCentNetLastTrade\",, \"T\")/100,\"\")","v":8.5487077534791248E-2},82,{"$f":"IFERROR(E1153,\"\")","v":82},{"$f":"C1153","v":"S.US.TOO"},1153,{"$f":"IFERROR(VLOOKUP(H1153,$F$1:$G$2522,2,FALSE),\"\")","v":"S.US.JLS"}]
[null,null,"S.US.BCR",{"$f":"IFERROR(RTD(\"cqg.rtd\", ,\"ContractData\",C1154, \"PerCentNetLastTrade\",, \"T\")/100,\"\")","v":-1.8528812303131369E-2},2341,2341,"S.US.BCR",{"$f":"H1153+1","v":1154},"S.US.MPG"]
[null,null,"S.US.EME",{"$f":"IFERROR(RTD(\"cqg.rtd\", ,\"ContractData\",C1155, \"PerCentNetLastTrade\",, \"T\")/100,\"\")","v":-3.3793297662630243E-3},1653,1653,"S.US.EME",1155,"S.US.AWF"]
[null,null,"S.US.DGI",{"$f":"IFERROR(RTD(\"cqg.rtd\", ,\"ContractData\",C1156, \"PerCentNetLastTrade\",, \"T\")/100,\"\")","v":7.7279752704791345E-3},827,827,"S.US.DGI",1156,"S.US.TPVG"]
[null,null,"S.US.PMT",{"$f":"IFERROR(RTD(\"cqg.rtd\", ,\"ContractData\",C1157, \"PerCentNetLastTrade\",, \"T\")/100,\"\")","v":-1.2143290831815421E-2},2164,2164,"S.US.PMT",1157,"S.US.KEYS"]
[null,null,"S.US.BEL",{"$f":"IFERROR(RTD(\"cqg.rtd\", ,\"ContractData\",C1158, \"PerCentNetLastTrade\",, \"T\")/100,\"\")","v":7.7220077220077222E-3},828,828,"S.US.BEL",1158,"S.US.WRB"]
[null,null,"S.US.RESI",{"$f":"IFERROR(RTD(\"cqg.rtd\", ,\"ContractData\",C1159, \"PerCentNetLastTrade\",, \"T\")/100,\"\")","v":5.1194539249146756E-3},966,966,"S.US.RESI",1159,"S.US.KAR"]
[null,null,"S.US.SPB",{"$f":"IFERROR(RTD(\"cqg.rtd\", ,\"ContractData\",C1160, \"PerCentNetLastTrade\",, \"T\")/100,\"\")","v":-7.6399269224381328E-3},1967,1967,"S.US.SPB",1160,"S.US.FC"]
[null,null,"S.US.OSG",{"$f":"IFERROR(RTD(\"cqg.rtd\", ,\"ContractData\",C1161, \"PerCentNetLastTrade\",, \"T\")/100,\"\")","v":3.8993710691823898E-2},203,203,"S.US.OSG",1161,"S.US.GGM"]
[null,null,"S.US.OIS",{"$f":"IFERROR(RTD(\"cqg.rtd\", ,\"ContractData\",C1162, \"PerCentNetLastTrade\",, \"T\")/100,\"\")","v":8.4745762711864417E-2},84,84,"S.US.OIS",1162,"S.US.BPY"]
[null,null,"S.US.NSR",{"$f":"IFERROR(RTD(\"cqg.rtd\", ,\"ContractData\",C1163, \"PerCentNetLastTrade\",, \"T\")/100,\"\")","v":1.4020618556701029E-2},555,555,"S.US.NSR",1163,"S.US.DNB"]
[null,null,"S.US.HII",{"$f":"IFERROR(RTD(\"cqg.rtd\", ,\"ContractData\",C1164, \"PerCentNetLastTrade\",, \"T\")/100,\"\")","v":-1.3126557740238161E-2},2202,2202,"S.US.HII",1164,"S.US.MON"]
[null,null,"S.US.ALV",{"$f":"IFERROR(RTD(\"cqg.rtd\", ,\"ContractData\",C1165, \"PerCentNetLastTrade\",, \"T\")/100,\"\")","v":6.7353026075242951E-4},1299,1299,"S.US.ALV",1165,"S.US.NOK"]
[null,null,"S.US.ATEN",{"$f":"IFERROR(RTD(\"cqg.rtd\", ,\"ContractData\",C1166, \"PerCentNetLastTrade\",, \"T\")/100,\"\")","v":0},1339,1339,"S.US.ATEN",1166,"S.US.MUS"]
[null,null,"S.US.HHS",{"$f":"IFERROR(RTD(\"cqg.rtd\", ,\"ContractData\",C1167, \"PerCentNetLastTrade\",, \"T\")/100,\"\")","v":-5.8139534883720929E-3},1850,1850,"S.US.HHS",1167,"S.US.ECL"]
[null,null,"S.US.SDLP",{"$f":"IFERROR(RTD(\"cqg.rtd\", ,\"ContractData\",C1168, \"PerCentNetLastTrade\",, \"T\")/100,\"\")","v":6.7073170731707321E-2},113,113,"S.US.SDLP",1168,"S.US.GMED"]
[null,null,"S.US.ARR",{"$f":"IFERROR(RTD(\"cqg.rtd\", ,\"ContractData\",C1169, \"PerCentNetLastTrade\",, \"T\")/100,\"\")","v":-9.3374833259226315E-3},2053,2053,"S.US.ARR",1169,"S.US.SCD"]
[null,null,"S.US.ATO",{"$f":"IFERROR(RTD(\"cqg.rtd\", ,\"ContractData\",C1170, \"PerCentNetLastTrade\",, \"T\")/100,\"\")","v":-1.3216453135536075E-2},2208,2208,"S.US.ATO",1170,"S.US.ENR"]
[null,null,"S.US.MDC",{"$f":"IFERROR(RTD(\"cqg.rtd\", ,\"ContractData\",C1171, \"PerCentNetLastTrade\",, \"T\")/100,\"\")","v":-1.4311926605504588E-2},2247,2247,"S.US.MDC",1171,"S.US.EVG"]
[null,null,"S.US.RXN",{"$f":"IFERROR(RTD(\"cqg.rtd\", ,\"ContractData\",C1172, \"PerCentNetLastTrade\",, \"T\")/100,\"\")","v":2.6415094339622639E-2},315,315,"S.US.RXN",1172,"S.US.ROG"]
[null,null,"S.US.COR",{"$f":"IFERROR(RTD(\"cqg.rtd\", ,\"ContractData\",C1173, \"PerCentNetLastTrade\",, \"T\")/100,\"\")","v":-2.1195957327344188E-2},2385,2385,"S.US.COR",1173,"S.US.FTAI"]
[null,null,"S.US.GEL",{"$f":"IFERROR(RTD(\"cqg.rtd\", ,\"ContractData\",C1174, \"PerCentNetLastTrade\",, \"T\")/100,\"\")","v":4.3126684636118594E-2},187,187,"S.US.GEL",1174,"S.US.GCH"]
[null,null,"S.US.AXS",{"$f":"IFERROR(RTD(\"cqg.rtd\", ,\"ContractData\",C1175, \"PerCentNetLastTrade\",, \"T\")/100,\"\")","v":-4.6872474543397449E-3},1756,1756,"S.US.AXS",1175,"S.US.CPAC"]
[null,null,"S.US.RACE",{"$f":"IFERROR(RTD(\"cqg.rtd\", ,\"ContractData\",C1176, \"PerCentNetLastTrade\",, \"T\")/100,\"\")","v":-1.4614541468761419E-3},1487,1487,"S.US.RACE",1176,"S.US.CABO"]
[null,null,"S.US.AGU",{"$f":"IFERROR(RTD(\"cqg.rtd\", ,\"ContractData\",C1177, \"PerCentNetLastTrade\",, \"T\")/100,\"\")","v":1.4969450101832992E-2},527,527,"S.US.AGU",1177,"S.US.CBPX"]
[null,null,"S.US.ASX",{"$f":"IFERROR(RTD(\"cqg.rtd\", ,\"ContractData\",C1178, \"PerCentNetLastTrade\",, \"T\")/100,\"\")","v":-1.1049723756906079E-2},2124,2124,"S.US.ASX",1178,"S.US.MTG"]
[null,null,"S.US.GFA",{"$f":"IFERROR(RTD(\"cqg.rtd\", ,\"ContractData\",C1179, \"PerCentNetLastTrade\",, \"T\")/100,\"\")","v":1.6393442622950821E-2},495,495,"S.US.GFA",1179,"S.US.JBT"]
[null,null,"S.US.CLH",{"$f":"IFERROR(RTD(\"cqg.rtd\", ,\"ContractData\",C1180, \"PerCentNetLastTrade\",, \"T\")/100,\"\")","v":1.3364323067983731E-2},575,575,"S.US.CLH",1180,"S.US.GVA"]
[null,null,"S.US.COO",{"$f":"IFERROR(RTD(\"cqg.rtd\", ,\"ContractData\",C1181, \"PerCentNetLastTrade\",, \"T\")/100,\"\")","v":-1.6103438142815164E-2},2295,2295,"S.US.COO",1181,"S.US.HLS"]
[null,null,"S.US.CLI",{"$f":"IFERROR(RTD(\"cqg.rtd\", ,\"ContractData\",C1182, \"PerCentNetLastTrade\",, \"T\")/100,\"\")","v":-8.0763582966226141E-3},1993,1993,"S.US.CLI",1182,"S.US.FGL"]
[null,null,"S.US.SHLX",{"$f":"IFERROR(RTD(\"cqg.rtd\", ,\"ContractData\",C1183, \"PerCentNetLastTrade\",, \"T\")/100,\"\")","v":2.3782980304719436E-2},344,344,"S.US.SHLX",1183,"S.US.SVU"]
[null,null,"S.US.FRT",{"$f":"IFERROR(RTD(\"cqg.rtd\", ,\"ContractData\",C1184, \"PerCentNetLastTrade\",, \"T\")/100,\"\")","v":-9.6614950634696765E-3},2065,2065,"S.US.FRT",1184,"S.US.PEI"]
[null,null,"S.US.TDS",{"$f":"IFERROR(RTD(\"cqg.rtd\", ,\"ContractData\",C1185, \"PerCentNetLastTrade\",, \"T\")/100,\"\")","v":7.352941176470589E-3},847,847,"S.US.TDS",1185,"S.US.EHI"]
[null,null,"S.US.PRTY",{"$f":"IFERROR(RTD(\"cqg.rtd\", ,\"ContractData\",C1186, \"PerCentNetLastTrade\",, \"T\")/100,\"\")","v":1.2500000000000001E-2},610,610,"S.US.PRTY",1186,"S.US.LOR"]
[null,null,"S.US.NSM",{"$f":"IFERROR(RTD(\"cqg.rtd\", ,\"ContractData\",C1187, \"PerCentNetLastTrade\",, \"T\")/100,\"\")","v":7.1343638525564797E-3},859,859,"S.US.NSM",1187,"S.US.PBI"]
[null,null,"S.US.KRG",{"$f":"IFERROR(RTD(\"cqg.rtd\", ,\"ContractData\",C1188, \"PerCentNetLastTrade\",, \"T\")/100,\"\")","v":-1.7565359477124183E-2},2321,2321,"S.US.KRG",1188,"S.US.DVMT"]
[null,null,"S.US.AIZ",{"$f":"IFERROR(RTD(\"cqg.rtd\", ,\"ContractData\",C1189, \"PerCentNetLastTrade\",, \"T\")/100,\"\")","v":2.7884280237016387E-3},1128,1128,"S.US.AIZ",1189,"S.US.HIO"]
[null,null,"S.US.ELS",{"$f":"IFERROR(RTD(\"cqg.rtd\", ,\"ContractData\",C1190, \"PerCentNetLastTrade\",, \"T\")/100,\"\")","v":-2.1794508915935467E-2},2391,2391,"S.US.ELS",1190,"S.US.FPO"]
[null,null,"S.US.NFG",{"$f":"IFERROR(RTD(\"cqg.rtd\", ,\"ContractData\",C1191, \"PerCentNetLastTrade\",, \"T\")/100,\"\")","v":5.9544658493870407E-3},917,917,"S.US.NFG",1191,"S.US.PHT"]
[null,null,"S.US.AROC",{"$f":"IFERROR(RTD(\"cqg.rtd\", ,\"ContractData\",C1192, \"PerCentNetLastTrade\",, \"T\")/100,\"\")","v":5.3030303030303025E-2},143,143,"S.US.AROC",1192,"S.US.ETV"]
[null,null,"S.US.GKOS",{"$f":"IFERROR(RTD(\"cqg.rtd\", ,\"ContractData\",C1193, \"PerCentNetLastTrade\",, \"T\")/100,\"\")","v":-3.5245113745594357E-3},1666,1666,"S.US.GKOS",1193,"S.US.VSI"]
[null,null,"S.US.GBX",{"$f":"IFERROR(RTD(\"cqg.rtd\", ,\"ContractData\",C1194, \"PerCentNetLastTrade\",, \"T\")/100,\"\")","v":2.3904382470119521E-2},343,343,"S.US.GBX",1194,"S.US.Y"]
[null,null,"S.US.CIB",{"$f":"IFERROR(RTD(\"cqg.rtd\", ,\"ContractData\",C1195, \"PerCentNetLastTrade\",, \"T\")/100,\"\")","v":2.5854108956602034E-2},324,324,"S.US.CIB",1195,"S.US.EVDY"]
[null,null,"S.US.KW",{"$f":"IFERROR(RTD(\"cqg.rtd\", ,\"ContractData\",C1196, \"PerCentNetLastTrade\",, \"T\")/100,\"\")","v":0},1340,1340,"S.US.KW",1196,"S.US.ETW"]
[null,null,"S.US.INST",{"$f":"IFERROR(RTD(\"cqg.rtd\", ,\"ContractData\",C1197, \"PerCentNetLastTrade\",, \"T\")/100,\"\")","v":2.5641025641025637E-3},1145,1145,"S.US.INST",1197,"S.US.DE"]
[null,null,"S.US.AWH",{"$f":"IFERROR(RTD(\"cqg.rtd\", ,\"ContractData\",C1198, \"PerCentNetLastTrade\",, \"T\")/100,\"\")","v":1.7053933063312726E-3},1212,1212,"S.US.AWH",1198,"S.US.EMD"]
[null,null,"S.US.RAS",{"$f":"IFERROR(RTD(\"cqg.rtd\", ,\"ContractData\",C1199, \"PerCentNetLastTrade\",, \"T\")/100,\"\")","v":3.2573289902280127E-3},1099,1099,"S.US.RAS",1199,"S.US.PPR"]
[null,null,"S.US.RQI",{"$f":"IFERROR(RTD(\"cqg.rtd\", ,\"ContractData\",C1200, \"PerCentNetLastTrade\",, \"T\")/100,\"\")","v":-6.9324090121317163E-3},1932,1932,"S.US.RQI",1200,"S.US.TY"]
[null,null,"S.US.BWP",{"$f":"IFERROR(RTD(\"cqg.rtd\", ,\"ContractData\",C1201, \"PerCentNetLastTrade\",, \"T\")/100,\"\")","v":2.6174895895300417E-2},320,320,"S.US.BWP",1201,"S.US.AVP"]
[null,null,"S.US.CLB",{"$f":"IFERROR(RTD(\"cqg.rtd\", ,\"ContractData\",C1202, \"PerCentNetLastTrade\",, \"T\")/100,\"\")","v":5.2755534620819597E-2},146,146,"S.US.CLB",1202,"S.US.FMC"]
[null,null,"S.US.PKD",{"$f":"IFERROR(RTD(\"cqg.rtd\", ,\"ContractData\",C1203, \"PerCentNetLastTrade\",, \"T\")/100,\"\")","v":7.3170731707317083E-2},105,105,"S.US.PKD",1203,"S.US.MFV"]
[null,null,"S.US.OFG",{"$f":"IFERROR(RTD(\"cqg.rtd\", ,\"ContractData\",C1204, \"PerCentNetLastTrade\",, \"T\")/100,\"\")","v":2.3970037453183522E-2},342,342,"S.US.OFG",1204,"S.US.DSU"]
[null,null,"S.US.NAC",{"$f":"IFERROR(RTD(\"cqg.rtd\", ,\"ContractData\",C1205, \"PerCentNetLastTrade\",, \"T\")/100,\"\")","v":-6.4748201438848919E-3},1908,1908,"S.US.NAC",1205,"S.US.GIL"]
[null,null,"S.US.FOR",{"$f":"IFERROR(RTD(\"cqg.rtd\", ,\"ContractData\",C1206, \"PerCentNetLastTrade\",, \"T\")/100,\"\")","v":9.0225563909774424E-3},755,755,"S.US.FOR",1206,"S.US.RFT"]
[null,null,"S.US.RGA",{"$f":"IFERROR(RTD(\"cqg.rtd\", ,\"ContractData\",C1207, \"PerCentNetLastTrade\",, \"T\")/100,\"\")","v":-6.8077427821522304E-3},1925,1925,"S.US.RGA",1207,"S.US.GTS"]
[null,null,"S.US.ATU",{"$f":"IFERROR(RTD(\"cqg.rtd\", ,\"ContractData\",C1208, \"PerCentNetLastTrade\",, \"T\")/100,\"\")","v":7.7071290944123313E-3},829,829,"S.US.ATU",1208,"S.US.ELU"]
[null,null,"S.US.ARW",{"$f":"IFERROR(RTD(\"cqg.rtd\", ,\"ContractData\",C1209, \"PerCentNetLastTrade\",, \"T\")/100,\"\")","v":2.9239766081871343E-3},1122,1122,"S.US.ARW",1209,"S.US.JFR"]
[null,null,"S.US.PKY",{"$f":"IFERROR(RTD(\"cqg.rtd\", ,\"ContractData\",C1210, \"PerCentNetLastTrade\",, \"T\")/100,\"\")","v":1.5814443858724301E-2},507,507,"S.US.PKY",1210,"S.US.SIX"]
[null,null,"S.US.SKM",{"$f":"IFERROR(RTD(\"cqg.rtd\", ,\"ContractData\",C1211, \"PerCentNetLastTrade\",, \"T\")/100,\"\")","v":8.9369708372530575E-3},759,759,"S.US.SKM",1211,"S.US.QHC"]
[null,null,"S.US.PB",{"$f":"IFERROR(RTD(\"cqg.rtd\", ,\"ContractData\",C1212, \"PerCentNetLastTrade\",, \"T\")/100,\"\")","v":2.2555229414490962E-2},358,358,"S.US.PB",1212,"S.US.AWH"]
[null,null,"S.US.CBR",{"$f":"IFERROR(RTD(\"cqg.rtd\", ,\"ContractData\",C1213, \"PerCentNetLastTrade\",, \"T\")/100,\"\")","v":3.8461538461538464E-2},205,205,"S.US.CBR",1213,"S.US.JRO"]
[null,null,"S.US.PSG",{"$f":"IFERROR(RTD(\"cqg.rtd\", ,\"ContractData\",C1214, \"PerCentNetLastTrade\",, \"T\")/100,\"\")","v":""},{"$error":"#VALUE!"},"","S.US.PSG",1214,"S.US.DV"]
[null,null,"S.US.UNVR",{"$f":"IFERROR(RTD(\"cqg.rtd\", ,\"ContractData\",C1215, \"PerCentNetLastTrade\",, \"T\")/100,\"\")","v":2.2568732047599509E-2},357,357,"S.US.UNVR",1215,"S.US.AFL"]
[null,null,"S.US.TLLP",{"$f":"IFERROR(RTD(\"cqg.rtd\", ,\"ContractData\",C1216, \"PerCentNetLastTrade\",, \"T\")/100,\"\")","v":2.8328611898016994E-2},299,299,"S.US.TLLP",1216,"S.US.MITTPB"]
[null,null,"S.US.EVTC",{"$f":"IFERROR(RTD(\"cqg.rtd\", ,\"ContractData\",C1217, \"PerCentNetLastTrade\",, \"T\")/100,\"\")","v":1.3888888888888888E-2},558,{"$f":"IFERROR(E1217,\"\")","v":558},{"$f":"C1217","v":"S.US.EVTC"},1217,{"$f":"IFERROR(VLOOKUP(H1217,$F$1:$G$2522,2,FALSE),\"\")","v":"S.US.GLW"}]
[null,null,"S.US.PHH",{"$f":"IFERROR(RTD(\"cqg.rtd\", ,\"ContractData\",C1218, \"PerCentNetLastTrade\",, \"T\")/100,\"\")","v":3.0704815073272856E-2},273,273,"S.US.PHH",{"$f":"H1217+1","v":1218},"S.US.PII"]
[null,null,"S.US.SWNC",{"$f":"IFERROR(RTD(\"cqg.rtd\", ,\"ContractData\",C1219, \"PerCentNetLastTrade\",, \"T\")/100,\"\")","v":1.142041399000714E-2},649,649,"S.US.SWNC",1219,"S.US.THG"]
[null,null,"S.US.ASC",{"$f":"IFERROR(RTD(\"cqg.rtd\", ,\"ContractData\",C1220, \"PerCentNetLastTrade\",, \"T\")/100,\"\")","v":3.2835820895522387E-2},257,257,"S.US.ASC",1220,"S.US.EOCC"]
[null,null,"S.US.QUOT",{"$f":"IFERROR(RTD(\"cqg.rtd\", ,\"ContractData\",C1221, \"PerCentNetLastTrade\",, \"T\")/100,\"\")","v":1.2048192771084338E-2},627,627,"S.US.QUOT",1221,"S.US.BHP"]
[null,null,"S.US.QTS",{"$f":"IFERROR(RTD(\"cqg.rtd\", ,\"ContractData\",C1222, \"PerCentNetLastTrade\",, \"T\")/100,\"\")","v":-3.971571906354515E-3},1712,1712,"S.US.QTS",1222,"S.US.HNP"]
[null,null,"S.US.ESS",{"$f":"IFERROR(RTD(\"cqg.rtd\", ,\"ContractData\",C1223, \"PerCentNetLastTrade\",, \"T\")/100,\"\")","v":6.4853847222865607E-4},1303,1303,"S.US.ESS",1223,"S.US.BFAM"]
[null,null,"S.US.EMES",{"$f":"IFERROR(RTD(\"cqg.rtd\", ,\"ContractData\",C1224, \"PerCentNetLastTrade\",, \"T\")/100,\"\")","v":0.13051643192488263},35,35,"S.US.EMES",1224,"S.US.ACP"]
[null,null,"S.US.AOD",{"$f":"IFERROR(RTD(\"cqg.rtd\", ,\"ContractData\",C1225, \"PerCentNetLastTrade\",, \"T\")/100,\"\")","v":-6.6844919786096255E-3},1918,1918,"S.US.AOD",1225,"S.US.BXMX"]
[null,null,"S.US.HTH",{"$f":"IFERROR(RTD(\"cqg.rtd\", ,\"ContractData\",C1226, \"PerCentNetLastTrade\",, \"T\")/100,\"\")","v":1.870503597122302E-2},431,431,"S.US.HTH",1226,"S.US.NSL"]
[null,null,"S.US.IOC",{"$f":"IFERROR(RTD(\"cqg.rtd\", ,\"ContractData\",C1227, \"PerCentNetLastTrade\",, \"T\")/100,\"\")","v":9.3129139072847672E-3},740,740,"S.US.IOC",1227,"S.US.FIX"]
[null,null,"S.US.CUDA",{"$f":"IFERROR(RTD(\"cqg.rtd\", ,\"ContractData\",C1228, \"PerCentNetLastTrade\",, \"T\")/100,\"\")","v":-1.9788918205804747E-2},2363,2363,"S.US.CUDA",1228,"S.US.IID"]
[null,null,"S.US.LFL",{"$f":"IFERROR(RTD(\"cqg.rtd\", ,\"ContractData\",C1229, \"PerCentNetLastTrade\",, \"T\")/100,\"\")","v":1.1641443538998836E-2},636,636,"S.US.LFL",1229,"S.US.IDE"]
[null,null,"S.US.NCT",{"$f":"IFERROR(RTD(\"cqg.rtd\", ,\"ContractData\",C1230, \"PerCentNetLastTrade\",, \"T\")/100,\"\")","v":1.785714285714286E-2},458,458,"S.US.NCT",1230,"S.US.AHT"]
[null,null,"S.US.HYT",{"$f":"IFERROR(RTD(\"cqg.rtd\", ,\"ContractData\",C1231, \"PerCentNetLastTrade\",, \"T\")/100,\"\")","v":4.7892720306513406E-3},994,994,"S.US.HYT",1231,"S.US.GM"]
[null,null,"S.US.CRS",{"$f":"IFERROR(RTD(\"cqg.rtd\", ,\"ContractData\",C1232, \"PerCentNetLastTrade\",, \"T\")/100,\"\")","v":4.7739399045212015E-3},995,995,"S.US.CRS",1232,"S.US.WU"]
[null,null,"S.US.PPR",{"$f":"IFERROR(RTD(\"cqg.rtd\", ,\"ContractData\",C1233, \"PerCentNetLastTrade\",, \"T\")/100,\"\")","v":1.8484288354898336E-3},1199,1199,"S.US.PPR",1233,"S.US.EIG"]
[null,null,"S.US.SEP",{"$f":"IFERROR(RTD(\"cqg.rtd\", ,\"ContractData\",C1234, \"PerCentNetLastTrade\",, \"T\")/100,\"\")","v":1.8815331010452963E-2},428,428,"S.US.SEP",1234,"S.US.INFY"]
[null,null,"S.US.GNRT",{"$f":"IFERROR(RTD(\"cqg.rtd\", ,\"ContractData\",C1235, \"PerCentNetLastTrade\",, \"T\")/100,\"\")","v":4.4999999999999998E-2},174,174,"S.US.GNRT",1235,"S.US.CVA"]
[null,null,"S.US.EBS",{"$f":"IFERROR(RTD(\"cqg.rtd\", ,\"ContractData\",C1236, \"PerCentNetLastTrade\",, \"T\")/100,\"\")","v":-1.9434628975265017E-2},2360,2360,"S.US.EBS",1236,"S.US.EEA"]
[null,null,"S.US.KEM",{"$f":"IFERROR(RTD(\"cqg.rtd\", ,\"ContractData\",C1237, \"PerCentNetLastTrade\",, \"T\")/100,\"\")","v":1.9891500904159132E-2},406,406,"S.US.KEM",1237,"S.US.MTH"]
[null,null,"S.US.FSS",{"$f":"IFERROR(RTD(\"cqg.rtd\", ,\"ContractData\",C1238, \"PerCentNetLastTrade\",, \"T\")/100,\"\")","v":3.7570444583594235E-3},1069,1069,"S.US.FSS",1238,"S.US.PJT"]
[null,null,"S.US.BIP",{"$f":"IFERROR(RTD(\"cqg.rtd\", ,\"ContractData\",C1239, \"PerCentNetLastTrade\",, \"T\")/100,\"\")","v":-9.4667087409277368E-4},1443,1443,"S.US.BIP",1239,"S.US.VGI"]
[null,null,"S.US.VR",{"$f":"IFERROR(RTD(\"cqg.rtd\", ,\"ContractData\",C1240, \"PerCentNetLastTrade\",, \"T\")/100,\"\")","v":-2.5403737978588275E-3},1585,1585,"S.US.VR",1240,"S.US.MSG"]
[null,null,"S.US.IT",{"$f":"IFERROR(RTD(\"cqg.rtd\", ,\"ContractData\",C1241, \"PerCentNetLastTrade\",, \"T\")/100,\"\")","v":-1.345119139123751E-3},1475,1475,"S.US.IT",1241,"S.US.SNY"]
[null,null,"S.US.PRLB",{"$f":"IFERROR(RTD(\"cqg.rtd\", ,\"ContractData\",C1242, \"PerCentNetLastTrade\",, \"T\")/100,\"\")","v":8.6538461538461543E-3},768,768,"S.US.PRLB",1242,"S.US.LBF"]
[null,null,"S.US.DRD",{"$f":"IFERROR(RTD(\"cqg.rtd\", ,\"ContractData\",C1243, \"PerCentNetLastTrade\",, \"T\")/100,\"\")","v":-6.0344827586206892E-2},2471,2471,"S.US.DRD",1243,"S.US.JFC"]
[null,null,"S.US.INT",{"$f":"IFERROR(RTD(\"cqg.rtd\", ,\"ContractData\",C1244, \"PerCentNetLastTrade\",, \"T\")/100,\"\")","v":1.9116977696859355E-2},420,420,"S.US.INT",1244,"S.US.MD"]
[null,null,"S.US.ENBL",{"$f":"IFERROR(RTD(\"cqg.rtd\", ,\"ContractData\",C1245, \"PerCentNetLastTrade\",, \"T\")/100,\"\")","v":3.6186499652052888E-2},231,231,"S.US.ENBL",1245,"S.US.CHGG"]
[null,null,"S.US.AKR",{"$f":"IFERROR(RTD(\"cqg.rtd\", ,\"ContractData\",C1246, \"PerCentNetLastTrade\",, \"T\")/100,\"\")","v":-1.1061285500747385E-2},2125,2125,"S.US.AKR",1246,"S.US.ADPT"]
[null,null,"S.US.SNA",{"$f":"IFERROR(RTD(\"cqg.rtd\", ,\"ContractData\",C1247, \"PerCentNetLastTrade\",, \"T\")/100,\"\")","v":-1.1322328824265539E-3},1455,1455,"S.US.SNA",1247,"S.US.TVC"]
[null,null,"S.US.RBA",{"$f":"IFERROR(RTD(\"cqg.rtd\", ,\"ContractData\",C1248, \"PerCentNetLastTrade\",, \"T\")/100,\"\")","v":1.4577259475218658E-2},540,540,"S.US.RBA",1248,"S.US.IR"]
[null,null,"S.US.RT",{"$f":"IFERROR(RTD(\"cqg.rtd\", ,\"ContractData\",C1249, \"PerCentNetLastTrade\",, \"T\")/100,\"\")","v":6.5789473684210531E-3},714,714,"S.US.RT",1249,"S.US.MCR"]
[null,null,"S.US.MFG",{"$f":"IFERROR(RTD(\"cqg.rtd\", ,\"ContractData\",C1250, \"PerCentNetLastTrade\",, \"T\")/100,\"\")","v":5.586592178770949E-3},941,941,"S.US.MFG",1250,"S.US.OUT"]
[null,null,"S.US.HBM",{"$f":"IFERROR(RTD(\"cqg.rtd\", ,\"ContractData\",C1251, \"PerCentNetLastTrade\",, \"T\")/100,\"\")","v":1.7910447761194031E-2},456,456,"S.US.HBM",1251,"S.US.BAM"]
[null,null,"S.US.NEP",{"$f":"IFERROR(RTD(\"cqg.rtd\", ,\"ContractData\",C1252, \"PerCentNetLastTrade\",, \"T\")/100,\"\")","v":-1.9600307455803226E-2},2362,2362,"S.US.NEP",1252,"S.US.ZTS"]
[null,null,"S.US.ASGN",{"$f":"IFERROR(RTD(\"cqg.rtd\", ,\"ContractData\",C1253, \"PerCentNetLastTrade\",, \"T\")/100,\"\")","v":3.3484812245874189E-3},1092,1092,"S.US.ASGN",1253,"S.US.TM"]
[null,null,"S.US.CHSP",{"$f":"IFERROR(RTD(\"cqg.rtd\", ,\"ContractData\",C1254, \"PerCentNetLastTrade\",, \"T\")/100,\"\")","v":3.4173430158052115E-3},1086,1086,"S.US.CHSP",1254,"S.US.CNHI"]
[null,null,"S.US.ENVA",{"$f":"IFERROR(RTD(\"cqg.rtd\", ,\"ContractData\",C1255, \"PerCentNetLastTrade\",, \"T\")/100,\"\")","v":1.2931034482758621E-2},592,592,"S.US.ENVA",1255,"S.US.RSO"]
[null,null,"S.US.HZO",{"$f":"IFERROR(RTD(\"cqg.rtd\", ,\"ContractData\",C1256, \"PerCentNetLastTrade\",, \"T\")/100,\"\")","v":8.0428954423592495E-3},805,805,"S.US.HZO",1256,"S.US.AGD"]
[null,null,"S.US.UE",{"$f":"IFERROR(RTD(\"cqg.rtd\", ,\"ContractData\",C1257, \"PerCentNetLastTrade\",, \"T\")/100,\"\")","v":-8.4064327485380112E-3},2014,2014,"S.US.UE",1257,"S.US.CRCM"]
[null,null,"S.US.GLOG",{"$f":"IFERROR(RTD(\"cqg.rtd\", ,\"ContractData\",C1258, \"PerCentNetLastTrade\",, \"T\")/100,\"\")","v":6.7114093959731544E-2},112,112,"S.US.GLOG",1258,"S.US.HEI"]
[null,null,"S.US.WRE",{"$f":"IFERROR(RTD(\"cqg.rtd\", ,\"ContractData\",C1259, \"PerCentNetLastTrade\",, \"T\")/100,\"\")","v":-7.0310003195909231E-3},1937,1937,"S.US.WRE",1259,"S.US.HYB"]
[null,null,"S.US.BAP",{"$f":"IFERROR(RTD(\"cqg.rtd\", ,\"ContractData\",C1260, \"PerCentNetLastTrade\",, \"T\")/100,\"\")","v":1.6491754122938532E-2},492,492,"S.US.BAP",1260,"S.US.ORI"]
[null,null,"S.US.DRQ",{"$f":"IFERROR(RTD(\"cqg.rtd\", ,\"ContractData\",C1261, \"PerCentNetLastTrade\",, \"T\")/100,\"\")","v":4.8507462686567165E-2},159,159,"S.US.DRQ",1261,"S.US.OPY"]
[null,null,"S.US.WRB",{"$f":"IFERROR(RTD(\"cqg.rtd\", ,\"ContractData\",C1262, \"PerCentNetLastTrade\",, \"T\")/100,\"\")","v":2.4115755627009648E-3},1158,1158,"S.US.WRB",1262,"S.US.TRV"]
[null,null,"S.US.TLK",{"$f":"IFERROR(RTD(\"cqg.rtd\", ,\"ContractData\",C1263, \"PerCentNetLastTrade\",, \"T\")/100,\"\")","v":-2.4673951357067326E-3},1579,1579,"S.US.TLK",1263,"S.US.CST"]
[null,null,"S.US.I",{"$f":"IFERROR(RTD(\"cqg.rtd\", ,\"ContractData\",C1264, \"PerCentNetLastTrade\",, \"T\")/100,\"\")","v":-2.0179372197309416E-2},2370,2370,"S.US.I",1264,"S.US.BLL"]
[null,null,"S.US.BDJ",{"$f":"IFERROR(RTD(\"cqg.rtd\", ,\"ContractData\",C1265, \"PerCentNetLastTrade\",, \"T\")/100,\"\")","v":8.7939698492462311E-3},766,766,"S.US.BDJ",1265,"S.US.EVER"]
[null,null,"S.US.SON",{"$f":"IFERROR(RTD(\"cqg.rtd\", ,\"ContractData\",C1266, \"PerCentNetLastTrade\",, \"T\")/100,\"\")","v":-3.9819004524886872E-3},1713,1713,"S.US.SON",1266,"S.US.PZN"]
[null,null,"S.US.ROL",{"$f":"IFERROR(RTD(\"cqg.rtd\", ,\"ContractData\",C1267, \"PerCentNetLastTrade\",, \"T\")/100,\"\")","v":6.1728395061728394E-4},1305,1305,"S.US.ROL",1267,"S.US.SPGI"]
[null,null,"S.US.BCC",{"$f":"IFERROR(RTD(\"cqg.rtd\", ,\"ContractData\",C1268, \"PerCentNetLastTrade\",, \"T\")/100,\"\")","v":4.4052863436123343E-3},1017,1017,"S.US.BCC",1268,"S.US.CBS"]
[null,null,"S.US.AWP",{"$f":"IFERROR(RTD(\"cqg.rtd\", ,\"ContractData\",C1269, \"PerCentNetLastTrade\",, \"T\")/100,\"\")","v":-3.8986354775828458E-3},1697,1697,"S.US.AWP",1269,"S.US.MGA"]
[null,null,"S.US.GHL",{"$f":"IFERROR(RTD(\"cqg.rtd\", ,\"ContractData\",C1270, \"PerCentNetLastTrade\",, \"T\")/100,\"\")","v":5.4054054054054057E-3},950,950,"S.US.GHL",1270,"S.US.WRK"]
[null,null,"S.US.AT",{"$f":"IFERROR(RTD(\"cqg.rtd\", ,\"ContractData\",C1271, \"PerCentNetLastTrade\",, \"T\")/100,\"\")","v":0},1341,1341,"S.US.AT",1271,"S.US.ABB"]
[null,null,"S.US.HAE",{"$f":"IFERROR(RTD(\"cqg.rtd\", ,\"ContractData\",C1272, \"PerCentNetLastTrade\",, \"T\")/100,\"\")","v":4.2918454935622317E-3},1024,1024,"S.US.HAE",1272,"S.US.CBM"]
[null,null,"S.US.XHR",{"$f":"IFERROR(RTD(\"cqg.rtd\", ,\"ContractData\",C1273, \"PerCentNetLastTrade\",, \"T\")/100,\"\")","v":4.018369690011481E-3},1045,1045,"S.US.XHR",1273,"S.US.LDOS"]
[null,null,"S.US.UFS",{"$f":"IFERROR(RTD(\"cqg.rtd\", ,\"ContractData\",C1274, \"PerCentNetLastTrade\",, \"T\")/100,\"\")","v":8.5315408479834549E-3},775,775,"S.US.UFS",1274,"S.US.COL"]
[null,null,"S.US.MX",{"$f":"IFERROR(RTD(\"cqg.rtd\", ,\"ContractData\",C1275, \"PerCentNetLastTrade\",, \"T\")/100,\"\")","v":-2.2388059701492536E-2},2398,2398,"S.US.MX",1275,"S.US.AJRD"]
[null,null,"S.US.NCS",{"$f":"IFERROR(RTD(\"cqg.rtd\", ,\"ContractData\",C1276, \"PerCentNetLastTrade\",, \"T\")/100,\"\")","v":-2.9325513196480938E-3},1618,1618,"S.US.NCS",1276,"S.US.AHL"]
[null,null,"S.US.MUSA",{"$f":"IFERROR(RTD(\"cqg.rtd\", ,\"ContractData\",C1277, \"PerCentNetLastTrade\",, \"T\")/100,\"\")","v":-1.9887591872027668E-2},2365,2365,"S.US.MUSA",1277,"S.US.TEI"]
[null,null,"S.US.NCV",{"$f":"IFERROR(RTD(\"cqg.rtd\", ,\"ContractData\",C1278, \"PerCentNetLastTrade\",, \"T\")/100,\"\")","v":-1.386748844375963E-2},2233,2233,"S.US.NCV",1278,"S.US.ALG"]
[null,null,"S.US.CBT",{"$f":"IFERROR(RTD(\"cqg.rtd\", ,\"ContractData\",C1279, \"PerCentNetLastTrade\",, \"T\")/100,\"\")","v":4.9534376857539135E-3},984,984,"S.US.CBT",1279,"S.US.SNX"]
[null,null,"S.US.NGL",{"$f":"IFERROR(RTD(\"cqg.rtd\", ,\"ContractData\",C1280, \"PerCentNetLastTrade\",, \"T\")/100,\"\")","v":2.54957507082153E-2},328,328,"S.US.NGL",1280,"S.US.HNI"]
[null,null,"S.US.KRO",{"$f":"IFERROR(RTD(\"cqg.rtd\", ,\"ContractData\",C1281, \"PerCentNetLastTrade\",, \"T\")/100,\"\")","v":2.2894521668029438E-2},354,{"$f":"IFERROR(E1281,\"\")","v":354},{"$f":"C1281","v":"S.US.KRO"},1281,{"$f":"IFERROR(VLOOKUP(H1281,$F$1:$G$2522,2,FALSE),\"\")","v":"S.US.ENH"}]
[null,null,"S.US.SSTK",{"$f":"IFERROR(RTD(\"cqg.rtd\", ,\"ContractData\",C1282, \"PerCentNetLastTrade\",, \"T\")/100,\"\")","v":-1.8722696068233827E-3},1519,1519,"S.US.SSTK",{"$f":"H1281+1","v":1282},"S.US.WCIC"]
[null,null,"S.US.WST",{"$f":"IFERROR(RTD(\"cqg.rtd\", ,\"ContractData\",C1283, \"PerCentNetLastTrade\",, \"T\")/100,\"\")","v":-4.9793538984697593E-3},1781,1781,"S.US.WST",1283,"S.US.KST"]
[null,null,"S.US.VC",{"$f":"IFERROR(RTD(\"cqg.rtd\", ,\"ContractData\",C1284, \"PerCentNetLastTrade\",, \"T\")/100,\"\")","v":4.7266223811957076E-3},997,997,"S.US.VC",1284,"S.US.ANTX"]
[null,null,"S.US.LKSD",{"$f":"IFERROR(RTD(\"cqg.rtd\", ,\"ContractData\",C1285, \"PerCentNetLastTrade\",, \"T\")/100,\"\")","v":1.025390625E-2},700,700,"S.US.LKSD",1285,"S.US.CAH"]
[null,null,"S.US.CWEI",{"$f":"IFERROR(RTD(\"cqg.rtd\", ,\"ContractData\",C1286, \"PerCentNetLastTrade\",, \"T\")/100,\"\")","v":0.15379786566227244},19,19,"S.US.CWEI",1286,"S.US.WNR"]
[null,null,"S.US.ORAN",{"$f":"IFERROR(RTD(\"cqg.rtd\", ,\"ContractData\",C1287, \"PerCentNetLastTrade\",, \"T\")/100,\"\")","v":-8.9224433768016476E-3},2036,2036,"S.US.ORAN",1287,"S.US.NOW"]
[null,null,"S.US.NMFC",{"$f":"IFERROR(RTD(\"cqg.rtd\", ,\"ContractData\",C1288, \"PerCentNetLastTrade\",, \"T\")/100,\"\")","v":-2.8368794326241137E-3},1608,1608,"S.US.NMFC",1288,"S.US.KYO"]
[null,null,"S.US.REXR",{"$f":"IFERROR(RTD(\"cqg.rtd\", ,\"ContractData\",C1289, \"PerCentNetLastTrade\",, \"T\")/100,\"\")","v":-7.5723830734966587E-3},1965,1965,"S.US.REXR",1289,"S.US.TVE"]
[null,null,"S.US.TFX",{"$f":"IFERROR(RTD(\"cqg.rtd\", ,\"ContractData\",C1290, \"PerCentNetLastTrade\",, \"T\")/100,\"\")","v":-2.02485966319166E-2},2372,2372,"S.US.TFX",1290,"S.US.TNET"]
[null,null,"S.US.IGR",{"$f":"IFERROR(RTD(\"cqg.rtd\", ,\"ContractData\",C1291, \"PerCentNetLastTrade\",, \"T\")/100,\"\")","v":-5.5172413793103444E-3},1822,1822,"S.US.IGR",1291,"S.US.EDI"]
[null,null,"S.US.SB",{"$f":"IFERROR(RTD(\"cqg.rtd\", ,\"ContractData\",C1292, \"PerCentNetLastTrade\",, \"T\")/100,\"\")","v":-1.3157894736842106E-2},2203,2203,"S.US.SB",1292,"S.US.WWAV"]
[null,null,"S.US.BXE",{"$f":"IFERROR(RTD(\"cqg.rtd\", ,\"ContractData\",C1293, \"PerCentNetLastTrade\",, \"T\")/100,\"\")","v":6.8493150684931503E-2},109,109,"S.US.BXE",1293,"S.US.HON"]
[null,null,"S.US.PSO",{"$f":"IFERROR(RTD(\"cqg.rtd\", ,\"ContractData\",C1294, \"PerCentNetLastTrade\",, \"T\")/100,\"\")","v":1.962809917355372E-2},414,414,"S.US.PSO",1294,"S.US.EQT"]
[null,null,"S.US.WWE",{"$f":"IFERROR(RTD(\"cqg.rtd\", ,\"ContractData\",C1295, \"PerCentNetLastTrade\",, \"T\")/100,\"\")","v":3.1729243786356425E-3},1108,1108,"S.US.WWE",1295,"S.US.WOR"]
[null,null,"S.US.HUBS",{"$f":"IFERROR(RTD(\"cqg.rtd\", ,\"ContractData\",C1296, \"PerCentNetLastTrade\",, \"T\")/100,\"\")","v":9.6916299559471359E-3},719,719,"S.US.HUBS",1296,"S.US.SHO"]
[null,null,"S.US.CSL",{"$f":"IFERROR(RTD(\"cqg.rtd\", ,\"ContractData\",C1297, \"PerCentNetLastTrade\",, \"T\")/100,\"\")","v":-3.3913043478260869E-3},1654,1654,"S.US.CSL",1297,"S.US.ESD"]
[null,null,"S.US.BKH",{"$f":"IFERROR(RTD(\"cqg.rtd\", ,\"ContractData\",C1298, \"PerCentNetLastTrade\",, \"T\")/100,\"\")","v":-1.9318925998690242E-2},2357,2357,"S.US.BKH",1298,"S.US.CAE"]
[null,null,"S.US.KFY",{"$f":"IFERROR(RTD(\"cqg.rtd\", ,\"ContractData\",C1299, \"PerCentNetLastTrade\",, \"T\")/100,\"\")","v":1.0272619517977083E-2},699,699,"S.US.KFY",1299,"S.US.ALV"]
[null,null,"S.US.BFAM",{"$f":"IFERROR(RTD(\"cqg.rtd\", ,\"ContractData\",C1300, \"PerCentNetLastTrade\",, \"T\")/100,\"\")","v":1.5759312320916905E-3},1223,1223,"S.US.BFAM",1300,"S.US.WD"]
[null,null,"S.US.CAL",{"$f":"IFERROR(RTD(\"cqg.rtd\", ,\"ContractData\",C1301, \"PerCentNetLastTrade\",, \"T\")/100,\"\")","v":1.8125960061443933E-2},447,447,"S.US.CAL",1301,"S.US.PSA"]
[null,null,"S.US.EPR",{"$f":"IFERROR(RTD(\"cqg.rtd\", ,\"ContractData\",C1302, \"PerCentNetLastTrade\",, \"T\")/100,\"\")","v":-1.8073990398192602E-2},2330,2330,"S.US.EPR",1302,"S.US.RLI"]
[null,null,"S.US.GIM",{"$f":"IFERROR(RTD(\"cqg.rtd\", ,\"ContractData\",C1303, \"PerCentNetLastTrade\",, \"T\")/100,\"\")","v":3.189792663476874E-3},1106,1106,"S.US.GIM",1303,"S.US.ESS"]
[null,null,"S.US.ARCO",{"$f":"IFERROR(RTD(\"cqg.rtd\", ,\"ContractData\",C1304, \"PerCentNetLastTrade\",, \"T\")/100,\"\")","v":8.4745762711864406E-3},780,780,"S.US.ARCO",1304,"S.US.YUM"]
[null,null,"S.US.FLOW",{"$f":"IFERROR(RTD(\"cqg.rtd\", ,\"ContractData\",C1305, \"PerCentNetLastTrade\",, \"T\")/100,\"\")","v":2.2501654533421577E-2},359,359,"S.US.FLOW",1305,"S.US.ROL"]
[null,null,"S.US.WBAI",{"$f":"IFERROR(RTD(\"cqg.rtd\", ,\"ContractData\",C1306, \"PerCentNetLastTrade\",, \"T\")/100,\"\")","v":-2.9850746268656712E-3},1625,1625,"S.US.WBAI",1306,"S.US.TEO"]
[null,null,"S.US.GWB",{"$f":"IFERROR(RTD(\"cqg.rtd\", ,\"ContractData\",C1307, \"PerCentNetLastTrade\",, \"T\")/100,\"\")","v":2.345360824742268E-2},347,347,"S.US.GWB",1307,"S.US.MMS"]
[null,null,"S.US.CST",{"$f":"IFERROR(RTD(\"cqg.rtd\", ,\"ContractData\",C1308, \"PerCentNetLastTrade\",, \"T\")/100,\"\")","v":1.0403662089055348E-3},1263,1263,"S.US.CST",1308,"S.US.WR"]
[null,null,"S.US.SJI",{"$f":"IFERROR(RTD(\"cqg.rtd\", ,\"ContractData\",C1309, \"PerCentNetLastTrade\",, \"T\")/100,\"\")","v":-1.03397341211226E-2},2095,2095,"S.US.SJI",1309,"S.US.ETO"]
[null,null,"S.US.HIO",{"$f":"IFERROR(RTD(\"cqg.rtd\", ,\"ContractData\",C1310, \"PerCentNetLastTrade\",, \"T\")/100,\"\")","v":2.0408163265306124E-3},1189,1189,"S.US.HIO",1310,"S.US.SAR"]
[null,null,"S.US.HYH",{"$f":"IFERROR(RTD(\"cqg.rtd\", ,\"ContractData\",C1311, \"PerCentNetLastTrade\",, \"T\")/100,\"\")","v":-5.6512378902045211E-3},1833,1833,"S.US.HYH",1311,"S.US.TRK"]
[null,null,"S.US.PAM",{"$f":"IFERROR(RTD(\"cqg.rtd\", ,\"ContractData\",C1312, \"PerCentNetLastTrade\",, \"T\")/100,\"\")","v":4.56490727532097E-3},1005,1005,"S.US.PAM",1312,"S.US.HAR"]
[null,null,"S.US.AFG",{"$f":"IFERROR(RTD(\"cqg.rtd\", ,\"ContractData\",C1313, \"PerCentNetLastTrade\",, \"T\")/100,\"\")","v":2.4260067928190198E-4},1323,1323,"S.US.AFG",1313,"S.US.IPHI"]
[null,null,"S.US.TCO",{"$f":"IFERROR(RTD(\"cqg.rtd\", ,\"ContractData\",C1314, \"PerCentNetLastTrade\",, \"T\")/100,\"\")","v":-1.8977904297139759E-3},1521,1521,"S.US.TCO",1314,"S.US.LOCK"]
[null,null,"S.US.WGL",{"$f":"IFERROR(RTD(\"cqg.rtd\", ,\"ContractData\",C1315, \"PerCentNetLastTrade\",, \"T\")/100,\"\")","v":-1.1700571732482384E-2},2153,2153,"S.US.WGL",1315,"S.US.SRG"]
[null,null,"S.US.PSXP",{"$f":"IFERROR(RTD(\"cqg.rtd\", ,\"ContractData\",C1316, \"PerCentNetLastTrade\",, \"T\")/100,\"\")","v":2.171454422076453E-2},372,372,"S.US.PSXP",1316,"S.US.HLF"]
[null,null,"S.US.CUBI",{"$f":"IFERROR(RTD(\"cqg.rtd\", ,\"ContractData\",C1317, \"PerCentNetLastTrade\",, \"T\")/100,\"\")","v":1.2650016217969511E-2},605,605,"S.US.CUBI",1317,"S.US.AED"]
[null,null,"S.US.RYN",{"$f":"IFERROR(RTD(\"cqg.rtd\", ,\"ContractData\",C1318, \"PerCentNetLastTrade\",, \"T\")/100,\"\")","v":-1.2422360248447204E-2},2176,2176,"S.US.RYN",1318,"S.US.PDI"]
[null,null,"S.US.SITE",{"$f":"IFERROR(RTD(\"cqg.rtd\", ,\"ContractData\",C1319, \"PerCentNetLastTrade\",, \"T\")/100,\"\")","v":-8.0023710729104931E-3},1986,1986,"S.US.SITE",1319,"S.US.WMK"]
[null,null,"S.US.WLH",{"$f":"IFERROR(RTD(\"cqg.rtd\", ,\"ContractData\",C1320, \"PerCentNetLastTrade\",, \"T\")/100,\"\")","v":-2.2504892367906065E-2},2400,2400,"S.US.WLH",1320,"S.US.KOF"]
[null,null,"S.US.TCS",{"$f":"IFERROR(RTD(\"cqg.rtd\", ,\"ContractData\",C1321, \"PerCentNetLastTrade\",, \"T\")/100,\"\")","v":5.008347245409015E-3},981,981,"S.US.TCS",1321,"S.US.DIS"]
[null,null,"S.US.UVE",{"$f":"IFERROR(RTD(\"cqg.rtd\", ,\"ContractData\",C1322, \"PerCentNetLastTrade\",, \"T\")/100,\"\")","v":6.0851926977687635E-3},910,910,"S.US.UVE",1322,"S.US.NVS"]
[null,null,"S.US.FCF",{"$f":"IFERROR(RTD(\"cqg.rtd\", ,\"ContractData\",C1323, \"PerCentNetLastTrade\",, \"T\")/100,\"\")","v":1.2688342585249802E-2},603,603,"S.US.FCF",1323,"S.US.AFG"]
[null,null,"S.US.FCB",{"$f":"IFERROR(RTD(\"cqg.rtd\", ,\"ContractData\",C1324, \"PerCentNetLastTrade\",, \"T\")/100,\"\")","v":1.1481056257175659E-2},645,645,"S.US.FCB",1324,"S.US.AYI"]
[null,null,"S.US.MATX",{"$f":"IFERROR(RTD(\"cqg.rtd\", ,\"ContractData\",C1325, \"PerCentNetLastTrade\",, \"T\")/100,\"\")","v":0},1342,1342,"S.US.MATX",1325,"S.US.LNKD"]
[null,null,"S.US.WPC",{"$f":"IFERROR(RTD(\"cqg.rtd\", ,\"ContractData\",C1326, \"PerCentNetLastTrade\",, \"T\")/100,\"\")","v":-1.9347240915208615E-2},2359,2359,"S.US.WPC",1326,"S.US.GE"]
[null,null,"S.US.CHT",{"$f":"IFERROR(RTD(\"cqg.rtd\", ,\"ContractData\",C1327, \"PerCentNetLastTrade\",, \"T\")/100,\"\")","v":-5.0550104073743682E-3},1788,1788,"S.US.CHT",1327,"S.US.HPQ"]
[null,null,"S.US.BCO",{"$f":"IFERROR(RTD(\"cqg.rtd\", ,\"ContractData\",C1328, \"PerCentNetLastTrade\",, \"T\")/100,\"\")","v":1.1547911547911547E-2},640,640,"S.US.BCO",1328,"S.US.CIG"]
[null,null,"S.US.TRTN",{"$f":"IFERROR(RTD(\"cqg.rtd\", ,\"ContractData\",C1329, \"PerCentNetLastTrade\",, \"T\")/100,\"\")","v":-7.5225677031093277E-3},1963,1963,"S.US.TRTN",1329,"S.US.NRZ"]
[null,null,"S.US.BSAC",{"$f":"IFERROR(RTD(\"cqg.rtd\", ,\"ContractData\",C1330, \"PerCentNetLastTrade\",, \"T\")/100,\"\")","v":6.8997240110395585E-3},869,869,"S.US.BSAC",1330,"S.US.CIEN"]
[null,null,"S.US.LII",{"$f":"IFERROR(RTD(\"cqg.rtd\", ,\"ContractData\",C1331, \"PerCentNetLastTrade\",, \"T\")/100,\"\")","v":-4.6926635822868469E-3},1758,1758,"S.US.LII",1331,"S.US.AEG"]
[null,null,"S.US.CDR",{"$f":"IFERROR(RTD(\"cqg.rtd\", ,\"ContractData\",C1332, \"PerCentNetLastTrade\",, \"T\")/100,\"\")","v":0},1343,1343,"S.US.CDR",1332,"S.US.TEF"]
[null,null,"S.US.QHC",{"$f":"IFERROR(RTD(\"cqg.rtd\", ,\"ContractData\",C1333, \"PerCentNetLastTrade\",, \"T\")/100,\"\")","v":1.7271157167530224E-3},1211,1211,"S.US.QHC",1333,"S.US.ZEN"]
[null,null,"S.US.PBH",{"$f":"IFERROR(RTD(\"cqg.rtd\", ,\"ContractData\",C1334, \"PerCentNetLastTrade\",, \"T\")/100,\"\")","v":-1.3507896924355778E-2},2222,2222,"S.US.PBH",1334,"S.US.JOY"]
[null,null,"S.US.MCC",{"$f":"IFERROR(RTD(\"cqg.rtd\", ,\"ContractData\",C1335, \"PerCentNetLastTrade\",, \"T\")/100,\"\")","v":3.831417624521073E-3},1067,1067,"S.US.MCC",1335,"S.US.OMI"]
[null,null,"S.US.ETY",{"$f":"IFERROR(RTD(\"cqg.rtd\", ,\"ContractData\",C1336, \"PerCentNetLastTrade\",, \"T\")/100,\"\")","v":-9.727626459143969E-4},1444,1444,"S.US.ETY",1336,"S.US.PHK"]
[null,null,"S.US.PPS",{"$f":"IFERROR(RTD(\"cqg.rtd\", ,\"ContractData\",C1337, \"PerCentNetLastTrade\",, \"T\")/100,\"\")","v":-1.0521569216894636E-2},2102,2102,"S.US.PPS",1337,"S.US.NYLD"]
[null,null,"S.US.CMRE",{"$f":"IFERROR(RTD(\"cqg.rtd\", ,\"ContractData\",C1338, \"PerCentNetLastTrade\",, \"T\")/100,\"\")","v":-0.13533834586466165},2475,2475,"S.US.CMRE",1338,"S.US.MYCC"]
[null,null,"S.US.SPXC",{"$f":"IFERROR(RTD(\"cqg.rtd\", ,\"ContractData\",C1339, \"PerCentNetLastTrade\",, \"T\")/100,\"\")","v":8.6455331412103736E-3},770,770,"S.US.SPXC",1339,"S.US.ATEN"]
[null,null,"S.US.KRA",{"$f":"IFERROR(RTD(\"cqg.rtd\", ,\"ContractData\",C1340, \"PerCentNetLastTrade\",, \"T\")/100,\"\")","v":4.6943600135089497E-2},161,161,"S.US.KRA",1340,"S.US.KW"]
[null,null,"S.US.BGY",{"$f":"IFERROR(RTD(\"cqg.rtd\", ,\"ContractData\",C1341, \"PerCentNetLastTrade\",, \"T\")/100,\"\")","v":-3.669724770642202E-3},1677,1677,"S.US.BGY",1341,"S.US.AT"]
[null,null,"S.US.VLRS",{"$f":"IFERROR(RTD(\"cqg.rtd\", ,\"ContractData\",C1342, \"PerCentNetLastTrade\",, \"T\")/100,\"\")","v":-1.1432414256893073E-2},2111,2111,"S.US.VLRS",1342,"S.US.MATX"]
[null,null,"S.US.TREX",{"$f":"IFERROR(RTD(\"cqg.rtd\", ,\"ContractData\",C1343, \"PerCentNetLastTrade\",, \"T\")/100,\"\")","v":6.1946902654867256E-3},903,903,"S.US.TREX",1343,"S.US.CDR"]
[null,null,"S.US.HK",{"$f":"IFERROR(RTD(\"cqg.rtd\", ,\"ContractData\",C1344, \"PerCentNetLastTrade\",, \"T\")/100,\"\")","v":7.9718640093786639E-2},92,92,"S.US.HK",1344,"S.US.VSLR"]
[null,null,"S.US.IVC",{"$f":"IFERROR(RTD(\"cqg.rtd\", ,\"ContractData\",C1345, \"PerCentNetLastTrade\",, \"T\")/100,\"\")","v":2.6200873362445413E-2},318,{"$f":"IFERROR(E1345,\"\")","v":318},{"$f":"C1345","v":"S.US.IVC"},1345,{"$f":"IFERROR(VLOOKUP(H1345,$F$1:$G$2522,2,FALSE),\"\")","v":"S.US.CLS"}]
[null,null,"S.US.CUK",{"$f":"IFERROR(RTD(\"cqg.rtd\", ,\"ContractData\",C1346, \"PerCentNetLastTrade\",, \"T\")/100,\"\")","v":-3.0929791271347248E-2},2449,2449,"S.US.CUK",{"$f":"H1345+1","v":1346},"S.US.PTY"]
[null,null,"S.US.SJR",{"$f":"IFERROR(RTD(\"cqg.rtd\", ,\"ContractData\",C1347, \"PerCentNetLastTrade\",, \"T\")/100,\"\")","v":-9.6202531645569623E-3},2064,2064,"S.US.SJR",1347,"S.US.EDD"]
[null,null,"S.US.GAB",{"$f":"IFERROR(RTD(\"cqg.rtd\", ,\"ContractData\",C1348, \"PerCentNetLastTrade\",, \"T\")/100,\"\")","v":5.3380782918149459E-3},955,955,"S.US.GAB",1348,"S.US.EXAR"]
[null,null,"S.US.NVGS",{"$f":"IFERROR(RTD(\"cqg.rtd\", ,\"ContractData\",C1349, \"PerCentNetLastTrade\",, \"T\")/100,\"\")","v":2.4539877300613498E-2},338,338,"S.US.NVGS",1349,"S.US.PER"]
[null,null,"S.US.CPL",{"$f":"IFERROR(RTD(\"cqg.rtd\", ,\"ContractData\",C1350, \"PerCentNetLastTrade\",, \"T\")/100,\"\")","v":-6.2586926286509036E-3},1884,1884,"S.US.CPL",1350,"S.US.DOOR"]
[null,null,"S.US.RYI",{"$f":"IFERROR(RTD(\"cqg.rtd\", ,\"ContractData\",C1351, \"PerCentNetLastTrade\",, \"T\")/100,\"\")","v":8.4805653710247359E-3},778,778,"S.US.RYI",1351,"S.US.BRC"]
[null,null,"S.US.TPRE",{"$f":"IFERROR(RTD(\"cqg.rtd\", ,\"ContractData\",C1352, \"PerCentNetLastTrade\",, \"T\")/100,\"\")","v":5.8823529411764705E-3},923,923,"S.US.TPRE",1352,"S.US.ETG"]
[null,null,"S.US.PMC",{"$f":"IFERROR(RTD(\"cqg.rtd\", ,\"ContractData\",C1353, \"PerCentNetLastTrade\",, \"T\")/100,\"\")","v":6.1728395061728392E-3},905,905,"S.US.PMC",1353,"S.US.PFN"]
[null,null,"S.US.BBN",{"$f":"IFERROR(RTD(\"cqg.rtd\", ,\"ContractData\",C1354, \"PerCentNetLastTrade\",, \"T\")/100,\"\")","v":-1.0332434860736747E-2},2094,2094,"S.US.BBN",1354,"S.US.GHY"]
[null,null,"S.US.CAJ",{"$f":"IFERROR(RTD(\"cqg.rtd\", ,\"ContractData\",C1355, \"PerCentNetLastTrade\",, \"T\")/100,\"\")","v":5.5652173913043482E-3},942,942,"S.US.CAJ",1355,"S.US.GMRE"]
[null,null,"S.US.WEX",{"$f":"IFERROR(RTD(\"cqg.rtd\", ,\"ContractData\",C1356, \"PerCentNetLastTrade\",, \"T\")/100,\"\")","v":2.8657616892911009E-2},296,296,"S.US.WEX",1356,"S.US.TSLX"]
[null,null,"S.US.CSLT",{"$f":"IFERROR(RTD(\"cqg.rtd\", ,\"ContractData\",C1357, \"PerCentNetLastTrade\",, \"T\")/100,\"\")","v":1.0869565217391304E-2},668,668,"S.US.CSLT",1357,"S.US.DAC"]
[null,null,"S.US.RDY",{"$f":"IFERROR(RTD(\"cqg.rtd\", ,\"ContractData\",C1358, \"PerCentNetLastTrade\",, \"T\")/100,\"\")","v":5.1724137931034482E-3},960,960,"S.US.RDY",1358,"S.US.TSI"]
[null,null,"S.US.AHH",{"$f":"IFERROR(RTD(\"cqg.rtd\", ,\"ContractData\",C1359, \"PerCentNetLastTrade\",, \"T\")/100,\"\")","v":-3.021978021978022E-2},2448,2448,"S.US.AHH",1359,"S.US.DEX"]
[null,null,"S.US.DNP",{"$f":"IFERROR(RTD(\"cqg.rtd\", ,\"ContractData\",C1360, \"PerCentNetLastTrade\",, \"T\")/100,\"\")","v":-1.1776251226692836E-2},2157,2157,"S.US.DNP",1360,"S.US.SPA"]
[null,null,"S.US.NCZ",{"$f":"IFERROR(RTD(\"cqg.rtd\", ,\"ContractData\",C1361, \"PerCentNetLastTrade\",, \"T\")/100,\"\")","v":-7.1428571428571426E-3},1945,1945,"S.US.NCZ",1361,"S.US.AIF"]
[null,null,"S.US.SOL",{"$f":"IFERROR(RTD(\"cqg.rtd\", ,\"ContractData\",C1362, \"PerCentNetLastTrade\",, \"T\")/100,\"\")","v":1.3698630136986301E-2},566,566,"S.US.SOL",1362,"S.US.AGM"]
[null,null,"S.US.HT",{"$f":"IFERROR(RTD(\"cqg.rtd\", ,\"ContractData\",C1363, \"PerCentNetLastTrade\",, \"T\")/100,\"\")","v":7.9800498753117219E-3},809,809,"S.US.HT",1363,"S.US.IGA"]
[null,null,"S.US.GATX",{"$f":"IFERROR(RTD(\"cqg.rtd\", ,\"ContractData\",C1364, \"PerCentNetLastTrade\",, \"T\")/100,\"\")","v":2.3212280044926991E-2},351,351,"S.US.GATX",1364,"S.US.FCT"]
[null,null,"S.US.DLX",{"$f":"IFERROR(RTD(\"cqg.rtd\", ,\"ContractData\",C1365, \"PerCentNetLastTrade\",, \"T\")/100,\"\")","v":7.4311525571907336E-3},843,843,"S.US.DLX",1365,"S.US.JSD"]
[null,null,"S.US.TGP",{"$f":"IFERROR(RTD(\"cqg.rtd\", ,\"ContractData\",C1366, \"PerCentNetLastTrade\",, \"T\")/100,\"\")","v":5.9027777777777776E-2},126,126,"S.US.TGP",1366,"S.US.MRIN"]
[null,null,"S.US.FDS",{"$f":"IFERROR(RTD(\"cqg.rtd\", ,\"ContractData\",C1367, \"PerCentNetLastTrade\",, \"T\")/100,\"\")","v":-8.7800655413343229E-3},2030,2030,"S.US.FDS",1367,"S.US.DCA"]
[null,null,"S.US.MTN",{"$f":"IFERROR(RTD(\"cqg.rtd\", ,\"ContractData\",C1368, \"PerCentNetLastTrade\",, \"T\")/100,\"\")","v":-7.0983272637491516E-3},1942,1942,"S.US.MTN",1368,"S.US.PKE"]
[null,null,"S.US.GFF",{"$f":"IFERROR(RTD(\"cqg.rtd\", ,\"ContractData\",C1369, \"PerCentNetLastTrade\",, \"T\")/100,\"\")","v":-6.2630480167014616E-3},1885,1885,"S.US.GFF",1369,"S.US.BORN"]
[null,null,"S.US.SUI",{"$f":"IFERROR(RTD(\"cqg.rtd\", ,\"ContractData\",C1370, \"PerCentNetLastTrade\",, \"T\")/100,\"\")","v":-1.4044177802017999E-2},2236,2236,"S.US.SUI",1370,"S.US.FT"]
[null,null,"S.US.RHP",{"$f":"IFERROR(RTD(\"cqg.rtd\", ,\"ContractData\",C1371, \"PerCentNetLastTrade\",, \"T\")/100,\"\")","v":6.7415730337078653E-3},878,878,"S.US.RHP",1371,"S.US.KMM"]
[null,null,"S.US.MDP",{"$f":"IFERROR(RTD(\"cqg.rtd\", ,\"ContractData\",C1372, \"PerCentNetLastTrade\",, \"T\")/100,\"\")","v":1.2601260126012601E-2},607,607,"S.US.MDP",1372,"S.US.GDL"]
[null,null,"S.US.CEQP",{"$f":"IFERROR(RTD(\"cqg.rtd\", ,\"ContractData\",C1373, \"PerCentNetLastTrade\",, \"T\")/100,\"\")","v":6.7312348668280869E-2},111,111,"S.US.CEQP",1373,"S.US.MANU"]
[null,null,"S.US.CBM",{"$f":"IFERROR(RTD(\"cqg.rtd\", ,\"ContractData\",C1374, \"PerCentNetLastTrade\",, \"T\")/100,\"\")","v":9.7943192948090111E-4},1272,1272,"S.US.CBM",1374,"S.US.NPV"]
[null,null,"S.US.RENN",{"$f":"IFERROR(RTD(\"cqg.rtd\", ,\"ContractData\",C1375, \"PerCentNetLastTrade\",, \"T\")/100,\"\")","v":-1.5463917525773196E-2},2276,2276,"S.US.RENN",1375,"S.US.DNI"]
[null,null,"S.US.ANW",{"$f":"IFERROR(RTD(\"cqg.rtd\", ,\"ContractData\",C1376, \"PerCentNetLastTrade\",, \"T\")/100,\"\")","v":2.6976744186046512E-2},309,309,"S.US.ANW",1376,"S.US.CO"]
[null,null,"S.US.PN",{"$f":"IFERROR(RTD(\"cqg.rtd\", ,\"ContractData\",C1377, \"PerCentNetLastTrade\",, \"T\")/100,\"\")","v":-1.075268817204301E-2},2110,2110,"S.US.PN",1377,"S.US.VBF"]
[null,null,"S.US.HIFR",{"$f":"IFERROR(RTD(\"cqg.rtd\", ,\"ContractData\",C1378, \"PerCentNetLastTrade\",, \"T\")/100,\"\")","v":-5.6689342403628117E-3},1836,1836,"S.US.HIFR",1378,"S.US.VLT"]
[null,null,"S.US.TBI",{"$f":"IFERROR(RTD(\"cqg.rtd\", ,\"ContractData\",C1379, \"PerCentNetLastTrade\",, \"T\")/100,\"\")","v":2.8639618138424819E-2},297,297,"S.US.TBI",1379,"S.US.GGZ"]
[null,null,"S.US.BDC",{"$f":"IFERROR(RTD(\"cqg.rtd\", ,\"ContractData\",C1380, \"PerCentNetLastTrade\",, \"T\")/100,\"\")","v":6.8640646029609689E-3},870,870,"S.US.BDC",1380,"S.US.DDE"]
[null,null,"S.US.GLOB",{"$f":"IFERROR(RTD(\"cqg.rtd\", ,\"ContractData\",C1381, \"PerCentNetLastTrade\",, \"T\")/100,\"\")","v":-2.5148346990675332E-2},2424,2424,"S.US.GLOB",1381,"S.US.AKOB"]
[null,null,"S.US.EVC",{"$f":"IFERROR(RTD(\"cqg.rtd\", ,\"ContractData\",C1382, \"PerCentNetLastTrade\",, \"T\")/100,\"\")","v":1.492537313432836E-2},529,529,"S.US.EVC",1382,"S.US.BBU"]
[null,null,"S.US.RWT",{"$f":"IFERROR(RTD(\"cqg.rtd\", ,\"ContractData\",C1383, \"PerCentNetLastTrade\",, \"T\")/100,\"\")","v":-6.4557779212395094E-3},1906,1906,"S.US.RWT",1383,"S.US.CCM"]
[null,null,"S.US.AJRD",{"$f":"IFERROR(RTD(\"cqg.rtd\", ,\"ContractData\",C1384, \"PerCentNetLastTrade\",, \"T\")/100,\"\")","v":9.7418412079883091E-4},1275,1275,"S.US.AJRD",1384,"S.US.BJZ"]
[null,null,"S.US.GWRE",{"$f":"IFERROR(RTD(\"cqg.rtd\", ,\"ContractData\",C1385, \"PerCentNetLastTrade\",, \"T\")/100,\"\")","v":-4.9695916594265858E-2},2466,2466,"S.US.GWRE",1385,"S.US.TWN"]
[null,null,"S.US.KYN",{"$f":"IFERROR(RTD(\"cqg.rtd\", ,\"ContractData\",C1386, \"PerCentNetLastTrade\",, \"T\")/100,\"\")","v":3.8277511961722487E-2},209,209,"S.US.KYN",1386,"S.US.JEQ"]
[null,null,"S.US.FTS",{"$f":"IFERROR(RTD(\"cqg.rtd\", ,\"ContractData\",C1387, \"PerCentNetLastTrade\",, \"T\")/100,\"\")","v":-7.8843626806833107E-3},1980,1980,"S.US.FTS",1387,"S.US.AXR"]
[null,null,"S.US.VSLR",{"$f":"IFERROR(RTD(\"cqg.rtd\", ,\"ContractData\",C1388, \"PerCentNetLastTrade\",, \"T\")/100,\"\")","v":0},1344,1344,"S.US.VSLR",1388,"S.US.EGF"]
[null,null,"S.US.SFS",{"$f":"IFERROR(RTD(\"cqg.rtd\", ,\"ContractData\",C1389, \"PerCentNetLastTrade\",, \"T\")/100,\"\")","v":1.1152416356877325E-2},662,662,"S.US.SFS",1389,"S.US.KFI"]
[null,null,"S.US.TGH",{"$f":"IFERROR(RTD(\"cqg.rtd\", ,\"ContractData\",C1390, \"PerCentNetLastTrade\",, \"T\")/100,\"\")","v":3.1746031746031744E-2},264,264,"S.US.TGH",1390,"S.US.IX"]
[null,null,"S.US.VCRA",{"$f":"IFERROR(RTD(\"cqg.rtd\", ,\"ContractData\",C1391, \"PerCentNetLastTrade\",, \"T\")/100,\"\")","v":-2.7247956403269758E-3},1598,1598,"S.US.VCRA",1391,"S.US.SXT"]
[null,null,"S.US.MAIN",{"$f":"IFERROR(RTD(\"cqg.rtd\", ,\"ContractData\",C1392, \"PerCentNetLastTrade\",, \"T\")/100,\"\")","v":2.7662517289073307E-3},1131,1131,"S.US.MAIN",1392,"S.US.DCUD"]
[null,null,"S.US.AM",{"$f":"IFERROR(RTD(\"cqg.rtd\", ,\"ContractData\",C1393, \"PerCentNetLastTrade\",, \"T\")/100,\"\")","v":2.9073941134242644E-2},289,289,"S.US.AM",1393,"S.US.BCE"]
[null,null,"S.US.CR",{"$f":"IFERROR(RTD(\"cqg.rtd\", ,\"ContractData\",C1394, \"PerCentNetLastTrade\",, \"T\")/100,\"\")","v":1.3559322033898305E-2},569,569,"S.US.CR",1394,"S.US.CNA"]
[null,null,"S.US.TEGP",{"$f":"IFERROR(RTD(\"cqg.rtd\", ,\"ContractData\",C1395, \"PerCentNetLastTrade\",, \"T\")/100,\"\")","v":4.7577092511013212E-2},164,164,"S.US.TEGP",1395,"S.US.NCR"]
[null,null,"S.US.HTGC",{"$f":"IFERROR(RTD(\"cqg.rtd\", ,\"ContractData\",C1396, \"PerCentNetLastTrade\",, \"T\")/100,\"\")","v":-2.9048656499636892E-3},1614,1614,"S.US.HTGC",1396,"S.US.AIR"]
[null,null,"S.US.DPM",{"$f":"IFERROR(RTD(\"cqg.rtd\", ,\"ContractData\",C1397, \"PerCentNetLastTrade\",, \"T\")/100,\"\")","v":7.2459318391157504E-2},107,107,"S.US.DPM",1397,"S.US.EGL"]
[null,null,"S.US.QTWO",{"$f":"IFERROR(RTD(\"cqg.rtd\", ,\"ContractData\",C1398, \"PerCentNetLastTrade\",, \"T\")/100,\"\")","v":3.3167495854063019E-3},1096,1096,"S.US.QTWO",1398,"S.US.CNS"]
[null,null,"S.US.AYR",{"$f":"IFERROR(RTD(\"cqg.rtd\", ,\"ContractData\",C1399, \"PerCentNetLastTrade\",, \"T\")/100,\"\")","v":1.2915129151291513E-2},562,562,"S.US.AYR",1399,"S.US.TRNO"]
[null,null,"S.US.VEDL",{"$f":"IFERROR(RTD(\"cqg.rtd\", ,\"ContractData\",C1400, \"PerCentNetLastTrade\",, \"T\")/100,\"\")","v":2.1341463414634148E-2},379,379,"S.US.VEDL",1400,"S.US.LMT"]
[null,null,"S.US.HIX",{"$f":"IFERROR(RTD(\"cqg.rtd\", ,\"ContractData\",C1401, \"PerCentNetLastTrade\",, \"T\")/100,\"\")","v":4.3795620437956208E-3},1019,1019,"S.US.HIX",1401,"S.US.SMP"]
[null,null,"S.US.SSL",{"$f":"IFERROR(RTD(\"cqg.rtd\", ,\"ContractData\",C1402, \"PerCentNetLastTrade\",, \"T\")/100,\"\")","v":4.4909020518776613E-2},176,176,"S.US.SSL",1402,"S.US.ARU"]
[null,null,"S.US.IGD",{"$f":"IFERROR(RTD(\"cqg.rtd\", ,\"ContractData\",C1403, \"PerCentNetLastTrade\",, \"T\")/100,\"\")","v":-5.7142857142857143E-3},1841,1841,"S.US.IGD",1403,"S.US.BERY"]
[null,null,"S.US.APFH",{"$f":"IFERROR(RTD(\"cqg.rtd\", ,\"ContractData\",C1404, \"PerCentNetLastTrade\",, \"T\")/100,\"\")","v":9.3109869646182501E-3},741,741,"S.US.APFH",1404,"S.US.NORD"]
[null,null,"S.US.XIN",{"$f":"IFERROR(RTD(\"cqg.rtd\", ,\"ContractData\",C1405, \"PerCentNetLastTrade\",, \"T\")/100,\"\")","v":1.8832391713747645E-2},427,427,"S.US.XIN",1405,"S.US.AVT"]
[null,null,"S.US.CBPX",{"$f":"IFERROR(RTD(\"cqg.rtd\", ,\"ContractData\",C1406, \"PerCentNetLastTrade\",, \"T\")/100,\"\")","v":2.2026431718061672E-3},1177,1177,"S.US.CBPX",1406,"S.US.CHE"]
[null,null,"S.US.NSA",{"$f":"IFERROR(RTD(\"cqg.rtd\", ,\"ContractData\",C1407, \"PerCentNetLastTrade\",, \"T\")/100,\"\")","v":-6.7340067340067346E-3},1921,1921,"S.US.NSA",1407,"S.US.VAL"]
[null,null,"S.US.GOLF",{"$f":"IFERROR(RTD(\"cqg.rtd\", ,\"ContractData\",C1408, \"PerCentNetLastTrade\",, \"T\")/100,\"\")","v":4.5090180360721445E-3},1008,1008,"S.US.GOLF",1408,"S.US.EL"]
[null,null,"S.US.NWE",{"$f":"IFERROR(RTD(\"cqg.rtd\", ,\"ContractData\",C1409, \"PerCentNetLastTrade\",, \"T\")/100,\"\")","v":-1.834076105587933E-2},2337,{"$f":"IFERROR(E1409,\"\")","v":2337},{"$f":"C1409","v":"S.US.NWE"},1409,{"$f":"IFERROR(VLOOKUP(H1409,$F$1:$G$2522,2,FALSE),\"\")","v":"S.US.OXM"}]
[null,null,"S.US.VVC",{"$f":"IFERROR(RTD(\"cqg.rtd\", ,\"ContractData\",C1410, \"PerCentNetLastTrade\",, \"T\")/100,\"\")","v":-1.7008797653958945E-2},2311,2311,"S.US.VVC",{"$f":"H1409+1","v":1410},"S.US.BURL"]
[null,null,"S.US.AGRO",{"$f":"IFERROR(RTD(\"cqg.rtd\", ,\"ContractData\",C1411, \"PerCentNetLastTrade\",, \"T\")/100,\"\")","v":-1.8083182640144665E-3},1513,1513,"S.US.AGRO",1411,"S.US.PAY"]
[null,null,"S.US.JFR",{"$f":"IFERROR(RTD(\"cqg.rtd\", ,\"ContractData\",C1412, \"PerCentNetLastTrade\",, \"T\")/100,\"\")","v":1.7436791630340018E-3},1209,1209,"S.US.JFR",1412,"S.US.SEAS"]
[null,null,"S.US.MNR",{"$f":"IFERROR(RTD(\"cqg.rtd\", ,\"ContractData\",C1413, \"PerCentNetLastTrade\",, \"T\")/100,\"\")","v":-2.6045236463331047E-2},2429,2429,"S.US.MNR",1413,"S.US.KBH"]
[null,null,"S.US.SAIC",{"$f":"IFERROR(RTD(\"cqg.rtd\", ,\"ContractData\",C1414, \"PerCentNetLastTrade\",, \"T\")/100,\"\")","v":-1.2572648558889812E-2},2182,2182,"S.US.SAIC",1414,"S.US.CHN"]
[null,null,"S.US.LAD",{"$f":"IFERROR(RTD(\"cqg.rtd\", ,\"ContractData\",C1415, \"PerCentNetLastTrade\",, \"T\")/100,\"\")","v":3.9262733122477919E-3},1055,1055,"S.US.LAD",1415,"S.US.HEQ"]
[null,null,"S.US.LZB",{"$f":"IFERROR(RTD(\"cqg.rtd\", ,\"ContractData\",C1416, \"PerCentNetLastTrade\",, \"T\")/100,\"\")","v":-3.669724770642202E-3},1678,1678,"S.US.LZB",1416,"S.US.NSP"]
[null,null,"S.US.CLS",{"$f":"IFERROR(RTD(\"cqg.rtd\", ,\"ContractData\",C1417, \"PerCentNetLastTrade\",, \"T\")/100,\"\")","v":0},1345,1345,"S.US.CLS",1417,"S.US.SPXX"]
[null,null,"S.US.RE",{"$f":"IFERROR(RTD(\"cqg.rtd\", ,\"ContractData\",C1418, \"PerCentNetLastTrade\",, \"T\")/100,\"\")","v":-9.9098673965362645E-4},1503,1503,"S.US.RE",1418,"S.US.TLN"]
[null,null,"S.US.NCI",{"$f":"IFERROR(RTD(\"cqg.rtd\", ,\"ContractData\",C1419, \"PerCentNetLastTrade\",, \"T\")/100,\"\")","v":8.4609186140209517E-3},785,785,"S.US.NCI",1419,"S.US.MMI"]
[null,null,"S.US.ATR",{"$f":"IFERROR(RTD(\"cqg.rtd\", ,\"ContractData\",C1420, \"PerCentNetLastTrade\",, \"T\")/100,\"\")","v":-8.5887949260042284E-3},2020,2020,"S.US.ATR",1420,"S.US.JTD"]
[null,null,"S.US.PTHN",{"$f":"IFERROR(RTD(\"cqg.rtd\", ,\"ContractData\",C1421, \"PerCentNetLastTrade\",, \"T\")/100,\"\")","v":-1.4295925661186561E-2},2246,2246,"S.US.PTHN",1421,"S.US.NAZ"]
[null,null,"S.US.AMC",{"$f":"IFERROR(RTD(\"cqg.rtd\", ,\"ContractData\",C1422, \"PerCentNetLastTrade\",, \"T\")/100,\"\")","v":-2.8943560057887118E-3},1613,1613,"S.US.AMC",1422,"S.US.BBF"]
[null,null,"S.US.ADSW",{"$f":"IFERROR(RTD(\"cqg.rtd\", ,\"ContractData\",C1423, \"PerCentNetLastTrade\",, \"T\")/100,\"\")","v":-1.4734774066797642E-3},1488,1488,"S.US.ADSW",1423,"S.US.RAI"]
[null,null,"S.US.TKC",{"$f":"IFERROR(RTD(\"cqg.rtd\", ,\"ContractData\",C1424, \"PerCentNetLastTrade\",, \"T\")/100,\"\")","v":-2.2058823529411766E-2},2396,2396,"S.US.TKC",1424,"S.US.VMW"]
[null,null,"S.US.TMHC",{"$f":"IFERROR(RTD(\"cqg.rtd\", ,\"ContractData\",C1425, \"PerCentNetLastTrade\",, \"T\")/100,\"\")","v":-3.4364261168384879E-3},1661,1661,"S.US.TMHC",1425,"S.US.CII"]
[null,null,"S.US.AVA",{"$f":"IFERROR(RTD(\"cqg.rtd\", ,\"ContractData\",C1426, \"PerCentNetLastTrade\",, \"T\")/100,\"\")","v":-1.8518518518518517E-2},2340,2340,"S.US.AVA",1426,"S.US.CUBS"]
[null,null,"S.US.ETW",{"$f":"IFERROR(RTD(\"cqg.rtd\", ,\"ContractData\",C1427, \"PerCentNetLastTrade\",, \"T\")/100,\"\")","v":1.9138755980861245E-3},1196,1196,"S.US.ETW",1427,"S.US.PLT"]
[null,null,"S.US.UAN",{"$f":"IFERROR(RTD(\"cqg.rtd\", ,\"ContractData\",C1428, \"PerCentNetLastTrade\",, \"T\")/100,\"\")","v":1.8255578093306288E-2},444,444,"S.US.UAN",1428,"S.US.RJD"]
[null,null,"S.US.IHG",{"$f":"IFERROR(RTD(\"cqg.rtd\", ,\"ContractData\",C1429, \"PerCentNetLastTrade\",, \"T\")/100,\"\")","v":-1.4811275680840898E-2},2263,2263,"S.US.IHG",1429,"S.US.CIO"]
[null,null,"S.US.LXFT",{"$f":"IFERROR(RTD(\"cqg.rtd\", ,\"ContractData\",C1430, \"PerCentNetLastTrade\",, \"T\")/100,\"\")","v":-5.5452865064695009E-3},1827,1827,"S.US.LXFT",1430,"S.US.AFW"]
[null,null,"S.US.TDOC",{"$f":"IFERROR(RTD(\"cqg.rtd\", ,\"ContractData\",C1431, \"PerCentNetLastTrade\",, \"T\")/100,\"\")","v":5.5248618784530393E-3},944,944,"S.US.TDOC",1431,"S.US.IPG"]
[null,null,"S.US.PTY",{"$f":"IFERROR(RTD(\"cqg.rtd\", ,\"ContractData\",C1432, \"PerCentNetLastTrade\",, \"T\")/100,\"\")","v":0},1346,1346,"S.US.PTY",1432,"S.US.DTK"]
[null,null,"S.US.DDC",{"$f":"IFERROR(RTD(\"cqg.rtd\", ,\"ContractData\",C1433, \"PerCentNetLastTrade\",, \"T\")/100,\"\")","v":8.4566596194503175E-3},786,786,"S.US.DDC",1433,"S.US.EXD"]
[null,null,"S.US.AZO",{"$f":"IFERROR(RTD(\"cqg.rtd\", ,\"ContractData\",C1434, \"PerCentNetLastTrade\",, \"T\")/100,\"\")","v":-5.998177768779105E-3},1867,1867,"S.US.AZO",1434,"S.US.HPE"]
[null,null,"S.US.JMEI",{"$f":"IFERROR(RTD(\"cqg.rtd\", ,\"ContractData\",C1435, \"PerCentNetLastTrade\",, \"T\")/100,\"\")","v":-1.0570824524312896E-2},2103,2103,"S.US.JMEI",1435,"S.US.HBI"]
[null,null,"S.US.HI",{"$f":"IFERROR(RTD(\"cqg.rtd\", ,\"ContractData\",C1436, \"PerCentNetLastTrade\",, \"T\")/100,\"\")","v":8.4745762711864406E-3},781,781,"S.US.HI",1436,"S.US.CPN"]
[null,null,"S.US.COTV",{"$f":"IFERROR(RTD(\"cqg.rtd\", ,\"ContractData\",C1437, \"PerCentNetLastTrade\",, \"T\")/100,\"\")","v":2.1753460777851022E-2},371,371,"S.US.COTV",1437,"S.US.ZF"]
[null,null,"S.US.ENS",{"$f":"IFERROR(RTD(\"cqg.rtd\", ,\"ContractData\",C1438, \"PerCentNetLastTrade\",, \"T\")/100,\"\")","v":1.0112501580078372E-2},706,706,"S.US.ENS",1438,"S.US.EDE"]
[null,null,"S.US.BTT",{"$f":"IFERROR(RTD(\"cqg.rtd\", ,\"ContractData\",C1439, \"PerCentNetLastTrade\",, \"T\")/100,\"\")","v":-6.7598017124830996E-3},1922,1922,"S.US.BTT",1439,"S.US.PRA"]
[null,null,"S.US.KNL",{"$f":"IFERROR(RTD(\"cqg.rtd\", ,\"ContractData\",C1440, \"PerCentNetLastTrade\",, \"T\")/100,\"\")","v":-2.9739776951672862E-3},1623,1623,"S.US.KNL",1440,"S.US.SWM"]
[null,null,"S.US.IEX",{"$f":"IFERROR(RTD(\"cqg.rtd\", ,\"ContractData\",C1441, \"PerCentNetLastTrade\",, \"T\")/100,\"\")","v":7.0610891195035837E-3},864,864,"S.US.IEX",1441,"S.US.M"]
[null,null,"S.US.RBC",{"$f":"IFERROR(RTD(\"cqg.rtd\", ,\"ContractData\",C1442, \"PerCentNetLastTrade\",, \"T\")/100,\"\")","v":1.1126564673157162E-2},663,663,"S.US.RBC",1442,"S.US.VVV"]
[null,null,"S.US.WAC",{"$f":"IFERROR(RTD(\"cqg.rtd\", ,\"ContractData\",C1443, \"PerCentNetLastTrade\",, \"T\")/100,\"\")","v":2.1818181818181816E-2},370,370,"S.US.WAC",1443,"S.US.BIP"]
[null,null,"S.US.BTZ",{"$f":"IFERROR(RTD(\"cqg.rtd\", ,\"ContractData\",C1444, \"PerCentNetLastTrade\",, \"T\")/100,\"\")","v":-4.8154093097913329E-3},1772,1772,"S.US.BTZ",1444,"S.US.ETY"]
[null,null,"S.US.OAK",{"$f":"IFERROR(RTD(\"cqg.rtd\", ,\"ContractData\",C1445, \"PerCentNetLastTrade\",, \"T\")/100,\"\")","v":1.2106537530266344E-2},622,622,"S.US.OAK",1445,"S.US.PFL"]
[null,null,"S.US.BLD",{"$f":"IFERROR(RTD(\"cqg.rtd\", ,\"ContractData\",C1446, \"PerCentNetLastTrade\",, \"T\")/100,\"\")","v":-3.2379924446842958E-3},1645,1645,"S.US.BLD",1446,"S.US.JLL"]
[null,null,"S.US.DNB",{"$f":"IFERROR(RTD(\"cqg.rtd\", ,\"ContractData\",C1447, \"PerCentNetLastTrade\",, \"T\")/100,\"\")","v":2.3558082859463851E-3},1163,1163,"S.US.DNB",1447,"S.US.LPX"]
[null,null,"S.US.VTA",{"$f":"IFERROR(RTD(\"cqg.rtd\", ,\"ContractData\",C1448, \"PerCentNetLastTrade\",, \"T\")/100,\"\")","v":4.163197335553705E-3},1035,1035,"S.US.VTA",1448,"S.US.BYD"]
[null,null,"S.US.GNK",{"$f":"IFERROR(RTD(\"cqg.rtd\", ,\"ContractData\",C1449, \"PerCentNetLastTrade\",, \"T\")/100,\"\")","v":3.3444816053511705E-3},1093,1093,"S.US.GNK",1449,"S.US.PKG"]
[null,null,"S.US.EDD",{"$f":"IFERROR(RTD(\"cqg.rtd\", ,\"ContractData\",C1450, \"PerCentNetLastTrade\",, \"T\")/100,\"\")","v":0},1347,1347,"S.US.EDD",1450,"S.US.SSD"]
[null,null,"S.US.ABM",{"$f":"IFERROR(RTD(\"cqg.rtd\", ,\"ContractData\",C1451, \"PerCentNetLastTrade\",, \"T\")/100,\"\")","v":-2.0098258150960248E-3},1539,1539,"S.US.ABM",1451,"S.US.STK"]
[null,null,"S.US.GPI",{"$f":"IFERROR(RTD(\"cqg.rtd\", ,\"ContractData\",C1452, \"PerCentNetLastTrade\",, \"T\")/100,\"\")","v":1.6564587973273943E-2},488,488,"S.US.GPI",1452,"S.US.DUC"]
[null,null,"S.US.RTEC",{"$f":"IFERROR(RTD(\"cqg.rtd\", ,\"ContractData\",C1453, \"PerCentNetLastTrade\",, \"T\")/100,\"\")","v":7.4999999999999997E-3},840,840,"S.US.RTEC",1453,"S.US.BNS"]
[null,null,"S.US.ADC",{"$f":"IFERROR(RTD(\"cqg.rtd\", ,\"ContractData\",C1454, \"PerCentNetLastTrade\",, \"T\")/100,\"\")","v":-1.5174840554211567E-2},2271,2271,"S.US.ADC",1454,"S.US.SOR"]
[null,null,"S.US.WAGE",{"$f":"IFERROR(RTD(\"cqg.rtd\", ,\"ContractData\",C1455, \"PerCentNetLastTrade\",, \"T\")/100,\"\")","v":1.6371077762619372E-2},497,497,"S.US.WAGE",1455,"S.US.SNA"]
[null,null,"S.US.DHF",{"$f":"IFERROR(RTD(\"cqg.rtd\", ,\"ContractData\",C1456, \"PerCentNetLastTrade\",, \"T\")/100,\"\")","v":-3.0864197530864196E-3},1631,1631,"S.US.DHF",1456,"S.US.SSP"]
[null,null,"S.US.BGG",{"$f":"IFERROR(RTD(\"cqg.rtd\", ,\"ContractData\",C1457, \"PerCentNetLastTrade\",, \"T\")/100,\"\")","v":5.2306229196386108E-3},937,937,"S.US.BGG",1457,"S.US.MHNB"]
[null,null,"S.US.NGVT",{"$f":"IFERROR(RTD(\"cqg.rtd\", ,\"ContractData\",C1458, \"PerCentNetLastTrade\",, \"T\")/100,\"\")","v":3.2170013647884577E-2},261,261,"S.US.NGVT",1458,"S.US.VALE"]
[null,null,"S.US.AV",{"$f":"IFERROR(RTD(\"cqg.rtd\", ,\"ContractData\",C1459, \"PerCentNetLastTrade\",, \"T\")/100,\"\")","v":-7.0237050043898156E-3},1935,1935,"S.US.AV",1459,"S.US.MCQ"]
[null,null,"S.US.NS",{"$f":"IFERROR(RTD(\"cqg.rtd\", ,\"ContractData\",C1460, \"PerCentNetLastTrade\",, \"T\")/100,\"\")","v":2.9023175222005634E-2},290,290,"S.US.NS",1460,"S.US.KAP"]
[null,null,"S.US.SSD",{"$f":"IFERROR(RTD(\"cqg.rtd\", ,\"ContractData\",C1461, \"PerCentNetLastTrade\",, \"T\")/100,\"\")","v":-1.0577533319229954E-3},1450,1450,"S.US.SSD",1461,"S.US.NKE"]
[null,null,"S.US.FCFS",{"$f":"IFERROR(RTD(\"cqg.rtd\", ,\"ContractData\",C1462, \"PerCentNetLastTrade\",, \"T\")/100,\"\")","v":-1.5657620041753653E-2},2283,2283,"S.US.FCFS",1462,"S.US.AWI"]
[null,null,"S.US.IIM",{"$f":"IFERROR(RTD(\"cqg.rtd\", ,\"ContractData\",C1463, \"PerCentNetLastTrade\",, \"T\")/100,\"\")","v":-4.1379310344827587E-3},1720,1720,"S.US.IIM",1463,"S.US.BIT"]
[null,null,"S.US.SR",{"$f":"IFERROR(RTD(\"cqg.rtd\", ,\"ContractData\",C1464, \"PerCentNetLastTrade\",, \"T\")/100,\"\")","v":-3.0188679245283017E-3},1627,1627,"S.US.SR",1464,"S.US.DAL"]
[null,null,"S.US.AXON",{"$f":"IFERROR(RTD(\"cqg.rtd\", ,\"ContractData\",C1465, \"PerCentNetLastTrade\",, \"T\")/100,\"\")","v":-2.1897810218978104E-3},1554,1554,"S.US.AXON",1465,"S.US.DSM"]
[null,null,"S.US.TCAP",{"$f":"IFERROR(RTD(\"cqg.rtd\", ,\"ContractData\",C1466, \"PerCentNetLastTrade\",, \"T\")/100,\"\")","v":-1.5698587127158557E-3},1496,1496,"S.US.TCAP",1466,"S.US.EQGP"]
[null,null,"S.US.NTT",{"$f":"IFERROR(RTD(\"cqg.rtd\", ,\"ContractData\",C1467, \"PerCentNetLastTrade\",, \"T\")/100,\"\")","v":-4.6580044128462861E-3},1753,1753,"S.US.NTT",1467,"S.US.RGT"]
[null,null,"S.US.CCC",{"$f":"IFERROR(RTD(\"cqg.rtd\", ,\"ContractData\",C1468, \"PerCentNetLastTrade\",, \"T\")/100,\"\")","v":8.4745762711864406E-3},782,782,"S.US.CCC",1468,"S.US.DLB"]
[null,null,"S.US.WMS",{"$f":"IFERROR(RTD(\"cqg.rtd\", ,\"ContractData\",C1469, \"PerCentNetLastTrade\",, \"T\")/100,\"\")","v":-1.4598540145985401E-2},2256,2256,"S.US.WMS",1469,"S.US.BGX"]
[null,null,"S.US.DST",{"$f":"IFERROR(RTD(\"cqg.rtd\", ,\"ContractData\",C1470, \"PerCentNetLastTrade\",, \"T\")/100,\"\")","v":-8.1493414195015629E-3},1996,1996,"S.US.DST",1470,"S.US.TTC"]
[null,null,"S.US.AWF",{"$f":"IFERROR(RTD(\"cqg.rtd\", ,\"ContractData\",C1471, \"PerCentNetLastTrade\",, \"T\")/100,\"\")","v":2.4793388429752068E-3},1155,1155,"S.US.AWF",1471,"S.US.DDR"]
[null,null,"S.US.SAH",{"$f":"IFERROR(RTD(\"cqg.rtd\", ,\"ContractData\",C1472, \"PerCentNetLastTrade\",, \"T\")/100,\"\")","v":1.4423076923076922E-2},546,546,"S.US.SAH",1472,"S.US.SFR"]
[null,null,"S.US.QUAD",{"$f":"IFERROR(RTD(\"cqg.rtd\", ,\"ContractData\",C1473, \"PerCentNetLastTrade\",, \"T\")/100,\"\")","v":6.0844667143879734E-3},911,{"$f":"IFERROR(E1473,\"\")","v":911},{"$f":"C1473","v":"S.US.QUAD"},1473,{"$f":"IFERROR(VLOOKUP(H1473,$F$1:$G$2522,2,FALSE),\"\")","v":"S.US.RLJ"}]
[null,null,"S.US.OGS",{"$f":"IFERROR(RTD(\"cqg.rtd\", ,\"ContractData\",C1474, \"PerCentNetLastTrade\",, \"T\")/100,\"\")","v":-9.7366320830007975E-3},2073,2073,"S.US.OGS",{"$f":"H1473+1","v":1474},"S.US.LLY"]
[null,null,"S.US.DW",{"$f":"IFERROR(RTD(\"cqg.rtd\", ,\"ContractData\",C1475, \"PerCentNetLastTrade\",, \"T\")/100,\"\")","v":-1.0813352139163141E-2},2116,2116,"S.US.DW",1475,"S.US.IT"]
[null,null,"S.US.PDI",{"$f":"IFERROR(RTD(\"cqg.rtd\", ,\"ContractData\",C1476, \"PerCentNetLastTrade\",, \"T\")/100,\"\")","v":3.5273368606701937E-4},1318,1318,"S.US.PDI",1476,"S.US.YRD"]
[null,null,"S.US.MTH",{"$f":"IFERROR(RTD(\"cqg.rtd\", ,\"ContractData\",C1477, \"PerCentNetLastTrade\",, \"T\")/100,\"\")","v":1.3550135501355011E-3},1237,1237,"S.US.MTH",1477,"S.US.PAI"]
[null,null,"S.US.PEN",{"$f":"IFERROR(RTD(\"cqg.rtd\", ,\"ContractData\",C1478, \"PerCentNetLastTrade\",, \"T\")/100,\"\")","v":-1.2393493415956622E-2},2174,2174,"S.US.PEN",1478,"S.US.GNC"]
[null,null,"S.US.RVT",{"$f":"IFERROR(RTD(\"cqg.rtd\", ,\"ContractData\",C1479, \"PerCentNetLastTrade\",, \"T\")/100,\"\")","v":6.006006006006006E-3},915,915,"S.US.RVT",1479,"S.US.MXF"]
[null,null,"S.US.WMC",{"$f":"IFERROR(RTD(\"cqg.rtd\", ,\"ContractData\",C1480, \"PerCentNetLastTrade\",, \"T\")/100,\"\")","v":-3.7037037037037034E-3},1679,1679,"S.US.WMC",1480,"S.US.FIS"]
[null,null,"S.US.ICD",{"$f":"IFERROR(RTD(\"cqg.rtd\", ,\"ContractData\",C1481, \"PerCentNetLastTrade\",, \"T\")/100,\"\")","v":8.1673306772908363E-2},90,90,"S.US.ICD",1481,"S.US.AVK"]
[null,null,"S.US.CBK",{"$f":"IFERROR(RTD(\"cqg.rtd\", ,\"ContractData\",C1482, \"PerCentNetLastTrade\",, \"T\")/100,\"\")","v":5.7471264367816091E-3},934,934,"S.US.CBK",1482,"S.US.INN"]
[null,null,"S.US.WD",{"$f":"IFERROR(RTD(\"cqg.rtd\", ,\"ContractData\",C1483, \"PerCentNetLastTrade\",, \"T\")/100,\"\")","v":6.7091580006709158E-4},1300,1300,"S.US.WD",1483,"S.US.HHY"]
[null,null,"S.US.VMO",{"$f":"IFERROR(RTD(\"cqg.rtd\", ,\"ContractData\",C1484, \"PerCentNetLastTrade\",, \"T\")/100,\"\")","v":-3.9556962025316458E-3},1710,1710,"S.US.VMO",1484,"S.US.MNI"]
[null,null,"S.US.DHX",{"$f":"IFERROR(RTD(\"cqg.rtd\", ,\"ContractData\",C1485, \"PerCentNetLastTrade\",, \"T\")/100,\"\")","v":2.4E-2},340,340,"S.US.DHX",1485,"S.US.GNT"]
[null,null,"S.US.CEM",{"$f":"IFERROR(RTD(\"cqg.rtd\", ,\"ContractData\",C1486, \"PerCentNetLastTrade\",, \"T\")/100,\"\")","v":2.929427430093209E-2},286,286,"S.US.CEM",1486,"S.US.MUC"]
[null,null,"S.US.UTF",{"$f":"IFERROR(RTD(\"cqg.rtd\", ,\"ContractData\",C1487, \"PerCentNetLastTrade\",, \"T\")/100,\"\")","v":-1.5128593040847202E-3},1492,1492,"S.US.UTF",1487,"S.US.RACE"]
[null,null,"S.US.RNR",{"$f":"IFERROR(RTD(\"cqg.rtd\", ,\"ContractData\",C1488, \"PerCentNetLastTrade\",, \"T\")/100,\"\")","v":-1.7554571821096015E-3},1509,1509,"S.US.RNR",1488,"S.US.ADSW"]
[null,null,"S.US.SPH",{"$f":"IFERROR(RTD(\"cqg.rtd\", ,\"ContractData\",C1489, \"PerCentNetLastTrade\",, \"T\")/100,\"\")","v":3.414809489575845E-2},245,245,"S.US.SPH",1489,"S.US.GD"]
[null,null,"S.US.AB",{"$f":"IFERROR(RTD(\"cqg.rtd\", ,\"ContractData\",C1490, \"PerCentNetLastTrade\",, \"T\")/100,\"\")","v":-9.6916299559471359E-3},2068,2068,"S.US.AB",1490,"S.US.SMI"]
[null,null,"S.US.BOH",{"$f":"IFERROR(RTD(\"cqg.rtd\", ,\"ContractData\",C1491, \"PerCentNetLastTrade\",, \"T\")/100,\"\")","v":8.6621751684311851E-3},767,767,"S.US.BOH",1491,"S.US.MYI"]
[null,null,"S.US.GDOT",{"$f":"IFERROR(RTD(\"cqg.rtd\", ,\"ContractData\",C1492, \"PerCentNetLastTrade\",, \"T\")/100,\"\")","v":4.1356492969396195E-3},1037,1037,"S.US.GDOT",1492,"S.US.UTF"]
[null,null,"S.US.BHE",{"$f":"IFERROR(RTD(\"cqg.rtd\", ,\"ContractData\",C1493, \"PerCentNetLastTrade\",, \"T\")/100,\"\")","v":-6.9324090121317163E-3},1933,1933,"S.US.BHE",1493,"S.US.MGU"]
[null,null,"S.US.VAC",{"$f":"IFERROR(RTD(\"cqg.rtd\", ,\"ContractData\",C1494, \"PerCentNetLastTrade\",, \"T\")/100,\"\")","v":-4.0942928039702231E-3},1718,1718,"S.US.VAC",1494,"S.US.AFB"]
[null,null,"S.US.TISI",{"$f":"IFERROR(RTD(\"cqg.rtd\", ,\"ContractData\",C1495, \"PerCentNetLastTrade\",, \"T\")/100,\"\")","v":1.1594202898550725E-2},638,638,"S.US.TISI",1495,"S.US.NKG"]
[null,null,"S.US.AI",{"$f":"IFERROR(RTD(\"cqg.rtd\", ,\"ContractData\",C1496, \"PerCentNetLastTrade\",, \"T\")/100,\"\")","v":-9.6153846153846159E-3},2063,2063,"S.US.AI",1496,"S.US.TCAP"]
[null,null,"S.US.TYL",{"$f":"IFERROR(RTD(\"cqg.rtd\", ,\"ContractData\",C1497, \"PerCentNetLastTrade\",, \"T\")/100,\"\")","v":-9.7743374442403556E-3},2076,2076,"S.US.TYL",1497,"S.US.BKT"]
[null,null,"S.US.WGO",{"$f":"IFERROR(RTD(\"cqg.rtd\", ,\"ContractData\",C1498, \"PerCentNetLastTrade\",, \"T\")/100,\"\")","v":-6.0150375939849619E-3},1869,1869,"S.US.WGO",1498,"S.US.CSI"]
[null,null,"S.US.CHH",{"$f":"IFERROR(RTD(\"cqg.rtd\", ,\"ContractData\",C1499, \"PerCentNetLastTrade\",, \"T\")/100,\"\")","v":-8.6372360844529754E-3},2024,2024,"S.US.CHH",1499,"S.US.LVLT"]
[null,null,"S.US.FICO",{"$f":"IFERROR(RTD(\"cqg.rtd\", ,\"ContractData\",C1500, \"PerCentNetLastTrade\",, \"T\")/100,\"\")","v":-2.1659729890427252E-2},2390,2390,"S.US.FICO",1500,"S.US.APD"]
[null,null,"S.US.CBB",{"$f":"IFERROR(RTD(\"cqg.rtd\", ,\"ContractData\",C1501, \"PerCentNetLastTrade\",, \"T\")/100,\"\")","v":4.662004662004662E-3},1000,1000,"S.US.CBB",1501,"S.US.NIE"]
[null,null,"S.US.LADR",{"$f":"IFERROR(RTD(\"cqg.rtd\", ,\"ContractData\",C1502, \"PerCentNetLastTrade\",, \"T\")/100,\"\")","v":2.7548209366391185E-3},1132,1132,"S.US.LADR",1502,"S.US.CRM"]
[null,null,"S.US.FDP",{"$f":"IFERROR(RTD(\"cqg.rtd\", ,\"ContractData\",C1503, \"PerCentNetLastTrade\",, \"T\")/100,\"\")","v":-2.12636695018226E-2},2387,2387,"S.US.FDP",1503,"S.US.RE"]
[null,null,"S.US.PML",{"$f":"IFERROR(RTD(\"cqg.rtd\", ,\"ContractData\",C1504, \"PerCentNetLastTrade\",, \"T\")/100,\"\")","v":-3.3333333333333331E-3},1652,1652,"S.US.PML",1504,"S.US.MO"]
[null,null,"S.US.OMAM",{"$f":"IFERROR(RTD(\"cqg.rtd\", ,\"ContractData\",C1505, \"PerCentNetLastTrade\",, \"T\")/100,\"\")","v":1.0996563573883162E-2},665,665,"S.US.OMAM",1505,"S.US.DGX"]
[null,null,"S.US.PACD",{"$f":"IFERROR(RTD(\"cqg.rtd\", ,\"ContractData\",C1506, \"PerCentNetLastTrade\",, \"T\")/100,\"\")","v":8.5470085470085472E-2},83,83,"S.US.PACD",1506,"S.US.MHI"]
[null,null,"S.US.WES",{"$f":"IFERROR(RTD(\"cqg.rtd\", ,\"ContractData\",C1507, \"PerCentNetLastTrade\",, \"T\")/100,\"\")","v":3.8398244651673068E-2},207,207,"S.US.WES",1507,"S.US.SBY"]
[null,null,"S.US.EXAR",{"$f":"IFERROR(RTD(\"cqg.rtd\", ,\"ContractData\",C1508, \"PerCentNetLastTrade\",, \"T\")/100,\"\")","v":0},1348,1348,"S.US.EXAR",1508,"S.US.BEP"]
[null,null,"S.US.LTC",{"$f":"IFERROR(RTD(\"cqg.rtd\", ,\"ContractData\",C1509, \"PerCentNetLastTrade\",, \"T\")/100,\"\")","v":-2.0478551411942228E-2},2376,2376,"S.US.LTC",1509,"S.US.RNR"]
[null,null,"S.US.EQM",{"$f":"IFERROR(RTD(\"cqg.rtd\", ,\"ContractData\",C1510, \"PerCentNetLastTrade\",, \"T\")/100,\"\")","v":2.0807324178110695E-2},386,386,"S.US.EQM",1510,"S.US.AAP"]
[null,null,"S.US.CMP",{"$f":"IFERROR(RTD(\"cqg.rtd\", ,\"ContractData\",C1511, \"PerCentNetLastTrade\",, \"T\")/100,\"\")","v":-3.2051282051282055E-3},1643,1643,"S.US.CMP",1511,"S.US.ZTR"]
[null,null,"S.US.SWX",{"$f":"IFERROR(RTD(\"cqg.rtd\", ,\"ContractData\",C1512, \"PerCentNetLastTrade\",, \"T\")/100,\"\")","v":-9.8425196850393699E-3},2079,2079,"S.US.SWX",1512,"S.US.NI"]
[null,null,"S.US.VSI",{"$f":"IFERROR(RTD(\"cqg.rtd\", ,\"ContractData\",C1513, \"PerCentNetLastTrade\",, \"T\")/100,\"\")","v":1.996007984031936E-3},1193,1193,"S.US.VSI",1513,"S.US.AGRO"]
[null,null,"S.US.CWH",{"$f":"IFERROR(RTD(\"cqg.rtd\", ,\"ContractData\",C1514, \"PerCentNetLastTrade\",, \"T\")/100,\"\")","v":6.1438380917961692E-3},907,907,"S.US.CWH",1514,"S.US.TPC"]
[null,null,"S.US.PFSI",{"$f":"IFERROR(RTD(\"cqg.rtd\", ,\"ContractData\",C1515, \"PerCentNetLastTrade\",, \"T\")/100,\"\")","v":8.3102493074792231E-3},793,793,"S.US.PFSI",1515,"S.US.KF"]
[null,null,"S.US.FIX",{"$f":"IFERROR(RTD(\"cqg.rtd\", ,\"ContractData\",C1516, \"PerCentNetLastTrade\",, \"T\")/100,\"\")","v":1.5060240963855422E-3},1227,1227,"S.US.FIX",1516,"S.US.PAC"]
[null,null,"S.US.JRO",{"$f":"IFERROR(RTD(\"cqg.rtd\", ,\"ContractData\",C1517, \"PerCentNetLastTrade\",, \"T\")/100,\"\")","v":1.6963528413910093E-3},1213,1213,"S.US.JRO",1517,"S.US.EOD"]
[null,null,"S.US.CW",{"$f":"IFERROR(RTD(\"cqg.rtd\", ,\"ContractData\",C1518, \"PerCentNetLastTrade\",, \"T\")/100,\"\")","v":2.6480972930561005E-3},1138,1138,"S.US.CW",1518,"S.US.JPW"]
[null,null,"S.US.PZE",{"$f":"IFERROR(RTD(\"cqg.rtd\", ,\"ContractData\",C1519, \"PerCentNetLastTrade\",, \"T\")/100,\"\")","v":3.0800821355236142E-2},272,272,"S.US.PZE",1519,"S.US.SSTK"]
[null,null,"S.US.AHL",{"$f":"IFERROR(RTD(\"cqg.rtd\", ,\"ContractData\",C1520, \"PerCentNetLastTrade\",, \"T\")/100,\"\")","v":9.727626459143969E-4},1276,1276,"S.US.AHL",1520,"S.US.PGRE"]
[null,null,"S.US.MIN",{"$f":"IFERROR(RTD(\"cqg.rtd\", ,\"ContractData\",C1521, \"PerCentNetLastTrade\",, \"T\")/100,\"\")","v":-2.304147465437788E-3},1567,1567,"S.US.MIN",1521,"S.US.TCO"]
[null,null,"S.US.CEB",{"$f":"IFERROR(RTD(\"cqg.rtd\", ,\"ContractData\",C1522, \"PerCentNetLastTrade\",, \"T\")/100,\"\")","v":9.5644748078565333E-3},723,723,"S.US.CEB",1522,"S.US.LUV"]
[null,null,"S.US.EEQ",{"$f":"IFERROR(RTD(\"cqg.rtd\", ,\"ContractData\",C1523, \"PerCentNetLastTrade\",, \"T\")/100,\"\")","v":3.3984706881903144E-2},248,248,"S.US.EEQ",1523,"S.US.HSEA"]
[null,null,"S.US.RCS",{"$f":"IFERROR(RTD(\"cqg.rtd\", ,\"ContractData\",C1524, \"PerCentNetLastTrade\",, \"T\")/100,\"\")","v":-5.5991041433370659E-3},1830,1830,"S.US.RCS",1524,"S.US.CAB"]
[null,null,"S.US.CHU",{"$f":"IFERROR(RTD(\"cqg.rtd\", ,\"ContractData\",C1525, \"PerCentNetLastTrade\",, \"T\")/100,\"\")","v":7.4468085106382975E-2},103,103,"S.US.CHU",1525,"S.US.IGT"]
[null,null,"S.US.PER",{"$f":"IFERROR(RTD(\"cqg.rtd\", ,\"ContractData\",C1526, \"PerCentNetLastTrade\",, \"T\")/100,\"\")","v":0},1349,1349,"S.US.PER",1526,"S.US.OAKS"]
[null,null,"S.US.ABG",{"$f":"IFERROR(RTD(\"cqg.rtd\", ,\"ContractData\",C1527, \"PerCentNetLastTrade\",, \"T\")/100,\"\")","v":2.5553662691652468E-3},1146,1146,"S.US.ABG",1527,"S.US.KS"]
[null,null,"S.US.DX",{"$f":"IFERROR(RTD(\"cqg.rtd\", ,\"ContractData\",C1528, \"PerCentNetLastTrade\",, \"T\")/100,\"\")","v":-5.681818181818182E-3},1839,1839,"S.US.DX",1528,"S.US.WCN"]
[null,null,"S.US.SSNI",{"$f":"IFERROR(RTD(\"cqg.rtd\", ,\"ContractData\",C1529, \"PerCentNetLastTrade\",, \"T\")/100,\"\")","v":-8.1855388813096858E-3},2001,2001,"S.US.SSNI",1529,"S.US.AXL"]
[null,null,"S.US.NRK",{"$f":"IFERROR(RTD(\"cqg.rtd\", ,\"ContractData\",C1530, \"PerCentNetLastTrade\",, \"T\")/100,\"\")","v":-8.6206896551724137E-3},2022,2022,"S.US.NRK",1530,"S.US.ISD"]
[null,null,"S.US.GOL",{"$f":"IFERROR(RTD(\"cqg.rtd\", ,\"ContractData\",C1531, \"PerCentNetLastTrade\",, \"T\")/100,\"\")","v":-1.9266625233064015E-2},2355,2355,"S.US.GOL",1531,"S.US.NXC"]
[null,null,"S.US.PKX",{"$f":"IFERROR(RTD(\"cqg.rtd\", ,\"ContractData\",C1532, \"PerCentNetLastTrade\",, \"T\")/100,\"\")","v":-6.51890482398957E-3},1913,1913,"S.US.PKX",1532,"S.US.ORCL"]
[null,null,"S.US.HMN",{"$f":"IFERROR(RTD(\"cqg.rtd\", ,\"ContractData\",C1533, \"PerCentNetLastTrade\",, \"T\")/100,\"\")","v":1.1194029850746268E-2},659,659,"S.US.HMN",1533,"S.US.MGF"]
[null,null,"S.US.FPF",{"$f":"IFERROR(RTD(\"cqg.rtd\", ,\"ContractData\",C1534, \"PerCentNetLastTrade\",, \"T\")/100,\"\")","v":-5.1377860812704349E-3},1794,1794,"S.US.FPF",1534,"S.US.SAQ"]
[null,null,"S.US.CBA",{"$f":"IFERROR(RTD(\"cqg.rtd\", ,\"ContractData\",C1535, \"PerCentNetLastTrade\",, \"T\")/100,\"\")","v":3.4523809523809526E-2},240,240,"S.US.CBA",1535,"S.US.UHT"]
[null,null,"S.US.ENV",{"$f":"IFERROR(RTD(\"cqg.rtd\", ,\"ContractData\",C1536, \"PerCentNetLastTrade\",, \"T\")/100,\"\")","v":4.010695187165775E-3},1046,1046,"S.US.ENV",1536,"S.US.CATO"]
[null,null,"S.US.TM",{"$f":"IFERROR(RTD(\"cqg.rtd\", ,\"ContractData\",C1537, \"PerCentNetLastTrade\",, \"T\")/100,\"\")","v":1.1834319526627219E-3},1253,{"$f":"IFERROR(E1537,\"\")","v":1253},{"$f":"C1537","v":"S.US.TM"},1537,{"$f":"IFERROR(VLOOKUP(H1537,$F$1:$G$2522,2,FALSE),\"\")","v":"S.US.AVB"}]
[null,null,"S.US.AAT",{"$f":"IFERROR(RTD(\"cqg.rtd\", ,\"ContractData\",C1538, \"PerCentNetLastTrade\",, \"T\")/100,\"\")","v":-6.8846815834767636E-3},1930,1930,"S.US.AAT",{"$f":"H1537+1","v":1538},"S.US.AIB"]
[null,null,"S.US.TARO",{"$f":"IFERROR(RTD(\"cqg.rtd\", ,\"ContractData\",C1539, \"PerCentNetLastTrade\",, \"T\")/100,\"\")","v":-2.845220030349014E-3},1610,1610,"S.US.TARO",1539,"S.US.ABM"]
[null,null,"S.US.RRTS",{"$f":"IFERROR(RTD(\"cqg.rtd\", ,\"ContractData\",C1540, \"PerCentNetLastTrade\",, \"T\")/100,\"\")","v":1.6080402010050253E-2},502,502,"S.US.RRTS",1540,"S.US.MCY"]
[null,null,"S.US.IMN",{"$f":"IFERROR(RTD(\"cqg.rtd\", ,\"ContractData\",C1541, \"PerCentNetLastTrade\",, \"T\")/100,\"\")","v":-3.6363636363636362E-2},2459,2459,"S.US.IMN",1541,"S.US.FDC"]
[null,null,"S.US.GEF",{"$f":"IFERROR(RTD(\"cqg.rtd\", ,\"ContractData\",C1542, \"PerCentNetLastTrade\",, \"T\")/100,\"\")","v":1.7197576705100647E-2},471,471,"S.US.GEF",1542,"S.US.DDF"]
[null,null,"S.US.DRUA",{"$f":"IFERROR(RTD(\"cqg.rtd\", ,\"ContractData\",C1543, \"PerCentNetLastTrade\",, \"T\")/100,\"\")","v":-1.1954022988505748E-2},2159,2159,"S.US.DRUA",1543,"S.US.KCG"]
[null,null,"S.US.BIF",{"$f":"IFERROR(RTD(\"cqg.rtd\", ,\"ContractData\",C1544, \"PerCentNetLastTrade\",, \"T\")/100,\"\")","v":4.5871559633027525E-3},1002,1002,"S.US.BIF",1544,"S.US.CNP"]
[null,null,"S.US.NHI",{"$f":"IFERROR(RTD(\"cqg.rtd\", ,\"ContractData\",C1545, \"PerCentNetLastTrade\",, \"T\")/100,\"\")","v":-1.8849752339020361E-2},2349,2349,"S.US.NHI",1545,"S.US.MGM"]
[null,null,"S.US.PRO",{"$f":"IFERROR(RTD(\"cqg.rtd\", ,\"ContractData\",C1546, \"PerCentNetLastTrade\",, \"T\")/100,\"\")","v":1.0490977759127152E-2},653,653,"S.US.PRO",1546,"S.US.BETR"]
[null,null,"S.US.BOOT",{"$f":"IFERROR(RTD(\"cqg.rtd\", ,\"ContractData\",C1547, \"PerCentNetLastTrade\",, \"T\")/100,\"\")","v":2.2058823529411766E-2},368,368,"S.US.BOOT",1547,"S.US.TAP"]
[null,null,"S.US.DOOR",{"$f":"IFERROR(RTD(\"cqg.rtd\", ,\"ContractData\",C1548, \"PerCentNetLastTrade\",, \"T\")/100,\"\")","v":0},1350,1350,"S.US.DOOR",1548,"S.US.SNN"]
[null,null,"S.US.THG",{"$f":"IFERROR(RTD(\"cqg.rtd\", ,\"ContractData\",C1549, \"PerCentNetLastTrade\",, \"T\")/100,\"\")","v":1.6080863772111188E-3},1219,1219,"S.US.THG",1549,"S.US.TTM"]
[null,null,"S.US.BXMX",{"$f":"IFERROR(RTD(\"cqg.rtd\", ,\"ContractData\",C1550, \"PerCentNetLastTrade\",, \"T\")/100,\"\")","v":1.5384615384615385E-3},1225,1225,"S.US.BXMX",1550,"S.US.DXPB"]
[null,null,"S.US.ELF",{"$f":"IFERROR(RTD(\"cqg.rtd\", ,\"ContractData\",C1551, \"PerCentNetLastTrade\",, \"T\")/100,\"\")","v":-6.3011972274732196E-3},1893,1893,"S.US.ELF",1551,"S.US.DHG"]
[null,null,"S.US.WNRL",{"$f":"IFERROR(RTD(\"cqg.rtd\", ,\"ContractData\",C1552, \"PerCentNetLastTrade\",, \"T\")/100,\"\")","v":2.6196473551637279E-2},319,319,"S.US.WNRL",1552,"S.US.BQH"]
[null,null,"S.US.PPT",{"$f":"IFERROR(RTD(\"cqg.rtd\", ,\"ContractData\",C1553, \"PerCentNetLastTrade\",, \"T\")/100,\"\")","v":4.1666666666666666E-3},1034,1034,"S.US.PPT",1553,"S.US.JHS"]
[null,null,"S.US.MITT",{"$f":"IFERROR(RTD(\"cqg.rtd\", ,\"ContractData\",C1554, \"PerCentNetLastTrade\",, \"T\")/100,\"\")","v":-1.3721185510428099E-2},2227,2227,"S.US.MITT",1554,"S.US.AXON"]
[null,null,"S.US.SRG",{"$f":"IFERROR(RTD(\"cqg.rtd\", ,\"ContractData\",C1555, \"PerCentNetLastTrade\",, \"T\")/100,\"\")","v":-1.4684287812041117E-3},1315,1315,"S.US.SRG",1555,"S.US.PFE"]
[null,null,"S.US.GCAP",{"$f":"IFERROR(RTD(\"cqg.rtd\", ,\"ContractData\",C1556, \"PerCentNetLastTrade\",, \"T\")/100,\"\")","v":3.0816640986132508E-3},1112,1112,"S.US.GCAP",1556,"S.US.IAE"]
[null,null,"S.US.CUB",{"$f":"IFERROR(RTD(\"cqg.rtd\", ,\"ContractData\",C1557, \"PerCentNetLastTrade\",, \"T\")/100,\"\")","v":8.6486486486486488E-3},769,769,"S.US.CUB",1557,"S.US.BCRH"]
[null,null,"S.US.CAS",{"$f":"IFERROR(RTD(\"cqg.rtd\", ,\"ContractData\",C1558, \"PerCentNetLastTrade\",, \"T\")/100,\"\")","v":3.4482758620689655E-2},241,241,"S.US.CAS",1558,"S.US.ZBH"]
[null,null,"S.US.GPRK",{"$f":"IFERROR(RTD(\"cqg.rtd\", ,\"ContractData\",C1559, \"PerCentNetLastTrade\",, \"T\")/100,\"\")","v":6.6059225512528477E-2},114,114,"S.US.GPRK",1559,"S.US.WCG"]
[null,null,"S.US.CLDT",{"$f":"IFERROR(RTD(\"cqg.rtd\", ,\"ContractData\",C1560, \"PerCentNetLastTrade\",, \"T\")/100,\"\")","v":-5.6294779938587513E-3},1832,1832,"S.US.CLDT",1560,"S.US.VVI"]
[null,null,"S.US.TEP",{"$f":"IFERROR(RTD(\"cqg.rtd\", ,\"ContractData\",C1561, \"PerCentNetLastTrade\",, \"T\")/100,\"\")","v":3.6654960491659352E-2},227,227,"S.US.TEP",1561,"S.US.RTN"]
[null,null,"S.US.WNS",{"$f":"IFERROR(RTD(\"cqg.rtd\", ,\"ContractData\",C1562, \"PerCentNetLastTrade\",, \"T\")/100,\"\")","v":-1.2156862745098038E-2},2166,2166,"S.US.WNS",1562,"S.US.LPT"]
[null,null,"S.US.FCN",{"$f":"IFERROR(RTD(\"cqg.rtd\", ,\"ContractData\",C1563, \"PerCentNetLastTrade\",, \"T\")/100,\"\")","v":1.4325974635979333E-2},548,548,"S.US.FCN",1563,"S.US.WM"]
[null,null,"S.US.EVRI",{"$f":"IFERROR(RTD(\"cqg.rtd\", ,\"ContractData\",C1564, \"PerCentNetLastTrade\",, \"T\")/100,\"\")","v":-4.4642857142857149E-3},1745,1745,"S.US.EVRI",1564,"S.US.EOS"]
[null,null,"S.US.RCI",{"$f":"IFERROR(RTD(\"cqg.rtd\", ,\"ContractData\",C1565, \"PerCentNetLastTrade\",, \"T\")/100,\"\")","v":-8.4442169907881278E-3},2015,2015,"S.US.RCI",1565,"S.US.AEK"]
[null,null,"S.US.EOD",{"$f":"IFERROR(RTD(\"cqg.rtd\", ,\"ContractData\",C1566, \"PerCentNetLastTrade\",, \"T\")/100,\"\")","v":-1.865671641791045E-3},1517,1517,"S.US.EOD",1566,"S.US.NLSN"]
[null,null,"S.US.GGG",{"$f":"IFERROR(RTD(\"cqg.rtd\", ,\"ContractData\",C1567, \"PerCentNetLastTrade\",, \"T\")/100,\"\")","v":1.2054120541205414E-2},625,625,"S.US.GGG",1567,"S.US.MIN"]
[null,null,"S.US.ALE",{"$f":"IFERROR(RTD(\"cqg.rtd\", ,\"ContractData\",C1568, \"PerCentNetLastTrade\",, \"T\")/100,\"\")","v":-1.4745098039215688E-2},2259,2259,"S.US.ALE",1568,"S.US.BHK"]
[null,null,"S.US.JOE",{"$f":"IFERROR(RTD(\"cqg.rtd\", ,\"ContractData\",C1569, \"PerCentNetLastTrade\",, \"T\")/100,\"\")","v":1.1933174224343675E-2},629,629,"S.US.JOE",1569,"S.US.PVTD"]
[null,null,"S.US.YDKN",{"$f":"IFERROR(RTD(\"cqg.rtd\", ,\"ContractData\",C1570, \"PerCentNetLastTrade\",, \"T\")/100,\"\")","v":1.3003095975232198E-2},587,587,"S.US.YDKN",1570,"S.US.KTF"]
[null,null,"S.US.RFP",{"$f":"IFERROR(RTD(\"cqg.rtd\", ,\"ContractData\",C1571, \"PerCentNetLastTrade\",, \"T\")/100,\"\")","v":3.4090909090909088E-2},246,246,"S.US.RFP",1571,"S.US.HSEB"]
[null,null,"S.US.BCX",{"$f":"IFERROR(RTD(\"cqg.rtd\", ,\"ContractData\",C1572, \"PerCentNetLastTrade\",, \"T\")/100,\"\")","v":1.9826517967781909E-2},409,409,"S.US.BCX",1572,"S.US.GDO"]
[null,null,"S.US.EE",{"$f":"IFERROR(RTD(\"cqg.rtd\", ,\"ContractData\",C1573, \"PerCentNetLastTrade\",, \"T\")/100,\"\")","v":-1.7075773745997867E-2},2312,2312,"S.US.EE",1573,"S.US.SBGL"]
[null,null,"S.US.ORN",{"$f":"IFERROR(RTD(\"cqg.rtd\", ,\"ContractData\",C1574, \"PerCentNetLastTrade\",, \"T\")/100,\"\")","v":2.1671826625386997E-2},375,375,"S.US.ORN",1574,"S.US.PGR"]
[null,null,"S.US.VGM",{"$f":"IFERROR(RTD(\"cqg.rtd\", ,\"ContractData\",C1575, \"PerCentNetLastTrade\",, \"T\")/100,\"\")","v":-6.3694267515923561E-3},1899,1899,"S.US.VGM",1575,"S.US.CTV"]
[null,null,"S.US.WG",{"$f":"IFERROR(RTD(\"cqg.rtd\", ,\"ContractData\",C1576, \"PerCentNetLastTrade\",, \"T\")/100,\"\")","v":5.9760956175298807E-2},124,124,"S.US.WG",1576,"S.US.LOW"]
[null,null,"S.US.TU",{"$f":"IFERROR(RTD(\"cqg.rtd\", ,\"ContractData\",C1577, \"PerCentNetLastTrade\",, \"T\")/100,\"\")","v":-2.5348542458808621E-3},1584,1584,"S.US.TU",1577,"S.US.GEQ"]
[null,null,"S.US.NFJ",{"$f":"IFERROR(RTD(\"cqg.rtd\", ,\"ContractData\",C1578, \"PerCentNetLastTrade\",, \"T\")/100,\"\")","v":-3.9184952978056423E-3},1701,1701,"S.US.NFJ",1578,"S.US.LQ"]
[null,null,"S.US.MCY",{"$f":"IFERROR(RTD(\"cqg.rtd\", ,\"ContractData\",C1579, \"PerCentNetLastTrade\",, \"T\")/100,\"\")","v":-2.018842530282638E-3},1540,1540,"S.US.MCY",1579,"S.US.TLK"]
[null,null,"S.US.EFT",{"$f":"IFERROR(RTD(\"cqg.rtd\", ,\"ContractData\",C1580, \"PerCentNetLastTrade\",, \"T\")/100,\"\")","v":6.1433447098976114E-3},908,908,"S.US.EFT",1580,"S.US.SRE"]
[null,null,"S.US.ITG",{"$f":"IFERROR(RTD(\"cqg.rtd\", ,\"ContractData\",C1581, \"PerCentNetLastTrade\",, \"T\")/100,\"\")","v":1.4461703267273701E-2},545,545,"S.US.ITG",1581,"S.US.LCM"]
[null,null,"S.US.STV",{"$f":"IFERROR(RTD(\"cqg.rtd\", ,\"ContractData\",C1582, \"PerCentNetLastTrade\",, \"T\")/100,\"\")","v":1.3157894736842106E-2},582,582,"S.US.STV",1582,"S.US.IGI"]
[null,null,"S.US.ESL",{"$f":"IFERROR(RTD(\"cqg.rtd\", ,\"ContractData\",C1583, \"PerCentNetLastTrade\",, \"T\")/100,\"\")","v":6.8454078722190526E-3},871,871,"S.US.ESL",1583,"S.US.ANET"]
[null,null,"S.US.BRC",{"$f":"IFERROR(RTD(\"cqg.rtd\", ,\"ContractData\",C1584, \"PerCentNetLastTrade\",, \"T\")/100,\"\")","v":0},1351,1351,"S.US.BRC",1584,"S.US.TU"]
[null,null,"S.US.GLF",{"$f":"IFERROR(RTD(\"cqg.rtd\", ,\"ContractData\",C1585, \"PerCentNetLastTrade\",, \"T\")/100,\"\")","v":0.12},42,42,"S.US.GLF",1585,"S.US.VR"]
[null,null,"S.US.AIR",{"$f":"IFERROR(RTD(\"cqg.rtd\", ,\"ContractData\",C1586, \"PerCentNetLastTrade\",, \"T\")/100,\"\")","v":-2.6560424966799468E-4},1396,1396,"S.US.AIR",1586,"S.US.BKD"]
[null,null,"S.US.WK",{"$f":"IFERROR(RTD(\"cqg.rtd\", ,\"ContractData\",C1587, \"PerCentNetLastTrade\",, \"T\")/100,\"\")","v":-1.3071895424836602E-2},2200,2200,"S.US.WK",1587,"S.US.PMO"]
[null,null,"S.US.FUL",{"$f":"IFERROR(RTD(\"cqg.rtd\", ,\"ContractData\",C1588, \"PerCentNetLastTrade\",, \"T\")/100,\"\")","v":-2.0412371134020616E-2},2375,2375,"S.US.FUL",1588,"S.US.FSD"]
[null,null,"S.US.MMT",{"$f":"IFERROR(RTD(\"cqg.rtd\", ,\"ContractData\",C1589, \"PerCentNetLastTrade\",, \"T\")/100,\"\")","v":3.3726812816188873E-3},1088,1088,"S.US.MMT",1589,"S.US.SBNA"]
[null,null,"S.US.GLT",{"$f":"IFERROR(RTD(\"cqg.rtd\", ,\"ContractData\",C1590, \"PerCentNetLastTrade\",, \"T\")/100,\"\")","v":-5.4898648648648652E-3},1820,1820,"S.US.GLT",1590,"S.US.MDLX"]
[null,null,"S.US.ROG",{"$f":"IFERROR(RTD(\"cqg.rtd\", ,\"ContractData\",C1591, \"PerCentNetLastTrade\",, \"T\")/100,\"\")","v":2.2477852703953458E-3},1172,1172,"S.US.ROG",1591,"S.US.SMFG"]
[null,null,"S.US.ITGR",{"$f":"IFERROR(RTD(\"cqg.rtd\", ,\"ContractData\",C1592, \"PerCentNetLastTrade\",, \"T\")/100,\"\")","v":7.9710144927536229E-3},811,811,"S.US.ITGR",1592,"S.US.FENG"]
[null,null,"S.US.BGB",{"$f":"IFERROR(RTD(\"cqg.rtd\", ,\"ContractData\",C1593, \"PerCentNetLastTrade\",, \"T\")/100,\"\")","v":3.3444816053511705E-3},1094,1094,"S.US.BGB",1593,"S.US.JTA"]
[null,null,"S.US.IDA",{"$f":"IFERROR(RTD(\"cqg.rtd\", ,\"ContractData\",C1594, \"PerCentNetLastTrade\",, \"T\")/100,\"\")","v":-1.3792230798430975E-2},2230,2230,"S.US.IDA",1594,"S.US.CODI"]
[null,null,"S.US.LRN",{"$f":"IFERROR(RTD(\"cqg.rtd\", ,\"ContractData\",C1595, \"PerCentNetLastTrade\",, \"T\")/100,\"\")","v":4.3508287292817679E-2},183,183,"S.US.LRN",1595,"S.US.MYC"]
[null,null,"S.US.AMID",{"$f":"IFERROR(RTD(\"cqg.rtd\", ,\"ContractData\",C1596, \"PerCentNetLastTrade\",, \"T\")/100,\"\")","v":4.912280701754386E-2},156,156,"S.US.AMID",1596,"S.US.BKFS"]
[null,null,"S.US.APU",{"$f":"IFERROR(RTD(\"cqg.rtd\", ,\"ContractData\",C1597, \"PerCentNetLastTrade\",, \"T\")/100,\"\")","v":2.1686213764107107E-2},374,374,"S.US.APU",1597,"S.US.CMC"]
[null,null,"S.US.ASA",{"$f":"IFERROR(RTD(\"cqg.rtd\", ,\"ContractData\",C1598, \"PerCentNetLastTrade\",, \"T\")/100,\"\")","v":-2.7027027027027025E-2},2434,2434,"S.US.ASA",1598,"S.US.VCRA"]
[null,null,"S.US.CCU",{"$f":"IFERROR(RTD(\"cqg.rtd\", ,\"ContractData\",C1599, \"PerCentNetLastTrade\",, \"T\")/100,\"\")","v":-2.9673590504451035E-3},1621,1621,"S.US.CCU",1599,"S.US.NBLX"]
[null,null,"S.US.MTD",{"$f":"IFERROR(RTD(\"cqg.rtd\", ,\"ContractData\",C1600, \"PerCentNetLastTrade\",, \"T\")/100,\"\")","v":-1.2354754564856534E-2},2172,2172,"S.US.MTD",1600,"S.US.STJ"]
[null,null,"S.US.CACI",{"$f":"IFERROR(RTD(\"cqg.rtd\", ,\"ContractData\",C1601, \"PerCentNetLastTrade\",, \"T\")/100,\"\")","v":-7.2713356295445852E-3},1950,{"$f":"IFERROR(E1601,\"\")","v":1950},{"$f":"C1601","v":"S.US.CACI"},1601,{"$f":"IFERROR(VLOOKUP(H1601,$F$1:$G$2522,2,FALSE),\"\")","v":"S.US.CWT"}]
[null,null,"S.US.HSEB",{"$f":"IFERROR(RTD(\"cqg.rtd\", ,\"ContractData\",C1602, \"PerCentNetLastTrade\",, \"T\")/100,\"\")","v":-2.3437499999999999E-3},1571,1571,"S.US.HSEB",{"$f":"H1601+1","v":1602},"S.US.MRT"]
[null,null,"S.US.GDV",{"$f":"IFERROR(RTD(\"cqg.rtd\", ,\"ContractData\",C1603, \"PerCentNetLastTrade\",, \"T\")/100,\"\")","v":4.0941658137154556E-3},1040,1040,"S.US.GDV",1603,"S.US.TDJ"]
[null,null,"S.US.HRTG",{"$f":"IFERROR(RTD(\"cqg.rtd\", ,\"ContractData\",C1604, \"PerCentNetLastTrade\",, \"T\")/100,\"\")","v":4.0241448692152921E-3},1043,1043,"S.US.HRTG",1604,"S.US.TJX"]
[null,null,"S.US.CWT",{"$f":"IFERROR(RTD(\"cqg.rtd\", ,\"ContractData\",C1605, \"PerCentNetLastTrade\",, \"T\")/100,\"\")","v":-2.7700831024930748E-3},1601,1601,"S.US.CWT",1605,"S.US.MHF"]
[null,null,"S.US.MEI",{"$f":"IFERROR(RTD(\"cqg.rtd\", ,\"ContractData\",C1606, \"PerCentNetLastTrade\",, \"T\")/100,\"\")","v":1.3404825737265416E-2},624,624,"S.US.MEI",1606,"S.US.SBW"]
[null,null,"S.US.VHI",{"$f":"IFERROR(RTD(\"cqg.rtd\", ,\"ContractData\",C1607, \"PerCentNetLastTrade\",, \"T\")/100,\"\")","v":2.7118644067796609E-2},307,307,"S.US.VHI",1607,"S.US.HLT"]
[null,null,"S.US.AIT",{"$f":"IFERROR(RTD(\"cqg.rtd\", ,\"ContractData\",C1608, \"PerCentNetLastTrade\",, \"T\")/100,\"\")","v":1.69061707523246E-2},479,479,"S.US.AIT",1608,"S.US.NMFC"]
[null,null,"S.US.TGS",{"$f":"IFERROR(RTD(\"cqg.rtd\", ,\"ContractData\",C1609, \"PerCentNetLastTrade\",, \"T\")/100,\"\")","v":1.6109045848822799E-2},501,501,"S.US.TGS",1609,"S.US.BMY"]
[null,null,"S.US.NBHC",{"$f":"IFERROR(RTD(\"cqg.rtd\", ,\"ContractData\",C1610, \"PerCentNetLastTrade\",, \"T\")/100,\"\")","v":8.8888888888888889E-3},762,762,"S.US.NBHC",1610,"S.US.TARO"]
[null,null,"S.US.MODN",{"$f":"IFERROR(RTD(\"cqg.rtd\", ,\"ContractData\",C1611, \"PerCentNetLastTrade\",, \"T\")/100,\"\")","v":-1.1111111111111112E-2},2128,2128,"S.US.MODN",1611,"S.US.AOS"]
[null,null,"S.US.DEA",{"$f":"IFERROR(RTD(\"cqg.rtd\", ,\"ContractData\",C1612, \"PerCentNetLastTrade\",, \"T\")/100,\"\")","v":-1.0791366906474819E-2},2114,2114,"S.US.DEA",1612,"S.US.CTL"]
[null,null,"S.US.HQH",{"$f":"IFERROR(RTD(\"cqg.rtd\", ,\"ContractData\",C1613, \"PerCentNetLastTrade\",, \"T\")/100,\"\")","v":-5.684302579798863E-3},1840,1840,"S.US.HQH",1613,"S.US.AMC"]
[null,null,"S.US.NSP",{"$f":"IFERROR(RTD(\"cqg.rtd\", ,\"ContractData\",C1614, \"PerCentNetLastTrade\",, \"T\")/100,\"\")","v":-6.8870523415977963E-4},1416,1416,"S.US.NSP",1614,"S.US.HTGC"]
[null,null,"S.US.NGVC",{"$f":"IFERROR(RTD(\"cqg.rtd\", ,\"ContractData\",C1615, \"PerCentNetLastTrade\",, \"T\")/100,\"\")","v":-2.5754884547069271E-2},2427,2427,"S.US.NGVC",1615,"S.US.WTM"]
[null,null,"S.US.IL",{"$f":"IFERROR(RTD(\"cqg.rtd\", ,\"ContractData\",C1616, \"PerCentNetLastTrade\",, \"T\")/100,\"\")","v":9.5486111111111119E-3},725,725,"S.US.IL",1616,"S.US.FSIC"]
[null,null,"S.US.FNFV",{"$f":"IFERROR(RTD(\"cqg.rtd\", ,\"ContractData\",C1617, \"PerCentNetLastTrade\",, \"T\")/100,\"\")","v":7.6045627376425846E-3},835,835,"S.US.FNFV",1617,"S.US.MUI"]
[null,null,"S.US.ANTX",{"$f":"IFERROR(RTD(\"cqg.rtd\", ,\"ContractData\",C1618, \"PerCentNetLastTrade\",, \"T\")/100,\"\")","v":8.4925690021231414E-4},1284,1284,"S.US.ANTX",1618,"S.US.NCS"]
[null,null,"S.US.PDT",{"$f":"IFERROR(RTD(\"cqg.rtd\", ,\"ContractData\",C1619, \"PerCentNetLastTrade\",, \"T\")/100,\"\")","v":-9.7020097020097014E-3},2071,2071,"S.US.PDT",1619,"S.US.HUM"]
[null,null,"S.US.ADX",{"$f":"IFERROR(RTD(\"cqg.rtd\", ,\"ContractData\",C1620, \"PerCentNetLastTrade\",, \"T\")/100,\"\")","v":4.8387096774193551E-3},992,992,"S.US.ADX",1620,"S.US.DEI"]
[null,null,"S.US.MHO",{"$f":"IFERROR(RTD(\"cqg.rtd\", ,\"ContractData\",C1621, \"PerCentNetLastTrade\",, \"T\")/100,\"\")","v":-4.2553191489361703E-3},1729,1729,"S.US.MHO",1621,"S.US.CCU"]
[null,null,"S.US.LPG",{"$f":"IFERROR(RTD(\"cqg.rtd\", ,\"ContractData\",C1622, \"PerCentNetLastTrade\",, \"T\")/100,\"\")","v":5.7471264367816091E-2},132,132,"S.US.LPG",1622,"S.US.HCI"]
[null,null,"S.US.SBY",{"$f":"IFERROR(RTD(\"cqg.rtd\", ,\"ContractData\",C1623, \"PerCentNetLastTrade\",, \"T\")/100,\"\")","v":-1.718213058419244E-3},1507,1507,"S.US.SBY",1623,"S.US.KNL"]
[null,null,"S.US.DTK",{"$f":"IFERROR(RTD(\"cqg.rtd\", ,\"ContractData\",C1624, \"PerCentNetLastTrade\",, \"T\")/100,\"\")","v":-8.3822296730930428E-4},1432,1432,"S.US.DTK",1624,"S.US.MUA"]
[null,null,"S.US.ESD",{"$f":"IFERROR(RTD(\"cqg.rtd\", ,\"ContractData\",C1625, \"PerCentNetLastTrade\",, \"T\")/100,\"\")","v":6.8352699931647305E-4},1297,1297,"S.US.ESD",1625,"S.US.WBAI"]
[null,null,"S.US.CNS",{"$f":"IFERROR(RTD(\"cqg.rtd\", ,\"ContractData\",C1626, \"PerCentNetLastTrade\",, \"T\")/100,\"\")","v":-2.8011204481792721E-4},1398,1398,"S.US.CNS",1626,"S.US.SHAK"]
[null,null,"S.US.ETG",{"$f":"IFERROR(RTD(\"cqg.rtd\", ,\"ContractData\",C1627, \"PerCentNetLastTrade\",, \"T\")/100,\"\")","v":0},1352,1352,"S.US.ETG",1627,"S.US.SR"]
[null,null,"S.US.TRNO",{"$f":"IFERROR(RTD(\"cqg.rtd\", ,\"ContractData\",C1628, \"PerCentNetLastTrade\",, \"T\")/100,\"\")","v":-3.6845983787767134E-4},1399,1399,"S.US.TRNO",1628,"S.US.OR"]
[null,null,"S.US.CLC",{"$f":"IFERROR(RTD(\"cqg.rtd\", ,\"ContractData\",C1629, \"PerCentNetLastTrade\",, \"T\")/100,\"\")","v":1.473112128146453E-2},533,533,"S.US.CLC",1629,"S.US.MCD"]
[null,null,"S.US.EGP",{"$f":"IFERROR(RTD(\"cqg.rtd\", ,\"ContractData\",C1630, \"PerCentNetLastTrade\",, \"T\")/100,\"\")","v":-1.2463768115942029E-2},2177,2177,"S.US.EGP",1630,"S.US.NUW"]
[null,null,"S.US.FFC",{"$f":"IFERROR(RTD(\"cqg.rtd\", ,\"ContractData\",C1631, \"PerCentNetLastTrade\",, \"T\")/100,\"\")","v":-7.1979434447300775E-3},1947,1947,"S.US.FFC",1631,"S.US.DHF"]
[null,null,"S.US.KMPR",{"$f":"IFERROR(RTD(\"cqg.rtd\", ,\"ContractData\",C1632, \"PerCentNetLastTrade\",, \"T\")/100,\"\")","v":1.1562115621156213E-2},639,639,"S.US.KMPR",1632,"S.US.NIM"]
[null,null,"S.US.B",{"$f":"IFERROR(RTD(\"cqg.rtd\", ,\"ContractData\",C1633, \"PerCentNetLastTrade\",, \"T\")/100,\"\")","v":9.9309153713298785E-3},711,711,"S.US.B",1633,"S.US.PCM"]
[null,null,"S.US.AGX",{"$f":"IFERROR(RTD(\"cqg.rtd\", ,\"ContractData\",C1634, \"PerCentNetLastTrade\",, \"T\")/100,\"\")","v":-1.3178294573643411E-2},2205,2205,"S.US.AGX",1634,"S.US.GFI"]
[null,null,"S.US.IBP",{"$f":"IFERROR(RTD(\"cqg.rtd\", ,\"ContractData\",C1635, \"PerCentNetLastTrade\",, \"T\")/100,\"\")","v":-1.7793594306049824E-2},2326,2326,"S.US.IBP",1635,"S.US.FUN"]
[null,null,"S.US.EROS",{"$f":"IFERROR(RTD(\"cqg.rtd\", ,\"ContractData\",C1636, \"PerCentNetLastTrade\",, \"T\")/100,\"\")","v":8.1355932203389832E-3},800,800,"S.US.EROS",1636,"S.US.NPK"]
[null,null,"S.US.IQI",{"$f":"IFERROR(RTD(\"cqg.rtd\", ,\"ContractData\",C1637, \"PerCentNetLastTrade\",, \"T\")/100,\"\")","v":-8.1499592502037484E-3},1997,1997,"S.US.IQI",1637,"S.US.EQR"]
[null,null,"S.US.SMLP",{"$f":"IFERROR(RTD(\"cqg.rtd\", ,\"ContractData\",C1638, \"PerCentNetLastTrade\",, \"T\")/100,\"\")","v":1.8518518518518517E-2},436,436,"S.US.SMLP",1638,"S.US.MYN"]
[null,null,"S.US.VKQ",{"$f":"IFERROR(RTD(\"cqg.rtd\", ,\"ContractData\",C1639, \"PerCentNetLastTrade\",, \"T\")/100,\"\")","v":-8.2236842105263153E-3},2004,2004,"S.US.VKQ",1639,"S.US.ISG"]
[null,null,"S.US.JBT",{"$f":"IFERROR(RTD(\"cqg.rtd\", ,\"ContractData\",C1640, \"PerCentNetLastTrade\",, \"T\")/100,\"\")","v":2.176278563656148E-3},1179,1179,"S.US.JBT",1640,"S.US.JHX"]
[null,null,"S.US.RLI",{"$f":"IFERROR(RTD(\"cqg.rtd\", ,\"ContractData\",C1641, \"PerCentNetLastTrade\",, \"T\")/100,\"\")","v":6.5876152832674575E-4},1302,1302,"S.US.RLI",1641,"S.US.PJH"]
[null,null,"S.US.FCAM",{"$f":"IFERROR(RTD(\"cqg.rtd\", ,\"ContractData\",C1642, \"PerCentNetLastTrade\",, \"T\")/100,\"\")","v":4.4989140552280484E-3},1010,1010,"S.US.FCAM",1642,"S.US.GUT"]
[null,null,"S.US.FMS",{"$f":"IFERROR(RTD(\"cqg.rtd\", ,\"ContractData\",C1643, \"PerCentNetLastTrade\",, \"T\")/100,\"\")","v":-8.1197665567114934E-3},2013,2013,"S.US.FMS",1643,"S.US.CMP"]
[null,null,"S.US.PLT",{"$f":"IFERROR(RTD(\"cqg.rtd\", ,\"ContractData\",C1644, \"PerCentNetLastTrade\",, \"T\")/100,\"\")","v":-7.635044855888529E-4},1427,1427,"S.US.PLT",1644,"S.US.GNE"]
[null,null,"S.US.EHI",{"$f":"IFERROR(RTD(\"cqg.rtd\", ,\"ContractData\",C1645, \"PerCentNetLastTrade\",, \"T\")/100,\"\")","v":2.0898641588296758E-3},1185,1185,"S.US.EHI",1645,"S.US.BLD"]
[null,null,"S.US.RGS",{"$f":"IFERROR(RTD(\"cqg.rtd\", ,\"ContractData\",C1646, \"PerCentNetLastTrade\",, \"T\")/100,\"\")","v":8.1061164333087691E-3},802,802,"S.US.RGS",1646,"S.US.IRS"]
[null,null,"S.US.SXT",{"$f":"IFERROR(RTD(\"cqg.rtd\", ,\"ContractData\",C1647, \"PerCentNetLastTrade\",, \"T\")/100,\"\")","v":-1.2735608762098828E-4},1391,1391,"S.US.SXT",1647,"S.US.ALLE"]
[null,null,"S.US.EQGP",{"$f":"IFERROR(RTD(\"cqg.rtd\", ,\"ContractData\",C1648, \"PerCentNetLastTrade\",, \"T\")/100,\"\")","v":-1.2474012474012475E-3},1466,1466,"S.US.EQGP",1648,"S.US.IP"]
[null,null,"S.US.NID",{"$f":"IFERROR(RTD(\"cqg.rtd\", ,\"ContractData\",C1649, \"PerCentNetLastTrade\",, \"T\")/100,\"\")","v":-6.2451209992193599E-3},1883,1883,"S.US.NID",1649,"S.US.KSM"]
[null,null,"S.US.JMF",{"$f":"IFERROR(RTD(\"cqg.rtd\", ,\"ContractData\",C1650, \"PerCentNetLastTrade\",, \"T\")/100,\"\")","v":5.7677318784099763E-2},131,131,"S.US.JMF",1650,"S.US.VCV"]
[null,null,"S.US.MYI",{"$f":"IFERROR(RTD(\"cqg.rtd\", ,\"ContractData\",C1651, \"PerCentNetLastTrade\",, \"T\")/100,\"\")","v":-1.4869888475836431E-3},1491,1491,"S.US.MYI",1651,"S.US.DEO"]
[null,null,"S.US.NAO",{"$f":"IFERROR(RTD(\"cqg.rtd\", ,\"ContractData\",C1652, \"PerCentNetLastTrade\",, \"T\")/100,\"\")","v":5.2631578947368425E-2},147,147,"S.US.NAO",1652,"S.US.PML"]
[null,null,"S.US.RNP",{"$f":"IFERROR(RTD(\"cqg.rtd\", ,\"ContractData\",C1653, \"PerCentNetLastTrade\",, \"T\")/100,\"\")","v":-1.0723860589812333E-2},2108,2108,"S.US.RNP",1653,"S.US.EME"]
[null,null,"S.US.PFN",{"$f":"IFERROR(RTD(\"cqg.rtd\", ,\"ContractData\",C1654, \"PerCentNetLastTrade\",, \"T\")/100,\"\")","v":0},1353,1353,"S.US.PFN",1654,"S.US.CSL"]
[null,null,"S.US.PFS",{"$f":"IFERROR(RTD(\"cqg.rtd\", ,\"ContractData\",C1655, \"PerCentNetLastTrade\",, \"T\")/100,\"\")","v":8.0468178493050477E-3},804,804,"S.US.PFS",1655,"S.US.MIXT"]
[null,null,"S.US.WTS",{"$f":"IFERROR(RTD(\"cqg.rtd\", ,\"ContractData\",C1656, \"PerCentNetLastTrade\",, \"T\")/100,\"\")","v":5.1207022677395748E-3},965,965,"S.US.WTS",1656,"S.US.ASH"]
[null,null,"S.US.MLI",{"$f":"IFERROR(RTD(\"cqg.rtd\", ,\"ContractData\",C1657, \"PerCentNetLastTrade\",, \"T\")/100,\"\")","v":1.0863804981452041E-2},669,669,"S.US.MLI",1657,"S.US.EQC"]
[null,null,"S.US.AHP",{"$f":"IFERROR(RTD(\"cqg.rtd\", ,\"ContractData\",C1658, \"PerCentNetLastTrade\",, \"T\")/100,\"\")","v":1.3502779984114376E-2},571,571,"S.US.AHP",1658,"S.US.DPLO"]
[null,null,"S.US.GCO",{"$f":"IFERROR(RTD(\"cqg.rtd\", ,\"ContractData\",C1659, \"PerCentNetLastTrade\",, \"T\")/100,\"\")","v":3.1595576619273301E-3},1109,1109,"S.US.GCO",1659,"S.US.RRD"]
[null,null,"S.US.RMP",{"$f":"IFERROR(RTD(\"cqg.rtd\", ,\"ContractData\",C1660, \"PerCentNetLastTrade\",, \"T\")/100,\"\")","v":2.6252983293556086E-2},317,317,"S.US.RMP",1660,"S.US.NWHM"]
[null,null,"S.US.APTS",{"$f":"IFERROR(RTD(\"cqg.rtd\", ,\"ContractData\",C1661, \"PerCentNetLastTrade\",, \"T\")/100,\"\")","v":-1.5021459227467811E-2},2267,2267,"S.US.APTS",1661,"S.US.TMHC"]
[null,null,"S.US.GIB",{"$f":"IFERROR(RTD(\"cqg.rtd\", ,\"ContractData\",C1662, \"PerCentNetLastTrade\",, \"T\")/100,\"\")","v":-2.0119072059125439E-2},2350,2350,"S.US.GIB",1662,"S.US.RELX"]
[null,null,"S.US.NKX",{"$f":"IFERROR(RTD(\"cqg.rtd\", ,\"ContractData\",C1663, \"PerCentNetLastTrade\",, \"T\")/100,\"\")","v":-5.7224606580829765E-3},1842,1842,"S.US.NKX",1663,"S.US.MMM"]
[null,null,"S.US.GHY",{"$f":"IFERROR(RTD(\"cqg.rtd\", ,\"ContractData\",C1664, \"PerCentNetLastTrade\",, \"T\")/100,\"\")","v":0},1354,1354,"S.US.GHY",1664,"S.US.ETB"]
[null,null,"S.US.BMI",{"$f":"IFERROR(RTD(\"cqg.rtd\", ,\"ContractData\",C1665, \"PerCentNetLastTrade\",, \"T\")/100,\"\")","v":2.7472527472527475E-3},1133,{"$f":"IFERROR(E1665,\"\")","v":1133},{"$f":"C1665","v":"S.US.BMI"},1665,{"$f":"IFERROR(VLOOKUP(H1665,$F$1:$G$2522,2,FALSE),\"\")","v":"S.US.TMH"}]
[null,null,"S.US.DSU",{"$f":"IFERROR(RTD(\"cqg.rtd\", ,\"ContractData\",C1666, \"PerCentNetLastTrade\",, \"T\")/100,\"\")","v":1.8181818181818182E-3},1204,1204,"S.US.DSU",{"$f":"H1665+1","v":1666},"S.US.GKOS"]
[null,null,"S.US.TOWR",{"$f":"IFERROR(RTD(\"cqg.rtd\", ,\"ContractData\",C1667, \"PerCentNetLastTrade\",, \"T\")/100,\"\")","v":1.9083969465648856E-2},423,423,"S.US.TOWR",1667,"S.US.MRK"]
[null,null,"S.US.FPO",{"$f":"IFERROR(RTD(\"cqg.rtd\", ,\"ContractData\",C1668, \"PerCentNetLastTrade\",, \"T\")/100,\"\")","v":2.0345879959308239E-3},1190,1190,"S.US.FPO",1668,"S.US.ELLI"]
[null,null,"S.US.HNI",{"$f":"IFERROR(RTD(\"cqg.rtd\", ,\"ContractData\",C1669, \"PerCentNetLastTrade\",, \"T\")/100,\"\")","v":9.3023255813953483E-4},1280,1280,"S.US.HNI",1669,"S.US.BIOCA"]
[null,null,"S.US.OAKS",{"$f":"IFERROR(RTD(\"cqg.rtd\", ,\"ContractData\",C1670, \"PerCentNetLastTrade\",, \"T\")/100,\"\")","v":-1.9342359767891681E-3},1526,1526,"S.US.OAKS",1670,"S.US.TD"]
[null,null,"S.US.PGEM",{"$f":"IFERROR(RTD(\"cqg.rtd\", ,\"ContractData\",C1671, \"PerCentNetLastTrade\",, \"T\")/100,\"\")","v":4.4728434504792327E-3},1012,1012,"S.US.PGEM",1671,"S.US.TCCA"]
[null,null,"S.US.VCV",{"$f":"IFERROR(RTD(\"cqg.rtd\", ,\"ContractData\",C1672, \"PerCentNetLastTrade\",, \"T\")/100,\"\")","v":-3.3277870216306153E-3},1650,1650,"S.US.VCV",1672,"S.US.EZT"]
[null,null,"S.US.CIA",{"$f":"IFERROR(RTD(\"cqg.rtd\", ,\"ContractData\",C1673, \"PerCentNetLastTrade\",, \"T\")/100,\"\")","v":1.6949152542372881E-2},478,478,"S.US.CIA",1673,"S.US.AGC"]
[null,null,"S.US.HF",{"$f":"IFERROR(RTD(\"cqg.rtd\", ,\"ContractData\",C1674, \"PerCentNetLastTrade\",, \"T\")/100,\"\")","v":-1.5604249667994688E-2},2281,2281,"S.US.HF",1674,"S.US.MFL"]
[null,null,"S.US.EMG",{"$f":"IFERROR(RTD(\"cqg.rtd\", ,\"ContractData\",C1675, \"PerCentNetLastTrade\",, \"T\")/100,\"\")","v":-1.5384615384615385E-2},2272,2272,"S.US.EMG",1675,"S.US.CTT"]
[null,null,"S.US.LEE",{"$f":"IFERROR(RTD(\"cqg.rtd\", ,\"ContractData\",C1676, \"PerCentNetLastTrade\",, \"T\")/100,\"\")","v":-4.6153846153846149E-2},2465,2465,"S.US.LEE",1676,"S.US.BFK"]
[null,null,"S.US.CBU",{"$f":"IFERROR(RTD(\"cqg.rtd\", ,\"ContractData\",C1677, \"PerCentNetLastTrade\",, \"T\")/100,\"\")","v":1.519166225048578E-2},519,519,"S.US.CBU",1677,"S.US.BGY"]
[null,null,"S.US.ETH",{"$f":"IFERROR(RTD(\"cqg.rtd\", ,\"ContractData\",C1678, \"PerCentNetLastTrade\",, \"T\")/100,\"\")","v":8.5592011412268191E-3},773,773,"S.US.ETH",1678,"S.US.LZB"]
[null,null,"S.US.VRS",{"$f":"IFERROR(RTD(\"cqg.rtd\", ,\"ContractData\",C1679, \"PerCentNetLastTrade\",, \"T\")/100,\"\")","v":9.46969696969697E-3},733,733,"S.US.VRS",1679,"S.US.WMC"]
[null,null,"S.US.WIW",{"$f":"IFERROR(RTD(\"cqg.rtd\", ,\"ContractData\",C1680, \"PerCentNetLastTrade\",, \"T\")/100,\"\")","v":-5.4694621695533276E-3},1818,1818,"S.US.WIW",1680,"S.US.LITB"]
[null,null,"S.US.CNNX",{"$f":"IFERROR(RTD(\"cqg.rtd\", ,\"ContractData\",C1681, \"PerCentNetLastTrade\",, \"T\")/100,\"\")","v":1.9644527595884004E-2},413,413,"S.US.CNNX",1681,"S.US.ARMK"]
[null,null,"S.US.CTBB",{"$f":"IFERROR(RTD(\"cqg.rtd\", ,\"ContractData\",C1682, \"PerCentNetLastTrade\",, \"T\")/100,\"\")","v":-3.7422037422037424E-3},1684,1684,"S.US.CTBB",1682,"S.US.AKP"]
[null,null,"S.US.TDY",{"$f":"IFERROR(RTD(\"cqg.rtd\", ,\"ContractData\",C1683, \"PerCentNetLastTrade\",, \"T\")/100,\"\")","v":1.015637594712236E-2},705,705,"S.US.TDY",1683,"S.US.FLT"]
[null,null,"S.US.TRMR",{"$f":"IFERROR(RTD(\"cqg.rtd\", ,\"ContractData\",C1684, \"PerCentNetLastTrade\",, \"T\")/100,\"\")","v":1.4354066985645932E-2},547,547,"S.US.TRMR",1684,"S.US.CTBB"]
[null,null,"S.US.BRSS",{"$f":"IFERROR(RTD(\"cqg.rtd\", ,\"ContractData\",C1685, \"PerCentNetLastTrade\",, \"T\")/100,\"\")","v":1.5410958904109588E-2},516,516,"S.US.BRSS",1685,"S.US.PFO"]
[null,null,"S.US.MYOV",{"$f":"IFERROR(RTD(\"cqg.rtd\", ,\"ContractData\",C1686, \"PerCentNetLastTrade\",, \"T\")/100,\"\")","v":5.4432348367029551E-3},949,949,"S.US.MYOV",1686,"S.US.RSG"]
[null,null,"S.US.CBZ",{"$f":"IFERROR(RTD(\"cqg.rtd\", ,\"ContractData\",C1687, \"PerCentNetLastTrade\",, \"T\")/100,\"\")","v":3.968253968253968E-3},1052,1052,"S.US.CBZ",1687,"S.US.AJX"]
[null,null,"S.US.GEN",{"$f":"IFERROR(RTD(\"cqg.rtd\", ,\"ContractData\",C1688, \"PerCentNetLastTrade\",, \"T\")/100,\"\")","v":1.3888888888888888E-2},559,559,"S.US.GEN",1688,"S.US.NXQ"]
[null,null,"S.US.JPEP",{"$f":"IFERROR(RTD(\"cqg.rtd\", ,\"ContractData\",C1689, \"PerCentNetLastTrade\",, \"T\")/100,\"\")","v":5.5766793409378963E-2},135,135,"S.US.JPEP",1689,"S.US.UDR"]
[null,null,"S.US.XTLY",{"$f":"IFERROR(RTD(\"cqg.rtd\", ,\"ContractData\",C1690, \"PerCentNetLastTrade\",, \"T\")/100,\"\")","v":1.4285714285714285E-2},549,549,"S.US.XTLY",1690,"S.US.MFA"]
[null,null,"S.US.SRI",{"$f":"IFERROR(RTD(\"cqg.rtd\", ,\"ContractData\",C1691, \"PerCentNetLastTrade\",, \"T\")/100,\"\")","v":5.5900621118012417E-3},940,940,"S.US.SRI",1691,"S.US.HRG"]
[null,null,"S.US.ALEX",{"$f":"IFERROR(RTD(\"cqg.rtd\", ,\"ContractData\",C1692, \"PerCentNetLastTrade\",, \"T\")/100,\"\")","v":9.4829532625874905E-3},730,730,"S.US.ALEX",1692,"S.US.BKK"]
[null,null,"S.US.KAMN",{"$f":"IFERROR(RTD(\"cqg.rtd\", ,\"ContractData\",C1693, \"PerCentNetLastTrade\",, \"T\")/100,\"\")","v":1.0423053341508276E-2},688,688,"S.US.KAMN",1693,"S.US.NNC"]
[null,null,"S.US.MTX",{"$f":"IFERROR(RTD(\"cqg.rtd\", ,\"ContractData\",C1694, \"PerCentNetLastTrade\",, \"T\")/100,\"\")","v":1.8444165621079048E-2},437,437,"S.US.MTX",1694,"S.US.STAY"]
[null,null,"S.US.EGY",{"$f":"IFERROR(RTD(\"cqg.rtd\", ,\"ContractData\",C1695, \"PerCentNetLastTrade\",, \"T\")/100,\"\")","v":8.4507042253521125E-2},86,86,"S.US.EGY",1695,"S.US.EAB"]
[null,null,"S.US.BIOCA",{"$f":"IFERROR(RTD(\"cqg.rtd\", ,\"ContractData\",C1696, \"PerCentNetLastTrade\",, \"T\")/100,\"\")","v":-3.55749368831765E-3},1669,1669,"S.US.BIOCA",1696,"S.US.ECCA"]
[null,null,"S.US.ICL",{"$f":"IFERROR(RTD(\"cqg.rtd\", ,\"ContractData\",C1697, \"PerCentNetLastTrade\",, \"T\")/100,\"\")","v":2.4E-2},341,341,"S.US.ICL",1697,"S.US.AWP"]
[null,null,"S.US.CRY",{"$f":"IFERROR(RTD(\"cqg.rtd\", ,\"ContractData\",C1698, \"PerCentNetLastTrade\",, \"T\")/100,\"\")","v":2.5445292620865142E-3},1149,1149,"S.US.CRY",1698,"S.US.GEO"]
[null,null,"S.US.NWN",{"$f":"IFERROR(RTD(\"cqg.rtd\", ,\"ContractData\",C1699, \"PerCentNetLastTrade\",, \"T\")/100,\"\")","v":-1.173512154233026E-2},2154,2154,"S.US.NWN",1699,"S.US.BUD"]
[null,null,"S.US.MOD",{"$f":"IFERROR(RTD(\"cqg.rtd\", ,\"ContractData\",C1700, \"PerCentNetLastTrade\",, \"T\")/100,\"\")","v":2.0325203252032523E-2},395,395,"S.US.MOD",1700,"S.US.WAAS"]
[null,null,"S.US.SUP",{"$f":"IFERROR(RTD(\"cqg.rtd\", ,\"ContractData\",C1701, \"PerCentNetLastTrade\",, \"T\")/100,\"\")","v":1.4624505928853756E-2},535,535,"S.US.SUP",1701,"S.US.NFJ"]
[null,null,"S.US.PCN",{"$f":"IFERROR(RTD(\"cqg.rtd\", ,\"ContractData\",C1702, \"PerCentNetLastTrade\",, \"T\")/100,\"\")","v":-6.1058344640434192E-3},1874,1874,"S.US.PCN",1702,"S.US.SWK"]
[null,null,"S.US.VLP",{"$f":"IFERROR(RTD(\"cqg.rtd\", ,\"ContractData\",C1703, \"PerCentNetLastTrade\",, \"T\")/100,\"\")","v":1.0630407911001236E-2},680,680,"S.US.VLP",1703,"S.US.SEM"]
[null,null,"S.US.PBA",{"$f":"IFERROR(RTD(\"cqg.rtd\", ,\"ContractData\",C1704, \"PerCentNetLastTrade\",, \"T\")/100,\"\")","v":1.3622074746769124E-2},567,567,"S.US.PBA",1704,"S.US.FPT"]
[null,null,"S.US.DCUD",{"$f":"IFERROR(RTD(\"cqg.rtd\", ,\"ContractData\",C1705, \"PerCentNetLastTrade\",, \"T\")/100,\"\")","v":-1.9920318725099602E-4},1392,1392,"S.US.DCUD",1705,"S.US.BOX"]
[null,null,"S.US.EVT",{"$f":"IFERROR(RTD(\"cqg.rtd\", ,\"ContractData\",C1706, \"PerCentNetLastTrade\",, \"T\")/100,\"\")","v":5.0125313283208017E-3},980,980,"S.US.EVT",1706,"S.US.DPG"]
[null,null,"S.US.MYD",{"$f":"IFERROR(RTD(\"cqg.rtd\", ,\"ContractData\",C1707, \"PerCentNetLastTrade\",, \"T\")/100,\"\")","v":-7.1275837491090524E-3},1943,1943,"S.US.MYD",1707,"S.US.BKE"]
[null,null,"S.US.MPSX",{"$f":"IFERROR(RTD(\"cqg.rtd\", ,\"ContractData\",C1708, \"PerCentNetLastTrade\",, \"T\")/100,\"\")","v":1.0108303249097473E-2},708,708,"S.US.MPSX",1708,"S.US.EXR"]
[null,null,"S.US.WSO",{"$f":"IFERROR(RTD(\"cqg.rtd\", ,\"ContractData\",C1709, \"PerCentNetLastTrade\",, \"T\")/100,\"\")","v":2.3399014778325126E-2},353,353,"S.US.WSO",1709,"S.US.CLW"]
[null,null,"S.US.LEO",{"$f":"IFERROR(RTD(\"cqg.rtd\", ,\"ContractData\",C1710, \"PerCentNetLastTrade\",, \"T\")/100,\"\")","v":-6.024096385542169E-3},1870,1870,"S.US.LEO",1710,"S.US.VMO"]
[null,null,"S.US.BHK",{"$f":"IFERROR(RTD(\"cqg.rtd\", ,\"ContractData\",C1711, \"PerCentNetLastTrade\",, \"T\")/100,\"\")","v":-2.3201856148491878E-3},1568,1568,"S.US.BHK",1711,"S.US.ICB"]
[null,null,"S.US.SAM",{"$f":"IFERROR(RTD(\"cqg.rtd\", ,\"ContractData\",C1712, \"PerCentNetLastTrade\",, \"T\")/100,\"\")","v":-5.0561797752808994E-3},1789,1789,"S.US.SAM",1712,"S.US.QTS"]
[null,null,"S.US.TIER",{"$f":"IFERROR(RTD(\"cqg.rtd\", ,\"ContractData\",C1713, \"PerCentNetLastTrade\",, \"T\")/100,\"\")","v":1.2399256044637321E-2},611,611,"S.US.TIER",1713,"S.US.SON"]
[null,null,"S.US.AXE",{"$f":"IFERROR(RTD(\"cqg.rtd\", ,\"ContractData\",C1714, \"PerCentNetLastTrade\",, \"T\")/100,\"\")","v":1.273074474856779E-2},600,600,"S.US.AXE",1714,"S.US.ANTM"]
[null,null,"S.US.STC",{"$f":"IFERROR(RTD(\"cqg.rtd\", ,\"ContractData\",C1715, \"PerCentNetLastTrade\",, \"T\")/100,\"\")","v":2.73511466442247E-3},1134,1134,"S.US.STC",1715,"S.US.ABR"]
[null,null,"S.US.SNX",{"$f":"IFERROR(RTD(\"cqg.rtd\", ,\"ContractData\",C1716, \"PerCentNetLastTrade\",, \"T\")/100,\"\")","v":9.3760654619843165E-4},1279,1279,"S.US.SNX",1716,"S.US.MUH"]
[null,null,"S.US.CALX",{"$f":"IFERROR(RTD(\"cqg.rtd\", ,\"ContractData\",C1717, \"PerCentNetLastTrade\",, \"T\")/100,\"\")","v":1.948051948051948E-2},415,415,"S.US.CALX",1717,"S.US.ADS"]
[null,null,"S.US.DIN",{"$f":"IFERROR(RTD(\"cqg.rtd\", ,\"ContractData\",C1718, \"PerCentNetLastTrade\",, \"T\")/100,\"\")","v":-6.4705882352941177E-3},1907,1907,"S.US.DIN",1718,"S.US.VAC"]
[null,null,"S.US.GMZ",{"$f":"IFERROR(RTD(\"cqg.rtd\", ,\"ContractData\",C1719, \"PerCentNetLastTrade\",, \"T\")/100,\"\")","v":3.9560439560439559E-2},201,201,"S.US.GMZ",1719,"S.US.VNO"]
[null,null,"S.US.THR",{"$f":"IFERROR(RTD(\"cqg.rtd\", ,\"ContractData\",C1720, \"PerCentNetLastTrade\",, \"T\")/100,\"\")","v":5.7682223387519656E-3},932,932,"S.US.THR",1720,"S.US.IIM"]
[null,null,"S.US.CATO",{"$f":"IFERROR(RTD(\"cqg.rtd\", ,\"ContractData\",C1721, \"PerCentNetLastTrade\",, \"T\")/100,\"\")","v":-1.9993335554815061E-3},1536,1536,"S.US.CATO",1721,"S.US.AXTA"]
[null,null,"S.US.CNA",{"$f":"IFERROR(RTD(\"cqg.rtd\", ,\"ContractData\",C1722, \"PerCentNetLastTrade\",, \"T\")/100,\"\")","v":-2.576655501159495E-4},1394,1394,"S.US.CNA",1722,"S.US.FHY"]
[null,null,"S.US.UVV",{"$f":"IFERROR(RTD(\"cqg.rtd\", ,\"ContractData\",C1723, \"PerCentNetLastTrade\",, \"T\")/100,\"\")","v":2.717391304347826E-3},1135,1135,"S.US.UVV",1723,"S.US.GOF"]
[null,null,"S.US.CPS",{"$f":"IFERROR(RTD(\"cqg.rtd\", ,\"ContractData\",C1724, \"PerCentNetLastTrade\",, \"T\")/100,\"\")","v":6.7778936392075073E-3},874,874,"S.US.CPS",1724,"S.US.NNY"]
[null,null,"S.US.FELP",{"$f":"IFERROR(RTD(\"cqg.rtd\", ,\"ContractData\",C1725, \"PerCentNetLastTrade\",, \"T\")/100,\"\")","v":3.7037037037037035E-2},218,218,"S.US.FELP",1725,"S.US.XRX"]
[null,null,"S.US.CORR",{"$f":"IFERROR(RTD(\"cqg.rtd\", ,\"ContractData\",C1726, \"PerCentNetLastTrade\",, \"T\")/100,\"\")","v":7.9926221948970182E-3},808,808,"S.US.CORR",1726,"S.US.DVA"]
[null,null,"S.US.ROYT",{"$f":"IFERROR(RTD(\"cqg.rtd\", ,\"ContractData\",C1727, \"PerCentNetLastTrade\",, \"T\")/100,\"\")","v":7.5630252100840331E-2},101,101,"S.US.ROYT",1727,"S.US.AET"]
[null,null,"S.US.AWR",{"$f":"IFERROR(RTD(\"cqg.rtd\", ,\"ContractData\",C1728, \"PerCentNetLastTrade\",, \"T\")/100,\"\")","v":-1.2211668928086838E-2},2169,2169,"S.US.AWR",1728,"S.US.FBK"]
[null,null,"S.US.BPY",{"$f":"IFERROR(RTD(\"cqg.rtd\", ,\"ContractData\",C1729, \"PerCentNetLastTrade\",, \"T\")/100,\"\")","v":2.3584905660377358E-3},1162,{"$f":"IFERROR(E1729,\"\")","v":1162},{"$f":"C1729","v":"S.US.BPY"},1729,{"$f":"IFERROR(VLOOKUP(H1729,$F$1:$G$2522,2,FALSE),\"\")","v":"S.US.MHO"}]
[null,null,"S.US.CMN",{"$f":"IFERROR(RTD(\"cqg.rtd\", ,\"ContractData\",C1730, \"PerCentNetLastTrade\",, \"T\")/100,\"\")","v":6.8238213399503724E-3},873,873,"S.US.CMN",{"$f":"H1729+1","v":1730},"S.US.PMM"]
[null,null,"S.US.EBR",{"$f":"IFERROR(RTD(\"cqg.rtd\", ,\"ContractData\",C1731, \"PerCentNetLastTrade\",, \"T\")/100,\"\")","v":-6.6312997347480109E-3},1917,1917,"S.US.EBR",1731,"S.US.PANW"]
[null,null,"S.US.TCP",{"$f":"IFERROR(RTD(\"cqg.rtd\", ,\"ContractData\",C1732, \"PerCentNetLastTrade\",, \"T\")/100,\"\")","v":2.5095057034220533E-2},330,330,"S.US.TCP",1732,"S.US.IBM"]
[null,null,"S.US.DPG",{"$f":"IFERROR(RTD(\"cqg.rtd\", ,\"ContractData\",C1733, \"PerCentNetLastTrade\",, \"T\")/100,\"\")","v":-3.9267015706806289E-3},1706,1706,"S.US.DPG",1733,"S.US.NVTA"]
[null,null,"S.US.FF",{"$f":"IFERROR(RTD(\"cqg.rtd\", ,\"ContractData\",C1734, \"PerCentNetLastTrade\",, \"T\")/100,\"\")","v":9.4821298322392417E-3},731,731,"S.US.FF",1734,"S.US.DG"]
[null,null,"S.US.TYG",{"$f":"IFERROR(RTD(\"cqg.rtd\", ,\"ContractData\",C1735, \"PerCentNetLastTrade\",, \"T\")/100,\"\")","v":3.8435603506405937E-2},206,206,"S.US.TYG",1735,"S.US.JPI"]
[null,null,"S.US.DBL",{"$f":"IFERROR(RTD(\"cqg.rtd\", ,\"ContractData\",C1736, \"PerCentNetLastTrade\",, \"T\")/100,\"\")","v":5.165733964700818E-3},963,963,"S.US.DBL",1736,"S.US.EFC"]
[null,null,"S.US.GTY",{"$f":"IFERROR(RTD(\"cqg.rtd\", ,\"ContractData\",C1737, \"PerCentNetLastTrade\",, \"T\")/100,\"\")","v":-1.077943615257048E-2},2112,2112,"S.US.GTY",1737,"S.US.IFF"]
[null,null,"S.US.SWM",{"$f":"IFERROR(RTD(\"cqg.rtd\", ,\"ContractData\",C1738, \"PerCentNetLastTrade\",, \"T\")/100,\"\")","v":-9.3545369504209543E-4},1440,1440,"S.US.SWM",1738,"S.US.ACRE"]
[null,null,"S.US.MIE",{"$f":"IFERROR(RTD(\"cqg.rtd\", ,\"ContractData\",C1739, \"PerCentNetLastTrade\",, \"T\")/100,\"\")","v":4.195804195804196E-2},194,194,"S.US.MIE",1739,"S.US.SJM"]
[null,null,"S.US.CTR",{"$f":"IFERROR(RTD(\"cqg.rtd\", ,\"ContractData\",C1740, \"PerCentNetLastTrade\",, \"T\")/100,\"\")","v":3.7037037037037035E-2},219,219,"S.US.CTR",1740,"S.US.JNS"]
[null,null,"S.US.DLNG",{"$f":"IFERROR(RTD(\"cqg.rtd\", ,\"ContractData\",C1741, \"PerCentNetLastTrade\",, \"T\")/100,\"\")","v":1.0673782521681122E-2},675,675,"S.US.DLNG",1741,"S.US.WIA"]
[null,null,"S.US.PLOW",{"$f":"IFERROR(RTD(\"cqg.rtd\", ,\"ContractData\",C1742, \"PerCentNetLastTrade\",, \"T\")/100,\"\")","v":3.1645569620253167E-2},265,265,"S.US.PLOW",1742,"S.US.CHMI"]
[null,null,"S.US.GMRE",{"$f":"IFERROR(RTD(\"cqg.rtd\", ,\"ContractData\",C1743, \"PerCentNetLastTrade\",, \"T\")/100,\"\")","v":0},1355,1355,"S.US.GMRE",1743,"S.US.EVHC"]
[null,null,"S.US.FEI",{"$f":"IFERROR(RTD(\"cqg.rtd\", ,\"ContractData\",C1744, \"PerCentNetLastTrade\",, \"T\")/100,\"\")","v":2.5000000000000001E-2},333,333,"S.US.FEI",1744,"S.US.CPK"]
[null,null,"S.US.NMR",{"$f":"IFERROR(RTD(\"cqg.rtd\", ,\"ContractData\",C1745, \"PerCentNetLastTrade\",, \"T\")/100,\"\")","v":2.2471910112359553E-2},360,360,"S.US.NMR",1745,"S.US.EVRI"]
[null,null,"S.US.CII",{"$f":"IFERROR(RTD(\"cqg.rtd\", ,\"ContractData\",C1746, \"PerCentNetLastTrade\",, \"T\")/100,\"\")","v":-7.4515648286140089E-4},1425,1425,"S.US.CII",1746,"S.US.UHS"]
[null,null,"S.US.RMT",{"$f":"IFERROR(RTD(\"cqg.rtd\", ,\"ContractData\",C1747, \"PerCentNetLastTrade\",, \"T\")/100,\"\")","v":4.9200492004920051E-3},986,986,"S.US.RMT",1747,"S.US.STE"]
[null,null,"S.US.CODI",{"$f":"IFERROR(RTD(\"cqg.rtd\", ,\"ContractData\",C1748, \"PerCentNetLastTrade\",, \"T\")/100,\"\")","v":-2.6525198938992045E-3},1594,1594,"S.US.CODI",1748,"S.US.CPT"]
[null,null,"S.US.PMM",{"$f":"IFERROR(RTD(\"cqg.rtd\", ,\"ContractData\",C1749, \"PerCentNetLastTrade\",, \"T\")/100,\"\")","v":-4.261363636363636E-3},1730,1730,"S.US.PMM",1749,"S.US.TPX"]
[null,null,"S.US.BHLB",{"$f":"IFERROR(RTD(\"cqg.rtd\", ,\"ContractData\",C1750, \"PerCentNetLastTrade\",, \"T\")/100,\"\")","v":5.8394160583941602E-3},926,926,"S.US.BHLB",1750,"S.US.FAM"]
[null,null,"S.US.MSA",{"$f":"IFERROR(RTD(\"cqg.rtd\", ,\"ContractData\",C1751, \"PerCentNetLastTrade\",, \"T\")/100,\"\")","v":4.6504169339320082E-3},1001,1001,"S.US.MSA",1751,"S.US.HD"]
[null,null,"S.US.BLX",{"$f":"IFERROR(RTD(\"cqg.rtd\", ,\"ContractData\",C1752, \"PerCentNetLastTrade\",, \"T\")/100,\"\")","v":1.4054813773717499E-2},554,554,"S.US.BLX",1752,"S.US.NRE"]
[null,null,"S.US.JWA",{"$f":"IFERROR(RTD(\"cqg.rtd\", ,\"ContractData\",C1753, \"PerCentNetLastTrade\",, \"T\")/100,\"\")","v":2.7124773960216998E-3},1136,1136,"S.US.JWA",1753,"S.US.NTT"]
[null,null,"S.US.ENZ",{"$f":"IFERROR(RTD(\"cqg.rtd\", ,\"ContractData\",C1754, \"PerCentNetLastTrade\",, \"T\")/100,\"\")","v":8.4745762711864406E-3},783,783,"S.US.ENZ",1754,"S.US.RPM"]
[null,null,"S.US.FBC",{"$f":"IFERROR(RTD(\"cqg.rtd\", ,\"ContractData\",C1755, \"PerCentNetLastTrade\",, \"T\")/100,\"\")","v":2.6115342763873776E-2},321,321,"S.US.FBC",1755,"S.US.WBK"]
[null,null,"S.US.ETV",{"$f":"IFERROR(RTD(\"cqg.rtd\", ,\"ContractData\",C1756, \"PerCentNetLastTrade\",, \"T\")/100,\"\")","v":2.008032128514056E-3},1192,1192,"S.US.ETV",1756,"S.US.AXS"]
[null,null,"S.US.NTG",{"$f":"IFERROR(RTD(\"cqg.rtd\", ,\"ContractData\",C1757, \"PerCentNetLastTrade\",, \"T\")/100,\"\")","v":4.6961325966850834E-2},165,165,"S.US.NTG",1757,"S.US.PKI"]
[null,null,"S.US.AVX",{"$f":"IFERROR(RTD(\"cqg.rtd\", ,\"ContractData\",C1758, \"PerCentNetLastTrade\",, \"T\")/100,\"\")","v":9.8684210526315784E-3},715,715,"S.US.AVX",1758,"S.US.LII"]
[null,null,"S.US.EGL",{"$f":"IFERROR(RTD(\"cqg.rtd\", ,\"ContractData\",C1759, \"PerCentNetLastTrade\",, \"T\")/100,\"\")","v":-2.6831231553528306E-4},1397,1397,"S.US.EGL",1759,"S.US.AIY"]
[null,null,"S.US.FTAI",{"$f":"IFERROR(RTD(\"cqg.rtd\", ,\"ContractData\",C1760, \"PerCentNetLastTrade\",, \"T\")/100,\"\")","v":2.2388059701492539E-3},1173,1173,"S.US.FTAI",1760,"S.US.PG"]
[null,null,"S.US.CEN",{"$f":"IFERROR(RTD(\"cqg.rtd\", ,\"ContractData\",C1761, \"PerCentNetLastTrade\",, \"T\")/100,\"\")","v":3.0168589174800354E-2},281,281,"S.US.CEN",1761,"S.US.ASG"]
[null,null,"S.US.SNP",{"$f":"IFERROR(RTD(\"cqg.rtd\", ,\"ContractData\",C1762, \"PerCentNetLastTrade\",, \"T\")/100,\"\")","v":3.0698608521015639E-2},274,274,"S.US.SNP",1762,"S.US.CYSPB"]
[null,null,"S.US.AZZ",{"$f":"IFERROR(RTD(\"cqg.rtd\", ,\"ContractData\",C1763, \"PerCentNetLastTrade\",, \"T\")/100,\"\")","v":8.4811102544333078E-3},777,777,"S.US.AZZ",1763,"S.US.TWX"]
[null,null,"S.US.BIOA",{"$f":"IFERROR(RTD(\"cqg.rtd\", ,\"ContractData\",C1764, \"PerCentNetLastTrade\",, \"T\")/100,\"\")","v":1.9120458891013385E-2},419,419,"S.US.BIOA",1764,"S.US.AMH"]
[null,null,"S.US.NOAH",{"$f":"IFERROR(RTD(\"cqg.rtd\", ,\"ContractData\",C1765, \"PerCentNetLastTrade\",, \"T\")/100,\"\")","v":-1.8226002430133656E-2},2334,2334,"S.US.NOAH",1765,"S.US.MIC"]
[null,null,"S.US.TSLX",{"$f":"IFERROR(RTD(\"cqg.rtd\", ,\"ContractData\",C1766, \"PerCentNetLastTrade\",, \"T\")/100,\"\")","v":0},1356,1356,"S.US.TSLX",1766,"S.US.SPR"]
[null,null,"S.US.MMU",{"$f":"IFERROR(RTD(\"cqg.rtd\", ,\"ContractData\",C1767, \"PerCentNetLastTrade\",, \"T\")/100,\"\")","v":-1.2686567164179105E-2},2189,2189,"S.US.MMU",1767,"S.US.HRS"]
[null,null,"S.US.OMN",{"$f":"IFERROR(RTD(\"cqg.rtd\", ,\"ContractData\",C1768, \"PerCentNetLastTrade\",, \"T\")/100,\"\")","v":2.6881720430107524E-2},311,311,"S.US.OMN",1768,"S.US.NBD"]
[null,null,"S.US.AVH",{"$f":"IFERROR(RTD(\"cqg.rtd\", ,\"ContractData\",C1769, \"PerCentNetLastTrade\",, \"T\")/100,\"\")","v":2.8612303290414878E-2},298,298,"S.US.AVH",1769,"S.US.BKN"]
[null,null,"S.US.KOP",{"$f":"IFERROR(RTD(\"cqg.rtd\", ,\"ContractData\",C1770, \"PerCentNetLastTrade\",, \"T\")/100,\"\")","v":7.7419354838709677E-3},826,826,"S.US.KOP",1770,"S.US.BWXT"]
[null,null,"S.US.CKH",{"$f":"IFERROR(RTD(\"cqg.rtd\", ,\"ContractData\",C1771, \"PerCentNetLastTrade\",, \"T\")/100,\"\")","v":5.0214961306964748E-2},151,151,"S.US.CKH",1771,"S.US.COH"]
[null,null,"S.US.MUC",{"$f":"IFERROR(RTD(\"cqg.rtd\", ,\"ContractData\",C1772, \"PerCentNetLastTrade\",, \"T\")/100,\"\")","v":-1.443001443001443E-3},1486,1486,"S.US.MUC",1772,"S.US.BTZ"]
[null,null,"S.US.WGP",{"$f":"IFERROR(RTD(\"cqg.rtd\", ,\"ContractData\",C1773, \"PerCentNetLastTrade\",, \"T\")/100,\"\")","v":2.2297624818225885E-2},365,365,"S.US.WGP",1773,"S.US.BOI"]
[null,null,"S.US.AFI",{"$f":"IFERROR(RTD(\"cqg.rtd\", ,\"ContractData\",C1774, \"PerCentNetLastTrade\",, \"T\")/100,\"\")","v":-8.1883316274309111E-3},2002,2002,"S.US.AFI",1774,"S.US.OLP"]
[null,null,"S.US.OME",{"$f":"IFERROR(RTD(\"cqg.rtd\", ,\"ContractData\",C1775, \"PerCentNetLastTrade\",, \"T\")/100,\"\")","v":8.1632653061224497E-3},798,798,"S.US.OME",1775,"S.US.UGP"]
[null,null,"S.US.ORA",{"$f":"IFERROR(RTD(\"cqg.rtd\", ,\"ContractData\",C1776, \"PerCentNetLastTrade\",, \"T\")/100,\"\")","v":-1.0649191071062871E-2},2106,2106,"S.US.ORA",1776,"S.US.MCA"]
[null,null,"S.US.EMO",{"$f":"IFERROR(RTD(\"cqg.rtd\", ,\"ContractData\",C1777, \"PerCentNetLastTrade\",, \"T\")/100,\"\")","v":2.9388403494837175E-2},285,285,"S.US.EMO",1777,"S.US.AVY"]
[null,null,"S.US.PMF",{"$f":"IFERROR(RTD(\"cqg.rtd\", ,\"ContractData\",C1778, \"PerCentNetLastTrade\",, \"T\")/100,\"\")","v":-1.3194444444444444E-2},2207,2207,"S.US.PMF",1778,"S.US.CXW"]
[null,null,"S.US.SMI",{"$f":"IFERROR(RTD(\"cqg.rtd\", ,\"ContractData\",C1779, \"PerCentNetLastTrade\",, \"T\")/100,\"\")","v":-1.4858841010401188E-3},1490,1490,"S.US.SMI",1779,"S.US.A"]
[null,null,"S.US.THW",{"$f":"IFERROR(RTD(\"cqg.rtd\", ,\"ContractData\",C1780, \"PerCentNetLastTrade\",, \"T\")/100,\"\")","v":3.0441400304414001E-3},1113,1113,"S.US.THW",1780,"S.US.XRM"]
[null,null,"S.US.PMX",{"$f":"IFERROR(RTD(\"cqg.rtd\", ,\"ContractData\",C1781, \"PerCentNetLastTrade\",, \"T\")/100,\"\")","v":-1.1586452762923352E-2},2143,2143,"S.US.PMX",1781,"S.US.WST"]
[null,null,"S.US.NSL",{"$f":"IFERROR(RTD(\"cqg.rtd\", ,\"ContractData\",C1782, \"PerCentNetLastTrade\",, \"T\")/100,\"\")","v":1.5197568389057751E-3},1226,1226,"S.US.NSL",1782,"S.US.AGN"]
[null,null,"S.US.TPVG",{"$f":"IFERROR(RTD(\"cqg.rtd\", ,\"ContractData\",C1783, \"PerCentNetLastTrade\",, \"T\")/100,\"\")","v":2.4610336341263331E-3},1156,1156,"S.US.TPVG",1783,"S.US.SLG"]
[null,null,"S.US.LMHB",{"$f":"IFERROR(RTD(\"cqg.rtd\", ,\"ContractData\",C1784, \"PerCentNetLastTrade\",, \"T\")/100,\"\")","v":-1.827454313642159E-2},2336,2336,"S.US.LMHB",1784,"S.US.BAF"]
[null,null,"S.US.EMD",{"$f":"IFERROR(RTD(\"cqg.rtd\", ,\"ContractData\",C1785, \"PerCentNetLastTrade\",, \"T\")/100,\"\")","v":1.8814675446848542E-3},1198,1198,"S.US.EMD",1785,"S.US.JRI"]
[null,null,"S.US.HIVE",{"$f":"IFERROR(RTD(\"cqg.rtd\", ,\"ContractData\",C1786, \"PerCentNetLastTrade\",, \"T\")/100,\"\")","v":3.616636528028933E-3},1075,1075,"S.US.HIVE",1786,"S.US.MOH"]
[null,null,"S.US.KYE",{"$f":"IFERROR(RTD(\"cqg.rtd\", ,\"ContractData\",C1787, \"PerCentNetLastTrade\",, \"T\")/100,\"\")","v":4.4183949504057712E-2},178,178,"S.US.KYE",1787,"S.US.LLL"]
[null,null,"S.US.FGL",{"$f":"IFERROR(RTD(\"cqg.rtd\", ,\"ContractData\",C1788, \"PerCentNetLastTrade\",, \"T\")/100,\"\")","v":2.1186440677966102E-3},1182,1182,"S.US.FGL",1788,"S.US.CHT"]
[null,null,"S.US.MRT",{"$f":"IFERROR(RTD(\"cqg.rtd\", ,\"ContractData\",C1789, \"PerCentNetLastTrade\",, \"T\")/100,\"\")","v":-2.7726432532347504E-3},1602,1602,"S.US.MRT",1789,"S.US.SAM"]
[null,null,"S.US.BPI",{"$f":"IFERROR(RTD(\"cqg.rtd\", ,\"ContractData\",C1790, \"PerCentNetLastTrade\",, \"T\")/100,\"\")","v":3.8647342995169081E-3},1064,1064,"S.US.BPI",1790,"S.US.BXC"]
[null,null,"S.US.VMI",{"$f":"IFERROR(RTD(\"cqg.rtd\", ,\"ContractData\",C1791, \"PerCentNetLastTrade\",, \"T\")/100,\"\")","v":4.045853000674309E-3},1041,1041,"S.US.VMI",1791,"S.US.AAN"]
[null,null,"S.US.VRTV",{"$f":"IFERROR(RTD(\"cqg.rtd\", ,\"ContractData\",C1792, \"PerCentNetLastTrade\",, \"T\")/100,\"\")","v":1.2658227848101267E-2},604,604,"S.US.VRTV",1792,"S.US.NSS"]
[null,null,"S.US.BIT",{"$f":"IFERROR(RTD(\"cqg.rtd\", ,\"ContractData\",C1793, \"PerCentNetLastTrade\",, \"T\")/100,\"\")","v":-1.2330456226880395E-3},1463,{"$f":"IFERROR(E1793,\"\")","v":1463},{"$f":"C1793","v":"S.US.BIT"},1793,{"$f":"IFERROR(VLOOKUP(H1793,$F$1:$G$2522,2,FALSE),\"\")","v":"S.US.NXP"}]
[null,null,"S.US.GRAM",{"$f":"IFERROR(RTD(\"cqg.rtd\", ,\"ContractData\",C1794, \"PerCentNetLastTrade\",, \"T\")/100,\"\")","v":-2.2047244094488189E-2},2395,2395,"S.US.GRAM",{"$f":"H1793+1","v":1794},"S.US.FPF"]
[null,null,"S.US.HEI",{"$f":"IFERROR(RTD(\"cqg.rtd\", ,\"ContractData\",C1795, \"PerCentNetLastTrade\",, \"T\")/100,\"\")","v":1.1389521640091116E-3},1258,1258,"S.US.HEI",1795,"S.US.RMD"]
[null,null,"S.US.FLY",{"$f":"IFERROR(RTD(\"cqg.rtd\", ,\"ContractData\",C1796, \"PerCentNetLastTrade\",, \"T\")/100,\"\")","v":1.3798111837327525E-2},563,563,"S.US.FLY",1796,"S.US.TMO"]
[null,null,"S.US.DAC",{"$f":"IFERROR(RTD(\"cqg.rtd\", ,\"ContractData\",C1797, \"PerCentNetLastTrade\",, \"T\")/100,\"\")","v":0},1357,1357,"S.US.DAC",1797,"S.US.SCI"]
[null,null,"S.US.MSG",{"$f":"IFERROR(RTD(\"cqg.rtd\", ,\"ContractData\",C1798, \"PerCentNetLastTrade\",, \"T\")/100,\"\")","v":1.2690355329949238E-3},1240,1240,"S.US.MSG",1798,"S.US.BITA"]
[null,null,"S.US.IDT",{"$f":"IFERROR(RTD(\"cqg.rtd\", ,\"ContractData\",C1799, \"PerCentNetLastTrade\",, \"T\")/100,\"\")","v":9.8963242224316683E-3},713,713,"S.US.IDT",1799,"S.US.NUM"]
[null,null,"S.US.SJT",{"$f":"IFERROR(RTD(\"cqg.rtd\", ,\"ContractData\",C1800, \"PerCentNetLastTrade\",, \"T\")/100,\"\")","v":4.3771043771043773E-2},180,180,"S.US.SJT",1800,"S.US.CM"]
[null,null,"S.US.TEI",{"$f":"IFERROR(RTD(\"cqg.rtd\", ,\"ContractData\",C1801, \"PerCentNetLastTrade\",, \"T\")/100,\"\")","v":9.46969696969697E-4},1277,1277,"S.US.TEI",1801,"S.US.PFD"]
[null,null,"S.US.GLOP",{"$f":"IFERROR(RTD(\"cqg.rtd\", ,\"ContractData\",C1802, \"PerCentNetLastTrade\",, \"T\")/100,\"\")","v":3.7037037037037035E-2},220,220,"S.US.GLOP",1802,"S.US.MSCI"]
[null,null,"S.US.ARA",{"$f":"IFERROR(RTD(\"cqg.rtd\", ,\"ContractData\",C1803, \"PerCentNetLastTrade\",, \"T\")/100,\"\")","v":-2.7674514663362248E-2},2438,2438,"S.US.ARA",1803,"S.US.VTRB"]
[null,null,"S.US.ISD",{"$f":"IFERROR(RTD(\"cqg.rtd\", ,\"ContractData\",C1804, \"PerCentNetLastTrade\",, \"T\")/100,\"\")","v":-1.9569471624266144E-3},1530,1530,"S.US.ISD",1804,"S.US.AIV"]
[null,null,"S.US.ACRE",{"$f":"IFERROR(RTD(\"cqg.rtd\", ,\"ContractData\",C1805, \"PerCentNetLastTrade\",, \"T\")/100,\"\")","v":-4.3731778425655978E-3},1738,1738,"S.US.ACRE",1805,"S.US.LSI"]
[null,null,"S.US.HVT",{"$f":"IFERROR(RTD(\"cqg.rtd\", ,\"ContractData\",C1806, \"PerCentNetLastTrade\",, \"T\")/100,\"\")","v":6.3636363636363638E-3},898,898,"S.US.HVT",1806,"S.US.SA"]
[null,null,"S.US.WAAS",{"$f":"IFERROR(RTD(\"cqg.rtd\", ,\"ContractData\",C1807, \"PerCentNetLastTrade\",, \"T\")/100,\"\")","v":-3.9130434782608699E-3},1700,1700,"S.US.WAAS",1807,"S.US.MED"]
[null,null,"S.US.HNR",{"$f":"IFERROR(RTD(\"cqg.rtd\", ,\"ContractData\",C1808, \"PerCentNetLastTrade\",, \"T\")/100,\"\")","v":-2.3076923076923075E-2},2411,2411,"S.US.HNR",1808,"S.US.MHK"]
[null,null,"S.US.MOGA",{"$f":"IFERROR(RTD(\"cqg.rtd\", ,\"ContractData\",C1809, \"PerCentNetLastTrade\",, \"T\")/100,\"\")","v":5.8288313903895363E-3},929,929,"S.US.MOGA",1809,"S.US.BFS"]
[null,null,"S.US.MFL",{"$f":"IFERROR(RTD(\"cqg.rtd\", ,\"ContractData\",C1810, \"PerCentNetLastTrade\",, \"T\")/100,\"\")","v":-3.6363636363636364E-3},1674,1674,"S.US.MFL",1810,"S.US.VTN"]
[null,null,"S.US.DCM",{"$f":"IFERROR(RTD(\"cqg.rtd\", ,\"ContractData\",C1811, \"PerCentNetLastTrade\",, \"T\")/100,\"\")","v":-6.0266896254842876E-3},1871,1871,"S.US.DCM",1811,"S.US.CXH"]
[null,null,"S.US.TLYS",{"$f":"IFERROR(RTD(\"cqg.rtd\", ,\"ContractData\",C1812, \"PerCentNetLastTrade\",, \"T\")/100,\"\")","v":1.6504854368932037E-2},491,491,"S.US.TLYS",1812,"S.US.KO"]
[null,null,"S.US.EDE",{"$f":"IFERROR(RTD(\"cqg.rtd\", ,\"ContractData\",C1813, \"PerCentNetLastTrade\",, \"T\")/100,\"\")","v":-8.8028169014084498E-4},1438,1438,"S.US.EDE",1813,"S.US.NOC"]
[null,null,"S.US.BFK",{"$f":"IFERROR(RTD(\"cqg.rtd\", ,\"ContractData\",C1814, \"PerCentNetLastTrade\",, \"T\")/100,\"\")","v":-3.6603221083455345E-3},1676,1676,"S.US.BFK",1814,"S.US.STZB"]
[null,null,"S.US.SJW",{"$f":"IFERROR(RTD(\"cqg.rtd\", ,\"ContractData\",C1815, \"PerCentNetLastTrade\",, \"T\")/100,\"\")","v":-6.5075921908893707E-3},1910,1910,"S.US.SJW",1815,"S.US.MUE"]
[null,null,"S.US.CPF",{"$f":"IFERROR(RTD(\"cqg.rtd\", ,\"ContractData\",C1816, \"PerCentNetLastTrade\",, \"T\")/100,\"\")","v":1.4935505770536322E-2},528,528,"S.US.CPF",1816,"S.US.ESRT"]
[null,null,"S.US.FPI",{"$f":"IFERROR(RTD(\"cqg.rtd\", ,\"ContractData\",C1817, \"PerCentNetLastTrade\",, \"T\")/100,\"\")","v":-5.8277027027027029E-2},2470,2470,"S.US.FPI",1817,"S.US.NLS"]
[null,null,"S.US.MOV",{"$f":"IFERROR(RTD(\"cqg.rtd\", ,\"ContractData\",C1818, \"PerCentNetLastTrade\",, \"T\")/100,\"\")","v":1.0238907849829351E-2},701,701,"S.US.MOV",1818,"S.US.WIW"]
[null,null,"S.US.BPT",{"$f":"IFERROR(RTD(\"cqg.rtd\", ,\"ContractData\",C1819, \"PerCentNetLastTrade\",, \"T\")/100,\"\")","v":4.655581947743468E-2},167,167,"S.US.BPT",1819,"S.US.DDT"]
[null,null,"S.US.PJC",{"$f":"IFERROR(RTD(\"cqg.rtd\", ,\"ContractData\",C1820, \"PerCentNetLastTrade\",, \"T\")/100,\"\")","v":2.7181688125894134E-2},306,306,"S.US.PJC",1820,"S.US.GLT"]
[null,null,"S.US.WSR",{"$f":"IFERROR(RTD(\"cqg.rtd\", ,\"ContractData\",C1821, \"PerCentNetLastTrade\",, \"T\")/100,\"\")","v":6.6225165562913916E-3},884,884,"S.US.WSR",1821,"S.US.MQY"]
[null,null,"S.US.PHI",{"$f":"IFERROR(RTD(\"cqg.rtd\", ,\"ContractData\",C1822, \"PerCentNetLastTrade\",, \"T\")/100,\"\")","v":6.0652009097801364E-3},913,913,"S.US.PHI",1822,"S.US.IGR"]
[null,null,"S.US.HOME",{"$f":"IFERROR(RTD(\"cqg.rtd\", ,\"ContractData\",C1823, \"PerCentNetLastTrade\",, \"T\")/100,\"\")","v":3.4700315457413249E-2},239,239,"S.US.HOME",1823,"S.US.GZT"]
[null,null,"S.US.HEP",{"$f":"IFERROR(RTD(\"cqg.rtd\", ,\"ContractData\",C1824, \"PerCentNetLastTrade\",, \"T\")/100,\"\")","v":2.2798251093066834E-2},355,355,"S.US.HEP",1824,"S.US.SEE"]
[null,null,"S.US.NX",{"$f":"IFERROR(RTD(\"cqg.rtd\", ,\"ContractData\",C1825, \"PerCentNetLastTrade\",, \"T\")/100,\"\")","v":7.6142131979695426E-3},834,834,"S.US.NX",1825,"S.US.GHC"]
[null,null,"S.US.HLI",{"$f":"IFERROR(RTD(\"cqg.rtd\", ,\"ContractData\",C1826, \"PerCentNetLastTrade\",, \"T\")/100,\"\")","v":1.3854351687388989E-2},560,560,"S.US.HLI",1826,"S.US.KSS"]
[null,null,"S.US.RELX",{"$f":"IFERROR(RTD(\"cqg.rtd\", ,\"ContractData\",C1827, \"PerCentNetLastTrade\",, \"T\")/100,\"\")","v":-3.4383954154727794E-3},1662,1662,"S.US.RELX",1827,"S.US.LXFT"]
[null,null,"S.US.NPO",{"$f":"IFERROR(RTD(\"cqg.rtd\", ,\"ContractData\",C1828, \"PerCentNetLastTrade\",, \"T\")/100,\"\")","v":1.0111055859439748E-2},707,707,"S.US.NPO",1828,"S.US.OMC"]
[null,null,"S.US.EVA",{"$f":"IFERROR(RTD(\"cqg.rtd\", ,\"ContractData\",C1829, \"PerCentNetLastTrade\",, \"T\")/100,\"\")","v":1.7953321364452424E-2},455,455,"S.US.EVA",1829,"S.US.BMO"]
[null,null,"S.US.FUN",{"$f":"IFERROR(RTD(\"cqg.rtd\", ,\"ContractData\",C1830, \"PerCentNetLastTrade\",, \"T\")/100,\"\")","v":-3.115775664152181E-3},1635,1635,"S.US.FUN",1830,"S.US.RCS"]
[null,null,"S.US.LUX",{"$f":"IFERROR(RTD(\"cqg.rtd\", ,\"ContractData\",C1831, \"PerCentNetLastTrade\",, \"T\")/100,\"\")","v":1.0101010101010102E-2},709,709,"S.US.LUX",1831,"S.US.WRI"]
[null,null,"S.US.AIN",{"$f":"IFERROR(RTD(\"cqg.rtd\", ,\"ContractData\",C1832, \"PerCentNetLastTrade\",, \"T\")/100,\"\")","v":1.1827956989247313E-2},631,631,"S.US.AIN",1832,"S.US.CLDT"]
[null,null,"S.US.ECOM",{"$f":"IFERROR(RTD(\"cqg.rtd\", ,\"ContractData\",C1833, \"PerCentNetLastTrade\",, \"T\")/100,\"\")","v":1.0380622837370242E-2},692,692,"S.US.ECOM",1833,"S.US.HYH"]
[null,null,"S.US.NADL",{"$f":"IFERROR(RTD(\"cqg.rtd\", ,\"ContractData\",C1834, \"PerCentNetLastTrade\",, \"T\")/100,\"\")","v":0.15770609318996415},17,17,"S.US.NADL",1834,"S.US.EVN"]
[null,null,"S.US.LDL",{"$f":"IFERROR(RTD(\"cqg.rtd\", ,\"ContractData\",C1835, \"PerCentNetLastTrade\",, \"T\")/100,\"\")","v":1.7064846416382253E-2},473,473,"S.US.LDL",1835,"S.US.NTC"]
[null,null,"S.US.EIG",{"$f":"IFERROR(RTD(\"cqg.rtd\", ,\"ContractData\",C1836, \"PerCentNetLastTrade\",, \"T\")/100,\"\")","v":1.3869625520110957E-3},1233,1233,"S.US.EIG",1836,"S.US.HIFR"]
[null,null,"S.US.MTRN",{"$f":"IFERROR(RTD(\"cqg.rtd\", ,\"ContractData\",C1837, \"PerCentNetLastTrade\",, \"T\")/100,\"\")","v":2.5839793281653744E-3},1143,1143,"S.US.MTRN",1837,"S.US.MKL"]
[null,null,"S.US.SUPV",{"$f":"IFERROR(RTD(\"cqg.rtd\", ,\"ContractData\",C1838, \"PerCentNetLastTrade\",, \"T\")/100,\"\")","v":-9.0909090909090905E-3},2044,2044,"S.US.SUPV",1838,"S.US.TVPT"]
[null,null,"S.US.KTF",{"$f":"IFERROR(RTD(\"cqg.rtd\", ,\"ContractData\",C1839, \"PerCentNetLastTrade\",, \"T\")/100,\"\")","v":-2.3400936037441498E-3},1570,1570,"S.US.KTF",1839,"S.US.DX"]
[null,null,"S.US.ASPN",{"$f":"IFERROR(RTD(\"cqg.rtd\", ,\"ContractData\",C1840, \"PerCentNetLastTrade\",, \"T\")/100,\"\")","v":5.3619302949061663E-3},953,953,"S.US.ASPN",1840,"S.US.HQH"]
[null,null,"S.US.KOF",{"$f":"IFERROR(RTD(\"cqg.rtd\", ,\"ContractData\",C1841, \"PerCentNetLastTrade\",, \"T\")/100,\"\")","v":3.1675641431738998E-4},1320,1320,"S.US.KOF",1841,"S.US.IGD"]
[null,null,"S.US.HHC",{"$f":"IFERROR(RTD(\"cqg.rtd\", ,\"ContractData\",C1842, \"PerCentNetLastTrade\",, \"T\")/100,\"\")","v":1.1759504862953138E-2},634,634,"S.US.HHC",1842,"S.US.NKX"]
[null,null,"S.US.PQ",{"$f":"IFERROR(RTD(\"cqg.rtd\", ,\"ContractData\",C1843, \"PerCentNetLastTrade\",, \"T\")/100,\"\")","v":0.10966057441253264},57,57,"S.US.PQ",1843,"S.US.MPA"]
[null,null,"S.US.MYN",{"$f":"IFERROR(RTD(\"cqg.rtd\", ,\"ContractData\",C1844, \"PerCentNetLastTrade\",, \"T\")/100,\"\")","v":-3.1545741324921135E-3},1638,1638,"S.US.MYN",1844,"S.US.TV"]
[null,null,"S.US.IFN",{"$f":"IFERROR(RTD(\"cqg.rtd\", ,\"ContractData\",C1845, \"PerCentNetLastTrade\",, \"T\")/100,\"\")","v":8.4632516703786187E-3},784,784,"S.US.IFN",1845,"S.US.EQCO"]
[null,null,"S.US.FSB",{"$f":"IFERROR(RTD(\"cqg.rtd\", ,\"ContractData\",C1846, \"PerCentNetLastTrade\",, \"T\")/100,\"\")","v":3.1872509960159364E-3},1107,1107,"S.US.FSB",1846,"S.US.G"]
[null,null,"S.US.AVD",{"$f":"IFERROR(RTD(\"cqg.rtd\", ,\"ContractData\",C1847, \"PerCentNetLastTrade\",, \"T\")/100,\"\")","v":2.0728291316526613E-2},387,387,"S.US.AVD",1847,"S.US.MJN"]
[null,null,"S.US.SMP",{"$f":"IFERROR(RTD(\"cqg.rtd\", ,\"ContractData\",C1848, \"PerCentNetLastTrade\",, \"T\")/100,\"\")","v":-3.9277297721916729E-4},1401,1401,"S.US.SMP",1848,"S.US.BGS"]
[null,null,"S.US.CNXC",{"$f":"IFERROR(RTD(\"cqg.rtd\", ,\"ContractData\",C1849, \"PerCentNetLastTrade\",, \"T\")/100,\"\")","v":1.0638297872340425E-2},678,678,"S.US.CNXC",1849,"S.US.HRB"]
[null,null,"S.US.ALDW",{"$f":"IFERROR(RTD(\"cqg.rtd\", ,\"ContractData\",C1850, \"PerCentNetLastTrade\",, \"T\")/100,\"\")","v":1.7241379310344827E-2},470,470,"S.US.ALDW",1850,"S.US.HHS"]
[null,null,"S.US.EFR",{"$f":"IFERROR(RTD(\"cqg.rtd\", ,\"ContractData\",C1851, \"PerCentNetLastTrade\",, \"T\")/100,\"\")","v":5.5363321799307965E-3},943,943,"S.US.EFR",1851,"S.US.EAT"]
[null,null,"S.US.JE",{"$f":"IFERROR(RTD(\"cqg.rtd\", ,\"ContractData\",C1852, \"PerCentNetLastTrade\",, \"T\")/100,\"\")","v":1.4571948998178506E-2},541,541,"S.US.JE",1852,"S.US.TRQ"]
[null,null,"S.US.LDP",{"$f":"IFERROR(RTD(\"cqg.rtd\", ,\"ContractData\",C1853, \"PerCentNetLastTrade\",, \"T\")/100,\"\")","v":-8.0474375264718342E-3},1989,1989,"S.US.LDP",1853,"S.US.EDR"]
[null,null,"S.US.MC",{"$f":"IFERROR(RTD(\"cqg.rtd\", ,\"ContractData\",C1854, \"PerCentNetLastTrade\",, \"T\")/100,\"\")","v":1.7513134851138354E-2},463,463,"S.US.MC",1854,"S.US.UBP"]
[null,null,"S.US.HTD",{"$f":"IFERROR(RTD(\"cqg.rtd\", ,\"ContractData\",C1855, \"PerCentNetLastTrade\",, \"T\")/100,\"\")","v":-6.7264573991031393E-3},1920,1920,"S.US.HTD",1855,"S.US.APLE"]
[null,null,"S.US.XOXO",{"$f":"IFERROR(RTD(\"cqg.rtd\", ,\"ContractData\",C1856, \"PerCentNetLastTrade\",, \"T\")/100,\"\")","v":1.0542962572482868E-2},685,685,"S.US.XOXO",1856,"S.US.TSLF"]
[null,null,"S.US.DSM",{"$f":"IFERROR(RTD(\"cqg.rtd\", ,\"ContractData\",C1857, \"PerCentNetLastTrade\",, \"T\")/100,\"\")","v":-1.2453300124533001E-3},1465,{"$f":"IFERROR(E1857,\"\")","v":1465},{"$f":"C1857","v":"S.US.DSM"},1857,{"$f":"IFERROR(VLOOKUP(H1857,$F$1:$G$2522,2,FALSE),\"\")","v":"S.US.STAG"}]
[null,null,"S.US.MCR",{"$f":"IFERROR(RTD(\"cqg.rtd\", ,\"ContractData\",C1858, \"PerCentNetLastTrade\",, \"T\")/100,\"\")","v":1.1976047904191617E-3},1249,1249,"S.US.MCR",{"$f":"H1857+1","v":1858},"S.US.BMS"]
[null,null,"S.US.CSV",{"$f":"IFERROR(RTD(\"cqg.rtd\", ,\"ContractData\",C1859, \"PerCentNetLastTrade\",, \"T\")/100,\"\")","v":6.9419071976616733E-3},868,868,"S.US.CSV",1859,"S.US.VG"]
[null,null,"S.US.PTR",{"$f":"IFERROR(RTD(\"cqg.rtd\", ,\"ContractData\",C1860, \"PerCentNetLastTrade\",, \"T\")/100,\"\")","v":3.7015189500073736E-2},221,221,"S.US.PTR",1860,"S.US.MVT"]
[null,null,"S.US.AMFW",{"$f":"IFERROR(RTD(\"cqg.rtd\", ,\"ContractData\",C1861, \"PerCentNetLastTrade\",, \"T\")/100,\"\")","v":6.560636182902585E-2},115,115,"S.US.AMFW",1861,"S.US.ALK"]
[null,null,"S.US.KB",{"$f":"IFERROR(RTD(\"cqg.rtd\", ,\"ContractData\",C1862, \"PerCentNetLastTrade\",, \"T\")/100,\"\")","v":4.1864359475300029E-3},1030,1030,"S.US.KB",1862,"S.US.ZPIN"]
[null,null,"S.US.GBAB",{"$f":"IFERROR(RTD(\"cqg.rtd\", ,\"ContractData\",C1863, \"PerCentNetLastTrade\",, \"T\")/100,\"\")","v":-1.1737089201877935E-2},2155,2155,"S.US.GBAB",1863,"S.US.BSD"]
[null,null,"S.US.IDE",{"$f":"IFERROR(RTD(\"cqg.rtd\", ,\"ContractData\",C1864, \"PerCentNetLastTrade\",, \"T\")/100,\"\")","v":1.4662756598240469E-3},1229,1229,"S.US.IDE",1864,"S.US.CTX"]
[null,null,"S.US.CTT",{"$f":"IFERROR(RTD(\"cqg.rtd\", ,\"ContractData\",C1865, \"PerCentNetLastTrade\",, \"T\")/100,\"\")","v":-3.6396724294813464E-3},1675,1675,"S.US.CTT",1865,"S.US.BBX"]
[null,null,"S.US.BKFS",{"$f":"IFERROR(RTD(\"cqg.rtd\", ,\"ContractData\",C1866, \"PerCentNetLastTrade\",, \"T\")/100,\"\")","v":-2.6845637583892616E-3},1596,1596,"S.US.BKFS",1866,"S.US.CCV"]
[null,null,"S.US.PAC",{"$f":"IFERROR(RTD(\"cqg.rtd\", ,\"ContractData\",C1867, \"PerCentNetLastTrade\",, \"T\")/100,\"\")","v":-1.860897883228658E-3},1516,1516,"S.US.PAC",1867,"S.US.AZO"]
[null,null,"S.US.NAP",{"$f":"IFERROR(RTD(\"cqg.rtd\", ,\"ContractData\",C1868, \"PerCentNetLastTrade\",, \"T\")/100,\"\")","v":1.446480231436837E-2},544,544,"S.US.NAP",1868,"S.US.QSR"]
[null,null,"S.US.CCS",{"$f":"IFERROR(RTD(\"cqg.rtd\", ,\"ContractData\",C1869, \"PerCentNetLastTrade\",, \"T\")/100,\"\")","v":1.4251781472684086E-2},551,551,"S.US.CCS",1869,"S.US.WGO"]
[null,null,"S.US.MUE",{"$f":"IFERROR(RTD(\"cqg.rtd\", ,\"ContractData\",C1870, \"PerCentNetLastTrade\",, \"T\")/100,\"\")","v":-5.422153369481022E-3},1815,1815,"S.US.MUE",1870,"S.US.LEO"]
[null,null,"S.US.MUI",{"$f":"IFERROR(RTD(\"cqg.rtd\", ,\"ContractData\",C1871, \"PerCentNetLastTrade\",, \"T\")/100,\"\")","v":-2.9304029304029304E-3},1617,1617,"S.US.MUI",1871,"S.US.DCM"]
[null,null,"S.US.MFM",{"$f":"IFERROR(RTD(\"cqg.rtd\", ,\"ContractData\",C1872, \"PerCentNetLastTrade\",, \"T\")/100,\"\")","v":-1.0510510510510511E-2},2100,2100,"S.US.MFM",1872,"S.US.MNP"]
[null,null,"S.US.EOS",{"$f":"IFERROR(RTD(\"cqg.rtd\", ,\"ContractData\",C1873, \"PerCentNetLastTrade\",, \"T\")/100,\"\")","v":-2.2813688212927757E-3},1564,1564,"S.US.EOS",1873,"S.US.HTR"]
[null,null,"S.US.CHE",{"$f":"IFERROR(RTD(\"cqg.rtd\", ,\"ContractData\",C1874, \"PerCentNetLastTrade\",, \"T\")/100,\"\")","v":-4.6657335199626739E-4},1406,1406,"S.US.CHE",1874,"S.US.PCN"]
[null,null,"S.US.WBK",{"$f":"IFERROR(RTD(\"cqg.rtd\", ,\"ContractData\",C1875, \"PerCentNetLastTrade\",, \"T\")/100,\"\")","v":-4.6788600595491277E-3},1755,1755,"S.US.WBK",1875,"S.US.RS"]
[null,null,"S.US.LNN",{"$f":"IFERROR(RTD(\"cqg.rtd\", ,\"ContractData\",C1876, \"PerCentNetLastTrade\",, \"T\")/100,\"\")","v":2.8802120993010365E-2},293,293,"S.US.LNN",1876,"S.US.RENX"]
[null,null,"S.US.INF",{"$f":"IFERROR(RTD(\"cqg.rtd\", ,\"ContractData\",C1877, \"PerCentNetLastTrade\",, \"T\")/100,\"\")","v":9.0609555189456355E-3},752,752,"S.US.INF",1877,"S.US.EOT"]
[null,null,"S.US.OXM",{"$f":"IFERROR(RTD(\"cqg.rtd\", ,\"ContractData\",C1878, \"PerCentNetLastTrade\",, \"T\")/100,\"\")","v":-9.3283582089552248E-4},1409,1409,"S.US.OXM",1878,"S.US.BSE"]
[null,null,"S.US.NEV",{"$f":"IFERROR(RTD(\"cqg.rtd\", ,\"ContractData\",C1879, \"PerCentNetLastTrade\",, \"T\")/100,\"\")","v":-8.368200836820083E-3},2011,2011,"S.US.NEV",1879,"S.US.NMI"]
[null,null,"S.US.CRCM",{"$f":"IFERROR(RTD(\"cqg.rtd\", ,\"ContractData\",C1880, \"PerCentNetLastTrade\",, \"T\")/100,\"\")","v":1.1467889908256881E-3},1257,1257,"S.US.CRCM",1880,"S.US.DTF"]
[null,null,"S.US.PJT",{"$f":"IFERROR(RTD(\"cqg.rtd\", ,\"ContractData\",C1881, \"PerCentNetLastTrade\",, \"T\")/100,\"\")","v":1.3495276653171389E-3},1238,1238,"S.US.PJT",1881,"S.US.ETX"]
[null,null,"S.US.BKT",{"$f":"IFERROR(RTD(\"cqg.rtd\", ,\"ContractData\",C1882, \"PerCentNetLastTrade\",, \"T\")/100,\"\")","v":-1.594896331738437E-3},1497,1497,"S.US.BKT",1882,"S.US.PSF"]
[null,null,"S.US.UMH",{"$f":"IFERROR(RTD(\"cqg.rtd\", ,\"ContractData\",C1883, \"PerCentNetLastTrade\",, \"T\")/100,\"\")","v":-7.5131480090157776E-3},1962,1962,"S.US.UMH",1883,"S.US.NID"]
[null,null,"S.US.VVI",{"$f":"IFERROR(RTD(\"cqg.rtd\", ,\"ContractData\",C1884, \"PerCentNetLastTrade\",, \"T\")/100,\"\")","v":-2.2547914317925591E-3},1560,1560,"S.US.VVI",1884,"S.US.CPL"]
[null,null,"S.US.MEN",{"$f":"IFERROR(RTD(\"cqg.rtd\", ,\"ContractData\",C1885, \"PerCentNetLastTrade\",, \"T\")/100,\"\")","v":-6.2893081761006284E-3},1889,1889,"S.US.MEN",1885,"S.US.GFF"]
[null,null,"S.US.HPS",{"$f":"IFERROR(RTD(\"cqg.rtd\", ,\"ContractData\",C1886, \"PerCentNetLastTrade\",, \"T\")/100,\"\")","v":-6.3842135809634359E-3},1901,1901,"S.US.HPS",1886,"S.US.UTL"]
[null,null,"S.US.USNA",{"$f":"IFERROR(RTD(\"cqg.rtd\", ,\"ContractData\",C1887, \"PerCentNetLastTrade\",, \"T\")/100,\"\")","v":7.1428571428571426E-3},858,858,"S.US.USNA",1887,"S.US.GPM"]
[null,null,"S.US.MCA",{"$f":"IFERROR(RTD(\"cqg.rtd\", ,\"ContractData\",C1888, \"PerCentNetLastTrade\",, \"T\")/100,\"\")","v":-4.919184820801125E-3},1776,1776,"S.US.MCA",1888,"S.US.AFC"]
[null,null,"S.US.DFP",{"$f":"IFERROR(RTD(\"cqg.rtd\", ,\"ContractData\",C1889, \"PerCentNetLastTrade\",, \"T\")/100,\"\")","v":-7.3913043478260861E-3},1958,1958,"S.US.DFP",1889,"S.US.MEN"]
[null,null,"S.US.USM",{"$f":"IFERROR(RTD(\"cqg.rtd\", ,\"ContractData\",C1890, \"PerCentNetLastTrade\",, \"T\")/100,\"\")","v":5.8355437665782491E-3},927,927,"S.US.USM",1890,"S.US.CXE"]
[null,null,"S.US.HCI",{"$f":"IFERROR(RTD(\"cqg.rtd\", ,\"ContractData\",C1891, \"PerCentNetLastTrade\",, \"T\")/100,\"\")","v":-2.9717682020802376E-3},1622,1622,"S.US.HCI",1891,"S.US.OMAA"]
[null,null,"S.US.UNF",{"$f":"IFERROR(RTD(\"cqg.rtd\", ,\"ContractData\",C1892, \"PerCentNetLastTrade\",, \"T\")/100,\"\")","v":3.8910505836575876E-3},1059,1059,"S.US.UNF",1892,"S.US.HRC"]
[null,null,"S.US.ESE",{"$f":"IFERROR(RTD(\"cqg.rtd\", ,\"ContractData\",C1893, \"PerCentNetLastTrade\",, \"T\")/100,\"\")","v":7.1813285457809697E-3},855,855,"S.US.ESE",1893,"S.US.ELF"]
[null,null,"S.US.CAF",{"$f":"IFERROR(RTD(\"cqg.rtd\", ,\"ContractData\",C1894, \"PerCentNetLastTrade\",, \"T\")/100,\"\")","v":-9.6670247046186895E-3},2066,2066,"S.US.CAF",1894,"S.US.BXP"]
[null,null,"S.US.CIVI",{"$f":"IFERROR(RTD(\"cqg.rtd\", ,\"ContractData\",C1895, \"PerCentNetLastTrade\",, \"T\")/100,\"\")","v":-1.1627906976744186E-2},2146,2146,"S.US.CIVI",1895,"S.US.SCS"]
[null,null,"S.US.OIA",{"$f":"IFERROR(RTD(\"cqg.rtd\", ,\"ContractData\",C1896, \"PerCentNetLastTrade\",, \"T\")/100,\"\")","v":-1.0840108401084009E-2},2118,2118,"S.US.OIA",1896,"S.US.ACC"]
[null,null,"S.US.NBB",{"$f":"IFERROR(RTD(\"cqg.rtd\", ,\"ContractData\",C1897, \"PerCentNetLastTrade\",, \"T\")/100,\"\")","v":-7.8086871644704736E-3},1976,1976,"S.US.NBB",1897,"S.US.ETM"]
[null,null,"S.US.BSM",{"$f":"IFERROR(RTD(\"cqg.rtd\", ,\"ContractData\",C1898, \"PerCentNetLastTrade\",, \"T\")/100,\"\")","v":3.2047800108636608E-2},262,262,"S.US.BSM",1898,"S.US.HMLP"]
[null,null,"S.US.BBW",{"$f":"IFERROR(RTD(\"cqg.rtd\", ,\"ContractData\",C1899, \"PerCentNetLastTrade\",, \"T\")/100,\"\")","v":1.3840830449826988E-2},561,561,"S.US.BBW",1899,"S.US.VGM"]
[null,null,"S.US.PRA",{"$f":"IFERROR(RTD(\"cqg.rtd\", ,\"ContractData\",C1900, \"PerCentNetLastTrade\",, \"T\")/100,\"\")","v":-8.8183421516754845E-4},1439,1439,"S.US.PRA",1900,"S.US.BIG"]
[null,null,"S.US.CHKR",{"$f":"IFERROR(RTD(\"cqg.rtd\", ,\"ContractData\",C1901, \"PerCentNetLastTrade\",, \"T\")/100,\"\")","v":4.0909090909090909E-2},198,198,"S.US.CHKR",1901,"S.US.HPS"]
[null,null,"S.US.GNT",{"$f":"IFERROR(RTD(\"cqg.rtd\", ,\"ContractData\",C1902, \"PerCentNetLastTrade\",, \"T\")/100,\"\")","v":-1.4306151645207441E-3},1485,1485,"S.US.GNT",1902,"S.US.LYV"]
[null,null,"S.US.BTO",{"$f":"IFERROR(RTD(\"cqg.rtd\", ,\"ContractData\",C1903, \"PerCentNetLastTrade\",, \"T\")/100,\"\")","v":1.4541048167222055E-2},543,543,"S.US.BTO",1903,"S.US.MXE"]
[null,null,"S.US.EXTN",{"$f":"IFERROR(RTD(\"cqg.rtd\", ,\"ContractData\",C1904, \"PerCentNetLastTrade\",, \"T\")/100,\"\")","v":7.8200321371183726E-2},95,95,"S.US.EXTN",1904,"S.US.NMY"]
[null,null,"S.US.NBLX",{"$f":"IFERROR(RTD(\"cqg.rtd\", ,\"ContractData\",C1905, \"PerCentNetLastTrade\",, \"T\")/100,\"\")","v":-2.7455765710799268E-3},1599,1599,"S.US.NBLX",1905,"S.US.MUJ"]
[null,null,"S.US.USAC",{"$f":"IFERROR(RTD(\"cqg.rtd\", ,\"ContractData\",C1906, \"PerCentNetLastTrade\",, \"T\")/100,\"\")","v":3.5199076745527982E-2},238,238,"S.US.USAC",1906,"S.US.RWT"]
[null,null,"S.US.GAM",{"$f":"IFERROR(RTD(\"cqg.rtd\", ,\"ContractData\",C1907, \"PerCentNetLastTrade\",, \"T\")/100,\"\")","v":3.5667963683527885E-3},1077,1077,"S.US.GAM",1907,"S.US.DIN"]
[null,null,"S.US.FSD",{"$f":"IFERROR(RTD(\"cqg.rtd\", ,\"ContractData\",C1908, \"PerCentNetLastTrade\",, \"T\")/100,\"\")","v":-2.5477707006369425E-3},1588,1588,"S.US.FSD",1908,"S.US.NAC"]
[null,null,"S.US.NNI",{"$f":"IFERROR(RTD(\"cqg.rtd\", ,\"ContractData\",C1909, \"PerCentNetLastTrade\",, \"T\")/100,\"\")","v":7.6681085332284708E-3},831,831,"S.US.NNI",1909,"S.US.TDG"]
[null,null,"S.US.PMO",{"$f":"IFERROR(RTD(\"cqg.rtd\", ,\"ContractData\",C1910, \"PerCentNetLastTrade\",, \"T\")/100,\"\")","v":-2.5466893039049238E-3},1587,1587,"S.US.PMO",1910,"S.US.SJW"]
[null,null,"S.US.EOCC",{"$f":"IFERROR(RTD(\"cqg.rtd\", ,\"ContractData\",C1911, \"PerCentNetLastTrade\",, \"T\")/100,\"\")","v":1.6051364365971107E-3},1220,1220,"S.US.EOCC",1911,"S.US.PM"]
[null,null,"S.US.OR",{"$f":"IFERROR(RTD(\"cqg.rtd\", ,\"ContractData\",C1912, \"PerCentNetLastTrade\",, \"T\")/100,\"\")","v":-3.0456852791878176E-3},1628,1628,"S.US.OR",1912,"S.US.RUBI"]
[null,null,"S.US.SD",{"$f":"IFERROR(RTD(\"cqg.rtd\", ,\"ContractData\",C1913, \"PerCentNetLastTrade\",, \"T\")/100,\"\")","v":5.3016453382084092E-2},144,144,"S.US.SD",1913,"S.US.PKX"]
[null,null,"S.US.HTR",{"$f":"IFERROR(RTD(\"cqg.rtd\", ,\"ContractData\",C1914, \"PerCentNetLastTrade\",, \"T\")/100,\"\")","v":-6.0918462980318654E-3},1873,1873,"S.US.HTR",1914,"S.US.TRU"]
[null,null,"S.US.ACP",{"$f":"IFERROR(RTD(\"cqg.rtd\", ,\"ContractData\",C1915, \"PerCentNetLastTrade\",, \"T\")/100,\"\")","v":1.5649452269170579E-3},1224,1224,"S.US.ACP",1915,"S.US.LEG"]
[null,null,"S.US.UBA",{"$f":"IFERROR(RTD(\"cqg.rtd\", ,\"ContractData\",C1916, \"PerCentNetLastTrade\",, \"T\")/100,\"\")","v":-6.8965517241379318E-3},1931,1931,"S.US.UBA",1916,"S.US.CPB"]
[null,null,"S.US.BFR",{"$f":"IFERROR(RTD(\"cqg.rtd\", ,\"ContractData\",C1917, \"PerCentNetLastTrade\",, \"T\")/100,\"\")","v":1.2540894220283533E-2},609,609,"S.US.BFR",1917,"S.US.EBR"]
[null,null,"S.US.ARC",{"$f":"IFERROR(RTD(\"cqg.rtd\", ,\"ContractData\",C1918, \"PerCentNetLastTrade\",, \"T\")/100,\"\")","v":1.0615711252653927E-2},682,682,"S.US.ARC",1918,"S.US.AOD"]
[null,null,"S.US.GOF",{"$f":"IFERROR(RTD(\"cqg.rtd\", ,\"ContractData\",C1919, \"PerCentNetLastTrade\",, \"T\")/100,\"\")","v":-4.1601664066562658E-3},1723,1723,"S.US.GOF",1919,"S.US.NXN"]
[null,null,"S.US.FPL",{"$f":"IFERROR(RTD(\"cqg.rtd\", ,\"ContractData\",C1920, \"PerCentNetLastTrade\",, \"T\")/100,\"\")","v":2.9671210906174819E-2},284,284,"S.US.FPL",1920,"S.US.HTD"]
[null,null,"S.US.NORD",{"$f":"IFERROR(RTD(\"cqg.rtd\", ,\"ContractData\",C1921, \"PerCentNetLastTrade\",, \"T\")/100,\"\")","v":-4.2069835927639884E-4},1404,{"$f":"IFERROR(E1921,\"\")","v":1404},{"$f":"C1921","v":"S.US.NORD"},1921,{"$f":"IFERROR(VLOOKUP(H1921,$F$1:$G$2522,2,FALSE),\"\")","v":"S.US.NSA"}]
[null,null,"S.US.ABR",{"$f":"IFERROR(RTD(\"cqg.rtd\", ,\"ContractData\",C1922, \"PerCentNetLastTrade\",, \"T\")/100,\"\")","v":-4.010695187165775E-3},1715,1715,"S.US.ABR",{"$f":"H1921+1","v":1922},"S.US.BTT"]
[null,null,"S.US.PBT",{"$f":"IFERROR(RTD(\"cqg.rtd\", ,\"ContractData\",C1923, \"PerCentNetLastTrade\",, \"T\")/100,\"\")","v":4.9275362318840575E-2},153,153,"S.US.PBT",1923,"S.US.NUO"]
[null,null,"S.US.HGG",{"$f":"IFERROR(RTD(\"cqg.rtd\", ,\"ContractData\",C1924, \"PerCentNetLastTrade\",, \"T\")/100,\"\")","v":-2.6143790849673203E-2},2430,2430,"S.US.HGG",1924,"S.US.NQP"]
[null,null,"S.US.TSQ",{"$f":"IFERROR(RTD(\"cqg.rtd\", ,\"ContractData\",C1925, \"PerCentNetLastTrade\",, \"T\")/100,\"\")","v":-6.8181818181818179E-3},1926,1926,"S.US.TSQ",1925,"S.US.RGA"]
[null,null,"S.US.CIR",{"$f":"IFERROR(RTD(\"cqg.rtd\", ,\"ContractData\",C1926, \"PerCentNetLastTrade\",, \"T\")/100,\"\")","v":2.0507024059421931E-2},391,391,"S.US.CIR",1926,"S.US.TSQ"]
[null,null,"S.US.EBF",{"$f":"IFERROR(RTD(\"cqg.rtd\", ,\"ContractData\",C1927, \"PerCentNetLastTrade\",, \"T\")/100,\"\")","v":7.3170731707317069E-3},849,849,"S.US.EBF",1927,"S.US.MZF"]
[null,null,"S.US.TEO",{"$f":"IFERROR(RTD(\"cqg.rtd\", ,\"ContractData\",C1928, \"PerCentNetLastTrade\",, \"T\")/100,\"\")","v":5.4229934924078093E-4},1306,1306,"S.US.TEO",1928,"S.US.VFC"]
[null,null,"S.US.MED",{"$f":"IFERROR(RTD(\"cqg.rtd\", ,\"ContractData\",C1929, \"PerCentNetLastTrade\",, \"T\")/100,\"\")","v":-5.2460654509118168E-3},1807,1807,"S.US.MED",1929,"S.US.BWG"]
[null,null,"S.US.RMAX",{"$f":"IFERROR(RTD(\"cqg.rtd\", ,\"ContractData\",C1930, \"PerCentNetLastTrade\",, \"T\")/100,\"\")","v":-1.0967098703888336E-2},2122,2122,"S.US.RMAX",1930,"S.US.AAT"]
[null,null,"S.US.KMF",{"$f":"IFERROR(RTD(\"cqg.rtd\", ,\"ContractData\",C1931, \"PerCentNetLastTrade\",, \"T\")/100,\"\")","v":4.2176870748299324E-2},191,191,"S.US.KMF",1931,"S.US.UBA"]
[null,null,"S.US.EXCU",{"$f":"IFERROR(RTD(\"cqg.rtd\", ,\"ContractData\",C1932, \"PerCentNetLastTrade\",, \"T\")/100,\"\")","v":-1.7439387494683115E-2},2318,2318,"S.US.EXCU",1932,"S.US.RQI"]
[null,null,"S.US.GTS",{"$f":"IFERROR(RTD(\"cqg.rtd\", ,\"ContractData\",C1933, \"PerCentNetLastTrade\",, \"T\")/100,\"\")","v":1.7825311942959001E-3},1207,1207,"S.US.GTS",1933,"S.US.BHE"]
[null,null,"S.US.GEK",{"$f":"IFERROR(RTD(\"cqg.rtd\", ,\"ContractData\",C1934, \"PerCentNetLastTrade\",, \"T\")/100,\"\")","v":-9.2258323305254714E-3},2050,2050,"S.US.GEK",1934,"S.US.REV"]
[null,null,"S.US.HQL",{"$f":"IFERROR(RTD(\"cqg.rtd\", ,\"ContractData\",C1935, \"PerCentNetLastTrade\",, \"T\")/100,\"\")","v":-1.0078387458006719E-2},2087,2087,"S.US.HQL",1935,"S.US.AV"]
[null,null,"S.US.SCL",{"$f":"IFERROR(RTD(\"cqg.rtd\", ,\"ContractData\",C1936, \"PerCentNetLastTrade\",, \"T\")/100,\"\")","v":4.428589002337311E-3},1016,1016,"S.US.SCL",1936,"S.US.MSI"]
[null,null,"S.US.BFZ",{"$f":"IFERROR(RTD(\"cqg.rtd\", ,\"ContractData\",C1937, \"PerCentNetLastTrade\",, \"T\")/100,\"\")","v":-8.368200836820083E-3},2012,2012,"S.US.BFZ",1937,"S.US.WRE"]
[null,null,"S.US.EDF",{"$f":"IFERROR(RTD(\"cqg.rtd\", ,\"ContractData\",C1938, \"PerCentNetLastTrade\",, \"T\")/100,\"\")","v":6.993006993006993E-3},866,866,"S.US.EDF",1938,"S.US.HPI"]
[null,null,"S.US.YUME",{"$f":"IFERROR(RTD(\"cqg.rtd\", ,\"ContractData\",C1939, \"PerCentNetLastTrade\",, \"T\")/100,\"\")","v":-2.5714285714285717E-2},2426,2426,"S.US.YUME",1939,"S.US.BMA"]
[null,null,"S.US.MEP",{"$f":"IFERROR(RTD(\"cqg.rtd\", ,\"ContractData\",C1940, \"PerCentNetLastTrade\",, \"T\")/100,\"\")","v":8.4745762711864417E-2},85,85,"S.US.MEP",1940,"S.US.JBL"]
[null,null,"S.US.FENG",{"$f":"IFERROR(RTD(\"cqg.rtd\", ,\"ContractData\",C1941, \"PerCentNetLastTrade\",, \"T\")/100,\"\")","v":-2.6455026455026454E-3},1592,1592,"S.US.FENG",1941,"S.US.MAC"]
[null,null,"S.US.GMS",{"$f":"IFERROR(RTD(\"cqg.rtd\", ,\"ContractData\",C1942, \"PerCentNetLastTrade\",, \"T\")/100,\"\")","v":2.7899561578318055E-3},1127,1127,"S.US.GMS",1942,"S.US.MTN"]
[null,null,"S.US.EAI",{"$f":"IFERROR(RTD(\"cqg.rtd\", ,\"ContractData\",C1943, \"PerCentNetLastTrade\",, \"T\")/100,\"\")","v":-1.4452214452214451E-2},2253,2253,"S.US.EAI",1943,"S.US.MYD"]
[null,null,"S.US.NAN",{"$f":"IFERROR(RTD(\"cqg.rtd\", ,\"ContractData\",C1944, \"PerCentNetLastTrade\",, \"T\")/100,\"\")","v":-1.0324483775811209E-2},2092,2092,"S.US.NAN",1944,"S.US.OGE"]
[null,null,"S.US.CAE",{"$f":"IFERROR(RTD(\"cqg.rtd\", ,\"ContractData\",C1945, \"PerCentNetLastTrade\",, \"T\")/100,\"\")","v":6.779661016949153E-4},1298,1298,"S.US.CAE",1945,"S.US.NCZ"]
[null,null,"S.US.HEIA",{"$f":"IFERROR(RTD(\"cqg.rtd\", ,\"ContractData\",C1946, \"PerCentNetLastTrade\",, \"T\")/100,\"\")","v":2.9673590504451035E-3},1120,1120,"S.US.HEIA",1946,"S.US.CTY"]
[null,null,"S.US.HSEA",{"$f":"IFERROR(RTD(\"cqg.rtd\", ,\"ContractData\",C1947, \"PerCentNetLastTrade\",, \"T\")/100,\"\")","v":-1.9164430816404753E-3},1523,1523,"S.US.HSEA",1947,"S.US.FFC"]
[null,null,"S.US.MG",{"$f":"IFERROR(RTD(\"cqg.rtd\", ,\"ContractData\",C1948, \"PerCentNetLastTrade\",, \"T\")/100,\"\")","v":1.9650655021834062E-2},412,412,"S.US.MG",1948,"S.US.LH"]
[null,null,"S.US.CEO",{"$f":"IFERROR(RTD(\"cqg.rtd\", ,\"ContractData\",C1949, \"PerCentNetLastTrade\",, \"T\")/100,\"\")","v":4.8057828262769081E-2},162,162,"S.US.CEO",1949,"S.US.BNY"]
[null,null,"S.US.SQNS",{"$f":"IFERROR(RTD(\"cqg.rtd\", ,\"ContractData\",C1950, \"PerCentNetLastTrade\",, \"T\")/100,\"\")","v":5.0251256281407027E-3},977,977,"S.US.SQNS",1950,"S.US.CACI"]
[null,null,"S.US.RFI",{"$f":"IFERROR(RTD(\"cqg.rtd\", ,\"ContractData\",C1951, \"PerCentNetLastTrade\",, \"T\")/100,\"\")","v":-1.0797342192691031E-2},2115,2115,"S.US.RFI",1951,"S.US.AZRE"]
[null,null,"S.US.BUI",{"$f":"IFERROR(RTD(\"cqg.rtd\", ,\"ContractData\",C1952, \"PerCentNetLastTrade\",, \"T\")/100,\"\")","v":-7.4626865671641798E-3},1961,1961,"S.US.BUI",1952,"S.US.NTX"]
[null,null,"S.US.NP",{"$f":"IFERROR(RTD(\"cqg.rtd\", ,\"ContractData\",C1953, \"PerCentNetLastTrade\",, \"T\")/100,\"\")","v":3.5005834305717621E-3},1081,1081,"S.US.NP",1953,"S.US.BTA"]
[null,null,"S.US.USPH",{"$f":"IFERROR(RTD(\"cqg.rtd\", ,\"ContractData\",C1954, \"PerCentNetLastTrade\",, \"T\")/100,\"\")","v":3.1225604996096799E-3},1110,1110,"S.US.USPH",1954,"S.US.NUV"]
[null,null,"S.US.BWG",{"$f":"IFERROR(RTD(\"cqg.rtd\", ,\"ContractData\",C1955, \"PerCentNetLastTrade\",, \"T\")/100,\"\")","v":-6.8551842330762634E-3},1929,1929,"S.US.BWG",1955,"S.US.TDC"]
[null,null,"S.US.HYI",{"$f":"IFERROR(RTD(\"cqg.rtd\", ,\"ContractData\",C1956, \"PerCentNetLastTrade\",, \"T\")/100,\"\")","v":4.736129905277402E-3},996,996,"S.US.HYI",1956,"S.US.WY"]
[null,null,"S.US.AVAL",{"$f":"IFERROR(RTD(\"cqg.rtd\", ,\"ContractData\",C1957, \"PerCentNetLastTrade\",, \"T\")/100,\"\")","v":3.4199726402188782E-2},244,244,"S.US.AVAL",1957,"S.US.EW"]
[null,null,"S.US.NTP",{"$f":"IFERROR(RTD(\"cqg.rtd\", ,\"ContractData\",C1958, \"PerCentNetLastTrade\",, \"T\")/100,\"\")","v":-1.2658227848101267E-2},2187,2187,"S.US.NTP",1958,"S.US.DFP"]
[null,null,"S.US.CTS",{"$f":"IFERROR(RTD(\"cqg.rtd\", ,\"ContractData\",C1959, \"PerCentNetLastTrade\",, \"T\")/100,\"\")","v":4.5045045045045045E-3},1009,1009,"S.US.CTS",1959,"S.US.NMT"]
[null,null,"S.US.CHA",{"$f":"IFERROR(RTD(\"cqg.rtd\", ,\"ContractData\",C1960, \"PerCentNetLastTrade\",, \"T\")/100,\"\")","v":3.7265758091993187E-2},215,215,"S.US.CHA",1960,"S.US.VZ"]
[null,null,"S.US.FOF",{"$f":"IFERROR(RTD(\"cqg.rtd\", ,\"ContractData\",C1961, \"PerCentNetLastTrade\",, \"T\")/100,\"\")","v":5.0547598989048011E-3},973,973,"S.US.FOF",1961,"S.US.BUI"]
[null,null,"S.US.PSB",{"$f":"IFERROR(RTD(\"cqg.rtd\", ,\"ContractData\",C1962, \"PerCentNetLastTrade\",, \"T\")/100,\"\")","v":-2.0012342413823502E-2},2366,2366,"S.US.PSB",1962,"S.US.UMH"]
[null,null,"S.US.CLW",{"$f":"IFERROR(RTD(\"cqg.rtd\", ,\"ContractData\",C1963, \"PerCentNetLastTrade\",, \"T\")/100,\"\")","v":-3.952569169960474E-3},1709,1709,"S.US.CLW",1963,"S.US.TRTN"]
[null,null,"S.US.OEC",{"$f":"IFERROR(RTD(\"cqg.rtd\", ,\"ContractData\",C1964, \"PerCentNetLastTrade\",, \"T\")/100,\"\")","v":1.0526315789473684E-2},686,686,"S.US.OEC",1964,"S.US.HGH"]
[null,null,"S.US.DTV",{"$f":"IFERROR(RTD(\"cqg.rtd\", ,\"ContractData\",C1965, \"PerCentNetLastTrade\",, \"T\")/100,\"\")","v":""},{"$error":"#VALUE!"},"","S.US.DTV",1965,"S.US.REXR"]
[null,null,"S.US.UFI",{"$f":"IFERROR(RTD(\"cqg.rtd\", ,\"ContractData\",C1966, \"PerCentNetLastTrade\",, \"T\")/100,\"\")","v":-9.7915350600126343E-3},2078,2078,"S.US.UFI",1966,"S.US.SYY"]
[null,null,"S.US.SDT",{"$f":"IFERROR(RTD(\"cqg.rtd\", ,\"ContractData\",C1967, \"PerCentNetLastTrade\",, \"T\")/100,\"\")","v":3.7313432835820899E-2},214,214,"S.US.SDT",1967,"S.US.SPB"]
[null,null,"S.US.ATKR",{"$f":"IFERROR(RTD(\"cqg.rtd\", ,\"ContractData\",C1968, \"PerCentNetLastTrade\",, \"T\")/100,\"\")","v":2.1555763823805064E-2},384,384,"S.US.ATKR",1968,"S.US.ACN"]
[null,null,"S.US.DMO",{"$f":"IFERROR(RTD(\"cqg.rtd\", ,\"ContractData\",C1969, \"PerCentNetLastTrade\",, \"T\")/100,\"\")","v":-1.3186813186813187E-2},2206,2206,"S.US.DMO",1969,"S.US.SKT"]
[null,null,"S.US.MXF",{"$f":"IFERROR(RTD(\"cqg.rtd\", ,\"ContractData\",C1970, \"PerCentNetLastTrade\",, \"T\")/100,\"\")","v":-1.3869625520110957E-3},1479,1479,"S.US.MXF",1970,"S.US.PLNT"]
[null,null,"S.US.HIL",{"$f":"IFERROR(RTD(\"cqg.rtd\", ,\"ContractData\",C1971, \"PerCentNetLastTrade\",, \"T\")/100,\"\")","v":-1.2345679012345678E-2},2171,2171,"S.US.HIL",1971,"S.US.MHG"]
[null,null,"S.US.GLP",{"$f":"IFERROR(RTD(\"cqg.rtd\", ,\"ContractData\",C1972, \"PerCentNetLastTrade\",, \"T\")/100,\"\")","v":2.8938906752411574E-2},292,292,"S.US.GLP",1972,"S.US.VZA"]
[null,null,"S.US.STK",{"$f":"IFERROR(RTD(\"cqg.rtd\", ,\"ContractData\",C1973, \"PerCentNetLastTrade\",, \"T\")/100,\"\")","v":-1.0706638115631692E-3},1451,1451,"S.US.STK",1973,"S.US.TDE"]
[null,null,"S.US.ETM",{"$f":"IFERROR(RTD(\"cqg.rtd\", ,\"ContractData\",C1974, \"PerCentNetLastTrade\",, \"T\")/100,\"\")","v":-6.3492063492063492E-3},1897,1897,"S.US.ETM",1974,"S.US.MQT"]
[null,null,"S.US.CCO",{"$f":"IFERROR(RTD(\"cqg.rtd\", ,\"ContractData\",C1975, \"PerCentNetLastTrade\",, \"T\")/100,\"\")","v":1.2727272727272728E-2},601,601,"S.US.CCO",1975,"S.US.NVG"]
[null,null,"S.US.RENX",{"$f":"IFERROR(RTD(\"cqg.rtd\", ,\"ContractData\",C1976, \"PerCentNetLastTrade\",, \"T\")/100,\"\")","v":-6.1919504643962852E-3},1876,1876,"S.US.RENX",1976,"S.US.NBB"]
[null,null,"S.US.KODK",{"$f":"IFERROR(RTD(\"cqg.rtd\", ,\"ContractData\",C1977, \"PerCentNetLastTrade\",, \"T\")/100,\"\")","v":4.6822742474916393E-3},999,999,"S.US.KODK",1977,"S.US.SAP"]
[null,null,"S.US.MMI",{"$f":"IFERROR(RTD(\"cqg.rtd\", ,\"ContractData\",C1978, \"PerCentNetLastTrade\",, \"T\")/100,\"\")","v":-7.1787508973438624E-4},1419,1419,"S.US.MMI",1978,"S.US.MPX"]
[null,null,"S.US.NTB",{"$f":"IFERROR(RTD(\"cqg.rtd\", ,\"ContractData\",C1979, \"PerCentNetLastTrade\",, \"T\")/100,\"\")","v":1.9099099099099098E-2},422,422,"S.US.NTB",1979,"S.US.THO"]
[null,null,"S.US.EDN",{"$f":"IFERROR(RTD(\"cqg.rtd\", ,\"ContractData\",C1980, \"PerCentNetLastTrade\",, \"T\")/100,\"\")","v":1.5018315018315019E-2},524,524,"S.US.EDN",1980,"S.US.FTS"]
[null,null,"S.US.AFB",{"$f":"IFERROR(RTD(\"cqg.rtd\", ,\"ContractData\",C1981, \"PerCentNetLastTrade\",, \"T\")/100,\"\")","v":-1.5372790161414297E-3},1494,1494,"S.US.AFB",1981,"S.US.NZF"]
[null,null,"S.US.EVG",{"$f":"IFERROR(RTD(\"cqg.rtd\", ,\"ContractData\",C1982, \"PerCentNetLastTrade\",, \"T\")/100,\"\")","v":2.2488755622188904E-3},1171,1171,"S.US.EVG",1982,"S.US.DATA"]
[null,null,"S.US.TI",{"$f":"IFERROR(RTD(\"cqg.rtd\", ,\"ContractData\",C1983, \"PerCentNetLastTrade\",, \"T\")/100,\"\")","v":4.0000000000000001E-3},1050,1050,"S.US.TI",1983,"S.US.SID"]
[null,null,"S.US.PFL",{"$f":"IFERROR(RTD(\"cqg.rtd\", ,\"ContractData\",C1984, \"PerCentNetLastTrade\",, \"T\")/100,\"\")","v":-9.765625E-4},1445,1445,"S.US.PFL",1984,"S.US.PGZ"]
[null,null,"S.US.SDR",{"$f":"IFERROR(RTD(\"cqg.rtd\", ,\"ContractData\",C1985, \"PerCentNetLastTrade\",, \"T\")/100,\"\")","v":1.4598540145985401E-2},538,{"$f":"IFERROR(E1985,\"\")","v":538},{"$f":"C1985","v":"S.US.SDR"},1985,{"$f":"IFERROR(VLOOKUP(H1985,$F$1:$G$2522,2,FALSE),\"\")","v":"S.US.JNJ"}]
[null,null,"S.US.AAV",{"$f":"IFERROR(RTD(\"cqg.rtd\", ,\"ContractData\",C1986, \"PerCentNetLastTrade\",, \"T\")/100,\"\")","v":9.1176470588235289E-2},75,75,"S.US.AAV",{"$f":"H1985+1","v":1986},"S.US.SITE"]
[null,null,"S.US.PIM",{"$f":"IFERROR(RTD(\"cqg.rtd\", ,\"ContractData\",C1987, \"PerCentNetLastTrade\",, \"T\")/100,\"\")","v":9.1533180778032037E-3},749,749,"S.US.PIM",1987,"S.US.FCEA"]
[null,null,"S.US.MCS",{"$f":"IFERROR(RTD(\"cqg.rtd\", ,\"ContractData\",C1988, \"PerCentNetLastTrade\",, \"T\")/100,\"\")","v":-1.3008130081300813E-2},2195,2195,"S.US.MCS",1988,"S.US.TGT"]
[null,null,"S.US.MQT",{"$f":"IFERROR(RTD(\"cqg.rtd\", ,\"ContractData\",C1989, \"PerCentNetLastTrade\",, \"T\")/100,\"\")","v":-7.7821011673151752E-3},1974,1974,"S.US.MQT",1989,"S.US.LDP"]
[null,null,"S.US.NRP",{"$f":"IFERROR(RTD(\"cqg.rtd\", ,\"ContractData\",C1990, \"PerCentNetLastTrade\",, \"T\")/100,\"\")","v":1.3392857142857142E-2},574,574,"S.US.NRP",1990,"S.US.HPF"]
[null,null,"S.US.BGH",{"$f":"IFERROR(RTD(\"cqg.rtd\", ,\"ContractData\",C1991, \"PerCentNetLastTrade\",, \"T\")/100,\"\")","v":8.1788440567066526E-3},797,797,"S.US.BGH",1991,"S.US.PPG"]
[null,null,"S.US.VET",{"$f":"IFERROR(RTD(\"cqg.rtd\", ,\"ContractData\",C1992, \"PerCentNetLastTrade\",, \"T\")/100,\"\")","v":5.8962264150943397E-2},127,127,"S.US.VET",1992,"S.US.MAS"]
[null,null,"S.US.MKL",{"$f":"IFERROR(RTD(\"cqg.rtd\", ,\"ContractData\",C1993, \"PerCentNetLastTrade\",, \"T\")/100,\"\")","v":-5.6730387179373979E-3},1837,1837,"S.US.MKL",1993,"S.US.CLI"]
[null,null,"S.US.REX",{"$f":"IFERROR(RTD(\"cqg.rtd\", ,\"ContractData\",C1994, \"PerCentNetLastTrade\",, \"T\")/100,\"\")","v":5.3040103492884863E-2},142,142,"S.US.REX",1994,"S.US.ZX"]
[null,null,"S.US.MQY",{"$f":"IFERROR(RTD(\"cqg.rtd\", ,\"ContractData\",C1995, \"PerCentNetLastTrade\",, \"T\")/100,\"\")","v":-5.5134390075809794E-3},1821,1821,"S.US.MQY",1995,"S.US.SYK"]
[null,null,"S.US.TY",{"$f":"IFERROR(RTD(\"cqg.rtd\", ,\"ContractData\",C1996, \"PerCentNetLastTrade\",, \"T\")/100,\"\")","v":1.8424689083371719E-3},1200,1200,"S.US.TY",1996,"S.US.DST"]
[null,null,"S.US.PHT",{"$f":"IFERROR(RTD(\"cqg.rtd\", ,\"ContractData\",C1997, \"PerCentNetLastTrade\",, \"T\")/100,\"\")","v":2.0263424518743665E-3},1191,1191,"S.US.PHT",1997,"S.US.IQI"]
[null,null,"S.US.CIO",{"$f":"IFERROR(RTD(\"cqg.rtd\", ,\"ContractData\",C1998, \"PerCentNetLastTrade\",, \"T\")/100,\"\")","v":-7.9302141157811261E-4},1429,1429,"S.US.CIO",1998,"S.US.NAD"]
[null,null,"S.US.HHY",{"$f":"IFERROR(RTD(\"cqg.rtd\", ,\"ContractData\",C1999, \"PerCentNetLastTrade\",, \"T\")/100,\"\")","v":-1.4204545454545455E-3},1483,1483,"S.US.HHY",1999,"S.US.KORS"]
[null,null,"S.US.BGR",{"$f":"IFERROR(RTD(\"cqg.rtd\", ,\"ContractData\",C2000, \"PerCentNetLastTrade\",, \"T\")/100,\"\")","v":3.3333333333333333E-2},253,253,"S.US.BGR",2000,"S.US.THS"]
[null,null,"S.US.NCA",{"$f":"IFERROR(RTD(\"cqg.rtd\", ,\"ContractData\",C2001, \"PerCentNetLastTrade\",, \"T\")/100,\"\")","v":3.0000000000000001E-3},1117,1117,"S.US.NCA",2001,"S.US.SSNI"]
[null,null,"S.US.SBW",{"$f":"IFERROR(RTD(\"cqg.rtd\", ,\"ContractData\",C2002, \"PerCentNetLastTrade\",, \"T\")/100,\"\")","v":-2.8195488721804514E-3},1606,1606,"S.US.SBW",2002,"S.US.AFI"]
[null,null,"S.US.HGT",{"$f":"IFERROR(RTD(\"cqg.rtd\", ,\"ContractData\",C2003, \"PerCentNetLastTrade\",, \"T\")/100,\"\")","v":2.9268292682926828E-2},287,287,"S.US.HGT",2003,"S.US.DMB"]
[null,null,"S.US.HGH",{"$f":"IFERROR(RTD(\"cqg.rtd\", ,\"ContractData\",C2004, \"PerCentNetLastTrade\",, \"T\")/100,\"\")","v":-7.5601374570446736E-3},1964,1964,"S.US.HGH",2004,"S.US.VKQ"]
[null,null,"S.US.DMB",{"$f":"IFERROR(RTD(\"cqg.rtd\", ,\"ContractData\",C2005, \"PerCentNetLastTrade\",, \"T\")/100,\"\")","v":-8.2034454470877767E-3},2003,2003,"S.US.DMB",2005,"S.US.TLI"]
[null,null,"S.US.REV",{"$f":"IFERROR(RTD(\"cqg.rtd\", ,\"ContractData\",C2006, \"PerCentNetLastTrade\",, \"T\")/100,\"\")","v":-7.0175438596491221E-3},1934,1934,"S.US.REV",2006,"S.US.NVR"]
[null,null,"S.US.MHN",{"$f":"IFERROR(RTD(\"cqg.rtd\", ,\"ContractData\",C2007, \"PerCentNetLastTrade\",, \"T\")/100,\"\")","v":-8.8495575221238937E-3},2032,2032,"S.US.MHN",2007,"S.US.ZNH"]
[null,null,"S.US.CHCT",{"$f":"IFERROR(RTD(\"cqg.rtd\", ,\"ContractData\",C2008, \"PerCentNetLastTrade\",, \"T\")/100,\"\")","v":-1.2522361359570662E-2},2180,2180,"S.US.CHCT",2008,"S.US.LPL"]
[null,null,"S.US.BOI",{"$f":"IFERROR(RTD(\"cqg.rtd\", ,\"ContractData\",C2009, \"PerCentNetLastTrade\",, \"T\")/100,\"\")","v":-4.830917874396135E-3},1773,1773,"S.US.BOI",2009,"S.US.EPC"]
[null,null,"S.US.DCUC",{"$f":"IFERROR(RTD(\"cqg.rtd\", ,\"ContractData\",C2010, \"PerCentNetLastTrade\",, \"T\")/100,\"\")","v":-1.5496273048254216E-2},2278,2278,"S.US.DCUC",2010,"S.US.EDU"]
[null,null,"S.US.DCO",{"$f":"IFERROR(RTD(\"cqg.rtd\", ,\"ContractData\",C2011, \"PerCentNetLastTrade\",, \"T\")/100,\"\")","v":1.2741046831955921E-2},598,598,"S.US.DCO",2011,"S.US.NEV"]
[null,null,"S.US.TNC",{"$f":"IFERROR(RTD(\"cqg.rtd\", ,\"ContractData\",C2012, \"PerCentNetLastTrade\",, \"T\")/100,\"\")","v":1.6903313049357674E-2},480,480,"S.US.TNC",2012,"S.US.BFZ"]
[null,null,"S.US.AMRC",{"$f":"IFERROR(RTD(\"cqg.rtd\", ,\"ContractData\",C2013, \"PerCentNetLastTrade\",, \"T\")/100,\"\")","v":8.3333333333333332E-3},792,792,"S.US.AMRC",2013,"S.US.FMS"]
[null,null,"S.US.MMD",{"$f":"IFERROR(RTD(\"cqg.rtd\", ,\"ContractData\",C2014, \"PerCentNetLastTrade\",, \"T\")/100,\"\")","v":-9.7455332972387655E-3},2074,2074,"S.US.MMD",2014,"S.US.UE"]
[null,null,"S.US.MHI",{"$f":"IFERROR(RTD(\"cqg.rtd\", ,\"ContractData\",C2015, \"PerCentNetLastTrade\",, \"T\")/100,\"\")","v":-1.6949152542372881E-3},1506,1506,"S.US.MHI",2015,"S.US.RCI"]
[null,null,"S.US.EFC",{"$f":"IFERROR(RTD(\"cqg.rtd\", ,\"ContractData\",C2016, \"PerCentNetLastTrade\",, \"T\")/100,\"\")","v":-4.3586550435865505E-3},1736,1736,"S.US.EFC",2016,"S.US.KT"]
[null,null,"S.US.EVN",{"$f":"IFERROR(RTD(\"cqg.rtd\", ,\"ContractData\",C2017, \"PerCentNetLastTrade\",, \"T\")/100,\"\")","v":-5.6634304207119745E-3},1834,1834,"S.US.EVN",2017,"S.US.SNE"]
[null,null,"S.US.TSI",{"$f":"IFERROR(RTD(\"cqg.rtd\", ,\"ContractData\",C2018, \"PerCentNetLastTrade\",, \"T\")/100,\"\")","v":0},1358,1358,"S.US.TSI",2018,"S.US.PNF"]
[null,null,"S.US.BSL",{"$f":"IFERROR(RTD(\"cqg.rtd\", ,\"ContractData\",C2019, \"PerCentNetLastTrade\",, \"T\")/100,\"\")","v":1.0838562464346835E-2},671,671,"S.US.BSL",2019,"S.US.KRC"]
[null,null,"S.US.HPI",{"$f":"IFERROR(RTD(\"cqg.rtd\", ,\"ContractData\",C2020, \"PerCentNetLastTrade\",, \"T\")/100,\"\")","v":-7.0316423907584129E-3},1938,1938,"S.US.HPI",2020,"S.US.ATR"]
[null,null,"S.US.UTI",{"$f":"IFERROR(RTD(\"cqg.rtd\", ,\"ContractData\",C2021, \"PerCentNetLastTrade\",, \"T\")/100,\"\")","v":4.5454545454545456E-2},172,172,"S.US.UTI",2021,"S.US.IVR"]
[null,null,"S.US.SNOW",{"$f":"IFERROR(RTD(\"cqg.rtd\", ,\"ContractData\",C2022, \"PerCentNetLastTrade\",, \"T\")/100,\"\")","v":2.7373325567850902E-2},305,305,"S.US.SNOW",2022,"S.US.NRK"]
[null,null,"S.US.PKO",{"$f":"IFERROR(RTD(\"cqg.rtd\", ,\"ContractData\",C2023, \"PerCentNetLastTrade\",, \"T\")/100,\"\")","v":3.4677069787602947E-3},1083,1083,"S.US.PKO",2023,"S.US.COE"]
[null,null,"S.US.EHIC",{"$f":"IFERROR(RTD(\"cqg.rtd\", ,\"ContractData\",C2024, \"PerCentNetLastTrade\",, \"T\")/100,\"\")","v":-1.69971671388102E-2},2310,2310,"S.US.EHIC",2024,"S.US.CHH"]
[null,null,"S.US.RM",{"$f":"IFERROR(RTD(\"cqg.rtd\", ,\"ContractData\",C2025, \"PerCentNetLastTrade\",, \"T\")/100,\"\")","v":1.8092105263157895E-2},449,449,"S.US.RM",2025,"S.US.XRS"]
[null,null,"S.US.NEFF",{"$f":"IFERROR(RTD(\"cqg.rtd\", ,\"ContractData\",C2026, \"PerCentNetLastTrade\",, \"T\")/100,\"\")","v":2.2388059701492536E-2},361,361,"S.US.NEFF",2026,"S.US.WMT"]
[null,null,"S.US.CIF",{"$f":"IFERROR(RTD(\"cqg.rtd\", ,\"ContractData\",C2027, \"PerCentNetLastTrade\",, \"T\")/100,\"\")","v":4.0322580645161289E-3},1042,1042,"S.US.CIF",2027,"S.US.MHD"]
[null,null,"S.US.IVH",{"$f":"IFERROR(RTD(\"cqg.rtd\", ,\"ContractData\",C2028, \"PerCentNetLastTrade\",, \"T\")/100,\"\")","v":5.7471264367816091E-3},935,935,"S.US.IVH",2028,"S.US.ELJ"]
[null,null,"S.US.SMM",{"$f":"IFERROR(RTD(\"cqg.rtd\", ,\"ContractData\",C2029, \"PerCentNetLastTrade\",, \"T\")/100,\"\")","v":4.8589341692789965E-2},158,158,"S.US.SMM",2029,"S.US.ABT"]
[null,null,"S.US.NIE",{"$f":"IFERROR(RTD(\"cqg.rtd\", ,\"ContractData\",C2030, \"PerCentNetLastTrade\",, \"T\")/100,\"\")","v":-1.6103059581320451E-3},1501,1501,"S.US.NIE",2030,"S.US.FDS"]
[null,null,"S.US.WIA",{"$f":"IFERROR(RTD(\"cqg.rtd\", ,\"ContractData\",C2031, \"PerCentNetLastTrade\",, \"T\")/100,\"\")","v":-4.4444444444444444E-3},1741,1741,"S.US.WIA",2031,"S.US.ENIA"]
[null,null,"S.US.HYB",{"$f":"IFERROR(RTD(\"cqg.rtd\", ,\"ContractData\",C2032, \"PerCentNetLastTrade\",, \"T\")/100,\"\")","v":1.1061946902654867E-3},1259,1259,"S.US.HYB",2032,"S.US.MHN"]
[null,null,"S.US.CGA",{"$f":"IFERROR(RTD(\"cqg.rtd\", ,\"ContractData\",C2033, \"PerCentNetLastTrade\",, \"T\")/100,\"\")","v":8.0645161290322578E-3},803,803,"S.US.CGA",2033,"S.US.CUBE"]
[null,null,"S.US.MUA",{"$f":"IFERROR(RTD(\"cqg.rtd\", ,\"ContractData\",C2034, \"PerCentNetLastTrade\",, \"T\")/100,\"\")","v":-2.9784065524944155E-3},1624,1624,"S.US.MUA",2034,"S.US.NIQ"]
[null,null,"S.US.BMA",{"$f":"IFERROR(RTD(\"cqg.rtd\", ,\"ContractData\",C2035, \"PerCentNetLastTrade\",, \"T\")/100,\"\")","v":-7.0637119113573406E-3},1939,1939,"S.US.BMA",2035,"S.US.NGG"]
[null,null,"S.US.AVK",{"$f":"IFERROR(RTD(\"cqg.rtd\", ,\"ContractData\",C2036, \"PerCentNetLastTrade\",, \"T\")/100,\"\")","v":-1.4005602240896359E-3},1481,1481,"S.US.AVK",2036,"S.US.ORAN"]
[null,null,"S.US.WMK",{"$f":"IFERROR(RTD(\"cqg.rtd\", ,\"ContractData\",C2037, \"PerCentNetLastTrade\",, \"T\")/100,\"\")","v":3.498338289312577E-4},1319,1319,"S.US.WMK",2037,"S.US.JDD"]
[null,null,"S.US.EVF",{"$f":"IFERROR(RTD(\"cqg.rtd\", ,\"ContractData\",C2038, \"PerCentNetLastTrade\",, \"T\")/100,\"\")","v":7.6804915514592934E-3},830,830,"S.US.EVF",2038,"S.US.DHR"]
[null,null,"S.US.TSNU",{"$f":"IFERROR(RTD(\"cqg.rtd\", ,\"ContractData\",C2039, \"PerCentNetLastTrade\",, \"T\")/100,\"\")","v":-1.6967453339503315E-2},2309,2309,"S.US.TSNU",2039,"S.US.STON"]
[null,null,"S.US.MN",{"$f":"IFERROR(RTD(\"cqg.rtd\", ,\"ContractData\",C2040, \"PerCentNetLastTrade\",, \"T\")/100,\"\")","v":2.0408163265306124E-2},394,394,"S.US.MN",2040,"S.US.SERV"]
[null,null,"S.US.IRS",{"$f":"IFERROR(RTD(\"cqg.rtd\", ,\"ContractData\",C2041, \"PerCentNetLastTrade\",, \"T\")/100,\"\")","v":-3.2467532467532465E-3},1646,1646,"S.US.IRS",2041,"S.US.EOCA"]
[null,null,"S.US.PEO",{"$f":"IFERROR(RTD(\"cqg.rtd\", ,\"ContractData\",C2042, \"PerCentNetLastTrade\",, \"T\")/100,\"\")","v":3.4392912975508082E-2},242,242,"S.US.PEO",2042,"S.US.VPV"]
[null,null,"S.US.TR",{"$f":"IFERROR(RTD(\"cqg.rtd\", ,\"ContractData\",C2043, \"PerCentNetLastTrade\",, \"T\")/100,\"\")","v":-1.4267185473411154E-2},2244,2244,"S.US.TR",2043,"S.US.NEA"]
[null,null,"S.US.GUT",{"$f":"IFERROR(RTD(\"cqg.rtd\", ,\"ContractData\",C2044, \"PerCentNetLastTrade\",, \"T\")/100,\"\")","v":-3.2000000000000002E-3},1642,1642,"S.US.GUT",2044,"S.US.SUPV"]
[null,null,"S.US.MCRN",{"$f":"IFERROR(RTD(\"cqg.rtd\", ,\"ContractData\",C2045, \"PerCentNetLastTrade\",, \"T\")/100,\"\")","v":7.7473182359952316E-3},824,824,"S.US.MCRN",2045,"S.US.PVG"]
[null,null,"S.US.CNCO",{"$f":"IFERROR(RTD(\"cqg.rtd\", ,\"ContractData\",C2046, \"PerCentNetLastTrade\",, \"T\")/100,\"\")","v":1.2761020881670533E-2},597,597,"S.US.CNCO",2046,"S.US.PSTG"]
[null,null,"S.US.OB",{"$f":"IFERROR(RTD(\"cqg.rtd\", ,\"ContractData\",C2047, \"PerCentNetLastTrade\",, \"T\")/100,\"\")","v":1.075268817204301E-2},673,673,"S.US.OB",2047,"S.US.VNTV"]
[null,null,"S.US.AGC",{"$f":"IFERROR(RTD(\"cqg.rtd\", ,\"ContractData\",C2048, \"PerCentNetLastTrade\",, \"T\")/100,\"\")","v":-3.5971223021582731E-3},1673,1673,"S.US.AGC",2048,"S.US.GSK"]
[null,null,"S.US.VTN",{"$f":"IFERROR(RTD(\"cqg.rtd\", ,\"ContractData\",C2049, \"PerCentNetLastTrade\",, \"T\")/100,\"\")","v":-5.2750565184626974E-3},1810,{"$f":"IFERROR(E2049,\"\")","v":1810},{"$f":"C2049","v":"S.US.VTN"},2049,{"$f":"IFERROR(VLOOKUP(H2049,$F$1:$G$2522,2,FALSE),\"\")","v":"S.US.ASR"}]
[null,null,"S.US.BKN",{"$f":"IFERROR(RTD(\"cqg.rtd\", ,\"ContractData\",C2050, \"PerCentNetLastTrade\",, \"T\")/100,\"\")","v":-4.8010973936899867E-3},1769,1769,"S.US.BKN",{"$f":"H2049+1","v":2050},"S.US.GEK"]
[null,null,"S.US.ANFI",{"$f":"IFERROR(RTD(\"cqg.rtd\", ,\"ContractData\",C2051, \"PerCentNetLastTrade\",, \"T\")/100,\"\")","v":-2.2613065326633163E-2},2401,2401,"S.US.ANFI",2051,"S.US.DKS"]
[null,null,"S.US.DEX",{"$f":"IFERROR(RTD(\"cqg.rtd\", ,\"ContractData\",C2052, \"PerCentNetLastTrade\",, \"T\")/100,\"\")","v":0},1359,1359,"S.US.DEX",2052,"S.US.UAL"]
[null,null,"S.US.KWR",{"$f":"IFERROR(RTD(\"cqg.rtd\", ,\"ContractData\",C2053, \"PerCentNetLastTrade\",, \"T\")/100,\"\")","v":1.6724013763303194E-2},483,483,"S.US.KWR",2053,"S.US.ARR"]
[null,null,"S.US.FIF",{"$f":"IFERROR(RTD(\"cqg.rtd\", ,\"ContractData\",C2054, \"PerCentNetLastTrade\",, \"T\")/100,\"\")","v":3.6936447582835416E-2},222,222,"S.US.FIF",2054,"S.US.TAHO"]
[null,null,"S.US.CMU",{"$f":"IFERROR(RTD(\"cqg.rtd\", ,\"ContractData\",C2055, \"PerCentNetLastTrade\",, \"T\")/100,\"\")","v":-1.1415525114155252E-2},2139,2139,"S.US.CMU",2055,"S.US.CXP"]
[null,null,"S.US.HY",{"$f":"IFERROR(RTD(\"cqg.rtd\", ,\"ContractData\",C2056, \"PerCentNetLastTrade\",, \"T\")/100,\"\")","v":9.8400984009840101E-3},717,717,"S.US.HY",2056,"S.US.NWY"]
[null,null,"S.US.KNOP",{"$f":"IFERROR(RTD(\"cqg.rtd\", ,\"ContractData\",C2057, \"PerCentNetLastTrade\",, \"T\")/100,\"\")","v":4.5662100456621002E-3},1004,1004,"S.US.KNOP",2057,"S.US.BNJ"]
[null,null,"S.US.SPA",{"$f":"IFERROR(RTD(\"cqg.rtd\", ,\"ContractData\",C2058, \"PerCentNetLastTrade\",, \"T\")/100,\"\")","v":0},1360,1360,"S.US.SPA",2058,"S.US.ANH"]
[null,null,"S.US.AIF",{"$f":"IFERROR(RTD(\"cqg.rtd\", ,\"ContractData\",C2059, \"PerCentNetLastTrade\",, \"T\")/100,\"\")","v":0},1361,1361,"S.US.AIF",2059,"S.US.XON"]
[null,null,"S.US.ASR",{"$f":"IFERROR(RTD(\"cqg.rtd\", ,\"ContractData\",C2060, \"PerCentNetLastTrade\",, \"T\")/100,\"\")","v":-9.1580098414434114E-3},2049,2049,"S.US.ASR",2060,"S.US.FAF"]
[null,null,"S.US.CXE",{"$f":"IFERROR(RTD(\"cqg.rtd\", ,\"ContractData\",C2061, \"PerCentNetLastTrade\",, \"T\")/100,\"\")","v":-6.2893081761006284E-3},1890,1890,"S.US.CXE",2061,"S.US.WYN"]
[null,null,"S.US.MUJ",{"$f":"IFERROR(RTD(\"cqg.rtd\", ,\"ContractData\",C2062, \"PerCentNetLastTrade\",, \"T\")/100,\"\")","v":-6.4377682403433476E-3},1905,1905,"S.US.MUJ",2062,"S.US.PDM"]
[null,null,"S.US.GGT",{"$f":"IFERROR(RTD(\"cqg.rtd\", ,\"ContractData\",C2063, \"PerCentNetLastTrade\",, \"T\")/100,\"\")","v":7.9575596816976128E-3},812,812,"S.US.GGT",2063,"S.US.AI"]
[null,null,"S.US.EDI",{"$f":"IFERROR(RTD(\"cqg.rtd\", ,\"ContractData\",C2064, \"PerCentNetLastTrade\",, \"T\")/100,\"\")","v":7.6045627376425851E-4},1291,1291,"S.US.EDI",2064,"S.US.SJR"]
[null,null,"S.US.HPF",{"$f":"IFERROR(RTD(\"cqg.rtd\", ,\"ContractData\",C2065, \"PerCentNetLastTrade\",, \"T\")/100,\"\")","v":-8.0523402113739304E-3},1990,1990,"S.US.HPF",2065,"S.US.FRT"]
[null,null,"S.US.ZTR",{"$f":"IFERROR(RTD(\"cqg.rtd\", ,\"ContractData\",C2066, \"PerCentNetLastTrade\",, \"T\")/100,\"\")","v":-1.7730496453900709E-3},1511,1511,"S.US.ZTR",2066,"S.US.CAF"]
[null,null,"S.US.AGM",{"$f":"IFERROR(RTD(\"cqg.rtd\", ,\"ContractData\",C2067, \"PerCentNetLastTrade\",, \"T\")/100,\"\")","v":0},1362,1362,"S.US.AGM",2067,"S.US.AR"]
[null,null,"S.US.CTY",{"$f":"IFERROR(RTD(\"cqg.rtd\", ,\"ContractData\",C2068, \"PerCentNetLastTrade\",, \"T\")/100,\"\")","v":-7.1972904318374263E-3},1946,1946,"S.US.CTY",2068,"S.US.AB"]
[null,null,"S.US.IGA",{"$f":"IFERROR(RTD(\"cqg.rtd\", ,\"ContractData\",C2069, \"PerCentNetLastTrade\",, \"T\")/100,\"\")","v":0},1363,1363,"S.US.IGA",2069,"S.US.CCE"]
[null,null,"S.US.RST",{"$f":"IFERROR(RTD(\"cqg.rtd\", ,\"ContractData\",C2070, \"PerCentNetLastTrade\",, \"T\")/100,\"\")","v":-1.6470588235294115E-2},2301,2301,"S.US.RST",2070,"S.US.NUS"]
[null,null,"S.US.LXFR",{"$f":"IFERROR(RTD(\"cqg.rtd\", ,\"ContractData\",C2071, \"PerCentNetLastTrade\",, \"T\")/100,\"\")","v":9.1659028414298807E-3},748,748,"S.US.LXFR",2071,"S.US.PDT"]
[null,null,"S.US.FCT",{"$f":"IFERROR(RTD(\"cqg.rtd\", ,\"ContractData\",C2072, \"PerCentNetLastTrade\",, \"T\")/100,\"\")","v":0},1364,1364,"S.US.FCT",2072,"S.US.COTY"]
[null,null,"S.US.ETB",{"$f":"IFERROR(RTD(\"cqg.rtd\", ,\"ContractData\",C2073, \"PerCentNetLastTrade\",, \"T\")/100,\"\")","v":-3.4944670937682005E-3},1664,1664,"S.US.ETB",2073,"S.US.OGS"]
[null,null,"S.US.NOA",{"$f":"IFERROR(RTD(\"cqg.rtd\", ,\"ContractData\",C2074, \"PerCentNetLastTrade\",, \"T\")/100,\"\")","v":5.7971014492753624E-2},130,130,"S.US.NOA",2074,"S.US.MMD"]
[null,null,"S.US.MGF",{"$f":"IFERROR(RTD(\"cqg.rtd\", ,\"ContractData\",C2075, \"PerCentNetLastTrade\",, \"T\")/100,\"\")","v":-1.976284584980237E-3},1533,1533,"S.US.MGF",2075,"S.US.DPZ"]
[null,null,"S.US.JSD",{"$f":"IFERROR(RTD(\"cqg.rtd\", ,\"ContractData\",C2076, \"PerCentNetLastTrade\",, \"T\")/100,\"\")","v":0},1365,1365,"S.US.JSD",2076,"S.US.TYL"]
[null,null,"S.US.RLH",{"$f":"IFERROR(RTD(\"cqg.rtd\", ,\"ContractData\",C2077, \"PerCentNetLastTrade\",, \"T\")/100,\"\")","v":1.1235955056179777E-2},658,658,"S.US.RLH",2077,"S.US.BOXC"]
[null,null,"S.US.HNP",{"$f":"IFERROR(RTD(\"cqg.rtd\", ,\"ContractData\",C2078, \"PerCentNetLastTrade\",, \"T\")/100,\"\")","v":1.5968063872255488E-3},1222,1222,"S.US.HNP",2078,"S.US.UFI"]
[null,null,"S.US.NWY",{"$f":"IFERROR(RTD(\"cqg.rtd\", ,\"ContractData\",C2079, \"PerCentNetLastTrade\",, \"T\")/100,\"\")","v":-9.433962264150943E-3},2056,2056,"S.US.NWY",2079,"S.US.SWX"]
[null,null,"S.US.MYC",{"$f":"IFERROR(RTD(\"cqg.rtd\", ,\"ContractData\",C2080, \"PerCentNetLastTrade\",, \"T\")/100,\"\")","v":-2.6827632461435282E-3},1595,1595,"S.US.MYC",2080,"S.US.MTT"]
[null,null,"S.US.DKL",{"$f":"IFERROR(RTD(\"cqg.rtd\", ,\"ContractData\",C2081, \"PerCentNetLastTrade\",, \"T\")/100,\"\")","v":3.0364372469635626E-2},279,279,"S.US.DKL",2081,"S.US.USFD"]
[null,null,"S.US.TAC",{"$f":"IFERROR(RTD(\"cqg.rtd\", ,\"ContractData\",C2082, \"PerCentNetLastTrade\",, \"T\")/100,\"\")","v":1.6666666666666666E-2},484,484,"S.US.TAC",2082,"S.US.AU"]
[null,null,"S.US.ERA",{"$f":"IFERROR(RTD(\"cqg.rtd\", ,\"ContractData\",C2083, \"PerCentNetLastTrade\",, \"T\")/100,\"\")","v":0.11965811965811966},43,43,"S.US.ERA",2083,"S.US.PPL"]
[null,null,"S.US.JPI",{"$f":"IFERROR(RTD(\"cqg.rtd\", ,\"ContractData\",C2084, \"PerCentNetLastTrade\",, \"T\")/100,\"\")","v":-4.3421623968736426E-3},1735,1735,"S.US.JPI",2084,"S.US.OA"]
[null,null,"S.US.AGD",{"$f":"IFERROR(RTD(\"cqg.rtd\", ,\"ContractData\",C2085, \"PerCentNetLastTrade\",, \"T\")/100,\"\")","v":1.1600928074245939E-3},1256,1256,"S.US.AGD",2085,"S.US.MYE"]
[null,null,"S.US.ELC",{"$f":"IFERROR(RTD(\"cqg.rtd\", ,\"ContractData\",C2086, \"PerCentNetLastTrade\",, \"T\")/100,\"\")","v":-1.2605042016806723E-2},2183,2183,"S.US.ELC",2086,"S.US.SCM"]
[null,null,"S.US.ARDC",{"$f":"IFERROR(RTD(\"cqg.rtd\", ,\"ContractData\",C2087, \"PerCentNetLastTrade\",, \"T\")/100,\"\")","v":6.1475409836065573E-3},906,906,"S.US.ARDC",2087,"S.US.HQL"]
[null,null,"S.US.MYE",{"$f":"IFERROR(RTD(\"cqg.rtd\", ,\"ContractData\",C2088, \"PerCentNetLastTrade\",, \"T\")/100,\"\")","v":-1.0033444816053512E-2},2085,2085,"S.US.MYE",2088,"S.US.GGP"]
[null,null,"S.US.IRR",{"$f":"IFERROR(RTD(\"cqg.rtd\", ,\"ContractData\",C2089, \"PerCentNetLastTrade\",, \"T\")/100,\"\")","v":3.669724770642202E-2},226,226,"S.US.IRR",2089,"S.US.BYM"]
[null,null,"S.US.YGE",{"$f":"IFERROR(RTD(\"cqg.rtd\", ,\"ContractData\",C2090, \"PerCentNetLastTrade\",, \"T\")/100,\"\")","v":-3.3132530120481923E-2},2456,2456,"S.US.YGE",2090,"S.US.BFA"]
[null,null,"S.US.VZA",{"$f":"IFERROR(RTD(\"cqg.rtd\", ,\"ContractData\",C2091, \"PerCentNetLastTrade\",, \"T\")/100,\"\")","v":-7.7519379844961248E-3},1972,1972,"S.US.VZA",2091,"S.US.JPS"]
[null,null,"S.US.IO",{"$f":"IFERROR(RTD(\"cqg.rtd\", ,\"ContractData\",C2092, \"PerCentNetLastTrade\",, \"T\")/100,\"\")","v":7.0911722141823438E-2},108,108,"S.US.IO",2092,"S.US.NAN"]
[null,null,"S.US.ARES",{"$f":"IFERROR(RTD(\"cqg.rtd\", ,\"ContractData\",C2093, \"PerCentNetLastTrade\",, \"T\")/100,\"\")","v":1.4836795252225518E-2},530,530,"S.US.ARES",2093,"S.US.RPAI"]
[null,null,"S.US.GPM",{"$f":"IFERROR(RTD(\"cqg.rtd\", ,\"ContractData\",C2094, \"PerCentNetLastTrade\",, \"T\")/100,\"\")","v":-6.2814070351758797E-3},1887,1887,"S.US.GPM",2094,"S.US.BBN"]
[null,null,"S.US.KDMN",{"$f":"IFERROR(RTD(\"cqg.rtd\", ,\"ContractData\",C2095, \"PerCentNetLastTrade\",, \"T\")/100,\"\")","v":-3.6750483558994199E-2},2460,2460,"S.US.KDMN",2095,"S.US.SJI"]
[null,null,"S.US.NTZ",{"$f":"IFERROR(RTD(\"cqg.rtd\", ,\"ContractData\",C2096, \"PerCentNetLastTrade\",, \"T\")/100,\"\")","v":1.2195121951219513E-2},618,618,"S.US.NTZ",2096,"S.US.PHM"]
[null,null,"S.US.KIO",{"$f":"IFERROR(RTD(\"cqg.rtd\", ,\"ContractData\",C2097, \"PerCentNetLastTrade\",, \"T\")/100,\"\")","v":4.4871794871794877E-3},1011,1011,"S.US.KIO",2097,"S.US.ATHM"]
[null,null,"S.US.MRIN",{"$f":"IFERROR(RTD(\"cqg.rtd\", ,\"ContractData\",C2098, \"PerCentNetLastTrade\",, \"T\")/100,\"\")","v":0},1366,1366,"S.US.MRIN",2098,"S.US.LXP"]
[null,null,"S.US.TTP",{"$f":"IFERROR(RTD(\"cqg.rtd\", ,\"ContractData\",C2099, \"PerCentNetLastTrade\",, \"T\")/100,\"\")","v":3.7999037999038004E-2},210,210,"S.US.TTP",2099,"S.US.EAE"]
[null,null,"S.US.BYM",{"$f":"IFERROR(RTD(\"cqg.rtd\", ,\"ContractData\",C2100, \"PerCentNetLastTrade\",, \"T\")/100,\"\")","v":-1.0181818181818181E-2},2089,2089,"S.US.BYM",2100,"S.US.MFM"]
[null,null,"S.US.NDP",{"$f":"IFERROR(RTD(\"cqg.rtd\", ,\"ContractData\",C2101, \"PerCentNetLastTrade\",, \"T\")/100,\"\")","v":5.9932659932659928E-2},123,123,"S.US.NDP",2101,"S.US.JPC"]
[null,null,"S.US.TG",{"$f":"IFERROR(RTD(\"cqg.rtd\", ,\"ContractData\",C2102, \"PerCentNetLastTrade\",, \"T\")/100,\"\")","v":3.0634573304157548E-2},276,276,"S.US.TG",2102,"S.US.PPS"]
[null,null,"S.US.ACH",{"$f":"IFERROR(RTD(\"cqg.rtd\", ,\"ContractData\",C2103, \"PerCentNetLastTrade\",, \"T\")/100,\"\")","v":-3.6941580756013746E-2},2461,2461,"S.US.ACH",2103,"S.US.JMEI"]
[null,null,"S.US.PCQ",{"$f":"IFERROR(RTD(\"cqg.rtd\", ,\"ContractData\",C2104, \"PerCentNetLastTrade\",, \"T\")/100,\"\")","v":-1.3012361743656473E-2},2196,2196,"S.US.PCQ",2104,"S.US.UGI"]
[null,null,"S.US.EMF",{"$f":"IFERROR(RTD(\"cqg.rtd\", ,\"ContractData\",C2105, \"PerCentNetLastTrade\",, \"T\")/100,\"\")","v":4.163197335553705E-3},1036,1036,"S.US.EMF",2105,"S.US.SGZA"]
[null,null,"S.US.SHG",{"$f":"IFERROR(RTD(\"cqg.rtd\", ,\"ContractData\",C2106, \"PerCentNetLastTrade\",, \"T\")/100,\"\")","v":7.1561091969255227E-3},857,857,"S.US.SHG",2106,"S.US.ORA"]
[null,null,"S.US.XRM",{"$f":"IFERROR(RTD(\"cqg.rtd\", ,\"ContractData\",C2107, \"PerCentNetLastTrade\",, \"T\")/100,\"\")","v":-4.9504950495049506E-3},1780,1780,"S.US.XRM",2107,"S.US.MPW"]
[null,null,"S.US.ITCB",{"$f":"IFERROR(RTD(\"cqg.rtd\", ,\"ContractData\",C2108, \"PerCentNetLastTrade\",, \"T\")/100,\"\")","v":1.6515276630883566E-2},490,490,"S.US.ITCB",2108,"S.US.RNP"]
[null,null,"S.US.MGU",{"$f":"IFERROR(RTD(\"cqg.rtd\", ,\"ContractData\",C2109, \"PerCentNetLastTrade\",, \"T\")/100,\"\")","v":-1.5353121801432959E-3},1493,1493,"S.US.MGU",2109,"S.US.KIM"]
[null,null,"S.US.BGX",{"$f":"IFERROR(RTD(\"cqg.rtd\", ,\"ContractData\",C2110, \"PerCentNetLastTrade\",, \"T\")/100,\"\")","v":-1.3054830287206269E-3},1469,1469,"S.US.BGX",2110,"S.US.PN"]
[null,null,"S.US.SCM",{"$f":"IFERROR(RTD(\"cqg.rtd\", ,\"ContractData\",C2111, \"PerCentNetLastTrade\",, \"T\")/100,\"\")","v":-1.0075566750629723E-2},2086,2086,"S.US.SCM",2111,"S.US.VLRS"]
[null,null,"S.US.NWHM",{"$f":"IFERROR(RTD(\"cqg.rtd\", ,\"ContractData\",C2112, \"PerCentNetLastTrade\",, \"T\")/100,\"\")","v":-3.4305317324185248E-3},1660,1660,"S.US.NWHM",2112,"S.US.GTY"]
[null,null,"S.US.TCPI",{"$f":"IFERROR(RTD(\"cqg.rtd\", ,\"ContractData\",C2113, \"PerCentNetLastTrade\",, \"T\")/100,\"\")","v":""},{"$error":"#VALUE!"},{"$f":"IFERROR(E2113,\"\")","v":""},{"$f":"C2113","v":"S.US.TCPI"},2113,{"$f":"IFERROR(VLOOKUP(H2113,$F$1:$G$2522,2,FALSE),\"\")","v":"S.US.CSRA"}]
[null,null,"S.US.MSD",{"$f":"IFERROR(RTD(\"cqg.rtd\", ,\"ContractData\",C2114, \"PerCentNetLastTrade\",, \"T\")/100,\"\")","v":3.2930845225027446E-3},1097,1097,"S.US.MSD",{"$f":"H2113+1","v":2114},"S.US.DEA"]
[null,null,"S.US.SFE",{"$f":"IFERROR(RTD(\"cqg.rtd\", ,\"ContractData\",C2115, \"PerCentNetLastTrade\",, \"T\")/100,\"\")","v":1.7021276595744681E-2},474,474,"S.US.SFE",2115,"S.US.RFI"]
[null,null,"S.US.CDI",{"$f":"IFERROR(RTD(\"cqg.rtd\", ,\"ContractData\",C2116, \"PerCentNetLastTrade\",, \"T\")/100,\"\")","v":-2.3529411764705882E-2},2417,2417,"S.US.CDI",2116,"S.US.DW"]
[null,null,"S.US.VGI",{"$f":"IFERROR(RTD(\"cqg.rtd\", ,\"ContractData\",C2117, \"PerCentNetLastTrade\",, \"T\")/100,\"\")","v":1.3342228152101402E-3},1239,1239,"S.US.VGI",2117,"S.US.IRET"]
[null,null,"S.US.ZF",{"$f":"IFERROR(RTD(\"cqg.rtd\", ,\"ContractData\",C2118, \"PerCentNetLastTrade\",, \"T\")/100,\"\")","v":-8.7642418930762491E-4},1437,1437,"S.US.ZF",2118,"S.US.OIA"]
[null,null,"S.US.LEJU",{"$f":"IFERROR(RTD(\"cqg.rtd\", ,\"ContractData\",C2119, \"PerCentNetLastTrade\",, \"T\")/100,\"\")","v":9.6618357487922701E-3},721,721,"S.US.LEJU",2119,"S.US.UMC"]
[null,null,"S.US.MIY",{"$f":"IFERROR(RTD(\"cqg.rtd\", ,\"ContractData\",C2120, \"PerCentNetLastTrade\",, \"T\")/100,\"\")","v":-1.2639405204460967E-2},2186,2186,"S.US.MIY",2120,"S.US.MKC"]
[null,null,"S.US.DEL",{"$f":"IFERROR(RTD(\"cqg.rtd\", ,\"ContractData\",C2121, \"PerCentNetLastTrade\",, \"T\")/100,\"\")","v":8.4947839046199698E-3},776,776,"S.US.DEL",2121,"S.US.BDN"]
[null,null,"S.US.TDF",{"$f":"IFERROR(RTD(\"cqg.rtd\", ,\"ContractData\",C2122, \"PerCentNetLastTrade\",, \"T\")/100,\"\")","v":6.5320665083135384E-3},890,890,"S.US.TDF",2122,"S.US.RMAX"]
[null,null,"S.US.NQP",{"$f":"IFERROR(RTD(\"cqg.rtd\", ,\"ContractData\",C2123, \"PerCentNetLastTrade\",, \"T\")/100,\"\")","v":-6.8027210884353739E-3},1924,1924,"S.US.NQP",2123,"S.US.BME"]
[null,null,"S.US.MHF",{"$f":"IFERROR(RTD(\"cqg.rtd\", ,\"ContractData\",C2124, \"PerCentNetLastTrade\",, \"T\")/100,\"\")","v":-2.8129395218002813E-3},1605,1605,"S.US.MHF",2124,"S.US.ASX"]
[null,null,"S.US.NDRO",{"$f":"IFERROR(RTD(\"cqg.rtd\", ,\"ContractData\",C2125, \"PerCentNetLastTrade\",, \"T\")/100,\"\")","v":5.8333333333333327E-2},129,129,"S.US.NDRO",2125,"S.US.AKR"]
[null,null,"S.US.DQ",{"$f":"IFERROR(RTD(\"cqg.rtd\", ,\"ContractData\",C2126, \"PerCentNetLastTrade\",, \"T\")/100,\"\")","v":1.2987012987012986E-2},588,588,"S.US.DQ",2126,"S.US.KMB"]
[null,null,"S.US.DCA",{"$f":"IFERROR(RTD(\"cqg.rtd\", ,\"ContractData\",C2127, \"PerCentNetLastTrade\",, \"T\")/100,\"\")","v":0},1367,1367,"S.US.DCA",2127,"S.US.IMAX"]
[null,null,"S.US.PKE",{"$f":"IFERROR(RTD(\"cqg.rtd\", ,\"ContractData\",C2128, \"PerCentNetLastTrade\",, \"T\")/100,\"\")","v":0},1368,1368,"S.US.PKE",2128,"S.US.MODN"]
[null,null,"S.US.FC",{"$f":"IFERROR(RTD(\"cqg.rtd\", ,\"ContractData\",C2129, \"PerCentNetLastTrade\",, \"T\")/100,\"\")","v":2.3866348448687348E-3},1160,1160,"S.US.FC",2129,"S.US.PX"]
[null,null,"S.US.MPX",{"$f":"IFERROR(RTD(\"cqg.rtd\", ,\"ContractData\",C2130, \"PerCentNetLastTrade\",, \"T\")/100,\"\")","v":-7.8534031413612579E-3},1978,1978,"S.US.MPX",2130,"S.US.PRH"]
[null,null,"S.US.CPK",{"$f":"IFERROR(RTD(\"cqg.rtd\", ,\"ContractData\",C2131, \"PerCentNetLastTrade\",, \"T\")/100,\"\")","v":-4.4576523031203573E-3},1744,1744,"S.US.CPK",2131,"S.US.CUZ"]
[null,null,"S.US.PGP",{"$f":"IFERROR(RTD(\"cqg.rtd\", ,\"ContractData\",C2132, \"PerCentNetLastTrade\",, \"T\")/100,\"\")","v":8.9686098654708519E-3},757,757,"S.US.PGP",2132,"S.US.MDU"]
[null,null,"S.US.OOMA",{"$f":"IFERROR(RTD(\"cqg.rtd\", ,\"ContractData\",C2133, \"PerCentNetLastTrade\",, \"T\")/100,\"\")","v":-5.7894736842105263E-2},2469,2469,"S.US.OOMA",2133,"S.US.BR"]
[null,null,"S.US.OPY",{"$f":"IFERROR(RTD(\"cqg.rtd\", ,\"ContractData\",C2134, \"PerCentNetLastTrade\",, \"T\")/100,\"\")","v":1.0869565217391304E-3},1261,1261,"S.US.OPY",2134,"S.US.PLD"]
[null,null,"S.US.NIQ",{"$f":"IFERROR(RTD(\"cqg.rtd\", ,\"ContractData\",C2135, \"PerCentNetLastTrade\",, \"T\")/100,\"\")","v":-8.8852988691437811E-3},2034,2034,"S.US.NIQ",2135,"S.US.POST"]
[null,null,"S.US.MFCB",{"$f":"IFERROR(RTD(\"cqg.rtd\", ,\"ContractData\",C2136, \"PerCentNetLastTrade\",, \"T\")/100,\"\")","v":4.9261083743842367E-2},154,154,"S.US.MFCB",2136,"S.US.MYF"]
[null,null,"S.US.SXI",{"$f":"IFERROR(RTD(\"cqg.rtd\", ,\"ContractData\",C2137, \"PerCentNetLastTrade\",, \"T\")/100,\"\")","v":6.2146892655367235E-3},902,902,"S.US.SXI",2137,"S.US.FMX"]
[null,null,"S.US.SPXX",{"$f":"IFERROR(RTD(\"cqg.rtd\", ,\"ContractData\",C2138, \"PerCentNetLastTrade\",, \"T\")/100,\"\")","v":-7.1377587437544622E-4},1417,1417,"S.US.SPXX",2138,"S.US.HTY"]
[null,null,"S.US.BORN",{"$f":"IFERROR(RTD(\"cqg.rtd\", ,\"ContractData\",C2139, \"PerCentNetLastTrade\",, \"T\")/100,\"\")","v":0},1369,1369,"S.US.BORN",2139,"S.US.CMU"]
[null,null,"S.US.ALG",{"$f":"IFERROR(RTD(\"cqg.rtd\", ,\"ContractData\",C2140, \"PerCentNetLastTrade\",, \"T\")/100,\"\")","v":9.4517958412098301E-4},1278,1278,"S.US.ALG",2140,"S.US.PPP"]
[null,null,"S.US.PRH",{"$f":"IFERROR(RTD(\"cqg.rtd\", ,\"ContractData\",C2141, \"PerCentNetLastTrade\",, \"T\")/100,\"\")","v":-1.1155378486055776E-2},2130,2130,"S.US.PRH",2141,"S.US.PBF"]
[null,null,"S.US.IHD",{"$f":"IFERROR(RTD(\"cqg.rtd\", ,\"ContractData\",C2142, \"PerCentNetLastTrade\",, \"T\")/100,\"\")","v":9.0909090909090905E-3},750,750,"S.US.IHD",2142,"S.US.FBHS"]
[null,null,"S.US.EARN",{"$f":"IFERROR(RTD(\"cqg.rtd\", ,\"ContractData\",C2143, \"PerCentNetLastTrade\",, \"T\")/100,\"\")","v":-1.3919413919413919E-2},2235,2235,"S.US.EARN",2143,"S.US.PMX"]
[null,null,"S.US.SRT",{"$f":"IFERROR(RTD(\"cqg.rtd\", ,\"ContractData\",C2144, \"PerCentNetLastTrade\",, \"T\")/100,\"\")","v":7.1090047393364934E-3},862,862,"S.US.SRT",2144,"S.US.WUBA"]
[null,null,"S.US.PFD",{"$f":"IFERROR(RTD(\"cqg.rtd\", ,\"ContractData\",C2145, \"PerCentNetLastTrade\",, \"T\")/100,\"\")","v":-5.2044609665427514E-3},1801,1801,"S.US.PFD",2145,"S.US.AZN"]
[null,null,"S.US.JMLP",{"$f":"IFERROR(RTD(\"cqg.rtd\", ,\"ContractData\",C2146, \"PerCentNetLastTrade\",, \"T\")/100,\"\")","v":5.3248136315228969E-2},139,139,"S.US.JMLP",2146,"S.US.CIVI"]
[null,null,"S.US.AFT",{"$f":"IFERROR(RTD(\"cqg.rtd\", ,\"ContractData\",C2147, \"PerCentNetLastTrade\",, \"T\")/100,\"\")","v":6.5437239738251043E-3},889,889,"S.US.AFT",2147,"S.US.MFT"]
[null,null,"S.US.EOT",{"$f":"IFERROR(RTD(\"cqg.rtd\", ,\"ContractData\",C2148, \"PerCentNetLastTrade\",, \"T\")/100,\"\")","v":-6.1934254406860413E-3},1877,1877,"S.US.EOT",2148,"S.US.T"]
[null,null,"S.US.VTTI",{"$f":"IFERROR(RTD(\"cqg.rtd\", ,\"ContractData\",C2149, \"PerCentNetLastTrade\",, \"T\")/100,\"\")","v":8.0000000000000002E-3},807,807,"S.US.VTTI",2149,"S.US.FNF"]
[null,null,"S.US.NSH",{"$f":"IFERROR(RTD(\"cqg.rtd\", ,\"ContractData\",C2150, \"PerCentNetLastTrade\",, \"T\")/100,\"\")","v":4.2857142857142858E-2},189,189,"S.US.NSH",2150,"S.US.TDA"]
[null,null,"S.US.VPV",{"$f":"IFERROR(RTD(\"cqg.rtd\", ,\"ContractData\",C2151, \"PerCentNetLastTrade\",, \"T\")/100,\"\")","v":-9.0534979423868307E-3},2042,2042,"S.US.VPV",2151,"S.US.K"]
[null,null,"S.US.EOCA",{"$f":"IFERROR(RTD(\"cqg.rtd\", ,\"ContractData\",C2152, \"PerCentNetLastTrade\",, \"T\")/100,\"\")","v":-9.0497737556561094E-3},2041,2041,"S.US.EOCA",2152,"S.US.EQY"]
[null,null,"S.US.CVO",{"$f":"IFERROR(RTD(\"cqg.rtd\", ,\"ContractData\",C2153, \"PerCentNetLastTrade\",, \"T\")/100,\"\")","v":5.9435364041604752E-3},920,920,"S.US.CVO",2153,"S.US.WGL"]
[null,null,"S.US.SCD",{"$f":"IFERROR(RTD(\"cqg.rtd\", ,\"ContractData\",C2154, \"PerCentNetLastTrade\",, \"T\")/100,\"\")","v":2.2865853658536588E-3},1169,1169,"S.US.SCD",2154,"S.US.NWN"]
[null,null,"S.US.UTL",{"$f":"IFERROR(RTD(\"cqg.rtd\", ,\"ContractData\",C2155, \"PerCentNetLastTrade\",, \"T\")/100,\"\")","v":-6.2752129090094134E-3},1886,1886,"S.US.UTL",2155,"S.US.GBAB"]
[null,null,"S.US.ETO",{"$f":"IFERROR(RTD(\"cqg.rtd\", ,\"ContractData\",C2156, \"PerCentNetLastTrade\",, \"T\")/100,\"\")","v":4.9529470034670627E-4},1309,1309,"S.US.ETO",2156,"S.US.WAT"]
[null,null,"S.US.MHG",{"$f":"IFERROR(RTD(\"cqg.rtd\", ,\"ContractData\",C2157, \"PerCentNetLastTrade\",, \"T\")/100,\"\")","v":-7.7390823659480379E-3},1971,1971,"S.US.MHG",2157,"S.US.DNP"]
[null,null,"S.US.PSF",{"$f":"IFERROR(RTD(\"cqg.rtd\", ,\"ContractData\",C2158, \"PerCentNetLastTrade\",, \"T\")/100,\"\")","v":-6.2402496099843996E-3},1882,1882,"S.US.PSF",2158,"S.US.CL"]
[null,null,"S.US.UHT",{"$f":"IFERROR(RTD(\"cqg.rtd\", ,\"ContractData\",C2159, \"PerCentNetLastTrade\",, \"T\")/100,\"\")","v":-1.9890601690701142E-3},1535,1535,"S.US.UHT",2159,"S.US.DRUA"]
[null,null,"S.US.CAPL",{"$f":"IFERROR(RTD(\"cqg.rtd\", ,\"ContractData\",C2160, \"PerCentNetLastTrade\",, \"T\")/100,\"\")","v":1.9992310649750097E-2},403,403,"S.US.CAPL",2160,"S.US.IM"]
[null,null,"S.US.ECT",{"$f":"IFERROR(RTD(\"cqg.rtd\", ,\"ContractData\",C2161, \"PerCentNetLastTrade\",, \"T\")/100,\"\")","v":5.1162790697674418E-2},150,150,"S.US.ECT",2161,"S.US.MAA"]
[null,null,"S.US.ZPIN",{"$f":"IFERROR(RTD(\"cqg.rtd\", ,\"ContractData\",C2162, \"PerCentNetLastTrade\",, \"T\")/100,\"\")","v":-5.9405940594059407E-3},1862,1862,"S.US.ZPIN",2162,"S.US.CLX"]
[null,null,"S.US.NMY",{"$f":"IFERROR(RTD(\"cqg.rtd\", ,\"ContractData\",C2163, \"PerCentNetLastTrade\",, \"T\")/100,\"\")","v":-6.420545746388443E-3},1904,1904,"S.US.NMY",2163,"S.US.TPB"]
[null,null,"S.US.JDD",{"$f":"IFERROR(RTD(\"cqg.rtd\", ,\"ContractData\",C2164, \"PerCentNetLastTrade\",, \"T\")/100,\"\")","v":-8.9686098654708519E-3},2037,2037,"S.US.JDD",2164,"S.US.PMT"]
[null,null,"S.US.CABO",{"$f":"IFERROR(RTD(\"cqg.rtd\", ,\"ContractData\",C2165, \"PerCentNetLastTrade\",, \"T\")/100,\"\")","v":2.2040775434553923E-3},1176,1176,"S.US.CABO",2165,"S.US.EPAM"]
[null,null,"S.US.MVT",{"$f":"IFERROR(RTD(\"cqg.rtd\", ,\"ContractData\",C2166, \"PerCentNetLastTrade\",, \"T\")/100,\"\")","v":-5.9171597633136093E-3},1860,1860,"S.US.MVT",2166,"S.US.WNS"]
[null,null,"S.US.PBFX",{"$f":"IFERROR(RTD(\"cqg.rtd\", ,\"ContractData\",C2167, \"PerCentNetLastTrade\",, \"T\")/100,\"\")","v":1.9390581717451522E-2},416,416,"S.US.PBFX",2167,"S.US.AGI"]
[null,null,"S.US.CYD",{"$f":"IFERROR(RTD(\"cqg.rtd\", ,\"ContractData\",C2168, \"PerCentNetLastTrade\",, \"T\")/100,\"\")","v":8.3612040133779261E-3},791,791,"S.US.CYD",2168,"S.US.FSCE"]
[null,null,"S.US.BME",{"$f":"IFERROR(RTD(\"cqg.rtd\", ,\"ContractData\",C2169, \"PerCentNetLastTrade\",, \"T\")/100,\"\")","v":-1.1040092969203951E-2},2123,2123,"S.US.BME",2169,"S.US.AWR"]
[null,null,"S.US.CTV",{"$f":"IFERROR(RTD(\"cqg.rtd\", ,\"ContractData\",C2170, \"PerCentNetLastTrade\",, \"T\")/100,\"\")","v":-2.3990403838464614E-3},1575,1575,"S.US.CTV",2170,"S.US.FRO"]
[null,null,"S.US.OLP",{"$f":"IFERROR(RTD(\"cqg.rtd\", ,\"ContractData\",C2171, \"PerCentNetLastTrade\",, \"T\")/100,\"\")","v":-4.8642075395216857E-3},1774,1774,"S.US.OLP",2171,"S.US.HIL"]
[null,null,"S.US.VJET",{"$f":"IFERROR(RTD(\"cqg.rtd\", ,\"ContractData\",C2172, \"PerCentNetLastTrade\",, \"T\")/100,\"\")","v":8.1967213114754103E-3},796,796,"S.US.VJET",2172,"S.US.MTD"]
[null,null,"S.US.BCH",{"$f":"IFERROR(RTD(\"cqg.rtd\", ,\"ContractData\",C2173, \"PerCentNetLastTrade\",, \"T\")/100,\"\")","v":6.7627168479858866E-3},875,875,"S.US.BCH",2173,"S.US.CMO"]
[null,null,"S.US.Y",{"$f":"IFERROR(RTD(\"cqg.rtd\", ,\"ContractData\",C2174, \"PerCentNetLastTrade\",, \"T\")/100,\"\")","v":1.9335559852346634E-3},1194,1194,"S.US.Y",2174,"S.US.PEN"]
[null,null,"S.US.BEP",{"$f":"IFERROR(RTD(\"cqg.rtd\", ,\"ContractData\",C2175, \"PerCentNetLastTrade\",, \"T\")/100,\"\")","v":-1.724137931034483E-3},1508,1508,"S.US.BEP",2175,"S.US.RAD"]
[null,null,"S.US.FT",{"$f":"IFERROR(RTD(\"cqg.rtd\", ,\"ContractData\",C2176, \"PerCentNetLastTrade\",, \"T\")/100,\"\")","v":0},1370,1370,"S.US.FT",2176,"S.US.RYN"]
[null,null,"S.US.KAI",{"$f":"IFERROR(RTD(\"cqg.rtd\", ,\"ContractData\",C2177, \"PerCentNetLastTrade\",, \"T\")/100,\"\")","v":8.814102564102564E-3},764,{"$f":"IFERROR(E2177,\"\")","v":764},{"$f":"C2177","v":"S.US.KAI"},2177,{"$f":"IFERROR(VLOOKUP(H2177,$F$1:$G$2522,2,FALSE),\"\")","v":"S.US.EGP"}]
[null,null,"S.US.JRI",{"$f":"IFERROR(RTD(\"cqg.rtd\", ,\"ContractData\",C2178, \"PerCentNetLastTrade\",, \"T\")/100,\"\")","v":-5.0346129641283821E-3},1785,1785,"S.US.JRI",{"$f":"H2177+1","v":2178},"S.US.AJG"]
[null,null,"S.US.JMP",{"$f":"IFERROR(RTD(\"cqg.rtd\", ,\"ContractData\",C2179, \"PerCentNetLastTrade\",, \"T\")/100,\"\")","v":3.2258064516129032E-3},1103,1103,"S.US.JMP",2179,"S.US.HCP"]
[null,null,"S.US.PCM",{"$f":"IFERROR(RTD(\"cqg.rtd\", ,\"ContractData\",C2180, \"PerCentNetLastTrade\",, \"T\")/100,\"\")","v":-3.105590062111801E-3},1633,1633,"S.US.PCM",2180,"S.US.CHCT"]
[null,null,"S.US.KHI",{"$f":"IFERROR(RTD(\"cqg.rtd\", ,\"ContractData\",C2181, \"PerCentNetLastTrade\",, \"T\")/100,\"\")","v":""},{"$error":"#VALUE!"},"","S.US.KHI",2181,"S.US.KTP"]
[null,null,"S.US.FFA",{"$f":"IFERROR(RTD(\"cqg.rtd\", ,\"ContractData\",C2182, \"PerCentNetLastTrade\",, \"T\")/100,\"\")","v":2.976190476190476E-3},1118,1118,"S.US.FFA",2182,"S.US.SAIC"]
[null,null,"S.US.BTA",{"$f":"IFERROR(RTD(\"cqg.rtd\", ,\"ContractData\",C2183, \"PerCentNetLastTrade\",, \"T\")/100,\"\")","v":-7.3126142595978062E-3},1953,1953,"S.US.BTA",2183,"S.US.ELC"]
[null,null,"S.US.FBK",{"$f":"IFERROR(RTD(\"cqg.rtd\", ,\"ContractData\",C2184, \"PerCentNetLastTrade\",, \"T\")/100,\"\")","v":-4.2498937526561833E-3},1728,1728,"S.US.FBK",2184,"S.US.RHT"]
[null,null,"S.US.TRR",{"$f":"IFERROR(RTD(\"cqg.rtd\", ,\"ContractData\",C2185, \"PerCentNetLastTrade\",, \"T\")/100,\"\")","v":1.0204081632653062E-2},702,702,"S.US.TRR",2185,"S.US.TPH"]
[null,null,"S.US.MSB",{"$f":"IFERROR(RTD(\"cqg.rtd\", ,\"ContractData\",C2186, \"PerCentNetLastTrade\",, \"T\")/100,\"\")","v":9.2165898617511521E-3},746,746,"S.US.MSB",2186,"S.US.MIY"]
[null,null,"S.US.CRDB",{"$f":"IFERROR(RTD(\"cqg.rtd\", ,\"ContractData\",C2187, \"PerCentNetLastTrade\",, \"T\")/100,\"\")","v":1.3544018058690745E-2},570,570,"S.US.CRDB",2187,"S.US.NTP"]
[null,null,"S.US.WPT",{"$f":"IFERROR(RTD(\"cqg.rtd\", ,\"ContractData\",C2188, \"PerCentNetLastTrade\",, \"T\")/100,\"\")","v":1.7678255745433118E-2},461,461,"S.US.WPT",2188,"S.US.COT"]
[null,null,"S.US.NUO",{"$f":"IFERROR(RTD(\"cqg.rtd\", ,\"ContractData\",C2189, \"PerCentNetLastTrade\",, \"T\")/100,\"\")","v":-6.7796610169491523E-3},1923,1923,"S.US.NUO",2189,"S.US.MMU"]
[null,null,"S.US.KMM",{"$f":"IFERROR(RTD(\"cqg.rtd\", ,\"ContractData\",C2190, \"PerCentNetLastTrade\",, \"T\")/100,\"\")","v":0},1371,1371,"S.US.KMM",2190,"S.US.MYJ"]
[null,null,"S.US.AHC",{"$f":"IFERROR(RTD(\"cqg.rtd\", ,\"ContractData\",C2191, \"PerCentNetLastTrade\",, \"T\")/100,\"\")","v":2.4390243902439025E-2},339,339,"S.US.AHC",2191,"S.US.RPT"]
[null,null,"S.US.TLI",{"$f":"IFERROR(RTD(\"cqg.rtd\", ,\"ContractData\",C2192, \"PerCentNetLastTrade\",, \"T\")/100,\"\")","v":-8.2568807339449546E-3},2005,2005,"S.US.TLI",2192,"S.US.BAH"]
[null,null,"S.US.NEU",{"$f":"IFERROR(RTD(\"cqg.rtd\", ,\"ContractData\",C2193, \"PerCentNetLastTrade\",, \"T\")/100,\"\")","v":4.191035446215045E-3},1029,1029,"S.US.NEU",2193,"S.US.VALEP"]
[null,null,"S.US.GHM",{"$f":"IFERROR(RTD(\"cqg.rtd\", ,\"ContractData\",C2194, \"PerCentNetLastTrade\",, \"T\")/100,\"\")","v":5.9549128030625268E-3},916,916,"S.US.GHM",2194,"S.US.REG"]
[null,null,"S.US.UCP",{"$f":"IFERROR(RTD(\"cqg.rtd\", ,\"ContractData\",C2195, \"PerCentNetLastTrade\",, \"T\")/100,\"\")","v":1.3574660633484163E-2},568,568,"S.US.UCP",2195,"S.US.MCS"]
[null,null,"S.US.ASG",{"$f":"IFERROR(RTD(\"cqg.rtd\", ,\"ContractData\",C2196, \"PerCentNetLastTrade\",, \"T\")/100,\"\")","v":-4.7169811320754715E-3},1761,1761,"S.US.ASG",2196,"S.US.PCQ"]
[null,null,"S.US.IX",{"$f":"IFERROR(RTD(\"cqg.rtd\", ,\"ContractData\",C2197, \"PerCentNetLastTrade\",, \"T\")/100,\"\")","v":-1.2510947078693858E-4},1390,1390,"S.US.IX",2197,"S.US.TKF"]
[null,null,"S.US.DUC",{"$f":"IFERROR(RTD(\"cqg.rtd\", ,\"ContractData\",C2198, \"PerCentNetLastTrade\",, \"T\")/100,\"\")","v":-1.0799136069114472E-3},1452,1452,"S.US.DUC",2198,"S.US.SPG"]
[null,null,"S.US.ETX",{"$f":"IFERROR(RTD(\"cqg.rtd\", ,\"ContractData\",C2199, \"PerCentNetLastTrade\",, \"T\")/100,\"\")","v":-6.2370062370062374E-3},1881,1881,"S.US.ETX",2199,"S.US.PCG"]
[null,null,"S.US.NNC",{"$f":"IFERROR(RTD(\"cqg.rtd\", ,\"ContractData\",C2200, \"PerCentNetLastTrade\",, \"T\")/100,\"\")","v":-3.8402457757296467E-3},1693,1693,"S.US.NNC",2200,"S.US.WK"]
[null,null,"S.US.AJX",{"$f":"IFERROR(RTD(\"cqg.rtd\", ,\"ContractData\",C2201, \"PerCentNetLastTrade\",, \"T\")/100,\"\")","v":-3.7678975131876413E-3},1687,1687,"S.US.AJX",2201,"S.US.VIPS"]
[null,null,"S.US.MHD",{"$f":"IFERROR(RTD(\"cqg.rtd\", ,\"ContractData\",C2202, \"PerCentNetLastTrade\",, \"T\")/100,\"\")","v":-8.7281795511221956E-3},2027,2027,"S.US.MHD",2202,"S.US.HII"]
[null,null,"S.US.LCM",{"$f":"IFERROR(RTD(\"cqg.rtd\", ,\"ContractData\",C2203, \"PerCentNetLastTrade\",, \"T\")/100,\"\")","v":-2.4783147459727386E-3},1581,1581,"S.US.LCM",2203,"S.US.SB"]
[null,null,"S.US.CHMI",{"$f":"IFERROR(RTD(\"cqg.rtd\", ,\"ContractData\",C2204, \"PerCentNetLastTrade\",, \"T\")/100,\"\")","v":-4.4444444444444444E-3},1742,1742,"S.US.CHMI",2204,"S.US.WHG"]
[null,null,"S.US.PZN",{"$f":"IFERROR(RTD(\"cqg.rtd\", ,\"ContractData\",C2205, \"PerCentNetLastTrade\",, \"T\")/100,\"\")","v":1.0152284263959391E-3},1266,1266,"S.US.PZN",2205,"S.US.AGX"]
[null,null,"S.US.NUM",{"$f":"IFERROR(RTD(\"cqg.rtd\", ,\"ContractData\",C2206, \"PerCentNetLastTrade\",, \"T\")/100,\"\")","v":-5.1928783382789324E-3},1799,1799,"S.US.NUM",2206,"S.US.DMO"]
[null,null,"S.US.GDO",{"$f":"IFERROR(RTD(\"cqg.rtd\", ,\"ContractData\",C2207, \"PerCentNetLastTrade\",, \"T\")/100,\"\")","v":-2.3724792408066431E-3},1572,1572,"S.US.GDO",2207,"S.US.PMF"]
[null,null,"S.US.EFF",{"$f":"IFERROR(RTD(\"cqg.rtd\", ,\"ContractData\",C2208, \"PerCentNetLastTrade\",, \"T\")/100,\"\")","v":5.487804878048781E-3},945,945,"S.US.EFF",2208,"S.US.ATO"]
[null,null,"S.US.CTX",{"$f":"IFERROR(RTD(\"cqg.rtd\", ,\"ContractData\",C2209, \"PerCentNetLastTrade\",, \"T\")/100,\"\")","v":-5.9547439460103215E-3},1864,1864,"S.US.CTX",2209,"S.US.EURN"]
[null,null,"S.US.FHY",{"$f":"IFERROR(RTD(\"cqg.rtd\", ,\"ContractData\",C2210, \"PerCentNetLastTrade\",, \"T\")/100,\"\")","v":-4.152823920265781E-3},1722,1722,"S.US.FHY",2210,"S.US.ZOES"]
[null,null,"S.US.NUW",{"$f":"IFERROR(RTD(\"cqg.rtd\", ,\"ContractData\",C2211, \"PerCentNetLastTrade\",, \"T\")/100,\"\")","v":-3.0769230769230769E-3},1630,1630,"S.US.NUW",2211,"S.US.WHR"]
[null,null,"S.US.PAI",{"$f":"IFERROR(RTD(\"cqg.rtd\", ,\"ContractData\",C2212, \"PerCentNetLastTrade\",, \"T\")/100,\"\")","v":-1.3726835964310228E-3},1477,1477,"S.US.PAI",2212,"S.US.HCA"]
[null,null,"S.US.GDL",{"$f":"IFERROR(RTD(\"cqg.rtd\", ,\"ContractData\",C2213, \"PerCentNetLastTrade\",, \"T\")/100,\"\")","v":0},1372,1372,"S.US.GDL",2213,"S.US.PF"]
[null,null,"S.US.BFS",{"$f":"IFERROR(RTD(\"cqg.rtd\", ,\"ContractData\",C2214, \"PerCentNetLastTrade\",, \"T\")/100,\"\")","v":-5.2745888923363326E-3},1809,1809,"S.US.BFS",2214,"S.US.ARE"]
[null,null,"S.US.MVO",{"$f":"IFERROR(RTD(\"cqg.rtd\", ,\"ContractData\",C2215, \"PerCentNetLastTrade\",, \"T\")/100,\"\")","v":6.3097514340344163E-2},119,119,"S.US.MVO",2215,"S.US.RGC"]
[null,null,"S.US.MUS",{"$f":"IFERROR(RTD(\"cqg.rtd\", ,\"ContractData\",C2216, \"PerCentNetLastTrade\",, \"T\")/100,\"\")","v":2.3219814241486067E-3},1166,1166,"S.US.MUS",2216,"S.US.PBYI"]
[null,null,"S.US.ISG",{"$f":"IFERROR(RTD(\"cqg.rtd\", ,\"ContractData\",C2217, \"PerCentNetLastTrade\",, \"T\")/100,\"\")","v":-3.1821797931583136E-3},1639,1639,"S.US.ISG",2217,"S.US.AUY"]
[null,null,"S.US.AEK",{"$f":"IFERROR(RTD(\"cqg.rtd\", ,\"ContractData\",C2218, \"PerCentNetLastTrade\",, \"T\")/100,\"\")","v":-2.2944550669216062E-3},1565,1565,"S.US.AEK",2218,"S.US.DYN"]
[null,null,"S.US.DTZ",{"$f":"IFERROR(RTD(\"cqg.rtd\", ,\"ContractData\",C2219, \"PerCentNetLastTrade\",, \"T\")/100,\"\")","v":""},{"$error":"#VALUE!"},"","S.US.DTZ",2219,"S.US.AES"]
[null,null,"S.US.CELP",{"$f":"IFERROR(RTD(\"cqg.rtd\", ,\"ContractData\",C2220, \"PerCentNetLastTrade\",, \"T\")/100,\"\")","v":2.6422764227642274E-2},314,314,"S.US.CELP",2220,"S.US.FLO"]
[null,null,"S.US.MSF",{"$f":"IFERROR(RTD(\"cqg.rtd\", ,\"ContractData\",C2221, \"PerCentNetLastTrade\",, \"T\")/100,\"\")","v":9.0429540316503392E-3},754,754,"S.US.MSF",2221,"S.US.MDT"]
[null,null,"S.US.JTA",{"$f":"IFERROR(RTD(\"cqg.rtd\", ,\"ContractData\",C2222, \"PerCentNetLastTrade\",, \"T\")/100,\"\")","v":-2.6501766784452294E-3},1593,1593,"S.US.JTA",2222,"S.US.PBH"]
[null,null,"S.US.YZC",{"$f":"IFERROR(RTD(\"cqg.rtd\", ,\"ContractData\",C2223, \"PerCentNetLastTrade\",, \"T\")/100,\"\")","v":-3.1724137931034485E-2},2451,2451,"S.US.YZC",2223,"S.US.GIMO"]
[null,null,"S.US.PFO",{"$f":"IFERROR(RTD(\"cqg.rtd\", ,\"ContractData\",C2224, \"PerCentNetLastTrade\",, \"T\")/100,\"\")","v":-3.7523452157598499E-3},1685,1685,"S.US.PFO",2224,"S.US.CI"]
[null,null,"S.US.SPLP",{"$f":"IFERROR(RTD(\"cqg.rtd\", ,\"ContractData\",C2225, \"PerCentNetLastTrade\",, \"T\")/100,\"\")","v":2.1276595744680851E-2},381,381,"S.US.SPLP",2225,"S.US.ABBV"]
[null,null,"S.US.NXP",{"$f":"IFERROR(RTD(\"cqg.rtd\", ,\"ContractData\",C2226, \"PerCentNetLastTrade\",, \"T\")/100,\"\")","v":-5.1020408163265311E-3},1793,1793,"S.US.NXP",2226,"S.US.BABA"]
[null,null,"S.US.IIF",{"$f":"IFERROR(RTD(\"cqg.rtd\", ,\"ContractData\",C2227, \"PerCentNetLastTrade\",, \"T\")/100,\"\")","v":9.6339113680154135E-3},722,722,"S.US.IIF",2227,"S.US.MITT"]
[null,null,"S.US.JLS",{"$f":"IFERROR(RTD(\"cqg.rtd\", ,\"ContractData\",C2228, \"PerCentNetLastTrade\",, \"T\")/100,\"\")","v":2.4968789013732834E-3},1153,1153,"S.US.JLS",2228,"S.US.HASI"]
[null,null,"S.US.GEQ",{"$f":"IFERROR(RTD(\"cqg.rtd\", ,\"ContractData\",C2229, \"PerCentNetLastTrade\",, \"T\")/100,\"\")","v":-2.4110910186859553E-3},1577,1577,"S.US.GEQ",2229,"S.US.PEG"]
[null,null,"S.US.NXQ",{"$f":"IFERROR(RTD(\"cqg.rtd\", ,\"ContractData\",C2230, \"PerCentNetLastTrade\",, \"T\")/100,\"\")","v":-3.7965072133637058E-3},1688,1688,"S.US.NXQ",2230,"S.US.IDA"]
[null,null,"S.US.NSS",{"$f":"IFERROR(RTD(\"cqg.rtd\", ,\"ContractData\",C2231, \"PerCentNetLastTrade\",, \"T\")/100,\"\")","v":-5.0920485703094395E-3},1792,1792,"S.US.NSS",2231,"S.US.KEP"]
[null,null,"S.US.LDR",{"$f":"IFERROR(RTD(\"cqg.rtd\", ,\"ContractData\",C2232, \"PerCentNetLastTrade\",, \"T\")/100,\"\")","v":1.5045135406218655E-2},522,522,"S.US.LDR",2232,"S.US.TWO"]
[null,null,"S.US.MYF",{"$f":"IFERROR(RTD(\"cqg.rtd\", ,\"ContractData\",C2233, \"PerCentNetLastTrade\",, \"T\")/100,\"\")","v":-1.1348464619492658E-2},2136,2136,"S.US.MYF",2233,"S.US.NCV"]
[null,null,"S.US.PJH",{"$f":"IFERROR(RTD(\"cqg.rtd\", ,\"ContractData\",C2234, \"PerCentNetLastTrade\",, \"T\")/100,\"\")","v":-3.1961646024770275E-3},1641,1641,"S.US.PJH",2234,"S.US.NC"]
[null,null,"S.US.TSLF",{"$f":"IFERROR(RTD(\"cqg.rtd\", ,\"ContractData\",C2235, \"PerCentNetLastTrade\",, \"T\")/100,\"\")","v":-5.8582308142940834E-3},1856,1856,"S.US.TSLF",2235,"S.US.EARN"]
[null,null,"S.US.PHX",{"$f":"IFERROR(RTD(\"cqg.rtd\", ,\"ContractData\",C2236, \"PerCentNetLastTrade\",, \"T\")/100,\"\")","v":4.1666666666666671E-2},195,195,"S.US.PHX",2236,"S.US.SUI"]
[null,null,"S.US.IID",{"$f":"IFERROR(RTD(\"cqg.rtd\", ,\"ContractData\",C2237, \"PerCentNetLastTrade\",, \"T\")/100,\"\")","v":1.4771048744460858E-3},1228,1228,"S.US.IID",2237,"S.US.PHG"]
[null,null,"S.US.AZRE",{"$f":"IFERROR(RTD(\"cqg.rtd\", ,\"ContractData\",C2238, \"PerCentNetLastTrade\",, \"T\")/100,\"\")","v":-7.2951739618406283E-3},1951,1951,"S.US.AZRE",2238,"S.US.RIO"]
[null,null,"S.US.JAX",{"$f":"IFERROR(RTD(\"cqg.rtd\", ,\"ContractData\",C2239, \"PerCentNetLastTrade\",, \"T\")/100,\"\")","v":5.0251256281407027E-3},978,978,"S.US.JAX",2239,"S.US.OZM"]
[null,null,"S.US.NGS",{"$f":"IFERROR(RTD(\"cqg.rtd\", ,\"ContractData\",C2240, \"PerCentNetLastTrade\",, \"T\")/100,\"\")","v":4.6017699115044247E-2},170,170,"S.US.NGS",2240,"S.US.TSO"]
[null,null,"S.US.NXR",{"$f":"IFERROR(RTD(\"cqg.rtd\", ,\"ContractData\",C2241, \"PerCentNetLastTrade\",, \"T\")/100,\"\")","v":-1.5669515669515671E-2},2284,{"$f":"IFERROR(E2241,\"\")","v":2284},{"$f":"C2241","v":"S.US.NXR"},2241,{"$f":"IFERROR(VLOOKUP(H2241,$F$1:$G$2522,2,FALSE),\"\")","v":"S.US.V"}]
[null,null,"S.US.MANU",{"$f":"IFERROR(RTD(\"cqg.rtd\", ,\"ContractData\",C2242, \"PerCentNetLastTrade\",, \"T\")/100,\"\")","v":0},1373,1373,"S.US.MANU",{"$f":"H2241+1","v":2242},"S.US.CBL"]
[null,null,"S.US.GNE",{"$f":"IFERROR(RTD(\"cqg.rtd\", ,\"ContractData\",C2243, \"PerCentNetLastTrade\",, \"T\")/100,\"\")","v":-3.2102728731942215E-3},1644,1644,"S.US.GNE",2243,"S.US.INXN"]
[null,null,"S.US.CFI",{"$f":"IFERROR(RTD(\"cqg.rtd\", ,\"ContractData\",C2244, \"PerCentNetLastTrade\",, \"T\")/100,\"\")","v":1.0898379970544918E-2},667,667,"S.US.CFI",2244,"S.US.TR"]
[null,null,"S.US.TPB",{"$f":"IFERROR(RTD(\"cqg.rtd\", ,\"ContractData\",C2245, \"PerCentNetLastTrade\",, \"T\")/100,\"\")","v":-1.2125534950071326E-2},2163,2163,"S.US.TPB",2245,"S.US.SO"]
[null,null,"S.US.NL",{"$f":"IFERROR(RTD(\"cqg.rtd\", ,\"ContractData\",C2246, \"PerCentNetLastTrade\",, \"T\")/100,\"\")","v":4.2016806722689079E-2},193,193,"S.US.NL",2246,"S.US.PTHN"]
[null,null,"S.US.GRO",{"$f":"IFERROR(RTD(\"cqg.rtd\", ,\"ContractData\",C2247, \"PerCentNetLastTrade\",, \"T\")/100,\"\")","v":""},{"$error":"#VALUE!"},"","S.US.GRO",2247,"S.US.MDC"]
[null,null,"S.US.HTY",{"$f":"IFERROR(RTD(\"cqg.rtd\", ,\"ContractData\",C2248, \"PerCentNetLastTrade\",, \"T\")/100,\"\")","v":-1.1385199240986717E-2},2138,2138,"S.US.HTY",2248,"S.US.Q"]
[null,null,"S.US.IAE",{"$f":"IFERROR(RTD(\"cqg.rtd\", ,\"ContractData\",C2249, \"PerCentNetLastTrade\",, \"T\")/100,\"\")","v":-2.2075055187637969E-3},1556,1556,"S.US.IAE",2249,"S.US.PEP"]
[null,null,"S.US.MFO",{"$f":"IFERROR(RTD(\"cqg.rtd\", ,\"ContractData\",C2250, \"PerCentNetLastTrade\",, \"T\")/100,\"\")","v":""},{"$error":"#VALUE!"},"","S.US.MFO",2250,"S.US.RL"]
[null,null,"S.US.SWZ",{"$f":"IFERROR(RTD(\"cqg.rtd\", ,\"ContractData\",C2251, \"PerCentNetLastTrade\",, \"T\")/100,\"\")","v":3.0272452068617556E-3},1116,1116,"S.US.SWZ",2251,"S.US.GXP"]
[null,null,"S.US.TNH",{"$f":"IFERROR(RTD(\"cqg.rtd\", ,\"ContractData\",C2252, \"PerCentNetLastTrade\",, \"T\")/100,\"\")","v":1.019739919543456E-2},703,703,"S.US.TNH",2252,"S.US.MUX"]
[null,null,"S.US.TREC",{"$f":"IFERROR(RTD(\"cqg.rtd\", ,\"ContractData\",C2253, \"PerCentNetLastTrade\",, \"T\")/100,\"\")","v":1.8181818181818181E-2},445,445,"S.US.TREC",2253,"S.US.EAI"]
[null,null,"S.US.NPV",{"$f":"IFERROR(RTD(\"cqg.rtd\", ,\"ContractData\",C2254, \"PerCentNetLastTrade\",, \"T\")/100,\"\")","v":0},1374,1374,"S.US.NPV",2254,"S.US.FR"]
[null,null,"S.US.TLP",{"$f":"IFERROR(RTD(\"cqg.rtd\", ,\"ContractData\",C2255, \"PerCentNetLastTrade\",, \"T\")/100,\"\")","v":1.5853951477300024E-2},505,505,"S.US.TLP",2255,"S.US.MA"]
[null,null,"S.US.BKK",{"$f":"IFERROR(RTD(\"cqg.rtd\", ,\"ContractData\",C2256, \"PerCentNetLastTrade\",, \"T\")/100,\"\")","v":-3.8363171355498722E-3},1692,1692,"S.US.BKK",2256,"S.US.WMS"]
[null,null,"S.US.JTD",{"$f":"IFERROR(RTD(\"cqg.rtd\", ,\"ContractData\",C2257, \"PerCentNetLastTrade\",, \"T\")/100,\"\")","v":-7.1890726096333565E-4},1420,1420,"S.US.JTD",2257,"S.US.DF"]
[null,null,"S.US.NAZ",{"$f":"IFERROR(RTD(\"cqg.rtd\", ,\"ContractData\",C2258, \"PerCentNetLastTrade\",, \"T\")/100,\"\")","v":-7.2674418604651162E-4},1421,1421,"S.US.NAZ",2258,"S.US.SSWN"]
[null,null,"S.US.MLR",{"$f":"IFERROR(RTD(\"cqg.rtd\", ,\"ContractData\",C2259, \"PerCentNetLastTrade\",, \"T\")/100,\"\")","v":2.3668639053254437E-2},345,345,"S.US.MLR",2259,"S.US.ALE"]
[null,null,"S.US.LGI",{"$f":"IFERROR(RTD(\"cqg.rtd\", ,\"ContractData\",C2260, \"PerCentNetLastTrade\",, \"T\")/100,\"\")","v":2.976190476190476E-3},1119,1119,"S.US.LGI",2260,"S.US.CCI"]
[null,null,"S.US.AOI",{"$f":"IFERROR(RTD(\"cqg.rtd\", ,\"ContractData\",C2261, \"PerCentNetLastTrade\",, \"T\")/100,\"\")","v":2.0134228187919465E-2},401,401,"S.US.AOI",2261,"S.US.NSAM"]
[null,null,"S.US.VPG",{"$f":"IFERROR(RTD(\"cqg.rtd\", ,\"ContractData\",C2262, \"PerCentNetLastTrade\",, \"T\")/100,\"\")","v":8.152173913043478E-3},799,799,"S.US.VPG",2262,"S.US.CVG"]
[null,null,"S.US.TRK",{"$f":"IFERROR(RTD(\"cqg.rtd\", ,\"ContractData\",C2263, \"PerCentNetLastTrade\",, \"T\")/100,\"\")","v":4.8192771084337353E-4},1311,1311,"S.US.TRK",2263,"S.US.IHG"]
[null,null,"S.US.IGI",{"$f":"IFERROR(RTD(\"cqg.rtd\", ,\"ContractData\",C2264, \"PerCentNetLastTrade\",, \"T\")/100,\"\")","v":-2.5000000000000001E-3},1582,1582,"S.US.IGI",2264,"S.US.MXL"]
[null,null,"S.US.DNI",{"$f":"IFERROR(RTD(\"cqg.rtd\", ,\"ContractData\",C2265, \"PerCentNetLastTrade\",, \"T\")/100,\"\")","v":0},1375,1375,"S.US.DNI",2265,"S.US.DDD"]
[null,null,"S.US.SCNB",{"$f":"IFERROR(RTD(\"cqg.rtd\", ,\"ContractData\",C2266, \"PerCentNetLastTrade\",, \"T\")/100,\"\")","v":1.2929982922664065E-2},593,593,"S.US.SCNB",2266,"S.US.LB"]
[null,null,"S.US.TRC",{"$f":"IFERROR(RTD(\"cqg.rtd\", ,\"ContractData\",C2267, \"PerCentNetLastTrade\",, \"T\")/100,\"\")","v":1.6736401673640166E-2},482,482,"S.US.TRC",2267,"S.US.APTS"]
[null,null,"S.US.KED",{"$f":"IFERROR(RTD(\"cqg.rtd\", ,\"ContractData\",C2268, \"PerCentNetLastTrade\",, \"T\")/100,\"\")","v":3.6247334754797439E-2},230,230,"S.US.KED",2268,"S.US.POR"]
[null,null,"S.US.FGB",{"$f":"IFERROR(RTD(\"cqg.rtd\", ,\"ContractData\",C2269, \"PerCentNetLastTrade\",, \"T\")/100,\"\")","v":1.1510791366906475E-2},642,642,"S.US.FGB",2269,"S.US.DPS"]
[null,null,"S.US.JOF",{"$f":"IFERROR(RTD(\"cqg.rtd\", ,\"ContractData\",C2270, \"PerCentNetLastTrade\",, \"T\")/100,\"\")","v":5.7581573896353169E-3},933,933,"S.US.JOF",2270,"S.US.VSTO"]
[null,null,"S.US.CO",{"$f":"IFERROR(RTD(\"cqg.rtd\", ,\"ContractData\",C2271, \"PerCentNetLastTrade\",, \"T\")/100,\"\")","v":0},1376,1376,"S.US.CO",2271,"S.US.ADC"]
[null,null,"S.US.ARCX",{"$f":"IFERROR(RTD(\"cqg.rtd\", ,\"ContractData\",C2272, \"PerCentNetLastTrade\",, \"T\")/100,\"\")","v":1.8582243633860976E-2},433,433,"S.US.ARCX",2272,"S.US.EMG"]
[null,null,"S.US.ZX",{"$f":"IFERROR(RTD(\"cqg.rtd\", ,\"ContractData\",C2273, \"PerCentNetLastTrade\",, \"T\")/100,\"\")","v":-8.1300813008130073E-3},1994,1994,"S.US.ZX",2273,"S.US.BSX"]
[null,null,"S.US.CRDA",{"$f":"IFERROR(RTD(\"cqg.rtd\", ,\"ContractData\",C2274, \"PerCentNetLastTrade\",, \"T\")/100,\"\")","v":7.9051383399209481E-3},817,817,"S.US.CRDA",2274,"S.US.HIW"]
[null,null,"S.US.AP",{"$f":"IFERROR(RTD(\"cqg.rtd\", ,\"ContractData\",C2275, \"PerCentNetLastTrade\",, \"T\")/100,\"\")","v":3.3333333333333331E-3},1095,1095,"S.US.AP",2275,"S.US.OFC"]
[null,null,"S.US.KSM",{"$f":"IFERROR(RTD(\"cqg.rtd\", ,\"ContractData\",C2276, \"PerCentNetLastTrade\",, \"T\")/100,\"\")","v":-3.2976092333058533E-3},1649,1649,"S.US.KSM",2276,"S.US.RENN"]
[null,null,"S.US.WLKP",{"$f":"IFERROR(RTD(\"cqg.rtd\", ,\"ContractData\",C2277, \"PerCentNetLastTrade\",, \"T\")/100,\"\")","v":3.1630170316301706E-2},266,266,"S.US.WLKP",2277,"S.US.ARI"]
[null,null,"S.US.RJD",{"$f":"IFERROR(RTD(\"cqg.rtd\", ,\"ContractData\",C2278, \"PerCentNetLastTrade\",, \"T\")/100,\"\")","v":-7.77000777000777E-4},1428,1428,"S.US.RJD",2278,"S.US.DCUC"]
[null,null,"S.US.IBA",{"$f":"IFERROR(RTD(\"cqg.rtd\", ,\"ContractData\",C2279, \"PerCentNetLastTrade\",, \"T\")/100,\"\")","v":2.7801539777587681E-3},1129,1129,"S.US.IBA",2279,"S.US.AMT"]
[null,null,"S.US.LUB",{"$f":"IFERROR(RTD(\"cqg.rtd\", ,\"ContractData\",C2280, \"PerCentNetLastTrade\",, \"T\")/100,\"\")","v":1.6587677725118485E-2},486,486,"S.US.LUB",2280,"S.US.STZ"]
[null,null,"S.US.NVR",{"$f":"IFERROR(RTD(\"cqg.rtd\", ,\"ContractData\",C2281, \"PerCentNetLastTrade\",, \"T\")/100,\"\")","v":-8.2993467131116036E-3},2006,2006,"S.US.NVR",2281,"S.US.HF"]
[null,null,"S.US.GPX",{"$f":"IFERROR(RTD(\"cqg.rtd\", ,\"ContractData\",C2282, \"PerCentNetLastTrade\",, \"T\")/100,\"\")","v":5.6285178236397749E-3},939,939,"S.US.GPX",2282,"S.US.CAG"]
[null,null,"S.US.DHG",{"$f":"IFERROR(RTD(\"cqg.rtd\", ,\"ContractData\",C2283, \"PerCentNetLastTrade\",, \"T\")/100,\"\")","v":-2.1261516654854712E-3},1551,1551,"S.US.DHG",2283,"S.US.FCFS"]
[null,null,"S.US.MCN",{"$f":"IFERROR(RTD(\"cqg.rtd\", ,\"ContractData\",C2284, \"PerCentNetLastTrade\",, \"T\")/100,\"\")","v":2.5412960609911056E-3},1150,1150,"S.US.MCN",2284,"S.US.NXR"]
[null,null,"S.US.OMAA",{"$f":"IFERROR(RTD(\"cqg.rtd\", ,\"ContractData\",C2285, \"PerCentNetLastTrade\",, \"T\")/100,\"\")","v":-6.2949640287769783E-3},1891,1891,"S.US.OMAA",2285,"S.US.CIM"]
[null,null,"S.US.OSB",{"$f":"IFERROR(RTD(\"cqg.rtd\", ,\"ContractData\",C2286, \"PerCentNetLastTrade\",, \"T\")/100,\"\")","v":3.6130068245684467E-3},1076,1076,"S.US.OSB",2286,"S.US.SCG"]
[null,null,"S.US.MPA",{"$f":"IFERROR(RTD(\"cqg.rtd\", ,\"ContractData\",C2287, \"PerCentNetLastTrade\",, \"T\")/100,\"\")","v":-5.7224606580829765E-3},1843,1843,"S.US.MPA",2287,"S.US.HPP"]
[null,null,"S.US.KMG",{"$f":"IFERROR(RTD(\"cqg.rtd\", ,\"ContractData\",C2288, \"PerCentNetLastTrade\",, \"T\")/100,\"\")","v":1.8023430459597475E-2},453,453,"S.US.KMG",2288,"S.US.DRE"]
[null,null,"S.US.MTT",{"$f":"IFERROR(RTD(\"cqg.rtd\", ,\"ContractData\",C2289, \"PerCentNetLastTrade\",, \"T\")/100,\"\")","v":-9.852216748768473E-3},2080,2080,"S.US.MTT",2289,"S.US.GRUB"]
[null,null,"S.US.HEQ",{"$f":"IFERROR(RTD(\"cqg.rtd\", ,\"ContractData\",C2290, \"PerCentNetLastTrade\",, \"T\")/100,\"\")","v":-6.2774639045825491E-4},1415,1415,"S.US.HEQ",2290,"S.US.BFB"]
[null,null,"S.US.AKP",{"$f":"IFERROR(RTD(\"cqg.rtd\", ,\"ContractData\",C2291, \"PerCentNetLastTrade\",, \"T\")/100,\"\")","v":-3.7147102526002974E-3},1682,1682,"S.US.AKP",2291,"S.US.KR"]
[null,null,"S.US.BNY",{"$f":"IFERROR(RTD(\"cqg.rtd\", ,\"ContractData\",C2292, \"PerCentNetLastTrade\",, \"T\")/100,\"\")","v":-7.251631617113851E-3},1949,1949,"S.US.BNY",2292,"S.US.GDDY"]
[null,null,"S.US.WHG",{"$f":"IFERROR(RTD(\"cqg.rtd\", ,\"ContractData\",C2293, \"PerCentNetLastTrade\",, \"T\")/100,\"\")","v":-1.316227924025325E-2},2204,2204,"S.US.WHG",2293,"S.US.FSM"]
[null,null,"S.US.CXH",{"$f":"IFERROR(RTD(\"cqg.rtd\", ,\"ContractData\",C2294, \"PerCentNetLastTrade\",, \"T\")/100,\"\")","v":-5.3022269353128317E-3},1811,1811,"S.US.CXH",2294,"S.US.HSY"]
[null,null,"S.US.PGZ",{"$f":"IFERROR(RTD(\"cqg.rtd\", ,\"ContractData\",C2295, \"PerCentNetLastTrade\",, \"T\")/100,\"\")","v":-7.9852579852579854E-3},1984,1984,"S.US.PGZ",2295,"S.US.COO"]
[null,null,"S.US.EXD",{"$f":"IFERROR(RTD(\"cqg.rtd\", ,\"ContractData\",C2296, \"PerCentNetLastTrade\",, \"T\")/100,\"\")","v":-8.4104289318755253E-4},1433,1433,"S.US.EXD",2296,"S.US.GIS"]
[null,null,"S.US.NTC",{"$f":"IFERROR(RTD(\"cqg.rtd\", ,\"ContractData\",C2297, \"PerCentNetLastTrade\",, \"T\")/100,\"\")","v":-5.6634304207119745E-3},1835,1835,"S.US.NTC",2297,"S.US.WF"]
[null,null,"S.US.FFG",{"$f":"IFERROR(RTD(\"cqg.rtd\", ,\"ContractData\",C2298, \"PerCentNetLastTrade\",, \"T\")/100,\"\")","v":9.6899224806201549E-3},720,720,"S.US.FFG",2298,"S.US.VTR"]
[null,null,"S.US.NIM",{"$f":"IFERROR(RTD(\"cqg.rtd\", ,\"ContractData\",C2299, \"PerCentNetLastTrade\",, \"T\")/100,\"\")","v":-3.0895983522142125E-3},1632,1632,"S.US.NIM",2299,"S.US.ED"]
[null,null,"S.US.SGU",{"$f":"IFERROR(RTD(\"cqg.rtd\", ,\"ContractData\",C2300, \"PerCentNetLastTrade\",, \"T\")/100,\"\")","v":5.076142131979695E-3},971,971,"S.US.SGU",2300,"S.US.HR"]
[null,null,"S.US.VBF",{"$f":"IFERROR(RTD(\"cqg.rtd\", ,\"ContractData\",C2301, \"PerCentNetLastTrade\",, \"T\")/100,\"\")","v":0},1377,1377,"S.US.VBF",2301,"S.US.RST"]
[null,null,"S.US.MFD",{"$f":"IFERROR(RTD(\"cqg.rtd\", ,\"ContractData\",C2302, \"PerCentNetLastTrade\",, \"T\")/100,\"\")","v":9.057971014492754E-3},753,753,"S.US.MFD",2302,"S.US.NQ"]
[null,null,"S.US.USDP",{"$f":"IFERROR(RTD(\"cqg.rtd\", ,\"ContractData\",C2303, \"PerCentNetLastTrade\",, \"T\")/100,\"\")","v":3.5211267605633799E-3},1080,1080,"S.US.USDP",2303,"S.US.FNV"]
[null,null,"S.US.GBL",{"$f":"IFERROR(RTD(\"cqg.rtd\", ,\"ContractData\",C2304, \"PerCentNetLastTrade\",, \"T\")/100,\"\")","v":1.1881188118811881E-2},630,630,"S.US.GBL",2304,"S.US.INGR"]
[null,null,"S.US.SSWN",{"$f":"IFERROR(RTD(\"cqg.rtd\", ,\"ContractData\",C2305, \"PerCentNetLastTrade\",, \"T\")/100,\"\")","v":-1.4647664291369756E-2},2258,{"$f":"IFERROR(E2305,\"\")","v":2258},{"$f":"C2305","v":"S.US.SSWN"},2305,{"$f":"IFERROR(VLOOKUP(H2305,$F$1:$G$2522,2,FALSE),\"\")","v":"S.US.CNK"}]
[null,null,"S.US.CSI",{"$f":"IFERROR(RTD(\"cqg.rtd\", ,\"ContractData\",C2306, \"PerCentNetLastTrade\",, \"T\")/100,\"\")","v":-1.6000000000000001E-3},1498,1498,"S.US.CSI",{"$f":"H2305+1","v":2306},"S.US.IMPV"]
[null,null,"S.US.FAM",{"$f":"IFERROR(RTD(\"cqg.rtd\", ,\"ContractData\",C2307, \"PerCentNetLastTrade\",, \"T\")/100,\"\")","v":-4.578754578754579E-3},1750,1750,"S.US.FAM",2307,"S.US.ES"]
[null,null,"S.US.MIXT",{"$f":"IFERROR(RTD(\"cqg.rtd\", ,\"ContractData\",C2308, \"PerCentNetLastTrade\",, \"T\")/100,\"\")","v":-3.4071550255536627E-3},1655,1655,"S.US.MIXT",2308,"S.US.DCT"]
[null,null,"S.US.MUH",{"$f":"IFERROR(RTD(\"cqg.rtd\", ,\"ContractData\",C2309, \"PerCentNetLastTrade\",, \"T\")/100,\"\")","v":-4.0650406504065036E-3},1716,1716,"S.US.MUH",2309,"S.US.TSNU"]
[null,null,"S.US.ATTO",{"$f":"IFERROR(RTD(\"cqg.rtd\", ,\"ContractData\",C2310, \"PerCentNetLastTrade\",, \"T\")/100,\"\")","v":1.1764705882352941E-2},633,633,"S.US.ATTO",2310,"S.US.EHIC"]
[null,null,"S.US.GHC",{"$f":"IFERROR(RTD(\"cqg.rtd\", ,\"ContractData\",C2311, \"PerCentNetLastTrade\",, \"T\")/100,\"\")","v":-5.5361902809103955E-3},1825,1825,"S.US.GHC",2311,"S.US.VVC"]
[null,null,"S.US.GGM",{"$f":"IFERROR(RTD(\"cqg.rtd\", ,\"ContractData\",C2312, \"PerCentNetLastTrade\",, \"T\")/100,\"\")","v":2.3798191337458352E-3},1161,1161,"S.US.GGM",2312,"S.US.EE"]
[null,null,"S.US.VOC",{"$f":"IFERROR(RTD(\"cqg.rtd\", ,\"ContractData\",C2313, \"PerCentNetLastTrade\",, \"T\")/100,\"\")","v":4.642857142857143E-2},168,168,"S.US.VOC",2313,"S.US.TSS"]
[null,null,"S.US.VLT",{"$f":"IFERROR(RTD(\"cqg.rtd\", ,\"ContractData\",C2314, \"PerCentNetLastTrade\",, \"T\")/100,\"\")","v":0},1378,1378,"S.US.VLT",2314,"S.US.IRM"]
[null,null,"S.US.NPK",{"$f":"IFERROR(RTD(\"cqg.rtd\", ,\"ContractData\",C2315, \"PerCentNetLastTrade\",, \"T\")/100,\"\")","v":-3.1185031185031187E-3},1636,1636,"S.US.NPK",2315,"S.US.GPN"]
[null,null,"S.US.JCAP",{"$f":"IFERROR(RTD(\"cqg.rtd\", ,\"ContractData\",C2316, \"PerCentNetLastTrade\",, \"T\")/100,\"\")","v":3.0318342597271345E-3},1115,1115,"S.US.JCAP",2316,"S.US.BZH"]
[null,null,"S.US.CSS",{"$f":"IFERROR(RTD(\"cqg.rtd\", ,\"ContractData\",C2317, \"PerCentNetLastTrade\",, \"T\")/100,\"\")","v":7.3637702503681892E-3},846,846,"S.US.CSS",2317,"S.US.CHD"]
[null,null,"S.US.BAF",{"$f":"IFERROR(RTD(\"cqg.rtd\", ,\"ContractData\",C2318, \"PerCentNetLastTrade\",, \"T\")/100,\"\")","v":-5.0323508267433505E-3},1784,1784,"S.US.BAF",2318,"S.US.EXCU"]
[null,null,"S.US.FAC",{"$f":"IFERROR(RTD(\"cqg.rtd\", ,\"ContractData\",C2319, \"PerCentNetLastTrade\",, \"T\")/100,\"\")","v":-3.1746031746031744E-2},2452,2452,"S.US.FAC",2319,"S.US.YELP"]
[null,null,"S.US.BBF",{"$f":"IFERROR(RTD(\"cqg.rtd\", ,\"ContractData\",C2320, \"PerCentNetLastTrade\",, \"T\")/100,\"\")","v":-7.2727272727272723E-4},1422,1422,"S.US.BBF",2320,"S.US.BRX"]
[null,null,"S.US.NNY",{"$f":"IFERROR(RTD(\"cqg.rtd\", ,\"ContractData\",C2321, \"PerCentNetLastTrade\",, \"T\")/100,\"\")","v":-4.2105263157894736E-3},1724,1724,"S.US.NNY",2321,"S.US.KRG"]
[null,null,"S.US.MNP",{"$f":"IFERROR(RTD(\"cqg.rtd\", ,\"ContractData\",C2322, \"PerCentNetLastTrade\",, \"T\")/100,\"\")","v":-6.0646900269541778E-3},1872,1872,"S.US.MNP",2322,"S.US.STWD"]
[null,null,"S.US.SRV",{"$f":"IFERROR(RTD(\"cqg.rtd\", ,\"ContractData\",C2323, \"PerCentNetLastTrade\",, \"T\")/100,\"\")","v":3.3442088091353996E-2},251,251,"S.US.SRV",2323,"S.US.TOL"]
[null,null,"S.US.PAR",{"$f":"IFERROR(RTD(\"cqg.rtd\", ,\"ContractData\",C2324, \"PerCentNetLastTrade\",, \"T\")/100,\"\")","v":1.1320754716981131E-2},654,654,"S.US.PAR",2324,"S.US.DLR"]
[null,null,"S.US.NTL",{"$f":"IFERROR(RTD(\"cqg.rtd\", ,\"ContractData\",C2325, \"PerCentNetLastTrade\",, \"T\")/100,\"\")","v":2.5488530161427358E-3},1148,1148,"S.US.NTL",2325,"S.US.NRF"]
[null,null,"S.US.BSE",{"$f":"IFERROR(RTD(\"cqg.rtd\", ,\"ContractData\",C2326, \"PerCentNetLastTrade\",, \"T\")/100,\"\")","v":-6.1967467079783109E-3},1878,1878,"S.US.BSE",2326,"S.US.IBP"]
[null,null,"S.US.MYJ",{"$f":"IFERROR(RTD(\"cqg.rtd\", ,\"ContractData\",C2327, \"PerCentNetLastTrade\",, \"T\")/100,\"\")","v":-1.273074474856779E-2},2190,2190,"S.US.MYJ",2327,"S.US.CAA"]
[null,null,"S.US.MFT",{"$f":"IFERROR(RTD(\"cqg.rtd\", ,\"ContractData\",C2328, \"PerCentNetLastTrade\",, \"T\")/100,\"\")","v":-1.1627906976744186E-2},2147,2147,"S.US.MFT",2328,"S.US.CTB"]
[null,null,"S.US.RGT",{"$f":"IFERROR(RTD(\"cqg.rtd\", ,\"ContractData\",C2329, \"PerCentNetLastTrade\",, \"T\")/100,\"\")","v":-1.2642225031605561E-3},1467,1467,"S.US.RGT",2329,"S.US.SSI"]
[null,null,"S.US.BCRH",{"$f":"IFERROR(RTD(\"cqg.rtd\", ,\"ContractData\",C2330, \"PerCentNetLastTrade\",, \"T\")/100,\"\")","v":-2.2172949002217295E-3},1557,1557,"S.US.BCRH",2330,"S.US.EPR"]
[null,null,"S.US.LOR",{"$f":"IFERROR(RTD(\"cqg.rtd\", ,\"ContractData\",C2331, \"PerCentNetLastTrade\",, \"T\")/100,\"\")","v":2.0725388601036268E-3},1186,1186,"S.US.LOR",2331,"S.US.NEE"]
[null,null,"S.US.MDLY",{"$f":"IFERROR(RTD(\"cqg.rtd\", ,\"ContractData\",C2332, \"PerCentNetLastTrade\",, \"T\")/100,\"\")","v":5.1282051282051273E-3},964,964,"S.US.MDLY",2332,"S.US.WTW"]
[null,null,"S.US.CYSPB",{"$f":"IFERROR(RTD(\"cqg.rtd\", ,\"ContractData\",C2333, \"PerCentNetLastTrade\",, \"T\")/100,\"\")","v":-4.7311827956989247E-3},1762,1762,"S.US.CYSPB",2333,"S.US.CYS"]
[null,null,"S.US.CHN",{"$f":"IFERROR(RTD(\"cqg.rtd\", ,\"ContractData\",C2334, \"PerCentNetLastTrade\",, \"T\")/100,\"\")","v":-6.2735257214554586E-4},1414,1414,"S.US.CHN",2334,"S.US.NOAH"]
[null,null,"S.US.OCIP",{"$f":"IFERROR(RTD(\"cqg.rtd\", ,\"ContractData\",C2335, \"PerCentNetLastTrade\",, \"T\")/100,\"\")","v":2.6548672566371681E-2},313,313,"S.US.OCIP",2335,"S.US.STAR"]
[null,null,"S.US.CCV",{"$f":"IFERROR(RTD(\"cqg.rtd\", ,\"ContractData\",C2336, \"PerCentNetLastTrade\",, \"T\")/100,\"\")","v":-5.9760956175298804E-3},1866,1866,"S.US.CCV",2336,"S.US.LMHB"]
[null,null,"S.US.NTX",{"$f":"IFERROR(RTD(\"cqg.rtd\", ,\"ContractData\",C2337, \"PerCentNetLastTrade\",, \"T\")/100,\"\")","v":-7.3046018991964933E-3},1952,1952,"S.US.NTX",2337,"S.US.NWE"]
[null,null,"S.US.MDLX",{"$f":"IFERROR(RTD(\"cqg.rtd\", ,\"ContractData\",C2338, \"PerCentNetLastTrade\",, \"T\")/100,\"\")","v":-2.5873221216041399E-3},1590,1590,"S.US.MDLX",2338,"S.US.KND"]
[null,null,"S.US.BSD",{"$f":"IFERROR(RTD(\"cqg.rtd\", ,\"ContractData\",C2339, \"PerCentNetLastTrade\",, \"T\")/100,\"\")","v":-5.9435364041604752E-3},1863,1863,"S.US.BSD",2339,"S.US.EGO"]
[null,null,"S.US.GGZ",{"$f":"IFERROR(RTD(\"cqg.rtd\", ,\"ContractData\",C2340, \"PerCentNetLastTrade\",, \"T\")/100,\"\")","v":0},1379,1379,"S.US.GGZ",2340,"S.US.AVA"]
[null,null,"S.US.NBD",{"$f":"IFERROR(RTD(\"cqg.rtd\", ,\"ContractData\",C2341, \"PerCentNetLastTrade\",, \"T\")/100,\"\")","v":-4.7846889952153108E-3},1768,1768,"S.US.NBD",2341,"S.US.BCR"]
[null,null,"S.US.SOR",{"$f":"IFERROR(RTD(\"cqg.rtd\", ,\"ContractData\",C2342, \"PerCentNetLastTrade\",, \"T\")/100,\"\")","v":-1.1182555213866368E-3},1454,1454,"S.US.SOR",2342,"S.US.NWL"]
[null,null,"S.US.AED",{"$f":"IFERROR(RTD(\"cqg.rtd\", ,\"ContractData\",C2343, \"PerCentNetLastTrade\",, \"T\")/100,\"\")","v":3.9541320680110717E-4},1317,1317,"S.US.AED",2343,"S.US.WEC"]
[null,null,"S.US.PNF",{"$f":"IFERROR(RTD(\"cqg.rtd\", ,\"ContractData\",C2344, \"PerCentNetLastTrade\",, \"T\")/100,\"\")","v":-8.5251491901108273E-3},2018,2018,"S.US.PNF",2344,"S.US.IAG"]
[null,null,"S.US.SYX",{"$f":"IFERROR(RTD(\"cqg.rtd\", ,\"ContractData\",C2345, \"PerCentNetLastTrade\",, \"T\")/100,\"\")","v":1.3969732246798603E-2},557,557,"S.US.SYX",2345,"S.US.HTA"]
[null,null,"S.US.DDE",{"$f":"IFERROR(RTD(\"cqg.rtd\", ,\"ContractData\",C2346, \"PerCentNetLastTrade\",, \"T\")/100,\"\")","v":0},1380,1380,"S.US.DDE",2346,"S.US.DTE"]
[null,null,"S.US.MVC",{"$f":"IFERROR(RTD(\"cqg.rtd\", ,\"ContractData\",C2347, \"PerCentNetLastTrade\",, \"T\")/100,\"\")","v":1.4018691588785047E-2},556,556,"S.US.MVC",2347,"S.US.CRI"]
[null,null,"S.US.TVE",{"$f":"IFERROR(RTD(\"cqg.rtd\", ,\"ContractData\",C2348, \"PerCentNetLastTrade\",, \"T\")/100,\"\")","v":8.2203041512535961E-4},1289,1289,"S.US.TVE",2348,"S.US.AEE"]
[null,null,"S.US.SAR",{"$f":"IFERROR(RTD(\"cqg.rtd\", ,\"ContractData\",C2349, \"PerCentNetLastTrade\",, \"T\")/100,\"\")","v":4.9407114624505926E-4},1310,1310,"S.US.SAR",2349,"S.US.NHI"]
[null,null,"S.US.SGM",{"$f":"IFERROR(RTD(\"cqg.rtd\", ,\"ContractData\",C2350, \"PerCentNetLastTrade\",, \"T\")/100,\"\")","v":""},{"$error":"#VALUE!"},"","S.US.SGM",2350,"S.US.GIB"]
[null,null,"S.US.STN",{"$f":"IFERROR(RTD(\"cqg.rtd\", ,\"ContractData\",C2351, \"PerCentNetLastTrade\",, \"T\")/100,\"\")","v":1.3232514177693762E-2},581,581,"S.US.STN",2351,"S.US.EIX"]
[null,null,"S.US.JHS",{"$f":"IFERROR(RTD(\"cqg.rtd\", ,\"ContractData\",C2352, \"PerCentNetLastTrade\",, \"T\")/100,\"\")","v":-2.1613832853025934E-3},1553,1553,"S.US.JHS",2352,"S.US.STOR"]
[null,null,"S.US.CPAC",{"$f":"IFERROR(RTD(\"cqg.rtd\", ,\"ContractData\",C2353, \"PerCentNetLastTrade\",, \"T\")/100,\"\")","v":2.2148394241417496E-3},1175,1175,"S.US.CPAC",2353,"S.US.CDE"]
[null,null,"S.US.DTF",{"$f":"IFERROR(RTD(\"cqg.rtd\", ,\"ContractData\",C2354, \"PerCentNetLastTrade\",, \"T\")/100,\"\")","v":-6.2240663900414942E-3},1880,1880,"S.US.DTF",2354,"S.US.CLNY"]
[null,null,"S.US.JP",{"$f":"IFERROR(RTD(\"cqg.rtd\", ,\"ContractData\",C2355, \"PerCentNetLastTrade\",, \"T\")/100,\"\")","v":""},{"$error":"#VALUE!"},"","S.US.JP",2355,"S.US.GOL"]
[null,null,"S.US.COE",{"$f":"IFERROR(RTD(\"cqg.rtd\", ,\"ContractData\",C2356, \"PerCentNetLastTrade\",, \"T\")/100,\"\")","v":-8.62688713156003E-3},2023,2023,"S.US.COE",2356,"S.US.NLY"]
[null,null,"S.US.GF",{"$f":"IFERROR(RTD(\"cqg.rtd\", ,\"ContractData\",C2357, \"PerCentNetLastTrade\",, \"T\")/100,\"\")","v":3.8461538461538464E-3},1066,1066,"S.US.GF",2357,"S.US.BKH"]
[null,null,"S.US.AKOB",{"$f":"IFERROR(RTD(\"cqg.rtd\", ,\"ContractData\",C2358, \"PerCentNetLastTrade\",, \"T\")/100,\"\")","v":0},1381,1381,"S.US.AKOB",2358,"S.US.TSN"]
[null,null,"S.US.MZF",{"$f":"IFERROR(RTD(\"cqg.rtd\", ,\"ContractData\",C2359, \"PerCentNetLastTrade\",, \"T\")/100,\"\")","v":-6.8181818181818179E-3},1927,1927,"S.US.MZF",2359,"S.US.WPC"]
[null,null,"S.US.KFS",{"$f":"IFERROR(RTD(\"cqg.rtd\", ,\"ContractData\",C2360, \"PerCentNetLastTrade\",, \"T\")/100,\"\")","v":1.5254237288135592E-2},518,518,"S.US.KFS",2360,"S.US.EBS"]
[null,null,"S.US.MXE",{"$f":"IFERROR(RTD(\"cqg.rtd\", ,\"ContractData\",C2361, \"PerCentNetLastTrade\",, \"T\")/100,\"\")","v":-6.4102564102564109E-3},1903,1903,"S.US.MXE",2361,"S.US.OHI"]
[null,null,"S.US.BNJ",{"$f":"IFERROR(RTD(\"cqg.rtd\", ,\"ContractData\",C2362, \"PerCentNetLastTrade\",, \"T\")/100,\"\")","v":-9.4915254237288131E-3},2057,2057,"S.US.BNJ",2362,"S.US.NEP"]
[null,null,"S.US.XNY",{"$f":"IFERROR(RTD(\"cqg.rtd\", ,\"ContractData\",C2363, \"PerCentNetLastTrade\",, \"T\")/100,\"\")","v":-3.3112582781456956E-2},2455,2455,"S.US.XNY",2363,"S.US.CUDA"]
[null,null,"S.US.NRT",{"$f":"IFERROR(RTD(\"cqg.rtd\", ,\"ContractData\",C2364, \"PerCentNetLastTrade\",, \"T\")/100,\"\")","v":2.8985507246376812E-2},291,291,"S.US.NRT",2364,"S.US.HE"]
[null,null,"S.US.CRT",{"$f":"IFERROR(RTD(\"cqg.rtd\", ,\"ContractData\",C2365, \"PerCentNetLastTrade\",, \"T\")/100,\"\")","v":2.821869488536155E-2},300,300,"S.US.CRT",2365,"S.US.MUSA"]
[null,null,"S.US.DL",{"$f":"IFERROR(RTD(\"cqg.rtd\", ,\"ContractData\",C2366, \"PerCentNetLastTrade\",, \"T\")/100,\"\")","v":1.8085908063300678E-2},450,450,"S.US.DL",2366,"S.US.PSB"]
[null,null,"S.US.BBU",{"$f":"IFERROR(RTD(\"cqg.rtd\", ,\"ContractData\",C2367, \"PerCentNetLastTrade\",, \"T\")/100,\"\")","v":0},1382,1382,"S.US.BBU",2367,"S.US.SHW"]
[null,null,"S.US.FPT",{"$f":"IFERROR(RTD(\"cqg.rtd\", ,\"ContractData\",C2368, \"PerCentNetLastTrade\",, \"T\")/100,\"\")","v":-3.9215686274509803E-3},1704,1704,"S.US.FPT",2368,"S.US.HCN"]
[null,null,"S.US.JMM",{"$f":"IFERROR(RTD(\"cqg.rtd\", ,\"ContractData\",C2369, \"PerCentNetLastTrade\",, \"T\")/100,\"\")","v":""},{"$error":"#VALUE!"},{"$f":"IFERROR(E2369,\"\")","v":""},{"$f":"C2369","v":"S.US.JMM"},2369,{"$f":"IFERROR(VLOOKUP(H2369,$F$1:$G$2522,2,FALSE),\"\")","v":"S.US.ETR"}]
[null,null,"S.US.WMLP",{"$f":"IFERROR(RTD(\"cqg.rtd\", ,\"ContractData\",C2370, \"PerCentNetLastTrade\",, \"T\")/100,\"\")","v":4.1450777202072533E-2},196,196,"S.US.WMLP",{"$f":"H2369+1","v":2370},"S.US.I"]
[null,null,"S.US.SBR",{"$f":"IFERROR(RTD(\"cqg.rtd\", ,\"ContractData\",C2371, \"PerCentNetLastTrade\",, \"T\")/100,\"\")","v":2.0143884892086329E-2},399,399,"S.US.SBR",2371,"S.US.AA"]
[null,null,"S.US.SPE",{"$f":"IFERROR(RTD(\"cqg.rtd\", ,\"ContractData\",C2372, \"PerCentNetLastTrade\",, \"T\")/100,\"\")","v":4.971590909090909E-3},982,982,"S.US.SPE",2372,"S.US.TFX"]
[null,null,"S.US.AIB",{"$f":"IFERROR(RTD(\"cqg.rtd\", ,\"ContractData\",C2373, \"PerCentNetLastTrade\",, \"T\")/100,\"\")","v":-2.0056157240272766E-3},1538,1538,"S.US.AIB",2373,"S.US.PFGC"]
[null,null,"S.US.CEA",{"$f":"IFERROR(RTD(\"cqg.rtd\", ,\"ContractData\",C2374, \"PerCentNetLastTrade\",, \"T\")/100,\"\")","v":3.1397849462365589E-2},268,268,"S.US.CEA",2374,"S.US.RBS"]
[null,null,"S.US.JHI",{"$f":"IFERROR(RTD(\"cqg.rtd\", ,\"ContractData\",C2375, \"PerCentNetLastTrade\",, \"T\")/100,\"\")","v":5.3731343283582086E-3},952,952,"S.US.JHI",2375,"S.US.FUL"]
[null,null,"S.US.CEL",{"$f":"IFERROR(RTD(\"cqg.rtd\", ,\"ContractData\",C2376, \"PerCentNetLastTrade\",, \"T\")/100,\"\")","v":1.375E-2},564,564,"S.US.CEL",2376,"S.US.LTC"]
[null,null,"S.US.TPZ",{"$f":"IFERROR(RTD(\"cqg.rtd\", ,\"ContractData\",C2377, \"PerCentNetLastTrade\",, \"T\")/100,\"\")","v":9.433962264150943E-3},736,736,"S.US.TPZ",2377,"S.US.BDX"]
[null,null,"S.US.NMT",{"$f":"IFERROR(RTD(\"cqg.rtd\", ,\"ContractData\",C2378, \"PerCentNetLastTrade\",, \"T\")/100,\"\")","v":-7.4404761904761909E-3},1959,1959,"S.US.NMT",2378,"S.US.ALR"]
[null,null,"S.US.SAQ",{"$f":"IFERROR(RTD(\"cqg.rtd\", ,\"ContractData\",C2379, \"PerCentNetLastTrade\",, \"T\")/100,\"\")","v":-1.9801980198019802E-3},1534,1534,"S.US.SAQ",2379,"S.US.VAR"]
[null,null,"S.US.MSL",{"$f":"IFERROR(RTD(\"cqg.rtd\", ,\"ContractData\",C2380, \"PerCentNetLastTrade\",, \"T\")/100,\"\")","v":""},{"$error":"#VALUE!"},"","S.US.MSL",2380,"S.US.DFT"]
[null,null,"S.US.SRF",{"$f":"IFERROR(RTD(\"cqg.rtd\", ,\"ContractData\",C2381, \"PerCentNetLastTrade\",, \"T\")/100,\"\")","v":4.3756670224119533E-2},181,181,"S.US.SRF",2381,"S.US.BXMT"]
[null,null,"S.US.BFA",{"$f":"IFERROR(RTD(\"cqg.rtd\", ,\"ContractData\",C2382, \"PerCentNetLastTrade\",, \"T\")/100,\"\")","v":-1.0229132569558102E-2},2090,2090,"S.US.BFA",2382,"S.US.LNT"]
[null,null,"S.US.LBF",{"$f":"IFERROR(RTD(\"cqg.rtd\", ,\"ContractData\",C2383, \"PerCentNetLastTrade\",, \"T\")/100,\"\")","v":1.2285012285012285E-3},1242,1242,"S.US.LBF",2383,"S.US.CSC"]
[null,null,"S.US.JPW",{"$f":"IFERROR(RTD(\"cqg.rtd\", ,\"ContractData\",C2384, \"PerCentNetLastTrade\",, \"T\")/100,\"\")","v":-1.8714909544603866E-3},1518,1518,"S.US.JPW",2384,"S.US.EXC"]
[null,null,"S.US.LDF",{"$f":"IFERROR(RTD(\"cqg.rtd\", ,\"ContractData\",C2385, \"PerCentNetLastTrade\",, \"T\")/100,\"\")","v":1.0638297872340425E-2},679,679,"S.US.LDF",2385,"S.US.COR"]
[null,null,"S.US.MITTPB",{"$f":"IFERROR(RTD(\"cqg.rtd\", ,\"ContractData\",C2386, \"PerCentNetLastTrade\",, \"T\")/100,\"\")","v":1.6604400166044002E-3},1216,1216,"S.US.MITTPB",2386,"S.US.EVH"]
[null,null,"S.US.AFW",{"$f":"IFERROR(RTD(\"cqg.rtd\", ,\"ContractData\",C2387, \"PerCentNetLastTrade\",, \"T\")/100,\"\")","v":-7.9302141157811261E-4},1430,1430,"S.US.AFW",2387,"S.US.FDP"]
[null,null,"S.US.TPL",{"$f":"IFERROR(RTD(\"cqg.rtd\", ,\"ContractData\",C2388, \"PerCentNetLastTrade\",, \"T\")/100,\"\")","v":1.8317292766221672E-2},440,440,"S.US.TPL",2388,"S.US.AG"]
[null,null,"S.US.TKF",{"$f":"IFERROR(RTD(\"cqg.rtd\", ,\"ContractData\",C2389, \"PerCentNetLastTrade\",, \"T\")/100,\"\")","v":-1.3043478260869566E-2},2197,2197,"S.US.TKF",2389,"S.US.EFX"]
[null,null,"S.US.MCI",{"$f":"IFERROR(RTD(\"cqg.rtd\", ,\"ContractData\",C2390, \"PerCentNetLastTrade\",, \"T\")/100,\"\")","v":4.9627791563275434E-3},983,983,"S.US.MCI",2390,"S.US.FICO"]
[null,null,"S.US.SGZA",{"$f":"IFERROR(RTD(\"cqg.rtd\", ,\"ContractData\",C2391, \"PerCentNetLastTrade\",, \"T\")/100,\"\")","v":-1.0590631364562118E-2},2105,2105,"S.US.SGZA",2391,"S.US.ELS"]
[null,null,"S.US.TDE",{"$f":"IFERROR(RTD(\"cqg.rtd\", ,\"ContractData\",C2392, \"PerCentNetLastTrade\",, \"T\")/100,\"\")","v":-7.770961145194274E-3},1973,1973,"S.US.TDE",2392,"S.US.PNW"]
[null,null,"S.US.TDA",{"$f":"IFERROR(RTD(\"cqg.rtd\", ,\"ContractData\",C2393, \"PerCentNetLastTrade\",, \"T\")/100,\"\")","v":-1.1681268251981645E-2},2150,2150,"S.US.TDA",2393,"S.US.CLGX"]
[null,null,"S.US.WPXP",{"$f":"IFERROR(RTD(\"cqg.rtd\", ,\"ContractData\",C2394, \"PerCentNetLastTrade\",, \"T\")/100,\"\")","v":0.15777425603099138},16,16,"S.US.WPXP",2394,"S.US.FGP"]
[null,null,"S.US.KF",{"$f":"IFERROR(RTD(\"cqg.rtd\", ,\"ContractData\",C2395, \"PerCentNetLastTrade\",, \"T\")/100,\"\")","v":-1.8518518518518517E-3},1515,1515,"S.US.KF",2395,"S.US.GRAM"]
[null,null,"S.US.SGF",{"$f":"IFERROR(RTD(\"cqg.rtd\", ,\"ContractData\",C2396, \"PerCentNetLastTrade\",, \"T\")/100,\"\")","v":1.1337868480725623E-2},652,652,"S.US.SGF",2396,"S.US.TKC"]
[null,null,"S.US.SRLP",{"$f":"IFERROR(RTD(\"cqg.rtd\", ,\"ContractData\",C2397, \"PerCentNetLastTrade\",, \"T\")/100,\"\")","v":6.4655172413793103E-3},893,893,"S.US.SRLP",2397,"S.US.RY"]
[null,null,"S.US.GCH",{"$f":"IFERROR(RTD(\"cqg.rtd\", ,\"ContractData\",C2398, \"PerCentNetLastTrade\",, \"T\")/100,\"\")","v":2.2271714922049001E-3},1174,1174,"S.US.GCH",2398,"S.US.MX"]
[null,null,"S.US.TTF",{"$f":"IFERROR(RTD(\"cqg.rtd\", ,\"ContractData\",C2399, \"PerCentNetLastTrade\",, \"T\")/100,\"\")","v":1.1464968152866241E-2},647,647,"S.US.TTF",2399,"S.US.DUK"]
[null,null,"S.US.MNI",{"$f":"IFERROR(RTD(\"cqg.rtd\", ,\"ContractData\",C2400, \"PerCentNetLastTrade\",, \"T\")/100,\"\")","v":-1.4275517487508924E-3},1484,1484,"S.US.MNI",2400,"S.US.WLH"]
[null,null,"S.US.ZNH",{"$f":"IFERROR(RTD(\"cqg.rtd\", ,\"ContractData\",C2401, \"PerCentNetLastTrade\",, \"T\")/100,\"\")","v":-8.3044982698961926E-3},2007,2007,"S.US.ZNH",2401,"S.US.ANFI"]
[null,null,"S.US.CCM",{"$f":"IFERROR(RTD(\"cqg.rtd\", ,\"ContractData\",C2402, \"PerCentNetLastTrade\",, \"T\")/100,\"\")","v":0},1383,1383,"S.US.CCM",2402,"S.US.PNM"]
[null,null,"S.US.SZC",{"$f":"IFERROR(RTD(\"cqg.rtd\", ,\"ContractData\",C2403, \"PerCentNetLastTrade\",, \"T\")/100,\"\")","v":3.9250146455770359E-2},202,202,"S.US.SZC",2403,"S.US.XEL"]
[null,null,"S.US.LITB",{"$f":"IFERROR(RTD(\"cqg.rtd\", ,\"ContractData\",C2404, \"PerCentNetLastTrade\",, \"T\")/100,\"\")","v":-3.7037037037037034E-3},1680,1680,"S.US.LITB",2404,"S.US.KATE"]
[null,null,"S.US.MFV",{"$f":"IFERROR(RTD(\"cqg.rtd\", ,\"ContractData\",C2405, \"PerCentNetLastTrade\",, \"T\")/100,\"\")","v":1.8248175182481751E-3},1203,1203,"S.US.MFV",2405,"S.US.NPTN"]
[null,null,"S.US.NC",{"$f":"IFERROR(RTD(\"cqg.rtd\", ,\"ContractData\",C2406, \"PerCentNetLastTrade\",, \"T\")/100,\"\")","v":-1.3896037056098815E-2},2234,2234,"S.US.NC",2406,"S.US.AEP"]
[null,null,"S.US.EQCO",{"$f":"IFERROR(RTD(\"cqg.rtd\", ,\"ContractData\",C2407, \"PerCentNetLastTrade\",, \"T\")/100,\"\")","v":-5.7306590257879654E-3},1845,1845,"S.US.EQCO",2407,"S.US.GPT"]
[null,null,"S.US.CEE",{"$f":"IFERROR(RTD(\"cqg.rtd\", ,\"ContractData\",C2408, \"PerCentNetLastTrade\",, \"T\")/100,\"\")","v":1.1621764395139988E-2},637,637,"S.US.CEE",2408,"S.US.AEM"]
[null,null,"S.US.AEUA",{"$f":"IFERROR(RTD(\"cqg.rtd\", ,\"ContractData\",C2409, \"PerCentNetLastTrade\",, \"T\")/100,\"\")","v":2.7482050012379303E-2},304,304,"S.US.AEUA",2409,"S.US.AAC"]
[null,null,"S.US.EAB",{"$f":"IFERROR(RTD(\"cqg.rtd\", ,\"ContractData\",C2410, \"PerCentNetLastTrade\",, \"T\")/100,\"\")","v":-3.8643194504079004E-3},1695,1695,"S.US.EAB",2410,"S.US.ZTO"]
[null,null,"S.US.BJZ",{"$f":"IFERROR(RTD(\"cqg.rtd\", ,\"ContractData\",C2411, \"PerCentNetLastTrade\",, \"T\")/100,\"\")","v":0},1384,1384,"S.US.BJZ",2411,"S.US.HNR"]
[null,null,"S.US.SCX",{"$f":"IFERROR(RTD(\"cqg.rtd\", ,\"ContractData\",C2412, \"PerCentNetLastTrade\",, \"T\")/100,\"\")","v":4.3715846994535526E-2},182,182,"S.US.SCX",2412,"S.US.DOC"]
[null,null,"S.US.DDF",{"$f":"IFERROR(RTD(\"cqg.rtd\", ,\"ContractData\",C2413, \"PerCentNetLastTrade\",, \"T\")/100,\"\")","v":-2.0639834881320948E-3},1542,1542,"S.US.DDF",2413,"S.US.EXK"]
[null,null,"S.US.WTM",{"$f":"IFERROR(RTD(\"cqg.rtd\", ,\"ContractData\",C2414, \"PerCentNetLastTrade\",, \"T\")/100,\"\")","v":-2.9129280190919619E-3},1615,1615,"S.US.WTM",2414,"S.US.NNN"]
[null,null,"S.US.ELU",{"$f":"IFERROR(RTD(\"cqg.rtd\", ,\"ContractData\",C2415, \"PerCentNetLastTrade\",, \"T\")/100,\"\")","v":1.7497812773403323E-3},1208,1208,"S.US.ELU",2415,"S.US.VER"]
[null,null,"S.US.EAE",{"$f":"IFERROR(RTD(\"cqg.rtd\", ,\"ContractData\",C2416, \"PerCentNetLastTrade\",, \"T\")/100,\"\")","v":-1.0457516339869282E-2},2099,2099,"S.US.EAE",2416,"S.US.D"]
[null,null,"S.US.APF",{"$f":"IFERROR(RTD(\"cqg.rtd\", ,\"ContractData\",C2417, \"PerCentNetLastTrade\",, \"T\")/100,\"\")","v":5.1020408163265311E-3},968,968,"S.US.APF",2417,"S.US.CDI"]
[null,null,"S.US.KST",{"$f":"IFERROR(RTD(\"cqg.rtd\", ,\"ContractData\",C2418, \"PerCentNetLastTrade\",, \"T\")/100,\"\")","v":8.5106382978723403E-4},1283,1283,"S.US.KST",2418,"S.US.KGC"]
[null,null,"S.US.LND",{"$f":"IFERROR(RTD(\"cqg.rtd\", ,\"ContractData\",C2419, \"PerCentNetLastTrade\",, \"T\")/100,\"\")","v":""},{"$error":"#VALUE!"},"","S.US.LND",2419,"S.US.RCL"]
[null,null,"S.US.NMI",{"$f":"IFERROR(RTD(\"cqg.rtd\", ,\"ContractData\",C2420, \"PerCentNetLastTrade\",, \"T\")/100,\"\")","v":-6.2166962699822378E-3},1879,1879,"S.US.NMI",2420,"S.US.AWK"]
[null,null,"S.US.EEA",{"$f":"IFERROR(RTD(\"cqg.rtd\", ,\"ContractData\",C2421, \"PerCentNetLastTrade\",, \"T\")/100,\"\")","v":1.3661202185792352E-3},1236,1236,"S.US.EEA",2421,"S.US.HRL"]
[null,null,"S.US.ELJ",{"$f":"IFERROR(RTD(\"cqg.rtd\", ,\"ContractData\",C2422, \"PerCentNetLastTrade\",, \"T\")/100,\"\")","v":-8.7318087318087323E-3},2028,2028,"S.US.ELJ",2422,"S.US.OC"]
[null,null,"S.US.TWN",{"$f":"IFERROR(RTD(\"cqg.rtd\", ,\"ContractData\",C2423, \"PerCentNetLastTrade\",, \"T\")/100,\"\")","v":0},1385,1385,"S.US.TWN",2423,"S.US.CMS"]
[null,null,"S.US.BBX",{"$f":"IFERROR(RTD(\"cqg.rtd\", ,\"ContractData\",C2424, \"PerCentNetLastTrade\",, \"T\")/100,\"\")","v":-5.9660394676457097E-3},1865,1865,"S.US.BBX",2424,"S.US.GLOB"]
[null,null,"S.US.HMLP",{"$f":"IFERROR(RTD(\"cqg.rtd\", ,\"ContractData\",C2425, \"PerCentNetLastTrade\",, \"T\")/100,\"\")","v":-6.36604774535809E-3},1898,1898,"S.US.HMLP",2425,"S.US.O"]
[null,null,"S.US.VTRB",{"$f":"IFERROR(RTD(\"cqg.rtd\", ,\"ContractData\",C2426, \"PerCentNetLastTrade\",, \"T\")/100,\"\")","v":-5.2229811169144233E-3},1803,1803,"S.US.VTRB",2426,"S.US.YUME"]
[null,null,"S.US.JEQ",{"$f":"IFERROR(RTD(\"cqg.rtd\", ,\"ContractData\",C2427, \"PerCentNetLastTrade\",, \"T\")/100,\"\")","v":0},1386,1386,"S.US.JEQ",2427,"S.US.NGVC"]
[null,null,"S.US.IHC",{"$f":"IFERROR(RTD(\"cqg.rtd\", ,\"ContractData\",C2428, \"PerCentNetLastTrade\",, \"T\")/100,\"\")","v":7.575757575757576E-3},837,837,"S.US.IHC",2428,"S.US.MGP"]
[null,null,"S.US.TVC",{"$f":"IFERROR(RTD(\"cqg.rtd\", ,\"ContractData\",C2429, \"PerCentNetLastTrade\",, \"T\")/100,\"\")","v":1.2009607686148921E-3},1247,1247,"S.US.TVC",2429,"S.US.MNR"]
[null,null,"S.US.IRL",{"$f":"IFERROR(RTD(\"cqg.rtd\", ,\"ContractData\",C2430, \"PerCentNetLastTrade\",, \"T\")/100,\"\")","v":6.7510548523206752E-3},876,876,"S.US.IRL",2430,"S.US.HGG"]
[null,null,"S.US.ALX",{"$f":"IFERROR(RTD(\"cqg.rtd\", ,\"ContractData\",C2431, \"PerCentNetLastTrade\",, \"T\")/100,\"\")","v":4.5861849996472167E-3},1003,1003,"S.US.ALX",2431,"S.US.RGR"]
[null,null,"S.US.MPV",{"$f":"IFERROR(RTD(\"cqg.rtd\", ,\"ContractData\",C2432, \"PerCentNetLastTrade\",, \"T\")/100,\"\")","v":""},{"$error":"#VALUE!"},"","S.US.MPV",2432,"S.US.FBR"]
[null,null,"S.US.NKG",{"$f":"IFERROR(RTD(\"cqg.rtd\", ,\"ContractData\",C2433, \"PerCentNetLastTrade\",, \"T\")/100,\"\")","v":-1.5432098765432098E-3},1495,{"$f":"IFERROR(E2433,\"\")","v":1495},{"$f":"C2433","v":"S.US.NKG"},2433,{"$f":"IFERROR(VLOOKUP(H2433,$F$1:$G$2522,2,FALSE),\"\")","v":"S.US.SRC"}]
[null,null,"S.US.ARU",{"$f":"IFERROR(RTD(\"cqg.rtd\", ,\"ContractData\",C2434, \"PerCentNetLastTrade\",, \"T\")/100,\"\")","v":-3.9323633503735744E-4},1402,1402,"S.US.ARU",{"$f":"H2433+1","v":2434},"S.US.ASA"]
[null,null,"S.US.TDJ",{"$f":"IFERROR(RTD(\"cqg.rtd\", ,\"ContractData\",C2435, \"PerCentNetLastTrade\",, \"T\")/100,\"\")","v":-2.7899561578318055E-3},1603,1603,"S.US.TDJ",2435,"S.US.FE"]
[null,null,"S.US.AFC",{"$f":"IFERROR(RTD(\"cqg.rtd\", ,\"ContractData\",C2436, \"PerCentNetLastTrade\",, \"T\")/100,\"\")","v":-6.2843676355066767E-3},1888,1888,"S.US.AFC",2436,"S.US.DHI"]
[null,null,"S.US.NXC",{"$f":"IFERROR(RTD(\"cqg.rtd\", ,\"ContractData\",C2437, \"PerCentNetLastTrade\",, \"T\")/100,\"\")","v":-1.9620667102681491E-3},1531,1531,"S.US.NXC",2437,"S.US.BAX"]
[null,null,"S.US.CGG",{"$f":"IFERROR(RTD(\"cqg.rtd\", ,\"ContractData\",C2438, \"PerCentNetLastTrade\",, \"T\")/100,\"\")","v":7.7217125382262997E-2},98,98,"S.US.CGG",2438,"S.US.ARA"]
[null,null,"S.US.GZT",{"$f":"IFERROR(RTD(\"cqg.rtd\", ,\"ContractData\",C2439, \"PerCentNetLastTrade\",, \"T\")/100,\"\")","v":-5.5248618784530393E-3},1823,1823,"S.US.GZT",2439,"S.US.TUP"]
[null,null,"S.US.ODC",{"$f":"IFERROR(RTD(\"cqg.rtd\", ,\"ContractData\",C2440, \"PerCentNetLastTrade\",, \"T\")/100,\"\")","v":1.6666666666666666E-2},485,485,"S.US.ODC",2440,"S.US.LEN"]
[null,null,"S.US.BFO",{"$f":"IFERROR(RTD(\"cqg.rtd\", ,\"ContractData\",C2441, \"PerCentNetLastTrade\",, \"T\")/100,\"\")","v":""},{"$error":"#VALUE!"},"","S.US.BFO",2441,"S.US.WTR"]
[null,null,"S.US.ICB",{"$f":"IFERROR(RTD(\"cqg.rtd\", ,\"ContractData\",C2442, \"PerCentNetLastTrade\",, \"T\")/100,\"\")","v":-3.9705048213272828E-3},1711,1711,"S.US.ICB",2442,"S.US.GRA"]
[null,null,"S.US.JHX",{"$f":"IFERROR(RTD(\"cqg.rtd\", ,\"ContractData\",C2443, \"PerCentNetLastTrade\",, \"T\")/100,\"\")","v":-3.1867431485022306E-3},1640,1640,"S.US.JHX",2443,"S.US.HL"]
[null,null,"S.US.MHNB",{"$f":"IFERROR(RTD(\"cqg.rtd\", ,\"ContractData\",C2444, \"PerCentNetLastTrade\",, \"T\")/100,\"\")","v":-1.1636927851047323E-3},1457,1457,"S.US.MHNB",2444,"S.US.SLW"]
[null,null,"S.US.MTR",{"$f":"IFERROR(RTD(\"cqg.rtd\", ,\"ContractData\",C2445, \"PerCentNetLastTrade\",, \"T\")/100,\"\")","v":4.9019607843137254E-3},987,987,"S.US.MTR",2445,"S.US.VLO"]
[null,null,"S.US.JMT",{"$f":"IFERROR(RTD(\"cqg.rtd\", ,\"ContractData\",C2446, \"PerCentNetLastTrade\",, \"T\")/100,\"\")","v":""},{"$error":"#VALUE!"},"","S.US.JMT",2446,"S.US.ANF"]
[null,null,"S.US.SLTB",{"$f":"IFERROR(RTD(\"cqg.rtd\", ,\"ContractData\",C2447, \"PerCentNetLastTrade\",, \"T\")/100,\"\")","v":1.0854816824966078E-2},670,670,"S.US.SLTB",2447,"S.US.HMY"]
[null,null,"S.US.NXN",{"$f":"IFERROR(RTD(\"cqg.rtd\", ,\"ContractData\",C2448, \"PerCentNetLastTrade\",, \"T\")/100,\"\")","v":-6.7064083457526076E-3},1919,1919,"S.US.NXN",2448,"S.US.AHH"]
[null,null,"S.US.FMY",{"$f":"IFERROR(RTD(\"cqg.rtd\", ,\"ContractData\",C2449, \"PerCentNetLastTrade\",, \"T\")/100,\"\")","v":""},{"$error":"#VALUE!"},"","S.US.FMY",2449,"S.US.CUK"]
[null,null,"S.US.AXR",{"$f":"IFERROR(RTD(\"cqg.rtd\", ,\"ContractData\",C2450, \"PerCentNetLastTrade\",, \"T\")/100,\"\")","v":0},1387,1387,"S.US.AXR",2450,"S.US.H"]
[null,null,"S.US.EGF",{"$f":"IFERROR(RTD(\"cqg.rtd\", ,\"ContractData\",C2451, \"PerCentNetLastTrade\",, \"T\")/100,\"\")","v":0},1388,1388,"S.US.EGF",2451,"S.US.YZC"]
[null,null,"S.US.JFC",{"$f":"IFERROR(RTD(\"cqg.rtd\", ,\"ContractData\",C2452, \"PerCentNetLastTrade\",, \"T\")/100,\"\")","v":1.2217470983506415E-3},1243,1243,"S.US.JFC",2452,"S.US.FAC"]
[null,null,"S.US.KTP",{"$f":"IFERROR(RTD(\"cqg.rtd\", ,\"ContractData\",C2453, \"PerCentNetLastTrade\",, \"T\")/100,\"\")","v":-1.2566457225712903E-2},2181,2181,"S.US.KTP",2453,"S.US.GG"]
[null,null,"S.US.DDT",{"$f":"IFERROR(RTD(\"cqg.rtd\", ,\"ContractData\",C2454, \"PerCentNetLastTrade\",, \"T\")/100,\"\")","v":-5.4858934169278997E-3},1819,1819,"S.US.DDT",2454,"S.US.CCL"]
[null,null,"S.US.SLRA",{"$f":"IFERROR(RTD(\"cqg.rtd\", ,\"ContractData\",C2455, \"PerCentNetLastTrade\",, \"T\")/100,\"\")","v":""},{"$error":"#VALUE!"},"","S.US.SLRA",2455,"S.US.XNY"]
[null,null,"S.US.CHKPD",{"$f":"IFERROR(RTD(\"cqg.rtd\", ,\"ContractData\",C2456, \"PerCentNetLastTrade\",, \"T\")/100,\"\")","v":4.4920877998979064E-2},175,175,"S.US.CHKPD",2456,"S.US.YGE"]
[null,null,"S.US.APB",{"$f":"IFERROR(RTD(\"cqg.rtd\", ,\"ContractData\",C2457, \"PerCentNetLastTrade\",, \"T\")/100,\"\")","v":""},{"$error":"#VALUE!"},"","S.US.APB",2457,"S.US.ABX"]
[null,null,"S.US.DXPB",{"$f":"IFERROR(RTD(\"cqg.rtd\", ,\"ContractData\",C2458, \"PerCentNetLastTrade\",, \"T\")/100,\"\")","v":-2.1141649048625794E-3},1550,1550,"S.US.DXPB",2458,"S.US.KEN"]
[null,null,"S.US.KEF",{"$f":"IFERROR(RTD(\"cqg.rtd\", ,\"ContractData\",C2459, \"PerCentNetLastTrade\",, \"T\")/100,\"\")","v":6.5963060686015824E-3},887,887,"S.US.KEF",2459,"S.US.IMN"]
[null,null,"S.US.BXC",{"$f":"IFERROR(RTD(\"cqg.rtd\", ,\"ContractData\",C2460, \"PerCentNetLastTrade\",, \"T\")/100,\"\")","v":-5.0697084917617243E-3},1790,1790,"S.US.BXC",2460,"S.US.KDMN"]
[null,null,"S.US.KYO",{"$f":"IFERROR(RTD(\"cqg.rtd\", ,\"ContractData\",C2461, \"PerCentNetLastTrade\",, \"T\")/100,\"\")","v":8.2644628099173552E-4},1288,1288,"S.US.KYO",2461,"S.US.ACH"]
[null,null,"S.US.KFI",{"$f":"IFERROR(RTD(\"cqg.rtd\", ,\"ContractData\",C2462, \"PerCentNetLastTrade\",, \"T\")/100,\"\")","v":0},1389,1389,"S.US.KFI",2462,"S.US.NEM"]
[null,null,"S.US.BH",{"$f":"IFERROR(RTD(\"cqg.rtd\", ,\"ContractData\",C2463, \"PerCentNetLastTrade\",, \"T\")/100,\"\")","v":5.7756678115907156E-3},931,931,"S.US.BH",2463,"S.US.WPG"]
[null,null,"S.US.MITTPA",{"$f":"IFERROR(RTD(\"cqg.rtd\", ,\"ContractData\",C2464, \"PerCentNetLastTrade\",, \"T\")/100,\"\")","v":""},{"$error":"#VALUE!"},"","S.US.MITTPA",2464,"S.US.NVRO"]
[null,null,"S.US.BLH",{"$f":"IFERROR(RTD(\"cqg.rtd\", ,\"ContractData\",C2465, \"PerCentNetLastTrade\",, \"T\")/100,\"\")","v":""},{"$error":"#VALUE!"},"","S.US.BLH",2465,"S.US.LEE"]
[null,null,"S.US.KMPA",{"$f":"IFERROR(RTD(\"cqg.rtd\", ,\"ContractData\",C2466, \"PerCentNetLastTrade\",, \"T\")/100,\"\")","v":4.2340261739799842E-3},1027,1027,"S.US.KMPA",2466,"S.US.GWRE"]
[null,null,"S.US.AIY",{"$f":"IFERROR(RTD(\"cqg.rtd\", ,\"ContractData\",C2467, \"PerCentNetLastTrade\",, \"T\")/100,\"\")","v":-4.7021943573667714E-3},1759,1759,"S.US.AIY",2467,"S.US.NOMD"]
[null,null,"S.US.EZT",{"$f":"IFERROR(RTD(\"cqg.rtd\", ,\"ContractData\",C2468, \"PerCentNetLastTrade\",, \"T\")/100,\"\")","v":-3.5828025477707003E-3},1672,1672,"S.US.EZT",2468,"S.US.EVGN"]
[null,null,"S.US.DXPA",{"$f":"IFERROR(RTD(\"cqg.rtd\", ,\"ContractData\",C2469, \"PerCentNetLastTrade\",, \"T\")/100,\"\")","v":""},{"$error":"#VALUE!"},"","S.US.DXPA",2469,"S.US.OOMA"]
[null,null,"S.US.BRT",{"$f":"IFERROR(RTD(\"cqg.rtd\", ,\"ContractData\",C2470, \"PerCentNetLastTrade\",, \"T\")/100,\"\")","v":5.0632911392405064E-3},972,972,"S.US.BRT",2470,"S.US.FPI"]
[null,null,"S.US.PFH",{"$f":"IFERROR(RTD(\"cqg.rtd\", ,\"ContractData\",C2471, \"PerCentNetLastTrade\",, \"T\")/100,\"\")","v":""},{"$error":"#VALUE!"},"","S.US.PFH",2471,"S.US.DRD"]
[null,null,"S.US.PVTD",{"$f":"IFERROR(RTD(\"cqg.rtd\", ,\"ContractData\",C2472, \"PerCentNetLastTrade\",, \"T\")/100,\"\")","v":-2.3246803564509881E-3},1569,1569,"S.US.PVTD",2472,"S.US.VRX"]
[null,null,"S.US.AKOA",{"$f":"IFERROR(RTD(\"cqg.rtd\", ,\"ContractData\",C2473, \"PerCentNetLastTrade\",, \"T\")/100,\"\")","v":""},{"$error":"#VALUE!"},"","S.US.AKOA",2473,"S.US.FBP"]
[null,null,"S.US.VCO",{"$f":"IFERROR(RTD(\"cqg.rtd\", ,\"ContractData\",C2474, \"PerCentNetLastTrade\",, \"T\")/100,\"\")","v":""},{"$error":"#VALUE!"},"","S.US.VCO",2474,"S.US.AEO"]
[null,null,"S.US.ECCB",{"$f":"IFERROR(RTD(\"cqg.rtd\", ,\"ContractData\",C2475, \"PerCentNetLastTrade\",, \"T\")/100,\"\")","v":""},{"$error":"#VALUE!"},"","S.US.ECCB",2475,"S.US.CMRE"]
[null,null,"S.US.TCCA",{"$f":"IFERROR(RTD(\"cqg.rtd\", ,\"ContractData\",C2476, \"PerCentNetLastTrade\",, \"T\")/100,\"\")","v":-3.570011900039667E-3},1671,1671,"S.US.TCCA",2476,""]
[null,null,"S.US.SBNA",{"$f":"IFERROR(RTD(\"cqg.rtd\", ,\"ContractData\",C2477, \"PerCentNetLastTrade\",, \"T\")/100,\"\")","v":-2.5806451612903226E-3},1589,1589,"S.US.SBNA",2477,""]
[null,null,"S.US.GSH",{"$f":"IFERROR(RTD(\"cqg.rtd\", ,\"ContractData\",C2478, \"PerCentNetLastTrade\",, \"T\")/100,\"\")","v":7.630675314765357E-3},832,832,"S.US.GSH",2478,""]
[null,null,"S.US.WF",{"$f":"IFERROR(RTD(\"cqg.rtd\", ,\"ContractData\",C2479, \"PerCentNetLastTrade\",, \"T\")/100,\"\")","v":-1.6299137104506232E-2},2297,2297,"S.US.WF",2479,""]
[null,null,"S.US.BQH",{"$f":"IFERROR(RTD(\"cqg.rtd\", ,\"ContractData\",C2480, \"PerCentNetLastTrade\",, \"T\")/100,\"\")","v":-2.1567217828900075E-3},1552,1552,"S.US.BQH",2480,""]
[null,null,"S.US.HJV",{"$f":"IFERROR(RTD(\"cqg.rtd\", ,\"ContractData\",C2481, \"PerCentNetLastTrade\",, \"T\")/100,\"\")","v":""},{"$error":"#VALUE!"},"","S.US.HJV",2481,""]
[null,null,"S.US.FSCE",{"$f":"IFERROR(RTD(\"cqg.rtd\", ,\"ContractData\",C2482, \"PerCentNetLastTrade\",, \"T\")/100,\"\")","v":-1.2190326386158081E-2},2168,2168,"S.US.FSCE",2482,""]
[null,null,"S.US.SHI",{"$f":"IFERROR(RTD(\"cqg.rtd\", ,\"ContractData\",C2483, \"PerCentNetLastTrade\",, \"T\")/100,\"\")","v":1.0162991371045062E-2},704,704,"S.US.SHI",2483,""]
[null,null,"S.US.GRR",{"$f":"IFERROR(RTD(\"cqg.rtd\", ,\"ContractData\",C2484, \"PerCentNetLastTrade\",, \"T\")/100,\"\")","v":""},{"$error":"#VALUE!"},"","S.US.GRR",2484,""]
[null,null,"S.US.EVGN",{"$f":"IFERROR(RTD(\"cqg.rtd\", ,\"ContractData\",C2485, \"PerCentNetLastTrade\",, \"T\")/100,\"\")","v":-5.0610820244328093E-2},2468,2468,"S.US.EVGN",2485,""]
[null,null,"S.US.CLA",{"$f":"IFERROR(RTD(\"cqg.rtd\", ,\"ContractData\",C2486, \"PerCentNetLastTrade\",, \"T\")/100,\"\")","v":""},{"$error":"#VALUE!"},"","S.US.CLA",2486,""]
[null,null,"S.US.KWN",{"$f":"IFERROR(RTD(\"cqg.rtd\", ,\"ContractData\",C2487, \"PerCentNetLastTrade\",, \"T\")/100,\"\")","v":""},{"$error":"#VALUE!"},"","S.US.KWN",2487,""]
[null,null,"S.US.ECCA",{"$f":"IFERROR(RTD(\"cqg.rtd\", ,\"ContractData\",C2488, \"PerCentNetLastTrade\",, \"T\")/100,\"\")","v":-3.885003885003885E-3},1696,1696,"S.US.ECCA",2488,""]
[null,null,"S.US.ATV",{"$f":"IFERROR(RTD(\"cqg.rtd\", ,\"ContractData\",C2489, \"PerCentNetLastTrade\",, \"T\")/100,\"\")","v":""},{"$error":"#VALUE!"},"","S.US.ATV",2489,""]
[null,null,"S.US.PNTA",{"$f":"IFERROR(RTD(\"cqg.rtd\", ,\"ContractData\",C2490, \"PerCentNetLastTrade\",, \"T\")/100,\"\")","v":6.3974410235905646E-3},897,897,"S.US.PNTA",2490,""]
[null,null,"S.US.ANHPA",{"$f":"IFERROR(RTD(\"cqg.rtd\", ,\"ContractData\",C2491, \"PerCentNetLastTrade\",, \"T\")/100,\"\")","v":""},{"$error":"#VALUE!"},"","S.US.ANHPA",2491,""]
[null,null,"S.US.CUBS",{"$f":"IFERROR(RTD(\"cqg.rtd\", ,\"ContractData\",C2492, \"PerCentNetLastTrade\",, \"T\")/100,\"\")","v":-7.6335877862595419E-4},1426,1426,"S.US.CUBS",2492,""]
[null,null,"S.US.RFT",{"$f":"IFERROR(RTD(\"cqg.rtd\", ,\"ContractData\",C2493, \"PerCentNetLastTrade\",, \"T\")/100,\"\")","v":1.786511835640911E-3},1206,1206,"S.US.RFT",2493,""]
[null,null,"S.US.EQS",{"$f":"IFERROR(RTD(\"cqg.rtd\", ,\"ContractData\",C2494, \"PerCentNetLastTrade\",, \"T\")/100,\"\")","v":2.0618556701030924E-2},388,388,"S.US.EQS",2494,""]
[null,null,"S.US.JMPB",{"$f":"IFERROR(RTD(\"cqg.rtd\", ,\"ContractData\",C2495, \"PerCentNetLastTrade\",, \"T\")/100,\"\")","v":""},{"$error":"#VALUE!"},"","S.US.JMPB",2495,""]
[null,null,"S.US.MLP",{"$f":"IFERROR(RTD(\"cqg.rtd\", ,\"ContractData\",C2496, \"PerCentNetLastTrade\",, \"T\")/100,\"\")","v":7.2992700729927005E-3},850,850,"S.US.MLP",2496,""]
[null,null,"S.US.BBDO",{"$f":"IFERROR(RTD(\"cqg.rtd\", ,\"ContractData\",C2497, \"PerCentNetLastTrade\",, \"T\")/100,\"\")","v":2.2300469483568074E-2},364,{"$f":"IFERROR(E2497,\"\")","v":364},{"$f":"C2497","v":"S.US.BBDO"},2497,{"$f":"IFERROR(VLOOKUP(H2497,$F$1:$G$2522,2,FALSE),\"\")","v":""}]
[null,null,"S.US.KAP",{"$f":"IFERROR(RTD(\"cqg.rtd\", ,\"ContractData\",C2498, \"PerCentNetLastTrade\",, \"T\")/100,\"\")","v":-1.1843663639952626E-3},1460,1460,"S.US.KAP",{"$f":"H2497+1","v":2498},""]
[null,null,"S.US.MSCA",{"$f":"IFERROR(RTD(\"cqg.rtd\", ,\"ContractData\",C2499, \"PerCentNetLastTrade\",, \"T\")/100,\"\")","v":""},{"$error":"#VALUE!"},"","S.US.MSCA",2499,""]
[null,null,"S.US.MVCB",{"$f":"IFERROR(RTD(\"cqg.rtd\", ,\"ContractData\",C2500, \"PerCentNetLastTrade\",, \"T\")/100,\"\")","v":""},{"$error":"#VALUE!"},"","S.US.MVCB",2500,""]
[null,null,"S.US.GJT",{"$f":"IFERROR(RTD(\"cqg.rtd\", ,\"ContractData\",C2501, \"PerCentNetLastTrade\",, \"T\")/100,\"\")","v":""},{"$error":"#VALUE!"},"","S.US.GJT",2501,""]
[null,null,"S.US.UBP",{"$f":"IFERROR(RTD(\"cqg.rtd\", ,\"ContractData\",C2502, \"PerCentNetLastTrade\",, \"T\")/100,\"\")","v":-5.8510638297872338E-3},1854,1854,"S.US.UBP",2502,""]
[null,null,"S.US.CBSA",{"$f":"IFERROR(RTD(\"cqg.rtd\", ,\"ContractData\",C2503, \"PerCentNetLastTrade\",, \"T\")/100,\"\")","v":1.3060303128023219E-2},584,584,"S.US.CBSA",2503,""]
[null,null,"S.US.MCV",{"$f":"IFERROR(RTD(\"cqg.rtd\", ,\"ContractData\",C2504, \"PerCentNetLastTrade\",, \"T\")/100,\"\")","v":3.968253968253968E-3},1053,1053,"S.US.MCV",2504,""]
[null,null,"S.US.ARL",{"$f":"IFERROR(RTD(\"cqg.rtd\", ,\"ContractData\",C2505, \"PerCentNetLastTrade\",, \"T\")/100,\"\")","v":1.4975041597337771E-2},526,526,"S.US.ARL",2505,""]
[null,null,"S.US.MCQ",{"$f":"IFERROR(RTD(\"cqg.rtd\", ,\"ContractData\",C2506, \"PerCentNetLastTrade\",, \"T\")/100,\"\")","v":-1.1797090051120724E-3},1459,1459,"S.US.MCQ",2506,""]
[null,null,"S.US.ENJ",{"$f":"IFERROR(RTD(\"cqg.rtd\", ,\"ContractData\",C2507, \"PerCentNetLastTrade\",, \"T\")/100,\"\")","v":1.3304721030042918E-2},577,577,"S.US.ENJ",2507,""]
[null,null,"S.US.GYC",{"$f":"IFERROR(RTD(\"cqg.rtd\", ,\"ContractData\",C2508, \"PerCentNetLastTrade\",, \"T\")/100,\"\")","v":""},{"$error":"#VALUE!"},"","S.US.GYC",2508,""]
[null,null,"S.US.FCEB",{"$f":"IFERROR(RTD(\"cqg.rtd\", ,\"ContractData\",C2509, \"PerCentNetLastTrade\",, \"T\")/100,\"\")","v":""},{"$error":"#VALUE!"},"","S.US.FCEB",2509,""]
[null,null,"S.US.BOXC",{"$f":"IFERROR(RTD(\"cqg.rtd\", ,\"ContractData\",C2510, \"PerCentNetLastTrade\",, \"T\")/100,\"\")","v":-9.7786927431806475E-3},2077,2077,"S.US.BOXC",2510,""]
[null,null,"S.US.HCJ",{"$f":"IFERROR(RTD(\"cqg.rtd\", ,\"ContractData\",C2511, \"PerCentNetLastTrade\",, \"T\")/100,\"\")","v":""},{"$error":"#VALUE!"},"","S.US.HCJ",2511,""]
[null,null,"S.US.KEN",{"$f":"IFERROR(RTD(\"cqg.rtd\", ,\"ContractData\",C2512, \"PerCentNetLastTrade\",, \"T\")/100,\"\")","v":-3.5049288061336253E-2},2458,2458,"S.US.KEN",2512,""]
[null,null,"S.US.AIW",{"$f":"IFERROR(RTD(\"cqg.rtd\", ,\"ContractData\",C2513, \"PerCentNetLastTrade\",, \"T\")/100,\"\")","v":""},{"$error":"#VALUE!"},"","S.US.AIW",2513,""]
[null,null,"S.US.HTF",{"$f":"IFERROR(RTD(\"cqg.rtd\", ,\"ContractData\",C2514, \"PerCentNetLastTrade\",, \"T\")/100,\"\")","v":1.4263074484944533E-2},550,550,"S.US.HTF",2514,""]
[null,null,"S.US.GJP",{"$f":"IFERROR(RTD(\"cqg.rtd\", ,\"ContractData\",C2515, \"PerCentNetLastTrade\",, \"T\")/100,\"\")","v":""},{"$error":"#VALUE!"},"","S.US.GJP",2515,""]
[null,null,"S.US.TCI",{"$f":"IFERROR(RTD(\"cqg.rtd\", ,\"ContractData\",C2516, \"PerCentNetLastTrade\",, \"T\")/100,\"\")","v":""},{"$error":"#VALUE!"},"","S.US.TCI",2516,""]
[null,null,"S.US.MOGB",{"$f":"IFERROR(RTD(\"cqg.rtd\", ,\"ContractData\",C2517, \"PerCentNetLastTrade\",, \"T\")/100,\"\")","v":""},{"$error":"#VALUE!"},"","S.US.MOGB",2517,""]
[null,null,"S.US.BRKA",{"$f":"IFERROR(RTD(\"cqg.rtd\", ,\"ContractData\",C2518, \"PerCentNetLastTrade\",, \"T\")/100,\"\")","v":6.7219141168657019E-3},879,879,"S.US.BRKA",2518,""]
[null,null,"S.US.HVTA",{"$f":"IFERROR(RTD(\"cqg.rtd\", ,\"ContractData\",C2519, \"PerCentNetLastTrade\",, \"T\")/100,\"\")","v":""},{"$error":"#VALUE!"},"","S.US.HVTA",2519,""]
[null,null,"S.US.STZB",{"$f":"IFERROR(RTD(\"cqg.rtd\", ,\"ContractData\",C2520, \"PerCentNetLastTrade\",, \"T\")/100,\"\")","v":-5.3777208706786176E-3},1814,1814,"S.US.STZB",2520,""]
[null,null,"S.US.AGMA",{"$f":"IFERROR(RTD(\"cqg.rtd\", ,\"ContractData\",C2521, \"PerCentNetLastTrade\",, \"T\")/100,\"\")","v":""},{"$error":"#VALUE!"},"","S.US.AGMA",2521,""]
[null,null,"S.US.CCZ",{"$f":"IFERROR(RTD(\"cqg.rtd\", ,\"ContractData\",C2522, \"PerCentNetLastTrade\",, \"T\")/100,\"\")","v":""},{"$error":"#VALUE!"},"","S.US.CCZ",2522,""]
[null,null,null,null,1389]
[null,null,null,null,1389]
[null,null,null,null,1389]
[null,null,null,null,1389]
[null,null,null,null,1389]
[null,null,null,null,1389]
[null,null,null,null,1389]
[null,null,null,null,1389]
[null,null,null,null,1389]
[null,null,null,null,1389]
[null,null,null,null,1389]
[null,null,null,null,1389]
[null,null,null,null,1389]
[null,null,null,null,1389]
[null,null,null,null,1389]
[null,null,null,null,1389]
[null,null,null,null,1389]
[null,null,null,null,1389]
[null,null,null,null,1389]
[null,null,null,null,1389]
[null,null,null,null,1389]
[null,null,null,null,1389]
[null,null,null,null,1389]
[null,null,null,null,1389]
[null,null,null,null,1389]
[null,null,null,null,1389]
[null,null,null,null,1389]
[null,null,null,null,1389]
[null,null,null,null,1389]
[null,null,null,null,1389]
[null,null,null,null,1389]
[null,null,null,null,1389]
[null,null,null,null,1389]
[null,null,null,null,1389]
[null,null,null,null,1389]
[null,null,null,null,1389]
[null,null,null,null,1389]
[null,null,null,null,1389]
[null,null,null,null,1389]
[null,null,null,null,1389]
[null,null,null,null,1389]
[null,null,null,null,1389]
[null,null,null,null,1389]
[null,null,null,null,1389]
[null,null,null,null,1389]
[null,null,null,null,1389]
[null,null,null,null,1389]
[null,null,null,null,1389]
[null,null,null,null,1389]
[null,null,null,null,1389]
[null,null,null,null,1389]
[null,null,null,null,1389]
[null,null,null,null,1389]
[null,null,null,null,1389]
[null,null,null,null,1389]
[null,null,null,null,1389]
[null,null,null,null,1389]
[null,null,null,null,1389]
[null,null,null,null,1389]
[null,null,null,null,1389]
[null,null,null,null,1389]
[null,null,null,null,1389]
[null,null,null,null,1389]
[null,null,null,null,1389]
[null,null,null,null,1389]
[null,null,null,null,1389]
[null,null,null,null,1389]
[null,null,null,null,1389]
[null,null,null,null,1389]
[null,null,null,null,1389]
[null,null,null,null,1389]
[null,null,null,null,1389]
[null,null,null,null,1389]
[null,null,null,null,1389]
[null,null,null,null,1389]
[null,null,null,null,1389]
[null,null,null,null,1389]
[null,null,null,null,1389]
[null,null,null,null,1389]
[null,null,null,null,1389]
[null,null,null,null,1389]
[null,null,null,null,1389]
[null,null,null,null,1389]
[null,null,null,null,1389]
[null,null,null,null,1389]
[null,null,null,null,1389]
[null,null,null,null,1389]
[null,null,null,null,1389]
[null,null,null,null,1389]
[null,null,null,null,1389]
[null,null,null,null,1389]
[null,null,null,null,1389]
[null,null,null,null,1389]
[null,null,null,null,1389]
[null,null,null,null,1389]
[null,null,null,null,1389]
[null,null,null,null,1389]
[null,null,null,null,1389]
[null,null,null,null,1389]
[null,null,null,null,1389]
[null,null,null,null,1389]
[null,null,null,null,1389]
[null,null,null,null,1389]
[null,null,null,null,1389]
[null,null,null,null,1389]
[null,null,null,null,1389]
[null,null,null,null,1389]
[null,null,null,null,1389]
[null,null,null,null,1389]
[null,null,null,null,1389]
[null,null,null,null,1389]
[null,null,null,null,1389]
[null,null,null,null,1389]
[null,null,null,null,1389]
[null,null,null,null,1389]
[null,null,null,null,1389]
[null,null,null,null,1389]
[null,null,null,null,1389]
[null,null,null,null,1389]
[null,null,null,null,1389]
[null,null,null,null,1389]
[null,null,null,null,1389]
[null,null,null,null,1389]
[null,null,null,null,1389]
[null,null,null,null,1389]
[null,null,null,null,1389]
[null,null,null,null,1389]
[null,null,null,null,1389]
[null,null,null,null,1389]
[null,null,null,null,1389]
[null,null,null,null,1389]
[null,null,null,null,1389]
[null,null,null,null,1389]
[null,null,null,null,1389]
[null,null,null,null,1389]
[null,null,null,null,1389]
[null,null,null,null,1389]
[null,null,null,null,1389]
[null,null,null,null,1389]
[null,null,null,null,1389]
[null,null,null,null,1389]
[null,null,null,null,1389]
[null,null,null,null,1389]
[null,null,null,null,1389]
[null,null,null,null,1389]
[null,null,null,null,1389]
[null,null,null,null,1389]
[null,null,null,null,1389]
[null,null,null,null,1389]
[null,null,null,null,1389]
[null,null,null,null,1389]
[null,null,null,null,1389]
[null,null,null,null,1389]
[null,null,null,null,1389]
[null,null,null,null,1389]
[null,null,null,null,1389]
[null,null,null,null,1389]
[null,null,null,null,1389]
[null,null,null,null,1389]
[null,null,null,null,1389]
[null,null,null,null,1389]
[null,null,null,null,1389]
[null,null,null,null,1389]
[null,null,null,null,1389]
[null,null,null,null,1389]
[null,null,null,null,1389]
[null,null,null,null,1389]
[null,null,null,null,1389]
[null,null,null,null,1389]
[null,null,null,null,1389]
[null,null,null,null,1389]
[null,null,null,null,1389]
[null,null,null,null,1389]
[null,null,null,null,1389]
[null,null,null,null,1389]
[null,null,null,null,1389]
[null,null,null,null,1389]
[null,null,null,null,1389]
[null,null,null,null,1389]
[null,null,null,null,1389]
[null,null,null,null,1389]
[null,null,null,null,1389]
[null,null,null,null,1389]
[null,null,null,null,1389]
[null,null,null,null,1389]
[null,null,null,null,1389]
[null,null,null,null,1389]
[null,null,null,null,1389]
[null,null,null,null,1389]
[null,null,null,null,1389]
[null,null,null,null,1389]
[null,null,null,null,1389]
[null,null,null,null,1389]
[null,null,null,null,1389]
[null,null,null,null,1389]
[null,null,null,null,1389]
[null,null,null,null,1389]
[null,null,null,null,1389]
[null,null,null,null,1389]
[null,null,null,null,1389]
[null,null,null,null,1389]
[null,null,null,null,1389]
[null,null,null,null,1389]
[null,null,null,null,1389]
[null,null,null,null,1389]
[null,null,null,null,1389]
[null,null,null,null,1389]
[null,null,null,null,1389]
[null,null,null,null,1389]
[null,null,null,null,1389]
[null,null,null,null,1389]
[null,null,null,null,1389]
[null,null,null,null,1389]
[null,null,null,null,1389]
[null,null,null,null,1389]
[null,null,null,null,1389]
[null,null,null,null,1389]
[null,null,null,null,1389]
[null,null,null,null,1389]
[null,null,null,null,1389]
[null,null,null,null,1389]
[null,null,null,null,1389]
[null,null,null,null,1389]
[null,null,null,null,1389]
[null,null,null,null,1389]
[null,null,null,null,1389]
[null,null,null,null,1389]
[null,null,null,null,1389]
[null,null,null,null,1389]
[null,null,null,null,1389]
[null,null,null,null,1389]
[null,null,null,null,1389]
[null,null,null,null,1389]
[null,null,null,null,1389]
[null,null,null,null,1389]
[null,null,null,null,1389]
[null,null,null,null,1389]
[null,null,null,null,1389]
[null,null,null,null,1389]
[null,null,null,null,1389]
[null,null,null,null,1389]
[null,null,null,null,1389]
[null,null,null,null,1389]
[null,null,null,null,1389]
[null,null,null,null,1389]
[null,null,null,null,1389]
[null,null,null,null,1389]
[null,null,null,null,1389]
[null,null,null,null,1389]
[null,null,null,null,1389]
[null,null,null,null,1389]
[null,null,null,null,1389]
[null,null,null,null,1389]
[null,null,null,null,1389]
[null,null,null,null,1389]
[null,null,null,null,1389]
[null,null,null,null,1389]
[null,null,null,null,1389]
[null,null,null,null,1389]
[null,null,null,null,1389]
[null,null,null,null,1389]
[null,null,null,null,1389]
[null,null,null,null,1389]
[null,null,null,null,1389]
[null,null,null,null,1389]
[null,null,null,null,1389]
[null,null,null,null,1389]
[null,null,null,null,1389]
[null,null,null,null,1389]
[null,null,null,null,1389]
[null,null,null,null,1389]
[null,null,null,null,1389]
[null,null,null,null,1389]
[null,null,null,null,1389]
[null,null,null,null,1389]
[null,null,null,null,1389]
[null,null,null,null,1389]
[null,null,null,null,1389]
[null,null,null,null,1389]
[null,null,null,null,1389]
[null,null,null,null,1389]
[null,null,null,null,1389]
[null,null,null,null,1389]
[null,null,null,null,1389]
[null,null,null,null,1389]
[null,null,null,null,1389]
[null,null,null,null,1389]
[null,null,null,null,1389]
[null,null,null,null,1389]
[null,null,null,null,1389]
[null,null,null,null,1389]
[null,null,null,null,1389]
[null,null,null,null,1389]
[null,null,null,null,1389]
[null,null,null,null,1389]
[null,null,null,null,1389]
[null,null,null,null,1389]
[null,null,null,null,1389]
[null,null,null,null,1389]
[null,null,null,null,1389]
[null,null,null,null,1389]
[null,null,null,null,1389]
[null,null,null,null,1389]
[null,null,null,null,1389]
[null,null,null,null,1389]
[null,null,null,null,1389]
[null,null,null,null,1389]
[null,null,null,null,1389]
[null,null,null,null,1389]
[null,null,null,null,1389]
[null,null,null,null,1389]
[null,null,null,null,1389]
[null,null,null,null,1389]
[null,null,null,null,1389]
[null,null,null,null,1389]
[null,null,null,null,1389]
[null,null,null,null,1389]
[null,null,null,null,1389]
[null,null,null,null,1389]
[null,null,null,null,1389]
[null,null,null,null,1389]
[null,null,null,null,1389]
[null,null,null,null,1389]
[null,null,null,null,1389]
[null,null,null,null,1389]
[null,null,null,null,1389]
[null,null,null,null,1389]
[null,null,null,null,1389]
[null,null,null,null,1389]
[null,null,null,null,1389]
[null,null,null,null,1389]
[null,null,null,null,1389]
[null,null,null,null,1389]
[null,null,null,null,1389]
[null,null,null,null,1389]
[null,null,null,null,1389]
[null,null,null,null,1389]
[null,null,null,null,1389]
[null,null,null,null,1389]
[null,null,null,null,1389]
[null,null,null,null,1389]
[null,null,null,null,1389]
[null,null,null,null,1389]
[null,null,null,null,1389]
[null,null,null,null,1389]
[null,null,null,null,1389]
[null,null,null,null,1389]
[null,null,null,null,1389]
[null,null,null,null,1389]
[null,null,null,null,1389]
[null,null,null,null,1389]
[null,null,null,null,1389]
[null,null,null,null,1389]
[null,null,null,null,1389]
[null,null,null,null,1389]
[null,null,null,null,1389]
[null,null,null,null,1389]
[null,null,null,null,1389]
[null,null,null,null,1389]
[null,null,null,null,1389]
[null,null,null,null,1389]
[null,null,null,null,1389]
[null,null,null,null,1389]
[null,null,null,null,1389]
[null,null,null,null,1389]
[null,null,null,null,1389]
[null,null,null,null,1389]
[null,null,null,null,1389]
[null,null,null,null,1389]
[null,null,null,null,1389]
[null,null,null,null,1389]
[null,null,null,null,1389]
[null,null,null,null,1389]
[null,null,null,null,1389]
[null,null,null,null,1389]
[null,null,null,null,1389]
[null,null,null,null,1389]
[null,null,null,null,1389]
[null,null,null,null,1389]
[null,null,null,null,1389]
[null,null,null,null,1389]
[null,null,null,null,1389]
[null,null,null,null,1389]
[null,null,null,null,1389]
[null,null,null,null,1389]
[null,null,null,null,1389]
[null,null,null,null,1389]
[null,null,null,null,1389]
[null,null,null,null,1389]
[null,null,null,null,1389]
[null,null,null,null,1389]
[null,null,null,null,1389]
[null,null,null,null,1389]
[null,null,null,null,1389]
[null,null,null,null,1389]
[null,null,null,null,1389]
[null,null,null,null,1389]
[null,null,null,null,1389]
[null,null,null,null,1389]
[null,null,null,null,1389]
[null,null,null,null,1389]
[null,null,null,null,1389]
[null,null,null,null,1389]
[null,null,null,null,1389]
[null,null,null,null,1389]
[null,null,null,null,1389]
[null,null,null,null,1389]
[null,null,null,null,1389]
[null,null,null,null,1389]
[null,null,null,null,1389]
[null,null,null,null,1389]
[null,null,null,null,1389]
[null,null,null,null,1389]
[null,null,null,null,1389]
[null,null,null,null,1389]
[null,null,null,null,1389]
[null,null,null,null,1389]
[null,null,null,null,1389]
[null,null,null,null,1389]
[null,null,null,null,1389]
[null,null,null,null,1389]
[null,null,null,null,1389]
[null,null,null,null,1389]
[null,null,null,null,1389]
[null,null,null,null,1389]
[null,null,null,null,1389]
[null,null,null,null,1389]
[null,null,null,null,1389]
[null,null,null,null,1389]
[null,null,null,null,1389]
[null,null,null,null,1389]
[null,null,null,null,1389]
[null,null,null,null,1389]
[null,null,null,null,1389]
[null,null,null,null,1389]
[null,null,null,null,1389]
[null,null,null,null,1389]
[null,null,null,null,1389]
[null,null,null,null,1389]
[null,null,null,null,1389]
[null,null,null,null,1389]
[null,null,null,null,1389]
[null,null,null,null,1389]
[null,null,null,null,1389]
[null,null,null,null,1389]
[null,null,null,null,1389]
[null,null,null,null,1389]
[null,null,null,null,1389]
[null,null,null,null,1389]
[null,null,null,null,1389]
[null,null,null,null,1389]
[null,null,null,null,1389]
[null,null,null,null,1389]
[null,null,null,null,1389]
[null,null,null,null,1389]
[null,null,null,null,1389]
[null,null,null,null,1389]
[null,null,null,null,1389]
[null,null,null,null,1389]
[null,null,null,null,1389]
[null,null,null,null,1389]
[null,null,null,null,1389]
[null,null,null,null,1389]
[null,null,null,null,1389]
[null,null,null,null,1389]
[null,null,null,null,1389]
[null,null,null,null,1389]
[null,null,null,null,1389]
[null,null,null,null,1389]
[null,null,null,null,1389]
[null,null,null,null,1389]
[null,null,null,null,1389]
[null,null,null,null,1389]
[null,null,null,null,1389]
[null,null,null,null,1389]
[null,null,null,null,1389]
[null,null,null,null,1389]
[null,null,null,null,1389]
[null,null,null,null,1389]
[null,null,null,null,1389]
[null,null,null,null,1389]
[null,null,null,null,1389]
[null,null,null,null,1389]
[null,null,null,null,1389]
[null,null,null,null,1389]
[null,null,null,null,1389]
[null,null,null,null,1389]
[null,null,null,null,1389]
[null,null,null,null,1389]
[null,null,null,null,1389]
[null,null,null,null,1389]
[null,null,null,null,1389]
[null,null,null,null,1389]
[null,null,null,null,1389]
[null,null,null,null,1389]
[null,null,null,null,1389]
[null,null,null,null,1389]
[null,null,null,null,1389]
[null,null,null,null,1389]
[null,null,null,null,1389]
[null,null,null,null,1389]
[null,null,null,null,1389]
[null,null,null,null,1389]
[null,null,null,null,1389]
[null,null,null,null,1389]
[null,null,null,null,1389]
[null,null,null,null,1389]
[null,null,null,null,1389]
[null,null,null,null,1389]
[null,null,null,null,1389]
[null,null,null,null,1389]
[null,null,null,null,1389]
[null,null,null,null,1389]
[null,null,null,null,1389]
[null,null,null,null,1389]
[null,null,null,null,1389]
[null,null,null,null,1389]
[null,null,null,null,1389]
[null,null,null,null,1389]
[null,null,null,null,1389]
[null,null,null,null,1389]
[null,null,null,null,1389]