{"text_format":"1","workbook":"xlsx","n_sheets":11,"sheets":["Display1","Display2","Display3","Display4","Display5","Instructions","First","Second","Third","Fourth","Fifth"],"not_rendered":{"charts":0,"images":40,"macros":1,"external_links":0,"defined_names":0,"comments":0,"pivot_tables":0},"unopened":[],"bounds":{"document_bytes":16777216,"sheet_cells":100000,"rows_first":2000,"rows_last":500,"rows_between":2000,"halvings":0,"cell_chars":16384,"cell_head_chars":4096},"cells_cut":0,"cells_raw":0,"read":"whole","date_system":"1900"}

{"sheet":"Display1","index":0,"n_rows":46,"n_cols":32,"rows_kept":46,"cut":false,"hidden":false,"merged":[[24,21,24,23],[25,21,25,23],[26,21,26,23],[23,21,23,23],[13,21,13,23],[5,21,5,23],[6,21,6,23],[7,21,7,23],[12,21,12,23],[8,21,8,23],[9,21,9,23],[10,21,10,23],[11,21,11,23],[14,21,14,23],[15,21,15,23],[16,21,16,23],[17,21,17,23],[18,21,18,23],[19,21,19,23],[20,21,20,23],[21,21,21,23],[22,21,22,23],[44,30,44,31],[33,21,33,23],[34,21,34,23],[35,21,35,23],[36,21,36,23],[37,21,37,23],[38,21,38,23],[39,21,39,23],[43,30,43,31],[40,12,40,25],[42,25,42,28],[44,23,44,24],[43,20,43,21],[44,20,44,21],[43,27,43,28],[43,25,43,26],[41,23,41,28],[44,27,44,28],[44,25,44,26],[45,3,45,5],[45,6,45,10],[44,3,44,4],[44,13,44,14],[43,3,43,4],[43,13,43,14],[43,5,43,6],[43,7,43,8],[39,3,39,5],[40,3,40,5],[39,8,39,9],[40,8,40,9],[44,5,44,6],[44,7,44,8],[44,9,44,10],[44,11,44,12],[35,8,35,9],[27,21,27,23],[28,21,28,23],[29,21,29,23],[30,21,30,23],[31,21,31,23],[32,21,32,23],[43,23,43,24],[42,15,42,20],[38,8,38,9],[32,8,32,9],[33,8,33,9],[34,8,34,9],[41,3,41,9],[42,3,42,4],[42,13,42,14],[42,5,42,10],[43,9,43,10],[43,11,43,12],[41,13,41,19],[43,15,43,16],[43,17,43,18],[37,8,37,9],[36,8,36,9],[38,3,38,5],[36,3,36,5],[37,3,37,5],[30,3,30,5],[29,3,29,5],[21,3,21,5],[22,3,22,5],[31,3,31,5],[32,3,32,5],[33,3,33,5],[34,3,34,5],[26,3,26,5],[27,3,27,5],[28,3,28,5],[25,3,25,5],[35,3,35,5],[8,3,8,5],[9,3,9,5],[11,3,11,5],[12,3,12,5],[13,3,13,5],[14,3,14,5],[23,3,23,5],[24,3,24,5],[21,8,21,9],[22,8,22,9],[23,8,23,9],[24,8,24,9],[30,8,30,9],[31,8,31,9],[15,8,15,9],[16,8,16,9],[27,8,27,9],[28,8,28,9],[29,8,29,9],[17,8,17,9],[18,8,18,9],[19,8,19,9],[26,8,26,9],[25,8,25,9],[5,3,5,5],[6,3,6,5],[9,8,9,9],[10,8,10,9],[11,8,11,9],[12,8,12,9],[4,10,4,11],[3,21,4,23],[20,8,20,9],[6,8,6,9],[13,8,13,9],[14,8,14,9],[5,8,5,9],[7,8,7,9],[8,8,8,9],[4,8,4,9],[10,3,10,5],[19,3,19,5],[20,3,20,5],[15,3,15,5],[16,3,16,5],[17,3,17,5],[18,3,18,5],[7,3,7,5],[1,28,2,29],[1,30,2,31],[3,12,3,13],[4,12,4,13],[2,3,2,4],[1,3,1,4],[3,8,3,9],[1,10,1,13],[4,3,4,4],[3,6,3,7],[1,14,2,26],[1,27,2,27],[4,6,4,7],[3,17,4,17],[2,10,2,11],[3,10,3,11],[1,6,1,8],[3,4,3,5]]}
[null,"First!$O$1:$N$35",null,{"$f":"IF(F5=\"N\",\"B\",IF(F5=0,\"#\",IF(F5=1,\"#.0\",IF(F5=2,\"#.00\",IF(F5=3,\"#.000\",IF(F5=4,\"#.0000\",IF(F5=5,\"#.00000\",IF(F5=6,\"#.000000\",IF(F5=7,\"#.0000000\")))))))))","v":"#.00"}]
["First!$O$1:$N$35","First!$I$1:$J$35","First!$AE$1:$AF$35","Account",null,"Symbol:","CLE",null,null,"Step","Underlying Symbols",null,null,null,"         CQG Open Options Positions Dashboard",null,null,null,null,null,null,null,null,null,null,null,null,null,"CHICAGO: ",null,{"$f":"RTD(\"cqg.rtd\", ,\"SystemInfo\", \"Linetime\")","v":42907.463738425926}]
[null,"First!$U$1:$V$35","First!$AJ$1:$AK$35","PSspread300",null,"M&Yr:","1?1","2?1","?1",50,"CLE?1",null,"CLE?2","CLE?3"]
[null,"First!$Z$1:$AA$35","First!$AO$1:$AP$35","Long","Decimals",null,"Open",null,"OTE",null,"Last",null,"Time of Last Trade",null,"Bid","Bid",null,"TheoVal",null,"Ask","Ask","Long Description",null,null,"Contract","Contract","IV","Vega","Delta","Gamma","Theta","DTE "]
[null,null,null,"Description",null,2,"Position",null,null,null,"Trade",null,{"$f":"RTD(\"cqg.rtd\", ,\"SystemInfo\", \"Linetime\")","v":42907.463738425926},null,"Volume",-0.01,null,null,null,0.02,"Volume",null,null,null,"Volume","Open Int"]
[null,null,{"$f":"IF(LOOKUP(1,First!A1:A448)<>1,0,1)","v":0},{"$f":"IF(C6=1,VLOOKUP(First!I1,INDIRECT($A$2),2),\"\")","v":""},null,null,{"$f":"IF(C6=1,IF(H6>0,\"Long  \",\"Short  \"),\"\")","v":""},{"$f":"IF(C6=1,RTD(\"cqg.rtd\", ,\"OrderData\", \"\"&D6&\"\", \"\", \"OpenPosition\",\"\"&$D$3&\"\"),\"\")","v":""},{"$f":"IF(C6=1,RTD(\"cqg.rtd\", ,\"OrderData\",\"\"&D6&\"\", \"\", \"OpenTradeEquity\",\"\"&$D$3&\"\"),\"\")","v":""},null,{"$f":"IF(C6=0,\"\",IF($D$1=\"B\",RTD(\"cqg.rtd\", ,\"ContractData\",D6, \"LastTrade\",,\"B\"),TEXT(RTD(\"cqg.rtd\", ,\"ContractData\",D6, \"LastTrade\",, \"T\"),$D$1)))","v":""},{"$f":"IF(RTD(\"cqg.rtd\",,\"ContractData\",D6,\"LastTrade\",,\"T\")<RTD(\"cqg.rtd\",,\"ContractData\",D6,\"Bid\",,\"T\"),1,IF(RTD(\"cqg.rtd\",,\"ContractData\",D6,\"LastTrade\",,\"T\")>RTD(\"cqg.rtd\",,\"ContractData\",D6,\"Ask\",,\"T\"),1,0))","v":0},{"$f":"IF(C6=1,RTD(\"cqg.rtd\", ,\"ContractData\",D6, \"TMLastTrade\",, \"T\"),\"\")","v":""},{"$f":"IF(C6=1,MOD($AE$2-M6,1),\"\")","v":""},{"$f":"IF(C6=1,RTD(\"cqg.rtd\", ,\"ContractData\",D6, \"MT_LastBidVolume\",, \"T\"),\"\")","v":""},{"$f":"IF(C6=0,\"\",IF($D$1=\"B\",RTD(\"cqg.rtd\", ,\"ContractData\",D6, \"Bid\",,\"B\"),TEXT(RTD(\"cqg.rtd\", ,\"ContractData\",D6, \"Bid\",, \"T\"),$D$1)))","v":""},{"$f":"IF(R6=\"\",0,IF(R6-P6<$P$5,1,0))","v":0},{"$f":"IF(C6=0,\"\",IF(LEFT(D6,1)=\"F\",\"\",IF($D$1=\"B\",RTD(\"cqg.rtd\", ,\"ContractData\",D6, \"TheoreticalValue\",,\"B\"),TEXT(RTD(\"cqg.rtd\", ,\"ContractData\",D6, \"TheoreticalValue\",, \"T\"),$D$1))))","v":""},{"$f":"IF(R6=\"\",0,IF(R6-T6>$T$5,1,0))","v":0},{"$f":"IF(C6=0,\"\",IF($D$1=\"B\",RTD(\"cqg.rtd\", ,\"ContractData\",D6, \"Ask\",,\"B\"),TEXT(RTD(\"cqg.rtd\", ,\"ContractData\",D6, \"Ask\",, \"T\"),$D$1)))","v":""},{"$f":"IF(C6=1,RTD(\"cqg.rtd\", ,\"ContractData\",D6, \"MT_LastAskVolume\",, \"T\"),\"\")","v":""},{"$f":"D6","v":""},null,null,{"$f":"IF(C6=1,RTD(\"cqg.rtd\", ,\"ContractData\",D6, \"T_CVol\",, \"T\"),\"\")","v":""},{"$f":"IF(C6=1,RTD(\"cqg.rtd\", ,\"ContractData\",D6, \"COI\",, \"T\"),\"\")","v":""},{"$f":"IF(C6=1,RTD(\"cqg.rtd\", ,\"ContractData\",D6, \"ImpliedVolatility\",, \"T\"),\"\")","v":""},{"$f":"IF(C6=1,RTD(\"cqg.rtd\", ,\"ContractData\",D6, \"Vega\",, \"T\"),\"\")","v":""},{"$f":"IF(C6=0,\"\",IF(LEFT(D6,1)=\"F\",H6*100,H6*RTD(\"cqg.rtd\",,\"ContractData\",D6,\"Delta\",,\"T\")))","v":""},{"$f":"IF(C6=1,RTD(\"cqg.rtd\", ,\"ContractData\",D6, \"Gamma\",, \"T\"),\"\")","v":""},{"$f":"IF(C6=1,IF(H6<0,-1*RTD(\"cqg.rtd\", ,\"ContractData\",D6, \"Theta\",, \"T\"),RTD(\"cqg.rtd\", ,\"ContractData\",D6, \"Theta\",, \"T\")),\"\")","v":""},{"$f":"IF(C6=0,\"\",IF(LEFT(D6,1)=\"F\",(RTD(\"cqg.rtd\",,\"ContractData\",D6,\"ExpirationDate\",,\"T\")-TODAY()),RTD(\"cqg.rtd\",,\"ContractData\",D6,\"OptionDaysToExp\",,\"T\")))","v":""}]
[null,null,{"$f":"IF(LOOKUP(2,First!A1:A448)<>2,0,1)","v":0},{"$f":"IF(C7=1,VLOOKUP(First!I2,INDIRECT($A$2),2),\"\")","v":""},null,null,{"$f":"IF(C7=1,IF(H7>0,\"Long  \",\"Short  \"),\"\")","v":""},{"$f":"IF(C7=1,RTD(\"cqg.rtd\", ,\"OrderData\", \"\"&D7&\"\", \"\", \"OpenPosition\",\"\"&$D$3&\"\"),\"\")","v":""},{"$f":"IF(C7=1,RTD(\"cqg.rtd\", ,\"OrderData\",\"\"&D7&\"\", \"\", \"OpenTradeEquity\",\"\"&$D$3&\"\"),\"\")","v":""},null,{"$f":"IF(C7=0,\"\",IF($D$1=\"B\",RTD(\"cqg.rtd\", ,\"ContractData\",D7, \"LastTrade\",,\"B\"),TEXT(RTD(\"cqg.rtd\", ,\"ContractData\",D7, \"LastTrade\",, \"T\"),$D$1)))","v":""},{"$f":"IF(RTD(\"cqg.rtd\",,\"ContractData\",D7,\"LastTrade\",,\"T\")<RTD(\"cqg.rtd\",,\"ContractData\",D7,\"Bid\",,\"T\"),1,IF(RTD(\"cqg.rtd\",,\"ContractData\",D7,\"LastTrade\",,\"T\")>RTD(\"cqg.rtd\",,\"ContractData\",D7,\"Ask\",,\"T\"),1,0))","v":0},{"$f":"IF(C7=1,RTD(\"cqg.rtd\", ,\"ContractData\",D7, \"TMLastTrade\",, \"T\"),\"\")","v":""},{"$f":"IF(C7=1,MOD($AE$2-M7,1),\"\")","v":""},{"$f":"IF(C7=1,RTD(\"cqg.rtd\", ,\"ContractData\",D7, \"MT_LastBidVolume\",, \"T\"),\"\")","v":""},{"$f":"IF(C7=0,\"\",IF($D$1=\"B\",RTD(\"cqg.rtd\", ,\"ContractData\",D7, \"Bid\",,\"B\"),TEXT(RTD(\"cqg.rtd\", ,\"ContractData\",D7, \"Bid\",, \"T\"),$D$1)))","v":""},{"$f":"IF(R7=\"\",0,IF(R7-P7<$P$5,1,0))","v":0},{"$f":"IF(C7=0,\"\",IF(LEFT(D7,1)=\"F\",\"\",IF($D$1=\"B\",RTD(\"cqg.rtd\", ,\"ContractData\",D7, \"TheoreticalValue\",,\"B\"),TEXT(RTD(\"cqg.rtd\", ,\"ContractData\",D7, \"TheoreticalValue\",, \"T\"),$D$1))))","v":""},{"$f":"IF(R7=\"\",0,IF(R7-T7>$T$5,1,0))","v":0},{"$f":"IF(C7=0,\"\",IF($D$1=\"B\",RTD(\"cqg.rtd\", ,\"ContractData\",D7, \"Ask\",,\"B\"),TEXT(RTD(\"cqg.rtd\", ,\"ContractData\",D7, \"Ask\",, \"T\"),$D$1)))","v":""},{"$f":"IF(C7=1,RTD(\"cqg.rtd\", ,\"ContractData\",D7, \"MT_LastAskVolume\",, \"T\"),\"\")","v":""},"",null,null,{"$f":"IF(C7=1,RTD(\"cqg.rtd\", ,\"ContractData\",D7, \"T_CVol\",, \"T\"),\"\")","v":""},{"$f":"IF(C7=1,RTD(\"cqg.rtd\", ,\"ContractData\",D7, \"COI\",, \"T\"),\"\")","v":""},{"$f":"IF(C7=1,RTD(\"cqg.rtd\", ,\"ContractData\",D7, \"ImpliedVolatility\",, \"T\"),\"\")","v":""},{"$f":"IF(C7=1,RTD(\"cqg.rtd\", ,\"ContractData\",D7, \"Vega\",, \"T\"),\"\")","v":""},{"$f":"IF(C7=0,\"\",IF(LEFT(D7,1)=\"F\",H7*100,H7*RTD(\"cqg.rtd\",,\"ContractData\",D7,\"Delta\",,\"T\")))","v":""},{"$f":"IF(C7=1,RTD(\"cqg.rtd\", ,\"ContractData\",D7, \"Gamma\",, \"T\"),\"\")","v":""},{"$f":"IF(C7=1,IF(H7<0,-1*RTD(\"cqg.rtd\", ,\"ContractData\",D7, \"Theta\",, \"T\"),RTD(\"cqg.rtd\", ,\"ContractData\",D7, \"Theta\",, \"T\")),\"\")","v":""},{"$f":"IF(C7=0,\"\",IF(LEFT(D7,1)=\"F\",(RTD(\"cqg.rtd\",,\"ContractData\",D7,\"ExpirationDate\",,\"T\")-TODAY()),RTD(\"cqg.rtd\",,\"ContractData\",D7,\"OptionDaysToExp\",,\"T\")))","v":""}]
[null,null,{"$f":"IF(LOOKUP(3,First!A1:A448)<>3,0,1)","v":0},{"$f":"IF(C8=1,VLOOKUP(First!I3,INDIRECT($A$2),2),\"\")","v":""},null,null,"",{"$f":"IF(C8=1,RTD(\"cqg.rtd\", ,\"OrderData\", \"\"&D8&\"\", \"\", \"OpenPosition\",\"\"&$D$3&\"\"),\"\")","v":""},{"$f":"IF(C8=1,RTD(\"cqg.rtd\", ,\"OrderData\",\"\"&D8&\"\", \"\", \"OpenTradeEquity\",\"\"&$D$3&\"\"),\"\")","v":""},null,{"$f":"IF(C8=0,\"\",IF($D$1=\"B\",RTD(\"cqg.rtd\", ,\"ContractData\",D8, \"LastTrade\",,\"B\"),TEXT(RTD(\"cqg.rtd\", ,\"ContractData\",D8, \"LastTrade\",, \"T\"),$D$1)))","v":""},{"$f":"IF(RTD(\"cqg.rtd\",,\"ContractData\",D8,\"LastTrade\",,\"T\")<RTD(\"cqg.rtd\",,\"ContractData\",D8,\"Bid\",,\"T\"),1,IF(RTD(\"cqg.rtd\",,\"ContractData\",D8,\"LastTrade\",,\"T\")>RTD(\"cqg.rtd\",,\"ContractData\",D8,\"Ask\",,\"T\"),1,0))","v":0},{"$f":"IF(C8=1,RTD(\"cqg.rtd\", ,\"ContractData\",D8, \"TMLastTrade\",, \"T\"),\"\")","v":""},"",{"$f":"IF(C8=1,RTD(\"cqg.rtd\", ,\"ContractData\",D8, \"MT_LastBidVolume\",, \"T\"),\"\")","v":""},{"$f":"IF(C8=0,\"\",IF($D$1=\"B\",RTD(\"cqg.rtd\", ,\"ContractData\",D8, \"Bid\",,\"B\"),TEXT(RTD(\"cqg.rtd\", ,\"ContractData\",D8, \"Bid\",, \"T\"),$D$1)))","v":""},0,{"$f":"IF(C8=0,\"\",IF(LEFT(D8,1)=\"F\",\"\",IF($D$1=\"B\",RTD(\"cqg.rtd\", ,\"ContractData\",D8, \"TheoreticalValue\",,\"B\"),TEXT(RTD(\"cqg.rtd\", ,\"ContractData\",D8, \"TheoreticalValue\",, \"T\"),$D$1))))","v":""},0,{"$f":"IF(C8=0,\"\",IF($D$1=\"B\",RTD(\"cqg.rtd\", ,\"ContractData\",D8, \"Ask\",,\"B\"),TEXT(RTD(\"cqg.rtd\", ,\"ContractData\",D8, \"Ask\",, \"T\"),$D$1)))","v":""},{"$f":"IF(C8=1,RTD(\"cqg.rtd\", ,\"ContractData\",D8, \"MT_LastAskVolume\",, \"T\"),\"\")","v":""},"",null,null,{"$f":"IF(C8=1,RTD(\"cqg.rtd\", ,\"ContractData\",D8, \"T_CVol\",, \"T\"),\"\")","v":""},{"$f":"IF(C8=1,RTD(\"cqg.rtd\", ,\"ContractData\",D8, \"COI\",, \"T\"),\"\")","v":""},{"$f":"IF(C8=1,RTD(\"cqg.rtd\", ,\"ContractData\",D8, \"ImpliedVolatility\",, \"T\"),\"\")","v":""},{"$f":"IF(C8=1,RTD(\"cqg.rtd\", ,\"ContractData\",D8, \"Vega\",, \"T\"),\"\")","v":""},{"$f":"IF(C8=0,\"\",IF(LEFT(D8,1)=\"F\",H8*100,H8*RTD(\"cqg.rtd\",,\"ContractData\",D8,\"Delta\",,\"T\")))","v":""},{"$f":"IF(C8=1,RTD(\"cqg.rtd\", ,\"ContractData\",D8, \"Gamma\",, \"T\"),\"\")","v":""},{"$f":"IF(C8=1,IF(H8<0,-1*RTD(\"cqg.rtd\", ,\"ContractData\",D8, \"Theta\",, \"T\"),RTD(\"cqg.rtd\", ,\"ContractData\",D8, \"Theta\",, \"T\")),\"\")","v":""},{"$f":"IF(C8=0,\"\",IF(LEFT(D8,1)=\"F\",(RTD(\"cqg.rtd\",,\"ContractData\",D8,\"ExpirationDate\",,\"T\")-TODAY()),RTD(\"cqg.rtd\",,\"ContractData\",D8,\"OptionDaysToExp\",,\"T\")))","v":""}]
[null,null,{"$f":"IF(LOOKUP(4,First!A1:A448)<>4,0,1)","v":0},{"$f":"IF(C9=1,VLOOKUP(First!I4,INDIRECT($A$2),2),\"\")","v":""},null,null,"",{"$f":"IF(C9=1,RTD(\"cqg.rtd\", ,\"OrderData\", \"\"&D9&\"\", \"\", \"OpenPosition\",\"\"&$D$3&\"\"),\"\")","v":""},{"$f":"IF(C9=1,RTD(\"cqg.rtd\", ,\"OrderData\",\"\"&D9&\"\", \"\", \"OpenTradeEquity\",\"\"&$D$3&\"\"),\"\")","v":""},null,{"$f":"IF(C9=0,\"\",IF($D$1=\"B\",RTD(\"cqg.rtd\", ,\"ContractData\",D9, \"LastTrade\",,\"B\"),TEXT(RTD(\"cqg.rtd\", ,\"ContractData\",D9, \"LastTrade\",, \"T\"),$D$1)))","v":""},{"$f":"IF(RTD(\"cqg.rtd\",,\"ContractData\",D9,\"LastTrade\",,\"T\")<RTD(\"cqg.rtd\",,\"ContractData\",D9,\"Bid\",,\"T\"),1,IF(RTD(\"cqg.rtd\",,\"ContractData\",D9,\"LastTrade\",,\"T\")>RTD(\"cqg.rtd\",,\"ContractData\",D9,\"Ask\",,\"T\"),1,0))","v":0},{"$f":"IF(C9=1,RTD(\"cqg.rtd\", ,\"ContractData\",D9, \"TMLastTrade\",, \"T\"),\"\")","v":""},"",{"$f":"IF(C9=1,RTD(\"cqg.rtd\", ,\"ContractData\",D9, \"MT_LastBidVolume\",, \"T\"),\"\")","v":""},{"$f":"IF(C9=0,\"\",IF($D$1=\"B\",RTD(\"cqg.rtd\", ,\"ContractData\",D9, \"Bid\",,\"B\"),TEXT(RTD(\"cqg.rtd\", ,\"ContractData\",D9, \"Bid\",, \"T\"),$D$1)))","v":""},0,{"$f":"IF(C9=0,\"\",IF(LEFT(D9,1)=\"F\",\"\",IF($D$1=\"B\",RTD(\"cqg.rtd\", ,\"ContractData\",D9, \"TheoreticalValue\",,\"B\"),TEXT(RTD(\"cqg.rtd\", ,\"ContractData\",D9, \"TheoreticalValue\",, \"T\"),$D$1))))","v":""},0,{"$f":"IF(C9=0,\"\",IF($D$1=\"B\",RTD(\"cqg.rtd\", ,\"ContractData\",D9, \"Ask\",,\"B\"),TEXT(RTD(\"cqg.rtd\", ,\"ContractData\",D9, \"Ask\",, \"T\"),$D$1)))","v":""},{"$f":"IF(C9=1,RTD(\"cqg.rtd\", ,\"ContractData\",D9, \"MT_LastAskVolume\",, \"T\"),\"\")","v":""},"",null,null,{"$f":"IF(C9=1,RTD(\"cqg.rtd\", ,\"ContractData\",D9, \"T_CVol\",, \"T\"),\"\")","v":""},{"$f":"IF(C9=1,RTD(\"cqg.rtd\", ,\"ContractData\",D9, \"COI\",, \"T\"),\"\")","v":""},{"$f":"IF(C9=1,RTD(\"cqg.rtd\", ,\"ContractData\",D9, \"ImpliedVolatility\",, \"T\"),\"\")","v":""},{"$f":"IF(C9=1,RTD(\"cqg.rtd\", ,\"ContractData\",D9, \"Vega\",, \"T\"),\"\")","v":""},{"$f":"IF(C9=0,\"\",IF(LEFT(D9,1)=\"F\",H9*100,H9*RTD(\"cqg.rtd\",,\"ContractData\",D9,\"Delta\",,\"T\")))","v":""},{"$f":"IF(C9=1,RTD(\"cqg.rtd\", ,\"ContractData\",D9, \"Gamma\",, \"T\"),\"\")","v":""},{"$f":"IF(C9=1,IF(H9<0,-1*RTD(\"cqg.rtd\", ,\"ContractData\",D9, \"Theta\",, \"T\"),RTD(\"cqg.rtd\", ,\"ContractData\",D9, \"Theta\",, \"T\")),\"\")","v":""},{"$f":"IF(C9=0,\"\",IF(LEFT(D9,1)=\"F\",(RTD(\"cqg.rtd\",,\"ContractData\",D9,\"ExpirationDate\",,\"T\")-TODAY()),RTD(\"cqg.rtd\",,\"ContractData\",D9,\"OptionDaysToExp\",,\"T\")))","v":""}]
[null,null,{"$f":"IF(LOOKUP(5,First!A1:A448)<>5,0,1)","v":0},{"$f":"IF(C10=1,VLOOKUP(First!I5,INDIRECT($A$2),2),\"\")","v":""},null,null,"",{"$f":"IF(C10=1,RTD(\"cqg.rtd\", ,\"OrderData\", \"\"&D10&\"\", \"\", \"OpenPosition\",\"\"&$D$3&\"\"),\"\")","v":""},{"$f":"IF(C10=1,RTD(\"cqg.rtd\", ,\"OrderData\",\"\"&D10&\"\", \"\", \"OpenTradeEquity\",\"\"&$D$3&\"\"),\"\")","v":""},null,{"$f":"IF(C10=0,\"\",IF($D$1=\"B\",RTD(\"cqg.rtd\", ,\"ContractData\",D10, \"LastTrade\",,\"B\"),TEXT(RTD(\"cqg.rtd\", ,\"ContractData\",D10, \"LastTrade\",, \"T\"),$D$1)))","v":""},{"$f":"IF(RTD(\"cqg.rtd\",,\"ContractData\",D10,\"LastTrade\",,\"T\")<RTD(\"cqg.rtd\",,\"ContractData\",D10,\"Bid\",,\"T\"),1,IF(RTD(\"cqg.rtd\",,\"ContractData\",D10,\"LastTrade\",,\"T\")>RTD(\"cqg.rtd\",,\"ContractData\",D10,\"Ask\",,\"T\"),1,0))","v":0},{"$f":"IF(C10=1,RTD(\"cqg.rtd\", ,\"ContractData\",D10, \"TMLastTrade\",, \"T\"),\"\")","v":""},"",{"$f":"IF(C10=1,RTD(\"cqg.rtd\", ,\"ContractData\",D10, \"MT_LastBidVolume\",, \"T\"),\"\")","v":""},{"$f":"IF(C10=0,\"\",IF($D$1=\"B\",RTD(\"cqg.rtd\", ,\"ContractData\",D10, \"Bid\",,\"B\"),TEXT(RTD(\"cqg.rtd\", ,\"ContractData\",D10, \"Bid\",, \"T\"),$D$1)))","v":""},0,{"$f":"IF(C10=0,\"\",IF(LEFT(D10,1)=\"F\",\"\",IF($D$1=\"B\",RTD(\"cqg.rtd\", ,\"ContractData\",D10, \"TheoreticalValue\",,\"B\"),TEXT(RTD(\"cqg.rtd\", ,\"ContractData\",D10, \"TheoreticalValue\",, \"T\"),$D$1))))","v":""},0,{"$f":"IF(C10=0,\"\",IF($D$1=\"B\",RTD(\"cqg.rtd\", ,\"ContractData\",D10, \"Ask\",,\"B\"),TEXT(RTD(\"cqg.rtd\", ,\"ContractData\",D10, \"Ask\",, \"T\"),$D$1)))","v":""},{"$f":"IF(C10=1,RTD(\"cqg.rtd\", ,\"ContractData\",D10, \"MT_LastAskVolume\",, \"T\"),\"\")","v":""},"",null,null,{"$f":"IF(C10=1,RTD(\"cqg.rtd\", ,\"ContractData\",D10, \"T_CVol\",, \"T\"),\"\")","v":""},{"$f":"IF(C10=1,RTD(\"cqg.rtd\", ,\"ContractData\",D10, \"COI\",, \"T\"),\"\")","v":""},{"$f":"IF(C10=1,RTD(\"cqg.rtd\", ,\"ContractData\",D10, \"ImpliedVolatility\",, \"T\"),\"\")","v":""},{"$f":"IF(C10=1,RTD(\"cqg.rtd\", ,\"ContractData\",D10, \"Vega\",, \"T\"),\"\")","v":""},{"$f":"IF(C10=0,\"\",IF(LEFT(D10,1)=\"F\",H10*100,H10*RTD(\"cqg.rtd\",,\"ContractData\",D10,\"Delta\",,\"T\")))","v":""},{"$f":"IF(C10=1,RTD(\"cqg.rtd\", ,\"ContractData\",D10, \"Gamma\",, \"T\"),\"\")","v":""},{"$f":"IF(C10=1,IF(H10<0,-1*RTD(\"cqg.rtd\", ,\"ContractData\",D10, \"Theta\",, \"T\"),RTD(\"cqg.rtd\", ,\"ContractData\",D10, \"Theta\",, \"T\")),\"\")","v":""},{"$f":"IF(C10=0,\"\",IF(LEFT(D10,1)=\"F\",(RTD(\"cqg.rtd\",,\"ContractData\",D10,\"ExpirationDate\",,\"T\")-TODAY()),RTD(\"cqg.rtd\",,\"ContractData\",D10,\"OptionDaysToExp\",,\"T\")))","v":""}]
[null,null,{"$f":"IF(LOOKUP(6,First!A1:A448)<>6,0,1)","v":0},{"$f":"IF(C11=1,VLOOKUP(First!I6,INDIRECT($A$2),2),\"\")","v":""},null,null,"",{"$f":"IF(C11=1,RTD(\"cqg.rtd\", ,\"OrderData\", \"\"&D11&\"\", \"\", \"OpenPosition\",\"\"&$D$3&\"\"),\"\")","v":""},{"$f":"IF(C11=1,RTD(\"cqg.rtd\", ,\"OrderData\",\"\"&D11&\"\", \"\", \"OpenTradeEquity\",\"\"&$D$3&\"\"),\"\")","v":""},null,{"$f":"IF(C11=0,\"\",IF($D$1=\"B\",RTD(\"cqg.rtd\", ,\"ContractData\",D11, \"LastTrade\",,\"B\"),TEXT(RTD(\"cqg.rtd\", ,\"ContractData\",D11, \"LastTrade\",, \"T\"),$D$1)))","v":""},{"$f":"IF(RTD(\"cqg.rtd\",,\"ContractData\",D11,\"LastTrade\",,\"T\")<RTD(\"cqg.rtd\",,\"ContractData\",D11,\"Bid\",,\"T\"),1,IF(RTD(\"cqg.rtd\",,\"ContractData\",D11,\"LastTrade\",,\"T\")>RTD(\"cqg.rtd\",,\"ContractData\",D11,\"Ask\",,\"T\"),1,0))","v":0},{"$f":"IF(C11=1,RTD(\"cqg.rtd\", ,\"ContractData\",D11, \"TMLastTrade\",, \"T\"),\"\")","v":""},"",{"$f":"IF(C11=1,RTD(\"cqg.rtd\", ,\"ContractData\",D11, \"MT_LastBidVolume\",, \"T\"),\"\")","v":""},{"$f":"IF(C11=0,\"\",IF($D$1=\"B\",RTD(\"cqg.rtd\", ,\"ContractData\",D11, \"Bid\",,\"B\"),TEXT(RTD(\"cqg.rtd\", ,\"ContractData\",D11, \"Bid\",, \"T\"),$D$1)))","v":""},0,{"$f":"IF(C11=0,\"\",IF(LEFT(D11,1)=\"F\",\"\",IF($D$1=\"B\",RTD(\"cqg.rtd\", ,\"ContractData\",D11, \"TheoreticalValue\",,\"B\"),TEXT(RTD(\"cqg.rtd\", ,\"ContractData\",D11, \"TheoreticalValue\",, \"T\"),$D$1))))","v":""},0,{"$f":"IF(C11=0,\"\",IF($D$1=\"B\",RTD(\"cqg.rtd\", ,\"ContractData\",D11, \"Ask\",,\"B\"),TEXT(RTD(\"cqg.rtd\", ,\"ContractData\",D11, \"Ask\",, \"T\"),$D$1)))","v":""},{"$f":"IF(C11=1,RTD(\"cqg.rtd\", ,\"ContractData\",D11, \"MT_LastAskVolume\",, \"T\"),\"\")","v":""},"",null,null,{"$f":"IF(C11=1,RTD(\"cqg.rtd\", ,\"ContractData\",D11, \"T_CVol\",, \"T\"),\"\")","v":""},{"$f":"IF(C11=1,RTD(\"cqg.rtd\", ,\"ContractData\",D11, \"COI\",, \"T\"),\"\")","v":""},{"$f":"IF(C11=1,RTD(\"cqg.rtd\", ,\"ContractData\",D11, \"ImpliedVolatility\",, \"T\"),\"\")","v":""},{"$f":"IF(C11=1,RTD(\"cqg.rtd\", ,\"ContractData\",D11, \"Vega\",, \"T\"),\"\")","v":""},{"$f":"IF(C11=0,\"\",IF(LEFT(D11,1)=\"F\",H11*100,H11*RTD(\"cqg.rtd\",,\"ContractData\",D11,\"Delta\",,\"T\")))","v":""},{"$f":"IF(C11=1,RTD(\"cqg.rtd\", ,\"ContractData\",D11, \"Gamma\",, \"T\"),\"\")","v":""},{"$f":"IF(C11=1,IF(H11<0,-1*RTD(\"cqg.rtd\", ,\"ContractData\",D11, \"Theta\",, \"T\"),RTD(\"cqg.rtd\", ,\"ContractData\",D11, \"Theta\",, \"T\")),\"\")","v":""},{"$f":"IF(C11=0,\"\",IF(LEFT(D11,1)=\"F\",(RTD(\"cqg.rtd\",,\"ContractData\",D11,\"ExpirationDate\",,\"T\")-TODAY()),RTD(\"cqg.rtd\",,\"ContractData\",D11,\"OptionDaysToExp\",,\"T\")))","v":""}]
[null,null,{"$f":"IF(LOOKUP(7,First!A1:A448)<>7,0,1)","v":0},{"$f":"IF(C12=1,VLOOKUP(First!I7,INDIRECT($A$2),2),\"\")","v":""},null,null,"",{"$f":"IF(C12=1,RTD(\"cqg.rtd\", ,\"OrderData\", \"\"&D12&\"\", \"\", \"OpenPosition\",\"\"&$D$3&\"\"),\"\")","v":""},{"$f":"IF(C12=1,RTD(\"cqg.rtd\", ,\"OrderData\",\"\"&D12&\"\", \"\", \"OpenTradeEquity\",\"\"&$D$3&\"\"),\"\")","v":""},null,{"$f":"IF(C12=0,\"\",IF($D$1=\"B\",RTD(\"cqg.rtd\", ,\"ContractData\",D12, \"LastTrade\",,\"B\"),TEXT(RTD(\"cqg.rtd\", ,\"ContractData\",D12, \"LastTrade\",, \"T\"),$D$1)))","v":""},{"$f":"IF(RTD(\"cqg.rtd\",,\"ContractData\",D12,\"LastTrade\",,\"T\")<RTD(\"cqg.rtd\",,\"ContractData\",D12,\"Bid\",,\"T\"),1,IF(RTD(\"cqg.rtd\",,\"ContractData\",D12,\"LastTrade\",,\"T\")>RTD(\"cqg.rtd\",,\"ContractData\",D12,\"Ask\",,\"T\"),1,0))","v":0},{"$f":"IF(C12=1,RTD(\"cqg.rtd\", ,\"ContractData\",D12, \"TMLastTrade\",, \"T\"),\"\")","v":""},"",{"$f":"IF(C12=1,RTD(\"cqg.rtd\", ,\"ContractData\",D12, \"MT_LastBidVolume\",, \"T\"),\"\")","v":""},{"$f":"IF(C12=0,\"\",IF($D$1=\"B\",RTD(\"cqg.rtd\", ,\"ContractData\",D12, \"Bid\",,\"B\"),TEXT(RTD(\"cqg.rtd\", ,\"ContractData\",D12, \"Bid\",, \"T\"),$D$1)))","v":""},0,{"$f":"IF(C12=0,\"\",IF(LEFT(D12,1)=\"F\",\"\",IF($D$1=\"B\",RTD(\"cqg.rtd\", ,\"ContractData\",D12, \"TheoreticalValue\",,\"B\"),TEXT(RTD(\"cqg.rtd\", ,\"ContractData\",D12, \"TheoreticalValue\",, \"T\"),$D$1))))","v":""},0,{"$f":"IF(C12=0,\"\",IF($D$1=\"B\",RTD(\"cqg.rtd\", ,\"ContractData\",D12, \"Ask\",,\"B\"),TEXT(RTD(\"cqg.rtd\", ,\"ContractData\",D12, \"Ask\",, \"T\"),$D$1)))","v":""},{"$f":"IF(C12=1,RTD(\"cqg.rtd\", ,\"ContractData\",D12, \"MT_LastAskVolume\",, \"T\"),\"\")","v":""},"",null,null,{"$f":"IF(C12=1,RTD(\"cqg.rtd\", ,\"ContractData\",D12, \"T_CVol\",, \"T\"),\"\")","v":""},{"$f":"IF(C12=1,RTD(\"cqg.rtd\", ,\"ContractData\",D12, \"COI\",, \"T\"),\"\")","v":""},{"$f":"IF(C12=1,RTD(\"cqg.rtd\", ,\"ContractData\",D12, \"ImpliedVolatility\",, \"T\"),\"\")","v":""},{"$f":"IF(C12=1,RTD(\"cqg.rtd\", ,\"ContractData\",D12, \"Vega\",, \"T\"),\"\")","v":""},{"$f":"IF(C12=0,\"\",IF(LEFT(D12,1)=\"F\",H12*100,H12*RTD(\"cqg.rtd\",,\"ContractData\",D12,\"Delta\",,\"T\")))","v":""},{"$f":"IF(C12=1,RTD(\"cqg.rtd\", ,\"ContractData\",D12, \"Gamma\",, \"T\"),\"\")","v":""},{"$f":"IF(C12=1,IF(H12<0,-1*RTD(\"cqg.rtd\", ,\"ContractData\",D12, \"Theta\",, \"T\"),RTD(\"cqg.rtd\", ,\"ContractData\",D12, \"Theta\",, \"T\")),\"\")","v":""},{"$f":"IF(C12=0,\"\",IF(LEFT(D12,1)=\"F\",(RTD(\"cqg.rtd\",,\"ContractData\",D12,\"ExpirationDate\",,\"T\")-TODAY()),RTD(\"cqg.rtd\",,\"ContractData\",D12,\"OptionDaysToExp\",,\"T\")))","v":""}]
[null,null,{"$f":"IF(LOOKUP(8,First!A1:A448)<>8,0,1)","v":0},{"$f":"IF(C13=1,VLOOKUP(First!I8,INDIRECT($A$2),2),\"\")","v":""},null,null,{"$f":"IF(C13=1,IF(H13>0,\"Long  \",\"Short  \"),\"\")","v":""},{"$f":"IF(C13=1,RTD(\"cqg.rtd\", ,\"OrderData\", \"\"&D13&\"\", \"\", \"OpenPosition\",\"\"&$D$3&\"\"),\"\")","v":""},{"$f":"IF(C13=1,RTD(\"cqg.rtd\", ,\"OrderData\",\"\"&D13&\"\", \"\", \"OpenTradeEquity\",\"\"&$D$3&\"\"),\"\")","v":""},null,{"$f":"IF(C13=0,\"\",IF($D$1=\"B\",RTD(\"cqg.rtd\", ,\"ContractData\",D13, \"LastTrade\",,\"B\"),TEXT(RTD(\"cqg.rtd\", ,\"ContractData\",D13, \"LastTrade\",, \"T\"),$D$1)))","v":""},{"$f":"IF(RTD(\"cqg.rtd\",,\"ContractData\",D13,\"LastTrade\",,\"T\")<RTD(\"cqg.rtd\",,\"ContractData\",D13,\"Bid\",,\"T\"),1,IF(RTD(\"cqg.rtd\",,\"ContractData\",D13,\"LastTrade\",,\"T\")>RTD(\"cqg.rtd\",,\"ContractData\",D13,\"Ask\",,\"T\"),1,0))","v":0},{"$f":"IF(C13=1,RTD(\"cqg.rtd\", ,\"ContractData\",D13, \"TMLastTrade\",, \"T\"),\"\")","v":""},"",{"$f":"IF(C13=1,RTD(\"cqg.rtd\", ,\"ContractData\",D13, \"MT_LastBidVolume\",, \"T\"),\"\")","v":""},{"$f":"IF(C13=0,\"\",IF($D$1=\"B\",RTD(\"cqg.rtd\", ,\"ContractData\",D13, \"Bid\",,\"B\"),TEXT(RTD(\"cqg.rtd\", ,\"ContractData\",D13, \"Bid\",, \"T\"),$D$1)))","v":""},0,{"$f":"IF(C13=0,\"\",IF(LEFT(D13,1)=\"F\",\"\",IF($D$1=\"B\",RTD(\"cqg.rtd\", ,\"ContractData\",D13, \"TheoreticalValue\",,\"B\"),TEXT(RTD(\"cqg.rtd\", ,\"ContractData\",D13, \"TheoreticalValue\",, \"T\"),$D$1))))","v":""},0,{"$f":"IF(C13=0,\"\",IF($D$1=\"B\",RTD(\"cqg.rtd\", ,\"ContractData\",D13, \"Ask\",,\"B\"),TEXT(RTD(\"cqg.rtd\", ,\"ContractData\",D13, \"Ask\",, \"T\"),$D$1)))","v":""},{"$f":"IF(C13=1,RTD(\"cqg.rtd\", ,\"ContractData\",D13, \"MT_LastAskVolume\",, \"T\"),\"\")","v":""},"",null,null,{"$f":"IF(C13=1,RTD(\"cqg.rtd\", ,\"ContractData\",D13, \"T_CVol\",, \"T\"),\"\")","v":""},{"$f":"IF(C13=1,RTD(\"cqg.rtd\", ,\"ContractData\",D13, \"COI\",, \"T\"),\"\")","v":""},{"$f":"IF(C13=1,RTD(\"cqg.rtd\", ,\"ContractData\",D13, \"ImpliedVolatility\",, \"T\"),\"\")","v":""},{"$f":"IF(C13=1,RTD(\"cqg.rtd\", ,\"ContractData\",D13, \"Vega\",, \"T\"),\"\")","v":""},{"$f":"IF(C13=0,\"\",IF(LEFT(D13,1)=\"F\",H13*100,H13*RTD(\"cqg.rtd\",,\"ContractData\",D13,\"Delta\",,\"T\")))","v":""},{"$f":"IF(C13=1,RTD(\"cqg.rtd\", ,\"ContractData\",D13, \"Gamma\",, \"T\"),\"\")","v":""},{"$f":"IF(C13=1,IF(H13<0,-1*RTD(\"cqg.rtd\", ,\"ContractData\",D13, \"Theta\",, \"T\"),RTD(\"cqg.rtd\", ,\"ContractData\",D13, \"Theta\",, \"T\")),\"\")","v":""},{"$f":"IF(C13=0,\"\",IF(LEFT(D13,1)=\"F\",(RTD(\"cqg.rtd\",,\"ContractData\",D13,\"ExpirationDate\",,\"T\")-TODAY()),RTD(\"cqg.rtd\",,\"ContractData\",D13,\"OptionDaysToExp\",,\"T\")))","v":""}]
[null,null,{"$f":"IF(LOOKUP(9,First!A1:A448)<>9,0,1)","v":0},{"$f":"IF(C14=1,VLOOKUP(First!I9,INDIRECT($A$2),2),\"\")","v":""},null,null,"",{"$f":"IF(C14=1,RTD(\"cqg.rtd\", ,\"OrderData\", \"\"&D14&\"\", \"\", \"OpenPosition\",\"\"&$D$3&\"\"),\"\")","v":""},{"$f":"IF(C14=1,RTD(\"cqg.rtd\", ,\"OrderData\",\"\"&D14&\"\", \"\", \"OpenTradeEquity\",\"\"&$D$3&\"\"),\"\")","v":""},null,{"$f":"IF(C14=0,\"\",IF($D$1=\"B\",RTD(\"cqg.rtd\", ,\"ContractData\",D14, \"LastTrade\",,\"B\"),TEXT(RTD(\"cqg.rtd\", ,\"ContractData\",D14, \"LastTrade\",, \"T\"),$D$1)))","v":""},{"$f":"IF(RTD(\"cqg.rtd\",,\"ContractData\",D14,\"LastTrade\",,\"T\")<RTD(\"cqg.rtd\",,\"ContractData\",D14,\"Bid\",,\"T\"),1,IF(RTD(\"cqg.rtd\",,\"ContractData\",D14,\"LastTrade\",,\"T\")>RTD(\"cqg.rtd\",,\"ContractData\",D14,\"Ask\",,\"T\"),1,0))","v":0},{"$f":"IF(C14=1,RTD(\"cqg.rtd\", ,\"ContractData\",D14, \"TMLastTrade\",, \"T\"),\"\")","v":""},"",{"$f":"IF(C14=1,RTD(\"cqg.rtd\", ,\"ContractData\",D14, \"MT_LastBidVolume\",, \"T\"),\"\")","v":""},{"$f":"IF(C14=0,\"\",IF($D$1=\"B\",RTD(\"cqg.rtd\", ,\"ContractData\",D14, \"Bid\",,\"B\"),TEXT(RTD(\"cqg.rtd\", ,\"ContractData\",D14, \"Bid\",, \"T\"),$D$1)))","v":""},0,{"$f":"IF(C14=0,\"\",IF(LEFT(D14,1)=\"F\",\"\",IF($D$1=\"B\",RTD(\"cqg.rtd\", ,\"ContractData\",D14, \"TheoreticalValue\",,\"B\"),TEXT(RTD(\"cqg.rtd\", ,\"ContractData\",D14, \"TheoreticalValue\",, \"T\"),$D$1))))","v":""},0,{"$f":"IF(C14=0,\"\",IF($D$1=\"B\",RTD(\"cqg.rtd\", ,\"ContractData\",D14, \"Ask\",,\"B\"),TEXT(RTD(\"cqg.rtd\", ,\"ContractData\",D14, \"Ask\",, \"T\"),$D$1)))","v":""},{"$f":"IF(C14=1,RTD(\"cqg.rtd\", ,\"ContractData\",D14, \"MT_LastAskVolume\",, \"T\"),\"\")","v":""},"",null,null,{"$f":"IF(C14=1,RTD(\"cqg.rtd\", ,\"ContractData\",D14, \"T_CVol\",, \"T\"),\"\")","v":""},{"$f":"IF(C14=1,RTD(\"cqg.rtd\", ,\"ContractData\",D14, \"COI\",, \"T\"),\"\")","v":""},{"$f":"IF(C14=1,RTD(\"cqg.rtd\", ,\"ContractData\",D14, \"ImpliedVolatility\",, \"T\"),\"\")","v":""},{"$f":"IF(C14=1,RTD(\"cqg.rtd\", ,\"ContractData\",D14, \"Vega\",, \"T\"),\"\")","v":""},{"$f":"IF(C14=0,\"\",IF(LEFT(D14,1)=\"F\",H14*100,H14*RTD(\"cqg.rtd\",,\"ContractData\",D14,\"Delta\",,\"T\")))","v":""},{"$f":"IF(C14=1,RTD(\"cqg.rtd\", ,\"ContractData\",D14, \"Gamma\",, \"T\"),\"\")","v":""},{"$f":"IF(C14=1,IF(H14<0,-1*RTD(\"cqg.rtd\", ,\"ContractData\",D14, \"Theta\",, \"T\"),RTD(\"cqg.rtd\", ,\"ContractData\",D14, \"Theta\",, \"T\")),\"\")","v":""},{"$f":"IF(C14=0,\"\",IF(LEFT(D14,1)=\"F\",(RTD(\"cqg.rtd\",,\"ContractData\",D14,\"ExpirationDate\",,\"T\")-TODAY()),RTD(\"cqg.rtd\",,\"ContractData\",D14,\"OptionDaysToExp\",,\"T\")))","v":""}]
[null,null,{"$f":"IF(LOOKUP(10,First!A1:A448)<>10,0,1)","v":0},{"$f":"IF(C15=1,VLOOKUP(First!I10,INDIRECT($A$2),2),\"\")","v":""},null,null,"",{"$f":"IF(C15=1,RTD(\"cqg.rtd\", ,\"OrderData\", \"\"&D15&\"\", \"\", \"OpenPosition\",\"\"&$D$3&\"\"),\"\")","v":""},{"$f":"IF(C15=1,RTD(\"cqg.rtd\", ,\"OrderData\",\"\"&D15&\"\", \"\", \"OpenTradeEquity\",\"\"&$D$3&\"\"),\"\")","v":""},null,{"$f":"IF(C15=0,\"\",IF($D$1=\"B\",RTD(\"cqg.rtd\", ,\"ContractData\",D15, \"LastTrade\",,\"B\"),TEXT(RTD(\"cqg.rtd\", ,\"ContractData\",D15, \"LastTrade\",, \"T\"),$D$1)))","v":""},{"$f":"IF(RTD(\"cqg.rtd\",,\"ContractData\",D15,\"LastTrade\",,\"T\")<RTD(\"cqg.rtd\",,\"ContractData\",D15,\"Bid\",,\"T\"),1,IF(RTD(\"cqg.rtd\",,\"ContractData\",D15,\"LastTrade\",,\"T\")>RTD(\"cqg.rtd\",,\"ContractData\",D15,\"Ask\",,\"T\"),1,0))","v":0},{"$f":"IF(C15=1,RTD(\"cqg.rtd\", ,\"ContractData\",D15, \"TMLastTrade\",, \"T\"),\"\")","v":""},"",{"$f":"IF(C15=1,RTD(\"cqg.rtd\", ,\"ContractData\",D15, \"MT_LastBidVolume\",, \"T\"),\"\")","v":""},{"$f":"IF(C15=0,\"\",IF($D$1=\"B\",RTD(\"cqg.rtd\", ,\"ContractData\",D15, \"Bid\",,\"B\"),TEXT(RTD(\"cqg.rtd\", ,\"ContractData\",D15, \"Bid\",, \"T\"),$D$1)))","v":""},{"$f":"IF(R15=\"\",0,IF(R15-P15<$P$5,1,0))","v":0},{"$f":"IF(C15=0,\"\",IF(LEFT(D15,1)=\"F\",\"\",IF($D$1=\"B\",RTD(\"cqg.rtd\", ,\"ContractData\",D15, \"TheoreticalValue\",,\"B\"),TEXT(RTD(\"cqg.rtd\", ,\"ContractData\",D15, \"TheoreticalValue\",, \"T\"),$D$1))))","v":""},0,{"$f":"IF(C15=0,\"\",IF($D$1=\"B\",RTD(\"cqg.rtd\", ,\"ContractData\",D15, \"Ask\",,\"B\"),TEXT(RTD(\"cqg.rtd\", ,\"ContractData\",D15, \"Ask\",, \"T\"),$D$1)))","v":""},{"$f":"IF(C15=1,RTD(\"cqg.rtd\", ,\"ContractData\",D15, \"MT_LastAskVolume\",, \"T\"),\"\")","v":""},"",null,null,{"$f":"IF(C15=1,RTD(\"cqg.rtd\", ,\"ContractData\",D15, \"T_CVol\",, \"T\"),\"\")","v":""},{"$f":"IF(C15=1,RTD(\"cqg.rtd\", ,\"ContractData\",D15, \"COI\",, \"T\"),\"\")","v":""},{"$f":"IF(C15=1,RTD(\"cqg.rtd\", ,\"ContractData\",D15, \"ImpliedVolatility\",, \"T\"),\"\")","v":""},{"$f":"IF(C15=1,RTD(\"cqg.rtd\", ,\"ContractData\",D15, \"Vega\",, \"T\"),\"\")","v":""},{"$f":"IF(C15=0,\"\",IF(LEFT(D15,1)=\"F\",H15*100,H15*RTD(\"cqg.rtd\",,\"ContractData\",D15,\"Delta\",,\"T\")))","v":""},{"$f":"IF(C15=1,RTD(\"cqg.rtd\", ,\"ContractData\",D15, \"Gamma\",, \"T\"),\"\")","v":""},{"$f":"IF(C15=1,IF(H15<0,-1*RTD(\"cqg.rtd\", ,\"ContractData\",D15, \"Theta\",, \"T\"),RTD(\"cqg.rtd\", ,\"ContractData\",D15, \"Theta\",, \"T\")),\"\")","v":""},{"$f":"IF(C15=0,\"\",IF(LEFT(D15,1)=\"F\",(RTD(\"cqg.rtd\",,\"ContractData\",D15,\"ExpirationDate\",,\"T\")-TODAY()),RTD(\"cqg.rtd\",,\"ContractData\",D15,\"OptionDaysToExp\",,\"T\")))","v":""}]
[null,null,{"$f":"IF(LOOKUP(11,First!A1:A448)<>11,0,1)","v":0},{"$f":"IF(C16=1,VLOOKUP(First!I11,INDIRECT($A$2),2),\"\")","v":""},null,null,{"$f":"IF(C16=1,IF(H16>0,\"Long  \",\"Short  \"),\"\")","v":""},{"$f":"IF(C16=1,RTD(\"cqg.rtd\", ,\"OrderData\", \"\"&D16&\"\", \"\", \"OpenPosition\",\"\"&$D$3&\"\"),\"\")","v":""},{"$f":"IF(C16=1,RTD(\"cqg.rtd\", ,\"OrderData\",\"\"&D16&\"\", \"\", \"OpenTradeEquity\",\"\"&$D$3&\"\"),\"\")","v":""},null,{"$f":"IF(C16=0,\"\",IF($D$1=\"B\",RTD(\"cqg.rtd\", ,\"ContractData\",D16, \"LastTrade\",,\"B\"),TEXT(RTD(\"cqg.rtd\", ,\"ContractData\",D16, \"LastTrade\",, \"T\"),$D$1)))","v":""},{"$f":"IF(RTD(\"cqg.rtd\",,\"ContractData\",D16,\"LastTrade\",,\"T\")<RTD(\"cqg.rtd\",,\"ContractData\",D16,\"Bid\",,\"T\"),1,IF(RTD(\"cqg.rtd\",,\"ContractData\",D16,\"LastTrade\",,\"T\")>RTD(\"cqg.rtd\",,\"ContractData\",D16,\"Ask\",,\"T\"),1,0))","v":0},{"$f":"IF(C16=1,RTD(\"cqg.rtd\", ,\"ContractData\",D16, \"TMLastTrade\",, \"T\"),\"\")","v":""},{"$f":"IF(C16=1,MOD($AE$2-M16,1),\"\")","v":""},{"$f":"IF(C16=1,RTD(\"cqg.rtd\", ,\"ContractData\",D16, \"MT_LastBidVolume\",, \"T\"),\"\")","v":""},{"$f":"IF(C16=0,\"\",IF($D$1=\"B\",RTD(\"cqg.rtd\", ,\"ContractData\",D16, \"Bid\",,\"B\"),TEXT(RTD(\"cqg.rtd\", ,\"ContractData\",D16, \"Bid\",, \"T\"),$D$1)))","v":""},0,{"$f":"IF(C16=0,\"\",IF(LEFT(D16,1)=\"F\",\"\",IF($D$1=\"B\",RTD(\"cqg.rtd\", ,\"ContractData\",D16, \"TheoreticalValue\",,\"B\"),TEXT(RTD(\"cqg.rtd\", ,\"ContractData\",D16, \"TheoreticalValue\",, \"T\"),$D$1))))","v":""},0,{"$f":"IF(C16=0,\"\",IF($D$1=\"B\",RTD(\"cqg.rtd\", ,\"ContractData\",D16, \"Ask\",,\"B\"),TEXT(RTD(\"cqg.rtd\", ,\"ContractData\",D16, \"Ask\",, \"T\"),$D$1)))","v":""},{"$f":"IF(C16=1,RTD(\"cqg.rtd\", ,\"ContractData\",D16, \"MT_LastAskVolume\",, \"T\"),\"\")","v":""},"",null,null,{"$f":"IF(C16=1,RTD(\"cqg.rtd\", ,\"ContractData\",D16, \"T_CVol\",, \"T\"),\"\")","v":""},{"$f":"IF(C16=1,RTD(\"cqg.rtd\", ,\"ContractData\",D16, \"COI\",, \"T\"),\"\")","v":""},{"$f":"IF(C16=1,RTD(\"cqg.rtd\", ,\"ContractData\",D16, \"ImpliedVolatility\",, \"T\"),\"\")","v":""},{"$f":"IF(C16=1,RTD(\"cqg.rtd\", ,\"ContractData\",D16, \"Vega\",, \"T\"),\"\")","v":""},{"$f":"IF(C16=0,\"\",IF(LEFT(D16,1)=\"F\",H16*100,H16*RTD(\"cqg.rtd\",,\"ContractData\",D16,\"Delta\",,\"T\")))","v":""},{"$f":"IF(C16=1,RTD(\"cqg.rtd\", ,\"ContractData\",D16, \"Gamma\",, \"T\"),\"\")","v":""},{"$f":"IF(C16=1,IF(H16<0,-1*RTD(\"cqg.rtd\", ,\"ContractData\",D16, \"Theta\",, \"T\"),RTD(\"cqg.rtd\", ,\"ContractData\",D16, \"Theta\",, \"T\")),\"\")","v":""},{"$f":"IF(C16=0,\"\",IF(LEFT(D16,1)=\"F\",(RTD(\"cqg.rtd\",,\"ContractData\",D16,\"ExpirationDate\",,\"T\")-TODAY()),RTD(\"cqg.rtd\",,\"ContractData\",D16,\"OptionDaysToExp\",,\"T\")))","v":""}]
[null,null,{"$f":"IF(LOOKUP(12,First!A1:A448)<>12,0,1)","v":0},{"$f":"IF(C17=1,VLOOKUP(First!I12,INDIRECT($A$2),2),\"\")","v":""},null,null,"",{"$f":"IF(C17=1,RTD(\"cqg.rtd\", ,\"OrderData\", \"\"&D17&\"\", \"\", \"OpenPosition\",\"\"&$D$3&\"\"),\"\")","v":""},{"$f":"IF(C17=1,RTD(\"cqg.rtd\", ,\"OrderData\",\"\"&D17&\"\", \"\", \"OpenTradeEquity\",\"\"&$D$3&\"\"),\"\")","v":""},null,{"$f":"IF(C17=0,\"\",IF($D$1=\"B\",RTD(\"cqg.rtd\", ,\"ContractData\",D17, \"LastTrade\",,\"B\"),TEXT(RTD(\"cqg.rtd\", ,\"ContractData\",D17, \"LastTrade\",, \"T\"),$D$1)))","v":""},{"$f":"IF(RTD(\"cqg.rtd\",,\"ContractData\",D17,\"LastTrade\",,\"T\")<RTD(\"cqg.rtd\",,\"ContractData\",D17,\"Bid\",,\"T\"),1,IF(RTD(\"cqg.rtd\",,\"ContractData\",D17,\"LastTrade\",,\"T\")>RTD(\"cqg.rtd\",,\"ContractData\",D17,\"Ask\",,\"T\"),1,0))","v":0},{"$f":"IF(C17=1,RTD(\"cqg.rtd\", ,\"ContractData\",D17, \"TMLastTrade\",, \"T\"),\"\")","v":""},"",{"$f":"IF(C17=1,RTD(\"cqg.rtd\", ,\"ContractData\",D17, \"MT_LastBidVolume\",, \"T\"),\"\")","v":""},{"$f":"IF(C17=0,\"\",IF($D$1=\"B\",RTD(\"cqg.rtd\", ,\"ContractData\",D17, \"Bid\",,\"B\"),TEXT(RTD(\"cqg.rtd\", ,\"ContractData\",D17, \"Bid\",, \"T\"),$D$1)))","v":""},0,{"$f":"IF(C17=0,\"\",IF(LEFT(D17,1)=\"F\",\"\",IF($D$1=\"B\",RTD(\"cqg.rtd\", ,\"ContractData\",D17, \"TheoreticalValue\",,\"B\"),TEXT(RTD(\"cqg.rtd\", ,\"ContractData\",D17, \"TheoreticalValue\",, \"T\"),$D$1))))","v":""},0,{"$f":"IF(C17=0,\"\",IF($D$1=\"B\",RTD(\"cqg.rtd\", ,\"ContractData\",D17, \"Ask\",,\"B\"),TEXT(RTD(\"cqg.rtd\", ,\"ContractData\",D17, \"Ask\",, \"T\"),$D$1)))","v":""},{"$f":"IF(C17=1,RTD(\"cqg.rtd\", ,\"ContractData\",D17, \"MT_LastAskVolume\",, \"T\"),\"\")","v":""},"",null,null,{"$f":"IF(C17=1,RTD(\"cqg.rtd\", ,\"ContractData\",D17, \"T_CVol\",, \"T\"),\"\")","v":""},{"$f":"IF(C17=1,RTD(\"cqg.rtd\", ,\"ContractData\",D17, \"COI\",, \"T\"),\"\")","v":""},{"$f":"IF(C17=1,RTD(\"cqg.rtd\", ,\"ContractData\",D17, \"ImpliedVolatility\",, \"T\"),\"\")","v":""},{"$f":"IF(C17=1,RTD(\"cqg.rtd\", ,\"ContractData\",D17, \"Vega\",, \"T\"),\"\")","v":""},{"$f":"IF(C17=0,\"\",IF(LEFT(D17,1)=\"F\",H17*100,H17*RTD(\"cqg.rtd\",,\"ContractData\",D17,\"Delta\",,\"T\")))","v":""},{"$f":"IF(C17=1,RTD(\"cqg.rtd\", ,\"ContractData\",D17, \"Gamma\",, \"T\"),\"\")","v":""},{"$f":"IF(C17=1,IF(H17<0,-1*RTD(\"cqg.rtd\", ,\"ContractData\",D17, \"Theta\",, \"T\"),RTD(\"cqg.rtd\", ,\"ContractData\",D17, \"Theta\",, \"T\")),\"\")","v":""},{"$f":"IF(C17=0,\"\",IF(LEFT(D17,1)=\"F\",(RTD(\"cqg.rtd\",,\"ContractData\",D17,\"ExpirationDate\",,\"T\")-TODAY()),RTD(\"cqg.rtd\",,\"ContractData\",D17,\"OptionDaysToExp\",,\"T\")))","v":""}]
[null,null,{"$f":"IF(LOOKUP(13,First!A1:A448)<>13,0,1)","v":0},{"$f":"IF(C18=1,VLOOKUP(First!I13,INDIRECT($A$2),2),\"\")","v":""},null,null,"",{"$f":"IF(C18=1,RTD(\"cqg.rtd\", ,\"OrderData\", \"\"&D18&\"\", \"\", \"OpenPosition\",\"\"&$D$3&\"\"),\"\")","v":""},{"$f":"IF(C18=1,RTD(\"cqg.rtd\", ,\"OrderData\",\"\"&D18&\"\", \"\", \"OpenTradeEquity\",\"\"&$D$3&\"\"),\"\")","v":""},null,{"$f":"IF(C18=0,\"\",IF($D$1=\"B\",RTD(\"cqg.rtd\", ,\"ContractData\",D18, \"LastTrade\",,\"B\"),TEXT(RTD(\"cqg.rtd\", ,\"ContractData\",D18, \"LastTrade\",, \"T\"),$D$1)))","v":""},{"$f":"IF(RTD(\"cqg.rtd\",,\"ContractData\",D18,\"LastTrade\",,\"T\")<RTD(\"cqg.rtd\",,\"ContractData\",D18,\"Bid\",,\"T\"),1,IF(RTD(\"cqg.rtd\",,\"ContractData\",D18,\"LastTrade\",,\"T\")>RTD(\"cqg.rtd\",,\"ContractData\",D18,\"Ask\",,\"T\"),1,0))","v":0},{"$f":"IF(C18=1,RTD(\"cqg.rtd\", ,\"ContractData\",D18, \"TMLastTrade\",, \"T\"),\"\")","v":""},"",{"$f":"IF(C18=1,RTD(\"cqg.rtd\", ,\"ContractData\",D18, \"MT_LastBidVolume\",, \"T\"),\"\")","v":""},{"$f":"IF(C18=0,\"\",IF($D$1=\"B\",RTD(\"cqg.rtd\", ,\"ContractData\",D18, \"Bid\",,\"B\"),TEXT(RTD(\"cqg.rtd\", ,\"ContractData\",D18, \"Bid\",, \"T\"),$D$1)))","v":""},0,{"$f":"IF(C18=0,\"\",IF(LEFT(D18,1)=\"F\",\"\",IF($D$1=\"B\",RTD(\"cqg.rtd\", ,\"ContractData\",D18, \"TheoreticalValue\",,\"B\"),TEXT(RTD(\"cqg.rtd\", ,\"ContractData\",D18, \"TheoreticalValue\",, \"T\"),$D$1))))","v":""},0,{"$f":"IF(C18=0,\"\",IF($D$1=\"B\",RTD(\"cqg.rtd\", ,\"ContractData\",D18, \"Ask\",,\"B\"),TEXT(RTD(\"cqg.rtd\", ,\"ContractData\",D18, \"Ask\",, \"T\"),$D$1)))","v":""},{"$f":"IF(C18=1,RTD(\"cqg.rtd\", ,\"ContractData\",D18, \"MT_LastAskVolume\",, \"T\"),\"\")","v":""},"",null,null,{"$f":"IF(C18=1,RTD(\"cqg.rtd\", ,\"ContractData\",D18, \"T_CVol\",, \"T\"),\"\")","v":""},{"$f":"IF(C18=1,RTD(\"cqg.rtd\", ,\"ContractData\",D18, \"COI\",, \"T\"),\"\")","v":""},{"$f":"IF(C18=1,RTD(\"cqg.rtd\", ,\"ContractData\",D18, \"ImpliedVolatility\",, \"T\"),\"\")","v":""},{"$f":"IF(C18=1,RTD(\"cqg.rtd\", ,\"ContractData\",D18, \"Vega\",, \"T\"),\"\")","v":""},{"$f":"IF(C18=0,\"\",IF(LEFT(D18,1)=\"F\",H18*100,H18*RTD(\"cqg.rtd\",,\"ContractData\",D18,\"Delta\",,\"T\")))","v":""},{"$f":"IF(C18=1,RTD(\"cqg.rtd\", ,\"ContractData\",D18, \"Gamma\",, \"T\"),\"\")","v":""},{"$f":"IF(C18=1,IF(H18<0,-1*RTD(\"cqg.rtd\", ,\"ContractData\",D18, \"Theta\",, \"T\"),RTD(\"cqg.rtd\", ,\"ContractData\",D18, \"Theta\",, \"T\")),\"\")","v":""},{"$f":"IF(C18=0,\"\",IF(LEFT(D18,1)=\"F\",(RTD(\"cqg.rtd\",,\"ContractData\",D18,\"ExpirationDate\",,\"T\")-TODAY()),RTD(\"cqg.rtd\",,\"ContractData\",D18,\"OptionDaysToExp\",,\"T\")))","v":""}]
[null,null,{"$f":"IF(LOOKUP(14,First!A1:A448)<>14,0,1)","v":0},{"$f":"IF(C19=1,VLOOKUP(First!I14,INDIRECT($A$2),2),\"\")","v":""},null,null,"",{"$f":"IF(C19=1,RTD(\"cqg.rtd\", ,\"OrderData\", \"\"&D19&\"\", \"\", \"OpenPosition\",\"\"&$D$3&\"\"),\"\")","v":""},{"$f":"IF(C19=1,RTD(\"cqg.rtd\", ,\"OrderData\",\"\"&D19&\"\", \"\", \"OpenTradeEquity\",\"\"&$D$3&\"\"),\"\")","v":""},null,{"$f":"IF(C19=0,\"\",IF($D$1=\"B\",RTD(\"cqg.rtd\", ,\"ContractData\",D19, \"LastTrade\",,\"B\"),TEXT(RTD(\"cqg.rtd\", ,\"ContractData\",D19, \"LastTrade\",, \"T\"),$D$1)))","v":""},{"$f":"IF(RTD(\"cqg.rtd\",,\"ContractData\",D19,\"LastTrade\",,\"T\")<RTD(\"cqg.rtd\",,\"ContractData\",D19,\"Bid\",,\"T\"),1,IF(RTD(\"cqg.rtd\",,\"ContractData\",D19,\"LastTrade\",,\"T\")>RTD(\"cqg.rtd\",,\"ContractData\",D19,\"Ask\",,\"T\"),1,0))","v":0},{"$f":"IF(C19=1,RTD(\"cqg.rtd\", ,\"ContractData\",D19, \"TMLastTrade\",, \"T\"),\"\")","v":""},"",{"$f":"IF(C19=1,RTD(\"cqg.rtd\", ,\"ContractData\",D19, \"MT_LastBidVolume\",, \"T\"),\"\")","v":""},{"$f":"IF(C19=0,\"\",IF($D$1=\"B\",RTD(\"cqg.rtd\", ,\"ContractData\",D19, \"Bid\",,\"B\"),TEXT(RTD(\"cqg.rtd\", ,\"ContractData\",D19, \"Bid\",, \"T\"),$D$1)))","v":""},0,{"$f":"IF(C19=0,\"\",IF(LEFT(D19,1)=\"F\",\"\",IF($D$1=\"B\",RTD(\"cqg.rtd\", ,\"ContractData\",D19, \"TheoreticalValue\",,\"B\"),TEXT(RTD(\"cqg.rtd\", ,\"ContractData\",D19, \"TheoreticalValue\",, \"T\"),$D$1))))","v":""},0,{"$f":"IF(C19=0,\"\",IF($D$1=\"B\",RTD(\"cqg.rtd\", ,\"ContractData\",D19, \"Ask\",,\"B\"),TEXT(RTD(\"cqg.rtd\", ,\"ContractData\",D19, \"Ask\",, \"T\"),$D$1)))","v":""},{"$f":"IF(C19=1,RTD(\"cqg.rtd\", ,\"ContractData\",D19, \"MT_LastAskVolume\",, \"T\"),\"\")","v":""},"",null,null,{"$f":"IF(C19=1,RTD(\"cqg.rtd\", ,\"ContractData\",D19, \"T_CVol\",, \"T\"),\"\")","v":""},{"$f":"IF(C19=1,RTD(\"cqg.rtd\", ,\"ContractData\",D19, \"COI\",, \"T\"),\"\")","v":""},{"$f":"IF(C19=1,RTD(\"cqg.rtd\", ,\"ContractData\",D19, \"ImpliedVolatility\",, \"T\"),\"\")","v":""},{"$f":"IF(C19=1,RTD(\"cqg.rtd\", ,\"ContractData\",D19, \"Vega\",, \"T\"),\"\")","v":""},{"$f":"IF(C19=0,\"\",IF(LEFT(D19,1)=\"F\",H19*100,H19*RTD(\"cqg.rtd\",,\"ContractData\",D19,\"Delta\",,\"T\")))","v":""},{"$f":"IF(C19=1,RTD(\"cqg.rtd\", ,\"ContractData\",D19, \"Gamma\",, \"T\"),\"\")","v":""},{"$f":"IF(C19=1,IF(H19<0,-1*RTD(\"cqg.rtd\", ,\"ContractData\",D19, \"Theta\",, \"T\"),RTD(\"cqg.rtd\", ,\"ContractData\",D19, \"Theta\",, \"T\")),\"\")","v":""},{"$f":"IF(C19=0,\"\",IF(LEFT(D19,1)=\"F\",(RTD(\"cqg.rtd\",,\"ContractData\",D19,\"ExpirationDate\",,\"T\")-TODAY()),RTD(\"cqg.rtd\",,\"ContractData\",D19,\"OptionDaysToExp\",,\"T\")))","v":""}]
[null,null,{"$f":"IF(LOOKUP(15,First!A1:A448)<>15,0,1)","v":0},{"$f":"IF(C20=1,VLOOKUP(First!I15,INDIRECT($A$2),2),\"\")","v":""},null,null,"",{"$f":"IF(C20=1,RTD(\"cqg.rtd\", ,\"OrderData\", \"\"&D20&\"\", \"\", \"OpenPosition\",\"\"&$D$3&\"\"),\"\")","v":""},{"$f":"IF(C20=1,RTD(\"cqg.rtd\", ,\"OrderData\",\"\"&D20&\"\", \"\", \"OpenTradeEquity\",\"\"&$D$3&\"\"),\"\")","v":""},null,{"$f":"IF(C20=0,\"\",IF($D$1=\"B\",RTD(\"cqg.rtd\", ,\"ContractData\",D20, \"LastTrade\",,\"B\"),TEXT(RTD(\"cqg.rtd\", ,\"ContractData\",D20, \"LastTrade\",, \"T\"),$D$1)))","v":""},{"$f":"IF(RTD(\"cqg.rtd\",,\"ContractData\",D20,\"LastTrade\",,\"T\")<RTD(\"cqg.rtd\",,\"ContractData\",D20,\"Bid\",,\"T\"),1,IF(RTD(\"cqg.rtd\",,\"ContractData\",D20,\"LastTrade\",,\"T\")>RTD(\"cqg.rtd\",,\"ContractData\",D20,\"Ask\",,\"T\"),1,0))","v":0},{"$f":"IF(C20=1,RTD(\"cqg.rtd\", ,\"ContractData\",D20, \"TMLastTrade\",, \"T\"),\"\")","v":""},"",{"$f":"IF(C20=1,RTD(\"cqg.rtd\", ,\"ContractData\",D20, \"MT_LastBidVolume\",, \"T\"),\"\")","v":""},{"$f":"IF(C20=0,\"\",IF($D$1=\"B\",RTD(\"cqg.rtd\", ,\"ContractData\",D20, \"Bid\",,\"B\"),TEXT(RTD(\"cqg.rtd\", ,\"ContractData\",D20, \"Bid\",, \"T\"),$D$1)))","v":""},0,{"$f":"IF(C20=0,\"\",IF(LEFT(D20,1)=\"F\",\"\",IF($D$1=\"B\",RTD(\"cqg.rtd\", ,\"ContractData\",D20, \"TheoreticalValue\",,\"B\"),TEXT(RTD(\"cqg.rtd\", ,\"ContractData\",D20, \"TheoreticalValue\",, \"T\"),$D$1))))","v":""},0,{"$f":"IF(C20=0,\"\",IF($D$1=\"B\",RTD(\"cqg.rtd\", ,\"ContractData\",D20, \"Ask\",,\"B\"),TEXT(RTD(\"cqg.rtd\", ,\"ContractData\",D20, \"Ask\",, \"T\"),$D$1)))","v":""},{"$f":"IF(C20=1,RTD(\"cqg.rtd\", ,\"ContractData\",D20, \"MT_LastAskVolume\",, \"T\"),\"\")","v":""},"",null,null,{"$f":"IF(C20=1,RTD(\"cqg.rtd\", ,\"ContractData\",D20, \"T_CVol\",, \"T\"),\"\")","v":""},{"$f":"IF(C20=1,RTD(\"cqg.rtd\", ,\"ContractData\",D20, \"COI\",, \"T\"),\"\")","v":""},{"$f":"IF(C20=1,RTD(\"cqg.rtd\", ,\"ContractData\",D20, \"ImpliedVolatility\",, \"T\"),\"\")","v":""},{"$f":"IF(C20=1,RTD(\"cqg.rtd\", ,\"ContractData\",D20, \"Vega\",, \"T\"),\"\")","v":""},{"$f":"IF(C20=0,\"\",IF(LEFT(D20,1)=\"F\",H20*100,H20*RTD(\"cqg.rtd\",,\"ContractData\",D20,\"Delta\",,\"T\")))","v":""},{"$f":"IF(C20=1,RTD(\"cqg.rtd\", ,\"ContractData\",D20, \"Gamma\",, \"T\"),\"\")","v":""},{"$f":"IF(C20=1,IF(H20<0,-1*RTD(\"cqg.rtd\", ,\"ContractData\",D20, \"Theta\",, \"T\"),RTD(\"cqg.rtd\", ,\"ContractData\",D20, \"Theta\",, \"T\")),\"\")","v":""},{"$f":"IF(C20=0,\"\",IF(LEFT(D20,1)=\"F\",(RTD(\"cqg.rtd\",,\"ContractData\",D20,\"ExpirationDate\",,\"T\")-TODAY()),RTD(\"cqg.rtd\",,\"ContractData\",D20,\"OptionDaysToExp\",,\"T\")))","v":""}]
[null,null,{"$f":"IF(LOOKUP(16,First!A1:A448)<>16,0,1)","v":0},{"$f":"IF(C21=1,VLOOKUP(First!I16,INDIRECT($A$2),2),\"\")","v":""},null,null,"",{"$f":"IF(C21=1,RTD(\"cqg.rtd\", ,\"OrderData\", \"\"&D21&\"\", \"\", \"OpenPosition\",\"\"&$D$3&\"\"),\"\")","v":""},{"$f":"IF(C21=1,RTD(\"cqg.rtd\", ,\"OrderData\",\"\"&D21&\"\", \"\", \"OpenTradeEquity\",\"\"&$D$3&\"\"),\"\")","v":""},null,{"$f":"IF(C21=0,\"\",IF($D$1=\"B\",RTD(\"cqg.rtd\", ,\"ContractData\",D21, \"LastTrade\",,\"B\"),TEXT(RTD(\"cqg.rtd\", ,\"ContractData\",D21, \"LastTrade\",, \"T\"),$D$1)))","v":""},{"$f":"IF(RTD(\"cqg.rtd\",,\"ContractData\",D21,\"LastTrade\",,\"T\")<RTD(\"cqg.rtd\",,\"ContractData\",D21,\"Bid\",,\"T\"),1,IF(RTD(\"cqg.rtd\",,\"ContractData\",D21,\"LastTrade\",,\"T\")>RTD(\"cqg.rtd\",,\"ContractData\",D21,\"Ask\",,\"T\"),1,0))","v":0},{"$f":"IF(C21=1,RTD(\"cqg.rtd\", ,\"ContractData\",D21, \"TMLastTrade\",, \"T\"),\"\")","v":""},"",{"$f":"IF(C21=1,RTD(\"cqg.rtd\", ,\"ContractData\",D21, \"MT_LastBidVolume\",, \"T\"),\"\")","v":""},{"$f":"IF(C21=0,\"\",IF($D$1=\"B\",RTD(\"cqg.rtd\", ,\"ContractData\",D21, \"Bid\",,\"B\"),TEXT(RTD(\"cqg.rtd\", ,\"ContractData\",D21, \"Bid\",, \"T\"),$D$1)))","v":""},0,{"$f":"IF(C21=0,\"\",IF(LEFT(D21,1)=\"F\",\"\",IF($D$1=\"B\",RTD(\"cqg.rtd\", ,\"ContractData\",D21, \"TheoreticalValue\",,\"B\"),TEXT(RTD(\"cqg.rtd\", ,\"ContractData\",D21, \"TheoreticalValue\",, \"T\"),$D$1))))","v":""},0,{"$f":"IF(C21=0,\"\",IF($D$1=\"B\",RTD(\"cqg.rtd\", ,\"ContractData\",D21, \"Ask\",,\"B\"),TEXT(RTD(\"cqg.rtd\", ,\"ContractData\",D21, \"Ask\",, \"T\"),$D$1)))","v":""},{"$f":"IF(C21=1,RTD(\"cqg.rtd\", ,\"ContractData\",D21, \"MT_LastAskVolume\",, \"T\"),\"\")","v":""},"",null,null,{"$f":"IF(C21=1,RTD(\"cqg.rtd\", ,\"ContractData\",D21, \"T_CVol\",, \"T\"),\"\")","v":""},{"$f":"IF(C21=1,RTD(\"cqg.rtd\", ,\"ContractData\",D21, \"COI\",, \"T\"),\"\")","v":""},{"$f":"IF(C21=1,RTD(\"cqg.rtd\", ,\"ContractData\",D21, \"ImpliedVolatility\",, \"T\"),\"\")","v":""},{"$f":"IF(C21=1,RTD(\"cqg.rtd\", ,\"ContractData\",D21, \"Vega\",, \"T\"),\"\")","v":""},{"$f":"IF(C21=0,\"\",IF(LEFT(D21,1)=\"F\",H21*100,H21*RTD(\"cqg.rtd\",,\"ContractData\",D21,\"Delta\",,\"T\")))","v":""},{"$f":"IF(C21=1,RTD(\"cqg.rtd\", ,\"ContractData\",D21, \"Gamma\",, \"T\"),\"\")","v":""},{"$f":"IF(C21=1,IF(H21<0,-1*RTD(\"cqg.rtd\", ,\"ContractData\",D21, \"Theta\",, \"T\"),RTD(\"cqg.rtd\", ,\"ContractData\",D21, \"Theta\",, \"T\")),\"\")","v":""},{"$f":"IF(C21=0,\"\",IF(LEFT(D21,1)=\"F\",(RTD(\"cqg.rtd\",,\"ContractData\",D21,\"ExpirationDate\",,\"T\")-TODAY()),RTD(\"cqg.rtd\",,\"ContractData\",D21,\"OptionDaysToExp\",,\"T\")))","v":""}]
[null,null,{"$f":"IF(LOOKUP(17,First!A1:A448)<>17,0,1)","v":0},{"$f":"IF(C22=1,VLOOKUP(First!I17,INDIRECT($A$2),2),\"\")","v":""},null,null,"",{"$f":"IF(C22=1,RTD(\"cqg.rtd\", ,\"OrderData\", \"\"&D22&\"\", \"\", \"OpenPosition\",\"\"&$D$3&\"\"),\"\")","v":""},{"$f":"IF(C22=1,RTD(\"cqg.rtd\", ,\"OrderData\",\"\"&D22&\"\", \"\", \"OpenTradeEquity\",\"\"&$D$3&\"\"),\"\")","v":""},null,{"$f":"IF(C22=0,\"\",IF($D$1=\"B\",RTD(\"cqg.rtd\", ,\"ContractData\",D22, \"LastTrade\",,\"B\"),TEXT(RTD(\"cqg.rtd\", ,\"ContractData\",D22, \"LastTrade\",, \"T\"),$D$1)))","v":""},{"$f":"IF(RTD(\"cqg.rtd\",,\"ContractData\",D22,\"LastTrade\",,\"T\")<RTD(\"cqg.rtd\",,\"ContractData\",D22,\"Bid\",,\"T\"),1,IF(RTD(\"cqg.rtd\",,\"ContractData\",D22,\"LastTrade\",,\"T\")>RTD(\"cqg.rtd\",,\"ContractData\",D22,\"Ask\",,\"T\"),1,0))","v":0},{"$f":"IF(C22=1,RTD(\"cqg.rtd\", ,\"ContractData\",D22, \"TMLastTrade\",, \"T\"),\"\")","v":""},"",{"$f":"IF(C22=1,RTD(\"cqg.rtd\", ,\"ContractData\",D22, \"MT_LastBidVolume\",, \"T\"),\"\")","v":""},{"$f":"IF(C22=0,\"\",IF($D$1=\"B\",RTD(\"cqg.rtd\", ,\"ContractData\",D22, \"Bid\",,\"B\"),TEXT(RTD(\"cqg.rtd\", ,\"ContractData\",D22, \"Bid\",, \"T\"),$D$1)))","v":""},0,{"$f":"IF(C22=0,\"\",IF(LEFT(D22,1)=\"F\",\"\",IF($D$1=\"B\",RTD(\"cqg.rtd\", ,\"ContractData\",D22, \"TheoreticalValue\",,\"B\"),TEXT(RTD(\"cqg.rtd\", ,\"ContractData\",D22, \"TheoreticalValue\",, \"T\"),$D$1))))","v":""},0,{"$f":"IF(C22=0,\"\",IF($D$1=\"B\",RTD(\"cqg.rtd\", ,\"ContractData\",D22, \"Ask\",,\"B\"),TEXT(RTD(\"cqg.rtd\", ,\"ContractData\",D22, \"Ask\",, \"T\"),$D$1)))","v":""},{"$f":"IF(C22=1,RTD(\"cqg.rtd\", ,\"ContractData\",D22, \"MT_LastAskVolume\",, \"T\"),\"\")","v":""},"",null,null,{"$f":"IF(C22=1,RTD(\"cqg.rtd\", ,\"ContractData\",D22, \"T_CVol\",, \"T\"),\"\")","v":""},{"$f":"IF(C22=1,RTD(\"cqg.rtd\", ,\"ContractData\",D22, \"COI\",, \"T\"),\"\")","v":""},{"$f":"IF(C22=1,RTD(\"cqg.rtd\", ,\"ContractData\",D22, \"ImpliedVolatility\",, \"T\"),\"\")","v":""},{"$f":"IF(C22=1,RTD(\"cqg.rtd\", ,\"ContractData\",D22, \"Vega\",, \"T\"),\"\")","v":""},{"$f":"IF(C22=0,\"\",IF(LEFT(D22,1)=\"F\",H22*100,H22*RTD(\"cqg.rtd\",,\"ContractData\",D22,\"Delta\",,\"T\")))","v":""},{"$f":"IF(C22=1,RTD(\"cqg.rtd\", ,\"ContractData\",D22, \"Gamma\",, \"T\"),\"\")","v":""},{"$f":"IF(C22=1,IF(H22<0,-1*RTD(\"cqg.rtd\", ,\"ContractData\",D22, \"Theta\",, \"T\"),RTD(\"cqg.rtd\", ,\"ContractData\",D22, \"Theta\",, \"T\")),\"\")","v":""},{"$f":"IF(C22=0,\"\",IF(LEFT(D22,1)=\"F\",(RTD(\"cqg.rtd\",,\"ContractData\",D22,\"ExpirationDate\",,\"T\")-TODAY()),RTD(\"cqg.rtd\",,\"ContractData\",D22,\"OptionDaysToExp\",,\"T\")))","v":""}]
[null,null,{"$f":"IF(LOOKUP(18,First!A1:A448)<>18,0,1)","v":0},{"$f":"IF(C23=1,VLOOKUP(First!I18,INDIRECT($A$2),2),\"\")","v":""},null,null,"",{"$f":"IF(C23=1,RTD(\"cqg.rtd\", ,\"OrderData\", \"\"&D23&\"\", \"\", \"OpenPosition\",\"\"&$D$3&\"\"),\"\")","v":""},{"$f":"IF(C23=1,RTD(\"cqg.rtd\", ,\"OrderData\",\"\"&D23&\"\", \"\", \"OpenTradeEquity\",\"\"&$D$3&\"\"),\"\")","v":""},null,{"$f":"IF(C23=0,\"\",IF($D$1=\"B\",RTD(\"cqg.rtd\", ,\"ContractData\",D23, \"LastTrade\",,\"B\"),TEXT(RTD(\"cqg.rtd\", ,\"ContractData\",D23, \"LastTrade\",, \"T\"),$D$1)))","v":""},{"$f":"IF(RTD(\"cqg.rtd\",,\"ContractData\",D23,\"LastTrade\",,\"T\")<RTD(\"cqg.rtd\",,\"ContractData\",D23,\"Bid\",,\"T\"),1,IF(RTD(\"cqg.rtd\",,\"ContractData\",D23,\"LastTrade\",,\"T\")>RTD(\"cqg.rtd\",,\"ContractData\",D23,\"Ask\",,\"T\"),1,0))","v":0},{"$f":"IF(C23=1,RTD(\"cqg.rtd\", ,\"ContractData\",D23, \"TMLastTrade\",, \"T\"),\"\")","v":""},"",{"$f":"IF(C23=1,RTD(\"cqg.rtd\", ,\"ContractData\",D23, \"MT_LastBidVolume\",, \"T\"),\"\")","v":""},{"$f":"IF(C23=0,\"\",IF($D$1=\"B\",RTD(\"cqg.rtd\", ,\"ContractData\",D23, \"Bid\",,\"B\"),TEXT(RTD(\"cqg.rtd\", ,\"ContractData\",D23, \"Bid\",, \"T\"),$D$1)))","v":""},0,{"$f":"IF(C23=0,\"\",IF(LEFT(D23,1)=\"F\",\"\",IF($D$1=\"B\",RTD(\"cqg.rtd\", ,\"ContractData\",D23, \"TheoreticalValue\",,\"B\"),TEXT(RTD(\"cqg.rtd\", ,\"ContractData\",D23, \"TheoreticalValue\",, \"T\"),$D$1))))","v":""},0,{"$f":"IF(C23=0,\"\",IF($D$1=\"B\",RTD(\"cqg.rtd\", ,\"ContractData\",D23, \"Ask\",,\"B\"),TEXT(RTD(\"cqg.rtd\", ,\"ContractData\",D23, \"Ask\",, \"T\"),$D$1)))","v":""},{"$f":"IF(C23=1,RTD(\"cqg.rtd\", ,\"ContractData\",D23, \"MT_LastAskVolume\",, \"T\"),\"\")","v":""},"",null,null,{"$f":"IF(C23=1,RTD(\"cqg.rtd\", ,\"ContractData\",D23, \"T_CVol\",, \"T\"),\"\")","v":""},{"$f":"IF(C23=1,RTD(\"cqg.rtd\", ,\"ContractData\",D23, \"COI\",, \"T\"),\"\")","v":""},{"$f":"IF(C23=1,RTD(\"cqg.rtd\", ,\"ContractData\",D23, \"ImpliedVolatility\",, \"T\"),\"\")","v":""},{"$f":"IF(C23=1,RTD(\"cqg.rtd\", ,\"ContractData\",D23, \"Vega\",, \"T\"),\"\")","v":""},{"$f":"IF(C23=0,\"\",IF(LEFT(D23,1)=\"F\",H23*100,H23*RTD(\"cqg.rtd\",,\"ContractData\",D23,\"Delta\",,\"T\")))","v":""},{"$f":"IF(C23=1,RTD(\"cqg.rtd\", ,\"ContractData\",D23, \"Gamma\",, \"T\"),\"\")","v":""},{"$f":"IF(C23=1,IF(H23<0,-1*RTD(\"cqg.rtd\", ,\"ContractData\",D23, \"Theta\",, \"T\"),RTD(\"cqg.rtd\", ,\"ContractData\",D23, \"Theta\",, \"T\")),\"\")","v":""},{"$f":"IF(C23=0,\"\",IF(LEFT(D23,1)=\"F\",(RTD(\"cqg.rtd\",,\"ContractData\",D23,\"ExpirationDate\",,\"T\")-TODAY()),RTD(\"cqg.rtd\",,\"ContractData\",D23,\"OptionDaysToExp\",,\"T\")))","v":""}]
[null,null,{"$f":"IF(LOOKUP(19,First!A1:A448)<>19,0,1)","v":0},{"$f":"IF(C24=1,VLOOKUP(First!I19,INDIRECT($A$2),2),\"\")","v":""},null,null,"",{"$f":"IF(C24=1,RTD(\"cqg.rtd\", ,\"OrderData\", \"\"&D24&\"\", \"\", \"OpenPosition\",\"\"&$D$3&\"\"),\"\")","v":""},{"$f":"IF(C24=1,RTD(\"cqg.rtd\", ,\"OrderData\",\"\"&D24&\"\", \"\", \"OpenTradeEquity\",\"\"&$D$3&\"\"),\"\")","v":""},null,{"$f":"IF(C24=0,\"\",IF($D$1=\"B\",RTD(\"cqg.rtd\", ,\"ContractData\",D24, \"LastTrade\",,\"B\"),TEXT(RTD(\"cqg.rtd\", ,\"ContractData\",D24, \"LastTrade\",, \"T\"),$D$1)))","v":""},{"$f":"IF(RTD(\"cqg.rtd\",,\"ContractData\",D24,\"LastTrade\",,\"T\")<RTD(\"cqg.rtd\",,\"ContractData\",D24,\"Bid\",,\"T\"),1,IF(RTD(\"cqg.rtd\",,\"ContractData\",D24,\"LastTrade\",,\"T\")>RTD(\"cqg.rtd\",,\"ContractData\",D24,\"Ask\",,\"T\"),1,0))","v":0},{"$f":"IF(C24=1,RTD(\"cqg.rtd\", ,\"ContractData\",D24, \"TMLastTrade\",, \"T\"),\"\")","v":""},"",{"$f":"IF(C24=1,RTD(\"cqg.rtd\", ,\"ContractData\",D24, \"MT_LastBidVolume\",, \"T\"),\"\")","v":""},{"$f":"IF(C24=0,\"\",IF($D$1=\"B\",RTD(\"cqg.rtd\", ,\"ContractData\",D24, \"Bid\",,\"B\"),TEXT(RTD(\"cqg.rtd\", ,\"ContractData\",D24, \"Bid\",, \"T\"),$D$1)))","v":""},0,{"$f":"IF(C24=0,\"\",IF(LEFT(D24,1)=\"F\",\"\",IF($D$1=\"B\",RTD(\"cqg.rtd\", ,\"ContractData\",D24, \"TheoreticalValue\",,\"B\"),TEXT(RTD(\"cqg.rtd\", ,\"ContractData\",D24, \"TheoreticalValue\",, \"T\"),$D$1))))","v":""},0,{"$f":"IF(C24=0,\"\",IF($D$1=\"B\",RTD(\"cqg.rtd\", ,\"ContractData\",D24, \"Ask\",,\"B\"),TEXT(RTD(\"cqg.rtd\", ,\"ContractData\",D24, \"Ask\",, \"T\"),$D$1)))","v":""},{"$f":"IF(C24=1,RTD(\"cqg.rtd\", ,\"ContractData\",D24, \"MT_LastAskVolume\",, \"T\"),\"\")","v":""},"",null,null,{"$f":"IF(C24=1,RTD(\"cqg.rtd\", ,\"ContractData\",D24, \"T_CVol\",, \"T\"),\"\")","v":""},{"$f":"IF(C24=1,RTD(\"cqg.rtd\", ,\"ContractData\",D24, \"COI\",, \"T\"),\"\")","v":""},{"$f":"IF(C24=1,RTD(\"cqg.rtd\", ,\"ContractData\",D24, \"ImpliedVolatility\",, \"T\"),\"\")","v":""},{"$f":"IF(C24=1,RTD(\"cqg.rtd\", ,\"ContractData\",D24, \"Vega\",, \"T\"),\"\")","v":""},{"$f":"IF(C24=0,\"\",IF(LEFT(D24,1)=\"F\",H24*100,H24*RTD(\"cqg.rtd\",,\"ContractData\",D24,\"Delta\",,\"T\")))","v":""},{"$f":"IF(C24=1,RTD(\"cqg.rtd\", ,\"ContractData\",D24, \"Gamma\",, \"T\"),\"\")","v":""},{"$f":"IF(C24=1,IF(H24<0,-1*RTD(\"cqg.rtd\", ,\"ContractData\",D24, \"Theta\",, \"T\"),RTD(\"cqg.rtd\", ,\"ContractData\",D24, \"Theta\",, \"T\")),\"\")","v":""},{"$f":"IF(C24=0,\"\",IF(LEFT(D24,1)=\"F\",(RTD(\"cqg.rtd\",,\"ContractData\",D24,\"ExpirationDate\",,\"T\")-TODAY()),RTD(\"cqg.rtd\",,\"ContractData\",D24,\"OptionDaysToExp\",,\"T\")))","v":""}]
[null,null,{"$f":"IF(LOOKUP(20,First!A1:A448)<>20,0,1)","v":0},{"$f":"IF(C25=1,VLOOKUP(First!I20,INDIRECT($A$2),2),\"\")","v":""},null,null,"",{"$f":"IF(C25=1,RTD(\"cqg.rtd\", ,\"OrderData\", \"\"&D25&\"\", \"\", \"OpenPosition\",\"\"&$D$3&\"\"),\"\")","v":""},{"$f":"IF(C25=1,RTD(\"cqg.rtd\", ,\"OrderData\",\"\"&D25&\"\", \"\", \"OpenTradeEquity\",\"\"&$D$3&\"\"),\"\")","v":""},null,{"$f":"IF(C25=0,\"\",IF($D$1=\"B\",RTD(\"cqg.rtd\", ,\"ContractData\",D25, \"LastTrade\",,\"B\"),TEXT(RTD(\"cqg.rtd\", ,\"ContractData\",D25, \"LastTrade\",, \"T\"),$D$1)))","v":""},{"$f":"IF(RTD(\"cqg.rtd\",,\"ContractData\",D25,\"LastTrade\",,\"T\")<RTD(\"cqg.rtd\",,\"ContractData\",D25,\"Bid\",,\"T\"),1,IF(RTD(\"cqg.rtd\",,\"ContractData\",D25,\"LastTrade\",,\"T\")>RTD(\"cqg.rtd\",,\"ContractData\",D25,\"Ask\",,\"T\"),1,0))","v":0},{"$f":"IF(C25=1,RTD(\"cqg.rtd\", ,\"ContractData\",D25, \"TMLastTrade\",, \"T\"),\"\")","v":""},"",{"$f":"IF(C25=1,RTD(\"cqg.rtd\", ,\"ContractData\",D25, \"MT_LastBidVolume\",, \"T\"),\"\")","v":""},{"$f":"IF(C25=0,\"\",IF($D$1=\"B\",RTD(\"cqg.rtd\", ,\"ContractData\",D25, \"Bid\",,\"B\"),TEXT(RTD(\"cqg.rtd\", ,\"ContractData\",D25, \"Bid\",, \"T\"),$D$1)))","v":""},0,{"$f":"IF(C25=0,\"\",IF(LEFT(D25,1)=\"F\",\"\",IF($D$1=\"B\",RTD(\"cqg.rtd\", ,\"ContractData\",D25, \"TheoreticalValue\",,\"B\"),TEXT(RTD(\"cqg.rtd\", ,\"ContractData\",D25, \"TheoreticalValue\",, \"T\"),$D$1))))","v":""},0,{"$f":"IF(C25=0,\"\",IF($D$1=\"B\",RTD(\"cqg.rtd\", ,\"ContractData\",D25, \"Ask\",,\"B\"),TEXT(RTD(\"cqg.rtd\", ,\"ContractData\",D25, \"Ask\",, \"T\"),$D$1)))","v":""},{"$f":"IF(C25=1,RTD(\"cqg.rtd\", ,\"ContractData\",D25, \"MT_LastAskVolume\",, \"T\"),\"\")","v":""},"",null,null,{"$f":"IF(C25=1,RTD(\"cqg.rtd\", ,\"ContractData\",D25, \"T_CVol\",, \"T\"),\"\")","v":""},{"$f":"IF(C25=1,RTD(\"cqg.rtd\", ,\"ContractData\",D25, \"COI\",, \"T\"),\"\")","v":""},{"$f":"IF(C25=1,RTD(\"cqg.rtd\", ,\"ContractData\",D25, \"ImpliedVolatility\",, \"T\"),\"\")","v":""},{"$f":"IF(C25=1,RTD(\"cqg.rtd\", ,\"ContractData\",D25, \"Vega\",, \"T\"),\"\")","v":""},{"$f":"IF(C25=0,\"\",IF(LEFT(D25,1)=\"F\",H25*100,H25*RTD(\"cqg.rtd\",,\"ContractData\",D25,\"Delta\",,\"T\")))","v":""},{"$f":"IF(C25=1,RTD(\"cqg.rtd\", ,\"ContractData\",D25, \"Gamma\",, \"T\"),\"\")","v":""},{"$f":"IF(C25=1,IF(H25<0,-1*RTD(\"cqg.rtd\", ,\"ContractData\",D25, \"Theta\",, \"T\"),RTD(\"cqg.rtd\", ,\"ContractData\",D25, \"Theta\",, \"T\")),\"\")","v":""},{"$f":"IF(C25=0,\"\",IF(LEFT(D25,1)=\"F\",(RTD(\"cqg.rtd\",,\"ContractData\",D25,\"ExpirationDate\",,\"T\")-TODAY()),RTD(\"cqg.rtd\",,\"ContractData\",D25,\"OptionDaysToExp\",,\"T\")))","v":""}]
[null,null,{"$f":"IF(LOOKUP(21,First!A1:A448)<>21,0,1)","v":0},{"$f":"IF(C26=1,VLOOKUP(First!I21,INDIRECT($A$2),2),\"\")","v":""},null,null,"",{"$f":"IF(C26=1,RTD(\"cqg.rtd\", ,\"OrderData\", \"\"&D26&\"\", \"\", \"OpenPosition\",\"\"&$D$3&\"\"),\"\")","v":""},{"$f":"IF(C26=1,RTD(\"cqg.rtd\", ,\"OrderData\",\"\"&D26&\"\", \"\", \"OpenTradeEquity\",\"\"&$D$3&\"\"),\"\")","v":""},null,{"$f":"IF(C26=0,\"\",IF($D$1=\"B\",RTD(\"cqg.rtd\", ,\"ContractData\",D26, \"LastTrade\",,\"B\"),TEXT(RTD(\"cqg.rtd\", ,\"ContractData\",D26, \"LastTrade\",, \"T\"),$D$1)))","v":""},{"$f":"IF(RTD(\"cqg.rtd\",,\"ContractData\",D26,\"LastTrade\",,\"T\")<RTD(\"cqg.rtd\",,\"ContractData\",D26,\"Bid\",,\"T\"),1,IF(RTD(\"cqg.rtd\",,\"ContractData\",D26,\"LastTrade\",,\"T\")>RTD(\"cqg.rtd\",,\"ContractData\",D26,\"Ask\",,\"T\"),1,0))","v":0},{"$f":"IF(C26=1,RTD(\"cqg.rtd\", ,\"ContractData\",D26, \"TMLastTrade\",, \"T\"),\"\")","v":""},"",{"$f":"IF(C26=1,RTD(\"cqg.rtd\", ,\"ContractData\",D26, \"MT_LastBidVolume\",, \"T\"),\"\")","v":""},{"$f":"IF(C26=0,\"\",IF($D$1=\"B\",RTD(\"cqg.rtd\", ,\"ContractData\",D26, \"Bid\",,\"B\"),TEXT(RTD(\"cqg.rtd\", ,\"ContractData\",D26, \"Bid\",, \"T\"),$D$1)))","v":""},0,{"$f":"IF(C26=0,\"\",IF(LEFT(D26,1)=\"F\",\"\",IF($D$1=\"B\",RTD(\"cqg.rtd\", ,\"ContractData\",D26, \"TheoreticalValue\",,\"B\"),TEXT(RTD(\"cqg.rtd\", ,\"ContractData\",D26, \"TheoreticalValue\",, \"T\"),$D$1))))","v":""},0,{"$f":"IF(C26=0,\"\",IF($D$1=\"B\",RTD(\"cqg.rtd\", ,\"ContractData\",D26, \"Ask\",,\"B\"),TEXT(RTD(\"cqg.rtd\", ,\"ContractData\",D26, \"Ask\",, \"T\"),$D$1)))","v":""},{"$f":"IF(C26=1,RTD(\"cqg.rtd\", ,\"ContractData\",D26, \"MT_LastAskVolume\",, \"T\"),\"\")","v":""},"",null,null,{"$f":"IF(C26=1,RTD(\"cqg.rtd\", ,\"ContractData\",D26, \"T_CVol\",, \"T\"),\"\")","v":""},{"$f":"IF(C26=1,RTD(\"cqg.rtd\", ,\"ContractData\",D26, \"COI\",, \"T\"),\"\")","v":""},{"$f":"IF(C26=1,RTD(\"cqg.rtd\", ,\"ContractData\",D26, \"ImpliedVolatility\",, \"T\"),\"\")","v":""},{"$f":"IF(C26=1,RTD(\"cqg.rtd\", ,\"ContractData\",D26, \"Vega\",, \"T\"),\"\")","v":""},{"$f":"IF(C26=0,\"\",IF(LEFT(D26,1)=\"F\",H26*100,H26*RTD(\"cqg.rtd\",,\"ContractData\",D26,\"Delta\",,\"T\")))","v":""},{"$f":"IF(C26=1,RTD(\"cqg.rtd\", ,\"ContractData\",D26, \"Gamma\",, \"T\"),\"\")","v":""},{"$f":"IF(C26=1,IF(H26<0,-1*RTD(\"cqg.rtd\", ,\"ContractData\",D26, \"Theta\",, \"T\"),RTD(\"cqg.rtd\", ,\"ContractData\",D26, \"Theta\",, \"T\")),\"\")","v":""},{"$f":"IF(C26=0,\"\",IF(LEFT(D26,1)=\"F\",(RTD(\"cqg.rtd\",,\"ContractData\",D26,\"ExpirationDate\",,\"T\")-TODAY()),RTD(\"cqg.rtd\",,\"ContractData\",D26,\"OptionDaysToExp\",,\"T\")))","v":""}]
[null,null,{"$f":"IF(LOOKUP(22,First!A1:A448)<>22,0,1)","v":0},{"$f":"IF(C27=1,VLOOKUP(First!I22,INDIRECT($A$2),2),\"\")","v":""},null,null,"",{"$f":"IF(C27=1,RTD(\"cqg.rtd\", ,\"OrderData\", \"\"&D27&\"\", \"\", \"OpenPosition\",\"\"&$D$3&\"\"),\"\")","v":""},{"$f":"IF(C27=1,RTD(\"cqg.rtd\", ,\"OrderData\",\"\"&D27&\"\", \"\", \"OpenTradeEquity\",\"\"&$D$3&\"\"),\"\")","v":""},null,{"$f":"IF(C27=0,\"\",IF($D$1=\"B\",RTD(\"cqg.rtd\", ,\"ContractData\",D27, \"LastTrade\",,\"B\"),TEXT(RTD(\"cqg.rtd\", ,\"ContractData\",D27, \"LastTrade\",, \"T\"),$D$1)))","v":""},{"$f":"IF(RTD(\"cqg.rtd\",,\"ContractData\",D27,\"LastTrade\",,\"T\")<RTD(\"cqg.rtd\",,\"ContractData\",D27,\"Bid\",,\"T\"),1,IF(RTD(\"cqg.rtd\",,\"ContractData\",D27,\"LastTrade\",,\"T\")>RTD(\"cqg.rtd\",,\"ContractData\",D27,\"Ask\",,\"T\"),1,0))","v":0},{"$f":"IF(C27=1,RTD(\"cqg.rtd\", ,\"ContractData\",D27, \"TMLastTrade\",, \"T\"),\"\")","v":""},"",{"$f":"IF(C27=1,RTD(\"cqg.rtd\", ,\"ContractData\",D27, \"MT_LastBidVolume\",, \"T\"),\"\")","v":""},{"$f":"IF(C27=0,\"\",IF($D$1=\"B\",RTD(\"cqg.rtd\", ,\"ContractData\",D27, \"Bid\",,\"B\"),TEXT(RTD(\"cqg.rtd\", ,\"ContractData\",D27, \"Bid\",, \"T\"),$D$1)))","v":""},0,{"$f":"IF(C27=0,\"\",IF(LEFT(D27,1)=\"F\",\"\",IF($D$1=\"B\",RTD(\"cqg.rtd\", ,\"ContractData\",D27, \"TheoreticalValue\",,\"B\"),TEXT(RTD(\"cqg.rtd\", ,\"ContractData\",D27, \"TheoreticalValue\",, \"T\"),$D$1))))","v":""},0,{"$f":"IF(C27=0,\"\",IF($D$1=\"B\",RTD(\"cqg.rtd\", ,\"ContractData\",D27, \"Ask\",,\"B\"),TEXT(RTD(\"cqg.rtd\", ,\"ContractData\",D27, \"Ask\",, \"T\"),$D$1)))","v":""},{"$f":"IF(C27=1,RTD(\"cqg.rtd\", ,\"ContractData\",D27, \"MT_LastAskVolume\",, \"T\"),\"\")","v":""},"",null,null,{"$f":"IF(C27=1,RTD(\"cqg.rtd\", ,\"ContractData\",D27, \"T_CVol\",, \"T\"),\"\")","v":""},{"$f":"IF(C27=1,RTD(\"cqg.rtd\", ,\"ContractData\",D27, \"COI\",, \"T\"),\"\")","v":""},{"$f":"IF(C27=1,RTD(\"cqg.rtd\", ,\"ContractData\",D27, \"ImpliedVolatility\",, \"T\"),\"\")","v":""},{"$f":"IF(C27=1,RTD(\"cqg.rtd\", ,\"ContractData\",D27, \"Vega\",, \"T\"),\"\")","v":""},{"$f":"IF(C27=0,\"\",IF(LEFT(D27,1)=\"F\",H27*100,H27*RTD(\"cqg.rtd\",,\"ContractData\",D27,\"Delta\",,\"T\")))","v":""},{"$f":"IF(C27=1,RTD(\"cqg.rtd\", ,\"ContractData\",D27, \"Gamma\",, \"T\"),\"\")","v":""},{"$f":"IF(C27=1,IF(H27<0,-1*RTD(\"cqg.rtd\", ,\"ContractData\",D27, \"Theta\",, \"T\"),RTD(\"cqg.rtd\", ,\"ContractData\",D27, \"Theta\",, \"T\")),\"\")","v":""},{"$f":"IF(C27=0,\"\",IF(LEFT(D27,1)=\"F\",(RTD(\"cqg.rtd\",,\"ContractData\",D27,\"ExpirationDate\",,\"T\")-TODAY()),RTD(\"cqg.rtd\",,\"ContractData\",D27,\"OptionDaysToExp\",,\"T\")))","v":""}]
[null,null,{"$f":"IF(LOOKUP(23,First!A1:A448)<>23,0,1)","v":0},{"$f":"IF(C28=1,VLOOKUP(First!I23,INDIRECT($A$2),2),\"\")","v":""},null,null,"",{"$f":"IF(C28=1,RTD(\"cqg.rtd\", ,\"OrderData\", \"\"&D28&\"\", \"\", \"OpenPosition\",\"\"&$D$3&\"\"),\"\")","v":""},{"$f":"IF(C28=1,RTD(\"cqg.rtd\", ,\"OrderData\",\"\"&D28&\"\", \"\", \"OpenTradeEquity\",\"\"&$D$3&\"\"),\"\")","v":""},null,{"$f":"IF(C28=0,\"\",IF($D$1=\"B\",RTD(\"cqg.rtd\", ,\"ContractData\",D28, \"LastTrade\",,\"B\"),TEXT(RTD(\"cqg.rtd\", ,\"ContractData\",D28, \"LastTrade\",, \"T\"),$D$1)))","v":""},{"$f":"IF(RTD(\"cqg.rtd\",,\"ContractData\",D28,\"LastTrade\",,\"T\")<RTD(\"cqg.rtd\",,\"ContractData\",D28,\"Bid\",,\"T\"),1,IF(RTD(\"cqg.rtd\",,\"ContractData\",D28,\"LastTrade\",,\"T\")>RTD(\"cqg.rtd\",,\"ContractData\",D28,\"Ask\",,\"T\"),1,0))","v":0},{"$f":"IF(C28=1,RTD(\"cqg.rtd\", ,\"ContractData\",D28, \"TMLastTrade\",, \"T\"),\"\")","v":""},"",{"$f":"IF(C28=1,RTD(\"cqg.rtd\", ,\"ContractData\",D28, \"MT_LastBidVolume\",, \"T\"),\"\")","v":""},{"$f":"IF(C28=0,\"\",IF($D$1=\"B\",RTD(\"cqg.rtd\", ,\"ContractData\",D28, \"Bid\",,\"B\"),TEXT(RTD(\"cqg.rtd\", ,\"ContractData\",D28, \"Bid\",, \"T\"),$D$1)))","v":""},0,{"$f":"IF(C28=0,\"\",IF(LEFT(D28,1)=\"F\",\"\",IF($D$1=\"B\",RTD(\"cqg.rtd\", ,\"ContractData\",D28, \"TheoreticalValue\",,\"B\"),TEXT(RTD(\"cqg.rtd\", ,\"ContractData\",D28, \"TheoreticalValue\",, \"T\"),$D$1))))","v":""},0,{"$f":"IF(C28=0,\"\",IF($D$1=\"B\",RTD(\"cqg.rtd\", ,\"ContractData\",D28, \"Ask\",,\"B\"),TEXT(RTD(\"cqg.rtd\", ,\"ContractData\",D28, \"Ask\",, \"T\"),$D$1)))","v":""},{"$f":"IF(C28=1,RTD(\"cqg.rtd\", ,\"ContractData\",D28, \"MT_LastAskVolume\",, \"T\"),\"\")","v":""},"",null,null,{"$f":"IF(C28=1,RTD(\"cqg.rtd\", ,\"ContractData\",D28, \"T_CVol\",, \"T\"),\"\")","v":""},{"$f":"IF(C28=1,RTD(\"cqg.rtd\", ,\"ContractData\",D28, \"COI\",, \"T\"),\"\")","v":""},{"$f":"IF(C28=1,RTD(\"cqg.rtd\", ,\"ContractData\",D28, \"ImpliedVolatility\",, \"T\"),\"\")","v":""},{"$f":"IF(C28=1,RTD(\"cqg.rtd\", ,\"ContractData\",D28, \"Vega\",, \"T\"),\"\")","v":""},{"$f":"IF(C28=0,\"\",IF(LEFT(D28,1)=\"F\",H28*100,H28*RTD(\"cqg.rtd\",,\"ContractData\",D28,\"Delta\",,\"T\")))","v":""},{"$f":"IF(C28=1,RTD(\"cqg.rtd\", ,\"ContractData\",D28, \"Gamma\",, \"T\"),\"\")","v":""},{"$f":"IF(C28=1,IF(H28<0,-1*RTD(\"cqg.rtd\", ,\"ContractData\",D28, \"Theta\",, \"T\"),RTD(\"cqg.rtd\", ,\"ContractData\",D28, \"Theta\",, \"T\")),\"\")","v":""},{"$f":"IF(C28=0,\"\",IF(LEFT(D28,1)=\"F\",(RTD(\"cqg.rtd\",,\"ContractData\",D28,\"ExpirationDate\",,\"T\")-TODAY()),RTD(\"cqg.rtd\",,\"ContractData\",D28,\"OptionDaysToExp\",,\"T\")))","v":""}]
[null,null,{"$f":"IF(LOOKUP(24,First!A1:A448)<>24,0,1)","v":0},{"$f":"IF(C29=1,VLOOKUP(First!I24,INDIRECT($A$2),2),\"\")","v":""},null,null,"",{"$f":"IF(C29=1,RTD(\"cqg.rtd\", ,\"OrderData\", \"\"&D29&\"\", \"\", \"OpenPosition\",\"\"&$D$3&\"\"),\"\")","v":""},{"$f":"IF(C29=1,RTD(\"cqg.rtd\", ,\"OrderData\",\"\"&D29&\"\", \"\", \"OpenTradeEquity\",\"\"&$D$3&\"\"),\"\")","v":""},null,{"$f":"IF(C29=0,\"\",IF($D$1=\"B\",RTD(\"cqg.rtd\", ,\"ContractData\",D29, \"LastTrade\",,\"B\"),TEXT(RTD(\"cqg.rtd\", ,\"ContractData\",D29, \"LastTrade\",, \"T\"),$D$1)))","v":""},{"$f":"IF(RTD(\"cqg.rtd\",,\"ContractData\",D29,\"LastTrade\",,\"T\")<RTD(\"cqg.rtd\",,\"ContractData\",D29,\"Bid\",,\"T\"),1,IF(RTD(\"cqg.rtd\",,\"ContractData\",D29,\"LastTrade\",,\"T\")>RTD(\"cqg.rtd\",,\"ContractData\",D29,\"Ask\",,\"T\"),1,0))","v":0},{"$f":"IF(C29=1,RTD(\"cqg.rtd\", ,\"ContractData\",D29, \"TMLastTrade\",, \"T\"),\"\")","v":""},"",{"$f":"IF(C29=1,RTD(\"cqg.rtd\", ,\"ContractData\",D29, \"MT_LastBidVolume\",, \"T\"),\"\")","v":""},{"$f":"IF(C29=0,\"\",IF($D$1=\"B\",RTD(\"cqg.rtd\", ,\"ContractData\",D29, \"Bid\",,\"B\"),TEXT(RTD(\"cqg.rtd\", ,\"ContractData\",D29, \"Bid\",, \"T\"),$D$1)))","v":""},0,{"$f":"IF(C29=0,\"\",IF(LEFT(D29,1)=\"F\",\"\",IF($D$1=\"B\",RTD(\"cqg.rtd\", ,\"ContractData\",D29, \"TheoreticalValue\",,\"B\"),TEXT(RTD(\"cqg.rtd\", ,\"ContractData\",D29, \"TheoreticalValue\",, \"T\"),$D$1))))","v":""},0,{"$f":"IF(C29=0,\"\",IF($D$1=\"B\",RTD(\"cqg.rtd\", ,\"ContractData\",D29, \"Ask\",,\"B\"),TEXT(RTD(\"cqg.rtd\", ,\"ContractData\",D29, \"Ask\",, \"T\"),$D$1)))","v":""},{"$f":"IF(C29=1,RTD(\"cqg.rtd\", ,\"ContractData\",D29, \"MT_LastAskVolume\",, \"T\"),\"\")","v":""},"",null,null,{"$f":"IF(C29=1,RTD(\"cqg.rtd\", ,\"ContractData\",D29, \"T_CVol\",, \"T\"),\"\")","v":""},{"$f":"IF(C29=1,RTD(\"cqg.rtd\", ,\"ContractData\",D29, \"COI\",, \"T\"),\"\")","v":""},{"$f":"IF(C29=1,RTD(\"cqg.rtd\", ,\"ContractData\",D29, \"ImpliedVolatility\",, \"T\"),\"\")","v":""},{"$f":"IF(C29=1,RTD(\"cqg.rtd\", ,\"ContractData\",D29, \"Vega\",, \"T\"),\"\")","v":""},{"$f":"IF(C29=0,\"\",IF(LEFT(D29,1)=\"F\",H29*100,H29*RTD(\"cqg.rtd\",,\"ContractData\",D29,\"Delta\",,\"T\")))","v":""},{"$f":"IF(C29=1,RTD(\"cqg.rtd\", ,\"ContractData\",D29, \"Gamma\",, \"T\"),\"\")","v":""},{"$f":"IF(C29=1,IF(H29<0,-1*RTD(\"cqg.rtd\", ,\"ContractData\",D29, \"Theta\",, \"T\"),RTD(\"cqg.rtd\", ,\"ContractData\",D29, \"Theta\",, \"T\")),\"\")","v":""},{"$f":"IF(C29=0,\"\",IF(LEFT(D29,1)=\"F\",(RTD(\"cqg.rtd\",,\"ContractData\",D29,\"ExpirationDate\",,\"T\")-TODAY()),RTD(\"cqg.rtd\",,\"ContractData\",D29,\"OptionDaysToExp\",,\"T\")))","v":""}]
[null,null,{"$f":"IF(LOOKUP(25,First!A1:A448)<>25,0,1)","v":0},{"$f":"IF(C30=1,VLOOKUP(First!I25,INDIRECT($A$2),2),\"\")","v":""},null,null,"",{"$f":"IF(C30=1,RTD(\"cqg.rtd\", ,\"OrderData\", \"\"&D30&\"\", \"\", \"OpenPosition\",\"\"&$D$3&\"\"),\"\")","v":""},{"$f":"IF(C30=1,RTD(\"cqg.rtd\", ,\"OrderData\",\"\"&D30&\"\", \"\", \"OpenTradeEquity\",\"\"&$D$3&\"\"),\"\")","v":""},null,{"$f":"IF(C30=0,\"\",IF($D$1=\"B\",RTD(\"cqg.rtd\", ,\"ContractData\",D30, \"LastTrade\",,\"B\"),TEXT(RTD(\"cqg.rtd\", ,\"ContractData\",D30, \"LastTrade\",, \"T\"),$D$1)))","v":""},{"$f":"IF(RTD(\"cqg.rtd\",,\"ContractData\",D30,\"LastTrade\",,\"T\")<RTD(\"cqg.rtd\",,\"ContractData\",D30,\"Bid\",,\"T\"),1,IF(RTD(\"cqg.rtd\",,\"ContractData\",D30,\"LastTrade\",,\"T\")>RTD(\"cqg.rtd\",,\"ContractData\",D30,\"Ask\",,\"T\"),1,0))","v":0},{"$f":"IF(C30=1,RTD(\"cqg.rtd\", ,\"ContractData\",D30, \"TMLastTrade\",, \"T\"),\"\")","v":""},"",{"$f":"IF(C30=1,RTD(\"cqg.rtd\", ,\"ContractData\",D30, \"MT_LastBidVolume\",, \"T\"),\"\")","v":""},{"$f":"IF(C30=0,\"\",IF($D$1=\"B\",RTD(\"cqg.rtd\", ,\"ContractData\",D30, \"Bid\",,\"B\"),TEXT(RTD(\"cqg.rtd\", ,\"ContractData\",D30, \"Bid\",, \"T\"),$D$1)))","v":""},0,{"$f":"IF(C30=0,\"\",IF(LEFT(D30,1)=\"F\",\"\",IF($D$1=\"B\",RTD(\"cqg.rtd\", ,\"ContractData\",D30, \"TheoreticalValue\",,\"B\"),TEXT(RTD(\"cqg.rtd\", ,\"ContractData\",D30, \"TheoreticalValue\",, \"T\"),$D$1))))","v":""},0,{"$f":"IF(C30=0,\"\",IF($D$1=\"B\",RTD(\"cqg.rtd\", ,\"ContractData\",D30, \"Ask\",,\"B\"),TEXT(RTD(\"cqg.rtd\", ,\"ContractData\",D30, \"Ask\",, \"T\"),$D$1)))","v":""},{"$f":"IF(C30=1,RTD(\"cqg.rtd\", ,\"ContractData\",D30, \"MT_LastAskVolume\",, \"T\"),\"\")","v":""},"",null,null,{"$f":"IF(C30=1,RTD(\"cqg.rtd\", ,\"ContractData\",D30, \"T_CVol\",, \"T\"),\"\")","v":""},{"$f":"IF(C30=1,RTD(\"cqg.rtd\", ,\"ContractData\",D30, \"COI\",, \"T\"),\"\")","v":""},{"$f":"IF(C30=1,RTD(\"cqg.rtd\", ,\"ContractData\",D30, \"ImpliedVolatility\",, \"T\"),\"\")","v":""},{"$f":"IF(C30=1,RTD(\"cqg.rtd\", ,\"ContractData\",D30, \"Vega\",, \"T\"),\"\")","v":""},{"$f":"IF(C30=0,\"\",IF(LEFT(D30,1)=\"F\",H30*100,H30*RTD(\"cqg.rtd\",,\"ContractData\",D30,\"Delta\",,\"T\")))","v":""},{"$f":"IF(C30=1,RTD(\"cqg.rtd\", ,\"ContractData\",D30, \"Gamma\",, \"T\"),\"\")","v":""},{"$f":"IF(C30=1,IF(H30<0,-1*RTD(\"cqg.rtd\", ,\"ContractData\",D30, \"Theta\",, \"T\"),RTD(\"cqg.rtd\", ,\"ContractData\",D30, \"Theta\",, \"T\")),\"\")","v":""},{"$f":"IF(C30=0,\"\",IF(LEFT(D30,1)=\"F\",(RTD(\"cqg.rtd\",,\"ContractData\",D30,\"ExpirationDate\",,\"T\")-TODAY()),RTD(\"cqg.rtd\",,\"ContractData\",D30,\"OptionDaysToExp\",,\"T\")))","v":""}]
[null,null,{"$f":"IF(LOOKUP(26,First!A1:A448)<>26,0,1)","v":0},{"$f":"IF(C31=1,VLOOKUP(First!I26,INDIRECT($A$2),2),\"\")","v":""},null,null,"",{"$f":"IF(C31=1,RTD(\"cqg.rtd\", ,\"OrderData\", \"\"&D31&\"\", \"\", \"OpenPosition\",\"\"&$D$3&\"\"),\"\")","v":""},{"$f":"IF(C31=1,RTD(\"cqg.rtd\", ,\"OrderData\",\"\"&D31&\"\", \"\", \"OpenTradeEquity\",\"\"&$D$3&\"\"),\"\")","v":""},null,{"$f":"IF(C31=0,\"\",IF($D$1=\"B\",RTD(\"cqg.rtd\", ,\"ContractData\",D31, \"LastTrade\",,\"B\"),TEXT(RTD(\"cqg.rtd\", ,\"ContractData\",D31, \"LastTrade\",, \"T\"),$D$1)))","v":""},{"$f":"IF(RTD(\"cqg.rtd\",,\"ContractData\",D31,\"LastTrade\",,\"T\")<RTD(\"cqg.rtd\",,\"ContractData\",D31,\"Bid\",,\"T\"),1,IF(RTD(\"cqg.rtd\",,\"ContractData\",D31,\"LastTrade\",,\"T\")>RTD(\"cqg.rtd\",,\"ContractData\",D31,\"Ask\",,\"T\"),1,0))","v":0},{"$f":"IF(C31=1,RTD(\"cqg.rtd\", ,\"ContractData\",D31, \"TMLastTrade\",, \"T\"),\"\")","v":""},"",{"$f":"IF(C31=1,RTD(\"cqg.rtd\", ,\"ContractData\",D31, \"MT_LastBidVolume\",, \"T\"),\"\")","v":""},{"$f":"IF(C31=0,\"\",IF($D$1=\"B\",RTD(\"cqg.rtd\", ,\"ContractData\",D31, \"Bid\",,\"B\"),TEXT(RTD(\"cqg.rtd\", ,\"ContractData\",D31, \"Bid\",, \"T\"),$D$1)))","v":""},0,{"$f":"IF(C31=0,\"\",IF(LEFT(D31,1)=\"F\",\"\",IF($D$1=\"B\",RTD(\"cqg.rtd\", ,\"ContractData\",D31, \"TheoreticalValue\",,\"B\"),TEXT(RTD(\"cqg.rtd\", ,\"ContractData\",D31, \"TheoreticalValue\",, \"T\"),$D$1))))","v":""},0,{"$f":"IF(C31=0,\"\",IF($D$1=\"B\",RTD(\"cqg.rtd\", ,\"ContractData\",D31, \"Ask\",,\"B\"),TEXT(RTD(\"cqg.rtd\", ,\"ContractData\",D31, \"Ask\",, \"T\"),$D$1)))","v":""},{"$f":"IF(C31=1,RTD(\"cqg.rtd\", ,\"ContractData\",D31, \"MT_LastAskVolume\",, \"T\"),\"\")","v":""},"",null,null,{"$f":"IF(C31=1,RTD(\"cqg.rtd\", ,\"ContractData\",D31, \"T_CVol\",, \"T\"),\"\")","v":""},{"$f":"IF(C31=1,RTD(\"cqg.rtd\", ,\"ContractData\",D31, \"COI\",, \"T\"),\"\")","v":""},{"$f":"IF(C31=1,RTD(\"cqg.rtd\", ,\"ContractData\",D31, \"ImpliedVolatility\",, \"T\"),\"\")","v":""},{"$f":"IF(C31=1,RTD(\"cqg.rtd\", ,\"ContractData\",D31, \"Vega\",, \"T\"),\"\")","v":""},{"$f":"IF(C31=0,\"\",IF(LEFT(D31,1)=\"F\",H31*100,H31*RTD(\"cqg.rtd\",,\"ContractData\",D31,\"Delta\",,\"T\")))","v":""},{"$f":"IF(C31=1,RTD(\"cqg.rtd\", ,\"ContractData\",D31, \"Gamma\",, \"T\"),\"\")","v":""},{"$f":"IF(C31=1,IF(H31<0,-1*RTD(\"cqg.rtd\", ,\"ContractData\",D31, \"Theta\",, \"T\"),RTD(\"cqg.rtd\", ,\"ContractData\",D31, \"Theta\",, \"T\")),\"\")","v":""},{"$f":"IF(C31=0,\"\",IF(LEFT(D31,1)=\"F\",(RTD(\"cqg.rtd\",,\"ContractData\",D31,\"ExpirationDate\",,\"T\")-TODAY()),RTD(\"cqg.rtd\",,\"ContractData\",D31,\"OptionDaysToExp\",,\"T\")))","v":""}]
[null,null,{"$f":"IF(LOOKUP(27,First!A1:A448)<>27,0,1)","v":0},{"$f":"IF(C32=1,VLOOKUP(First!I27,INDIRECT($A$2),2),\"\")","v":""},null,null,"",{"$f":"IF(C32=1,RTD(\"cqg.rtd\", ,\"OrderData\", \"\"&D32&\"\", \"\", \"OpenPosition\",\"\"&$D$3&\"\"),\"\")","v":""},{"$f":"IF(C32=1,RTD(\"cqg.rtd\", ,\"OrderData\",\"\"&D32&\"\", \"\", \"OpenTradeEquity\",\"\"&$D$3&\"\"),\"\")","v":""},null,{"$f":"IF(C32=0,\"\",IF($D$1=\"B\",RTD(\"cqg.rtd\", ,\"ContractData\",D32, \"LastTrade\",,\"B\"),TEXT(RTD(\"cqg.rtd\", ,\"ContractData\",D32, \"LastTrade\",, \"T\"),$D$1)))","v":""},{"$f":"IF(RTD(\"cqg.rtd\",,\"ContractData\",D32,\"LastTrade\",,\"T\")<RTD(\"cqg.rtd\",,\"ContractData\",D32,\"Bid\",,\"T\"),1,IF(RTD(\"cqg.rtd\",,\"ContractData\",D32,\"LastTrade\",,\"T\")>RTD(\"cqg.rtd\",,\"ContractData\",D32,\"Ask\",,\"T\"),1,0))","v":0},{"$f":"IF(C32=1,RTD(\"cqg.rtd\", ,\"ContractData\",D32, \"TMLastTrade\",, \"T\"),\"\")","v":""},"",{"$f":"IF(C32=1,RTD(\"cqg.rtd\", ,\"ContractData\",D32, \"MT_LastBidVolume\",, \"T\"),\"\")","v":""},{"$f":"IF(C32=0,\"\",IF($D$1=\"B\",RTD(\"cqg.rtd\", ,\"ContractData\",D32, \"Bid\",,\"B\"),TEXT(RTD(\"cqg.rtd\", ,\"ContractData\",D32, \"Bid\",, \"T\"),$D$1)))","v":""},0,{"$f":"IF(C32=0,\"\",IF(LEFT(D32,1)=\"F\",\"\",IF($D$1=\"B\",RTD(\"cqg.rtd\", ,\"ContractData\",D32, \"TheoreticalValue\",,\"B\"),TEXT(RTD(\"cqg.rtd\", ,\"ContractData\",D32, \"TheoreticalValue\",, \"T\"),$D$1))))","v":""},0,{"$f":"IF(C32=0,\"\",IF($D$1=\"B\",RTD(\"cqg.rtd\", ,\"ContractData\",D32, \"Ask\",,\"B\"),TEXT(RTD(\"cqg.rtd\", ,\"ContractData\",D32, \"Ask\",, \"T\"),$D$1)))","v":""},{"$f":"IF(C32=1,RTD(\"cqg.rtd\", ,\"ContractData\",D32, \"MT_LastAskVolume\",, \"T\"),\"\")","v":""},"",null,null,{"$f":"IF(C32=1,RTD(\"cqg.rtd\", ,\"ContractData\",D32, \"T_CVol\",, \"T\"),\"\")","v":""},{"$f":"IF(C32=1,RTD(\"cqg.rtd\", ,\"ContractData\",D32, \"COI\",, \"T\"),\"\")","v":""},{"$f":"IF(C32=1,RTD(\"cqg.rtd\", ,\"ContractData\",D32, \"ImpliedVolatility\",, \"T\"),\"\")","v":""},{"$f":"IF(C32=1,RTD(\"cqg.rtd\", ,\"ContractData\",D32, \"Vega\",, \"T\"),\"\")","v":""},{"$f":"IF(C32=0,\"\",IF(LEFT(D32,1)=\"F\",H32*100,H32*RTD(\"cqg.rtd\",,\"ContractData\",D32,\"Delta\",,\"T\")))","v":""},{"$f":"IF(C32=1,RTD(\"cqg.rtd\", ,\"ContractData\",D32, \"Gamma\",, \"T\"),\"\")","v":""},{"$f":"IF(C32=1,IF(H32<0,-1*RTD(\"cqg.rtd\", ,\"ContractData\",D32, \"Theta\",, \"T\"),RTD(\"cqg.rtd\", ,\"ContractData\",D32, \"Theta\",, \"T\")),\"\")","v":""},{"$f":"IF(C32=0,\"\",IF(LEFT(D32,1)=\"F\",(RTD(\"cqg.rtd\",,\"ContractData\",D32,\"ExpirationDate\",,\"T\")-TODAY()),RTD(\"cqg.rtd\",,\"ContractData\",D32,\"OptionDaysToExp\",,\"T\")))","v":""}]
[null,null,{"$f":"IF(LOOKUP(28,First!A1:A448)<>28,0,1)","v":0},{"$f":"IF(C33=1,VLOOKUP(First!I28,INDIRECT($A$2),2),\"\")","v":""},null,null,"",{"$f":"IF(C33=1,RTD(\"cqg.rtd\", ,\"OrderData\", \"\"&D33&\"\", \"\", \"OpenPosition\",\"\"&$D$3&\"\"),\"\")","v":""},{"$f":"IF(C33=1,RTD(\"cqg.rtd\", ,\"OrderData\",\"\"&D33&\"\", \"\", \"OpenTradeEquity\",\"\"&$D$3&\"\"),\"\")","v":""},null,{"$f":"IF(C33=0,\"\",IF($D$1=\"B\",RTD(\"cqg.rtd\", ,\"ContractData\",D33, \"LastTrade\",,\"B\"),TEXT(RTD(\"cqg.rtd\", ,\"ContractData\",D33, \"LastTrade\",, \"T\"),$D$1)))","v":""},{"$f":"IF(RTD(\"cqg.rtd\",,\"ContractData\",D33,\"LastTrade\",,\"T\")<RTD(\"cqg.rtd\",,\"ContractData\",D33,\"Bid\",,\"T\"),1,IF(RTD(\"cqg.rtd\",,\"ContractData\",D33,\"LastTrade\",,\"T\")>RTD(\"cqg.rtd\",,\"ContractData\",D33,\"Ask\",,\"T\"),1,0))","v":0},{"$f":"IF(C33=1,RTD(\"cqg.rtd\", ,\"ContractData\",D33, \"TMLastTrade\",, \"T\"),\"\")","v":""},"",{"$f":"IF(C33=1,RTD(\"cqg.rtd\", ,\"ContractData\",D33, \"MT_LastBidVolume\",, \"T\"),\"\")","v":""},{"$f":"IF(C33=0,\"\",IF($D$1=\"B\",RTD(\"cqg.rtd\", ,\"ContractData\",D33, \"Bid\",,\"B\"),TEXT(RTD(\"cqg.rtd\", ,\"ContractData\",D33, \"Bid\",, \"T\"),$D$1)))","v":""},0,{"$f":"IF(C33=0,\"\",IF(LEFT(D33,1)=\"F\",\"\",IF($D$1=\"B\",RTD(\"cqg.rtd\", ,\"ContractData\",D33, \"TheoreticalValue\",,\"B\"),TEXT(RTD(\"cqg.rtd\", ,\"ContractData\",D33, \"TheoreticalValue\",, \"T\"),$D$1))))","v":""},0,{"$f":"IF(C33=0,\"\",IF($D$1=\"B\",RTD(\"cqg.rtd\", ,\"ContractData\",D33, \"Ask\",,\"B\"),TEXT(RTD(\"cqg.rtd\", ,\"ContractData\",D33, \"Ask\",, \"T\"),$D$1)))","v":""},{"$f":"IF(C33=1,RTD(\"cqg.rtd\", ,\"ContractData\",D33, \"MT_LastAskVolume\",, \"T\"),\"\")","v":""},"",null,null,{"$f":"IF(C33=1,RTD(\"cqg.rtd\", ,\"ContractData\",D33, \"T_CVol\",, \"T\"),\"\")","v":""},{"$f":"IF(C33=1,RTD(\"cqg.rtd\", ,\"ContractData\",D33, \"COI\",, \"T\"),\"\")","v":""},{"$f":"IF(C33=1,RTD(\"cqg.rtd\", ,\"ContractData\",D33, \"ImpliedVolatility\",, \"T\"),\"\")","v":""},{"$f":"IF(C33=1,RTD(\"cqg.rtd\", ,\"ContractData\",D33, \"Vega\",, \"T\"),\"\")","v":""},{"$f":"IF(C33=0,\"\",IF(LEFT(D33,1)=\"F\",H33*100,H33*RTD(\"cqg.rtd\",,\"ContractData\",D33,\"Delta\",,\"T\")))","v":""},{"$f":"IF(C33=1,RTD(\"cqg.rtd\", ,\"ContractData\",D33, \"Gamma\",, \"T\"),\"\")","v":""},{"$f":"IF(C33=1,IF(H33<0,-1*RTD(\"cqg.rtd\", ,\"ContractData\",D33, \"Theta\",, \"T\"),RTD(\"cqg.rtd\", ,\"ContractData\",D33, \"Theta\",, \"T\")),\"\")","v":""},{"$f":"IF(C33=0,\"\",IF(LEFT(D33,1)=\"F\",(RTD(\"cqg.rtd\",,\"ContractData\",D33,\"ExpirationDate\",,\"T\")-TODAY()),RTD(\"cqg.rtd\",,\"ContractData\",D33,\"OptionDaysToExp\",,\"T\")))","v":""}]
[null,null,{"$f":"IF(LOOKUP(29,First!A1:A448)<>29,0,1)","v":0},{"$f":"IF(C34=1,VLOOKUP(First!I29,INDIRECT($A$2),2),\"\")","v":""},null,null,"",{"$f":"IF(C34=1,RTD(\"cqg.rtd\", ,\"OrderData\", \"\"&D34&\"\", \"\", \"OpenPosition\",\"\"&$D$3&\"\"),\"\")","v":""},{"$f":"IF(C34=1,RTD(\"cqg.rtd\", ,\"OrderData\",\"\"&D34&\"\", \"\", \"OpenTradeEquity\",\"\"&$D$3&\"\"),\"\")","v":""},null,{"$f":"IF(C34=0,\"\",IF($D$1=\"B\",RTD(\"cqg.rtd\", ,\"ContractData\",D34, \"LastTrade\",,\"B\"),TEXT(RTD(\"cqg.rtd\", ,\"ContractData\",D34, \"LastTrade\",, \"T\"),$D$1)))","v":""},{"$f":"IF(RTD(\"cqg.rtd\",,\"ContractData\",D34,\"LastTrade\",,\"T\")<RTD(\"cqg.rtd\",,\"ContractData\",D34,\"Bid\",,\"T\"),1,IF(RTD(\"cqg.rtd\",,\"ContractData\",D34,\"LastTrade\",,\"T\")>RTD(\"cqg.rtd\",,\"ContractData\",D34,\"Ask\",,\"T\"),1,0))","v":0},{"$f":"IF(C34=1,RTD(\"cqg.rtd\", ,\"ContractData\",D34, \"TMLastTrade\",, \"T\"),\"\")","v":""},"",{"$f":"IF(C34=1,RTD(\"cqg.rtd\", ,\"ContractData\",D34, \"MT_LastBidVolume\",, \"T\"),\"\")","v":""},{"$f":"IF(C34=0,\"\",IF($D$1=\"B\",RTD(\"cqg.rtd\", ,\"ContractData\",D34, \"Bid\",,\"B\"),TEXT(RTD(\"cqg.rtd\", ,\"ContractData\",D34, \"Bid\",, \"T\"),$D$1)))","v":""},0,{"$f":"IF(C34=0,\"\",IF(LEFT(D34,1)=\"F\",\"\",IF($D$1=\"B\",RTD(\"cqg.rtd\", ,\"ContractData\",D34, \"TheoreticalValue\",,\"B\"),TEXT(RTD(\"cqg.rtd\", ,\"ContractData\",D34, \"TheoreticalValue\",, \"T\"),$D$1))))","v":""},0,{"$f":"IF(C34=0,\"\",IF($D$1=\"B\",RTD(\"cqg.rtd\", ,\"ContractData\",D34, \"Ask\",,\"B\"),TEXT(RTD(\"cqg.rtd\", ,\"ContractData\",D34, \"Ask\",, \"T\"),$D$1)))","v":""},{"$f":"IF(C34=1,RTD(\"cqg.rtd\", ,\"ContractData\",D34, \"MT_LastAskVolume\",, \"T\"),\"\")","v":""},"",null,null,{"$f":"IF(C34=1,RTD(\"cqg.rtd\", ,\"ContractData\",D34, \"T_CVol\",, \"T\"),\"\")","v":""},{"$f":"IF(C34=1,RTD(\"cqg.rtd\", ,\"ContractData\",D34, \"COI\",, \"T\"),\"\")","v":""},{"$f":"IF(C34=1,RTD(\"cqg.rtd\", ,\"ContractData\",D34, \"ImpliedVolatility\",, \"T\"),\"\")","v":""},{"$f":"IF(C34=1,RTD(\"cqg.rtd\", ,\"ContractData\",D34, \"Vega\",, \"T\"),\"\")","v":""},{"$f":"IF(C34=0,\"\",IF(LEFT(D34,1)=\"F\",H34*100,H34*RTD(\"cqg.rtd\",,\"ContractData\",D34,\"Delta\",,\"T\")))","v":""},{"$f":"IF(C34=1,RTD(\"cqg.rtd\", ,\"ContractData\",D34, \"Gamma\",, \"T\"),\"\")","v":""},{"$f":"IF(C34=1,IF(H34<0,-1*RTD(\"cqg.rtd\", ,\"ContractData\",D34, \"Theta\",, \"T\"),RTD(\"cqg.rtd\", ,\"ContractData\",D34, \"Theta\",, \"T\")),\"\")","v":""},{"$f":"IF(C34=0,\"\",IF(LEFT(D34,1)=\"F\",(RTD(\"cqg.rtd\",,\"ContractData\",D34,\"ExpirationDate\",,\"T\")-TODAY()),RTD(\"cqg.rtd\",,\"ContractData\",D34,\"OptionDaysToExp\",,\"T\")))","v":""}]
[null,null,{"$f":"IF(LOOKUP(30,First!A1:A448)<>30,0,1)","v":0},{"$f":"IF(C35=1,VLOOKUP(First!I30,INDIRECT($A$2),2),\"\")","v":""},null,null,"",{"$f":"IF(C35=1,RTD(\"cqg.rtd\", ,\"OrderData\", \"\"&D35&\"\", \"\", \"OpenPosition\",\"\"&$D$3&\"\"),\"\")","v":""},{"$f":"IF(C35=1,RTD(\"cqg.rtd\", ,\"OrderData\",\"\"&D35&\"\", \"\", \"OpenTradeEquity\",\"\"&$D$3&\"\"),\"\")","v":""},null,{"$f":"IF(C35=0,\"\",IF($D$1=\"B\",RTD(\"cqg.rtd\", ,\"ContractData\",D35, \"LastTrade\",,\"B\"),TEXT(RTD(\"cqg.rtd\", ,\"ContractData\",D35, \"LastTrade\",, \"T\"),$D$1)))","v":""},{"$f":"IF(RTD(\"cqg.rtd\",,\"ContractData\",D35,\"LastTrade\",,\"T\")<RTD(\"cqg.rtd\",,\"ContractData\",D35,\"Bid\",,\"T\"),1,IF(RTD(\"cqg.rtd\",,\"ContractData\",D35,\"LastTrade\",,\"T\")>RTD(\"cqg.rtd\",,\"ContractData\",D35,\"Ask\",,\"T\"),1,0))","v":0},{"$f":"IF(C35=1,RTD(\"cqg.rtd\", ,\"ContractData\",D35, \"TMLastTrade\",, \"T\"),\"\")","v":""},"",{"$f":"IF(C35=1,RTD(\"cqg.rtd\", ,\"ContractData\",D35, \"MT_LastBidVolume\",, \"T\"),\"\")","v":""},{"$f":"IF(C35=0,\"\",IF($D$1=\"B\",RTD(\"cqg.rtd\", ,\"ContractData\",D35, \"Bid\",,\"B\"),TEXT(RTD(\"cqg.rtd\", ,\"ContractData\",D35, \"Bid\",, \"T\"),$D$1)))","v":""},0,{"$f":"IF(C35=0,\"\",IF(LEFT(D35,1)=\"F\",\"\",IF($D$1=\"B\",RTD(\"cqg.rtd\", ,\"ContractData\",D35, \"TheoreticalValue\",,\"B\"),TEXT(RTD(\"cqg.rtd\", ,\"ContractData\",D35, \"TheoreticalValue\",, \"T\"),$D$1))))","v":""},0,{"$f":"IF(C35=0,\"\",IF($D$1=\"B\",RTD(\"cqg.rtd\", ,\"ContractData\",D35, \"Ask\",,\"B\"),TEXT(RTD(\"cqg.rtd\", ,\"ContractData\",D35, \"Ask\",, \"T\"),$D$1)))","v":""},{"$f":"IF(C35=1,RTD(\"cqg.rtd\", ,\"ContractData\",D35, \"MT_LastAskVolume\",, \"T\"),\"\")","v":""},"",null,null,{"$f":"IF(C35=1,RTD(\"cqg.rtd\", ,\"ContractData\",D35, \"T_CVol\",, \"T\"),\"\")","v":""},{"$f":"IF(C35=1,RTD(\"cqg.rtd\", ,\"ContractData\",D35, \"COI\",, \"T\"),\"\")","v":""},{"$f":"IF(C35=1,RTD(\"cqg.rtd\", ,\"ContractData\",D35, \"ImpliedVolatility\",, \"T\"),\"\")","v":""},{"$f":"IF(C35=1,RTD(\"cqg.rtd\", ,\"ContractData\",D35, \"Vega\",, \"T\"),\"\")","v":""},{"$f":"IF(C35=0,\"\",IF(LEFT(D35,1)=\"F\",H35*100,H35*RTD(\"cqg.rtd\",,\"ContractData\",D35,\"Delta\",,\"T\")))","v":""},{"$f":"IF(C35=1,RTD(\"cqg.rtd\", ,\"ContractData\",D35, \"Gamma\",, \"T\"),\"\")","v":""},{"$f":"IF(C35=1,IF(H35<0,-1*RTD(\"cqg.rtd\", ,\"ContractData\",D35, \"Theta\",, \"T\"),RTD(\"cqg.rtd\", ,\"ContractData\",D35, \"Theta\",, \"T\")),\"\")","v":""},{"$f":"IF(C35=0,\"\",IF(LEFT(D35,1)=\"F\",(RTD(\"cqg.rtd\",,\"ContractData\",D35,\"ExpirationDate\",,\"T\")-TODAY()),RTD(\"cqg.rtd\",,\"ContractData\",D35,\"OptionDaysToExp\",,\"T\")))","v":""}]
[null,null,{"$f":"IF(LOOKUP(31,First!A1:A448)<>31,0,1)","v":0},{"$f":"IF(C36=1,VLOOKUP(First!I31,INDIRECT($A$2),2),\"\")","v":""},null,null,"",{"$f":"IF(C36=1,RTD(\"cqg.rtd\", ,\"OrderData\", \"\"&D36&\"\", \"\", \"OpenPosition\",\"\"&$D$3&\"\"),\"\")","v":""},{"$f":"IF(C36=1,RTD(\"cqg.rtd\", ,\"OrderData\",\"\"&D36&\"\", \"\", \"OpenTradeEquity\",\"\"&$D$3&\"\"),\"\")","v":""},null,{"$f":"IF(C36=0,\"\",IF($D$1=\"B\",RTD(\"cqg.rtd\", ,\"ContractData\",D36, \"LastTrade\",,\"B\"),TEXT(RTD(\"cqg.rtd\", ,\"ContractData\",D36, \"LastTrade\",, \"T\"),$D$1)))","v":""},{"$f":"IF(RTD(\"cqg.rtd\",,\"ContractData\",D36,\"LastTrade\",,\"T\")<RTD(\"cqg.rtd\",,\"ContractData\",D36,\"Bid\",,\"T\"),1,IF(RTD(\"cqg.rtd\",,\"ContractData\",D36,\"LastTrade\",,\"T\")>RTD(\"cqg.rtd\",,\"ContractData\",D36,\"Ask\",,\"T\"),1,0))","v":0},{"$f":"IF(C36=1,RTD(\"cqg.rtd\", ,\"ContractData\",D36, \"TMLastTrade\",, \"T\"),\"\")","v":""},"",{"$f":"IF(C36=1,RTD(\"cqg.rtd\", ,\"ContractData\",D36, \"MT_LastBidVolume\",, \"T\"),\"\")","v":""},{"$f":"IF(C36=0,\"\",IF($D$1=\"B\",RTD(\"cqg.rtd\", ,\"ContractData\",D36, \"Bid\",,\"B\"),TEXT(RTD(\"cqg.rtd\", ,\"ContractData\",D36, \"Bid\",, \"T\"),$D$1)))","v":""},0,{"$f":"IF(C36=0,\"\",IF(LEFT(D36,1)=\"F\",\"\",IF($D$1=\"B\",RTD(\"cqg.rtd\", ,\"ContractData\",D36, \"TheoreticalValue\",,\"B\"),TEXT(RTD(\"cqg.rtd\", ,\"ContractData\",D36, \"TheoreticalValue\",, \"T\"),$D$1))))","v":""},0,{"$f":"IF(C36=0,\"\",IF($D$1=\"B\",RTD(\"cqg.rtd\", ,\"ContractData\",D36, \"Ask\",,\"B\"),TEXT(RTD(\"cqg.rtd\", ,\"ContractData\",D36, \"Ask\",, \"T\"),$D$1)))","v":""},{"$f":"IF(C36=1,RTD(\"cqg.rtd\", ,\"ContractData\",D36, \"MT_LastAskVolume\",, \"T\"),\"\")","v":""},"",null,null,{"$f":"IF(C36=1,RTD(\"cqg.rtd\", ,\"ContractData\",D36, \"T_CVol\",, \"T\"),\"\")","v":""},{"$f":"IF(C36=1,RTD(\"cqg.rtd\", ,\"ContractData\",D36, \"COI\",, \"T\"),\"\")","v":""},{"$f":"IF(C36=1,RTD(\"cqg.rtd\", ,\"ContractData\",D36, \"ImpliedVolatility\",, \"T\"),\"\")","v":""},{"$f":"IF(C36=1,RTD(\"cqg.rtd\", ,\"ContractData\",D36, \"Vega\",, \"T\"),\"\")","v":""},{"$f":"IF(C36=0,\"\",IF(LEFT(D36,1)=\"F\",H36*100,H36*RTD(\"cqg.rtd\",,\"ContractData\",D36,\"Delta\",,\"T\")))","v":""},{"$f":"IF(C36=1,RTD(\"cqg.rtd\", ,\"ContractData\",D36, \"Gamma\",, \"T\"),\"\")","v":""},{"$f":"IF(C36=1,IF(H36<0,-1*RTD(\"cqg.rtd\", ,\"ContractData\",D36, \"Theta\",, \"T\"),RTD(\"cqg.rtd\", ,\"ContractData\",D36, \"Theta\",, \"T\")),\"\")","v":""},{"$f":"IF(C36=0,\"\",IF(LEFT(D36,1)=\"F\",(RTD(\"cqg.rtd\",,\"ContractData\",D36,\"ExpirationDate\",,\"T\")-TODAY()),RTD(\"cqg.rtd\",,\"ContractData\",D36,\"OptionDaysToExp\",,\"T\")))","v":""}]
[null,null,{"$f":"IF(LOOKUP(32,First!A1:A448)<>32,0,1)","v":0},{"$f":"IF(C37=1,VLOOKUP(First!I32,INDIRECT($A$2),2),\"\")","v":""},null,null,"",{"$f":"IF(C37=1,RTD(\"cqg.rtd\", ,\"OrderData\", \"\"&D37&\"\", \"\", \"OpenPosition\",\"\"&$D$3&\"\"),\"\")","v":""},{"$f":"IF(C37=1,RTD(\"cqg.rtd\", ,\"OrderData\",\"\"&D37&\"\", \"\", \"OpenTradeEquity\",\"\"&$D$3&\"\"),\"\")","v":""},null,{"$f":"IF(C37=0,\"\",IF($D$1=\"B\",RTD(\"cqg.rtd\", ,\"ContractData\",D37, \"LastTrade\",,\"B\"),TEXT(RTD(\"cqg.rtd\", ,\"ContractData\",D37, \"LastTrade\",, \"T\"),$D$1)))","v":""},{"$f":"IF(RTD(\"cqg.rtd\",,\"ContractData\",D37,\"LastTrade\",,\"T\")<RTD(\"cqg.rtd\",,\"ContractData\",D37,\"Bid\",,\"T\"),1,IF(RTD(\"cqg.rtd\",,\"ContractData\",D37,\"LastTrade\",,\"T\")>RTD(\"cqg.rtd\",,\"ContractData\",D37,\"Ask\",,\"T\"),1,0))","v":0},{"$f":"IF(C37=1,RTD(\"cqg.rtd\", ,\"ContractData\",D37, \"TMLastTrade\",, \"T\"),\"\")","v":""},"",{"$f":"IF(C37=1,RTD(\"cqg.rtd\", ,\"ContractData\",D37, \"MT_LastBidVolume\",, \"T\"),\"\")","v":""},{"$f":"IF(C37=0,\"\",IF($D$1=\"B\",RTD(\"cqg.rtd\", ,\"ContractData\",D37, \"Bid\",,\"B\"),TEXT(RTD(\"cqg.rtd\", ,\"ContractData\",D37, \"Bid\",, \"T\"),$D$1)))","v":""},0,{"$f":"IF(C37=0,\"\",IF(LEFT(D37,1)=\"F\",\"\",IF($D$1=\"B\",RTD(\"cqg.rtd\", ,\"ContractData\",D37, \"TheoreticalValue\",,\"B\"),TEXT(RTD(\"cqg.rtd\", ,\"ContractData\",D37, \"TheoreticalValue\",, \"T\"),$D$1))))","v":""},0,{"$f":"IF(C37=0,\"\",IF($D$1=\"B\",RTD(\"cqg.rtd\", ,\"ContractData\",D37, \"Ask\",,\"B\"),TEXT(RTD(\"cqg.rtd\", ,\"ContractData\",D37, \"Ask\",, \"T\"),$D$1)))","v":""},{"$f":"IF(C37=1,RTD(\"cqg.rtd\", ,\"ContractData\",D37, \"MT_LastAskVolume\",, \"T\"),\"\")","v":""},"",null,null,{"$f":"IF(C37=1,RTD(\"cqg.rtd\", ,\"ContractData\",D37, \"T_CVol\",, \"T\"),\"\")","v":""},{"$f":"IF(C37=1,RTD(\"cqg.rtd\", ,\"ContractData\",D37, \"COI\",, \"T\"),\"\")","v":""},{"$f":"IF(C37=1,RTD(\"cqg.rtd\", ,\"ContractData\",D37, \"ImpliedVolatility\",, \"T\"),\"\")","v":""},{"$f":"IF(C37=1,RTD(\"cqg.rtd\", ,\"ContractData\",D37, \"Vega\",, \"T\"),\"\")","v":""},{"$f":"IF(C37=0,\"\",IF(LEFT(D37,1)=\"F\",H37*100,H37*RTD(\"cqg.rtd\",,\"ContractData\",D37,\"Delta\",,\"T\")))","v":""},{"$f":"IF(C37=1,RTD(\"cqg.rtd\", ,\"ContractData\",D37, \"Gamma\",, \"T\"),\"\")","v":""},{"$f":"IF(C37=1,IF(H37<0,-1*RTD(\"cqg.rtd\", ,\"ContractData\",D37, \"Theta\",, \"T\"),RTD(\"cqg.rtd\", ,\"ContractData\",D37, \"Theta\",, \"T\")),\"\")","v":""},{"$f":"IF(C37=0,\"\",IF(LEFT(D37,1)=\"F\",(RTD(\"cqg.rtd\",,\"ContractData\",D37,\"ExpirationDate\",,\"T\")-TODAY()),RTD(\"cqg.rtd\",,\"ContractData\",D37,\"OptionDaysToExp\",,\"T\")))","v":""}]
[null,null,{"$f":"IF(LOOKUP(33,First!A1:A448)<>33,0,1)","v":0},{"$f":"IF(C38=1,VLOOKUP(First!I33,INDIRECT($A$2),2),\"\")","v":""},null,null,"",{"$f":"IF(C38=1,RTD(\"cqg.rtd\", ,\"OrderData\", \"\"&D38&\"\", \"\", \"OpenPosition\",\"\"&$D$3&\"\"),\"\")","v":""},{"$f":"IF(C38=1,RTD(\"cqg.rtd\", ,\"OrderData\",\"\"&D38&\"\", \"\", \"OpenTradeEquity\",\"\"&$D$3&\"\"),\"\")","v":""},null,{"$f":"IF(C38=0,\"\",IF($D$1=\"B\",RTD(\"cqg.rtd\", ,\"ContractData\",D38, \"LastTrade\",,\"B\"),TEXT(RTD(\"cqg.rtd\", ,\"ContractData\",D38, \"LastTrade\",, \"T\"),$D$1)))","v":""},{"$f":"IF(RTD(\"cqg.rtd\",,\"ContractData\",D38,\"LastTrade\",,\"T\")<RTD(\"cqg.rtd\",,\"ContractData\",D38,\"Bid\",,\"T\"),1,IF(RTD(\"cqg.rtd\",,\"ContractData\",D38,\"LastTrade\",,\"T\")>RTD(\"cqg.rtd\",,\"ContractData\",D38,\"Ask\",,\"T\"),1,0))","v":0},{"$f":"IF(C38=1,RTD(\"cqg.rtd\", ,\"ContractData\",D38, \"TMLastTrade\",, \"T\"),\"\")","v":""},"",{"$f":"IF(C38=1,RTD(\"cqg.rtd\", ,\"ContractData\",D38, \"MT_LastBidVolume\",, \"T\"),\"\")","v":""},{"$f":"IF(C38=0,\"\",IF($D$1=\"B\",RTD(\"cqg.rtd\", ,\"ContractData\",D38, \"Bid\",,\"B\"),TEXT(RTD(\"cqg.rtd\", ,\"ContractData\",D38, \"Bid\",, \"T\"),$D$1)))","v":""},0,{"$f":"IF(C38=0,\"\",IF(LEFT(D38,1)=\"F\",\"\",IF($D$1=\"B\",RTD(\"cqg.rtd\", ,\"ContractData\",D38, \"TheoreticalValue\",,\"B\"),TEXT(RTD(\"cqg.rtd\", ,\"ContractData\",D38, \"TheoreticalValue\",, \"T\"),$D$1))))","v":""},0,{"$f":"IF(C38=0,\"\",IF($D$1=\"B\",RTD(\"cqg.rtd\", ,\"ContractData\",D38, \"Ask\",,\"B\"),TEXT(RTD(\"cqg.rtd\", ,\"ContractData\",D38, \"Ask\",, \"T\"),$D$1)))","v":""},{"$f":"IF(C38=1,RTD(\"cqg.rtd\", ,\"ContractData\",D38, \"MT_LastAskVolume\",, \"T\"),\"\")","v":""},"",null,null,{"$f":"IF(C38=1,RTD(\"cqg.rtd\", ,\"ContractData\",D38, \"T_CVol\",, \"T\"),\"\")","v":""},{"$f":"IF(C38=1,RTD(\"cqg.rtd\", ,\"ContractData\",D38, \"COI\",, \"T\"),\"\")","v":""},{"$f":"IF(C38=1,RTD(\"cqg.rtd\", ,\"ContractData\",D38, \"ImpliedVolatility\",, \"T\"),\"\")","v":""},{"$f":"IF(C38=1,RTD(\"cqg.rtd\", ,\"ContractData\",D38, \"Vega\",, \"T\"),\"\")","v":""},{"$f":"IF(C38=0,\"\",IF(LEFT(D38,1)=\"F\",H38*100,H38*RTD(\"cqg.rtd\",,\"ContractData\",D38,\"Delta\",,\"T\")))","v":""},{"$f":"IF(C38=1,RTD(\"cqg.rtd\", ,\"ContractData\",D38, \"Gamma\",, \"T\"),\"\")","v":""},{"$f":"IF(C38=1,IF(H38<0,-1*RTD(\"cqg.rtd\", ,\"ContractData\",D38, \"Theta\",, \"T\"),RTD(\"cqg.rtd\", ,\"ContractData\",D38, \"Theta\",, \"T\")),\"\")","v":""},{"$f":"IF(C38=0,\"\",IF(LEFT(D38,1)=\"F\",(RTD(\"cqg.rtd\",,\"ContractData\",D38,\"ExpirationDate\",,\"T\")-TODAY()),RTD(\"cqg.rtd\",,\"ContractData\",D38,\"OptionDaysToExp\",,\"T\")))","v":""}]
[null,null,{"$f":"IF(LOOKUP(34,First!A1:A448)<>34,0,1)","v":0},{"$f":"IF(C39=1,VLOOKUP(First!I34,INDIRECT($A$2),2),\"\")","v":""},null,null,"",{"$f":"IF(C39=1,RTD(\"cqg.rtd\", ,\"OrderData\", \"\"&D39&\"\", \"\", \"OpenPosition\",\"\"&$D$3&\"\"),\"\")","v":""},{"$f":"IF(C39=1,RTD(\"cqg.rtd\", ,\"OrderData\",\"\"&D39&\"\", \"\", \"OpenTradeEquity\",\"\"&$D$3&\"\"),\"\")","v":""},null,{"$f":"IF(C39=0,\"\",IF($D$1=\"B\",RTD(\"cqg.rtd\", ,\"ContractData\",D39, \"LastTrade\",,\"B\"),TEXT(RTD(\"cqg.rtd\", ,\"ContractData\",D39, \"LastTrade\",, \"T\"),$D$1)))","v":""},{"$f":"IF(RTD(\"cqg.rtd\",,\"ContractData\",D39,\"LastTrade\",,\"T\")<RTD(\"cqg.rtd\",,\"ContractData\",D39,\"Bid\",,\"T\"),1,IF(RTD(\"cqg.rtd\",,\"ContractData\",D39,\"LastTrade\",,\"T\")>RTD(\"cqg.rtd\",,\"ContractData\",D39,\"Ask\",,\"T\"),1,0))","v":0},{"$f":"IF(C39=1,RTD(\"cqg.rtd\", ,\"ContractData\",D39, \"TMLastTrade\",, \"T\"),\"\")","v":""},"",{"$f":"IF(C39=1,RTD(\"cqg.rtd\", ,\"ContractData\",D39, \"MT_LastBidVolume\",, \"T\"),\"\")","v":""},{"$f":"IF(C39=0,\"\",IF($D$1=\"B\",RTD(\"cqg.rtd\", ,\"ContractData\",D39, \"Bid\",,\"B\"),TEXT(RTD(\"cqg.rtd\", ,\"ContractData\",D39, \"Bid\",, \"T\"),$D$1)))","v":""},0,{"$f":"IF(C39=0,\"\",IF(LEFT(D39,1)=\"F\",\"\",IF($D$1=\"B\",RTD(\"cqg.rtd\", ,\"ContractData\",D39, \"TheoreticalValue\",,\"B\"),TEXT(RTD(\"cqg.rtd\", ,\"ContractData\",D39, \"TheoreticalValue\",, \"T\"),$D$1))))","v":""},0,{"$f":"IF(C39=0,\"\",IF($D$1=\"B\",RTD(\"cqg.rtd\", ,\"ContractData\",D39, \"Ask\",,\"B\"),TEXT(RTD(\"cqg.rtd\", ,\"ContractData\",D39, \"Ask\",, \"T\"),$D$1)))","v":""},{"$f":"IF(C39=1,RTD(\"cqg.rtd\", ,\"ContractData\",D39, \"MT_LastAskVolume\",, \"T\"),\"\")","v":""},"",null,null,{"$f":"IF(C39=1,RTD(\"cqg.rtd\", ,\"ContractData\",D39, \"T_CVol\",, \"T\"),\"\")","v":""},{"$f":"IF(C39=1,RTD(\"cqg.rtd\", ,\"ContractData\",D39, \"COI\",, \"T\"),\"\")","v":""},{"$f":"IF(C39=1,RTD(\"cqg.rtd\", ,\"ContractData\",D39, \"ImpliedVolatility\",, \"T\"),\"\")","v":""},{"$f":"IF(C39=1,RTD(\"cqg.rtd\", ,\"ContractData\",D39, \"Vega\",, \"T\"),\"\")","v":""},{"$f":"IF(C39=0,\"\",IF(LEFT(D39,1)=\"F\",H39*100,H39*RTD(\"cqg.rtd\",,\"ContractData\",D39,\"Delta\",,\"T\")))","v":""},{"$f":"IF(C39=1,RTD(\"cqg.rtd\", ,\"ContractData\",D39, \"Gamma\",, \"T\"),\"\")","v":""},{"$f":"IF(C39=1,IF(H39<0,-1*RTD(\"cqg.rtd\", ,\"ContractData\",D39, \"Theta\",, \"T\"),RTD(\"cqg.rtd\", ,\"ContractData\",D39, \"Theta\",, \"T\")),\"\")","v":""},{"$f":"IF(C39=0,\"\",IF(LEFT(D39,1)=\"F\",(RTD(\"cqg.rtd\",,\"ContractData\",D39,\"ExpirationDate\",,\"T\")-TODAY()),RTD(\"cqg.rtd\",,\"ContractData\",D39,\"OptionDaysToExp\",,\"T\")))","v":""}]
[null,null,{"$f":"IF(LOOKUP(35,First!A1:A448)<>35,0,1)","v":0},{"$f":"IF(C40=1,VLOOKUP(First!I35,INDIRECT($A$2),2),\"\")","v":""},null,null,"",{"$f":"IF(C40=1,RTD(\"cqg.rtd\", ,\"OrderData\", \"\"&D40&\"\", \"\", \"OpenPosition\",\"\"&$D$3&\"\"),\"\")","v":""},{"$f":"IF(C40=1,RTD(\"cqg.rtd\", ,\"OrderData\",\"\"&D40&\"\", \"\", \"OpenTradeEquity\",\"\"&$D$3&\"\"),\"\")","v":""},null,{"$f":"IF(C40=0,\"\",IF($D$1=\"B\",RTD(\"cqg.rtd\", ,\"ContractData\",D40, \"LastTrade\",,\"B\"),TEXT(RTD(\"cqg.rtd\", ,\"ContractData\",D40, \"LastTrade\",, \"T\"),$D$1)))","v":""},{"$f":"IF(RTD(\"cqg.rtd\",,\"ContractData\",D40,\"LastTrade\",,\"T\")<RTD(\"cqg.rtd\",,\"ContractData\",D40,\"Bid\",,\"T\"),1,IF(RTD(\"cqg.rtd\",,\"ContractData\",D40,\"LastTrade\",,\"T\")>RTD(\"cqg.rtd\",,\"ContractData\",D40,\"Ask\",,\"T\"),1,0))","v":0},{"$f":"IF(C40=1,RTD(\"cqg.rtd\", ,\"ContractData\",D40, \"TMLastTrade\",, \"T\"),\"\")","v":""},"",{"$f":"IF(C40=1,RTD(\"cqg.rtd\", ,\"ContractData\",D40, \"MT_LastBidVolume\",, \"T\"),\"\")","v":""},{"$f":"IF(C40=0,\"\",IF($D$1=\"B\",RTD(\"cqg.rtd\", ,\"ContractData\",D40, \"Bid\",,\"B\"),TEXT(RTD(\"cqg.rtd\", ,\"ContractData\",D40, \"Bid\",, \"T\"),$D$1)))","v":""},0,{"$f":"IF(C40=0,\"\",IF(LEFT(D40,1)=\"F\",\"\",IF($D$1=\"B\",RTD(\"cqg.rtd\", ,\"ContractData\",D40, \"TheoreticalValue\",,\"B\"),TEXT(RTD(\"cqg.rtd\", ,\"ContractData\",D40, \"TheoreticalValue\",, \"T\"),$D$1))))","v":""},0,{"$f":"IF(C40=0,\"\",IF($D$1=\"B\",RTD(\"cqg.rtd\", ,\"ContractData\",D40, \"Ask\",,\"B\"),TEXT(RTD(\"cqg.rtd\", ,\"ContractData\",D40, \"Ask\",, \"T\"),$D$1)))","v":""},{"$f":"IF(C40=1,RTD(\"cqg.rtd\", ,\"ContractData\",D40, \"MT_LastAskVolume\",, \"T\"),\"\")","v":""},"",null,null,{"$f":"IF(C40=1,RTD(\"cqg.rtd\", ,\"ContractData\",D40, \"T_CVol\",, \"T\"),\"\")","v":""},{"$f":"IF(C40=1,RTD(\"cqg.rtd\", ,\"ContractData\",D40, \"COI\",, \"T\"),\"\")","v":""},{"$f":"IF(C40=1,RTD(\"cqg.rtd\", ,\"ContractData\",D40, \"ImpliedVolatility\",, \"T\"),\"\")","v":""},{"$f":"IF(C40=1,RTD(\"cqg.rtd\", ,\"ContractData\",D40, \"Vega\",, \"T\"),\"\")","v":""},{"$f":"IF(C40=0,\"\",IF(LEFT(D40,1)=\"F\",H40*100,H40*RTD(\"cqg.rtd\",,\"ContractData\",D40,\"Delta\",,\"T\")))","v":""},{"$f":"IF(C40=1,RTD(\"cqg.rtd\", ,\"ContractData\",D40, \"Gamma\",, \"T\"),\"\")","v":""},{"$f":"IF(C40=1,IF(H40<0,-1*RTD(\"cqg.rtd\", ,\"ContractData\",D40, \"Theta\",, \"T\"),RTD(\"cqg.rtd\", ,\"ContractData\",D40, \"Theta\",, \"T\")),\"\")","v":""},{"$f":"IF(C40=0,\"\",IF(LEFT(D40,1)=\"F\",(RTD(\"cqg.rtd\",,\"ContractData\",D40,\"ExpirationDate\",,\"T\")-TODAY()),RTD(\"cqg.rtd\",,\"ContractData\",D40,\"OptionDaysToExp\",,\"T\")))","v":""}]
[null,null,{"$f":"IF(OR(RTD(\"cqg.rtd\",,\"ContractData\",K3,\"ExpirationDate\",,\"T\")-TODAY()<K42,RTD(\"cqg.rtd\",,\"ContractData\",M3,\"ExpirationDate\",,\"T\")-TODAY()<U42,RTD(\"cqg.rtd\",,\"ContractData\",N3,\"ExpirationDate\",,\"T\")-TODAY()<AD42),1,0)","v":0},"Summary",null,null,{"$f":"IF(H41>0,\"Long  \",\"Short   \")","v":"Short   "},{"$f":"SUM(H6:H40)","v":0},{"$f":"SUM(I6:I40)","v":0},null,null,null,{"$f":"IF(C41=1,\"You have entered a number of days to expiration that exceeds the underlying contract expiration date\",\"\")","v":""},null,null,null,null,null,null,null,null,null,null,null,null,null,null,{"$f":"SUM(AB6:AB40)","v":0},{"$f":"SUM(AC6:AC40)","v":0},{"$f":"SUM(AD6:AD40)","v":0},{"$f":"SUM(AE6:AE40)","v":0}]
[null,null,null,"Probaility of the Underlying Price using Days-to-Expiration:",null,null,null,null,null,null,5,null,"Days","Probaility of the Underlying Price using Days-to-Expiration:",null,null,null,null,null,null,15,"Days",null,"Probaility of the Underlying Price using Days-to-Expiration:",null,null,null,null,null,30,"Days"]
[null,null,null,"Market:",null,{"$f":"RTD(\"cqg.rtd\", ,\"ContractData\",K3,\"LongDescription\",, \"T\")","v":"Crude Light (Globex), Aug 17"},null,null,null,null,null,null,null,"Market:",null,{"$f":"RTD(\"cqg.rtd\", ,\"ContractData\",M3,\"LongDescription\",, \"T\")","v":"Crude Light (Globex), Sep 17"},null,null,null,null,null,null,null,null,"Market:",{"$f":"RTD(\"cqg.rtd\", ,\"ContractData\",N3,\"LongDescription\",, \"T\")","v":"Crude Light (Globex), Oct 17"}]
[null,null,null,"-2 Sdev    ",null,"-1 SDev",null,"Last",null,"+1 SDev",null,"+2 SDev",null,"-2 Sdev  ",null,"-1 SDev",null,"Last",null,"+1 SDev","+2 SDev",null,null,"-2 SDev",null,"-1 SDev",null,"Last",null,"+1 SDev","     +2 SDev"]
[null,null,null,{"$f":"IFERROR(TEXT(RTD(\"cqg.rtd\",,\"ContractData\",K3,\"LastQuote\",,\"T\")-(2*RTD(\"cqg.rtd\",,\"ContractData\",K3,\"LastQuote\",,\"T\")*RTD(\"cqg.rtd\",,\"ContractData\",\"C.US.\"&K3,\"AverageVolatility\",,\"T\")*SQRT(K42/365)),$D$1),\"\")","v":"40.23"},null,{"$f":"IFERROR(TEXT(RTD(\"cqg.rtd\",,\"ContractData\",K3,\"LastQuote\",,\"T\")-(RTD(\"cqg.rtd\",,\"ContractData\",K3,\"LastQuote\",,\"T\")*RTD(\"cqg.rtd\",,\"ContractData\",\"C.US.\"&K3,\"AverageVolatility\",,\"T\")*SQRT(K42/365)),$D$1),\"\")","v":"41.71"},null,{"$f":"IF($D$1=\"B\",RTD(\"cqg.rtd\", ,\"ContractData\",K3, \"LastTrade\",,\"B\"),TEXT(RTD(\"cqg.rtd\", ,\"ContractData\",K3, \"LastTrade\",, \"T\"),$D$1))","v":"43.20"},null,{"$f":"IFERROR(TEXT(RTD(\"cqg.rtd\",,\"ContractData\",K3,\"LastQuote\",,\"T\")+(RTD(\"cqg.rtd\",,\"ContractData\",K3,\"LastQuote\",,\"T\")*RTD(\"cqg.rtd\",,\"ContractData\",\"C.US.\"&K3,\"AverageVolatility\",,\"T\")*SQRT(K42/365)),$D$1),\"\")","v":"44.69"},null,{"$f":"IFERROR(TEXT(RTD(\"cqg.rtd\",,\"ContractData\",K3,\"LastQuote\",,\"T\")+(2*RTD(\"cqg.rtd\",,\"ContractData\",K3,\"LastQuote\",,\"T\")*RTD(\"cqg.rtd\",,\"ContractData\",\"C.US.\"&K3,\"AverageVolatility\",,\"T\")*SQRT(K42/365)),$D$1),\"\")","v":"46.17"},null,{"$f":"IFERROR(TEXT(RTD(\"cqg.rtd\",,\"ContractData\",M3,\"LastQuote\",,\"T\")-(2*RTD(\"cqg.rtd\",,\"ContractData\",M3,\"LastQuote\",,\"T\")*RTD(\"cqg.rtd\",,\"ContractData\",\"C.US.\"&M3,\"AverageVolatility\",,\"T\")*SQRT(U42/365)),$D$1),\"\")","v":"38.11"},null,{"$f":"IFERROR(TEXT(RTD(\"cqg.rtd\",,\"ContractData\",M3,\"LastQuote\",,\"T\")-(RTD(\"cqg.rtd\",,\"ContractData\",M3,\"LastQuote\",,\"T\")*RTD(\"cqg.rtd\",,\"ContractData\",\"C.US.\"&M3,\"AverageVolatility\",,\"T\")*SQRT(U42/365)),$D$1),\"\")","v":"40.76"},null,{"$f":"IF($D$1=\"B\",RTD(\"cqg.rtd\", ,\"ContractData\",M3, \"LastTrade\",,\"B\"),TEXT(RTD(\"cqg.rtd\", ,\"ContractData\",M3, \"LastTrade\",, \"T\"),$D$1))","v":"43.42"},null,{"$f":"IFERROR(TEXT(RTD(\"cqg.rtd\",,\"ContractData\",M3,\"LastQuote\",,\"T\")+(RTD(\"cqg.rtd\",,\"ContractData\",M3,\"LastQuote\",,\"T\")*RTD(\"cqg.rtd\",,\"ContractData\",\"C.US.\"&M3,\"AverageVolatility\",,\"T\")*SQRT(U42/365)),$D$1),\"\")","v":"46.06"},{"$f":"IFERROR(TEXT(RTD(\"cqg.rtd\",,\"ContractData\",M3,\"LastQuote\",,\"T\")+(2*RTD(\"cqg.rtd\",,\"ContractData\",M3,\"LastQuote\",,\"T\")*RTD(\"cqg.rtd\",,\"ContractData\",\"C.US.\"&M3,\"AverageVolatility\",,\"T\")*SQRT(U42/365)),$D$1),\"\")","v":"48.71"},null,null,{"$f":"IFERROR(TEXT(RTD(\"cqg.rtd\",,\"ContractData\",N3,\"LastQuote\",,\"T\")-(2*RTD(\"cqg.rtd\",,\"ContractData\",N3,\"LastQuote\",,\"T\")*RTD(\"cqg.rtd\",,\"ContractData\",\"C.US.\"&N3,\"AverageVolatility\",,\"T\")*SQRT(AD42/365)),$D$1),\"\")","v":"36.14"},null,{"$f":"IFERROR(TEXT(RTD(\"cqg.rtd\",,\"ContractData\",N3,\"LastQuote\",,\"T\")-(RTD(\"cqg.rtd\",,\"ContractData\",N3,\"LastQuote\",,\"T\")*RTD(\"cqg.rtd\",,\"ContractData\",\"C.US.\"&N3,\"AverageVolatility\",,\"T\")*SQRT(AD42/365)),$D$1),\"\")","v":"39.88"},null,{"$f":"IF($D$1=\"B\",RTD(\"cqg.rtd\", ,\"ContractData\",N3, \"LastTrade\",,\"B\"),TEXT(RTD(\"cqg.rtd\", ,\"ContractData\",N3, \"LastTrade\",, \"T\"),$D$1))","v":"43.62"},null,{"$f":"IFERROR(TEXT(RTD(\"cqg.rtd\",,\"ContractData\",N3,\"LastQuote\",,\"T\")+(RTD(\"cqg.rtd\",,\"ContractData\",N3,\"LastQuote\",,\"T\")*RTD(\"cqg.rtd\",,\"ContractData\",\"C.US.\"&N3,\"AverageVolatility\",,\"T\")*SQRT(AD42/365)),$D$1),\"\")","v":"47.38"},{"$f":"IFERROR(TEXT(RTD(\"cqg.rtd\",,\"ContractData\",N3,\"LastQuote\",,\"T\")+(2*RTD(\"cqg.rtd\",,\"ContractData\",N3,\"LastQuote\",,\"T\")*RTD(\"cqg.rtd\",,\"ContractData\",\"C.US.\"&N3,\"AverageVolatility\",,\"T\")*SQRT(AD42/365)),$D$1),\"\")","v":"51.12"}]
[null,null,null,"  Copyright © 2015",null,null,"Designed by Thom Hartle"]

{"sheet":"Display2","index":1,"n_rows":46,"n_cols":32,"rows_kept":46,"cut":false,"hidden":false,"merged":[[44,25,44,26],[44,27,44,28],[44,30,44,31],[45,3,45,5],[45,6,45,10],[43,27,43,28],[43,30,43,31],[44,3,44,4],[44,5,44,6],[44,7,44,8],[44,9,44,10],[44,11,44,12],[44,13,44,14],[44,20,44,21],[44,23,44,24],[43,13,43,14],[43,15,43,16],[43,17,43,18],[43,20,43,21],[43,23,43,24],[43,25,43,26],[42,3,42,4],[42,5,42,10],[42,13,42,14],[42,15,42,20],[42,25,42,28],[43,3,43,4],[43,5,43,6],[43,7,43,8],[43,9,43,10],[43,11,43,12],[40,3,40,5],[40,8,40,9],[40,12,40,25],[41,3,41,9],[41,13,41,19],[41,23,41,28],[38,3,38,5],[38,8,38,9],[38,21,38,23],[39,3,39,5],[39,8,39,9],[39,21,39,23],[36,3,36,5],[36,8,36,9],[36,21,36,23],[37,3,37,5],[37,8,37,9],[37,21,37,23],[34,3,34,5],[34,8,34,9],[34,21,34,23],[35,3,35,5],[35,8,35,9],[35,21,35,23],[32,3,32,5],[32,8,32,9],[32,21,32,23],[33,3,33,5],[33,8,33,9],[33,21,33,23],[30,3,30,5],[30,8,30,9],[30,21,30,23],[31,3,31,5],[31,8,31,9],[31,21,31,23],[28,3,28,5],[28,8,28,9],[28,21,28,23],[29,3,29,5],[29,8,29,9],[29,21,29,23],[26,3,26,5],[26,8,26,9],[26,21,26,23],[27,3,27,5],[27,8,27,9],[27,21,27,23],[24,3,24,5],[24,8,24,9],[24,21,24,23],[25,3,25,5],[25,8,25,9],[25,21,25,23],[22,3,22,5],[22,8,22,9],[22,21,22,23],[23,3,23,5],[23,8,23,9],[23,21,23,23],[20,3,20,5],[20,8,20,9],[20,21,20,23],[21,3,21,5],[21,8,21,9],[21,21,21,23],[18,3,18,5],[18,8,18,9],[18,21,18,23],[19,3,19,5],[19,8,19,9],[19,21,19,23],[16,3,16,5],[16,8,16,9],[16,21,16,23],[17,3,17,5],[17,8,17,9],[17,21,17,23],[14,3,14,5],[14,8,14,9],[14,21,14,23],[15,3,15,5],[15,8,15,9],[15,21,15,23],[12,3,12,5],[12,8,12,9],[12,21,12,23],[13,3,13,5],[13,8,13,9],[13,21,13,23],[10,3,10,5],[10,8,10,9],[10,21,10,23],[11,3,11,5],[11,8,11,9],[11,21,11,23],[8,3,8,5],[8,8,8,9],[8,21,8,23],[9,3,9,5],[9,8,9,9],[9,21,9,23],[5,21,5,23],[6,3,6,5],[6,8,6,9],[6,21,6,23],[7,3,7,5],[7,8,7,9],[7,21,7,23],[4,3,4,4],[4,6,4,7],[4,8,4,9],[4,10,4,11],[4,12,4,13],[5,3,5,5],[5,8,5,9],[1,30,2,31],[2,3,2,4],[2,10,2,11],[3,4,3,5],[3,6,3,7],[3,8,3,9],[3,10,3,11],[3,12,3,13],[3,17,4,17],[3,21,4,23],[1,3,1,4],[1,6,1,8],[1,10,1,13],[1,14,2,26],[1,27,2,27],[1,28,2,29]]}
[null,"Second!$O$1:$N$35",null,{"$f":"IF(F5=\"N\",\"B\",IF(F5=0,\"#\",IF(F5=1,\"#.0\",IF(F5=2,\"#.00\",IF(F5=3,\"#.000\",IF(F5=4,\"#.0000\",IF(F5=5,\"#.00000\",IF(F5=6,\"#.000000\",IF(F5=7,\"#.0000000\")))))))))","v":"#.00"}]
["Second!$AO$1:$AP$35","Second!$I$1:$J$35","Second!$AE$1:$AF$35","Account",null,"Symbol:","CLE",null,null,"Step","Underlying Symbols",null,null,null,"         CQG Open Options Positions Dashboard",null,null,null,null,null,null,null,null,null,null,null,null,null,"CHICAGO: ",null,{"$f":"RTD(\"cqg.rtd\", ,\"SystemInfo\", \"Linetime\")","v":42907.463738425926}]
[null,"Second!$U$1:$V$35","Second!$AJ$1:$AK$35","PSspread300",null,"M&Yr:","1?1","?2","?3",50,"EP?1",null,"EP?2","EP?3"]
[null,"Second!$Z$1:$AA$35","Second!$AO$1:$AP$35","Long","Decimals",null,"Open",null,"OTE",null,"Last",null,"Time of Last Trade",null,"Bid","Bid",null,"TheoVal",null,"Ask","Ask","Long Description",null,null,"Contract","Contract","IV","Vega","Delta","Gamma","Theta","DTE "]
[null,null,null,"Description",null,2,"Position",null,null,null,"Trade",null,{"$f":"RTD(\"cqg.rtd\", ,\"SystemInfo\", \"Linetime\")","v":42907.463738425926},null,"Volume",-0.01,null,null,null,0.02,"Volume",null,null,null,"Volume","Open Int"]
[{"$f":"IF(LEFT(D6,1)=\"C\",\"OptionBidTiMe\",IF(LEFT(D6,1)=\"P\",\"OptionBidTiMe\",\"TMLastBid\"))","v":"TMLastBid"},{"$f":"IF(LEFT(D6,1)=\"C\",\"OptionAskTiMe\",IF(LEFT(D6,1)=\"P\",\"OptionAskTiMe\",\"TMLastAsk\"))","v":"TMLastAsk"},{"$f":"IF(LOOKUP(1,Second!A1:A448)<>1,0,1)","v":0},{"$f":"IF(C6=1,VLOOKUP(Second!I1,INDIRECT($A$2),2),\"\")","v":""},null,null,{"$f":"IF(C6=1,IF(H6>0,\"Long  \",\"Short  \"),\"\")","v":""},{"$f":"IF(C6=1,RTD(\"cqg.rtd\", ,\"OrderData\", \"\"&D6&\"\", \"\", \"OpenPosition\",\"\"&$D$3&\"\"),\"\")","v":""},{"$f":"IF(C6=1,RTD(\"cqg.rtd\", ,\"OrderData\",\"\"&D6&\"\", \"\", \"OpenTradeEquity\",\"\"&$D$3&\"\"),\"\")","v":""},null,{"$f":"IF(C6=0,\"\",IF($D$1=\"B\",RTD(\"cqg.rtd\", ,\"ContractData\",D6, \"LastTrade\",,\"B\"),TEXT(RTD(\"cqg.rtd\", ,\"ContractData\",D6, \"LastTrade\",, \"T\"),$D$1)))","v":""},{"$f":"IF(RTD(\"cqg.rtd\",,\"ContractData\",D6,\"LastTrade\",,\"T\")<RTD(\"cqg.rtd\",,\"ContractData\",D6,\"Bid\",,\"T\"),1,IF(RTD(\"cqg.rtd\",,\"ContractData\",D6,\"LastTrade\",,\"T\")>RTD(\"cqg.rtd\",,\"ContractData\",D6,\"Ask\",,\"T\"),1,0))","v":0},{"$f":"IF(C6=1,RTD(\"cqg.rtd\", ,\"ContractData\",D6, \"TMLastTrade\",, \"T\"),\"\")","v":""},{"$f":"IF(C6=1,MOD($AE$2-M6,1),\"\")","v":""},{"$f":"IF(C6=1,RTD(\"cqg.rtd\", ,\"ContractData\",D6, \"MT_LastBidVolume\",, \"T\"),\"\")","v":""},{"$f":"IF(C6=0,\"\",IF($D$1=\"B\",RTD(\"cqg.rtd\", ,\"ContractData\",D6, \"Bid\",,\"B\"),TEXT(RTD(\"cqg.rtd\", ,\"ContractData\",D6, \"Bid\",, \"T\"),$D$1)))","v":""},{"$f":"IF(R6=\"\",0,IF(R6-P6<$P$5,1,0))","v":0},{"$f":"IF(C6=0,\"\",IF(LEFT(D6,1)=\"F\",\"\",IF($D$1=\"B\",RTD(\"cqg.rtd\", ,\"ContractData\",D6, \"TheoreticalValue\",,\"B\"),TEXT(RTD(\"cqg.rtd\", ,\"ContractData\",D6, \"TheoreticalValue\",, \"T\"),$D$1))))","v":""},{"$f":"IF(R6=\"\",0,IF(R6-T6>$T$5,1,0))","v":0},{"$f":"IF(C6=0,\"\",IF($D$1=\"B\",RTD(\"cqg.rtd\", ,\"ContractData\",D6, \"Ask\",,\"B\"),TEXT(RTD(\"cqg.rtd\", ,\"ContractData\",D6, \"Ask\",, \"T\"),$D$1)))","v":""},{"$f":"IF(C6=1,RTD(\"cqg.rtd\", ,\"ContractData\",D6, \"MT_LastAskVolume\",, \"T\"),\"\")","v":""},{"$f":"D6","v":""},null,null,{"$f":"IF(C6=1,RTD(\"cqg.rtd\", ,\"ContractData\",D6, \"T_CVol\",, \"T\"),\"\")","v":""},{"$f":"IF(C6=1,RTD(\"cqg.rtd\", ,\"ContractData\",D6, \"COI\",, \"T\"),\"\")","v":""},{"$f":"IF(C6=1,RTD(\"cqg.rtd\", ,\"ContractData\",D6, \"ImpliedVolatility\",, \"T\"),\"\")","v":""},{"$f":"IF(C6=1,RTD(\"cqg.rtd\", ,\"ContractData\",D6, \"Vega\",, \"T\"),\"\")","v":""},{"$f":"IF(C6=0,\"\",IF(LEFT(D6,1)=\"F\",H6*100,H6*RTD(\"cqg.rtd\",,\"ContractData\",D6,\"Delta\",,\"T\")))","v":""},{"$f":"IF(C6=1,RTD(\"cqg.rtd\", ,\"ContractData\",D6, \"Gamma\",, \"T\"),\"\")","v":""},{"$f":"IF(C6=1,IF(H6<0,-1*RTD(\"cqg.rtd\", ,\"ContractData\",D6, \"Theta\",, \"T\"),RTD(\"cqg.rtd\", ,\"ContractData\",D6, \"Theta\",, \"T\")),\"\")","v":""},{"$f":"IF(C6=0,\"\",IF(LEFT(D6,1)=\"F\",(RTD(\"cqg.rtd\",,\"ContractData\",D6,\"ExpirationDate\",,\"T\")-TODAY()),RTD(\"cqg.rtd\",,\"ContractData\",D6,\"OptionDaysToExp\",,\"T\")))","v":""}]
[{"$f":"IF(LEFT(D7,1)=\"C\",\"OptionBidTiMe\",IF(LEFT(D7,1)=\"P\",\"OptionBidTiMe\",\"TMLastBid\"))","v":"TMLastBid"},{"$f":"IF(LEFT(D7,1)=\"C\",\"OptionAskTiMe\",IF(LEFT(D7,1)=\"P\",\"OptionAskTiMe\",\"TMLastAsk\"))","v":"TMLastAsk"},{"$f":"IF(LOOKUP(2,Second!A1:A448)<>2,0,1)","v":0},{"$f":"IF(C7=1,VLOOKUP(Second!I2,INDIRECT($A$2),2),\"\")","v":""},null,null,{"$f":"IF(C7=1,IF(H7>0,\"Long  \",\"Short  \"),\"\")","v":""},{"$f":"IF(C7=1,RTD(\"cqg.rtd\", ,\"OrderData\", \"\"&D7&\"\", \"\", \"OpenPosition\",\"\"&$D$3&\"\"),\"\")","v":""},{"$f":"IF(C7=1,RTD(\"cqg.rtd\", ,\"OrderData\",\"\"&D7&\"\", \"\", \"OpenTradeEquity\",\"\"&$D$3&\"\"),\"\")","v":""},null,{"$f":"IF(C7=0,\"\",IF($D$1=\"B\",RTD(\"cqg.rtd\", ,\"ContractData\",D7, \"LastTrade\",,\"B\"),TEXT(RTD(\"cqg.rtd\", ,\"ContractData\",D7, \"LastTrade\",, \"T\"),$D$1)))","v":""},{"$f":"IF(RTD(\"cqg.rtd\",,\"ContractData\",D7,\"LastTrade\",,\"T\")<RTD(\"cqg.rtd\",,\"ContractData\",D7,\"Bid\",,\"T\"),1,IF(RTD(\"cqg.rtd\",,\"ContractData\",D7,\"LastTrade\",,\"T\")>RTD(\"cqg.rtd\",,\"ContractData\",D7,\"Ask\",,\"T\"),1,0))","v":0},{"$f":"IF(C7=1,RTD(\"cqg.rtd\", ,\"ContractData\",D7, \"TMLastTrade\",, \"T\"),\"\")","v":""},{"$f":"IF(C7=1,MOD($AE$2-M7,1),\"\")","v":""},{"$f":"IF(C7=1,RTD(\"cqg.rtd\", ,\"ContractData\",D7, \"MT_LastBidVolume\",, \"T\"),\"\")","v":""},{"$f":"IF(C7=0,\"\",IF($D$1=\"B\",RTD(\"cqg.rtd\", ,\"ContractData\",D7, \"Bid\",,\"B\"),TEXT(RTD(\"cqg.rtd\", ,\"ContractData\",D7, \"Bid\",, \"T\"),$D$1)))","v":""},{"$f":"IF(R7=\"\",0,IF(R7-P7<$P$5,1,0))","v":0},{"$f":"IF(C7=0,\"\",IF(LEFT(D7,1)=\"F\",\"\",IF($D$1=\"B\",RTD(\"cqg.rtd\", ,\"ContractData\",D7, \"TheoreticalValue\",,\"B\"),TEXT(RTD(\"cqg.rtd\", ,\"ContractData\",D7, \"TheoreticalValue\",, \"T\"),$D$1))))","v":""},{"$f":"IF(R7=\"\",0,IF(R7-T7>$T$5,1,0))","v":0},{"$f":"IF(C7=0,\"\",IF($D$1=\"B\",RTD(\"cqg.rtd\", ,\"ContractData\",D7, \"Ask\",,\"B\"),TEXT(RTD(\"cqg.rtd\", ,\"ContractData\",D7, \"Ask\",, \"T\"),$D$1)))","v":""},{"$f":"IF(C7=1,RTD(\"cqg.rtd\", ,\"ContractData\",D7, \"MT_LastAskVolume\",, \"T\"),\"\")","v":""},"",null,null,{"$f":"IF(C7=1,RTD(\"cqg.rtd\", ,\"ContractData\",D7, \"T_CVol\",, \"T\"),\"\")","v":""},{"$f":"IF(C7=1,RTD(\"cqg.rtd\", ,\"ContractData\",D7, \"COI\",, \"T\"),\"\")","v":""},{"$f":"IF(C7=1,RTD(\"cqg.rtd\", ,\"ContractData\",D7, \"ImpliedVolatility\",, \"T\"),\"\")","v":""},{"$f":"IF(C7=1,RTD(\"cqg.rtd\", ,\"ContractData\",D7, \"Vega\",, \"T\"),\"\")","v":""},{"$f":"IF(C7=0,\"\",IF(LEFT(D7,1)=\"F\",H7*100,H7*RTD(\"cqg.rtd\",,\"ContractData\",D7,\"Delta\",,\"T\")))","v":""},{"$f":"IF(C7=1,RTD(\"cqg.rtd\", ,\"ContractData\",D7, \"Gamma\",, \"T\"),\"\")","v":""},{"$f":"IF(C7=1,IF(H7<0,-1*RTD(\"cqg.rtd\", ,\"ContractData\",D7, \"Theta\",, \"T\"),RTD(\"cqg.rtd\", ,\"ContractData\",D7, \"Theta\",, \"T\")),\"\")","v":""},{"$f":"IF(C7=0,\"\",IF(LEFT(D7,1)=\"F\",(RTD(\"cqg.rtd\",,\"ContractData\",D7,\"ExpirationDate\",,\"T\")-TODAY()),RTD(\"cqg.rtd\",,\"ContractData\",D7,\"OptionDaysToExp\",,\"T\")))","v":""}]
["TMLastBid","TMLastAsk",{"$f":"IF(LOOKUP(3,Second!A1:A448)<>3,0,1)","v":0},{"$f":"IF(C8=1,VLOOKUP(Second!I3,INDIRECT($A$2),2),\"\")","v":""},null,null,"",{"$f":"IF(C8=1,RTD(\"cqg.rtd\", ,\"OrderData\", \"\"&D8&\"\", \"\", \"OpenPosition\",\"\"&$D$3&\"\"),\"\")","v":""},{"$f":"IF(C8=1,RTD(\"cqg.rtd\", ,\"OrderData\",\"\"&D8&\"\", \"\", \"OpenTradeEquity\",\"\"&$D$3&\"\"),\"\")","v":""},null,{"$f":"IF(C8=0,\"\",IF($D$1=\"B\",RTD(\"cqg.rtd\", ,\"ContractData\",D8, \"LastTrade\",,\"B\"),TEXT(RTD(\"cqg.rtd\", ,\"ContractData\",D8, \"LastTrade\",, \"T\"),$D$1)))","v":""},{"$f":"IF(RTD(\"cqg.rtd\",,\"ContractData\",D8,\"LastTrade\",,\"T\")<RTD(\"cqg.rtd\",,\"ContractData\",D8,\"Bid\",,\"T\"),1,IF(RTD(\"cqg.rtd\",,\"ContractData\",D8,\"LastTrade\",,\"T\")>RTD(\"cqg.rtd\",,\"ContractData\",D8,\"Ask\",,\"T\"),1,0))","v":0},{"$f":"IF(C8=1,RTD(\"cqg.rtd\", ,\"ContractData\",D8, \"TMLastTrade\",, \"T\"),\"\")","v":""},"",{"$f":"IF(C8=1,RTD(\"cqg.rtd\", ,\"ContractData\",D8, \"MT_LastBidVolume\",, \"T\"),\"\")","v":""},{"$f":"IF(C8=0,\"\",IF($D$1=\"B\",RTD(\"cqg.rtd\", ,\"ContractData\",D8, \"Bid\",,\"B\"),TEXT(RTD(\"cqg.rtd\", ,\"ContractData\",D8, \"Bid\",, \"T\"),$D$1)))","v":""},0,{"$f":"IF(C8=0,\"\",IF(LEFT(D8,1)=\"F\",\"\",IF($D$1=\"B\",RTD(\"cqg.rtd\", ,\"ContractData\",D8, \"TheoreticalValue\",,\"B\"),TEXT(RTD(\"cqg.rtd\", ,\"ContractData\",D8, \"TheoreticalValue\",, \"T\"),$D$1))))","v":""},0,{"$f":"IF(C8=0,\"\",IF($D$1=\"B\",RTD(\"cqg.rtd\", ,\"ContractData\",D8, \"Ask\",,\"B\"),TEXT(RTD(\"cqg.rtd\", ,\"ContractData\",D8, \"Ask\",, \"T\"),$D$1)))","v":""},{"$f":"IF(C8=1,RTD(\"cqg.rtd\", ,\"ContractData\",D8, \"MT_LastAskVolume\",, \"T\"),\"\")","v":""},"",null,null,{"$f":"IF(C8=1,RTD(\"cqg.rtd\", ,\"ContractData\",D8, \"T_CVol\",, \"T\"),\"\")","v":""},{"$f":"IF(C8=1,RTD(\"cqg.rtd\", ,\"ContractData\",D8, \"COI\",, \"T\"),\"\")","v":""},{"$f":"IF(C8=1,RTD(\"cqg.rtd\", ,\"ContractData\",D8, \"ImpliedVolatility\",, \"T\"),\"\")","v":""},{"$f":"IF(C8=1,RTD(\"cqg.rtd\", ,\"ContractData\",D8, \"Vega\",, \"T\"),\"\")","v":""},{"$f":"IF(C8=0,\"\",IF(LEFT(D8,1)=\"F\",H8*100,H8*RTD(\"cqg.rtd\",,\"ContractData\",D8,\"Delta\",,\"T\")))","v":""},{"$f":"IF(C8=1,RTD(\"cqg.rtd\", ,\"ContractData\",D8, \"Gamma\",, \"T\"),\"\")","v":""},{"$f":"IF(C8=1,IF(H8<0,-1*RTD(\"cqg.rtd\", ,\"ContractData\",D8, \"Theta\",, \"T\"),RTD(\"cqg.rtd\", ,\"ContractData\",D8, \"Theta\",, \"T\")),\"\")","v":""},{"$f":"IF(C8=0,\"\",IF(LEFT(D8,1)=\"F\",(RTD(\"cqg.rtd\",,\"ContractData\",D8,\"ExpirationDate\",,\"T\")-TODAY()),RTD(\"cqg.rtd\",,\"ContractData\",D8,\"OptionDaysToExp\",,\"T\")))","v":""}]
["TMLastBid","TMLastAsk",{"$f":"IF(LOOKUP(4,Second!A1:A448)<>4,0,1)","v":0},{"$f":"IF(C9=1,VLOOKUP(Second!I4,INDIRECT($A$2),2),\"\")","v":""},null,null,"",{"$f":"IF(C9=1,RTD(\"cqg.rtd\", ,\"OrderData\", \"\"&D9&\"\", \"\", \"OpenPosition\",\"\"&$D$3&\"\"),\"\")","v":""},{"$f":"IF(C9=1,RTD(\"cqg.rtd\", ,\"OrderData\",\"\"&D9&\"\", \"\", \"OpenTradeEquity\",\"\"&$D$3&\"\"),\"\")","v":""},null,{"$f":"IF(C9=0,\"\",IF($D$1=\"B\",RTD(\"cqg.rtd\", ,\"ContractData\",D9, \"LastTrade\",,\"B\"),TEXT(RTD(\"cqg.rtd\", ,\"ContractData\",D9, \"LastTrade\",, \"T\"),$D$1)))","v":""},{"$f":"IF(RTD(\"cqg.rtd\",,\"ContractData\",D9,\"LastTrade\",,\"T\")<RTD(\"cqg.rtd\",,\"ContractData\",D9,\"Bid\",,\"T\"),1,IF(RTD(\"cqg.rtd\",,\"ContractData\",D9,\"LastTrade\",,\"T\")>RTD(\"cqg.rtd\",,\"ContractData\",D9,\"Ask\",,\"T\"),1,0))","v":0},{"$f":"IF(C9=1,RTD(\"cqg.rtd\", ,\"ContractData\",D9, \"TMLastTrade\",, \"T\"),\"\")","v":""},"",{"$f":"IF(C9=1,RTD(\"cqg.rtd\", ,\"ContractData\",D9, \"MT_LastBidVolume\",, \"T\"),\"\")","v":""},{"$f":"IF(C9=0,\"\",IF($D$1=\"B\",RTD(\"cqg.rtd\", ,\"ContractData\",D9, \"Bid\",,\"B\"),TEXT(RTD(\"cqg.rtd\", ,\"ContractData\",D9, \"Bid\",, \"T\"),$D$1)))","v":""},0,{"$f":"IF(C9=0,\"\",IF(LEFT(D9,1)=\"F\",\"\",IF($D$1=\"B\",RTD(\"cqg.rtd\", ,\"ContractData\",D9, \"TheoreticalValue\",,\"B\"),TEXT(RTD(\"cqg.rtd\", ,\"ContractData\",D9, \"TheoreticalValue\",, \"T\"),$D$1))))","v":""},0,{"$f":"IF(C9=0,\"\",IF($D$1=\"B\",RTD(\"cqg.rtd\", ,\"ContractData\",D9, \"Ask\",,\"B\"),TEXT(RTD(\"cqg.rtd\", ,\"ContractData\",D9, \"Ask\",, \"T\"),$D$1)))","v":""},{"$f":"IF(C9=1,RTD(\"cqg.rtd\", ,\"ContractData\",D9, \"MT_LastAskVolume\",, \"T\"),\"\")","v":""},"",null,null,{"$f":"IF(C9=1,RTD(\"cqg.rtd\", ,\"ContractData\",D9, \"T_CVol\",, \"T\"),\"\")","v":""},{"$f":"IF(C9=1,RTD(\"cqg.rtd\", ,\"ContractData\",D9, \"COI\",, \"T\"),\"\")","v":""},{"$f":"IF(C9=1,RTD(\"cqg.rtd\", ,\"ContractData\",D9, \"ImpliedVolatility\",, \"T\"),\"\")","v":""},{"$f":"IF(C9=1,RTD(\"cqg.rtd\", ,\"ContractData\",D9, \"Vega\",, \"T\"),\"\")","v":""},{"$f":"IF(C9=0,\"\",IF(LEFT(D9,1)=\"F\",H9*100,H9*RTD(\"cqg.rtd\",,\"ContractData\",D9,\"Delta\",,\"T\")))","v":""},{"$f":"IF(C9=1,RTD(\"cqg.rtd\", ,\"ContractData\",D9, \"Gamma\",, \"T\"),\"\")","v":""},{"$f":"IF(C9=1,IF(H9<0,-1*RTD(\"cqg.rtd\", ,\"ContractData\",D9, \"Theta\",, \"T\"),RTD(\"cqg.rtd\", ,\"ContractData\",D9, \"Theta\",, \"T\")),\"\")","v":""},{"$f":"IF(C9=0,\"\",IF(LEFT(D9,1)=\"F\",(RTD(\"cqg.rtd\",,\"ContractData\",D9,\"ExpirationDate\",,\"T\")-TODAY()),RTD(\"cqg.rtd\",,\"ContractData\",D9,\"OptionDaysToExp\",,\"T\")))","v":""}]
["TMLastBid","TMLastAsk",{"$f":"IF(LOOKUP(5,Second!A1:A448)<>5,0,1)","v":0},{"$f":"IF(C10=1,VLOOKUP(Second!I5,INDIRECT($A$2),2),\"\")","v":""},null,null,"",{"$f":"IF(C10=1,RTD(\"cqg.rtd\", ,\"OrderData\", \"\"&D10&\"\", \"\", \"OpenPosition\",\"\"&$D$3&\"\"),\"\")","v":""},{"$f":"IF(C10=1,RTD(\"cqg.rtd\", ,\"OrderData\",\"\"&D10&\"\", \"\", \"OpenTradeEquity\",\"\"&$D$3&\"\"),\"\")","v":""},null,{"$f":"IF(C10=0,\"\",IF($D$1=\"B\",RTD(\"cqg.rtd\", ,\"ContractData\",D10, \"LastTrade\",,\"B\"),TEXT(RTD(\"cqg.rtd\", ,\"ContractData\",D10, \"LastTrade\",, \"T\"),$D$1)))","v":""},{"$f":"IF(RTD(\"cqg.rtd\",,\"ContractData\",D10,\"LastTrade\",,\"T\")<RTD(\"cqg.rtd\",,\"ContractData\",D10,\"Bid\",,\"T\"),1,IF(RTD(\"cqg.rtd\",,\"ContractData\",D10,\"LastTrade\",,\"T\")>RTD(\"cqg.rtd\",,\"ContractData\",D10,\"Ask\",,\"T\"),1,0))","v":0},{"$f":"IF(C10=1,RTD(\"cqg.rtd\", ,\"ContractData\",D10, \"TMLastTrade\",, \"T\"),\"\")","v":""},"",{"$f":"IF(C10=1,RTD(\"cqg.rtd\", ,\"ContractData\",D10, \"MT_LastBidVolume\",, \"T\"),\"\")","v":""},{"$f":"IF(C10=0,\"\",IF($D$1=\"B\",RTD(\"cqg.rtd\", ,\"ContractData\",D10, \"Bid\",,\"B\"),TEXT(RTD(\"cqg.rtd\", ,\"ContractData\",D10, \"Bid\",, \"T\"),$D$1)))","v":""},0,{"$f":"IF(C10=0,\"\",IF(LEFT(D10,1)=\"F\",\"\",IF($D$1=\"B\",RTD(\"cqg.rtd\", ,\"ContractData\",D10, \"TheoreticalValue\",,\"B\"),TEXT(RTD(\"cqg.rtd\", ,\"ContractData\",D10, \"TheoreticalValue\",, \"T\"),$D$1))))","v":""},0,{"$f":"IF(C10=0,\"\",IF($D$1=\"B\",RTD(\"cqg.rtd\", ,\"ContractData\",D10, \"Ask\",,\"B\"),TEXT(RTD(\"cqg.rtd\", ,\"ContractData\",D10, \"Ask\",, \"T\"),$D$1)))","v":""},{"$f":"IF(C10=1,RTD(\"cqg.rtd\", ,\"ContractData\",D10, \"MT_LastAskVolume\",, \"T\"),\"\")","v":""},"",null,null,{"$f":"IF(C10=1,RTD(\"cqg.rtd\", ,\"ContractData\",D10, \"T_CVol\",, \"T\"),\"\")","v":""},{"$f":"IF(C10=1,RTD(\"cqg.rtd\", ,\"ContractData\",D10, \"COI\",, \"T\"),\"\")","v":""},{"$f":"IF(C10=1,RTD(\"cqg.rtd\", ,\"ContractData\",D10, \"ImpliedVolatility\",, \"T\"),\"\")","v":""},{"$f":"IF(C10=1,RTD(\"cqg.rtd\", ,\"ContractData\",D10, \"Vega\",, \"T\"),\"\")","v":""},{"$f":"IF(C10=0,\"\",IF(LEFT(D10,1)=\"F\",H10*100,H10*RTD(\"cqg.rtd\",,\"ContractData\",D10,\"Delta\",,\"T\")))","v":""},{"$f":"IF(C10=1,RTD(\"cqg.rtd\", ,\"ContractData\",D10, \"Gamma\",, \"T\"),\"\")","v":""},{"$f":"IF(C10=1,IF(H10<0,-1*RTD(\"cqg.rtd\", ,\"ContractData\",D10, \"Theta\",, \"T\"),RTD(\"cqg.rtd\", ,\"ContractData\",D10, \"Theta\",, \"T\")),\"\")","v":""},{"$f":"IF(C10=0,\"\",IF(LEFT(D10,1)=\"F\",(RTD(\"cqg.rtd\",,\"ContractData\",D10,\"ExpirationDate\",,\"T\")-TODAY()),RTD(\"cqg.rtd\",,\"ContractData\",D10,\"OptionDaysToExp\",,\"T\")))","v":""}]
["TMLastBid","TMLastAsk",{"$f":"IF(LOOKUP(6,Second!A1:A448)<>6,0,1)","v":0},{"$f":"IF(C11=1,VLOOKUP(Second!I6,INDIRECT($A$2),2),\"\")","v":""},null,null,"",{"$f":"IF(C11=1,RTD(\"cqg.rtd\", ,\"OrderData\", \"\"&D11&\"\", \"\", \"OpenPosition\",\"\"&$D$3&\"\"),\"\")","v":""},{"$f":"IF(C11=1,RTD(\"cqg.rtd\", ,\"OrderData\",\"\"&D11&\"\", \"\", \"OpenTradeEquity\",\"\"&$D$3&\"\"),\"\")","v":""},null,{"$f":"IF(C11=0,\"\",IF($D$1=\"B\",RTD(\"cqg.rtd\", ,\"ContractData\",D11, \"LastTrade\",,\"B\"),TEXT(RTD(\"cqg.rtd\", ,\"ContractData\",D11, \"LastTrade\",, \"T\"),$D$1)))","v":""},{"$f":"IF(RTD(\"cqg.rtd\",,\"ContractData\",D11,\"LastTrade\",,\"T\")<RTD(\"cqg.rtd\",,\"ContractData\",D11,\"Bid\",,\"T\"),1,IF(RTD(\"cqg.rtd\",,\"ContractData\",D11,\"LastTrade\",,\"T\")>RTD(\"cqg.rtd\",,\"ContractData\",D11,\"Ask\",,\"T\"),1,0))","v":0},{"$f":"IF(C11=1,RTD(\"cqg.rtd\", ,\"ContractData\",D11, \"TMLastTrade\",, \"T\"),\"\")","v":""},"",{"$f":"IF(C11=1,RTD(\"cqg.rtd\", ,\"ContractData\",D11, \"MT_LastBidVolume\",, \"T\"),\"\")","v":""},{"$f":"IF(C11=0,\"\",IF($D$1=\"B\",RTD(\"cqg.rtd\", ,\"ContractData\",D11, \"Bid\",,\"B\"),TEXT(RTD(\"cqg.rtd\", ,\"ContractData\",D11, \"Bid\",, \"T\"),$D$1)))","v":""},0,{"$f":"IF(C11=0,\"\",IF(LEFT(D11,1)=\"F\",\"\",IF($D$1=\"B\",RTD(\"cqg.rtd\", ,\"ContractData\",D11, \"TheoreticalValue\",,\"B\"),TEXT(RTD(\"cqg.rtd\", ,\"ContractData\",D11, \"TheoreticalValue\",, \"T\"),$D$1))))","v":""},0,{"$f":"IF(C11=0,\"\",IF($D$1=\"B\",RTD(\"cqg.rtd\", ,\"ContractData\",D11, \"Ask\",,\"B\"),TEXT(RTD(\"cqg.rtd\", ,\"ContractData\",D11, \"Ask\",, \"T\"),$D$1)))","v":""},{"$f":"IF(C11=1,RTD(\"cqg.rtd\", ,\"ContractData\",D11, \"MT_LastAskVolume\",, \"T\"),\"\")","v":""},"",null,null,{"$f":"IF(C11=1,RTD(\"cqg.rtd\", ,\"ContractData\",D11, \"T_CVol\",, \"T\"),\"\")","v":""},{"$f":"IF(C11=1,RTD(\"cqg.rtd\", ,\"ContractData\",D11, \"COI\",, \"T\"),\"\")","v":""},{"$f":"IF(C11=1,RTD(\"cqg.rtd\", ,\"ContractData\",D11, \"ImpliedVolatility\",, \"T\"),\"\")","v":""},{"$f":"IF(C11=1,RTD(\"cqg.rtd\", ,\"ContractData\",D11, \"Vega\",, \"T\"),\"\")","v":""},{"$f":"IF(C11=0,\"\",IF(LEFT(D11,1)=\"F\",H11*100,H11*RTD(\"cqg.rtd\",,\"ContractData\",D11,\"Delta\",,\"T\")))","v":""},{"$f":"IF(C11=1,RTD(\"cqg.rtd\", ,\"ContractData\",D11, \"Gamma\",, \"T\"),\"\")","v":""},{"$f":"IF(C11=1,IF(H11<0,-1*RTD(\"cqg.rtd\", ,\"ContractData\",D11, \"Theta\",, \"T\"),RTD(\"cqg.rtd\", ,\"ContractData\",D11, \"Theta\",, \"T\")),\"\")","v":""},{"$f":"IF(C11=0,\"\",IF(LEFT(D11,1)=\"F\",(RTD(\"cqg.rtd\",,\"ContractData\",D11,\"ExpirationDate\",,\"T\")-TODAY()),RTD(\"cqg.rtd\",,\"ContractData\",D11,\"OptionDaysToExp\",,\"T\")))","v":""}]
["TMLastBid","TMLastAsk",{"$f":"IF(LOOKUP(7,Second!A1:A448)<>7,0,1)","v":0},{"$f":"IF(C12=1,VLOOKUP(Second!I7,INDIRECT($A$2),2),\"\")","v":""},null,null,"",{"$f":"IF(C12=1,RTD(\"cqg.rtd\", ,\"OrderData\", \"\"&D12&\"\", \"\", \"OpenPosition\",\"\"&$D$3&\"\"),\"\")","v":""},{"$f":"IF(C12=1,RTD(\"cqg.rtd\", ,\"OrderData\",\"\"&D12&\"\", \"\", \"OpenTradeEquity\",\"\"&$D$3&\"\"),\"\")","v":""},null,{"$f":"IF(C12=0,\"\",IF($D$1=\"B\",RTD(\"cqg.rtd\", ,\"ContractData\",D12, \"LastTrade\",,\"B\"),TEXT(RTD(\"cqg.rtd\", ,\"ContractData\",D12, \"LastTrade\",, \"T\"),$D$1)))","v":""},{"$f":"IF(RTD(\"cqg.rtd\",,\"ContractData\",D12,\"LastTrade\",,\"T\")<RTD(\"cqg.rtd\",,\"ContractData\",D12,\"Bid\",,\"T\"),1,IF(RTD(\"cqg.rtd\",,\"ContractData\",D12,\"LastTrade\",,\"T\")>RTD(\"cqg.rtd\",,\"ContractData\",D12,\"Ask\",,\"T\"),1,0))","v":0},{"$f":"IF(C12=1,RTD(\"cqg.rtd\", ,\"ContractData\",D12, \"TMLastTrade\",, \"T\"),\"\")","v":""},"",{"$f":"IF(C12=1,RTD(\"cqg.rtd\", ,\"ContractData\",D12, \"MT_LastBidVolume\",, \"T\"),\"\")","v":""},{"$f":"IF(C12=0,\"\",IF($D$1=\"B\",RTD(\"cqg.rtd\", ,\"ContractData\",D12, \"Bid\",,\"B\"),TEXT(RTD(\"cqg.rtd\", ,\"ContractData\",D12, \"Bid\",, \"T\"),$D$1)))","v":""},0,{"$f":"IF(C12=0,\"\",IF(LEFT(D12,1)=\"F\",\"\",IF($D$1=\"B\",RTD(\"cqg.rtd\", ,\"ContractData\",D12, \"TheoreticalValue\",,\"B\"),TEXT(RTD(\"cqg.rtd\", ,\"ContractData\",D12, \"TheoreticalValue\",, \"T\"),$D$1))))","v":""},0,{"$f":"IF(C12=0,\"\",IF($D$1=\"B\",RTD(\"cqg.rtd\", ,\"ContractData\",D12, \"Ask\",,\"B\"),TEXT(RTD(\"cqg.rtd\", ,\"ContractData\",D12, \"Ask\",, \"T\"),$D$1)))","v":""},{"$f":"IF(C12=1,RTD(\"cqg.rtd\", ,\"ContractData\",D12, \"MT_LastAskVolume\",, \"T\"),\"\")","v":""},"",null,null,{"$f":"IF(C12=1,RTD(\"cqg.rtd\", ,\"ContractData\",D12, \"T_CVol\",, \"T\"),\"\")","v":""},{"$f":"IF(C12=1,RTD(\"cqg.rtd\", ,\"ContractData\",D12, \"COI\",, \"T\"),\"\")","v":""},{"$f":"IF(C12=1,RTD(\"cqg.rtd\", ,\"ContractData\",D12, \"ImpliedVolatility\",, \"T\"),\"\")","v":""},{"$f":"IF(C12=1,RTD(\"cqg.rtd\", ,\"ContractData\",D12, \"Vega\",, \"T\"),\"\")","v":""},{"$f":"IF(C12=0,\"\",IF(LEFT(D12,1)=\"F\",H12*100,H12*RTD(\"cqg.rtd\",,\"ContractData\",D12,\"Delta\",,\"T\")))","v":""},{"$f":"IF(C12=1,RTD(\"cqg.rtd\", ,\"ContractData\",D12, \"Gamma\",, \"T\"),\"\")","v":""},{"$f":"IF(C12=1,IF(H12<0,-1*RTD(\"cqg.rtd\", ,\"ContractData\",D12, \"Theta\",, \"T\"),RTD(\"cqg.rtd\", ,\"ContractData\",D12, \"Theta\",, \"T\")),\"\")","v":""},{"$f":"IF(C12=0,\"\",IF(LEFT(D12,1)=\"F\",(RTD(\"cqg.rtd\",,\"ContractData\",D12,\"ExpirationDate\",,\"T\")-TODAY()),RTD(\"cqg.rtd\",,\"ContractData\",D12,\"OptionDaysToExp\",,\"T\")))","v":""}]
["TMLastBid","TMLastAsk",{"$f":"IF(LOOKUP(8,Second!A1:A448)<>8,0,1)","v":0},{"$f":"IF(C13=1,VLOOKUP(Second!I8,INDIRECT($A$2),2),\"\")","v":""},null,null,{"$f":"IF(C13=1,IF(H13>0,\"Long  \",\"Short  \"),\"\")","v":""},{"$f":"IF(C13=1,RTD(\"cqg.rtd\", ,\"OrderData\", \"\"&D13&\"\", \"\", \"OpenPosition\",\"\"&$D$3&\"\"),\"\")","v":""},{"$f":"IF(C13=1,RTD(\"cqg.rtd\", ,\"OrderData\",\"\"&D13&\"\", \"\", \"OpenTradeEquity\",\"\"&$D$3&\"\"),\"\")","v":""},null,{"$f":"IF(C13=0,\"\",IF($D$1=\"B\",RTD(\"cqg.rtd\", ,\"ContractData\",D13, \"LastTrade\",,\"B\"),TEXT(RTD(\"cqg.rtd\", ,\"ContractData\",D13, \"LastTrade\",, \"T\"),$D$1)))","v":""},{"$f":"IF(RTD(\"cqg.rtd\",,\"ContractData\",D13,\"LastTrade\",,\"T\")<RTD(\"cqg.rtd\",,\"ContractData\",D13,\"Bid\",,\"T\"),1,IF(RTD(\"cqg.rtd\",,\"ContractData\",D13,\"LastTrade\",,\"T\")>RTD(\"cqg.rtd\",,\"ContractData\",D13,\"Ask\",,\"T\"),1,0))","v":0},{"$f":"IF(C13=1,RTD(\"cqg.rtd\", ,\"ContractData\",D13, \"TMLastTrade\",, \"T\"),\"\")","v":""},"",{"$f":"IF(C13=1,RTD(\"cqg.rtd\", ,\"ContractData\",D13, \"MT_LastBidVolume\",, \"T\"),\"\")","v":""},{"$f":"IF(C13=0,\"\",IF($D$1=\"B\",RTD(\"cqg.rtd\", ,\"ContractData\",D13, \"Bid\",,\"B\"),TEXT(RTD(\"cqg.rtd\", ,\"ContractData\",D13, \"Bid\",, \"T\"),$D$1)))","v":""},0,{"$f":"IF(C13=0,\"\",IF(LEFT(D13,1)=\"F\",\"\",IF($D$1=\"B\",RTD(\"cqg.rtd\", ,\"ContractData\",D13, \"TheoreticalValue\",,\"B\"),TEXT(RTD(\"cqg.rtd\", ,\"ContractData\",D13, \"TheoreticalValue\",, \"T\"),$D$1))))","v":""},0,{"$f":"IF(C13=0,\"\",IF($D$1=\"B\",RTD(\"cqg.rtd\", ,\"ContractData\",D13, \"Ask\",,\"B\"),TEXT(RTD(\"cqg.rtd\", ,\"ContractData\",D13, \"Ask\",, \"T\"),$D$1)))","v":""},{"$f":"IF(C13=1,RTD(\"cqg.rtd\", ,\"ContractData\",D13, \"MT_LastAskVolume\",, \"T\"),\"\")","v":""},"",null,null,{"$f":"IF(C13=1,RTD(\"cqg.rtd\", ,\"ContractData\",D13, \"T_CVol\",, \"T\"),\"\")","v":""},{"$f":"IF(C13=1,RTD(\"cqg.rtd\", ,\"ContractData\",D13, \"COI\",, \"T\"),\"\")","v":""},{"$f":"IF(C13=1,RTD(\"cqg.rtd\", ,\"ContractData\",D13, \"ImpliedVolatility\",, \"T\"),\"\")","v":""},{"$f":"IF(C13=1,RTD(\"cqg.rtd\", ,\"ContractData\",D13, \"Vega\",, \"T\"),\"\")","v":""},{"$f":"IF(C13=0,\"\",IF(LEFT(D13,1)=\"F\",H13*100,H13*RTD(\"cqg.rtd\",,\"ContractData\",D13,\"Delta\",,\"T\")))","v":""},{"$f":"IF(C13=1,RTD(\"cqg.rtd\", ,\"ContractData\",D13, \"Gamma\",, \"T\"),\"\")","v":""},{"$f":"IF(C13=1,IF(H13<0,-1*RTD(\"cqg.rtd\", ,\"ContractData\",D13, \"Theta\",, \"T\"),RTD(\"cqg.rtd\", ,\"ContractData\",D13, \"Theta\",, \"T\")),\"\")","v":""},{"$f":"IF(C13=0,\"\",IF(LEFT(D13,1)=\"F\",(RTD(\"cqg.rtd\",,\"ContractData\",D13,\"ExpirationDate\",,\"T\")-TODAY()),RTD(\"cqg.rtd\",,\"ContractData\",D13,\"OptionDaysToExp\",,\"T\")))","v":""}]
["TMLastBid","TMLastAsk",{"$f":"IF(LOOKUP(9,Second!A1:A448)<>9,0,1)","v":0},{"$f":"IF(C14=1,VLOOKUP(Second!I9,INDIRECT($A$2),2),\"\")","v":""},null,null,"",{"$f":"IF(C14=1,RTD(\"cqg.rtd\", ,\"OrderData\", \"\"&D14&\"\", \"\", \"OpenPosition\",\"\"&$D$3&\"\"),\"\")","v":""},{"$f":"IF(C14=1,RTD(\"cqg.rtd\", ,\"OrderData\",\"\"&D14&\"\", \"\", \"OpenTradeEquity\",\"\"&$D$3&\"\"),\"\")","v":""},null,{"$f":"IF(C14=0,\"\",IF($D$1=\"B\",RTD(\"cqg.rtd\", ,\"ContractData\",D14, \"LastTrade\",,\"B\"),TEXT(RTD(\"cqg.rtd\", ,\"ContractData\",D14, \"LastTrade\",, \"T\"),$D$1)))","v":""},{"$f":"IF(RTD(\"cqg.rtd\",,\"ContractData\",D14,\"LastTrade\",,\"T\")<RTD(\"cqg.rtd\",,\"ContractData\",D14,\"Bid\",,\"T\"),1,IF(RTD(\"cqg.rtd\",,\"ContractData\",D14,\"LastTrade\",,\"T\")>RTD(\"cqg.rtd\",,\"ContractData\",D14,\"Ask\",,\"T\"),1,0))","v":0},{"$f":"IF(C14=1,RTD(\"cqg.rtd\", ,\"ContractData\",D14, \"TMLastTrade\",, \"T\"),\"\")","v":""},"",{"$f":"IF(C14=1,RTD(\"cqg.rtd\", ,\"ContractData\",D14, \"MT_LastBidVolume\",, \"T\"),\"\")","v":""},{"$f":"IF(C14=0,\"\",IF($D$1=\"B\",RTD(\"cqg.rtd\", ,\"ContractData\",D14, \"Bid\",,\"B\"),TEXT(RTD(\"cqg.rtd\", ,\"ContractData\",D14, \"Bid\",, \"T\"),$D$1)))","v":""},0,{"$f":"IF(C14=0,\"\",IF(LEFT(D14,1)=\"F\",\"\",IF($D$1=\"B\",RTD(\"cqg.rtd\", ,\"ContractData\",D14, \"TheoreticalValue\",,\"B\"),TEXT(RTD(\"cqg.rtd\", ,\"ContractData\",D14, \"TheoreticalValue\",, \"T\"),$D$1))))","v":""},0,{"$f":"IF(C14=0,\"\",IF($D$1=\"B\",RTD(\"cqg.rtd\", ,\"ContractData\",D14, \"Ask\",,\"B\"),TEXT(RTD(\"cqg.rtd\", ,\"ContractData\",D14, \"Ask\",, \"T\"),$D$1)))","v":""},{"$f":"IF(C14=1,RTD(\"cqg.rtd\", ,\"ContractData\",D14, \"MT_LastAskVolume\",, \"T\"),\"\")","v":""},"",null,null,{"$f":"IF(C14=1,RTD(\"cqg.rtd\", ,\"ContractData\",D14, \"T_CVol\",, \"T\"),\"\")","v":""},{"$f":"IF(C14=1,RTD(\"cqg.rtd\", ,\"ContractData\",D14, \"COI\",, \"T\"),\"\")","v":""},{"$f":"IF(C14=1,RTD(\"cqg.rtd\", ,\"ContractData\",D14, \"ImpliedVolatility\",, \"T\"),\"\")","v":""},{"$f":"IF(C14=1,RTD(\"cqg.rtd\", ,\"ContractData\",D14, \"Vega\",, \"T\"),\"\")","v":""},{"$f":"IF(C14=0,\"\",IF(LEFT(D14,1)=\"F\",H14*100,H14*RTD(\"cqg.rtd\",,\"ContractData\",D14,\"Delta\",,\"T\")))","v":""},{"$f":"IF(C14=1,RTD(\"cqg.rtd\", ,\"ContractData\",D14, \"Gamma\",, \"T\"),\"\")","v":""},{"$f":"IF(C14=1,IF(H14<0,-1*RTD(\"cqg.rtd\", ,\"ContractData\",D14, \"Theta\",, \"T\"),RTD(\"cqg.rtd\", ,\"ContractData\",D14, \"Theta\",, \"T\")),\"\")","v":""},{"$f":"IF(C14=0,\"\",IF(LEFT(D14,1)=\"F\",(RTD(\"cqg.rtd\",,\"ContractData\",D14,\"ExpirationDate\",,\"T\")-TODAY()),RTD(\"cqg.rtd\",,\"ContractData\",D14,\"OptionDaysToExp\",,\"T\")))","v":""}]
["TMLastBid","TMLastAsk",{"$f":"IF(LOOKUP(10,Second!A1:A448)<>10,0,1)","v":0},{"$f":"IF(C15=1,VLOOKUP(Second!I10,INDIRECT($A$2),2),\"\")","v":""},null,null,"",{"$f":"IF(C15=1,RTD(\"cqg.rtd\", ,\"OrderData\", \"\"&D15&\"\", \"\", \"OpenPosition\",\"\"&$D$3&\"\"),\"\")","v":""},{"$f":"IF(C15=1,RTD(\"cqg.rtd\", ,\"OrderData\",\"\"&D15&\"\", \"\", \"OpenTradeEquity\",\"\"&$D$3&\"\"),\"\")","v":""},null,{"$f":"IF(C15=0,\"\",IF($D$1=\"B\",RTD(\"cqg.rtd\", ,\"ContractData\",D15, \"LastTrade\",,\"B\"),TEXT(RTD(\"cqg.rtd\", ,\"ContractData\",D15, \"LastTrade\",, \"T\"),$D$1)))","v":""},{"$f":"IF(RTD(\"cqg.rtd\",,\"ContractData\",D15,\"LastTrade\",,\"T\")<RTD(\"cqg.rtd\",,\"ContractData\",D15,\"Bid\",,\"T\"),1,IF(RTD(\"cqg.rtd\",,\"ContractData\",D15,\"LastTrade\",,\"T\")>RTD(\"cqg.rtd\",,\"ContractData\",D15,\"Ask\",,\"T\"),1,0))","v":0},{"$f":"IF(C15=1,RTD(\"cqg.rtd\", ,\"ContractData\",D15, \"TMLastTrade\",, \"T\"),\"\")","v":""},"",{"$f":"IF(C15=1,RTD(\"cqg.rtd\", ,\"ContractData\",D15, \"MT_LastBidVolume\",, \"T\"),\"\")","v":""},{"$f":"IF(C15=0,\"\",IF($D$1=\"B\",RTD(\"cqg.rtd\", ,\"ContractData\",D15, \"Bid\",,\"B\"),TEXT(RTD(\"cqg.rtd\", ,\"ContractData\",D15, \"Bid\",, \"T\"),$D$1)))","v":""},{"$f":"IF(R15=\"\",0,IF(R15-P15<$P$5,1,0))","v":0},{"$f":"IF(C15=0,\"\",IF(LEFT(D15,1)=\"F\",\"\",IF($D$1=\"B\",RTD(\"cqg.rtd\", ,\"ContractData\",D15, \"TheoreticalValue\",,\"B\"),TEXT(RTD(\"cqg.rtd\", ,\"ContractData\",D15, \"TheoreticalValue\",, \"T\"),$D$1))))","v":""},0,{"$f":"IF(C15=0,\"\",IF($D$1=\"B\",RTD(\"cqg.rtd\", ,\"ContractData\",D15, \"Ask\",,\"B\"),TEXT(RTD(\"cqg.rtd\", ,\"ContractData\",D15, \"Ask\",, \"T\"),$D$1)))","v":""},{"$f":"IF(C15=1,RTD(\"cqg.rtd\", ,\"ContractData\",D15, \"MT_LastAskVolume\",, \"T\"),\"\")","v":""},"",null,null,{"$f":"IF(C15=1,RTD(\"cqg.rtd\", ,\"ContractData\",D15, \"T_CVol\",, \"T\"),\"\")","v":""},{"$f":"IF(C15=1,RTD(\"cqg.rtd\", ,\"ContractData\",D15, \"COI\",, \"T\"),\"\")","v":""},{"$f":"IF(C15=1,RTD(\"cqg.rtd\", ,\"ContractData\",D15, \"ImpliedVolatility\",, \"T\"),\"\")","v":""},{"$f":"IF(C15=1,RTD(\"cqg.rtd\", ,\"ContractData\",D15, \"Vega\",, \"T\"),\"\")","v":""},{"$f":"IF(C15=0,\"\",IF(LEFT(D15,1)=\"F\",H15*100,H15*RTD(\"cqg.rtd\",,\"ContractData\",D15,\"Delta\",,\"T\")))","v":""},{"$f":"IF(C15=1,RTD(\"cqg.rtd\", ,\"ContractData\",D15, \"Gamma\",, \"T\"),\"\")","v":""},{"$f":"IF(C15=1,IF(H15<0,-1*RTD(\"cqg.rtd\", ,\"ContractData\",D15, \"Theta\",, \"T\"),RTD(\"cqg.rtd\", ,\"ContractData\",D15, \"Theta\",, \"T\")),\"\")","v":""},{"$f":"IF(C15=0,\"\",IF(LEFT(D15,1)=\"F\",(RTD(\"cqg.rtd\",,\"ContractData\",D15,\"ExpirationDate\",,\"T\")-TODAY()),RTD(\"cqg.rtd\",,\"ContractData\",D15,\"OptionDaysToExp\",,\"T\")))","v":""}]
["TMLastBid","TMLastAsk",{"$f":"IF(LOOKUP(11,Second!A1:A448)<>11,0,1)","v":0},{"$f":"IF(C16=1,VLOOKUP(Second!I11,INDIRECT($A$2),2),\"\")","v":""},null,null,"",{"$f":"IF(C16=1,RTD(\"cqg.rtd\", ,\"OrderData\", \"\"&D16&\"\", \"\", \"OpenPosition\",\"\"&$D$3&\"\"),\"\")","v":""},{"$f":"IF(C16=1,RTD(\"cqg.rtd\", ,\"OrderData\",\"\"&D16&\"\", \"\", \"OpenTradeEquity\",\"\"&$D$3&\"\"),\"\")","v":""},null,{"$f":"IF(C16=0,\"\",IF($D$1=\"B\",RTD(\"cqg.rtd\", ,\"ContractData\",D16, \"LastTrade\",,\"B\"),TEXT(RTD(\"cqg.rtd\", ,\"ContractData\",D16, \"LastTrade\",, \"T\"),$D$1)))","v":""},{"$f":"IF(RTD(\"cqg.rtd\",,\"ContractData\",D16,\"LastTrade\",,\"T\")<RTD(\"cqg.rtd\",,\"ContractData\",D16,\"Bid\",,\"T\"),1,IF(RTD(\"cqg.rtd\",,\"ContractData\",D16,\"LastTrade\",,\"T\")>RTD(\"cqg.rtd\",,\"ContractData\",D16,\"Ask\",,\"T\"),1,0))","v":0},{"$f":"IF(C16=1,RTD(\"cqg.rtd\", ,\"ContractData\",D16, \"TMLastTrade\",, \"T\"),\"\")","v":""},"",{"$f":"IF(C16=1,RTD(\"cqg.rtd\", ,\"ContractData\",D16, \"MT_LastBidVolume\",, \"T\"),\"\")","v":""},{"$f":"IF(C16=0,\"\",IF($D$1=\"B\",RTD(\"cqg.rtd\", ,\"ContractData\",D16, \"Bid\",,\"B\"),TEXT(RTD(\"cqg.rtd\", ,\"ContractData\",D16, \"Bid\",, \"T\"),$D$1)))","v":""},0,{"$f":"IF(C16=0,\"\",IF(LEFT(D16,1)=\"F\",\"\",IF($D$1=\"B\",RTD(\"cqg.rtd\", ,\"ContractData\",D16, \"TheoreticalValue\",,\"B\"),TEXT(RTD(\"cqg.rtd\", ,\"ContractData\",D16, \"TheoreticalValue\",, \"T\"),$D$1))))","v":""},0,{"$f":"IF(C16=0,\"\",IF($D$1=\"B\",RTD(\"cqg.rtd\", ,\"ContractData\",D16, \"Ask\",,\"B\"),TEXT(RTD(\"cqg.rtd\", ,\"ContractData\",D16, \"Ask\",, \"T\"),$D$1)))","v":""},{"$f":"IF(C16=1,RTD(\"cqg.rtd\", ,\"ContractData\",D16, \"MT_LastAskVolume\",, \"T\"),\"\")","v":""},"",null,null,{"$f":"IF(C16=1,RTD(\"cqg.rtd\", ,\"ContractData\",D16, \"T_CVol\",, \"T\"),\"\")","v":""},{"$f":"IF(C16=1,RTD(\"cqg.rtd\", ,\"ContractData\",D16, \"COI\",, \"T\"),\"\")","v":""},{"$f":"IF(C16=1,RTD(\"cqg.rtd\", ,\"ContractData\",D16, \"ImpliedVolatility\",, \"T\"),\"\")","v":""},{"$f":"IF(C16=1,RTD(\"cqg.rtd\", ,\"ContractData\",D16, \"Vega\",, \"T\"),\"\")","v":""},{"$f":"IF(C16=0,\"\",IF(LEFT(D16,1)=\"F\",H16*100,H16*RTD(\"cqg.rtd\",,\"ContractData\",D16,\"Delta\",,\"T\")))","v":""},{"$f":"IF(C16=1,RTD(\"cqg.rtd\", ,\"ContractData\",D16, \"Gamma\",, \"T\"),\"\")","v":""},{"$f":"IF(C16=1,IF(H16<0,-1*RTD(\"cqg.rtd\", ,\"ContractData\",D16, \"Theta\",, \"T\"),RTD(\"cqg.rtd\", ,\"ContractData\",D16, \"Theta\",, \"T\")),\"\")","v":""},{"$f":"IF(C16=0,\"\",IF(LEFT(D16,1)=\"F\",(RTD(\"cqg.rtd\",,\"ContractData\",D16,\"ExpirationDate\",,\"T\")-TODAY()),RTD(\"cqg.rtd\",,\"ContractData\",D16,\"OptionDaysToExp\",,\"T\")))","v":""}]
["TMLastBid","TMLastAsk",{"$f":"IF(LOOKUP(12,Second!A1:A448)<>12,0,1)","v":0},{"$f":"IF(C17=1,VLOOKUP(Second!I12,INDIRECT($A$2),2),\"\")","v":""},null,null,"",{"$f":"IF(C17=1,RTD(\"cqg.rtd\", ,\"OrderData\", \"\"&D17&\"\", \"\", \"OpenPosition\",\"\"&$D$3&\"\"),\"\")","v":""},{"$f":"IF(C17=1,RTD(\"cqg.rtd\", ,\"OrderData\",\"\"&D17&\"\", \"\", \"OpenTradeEquity\",\"\"&$D$3&\"\"),\"\")","v":""},null,{"$f":"IF(C17=0,\"\",IF($D$1=\"B\",RTD(\"cqg.rtd\", ,\"ContractData\",D17, \"LastTrade\",,\"B\"),TEXT(RTD(\"cqg.rtd\", ,\"ContractData\",D17, \"LastTrade\",, \"T\"),$D$1)))","v":""},{"$f":"IF(RTD(\"cqg.rtd\",,\"ContractData\",D17,\"LastTrade\",,\"T\")<RTD(\"cqg.rtd\",,\"ContractData\",D17,\"Bid\",,\"T\"),1,IF(RTD(\"cqg.rtd\",,\"ContractData\",D17,\"LastTrade\",,\"T\")>RTD(\"cqg.rtd\",,\"ContractData\",D17,\"Ask\",,\"T\"),1,0))","v":0},{"$f":"IF(C17=1,RTD(\"cqg.rtd\", ,\"ContractData\",D17, \"TMLastTrade\",, \"T\"),\"\")","v":""},"",{"$f":"IF(C17=1,RTD(\"cqg.rtd\", ,\"ContractData\",D17, \"MT_LastBidVolume\",, \"T\"),\"\")","v":""},{"$f":"IF(C17=0,\"\",IF($D$1=\"B\",RTD(\"cqg.rtd\", ,\"ContractData\",D17, \"Bid\",,\"B\"),TEXT(RTD(\"cqg.rtd\", ,\"ContractData\",D17, \"Bid\",, \"T\"),$D$1)))","v":""},0,{"$f":"IF(C17=0,\"\",IF(LEFT(D17,1)=\"F\",\"\",IF($D$1=\"B\",RTD(\"cqg.rtd\", ,\"ContractData\",D17, \"TheoreticalValue\",,\"B\"),TEXT(RTD(\"cqg.rtd\", ,\"ContractData\",D17, \"TheoreticalValue\",, \"T\"),$D$1))))","v":""},0,{"$f":"IF(C17=0,\"\",IF($D$1=\"B\",RTD(\"cqg.rtd\", ,\"ContractData\",D17, \"Ask\",,\"B\"),TEXT(RTD(\"cqg.rtd\", ,\"ContractData\",D17, \"Ask\",, \"T\"),$D$1)))","v":""},{"$f":"IF(C17=1,RTD(\"cqg.rtd\", ,\"ContractData\",D17, \"MT_LastAskVolume\",, \"T\"),\"\")","v":""},"",null,null,{"$f":"IF(C17=1,RTD(\"cqg.rtd\", ,\"ContractData\",D17, \"T_CVol\",, \"T\"),\"\")","v":""},{"$f":"IF(C17=1,RTD(\"cqg.rtd\", ,\"ContractData\",D17, \"COI\",, \"T\"),\"\")","v":""},{"$f":"IF(C17=1,RTD(\"cqg.rtd\", ,\"ContractData\",D17, \"ImpliedVolatility\",, \"T\"),\"\")","v":""},{"$f":"IF(C17=1,RTD(\"cqg.rtd\", ,\"ContractData\",D17, \"Vega\",, \"T\"),\"\")","v":""},{"$f":"IF(C17=0,\"\",IF(LEFT(D17,1)=\"F\",H17*100,H17*RTD(\"cqg.rtd\",,\"ContractData\",D17,\"Delta\",,\"T\")))","v":""},{"$f":"IF(C17=1,RTD(\"cqg.rtd\", ,\"ContractData\",D17, \"Gamma\",, \"T\"),\"\")","v":""},{"$f":"IF(C17=1,IF(H17<0,-1*RTD(\"cqg.rtd\", ,\"ContractData\",D17, \"Theta\",, \"T\"),RTD(\"cqg.rtd\", ,\"ContractData\",D17, \"Theta\",, \"T\")),\"\")","v":""},{"$f":"IF(C17=0,\"\",IF(LEFT(D17,1)=\"F\",(RTD(\"cqg.rtd\",,\"ContractData\",D17,\"ExpirationDate\",,\"T\")-TODAY()),RTD(\"cqg.rtd\",,\"ContractData\",D17,\"OptionDaysToExp\",,\"T\")))","v":""}]
["TMLastBid","TMLastAsk",{"$f":"IF(LOOKUP(13,Second!A1:A448)<>13,0,1)","v":0},{"$f":"IF(C18=1,VLOOKUP(Second!I13,INDIRECT($A$2),2),\"\")","v":""},null,null,"",{"$f":"IF(C18=1,RTD(\"cqg.rtd\", ,\"OrderData\", \"\"&D18&\"\", \"\", \"OpenPosition\",\"\"&$D$3&\"\"),\"\")","v":""},{"$f":"IF(C18=1,RTD(\"cqg.rtd\", ,\"OrderData\",\"\"&D18&\"\", \"\", \"OpenTradeEquity\",\"\"&$D$3&\"\"),\"\")","v":""},null,{"$f":"IF(C18=0,\"\",IF($D$1=\"B\",RTD(\"cqg.rtd\", ,\"ContractData\",D18, \"LastTrade\",,\"B\"),TEXT(RTD(\"cqg.rtd\", ,\"ContractData\",D18, \"LastTrade\",, \"T\"),$D$1)))","v":""},{"$f":"IF(RTD(\"cqg.rtd\",,\"ContractData\",D18,\"LastTrade\",,\"T\")<RTD(\"cqg.rtd\",,\"ContractData\",D18,\"Bid\",,\"T\"),1,IF(RTD(\"cqg.rtd\",,\"ContractData\",D18,\"LastTrade\",,\"T\")>RTD(\"cqg.rtd\",,\"ContractData\",D18,\"Ask\",,\"T\"),1,0))","v":0},{"$f":"IF(C18=1,RTD(\"cqg.rtd\", ,\"ContractData\",D18, \"TMLastTrade\",, \"T\"),\"\")","v":""},"",{"$f":"IF(C18=1,RTD(\"cqg.rtd\", ,\"ContractData\",D18, \"MT_LastBidVolume\",, \"T\"),\"\")","v":""},{"$f":"IF(C18=0,\"\",IF($D$1=\"B\",RTD(\"cqg.rtd\", ,\"ContractData\",D18, \"Bid\",,\"B\"),TEXT(RTD(\"cqg.rtd\", ,\"ContractData\",D18, \"Bid\",, \"T\"),$D$1)))","v":""},0,{"$f":"IF(C18=0,\"\",IF(LEFT(D18,1)=\"F\",\"\",IF($D$1=\"B\",RTD(\"cqg.rtd\", ,\"ContractData\",D18, \"TheoreticalValue\",,\"B\"),TEXT(RTD(\"cqg.rtd\", ,\"ContractData\",D18, \"TheoreticalValue\",, \"T\"),$D$1))))","v":""},0,{"$f":"IF(C18=0,\"\",IF($D$1=\"B\",RTD(\"cqg.rtd\", ,\"ContractData\",D18, \"Ask\",,\"B\"),TEXT(RTD(\"cqg.rtd\", ,\"ContractData\",D18, \"Ask\",, \"T\"),$D$1)))","v":""},{"$f":"IF(C18=1,RTD(\"cqg.rtd\", ,\"ContractData\",D18, \"MT_LastAskVolume\",, \"T\"),\"\")","v":""},"",null,null,{"$f":"IF(C18=1,RTD(\"cqg.rtd\", ,\"ContractData\",D18, \"T_CVol\",, \"T\"),\"\")","v":""},{"$f":"IF(C18=1,RTD(\"cqg.rtd\", ,\"ContractData\",D18, \"COI\",, \"T\"),\"\")","v":""},{"$f":"IF(C18=1,RTD(\"cqg.rtd\", ,\"ContractData\",D18, \"ImpliedVolatility\",, \"T\"),\"\")","v":""},{"$f":"IF(C18=1,RTD(\"cqg.rtd\", ,\"ContractData\",D18, \"Vega\",, \"T\"),\"\")","v":""},{"$f":"IF(C18=0,\"\",IF(LEFT(D18,1)=\"F\",H18*100,H18*RTD(\"cqg.rtd\",,\"ContractData\",D18,\"Delta\",,\"T\")))","v":""},{"$f":"IF(C18=1,RTD(\"cqg.rtd\", ,\"ContractData\",D18, \"Gamma\",, \"T\"),\"\")","v":""},{"$f":"IF(C18=1,IF(H18<0,-1*RTD(\"cqg.rtd\", ,\"ContractData\",D18, \"Theta\",, \"T\"),RTD(\"cqg.rtd\", ,\"ContractData\",D18, \"Theta\",, \"T\")),\"\")","v":""},{"$f":"IF(C18=0,\"\",IF(LEFT(D18,1)=\"F\",(RTD(\"cqg.rtd\",,\"ContractData\",D18,\"ExpirationDate\",,\"T\")-TODAY()),RTD(\"cqg.rtd\",,\"ContractData\",D18,\"OptionDaysToExp\",,\"T\")))","v":""}]
["TMLastBid","TMLastAsk",{"$f":"IF(LOOKUP(14,Second!A1:A448)<>14,0,1)","v":0},{"$f":"IF(C19=1,VLOOKUP(Second!I14,INDIRECT($A$2),2),\"\")","v":""},null,null,"",{"$f":"IF(C19=1,RTD(\"cqg.rtd\", ,\"OrderData\", \"\"&D19&\"\", \"\", \"OpenPosition\",\"\"&$D$3&\"\"),\"\")","v":""},{"$f":"IF(C19=1,RTD(\"cqg.rtd\", ,\"OrderData\",\"\"&D19&\"\", \"\", \"OpenTradeEquity\",\"\"&$D$3&\"\"),\"\")","v":""},null,{"$f":"IF(C19=0,\"\",IF($D$1=\"B\",RTD(\"cqg.rtd\", ,\"ContractData\",D19, \"LastTrade\",,\"B\"),TEXT(RTD(\"cqg.rtd\", ,\"ContractData\",D19, \"LastTrade\",, \"T\"),$D$1)))","v":""},{"$f":"IF(RTD(\"cqg.rtd\",,\"ContractData\",D19,\"LastTrade\",,\"T\")<RTD(\"cqg.rtd\",,\"ContractData\",D19,\"Bid\",,\"T\"),1,IF(RTD(\"cqg.rtd\",,\"ContractData\",D19,\"LastTrade\",,\"T\")>RTD(\"cqg.rtd\",,\"ContractData\",D19,\"Ask\",,\"T\"),1,0))","v":0},{"$f":"IF(C19=1,RTD(\"cqg.rtd\", ,\"ContractData\",D19, \"TMLastTrade\",, \"T\"),\"\")","v":""},"",{"$f":"IF(C19=1,RTD(\"cqg.rtd\", ,\"ContractData\",D19, \"MT_LastBidVolume\",, \"T\"),\"\")","v":""},{"$f":"IF(C19=0,\"\",IF($D$1=\"B\",RTD(\"cqg.rtd\", ,\"ContractData\",D19, \"Bid\",,\"B\"),TEXT(RTD(\"cqg.rtd\", ,\"ContractData\",D19, \"Bid\",, \"T\"),$D$1)))","v":""},0,{"$f":"IF(C19=0,\"\",IF(LEFT(D19,1)=\"F\",\"\",IF($D$1=\"B\",RTD(\"cqg.rtd\", ,\"ContractData\",D19, \"TheoreticalValue\",,\"B\"),TEXT(RTD(\"cqg.rtd\", ,\"ContractData\",D19, \"TheoreticalValue\",, \"T\"),$D$1))))","v":""},0,{"$f":"IF(C19=0,\"\",IF($D$1=\"B\",RTD(\"cqg.rtd\", ,\"ContractData\",D19, \"Ask\",,\"B\"),TEXT(RTD(\"cqg.rtd\", ,\"ContractData\",D19, \"Ask\",, \"T\"),$D$1)))","v":""},{"$f":"IF(C19=1,RTD(\"cqg.rtd\", ,\"ContractData\",D19, \"MT_LastAskVolume\",, \"T\"),\"\")","v":""},"",null,null,{"$f":"IF(C19=1,RTD(\"cqg.rtd\", ,\"ContractData\",D19, \"T_CVol\",, \"T\"),\"\")","v":""},{"$f":"IF(C19=1,RTD(\"cqg.rtd\", ,\"ContractData\",D19, \"COI\",, \"T\"),\"\")","v":""},{"$f":"IF(C19=1,RTD(\"cqg.rtd\", ,\"ContractData\",D19, \"ImpliedVolatility\",, \"T\"),\"\")","v":""},{"$f":"IF(C19=1,RTD(\"cqg.rtd\", ,\"ContractData\",D19, \"Vega\",, \"T\"),\"\")","v":""},{"$f":"IF(C19=0,\"\",IF(LEFT(D19,1)=\"F\",H19*100,H19*RTD(\"cqg.rtd\",,\"ContractData\",D19,\"Delta\",,\"T\")))","v":""},{"$f":"IF(C19=1,RTD(\"cqg.rtd\", ,\"ContractData\",D19, \"Gamma\",, \"T\"),\"\")","v":""},{"$f":"IF(C19=1,IF(H19<0,-1*RTD(\"cqg.rtd\", ,\"ContractData\",D19, \"Theta\",, \"T\"),RTD(\"cqg.rtd\", ,\"ContractData\",D19, \"Theta\",, \"T\")),\"\")","v":""},{"$f":"IF(C19=0,\"\",IF(LEFT(D19,1)=\"F\",(RTD(\"cqg.rtd\",,\"ContractData\",D19,\"ExpirationDate\",,\"T\")-TODAY()),RTD(\"cqg.rtd\",,\"ContractData\",D19,\"OptionDaysToExp\",,\"T\")))","v":""}]
["TMLastBid","TMLastAsk",{"$f":"IF(LOOKUP(15,Second!A1:A448)<>15,0,1)","v":0},{"$f":"IF(C20=1,VLOOKUP(Second!I15,INDIRECT($A$2),2),\"\")","v":""},null,null,"",{"$f":"IF(C20=1,RTD(\"cqg.rtd\", ,\"OrderData\", \"\"&D20&\"\", \"\", \"OpenPosition\",\"\"&$D$3&\"\"),\"\")","v":""},{"$f":"IF(C20=1,RTD(\"cqg.rtd\", ,\"OrderData\",\"\"&D20&\"\", \"\", \"OpenTradeEquity\",\"\"&$D$3&\"\"),\"\")","v":""},null,{"$f":"IF(C20=0,\"\",IF($D$1=\"B\",RTD(\"cqg.rtd\", ,\"ContractData\",D20, \"LastTrade\",,\"B\"),TEXT(RTD(\"cqg.rtd\", ,\"ContractData\",D20, \"LastTrade\",, \"T\"),$D$1)))","v":""},{"$f":"IF(RTD(\"cqg.rtd\",,\"ContractData\",D20,\"LastTrade\",,\"T\")<RTD(\"cqg.rtd\",,\"ContractData\",D20,\"Bid\",,\"T\"),1,IF(RTD(\"cqg.rtd\",,\"ContractData\",D20,\"LastTrade\",,\"T\")>RTD(\"cqg.rtd\",,\"ContractData\",D20,\"Ask\",,\"T\"),1,0))","v":0},{"$f":"IF(C20=1,RTD(\"cqg.rtd\", ,\"ContractData\",D20, \"TMLastTrade\",, \"T\"),\"\")","v":""},"",{"$f":"IF(C20=1,RTD(\"cqg.rtd\", ,\"ContractData\",D20, \"MT_LastBidVolume\",, \"T\"),\"\")","v":""},{"$f":"IF(C20=0,\"\",IF($D$1=\"B\",RTD(\"cqg.rtd\", ,\"ContractData\",D20, \"Bid\",,\"B\"),TEXT(RTD(\"cqg.rtd\", ,\"ContractData\",D20, \"Bid\",, \"T\"),$D$1)))","v":""},0,{"$f":"IF(C20=0,\"\",IF(LEFT(D20,1)=\"F\",\"\",IF($D$1=\"B\",RTD(\"cqg.rtd\", ,\"ContractData\",D20, \"TheoreticalValue\",,\"B\"),TEXT(RTD(\"cqg.rtd\", ,\"ContractData\",D20, \"TheoreticalValue\",, \"T\"),$D$1))))","v":""},0,{"$f":"IF(C20=0,\"\",IF($D$1=\"B\",RTD(\"cqg.rtd\", ,\"ContractData\",D20, \"Ask\",,\"B\"),TEXT(RTD(\"cqg.rtd\", ,\"ContractData\",D20, \"Ask\",, \"T\"),$D$1)))","v":""},{"$f":"IF(C20=1,RTD(\"cqg.rtd\", ,\"ContractData\",D20, \"MT_LastAskVolume\",, \"T\"),\"\")","v":""},"",null,null,{"$f":"IF(C20=1,RTD(\"cqg.rtd\", ,\"ContractData\",D20, \"T_CVol\",, \"T\"),\"\")","v":""},{"$f":"IF(C20=1,RTD(\"cqg.rtd\", ,\"ContractData\",D20, \"COI\",, \"T\"),\"\")","v":""},{"$f":"IF(C20=1,RTD(\"cqg.rtd\", ,\"ContractData\",D20, \"ImpliedVolatility\",, \"T\"),\"\")","v":""},{"$f":"IF(C20=1,RTD(\"cqg.rtd\", ,\"ContractData\",D20, \"Vega\",, \"T\"),\"\")","v":""},{"$f":"IF(C20=0,\"\",IF(LEFT(D20,1)=\"F\",H20*100,H20*RTD(\"cqg.rtd\",,\"ContractData\",D20,\"Delta\",,\"T\")))","v":""},{"$f":"IF(C20=1,RTD(\"cqg.rtd\", ,\"ContractData\",D20, \"Gamma\",, \"T\"),\"\")","v":""},{"$f":"IF(C20=1,IF(H20<0,-1*RTD(\"cqg.rtd\", ,\"ContractData\",D20, \"Theta\",, \"T\"),RTD(\"cqg.rtd\", ,\"ContractData\",D20, \"Theta\",, \"T\")),\"\")","v":""},{"$f":"IF(C20=0,\"\",IF(LEFT(D20,1)=\"F\",(RTD(\"cqg.rtd\",,\"ContractData\",D20,\"ExpirationDate\",,\"T\")-TODAY()),RTD(\"cqg.rtd\",,\"ContractData\",D20,\"OptionDaysToExp\",,\"T\")))","v":""}]
["TMLastBid","TMLastAsk",{"$f":"IF(LOOKUP(16,Second!A1:A448)<>16,0,1)","v":0},{"$f":"IF(C21=1,VLOOKUP(Second!I16,INDIRECT($A$2),2),\"\")","v":""},null,null,"",{"$f":"IF(C21=1,RTD(\"cqg.rtd\", ,\"OrderData\", \"\"&D21&\"\", \"\", \"OpenPosition\",\"\"&$D$3&\"\"),\"\")","v":""},{"$f":"IF(C21=1,RTD(\"cqg.rtd\", ,\"OrderData\",\"\"&D21&\"\", \"\", \"OpenTradeEquity\",\"\"&$D$3&\"\"),\"\")","v":""},null,{"$f":"IF(C21=0,\"\",IF($D$1=\"B\",RTD(\"cqg.rtd\", ,\"ContractData\",D21, \"LastTrade\",,\"B\"),TEXT(RTD(\"cqg.rtd\", ,\"ContractData\",D21, \"LastTrade\",, \"T\"),$D$1)))","v":""},{"$f":"IF(RTD(\"cqg.rtd\",,\"ContractData\",D21,\"LastTrade\",,\"T\")<RTD(\"cqg.rtd\",,\"ContractData\",D21,\"Bid\",,\"T\"),1,IF(RTD(\"cqg.rtd\",,\"ContractData\",D21,\"LastTrade\",,\"T\")>RTD(\"cqg.rtd\",,\"ContractData\",D21,\"Ask\",,\"T\"),1,0))","v":0},{"$f":"IF(C21=1,RTD(\"cqg.rtd\", ,\"ContractData\",D21, \"TMLastTrade\",, \"T\"),\"\")","v":""},"",{"$f":"IF(C21=1,RTD(\"cqg.rtd\", ,\"ContractData\",D21, \"MT_LastBidVolume\",, \"T\"),\"\")","v":""},{"$f":"IF(C21=0,\"\",IF($D$1=\"B\",RTD(\"cqg.rtd\", ,\"ContractData\",D21, \"Bid\",,\"B\"),TEXT(RTD(\"cqg.rtd\", ,\"ContractData\",D21, \"Bid\",, \"T\"),$D$1)))","v":""},0,{"$f":"IF(C21=0,\"\",IF(LEFT(D21,1)=\"F\",\"\",IF($D$1=\"B\",RTD(\"cqg.rtd\", ,\"ContractData\",D21, \"TheoreticalValue\",,\"B\"),TEXT(RTD(\"cqg.rtd\", ,\"ContractData\",D21, \"TheoreticalValue\",, \"T\"),$D$1))))","v":""},0,{"$f":"IF(C21=0,\"\",IF($D$1=\"B\",RTD(\"cqg.rtd\", ,\"ContractData\",D21, \"Ask\",,\"B\"),TEXT(RTD(\"cqg.rtd\", ,\"ContractData\",D21, \"Ask\",, \"T\"),$D$1)))","v":""},{"$f":"IF(C21=1,RTD(\"cqg.rtd\", ,\"ContractData\",D21, \"MT_LastAskVolume\",, \"T\"),\"\")","v":""},"",null,null,{"$f":"IF(C21=1,RTD(\"cqg.rtd\", ,\"ContractData\",D21, \"T_CVol\",, \"T\"),\"\")","v":""},{"$f":"IF(C21=1,RTD(\"cqg.rtd\", ,\"ContractData\",D21, \"COI\",, \"T\"),\"\")","v":""},{"$f":"IF(C21=1,RTD(\"cqg.rtd\", ,\"ContractData\",D21, \"ImpliedVolatility\",, \"T\"),\"\")","v":""},{"$f":"IF(C21=1,RTD(\"cqg.rtd\", ,\"ContractData\",D21, \"Vega\",, \"T\"),\"\")","v":""},{"$f":"IF(C21=0,\"\",IF(LEFT(D21,1)=\"F\",H21*100,H21*RTD(\"cqg.rtd\",,\"ContractData\",D21,\"Delta\",,\"T\")))","v":""},{"$f":"IF(C21=1,RTD(\"cqg.rtd\", ,\"ContractData\",D21, \"Gamma\",, \"T\"),\"\")","v":""},{"$f":"IF(C21=1,IF(H21<0,-1*RTD(\"cqg.rtd\", ,\"ContractData\",D21, \"Theta\",, \"T\"),RTD(\"cqg.rtd\", ,\"ContractData\",D21, \"Theta\",, \"T\")),\"\")","v":""},{"$f":"IF(C21=0,\"\",IF(LEFT(D21,1)=\"F\",(RTD(\"cqg.rtd\",,\"ContractData\",D21,\"ExpirationDate\",,\"T\")-TODAY()),RTD(\"cqg.rtd\",,\"ContractData\",D21,\"OptionDaysToExp\",,\"T\")))","v":""}]
["TMLastBid","TMLastAsk",{"$f":"IF(LOOKUP(17,Second!A1:A448)<>17,0,1)","v":0},{"$f":"IF(C22=1,VLOOKUP(Second!I17,INDIRECT($A$2),2),\"\")","v":""},null,null,"",{"$f":"IF(C22=1,RTD(\"cqg.rtd\", ,\"OrderData\", \"\"&D22&\"\", \"\", \"OpenPosition\",\"\"&$D$3&\"\"),\"\")","v":""},{"$f":"IF(C22=1,RTD(\"cqg.rtd\", ,\"OrderData\",\"\"&D22&\"\", \"\", \"OpenTradeEquity\",\"\"&$D$3&\"\"),\"\")","v":""},null,{"$f":"IF(C22=0,\"\",IF($D$1=\"B\",RTD(\"cqg.rtd\", ,\"ContractData\",D22, \"LastTrade\",,\"B\"),TEXT(RTD(\"cqg.rtd\", ,\"ContractData\",D22, \"LastTrade\",, \"T\"),$D$1)))","v":""},{"$f":"IF(RTD(\"cqg.rtd\",,\"ContractData\",D22,\"LastTrade\",,\"T\")<RTD(\"cqg.rtd\",,\"ContractData\",D22,\"Bid\",,\"T\"),1,IF(RTD(\"cqg.rtd\",,\"ContractData\",D22,\"LastTrade\",,\"T\")>RTD(\"cqg.rtd\",,\"ContractData\",D22,\"Ask\",,\"T\"),1,0))","v":0},{"$f":"IF(C22=1,RTD(\"cqg.rtd\", ,\"ContractData\",D22, \"TMLastTrade\",, \"T\"),\"\")","v":""},"",{"$f":"IF(C22=1,RTD(\"cqg.rtd\", ,\"ContractData\",D22, \"MT_LastBidVolume\",, \"T\"),\"\")","v":""},{"$f":"IF(C22=0,\"\",IF($D$1=\"B\",RTD(\"cqg.rtd\", ,\"ContractData\",D22, \"Bid\",,\"B\"),TEXT(RTD(\"cqg.rtd\", ,\"ContractData\",D22, \"Bid\",, \"T\"),$D$1)))","v":""},0,{"$f":"IF(C22=0,\"\",IF(LEFT(D22,1)=\"F\",\"\",IF($D$1=\"B\",RTD(\"cqg.rtd\", ,\"ContractData\",D22, \"TheoreticalValue\",,\"B\"),TEXT(RTD(\"cqg.rtd\", ,\"ContractData\",D22, \"TheoreticalValue\",, \"T\"),$D$1))))","v":""},0,{"$f":"IF(C22=0,\"\",IF($D$1=\"B\",RTD(\"cqg.rtd\", ,\"ContractData\",D22, \"Ask\",,\"B\"),TEXT(RTD(\"cqg.rtd\", ,\"ContractData\",D22, \"Ask\",, \"T\"),$D$1)))","v":""},{"$f":"IF(C22=1,RTD(\"cqg.rtd\", ,\"ContractData\",D22, \"MT_LastAskVolume\",, \"T\"),\"\")","v":""},"",null,null,{"$f":"IF(C22=1,RTD(\"cqg.rtd\", ,\"ContractData\",D22, \"T_CVol\",, \"T\"),\"\")","v":""},{"$f":"IF(C22=1,RTD(\"cqg.rtd\", ,\"ContractData\",D22, \"COI\",, \"T\"),\"\")","v":""},{"$f":"IF(C22=1,RTD(\"cqg.rtd\", ,\"ContractData\",D22, \"ImpliedVolatility\",, \"T\"),\"\")","v":""},{"$f":"IF(C22=1,RTD(\"cqg.rtd\", ,\"ContractData\",D22, \"Vega\",, \"T\"),\"\")","v":""},{"$f":"IF(C22=0,\"\",IF(LEFT(D22,1)=\"F\",H22*100,H22*RTD(\"cqg.rtd\",,\"ContractData\",D22,\"Delta\",,\"T\")))","v":""},{"$f":"IF(C22=1,RTD(\"cqg.rtd\", ,\"ContractData\",D22, \"Gamma\",, \"T\"),\"\")","v":""},{"$f":"IF(C22=1,IF(H22<0,-1*RTD(\"cqg.rtd\", ,\"ContractData\",D22, \"Theta\",, \"T\"),RTD(\"cqg.rtd\", ,\"ContractData\",D22, \"Theta\",, \"T\")),\"\")","v":""},{"$f":"IF(C22=0,\"\",IF(LEFT(D22,1)=\"F\",(RTD(\"cqg.rtd\",,\"ContractData\",D22,\"ExpirationDate\",,\"T\")-TODAY()),RTD(\"cqg.rtd\",,\"ContractData\",D22,\"OptionDaysToExp\",,\"T\")))","v":""}]
["TMLastBid","TMLastAsk",{"$f":"IF(LOOKUP(18,Second!A1:A448)<>18,0,1)","v":0},{"$f":"IF(C23=1,VLOOKUP(Second!I18,INDIRECT($A$2),2),\"\")","v":""},null,null,"",{"$f":"IF(C23=1,RTD(\"cqg.rtd\", ,\"OrderData\", \"\"&D23&\"\", \"\", \"OpenPosition\",\"\"&$D$3&\"\"),\"\")","v":""},{"$f":"IF(C23=1,RTD(\"cqg.rtd\", ,\"OrderData\",\"\"&D23&\"\", \"\", \"OpenTradeEquity\",\"\"&$D$3&\"\"),\"\")","v":""},null,{"$f":"IF(C23=0,\"\",IF($D$1=\"B\",RTD(\"cqg.rtd\", ,\"ContractData\",D23, \"LastTrade\",,\"B\"),TEXT(RTD(\"cqg.rtd\", ,\"ContractData\",D23, \"LastTrade\",, \"T\"),$D$1)))","v":""},{"$f":"IF(RTD(\"cqg.rtd\",,\"ContractData\",D23,\"LastTrade\",,\"T\")<RTD(\"cqg.rtd\",,\"ContractData\",D23,\"Bid\",,\"T\"),1,IF(RTD(\"cqg.rtd\",,\"ContractData\",D23,\"LastTrade\",,\"T\")>RTD(\"cqg.rtd\",,\"ContractData\",D23,\"Ask\",,\"T\"),1,0))","v":0},{"$f":"IF(C23=1,RTD(\"cqg.rtd\", ,\"ContractData\",D23, \"TMLastTrade\",, \"T\"),\"\")","v":""},"",{"$f":"IF(C23=1,RTD(\"cqg.rtd\", ,\"ContractData\",D23, \"MT_LastBidVolume\",, \"T\"),\"\")","v":""},{"$f":"IF(C23=0,\"\",IF($D$1=\"B\",RTD(\"cqg.rtd\", ,\"ContractData\",D23, \"Bid\",,\"B\"),TEXT(RTD(\"cqg.rtd\", ,\"ContractData\",D23, \"Bid\",, \"T\"),$D$1)))","v":""},0,{"$f":"IF(C23=0,\"\",IF(LEFT(D23,1)=\"F\",\"\",IF($D$1=\"B\",RTD(\"cqg.rtd\", ,\"ContractData\",D23, \"TheoreticalValue\",,\"B\"),TEXT(RTD(\"cqg.rtd\", ,\"ContractData\",D23, \"TheoreticalValue\",, \"T\"),$D$1))))","v":""},0,{"$f":"IF(C23=0,\"\",IF($D$1=\"B\",RTD(\"cqg.rtd\", ,\"ContractData\",D23, \"Ask\",,\"B\"),TEXT(RTD(\"cqg.rtd\", ,\"ContractData\",D23, \"Ask\",, \"T\"),$D$1)))","v":""},{"$f":"IF(C23=1,RTD(\"cqg.rtd\", ,\"ContractData\",D23, \"MT_LastAskVolume\",, \"T\"),\"\")","v":""},"",null,null,{"$f":"IF(C23=1,RTD(\"cqg.rtd\", ,\"ContractData\",D23, \"T_CVol\",, \"T\"),\"\")","v":""},{"$f":"IF(C23=1,RTD(\"cqg.rtd\", ,\"ContractData\",D23, \"COI\",, \"T\"),\"\")","v":""},{"$f":"IF(C23=1,RTD(\"cqg.rtd\", ,\"ContractData\",D23, \"ImpliedVolatility\",, \"T\"),\"\")","v":""},{"$f":"IF(C23=1,RTD(\"cqg.rtd\", ,\"ContractData\",D23, \"Vega\",, \"T\"),\"\")","v":""},{"$f":"IF(C23=0,\"\",IF(LEFT(D23,1)=\"F\",H23*100,H23*RTD(\"cqg.rtd\",,\"ContractData\",D23,\"Delta\",,\"T\")))","v":""},{"$f":"IF(C23=1,RTD(\"cqg.rtd\", ,\"ContractData\",D23, \"Gamma\",, \"T\"),\"\")","v":""},{"$f":"IF(C23=1,IF(H23<0,-1*RTD(\"cqg.rtd\", ,\"ContractData\",D23, \"Theta\",, \"T\"),RTD(\"cqg.rtd\", ,\"ContractData\",D23, \"Theta\",, \"T\")),\"\")","v":""},{"$f":"IF(C23=0,\"\",IF(LEFT(D23,1)=\"F\",(RTD(\"cqg.rtd\",,\"ContractData\",D23,\"ExpirationDate\",,\"T\")-TODAY()),RTD(\"cqg.rtd\",,\"ContractData\",D23,\"OptionDaysToExp\",,\"T\")))","v":""}]
["TMLastBid","TMLastAsk",{"$f":"IF(LOOKUP(19,Second!A1:A448)<>19,0,1)","v":0},{"$f":"IF(C24=1,VLOOKUP(Second!I19,INDIRECT($A$2),2),\"\")","v":""},null,null,"",{"$f":"IF(C24=1,RTD(\"cqg.rtd\", ,\"OrderData\", \"\"&D24&\"\", \"\", \"OpenPosition\",\"\"&$D$3&\"\"),\"\")","v":""},{"$f":"IF(C24=1,RTD(\"cqg.rtd\", ,\"OrderData\",\"\"&D24&\"\", \"\", \"OpenTradeEquity\",\"\"&$D$3&\"\"),\"\")","v":""},null,{"$f":"IF(C24=0,\"\",IF($D$1=\"B\",RTD(\"cqg.rtd\", ,\"ContractData\",D24, \"LastTrade\",,\"B\"),TEXT(RTD(\"cqg.rtd\", ,\"ContractData\",D24, \"LastTrade\",, \"T\"),$D$1)))","v":""},{"$f":"IF(RTD(\"cqg.rtd\",,\"ContractData\",D24,\"LastTrade\",,\"T\")<RTD(\"cqg.rtd\",,\"ContractData\",D24,\"Bid\",,\"T\"),1,IF(RTD(\"cqg.rtd\",,\"ContractData\",D24,\"LastTrade\",,\"T\")>RTD(\"cqg.rtd\",,\"ContractData\",D24,\"Ask\",,\"T\"),1,0))","v":0},{"$f":"IF(C24=1,RTD(\"cqg.rtd\", ,\"ContractData\",D24, \"TMLastTrade\",, \"T\"),\"\")","v":""},"",{"$f":"IF(C24=1,RTD(\"cqg.rtd\", ,\"ContractData\",D24, \"MT_LastBidVolume\",, \"T\"),\"\")","v":""},{"$f":"IF(C24=0,\"\",IF($D$1=\"B\",RTD(\"cqg.rtd\", ,\"ContractData\",D24, \"Bid\",,\"B\"),TEXT(RTD(\"cqg.rtd\", ,\"ContractData\",D24, \"Bid\",, \"T\"),$D$1)))","v":""},0,{"$f":"IF(C24=0,\"\",IF(LEFT(D24,1)=\"F\",\"\",IF($D$1=\"B\",RTD(\"cqg.rtd\", ,\"ContractData\",D24, \"TheoreticalValue\",,\"B\"),TEXT(RTD(\"cqg.rtd\", ,\"ContractData\",D24, \"TheoreticalValue\",, \"T\"),$D$1))))","v":""},0,{"$f":"IF(C24=0,\"\",IF($D$1=\"B\",RTD(\"cqg.rtd\", ,\"ContractData\",D24, \"Ask\",,\"B\"),TEXT(RTD(\"cqg.rtd\", ,\"ContractData\",D24, \"Ask\",, \"T\"),$D$1)))","v":""},{"$f":"IF(C24=1,RTD(\"cqg.rtd\", ,\"ContractData\",D24, \"MT_LastAskVolume\",, \"T\"),\"\")","v":""},"",null,null,{"$f":"IF(C24=1,RTD(\"cqg.rtd\", ,\"ContractData\",D24, \"T_CVol\",, \"T\"),\"\")","v":""},{"$f":"IF(C24=1,RTD(\"cqg.rtd\", ,\"ContractData\",D24, \"COI\",, \"T\"),\"\")","v":""},{"$f":"IF(C24=1,RTD(\"cqg.rtd\", ,\"ContractData\",D24, \"ImpliedVolatility\",, \"T\"),\"\")","v":""},{"$f":"IF(C24=1,RTD(\"cqg.rtd\", ,\"ContractData\",D24, \"Vega\",, \"T\"),\"\")","v":""},{"$f":"IF(C24=0,\"\",IF(LEFT(D24,1)=\"F\",H24*100,H24*RTD(\"cqg.rtd\",,\"ContractData\",D24,\"Delta\",,\"T\")))","v":""},{"$f":"IF(C24=1,RTD(\"cqg.rtd\", ,\"ContractData\",D24, \"Gamma\",, \"T\"),\"\")","v":""},{"$f":"IF(C24=1,IF(H24<0,-1*RTD(\"cqg.rtd\", ,\"ContractData\",D24, \"Theta\",, \"T\"),RTD(\"cqg.rtd\", ,\"ContractData\",D24, \"Theta\",, \"T\")),\"\")","v":""},{"$f":"IF(C24=0,\"\",IF(LEFT(D24,1)=\"F\",(RTD(\"cqg.rtd\",,\"ContractData\",D24,\"ExpirationDate\",,\"T\")-TODAY()),RTD(\"cqg.rtd\",,\"ContractData\",D24,\"OptionDaysToExp\",,\"T\")))","v":""}]
["TMLastBid","TMLastAsk",{"$f":"IF(LOOKUP(20,Second!A1:A448)<>20,0,1)","v":0},{"$f":"IF(C25=1,VLOOKUP(Second!I20,INDIRECT($A$2),2),\"\")","v":""},null,null,"",{"$f":"IF(C25=1,RTD(\"cqg.rtd\", ,\"OrderData\", \"\"&D25&\"\", \"\", \"OpenPosition\",\"\"&$D$3&\"\"),\"\")","v":""},{"$f":"IF(C25=1,RTD(\"cqg.rtd\", ,\"OrderData\",\"\"&D25&\"\", \"\", \"OpenTradeEquity\",\"\"&$D$3&\"\"),\"\")","v":""},null,{"$f":"IF(C25=0,\"\",IF($D$1=\"B\",RTD(\"cqg.rtd\", ,\"ContractData\",D25, \"LastTrade\",,\"B\"),TEXT(RTD(\"cqg.rtd\", ,\"ContractData\",D25, \"LastTrade\",, \"T\"),$D$1)))","v":""},{"$f":"IF(RTD(\"cqg.rtd\",,\"ContractData\",D25,\"LastTrade\",,\"T\")<RTD(\"cqg.rtd\",,\"ContractData\",D25,\"Bid\",,\"T\"),1,IF(RTD(\"cqg.rtd\",,\"ContractData\",D25,\"LastTrade\",,\"T\")>RTD(\"cqg.rtd\",,\"ContractData\",D25,\"Ask\",,\"T\"),1,0))","v":0},{"$f":"IF(C25=1,RTD(\"cqg.rtd\", ,\"ContractData\",D25, \"TMLastTrade\",, \"T\"),\"\")","v":""},"",{"$f":"IF(C25=1,RTD(\"cqg.rtd\", ,\"ContractData\",D25, \"MT_LastBidVolume\",, \"T\"),\"\")","v":""},{"$f":"IF(C25=0,\"\",IF($D$1=\"B\",RTD(\"cqg.rtd\", ,\"ContractData\",D25, \"Bid\",,\"B\"),TEXT(RTD(\"cqg.rtd\", ,\"ContractData\",D25, \"Bid\",, \"T\"),$D$1)))","v":""},0,{"$f":"IF(C25=0,\"\",IF(LEFT(D25,1)=\"F\",\"\",IF($D$1=\"B\",RTD(\"cqg.rtd\", ,\"ContractData\",D25, \"TheoreticalValue\",,\"B\"),TEXT(RTD(\"cqg.rtd\", ,\"ContractData\",D25, \"TheoreticalValue\",, \"T\"),$D$1))))","v":""},0,{"$f":"IF(C25=0,\"\",IF($D$1=\"B\",RTD(\"cqg.rtd\", ,\"ContractData\",D25, \"Ask\",,\"B\"),TEXT(RTD(\"cqg.rtd\", ,\"ContractData\",D25, \"Ask\",, \"T\"),$D$1)))","v":""},{"$f":"IF(C25=1,RTD(\"cqg.rtd\", ,\"ContractData\",D25, \"MT_LastAskVolume\",, \"T\"),\"\")","v":""},"",null,null,{"$f":"IF(C25=1,RTD(\"cqg.rtd\", ,\"ContractData\",D25, \"T_CVol\",, \"T\"),\"\")","v":""},{"$f":"IF(C25=1,RTD(\"cqg.rtd\", ,\"ContractData\",D25, \"COI\",, \"T\"),\"\")","v":""},{"$f":"IF(C25=1,RTD(\"cqg.rtd\", ,\"ContractData\",D25, \"ImpliedVolatility\",, \"T\"),\"\")","v":""},{"$f":"IF(C25=1,RTD(\"cqg.rtd\", ,\"ContractData\",D25, \"Vega\",, \"T\"),\"\")","v":""},{"$f":"IF(C25=0,\"\",IF(LEFT(D25,1)=\"F\",H25*100,H25*RTD(\"cqg.rtd\",,\"ContractData\",D25,\"Delta\",,\"T\")))","v":""},{"$f":"IF(C25=1,RTD(\"cqg.rtd\", ,\"ContractData\",D25, \"Gamma\",, \"T\"),\"\")","v":""},{"$f":"IF(C25=1,IF(H25<0,-1*RTD(\"cqg.rtd\", ,\"ContractData\",D25, \"Theta\",, \"T\"),RTD(\"cqg.rtd\", ,\"ContractData\",D25, \"Theta\",, \"T\")),\"\")","v":""},{"$f":"IF(C25=0,\"\",IF(LEFT(D25,1)=\"F\",(RTD(\"cqg.rtd\",,\"ContractData\",D25,\"ExpirationDate\",,\"T\")-TODAY()),RTD(\"cqg.rtd\",,\"ContractData\",D25,\"OptionDaysToExp\",,\"T\")))","v":""}]
["TMLastBid","TMLastAsk",{"$f":"IF(LOOKUP(21,Second!A1:A448)<>21,0,1)","v":0},{"$f":"IF(C26=1,VLOOKUP(Second!I21,INDIRECT($A$2),2),\"\")","v":""},null,null,"",{"$f":"IF(C26=1,RTD(\"cqg.rtd\", ,\"OrderData\", \"\"&D26&\"\", \"\", \"OpenPosition\",\"\"&$D$3&\"\"),\"\")","v":""},{"$f":"IF(C26=1,RTD(\"cqg.rtd\", ,\"OrderData\",\"\"&D26&\"\", \"\", \"OpenTradeEquity\",\"\"&$D$3&\"\"),\"\")","v":""},null,{"$f":"IF(C26=0,\"\",IF($D$1=\"B\",RTD(\"cqg.rtd\", ,\"ContractData\",D26, \"LastTrade\",,\"B\"),TEXT(RTD(\"cqg.rtd\", ,\"ContractData\",D26, \"LastTrade\",, \"T\"),$D$1)))","v":""},{"$f":"IF(RTD(\"cqg.rtd\",,\"ContractData\",D26,\"LastTrade\",,\"T\")<RTD(\"cqg.rtd\",,\"ContractData\",D26,\"Bid\",,\"T\"),1,IF(RTD(\"cqg.rtd\",,\"ContractData\",D26,\"LastTrade\",,\"T\")>RTD(\"cqg.rtd\",,\"ContractData\",D26,\"Ask\",,\"T\"),1,0))","v":0},{"$f":"IF(C26=1,RTD(\"cqg.rtd\", ,\"ContractData\",D26, \"TMLastTrade\",, \"T\"),\"\")","v":""},"",{"$f":"IF(C26=1,RTD(\"cqg.rtd\", ,\"ContractData\",D26, \"MT_LastBidVolume\",, \"T\"),\"\")","v":""},{"$f":"IF(C26=0,\"\",IF($D$1=\"B\",RTD(\"cqg.rtd\", ,\"ContractData\",D26, \"Bid\",,\"B\"),TEXT(RTD(\"cqg.rtd\", ,\"ContractData\",D26, \"Bid\",, \"T\"),$D$1)))","v":""},0,{"$f":"IF(C26=0,\"\",IF(LEFT(D26,1)=\"F\",\"\",IF($D$1=\"B\",RTD(\"cqg.rtd\", ,\"ContractData\",D26, \"TheoreticalValue\",,\"B\"),TEXT(RTD(\"cqg.rtd\", ,\"ContractData\",D26, \"TheoreticalValue\",, \"T\"),$D$1))))","v":""},0,{"$f":"IF(C26=0,\"\",IF($D$1=\"B\",RTD(\"cqg.rtd\", ,\"ContractData\",D26, \"Ask\",,\"B\"),TEXT(RTD(\"cqg.rtd\", ,\"ContractData\",D26, \"Ask\",, \"T\"),$D$1)))","v":""},{"$f":"IF(C26=1,RTD(\"cqg.rtd\", ,\"ContractData\",D26, \"MT_LastAskVolume\",, \"T\"),\"\")","v":""},"",null,null,{"$f":"IF(C26=1,RTD(\"cqg.rtd\", ,\"ContractData\",D26, \"T_CVol\",, \"T\"),\"\")","v":""},{"$f":"IF(C26=1,RTD(\"cqg.rtd\", ,\"ContractData\",D26, \"COI\",, \"T\"),\"\")","v":""},{"$f":"IF(C26=1,RTD(\"cqg.rtd\", ,\"ContractData\",D26, \"ImpliedVolatility\",, \"T\"),\"\")","v":""},{"$f":"IF(C26=1,RTD(\"cqg.rtd\", ,\"ContractData\",D26, \"Vega\",, \"T\"),\"\")","v":""},{"$f":"IF(C26=0,\"\",IF(LEFT(D26,1)=\"F\",H26*100,H26*RTD(\"cqg.rtd\",,\"ContractData\",D26,\"Delta\",,\"T\")))","v":""},{"$f":"IF(C26=1,RTD(\"cqg.rtd\", ,\"ContractData\",D26, \"Gamma\",, \"T\"),\"\")","v":""},{"$f":"IF(C26=1,IF(H26<0,-1*RTD(\"cqg.rtd\", ,\"ContractData\",D26, \"Theta\",, \"T\"),RTD(\"cqg.rtd\", ,\"ContractData\",D26, \"Theta\",, \"T\")),\"\")","v":""},{"$f":"IF(C26=0,\"\",IF(LEFT(D26,1)=\"F\",(RTD(\"cqg.rtd\",,\"ContractData\",D26,\"ExpirationDate\",,\"T\")-TODAY()),RTD(\"cqg.rtd\",,\"ContractData\",D26,\"OptionDaysToExp\",,\"T\")))","v":""}]
["TMLastBid","TMLastAsk",{"$f":"IF(LOOKUP(22,Second!A1:A448)<>22,0,1)","v":0},{"$f":"IF(C27=1,VLOOKUP(Second!I22,INDIRECT($A$2),2),\"\")","v":""},null,null,"",{"$f":"IF(C27=1,RTD(\"cqg.rtd\", ,\"OrderData\", \"\"&D27&\"\", \"\", \"OpenPosition\",\"\"&$D$3&\"\"),\"\")","v":""},{"$f":"IF(C27=1,RTD(\"cqg.rtd\", ,\"OrderData\",\"\"&D27&\"\", \"\", \"OpenTradeEquity\",\"\"&$D$3&\"\"),\"\")","v":""},null,{"$f":"IF(C27=0,\"\",IF($D$1=\"B\",RTD(\"cqg.rtd\", ,\"ContractData\",D27, \"LastTrade\",,\"B\"),TEXT(RTD(\"cqg.rtd\", ,\"ContractData\",D27, \"LastTrade\",, \"T\"),$D$1)))","v":""},{"$f":"IF(RTD(\"cqg.rtd\",,\"ContractData\",D27,\"LastTrade\",,\"T\")<RTD(\"cqg.rtd\",,\"ContractData\",D27,\"Bid\",,\"T\"),1,IF(RTD(\"cqg.rtd\",,\"ContractData\",D27,\"LastTrade\",,\"T\")>RTD(\"cqg.rtd\",,\"ContractData\",D27,\"Ask\",,\"T\"),1,0))","v":0},{"$f":"IF(C27=1,RTD(\"cqg.rtd\", ,\"ContractData\",D27, \"TMLastTrade\",, \"T\"),\"\")","v":""},"",{"$f":"IF(C27=1,RTD(\"cqg.rtd\", ,\"ContractData\",D27, \"MT_LastBidVolume\",, \"T\"),\"\")","v":""},{"$f":"IF(C27=0,\"\",IF($D$1=\"B\",RTD(\"cqg.rtd\", ,\"ContractData\",D27, \"Bid\",,\"B\"),TEXT(RTD(\"cqg.rtd\", ,\"ContractData\",D27, \"Bid\",, \"T\"),$D$1)))","v":""},0,{"$f":"IF(C27=0,\"\",IF(LEFT(D27,1)=\"F\",\"\",IF($D$1=\"B\",RTD(\"cqg.rtd\", ,\"ContractData\",D27, \"TheoreticalValue\",,\"B\"),TEXT(RTD(\"cqg.rtd\", ,\"ContractData\",D27, \"TheoreticalValue\",, \"T\"),$D$1))))","v":""},0,{"$f":"IF(C27=0,\"\",IF($D$1=\"B\",RTD(\"cqg.rtd\", ,\"ContractData\",D27, \"Ask\",,\"B\"),TEXT(RTD(\"cqg.rtd\", ,\"ContractData\",D27, \"Ask\",, \"T\"),$D$1)))","v":""},{"$f":"IF(C27=1,RTD(\"cqg.rtd\", ,\"ContractData\",D27, \"MT_LastAskVolume\",, \"T\"),\"\")","v":""},"",null,null,{"$f":"IF(C27=1,RTD(\"cqg.rtd\", ,\"ContractData\",D27, \"T_CVol\",, \"T\"),\"\")","v":""},{"$f":"IF(C27=1,RTD(\"cqg.rtd\", ,\"ContractData\",D27, \"COI\",, \"T\"),\"\")","v":""},{"$f":"IF(C27=1,RTD(\"cqg.rtd\", ,\"ContractData\",D27, \"ImpliedVolatility\",, \"T\"),\"\")","v":""},{"$f":"IF(C27=1,RTD(\"cqg.rtd\", ,\"ContractData\",D27, \"Vega\",, \"T\"),\"\")","v":""},{"$f":"IF(C27=0,\"\",IF(LEFT(D27,1)=\"F\",H27*100,H27*RTD(\"cqg.rtd\",,\"ContractData\",D27,\"Delta\",,\"T\")))","v":""},{"$f":"IF(C27=1,RTD(\"cqg.rtd\", ,\"ContractData\",D27, \"Gamma\",, \"T\"),\"\")","v":""},{"$f":"IF(C27=1,IF(H27<0,-1*RTD(\"cqg.rtd\", ,\"ContractData\",D27, \"Theta\",, \"T\"),RTD(\"cqg.rtd\", ,\"ContractData\",D27, \"Theta\",, \"T\")),\"\")","v":""},{"$f":"IF(C27=0,\"\",IF(LEFT(D27,1)=\"F\",(RTD(\"cqg.rtd\",,\"ContractData\",D27,\"ExpirationDate\",,\"T\")-TODAY()),RTD(\"cqg.rtd\",,\"ContractData\",D27,\"OptionDaysToExp\",,\"T\")))","v":""}]
["TMLastBid","TMLastAsk",{"$f":"IF(LOOKUP(23,Second!A1:A448)<>23,0,1)","v":0},{"$f":"IF(C28=1,VLOOKUP(Second!I23,INDIRECT($A$2),2),\"\")","v":""},null,null,"",{"$f":"IF(C28=1,RTD(\"cqg.rtd\", ,\"OrderData\", \"\"&D28&\"\", \"\", \"OpenPosition\",\"\"&$D$3&\"\"),\"\")","v":""},{"$f":"IF(C28=1,RTD(\"cqg.rtd\", ,\"OrderData\",\"\"&D28&\"\", \"\", \"OpenTradeEquity\",\"\"&$D$3&\"\"),\"\")","v":""},null,{"$f":"IF(C28=0,\"\",IF($D$1=\"B\",RTD(\"cqg.rtd\", ,\"ContractData\",D28, \"LastTrade\",,\"B\"),TEXT(RTD(\"cqg.rtd\", ,\"ContractData\",D28, \"LastTrade\",, \"T\"),$D$1)))","v":""},{"$f":"IF(RTD(\"cqg.rtd\",,\"ContractData\",D28,\"LastTrade\",,\"T\")<RTD(\"cqg.rtd\",,\"ContractData\",D28,\"Bid\",,\"T\"),1,IF(RTD(\"cqg.rtd\",,\"ContractData\",D28,\"LastTrade\",,\"T\")>RTD(\"cqg.rtd\",,\"ContractData\",D28,\"Ask\",,\"T\"),1,0))","v":0},{"$f":"IF(C28=1,RTD(\"cqg.rtd\", ,\"ContractData\",D28, \"TMLastTrade\",, \"T\"),\"\")","v":""},"",{"$f":"IF(C28=1,RTD(\"cqg.rtd\", ,\"ContractData\",D28, \"MT_LastBidVolume\",, \"T\"),\"\")","v":""},{"$f":"IF(C28=0,\"\",IF($D$1=\"B\",RTD(\"cqg.rtd\", ,\"ContractData\",D28, \"Bid\",,\"B\"),TEXT(RTD(\"cqg.rtd\", ,\"ContractData\",D28, \"Bid\",, \"T\"),$D$1)))","v":""},0,{"$f":"IF(C28=0,\"\",IF(LEFT(D28,1)=\"F\",\"\",IF($D$1=\"B\",RTD(\"cqg.rtd\", ,\"ContractData\",D28, \"TheoreticalValue\",,\"B\"),TEXT(RTD(\"cqg.rtd\", ,\"ContractData\",D28, \"TheoreticalValue\",, \"T\"),$D$1))))","v":""},0,{"$f":"IF(C28=0,\"\",IF($D$1=\"B\",RTD(\"cqg.rtd\", ,\"ContractData\",D28, \"Ask\",,\"B\"),TEXT(RTD(\"cqg.rtd\", ,\"ContractData\",D28, \"Ask\",, \"T\"),$D$1)))","v":""},{"$f":"IF(C28=1,RTD(\"cqg.rtd\", ,\"ContractData\",D28, \"MT_LastAskVolume\",, \"T\"),\"\")","v":""},"",null,null,{"$f":"IF(C28=1,RTD(\"cqg.rtd\", ,\"ContractData\",D28, \"T_CVol\",, \"T\"),\"\")","v":""},{"$f":"IF(C28=1,RTD(\"cqg.rtd\", ,\"ContractData\",D28, \"COI\",, \"T\"),\"\")","v":""},{"$f":"IF(C28=1,RTD(\"cqg.rtd\", ,\"ContractData\",D28, \"ImpliedVolatility\",, \"T\"),\"\")","v":""},{"$f":"IF(C28=1,RTD(\"cqg.rtd\", ,\"ContractData\",D28, \"Vega\",, \"T\"),\"\")","v":""},{"$f":"IF(C28=0,\"\",IF(LEFT(D28,1)=\"F\",H28*100,H28*RTD(\"cqg.rtd\",,\"ContractData\",D28,\"Delta\",,\"T\")))","v":""},{"$f":"IF(C28=1,RTD(\"cqg.rtd\", ,\"ContractData\",D28, \"Gamma\",, \"T\"),\"\")","v":""},{"$f":"IF(C28=1,IF(H28<0,-1*RTD(\"cqg.rtd\", ,\"ContractData\",D28, \"Theta\",, \"T\"),RTD(\"cqg.rtd\", ,\"ContractData\",D28, \"Theta\",, \"T\")),\"\")","v":""},{"$f":"IF(C28=0,\"\",IF(LEFT(D28,1)=\"F\",(RTD(\"cqg.rtd\",,\"ContractData\",D28,\"ExpirationDate\",,\"T\")-TODAY()),RTD(\"cqg.rtd\",,\"ContractData\",D28,\"OptionDaysToExp\",,\"T\")))","v":""}]
["TMLastBid","TMLastAsk",{"$f":"IF(LOOKUP(24,Second!A1:A448)<>24,0,1)","v":0},{"$f":"IF(C29=1,VLOOKUP(Second!I24,INDIRECT($A$2),2),\"\")","v":""},null,null,"",{"$f":"IF(C29=1,RTD(\"cqg.rtd\", ,\"OrderData\", \"\"&D29&\"\", \"\", \"OpenPosition\",\"\"&$D$3&\"\"),\"\")","v":""},{"$f":"IF(C29=1,RTD(\"cqg.rtd\", ,\"OrderData\",\"\"&D29&\"\", \"\", \"OpenTradeEquity\",\"\"&$D$3&\"\"),\"\")","v":""},null,{"$f":"IF(C29=0,\"\",IF($D$1=\"B\",RTD(\"cqg.rtd\", ,\"ContractData\",D29, \"LastTrade\",,\"B\"),TEXT(RTD(\"cqg.rtd\", ,\"ContractData\",D29, \"LastTrade\",, \"T\"),$D$1)))","v":""},{"$f":"IF(RTD(\"cqg.rtd\",,\"ContractData\",D29,\"LastTrade\",,\"T\")<RTD(\"cqg.rtd\",,\"ContractData\",D29,\"Bid\",,\"T\"),1,IF(RTD(\"cqg.rtd\",,\"ContractData\",D29,\"LastTrade\",,\"T\")>RTD(\"cqg.rtd\",,\"ContractData\",D29,\"Ask\",,\"T\"),1,0))","v":0},{"$f":"IF(C29=1,RTD(\"cqg.rtd\", ,\"ContractData\",D29, \"TMLastTrade\",, \"T\"),\"\")","v":""},"",{"$f":"IF(C29=1,RTD(\"cqg.rtd\", ,\"ContractData\",D29, \"MT_LastBidVolume\",, \"T\"),\"\")","v":""},{"$f":"IF(C29=0,\"\",IF($D$1=\"B\",RTD(\"cqg.rtd\", ,\"ContractData\",D29, \"Bid\",,\"B\"),TEXT(RTD(\"cqg.rtd\", ,\"ContractData\",D29, \"Bid\",, \"T\"),$D$1)))","v":""},0,{"$f":"IF(C29=0,\"\",IF(LEFT(D29,1)=\"F\",\"\",IF($D$1=\"B\",RTD(\"cqg.rtd\", ,\"ContractData\",D29, \"TheoreticalValue\",,\"B\"),TEXT(RTD(\"cqg.rtd\", ,\"ContractData\",D29, \"TheoreticalValue\",, \"T\"),$D$1))))","v":""},0,{"$f":"IF(C29=0,\"\",IF($D$1=\"B\",RTD(\"cqg.rtd\", ,\"ContractData\",D29, \"Ask\",,\"B\"),TEXT(RTD(\"cqg.rtd\", ,\"ContractData\",D29, \"Ask\",, \"T\"),$D$1)))","v":""},{"$f":"IF(C29=1,RTD(\"cqg.rtd\", ,\"ContractData\",D29, \"MT_LastAskVolume\",, \"T\"),\"\")","v":""},"",null,null,{"$f":"IF(C29=1,RTD(\"cqg.rtd\", ,\"ContractData\",D29, \"T_CVol\",, \"T\"),\"\")","v":""},{"$f":"IF(C29=1,RTD(\"cqg.rtd\", ,\"ContractData\",D29, \"COI\",, \"T\"),\"\")","v":""},{"$f":"IF(C29=1,RTD(\"cqg.rtd\", ,\"ContractData\",D29, \"ImpliedVolatility\",, \"T\"),\"\")","v":""},{"$f":"IF(C29=1,RTD(\"cqg.rtd\", ,\"ContractData\",D29, \"Vega\",, \"T\"),\"\")","v":""},{"$f":"IF(C29=0,\"\",IF(LEFT(D29,1)=\"F\",H29*100,H29*RTD(\"cqg.rtd\",,\"ContractData\",D29,\"Delta\",,\"T\")))","v":""},{"$f":"IF(C29=1,RTD(\"cqg.rtd\", ,\"ContractData\",D29, \"Gamma\",, \"T\"),\"\")","v":""},{"$f":"IF(C29=1,IF(H29<0,-1*RTD(\"cqg.rtd\", ,\"ContractData\",D29, \"Theta\",, \"T\"),RTD(\"cqg.rtd\", ,\"ContractData\",D29, \"Theta\",, \"T\")),\"\")","v":""},{"$f":"IF(C29=0,\"\",IF(LEFT(D29,1)=\"F\",(RTD(\"cqg.rtd\",,\"ContractData\",D29,\"ExpirationDate\",,\"T\")-TODAY()),RTD(\"cqg.rtd\",,\"ContractData\",D29,\"OptionDaysToExp\",,\"T\")))","v":""}]
["TMLastBid","TMLastAsk",{"$f":"IF(LOOKUP(25,Second!A1:A448)<>25,0,1)","v":0},{"$f":"IF(C30=1,VLOOKUP(Second!I25,INDIRECT($A$2),2),\"\")","v":""},null,null,"",{"$f":"IF(C30=1,RTD(\"cqg.rtd\", ,\"OrderData\", \"\"&D30&\"\", \"\", \"OpenPosition\",\"\"&$D$3&\"\"),\"\")","v":""},{"$f":"IF(C30=1,RTD(\"cqg.rtd\", ,\"OrderData\",\"\"&D30&\"\", \"\", \"OpenTradeEquity\",\"\"&$D$3&\"\"),\"\")","v":""},null,{"$f":"IF(C30=0,\"\",IF($D$1=\"B\",RTD(\"cqg.rtd\", ,\"ContractData\",D30, \"LastTrade\",,\"B\"),TEXT(RTD(\"cqg.rtd\", ,\"ContractData\",D30, \"LastTrade\",, \"T\"),$D$1)))","v":""},{"$f":"IF(RTD(\"cqg.rtd\",,\"ContractData\",D30,\"LastTrade\",,\"T\")<RTD(\"cqg.rtd\",,\"ContractData\",D30,\"Bid\",,\"T\"),1,IF(RTD(\"cqg.rtd\",,\"ContractData\",D30,\"LastTrade\",,\"T\")>RTD(\"cqg.rtd\",,\"ContractData\",D30,\"Ask\",,\"T\"),1,0))","v":0},{"$f":"IF(C30=1,RTD(\"cqg.rtd\", ,\"ContractData\",D30, \"TMLastTrade\",, \"T\"),\"\")","v":""},"",{"$f":"IF(C30=1,RTD(\"cqg.rtd\", ,\"ContractData\",D30, \"MT_LastBidVolume\",, \"T\"),\"\")","v":""},{"$f":"IF(C30=0,\"\",IF($D$1=\"B\",RTD(\"cqg.rtd\", ,\"ContractData\",D30, \"Bid\",,\"B\"),TEXT(RTD(\"cqg.rtd\", ,\"ContractData\",D30, \"Bid\",, \"T\"),$D$1)))","v":""},0,{"$f":"IF(C30=0,\"\",IF(LEFT(D30,1)=\"F\",\"\",IF($D$1=\"B\",RTD(\"cqg.rtd\", ,\"ContractData\",D30, \"TheoreticalValue\",,\"B\"),TEXT(RTD(\"cqg.rtd\", ,\"ContractData\",D30, \"TheoreticalValue\",, \"T\"),$D$1))))","v":""},0,{"$f":"IF(C30=0,\"\",IF($D$1=\"B\",RTD(\"cqg.rtd\", ,\"ContractData\",D30, \"Ask\",,\"B\"),TEXT(RTD(\"cqg.rtd\", ,\"ContractData\",D30, \"Ask\",, \"T\"),$D$1)))","v":""},{"$f":"IF(C30=1,RTD(\"cqg.rtd\", ,\"ContractData\",D30, \"MT_LastAskVolume\",, \"T\"),\"\")","v":""},"",null,null,{"$f":"IF(C30=1,RTD(\"cqg.rtd\", ,\"ContractData\",D30, \"T_CVol\",, \"T\"),\"\")","v":""},{"$f":"IF(C30=1,RTD(\"cqg.rtd\", ,\"ContractData\",D30, \"COI\",, \"T\"),\"\")","v":""},{"$f":"IF(C30=1,RTD(\"cqg.rtd\", ,\"ContractData\",D30, \"ImpliedVolatility\",, \"T\"),\"\")","v":""},{"$f":"IF(C30=1,RTD(\"cqg.rtd\", ,\"ContractData\",D30, \"Vega\",, \"T\"),\"\")","v":""},{"$f":"IF(C30=0,\"\",IF(LEFT(D30,1)=\"F\",H30*100,H30*RTD(\"cqg.rtd\",,\"ContractData\",D30,\"Delta\",,\"T\")))","v":""},{"$f":"IF(C30=1,RTD(\"cqg.rtd\", ,\"ContractData\",D30, \"Gamma\",, \"T\"),\"\")","v":""},{"$f":"IF(C30=1,IF(H30<0,-1*RTD(\"cqg.rtd\", ,\"ContractData\",D30, \"Theta\",, \"T\"),RTD(\"cqg.rtd\", ,\"ContractData\",D30, \"Theta\",, \"T\")),\"\")","v":""},{"$f":"IF(C30=0,\"\",IF(LEFT(D30,1)=\"F\",(RTD(\"cqg.rtd\",,\"ContractData\",D30,\"ExpirationDate\",,\"T\")-TODAY()),RTD(\"cqg.rtd\",,\"ContractData\",D30,\"OptionDaysToExp\",,\"T\")))","v":""}]
["TMLastBid","TMLastAsk",{"$f":"IF(LOOKUP(26,Second!A1:A448)<>26,0,1)","v":0},{"$f":"IF(C31=1,VLOOKUP(Second!I26,INDIRECT($A$2),2),\"\")","v":""},null,null,"",{"$f":"IF(C31=1,RTD(\"cqg.rtd\", ,\"OrderData\", \"\"&D31&\"\", \"\", \"OpenPosition\",\"\"&$D$3&\"\"),\"\")","v":""},{"$f":"IF(C31=1,RTD(\"cqg.rtd\", ,\"OrderData\",\"\"&D31&\"\", \"\", \"OpenTradeEquity\",\"\"&$D$3&\"\"),\"\")","v":""},null,{"$f":"IF(C31=0,\"\",IF($D$1=\"B\",RTD(\"cqg.rtd\", ,\"ContractData\",D31, \"LastTrade\",,\"B\"),TEXT(RTD(\"cqg.rtd\", ,\"ContractData\",D31, \"LastTrade\",, \"T\"),$D$1)))","v":""},{"$f":"IF(RTD(\"cqg.rtd\",,\"ContractData\",D31,\"LastTrade\",,\"T\")<RTD(\"cqg.rtd\",,\"ContractData\",D31,\"Bid\",,\"T\"),1,IF(RTD(\"cqg.rtd\",,\"ContractData\",D31,\"LastTrade\",,\"T\")>RTD(\"cqg.rtd\",,\"ContractData\",D31,\"Ask\",,\"T\"),1,0))","v":0},{"$f":"IF(C31=1,RTD(\"cqg.rtd\", ,\"ContractData\",D31, \"TMLastTrade\",, \"T\"),\"\")","v":""},"",{"$f":"IF(C31=1,RTD(\"cqg.rtd\", ,\"ContractData\",D31, \"MT_LastBidVolume\",, \"T\"),\"\")","v":""},{"$f":"IF(C31=0,\"\",IF($D$1=\"B\",RTD(\"cqg.rtd\", ,\"ContractData\",D31, \"Bid\",,\"B\"),TEXT(RTD(\"cqg.rtd\", ,\"ContractData\",D31, \"Bid\",, \"T\"),$D$1)))","v":""},0,{"$f":"IF(C31=0,\"\",IF(LEFT(D31,1)=\"F\",\"\",IF($D$1=\"B\",RTD(\"cqg.rtd\", ,\"ContractData\",D31, \"TheoreticalValue\",,\"B\"),TEXT(RTD(\"cqg.rtd\", ,\"ContractData\",D31, \"TheoreticalValue\",, \"T\"),$D$1))))","v":""},0,{"$f":"IF(C31=0,\"\",IF($D$1=\"B\",RTD(\"cqg.rtd\", ,\"ContractData\",D31, \"Ask\",,\"B\"),TEXT(RTD(\"cqg.rtd\", ,\"ContractData\",D31, \"Ask\",, \"T\"),$D$1)))","v":""},{"$f":"IF(C31=1,RTD(\"cqg.rtd\", ,\"ContractData\",D31, \"MT_LastAskVolume\",, \"T\"),\"\")","v":""},"",null,null,{"$f":"IF(C31=1,RTD(\"cqg.rtd\", ,\"ContractData\",D31, \"T_CVol\",, \"T\"),\"\")","v":""},{"$f":"IF(C31=1,RTD(\"cqg.rtd\", ,\"ContractData\",D31, \"COI\",, \"T\"),\"\")","v":""},{"$f":"IF(C31=1,RTD(\"cqg.rtd\", ,\"ContractData\",D31, \"ImpliedVolatility\",, \"T\"),\"\")","v":""},{"$f":"IF(C31=1,RTD(\"cqg.rtd\", ,\"ContractData\",D31, \"Vega\",, \"T\"),\"\")","v":""},{"$f":"IF(C31=0,\"\",IF(LEFT(D31,1)=\"F\",H31*100,H31*RTD(\"cqg.rtd\",,\"ContractData\",D31,\"Delta\",,\"T\")))","v":""},{"$f":"IF(C31=1,RTD(\"cqg.rtd\", ,\"ContractData\",D31, \"Gamma\",, \"T\"),\"\")","v":""},{"$f":"IF(C31=1,IF(H31<0,-1*RTD(\"cqg.rtd\", ,\"ContractData\",D31, \"Theta\",, \"T\"),RTD(\"cqg.rtd\", ,\"ContractData\",D31, \"Theta\",, \"T\")),\"\")","v":""},{"$f":"IF(C31=0,\"\",IF(LEFT(D31,1)=\"F\",(RTD(\"cqg.rtd\",,\"ContractData\",D31,\"ExpirationDate\",,\"T\")-TODAY()),RTD(\"cqg.rtd\",,\"ContractData\",D31,\"OptionDaysToExp\",,\"T\")))","v":""}]
["TMLastBid","TMLastAsk",{"$f":"IF(LOOKUP(27,Second!A1:A448)<>27,0,1)","v":0},{"$f":"IF(C32=1,VLOOKUP(Second!I27,INDIRECT($A$2),2),\"\")","v":""},null,null,"",{"$f":"IF(C32=1,RTD(\"cqg.rtd\", ,\"OrderData\", \"\"&D32&\"\", \"\", \"OpenPosition\",\"\"&$D$3&\"\"),\"\")","v":""},{"$f":"IF(C32=1,RTD(\"cqg.rtd\", ,\"OrderData\",\"\"&D32&\"\", \"\", \"OpenTradeEquity\",\"\"&$D$3&\"\"),\"\")","v":""},null,{"$f":"IF(C32=0,\"\",IF($D$1=\"B\",RTD(\"cqg.rtd\", ,\"ContractData\",D32, \"LastTrade\",,\"B\"),TEXT(RTD(\"cqg.rtd\", ,\"ContractData\",D32, \"LastTrade\",, \"T\"),$D$1)))","v":""},{"$f":"IF(RTD(\"cqg.rtd\",,\"ContractData\",D32,\"LastTrade\",,\"T\")<RTD(\"cqg.rtd\",,\"ContractData\",D32,\"Bid\",,\"T\"),1,IF(RTD(\"cqg.rtd\",,\"ContractData\",D32,\"LastTrade\",,\"T\")>RTD(\"cqg.rtd\",,\"ContractData\",D32,\"Ask\",,\"T\"),1,0))","v":0},{"$f":"IF(C32=1,RTD(\"cqg.rtd\", ,\"ContractData\",D32, \"TMLastTrade\",, \"T\"),\"\")","v":""},"",{"$f":"IF(C32=1,RTD(\"cqg.rtd\", ,\"ContractData\",D32, \"MT_LastBidVolume\",, \"T\"),\"\")","v":""},{"$f":"IF(C32=0,\"\",IF($D$1=\"B\",RTD(\"cqg.rtd\", ,\"ContractData\",D32, \"Bid\",,\"B\"),TEXT(RTD(\"cqg.rtd\", ,\"ContractData\",D32, \"Bid\",, \"T\"),$D$1)))","v":""},0,{"$f":"IF(C32=0,\"\",IF(LEFT(D32,1)=\"F\",\"\",IF($D$1=\"B\",RTD(\"cqg.rtd\", ,\"ContractData\",D32, \"TheoreticalValue\",,\"B\"),TEXT(RTD(\"cqg.rtd\", ,\"ContractData\",D32, \"TheoreticalValue\",, \"T\"),$D$1))))","v":""},0,{"$f":"IF(C32=0,\"\",IF($D$1=\"B\",RTD(\"cqg.rtd\", ,\"ContractData\",D32, \"Ask\",,\"B\"),TEXT(RTD(\"cqg.rtd\", ,\"ContractData\",D32, \"Ask\",, \"T\"),$D$1)))","v":""},{"$f":"IF(C32=1,RTD(\"cqg.rtd\", ,\"ContractData\",D32, \"MT_LastAskVolume\",, \"T\"),\"\")","v":""},"",null,null,{"$f":"IF(C32=1,RTD(\"cqg.rtd\", ,\"ContractData\",D32, \"T_CVol\",, \"T\"),\"\")","v":""},{"$f":"IF(C32=1,RTD(\"cqg.rtd\", ,\"ContractData\",D32, \"COI\",, \"T\"),\"\")","v":""},{"$f":"IF(C32=1,RTD(\"cqg.rtd\", ,\"ContractData\",D32, \"ImpliedVolatility\",, \"T\"),\"\")","v":""},{"$f":"IF(C32=1,RTD(\"cqg.rtd\", ,\"ContractData\",D32, \"Vega\",, \"T\"),\"\")","v":""},{"$f":"IF(C32=0,\"\",IF(LEFT(D32,1)=\"F\",H32*100,H32*RTD(\"cqg.rtd\",,\"ContractData\",D32,\"Delta\",,\"T\")))","v":""},{"$f":"IF(C32=1,RTD(\"cqg.rtd\", ,\"ContractData\",D32, \"Gamma\",, \"T\"),\"\")","v":""},{"$f":"IF(C32=1,IF(H32<0,-1*RTD(\"cqg.rtd\", ,\"ContractData\",D32, \"Theta\",, \"T\"),RTD(\"cqg.rtd\", ,\"ContractData\",D32, \"Theta\",, \"T\")),\"\")","v":""},{"$f":"IF(C32=0,\"\",IF(LEFT(D32,1)=\"F\",(RTD(\"cqg.rtd\",,\"ContractData\",D32,\"ExpirationDate\",,\"T\")-TODAY()),RTD(\"cqg.rtd\",,\"ContractData\",D32,\"OptionDaysToExp\",,\"T\")))","v":""}]
["TMLastBid","TMLastAsk",{"$f":"IF(LOOKUP(28,Second!A1:A448)<>28,0,1)","v":0},{"$f":"IF(C33=1,VLOOKUP(Second!I28,INDIRECT($A$2),2),\"\")","v":""},null,null,"",{"$f":"IF(C33=1,RTD(\"cqg.rtd\", ,\"OrderData\", \"\"&D33&\"\", \"\", \"OpenPosition\",\"\"&$D$3&\"\"),\"\")","v":""},{"$f":"IF(C33=1,RTD(\"cqg.rtd\", ,\"OrderData\",\"\"&D33&\"\", \"\", \"OpenTradeEquity\",\"\"&$D$3&\"\"),\"\")","v":""},null,{"$f":"IF(C33=0,\"\",IF($D$1=\"B\",RTD(\"cqg.rtd\", ,\"ContractData\",D33, \"LastTrade\",,\"B\"),TEXT(RTD(\"cqg.rtd\", ,\"ContractData\",D33, \"LastTrade\",, \"T\"),$D$1)))","v":""},{"$f":"IF(RTD(\"cqg.rtd\",,\"ContractData\",D33,\"LastTrade\",,\"T\")<RTD(\"cqg.rtd\",,\"ContractData\",D33,\"Bid\",,\"T\"),1,IF(RTD(\"cqg.rtd\",,\"ContractData\",D33,\"LastTrade\",,\"T\")>RTD(\"cqg.rtd\",,\"ContractData\",D33,\"Ask\",,\"T\"),1,0))","v":0},{"$f":"IF(C33=1,RTD(\"cqg.rtd\", ,\"ContractData\",D33, \"TMLastTrade\",, \"T\"),\"\")","v":""},"",{"$f":"IF(C33=1,RTD(\"cqg.rtd\", ,\"ContractData\",D33, \"MT_LastBidVolume\",, \"T\"),\"\")","v":""},{"$f":"IF(C33=0,\"\",IF($D$1=\"B\",RTD(\"cqg.rtd\", ,\"ContractData\",D33, \"Bid\",,\"B\"),TEXT(RTD(\"cqg.rtd\", ,\"ContractData\",D33, \"Bid\",, \"T\"),$D$1)))","v":""},0,{"$f":"IF(C33=0,\"\",IF(LEFT(D33,1)=\"F\",\"\",IF($D$1=\"B\",RTD(\"cqg.rtd\", ,\"ContractData\",D33, \"TheoreticalValue\",,\"B\"),TEXT(RTD(\"cqg.rtd\", ,\"ContractData\",D33, \"TheoreticalValue\",, \"T\"),$D$1))))","v":""},0,{"$f":"IF(C33=0,\"\",IF($D$1=\"B\",RTD(\"cqg.rtd\", ,\"ContractData\",D33, \"Ask\",,\"B\"),TEXT(RTD(\"cqg.rtd\", ,\"ContractData\",D33, \"Ask\",, \"T\"),$D$1)))","v":""},{"$f":"IF(C33=1,RTD(\"cqg.rtd\", ,\"ContractData\",D33, \"MT_LastAskVolume\",, \"T\"),\"\")","v":""},"",null,null,{"$f":"IF(C33=1,RTD(\"cqg.rtd\", ,\"ContractData\",D33, \"T_CVol\",, \"T\"),\"\")","v":""},{"$f":"IF(C33=1,RTD(\"cqg.rtd\", ,\"ContractData\",D33, \"COI\",, \"T\"),\"\")","v":""},{"$f":"IF(C33=1,RTD(\"cqg.rtd\", ,\"ContractData\",D33, \"ImpliedVolatility\",, \"T\"),\"\")","v":""},{"$f":"IF(C33=1,RTD(\"cqg.rtd\", ,\"ContractData\",D33, \"Vega\",, \"T\"),\"\")","v":""},{"$f":"IF(C33=0,\"\",IF(LEFT(D33,1)=\"F\",H33*100,H33*RTD(\"cqg.rtd\",,\"ContractData\",D33,\"Delta\",,\"T\")))","v":""},{"$f":"IF(C33=1,RTD(\"cqg.rtd\", ,\"ContractData\",D33, \"Gamma\",, \"T\"),\"\")","v":""},{"$f":"IF(C33=1,IF(H33<0,-1*RTD(\"cqg.rtd\", ,\"ContractData\",D33, \"Theta\",, \"T\"),RTD(\"cqg.rtd\", ,\"ContractData\",D33, \"Theta\",, \"T\")),\"\")","v":""},{"$f":"IF(C33=0,\"\",IF(LEFT(D33,1)=\"F\",(RTD(\"cqg.rtd\",,\"ContractData\",D33,\"ExpirationDate\",,\"T\")-TODAY()),RTD(\"cqg.rtd\",,\"ContractData\",D33,\"OptionDaysToExp\",,\"T\")))","v":""}]
["TMLastBid","TMLastAsk",{"$f":"IF(LOOKUP(29,Second!A1:A448)<>29,0,1)","v":0},{"$f":"IF(C34=1,VLOOKUP(Second!I29,INDIRECT($A$2),2),\"\")","v":""},null,null,"",{"$f":"IF(C34=1,RTD(\"cqg.rtd\", ,\"OrderData\", \"\"&D34&\"\", \"\", \"OpenPosition\",\"\"&$D$3&\"\"),\"\")","v":""},{"$f":"IF(C34=1,RTD(\"cqg.rtd\", ,\"OrderData\",\"\"&D34&\"\", \"\", \"OpenTradeEquity\",\"\"&$D$3&\"\"),\"\")","v":""},null,{"$f":"IF(C34=0,\"\",IF($D$1=\"B\",RTD(\"cqg.rtd\", ,\"ContractData\",D34, \"LastTrade\",,\"B\"),TEXT(RTD(\"cqg.rtd\", ,\"ContractData\",D34, \"LastTrade\",, \"T\"),$D$1)))","v":""},{"$f":"IF(RTD(\"cqg.rtd\",,\"ContractData\",D34,\"LastTrade\",,\"T\")<RTD(\"cqg.rtd\",,\"ContractData\",D34,\"Bid\",,\"T\"),1,IF(RTD(\"cqg.rtd\",,\"ContractData\",D34,\"LastTrade\",,\"T\")>RTD(\"cqg.rtd\",,\"ContractData\",D34,\"Ask\",,\"T\"),1,0))","v":0},{"$f":"IF(C34=1,RTD(\"cqg.rtd\", ,\"ContractData\",D34, \"TMLastTrade\",, \"T\"),\"\")","v":""},"",{"$f":"IF(C34=1,RTD(\"cqg.rtd\", ,\"ContractData\",D34, \"MT_LastBidVolume\",, \"T\"),\"\")","v":""},{"$f":"IF(C34=0,\"\",IF($D$1=\"B\",RTD(\"cqg.rtd\", ,\"ContractData\",D34, \"Bid\",,\"B\"),TEXT(RTD(\"cqg.rtd\", ,\"ContractData\",D34, \"Bid\",, \"T\"),$D$1)))","v":""},0,{"$f":"IF(C34=0,\"\",IF(LEFT(D34,1)=\"F\",\"\",IF($D$1=\"B\",RTD(\"cqg.rtd\", ,\"ContractData\",D34, \"TheoreticalValue\",,\"B\"),TEXT(RTD(\"cqg.rtd\", ,\"ContractData\",D34, \"TheoreticalValue\",, \"T\"),$D$1))))","v":""},0,{"$f":"IF(C34=0,\"\",IF($D$1=\"B\",RTD(\"cqg.rtd\", ,\"ContractData\",D34, \"Ask\",,\"B\"),TEXT(RTD(\"cqg.rtd\", ,\"ContractData\",D34, \"Ask\",, \"T\"),$D$1)))","v":""},{"$f":"IF(C34=1,RTD(\"cqg.rtd\", ,\"ContractData\",D34, \"MT_LastAskVolume\",, \"T\"),\"\")","v":""},"",null,null,{"$f":"IF(C34=1,RTD(\"cqg.rtd\", ,\"ContractData\",D34, \"T_CVol\",, \"T\"),\"\")","v":""},{"$f":"IF(C34=1,RTD(\"cqg.rtd\", ,\"ContractData\",D34, \"COI\",, \"T\"),\"\")","v":""},{"$f":"IF(C34=1,RTD(\"cqg.rtd\", ,\"ContractData\",D34, \"ImpliedVolatility\",, \"T\"),\"\")","v":""},{"$f":"IF(C34=1,RTD(\"cqg.rtd\", ,\"ContractData\",D34, \"Vega\",, \"T\"),\"\")","v":""},{"$f":"IF(C34=0,\"\",IF(LEFT(D34,1)=\"F\",H34*100,H34*RTD(\"cqg.rtd\",,\"ContractData\",D34,\"Delta\",,\"T\")))","v":""},{"$f":"IF(C34=1,RTD(\"cqg.rtd\", ,\"ContractData\",D34, \"Gamma\",, \"T\"),\"\")","v":""},{"$f":"IF(C34=1,IF(H34<0,-1*RTD(\"cqg.rtd\", ,\"ContractData\",D34, \"Theta\",, \"T\"),RTD(\"cqg.rtd\", ,\"ContractData\",D34, \"Theta\",, \"T\")),\"\")","v":""},{"$f":"IF(C34=0,\"\",IF(LEFT(D34,1)=\"F\",(RTD(\"cqg.rtd\",,\"ContractData\",D34,\"ExpirationDate\",,\"T\")-TODAY()),RTD(\"cqg.rtd\",,\"ContractData\",D34,\"OptionDaysToExp\",,\"T\")))","v":""}]
["TMLastBid","TMLastAsk",{"$f":"IF(LOOKUP(30,Second!A1:A448)<>30,0,1)","v":0},{"$f":"IF(C35=1,VLOOKUP(Second!I30,INDIRECT($A$2),2),\"\")","v":""},null,null,"",{"$f":"IF(C35=1,RTD(\"cqg.rtd\", ,\"OrderData\", \"\"&D35&\"\", \"\", \"OpenPosition\",\"\"&$D$3&\"\"),\"\")","v":""},{"$f":"IF(C35=1,RTD(\"cqg.rtd\", ,\"OrderData\",\"\"&D35&\"\", \"\", \"OpenTradeEquity\",\"\"&$D$3&\"\"),\"\")","v":""},null,{"$f":"IF(C35=0,\"\",IF($D$1=\"B\",RTD(\"cqg.rtd\", ,\"ContractData\",D35, \"LastTrade\",,\"B\"),TEXT(RTD(\"cqg.rtd\", ,\"ContractData\",D35, \"LastTrade\",, \"T\"),$D$1)))","v":""},{"$f":"IF(RTD(\"cqg.rtd\",,\"ContractData\",D35,\"LastTrade\",,\"T\")<RTD(\"cqg.rtd\",,\"ContractData\",D35,\"Bid\",,\"T\"),1,IF(RTD(\"cqg.rtd\",,\"ContractData\",D35,\"LastTrade\",,\"T\")>RTD(\"cqg.rtd\",,\"ContractData\",D35,\"Ask\",,\"T\"),1,0))","v":0},{"$f":"IF(C35=1,RTD(\"cqg.rtd\", ,\"ContractData\",D35, \"TMLastTrade\",, \"T\"),\"\")","v":""},"",{"$f":"IF(C35=1,RTD(\"cqg.rtd\", ,\"ContractData\",D35, \"MT_LastBidVolume\",, \"T\"),\"\")","v":""},{"$f":"IF(C35=0,\"\",IF($D$1=\"B\",RTD(\"cqg.rtd\", ,\"ContractData\",D35, \"Bid\",,\"B\"),TEXT(RTD(\"cqg.rtd\", ,\"ContractData\",D35, \"Bid\",, \"T\"),$D$1)))","v":""},0,{"$f":"IF(C35=0,\"\",IF(LEFT(D35,1)=\"F\",\"\",IF($D$1=\"B\",RTD(\"cqg.rtd\", ,\"ContractData\",D35, \"TheoreticalValue\",,\"B\"),TEXT(RTD(\"cqg.rtd\", ,\"ContractData\",D35, \"TheoreticalValue\",, \"T\"),$D$1))))","v":""},0,{"$f":"IF(C35=0,\"\",IF($D$1=\"B\",RTD(\"cqg.rtd\", ,\"ContractData\",D35, \"Ask\",,\"B\"),TEXT(RTD(\"cqg.rtd\", ,\"ContractData\",D35, \"Ask\",, \"T\"),$D$1)))","v":""},{"$f":"IF(C35=1,RTD(\"cqg.rtd\", ,\"ContractData\",D35, \"MT_LastAskVolume\",, \"T\"),\"\")","v":""},"",null,null,{"$f":"IF(C35=1,RTD(\"cqg.rtd\", ,\"ContractData\",D35, \"T_CVol\",, \"T\"),\"\")","v":""},{"$f":"IF(C35=1,RTD(\"cqg.rtd\", ,\"ContractData\",D35, \"COI\",, \"T\"),\"\")","v":""},{"$f":"IF(C35=1,RTD(\"cqg.rtd\", ,\"ContractData\",D35, \"ImpliedVolatility\",, \"T\"),\"\")","v":""},{"$f":"IF(C35=1,RTD(\"cqg.rtd\", ,\"ContractData\",D35, \"Vega\",, \"T\"),\"\")","v":""},{"$f":"IF(C35=0,\"\",IF(LEFT(D35,1)=\"F\",H35*100,H35*RTD(\"cqg.rtd\",,\"ContractData\",D35,\"Delta\",,\"T\")))","v":""},{"$f":"IF(C35=1,RTD(\"cqg.rtd\", ,\"ContractData\",D35, \"Gamma\",, \"T\"),\"\")","v":""},{"$f":"IF(C35=1,IF(H35<0,-1*RTD(\"cqg.rtd\", ,\"ContractData\",D35, \"Theta\",, \"T\"),RTD(\"cqg.rtd\", ,\"ContractData\",D35, \"Theta\",, \"T\")),\"\")","v":""},{"$f":"IF(C35=0,\"\",IF(LEFT(D35,1)=\"F\",(RTD(\"cqg.rtd\",,\"ContractData\",D35,\"ExpirationDate\",,\"T\")-TODAY()),RTD(\"cqg.rtd\",,\"ContractData\",D35,\"OptionDaysToExp\",,\"T\")))","v":""}]
["TMLastBid","TMLastAsk",{"$f":"IF(LOOKUP(31,Second!A1:A448)<>31,0,1)","v":0},{"$f":"IF(C36=1,VLOOKUP(Second!I31,INDIRECT($A$2),2),\"\")","v":""},null,null,"",{"$f":"IF(C36=1,RTD(\"cqg.rtd\", ,\"OrderData\", \"\"&D36&\"\", \"\", \"OpenPosition\",\"\"&$D$3&\"\"),\"\")","v":""},{"$f":"IF(C36=1,RTD(\"cqg.rtd\", ,\"OrderData\",\"\"&D36&\"\", \"\", \"OpenTradeEquity\",\"\"&$D$3&\"\"),\"\")","v":""},null,{"$f":"IF(C36=0,\"\",IF($D$1=\"B\",RTD(\"cqg.rtd\", ,\"ContractData\",D36, \"LastTrade\",,\"B\"),TEXT(RTD(\"cqg.rtd\", ,\"ContractData\",D36, \"LastTrade\",, \"T\"),$D$1)))","v":""},{"$f":"IF(RTD(\"cqg.rtd\",,\"ContractData\",D36,\"LastTrade\",,\"T\")<RTD(\"cqg.rtd\",,\"ContractData\",D36,\"Bid\",,\"T\"),1,IF(RTD(\"cqg.rtd\",,\"ContractData\",D36,\"LastTrade\",,\"T\")>RTD(\"cqg.rtd\",,\"ContractData\",D36,\"Ask\",,\"T\"),1,0))","v":0},{"$f":"IF(C36=1,RTD(\"cqg.rtd\", ,\"ContractData\",D36, \"TMLastTrade\",, \"T\"),\"\")","v":""},"",{"$f":"IF(C36=1,RTD(\"cqg.rtd\", ,\"ContractData\",D36, \"MT_LastBidVolume\",, \"T\"),\"\")","v":""},{"$f":"IF(C36=0,\"\",IF($D$1=\"B\",RTD(\"cqg.rtd\", ,\"ContractData\",D36, \"Bid\",,\"B\"),TEXT(RTD(\"cqg.rtd\", ,\"ContractData\",D36, \"Bid\",, \"T\"),$D$1)))","v":""},0,{"$f":"IF(C36=0,\"\",IF(LEFT(D36,1)=\"F\",\"\",IF($D$1=\"B\",RTD(\"cqg.rtd\", ,\"ContractData\",D36, \"TheoreticalValue\",,\"B\"),TEXT(RTD(\"cqg.rtd\", ,\"ContractData\",D36, \"TheoreticalValue\",, \"T\"),$D$1))))","v":""},0,{"$f":"IF(C36=0,\"\",IF($D$1=\"B\",RTD(\"cqg.rtd\", ,\"ContractData\",D36, \"Ask\",,\"B\"),TEXT(RTD(\"cqg.rtd\", ,\"ContractData\",D36, \"Ask\",, \"T\"),$D$1)))","v":""},{"$f":"IF(C36=1,RTD(\"cqg.rtd\", ,\"ContractData\",D36, \"MT_LastAskVolume\",, \"T\"),\"\")","v":""},"",null,null,{"$f":"IF(C36=1,RTD(\"cqg.rtd\", ,\"ContractData\",D36, \"T_CVol\",, \"T\"),\"\")","v":""},{"$f":"IF(C36=1,RTD(\"cqg.rtd\", ,\"ContractData\",D36, \"COI\",, \"T\"),\"\")","v":""},{"$f":"IF(C36=1,RTD(\"cqg.rtd\", ,\"ContractData\",D36, \"ImpliedVolatility\",, \"T\"),\"\")","v":""},{"$f":"IF(C36=1,RTD(\"cqg.rtd\", ,\"ContractData\",D36, \"Vega\",, \"T\"),\"\")","v":""},{"$f":"IF(C36=0,\"\",IF(LEFT(D36,1)=\"F\",H36*100,H36*RTD(\"cqg.rtd\",,\"ContractData\",D36,\"Delta\",,\"T\")))","v":""},{"$f":"IF(C36=1,RTD(\"cqg.rtd\", ,\"ContractData\",D36, \"Gamma\",, \"T\"),\"\")","v":""},{"$f":"IF(C36=1,IF(H36<0,-1*RTD(\"cqg.rtd\", ,\"ContractData\",D36, \"Theta\",, \"T\"),RTD(\"cqg.rtd\", ,\"ContractData\",D36, \"Theta\",, \"T\")),\"\")","v":""},{"$f":"IF(C36=0,\"\",IF(LEFT(D36,1)=\"F\",(RTD(\"cqg.rtd\",,\"ContractData\",D36,\"ExpirationDate\",,\"T\")-TODAY()),RTD(\"cqg.rtd\",,\"ContractData\",D36,\"OptionDaysToExp\",,\"T\")))","v":""}]
["TMLastBid","TMLastAsk",{"$f":"IF(LOOKUP(32,Second!A1:A448)<>32,0,1)","v":0},{"$f":"IF(C37=1,VLOOKUP(Second!I32,INDIRECT($A$2),2),\"\")","v":""},null,null,"",{"$f":"IF(C37=1,RTD(\"cqg.rtd\", ,\"OrderData\", \"\"&D37&\"\", \"\", \"OpenPosition\",\"\"&$D$3&\"\"),\"\")","v":""},{"$f":"IF(C37=1,RTD(\"cqg.rtd\", ,\"OrderData\",\"\"&D37&\"\", \"\", \"OpenTradeEquity\",\"\"&$D$3&\"\"),\"\")","v":""},null,{"$f":"IF(C37=0,\"\",IF($D$1=\"B\",RTD(\"cqg.rtd\", ,\"ContractData\",D37, \"LastTrade\",,\"B\"),TEXT(RTD(\"cqg.rtd\", ,\"ContractData\",D37, \"LastTrade\",, \"T\"),$D$1)))","v":""},{"$f":"IF(RTD(\"cqg.rtd\",,\"ContractData\",D37,\"LastTrade\",,\"T\")<RTD(\"cqg.rtd\",,\"ContractData\",D37,\"Bid\",,\"T\"),1,IF(RTD(\"cqg.rtd\",,\"ContractData\",D37,\"LastTrade\",,\"T\")>RTD(\"cqg.rtd\",,\"ContractData\",D37,\"Ask\",,\"T\"),1,0))","v":0},{"$f":"IF(C37=1,RTD(\"cqg.rtd\", ,\"ContractData\",D37, \"TMLastTrade\",, \"T\"),\"\")","v":""},"",{"$f":"IF(C37=1,RTD(\"cqg.rtd\", ,\"ContractData\",D37, \"MT_LastBidVolume\",, \"T\"),\"\")","v":""},{"$f":"IF(C37=0,\"\",IF($D$1=\"B\",RTD(\"cqg.rtd\", ,\"ContractData\",D37, \"Bid\",,\"B\"),TEXT(RTD(\"cqg.rtd\", ,\"ContractData\",D37, \"Bid\",, \"T\"),$D$1)))","v":""},0,{"$f":"IF(C37=0,\"\",IF(LEFT(D37,1)=\"F\",\"\",IF($D$1=\"B\",RTD(\"cqg.rtd\", ,\"ContractData\",D37, \"TheoreticalValue\",,\"B\"),TEXT(RTD(\"cqg.rtd\", ,\"ContractData\",D37, \"TheoreticalValue\",, \"T\"),$D$1))))","v":""},0,{"$f":"IF(C37=0,\"\",IF($D$1=\"B\",RTD(\"cqg.rtd\", ,\"ContractData\",D37, \"Ask\",,\"B\"),TEXT(RTD(\"cqg.rtd\", ,\"ContractData\",D37, \"Ask\",, \"T\"),$D$1)))","v":""},{"$f":"IF(C37=1,RTD(\"cqg.rtd\", ,\"ContractData\",D37, \"MT_LastAskVolume\",, \"T\"),\"\")","v":""},"",null,null,{"$f":"IF(C37=1,RTD(\"cqg.rtd\", ,\"ContractData\",D37, \"T_CVol\",, \"T\"),\"\")","v":""},{"$f":"IF(C37=1,RTD(\"cqg.rtd\", ,\"ContractData\",D37, \"COI\",, \"T\"),\"\")","v":""},{"$f":"IF(C37=1,RTD(\"cqg.rtd\", ,\"ContractData\",D37, \"ImpliedVolatility\",, \"T\"),\"\")","v":""},{"$f":"IF(C37=1,RTD(\"cqg.rtd\", ,\"ContractData\",D37, \"Vega\",, \"T\"),\"\")","v":""},{"$f":"IF(C37=0,\"\",IF(LEFT(D37,1)=\"F\",H37*100,H37*RTD(\"cqg.rtd\",,\"ContractData\",D37,\"Delta\",,\"T\")))","v":""},{"$f":"IF(C37=1,RTD(\"cqg.rtd\", ,\"ContractData\",D37, \"Gamma\",, \"T\"),\"\")","v":""},{"$f":"IF(C37=1,IF(H37<0,-1*RTD(\"cqg.rtd\", ,\"ContractData\",D37, \"Theta\",, \"T\"),RTD(\"cqg.rtd\", ,\"ContractData\",D37, \"Theta\",, \"T\")),\"\")","v":""},{"$f":"IF(C37=0,\"\",IF(LEFT(D37,1)=\"F\",(RTD(\"cqg.rtd\",,\"ContractData\",D37,\"ExpirationDate\",,\"T\")-TODAY()),RTD(\"cqg.rtd\",,\"ContractData\",D37,\"OptionDaysToExp\",,\"T\")))","v":""}]
["TMLastBid","TMLastAsk",{"$f":"IF(LOOKUP(33,Second!A1:A448)<>33,0,1)","v":0},{"$f":"IF(C38=1,VLOOKUP(Second!I33,INDIRECT($A$2),2),\"\")","v":""},null,null,"",{"$f":"IF(C38=1,RTD(\"cqg.rtd\", ,\"OrderData\", \"\"&D38&\"\", \"\", \"OpenPosition\",\"\"&$D$3&\"\"),\"\")","v":""},{"$f":"IF(C38=1,RTD(\"cqg.rtd\", ,\"OrderData\",\"\"&D38&\"\", \"\", \"OpenTradeEquity\",\"\"&$D$3&\"\"),\"\")","v":""},null,{"$f":"IF(C38=0,\"\",IF($D$1=\"B\",RTD(\"cqg.rtd\", ,\"ContractData\",D38, \"LastTrade\",,\"B\"),TEXT(RTD(\"cqg.rtd\", ,\"ContractData\",D38, \"LastTrade\",, \"T\"),$D$1)))","v":""},{"$f":"IF(RTD(\"cqg.rtd\",,\"ContractData\",D38,\"LastTrade\",,\"T\")<RTD(\"cqg.rtd\",,\"ContractData\",D38,\"Bid\",,\"T\"),1,IF(RTD(\"cqg.rtd\",,\"ContractData\",D38,\"LastTrade\",,\"T\")>RTD(\"cqg.rtd\",,\"ContractData\",D38,\"Ask\",,\"T\"),1,0))","v":0},{"$f":"IF(C38=1,RTD(\"cqg.rtd\", ,\"ContractData\",D38, \"TMLastTrade\",, \"T\"),\"\")","v":""},"",{"$f":"IF(C38=1,RTD(\"cqg.rtd\", ,\"ContractData\",D38, \"MT_LastBidVolume\",, \"T\"),\"\")","v":""},{"$f":"IF(C38=0,\"\",IF($D$1=\"B\",RTD(\"cqg.rtd\", ,\"ContractData\",D38, \"Bid\",,\"B\"),TEXT(RTD(\"cqg.rtd\", ,\"ContractData\",D38, \"Bid\",, \"T\"),$D$1)))","v":""},0,{"$f":"IF(C38=0,\"\",IF(LEFT(D38,1)=\"F\",\"\",IF($D$1=\"B\",RTD(\"cqg.rtd\", ,\"ContractData\",D38, \"TheoreticalValue\",,\"B\"),TEXT(RTD(\"cqg.rtd\", ,\"ContractData\",D38, \"TheoreticalValue\",, \"T\"),$D$1))))","v":""},0,{"$f":"IF(C38=0,\"\",IF($D$1=\"B\",RTD(\"cqg.rtd\", ,\"ContractData\",D38, \"Ask\",,\"B\"),TEXT(RTD(\"cqg.rtd\", ,\"ContractData\",D38, \"Ask\",, \"T\"),$D$1)))","v":""},{"$f":"IF(C38=1,RTD(\"cqg.rtd\", ,\"ContractData\",D38, \"MT_LastAskVolume\",, \"T\"),\"\")","v":""},"",null,null,{"$f":"IF(C38=1,RTD(\"cqg.rtd\", ,\"ContractData\",D38, \"T_CVol\",, \"T\"),\"\")","v":""},{"$f":"IF(C38=1,RTD(\"cqg.rtd\", ,\"ContractData\",D38, \"COI\",, \"T\"),\"\")","v":""},{"$f":"IF(C38=1,RTD(\"cqg.rtd\", ,\"ContractData\",D38, \"ImpliedVolatility\",, \"T\"),\"\")","v":""},{"$f":"IF(C38=1,RTD(\"cqg.rtd\", ,\"ContractData\",D38, \"Vega\",, \"T\"),\"\")","v":""},{"$f":"IF(C38=0,\"\",IF(LEFT(D38,1)=\"F\",H38*100,H38*RTD(\"cqg.rtd\",,\"ContractData\",D38,\"Delta\",,\"T\")))","v":""},{"$f":"IF(C38=1,RTD(\"cqg.rtd\", ,\"ContractData\",D38, \"Gamma\",, \"T\"),\"\")","v":""},{"$f":"IF(C38=1,IF(H38<0,-1*RTD(\"cqg.rtd\", ,\"ContractData\",D38, \"Theta\",, \"T\"),RTD(\"cqg.rtd\", ,\"ContractData\",D38, \"Theta\",, \"T\")),\"\")","v":""},{"$f":"IF(C38=0,\"\",IF(LEFT(D38,1)=\"F\",(RTD(\"cqg.rtd\",,\"ContractData\",D38,\"ExpirationDate\",,\"T\")-TODAY()),RTD(\"cqg.rtd\",,\"ContractData\",D38,\"OptionDaysToExp\",,\"T\")))","v":""}]
["TMLastBid","TMLastAsk",{"$f":"IF(LOOKUP(34,Second!A1:A448)<>34,0,1)","v":0},{"$f":"IF(C39=1,VLOOKUP(Second!I34,INDIRECT($A$2),2),\"\")","v":""},null,null,"",{"$f":"IF(C39=1,RTD(\"cqg.rtd\", ,\"OrderData\", \"\"&D39&\"\", \"\", \"OpenPosition\",\"\"&$D$3&\"\"),\"\")","v":""},{"$f":"IF(C39=1,RTD(\"cqg.rtd\", ,\"OrderData\",\"\"&D39&\"\", \"\", \"OpenTradeEquity\",\"\"&$D$3&\"\"),\"\")","v":""},null,{"$f":"IF(C39=0,\"\",IF($D$1=\"B\",RTD(\"cqg.rtd\", ,\"ContractData\",D39, \"LastTrade\",,\"B\"),TEXT(RTD(\"cqg.rtd\", ,\"ContractData\",D39, \"LastTrade\",, \"T\"),$D$1)))","v":""},{"$f":"IF(RTD(\"cqg.rtd\",,\"ContractData\",D39,\"LastTrade\",,\"T\")<RTD(\"cqg.rtd\",,\"ContractData\",D39,\"Bid\",,\"T\"),1,IF(RTD(\"cqg.rtd\",,\"ContractData\",D39,\"LastTrade\",,\"T\")>RTD(\"cqg.rtd\",,\"ContractData\",D39,\"Ask\",,\"T\"),1,0))","v":0},{"$f":"IF(C39=1,RTD(\"cqg.rtd\", ,\"ContractData\",D39, \"TMLastTrade\",, \"T\"),\"\")","v":""},"",{"$f":"IF(C39=1,RTD(\"cqg.rtd\", ,\"ContractData\",D39, \"MT_LastBidVolume\",, \"T\"),\"\")","v":""},{"$f":"IF(C39=0,\"\",IF($D$1=\"B\",RTD(\"cqg.rtd\", ,\"ContractData\",D39, \"Bid\",,\"B\"),TEXT(RTD(\"cqg.rtd\", ,\"ContractData\",D39, \"Bid\",, \"T\"),$D$1)))","v":""},0,{"$f":"IF(C39=0,\"\",IF(LEFT(D39,1)=\"F\",\"\",IF($D$1=\"B\",RTD(\"cqg.rtd\", ,\"ContractData\",D39, \"TheoreticalValue\",,\"B\"),TEXT(RTD(\"cqg.rtd\", ,\"ContractData\",D39, \"TheoreticalValue\",, \"T\"),$D$1))))","v":""},0,{"$f":"IF(C39=0,\"\",IF($D$1=\"B\",RTD(\"cqg.rtd\", ,\"ContractData\",D39, \"Ask\",,\"B\"),TEXT(RTD(\"cqg.rtd\", ,\"ContractData\",D39, \"Ask\",, \"T\"),$D$1)))","v":""},{"$f":"IF(C39=1,RTD(\"cqg.rtd\", ,\"ContractData\",D39, \"MT_LastAskVolume\",, \"T\"),\"\")","v":""},"",null,null,{"$f":"IF(C39=1,RTD(\"cqg.rtd\", ,\"ContractData\",D39, \"T_CVol\",, \"T\"),\"\")","v":""},{"$f":"IF(C39=1,RTD(\"cqg.rtd\", ,\"ContractData\",D39, \"COI\",, \"T\"),\"\")","v":""},{"$f":"IF(C39=1,RTD(\"cqg.rtd\", ,\"ContractData\",D39, \"ImpliedVolatility\",, \"T\"),\"\")","v":""},{"$f":"IF(C39=1,RTD(\"cqg.rtd\", ,\"ContractData\",D39, \"Vega\",, \"T\"),\"\")","v":""},{"$f":"IF(C39=0,\"\",IF(LEFT(D39,1)=\"F\",H39*100,H39*RTD(\"cqg.rtd\",,\"ContractData\",D39,\"Delta\",,\"T\")))","v":""},{"$f":"IF(C39=1,RTD(\"cqg.rtd\", ,\"ContractData\",D39, \"Gamma\",, \"T\"),\"\")","v":""},{"$f":"IF(C39=1,IF(H39<0,-1*RTD(\"cqg.rtd\", ,\"ContractData\",D39, \"Theta\",, \"T\"),RTD(\"cqg.rtd\", ,\"ContractData\",D39, \"Theta\",, \"T\")),\"\")","v":""},{"$f":"IF(C39=0,\"\",IF(LEFT(D39,1)=\"F\",(RTD(\"cqg.rtd\",,\"ContractData\",D39,\"ExpirationDate\",,\"T\")-TODAY()),RTD(\"cqg.rtd\",,\"ContractData\",D39,\"OptionDaysToExp\",,\"T\")))","v":""}]
["TMLastBid","TMLastAsk",{"$f":"IF(LOOKUP(35,Second!A1:A448)<>35,0,1)","v":0},{"$f":"IF(C40=1,VLOOKUP(Second!I35,INDIRECT($A$2),2),\"\")","v":""},null,null,"",{"$f":"IF(C40=1,RTD(\"cqg.rtd\", ,\"OrderData\", \"\"&D40&\"\", \"\", \"OpenPosition\",\"\"&$D$3&\"\"),\"\")","v":""},{"$f":"IF(C40=1,RTD(\"cqg.rtd\", ,\"OrderData\",\"\"&D40&\"\", \"\", \"OpenTradeEquity\",\"\"&$D$3&\"\"),\"\")","v":""},null,{"$f":"IF(C40=0,\"\",IF($D$1=\"B\",RTD(\"cqg.rtd\", ,\"ContractData\",D40, \"LastTrade\",,\"B\"),TEXT(RTD(\"cqg.rtd\", ,\"ContractData\",D40, \"LastTrade\",, \"T\"),$D$1)))","v":""},{"$f":"IF(RTD(\"cqg.rtd\",,\"ContractData\",D40,\"LastTrade\",,\"T\")<RTD(\"cqg.rtd\",,\"ContractData\",D40,\"Bid\",,\"T\"),1,IF(RTD(\"cqg.rtd\",,\"ContractData\",D40,\"LastTrade\",,\"T\")>RTD(\"cqg.rtd\",,\"ContractData\",D40,\"Ask\",,\"T\"),1,0))","v":0},{"$f":"IF(C40=1,RTD(\"cqg.rtd\", ,\"ContractData\",D40, \"TMLastTrade\",, \"T\"),\"\")","v":""},"",{"$f":"IF(C40=1,RTD(\"cqg.rtd\", ,\"ContractData\",D40, \"MT_LastBidVolume\",, \"T\"),\"\")","v":""},{"$f":"IF(C40=0,\"\",IF($D$1=\"B\",RTD(\"cqg.rtd\", ,\"ContractData\",D40, \"Bid\",,\"B\"),TEXT(RTD(\"cqg.rtd\", ,\"ContractData\",D40, \"Bid\",, \"T\"),$D$1)))","v":""},0,{"$f":"IF(C40=0,\"\",IF(LEFT(D40,1)=\"F\",\"\",IF($D$1=\"B\",RTD(\"cqg.rtd\", ,\"ContractData\",D40, \"TheoreticalValue\",,\"B\"),TEXT(RTD(\"cqg.rtd\", ,\"ContractData\",D40, \"TheoreticalValue\",, \"T\"),$D$1))))","v":""},0,{"$f":"IF(C40=0,\"\",IF($D$1=\"B\",RTD(\"cqg.rtd\", ,\"ContractData\",D40, \"Ask\",,\"B\"),TEXT(RTD(\"cqg.rtd\", ,\"ContractData\",D40, \"Ask\",, \"T\"),$D$1)))","v":""},{"$f":"IF(C40=1,RTD(\"cqg.rtd\", ,\"ContractData\",D40, \"MT_LastAskVolume\",, \"T\"),\"\")","v":""},"",null,null,{"$f":"IF(C40=1,RTD(\"cqg.rtd\", ,\"ContractData\",D40, \"T_CVol\",, \"T\"),\"\")","v":""},{"$f":"IF(C40=1,RTD(\"cqg.rtd\", ,\"ContractData\",D40, \"COI\",, \"T\"),\"\")","v":""},{"$f":"IF(C40=1,RTD(\"cqg.rtd\", ,\"ContractData\",D40, \"ImpliedVolatility\",, \"T\"),\"\")","v":""},{"$f":"IF(C40=1,RTD(\"cqg.rtd\", ,\"ContractData\",D40, \"Vega\",, \"T\"),\"\")","v":""},{"$f":"IF(C40=0,\"\",IF(LEFT(D40,1)=\"F\",H40*100,H40*RTD(\"cqg.rtd\",,\"ContractData\",D40,\"Delta\",,\"T\")))","v":""},{"$f":"IF(C40=1,RTD(\"cqg.rtd\", ,\"ContractData\",D40, \"Gamma\",, \"T\"),\"\")","v":""},{"$f":"IF(C40=1,IF(H40<0,-1*RTD(\"cqg.rtd\", ,\"ContractData\",D40, \"Theta\",, \"T\"),RTD(\"cqg.rtd\", ,\"ContractData\",D40, \"Theta\",, \"T\")),\"\")","v":""},{"$f":"IF(C40=0,\"\",IF(LEFT(D40,1)=\"F\",(RTD(\"cqg.rtd\",,\"ContractData\",D40,\"ExpirationDate\",,\"T\")-TODAY()),RTD(\"cqg.rtd\",,\"ContractData\",D40,\"OptionDaysToExp\",,\"T\")))","v":""}]
[null,null,{"$f":"IF(OR(RTD(\"cqg.rtd\",,\"ContractData\",K3,\"ExpirationDate\",,\"T\")-TODAY()<K42,RTD(\"cqg.rtd\",,\"ContractData\",M3,\"ExpirationDate\",,\"T\")-TODAY()<U42,RTD(\"cqg.rtd\",,\"ContractData\",N3,\"ExpirationDate\",,\"T\")-TODAY()<AD42),1,0)","v":0},"Summary",null,null,{"$f":"IF(H41>0,\"Long  \",\"Short   \")","v":"Short   "},{"$f":"SUM(H6:H40)","v":0},{"$f":"SUM(I6:I40)","v":0},null,null,null,{"$f":"IF(C41=1,\"You have entered a number of days to expiration that exceeds the underlying contract expiration date\",\"\")","v":""},null,null,null,null,null,null,null,null,null,null,null,null,null,null,{"$f":"SUM(AB6:AB40)","v":0},{"$f":"SUM(AC6:AC40)","v":0},{"$f":"SUM(AD6:AD40)","v":0},{"$f":"SUM(AE6:AE40)","v":0}]
[null,null,null,"Probaility of the Underlying Price using Days-to-Expiration:",null,null,null,null,null,null,5,null,"Days","Probaility of the Underlying Price using Days-to-Expiration:",null,null,null,null,null,null,20,"Days",null,"Probaility of the Underlying Price using Days-to-Expiration:",null,null,null,null,null,30,"Days"]
[null,null,null,"Market:",null,{"$f":"RTD(\"cqg.rtd\", ,\"ContractData\",K3,\"LongDescription\",, \"T\")","v":"E-Mini S&P 500, Sep 17"},null,null,null,null,null,null,null,"Market:",null,{"$f":"RTD(\"cqg.rtd\", ,\"ContractData\",M3,\"LongDescription\",, \"T\")","v":"E-Mini S&P 500, Dec 17"},null,null,null,null,null,null,null,null,"Market:",{"$f":"RTD(\"cqg.rtd\", ,\"ContractData\",N3,\"LongDescription\",, \"T\")","v":"E-Mini S&P 500, Mar 18"}]
[null,null,null,"-2 Sdev    ",null,"-1 SDev",null,"Last",null,"+1 SDev",null,"+2 SDev",null,"-2 Sdev  ",null,"-1 SDev",null,"Last",null,"+1 SDev","+2 SDev",null,null,"-2 SDev",null,"-1 SDev",null,"Last",null,"+1 SDev","     +2 SDev"]
[null,null,null,{"$f":"IFERROR(TEXT(RTD(\"cqg.rtd\",,\"ContractData\",K3,\"LastQuote\",,\"T\")-(2*RTD(\"cqg.rtd\",,\"ContractData\",K3,\"LastQuote\",,\"T\")*RTD(\"cqg.rtd\",,\"ContractData\",\"C.US.\"&K3,\"AverageVolatility\",,\"T\")*SQRT(K42/365)),$D$1),\"\")","v":"2378.83"},null,{"$f":"IFERROR(TEXT(RTD(\"cqg.rtd\",,\"ContractData\",K3,\"LastQuote\",,\"T\")-(RTD(\"cqg.rtd\",,\"ContractData\",K3,\"LastQuote\",,\"T\")*RTD(\"cqg.rtd\",,\"ContractData\",\"C.US.\"&K3,\"AverageVolatility\",,\"T\")*SQRT(K42/365)),$D$1),\"\")","v":"2406.54"},null,{"$f":"IF($D$1=\"B\",RTD(\"cqg.rtd\", ,\"ContractData\",K3, \"LastTrade\",,\"B\"),TEXT(RTD(\"cqg.rtd\", ,\"ContractData\",K3, \"LastTrade\",, \"T\"),$D$1))","v":"2434.50"},null,{"$f":"IFERROR(TEXT(RTD(\"cqg.rtd\",,\"ContractData\",K3,\"LastQuote\",,\"T\")+(RTD(\"cqg.rtd\",,\"ContractData\",K3,\"LastQuote\",,\"T\")*RTD(\"cqg.rtd\",,\"ContractData\",\"C.US.\"&K3,\"AverageVolatility\",,\"T\")*SQRT(K42/365)),$D$1),\"\")","v":"2461.96"},null,{"$f":"IFERROR(TEXT(RTD(\"cqg.rtd\",,\"ContractData\",K3,\"LastQuote\",,\"T\")+(2*RTD(\"cqg.rtd\",,\"ContractData\",K3,\"LastQuote\",,\"T\")*RTD(\"cqg.rtd\",,\"ContractData\",\"C.US.\"&K3,\"AverageVolatility\",,\"T\")*SQRT(K42/365)),$D$1),\"\")","v":"2489.67"},null,{"$f":"IFERROR(TEXT(RTD(\"cqg.rtd\",,\"ContractData\",M3,\"LastQuote\",,\"T\")-(2*RTD(\"cqg.rtd\",,\"ContractData\",M3,\"LastQuote\",,\"T\")*RTD(\"cqg.rtd\",,\"ContractData\",\"C.US.\"&M3,\"AverageVolatility\",,\"T\")*SQRT(U42/365)),$D$1),\"\")","v":"2298.69"},null,{"$f":"IFERROR(TEXT(RTD(\"cqg.rtd\",,\"ContractData\",M3,\"LastQuote\",,\"T\")-(RTD(\"cqg.rtd\",,\"ContractData\",M3,\"LastQuote\",,\"T\")*RTD(\"cqg.rtd\",,\"ContractData\",\"C.US.\"&M3,\"AverageVolatility\",,\"T\")*SQRT(U42/365)),$D$1),\"\")","v":"2365.59"},null,{"$f":"IF($D$1=\"B\",RTD(\"cqg.rtd\", ,\"ContractData\",M3, \"LastTrade\",,\"B\"),TEXT(RTD(\"cqg.rtd\", ,\"ContractData\",M3, \"LastTrade\",, \"T\"),$D$1))","v":"2432.00"},null,{"$f":"IFERROR(TEXT(RTD(\"cqg.rtd\",,\"ContractData\",M3,\"LastQuote\",,\"T\")+(RTD(\"cqg.rtd\",,\"ContractData\",M3,\"LastQuote\",,\"T\")*RTD(\"cqg.rtd\",,\"ContractData\",\"C.US.\"&M3,\"AverageVolatility\",,\"T\")*SQRT(U42/365)),$D$1),\"\")","v":"2499.41"},{"$f":"IFERROR(TEXT(RTD(\"cqg.rtd\",,\"ContractData\",M3,\"LastQuote\",,\"T\")+(2*RTD(\"cqg.rtd\",,\"ContractData\",M3,\"LastQuote\",,\"T\")*RTD(\"cqg.rtd\",,\"ContractData\",\"C.US.\"&M3,\"AverageVolatility\",,\"T\")*SQRT(U42/365)),$D$1),\"\")","v":"2566.31"},null,null,{"$f":"IFERROR(TEXT(RTD(\"cqg.rtd\",,\"ContractData\",N3,\"LastQuote\",,\"T\")-(2*RTD(\"cqg.rtd\",,\"ContractData\",N3,\"LastQuote\",,\"T\")*RTD(\"cqg.rtd\",,\"ContractData\",\"C.US.\"&N3,\"AverageVolatility\",,\"T\")*SQRT(AD42/365)),$D$1),\"\")","v":"2249.78"},null,{"$f":"IFERROR(TEXT(RTD(\"cqg.rtd\",,\"ContractData\",N3,\"LastQuote\",,\"T\")-(RTD(\"cqg.rtd\",,\"ContractData\",N3,\"LastQuote\",,\"T\")*RTD(\"cqg.rtd\",,\"ContractData\",\"C.US.\"&N3,\"AverageVolatility\",,\"T\")*SQRT(AD42/365)),$D$1),\"\")","v":"2339.64"},null,{"$f":"IF($D$1=\"B\",RTD(\"cqg.rtd\", ,\"ContractData\",N3, \"LastTrade\",,\"B\"),TEXT(RTD(\"cqg.rtd\", ,\"ContractData\",N3, \"LastTrade\",, \"T\"),$D$1))","v":"2431.50"},null,{"$f":"IFERROR(TEXT(RTD(\"cqg.rtd\",,\"ContractData\",N3,\"LastQuote\",,\"T\")+(RTD(\"cqg.rtd\",,\"ContractData\",N3,\"LastQuote\",,\"T\")*RTD(\"cqg.rtd\",,\"ContractData\",\"C.US.\"&N3,\"AverageVolatility\",,\"T\")*SQRT(AD42/365)),$D$1),\"\")","v":"2519.36"},{"$f":"IFERROR(TEXT(RTD(\"cqg.rtd\",,\"ContractData\",N3,\"LastQuote\",,\"T\")+(2*RTD(\"cqg.rtd\",,\"ContractData\",N3,\"LastQuote\",,\"T\")*RTD(\"cqg.rtd\",,\"ContractData\",\"C.US.\"&N3,\"AverageVolatility\",,\"T\")*SQRT(AD42/365)),$D$1),\"\")","v":"2609.22"}]
[null,null,null,"  Copyright © 2015",null,null,"Designed by Thom Hartle"]

{"sheet":"Display3","index":2,"n_rows":46,"n_cols":32,"rows_kept":46,"cut":false,"hidden":false,"merged":[[4,3,4,4],[4,6,4,7],[4,8,4,9],[4,10,4,11],[4,12,4,13],[5,3,5,5],[5,8,5,9],[1,30,2,31],[2,3,2,4],[2,10,2,11],[3,4,3,5],[3,6,3,7],[3,8,3,9],[3,10,3,11],[3,12,3,13],[3,17,4,17],[3,21,4,23],[1,3,1,4],[1,6,1,8],[1,10,1,13],[1,14,2,26],[1,27,2,27],[1,28,2,29],[8,3,8,5],[8,8,8,9],[8,21,8,23],[9,3,9,5],[9,8,9,9],[9,21,9,23],[5,21,5,23],[6,3,6,5],[6,8,6,9],[6,21,6,23],[7,3,7,5],[7,8,7,9],[7,21,7,23],[12,3,12,5],[12,8,12,9],[12,21,12,23],[13,3,13,5],[13,8,13,9],[13,21,13,23],[10,3,10,5],[10,8,10,9],[10,21,10,23],[11,3,11,5],[11,8,11,9],[11,21,11,23],[16,3,16,5],[16,8,16,9],[16,21,16,23],[17,3,17,5],[17,8,17,9],[17,21,17,23],[14,3,14,5],[14,8,14,9],[14,21,14,23],[15,3,15,5],[15,8,15,9],[15,21,15,23],[20,3,20,5],[20,8,20,9],[20,21,20,23],[21,3,21,5],[21,8,21,9],[21,21,21,23],[18,3,18,5],[18,8,18,9],[18,21,18,23],[19,3,19,5],[19,8,19,9],[19,21,19,23],[24,3,24,5],[24,8,24,9],[24,21,24,23],[25,3,25,5],[25,8,25,9],[25,21,25,23],[22,3,22,5],[22,8,22,9],[22,21,22,23],[23,3,23,5],[23,8,23,9],[23,21,23,23],[28,3,28,5],[28,8,28,9],[28,21,28,23],[29,3,29,5],[29,8,29,9],[29,21,29,23],[26,3,26,5],[26,8,26,9],[26,21,26,23],[27,3,27,5],[27,8,27,9],[27,21,27,23],[32,3,32,5],[32,8,32,9],[32,21,32,23],[33,3,33,5],[33,8,33,9],[33,21,33,23],[30,3,30,5],[30,8,30,9],[30,21,30,23],[31,3,31,5],[31,8,31,9],[31,21,31,23],[36,3,36,5],[36,8,36,9],[36,21,36,23],[37,3,37,5],[37,8,37,9],[37,21,37,23],[34,3,34,5],[34,8,34,9],[34,21,34,23],[35,3,35,5],[35,8,35,9],[35,21,35,23],[40,3,40,5],[40,8,40,9],[40,12,40,25],[41,3,41,9],[41,13,41,19],[41,23,41,28],[38,3,38,5],[38,8,38,9],[38,21,38,23],[39,3,39,5],[39,8,39,9],[39,21,39,23],[42,3,42,4],[42,5,42,10],[42,13,42,14],[42,15,42,20],[42,25,42,28],[43,3,43,4],[43,5,43,6],[43,7,43,8],[43,9,43,10],[43,11,43,12],[44,25,44,26],[44,27,44,28],[44,30,44,31],[45,3,45,5],[45,6,45,10],[43,27,43,28],[43,30,43,31],[44,3,44,4],[44,5,44,6],[44,7,44,8],[44,9,44,10],[44,11,44,12],[44,13,44,14],[44,20,44,21],[44,23,44,24],[43,13,43,14],[43,15,43,16],[43,17,43,18],[43,20,43,21],[43,23,43,24],[43,25,43,26]]}
[null,"Third!$O$1:$N$35",null,{"$f":"IF(F5=\"N\",\"B\",IF(F5=0,\"#\",IF(F5=1,\"#.0\",IF(F5=2,\"#.00\",IF(F5=3,\"#.000\",IF(F5=4,\"#.0000\",IF(F5=5,\"#.00000\",IF(F5=6,\"#.000000\",IF(F5=7,\"#.0000000\")))))))))","v":"#.00"}]
["Third!$AO$1:$AP$35","Third!$I$1:$J$35","Third!$AE$1:$AF$35","Account",null,"Sym:","EP",null,null,"Step","Underlying Symbols",null,null,null,"         CQG Open Options Positions Dashboard",null,null,null,null,null,null,null,null,null,null,null,null,null,"CHICAGO: ",null,{"$f":"RTD(\"cqg.rtd\", ,\"SystemInfo\", \"Linetime\")","v":42907.463738425926}]
[null,"Third!$U$1:$V$35","Third!$AJ$1:$AK$35","PSspread300",null,"M&Yr:","?1","?2","?3",50,"EP?1",null,"EP?2","EP?3"]
[null,"Third!$Z$1:$AA$35","Third!$AO$1:$AP$35","Long","Decimals",null,"Open",null,"OTE",null,"Last",null,"Time of Last Trade",null,"Bid","Bid",null,"TheoVal",null,"Ask","Ask","Long Description",null,null,"Contract","Contract","IV","Vega","Delta","Gamma","Theta","DTE "]
[null,null,null,"Description",null,2,"Position",null,null,null,"Trade",null,{"$f":"RTD(\"cqg.rtd\", ,\"SystemInfo\", \"Linetime\")","v":42907.463738425926},null,"Volume",-0.01,null,null,null,0.02,"Volume",null,null,null,"Volume","Open Int"]
[{"$f":"IF(LEFT(D6,1)=\"C\",\"OptionBidTiMe\",IF(LEFT(D6,1)=\"P\",\"OptionBidTiMe\",\"TMLastBid\"))","v":"TMLastBid"},{"$f":"IF(LEFT(D6,1)=\"C\",\"OptionAskTiMe\",IF(LEFT(D6,1)=\"P\",\"OptionAskTiMe\",\"TMLastAsk\"))","v":"TMLastAsk"},{"$f":"IF(LOOKUP(1,Third!A1:A448)<>1,0,1)","v":0},{"$f":"IF(C6=1,VLOOKUP(Third!I1,INDIRECT($A$2),2),\"\")","v":""},null,null,{"$f":"IF(C6=1,IF(H6>0,\"Long  \",\"Short  \"),\"\")","v":""},{"$f":"IF(C6=1,RTD(\"cqg.rtd\", ,\"OrderData\", \"\"&D6&\"\", \"\", \"OpenPosition\",\"\"&$D$3&\"\"),\"\")","v":""},{"$f":"IF(C6=1,RTD(\"cqg.rtd\", ,\"OrderData\",\"\"&D6&\"\", \"\", \"OpenTradeEquity\",\"\"&$D$3&\"\"),\"\")","v":""},null,{"$f":"IF(C6=0,\"\",IF($D$1=\"B\",RTD(\"cqg.rtd\", ,\"ContractData\",D6, \"LastTrade\",,\"B\"),TEXT(RTD(\"cqg.rtd\", ,\"ContractData\",D6, \"LastTrade\",, \"T\"),$D$1)))","v":""},{"$f":"IF(RTD(\"cqg.rtd\",,\"ContractData\",D6,\"LastTrade\",,\"T\")<RTD(\"cqg.rtd\",,\"ContractData\",D6,\"Bid\",,\"T\"),1,IF(RTD(\"cqg.rtd\",,\"ContractData\",D6,\"LastTrade\",,\"T\")>RTD(\"cqg.rtd\",,\"ContractData\",D6,\"Ask\",,\"T\"),1,0))","v":0},{"$f":"IF(C6=1,RTD(\"cqg.rtd\", ,\"ContractData\",D6, \"TMLastTrade\",, \"T\"),\"\")","v":""},{"$f":"IF(C6=1,MOD($AE$2-M6,1),\"\")","v":""},{"$f":"IF(C6=1,RTD(\"cqg.rtd\", ,\"ContractData\",D6, \"MT_LastBidVolume\",, \"T\"),\"\")","v":""},{"$f":"IF(C6=0,\"\",IF($D$1=\"B\",RTD(\"cqg.rtd\", ,\"ContractData\",D6, \"Bid\",,\"B\"),TEXT(RTD(\"cqg.rtd\", ,\"ContractData\",D6, \"Bid\",, \"T\"),$D$1)))","v":""},{"$f":"IF(R6=\"\",0,IF(R6-P6<$P$5,1,0))","v":0},{"$f":"IF(C6=0,\"\",IF(LEFT(D6,1)=\"F\",\"\",IF($D$1=\"B\",RTD(\"cqg.rtd\", ,\"ContractData\",D6, \"TheoreticalValue\",,\"B\"),TEXT(RTD(\"cqg.rtd\", ,\"ContractData\",D6, \"TheoreticalValue\",, \"T\"),$D$1))))","v":""},{"$f":"IF(R6=\"\",0,IF(R6-T6>$T$5,1,0))","v":0},{"$f":"IF(C6=0,\"\",IF($D$1=\"B\",RTD(\"cqg.rtd\", ,\"ContractData\",D6, \"Ask\",,\"B\"),TEXT(RTD(\"cqg.rtd\", ,\"ContractData\",D6, \"Ask\",, \"T\"),$D$1)))","v":""},{"$f":"IF(C6=1,RTD(\"cqg.rtd\", ,\"ContractData\",D6, \"MT_LastAskVolume\",, \"T\"),\"\")","v":""},{"$f":"D6","v":""},null,null,{"$f":"IF(C6=1,RTD(\"cqg.rtd\", ,\"ContractData\",D6, \"T_CVol\",, \"T\"),\"\")","v":""},{"$f":"IF(C6=1,RTD(\"cqg.rtd\", ,\"ContractData\",D6, \"COI\",, \"T\"),\"\")","v":""},{"$f":"IF(C6=1,RTD(\"cqg.rtd\", ,\"ContractData\",D6, \"ImpliedVolatility\",, \"T\"),\"\")","v":""},{"$f":"IF(C6=1,RTD(\"cqg.rtd\", ,\"ContractData\",D6, \"Vega\",, \"T\"),\"\")","v":""},{"$f":"IF(C6=0,\"\",IF(LEFT(D6,1)=\"F\",H6*100,H6*RTD(\"cqg.rtd\",,\"ContractData\",D6,\"Delta\",,\"T\")))","v":""},{"$f":"IF(C6=1,RTD(\"cqg.rtd\", ,\"ContractData\",D6, \"Gamma\",, \"T\"),\"\")","v":""},{"$f":"IF(C6=1,IF(H6<0,-1*RTD(\"cqg.rtd\", ,\"ContractData\",D6, \"Theta\",, \"T\"),RTD(\"cqg.rtd\", ,\"ContractData\",D6, \"Theta\",, \"T\")),\"\")","v":""},{"$f":"IF(C6=0,\"\",IF(LEFT(D6,1)=\"F\",(RTD(\"cqg.rtd\",,\"ContractData\",D6,\"ExpirationDate\",,\"T\")-TODAY()),RTD(\"cqg.rtd\",,\"ContractData\",D6,\"OptionDaysToExp\",,\"T\")))","v":""}]
[{"$f":"IF(LEFT(D7,1)=\"C\",\"OptionBidTiMe\",IF(LEFT(D7,1)=\"P\",\"OptionBidTiMe\",\"TMLastBid\"))","v":"TMLastBid"},{"$f":"IF(LEFT(D7,1)=\"C\",\"OptionAskTiMe\",IF(LEFT(D7,1)=\"P\",\"OptionAskTiMe\",\"TMLastAsk\"))","v":"TMLastAsk"},{"$f":"IF(LOOKUP(2,Third!A1:A448)<>2,0,1)","v":0},{"$f":"IF(C7=1,VLOOKUP(Third!I2,INDIRECT($A$2),2),\"\")","v":""},null,null,{"$f":"IF(C7=1,IF(H7>0,\"Long  \",\"Short  \"),\"\")","v":""},{"$f":"IF(C7=1,RTD(\"cqg.rtd\", ,\"OrderData\", \"\"&D7&\"\", \"\", \"OpenPosition\",\"\"&$D$3&\"\"),\"\")","v":""},{"$f":"IF(C7=1,RTD(\"cqg.rtd\", ,\"OrderData\",\"\"&D7&\"\", \"\", \"OpenTradeEquity\",\"\"&$D$3&\"\"),\"\")","v":""},null,{"$f":"IF(C7=0,\"\",IF($D$1=\"B\",RTD(\"cqg.rtd\", ,\"ContractData\",D7, \"LastTrade\",,\"B\"),TEXT(RTD(\"cqg.rtd\", ,\"ContractData\",D7, \"LastTrade\",, \"T\"),$D$1)))","v":""},{"$f":"IF(RTD(\"cqg.rtd\",,\"ContractData\",D7,\"LastTrade\",,\"T\")<RTD(\"cqg.rtd\",,\"ContractData\",D7,\"Bid\",,\"T\"),1,IF(RTD(\"cqg.rtd\",,\"ContractData\",D7,\"LastTrade\",,\"T\")>RTD(\"cqg.rtd\",,\"ContractData\",D7,\"Ask\",,\"T\"),1,0))","v":0},{"$f":"IF(C7=1,RTD(\"cqg.rtd\", ,\"ContractData\",D7, \"TMLastTrade\",, \"T\"),\"\")","v":""},{"$f":"IF(C7=1,MOD($AE$2-M7,1),\"\")","v":""},{"$f":"IF(C7=1,RTD(\"cqg.rtd\", ,\"ContractData\",D7, \"MT_LastBidVolume\",, \"T\"),\"\")","v":""},{"$f":"IF(C7=0,\"\",IF($D$1=\"B\",RTD(\"cqg.rtd\", ,\"ContractData\",D7, \"Bid\",,\"B\"),TEXT(RTD(\"cqg.rtd\", ,\"ContractData\",D7, \"Bid\",, \"T\"),$D$1)))","v":""},{"$f":"IF(R7=\"\",0,IF(R7-P7<$P$5,1,0))","v":0},{"$f":"IF(C7=0,\"\",IF(LEFT(D7,1)=\"F\",\"\",IF($D$1=\"B\",RTD(\"cqg.rtd\", ,\"ContractData\",D7, \"TheoreticalValue\",,\"B\"),TEXT(RTD(\"cqg.rtd\", ,\"ContractData\",D7, \"TheoreticalValue\",, \"T\"),$D$1))))","v":""},{"$f":"IF(R7=\"\",0,IF(R7-T7>$T$5,1,0))","v":0},{"$f":"IF(C7=0,\"\",IF($D$1=\"B\",RTD(\"cqg.rtd\", ,\"ContractData\",D7, \"Ask\",,\"B\"),TEXT(RTD(\"cqg.rtd\", ,\"ContractData\",D7, \"Ask\",, \"T\"),$D$1)))","v":""},{"$f":"IF(C7=1,RTD(\"cqg.rtd\", ,\"ContractData\",D7, \"MT_LastAskVolume\",, \"T\"),\"\")","v":""},"",null,null,{"$f":"IF(C7=1,RTD(\"cqg.rtd\", ,\"ContractData\",D7, \"T_CVol\",, \"T\"),\"\")","v":""},{"$f":"IF(C7=1,RTD(\"cqg.rtd\", ,\"ContractData\",D7, \"COI\",, \"T\"),\"\")","v":""},{"$f":"IF(C7=1,RTD(\"cqg.rtd\", ,\"ContractData\",D7, \"ImpliedVolatility\",, \"T\"),\"\")","v":""},{"$f":"IF(C7=1,RTD(\"cqg.rtd\", ,\"ContractData\",D7, \"Vega\",, \"T\"),\"\")","v":""},{"$f":"IF(C7=0,\"\",IF(LEFT(D7,1)=\"F\",H7*100,H7*RTD(\"cqg.rtd\",,\"ContractData\",D7,\"Delta\",,\"T\")))","v":""},{"$f":"IF(C7=1,RTD(\"cqg.rtd\", ,\"ContractData\",D7, \"Gamma\",, \"T\"),\"\")","v":""},{"$f":"IF(C7=1,IF(H7<0,-1*RTD(\"cqg.rtd\", ,\"ContractData\",D7, \"Theta\",, \"T\"),RTD(\"cqg.rtd\", ,\"ContractData\",D7, \"Theta\",, \"T\")),\"\")","v":""},{"$f":"IF(C7=0,\"\",IF(LEFT(D7,1)=\"F\",(RTD(\"cqg.rtd\",,\"ContractData\",D7,\"ExpirationDate\",,\"T\")-TODAY()),RTD(\"cqg.rtd\",,\"ContractData\",D7,\"OptionDaysToExp\",,\"T\")))","v":""}]
["TMLastBid","TMLastAsk",{"$f":"IF(LOOKUP(3,Third!A1:A448)<>3,0,1)","v":0},{"$f":"IF(C8=1,VLOOKUP(Third!I3,INDIRECT($A$2),2),\"\")","v":""},null,null,"",{"$f":"IF(C8=1,RTD(\"cqg.rtd\", ,\"OrderData\", \"\"&D8&\"\", \"\", \"OpenPosition\",\"\"&$D$3&\"\"),\"\")","v":""},{"$f":"IF(C8=1,RTD(\"cqg.rtd\", ,\"OrderData\",\"\"&D8&\"\", \"\", \"OpenTradeEquity\",\"\"&$D$3&\"\"),\"\")","v":""},null,{"$f":"IF(C8=0,\"\",IF($D$1=\"B\",RTD(\"cqg.rtd\", ,\"ContractData\",D8, \"LastTrade\",,\"B\"),TEXT(RTD(\"cqg.rtd\", ,\"ContractData\",D8, \"LastTrade\",, \"T\"),$D$1)))","v":""},{"$f":"IF(RTD(\"cqg.rtd\",,\"ContractData\",D8,\"LastTrade\",,\"T\")<RTD(\"cqg.rtd\",,\"ContractData\",D8,\"Bid\",,\"T\"),1,IF(RTD(\"cqg.rtd\",,\"ContractData\",D8,\"LastTrade\",,\"T\")>RTD(\"cqg.rtd\",,\"ContractData\",D8,\"Ask\",,\"T\"),1,0))","v":0},{"$f":"IF(C8=1,RTD(\"cqg.rtd\", ,\"ContractData\",D8, \"TMLastTrade\",, \"T\"),\"\")","v":""},"",{"$f":"IF(C8=1,RTD(\"cqg.rtd\", ,\"ContractData\",D8, \"MT_LastBidVolume\",, \"T\"),\"\")","v":""},{"$f":"IF(C8=0,\"\",IF($D$1=\"B\",RTD(\"cqg.rtd\", ,\"ContractData\",D8, \"Bid\",,\"B\"),TEXT(RTD(\"cqg.rtd\", ,\"ContractData\",D8, \"Bid\",, \"T\"),$D$1)))","v":""},0,{"$f":"IF(C8=0,\"\",IF(LEFT(D8,1)=\"F\",\"\",IF($D$1=\"B\",RTD(\"cqg.rtd\", ,\"ContractData\",D8, \"TheoreticalValue\",,\"B\"),TEXT(RTD(\"cqg.rtd\", ,\"ContractData\",D8, \"TheoreticalValue\",, \"T\"),$D$1))))","v":""},0,{"$f":"IF(C8=0,\"\",IF($D$1=\"B\",RTD(\"cqg.rtd\", ,\"ContractData\",D8, \"Ask\",,\"B\"),TEXT(RTD(\"cqg.rtd\", ,\"ContractData\",D8, \"Ask\",, \"T\"),$D$1)))","v":""},{"$f":"IF(C8=1,RTD(\"cqg.rtd\", ,\"ContractData\",D8, \"MT_LastAskVolume\",, \"T\"),\"\")","v":""},"",null,null,{"$f":"IF(C8=1,RTD(\"cqg.rtd\", ,\"ContractData\",D8, \"T_CVol\",, \"T\"),\"\")","v":""},{"$f":"IF(C8=1,RTD(\"cqg.rtd\", ,\"ContractData\",D8, \"COI\",, \"T\"),\"\")","v":""},{"$f":"IF(C8=1,RTD(\"cqg.rtd\", ,\"ContractData\",D8, \"ImpliedVolatility\",, \"T\"),\"\")","v":""},{"$f":"IF(C8=1,RTD(\"cqg.rtd\", ,\"ContractData\",D8, \"Vega\",, \"T\"),\"\")","v":""},{"$f":"IF(C8=0,\"\",IF(LEFT(D8,1)=\"F\",H8*100,H8*RTD(\"cqg.rtd\",,\"ContractData\",D8,\"Delta\",,\"T\")))","v":""},{"$f":"IF(C8=1,RTD(\"cqg.rtd\", ,\"ContractData\",D8, \"Gamma\",, \"T\"),\"\")","v":""},{"$f":"IF(C8=1,IF(H8<0,-1*RTD(\"cqg.rtd\", ,\"ContractData\",D8, \"Theta\",, \"T\"),RTD(\"cqg.rtd\", ,\"ContractData\",D8, \"Theta\",, \"T\")),\"\")","v":""},{"$f":"IF(C8=0,\"\",IF(LEFT(D8,1)=\"F\",(RTD(\"cqg.rtd\",,\"ContractData\",D8,\"ExpirationDate\",,\"T\")-TODAY()),RTD(\"cqg.rtd\",,\"ContractData\",D8,\"OptionDaysToExp\",,\"T\")))","v":""}]
["TMLastBid","TMLastAsk",{"$f":"IF(LOOKUP(4,Third!A1:A448)<>4,0,1)","v":0},{"$f":"IF(C9=1,VLOOKUP(Third!I4,INDIRECT($A$2),2),\"\")","v":""},null,null,"",{"$f":"IF(C9=1,RTD(\"cqg.rtd\", ,\"OrderData\", \"\"&D9&\"\", \"\", \"OpenPosition\",\"\"&$D$3&\"\"),\"\")","v":""},{"$f":"IF(C9=1,RTD(\"cqg.rtd\", ,\"OrderData\",\"\"&D9&\"\", \"\", \"OpenTradeEquity\",\"\"&$D$3&\"\"),\"\")","v":""},null,{"$f":"IF(C9=0,\"\",IF($D$1=\"B\",RTD(\"cqg.rtd\", ,\"ContractData\",D9, \"LastTrade\",,\"B\"),TEXT(RTD(\"cqg.rtd\", ,\"ContractData\",D9, \"LastTrade\",, \"T\"),$D$1)))","v":""},{"$f":"IF(RTD(\"cqg.rtd\",,\"ContractData\",D9,\"LastTrade\",,\"T\")<RTD(\"cqg.rtd\",,\"ContractData\",D9,\"Bid\",,\"T\"),1,IF(RTD(\"cqg.rtd\",,\"ContractData\",D9,\"LastTrade\",,\"T\")>RTD(\"cqg.rtd\",,\"ContractData\",D9,\"Ask\",,\"T\"),1,0))","v":0},{"$f":"IF(C9=1,RTD(\"cqg.rtd\", ,\"ContractData\",D9, \"TMLastTrade\",, \"T\"),\"\")","v":""},"",{"$f":"IF(C9=1,RTD(\"cqg.rtd\", ,\"ContractData\",D9, \"MT_LastBidVolume\",, \"T\"),\"\")","v":""},{"$f":"IF(C9=0,\"\",IF($D$1=\"B\",RTD(\"cqg.rtd\", ,\"ContractData\",D9, \"Bid\",,\"B\"),TEXT(RTD(\"cqg.rtd\", ,\"ContractData\",D9, \"Bid\",, \"T\"),$D$1)))","v":""},0,{"$f":"IF(C9=0,\"\",IF(LEFT(D9,1)=\"F\",\"\",IF($D$1=\"B\",RTD(\"cqg.rtd\", ,\"ContractData\",D9, \"TheoreticalValue\",,\"B\"),TEXT(RTD(\"cqg.rtd\", ,\"ContractData\",D9, \"TheoreticalValue\",, \"T\"),$D$1))))","v":""},0,{"$f":"IF(C9=0,\"\",IF($D$1=\"B\",RTD(\"cqg.rtd\", ,\"ContractData\",D9, \"Ask\",,\"B\"),TEXT(RTD(\"cqg.rtd\", ,\"ContractData\",D9, \"Ask\",, \"T\"),$D$1)))","v":""},{"$f":"IF(C9=1,RTD(\"cqg.rtd\", ,\"ContractData\",D9, \"MT_LastAskVolume\",, \"T\"),\"\")","v":""},"",null,null,{"$f":"IF(C9=1,RTD(\"cqg.rtd\", ,\"ContractData\",D9, \"T_CVol\",, \"T\"),\"\")","v":""},{"$f":"IF(C9=1,RTD(\"cqg.rtd\", ,\"ContractData\",D9, \"COI\",, \"T\"),\"\")","v":""},{"$f":"IF(C9=1,RTD(\"cqg.rtd\", ,\"ContractData\",D9, \"ImpliedVolatility\",, \"T\"),\"\")","v":""},{"$f":"IF(C9=1,RTD(\"cqg.rtd\", ,\"ContractData\",D9, \"Vega\",, \"T\"),\"\")","v":""},{"$f":"IF(C9=0,\"\",IF(LEFT(D9,1)=\"F\",H9*100,H9*RTD(\"cqg.rtd\",,\"ContractData\",D9,\"Delta\",,\"T\")))","v":""},{"$f":"IF(C9=1,RTD(\"cqg.rtd\", ,\"ContractData\",D9, \"Gamma\",, \"T\"),\"\")","v":""},{"$f":"IF(C9=1,IF(H9<0,-1*RTD(\"cqg.rtd\", ,\"ContractData\",D9, \"Theta\",, \"T\"),RTD(\"cqg.rtd\", ,\"ContractData\",D9, \"Theta\",, \"T\")),\"\")","v":""},{"$f":"IF(C9=0,\"\",IF(LEFT(D9,1)=\"F\",(RTD(\"cqg.rtd\",,\"ContractData\",D9,\"ExpirationDate\",,\"T\")-TODAY()),RTD(\"cqg.rtd\",,\"ContractData\",D9,\"OptionDaysToExp\",,\"T\")))","v":""}]
["TMLastBid","TMLastAsk",{"$f":"IF(LOOKUP(5,Third!A1:A448)<>5,0,1)","v":0},{"$f":"IF(C10=1,VLOOKUP(Third!I5,INDIRECT($A$2),2),\"\")","v":""},null,null,"",{"$f":"IF(C10=1,RTD(\"cqg.rtd\", ,\"OrderData\", \"\"&D10&\"\", \"\", \"OpenPosition\",\"\"&$D$3&\"\"),\"\")","v":""},{"$f":"IF(C10=1,RTD(\"cqg.rtd\", ,\"OrderData\",\"\"&D10&\"\", \"\", \"OpenTradeEquity\",\"\"&$D$3&\"\"),\"\")","v":""},null,{"$f":"IF(C10=0,\"\",IF($D$1=\"B\",RTD(\"cqg.rtd\", ,\"ContractData\",D10, \"LastTrade\",,\"B\"),TEXT(RTD(\"cqg.rtd\", ,\"ContractData\",D10, \"LastTrade\",, \"T\"),$D$1)))","v":""},{"$f":"IF(RTD(\"cqg.rtd\",,\"ContractData\",D10,\"LastTrade\",,\"T\")<RTD(\"cqg.rtd\",,\"ContractData\",D10,\"Bid\",,\"T\"),1,IF(RTD(\"cqg.rtd\",,\"ContractData\",D10,\"LastTrade\",,\"T\")>RTD(\"cqg.rtd\",,\"ContractData\",D10,\"Ask\",,\"T\"),1,0))","v":0},{"$f":"IF(C10=1,RTD(\"cqg.rtd\", ,\"ContractData\",D10, \"TMLastTrade\",, \"T\"),\"\")","v":""},"",{"$f":"IF(C10=1,RTD(\"cqg.rtd\", ,\"ContractData\",D10, \"MT_LastBidVolume\",, \"T\"),\"\")","v":""},{"$f":"IF(C10=0,\"\",IF($D$1=\"B\",RTD(\"cqg.rtd\", ,\"ContractData\",D10, \"Bid\",,\"B\"),TEXT(RTD(\"cqg.rtd\", ,\"ContractData\",D10, \"Bid\",, \"T\"),$D$1)))","v":""},0,{"$f":"IF(C10=0,\"\",IF(LEFT(D10,1)=\"F\",\"\",IF($D$1=\"B\",RTD(\"cqg.rtd\", ,\"ContractData\",D10, \"TheoreticalValue\",,\"B\"),TEXT(RTD(\"cqg.rtd\", ,\"ContractData\",D10, \"TheoreticalValue\",, \"T\"),$D$1))))","v":""},0,{"$f":"IF(C10=0,\"\",IF($D$1=\"B\",RTD(\"cqg.rtd\", ,\"ContractData\",D10, \"Ask\",,\"B\"),TEXT(RTD(\"cqg.rtd\", ,\"ContractData\",D10, \"Ask\",, \"T\"),$D$1)))","v":""},{"$f":"IF(C10=1,RTD(\"cqg.rtd\", ,\"ContractData\",D10, \"MT_LastAskVolume\",, \"T\"),\"\")","v":""},"",null,null,{"$f":"IF(C10=1,RTD(\"cqg.rtd\", ,\"ContractData\",D10, \"T_CVol\",, \"T\"),\"\")","v":""},{"$f":"IF(C10=1,RTD(\"cqg.rtd\", ,\"ContractData\",D10, \"COI\",, \"T\"),\"\")","v":""},{"$f":"IF(C10=1,RTD(\"cqg.rtd\", ,\"ContractData\",D10, \"ImpliedVolatility\",, \"T\"),\"\")","v":""},{"$f":"IF(C10=1,RTD(\"cqg.rtd\", ,\"ContractData\",D10, \"Vega\",, \"T\"),\"\")","v":""},{"$f":"IF(C10=0,\"\",IF(LEFT(D10,1)=\"F\",H10*100,H10*RTD(\"cqg.rtd\",,\"ContractData\",D10,\"Delta\",,\"T\")))","v":""},{"$f":"IF(C10=1,RTD(\"cqg.rtd\", ,\"ContractData\",D10, \"Gamma\",, \"T\"),\"\")","v":""},{"$f":"IF(C10=1,IF(H10<0,-1*RTD(\"cqg.rtd\", ,\"ContractData\",D10, \"Theta\",, \"T\"),RTD(\"cqg.rtd\", ,\"ContractData\",D10, \"Theta\",, \"T\")),\"\")","v":""},{"$f":"IF(C10=0,\"\",IF(LEFT(D10,1)=\"F\",(RTD(\"cqg.rtd\",,\"ContractData\",D10,\"ExpirationDate\",,\"T\")-TODAY()),RTD(\"cqg.rtd\",,\"ContractData\",D10,\"OptionDaysToExp\",,\"T\")))","v":""}]
["TMLastBid","TMLastAsk",{"$f":"IF(LOOKUP(6,Third!A1:A448)<>6,0,1)","v":0},{"$f":"IF(C11=1,VLOOKUP(Third!I6,INDIRECT($A$2),2),\"\")","v":""},null,null,"",{"$f":"IF(C11=1,RTD(\"cqg.rtd\", ,\"OrderData\", \"\"&D11&\"\", \"\", \"OpenPosition\",\"\"&$D$3&\"\"),\"\")","v":""},{"$f":"IF(C11=1,RTD(\"cqg.rtd\", ,\"OrderData\",\"\"&D11&\"\", \"\", \"OpenTradeEquity\",\"\"&$D$3&\"\"),\"\")","v":""},null,{"$f":"IF(C11=0,\"\",IF($D$1=\"B\",RTD(\"cqg.rtd\", ,\"ContractData\",D11, \"LastTrade\",,\"B\"),TEXT(RTD(\"cqg.rtd\", ,\"ContractData\",D11, \"LastTrade\",, \"T\"),$D$1)))","v":""},{"$f":"IF(RTD(\"cqg.rtd\",,\"ContractData\",D11,\"LastTrade\",,\"T\")<RTD(\"cqg.rtd\",,\"ContractData\",D11,\"Bid\",,\"T\"),1,IF(RTD(\"cqg.rtd\",,\"ContractData\",D11,\"LastTrade\",,\"T\")>RTD(\"cqg.rtd\",,\"ContractData\",D11,\"Ask\",,\"T\"),1,0))","v":0},{"$f":"IF(C11=1,RTD(\"cqg.rtd\", ,\"ContractData\",D11, \"TMLastTrade\",, \"T\"),\"\")","v":""},"",{"$f":"IF(C11=1,RTD(\"cqg.rtd\", ,\"ContractData\",D11, \"MT_LastBidVolume\",, \"T\"),\"\")","v":""},{"$f":"IF(C11=0,\"\",IF($D$1=\"B\",RTD(\"cqg.rtd\", ,\"ContractData\",D11, \"Bid\",,\"B\"),TEXT(RTD(\"cqg.rtd\", ,\"ContractData\",D11, \"Bid\",, \"T\"),$D$1)))","v":""},0,{"$f":"IF(C11=0,\"\",IF(LEFT(D11,1)=\"F\",\"\",IF($D$1=\"B\",RTD(\"cqg.rtd\", ,\"ContractData\",D11, \"TheoreticalValue\",,\"B\"),TEXT(RTD(\"cqg.rtd\", ,\"ContractData\",D11, \"TheoreticalValue\",, \"T\"),$D$1))))","v":""},0,{"$f":"IF(C11=0,\"\",IF($D$1=\"B\",RTD(\"cqg.rtd\", ,\"ContractData\",D11, \"Ask\",,\"B\"),TEXT(RTD(\"cqg.rtd\", ,\"ContractData\",D11, \"Ask\",, \"T\"),$D$1)))","v":""},{"$f":"IF(C11=1,RTD(\"cqg.rtd\", ,\"ContractData\",D11, \"MT_LastAskVolume\",, \"T\"),\"\")","v":""},"",null,null,{"$f":"IF(C11=1,RTD(\"cqg.rtd\", ,\"ContractData\",D11, \"T_CVol\",, \"T\"),\"\")","v":""},{"$f":"IF(C11=1,RTD(\"cqg.rtd\", ,\"ContractData\",D11, \"COI\",, \"T\"),\"\")","v":""},{"$f":"IF(C11=1,RTD(\"cqg.rtd\", ,\"ContractData\",D11, \"ImpliedVolatility\",, \"T\"),\"\")","v":""},{"$f":"IF(C11=1,RTD(\"cqg.rtd\", ,\"ContractData\",D11, \"Vega\",, \"T\"),\"\")","v":""},{"$f":"IF(C11=0,\"\",IF(LEFT(D11,1)=\"F\",H11*100,H11*RTD(\"cqg.rtd\",,\"ContractData\",D11,\"Delta\",,\"T\")))","v":""},{"$f":"IF(C11=1,RTD(\"cqg.rtd\", ,\"ContractData\",D11, \"Gamma\",, \"T\"),\"\")","v":""},{"$f":"IF(C11=1,IF(H11<0,-1*RTD(\"cqg.rtd\", ,\"ContractData\",D11, \"Theta\",, \"T\"),RTD(\"cqg.rtd\", ,\"ContractData\",D11, \"Theta\",, \"T\")),\"\")","v":""},{"$f":"IF(C11=0,\"\",IF(LEFT(D11,1)=\"F\",(RTD(\"cqg.rtd\",,\"ContractData\",D11,\"ExpirationDate\",,\"T\")-TODAY()),RTD(\"cqg.rtd\",,\"ContractData\",D11,\"OptionDaysToExp\",,\"T\")))","v":""}]
["TMLastBid","TMLastAsk",{"$f":"IF(LOOKUP(7,Third!A1:A448)<>7,0,1)","v":0},{"$f":"IF(C12=1,VLOOKUP(Third!I7,INDIRECT($A$2),2),\"\")","v":""},null,null,"",{"$f":"IF(C12=1,RTD(\"cqg.rtd\", ,\"OrderData\", \"\"&D12&\"\", \"\", \"OpenPosition\",\"\"&$D$3&\"\"),\"\")","v":""},{"$f":"IF(C12=1,RTD(\"cqg.rtd\", ,\"OrderData\",\"\"&D12&\"\", \"\", \"OpenTradeEquity\",\"\"&$D$3&\"\"),\"\")","v":""},null,{"$f":"IF(C12=0,\"\",IF($D$1=\"B\",RTD(\"cqg.rtd\", ,\"ContractData\",D12, \"LastTrade\",,\"B\"),TEXT(RTD(\"cqg.rtd\", ,\"ContractData\",D12, \"LastTrade\",, \"T\"),$D$1)))","v":""},{"$f":"IF(RTD(\"cqg.rtd\",,\"ContractData\",D12,\"LastTrade\",,\"T\")<RTD(\"cqg.rtd\",,\"ContractData\",D12,\"Bid\",,\"T\"),1,IF(RTD(\"cqg.rtd\",,\"ContractData\",D12,\"LastTrade\",,\"T\")>RTD(\"cqg.rtd\",,\"ContractData\",D12,\"Ask\",,\"T\"),1,0))","v":0},{"$f":"IF(C12=1,RTD(\"cqg.rtd\", ,\"ContractData\",D12, \"TMLastTrade\",, \"T\"),\"\")","v":""},"",{"$f":"IF(C12=1,RTD(\"cqg.rtd\", ,\"ContractData\",D12, \"MT_LastBidVolume\",, \"T\"),\"\")","v":""},{"$f":"IF(C12=0,\"\",IF($D$1=\"B\",RTD(\"cqg.rtd\", ,\"ContractData\",D12, \"Bid\",,\"B\"),TEXT(RTD(\"cqg.rtd\", ,\"ContractData\",D12, \"Bid\",, \"T\"),$D$1)))","v":""},0,{"$f":"IF(C12=0,\"\",IF(LEFT(D12,1)=\"F\",\"\",IF($D$1=\"B\",RTD(\"cqg.rtd\", ,\"ContractData\",D12, \"TheoreticalValue\",,\"B\"),TEXT(RTD(\"cqg.rtd\", ,\"ContractData\",D12, \"TheoreticalValue\",, \"T\"),$D$1))))","v":""},0,{"$f":"IF(C12=0,\"\",IF($D$1=\"B\",RTD(\"cqg.rtd\", ,\"ContractData\",D12, \"Ask\",,\"B\"),TEXT(RTD(\"cqg.rtd\", ,\"ContractData\",D12, \"Ask\",, \"T\"),$D$1)))","v":""},{"$f":"IF(C12=1,RTD(\"cqg.rtd\", ,\"ContractData\",D12, \"MT_LastAskVolume\",, \"T\"),\"\")","v":""},"",null,null,{"$f":"IF(C12=1,RTD(\"cqg.rtd\", ,\"ContractData\",D12, \"T_CVol\",, \"T\"),\"\")","v":""},{"$f":"IF(C12=1,RTD(\"cqg.rtd\", ,\"ContractData\",D12, \"COI\",, \"T\"),\"\")","v":""},{"$f":"IF(C12=1,RTD(\"cqg.rtd\", ,\"ContractData\",D12, \"ImpliedVolatility\",, \"T\"),\"\")","v":""},{"$f":"IF(C12=1,RTD(\"cqg.rtd\", ,\"ContractData\",D12, \"Vega\",, \"T\"),\"\")","v":""},{"$f":"IF(C12=0,\"\",IF(LEFT(D12,1)=\"F\",H12*100,H12*RTD(\"cqg.rtd\",,\"ContractData\",D12,\"Delta\",,\"T\")))","v":""},{"$f":"IF(C12=1,RTD(\"cqg.rtd\", ,\"ContractData\",D12, \"Gamma\",, \"T\"),\"\")","v":""},{"$f":"IF(C12=1,IF(H12<0,-1*RTD(\"cqg.rtd\", ,\"ContractData\",D12, \"Theta\",, \"T\"),RTD(\"cqg.rtd\", ,\"ContractData\",D12, \"Theta\",, \"T\")),\"\")","v":""},{"$f":"IF(C12=0,\"\",IF(LEFT(D12,1)=\"F\",(RTD(\"cqg.rtd\",,\"ContractData\",D12,\"ExpirationDate\",,\"T\")-TODAY()),RTD(\"cqg.rtd\",,\"ContractData\",D12,\"OptionDaysToExp\",,\"T\")))","v":""}]
["TMLastBid","TMLastAsk",{"$f":"IF(LOOKUP(8,Third!A1:A448)<>8,0,1)","v":0},{"$f":"IF(C13=1,VLOOKUP(Third!I8,INDIRECT($A$2),2),\"\")","v":""},null,null,{"$f":"IF(C13=1,IF(H13>0,\"Long  \",\"Short  \"),\"\")","v":""},{"$f":"IF(C13=1,RTD(\"cqg.rtd\", ,\"OrderData\", \"\"&D13&\"\", \"\", \"OpenPosition\",\"\"&$D$3&\"\"),\"\")","v":""},{"$f":"IF(C13=1,RTD(\"cqg.rtd\", ,\"OrderData\",\"\"&D13&\"\", \"\", \"OpenTradeEquity\",\"\"&$D$3&\"\"),\"\")","v":""},null,{"$f":"IF(C13=0,\"\",IF($D$1=\"B\",RTD(\"cqg.rtd\", ,\"ContractData\",D13, \"LastTrade\",,\"B\"),TEXT(RTD(\"cqg.rtd\", ,\"ContractData\",D13, \"LastTrade\",, \"T\"),$D$1)))","v":""},{"$f":"IF(RTD(\"cqg.rtd\",,\"ContractData\",D13,\"LastTrade\",,\"T\")<RTD(\"cqg.rtd\",,\"ContractData\",D13,\"Bid\",,\"T\"),1,IF(RTD(\"cqg.rtd\",,\"ContractData\",D13,\"LastTrade\",,\"T\")>RTD(\"cqg.rtd\",,\"ContractData\",D13,\"Ask\",,\"T\"),1,0))","v":0},{"$f":"IF(C13=1,RTD(\"cqg.rtd\", ,\"ContractData\",D13, \"TMLastTrade\",, \"T\"),\"\")","v":""},"",{"$f":"IF(C13=1,RTD(\"cqg.rtd\", ,\"ContractData\",D13, \"MT_LastBidVolume\",, \"T\"),\"\")","v":""},{"$f":"IF(C13=0,\"\",IF($D$1=\"B\",RTD(\"cqg.rtd\", ,\"ContractData\",D13, \"Bid\",,\"B\"),TEXT(RTD(\"cqg.rtd\", ,\"ContractData\",D13, \"Bid\",, \"T\"),$D$1)))","v":""},0,{"$f":"IF(C13=0,\"\",IF(LEFT(D13,1)=\"F\",\"\",IF($D$1=\"B\",RTD(\"cqg.rtd\", ,\"ContractData\",D13, \"TheoreticalValue\",,\"B\"),TEXT(RTD(\"cqg.rtd\", ,\"ContractData\",D13, \"TheoreticalValue\",, \"T\"),$D$1))))","v":""},0,{"$f":"IF(C13=0,\"\",IF($D$1=\"B\",RTD(\"cqg.rtd\", ,\"ContractData\",D13, \"Ask\",,\"B\"),TEXT(RTD(\"cqg.rtd\", ,\"ContractData\",D13, \"Ask\",, \"T\"),$D$1)))","v":""},{"$f":"IF(C13=1,RTD(\"cqg.rtd\", ,\"ContractData\",D13, \"MT_LastAskVolume\",, \"T\"),\"\")","v":""},"",null,null,{"$f":"IF(C13=1,RTD(\"cqg.rtd\", ,\"ContractData\",D13, \"T_CVol\",, \"T\"),\"\")","v":""},{"$f":"IF(C13=1,RTD(\"cqg.rtd\", ,\"ContractData\",D13, \"COI\",, \"T\"),\"\")","v":""},{"$f":"IF(C13=1,RTD(\"cqg.rtd\", ,\"ContractData\",D13, \"ImpliedVolatility\",, \"T\"),\"\")","v":""},{"$f":"IF(C13=1,RTD(\"cqg.rtd\", ,\"ContractData\",D13, \"Vega\",, \"T\"),\"\")","v":""},{"$f":"IF(C13=0,\"\",IF(LEFT(D13,1)=\"F\",H13*100,H13*RTD(\"cqg.rtd\",,\"ContractData\",D13,\"Delta\",,\"T\")))","v":""},{"$f":"IF(C13=1,RTD(\"cqg.rtd\", ,\"ContractData\",D13, \"Gamma\",, \"T\"),\"\")","v":""},{"$f":"IF(C13=1,IF(H13<0,-1*RTD(\"cqg.rtd\", ,\"ContractData\",D13, \"Theta\",, \"T\"),RTD(\"cqg.rtd\", ,\"ContractData\",D13, \"Theta\",, \"T\")),\"\")","v":""},{"$f":"IF(C13=0,\"\",IF(LEFT(D13,1)=\"F\",(RTD(\"cqg.rtd\",,\"ContractData\",D13,\"ExpirationDate\",,\"T\")-TODAY()),RTD(\"cqg.rtd\",,\"ContractData\",D13,\"OptionDaysToExp\",,\"T\")))","v":""}]
["TMLastBid","TMLastAsk",{"$f":"IF(LOOKUP(9,Third!A1:A448)<>9,0,1)","v":0},{"$f":"IF(C14=1,VLOOKUP(Third!I9,INDIRECT($A$2),2),\"\")","v":""},null,null,"",{"$f":"IF(C14=1,RTD(\"cqg.rtd\", ,\"OrderData\", \"\"&D14&\"\", \"\", \"OpenPosition\",\"\"&$D$3&\"\"),\"\")","v":""},{"$f":"IF(C14=1,RTD(\"cqg.rtd\", ,\"OrderData\",\"\"&D14&\"\", \"\", \"OpenTradeEquity\",\"\"&$D$3&\"\"),\"\")","v":""},null,{"$f":"IF(C14=0,\"\",IF($D$1=\"B\",RTD(\"cqg.rtd\", ,\"ContractData\",D14, \"LastTrade\",,\"B\"),TEXT(RTD(\"cqg.rtd\", ,\"ContractData\",D14, \"LastTrade\",, \"T\"),$D$1)))","v":""},{"$f":"IF(RTD(\"cqg.rtd\",,\"ContractData\",D14,\"LastTrade\",,\"T\")<RTD(\"cqg.rtd\",,\"ContractData\",D14,\"Bid\",,\"T\"),1,IF(RTD(\"cqg.rtd\",,\"ContractData\",D14,\"LastTrade\",,\"T\")>RTD(\"cqg.rtd\",,\"ContractData\",D14,\"Ask\",,\"T\"),1,0))","v":0},{"$f":"IF(C14=1,RTD(\"cqg.rtd\", ,\"ContractData\",D14, \"TMLastTrade\",, \"T\"),\"\")","v":""},"",{"$f":"IF(C14=1,RTD(\"cqg.rtd\", ,\"ContractData\",D14, \"MT_LastBidVolume\",, \"T\"),\"\")","v":""},{"$f":"IF(C14=0,\"\",IF($D$1=\"B\",RTD(\"cqg.rtd\", ,\"ContractData\",D14, \"Bid\",,\"B\"),TEXT(RTD(\"cqg.rtd\", ,\"ContractData\",D14, \"Bid\",, \"T\"),$D$1)))","v":""},0,{"$f":"IF(C14=0,\"\",IF(LEFT(D14,1)=\"F\",\"\",IF($D$1=\"B\",RTD(\"cqg.rtd\", ,\"ContractData\",D14, \"TheoreticalValue\",,\"B\"),TEXT(RTD(\"cqg.rtd\", ,\"ContractData\",D14, \"TheoreticalValue\",, \"T\"),$D$1))))","v":""},0,{"$f":"IF(C14=0,\"\",IF($D$1=\"B\",RTD(\"cqg.rtd\", ,\"ContractData\",D14, \"Ask\",,\"B\"),TEXT(RTD(\"cqg.rtd\", ,\"ContractData\",D14, \"Ask\",, \"T\"),$D$1)))","v":""},{"$f":"IF(C14=1,RTD(\"cqg.rtd\", ,\"ContractData\",D14, \"MT_LastAskVolume\",, \"T\"),\"\")","v":""},"",null,null,{"$f":"IF(C14=1,RTD(\"cqg.rtd\", ,\"ContractData\",D14, \"T_CVol\",, \"T\"),\"\")","v":""},{"$f":"IF(C14=1,RTD(\"cqg.rtd\", ,\"ContractData\",D14, \"COI\",, \"T\"),\"\")","v":""},{"$f":"IF(C14=1,RTD(\"cqg.rtd\", ,\"ContractData\",D14, \"ImpliedVolatility\",, \"T\"),\"\")","v":""},{"$f":"IF(C14=1,RTD(\"cqg.rtd\", ,\"ContractData\",D14, \"Vega\",, \"T\"),\"\")","v":""},{"$f":"IF(C14=0,\"\",IF(LEFT(D14,1)=\"F\",H14*100,H14*RTD(\"cqg.rtd\",,\"ContractData\",D14,\"Delta\",,\"T\")))","v":""},{"$f":"IF(C14=1,RTD(\"cqg.rtd\", ,\"ContractData\",D14, \"Gamma\",, \"T\"),\"\")","v":""},{"$f":"IF(C14=1,IF(H14<0,-1*RTD(\"cqg.rtd\", ,\"ContractData\",D14, \"Theta\",, \"T\"),RTD(\"cqg.rtd\", ,\"ContractData\",D14, \"Theta\",, \"T\")),\"\")","v":""},{"$f":"IF(C14=0,\"\",IF(LEFT(D14,1)=\"F\",(RTD(\"cqg.rtd\",,\"ContractData\",D14,\"ExpirationDate\",,\"T\")-TODAY()),RTD(\"cqg.rtd\",,\"ContractData\",D14,\"OptionDaysToExp\",,\"T\")))","v":""}]
["TMLastBid","TMLastAsk",{"$f":"IF(LOOKUP(10,Third!A1:A448)<>10,0,1)","v":0},{"$f":"IF(C15=1,VLOOKUP(Third!I10,INDIRECT($A$2),2),\"\")","v":""},null,null,"",{"$f":"IF(C15=1,RTD(\"cqg.rtd\", ,\"OrderData\", \"\"&D15&\"\", \"\", \"OpenPosition\",\"\"&$D$3&\"\"),\"\")","v":""},{"$f":"IF(C15=1,RTD(\"cqg.rtd\", ,\"OrderData\",\"\"&D15&\"\", \"\", \"OpenTradeEquity\",\"\"&$D$3&\"\"),\"\")","v":""},null,{"$f":"IF(C15=0,\"\",IF($D$1=\"B\",RTD(\"cqg.rtd\", ,\"ContractData\",D15, \"LastTrade\",,\"B\"),TEXT(RTD(\"cqg.rtd\", ,\"ContractData\",D15, \"LastTrade\",, \"T\"),$D$1)))","v":""},{"$f":"IF(RTD(\"cqg.rtd\",,\"ContractData\",D15,\"LastTrade\",,\"T\")<RTD(\"cqg.rtd\",,\"ContractData\",D15,\"Bid\",,\"T\"),1,IF(RTD(\"cqg.rtd\",,\"ContractData\",D15,\"LastTrade\",,\"T\")>RTD(\"cqg.rtd\",,\"ContractData\",D15,\"Ask\",,\"T\"),1,0))","v":0},{"$f":"IF(C15=1,RTD(\"cqg.rtd\", ,\"ContractData\",D15, \"TMLastTrade\",, \"T\"),\"\")","v":""},"",{"$f":"IF(C15=1,RTD(\"cqg.rtd\", ,\"ContractData\",D15, \"MT_LastBidVolume\",, \"T\"),\"\")","v":""},{"$f":"IF(C15=0,\"\",IF($D$1=\"B\",RTD(\"cqg.rtd\", ,\"ContractData\",D15, \"Bid\",,\"B\"),TEXT(RTD(\"cqg.rtd\", ,\"ContractData\",D15, \"Bid\",, \"T\"),$D$1)))","v":""},{"$f":"IF(R15=\"\",0,IF(R15-P15<$P$5,1,0))","v":0},{"$f":"IF(C15=0,\"\",IF(LEFT(D15,1)=\"F\",\"\",IF($D$1=\"B\",RTD(\"cqg.rtd\", ,\"ContractData\",D15, \"TheoreticalValue\",,\"B\"),TEXT(RTD(\"cqg.rtd\", ,\"ContractData\",D15, \"TheoreticalValue\",, \"T\"),$D$1))))","v":""},0,{"$f":"IF(C15=0,\"\",IF($D$1=\"B\",RTD(\"cqg.rtd\", ,\"ContractData\",D15, \"Ask\",,\"B\"),TEXT(RTD(\"cqg.rtd\", ,\"ContractData\",D15, \"Ask\",, \"T\"),$D$1)))","v":""},{"$f":"IF(C15=1,RTD(\"cqg.rtd\", ,\"ContractData\",D15, \"MT_LastAskVolume\",, \"T\"),\"\")","v":""},"",null,null,{"$f":"IF(C15=1,RTD(\"cqg.rtd\", ,\"ContractData\",D15, \"T_CVol\",, \"T\"),\"\")","v":""},{"$f":"IF(C15=1,RTD(\"cqg.rtd\", ,\"ContractData\",D15, \"COI\",, \"T\"),\"\")","v":""},{"$f":"IF(C15=1,RTD(\"cqg.rtd\", ,\"ContractData\",D15, \"ImpliedVolatility\",, \"T\"),\"\")","v":""},{"$f":"IF(C15=1,RTD(\"cqg.rtd\", ,\"ContractData\",D15, \"Vega\",, \"T\"),\"\")","v":""},{"$f":"IF(C15=0,\"\",IF(LEFT(D15,1)=\"F\",H15*100,H15*RTD(\"cqg.rtd\",,\"ContractData\",D15,\"Delta\",,\"T\")))","v":""},{"$f":"IF(C15=1,RTD(\"cqg.rtd\", ,\"ContractData\",D15, \"Gamma\",, \"T\"),\"\")","v":""},{"$f":"IF(C15=1,IF(H15<0,-1*RTD(\"cqg.rtd\", ,\"ContractData\",D15, \"Theta\",, \"T\"),RTD(\"cqg.rtd\", ,\"ContractData\",D15, \"Theta\",, \"T\")),\"\")","v":""},{"$f":"IF(C15=0,\"\",IF(LEFT(D15,1)=\"F\",(RTD(\"cqg.rtd\",,\"ContractData\",D15,\"ExpirationDate\",,\"T\")-TODAY()),RTD(\"cqg.rtd\",,\"ContractData\",D15,\"OptionDaysToExp\",,\"T\")))","v":""}]
["TMLastBid","TMLastAsk",{"$f":"IF(LOOKUP(11,Third!A1:A448)<>11,0,1)","v":0},{"$f":"IF(C16=1,VLOOKUP(Third!I11,INDIRECT($A$2),2),\"\")","v":""},null,null,"",{"$f":"IF(C16=1,RTD(\"cqg.rtd\", ,\"OrderData\", \"\"&D16&\"\", \"\", \"OpenPosition\",\"\"&$D$3&\"\"),\"\")","v":""},{"$f":"IF(C16=1,RTD(\"cqg.rtd\", ,\"OrderData\",\"\"&D16&\"\", \"\", \"OpenTradeEquity\",\"\"&$D$3&\"\"),\"\")","v":""},null,{"$f":"IF(C16=0,\"\",IF($D$1=\"B\",RTD(\"cqg.rtd\", ,\"ContractData\",D16, \"LastTrade\",,\"B\"),TEXT(RTD(\"cqg.rtd\", ,\"ContractData\",D16, \"LastTrade\",, \"T\"),$D$1)))","v":""},{"$f":"IF(RTD(\"cqg.rtd\",,\"ContractData\",D16,\"LastTrade\",,\"T\")<RTD(\"cqg.rtd\",,\"ContractData\",D16,\"Bid\",,\"T\"),1,IF(RTD(\"cqg.rtd\",,\"ContractData\",D16,\"LastTrade\",,\"T\")>RTD(\"cqg.rtd\",,\"ContractData\",D16,\"Ask\",,\"T\"),1,0))","v":0},{"$f":"IF(C16=1,RTD(\"cqg.rtd\", ,\"ContractData\",D16, \"TMLastTrade\",, \"T\"),\"\")","v":""},"",{"$f":"IF(C16=1,RTD(\"cqg.rtd\", ,\"ContractData\",D16, \"MT_LastBidVolume\",, \"T\"),\"\")","v":""},{"$f":"IF(C16=0,\"\",IF($D$1=\"B\",RTD(\"cqg.rtd\", ,\"ContractData\",D16, \"Bid\",,\"B\"),TEXT(RTD(\"cqg.rtd\", ,\"ContractData\",D16, \"Bid\",, \"T\"),$D$1)))","v":""},0,{"$f":"IF(C16=0,\"\",IF(LEFT(D16,1)=\"F\",\"\",IF($D$1=\"B\",RTD(\"cqg.rtd\", ,\"ContractData\",D16, \"TheoreticalValue\",,\"B\"),TEXT(RTD(\"cqg.rtd\", ,\"ContractData\",D16, \"TheoreticalValue\",, \"T\"),$D$1))))","v":""},0,{"$f":"IF(C16=0,\"\",IF($D$1=\"B\",RTD(\"cqg.rtd\", ,\"ContractData\",D16, \"Ask\",,\"B\"),TEXT(RTD(\"cqg.rtd\", ,\"ContractData\",D16, \"Ask\",, \"T\"),$D$1)))","v":""},{"$f":"IF(C16=1,RTD(\"cqg.rtd\", ,\"ContractData\",D16, \"MT_LastAskVolume\",, \"T\"),\"\")","v":""},"",null,null,{"$f":"IF(C16=1,RTD(\"cqg.rtd\", ,\"ContractData\",D16, \"T_CVol\",, \"T\"),\"\")","v":""},{"$f":"IF(C16=1,RTD(\"cqg.rtd\", ,\"ContractData\",D16, \"COI\",, \"T\"),\"\")","v":""},{"$f":"IF(C16=1,RTD(\"cqg.rtd\", ,\"ContractData\",D16, \"ImpliedVolatility\",, \"T\"),\"\")","v":""},{"$f":"IF(C16=1,RTD(\"cqg.rtd\", ,\"ContractData\",D16, \"Vega\",, \"T\"),\"\")","v":""},{"$f":"IF(C16=0,\"\",IF(LEFT(D16,1)=\"F\",H16*100,H16*RTD(\"cqg.rtd\",,\"ContractData\",D16,\"Delta\",,\"T\")))","v":""},{"$f":"IF(C16=1,RTD(\"cqg.rtd\", ,\"ContractData\",D16, \"Gamma\",, \"T\"),\"\")","v":""},{"$f":"IF(C16=1,IF(H16<0,-1*RTD(\"cqg.rtd\", ,\"ContractData\",D16, \"Theta\",, \"T\"),RTD(\"cqg.rtd\", ,\"ContractData\",D16, \"Theta\",, \"T\")),\"\")","v":""},{"$f":"IF(C16=0,\"\",IF(LEFT(D16,1)=\"F\",(RTD(\"cqg.rtd\",,\"ContractData\",D16,\"ExpirationDate\",,\"T\")-TODAY()),RTD(\"cqg.rtd\",,\"ContractData\",D16,\"OptionDaysToExp\",,\"T\")))","v":""}]
["TMLastBid","TMLastAsk",{"$f":"IF(LOOKUP(12,Third!A1:A448)<>12,0,1)","v":0},{"$f":"IF(C17=1,VLOOKUP(Third!I12,INDIRECT($A$2),2),\"\")","v":""},null,null,"",{"$f":"IF(C17=1,RTD(\"cqg.rtd\", ,\"OrderData\", \"\"&D17&\"\", \"\", \"OpenPosition\",\"\"&$D$3&\"\"),\"\")","v":""},{"$f":"IF(C17=1,RTD(\"cqg.rtd\", ,\"OrderData\",\"\"&D17&\"\", \"\", \"OpenTradeEquity\",\"\"&$D$3&\"\"),\"\")","v":""},null,{"$f":"IF(C17=0,\"\",IF($D$1=\"B\",RTD(\"cqg.rtd\", ,\"ContractData\",D17, \"LastTrade\",,\"B\"),TEXT(RTD(\"cqg.rtd\", ,\"ContractData\",D17, \"LastTrade\",, \"T\"),$D$1)))","v":""},{"$f":"IF(RTD(\"cqg.rtd\",,\"ContractData\",D17,\"LastTrade\",,\"T\")<RTD(\"cqg.rtd\",,\"ContractData\",D17,\"Bid\",,\"T\"),1,IF(RTD(\"cqg.rtd\",,\"ContractData\",D17,\"LastTrade\",,\"T\")>RTD(\"cqg.rtd\",,\"ContractData\",D17,\"Ask\",,\"T\"),1,0))","v":0},{"$f":"IF(C17=1,RTD(\"cqg.rtd\", ,\"ContractData\",D17, \"TMLastTrade\",, \"T\"),\"\")","v":""},"",{"$f":"IF(C17=1,RTD(\"cqg.rtd\", ,\"ContractData\",D17, \"MT_LastBidVolume\",, \"T\"),\"\")","v":""},{"$f":"IF(C17=0,\"\",IF($D$1=\"B\",RTD(\"cqg.rtd\", ,\"ContractData\",D17, \"Bid\",,\"B\"),TEXT(RTD(\"cqg.rtd\", ,\"ContractData\",D17, \"Bid\",, \"T\"),$D$1)))","v":""},0,{"$f":"IF(C17=0,\"\",IF(LEFT(D17,1)=\"F\",\"\",IF($D$1=\"B\",RTD(\"cqg.rtd\", ,\"ContractData\",D17, \"TheoreticalValue\",,\"B\"),TEXT(RTD(\"cqg.rtd\", ,\"ContractData\",D17, \"TheoreticalValue\",, \"T\"),$D$1))))","v":""},0,{"$f":"IF(C17=0,\"\",IF($D$1=\"B\",RTD(\"cqg.rtd\", ,\"ContractData\",D17, \"Ask\",,\"B\"),TEXT(RTD(\"cqg.rtd\", ,\"ContractData\",D17, \"Ask\",, \"T\"),$D$1)))","v":""},{"$f":"IF(C17=1,RTD(\"cqg.rtd\", ,\"ContractData\",D17, \"MT_LastAskVolume\",, \"T\"),\"\")","v":""},"",null,null,{"$f":"IF(C17=1,RTD(\"cqg.rtd\", ,\"ContractData\",D17, \"T_CVol\",, \"T\"),\"\")","v":""},{"$f":"IF(C17=1,RTD(\"cqg.rtd\", ,\"ContractData\",D17, \"COI\",, \"T\"),\"\")","v":""},{"$f":"IF(C17=1,RTD(\"cqg.rtd\", ,\"ContractData\",D17, \"ImpliedVolatility\",, \"T\"),\"\")","v":""},{"$f":"IF(C17=1,RTD(\"cqg.rtd\", ,\"ContractData\",D17, \"Vega\",, \"T\"),\"\")","v":""},{"$f":"IF(C17=0,\"\",IF(LEFT(D17,1)=\"F\",H17*100,H17*RTD(\"cqg.rtd\",,\"ContractData\",D17,\"Delta\",,\"T\")))","v":""},{"$f":"IF(C17=1,RTD(\"cqg.rtd\", ,\"ContractData\",D17, \"Gamma\",, \"T\"),\"\")","v":""},{"$f":"IF(C17=1,IF(H17<0,-1*RTD(\"cqg.rtd\", ,\"ContractData\",D17, \"Theta\",, \"T\"),RTD(\"cqg.rtd\", ,\"ContractData\",D17, \"Theta\",, \"T\")),\"\")","v":""},{"$f":"IF(C17=0,\"\",IF(LEFT(D17,1)=\"F\",(RTD(\"cqg.rtd\",,\"ContractData\",D17,\"ExpirationDate\",,\"T\")-TODAY()),RTD(\"cqg.rtd\",,\"ContractData\",D17,\"OptionDaysToExp\",,\"T\")))","v":""}]
["TMLastBid","TMLastAsk",{"$f":"IF(LOOKUP(13,Third!A1:A448)<>13,0,1)","v":0},{"$f":"IF(C18=1,VLOOKUP(Third!I13,INDIRECT($A$2),2),\"\")","v":""},null,null,"",{"$f":"IF(C18=1,RTD(\"cqg.rtd\", ,\"OrderData\", \"\"&D18&\"\", \"\", \"OpenPosition\",\"\"&$D$3&\"\"),\"\")","v":""},{"$f":"IF(C18=1,RTD(\"cqg.rtd\", ,\"OrderData\",\"\"&D18&\"\", \"\", \"OpenTradeEquity\",\"\"&$D$3&\"\"),\"\")","v":""},null,{"$f":"IF(C18=0,\"\",IF($D$1=\"B\",RTD(\"cqg.rtd\", ,\"ContractData\",D18, \"LastTrade\",,\"B\"),TEXT(RTD(\"cqg.rtd\", ,\"ContractData\",D18, \"LastTrade\",, \"T\"),$D$1)))","v":""},{"$f":"IF(RTD(\"cqg.rtd\",,\"ContractData\",D18,\"LastTrade\",,\"T\")<RTD(\"cqg.rtd\",,\"ContractData\",D18,\"Bid\",,\"T\"),1,IF(RTD(\"cqg.rtd\",,\"ContractData\",D18,\"LastTrade\",,\"T\")>RTD(\"cqg.rtd\",,\"ContractData\",D18,\"Ask\",,\"T\"),1,0))","v":0},{"$f":"IF(C18=1,RTD(\"cqg.rtd\", ,\"ContractData\",D18, \"TMLastTrade\",, \"T\"),\"\")","v":""},"",{"$f":"IF(C18=1,RTD(\"cqg.rtd\", ,\"ContractData\",D18, \"MT_LastBidVolume\",, \"T\"),\"\")","v":""},{"$f":"IF(C18=0,\"\",IF($D$1=\"B\",RTD(\"cqg.rtd\", ,\"ContractData\",D18, \"Bid\",,\"B\"),TEXT(RTD(\"cqg.rtd\", ,\"ContractData\",D18, \"Bid\",, \"T\"),$D$1)))","v":""},0,{"$f":"IF(C18=0,\"\",IF(LEFT(D18,1)=\"F\",\"\",IF($D$1=\"B\",RTD(\"cqg.rtd\", ,\"ContractData\",D18, \"TheoreticalValue\",,\"B\"),TEXT(RTD(\"cqg.rtd\", ,\"ContractData\",D18, \"TheoreticalValue\",, \"T\"),$D$1))))","v":""},0,{"$f":"IF(C18=0,\"\",IF($D$1=\"B\",RTD(\"cqg.rtd\", ,\"ContractData\",D18, \"Ask\",,\"B\"),TEXT(RTD(\"cqg.rtd\", ,\"ContractData\",D18, \"Ask\",, \"T\"),$D$1)))","v":""},{"$f":"IF(C18=1,RTD(\"cqg.rtd\", ,\"ContractData\",D18, \"MT_LastAskVolume\",, \"T\"),\"\")","v":""},"",null,null,{"$f":"IF(C18=1,RTD(\"cqg.rtd\", ,\"ContractData\",D18, \"T_CVol\",, \"T\"),\"\")","v":""},{"$f":"IF(C18=1,RTD(\"cqg.rtd\", ,\"ContractData\",D18, \"COI\",, \"T\"),\"\")","v":""},{"$f":"IF(C18=1,RTD(\"cqg.rtd\", ,\"ContractData\",D18, \"ImpliedVolatility\",, \"T\"),\"\")","v":""},{"$f":"IF(C18=1,RTD(\"cqg.rtd\", ,\"ContractData\",D18, \"Vega\",, \"T\"),\"\")","v":""},{"$f":"IF(C18=0,\"\",IF(LEFT(D18,1)=\"F\",H18*100,H18*RTD(\"cqg.rtd\",,\"ContractData\",D18,\"Delta\",,\"T\")))","v":""},{"$f":"IF(C18=1,RTD(\"cqg.rtd\", ,\"ContractData\",D18, \"Gamma\",, \"T\"),\"\")","v":""},{"$f":"IF(C18=1,IF(H18<0,-1*RTD(\"cqg.rtd\", ,\"ContractData\",D18, \"Theta\",, \"T\"),RTD(\"cqg.rtd\", ,\"ContractData\",D18, \"Theta\",, \"T\")),\"\")","v":""},{"$f":"IF(C18=0,\"\",IF(LEFT(D18,1)=\"F\",(RTD(\"cqg.rtd\",,\"ContractData\",D18,\"ExpirationDate\",,\"T\")-TODAY()),RTD(\"cqg.rtd\",,\"ContractData\",D18,\"OptionDaysToExp\",,\"T\")))","v":""}]
["TMLastBid","TMLastAsk",{"$f":"IF(LOOKUP(14,Third!A1:A448)<>14,0,1)","v":0},{"$f":"IF(C19=1,VLOOKUP(Third!I14,INDIRECT($A$2),2),\"\")","v":""},null,null,"",{"$f":"IF(C19=1,RTD(\"cqg.rtd\", ,\"OrderData\", \"\"&D19&\"\", \"\", \"OpenPosition\",\"\"&$D$3&\"\"),\"\")","v":""},{"$f":"IF(C19=1,RTD(\"cqg.rtd\", ,\"OrderData\",\"\"&D19&\"\", \"\", \"OpenTradeEquity\",\"\"&$D$3&\"\"),\"\")","v":""},null,{"$f":"IF(C19=0,\"\",IF($D$1=\"B\",RTD(\"cqg.rtd\", ,\"ContractData\",D19, \"LastTrade\",,\"B\"),TEXT(RTD(\"cqg.rtd\", ,\"ContractData\",D19, \"LastTrade\",, \"T\"),$D$1)))","v":""},{"$f":"IF(RTD(\"cqg.rtd\",,\"ContractData\",D19,\"LastTrade\",,\"T\")<RTD(\"cqg.rtd\",,\"ContractData\",D19,\"Bid\",,\"T\"),1,IF(RTD(\"cqg.rtd\",,\"ContractData\",D19,\"LastTrade\",,\"T\")>RTD(\"cqg.rtd\",,\"ContractData\",D19,\"Ask\",,\"T\"),1,0))","v":0},{"$f":"IF(C19=1,RTD(\"cqg.rtd\", ,\"ContractData\",D19, \"TMLastTrade\",, \"T\"),\"\")","v":""},"",{"$f":"IF(C19=1,RTD(\"cqg.rtd\", ,\"ContractData\",D19, \"MT_LastBidVolume\",, \"T\"),\"\")","v":""},{"$f":"IF(C19=0,\"\",IF($D$1=\"B\",RTD(\"cqg.rtd\", ,\"ContractData\",D19, \"Bid\",,\"B\"),TEXT(RTD(\"cqg.rtd\", ,\"ContractData\",D19, \"Bid\",, \"T\"),$D$1)))","v":""},0,{"$f":"IF(C19=0,\"\",IF(LEFT(D19,1)=\"F\",\"\",IF($D$1=\"B\",RTD(\"cqg.rtd\", ,\"ContractData\",D19, \"TheoreticalValue\",,\"B\"),TEXT(RTD(\"cqg.rtd\", ,\"ContractData\",D19, \"TheoreticalValue\",, \"T\"),$D$1))))","v":""},0,{"$f":"IF(C19=0,\"\",IF($D$1=\"B\",RTD(\"cqg.rtd\", ,\"ContractData\",D19, \"Ask\",,\"B\"),TEXT(RTD(\"cqg.rtd\", ,\"ContractData\",D19, \"Ask\",, \"T\"),$D$1)))","v":""},{"$f":"IF(C19=1,RTD(\"cqg.rtd\", ,\"ContractData\",D19, \"MT_LastAskVolume\",, \"T\"),\"\")","v":""},"",null,null,{"$f":"IF(C19=1,RTD(\"cqg.rtd\", ,\"ContractData\",D19, \"T_CVol\",, \"T\"),\"\")","v":""},{"$f":"IF(C19=1,RTD(\"cqg.rtd\", ,\"ContractData\",D19, \"COI\",, \"T\"),\"\")","v":""},{"$f":"IF(C19=1,RTD(\"cqg.rtd\", ,\"ContractData\",D19, \"ImpliedVolatility\",, \"T\"),\"\")","v":""},{"$f":"IF(C19=1,RTD(\"cqg.rtd\", ,\"ContractData\",D19, \"Vega\",, \"T\"),\"\")","v":""},{"$f":"IF(C19=0,\"\",IF(LEFT(D19,1)=\"F\",H19*100,H19*RTD(\"cqg.rtd\",,\"ContractData\",D19,\"Delta\",,\"T\")))","v":""},{"$f":"IF(C19=1,RTD(\"cqg.rtd\", ,\"ContractData\",D19, \"Gamma\",, \"T\"),\"\")","v":""},{"$f":"IF(C19=1,IF(H19<0,-1*RTD(\"cqg.rtd\", ,\"ContractData\",D19, \"Theta\",, \"T\"),RTD(\"cqg.rtd\", ,\"ContractData\",D19, \"Theta\",, \"T\")),\"\")","v":""},{"$f":"IF(C19=0,\"\",IF(LEFT(D19,1)=\"F\",(RTD(\"cqg.rtd\",,\"ContractData\",D19,\"ExpirationDate\",,\"T\")-TODAY()),RTD(\"cqg.rtd\",,\"ContractData\",D19,\"OptionDaysToExp\",,\"T\")))","v":""}]
["TMLastBid","TMLastAsk",{"$f":"IF(LOOKUP(15,Third!A1:A448)<>15,0,1)","v":0},{"$f":"IF(C20=1,VLOOKUP(Third!I15,INDIRECT($A$2),2),\"\")","v":""},null,null,"",{"$f":"IF(C20=1,RTD(\"cqg.rtd\", ,\"OrderData\", \"\"&D20&\"\", \"\", \"OpenPosition\",\"\"&$D$3&\"\"),\"\")","v":""},{"$f":"IF(C20=1,RTD(\"cqg.rtd\", ,\"OrderData\",\"\"&D20&\"\", \"\", \"OpenTradeEquity\",\"\"&$D$3&\"\"),\"\")","v":""},null,{"$f":"IF(C20=0,\"\",IF($D$1=\"B\",RTD(\"cqg.rtd\", ,\"ContractData\",D20, \"LastTrade\",,\"B\"),TEXT(RTD(\"cqg.rtd\", ,\"ContractData\",D20, \"LastTrade\",, \"T\"),$D$1)))","v":""},{"$f":"IF(RTD(\"cqg.rtd\",,\"ContractData\",D20,\"LastTrade\",,\"T\")<RTD(\"cqg.rtd\",,\"ContractData\",D20,\"Bid\",,\"T\"),1,IF(RTD(\"cqg.rtd\",,\"ContractData\",D20,\"LastTrade\",,\"T\")>RTD(\"cqg.rtd\",,\"ContractData\",D20,\"Ask\",,\"T\"),1,0))","v":0},{"$f":"IF(C20=1,RTD(\"cqg.rtd\", ,\"ContractData\",D20, \"TMLastTrade\",, \"T\"),\"\")","v":""},"",{"$f":"IF(C20=1,RTD(\"cqg.rtd\", ,\"ContractData\",D20, \"MT_LastBidVolume\",, \"T\"),\"\")","v":""},{"$f":"IF(C20=0,\"\",IF($D$1=\"B\",RTD(\"cqg.rtd\", ,\"ContractData\",D20, \"Bid\",,\"B\"),TEXT(RTD(\"cqg.rtd\", ,\"ContractData\",D20, \"Bid\",, \"T\"),$D$1)))","v":""},0,{"$f":"IF(C20=0,\"\",IF(LEFT(D20,1)=\"F\",\"\",IF($D$1=\"B\",RTD(\"cqg.rtd\", ,\"ContractData\",D20, \"TheoreticalValue\",,\"B\"),TEXT(RTD(\"cqg.rtd\", ,\"ContractData\",D20, \"TheoreticalValue\",, \"T\"),$D$1))))","v":""},0,{"$f":"IF(C20=0,\"\",IF($D$1=\"B\",RTD(\"cqg.rtd\", ,\"ContractData\",D20, \"Ask\",,\"B\"),TEXT(RTD(\"cqg.rtd\", ,\"ContractData\",D20, \"Ask\",, \"T\"),$D$1)))","v":""},{"$f":"IF(C20=1,RTD(\"cqg.rtd\", ,\"ContractData\",D20, \"MT_LastAskVolume\",, \"T\"),\"\")","v":""},"",null,null,{"$f":"IF(C20=1,RTD(\"cqg.rtd\", ,\"ContractData\",D20, \"T_CVol\",, \"T\"),\"\")","v":""},{"$f":"IF(C20=1,RTD(\"cqg.rtd\", ,\"ContractData\",D20, \"COI\",, \"T\"),\"\")","v":""},{"$f":"IF(C20=1,RTD(\"cqg.rtd\", ,\"ContractData\",D20, \"ImpliedVolatility\",, \"T\"),\"\")","v":""},{"$f":"IF(C20=1,RTD(\"cqg.rtd\", ,\"ContractData\",D20, \"Vega\",, \"T\"),\"\")","v":""},{"$f":"IF(C20=0,\"\",IF(LEFT(D20,1)=\"F\",H20*100,H20*RTD(\"cqg.rtd\",,\"ContractData\",D20,\"Delta\",,\"T\")))","v":""},{"$f":"IF(C20=1,RTD(\"cqg.rtd\", ,\"ContractData\",D20, \"Gamma\",, \"T\"),\"\")","v":""},{"$f":"IF(C20=1,IF(H20<0,-1*RTD(\"cqg.rtd\", ,\"ContractData\",D20, \"Theta\",, \"T\"),RTD(\"cqg.rtd\", ,\"ContractData\",D20, \"Theta\",, \"T\")),\"\")","v":""},{"$f":"IF(C20=0,\"\",IF(LEFT(D20,1)=\"F\",(RTD(\"cqg.rtd\",,\"ContractData\",D20,\"ExpirationDate\",,\"T\")-TODAY()),RTD(\"cqg.rtd\",,\"ContractData\",D20,\"OptionDaysToExp\",,\"T\")))","v":""}]
["TMLastBid","TMLastAsk",{"$f":"IF(LOOKUP(16,Third!A1:A448)<>16,0,1)","v":0},{"$f":"IF(C21=1,VLOOKUP(Third!I16,INDIRECT($A$2),2),\"\")","v":""},null,null,"",{"$f":"IF(C21=1,RTD(\"cqg.rtd\", ,\"OrderData\", \"\"&D21&\"\", \"\", \"OpenPosition\",\"\"&$D$3&\"\"),\"\")","v":""},{"$f":"IF(C21=1,RTD(\"cqg.rtd\", ,\"OrderData\",\"\"&D21&\"\", \"\", \"OpenTradeEquity\",\"\"&$D$3&\"\"),\"\")","v":""},null,{"$f":"IF(C21=0,\"\",IF($D$1=\"B\",RTD(\"cqg.rtd\", ,\"ContractData\",D21, \"LastTrade\",,\"B\"),TEXT(RTD(\"cqg.rtd\", ,\"ContractData\",D21, \"LastTrade\",, \"T\"),$D$1)))","v":""},{"$f":"IF(RTD(\"cqg.rtd\",,\"ContractData\",D21,\"LastTrade\",,\"T\")<RTD(\"cqg.rtd\",,\"ContractData\",D21,\"Bid\",,\"T\"),1,IF(RTD(\"cqg.rtd\",,\"ContractData\",D21,\"LastTrade\",,\"T\")>RTD(\"cqg.rtd\",,\"ContractData\",D21,\"Ask\",,\"T\"),1,0))","v":0},{"$f":"IF(C21=1,RTD(\"cqg.rtd\", ,\"ContractData\",D21, \"TMLastTrade\",, \"T\"),\"\")","v":""},"",{"$f":"IF(C21=1,RTD(\"cqg.rtd\", ,\"ContractData\",D21, \"MT_LastBidVolume\",, \"T\"),\"\")","v":""},{"$f":"IF(C21=0,\"\",IF($D$1=\"B\",RTD(\"cqg.rtd\", ,\"ContractData\",D21, \"Bid\",,\"B\"),TEXT(RTD(\"cqg.rtd\", ,\"ContractData\",D21, \"Bid\",, \"T\"),$D$1)))","v":""},0,{"$f":"IF(C21=0,\"\",IF(LEFT(D21,1)=\"F\",\"\",IF($D$1=\"B\",RTD(\"cqg.rtd\", ,\"ContractData\",D21, \"TheoreticalValue\",,\"B\"),TEXT(RTD(\"cqg.rtd\", ,\"ContractData\",D21, \"TheoreticalValue\",, \"T\"),$D$1))))","v":""},0,{"$f":"IF(C21=0,\"\",IF($D$1=\"B\",RTD(\"cqg.rtd\", ,\"ContractData\",D21, \"Ask\",,\"B\"),TEXT(RTD(\"cqg.rtd\", ,\"ContractData\",D21, \"Ask\",, \"T\"),$D$1)))","v":""},{"$f":"IF(C21=1,RTD(\"cqg.rtd\", ,\"ContractData\",D21, \"MT_LastAskVolume\",, \"T\"),\"\")","v":""},"",null,null,{"$f":"IF(C21=1,RTD(\"cqg.rtd\", ,\"ContractData\",D21, \"T_CVol\",, \"T\"),\"\")","v":""},{"$f":"IF(C21=1,RTD(\"cqg.rtd\", ,\"ContractData\",D21, \"COI\",, \"T\"),\"\")","v":""},{"$f":"IF(C21=1,RTD(\"cqg.rtd\", ,\"ContractData\",D21, \"ImpliedVolatility\",, \"T\"),\"\")","v":""},{"$f":"IF(C21=1,RTD(\"cqg.rtd\", ,\"ContractData\",D21, \"Vega\",, \"T\"),\"\")","v":""},{"$f":"IF(C21=0,\"\",IF(LEFT(D21,1)=\"F\",H21*100,H21*RTD(\"cqg.rtd\",,\"ContractData\",D21,\"Delta\",,\"T\")))","v":""},{"$f":"IF(C21=1,RTD(\"cqg.rtd\", ,\"ContractData\",D21, \"Gamma\",, \"T\"),\"\")","v":""},{"$f":"IF(C21=1,IF(H21<0,-1*RTD(\"cqg.rtd\", ,\"ContractData\",D21, \"Theta\",, \"T\"),RTD(\"cqg.rtd\", ,\"ContractData\",D21, \"Theta\",, \"T\")),\"\")","v":""},{"$f":"IF(C21=0,\"\",IF(LEFT(D21,1)=\"F\",(RTD(\"cqg.rtd\",,\"ContractData\",D21,\"ExpirationDate\",,\"T\")-TODAY()),RTD(\"cqg.rtd\",,\"ContractData\",D21,\"OptionDaysToExp\",,\"T\")))","v":""}]
["TMLastBid","TMLastAsk",{"$f":"IF(LOOKUP(17,Third!A1:A448)<>17,0,1)","v":0},{"$f":"IF(C22=1,VLOOKUP(Third!I17,INDIRECT($A$2),2),\"\")","v":""},null,null,"",{"$f":"IF(C22=1,RTD(\"cqg.rtd\", ,\"OrderData\", \"\"&D22&\"\", \"\", \"OpenPosition\",\"\"&$D$3&\"\"),\"\")","v":""},{"$f":"IF(C22=1,RTD(\"cqg.rtd\", ,\"OrderData\",\"\"&D22&\"\", \"\", \"OpenTradeEquity\",\"\"&$D$3&\"\"),\"\")","v":""},null,{"$f":"IF(C22=0,\"\",IF($D$1=\"B\",RTD(\"cqg.rtd\", ,\"ContractData\",D22, \"LastTrade\",,\"B\"),TEXT(RTD(\"cqg.rtd\", ,\"ContractData\",D22, \"LastTrade\",, \"T\"),$D$1)))","v":""},{"$f":"IF(RTD(\"cqg.rtd\",,\"ContractData\",D22,\"LastTrade\",,\"T\")<RTD(\"cqg.rtd\",,\"ContractData\",D22,\"Bid\",,\"T\"),1,IF(RTD(\"cqg.rtd\",,\"ContractData\",D22,\"LastTrade\",,\"T\")>RTD(\"cqg.rtd\",,\"ContractData\",D22,\"Ask\",,\"T\"),1,0))","v":0},{"$f":"IF(C22=1,RTD(\"cqg.rtd\", ,\"ContractData\",D22, \"TMLastTrade\",, \"T\"),\"\")","v":""},"",{"$f":"IF(C22=1,RTD(\"cqg.rtd\", ,\"ContractData\",D22, \"MT_LastBidVolume\",, \"T\"),\"\")","v":""},{"$f":"IF(C22=0,\"\",IF($D$1=\"B\",RTD(\"cqg.rtd\", ,\"ContractData\",D22, \"Bid\",,\"B\"),TEXT(RTD(\"cqg.rtd\", ,\"ContractData\",D22, \"Bid\",, \"T\"),$D$1)))","v":""},0,{"$f":"IF(C22=0,\"\",IF(LEFT(D22,1)=\"F\",\"\",IF($D$1=\"B\",RTD(\"cqg.rtd\", ,\"ContractData\",D22, \"TheoreticalValue\",,\"B\"),TEXT(RTD(\"cqg.rtd\", ,\"ContractData\",D22, \"TheoreticalValue\",, \"T\"),$D$1))))","v":""},0,{"$f":"IF(C22=0,\"\",IF($D$1=\"B\",RTD(\"cqg.rtd\", ,\"ContractData\",D22, \"Ask\",,\"B\"),TEXT(RTD(\"cqg.rtd\", ,\"ContractData\",D22, \"Ask\",, \"T\"),$D$1)))","v":""},{"$f":"IF(C22=1,RTD(\"cqg.rtd\", ,\"ContractData\",D22, \"MT_LastAskVolume\",, \"T\"),\"\")","v":""},"",null,null,{"$f":"IF(C22=1,RTD(\"cqg.rtd\", ,\"ContractData\",D22, \"T_CVol\",, \"T\"),\"\")","v":""},{"$f":"IF(C22=1,RTD(\"cqg.rtd\", ,\"ContractData\",D22, \"COI\",, \"T\"),\"\")","v":""},{"$f":"IF(C22=1,RTD(\"cqg.rtd\", ,\"ContractData\",D22, \"ImpliedVolatility\",, \"T\"),\"\")","v":""},{"$f":"IF(C22=1,RTD(\"cqg.rtd\", ,\"ContractData\",D22, \"Vega\",, \"T\"),\"\")","v":""},{"$f":"IF(C22=0,\"\",IF(LEFT(D22,1)=\"F\",H22*100,H22*RTD(\"cqg.rtd\",,\"ContractData\",D22,\"Delta\",,\"T\")))","v":""},{"$f":"IF(C22=1,RTD(\"cqg.rtd\", ,\"ContractData\",D22, \"Gamma\",, \"T\"),\"\")","v":""},{"$f":"IF(C22=1,IF(H22<0,-1*RTD(\"cqg.rtd\", ,\"ContractData\",D22, \"Theta\",, \"T\"),RTD(\"cqg.rtd\", ,\"ContractData\",D22, \"Theta\",, \"T\")),\"\")","v":""},{"$f":"IF(C22=0,\"\",IF(LEFT(D22,1)=\"F\",(RTD(\"cqg.rtd\",,\"ContractData\",D22,\"ExpirationDate\",,\"T\")-TODAY()),RTD(\"cqg.rtd\",,\"ContractData\",D22,\"OptionDaysToExp\",,\"T\")))","v":""}]
["TMLastBid","TMLastAsk",{"$f":"IF(LOOKUP(18,Third!A1:A448)<>18,0,1)","v":0},{"$f":"IF(C23=1,VLOOKUP(Third!I18,INDIRECT($A$2),2),\"\")","v":""},null,null,"",{"$f":"IF(C23=1,RTD(\"cqg.rtd\", ,\"OrderData\", \"\"&D23&\"\", \"\", \"OpenPosition\",\"\"&$D$3&\"\"),\"\")","v":""},{"$f":"IF(C23=1,RTD(\"cqg.rtd\", ,\"OrderData\",\"\"&D23&\"\", \"\", \"OpenTradeEquity\",\"\"&$D$3&\"\"),\"\")","v":""},null,{"$f":"IF(C23=0,\"\",IF($D$1=\"B\",RTD(\"cqg.rtd\", ,\"ContractData\",D23, \"LastTrade\",,\"B\"),TEXT(RTD(\"cqg.rtd\", ,\"ContractData\",D23, \"LastTrade\",, \"T\"),$D$1)))","v":""},{"$f":"IF(RTD(\"cqg.rtd\",,\"ContractData\",D23,\"LastTrade\",,\"T\")<RTD(\"cqg.rtd\",,\"ContractData\",D23,\"Bid\",,\"T\"),1,IF(RTD(\"cqg.rtd\",,\"ContractData\",D23,\"LastTrade\",,\"T\")>RTD(\"cqg.rtd\",,\"ContractData\",D23,\"Ask\",,\"T\"),1,0))","v":0},{"$f":"IF(C23=1,RTD(\"cqg.rtd\", ,\"ContractData\",D23, \"TMLastTrade\",, \"T\"),\"\")","v":""},"",{"$f":"IF(C23=1,RTD(\"cqg.rtd\", ,\"ContractData\",D23, \"MT_LastBidVolume\",, \"T\"),\"\")","v":""},{"$f":"IF(C23=0,\"\",IF($D$1=\"B\",RTD(\"cqg.rtd\", ,\"ContractData\",D23, \"Bid\",,\"B\"),TEXT(RTD(\"cqg.rtd\", ,\"ContractData\",D23, \"Bid\",, \"T\"),$D$1)))","v":""},0,{"$f":"IF(C23=0,\"\",IF(LEFT(D23,1)=\"F\",\"\",IF($D$1=\"B\",RTD(\"cqg.rtd\", ,\"ContractData\",D23, \"TheoreticalValue\",,\"B\"),TEXT(RTD(\"cqg.rtd\", ,\"ContractData\",D23, \"TheoreticalValue\",, \"T\"),$D$1))))","v":""},0,{"$f":"IF(C23=0,\"\",IF($D$1=\"B\",RTD(\"cqg.rtd\", ,\"ContractData\",D23, \"Ask\",,\"B\"),TEXT(RTD(\"cqg.rtd\", ,\"ContractData\",D23, \"Ask\",, \"T\"),$D$1)))","v":""},{"$f":"IF(C23=1,RTD(\"cqg.rtd\", ,\"ContractData\",D23, \"MT_LastAskVolume\",, \"T\"),\"\")","v":""},"",null,null,{"$f":"IF(C23=1,RTD(\"cqg.rtd\", ,\"ContractData\",D23, \"T_CVol\",, \"T\"),\"\")","v":""},{"$f":"IF(C23=1,RTD(\"cqg.rtd\", ,\"ContractData\",D23, \"COI\",, \"T\"),\"\")","v":""},{"$f":"IF(C23=1,RTD(\"cqg.rtd\", ,\"ContractData\",D23, \"ImpliedVolatility\",, \"T\"),\"\")","v":""},{"$f":"IF(C23=1,RTD(\"cqg.rtd\", ,\"ContractData\",D23, \"Vega\",, \"T\"),\"\")","v":""},{"$f":"IF(C23=0,\"\",IF(LEFT(D23,1)=\"F\",H23*100,H23*RTD(\"cqg.rtd\",,\"ContractData\",D23,\"Delta\",,\"T\")))","v":""},{"$f":"IF(C23=1,RTD(\"cqg.rtd\", ,\"ContractData\",D23, \"Gamma\",, \"T\"),\"\")","v":""},{"$f":"IF(C23=1,IF(H23<0,-1*RTD(\"cqg.rtd\", ,\"ContractData\",D23, \"Theta\",, \"T\"),RTD(\"cqg.rtd\", ,\"ContractData\",D23, \"Theta\",, \"T\")),\"\")","v":""},{"$f":"IF(C23=0,\"\",IF(LEFT(D23,1)=\"F\",(RTD(\"cqg.rtd\",,\"ContractData\",D23,\"ExpirationDate\",,\"T\")-TODAY()),RTD(\"cqg.rtd\",,\"ContractData\",D23,\"OptionDaysToExp\",,\"T\")))","v":""}]
["TMLastBid","TMLastAsk",{"$f":"IF(LOOKUP(19,Third!A1:A448)<>19,0,1)","v":0},{"$f":"IF(C24=1,VLOOKUP(Third!I19,INDIRECT($A$2),2),\"\")","v":""},null,null,"",{"$f":"IF(C24=1,RTD(\"cqg.rtd\", ,\"OrderData\", \"\"&D24&\"\", \"\", \"OpenPosition\",\"\"&$D$3&\"\"),\"\")","v":""},{"$f":"IF(C24=1,RTD(\"cqg.rtd\", ,\"OrderData\",\"\"&D24&\"\", \"\", \"OpenTradeEquity\",\"\"&$D$3&\"\"),\"\")","v":""},null,{"$f":"IF(C24=0,\"\",IF($D$1=\"B\",RTD(\"cqg.rtd\", ,\"ContractData\",D24, \"LastTrade\",,\"B\"),TEXT(RTD(\"cqg.rtd\", ,\"ContractData\",D24, \"LastTrade\",, \"T\"),$D$1)))","v":""},{"$f":"IF(RTD(\"cqg.rtd\",,\"ContractData\",D24,\"LastTrade\",,\"T\")<RTD(\"cqg.rtd\",,\"ContractData\",D24,\"Bid\",,\"T\"),1,IF(RTD(\"cqg.rtd\",,\"ContractData\",D24,\"LastTrade\",,\"T\")>RTD(\"cqg.rtd\",,\"ContractData\",D24,\"Ask\",,\"T\"),1,0))","v":0},{"$f":"IF(C24=1,RTD(\"cqg.rtd\", ,\"ContractData\",D24, \"TMLastTrade\",, \"T\"),\"\")","v":""},"",{"$f":"IF(C24=1,RTD(\"cqg.rtd\", ,\"ContractData\",D24, \"MT_LastBidVolume\",, \"T\"),\"\")","v":""},{"$f":"IF(C24=0,\"\",IF($D$1=\"B\",RTD(\"cqg.rtd\", ,\"ContractData\",D24, \"Bid\",,\"B\"),TEXT(RTD(\"cqg.rtd\", ,\"ContractData\",D24, \"Bid\",, \"T\"),$D$1)))","v":""},0,{"$f":"IF(C24=0,\"\",IF(LEFT(D24,1)=\"F\",\"\",IF($D$1=\"B\",RTD(\"cqg.rtd\", ,\"ContractData\",D24, \"TheoreticalValue\",,\"B\"),TEXT(RTD(\"cqg.rtd\", ,\"ContractData\",D24, \"TheoreticalValue\",, \"T\"),$D$1))))","v":""},0,{"$f":"IF(C24=0,\"\",IF($D$1=\"B\",RTD(\"cqg.rtd\", ,\"ContractData\",D24, \"Ask\",,\"B\"),TEXT(RTD(\"cqg.rtd\", ,\"ContractData\",D24, \"Ask\",, \"T\"),$D$1)))","v":""},{"$f":"IF(C24=1,RTD(\"cqg.rtd\", ,\"ContractData\",D24, \"MT_LastAskVolume\",, \"T\"),\"\")","v":""},"",null,null,{"$f":"IF(C24=1,RTD(\"cqg.rtd\", ,\"ContractData\",D24, \"T_CVol\",, \"T\"),\"\")","v":""},{"$f":"IF(C24=1,RTD(\"cqg.rtd\", ,\"ContractData\",D24, \"COI\",, \"T\"),\"\")","v":""},{"$f":"IF(C24=1,RTD(\"cqg.rtd\", ,\"ContractData\",D24, \"ImpliedVolatility\",, \"T\"),\"\")","v":""},{"$f":"IF(C24=1,RTD(\"cqg.rtd\", ,\"ContractData\",D24, \"Vega\",, \"T\"),\"\")","v":""},{"$f":"IF(C24=0,\"\",IF(LEFT(D24,1)=\"F\",H24*100,H24*RTD(\"cqg.rtd\",,\"ContractData\",D24,\"Delta\",,\"T\")))","v":""},{"$f":"IF(C24=1,RTD(\"cqg.rtd\", ,\"ContractData\",D24, \"Gamma\",, \"T\"),\"\")","v":""},{"$f":"IF(C24=1,IF(H24<0,-1*RTD(\"cqg.rtd\", ,\"ContractData\",D24, \"Theta\",, \"T\"),RTD(\"cqg.rtd\", ,\"ContractData\",D24, \"Theta\",, \"T\")),\"\")","v":""},{"$f":"IF(C24=0,\"\",IF(LEFT(D24,1)=\"F\",(RTD(\"cqg.rtd\",,\"ContractData\",D24,\"ExpirationDate\",,\"T\")-TODAY()),RTD(\"cqg.rtd\",,\"ContractData\",D24,\"OptionDaysToExp\",,\"T\")))","v":""}]
["TMLastBid","TMLastAsk",{"$f":"IF(LOOKUP(20,Third!A1:A448)<>20,0,1)","v":0},{"$f":"IF(C25=1,VLOOKUP(Third!I20,INDIRECT($A$2),2),\"\")","v":""},null,null,"",{"$f":"IF(C25=1,RTD(\"cqg.rtd\", ,\"OrderData\", \"\"&D25&\"\", \"\", \"OpenPosition\",\"\"&$D$3&\"\"),\"\")","v":""},{"$f":"IF(C25=1,RTD(\"cqg.rtd\", ,\"OrderData\",\"\"&D25&\"\", \"\", \"OpenTradeEquity\",\"\"&$D$3&\"\"),\"\")","v":""},null,{"$f":"IF(C25=0,\"\",IF($D$1=\"B\",RTD(\"cqg.rtd\", ,\"ContractData\",D25, \"LastTrade\",,\"B\"),TEXT(RTD(\"cqg.rtd\", ,\"ContractData\",D25, \"LastTrade\",, \"T\"),$D$1)))","v":""},{"$f":"IF(RTD(\"cqg.rtd\",,\"ContractData\",D25,\"LastTrade\",,\"T\")<RTD(\"cqg.rtd\",,\"ContractData\",D25,\"Bid\",,\"T\"),1,IF(RTD(\"cqg.rtd\",,\"ContractData\",D25,\"LastTrade\",,\"T\")>RTD(\"cqg.rtd\",,\"ContractData\",D25,\"Ask\",,\"T\"),1,0))","v":0},{"$f":"IF(C25=1,RTD(\"cqg.rtd\", ,\"ContractData\",D25, \"TMLastTrade\",, \"T\"),\"\")","v":""},"",{"$f":"IF(C25=1,RTD(\"cqg.rtd\", ,\"ContractData\",D25, \"MT_LastBidVolume\",, \"T\"),\"\")","v":""},{"$f":"IF(C25=0,\"\",IF($D$1=\"B\",RTD(\"cqg.rtd\", ,\"ContractData\",D25, \"Bid\",,\"B\"),TEXT(RTD(\"cqg.rtd\", ,\"ContractData\",D25, \"Bid\",, \"T\"),$D$1)))","v":""},0,{"$f":"IF(C25=0,\"\",IF(LEFT(D25,1)=\"F\",\"\",IF($D$1=\"B\",RTD(\"cqg.rtd\", ,\"ContractData\",D25, \"TheoreticalValue\",,\"B\"),TEXT(RTD(\"cqg.rtd\", ,\"ContractData\",D25, \"TheoreticalValue\",, \"T\"),$D$1))))","v":""},0,{"$f":"IF(C25=0,\"\",IF($D$1=\"B\",RTD(\"cqg.rtd\", ,\"ContractData\",D25, \"Ask\",,\"B\"),TEXT(RTD(\"cqg.rtd\", ,\"ContractData\",D25, \"Ask\",, \"T\"),$D$1)))","v":""},{"$f":"IF(C25=1,RTD(\"cqg.rtd\", ,\"ContractData\",D25, \"MT_LastAskVolume\",, \"T\"),\"\")","v":""},"",null,null,{"$f":"IF(C25=1,RTD(\"cqg.rtd\", ,\"ContractData\",D25, \"T_CVol\",, \"T\"),\"\")","v":""},{"$f":"IF(C25=1,RTD(\"cqg.rtd\", ,\"ContractData\",D25, \"COI\",, \"T\"),\"\")","v":""},{"$f":"IF(C25=1,RTD(\"cqg.rtd\", ,\"ContractData\",D25, \"ImpliedVolatility\",, \"T\"),\"\")","v":""},{"$f":"IF(C25=1,RTD(\"cqg.rtd\", ,\"ContractData\",D25, \"Vega\",, \"T\"),\"\")","v":""},{"$f":"IF(C25=0,\"\",IF(LEFT(D25,1)=\"F\",H25*100,H25*RTD(\"cqg.rtd\",,\"ContractData\",D25,\"Delta\",,\"T\")))","v":""},{"$f":"IF(C25=1,RTD(\"cqg.rtd\", ,\"ContractData\",D25, \"Gamma\",, \"T\"),\"\")","v":""},{"$f":"IF(C25=1,IF(H25<0,-1*RTD(\"cqg.rtd\", ,\"ContractData\",D25, \"Theta\",, \"T\"),RTD(\"cqg.rtd\", ,\"ContractData\",D25, \"Theta\",, \"T\")),\"\")","v":""},{"$f":"IF(C25=0,\"\",IF(LEFT(D25,1)=\"F\",(RTD(\"cqg.rtd\",,\"ContractData\",D25,\"ExpirationDate\",,\"T\")-TODAY()),RTD(\"cqg.rtd\",,\"ContractData\",D25,\"OptionDaysToExp\",,\"T\")))","v":""}]
["TMLastBid","TMLastAsk",{"$f":"IF(LOOKUP(21,Third!A1:A448)<>21,0,1)","v":0},{"$f":"IF(C26=1,VLOOKUP(Third!I21,INDIRECT($A$2),2),\"\")","v":""},null,null,"",{"$f":"IF(C26=1,RTD(\"cqg.rtd\", ,\"OrderData\", \"\"&D26&\"\", \"\", \"OpenPosition\",\"\"&$D$3&\"\"),\"\")","v":""},{"$f":"IF(C26=1,RTD(\"cqg.rtd\", ,\"OrderData\",\"\"&D26&\"\", \"\", \"OpenTradeEquity\",\"\"&$D$3&\"\"),\"\")","v":""},null,{"$f":"IF(C26=0,\"\",IF($D$1=\"B\",RTD(\"cqg.rtd\", ,\"ContractData\",D26, \"LastTrade\",,\"B\"),TEXT(RTD(\"cqg.rtd\", ,\"ContractData\",D26, \"LastTrade\",, \"T\"),$D$1)))","v":""},{"$f":"IF(RTD(\"cqg.rtd\",,\"ContractData\",D26,\"LastTrade\",,\"T\")<RTD(\"cqg.rtd\",,\"ContractData\",D26,\"Bid\",,\"T\"),1,IF(RTD(\"cqg.rtd\",,\"ContractData\",D26,\"LastTrade\",,\"T\")>RTD(\"cqg.rtd\",,\"ContractData\",D26,\"Ask\",,\"T\"),1,0))","v":0},{"$f":"IF(C26=1,RTD(\"cqg.rtd\", ,\"ContractData\",D26, \"TMLastTrade\",, \"T\"),\"\")","v":""},"",{"$f":"IF(C26=1,RTD(\"cqg.rtd\", ,\"ContractData\",D26, \"MT_LastBidVolume\",, \"T\"),\"\")","v":""},{"$f":"IF(C26=0,\"\",IF($D$1=\"B\",RTD(\"cqg.rtd\", ,\"ContractData\",D26, \"Bid\",,\"B\"),TEXT(RTD(\"cqg.rtd\", ,\"ContractData\",D26, \"Bid\",, \"T\"),$D$1)))","v":""},0,{"$f":"IF(C26=0,\"\",IF(LEFT(D26,1)=\"F\",\"\",IF($D$1=\"B\",RTD(\"cqg.rtd\", ,\"ContractData\",D26, \"TheoreticalValue\",,\"B\"),TEXT(RTD(\"cqg.rtd\", ,\"ContractData\",D26, \"TheoreticalValue\",, \"T\"),$D$1))))","v":""},0,{"$f":"IF(C26=0,\"\",IF($D$1=\"B\",RTD(\"cqg.rtd\", ,\"ContractData\",D26, \"Ask\",,\"B\"),TEXT(RTD(\"cqg.rtd\", ,\"ContractData\",D26, \"Ask\",, \"T\"),$D$1)))","v":""},{"$f":"IF(C26=1,RTD(\"cqg.rtd\", ,\"ContractData\",D26, \"MT_LastAskVolume\",, \"T\"),\"\")","v":""},"",null,null,{"$f":"IF(C26=1,RTD(\"cqg.rtd\", ,\"ContractData\",D26, \"T_CVol\",, \"T\"),\"\")","v":""},{"$f":"IF(C26=1,RTD(\"cqg.rtd\", ,\"ContractData\",D26, \"COI\",, \"T\"),\"\")","v":""},{"$f":"IF(C26=1,RTD(\"cqg.rtd\", ,\"ContractData\",D26, \"ImpliedVolatility\",, \"T\"),\"\")","v":""},{"$f":"IF(C26=1,RTD(\"cqg.rtd\", ,\"ContractData\",D26, \"Vega\",, \"T\"),\"\")","v":""},{"$f":"IF(C26=0,\"\",IF(LEFT(D26,1)=\"F\",H26*100,H26*RTD(\"cqg.rtd\",,\"ContractData\",D26,\"Delta\",,\"T\")))","v":""},{"$f":"IF(C26=1,RTD(\"cqg.rtd\", ,\"ContractData\",D26, \"Gamma\",, \"T\"),\"\")","v":""},{"$f":"IF(C26=1,IF(H26<0,-1*RTD(\"cqg.rtd\", ,\"ContractData\",D26, \"Theta\",, \"T\"),RTD(\"cqg.rtd\", ,\"ContractData\",D26, \"Theta\",, \"T\")),\"\")","v":""},{"$f":"IF(C26=0,\"\",IF(LEFT(D26,1)=\"F\",(RTD(\"cqg.rtd\",,\"ContractData\",D26,\"ExpirationDate\",,\"T\")-TODAY()),RTD(\"cqg.rtd\",,\"ContractData\",D26,\"OptionDaysToExp\",,\"T\")))","v":""}]
["TMLastBid","TMLastAsk",{"$f":"IF(LOOKUP(22,Third!A1:A448)<>22,0,1)","v":0},{"$f":"IF(C27=1,VLOOKUP(Third!I22,INDIRECT($A$2),2),\"\")","v":""},null,null,"",{"$f":"IF(C27=1,RTD(\"cqg.rtd\", ,\"OrderData\", \"\"&D27&\"\", \"\", \"OpenPosition\",\"\"&$D$3&\"\"),\"\")","v":""},{"$f":"IF(C27=1,RTD(\"cqg.rtd\", ,\"OrderData\",\"\"&D27&\"\", \"\", \"OpenTradeEquity\",\"\"&$D$3&\"\"),\"\")","v":""},null,{"$f":"IF(C27=0,\"\",IF($D$1=\"B\",RTD(\"cqg.rtd\", ,\"ContractData\",D27, \"LastTrade\",,\"B\"),TEXT(RTD(\"cqg.rtd\", ,\"ContractData\",D27, \"LastTrade\",, \"T\"),$D$1)))","v":""},{"$f":"IF(RTD(\"cqg.rtd\",,\"ContractData\",D27,\"LastTrade\",,\"T\")<RTD(\"cqg.rtd\",,\"ContractData\",D27,\"Bid\",,\"T\"),1,IF(RTD(\"cqg.rtd\",,\"ContractData\",D27,\"LastTrade\",,\"T\")>RTD(\"cqg.rtd\",,\"ContractData\",D27,\"Ask\",,\"T\"),1,0))","v":0},{"$f":"IF(C27=1,RTD(\"cqg.rtd\", ,\"ContractData\",D27, \"TMLastTrade\",, \"T\"),\"\")","v":""},"",{"$f":"IF(C27=1,RTD(\"cqg.rtd\", ,\"ContractData\",D27, \"MT_LastBidVolume\",, \"T\"),\"\")","v":""},{"$f":"IF(C27=0,\"\",IF($D$1=\"B\",RTD(\"cqg.rtd\", ,\"ContractData\",D27, \"Bid\",,\"B\"),TEXT(RTD(\"cqg.rtd\", ,\"ContractData\",D27, \"Bid\",, \"T\"),$D$1)))","v":""},0,{"$f":"IF(C27=0,\"\",IF(LEFT(D27,1)=\"F\",\"\",IF($D$1=\"B\",RTD(\"cqg.rtd\", ,\"ContractData\",D27, \"TheoreticalValue\",,\"B\"),TEXT(RTD(\"cqg.rtd\", ,\"ContractData\",D27, \"TheoreticalValue\",, \"T\"),$D$1))))","v":""},0,{"$f":"IF(C27=0,\"\",IF($D$1=\"B\",RTD(\"cqg.rtd\", ,\"ContractData\",D27, \"Ask\",,\"B\"),TEXT(RTD(\"cqg.rtd\", ,\"ContractData\",D27, \"Ask\",, \"T\"),$D$1)))","v":""},{"$f":"IF(C27=1,RTD(\"cqg.rtd\", ,\"ContractData\",D27, \"MT_LastAskVolume\",, \"T\"),\"\")","v":""},"",null,null,{"$f":"IF(C27=1,RTD(\"cqg.rtd\", ,\"ContractData\",D27, \"T_CVol\",, \"T\"),\"\")","v":""},{"$f":"IF(C27=1,RTD(\"cqg.rtd\", ,\"ContractData\",D27, \"COI\",, \"T\"),\"\")","v":""},{"$f":"IF(C27=1,RTD(\"cqg.rtd\", ,\"ContractData\",D27, \"ImpliedVolatility\",, \"T\"),\"\")","v":""},{"$f":"IF(C27=1,RTD(\"cqg.rtd\", ,\"ContractData\",D27, \"Vega\",, \"T\"),\"\")","v":""},{"$f":"IF(C27=0,\"\",IF(LEFT(D27,1)=\"F\",H27*100,H27*RTD(\"cqg.rtd\",,\"ContractData\",D27,\"Delta\",,\"T\")))","v":""},{"$f":"IF(C27=1,RTD(\"cqg.rtd\", ,\"ContractData\",D27, \"Gamma\",, \"T\"),\"\")","v":""},{"$f":"IF(C27=1,IF(H27<0,-1*RTD(\"cqg.rtd\", ,\"ContractData\",D27, \"Theta\",, \"T\"),RTD(\"cqg.rtd\", ,\"ContractData\",D27, \"Theta\",, \"T\")),\"\")","v":""},{"$f":"IF(C27=0,\"\",IF(LEFT(D27,1)=\"F\",(RTD(\"cqg.rtd\",,\"ContractData\",D27,\"ExpirationDate\",,\"T\")-TODAY()),RTD(\"cqg.rtd\",,\"ContractData\",D27,\"OptionDaysToExp\",,\"T\")))","v":""}]
["TMLastBid","TMLastAsk",{"$f":"IF(LOOKUP(23,Third!A1:A448)<>23,0,1)","v":0},{"$f":"IF(C28=1,VLOOKUP(Third!I23,INDIRECT($A$2),2),\"\")","v":""},null,null,"",{"$f":"IF(C28=1,RTD(\"cqg.rtd\", ,\"OrderData\", \"\"&D28&\"\", \"\", \"OpenPosition\",\"\"&$D$3&\"\"),\"\")","v":""},{"$f":"IF(C28=1,RTD(\"cqg.rtd\", ,\"OrderData\",\"\"&D28&\"\", \"\", \"OpenTradeEquity\",\"\"&$D$3&\"\"),\"\")","v":""},null,{"$f":"IF(C28=0,\"\",IF($D$1=\"B\",RTD(\"cqg.rtd\", ,\"ContractData\",D28, \"LastTrade\",,\"B\"),TEXT(RTD(\"cqg.rtd\", ,\"ContractData\",D28, \"LastTrade\",, \"T\"),$D$1)))","v":""},{"$f":"IF(RTD(\"cqg.rtd\",,\"ContractData\",D28,\"LastTrade\",,\"T\")<RTD(\"cqg.rtd\",,\"ContractData\",D28,\"Bid\",,\"T\"),1,IF(RTD(\"cqg.rtd\",,\"ContractData\",D28,\"LastTrade\",,\"T\")>RTD(\"cqg.rtd\",,\"ContractData\",D28,\"Ask\",,\"T\"),1,0))","v":0},{"$f":"IF(C28=1,RTD(\"cqg.rtd\", ,\"ContractData\",D28, \"TMLastTrade\",, \"T\"),\"\")","v":""},"",{"$f":"IF(C28=1,RTD(\"cqg.rtd\", ,\"ContractData\",D28, \"MT_LastBidVolume\",, \"T\"),\"\")","v":""},{"$f":"IF(C28=0,\"\",IF($D$1=\"B\",RTD(\"cqg.rtd\", ,\"ContractData\",D28, \"Bid\",,\"B\"),TEXT(RTD(\"cqg.rtd\", ,\"ContractData\",D28, \"Bid\",, \"T\"),$D$1)))","v":""},0,{"$f":"IF(C28=0,\"\",IF(LEFT(D28,1)=\"F\",\"\",IF($D$1=\"B\",RTD(\"cqg.rtd\", ,\"ContractData\",D28, \"TheoreticalValue\",,\"B\"),TEXT(RTD(\"cqg.rtd\", ,\"ContractData\",D28, \"TheoreticalValue\",, \"T\"),$D$1))))","v":""},0,{"$f":"IF(C28=0,\"\",IF($D$1=\"B\",RTD(\"cqg.rtd\", ,\"ContractData\",D28, \"Ask\",,\"B\"),TEXT(RTD(\"cqg.rtd\", ,\"ContractData\",D28, \"Ask\",, \"T\"),$D$1)))","v":""},{"$f":"IF(C28=1,RTD(\"cqg.rtd\", ,\"ContractData\",D28, \"MT_LastAskVolume\",, \"T\"),\"\")","v":""},"",null,null,{"$f":"IF(C28=1,RTD(\"cqg.rtd\", ,\"ContractData\",D28, \"T_CVol\",, \"T\"),\"\")","v":""},{"$f":"IF(C28=1,RTD(\"cqg.rtd\", ,\"ContractData\",D28, \"COI\",, \"T\"),\"\")","v":""},{"$f":"IF(C28=1,RTD(\"cqg.rtd\", ,\"ContractData\",D28, \"ImpliedVolatility\",, \"T\"),\"\")","v":""},{"$f":"IF(C28=1,RTD(\"cqg.rtd\", ,\"ContractData\",D28, \"Vega\",, \"T\"),\"\")","v":""},{"$f":"IF(C28=0,\"\",IF(LEFT(D28,1)=\"F\",H28*100,H28*RTD(\"cqg.rtd\",,\"ContractData\",D28,\"Delta\",,\"T\")))","v":""},{"$f":"IF(C28=1,RTD(\"cqg.rtd\", ,\"ContractData\",D28, \"Gamma\",, \"T\"),\"\")","v":""},{"$f":"IF(C28=1,IF(H28<0,-1*RTD(\"cqg.rtd\", ,\"ContractData\",D28, \"Theta\",, \"T\"),RTD(\"cqg.rtd\", ,\"ContractData\",D28, \"Theta\",, \"T\")),\"\")","v":""},{"$f":"IF(C28=0,\"\",IF(LEFT(D28,1)=\"F\",(RTD(\"cqg.rtd\",,\"ContractData\",D28,\"ExpirationDate\",,\"T\")-TODAY()),RTD(\"cqg.rtd\",,\"ContractData\",D28,\"OptionDaysToExp\",,\"T\")))","v":""}]
["TMLastBid","TMLastAsk",{"$f":"IF(LOOKUP(24,Third!A1:A448)<>24,0,1)","v":0},{"$f":"IF(C29=1,VLOOKUP(Third!I24,INDIRECT($A$2),2),\"\")","v":""},null,null,"",{"$f":"IF(C29=1,RTD(\"cqg.rtd\", ,\"OrderData\", \"\"&D29&\"\", \"\", \"OpenPosition\",\"\"&$D$3&\"\"),\"\")","v":""},{"$f":"IF(C29=1,RTD(\"cqg.rtd\", ,\"OrderData\",\"\"&D29&\"\", \"\", \"OpenTradeEquity\",\"\"&$D$3&\"\"),\"\")","v":""},null,{"$f":"IF(C29=0,\"\",IF($D$1=\"B\",RTD(\"cqg.rtd\", ,\"ContractData\",D29, \"LastTrade\",,\"B\"),TEXT(RTD(\"cqg.rtd\", ,\"ContractData\",D29, \"LastTrade\",, \"T\"),$D$1)))","v":""},{"$f":"IF(RTD(\"cqg.rtd\",,\"ContractData\",D29,\"LastTrade\",,\"T\")<RTD(\"cqg.rtd\",,\"ContractData\",D29,\"Bid\",,\"T\"),1,IF(RTD(\"cqg.rtd\",,\"ContractData\",D29,\"LastTrade\",,\"T\")>RTD(\"cqg.rtd\",,\"ContractData\",D29,\"Ask\",,\"T\"),1,0))","v":0},{"$f":"IF(C29=1,RTD(\"cqg.rtd\", ,\"ContractData\",D29, \"TMLastTrade\",, \"T\"),\"\")","v":""},"",{"$f":"IF(C29=1,RTD(\"cqg.rtd\", ,\"ContractData\",D29, \"MT_LastBidVolume\",, \"T\"),\"\")","v":""},{"$f":"IF(C29=0,\"\",IF($D$1=\"B\",RTD(\"cqg.rtd\", ,\"ContractData\",D29, \"Bid\",,\"B\"),TEXT(RTD(\"cqg.rtd\", ,\"ContractData\",D29, \"Bid\",, \"T\"),$D$1)))","v":""},0,{"$f":"IF(C29=0,\"\",IF(LEFT(D29,1)=\"F\",\"\",IF($D$1=\"B\",RTD(\"cqg.rtd\", ,\"ContractData\",D29, \"TheoreticalValue\",,\"B\"),TEXT(RTD(\"cqg.rtd\", ,\"ContractData\",D29, \"TheoreticalValue\",, \"T\"),$D$1))))","v":""},0,{"$f":"IF(C29=0,\"\",IF($D$1=\"B\",RTD(\"cqg.rtd\", ,\"ContractData\",D29, \"Ask\",,\"B\"),TEXT(RTD(\"cqg.rtd\", ,\"ContractData\",D29, \"Ask\",, \"T\"),$D$1)))","v":""},{"$f":"IF(C29=1,RTD(\"cqg.rtd\", ,\"ContractData\",D29, \"MT_LastAskVolume\",, \"T\"),\"\")","v":""},"",null,null,{"$f":"IF(C29=1,RTD(\"cqg.rtd\", ,\"ContractData\",D29, \"T_CVol\",, \"T\"),\"\")","v":""},{"$f":"IF(C29=1,RTD(\"cqg.rtd\", ,\"ContractData\",D29, \"COI\",, \"T\"),\"\")","v":""},{"$f":"IF(C29=1,RTD(\"cqg.rtd\", ,\"ContractData\",D29, \"ImpliedVolatility\",, \"T\"),\"\")","v":""},{"$f":"IF(C29=1,RTD(\"cqg.rtd\", ,\"ContractData\",D29, \"Vega\",, \"T\"),\"\")","v":""},{"$f":"IF(C29=0,\"\",IF(LEFT(D29,1)=\"F\",H29*100,H29*RTD(\"cqg.rtd\",,\"ContractData\",D29,\"Delta\",,\"T\")))","v":""},{"$f":"IF(C29=1,RTD(\"cqg.rtd\", ,\"ContractData\",D29, \"Gamma\",, \"T\"),\"\")","v":""},{"$f":"IF(C29=1,IF(H29<0,-1*RTD(\"cqg.rtd\", ,\"ContractData\",D29, \"Theta\",, \"T\"),RTD(\"cqg.rtd\", ,\"ContractData\",D29, \"Theta\",, \"T\")),\"\")","v":""},{"$f":"IF(C29=0,\"\",IF(LEFT(D29,1)=\"F\",(RTD(\"cqg.rtd\",,\"ContractData\",D29,\"ExpirationDate\",,\"T\")-TODAY()),RTD(\"cqg.rtd\",,\"ContractData\",D29,\"OptionDaysToExp\",,\"T\")))","v":""}]
["TMLastBid","TMLastAsk",{"$f":"IF(LOOKUP(25,Third!A1:A448)<>25,0,1)","v":0},{"$f":"IF(C30=1,VLOOKUP(Third!I25,INDIRECT($A$2),2),\"\")","v":""},null,null,"",{"$f":"IF(C30=1,RTD(\"cqg.rtd\", ,\"OrderData\", \"\"&D30&\"\", \"\", \"OpenPosition\",\"\"&$D$3&\"\"),\"\")","v":""},{"$f":"IF(C30=1,RTD(\"cqg.rtd\", ,\"OrderData\",\"\"&D30&\"\", \"\", \"OpenTradeEquity\",\"\"&$D$3&\"\"),\"\")","v":""},null,{"$f":"IF(C30=0,\"\",IF($D$1=\"B\",RTD(\"cqg.rtd\", ,\"ContractData\",D30, \"LastTrade\",,\"B\"),TEXT(RTD(\"cqg.rtd\", ,\"ContractData\",D30, \"LastTrade\",, \"T\"),$D$1)))","v":""},{"$f":"IF(RTD(\"cqg.rtd\",,\"ContractData\",D30,\"LastTrade\",,\"T\")<RTD(\"cqg.rtd\",,\"ContractData\",D30,\"Bid\",,\"T\"),1,IF(RTD(\"cqg.rtd\",,\"ContractData\",D30,\"LastTrade\",,\"T\")>RTD(\"cqg.rtd\",,\"ContractData\",D30,\"Ask\",,\"T\"),1,0))","v":0},{"$f":"IF(C30=1,RTD(\"cqg.rtd\", ,\"ContractData\",D30, \"TMLastTrade\",, \"T\"),\"\")","v":""},"",{"$f":"IF(C30=1,RTD(\"cqg.rtd\", ,\"ContractData\",D30, \"MT_LastBidVolume\",, \"T\"),\"\")","v":""},{"$f":"IF(C30=0,\"\",IF($D$1=\"B\",RTD(\"cqg.rtd\", ,\"ContractData\",D30, \"Bid\",,\"B\"),TEXT(RTD(\"cqg.rtd\", ,\"ContractData\",D30, \"Bid\",, \"T\"),$D$1)))","v":""},0,{"$f":"IF(C30=0,\"\",IF(LEFT(D30,1)=\"F\",\"\",IF($D$1=\"B\",RTD(\"cqg.rtd\", ,\"ContractData\",D30, \"TheoreticalValue\",,\"B\"),TEXT(RTD(\"cqg.rtd\", ,\"ContractData\",D30, \"TheoreticalValue\",, \"T\"),$D$1))))","v":""},0,{"$f":"IF(C30=0,\"\",IF($D$1=\"B\",RTD(\"cqg.rtd\", ,\"ContractData\",D30, \"Ask\",,\"B\"),TEXT(RTD(\"cqg.rtd\", ,\"ContractData\",D30, \"Ask\",, \"T\"),$D$1)))","v":""},{"$f":"IF(C30=1,RTD(\"cqg.rtd\", ,\"ContractData\",D30, \"MT_LastAskVolume\",, \"T\"),\"\")","v":""},"",null,null,{"$f":"IF(C30=1,RTD(\"cqg.rtd\", ,\"ContractData\",D30, \"T_CVol\",, \"T\"),\"\")","v":""},{"$f":"IF(C30=1,RTD(\"cqg.rtd\", ,\"ContractData\",D30, \"COI\",, \"T\"),\"\")","v":""},{"$f":"IF(C30=1,RTD(\"cqg.rtd\", ,\"ContractData\",D30, \"ImpliedVolatility\",, \"T\"),\"\")","v":""},{"$f":"IF(C30=1,RTD(\"cqg.rtd\", ,\"ContractData\",D30, \"Vega\",, \"T\"),\"\")","v":""},{"$f":"IF(C30=0,\"\",IF(LEFT(D30,1)=\"F\",H30*100,H30*RTD(\"cqg.rtd\",,\"ContractData\",D30,\"Delta\",,\"T\")))","v":""},{"$f":"IF(C30=1,RTD(\"cqg.rtd\", ,\"ContractData\",D30, \"Gamma\",, \"T\"),\"\")","v":""},{"$f":"IF(C30=1,IF(H30<0,-1*RTD(\"cqg.rtd\", ,\"ContractData\",D30, \"Theta\",, \"T\"),RTD(\"cqg.rtd\", ,\"ContractData\",D30, \"Theta\",, \"T\")),\"\")","v":""},{"$f":"IF(C30=0,\"\",IF(LEFT(D30,1)=\"F\",(RTD(\"cqg.rtd\",,\"ContractData\",D30,\"ExpirationDate\",,\"T\")-TODAY()),RTD(\"cqg.rtd\",,\"ContractData\",D30,\"OptionDaysToExp\",,\"T\")))","v":""}]
["TMLastBid","TMLastAsk",{"$f":"IF(LOOKUP(26,Third!A1:A448)<>26,0,1)","v":0},{"$f":"IF(C31=1,VLOOKUP(Third!I26,INDIRECT($A$2),2),\"\")","v":""},null,null,"",{"$f":"IF(C31=1,RTD(\"cqg.rtd\", ,\"OrderData\", \"\"&D31&\"\", \"\", \"OpenPosition\",\"\"&$D$3&\"\"),\"\")","v":""},{"$f":"IF(C31=1,RTD(\"cqg.rtd\", ,\"OrderData\",\"\"&D31&\"\", \"\", \"OpenTradeEquity\",\"\"&$D$3&\"\"),\"\")","v":""},null,{"$f":"IF(C31=0,\"\",IF($D$1=\"B\",RTD(\"cqg.rtd\", ,\"ContractData\",D31, \"LastTrade\",,\"B\"),TEXT(RTD(\"cqg.rtd\", ,\"ContractData\",D31, \"LastTrade\",, \"T\"),$D$1)))","v":""},{"$f":"IF(RTD(\"cqg.rtd\",,\"ContractData\",D31,\"LastTrade\",,\"T\")<RTD(\"cqg.rtd\",,\"ContractData\",D31,\"Bid\",,\"T\"),1,IF(RTD(\"cqg.rtd\",,\"ContractData\",D31,\"LastTrade\",,\"T\")>RTD(\"cqg.rtd\",,\"ContractData\",D31,\"Ask\",,\"T\"),1,0))","v":0},{"$f":"IF(C31=1,RTD(\"cqg.rtd\", ,\"ContractData\",D31, \"TMLastTrade\",, \"T\"),\"\")","v":""},"",{"$f":"IF(C31=1,RTD(\"cqg.rtd\", ,\"ContractData\",D31, \"MT_LastBidVolume\",, \"T\"),\"\")","v":""},{"$f":"IF(C31=0,\"\",IF($D$1=\"B\",RTD(\"cqg.rtd\", ,\"ContractData\",D31, \"Bid\",,\"B\"),TEXT(RTD(\"cqg.rtd\", ,\"ContractData\",D31, \"Bid\",, \"T\"),$D$1)))","v":""},0,{"$f":"IF(C31=0,\"\",IF(LEFT(D31,1)=\"F\",\"\",IF($D$1=\"B\",RTD(\"cqg.rtd\", ,\"ContractData\",D31, \"TheoreticalValue\",,\"B\"),TEXT(RTD(\"cqg.rtd\", ,\"ContractData\",D31, \"TheoreticalValue\",, \"T\"),$D$1))))","v":""},0,{"$f":"IF(C31=0,\"\",IF($D$1=\"B\",RTD(\"cqg.rtd\", ,\"ContractData\",D31, \"Ask\",,\"B\"),TEXT(RTD(\"cqg.rtd\", ,\"ContractData\",D31, \"Ask\",, \"T\"),$D$1)))","v":""},{"$f":"IF(C31=1,RTD(\"cqg.rtd\", ,\"ContractData\",D31, \"MT_LastAskVolume\",, \"T\"),\"\")","v":""},"",null,null,{"$f":"IF(C31=1,RTD(\"cqg.rtd\", ,\"ContractData\",D31, \"T_CVol\",, \"T\"),\"\")","v":""},{"$f":"IF(C31=1,RTD(\"cqg.rtd\", ,\"ContractData\",D31, \"COI\",, \"T\"),\"\")","v":""},{"$f":"IF(C31=1,RTD(\"cqg.rtd\", ,\"ContractData\",D31, \"ImpliedVolatility\",, \"T\"),\"\")","v":""},{"$f":"IF(C31=1,RTD(\"cqg.rtd\", ,\"ContractData\",D31, \"Vega\",, \"T\"),\"\")","v":""},{"$f":"IF(C31=0,\"\",IF(LEFT(D31,1)=\"F\",H31*100,H31*RTD(\"cqg.rtd\",,\"ContractData\",D31,\"Delta\",,\"T\")))","v":""},{"$f":"IF(C31=1,RTD(\"cqg.rtd\", ,\"ContractData\",D31, \"Gamma\",, \"T\"),\"\")","v":""},{"$f":"IF(C31=1,IF(H31<0,-1*RTD(\"cqg.rtd\", ,\"ContractData\",D31, \"Theta\",, \"T\"),RTD(\"cqg.rtd\", ,\"ContractData\",D31, \"Theta\",, \"T\")),\"\")","v":""},{"$f":"IF(C31=0,\"\",IF(LEFT(D31,1)=\"F\",(RTD(\"cqg.rtd\",,\"ContractData\",D31,\"ExpirationDate\",,\"T\")-TODAY()),RTD(\"cqg.rtd\",,\"ContractData\",D31,\"OptionDaysToExp\",,\"T\")))","v":""}]
["TMLastBid","TMLastAsk",{"$f":"IF(LOOKUP(27,Third!A1:A448)<>27,0,1)","v":0},{"$f":"IF(C32=1,VLOOKUP(Third!I27,INDIRECT($A$2),2),\"\")","v":""},null,null,"",{"$f":"IF(C32=1,RTD(\"cqg.rtd\", ,\"OrderData\", \"\"&D32&\"\", \"\", \"OpenPosition\",\"\"&$D$3&\"\"),\"\")","v":""},{"$f":"IF(C32=1,RTD(\"cqg.rtd\", ,\"OrderData\",\"\"&D32&\"\", \"\", \"OpenTradeEquity\",\"\"&$D$3&\"\"),\"\")","v":""},null,{"$f":"IF(C32=0,\"\",IF($D$1=\"B\",RTD(\"cqg.rtd\", ,\"ContractData\",D32, \"LastTrade\",,\"B\"),TEXT(RTD(\"cqg.rtd\", ,\"ContractData\",D32, \"LastTrade\",, \"T\"),$D$1)))","v":""},{"$f":"IF(RTD(\"cqg.rtd\",,\"ContractData\",D32,\"LastTrade\",,\"T\")<RTD(\"cqg.rtd\",,\"ContractData\",D32,\"Bid\",,\"T\"),1,IF(RTD(\"cqg.rtd\",,\"ContractData\",D32,\"LastTrade\",,\"T\")>RTD(\"cqg.rtd\",,\"ContractData\",D32,\"Ask\",,\"T\"),1,0))","v":0},{"$f":"IF(C32=1,RTD(\"cqg.rtd\", ,\"ContractData\",D32, \"TMLastTrade\",, \"T\"),\"\")","v":""},"",{"$f":"IF(C32=1,RTD(\"cqg.rtd\", ,\"ContractData\",D32, \"MT_LastBidVolume\",, \"T\"),\"\")","v":""},{"$f":"IF(C32=0,\"\",IF($D$1=\"B\",RTD(\"cqg.rtd\", ,\"ContractData\",D32, \"Bid\",,\"B\"),TEXT(RTD(\"cqg.rtd\", ,\"ContractData\",D32, \"Bid\",, \"T\"),$D$1)))","v":""},0,{"$f":"IF(C32=0,\"\",IF(LEFT(D32,1)=\"F\",\"\",IF($D$1=\"B\",RTD(\"cqg.rtd\", ,\"ContractData\",D32, \"TheoreticalValue\",,\"B\"),TEXT(RTD(\"cqg.rtd\", ,\"ContractData\",D32, \"TheoreticalValue\",, \"T\"),$D$1))))","v":""},0,{"$f":"IF(C32=0,\"\",IF($D$1=\"B\",RTD(\"cqg.rtd\", ,\"ContractData\",D32, \"Ask\",,\"B\"),TEXT(RTD(\"cqg.rtd\", ,\"ContractData\",D32, \"Ask\",, \"T\"),$D$1)))","v":""},{"$f":"IF(C32=1,RTD(\"cqg.rtd\", ,\"ContractData\",D32, \"MT_LastAskVolume\",, \"T\"),\"\")","v":""},"",null,null,{"$f":"IF(C32=1,RTD(\"cqg.rtd\", ,\"ContractData\",D32, \"T_CVol\",, \"T\"),\"\")","v":""},{"$f":"IF(C32=1,RTD(\"cqg.rtd\", ,\"ContractData\",D32, \"COI\",, \"T\"),\"\")","v":""},{"$f":"IF(C32=1,RTD(\"cqg.rtd\", ,\"ContractData\",D32, \"ImpliedVolatility\",, \"T\"),\"\")","v":""},{"$f":"IF(C32=1,RTD(\"cqg.rtd\", ,\"ContractData\",D32, \"Vega\",, \"T\"),\"\")","v":""},{"$f":"IF(C32=0,\"\",IF(LEFT(D32,1)=\"F\",H32*100,H32*RTD(\"cqg.rtd\",,\"ContractData\",D32,\"Delta\",,\"T\")))","v":""},{"$f":"IF(C32=1,RTD(\"cqg.rtd\", ,\"ContractData\",D32, \"Gamma\",, \"T\"),\"\")","v":""},{"$f":"IF(C32=1,IF(H32<0,-1*RTD(\"cqg.rtd\", ,\"ContractData\",D32, \"Theta\",, \"T\"),RTD(\"cqg.rtd\", ,\"ContractData\",D32, \"Theta\",, \"T\")),\"\")","v":""},{"$f":"IF(C32=0,\"\",IF(LEFT(D32,1)=\"F\",(RTD(\"cqg.rtd\",,\"ContractData\",D32,\"ExpirationDate\",,\"T\")-TODAY()),RTD(\"cqg.rtd\",,\"ContractData\",D32,\"OptionDaysToExp\",,\"T\")))","v":""}]
["TMLastBid","TMLastAsk",{"$f":"IF(LOOKUP(28,Third!A1:A448)<>28,0,1)","v":0},{"$f":"IF(C33=1,VLOOKUP(Third!I28,INDIRECT($A$2),2),\"\")","v":""},null,null,"",{"$f":"IF(C33=1,RTD(\"cqg.rtd\", ,\"OrderData\", \"\"&D33&\"\", \"\", \"OpenPosition\",\"\"&$D$3&\"\"),\"\")","v":""},{"$f":"IF(C33=1,RTD(\"cqg.rtd\", ,\"OrderData\",\"\"&D33&\"\", \"\", \"OpenTradeEquity\",\"\"&$D$3&\"\"),\"\")","v":""},null,{"$f":"IF(C33=0,\"\",IF($D$1=\"B\",RTD(\"cqg.rtd\", ,\"ContractData\",D33, \"LastTrade\",,\"B\"),TEXT(RTD(\"cqg.rtd\", ,\"ContractData\",D33, \"LastTrade\",, \"T\"),$D$1)))","v":""},{"$f":"IF(RTD(\"cqg.rtd\",,\"ContractData\",D33,\"LastTrade\",,\"T\")<RTD(\"cqg.rtd\",,\"ContractData\",D33,\"Bid\",,\"T\"),1,IF(RTD(\"cqg.rtd\",,\"ContractData\",D33,\"LastTrade\",,\"T\")>RTD(\"cqg.rtd\",,\"ContractData\",D33,\"Ask\",,\"T\"),1,0))","v":0},{"$f":"IF(C33=1,RTD(\"cqg.rtd\", ,\"ContractData\",D33, \"TMLastTrade\",, \"T\"),\"\")","v":""},"",{"$f":"IF(C33=1,RTD(\"cqg.rtd\", ,\"ContractData\",D33, \"MT_LastBidVolume\",, \"T\"),\"\")","v":""},{"$f":"IF(C33=0,\"\",IF($D$1=\"B\",RTD(\"cqg.rtd\", ,\"ContractData\",D33, \"Bid\",,\"B\"),TEXT(RTD(\"cqg.rtd\", ,\"ContractData\",D33, \"Bid\",, \"T\"),$D$1)))","v":""},0,{"$f":"IF(C33=0,\"\",IF(LEFT(D33,1)=\"F\",\"\",IF($D$1=\"B\",RTD(\"cqg.rtd\", ,\"ContractData\",D33, \"TheoreticalValue\",,\"B\"),TEXT(RTD(\"cqg.rtd\", ,\"ContractData\",D33, \"TheoreticalValue\",, \"T\"),$D$1))))","v":""},0,{"$f":"IF(C33=0,\"\",IF($D$1=\"B\",RTD(\"cqg.rtd\", ,\"ContractData\",D33, \"Ask\",,\"B\"),TEXT(RTD(\"cqg.rtd\", ,\"ContractData\",D33, \"Ask\",, \"T\"),$D$1)))","v":""},{"$f":"IF(C33=1,RTD(\"cqg.rtd\", ,\"ContractData\",D33, \"MT_LastAskVolume\",, \"T\"),\"\")","v":""},"",null,null,{"$f":"IF(C33=1,RTD(\"cqg.rtd\", ,\"ContractData\",D33, \"T_CVol\",, \"T\"),\"\")","v":""},{"$f":"IF(C33=1,RTD(\"cqg.rtd\", ,\"ContractData\",D33, \"COI\",, \"T\"),\"\")","v":""},{"$f":"IF(C33=1,RTD(\"cqg.rtd\", ,\"ContractData\",D33, \"ImpliedVolatility\",, \"T\"),\"\")","v":""},{"$f":"IF(C33=1,RTD(\"cqg.rtd\", ,\"ContractData\",D33, \"Vega\",, \"T\"),\"\")","v":""},{"$f":"IF(C33=0,\"\",IF(LEFT(D33,1)=\"F\",H33*100,H33*RTD(\"cqg.rtd\",,\"ContractData\",D33,\"Delta\",,\"T\")))","v":""},{"$f":"IF(C33=1,RTD(\"cqg.rtd\", ,\"ContractData\",D33, \"Gamma\",, \"T\"),\"\")","v":""},{"$f":"IF(C33=1,IF(H33<0,-1*RTD(\"cqg.rtd\", ,\"ContractData\",D33, \"Theta\",, \"T\"),RTD(\"cqg.rtd\", ,\"ContractData\",D33, \"Theta\",, \"T\")),\"\")","v":""},{"$f":"IF(C33=0,\"\",IF(LEFT(D33,1)=\"F\",(RTD(\"cqg.rtd\",,\"ContractData\",D33,\"ExpirationDate\",,\"T\")-TODAY()),RTD(\"cqg.rtd\",,\"ContractData\",D33,\"OptionDaysToExp\",,\"T\")))","v":""}]
["TMLastBid","TMLastAsk",{"$f":"IF(LOOKUP(29,Third!A1:A448)<>29,0,1)","v":0},{"$f":"IF(C34=1,VLOOKUP(Third!I29,INDIRECT($A$2),2),\"\")","v":""},null,null,"",{"$f":"IF(C34=1,RTD(\"cqg.rtd\", ,\"OrderData\", \"\"&D34&\"\", \"\", \"OpenPosition\",\"\"&$D$3&\"\"),\"\")","v":""},{"$f":"IF(C34=1,RTD(\"cqg.rtd\", ,\"OrderData\",\"\"&D34&\"\", \"\", \"OpenTradeEquity\",\"\"&$D$3&\"\"),\"\")","v":""},null,{"$f":"IF(C34=0,\"\",IF($D$1=\"B\",RTD(\"cqg.rtd\", ,\"ContractData\",D34, \"LastTrade\",,\"B\"),TEXT(RTD(\"cqg.rtd\", ,\"ContractData\",D34, \"LastTrade\",, \"T\"),$D$1)))","v":""},{"$f":"IF(RTD(\"cqg.rtd\",,\"ContractData\",D34,\"LastTrade\",,\"T\")<RTD(\"cqg.rtd\",,\"ContractData\",D34,\"Bid\",,\"T\"),1,IF(RTD(\"cqg.rtd\",,\"ContractData\",D34,\"LastTrade\",,\"T\")>RTD(\"cqg.rtd\",,\"ContractData\",D34,\"Ask\",,\"T\"),1,0))","v":0},{"$f":"IF(C34=1,RTD(\"cqg.rtd\", ,\"ContractData\",D34, \"TMLastTrade\",, \"T\"),\"\")","v":""},"",{"$f":"IF(C34=1,RTD(\"cqg.rtd\", ,\"ContractData\",D34, \"MT_LastBidVolume\",, \"T\"),\"\")","v":""},{"$f":"IF(C34=0,\"\",IF($D$1=\"B\",RTD(\"cqg.rtd\", ,\"ContractData\",D34, \"Bid\",,\"B\"),TEXT(RTD(\"cqg.rtd\", ,\"ContractData\",D34, \"Bid\",, \"T\"),$D$1)))","v":""},0,{"$f":"IF(C34=0,\"\",IF(LEFT(D34,1)=\"F\",\"\",IF($D$1=\"B\",RTD(\"cqg.rtd\", ,\"ContractData\",D34, \"TheoreticalValue\",,\"B\"),TEXT(RTD(\"cqg.rtd\", ,\"ContractData\",D34, \"TheoreticalValue\",, \"T\"),$D$1))))","v":""},0,{"$f":"IF(C34=0,\"\",IF($D$1=\"B\",RTD(\"cqg.rtd\", ,\"ContractData\",D34, \"Ask\",,\"B\"),TEXT(RTD(\"cqg.rtd\", ,\"ContractData\",D34, \"Ask\",, \"T\"),$D$1)))","v":""},{"$f":"IF(C34=1,RTD(\"cqg.rtd\", ,\"ContractData\",D34, \"MT_LastAskVolume\",, \"T\"),\"\")","v":""},"",null,null,{"$f":"IF(C34=1,RTD(\"cqg.rtd\", ,\"ContractData\",D34, \"T_CVol\",, \"T\"),\"\")","v":""},{"$f":"IF(C34=1,RTD(\"cqg.rtd\", ,\"ContractData\",D34, \"COI\",, \"T\"),\"\")","v":""},{"$f":"IF(C34=1,RTD(\"cqg.rtd\", ,\"ContractData\",D34, \"ImpliedVolatility\",, \"T\"),\"\")","v":""},{"$f":"IF(C34=1,RTD(\"cqg.rtd\", ,\"ContractData\",D34, \"Vega\",, \"T\"),\"\")","v":""},{"$f":"IF(C34=0,\"\",IF(LEFT(D34,1)=\"F\",H34*100,H34*RTD(\"cqg.rtd\",,\"ContractData\",D34,\"Delta\",,\"T\")))","v":""},{"$f":"IF(C34=1,RTD(\"cqg.rtd\", ,\"ContractData\",D34, \"Gamma\",, \"T\"),\"\")","v":""},{"$f":"IF(C34=1,IF(H34<0,-1*RTD(\"cqg.rtd\", ,\"ContractData\",D34, \"Theta\",, \"T\"),RTD(\"cqg.rtd\", ,\"ContractData\",D34, \"Theta\",, \"T\")),\"\")","v":""},{"$f":"IF(C34=0,\"\",IF(LEFT(D34,1)=\"F\",(RTD(\"cqg.rtd\",,\"ContractData\",D34,\"ExpirationDate\",,\"T\")-TODAY()),RTD(\"cqg.rtd\",,\"ContractData\",D34,\"OptionDaysToExp\",,\"T\")))","v":""}]
["TMLastBid","TMLastAsk",{"$f":"IF(LOOKUP(30,Third!A1:A448)<>30,0,1)","v":0},{"$f":"IF(C35=1,VLOOKUP(Third!I30,INDIRECT($A$2),2),\"\")","v":""},null,null,"",{"$f":"IF(C35=1,RTD(\"cqg.rtd\", ,\"OrderData\", \"\"&D35&\"\", \"\", \"OpenPosition\",\"\"&$D$3&\"\"),\"\")","v":""},{"$f":"IF(C35=1,RTD(\"cqg.rtd\", ,\"OrderData\",\"\"&D35&\"\", \"\", \"OpenTradeEquity\",\"\"&$D$3&\"\"),\"\")","v":""},null,{"$f":"IF(C35=0,\"\",IF($D$1=\"B\",RTD(\"cqg.rtd\", ,\"ContractData\",D35, \"LastTrade\",,\"B\"),TEXT(RTD(\"cqg.rtd\", ,\"ContractData\",D35, \"LastTrade\",, \"T\"),$D$1)))","v":""},{"$f":"IF(RTD(\"cqg.rtd\",,\"ContractData\",D35,\"LastTrade\",,\"T\")<RTD(\"cqg.rtd\",,\"ContractData\",D35,\"Bid\",,\"T\"),1,IF(RTD(\"cqg.rtd\",,\"ContractData\",D35,\"LastTrade\",,\"T\")>RTD(\"cqg.rtd\",,\"ContractData\",D35,\"Ask\",,\"T\"),1,0))","v":0},{"$f":"IF(C35=1,RTD(\"cqg.rtd\", ,\"ContractData\",D35, \"TMLastTrade\",, \"T\"),\"\")","v":""},"",{"$f":"IF(C35=1,RTD(\"cqg.rtd\", ,\"ContractData\",D35, \"MT_LastBidVolume\",, \"T\"),\"\")","v":""},{"$f":"IF(C35=0,\"\",IF($D$1=\"B\",RTD(\"cqg.rtd\", ,\"ContractData\",D35, \"Bid\",,\"B\"),TEXT(RTD(\"cqg.rtd\", ,\"ContractData\",D35, \"Bid\",, \"T\"),$D$1)))","v":""},0,{"$f":"IF(C35=0,\"\",IF(LEFT(D35,1)=\"F\",\"\",IF($D$1=\"B\",RTD(\"cqg.rtd\", ,\"ContractData\",D35, \"TheoreticalValue\",,\"B\"),TEXT(RTD(\"cqg.rtd\", ,\"ContractData\",D35, \"TheoreticalValue\",, \"T\"),$D$1))))","v":""},0,{"$f":"IF(C35=0,\"\",IF($D$1=\"B\",RTD(\"cqg.rtd\", ,\"ContractData\",D35, \"Ask\",,\"B\"),TEXT(RTD(\"cqg.rtd\", ,\"ContractData\",D35, \"Ask\",, \"T\"),$D$1)))","v":""},{"$f":"IF(C35=1,RTD(\"cqg.rtd\", ,\"ContractData\",D35, \"MT_LastAskVolume\",, \"T\"),\"\")","v":""},"",null,null,{"$f":"IF(C35=1,RTD(\"cqg.rtd\", ,\"ContractData\",D35, \"T_CVol\",, \"T\"),\"\")","v":""},{"$f":"IF(C35=1,RTD(\"cqg.rtd\", ,\"ContractData\",D35, \"COI\",, \"T\"),\"\")","v":""},{"$f":"IF(C35=1,RTD(\"cqg.rtd\", ,\"ContractData\",D35, \"ImpliedVolatility\",, \"T\"),\"\")","v":""},{"$f":"IF(C35=1,RTD(\"cqg.rtd\", ,\"ContractData\",D35, \"Vega\",, \"T\"),\"\")","v":""},{"$f":"IF(C35=0,\"\",IF(LEFT(D35,1)=\"F\",H35*100,H35*RTD(\"cqg.rtd\",,\"ContractData\",D35,\"Delta\",,\"T\")))","v":""},{"$f":"IF(C35=1,RTD(\"cqg.rtd\", ,\"ContractData\",D35, \"Gamma\",, \"T\"),\"\")","v":""},{"$f":"IF(C35=1,IF(H35<0,-1*RTD(\"cqg.rtd\", ,\"ContractData\",D35, \"Theta\",, \"T\"),RTD(\"cqg.rtd\", ,\"ContractData\",D35, \"Theta\",, \"T\")),\"\")","v":""},{"$f":"IF(C35=0,\"\",IF(LEFT(D35,1)=\"F\",(RTD(\"cqg.rtd\",,\"ContractData\",D35,\"ExpirationDate\",,\"T\")-TODAY()),RTD(\"cqg.rtd\",,\"ContractData\",D35,\"OptionDaysToExp\",,\"T\")))","v":""}]
["TMLastBid","TMLastAsk",{"$f":"IF(LOOKUP(31,Third!A1:A448)<>31,0,1)","v":0},{"$f":"IF(C36=1,VLOOKUP(Third!I31,INDIRECT($A$2),2),\"\")","v":""},null,null,"",{"$f":"IF(C36=1,RTD(\"cqg.rtd\", ,\"OrderData\", \"\"&D36&\"\", \"\", \"OpenPosition\",\"\"&$D$3&\"\"),\"\")","v":""},{"$f":"IF(C36=1,RTD(\"cqg.rtd\", ,\"OrderData\",\"\"&D36&\"\", \"\", \"OpenTradeEquity\",\"\"&$D$3&\"\"),\"\")","v":""},null,{"$f":"IF(C36=0,\"\",IF($D$1=\"B\",RTD(\"cqg.rtd\", ,\"ContractData\",D36, \"LastTrade\",,\"B\"),TEXT(RTD(\"cqg.rtd\", ,\"ContractData\",D36, \"LastTrade\",, \"T\"),$D$1)))","v":""},{"$f":"IF(RTD(\"cqg.rtd\",,\"ContractData\",D36,\"LastTrade\",,\"T\")<RTD(\"cqg.rtd\",,\"ContractData\",D36,\"Bid\",,\"T\"),1,IF(RTD(\"cqg.rtd\",,\"ContractData\",D36,\"LastTrade\",,\"T\")>RTD(\"cqg.rtd\",,\"ContractData\",D36,\"Ask\",,\"T\"),1,0))","v":0},{"$f":"IF(C36=1,RTD(\"cqg.rtd\", ,\"ContractData\",D36, \"TMLastTrade\",, \"T\"),\"\")","v":""},"",{"$f":"IF(C36=1,RTD(\"cqg.rtd\", ,\"ContractData\",D36, \"MT_LastBidVolume\",, \"T\"),\"\")","v":""},{"$f":"IF(C36=0,\"\",IF($D$1=\"B\",RTD(\"cqg.rtd\", ,\"ContractData\",D36, \"Bid\",,\"B\"),TEXT(RTD(\"cqg.rtd\", ,\"ContractData\",D36, \"Bid\",, \"T\"),$D$1)))","v":""},0,{"$f":"IF(C36=0,\"\",IF(LEFT(D36,1)=\"F\",\"\",IF($D$1=\"B\",RTD(\"cqg.rtd\", ,\"ContractData\",D36, \"TheoreticalValue\",,\"B\"),TEXT(RTD(\"cqg.rtd\", ,\"ContractData\",D36, \"TheoreticalValue\",, \"T\"),$D$1))))","v":""},0,{"$f":"IF(C36=0,\"\",IF($D$1=\"B\",RTD(\"cqg.rtd\", ,\"ContractData\",D36, \"Ask\",,\"B\"),TEXT(RTD(\"cqg.rtd\", ,\"ContractData\",D36, \"Ask\",, \"T\"),$D$1)))","v":""},{"$f":"IF(C36=1,RTD(\"cqg.rtd\", ,\"ContractData\",D36, \"MT_LastAskVolume\",, \"T\"),\"\")","v":""},"",null,null,{"$f":"IF(C36=1,RTD(\"cqg.rtd\", ,\"ContractData\",D36, \"T_CVol\",, \"T\"),\"\")","v":""},{"$f":"IF(C36=1,RTD(\"cqg.rtd\", ,\"ContractData\",D36, \"COI\",, \"T\"),\"\")","v":""},{"$f":"IF(C36=1,RTD(\"cqg.rtd\", ,\"ContractData\",D36, \"ImpliedVolatility\",, \"T\"),\"\")","v":""},{"$f":"IF(C36=1,RTD(\"cqg.rtd\", ,\"ContractData\",D36, \"Vega\",, \"T\"),\"\")","v":""},{"$f":"IF(C36=0,\"\",IF(LEFT(D36,1)=\"F\",H36*100,H36*RTD(\"cqg.rtd\",,\"ContractData\",D36,\"Delta\",,\"T\")))","v":""},{"$f":"IF(C36=1,RTD(\"cqg.rtd\", ,\"ContractData\",D36, \"Gamma\",, \"T\"),\"\")","v":""},{"$f":"IF(C36=1,IF(H36<0,-1*RTD(\"cqg.rtd\", ,\"ContractData\",D36, \"Theta\",, \"T\"),RTD(\"cqg.rtd\", ,\"ContractData\",D36, \"Theta\",, \"T\")),\"\")","v":""},{"$f":"IF(C36=0,\"\",IF(LEFT(D36,1)=\"F\",(RTD(\"cqg.rtd\",,\"ContractData\",D36,\"ExpirationDate\",,\"T\")-TODAY()),RTD(\"cqg.rtd\",,\"ContractData\",D36,\"OptionDaysToExp\",,\"T\")))","v":""}]
["TMLastBid","TMLastAsk",{"$f":"IF(LOOKUP(32,Third!A1:A448)<>32,0,1)","v":0},{"$f":"IF(C37=1,VLOOKUP(Third!I32,INDIRECT($A$2),2),\"\")","v":""},null,null,"",{"$f":"IF(C37=1,RTD(\"cqg.rtd\", ,\"OrderData\", \"\"&D37&\"\", \"\", \"OpenPosition\",\"\"&$D$3&\"\"),\"\")","v":""},{"$f":"IF(C37=1,RTD(\"cqg.rtd\", ,\"OrderData\",\"\"&D37&\"\", \"\", \"OpenTradeEquity\",\"\"&$D$3&\"\"),\"\")","v":""},null,{"$f":"IF(C37=0,\"\",IF($D$1=\"B\",RTD(\"cqg.rtd\", ,\"ContractData\",D37, \"LastTrade\",,\"B\"),TEXT(RTD(\"cqg.rtd\", ,\"ContractData\",D37, \"LastTrade\",, \"T\"),$D$1)))","v":""},{"$f":"IF(RTD(\"cqg.rtd\",,\"ContractData\",D37,\"LastTrade\",,\"T\")<RTD(\"cqg.rtd\",,\"ContractData\",D37,\"Bid\",,\"T\"),1,IF(RTD(\"cqg.rtd\",,\"ContractData\",D37,\"LastTrade\",,\"T\")>RTD(\"cqg.rtd\",,\"ContractData\",D37,\"Ask\",,\"T\"),1,0))","v":0},{"$f":"IF(C37=1,RTD(\"cqg.rtd\", ,\"ContractData\",D37, \"TMLastTrade\",, \"T\"),\"\")","v":""},"",{"$f":"IF(C37=1,RTD(\"cqg.rtd\", ,\"ContractData\",D37, \"MT_LastBidVolume\",, \"T\"),\"\")","v":""},{"$f":"IF(C37=0,\"\",IF($D$1=\"B\",RTD(\"cqg.rtd\", ,\"ContractData\",D37, \"Bid\",,\"B\"),TEXT(RTD(\"cqg.rtd\", ,\"ContractData\",D37, \"Bid\",, \"T\"),$D$1)))","v":""},0,{"$f":"IF(C37=0,\"\",IF(LEFT(D37,1)=\"F\",\"\",IF($D$1=\"B\",RTD(\"cqg.rtd\", ,\"ContractData\",D37, \"TheoreticalValue\",,\"B\"),TEXT(RTD(\"cqg.rtd\", ,\"ContractData\",D37, \"TheoreticalValue\",, \"T\"),$D$1))))","v":""},0,{"$f":"IF(C37=0,\"\",IF($D$1=\"B\",RTD(\"cqg.rtd\", ,\"ContractData\",D37, \"Ask\",,\"B\"),TEXT(RTD(\"cqg.rtd\", ,\"ContractData\",D37, \"Ask\",, \"T\"),$D$1)))","v":""},{"$f":"IF(C37=1,RTD(\"cqg.rtd\", ,\"ContractData\",D37, \"MT_LastAskVolume\",, \"T\"),\"\")","v":""},"",null,null,{"$f":"IF(C37=1,RTD(\"cqg.rtd\", ,\"ContractData\",D37, \"T_CVol\",, \"T\"),\"\")","v":""},{"$f":"IF(C37=1,RTD(\"cqg.rtd\", ,\"ContractData\",D37, \"COI\",, \"T\"),\"\")","v":""},{"$f":"IF(C37=1,RTD(\"cqg.rtd\", ,\"ContractData\",D37, \"ImpliedVolatility\",, \"T\"),\"\")","v":""},{"$f":"IF(C37=1,RTD(\"cqg.rtd\", ,\"ContractData\",D37, \"Vega\",, \"T\"),\"\")","v":""},{"$f":"IF(C37=0,\"\",IF(LEFT(D37,1)=\"F\",H37*100,H37*RTD(\"cqg.rtd\",,\"ContractData\",D37,\"Delta\",,\"T\")))","v":""},{"$f":"IF(C37=1,RTD(\"cqg.rtd\", ,\"ContractData\",D37, \"Gamma\",, \"T\"),\"\")","v":""},{"$f":"IF(C37=1,IF(H37<0,-1*RTD(\"cqg.rtd\", ,\"ContractData\",D37, \"Theta\",, \"T\"),RTD(\"cqg.rtd\", ,\"ContractData\",D37, \"Theta\",, \"T\")),\"\")","v":""},{"$f":"IF(C37=0,\"\",IF(LEFT(D37,1)=\"F\",(RTD(\"cqg.rtd\",,\"ContractData\",D37,\"ExpirationDate\",,\"T\")-TODAY()),RTD(\"cqg.rtd\",,\"ContractData\",D37,\"OptionDaysToExp\",,\"T\")))","v":""}]
["TMLastBid","TMLastAsk",{"$f":"IF(LOOKUP(33,Third!A1:A448)<>33,0,1)","v":0},{"$f":"IF(C38=1,VLOOKUP(Third!I33,INDIRECT($A$2),2),\"\")","v":""},null,null,"",{"$f":"IF(C38=1,RTD(\"cqg.rtd\", ,\"OrderData\", \"\"&D38&\"\", \"\", \"OpenPosition\",\"\"&$D$3&\"\"),\"\")","v":""},{"$f":"IF(C38=1,RTD(\"cqg.rtd\", ,\"OrderData\",\"\"&D38&\"\", \"\", \"OpenTradeEquity\",\"\"&$D$3&\"\"),\"\")","v":""},null,{"$f":"IF(C38=0,\"\",IF($D$1=\"B\",RTD(\"cqg.rtd\", ,\"ContractData\",D38, \"LastTrade\",,\"B\"),TEXT(RTD(\"cqg.rtd\", ,\"ContractData\",D38, \"LastTrade\",, \"T\"),$D$1)))","v":""},{"$f":"IF(RTD(\"cqg.rtd\",,\"ContractData\",D38,\"LastTrade\",,\"T\")<RTD(\"cqg.rtd\",,\"ContractData\",D38,\"Bid\",,\"T\"),1,IF(RTD(\"cqg.rtd\",,\"ContractData\",D38,\"LastTrade\",,\"T\")>RTD(\"cqg.rtd\",,\"ContractData\",D38,\"Ask\",,\"T\"),1,0))","v":0},{"$f":"IF(C38=1,RTD(\"cqg.rtd\", ,\"ContractData\",D38, \"TMLastTrade\",, \"T\"),\"\")","v":""},"",{"$f":"IF(C38=1,RTD(\"cqg.rtd\", ,\"ContractData\",D38, \"MT_LastBidVolume\",, \"T\"),\"\")","v":""},{"$f":"IF(C38=0,\"\",IF($D$1=\"B\",RTD(\"cqg.rtd\", ,\"ContractData\",D38, \"Bid\",,\"B\"),TEXT(RTD(\"cqg.rtd\", ,\"ContractData\",D38, \"Bid\",, \"T\"),$D$1)))","v":""},0,{"$f":"IF(C38=0,\"\",IF(LEFT(D38,1)=\"F\",\"\",IF($D$1=\"B\",RTD(\"cqg.rtd\", ,\"ContractData\",D38, \"TheoreticalValue\",,\"B\"),TEXT(RTD(\"cqg.rtd\", ,\"ContractData\",D38, \"TheoreticalValue\",, \"T\"),$D$1))))","v":""},0,{"$f":"IF(C38=0,\"\",IF($D$1=\"B\",RTD(\"cqg.rtd\", ,\"ContractData\",D38, \"Ask\",,\"B\"),TEXT(RTD(\"cqg.rtd\", ,\"ContractData\",D38, \"Ask\",, \"T\"),$D$1)))","v":""},{"$f":"IF(C38=1,RTD(\"cqg.rtd\", ,\"ContractData\",D38, \"MT_LastAskVolume\",, \"T\"),\"\")","v":""},"",null,null,{"$f":"IF(C38=1,RTD(\"cqg.rtd\", ,\"ContractData\",D38, \"T_CVol\",, \"T\"),\"\")","v":""},{"$f":"IF(C38=1,RTD(\"cqg.rtd\", ,\"ContractData\",D38, \"COI\",, \"T\"),\"\")","v":""},{"$f":"IF(C38=1,RTD(\"cqg.rtd\", ,\"ContractData\",D38, \"ImpliedVolatility\",, \"T\"),\"\")","v":""},{"$f":"IF(C38=1,RTD(\"cqg.rtd\", ,\"ContractData\",D38, \"Vega\",, \"T\"),\"\")","v":""},{"$f":"IF(C38=0,\"\",IF(LEFT(D38,1)=\"F\",H38*100,H38*RTD(\"cqg.rtd\",,\"ContractData\",D38,\"Delta\",,\"T\")))","v":""},{"$f":"IF(C38=1,RTD(\"cqg.rtd\", ,\"ContractData\",D38, \"Gamma\",, \"T\"),\"\")","v":""},{"$f":"IF(C38=1,IF(H38<0,-1*RTD(\"cqg.rtd\", ,\"ContractData\",D38, \"Theta\",, \"T\"),RTD(\"cqg.rtd\", ,\"ContractData\",D38, \"Theta\",, \"T\")),\"\")","v":""},{"$f":"IF(C38=0,\"\",IF(LEFT(D38,1)=\"F\",(RTD(\"cqg.rtd\",,\"ContractData\",D38,\"ExpirationDate\",,\"T\")-TODAY()),RTD(\"cqg.rtd\",,\"ContractData\",D38,\"OptionDaysToExp\",,\"T\")))","v":""}]
["TMLastBid","TMLastAsk",{"$f":"IF(LOOKUP(34,Third!A1:A448)<>34,0,1)","v":0},{"$f":"IF(C39=1,VLOOKUP(Third!I34,INDIRECT($A$2),2),\"\")","v":""},null,null,"",{"$f":"IF(C39=1,RTD(\"cqg.rtd\", ,\"OrderData\", \"\"&D39&\"\", \"\", \"OpenPosition\",\"\"&$D$3&\"\"),\"\")","v":""},{"$f":"IF(C39=1,RTD(\"cqg.rtd\", ,\"OrderData\",\"\"&D39&\"\", \"\", \"OpenTradeEquity\",\"\"&$D$3&\"\"),\"\")","v":""},null,{"$f":"IF(C39=0,\"\",IF($D$1=\"B\",RTD(\"cqg.rtd\", ,\"ContractData\",D39, \"LastTrade\",,\"B\"),TEXT(RTD(\"cqg.rtd\", ,\"ContractData\",D39, \"LastTrade\",, \"T\"),$D$1)))","v":""},{"$f":"IF(RTD(\"cqg.rtd\",,\"ContractData\",D39,\"LastTrade\",,\"T\")<RTD(\"cqg.rtd\",,\"ContractData\",D39,\"Bid\",,\"T\"),1,IF(RTD(\"cqg.rtd\",,\"ContractData\",D39,\"LastTrade\",,\"T\")>RTD(\"cqg.rtd\",,\"ContractData\",D39,\"Ask\",,\"T\"),1,0))","v":0},{"$f":"IF(C39=1,RTD(\"cqg.rtd\", ,\"ContractData\",D39, \"TMLastTrade\",, \"T\"),\"\")","v":""},"",{"$f":"IF(C39=1,RTD(\"cqg.rtd\", ,\"ContractData\",D39, \"MT_LastBidVolume\",, \"T\"),\"\")","v":""},{"$f":"IF(C39=0,\"\",IF($D$1=\"B\",RTD(\"cqg.rtd\", ,\"ContractData\",D39, \"Bid\",,\"B\"),TEXT(RTD(\"cqg.rtd\", ,\"ContractData\",D39, \"Bid\",, \"T\"),$D$1)))","v":""},0,{"$f":"IF(C39=0,\"\",IF(LEFT(D39,1)=\"F\",\"\",IF($D$1=\"B\",RTD(\"cqg.rtd\", ,\"ContractData\",D39, \"TheoreticalValue\",,\"B\"),TEXT(RTD(\"cqg.rtd\", ,\"ContractData\",D39, \"TheoreticalValue\",, \"T\"),$D$1))))","v":""},0,{"$f":"IF(C39=0,\"\",IF($D$1=\"B\",RTD(\"cqg.rtd\", ,\"ContractData\",D39, \"Ask\",,\"B\"),TEXT(RTD(\"cqg.rtd\", ,\"ContractData\",D39, \"Ask\",, \"T\"),$D$1)))","v":""},{"$f":"IF(C39=1,RTD(\"cqg.rtd\", ,\"ContractData\",D39, \"MT_LastAskVolume\",, \"T\"),\"\")","v":""},"",null,null,{"$f":"IF(C39=1,RTD(\"cqg.rtd\", ,\"ContractData\",D39, \"T_CVol\",, \"T\"),\"\")","v":""},{"$f":"IF(C39=1,RTD(\"cqg.rtd\", ,\"ContractData\",D39, \"COI\",, \"T\"),\"\")","v":""},{"$f":"IF(C39=1,RTD(\"cqg.rtd\", ,\"ContractData\",D39, \"ImpliedVolatility\",, \"T\"),\"\")","v":""},{"$f":"IF(C39=1,RTD(\"cqg.rtd\", ,\"ContractData\",D39, \"Vega\",, \"T\"),\"\")","v":""},{"$f":"IF(C39=0,\"\",IF(LEFT(D39,1)=\"F\",H39*100,H39*RTD(\"cqg.rtd\",,\"ContractData\",D39,\"Delta\",,\"T\")))","v":""},{"$f":"IF(C39=1,RTD(\"cqg.rtd\", ,\"ContractData\",D39, \"Gamma\",, \"T\"),\"\")","v":""},{"$f":"IF(C39=1,IF(H39<0,-1*RTD(\"cqg.rtd\", ,\"ContractData\",D39, \"Theta\",, \"T\"),RTD(\"cqg.rtd\", ,\"ContractData\",D39, \"Theta\",, \"T\")),\"\")","v":""},{"$f":"IF(C39=0,\"\",IF(LEFT(D39,1)=\"F\",(RTD(\"cqg.rtd\",,\"ContractData\",D39,\"ExpirationDate\",,\"T\")-TODAY()),RTD(\"cqg.rtd\",,\"ContractData\",D39,\"OptionDaysToExp\",,\"T\")))","v":""}]
["TMLastBid","TMLastAsk",{"$f":"IF(LOOKUP(35,Third!A1:A448)<>35,0,1)","v":0},{"$f":"IF(C40=1,VLOOKUP(Third!I35,INDIRECT($A$2),2),\"\")","v":""},null,null,"",{"$f":"IF(C40=1,RTD(\"cqg.rtd\", ,\"OrderData\", \"\"&D40&\"\", \"\", \"OpenPosition\",\"\"&$D$3&\"\"),\"\")","v":""},{"$f":"IF(C40=1,RTD(\"cqg.rtd\", ,\"OrderData\",\"\"&D40&\"\", \"\", \"OpenTradeEquity\",\"\"&$D$3&\"\"),\"\")","v":""},null,{"$f":"IF(C40=0,\"\",IF($D$1=\"B\",RTD(\"cqg.rtd\", ,\"ContractData\",D40, \"LastTrade\",,\"B\"),TEXT(RTD(\"cqg.rtd\", ,\"ContractData\",D40, \"LastTrade\",, \"T\"),$D$1)))","v":""},{"$f":"IF(RTD(\"cqg.rtd\",,\"ContractData\",D40,\"LastTrade\",,\"T\")<RTD(\"cqg.rtd\",,\"ContractData\",D40,\"Bid\",,\"T\"),1,IF(RTD(\"cqg.rtd\",,\"ContractData\",D40,\"LastTrade\",,\"T\")>RTD(\"cqg.rtd\",,\"ContractData\",D40,\"Ask\",,\"T\"),1,0))","v":0},{"$f":"IF(C40=1,RTD(\"cqg.rtd\", ,\"ContractData\",D40, \"TMLastTrade\",, \"T\"),\"\")","v":""},"",{"$f":"IF(C40=1,RTD(\"cqg.rtd\", ,\"ContractData\",D40, \"MT_LastBidVolume\",, \"T\"),\"\")","v":""},{"$f":"IF(C40=0,\"\",IF($D$1=\"B\",RTD(\"cqg.rtd\", ,\"ContractData\",D40, \"Bid\",,\"B\"),TEXT(RTD(\"cqg.rtd\", ,\"ContractData\",D40, \"Bid\",, \"T\"),$D$1)))","v":""},0,{"$f":"IF(C40=0,\"\",IF(LEFT(D40,1)=\"F\",\"\",IF($D$1=\"B\",RTD(\"cqg.rtd\", ,\"ContractData\",D40, \"TheoreticalValue\",,\"B\"),TEXT(RTD(\"cqg.rtd\", ,\"ContractData\",D40, \"TheoreticalValue\",, \"T\"),$D$1))))","v":""},0,{"$f":"IF(C40=0,\"\",IF($D$1=\"B\",RTD(\"cqg.rtd\", ,\"ContractData\",D40, \"Ask\",,\"B\"),TEXT(RTD(\"cqg.rtd\", ,\"ContractData\",D40, \"Ask\",, \"T\"),$D$1)))","v":""},{"$f":"IF(C40=1,RTD(\"cqg.rtd\", ,\"ContractData\",D40, \"MT_LastAskVolume\",, \"T\"),\"\")","v":""},"",null,null,{"$f":"IF(C40=1,RTD(\"cqg.rtd\", ,\"ContractData\",D40, \"T_CVol\",, \"T\"),\"\")","v":""},{"$f":"IF(C40=1,RTD(\"cqg.rtd\", ,\"ContractData\",D40, \"COI\",, \"T\"),\"\")","v":""},{"$f":"IF(C40=1,RTD(\"cqg.rtd\", ,\"ContractData\",D40, \"ImpliedVolatility\",, \"T\"),\"\")","v":""},{"$f":"IF(C40=1,RTD(\"cqg.rtd\", ,\"ContractData\",D40, \"Vega\",, \"T\"),\"\")","v":""},{"$f":"IF(C40=0,\"\",IF(LEFT(D40,1)=\"F\",H40*100,H40*RTD(\"cqg.rtd\",,\"ContractData\",D40,\"Delta\",,\"T\")))","v":""},{"$f":"IF(C40=1,RTD(\"cqg.rtd\", ,\"ContractData\",D40, \"Gamma\",, \"T\"),\"\")","v":""},{"$f":"IF(C40=1,IF(H40<0,-1*RTD(\"cqg.rtd\", ,\"ContractData\",D40, \"Theta\",, \"T\"),RTD(\"cqg.rtd\", ,\"ContractData\",D40, \"Theta\",, \"T\")),\"\")","v":""},{"$f":"IF(C40=0,\"\",IF(LEFT(D40,1)=\"F\",(RTD(\"cqg.rtd\",,\"ContractData\",D40,\"ExpirationDate\",,\"T\")-TODAY()),RTD(\"cqg.rtd\",,\"ContractData\",D40,\"OptionDaysToExp\",,\"T\")))","v":""}]
[null,null,{"$f":"IF(OR(RTD(\"cqg.rtd\",,\"ContractData\",K3,\"ExpirationDate\",,\"T\")-TODAY()<K42,RTD(\"cqg.rtd\",,\"ContractData\",M3,\"ExpirationDate\",,\"T\")-TODAY()<U42,RTD(\"cqg.rtd\",,\"ContractData\",N3,\"ExpirationDate\",,\"T\")-TODAY()<AD42),1,0)","v":0},"Summary",null,null,{"$f":"IF(H41>0,\"Long  \",\"Short   \")","v":"Short   "},{"$f":"SUM(H6:H40)","v":0},{"$f":"SUM(I6:I40)","v":0},null,null,null,{"$f":"IF(C41=1,\"You have entered a number of days to expiration that exceeds the underlying contract expiration date\",\"\")","v":""},null,null,null,null,null,null,null,null,null,null,null,null,null,null,{"$f":"SUM(AB6:AB40)","v":0},{"$f":"SUM(AC6:AC40)","v":0},{"$f":"SUM(AD6:AD40)","v":0},{"$f":"SUM(AE6:AE40)","v":0}]
[null,null,null,"Probaility of the Underlying Price using Days-to-Expiration:",null,null,null,null,null,null,5,null,"Days","Probaility of the Underlying Price using Days-to-Expiration:",null,null,null,null,null,null,20,"Days",null,"Probaility of the Underlying Price using Days-to-Expiration:",null,null,null,null,null,30,"Days"]
[null,null,null,"Market:",null,{"$f":"RTD(\"cqg.rtd\", ,\"ContractData\",K3,\"LongDescription\",, \"T\")","v":"E-Mini S&P 500, Sep 17"},null,null,null,null,null,null,null,"Market:",null,{"$f":"RTD(\"cqg.rtd\", ,\"ContractData\",M3,\"LongDescription\",, \"T\")","v":"E-Mini S&P 500, Dec 17"},null,null,null,null,null,null,null,null,"Market:",{"$f":"RTD(\"cqg.rtd\", ,\"ContractData\",N3,\"LongDescription\",, \"T\")","v":"E-Mini S&P 500, Mar 18"}]
[null,null,null,"-2 Sdev    ",null,"-1 SDev",null,"Last",null,"+1 SDev",null,"+2 SDev",null,"-2 Sdev  ",null,"-1 SDev",null,"Last",null,"+1 SDev","+2 SDev",null,null,"-2 SDev",null,"-1 SDev",null,"Last",null,"+1 SDev","     +2 SDev"]
[null,null,null,{"$f":"IFERROR(TEXT(RTD(\"cqg.rtd\",,\"ContractData\",K3,\"LastQuote\",,\"T\")-(2*RTD(\"cqg.rtd\",,\"ContractData\",K3,\"LastQuote\",,\"T\")*RTD(\"cqg.rtd\",,\"ContractData\",\"C.US.\"&K3,\"AverageVolatility\",,\"T\")*SQRT(K42/365)),$D$1),\"\")","v":"2378.83"},null,{"$f":"IFERROR(TEXT(RTD(\"cqg.rtd\",,\"ContractData\",K3,\"LastQuote\",,\"T\")-(RTD(\"cqg.rtd\",,\"ContractData\",K3,\"LastQuote\",,\"T\")*RTD(\"cqg.rtd\",,\"ContractData\",\"C.US.\"&K3,\"AverageVolatility\",,\"T\")*SQRT(K42/365)),$D$1),\"\")","v":"2406.54"},null,{"$f":"IF($D$1=\"B\",RTD(\"cqg.rtd\", ,\"ContractData\",K3, \"LastTrade\",,\"B\"),TEXT(RTD(\"cqg.rtd\", ,\"ContractData\",K3, \"LastTrade\",, \"T\"),$D$1))","v":"2434.50"},null,{"$f":"IFERROR(TEXT(RTD(\"cqg.rtd\",,\"ContractData\",K3,\"LastQuote\",,\"T\")+(RTD(\"cqg.rtd\",,\"ContractData\",K3,\"LastQuote\",,\"T\")*RTD(\"cqg.rtd\",,\"ContractData\",\"C.US.\"&K3,\"AverageVolatility\",,\"T\")*SQRT(K42/365)),$D$1),\"\")","v":"2461.96"},null,{"$f":"IFERROR(TEXT(RTD(\"cqg.rtd\",,\"ContractData\",K3,\"LastQuote\",,\"T\")+(2*RTD(\"cqg.rtd\",,\"ContractData\",K3,\"LastQuote\",,\"T\")*RTD(\"cqg.rtd\",,\"ContractData\",\"C.US.\"&K3,\"AverageVolatility\",,\"T\")*SQRT(K42/365)),$D$1),\"\")","v":"2489.67"},null,{"$f":"IFERROR(TEXT(RTD(\"cqg.rtd\",,\"ContractData\",M3,\"LastQuote\",,\"T\")-(2*RTD(\"cqg.rtd\",,\"ContractData\",M3,\"LastQuote\",,\"T\")*RTD(\"cqg.rtd\",,\"ContractData\",\"C.US.\"&M3,\"AverageVolatility\",,\"T\")*SQRT(U42/365)),$D$1),\"\")","v":"2298.69"},null,{"$f":"IFERROR(TEXT(RTD(\"cqg.rtd\",,\"ContractData\",M3,\"LastQuote\",,\"T\")-(RTD(\"cqg.rtd\",,\"ContractData\",M3,\"LastQuote\",,\"T\")*RTD(\"cqg.rtd\",,\"ContractData\",\"C.US.\"&M3,\"AverageVolatility\",,\"T\")*SQRT(U42/365)),$D$1),\"\")","v":"2365.59"},null,{"$f":"IF($D$1=\"B\",RTD(\"cqg.rtd\", ,\"ContractData\",M3, \"LastTrade\",,\"B\"),TEXT(RTD(\"cqg.rtd\", ,\"ContractData\",M3, \"LastTrade\",, \"T\"),$D$1))","v":"2432.00"},null,{"$f":"IFERROR(TEXT(RTD(\"cqg.rtd\",,\"ContractData\",M3,\"LastQuote\",,\"T\")+(RTD(\"cqg.rtd\",,\"ContractData\",M3,\"LastQuote\",,\"T\")*RTD(\"cqg.rtd\",,\"ContractData\",\"C.US.\"&M3,\"AverageVolatility\",,\"T\")*SQRT(U42/365)),$D$1),\"\")","v":"2499.41"},{"$f":"IFERROR(TEXT(RTD(\"cqg.rtd\",,\"ContractData\",M3,\"LastQuote\",,\"T\")+(2*RTD(\"cqg.rtd\",,\"ContractData\",M3,\"LastQuote\",,\"T\")*RTD(\"cqg.rtd\",,\"ContractData\",\"C.US.\"&M3,\"AverageVolatility\",,\"T\")*SQRT(U42/365)),$D$1),\"\")","v":"2566.31"},null,null,{"$f":"IFERROR(TEXT(RTD(\"cqg.rtd\",,\"ContractData\",N3,\"LastQuote\",,\"T\")-(2*RTD(\"cqg.rtd\",,\"ContractData\",N3,\"LastQuote\",,\"T\")*RTD(\"cqg.rtd\",,\"ContractData\",\"C.US.\"&N3,\"AverageVolatility\",,\"T\")*SQRT(AD42/365)),$D$1),\"\")","v":"2249.78"},null,{"$f":"IFERROR(TEXT(RTD(\"cqg.rtd\",,\"ContractData\",N3,\"LastQuote\",,\"T\")-(RTD(\"cqg.rtd\",,\"ContractData\",N3,\"LastQuote\",,\"T\")*RTD(\"cqg.rtd\",,\"ContractData\",\"C.US.\"&N3,\"AverageVolatility\",,\"T\")*SQRT(AD42/365)),$D$1),\"\")","v":"2339.64"},null,{"$f":"IF($D$1=\"B\",RTD(\"cqg.rtd\", ,\"ContractData\",N3, \"LastTrade\",,\"B\"),TEXT(RTD(\"cqg.rtd\", ,\"ContractData\",N3, \"LastTrade\",, \"T\"),$D$1))","v":"2431.50"},null,{"$f":"IFERROR(TEXT(RTD(\"cqg.rtd\",,\"ContractData\",N3,\"LastQuote\",,\"T\")+(RTD(\"cqg.rtd\",,\"ContractData\",N3,\"LastQuote\",,\"T\")*RTD(\"cqg.rtd\",,\"ContractData\",\"C.US.\"&N3,\"AverageVolatility\",,\"T\")*SQRT(AD42/365)),$D$1),\"\")","v":"2519.36"},{"$f":"IFERROR(TEXT(RTD(\"cqg.rtd\",,\"ContractData\",N3,\"LastQuote\",,\"T\")+(2*RTD(\"cqg.rtd\",,\"ContractData\",N3,\"LastQuote\",,\"T\")*RTD(\"cqg.rtd\",,\"ContractData\",\"C.US.\"&N3,\"AverageVolatility\",,\"T\")*SQRT(AD42/365)),$D$1),\"\")","v":"2609.22"}]
[null,null,null,"  Copyright © 2015",null,null,"Designed by Thom Hartle"]

{"sheet":"Display4","index":3,"n_rows":46,"n_cols":32,"rows_kept":46,"cut":false,"hidden":false,"merged":[[4,3,4,4],[4,6,4,7],[4,8,4,9],[4,10,4,11],[4,12,4,13],[5,3,5,5],[5,8,5,9],[1,30,2,31],[2,3,2,4],[2,10,2,11],[3,4,3,5],[3,6,3,7],[3,8,3,9],[3,10,3,11],[3,12,3,13],[3,17,4,17],[3,21,4,23],[1,3,1,4],[1,6,1,8],[1,10,1,13],[1,14,2,26],[1,27,2,27],[1,28,2,29],[8,3,8,5],[8,8,8,9],[8,21,8,23],[9,3,9,5],[9,8,9,9],[9,21,9,23],[5,21,5,23],[6,3,6,5],[6,8,6,9],[6,21,6,23],[7,3,7,5],[7,8,7,9],[7,21,7,23],[12,3,12,5],[12,8,12,9],[12,21,12,23],[13,3,13,5],[13,8,13,9],[13,21,13,23],[10,3,10,5],[10,8,10,9],[10,21,10,23],[11,3,11,5],[11,8,11,9],[11,21,11,23],[16,3,16,5],[16,8,16,9],[16,21,16,23],[17,3,17,5],[17,8,17,9],[17,21,17,23],[14,3,14,5],[14,8,14,9],[14,21,14,23],[15,3,15,5],[15,8,15,9],[15,21,15,23],[20,3,20,5],[20,8,20,9],[20,21,20,23],[21,3,21,5],[21,8,21,9],[21,21,21,23],[18,3,18,5],[18,8,18,9],[18,21,18,23],[19,3,19,5],[19,8,19,9],[19,21,19,23],[24,3,24,5],[24,8,24,9],[24,21,24,23],[25,3,25,5],[25,8,25,9],[25,21,25,23],[22,3,22,5],[22,8,22,9],[22,21,22,23],[23,3,23,5],[23,8,23,9],[23,21,23,23],[28,3,28,5],[28,8,28,9],[28,21,28,23],[29,3,29,5],[29,8,29,9],[29,21,29,23],[26,3,26,5],[26,8,26,9],[26,21,26,23],[27,3,27,5],[27,8,27,9],[27,21,27,23],[32,3,32,5],[32,8,32,9],[32,21,32,23],[33,3,33,5],[33,8,33,9],[33,21,33,23],[30,3,30,5],[30,8,30,9],[30,21,30,23],[31,3,31,5],[31,8,31,9],[31,21,31,23],[36,3,36,5],[36,8,36,9],[36,21,36,23],[37,3,37,5],[37,8,37,9],[37,21,37,23],[34,3,34,5],[34,8,34,9],[34,21,34,23],[35,3,35,5],[35,8,35,9],[35,21,35,23],[40,3,40,5],[40,8,40,9],[40,12,40,25],[41,3,41,9],[41,13,41,19],[41,23,41,28],[38,3,38,5],[38,8,38,9],[38,21,38,23],[39,3,39,5],[39,8,39,9],[39,21,39,23],[42,3,42,4],[42,5,42,10],[42,13,42,14],[42,15,42,20],[42,25,42,28],[43,3,43,4],[43,5,43,6],[43,7,43,8],[43,9,43,10],[43,11,43,12],[44,25,44,26],[44,27,44,28],[44,30,44,31],[45,3,45,5],[45,6,45,10],[43,27,43,28],[43,30,43,31],[44,3,44,4],[44,5,44,6],[44,7,44,8],[44,9,44,10],[44,11,44,12],[44,13,44,14],[44,20,44,21],[44,23,44,24],[43,13,43,14],[43,15,43,16],[43,17,43,18],[43,20,43,21],[43,23,43,24],[43,25,43,26]]}
[null,"Fourth!$O$1:$N$35",null,{"$f":"IF(F5=\"N\",\"B\",IF(F5=0,\"#\",IF(F5=1,\"#.0\",IF(F5=2,\"#.00\",IF(F5=3,\"#.000\",IF(F5=4,\"#.0000\",IF(F5=5,\"#.00000\",IF(F5=6,\"#.000000\",IF(F5=7,\"#.0000000\")))))))))","v":"#.00"}]
["Fourth!$AJ$1:$AK$35","Fourth!$I$1:$J$35","Fourth!$AE$1:$AF$35","Account",null,"Sym:","EP",null,null,"Step","Underlying Symbols",null,null,null,"         CQG Open Options Positions Dashboard",null,null,null,null,null,null,null,null,null,null,null,null,null,"CHICAGO: ",null,{"$f":"RTD(\"cqg.rtd\", ,\"SystemInfo\", \"Linetime\")","v":42907.463738425926}]
[null,"Fourth!$U$1:$V$35","Fourth!$AJ$1:$AK$35","PSspread300",null,"M&Yr:","?1","?2","?3",50,"EP?1",null,"EP?2","EP?3"]
[null,"Fourth!$Z$1:$AA$35","Fourth!$AO$1:$AP$35","Long","Decimals",null,"Open",null,"OTE",null,"Last",null,"Time of Last Trade",null,"Bid","Bid",null,"TheoVal",null,"Ask","Ask","Long Description",null,null,"Contract","Contract","IV","Vega","Delta","Gamma","Theta","DTE "]
[null,null,null,"Description",null,2,"Position",null,null,null,"Trade",null,{"$f":"RTD(\"cqg.rtd\", ,\"SystemInfo\", \"Linetime\")","v":42907.463738425926},null,"Volume",-0.01,null,null,null,0.02,"Volume",null,null,null,"Volume","Open Int"]
[{"$f":"IF(LEFT(D6,1)=\"C\",\"OptionBidTiMe\",IF(LEFT(D6,1)=\"P\",\"OptionBidTiMe\",\"TMLastBid\"))","v":"TMLastBid"},{"$f":"IF(LEFT(D6,1)=\"C\",\"OptionAskTiMe\",IF(LEFT(D6,1)=\"P\",\"OptionAskTiMe\",\"TMLastAsk\"))","v":"TMLastAsk"},{"$f":"IF(LOOKUP(1,Fourth!A1:A448)<>1,0,1)","v":0},{"$f":"IF(C6=1,VLOOKUP(First!I1,INDIRECT($A$2),2),\"\")","v":""},null,null,{"$f":"IF(C6=1,IF(H6>0,\"Long  \",\"Short  \"),\"\")","v":""},{"$f":"IF(C6=1,RTD(\"cqg.rtd\", ,\"OrderData\", \"\"&D6&\"\", \"\", \"OpenPosition\",\"\"&$D$3&\"\"),\"\")","v":""},{"$f":"IF(C6=1,RTD(\"cqg.rtd\", ,\"OrderData\",\"\"&D6&\"\", \"\", \"OpenTradeEquity\",\"\"&$D$3&\"\"),\"\")","v":""},null,{"$f":"IF(C6=0,\"\",IF($D$1=\"B\",RTD(\"cqg.rtd\", ,\"ContractData\",D6, \"LastTrade\",,\"B\"),TEXT(RTD(\"cqg.rtd\", ,\"ContractData\",D6, \"LastTrade\",, \"T\"),$D$1)))","v":""},{"$f":"IF(RTD(\"cqg.rtd\",,\"ContractData\",D6,\"LastTrade\",,\"T\")<RTD(\"cqg.rtd\",,\"ContractData\",D6,\"Bid\",,\"T\"),1,IF(RTD(\"cqg.rtd\",,\"ContractData\",D6,\"LastTrade\",,\"T\")>RTD(\"cqg.rtd\",,\"ContractData\",D6,\"Ask\",,\"T\"),1,0))","v":0},{"$f":"IF(C6=1,RTD(\"cqg.rtd\", ,\"ContractData\",D6, \"TMLastTrade\",, \"T\"),\"\")","v":""},{"$f":"IF(C6=1,MOD($AE$2-M6,1),\"\")","v":""},{"$f":"IF(C6=1,RTD(\"cqg.rtd\", ,\"ContractData\",D6, \"MT_LastBidVolume\",, \"T\"),\"\")","v":""},{"$f":"IF(C6=0,\"\",IF($D$1=\"B\",RTD(\"cqg.rtd\", ,\"ContractData\",D6, \"Bid\",,\"B\"),TEXT(RTD(\"cqg.rtd\", ,\"ContractData\",D6, \"Bid\",, \"T\"),$D$1)))","v":""},{"$f":"IF(R6=\"\",0,IF(R6-P6<$P$5,1,0))","v":0},{"$f":"IF(C6=0,\"\",IF(LEFT(D6,1)=\"F\",\"\",IF($D$1=\"B\",RTD(\"cqg.rtd\", ,\"ContractData\",D6, \"TheoreticalValue\",,\"B\"),TEXT(RTD(\"cqg.rtd\", ,\"ContractData\",D6, \"TheoreticalValue\",, \"T\"),$D$1))))","v":""},{"$f":"IF(R6=\"\",0,IF(R6-T6>$T$5,1,0))","v":0},{"$f":"IF(C6=0,\"\",IF($D$1=\"B\",RTD(\"cqg.rtd\", ,\"ContractData\",D6, \"Ask\",,\"B\"),TEXT(RTD(\"cqg.rtd\", ,\"ContractData\",D6, \"Ask\",, \"T\"),$D$1)))","v":""},{"$f":"IF(C6=1,RTD(\"cqg.rtd\", ,\"ContractData\",D6, \"MT_LastAskVolume\",, \"T\"),\"\")","v":""},{"$f":"D6","v":""},null,null,{"$f":"IF(C6=1,RTD(\"cqg.rtd\", ,\"ContractData\",D6, \"T_CVol\",, \"T\"),\"\")","v":""},{"$f":"IF(C6=1,RTD(\"cqg.rtd\", ,\"ContractData\",D6, \"COI\",, \"T\"),\"\")","v":""},{"$f":"IF(C6=1,RTD(\"cqg.rtd\", ,\"ContractData\",D6, \"ImpliedVolatility\",, \"T\"),\"\")","v":""},{"$f":"IF(C6=1,RTD(\"cqg.rtd\", ,\"ContractData\",D6, \"Vega\",, \"T\"),\"\")","v":""},{"$f":"IF(C6=0,\"\",IF(LEFT(D6,1)=\"F\",H6*100,H6*RTD(\"cqg.rtd\",,\"ContractData\",D6,\"Delta\",,\"T\")))","v":""},{"$f":"IF(C6=1,RTD(\"cqg.rtd\", ,\"ContractData\",D6, \"Gamma\",, \"T\"),\"\")","v":""},{"$f":"IF(C6=1,IF(H6<0,-1*RTD(\"cqg.rtd\", ,\"ContractData\",D6, \"Theta\",, \"T\"),RTD(\"cqg.rtd\", ,\"ContractData\",D6, \"Theta\",, \"T\")),\"\")","v":""},{"$f":"IF(C6=0,\"\",IF(LEFT(D6,1)=\"F\",(RTD(\"cqg.rtd\",,\"ContractData\",D6,\"ExpirationDate\",,\"T\")-TODAY()),RTD(\"cqg.rtd\",,\"ContractData\",D6,\"OptionDaysToExp\",,\"T\")))","v":""}]
[{"$f":"IF(LEFT(D7,1)=\"C\",\"OptionBidTiMe\",IF(LEFT(D7,1)=\"P\",\"OptionBidTiMe\",\"TMLastBid\"))","v":"TMLastBid"},{"$f":"IF(LEFT(D7,1)=\"C\",\"OptionAskTiMe\",IF(LEFT(D7,1)=\"P\",\"OptionAskTiMe\",\"TMLastAsk\"))","v":"TMLastAsk"},{"$f":"IF(LOOKUP(2,Fourth!A1:A448)<>2,0,1)","v":0},{"$f":"IF(C7=1,VLOOKUP(Fourth!I2,INDIRECT($A$2),2),\"\")","v":""},null,null,{"$f":"IF(C7=1,IF(H7>0,\"Long  \",\"Short  \"),\"\")","v":""},{"$f":"IF(C7=1,RTD(\"cqg.rtd\", ,\"OrderData\", \"\"&D7&\"\", \"\", \"OpenPosition\",\"\"&$D$3&\"\"),\"\")","v":""},{"$f":"IF(C7=1,RTD(\"cqg.rtd\", ,\"OrderData\",\"\"&D7&\"\", \"\", \"OpenTradeEquity\",\"\"&$D$3&\"\"),\"\")","v":""},null,{"$f":"IF(C7=0,\"\",IF($D$1=\"B\",RTD(\"cqg.rtd\", ,\"ContractData\",D7, \"LastTrade\",,\"B\"),TEXT(RTD(\"cqg.rtd\", ,\"ContractData\",D7, \"LastTrade\",, \"T\"),$D$1)))","v":""},{"$f":"IF(RTD(\"cqg.rtd\",,\"ContractData\",D7,\"LastTrade\",,\"T\")<RTD(\"cqg.rtd\",,\"ContractData\",D7,\"Bid\",,\"T\"),1,IF(RTD(\"cqg.rtd\",,\"ContractData\",D7,\"LastTrade\",,\"T\")>RTD(\"cqg.rtd\",,\"ContractData\",D7,\"Ask\",,\"T\"),1,0))","v":0},{"$f":"IF(C7=1,RTD(\"cqg.rtd\", ,\"ContractData\",D7, \"TMLastTrade\",, \"T\"),\"\")","v":""},{"$f":"IF(C7=1,MOD($AE$2-M7,1),\"\")","v":""},{"$f":"IF(C7=1,RTD(\"cqg.rtd\", ,\"ContractData\",D7, \"MT_LastBidVolume\",, \"T\"),\"\")","v":""},{"$f":"IF(C7=0,\"\",IF($D$1=\"B\",RTD(\"cqg.rtd\", ,\"ContractData\",D7, \"Bid\",,\"B\"),TEXT(RTD(\"cqg.rtd\", ,\"ContractData\",D7, \"Bid\",, \"T\"),$D$1)))","v":""},{"$f":"IF(R7=\"\",0,IF(R7-P7<$P$5,1,0))","v":0},{"$f":"IF(C7=0,\"\",IF(LEFT(D7,1)=\"F\",\"\",IF($D$1=\"B\",RTD(\"cqg.rtd\", ,\"ContractData\",D7, \"TheoreticalValue\",,\"B\"),TEXT(RTD(\"cqg.rtd\", ,\"ContractData\",D7, \"TheoreticalValue\",, \"T\"),$D$1))))","v":""},{"$f":"IF(R7=\"\",0,IF(R7-T7>$T$5,1,0))","v":0},{"$f":"IF(C7=0,\"\",IF($D$1=\"B\",RTD(\"cqg.rtd\", ,\"ContractData\",D7, \"Ask\",,\"B\"),TEXT(RTD(\"cqg.rtd\", ,\"ContractData\",D7, \"Ask\",, \"T\"),$D$1)))","v":""},{"$f":"IF(C7=1,RTD(\"cqg.rtd\", ,\"ContractData\",D7, \"MT_LastAskVolume\",, \"T\"),\"\")","v":""},"",null,null,{"$f":"IF(C7=1,RTD(\"cqg.rtd\", ,\"ContractData\",D7, \"T_CVol\",, \"T\"),\"\")","v":""},{"$f":"IF(C7=1,RTD(\"cqg.rtd\", ,\"ContractData\",D7, \"COI\",, \"T\"),\"\")","v":""},{"$f":"IF(C7=1,RTD(\"cqg.rtd\", ,\"ContractData\",D7, \"ImpliedVolatility\",, \"T\"),\"\")","v":""},{"$f":"IF(C7=1,RTD(\"cqg.rtd\", ,\"ContractData\",D7, \"Vega\",, \"T\"),\"\")","v":""},{"$f":"IF(C7=0,\"\",IF(LEFT(D7,1)=\"F\",H7*100,H7*RTD(\"cqg.rtd\",,\"ContractData\",D7,\"Delta\",,\"T\")))","v":""},{"$f":"IF(C7=1,RTD(\"cqg.rtd\", ,\"ContractData\",D7, \"Gamma\",, \"T\"),\"\")","v":""},{"$f":"IF(C7=1,IF(H7<0,-1*RTD(\"cqg.rtd\", ,\"ContractData\",D7, \"Theta\",, \"T\"),RTD(\"cqg.rtd\", ,\"ContractData\",D7, \"Theta\",, \"T\")),\"\")","v":""},{"$f":"IF(C7=0,\"\",IF(LEFT(D7,1)=\"F\",(RTD(\"cqg.rtd\",,\"ContractData\",D7,\"ExpirationDate\",,\"T\")-TODAY()),RTD(\"cqg.rtd\",,\"ContractData\",D7,\"OptionDaysToExp\",,\"T\")))","v":""}]
["TMLastBid","TMLastAsk",{"$f":"IF(LOOKUP(3,Fourth!A1:A448)<>3,0,1)","v":0},{"$f":"IF(C8=1,VLOOKUP(Fourth!I3,INDIRECT($A$2),2),\"\")","v":""},null,null,"",{"$f":"IF(C8=1,RTD(\"cqg.rtd\", ,\"OrderData\", \"\"&D8&\"\", \"\", \"OpenPosition\",\"\"&$D$3&\"\"),\"\")","v":""},{"$f":"IF(C8=1,RTD(\"cqg.rtd\", ,\"OrderData\",\"\"&D8&\"\", \"\", \"OpenTradeEquity\",\"\"&$D$3&\"\"),\"\")","v":""},null,{"$f":"IF(C8=0,\"\",IF($D$1=\"B\",RTD(\"cqg.rtd\", ,\"ContractData\",D8, \"LastTrade\",,\"B\"),TEXT(RTD(\"cqg.rtd\", ,\"ContractData\",D8, \"LastTrade\",, \"T\"),$D$1)))","v":""},{"$f":"IF(RTD(\"cqg.rtd\",,\"ContractData\",D8,\"LastTrade\",,\"T\")<RTD(\"cqg.rtd\",,\"ContractData\",D8,\"Bid\",,\"T\"),1,IF(RTD(\"cqg.rtd\",,\"ContractData\",D8,\"LastTrade\",,\"T\")>RTD(\"cqg.rtd\",,\"ContractData\",D8,\"Ask\",,\"T\"),1,0))","v":0},{"$f":"IF(C8=1,RTD(\"cqg.rtd\", ,\"ContractData\",D8, \"TMLastTrade\",, \"T\"),\"\")","v":""},"",{"$f":"IF(C8=1,RTD(\"cqg.rtd\", ,\"ContractData\",D8, \"MT_LastBidVolume\",, \"T\"),\"\")","v":""},{"$f":"IF(C8=0,\"\",IF($D$1=\"B\",RTD(\"cqg.rtd\", ,\"ContractData\",D8, \"Bid\",,\"B\"),TEXT(RTD(\"cqg.rtd\", ,\"ContractData\",D8, \"Bid\",, \"T\"),$D$1)))","v":""},0,{"$f":"IF(C8=0,\"\",IF(LEFT(D8,1)=\"F\",\"\",IF($D$1=\"B\",RTD(\"cqg.rtd\", ,\"ContractData\",D8, \"TheoreticalValue\",,\"B\"),TEXT(RTD(\"cqg.rtd\", ,\"ContractData\",D8, \"TheoreticalValue\",, \"T\"),$D$1))))","v":""},0,{"$f":"IF(C8=0,\"\",IF($D$1=\"B\",RTD(\"cqg.rtd\", ,\"ContractData\",D8, \"Ask\",,\"B\"),TEXT(RTD(\"cqg.rtd\", ,\"ContractData\",D8, \"Ask\",, \"T\"),$D$1)))","v":""},{"$f":"IF(C8=1,RTD(\"cqg.rtd\", ,\"ContractData\",D8, \"MT_LastAskVolume\",, \"T\"),\"\")","v":""},"",null,null,{"$f":"IF(C8=1,RTD(\"cqg.rtd\", ,\"ContractData\",D8, \"T_CVol\",, \"T\"),\"\")","v":""},{"$f":"IF(C8=1,RTD(\"cqg.rtd\", ,\"ContractData\",D8, \"COI\",, \"T\"),\"\")","v":""},{"$f":"IF(C8=1,RTD(\"cqg.rtd\", ,\"ContractData\",D8, \"ImpliedVolatility\",, \"T\"),\"\")","v":""},{"$f":"IF(C8=1,RTD(\"cqg.rtd\", ,\"ContractData\",D8, \"Vega\",, \"T\"),\"\")","v":""},{"$f":"IF(C8=0,\"\",IF(LEFT(D8,1)=\"F\",H8*100,H8*RTD(\"cqg.rtd\",,\"ContractData\",D8,\"Delta\",,\"T\")))","v":""},{"$f":"IF(C8=1,RTD(\"cqg.rtd\", ,\"ContractData\",D8, \"Gamma\",, \"T\"),\"\")","v":""},{"$f":"IF(C8=1,IF(H8<0,-1*RTD(\"cqg.rtd\", ,\"ContractData\",D8, \"Theta\",, \"T\"),RTD(\"cqg.rtd\", ,\"ContractData\",D8, \"Theta\",, \"T\")),\"\")","v":""},{"$f":"IF(C8=0,\"\",IF(LEFT(D8,1)=\"F\",(RTD(\"cqg.rtd\",,\"ContractData\",D8,\"ExpirationDate\",,\"T\")-TODAY()),RTD(\"cqg.rtd\",,\"ContractData\",D8,\"OptionDaysToExp\",,\"T\")))","v":""}]
["TMLastBid","TMLastAsk",{"$f":"IF(LOOKUP(4,Fourth!A1:A448)<>4,0,1)","v":0},{"$f":"IF(C9=1,VLOOKUP(Fourth!I4,INDIRECT($A$2),2),\"\")","v":""},null,null,"",{"$f":"IF(C9=1,RTD(\"cqg.rtd\", ,\"OrderData\", \"\"&D9&\"\", \"\", \"OpenPosition\",\"\"&$D$3&\"\"),\"\")","v":""},{"$f":"IF(C9=1,RTD(\"cqg.rtd\", ,\"OrderData\",\"\"&D9&\"\", \"\", \"OpenTradeEquity\",\"\"&$D$3&\"\"),\"\")","v":""},null,{"$f":"IF(C9=0,\"\",IF($D$1=\"B\",RTD(\"cqg.rtd\", ,\"ContractData\",D9, \"LastTrade\",,\"B\"),TEXT(RTD(\"cqg.rtd\", ,\"ContractData\",D9, \"LastTrade\",, \"T\"),$D$1)))","v":""},{"$f":"IF(RTD(\"cqg.rtd\",,\"ContractData\",D9,\"LastTrade\",,\"T\")<RTD(\"cqg.rtd\",,\"ContractData\",D9,\"Bid\",,\"T\"),1,IF(RTD(\"cqg.rtd\",,\"ContractData\",D9,\"LastTrade\",,\"T\")>RTD(\"cqg.rtd\",,\"ContractData\",D9,\"Ask\",,\"T\"),1,0))","v":0},{"$f":"IF(C9=1,RTD(\"cqg.rtd\", ,\"ContractData\",D9, \"TMLastTrade\",, \"T\"),\"\")","v":""},"",{"$f":"IF(C9=1,RTD(\"cqg.rtd\", ,\"ContractData\",D9, \"MT_LastBidVolume\",, \"T\"),\"\")","v":""},{"$f":"IF(C9=0,\"\",IF($D$1=\"B\",RTD(\"cqg.rtd\", ,\"ContractData\",D9, \"Bid\",,\"B\"),TEXT(RTD(\"cqg.rtd\", ,\"ContractData\",D9, \"Bid\",, \"T\"),$D$1)))","v":""},0,{"$f":"IF(C9=0,\"\",IF(LEFT(D9,1)=\"F\",\"\",IF($D$1=\"B\",RTD(\"cqg.rtd\", ,\"ContractData\",D9, \"TheoreticalValue\",,\"B\"),TEXT(RTD(\"cqg.rtd\", ,\"ContractData\",D9, \"TheoreticalValue\",, \"T\"),$D$1))))","v":""},0,{"$f":"IF(C9=0,\"\",IF($D$1=\"B\",RTD(\"cqg.rtd\", ,\"ContractData\",D9, \"Ask\",,\"B\"),TEXT(RTD(\"cqg.rtd\", ,\"ContractData\",D9, \"Ask\",, \"T\"),$D$1)))","v":""},{"$f":"IF(C9=1,RTD(\"cqg.rtd\", ,\"ContractData\",D9, \"MT_LastAskVolume\",, \"T\"),\"\")","v":""},"",null,null,{"$f":"IF(C9=1,RTD(\"cqg.rtd\", ,\"ContractData\",D9, \"T_CVol\",, \"T\"),\"\")","v":""},{"$f":"IF(C9=1,RTD(\"cqg.rtd\", ,\"ContractData\",D9, \"COI\",, \"T\"),\"\")","v":""},{"$f":"IF(C9=1,RTD(\"cqg.rtd\", ,\"ContractData\",D9, \"ImpliedVolatility\",, \"T\"),\"\")","v":""},{"$f":"IF(C9=1,RTD(\"cqg.rtd\", ,\"ContractData\",D9, \"Vega\",, \"T\"),\"\")","v":""},{"$f":"IF(C9=0,\"\",IF(LEFT(D9,1)=\"F\",H9*100,H9*RTD(\"cqg.rtd\",,\"ContractData\",D9,\"Delta\",,\"T\")))","v":""},{"$f":"IF(C9=1,RTD(\"cqg.rtd\", ,\"ContractData\",D9, \"Gamma\",, \"T\"),\"\")","v":""},{"$f":"IF(C9=1,IF(H9<0,-1*RTD(\"cqg.rtd\", ,\"ContractData\",D9, \"Theta\",, \"T\"),RTD(\"cqg.rtd\", ,\"ContractData\",D9, \"Theta\",, \"T\")),\"\")","v":""},{"$f":"IF(C9=0,\"\",IF(LEFT(D9,1)=\"F\",(RTD(\"cqg.rtd\",,\"ContractData\",D9,\"ExpirationDate\",,\"T\")-TODAY()),RTD(\"cqg.rtd\",,\"ContractData\",D9,\"OptionDaysToExp\",,\"T\")))","v":""}]
["TMLastBid","TMLastAsk",{"$f":"IF(LOOKUP(5,Fourth!A1:A448)<>5,0,1)","v":0},{"$f":"IF(C10=1,VLOOKUP(Fourth!I5,INDIRECT($A$2),2),\"\")","v":""},null,null,"",{"$f":"IF(C10=1,RTD(\"cqg.rtd\", ,\"OrderData\", \"\"&D10&\"\", \"\", \"OpenPosition\",\"\"&$D$3&\"\"),\"\")","v":""},{"$f":"IF(C10=1,RTD(\"cqg.rtd\", ,\"OrderData\",\"\"&D10&\"\", \"\", \"OpenTradeEquity\",\"\"&$D$3&\"\"),\"\")","v":""},null,{"$f":"IF(C10=0,\"\",IF($D$1=\"B\",RTD(\"cqg.rtd\", ,\"ContractData\",D10, \"LastTrade\",,\"B\"),TEXT(RTD(\"cqg.rtd\", ,\"ContractData\",D10, \"LastTrade\",, \"T\"),$D$1)))","v":""},{"$f":"IF(RTD(\"cqg.rtd\",,\"ContractData\",D10,\"LastTrade\",,\"T\")<RTD(\"cqg.rtd\",,\"ContractData\",D10,\"Bid\",,\"T\"),1,IF(RTD(\"cqg.rtd\",,\"ContractData\",D10,\"LastTrade\",,\"T\")>RTD(\"cqg.rtd\",,\"ContractData\",D10,\"Ask\",,\"T\"),1,0))","v":0},{"$f":"IF(C10=1,RTD(\"cqg.rtd\", ,\"ContractData\",D10, \"TMLastTrade\",, \"T\"),\"\")","v":""},"",{"$f":"IF(C10=1,RTD(\"cqg.rtd\", ,\"ContractData\",D10, \"MT_LastBidVolume\",, \"T\"),\"\")","v":""},{"$f":"IF(C10=0,\"\",IF($D$1=\"B\",RTD(\"cqg.rtd\", ,\"ContractData\",D10, \"Bid\",,\"B\"),TEXT(RTD(\"cqg.rtd\", ,\"ContractData\",D10, \"Bid\",, \"T\"),$D$1)))","v":""},0,{"$f":"IF(C10=0,\"\",IF(LEFT(D10,1)=\"F\",\"\",IF($D$1=\"B\",RTD(\"cqg.rtd\", ,\"ContractData\",D10, \"TheoreticalValue\",,\"B\"),TEXT(RTD(\"cqg.rtd\", ,\"ContractData\",D10, \"TheoreticalValue\",, \"T\"),$D$1))))","v":""},0,{"$f":"IF(C10=0,\"\",IF($D$1=\"B\",RTD(\"cqg.rtd\", ,\"ContractData\",D10, \"Ask\",,\"B\"),TEXT(RTD(\"cqg.rtd\", ,\"ContractData\",D10, \"Ask\",, \"T\"),$D$1)))","v":""},{"$f":"IF(C10=1,RTD(\"cqg.rtd\", ,\"ContractData\",D10, \"MT_LastAskVolume\",, \"T\"),\"\")","v":""},"",null,null,{"$f":"IF(C10=1,RTD(\"cqg.rtd\", ,\"ContractData\",D10, \"T_CVol\",, \"T\"),\"\")","v":""},{"$f":"IF(C10=1,RTD(\"cqg.rtd\", ,\"ContractData\",D10, \"COI\",, \"T\"),\"\")","v":""},{"$f":"IF(C10=1,RTD(\"cqg.rtd\", ,\"ContractData\",D10, \"ImpliedVolatility\",, \"T\"),\"\")","v":""},{"$f":"IF(C10=1,RTD(\"cqg.rtd\", ,\"ContractData\",D10, \"Vega\",, \"T\"),\"\")","v":""},{"$f":"IF(C10=0,\"\",IF(LEFT(D10,1)=\"F\",H10*100,H10*RTD(\"cqg.rtd\",,\"ContractData\",D10,\"Delta\",,\"T\")))","v":""},{"$f":"IF(C10=1,RTD(\"cqg.rtd\", ,\"ContractData\",D10, \"Gamma\",, \"T\"),\"\")","v":""},{"$f":"IF(C10=1,IF(H10<0,-1*RTD(\"cqg.rtd\", ,\"ContractData\",D10, \"Theta\",, \"T\"),RTD(\"cqg.rtd\", ,\"ContractData\",D10, \"Theta\",, \"T\")),\"\")","v":""},{"$f":"IF(C10=0,\"\",IF(LEFT(D10,1)=\"F\",(RTD(\"cqg.rtd\",,\"ContractData\",D10,\"ExpirationDate\",,\"T\")-TODAY()),RTD(\"cqg.rtd\",,\"ContractData\",D10,\"OptionDaysToExp\",,\"T\")))","v":""}]
["TMLastBid","TMLastAsk",{"$f":"IF(LOOKUP(6,Fourth!A1:A448)<>6,0,1)","v":0},{"$f":"IF(C11=1,VLOOKUP(Fourth!I6,INDIRECT($A$2),2),\"\")","v":""},null,null,"",{"$f":"IF(C11=1,RTD(\"cqg.rtd\", ,\"OrderData\", \"\"&D11&\"\", \"\", \"OpenPosition\",\"\"&$D$3&\"\"),\"\")","v":""},{"$f":"IF(C11=1,RTD(\"cqg.rtd\", ,\"OrderData\",\"\"&D11&\"\", \"\", \"OpenTradeEquity\",\"\"&$D$3&\"\"),\"\")","v":""},null,{"$f":"IF(C11=0,\"\",IF($D$1=\"B\",RTD(\"cqg.rtd\", ,\"ContractData\",D11, \"LastTrade\",,\"B\"),TEXT(RTD(\"cqg.rtd\", ,\"ContractData\",D11, \"LastTrade\",, \"T\"),$D$1)))","v":""},{"$f":"IF(RTD(\"cqg.rtd\",,\"ContractData\",D11,\"LastTrade\",,\"T\")<RTD(\"cqg.rtd\",,\"ContractData\",D11,\"Bid\",,\"T\"),1,IF(RTD(\"cqg.rtd\",,\"ContractData\",D11,\"LastTrade\",,\"T\")>RTD(\"cqg.rtd\",,\"ContractData\",D11,\"Ask\",,\"T\"),1,0))","v":0},{"$f":"IF(C11=1,RTD(\"cqg.rtd\", ,\"ContractData\",D11, \"TMLastTrade\",, \"T\"),\"\")","v":""},"",{"$f":"IF(C11=1,RTD(\"cqg.rtd\", ,\"ContractData\",D11, \"MT_LastBidVolume\",, \"T\"),\"\")","v":""},{"$f":"IF(C11=0,\"\",IF($D$1=\"B\",RTD(\"cqg.rtd\", ,\"ContractData\",D11, \"Bid\",,\"B\"),TEXT(RTD(\"cqg.rtd\", ,\"ContractData\",D11, \"Bid\",, \"T\"),$D$1)))","v":""},0,{"$f":"IF(C11=0,\"\",IF(LEFT(D11,1)=\"F\",\"\",IF($D$1=\"B\",RTD(\"cqg.rtd\", ,\"ContractData\",D11, \"TheoreticalValue\",,\"B\"),TEXT(RTD(\"cqg.rtd\", ,\"ContractData\",D11, \"TheoreticalValue\",, \"T\"),$D$1))))","v":""},0,{"$f":"IF(C11=0,\"\",IF($D$1=\"B\",RTD(\"cqg.rtd\", ,\"ContractData\",D11, \"Ask\",,\"B\"),TEXT(RTD(\"cqg.rtd\", ,\"ContractData\",D11, \"Ask\",, \"T\"),$D$1)))","v":""},{"$f":"IF(C11=1,RTD(\"cqg.rtd\", ,\"ContractData\",D11, \"MT_LastAskVolume\",, \"T\"),\"\")","v":""},"",null,null,{"$f":"IF(C11=1,RTD(\"cqg.rtd\", ,\"ContractData\",D11, \"T_CVol\",, \"T\"),\"\")","v":""},{"$f":"IF(C11=1,RTD(\"cqg.rtd\", ,\"ContractData\",D11, \"COI\",, \"T\"),\"\")","v":""},{"$f":"IF(C11=1,RTD(\"cqg.rtd\", ,\"ContractData\",D11, \"ImpliedVolatility\",, \"T\"),\"\")","v":""},{"$f":"IF(C11=1,RTD(\"cqg.rtd\", ,\"ContractData\",D11, \"Vega\",, \"T\"),\"\")","v":""},{"$f":"IF(C11=0,\"\",IF(LEFT(D11,1)=\"F\",H11*100,H11*RTD(\"cqg.rtd\",,\"ContractData\",D11,\"Delta\",,\"T\")))","v":""},{"$f":"IF(C11=1,RTD(\"cqg.rtd\", ,\"ContractData\",D11, \"Gamma\",, \"T\"),\"\")","v":""},{"$f":"IF(C11=1,IF(H11<0,-1*RTD(\"cqg.rtd\", ,\"ContractData\",D11, \"Theta\",, \"T\"),RTD(\"cqg.rtd\", ,\"ContractData\",D11, \"Theta\",, \"T\")),\"\")","v":""},{"$f":"IF(C11=0,\"\",IF(LEFT(D11,1)=\"F\",(RTD(\"cqg.rtd\",,\"ContractData\",D11,\"ExpirationDate\",,\"T\")-TODAY()),RTD(\"cqg.rtd\",,\"ContractData\",D11,\"OptionDaysToExp\",,\"T\")))","v":""}]
["TMLastBid","TMLastAsk",{"$f":"IF(LOOKUP(7,Fourth!A1:A448)<>7,0,1)","v":0},{"$f":"IF(C12=1,VLOOKUP(Fourth!I7,INDIRECT($A$2),2),\"\")","v":""},null,null,"",{"$f":"IF(C12=1,RTD(\"cqg.rtd\", ,\"OrderData\", \"\"&D12&\"\", \"\", \"OpenPosition\",\"\"&$D$3&\"\"),\"\")","v":""},{"$f":"IF(C12=1,RTD(\"cqg.rtd\", ,\"OrderData\",\"\"&D12&\"\", \"\", \"OpenTradeEquity\",\"\"&$D$3&\"\"),\"\")","v":""},null,{"$f":"IF(C12=0,\"\",IF($D$1=\"B\",RTD(\"cqg.rtd\", ,\"ContractData\",D12, \"LastTrade\",,\"B\"),TEXT(RTD(\"cqg.rtd\", ,\"ContractData\",D12, \"LastTrade\",, \"T\"),$D$1)))","v":""},{"$f":"IF(RTD(\"cqg.rtd\",,\"ContractData\",D12,\"LastTrade\",,\"T\")<RTD(\"cqg.rtd\",,\"ContractData\",D12,\"Bid\",,\"T\"),1,IF(RTD(\"cqg.rtd\",,\"ContractData\",D12,\"LastTrade\",,\"T\")>RTD(\"cqg.rtd\",,\"ContractData\",D12,\"Ask\",,\"T\"),1,0))","v":0},{"$f":"IF(C12=1,RTD(\"cqg.rtd\", ,\"ContractData\",D12, \"TMLastTrade\",, \"T\"),\"\")","v":""},"",{"$f":"IF(C12=1,RTD(\"cqg.rtd\", ,\"ContractData\",D12, \"MT_LastBidVolume\",, \"T\"),\"\")","v":""},{"$f":"IF(C12=0,\"\",IF($D$1=\"B\",RTD(\"cqg.rtd\", ,\"ContractData\",D12, \"Bid\",,\"B\"),TEXT(RTD(\"cqg.rtd\", ,\"ContractData\",D12, \"Bid\",, \"T\"),$D$1)))","v":""},0,{"$f":"IF(C12=0,\"\",IF(LEFT(D12,1)=\"F\",\"\",IF($D$1=\"B\",RTD(\"cqg.rtd\", ,\"ContractData\",D12, \"TheoreticalValue\",,\"B\"),TEXT(RTD(\"cqg.rtd\", ,\"ContractData\",D12, \"TheoreticalValue\",, \"T\"),$D$1))))","v":""},0,{"$f":"IF(C12=0,\"\",IF($D$1=\"B\",RTD(\"cqg.rtd\", ,\"ContractData\",D12, \"Ask\",,\"B\"),TEXT(RTD(\"cqg.rtd\", ,\"ContractData\",D12, \"Ask\",, \"T\"),$D$1)))","v":""},{"$f":"IF(C12=1,RTD(\"cqg.rtd\", ,\"ContractData\",D12, \"MT_LastAskVolume\",, \"T\"),\"\")","v":""},"",null,null,{"$f":"IF(C12=1,RTD(\"cqg.rtd\", ,\"ContractData\",D12, \"T_CVol\",, \"T\"),\"\")","v":""},{"$f":"IF(C12=1,RTD(\"cqg.rtd\", ,\"ContractData\",D12, \"COI\",, \"T\"),\"\")","v":""},{"$f":"IF(C12=1,RTD(\"cqg.rtd\", ,\"ContractData\",D12, \"ImpliedVolatility\",, \"T\"),\"\")","v":""},{"$f":"IF(C12=1,RTD(\"cqg.rtd\", ,\"ContractData\",D12, \"Vega\",, \"T\"),\"\")","v":""},{"$f":"IF(C12=0,\"\",IF(LEFT(D12,1)=\"F\",H12*100,H12*RTD(\"cqg.rtd\",,\"ContractData\",D12,\"Delta\",,\"T\")))","v":""},{"$f":"IF(C12=1,RTD(\"cqg.rtd\", ,\"ContractData\",D12, \"Gamma\",, \"T\"),\"\")","v":""},{"$f":"IF(C12=1,IF(H12<0,-1*RTD(\"cqg.rtd\", ,\"ContractData\",D12, \"Theta\",, \"T\"),RTD(\"cqg.rtd\", ,\"ContractData\",D12, \"Theta\",, \"T\")),\"\")","v":""},{"$f":"IF(C12=0,\"\",IF(LEFT(D12,1)=\"F\",(RTD(\"cqg.rtd\",,\"ContractData\",D12,\"ExpirationDate\",,\"T\")-TODAY()),RTD(\"cqg.rtd\",,\"ContractData\",D12,\"OptionDaysToExp\",,\"T\")))","v":""}]
["TMLastBid","TMLastAsk",{"$f":"IF(LOOKUP(8,Fourth!A1:A448)<>8,0,1)","v":0},{"$f":"IF(C13=1,VLOOKUP(Fourth!I8,INDIRECT($A$2),2),\"\")","v":""},null,null,{"$f":"IF(C13=1,IF(H13>0,\"Long  \",\"Short  \"),\"\")","v":""},{"$f":"IF(C13=1,RTD(\"cqg.rtd\", ,\"OrderData\", \"\"&D13&\"\", \"\", \"OpenPosition\",\"\"&$D$3&\"\"),\"\")","v":""},{"$f":"IF(C13=1,RTD(\"cqg.rtd\", ,\"OrderData\",\"\"&D13&\"\", \"\", \"OpenTradeEquity\",\"\"&$D$3&\"\"),\"\")","v":""},null,{"$f":"IF(C13=0,\"\",IF($D$1=\"B\",RTD(\"cqg.rtd\", ,\"ContractData\",D13, \"LastTrade\",,\"B\"),TEXT(RTD(\"cqg.rtd\", ,\"ContractData\",D13, \"LastTrade\",, \"T\"),$D$1)))","v":""},{"$f":"IF(RTD(\"cqg.rtd\",,\"ContractData\",D13,\"LastTrade\",,\"T\")<RTD(\"cqg.rtd\",,\"ContractData\",D13,\"Bid\",,\"T\"),1,IF(RTD(\"cqg.rtd\",,\"ContractData\",D13,\"LastTrade\",,\"T\")>RTD(\"cqg.rtd\",,\"ContractData\",D13,\"Ask\",,\"T\"),1,0))","v":0},{"$f":"IF(C13=1,RTD(\"cqg.rtd\", ,\"ContractData\",D13, \"TMLastTrade\",, \"T\"),\"\")","v":""},"",{"$f":"IF(C13=1,RTD(\"cqg.rtd\", ,\"ContractData\",D13, \"MT_LastBidVolume\",, \"T\"),\"\")","v":""},{"$f":"IF(C13=0,\"\",IF($D$1=\"B\",RTD(\"cqg.rtd\", ,\"ContractData\",D13, \"Bid\",,\"B\"),TEXT(RTD(\"cqg.rtd\", ,\"ContractData\",D13, \"Bid\",, \"T\"),$D$1)))","v":""},0,{"$f":"IF(C13=0,\"\",IF(LEFT(D13,1)=\"F\",\"\",IF($D$1=\"B\",RTD(\"cqg.rtd\", ,\"ContractData\",D13, \"TheoreticalValue\",,\"B\"),TEXT(RTD(\"cqg.rtd\", ,\"ContractData\",D13, \"TheoreticalValue\",, \"T\"),$D$1))))","v":""},0,{"$f":"IF(C13=0,\"\",IF($D$1=\"B\",RTD(\"cqg.rtd\", ,\"ContractData\",D13, \"Ask\",,\"B\"),TEXT(RTD(\"cqg.rtd\", ,\"ContractData\",D13, \"Ask\",, \"T\"),$D$1)))","v":""},{"$f":"IF(C13=1,RTD(\"cqg.rtd\", ,\"ContractData\",D13, \"MT_LastAskVolume\",, \"T\"),\"\")","v":""},"",null,null,{"$f":"IF(C13=1,RTD(\"cqg.rtd\", ,\"ContractData\",D13, \"T_CVol\",, \"T\"),\"\")","v":""},{"$f":"IF(C13=1,RTD(\"cqg.rtd\", ,\"ContractData\",D13, \"COI\",, \"T\"),\"\")","v":""},{"$f":"IF(C13=1,RTD(\"cqg.rtd\", ,\"ContractData\",D13, \"ImpliedVolatility\",, \"T\"),\"\")","v":""},{"$f":"IF(C13=1,RTD(\"cqg.rtd\", ,\"ContractData\",D13, \"Vega\",, \"T\"),\"\")","v":""},{"$f":"IF(C13=0,\"\",IF(LEFT(D13,1)=\"F\",H13*100,H13*RTD(\"cqg.rtd\",,\"ContractData\",D13,\"Delta\",,\"T\")))","v":""},{"$f":"IF(C13=1,RTD(\"cqg.rtd\", ,\"ContractData\",D13, \"Gamma\",, \"T\"),\"\")","v":""},{"$f":"IF(C13=1,IF(H13<0,-1*RTD(\"cqg.rtd\", ,\"ContractData\",D13, \"Theta\",, \"T\"),RTD(\"cqg.rtd\", ,\"ContractData\",D13, \"Theta\",, \"T\")),\"\")","v":""},{"$f":"IF(C13=0,\"\",IF(LEFT(D13,1)=\"F\",(RTD(\"cqg.rtd\",,\"ContractData\",D13,\"ExpirationDate\",,\"T\")-TODAY()),RTD(\"cqg.rtd\",,\"ContractData\",D13,\"OptionDaysToExp\",,\"T\")))","v":""}]
["TMLastBid","TMLastAsk",{"$f":"IF(LOOKUP(9,Fourth!A1:A448)<>9,0,1)","v":0},{"$f":"IF(C14=1,VLOOKUP(Fourth!I9,INDIRECT($A$2),2),\"\")","v":""},null,null,"",{"$f":"IF(C14=1,RTD(\"cqg.rtd\", ,\"OrderData\", \"\"&D14&\"\", \"\", \"OpenPosition\",\"\"&$D$3&\"\"),\"\")","v":""},{"$f":"IF(C14=1,RTD(\"cqg.rtd\", ,\"OrderData\",\"\"&D14&\"\", \"\", \"OpenTradeEquity\",\"\"&$D$3&\"\"),\"\")","v":""},null,{"$f":"IF(C14=0,\"\",IF($D$1=\"B\",RTD(\"cqg.rtd\", ,\"ContractData\",D14, \"LastTrade\",,\"B\"),TEXT(RTD(\"cqg.rtd\", ,\"ContractData\",D14, \"LastTrade\",, \"T\"),$D$1)))","v":""},{"$f":"IF(RTD(\"cqg.rtd\",,\"ContractData\",D14,\"LastTrade\",,\"T\")<RTD(\"cqg.rtd\",,\"ContractData\",D14,\"Bid\",,\"T\"),1,IF(RTD(\"cqg.rtd\",,\"ContractData\",D14,\"LastTrade\",,\"T\")>RTD(\"cqg.rtd\",,\"ContractData\",D14,\"Ask\",,\"T\"),1,0))","v":0},{"$f":"IF(C14=1,RTD(\"cqg.rtd\", ,\"ContractData\",D14, \"TMLastTrade\",, \"T\"),\"\")","v":""},"",{"$f":"IF(C14=1,RTD(\"cqg.rtd\", ,\"ContractData\",D14, \"MT_LastBidVolume\",, \"T\"),\"\")","v":""},{"$f":"IF(C14=0,\"\",IF($D$1=\"B\",RTD(\"cqg.rtd\", ,\"ContractData\",D14, \"Bid\",,\"B\"),TEXT(RTD(\"cqg.rtd\", ,\"ContractData\",D14, \"Bid\",, \"T\"),$D$1)))","v":""},0,{"$f":"IF(C14=0,\"\",IF(LEFT(D14,1)=\"F\",\"\",IF($D$1=\"B\",RTD(\"cqg.rtd\", ,\"ContractData\",D14, \"TheoreticalValue\",,\"B\"),TEXT(RTD(\"cqg.rtd\", ,\"ContractData\",D14, \"TheoreticalValue\",, \"T\"),$D$1))))","v":""},0,{"$f":"IF(C14=0,\"\",IF($D$1=\"B\",RTD(\"cqg.rtd\", ,\"ContractData\",D14, \"Ask\",,\"B\"),TEXT(RTD(\"cqg.rtd\", ,\"ContractData\",D14, \"Ask\",, \"T\"),$D$1)))","v":""},{"$f":"IF(C14=1,RTD(\"cqg.rtd\", ,\"ContractData\",D14, \"MT_LastAskVolume\",, \"T\"),\"\")","v":""},"",null,null,{"$f":"IF(C14=1,RTD(\"cqg.rtd\", ,\"ContractData\",D14, \"T_CVol\",, \"T\"),\"\")","v":""},{"$f":"IF(C14=1,RTD(\"cqg.rtd\", ,\"ContractData\",D14, \"COI\",, \"T\"),\"\")","v":""},{"$f":"IF(C14=1,RTD(\"cqg.rtd\", ,\"ContractData\",D14, \"ImpliedVolatility\",, \"T\"),\"\")","v":""},{"$f":"IF(C14=1,RTD(\"cqg.rtd\", ,\"ContractData\",D14, \"Vega\",, \"T\"),\"\")","v":""},{"$f":"IF(C14=0,\"\",IF(LEFT(D14,1)=\"F\",H14*100,H14*RTD(\"cqg.rtd\",,\"ContractData\",D14,\"Delta\",,\"T\")))","v":""},{"$f":"IF(C14=1,RTD(\"cqg.rtd\", ,\"ContractData\",D14, \"Gamma\",, \"T\"),\"\")","v":""},{"$f":"IF(C14=1,IF(H14<0,-1*RTD(\"cqg.rtd\", ,\"ContractData\",D14, \"Theta\",, \"T\"),RTD(\"cqg.rtd\", ,\"ContractData\",D14, \"Theta\",, \"T\")),\"\")","v":""},{"$f":"IF(C14=0,\"\",IF(LEFT(D14,1)=\"F\",(RTD(\"cqg.rtd\",,\"ContractData\",D14,\"ExpirationDate\",,\"T\")-TODAY()),RTD(\"cqg.rtd\",,\"ContractData\",D14,\"OptionDaysToExp\",,\"T\")))","v":""}]
["TMLastBid","TMLastAsk",{"$f":"IF(LOOKUP(10,Fourth!A1:A448)<>10,0,1)","v":0},{"$f":"IF(C15=1,VLOOKUP(Fourth!I10,INDIRECT($A$2),2),\"\")","v":""},null,null,"",{"$f":"IF(C15=1,RTD(\"cqg.rtd\", ,\"OrderData\", \"\"&D15&\"\", \"\", \"OpenPosition\",\"\"&$D$3&\"\"),\"\")","v":""},{"$f":"IF(C15=1,RTD(\"cqg.rtd\", ,\"OrderData\",\"\"&D15&\"\", \"\", \"OpenTradeEquity\",\"\"&$D$3&\"\"),\"\")","v":""},null,{"$f":"IF(C15=0,\"\",IF($D$1=\"B\",RTD(\"cqg.rtd\", ,\"ContractData\",D15, \"LastTrade\",,\"B\"),TEXT(RTD(\"cqg.rtd\", ,\"ContractData\",D15, \"LastTrade\",, \"T\"),$D$1)))","v":""},{"$f":"IF(RTD(\"cqg.rtd\",,\"ContractData\",D15,\"LastTrade\",,\"T\")<RTD(\"cqg.rtd\",,\"ContractData\",D15,\"Bid\",,\"T\"),1,IF(RTD(\"cqg.rtd\",,\"ContractData\",D15,\"LastTrade\",,\"T\")>RTD(\"cqg.rtd\",,\"ContractData\",D15,\"Ask\",,\"T\"),1,0))","v":0},{"$f":"IF(C15=1,RTD(\"cqg.rtd\", ,\"ContractData\",D15, \"TMLastTrade\",, \"T\"),\"\")","v":""},"",{"$f":"IF(C15=1,RTD(\"cqg.rtd\", ,\"ContractData\",D15, \"MT_LastBidVolume\",, \"T\"),\"\")","v":""},{"$f":"IF(C15=0,\"\",IF($D$1=\"B\",RTD(\"cqg.rtd\", ,\"ContractData\",D15, \"Bid\",,\"B\"),TEXT(RTD(\"cqg.rtd\", ,\"ContractData\",D15, \"Bid\",, \"T\"),$D$1)))","v":""},{"$f":"IF(R15=\"\",0,IF(R15-P15<$P$5,1,0))","v":0},{"$f":"IF(C15=0,\"\",IF(LEFT(D15,1)=\"F\",\"\",IF($D$1=\"B\",RTD(\"cqg.rtd\", ,\"ContractData\",D15, \"TheoreticalValue\",,\"B\"),TEXT(RTD(\"cqg.rtd\", ,\"ContractData\",D15, \"TheoreticalValue\",, \"T\"),$D$1))))","v":""},0,{"$f":"IF(C15=0,\"\",IF($D$1=\"B\",RTD(\"cqg.rtd\", ,\"ContractData\",D15, \"Ask\",,\"B\"),TEXT(RTD(\"cqg.rtd\", ,\"ContractData\",D15, \"Ask\",, \"T\"),$D$1)))","v":""},{"$f":"IF(C15=1,RTD(\"cqg.rtd\", ,\"ContractData\",D15, \"MT_LastAskVolume\",, \"T\"),\"\")","v":""},"",null,null,{"$f":"IF(C15=1,RTD(\"cqg.rtd\", ,\"ContractData\",D15, \"T_CVol\",, \"T\"),\"\")","v":""},{"$f":"IF(C15=1,RTD(\"cqg.rtd\", ,\"ContractData\",D15, \"COI\",, \"T\"),\"\")","v":""},{"$f":"IF(C15=1,RTD(\"cqg.rtd\", ,\"ContractData\",D15, \"ImpliedVolatility\",, \"T\"),\"\")","v":""},{"$f":"IF(C15=1,RTD(\"cqg.rtd\", ,\"ContractData\",D15, \"Vega\",, \"T\"),\"\")","v":""},{"$f":"IF(C15=0,\"\",IF(LEFT(D15,1)=\"F\",H15*100,H15*RTD(\"cqg.rtd\",,\"ContractData\",D15,\"Delta\",,\"T\")))","v":""},{"$f":"IF(C15=1,RTD(\"cqg.rtd\", ,\"ContractData\",D15, \"Gamma\",, \"T\"),\"\")","v":""},{"$f":"IF(C15=1,IF(H15<0,-1*RTD(\"cqg.rtd\", ,\"ContractData\",D15, \"Theta\",, \"T\"),RTD(\"cqg.rtd\", ,\"ContractData\",D15, \"Theta\",, \"T\")),\"\")","v":""},{"$f":"IF(C15=0,\"\",IF(LEFT(D15,1)=\"F\",(RTD(\"cqg.rtd\",,\"ContractData\",D15,\"ExpirationDate\",,\"T\")-TODAY()),RTD(\"cqg.rtd\",,\"ContractData\",D15,\"OptionDaysToExp\",,\"T\")))","v":""}]
["TMLastBid","TMLastAsk",{"$f":"IF(LOOKUP(11,Fourth!A1:A448)<>11,0,1)","v":0},{"$f":"IF(C16=1,VLOOKUP(Fourth!I11,INDIRECT($A$2),2),\"\")","v":""},null,null,"",{"$f":"IF(C16=1,RTD(\"cqg.rtd\", ,\"OrderData\", \"\"&D16&\"\", \"\", \"OpenPosition\",\"\"&$D$3&\"\"),\"\")","v":""},{"$f":"IF(C16=1,RTD(\"cqg.rtd\", ,\"OrderData\",\"\"&D16&\"\", \"\", \"OpenTradeEquity\",\"\"&$D$3&\"\"),\"\")","v":""},null,{"$f":"IF(C16=0,\"\",IF($D$1=\"B\",RTD(\"cqg.rtd\", ,\"ContractData\",D16, \"LastTrade\",,\"B\"),TEXT(RTD(\"cqg.rtd\", ,\"ContractData\",D16, \"LastTrade\",, \"T\"),$D$1)))","v":""},{"$f":"IF(RTD(\"cqg.rtd\",,\"ContractData\",D16,\"LastTrade\",,\"T\")<RTD(\"cqg.rtd\",,\"ContractData\",D16,\"Bid\",,\"T\"),1,IF(RTD(\"cqg.rtd\",,\"ContractData\",D16,\"LastTrade\",,\"T\")>RTD(\"cqg.rtd\",,\"ContractData\",D16,\"Ask\",,\"T\"),1,0))","v":0},{"$f":"IF(C16=1,RTD(\"cqg.rtd\", ,\"ContractData\",D16, \"TMLastTrade\",, \"T\"),\"\")","v":""},"",{"$f":"IF(C16=1,RTD(\"cqg.rtd\", ,\"ContractData\",D16, \"MT_LastBidVolume\",, \"T\"),\"\")","v":""},{"$f":"IF(C16=0,\"\",IF($D$1=\"B\",RTD(\"cqg.rtd\", ,\"ContractData\",D16, \"Bid\",,\"B\"),TEXT(RTD(\"cqg.rtd\", ,\"ContractData\",D16, \"Bid\",, \"T\"),$D$1)))","v":""},0,{"$f":"IF(C16=0,\"\",IF(LEFT(D16,1)=\"F\",\"\",IF($D$1=\"B\",RTD(\"cqg.rtd\", ,\"ContractData\",D16, \"TheoreticalValue\",,\"B\"),TEXT(RTD(\"cqg.rtd\", ,\"ContractData\",D16, \"TheoreticalValue\",, \"T\"),$D$1))))","v":""},0,{"$f":"IF(C16=0,\"\",IF($D$1=\"B\",RTD(\"cqg.rtd\", ,\"ContractData\",D16, \"Ask\",,\"B\"),TEXT(RTD(\"cqg.rtd\", ,\"ContractData\",D16, \"Ask\",, \"T\"),$D$1)))","v":""},{"$f":"IF(C16=1,RTD(\"cqg.rtd\", ,\"ContractData\",D16, \"MT_LastAskVolume\",, \"T\"),\"\")","v":""},"",null,null,{"$f":"IF(C16=1,RTD(\"cqg.rtd\", ,\"ContractData\",D16, \"T_CVol\",, \"T\"),\"\")","v":""},{"$f":"IF(C16=1,RTD(\"cqg.rtd\", ,\"ContractData\",D16, \"COI\",, \"T\"),\"\")","v":""},{"$f":"IF(C16=1,RTD(\"cqg.rtd\", ,\"ContractData\",D16, \"ImpliedVolatility\",, \"T\"),\"\")","v":""},{"$f":"IF(C16=1,RTD(\"cqg.rtd\", ,\"ContractData\",D16, \"Vega\",, \"T\"),\"\")","v":""},{"$f":"IF(C16=0,\"\",IF(LEFT(D16,1)=\"F\",H16*100,H16*RTD(\"cqg.rtd\",,\"ContractData\",D16,\"Delta\",,\"T\")))","v":""},{"$f":"IF(C16=1,RTD(\"cqg.rtd\", ,\"ContractData\",D16, \"Gamma\",, \"T\"),\"\")","v":""},{"$f":"IF(C16=1,IF(H16<0,-1*RTD(\"cqg.rtd\", ,\"ContractData\",D16, \"Theta\",, \"T\"),RTD(\"cqg.rtd\", ,\"ContractData\",D16, \"Theta\",, \"T\")),\"\")","v":""},{"$f":"IF(C16=0,\"\",IF(LEFT(D16,1)=\"F\",(RTD(\"cqg.rtd\",,\"ContractData\",D16,\"ExpirationDate\",,\"T\")-TODAY()),RTD(\"cqg.rtd\",,\"ContractData\",D16,\"OptionDaysToExp\",,\"T\")))","v":""}]
["TMLastBid","TMLastAsk",{"$f":"IF(LOOKUP(12,Fourth!A1:A448)<>12,0,1)","v":0},{"$f":"IF(C17=1,VLOOKUP(Fourth!I12,INDIRECT($A$2),2),\"\")","v":""},null,null,"",{"$f":"IF(C17=1,RTD(\"cqg.rtd\", ,\"OrderData\", \"\"&D17&\"\", \"\", \"OpenPosition\",\"\"&$D$3&\"\"),\"\")","v":""},{"$f":"IF(C17=1,RTD(\"cqg.rtd\", ,\"OrderData\",\"\"&D17&\"\", \"\", \"OpenTradeEquity\",\"\"&$D$3&\"\"),\"\")","v":""},null,{"$f":"IF(C17=0,\"\",IF($D$1=\"B\",RTD(\"cqg.rtd\", ,\"ContractData\",D17, \"LastTrade\",,\"B\"),TEXT(RTD(\"cqg.rtd\", ,\"ContractData\",D17, \"LastTrade\",, \"T\"),$D$1)))","v":""},{"$f":"IF(RTD(\"cqg.rtd\",,\"ContractData\",D17,\"LastTrade\",,\"T\")<RTD(\"cqg.rtd\",,\"ContractData\",D17,\"Bid\",,\"T\"),1,IF(RTD(\"cqg.rtd\",,\"ContractData\",D17,\"LastTrade\",,\"T\")>RTD(\"cqg.rtd\",,\"ContractData\",D17,\"Ask\",,\"T\"),1,0))","v":0},{"$f":"IF(C17=1,RTD(\"cqg.rtd\", ,\"ContractData\",D17, \"TMLastTrade\",, \"T\"),\"\")","v":""},"",{"$f":"IF(C17=1,RTD(\"cqg.rtd\", ,\"ContractData\",D17, \"MT_LastBidVolume\",, \"T\"),\"\")","v":""},{"$f":"IF(C17=0,\"\",IF($D$1=\"B\",RTD(\"cqg.rtd\", ,\"ContractData\",D17, \"Bid\",,\"B\"),TEXT(RTD(\"cqg.rtd\", ,\"ContractData\",D17, \"Bid\",, \"T\"),$D$1)))","v":""},0,{"$f":"IF(C17=0,\"\",IF(LEFT(D17,1)=\"F\",\"\",IF($D$1=\"B\",RTD(\"cqg.rtd\", ,\"ContractData\",D17, \"TheoreticalValue\",,\"B\"),TEXT(RTD(\"cqg.rtd\", ,\"ContractData\",D17, \"TheoreticalValue\",, \"T\"),$D$1))))","v":""},0,{"$f":"IF(C17=0,\"\",IF($D$1=\"B\",RTD(\"cqg.rtd\", ,\"ContractData\",D17, \"Ask\",,\"B\"),TEXT(RTD(\"cqg.rtd\", ,\"ContractData\",D17, \"Ask\",, \"T\"),$D$1)))","v":""},{"$f":"IF(C17=1,RTD(\"cqg.rtd\", ,\"ContractData\",D17, \"MT_LastAskVolume\",, \"T\"),\"\")","v":""},"",null,null,{"$f":"IF(C17=1,RTD(\"cqg.rtd\", ,\"ContractData\",D17, \"T_CVol\",, \"T\"),\"\")","v":""},{"$f":"IF(C17=1,RTD(\"cqg.rtd\", ,\"ContractData\",D17, \"COI\",, \"T\"),\"\")","v":""},{"$f":"IF(C17=1,RTD(\"cqg.rtd\", ,\"ContractData\",D17, \"ImpliedVolatility\",, \"T\"),\"\")","v":""},{"$f":"IF(C17=1,RTD(\"cqg.rtd\", ,\"ContractData\",D17, \"Vega\",, \"T\"),\"\")","v":""},{"$f":"IF(C17=0,\"\",IF(LEFT(D17,1)=\"F\",H17*100,H17*RTD(\"cqg.rtd\",,\"ContractData\",D17,\"Delta\",,\"T\")))","v":""},{"$f":"IF(C17=1,RTD(\"cqg.rtd\", ,\"ContractData\",D17, \"Gamma\",, \"T\"),\"\")","v":""},{"$f":"IF(C17=1,IF(H17<0,-1*RTD(\"cqg.rtd\", ,\"ContractData\",D17, \"Theta\",, \"T\"),RTD(\"cqg.rtd\", ,\"ContractData\",D17, \"Theta\",, \"T\")),\"\")","v":""},{"$f":"IF(C17=0,\"\",IF(LEFT(D17,1)=\"F\",(RTD(\"cqg.rtd\",,\"ContractData\",D17,\"ExpirationDate\",,\"T\")-TODAY()),RTD(\"cqg.rtd\",,\"ContractData\",D17,\"OptionDaysToExp\",,\"T\")))","v":""}]
["TMLastBid","TMLastAsk",{"$f":"IF(LOOKUP(13,Fourth!A1:A448)<>13,0,1)","v":0},{"$f":"IF(C18=1,VLOOKUP(Fourth!I13,INDIRECT($A$2),2),\"\")","v":""},null,null,"",{"$f":"IF(C18=1,RTD(\"cqg.rtd\", ,\"OrderData\", \"\"&D18&\"\", \"\", \"OpenPosition\",\"\"&$D$3&\"\"),\"\")","v":""},{"$f":"IF(C18=1,RTD(\"cqg.rtd\", ,\"OrderData\",\"\"&D18&\"\", \"\", \"OpenTradeEquity\",\"\"&$D$3&\"\"),\"\")","v":""},null,{"$f":"IF(C18=0,\"\",IF($D$1=\"B\",RTD(\"cqg.rtd\", ,\"ContractData\",D18, \"LastTrade\",,\"B\"),TEXT(RTD(\"cqg.rtd\", ,\"ContractData\",D18, \"LastTrade\",, \"T\"),$D$1)))","v":""},{"$f":"IF(RTD(\"cqg.rtd\",,\"ContractData\",D18,\"LastTrade\",,\"T\")<RTD(\"cqg.rtd\",,\"ContractData\",D18,\"Bid\",,\"T\"),1,IF(RTD(\"cqg.rtd\",,\"ContractData\",D18,\"LastTrade\",,\"T\")>RTD(\"cqg.rtd\",,\"ContractData\",D18,\"Ask\",,\"T\"),1,0))","v":0},{"$f":"IF(C18=1,RTD(\"cqg.rtd\", ,\"ContractData\",D18, \"TMLastTrade\",, \"T\"),\"\")","v":""},"",{"$f":"IF(C18=1,RTD(\"cqg.rtd\", ,\"ContractData\",D18, \"MT_LastBidVolume\",, \"T\"),\"\")","v":""},{"$f":"IF(C18=0,\"\",IF($D$1=\"B\",RTD(\"cqg.rtd\", ,\"ContractData\",D18, \"Bid\",,\"B\"),TEXT(RTD(\"cqg.rtd\", ,\"ContractData\",D18, \"Bid\",, \"T\"),$D$1)))","v":""},0,{"$f":"IF(C18=0,\"\",IF(LEFT(D18,1)=\"F\",\"\",IF($D$1=\"B\",RTD(\"cqg.rtd\", ,\"ContractData\",D18, \"TheoreticalValue\",,\"B\"),TEXT(RTD(\"cqg.rtd\", ,\"ContractData\",D18, \"TheoreticalValue\",, \"T\"),$D$1))))","v":""},0,{"$f":"IF(C18=0,\"\",IF($D$1=\"B\",RTD(\"cqg.rtd\", ,\"ContractData\",D18, \"Ask\",,\"B\"),TEXT(RTD(\"cqg.rtd\", ,\"ContractData\",D18, \"Ask\",, \"T\"),$D$1)))","v":""},{"$f":"IF(C18=1,RTD(\"cqg.rtd\", ,\"ContractData\",D18, \"MT_LastAskVolume\",, \"T\"),\"\")","v":""},"",null,null,{"$f":"IF(C18=1,RTD(\"cqg.rtd\", ,\"ContractData\",D18, \"T_CVol\",, \"T\"),\"\")","v":""},{"$f":"IF(C18=1,RTD(\"cqg.rtd\", ,\"ContractData\",D18, \"COI\",, \"T\"),\"\")","v":""},{"$f":"IF(C18=1,RTD(\"cqg.rtd\", ,\"ContractData\",D18, \"ImpliedVolatility\",, \"T\"),\"\")","v":""},{"$f":"IF(C18=1,RTD(\"cqg.rtd\", ,\"ContractData\",D18, \"Vega\",, \"T\"),\"\")","v":""},{"$f":"IF(C18=0,\"\",IF(LEFT(D18,1)=\"F\",H18*100,H18*RTD(\"cqg.rtd\",,\"ContractData\",D18,\"Delta\",,\"T\")))","v":""},{"$f":"IF(C18=1,RTD(\"cqg.rtd\", ,\"ContractData\",D18, \"Gamma\",, \"T\"),\"\")","v":""},{"$f":"IF(C18=1,IF(H18<0,-1*RTD(\"cqg.rtd\", ,\"ContractData\",D18, \"Theta\",, \"T\"),RTD(\"cqg.rtd\", ,\"ContractData\",D18, \"Theta\",, \"T\")),\"\")","v":""},{"$f":"IF(C18=0,\"\",IF(LEFT(D18,1)=\"F\",(RTD(\"cqg.rtd\",,\"ContractData\",D18,\"ExpirationDate\",,\"T\")-TODAY()),RTD(\"cqg.rtd\",,\"ContractData\",D18,\"OptionDaysToExp\",,\"T\")))","v":""}]
["TMLastBid","TMLastAsk",{"$f":"IF(LOOKUP(14,Fourth!A1:A448)<>14,0,1)","v":0},{"$f":"IF(C19=1,VLOOKUP(Fourth!I14,INDIRECT($A$2),2),\"\")","v":""},null,null,"",{"$f":"IF(C19=1,RTD(\"cqg.rtd\", ,\"OrderData\", \"\"&D19&\"\", \"\", \"OpenPosition\",\"\"&$D$3&\"\"),\"\")","v":""},{"$f":"IF(C19=1,RTD(\"cqg.rtd\", ,\"OrderData\",\"\"&D19&\"\", \"\", \"OpenTradeEquity\",\"\"&$D$3&\"\"),\"\")","v":""},null,{"$f":"IF(C19=0,\"\",IF($D$1=\"B\",RTD(\"cqg.rtd\", ,\"ContractData\",D19, \"LastTrade\",,\"B\"),TEXT(RTD(\"cqg.rtd\", ,\"ContractData\",D19, \"LastTrade\",, \"T\"),$D$1)))","v":""},{"$f":"IF(RTD(\"cqg.rtd\",,\"ContractData\",D19,\"LastTrade\",,\"T\")<RTD(\"cqg.rtd\",,\"ContractData\",D19,\"Bid\",,\"T\"),1,IF(RTD(\"cqg.rtd\",,\"ContractData\",D19,\"LastTrade\",,\"T\")>RTD(\"cqg.rtd\",,\"ContractData\",D19,\"Ask\",,\"T\"),1,0))","v":0},{"$f":"IF(C19=1,RTD(\"cqg.rtd\", ,\"ContractData\",D19, \"TMLastTrade\",, \"T\"),\"\")","v":""},"",{"$f":"IF(C19=1,RTD(\"cqg.rtd\", ,\"ContractData\",D19, \"MT_LastBidVolume\",, \"T\"),\"\")","v":""},{"$f":"IF(C19=0,\"\",IF($D$1=\"B\",RTD(\"cqg.rtd\", ,\"ContractData\",D19, \"Bid\",,\"B\"),TEXT(RTD(\"cqg.rtd\", ,\"ContractData\",D19, \"Bid\",, \"T\"),$D$1)))","v":""},0,{"$f":"IF(C19=0,\"\",IF(LEFT(D19,1)=\"F\",\"\",IF($D$1=\"B\",RTD(\"cqg.rtd\", ,\"ContractData\",D19, \"TheoreticalValue\",,\"B\"),TEXT(RTD(\"cqg.rtd\", ,\"ContractData\",D19, \"TheoreticalValue\",, \"T\"),$D$1))))","v":""},0,{"$f":"IF(C19=0,\"\",IF($D$1=\"B\",RTD(\"cqg.rtd\", ,\"ContractData\",D19, \"Ask\",,\"B\"),TEXT(RTD(\"cqg.rtd\", ,\"ContractData\",D19, \"Ask\",, \"T\"),$D$1)))","v":""},{"$f":"IF(C19=1,RTD(\"cqg.rtd\", ,\"ContractData\",D19, \"MT_LastAskVolume\",, \"T\"),\"\")","v":""},"",null,null,{"$f":"IF(C19=1,RTD(\"cqg.rtd\", ,\"ContractData\",D19, \"T_CVol\",, \"T\"),\"\")","v":""},{"$f":"IF(C19=1,RTD(\"cqg.rtd\", ,\"ContractData\",D19, \"COI\",, \"T\"),\"\")","v":""},{"$f":"IF(C19=1,RTD(\"cqg.rtd\", ,\"ContractData\",D19, \"ImpliedVolatility\",, \"T\"),\"\")","v":""},{"$f":"IF(C19=1,RTD(\"cqg.rtd\", ,\"ContractData\",D19, \"Vega\",, \"T\"),\"\")","v":""},{"$f":"IF(C19=0,\"\",IF(LEFT(D19,1)=\"F\",H19*100,H19*RTD(\"cqg.rtd\",,\"ContractData\",D19,\"Delta\",,\"T\")))","v":""},{"$f":"IF(C19=1,RTD(\"cqg.rtd\", ,\"ContractData\",D19, \"Gamma\",, \"T\"),\"\")","v":""},{"$f":"IF(C19=1,IF(H19<0,-1*RTD(\"cqg.rtd\", ,\"ContractData\",D19, \"Theta\",, \"T\"),RTD(\"cqg.rtd\", ,\"ContractData\",D19, \"Theta\",, \"T\")),\"\")","v":""},{"$f":"IF(C19=0,\"\",IF(LEFT(D19,1)=\"F\",(RTD(\"cqg.rtd\",,\"ContractData\",D19,\"ExpirationDate\",,\"T\")-TODAY()),RTD(\"cqg.rtd\",,\"ContractData\",D19,\"OptionDaysToExp\",,\"T\")))","v":""}]
["TMLastBid","TMLastAsk",{"$f":"IF(LOOKUP(15,Fourth!A1:A448)<>15,0,1)","v":0},{"$f":"IF(C20=1,VLOOKUP(Fourth!I15,INDIRECT($A$2),2),\"\")","v":""},null,null,"",{"$f":"IF(C20=1,RTD(\"cqg.rtd\", ,\"OrderData\", \"\"&D20&\"\", \"\", \"OpenPosition\",\"\"&$D$3&\"\"),\"\")","v":""},{"$f":"IF(C20=1,RTD(\"cqg.rtd\", ,\"OrderData\",\"\"&D20&\"\", \"\", \"OpenTradeEquity\",\"\"&$D$3&\"\"),\"\")","v":""},null,{"$f":"IF(C20=0,\"\",IF($D$1=\"B\",RTD(\"cqg.rtd\", ,\"ContractData\",D20, \"LastTrade\",,\"B\"),TEXT(RTD(\"cqg.rtd\", ,\"ContractData\",D20, \"LastTrade\",, \"T\"),$D$1)))","v":""},{"$f":"IF(RTD(\"cqg.rtd\",,\"ContractData\",D20,\"LastTrade\",,\"T\")<RTD(\"cqg.rtd\",,\"ContractData\",D20,\"Bid\",,\"T\"),1,IF(RTD(\"cqg.rtd\",,\"ContractData\",D20,\"LastTrade\",,\"T\")>RTD(\"cqg.rtd\",,\"ContractData\",D20,\"Ask\",,\"T\"),1,0))","v":0},{"$f":"IF(C20=1,RTD(\"cqg.rtd\", ,\"ContractData\",D20, \"TMLastTrade\",, \"T\"),\"\")","v":""},"",{"$f":"IF(C20=1,RTD(\"cqg.rtd\", ,\"ContractData\",D20, \"MT_LastBidVolume\",, \"T\"),\"\")","v":""},{"$f":"IF(C20=0,\"\",IF($D$1=\"B\",RTD(\"cqg.rtd\", ,\"ContractData\",D20, \"Bid\",,\"B\"),TEXT(RTD(\"cqg.rtd\", ,\"ContractData\",D20, \"Bid\",, \"T\"),$D$1)))","v":""},0,{"$f":"IF(C20=0,\"\",IF(LEFT(D20,1)=\"F\",\"\",IF($D$1=\"B\",RTD(\"cqg.rtd\", ,\"ContractData\",D20, \"TheoreticalValue\",,\"B\"),TEXT(RTD(\"cqg.rtd\", ,\"ContractData\",D20, \"TheoreticalValue\",, \"T\"),$D$1))))","v":""},0,{"$f":"IF(C20=0,\"\",IF($D$1=\"B\",RTD(\"cqg.rtd\", ,\"ContractData\",D20, \"Ask\",,\"B\"),TEXT(RTD(\"cqg.rtd\", ,\"ContractData\",D20, \"Ask\",, \"T\"),$D$1)))","v":""},{"$f":"IF(C20=1,RTD(\"cqg.rtd\", ,\"ContractData\",D20, \"MT_LastAskVolume\",, \"T\"),\"\")","v":""},"",null,null,{"$f":"IF(C20=1,RTD(\"cqg.rtd\", ,\"ContractData\",D20, \"T_CVol\",, \"T\"),\"\")","v":""},{"$f":"IF(C20=1,RTD(\"cqg.rtd\", ,\"ContractData\",D20, \"COI\",, \"T\"),\"\")","v":""},{"$f":"IF(C20=1,RTD(\"cqg.rtd\", ,\"ContractData\",D20, \"ImpliedVolatility\",, \"T\"),\"\")","v":""},{"$f":"IF(C20=1,RTD(\"cqg.rtd\", ,\"ContractData\",D20, \"Vega\",, \"T\"),\"\")","v":""},{"$f":"IF(C20=0,\"\",IF(LEFT(D20,1)=\"F\",H20*100,H20*RTD(\"cqg.rtd\",,\"ContractData\",D20,\"Delta\",,\"T\")))","v":""},{"$f":"IF(C20=1,RTD(\"cqg.rtd\", ,\"ContractData\",D20, \"Gamma\",, \"T\"),\"\")","v":""},{"$f":"IF(C20=1,IF(H20<0,-1*RTD(\"cqg.rtd\", ,\"ContractData\",D20, \"Theta\",, \"T\"),RTD(\"cqg.rtd\", ,\"ContractData\",D20, \"Theta\",, \"T\")),\"\")","v":""},{"$f":"IF(C20=0,\"\",IF(LEFT(D20,1)=\"F\",(RTD(\"cqg.rtd\",,\"ContractData\",D20,\"ExpirationDate\",,\"T\")-TODAY()),RTD(\"cqg.rtd\",,\"ContractData\",D20,\"OptionDaysToExp\",,\"T\")))","v":""}]
["TMLastBid","TMLastAsk",{"$f":"IF(LOOKUP(16,Fourth!A1:A448)<>16,0,1)","v":0},{"$f":"IF(C21=1,VLOOKUP(Fourth!I16,INDIRECT($A$2),2),\"\")","v":""},null,null,"",{"$f":"IF(C21=1,RTD(\"cqg.rtd\", ,\"OrderData\", \"\"&D21&\"\", \"\", \"OpenPosition\",\"\"&$D$3&\"\"),\"\")","v":""},{"$f":"IF(C21=1,RTD(\"cqg.rtd\", ,\"OrderData\",\"\"&D21&\"\", \"\", \"OpenTradeEquity\",\"\"&$D$3&\"\"),\"\")","v":""},null,{"$f":"IF(C21=0,\"\",IF($D$1=\"B\",RTD(\"cqg.rtd\", ,\"ContractData\",D21, \"LastTrade\",,\"B\"),TEXT(RTD(\"cqg.rtd\", ,\"ContractData\",D21, \"LastTrade\",, \"T\"),$D$1)))","v":""},{"$f":"IF(RTD(\"cqg.rtd\",,\"ContractData\",D21,\"LastTrade\",,\"T\")<RTD(\"cqg.rtd\",,\"ContractData\",D21,\"Bid\",,\"T\"),1,IF(RTD(\"cqg.rtd\",,\"ContractData\",D21,\"LastTrade\",,\"T\")>RTD(\"cqg.rtd\",,\"ContractData\",D21,\"Ask\",,\"T\"),1,0))","v":0},{"$f":"IF(C21=1,RTD(\"cqg.rtd\", ,\"ContractData\",D21, \"TMLastTrade\",, \"T\"),\"\")","v":""},"",{"$f":"IF(C21=1,RTD(\"cqg.rtd\", ,\"ContractData\",D21, \"MT_LastBidVolume\",, \"T\"),\"\")","v":""},{"$f":"IF(C21=0,\"\",IF($D$1=\"B\",RTD(\"cqg.rtd\", ,\"ContractData\",D21, \"Bid\",,\"B\"),TEXT(RTD(\"cqg.rtd\", ,\"ContractData\",D21, \"Bid\",, \"T\"),$D$1)))","v":""},0,{"$f":"IF(C21=0,\"\",IF(LEFT(D21,1)=\"F\",\"\",IF($D$1=\"B\",RTD(\"cqg.rtd\", ,\"ContractData\",D21, \"TheoreticalValue\",,\"B\"),TEXT(RTD(\"cqg.rtd\", ,\"ContractData\",D21, \"TheoreticalValue\",, \"T\"),$D$1))))","v":""},0,{"$f":"IF(C21=0,\"\",IF($D$1=\"B\",RTD(\"cqg.rtd\", ,\"ContractData\",D21, \"Ask\",,\"B\"),TEXT(RTD(\"cqg.rtd\", ,\"ContractData\",D21, \"Ask\",, \"T\"),$D$1)))","v":""},{"$f":"IF(C21=1,RTD(\"cqg.rtd\", ,\"ContractData\",D21, \"MT_LastAskVolume\",, \"T\"),\"\")","v":""},"",null,null,{"$f":"IF(C21=1,RTD(\"cqg.rtd\", ,\"ContractData\",D21, \"T_CVol\",, \"T\"),\"\")","v":""},{"$f":"IF(C21=1,RTD(\"cqg.rtd\", ,\"ContractData\",D21, \"COI\",, \"T\"),\"\")","v":""},{"$f":"IF(C21=1,RTD(\"cqg.rtd\", ,\"ContractData\",D21, \"ImpliedVolatility\",, \"T\"),\"\")","v":""},{"$f":"IF(C21=1,RTD(\"cqg.rtd\", ,\"ContractData\",D21, \"Vega\",, \"T\"),\"\")","v":""},{"$f":"IF(C21=0,\"\",IF(LEFT(D21,1)=\"F\",H21*100,H21*RTD(\"cqg.rtd\",,\"ContractData\",D21,\"Delta\",,\"T\")))","v":""},{"$f":"IF(C21=1,RTD(\"cqg.rtd\", ,\"ContractData\",D21, \"Gamma\",, \"T\"),\"\")","v":""},{"$f":"IF(C21=1,IF(H21<0,-1*RTD(\"cqg.rtd\", ,\"ContractData\",D21, \"Theta\",, \"T\"),RTD(\"cqg.rtd\", ,\"ContractData\",D21, \"Theta\",, \"T\")),\"\")","v":""},{"$f":"IF(C21=0,\"\",IF(LEFT(D21,1)=\"F\",(RTD(\"cqg.rtd\",,\"ContractData\",D21,\"ExpirationDate\",,\"T\")-TODAY()),RTD(\"cqg.rtd\",,\"ContractData\",D21,\"OptionDaysToExp\",,\"T\")))","v":""}]
["TMLastBid","TMLastAsk",{"$f":"IF(LOOKUP(17,Fourth!A1:A448)<>17,0,1)","v":0},{"$f":"IF(C22=1,VLOOKUP(Fourth!I17,INDIRECT($A$2),2),\"\")","v":""},null,null,"",{"$f":"IF(C22=1,RTD(\"cqg.rtd\", ,\"OrderData\", \"\"&D22&\"\", \"\", \"OpenPosition\",\"\"&$D$3&\"\"),\"\")","v":""},{"$f":"IF(C22=1,RTD(\"cqg.rtd\", ,\"OrderData\",\"\"&D22&\"\", \"\", \"OpenTradeEquity\",\"\"&$D$3&\"\"),\"\")","v":""},null,{"$f":"IF(C22=0,\"\",IF($D$1=\"B\",RTD(\"cqg.rtd\", ,\"ContractData\",D22, \"LastTrade\",,\"B\"),TEXT(RTD(\"cqg.rtd\", ,\"ContractData\",D22, \"LastTrade\",, \"T\"),$D$1)))","v":""},{"$f":"IF(RTD(\"cqg.rtd\",,\"ContractData\",D22,\"LastTrade\",,\"T\")<RTD(\"cqg.rtd\",,\"ContractData\",D22,\"Bid\",,\"T\"),1,IF(RTD(\"cqg.rtd\",,\"ContractData\",D22,\"LastTrade\",,\"T\")>RTD(\"cqg.rtd\",,\"ContractData\",D22,\"Ask\",,\"T\"),1,0))","v":0},{"$f":"IF(C22=1,RTD(\"cqg.rtd\", ,\"ContractData\",D22, \"TMLastTrade\",, \"T\"),\"\")","v":""},"",{"$f":"IF(C22=1,RTD(\"cqg.rtd\", ,\"ContractData\",D22, \"MT_LastBidVolume\",, \"T\"),\"\")","v":""},{"$f":"IF(C22=0,\"\",IF($D$1=\"B\",RTD(\"cqg.rtd\", ,\"ContractData\",D22, \"Bid\",,\"B\"),TEXT(RTD(\"cqg.rtd\", ,\"ContractData\",D22, \"Bid\",, \"T\"),$D$1)))","v":""},0,{"$f":"IF(C22=0,\"\",IF(LEFT(D22,1)=\"F\",\"\",IF($D$1=\"B\",RTD(\"cqg.rtd\", ,\"ContractData\",D22, \"TheoreticalValue\",,\"B\"),TEXT(RTD(\"cqg.rtd\", ,\"ContractData\",D22, \"TheoreticalValue\",, \"T\"),$D$1))))","v":""},0,{"$f":"IF(C22=0,\"\",IF($D$1=\"B\",RTD(\"cqg.rtd\", ,\"ContractData\",D22, \"Ask\",,\"B\"),TEXT(RTD(\"cqg.rtd\", ,\"ContractData\",D22, \"Ask\",, \"T\"),$D$1)))","v":""},{"$f":"IF(C22=1,RTD(\"cqg.rtd\", ,\"ContractData\",D22, \"MT_LastAskVolume\",, \"T\"),\"\")","v":""},"",null,null,{"$f":"IF(C22=1,RTD(\"cqg.rtd\", ,\"ContractData\",D22, \"T_CVol\",, \"T\"),\"\")","v":""},{"$f":"IF(C22=1,RTD(\"cqg.rtd\", ,\"ContractData\",D22, \"COI\",, \"T\"),\"\")","v":""},{"$f":"IF(C22=1,RTD(\"cqg.rtd\", ,\"ContractData\",D22, \"ImpliedVolatility\",, \"T\"),\"\")","v":""},{"$f":"IF(C22=1,RTD(\"cqg.rtd\", ,\"ContractData\",D22, \"Vega\",, \"T\"),\"\")","v":""},{"$f":"IF(C22=0,\"\",IF(LEFT(D22,1)=\"F\",H22*100,H22*RTD(\"cqg.rtd\",,\"ContractData\",D22,\"Delta\",,\"T\")))","v":""},{"$f":"IF(C22=1,RTD(\"cqg.rtd\", ,\"ContractData\",D22, \"Gamma\",, \"T\"),\"\")","v":""},{"$f":"IF(C22=1,IF(H22<0,-1*RTD(\"cqg.rtd\", ,\"ContractData\",D22, \"Theta\",, \"T\"),RTD(\"cqg.rtd\", ,\"ContractData\",D22, \"Theta\",, \"T\")),\"\")","v":""},{"$f":"IF(C22=0,\"\",IF(LEFT(D22,1)=\"F\",(RTD(\"cqg.rtd\",,\"ContractData\",D22,\"ExpirationDate\",,\"T\")-TODAY()),RTD(\"cqg.rtd\",,\"ContractData\",D22,\"OptionDaysToExp\",,\"T\")))","v":""}]
["TMLastBid","TMLastAsk",{"$f":"IF(LOOKUP(18,Fourth!A1:A448)<>18,0,1)","v":0},{"$f":"IF(C23=1,VLOOKUP(Fourth!I18,INDIRECT($A$2),2),\"\")","v":""},null,null,"",{"$f":"IF(C23=1,RTD(\"cqg.rtd\", ,\"OrderData\", \"\"&D23&\"\", \"\", \"OpenPosition\",\"\"&$D$3&\"\"),\"\")","v":""},{"$f":"IF(C23=1,RTD(\"cqg.rtd\", ,\"OrderData\",\"\"&D23&\"\", \"\", \"OpenTradeEquity\",\"\"&$D$3&\"\"),\"\")","v":""},null,{"$f":"IF(C23=0,\"\",IF($D$1=\"B\",RTD(\"cqg.rtd\", ,\"ContractData\",D23, \"LastTrade\",,\"B\"),TEXT(RTD(\"cqg.rtd\", ,\"ContractData\",D23, \"LastTrade\",, \"T\"),$D$1)))","v":""},{"$f":"IF(RTD(\"cqg.rtd\",,\"ContractData\",D23,\"LastTrade\",,\"T\")<RTD(\"cqg.rtd\",,\"ContractData\",D23,\"Bid\",,\"T\"),1,IF(RTD(\"cqg.rtd\",,\"ContractData\",D23,\"LastTrade\",,\"T\")>RTD(\"cqg.rtd\",,\"ContractData\",D23,\"Ask\",,\"T\"),1,0))","v":0},{"$f":"IF(C23=1,RTD(\"cqg.rtd\", ,\"ContractData\",D23, \"TMLastTrade\",, \"T\"),\"\")","v":""},"",{"$f":"IF(C23=1,RTD(\"cqg.rtd\", ,\"ContractData\",D23, \"MT_LastBidVolume\",, \"T\"),\"\")","v":""},{"$f":"IF(C23=0,\"\",IF($D$1=\"B\",RTD(\"cqg.rtd\", ,\"ContractData\",D23, \"Bid\",,\"B\"),TEXT(RTD(\"cqg.rtd\", ,\"ContractData\",D23, \"Bid\",, \"T\"),$D$1)))","v":""},0,{"$f":"IF(C23=0,\"\",IF(LEFT(D23,1)=\"F\",\"\",IF($D$1=\"B\",RTD(\"cqg.rtd\", ,\"ContractData\",D23, \"TheoreticalValue\",,\"B\"),TEXT(RTD(\"cqg.rtd\", ,\"ContractData\",D23, \"TheoreticalValue\",, \"T\"),$D$1))))","v":""},0,{"$f":"IF(C23=0,\"\",IF($D$1=\"B\",RTD(\"cqg.rtd\", ,\"ContractData\",D23, \"Ask\",,\"B\"),TEXT(RTD(\"cqg.rtd\", ,\"ContractData\",D23, \"Ask\",, \"T\"),$D$1)))","v":""},{"$f":"IF(C23=1,RTD(\"cqg.rtd\", ,\"ContractData\",D23, \"MT_LastAskVolume\",, \"T\"),\"\")","v":""},"",null,null,{"$f":"IF(C23=1,RTD(\"cqg.rtd\", ,\"ContractData\",D23, \"T_CVol\",, \"T\"),\"\")","v":""},{"$f":"IF(C23=1,RTD(\"cqg.rtd\", ,\"ContractData\",D23, \"COI\",, \"T\"),\"\")","v":""},{"$f":"IF(C23=1,RTD(\"cqg.rtd\", ,\"ContractData\",D23, \"ImpliedVolatility\",, \"T\"),\"\")","v":""},{"$f":"IF(C23=1,RTD(\"cqg.rtd\", ,\"ContractData\",D23, \"Vega\",, \"T\"),\"\")","v":""},{"$f":"IF(C23=0,\"\",IF(LEFT(D23,1)=\"F\",H23*100,H23*RTD(\"cqg.rtd\",,\"ContractData\",D23,\"Delta\",,\"T\")))","v":""},{"$f":"IF(C23=1,RTD(\"cqg.rtd\", ,\"ContractData\",D23, \"Gamma\",, \"T\"),\"\")","v":""},{"$f":"IF(C23=1,IF(H23<0,-1*RTD(\"cqg.rtd\", ,\"ContractData\",D23, \"Theta\",, \"T\"),RTD(\"cqg.rtd\", ,\"ContractData\",D23, \"Theta\",, \"T\")),\"\")","v":""},{"$f":"IF(C23=0,\"\",IF(LEFT(D23,1)=\"F\",(RTD(\"cqg.rtd\",,\"ContractData\",D23,\"ExpirationDate\",,\"T\")-TODAY()),RTD(\"cqg.rtd\",,\"ContractData\",D23,\"OptionDaysToExp\",,\"T\")))","v":""}]
["TMLastBid","TMLastAsk",{"$f":"IF(LOOKUP(19,Fourth!A1:A448)<>19,0,1)","v":0},{"$f":"IF(C24=1,VLOOKUP(Fourth!I19,INDIRECT($A$2),2),\"\")","v":""},null,null,"",{"$f":"IF(C24=1,RTD(\"cqg.rtd\", ,\"OrderData\", \"\"&D24&\"\", \"\", \"OpenPosition\",\"\"&$D$3&\"\"),\"\")","v":""},{"$f":"IF(C24=1,RTD(\"cqg.rtd\", ,\"OrderData\",\"\"&D24&\"\", \"\", \"OpenTradeEquity\",\"\"&$D$3&\"\"),\"\")","v":""},null,{"$f":"IF(C24=0,\"\",IF($D$1=\"B\",RTD(\"cqg.rtd\", ,\"ContractData\",D24, \"LastTrade\",,\"B\"),TEXT(RTD(\"cqg.rtd\", ,\"ContractData\",D24, \"LastTrade\",, \"T\"),$D$1)))","v":""},{"$f":"IF(RTD(\"cqg.rtd\",,\"ContractData\",D24,\"LastTrade\",,\"T\")<RTD(\"cqg.rtd\",,\"ContractData\",D24,\"Bid\",,\"T\"),1,IF(RTD(\"cqg.rtd\",,\"ContractData\",D24,\"LastTrade\",,\"T\")>RTD(\"cqg.rtd\",,\"ContractData\",D24,\"Ask\",,\"T\"),1,0))","v":0},{"$f":"IF(C24=1,RTD(\"cqg.rtd\", ,\"ContractData\",D24, \"TMLastTrade\",, \"T\"),\"\")","v":""},"",{"$f":"IF(C24=1,RTD(\"cqg.rtd\", ,\"ContractData\",D24, \"MT_LastBidVolume\",, \"T\"),\"\")","v":""},{"$f":"IF(C24=0,\"\",IF($D$1=\"B\",RTD(\"cqg.rtd\", ,\"ContractData\",D24, \"Bid\",,\"B\"),TEXT(RTD(\"cqg.rtd\", ,\"ContractData\",D24, \"Bid\",, \"T\"),$D$1)))","v":""},0,{"$f":"IF(C24=0,\"\",IF(LEFT(D24,1)=\"F\",\"\",IF($D$1=\"B\",RTD(\"cqg.rtd\", ,\"ContractData\",D24, \"TheoreticalValue\",,\"B\"),TEXT(RTD(\"cqg.rtd\", ,\"ContractData\",D24, \"TheoreticalValue\",, \"T\"),$D$1))))","v":""},0,{"$f":"IF(C24=0,\"\",IF($D$1=\"B\",RTD(\"cqg.rtd\", ,\"ContractData\",D24, \"Ask\",,\"B\"),TEXT(RTD(\"cqg.rtd\", ,\"ContractData\",D24, \"Ask\",, \"T\"),$D$1)))","v":""},{"$f":"IF(C24=1,RTD(\"cqg.rtd\", ,\"ContractData\",D24, \"MT_LastAskVolume\",, \"T\"),\"\")","v":""},"",null,null,{"$f":"IF(C24=1,RTD(\"cqg.rtd\", ,\"ContractData\",D24, \"T_CVol\",, \"T\"),\"\")","v":""},{"$f":"IF(C24=1,RTD(\"cqg.rtd\", ,\"ContractData\",D24, \"COI\",, \"T\"),\"\")","v":""},{"$f":"IF(C24=1,RTD(\"cqg.rtd\", ,\"ContractData\",D24, \"ImpliedVolatility\",, \"T\"),\"\")","v":""},{"$f":"IF(C24=1,RTD(\"cqg.rtd\", ,\"ContractData\",D24, \"Vega\",, \"T\"),\"\")","v":""},{"$f":"IF(C24=0,\"\",IF(LEFT(D24,1)=\"F\",H24*100,H24*RTD(\"cqg.rtd\",,\"ContractData\",D24,\"Delta\",,\"T\")))","v":""},{"$f":"IF(C24=1,RTD(\"cqg.rtd\", ,\"ContractData\",D24, \"Gamma\",, \"T\"),\"\")","v":""},{"$f":"IF(C24=1,IF(H24<0,-1*RTD(\"cqg.rtd\", ,\"ContractData\",D24, \"Theta\",, \"T\"),RTD(\"cqg.rtd\", ,\"ContractData\",D24, \"Theta\",, \"T\")),\"\")","v":""},{"$f":"IF(C24=0,\"\",IF(LEFT(D24,1)=\"F\",(RTD(\"cqg.rtd\",,\"ContractData\",D24,\"ExpirationDate\",,\"T\")-TODAY()),RTD(\"cqg.rtd\",,\"ContractData\",D24,\"OptionDaysToExp\",,\"T\")))","v":""}]
["TMLastBid","TMLastAsk",{"$f":"IF(LOOKUP(20,Fourth!A1:A448)<>20,0,1)","v":0},{"$f":"IF(C25=1,VLOOKUP(Fourth!I20,INDIRECT($A$2),2),\"\")","v":""},null,null,"",{"$f":"IF(C25=1,RTD(\"cqg.rtd\", ,\"OrderData\", \"\"&D25&\"\", \"\", \"OpenPosition\",\"\"&$D$3&\"\"),\"\")","v":""},{"$f":"IF(C25=1,RTD(\"cqg.rtd\", ,\"OrderData\",\"\"&D25&\"\", \"\", \"OpenTradeEquity\",\"\"&$D$3&\"\"),\"\")","v":""},null,{"$f":"IF(C25=0,\"\",IF($D$1=\"B\",RTD(\"cqg.rtd\", ,\"ContractData\",D25, \"LastTrade\",,\"B\"),TEXT(RTD(\"cqg.rtd\", ,\"ContractData\",D25, \"LastTrade\",, \"T\"),$D$1)))","v":""},{"$f":"IF(RTD(\"cqg.rtd\",,\"ContractData\",D25,\"LastTrade\",,\"T\")<RTD(\"cqg.rtd\",,\"ContractData\",D25,\"Bid\",,\"T\"),1,IF(RTD(\"cqg.rtd\",,\"ContractData\",D25,\"LastTrade\",,\"T\")>RTD(\"cqg.rtd\",,\"ContractData\",D25,\"Ask\",,\"T\"),1,0))","v":0},{"$f":"IF(C25=1,RTD(\"cqg.rtd\", ,\"ContractData\",D25, \"TMLastTrade\",, \"T\"),\"\")","v":""},"",{"$f":"IF(C25=1,RTD(\"cqg.rtd\", ,\"ContractData\",D25, \"MT_LastBidVolume\",, \"T\"),\"\")","v":""},{"$f":"IF(C25=0,\"\",IF($D$1=\"B\",RTD(\"cqg.rtd\", ,\"ContractData\",D25, \"Bid\",,\"B\"),TEXT(RTD(\"cqg.rtd\", ,\"ContractData\",D25, \"Bid\",, \"T\"),$D$1)))","v":""},0,{"$f":"IF(C25=0,\"\",IF(LEFT(D25,1)=\"F\",\"\",IF($D$1=\"B\",RTD(\"cqg.rtd\", ,\"ContractData\",D25, \"TheoreticalValue\",,\"B\"),TEXT(RTD(\"cqg.rtd\", ,\"ContractData\",D25, \"TheoreticalValue\",, \"T\"),$D$1))))","v":""},0,{"$f":"IF(C25=0,\"\",IF($D$1=\"B\",RTD(\"cqg.rtd\", ,\"ContractData\",D25, \"Ask\",,\"B\"),TEXT(RTD(\"cqg.rtd\", ,\"ContractData\",D25, \"Ask\",, \"T\"),$D$1)))","v":""},{"$f":"IF(C25=1,RTD(\"cqg.rtd\", ,\"ContractData\",D25, \"MT_LastAskVolume\",, \"T\"),\"\")","v":""},"",null,null,{"$f":"IF(C25=1,RTD(\"cqg.rtd\", ,\"ContractData\",D25, \"T_CVol\",, \"T\"),\"\")","v":""},{"$f":"IF(C25=1,RTD(\"cqg.rtd\", ,\"ContractData\",D25, \"COI\",, \"T\"),\"\")","v":""},{"$f":"IF(C25=1,RTD(\"cqg.rtd\", ,\"ContractData\",D25, \"ImpliedVolatility\",, \"T\"),\"\")","v":""},{"$f":"IF(C25=1,RTD(\"cqg.rtd\", ,\"ContractData\",D25, \"Vega\",, \"T\"),\"\")","v":""},{"$f":"IF(C25=0,\"\",IF(LEFT(D25,1)=\"F\",H25*100,H25*RTD(\"cqg.rtd\",,\"ContractData\",D25,\"Delta\",,\"T\")))","v":""},{"$f":"IF(C25=1,RTD(\"cqg.rtd\", ,\"ContractData\",D25, \"Gamma\",, \"T\"),\"\")","v":""},{"$f":"IF(C25=1,IF(H25<0,-1*RTD(\"cqg.rtd\", ,\"ContractData\",D25, \"Theta\",, \"T\"),RTD(\"cqg.rtd\", ,\"ContractData\",D25, \"Theta\",, \"T\")),\"\")","v":""},{"$f":"IF(C25=0,\"\",IF(LEFT(D25,1)=\"F\",(RTD(\"cqg.rtd\",,\"ContractData\",D25,\"ExpirationDate\",,\"T\")-TODAY()),RTD(\"cqg.rtd\",,\"ContractData\",D25,\"OptionDaysToExp\",,\"T\")))","v":""}]
["TMLastBid","TMLastAsk",{"$f":"IF(LOOKUP(21,Fourth!A1:A448)<>21,0,1)","v":0},{"$f":"IF(C26=1,VLOOKUP(Fourth!I21,INDIRECT($A$2),2),\"\")","v":""},null,null,"",{"$f":"IF(C26=1,RTD(\"cqg.rtd\", ,\"OrderData\", \"\"&D26&\"\", \"\", \"OpenPosition\",\"\"&$D$3&\"\"),\"\")","v":""},{"$f":"IF(C26=1,RTD(\"cqg.rtd\", ,\"OrderData\",\"\"&D26&\"\", \"\", \"OpenTradeEquity\",\"\"&$D$3&\"\"),\"\")","v":""},null,{"$f":"IF(C26=0,\"\",IF($D$1=\"B\",RTD(\"cqg.rtd\", ,\"ContractData\",D26, \"LastTrade\",,\"B\"),TEXT(RTD(\"cqg.rtd\", ,\"ContractData\",D26, \"LastTrade\",, \"T\"),$D$1)))","v":""},{"$f":"IF(RTD(\"cqg.rtd\",,\"ContractData\",D26,\"LastTrade\",,\"T\")<RTD(\"cqg.rtd\",,\"ContractData\",D26,\"Bid\",,\"T\"),1,IF(RTD(\"cqg.rtd\",,\"ContractData\",D26,\"LastTrade\",,\"T\")>RTD(\"cqg.rtd\",,\"ContractData\",D26,\"Ask\",,\"T\"),1,0))","v":0},{"$f":"IF(C26=1,RTD(\"cqg.rtd\", ,\"ContractData\",D26, \"TMLastTrade\",, \"T\"),\"\")","v":""},"",{"$f":"IF(C26=1,RTD(\"cqg.rtd\", ,\"ContractData\",D26, \"MT_LastBidVolume\",, \"T\"),\"\")","v":""},{"$f":"IF(C26=0,\"\",IF($D$1=\"B\",RTD(\"cqg.rtd\", ,\"ContractData\",D26, \"Bid\",,\"B\"),TEXT(RTD(\"cqg.rtd\", ,\"ContractData\",D26, \"Bid\",, \"T\"),$D$1)))","v":""},0,{"$f":"IF(C26=0,\"\",IF(LEFT(D26,1)=\"F\",\"\",IF($D$1=\"B\",RTD(\"cqg.rtd\", ,\"ContractData\",D26, \"TheoreticalValue\",,\"B\"),TEXT(RTD(\"cqg.rtd\", ,\"ContractData\",D26, \"TheoreticalValue\",, \"T\"),$D$1))))","v":""},0,{"$f":"IF(C26=0,\"\",IF($D$1=\"B\",RTD(\"cqg.rtd\", ,\"ContractData\",D26, \"Ask\",,\"B\"),TEXT(RTD(\"cqg.rtd\", ,\"ContractData\",D26, \"Ask\",, \"T\"),$D$1)))","v":""},{"$f":"IF(C26=1,RTD(\"cqg.rtd\", ,\"ContractData\",D26, \"MT_LastAskVolume\",, \"T\"),\"\")","v":""},"",null,null,{"$f":"IF(C26=1,RTD(\"cqg.rtd\", ,\"ContractData\",D26, \"T_CVol\",, \"T\"),\"\")","v":""},{"$f":"IF(C26=1,RTD(\"cqg.rtd\", ,\"ContractData\",D26, \"COI\",, \"T\"),\"\")","v":""},{"$f":"IF(C26=1,RTD(\"cqg.rtd\", ,\"ContractData\",D26, \"ImpliedVolatility\",, \"T\"),\"\")","v":""},{"$f":"IF(C26=1,RTD(\"cqg.rtd\", ,\"ContractData\",D26, \"Vega\",, \"T\"),\"\")","v":""},{"$f":"IF(C26=0,\"\",IF(LEFT(D26,1)=\"F\",H26*100,H26*RTD(\"cqg.rtd\",,\"ContractData\",D26,\"Delta\",,\"T\")))","v":""},{"$f":"IF(C26=1,RTD(\"cqg.rtd\", ,\"ContractData\",D26, \"Gamma\",, \"T\"),\"\")","v":""},{"$f":"IF(C26=1,IF(H26<0,-1*RTD(\"cqg.rtd\", ,\"ContractData\",D26, \"Theta\",, \"T\"),RTD(\"cqg.rtd\", ,\"ContractData\",D26, \"Theta\",, \"T\")),\"\")","v":""},{"$f":"IF(C26=0,\"\",IF(LEFT(D26,1)=\"F\",(RTD(\"cqg.rtd\",,\"ContractData\",D26,\"ExpirationDate\",,\"T\")-TODAY()),RTD(\"cqg.rtd\",,\"ContractData\",D26,\"OptionDaysToExp\",,\"T\")))","v":""}]
["TMLastBid","TMLastAsk",{"$f":"IF(LOOKUP(22,Fourth!A1:A448)<>22,0,1)","v":0},{"$f":"IF(C27=1,VLOOKUP(Fourth!I22,INDIRECT($A$2),2),\"\")","v":""},null,null,"",{"$f":"IF(C27=1,RTD(\"cqg.rtd\", ,\"OrderData\", \"\"&D27&\"\", \"\", \"OpenPosition\",\"\"&$D$3&\"\"),\"\")","v":""},{"$f":"IF(C27=1,RTD(\"cqg.rtd\", ,\"OrderData\",\"\"&D27&\"\", \"\", \"OpenTradeEquity\",\"\"&$D$3&\"\"),\"\")","v":""},null,{"$f":"IF(C27=0,\"\",IF($D$1=\"B\",RTD(\"cqg.rtd\", ,\"ContractData\",D27, \"LastTrade\",,\"B\"),TEXT(RTD(\"cqg.rtd\", ,\"ContractData\",D27, \"LastTrade\",, \"T\"),$D$1)))","v":""},{"$f":"IF(RTD(\"cqg.rtd\",,\"ContractData\",D27,\"LastTrade\",,\"T\")<RTD(\"cqg.rtd\",,\"ContractData\",D27,\"Bid\",,\"T\"),1,IF(RTD(\"cqg.rtd\",,\"ContractData\",D27,\"LastTrade\",,\"T\")>RTD(\"cqg.rtd\",,\"ContractData\",D27,\"Ask\",,\"T\"),1,0))","v":0},{"$f":"IF(C27=1,RTD(\"cqg.rtd\", ,\"ContractData\",D27, \"TMLastTrade\",, \"T\"),\"\")","v":""},"",{"$f":"IF(C27=1,RTD(\"cqg.rtd\", ,\"ContractData\",D27, \"MT_LastBidVolume\",, \"T\"),\"\")","v":""},{"$f":"IF(C27=0,\"\",IF($D$1=\"B\",RTD(\"cqg.rtd\", ,\"ContractData\",D27, \"Bid\",,\"B\"),TEXT(RTD(\"cqg.rtd\", ,\"ContractData\",D27, \"Bid\",, \"T\"),$D$1)))","v":""},0,{"$f":"IF(C27=0,\"\",IF(LEFT(D27,1)=\"F\",\"\",IF($D$1=\"B\",RTD(\"cqg.rtd\", ,\"ContractData\",D27, \"TheoreticalValue\",,\"B\"),TEXT(RTD(\"cqg.rtd\", ,\"ContractData\",D27, \"TheoreticalValue\",, \"T\"),$D$1))))","v":""},0,{"$f":"IF(C27=0,\"\",IF($D$1=\"B\",RTD(\"cqg.rtd\", ,\"ContractData\",D27, \"Ask\",,\"B\"),TEXT(RTD(\"cqg.rtd\", ,\"ContractData\",D27, \"Ask\",, \"T\"),$D$1)))","v":""},{"$f":"IF(C27=1,RTD(\"cqg.rtd\", ,\"ContractData\",D27, \"MT_LastAskVolume\",, \"T\"),\"\")","v":""},"",null,null,{"$f":"IF(C27=1,RTD(\"cqg.rtd\", ,\"ContractData\",D27, \"T_CVol\",, \"T\"),\"\")","v":""},{"$f":"IF(C27=1,RTD(\"cqg.rtd\", ,\"ContractData\",D27, \"COI\",, \"T\"),\"\")","v":""},{"$f":"IF(C27=1,RTD(\"cqg.rtd\", ,\"ContractData\",D27, \"ImpliedVolatility\",, \"T\"),\"\")","v":""},{"$f":"IF(C27=1,RTD(\"cqg.rtd\", ,\"ContractData\",D27, \"Vega\",, \"T\"),\"\")","v":""},{"$f":"IF(C27=0,\"\",IF(LEFT(D27,1)=\"F\",H27*100,H27*RTD(\"cqg.rtd\",,\"ContractData\",D27,\"Delta\",,\"T\")))","v":""},{"$f":"IF(C27=1,RTD(\"cqg.rtd\", ,\"ContractData\",D27, \"Gamma\",, \"T\"),\"\")","v":""},{"$f":"IF(C27=1,IF(H27<0,-1*RTD(\"cqg.rtd\", ,\"ContractData\",D27, \"Theta\",, \"T\"),RTD(\"cqg.rtd\", ,\"ContractData\",D27, \"Theta\",, \"T\")),\"\")","v":""},{"$f":"IF(C27=0,\"\",IF(LEFT(D27,1)=\"F\",(RTD(\"cqg.rtd\",,\"ContractData\",D27,\"ExpirationDate\",,\"T\")-TODAY()),RTD(\"cqg.rtd\",,\"ContractData\",D27,\"OptionDaysToExp\",,\"T\")))","v":""}]
["TMLastBid","TMLastAsk",{"$f":"IF(LOOKUP(23,Fourth!A1:A448)<>23,0,1)","v":0},{"$f":"IF(C28=1,VLOOKUP(Fourth!I23,INDIRECT($A$2),2),\"\")","v":""},null,null,"",{"$f":"IF(C28=1,RTD(\"cqg.rtd\", ,\"OrderData\", \"\"&D28&\"\", \"\", \"OpenPosition\",\"\"&$D$3&\"\"),\"\")","v":""},{"$f":"IF(C28=1,RTD(\"cqg.rtd\", ,\"OrderData\",\"\"&D28&\"\", \"\", \"OpenTradeEquity\",\"\"&$D$3&\"\"),\"\")","v":""},null,{"$f":"IF(C28=0,\"\",IF($D$1=\"B\",RTD(\"cqg.rtd\", ,\"ContractData\",D28, \"LastTrade\",,\"B\"),TEXT(RTD(\"cqg.rtd\", ,\"ContractData\",D28, \"LastTrade\",, \"T\"),$D$1)))","v":""},{"$f":"IF(RTD(\"cqg.rtd\",,\"ContractData\",D28,\"LastTrade\",,\"T\")<RTD(\"cqg.rtd\",,\"ContractData\",D28,\"Bid\",,\"T\"),1,IF(RTD(\"cqg.rtd\",,\"ContractData\",D28,\"LastTrade\",,\"T\")>RTD(\"cqg.rtd\",,\"ContractData\",D28,\"Ask\",,\"T\"),1,0))","v":0},{"$f":"IF(C28=1,RTD(\"cqg.rtd\", ,\"ContractData\",D28, \"TMLastTrade\",, \"T\"),\"\")","v":""},"",{"$f":"IF(C28=1,RTD(\"cqg.rtd\", ,\"ContractData\",D28, \"MT_LastBidVolume\",, \"T\"),\"\")","v":""},{"$f":"IF(C28=0,\"\",IF($D$1=\"B\",RTD(\"cqg.rtd\", ,\"ContractData\",D28, \"Bid\",,\"B\"),TEXT(RTD(\"cqg.rtd\", ,\"ContractData\",D28, \"Bid\",, \"T\"),$D$1)))","v":""},0,{"$f":"IF(C28=0,\"\",IF(LEFT(D28,1)=\"F\",\"\",IF($D$1=\"B\",RTD(\"cqg.rtd\", ,\"ContractData\",D28, \"TheoreticalValue\",,\"B\"),TEXT(RTD(\"cqg.rtd\", ,\"ContractData\",D28, \"TheoreticalValue\",, \"T\"),$D$1))))","v":""},0,{"$f":"IF(C28=0,\"\",IF($D$1=\"B\",RTD(\"cqg.rtd\", ,\"ContractData\",D28, \"Ask\",,\"B\"),TEXT(RTD(\"cqg.rtd\", ,\"ContractData\",D28, \"Ask\",, \"T\"),$D$1)))","v":""},{"$f":"IF(C28=1,RTD(\"cqg.rtd\", ,\"ContractData\",D28, \"MT_LastAskVolume\",, \"T\"),\"\")","v":""},"",null,null,{"$f":"IF(C28=1,RTD(\"cqg.rtd\", ,\"ContractData\",D28, \"T_CVol\",, \"T\"),\"\")","v":""},{"$f":"IF(C28=1,RTD(\"cqg.rtd\", ,\"ContractData\",D28, \"COI\",, \"T\"),\"\")","v":""},{"$f":"IF(C28=1,RTD(\"cqg.rtd\", ,\"ContractData\",D28, \"ImpliedVolatility\",, \"T\"),\"\")","v":""},{"$f":"IF(C28=1,RTD(\"cqg.rtd\", ,\"ContractData\",D28, \"Vega\",, \"T\"),\"\")","v":""},{"$f":"IF(C28=0,\"\",IF(LEFT(D28,1)=\"F\",H28*100,H28*RTD(\"cqg.rtd\",,\"ContractData\",D28,\"Delta\",,\"T\")))","v":""},{"$f":"IF(C28=1,RTD(\"cqg.rtd\", ,\"ContractData\",D28, \"Gamma\",, \"T\"),\"\")","v":""},{"$f":"IF(C28=1,IF(H28<0,-1*RTD(\"cqg.rtd\", ,\"ContractData\",D28, \"Theta\",, \"T\"),RTD(\"cqg.rtd\", ,\"ContractData\",D28, \"Theta\",, \"T\")),\"\")","v":""},{"$f":"IF(C28=0,\"\",IF(LEFT(D28,1)=\"F\",(RTD(\"cqg.rtd\",,\"ContractData\",D28,\"ExpirationDate\",,\"T\")-TODAY()),RTD(\"cqg.rtd\",,\"ContractData\",D28,\"OptionDaysToExp\",,\"T\")))","v":""}]
["TMLastBid","TMLastAsk",{"$f":"IF(LOOKUP(24,Fourth!A1:A448)<>24,0,1)","v":0},{"$f":"IF(C29=1,VLOOKUP(Fourth!I24,INDIRECT($A$2),2),\"\")","v":""},null,null,"",{"$f":"IF(C29=1,RTD(\"cqg.rtd\", ,\"OrderData\", \"\"&D29&\"\", \"\", \"OpenPosition\",\"\"&$D$3&\"\"),\"\")","v":""},{"$f":"IF(C29=1,RTD(\"cqg.rtd\", ,\"OrderData\",\"\"&D29&\"\", \"\", \"OpenTradeEquity\",\"\"&$D$3&\"\"),\"\")","v":""},null,{"$f":"IF(C29=0,\"\",IF($D$1=\"B\",RTD(\"cqg.rtd\", ,\"ContractData\",D29, \"LastTrade\",,\"B\"),TEXT(RTD(\"cqg.rtd\", ,\"ContractData\",D29, \"LastTrade\",, \"T\"),$D$1)))","v":""},{"$f":"IF(RTD(\"cqg.rtd\",,\"ContractData\",D29,\"LastTrade\",,\"T\")<RTD(\"cqg.rtd\",,\"ContractData\",D29,\"Bid\",,\"T\"),1,IF(RTD(\"cqg.rtd\",,\"ContractData\",D29,\"LastTrade\",,\"T\")>RTD(\"cqg.rtd\",,\"ContractData\",D29,\"Ask\",,\"T\"),1,0))","v":0},{"$f":"IF(C29=1,RTD(\"cqg.rtd\", ,\"ContractData\",D29, \"TMLastTrade\",, \"T\"),\"\")","v":""},"",{"$f":"IF(C29=1,RTD(\"cqg.rtd\", ,\"ContractData\",D29, \"MT_LastBidVolume\",, \"T\"),\"\")","v":""},{"$f":"IF(C29=0,\"\",IF($D$1=\"B\",RTD(\"cqg.rtd\", ,\"ContractData\",D29, \"Bid\",,\"B\"),TEXT(RTD(\"cqg.rtd\", ,\"ContractData\",D29, \"Bid\",, \"T\"),$D$1)))","v":""},0,{"$f":"IF(C29=0,\"\",IF(LEFT(D29,1)=\"F\",\"\",IF($D$1=\"B\",RTD(\"cqg.rtd\", ,\"ContractData\",D29, \"TheoreticalValue\",,\"B\"),TEXT(RTD(\"cqg.rtd\", ,\"ContractData\",D29, \"TheoreticalValue\",, \"T\"),$D$1))))","v":""},0,{"$f":"IF(C29=0,\"\",IF($D$1=\"B\",RTD(\"cqg.rtd\", ,\"ContractData\",D29, \"Ask\",,\"B\"),TEXT(RTD(\"cqg.rtd\", ,\"ContractData\",D29, \"Ask\",, \"T\"),$D$1)))","v":""},{"$f":"IF(C29=1,RTD(\"cqg.rtd\", ,\"ContractData\",D29, \"MT_LastAskVolume\",, \"T\"),\"\")","v":""},"",null,null,{"$f":"IF(C29=1,RTD(\"cqg.rtd\", ,\"ContractData\",D29, \"T_CVol\",, \"T\"),\"\")","v":""},{"$f":"IF(C29=1,RTD(\"cqg.rtd\", ,\"ContractData\",D29, \"COI\",, \"T\"),\"\")","v":""},{"$f":"IF(C29=1,RTD(\"cqg.rtd\", ,\"ContractData\",D29, \"ImpliedVolatility\",, \"T\"),\"\")","v":""},{"$f":"IF(C29=1,RTD(\"cqg.rtd\", ,\"ContractData\",D29, \"Vega\",, \"T\"),\"\")","v":""},{"$f":"IF(C29=0,\"\",IF(LEFT(D29,1)=\"F\",H29*100,H29*RTD(\"cqg.rtd\",,\"ContractData\",D29,\"Delta\",,\"T\")))","v":""},{"$f":"IF(C29=1,RTD(\"cqg.rtd\", ,\"ContractData\",D29, \"Gamma\",, \"T\"),\"\")","v":""},{"$f":"IF(C29=1,IF(H29<0,-1*RTD(\"cqg.rtd\", ,\"ContractData\",D29, \"Theta\",, \"T\"),RTD(\"cqg.rtd\", ,\"ContractData\",D29, \"Theta\",, \"T\")),\"\")","v":""},{"$f":"IF(C29=0,\"\",IF(LEFT(D29,1)=\"F\",(RTD(\"cqg.rtd\",,\"ContractData\",D29,\"ExpirationDate\",,\"T\")-TODAY()),RTD(\"cqg.rtd\",,\"ContractData\",D29,\"OptionDaysToExp\",,\"T\")))","v":""}]
["TMLastBid","TMLastAsk",{"$f":"IF(LOOKUP(25,Fourth!A1:A448)<>25,0,1)","v":0},{"$f":"IF(C30=1,VLOOKUP(Fourth!I25,INDIRECT($A$2),2),\"\")","v":""},null,null,"",{"$f":"IF(C30=1,RTD(\"cqg.rtd\", ,\"OrderData\", \"\"&D30&\"\", \"\", \"OpenPosition\",\"\"&$D$3&\"\"),\"\")","v":""},{"$f":"IF(C30=1,RTD(\"cqg.rtd\", ,\"OrderData\",\"\"&D30&\"\", \"\", \"OpenTradeEquity\",\"\"&$D$3&\"\"),\"\")","v":""},null,{"$f":"IF(C30=0,\"\",IF($D$1=\"B\",RTD(\"cqg.rtd\", ,\"ContractData\",D30, \"LastTrade\",,\"B\"),TEXT(RTD(\"cqg.rtd\", ,\"ContractData\",D30, \"LastTrade\",, \"T\"),$D$1)))","v":""},{"$f":"IF(RTD(\"cqg.rtd\",,\"ContractData\",D30,\"LastTrade\",,\"T\")<RTD(\"cqg.rtd\",,\"ContractData\",D30,\"Bid\",,\"T\"),1,IF(RTD(\"cqg.rtd\",,\"ContractData\",D30,\"LastTrade\",,\"T\")>RTD(\"cqg.rtd\",,\"ContractData\",D30,\"Ask\",,\"T\"),1,0))","v":0},{"$f":"IF(C30=1,RTD(\"cqg.rtd\", ,\"ContractData\",D30, \"TMLastTrade\",, \"T\"),\"\")","v":""},"",{"$f":"IF(C30=1,RTD(\"cqg.rtd\", ,\"ContractData\",D30, \"MT_LastBidVolume\",, \"T\"),\"\")","v":""},{"$f":"IF(C30=0,\"\",IF($D$1=\"B\",RTD(\"cqg.rtd\", ,\"ContractData\",D30, \"Bid\",,\"B\"),TEXT(RTD(\"cqg.rtd\", ,\"ContractData\",D30, \"Bid\",, \"T\"),$D$1)))","v":""},0,{"$f":"IF(C30=0,\"\",IF(LEFT(D30,1)=\"F\",\"\",IF($D$1=\"B\",RTD(\"cqg.rtd\", ,\"ContractData\",D30, \"TheoreticalValue\",,\"B\"),TEXT(RTD(\"cqg.rtd\", ,\"ContractData\",D30, \"TheoreticalValue\",, \"T\"),$D$1))))","v":""},0,{"$f":"IF(C30=0,\"\",IF($D$1=\"B\",RTD(\"cqg.rtd\", ,\"ContractData\",D30, \"Ask\",,\"B\"),TEXT(RTD(\"cqg.rtd\", ,\"ContractData\",D30, \"Ask\",, \"T\"),$D$1)))","v":""},{"$f":"IF(C30=1,RTD(\"cqg.rtd\", ,\"ContractData\",D30, \"MT_LastAskVolume\",, \"T\"),\"\")","v":""},"",null,null,{"$f":"IF(C30=1,RTD(\"cqg.rtd\", ,\"ContractData\",D30, \"T_CVol\",, \"T\"),\"\")","v":""},{"$f":"IF(C30=1,RTD(\"cqg.rtd\", ,\"ContractData\",D30, \"COI\",, \"T\"),\"\")","v":""},{"$f":"IF(C30=1,RTD(\"cqg.rtd\", ,\"ContractData\",D30, \"ImpliedVolatility\",, \"T\"),\"\")","v":""},{"$f":"IF(C30=1,RTD(\"cqg.rtd\", ,\"ContractData\",D30, \"Vega\",, \"T\"),\"\")","v":""},{"$f":"IF(C30=0,\"\",IF(LEFT(D30,1)=\"F\",H30*100,H30*RTD(\"cqg.rtd\",,\"ContractData\",D30,\"Delta\",,\"T\")))","v":""},{"$f":"IF(C30=1,RTD(\"cqg.rtd\", ,\"ContractData\",D30, \"Gamma\",, \"T\"),\"\")","v":""},{"$f":"IF(C30=1,IF(H30<0,-1*RTD(\"cqg.rtd\", ,\"ContractData\",D30, \"Theta\",, \"T\"),RTD(\"cqg.rtd\", ,\"ContractData\",D30, \"Theta\",, \"T\")),\"\")","v":""},{"$f":"IF(C30=0,\"\",IF(LEFT(D30,1)=\"F\",(RTD(\"cqg.rtd\",,\"ContractData\",D30,\"ExpirationDate\",,\"T\")-TODAY()),RTD(\"cqg.rtd\",,\"ContractData\",D30,\"OptionDaysToExp\",,\"T\")))","v":""}]
["TMLastBid","TMLastAsk",{"$f":"IF(LOOKUP(26,Fourth!A1:A448)<>26,0,1)","v":0},{"$f":"IF(C31=1,VLOOKUP(Fourth!I26,INDIRECT($A$2),2),\"\")","v":""},null,null,"",{"$f":"IF(C31=1,RTD(\"cqg.rtd\", ,\"OrderData\", \"\"&D31&\"\", \"\", \"OpenPosition\",\"\"&$D$3&\"\"),\"\")","v":""},{"$f":"IF(C31=1,RTD(\"cqg.rtd\", ,\"OrderData\",\"\"&D31&\"\", \"\", \"OpenTradeEquity\",\"\"&$D$3&\"\"),\"\")","v":""},null,{"$f":"IF(C31=0,\"\",IF($D$1=\"B\",RTD(\"cqg.rtd\", ,\"ContractData\",D31, \"LastTrade\",,\"B\"),TEXT(RTD(\"cqg.rtd\", ,\"ContractData\",D31, \"LastTrade\",, \"T\"),$D$1)))","v":""},{"$f":"IF(RTD(\"cqg.rtd\",,\"ContractData\",D31,\"LastTrade\",,\"T\")<RTD(\"cqg.rtd\",,\"ContractData\",D31,\"Bid\",,\"T\"),1,IF(RTD(\"cqg.rtd\",,\"ContractData\",D31,\"LastTrade\",,\"T\")>RTD(\"cqg.rtd\",,\"ContractData\",D31,\"Ask\",,\"T\"),1,0))","v":0},{"$f":"IF(C31=1,RTD(\"cqg.rtd\", ,\"ContractData\",D31, \"TMLastTrade\",, \"T\"),\"\")","v":""},"",{"$f":"IF(C31=1,RTD(\"cqg.rtd\", ,\"ContractData\",D31, \"MT_LastBidVolume\",, \"T\"),\"\")","v":""},{"$f":"IF(C31=0,\"\",IF($D$1=\"B\",RTD(\"cqg.rtd\", ,\"ContractData\",D31, \"Bid\",,\"B\"),TEXT(RTD(\"cqg.rtd\", ,\"ContractData\",D31, \"Bid\",, \"T\"),$D$1)))","v":""},0,{"$f":"IF(C31=0,\"\",IF(LEFT(D31,1)=\"F\",\"\",IF($D$1=\"B\",RTD(\"cqg.rtd\", ,\"ContractData\",D31, \"TheoreticalValue\",,\"B\"),TEXT(RTD(\"cqg.rtd\", ,\"ContractData\",D31, \"TheoreticalValue\",, \"T\"),$D$1))))","v":""},0,{"$f":"IF(C31=0,\"\",IF($D$1=\"B\",RTD(\"cqg.rtd\", ,\"ContractData\",D31, \"Ask\",,\"B\"),TEXT(RTD(\"cqg.rtd\", ,\"ContractData\",D31, \"Ask\",, \"T\"),$D$1)))","v":""},{"$f":"IF(C31=1,RTD(\"cqg.rtd\", ,\"ContractData\",D31, \"MT_LastAskVolume\",, \"T\"),\"\")","v":""},"",null,null,{"$f":"IF(C31=1,RTD(\"cqg.rtd\", ,\"ContractData\",D31, \"T_CVol\",, \"T\"),\"\")","v":""},{"$f":"IF(C31=1,RTD(\"cqg.rtd\", ,\"ContractData\",D31, \"COI\",, \"T\"),\"\")","v":""},{"$f":"IF(C31=1,RTD(\"cqg.rtd\", ,\"ContractData\",D31, \"ImpliedVolatility\",, \"T\"),\"\")","v":""},{"$f":"IF(C31=1,RTD(\"cqg.rtd\", ,\"ContractData\",D31, \"Vega\",, \"T\"),\"\")","v":""},{"$f":"IF(C31=0,\"\",IF(LEFT(D31,1)=\"F\",H31*100,H31*RTD(\"cqg.rtd\",,\"ContractData\",D31,\"Delta\",,\"T\")))","v":""},{"$f":"IF(C31=1,RTD(\"cqg.rtd\", ,\"ContractData\",D31, \"Gamma\",, \"T\"),\"\")","v":""},{"$f":"IF(C31=1,IF(H31<0,-1*RTD(\"cqg.rtd\", ,\"ContractData\",D31, \"Theta\",, \"T\"),RTD(\"cqg.rtd\", ,\"ContractData\",D31, \"Theta\",, \"T\")),\"\")","v":""},{"$f":"IF(C31=0,\"\",IF(LEFT(D31,1)=\"F\",(RTD(\"cqg.rtd\",,\"ContractData\",D31,\"ExpirationDate\",,\"T\")-TODAY()),RTD(\"cqg.rtd\",,\"ContractData\",D31,\"OptionDaysToExp\",,\"T\")))","v":""}]
["TMLastBid","TMLastAsk",{"$f":"IF(LOOKUP(27,Fourth!A1:A448)<>27,0,1)","v":0},{"$f":"IF(C32=1,VLOOKUP(Fourth!I27,INDIRECT($A$2),2),\"\")","v":""},null,null,"",{"$f":"IF(C32=1,RTD(\"cqg.rtd\", ,\"OrderData\", \"\"&D32&\"\", \"\", \"OpenPosition\",\"\"&$D$3&\"\"),\"\")","v":""},{"$f":"IF(C32=1,RTD(\"cqg.rtd\", ,\"OrderData\",\"\"&D32&\"\", \"\", \"OpenTradeEquity\",\"\"&$D$3&\"\"),\"\")","v":""},null,{"$f":"IF(C32=0,\"\",IF($D$1=\"B\",RTD(\"cqg.rtd\", ,\"ContractData\",D32, \"LastTrade\",,\"B\"),TEXT(RTD(\"cqg.rtd\", ,\"ContractData\",D32, \"LastTrade\",, \"T\"),$D$1)))","v":""},{"$f":"IF(RTD(\"cqg.rtd\",,\"ContractData\",D32,\"LastTrade\",,\"T\")<RTD(\"cqg.rtd\",,\"ContractData\",D32,\"Bid\",,\"T\"),1,IF(RTD(\"cqg.rtd\",,\"ContractData\",D32,\"LastTrade\",,\"T\")>RTD(\"cqg.rtd\",,\"ContractData\",D32,\"Ask\",,\"T\"),1,0))","v":0},{"$f":"IF(C32=1,RTD(\"cqg.rtd\", ,\"ContractData\",D32, \"TMLastTrade\",, \"T\"),\"\")","v":""},"",{"$f":"IF(C32=1,RTD(\"cqg.rtd\", ,\"ContractData\",D32, \"MT_LastBidVolume\",, \"T\"),\"\")","v":""},{"$f":"IF(C32=0,\"\",IF($D$1=\"B\",RTD(\"cqg.rtd\", ,\"ContractData\",D32, \"Bid\",,\"B\"),TEXT(RTD(\"cqg.rtd\", ,\"ContractData\",D32, \"Bid\",, \"T\"),$D$1)))","v":""},0,{"$f":"IF(C32=0,\"\",IF(LEFT(D32,1)=\"F\",\"\",IF($D$1=\"B\",RTD(\"cqg.rtd\", ,\"ContractData\",D32, \"TheoreticalValue\",,\"B\"),TEXT(RTD(\"cqg.rtd\", ,\"ContractData\",D32, \"TheoreticalValue\",, \"T\"),$D$1))))","v":""},0,{"$f":"IF(C32=0,\"\",IF($D$1=\"B\",RTD(\"cqg.rtd\", ,\"ContractData\",D32, \"Ask\",,\"B\"),TEXT(RTD(\"cqg.rtd\", ,\"ContractData\",D32, \"Ask\",, \"T\"),$D$1)))","v":""},{"$f":"IF(C32=1,RTD(\"cqg.rtd\", ,\"ContractData\",D32, \"MT_LastAskVolume\",, \"T\"),\"\")","v":""},"",null,null,{"$f":"IF(C32=1,RTD(\"cqg.rtd\", ,\"ContractData\",D32, \"T_CVol\",, \"T\"),\"\")","v":""},{"$f":"IF(C32=1,RTD(\"cqg.rtd\", ,\"ContractData\",D32, \"COI\",, \"T\"),\"\")","v":""},{"$f":"IF(C32=1,RTD(\"cqg.rtd\", ,\"ContractData\",D32, \"ImpliedVolatility\",, \"T\"),\"\")","v":""},{"$f":"IF(C32=1,RTD(\"cqg.rtd\", ,\"ContractData\",D32, \"Vega\",, \"T\"),\"\")","v":""},{"$f":"IF(C32=0,\"\",IF(LEFT(D32,1)=\"F\",H32*100,H32*RTD(\"cqg.rtd\",,\"ContractData\",D32,\"Delta\",,\"T\")))","v":""},{"$f":"IF(C32=1,RTD(\"cqg.rtd\", ,\"ContractData\",D32, \"Gamma\",, \"T\"),\"\")","v":""},{"$f":"IF(C32=1,IF(H32<0,-1*RTD(\"cqg.rtd\", ,\"ContractData\",D32, \"Theta\",, \"T\"),RTD(\"cqg.rtd\", ,\"ContractData\",D32, \"Theta\",, \"T\")),\"\")","v":""},{"$f":"IF(C32=0,\"\",IF(LEFT(D32,1)=\"F\",(RTD(\"cqg.rtd\",,\"ContractData\",D32,\"ExpirationDate\",,\"T\")-TODAY()),RTD(\"cqg.rtd\",,\"ContractData\",D32,\"OptionDaysToExp\",,\"T\")))","v":""}]
["TMLastBid","TMLastAsk",{"$f":"IF(LOOKUP(28,Fourth!A1:A448)<>28,0,1)","v":0},{"$f":"IF(C33=1,VLOOKUP(Fourth!I28,INDIRECT($A$2),2),\"\")","v":""},null,null,"",{"$f":"IF(C33=1,RTD(\"cqg.rtd\", ,\"OrderData\", \"\"&D33&\"\", \"\", \"OpenPosition\",\"\"&$D$3&\"\"),\"\")","v":""},{"$f":"IF(C33=1,RTD(\"cqg.rtd\", ,\"OrderData\",\"\"&D33&\"\", \"\", \"OpenTradeEquity\",\"\"&$D$3&\"\"),\"\")","v":""},null,{"$f":"IF(C33=0,\"\",IF($D$1=\"B\",RTD(\"cqg.rtd\", ,\"ContractData\",D33, \"LastTrade\",,\"B\"),TEXT(RTD(\"cqg.rtd\", ,\"ContractData\",D33, \"LastTrade\",, \"T\"),$D$1)))","v":""},{"$f":"IF(RTD(\"cqg.rtd\",,\"ContractData\",D33,\"LastTrade\",,\"T\")<RTD(\"cqg.rtd\",,\"ContractData\",D33,\"Bid\",,\"T\"),1,IF(RTD(\"cqg.rtd\",,\"ContractData\",D33,\"LastTrade\",,\"T\")>RTD(\"cqg.rtd\",,\"ContractData\",D33,\"Ask\",,\"T\"),1,0))","v":0},{"$f":"IF(C33=1,RTD(\"cqg.rtd\", ,\"ContractData\",D33, \"TMLastTrade\",, \"T\"),\"\")","v":""},"",{"$f":"IF(C33=1,RTD(\"cqg.rtd\", ,\"ContractData\",D33, \"MT_LastBidVolume\",, \"T\"),\"\")","v":""},{"$f":"IF(C33=0,\"\",IF($D$1=\"B\",RTD(\"cqg.rtd\", ,\"ContractData\",D33, \"Bid\",,\"B\"),TEXT(RTD(\"cqg.rtd\", ,\"ContractData\",D33, \"Bid\",, \"T\"),$D$1)))","v":""},0,{"$f":"IF(C33=0,\"\",IF(LEFT(D33,1)=\"F\",\"\",IF($D$1=\"B\",RTD(\"cqg.rtd\", ,\"ContractData\",D33, \"TheoreticalValue\",,\"B\"),TEXT(RTD(\"cqg.rtd\", ,\"ContractData\",D33, \"TheoreticalValue\",, \"T\"),$D$1))))","v":""},0,{"$f":"IF(C33=0,\"\",IF($D$1=\"B\",RTD(\"cqg.rtd\", ,\"ContractData\",D33, \"Ask\",,\"B\"),TEXT(RTD(\"cqg.rtd\", ,\"ContractData\",D33, \"Ask\",, \"T\"),$D$1)))","v":""},{"$f":"IF(C33=1,RTD(\"cqg.rtd\", ,\"ContractData\",D33, \"MT_LastAskVolume\",, \"T\"),\"\")","v":""},"",null,null,{"$f":"IF(C33=1,RTD(\"cqg.rtd\", ,\"ContractData\",D33, \"T_CVol\",, \"T\"),\"\")","v":""},{"$f":"IF(C33=1,RTD(\"cqg.rtd\", ,\"ContractData\",D33, \"COI\",, \"T\"),\"\")","v":""},{"$f":"IF(C33=1,RTD(\"cqg.rtd\", ,\"ContractData\",D33, \"ImpliedVolatility\",, \"T\"),\"\")","v":""},{"$f":"IF(C33=1,RTD(\"cqg.rtd\", ,\"ContractData\",D33, \"Vega\",, \"T\"),\"\")","v":""},{"$f":"IF(C33=0,\"\",IF(LEFT(D33,1)=\"F\",H33*100,H33*RTD(\"cqg.rtd\",,\"ContractData\",D33,\"Delta\",,\"T\")))","v":""},{"$f":"IF(C33=1,RTD(\"cqg.rtd\", ,\"ContractData\",D33, \"Gamma\",, \"T\"),\"\")","v":""},{"$f":"IF(C33=1,IF(H33<0,-1*RTD(\"cqg.rtd\", ,\"ContractData\",D33, \"Theta\",, \"T\"),RTD(\"cqg.rtd\", ,\"ContractData\",D33, \"Theta\",, \"T\")),\"\")","v":""},{"$f":"IF(C33=0,\"\",IF(LEFT(D33,1)=\"F\",(RTD(\"cqg.rtd\",,\"ContractData\",D33,\"ExpirationDate\",,\"T\")-TODAY()),RTD(\"cqg.rtd\",,\"ContractData\",D33,\"OptionDaysToExp\",,\"T\")))","v":""}]
["TMLastBid","TMLastAsk",{"$f":"IF(LOOKUP(29,Fourth!A1:A448)<>29,0,1)","v":0},{"$f":"IF(C34=1,VLOOKUP(Fourth!I29,INDIRECT($A$2),2),\"\")","v":""},null,null,"",{"$f":"IF(C34=1,RTD(\"cqg.rtd\", ,\"OrderData\", \"\"&D34&\"\", \"\", \"OpenPosition\",\"\"&$D$3&\"\"),\"\")","v":""},{"$f":"IF(C34=1,RTD(\"cqg.rtd\", ,\"OrderData\",\"\"&D34&\"\", \"\", \"OpenTradeEquity\",\"\"&$D$3&\"\"),\"\")","v":""},null,{"$f":"IF(C34=0,\"\",IF($D$1=\"B\",RTD(\"cqg.rtd\", ,\"ContractData\",D34, \"LastTrade\",,\"B\"),TEXT(RTD(\"cqg.rtd\", ,\"ContractData\",D34, \"LastTrade\",, \"T\"),$D$1)))","v":""},{"$f":"IF(RTD(\"cqg.rtd\",,\"ContractData\",D34,\"LastTrade\",,\"T\")<RTD(\"cqg.rtd\",,\"ContractData\",D34,\"Bid\",,\"T\"),1,IF(RTD(\"cqg.rtd\",,\"ContractData\",D34,\"LastTrade\",,\"T\")>RTD(\"cqg.rtd\",,\"ContractData\",D34,\"Ask\",,\"T\"),1,0))","v":0},{"$f":"IF(C34=1,RTD(\"cqg.rtd\", ,\"ContractData\",D34, \"TMLastTrade\",, \"T\"),\"\")","v":""},"",{"$f":"IF(C34=1,RTD(\"cqg.rtd\", ,\"ContractData\",D34, \"MT_LastBidVolume\",, \"T\"),\"\")","v":""},{"$f":"IF(C34=0,\"\",IF($D$1=\"B\",RTD(\"cqg.rtd\", ,\"ContractData\",D34, \"Bid\",,\"B\"),TEXT(RTD(\"cqg.rtd\", ,\"ContractData\",D34, \"Bid\",, \"T\"),$D$1)))","v":""},0,{"$f":"IF(C34=0,\"\",IF(LEFT(D34,1)=\"F\",\"\",IF($D$1=\"B\",RTD(\"cqg.rtd\", ,\"ContractData\",D34, \"TheoreticalValue\",,\"B\"),TEXT(RTD(\"cqg.rtd\", ,\"ContractData\",D34, \"TheoreticalValue\",, \"T\"),$D$1))))","v":""},0,{"$f":"IF(C34=0,\"\",IF($D$1=\"B\",RTD(\"cqg.rtd\", ,\"ContractData\",D34, \"Ask\",,\"B\"),TEXT(RTD(\"cqg.rtd\", ,\"ContractData\",D34, \"Ask\",, \"T\"),$D$1)))","v":""},{"$f":"IF(C34=1,RTD(\"cqg.rtd\", ,\"ContractData\",D34, \"MT_LastAskVolume\",, \"T\"),\"\")","v":""},"",null,null,{"$f":"IF(C34=1,RTD(\"cqg.rtd\", ,\"ContractData\",D34, \"T_CVol\",, \"T\"),\"\")","v":""},{"$f":"IF(C34=1,RTD(\"cqg.rtd\", ,\"ContractData\",D34, \"COI\",, \"T\"),\"\")","v":""},{"$f":"IF(C34=1,RTD(\"cqg.rtd\", ,\"ContractData\",D34, \"ImpliedVolatility\",, \"T\"),\"\")","v":""},{"$f":"IF(C34=1,RTD(\"cqg.rtd\", ,\"ContractData\",D34, \"Vega\",, \"T\"),\"\")","v":""},{"$f":"IF(C34=0,\"\",IF(LEFT(D34,1)=\"F\",H34*100,H34*RTD(\"cqg.rtd\",,\"ContractData\",D34,\"Delta\",,\"T\")))","v":""},{"$f":"IF(C34=1,RTD(\"cqg.rtd\", ,\"ContractData\",D34, \"Gamma\",, \"T\"),\"\")","v":""},{"$f":"IF(C34=1,IF(H34<0,-1*RTD(\"cqg.rtd\", ,\"ContractData\",D34, \"Theta\",, \"T\"),RTD(\"cqg.rtd\", ,\"ContractData\",D34, \"Theta\",, \"T\")),\"\")","v":""},{"$f":"IF(C34=0,\"\",IF(LEFT(D34,1)=\"F\",(RTD(\"cqg.rtd\",,\"ContractData\",D34,\"ExpirationDate\",,\"T\")-TODAY()),RTD(\"cqg.rtd\",,\"ContractData\",D34,\"OptionDaysToExp\",,\"T\")))","v":""}]
["TMLastBid","TMLastAsk",{"$f":"IF(LOOKUP(30,Fourth!A1:A448)<>30,0,1)","v":0},{"$f":"IF(C35=1,VLOOKUP(Fourth!I30,INDIRECT($A$2),2),\"\")","v":""},null,null,"",{"$f":"IF(C35=1,RTD(\"cqg.rtd\", ,\"OrderData\", \"\"&D35&\"\", \"\", \"OpenPosition\",\"\"&$D$3&\"\"),\"\")","v":""},{"$f":"IF(C35=1,RTD(\"cqg.rtd\", ,\"OrderData\",\"\"&D35&\"\", \"\", \"OpenTradeEquity\",\"\"&$D$3&\"\"),\"\")","v":""},null,{"$f":"IF(C35=0,\"\",IF($D$1=\"B\",RTD(\"cqg.rtd\", ,\"ContractData\",D35, \"LastTrade\",,\"B\"),TEXT(RTD(\"cqg.rtd\", ,\"ContractData\",D35, \"LastTrade\",, \"T\"),$D$1)))","v":""},{"$f":"IF(RTD(\"cqg.rtd\",,\"ContractData\",D35,\"LastTrade\",,\"T\")<RTD(\"cqg.rtd\",,\"ContractData\",D35,\"Bid\",,\"T\"),1,IF(RTD(\"cqg.rtd\",,\"ContractData\",D35,\"LastTrade\",,\"T\")>RTD(\"cqg.rtd\",,\"ContractData\",D35,\"Ask\",,\"T\"),1,0))","v":0},{"$f":"IF(C35=1,RTD(\"cqg.rtd\", ,\"ContractData\",D35, \"TMLastTrade\",, \"T\"),\"\")","v":""},"",{"$f":"IF(C35=1,RTD(\"cqg.rtd\", ,\"ContractData\",D35, \"MT_LastBidVolume\",, \"T\"),\"\")","v":""},{"$f":"IF(C35=0,\"\",IF($D$1=\"B\",RTD(\"cqg.rtd\", ,\"ContractData\",D35, \"Bid\",,\"B\"),TEXT(RTD(\"cqg.rtd\", ,\"ContractData\",D35, \"Bid\",, \"T\"),$D$1)))","v":""},0,{"$f":"IF(C35=0,\"\",IF(LEFT(D35,1)=\"F\",\"\",IF($D$1=\"B\",RTD(\"cqg.rtd\", ,\"ContractData\",D35, \"TheoreticalValue\",,\"B\"),TEXT(RTD(\"cqg.rtd\", ,\"ContractData\",D35, \"TheoreticalValue\",, \"T\"),$D$1))))","v":""},0,{"$f":"IF(C35=0,\"\",IF($D$1=\"B\",RTD(\"cqg.rtd\", ,\"ContractData\",D35, \"Ask\",,\"B\"),TEXT(RTD(\"cqg.rtd\", ,\"ContractData\",D35, \"Ask\",, \"T\"),$D$1)))","v":""},{"$f":"IF(C35=1,RTD(\"cqg.rtd\", ,\"ContractData\",D35, \"MT_LastAskVolume\",, \"T\"),\"\")","v":""},"",null,null,{"$f":"IF(C35=1,RTD(\"cqg.rtd\", ,\"ContractData\",D35, \"T_CVol\",, \"T\"),\"\")","v":""},{"$f":"IF(C35=1,RTD(\"cqg.rtd\", ,\"ContractData\",D35, \"COI\",, \"T\"),\"\")","v":""},{"$f":"IF(C35=1,RTD(\"cqg.rtd\", ,\"ContractData\",D35, \"ImpliedVolatility\",, \"T\"),\"\")","v":""},{"$f":"IF(C35=1,RTD(\"cqg.rtd\", ,\"ContractData\",D35, \"Vega\",, \"T\"),\"\")","v":""},{"$f":"IF(C35=0,\"\",IF(LEFT(D35,1)=\"F\",H35*100,H35*RTD(\"cqg.rtd\",,\"ContractData\",D35,\"Delta\",,\"T\")))","v":""},{"$f":"IF(C35=1,RTD(\"cqg.rtd\", ,\"ContractData\",D35, \"Gamma\",, \"T\"),\"\")","v":""},{"$f":"IF(C35=1,IF(H35<0,-1*RTD(\"cqg.rtd\", ,\"ContractData\",D35, \"Theta\",, \"T\"),RTD(\"cqg.rtd\", ,\"ContractData\",D35, \"Theta\",, \"T\")),\"\")","v":""},{"$f":"IF(C35=0,\"\",IF(LEFT(D35,1)=\"F\",(RTD(\"cqg.rtd\",,\"ContractData\",D35,\"ExpirationDate\",,\"T\")-TODAY()),RTD(\"cqg.rtd\",,\"ContractData\",D35,\"OptionDaysToExp\",,\"T\")))","v":""}]
["TMLastBid","TMLastAsk",{"$f":"IF(LOOKUP(31,Fourth!A1:A448)<>31,0,1)","v":0},{"$f":"IF(C36=1,VLOOKUP(Fourth!I31,INDIRECT($A$2),2),\"\")","v":""},null,null,"",{"$f":"IF(C36=1,RTD(\"cqg.rtd\", ,\"OrderData\", \"\"&D36&\"\", \"\", \"OpenPosition\",\"\"&$D$3&\"\"),\"\")","v":""},{"$f":"IF(C36=1,RTD(\"cqg.rtd\", ,\"OrderData\",\"\"&D36&\"\", \"\", \"OpenTradeEquity\",\"\"&$D$3&\"\"),\"\")","v":""},null,{"$f":"IF(C36=0,\"\",IF($D$1=\"B\",RTD(\"cqg.rtd\", ,\"ContractData\",D36, \"LastTrade\",,\"B\"),TEXT(RTD(\"cqg.rtd\", ,\"ContractData\",D36, \"LastTrade\",, \"T\"),$D$1)))","v":""},{"$f":"IF(RTD(\"cqg.rtd\",,\"ContractData\",D36,\"LastTrade\",,\"T\")<RTD(\"cqg.rtd\",,\"ContractData\",D36,\"Bid\",,\"T\"),1,IF(RTD(\"cqg.rtd\",,\"ContractData\",D36,\"LastTrade\",,\"T\")>RTD(\"cqg.rtd\",,\"ContractData\",D36,\"Ask\",,\"T\"),1,0))","v":0},{"$f":"IF(C36=1,RTD(\"cqg.rtd\", ,\"ContractData\",D36, \"TMLastTrade\",, \"T\"),\"\")","v":""},"",{"$f":"IF(C36=1,RTD(\"cqg.rtd\", ,\"ContractData\",D36, \"MT_LastBidVolume\",, \"T\"),\"\")","v":""},{"$f":"IF(C36=0,\"\",IF($D$1=\"B\",RTD(\"cqg.rtd\", ,\"ContractData\",D36, \"Bid\",,\"B\"),TEXT(RTD(\"cqg.rtd\", ,\"ContractData\",D36, \"Bid\",, \"T\"),$D$1)))","v":""},0,{"$f":"IF(C36=0,\"\",IF(LEFT(D36,1)=\"F\",\"\",IF($D$1=\"B\",RTD(\"cqg.rtd\", ,\"ContractData\",D36, \"TheoreticalValue\",,\"B\"),TEXT(RTD(\"cqg.rtd\", ,\"ContractData\",D36, \"TheoreticalValue\",, \"T\"),$D$1))))","v":""},0,{"$f":"IF(C36=0,\"\",IF($D$1=\"B\",RTD(\"cqg.rtd\", ,\"ContractData\",D36, \"Ask\",,\"B\"),TEXT(RTD(\"cqg.rtd\", ,\"ContractData\",D36, \"Ask\",, \"T\"),$D$1)))","v":""},{"$f":"IF(C36=1,RTD(\"cqg.rtd\", ,\"ContractData\",D36, \"MT_LastAskVolume\",, \"T\"),\"\")","v":""},"",null,null,{"$f":"IF(C36=1,RTD(\"cqg.rtd\", ,\"ContractData\",D36, \"T_CVol\",, \"T\"),\"\")","v":""},{"$f":"IF(C36=1,RTD(\"cqg.rtd\", ,\"ContractData\",D36, \"COI\",, \"T\"),\"\")","v":""},{"$f":"IF(C36=1,RTD(\"cqg.rtd\", ,\"ContractData\",D36, \"ImpliedVolatility\",, \"T\"),\"\")","v":""},{"$f":"IF(C36=1,RTD(\"cqg.rtd\", ,\"ContractData\",D36, \"Vega\",, \"T\"),\"\")","v":""},{"$f":"IF(C36=0,\"\",IF(LEFT(D36,1)=\"F\",H36*100,H36*RTD(\"cqg.rtd\",,\"ContractData\",D36,\"Delta\",,\"T\")))","v":""},{"$f":"IF(C36=1,RTD(\"cqg.rtd\", ,\"ContractData\",D36, \"Gamma\",, \"T\"),\"\")","v":""},{"$f":"IF(C36=1,IF(H36<0,-1*RTD(\"cqg.rtd\", ,\"ContractData\",D36, \"Theta\",, \"T\"),RTD(\"cqg.rtd\", ,\"ContractData\",D36, \"Theta\",, \"T\")),\"\")","v":""},{"$f":"IF(C36=0,\"\",IF(LEFT(D36,1)=\"F\",(RTD(\"cqg.rtd\",,\"ContractData\",D36,\"ExpirationDate\",,\"T\")-TODAY()),RTD(\"cqg.rtd\",,\"ContractData\",D36,\"OptionDaysToExp\",,\"T\")))","v":""}]
["TMLastBid","TMLastAsk",{"$f":"IF(LOOKUP(32,Fourth!A1:A448)<>32,0,1)","v":0},{"$f":"IF(C37=1,VLOOKUP(Fourth!I32,INDIRECT($A$2),2),\"\")","v":""},null,null,"",{"$f":"IF(C37=1,RTD(\"cqg.rtd\", ,\"OrderData\", \"\"&D37&\"\", \"\", \"OpenPosition\",\"\"&$D$3&\"\"),\"\")","v":""},{"$f":"IF(C37=1,RTD(\"cqg.rtd\", ,\"OrderData\",\"\"&D37&\"\", \"\", \"OpenTradeEquity\",\"\"&$D$3&\"\"),\"\")","v":""},null,{"$f":"IF(C37=0,\"\",IF($D$1=\"B\",RTD(\"cqg.rtd\", ,\"ContractData\",D37, \"LastTrade\",,\"B\"),TEXT(RTD(\"cqg.rtd\", ,\"ContractData\",D37, \"LastTrade\",, \"T\"),$D$1)))","v":""},{"$f":"IF(RTD(\"cqg.rtd\",,\"ContractData\",D37,\"LastTrade\",,\"T\")<RTD(\"cqg.rtd\",,\"ContractData\",D37,\"Bid\",,\"T\"),1,IF(RTD(\"cqg.rtd\",,\"ContractData\",D37,\"LastTrade\",,\"T\")>RTD(\"cqg.rtd\",,\"ContractData\",D37,\"Ask\",,\"T\"),1,0))","v":0},{"$f":"IF(C37=1,RTD(\"cqg.rtd\", ,\"ContractData\",D37, \"TMLastTrade\",, \"T\"),\"\")","v":""},"",{"$f":"IF(C37=1,RTD(\"cqg.rtd\", ,\"ContractData\",D37, \"MT_LastBidVolume\",, \"T\"),\"\")","v":""},{"$f":"IF(C37=0,\"\",IF($D$1=\"B\",RTD(\"cqg.rtd\", ,\"ContractData\",D37, \"Bid\",,\"B\"),TEXT(RTD(\"cqg.rtd\", ,\"ContractData\",D37, \"Bid\",, \"T\"),$D$1)))","v":""},0,{"$f":"IF(C37=0,\"\",IF(LEFT(D37,1)=\"F\",\"\",IF($D$1=\"B\",RTD(\"cqg.rtd\", ,\"ContractData\",D37, \"TheoreticalValue\",,\"B\"),TEXT(RTD(\"cqg.rtd\", ,\"ContractData\",D37, \"TheoreticalValue\",, \"T\"),$D$1))))","v":""},0,{"$f":"IF(C37=0,\"\",IF($D$1=\"B\",RTD(\"cqg.rtd\", ,\"ContractData\",D37, \"Ask\",,\"B\"),TEXT(RTD(\"cqg.rtd\", ,\"ContractData\",D37, \"Ask\",, \"T\"),$D$1)))","v":""},{"$f":"IF(C37=1,RTD(\"cqg.rtd\", ,\"ContractData\",D37, \"MT_LastAskVolume\",, \"T\"),\"\")","v":""},"",null,null,{"$f":"IF(C37=1,RTD(\"cqg.rtd\", ,\"ContractData\",D37, \"T_CVol\",, \"T\"),\"\")","v":""},{"$f":"IF(C37=1,RTD(\"cqg.rtd\", ,\"ContractData\",D37, \"COI\",, \"T\"),\"\")","v":""},{"$f":"IF(C37=1,RTD(\"cqg.rtd\", ,\"ContractData\",D37, \"ImpliedVolatility\",, \"T\"),\"\")","v":""},{"$f":"IF(C37=1,RTD(\"cqg.rtd\", ,\"ContractData\",D37, \"Vega\",, \"T\"),\"\")","v":""},{"$f":"IF(C37=0,\"\",IF(LEFT(D37,1)=\"F\",H37*100,H37*RTD(\"cqg.rtd\",,\"ContractData\",D37,\"Delta\",,\"T\")))","v":""},{"$f":"IF(C37=1,RTD(\"cqg.rtd\", ,\"ContractData\",D37, \"Gamma\",, \"T\"),\"\")","v":""},{"$f":"IF(C37=1,IF(H37<0,-1*RTD(\"cqg.rtd\", ,\"ContractData\",D37, \"Theta\",, \"T\"),RTD(\"cqg.rtd\", ,\"ContractData\",D37, \"Theta\",, \"T\")),\"\")","v":""},{"$f":"IF(C37=0,\"\",IF(LEFT(D37,1)=\"F\",(RTD(\"cqg.rtd\",,\"ContractData\",D37,\"ExpirationDate\",,\"T\")-TODAY()),RTD(\"cqg.rtd\",,\"ContractData\",D37,\"OptionDaysToExp\",,\"T\")))","v":""}]
["TMLastBid","TMLastAsk",{"$f":"IF(LOOKUP(33,Fourth!A1:A448)<>33,0,1)","v":0},{"$f":"IF(C38=1,VLOOKUP(Fourth!I33,INDIRECT($A$2),2),\"\")","v":""},null,null,"",{"$f":"IF(C38=1,RTD(\"cqg.rtd\", ,\"OrderData\", \"\"&D38&\"\", \"\", \"OpenPosition\",\"\"&$D$3&\"\"),\"\")","v":""},{"$f":"IF(C38=1,RTD(\"cqg.rtd\", ,\"OrderData\",\"\"&D38&\"\", \"\", \"OpenTradeEquity\",\"\"&$D$3&\"\"),\"\")","v":""},null,{"$f":"IF(C38=0,\"\",IF($D$1=\"B\",RTD(\"cqg.rtd\", ,\"ContractData\",D38, \"LastTrade\",,\"B\"),TEXT(RTD(\"cqg.rtd\", ,\"ContractData\",D38, \"LastTrade\",, \"T\"),$D$1)))","v":""},{"$f":"IF(RTD(\"cqg.rtd\",,\"ContractData\",D38,\"LastTrade\",,\"T\")<RTD(\"cqg.rtd\",,\"ContractData\",D38,\"Bid\",,\"T\"),1,IF(RTD(\"cqg.rtd\",,\"ContractData\",D38,\"LastTrade\",,\"T\")>RTD(\"cqg.rtd\",,\"ContractData\",D38,\"Ask\",,\"T\"),1,0))","v":0},{"$f":"IF(C38=1,RTD(\"cqg.rtd\", ,\"ContractData\",D38, \"TMLastTrade\",, \"T\"),\"\")","v":""},"",{"$f":"IF(C38=1,RTD(\"cqg.rtd\", ,\"ContractData\",D38, \"MT_LastBidVolume\",, \"T\"),\"\")","v":""},{"$f":"IF(C38=0,\"\",IF($D$1=\"B\",RTD(\"cqg.rtd\", ,\"ContractData\",D38, \"Bid\",,\"B\"),TEXT(RTD(\"cqg.rtd\", ,\"ContractData\",D38, \"Bid\",, \"T\"),$D$1)))","v":""},0,{"$f":"IF(C38=0,\"\",IF(LEFT(D38,1)=\"F\",\"\",IF($D$1=\"B\",RTD(\"cqg.rtd\", ,\"ContractData\",D38, \"TheoreticalValue\",,\"B\"),TEXT(RTD(\"cqg.rtd\", ,\"ContractData\",D38, \"TheoreticalValue\",, \"T\"),$D$1))))","v":""},0,{"$f":"IF(C38=0,\"\",IF($D$1=\"B\",RTD(\"cqg.rtd\", ,\"ContractData\",D38, \"Ask\",,\"B\"),TEXT(RTD(\"cqg.rtd\", ,\"ContractData\",D38, \"Ask\",, \"T\"),$D$1)))","v":""},{"$f":"IF(C38=1,RTD(\"cqg.rtd\", ,\"ContractData\",D38, \"MT_LastAskVolume\",, \"T\"),\"\")","v":""},"",null,null,{"$f":"IF(C38=1,RTD(\"cqg.rtd\", ,\"ContractData\",D38, \"T_CVol\",, \"T\"),\"\")","v":""},{"$f":"IF(C38=1,RTD(\"cqg.rtd\", ,\"ContractData\",D38, \"COI\",, \"T\"),\"\")","v":""},{"$f":"IF(C38=1,RTD(\"cqg.rtd\", ,\"ContractData\",D38, \"ImpliedVolatility\",, \"T\"),\"\")","v":""},{"$f":"IF(C38=1,RTD(\"cqg.rtd\", ,\"ContractData\",D38, \"Vega\",, \"T\"),\"\")","v":""},{"$f":"IF(C38=0,\"\",IF(LEFT(D38,1)=\"F\",H38*100,H38*RTD(\"cqg.rtd\",,\"ContractData\",D38,\"Delta\",,\"T\")))","v":""},{"$f":"IF(C38=1,RTD(\"cqg.rtd\", ,\"ContractData\",D38, \"Gamma\",, \"T\"),\"\")","v":""},{"$f":"IF(C38=1,IF(H38<0,-1*RTD(\"cqg.rtd\", ,\"ContractData\",D38, \"Theta\",, \"T\"),RTD(\"cqg.rtd\", ,\"ContractData\",D38, \"Theta\",, \"T\")),\"\")","v":""},{"$f":"IF(C38=0,\"\",IF(LEFT(D38,1)=\"F\",(RTD(\"cqg.rtd\",,\"ContractData\",D38,\"ExpirationDate\",,\"T\")-TODAY()),RTD(\"cqg.rtd\",,\"ContractData\",D38,\"OptionDaysToExp\",,\"T\")))","v":""}]
["TMLastBid","TMLastAsk",{"$f":"IF(LOOKUP(34,Fourth!A1:A448)<>34,0,1)","v":0},{"$f":"IF(C39=1,VLOOKUP(Fourth!I34,INDIRECT($A$2),2),\"\")","v":""},null,null,"",{"$f":"IF(C39=1,RTD(\"cqg.rtd\", ,\"OrderData\", \"\"&D39&\"\", \"\", \"OpenPosition\",\"\"&$D$3&\"\"),\"\")","v":""},{"$f":"IF(C39=1,RTD(\"cqg.rtd\", ,\"OrderData\",\"\"&D39&\"\", \"\", \"OpenTradeEquity\",\"\"&$D$3&\"\"),\"\")","v":""},null,{"$f":"IF(C39=0,\"\",IF($D$1=\"B\",RTD(\"cqg.rtd\", ,\"ContractData\",D39, \"LastTrade\",,\"B\"),TEXT(RTD(\"cqg.rtd\", ,\"ContractData\",D39, \"LastTrade\",, \"T\"),$D$1)))","v":""},{"$f":"IF(RTD(\"cqg.rtd\",,\"ContractData\",D39,\"LastTrade\",,\"T\")<RTD(\"cqg.rtd\",,\"ContractData\",D39,\"Bid\",,\"T\"),1,IF(RTD(\"cqg.rtd\",,\"ContractData\",D39,\"LastTrade\",,\"T\")>RTD(\"cqg.rtd\",,\"ContractData\",D39,\"Ask\",,\"T\"),1,0))","v":0},{"$f":"IF(C39=1,RTD(\"cqg.rtd\", ,\"ContractData\",D39, \"TMLastTrade\",, \"T\"),\"\")","v":""},"",{"$f":"IF(C39=1,RTD(\"cqg.rtd\", ,\"ContractData\",D39, \"MT_LastBidVolume\",, \"T\"),\"\")","v":""},{"$f":"IF(C39=0,\"\",IF($D$1=\"B\",RTD(\"cqg.rtd\", ,\"ContractData\",D39, \"Bid\",,\"B\"),TEXT(RTD(\"cqg.rtd\", ,\"ContractData\",D39, \"Bid\",, \"T\"),$D$1)))","v":""},0,{"$f":"IF(C39=0,\"\",IF(LEFT(D39,1)=\"F\",\"\",IF($D$1=\"B\",RTD(\"cqg.rtd\", ,\"ContractData\",D39, \"TheoreticalValue\",,\"B\"),TEXT(RTD(\"cqg.rtd\", ,\"ContractData\",D39, \"TheoreticalValue\",, \"T\"),$D$1))))","v":""},0,{"$f":"IF(C39=0,\"\",IF($D$1=\"B\",RTD(\"cqg.rtd\", ,\"ContractData\",D39, \"Ask\",,\"B\"),TEXT(RTD(\"cqg.rtd\", ,\"ContractData\",D39, \"Ask\",, \"T\"),$D$1)))","v":""},{"$f":"IF(C39=1,RTD(\"cqg.rtd\", ,\"ContractData\",D39, \"MT_LastAskVolume\",, \"T\"),\"\")","v":""},"",null,null,{"$f":"IF(C39=1,RTD(\"cqg.rtd\", ,\"ContractData\",D39, \"T_CVol\",, \"T\"),\"\")","v":""},{"$f":"IF(C39=1,RTD(\"cqg.rtd\", ,\"ContractData\",D39, \"COI\",, \"T\"),\"\")","v":""},{"$f":"IF(C39=1,RTD(\"cqg.rtd\", ,\"ContractData\",D39, \"ImpliedVolatility\",, \"T\"),\"\")","v":""},{"$f":"IF(C39=1,RTD(\"cqg.rtd\", ,\"ContractData\",D39, \"Vega\",, \"T\"),\"\")","v":""},{"$f":"IF(C39=0,\"\",IF(LEFT(D39,1)=\"F\",H39*100,H39*RTD(\"cqg.rtd\",,\"ContractData\",D39,\"Delta\",,\"T\")))","v":""},{"$f":"IF(C39=1,RTD(\"cqg.rtd\", ,\"ContractData\",D39, \"Gamma\",, \"T\"),\"\")","v":""},{"$f":"IF(C39=1,IF(H39<0,-1*RTD(\"cqg.rtd\", ,\"ContractData\",D39, \"Theta\",, \"T\"),RTD(\"cqg.rtd\", ,\"ContractData\",D39, \"Theta\",, \"T\")),\"\")","v":""},{"$f":"IF(C39=0,\"\",IF(LEFT(D39,1)=\"F\",(RTD(\"cqg.rtd\",,\"ContractData\",D39,\"ExpirationDate\",,\"T\")-TODAY()),RTD(\"cqg.rtd\",,\"ContractData\",D39,\"OptionDaysToExp\",,\"T\")))","v":""}]
["TMLastBid","TMLastAsk",{"$f":"IF(LOOKUP(35,Fourth!A1:A448)<>35,0,1)","v":0},{"$f":"IF(C40=1,VLOOKUP(Fourth!I35,INDIRECT($A$2),2),\"\")","v":""},null,null,"",{"$f":"IF(C40=1,RTD(\"cqg.rtd\", ,\"OrderData\", \"\"&D40&\"\", \"\", \"OpenPosition\",\"\"&$D$3&\"\"),\"\")","v":""},{"$f":"IF(C40=1,RTD(\"cqg.rtd\", ,\"OrderData\",\"\"&D40&\"\", \"\", \"OpenTradeEquity\",\"\"&$D$3&\"\"),\"\")","v":""},null,{"$f":"IF(C40=0,\"\",IF($D$1=\"B\",RTD(\"cqg.rtd\", ,\"ContractData\",D40, \"LastTrade\",,\"B\"),TEXT(RTD(\"cqg.rtd\", ,\"ContractData\",D40, \"LastTrade\",, \"T\"),$D$1)))","v":""},{"$f":"IF(RTD(\"cqg.rtd\",,\"ContractData\",D40,\"LastTrade\",,\"T\")<RTD(\"cqg.rtd\",,\"ContractData\",D40,\"Bid\",,\"T\"),1,IF(RTD(\"cqg.rtd\",,\"ContractData\",D40,\"LastTrade\",,\"T\")>RTD(\"cqg.rtd\",,\"ContractData\",D40,\"Ask\",,\"T\"),1,0))","v":0},{"$f":"IF(C40=1,RTD(\"cqg.rtd\", ,\"ContractData\",D40, \"TMLastTrade\",, \"T\"),\"\")","v":""},"",{"$f":"IF(C40=1,RTD(\"cqg.rtd\", ,\"ContractData\",D40, \"MT_LastBidVolume\",, \"T\"),\"\")","v":""},{"$f":"IF(C40=0,\"\",IF($D$1=\"B\",RTD(\"cqg.rtd\", ,\"ContractData\",D40, \"Bid\",,\"B\"),TEXT(RTD(\"cqg.rtd\", ,\"ContractData\",D40, \"Bid\",, \"T\"),$D$1)))","v":""},0,{"$f":"IF(C40=0,\"\",IF(LEFT(D40,1)=\"F\",\"\",IF($D$1=\"B\",RTD(\"cqg.rtd\", ,\"ContractData\",D40, \"TheoreticalValue\",,\"B\"),TEXT(RTD(\"cqg.rtd\", ,\"ContractData\",D40, \"TheoreticalValue\",, \"T\"),$D$1))))","v":""},0,{"$f":"IF(C40=0,\"\",IF($D$1=\"B\",RTD(\"cqg.rtd\", ,\"ContractData\",D40, \"Ask\",,\"B\"),TEXT(RTD(\"cqg.rtd\", ,\"ContractData\",D40, \"Ask\",, \"T\"),$D$1)))","v":""},{"$f":"IF(C40=1,RTD(\"cqg.rtd\", ,\"ContractData\",D40, \"MT_LastAskVolume\",, \"T\"),\"\")","v":""},"",null,null,{"$f":"IF(C40=1,RTD(\"cqg.rtd\", ,\"ContractData\",D40, \"T_CVol\",, \"T\"),\"\")","v":""},{"$f":"IF(C40=1,RTD(\"cqg.rtd\", ,\"ContractData\",D40, \"COI\",, \"T\"),\"\")","v":""},{"$f":"IF(C40=1,RTD(\"cqg.rtd\", ,\"ContractData\",D40, \"ImpliedVolatility\",, \"T\"),\"\")","v":""},{"$f":"IF(C40=1,RTD(\"cqg.rtd\", ,\"ContractData\",D40, \"Vega\",, \"T\"),\"\")","v":""},{"$f":"IF(C40=0,\"\",IF(LEFT(D40,1)=\"F\",H40*100,H40*RTD(\"cqg.rtd\",,\"ContractData\",D40,\"Delta\",,\"T\")))","v":""},{"$f":"IF(C40=1,RTD(\"cqg.rtd\", ,\"ContractData\",D40, \"Gamma\",, \"T\"),\"\")","v":""},{"$f":"IF(C40=1,IF(H40<0,-1*RTD(\"cqg.rtd\", ,\"ContractData\",D40, \"Theta\",, \"T\"),RTD(\"cqg.rtd\", ,\"ContractData\",D40, \"Theta\",, \"T\")),\"\")","v":""},{"$f":"IF(C40=0,\"\",IF(LEFT(D40,1)=\"F\",(RTD(\"cqg.rtd\",,\"ContractData\",D40,\"ExpirationDate\",,\"T\")-TODAY()),RTD(\"cqg.rtd\",,\"ContractData\",D40,\"OptionDaysToExp\",,\"T\")))","v":""}]
[null,null,{"$f":"IF(OR(RTD(\"cqg.rtd\",,\"ContractData\",K3,\"ExpirationDate\",,\"T\")-TODAY()<K42,RTD(\"cqg.rtd\",,\"ContractData\",M3,\"ExpirationDate\",,\"T\")-TODAY()<U42,RTD(\"cqg.rtd\",,\"ContractData\",N3,\"ExpirationDate\",,\"T\")-TODAY()<AD42),1,0)","v":0},"Summary",null,null,{"$f":"IF(H41>0,\"Long  \",\"Short   \")","v":"Short   "},{"$f":"SUM(H6:H40)","v":0},{"$f":"SUM(I6:I40)","v":0},null,null,null,{"$f":"IF(C41=1,\"You have entered a number of days to expiration that exceeds the underlying contract expiration date\",\"\")","v":""},null,null,null,null,null,null,null,null,null,null,null,null,null,null,{"$f":"SUM(AB6:AB40)","v":0},{"$f":"SUM(AC6:AC40)","v":0},{"$f":"SUM(AD6:AD40)","v":0},{"$f":"SUM(AE6:AE40)","v":0}]
[null,null,null,"Probaility of the Underlying Price using Days-to-Expiration:",null,null,null,null,null,null,5,null,"Days","Probaility of the Underlying Price using Days-to-Expiration:",null,null,null,null,null,null,20,"Days",null,"Probaility of the Underlying Price using Days-to-Expiration:",null,null,null,null,null,30,"Days"]
[null,null,null,"Market:",null,{"$f":"RTD(\"cqg.rtd\", ,\"ContractData\",K3,\"LongDescription\",, \"T\")","v":"E-Mini S&P 500, Sep 17"},null,null,null,null,null,null,null,"Market:",null,{"$f":"RTD(\"cqg.rtd\", ,\"ContractData\",M3,\"LongDescription\",, \"T\")","v":"E-Mini S&P 500, Dec 17"},null,null,null,null,null,null,null,null,"Market:",{"$f":"RTD(\"cqg.rtd\", ,\"ContractData\",N3,\"LongDescription\",, \"T\")","v":"E-Mini S&P 500, Mar 18"}]
[null,null,null,"-2 Sdev    ",null,"-1 SDev",null,"Last",null,"+1 SDev",null,"+2 SDev",null,"-2 Sdev  ",null,"-1 SDev",null,"Last",null,"+1 SDev","+2 SDev",null,null,"-2 SDev",null,"-1 SDev",null,"Last",null,"+1 SDev","     +2 SDev"]
[null,null,null,{"$f":"IFERROR(TEXT(RTD(\"cqg.rtd\",,\"ContractData\",K3,\"LastQuote\",,\"T\")-(2*RTD(\"cqg.rtd\",,\"ContractData\",K3,\"LastQuote\",,\"T\")*RTD(\"cqg.rtd\",,\"ContractData\",\"C.US.\"&K3,\"AverageVolatility\",,\"T\")*SQRT(K42/365)),$D$1),\"\")","v":"2378.83"},null,{"$f":"IFERROR(TEXT(RTD(\"cqg.rtd\",,\"ContractData\",K3,\"LastQuote\",,\"T\")-(RTD(\"cqg.rtd\",,\"ContractData\",K3,\"LastQuote\",,\"T\")*RTD(\"cqg.rtd\",,\"ContractData\",\"C.US.\"&K3,\"AverageVolatility\",,\"T\")*SQRT(K42/365)),$D$1),\"\")","v":"2406.54"},null,{"$f":"IF($D$1=\"B\",RTD(\"cqg.rtd\", ,\"ContractData\",K3, \"LastTrade\",,\"B\"),TEXT(RTD(\"cqg.rtd\", ,\"ContractData\",K3, \"LastTrade\",, \"T\"),$D$1))","v":"2434.50"},null,{"$f":"IFERROR(TEXT(RTD(\"cqg.rtd\",,\"ContractData\",K3,\"LastQuote\",,\"T\")+(RTD(\"cqg.rtd\",,\"ContractData\",K3,\"LastQuote\",,\"T\")*RTD(\"cqg.rtd\",,\"ContractData\",\"C.US.\"&K3,\"AverageVolatility\",,\"T\")*SQRT(K42/365)),$D$1),\"\")","v":"2461.96"},null,{"$f":"IFERROR(TEXT(RTD(\"cqg.rtd\",,\"ContractData\",K3,\"LastQuote\",,\"T\")+(2*RTD(\"cqg.rtd\",,\"ContractData\",K3,\"LastQuote\",,\"T\")*RTD(\"cqg.rtd\",,\"ContractData\",\"C.US.\"&K3,\"AverageVolatility\",,\"T\")*SQRT(K42/365)),$D$1),\"\")","v":"2489.67"},null,{"$f":"IFERROR(TEXT(RTD(\"cqg.rtd\",,\"ContractData\",M3,\"LastQuote\",,\"T\")-(2*RTD(\"cqg.rtd\",,\"ContractData\",M3,\"LastQuote\",,\"T\")*RTD(\"cqg.rtd\",,\"ContractData\",\"C.US.\"&M3,\"AverageVolatility\",,\"T\")*SQRT(U42/365)),$D$1),\"\")","v":"2298.69"},null,{"$f":"IFERROR(TEXT(RTD(\"cqg.rtd\",,\"ContractData\",M3,\"LastQuote\",,\"T\")-(RTD(\"cqg.rtd\",,\"ContractData\",M3,\"LastQuote\",,\"T\")*RTD(\"cqg.rtd\",,\"ContractData\",\"C.US.\"&M3,\"AverageVolatility\",,\"T\")*SQRT(U42/365)),$D$1),\"\")","v":"2365.59"},null,{"$f":"IF($D$1=\"B\",RTD(\"cqg.rtd\", ,\"ContractData\",M3, \"LastTrade\",,\"B\"),TEXT(RTD(\"cqg.rtd\", ,\"ContractData\",M3, \"LastTrade\",, \"T\"),$D$1))","v":"2432.00"},null,{"$f":"IFERROR(TEXT(RTD(\"cqg.rtd\",,\"ContractData\",M3,\"LastQuote\",,\"T\")+(RTD(\"cqg.rtd\",,\"ContractData\",M3,\"LastQuote\",,\"T\")*RTD(\"cqg.rtd\",,\"ContractData\",\"C.US.\"&M3,\"AverageVolatility\",,\"T\")*SQRT(U42/365)),$D$1),\"\")","v":"2499.41"},{"$f":"IFERROR(TEXT(RTD(\"cqg.rtd\",,\"ContractData\",M3,\"LastQuote\",,\"T\")+(2*RTD(\"cqg.rtd\",,\"ContractData\",M3,\"LastQuote\",,\"T\")*RTD(\"cqg.rtd\",,\"ContractData\",\"C.US.\"&M3,\"AverageVolatility\",,\"T\")*SQRT(U42/365)),$D$1),\"\")","v":"2566.31"},null,null,{"$f":"IFERROR(TEXT(RTD(\"cqg.rtd\",,\"ContractData\",N3,\"LastQuote\",,\"T\")-(2*RTD(\"cqg.rtd\",,\"ContractData\",N3,\"LastQuote\",,\"T\")*RTD(\"cqg.rtd\",,\"ContractData\",\"C.US.\"&N3,\"AverageVolatility\",,\"T\")*SQRT(AD42/365)),$D$1),\"\")","v":"2249.78"},null,{"$f":"IFERROR(TEXT(RTD(\"cqg.rtd\",,\"ContractData\",N3,\"LastQuote\",,\"T\")-(RTD(\"cqg.rtd\",,\"ContractData\",N3,\"LastQuote\",,\"T\")*RTD(\"cqg.rtd\",,\"ContractData\",\"C.US.\"&N3,\"AverageVolatility\",,\"T\")*SQRT(AD42/365)),$D$1),\"\")","v":"2339.64"},null,{"$f":"IF($D$1=\"B\",RTD(\"cqg.rtd\", ,\"ContractData\",N3, \"LastTrade\",,\"B\"),TEXT(RTD(\"cqg.rtd\", ,\"ContractData\",N3, \"LastTrade\",, \"T\"),$D$1))","v":"2431.50"},null,{"$f":"IFERROR(TEXT(RTD(\"cqg.rtd\",,\"ContractData\",N3,\"LastQuote\",,\"T\")+(RTD(\"cqg.rtd\",,\"ContractData\",N3,\"LastQuote\",,\"T\")*RTD(\"cqg.rtd\",,\"ContractData\",\"C.US.\"&N3,\"AverageVolatility\",,\"T\")*SQRT(AD42/365)),$D$1),\"\")","v":"2519.36"},{"$f":"IFERROR(TEXT(RTD(\"cqg.rtd\",,\"ContractData\",N3,\"LastQuote\",,\"T\")+(2*RTD(\"cqg.rtd\",,\"ContractData\",N3,\"LastQuote\",,\"T\")*RTD(\"cqg.rtd\",,\"ContractData\",\"C.US.\"&N3,\"AverageVolatility\",,\"T\")*SQRT(AD42/365)),$D$1),\"\")","v":"2609.22"}]
[null,null,null,"  Copyright © 2015",null,null,"Designed by Thom Hartle"]

{"sheet":"Display5","index":4,"n_rows":46,"n_cols":32,"rows_kept":46,"cut":false,"hidden":false,"merged":[[4,3,4,4],[4,6,4,7],[4,8,4,9],[4,10,4,11],[4,12,4,13],[5,3,5,5],[5,8,5,9],[1,30,2,31],[2,3,2,4],[2,10,2,11],[3,4,3,5],[3,6,3,7],[3,8,3,9],[3,10,3,11],[3,12,3,13],[3,17,4,17],[3,21,4,23],[1,3,1,4],[1,6,1,8],[1,10,1,13],[1,14,2,26],[1,27,2,27],[1,28,2,29],[8,3,8,5],[8,8,8,9],[8,21,8,23],[9,3,9,5],[9,8,9,9],[9,21,9,23],[5,21,5,23],[6,3,6,5],[6,8,6,9],[6,21,6,23],[7,3,7,5],[7,8,7,9],[7,21,7,23],[12,3,12,5],[12,8,12,9],[12,21,12,23],[13,3,13,5],[13,8,13,9],[13,21,13,23],[10,3,10,5],[10,8,10,9],[10,21,10,23],[11,3,11,5],[11,8,11,9],[11,21,11,23],[16,3,16,5],[16,8,16,9],[16,21,16,23],[17,3,17,5],[17,8,17,9],[17,21,17,23],[14,3,14,5],[14,8,14,9],[14,21,14,23],[15,3,15,5],[15,8,15,9],[15,21,15,23],[20,3,20,5],[20,8,20,9],[20,21,20,23],[21,3,21,5],[21,8,21,9],[21,21,21,23],[18,3,18,5],[18,8,18,9],[18,21,18,23],[19,3,19,5],[19,8,19,9],[19,21,19,23],[24,3,24,5],[24,8,24,9],[24,21,24,23],[25,3,25,5],[25,8,25,9],[25,21,25,23],[22,3,22,5],[22,8,22,9],[22,21,22,23],[23,3,23,5],[23,8,23,9],[23,21,23,23],[28,3,28,5],[28,8,28,9],[28,21,28,23],[29,3,29,5],[29,8,29,9],[29,21,29,23],[26,3,26,5],[26,8,26,9],[26,21,26,23],[27,3,27,5],[27,8,27,9],[27,21,27,23],[32,3,32,5],[32,8,32,9],[32,21,32,23],[33,3,33,5],[33,8,33,9],[33,21,33,23],[30,3,30,5],[30,8,30,9],[30,21,30,23],[31,3,31,5],[31,8,31,9],[31,21,31,23],[36,3,36,5],[36,8,36,9],[36,21,36,23],[37,3,37,5],[37,8,37,9],[37,21,37,23],[34,3,34,5],[34,8,34,9],[34,21,34,23],[35,3,35,5],[35,8,35,9],[35,21,35,23],[40,3,40,5],[40,8,40,9],[40,12,40,25],[41,3,41,9],[41,13,41,19],[41,23,41,28],[38,3,38,5],[38,8,38,9],[38,21,38,23],[39,3,39,5],[39,8,39,9],[39,21,39,23],[42,3,42,4],[42,5,42,10],[42,13,42,14],[42,15,42,20],[42,25,42,28],[43,3,43,4],[43,5,43,6],[43,7,43,8],[43,9,43,10],[43,11,43,12],[44,25,44,26],[44,27,44,28],[44,30,44,31],[45,3,45,5],[45,6,45,10],[43,27,43,28],[43,30,43,31],[44,3,44,4],[44,5,44,6],[44,7,44,8],[44,9,44,10],[44,11,44,12],[44,13,44,14],[44,20,44,21],[44,23,44,24],[43,13,43,14],[43,15,43,16],[43,17,43,18],[43,20,43,21],[43,23,43,24],[43,25,43,26]]}
[null,"Fifth!$O$1:$N$35",null,{"$f":"IF(F5=\"N\",\"B\",IF(F5=0,\"#\",IF(F5=1,\"#.0\",IF(F5=2,\"#.00\",IF(F5=3,\"#.000\",IF(F5=4,\"#.0000\",IF(F5=5,\"#.00000\",IF(F5=6,\"#.000000\",IF(F5=7,\"#.0000000\")))))))))","v":"#.00"}]
["Fifth!$I$1:$J$35","Fifth!$I$1:$J$35","Fifth!$AE$1:$AF$35","Account",null,"Sym:","EP",null,null,"Step","Underlying Symbols",null,null,null,"         CQG Open Options Positions Dashboard",null,null,null,null,null,null,null,null,null,null,null,null,null,"CHICAGO: ",null,{"$f":"RTD(\"cqg.rtd\", ,\"SystemInfo\", \"Linetime\")","v":42907.463738425926}]
[null,"Fifth!$U$1:$V$35","Fifth!$AJ$1:$AK$35","PSspread300",null,"M&Yr:","?1","?2","?3",50,"EP?1",null,"EP?2","EP?3"]
[null,"Fifth!$Z$1:$AA$35","Fifth!$AO$1:$AP$35","Long","Decimals",null,"Open",null,"OTE",null,"Last",null,"Time of Last Trade",null,"Bid","Bid",null,"TheoVal",null,"Ask","Ask","Long Description",null,null,"Contract","Contract","IV","Vega","Delta","Gamma","Theta","DTE "]
[null,null,null,"Description",null,2,"Position",null,null,null,"Trade",null,{"$f":"RTD(\"cqg.rtd\", ,\"SystemInfo\", \"Linetime\")","v":42907.463738425926},null,"Volume",-0.01,null,null,null,0.02,"Volume",null,null,null,"Volume","Open Int"]
[{"$f":"IF(LEFT(D6,1)=\"C\",\"OptionBidTiMe\",IF(LEFT(D6,1)=\"P\",\"OptionBidTiMe\",\"TMLastBid\"))","v":"TMLastBid"},{"$f":"IF(LEFT(D6,1)=\"C\",\"OptionAskTiMe\",IF(LEFT(D6,1)=\"P\",\"OptionAskTiMe\",\"TMLastAsk\"))","v":"TMLastAsk"},{"$f":"IF(LOOKUP(1,Fifth!A1:A448)<>1,0,1)","v":0},{"$f":"IF(C6=1,VLOOKUP(Fifth!I1,INDIRECT($A$2),2),\"\")","v":""},null,null,{"$f":"IF(C6=1,IF(H6>0,\"Long  \",\"Short  \"),\"\")","v":""},{"$f":"IF(C6=1,RTD(\"cqg.rtd\", ,\"OrderData\", \"\"&D6&\"\", \"\", \"OpenPosition\",\"\"&$D$3&\"\"),\"\")","v":""},{"$f":"IF(C6=1,RTD(\"cqg.rtd\", ,\"OrderData\",\"\"&D6&\"\", \"\", \"OpenTradeEquity\",\"\"&$D$3&\"\"),\"\")","v":""},null,{"$f":"IF(C6=0,\"\",IF($D$1=\"B\",RTD(\"cqg.rtd\", ,\"ContractData\",D6, \"LastTrade\",,\"B\"),TEXT(RTD(\"cqg.rtd\", ,\"ContractData\",D6, \"LastTrade\",, \"T\"),$D$1)))","v":""},{"$f":"IF(RTD(\"cqg.rtd\",,\"ContractData\",D6,\"LastTrade\",,\"T\")<RTD(\"cqg.rtd\",,\"ContractData\",D6,\"Bid\",,\"T\"),1,IF(RTD(\"cqg.rtd\",,\"ContractData\",D6,\"LastTrade\",,\"T\")>RTD(\"cqg.rtd\",,\"ContractData\",D6,\"Ask\",,\"T\"),1,0))","v":0},{"$f":"IF(C6=1,RTD(\"cqg.rtd\", ,\"ContractData\",D6, \"TMLastTrade\",, \"T\"),\"\")","v":""},{"$f":"IF(C6=1,MOD($AE$2-M6,1),\"\")","v":""},{"$f":"IF(C6=1,RTD(\"cqg.rtd\", ,\"ContractData\",D6, \"MT_LastBidVolume\",, \"T\"),\"\")","v":""},{"$f":"IF(C6=0,\"\",IF($D$1=\"B\",RTD(\"cqg.rtd\", ,\"ContractData\",D6, \"Bid\",,\"B\"),TEXT(RTD(\"cqg.rtd\", ,\"ContractData\",D6, \"Bid\",, \"T\"),$D$1)))","v":""},{"$f":"IF(R6=\"\",0,IF(R6-P6<$P$5,1,0))","v":0},{"$f":"IF(C6=0,\"\",IF(LEFT(D6,1)=\"F\",\"\",IF($D$1=\"B\",RTD(\"cqg.rtd\", ,\"ContractData\",D6, \"TheoreticalValue\",,\"B\"),TEXT(RTD(\"cqg.rtd\", ,\"ContractData\",D6, \"TheoreticalValue\",, \"T\"),$D$1))))","v":""},{"$f":"IF(R6=\"\",0,IF(R6-T6>$T$5,1,0))","v":0},{"$f":"IF(C6=0,\"\",IF($D$1=\"B\",RTD(\"cqg.rtd\", ,\"ContractData\",D6, \"Ask\",,\"B\"),TEXT(RTD(\"cqg.rtd\", ,\"ContractData\",D6, \"Ask\",, \"T\"),$D$1)))","v":""},{"$f":"IF(C6=1,RTD(\"cqg.rtd\", ,\"ContractData\",D6, \"MT_LastAskVolume\",, \"T\"),\"\")","v":""},{"$f":"D6","v":""},null,null,{"$f":"IF(C6=1,RTD(\"cqg.rtd\", ,\"ContractData\",D6, \"T_CVol\",, \"T\"),\"\")","v":""},{"$f":"IF(C6=1,RTD(\"cqg.rtd\", ,\"ContractData\",D6, \"COI\",, \"T\"),\"\")","v":""},{"$f":"IF(C6=1,RTD(\"cqg.rtd\", ,\"ContractData\",D6, \"ImpliedVolatility\",, \"T\"),\"\")","v":""},{"$f":"IF(C6=1,RTD(\"cqg.rtd\", ,\"ContractData\",D6, \"Vega\",, \"T\"),\"\")","v":""},{"$f":"IF(C6=0,\"\",IF(LEFT(D6,1)=\"F\",H6*100,H6*RTD(\"cqg.rtd\",,\"ContractData\",D6,\"Delta\",,\"T\")))","v":""},{"$f":"IF(C6=1,RTD(\"cqg.rtd\", ,\"ContractData\",D6, \"Gamma\",, \"T\"),\"\")","v":""},{"$f":"IF(C6=1,IF(H6<0,-1*RTD(\"cqg.rtd\", ,\"ContractData\",D6, \"Theta\",, \"T\"),RTD(\"cqg.rtd\", ,\"ContractData\",D6, \"Theta\",, \"T\")),\"\")","v":""},{"$f":"IF(C6=0,\"\",IF(LEFT(D6,1)=\"F\",(RTD(\"cqg.rtd\",,\"ContractData\",D6,\"ExpirationDate\",,\"T\")-TODAY()),RTD(\"cqg.rtd\",,\"ContractData\",D6,\"OptionDaysToExp\",,\"T\")))","v":""}]
[{"$f":"IF(LEFT(D7,1)=\"C\",\"OptionBidTiMe\",IF(LEFT(D7,1)=\"P\",\"OptionBidTiMe\",\"TMLastBid\"))","v":"TMLastBid"},{"$f":"IF(LEFT(D7,1)=\"C\",\"OptionAskTiMe\",IF(LEFT(D7,1)=\"P\",\"OptionAskTiMe\",\"TMLastAsk\"))","v":"TMLastAsk"},{"$f":"IF(LOOKUP(2,Fifth!A1:A448)<>2,0,1)","v":0},{"$f":"IF(C7=1,VLOOKUP(Fifth!I2,INDIRECT($A$2),2),\"\")","v":""},null,null,{"$f":"IF(C7=1,IF(H7>0,\"Long  \",\"Short  \"),\"\")","v":""},{"$f":"IF(C7=1,RTD(\"cqg.rtd\", ,\"OrderData\", \"\"&D7&\"\", \"\", \"OpenPosition\",\"\"&$D$3&\"\"),\"\")","v":""},{"$f":"IF(C7=1,RTD(\"cqg.rtd\", ,\"OrderData\",\"\"&D7&\"\", \"\", \"OpenTradeEquity\",\"\"&$D$3&\"\"),\"\")","v":""},null,{"$f":"IF(C7=0,\"\",IF($D$1=\"B\",RTD(\"cqg.rtd\", ,\"ContractData\",D7, \"LastTrade\",,\"B\"),TEXT(RTD(\"cqg.rtd\", ,\"ContractData\",D7, \"LastTrade\",, \"T\"),$D$1)))","v":""},{"$f":"IF(RTD(\"cqg.rtd\",,\"ContractData\",D7,\"LastTrade\",,\"T\")<RTD(\"cqg.rtd\",,\"ContractData\",D7,\"Bid\",,\"T\"),1,IF(RTD(\"cqg.rtd\",,\"ContractData\",D7,\"LastTrade\",,\"T\")>RTD(\"cqg.rtd\",,\"ContractData\",D7,\"Ask\",,\"T\"),1,0))","v":0},{"$f":"IF(C7=1,RTD(\"cqg.rtd\", ,\"ContractData\",D7, \"TMLastTrade\",, \"T\"),\"\")","v":""},{"$f":"IF(C7=1,MOD($AE$2-M7,1),\"\")","v":""},{"$f":"IF(C7=1,RTD(\"cqg.rtd\", ,\"ContractData\",D7, \"MT_LastBidVolume\",, \"T\"),\"\")","v":""},{"$f":"IF(C7=0,\"\",IF($D$1=\"B\",RTD(\"cqg.rtd\", ,\"ContractData\",D7, \"Bid\",,\"B\"),TEXT(RTD(\"cqg.rtd\", ,\"ContractData\",D7, \"Bid\",, \"T\"),$D$1)))","v":""},{"$f":"IF(R7=\"\",0,IF(R7-P7<$P$5,1,0))","v":0},{"$f":"IF(C7=0,\"\",IF(LEFT(D7,1)=\"F\",\"\",IF($D$1=\"B\",RTD(\"cqg.rtd\", ,\"ContractData\",D7, \"TheoreticalValue\",,\"B\"),TEXT(RTD(\"cqg.rtd\", ,\"ContractData\",D7, \"TheoreticalValue\",, \"T\"),$D$1))))","v":""},{"$f":"IF(R7=\"\",0,IF(R7-T7>$T$5,1,0))","v":0},{"$f":"IF(C7=0,\"\",IF($D$1=\"B\",RTD(\"cqg.rtd\", ,\"ContractData\",D7, \"Ask\",,\"B\"),TEXT(RTD(\"cqg.rtd\", ,\"ContractData\",D7, \"Ask\",, \"T\"),$D$1)))","v":""},{"$f":"IF(C7=1,RTD(\"cqg.rtd\", ,\"ContractData\",D7, \"MT_LastAskVolume\",, \"T\"),\"\")","v":""},"",null,null,{"$f":"IF(C7=1,RTD(\"cqg.rtd\", ,\"ContractData\",D7, \"T_CVol\",, \"T\"),\"\")","v":""},{"$f":"IF(C7=1,RTD(\"cqg.rtd\", ,\"ContractData\",D7, \"COI\",, \"T\"),\"\")","v":""},{"$f":"IF(C7=1,RTD(\"cqg.rtd\", ,\"ContractData\",D7, \"ImpliedVolatility\",, \"T\"),\"\")","v":""},{"$f":"IF(C7=1,RTD(\"cqg.rtd\", ,\"ContractData\",D7, \"Vega\",, \"T\"),\"\")","v":""},{"$f":"IF(C7=0,\"\",IF(LEFT(D7,1)=\"F\",H7*100,H7*RTD(\"cqg.rtd\",,\"ContractData\",D7,\"Delta\",,\"T\")))","v":""},{"$f":"IF(C7=1,RTD(\"cqg.rtd\", ,\"ContractData\",D7, \"Gamma\",, \"T\"),\"\")","v":""},{"$f":"IF(C7=1,IF(H7<0,-1*RTD(\"cqg.rtd\", ,\"ContractData\",D7, \"Theta\",, \"T\"),RTD(\"cqg.rtd\", ,\"ContractData\",D7, \"Theta\",, \"T\")),\"\")","v":""},{"$f":"IF(C7=0,\"\",IF(LEFT(D7,1)=\"F\",(RTD(\"cqg.rtd\",,\"ContractData\",D7,\"ExpirationDate\",,\"T\")-TODAY()),RTD(\"cqg.rtd\",,\"ContractData\",D7,\"OptionDaysToExp\",,\"T\")))","v":""}]
["TMLastBid","TMLastAsk",{"$f":"IF(LOOKUP(3,Fifth!A1:A448)<>3,0,1)","v":0},{"$f":"IF(C8=1,VLOOKUP(Fifth!I3,INDIRECT($A$2),2),\"\")","v":""},null,null,"",{"$f":"IF(C8=1,RTD(\"cqg.rtd\", ,\"OrderData\", \"\"&D8&\"\", \"\", \"OpenPosition\",\"\"&$D$3&\"\"),\"\")","v":""},{"$f":"IF(C8=1,RTD(\"cqg.rtd\", ,\"OrderData\",\"\"&D8&\"\", \"\", \"OpenTradeEquity\",\"\"&$D$3&\"\"),\"\")","v":""},null,{"$f":"IF(C8=0,\"\",IF($D$1=\"B\",RTD(\"cqg.rtd\", ,\"ContractData\",D8, \"LastTrade\",,\"B\"),TEXT(RTD(\"cqg.rtd\", ,\"ContractData\",D8, \"LastTrade\",, \"T\"),$D$1)))","v":""},{"$f":"IF(RTD(\"cqg.rtd\",,\"ContractData\",D8,\"LastTrade\",,\"T\")<RTD(\"cqg.rtd\",,\"ContractData\",D8,\"Bid\",,\"T\"),1,IF(RTD(\"cqg.rtd\",,\"ContractData\",D8,\"LastTrade\",,\"T\")>RTD(\"cqg.rtd\",,\"ContractData\",D8,\"Ask\",,\"T\"),1,0))","v":0},{"$f":"IF(C8=1,RTD(\"cqg.rtd\", ,\"ContractData\",D8, \"TMLastTrade\",, \"T\"),\"\")","v":""},"",{"$f":"IF(C8=1,RTD(\"cqg.rtd\", ,\"ContractData\",D8, \"MT_LastBidVolume\",, \"T\"),\"\")","v":""},{"$f":"IF(C8=0,\"\",IF($D$1=\"B\",RTD(\"cqg.rtd\", ,\"ContractData\",D8, \"Bid\",,\"B\"),TEXT(RTD(\"cqg.rtd\", ,\"ContractData\",D8, \"Bid\",, \"T\"),$D$1)))","v":""},0,{"$f":"IF(C8=0,\"\",IF(LEFT(D8,1)=\"F\",\"\",IF($D$1=\"B\",RTD(\"cqg.rtd\", ,\"ContractData\",D8, \"TheoreticalValue\",,\"B\"),TEXT(RTD(\"cqg.rtd\", ,\"ContractData\",D8, \"TheoreticalValue\",, \"T\"),$D$1))))","v":""},0,{"$f":"IF(C8=0,\"\",IF($D$1=\"B\",RTD(\"cqg.rtd\", ,\"ContractData\",D8, \"Ask\",,\"B\"),TEXT(RTD(\"cqg.rtd\", ,\"ContractData\",D8, \"Ask\",, \"T\"),$D$1)))","v":""},{"$f":"IF(C8=1,RTD(\"cqg.rtd\", ,\"ContractData\",D8, \"MT_LastAskVolume\",, \"T\"),\"\")","v":""},"",null,null,{"$f":"IF(C8=1,RTD(\"cqg.rtd\", ,\"ContractData\",D8, \"T_CVol\",, \"T\"),\"\")","v":""},{"$f":"IF(C8=1,RTD(\"cqg.rtd\", ,\"ContractData\",D8, \"COI\",, \"T\"),\"\")","v":""},{"$f":"IF(C8=1,RTD(\"cqg.rtd\", ,\"ContractData\",D8, \"ImpliedVolatility\",, \"T\"),\"\")","v":""},{"$f":"IF(C8=1,RTD(\"cqg.rtd\", ,\"ContractData\",D8, \"Vega\",, \"T\"),\"\")","v":""},{"$f":"IF(C8=0,\"\",IF(LEFT(D8,1)=\"F\",H8*100,H8*RTD(\"cqg.rtd\",,\"ContractData\",D8,\"Delta\",,\"T\")))","v":""},{"$f":"IF(C8=1,RTD(\"cqg.rtd\", ,\"ContractData\",D8, \"Gamma\",, \"T\"),\"\")","v":""},{"$f":"IF(C8=1,IF(H8<0,-1*RTD(\"cqg.rtd\", ,\"ContractData\",D8, \"Theta\",, \"T\"),RTD(\"cqg.rtd\", ,\"ContractData\",D8, \"Theta\",, \"T\")),\"\")","v":""},{"$f":"IF(C8=0,\"\",IF(LEFT(D8,1)=\"F\",(RTD(\"cqg.rtd\",,\"ContractData\",D8,\"ExpirationDate\",,\"T\")-TODAY()),RTD(\"cqg.rtd\",,\"ContractData\",D8,\"OptionDaysToExp\",,\"T\")))","v":""}]
["TMLastBid","TMLastAsk",{"$f":"IF(LOOKUP(4,Fifth!A1:A448)<>4,0,1)","v":0},{"$f":"IF(C9=1,VLOOKUP(Fifth!I4,INDIRECT($A$2),2),\"\")","v":""},null,null,"",{"$f":"IF(C9=1,RTD(\"cqg.rtd\", ,\"OrderData\", \"\"&D9&\"\", \"\", \"OpenPosition\",\"\"&$D$3&\"\"),\"\")","v":""},{"$f":"IF(C9=1,RTD(\"cqg.rtd\", ,\"OrderData\",\"\"&D9&\"\", \"\", \"OpenTradeEquity\",\"\"&$D$3&\"\"),\"\")","v":""},null,{"$f":"IF(C9=0,\"\",IF($D$1=\"B\",RTD(\"cqg.rtd\", ,\"ContractData\",D9, \"LastTrade\",,\"B\"),TEXT(RTD(\"cqg.rtd\", ,\"ContractData\",D9, \"LastTrade\",, \"T\"),$D$1)))","v":""},{"$f":"IF(RTD(\"cqg.rtd\",,\"ContractData\",D9,\"LastTrade\",,\"T\")<RTD(\"cqg.rtd\",,\"ContractData\",D9,\"Bid\",,\"T\"),1,IF(RTD(\"cqg.rtd\",,\"ContractData\",D9,\"LastTrade\",,\"T\")>RTD(\"cqg.rtd\",,\"ContractData\",D9,\"Ask\",,\"T\"),1,0))","v":0},{"$f":"IF(C9=1,RTD(\"cqg.rtd\", ,\"ContractData\",D9, \"TMLastTrade\",, \"T\"),\"\")","v":""},"",{"$f":"IF(C9=1,RTD(\"cqg.rtd\", ,\"ContractData\",D9, \"MT_LastBidVolume\",, \"T\"),\"\")","v":""},{"$f":"IF(C9=0,\"\",IF($D$1=\"B\",RTD(\"cqg.rtd\", ,\"ContractData\",D9, \"Bid\",,\"B\"),TEXT(RTD(\"cqg.rtd\", ,\"ContractData\",D9, \"Bid\",, \"T\"),$D$1)))","v":""},0,{"$f":"IF(C9=0,\"\",IF(LEFT(D9,1)=\"F\",\"\",IF($D$1=\"B\",RTD(\"cqg.rtd\", ,\"ContractData\",D9, \"TheoreticalValue\",,\"B\"),TEXT(RTD(\"cqg.rtd\", ,\"ContractData\",D9, \"TheoreticalValue\",, \"T\"),$D$1))))","v":""},0,{"$f":"IF(C9=0,\"\",IF($D$1=\"B\",RTD(\"cqg.rtd\", ,\"ContractData\",D9, \"Ask\",,\"B\"),TEXT(RTD(\"cqg.rtd\", ,\"ContractData\",D9, \"Ask\",, \"T\"),$D$1)))","v":""},{"$f":"IF(C9=1,RTD(\"cqg.rtd\", ,\"ContractData\",D9, \"MT_LastAskVolume\",, \"T\"),\"\")","v":""},"",null,null,{"$f":"IF(C9=1,RTD(\"cqg.rtd\", ,\"ContractData\",D9, \"T_CVol\",, \"T\"),\"\")","v":""},{"$f":"IF(C9=1,RTD(\"cqg.rtd\", ,\"ContractData\",D9, \"COI\",, \"T\"),\"\")","v":""},{"$f":"IF(C9=1,RTD(\"cqg.rtd\", ,\"ContractData\",D9, \"ImpliedVolatility\",, \"T\"),\"\")","v":""},{"$f":"IF(C9=1,RTD(\"cqg.rtd\", ,\"ContractData\",D9, \"Vega\",, \"T\"),\"\")","v":""},{"$f":"IF(C9=0,\"\",IF(LEFT(D9,1)=\"F\",H9*100,H9*RTD(\"cqg.rtd\",,\"ContractData\",D9,\"Delta\",,\"T\")))","v":""},{"$f":"IF(C9=1,RTD(\"cqg.rtd\", ,\"ContractData\",D9, \"Gamma\",, \"T\"),\"\")","v":""},{"$f":"IF(C9=1,IF(H9<0,-1*RTD(\"cqg.rtd\", ,\"ContractData\",D9, \"Theta\",, \"T\"),RTD(\"cqg.rtd\", ,\"ContractData\",D9, \"Theta\",, \"T\")),\"\")","v":""},{"$f":"IF(C9=0,\"\",IF(LEFT(D9,1)=\"F\",(RTD(\"cqg.rtd\",,\"ContractData\",D9,\"ExpirationDate\",,\"T\")-TODAY()),RTD(\"cqg.rtd\",,\"ContractData\",D9,\"OptionDaysToExp\",,\"T\")))","v":""}]
["TMLastBid","TMLastAsk",{"$f":"IF(LOOKUP(5,Fifth!A1:A448)<>5,0,1)","v":0},{"$f":"IF(C10=1,VLOOKUP(Fifth!I5,INDIRECT($A$2),2),\"\")","v":""},null,null,"",{"$f":"IF(C10=1,RTD(\"cqg.rtd\", ,\"OrderData\", \"\"&D10&\"\", \"\", \"OpenPosition\",\"\"&$D$3&\"\"),\"\")","v":""},{"$f":"IF(C10=1,RTD(\"cqg.rtd\", ,\"OrderData\",\"\"&D10&\"\", \"\", \"OpenTradeEquity\",\"\"&$D$3&\"\"),\"\")","v":""},null,{"$f":"IF(C10=0,\"\",IF($D$1=\"B\",RTD(\"cqg.rtd\", ,\"ContractData\",D10, \"LastTrade\",,\"B\"),TEXT(RTD(\"cqg.rtd\", ,\"ContractData\",D10, \"LastTrade\",, \"T\"),$D$1)))","v":""},{"$f":"IF(RTD(\"cqg.rtd\",,\"ContractData\",D10,\"LastTrade\",,\"T\")<RTD(\"cqg.rtd\",,\"ContractData\",D10,\"Bid\",,\"T\"),1,IF(RTD(\"cqg.rtd\",,\"ContractData\",D10,\"LastTrade\",,\"T\")>RTD(\"cqg.rtd\",,\"ContractData\",D10,\"Ask\",,\"T\"),1,0))","v":0},{"$f":"IF(C10=1,RTD(\"cqg.rtd\", ,\"ContractData\",D10, \"TMLastTrade\",, \"T\"),\"\")","v":""},"",{"$f":"IF(C10=1,RTD(\"cqg.rtd\", ,\"ContractData\",D10, \"MT_LastBidVolume\",, \"T\"),\"\")","v":""},{"$f":"IF(C10=0,\"\",IF($D$1=\"B\",RTD(\"cqg.rtd\", ,\"ContractData\",D10, \"Bid\",,\"B\"),TEXT(RTD(\"cqg.rtd\", ,\"ContractData\",D10, \"Bid\",, \"T\"),$D$1)))","v":""},0,{"$f":"IF(C10=0,\"\",IF(LEFT(D10,1)=\"F\",\"\",IF($D$1=\"B\",RTD(\"cqg.rtd\", ,\"ContractData\",D10, \"TheoreticalValue\",,\"B\"),TEXT(RTD(\"cqg.rtd\", ,\"ContractData\",D10, \"TheoreticalValue\",, \"T\"),$D$1))))","v":""},0,{"$f":"IF(C10=0,\"\",IF($D$1=\"B\",RTD(\"cqg.rtd\", ,\"ContractData\",D10, \"Ask\",,\"B\"),TEXT(RTD(\"cqg.rtd\", ,\"ContractData\",D10, \"Ask\",, \"T\"),$D$1)))","v":""},{"$f":"IF(C10=1,RTD(\"cqg.rtd\", ,\"ContractData\",D10, \"MT_LastAskVolume\",, \"T\"),\"\")","v":""},"",null,null,{"$f":"IF(C10=1,RTD(\"cqg.rtd\", ,\"ContractData\",D10, \"T_CVol\",, \"T\"),\"\")","v":""},{"$f":"IF(C10=1,RTD(\"cqg.rtd\", ,\"ContractData\",D10, \"COI\",, \"T\"),\"\")","v":""},{"$f":"IF(C10=1,RTD(\"cqg.rtd\", ,\"ContractData\",D10, \"ImpliedVolatility\",, \"T\"),\"\")","v":""},{"$f":"IF(C10=1,RTD(\"cqg.rtd\", ,\"ContractData\",D10, \"Vega\",, \"T\"),\"\")","v":""},{"$f":"IF(C10=0,\"\",IF(LEFT(D10,1)=\"F\",H10*100,H10*RTD(\"cqg.rtd\",,\"ContractData\",D10,\"Delta\",,\"T\")))","v":""},{"$f":"IF(C10=1,RTD(\"cqg.rtd\", ,\"ContractData\",D10, \"Gamma\",, \"T\"),\"\")","v":""},{"$f":"IF(C10=1,IF(H10<0,-1*RTD(\"cqg.rtd\", ,\"ContractData\",D10, \"Theta\",, \"T\"),RTD(\"cqg.rtd\", ,\"ContractData\",D10, \"Theta\",, \"T\")),\"\")","v":""},{"$f":"IF(C10=0,\"\",IF(LEFT(D10,1)=\"F\",(RTD(\"cqg.rtd\",,\"ContractData\",D10,\"ExpirationDate\",,\"T\")-TODAY()),RTD(\"cqg.rtd\",,\"ContractData\",D10,\"OptionDaysToExp\",,\"T\")))","v":""}]
["TMLastBid","TMLastAsk",{"$f":"IF(LOOKUP(6,Fifth!A1:A448)<>6,0,1)","v":0},{"$f":"IF(C11=1,VLOOKUP(Fifth!I6,INDIRECT($A$2),2),\"\")","v":""},null,null,"",{"$f":"IF(C11=1,RTD(\"cqg.rtd\", ,\"OrderData\", \"\"&D11&\"\", \"\", \"OpenPosition\",\"\"&$D$3&\"\"),\"\")","v":""},{"$f":"IF(C11=1,RTD(\"cqg.rtd\", ,\"OrderData\",\"\"&D11&\"\", \"\", \"OpenTradeEquity\",\"\"&$D$3&\"\"),\"\")","v":""},null,{"$f":"IF(C11=0,\"\",IF($D$1=\"B\",RTD(\"cqg.rtd\", ,\"ContractData\",D11, \"LastTrade\",,\"B\"),TEXT(RTD(\"cqg.rtd\", ,\"ContractData\",D11, \"LastTrade\",, \"T\"),$D$1)))","v":""},{"$f":"IF(RTD(\"cqg.rtd\",,\"ContractData\",D11,\"LastTrade\",,\"T\")<RTD(\"cqg.rtd\",,\"ContractData\",D11,\"Bid\",,\"T\"),1,IF(RTD(\"cqg.rtd\",,\"ContractData\",D11,\"LastTrade\",,\"T\")>RTD(\"cqg.rtd\",,\"ContractData\",D11,\"Ask\",,\"T\"),1,0))","v":0},{"$f":"IF(C11=1,RTD(\"cqg.rtd\", ,\"ContractData\",D11, \"TMLastTrade\",, \"T\"),\"\")","v":""},"",{"$f":"IF(C11=1,RTD(\"cqg.rtd\", ,\"ContractData\",D11, \"MT_LastBidVolume\",, \"T\"),\"\")","v":""},{"$f":"IF(C11=0,\"\",IF($D$1=\"B\",RTD(\"cqg.rtd\", ,\"ContractData\",D11, \"Bid\",,\"B\"),TEXT(RTD(\"cqg.rtd\", ,\"ContractData\",D11, \"Bid\",, \"T\"),$D$1)))","v":""},0,{"$f":"IF(C11=0,\"\",IF(LEFT(D11,1)=\"F\",\"\",IF($D$1=\"B\",RTD(\"cqg.rtd\", ,\"ContractData\",D11, \"TheoreticalValue\",,\"B\"),TEXT(RTD(\"cqg.rtd\", ,\"ContractData\",D11, \"TheoreticalValue\",, \"T\"),$D$1))))","v":""},0,{"$f":"IF(C11=0,\"\",IF($D$1=\"B\",RTD(\"cqg.rtd\", ,\"ContractData\",D11, \"Ask\",,\"B\"),TEXT(RTD(\"cqg.rtd\", ,\"ContractData\",D11, \"Ask\",, \"T\"),$D$1)))","v":""},{"$f":"IF(C11=1,RTD(\"cqg.rtd\", ,\"ContractData\",D11, \"MT_LastAskVolume\",, \"T\"),\"\")","v":""},"",null,null,{"$f":"IF(C11=1,RTD(\"cqg.rtd\", ,\"ContractData\",D11, \"T_CVol\",, \"T\"),\"\")","v":""},{"$f":"IF(C11=1,RTD(\"cqg.rtd\", ,\"ContractData\",D11, \"COI\",, \"T\"),\"\")","v":""},{"$f":"IF(C11=1,RTD(\"cqg.rtd\", ,\"ContractData\",D11, \"ImpliedVolatility\",, \"T\"),\"\")","v":""},{"$f":"IF(C11=1,RTD(\"cqg.rtd\", ,\"ContractData\",D11, \"Vega\",, \"T\"),\"\")","v":""},{"$f":"IF(C11=0,\"\",IF(LEFT(D11,1)=\"F\",H11*100,H11*RTD(\"cqg.rtd\",,\"ContractData\",D11,\"Delta\",,\"T\")))","v":""},{"$f":"IF(C11=1,RTD(\"cqg.rtd\", ,\"ContractData\",D11, \"Gamma\",, \"T\"),\"\")","v":""},{"$f":"IF(C11=1,IF(H11<0,-1*RTD(\"cqg.rtd\", ,\"ContractData\",D11, \"Theta\",, \"T\"),RTD(\"cqg.rtd\", ,\"ContractData\",D11, \"Theta\",, \"T\")),\"\")","v":""},{"$f":"IF(C11=0,\"\",IF(LEFT(D11,1)=\"F\",(RTD(\"cqg.rtd\",,\"ContractData\",D11,\"ExpirationDate\",,\"T\")-TODAY()),RTD(\"cqg.rtd\",,\"ContractData\",D11,\"OptionDaysToExp\",,\"T\")))","v":""}]
["TMLastBid","TMLastAsk",{"$f":"IF(LOOKUP(7,Fifth!A1:A448)<>7,0,1)","v":0},{"$f":"IF(C12=1,VLOOKUP(Fifth!I7,INDIRECT($A$2),2),\"\")","v":""},null,null,"",{"$f":"IF(C12=1,RTD(\"cqg.rtd\", ,\"OrderData\", \"\"&D12&\"\", \"\", \"OpenPosition\",\"\"&$D$3&\"\"),\"\")","v":""},{"$f":"IF(C12=1,RTD(\"cqg.rtd\", ,\"OrderData\",\"\"&D12&\"\", \"\", \"OpenTradeEquity\",\"\"&$D$3&\"\"),\"\")","v":""},null,{"$f":"IF(C12=0,\"\",IF($D$1=\"B\",RTD(\"cqg.rtd\", ,\"ContractData\",D12, \"LastTrade\",,\"B\"),TEXT(RTD(\"cqg.rtd\", ,\"ContractData\",D12, \"LastTrade\",, \"T\"),$D$1)))","v":""},{"$f":"IF(RTD(\"cqg.rtd\",,\"ContractData\",D12,\"LastTrade\",,\"T\")<RTD(\"cqg.rtd\",,\"ContractData\",D12,\"Bid\",,\"T\"),1,IF(RTD(\"cqg.rtd\",,\"ContractData\",D12,\"LastTrade\",,\"T\")>RTD(\"cqg.rtd\",,\"ContractData\",D12,\"Ask\",,\"T\"),1,0))","v":0},{"$f":"IF(C12=1,RTD(\"cqg.rtd\", ,\"ContractData\",D12, \"TMLastTrade\",, \"T\"),\"\")","v":""},"",{"$f":"IF(C12=1,RTD(\"cqg.rtd\", ,\"ContractData\",D12, \"MT_LastBidVolume\",, \"T\"),\"\")","v":""},{"$f":"IF(C12=0,\"\",IF($D$1=\"B\",RTD(\"cqg.rtd\", ,\"ContractData\",D12, \"Bid\",,\"B\"),TEXT(RTD(\"cqg.rtd\", ,\"ContractData\",D12, \"Bid\",, \"T\"),$D$1)))","v":""},0,{"$f":"IF(C12=0,\"\",IF(LEFT(D12,1)=\"F\",\"\",IF($D$1=\"B\",RTD(\"cqg.rtd\", ,\"ContractData\",D12, \"TheoreticalValue\",,\"B\"),TEXT(RTD(\"cqg.rtd\", ,\"ContractData\",D12, \"TheoreticalValue\",, \"T\"),$D$1))))","v":""},0,{"$f":"IF(C12=0,\"\",IF($D$1=\"B\",RTD(\"cqg.rtd\", ,\"ContractData\",D12, \"Ask\",,\"B\"),TEXT(RTD(\"cqg.rtd\", ,\"ContractData\",D12, \"Ask\",, \"T\"),$D$1)))","v":""},{"$f":"IF(C12=1,RTD(\"cqg.rtd\", ,\"ContractData\",D12, \"MT_LastAskVolume\",, \"T\"),\"\")","v":""},"",null,null,{"$f":"IF(C12=1,RTD(\"cqg.rtd\", ,\"ContractData\",D12, \"T_CVol\",, \"T\"),\"\")","v":""},{"$f":"IF(C12=1,RTD(\"cqg.rtd\", ,\"ContractData\",D12, \"COI\",, \"T\"),\"\")","v":""},{"$f":"IF(C12=1,RTD(\"cqg.rtd\", ,\"ContractData\",D12, \"ImpliedVolatility\",, \"T\"),\"\")","v":""},{"$f":"IF(C12=1,RTD(\"cqg.rtd\", ,\"ContractData\",D12, \"Vega\",, \"T\"),\"\")","v":""},{"$f":"IF(C12=0,\"\",IF(LEFT(D12,1)=\"F\",H12*100,H12*RTD(\"cqg.rtd\",,\"ContractData\",D12,\"Delta\",,\"T\")))","v":""},{"$f":"IF(C12=1,RTD(\"cqg.rtd\", ,\"ContractData\",D12, \"Gamma\",, \"T\"),\"\")","v":""},{"$f":"IF(C12=1,IF(H12<0,-1*RTD(\"cqg.rtd\", ,\"ContractData\",D12, \"Theta\",, \"T\"),RTD(\"cqg.rtd\", ,\"ContractData\",D12, \"Theta\",, \"T\")),\"\")","v":""},{"$f":"IF(C12=0,\"\",IF(LEFT(D12,1)=\"F\",(RTD(\"cqg.rtd\",,\"ContractData\",D12,\"ExpirationDate\",,\"T\")-TODAY()),RTD(\"cqg.rtd\",,\"ContractData\",D12,\"OptionDaysToExp\",,\"T\")))","v":""}]
["TMLastBid","TMLastAsk",{"$f":"IF(LOOKUP(8,Fifth!A1:A448)<>8,0,1)","v":0},{"$f":"IF(C13=1,VLOOKUP(Fifth!I8,INDIRECT($A$2),2),\"\")","v":""},null,null,{"$f":"IF(C13=1,IF(H13>0,\"Long  \",\"Short  \"),\"\")","v":""},{"$f":"IF(C13=1,RTD(\"cqg.rtd\", ,\"OrderData\", \"\"&D13&\"\", \"\", \"OpenPosition\",\"\"&$D$3&\"\"),\"\")","v":""},{"$f":"IF(C13=1,RTD(\"cqg.rtd\", ,\"OrderData\",\"\"&D13&\"\", \"\", \"OpenTradeEquity\",\"\"&$D$3&\"\"),\"\")","v":""},null,{"$f":"IF(C13=0,\"\",IF($D$1=\"B\",RTD(\"cqg.rtd\", ,\"ContractData\",D13, \"LastTrade\",,\"B\"),TEXT(RTD(\"cqg.rtd\", ,\"ContractData\",D13, \"LastTrade\",, \"T\"),$D$1)))","v":""},{"$f":"IF(RTD(\"cqg.rtd\",,\"ContractData\",D13,\"LastTrade\",,\"T\")<RTD(\"cqg.rtd\",,\"ContractData\",D13,\"Bid\",,\"T\"),1,IF(RTD(\"cqg.rtd\",,\"ContractData\",D13,\"LastTrade\",,\"T\")>RTD(\"cqg.rtd\",,\"ContractData\",D13,\"Ask\",,\"T\"),1,0))","v":0},{"$f":"IF(C13=1,RTD(\"cqg.rtd\", ,\"ContractData\",D13, \"TMLastTrade\",, \"T\"),\"\")","v":""},"",{"$f":"IF(C13=1,RTD(\"cqg.rtd\", ,\"ContractData\",D13, \"MT_LastBidVolume\",, \"T\"),\"\")","v":""},{"$f":"IF(C13=0,\"\",IF($D$1=\"B\",RTD(\"cqg.rtd\", ,\"ContractData\",D13, \"Bid\",,\"B\"),TEXT(RTD(\"cqg.rtd\", ,\"ContractData\",D13, \"Bid\",, \"T\"),$D$1)))","v":""},0,{"$f":"IF(C13=0,\"\",IF(LEFT(D13,1)=\"F\",\"\",IF($D$1=\"B\",RTD(\"cqg.rtd\", ,\"ContractData\",D13, \"TheoreticalValue\",,\"B\"),TEXT(RTD(\"cqg.rtd\", ,\"ContractData\",D13, \"TheoreticalValue\",, \"T\"),$D$1))))","v":""},0,{"$f":"IF(C13=0,\"\",IF($D$1=\"B\",RTD(\"cqg.rtd\", ,\"ContractData\",D13, \"Ask\",,\"B\"),TEXT(RTD(\"cqg.rtd\", ,\"ContractData\",D13, \"Ask\",, \"T\"),$D$1)))","v":""},{"$f":"IF(C13=1,RTD(\"cqg.rtd\", ,\"ContractData\",D13, \"MT_LastAskVolume\",, \"T\"),\"\")","v":""},"",null,null,{"$f":"IF(C13=1,RTD(\"cqg.rtd\", ,\"ContractData\",D13, \"T_CVol\",, \"T\"),\"\")","v":""},{"$f":"IF(C13=1,RTD(\"cqg.rtd\", ,\"ContractData\",D13, \"COI\",, \"T\"),\"\")","v":""},{"$f":"IF(C13=1,RTD(\"cqg.rtd\", ,\"ContractData\",D13, \"ImpliedVolatility\",, \"T\"),\"\")","v":""},{"$f":"IF(C13=1,RTD(\"cqg.rtd\", ,\"ContractData\",D13, \"Vega\",, \"T\"),\"\")","v":""},{"$f":"IF(C13=0,\"\",IF(LEFT(D13,1)=\"F\",H13*100,H13*RTD(\"cqg.rtd\",,\"ContractData\",D13,\"Delta\",,\"T\")))","v":""},{"$f":"IF(C13=1,RTD(\"cqg.rtd\", ,\"ContractData\",D13, \"Gamma\",, \"T\"),\"\")","v":""},{"$f":"IF(C13=1,IF(H13<0,-1*RTD(\"cqg.rtd\", ,\"ContractData\",D13, \"Theta\",, \"T\"),RTD(\"cqg.rtd\", ,\"ContractData\",D13, \"Theta\",, \"T\")),\"\")","v":""},{"$f":"IF(C13=0,\"\",IF(LEFT(D13,1)=\"F\",(RTD(\"cqg.rtd\",,\"ContractData\",D13,\"ExpirationDate\",,\"T\")-TODAY()),RTD(\"cqg.rtd\",,\"ContractData\",D13,\"OptionDaysToExp\",,\"T\")))","v":""}]
["TMLastBid","TMLastAsk",{"$f":"IF(LOOKUP(9,Fifth!A1:A448)<>9,0,1)","v":0},{"$f":"IF(C14=1,VLOOKUP(Fifth!I9,INDIRECT($A$2),2),\"\")","v":""},null,null,"",{"$f":"IF(C14=1,RTD(\"cqg.rtd\", ,\"OrderData\", \"\"&D14&\"\", \"\", \"OpenPosition\",\"\"&$D$3&\"\"),\"\")","v":""},{"$f":"IF(C14=1,RTD(\"cqg.rtd\", ,\"OrderData\",\"\"&D14&\"\", \"\", \"OpenTradeEquity\",\"\"&$D$3&\"\"),\"\")","v":""},null,{"$f":"IF(C14=0,\"\",IF($D$1=\"B\",RTD(\"cqg.rtd\", ,\"ContractData\",D14, \"LastTrade\",,\"B\"),TEXT(RTD(\"cqg.rtd\", ,\"ContractData\",D14, \"LastTrade\",, \"T\"),$D$1)))","v":""},{"$f":"IF(RTD(\"cqg.rtd\",,\"ContractData\",D14,\"LastTrade\",,\"T\")<RTD(\"cqg.rtd\",,\"ContractData\",D14,\"Bid\",,\"T\"),1,IF(RTD(\"cqg.rtd\",,\"ContractData\",D14,\"LastTrade\",,\"T\")>RTD(\"cqg.rtd\",,\"ContractData\",D14,\"Ask\",,\"T\"),1,0))","v":0},{"$f":"IF(C14=1,RTD(\"cqg.rtd\", ,\"ContractData\",D14, \"TMLastTrade\",, \"T\"),\"\")","v":""},"",{"$f":"IF(C14=1,RTD(\"cqg.rtd\", ,\"ContractData\",D14, \"MT_LastBidVolume\",, \"T\"),\"\")","v":""},{"$f":"IF(C14=0,\"\",IF($D$1=\"B\",RTD(\"cqg.rtd\", ,\"ContractData\",D14, \"Bid\",,\"B\"),TEXT(RTD(\"cqg.rtd\", ,\"ContractData\",D14, \"Bid\",, \"T\"),$D$1)))","v":""},0,{"$f":"IF(C14=0,\"\",IF(LEFT(D14,1)=\"F\",\"\",IF($D$1=\"B\",RTD(\"cqg.rtd\", ,\"ContractData\",D14, \"TheoreticalValue\",,\"B\"),TEXT(RTD(\"cqg.rtd\", ,\"ContractData\",D14, \"TheoreticalValue\",, \"T\"),$D$1))))","v":""},0,{"$f":"IF(C14=0,\"\",IF($D$1=\"B\",RTD(\"cqg.rtd\", ,\"ContractData\",D14, \"Ask\",,\"B\"),TEXT(RTD(\"cqg.rtd\", ,\"ContractData\",D14, \"Ask\",, \"T\"),$D$1)))","v":""},{"$f":"IF(C14=1,RTD(\"cqg.rtd\", ,\"ContractData\",D14, \"MT_LastAskVolume\",, \"T\"),\"\")","v":""},"",null,null,{"$f":"IF(C14=1,RTD(\"cqg.rtd\", ,\"ContractData\",D14, \"T_CVol\",, \"T\"),\"\")","v":""},{"$f":"IF(C14=1,RTD(\"cqg.rtd\", ,\"ContractData\",D14, \"COI\",, \"T\"),\"\")","v":""},{"$f":"IF(C14=1,RTD(\"cqg.rtd\", ,\"ContractData\",D14, \"ImpliedVolatility\",, \"T\"),\"\")","v":""},{"$f":"IF(C14=1,RTD(\"cqg.rtd\", ,\"ContractData\",D14, \"Vega\",, \"T\"),\"\")","v":""},{"$f":"IF(C14=0,\"\",IF(LEFT(D14,1)=\"F\",H14*100,H14*RTD(\"cqg.rtd\",,\"ContractData\",D14,\"Delta\",,\"T\")))","v":""},{"$f":"IF(C14=1,RTD(\"cqg.rtd\", ,\"ContractData\",D14, \"Gamma\",, \"T\"),\"\")","v":""},{"$f":"IF(C14=1,IF(H14<0,-1*RTD(\"cqg.rtd\", ,\"ContractData\",D14, \"Theta\",, \"T\"),RTD(\"cqg.rtd\", ,\"ContractData\",D14, \"Theta\",, \"T\")),\"\")","v":""},{"$f":"IF(C14=0,\"\",IF(LEFT(D14,1)=\"F\",(RTD(\"cqg.rtd\",,\"ContractData\",D14,\"ExpirationDate\",,\"T\")-TODAY()),RTD(\"cqg.rtd\",,\"ContractData\",D14,\"OptionDaysToExp\",,\"T\")))","v":""}]
["TMLastBid","TMLastAsk",{"$f":"IF(LOOKUP(10,Fifth!A1:A448)<>10,0,1)","v":0},{"$f":"IF(C15=1,VLOOKUP(Fifth!I10,INDIRECT($A$2),2),\"\")","v":""},null,null,"",{"$f":"IF(C15=1,RTD(\"cqg.rtd\", ,\"OrderData\", \"\"&D15&\"\", \"\", \"OpenPosition\",\"\"&$D$3&\"\"),\"\")","v":""},{"$f":"IF(C15=1,RTD(\"cqg.rtd\", ,\"OrderData\",\"\"&D15&\"\", \"\", \"OpenTradeEquity\",\"\"&$D$3&\"\"),\"\")","v":""},null,{"$f":"IF(C15=0,\"\",IF($D$1=\"B\",RTD(\"cqg.rtd\", ,\"ContractData\",D15, \"LastTrade\",,\"B\"),TEXT(RTD(\"cqg.rtd\", ,\"ContractData\",D15, \"LastTrade\",, \"T\"),$D$1)))","v":""},{"$f":"IF(RTD(\"cqg.rtd\",,\"ContractData\",D15,\"LastTrade\",,\"T\")<RTD(\"cqg.rtd\",,\"ContractData\",D15,\"Bid\",,\"T\"),1,IF(RTD(\"cqg.rtd\",,\"ContractData\",D15,\"LastTrade\",,\"T\")>RTD(\"cqg.rtd\",,\"ContractData\",D15,\"Ask\",,\"T\"),1,0))","v":0},{"$f":"IF(C15=1,RTD(\"cqg.rtd\", ,\"ContractData\",D15, \"TMLastTrade\",, \"T\"),\"\")","v":""},"",{"$f":"IF(C15=1,RTD(\"cqg.rtd\", ,\"ContractData\",D15, \"MT_LastBidVolume\",, \"T\"),\"\")","v":""},{"$f":"IF(C15=0,\"\",IF($D$1=\"B\",RTD(\"cqg.rtd\", ,\"ContractData\",D15, \"Bid\",,\"B\"),TEXT(RTD(\"cqg.rtd\", ,\"ContractData\",D15, \"Bid\",, \"T\"),$D$1)))","v":""},{"$f":"IF(R15=\"\",0,IF(R15-P15<$P$5,1,0))","v":0},{"$f":"IF(C15=0,\"\",IF(LEFT(D15,1)=\"F\",\"\",IF($D$1=\"B\",RTD(\"cqg.rtd\", ,\"ContractData\",D15, \"TheoreticalValue\",,\"B\"),TEXT(RTD(\"cqg.rtd\", ,\"ContractData\",D15, \"TheoreticalValue\",, \"T\"),$D$1))))","v":""},0,{"$f":"IF(C15=0,\"\",IF($D$1=\"B\",RTD(\"cqg.rtd\", ,\"ContractData\",D15, \"Ask\",,\"B\"),TEXT(RTD(\"cqg.rtd\", ,\"ContractData\",D15, \"Ask\",, \"T\"),$D$1)))","v":""},{"$f":"IF(C15=1,RTD(\"cqg.rtd\", ,\"ContractData\",D15, \"MT_LastAskVolume\",, \"T\"),\"\")","v":""},"",null,null,{"$f":"IF(C15=1,RTD(\"cqg.rtd\", ,\"ContractData\",D15, \"T_CVol\",, \"T\"),\"\")","v":""},{"$f":"IF(C15=1,RTD(\"cqg.rtd\", ,\"ContractData\",D15, \"COI\",, \"T\"),\"\")","v":""},{"$f":"IF(C15=1,RTD(\"cqg.rtd\", ,\"ContractData\",D15, \"ImpliedVolatility\",, \"T\"),\"\")","v":""},{"$f":"IF(C15=1,RTD(\"cqg.rtd\", ,\"ContractData\",D15, \"Vega\",, \"T\"),\"\")","v":""},{"$f":"IF(C15=0,\"\",IF(LEFT(D15,1)=\"F\",H15*100,H15*RTD(\"cqg.rtd\",,\"ContractData\",D15,\"Delta\",,\"T\")))","v":""},{"$f":"IF(C15=1,RTD(\"cqg.rtd\", ,\"ContractData\",D15, \"Gamma\",, \"T\"),\"\")","v":""},{"$f":"IF(C15=1,IF(H15<0,-1*RTD(\"cqg.rtd\", ,\"ContractData\",D15, \"Theta\",, \"T\"),RTD(\"cqg.rtd\", ,\"ContractData\",D15, \"Theta\",, \"T\")),\"\")","v":""},{"$f":"IF(C15=0,\"\",IF(LEFT(D15,1)=\"F\",(RTD(\"cqg.rtd\",,\"ContractData\",D15,\"ExpirationDate\",,\"T\")-TODAY()),RTD(\"cqg.rtd\",,\"ContractData\",D15,\"OptionDaysToExp\",,\"T\")))","v":""}]
["TMLastBid","TMLastAsk",{"$f":"IF(LOOKUP(11,Fifth!A1:A448)<>11,0,1)","v":0},{"$f":"IF(C16=1,VLOOKUP(Fifth!I11,INDIRECT($A$2),2),\"\")","v":""},null,null,"",{"$f":"IF(C16=1,RTD(\"cqg.rtd\", ,\"OrderData\", \"\"&D16&\"\", \"\", \"OpenPosition\",\"\"&$D$3&\"\"),\"\")","v":""},{"$f":"IF(C16=1,RTD(\"cqg.rtd\", ,\"OrderData\",\"\"&D16&\"\", \"\", \"OpenTradeEquity\",\"\"&$D$3&\"\"),\"\")","v":""},null,{"$f":"IF(C16=0,\"\",IF($D$1=\"B\",RTD(\"cqg.rtd\", ,\"ContractData\",D16, \"LastTrade\",,\"B\"),TEXT(RTD(\"cqg.rtd\", ,\"ContractData\",D16, \"LastTrade\",, \"T\"),$D$1)))","v":""},{"$f":"IF(RTD(\"cqg.rtd\",,\"ContractData\",D16,\"LastTrade\",,\"T\")<RTD(\"cqg.rtd\",,\"ContractData\",D16,\"Bid\",,\"T\"),1,IF(RTD(\"cqg.rtd\",,\"ContractData\",D16,\"LastTrade\",,\"T\")>RTD(\"cqg.rtd\",,\"ContractData\",D16,\"Ask\",,\"T\"),1,0))","v":0},{"$f":"IF(C16=1,RTD(\"cqg.rtd\", ,\"ContractData\",D16, \"TMLastTrade\",, \"T\"),\"\")","v":""},"",{"$f":"IF(C16=1,RTD(\"cqg.rtd\", ,\"ContractData\",D16, \"MT_LastBidVolume\",, \"T\"),\"\")","v":""},{"$f":"IF(C16=0,\"\",IF($D$1=\"B\",RTD(\"cqg.rtd\", ,\"ContractData\",D16, \"Bid\",,\"B\"),TEXT(RTD(\"cqg.rtd\", ,\"ContractData\",D16, \"Bid\",, \"T\"),$D$1)))","v":""},0,{"$f":"IF(C16=0,\"\",IF(LEFT(D16,1)=\"F\",\"\",IF($D$1=\"B\",RTD(\"cqg.rtd\", ,\"ContractData\",D16, \"TheoreticalValue\",,\"B\"),TEXT(RTD(\"cqg.rtd\", ,\"ContractData\",D16, \"TheoreticalValue\",, \"T\"),$D$1))))","v":""},0,{"$f":"IF(C16=0,\"\",IF($D$1=\"B\",RTD(\"cqg.rtd\", ,\"ContractData\",D16, \"Ask\",,\"B\"),TEXT(RTD(\"cqg.rtd\", ,\"ContractData\",D16, \"Ask\",, \"T\"),$D$1)))","v":""},{"$f":"IF(C16=1,RTD(\"cqg.rtd\", ,\"ContractData\",D16, \"MT_LastAskVolume\",, \"T\"),\"\")","v":""},"",null,null,{"$f":"IF(C16=1,RTD(\"cqg.rtd\", ,\"ContractData\",D16, \"T_CVol\",, \"T\"),\"\")","v":""},{"$f":"IF(C16=1,RTD(\"cqg.rtd\", ,\"ContractData\",D16, \"COI\",, \"T\"),\"\")","v":""},{"$f":"IF(C16=1,RTD(\"cqg.rtd\", ,\"ContractData\",D16, \"ImpliedVolatility\",, \"T\"),\"\")","v":""},{"$f":"IF(C16=1,RTD(\"cqg.rtd\", ,\"ContractData\",D16, \"Vega\",, \"T\"),\"\")","v":""},{"$f":"IF(C16=0,\"\",IF(LEFT(D16,1)=\"F\",H16*100,H16*RTD(\"cqg.rtd\",,\"ContractData\",D16,\"Delta\",,\"T\")))","v":""},{"$f":"IF(C16=1,RTD(\"cqg.rtd\", ,\"ContractData\",D16, \"Gamma\",, \"T\"),\"\")","v":""},{"$f":"IF(C16=1,IF(H16<0,-1*RTD(\"cqg.rtd\", ,\"ContractData\",D16, \"Theta\",, \"T\"),RTD(\"cqg.rtd\", ,\"ContractData\",D16, \"Theta\",, \"T\")),\"\")","v":""},{"$f":"IF(C16=0,\"\",IF(LEFT(D16,1)=\"F\",(RTD(\"cqg.rtd\",,\"ContractData\",D16,\"ExpirationDate\",,\"T\")-TODAY()),RTD(\"cqg.rtd\",,\"ContractData\",D16,\"OptionDaysToExp\",,\"T\")))","v":""}]
["TMLastBid","TMLastAsk",{"$f":"IF(LOOKUP(12,Fifth!A1:A448)<>12,0,1)","v":0},{"$f":"IF(C17=1,VLOOKUP(Fifth!I12,INDIRECT($A$2),2),\"\")","v":""},null,null,"",{"$f":"IF(C17=1,RTD(\"cqg.rtd\", ,\"OrderData\", \"\"&D17&\"\", \"\", \"OpenPosition\",\"\"&$D$3&\"\"),\"\")","v":""},{"$f":"IF(C17=1,RTD(\"cqg.rtd\", ,\"OrderData\",\"\"&D17&\"\", \"\", \"OpenTradeEquity\",\"\"&$D$3&\"\"),\"\")","v":""},null,{"$f":"IF(C17=0,\"\",IF($D$1=\"B\",RTD(\"cqg.rtd\", ,\"ContractData\",D17, \"LastTrade\",,\"B\"),TEXT(RTD(\"cqg.rtd\", ,\"ContractData\",D17, \"LastTrade\",, \"T\"),$D$1)))","v":""},{"$f":"IF(RTD(\"cqg.rtd\",,\"ContractData\",D17,\"LastTrade\",,\"T\")<RTD(\"cqg.rtd\",,\"ContractData\",D17,\"Bid\",,\"T\"),1,IF(RTD(\"cqg.rtd\",,\"ContractData\",D17,\"LastTrade\",,\"T\")>RTD(\"cqg.rtd\",,\"ContractData\",D17,\"Ask\",,\"T\"),1,0))","v":0},{"$f":"IF(C17=1,RTD(\"cqg.rtd\", ,\"ContractData\",D17, \"TMLastTrade\",, \"T\"),\"\")","v":""},"",{"$f":"IF(C17=1,RTD(\"cqg.rtd\", ,\"ContractData\",D17, \"MT_LastBidVolume\",, \"T\"),\"\")","v":""},{"$f":"IF(C17=0,\"\",IF($D$1=\"B\",RTD(\"cqg.rtd\", ,\"ContractData\",D17, \"Bid\",,\"B\"),TEXT(RTD(\"cqg.rtd\", ,\"ContractData\",D17, \"Bid\",, \"T\"),$D$1)))","v":""},0,{"$f":"IF(C17=0,\"\",IF(LEFT(D17,1)=\"F\",\"\",IF($D$1=\"B\",RTD(\"cqg.rtd\", ,\"ContractData\",D17, \"TheoreticalValue\",,\"B\"),TEXT(RTD(\"cqg.rtd\", ,\"ContractData\",D17, \"TheoreticalValue\",, \"T\"),$D$1))))","v":""},0,{"$f":"IF(C17=0,\"\",IF($D$1=\"B\",RTD(\"cqg.rtd\", ,\"ContractData\",D17, \"Ask\",,\"B\"),TEXT(RTD(\"cqg.rtd\", ,\"ContractData\",D17, \"Ask\",, \"T\"),$D$1)))","v":""},{"$f":"IF(C17=1,RTD(\"cqg.rtd\", ,\"ContractData\",D17, \"MT_LastAskVolume\",, \"T\"),\"\")","v":""},"",null,null,{"$f":"IF(C17=1,RTD(\"cqg.rtd\", ,\"ContractData\",D17, \"T_CVol\",, \"T\"),\"\")","v":""},{"$f":"IF(C17=1,RTD(\"cqg.rtd\", ,\"ContractData\",D17, \"COI\",, \"T\"),\"\")","v":""},{"$f":"IF(C17=1,RTD(\"cqg.rtd\", ,\"ContractData\",D17, \"ImpliedVolatility\",, \"T\"),\"\")","v":""},{"$f":"IF(C17=1,RTD(\"cqg.rtd\", ,\"ContractData\",D17, \"Vega\",, \"T\"),\"\")","v":""},{"$f":"IF(C17=0,\"\",IF(LEFT(D17,1)=\"F\",H17*100,H17*RTD(\"cqg.rtd\",,\"ContractData\",D17,\"Delta\",,\"T\")))","v":""},{"$f":"IF(C17=1,RTD(\"cqg.rtd\", ,\"ContractData\",D17, \"Gamma\",, \"T\"),\"\")","v":""},{"$f":"IF(C17=1,IF(H17<0,-1*RTD(\"cqg.rtd\", ,\"ContractData\",D17, \"Theta\",, \"T\"),RTD(\"cqg.rtd\", ,\"ContractData\",D17, \"Theta\",, \"T\")),\"\")","v":""},{"$f":"IF(C17=0,\"\",IF(LEFT(D17,1)=\"F\",(RTD(\"cqg.rtd\",,\"ContractData\",D17,\"ExpirationDate\",,\"T\")-TODAY()),RTD(\"cqg.rtd\",,\"ContractData\",D17,\"OptionDaysToExp\",,\"T\")))","v":""}]
["TMLastBid","TMLastAsk",{"$f":"IF(LOOKUP(13,Fifth!A1:A448)<>13,0,1)","v":0},{"$f":"IF(C18=1,VLOOKUP(Fifth!I13,INDIRECT($A$2),2),\"\")","v":""},null,null,"",{"$f":"IF(C18=1,RTD(\"cqg.rtd\", ,\"OrderData\", \"\"&D18&\"\", \"\", \"OpenPosition\",\"\"&$D$3&\"\"),\"\")","v":""},{"$f":"IF(C18=1,RTD(\"cqg.rtd\", ,\"OrderData\",\"\"&D18&\"\", \"\", \"OpenTradeEquity\",\"\"&$D$3&\"\"),\"\")","v":""},null,{"$f":"IF(C18=0,\"\",IF($D$1=\"B\",RTD(\"cqg.rtd\", ,\"ContractData\",D18, \"LastTrade\",,\"B\"),TEXT(RTD(\"cqg.rtd\", ,\"ContractData\",D18, \"LastTrade\",, \"T\"),$D$1)))","v":""},{"$f":"IF(RTD(\"cqg.rtd\",,\"ContractData\",D18,\"LastTrade\",,\"T\")<RTD(\"cqg.rtd\",,\"ContractData\",D18,\"Bid\",,\"T\"),1,IF(RTD(\"cqg.rtd\",,\"ContractData\",D18,\"LastTrade\",,\"T\")>RTD(\"cqg.rtd\",,\"ContractData\",D18,\"Ask\",,\"T\"),1,0))","v":0},{"$f":"IF(C18=1,RTD(\"cqg.rtd\", ,\"ContractData\",D18, \"TMLastTrade\",, \"T\"),\"\")","v":""},"",{"$f":"IF(C18=1,RTD(\"cqg.rtd\", ,\"ContractData\",D18, \"MT_LastBidVolume\",, \"T\"),\"\")","v":""},{"$f":"IF(C18=0,\"\",IF($D$1=\"B\",RTD(\"cqg.rtd\", ,\"ContractData\",D18, \"Bid\",,\"B\"),TEXT(RTD(\"cqg.rtd\", ,\"ContractData\",D18, \"Bid\",, \"T\"),$D$1)))","v":""},0,{"$f":"IF(C18=0,\"\",IF(LEFT(D18,1)=\"F\",\"\",IF($D$1=\"B\",RTD(\"cqg.rtd\", ,\"ContractData\",D18, \"TheoreticalValue\",,\"B\"),TEXT(RTD(\"cqg.rtd\", ,\"ContractData\",D18, \"TheoreticalValue\",, \"T\"),$D$1))))","v":""},0,{"$f":"IF(C18=0,\"\",IF($D$1=\"B\",RTD(\"cqg.rtd\", ,\"ContractData\",D18, \"Ask\",,\"B\"),TEXT(RTD(\"cqg.rtd\", ,\"ContractData\",D18, \"Ask\",, \"T\"),$D$1)))","v":""},{"$f":"IF(C18=1,RTD(\"cqg.rtd\", ,\"ContractData\",D18, \"MT_LastAskVolume\",, \"T\"),\"\")","v":""},"",null,null,{"$f":"IF(C18=1,RTD(\"cqg.rtd\", ,\"ContractData\",D18, \"T_CVol\",, \"T\"),\"\")","v":""},{"$f":"IF(C18=1,RTD(\"cqg.rtd\", ,\"ContractData\",D18, \"COI\",, \"T\"),\"\")","v":""},{"$f":"IF(C18=1,RTD(\"cqg.rtd\", ,\"ContractData\",D18, \"ImpliedVolatility\",, \"T\"),\"\")","v":""},{"$f":"IF(C18=1,RTD(\"cqg.rtd\", ,\"ContractData\",D18, \"Vega\",, \"T\"),\"\")","v":""},{"$f":"IF(C18=0,\"\",IF(LEFT(D18,1)=\"F\",H18*100,H18*RTD(\"cqg.rtd\",,\"ContractData\",D18,\"Delta\",,\"T\")))","v":""},{"$f":"IF(C18=1,RTD(\"cqg.rtd\", ,\"ContractData\",D18, \"Gamma\",, \"T\"),\"\")","v":""},{"$f":"IF(C18=1,IF(H18<0,-1*RTD(\"cqg.rtd\", ,\"ContractData\",D18, \"Theta\",, \"T\"),RTD(\"cqg.rtd\", ,\"ContractData\",D18, \"Theta\",, \"T\")),\"\")","v":""},{"$f":"IF(C18=0,\"\",IF(LEFT(D18,1)=\"F\",(RTD(\"cqg.rtd\",,\"ContractData\",D18,\"ExpirationDate\",,\"T\")-TODAY()),RTD(\"cqg.rtd\",,\"ContractData\",D18,\"OptionDaysToExp\",,\"T\")))","v":""}]
["TMLastBid","TMLastAsk",{"$f":"IF(LOOKUP(14,Fifth!A1:A448)<>14,0,1)","v":0},{"$f":"IF(C19=1,VLOOKUP(Fifth!I14,INDIRECT($A$2),2),\"\")","v":""},null,null,"",{"$f":"IF(C19=1,RTD(\"cqg.rtd\", ,\"OrderData\", \"\"&D19&\"\", \"\", \"OpenPosition\",\"\"&$D$3&\"\"),\"\")","v":""},{"$f":"IF(C19=1,RTD(\"cqg.rtd\", ,\"OrderData\",\"\"&D19&\"\", \"\", \"OpenTradeEquity\",\"\"&$D$3&\"\"),\"\")","v":""},null,{"$f":"IF(C19=0,\"\",IF($D$1=\"B\",RTD(\"cqg.rtd\", ,\"ContractData\",D19, \"LastTrade\",,\"B\"),TEXT(RTD(\"cqg.rtd\", ,\"ContractData\",D19, \"LastTrade\",, \"T\"),$D$1)))","v":""},{"$f":"IF(RTD(\"cqg.rtd\",,\"ContractData\",D19,\"LastTrade\",,\"T\")<RTD(\"cqg.rtd\",,\"ContractData\",D19,\"Bid\",,\"T\"),1,IF(RTD(\"cqg.rtd\",,\"ContractData\",D19,\"LastTrade\",,\"T\")>RTD(\"cqg.rtd\",,\"ContractData\",D19,\"Ask\",,\"T\"),1,0))","v":0},{"$f":"IF(C19=1,RTD(\"cqg.rtd\", ,\"ContractData\",D19, \"TMLastTrade\",, \"T\"),\"\")","v":""},"",{"$f":"IF(C19=1,RTD(\"cqg.rtd\", ,\"ContractData\",D19, \"MT_LastBidVolume\",, \"T\"),\"\")","v":""},{"$f":"IF(C19=0,\"\",IF($D$1=\"B\",RTD(\"cqg.rtd\", ,\"ContractData\",D19, \"Bid\",,\"B\"),TEXT(RTD(\"cqg.rtd\", ,\"ContractData\",D19, \"Bid\",, \"T\"),$D$1)))","v":""},0,{"$f":"IF(C19=0,\"\",IF(LEFT(D19,1)=\"F\",\"\",IF($D$1=\"B\",RTD(\"cqg.rtd\", ,\"ContractData\",D19, \"TheoreticalValue\",,\"B\"),TEXT(RTD(\"cqg.rtd\", ,\"ContractData\",D19, \"TheoreticalValue\",, \"T\"),$D$1))))","v":""},0,{"$f":"IF(C19=0,\"\",IF($D$1=\"B\",RTD(\"cqg.rtd\", ,\"ContractData\",D19, \"Ask\",,\"B\"),TEXT(RTD(\"cqg.rtd\", ,\"ContractData\",D19, \"Ask\",, \"T\"),$D$1)))","v":""},{"$f":"IF(C19=1,RTD(\"cqg.rtd\", ,\"ContractData\",D19, \"MT_LastAskVolume\",, \"T\"),\"\")","v":""},"",null,null,{"$f":"IF(C19=1,RTD(\"cqg.rtd\", ,\"ContractData\",D19, \"T_CVol\",, \"T\"),\"\")","v":""},{"$f":"IF(C19=1,RTD(\"cqg.rtd\", ,\"ContractData\",D19, \"COI\",, \"T\"),\"\")","v":""},{"$f":"IF(C19=1,RTD(\"cqg.rtd\", ,\"ContractData\",D19, \"ImpliedVolatility\",, \"T\"),\"\")","v":""},{"$f":"IF(C19=1,RTD(\"cqg.rtd\", ,\"ContractData\",D19, \"Vega\",, \"T\"),\"\")","v":""},{"$f":"IF(C19=0,\"\",IF(LEFT(D19,1)=\"F\",H19*100,H19*RTD(\"cqg.rtd\",,\"ContractData\",D19,\"Delta\",,\"T\")))","v":""},{"$f":"IF(C19=1,RTD(\"cqg.rtd\", ,\"ContractData\",D19, \"Gamma\",, \"T\"),\"\")","v":""},{"$f":"IF(C19=1,IF(H19<0,-1*RTD(\"cqg.rtd\", ,\"ContractData\",D19, \"Theta\",, \"T\"),RTD(\"cqg.rtd\", ,\"ContractData\",D19, \"Theta\",, \"T\")),\"\")","v":""},{"$f":"IF(C19=0,\"\",IF(LEFT(D19,1)=\"F\",(RTD(\"cqg.rtd\",,\"ContractData\",D19,\"ExpirationDate\",,\"T\")-TODAY()),RTD(\"cqg.rtd\",,\"ContractData\",D19,\"OptionDaysToExp\",,\"T\")))","v":""}]
["TMLastBid","TMLastAsk",{"$f":"IF(LOOKUP(15,Fifth!A1:A448)<>15,0,1)","v":0},{"$f":"IF(C20=1,VLOOKUP(Fifth!I15,INDIRECT($A$2),2),\"\")","v":""},null,null,"",{"$f":"IF(C20=1,RTD(\"cqg.rtd\", ,\"OrderData\", \"\"&D20&\"\", \"\", \"OpenPosition\",\"\"&$D$3&\"\"),\"\")","v":""},{"$f":"IF(C20=1,RTD(\"cqg.rtd\", ,\"OrderData\",\"\"&D20&\"\", \"\", \"OpenTradeEquity\",\"\"&$D$3&\"\"),\"\")","v":""},null,{"$f":"IF(C20=0,\"\",IF($D$1=\"B\",RTD(\"cqg.rtd\", ,\"ContractData\",D20, \"LastTrade\",,\"B\"),TEXT(RTD(\"cqg.rtd\", ,\"ContractData\",D20, \"LastTrade\",, \"T\"),$D$1)))","v":""},{"$f":"IF(RTD(\"cqg.rtd\",,\"ContractData\",D20,\"LastTrade\",,\"T\")<RTD(\"cqg.rtd\",,\"ContractData\",D20,\"Bid\",,\"T\"),1,IF(RTD(\"cqg.rtd\",,\"ContractData\",D20,\"LastTrade\",,\"T\")>RTD(\"cqg.rtd\",,\"ContractData\",D20,\"Ask\",,\"T\"),1,0))","v":0},{"$f":"IF(C20=1,RTD(\"cqg.rtd\", ,\"ContractData\",D20, \"TMLastTrade\",, \"T\"),\"\")","v":""},"",{"$f":"IF(C20=1,RTD(\"cqg.rtd\", ,\"ContractData\",D20, \"MT_LastBidVolume\",, \"T\"),\"\")","v":""},{"$f":"IF(C20=0,\"\",IF($D$1=\"B\",RTD(\"cqg.rtd\", ,\"ContractData\",D20, \"Bid\",,\"B\"),TEXT(RTD(\"cqg.rtd\", ,\"ContractData\",D20, \"Bid\",, \"T\"),$D$1)))","v":""},0,{"$f":"IF(C20=0,\"\",IF(LEFT(D20,1)=\"F\",\"\",IF($D$1=\"B\",RTD(\"cqg.rtd\", ,\"ContractData\",D20, \"TheoreticalValue\",,\"B\"),TEXT(RTD(\"cqg.rtd\", ,\"ContractData\",D20, \"TheoreticalValue\",, \"T\"),$D$1))))","v":""},0,{"$f":"IF(C20=0,\"\",IF($D$1=\"B\",RTD(\"cqg.rtd\", ,\"ContractData\",D20, \"Ask\",,\"B\"),TEXT(RTD(\"cqg.rtd\", ,\"ContractData\",D20, \"Ask\",, \"T\"),$D$1)))","v":""},{"$f":"IF(C20=1,RTD(\"cqg.rtd\", ,\"ContractData\",D20, \"MT_LastAskVolume\",, \"T\"),\"\")","v":""},"",null,null,{"$f":"IF(C20=1,RTD(\"cqg.rtd\", ,\"ContractData\",D20, \"T_CVol\",, \"T\"),\"\")","v":""},{"$f":"IF(C20=1,RTD(\"cqg.rtd\", ,\"ContractData\",D20, \"COI\",, \"T\"),\"\")","v":""},{"$f":"IF(C20=1,RTD(\"cqg.rtd\", ,\"ContractData\",D20, \"ImpliedVolatility\",, \"T\"),\"\")","v":""},{"$f":"IF(C20=1,RTD(\"cqg.rtd\", ,\"ContractData\",D20, \"Vega\",, \"T\"),\"\")","v":""},{"$f":"IF(C20=0,\"\",IF(LEFT(D20,1)=\"F\",H20*100,H20*RTD(\"cqg.rtd\",,\"ContractData\",D20,\"Delta\",,\"T\")))","v":""},{"$f":"IF(C20=1,RTD(\"cqg.rtd\", ,\"ContractData\",D20, \"Gamma\",, \"T\"),\"\")","v":""},{"$f":"IF(C20=1,IF(H20<0,-1*RTD(\"cqg.rtd\", ,\"ContractData\",D20, \"Theta\",, \"T\"),RTD(\"cqg.rtd\", ,\"ContractData\",D20, \"Theta\",, \"T\")),\"\")","v":""},{"$f":"IF(C20=0,\"\",IF(LEFT(D20,1)=\"F\",(RTD(\"cqg.rtd\",,\"ContractData\",D20,\"ExpirationDate\",,\"T\")-TODAY()),RTD(\"cqg.rtd\",,\"ContractData\",D20,\"OptionDaysToExp\",,\"T\")))","v":""}]
["TMLastBid","TMLastAsk",{"$f":"IF(LOOKUP(16,Fifth!A1:A448)<>16,0,1)","v":0},{"$f":"IF(C21=1,VLOOKUP(Fifth!I16,INDIRECT($A$2),2),\"\")","v":""},null,null,"",{"$f":"IF(C21=1,RTD(\"cqg.rtd\", ,\"OrderData\", \"\"&D21&\"\", \"\", \"OpenPosition\",\"\"&$D$3&\"\"),\"\")","v":""},{"$f":"IF(C21=1,RTD(\"cqg.rtd\", ,\"OrderData\",\"\"&D21&\"\", \"\", \"OpenTradeEquity\",\"\"&$D$3&\"\"),\"\")","v":""},null,{"$f":"IF(C21=0,\"\",IF($D$1=\"B\",RTD(\"cqg.rtd\", ,\"ContractData\",D21, \"LastTrade\",,\"B\"),TEXT(RTD(\"cqg.rtd\", ,\"ContractData\",D21, \"LastTrade\",, \"T\"),$D$1)))","v":""},{"$f":"IF(RTD(\"cqg.rtd\",,\"ContractData\",D21,\"LastTrade\",,\"T\")<RTD(\"cqg.rtd\",,\"ContractData\",D21,\"Bid\",,\"T\"),1,IF(RTD(\"cqg.rtd\",,\"ContractData\",D21,\"LastTrade\",,\"T\")>RTD(\"cqg.rtd\",,\"ContractData\",D21,\"Ask\",,\"T\"),1,0))","v":0},{"$f":"IF(C21=1,RTD(\"cqg.rtd\", ,\"ContractData\",D21, \"TMLastTrade\",, \"T\"),\"\")","v":""},"",{"$f":"IF(C21=1,RTD(\"cqg.rtd\", ,\"ContractData\",D21, \"MT_LastBidVolume\",, \"T\"),\"\")","v":""},{"$f":"IF(C21=0,\"\",IF($D$1=\"B\",RTD(\"cqg.rtd\", ,\"ContractData\",D21, \"Bid\",,\"B\"),TEXT(RTD(\"cqg.rtd\", ,\"ContractData\",D21, \"Bid\",, \"T\"),$D$1)))","v":""},0,{"$f":"IF(C21=0,\"\",IF(LEFT(D21,1)=\"F\",\"\",IF($D$1=\"B\",RTD(\"cqg.rtd\", ,\"ContractData\",D21, \"TheoreticalValue\",,\"B\"),TEXT(RTD(\"cqg.rtd\", ,\"ContractData\",D21, \"TheoreticalValue\",, \"T\"),$D$1))))","v":""},0,{"$f":"IF(C21=0,\"\",IF($D$1=\"B\",RTD(\"cqg.rtd\", ,\"ContractData\",D21, \"Ask\",,\"B\"),TEXT(RTD(\"cqg.rtd\", ,\"ContractData\",D21, \"Ask\",, \"T\"),$D$1)))","v":""},{"$f":"IF(C21=1,RTD(\"cqg.rtd\", ,\"ContractData\",D21, \"MT_LastAskVolume\",, \"T\"),\"\")","v":""},"",null,null,{"$f":"IF(C21=1,RTD(\"cqg.rtd\", ,\"ContractData\",D21, \"T_CVol\",, \"T\"),\"\")","v":""},{"$f":"IF(C21=1,RTD(\"cqg.rtd\", ,\"ContractData\",D21, \"COI\",, \"T\"),\"\")","v":""},{"$f":"IF(C21=1,RTD(\"cqg.rtd\", ,\"ContractData\",D21, \"ImpliedVolatility\",, \"T\"),\"\")","v":""},{"$f":"IF(C21=1,RTD(\"cqg.rtd\", ,\"ContractData\",D21, \"Vega\",, \"T\"),\"\")","v":""},{"$f":"IF(C21=0,\"\",IF(LEFT(D21,1)=\"F\",H21*100,H21*RTD(\"cqg.rtd\",,\"ContractData\",D21,\"Delta\",,\"T\")))","v":""},{"$f":"IF(C21=1,RTD(\"cqg.rtd\", ,\"ContractData\",D21, \"Gamma\",, \"T\"),\"\")","v":""},{"$f":"IF(C21=1,IF(H21<0,-1*RTD(\"cqg.rtd\", ,\"ContractData\",D21, \"Theta\",, \"T\"),RTD(\"cqg.rtd\", ,\"ContractData\",D21, \"Theta\",, \"T\")),\"\")","v":""},{"$f":"IF(C21=0,\"\",IF(LEFT(D21,1)=\"F\",(RTD(\"cqg.rtd\",,\"ContractData\",D21,\"ExpirationDate\",,\"T\")-TODAY()),RTD(\"cqg.rtd\",,\"ContractData\",D21,\"OptionDaysToExp\",,\"T\")))","v":""}]
["TMLastBid","TMLastAsk",{"$f":"IF(LOOKUP(17,Fifth!A1:A448)<>17,0,1)","v":0},{"$f":"IF(C22=1,VLOOKUP(Fifth!I17,INDIRECT($A$2),2),\"\")","v":""},null,null,"",{"$f":"IF(C22=1,RTD(\"cqg.rtd\", ,\"OrderData\", \"\"&D22&\"\", \"\", \"OpenPosition\",\"\"&$D$3&\"\"),\"\")","v":""},{"$f":"IF(C22=1,RTD(\"cqg.rtd\", ,\"OrderData\",\"\"&D22&\"\", \"\", \"OpenTradeEquity\",\"\"&$D$3&\"\"),\"\")","v":""},null,{"$f":"IF(C22=0,\"\",IF($D$1=\"B\",RTD(\"cqg.rtd\", ,\"ContractData\",D22, \"LastTrade\",,\"B\"),TEXT(RTD(\"cqg.rtd\", ,\"ContractData\",D22, \"LastTrade\",, \"T\"),$D$1)))","v":""},{"$f":"IF(RTD(\"cqg.rtd\",,\"ContractData\",D22,\"LastTrade\",,\"T\")<RTD(\"cqg.rtd\",,\"ContractData\",D22,\"Bid\",,\"T\"),1,IF(RTD(\"cqg.rtd\",,\"ContractData\",D22,\"LastTrade\",,\"T\")>RTD(\"cqg.rtd\",,\"ContractData\",D22,\"Ask\",,\"T\"),1,0))","v":0},{"$f":"IF(C22=1,RTD(\"cqg.rtd\", ,\"ContractData\",D22, \"TMLastTrade\",, \"T\"),\"\")","v":""},"",{"$f":"IF(C22=1,RTD(\"cqg.rtd\", ,\"ContractData\",D22, \"MT_LastBidVolume\",, \"T\"),\"\")","v":""},{"$f":"IF(C22=0,\"\",IF($D$1=\"B\",RTD(\"cqg.rtd\", ,\"ContractData\",D22, \"Bid\",,\"B\"),TEXT(RTD(\"cqg.rtd\", ,\"ContractData\",D22, \"Bid\",, \"T\"),$D$1)))","v":""},0,{"$f":"IF(C22=0,\"\",IF(LEFT(D22,1)=\"F\",\"\",IF($D$1=\"B\",RTD(\"cqg.rtd\", ,\"ContractData\",D22, \"TheoreticalValue\",,\"B\"),TEXT(RTD(\"cqg.rtd\", ,\"ContractData\",D22, \"TheoreticalValue\",, \"T\"),$D$1))))","v":""},0,{"$f":"IF(C22=0,\"\",IF($D$1=\"B\",RTD(\"cqg.rtd\", ,\"ContractData\",D22, \"Ask\",,\"B\"),TEXT(RTD(\"cqg.rtd\", ,\"ContractData\",D22, \"Ask\",, \"T\"),$D$1)))","v":""},{"$f":"IF(C22=1,RTD(\"cqg.rtd\", ,\"ContractData\",D22, \"MT_LastAskVolume\",, \"T\"),\"\")","v":""},"",null,null,{"$f":"IF(C22=1,RTD(\"cqg.rtd\", ,\"ContractData\",D22, \"T_CVol\",, \"T\"),\"\")","v":""},{"$f":"IF(C22=1,RTD(\"cqg.rtd\", ,\"ContractData\",D22, \"COI\",, \"T\"),\"\")","v":""},{"$f":"IF(C22=1,RTD(\"cqg.rtd\", ,\"ContractData\",D22, \"ImpliedVolatility\",, \"T\"),\"\")","v":""},{"$f":"IF(C22=1,RTD(\"cqg.rtd\", ,\"ContractData\",D22, \"Vega\",, \"T\"),\"\")","v":""},{"$f":"IF(C22=0,\"\",IF(LEFT(D22,1)=\"F\",H22*100,H22*RTD(\"cqg.rtd\",,\"ContractData\",D22,\"Delta\",,\"T\")))","v":""},{"$f":"IF(C22=1,RTD(\"cqg.rtd\", ,\"ContractData\",D22, \"Gamma\",, \"T\"),\"\")","v":""},{"$f":"IF(C22=1,IF(H22<0,-1*RTD(\"cqg.rtd\", ,\"ContractData\",D22, \"Theta\",, \"T\"),RTD(\"cqg.rtd\", ,\"ContractData\",D22, \"Theta\",, \"T\")),\"\")","v":""},{"$f":"IF(C22=0,\"\",IF(LEFT(D22,1)=\"F\",(RTD(\"cqg.rtd\",,\"ContractData\",D22,\"ExpirationDate\",,\"T\")-TODAY()),RTD(\"cqg.rtd\",,\"ContractData\",D22,\"OptionDaysToExp\",,\"T\")))","v":""}]
["TMLastBid","TMLastAsk",{"$f":"IF(LOOKUP(18,Fifth!A1:A448)<>18,0,1)","v":0},{"$f":"IF(C23=1,VLOOKUP(Fifth!I18,INDIRECT($A$2),2),\"\")","v":""},null,null,"",{"$f":"IF(C23=1,RTD(\"cqg.rtd\", ,\"OrderData\", \"\"&D23&\"\", \"\", \"OpenPosition\",\"\"&$D$3&\"\"),\"\")","v":""},{"$f":"IF(C23=1,RTD(\"cqg.rtd\", ,\"OrderData\",\"\"&D23&\"\", \"\", \"OpenTradeEquity\",\"\"&$D$3&\"\"),\"\")","v":""},null,{"$f":"IF(C23=0,\"\",IF($D$1=\"B\",RTD(\"cqg.rtd\", ,\"ContractData\",D23, \"LastTrade\",,\"B\"),TEXT(RTD(\"cqg.rtd\", ,\"ContractData\",D23, \"LastTrade\",, \"T\"),$D$1)))","v":""},{"$f":"IF(RTD(\"cqg.rtd\",,\"ContractData\",D23,\"LastTrade\",,\"T\")<RTD(\"cqg.rtd\",,\"ContractData\",D23,\"Bid\",,\"T\"),1,IF(RTD(\"cqg.rtd\",,\"ContractData\",D23,\"LastTrade\",,\"T\")>RTD(\"cqg.rtd\",,\"ContractData\",D23,\"Ask\",,\"T\"),1,0))","v":0},{"$f":"IF(C23=1,RTD(\"cqg.rtd\", ,\"ContractData\",D23, \"TMLastTrade\",, \"T\"),\"\")","v":""},"",{"$f":"IF(C23=1,RTD(\"cqg.rtd\", ,\"ContractData\",D23, \"MT_LastBidVolume\",, \"T\"),\"\")","v":""},{"$f":"IF(C23=0,\"\",IF($D$1=\"B\",RTD(\"cqg.rtd\", ,\"ContractData\",D23, \"Bid\",,\"B\"),TEXT(RTD(\"cqg.rtd\", ,\"ContractData\",D23, \"Bid\",, \"T\"),$D$1)))","v":""},0,{"$f":"IF(C23=0,\"\",IF(LEFT(D23,1)=\"F\",\"\",IF($D$1=\"B\",RTD(\"cqg.rtd\", ,\"ContractData\",D23, \"TheoreticalValue\",,\"B\"),TEXT(RTD(\"cqg.rtd\", ,\"ContractData\",D23, \"TheoreticalValue\",, \"T\"),$D$1))))","v":""},0,{"$f":"IF(C23=0,\"\",IF($D$1=\"B\",RTD(\"cqg.rtd\", ,\"ContractData\",D23, \"Ask\",,\"B\"),TEXT(RTD(\"cqg.rtd\", ,\"ContractData\",D23, \"Ask\",, \"T\"),$D$1)))","v":""},{"$f":"IF(C23=1,RTD(\"cqg.rtd\", ,\"ContractData\",D23, \"MT_LastAskVolume\",, \"T\"),\"\")","v":""},"",null,null,{"$f":"IF(C23=1,RTD(\"cqg.rtd\", ,\"ContractData\",D23, \"T_CVol\",, \"T\"),\"\")","v":""},{"$f":"IF(C23=1,RTD(\"cqg.rtd\", ,\"ContractData\",D23, \"COI\",, \"T\"),\"\")","v":""},{"$f":"IF(C23=1,RTD(\"cqg.rtd\", ,\"ContractData\",D23, \"ImpliedVolatility\",, \"T\"),\"\")","v":""},{"$f":"IF(C23=1,RTD(\"cqg.rtd\", ,\"ContractData\",D23, \"Vega\",, \"T\"),\"\")","v":""},{"$f":"IF(C23=0,\"\",IF(LEFT(D23,1)=\"F\",H23*100,H23*RTD(\"cqg.rtd\",,\"ContractData\",D23,\"Delta\",,\"T\")))","v":""},{"$f":"IF(C23=1,RTD(\"cqg.rtd\", ,\"ContractData\",D23, \"Gamma\",, \"T\"),\"\")","v":""},{"$f":"IF(C23=1,IF(H23<0,-1*RTD(\"cqg.rtd\", ,\"ContractData\",D23, \"Theta\",, \"T\"),RTD(\"cqg.rtd\", ,\"ContractData\",D23, \"Theta\",, \"T\")),\"\")","v":""},{"$f":"IF(C23=0,\"\",IF(LEFT(D23,1)=\"F\",(RTD(\"cqg.rtd\",,\"ContractData\",D23,\"ExpirationDate\",,\"T\")-TODAY()),RTD(\"cqg.rtd\",,\"ContractData\",D23,\"OptionDaysToExp\",,\"T\")))","v":""}]
["TMLastBid","TMLastAsk",{"$f":"IF(LOOKUP(19,Fifth!A1:A448)<>19,0,1)","v":0},{"$f":"IF(C24=1,VLOOKUP(Fifth!I19,INDIRECT($A$2),2),\"\")","v":""},null,null,"",{"$f":"IF(C24=1,RTD(\"cqg.rtd\", ,\"OrderData\", \"\"&D24&\"\", \"\", \"OpenPosition\",\"\"&$D$3&\"\"),\"\")","v":""},{"$f":"IF(C24=1,RTD(\"cqg.rtd\", ,\"OrderData\",\"\"&D24&\"\", \"\", \"OpenTradeEquity\",\"\"&$D$3&\"\"),\"\")","v":""},null,{"$f":"IF(C24=0,\"\",IF($D$1=\"B\",RTD(\"cqg.rtd\", ,\"ContractData\",D24, \"LastTrade\",,\"B\"),TEXT(RTD(\"cqg.rtd\", ,\"ContractData\",D24, \"LastTrade\",, \"T\"),$D$1)))","v":""},{"$f":"IF(RTD(\"cqg.rtd\",,\"ContractData\",D24,\"LastTrade\",,\"T\")<RTD(\"cqg.rtd\",,\"ContractData\",D24,\"Bid\",,\"T\"),1,IF(RTD(\"cqg.rtd\",,\"ContractData\",D24,\"LastTrade\",,\"T\")>RTD(\"cqg.rtd\",,\"ContractData\",D24,\"Ask\",,\"T\"),1,0))","v":0},{"$f":"IF(C24=1,RTD(\"cqg.rtd\", ,\"ContractData\",D24, \"TMLastTrade\",, \"T\"),\"\")","v":""},"",{"$f":"IF(C24=1,RTD(\"cqg.rtd\", ,\"ContractData\",D24, \"MT_LastBidVolume\",, \"T\"),\"\")","v":""},{"$f":"IF(C24=0,\"\",IF($D$1=\"B\",RTD(\"cqg.rtd\", ,\"ContractData\",D24, \"Bid\",,\"B\"),TEXT(RTD(\"cqg.rtd\", ,\"ContractData\",D24, \"Bid\",, \"T\"),$D$1)))","v":""},0,{"$f":"IF(C24=0,\"\",IF(LEFT(D24,1)=\"F\",\"\",IF($D$1=\"B\",RTD(\"cqg.rtd\", ,\"ContractData\",D24, \"TheoreticalValue\",,\"B\"),TEXT(RTD(\"cqg.rtd\", ,\"ContractData\",D24, \"TheoreticalValue\",, \"T\"),$D$1))))","v":""},0,{"$f":"IF(C24=0,\"\",IF($D$1=\"B\",RTD(\"cqg.rtd\", ,\"ContractData\",D24, \"Ask\",,\"B\"),TEXT(RTD(\"cqg.rtd\", ,\"ContractData\",D24, \"Ask\",, \"T\"),$D$1)))","v":""},{"$f":"IF(C24=1,RTD(\"cqg.rtd\", ,\"ContractData\",D24, \"MT_LastAskVolume\",, \"T\"),\"\")","v":""},"",null,null,{"$f":"IF(C24=1,RTD(\"cqg.rtd\", ,\"ContractData\",D24, \"T_CVol\",, \"T\"),\"\")","v":""},{"$f":"IF(C24=1,RTD(\"cqg.rtd\", ,\"ContractData\",D24, \"COI\",, \"T\"),\"\")","v":""},{"$f":"IF(C24=1,RTD(\"cqg.rtd\", ,\"ContractData\",D24, \"ImpliedVolatility\",, \"T\"),\"\")","v":""},{"$f":"IF(C24=1,RTD(\"cqg.rtd\", ,\"ContractData\",D24, \"Vega\",, \"T\"),\"\")","v":""},{"$f":"IF(C24=0,\"\",IF(LEFT(D24,1)=\"F\",H24*100,H24*RTD(\"cqg.rtd\",,\"ContractData\",D24,\"Delta\",,\"T\")))","v":""},{"$f":"IF(C24=1,RTD(\"cqg.rtd\", ,\"ContractData\",D24, \"Gamma\",, \"T\"),\"\")","v":""},{"$f":"IF(C24=1,IF(H24<0,-1*RTD(\"cqg.rtd\", ,\"ContractData\",D24, \"Theta\",, \"T\"),RTD(\"cqg.rtd\", ,\"ContractData\",D24, \"Theta\",, \"T\")),\"\")","v":""},{"$f":"IF(C24=0,\"\",IF(LEFT(D24,1)=\"F\",(RTD(\"cqg.rtd\",,\"ContractData\",D24,\"ExpirationDate\",,\"T\")-TODAY()),RTD(\"cqg.rtd\",,\"ContractData\",D24,\"OptionDaysToExp\",,\"T\")))","v":""}]
["TMLastBid","TMLastAsk",{"$f":"IF(LOOKUP(20,Fifth!A1:A448)<>20,0,1)","v":0},{"$f":"IF(C25=1,VLOOKUP(Fifth!I20,INDIRECT($A$2),2),\"\")","v":""},null,null,"",{"$f":"IF(C25=1,RTD(\"cqg.rtd\", ,\"OrderData\", \"\"&D25&\"\", \"\", \"OpenPosition\",\"\"&$D$3&\"\"),\"\")","v":""},{"$f":"IF(C25=1,RTD(\"cqg.rtd\", ,\"OrderData\",\"\"&D25&\"\", \"\", \"OpenTradeEquity\",\"\"&$D$3&\"\"),\"\")","v":""},null,{"$f":"IF(C25=0,\"\",IF($D$1=\"B\",RTD(\"cqg.rtd\", ,\"ContractData\",D25, \"LastTrade\",,\"B\"),TEXT(RTD(\"cqg.rtd\", ,\"ContractData\",D25, \"LastTrade\",, \"T\"),$D$1)))","v":""},{"$f":"IF(RTD(\"cqg.rtd\",,\"ContractData\",D25,\"LastTrade\",,\"T\")<RTD(\"cqg.rtd\",,\"ContractData\",D25,\"Bid\",,\"T\"),1,IF(RTD(\"cqg.rtd\",,\"ContractData\",D25,\"LastTrade\",,\"T\")>RTD(\"cqg.rtd\",,\"ContractData\",D25,\"Ask\",,\"T\"),1,0))","v":0},{"$f":"IF(C25=1,RTD(\"cqg.rtd\", ,\"ContractData\",D25, \"TMLastTrade\",, \"T\"),\"\")","v":""},"",{"$f":"IF(C25=1,RTD(\"cqg.rtd\", ,\"ContractData\",D25, \"MT_LastBidVolume\",, \"T\"),\"\")","v":""},{"$f":"IF(C25=0,\"\",IF($D$1=\"B\",RTD(\"cqg.rtd\", ,\"ContractData\",D25, \"Bid\",,\"B\"),TEXT(RTD(\"cqg.rtd\", ,\"ContractData\",D25, \"Bid\",, \"T\"),$D$1)))","v":""},0,{"$f":"IF(C25=0,\"\",IF(LEFT(D25,1)=\"F\",\"\",IF($D$1=\"B\",RTD(\"cqg.rtd\", ,\"ContractData\",D25, \"TheoreticalValue\",,\"B\"),TEXT(RTD(\"cqg.rtd\", ,\"ContractData\",D25, \"TheoreticalValue\",, \"T\"),$D$1))))","v":""},0,{"$f":"IF(C25=0,\"\",IF($D$1=\"B\",RTD(\"cqg.rtd\", ,\"ContractData\",D25, \"Ask\",,\"B\"),TEXT(RTD(\"cqg.rtd\", ,\"ContractData\",D25, \"Ask\",, \"T\"),$D$1)))","v":""},{"$f":"IF(C25=1,RTD(\"cqg.rtd\", ,\"ContractData\",D25, \"MT_LastAskVolume\",, \"T\"),\"\")","v":""},"",null,null,{"$f":"IF(C25=1,RTD(\"cqg.rtd\", ,\"ContractData\",D25, \"T_CVol\",, \"T\"),\"\")","v":""},{"$f":"IF(C25=1,RTD(\"cqg.rtd\", ,\"ContractData\",D25, \"COI\",, \"T\"),\"\")","v":""},{"$f":"IF(C25=1,RTD(\"cqg.rtd\", ,\"ContractData\",D25, \"ImpliedVolatility\",, \"T\"),\"\")","v":""},{"$f":"IF(C25=1,RTD(\"cqg.rtd\", ,\"ContractData\",D25, \"Vega\",, \"T\"),\"\")","v":""},{"$f":"IF(C25=0,\"\",IF(LEFT(D25,1)=\"F\",H25*100,H25*RTD(\"cqg.rtd\",,\"ContractData\",D25,\"Delta\",,\"T\")))","v":""},{"$f":"IF(C25=1,RTD(\"cqg.rtd\", ,\"ContractData\",D25, \"Gamma\",, \"T\"),\"\")","v":""},{"$f":"IF(C25=1,IF(H25<0,-1*RTD(\"cqg.rtd\", ,\"ContractData\",D25, \"Theta\",, \"T\"),RTD(\"cqg.rtd\", ,\"ContractData\",D25, \"Theta\",, \"T\")),\"\")","v":""},{"$f":"IF(C25=0,\"\",IF(LEFT(D25,1)=\"F\",(RTD(\"cqg.rtd\",,\"ContractData\",D25,\"ExpirationDate\",,\"T\")-TODAY()),RTD(\"cqg.rtd\",,\"ContractData\",D25,\"OptionDaysToExp\",,\"T\")))","v":""}]
["TMLastBid","TMLastAsk",{"$f":"IF(LOOKUP(21,Fifth!A1:A448)<>21,0,1)","v":0},{"$f":"IF(C26=1,VLOOKUP(Fifth!I21,INDIRECT($A$2),2),\"\")","v":""},null,null,"",{"$f":"IF(C26=1,RTD(\"cqg.rtd\", ,\"OrderData\", \"\"&D26&\"\", \"\", \"OpenPosition\",\"\"&$D$3&\"\"),\"\")","v":""},{"$f":"IF(C26=1,RTD(\"cqg.rtd\", ,\"OrderData\",\"\"&D26&\"\", \"\", \"OpenTradeEquity\",\"\"&$D$3&\"\"),\"\")","v":""},null,{"$f":"IF(C26=0,\"\",IF($D$1=\"B\",RTD(\"cqg.rtd\", ,\"ContractData\",D26, \"LastTrade\",,\"B\"),TEXT(RTD(\"cqg.rtd\", ,\"ContractData\",D26, \"LastTrade\",, \"T\"),$D$1)))","v":""},{"$f":"IF(RTD(\"cqg.rtd\",,\"ContractData\",D26,\"LastTrade\",,\"T\")<RTD(\"cqg.rtd\",,\"ContractData\",D26,\"Bid\",,\"T\"),1,IF(RTD(\"cqg.rtd\",,\"ContractData\",D26,\"LastTrade\",,\"T\")>RTD(\"cqg.rtd\",,\"ContractData\",D26,\"Ask\",,\"T\"),1,0))","v":0},{"$f":"IF(C26=1,RTD(\"cqg.rtd\", ,\"ContractData\",D26, \"TMLastTrade\",, \"T\"),\"\")","v":""},"",{"$f":"IF(C26=1,RTD(\"cqg.rtd\", ,\"ContractData\",D26, \"MT_LastBidVolume\",, \"T\"),\"\")","v":""},{"$f":"IF(C26=0,\"\",IF($D$1=\"B\",RTD(\"cqg.rtd\", ,\"ContractData\",D26, \"Bid\",,\"B\"),TEXT(RTD(\"cqg.rtd\", ,\"ContractData\",D26, \"Bid\",, \"T\"),$D$1)))","v":""},0,{"$f":"IF(C26=0,\"\",IF(LEFT(D26,1)=\"F\",\"\",IF($D$1=\"B\",RTD(\"cqg.rtd\", ,\"ContractData\",D26, \"TheoreticalValue\",,\"B\"),TEXT(RTD(\"cqg.rtd\", ,\"ContractData\",D26, \"TheoreticalValue\",, \"T\"),$D$1))))","v":""},0,{"$f":"IF(C26=0,\"\",IF($D$1=\"B\",RTD(\"cqg.rtd\", ,\"ContractData\",D26, \"Ask\",,\"B\"),TEXT(RTD(\"cqg.rtd\", ,\"ContractData\",D26, \"Ask\",, \"T\"),$D$1)))","v":""},{"$f":"IF(C26=1,RTD(\"cqg.rtd\", ,\"ContractData\",D26, \"MT_LastAskVolume\",, \"T\"),\"\")","v":""},"",null,null,{"$f":"IF(C26=1,RTD(\"cqg.rtd\", ,\"ContractData\",D26, \"T_CVol\",, \"T\"),\"\")","v":""},{"$f":"IF(C26=1,RTD(\"cqg.rtd\", ,\"ContractData\",D26, \"COI\",, \"T\"),\"\")","v":""},{"$f":"IF(C26=1,RTD(\"cqg.rtd\", ,\"ContractData\",D26, \"ImpliedVolatility\",, \"T\"),\"\")","v":""},{"$f":"IF(C26=1,RTD(\"cqg.rtd\", ,\"ContractData\",D26, \"Vega\",, \"T\"),\"\")","v":""},{"$f":"IF(C26=0,\"\",IF(LEFT(D26,1)=\"F\",H26*100,H26*RTD(\"cqg.rtd\",,\"ContractData\",D26,\"Delta\",,\"T\")))","v":""},{"$f":"IF(C26=1,RTD(\"cqg.rtd\", ,\"ContractData\",D26, \"Gamma\",, \"T\"),\"\")","v":""},{"$f":"IF(C26=1,IF(H26<0,-1*RTD(\"cqg.rtd\", ,\"ContractData\",D26, \"Theta\",, \"T\"),RTD(\"cqg.rtd\", ,\"ContractData\",D26, \"Theta\",, \"T\")),\"\")","v":""},{"$f":"IF(C26=0,\"\",IF(LEFT(D26,1)=\"F\",(RTD(\"cqg.rtd\",,\"ContractData\",D26,\"ExpirationDate\",,\"T\")-TODAY()),RTD(\"cqg.rtd\",,\"ContractData\",D26,\"OptionDaysToExp\",,\"T\")))","v":""}]
["TMLastBid","TMLastAsk",{"$f":"IF(LOOKUP(22,Fifth!A1:A448)<>22,0,1)","v":0},{"$f":"IF(C27=1,VLOOKUP(Fifth!I22,INDIRECT($A$2),2),\"\")","v":""},null,null,"",{"$f":"IF(C27=1,RTD(\"cqg.rtd\", ,\"OrderData\", \"\"&D27&\"\", \"\", \"OpenPosition\",\"\"&$D$3&\"\"),\"\")","v":""},{"$f":"IF(C27=1,RTD(\"cqg.rtd\", ,\"OrderData\",\"\"&D27&\"\", \"\", \"OpenTradeEquity\",\"\"&$D$3&\"\"),\"\")","v":""},null,{"$f":"IF(C27=0,\"\",IF($D$1=\"B\",RTD(\"cqg.rtd\", ,\"ContractData\",D27, \"LastTrade\",,\"B\"),TEXT(RTD(\"cqg.rtd\", ,\"ContractData\",D27, \"LastTrade\",, \"T\"),$D$1)))","v":""},{"$f":"IF(RTD(\"cqg.rtd\",,\"ContractData\",D27,\"LastTrade\",,\"T\")<RTD(\"cqg.rtd\",,\"ContractData\",D27,\"Bid\",,\"T\"),1,IF(RTD(\"cqg.rtd\",,\"ContractData\",D27,\"LastTrade\",,\"T\")>RTD(\"cqg.rtd\",,\"ContractData\",D27,\"Ask\",,\"T\"),1,0))","v":0},{"$f":"IF(C27=1,RTD(\"cqg.rtd\", ,\"ContractData\",D27, \"TMLastTrade\",, \"T\"),\"\")","v":""},"",{"$f":"IF(C27=1,RTD(\"cqg.rtd\", ,\"ContractData\",D27, \"MT_LastBidVolume\",, \"T\"),\"\")","v":""},{"$f":"IF(C27=0,\"\",IF($D$1=\"B\",RTD(\"cqg.rtd\", ,\"ContractData\",D27, \"Bid\",,\"B\"),TEXT(RTD(\"cqg.rtd\", ,\"ContractData\",D27, \"Bid\",, \"T\"),$D$1)))","v":""},0,{"$f":"IF(C27=0,\"\",IF(LEFT(D27,1)=\"F\",\"\",IF($D$1=\"B\",RTD(\"cqg.rtd\", ,\"ContractData\",D27, \"TheoreticalValue\",,\"B\"),TEXT(RTD(\"cqg.rtd\", ,\"ContractData\",D27, \"TheoreticalValue\",, \"T\"),$D$1))))","v":""},0,{"$f":"IF(C27=0,\"\",IF($D$1=\"B\",RTD(\"cqg.rtd\", ,\"ContractData\",D27, \"Ask\",,\"B\"),TEXT(RTD(\"cqg.rtd\", ,\"ContractData\",D27, \"Ask\",, \"T\"),$D$1)))","v":""},{"$f":"IF(C27=1,RTD(\"cqg.rtd\", ,\"ContractData\",D27, \"MT_LastAskVolume\",, \"T\"),\"\")","v":""},"",null,null,{"$f":"IF(C27=1,RTD(\"cqg.rtd\", ,\"ContractData\",D27, \"T_CVol\",, \"T\"),\"\")","v":""},{"$f":"IF(C27=1,RTD(\"cqg.rtd\", ,\"ContractData\",D27, \"COI\",, \"T\"),\"\")","v":""},{"$f":"IF(C27=1,RTD(\"cqg.rtd\", ,\"ContractData\",D27, \"ImpliedVolatility\",, \"T\"),\"\")","v":""},{"$f":"IF(C27=1,RTD(\"cqg.rtd\", ,\"ContractData\",D27, \"Vega\",, \"T\"),\"\")","v":""},{"$f":"IF(C27=0,\"\",IF(LEFT(D27,1)=\"F\",H27*100,H27*RTD(\"cqg.rtd\",,\"ContractData\",D27,\"Delta\",,\"T\")))","v":""},{"$f":"IF(C27=1,RTD(\"cqg.rtd\", ,\"ContractData\",D27, \"Gamma\",, \"T\"),\"\")","v":""},{"$f":"IF(C27=1,IF(H27<0,-1*RTD(\"cqg.rtd\", ,\"ContractData\",D27, \"Theta\",, \"T\"),RTD(\"cqg.rtd\", ,\"ContractData\",D27, \"Theta\",, \"T\")),\"\")","v":""},{"$f":"IF(C27=0,\"\",IF(LEFT(D27,1)=\"F\",(RTD(\"cqg.rtd\",,\"ContractData\",D27,\"ExpirationDate\",,\"T\")-TODAY()),RTD(\"cqg.rtd\",,\"ContractData\",D27,\"OptionDaysToExp\",,\"T\")))","v":""}]
["TMLastBid","TMLastAsk",{"$f":"IF(LOOKUP(23,Fifth!A1:A448)<>23,0,1)","v":0},{"$f":"IF(C28=1,VLOOKUP(Fifth!I23,INDIRECT($A$2),2),\"\")","v":""},null,null,"",{"$f":"IF(C28=1,RTD(\"cqg.rtd\", ,\"OrderData\", \"\"&D28&\"\", \"\", \"OpenPosition\",\"\"&$D$3&\"\"),\"\")","v":""},{"$f":"IF(C28=1,RTD(\"cqg.rtd\", ,\"OrderData\",\"\"&D28&\"\", \"\", \"OpenTradeEquity\",\"\"&$D$3&\"\"),\"\")","v":""},null,{"$f":"IF(C28=0,\"\",IF($D$1=\"B\",RTD(\"cqg.rtd\", ,\"ContractData\",D28, \"LastTrade\",,\"B\"),TEXT(RTD(\"cqg.rtd\", ,\"ContractData\",D28, \"LastTrade\",, \"T\"),$D$1)))","v":""},{"$f":"IF(RTD(\"cqg.rtd\",,\"ContractData\",D28,\"LastTrade\",,\"T\")<RTD(\"cqg.rtd\",,\"ContractData\",D28,\"Bid\",,\"T\"),1,IF(RTD(\"cqg.rtd\",,\"ContractData\",D28,\"LastTrade\",,\"T\")>RTD(\"cqg.rtd\",,\"ContractData\",D28,\"Ask\",,\"T\"),1,0))","v":0},{"$f":"IF(C28=1,RTD(\"cqg.rtd\", ,\"ContractData\",D28, \"TMLastTrade\",, \"T\"),\"\")","v":""},"",{"$f":"IF(C28=1,RTD(\"cqg.rtd\", ,\"ContractData\",D28, \"MT_LastBidVolume\",, \"T\"),\"\")","v":""},{"$f":"IF(C28=0,\"\",IF($D$1=\"B\",RTD(\"cqg.rtd\", ,\"ContractData\",D28, \"Bid\",,\"B\"),TEXT(RTD(\"cqg.rtd\", ,\"ContractData\",D28, \"Bid\",, \"T\"),$D$1)))","v":""},0,{"$f":"IF(C28=0,\"\",IF(LEFT(D28,1)=\"F\",\"\",IF($D$1=\"B\",RTD(\"cqg.rtd\", ,\"ContractData\",D28, \"TheoreticalValue\",,\"B\"),TEXT(RTD(\"cqg.rtd\", ,\"ContractData\",D28, \"TheoreticalValue\",, \"T\"),$D$1))))","v":""},0,{"$f":"IF(C28=0,\"\",IF($D$1=\"B\",RTD(\"cqg.rtd\", ,\"ContractData\",D28, \"Ask\",,\"B\"),TEXT(RTD(\"cqg.rtd\", ,\"ContractData\",D28, \"Ask\",, \"T\"),$D$1)))","v":""},{"$f":"IF(C28=1,RTD(\"cqg.rtd\", ,\"ContractData\",D28, \"MT_LastAskVolume\",, \"T\"),\"\")","v":""},"",null,null,{"$f":"IF(C28=1,RTD(\"cqg.rtd\", ,\"ContractData\",D28, \"T_CVol\",, \"T\"),\"\")","v":""},{"$f":"IF(C28=1,RTD(\"cqg.rtd\", ,\"ContractData\",D28, \"COI\",, \"T\"),\"\")","v":""},{"$f":"IF(C28=1,RTD(\"cqg.rtd\", ,\"ContractData\",D28, \"ImpliedVolatility\",, \"T\"),\"\")","v":""},{"$f":"IF(C28=1,RTD(\"cqg.rtd\", ,\"ContractData\",D28, \"Vega\",, \"T\"),\"\")","v":""},{"$f":"IF(C28=0,\"\",IF(LEFT(D28,1)=\"F\",H28*100,H28*RTD(\"cqg.rtd\",,\"ContractData\",D28,\"Delta\",,\"T\")))","v":""},{"$f":"IF(C28=1,RTD(\"cqg.rtd\", ,\"ContractData\",D28, \"Gamma\",, \"T\"),\"\")","v":""},{"$f":"IF(C28=1,IF(H28<0,-1*RTD(\"cqg.rtd\", ,\"ContractData\",D28, \"Theta\",, \"T\"),RTD(\"cqg.rtd\", ,\"ContractData\",D28, \"Theta\",, \"T\")),\"\")","v":""},{"$f":"IF(C28=0,\"\",IF(LEFT(D28,1)=\"F\",(RTD(\"cqg.rtd\",,\"ContractData\",D28,\"ExpirationDate\",,\"T\")-TODAY()),RTD(\"cqg.rtd\",,\"ContractData\",D28,\"OptionDaysToExp\",,\"T\")))","v":""}]
["TMLastBid","TMLastAsk",{"$f":"IF(LOOKUP(24,Fifth!A1:A448)<>24,0,1)","v":0},{"$f":"IF(C29=1,VLOOKUP(Fifth!I24,INDIRECT($A$2),2),\"\")","v":""},null,null,"",{"$f":"IF(C29=1,RTD(\"cqg.rtd\", ,\"OrderData\", \"\"&D29&\"\", \"\", \"OpenPosition\",\"\"&$D$3&\"\"),\"\")","v":""},{"$f":"IF(C29=1,RTD(\"cqg.rtd\", ,\"OrderData\",\"\"&D29&\"\", \"\", \"OpenTradeEquity\",\"\"&$D$3&\"\"),\"\")","v":""},null,{"$f":"IF(C29=0,\"\",IF($D$1=\"B\",RTD(\"cqg.rtd\", ,\"ContractData\",D29, \"LastTrade\",,\"B\"),TEXT(RTD(\"cqg.rtd\", ,\"ContractData\",D29, \"LastTrade\",, \"T\"),$D$1)))","v":""},{"$f":"IF(RTD(\"cqg.rtd\",,\"ContractData\",D29,\"LastTrade\",,\"T\")<RTD(\"cqg.rtd\",,\"ContractData\",D29,\"Bid\",,\"T\"),1,IF(RTD(\"cqg.rtd\",,\"ContractData\",D29,\"LastTrade\",,\"T\")>RTD(\"cqg.rtd\",,\"ContractData\",D29,\"Ask\",,\"T\"),1,0))","v":0},{"$f":"IF(C29=1,RTD(\"cqg.rtd\", ,\"ContractData\",D29, \"TMLastTrade\",, \"T\"),\"\")","v":""},"",{"$f":"IF(C29=1,RTD(\"cqg.rtd\", ,\"ContractData\",D29, \"MT_LastBidVolume\",, \"T\"),\"\")","v":""},{"$f":"IF(C29=0,\"\",IF($D$1=\"B\",RTD(\"cqg.rtd\", ,\"ContractData\",D29, \"Bid\",,\"B\"),TEXT(RTD(\"cqg.rtd\", ,\"ContractData\",D29, \"Bid\",, \"T\"),$D$1)))","v":""},0,{"$f":"IF(C29=0,\"\",IF(LEFT(D29,1)=\"F\",\"\",IF($D$1=\"B\",RTD(\"cqg.rtd\", ,\"ContractData\",D29, \"TheoreticalValue\",,\"B\"),TEXT(RTD(\"cqg.rtd\", ,\"ContractData\",D29, \"TheoreticalValue\",, \"T\"),$D$1))))","v":""},0,{"$f":"IF(C29=0,\"\",IF($D$1=\"B\",RTD(\"cqg.rtd\", ,\"ContractData\",D29, \"Ask\",,\"B\"),TEXT(RTD(\"cqg.rtd\", ,\"ContractData\",D29, \"Ask\",, \"T\"),$D$1)))","v":""},{"$f":"IF(C29=1,RTD(\"cqg.rtd\", ,\"ContractData\",D29, \"MT_LastAskVolume\",, \"T\"),\"\")","v":""},"",null,null,{"$f":"IF(C29=1,RTD(\"cqg.rtd\", ,\"ContractData\",D29, \"T_CVol\",, \"T\"),\"\")","v":""},{"$f":"IF(C29=1,RTD(\"cqg.rtd\", ,\"ContractData\",D29, \"COI\",, \"T\"),\"\")","v":""},{"$f":"IF(C29=1,RTD(\"cqg.rtd\", ,\"ContractData\",D29, \"ImpliedVolatility\",, \"T\"),\"\")","v":""},{"$f":"IF(C29=1,RTD(\"cqg.rtd\", ,\"ContractData\",D29, \"Vega\",, \"T\"),\"\")","v":""},{"$f":"IF(C29=0,\"\",IF(LEFT(D29,1)=\"F\",H29*100,H29*RTD(\"cqg.rtd\",,\"ContractData\",D29,\"Delta\",,\"T\")))","v":""},{"$f":"IF(C29=1,RTD(\"cqg.rtd\", ,\"ContractData\",D29, \"Gamma\",, \"T\"),\"\")","v":""},{"$f":"IF(C29=1,IF(H29<0,-1*RTD(\"cqg.rtd\", ,\"ContractData\",D29, \"Theta\",, \"T\"),RTD(\"cqg.rtd\", ,\"ContractData\",D29, \"Theta\",, \"T\")),\"\")","v":""},{"$f":"IF(C29=0,\"\",IF(LEFT(D29,1)=\"F\",(RTD(\"cqg.rtd\",,\"ContractData\",D29,\"ExpirationDate\",,\"T\")-TODAY()),RTD(\"cqg.rtd\",,\"ContractData\",D29,\"OptionDaysToExp\",,\"T\")))","v":""}]
["TMLastBid","TMLastAsk",{"$f":"IF(LOOKUP(25,Fifth!A1:A448)<>25,0,1)","v":0},{"$f":"IF(C30=1,VLOOKUP(Fifth!I25,INDIRECT($A$2),2),\"\")","v":""},null,null,"",{"$f":"IF(C30=1,RTD(\"cqg.rtd\", ,\"OrderData\", \"\"&D30&\"\", \"\", \"OpenPosition\",\"\"&$D$3&\"\"),\"\")","v":""},{"$f":"IF(C30=1,RTD(\"cqg.rtd\", ,\"OrderData\",\"\"&D30&\"\", \"\", \"OpenTradeEquity\",\"\"&$D$3&\"\"),\"\")","v":""},null,{"$f":"IF(C30=0,\"\",IF($D$1=\"B\",RTD(\"cqg.rtd\", ,\"ContractData\",D30, \"LastTrade\",,\"B\"),TEXT(RTD(\"cqg.rtd\", ,\"ContractData\",D30, \"LastTrade\",, \"T\"),$D$1)))","v":""},{"$f":"IF(RTD(\"cqg.rtd\",,\"ContractData\",D30,\"LastTrade\",,\"T\")<RTD(\"cqg.rtd\",,\"ContractData\",D30,\"Bid\",,\"T\"),1,IF(RTD(\"cqg.rtd\",,\"ContractData\",D30,\"LastTrade\",,\"T\")>RTD(\"cqg.rtd\",,\"ContractData\",D30,\"Ask\",,\"T\"),1,0))","v":0},{"$f":"IF(C30=1,RTD(\"cqg.rtd\", ,\"ContractData\",D30, \"TMLastTrade\",, \"T\"),\"\")","v":""},"",{"$f":"IF(C30=1,RTD(\"cqg.rtd\", ,\"ContractData\",D30, \"MT_LastBidVolume\",, \"T\"),\"\")","v":""},{"$f":"IF(C30=0,\"\",IF($D$1=\"B\",RTD(\"cqg.rtd\", ,\"ContractData\",D30, \"Bid\",,\"B\"),TEXT(RTD(\"cqg.rtd\", ,\"ContractData\",D30, \"Bid\",, \"T\"),$D$1)))","v":""},0,{"$f":"IF(C30=0,\"\",IF(LEFT(D30,1)=\"F\",\"\",IF($D$1=\"B\",RTD(\"cqg.rtd\", ,\"ContractData\",D30, \"TheoreticalValue\",,\"B\"),TEXT(RTD(\"cqg.rtd\", ,\"ContractData\",D30, \"TheoreticalValue\",, \"T\"),$D$1))))","v":""},0,{"$f":"IF(C30=0,\"\",IF($D$1=\"B\",RTD(\"cqg.rtd\", ,\"ContractData\",D30, \"Ask\",,\"B\"),TEXT(RTD(\"cqg.rtd\", ,\"ContractData\",D30, \"Ask\",, \"T\"),$D$1)))","v":""},{"$f":"IF(C30=1,RTD(\"cqg.rtd\", ,\"ContractData\",D30, \"MT_LastAskVolume\",, \"T\"),\"\")","v":""},"",null,null,{"$f":"IF(C30=1,RTD(\"cqg.rtd\", ,\"ContractData\",D30, \"T_CVol\",, \"T\"),\"\")","v":""},{"$f":"IF(C30=1,RTD(\"cqg.rtd\", ,\"ContractData\",D30, \"COI\",, \"T\"),\"\")","v":""},{"$f":"IF(C30=1,RTD(\"cqg.rtd\", ,\"ContractData\",D30, \"ImpliedVolatility\",, \"T\"),\"\")","v":""},{"$f":"IF(C30=1,RTD(\"cqg.rtd\", ,\"ContractData\",D30, \"Vega\",, \"T\"),\"\")","v":""},{"$f":"IF(C30=0,\"\",IF(LEFT(D30,1)=\"F\",H30*100,H30*RTD(\"cqg.rtd\",,\"ContractData\",D30,\"Delta\",,\"T\")))","v":""},{"$f":"IF(C30=1,RTD(\"cqg.rtd\", ,\"ContractData\",D30, \"Gamma\",, \"T\"),\"\")","v":""},{"$f":"IF(C30=1,IF(H30<0,-1*RTD(\"cqg.rtd\", ,\"ContractData\",D30, \"Theta\",, \"T\"),RTD(\"cqg.rtd\", ,\"ContractData\",D30, \"Theta\",, \"T\")),\"\")","v":""},{"$f":"IF(C30=0,\"\",IF(LEFT(D30,1)=\"F\",(RTD(\"cqg.rtd\",,\"ContractData\",D30,\"ExpirationDate\",,\"T\")-TODAY()),RTD(\"cqg.rtd\",,\"ContractData\",D30,\"OptionDaysToExp\",,\"T\")))","v":""}]
["TMLastBid","TMLastAsk",{"$f":"IF(LOOKUP(26,Fifth!A1:A448)<>26,0,1)","v":0},{"$f":"IF(C31=1,VLOOKUP(Fifth!I26,INDIRECT($A$2),2),\"\")","v":""},null,null,"",{"$f":"IF(C31=1,RTD(\"cqg.rtd\", ,\"OrderData\", \"\"&D31&\"\", \"\", \"OpenPosition\",\"\"&$D$3&\"\"),\"\")","v":""},{"$f":"IF(C31=1,RTD(\"cqg.rtd\", ,\"OrderData\",\"\"&D31&\"\", \"\", \"OpenTradeEquity\",\"\"&$D$3&\"\"),\"\")","v":""},null,{"$f":"IF(C31=0,\"\",IF($D$1=\"B\",RTD(\"cqg.rtd\", ,\"ContractData\",D31, \"LastTrade\",,\"B\"),TEXT(RTD(\"cqg.rtd\", ,\"ContractData\",D31, \"LastTrade\",, \"T\"),$D$1)))","v":""},{"$f":"IF(RTD(\"cqg.rtd\",,\"ContractData\",D31,\"LastTrade\",,\"T\")<RTD(\"cqg.rtd\",,\"ContractData\",D31,\"Bid\",,\"T\"),1,IF(RTD(\"cqg.rtd\",,\"ContractData\",D31,\"LastTrade\",,\"T\")>RTD(\"cqg.rtd\",,\"ContractData\",D31,\"Ask\",,\"T\"),1,0))","v":0},{"$f":"IF(C31=1,RTD(\"cqg.rtd\", ,\"ContractData\",D31, \"TMLastTrade\",, \"T\"),\"\")","v":""},"",{"$f":"IF(C31=1,RTD(\"cqg.rtd\", ,\"ContractData\",D31, \"MT_LastBidVolume\",, \"T\"),\"\")","v":""},{"$f":"IF(C31=0,\"\",IF($D$1=\"B\",RTD(\"cqg.rtd\", ,\"ContractData\",D31, \"Bid\",,\"B\"),TEXT(RTD(\"cqg.rtd\", ,\"ContractData\",D31, \"Bid\",, \"T\"),$D$1)))","v":""},0,{"$f":"IF(C31=0,\"\",IF(LEFT(D31,1)=\"F\",\"\",IF($D$1=\"B\",RTD(\"cqg.rtd\", ,\"ContractData\",D31, \"TheoreticalValue\",,\"B\"),TEXT(RTD(\"cqg.rtd\", ,\"ContractData\",D31, \"TheoreticalValue\",, \"T\"),$D$1))))","v":""},0,{"$f":"IF(C31=0,\"\",IF($D$1=\"B\",RTD(\"cqg.rtd\", ,\"ContractData\",D31, \"Ask\",,\"B\"),TEXT(RTD(\"cqg.rtd\", ,\"ContractData\",D31, \"Ask\",, \"T\"),$D$1)))","v":""},{"$f":"IF(C31=1,RTD(\"cqg.rtd\", ,\"ContractData\",D31, \"MT_LastAskVolume\",, \"T\"),\"\")","v":""},"",null,null,{"$f":"IF(C31=1,RTD(\"cqg.rtd\", ,\"ContractData\",D31, \"T_CVol\",, \"T\"),\"\")","v":""},{"$f":"IF(C31=1,RTD(\"cqg.rtd\", ,\"ContractData\",D31, \"COI\",, \"T\"),\"\")","v":""},{"$f":"IF(C31=1,RTD(\"cqg.rtd\", ,\"ContractData\",D31, \"ImpliedVolatility\",, \"T\"),\"\")","v":""},{"$f":"IF(C31=1,RTD(\"cqg.rtd\", ,\"ContractData\",D31, \"Vega\",, \"T\"),\"\")","v":""},{"$f":"IF(C31=0,\"\",IF(LEFT(D31,1)=\"F\",H31*100,H31*RTD(\"cqg.rtd\",,\"ContractData\",D31,\"Delta\",,\"T\")))","v":""},{"$f":"IF(C31=1,RTD(\"cqg.rtd\", ,\"ContractData\",D31, \"Gamma\",, \"T\"),\"\")","v":""},{"$f":"IF(C31=1,IF(H31<0,-1*RTD(\"cqg.rtd\", ,\"ContractData\",D31, \"Theta\",, \"T\"),RTD(\"cqg.rtd\", ,\"ContractData\",D31, \"Theta\",, \"T\")),\"\")","v":""},{"$f":"IF(C31=0,\"\",IF(LEFT(D31,1)=\"F\",(RTD(\"cqg.rtd\",,\"ContractData\",D31,\"ExpirationDate\",,\"T\")-TODAY()),RTD(\"cqg.rtd\",,\"ContractData\",D31,\"OptionDaysToExp\",,\"T\")))","v":""}]
["TMLastBid","TMLastAsk",{"$f":"IF(LOOKUP(27,Fifth!A1:A448)<>27,0,1)","v":0},{"$f":"IF(C32=1,VLOOKUP(Fifth!I27,INDIRECT($A$2),2),\"\")","v":""},null,null,"",{"$f":"IF(C32=1,RTD(\"cqg.rtd\", ,\"OrderData\", \"\"&D32&\"\", \"\", \"OpenPosition\",\"\"&$D$3&\"\"),\"\")","v":""},{"$f":"IF(C32=1,RTD(\"cqg.rtd\", ,\"OrderData\",\"\"&D32&\"\", \"\", \"OpenTradeEquity\",\"\"&$D$3&\"\"),\"\")","v":""},null,{"$f":"IF(C32=0,\"\",IF($D$1=\"B\",RTD(\"cqg.rtd\", ,\"ContractData\",D32, \"LastTrade\",,\"B\"),TEXT(RTD(\"cqg.rtd\", ,\"ContractData\",D32, \"LastTrade\",, \"T\"),$D$1)))","v":""},{"$f":"IF(RTD(\"cqg.rtd\",,\"ContractData\",D32,\"LastTrade\",,\"T\")<RTD(\"cqg.rtd\",,\"ContractData\",D32,\"Bid\",,\"T\"),1,IF(RTD(\"cqg.rtd\",,\"ContractData\",D32,\"LastTrade\",,\"T\")>RTD(\"cqg.rtd\",,\"ContractData\",D32,\"Ask\",,\"T\"),1,0))","v":0},{"$f":"IF(C32=1,RTD(\"cqg.rtd\", ,\"ContractData\",D32, \"TMLastTrade\",, \"T\"),\"\")","v":""},"",{"$f":"IF(C32=1,RTD(\"cqg.rtd\", ,\"ContractData\",D32, \"MT_LastBidVolume\",, \"T\"),\"\")","v":""},{"$f":"IF(C32=0,\"\",IF($D$1=\"B\",RTD(\"cqg.rtd\", ,\"ContractData\",D32, \"Bid\",,\"B\"),TEXT(RTD(\"cqg.rtd\", ,\"ContractData\",D32, \"Bid\",, \"T\"),$D$1)))","v":""},0,{"$f":"IF(C32=0,\"\",IF(LEFT(D32,1)=\"F\",\"\",IF($D$1=\"B\",RTD(\"cqg.rtd\", ,\"ContractData\",D32, \"TheoreticalValue\",,\"B\"),TEXT(RTD(\"cqg.rtd\", ,\"ContractData\",D32, \"TheoreticalValue\",, \"T\"),$D$1))))","v":""},0,{"$f":"IF(C32=0,\"\",IF($D$1=\"B\",RTD(\"cqg.rtd\", ,\"ContractData\",D32, \"Ask\",,\"B\"),TEXT(RTD(\"cqg.rtd\", ,\"ContractData\",D32, \"Ask\",, \"T\"),$D$1)))","v":""},{"$f":"IF(C32=1,RTD(\"cqg.rtd\", ,\"ContractData\",D32, \"MT_LastAskVolume\",, \"T\"),\"\")","v":""},"",null,null,{"$f":"IF(C32=1,RTD(\"cqg.rtd\", ,\"ContractData\",D32, \"T_CVol\",, \"T\"),\"\")","v":""},{"$f":"IF(C32=1,RTD(\"cqg.rtd\", ,\"ContractData\",D32, \"COI\",, \"T\"),\"\")","v":""},{"$f":"IF(C32=1,RTD(\"cqg.rtd\", ,\"ContractData\",D32, \"ImpliedVolatility\",, \"T\"),\"\")","v":""},{"$f":"IF(C32=1,RTD(\"cqg.rtd\", ,\"ContractData\",D32, \"Vega\",, \"T\"),\"\")","v":""},{"$f":"IF(C32=0,\"\",IF(LEFT(D32,1)=\"F\",H32*100,H32*RTD(\"cqg.rtd\",,\"ContractData\",D32,\"Delta\",,\"T\")))","v":""},{"$f":"IF(C32=1,RTD(\"cqg.rtd\", ,\"ContractData\",D32, \"Gamma\",, \"T\"),\"\")","v":""},{"$f":"IF(C32=1,IF(H32<0,-1*RTD(\"cqg.rtd\", ,\"ContractData\",D32, \"Theta\",, \"T\"),RTD(\"cqg.rtd\", ,\"ContractData\",D32, \"Theta\",, \"T\")),\"\")","v":""},{"$f":"IF(C32=0,\"\",IF(LEFT(D32,1)=\"F\",(RTD(\"cqg.rtd\",,\"ContractData\",D32,\"ExpirationDate\",,\"T\")-TODAY()),RTD(\"cqg.rtd\",,\"ContractData\",D32,\"OptionDaysToExp\",,\"T\")))","v":""}]
["TMLastBid","TMLastAsk",{"$f":"IF(LOOKUP(28,Fifth!A1:A448)<>28,0,1)","v":0},{"$f":"IF(C33=1,VLOOKUP(Fifth!I28,INDIRECT($A$2),2),\"\")","v":""},null,null,"",{"$f":"IF(C33=1,RTD(\"cqg.rtd\", ,\"OrderData\", \"\"&D33&\"\", \"\", \"OpenPosition\",\"\"&$D$3&\"\"),\"\")","v":""},{"$f":"IF(C33=1,RTD(\"cqg.rtd\", ,\"OrderData\",\"\"&D33&\"\", \"\", \"OpenTradeEquity\",\"\"&$D$3&\"\"),\"\")","v":""},null,{"$f":"IF(C33=0,\"\",IF($D$1=\"B\",RTD(\"cqg.rtd\", ,\"ContractData\",D33, \"LastTrade\",,\"B\"),TEXT(RTD(\"cqg.rtd\", ,\"ContractData\",D33, \"LastTrade\",, \"T\"),$D$1)))","v":""},{"$f":"IF(RTD(\"cqg.rtd\",,\"ContractData\",D33,\"LastTrade\",,\"T\")<RTD(\"cqg.rtd\",,\"ContractData\",D33,\"Bid\",,\"T\"),1,IF(RTD(\"cqg.rtd\",,\"ContractData\",D33,\"LastTrade\",,\"T\")>RTD(\"cqg.rtd\",,\"ContractData\",D33,\"Ask\",,\"T\"),1,0))","v":0},{"$f":"IF(C33=1,RTD(\"cqg.rtd\", ,\"ContractData\",D33, \"TMLastTrade\",, \"T\"),\"\")","v":""},"",{"$f":"IF(C33=1,RTD(\"cqg.rtd\", ,\"ContractData\",D33, \"MT_LastBidVolume\",, \"T\"),\"\")","v":""},{"$f":"IF(C33=0,\"\",IF($D$1=\"B\",RTD(\"cqg.rtd\", ,\"ContractData\",D33, \"Bid\",,\"B\"),TEXT(RTD(\"cqg.rtd\", ,\"ContractData\",D33, \"Bid\",, \"T\"),$D$1)))","v":""},0,{"$f":"IF(C33=0,\"\",IF(LEFT(D33,1)=\"F\",\"\",IF($D$1=\"B\",RTD(\"cqg.rtd\", ,\"ContractData\",D33, \"TheoreticalValue\",,\"B\"),TEXT(RTD(\"cqg.rtd\", ,\"ContractData\",D33, \"TheoreticalValue\",, \"T\"),$D$1))))","v":""},0,{"$f":"IF(C33=0,\"\",IF($D$1=\"B\",RTD(\"cqg.rtd\", ,\"ContractData\",D33, \"Ask\",,\"B\"),TEXT(RTD(\"cqg.rtd\", ,\"ContractData\",D33, \"Ask\",, \"T\"),$D$1)))","v":""},{"$f":"IF(C33=1,RTD(\"cqg.rtd\", ,\"ContractData\",D33, \"MT_LastAskVolume\",, \"T\"),\"\")","v":""},"",null,null,{"$f":"IF(C33=1,RTD(\"cqg.rtd\", ,\"ContractData\",D33, \"T_CVol\",, \"T\"),\"\")","v":""},{"$f":"IF(C33=1,RTD(\"cqg.rtd\", ,\"ContractData\",D33, \"COI\",, \"T\"),\"\")","v":""},{"$f":"IF(C33=1,RTD(\"cqg.rtd\", ,\"ContractData\",D33, \"ImpliedVolatility\",, \"T\"),\"\")","v":""},{"$f":"IF(C33=1,RTD(\"cqg.rtd\", ,\"ContractData\",D33, \"Vega\",, \"T\"),\"\")","v":""},{"$f":"IF(C33=0,\"\",IF(LEFT(D33,1)=\"F\",H33*100,H33*RTD(\"cqg.rtd\",,\"ContractData\",D33,\"Delta\",,\"T\")))","v":""},{"$f":"IF(C33=1,RTD(\"cqg.rtd\", ,\"ContractData\",D33, \"Gamma\",, \"T\"),\"\")","v":""},{"$f":"IF(C33=1,IF(H33<0,-1*RTD(\"cqg.rtd\", ,\"ContractData\",D33, \"Theta\",, \"T\"),RTD(\"cqg.rtd\", ,\"ContractData\",D33, \"Theta\",, \"T\")),\"\")","v":""},{"$f":"IF(C33=0,\"\",IF(LEFT(D33,1)=\"F\",(RTD(\"cqg.rtd\",,\"ContractData\",D33,\"ExpirationDate\",,\"T\")-TODAY()),RTD(\"cqg.rtd\",,\"ContractData\",D33,\"OptionDaysToExp\",,\"T\")))","v":""}]
["TMLastBid","TMLastAsk",{"$f":"IF(LOOKUP(29,Fifth!A1:A448)<>29,0,1)","v":0},{"$f":"IF(C34=1,VLOOKUP(Fifth!I29,INDIRECT($A$2),2),\"\")","v":""},null,null,"",{"$f":"IF(C34=1,RTD(\"cqg.rtd\", ,\"OrderData\", \"\"&D34&\"\", \"\", \"OpenPosition\",\"\"&$D$3&\"\"),\"\")","v":""},{"$f":"IF(C34=1,RTD(\"cqg.rtd\", ,\"OrderData\",\"\"&D34&\"\", \"\", \"OpenTradeEquity\",\"\"&$D$3&\"\"),\"\")","v":""},null,{"$f":"IF(C34=0,\"\",IF($D$1=\"B\",RTD(\"cqg.rtd\", ,\"ContractData\",D34, \"LastTrade\",,\"B\"),TEXT(RTD(\"cqg.rtd\", ,\"ContractData\",D34, \"LastTrade\",, \"T\"),$D$1)))","v":""},{"$f":"IF(RTD(\"cqg.rtd\",,\"ContractData\",D34,\"LastTrade\",,\"T\")<RTD(\"cqg.rtd\",,\"ContractData\",D34,\"Bid\",,\"T\"),1,IF(RTD(\"cqg.rtd\",,\"ContractData\",D34,\"LastTrade\",,\"T\")>RTD(\"cqg.rtd\",,\"ContractData\",D34,\"Ask\",,\"T\"),1,0))","v":0},{"$f":"IF(C34=1,RTD(\"cqg.rtd\", ,\"ContractData\",D34, \"TMLastTrade\",, \"T\"),\"\")","v":""},"",{"$f":"IF(C34=1,RTD(\"cqg.rtd\", ,\"ContractData\",D34, \"MT_LastBidVolume\",, \"T\"),\"\")","v":""},{"$f":"IF(C34=0,\"\",IF($D$1=\"B\",RTD(\"cqg.rtd\", ,\"ContractData\",D34, \"Bid\",,\"B\"),TEXT(RTD(\"cqg.rtd\", ,\"ContractData\",D34, \"Bid\",, \"T\"),$D$1)))","v":""},0,{"$f":"IF(C34=0,\"\",IF(LEFT(D34,1)=\"F\",\"\",IF($D$1=\"B\",RTD(\"cqg.rtd\", ,\"ContractData\",D34, \"TheoreticalValue\",,\"B\"),TEXT(RTD(\"cqg.rtd\", ,\"ContractData\",D34, \"TheoreticalValue\",, \"T\"),$D$1))))","v":""},0,{"$f":"IF(C34=0,\"\",IF($D$1=\"B\",RTD(\"cqg.rtd\", ,\"ContractData\",D34, \"Ask\",,\"B\"),TEXT(RTD(\"cqg.rtd\", ,\"ContractData\",D34, \"Ask\",, \"T\"),$D$1)))","v":""},{"$f":"IF(C34=1,RTD(\"cqg.rtd\", ,\"ContractData\",D34, \"MT_LastAskVolume\",, \"T\"),\"\")","v":""},"",null,null,{"$f":"IF(C34=1,RTD(\"cqg.rtd\", ,\"ContractData\",D34, \"T_CVol\",, \"T\"),\"\")","v":""},{"$f":"IF(C34=1,RTD(\"cqg.rtd\", ,\"ContractData\",D34, \"COI\",, \"T\"),\"\")","v":""},{"$f":"IF(C34=1,RTD(\"cqg.rtd\", ,\"ContractData\",D34, \"ImpliedVolatility\",, \"T\"),\"\")","v":""},{"$f":"IF(C34=1,RTD(\"cqg.rtd\", ,\"ContractData\",D34, \"Vega\",, \"T\"),\"\")","v":""},{"$f":"IF(C34=0,\"\",IF(LEFT(D34,1)=\"F\",H34*100,H34*RTD(\"cqg.rtd\",,\"ContractData\",D34,\"Delta\",,\"T\")))","v":""},{"$f":"IF(C34=1,RTD(\"cqg.rtd\", ,\"ContractData\",D34, \"Gamma\",, \"T\"),\"\")","v":""},{"$f":"IF(C34=1,IF(H34<0,-1*RTD(\"cqg.rtd\", ,\"ContractData\",D34, \"Theta\",, \"T\"),RTD(\"cqg.rtd\", ,\"ContractData\",D34, \"Theta\",, \"T\")),\"\")","v":""},{"$f":"IF(C34=0,\"\",IF(LEFT(D34,1)=\"F\",(RTD(\"cqg.rtd\",,\"ContractData\",D34,\"ExpirationDate\",,\"T\")-TODAY()),RTD(\"cqg.rtd\",,\"ContractData\",D34,\"OptionDaysToExp\",,\"T\")))","v":""}]
["TMLastBid","TMLastAsk",{"$f":"IF(LOOKUP(30,Fifth!A1:A448)<>30,0,1)","v":0},{"$f":"IF(C35=1,VLOOKUP(Fifth!I30,INDIRECT($A$2),2),\"\")","v":""},null,null,"",{"$f":"IF(C35=1,RTD(\"cqg.rtd\", ,\"OrderData\", \"\"&D35&\"\", \"\", \"OpenPosition\",\"\"&$D$3&\"\"),\"\")","v":""},{"$f":"IF(C35=1,RTD(\"cqg.rtd\", ,\"OrderData\",\"\"&D35&\"\", \"\", \"OpenTradeEquity\",\"\"&$D$3&\"\"),\"\")","v":""},null,{"$f":"IF(C35=0,\"\",IF($D$1=\"B\",RTD(\"cqg.rtd\", ,\"ContractData\",D35, \"LastTrade\",,\"B\"),TEXT(RTD(\"cqg.rtd\", ,\"ContractData\",D35, \"LastTrade\",, \"T\"),$D$1)))","v":""},{"$f":"IF(RTD(\"cqg.rtd\",,\"ContractData\",D35,\"LastTrade\",,\"T\")<RTD(\"cqg.rtd\",,\"ContractData\",D35,\"Bid\",,\"T\"),1,IF(RTD(\"cqg.rtd\",,\"ContractData\",D35,\"LastTrade\",,\"T\")>RTD(\"cqg.rtd\",,\"ContractData\",D35,\"Ask\",,\"T\"),1,0))","v":0},{"$f":"IF(C35=1,RTD(\"cqg.rtd\", ,\"ContractData\",D35, \"TMLastTrade\",, \"T\"),\"\")","v":""},"",{"$f":"IF(C35=1,RTD(\"cqg.rtd\", ,\"ContractData\",D35, \"MT_LastBidVolume\",, \"T\"),\"\")","v":""},{"$f":"IF(C35=0,\"\",IF($D$1=\"B\",RTD(\"cqg.rtd\", ,\"ContractData\",D35, \"Bid\",,\"B\"),TEXT(RTD(\"cqg.rtd\", ,\"ContractData\",D35, \"Bid\",, \"T\"),$D$1)))","v":""},0,{"$f":"IF(C35=0,\"\",IF(LEFT(D35,1)=\"F\",\"\",IF($D$1=\"B\",RTD(\"cqg.rtd\", ,\"ContractData\",D35, \"TheoreticalValue\",,\"B\"),TEXT(RTD(\"cqg.rtd\", ,\"ContractData\",D35, \"TheoreticalValue\",, \"T\"),$D$1))))","v":""},0,{"$f":"IF(C35=0,\"\",IF($D$1=\"B\",RTD(\"cqg.rtd\", ,\"ContractData\",D35, \"Ask\",,\"B\"),TEXT(RTD(\"cqg.rtd\", ,\"ContractData\",D35, \"Ask\",, \"T\"),$D$1)))","v":""},{"$f":"IF(C35=1,RTD(\"cqg.rtd\", ,\"ContractData\",D35, \"MT_LastAskVolume\",, \"T\"),\"\")","v":""},"",null,null,{"$f":"IF(C35=1,RTD(\"cqg.rtd\", ,\"ContractData\",D35, \"T_CVol\",, \"T\"),\"\")","v":""},{"$f":"IF(C35=1,RTD(\"cqg.rtd\", ,\"ContractData\",D35, \"COI\",, \"T\"),\"\")","v":""},{"$f":"IF(C35=1,RTD(\"cqg.rtd\", ,\"ContractData\",D35, \"ImpliedVolatility\",, \"T\"),\"\")","v":""},{"$f":"IF(C35=1,RTD(\"cqg.rtd\", ,\"ContractData\",D35, \"Vega\",, \"T\"),\"\")","v":""},{"$f":"IF(C35=0,\"\",IF(LEFT(D35,1)=\"F\",H35*100,H35*RTD(\"cqg.rtd\",,\"ContractData\",D35,\"Delta\",,\"T\")))","v":""},{"$f":"IF(C35=1,RTD(\"cqg.rtd\", ,\"ContractData\",D35, \"Gamma\",, \"T\"),\"\")","v":""},{"$f":"IF(C35=1,IF(H35<0,-1*RTD(\"cqg.rtd\", ,\"ContractData\",D35, \"Theta\",, \"T\"),RTD(\"cqg.rtd\", ,\"ContractData\",D35, \"Theta\",, \"T\")),\"\")","v":""},{"$f":"IF(C35=0,\"\",IF(LEFT(D35,1)=\"F\",(RTD(\"cqg.rtd\",,\"ContractData\",D35,\"ExpirationDate\",,\"T\")-TODAY()),RTD(\"cqg.rtd\",,\"ContractData\",D35,\"OptionDaysToExp\",,\"T\")))","v":""}]
["TMLastBid","TMLastAsk",{"$f":"IF(LOOKUP(31,Fifth!A1:A448)<>31,0,1)","v":0},{"$f":"IF(C36=1,VLOOKUP(Fifth!I31,INDIRECT($A$2),2),\"\")","v":""},null,null,"",{"$f":"IF(C36=1,RTD(\"cqg.rtd\", ,\"OrderData\", \"\"&D36&\"\", \"\", \"OpenPosition\",\"\"&$D$3&\"\"),\"\")","v":""},{"$f":"IF(C36=1,RTD(\"cqg.rtd\", ,\"OrderData\",\"\"&D36&\"\", \"\", \"OpenTradeEquity\",\"\"&$D$3&\"\"),\"\")","v":""},null,{"$f":"IF(C36=0,\"\",IF($D$1=\"B\",RTD(\"cqg.rtd\", ,\"ContractData\",D36, \"LastTrade\",,\"B\"),TEXT(RTD(\"cqg.rtd\", ,\"ContractData\",D36, \"LastTrade\",, \"T\"),$D$1)))","v":""},{"$f":"IF(RTD(\"cqg.rtd\",,\"ContractData\",D36,\"LastTrade\",,\"T\")<RTD(\"cqg.rtd\",,\"ContractData\",D36,\"Bid\",,\"T\"),1,IF(RTD(\"cqg.rtd\",,\"ContractData\",D36,\"LastTrade\",,\"T\")>RTD(\"cqg.rtd\",,\"ContractData\",D36,\"Ask\",,\"T\"),1,0))","v":0},{"$f":"IF(C36=1,RTD(\"cqg.rtd\", ,\"ContractData\",D36, \"TMLastTrade\",, \"T\"),\"\")","v":""},"",{"$f":"IF(C36=1,RTD(\"cqg.rtd\", ,\"ContractData\",D36, \"MT_LastBidVolume\",, \"T\"),\"\")","v":""},{"$f":"IF(C36=0,\"\",IF($D$1=\"B\",RTD(\"cqg.rtd\", ,\"ContractData\",D36, \"Bid\",,\"B\"),TEXT(RTD(\"cqg.rtd\", ,\"ContractData\",D36, \"Bid\",, \"T\"),$D$1)))","v":""},0,{"$f":"IF(C36=0,\"\",IF(LEFT(D36,1)=\"F\",\"\",IF($D$1=\"B\",RTD(\"cqg.rtd\", ,\"ContractData\",D36, \"TheoreticalValue\",,\"B\"),TEXT(RTD(\"cqg.rtd\", ,\"ContractData\",D36, \"TheoreticalValue\",, \"T\"),$D$1))))","v":""},0,{"$f":"IF(C36=0,\"\",IF($D$1=\"B\",RTD(\"cqg.rtd\", ,\"ContractData\",D36, \"Ask\",,\"B\"),TEXT(RTD(\"cqg.rtd\", ,\"ContractData\",D36, \"Ask\",, \"T\"),$D$1)))","v":""},{"$f":"IF(C36=1,RTD(\"cqg.rtd\", ,\"ContractData\",D36, \"MT_LastAskVolume\",, \"T\"),\"\")","v":""},"",null,null,{"$f":"IF(C36=1,RTD(\"cqg.rtd\", ,\"ContractData\",D36, \"T_CVol\",, \"T\"),\"\")","v":""},{"$f":"IF(C36=1,RTD(\"cqg.rtd\", ,\"ContractData\",D36, \"COI\",, \"T\"),\"\")","v":""},{"$f":"IF(C36=1,RTD(\"cqg.rtd\", ,\"ContractData\",D36, \"ImpliedVolatility\",, \"T\"),\"\")","v":""},{"$f":"IF(C36=1,RTD(\"cqg.rtd\", ,\"ContractData\",D36, \"Vega\",, \"T\"),\"\")","v":""},{"$f":"IF(C36=0,\"\",IF(LEFT(D36,1)=\"F\",H36*100,H36*RTD(\"cqg.rtd\",,\"ContractData\",D36,\"Delta\",,\"T\")))","v":""},{"$f":"IF(C36=1,RTD(\"cqg.rtd\", ,\"ContractData\",D36, \"Gamma\",, \"T\"),\"\")","v":""},{"$f":"IF(C36=1,IF(H36<0,-1*RTD(\"cqg.rtd\", ,\"ContractData\",D36, \"Theta\",, \"T\"),RTD(\"cqg.rtd\", ,\"ContractData\",D36, \"Theta\",, \"T\")),\"\")","v":""},{"$f":"IF(C36=0,\"\",IF(LEFT(D36,1)=\"F\",(RTD(\"cqg.rtd\",,\"ContractData\",D36,\"ExpirationDate\",,\"T\")-TODAY()),RTD(\"cqg.rtd\",,\"ContractData\",D36,\"OptionDaysToExp\",,\"T\")))","v":""}]
["TMLastBid","TMLastAsk",{"$f":"IF(LOOKUP(32,Fifth!A1:A448)<>32,0,1)","v":0},{"$f":"IF(C37=1,VLOOKUP(Fifth!I32,INDIRECT($A$2),2),\"\")","v":""},null,null,"",{"$f":"IF(C37=1,RTD(\"cqg.rtd\", ,\"OrderData\", \"\"&D37&\"\", \"\", \"OpenPosition\",\"\"&$D$3&\"\"),\"\")","v":""},{"$f":"IF(C37=1,RTD(\"cqg.rtd\", ,\"OrderData\",\"\"&D37&\"\", \"\", \"OpenTradeEquity\",\"\"&$D$3&\"\"),\"\")","v":""},null,{"$f":"IF(C37=0,\"\",IF($D$1=\"B\",RTD(\"cqg.rtd\", ,\"ContractData\",D37, \"LastTrade\",,\"B\"),TEXT(RTD(\"cqg.rtd\", ,\"ContractData\",D37, \"LastTrade\",, \"T\"),$D$1)))","v":""},{"$f":"IF(RTD(\"cqg.rtd\",,\"ContractData\",D37,\"LastTrade\",,\"T\")<RTD(\"cqg.rtd\",,\"ContractData\",D37,\"Bid\",,\"T\"),1,IF(RTD(\"cqg.rtd\",,\"ContractData\",D37,\"LastTrade\",,\"T\")>RTD(\"cqg.rtd\",,\"ContractData\",D37,\"Ask\",,\"T\"),1,0))","v":0},{"$f":"IF(C37=1,RTD(\"cqg.rtd\", ,\"ContractData\",D37, \"TMLastTrade\",, \"T\"),\"\")","v":""},"",{"$f":"IF(C37=1,RTD(\"cqg.rtd\", ,\"ContractData\",D37, \"MT_LastBidVolume\",, \"T\"),\"\")","v":""},{"$f":"IF(C37=0,\"\",IF($D$1=\"B\",RTD(\"cqg.rtd\", ,\"ContractData\",D37, \"Bid\",,\"B\"),TEXT(RTD(\"cqg.rtd\", ,\"ContractData\",D37, \"Bid\",, \"T\"),$D$1)))","v":""},0,{"$f":"IF(C37=0,\"\",IF(LEFT(D37,1)=\"F\",\"\",IF($D$1=\"B\",RTD(\"cqg.rtd\", ,\"ContractData\",D37, \"TheoreticalValue\",,\"B\"),TEXT(RTD(\"cqg.rtd\", ,\"ContractData\",D37, \"TheoreticalValue\",, \"T\"),$D$1))))","v":""},0,{"$f":"IF(C37=0,\"\",IF($D$1=\"B\",RTD(\"cqg.rtd\", ,\"ContractData\",D37, \"Ask\",,\"B\"),TEXT(RTD(\"cqg.rtd\", ,\"ContractData\",D37, \"Ask\",, \"T\"),$D$1)))","v":""},{"$f":"IF(C37=1,RTD(\"cqg.rtd\", ,\"ContractData\",D37, \"MT_LastAskVolume\",, \"T\"),\"\")","v":""},"",null,null,{"$f":"IF(C37=1,RTD(\"cqg.rtd\", ,\"ContractData\",D37, \"T_CVol\",, \"T\"),\"\")","v":""},{"$f":"IF(C37=1,RTD(\"cqg.rtd\", ,\"ContractData\",D37, \"COI\",, \"T\"),\"\")","v":""},{"$f":"IF(C37=1,RTD(\"cqg.rtd\", ,\"ContractData\",D37, \"ImpliedVolatility\",, \"T\"),\"\")","v":""},{"$f":"IF(C37=1,RTD(\"cqg.rtd\", ,\"ContractData\",D37, \"Vega\",, \"T\"),\"\")","v":""},{"$f":"IF(C37=0,\"\",IF(LEFT(D37,1)=\"F\",H37*100,H37*RTD(\"cqg.rtd\",,\"ContractData\",D37,\"Delta\",,\"T\")))","v":""},{"$f":"IF(C37=1,RTD(\"cqg.rtd\", ,\"ContractData\",D37, \"Gamma\",, \"T\"),\"\")","v":""},{"$f":"IF(C37=1,IF(H37<0,-1*RTD(\"cqg.rtd\", ,\"ContractData\",D37, \"Theta\",, \"T\"),RTD(\"cqg.rtd\", ,\"ContractData\",D37, \"Theta\",, \"T\")),\"\")","v":""},{"$f":"IF(C37=0,\"\",IF(LEFT(D37,1)=\"F\",(RTD(\"cqg.rtd\",,\"ContractData\",D37,\"ExpirationDate\",,\"T\")-TODAY()),RTD(\"cqg.rtd\",,\"ContractData\",D37,\"OptionDaysToExp\",,\"T\")))","v":""}]
["TMLastBid","TMLastAsk",{"$f":"IF(LOOKUP(33,Fifth!A1:A448)<>33,0,1)","v":0},{"$f":"IF(C38=1,VLOOKUP(Fifth!I33,INDIRECT($A$2),2),\"\")","v":""},null,null,"",{"$f":"IF(C38=1,RTD(\"cqg.rtd\", ,\"OrderData\", \"\"&D38&\"\", \"\", \"OpenPosition\",\"\"&$D$3&\"\"),\"\")","v":""},{"$f":"IF(C38=1,RTD(\"cqg.rtd\", ,\"OrderData\",\"\"&D38&\"\", \"\", \"OpenTradeEquity\",\"\"&$D$3&\"\"),\"\")","v":""},null,{"$f":"IF(C38=0,\"\",IF($D$1=\"B\",RTD(\"cqg.rtd\", ,\"ContractData\",D38, \"LastTrade\",,\"B\"),TEXT(RTD(\"cqg.rtd\", ,\"ContractData\",D38, \"LastTrade\",, \"T\"),$D$1)))","v":""},{"$f":"IF(RTD(\"cqg.rtd\",,\"ContractData\",D38,\"LastTrade\",,\"T\")<RTD(\"cqg.rtd\",,\"ContractData\",D38,\"Bid\",,\"T\"),1,IF(RTD(\"cqg.rtd\",,\"ContractData\",D38,\"LastTrade\",,\"T\")>RTD(\"cqg.rtd\",,\"ContractData\",D38,\"Ask\",,\"T\"),1,0))","v":0},{"$f":"IF(C38=1,RTD(\"cqg.rtd\", ,\"ContractData\",D38, \"TMLastTrade\",, \"T\"),\"\")","v":""},"",{"$f":"IF(C38=1,RTD(\"cqg.rtd\", ,\"ContractData\",D38, \"MT_LastBidVolume\",, \"T\"),\"\")","v":""},{"$f":"IF(C38=0,\"\",IF($D$1=\"B\",RTD(\"cqg.rtd\", ,\"ContractData\",D38, \"Bid\",,\"B\"),TEXT(RTD(\"cqg.rtd\", ,\"ContractData\",D38, \"Bid\",, \"T\"),$D$1)))","v":""},0,{"$f":"IF(C38=0,\"\",IF(LEFT(D38,1)=\"F\",\"\",IF($D$1=\"B\",RTD(\"cqg.rtd\", ,\"ContractData\",D38, \"TheoreticalValue\",,\"B\"),TEXT(RTD(\"cqg.rtd\", ,\"ContractData\",D38, \"TheoreticalValue\",, \"T\"),$D$1))))","v":""},0,{"$f":"IF(C38=0,\"\",IF($D$1=\"B\",RTD(\"cqg.rtd\", ,\"ContractData\",D38, \"Ask\",,\"B\"),TEXT(RTD(\"cqg.rtd\", ,\"ContractData\",D38, \"Ask\",, \"T\"),$D$1)))","v":""},{"$f":"IF(C38=1,RTD(\"cqg.rtd\", ,\"ContractData\",D38, \"MT_LastAskVolume\",, \"T\"),\"\")","v":""},"",null,null,{"$f":"IF(C38=1,RTD(\"cqg.rtd\", ,\"ContractData\",D38, \"T_CVol\",, \"T\"),\"\")","v":""},{"$f":"IF(C38=1,RTD(\"cqg.rtd\", ,\"ContractData\",D38, \"COI\",, \"T\"),\"\")","v":""},{"$f":"IF(C38=1,RTD(\"cqg.rtd\", ,\"ContractData\",D38, \"ImpliedVolatility\",, \"T\"),\"\")","v":""},{"$f":"IF(C38=1,RTD(\"cqg.rtd\", ,\"ContractData\",D38, \"Vega\",, \"T\"),\"\")","v":""},{"$f":"IF(C38=0,\"\",IF(LEFT(D38,1)=\"F\",H38*100,H38*RTD(\"cqg.rtd\",,\"ContractData\",D38,\"Delta\",,\"T\")))","v":""},{"$f":"IF(C38=1,RTD(\"cqg.rtd\", ,\"ContractData\",D38, \"Gamma\",, \"T\"),\"\")","v":""},{"$f":"IF(C38=1,IF(H38<0,-1*RTD(\"cqg.rtd\", ,\"ContractData\",D38, \"Theta\",, \"T\"),RTD(\"cqg.rtd\", ,\"ContractData\",D38, \"Theta\",, \"T\")),\"\")","v":""},{"$f":"IF(C38=0,\"\",IF(LEFT(D38,1)=\"F\",(RTD(\"cqg.rtd\",,\"ContractData\",D38,\"ExpirationDate\",,\"T\")-TODAY()),RTD(\"cqg.rtd\",,\"ContractData\",D38,\"OptionDaysToExp\",,\"T\")))","v":""}]
["TMLastBid","TMLastAsk",{"$f":"IF(LOOKUP(34,Fifth!A1:A448)<>34,0,1)","v":0},{"$f":"IF(C39=1,VLOOKUP(Fifth!I34,INDIRECT($A$2),2),\"\")","v":""},null,null,"",{"$f":"IF(C39=1,RTD(\"cqg.rtd\", ,\"OrderData\", \"\"&D39&\"\", \"\", \"OpenPosition\",\"\"&$D$3&\"\"),\"\")","v":""},{"$f":"IF(C39=1,RTD(\"cqg.rtd\", ,\"OrderData\",\"\"&D39&\"\", \"\", \"OpenTradeEquity\",\"\"&$D$3&\"\"),\"\")","v":""},null,{"$f":"IF(C39=0,\"\",IF($D$1=\"B\",RTD(\"cqg.rtd\", ,\"ContractData\",D39, \"LastTrade\",,\"B\"),TEXT(RTD(\"cqg.rtd\", ,\"ContractData\",D39, \"LastTrade\",, \"T\"),$D$1)))","v":""},{"$f":"IF(RTD(\"cqg.rtd\",,\"ContractData\",D39,\"LastTrade\",,\"T\")<RTD(\"cqg.rtd\",,\"ContractData\",D39,\"Bid\",,\"T\"),1,IF(RTD(\"cqg.rtd\",,\"ContractData\",D39,\"LastTrade\",,\"T\")>RTD(\"cqg.rtd\",,\"ContractData\",D39,\"Ask\",,\"T\"),1,0))","v":0},{"$f":"IF(C39=1,RTD(\"cqg.rtd\", ,\"ContractData\",D39, \"TMLastTrade\",, \"T\"),\"\")","v":""},"",{"$f":"IF(C39=1,RTD(\"cqg.rtd\", ,\"ContractData\",D39, \"MT_LastBidVolume\",, \"T\"),\"\")","v":""},{"$f":"IF(C39=0,\"\",IF($D$1=\"B\",RTD(\"cqg.rtd\", ,\"ContractData\",D39, \"Bid\",,\"B\"),TEXT(RTD(\"cqg.rtd\", ,\"ContractData\",D39, \"Bid\",, \"T\"),$D$1)))","v":""},0,{"$f":"IF(C39=0,\"\",IF(LEFT(D39,1)=\"F\",\"\",IF($D$1=\"B\",RTD(\"cqg.rtd\", ,\"ContractData\",D39, \"TheoreticalValue\",,\"B\"),TEXT(RTD(\"cqg.rtd\", ,\"ContractData\",D39, \"TheoreticalValue\",, \"T\"),$D$1))))","v":""},0,{"$f":"IF(C39=0,\"\",IF($D$1=\"B\",RTD(\"cqg.rtd\", ,\"ContractData\",D39, \"Ask\",,\"B\"),TEXT(RTD(\"cqg.rtd\", ,\"ContractData\",D39, \"Ask\",, \"T\"),$D$1)))","v":""},{"$f":"IF(C39=1,RTD(\"cqg.rtd\", ,\"ContractData\",D39, \"MT_LastAskVolume\",, \"T\"),\"\")","v":""},"",null,null,{"$f":"IF(C39=1,RTD(\"cqg.rtd\", ,\"ContractData\",D39, \"T_CVol\",, \"T\"),\"\")","v":""},{"$f":"IF(C39=1,RTD(\"cqg.rtd\", ,\"ContractData\",D39, \"COI\",, \"T\"),\"\")","v":""},{"$f":"IF(C39=1,RTD(\"cqg.rtd\", ,\"ContractData\",D39, \"ImpliedVolatility\",, \"T\"),\"\")","v":""},{"$f":"IF(C39=1,RTD(\"cqg.rtd\", ,\"ContractData\",D39, \"Vega\",, \"T\"),\"\")","v":""},{"$f":"IF(C39=0,\"\",IF(LEFT(D39,1)=\"F\",H39*100,H39*RTD(\"cqg.rtd\",,\"ContractData\",D39,\"Delta\",,\"T\")))","v":""},{"$f":"IF(C39=1,RTD(\"cqg.rtd\", ,\"ContractData\",D39, \"Gamma\",, \"T\"),\"\")","v":""},{"$f":"IF(C39=1,IF(H39<0,-1*RTD(\"cqg.rtd\", ,\"ContractData\",D39, \"Theta\",, \"T\"),RTD(\"cqg.rtd\", ,\"ContractData\",D39, \"Theta\",, \"T\")),\"\")","v":""},{"$f":"IF(C39=0,\"\",IF(LEFT(D39,1)=\"F\",(RTD(\"cqg.rtd\",,\"ContractData\",D39,\"ExpirationDate\",,\"T\")-TODAY()),RTD(\"cqg.rtd\",,\"ContractData\",D39,\"OptionDaysToExp\",,\"T\")))","v":""}]
["TMLastBid","TMLastAsk",{"$f":"IF(LOOKUP(35,Fifth!A1:A448)<>35,0,1)","v":0},{"$f":"IF(C40=1,VLOOKUP(Fifth!I35,INDIRECT($A$2),2),\"\")","v":""},null,null,"",{"$f":"IF(C40=1,RTD(\"cqg.rtd\", ,\"OrderData\", \"\"&D40&\"\", \"\", \"OpenPosition\",\"\"&$D$3&\"\"),\"\")","v":""},{"$f":"IF(C40=1,RTD(\"cqg.rtd\", ,\"OrderData\",\"\"&D40&\"\", \"\", \"OpenTradeEquity\",\"\"&$D$3&\"\"),\"\")","v":""},null,{"$f":"IF(C40=0,\"\",IF($D$1=\"B\",RTD(\"cqg.rtd\", ,\"ContractData\",D40, \"LastTrade\",,\"B\"),TEXT(RTD(\"cqg.rtd\", ,\"ContractData\",D40, \"LastTrade\",, \"T\"),$D$1)))","v":""},{"$f":"IF(RTD(\"cqg.rtd\",,\"ContractData\",D40,\"LastTrade\",,\"T\")<RTD(\"cqg.rtd\",,\"ContractData\",D40,\"Bid\",,\"T\"),1,IF(RTD(\"cqg.rtd\",,\"ContractData\",D40,\"LastTrade\",,\"T\")>RTD(\"cqg.rtd\",,\"ContractData\",D40,\"Ask\",,\"T\"),1,0))","v":0},{"$f":"IF(C40=1,RTD(\"cqg.rtd\", ,\"ContractData\",D40, \"TMLastTrade\",, \"T\"),\"\")","v":""},"",{"$f":"IF(C40=1,RTD(\"cqg.rtd\", ,\"ContractData\",D40, \"MT_LastBidVolume\",, \"T\"),\"\")","v":""},{"$f":"IF(C40=0,\"\",IF($D$1=\"B\",RTD(\"cqg.rtd\", ,\"ContractData\",D40, \"Bid\",,\"B\"),TEXT(RTD(\"cqg.rtd\", ,\"ContractData\",D40, \"Bid\",, \"T\"),$D$1)))","v":""},0,{"$f":"IF(C40=0,\"\",IF(LEFT(D40,1)=\"F\",\"\",IF($D$1=\"B\",RTD(\"cqg.rtd\", ,\"ContractData\",D40, \"TheoreticalValue\",,\"B\"),TEXT(RTD(\"cqg.rtd\", ,\"ContractData\",D40, \"TheoreticalValue\",, \"T\"),$D$1))))","v":""},0,{"$f":"IF(C40=0,\"\",IF($D$1=\"B\",RTD(\"cqg.rtd\", ,\"ContractData\",D40, \"Ask\",,\"B\"),TEXT(RTD(\"cqg.rtd\", ,\"ContractData\",D40, \"Ask\",, \"T\"),$D$1)))","v":""},{"$f":"IF(C40=1,RTD(\"cqg.rtd\", ,\"ContractData\",D40, \"MT_LastAskVolume\",, \"T\"),\"\")","v":""},"",null,null,{"$f":"IF(C40=1,RTD(\"cqg.rtd\", ,\"ContractData\",D40, \"T_CVol\",, \"T\"),\"\")","v":""},{"$f":"IF(C40=1,RTD(\"cqg.rtd\", ,\"ContractData\",D40, \"COI\",, \"T\"),\"\")","v":""},{"$f":"IF(C40=1,RTD(\"cqg.rtd\", ,\"ContractData\",D40, \"ImpliedVolatility\",, \"T\"),\"\")","v":""},{"$f":"IF(C40=1,RTD(\"cqg.rtd\", ,\"ContractData\",D40, \"Vega\",, \"T\"),\"\")","v":""},{"$f":"IF(C40=0,\"\",IF(LEFT(D40,1)=\"F\",H40*100,H40*RTD(\"cqg.rtd\",,\"ContractData\",D40,\"Delta\",,\"T\")))","v":""},{"$f":"IF(C40=1,RTD(\"cqg.rtd\", ,\"ContractData\",D40, \"Gamma\",, \"T\"),\"\")","v":""},{"$f":"IF(C40=1,IF(H40<0,-1*RTD(\"cqg.rtd\", ,\"ContractData\",D40, \"Theta\",, \"T\"),RTD(\"cqg.rtd\", ,\"ContractData\",D40, \"Theta\",, \"T\")),\"\")","v":""},{"$f":"IF(C40=0,\"\",IF(LEFT(D40,1)=\"F\",(RTD(\"cqg.rtd\",,\"ContractData\",D40,\"ExpirationDate\",,\"T\")-TODAY()),RTD(\"cqg.rtd\",,\"ContractData\",D40,\"OptionDaysToExp\",,\"T\")))","v":""}]
[null,null,{"$f":"IF(OR(RTD(\"cqg.rtd\",,\"ContractData\",K3,\"ExpirationDate\",,\"T\")-TODAY()<K42,RTD(\"cqg.rtd\",,\"ContractData\",M3,\"ExpirationDate\",,\"T\")-TODAY()<U42,RTD(\"cqg.rtd\",,\"ContractData\",N3,\"ExpirationDate\",,\"T\")-TODAY()<AD42),1,0)","v":0},"Summary",null,null,{"$f":"IF(H41>0,\"Long  \",\"Short   \")","v":"Short   "},{"$f":"SUM(H6:H40)","v":0},{"$f":"SUM(I6:I40)","v":0},null,null,null,{"$f":"IF(C41=1,\"You have entered a number of days to expiration that exceeds the underlying contract expiration date\",\"\")","v":""},null,null,null,null,null,null,null,null,null,null,null,null,null,null,{"$f":"SUM(AB6:AB40)","v":0},{"$f":"SUM(AC6:AC40)","v":0},{"$f":"SUM(AD6:AD40)","v":0},{"$f":"SUM(AE6:AE40)","v":0}]
[null,null,null,"Probaility of the Underlying Price using Days-to-Expiration:",null,null,null,null,null,null,0,null,"Days","Probaility of the Underlying Price using Days-to-Expiration:",null,null,null,null,null,null,20,"Days",null,"Probaility of the Underlying Price using Days-to-Expiration:",null,null,null,null,null,30,"Days"]
[null,null,null,"Market:",null,{"$f":"RTD(\"cqg.rtd\", ,\"ContractData\",K3,\"LongDescription\",, \"T\")","v":"E-Mini S&P 500, Sep 17"},null,null,null,null,null,null,null,"Market:",null,{"$f":"RTD(\"cqg.rtd\", ,\"ContractData\",M3,\"LongDescription\",, \"T\")","v":"E-Mini S&P 500, Dec 17"},null,null,null,null,null,null,null,null,"Market:",{"$f":"RTD(\"cqg.rtd\", ,\"ContractData\",N3,\"LongDescription\",, \"T\")","v":"E-Mini S&P 500, Mar 18"}]
[null,null,null,"-2 Sdev    ",null,"-1 SDev",null,"Last",null,"+1 SDev",null,"+2 SDev",null,"-2 Sdev  ",null,"-1 SDev",null,"Last",null,"+1 SDev","+2 SDev",null,null,"-2 SDev",null,"-1 SDev",null,"Last",null,"+1 SDev","     +2 SDev"]
[null,null,null,{"$f":"IFERROR(TEXT(RTD(\"cqg.rtd\",,\"ContractData\",K3,\"LastQuote\",,\"T\")-(2*RTD(\"cqg.rtd\",,\"ContractData\",K3,\"LastQuote\",,\"T\")*RTD(\"cqg.rtd\",,\"ContractData\",\"C.US.\"&K3,\"AverageVolatility\",,\"T\")*SQRT(K42/365)),$D$1),\"\")","v":"2434.25"},null,{"$f":"IFERROR(TEXT(RTD(\"cqg.rtd\",,\"ContractData\",K3,\"LastQuote\",,\"T\")-(RTD(\"cqg.rtd\",,\"ContractData\",K3,\"LastQuote\",,\"T\")*RTD(\"cqg.rtd\",,\"ContractData\",\"C.US.\"&K3,\"AverageVolatility\",,\"T\")*SQRT(K42/365)),$D$1),\"\")","v":"2434.25"},null,{"$f":"IF($D$1=\"B\",RTD(\"cqg.rtd\", ,\"ContractData\",K3, \"LastTrade\",,\"B\"),TEXT(RTD(\"cqg.rtd\", ,\"ContractData\",K3, \"LastTrade\",, \"T\"),$D$1))","v":"2434.50"},null,{"$f":"IFERROR(TEXT(RTD(\"cqg.rtd\",,\"ContractData\",K3,\"LastQuote\",,\"T\")+(RTD(\"cqg.rtd\",,\"ContractData\",K3,\"LastQuote\",,\"T\")*RTD(\"cqg.rtd\",,\"ContractData\",\"C.US.\"&K3,\"AverageVolatility\",,\"T\")*SQRT(K42/365)),$D$1),\"\")","v":"2434.25"},null,{"$f":"IFERROR(TEXT(RTD(\"cqg.rtd\",,\"ContractData\",K3,\"LastQuote\",,\"T\")+(2*RTD(\"cqg.rtd\",,\"ContractData\",K3,\"LastQuote\",,\"T\")*RTD(\"cqg.rtd\",,\"ContractData\",\"C.US.\"&K3,\"AverageVolatility\",,\"T\")*SQRT(K42/365)),$D$1),\"\")","v":"2434.25"},null,{"$f":"IFERROR(TEXT(RTD(\"cqg.rtd\",,\"ContractData\",M3,\"LastQuote\",,\"T\")-(2*RTD(\"cqg.rtd\",,\"ContractData\",M3,\"LastQuote\",,\"T\")*RTD(\"cqg.rtd\",,\"ContractData\",\"C.US.\"&M3,\"AverageVolatility\",,\"T\")*SQRT(U42/365)),$D$1),\"\")","v":"2298.69"},null,{"$f":"IFERROR(TEXT(RTD(\"cqg.rtd\",,\"ContractData\",M3,\"LastQuote\",,\"T\")-(RTD(\"cqg.rtd\",,\"ContractData\",M3,\"LastQuote\",,\"T\")*RTD(\"cqg.rtd\",,\"ContractData\",\"C.US.\"&M3,\"AverageVolatility\",,\"T\")*SQRT(U42/365)),$D$1),\"\")","v":"2365.59"},null,{"$f":"IF($D$1=\"B\",RTD(\"cqg.rtd\", ,\"ContractData\",M3, \"LastTrade\",,\"B\"),TEXT(RTD(\"cqg.rtd\", ,\"ContractData\",M3, \"LastTrade\",, \"T\"),$D$1))","v":"2432.00"},null,{"$f":"IFERROR(TEXT(RTD(\"cqg.rtd\",,\"ContractData\",M3,\"LastQuote\",,\"T\")+(RTD(\"cqg.rtd\",,\"ContractData\",M3,\"LastQuote\",,\"T\")*RTD(\"cqg.rtd\",,\"ContractData\",\"C.US.\"&M3,\"AverageVolatility\",,\"T\")*SQRT(U42/365)),$D$1),\"\")","v":"2499.41"},{"$f":"IFERROR(TEXT(RTD(\"cqg.rtd\",,\"ContractData\",M3,\"LastQuote\",,\"T\")+(2*RTD(\"cqg.rtd\",,\"ContractData\",M3,\"LastQuote\",,\"T\")*RTD(\"cqg.rtd\",,\"ContractData\",\"C.US.\"&M3,\"AverageVolatility\",,\"T\")*SQRT(U42/365)),$D$1),\"\")","v":"2566.31"},null,null,{"$f":"IFERROR(TEXT(RTD(\"cqg.rtd\",,\"ContractData\",N3,\"LastQuote\",,\"T\")-(2*RTD(\"cqg.rtd\",,\"ContractData\",N3,\"LastQuote\",,\"T\")*RTD(\"cqg.rtd\",,\"ContractData\",\"C.US.\"&N3,\"AverageVolatility\",,\"T\")*SQRT(AD42/365)),$D$1),\"\")","v":"2249.78"},null,{"$f":"IFERROR(TEXT(RTD(\"cqg.rtd\",,\"ContractData\",N3,\"LastQuote\",,\"T\")-(RTD(\"cqg.rtd\",,\"ContractData\",N3,\"LastQuote\",,\"T\")*RTD(\"cqg.rtd\",,\"ContractData\",\"C.US.\"&N3,\"AverageVolatility\",,\"T\")*SQRT(AD42/365)),$D$1),\"\")","v":"2339.64"},null,{"$f":"IF($D$1=\"B\",RTD(\"cqg.rtd\", ,\"ContractData\",N3, \"LastTrade\",,\"B\"),TEXT(RTD(\"cqg.rtd\", ,\"ContractData\",N3, \"LastTrade\",, \"T\"),$D$1))","v":"2431.50"},null,{"$f":"IFERROR(TEXT(RTD(\"cqg.rtd\",,\"ContractData\",N3,\"LastQuote\",,\"T\")+(RTD(\"cqg.rtd\",,\"ContractData\",N3,\"LastQuote\",,\"T\")*RTD(\"cqg.rtd\",,\"ContractData\",\"C.US.\"&N3,\"AverageVolatility\",,\"T\")*SQRT(AD42/365)),$D$1),\"\")","v":"2519.36"},{"$f":"IFERROR(TEXT(RTD(\"cqg.rtd\",,\"ContractData\",N3,\"LastQuote\",,\"T\")+(2*RTD(\"cqg.rtd\",,\"ContractData\",N3,\"LastQuote\",,\"T\")*RTD(\"cqg.rtd\",,\"ContractData\",\"C.US.\"&N3,\"AverageVolatility\",,\"T\")*SQRT(AD42/365)),$D$1),\"\")","v":"2609.22"}]
[null,null,null,"  Copyright © 2015",null,null,"Designed by Thom Hartle"]

{"sheet":"Instructions","index":5,"n_rows":22,"n_cols":14,"rows_kept":22,"cut":false,"hidden":false,"merged":[]}
[]
[]
[null,"RTD is case sensitive. Therefore, use all caps for the symbols and month."]
[null,"First, on each display enter in your account just as it appears at the top of the CQG DOMTrader."]
[null,"Enter in the root symbol for the options using uppercase letters, i.e., CLE."]
[null,"Enter in three option month expiries using two digits for the year. i.e., X15 or wildcards (CLE?1)."]
[null,"Enter in the amount of difference between strikes, i.e., 50"]
[null,"Enter in three underlying contract symbols using uppercase and two digit years, i.e., CLEX15 or CLE?1."]
[null,"Enter in the number of decimal places for the prices, i.e., 2, or N for not decimals."]
[null,"To sort by a column, click the blue Sort button at the top of the column."]
[]
[null,null,null,null,null,null,null,null,null,null,null,null,null,"It is important that you enter an Account for each tab. "]
[]
[]
[]
[]
[]
[null,"The bottom portion of the display details the summary of the positions and the Greeks."]
[null,"Below the summary is a table estimating the first and second standard deviations of the underlying price at a user input of days to expiration. "]
[null,"The underlying symbols are pulled from the top of the dashboard and use the average volatility for at-the-money option. "]
[null,"If you enter in an underlying symbol with a wildcard, then the average volatility will be the at-the-money option using the same wildcard. "]
[null,"If you enter in an underlying symbol with an expiration month, then the at-the-money option will use the same symbol for the average volatility."]

{"sheet":"First","index":6,"n_rows":449,"n_cols":43,"rows_kept":449,"cut":false,"hidden":true,"merged":[]}
[{"$f":"IF(OR(ISTEXT(RTD(\"cqg.rtd\",,\"OrderData\",\"\"&B1&\"\",\"\",\"OpenPosition\",\"\"&Display1!$D$3&\"\")),RTD(\"cqg.rtd\",,\"OrderData\",\"\"&B1&\"\",\"\",\"OpenPosition\",\"\"&Display1!$D$3&\"\")=0),0.001,1)","v":1E-3},{"$f":"(LEFT(B2,SEARCH(Display1!$G$2,B2)+LEN(Display1!$G$2)+2))&RIGHT(B2,LEN(B2)-(SEARCH(Display1!$G$2,B2)+LEN(Display1!$G$2)+2))+Display1!$J$3","v":"C.US.CLE1N176250"},{"$f":"IF(D1=1,VLOOKUP(E1,$A$1:$B$448,2),0)","v":0},{"$f":"IF(LOOKUP(E1,$A$1:$A$448)<>E1,0,1)","v":0},1,{"$f":"IF(D1=1,RTD(\"cqg.rtd\", ,\"ContractData\",C1, \"ImpliedVolatility\",, \"T\"),\"\")","v":""},{"$f":"IF(F1=\"\",\"\",RANK(F1,$F$1:$F$35,0)+COUNTIF($F$1:F1,F1)-1)","v":""},{"$f":"C1","v":0},1,{"$f":"IF(D1=1,IF(F1=\"\",H1,VLOOKUP(I1,$G$1:$H$35,2,FALSE)),0)","v":0},{"$f":"IF(D1=1,RTD(\"cqg.rtd\", ,\"OrderData\",\"\"&C1&\"\", \"\", \"OpenTradeEquity\",\"\"&$B$449&\"\"),\"\")","v":""},{"$f":"IF(K1=\"\",\"\",RANK(K1,$K$1:$K$35,0))+COUNTIF($K$1:K1,K1)-1","v":{"$error":"#VALUE!"}},{"$f":"C1","v":0},1,{"$f":"IF(D1=1,VLOOKUP(N1,$L$1:$M$35,2,FALSE),\"\")","v":""},{"$f":"IF(D1=1,RTD(\"cqg.rtd\", ,\"ContractData\",C1, \"Delta\",, \"T\"),\"\")","v":""},{"$f":"IF(D1=1,RTD(\"cqg.rtd\", ,\"OrderData\", \"\"&O1&\"\", \"\", \"OpenPosition\",\"\"&$B$449&\"\"),\"\")","v":""},{"$f":"IF(D1=0,\"\",IF(LEFT(O1,1)=\"F\",Q1*100,Q1*RTD(\"cqg.rtd\",,\"ContractData\",O1,\"Delta\",,\"T\")))","v":""},{"$f":"IF(R1=\"\",\"\",RANK(R1,$R$1:$R$35,0)+COUNTIF($R$1:R1,R1)-1)","v":""},{"$f":"O1","v":""},1,{"$f":"IF(D1=1,VLOOKUP(U1,$S$1:$T$35,2,FALSE),\"\")","v":""},{"$f":"IF(D1=1,RTD(\"cqg.rtd\", ,\"ContractData\",C1, \"Vega\",, \"T\"),\"\")","v":""},{"$f":"IF(W1=\"\",\"\",RANK(W1,$W$1:$W$35,0)+COUNTIF($W$1:W1,W1)-1)","v":""},{"$f":"C1","v":0},1,{"$f":"IF(D1=1,IF(W1=\"\",Y1,VLOOKUP(Z1,$X$1:$Y$35,2,FALSE)),\"\")","v":""},{"$f":"IF(D1=1,RTD(\"cqg.rtd\", ,\"ContractData\",C1, \"Gamma\",, \"T\"),\"\")","v":""},{"$f":"IF(AB1=\"\",\"\",RANK(AB1,$AB$1:$AB$35,0)+COUNTIF($AB$1:AB1,AB1)-1)","v":""},{"$f":"C1","v":0},1,{"$f":"IF(D1=1,IF(AB1=\"\",AD1,VLOOKUP(AE1,$AC$1:$AD$35,2,FALSE)),\"\")","v":""},{"$f":"IF(D1=1,RTD(\"cqg.rtd\", ,\"ContractData\",C1, \"Theta\",, \"T\"),\"\")","v":""},{"$f":"IF(AG1=\"\",\"\",RANK(AG1,$AG$1:$AG$35,0)+COUNTIF($AG$1:AG1,AG1)-1)","v":""},{"$f":"C1","v":0},1,{"$f":"IF(D1=1,IF(AG1=\"\",AI1,VLOOKUP(AJ1,$AH$1:$AI$35,2,FALSE)),\"\")","v":""},{"$f":"IF(D1=1,1/RTD(\"cqg.rtd\", ,\"ContractData\",C1, \"ExpirationDate\",, \"T\"),\"\")","v":""},{"$f":"IF(AL1=\"\",\"\",RANK(AL1,$AL$1:$AL$35,0)+COUNTIF($AL$1:AL1,AL1)-1)","v":""},{"$f":"C1","v":0},1,{"$f":"IF(D1=1,IF(AL1=\"\",AN1,VLOOKUP(AO1,$AM$1:$AN$35,2,FALSE)),\"\")","v":""}]
[{"$f":"IF(OR(ISTEXT(RTD(\"cqg.rtd\",,\"OrderData\",\"\"&B2&\"\",\"\",\"OpenPosition\",\"\"&Display1!$D$3&\"\")),RTD(\"cqg.rtd\",,\"OrderData\",\"\"&B2&\"\",\"\",\"OpenPosition\",\"\"&Display1!$D$3&\"\")=0),A1+0.001,INT(A1)+1)","v":2E-3},{"$f":"(LEFT(B3,SEARCH(Display1!$G$2,B3)+LEN(Display1!$G$2)+2))&RIGHT(B3,LEN(B3)-(SEARCH(Display1!$G$2,B3)+LEN(Display1!$G$2)+2))+Display1!$J$3","v":"C.US.CLE1N176200"},{"$f":"IF(D2=1,VLOOKUP(E2,$A$1:$B$448,2),0)","v":0},{"$f":"IF(LOOKUP(E2,$A$1:$A$448)<>E2,0,1)","v":0},{"$f":"E1+1","v":2},{"$f":"IF(D2=1,RTD(\"cqg.rtd\", ,\"ContractData\",C2, \"ImpliedVolatility\",, \"T\"),\"\")","v":""},{"$f":"IF(F2=\"\",\"\",RANK(F2,$F$1:$F$35,0)+COUNTIF($F$1:F2,F2)-1)","v":""},{"$f":"C2","v":0},{"$f":"I1+1","v":2},{"$f":"IF(D2=1,IF(F2=\"\",H2,VLOOKUP(I2,$G$1:$H$35,2,FALSE)),0)","v":0},{"$f":"IF(D2=1,RTD(\"cqg.rtd\", ,\"OrderData\",\"\"&C2&\"\", \"\", \"OpenTradeEquity\",\"\"&$B$449&\"\"),\"\")","v":""},{"$f":"IF(K2=\"\",\"\",RANK(K2,$K$1:$K$35,0))+COUNTIF($K$1:K2,K2)-1","v":{"$error":"#VALUE!"}},{"$f":"C2","v":0},{"$f":"N1+1","v":2},{"$f":"IF(D2=1,VLOOKUP(N2,$L$1:$M$35,2,FALSE),\"\")","v":""},{"$f":"IF(D2=1,RTD(\"cqg.rtd\", ,\"ContractData\",C2, \"Delta\",, \"T\"),\"\")","v":""},{"$f":"IF(D2=1,RTD(\"cqg.rtd\", ,\"OrderData\", \"\"&O2&\"\", \"\", \"OpenPosition\",\"\"&$B$449&\"\"),\"\")","v":""},{"$f":"IF(D2=0,\"\",IF(LEFT(O2,1)=\"F\",Q2*100,Q2*RTD(\"cqg.rtd\",,\"ContractData\",O2,\"Delta\",,\"T\")))","v":""},{"$f":"IF(R2=\"\",\"\",RANK(R2,$R$1:$R$35,0)+COUNTIF($R$1:R2,R2)-1)","v":""},{"$f":"O2","v":""},{"$f":"U1+1","v":2},{"$f":"IF(D2=1,VLOOKUP(U2,$S$1:$T$35,2,FALSE),\"\")","v":""},{"$f":"IF(D2=1,RTD(\"cqg.rtd\", ,\"ContractData\",C2, \"Vega\",, \"T\"),\"\")","v":""},{"$f":"IF(W2=\"\",\"\",RANK(W2,$W$1:$W$35,0)+COUNTIF($W$1:W2,W2)-1)","v":""},{"$f":"C2","v":0},{"$f":"Z1+1","v":2},{"$f":"IF(D2=1,IF(W2=\"\",Y2,VLOOKUP(Z2,$X$1:$Y$35,2,FALSE)),\"\")","v":""},{"$f":"IF(D2=1,RTD(\"cqg.rtd\", ,\"ContractData\",C2, \"Gamma\",, \"T\"),\"\")","v":""},{"$f":"IF(AB2=\"\",\"\",RANK(AB2,$AB$1:$AB$35,0)+COUNTIF($AB$1:AB2,AB2)-1)","v":""},{"$f":"C2","v":0},{"$f":"AE1+1","v":2},{"$f":"IF(D2=1,IF(AB2=\"\",AD2,VLOOKUP(AE2,$AC$1:$AD$35,2,FALSE)),\"\")","v":""},{"$f":"IF(D2=1,RTD(\"cqg.rtd\", ,\"ContractData\",C2, \"Theta\",, \"T\"),\"\")","v":""},{"$f":"IF(AG2=\"\",\"\",RANK(AG2,$AG$1:$AG$35,0)+COUNTIF($AG$1:AG2,AG2)-1)","v":""},{"$f":"C2","v":0},{"$f":"AJ1+1","v":2},{"$f":"IF(D2=1,IF(AG2=\"\",AI2,VLOOKUP(AJ2,$AH$1:$AI$35,2,FALSE)),\"\")","v":""},{"$f":"IF(D2=1,1/RTD(\"cqg.rtd\", ,\"ContractData\",C2, \"ExpirationDate\",, \"T\"),\"\")","v":""},{"$f":"IF(AL2=\"\",\"\",RANK(AL2,$AL$1:$AL$35,0)+COUNTIF($AL$1:AL2,AL2)-1)","v":""},{"$f":"C2","v":0},{"$f":"AO1+1","v":2},{"$f":"IF(D2=1,IF(AL2=\"\",AN2,VLOOKUP(AO2,$AM$1:$AN$35,2,FALSE)),\"\")","v":""}]
[{"$f":"IF(OR(ISTEXT(RTD(\"cqg.rtd\",,\"OrderData\",\"\"&B3&\"\",\"\",\"OpenPosition\",\"\"&Display1!$D$3&\"\")),RTD(\"cqg.rtd\",,\"OrderData\",\"\"&B3&\"\",\"\",\"OpenPosition\",\"\"&Display1!$D$3&\"\")=0),A2+0.001,INT(A2)+1)","v":3.0000000000000001E-3},{"$f":"(LEFT(B4,SEARCH(Display1!$G$2,B4)+LEN(Display1!$G$2)+2))&RIGHT(B4,LEN(B4)-(SEARCH(Display1!$G$2,B4)+LEN(Display1!$G$2)+2))+Display1!$J$3","v":"C.US.CLE1N176150"},0,0,{"$f":"E2+1","v":3},{"$f":"IF(D3=1,RTD(\"cqg.rtd\", ,\"ContractData\",C3, \"ImpliedVolatility\",, \"T\"),\"\")","v":""},{"$f":"IF(F3=\"\",\"\",RANK(F3,$F$1:$F$35,0)+COUNTIF($F$1:F3,F3)-1)","v":""},0,{"$f":"I2+1","v":3},0,{"$f":"IF(D3=1,RTD(\"cqg.rtd\", ,\"OrderData\",\"\"&C3&\"\", \"\", \"OpenTradeEquity\",\"\"&$B$449&\"\"),\"\")","v":""},{"$f":"IF(K3=\"\",\"\",RANK(K3,$K$1:$K$35,0))+COUNTIF($K$1:K3,K3)-1","v":{"$error":"#VALUE!"}},0,{"$f":"N2+1","v":3},"",{"$f":"IF(D3=1,RTD(\"cqg.rtd\", ,\"ContractData\",C3, \"Delta\",, \"T\"),\"\")","v":""},{"$f":"IF(D3=1,RTD(\"cqg.rtd\", ,\"OrderData\", \"\"&O3&\"\", \"\", \"OpenPosition\",\"\"&$B$449&\"\"),\"\")","v":""},{"$f":"IF(D3=0,\"\",IF(LEFT(O3,1)=\"F\",Q3*100,Q3*RTD(\"cqg.rtd\",,\"ContractData\",O3,\"Delta\",,\"T\")))","v":""},{"$f":"IF(R3=\"\",\"\",RANK(R3,$R$1:$R$35,0)+COUNTIF($R$1:R3,R3)-1)","v":""},"",{"$f":"U2+1","v":3},"",{"$f":"IF(D3=1,RTD(\"cqg.rtd\", ,\"ContractData\",C3, \"Vega\",, \"T\"),\"\")","v":""},{"$f":"IF(W3=\"\",\"\",RANK(W3,$W$1:$W$35,0)+COUNTIF($W$1:W3,W3)-1)","v":""},0,{"$f":"Z2+1","v":3},"",{"$f":"IF(D3=1,RTD(\"cqg.rtd\", ,\"ContractData\",C3, \"Gamma\",, \"T\"),\"\")","v":""},{"$f":"IF(AB3=\"\",\"\",RANK(AB3,$AB$1:$AB$35,0)+COUNTIF($AB$1:AB3,AB3)-1)","v":""},0,3,{"$f":"IF(D3=1,IF(AB3=\"\",AD3,VLOOKUP(AE3,$AC$1:$AD$35,2,FALSE)),\"\")","v":""},{"$f":"IF(D3=1,RTD(\"cqg.rtd\", ,\"ContractData\",C3, \"Theta\",, \"T\"),\"\")","v":""},{"$f":"IF(AG3=\"\",\"\",RANK(AG3,$AG$1:$AG$35,0)+COUNTIF($AG$1:AG3,AG3)-1)","v":""},0,{"$f":"AJ2+1","v":3},"",{"$f":"IF(D3=1,1/RTD(\"cqg.rtd\", ,\"ContractData\",C3, \"ExpirationDate\",, \"T\"),\"\")","v":""},{"$f":"IF(AL3=\"\",\"\",RANK(AL3,$AL$1:$AL$35,0)+COUNTIF($AL$1:AL3,AL3)-1)","v":""},0,{"$f":"AO2+1","v":3},{"$f":"IF(D3=1,IF(AL3=\"\",AN3,VLOOKUP(AO3,$AM$1:$AN$35,2,FALSE)),\"\")","v":""}]
[{"$f":"IF(OR(ISTEXT(RTD(\"cqg.rtd\",,\"OrderData\",\"\"&B4&\"\",\"\",\"OpenPosition\",\"\"&Display1!$D$3&\"\")),RTD(\"cqg.rtd\",,\"OrderData\",\"\"&B4&\"\",\"\",\"OpenPosition\",\"\"&Display1!$D$3&\"\")=0),A3+0.001,INT(A3)+1)","v":4.0000000000000001E-3},{"$f":"(LEFT(B5,SEARCH(Display1!$G$2,B5)+LEN(Display1!$G$2)+2))&RIGHT(B5,LEN(B5)-(SEARCH(Display1!$G$2,B5)+LEN(Display1!$G$2)+2))+Display1!$J$3","v":"C.US.CLE1N176100"},0,0,4,{"$f":"IF(D4=1,RTD(\"cqg.rtd\", ,\"ContractData\",C4, \"ImpliedVolatility\",, \"T\"),\"\")","v":""},{"$f":"IF(F4=\"\",\"\",RANK(F4,$F$1:$F$35,0)+COUNTIF($F$1:F4,F4)-1)","v":""},0,4,0,{"$f":"IF(D4=1,RTD(\"cqg.rtd\", ,\"OrderData\",\"\"&C4&\"\", \"\", \"OpenTradeEquity\",\"\"&$B$449&\"\"),\"\")","v":""},{"$f":"IF(K4=\"\",\"\",RANK(K4,$K$1:$K$35,0))+COUNTIF($K$1:K4,K4)-1","v":{"$error":"#VALUE!"}},0,4,"",{"$f":"IF(D4=1,RTD(\"cqg.rtd\", ,\"ContractData\",C4, \"Delta\",, \"T\"),\"\")","v":""},{"$f":"IF(D4=1,RTD(\"cqg.rtd\", ,\"OrderData\", \"\"&O4&\"\", \"\", \"OpenPosition\",\"\"&$B$449&\"\"),\"\")","v":""},{"$f":"IF(D4=0,\"\",IF(LEFT(O4,1)=\"F\",Q4*100,Q4*RTD(\"cqg.rtd\",,\"ContractData\",O4,\"Delta\",,\"T\")))","v":""},{"$f":"IF(R4=\"\",\"\",RANK(R4,$R$1:$R$35,0)+COUNTIF($R$1:R4,R4)-1)","v":""},"",4,"",{"$f":"IF(D4=1,RTD(\"cqg.rtd\", ,\"ContractData\",C4, \"Vega\",, \"T\"),\"\")","v":""},{"$f":"IF(W4=\"\",\"\",RANK(W4,$W$1:$W$35,0)+COUNTIF($W$1:W4,W4)-1)","v":""},0,4,"",{"$f":"IF(D4=1,RTD(\"cqg.rtd\", ,\"ContractData\",C4, \"Gamma\",, \"T\"),\"\")","v":""},{"$f":"IF(AB4=\"\",\"\",RANK(AB4,$AB$1:$AB$35,0)+COUNTIF($AB$1:AB4,AB4)-1)","v":""},0,4,"",{"$f":"IF(D4=1,RTD(\"cqg.rtd\", ,\"ContractData\",C4, \"Theta\",, \"T\"),\"\")","v":""},{"$f":"IF(AG4=\"\",\"\",RANK(AG4,$AG$1:$AG$35,0)+COUNTIF($AG$1:AG4,AG4)-1)","v":""},0,4,"",{"$f":"IF(D4=1,1/RTD(\"cqg.rtd\", ,\"ContractData\",C4, \"ExpirationDate\",, \"T\"),\"\")","v":""},{"$f":"IF(AL4=\"\",\"\",RANK(AL4,$AL$1:$AL$35,0)+COUNTIF($AL$1:AL4,AL4)-1)","v":""},0,4,""]
[{"$f":"IF(OR(ISTEXT(RTD(\"cqg.rtd\",,\"OrderData\",\"\"&B5&\"\",\"\",\"OpenPosition\",\"\"&Display1!$D$3&\"\")),RTD(\"cqg.rtd\",,\"OrderData\",\"\"&B5&\"\",\"\",\"OpenPosition\",\"\"&Display1!$D$3&\"\")=0),A4+0.001,INT(A4)+1)","v":5.0000000000000001E-3},{"$f":"(LEFT(B6,SEARCH(Display1!$G$2,B6)+LEN(Display1!$G$2)+2))&RIGHT(B6,LEN(B6)-(SEARCH(Display1!$G$2,B6)+LEN(Display1!$G$2)+2))+Display1!$J$3","v":"C.US.CLE1N176050"},0,0,5,{"$f":"IF(D5=1,RTD(\"cqg.rtd\", ,\"ContractData\",C5, \"ImpliedVolatility\",, \"T\"),\"\")","v":""},{"$f":"IF(F5=\"\",\"\",RANK(F5,$F$1:$F$35,0)+COUNTIF($F$1:F5,F5)-1)","v":""},0,5,0,{"$f":"IF(D5=1,RTD(\"cqg.rtd\", ,\"OrderData\",\"\"&C5&\"\", \"\", \"OpenTradeEquity\",\"\"&$B$449&\"\"),\"\")","v":""},{"$f":"IF(K5=\"\",\"\",RANK(K5,$K$1:$K$35,0))+COUNTIF($K$1:K5,K5)-1","v":{"$error":"#VALUE!"}},0,5,"",{"$f":"IF(D5=1,RTD(\"cqg.rtd\", ,\"ContractData\",C5, \"Delta\",, \"T\"),\"\")","v":""},{"$f":"IF(D5=1,RTD(\"cqg.rtd\", ,\"OrderData\", \"\"&O5&\"\", \"\", \"OpenPosition\",\"\"&$B$449&\"\"),\"\")","v":""},{"$f":"IF(D5=0,\"\",IF(LEFT(O5,1)=\"F\",Q5*100,Q5*RTD(\"cqg.rtd\",,\"ContractData\",O5,\"Delta\",,\"T\")))","v":""},{"$f":"IF(R5=\"\",\"\",RANK(R5,$R$1:$R$35,0)+COUNTIF($R$1:R5,R5)-1)","v":""},"",5,"",{"$f":"IF(D5=1,RTD(\"cqg.rtd\", ,\"ContractData\",C5, \"Vega\",, \"T\"),\"\")","v":""},{"$f":"IF(W5=\"\",\"\",RANK(W5,$W$1:$W$35,0)+COUNTIF($W$1:W5,W5)-1)","v":""},0,5,"",{"$f":"IF(D5=1,RTD(\"cqg.rtd\", ,\"ContractData\",C5, \"Gamma\",, \"T\"),\"\")","v":""},{"$f":"IF(AB5=\"\",\"\",RANK(AB5,$AB$1:$AB$35,0)+COUNTIF($AB$1:AB5,AB5)-1)","v":""},0,5,"",{"$f":"IF(D5=1,RTD(\"cqg.rtd\", ,\"ContractData\",C5, \"Theta\",, \"T\"),\"\")","v":""},{"$f":"IF(AG5=\"\",\"\",RANK(AG5,$AG$1:$AG$35,0)+COUNTIF($AG$1:AG5,AG5)-1)","v":""},0,5,"",{"$f":"IF(D5=1,1/RTD(\"cqg.rtd\", ,\"ContractData\",C5, \"ExpirationDate\",, \"T\"),\"\")","v":""},{"$f":"IF(AL5=\"\",\"\",RANK(AL5,$AL$1:$AL$35,0)+COUNTIF($AL$1:AL5,AL5)-1)","v":""},0,5,""]
[{"$f":"IF(OR(ISTEXT(RTD(\"cqg.rtd\",,\"OrderData\",\"\"&B6&\"\",\"\",\"OpenPosition\",\"\"&Display1!$D$3&\"\")),RTD(\"cqg.rtd\",,\"OrderData\",\"\"&B6&\"\",\"\",\"OpenPosition\",\"\"&Display1!$D$3&\"\")=0),A5+0.001,INT(A5)+1)","v":6.0000000000000001E-3},{"$f":"(LEFT(B7,SEARCH(Display1!$G$2,B7)+LEN(Display1!$G$2)+2))&RIGHT(B7,LEN(B7)-(SEARCH(Display1!$G$2,B7)+LEN(Display1!$G$2)+2))+Display1!$J$3","v":"C.US.CLE1N176000"},0,0,6,{"$f":"IF(D6=1,RTD(\"cqg.rtd\", ,\"ContractData\",C6, \"ImpliedVolatility\",, \"T\"),\"\")","v":""},{"$f":"IF(F6=\"\",\"\",RANK(F6,$F$1:$F$35,0)+COUNTIF($F$1:F6,F6)-1)","v":""},0,6,0,{"$f":"IF(D6=1,RTD(\"cqg.rtd\", ,\"OrderData\",\"\"&C6&\"\", \"\", \"OpenTradeEquity\",\"\"&$B$449&\"\"),\"\")","v":""},{"$f":"IF(K6=\"\",\"\",RANK(K6,$K$1:$K$35,0))+COUNTIF($K$1:K6,K6)-1","v":{"$error":"#VALUE!"}},0,6,"",{"$f":"IF(D6=1,RTD(\"cqg.rtd\", ,\"ContractData\",C6, \"Delta\",, \"T\"),\"\")","v":""},{"$f":"IF(D6=1,RTD(\"cqg.rtd\", ,\"OrderData\", \"\"&O6&\"\", \"\", \"OpenPosition\",\"\"&$B$449&\"\"),\"\")","v":""},{"$f":"IF(D6=0,\"\",IF(LEFT(O6,1)=\"F\",Q6*100,Q6*RTD(\"cqg.rtd\",,\"ContractData\",O6,\"Delta\",,\"T\")))","v":""},{"$f":"IF(R6=\"\",\"\",RANK(R6,$R$1:$R$35,0)+COUNTIF($R$1:R6,R6)-1)","v":""},"",6,"",{"$f":"IF(D6=1,RTD(\"cqg.rtd\", ,\"ContractData\",C6, \"Vega\",, \"T\"),\"\")","v":""},{"$f":"IF(W6=\"\",\"\",RANK(W6,$W$1:$W$35,0)+COUNTIF($W$1:W6,W6)-1)","v":""},0,6,"",{"$f":"IF(D6=1,RTD(\"cqg.rtd\", ,\"ContractData\",C6, \"Gamma\",, \"T\"),\"\")","v":""},{"$f":"IF(AB6=\"\",\"\",RANK(AB6,$AB$1:$AB$35,0)+COUNTIF($AB$1:AB6,AB6)-1)","v":""},0,6,"",{"$f":"IF(D6=1,RTD(\"cqg.rtd\", ,\"ContractData\",C6, \"Theta\",, \"T\"),\"\")","v":""},{"$f":"IF(AG6=\"\",\"\",RANK(AG6,$AG$1:$AG$35,0)+COUNTIF($AG$1:AG6,AG6)-1)","v":""},0,6,"",{"$f":"IF(D6=1,1/RTD(\"cqg.rtd\", ,\"ContractData\",C6, \"ExpirationDate\",, \"T\"),\"\")","v":""},{"$f":"IF(AL6=\"\",\"\",RANK(AL6,$AL$1:$AL$35,0)+COUNTIF($AL$1:AL6,AL6)-1)","v":""},0,6,""]
[{"$f":"IF(OR(ISTEXT(RTD(\"cqg.rtd\",,\"OrderData\",\"\"&B7&\"\",\"\",\"OpenPosition\",\"\"&Display1!$D$3&\"\")),RTD(\"cqg.rtd\",,\"OrderData\",\"\"&B7&\"\",\"\",\"OpenPosition\",\"\"&Display1!$D$3&\"\")=0),A6+0.001,INT(A6)+1)","v":7.0000000000000001E-3},{"$f":"(LEFT(B8,SEARCH(Display1!$G$2,B8)+LEN(Display1!$G$2)+2))&RIGHT(B8,LEN(B8)-(SEARCH(Display1!$G$2,B8)+LEN(Display1!$G$2)+2))+Display1!$J$3","v":"C.US.CLE1N175950"},0,0,7,{"$f":"IF(D7=1,RTD(\"cqg.rtd\", ,\"ContractData\",C7, \"ImpliedVolatility\",, \"T\"),\"\")","v":""},{"$f":"IF(F7=\"\",\"\",RANK(F7,$F$1:$F$35,0)+COUNTIF($F$1:F7,F7)-1)","v":""},0,7,0,{"$f":"IF(D7=1,RTD(\"cqg.rtd\", ,\"OrderData\",\"\"&C7&\"\", \"\", \"OpenTradeEquity\",\"\"&$B$449&\"\"),\"\")","v":""},{"$f":"IF(K7=\"\",\"\",RANK(K7,$K$1:$K$35,0))+COUNTIF($K$1:K7,K7)-1","v":{"$error":"#VALUE!"}},0,7,{"$f":"IF(D7=1,VLOOKUP(N7,$L$1:$M$35,2,FALSE),\"\")","v":""},{"$f":"IF(D7=1,RTD(\"cqg.rtd\", ,\"ContractData\",C7, \"Delta\",, \"T\"),\"\")","v":""},{"$f":"IF(D7=1,RTD(\"cqg.rtd\", ,\"OrderData\", \"\"&O7&\"\", \"\", \"OpenPosition\",\"\"&$B$449&\"\"),\"\")","v":""},{"$f":"IF(D7=0,\"\",IF(LEFT(O7,1)=\"F\",Q7*100,Q7*RTD(\"cqg.rtd\",,\"ContractData\",O7,\"Delta\",,\"T\")))","v":""},{"$f":"IF(R7=\"\",\"\",RANK(R7,$R$1:$R$35,0)+COUNTIF($R$1:R7,R7)-1)","v":""},"",7,"",{"$f":"IF(D7=1,RTD(\"cqg.rtd\", ,\"ContractData\",C7, \"Vega\",, \"T\"),\"\")","v":""},{"$f":"IF(W7=\"\",\"\",RANK(W7,$W$1:$W$35,0)+COUNTIF($W$1:W7,W7)-1)","v":""},0,7,"",{"$f":"IF(D7=1,RTD(\"cqg.rtd\", ,\"ContractData\",C7, \"Gamma\",, \"T\"),\"\")","v":""},{"$f":"IF(AB7=\"\",\"\",RANK(AB7,$AB$1:$AB$35,0)+COUNTIF($AB$1:AB7,AB7)-1)","v":""},0,7,"",{"$f":"IF(D7=1,RTD(\"cqg.rtd\", ,\"ContractData\",C7, \"Theta\",, \"T\"),\"\")","v":""},{"$f":"IF(AG7=\"\",\"\",RANK(AG7,$AG$1:$AG$35,0)+COUNTIF($AG$1:AG7,AG7)-1)","v":""},0,7,"",{"$f":"IF(D7=1,1/RTD(\"cqg.rtd\", ,\"ContractData\",C7, \"ExpirationDate\",, \"T\"),\"\")","v":""},{"$f":"IF(AL7=\"\",\"\",RANK(AL7,$AL$1:$AL$35,0)+COUNTIF($AL$1:AL7,AL7)-1)","v":""},0,7,""]
[{"$f":"IF(OR(ISTEXT(RTD(\"cqg.rtd\",,\"OrderData\",\"\"&B8&\"\",\"\",\"OpenPosition\",\"\"&Display1!$D$3&\"\")),RTD(\"cqg.rtd\",,\"OrderData\",\"\"&B8&\"\",\"\",\"OpenPosition\",\"\"&Display1!$D$3&\"\")=0),A7+0.001,INT(A7)+1)","v":8.0000000000000002E-3},{"$f":"(LEFT(B9,SEARCH(Display1!$G$2,B9)+LEN(Display1!$G$2)+2))&RIGHT(B9,LEN(B9)-(SEARCH(Display1!$G$2,B9)+LEN(Display1!$G$2)+2))+Display1!$J$3","v":"C.US.CLE1N175900"},0,0,8,{"$f":"IF(D8=1,RTD(\"cqg.rtd\", ,\"ContractData\",C8, \"ImpliedVolatility\",, \"T\"),\"\")","v":""},{"$f":"IF(F8=\"\",\"\",RANK(F8,$F$1:$F$35,0)+COUNTIF($F$1:F8,F8)-1)","v":""},0,8,0,{"$f":"IF(D8=1,RTD(\"cqg.rtd\", ,\"OrderData\",\"\"&C8&\"\", \"\", \"OpenTradeEquity\",\"\"&$B$449&\"\"),\"\")","v":""},{"$f":"IF(K8=\"\",\"\",RANK(K8,$K$1:$K$35,0))+COUNTIF($K$1:K8,K8)-1","v":{"$error":"#VALUE!"}},0,8,"",{"$f":"IF(D8=1,RTD(\"cqg.rtd\", ,\"ContractData\",C8, \"Delta\",, \"T\"),\"\")","v":""},{"$f":"IF(D8=1,RTD(\"cqg.rtd\", ,\"OrderData\", \"\"&O8&\"\", \"\", \"OpenPosition\",\"\"&$B$449&\"\"),\"\")","v":""},{"$f":"IF(D8=0,\"\",IF(LEFT(O8,1)=\"F\",Q8*100,Q8*RTD(\"cqg.rtd\",,\"ContractData\",O8,\"Delta\",,\"T\")))","v":""},{"$f":"IF(R8=\"\",\"\",RANK(R8,$R$1:$R$35,0)+COUNTIF($R$1:R8,R8)-1)","v":""},"",8,"",{"$f":"IF(D8=1,RTD(\"cqg.rtd\", ,\"ContractData\",C8, \"Vega\",, \"T\"),\"\")","v":""},{"$f":"IF(W8=\"\",\"\",RANK(W8,$W$1:$W$35,0)+COUNTIF($W$1:W8,W8)-1)","v":""},0,8,"",{"$f":"IF(D8=1,RTD(\"cqg.rtd\", ,\"ContractData\",C8, \"Gamma\",, \"T\"),\"\")","v":""},{"$f":"IF(AB8=\"\",\"\",RANK(AB8,$AB$1:$AB$35,0)+COUNTIF($AB$1:AB8,AB8)-1)","v":""},0,8,"",{"$f":"IF(D8=1,RTD(\"cqg.rtd\", ,\"ContractData\",C8, \"Theta\",, \"T\"),\"\")","v":""},{"$f":"IF(AG8=\"\",\"\",RANK(AG8,$AG$1:$AG$35,0)+COUNTIF($AG$1:AG8,AG8)-1)","v":""},0,8,"",{"$f":"IF(D8=1,1/RTD(\"cqg.rtd\", ,\"ContractData\",C8, \"ExpirationDate\",, \"T\"),\"\")","v":""},{"$f":"IF(AL8=\"\",\"\",RANK(AL8,$AL$1:$AL$35,0)+COUNTIF($AL$1:AL8,AL8)-1)","v":""},0,8,""]
[{"$f":"IF(OR(ISTEXT(RTD(\"cqg.rtd\",,\"OrderData\",\"\"&B9&\"\",\"\",\"OpenPosition\",\"\"&Display1!$D$3&\"\")),RTD(\"cqg.rtd\",,\"OrderData\",\"\"&B9&\"\",\"\",\"OpenPosition\",\"\"&Display1!$D$3&\"\")=0),A8+0.001,INT(A8)+1)","v":9.0000000000000011E-3},{"$f":"(LEFT(B10,SEARCH(Display1!$G$2,B10)+LEN(Display1!$G$2)+2))&RIGHT(B10,LEN(B10)-(SEARCH(Display1!$G$2,B10)+LEN(Display1!$G$2)+2))+Display1!$J$3","v":"C.US.CLE1N175850"},0,0,9,{"$f":"IF(D9=1,RTD(\"cqg.rtd\", ,\"ContractData\",C9, \"ImpliedVolatility\",, \"T\"),\"\")","v":""},{"$f":"IF(F9=\"\",\"\",RANK(F9,$F$1:$F$35,0)+COUNTIF($F$1:F9,F9)-1)","v":""},0,9,0,{"$f":"IF(D9=1,RTD(\"cqg.rtd\", ,\"OrderData\",\"\"&C9&\"\", \"\", \"OpenTradeEquity\",\"\"&$B$449&\"\"),\"\")","v":""},{"$f":"IF(K9=\"\",\"\",RANK(K9,$K$1:$K$35,0))+COUNTIF($K$1:K9,K9)-1","v":{"$error":"#VALUE!"}},0,9,"",{"$f":"IF(D9=1,RTD(\"cqg.rtd\", ,\"ContractData\",C9, \"Delta\",, \"T\"),\"\")","v":""},{"$f":"IF(D9=1,RTD(\"cqg.rtd\", ,\"OrderData\", \"\"&O9&\"\", \"\", \"OpenPosition\",\"\"&$B$449&\"\"),\"\")","v":""},{"$f":"IF(D9=0,\"\",IF(LEFT(O9,1)=\"F\",Q9*100,Q9*RTD(\"cqg.rtd\",,\"ContractData\",O9,\"Delta\",,\"T\")))","v":""},{"$f":"IF(R9=\"\",\"\",RANK(R9,$R$1:$R$35,0)+COUNTIF($R$1:R9,R9)-1)","v":""},"",9,"",{"$f":"IF(D9=1,RTD(\"cqg.rtd\", ,\"ContractData\",C9, \"Vega\",, \"T\"),\"\")","v":""},{"$f":"IF(W9=\"\",\"\",RANK(W9,$W$1:$W$35,0)+COUNTIF($W$1:W9,W9)-1)","v":""},0,9,"",{"$f":"IF(D9=1,RTD(\"cqg.rtd\", ,\"ContractData\",C9, \"Gamma\",, \"T\"),\"\")","v":""},{"$f":"IF(AB9=\"\",\"\",RANK(AB9,$AB$1:$AB$35,0)+COUNTIF($AB$1:AB9,AB9)-1)","v":""},0,9,"",{"$f":"IF(D9=1,RTD(\"cqg.rtd\", ,\"ContractData\",C9, \"Theta\",, \"T\"),\"\")","v":""},{"$f":"IF(AG9=\"\",\"\",RANK(AG9,$AG$1:$AG$35,0)+COUNTIF($AG$1:AG9,AG9)-1)","v":""},0,9,"",{"$f":"IF(D9=1,1/RTD(\"cqg.rtd\", ,\"ContractData\",C9, \"ExpirationDate\",, \"T\"),\"\")","v":""},{"$f":"IF(AL9=\"\",\"\",RANK(AL9,$AL$1:$AL$35,0)+COUNTIF($AL$1:AL9,AL9)-1)","v":""},0,9,""]
[{"$f":"IF(OR(ISTEXT(RTD(\"cqg.rtd\",,\"OrderData\",\"\"&B10&\"\",\"\",\"OpenPosition\",\"\"&Display1!$D$3&\"\")),RTD(\"cqg.rtd\",,\"OrderData\",\"\"&B10&\"\",\"\",\"OpenPosition\",\"\"&Display1!$D$3&\"\")=0),A9+0.001,INT(A9)+1)","v":1.0000000000000002E-2},{"$f":"(LEFT(B11,SEARCH(Display1!$G$2,B11)+LEN(Display1!$G$2)+2))&RIGHT(B11,LEN(B11)-(SEARCH(Display1!$G$2,B11)+LEN(Display1!$G$2)+2))+Display1!$J$3","v":"C.US.CLE1N175800"},0,0,10,{"$f":"IF(D10=1,RTD(\"cqg.rtd\", ,\"ContractData\",C10, \"ImpliedVolatility\",, \"T\"),\"\")","v":""},{"$f":"IF(F10=\"\",\"\",RANK(F10,$F$1:$F$35,0)+COUNTIF($F$1:F10,F10)-1)","v":""},0,10,0,{"$f":"IF(D10=1,RTD(\"cqg.rtd\", ,\"OrderData\",\"\"&C10&\"\", \"\", \"OpenTradeEquity\",\"\"&$B$449&\"\"),\"\")","v":""},{"$f":"IF(K10=\"\",\"\",RANK(K10,$K$1:$K$35,0))+COUNTIF($K$1:K10,K10)-1","v":{"$error":"#VALUE!"}},0,10,"",{"$f":"IF(D10=1,RTD(\"cqg.rtd\", ,\"ContractData\",C10, \"Delta\",, \"T\"),\"\")","v":""},{"$f":"IF(D10=1,RTD(\"cqg.rtd\", ,\"OrderData\", \"\"&O10&\"\", \"\", \"OpenPosition\",\"\"&$B$449&\"\"),\"\")","v":""},{"$f":"IF(D10=0,\"\",IF(LEFT(O10,1)=\"F\",Q10*100,Q10*RTD(\"cqg.rtd\",,\"ContractData\",O10,\"Delta\",,\"T\")))","v":""},{"$f":"IF(R10=\"\",\"\",RANK(R10,$R$1:$R$35,0)+COUNTIF($R$1:R10,R10)-1)","v":""},"",10,"",{"$f":"IF(D10=1,RTD(\"cqg.rtd\", ,\"ContractData\",C10, \"Vega\",, \"T\"),\"\")","v":""},{"$f":"IF(W10=\"\",\"\",RANK(W10,$W$1:$W$35,0)+COUNTIF($W$1:W10,W10)-1)","v":""},0,10,"",{"$f":"IF(D10=1,RTD(\"cqg.rtd\", ,\"ContractData\",C10, \"Gamma\",, \"T\"),\"\")","v":""},{"$f":"IF(AB10=\"\",\"\",RANK(AB10,$AB$1:$AB$35,0)+COUNTIF($AB$1:AB10,AB10)-1)","v":""},0,10,"",{"$f":"IF(D10=1,RTD(\"cqg.rtd\", ,\"ContractData\",C10, \"Theta\",, \"T\"),\"\")","v":""},{"$f":"IF(AG10=\"\",\"\",RANK(AG10,$AG$1:$AG$35,0)+COUNTIF($AG$1:AG10,AG10)-1)","v":""},0,10,"",{"$f":"IF(D10=1,1/RTD(\"cqg.rtd\", ,\"ContractData\",C10, \"ExpirationDate\",, \"T\"),\"\")","v":""},{"$f":"IF(AL10=\"\",\"\",RANK(AL10,$AL$1:$AL$35,0)+COUNTIF($AL$1:AL10,AL10)-1)","v":""},0,10,""]
[{"$f":"IF(OR(ISTEXT(RTD(\"cqg.rtd\",,\"OrderData\",\"\"&B11&\"\",\"\",\"OpenPosition\",\"\"&Display1!$D$3&\"\")),RTD(\"cqg.rtd\",,\"OrderData\",\"\"&B11&\"\",\"\",\"OpenPosition\",\"\"&Display1!$D$3&\"\")=0),A10+0.001,INT(A10)+1)","v":1.1000000000000003E-2},{"$f":"(LEFT(B12,SEARCH(Display1!$G$2,B12)+LEN(Display1!$G$2)+2))&RIGHT(B12,LEN(B12)-(SEARCH(Display1!$G$2,B12)+LEN(Display1!$G$2)+2))+Display1!$J$3","v":"C.US.CLE1N175750"},0,0,11,{"$f":"IF(D11=1,RTD(\"cqg.rtd\", ,\"ContractData\",C11, \"ImpliedVolatility\",, \"T\"),\"\")","v":""},{"$f":"IF(F11=\"\",\"\",RANK(F11,$F$1:$F$35,0)+COUNTIF($F$1:F11,F11)-1)","v":""},0,11,0,{"$f":"IF(D11=1,RTD(\"cqg.rtd\", ,\"OrderData\",\"\"&C11&\"\", \"\", \"OpenTradeEquity\",\"\"&$B$449&\"\"),\"\")","v":""},{"$f":"IF(K11=\"\",\"\",RANK(K11,$K$1:$K$35,0))+COUNTIF($K$1:K11,K11)-1","v":{"$error":"#VALUE!"}},0,11,"",{"$f":"IF(D11=1,RTD(\"cqg.rtd\", ,\"ContractData\",C11, \"Delta\",, \"T\"),\"\")","v":""},{"$f":"IF(D11=1,RTD(\"cqg.rtd\", ,\"OrderData\", \"\"&O11&\"\", \"\", \"OpenPosition\",\"\"&$B$449&\"\"),\"\")","v":""},{"$f":"IF(D11=0,\"\",IF(LEFT(O11,1)=\"F\",Q11*100,Q11*RTD(\"cqg.rtd\",,\"ContractData\",O11,\"Delta\",,\"T\")))","v":""},{"$f":"IF(R11=\"\",\"\",RANK(R11,$R$1:$R$35,0)+COUNTIF($R$1:R11,R11)-1)","v":""},"",11,"",{"$f":"IF(D11=1,RTD(\"cqg.rtd\", ,\"ContractData\",C11, \"Vega\",, \"T\"),\"\")","v":""},{"$f":"IF(W11=\"\",\"\",RANK(W11,$W$1:$W$35,0)+COUNTIF($W$1:W11,W11)-1)","v":""},0,11,"",{"$f":"IF(D11=1,RTD(\"cqg.rtd\", ,\"ContractData\",C11, \"Gamma\",, \"T\"),\"\")","v":""},{"$f":"IF(AB11=\"\",\"\",RANK(AB11,$AB$1:$AB$35,0)+COUNTIF($AB$1:AB11,AB11)-1)","v":""},0,11,"",{"$f":"IF(D11=1,RTD(\"cqg.rtd\", ,\"ContractData\",C11, \"Theta\",, \"T\"),\"\")","v":""},{"$f":"IF(AG11=\"\",\"\",RANK(AG11,$AG$1:$AG$35,0)+COUNTIF($AG$1:AG11,AG11)-1)","v":""},0,11,"",{"$f":"IF(D11=1,1/RTD(\"cqg.rtd\", ,\"ContractData\",C11, \"ExpirationDate\",, \"T\"),\"\")","v":""},{"$f":"IF(AL11=\"\",\"\",RANK(AL11,$AL$1:$AL$35,0)+COUNTIF($AL$1:AL11,AL11)-1)","v":""},0,11,"",{"$f":"IF(AL11=\"\",\"\",RANK(AL11,$AL$1:$AL$35,0)+COUNTIF($AL$1:AL11,AL11)-1)","v":""}]
[{"$f":"IF(OR(ISTEXT(RTD(\"cqg.rtd\",,\"OrderData\",\"\"&B12&\"\",\"\",\"OpenPosition\",\"\"&Display1!$D$3&\"\")),RTD(\"cqg.rtd\",,\"OrderData\",\"\"&B12&\"\",\"\",\"OpenPosition\",\"\"&Display1!$D$3&\"\")=0),A11+0.001,INT(A11)+1)","v":1.2000000000000004E-2},{"$f":"(LEFT(B13,SEARCH(Display1!$G$2,B13)+LEN(Display1!$G$2)+2))&RIGHT(B13,LEN(B13)-(SEARCH(Display1!$G$2,B13)+LEN(Display1!$G$2)+2))+Display1!$J$3","v":"C.US.CLE1N175700"},0,0,12,{"$f":"IF(D12=1,RTD(\"cqg.rtd\", ,\"ContractData\",C12, \"ImpliedVolatility\",, \"T\"),\"\")","v":""},{"$f":"IF(F12=\"\",\"\",RANK(F12,$F$1:$F$35,0)+COUNTIF($F$1:F12,F12)-1)","v":""},0,12,0,{"$f":"IF(D12=1,RTD(\"cqg.rtd\", ,\"OrderData\",\"\"&C12&\"\", \"\", \"OpenTradeEquity\",\"\"&$B$449&\"\"),\"\")","v":""},{"$f":"IF(K12=\"\",\"\",RANK(K12,$K$1:$K$35,0))+COUNTIF($K$1:K12,K12)-1","v":{"$error":"#VALUE!"}},0,12,"",{"$f":"IF(D12=1,RTD(\"cqg.rtd\", ,\"ContractData\",C12, \"Delta\",, \"T\"),\"\")","v":""},{"$f":"IF(D12=1,RTD(\"cqg.rtd\", ,\"OrderData\", \"\"&O12&\"\", \"\", \"OpenPosition\",\"\"&$B$449&\"\"),\"\")","v":""},{"$f":"IF(D12=0,\"\",IF(LEFT(O12,1)=\"F\",Q12*100,Q12*RTD(\"cqg.rtd\",,\"ContractData\",O12,\"Delta\",,\"T\")))","v":""},{"$f":"IF(R12=\"\",\"\",RANK(R12,$R$1:$R$35,0)+COUNTIF($R$1:R12,R12)-1)","v":""},"",12,"",{"$f":"IF(D12=1,RTD(\"cqg.rtd\", ,\"ContractData\",C12, \"Vega\",, \"T\"),\"\")","v":""},{"$f":"IF(W12=\"\",\"\",RANK(W12,$W$1:$W$35,0)+COUNTIF($W$1:W12,W12)-1)","v":""},0,12,"",{"$f":"IF(D12=1,RTD(\"cqg.rtd\", ,\"ContractData\",C12, \"Gamma\",, \"T\"),\"\")","v":""},{"$f":"IF(AB12=\"\",\"\",RANK(AB12,$AB$1:$AB$35,0)+COUNTIF($AB$1:AB12,AB12)-1)","v":""},0,12,null,{"$f":"IF(D12=1,RTD(\"cqg.rtd\", ,\"ContractData\",C12, \"Theta\",, \"T\"),\"\")","v":""},{"$f":"IF(AG12=\"\",\"\",RANK(AG12,$AG$1:$AG$35,0)+COUNTIF($AG$1:AG12,AG12)-1)","v":""},0,12,"",{"$f":"IF(D12=1,1/RTD(\"cqg.rtd\", ,\"ContractData\",C12, \"ExpirationDate\",, \"T\"),\"\")","v":""},{"$f":"IF(AL12=\"\",\"\",RANK(AL12,$AL$1:$AL$35,0)+COUNTIF($AL$1:AL12,AL12)-1)","v":""},0,12,"",{"$f":"IF(AL12=\"\",\"\",RANK(AL12,$AL$1:$AL$35,0)+COUNTIF($AL$1:AL12,AL12)-1)","v":""}]
[{"$f":"IF(OR(ISTEXT(RTD(\"cqg.rtd\",,\"OrderData\",\"\"&B13&\"\",\"\",\"OpenPosition\",\"\"&Display1!$D$3&\"\")),RTD(\"cqg.rtd\",,\"OrderData\",\"\"&B13&\"\",\"\",\"OpenPosition\",\"\"&Display1!$D$3&\"\")=0),A12+0.001,INT(A12)+1)","v":1.3000000000000005E-2},{"$f":"(LEFT(B14,SEARCH(Display1!$G$2,B14)+LEN(Display1!$G$2)+2))&RIGHT(B14,LEN(B14)-(SEARCH(Display1!$G$2,B14)+LEN(Display1!$G$2)+2))+Display1!$J$3","v":"C.US.CLE1N175650"},0,0,13,{"$f":"IF(D13=1,RTD(\"cqg.rtd\", ,\"ContractData\",C13, \"ImpliedVolatility\",, \"T\"),\"\")","v":""},{"$f":"IF(F13=\"\",\"\",RANK(F13,$F$1:$F$35,0)+COUNTIF($F$1:F13,F13)-1)","v":""},0,13,0,{"$f":"IF(D13=1,RTD(\"cqg.rtd\", ,\"OrderData\",\"\"&C13&\"\", \"\", \"OpenTradeEquity\",\"\"&$B$449&\"\"),\"\")","v":""},{"$f":"IF(K13=\"\",\"\",RANK(K13,$K$1:$K$35,0))+COUNTIF($K$1:K13,K13)-1","v":{"$error":"#VALUE!"}},0,13,"",{"$f":"IF(D13=1,RTD(\"cqg.rtd\", ,\"ContractData\",C13, \"Delta\",, \"T\"),\"\")","v":""},{"$f":"IF(D13=1,RTD(\"cqg.rtd\", ,\"OrderData\", \"\"&O13&\"\", \"\", \"OpenPosition\",\"\"&$B$449&\"\"),\"\")","v":""},{"$f":"IF(D13=0,\"\",IF(LEFT(O13,1)=\"F\",Q13*100,Q13*RTD(\"cqg.rtd\",,\"ContractData\",O13,\"Delta\",,\"T\")))","v":""},{"$f":"IF(R13=\"\",\"\",RANK(R13,$R$1:$R$35,0)+COUNTIF($R$1:R13,R13)-1)","v":""},"",13,"",{"$f":"IF(D13=1,RTD(\"cqg.rtd\", ,\"ContractData\",C13, \"Vega\",, \"T\"),\"\")","v":""},{"$f":"IF(W13=\"\",\"\",RANK(W13,$W$1:$W$35,0)+COUNTIF($W$1:W13,W13)-1)","v":""},0,13,"",{"$f":"IF(D13=1,RTD(\"cqg.rtd\", ,\"ContractData\",C13, \"Gamma\",, \"T\"),\"\")","v":""},{"$f":"IF(AB13=\"\",\"\",RANK(AB13,$AB$1:$AB$35,0)+COUNTIF($AB$1:AB13,AB13)-1)","v":""},0,13,"",{"$f":"IF(D13=1,RTD(\"cqg.rtd\", ,\"ContractData\",C13, \"Theta\",, \"T\"),\"\")","v":""},{"$f":"IF(AG13=\"\",\"\",RANK(AG13,$AG$1:$AG$35,0)+COUNTIF($AG$1:AG13,AG13)-1)","v":""},0,13,"",{"$f":"IF(D13=1,1/RTD(\"cqg.rtd\", ,\"ContractData\",C13, \"ExpirationDate\",, \"T\"),\"\")","v":""},{"$f":"IF(AL13=\"\",\"\",RANK(AL13,$AL$1:$AL$35,0)+COUNTIF($AL$1:AL13,AL13)-1)","v":""},0,13,"",{"$f":"IF(AL13=\"\",\"\",RANK(AL13,$AL$1:$AL$35,0)+COUNTIF($AL$1:AL13,AL13)-1)","v":""}]
[{"$f":"IF(OR(ISTEXT(RTD(\"cqg.rtd\",,\"OrderData\",\"\"&B14&\"\",\"\",\"OpenPosition\",\"\"&Display1!$D$3&\"\")),RTD(\"cqg.rtd\",,\"OrderData\",\"\"&B14&\"\",\"\",\"OpenPosition\",\"\"&Display1!$D$3&\"\")=0),A13+0.001,INT(A13)+1)","v":1.4000000000000005E-2},{"$f":"(LEFT(B15,SEARCH(Display1!$G$2,B15)+LEN(Display1!$G$2)+2))&RIGHT(B15,LEN(B15)-(SEARCH(Display1!$G$2,B15)+LEN(Display1!$G$2)+2))+Display1!$J$3","v":"C.US.CLE1N175600"},0,0,14,{"$f":"IF(D14=1,RTD(\"cqg.rtd\", ,\"ContractData\",C14, \"ImpliedVolatility\",, \"T\"),\"\")","v":""},{"$f":"IF(F14=\"\",\"\",RANK(F14,$F$1:$F$35,0)+COUNTIF($F$1:F14,F14)-1)","v":""},0,14,0,{"$f":"IF(D14=1,RTD(\"cqg.rtd\", ,\"OrderData\",\"\"&C14&\"\", \"\", \"OpenTradeEquity\",\"\"&$B$449&\"\"),\"\")","v":""},{"$f":"IF(K14=\"\",\"\",RANK(K14,$K$1:$K$35,0))+COUNTIF($K$1:K14,K14)-1","v":{"$error":"#VALUE!"}},0,14,"",{"$f":"IF(D14=1,RTD(\"cqg.rtd\", ,\"ContractData\",C14, \"Delta\",, \"T\"),\"\")","v":""},{"$f":"IF(D14=1,RTD(\"cqg.rtd\", ,\"OrderData\", \"\"&O14&\"\", \"\", \"OpenPosition\",\"\"&$B$449&\"\"),\"\")","v":""},{"$f":"IF(D14=0,\"\",IF(LEFT(O14,1)=\"F\",Q14*100,Q14*RTD(\"cqg.rtd\",,\"ContractData\",O14,\"Delta\",,\"T\")))","v":""},{"$f":"IF(R14=\"\",\"\",RANK(R14,$R$1:$R$35,0)+COUNTIF($R$1:R14,R14)-1)","v":""},"",14,"",{"$f":"IF(D14=1,RTD(\"cqg.rtd\", ,\"ContractData\",C14, \"Vega\",, \"T\"),\"\")","v":""},{"$f":"IF(W14=\"\",\"\",RANK(W14,$W$1:$W$35,0)+COUNTIF($W$1:W14,W14)-1)","v":""},0,14,"",{"$f":"IF(D14=1,RTD(\"cqg.rtd\", ,\"ContractData\",C14, \"Gamma\",, \"T\"),\"\")","v":""},{"$f":"IF(AB14=\"\",\"\",RANK(AB14,$AB$1:$AB$35,0)+COUNTIF($AB$1:AB14,AB14)-1)","v":""},0,14,"",{"$f":"IF(D14=1,RTD(\"cqg.rtd\", ,\"ContractData\",C14, \"Theta\",, \"T\"),\"\")","v":""},{"$f":"IF(AG14=\"\",\"\",RANK(AG14,$AG$1:$AG$35,0)+COUNTIF($AG$1:AG14,AG14)-1)","v":""},0,14,"",{"$f":"IF(D14=1,1/RTD(\"cqg.rtd\", ,\"ContractData\",C14, \"ExpirationDate\",, \"T\"),\"\")","v":""},{"$f":"IF(AL14=\"\",\"\",RANK(AL14,$AL$1:$AL$35,0)+COUNTIF($AL$1:AL14,AL14)-1)","v":""},0,14,"",{"$f":"IF(AL14=\"\",\"\",RANK(AL14,$AL$1:$AL$35,0)+COUNTIF($AL$1:AL14,AL14)-1)","v":""}]
[{"$f":"IF(OR(ISTEXT(RTD(\"cqg.rtd\",,\"OrderData\",\"\"&B15&\"\",\"\",\"OpenPosition\",\"\"&Display1!$D$3&\"\")),RTD(\"cqg.rtd\",,\"OrderData\",\"\"&B15&\"\",\"\",\"OpenPosition\",\"\"&Display1!$D$3&\"\")=0),A14+0.001,INT(A14)+1)","v":1.5000000000000006E-2},{"$f":"(LEFT(B16,SEARCH(Display1!$G$2,B16)+LEN(Display1!$G$2)+2))&RIGHT(B16,LEN(B16)-(SEARCH(Display1!$G$2,B16)+LEN(Display1!$G$2)+2))+Display1!$J$3","v":"C.US.CLE1N175550"},0,0,15,{"$f":"IF(D15=1,RTD(\"cqg.rtd\", ,\"ContractData\",C15, \"ImpliedVolatility\",, \"T\"),\"\")","v":""},{"$f":"IF(F15=\"\",\"\",RANK(F15,$F$1:$F$35,0)+COUNTIF($F$1:F15,F15)-1)","v":""},0,15,0,{"$f":"IF(D15=1,RTD(\"cqg.rtd\", ,\"OrderData\",\"\"&C15&\"\", \"\", \"OpenTradeEquity\",\"\"&$B$449&\"\"),\"\")","v":""},{"$f":"IF(K15=\"\",\"\",RANK(K15,$K$1:$K$35,0))+COUNTIF($K$1:K15,K15)-1","v":{"$error":"#VALUE!"}},0,15,"",{"$f":"IF(D15=1,RTD(\"cqg.rtd\", ,\"ContractData\",C15, \"Delta\",, \"T\"),\"\")","v":""},{"$f":"IF(D15=1,RTD(\"cqg.rtd\", ,\"OrderData\", \"\"&O15&\"\", \"\", \"OpenPosition\",\"\"&$B$449&\"\"),\"\")","v":""},{"$f":"IF(D15=0,\"\",IF(LEFT(O15,1)=\"F\",Q15*100,Q15*RTD(\"cqg.rtd\",,\"ContractData\",O15,\"Delta\",,\"T\")))","v":""},{"$f":"IF(R15=\"\",\"\",RANK(R15,$R$1:$R$35,0)+COUNTIF($R$1:R15,R15)-1)","v":""},"",15,"",{"$f":"IF(D15=1,RTD(\"cqg.rtd\", ,\"ContractData\",C15, \"Vega\",, \"T\"),\"\")","v":""},{"$f":"IF(W15=\"\",\"\",RANK(W15,$W$1:$W$35,0)+COUNTIF($W$1:W15,W15)-1)","v":""},0,15,"",{"$f":"IF(D15=1,RTD(\"cqg.rtd\", ,\"ContractData\",C15, \"Gamma\",, \"T\"),\"\")","v":""},{"$f":"IF(AB15=\"\",\"\",RANK(AB15,$AB$1:$AB$35,0)+COUNTIF($AB$1:AB15,AB15)-1)","v":""},0,15,"",{"$f":"IF(D15=1,RTD(\"cqg.rtd\", ,\"ContractData\",C15, \"Theta\",, \"T\"),\"\")","v":""},{"$f":"IF(AG15=\"\",\"\",RANK(AG15,$AG$1:$AG$35,0)+COUNTIF($AG$1:AG15,AG15)-1)","v":""},0,15,"",{"$f":"IF(D15=1,1/RTD(\"cqg.rtd\", ,\"ContractData\",C15, \"ExpirationDate\",, \"T\"),\"\")","v":""},{"$f":"IF(AL15=\"\",\"\",RANK(AL15,$AL$1:$AL$35,0)+COUNTIF($AL$1:AL15,AL15)-1)","v":""},0,15,"",{"$f":"IF(AL15=\"\",\"\",RANK(AL15,$AL$1:$AL$35,0)+COUNTIF($AL$1:AL15,AL15)-1)","v":""}]
[{"$f":"IF(OR(ISTEXT(RTD(\"cqg.rtd\",,\"OrderData\",\"\"&B16&\"\",\"\",\"OpenPosition\",\"\"&Display1!$D$3&\"\")),RTD(\"cqg.rtd\",,\"OrderData\",\"\"&B16&\"\",\"\",\"OpenPosition\",\"\"&Display1!$D$3&\"\")=0),A15+0.001,INT(A15)+1)","v":1.6000000000000007E-2},{"$f":"(LEFT(B17,SEARCH(Display1!$G$2,B17)+LEN(Display1!$G$2)+2))&RIGHT(B17,LEN(B17)-(SEARCH(Display1!$G$2,B17)+LEN(Display1!$G$2)+2))+Display1!$J$3","v":"C.US.CLE1N175500"},0,0,16,{"$f":"IF(D16=1,RTD(\"cqg.rtd\", ,\"ContractData\",C16, \"ImpliedVolatility\",, \"T\"),\"\")","v":""},{"$f":"IF(F16=\"\",\"\",RANK(F16,$F$1:$F$35,0)+COUNTIF($F$1:F16,F16)-1)","v":""},0,16,0,{"$f":"IF(D16=1,RTD(\"cqg.rtd\", ,\"OrderData\",\"\"&C16&\"\", \"\", \"OpenTradeEquity\",\"\"&$B$449&\"\"),\"\")","v":""},{"$f":"IF(K16=\"\",\"\",RANK(K16,$K$1:$K$35,0))+COUNTIF($K$1:K16,K16)-1","v":{"$error":"#VALUE!"}},0,16,"",{"$f":"IF(D16=1,RTD(\"cqg.rtd\", ,\"ContractData\",C16, \"Delta\",, \"T\"),\"\")","v":""},{"$f":"IF(D16=1,RTD(\"cqg.rtd\", ,\"OrderData\", \"\"&O16&\"\", \"\", \"OpenPosition\",\"\"&$B$449&\"\"),\"\")","v":""},{"$f":"IF(D16=0,\"\",IF(LEFT(O16,1)=\"F\",Q16*100,Q16*RTD(\"cqg.rtd\",,\"ContractData\",O16,\"Delta\",,\"T\")))","v":""},{"$f":"IF(R16=\"\",\"\",RANK(R16,$R$1:$R$35,0)+COUNTIF($R$1:R16,R16)-1)","v":""},"",16,"",{"$f":"IF(D16=1,RTD(\"cqg.rtd\", ,\"ContractData\",C16, \"Vega\",, \"T\"),\"\")","v":""},{"$f":"IF(W16=\"\",\"\",RANK(W16,$W$1:$W$35,0)+COUNTIF($W$1:W16,W16)-1)","v":""},0,16,"",{"$f":"IF(D16=1,RTD(\"cqg.rtd\", ,\"ContractData\",C16, \"Gamma\",, \"T\"),\"\")","v":""},{"$f":"IF(AB16=\"\",\"\",RANK(AB16,$AB$1:$AB$35,0)+COUNTIF($AB$1:AB16,AB16)-1)","v":""},0,16,"",{"$f":"IF(D16=1,RTD(\"cqg.rtd\", ,\"ContractData\",C16, \"Theta\",, \"T\"),\"\")","v":""},{"$f":"IF(AG16=\"\",\"\",RANK(AG16,$AG$1:$AG$35,0)+COUNTIF($AG$1:AG16,AG16)-1)","v":""},0,16,"",{"$f":"IF(D16=1,1/RTD(\"cqg.rtd\", ,\"ContractData\",C16, \"ExpirationDate\",, \"T\"),\"\")","v":""},{"$f":"IF(AL16=\"\",\"\",RANK(AL16,$AL$1:$AL$35,0)+COUNTIF($AL$1:AL16,AL16)-1)","v":""},0,16,"",{"$f":"IF(AL16=\"\",\"\",RANK(AL16,$AL$1:$AL$35,0)+COUNTIF($AL$1:AL16,AL16)-1)","v":""}]
[{"$f":"IF(OR(ISTEXT(RTD(\"cqg.rtd\",,\"OrderData\",\"\"&B17&\"\",\"\",\"OpenPosition\",\"\"&Display1!$D$3&\"\")),RTD(\"cqg.rtd\",,\"OrderData\",\"\"&B17&\"\",\"\",\"OpenPosition\",\"\"&Display1!$D$3&\"\")=0),A16+0.001,INT(A16)+1)","v":1.7000000000000008E-2},{"$f":"(LEFT(B18,SEARCH(Display1!$G$2,B18)+LEN(Display1!$G$2)+2))&RIGHT(B18,LEN(B18)-(SEARCH(Display1!$G$2,B18)+LEN(Display1!$G$2)+2))+Display1!$J$3","v":"C.US.CLE1N175450"},0,0,17,{"$f":"IF(D17=1,RTD(\"cqg.rtd\", ,\"ContractData\",C17, \"ImpliedVolatility\",, \"T\"),\"\")","v":""},{"$f":"IF(F17=\"\",\"\",RANK(F17,$F$1:$F$35,0)+COUNTIF($F$1:F17,F17)-1)","v":""},0,17,0,{"$f":"IF(D17=1,RTD(\"cqg.rtd\", ,\"OrderData\",\"\"&C17&\"\", \"\", \"OpenTradeEquity\",\"\"&$B$449&\"\"),\"\")","v":""},{"$f":"IF(K17=\"\",\"\",RANK(K17,$K$1:$K$35,0))+COUNTIF($K$1:K17,K17)-1","v":{"$error":"#VALUE!"}},0,17,"",{"$f":"IF(D17=1,RTD(\"cqg.rtd\", ,\"ContractData\",C17, \"Delta\",, \"T\"),\"\")","v":""},{"$f":"IF(D17=1,RTD(\"cqg.rtd\", ,\"OrderData\", \"\"&O17&\"\", \"\", \"OpenPosition\",\"\"&$B$449&\"\"),\"\")","v":""},{"$f":"IF(D17=0,\"\",IF(LEFT(O17,1)=\"F\",Q17*100,Q17*RTD(\"cqg.rtd\",,\"ContractData\",O17,\"Delta\",,\"T\")))","v":""},{"$f":"IF(R17=\"\",\"\",RANK(R17,$R$1:$R$35,0)+COUNTIF($R$1:R17,R17)-1)","v":""},"",17,"",{"$f":"IF(D17=1,RTD(\"cqg.rtd\", ,\"ContractData\",C17, \"Vega\",, \"T\"),\"\")","v":""},{"$f":"IF(W17=\"\",\"\",RANK(W17,$W$1:$W$35,0)+COUNTIF($W$1:W17,W17)-1)","v":""},0,17,"",{"$f":"IF(D17=1,RTD(\"cqg.rtd\", ,\"ContractData\",C17, \"Gamma\",, \"T\"),\"\")","v":""},{"$f":"IF(AB17=\"\",\"\",RANK(AB17,$AB$1:$AB$35,0)+COUNTIF($AB$1:AB17,AB17)-1)","v":""},0,17,"",{"$f":"IF(D17=1,RTD(\"cqg.rtd\", ,\"ContractData\",C17, \"Theta\",, \"T\"),\"\")","v":""},{"$f":"IF(AG17=\"\",\"\",RANK(AG17,$AG$1:$AG$35,0)+COUNTIF($AG$1:AG17,AG17)-1)","v":""},0,17,"",{"$f":"IF(D17=1,1/RTD(\"cqg.rtd\", ,\"ContractData\",C17, \"ExpirationDate\",, \"T\"),\"\")","v":""},{"$f":"IF(AL17=\"\",\"\",RANK(AL17,$AL$1:$AL$35,0)+COUNTIF($AL$1:AL17,AL17)-1)","v":""},0,17,"",{"$f":"IF(AL17=\"\",\"\",RANK(AL17,$AL$1:$AL$35,0)+COUNTIF($AL$1:AL17,AL17)-1)","v":""}]
[{"$f":"IF(OR(ISTEXT(RTD(\"cqg.rtd\",,\"OrderData\",\"\"&B18&\"\",\"\",\"OpenPosition\",\"\"&Display1!$D$3&\"\")),RTD(\"cqg.rtd\",,\"OrderData\",\"\"&B18&\"\",\"\",\"OpenPosition\",\"\"&Display1!$D$3&\"\")=0),A17+0.001,INT(A17)+1)","v":1.8000000000000009E-2},{"$f":"(LEFT(B19,SEARCH(Display1!$G$2,B19)+LEN(Display1!$G$2)+2))&RIGHT(B19,LEN(B19)-(SEARCH(Display1!$G$2,B19)+LEN(Display1!$G$2)+2))+Display1!$J$3","v":"C.US.CLE1N175400"},0,0,18,{"$f":"IF(D18=1,RTD(\"cqg.rtd\", ,\"ContractData\",C18, \"ImpliedVolatility\",, \"T\"),\"\")","v":""},{"$f":"IF(F18=\"\",\"\",RANK(F18,$F$1:$F$35,0)+COUNTIF($F$1:F18,F18)-1)","v":""},0,18,0,{"$f":"IF(D18=1,RTD(\"cqg.rtd\", ,\"OrderData\",\"\"&C18&\"\", \"\", \"OpenTradeEquity\",\"\"&$B$449&\"\"),\"\")","v":""},{"$f":"IF(K18=\"\",\"\",RANK(K18,$K$1:$K$35,0))+COUNTIF($K$1:K18,K18)-1","v":{"$error":"#VALUE!"}},0,18,"",{"$f":"IF(D18=1,RTD(\"cqg.rtd\", ,\"ContractData\",C18, \"Delta\",, \"T\"),\"\")","v":""},{"$f":"IF(D18=1,RTD(\"cqg.rtd\", ,\"OrderData\", \"\"&O18&\"\", \"\", \"OpenPosition\",\"\"&$B$449&\"\"),\"\")","v":""},{"$f":"IF(D18=0,\"\",IF(LEFT(O18,1)=\"F\",Q18*100,Q18*RTD(\"cqg.rtd\",,\"ContractData\",O18,\"Delta\",,\"T\")))","v":""},{"$f":"IF(R18=\"\",\"\",RANK(R18,$R$1:$R$35,0)+COUNTIF($R$1:R18,R18)-1)","v":""},"",18,"",{"$f":"IF(D18=1,RTD(\"cqg.rtd\", ,\"ContractData\",C18, \"Vega\",, \"T\"),\"\")","v":""},{"$f":"IF(W18=\"\",\"\",RANK(W18,$W$1:$W$35,0)+COUNTIF($W$1:W18,W18)-1)","v":""},0,18,"",{"$f":"IF(D18=1,RTD(\"cqg.rtd\", ,\"ContractData\",C18, \"Gamma\",, \"T\"),\"\")","v":""},{"$f":"IF(AB18=\"\",\"\",RANK(AB18,$AB$1:$AB$35,0)+COUNTIF($AB$1:AB18,AB18)-1)","v":""},0,18,"",{"$f":"IF(D18=1,RTD(\"cqg.rtd\", ,\"ContractData\",C18, \"Theta\",, \"T\"),\"\")","v":""},{"$f":"IF(AG18=\"\",\"\",RANK(AG18,$AG$1:$AG$35,0)+COUNTIF($AG$1:AG18,AG18)-1)","v":""},0,18,"",{"$f":"IF(D18=1,1/RTD(\"cqg.rtd\", ,\"ContractData\",C18, \"ExpirationDate\",, \"T\"),\"\")","v":""},{"$f":"IF(AL18=\"\",\"\",RANK(AL18,$AL$1:$AL$35,0)+COUNTIF($AL$1:AL18,AL18)-1)","v":""},0,18,"",{"$f":"IF(AL18=\"\",\"\",RANK(AL18,$AL$1:$AL$35,0)+COUNTIF($AL$1:AL18,AL18)-1)","v":""}]
[{"$f":"IF(OR(ISTEXT(RTD(\"cqg.rtd\",,\"OrderData\",\"\"&B19&\"\",\"\",\"OpenPosition\",\"\"&Display1!$D$3&\"\")),RTD(\"cqg.rtd\",,\"OrderData\",\"\"&B19&\"\",\"\",\"OpenPosition\",\"\"&Display1!$D$3&\"\")=0),A18+0.001,INT(A18)+1)","v":1.900000000000001E-2},{"$f":"(LEFT(B20,SEARCH(Display1!$G$2,B20)+LEN(Display1!$G$2)+2))&RIGHT(B20,LEN(B20)-(SEARCH(Display1!$G$2,B20)+LEN(Display1!$G$2)+2))+Display1!$J$3","v":"C.US.CLE1N175350"},0,0,19,{"$f":"IF(D19=1,RTD(\"cqg.rtd\", ,\"ContractData\",C19, \"ImpliedVolatility\",, \"T\"),\"\")","v":""},{"$f":"IF(F19=\"\",\"\",RANK(F19,$F$1:$F$35,0)+COUNTIF($F$1:F19,F19)-1)","v":""},0,19,0,{"$f":"IF(D19=1,RTD(\"cqg.rtd\", ,\"OrderData\",\"\"&C19&\"\", \"\", \"OpenTradeEquity\",\"\"&$B$449&\"\"),\"\")","v":""},{"$f":"IF(K19=\"\",\"\",RANK(K19,$K$1:$K$35,0))+COUNTIF($K$1:K19,K19)-1","v":{"$error":"#VALUE!"}},0,19,"",{"$f":"IF(D19=1,RTD(\"cqg.rtd\", ,\"ContractData\",C19, \"Delta\",, \"T\"),\"\")","v":""},{"$f":"IF(D19=1,RTD(\"cqg.rtd\", ,\"OrderData\", \"\"&O19&\"\", \"\", \"OpenPosition\",\"\"&$B$449&\"\"),\"\")","v":""},{"$f":"IF(D19=0,\"\",IF(LEFT(O19,1)=\"F\",Q19*100,Q19*RTD(\"cqg.rtd\",,\"ContractData\",O19,\"Delta\",,\"T\")))","v":""},{"$f":"IF(R19=\"\",\"\",RANK(R19,$R$1:$R$35,0)+COUNTIF($R$1:R19,R19)-1)","v":""},"",19,"",{"$f":"IF(D19=1,RTD(\"cqg.rtd\", ,\"ContractData\",C19, \"Vega\",, \"T\"),\"\")","v":""},{"$f":"IF(W19=\"\",\"\",RANK(W19,$W$1:$W$35,0)+COUNTIF($W$1:W19,W19)-1)","v":""},0,19,"",{"$f":"IF(D19=1,RTD(\"cqg.rtd\", ,\"ContractData\",C19, \"Gamma\",, \"T\"),\"\")","v":""},{"$f":"IF(AB19=\"\",\"\",RANK(AB19,$AB$1:$AB$35,0)+COUNTIF($AB$1:AB19,AB19)-1)","v":""},0,19,"",{"$f":"IF(D19=1,RTD(\"cqg.rtd\", ,\"ContractData\",C19, \"Theta\",, \"T\"),\"\")","v":""},{"$f":"IF(AG19=\"\",\"\",RANK(AG19,$AG$1:$AG$35,0)+COUNTIF($AG$1:AG19,AG19)-1)","v":""},0,19,"",{"$f":"IF(D19=1,1/RTD(\"cqg.rtd\", ,\"ContractData\",C19, \"ExpirationDate\",, \"T\"),\"\")","v":""},{"$f":"IF(AL19=\"\",\"\",RANK(AL19,$AL$1:$AL$35,0)+COUNTIF($AL$1:AL19,AL19)-1)","v":""},0,19,"",{"$f":"IF(AL19=\"\",\"\",RANK(AL19,$AL$1:$AL$35,0)+COUNTIF($AL$1:AL19,AL19)-1)","v":""}]
[{"$f":"IF(OR(ISTEXT(RTD(\"cqg.rtd\",,\"OrderData\",\"\"&B20&\"\",\"\",\"OpenPosition\",\"\"&Display1!$D$3&\"\")),RTD(\"cqg.rtd\",,\"OrderData\",\"\"&B20&\"\",\"\",\"OpenPosition\",\"\"&Display1!$D$3&\"\")=0),A19+0.001,INT(A19)+1)","v":2.0000000000000011E-2},{"$f":"(LEFT(B21,SEARCH(Display1!$G$2,B21)+LEN(Display1!$G$2)+2))&RIGHT(B21,LEN(B21)-(SEARCH(Display1!$G$2,B21)+LEN(Display1!$G$2)+2))+Display1!$J$3","v":"C.US.CLE1N175300"},0,0,20,{"$f":"IF(D20=1,RTD(\"cqg.rtd\", ,\"ContractData\",C20, \"ImpliedVolatility\",, \"T\"),\"\")","v":""},{"$f":"IF(F20=\"\",\"\",RANK(F20,$F$1:$F$35,0)+COUNTIF($F$1:F20,F20)-1)","v":""},0,20,0,{"$f":"IF(D20=1,RTD(\"cqg.rtd\", ,\"OrderData\",\"\"&C20&\"\", \"\", \"OpenTradeEquity\",\"\"&$B$449&\"\"),\"\")","v":""},{"$f":"IF(K20=\"\",\"\",RANK(K20,$K$1:$K$35,0))+COUNTIF($K$1:K20,K20)-1","v":{"$error":"#VALUE!"}},0,20,"",{"$f":"IF(D20=1,RTD(\"cqg.rtd\", ,\"ContractData\",C20, \"Delta\",, \"T\"),\"\")","v":""},{"$f":"IF(D20=1,RTD(\"cqg.rtd\", ,\"OrderData\", \"\"&O20&\"\", \"\", \"OpenPosition\",\"\"&$B$449&\"\"),\"\")","v":""},{"$f":"IF(D20=0,\"\",IF(LEFT(O20,1)=\"F\",Q20*100,Q20*RTD(\"cqg.rtd\",,\"ContractData\",O20,\"Delta\",,\"T\")))","v":""},{"$f":"IF(R20=\"\",\"\",RANK(R20,$R$1:$R$35,0)+COUNTIF($R$1:R20,R20)-1)","v":""},"",20,"",{"$f":"IF(D20=1,RTD(\"cqg.rtd\", ,\"ContractData\",C20, \"Vega\",, \"T\"),\"\")","v":""},{"$f":"IF(W20=\"\",\"\",RANK(W20,$W$1:$W$35,0)+COUNTIF($W$1:W20,W20)-1)","v":""},0,20,"",{"$f":"IF(D20=1,RTD(\"cqg.rtd\", ,\"ContractData\",C20, \"Gamma\",, \"T\"),\"\")","v":""},{"$f":"IF(AB20=\"\",\"\",RANK(AB20,$AB$1:$AB$35,0)+COUNTIF($AB$1:AB20,AB20)-1)","v":""},0,20,"",{"$f":"IF(D20=1,RTD(\"cqg.rtd\", ,\"ContractData\",C20, \"Theta\",, \"T\"),\"\")","v":""},{"$f":"IF(AG20=\"\",\"\",RANK(AG20,$AG$1:$AG$35,0)+COUNTIF($AG$1:AG20,AG20)-1)","v":""},0,20,"",{"$f":"IF(D20=1,1/RTD(\"cqg.rtd\", ,\"ContractData\",C20, \"ExpirationDate\",, \"T\"),\"\")","v":""},{"$f":"IF(AL20=\"\",\"\",RANK(AL20,$AL$1:$AL$35,0)+COUNTIF($AL$1:AL20,AL20)-1)","v":""},0,20,"",{"$f":"IF(AL20=\"\",\"\",RANK(AL20,$AL$1:$AL$35,0)+COUNTIF($AL$1:AL20,AL20)-1)","v":""}]
[{"$f":"IF(OR(ISTEXT(RTD(\"cqg.rtd\",,\"OrderData\",\"\"&B21&\"\",\"\",\"OpenPosition\",\"\"&Display1!$D$3&\"\")),RTD(\"cqg.rtd\",,\"OrderData\",\"\"&B21&\"\",\"\",\"OpenPosition\",\"\"&Display1!$D$3&\"\")=0),A20+0.001,INT(A20)+1)","v":2.1000000000000012E-2},{"$f":"(LEFT(B22,SEARCH(Display1!$G$2,B22)+LEN(Display1!$G$2)+2))&RIGHT(B22,LEN(B22)-(SEARCH(Display1!$G$2,B22)+LEN(Display1!$G$2)+2))+Display1!$J$3","v":"C.US.CLE1N175250"},0,0,21,{"$f":"IF(D21=1,RTD(\"cqg.rtd\", ,\"ContractData\",C21, \"ImpliedVolatility\",, \"T\"),\"\")","v":""},{"$f":"IF(F21=\"\",\"\",RANK(F21,$F$1:$F$35,0)+COUNTIF($F$1:F21,F21)-1)","v":""},0,21,0,{"$f":"IF(D21=1,RTD(\"cqg.rtd\", ,\"OrderData\",\"\"&C21&\"\", \"\", \"OpenTradeEquity\",\"\"&$B$449&\"\"),\"\")","v":""},{"$f":"IF(K21=\"\",\"\",RANK(K21,$K$1:$K$35,0))+COUNTIF($K$1:K21,K21)-1","v":{"$error":"#VALUE!"}},0,21,"",{"$f":"IF(D21=1,RTD(\"cqg.rtd\", ,\"ContractData\",C21, \"Delta\",, \"T\"),\"\")","v":""},{"$f":"IF(D21=1,RTD(\"cqg.rtd\", ,\"OrderData\", \"\"&O21&\"\", \"\", \"OpenPosition\",\"\"&$B$449&\"\"),\"\")","v":""},{"$f":"IF(D21=0,\"\",IF(LEFT(O21,1)=\"F\",Q21*100,Q21*RTD(\"cqg.rtd\",,\"ContractData\",O21,\"Delta\",,\"T\")))","v":""},{"$f":"IF(R21=\"\",\"\",RANK(R21,$R$1:$R$35,0)+COUNTIF($R$1:R21,R21)-1)","v":""},"",21,"",{"$f":"IF(D21=1,RTD(\"cqg.rtd\", ,\"ContractData\",C21, \"Vega\",, \"T\"),\"\")","v":""},{"$f":"IF(W21=\"\",\"\",RANK(W21,$W$1:$W$35,0)+COUNTIF($W$1:W21,W21)-1)","v":""},0,21,"",{"$f":"IF(D21=1,RTD(\"cqg.rtd\", ,\"ContractData\",C21, \"Gamma\",, \"T\"),\"\")","v":""},{"$f":"IF(AB21=\"\",\"\",RANK(AB21,$AB$1:$AB$35,0)+COUNTIF($AB$1:AB21,AB21)-1)","v":""},0,21,"",{"$f":"IF(D21=1,RTD(\"cqg.rtd\", ,\"ContractData\",C21, \"Theta\",, \"T\"),\"\")","v":""},{"$f":"IF(AG21=\"\",\"\",RANK(AG21,$AG$1:$AG$35,0)+COUNTIF($AG$1:AG21,AG21)-1)","v":""},0,21,"",{"$f":"IF(D21=1,1/RTD(\"cqg.rtd\", ,\"ContractData\",C21, \"ExpirationDate\",, \"T\"),\"\")","v":""},{"$f":"IF(AL21=\"\",\"\",RANK(AL21,$AL$1:$AL$35,0)+COUNTIF($AL$1:AL21,AL21)-1)","v":""},0,21,"",{"$f":"IF(AL21=\"\",\"\",RANK(AL21,$AL$1:$AL$35,0)+COUNTIF($AL$1:AL21,AL21)-1)","v":""}]
[{"$f":"IF(OR(ISTEXT(RTD(\"cqg.rtd\",,\"OrderData\",\"\"&B22&\"\",\"\",\"OpenPosition\",\"\"&Display1!$D$3&\"\")),RTD(\"cqg.rtd\",,\"OrderData\",\"\"&B22&\"\",\"\",\"OpenPosition\",\"\"&Display1!$D$3&\"\")=0),A21+0.001,INT(A21)+1)","v":2.2000000000000013E-2},{"$f":"(LEFT(B23,SEARCH(Display1!$G$2,B23)+LEN(Display1!$G$2)+2))&RIGHT(B23,LEN(B23)-(SEARCH(Display1!$G$2,B23)+LEN(Display1!$G$2)+2))+Display1!$J$3","v":"C.US.CLE1N175200"},0,0,22,{"$f":"IF(D22=1,RTD(\"cqg.rtd\", ,\"ContractData\",C22, \"ImpliedVolatility\",, \"T\"),\"\")","v":""},{"$f":"IF(F22=\"\",\"\",RANK(F22,$F$1:$F$35,0)+COUNTIF($F$1:F22,F22)-1)","v":""},0,22,0,{"$f":"IF(D22=1,RTD(\"cqg.rtd\", ,\"OrderData\",\"\"&C22&\"\", \"\", \"OpenTradeEquity\",\"\"&$B$449&\"\"),\"\")","v":""},{"$f":"IF(K22=\"\",\"\",RANK(K22,$K$1:$K$35,0))+COUNTIF($K$1:K22,K22)-1","v":{"$error":"#VALUE!"}},0,22,"",{"$f":"IF(D22=1,RTD(\"cqg.rtd\", ,\"ContractData\",C22, \"Delta\",, \"T\"),\"\")","v":""},{"$f":"IF(D22=1,RTD(\"cqg.rtd\", ,\"OrderData\", \"\"&O22&\"\", \"\", \"OpenPosition\",\"\"&$B$449&\"\"),\"\")","v":""},{"$f":"IF(D22=0,\"\",IF(LEFT(O22,1)=\"F\",Q22*100,Q22*RTD(\"cqg.rtd\",,\"ContractData\",O22,\"Delta\",,\"T\")))","v":""},{"$f":"IF(R22=\"\",\"\",RANK(R22,$R$1:$R$35,0)+COUNTIF($R$1:R22,R22)-1)","v":""},"",22,"",{"$f":"IF(D22=1,RTD(\"cqg.rtd\", ,\"ContractData\",C22, \"Vega\",, \"T\"),\"\")","v":""},{"$f":"IF(W22=\"\",\"\",RANK(W22,$W$1:$W$35,0)+COUNTIF($W$1:W22,W22)-1)","v":""},0,22,"",{"$f":"IF(D22=1,RTD(\"cqg.rtd\", ,\"ContractData\",C22, \"Gamma\",, \"T\"),\"\")","v":""},{"$f":"IF(AB22=\"\",\"\",RANK(AB22,$AB$1:$AB$35,0)+COUNTIF($AB$1:AB22,AB22)-1)","v":""},0,22,"",{"$f":"IF(D22=1,RTD(\"cqg.rtd\", ,\"ContractData\",C22, \"Theta\",, \"T\"),\"\")","v":""},{"$f":"IF(AG22=\"\",\"\",RANK(AG22,$AG$1:$AG$35,0)+COUNTIF($AG$1:AG22,AG22)-1)","v":""},0,22,"",{"$f":"IF(D22=1,1/RTD(\"cqg.rtd\", ,\"ContractData\",C22, \"ExpirationDate\",, \"T\"),\"\")","v":""},{"$f":"IF(AL22=\"\",\"\",RANK(AL22,$AL$1:$AL$35,0)+COUNTIF($AL$1:AL22,AL22)-1)","v":""},0,22,"",{"$f":"IF(AL22=\"\",\"\",RANK(AL22,$AL$1:$AL$35,0)+COUNTIF($AL$1:AL22,AL22)-1)","v":""}]
[{"$f":"IF(OR(ISTEXT(RTD(\"cqg.rtd\",,\"OrderData\",\"\"&B23&\"\",\"\",\"OpenPosition\",\"\"&Display1!$D$3&\"\")),RTD(\"cqg.rtd\",,\"OrderData\",\"\"&B23&\"\",\"\",\"OpenPosition\",\"\"&Display1!$D$3&\"\")=0),A22+0.001,INT(A22)+1)","v":2.3000000000000013E-2},{"$f":"(LEFT(B24,SEARCH(Display1!$G$2,B24)+LEN(Display1!$G$2)+2))&RIGHT(B24,LEN(B24)-(SEARCH(Display1!$G$2,B24)+LEN(Display1!$G$2)+2))+Display1!$J$3","v":"C.US.CLE1N175150"},0,0,23,{"$f":"IF(D23=1,RTD(\"cqg.rtd\", ,\"ContractData\",C23, \"ImpliedVolatility\",, \"T\"),\"\")","v":""},{"$f":"IF(F23=\"\",\"\",RANK(F23,$F$1:$F$35,0)+COUNTIF($F$1:F23,F23)-1)","v":""},0,23,0,{"$f":"IF(D23=1,RTD(\"cqg.rtd\", ,\"OrderData\",\"\"&C23&\"\", \"\", \"OpenTradeEquity\",\"\"&$B$449&\"\"),\"\")","v":""},{"$f":"IF(K23=\"\",\"\",RANK(K23,$K$1:$K$35,0))+COUNTIF($K$1:K23,K23)-1","v":{"$error":"#VALUE!"}},0,23,"",{"$f":"IF(D23=1,RTD(\"cqg.rtd\", ,\"ContractData\",C23, \"Delta\",, \"T\"),\"\")","v":""},{"$f":"IF(D23=1,RTD(\"cqg.rtd\", ,\"OrderData\", \"\"&O23&\"\", \"\", \"OpenPosition\",\"\"&$B$449&\"\"),\"\")","v":""},{"$f":"IF(D23=0,\"\",IF(LEFT(O23,1)=\"F\",Q23*100,Q23*RTD(\"cqg.rtd\",,\"ContractData\",O23,\"Delta\",,\"T\")))","v":""},{"$f":"IF(R23=\"\",\"\",RANK(R23,$R$1:$R$35,0)+COUNTIF($R$1:R23,R23)-1)","v":""},"",23,"",{"$f":"IF(D23=1,RTD(\"cqg.rtd\", ,\"ContractData\",C23, \"Vega\",, \"T\"),\"\")","v":""},{"$f":"IF(W23=\"\",\"\",RANK(W23,$W$1:$W$35,0)+COUNTIF($W$1:W23,W23)-1)","v":""},0,23,"",{"$f":"IF(D23=1,RTD(\"cqg.rtd\", ,\"ContractData\",C23, \"Gamma\",, \"T\"),\"\")","v":""},{"$f":"IF(AB23=\"\",\"\",RANK(AB23,$AB$1:$AB$35,0)+COUNTIF($AB$1:AB23,AB23)-1)","v":""},0,23,"",{"$f":"IF(D23=1,RTD(\"cqg.rtd\", ,\"ContractData\",C23, \"Theta\",, \"T\"),\"\")","v":""},{"$f":"IF(AG23=\"\",\"\",RANK(AG23,$AG$1:$AG$35,0)+COUNTIF($AG$1:AG23,AG23)-1)","v":""},0,23,"",{"$f":"IF(D23=1,1/RTD(\"cqg.rtd\", ,\"ContractData\",C23, \"ExpirationDate\",, \"T\"),\"\")","v":""},{"$f":"IF(AL23=\"\",\"\",RANK(AL23,$AL$1:$AL$35,0)+COUNTIF($AL$1:AL23,AL23)-1)","v":""},0,23,"",{"$f":"IF(AL23=\"\",\"\",RANK(AL23,$AL$1:$AL$35,0)+COUNTIF($AL$1:AL23,AL23)-1)","v":""}]
[{"$f":"IF(OR(ISTEXT(RTD(\"cqg.rtd\",,\"OrderData\",\"\"&B24&\"\",\"\",\"OpenPosition\",\"\"&Display1!$D$3&\"\")),RTD(\"cqg.rtd\",,\"OrderData\",\"\"&B24&\"\",\"\",\"OpenPosition\",\"\"&Display1!$D$3&\"\")=0),A23+0.001,INT(A23)+1)","v":2.4000000000000014E-2},{"$f":"(LEFT(B25,SEARCH(Display1!$G$2,B25)+LEN(Display1!$G$2)+2))&RIGHT(B25,LEN(B25)-(SEARCH(Display1!$G$2,B25)+LEN(Display1!$G$2)+2))+Display1!$J$3","v":"C.US.CLE1N175100"},0,0,24,{"$f":"IF(D24=1,RTD(\"cqg.rtd\", ,\"ContractData\",C24, \"ImpliedVolatility\",, \"T\"),\"\")","v":""},{"$f":"IF(F24=\"\",\"\",RANK(F24,$F$1:$F$35,0)+COUNTIF($F$1:F24,F24)-1)","v":""},0,24,0,{"$f":"IF(D24=1,RTD(\"cqg.rtd\", ,\"OrderData\",\"\"&C24&\"\", \"\", \"OpenTradeEquity\",\"\"&$B$449&\"\"),\"\")","v":""},{"$f":"IF(K24=\"\",\"\",RANK(K24,$K$1:$K$35,0))+COUNTIF($K$1:K24,K24)-1","v":{"$error":"#VALUE!"}},0,24,"",{"$f":"IF(D24=1,RTD(\"cqg.rtd\", ,\"ContractData\",C24, \"Delta\",, \"T\"),\"\")","v":""},{"$f":"IF(D24=1,RTD(\"cqg.rtd\", ,\"OrderData\", \"\"&O24&\"\", \"\", \"OpenPosition\",\"\"&$B$449&\"\"),\"\")","v":""},{"$f":"IF(D24=0,\"\",IF(LEFT(O24,1)=\"F\",Q24*100,Q24*RTD(\"cqg.rtd\",,\"ContractData\",O24,\"Delta\",,\"T\")))","v":""},{"$f":"IF(R24=\"\",\"\",RANK(R24,$R$1:$R$35,0)+COUNTIF($R$1:R24,R24)-1)","v":""},"",24,"",{"$f":"IF(D24=1,RTD(\"cqg.rtd\", ,\"ContractData\",C24, \"Vega\",, \"T\"),\"\")","v":""},{"$f":"IF(W24=\"\",\"\",RANK(W24,$W$1:$W$35,0)+COUNTIF($W$1:W24,W24)-1)","v":""},0,24,"",{"$f":"IF(D24=1,RTD(\"cqg.rtd\", ,\"ContractData\",C24, \"Gamma\",, \"T\"),\"\")","v":""},{"$f":"IF(AB24=\"\",\"\",RANK(AB24,$AB$1:$AB$35,0)+COUNTIF($AB$1:AB24,AB24)-1)","v":""},0,24,"",{"$f":"IF(D24=1,RTD(\"cqg.rtd\", ,\"ContractData\",C24, \"Theta\",, \"T\"),\"\")","v":""},{"$f":"IF(AG24=\"\",\"\",RANK(AG24,$AG$1:$AG$35,0)+COUNTIF($AG$1:AG24,AG24)-1)","v":""},0,24,"",{"$f":"IF(D24=1,1/RTD(\"cqg.rtd\", ,\"ContractData\",C24, \"ExpirationDate\",, \"T\"),\"\")","v":""},{"$f":"IF(AL24=\"\",\"\",RANK(AL24,$AL$1:$AL$35,0)+COUNTIF($AL$1:AL24,AL24)-1)","v":""},0,24,"",{"$f":"IF(AL24=\"\",\"\",RANK(AL24,$AL$1:$AL$35,0)+COUNTIF($AL$1:AL24,AL24)-1)","v":""}]
[{"$f":"IF(OR(ISTEXT(RTD(\"cqg.rtd\",,\"OrderData\",\"\"&B25&\"\",\"\",\"OpenPosition\",\"\"&Display1!$D$3&\"\")),RTD(\"cqg.rtd\",,\"OrderData\",\"\"&B25&\"\",\"\",\"OpenPosition\",\"\"&Display1!$D$3&\"\")=0),A24+0.001,INT(A24)+1)","v":2.5000000000000015E-2},{"$f":"(LEFT(B26,SEARCH(Display1!$G$2,B26)+LEN(Display1!$G$2)+2))&RIGHT(B26,LEN(B26)-(SEARCH(Display1!$G$2,B26)+LEN(Display1!$G$2)+2))+Display1!$J$3","v":"C.US.CLE1N175050"},0,0,25,{"$f":"IF(D25=1,RTD(\"cqg.rtd\", ,\"ContractData\",C25, \"ImpliedVolatility\",, \"T\"),\"\")","v":""},{"$f":"IF(F25=\"\",\"\",RANK(F25,$F$1:$F$35,0)+COUNTIF($F$1:F25,F25)-1)","v":""},0,25,0,{"$f":"IF(D25=1,RTD(\"cqg.rtd\", ,\"OrderData\",\"\"&C25&\"\", \"\", \"OpenTradeEquity\",\"\"&$B$449&\"\"),\"\")","v":""},{"$f":"IF(K25=\"\",\"\",RANK(K25,$K$1:$K$35,0))+COUNTIF($K$1:K25,K25)-1","v":{"$error":"#VALUE!"}},0,25,"",{"$f":"IF(D25=1,RTD(\"cqg.rtd\", ,\"ContractData\",C25, \"Delta\",, \"T\"),\"\")","v":""},{"$f":"IF(D25=1,RTD(\"cqg.rtd\", ,\"OrderData\", \"\"&O25&\"\", \"\", \"OpenPosition\",\"\"&$B$449&\"\"),\"\")","v":""},{"$f":"IF(D25=0,\"\",IF(LEFT(O25,1)=\"F\",Q25*100,Q25*RTD(\"cqg.rtd\",,\"ContractData\",O25,\"Delta\",,\"T\")))","v":""},{"$f":"IF(R25=\"\",\"\",RANK(R25,$R$1:$R$35,0)+COUNTIF($R$1:R25,R25)-1)","v":""},"",25,"",{"$f":"IF(D25=1,RTD(\"cqg.rtd\", ,\"ContractData\",C25, \"Vega\",, \"T\"),\"\")","v":""},{"$f":"IF(W25=\"\",\"\",RANK(W25,$W$1:$W$35,0)+COUNTIF($W$1:W25,W25)-1)","v":""},0,25,"",{"$f":"IF(D25=1,RTD(\"cqg.rtd\", ,\"ContractData\",C25, \"Gamma\",, \"T\"),\"\")","v":""},{"$f":"IF(AB25=\"\",\"\",RANK(AB25,$AB$1:$AB$35,0)+COUNTIF($AB$1:AB25,AB25)-1)","v":""},0,25,"",{"$f":"IF(D25=1,RTD(\"cqg.rtd\", ,\"ContractData\",C25, \"Theta\",, \"T\"),\"\")","v":""},{"$f":"IF(AG25=\"\",\"\",RANK(AG25,$AG$1:$AG$35,0)+COUNTIF($AG$1:AG25,AG25)-1)","v":""},0,25,"",{"$f":"IF(D25=1,1/RTD(\"cqg.rtd\", ,\"ContractData\",C25, \"ExpirationDate\",, \"T\"),\"\")","v":""},{"$f":"IF(AL25=\"\",\"\",RANK(AL25,$AL$1:$AL$35,0)+COUNTIF($AL$1:AL25,AL25)-1)","v":""},0,25,"",{"$f":"IF(AL25=\"\",\"\",RANK(AL25,$AL$1:$AL$35,0)+COUNTIF($AL$1:AL25,AL25)-1)","v":""}]
[{"$f":"IF(OR(ISTEXT(RTD(\"cqg.rtd\",,\"OrderData\",\"\"&B26&\"\",\"\",\"OpenPosition\",\"\"&Display1!$D$3&\"\")),RTD(\"cqg.rtd\",,\"OrderData\",\"\"&B26&\"\",\"\",\"OpenPosition\",\"\"&Display1!$D$3&\"\")=0),A25+0.001,INT(A25)+1)","v":2.6000000000000016E-2},{"$f":"(LEFT(B27,SEARCH(Display1!$G$2,B27)+LEN(Display1!$G$2)+2))&RIGHT(B27,LEN(B27)-(SEARCH(Display1!$G$2,B27)+LEN(Display1!$G$2)+2))+Display1!$J$3","v":"C.US.CLE1N175000"},0,0,26,{"$f":"IF(D26=1,RTD(\"cqg.rtd\", ,\"ContractData\",C26, \"ImpliedVolatility\",, \"T\"),\"\")","v":""},{"$f":"IF(F26=\"\",\"\",RANK(F26,$F$1:$F$35,0)+COUNTIF($F$1:F26,F26)-1)","v":""},0,26,0,{"$f":"IF(D26=1,RTD(\"cqg.rtd\", ,\"OrderData\",\"\"&C26&\"\", \"\", \"OpenTradeEquity\",\"\"&$B$449&\"\"),\"\")","v":""},{"$f":"IF(K26=\"\",\"\",RANK(K26,$K$1:$K$35,0))+COUNTIF($K$1:K26,K26)-1","v":{"$error":"#VALUE!"}},0,26,"",{"$f":"IF(D26=1,RTD(\"cqg.rtd\", ,\"ContractData\",C26, \"Delta\",, \"T\"),\"\")","v":""},{"$f":"IF(D26=1,RTD(\"cqg.rtd\", ,\"OrderData\", \"\"&O26&\"\", \"\", \"OpenPosition\",\"\"&$B$449&\"\"),\"\")","v":""},{"$f":"IF(D26=0,\"\",IF(LEFT(O26,1)=\"F\",Q26*100,Q26*RTD(\"cqg.rtd\",,\"ContractData\",O26,\"Delta\",,\"T\")))","v":""},{"$f":"IF(R26=\"\",\"\",RANK(R26,$R$1:$R$35,0)+COUNTIF($R$1:R26,R26)-1)","v":""},"",26,"",{"$f":"IF(D26=1,RTD(\"cqg.rtd\", ,\"ContractData\",C26, \"Vega\",, \"T\"),\"\")","v":""},{"$f":"IF(W26=\"\",\"\",RANK(W26,$W$1:$W$35,0)+COUNTIF($W$1:W26,W26)-1)","v":""},0,26,"",{"$f":"IF(D26=1,RTD(\"cqg.rtd\", ,\"ContractData\",C26, \"Gamma\",, \"T\"),\"\")","v":""},{"$f":"IF(AB26=\"\",\"\",RANK(AB26,$AB$1:$AB$35,0)+COUNTIF($AB$1:AB26,AB26)-1)","v":""},0,26,"",{"$f":"IF(D26=1,RTD(\"cqg.rtd\", ,\"ContractData\",C26, \"Theta\",, \"T\"),\"\")","v":""},{"$f":"IF(AG26=\"\",\"\",RANK(AG26,$AG$1:$AG$35,0)+COUNTIF($AG$1:AG26,AG26)-1)","v":""},0,26,"",{"$f":"IF(D26=1,1/RTD(\"cqg.rtd\", ,\"ContractData\",C26, \"ExpirationDate\",, \"T\"),\"\")","v":""},{"$f":"IF(AL26=\"\",\"\",RANK(AL26,$AL$1:$AL$35,0)+COUNTIF($AL$1:AL26,AL26)-1)","v":""},0,26,"",{"$f":"IF(AL26=\"\",\"\",RANK(AL26,$AL$1:$AL$35,0)+COUNTIF($AL$1:AL26,AL26)-1)","v":""}]
[{"$f":"IF(OR(ISTEXT(RTD(\"cqg.rtd\",,\"OrderData\",\"\"&B27&\"\",\"\",\"OpenPosition\",\"\"&Display1!$D$3&\"\")),RTD(\"cqg.rtd\",,\"OrderData\",\"\"&B27&\"\",\"\",\"OpenPosition\",\"\"&Display1!$D$3&\"\")=0),A26+0.001,INT(A26)+1)","v":2.7000000000000017E-2},{"$f":"(LEFT(B28,SEARCH(Display1!$G$2,B28)+LEN(Display1!$G$2)+2))&RIGHT(B28,LEN(B28)-(SEARCH(Display1!$G$2,B28)+LEN(Display1!$G$2)+2))+Display1!$J$3","v":"C.US.CLE1N174950"},0,0,27,{"$f":"IF(D27=1,RTD(\"cqg.rtd\", ,\"ContractData\",C27, \"ImpliedVolatility\",, \"T\"),\"\")","v":""},{"$f":"IF(F27=\"\",\"\",RANK(F27,$F$1:$F$35,0)+COUNTIF($F$1:F27,F27)-1)","v":""},0,27,0,{"$f":"IF(D27=1,RTD(\"cqg.rtd\", ,\"OrderData\",\"\"&C27&\"\", \"\", \"OpenTradeEquity\",\"\"&$B$449&\"\"),\"\")","v":""},{"$f":"IF(K27=\"\",\"\",RANK(K27,$K$1:$K$35,0))+COUNTIF($K$1:K27,K27)-1","v":{"$error":"#VALUE!"}},0,27,"",{"$f":"IF(D27=1,RTD(\"cqg.rtd\", ,\"ContractData\",C27, \"Delta\",, \"T\"),\"\")","v":""},{"$f":"IF(D27=1,RTD(\"cqg.rtd\", ,\"OrderData\", \"\"&O27&\"\", \"\", \"OpenPosition\",\"\"&$B$449&\"\"),\"\")","v":""},{"$f":"IF(D27=0,\"\",IF(LEFT(O27,1)=\"F\",Q27*100,Q27*RTD(\"cqg.rtd\",,\"ContractData\",O27,\"Delta\",,\"T\")))","v":""},{"$f":"IF(R27=\"\",\"\",RANK(R27,$R$1:$R$35,0)+COUNTIF($R$1:R27,R27)-1)","v":""},"",27,"",{"$f":"IF(D27=1,RTD(\"cqg.rtd\", ,\"ContractData\",C27, \"Vega\",, \"T\"),\"\")","v":""},{"$f":"IF(W27=\"\",\"\",RANK(W27,$W$1:$W$35,0)+COUNTIF($W$1:W27,W27)-1)","v":""},0,27,"",{"$f":"IF(D27=1,RTD(\"cqg.rtd\", ,\"ContractData\",C27, \"Gamma\",, \"T\"),\"\")","v":""},{"$f":"IF(AB27=\"\",\"\",RANK(AB27,$AB$1:$AB$35,0)+COUNTIF($AB$1:AB27,AB27)-1)","v":""},0,27,"",{"$f":"IF(D27=1,RTD(\"cqg.rtd\", ,\"ContractData\",C27, \"Theta\",, \"T\"),\"\")","v":""},{"$f":"IF(AG27=\"\",\"\",RANK(AG27,$AG$1:$AG$35,0)+COUNTIF($AG$1:AG27,AG27)-1)","v":""},0,27,"",{"$f":"IF(D27=1,1/RTD(\"cqg.rtd\", ,\"ContractData\",C27, \"ExpirationDate\",, \"T\"),\"\")","v":""},{"$f":"IF(AL27=\"\",\"\",RANK(AL27,$AL$1:$AL$35,0)+COUNTIF($AL$1:AL27,AL27)-1)","v":""},0,27,"",{"$f":"IF(AL27=\"\",\"\",RANK(AL27,$AL$1:$AL$35,0)+COUNTIF($AL$1:AL27,AL27)-1)","v":""}]
[{"$f":"IF(OR(ISTEXT(RTD(\"cqg.rtd\",,\"OrderData\",\"\"&B28&\"\",\"\",\"OpenPosition\",\"\"&Display1!$D$3&\"\")),RTD(\"cqg.rtd\",,\"OrderData\",\"\"&B28&\"\",\"\",\"OpenPosition\",\"\"&Display1!$D$3&\"\")=0),A27+0.001,INT(A27)+1)","v":2.8000000000000018E-2},{"$f":"(LEFT(B29,SEARCH(Display1!$G$2,B29)+LEN(Display1!$G$2)+2))&RIGHT(B29,LEN(B29)-(SEARCH(Display1!$G$2,B29)+LEN(Display1!$G$2)+2))+Display1!$J$3","v":"C.US.CLE1N174900"},0,0,28,{"$f":"IF(D28=1,RTD(\"cqg.rtd\", ,\"ContractData\",C28, \"ImpliedVolatility\",, \"T\"),\"\")","v":""},{"$f":"IF(F28=\"\",\"\",RANK(F28,$F$1:$F$35,0)+COUNTIF($F$1:F28,F28)-1)","v":""},0,28,0,{"$f":"IF(D28=1,RTD(\"cqg.rtd\", ,\"OrderData\",\"\"&C28&\"\", \"\", \"OpenTradeEquity\",\"\"&$B$449&\"\"),\"\")","v":""},{"$f":"IF(K28=\"\",\"\",RANK(K28,$K$1:$K$35,0))+COUNTIF($K$1:K28,K28)-1","v":{"$error":"#VALUE!"}},0,28,"",{"$f":"IF(D28=1,RTD(\"cqg.rtd\", ,\"ContractData\",C28, \"Delta\",, \"T\"),\"\")","v":""},{"$f":"IF(D28=1,RTD(\"cqg.rtd\", ,\"OrderData\", \"\"&O28&\"\", \"\", \"OpenPosition\",\"\"&$B$449&\"\"),\"\")","v":""},{"$f":"IF(D28=0,\"\",IF(LEFT(O28,1)=\"F\",Q28*100,Q28*RTD(\"cqg.rtd\",,\"ContractData\",O28,\"Delta\",,\"T\")))","v":""},{"$f":"IF(R28=\"\",\"\",RANK(R28,$R$1:$R$35,0)+COUNTIF($R$1:R28,R28)-1)","v":""},"",28,"",{"$f":"IF(D28=1,RTD(\"cqg.rtd\", ,\"ContractData\",C28, \"Vega\",, \"T\"),\"\")","v":""},{"$f":"IF(W28=\"\",\"\",RANK(W28,$W$1:$W$35,0)+COUNTIF($W$1:W28,W28)-1)","v":""},0,28,"",{"$f":"IF(D28=1,RTD(\"cqg.rtd\", ,\"ContractData\",C28, \"Gamma\",, \"T\"),\"\")","v":""},{"$f":"IF(AB28=\"\",\"\",RANK(AB28,$AB$1:$AB$35,0)+COUNTIF($AB$1:AB28,AB28)-1)","v":""},0,28,"",{"$f":"IF(D28=1,RTD(\"cqg.rtd\", ,\"ContractData\",C28, \"Theta\",, \"T\"),\"\")","v":""},{"$f":"IF(AG28=\"\",\"\",RANK(AG28,$AG$1:$AG$35,0)+COUNTIF($AG$1:AG28,AG28)-1)","v":""},0,28,"",{"$f":"IF(D28=1,1/RTD(\"cqg.rtd\", ,\"ContractData\",C28, \"ExpirationDate\",, \"T\"),\"\")","v":""},{"$f":"IF(AL28=\"\",\"\",RANK(AL28,$AL$1:$AL$35,0)+COUNTIF($AL$1:AL28,AL28)-1)","v":""},0,28,"",{"$f":"IF(AL28=\"\",\"\",RANK(AL28,$AL$1:$AL$35,0)+COUNTIF($AL$1:AL28,AL28)-1)","v":""}]
[{"$f":"IF(OR(ISTEXT(RTD(\"cqg.rtd\",,\"OrderData\",\"\"&B29&\"\",\"\",\"OpenPosition\",\"\"&Display1!$D$3&\"\")),RTD(\"cqg.rtd\",,\"OrderData\",\"\"&B29&\"\",\"\",\"OpenPosition\",\"\"&Display1!$D$3&\"\")=0),A28+0.001,INT(A28)+1)","v":2.9000000000000019E-2},{"$f":"(LEFT(B30,SEARCH(Display1!$G$2,B30)+LEN(Display1!$G$2)+2))&RIGHT(B30,LEN(B30)-(SEARCH(Display1!$G$2,B30)+LEN(Display1!$G$2)+2))+Display1!$J$3","v":"C.US.CLE1N174850"},0,0,29,{"$f":"IF(D29=1,RTD(\"cqg.rtd\", ,\"ContractData\",C29, \"ImpliedVolatility\",, \"T\"),\"\")","v":""},{"$f":"IF(F29=\"\",\"\",RANK(F29,$F$1:$F$35,0)+COUNTIF($F$1:F29,F29)-1)","v":""},0,29,0,{"$f":"IF(D29=1,RTD(\"cqg.rtd\", ,\"OrderData\",\"\"&C29&\"\", \"\", \"OpenTradeEquity\",\"\"&$B$449&\"\"),\"\")","v":""},{"$f":"IF(K29=\"\",\"\",RANK(K29,$K$1:$K$35,0))+COUNTIF($K$1:K29,K29)-1","v":{"$error":"#VALUE!"}},0,29,"",{"$f":"IF(D29=1,RTD(\"cqg.rtd\", ,\"ContractData\",C29, \"Delta\",, \"T\"),\"\")","v":""},{"$f":"IF(D29=1,RTD(\"cqg.rtd\", ,\"OrderData\", \"\"&O29&\"\", \"\", \"OpenPosition\",\"\"&$B$449&\"\"),\"\")","v":""},{"$f":"IF(D29=0,\"\",IF(LEFT(O29,1)=\"F\",Q29*100,Q29*RTD(\"cqg.rtd\",,\"ContractData\",O29,\"Delta\",,\"T\")))","v":""},{"$f":"IF(R29=\"\",\"\",RANK(R29,$R$1:$R$35,0)+COUNTIF($R$1:R29,R29)-1)","v":""},"",29,"",{"$f":"IF(D29=1,RTD(\"cqg.rtd\", ,\"ContractData\",C29, \"Vega\",, \"T\"),\"\")","v":""},{"$f":"IF(W29=\"\",\"\",RANK(W29,$W$1:$W$35,0)+COUNTIF($W$1:W29,W29)-1)","v":""},0,29,"",{"$f":"IF(D29=1,RTD(\"cqg.rtd\", ,\"ContractData\",C29, \"Gamma\",, \"T\"),\"\")","v":""},{"$f":"IF(AB29=\"\",\"\",RANK(AB29,$AB$1:$AB$35,0)+COUNTIF($AB$1:AB29,AB29)-1)","v":""},0,29,"",{"$f":"IF(D29=1,RTD(\"cqg.rtd\", ,\"ContractData\",C29, \"Theta\",, \"T\"),\"\")","v":""},{"$f":"IF(AG29=\"\",\"\",RANK(AG29,$AG$1:$AG$35,0)+COUNTIF($AG$1:AG29,AG29)-1)","v":""},0,29,"",{"$f":"IF(D29=1,1/RTD(\"cqg.rtd\", ,\"ContractData\",C29, \"ExpirationDate\",, \"T\"),\"\")","v":""},{"$f":"IF(AL29=\"\",\"\",RANK(AL29,$AL$1:$AL$35,0)+COUNTIF($AL$1:AL29,AL29)-1)","v":""},0,29,"",{"$f":"IF(AL29=\"\",\"\",RANK(AL29,$AL$1:$AL$35,0)+COUNTIF($AL$1:AL29,AL29)-1)","v":""}]
[{"$f":"IF(OR(ISTEXT(RTD(\"cqg.rtd\",,\"OrderData\",\"\"&B30&\"\",\"\",\"OpenPosition\",\"\"&Display1!$D$3&\"\")),RTD(\"cqg.rtd\",,\"OrderData\",\"\"&B30&\"\",\"\",\"OpenPosition\",\"\"&Display1!$D$3&\"\")=0),A29+0.001,INT(A29)+1)","v":3.000000000000002E-2},{"$f":"(LEFT(B31,SEARCH(Display1!$G$2,B31)+LEN(Display1!$G$2)+2))&RIGHT(B31,LEN(B31)-(SEARCH(Display1!$G$2,B31)+LEN(Display1!$G$2)+2))+Display1!$J$3","v":"C.US.CLE1N174800"},0,0,30,{"$f":"IF(D30=1,RTD(\"cqg.rtd\", ,\"ContractData\",C30, \"ImpliedVolatility\",, \"T\"),\"\")","v":""},{"$f":"IF(F30=\"\",\"\",RANK(F30,$F$1:$F$35,0)+COUNTIF($F$1:F30,F30)-1)","v":""},0,30,0,{"$f":"IF(D30=1,RTD(\"cqg.rtd\", ,\"OrderData\",\"\"&C30&\"\", \"\", \"OpenTradeEquity\",\"\"&$B$449&\"\"),\"\")","v":""},{"$f":"IF(K30=\"\",\"\",RANK(K30,$K$1:$K$35,0))+COUNTIF($K$1:K30,K30)-1","v":{"$error":"#VALUE!"}},0,30,"",{"$f":"IF(D30=1,RTD(\"cqg.rtd\", ,\"ContractData\",C30, \"Delta\",, \"T\"),\"\")","v":""},{"$f":"IF(D30=1,RTD(\"cqg.rtd\", ,\"OrderData\", \"\"&O30&\"\", \"\", \"OpenPosition\",\"\"&$B$449&\"\"),\"\")","v":""},{"$f":"IF(D30=0,\"\",IF(LEFT(O30,1)=\"F\",Q30*100,Q30*RTD(\"cqg.rtd\",,\"ContractData\",O30,\"Delta\",,\"T\")))","v":""},{"$f":"IF(R30=\"\",\"\",RANK(R30,$R$1:$R$35,0)+COUNTIF($R$1:R30,R30)-1)","v":""},"",30,"",{"$f":"IF(D30=1,RTD(\"cqg.rtd\", ,\"ContractData\",C30, \"Vega\",, \"T\"),\"\")","v":""},{"$f":"IF(W30=\"\",\"\",RANK(W30,$W$1:$W$35,0)+COUNTIF($W$1:W30,W30)-1)","v":""},0,30,"",{"$f":"IF(D30=1,RTD(\"cqg.rtd\", ,\"ContractData\",C30, \"Gamma\",, \"T\"),\"\")","v":""},{"$f":"IF(AB30=\"\",\"\",RANK(AB30,$AB$1:$AB$35,0)+COUNTIF($AB$1:AB30,AB30)-1)","v":""},0,30,"",{"$f":"IF(D30=1,RTD(\"cqg.rtd\", ,\"ContractData\",C30, \"Theta\",, \"T\"),\"\")","v":""},{"$f":"IF(AG30=\"\",\"\",RANK(AG30,$AG$1:$AG$35,0)+COUNTIF($AG$1:AG30,AG30)-1)","v":""},0,30,"",{"$f":"IF(D30=1,1/RTD(\"cqg.rtd\", ,\"ContractData\",C30, \"ExpirationDate\",, \"T\"),\"\")","v":""},{"$f":"IF(AL30=\"\",\"\",RANK(AL30,$AL$1:$AL$35,0)+COUNTIF($AL$1:AL30,AL30)-1)","v":""},0,30,"",{"$f":"IF(AL30=\"\",\"\",RANK(AL30,$AL$1:$AL$35,0)+COUNTIF($AL$1:AL30,AL30)-1)","v":""}]
[{"$f":"IF(OR(ISTEXT(RTD(\"cqg.rtd\",,\"OrderData\",\"\"&B31&\"\",\"\",\"OpenPosition\",\"\"&Display1!$D$3&\"\")),RTD(\"cqg.rtd\",,\"OrderData\",\"\"&B31&\"\",\"\",\"OpenPosition\",\"\"&Display1!$D$3&\"\")=0),A30+0.001,INT(A30)+1)","v":3.1000000000000021E-2},{"$f":"(LEFT(B32,SEARCH(Display1!$G$2,B32)+LEN(Display1!$G$2)+2))&RIGHT(B32,LEN(B32)-(SEARCH(Display1!$G$2,B32)+LEN(Display1!$G$2)+2))+Display1!$J$3","v":"C.US.CLE1N174750"},0,0,31,{"$f":"IF(D31=1,RTD(\"cqg.rtd\", ,\"ContractData\",C31, \"ImpliedVolatility\",, \"T\"),\"\")","v":""},{"$f":"IF(F31=\"\",\"\",RANK(F31,$F$1:$F$35,0)+COUNTIF($F$1:F31,F31)-1)","v":""},0,31,0,{"$f":"IF(D31=1,RTD(\"cqg.rtd\", ,\"OrderData\",\"\"&C31&\"\", \"\", \"OpenTradeEquity\",\"\"&$B$449&\"\"),\"\")","v":""},{"$f":"IF(K31=\"\",\"\",RANK(K31,$K$1:$K$35,0))+COUNTIF($K$1:K31,K31)-1","v":{"$error":"#VALUE!"}},0,31,"",{"$f":"IF(D31=1,RTD(\"cqg.rtd\", ,\"ContractData\",C31, \"Delta\",, \"T\"),\"\")","v":""},{"$f":"IF(D31=1,RTD(\"cqg.rtd\", ,\"OrderData\", \"\"&O31&\"\", \"\", \"OpenPosition\",\"\"&$B$449&\"\"),\"\")","v":""},{"$f":"IF(D31=0,\"\",IF(LEFT(O31,1)=\"F\",Q31*100,Q31*RTD(\"cqg.rtd\",,\"ContractData\",O31,\"Delta\",,\"T\")))","v":""},{"$f":"IF(R31=\"\",\"\",RANK(R31,$R$1:$R$35,0)+COUNTIF($R$1:R31,R31)-1)","v":""},"",31,"",{"$f":"IF(D31=1,RTD(\"cqg.rtd\", ,\"ContractData\",C31, \"Vega\",, \"T\"),\"\")","v":""},{"$f":"IF(W31=\"\",\"\",RANK(W31,$W$1:$W$35,0)+COUNTIF($W$1:W31,W31)-1)","v":""},0,31,"",{"$f":"IF(D31=1,RTD(\"cqg.rtd\", ,\"ContractData\",C31, \"Gamma\",, \"T\"),\"\")","v":""},{"$f":"IF(AB31=\"\",\"\",RANK(AB31,$AB$1:$AB$35,0)+COUNTIF($AB$1:AB31,AB31)-1)","v":""},0,31,"",{"$f":"IF(D31=1,RTD(\"cqg.rtd\", ,\"ContractData\",C31, \"Theta\",, \"T\"),\"\")","v":""},{"$f":"IF(AG31=\"\",\"\",RANK(AG31,$AG$1:$AG$35,0)+COUNTIF($AG$1:AG31,AG31)-1)","v":""},0,31,"",{"$f":"IF(D31=1,1/RTD(\"cqg.rtd\", ,\"ContractData\",C31, \"ExpirationDate\",, \"T\"),\"\")","v":""},{"$f":"IF(AL31=\"\",\"\",RANK(AL31,$AL$1:$AL$35,0)+COUNTIF($AL$1:AL31,AL31)-1)","v":""},0,31,"",{"$f":"IF(AL31=\"\",\"\",RANK(AL31,$AL$1:$AL$35,0)+COUNTIF($AL$1:AL31,AL31)-1)","v":""}]
[{"$f":"IF(OR(ISTEXT(RTD(\"cqg.rtd\",,\"OrderData\",\"\"&B32&\"\",\"\",\"OpenPosition\",\"\"&Display1!$D$3&\"\")),RTD(\"cqg.rtd\",,\"OrderData\",\"\"&B32&\"\",\"\",\"OpenPosition\",\"\"&Display1!$D$3&\"\")=0),A31+0.001,INT(A31)+1)","v":3.2000000000000021E-2},{"$f":"(LEFT(B33,SEARCH(Display1!$G$2,B33)+LEN(Display1!$G$2)+2))&RIGHT(B33,LEN(B33)-(SEARCH(Display1!$G$2,B33)+LEN(Display1!$G$2)+2))+Display1!$J$3","v":"C.US.CLE1N174700"},0,0,32,{"$f":"IF(D32=1,RTD(\"cqg.rtd\", ,\"ContractData\",C32, \"ImpliedVolatility\",, \"T\"),\"\")","v":""},{"$f":"IF(F32=\"\",\"\",RANK(F32,$F$1:$F$35,0)+COUNTIF($F$1:F32,F32)-1)","v":""},0,32,0,{"$f":"IF(D32=1,RTD(\"cqg.rtd\", ,\"OrderData\",\"\"&C32&\"\", \"\", \"OpenTradeEquity\",\"\"&$B$449&\"\"),\"\")","v":""},{"$f":"IF(K32=\"\",\"\",RANK(K32,$K$1:$K$35,0))+COUNTIF($K$1:K32,K32)-1","v":{"$error":"#VALUE!"}},0,32,"",{"$f":"IF(D32=1,RTD(\"cqg.rtd\", ,\"ContractData\",C32, \"Delta\",, \"T\"),\"\")","v":""},{"$f":"IF(D32=1,RTD(\"cqg.rtd\", ,\"OrderData\", \"\"&O32&\"\", \"\", \"OpenPosition\",\"\"&$B$449&\"\"),\"\")","v":""},{"$f":"IF(D32=0,\"\",IF(LEFT(O32,1)=\"F\",Q32*100,Q32*RTD(\"cqg.rtd\",,\"ContractData\",O32,\"Delta\",,\"T\")))","v":""},{"$f":"IF(R32=\"\",\"\",RANK(R32,$R$1:$R$35,0)+COUNTIF($R$1:R32,R32)-1)","v":""},"",32,"",{"$f":"IF(D32=1,RTD(\"cqg.rtd\", ,\"ContractData\",C32, \"Vega\",, \"T\"),\"\")","v":""},{"$f":"IF(W32=\"\",\"\",RANK(W32,$W$1:$W$35,0)+COUNTIF($W$1:W32,W32)-1)","v":""},0,32,"",{"$f":"IF(D32=1,RTD(\"cqg.rtd\", ,\"ContractData\",C32, \"Gamma\",, \"T\"),\"\")","v":""},{"$f":"IF(AB32=\"\",\"\",RANK(AB32,$AB$1:$AB$35,0)+COUNTIF($AB$1:AB32,AB32)-1)","v":""},0,32,"",{"$f":"IF(D32=1,RTD(\"cqg.rtd\", ,\"ContractData\",C32, \"Theta\",, \"T\"),\"\")","v":""},{"$f":"IF(AG32=\"\",\"\",RANK(AG32,$AG$1:$AG$35,0)+COUNTIF($AG$1:AG32,AG32)-1)","v":""},0,32,"",{"$f":"IF(D32=1,1/RTD(\"cqg.rtd\", ,\"ContractData\",C32, \"ExpirationDate\",, \"T\"),\"\")","v":""},{"$f":"IF(AL32=\"\",\"\",RANK(AL32,$AL$1:$AL$35,0)+COUNTIF($AL$1:AL32,AL32)-1)","v":""},0,32,"",{"$f":"IF(AL32=\"\",\"\",RANK(AL32,$AL$1:$AL$35,0)+COUNTIF($AL$1:AL32,AL32)-1)","v":""}]
[{"$f":"IF(OR(ISTEXT(RTD(\"cqg.rtd\",,\"OrderData\",\"\"&B33&\"\",\"\",\"OpenPosition\",\"\"&Display1!$D$3&\"\")),RTD(\"cqg.rtd\",,\"OrderData\",\"\"&B33&\"\",\"\",\"OpenPosition\",\"\"&Display1!$D$3&\"\")=0),A32+0.001,INT(A32)+1)","v":3.3000000000000022E-2},{"$f":"(LEFT(B34,SEARCH(Display1!$G$2,B34)+LEN(Display1!$G$2)+2))&RIGHT(B34,LEN(B34)-(SEARCH(Display1!$G$2,B34)+LEN(Display1!$G$2)+2))+Display1!$J$3","v":"C.US.CLE1N174650"},0,0,33,{"$f":"IF(D33=1,RTD(\"cqg.rtd\", ,\"ContractData\",C33, \"ImpliedVolatility\",, \"T\"),\"\")","v":""},{"$f":"IF(F33=\"\",\"\",RANK(F33,$F$1:$F$35,0)+COUNTIF($F$1:F33,F33)-1)","v":""},0,33,0,{"$f":"IF(D33=1,RTD(\"cqg.rtd\", ,\"OrderData\",\"\"&C33&\"\", \"\", \"OpenTradeEquity\",\"\"&$B$449&\"\"),\"\")","v":""},{"$f":"IF(K33=\"\",\"\",RANK(K33,$K$1:$K$35,0))+COUNTIF($K$1:K33,K33)-1","v":{"$error":"#VALUE!"}},0,33,"",{"$f":"IF(D33=1,RTD(\"cqg.rtd\", ,\"ContractData\",C33, \"Delta\",, \"T\"),\"\")","v":""},{"$f":"IF(D33=1,RTD(\"cqg.rtd\", ,\"OrderData\", \"\"&O33&\"\", \"\", \"OpenPosition\",\"\"&$B$449&\"\"),\"\")","v":""},{"$f":"IF(D33=0,\"\",IF(LEFT(O33,1)=\"F\",Q33*100,Q33*RTD(\"cqg.rtd\",,\"ContractData\",O33,\"Delta\",,\"T\")))","v":""},{"$f":"IF(R33=\"\",\"\",RANK(R33,$R$1:$R$35,0)+COUNTIF($R$1:R33,R33)-1)","v":""},"",33,"",{"$f":"IF(D33=1,RTD(\"cqg.rtd\", ,\"ContractData\",C33, \"Vega\",, \"T\"),\"\")","v":""},{"$f":"IF(W33=\"\",\"\",RANK(W33,$W$1:$W$35,0)+COUNTIF($W$1:W33,W33)-1)","v":""},0,33,"",{"$f":"IF(D33=1,RTD(\"cqg.rtd\", ,\"ContractData\",C33, \"Gamma\",, \"T\"),\"\")","v":""},{"$f":"IF(AB33=\"\",\"\",RANK(AB33,$AB$1:$AB$35,0)+COUNTIF($AB$1:AB33,AB33)-1)","v":""},0,33,"",{"$f":"IF(D33=1,RTD(\"cqg.rtd\", ,\"ContractData\",C33, \"Theta\",, \"T\"),\"\")","v":""},{"$f":"IF(AG33=\"\",\"\",RANK(AG33,$AG$1:$AG$35,0)+COUNTIF($AG$1:AG33,AG33)-1)","v":""},0,33,"",{"$f":"IF(D33=1,1/RTD(\"cqg.rtd\", ,\"ContractData\",C33, \"ExpirationDate\",, \"T\"),\"\")","v":""},{"$f":"IF(AL33=\"\",\"\",RANK(AL33,$AL$1:$AL$35,0)+COUNTIF($AL$1:AL33,AL33)-1)","v":""},0,33,"",{"$f":"IF(AL33=\"\",\"\",RANK(AL33,$AL$1:$AL$35,0)+COUNTIF($AL$1:AL33,AL33)-1)","v":""}]
[{"$f":"IF(OR(ISTEXT(RTD(\"cqg.rtd\",,\"OrderData\",\"\"&B34&\"\",\"\",\"OpenPosition\",\"\"&Display1!$D$3&\"\")),RTD(\"cqg.rtd\",,\"OrderData\",\"\"&B34&\"\",\"\",\"OpenPosition\",\"\"&Display1!$D$3&\"\")=0),A33+0.001,INT(A33)+1)","v":3.4000000000000023E-2},{"$f":"(LEFT(B35,SEARCH(Display1!$G$2,B35)+LEN(Display1!$G$2)+2))&RIGHT(B35,LEN(B35)-(SEARCH(Display1!$G$2,B35)+LEN(Display1!$G$2)+2))+Display1!$J$3","v":"C.US.CLE1N174600"},0,0,34,{"$f":"IF(D34=1,RTD(\"cqg.rtd\", ,\"ContractData\",C34, \"ImpliedVolatility\",, \"T\"),\"\")","v":""},{"$f":"IF(F34=\"\",\"\",RANK(F34,$F$1:$F$35,0)+COUNTIF($F$1:F34,F34)-1)","v":""},0,34,0,{"$f":"IF(D34=1,RTD(\"cqg.rtd\", ,\"OrderData\",\"\"&C34&\"\", \"\", \"OpenTradeEquity\",\"\"&$B$449&\"\"),\"\")","v":""},{"$f":"IF(K34=\"\",\"\",RANK(K34,$K$1:$K$35,0))+COUNTIF($K$1:K34,K34)-1","v":{"$error":"#VALUE!"}},0,34,"",{"$f":"IF(D34=1,RTD(\"cqg.rtd\", ,\"ContractData\",C34, \"Delta\",, \"T\"),\"\")","v":""},{"$f":"IF(D34=1,RTD(\"cqg.rtd\", ,\"OrderData\", \"\"&O34&\"\", \"\", \"OpenPosition\",\"\"&$B$449&\"\"),\"\")","v":""},{"$f":"IF(D34=0,\"\",IF(LEFT(O34,1)=\"F\",Q34*100,Q34*RTD(\"cqg.rtd\",,\"ContractData\",O34,\"Delta\",,\"T\")))","v":""},{"$f":"IF(R34=\"\",\"\",RANK(R34,$R$1:$R$35,0)+COUNTIF($R$1:R34,R34)-1)","v":""},"",34,"",{"$f":"IF(D34=1,RTD(\"cqg.rtd\", ,\"ContractData\",C34, \"Vega\",, \"T\"),\"\")","v":""},{"$f":"IF(W34=\"\",\"\",RANK(W34,$W$1:$W$35,0)+COUNTIF($W$1:W34,W34)-1)","v":""},0,34,"",{"$f":"IF(D34=1,RTD(\"cqg.rtd\", ,\"ContractData\",C34, \"Gamma\",, \"T\"),\"\")","v":""},{"$f":"IF(AB34=\"\",\"\",RANK(AB34,$AB$1:$AB$35,0)+COUNTIF($AB$1:AB34,AB34)-1)","v":""},0,34,"",{"$f":"IF(D34=1,RTD(\"cqg.rtd\", ,\"ContractData\",C34, \"Theta\",, \"T\"),\"\")","v":""},{"$f":"IF(AG34=\"\",\"\",RANK(AG34,$AG$1:$AG$35,0)+COUNTIF($AG$1:AG34,AG34)-1)","v":""},0,34,"",{"$f":"IF(D34=1,1/RTD(\"cqg.rtd\", ,\"ContractData\",C34, \"ExpirationDate\",, \"T\"),\"\")","v":""},{"$f":"IF(AL34=\"\",\"\",RANK(AL34,$AL$1:$AL$35,0)+COUNTIF($AL$1:AL34,AL34)-1)","v":""},0,34,"",{"$f":"IF(AL34=\"\",\"\",RANK(AL34,$AL$1:$AL$35,0)+COUNTIF($AL$1:AL34,AL34)-1)","v":""}]
[{"$f":"IF(OR(ISTEXT(RTD(\"cqg.rtd\",,\"OrderData\",\"\"&B35&\"\",\"\",\"OpenPosition\",\"\"&Display1!$D$3&\"\")),RTD(\"cqg.rtd\",,\"OrderData\",\"\"&B35&\"\",\"\",\"OpenPosition\",\"\"&Display1!$D$3&\"\")=0),A34+0.001,INT(A34)+1)","v":3.5000000000000024E-2},{"$f":"(LEFT(B36,SEARCH(Display1!$G$2,B36)+LEN(Display1!$G$2)+2))&RIGHT(B36,LEN(B36)-(SEARCH(Display1!$G$2,B36)+LEN(Display1!$G$2)+2))+Display1!$J$3","v":"C.US.CLE1N174550"},{"$f":"IF(D35=1,VLOOKUP(E35,$A$1:$B$448,2),0)","v":0},0,35,{"$f":"IF(D35=1,RTD(\"cqg.rtd\", ,\"ContractData\",C35, \"ImpliedVolatility\",, \"T\"),\"\")","v":""},{"$f":"IF(F35=\"\",\"\",RANK(F35,$F$1:$F$35,0)+COUNTIF($F$1:F35,F35)-1)","v":""},0,35,0,{"$f":"IF(D35=1,RTD(\"cqg.rtd\", ,\"OrderData\",\"\"&C35&\"\", \"\", \"OpenTradeEquity\",\"\"&$B$449&\"\"),\"\")","v":""},{"$f":"IF(K35=\"\",\"\",RANK(K35,$K$1:$K$35,0))+COUNTIF($K$1:K35,K35)-1","v":{"$error":"#VALUE!"}},0,35,"",{"$f":"IF(D35=1,RTD(\"cqg.rtd\", ,\"ContractData\",C35, \"Delta\",, \"T\"),\"\")","v":""},{"$f":"IF(D35=1,RTD(\"cqg.rtd\", ,\"OrderData\", \"\"&O35&\"\", \"\", \"OpenPosition\",\"\"&$B$449&\"\"),\"\")","v":""},{"$f":"IF(D35=0,\"\",IF(LEFT(O35,1)=\"F\",Q35*100,Q35*RTD(\"cqg.rtd\",,\"ContractData\",O35,\"Delta\",,\"T\")))","v":""},{"$f":"IF(R35=\"\",\"\",RANK(R35,$R$1:$R$35,0)+COUNTIF($R$1:R35,R35)-1)","v":""},"",35,"",{"$f":"IF(D35=1,RTD(\"cqg.rtd\", ,\"ContractData\",C35, \"Vega\",, \"T\"),\"\")","v":""},{"$f":"IF(W35=\"\",\"\",RANK(W35,$W$1:$W$35,0)+COUNTIF($W$1:W35,W35)-1)","v":""},0,35,"",{"$f":"IF(D35=1,RTD(\"cqg.rtd\", ,\"ContractData\",C35, \"Gamma\",, \"T\"),\"\")","v":""},{"$f":"IF(AB35=\"\",\"\",RANK(AB35,$AB$1:$AB$35,0)+COUNTIF($AB$1:AB35,AB35)-1)","v":""},0,35,"",{"$f":"IF(D35=1,RTD(\"cqg.rtd\", ,\"ContractData\",C35, \"Theta\",, \"T\"),\"\")","v":""},{"$f":"IF(AG35=\"\",\"\",RANK(AG35,$AG$1:$AG$35,0)+COUNTIF($AG$1:AG35,AG35)-1)","v":""},0,35,"",{"$f":"IF(D35=1,1/RTD(\"cqg.rtd\", ,\"ContractData\",C35, \"ExpirationDate\",, \"T\"),\"\")","v":""},{"$f":"IF(AL35=\"\",\"\",RANK(AL35,$AL$1:$AL$35,0)+COUNTIF($AL$1:AL35,AL35)-1)","v":""},0,35,"",{"$f":"IF(AL35=\"\",\"\",RANK(AL35,$AL$1:$AL$35,0)+COUNTIF($AL$1:AL35,AL35)-1)","v":""}]
[{"$f":"IF(OR(ISTEXT(RTD(\"cqg.rtd\",,\"OrderData\",\"\"&B36&\"\",\"\",\"OpenPosition\",\"\"&Display1!$D$3&\"\")),RTD(\"cqg.rtd\",,\"OrderData\",\"\"&B36&\"\",\"\",\"OpenPosition\",\"\"&Display1!$D$3&\"\")=0),A35+0.001,INT(A35)+1)","v":3.6000000000000025E-2},{"$f":"(LEFT(B37,SEARCH(Display1!$G$2,B37)+LEN(Display1!$G$2)+2))&RIGHT(B37,LEN(B37)-(SEARCH(Display1!$G$2,B37)+LEN(Display1!$G$2)+2))+Display1!$J$3","v":"C.US.CLE1N174500"}]
[{"$f":"IF(OR(ISTEXT(RTD(\"cqg.rtd\",,\"OrderData\",\"\"&B37&\"\",\"\",\"OpenPosition\",\"\"&Display1!$D$3&\"\")),RTD(\"cqg.rtd\",,\"OrderData\",\"\"&B37&\"\",\"\",\"OpenPosition\",\"\"&Display1!$D$3&\"\")=0),A36+0.001,INT(A36)+1)","v":3.7000000000000026E-2},{"$f":"(LEFT(B38,SEARCH(Display1!$G$2,B38)+LEN(Display1!$G$2)+2))&RIGHT(B38,LEN(B38)-(SEARCH(Display1!$G$2,B38)+LEN(Display1!$G$2)+2))+Display1!$J$3","v":"C.US.CLE1N174450"}]
[{"$f":"IF(OR(ISTEXT(RTD(\"cqg.rtd\",,\"OrderData\",\"\"&B38&\"\",\"\",\"OpenPosition\",\"\"&Display1!$D$3&\"\")),RTD(\"cqg.rtd\",,\"OrderData\",\"\"&B38&\"\",\"\",\"OpenPosition\",\"\"&Display1!$D$3&\"\")=0),A37+0.001,INT(A37)+1)","v":3.8000000000000027E-2},{"$f":"(LEFT(B39,SEARCH(Display1!$G$2,B39)+LEN(Display1!$G$2)+2))&RIGHT(B39,LEN(B39)-(SEARCH(Display1!$G$2,B39)+LEN(Display1!$G$2)+2))+Display1!$J$3","v":"C.US.CLE1N174400"}]
[{"$f":"IF(OR(ISTEXT(RTD(\"cqg.rtd\",,\"OrderData\",\"\"&B39&\"\",\"\",\"OpenPosition\",\"\"&Display1!$D$3&\"\")),RTD(\"cqg.rtd\",,\"OrderData\",\"\"&B39&\"\",\"\",\"OpenPosition\",\"\"&Display1!$D$3&\"\")=0),A38+0.001,INT(A38)+1)","v":3.9000000000000028E-2},{"$f":"(LEFT(B40,SEARCH(Display1!$G$2,B40)+LEN(Display1!$G$2)+2))&RIGHT(B40,LEN(B40)-(SEARCH(Display1!$G$2,B40)+LEN(Display1!$G$2)+2))+Display1!$J$3","v":"C.US.CLE1N174350"}]
[{"$f":"IF(OR(ISTEXT(RTD(\"cqg.rtd\",,\"OrderData\",\"\"&B40&\"\",\"\",\"OpenPosition\",\"\"&Display1!$D$3&\"\")),RTD(\"cqg.rtd\",,\"OrderData\",\"\"&B40&\"\",\"\",\"OpenPosition\",\"\"&Display1!$D$3&\"\")=0),A39+0.001,INT(A39)+1)","v":4.0000000000000029E-2},{"$f":"RTD(\"cqg.rtd\", ,\"ContractData\", \"C.US.\"&Display1!$G$2&Display1!$G$3&\"\", \"Symbol\",, \"T\")","v":"C.US.CLE1N174300"}]
[{"$f":"IF(OR(ISTEXT(RTD(\"cqg.rtd\",,\"OrderData\",\"\"&B41&\"\",\"\",\"OpenPosition\",\"\"&Display1!$D$3&\"\")),RTD(\"cqg.rtd\",,\"OrderData\",\"\"&B41&\"\",\"\",\"OpenPosition\",\"\"&Display1!$D$3&\"\")=0),A40+0.001,INT(A40)+1)","v":4.1000000000000029E-2},{"$f":"(LEFT(B40,SEARCH(Display1!$G$2,B40)+LEN(Display1!$G$2)+2))&RIGHT(B40,LEN(B40)-(SEARCH(Display1!$G$2,B40)+LEN(Display1!$G$2)+2))-Display1!$J$3","v":"C.US.CLE1N174250"}]
[{"$f":"IF(OR(ISTEXT(RTD(\"cqg.rtd\",,\"OrderData\",\"\"&B42&\"\",\"\",\"OpenPosition\",\"\"&Display1!$D$3&\"\")),RTD(\"cqg.rtd\",,\"OrderData\",\"\"&B42&\"\",\"\",\"OpenPosition\",\"\"&Display1!$D$3&\"\")=0),A41+0.001,INT(A41)+1)","v":4.200000000000003E-2},{"$f":"(LEFT(B41,SEARCH(Display1!$G$2,B41)+LEN(Display1!$G$2)+2))&RIGHT(B41,LEN(B41)-(SEARCH(Display1!$G$2,B41)+LEN(Display1!$G$2)+2))-Display1!$J$3","v":"C.US.CLE1N174200"}]
[{"$f":"IF(OR(ISTEXT(RTD(\"cqg.rtd\",,\"OrderData\",\"\"&B43&\"\",\"\",\"OpenPosition\",\"\"&Display1!$D$3&\"\")),RTD(\"cqg.rtd\",,\"OrderData\",\"\"&B43&\"\",\"\",\"OpenPosition\",\"\"&Display1!$D$3&\"\")=0),A42+0.001,INT(A42)+1)","v":4.3000000000000031E-2},{"$f":"(LEFT(B42,SEARCH(Display1!$G$2,B42)+LEN(Display1!$G$2)+2))&RIGHT(B42,LEN(B42)-(SEARCH(Display1!$G$2,B42)+LEN(Display1!$G$2)+2))-Display1!$J$3","v":"C.US.CLE1N174150"}]
[{"$f":"IF(OR(ISTEXT(RTD(\"cqg.rtd\",,\"OrderData\",\"\"&B44&\"\",\"\",\"OpenPosition\",\"\"&Display1!$D$3&\"\")),RTD(\"cqg.rtd\",,\"OrderData\",\"\"&B44&\"\",\"\",\"OpenPosition\",\"\"&Display1!$D$3&\"\")=0),A43+0.001,INT(A43)+1)","v":4.4000000000000032E-2},{"$f":"(LEFT(B43,SEARCH(Display1!$G$2,B43)+LEN(Display1!$G$2)+2))&RIGHT(B43,LEN(B43)-(SEARCH(Display1!$G$2,B43)+LEN(Display1!$G$2)+2))-Display1!$J$3","v":"C.US.CLE1N174100"}]
[{"$f":"IF(OR(ISTEXT(RTD(\"cqg.rtd\",,\"OrderData\",\"\"&B45&\"\",\"\",\"OpenPosition\",\"\"&Display1!$D$3&\"\")),RTD(\"cqg.rtd\",,\"OrderData\",\"\"&B45&\"\",\"\",\"OpenPosition\",\"\"&Display1!$D$3&\"\")=0),A44+0.001,INT(A44)+1)","v":4.5000000000000033E-2},{"$f":"(LEFT(B44,SEARCH(Display1!$G$2,B44)+LEN(Display1!$G$2)+2))&RIGHT(B44,LEN(B44)-(SEARCH(Display1!$G$2,B44)+LEN(Display1!$G$2)+2))-Display1!$J$3","v":"C.US.CLE1N174050"}]
[{"$f":"IF(OR(ISTEXT(RTD(\"cqg.rtd\",,\"OrderData\",\"\"&B46&\"\",\"\",\"OpenPosition\",\"\"&Display1!$D$3&\"\")),RTD(\"cqg.rtd\",,\"OrderData\",\"\"&B46&\"\",\"\",\"OpenPosition\",\"\"&Display1!$D$3&\"\")=0),A45+0.001,INT(A45)+1)","v":4.6000000000000034E-2},{"$f":"(LEFT(B45,SEARCH(Display1!$G$2,B45)+LEN(Display1!$G$2)+2))&RIGHT(B45,LEN(B45)-(SEARCH(Display1!$G$2,B45)+LEN(Display1!$G$2)+2))-Display1!$J$3","v":"C.US.CLE1N174000"}]
[{"$f":"IF(OR(ISTEXT(RTD(\"cqg.rtd\",,\"OrderData\",\"\"&B47&\"\",\"\",\"OpenPosition\",\"\"&Display1!$D$3&\"\")),RTD(\"cqg.rtd\",,\"OrderData\",\"\"&B47&\"\",\"\",\"OpenPosition\",\"\"&Display1!$D$3&\"\")=0),A46+0.001,INT(A46)+1)","v":4.7000000000000035E-2},{"$f":"(LEFT(B46,SEARCH(Display1!$G$2,B46)+LEN(Display1!$G$2)+2))&RIGHT(B46,LEN(B46)-(SEARCH(Display1!$G$2,B46)+LEN(Display1!$G$2)+2))-Display1!$J$3","v":"C.US.CLE1N173950"}]
[{"$f":"IF(OR(ISTEXT(RTD(\"cqg.rtd\",,\"OrderData\",\"\"&B48&\"\",\"\",\"OpenPosition\",\"\"&Display1!$D$3&\"\")),RTD(\"cqg.rtd\",,\"OrderData\",\"\"&B48&\"\",\"\",\"OpenPosition\",\"\"&Display1!$D$3&\"\")=0),A47+0.001,INT(A47)+1)","v":4.8000000000000036E-2},{"$f":"(LEFT(B47,SEARCH(Display1!$G$2,B47)+LEN(Display1!$G$2)+2))&RIGHT(B47,LEN(B47)-(SEARCH(Display1!$G$2,B47)+LEN(Display1!$G$2)+2))-Display1!$J$3","v":"C.US.CLE1N173900"}]
[{"$f":"IF(OR(ISTEXT(RTD(\"cqg.rtd\",,\"OrderData\",\"\"&B49&\"\",\"\",\"OpenPosition\",\"\"&Display1!$D$3&\"\")),RTD(\"cqg.rtd\",,\"OrderData\",\"\"&B49&\"\",\"\",\"OpenPosition\",\"\"&Display1!$D$3&\"\")=0),A48+0.001,INT(A48)+1)","v":4.9000000000000037E-2},{"$f":"(LEFT(B48,SEARCH(Display1!$G$2,B48)+LEN(Display1!$G$2)+2))&RIGHT(B48,LEN(B48)-(SEARCH(Display1!$G$2,B48)+LEN(Display1!$G$2)+2))-Display1!$J$3","v":"C.US.CLE1N173850"}]
[{"$f":"IF(OR(ISTEXT(RTD(\"cqg.rtd\",,\"OrderData\",\"\"&B50&\"\",\"\",\"OpenPosition\",\"\"&Display1!$D$3&\"\")),RTD(\"cqg.rtd\",,\"OrderData\",\"\"&B50&\"\",\"\",\"OpenPosition\",\"\"&Display1!$D$3&\"\")=0),A49+0.001,INT(A49)+1)","v":5.0000000000000037E-2},{"$f":"(LEFT(B49,SEARCH(Display1!$G$2,B49)+LEN(Display1!$G$2)+2))&RIGHT(B49,LEN(B49)-(SEARCH(Display1!$G$2,B49)+LEN(Display1!$G$2)+2))-Display1!$J$3","v":"C.US.CLE1N173800"}]
[{"$f":"IF(OR(ISTEXT(RTD(\"cqg.rtd\",,\"OrderData\",\"\"&B51&\"\",\"\",\"OpenPosition\",\"\"&Display1!$D$3&\"\")),RTD(\"cqg.rtd\",,\"OrderData\",\"\"&B51&\"\",\"\",\"OpenPosition\",\"\"&Display1!$D$3&\"\")=0),A50+0.001,INT(A50)+1)","v":5.1000000000000038E-2},{"$f":"(LEFT(B50,SEARCH(Display1!$G$2,B50)+LEN(Display1!$G$2)+2))&RIGHT(B50,LEN(B50)-(SEARCH(Display1!$G$2,B50)+LEN(Display1!$G$2)+2))-Display1!$J$3","v":"C.US.CLE1N173750"}]
[{"$f":"IF(OR(ISTEXT(RTD(\"cqg.rtd\",,\"OrderData\",\"\"&B52&\"\",\"\",\"OpenPosition\",\"\"&Display1!$D$3&\"\")),RTD(\"cqg.rtd\",,\"OrderData\",\"\"&B52&\"\",\"\",\"OpenPosition\",\"\"&Display1!$D$3&\"\")=0),A51+0.001,INT(A51)+1)","v":5.2000000000000039E-2},{"$f":"(LEFT(B51,SEARCH(Display1!$G$2,B51)+LEN(Display1!$G$2)+2))&RIGHT(B51,LEN(B51)-(SEARCH(Display1!$G$2,B51)+LEN(Display1!$G$2)+2))-Display1!$J$3","v":"C.US.CLE1N173700"}]
[{"$f":"IF(OR(ISTEXT(RTD(\"cqg.rtd\",,\"OrderData\",\"\"&B53&\"\",\"\",\"OpenPosition\",\"\"&Display1!$D$3&\"\")),RTD(\"cqg.rtd\",,\"OrderData\",\"\"&B53&\"\",\"\",\"OpenPosition\",\"\"&Display1!$D$3&\"\")=0),A52+0.001,INT(A52)+1)","v":5.300000000000004E-2},{"$f":"(LEFT(B52,SEARCH(Display1!$G$2,B52)+LEN(Display1!$G$2)+2))&RIGHT(B52,LEN(B52)-(SEARCH(Display1!$G$2,B52)+LEN(Display1!$G$2)+2))-Display1!$J$3","v":"C.US.CLE1N173650"}]
[{"$f":"IF(OR(ISTEXT(RTD(\"cqg.rtd\",,\"OrderData\",\"\"&B54&\"\",\"\",\"OpenPosition\",\"\"&Display1!$D$3&\"\")),RTD(\"cqg.rtd\",,\"OrderData\",\"\"&B54&\"\",\"\",\"OpenPosition\",\"\"&Display1!$D$3&\"\")=0),A53+0.001,INT(A53)+1)","v":5.4000000000000041E-2},{"$f":"(LEFT(B53,SEARCH(Display1!$G$2,B53)+LEN(Display1!$G$2)+2))&RIGHT(B53,LEN(B53)-(SEARCH(Display1!$G$2,B53)+LEN(Display1!$G$2)+2))-Display1!$J$3","v":"C.US.CLE1N173600"}]
[{"$f":"IF(OR(ISTEXT(RTD(\"cqg.rtd\",,\"OrderData\",\"\"&B55&\"\",\"\",\"OpenPosition\",\"\"&Display1!$D$3&\"\")),RTD(\"cqg.rtd\",,\"OrderData\",\"\"&B55&\"\",\"\",\"OpenPosition\",\"\"&Display1!$D$3&\"\")=0),A54+0.001,INT(A54)+1)","v":5.5000000000000042E-2},{"$f":"(LEFT(B54,SEARCH(Display1!$G$2,B54)+LEN(Display1!$G$2)+2))&RIGHT(B54,LEN(B54)-(SEARCH(Display1!$G$2,B54)+LEN(Display1!$G$2)+2))-Display1!$J$3","v":"C.US.CLE1N173550"}]
[{"$f":"IF(OR(ISTEXT(RTD(\"cqg.rtd\",,\"OrderData\",\"\"&B56&\"\",\"\",\"OpenPosition\",\"\"&Display1!$D$3&\"\")),RTD(\"cqg.rtd\",,\"OrderData\",\"\"&B56&\"\",\"\",\"OpenPosition\",\"\"&Display1!$D$3&\"\")=0),A55+0.001,INT(A55)+1)","v":5.6000000000000043E-2},{"$f":"(LEFT(B55,SEARCH(Display1!$G$2,B55)+LEN(Display1!$G$2)+2))&RIGHT(B55,LEN(B55)-(SEARCH(Display1!$G$2,B55)+LEN(Display1!$G$2)+2))-Display1!$J$3","v":"C.US.CLE1N173500"}]
[{"$f":"IF(OR(ISTEXT(RTD(\"cqg.rtd\",,\"OrderData\",\"\"&B57&\"\",\"\",\"OpenPosition\",\"\"&Display1!$D$3&\"\")),RTD(\"cqg.rtd\",,\"OrderData\",\"\"&B57&\"\",\"\",\"OpenPosition\",\"\"&Display1!$D$3&\"\")=0),A56+0.001,INT(A56)+1)","v":5.7000000000000044E-2},{"$f":"(LEFT(B56,SEARCH(Display1!$G$2,B56)+LEN(Display1!$G$2)+2))&RIGHT(B56,LEN(B56)-(SEARCH(Display1!$G$2,B56)+LEN(Display1!$G$2)+2))-Display1!$J$3","v":"C.US.CLE1N173450"}]
[{"$f":"IF(OR(ISTEXT(RTD(\"cqg.rtd\",,\"OrderData\",\"\"&B58&\"\",\"\",\"OpenPosition\",\"\"&Display1!$D$3&\"\")),RTD(\"cqg.rtd\",,\"OrderData\",\"\"&B58&\"\",\"\",\"OpenPosition\",\"\"&Display1!$D$3&\"\")=0),A57+0.001,INT(A57)+1)","v":5.8000000000000045E-2},{"$f":"(LEFT(B57,SEARCH(Display1!$G$2,B57)+LEN(Display1!$G$2)+2))&RIGHT(B57,LEN(B57)-(SEARCH(Display1!$G$2,B57)+LEN(Display1!$G$2)+2))-Display1!$J$3","v":"C.US.CLE1N173400"}]
[{"$f":"IF(OR(ISTEXT(RTD(\"cqg.rtd\",,\"OrderData\",\"\"&B59&\"\",\"\",\"OpenPosition\",\"\"&Display1!$D$3&\"\")),RTD(\"cqg.rtd\",,\"OrderData\",\"\"&B59&\"\",\"\",\"OpenPosition\",\"\"&Display1!$D$3&\"\")=0),A58+0.001,INT(A58)+1)","v":5.9000000000000045E-2},{"$f":"(LEFT(B58,SEARCH(Display1!$G$2,B58)+LEN(Display1!$G$2)+2))&RIGHT(B58,LEN(B58)-(SEARCH(Display1!$G$2,B58)+LEN(Display1!$G$2)+2))-Display1!$J$3","v":"C.US.CLE1N173350"}]
[{"$f":"IF(OR(ISTEXT(RTD(\"cqg.rtd\",,\"OrderData\",\"\"&B60&\"\",\"\",\"OpenPosition\",\"\"&Display1!$D$3&\"\")),RTD(\"cqg.rtd\",,\"OrderData\",\"\"&B60&\"\",\"\",\"OpenPosition\",\"\"&Display1!$D$3&\"\")=0),A59+0.001,INT(A59)+1)","v":6.0000000000000046E-2},{"$f":"(LEFT(B59,SEARCH(Display1!$G$2,B59)+LEN(Display1!$G$2)+2))&RIGHT(B59,LEN(B59)-(SEARCH(Display1!$G$2,B59)+LEN(Display1!$G$2)+2))-Display1!$J$3","v":"C.US.CLE1N173300"}]
[{"$f":"IF(OR(ISTEXT(RTD(\"cqg.rtd\",,\"OrderData\",\"\"&B61&\"\",\"\",\"OpenPosition\",\"\"&Display1!$D$3&\"\")),RTD(\"cqg.rtd\",,\"OrderData\",\"\"&B61&\"\",\"\",\"OpenPosition\",\"\"&Display1!$D$3&\"\")=0),A60+0.001,INT(A60)+1)","v":6.1000000000000047E-2},{"$f":"(LEFT(B60,SEARCH(Display1!$G$2,B60)+LEN(Display1!$G$2)+2))&RIGHT(B60,LEN(B60)-(SEARCH(Display1!$G$2,B60)+LEN(Display1!$G$2)+2))-Display1!$J$3","v":"C.US.CLE1N173250"}]
[{"$f":"IF(OR(ISTEXT(RTD(\"cqg.rtd\",,\"OrderData\",\"\"&B62&\"\",\"\",\"OpenPosition\",\"\"&Display1!$D$3&\"\")),RTD(\"cqg.rtd\",,\"OrderData\",\"\"&B62&\"\",\"\",\"OpenPosition\",\"\"&Display1!$D$3&\"\")=0),A61+0.001,INT(A61)+1)","v":6.2000000000000048E-2},{"$f":"(LEFT(B61,SEARCH(Display1!$G$2,B61)+LEN(Display1!$G$2)+2))&RIGHT(B61,LEN(B61)-(SEARCH(Display1!$G$2,B61)+LEN(Display1!$G$2)+2))-Display1!$J$3","v":"C.US.CLE1N173200"}]
[{"$f":"IF(OR(ISTEXT(RTD(\"cqg.rtd\",,\"OrderData\",\"\"&B63&\"\",\"\",\"OpenPosition\",\"\"&Display1!$D$3&\"\")),RTD(\"cqg.rtd\",,\"OrderData\",\"\"&B63&\"\",\"\",\"OpenPosition\",\"\"&Display1!$D$3&\"\")=0),A62+0.001,INT(A62)+1)","v":6.3000000000000042E-2},{"$f":"(LEFT(B62,SEARCH(Display1!$G$2,B62)+LEN(Display1!$G$2)+2))&RIGHT(B62,LEN(B62)-(SEARCH(Display1!$G$2,B62)+LEN(Display1!$G$2)+2))-Display1!$J$3","v":"C.US.CLE1N173150"}]
[{"$f":"IF(OR(ISTEXT(RTD(\"cqg.rtd\",,\"OrderData\",\"\"&B64&\"\",\"\",\"OpenPosition\",\"\"&Display1!$D$3&\"\")),RTD(\"cqg.rtd\",,\"OrderData\",\"\"&B64&\"\",\"\",\"OpenPosition\",\"\"&Display1!$D$3&\"\")=0),A63+0.001,INT(A63)+1)","v":6.4000000000000043E-2},{"$f":"(LEFT(B63,SEARCH(Display1!$G$2,B63)+LEN(Display1!$G$2)+2))&RIGHT(B63,LEN(B63)-(SEARCH(Display1!$G$2,B63)+LEN(Display1!$G$2)+2))-Display1!$J$3","v":"C.US.CLE1N173100"}]
[{"$f":"IF(OR(ISTEXT(RTD(\"cqg.rtd\",,\"OrderData\",\"\"&B65&\"\",\"\",\"OpenPosition\",\"\"&Display1!$D$3&\"\")),RTD(\"cqg.rtd\",,\"OrderData\",\"\"&B65&\"\",\"\",\"OpenPosition\",\"\"&Display1!$D$3&\"\")=0),A64+0.001,INT(A64)+1)","v":6.5000000000000044E-2},{"$f":"(LEFT(B64,SEARCH(Display1!$G$2,B64)+LEN(Display1!$G$2)+2))&RIGHT(B64,LEN(B64)-(SEARCH(Display1!$G$2,B64)+LEN(Display1!$G$2)+2))-Display1!$J$3","v":"C.US.CLE1N173050"}]
[{"$f":"IF(OR(ISTEXT(RTD(\"cqg.rtd\",,\"OrderData\",\"\"&B66&\"\",\"\",\"OpenPosition\",\"\"&Display1!$D$3&\"\")),RTD(\"cqg.rtd\",,\"OrderData\",\"\"&B66&\"\",\"\",\"OpenPosition\",\"\"&Display1!$D$3&\"\")=0),A65+0.001,INT(A65)+1)","v":6.6000000000000045E-2},{"$f":"(LEFT(B65,SEARCH(Display1!$G$2,B65)+LEN(Display1!$G$2)+2))&RIGHT(B65,LEN(B65)-(SEARCH(Display1!$G$2,B65)+LEN(Display1!$G$2)+2))-Display1!$J$3","v":"C.US.CLE1N173000"}]
[{"$f":"IF(OR(ISTEXT(RTD(\"cqg.rtd\",,\"OrderData\",\"\"&B67&\"\",\"\",\"OpenPosition\",\"\"&Display1!$D$3&\"\")),RTD(\"cqg.rtd\",,\"OrderData\",\"\"&B67&\"\",\"\",\"OpenPosition\",\"\"&Display1!$D$3&\"\")=0),A66+0.001,INT(A66)+1)","v":6.7000000000000046E-2},{"$f":"(LEFT(B66,SEARCH(Display1!$G$2,B66)+LEN(Display1!$G$2)+2))&RIGHT(B66,LEN(B66)-(SEARCH(Display1!$G$2,B66)+LEN(Display1!$G$2)+2))-Display1!$J$3","v":"C.US.CLE1N172950"}]
[{"$f":"IF(OR(ISTEXT(RTD(\"cqg.rtd\",,\"OrderData\",\"\"&B68&\"\",\"\",\"OpenPosition\",\"\"&Display1!$D$3&\"\")),RTD(\"cqg.rtd\",,\"OrderData\",\"\"&B68&\"\",\"\",\"OpenPosition\",\"\"&Display1!$D$3&\"\")=0),A67+0.001,INT(A67)+1)","v":6.8000000000000047E-2},{"$f":"(LEFT(B67,SEARCH(Display1!$G$2,B67)+LEN(Display1!$G$2)+2))&RIGHT(B67,LEN(B67)-(SEARCH(Display1!$G$2,B67)+LEN(Display1!$G$2)+2))-Display1!$J$3","v":"C.US.CLE1N172900"}]
[{"$f":"IF(OR(ISTEXT(RTD(\"cqg.rtd\",,\"OrderData\",\"\"&B69&\"\",\"\",\"OpenPosition\",\"\"&Display1!$D$3&\"\")),RTD(\"cqg.rtd\",,\"OrderData\",\"\"&B69&\"\",\"\",\"OpenPosition\",\"\"&Display1!$D$3&\"\")=0),A68+0.001,INT(A68)+1)","v":6.9000000000000047E-2},{"$f":"(LEFT(B68,SEARCH(Display1!$G$2,B68)+LEN(Display1!$G$2)+2))&RIGHT(B68,LEN(B68)-(SEARCH(Display1!$G$2,B68)+LEN(Display1!$G$2)+2))-Display1!$J$3","v":"C.US.CLE1N172850"}]
[{"$f":"IF(OR(ISTEXT(RTD(\"cqg.rtd\",,\"OrderData\",\"\"&B70&\"\",\"\",\"OpenPosition\",\"\"&Display1!$D$3&\"\")),RTD(\"cqg.rtd\",,\"OrderData\",\"\"&B70&\"\",\"\",\"OpenPosition\",\"\"&Display1!$D$3&\"\")=0),A69+0.001,INT(A69)+1)","v":7.0000000000000048E-2},{"$f":"(LEFT(B69,SEARCH(Display1!$G$2,B69)+LEN(Display1!$G$2)+2))&RIGHT(B69,LEN(B69)-(SEARCH(Display1!$G$2,B69)+LEN(Display1!$G$2)+2))-Display1!$J$3","v":"C.US.CLE1N172800"}]
[{"$f":"IF(OR(ISTEXT(RTD(\"cqg.rtd\",,\"OrderData\",\"\"&B71&\"\",\"\",\"OpenPosition\",\"\"&Display1!$D$3&\"\")),RTD(\"cqg.rtd\",,\"OrderData\",\"\"&B71&\"\",\"\",\"OpenPosition\",\"\"&Display1!$D$3&\"\")=0),A70+0.001,INT(A70)+1)","v":7.1000000000000049E-2},{"$f":"(LEFT(B70,SEARCH(Display1!$G$2,B70)+LEN(Display1!$G$2)+2))&RIGHT(B70,LEN(B70)-(SEARCH(Display1!$G$2,B70)+LEN(Display1!$G$2)+2))-Display1!$J$3","v":"C.US.CLE1N172750"}]
[{"$f":"IF(OR(ISTEXT(RTD(\"cqg.rtd\",,\"OrderData\",\"\"&B72&\"\",\"\",\"OpenPosition\",\"\"&Display1!$D$3&\"\")),RTD(\"cqg.rtd\",,\"OrderData\",\"\"&B72&\"\",\"\",\"OpenPosition\",\"\"&Display1!$D$3&\"\")=0),A71+0.001,INT(A71)+1)","v":7.200000000000005E-2},{"$f":"(LEFT(B71,SEARCH(Display1!$G$2,B71)+LEN(Display1!$G$2)+2))&RIGHT(B71,LEN(B71)-(SEARCH(Display1!$G$2,B71)+LEN(Display1!$G$2)+2))-Display1!$J$3","v":"C.US.CLE1N172700"}]
[{"$f":"IF(OR(ISTEXT(RTD(\"cqg.rtd\",,\"OrderData\",\"\"&B73&\"\",\"\",\"OpenPosition\",\"\"&Display1!$D$3&\"\")),RTD(\"cqg.rtd\",,\"OrderData\",\"\"&B73&\"\",\"\",\"OpenPosition\",\"\"&Display1!$D$3&\"\")=0),A72+0.001,INT(A72)+1)","v":7.3000000000000051E-2},{"$f":"(LEFT(B72,SEARCH(Display1!$G$2,B72)+LEN(Display1!$G$2)+2))&RIGHT(B72,LEN(B72)-(SEARCH(Display1!$G$2,B72)+LEN(Display1!$G$2)+2))-Display1!$J$3","v":"C.US.CLE1N172650"}]
[{"$f":"IF(OR(ISTEXT(RTD(\"cqg.rtd\",,\"OrderData\",\"\"&B74&\"\",\"\",\"OpenPosition\",\"\"&Display1!$D$3&\"\")),RTD(\"cqg.rtd\",,\"OrderData\",\"\"&B74&\"\",\"\",\"OpenPosition\",\"\"&Display1!$D$3&\"\")=0),A73+0.001,INT(A73)+1)","v":7.4000000000000052E-2},{"$f":"(LEFT(B73,SEARCH(Display1!$G$2,B73)+LEN(Display1!$G$2)+2))&RIGHT(B73,LEN(B73)-(SEARCH(Display1!$G$2,B73)+LEN(Display1!$G$2)+2))-Display1!$J$3","v":"C.US.CLE1N172600"}]
[{"$f":"IF(OR(ISTEXT(RTD(\"cqg.rtd\",,\"OrderData\",\"\"&B75&\"\",\"\",\"OpenPosition\",\"\"&Display1!$D$3&\"\")),RTD(\"cqg.rtd\",,\"OrderData\",\"\"&B75&\"\",\"\",\"OpenPosition\",\"\"&Display1!$D$3&\"\")=0),A74+0.001,INT(A74)+1)","v":7.5000000000000053E-2},{"$f":"(LEFT(B74,SEARCH(Display1!$G$2,B74)+LEN(Display1!$G$2)+2))&RIGHT(B74,LEN(B74)-(SEARCH(Display1!$G$2,B74)+LEN(Display1!$G$2)+2))-Display1!$J$3","v":"C.US.CLE1N172550"}]
[{"$f":"IF(OR(ISTEXT(RTD(\"cqg.rtd\",,\"OrderData\",\"\"&B76&\"\",\"\",\"OpenPosition\",\"\"&Display1!$D$3&\"\")),RTD(\"cqg.rtd\",,\"OrderData\",\"\"&B76&\"\",\"\",\"OpenPosition\",\"\"&Display1!$D$3&\"\")=0),A75+0.001,INT(A75)+1)","v":7.6000000000000054E-2},{"$f":"(LEFT(B75,SEARCH(Display1!$G$2,B75)+LEN(Display1!$G$2)+2))&RIGHT(B75,LEN(B75)-(SEARCH(Display1!$G$2,B75)+LEN(Display1!$G$2)+2))-Display1!$J$3","v":"C.US.CLE1N172500"}]
[{"$f":"IF(OR(ISTEXT(RTD(\"cqg.rtd\",,\"OrderData\",\"\"&B77&\"\",\"\",\"OpenPosition\",\"\"&Display1!$D$3&\"\")),RTD(\"cqg.rtd\",,\"OrderData\",\"\"&B77&\"\",\"\",\"OpenPosition\",\"\"&Display1!$D$3&\"\")=0),A76+0.001,INT(A76)+1)","v":7.7000000000000055E-2},{"$f":"(LEFT(B76,SEARCH(Display1!$G$2,B76)+LEN(Display1!$G$2)+2))&RIGHT(B76,LEN(B76)-(SEARCH(Display1!$G$2,B76)+LEN(Display1!$G$2)+2))-Display1!$J$3","v":"C.US.CLE1N172450"}]
[{"$f":"IF(OR(ISTEXT(RTD(\"cqg.rtd\",,\"OrderData\",\"\"&B78&\"\",\"\",\"OpenPosition\",\"\"&Display1!$D$3&\"\")),RTD(\"cqg.rtd\",,\"OrderData\",\"\"&B78&\"\",\"\",\"OpenPosition\",\"\"&Display1!$D$3&\"\")=0),A77+0.001,INT(A77)+1)","v":7.8000000000000055E-2},{"$f":"(LEFT(B77,SEARCH(Display1!$G$2,B77)+LEN(Display1!$G$2)+2))&RIGHT(B77,LEN(B77)-(SEARCH(Display1!$G$2,B77)+LEN(Display1!$G$2)+2))-Display1!$J$3","v":"C.US.CLE1N172400"}]
[{"$f":"IF(OR(ISTEXT(RTD(\"cqg.rtd\",,\"OrderData\",\"\"&B79&\"\",\"\",\"OpenPosition\",\"\"&Display1!$D$3&\"\")),RTD(\"cqg.rtd\",,\"OrderData\",\"\"&B79&\"\",\"\",\"OpenPosition\",\"\"&Display1!$D$3&\"\")=0),A78+0.001,INT(A78)+1)","v":7.9000000000000056E-2},{"$f":"(LEFT(B78,SEARCH(Display1!$G$2,B78)+LEN(Display1!$G$2)+2))&RIGHT(B78,LEN(B78)-(SEARCH(Display1!$G$2,B78)+LEN(Display1!$G$2)+2))-Display1!$J$3","v":"C.US.CLE1N172350"}]
[{"$f":"IF(OR(ISTEXT(RTD(\"cqg.rtd\",,\"OrderData\",\"\"&B80&\"\",\"\",\"OpenPosition\",\"\"&Display1!$D$3&\"\")),RTD(\"cqg.rtd\",,\"OrderData\",\"\"&B80&\"\",\"\",\"OpenPosition\",\"\"&Display1!$D$3&\"\")=0),A79+0.001,INT(A79)+1)","v":8.0000000000000057E-2},{"$f":"(LEFT(B79,SEARCH(Display1!$G$2,B79)+LEN(Display1!$G$2)+2))&RIGHT(B79,LEN(B79)-(SEARCH(Display1!$G$2,B79)+LEN(Display1!$G$2)+2))-Display1!$J$3","v":"C.US.CLE1N172300"}]
[{"$f":"IF(OR(ISTEXT(RTD(\"cqg.rtd\",,\"OrderData\",\"\"&B81&\"\",\"\",\"OpenPosition\",\"\"&Display1!$D$3&\"\")),RTD(\"cqg.rtd\",,\"OrderData\",\"\"&B81&\"\",\"\",\"OpenPosition\",\"\"&Display1!$D$3&\"\")=0),A80+0.001,INT(A80)+1)","v":8.1000000000000058E-2},{"$f":"(LEFT(B82,SEARCH(Display1!$G$2,B82)+LEN(Display1!$G$2)+2))&RIGHT(B82,LEN(B82)-(SEARCH(Display1!$G$2,B82)+LEN(Display1!$G$2)+2))+Display1!$J$3","v":"P.US.CLE1N176300"}]
[{"$f":"IF(OR(ISTEXT(RTD(\"cqg.rtd\",,\"OrderData\",\"\"&B82&\"\",\"\",\"OpenPosition\",\"\"&Display1!$D$3&\"\")),RTD(\"cqg.rtd\",,\"OrderData\",\"\"&B82&\"\",\"\",\"OpenPosition\",\"\"&Display1!$D$3&\"\")=0),A81+0.001,INT(A81)+1)","v":8.2000000000000059E-2},{"$f":"(LEFT(B83,SEARCH(Display1!$G$2,B83)+LEN(Display1!$G$2)+2))&RIGHT(B83,LEN(B83)-(SEARCH(Display1!$G$2,B83)+LEN(Display1!$G$2)+2))+Display1!$J$3","v":"P.US.CLE1N176250"}]
[{"$f":"IF(OR(ISTEXT(RTD(\"cqg.rtd\",,\"OrderData\",\"\"&B83&\"\",\"\",\"OpenPosition\",\"\"&Display1!$D$3&\"\")),RTD(\"cqg.rtd\",,\"OrderData\",\"\"&B83&\"\",\"\",\"OpenPosition\",\"\"&Display1!$D$3&\"\")=0),A82+0.001,INT(A82)+1)","v":8.300000000000006E-2},{"$f":"(LEFT(B84,SEARCH(Display1!$G$2,B84)+LEN(Display1!$G$2)+2))&RIGHT(B84,LEN(B84)-(SEARCH(Display1!$G$2,B84)+LEN(Display1!$G$2)+2))+Display1!$J$3","v":"P.US.CLE1N176200"}]
[{"$f":"IF(OR(ISTEXT(RTD(\"cqg.rtd\",,\"OrderData\",\"\"&B84&\"\",\"\",\"OpenPosition\",\"\"&Display1!$D$3&\"\")),RTD(\"cqg.rtd\",,\"OrderData\",\"\"&B84&\"\",\"\",\"OpenPosition\",\"\"&Display1!$D$3&\"\")=0),A83+0.001,INT(A83)+1)","v":8.4000000000000061E-2},{"$f":"(LEFT(B85,SEARCH(Display1!$G$2,B85)+LEN(Display1!$G$2)+2))&RIGHT(B85,LEN(B85)-(SEARCH(Display1!$G$2,B85)+LEN(Display1!$G$2)+2))+Display1!$J$3","v":"P.US.CLE1N176150"}]
[{"$f":"IF(OR(ISTEXT(RTD(\"cqg.rtd\",,\"OrderData\",\"\"&B85&\"\",\"\",\"OpenPosition\",\"\"&Display1!$D$3&\"\")),RTD(\"cqg.rtd\",,\"OrderData\",\"\"&B85&\"\",\"\",\"OpenPosition\",\"\"&Display1!$D$3&\"\")=0),A84+0.001,INT(A84)+1)","v":8.5000000000000062E-2},{"$f":"(LEFT(B86,SEARCH(Display1!$G$2,B86)+LEN(Display1!$G$2)+2))&RIGHT(B86,LEN(B86)-(SEARCH(Display1!$G$2,B86)+LEN(Display1!$G$2)+2))+Display1!$J$3","v":"P.US.CLE1N176100"}]
[{"$f":"IF(OR(ISTEXT(RTD(\"cqg.rtd\",,\"OrderData\",\"\"&B86&\"\",\"\",\"OpenPosition\",\"\"&Display1!$D$3&\"\")),RTD(\"cqg.rtd\",,\"OrderData\",\"\"&B86&\"\",\"\",\"OpenPosition\",\"\"&Display1!$D$3&\"\")=0),A85+0.001,INT(A85)+1)","v":8.6000000000000063E-2},{"$f":"(LEFT(B87,SEARCH(Display1!$G$2,B87)+LEN(Display1!$G$2)+2))&RIGHT(B87,LEN(B87)-(SEARCH(Display1!$G$2,B87)+LEN(Display1!$G$2)+2))+Display1!$J$3","v":"P.US.CLE1N176050"}]
[{"$f":"IF(OR(ISTEXT(RTD(\"cqg.rtd\",,\"OrderData\",\"\"&B87&\"\",\"\",\"OpenPosition\",\"\"&Display1!$D$3&\"\")),RTD(\"cqg.rtd\",,\"OrderData\",\"\"&B87&\"\",\"\",\"OpenPosition\",\"\"&Display1!$D$3&\"\")=0),A86+0.001,INT(A86)+1)","v":8.7000000000000063E-2},{"$f":"(LEFT(B88,SEARCH(Display1!$G$2,B88)+LEN(Display1!$G$2)+2))&RIGHT(B88,LEN(B88)-(SEARCH(Display1!$G$2,B88)+LEN(Display1!$G$2)+2))+Display1!$J$3","v":"P.US.CLE1N176000"}]
[{"$f":"IF(OR(ISTEXT(RTD(\"cqg.rtd\",,\"OrderData\",\"\"&B88&\"\",\"\",\"OpenPosition\",\"\"&Display1!$D$3&\"\")),RTD(\"cqg.rtd\",,\"OrderData\",\"\"&B88&\"\",\"\",\"OpenPosition\",\"\"&Display1!$D$3&\"\")=0),A87+0.001,INT(A87)+1)","v":8.8000000000000064E-2},{"$f":"(LEFT(B89,SEARCH(Display1!$G$2,B89)+LEN(Display1!$G$2)+2))&RIGHT(B89,LEN(B89)-(SEARCH(Display1!$G$2,B89)+LEN(Display1!$G$2)+2))+Display1!$J$3","v":"P.US.CLE1N175950"}]
[{"$f":"IF(OR(ISTEXT(RTD(\"cqg.rtd\",,\"OrderData\",\"\"&B89&\"\",\"\",\"OpenPosition\",\"\"&Display1!$D$3&\"\")),RTD(\"cqg.rtd\",,\"OrderData\",\"\"&B89&\"\",\"\",\"OpenPosition\",\"\"&Display1!$D$3&\"\")=0),A88+0.001,INT(A88)+1)","v":8.9000000000000065E-2},{"$f":"(LEFT(B90,SEARCH(Display1!$G$2,B90)+LEN(Display1!$G$2)+2))&RIGHT(B90,LEN(B90)-(SEARCH(Display1!$G$2,B90)+LEN(Display1!$G$2)+2))+Display1!$J$3","v":"P.US.CLE1N175900"}]
[{"$f":"IF(OR(ISTEXT(RTD(\"cqg.rtd\",,\"OrderData\",\"\"&B90&\"\",\"\",\"OpenPosition\",\"\"&Display1!$D$3&\"\")),RTD(\"cqg.rtd\",,\"OrderData\",\"\"&B90&\"\",\"\",\"OpenPosition\",\"\"&Display1!$D$3&\"\")=0),A89+0.001,INT(A89)+1)","v":9.0000000000000066E-2},{"$f":"(LEFT(B91,SEARCH(Display1!$G$2,B91)+LEN(Display1!$G$2)+2))&RIGHT(B91,LEN(B91)-(SEARCH(Display1!$G$2,B91)+LEN(Display1!$G$2)+2))+Display1!$J$3","v":"P.US.CLE1N175850"}]
[{"$f":"IF(OR(ISTEXT(RTD(\"cqg.rtd\",,\"OrderData\",\"\"&B91&\"\",\"\",\"OpenPosition\",\"\"&Display1!$D$3&\"\")),RTD(\"cqg.rtd\",,\"OrderData\",\"\"&B91&\"\",\"\",\"OpenPosition\",\"\"&Display1!$D$3&\"\")=0),A90+0.001,INT(A90)+1)","v":9.1000000000000067E-2},{"$f":"(LEFT(B92,SEARCH(Display1!$G$2,B92)+LEN(Display1!$G$2)+2))&RIGHT(B92,LEN(B92)-(SEARCH(Display1!$G$2,B92)+LEN(Display1!$G$2)+2))+Display1!$J$3","v":"P.US.CLE1N175800"}]
[{"$f":"IF(OR(ISTEXT(RTD(\"cqg.rtd\",,\"OrderData\",\"\"&B92&\"\",\"\",\"OpenPosition\",\"\"&Display1!$D$3&\"\")),RTD(\"cqg.rtd\",,\"OrderData\",\"\"&B92&\"\",\"\",\"OpenPosition\",\"\"&Display1!$D$3&\"\")=0),A91+0.001,INT(A91)+1)","v":9.2000000000000068E-2},{"$f":"(LEFT(B93,SEARCH(Display1!$G$2,B93)+LEN(Display1!$G$2)+2))&RIGHT(B93,LEN(B93)-(SEARCH(Display1!$G$2,B93)+LEN(Display1!$G$2)+2))+Display1!$J$3","v":"P.US.CLE1N175750"}]
[{"$f":"IF(OR(ISTEXT(RTD(\"cqg.rtd\",,\"OrderData\",\"\"&B93&\"\",\"\",\"OpenPosition\",\"\"&Display1!$D$3&\"\")),RTD(\"cqg.rtd\",,\"OrderData\",\"\"&B93&\"\",\"\",\"OpenPosition\",\"\"&Display1!$D$3&\"\")=0),A92+0.001,INT(A92)+1)","v":9.3000000000000069E-2},{"$f":"(LEFT(B94,SEARCH(Display1!$G$2,B94)+LEN(Display1!$G$2)+2))&RIGHT(B94,LEN(B94)-(SEARCH(Display1!$G$2,B94)+LEN(Display1!$G$2)+2))+Display1!$J$3","v":"P.US.CLE1N175700"}]
[{"$f":"IF(OR(ISTEXT(RTD(\"cqg.rtd\",,\"OrderData\",\"\"&B94&\"\",\"\",\"OpenPosition\",\"\"&Display1!$D$3&\"\")),RTD(\"cqg.rtd\",,\"OrderData\",\"\"&B94&\"\",\"\",\"OpenPosition\",\"\"&Display1!$D$3&\"\")=0),A93+0.001,INT(A93)+1)","v":9.400000000000007E-2},{"$f":"(LEFT(B95,SEARCH(Display1!$G$2,B95)+LEN(Display1!$G$2)+2))&RIGHT(B95,LEN(B95)-(SEARCH(Display1!$G$2,B95)+LEN(Display1!$G$2)+2))+Display1!$J$3","v":"P.US.CLE1N175650"}]
[{"$f":"IF(OR(ISTEXT(RTD(\"cqg.rtd\",,\"OrderData\",\"\"&B95&\"\",\"\",\"OpenPosition\",\"\"&Display1!$D$3&\"\")),RTD(\"cqg.rtd\",,\"OrderData\",\"\"&B95&\"\",\"\",\"OpenPosition\",\"\"&Display1!$D$3&\"\")=0),A94+0.001,INT(A94)+1)","v":9.500000000000007E-2},{"$f":"(LEFT(B96,SEARCH(Display1!$G$2,B96)+LEN(Display1!$G$2)+2))&RIGHT(B96,LEN(B96)-(SEARCH(Display1!$G$2,B96)+LEN(Display1!$G$2)+2))+Display1!$J$3","v":"P.US.CLE1N175600"}]
[{"$f":"IF(OR(ISTEXT(RTD(\"cqg.rtd\",,\"OrderData\",\"\"&B96&\"\",\"\",\"OpenPosition\",\"\"&Display1!$D$3&\"\")),RTD(\"cqg.rtd\",,\"OrderData\",\"\"&B96&\"\",\"\",\"OpenPosition\",\"\"&Display1!$D$3&\"\")=0),A95+0.001,INT(A95)+1)","v":9.6000000000000071E-2},{"$f":"(LEFT(B97,SEARCH(Display1!$G$2,B97)+LEN(Display1!$G$2)+2))&RIGHT(B97,LEN(B97)-(SEARCH(Display1!$G$2,B97)+LEN(Display1!$G$2)+2))+Display1!$J$3","v":"P.US.CLE1N175550"}]
[{"$f":"IF(OR(ISTEXT(RTD(\"cqg.rtd\",,\"OrderData\",\"\"&B97&\"\",\"\",\"OpenPosition\",\"\"&Display1!$D$3&\"\")),RTD(\"cqg.rtd\",,\"OrderData\",\"\"&B97&\"\",\"\",\"OpenPosition\",\"\"&Display1!$D$3&\"\")=0),A96+0.001,INT(A96)+1)","v":9.7000000000000072E-2},{"$f":"(LEFT(B98,SEARCH(Display1!$G$2,B98)+LEN(Display1!$G$2)+2))&RIGHT(B98,LEN(B98)-(SEARCH(Display1!$G$2,B98)+LEN(Display1!$G$2)+2))+Display1!$J$3","v":"P.US.CLE1N175500"}]
[{"$f":"IF(OR(ISTEXT(RTD(\"cqg.rtd\",,\"OrderData\",\"\"&B98&\"\",\"\",\"OpenPosition\",\"\"&Display1!$D$3&\"\")),RTD(\"cqg.rtd\",,\"OrderData\",\"\"&B98&\"\",\"\",\"OpenPosition\",\"\"&Display1!$D$3&\"\")=0),A97+0.001,INT(A97)+1)","v":9.8000000000000073E-2},{"$f":"(LEFT(B99,SEARCH(Display1!$G$2,B99)+LEN(Display1!$G$2)+2))&RIGHT(B99,LEN(B99)-(SEARCH(Display1!$G$2,B99)+LEN(Display1!$G$2)+2))+Display1!$J$3","v":"P.US.CLE1N175450"}]
[{"$f":"IF(OR(ISTEXT(RTD(\"cqg.rtd\",,\"OrderData\",\"\"&B99&\"\",\"\",\"OpenPosition\",\"\"&Display1!$D$3&\"\")),RTD(\"cqg.rtd\",,\"OrderData\",\"\"&B99&\"\",\"\",\"OpenPosition\",\"\"&Display1!$D$3&\"\")=0),A98+0.001,INT(A98)+1)","v":9.9000000000000074E-2},{"$f":"(LEFT(B100,SEARCH(Display1!$G$2,B100)+LEN(Display1!$G$2)+2))&RIGHT(B100,LEN(B100)-(SEARCH(Display1!$G$2,B100)+LEN(Display1!$G$2)+2))+Display1!$J$3","v":"P.US.CLE1N175400"}]
[{"$f":"IF(OR(ISTEXT(RTD(\"cqg.rtd\",,\"OrderData\",\"\"&B100&\"\",\"\",\"OpenPosition\",\"\"&Display1!$D$3&\"\")),RTD(\"cqg.rtd\",,\"OrderData\",\"\"&B100&\"\",\"\",\"OpenPosition\",\"\"&Display1!$D$3&\"\")=0),A99+0.001,INT(A99)+1)","v":0.10000000000000007},{"$f":"(LEFT(B101,SEARCH(Display1!$G$2,B101)+LEN(Display1!$G$2)+2))&RIGHT(B101,LEN(B101)-(SEARCH(Display1!$G$2,B101)+LEN(Display1!$G$2)+2))+Display1!$J$3","v":"P.US.CLE1N175350"}]
[{"$f":"IF(OR(ISTEXT(RTD(\"cqg.rtd\",,\"OrderData\",\"\"&B101&\"\",\"\",\"OpenPosition\",\"\"&Display1!$D$3&\"\")),RTD(\"cqg.rtd\",,\"OrderData\",\"\"&B101&\"\",\"\",\"OpenPosition\",\"\"&Display1!$D$3&\"\")=0),A100+0.001,INT(A100)+1)","v":0.10100000000000008},{"$f":"(LEFT(B102,SEARCH(Display1!$G$2,B102)+LEN(Display1!$G$2)+2))&RIGHT(B102,LEN(B102)-(SEARCH(Display1!$G$2,B102)+LEN(Display1!$G$2)+2))+Display1!$J$3","v":"P.US.CLE1N175300"}]
[{"$f":"IF(OR(ISTEXT(RTD(\"cqg.rtd\",,\"OrderData\",\"\"&B102&\"\",\"\",\"OpenPosition\",\"\"&Display1!$D$3&\"\")),RTD(\"cqg.rtd\",,\"OrderData\",\"\"&B102&\"\",\"\",\"OpenPosition\",\"\"&Display1!$D$3&\"\")=0),A101+0.001,INT(A101)+1)","v":0.10200000000000008},{"$f":"(LEFT(B103,SEARCH(Display1!$G$2,B103)+LEN(Display1!$G$2)+2))&RIGHT(B103,LEN(B103)-(SEARCH(Display1!$G$2,B103)+LEN(Display1!$G$2)+2))+Display1!$J$3","v":"P.US.CLE1N175250"}]
[{"$f":"IF(OR(ISTEXT(RTD(\"cqg.rtd\",,\"OrderData\",\"\"&B103&\"\",\"\",\"OpenPosition\",\"\"&Display1!$D$3&\"\")),RTD(\"cqg.rtd\",,\"OrderData\",\"\"&B103&\"\",\"\",\"OpenPosition\",\"\"&Display1!$D$3&\"\")=0),A102+0.001,INT(A102)+1)","v":0.10300000000000008},{"$f":"(LEFT(B104,SEARCH(Display1!$G$2,B104)+LEN(Display1!$G$2)+2))&RIGHT(B104,LEN(B104)-(SEARCH(Display1!$G$2,B104)+LEN(Display1!$G$2)+2))+Display1!$J$3","v":"P.US.CLE1N175200"}]
[{"$f":"IF(OR(ISTEXT(RTD(\"cqg.rtd\",,\"OrderData\",\"\"&B104&\"\",\"\",\"OpenPosition\",\"\"&Display1!$D$3&\"\")),RTD(\"cqg.rtd\",,\"OrderData\",\"\"&B104&\"\",\"\",\"OpenPosition\",\"\"&Display1!$D$3&\"\")=0),A103+0.001,INT(A103)+1)","v":0.10400000000000008},{"$f":"(LEFT(B105,SEARCH(Display1!$G$2,B105)+LEN(Display1!$G$2)+2))&RIGHT(B105,LEN(B105)-(SEARCH(Display1!$G$2,B105)+LEN(Display1!$G$2)+2))+Display1!$J$3","v":"P.US.CLE1N175150"}]
[{"$f":"IF(OR(ISTEXT(RTD(\"cqg.rtd\",,\"OrderData\",\"\"&B105&\"\",\"\",\"OpenPosition\",\"\"&Display1!$D$3&\"\")),RTD(\"cqg.rtd\",,\"OrderData\",\"\"&B105&\"\",\"\",\"OpenPosition\",\"\"&Display1!$D$3&\"\")=0),A104+0.001,INT(A104)+1)","v":0.10500000000000008},{"$f":"(LEFT(B106,SEARCH(Display1!$G$2,B106)+LEN(Display1!$G$2)+2))&RIGHT(B106,LEN(B106)-(SEARCH(Display1!$G$2,B106)+LEN(Display1!$G$2)+2))+Display1!$J$3","v":"P.US.CLE1N175100"}]
[{"$f":"IF(OR(ISTEXT(RTD(\"cqg.rtd\",,\"OrderData\",\"\"&B106&\"\",\"\",\"OpenPosition\",\"\"&Display1!$D$3&\"\")),RTD(\"cqg.rtd\",,\"OrderData\",\"\"&B106&\"\",\"\",\"OpenPosition\",\"\"&Display1!$D$3&\"\")=0),A105+0.001,INT(A105)+1)","v":0.10600000000000008},{"$f":"(LEFT(B107,SEARCH(Display1!$G$2,B107)+LEN(Display1!$G$2)+2))&RIGHT(B107,LEN(B107)-(SEARCH(Display1!$G$2,B107)+LEN(Display1!$G$2)+2))+Display1!$J$3","v":"P.US.CLE1N175050"}]
[{"$f":"IF(OR(ISTEXT(RTD(\"cqg.rtd\",,\"OrderData\",\"\"&B107&\"\",\"\",\"OpenPosition\",\"\"&Display1!$D$3&\"\")),RTD(\"cqg.rtd\",,\"OrderData\",\"\"&B107&\"\",\"\",\"OpenPosition\",\"\"&Display1!$D$3&\"\")=0),A106+0.001,INT(A106)+1)","v":0.10700000000000008},{"$f":"(LEFT(B108,SEARCH(Display1!$G$2,B108)+LEN(Display1!$G$2)+2))&RIGHT(B108,LEN(B108)-(SEARCH(Display1!$G$2,B108)+LEN(Display1!$G$2)+2))+Display1!$J$3","v":"P.US.CLE1N175000"}]
[{"$f":"IF(OR(ISTEXT(RTD(\"cqg.rtd\",,\"OrderData\",\"\"&B108&\"\",\"\",\"OpenPosition\",\"\"&Display1!$D$3&\"\")),RTD(\"cqg.rtd\",,\"OrderData\",\"\"&B108&\"\",\"\",\"OpenPosition\",\"\"&Display1!$D$3&\"\")=0),A107+0.001,INT(A107)+1)","v":0.10800000000000008},{"$f":"(LEFT(B109,SEARCH(Display1!$G$2,B109)+LEN(Display1!$G$2)+2))&RIGHT(B109,LEN(B109)-(SEARCH(Display1!$G$2,B109)+LEN(Display1!$G$2)+2))+Display1!$J$3","v":"P.US.CLE1N174950"}]
[{"$f":"IF(OR(ISTEXT(RTD(\"cqg.rtd\",,\"OrderData\",\"\"&B109&\"\",\"\",\"OpenPosition\",\"\"&Display1!$D$3&\"\")),RTD(\"cqg.rtd\",,\"OrderData\",\"\"&B109&\"\",\"\",\"OpenPosition\",\"\"&Display1!$D$3&\"\")=0),A108+0.001,INT(A108)+1)","v":0.10900000000000008},{"$f":"(LEFT(B110,SEARCH(Display1!$G$2,B110)+LEN(Display1!$G$2)+2))&RIGHT(B110,LEN(B110)-(SEARCH(Display1!$G$2,B110)+LEN(Display1!$G$2)+2))+Display1!$J$3","v":"P.US.CLE1N174900"}]
[{"$f":"IF(OR(ISTEXT(RTD(\"cqg.rtd\",,\"OrderData\",\"\"&B110&\"\",\"\",\"OpenPosition\",\"\"&Display1!$D$3&\"\")),RTD(\"cqg.rtd\",,\"OrderData\",\"\"&B110&\"\",\"\",\"OpenPosition\",\"\"&Display1!$D$3&\"\")=0),A109+0.001,INT(A109)+1)","v":0.11000000000000008},{"$f":"(LEFT(B111,SEARCH(Display1!$G$2,B111)+LEN(Display1!$G$2)+2))&RIGHT(B111,LEN(B111)-(SEARCH(Display1!$G$2,B111)+LEN(Display1!$G$2)+2))+Display1!$J$3","v":"P.US.CLE1N174850"}]
[{"$f":"IF(OR(ISTEXT(RTD(\"cqg.rtd\",,\"OrderData\",\"\"&B111&\"\",\"\",\"OpenPosition\",\"\"&Display1!$D$3&\"\")),RTD(\"cqg.rtd\",,\"OrderData\",\"\"&B111&\"\",\"\",\"OpenPosition\",\"\"&Display1!$D$3&\"\")=0),A110+0.001,INT(A110)+1)","v":0.11100000000000008},{"$f":"(LEFT(B112,SEARCH(Display1!$G$2,B112)+LEN(Display1!$G$2)+2))&RIGHT(B112,LEN(B112)-(SEARCH(Display1!$G$2,B112)+LEN(Display1!$G$2)+2))+Display1!$J$3","v":"P.US.CLE1N174800"}]
[{"$f":"IF(OR(ISTEXT(RTD(\"cqg.rtd\",,\"OrderData\",\"\"&B112&\"\",\"\",\"OpenPosition\",\"\"&Display1!$D$3&\"\")),RTD(\"cqg.rtd\",,\"OrderData\",\"\"&B112&\"\",\"\",\"OpenPosition\",\"\"&Display1!$D$3&\"\")=0),A111+0.001,INT(A111)+1)","v":0.11200000000000009},{"$f":"(LEFT(B113,SEARCH(Display1!$G$2,B113)+LEN(Display1!$G$2)+2))&RIGHT(B113,LEN(B113)-(SEARCH(Display1!$G$2,B113)+LEN(Display1!$G$2)+2))+Display1!$J$3","v":"P.US.CLE1N174750"}]
[{"$f":"IF(OR(ISTEXT(RTD(\"cqg.rtd\",,\"OrderData\",\"\"&B113&\"\",\"\",\"OpenPosition\",\"\"&Display1!$D$3&\"\")),RTD(\"cqg.rtd\",,\"OrderData\",\"\"&B113&\"\",\"\",\"OpenPosition\",\"\"&Display1!$D$3&\"\")=0),A112+0.001,INT(A112)+1)","v":0.11300000000000009},{"$f":"(LEFT(B114,SEARCH(Display1!$G$2,B114)+LEN(Display1!$G$2)+2))&RIGHT(B114,LEN(B114)-(SEARCH(Display1!$G$2,B114)+LEN(Display1!$G$2)+2))+Display1!$J$3","v":"P.US.CLE1N174700"}]
[{"$f":"IF(OR(ISTEXT(RTD(\"cqg.rtd\",,\"OrderData\",\"\"&B114&\"\",\"\",\"OpenPosition\",\"\"&Display1!$D$3&\"\")),RTD(\"cqg.rtd\",,\"OrderData\",\"\"&B114&\"\",\"\",\"OpenPosition\",\"\"&Display1!$D$3&\"\")=0),A113+0.001,INT(A113)+1)","v":0.11400000000000009},{"$f":"(LEFT(B115,SEARCH(Display1!$G$2,B115)+LEN(Display1!$G$2)+2))&RIGHT(B115,LEN(B115)-(SEARCH(Display1!$G$2,B115)+LEN(Display1!$G$2)+2))+Display1!$J$3","v":"P.US.CLE1N174650"}]
[{"$f":"IF(OR(ISTEXT(RTD(\"cqg.rtd\",,\"OrderData\",\"\"&B115&\"\",\"\",\"OpenPosition\",\"\"&Display1!$D$3&\"\")),RTD(\"cqg.rtd\",,\"OrderData\",\"\"&B115&\"\",\"\",\"OpenPosition\",\"\"&Display1!$D$3&\"\")=0),A114+0.001,INT(A114)+1)","v":0.11500000000000009},{"$f":"(LEFT(B116,SEARCH(Display1!$G$2,B116)+LEN(Display1!$G$2)+2))&RIGHT(B116,LEN(B116)-(SEARCH(Display1!$G$2,B116)+LEN(Display1!$G$2)+2))+Display1!$J$3","v":"P.US.CLE1N174600"}]
[{"$f":"IF(OR(ISTEXT(RTD(\"cqg.rtd\",,\"OrderData\",\"\"&B116&\"\",\"\",\"OpenPosition\",\"\"&Display1!$D$3&\"\")),RTD(\"cqg.rtd\",,\"OrderData\",\"\"&B116&\"\",\"\",\"OpenPosition\",\"\"&Display1!$D$3&\"\")=0),A115+0.001,INT(A115)+1)","v":0.11600000000000009},{"$f":"(LEFT(B117,SEARCH(Display1!$G$2,B117)+LEN(Display1!$G$2)+2))&RIGHT(B117,LEN(B117)-(SEARCH(Display1!$G$2,B117)+LEN(Display1!$G$2)+2))+Display1!$J$3","v":"P.US.CLE1N174550"}]
[{"$f":"IF(OR(ISTEXT(RTD(\"cqg.rtd\",,\"OrderData\",\"\"&B117&\"\",\"\",\"OpenPosition\",\"\"&Display1!$D$3&\"\")),RTD(\"cqg.rtd\",,\"OrderData\",\"\"&B117&\"\",\"\",\"OpenPosition\",\"\"&Display1!$D$3&\"\")=0),A116+0.001,INT(A116)+1)","v":0.11700000000000009},{"$f":"(LEFT(B118,SEARCH(Display1!$G$2,B118)+LEN(Display1!$G$2)+2))&RIGHT(B118,LEN(B118)-(SEARCH(Display1!$G$2,B118)+LEN(Display1!$G$2)+2))+Display1!$J$3","v":"P.US.CLE1N174500"}]
[{"$f":"IF(OR(ISTEXT(RTD(\"cqg.rtd\",,\"OrderData\",\"\"&B118&\"\",\"\",\"OpenPosition\",\"\"&Display1!$D$3&\"\")),RTD(\"cqg.rtd\",,\"OrderData\",\"\"&B118&\"\",\"\",\"OpenPosition\",\"\"&Display1!$D$3&\"\")=0),A117+0.001,INT(A117)+1)","v":0.11800000000000009},{"$f":"(LEFT(B119,SEARCH(Display1!$G$2,B119)+LEN(Display1!$G$2)+2))&RIGHT(B119,LEN(B119)-(SEARCH(Display1!$G$2,B119)+LEN(Display1!$G$2)+2))+Display1!$J$3","v":"P.US.CLE1N174450"}]
[{"$f":"IF(OR(ISTEXT(RTD(\"cqg.rtd\",,\"OrderData\",\"\"&B119&\"\",\"\",\"OpenPosition\",\"\"&Display1!$D$3&\"\")),RTD(\"cqg.rtd\",,\"OrderData\",\"\"&B119&\"\",\"\",\"OpenPosition\",\"\"&Display1!$D$3&\"\")=0),A118+0.001,INT(A118)+1)","v":0.11900000000000009},{"$f":"(LEFT(B120,SEARCH(Display1!$G$2,B120)+LEN(Display1!$G$2)+2))&RIGHT(B120,LEN(B120)-(SEARCH(Display1!$G$2,B120)+LEN(Display1!$G$2)+2))+Display1!$J$3","v":"P.US.CLE1N174400"}]
[{"$f":"IF(OR(ISTEXT(RTD(\"cqg.rtd\",,\"OrderData\",\"\"&B120&\"\",\"\",\"OpenPosition\",\"\"&Display1!$D$3&\"\")),RTD(\"cqg.rtd\",,\"OrderData\",\"\"&B120&\"\",\"\",\"OpenPosition\",\"\"&Display1!$D$3&\"\")=0),A119+0.001,INT(A119)+1)","v":0.12000000000000009},{"$f":"(LEFT(B121,SEARCH(Display1!$G$2,B121)+LEN(Display1!$G$2)+2))&RIGHT(B121,LEN(B121)-(SEARCH(Display1!$G$2,B121)+LEN(Display1!$G$2)+2))+Display1!$J$3","v":"P.US.CLE1N174350"}]
[{"$f":"IF(OR(ISTEXT(RTD(\"cqg.rtd\",,\"OrderData\",\"\"&B121&\"\",\"\",\"OpenPosition\",\"\"&Display1!$D$3&\"\")),RTD(\"cqg.rtd\",,\"OrderData\",\"\"&B121&\"\",\"\",\"OpenPosition\",\"\"&Display1!$D$3&\"\")=0),A120+0.001,INT(A120)+1)","v":0.12100000000000009},{"$f":"RTD(\"cqg.rtd\", ,\"ContractData\", \"P.US.\"&Display1!$G$2&Display1!$G$3&\"\", \"Symbol\",, \"T\")","v":"P.US.CLE1N174300"}]
[{"$f":"IF(OR(ISTEXT(RTD(\"cqg.rtd\",,\"OrderData\",\"\"&B122&\"\",\"\",\"OpenPosition\",\"\"&Display1!$D$3&\"\")),RTD(\"cqg.rtd\",,\"OrderData\",\"\"&B122&\"\",\"\",\"OpenPosition\",\"\"&Display1!$D$3&\"\")=0),A121+0.001,INT(A121)+1)","v":0.12200000000000009},{"$f":"(LEFT(B121,SEARCH(Display1!$G$2,B121)+LEN(Display1!$G$2)+2))&RIGHT(B121,LEN(B121)-(SEARCH(Display1!$G$2,B121)+LEN(Display1!$G$2)+2))-Display1!$J$3","v":"P.US.CLE1N174250"}]
[{"$f":"IF(OR(ISTEXT(RTD(\"cqg.rtd\",,\"OrderData\",\"\"&B123&\"\",\"\",\"OpenPosition\",\"\"&Display1!$D$3&\"\")),RTD(\"cqg.rtd\",,\"OrderData\",\"\"&B123&\"\",\"\",\"OpenPosition\",\"\"&Display1!$D$3&\"\")=0),A122+0.001,INT(A122)+1)","v":0.1230000000000001},{"$f":"(LEFT(B122,SEARCH(Display1!$G$2,B122)+LEN(Display1!$G$2)+2))&RIGHT(B122,LEN(B122)-(SEARCH(Display1!$G$2,B122)+LEN(Display1!$G$2)+2))-Display1!$J$3","v":"P.US.CLE1N174200"}]
[{"$f":"IF(OR(ISTEXT(RTD(\"cqg.rtd\",,\"OrderData\",\"\"&B124&\"\",\"\",\"OpenPosition\",\"\"&Display1!$D$3&\"\")),RTD(\"cqg.rtd\",,\"OrderData\",\"\"&B124&\"\",\"\",\"OpenPosition\",\"\"&Display1!$D$3&\"\")=0),A123+0.001,INT(A123)+1)","v":0.1240000000000001},{"$f":"(LEFT(B123,SEARCH(Display1!$G$2,B123)+LEN(Display1!$G$2)+2))&RIGHT(B123,LEN(B123)-(SEARCH(Display1!$G$2,B123)+LEN(Display1!$G$2)+2))-Display1!$J$3","v":"P.US.CLE1N174150"}]
[{"$f":"IF(OR(ISTEXT(RTD(\"cqg.rtd\",,\"OrderData\",\"\"&B125&\"\",\"\",\"OpenPosition\",\"\"&Display1!$D$3&\"\")),RTD(\"cqg.rtd\",,\"OrderData\",\"\"&B125&\"\",\"\",\"OpenPosition\",\"\"&Display1!$D$3&\"\")=0),A124+0.001,INT(A124)+1)","v":0.12500000000000008},{"$f":"(LEFT(B124,SEARCH(Display1!$G$2,B124)+LEN(Display1!$G$2)+2))&RIGHT(B124,LEN(B124)-(SEARCH(Display1!$G$2,B124)+LEN(Display1!$G$2)+2))-Display1!$J$3","v":"P.US.CLE1N174100"}]
[{"$f":"IF(OR(ISTEXT(RTD(\"cqg.rtd\",,\"OrderData\",\"\"&B126&\"\",\"\",\"OpenPosition\",\"\"&Display1!$D$3&\"\")),RTD(\"cqg.rtd\",,\"OrderData\",\"\"&B126&\"\",\"\",\"OpenPosition\",\"\"&Display1!$D$3&\"\")=0),A125+0.001,INT(A125)+1)","v":0.12600000000000008},{"$f":"(LEFT(B125,SEARCH(Display1!$G$2,B125)+LEN(Display1!$G$2)+2))&RIGHT(B125,LEN(B125)-(SEARCH(Display1!$G$2,B125)+LEN(Display1!$G$2)+2))-Display1!$J$3","v":"P.US.CLE1N174050"}]
[{"$f":"IF(OR(ISTEXT(RTD(\"cqg.rtd\",,\"OrderData\",\"\"&B127&\"\",\"\",\"OpenPosition\",\"\"&Display1!$D$3&\"\")),RTD(\"cqg.rtd\",,\"OrderData\",\"\"&B127&\"\",\"\",\"OpenPosition\",\"\"&Display1!$D$3&\"\")=0),A126+0.001,INT(A126)+1)","v":0.12700000000000009},{"$f":"(LEFT(B126,SEARCH(Display1!$G$2,B126)+LEN(Display1!$G$2)+2))&RIGHT(B126,LEN(B126)-(SEARCH(Display1!$G$2,B126)+LEN(Display1!$G$2)+2))-Display1!$J$3","v":"P.US.CLE1N174000"}]
[{"$f":"IF(OR(ISTEXT(RTD(\"cqg.rtd\",,\"OrderData\",\"\"&B128&\"\",\"\",\"OpenPosition\",\"\"&Display1!$D$3&\"\")),RTD(\"cqg.rtd\",,\"OrderData\",\"\"&B128&\"\",\"\",\"OpenPosition\",\"\"&Display1!$D$3&\"\")=0),A127+0.001,INT(A127)+1)","v":0.12800000000000009},{"$f":"(LEFT(B127,SEARCH(Display1!$G$2,B127)+LEN(Display1!$G$2)+2))&RIGHT(B127,LEN(B127)-(SEARCH(Display1!$G$2,B127)+LEN(Display1!$G$2)+2))-Display1!$J$3","v":"P.US.CLE1N173950"}]
[{"$f":"IF(OR(ISTEXT(RTD(\"cqg.rtd\",,\"OrderData\",\"\"&B129&\"\",\"\",\"OpenPosition\",\"\"&Display1!$D$3&\"\")),RTD(\"cqg.rtd\",,\"OrderData\",\"\"&B129&\"\",\"\",\"OpenPosition\",\"\"&Display1!$D$3&\"\")=0),A128+0.001,INT(A128)+1)","v":0.12900000000000009},{"$f":"(LEFT(B128,SEARCH(Display1!$G$2,B128)+LEN(Display1!$G$2)+2))&RIGHT(B128,LEN(B128)-(SEARCH(Display1!$G$2,B128)+LEN(Display1!$G$2)+2))-Display1!$J$3","v":"P.US.CLE1N173900"}]
[{"$f":"IF(OR(ISTEXT(RTD(\"cqg.rtd\",,\"OrderData\",\"\"&B130&\"\",\"\",\"OpenPosition\",\"\"&Display1!$D$3&\"\")),RTD(\"cqg.rtd\",,\"OrderData\",\"\"&B130&\"\",\"\",\"OpenPosition\",\"\"&Display1!$D$3&\"\")=0),A129+0.001,INT(A129)+1)","v":0.13000000000000009},{"$f":"(LEFT(B129,SEARCH(Display1!$G$2,B129)+LEN(Display1!$G$2)+2))&RIGHT(B129,LEN(B129)-(SEARCH(Display1!$G$2,B129)+LEN(Display1!$G$2)+2))-Display1!$J$3","v":"P.US.CLE1N173850"}]
[{"$f":"IF(OR(ISTEXT(RTD(\"cqg.rtd\",,\"OrderData\",\"\"&B131&\"\",\"\",\"OpenPosition\",\"\"&Display1!$D$3&\"\")),RTD(\"cqg.rtd\",,\"OrderData\",\"\"&B131&\"\",\"\",\"OpenPosition\",\"\"&Display1!$D$3&\"\")=0),A130+0.001,INT(A130)+1)","v":0.13100000000000009},{"$f":"(LEFT(B130,SEARCH(Display1!$G$2,B130)+LEN(Display1!$G$2)+2))&RIGHT(B130,LEN(B130)-(SEARCH(Display1!$G$2,B130)+LEN(Display1!$G$2)+2))-Display1!$J$3","v":"P.US.CLE1N173800"}]
[{"$f":"IF(OR(ISTEXT(RTD(\"cqg.rtd\",,\"OrderData\",\"\"&B132&\"\",\"\",\"OpenPosition\",\"\"&Display1!$D$3&\"\")),RTD(\"cqg.rtd\",,\"OrderData\",\"\"&B132&\"\",\"\",\"OpenPosition\",\"\"&Display1!$D$3&\"\")=0),A131+0.001,INT(A131)+1)","v":0.13200000000000009},{"$f":"(LEFT(B131,SEARCH(Display1!$G$2,B131)+LEN(Display1!$G$2)+2))&RIGHT(B131,LEN(B131)-(SEARCH(Display1!$G$2,B131)+LEN(Display1!$G$2)+2))-Display1!$J$3","v":"P.US.CLE1N173750"}]
[{"$f":"IF(OR(ISTEXT(RTD(\"cqg.rtd\",,\"OrderData\",\"\"&B133&\"\",\"\",\"OpenPosition\",\"\"&Display1!$D$3&\"\")),RTD(\"cqg.rtd\",,\"OrderData\",\"\"&B133&\"\",\"\",\"OpenPosition\",\"\"&Display1!$D$3&\"\")=0),A132+0.001,INT(A132)+1)","v":0.13300000000000009},{"$f":"(LEFT(B132,SEARCH(Display1!$G$2,B132)+LEN(Display1!$G$2)+2))&RIGHT(B132,LEN(B132)-(SEARCH(Display1!$G$2,B132)+LEN(Display1!$G$2)+2))-Display1!$J$3","v":"P.US.CLE1N173700"}]
[{"$f":"IF(OR(ISTEXT(RTD(\"cqg.rtd\",,\"OrderData\",\"\"&B134&\"\",\"\",\"OpenPosition\",\"\"&Display1!$D$3&\"\")),RTD(\"cqg.rtd\",,\"OrderData\",\"\"&B134&\"\",\"\",\"OpenPosition\",\"\"&Display1!$D$3&\"\")=0),A133+0.001,INT(A133)+1)","v":0.13400000000000009},{"$f":"(LEFT(B133,SEARCH(Display1!$G$2,B133)+LEN(Display1!$G$2)+2))&RIGHT(B133,LEN(B133)-(SEARCH(Display1!$G$2,B133)+LEN(Display1!$G$2)+2))-Display1!$J$3","v":"P.US.CLE1N173650"}]
[{"$f":"IF(OR(ISTEXT(RTD(\"cqg.rtd\",,\"OrderData\",\"\"&B135&\"\",\"\",\"OpenPosition\",\"\"&Display1!$D$3&\"\")),RTD(\"cqg.rtd\",,\"OrderData\",\"\"&B135&\"\",\"\",\"OpenPosition\",\"\"&Display1!$D$3&\"\")=0),A134+0.001,INT(A134)+1)","v":0.13500000000000009},{"$f":"(LEFT(B134,SEARCH(Display1!$G$2,B134)+LEN(Display1!$G$2)+2))&RIGHT(B134,LEN(B134)-(SEARCH(Display1!$G$2,B134)+LEN(Display1!$G$2)+2))-Display1!$J$3","v":"P.US.CLE1N173600"}]
[{"$f":"IF(OR(ISTEXT(RTD(\"cqg.rtd\",,\"OrderData\",\"\"&B136&\"\",\"\",\"OpenPosition\",\"\"&Display1!$D$3&\"\")),RTD(\"cqg.rtd\",,\"OrderData\",\"\"&B136&\"\",\"\",\"OpenPosition\",\"\"&Display1!$D$3&\"\")=0),A135+0.001,INT(A135)+1)","v":0.13600000000000009},{"$f":"(LEFT(B135,SEARCH(Display1!$G$2,B135)+LEN(Display1!$G$2)+2))&RIGHT(B135,LEN(B135)-(SEARCH(Display1!$G$2,B135)+LEN(Display1!$G$2)+2))-Display1!$J$3","v":"P.US.CLE1N173550"}]
[{"$f":"IF(OR(ISTEXT(RTD(\"cqg.rtd\",,\"OrderData\",\"\"&B137&\"\",\"\",\"OpenPosition\",\"\"&Display1!$D$3&\"\")),RTD(\"cqg.rtd\",,\"OrderData\",\"\"&B137&\"\",\"\",\"OpenPosition\",\"\"&Display1!$D$3&\"\")=0),A136+0.001,INT(A136)+1)","v":0.13700000000000009},{"$f":"(LEFT(B136,SEARCH(Display1!$G$2,B136)+LEN(Display1!$G$2)+2))&RIGHT(B136,LEN(B136)-(SEARCH(Display1!$G$2,B136)+LEN(Display1!$G$2)+2))-Display1!$J$3","v":"P.US.CLE1N173500"}]
[{"$f":"IF(OR(ISTEXT(RTD(\"cqg.rtd\",,\"OrderData\",\"\"&B138&\"\",\"\",\"OpenPosition\",\"\"&Display1!$D$3&\"\")),RTD(\"cqg.rtd\",,\"OrderData\",\"\"&B138&\"\",\"\",\"OpenPosition\",\"\"&Display1!$D$3&\"\")=0),A137+0.001,INT(A137)+1)","v":0.13800000000000009},{"$f":"(LEFT(B137,SEARCH(Display1!$G$2,B137)+LEN(Display1!$G$2)+2))&RIGHT(B137,LEN(B137)-(SEARCH(Display1!$G$2,B137)+LEN(Display1!$G$2)+2))-Display1!$J$3","v":"P.US.CLE1N173450"}]
[{"$f":"IF(OR(ISTEXT(RTD(\"cqg.rtd\",,\"OrderData\",\"\"&B139&\"\",\"\",\"OpenPosition\",\"\"&Display1!$D$3&\"\")),RTD(\"cqg.rtd\",,\"OrderData\",\"\"&B139&\"\",\"\",\"OpenPosition\",\"\"&Display1!$D$3&\"\")=0),A138+0.001,INT(A138)+1)","v":0.1390000000000001},{"$f":"(LEFT(B138,SEARCH(Display1!$G$2,B138)+LEN(Display1!$G$2)+2))&RIGHT(B138,LEN(B138)-(SEARCH(Display1!$G$2,B138)+LEN(Display1!$G$2)+2))-Display1!$J$3","v":"P.US.CLE1N173400"}]
[{"$f":"IF(OR(ISTEXT(RTD(\"cqg.rtd\",,\"OrderData\",\"\"&B140&\"\",\"\",\"OpenPosition\",\"\"&Display1!$D$3&\"\")),RTD(\"cqg.rtd\",,\"OrderData\",\"\"&B140&\"\",\"\",\"OpenPosition\",\"\"&Display1!$D$3&\"\")=0),A139+0.001,INT(A139)+1)","v":0.1400000000000001},{"$f":"(LEFT(B139,SEARCH(Display1!$G$2,B139)+LEN(Display1!$G$2)+2))&RIGHT(B139,LEN(B139)-(SEARCH(Display1!$G$2,B139)+LEN(Display1!$G$2)+2))-Display1!$J$3","v":"P.US.CLE1N173350"}]
[{"$f":"IF(OR(ISTEXT(RTD(\"cqg.rtd\",,\"OrderData\",\"\"&B141&\"\",\"\",\"OpenPosition\",\"\"&Display1!$D$3&\"\")),RTD(\"cqg.rtd\",,\"OrderData\",\"\"&B141&\"\",\"\",\"OpenPosition\",\"\"&Display1!$D$3&\"\")=0),A140+0.001,INT(A140)+1)","v":0.1410000000000001},{"$f":"(LEFT(B140,SEARCH(Display1!$G$2,B140)+LEN(Display1!$G$2)+2))&RIGHT(B140,LEN(B140)-(SEARCH(Display1!$G$2,B140)+LEN(Display1!$G$2)+2))-Display1!$J$3","v":"P.US.CLE1N173300"}]
[{"$f":"IF(OR(ISTEXT(RTD(\"cqg.rtd\",,\"OrderData\",\"\"&B142&\"\",\"\",\"OpenPosition\",\"\"&Display1!$D$3&\"\")),RTD(\"cqg.rtd\",,\"OrderData\",\"\"&B142&\"\",\"\",\"OpenPosition\",\"\"&Display1!$D$3&\"\")=0),A141+0.001,INT(A141)+1)","v":0.1420000000000001},{"$f":"(LEFT(B141,SEARCH(Display1!$G$2,B141)+LEN(Display1!$G$2)+2))&RIGHT(B141,LEN(B141)-(SEARCH(Display1!$G$2,B141)+LEN(Display1!$G$2)+2))-Display1!$J$3","v":"P.US.CLE1N173250"}]
[{"$f":"IF(OR(ISTEXT(RTD(\"cqg.rtd\",,\"OrderData\",\"\"&B143&\"\",\"\",\"OpenPosition\",\"\"&Display1!$D$3&\"\")),RTD(\"cqg.rtd\",,\"OrderData\",\"\"&B143&\"\",\"\",\"OpenPosition\",\"\"&Display1!$D$3&\"\")=0),A142+0.001,INT(A142)+1)","v":0.1430000000000001},{"$f":"(LEFT(B142,SEARCH(Display1!$G$2,B142)+LEN(Display1!$G$2)+2))&RIGHT(B142,LEN(B142)-(SEARCH(Display1!$G$2,B142)+LEN(Display1!$G$2)+2))-Display1!$J$3","v":"P.US.CLE1N173200"}]
[{"$f":"IF(OR(ISTEXT(RTD(\"cqg.rtd\",,\"OrderData\",\"\"&B144&\"\",\"\",\"OpenPosition\",\"\"&Display1!$D$3&\"\")),RTD(\"cqg.rtd\",,\"OrderData\",\"\"&B144&\"\",\"\",\"OpenPosition\",\"\"&Display1!$D$3&\"\")=0),A143+0.001,INT(A143)+1)","v":0.1440000000000001},{"$f":"(LEFT(B143,SEARCH(Display1!$G$2,B143)+LEN(Display1!$G$2)+2))&RIGHT(B143,LEN(B143)-(SEARCH(Display1!$G$2,B143)+LEN(Display1!$G$2)+2))-Display1!$J$3","v":"P.US.CLE1N173150"}]
[{"$f":"IF(OR(ISTEXT(RTD(\"cqg.rtd\",,\"OrderData\",\"\"&B145&\"\",\"\",\"OpenPosition\",\"\"&Display1!$D$3&\"\")),RTD(\"cqg.rtd\",,\"OrderData\",\"\"&B145&\"\",\"\",\"OpenPosition\",\"\"&Display1!$D$3&\"\")=0),A144+0.001,INT(A144)+1)","v":0.1450000000000001},{"$f":"(LEFT(B144,SEARCH(Display1!$G$2,B144)+LEN(Display1!$G$2)+2))&RIGHT(B144,LEN(B144)-(SEARCH(Display1!$G$2,B144)+LEN(Display1!$G$2)+2))-Display1!$J$3","v":"P.US.CLE1N173100"}]
[{"$f":"IF(OR(ISTEXT(RTD(\"cqg.rtd\",,\"OrderData\",\"\"&B146&\"\",\"\",\"OpenPosition\",\"\"&Display1!$D$3&\"\")),RTD(\"cqg.rtd\",,\"OrderData\",\"\"&B146&\"\",\"\",\"OpenPosition\",\"\"&Display1!$D$3&\"\")=0),A145+0.001,INT(A145)+1)","v":0.1460000000000001},{"$f":"(LEFT(B145,SEARCH(Display1!$G$2,B145)+LEN(Display1!$G$2)+2))&RIGHT(B145,LEN(B145)-(SEARCH(Display1!$G$2,B145)+LEN(Display1!$G$2)+2))-Display1!$J$3","v":"P.US.CLE1N173050"}]
[{"$f":"IF(OR(ISTEXT(RTD(\"cqg.rtd\",,\"OrderData\",\"\"&B147&\"\",\"\",\"OpenPosition\",\"\"&Display1!$D$3&\"\")),RTD(\"cqg.rtd\",,\"OrderData\",\"\"&B147&\"\",\"\",\"OpenPosition\",\"\"&Display1!$D$3&\"\")=0),A146+0.001,INT(A146)+1)","v":0.1470000000000001},{"$f":"(LEFT(B146,SEARCH(Display1!$G$2,B146)+LEN(Display1!$G$2)+2))&RIGHT(B146,LEN(B146)-(SEARCH(Display1!$G$2,B146)+LEN(Display1!$G$2)+2))-Display1!$J$3","v":"P.US.CLE1N173000"}]
[{"$f":"IF(OR(ISTEXT(RTD(\"cqg.rtd\",,\"OrderData\",\"\"&B148&\"\",\"\",\"OpenPosition\",\"\"&Display1!$D$3&\"\")),RTD(\"cqg.rtd\",,\"OrderData\",\"\"&B148&\"\",\"\",\"OpenPosition\",\"\"&Display1!$D$3&\"\")=0),A147+0.001,INT(A147)+1)","v":0.1480000000000001},{"$f":"(LEFT(B147,SEARCH(Display1!$G$2,B147)+LEN(Display1!$G$2)+2))&RIGHT(B147,LEN(B147)-(SEARCH(Display1!$G$2,B147)+LEN(Display1!$G$2)+2))-Display1!$J$3","v":"P.US.CLE1N172950"}]
[{"$f":"IF(OR(ISTEXT(RTD(\"cqg.rtd\",,\"OrderData\",\"\"&B149&\"\",\"\",\"OpenPosition\",\"\"&Display1!$D$3&\"\")),RTD(\"cqg.rtd\",,\"OrderData\",\"\"&B149&\"\",\"\",\"OpenPosition\",\"\"&Display1!$D$3&\"\")=0),A148+0.001,INT(A148)+1)","v":0.1490000000000001},{"$f":"(LEFT(B148,SEARCH(Display1!$G$2,B148)+LEN(Display1!$G$2)+2))&RIGHT(B148,LEN(B148)-(SEARCH(Display1!$G$2,B148)+LEN(Display1!$G$2)+2))-Display1!$J$3","v":"P.US.CLE1N172900"}]
[{"$f":"IF(OR(ISTEXT(RTD(\"cqg.rtd\",,\"OrderData\",\"\"&B150&\"\",\"\",\"OpenPosition\",\"\"&Display1!$D$3&\"\")),RTD(\"cqg.rtd\",,\"OrderData\",\"\"&B150&\"\",\"\",\"OpenPosition\",\"\"&Display1!$D$3&\"\")=0),A149+0.001,INT(A149)+1)","v":0.15000000000000011},{"$f":"(LEFT(B149,SEARCH(Display1!$G$2,B149)+LEN(Display1!$G$2)+2))&RIGHT(B149,LEN(B149)-(SEARCH(Display1!$G$2,B149)+LEN(Display1!$G$2)+2))-Display1!$J$3","v":"P.US.CLE1N172850"}]
[{"$f":"IF(OR(ISTEXT(RTD(\"cqg.rtd\",,\"OrderData\",\"\"&B151&\"\",\"\",\"OpenPosition\",\"\"&Display1!$D$3&\"\")),RTD(\"cqg.rtd\",,\"OrderData\",\"\"&B151&\"\",\"\",\"OpenPosition\",\"\"&Display1!$D$3&\"\")=0),A150+0.001,INT(A150)+1)","v":0.15100000000000011},{"$f":"(LEFT(B150,SEARCH(Display1!$G$2,B150)+LEN(Display1!$G$2)+2))&RIGHT(B150,LEN(B150)-(SEARCH(Display1!$G$2,B150)+LEN(Display1!$G$2)+2))-Display1!$J$3","v":"P.US.CLE1N172800"}]
[{"$f":"IF(OR(ISTEXT(RTD(\"cqg.rtd\",,\"OrderData\",\"\"&B152&\"\",\"\",\"OpenPosition\",\"\"&Display1!$D$3&\"\")),RTD(\"cqg.rtd\",,\"OrderData\",\"\"&B152&\"\",\"\",\"OpenPosition\",\"\"&Display1!$D$3&\"\")=0),A151+0.001,INT(A151)+1)","v":0.15200000000000011},{"$f":"(LEFT(B151,SEARCH(Display1!$G$2,B151)+LEN(Display1!$G$2)+2))&RIGHT(B151,LEN(B151)-(SEARCH(Display1!$G$2,B151)+LEN(Display1!$G$2)+2))-Display1!$J$3","v":"P.US.CLE1N172750"}]
[{"$f":"IF(OR(ISTEXT(RTD(\"cqg.rtd\",,\"OrderData\",\"\"&B153&\"\",\"\",\"OpenPosition\",\"\"&Display1!$D$3&\"\")),RTD(\"cqg.rtd\",,\"OrderData\",\"\"&B153&\"\",\"\",\"OpenPosition\",\"\"&Display1!$D$3&\"\")=0),A152+0.001,INT(A152)+1)","v":0.15300000000000011},{"$f":"(LEFT(B152,SEARCH(Display1!$G$2,B152)+LEN(Display1!$G$2)+2))&RIGHT(B152,LEN(B152)-(SEARCH(Display1!$G$2,B152)+LEN(Display1!$G$2)+2))-Display1!$J$3","v":"P.US.CLE1N172700"}]
[{"$f":"IF(OR(ISTEXT(RTD(\"cqg.rtd\",,\"OrderData\",\"\"&B154&\"\",\"\",\"OpenPosition\",\"\"&Display1!$D$3&\"\")),RTD(\"cqg.rtd\",,\"OrderData\",\"\"&B154&\"\",\"\",\"OpenPosition\",\"\"&Display1!$D$3&\"\")=0),A153+0.001,INT(A153)+1)","v":0.15400000000000011},{"$f":"(LEFT(B153,SEARCH(Display1!$G$2,B153)+LEN(Display1!$G$2)+2))&RIGHT(B153,LEN(B153)-(SEARCH(Display1!$G$2,B153)+LEN(Display1!$G$2)+2))-Display1!$J$3","v":"P.US.CLE1N172650"}]
[{"$f":"IF(OR(ISTEXT(RTD(\"cqg.rtd\",,\"OrderData\",\"\"&B155&\"\",\"\",\"OpenPosition\",\"\"&Display1!$D$3&\"\")),RTD(\"cqg.rtd\",,\"OrderData\",\"\"&B155&\"\",\"\",\"OpenPosition\",\"\"&Display1!$D$3&\"\")=0),A154+0.001,INT(A154)+1)","v":0.15500000000000011},{"$f":"(LEFT(B154,SEARCH(Display1!$G$2,B154)+LEN(Display1!$G$2)+2))&RIGHT(B154,LEN(B154)-(SEARCH(Display1!$G$2,B154)+LEN(Display1!$G$2)+2))-Display1!$J$3","v":"P.US.CLE1N172600"}]
[{"$f":"IF(OR(ISTEXT(RTD(\"cqg.rtd\",,\"OrderData\",\"\"&B156&\"\",\"\",\"OpenPosition\",\"\"&Display1!$D$3&\"\")),RTD(\"cqg.rtd\",,\"OrderData\",\"\"&B156&\"\",\"\",\"OpenPosition\",\"\"&Display1!$D$3&\"\")=0),A155+0.001,INT(A155)+1)","v":0.15600000000000011},{"$f":"(LEFT(B155,SEARCH(Display1!$G$2,B155)+LEN(Display1!$G$2)+2))&RIGHT(B155,LEN(B155)-(SEARCH(Display1!$G$2,B155)+LEN(Display1!$G$2)+2))-Display1!$J$3","v":"P.US.CLE1N172550"}]
[{"$f":"IF(OR(ISTEXT(RTD(\"cqg.rtd\",,\"OrderData\",\"\"&B157&\"\",\"\",\"OpenPosition\",\"\"&Display1!$D$3&\"\")),RTD(\"cqg.rtd\",,\"OrderData\",\"\"&B157&\"\",\"\",\"OpenPosition\",\"\"&Display1!$D$3&\"\")=0),A156+0.001,INT(A156)+1)","v":0.15700000000000011},{"$f":"(LEFT(B156,SEARCH(Display1!$G$2,B156)+LEN(Display1!$G$2)+2))&RIGHT(B156,LEN(B156)-(SEARCH(Display1!$G$2,B156)+LEN(Display1!$G$2)+2))-Display1!$J$3","v":"P.US.CLE1N172500"}]
[{"$f":"IF(OR(ISTEXT(RTD(\"cqg.rtd\",,\"OrderData\",\"\"&B158&\"\",\"\",\"OpenPosition\",\"\"&Display1!$D$3&\"\")),RTD(\"cqg.rtd\",,\"OrderData\",\"\"&B158&\"\",\"\",\"OpenPosition\",\"\"&Display1!$D$3&\"\")=0),A157+0.001,INT(A157)+1)","v":0.15800000000000011},{"$f":"(LEFT(B157,SEARCH(Display1!$G$2,B157)+LEN(Display1!$G$2)+2))&RIGHT(B157,LEN(B157)-(SEARCH(Display1!$G$2,B157)+LEN(Display1!$G$2)+2))-Display1!$J$3","v":"P.US.CLE1N172450"}]
[{"$f":"IF(OR(ISTEXT(RTD(\"cqg.rtd\",,\"OrderData\",\"\"&B159&\"\",\"\",\"OpenPosition\",\"\"&Display1!$D$3&\"\")),RTD(\"cqg.rtd\",,\"OrderData\",\"\"&B159&\"\",\"\",\"OpenPosition\",\"\"&Display1!$D$3&\"\")=0),A158+0.001,INT(A158)+1)","v":0.15900000000000011},{"$f":"(LEFT(B158,SEARCH(Display1!$G$2,B158)+LEN(Display1!$G$2)+2))&RIGHT(B158,LEN(B158)-(SEARCH(Display1!$G$2,B158)+LEN(Display1!$G$2)+2))-Display1!$J$3","v":"P.US.CLE1N172400"}]
[{"$f":"IF(OR(ISTEXT(RTD(\"cqg.rtd\",,\"OrderData\",\"\"&B160&\"\",\"\",\"OpenPosition\",\"\"&Display1!$D$3&\"\")),RTD(\"cqg.rtd\",,\"OrderData\",\"\"&B160&\"\",\"\",\"OpenPosition\",\"\"&Display1!$D$3&\"\")=0),A159+0.001,INT(A159)+1)","v":0.16000000000000011},{"$f":"(LEFT(B159,SEARCH(Display1!$G$2,B159)+LEN(Display1!$G$2)+2))&RIGHT(B159,LEN(B159)-(SEARCH(Display1!$G$2,B159)+LEN(Display1!$G$2)+2))-Display1!$J$3","v":"P.US.CLE1N172350"}]
[{"$f":"IF(OR(ISTEXT(RTD(\"cqg.rtd\",,\"OrderData\",\"\"&B161&\"\",\"\",\"OpenPosition\",\"\"&Display1!$D$3&\"\")),RTD(\"cqg.rtd\",,\"OrderData\",\"\"&B161&\"\",\"\",\"OpenPosition\",\"\"&Display1!$D$3&\"\")=0),A160+0.001,INT(A160)+1)","v":0.16100000000000012},{"$f":"(LEFT(B160,SEARCH(Display1!$G$2,B160)+LEN(Display1!$G$2)+2))&RIGHT(B160,LEN(B160)-(SEARCH(Display1!$G$2,B160)+LEN(Display1!$G$2)+2))-Display1!$J$3","v":"P.US.CLE1N172300"}]
[{"$f":"IFERROR(IF(OR(ISTEXT(RTD(\"cqg.rtd\",,\"OrderData\",\"\"&B162&\"\",\"\",\"OpenPosition\",\"\"&Display1!$D$3&\"\")),RTD(\"cqg.rtd\",,\"OrderData\",\"\"&B162&\"\",\"\",\"OpenPosition\",\"\"&Display1!$D$3&\"\")=0),A161+0.001,INT(A161)+1),A161)","v":0.16200000000000012},{"$f":"(LEFT(B163,SEARCH(Display1!$G$2,B163)+LEN(Display1!$G$2)+2))&RIGHT(B163,LEN(B163)-(SEARCH(Display1!$G$2,B163)+LEN(Display1!$G$2)+2))+Display1!$J$3","v":"C.US.CLE2N176300"}]
[{"$f":"IFERROR(IF(OR(ISTEXT(RTD(\"cqg.rtd\",,\"OrderData\",\"\"&B163&\"\",\"\",\"OpenPosition\",\"\"&Display1!$D$3&\"\")),RTD(\"cqg.rtd\",,\"OrderData\",\"\"&B163&\"\",\"\",\"OpenPosition\",\"\"&Display1!$D$3&\"\")=0),A162+0.001,INT(A162)+1),A162)","v":0.16300000000000012},{"$f":"(LEFT(B164,SEARCH(Display1!$G$2,B164)+LEN(Display1!$G$2)+2))&RIGHT(B164,LEN(B164)-(SEARCH(Display1!$G$2,B164)+LEN(Display1!$G$2)+2))+Display1!$J$3","v":"C.US.CLE2N176250"}]
[{"$f":"IFERROR(IF(OR(ISTEXT(RTD(\"cqg.rtd\",,\"OrderData\",\"\"&B164&\"\",\"\",\"OpenPosition\",\"\"&Display1!$D$3&\"\")),RTD(\"cqg.rtd\",,\"OrderData\",\"\"&B164&\"\",\"\",\"OpenPosition\",\"\"&Display1!$D$3&\"\")=0),A163+0.001,INT(A163)+1),A163)","v":0.16400000000000012},{"$f":"(LEFT(B165,SEARCH(Display1!$G$2,B165)+LEN(Display1!$G$2)+2))&RIGHT(B165,LEN(B165)-(SEARCH(Display1!$G$2,B165)+LEN(Display1!$G$2)+2))+Display1!$J$3","v":"C.US.CLE2N176200"}]
[{"$f":"IFERROR(IF(OR(ISTEXT(RTD(\"cqg.rtd\",,\"OrderData\",\"\"&B165&\"\",\"\",\"OpenPosition\",\"\"&Display1!$D$3&\"\")),RTD(\"cqg.rtd\",,\"OrderData\",\"\"&B165&\"\",\"\",\"OpenPosition\",\"\"&Display1!$D$3&\"\")=0),A164+0.001,INT(A164)+1),A164)","v":0.16500000000000012},{"$f":"(LEFT(B166,SEARCH(Display1!$G$2,B166)+LEN(Display1!$G$2)+2))&RIGHT(B166,LEN(B166)-(SEARCH(Display1!$G$2,B166)+LEN(Display1!$G$2)+2))+Display1!$J$3","v":"C.US.CLE2N176150"}]
[{"$f":"IFERROR(IF(OR(ISTEXT(RTD(\"cqg.rtd\",,\"OrderData\",\"\"&B166&\"\",\"\",\"OpenPosition\",\"\"&Display1!$D$3&\"\")),RTD(\"cqg.rtd\",,\"OrderData\",\"\"&B166&\"\",\"\",\"OpenPosition\",\"\"&Display1!$D$3&\"\")=0),A165+0.001,INT(A165)+1),A165)","v":0.16600000000000012},{"$f":"(LEFT(B167,SEARCH(Display1!$G$2,B167)+LEN(Display1!$G$2)+2))&RIGHT(B167,LEN(B167)-(SEARCH(Display1!$G$2,B167)+LEN(Display1!$G$2)+2))+Display1!$J$3","v":"C.US.CLE2N176100"}]
[{"$f":"IFERROR(IF(OR(ISTEXT(RTD(\"cqg.rtd\",,\"OrderData\",\"\"&B167&\"\",\"\",\"OpenPosition\",\"\"&Display1!$D$3&\"\")),RTD(\"cqg.rtd\",,\"OrderData\",\"\"&B167&\"\",\"\",\"OpenPosition\",\"\"&Display1!$D$3&\"\")=0),A166+0.001,INT(A166)+1),A166)","v":0.16700000000000012},{"$f":"(LEFT(B168,SEARCH(Display1!$G$2,B168)+LEN(Display1!$G$2)+2))&RIGHT(B168,LEN(B168)-(SEARCH(Display1!$G$2,B168)+LEN(Display1!$G$2)+2))+Display1!$J$3","v":"C.US.CLE2N176050"}]
[{"$f":"IFERROR(IF(OR(ISTEXT(RTD(\"cqg.rtd\",,\"OrderData\",\"\"&B168&\"\",\"\",\"OpenPosition\",\"\"&Display1!$D$3&\"\")),RTD(\"cqg.rtd\",,\"OrderData\",\"\"&B168&\"\",\"\",\"OpenPosition\",\"\"&Display1!$D$3&\"\")=0),A167+0.001,INT(A167)+1),A167)","v":0.16800000000000012},{"$f":"(LEFT(B169,SEARCH(Display1!$G$2,B169)+LEN(Display1!$G$2)+2))&RIGHT(B169,LEN(B169)-(SEARCH(Display1!$G$2,B169)+LEN(Display1!$G$2)+2))+Display1!$J$3","v":"C.US.CLE2N176000"}]
[{"$f":"IFERROR(IF(OR(ISTEXT(RTD(\"cqg.rtd\",,\"OrderData\",\"\"&B169&\"\",\"\",\"OpenPosition\",\"\"&Display1!$D$3&\"\")),RTD(\"cqg.rtd\",,\"OrderData\",\"\"&B169&\"\",\"\",\"OpenPosition\",\"\"&Display1!$D$3&\"\")=0),A168+0.001,INT(A168)+1),A168)","v":0.16900000000000012},{"$f":"(LEFT(B170,SEARCH(Display1!$G$2,B170)+LEN(Display1!$G$2)+2))&RIGHT(B170,LEN(B170)-(SEARCH(Display1!$G$2,B170)+LEN(Display1!$G$2)+2))+Display1!$J$3","v":"C.US.CLE2N175950"}]
[{"$f":"IFERROR(IF(OR(ISTEXT(RTD(\"cqg.rtd\",,\"OrderData\",\"\"&B170&\"\",\"\",\"OpenPosition\",\"\"&Display1!$D$3&\"\")),RTD(\"cqg.rtd\",,\"OrderData\",\"\"&B170&\"\",\"\",\"OpenPosition\",\"\"&Display1!$D$3&\"\")=0),A169+0.001,INT(A169)+1),A169)","v":0.17000000000000012},{"$f":"(LEFT(B171,SEARCH(Display1!$G$2,B171)+LEN(Display1!$G$2)+2))&RIGHT(B171,LEN(B171)-(SEARCH(Display1!$G$2,B171)+LEN(Display1!$G$2)+2))+Display1!$J$3","v":"C.US.CLE2N175900"}]
[{"$f":"IFERROR(IF(OR(ISTEXT(RTD(\"cqg.rtd\",,\"OrderData\",\"\"&B171&\"\",\"\",\"OpenPosition\",\"\"&Display1!$D$3&\"\")),RTD(\"cqg.rtd\",,\"OrderData\",\"\"&B171&\"\",\"\",\"OpenPosition\",\"\"&Display1!$D$3&\"\")=0),A170+0.001,INT(A170)+1),A170)","v":0.17100000000000012},{"$f":"(LEFT(B172,SEARCH(Display1!$G$2,B172)+LEN(Display1!$G$2)+2))&RIGHT(B172,LEN(B172)-(SEARCH(Display1!$G$2,B172)+LEN(Display1!$G$2)+2))+Display1!$J$3","v":"C.US.CLE2N175850"}]
[{"$f":"IFERROR(IF(OR(ISTEXT(RTD(\"cqg.rtd\",,\"OrderData\",\"\"&B172&\"\",\"\",\"OpenPosition\",\"\"&Display1!$D$3&\"\")),RTD(\"cqg.rtd\",,\"OrderData\",\"\"&B172&\"\",\"\",\"OpenPosition\",\"\"&Display1!$D$3&\"\")=0),A171+0.001,INT(A171)+1),A171)","v":0.17200000000000013},{"$f":"(LEFT(B173,SEARCH(Display1!$G$2,B173)+LEN(Display1!$G$2)+2))&RIGHT(B173,LEN(B173)-(SEARCH(Display1!$G$2,B173)+LEN(Display1!$G$2)+2))+Display1!$J$3","v":"C.US.CLE2N175800"}]
[{"$f":"IFERROR(IF(OR(ISTEXT(RTD(\"cqg.rtd\",,\"OrderData\",\"\"&B173&\"\",\"\",\"OpenPosition\",\"\"&Display1!$D$3&\"\")),RTD(\"cqg.rtd\",,\"OrderData\",\"\"&B173&\"\",\"\",\"OpenPosition\",\"\"&Display1!$D$3&\"\")=0),A172+0.001,INT(A172)+1),A172)","v":0.17300000000000013},{"$f":"(LEFT(B174,SEARCH(Display1!$G$2,B174)+LEN(Display1!$G$2)+2))&RIGHT(B174,LEN(B174)-(SEARCH(Display1!$G$2,B174)+LEN(Display1!$G$2)+2))+Display1!$J$3","v":"C.US.CLE2N175750"}]
[{"$f":"IFERROR(IF(OR(ISTEXT(RTD(\"cqg.rtd\",,\"OrderData\",\"\"&B174&\"\",\"\",\"OpenPosition\",\"\"&Display1!$D$3&\"\")),RTD(\"cqg.rtd\",,\"OrderData\",\"\"&B174&\"\",\"\",\"OpenPosition\",\"\"&Display1!$D$3&\"\")=0),A173+0.001,INT(A173)+1),A173)","v":0.17400000000000013},{"$f":"(LEFT(B175,SEARCH(Display1!$G$2,B175)+LEN(Display1!$G$2)+2))&RIGHT(B175,LEN(B175)-(SEARCH(Display1!$G$2,B175)+LEN(Display1!$G$2)+2))+Display1!$J$3","v":"C.US.CLE2N175700"}]
[{"$f":"IFERROR(IF(OR(ISTEXT(RTD(\"cqg.rtd\",,\"OrderData\",\"\"&B175&\"\",\"\",\"OpenPosition\",\"\"&Display1!$D$3&\"\")),RTD(\"cqg.rtd\",,\"OrderData\",\"\"&B175&\"\",\"\",\"OpenPosition\",\"\"&Display1!$D$3&\"\")=0),A174+0.001,INT(A174)+1),A174)","v":0.17500000000000013},{"$f":"(LEFT(B176,SEARCH(Display1!$G$2,B176)+LEN(Display1!$G$2)+2))&RIGHT(B176,LEN(B176)-(SEARCH(Display1!$G$2,B176)+LEN(Display1!$G$2)+2))+Display1!$J$3","v":"C.US.CLE2N175650"}]
[{"$f":"IFERROR(IF(OR(ISTEXT(RTD(\"cqg.rtd\",,\"OrderData\",\"\"&B176&\"\",\"\",\"OpenPosition\",\"\"&Display1!$D$3&\"\")),RTD(\"cqg.rtd\",,\"OrderData\",\"\"&B176&\"\",\"\",\"OpenPosition\",\"\"&Display1!$D$3&\"\")=0),A175+0.001,INT(A175)+1),A175)","v":0.17600000000000013},{"$f":"(LEFT(B177,SEARCH(Display1!$G$2,B177)+LEN(Display1!$G$2)+2))&RIGHT(B177,LEN(B177)-(SEARCH(Display1!$G$2,B177)+LEN(Display1!$G$2)+2))+Display1!$J$3","v":"C.US.CLE2N175600"}]
[{"$f":"IFERROR(IF(OR(ISTEXT(RTD(\"cqg.rtd\",,\"OrderData\",\"\"&B177&\"\",\"\",\"OpenPosition\",\"\"&Display1!$D$3&\"\")),RTD(\"cqg.rtd\",,\"OrderData\",\"\"&B177&\"\",\"\",\"OpenPosition\",\"\"&Display1!$D$3&\"\")=0),A176+0.001,INT(A176)+1),A176)","v":0.17700000000000013},{"$f":"(LEFT(B178,SEARCH(Display1!$G$2,B178)+LEN(Display1!$G$2)+2))&RIGHT(B178,LEN(B178)-(SEARCH(Display1!$G$2,B178)+LEN(Display1!$G$2)+2))+Display1!$J$3","v":"C.US.CLE2N175550"}]
[{"$f":"IFERROR(IF(OR(ISTEXT(RTD(\"cqg.rtd\",,\"OrderData\",\"\"&B178&\"\",\"\",\"OpenPosition\",\"\"&Display1!$D$3&\"\")),RTD(\"cqg.rtd\",,\"OrderData\",\"\"&B178&\"\",\"\",\"OpenPosition\",\"\"&Display1!$D$3&\"\")=0),A177+0.001,INT(A177)+1),A177)","v":0.17800000000000013},{"$f":"(LEFT(B179,SEARCH(Display1!$G$2,B179)+LEN(Display1!$G$2)+2))&RIGHT(B179,LEN(B179)-(SEARCH(Display1!$G$2,B179)+LEN(Display1!$G$2)+2))+Display1!$J$3","v":"C.US.CLE2N175500"}]
[{"$f":"IFERROR(IF(OR(ISTEXT(RTD(\"cqg.rtd\",,\"OrderData\",\"\"&B179&\"\",\"\",\"OpenPosition\",\"\"&Display1!$D$3&\"\")),RTD(\"cqg.rtd\",,\"OrderData\",\"\"&B179&\"\",\"\",\"OpenPosition\",\"\"&Display1!$D$3&\"\")=0),A178+0.001,INT(A178)+1),A178)","v":0.17900000000000013},{"$f":"(LEFT(B180,SEARCH(Display1!$G$2,B180)+LEN(Display1!$G$2)+2))&RIGHT(B180,LEN(B180)-(SEARCH(Display1!$G$2,B180)+LEN(Display1!$G$2)+2))+Display1!$J$3","v":"C.US.CLE2N175450"}]
[{"$f":"IFERROR(IF(OR(ISTEXT(RTD(\"cqg.rtd\",,\"OrderData\",\"\"&B180&\"\",\"\",\"OpenPosition\",\"\"&Display1!$D$3&\"\")),RTD(\"cqg.rtd\",,\"OrderData\",\"\"&B180&\"\",\"\",\"OpenPosition\",\"\"&Display1!$D$3&\"\")=0),A179+0.001,INT(A179)+1),A179)","v":0.18000000000000013},{"$f":"(LEFT(B181,SEARCH(Display1!$G$2,B181)+LEN(Display1!$G$2)+2))&RIGHT(B181,LEN(B181)-(SEARCH(Display1!$G$2,B181)+LEN(Display1!$G$2)+2))+Display1!$J$3","v":"C.US.CLE2N175400"}]
[{"$f":"IFERROR(IF(OR(ISTEXT(RTD(\"cqg.rtd\",,\"OrderData\",\"\"&B181&\"\",\"\",\"OpenPosition\",\"\"&Display1!$D$3&\"\")),RTD(\"cqg.rtd\",,\"OrderData\",\"\"&B181&\"\",\"\",\"OpenPosition\",\"\"&Display1!$D$3&\"\")=0),A180+0.001,INT(A180)+1),A180)","v":0.18100000000000013},{"$f":"(LEFT(B182,SEARCH(Display1!$G$2,B182)+LEN(Display1!$G$2)+2))&RIGHT(B182,LEN(B182)-(SEARCH(Display1!$G$2,B182)+LEN(Display1!$G$2)+2))+Display1!$J$3","v":"C.US.CLE2N175350"}]
[{"$f":"IFERROR(IF(OR(ISTEXT(RTD(\"cqg.rtd\",,\"OrderData\",\"\"&B182&\"\",\"\",\"OpenPosition\",\"\"&Display1!$D$3&\"\")),RTD(\"cqg.rtd\",,\"OrderData\",\"\"&B182&\"\",\"\",\"OpenPosition\",\"\"&Display1!$D$3&\"\")=0),A181+0.001,INT(A181)+1),A181)","v":0.18200000000000013},{"$f":"(LEFT(B183,SEARCH(Display1!$G$2,B183)+LEN(Display1!$G$2)+2))&RIGHT(B183,LEN(B183)-(SEARCH(Display1!$G$2,B183)+LEN(Display1!$G$2)+2))+Display1!$J$3","v":"C.US.CLE2N175300"}]
[{"$f":"IFERROR(IF(OR(ISTEXT(RTD(\"cqg.rtd\",,\"OrderData\",\"\"&B183&\"\",\"\",\"OpenPosition\",\"\"&Display1!$D$3&\"\")),RTD(\"cqg.rtd\",,\"OrderData\",\"\"&B183&\"\",\"\",\"OpenPosition\",\"\"&Display1!$D$3&\"\")=0),A182+0.001,INT(A182)+1),A182)","v":0.18300000000000013},{"$f":"(LEFT(B184,SEARCH(Display1!$G$2,B184)+LEN(Display1!$G$2)+2))&RIGHT(B184,LEN(B184)-(SEARCH(Display1!$G$2,B184)+LEN(Display1!$G$2)+2))+Display1!$J$3","v":"C.US.CLE2N175250"}]
[{"$f":"IFERROR(IF(OR(ISTEXT(RTD(\"cqg.rtd\",,\"OrderData\",\"\"&B184&\"\",\"\",\"OpenPosition\",\"\"&Display1!$D$3&\"\")),RTD(\"cqg.rtd\",,\"OrderData\",\"\"&B184&\"\",\"\",\"OpenPosition\",\"\"&Display1!$D$3&\"\")=0),A183+0.001,INT(A183)+1),A183)","v":0.18400000000000014},{"$f":"(LEFT(B185,SEARCH(Display1!$G$2,B185)+LEN(Display1!$G$2)+2))&RIGHT(B185,LEN(B185)-(SEARCH(Display1!$G$2,B185)+LEN(Display1!$G$2)+2))+Display1!$J$3","v":"C.US.CLE2N175200"}]
[{"$f":"IFERROR(IF(OR(ISTEXT(RTD(\"cqg.rtd\",,\"OrderData\",\"\"&B185&\"\",\"\",\"OpenPosition\",\"\"&Display1!$D$3&\"\")),RTD(\"cqg.rtd\",,\"OrderData\",\"\"&B185&\"\",\"\",\"OpenPosition\",\"\"&Display1!$D$3&\"\")=0),A184+0.001,INT(A184)+1),A184)","v":0.18500000000000014},{"$f":"(LEFT(B186,SEARCH(Display1!$G$2,B186)+LEN(Display1!$G$2)+2))&RIGHT(B186,LEN(B186)-(SEARCH(Display1!$G$2,B186)+LEN(Display1!$G$2)+2))+Display1!$J$3","v":"C.US.CLE2N175150"}]
[{"$f":"IFERROR(IF(OR(ISTEXT(RTD(\"cqg.rtd\",,\"OrderData\",\"\"&B186&\"\",\"\",\"OpenPosition\",\"\"&Display1!$D$3&\"\")),RTD(\"cqg.rtd\",,\"OrderData\",\"\"&B186&\"\",\"\",\"OpenPosition\",\"\"&Display1!$D$3&\"\")=0),A185+0.001,INT(A185)+1),A185)","v":0.18600000000000014},{"$f":"(LEFT(B187,SEARCH(Display1!$G$2,B187)+LEN(Display1!$G$2)+2))&RIGHT(B187,LEN(B187)-(SEARCH(Display1!$G$2,B187)+LEN(Display1!$G$2)+2))+Display1!$J$3","v":"C.US.CLE2N175100"}]
[{"$f":"IFERROR(IF(OR(ISTEXT(RTD(\"cqg.rtd\",,\"OrderData\",\"\"&B187&\"\",\"\",\"OpenPosition\",\"\"&Display1!$D$3&\"\")),RTD(\"cqg.rtd\",,\"OrderData\",\"\"&B187&\"\",\"\",\"OpenPosition\",\"\"&Display1!$D$3&\"\")=0),A186+0.001,INT(A186)+1),A186)","v":0.18700000000000014},{"$f":"(LEFT(B188,SEARCH(Display1!$G$2,B188)+LEN(Display1!$G$2)+2))&RIGHT(B188,LEN(B188)-(SEARCH(Display1!$G$2,B188)+LEN(Display1!$G$2)+2))+Display1!$J$3","v":"C.US.CLE2N175050"}]
[{"$f":"IFERROR(IF(OR(ISTEXT(RTD(\"cqg.rtd\",,\"OrderData\",\"\"&B188&\"\",\"\",\"OpenPosition\",\"\"&Display1!$D$3&\"\")),RTD(\"cqg.rtd\",,\"OrderData\",\"\"&B188&\"\",\"\",\"OpenPosition\",\"\"&Display1!$D$3&\"\")=0),A187+0.001,INT(A187)+1),A187)","v":0.18800000000000014},{"$f":"(LEFT(B189,SEARCH(Display1!$G$2,B189)+LEN(Display1!$G$2)+2))&RIGHT(B189,LEN(B189)-(SEARCH(Display1!$G$2,B189)+LEN(Display1!$G$2)+2))+Display1!$J$3","v":"C.US.CLE2N175000"}]
[{"$f":"IFERROR(IF(OR(ISTEXT(RTD(\"cqg.rtd\",,\"OrderData\",\"\"&B189&\"\",\"\",\"OpenPosition\",\"\"&Display1!$D$3&\"\")),RTD(\"cqg.rtd\",,\"OrderData\",\"\"&B189&\"\",\"\",\"OpenPosition\",\"\"&Display1!$D$3&\"\")=0),A188+0.001,INT(A188)+1),A188)","v":0.18900000000000014},{"$f":"(LEFT(B190,SEARCH(Display1!$G$2,B190)+LEN(Display1!$G$2)+2))&RIGHT(B190,LEN(B190)-(SEARCH(Display1!$G$2,B190)+LEN(Display1!$G$2)+2))+Display1!$J$3","v":"C.US.CLE2N174950"}]
[{"$f":"IFERROR(IF(OR(ISTEXT(RTD(\"cqg.rtd\",,\"OrderData\",\"\"&B190&\"\",\"\",\"OpenPosition\",\"\"&Display1!$D$3&\"\")),RTD(\"cqg.rtd\",,\"OrderData\",\"\"&B190&\"\",\"\",\"OpenPosition\",\"\"&Display1!$D$3&\"\")=0),A189+0.001,INT(A189)+1),A189)","v":0.19000000000000014},{"$f":"(LEFT(B191,SEARCH(Display1!$G$2,B191)+LEN(Display1!$G$2)+2))&RIGHT(B191,LEN(B191)-(SEARCH(Display1!$G$2,B191)+LEN(Display1!$G$2)+2))+Display1!$J$3","v":"C.US.CLE2N174900"}]
[{"$f":"IFERROR(IF(OR(ISTEXT(RTD(\"cqg.rtd\",,\"OrderData\",\"\"&B191&\"\",\"\",\"OpenPosition\",\"\"&Display1!$D$3&\"\")),RTD(\"cqg.rtd\",,\"OrderData\",\"\"&B191&\"\",\"\",\"OpenPosition\",\"\"&Display1!$D$3&\"\")=0),A190+0.001,INT(A190)+1),A190)","v":0.19100000000000014},{"$f":"(LEFT(B192,SEARCH(Display1!$G$2,B192)+LEN(Display1!$G$2)+2))&RIGHT(B192,LEN(B192)-(SEARCH(Display1!$G$2,B192)+LEN(Display1!$G$2)+2))+Display1!$J$3","v":"C.US.CLE2N174850"}]
[{"$f":"IFERROR(IF(OR(ISTEXT(RTD(\"cqg.rtd\",,\"OrderData\",\"\"&B192&\"\",\"\",\"OpenPosition\",\"\"&Display1!$D$3&\"\")),RTD(\"cqg.rtd\",,\"OrderData\",\"\"&B192&\"\",\"\",\"OpenPosition\",\"\"&Display1!$D$3&\"\")=0),A191+0.001,INT(A191)+1),A191)","v":0.19200000000000014},{"$f":"(LEFT(B193,SEARCH(Display1!$G$2,B193)+LEN(Display1!$G$2)+2))&RIGHT(B193,LEN(B193)-(SEARCH(Display1!$G$2,B193)+LEN(Display1!$G$2)+2))+Display1!$J$3","v":"C.US.CLE2N174800"}]
[{"$f":"IFERROR(IF(OR(ISTEXT(RTD(\"cqg.rtd\",,\"OrderData\",\"\"&B193&\"\",\"\",\"OpenPosition\",\"\"&Display1!$D$3&\"\")),RTD(\"cqg.rtd\",,\"OrderData\",\"\"&B193&\"\",\"\",\"OpenPosition\",\"\"&Display1!$D$3&\"\")=0),A192+0.001,INT(A192)+1),A192)","v":0.19300000000000014},{"$f":"(LEFT(B194,SEARCH(Display1!$G$2,B194)+LEN(Display1!$G$2)+2))&RIGHT(B194,LEN(B194)-(SEARCH(Display1!$G$2,B194)+LEN(Display1!$G$2)+2))+Display1!$J$3","v":"C.US.CLE2N174750"}]
[{"$f":"IFERROR(IF(OR(ISTEXT(RTD(\"cqg.rtd\",,\"OrderData\",\"\"&B194&\"\",\"\",\"OpenPosition\",\"\"&Display1!$D$3&\"\")),RTD(\"cqg.rtd\",,\"OrderData\",\"\"&B194&\"\",\"\",\"OpenPosition\",\"\"&Display1!$D$3&\"\")=0),A193+0.001,INT(A193)+1),A193)","v":0.19400000000000014},{"$f":"(LEFT(B195,SEARCH(Display1!$G$2,B195)+LEN(Display1!$G$2)+2))&RIGHT(B195,LEN(B195)-(SEARCH(Display1!$G$2,B195)+LEN(Display1!$G$2)+2))+Display1!$J$3","v":"C.US.CLE2N174700"}]
[{"$f":"IFERROR(IF(OR(ISTEXT(RTD(\"cqg.rtd\",,\"OrderData\",\"\"&B195&\"\",\"\",\"OpenPosition\",\"\"&Display1!$D$3&\"\")),RTD(\"cqg.rtd\",,\"OrderData\",\"\"&B195&\"\",\"\",\"OpenPosition\",\"\"&Display1!$D$3&\"\")=0),A194+0.001,INT(A194)+1),A194)","v":0.19500000000000015},{"$f":"(LEFT(B196,SEARCH(Display1!$G$2,B196)+LEN(Display1!$G$2)+2))&RIGHT(B196,LEN(B196)-(SEARCH(Display1!$G$2,B196)+LEN(Display1!$G$2)+2))+Display1!$J$3","v":"C.US.CLE2N174650"}]
[{"$f":"IFERROR(IF(OR(ISTEXT(RTD(\"cqg.rtd\",,\"OrderData\",\"\"&B196&\"\",\"\",\"OpenPosition\",\"\"&Display1!$D$3&\"\")),RTD(\"cqg.rtd\",,\"OrderData\",\"\"&B196&\"\",\"\",\"OpenPosition\",\"\"&Display1!$D$3&\"\")=0),A195+0.001,INT(A195)+1),A195)","v":0.19600000000000015},{"$f":"(LEFT(B197,SEARCH(Display1!$G$2,B197)+LEN(Display1!$G$2)+2))&RIGHT(B197,LEN(B197)-(SEARCH(Display1!$G$2,B197)+LEN(Display1!$G$2)+2))+Display1!$J$3","v":"C.US.CLE2N174600"}]
[{"$f":"IFERROR(IF(OR(ISTEXT(RTD(\"cqg.rtd\",,\"OrderData\",\"\"&B197&\"\",\"\",\"OpenPosition\",\"\"&Display1!$D$3&\"\")),RTD(\"cqg.rtd\",,\"OrderData\",\"\"&B197&\"\",\"\",\"OpenPosition\",\"\"&Display1!$D$3&\"\")=0),A196+0.001,INT(A196)+1),A196)","v":0.19700000000000015},{"$f":"(LEFT(B198,SEARCH(Display1!$G$2,B198)+LEN(Display1!$G$2)+2))&RIGHT(B198,LEN(B198)-(SEARCH(Display1!$G$2,B198)+LEN(Display1!$G$2)+2))+Display1!$J$3","v":"C.US.CLE2N174550"}]
[{"$f":"IFERROR(IF(OR(ISTEXT(RTD(\"cqg.rtd\",,\"OrderData\",\"\"&B198&\"\",\"\",\"OpenPosition\",\"\"&Display1!$D$3&\"\")),RTD(\"cqg.rtd\",,\"OrderData\",\"\"&B198&\"\",\"\",\"OpenPosition\",\"\"&Display1!$D$3&\"\")=0),A197+0.001,INT(A197)+1),A197)","v":0.19800000000000015},{"$f":"(LEFT(B199,SEARCH(Display1!$G$2,B199)+LEN(Display1!$G$2)+2))&RIGHT(B199,LEN(B199)-(SEARCH(Display1!$G$2,B199)+LEN(Display1!$G$2)+2))+Display1!$J$3","v":"C.US.CLE2N174500"}]
[{"$f":"IFERROR(IF(OR(ISTEXT(RTD(\"cqg.rtd\",,\"OrderData\",\"\"&B199&\"\",\"\",\"OpenPosition\",\"\"&Display1!$D$3&\"\")),RTD(\"cqg.rtd\",,\"OrderData\",\"\"&B199&\"\",\"\",\"OpenPosition\",\"\"&Display1!$D$3&\"\")=0),A198+0.001,INT(A198)+1),A198)","v":0.19900000000000015},{"$f":"(LEFT(B200,SEARCH(Display1!$G$2,B200)+LEN(Display1!$G$2)+2))&RIGHT(B200,LEN(B200)-(SEARCH(Display1!$G$2,B200)+LEN(Display1!$G$2)+2))+Display1!$J$3","v":"C.US.CLE2N174450"}]
[{"$f":"IFERROR(IF(OR(ISTEXT(RTD(\"cqg.rtd\",,\"OrderData\",\"\"&B200&\"\",\"\",\"OpenPosition\",\"\"&Display1!$D$3&\"\")),RTD(\"cqg.rtd\",,\"OrderData\",\"\"&B200&\"\",\"\",\"OpenPosition\",\"\"&Display1!$D$3&\"\")=0),A199+0.001,INT(A199)+1),A199)","v":0.20000000000000015},{"$f":"(LEFT(B201,SEARCH(Display1!$G$2,B201)+LEN(Display1!$G$2)+2))&RIGHT(B201,LEN(B201)-(SEARCH(Display1!$G$2,B201)+LEN(Display1!$G$2)+2))+Display1!$J$3","v":"C.US.CLE2N174400"}]
[{"$f":"IFERROR(IF(OR(ISTEXT(RTD(\"cqg.rtd\",,\"OrderData\",\"\"&B201&\"\",\"\",\"OpenPosition\",\"\"&Display1!$D$3&\"\")),RTD(\"cqg.rtd\",,\"OrderData\",\"\"&B201&\"\",\"\",\"OpenPosition\",\"\"&Display1!$D$3&\"\")=0),A200+0.001,INT(A200)+1),A200)","v":0.20100000000000015},{"$f":"(LEFT(B202,SEARCH(Display1!$G$2,B202)+LEN(Display1!$G$2)+2))&RIGHT(B202,LEN(B202)-(SEARCH(Display1!$G$2,B202)+LEN(Display1!$G$2)+2))+Display1!$J$3","v":"C.US.CLE2N174350"}]
[{"$f":"IFERROR(IF(OR(ISTEXT(RTD(\"cqg.rtd\",,\"OrderData\",\"\"&B202&\"\",\"\",\"OpenPosition\",\"\"&Display1!$D$3&\"\")),RTD(\"cqg.rtd\",,\"OrderData\",\"\"&B202&\"\",\"\",\"OpenPosition\",\"\"&Display1!$D$3&\"\")=0),A201+0.001,INT(A201)+1),A201)","v":0.20200000000000015},{"$f":"RTD(\"cqg.rtd\", ,\"ContractData\", \"C.US.\"&Display1!$G$2&Display1!$H$3&\"\", \"Symbol\",, \"T\")","v":"C.US.CLE2N174300"}]
[{"$f":"IFERROR(IF(OR(ISTEXT(RTD(\"cqg.rtd\",,\"OrderData\",\"\"&B203&\"\",\"\",\"OpenPosition\",\"\"&Display1!$D$3&\"\")),RTD(\"cqg.rtd\",,\"OrderData\",\"\"&B203&\"\",\"\",\"OpenPosition\",\"\"&Display1!$D$3&\"\")=0),A202+0.001,INT(A202)+1),A202)","v":0.20300000000000015},{"$f":"(LEFT(B202,SEARCH(Display1!$G$2,B202)+LEN(Display1!$G$2)+2))&RIGHT(B202,LEN(B202)-(SEARCH(Display1!$G$2,B202)+LEN(Display1!$G$2)+2))-Display1!$J$3","v":"C.US.CLE2N174250"}]
[{"$f":"IFERROR(IF(OR(ISTEXT(RTD(\"cqg.rtd\",,\"OrderData\",\"\"&B204&\"\",\"\",\"OpenPosition\",\"\"&Display1!$D$3&\"\")),RTD(\"cqg.rtd\",,\"OrderData\",\"\"&B204&\"\",\"\",\"OpenPosition\",\"\"&Display1!$D$3&\"\")=0),A203+0.001,INT(A203)+1),A203)","v":0.20400000000000015},{"$f":"(LEFT(B203,SEARCH(Display1!$G$2,B203)+LEN(Display1!$G$2)+2))&RIGHT(B203,LEN(B203)-(SEARCH(Display1!$G$2,B203)+LEN(Display1!$G$2)+2))-Display1!$J$3","v":"C.US.CLE2N174200"}]
[{"$f":"IFERROR(IF(OR(ISTEXT(RTD(\"cqg.rtd\",,\"OrderData\",\"\"&B205&\"\",\"\",\"OpenPosition\",\"\"&Display1!$D$3&\"\")),RTD(\"cqg.rtd\",,\"OrderData\",\"\"&B205&\"\",\"\",\"OpenPosition\",\"\"&Display1!$D$3&\"\")=0),A204+0.001,INT(A204)+1),A204)","v":0.20500000000000015},{"$f":"(LEFT(B204,SEARCH(Display1!$G$2,B204)+LEN(Display1!$G$2)+2))&RIGHT(B204,LEN(B204)-(SEARCH(Display1!$G$2,B204)+LEN(Display1!$G$2)+2))-Display1!$J$3","v":"C.US.CLE2N174150"}]
[{"$f":"IFERROR(IF(OR(ISTEXT(RTD(\"cqg.rtd\",,\"OrderData\",\"\"&B206&\"\",\"\",\"OpenPosition\",\"\"&Display1!$D$3&\"\")),RTD(\"cqg.rtd\",,\"OrderData\",\"\"&B206&\"\",\"\",\"OpenPosition\",\"\"&Display1!$D$3&\"\")=0),A205+0.001,INT(A205)+1),A205)","v":0.20600000000000016},{"$f":"(LEFT(B205,SEARCH(Display1!$G$2,B205)+LEN(Display1!$G$2)+2))&RIGHT(B205,LEN(B205)-(SEARCH(Display1!$G$2,B205)+LEN(Display1!$G$2)+2))-Display1!$J$3","v":"C.US.CLE2N174100"}]
[{"$f":"IFERROR(IF(OR(ISTEXT(RTD(\"cqg.rtd\",,\"OrderData\",\"\"&B207&\"\",\"\",\"OpenPosition\",\"\"&Display1!$D$3&\"\")),RTD(\"cqg.rtd\",,\"OrderData\",\"\"&B207&\"\",\"\",\"OpenPosition\",\"\"&Display1!$D$3&\"\")=0),A206+0.001,INT(A206)+1),A206)","v":0.20700000000000016},{"$f":"(LEFT(B206,SEARCH(Display1!$G$2,B206)+LEN(Display1!$G$2)+2))&RIGHT(B206,LEN(B206)-(SEARCH(Display1!$G$2,B206)+LEN(Display1!$G$2)+2))-Display1!$J$3","v":"C.US.CLE2N174050"}]
[{"$f":"IFERROR(IF(OR(ISTEXT(RTD(\"cqg.rtd\",,\"OrderData\",\"\"&B208&\"\",\"\",\"OpenPosition\",\"\"&Display1!$D$3&\"\")),RTD(\"cqg.rtd\",,\"OrderData\",\"\"&B208&\"\",\"\",\"OpenPosition\",\"\"&Display1!$D$3&\"\")=0),A207+0.001,INT(A207)+1),A207)","v":0.20800000000000016},{"$f":"(LEFT(B207,SEARCH(Display1!$G$2,B207)+LEN(Display1!$G$2)+2))&RIGHT(B207,LEN(B207)-(SEARCH(Display1!$G$2,B207)+LEN(Display1!$G$2)+2))-Display1!$J$3","v":"C.US.CLE2N174000"}]
[{"$f":"IFERROR(IF(OR(ISTEXT(RTD(\"cqg.rtd\",,\"OrderData\",\"\"&B209&\"\",\"\",\"OpenPosition\",\"\"&Display1!$D$3&\"\")),RTD(\"cqg.rtd\",,\"OrderData\",\"\"&B209&\"\",\"\",\"OpenPosition\",\"\"&Display1!$D$3&\"\")=0),A208+0.001,INT(A208)+1),A208)","v":0.20900000000000016},{"$f":"(LEFT(B208,SEARCH(Display1!$G$2,B208)+LEN(Display1!$G$2)+2))&RIGHT(B208,LEN(B208)-(SEARCH(Display1!$G$2,B208)+LEN(Display1!$G$2)+2))-Display1!$J$3","v":"C.US.CLE2N173950"}]
[{"$f":"IFERROR(IF(OR(ISTEXT(RTD(\"cqg.rtd\",,\"OrderData\",\"\"&B210&\"\",\"\",\"OpenPosition\",\"\"&Display1!$D$3&\"\")),RTD(\"cqg.rtd\",,\"OrderData\",\"\"&B210&\"\",\"\",\"OpenPosition\",\"\"&Display1!$D$3&\"\")=0),A209+0.001,INT(A209)+1),A209)","v":0.21000000000000016},{"$f":"(LEFT(B209,SEARCH(Display1!$G$2,B209)+LEN(Display1!$G$2)+2))&RIGHT(B209,LEN(B209)-(SEARCH(Display1!$G$2,B209)+LEN(Display1!$G$2)+2))-Display1!$J$3","v":"C.US.CLE2N173900"}]
[{"$f":"IFERROR(IF(OR(ISTEXT(RTD(\"cqg.rtd\",,\"OrderData\",\"\"&B211&\"\",\"\",\"OpenPosition\",\"\"&Display1!$D$3&\"\")),RTD(\"cqg.rtd\",,\"OrderData\",\"\"&B211&\"\",\"\",\"OpenPosition\",\"\"&Display1!$D$3&\"\")=0),A210+0.001,INT(A210)+1),A210)","v":0.21100000000000016},{"$f":"(LEFT(B210,SEARCH(Display1!$G$2,B210)+LEN(Display1!$G$2)+2))&RIGHT(B210,LEN(B210)-(SEARCH(Display1!$G$2,B210)+LEN(Display1!$G$2)+2))-Display1!$J$3","v":"C.US.CLE2N173850"}]
[{"$f":"IFERROR(IF(OR(ISTEXT(RTD(\"cqg.rtd\",,\"OrderData\",\"\"&B212&\"\",\"\",\"OpenPosition\",\"\"&Display1!$D$3&\"\")),RTD(\"cqg.rtd\",,\"OrderData\",\"\"&B212&\"\",\"\",\"OpenPosition\",\"\"&Display1!$D$3&\"\")=0),A211+0.001,INT(A211)+1),A211)","v":0.21200000000000016},{"$f":"(LEFT(B211,SEARCH(Display1!$G$2,B211)+LEN(Display1!$G$2)+2))&RIGHT(B211,LEN(B211)-(SEARCH(Display1!$G$2,B211)+LEN(Display1!$G$2)+2))-Display1!$J$3","v":"C.US.CLE2N173800"}]
[{"$f":"IFERROR(IF(OR(ISTEXT(RTD(\"cqg.rtd\",,\"OrderData\",\"\"&B213&\"\",\"\",\"OpenPosition\",\"\"&Display1!$D$3&\"\")),RTD(\"cqg.rtd\",,\"OrderData\",\"\"&B213&\"\",\"\",\"OpenPosition\",\"\"&Display1!$D$3&\"\")=0),A212+0.001,INT(A212)+1),A212)","v":0.21300000000000016},{"$f":"(LEFT(B212,SEARCH(Display1!$G$2,B212)+LEN(Display1!$G$2)+2))&RIGHT(B212,LEN(B212)-(SEARCH(Display1!$G$2,B212)+LEN(Display1!$G$2)+2))-Display1!$J$3","v":"C.US.CLE2N173750"}]
[{"$f":"IFERROR(IF(OR(ISTEXT(RTD(\"cqg.rtd\",,\"OrderData\",\"\"&B214&\"\",\"\",\"OpenPosition\",\"\"&Display1!$D$3&\"\")),RTD(\"cqg.rtd\",,\"OrderData\",\"\"&B214&\"\",\"\",\"OpenPosition\",\"\"&Display1!$D$3&\"\")=0),A213+0.001,INT(A213)+1),A213)","v":0.21400000000000016},{"$f":"(LEFT(B213,SEARCH(Display1!$G$2,B213)+LEN(Display1!$G$2)+2))&RIGHT(B213,LEN(B213)-(SEARCH(Display1!$G$2,B213)+LEN(Display1!$G$2)+2))-Display1!$J$3","v":"C.US.CLE2N173700"}]
[{"$f":"IFERROR(IF(OR(ISTEXT(RTD(\"cqg.rtd\",,\"OrderData\",\"\"&B215&\"\",\"\",\"OpenPosition\",\"\"&Display1!$D$3&\"\")),RTD(\"cqg.rtd\",,\"OrderData\",\"\"&B215&\"\",\"\",\"OpenPosition\",\"\"&Display1!$D$3&\"\")=0),A214+0.001,INT(A214)+1),A214)","v":0.21500000000000016},{"$f":"(LEFT(B214,SEARCH(Display1!$G$2,B214)+LEN(Display1!$G$2)+2))&RIGHT(B214,LEN(B214)-(SEARCH(Display1!$G$2,B214)+LEN(Display1!$G$2)+2))-Display1!$J$3","v":"C.US.CLE2N173650"}]
[{"$f":"IFERROR(IF(OR(ISTEXT(RTD(\"cqg.rtd\",,\"OrderData\",\"\"&B216&\"\",\"\",\"OpenPosition\",\"\"&Display1!$D$3&\"\")),RTD(\"cqg.rtd\",,\"OrderData\",\"\"&B216&\"\",\"\",\"OpenPosition\",\"\"&Display1!$D$3&\"\")=0),A215+0.001,INT(A215)+1),A215)","v":0.21600000000000016},{"$f":"(LEFT(B215,SEARCH(Display1!$G$2,B215)+LEN(Display1!$G$2)+2))&RIGHT(B215,LEN(B215)-(SEARCH(Display1!$G$2,B215)+LEN(Display1!$G$2)+2))-Display1!$J$3","v":"C.US.CLE2N173600"}]
[{"$f":"IFERROR(IF(OR(ISTEXT(RTD(\"cqg.rtd\",,\"OrderData\",\"\"&B217&\"\",\"\",\"OpenPosition\",\"\"&Display1!$D$3&\"\")),RTD(\"cqg.rtd\",,\"OrderData\",\"\"&B217&\"\",\"\",\"OpenPosition\",\"\"&Display1!$D$3&\"\")=0),A216+0.001,INT(A216)+1),A216)","v":0.21700000000000016},{"$f":"(LEFT(B216,SEARCH(Display1!$G$2,B216)+LEN(Display1!$G$2)+2))&RIGHT(B216,LEN(B216)-(SEARCH(Display1!$G$2,B216)+LEN(Display1!$G$2)+2))-Display1!$J$3","v":"C.US.CLE2N173550"}]
[{"$f":"IFERROR(IF(OR(ISTEXT(RTD(\"cqg.rtd\",,\"OrderData\",\"\"&B218&\"\",\"\",\"OpenPosition\",\"\"&Display1!$D$3&\"\")),RTD(\"cqg.rtd\",,\"OrderData\",\"\"&B218&\"\",\"\",\"OpenPosition\",\"\"&Display1!$D$3&\"\")=0),A217+0.001,INT(A217)+1),A217)","v":0.21800000000000017},{"$f":"(LEFT(B217,SEARCH(Display1!$G$2,B217)+LEN(Display1!$G$2)+2))&RIGHT(B217,LEN(B217)-(SEARCH(Display1!$G$2,B217)+LEN(Display1!$G$2)+2))-Display1!$J$3","v":"C.US.CLE2N173500"}]
[{"$f":"IFERROR(IF(OR(ISTEXT(RTD(\"cqg.rtd\",,\"OrderData\",\"\"&B219&\"\",\"\",\"OpenPosition\",\"\"&Display1!$D$3&\"\")),RTD(\"cqg.rtd\",,\"OrderData\",\"\"&B219&\"\",\"\",\"OpenPosition\",\"\"&Display1!$D$3&\"\")=0),A218+0.001,INT(A218)+1),A218)","v":0.21900000000000017},{"$f":"(LEFT(B218,SEARCH(Display1!$G$2,B218)+LEN(Display1!$G$2)+2))&RIGHT(B218,LEN(B218)-(SEARCH(Display1!$G$2,B218)+LEN(Display1!$G$2)+2))-Display1!$J$3","v":"C.US.CLE2N173450"}]
[{"$f":"IFERROR(IF(OR(ISTEXT(RTD(\"cqg.rtd\",,\"OrderData\",\"\"&B220&\"\",\"\",\"OpenPosition\",\"\"&Display1!$D$3&\"\")),RTD(\"cqg.rtd\",,\"OrderData\",\"\"&B220&\"\",\"\",\"OpenPosition\",\"\"&Display1!$D$3&\"\")=0),A219+0.001,INT(A219)+1),A219)","v":0.22000000000000017},{"$f":"(LEFT(B219,SEARCH(Display1!$G$2,B219)+LEN(Display1!$G$2)+2))&RIGHT(B219,LEN(B219)-(SEARCH(Display1!$G$2,B219)+LEN(Display1!$G$2)+2))-Display1!$J$3","v":"C.US.CLE2N173400"}]
[{"$f":"IFERROR(IF(OR(ISTEXT(RTD(\"cqg.rtd\",,\"OrderData\",\"\"&B221&\"\",\"\",\"OpenPosition\",\"\"&Display1!$D$3&\"\")),RTD(\"cqg.rtd\",,\"OrderData\",\"\"&B221&\"\",\"\",\"OpenPosition\",\"\"&Display1!$D$3&\"\")=0),A220+0.001,INT(A220)+1),A220)","v":0.22100000000000017},{"$f":"(LEFT(B220,SEARCH(Display1!$G$2,B220)+LEN(Display1!$G$2)+2))&RIGHT(B220,LEN(B220)-(SEARCH(Display1!$G$2,B220)+LEN(Display1!$G$2)+2))-Display1!$J$3","v":"C.US.CLE2N173350"}]
[{"$f":"IFERROR(IF(OR(ISTEXT(RTD(\"cqg.rtd\",,\"OrderData\",\"\"&B222&\"\",\"\",\"OpenPosition\",\"\"&Display1!$D$3&\"\")),RTD(\"cqg.rtd\",,\"OrderData\",\"\"&B222&\"\",\"\",\"OpenPosition\",\"\"&Display1!$D$3&\"\")=0),A221+0.001,INT(A221)+1),A221)","v":0.22200000000000017},{"$f":"(LEFT(B221,SEARCH(Display1!$G$2,B221)+LEN(Display1!$G$2)+2))&RIGHT(B221,LEN(B221)-(SEARCH(Display1!$G$2,B221)+LEN(Display1!$G$2)+2))-Display1!$J$3","v":"C.US.CLE2N173300"}]
[{"$f":"IFERROR(IF(OR(ISTEXT(RTD(\"cqg.rtd\",,\"OrderData\",\"\"&B223&\"\",\"\",\"OpenPosition\",\"\"&Display1!$D$3&\"\")),RTD(\"cqg.rtd\",,\"OrderData\",\"\"&B223&\"\",\"\",\"OpenPosition\",\"\"&Display1!$D$3&\"\")=0),A222+0.001,INT(A222)+1),A222)","v":0.22300000000000017},{"$f":"(LEFT(B222,SEARCH(Display1!$G$2,B222)+LEN(Display1!$G$2)+2))&RIGHT(B222,LEN(B222)-(SEARCH(Display1!$G$2,B222)+LEN(Display1!$G$2)+2))-Display1!$J$3","v":"C.US.CLE2N173250"}]
[{"$f":"IFERROR(IF(OR(ISTEXT(RTD(\"cqg.rtd\",,\"OrderData\",\"\"&B224&\"\",\"\",\"OpenPosition\",\"\"&Display1!$D$3&\"\")),RTD(\"cqg.rtd\",,\"OrderData\",\"\"&B224&\"\",\"\",\"OpenPosition\",\"\"&Display1!$D$3&\"\")=0),A223+0.001,INT(A223)+1),A223)","v":0.22400000000000017},{"$f":"(LEFT(B223,SEARCH(Display1!$G$2,B223)+LEN(Display1!$G$2)+2))&RIGHT(B223,LEN(B223)-(SEARCH(Display1!$G$2,B223)+LEN(Display1!$G$2)+2))-Display1!$J$3","v":"C.US.CLE2N173200"}]
[{"$f":"IFERROR(IF(OR(ISTEXT(RTD(\"cqg.rtd\",,\"OrderData\",\"\"&B225&\"\",\"\",\"OpenPosition\",\"\"&Display1!$D$3&\"\")),RTD(\"cqg.rtd\",,\"OrderData\",\"\"&B225&\"\",\"\",\"OpenPosition\",\"\"&Display1!$D$3&\"\")=0),A224+0.001,INT(A224)+1),A224)","v":0.22500000000000017},{"$f":"(LEFT(B224,SEARCH(Display1!$G$2,B224)+LEN(Display1!$G$2)+2))&RIGHT(B224,LEN(B224)-(SEARCH(Display1!$G$2,B224)+LEN(Display1!$G$2)+2))-Display1!$J$3","v":"C.US.CLE2N173150"}]
[{"$f":"IFERROR(IF(OR(ISTEXT(RTD(\"cqg.rtd\",,\"OrderData\",\"\"&B226&\"\",\"\",\"OpenPosition\",\"\"&Display1!$D$3&\"\")),RTD(\"cqg.rtd\",,\"OrderData\",\"\"&B226&\"\",\"\",\"OpenPosition\",\"\"&Display1!$D$3&\"\")=0),A225+0.001,INT(A225)+1),A225)","v":0.22600000000000017},{"$f":"(LEFT(B225,SEARCH(Display1!$G$2,B225)+LEN(Display1!$G$2)+2))&RIGHT(B225,LEN(B225)-(SEARCH(Display1!$G$2,B225)+LEN(Display1!$G$2)+2))-Display1!$J$3","v":"C.US.CLE2N173100"}]
[{"$f":"IFERROR(IF(OR(ISTEXT(RTD(\"cqg.rtd\",,\"OrderData\",\"\"&B227&\"\",\"\",\"OpenPosition\",\"\"&Display1!$D$3&\"\")),RTD(\"cqg.rtd\",,\"OrderData\",\"\"&B227&\"\",\"\",\"OpenPosition\",\"\"&Display1!$D$3&\"\")=0),A226+0.001,INT(A226)+1),A226)","v":0.22700000000000017},{"$f":"(LEFT(B226,SEARCH(Display1!$G$2,B226)+LEN(Display1!$G$2)+2))&RIGHT(B226,LEN(B226)-(SEARCH(Display1!$G$2,B226)+LEN(Display1!$G$2)+2))-Display1!$J$3","v":"C.US.CLE2N173050"}]
[{"$f":"IFERROR(IF(OR(ISTEXT(RTD(\"cqg.rtd\",,\"OrderData\",\"\"&B228&\"\",\"\",\"OpenPosition\",\"\"&Display1!$D$3&\"\")),RTD(\"cqg.rtd\",,\"OrderData\",\"\"&B228&\"\",\"\",\"OpenPosition\",\"\"&Display1!$D$3&\"\")=0),A227+0.001,INT(A227)+1),A227)","v":0.22800000000000017},{"$f":"(LEFT(B227,SEARCH(Display1!$G$2,B227)+LEN(Display1!$G$2)+2))&RIGHT(B227,LEN(B227)-(SEARCH(Display1!$G$2,B227)+LEN(Display1!$G$2)+2))-Display1!$J$3","v":"C.US.CLE2N173000"}]
[{"$f":"IFERROR(IF(OR(ISTEXT(RTD(\"cqg.rtd\",,\"OrderData\",\"\"&B229&\"\",\"\",\"OpenPosition\",\"\"&Display1!$D$3&\"\")),RTD(\"cqg.rtd\",,\"OrderData\",\"\"&B229&\"\",\"\",\"OpenPosition\",\"\"&Display1!$D$3&\"\")=0),A228+0.001,INT(A228)+1),A228)","v":0.22900000000000018},{"$f":"(LEFT(B228,SEARCH(Display1!$G$2,B228)+LEN(Display1!$G$2)+2))&RIGHT(B228,LEN(B228)-(SEARCH(Display1!$G$2,B228)+LEN(Display1!$G$2)+2))-Display1!$J$3","v":"C.US.CLE2N172950"}]
[{"$f":"IFERROR(IF(OR(ISTEXT(RTD(\"cqg.rtd\",,\"OrderData\",\"\"&B230&\"\",\"\",\"OpenPosition\",\"\"&Display1!$D$3&\"\")),RTD(\"cqg.rtd\",,\"OrderData\",\"\"&B230&\"\",\"\",\"OpenPosition\",\"\"&Display1!$D$3&\"\")=0),A229+0.001,INT(A229)+1),A229)","v":0.23000000000000018},{"$f":"(LEFT(B229,SEARCH(Display1!$G$2,B229)+LEN(Display1!$G$2)+2))&RIGHT(B229,LEN(B229)-(SEARCH(Display1!$G$2,B229)+LEN(Display1!$G$2)+2))-Display1!$J$3","v":"C.US.CLE2N172900"}]
[{"$f":"IFERROR(IF(OR(ISTEXT(RTD(\"cqg.rtd\",,\"OrderData\",\"\"&B231&\"\",\"\",\"OpenPosition\",\"\"&Display1!$D$3&\"\")),RTD(\"cqg.rtd\",,\"OrderData\",\"\"&B231&\"\",\"\",\"OpenPosition\",\"\"&Display1!$D$3&\"\")=0),A230+0.001,INT(A230)+1),A230)","v":0.23100000000000018},{"$f":"(LEFT(B230,SEARCH(Display1!$G$2,B230)+LEN(Display1!$G$2)+2))&RIGHT(B230,LEN(B230)-(SEARCH(Display1!$G$2,B230)+LEN(Display1!$G$2)+2))-Display1!$J$3","v":"C.US.CLE2N172850"}]
[{"$f":"IFERROR(IF(OR(ISTEXT(RTD(\"cqg.rtd\",,\"OrderData\",\"\"&B232&\"\",\"\",\"OpenPosition\",\"\"&Display1!$D$3&\"\")),RTD(\"cqg.rtd\",,\"OrderData\",\"\"&B232&\"\",\"\",\"OpenPosition\",\"\"&Display1!$D$3&\"\")=0),A231+0.001,INT(A231)+1),A231)","v":0.23200000000000018},{"$f":"(LEFT(B231,SEARCH(Display1!$G$2,B231)+LEN(Display1!$G$2)+2))&RIGHT(B231,LEN(B231)-(SEARCH(Display1!$G$2,B231)+LEN(Display1!$G$2)+2))-Display1!$J$3","v":"C.US.CLE2N172800"}]
[{"$f":"IFERROR(IF(OR(ISTEXT(RTD(\"cqg.rtd\",,\"OrderData\",\"\"&B233&\"\",\"\",\"OpenPosition\",\"\"&Display1!$D$3&\"\")),RTD(\"cqg.rtd\",,\"OrderData\",\"\"&B233&\"\",\"\",\"OpenPosition\",\"\"&Display1!$D$3&\"\")=0),A232+0.001,INT(A232)+1),A232)","v":0.23300000000000018},{"$f":"(LEFT(B232,SEARCH(Display1!$G$2,B232)+LEN(Display1!$G$2)+2))&RIGHT(B232,LEN(B232)-(SEARCH(Display1!$G$2,B232)+LEN(Display1!$G$2)+2))-Display1!$J$3","v":"C.US.CLE2N172750"}]
[{"$f":"IFERROR(IF(OR(ISTEXT(RTD(\"cqg.rtd\",,\"OrderData\",\"\"&B234&\"\",\"\",\"OpenPosition\",\"\"&Display1!$D$3&\"\")),RTD(\"cqg.rtd\",,\"OrderData\",\"\"&B234&\"\",\"\",\"OpenPosition\",\"\"&Display1!$D$3&\"\")=0),A233+0.001,INT(A233)+1),A233)","v":0.23400000000000018},{"$f":"(LEFT(B233,SEARCH(Display1!$G$2,B233)+LEN(Display1!$G$2)+2))&RIGHT(B233,LEN(B233)-(SEARCH(Display1!$G$2,B233)+LEN(Display1!$G$2)+2))-Display1!$J$3","v":"C.US.CLE2N172700"}]
[{"$f":"IFERROR(IF(OR(ISTEXT(RTD(\"cqg.rtd\",,\"OrderData\",\"\"&B235&\"\",\"\",\"OpenPosition\",\"\"&Display1!$D$3&\"\")),RTD(\"cqg.rtd\",,\"OrderData\",\"\"&B235&\"\",\"\",\"OpenPosition\",\"\"&Display1!$D$3&\"\")=0),A234+0.001,INT(A234)+1),A234)","v":0.23500000000000018},{"$f":"(LEFT(B234,SEARCH(Display1!$G$2,B234)+LEN(Display1!$G$2)+2))&RIGHT(B234,LEN(B234)-(SEARCH(Display1!$G$2,B234)+LEN(Display1!$G$2)+2))-Display1!$J$3","v":"C.US.CLE2N172650"}]
[{"$f":"IFERROR(IF(OR(ISTEXT(RTD(\"cqg.rtd\",,\"OrderData\",\"\"&B236&\"\",\"\",\"OpenPosition\",\"\"&Display1!$D$3&\"\")),RTD(\"cqg.rtd\",,\"OrderData\",\"\"&B236&\"\",\"\",\"OpenPosition\",\"\"&Display1!$D$3&\"\")=0),A235+0.001,INT(A235)+1),A235)","v":0.23600000000000018},{"$f":"(LEFT(B235,SEARCH(Display1!$G$2,B235)+LEN(Display1!$G$2)+2))&RIGHT(B235,LEN(B235)-(SEARCH(Display1!$G$2,B235)+LEN(Display1!$G$2)+2))-Display1!$J$3","v":"C.US.CLE2N172600"}]
[{"$f":"IFERROR(IF(OR(ISTEXT(RTD(\"cqg.rtd\",,\"OrderData\",\"\"&B237&\"\",\"\",\"OpenPosition\",\"\"&Display1!$D$3&\"\")),RTD(\"cqg.rtd\",,\"OrderData\",\"\"&B237&\"\",\"\",\"OpenPosition\",\"\"&Display1!$D$3&\"\")=0),A236+0.001,INT(A236)+1),A236)","v":0.23700000000000018},{"$f":"(LEFT(B236,SEARCH(Display1!$G$2,B236)+LEN(Display1!$G$2)+2))&RIGHT(B236,LEN(B236)-(SEARCH(Display1!$G$2,B236)+LEN(Display1!$G$2)+2))-Display1!$J$3","v":"C.US.CLE2N172550"}]
[{"$f":"IFERROR(IF(OR(ISTEXT(RTD(\"cqg.rtd\",,\"OrderData\",\"\"&B238&\"\",\"\",\"OpenPosition\",\"\"&Display1!$D$3&\"\")),RTD(\"cqg.rtd\",,\"OrderData\",\"\"&B238&\"\",\"\",\"OpenPosition\",\"\"&Display1!$D$3&\"\")=0),A237+0.001,INT(A237)+1),A237)","v":0.23800000000000018},{"$f":"(LEFT(B237,SEARCH(Display1!$G$2,B237)+LEN(Display1!$G$2)+2))&RIGHT(B237,LEN(B237)-(SEARCH(Display1!$G$2,B237)+LEN(Display1!$G$2)+2))-Display1!$J$3","v":"C.US.CLE2N172500"}]
[{"$f":"IFERROR(IF(OR(ISTEXT(RTD(\"cqg.rtd\",,\"OrderData\",\"\"&B239&\"\",\"\",\"OpenPosition\",\"\"&Display1!$D$3&\"\")),RTD(\"cqg.rtd\",,\"OrderData\",\"\"&B239&\"\",\"\",\"OpenPosition\",\"\"&Display1!$D$3&\"\")=0),A238+0.001,INT(A238)+1),A238)","v":0.23900000000000018},{"$f":"(LEFT(B238,SEARCH(Display1!$G$2,B238)+LEN(Display1!$G$2)+2))&RIGHT(B238,LEN(B238)-(SEARCH(Display1!$G$2,B238)+LEN(Display1!$G$2)+2))-Display1!$J$3","v":"C.US.CLE2N172450"}]
[{"$f":"IFERROR(IF(OR(ISTEXT(RTD(\"cqg.rtd\",,\"OrderData\",\"\"&B240&\"\",\"\",\"OpenPosition\",\"\"&Display1!$D$3&\"\")),RTD(\"cqg.rtd\",,\"OrderData\",\"\"&B240&\"\",\"\",\"OpenPosition\",\"\"&Display1!$D$3&\"\")=0),A239+0.001,INT(A239)+1),A239)","v":0.24000000000000019},{"$f":"(LEFT(B239,SEARCH(Display1!$G$2,B239)+LEN(Display1!$G$2)+2))&RIGHT(B239,LEN(B239)-(SEARCH(Display1!$G$2,B239)+LEN(Display1!$G$2)+2))-Display1!$J$3","v":"C.US.CLE2N172400"}]
[{"$f":"IFERROR(IF(OR(ISTEXT(RTD(\"cqg.rtd\",,\"OrderData\",\"\"&B241&\"\",\"\",\"OpenPosition\",\"\"&Display1!$D$3&\"\")),RTD(\"cqg.rtd\",,\"OrderData\",\"\"&B241&\"\",\"\",\"OpenPosition\",\"\"&Display1!$D$3&\"\")=0),A240+0.001,INT(A240)+1),A240)","v":0.24100000000000019},{"$f":"(LEFT(B240,SEARCH(Display1!$G$2,B240)+LEN(Display1!$G$2)+2))&RIGHT(B240,LEN(B240)-(SEARCH(Display1!$G$2,B240)+LEN(Display1!$G$2)+2))-Display1!$J$3","v":"C.US.CLE2N172350"}]
[{"$f":"IFERROR(IF(OR(ISTEXT(RTD(\"cqg.rtd\",,\"OrderData\",\"\"&B242&\"\",\"\",\"OpenPosition\",\"\"&Display1!$D$3&\"\")),RTD(\"cqg.rtd\",,\"OrderData\",\"\"&B242&\"\",\"\",\"OpenPosition\",\"\"&Display1!$D$3&\"\")=0),A241+0.001,INT(A241)+1),A241)","v":0.24200000000000019},{"$f":"(LEFT(B241,SEARCH(Display1!$G$2,B241)+LEN(Display1!$G$2)+2))&RIGHT(B241,LEN(B241)-(SEARCH(Display1!$G$2,B241)+LEN(Display1!$G$2)+2))-Display1!$J$3","v":"C.US.CLE2N172300"}]
[{"$f":"IFERROR(IF(OR(ISTEXT(RTD(\"cqg.rtd\",,\"OrderData\",\"\"&B243&\"\",\"\",\"OpenPosition\",\"\"&Display1!$D$3&\"\")),RTD(\"cqg.rtd\",,\"OrderData\",\"\"&B243&\"\",\"\",\"OpenPosition\",\"\"&Display1!$D$3&\"\")=0),A242+0.001,INT(A242)+1),A242)","v":0.24300000000000019},{"$f":"(LEFT(B244,SEARCH(Display1!$G$2,B244)+LEN(Display1!$G$2)+2))&RIGHT(B244,LEN(B244)-(SEARCH(Display1!$G$2,B244)+LEN(Display1!$G$2)+2))+Display1!$J$3","v":"P.US.CLE2N176300"}]
[{"$f":"IFERROR(IF(OR(ISTEXT(RTD(\"cqg.rtd\",,\"OrderData\",\"\"&B244&\"\",\"\",\"OpenPosition\",\"\"&Display1!$D$3&\"\")),RTD(\"cqg.rtd\",,\"OrderData\",\"\"&B244&\"\",\"\",\"OpenPosition\",\"\"&Display1!$D$3&\"\")=0),A243+0.001,INT(A243)+1),A243)","v":0.24400000000000019},{"$f":"(LEFT(B245,SEARCH(Display1!$G$2,B245)+LEN(Display1!$G$2)+2))&RIGHT(B245,LEN(B245)-(SEARCH(Display1!$G$2,B245)+LEN(Display1!$G$2)+2))+Display1!$J$3","v":"P.US.CLE2N176250"}]
[{"$f":"IFERROR(IF(OR(ISTEXT(RTD(\"cqg.rtd\",,\"OrderData\",\"\"&B245&\"\",\"\",\"OpenPosition\",\"\"&Display1!$D$3&\"\")),RTD(\"cqg.rtd\",,\"OrderData\",\"\"&B245&\"\",\"\",\"OpenPosition\",\"\"&Display1!$D$3&\"\")=0),A244+0.001,INT(A244)+1),A244)","v":0.24500000000000019},{"$f":"(LEFT(B246,SEARCH(Display1!$G$2,B246)+LEN(Display1!$G$2)+2))&RIGHT(B246,LEN(B246)-(SEARCH(Display1!$G$2,B246)+LEN(Display1!$G$2)+2))+Display1!$J$3","v":"P.US.CLE2N176200"}]
[{"$f":"IFERROR(IF(OR(ISTEXT(RTD(\"cqg.rtd\",,\"OrderData\",\"\"&B246&\"\",\"\",\"OpenPosition\",\"\"&Display1!$D$3&\"\")),RTD(\"cqg.rtd\",,\"OrderData\",\"\"&B246&\"\",\"\",\"OpenPosition\",\"\"&Display1!$D$3&\"\")=0),A245+0.001,INT(A245)+1),A245)","v":0.24600000000000019},{"$f":"(LEFT(B247,SEARCH(Display1!$G$2,B247)+LEN(Display1!$G$2)+2))&RIGHT(B247,LEN(B247)-(SEARCH(Display1!$G$2,B247)+LEN(Display1!$G$2)+2))+Display1!$J$3","v":"P.US.CLE2N176150"}]
[{"$f":"IFERROR(IF(OR(ISTEXT(RTD(\"cqg.rtd\",,\"OrderData\",\"\"&B247&\"\",\"\",\"OpenPosition\",\"\"&Display1!$D$3&\"\")),RTD(\"cqg.rtd\",,\"OrderData\",\"\"&B247&\"\",\"\",\"OpenPosition\",\"\"&Display1!$D$3&\"\")=0),A246+0.001,INT(A246)+1),A246)","v":0.24700000000000019},{"$f":"(LEFT(B248,SEARCH(Display1!$G$2,B248)+LEN(Display1!$G$2)+2))&RIGHT(B248,LEN(B248)-(SEARCH(Display1!$G$2,B248)+LEN(Display1!$G$2)+2))+Display1!$J$3","v":"P.US.CLE2N176100"}]
[{"$f":"IFERROR(IF(OR(ISTEXT(RTD(\"cqg.rtd\",,\"OrderData\",\"\"&B248&\"\",\"\",\"OpenPosition\",\"\"&Display1!$D$3&\"\")),RTD(\"cqg.rtd\",,\"OrderData\",\"\"&B248&\"\",\"\",\"OpenPosition\",\"\"&Display1!$D$3&\"\")=0),A247+0.001,INT(A247)+1),A247)","v":0.24800000000000019},{"$f":"(LEFT(B249,SEARCH(Display1!$G$2,B249)+LEN(Display1!$G$2)+2))&RIGHT(B249,LEN(B249)-(SEARCH(Display1!$G$2,B249)+LEN(Display1!$G$2)+2))+Display1!$J$3","v":"P.US.CLE2N176050"}]
[{"$f":"IFERROR(IF(OR(ISTEXT(RTD(\"cqg.rtd\",,\"OrderData\",\"\"&B249&\"\",\"\",\"OpenPosition\",\"\"&Display1!$D$3&\"\")),RTD(\"cqg.rtd\",,\"OrderData\",\"\"&B249&\"\",\"\",\"OpenPosition\",\"\"&Display1!$D$3&\"\")=0),A248+0.001,INT(A248)+1),A248)","v":0.24900000000000019},{"$f":"(LEFT(B250,SEARCH(Display1!$G$2,B250)+LEN(Display1!$G$2)+2))&RIGHT(B250,LEN(B250)-(SEARCH(Display1!$G$2,B250)+LEN(Display1!$G$2)+2))+Display1!$J$3","v":"P.US.CLE2N176000"}]
[{"$f":"IFERROR(IF(OR(ISTEXT(RTD(\"cqg.rtd\",,\"OrderData\",\"\"&B250&\"\",\"\",\"OpenPosition\",\"\"&Display1!$D$3&\"\")),RTD(\"cqg.rtd\",,\"OrderData\",\"\"&B250&\"\",\"\",\"OpenPosition\",\"\"&Display1!$D$3&\"\")=0),A249+0.001,INT(A249)+1),A249)","v":0.25000000000000017},{"$f":"(LEFT(B251,SEARCH(Display1!$G$2,B251)+LEN(Display1!$G$2)+2))&RIGHT(B251,LEN(B251)-(SEARCH(Display1!$G$2,B251)+LEN(Display1!$G$2)+2))+Display1!$J$3","v":"P.US.CLE2N175950"}]
[{"$f":"IFERROR(IF(OR(ISTEXT(RTD(\"cqg.rtd\",,\"OrderData\",\"\"&B251&\"\",\"\",\"OpenPosition\",\"\"&Display1!$D$3&\"\")),RTD(\"cqg.rtd\",,\"OrderData\",\"\"&B251&\"\",\"\",\"OpenPosition\",\"\"&Display1!$D$3&\"\")=0),A250+0.001,INT(A250)+1),A250)","v":0.25100000000000017},{"$f":"(LEFT(B252,SEARCH(Display1!$G$2,B252)+LEN(Display1!$G$2)+2))&RIGHT(B252,LEN(B252)-(SEARCH(Display1!$G$2,B252)+LEN(Display1!$G$2)+2))+Display1!$J$3","v":"P.US.CLE2N175900"}]
[{"$f":"IFERROR(IF(OR(ISTEXT(RTD(\"cqg.rtd\",,\"OrderData\",\"\"&B252&\"\",\"\",\"OpenPosition\",\"\"&Display1!$D$3&\"\")),RTD(\"cqg.rtd\",,\"OrderData\",\"\"&B252&\"\",\"\",\"OpenPosition\",\"\"&Display1!$D$3&\"\")=0),A251+0.001,INT(A251)+1),A251)","v":0.25200000000000017},{"$f":"(LEFT(B253,SEARCH(Display1!$G$2,B253)+LEN(Display1!$G$2)+2))&RIGHT(B253,LEN(B253)-(SEARCH(Display1!$G$2,B253)+LEN(Display1!$G$2)+2))+Display1!$J$3","v":"P.US.CLE2N175850"}]
[{"$f":"IFERROR(IF(OR(ISTEXT(RTD(\"cqg.rtd\",,\"OrderData\",\"\"&B253&\"\",\"\",\"OpenPosition\",\"\"&Display1!$D$3&\"\")),RTD(\"cqg.rtd\",,\"OrderData\",\"\"&B253&\"\",\"\",\"OpenPosition\",\"\"&Display1!$D$3&\"\")=0),A252+0.001,INT(A252)+1),A252)","v":0.25300000000000017},{"$f":"(LEFT(B254,SEARCH(Display1!$G$2,B254)+LEN(Display1!$G$2)+2))&RIGHT(B254,LEN(B254)-(SEARCH(Display1!$G$2,B254)+LEN(Display1!$G$2)+2))+Display1!$J$3","v":"P.US.CLE2N175800"}]
[{"$f":"IFERROR(IF(OR(ISTEXT(RTD(\"cqg.rtd\",,\"OrderData\",\"\"&B254&\"\",\"\",\"OpenPosition\",\"\"&Display1!$D$3&\"\")),RTD(\"cqg.rtd\",,\"OrderData\",\"\"&B254&\"\",\"\",\"OpenPosition\",\"\"&Display1!$D$3&\"\")=0),A253+0.001,INT(A253)+1),A253)","v":0.25400000000000017},{"$f":"(LEFT(B255,SEARCH(Display1!$G$2,B255)+LEN(Display1!$G$2)+2))&RIGHT(B255,LEN(B255)-(SEARCH(Display1!$G$2,B255)+LEN(Display1!$G$2)+2))+Display1!$J$3","v":"P.US.CLE2N175750"}]
[{"$f":"IFERROR(IF(OR(ISTEXT(RTD(\"cqg.rtd\",,\"OrderData\",\"\"&B255&\"\",\"\",\"OpenPosition\",\"\"&Display1!$D$3&\"\")),RTD(\"cqg.rtd\",,\"OrderData\",\"\"&B255&\"\",\"\",\"OpenPosition\",\"\"&Display1!$D$3&\"\")=0),A254+0.001,INT(A254)+1),A254)","v":0.25500000000000017},{"$f":"(LEFT(B256,SEARCH(Display1!$G$2,B256)+LEN(Display1!$G$2)+2))&RIGHT(B256,LEN(B256)-(SEARCH(Display1!$G$2,B256)+LEN(Display1!$G$2)+2))+Display1!$J$3","v":"P.US.CLE2N175700"}]
[{"$f":"IFERROR(IF(OR(ISTEXT(RTD(\"cqg.rtd\",,\"OrderData\",\"\"&B256&\"\",\"\",\"OpenPosition\",\"\"&Display1!$D$3&\"\")),RTD(\"cqg.rtd\",,\"OrderData\",\"\"&B256&\"\",\"\",\"OpenPosition\",\"\"&Display1!$D$3&\"\")=0),A255+0.001,INT(A255)+1),A255)","v":0.25600000000000017},{"$f":"(LEFT(B257,SEARCH(Display1!$G$2,B257)+LEN(Display1!$G$2)+2))&RIGHT(B257,LEN(B257)-(SEARCH(Display1!$G$2,B257)+LEN(Display1!$G$2)+2))+Display1!$J$3","v":"P.US.CLE2N175650"}]
[{"$f":"IFERROR(IF(OR(ISTEXT(RTD(\"cqg.rtd\",,\"OrderData\",\"\"&B257&\"\",\"\",\"OpenPosition\",\"\"&Display1!$D$3&\"\")),RTD(\"cqg.rtd\",,\"OrderData\",\"\"&B257&\"\",\"\",\"OpenPosition\",\"\"&Display1!$D$3&\"\")=0),A256+0.001,INT(A256)+1),A256)","v":0.25700000000000017},{"$f":"(LEFT(B258,SEARCH(Display1!$G$2,B258)+LEN(Display1!$G$2)+2))&RIGHT(B258,LEN(B258)-(SEARCH(Display1!$G$2,B258)+LEN(Display1!$G$2)+2))+Display1!$J$3","v":"P.US.CLE2N175600"}]
[{"$f":"IFERROR(IF(OR(ISTEXT(RTD(\"cqg.rtd\",,\"OrderData\",\"\"&B258&\"\",\"\",\"OpenPosition\",\"\"&Display1!$D$3&\"\")),RTD(\"cqg.rtd\",,\"OrderData\",\"\"&B258&\"\",\"\",\"OpenPosition\",\"\"&Display1!$D$3&\"\")=0),A257+0.001,INT(A257)+1),A257)","v":0.25800000000000017},{"$f":"(LEFT(B259,SEARCH(Display1!$G$2,B259)+LEN(Display1!$G$2)+2))&RIGHT(B259,LEN(B259)-(SEARCH(Display1!$G$2,B259)+LEN(Display1!$G$2)+2))+Display1!$J$3","v":"P.US.CLE2N175550"}]
[{"$f":"IFERROR(IF(OR(ISTEXT(RTD(\"cqg.rtd\",,\"OrderData\",\"\"&B259&\"\",\"\",\"OpenPosition\",\"\"&Display1!$D$3&\"\")),RTD(\"cqg.rtd\",,\"OrderData\",\"\"&B259&\"\",\"\",\"OpenPosition\",\"\"&Display1!$D$3&\"\")=0),A258+0.001,INT(A258)+1),A258)","v":0.25900000000000017},{"$f":"(LEFT(B260,SEARCH(Display1!$G$2,B260)+LEN(Display1!$G$2)+2))&RIGHT(B260,LEN(B260)-(SEARCH(Display1!$G$2,B260)+LEN(Display1!$G$2)+2))+Display1!$J$3","v":"P.US.CLE2N175500"}]
[{"$f":"IFERROR(IF(OR(ISTEXT(RTD(\"cqg.rtd\",,\"OrderData\",\"\"&B260&\"\",\"\",\"OpenPosition\",\"\"&Display1!$D$3&\"\")),RTD(\"cqg.rtd\",,\"OrderData\",\"\"&B260&\"\",\"\",\"OpenPosition\",\"\"&Display1!$D$3&\"\")=0),A259+0.001,INT(A259)+1),A259)","v":0.26000000000000018},{"$f":"(LEFT(B261,SEARCH(Display1!$G$2,B261)+LEN(Display1!$G$2)+2))&RIGHT(B261,LEN(B261)-(SEARCH(Display1!$G$2,B261)+LEN(Display1!$G$2)+2))+Display1!$J$3","v":"P.US.CLE2N175450"}]
[{"$f":"IFERROR(IF(OR(ISTEXT(RTD(\"cqg.rtd\",,\"OrderData\",\"\"&B261&\"\",\"\",\"OpenPosition\",\"\"&Display1!$D$3&\"\")),RTD(\"cqg.rtd\",,\"OrderData\",\"\"&B261&\"\",\"\",\"OpenPosition\",\"\"&Display1!$D$3&\"\")=0),A260+0.001,INT(A260)+1),A260)","v":0.26100000000000018},{"$f":"(LEFT(B262,SEARCH(Display1!$G$2,B262)+LEN(Display1!$G$2)+2))&RIGHT(B262,LEN(B262)-(SEARCH(Display1!$G$2,B262)+LEN(Display1!$G$2)+2))+Display1!$J$3","v":"P.US.CLE2N175400"}]
[{"$f":"IFERROR(IF(OR(ISTEXT(RTD(\"cqg.rtd\",,\"OrderData\",\"\"&B262&\"\",\"\",\"OpenPosition\",\"\"&Display1!$D$3&\"\")),RTD(\"cqg.rtd\",,\"OrderData\",\"\"&B262&\"\",\"\",\"OpenPosition\",\"\"&Display1!$D$3&\"\")=0),A261+0.001,INT(A261)+1),A261)","v":0.26200000000000018},{"$f":"(LEFT(B263,SEARCH(Display1!$G$2,B263)+LEN(Display1!$G$2)+2))&RIGHT(B263,LEN(B263)-(SEARCH(Display1!$G$2,B263)+LEN(Display1!$G$2)+2))+Display1!$J$3","v":"P.US.CLE2N175350"}]
[{"$f":"IFERROR(IF(OR(ISTEXT(RTD(\"cqg.rtd\",,\"OrderData\",\"\"&B263&\"\",\"\",\"OpenPosition\",\"\"&Display1!$D$3&\"\")),RTD(\"cqg.rtd\",,\"OrderData\",\"\"&B263&\"\",\"\",\"OpenPosition\",\"\"&Display1!$D$3&\"\")=0),A262+0.001,INT(A262)+1),A262)","v":0.26300000000000018},{"$f":"(LEFT(B264,SEARCH(Display1!$G$2,B264)+LEN(Display1!$G$2)+2))&RIGHT(B264,LEN(B264)-(SEARCH(Display1!$G$2,B264)+LEN(Display1!$G$2)+2))+Display1!$J$3","v":"P.US.CLE2N175300"}]
[{"$f":"IFERROR(IF(OR(ISTEXT(RTD(\"cqg.rtd\",,\"OrderData\",\"\"&B264&\"\",\"\",\"OpenPosition\",\"\"&Display1!$D$3&\"\")),RTD(\"cqg.rtd\",,\"OrderData\",\"\"&B264&\"\",\"\",\"OpenPosition\",\"\"&Display1!$D$3&\"\")=0),A263+0.001,INT(A263)+1),A263)","v":0.26400000000000018},{"$f":"(LEFT(B265,SEARCH(Display1!$G$2,B265)+LEN(Display1!$G$2)+2))&RIGHT(B265,LEN(B265)-(SEARCH(Display1!$G$2,B265)+LEN(Display1!$G$2)+2))+Display1!$J$3","v":"P.US.CLE2N175250"}]
[{"$f":"IFERROR(IF(OR(ISTEXT(RTD(\"cqg.rtd\",,\"OrderData\",\"\"&B265&\"\",\"\",\"OpenPosition\",\"\"&Display1!$D$3&\"\")),RTD(\"cqg.rtd\",,\"OrderData\",\"\"&B265&\"\",\"\",\"OpenPosition\",\"\"&Display1!$D$3&\"\")=0),A264+0.001,INT(A264)+1),A264)","v":0.26500000000000018},{"$f":"(LEFT(B266,SEARCH(Display1!$G$2,B266)+LEN(Display1!$G$2)+2))&RIGHT(B266,LEN(B266)-(SEARCH(Display1!$G$2,B266)+LEN(Display1!$G$2)+2))+Display1!$J$3","v":"P.US.CLE2N175200"}]
[{"$f":"IFERROR(IF(OR(ISTEXT(RTD(\"cqg.rtd\",,\"OrderData\",\"\"&B266&\"\",\"\",\"OpenPosition\",\"\"&Display1!$D$3&\"\")),RTD(\"cqg.rtd\",,\"OrderData\",\"\"&B266&\"\",\"\",\"OpenPosition\",\"\"&Display1!$D$3&\"\")=0),A265+0.001,INT(A265)+1),A265)","v":0.26600000000000018},{"$f":"(LEFT(B267,SEARCH(Display1!$G$2,B267)+LEN(Display1!$G$2)+2))&RIGHT(B267,LEN(B267)-(SEARCH(Display1!$G$2,B267)+LEN(Display1!$G$2)+2))+Display1!$J$3","v":"P.US.CLE2N175150"}]
[{"$f":"IFERROR(IF(OR(ISTEXT(RTD(\"cqg.rtd\",,\"OrderData\",\"\"&B267&\"\",\"\",\"OpenPosition\",\"\"&Display1!$D$3&\"\")),RTD(\"cqg.rtd\",,\"OrderData\",\"\"&B267&\"\",\"\",\"OpenPosition\",\"\"&Display1!$D$3&\"\")=0),A266+0.001,INT(A266)+1),A266)","v":0.26700000000000018},{"$f":"(LEFT(B268,SEARCH(Display1!$G$2,B268)+LEN(Display1!$G$2)+2))&RIGHT(B268,LEN(B268)-(SEARCH(Display1!$G$2,B268)+LEN(Display1!$G$2)+2))+Display1!$J$3","v":"P.US.CLE2N175100"}]
[{"$f":"IFERROR(IF(OR(ISTEXT(RTD(\"cqg.rtd\",,\"OrderData\",\"\"&B268&\"\",\"\",\"OpenPosition\",\"\"&Display1!$D$3&\"\")),RTD(\"cqg.rtd\",,\"OrderData\",\"\"&B268&\"\",\"\",\"OpenPosition\",\"\"&Display1!$D$3&\"\")=0),A267+0.001,INT(A267)+1),A267)","v":0.26800000000000018},{"$f":"(LEFT(B269,SEARCH(Display1!$G$2,B269)+LEN(Display1!$G$2)+2))&RIGHT(B269,LEN(B269)-(SEARCH(Display1!$G$2,B269)+LEN(Display1!$G$2)+2))+Display1!$J$3","v":"P.US.CLE2N175050"}]
[{"$f":"IFERROR(IF(OR(ISTEXT(RTD(\"cqg.rtd\",,\"OrderData\",\"\"&B269&\"\",\"\",\"OpenPosition\",\"\"&Display1!$D$3&\"\")),RTD(\"cqg.rtd\",,\"OrderData\",\"\"&B269&\"\",\"\",\"OpenPosition\",\"\"&Display1!$D$3&\"\")=0),A268+0.001,INT(A268)+1),A268)","v":0.26900000000000018},{"$f":"(LEFT(B270,SEARCH(Display1!$G$2,B270)+LEN(Display1!$G$2)+2))&RIGHT(B270,LEN(B270)-(SEARCH(Display1!$G$2,B270)+LEN(Display1!$G$2)+2))+Display1!$J$3","v":"P.US.CLE2N175000"}]
[{"$f":"IFERROR(IF(OR(ISTEXT(RTD(\"cqg.rtd\",,\"OrderData\",\"\"&B270&\"\",\"\",\"OpenPosition\",\"\"&Display1!$D$3&\"\")),RTD(\"cqg.rtd\",,\"OrderData\",\"\"&B270&\"\",\"\",\"OpenPosition\",\"\"&Display1!$D$3&\"\")=0),A269+0.001,INT(A269)+1),A269)","v":0.27000000000000018},{"$f":"(LEFT(B271,SEARCH(Display1!$G$2,B271)+LEN(Display1!$G$2)+2))&RIGHT(B271,LEN(B271)-(SEARCH(Display1!$G$2,B271)+LEN(Display1!$G$2)+2))+Display1!$J$3","v":"P.US.CLE2N174950"}]
[{"$f":"IFERROR(IF(OR(ISTEXT(RTD(\"cqg.rtd\",,\"OrderData\",\"\"&B271&\"\",\"\",\"OpenPosition\",\"\"&Display1!$D$3&\"\")),RTD(\"cqg.rtd\",,\"OrderData\",\"\"&B271&\"\",\"\",\"OpenPosition\",\"\"&Display1!$D$3&\"\")=0),A270+0.001,INT(A270)+1),A270)","v":0.27100000000000019},{"$f":"(LEFT(B272,SEARCH(Display1!$G$2,B272)+LEN(Display1!$G$2)+2))&RIGHT(B272,LEN(B272)-(SEARCH(Display1!$G$2,B272)+LEN(Display1!$G$2)+2))+Display1!$J$3","v":"P.US.CLE2N174900"}]
[{"$f":"IFERROR(IF(OR(ISTEXT(RTD(\"cqg.rtd\",,\"OrderData\",\"\"&B272&\"\",\"\",\"OpenPosition\",\"\"&Display1!$D$3&\"\")),RTD(\"cqg.rtd\",,\"OrderData\",\"\"&B272&\"\",\"\",\"OpenPosition\",\"\"&Display1!$D$3&\"\")=0),A271+0.001,INT(A271)+1),A271)","v":0.27200000000000019},{"$f":"(LEFT(B273,SEARCH(Display1!$G$2,B273)+LEN(Display1!$G$2)+2))&RIGHT(B273,LEN(B273)-(SEARCH(Display1!$G$2,B273)+LEN(Display1!$G$2)+2))+Display1!$J$3","v":"P.US.CLE2N174850"}]
[{"$f":"IFERROR(IF(OR(ISTEXT(RTD(\"cqg.rtd\",,\"OrderData\",\"\"&B273&\"\",\"\",\"OpenPosition\",\"\"&Display1!$D$3&\"\")),RTD(\"cqg.rtd\",,\"OrderData\",\"\"&B273&\"\",\"\",\"OpenPosition\",\"\"&Display1!$D$3&\"\")=0),A272+0.001,INT(A272)+1),A272)","v":0.27300000000000019},{"$f":"(LEFT(B274,SEARCH(Display1!$G$2,B274)+LEN(Display1!$G$2)+2))&RIGHT(B274,LEN(B274)-(SEARCH(Display1!$G$2,B274)+LEN(Display1!$G$2)+2))+Display1!$J$3","v":"P.US.CLE2N174800"}]
[{"$f":"IFERROR(IF(OR(ISTEXT(RTD(\"cqg.rtd\",,\"OrderData\",\"\"&B274&\"\",\"\",\"OpenPosition\",\"\"&Display1!$D$3&\"\")),RTD(\"cqg.rtd\",,\"OrderData\",\"\"&B274&\"\",\"\",\"OpenPosition\",\"\"&Display1!$D$3&\"\")=0),A273+0.001,INT(A273)+1),A273)","v":0.27400000000000019},{"$f":"(LEFT(B275,SEARCH(Display1!$G$2,B275)+LEN(Display1!$G$2)+2))&RIGHT(B275,LEN(B275)-(SEARCH(Display1!$G$2,B275)+LEN(Display1!$G$2)+2))+Display1!$J$3","v":"P.US.CLE2N174750"}]
[{"$f":"IFERROR(IF(OR(ISTEXT(RTD(\"cqg.rtd\",,\"OrderData\",\"\"&B275&\"\",\"\",\"OpenPosition\",\"\"&Display1!$D$3&\"\")),RTD(\"cqg.rtd\",,\"OrderData\",\"\"&B275&\"\",\"\",\"OpenPosition\",\"\"&Display1!$D$3&\"\")=0),A274+0.001,INT(A274)+1),A274)","v":0.27500000000000019},{"$f":"(LEFT(B276,SEARCH(Display1!$G$2,B276)+LEN(Display1!$G$2)+2))&RIGHT(B276,LEN(B276)-(SEARCH(Display1!$G$2,B276)+LEN(Display1!$G$2)+2))+Display1!$J$3","v":"P.US.CLE2N174700"}]
[{"$f":"IFERROR(IF(OR(ISTEXT(RTD(\"cqg.rtd\",,\"OrderData\",\"\"&B276&\"\",\"\",\"OpenPosition\",\"\"&Display1!$D$3&\"\")),RTD(\"cqg.rtd\",,\"OrderData\",\"\"&B276&\"\",\"\",\"OpenPosition\",\"\"&Display1!$D$3&\"\")=0),A275+0.001,INT(A275)+1),A275)","v":0.27600000000000019},{"$f":"(LEFT(B277,SEARCH(Display1!$G$2,B277)+LEN(Display1!$G$2)+2))&RIGHT(B277,LEN(B277)-(SEARCH(Display1!$G$2,B277)+LEN(Display1!$G$2)+2))+Display1!$J$3","v":"P.US.CLE2N174650"}]
[{"$f":"IFERROR(IF(OR(ISTEXT(RTD(\"cqg.rtd\",,\"OrderData\",\"\"&B277&\"\",\"\",\"OpenPosition\",\"\"&Display1!$D$3&\"\")),RTD(\"cqg.rtd\",,\"OrderData\",\"\"&B277&\"\",\"\",\"OpenPosition\",\"\"&Display1!$D$3&\"\")=0),A276+0.001,INT(A276)+1),A276)","v":0.27700000000000019},{"$f":"(LEFT(B278,SEARCH(Display1!$G$2,B278)+LEN(Display1!$G$2)+2))&RIGHT(B278,LEN(B278)-(SEARCH(Display1!$G$2,B278)+LEN(Display1!$G$2)+2))+Display1!$J$3","v":"P.US.CLE2N174600"}]
[{"$f":"IFERROR(IF(OR(ISTEXT(RTD(\"cqg.rtd\",,\"OrderData\",\"\"&B278&\"\",\"\",\"OpenPosition\",\"\"&Display1!$D$3&\"\")),RTD(\"cqg.rtd\",,\"OrderData\",\"\"&B278&\"\",\"\",\"OpenPosition\",\"\"&Display1!$D$3&\"\")=0),A277+0.001,INT(A277)+1),A277)","v":0.27800000000000019},{"$f":"(LEFT(B279,SEARCH(Display1!$G$2,B279)+LEN(Display1!$G$2)+2))&RIGHT(B279,LEN(B279)-(SEARCH(Display1!$G$2,B279)+LEN(Display1!$G$2)+2))+Display1!$J$3","v":"P.US.CLE2N174550"}]
[{"$f":"IFERROR(IF(OR(ISTEXT(RTD(\"cqg.rtd\",,\"OrderData\",\"\"&B279&\"\",\"\",\"OpenPosition\",\"\"&Display1!$D$3&\"\")),RTD(\"cqg.rtd\",,\"OrderData\",\"\"&B279&\"\",\"\",\"OpenPosition\",\"\"&Display1!$D$3&\"\")=0),A278+0.001,INT(A278)+1),A278)","v":0.27900000000000019},{"$f":"(LEFT(B280,SEARCH(Display1!$G$2,B280)+LEN(Display1!$G$2)+2))&RIGHT(B280,LEN(B280)-(SEARCH(Display1!$G$2,B280)+LEN(Display1!$G$2)+2))+Display1!$J$3","v":"P.US.CLE2N174500"}]
[{"$f":"IFERROR(IF(OR(ISTEXT(RTD(\"cqg.rtd\",,\"OrderData\",\"\"&B280&\"\",\"\",\"OpenPosition\",\"\"&Display1!$D$3&\"\")),RTD(\"cqg.rtd\",,\"OrderData\",\"\"&B280&\"\",\"\",\"OpenPosition\",\"\"&Display1!$D$3&\"\")=0),A279+0.001,INT(A279)+1),A279)","v":0.28000000000000019},{"$f":"(LEFT(B281,SEARCH(Display1!$G$2,B281)+LEN(Display1!$G$2)+2))&RIGHT(B281,LEN(B281)-(SEARCH(Display1!$G$2,B281)+LEN(Display1!$G$2)+2))+Display1!$J$3","v":"P.US.CLE2N174450"}]
[{"$f":"IFERROR(IF(OR(ISTEXT(RTD(\"cqg.rtd\",,\"OrderData\",\"\"&B281&\"\",\"\",\"OpenPosition\",\"\"&Display1!$D$3&\"\")),RTD(\"cqg.rtd\",,\"OrderData\",\"\"&B281&\"\",\"\",\"OpenPosition\",\"\"&Display1!$D$3&\"\")=0),A280+0.001,INT(A280)+1),A280)","v":0.28100000000000019},{"$f":"(LEFT(B282,SEARCH(Display1!$G$2,B282)+LEN(Display1!$G$2)+2))&RIGHT(B282,LEN(B282)-(SEARCH(Display1!$G$2,B282)+LEN(Display1!$G$2)+2))+Display1!$J$3","v":"P.US.CLE2N174400"}]
[{"$f":"IFERROR(IF(OR(ISTEXT(RTD(\"cqg.rtd\",,\"OrderData\",\"\"&B282&\"\",\"\",\"OpenPosition\",\"\"&Display1!$D$3&\"\")),RTD(\"cqg.rtd\",,\"OrderData\",\"\"&B282&\"\",\"\",\"OpenPosition\",\"\"&Display1!$D$3&\"\")=0),A281+0.001,INT(A281)+1),A281)","v":0.28200000000000019},{"$f":"(LEFT(B283,SEARCH(Display1!$G$2,B283)+LEN(Display1!$G$2)+2))&RIGHT(B283,LEN(B283)-(SEARCH(Display1!$G$2,B283)+LEN(Display1!$G$2)+2))+Display1!$J$3","v":"P.US.CLE2N174350"}]
[{"$f":"IFERROR(IF(OR(ISTEXT(RTD(\"cqg.rtd\",,\"OrderData\",\"\"&B283&\"\",\"\",\"OpenPosition\",\"\"&Display1!$D$3&\"\")),RTD(\"cqg.rtd\",,\"OrderData\",\"\"&B283&\"\",\"\",\"OpenPosition\",\"\"&Display1!$D$3&\"\")=0),A282+0.001,INT(A282)+1),A282)","v":0.2830000000000002},{"$f":"RTD(\"cqg.rtd\", ,\"ContractData\", \"P.US.\"&Display1!$G$2&Display1!$H$3&\"\", \"Symbol\",, \"T\")","v":"P.US.CLE2N174300"}]
[{"$f":"IFERROR(IF(OR(ISTEXT(RTD(\"cqg.rtd\",,\"OrderData\",\"\"&B284&\"\",\"\",\"OpenPosition\",\"\"&Display1!$D$3&\"\")),RTD(\"cqg.rtd\",,\"OrderData\",\"\"&B284&\"\",\"\",\"OpenPosition\",\"\"&Display1!$D$3&\"\")=0),A283+0.001,INT(A283)+1),A283)","v":0.2840000000000002},{"$f":"(LEFT(B283,SEARCH(Display1!$G$2,B283)+LEN(Display1!$G$2)+2))&RIGHT(B283,LEN(B283)-(SEARCH(Display1!$G$2,B283)+LEN(Display1!$G$2)+2))-Display1!$J$3","v":"P.US.CLE2N174250"}]
[{"$f":"IFERROR(IF(OR(ISTEXT(RTD(\"cqg.rtd\",,\"OrderData\",\"\"&B285&\"\",\"\",\"OpenPosition\",\"\"&Display1!$D$3&\"\")),RTD(\"cqg.rtd\",,\"OrderData\",\"\"&B285&\"\",\"\",\"OpenPosition\",\"\"&Display1!$D$3&\"\")=0),A284+0.001,INT(A284)+1),A284)","v":0.2850000000000002},{"$f":"(LEFT(B284,SEARCH(Display1!$G$2,B284)+LEN(Display1!$G$2)+2))&RIGHT(B284,LEN(B284)-(SEARCH(Display1!$G$2,B284)+LEN(Display1!$G$2)+2))-Display1!$J$3","v":"P.US.CLE2N174200"}]
[{"$f":"IFERROR(IF(OR(ISTEXT(RTD(\"cqg.rtd\",,\"OrderData\",\"\"&B286&\"\",\"\",\"OpenPosition\",\"\"&Display1!$D$3&\"\")),RTD(\"cqg.rtd\",,\"OrderData\",\"\"&B286&\"\",\"\",\"OpenPosition\",\"\"&Display1!$D$3&\"\")=0),A285+0.001,INT(A285)+1),A285)","v":0.2860000000000002},{"$f":"(LEFT(B285,SEARCH(Display1!$G$2,B285)+LEN(Display1!$G$2)+2))&RIGHT(B285,LEN(B285)-(SEARCH(Display1!$G$2,B285)+LEN(Display1!$G$2)+2))-Display1!$J$3","v":"P.US.CLE2N174150"}]
[{"$f":"IFERROR(IF(OR(ISTEXT(RTD(\"cqg.rtd\",,\"OrderData\",\"\"&B287&\"\",\"\",\"OpenPosition\",\"\"&Display1!$D$3&\"\")),RTD(\"cqg.rtd\",,\"OrderData\",\"\"&B287&\"\",\"\",\"OpenPosition\",\"\"&Display1!$D$3&\"\")=0),A286+0.001,INT(A286)+1),A286)","v":0.2870000000000002},{"$f":"(LEFT(B286,SEARCH(Display1!$G$2,B286)+LEN(Display1!$G$2)+2))&RIGHT(B286,LEN(B286)-(SEARCH(Display1!$G$2,B286)+LEN(Display1!$G$2)+2))-Display1!$J$3","v":"P.US.CLE2N174100"}]
[{"$f":"IFERROR(IF(OR(ISTEXT(RTD(\"cqg.rtd\",,\"OrderData\",\"\"&B288&\"\",\"\",\"OpenPosition\",\"\"&Display1!$D$3&\"\")),RTD(\"cqg.rtd\",,\"OrderData\",\"\"&B288&\"\",\"\",\"OpenPosition\",\"\"&Display1!$D$3&\"\")=0),A287+0.001,INT(A287)+1),A287)","v":0.2880000000000002},{"$f":"(LEFT(B287,SEARCH(Display1!$G$2,B287)+LEN(Display1!$G$2)+2))&RIGHT(B287,LEN(B287)-(SEARCH(Display1!$G$2,B287)+LEN(Display1!$G$2)+2))-Display1!$J$3","v":"P.US.CLE2N174050"}]
[{"$f":"IFERROR(IF(OR(ISTEXT(RTD(\"cqg.rtd\",,\"OrderData\",\"\"&B289&\"\",\"\",\"OpenPosition\",\"\"&Display1!$D$3&\"\")),RTD(\"cqg.rtd\",,\"OrderData\",\"\"&B289&\"\",\"\",\"OpenPosition\",\"\"&Display1!$D$3&\"\")=0),A288+0.001,INT(A288)+1),A288)","v":0.2890000000000002},{"$f":"(LEFT(B288,SEARCH(Display1!$G$2,B288)+LEN(Display1!$G$2)+2))&RIGHT(B288,LEN(B288)-(SEARCH(Display1!$G$2,B288)+LEN(Display1!$G$2)+2))-Display1!$J$3","v":"P.US.CLE2N174000"}]
[{"$f":"IFERROR(IF(OR(ISTEXT(RTD(\"cqg.rtd\",,\"OrderData\",\"\"&B290&\"\",\"\",\"OpenPosition\",\"\"&Display1!$D$3&\"\")),RTD(\"cqg.rtd\",,\"OrderData\",\"\"&B290&\"\",\"\",\"OpenPosition\",\"\"&Display1!$D$3&\"\")=0),A289+0.001,INT(A289)+1),A289)","v":0.2900000000000002},{"$f":"(LEFT(B289,SEARCH(Display1!$G$2,B289)+LEN(Display1!$G$2)+2))&RIGHT(B289,LEN(B289)-(SEARCH(Display1!$G$2,B289)+LEN(Display1!$G$2)+2))-Display1!$J$3","v":"P.US.CLE2N173950"}]
[{"$f":"IFERROR(IF(OR(ISTEXT(RTD(\"cqg.rtd\",,\"OrderData\",\"\"&B291&\"\",\"\",\"OpenPosition\",\"\"&Display1!$D$3&\"\")),RTD(\"cqg.rtd\",,\"OrderData\",\"\"&B291&\"\",\"\",\"OpenPosition\",\"\"&Display1!$D$3&\"\")=0),A290+0.001,INT(A290)+1),A290)","v":0.2910000000000002},{"$f":"(LEFT(B290,SEARCH(Display1!$G$2,B290)+LEN(Display1!$G$2)+2))&RIGHT(B290,LEN(B290)-(SEARCH(Display1!$G$2,B290)+LEN(Display1!$G$2)+2))-Display1!$J$3","v":"P.US.CLE2N173900"}]
[{"$f":"IFERROR(IF(OR(ISTEXT(RTD(\"cqg.rtd\",,\"OrderData\",\"\"&B292&\"\",\"\",\"OpenPosition\",\"\"&Display1!$D$3&\"\")),RTD(\"cqg.rtd\",,\"OrderData\",\"\"&B292&\"\",\"\",\"OpenPosition\",\"\"&Display1!$D$3&\"\")=0),A291+0.001,INT(A291)+1),A291)","v":0.2920000000000002},{"$f":"(LEFT(B291,SEARCH(Display1!$G$2,B291)+LEN(Display1!$G$2)+2))&RIGHT(B291,LEN(B291)-(SEARCH(Display1!$G$2,B291)+LEN(Display1!$G$2)+2))-Display1!$J$3","v":"P.US.CLE2N173850"}]
[{"$f":"IFERROR(IF(OR(ISTEXT(RTD(\"cqg.rtd\",,\"OrderData\",\"\"&B293&\"\",\"\",\"OpenPosition\",\"\"&Display1!$D$3&\"\")),RTD(\"cqg.rtd\",,\"OrderData\",\"\"&B293&\"\",\"\",\"OpenPosition\",\"\"&Display1!$D$3&\"\")=0),A292+0.001,INT(A292)+1),A292)","v":0.2930000000000002},{"$f":"(LEFT(B292,SEARCH(Display1!$G$2,B292)+LEN(Display1!$G$2)+2))&RIGHT(B292,LEN(B292)-(SEARCH(Display1!$G$2,B292)+LEN(Display1!$G$2)+2))-Display1!$J$3","v":"P.US.CLE2N173800"}]
[{"$f":"IFERROR(IF(OR(ISTEXT(RTD(\"cqg.rtd\",,\"OrderData\",\"\"&B294&\"\",\"\",\"OpenPosition\",\"\"&Display1!$D$3&\"\")),RTD(\"cqg.rtd\",,\"OrderData\",\"\"&B294&\"\",\"\",\"OpenPosition\",\"\"&Display1!$D$3&\"\")=0),A293+0.001,INT(A293)+1),A293)","v":0.29400000000000021},{"$f":"(LEFT(B293,SEARCH(Display1!$G$2,B293)+LEN(Display1!$G$2)+2))&RIGHT(B293,LEN(B293)-(SEARCH(Display1!$G$2,B293)+LEN(Display1!$G$2)+2))-Display1!$J$3","v":"P.US.CLE2N173750"}]
[{"$f":"IFERROR(IF(OR(ISTEXT(RTD(\"cqg.rtd\",,\"OrderData\",\"\"&B295&\"\",\"\",\"OpenPosition\",\"\"&Display1!$D$3&\"\")),RTD(\"cqg.rtd\",,\"OrderData\",\"\"&B295&\"\",\"\",\"OpenPosition\",\"\"&Display1!$D$3&\"\")=0),A294+0.001,INT(A294)+1),A294)","v":0.29500000000000021},{"$f":"(LEFT(B294,SEARCH(Display1!$G$2,B294)+LEN(Display1!$G$2)+2))&RIGHT(B294,LEN(B294)-(SEARCH(Display1!$G$2,B294)+LEN(Display1!$G$2)+2))-Display1!$J$3","v":"P.US.CLE2N173700"}]
[{"$f":"IFERROR(IF(OR(ISTEXT(RTD(\"cqg.rtd\",,\"OrderData\",\"\"&B296&\"\",\"\",\"OpenPosition\",\"\"&Display1!$D$3&\"\")),RTD(\"cqg.rtd\",,\"OrderData\",\"\"&B296&\"\",\"\",\"OpenPosition\",\"\"&Display1!$D$3&\"\")=0),A295+0.001,INT(A295)+1),A295)","v":0.29600000000000021},{"$f":"(LEFT(B295,SEARCH(Display1!$G$2,B295)+LEN(Display1!$G$2)+2))&RIGHT(B295,LEN(B295)-(SEARCH(Display1!$G$2,B295)+LEN(Display1!$G$2)+2))-Display1!$J$3","v":"P.US.CLE2N173650"}]
[{"$f":"IFERROR(IF(OR(ISTEXT(RTD(\"cqg.rtd\",,\"OrderData\",\"\"&B297&\"\",\"\",\"OpenPosition\",\"\"&Display1!$D$3&\"\")),RTD(\"cqg.rtd\",,\"OrderData\",\"\"&B297&\"\",\"\",\"OpenPosition\",\"\"&Display1!$D$3&\"\")=0),A296+0.001,INT(A296)+1),A296)","v":0.29700000000000021},{"$f":"(LEFT(B296,SEARCH(Display1!$G$2,B296)+LEN(Display1!$G$2)+2))&RIGHT(B296,LEN(B296)-(SEARCH(Display1!$G$2,B296)+LEN(Display1!$G$2)+2))-Display1!$J$3","v":"P.US.CLE2N173600"}]
[{"$f":"IFERROR(IF(OR(ISTEXT(RTD(\"cqg.rtd\",,\"OrderData\",\"\"&B298&\"\",\"\",\"OpenPosition\",\"\"&Display1!$D$3&\"\")),RTD(\"cqg.rtd\",,\"OrderData\",\"\"&B298&\"\",\"\",\"OpenPosition\",\"\"&Display1!$D$3&\"\")=0),A297+0.001,INT(A297)+1),A297)","v":0.29800000000000021},{"$f":"(LEFT(B297,SEARCH(Display1!$G$2,B297)+LEN(Display1!$G$2)+2))&RIGHT(B297,LEN(B297)-(SEARCH(Display1!$G$2,B297)+LEN(Display1!$G$2)+2))-Display1!$J$3","v":"P.US.CLE2N173550"}]
[{"$f":"IFERROR(IF(OR(ISTEXT(RTD(\"cqg.rtd\",,\"OrderData\",\"\"&B299&\"\",\"\",\"OpenPosition\",\"\"&Display1!$D$3&\"\")),RTD(\"cqg.rtd\",,\"OrderData\",\"\"&B299&\"\",\"\",\"OpenPosition\",\"\"&Display1!$D$3&\"\")=0),A298+0.001,INT(A298)+1),A298)","v":0.29900000000000021},{"$f":"(LEFT(B298,SEARCH(Display1!$G$2,B298)+LEN(Display1!$G$2)+2))&RIGHT(B298,LEN(B298)-(SEARCH(Display1!$G$2,B298)+LEN(Display1!$G$2)+2))-Display1!$J$3","v":"P.US.CLE2N173500"}]
[{"$f":"IFERROR(IF(OR(ISTEXT(RTD(\"cqg.rtd\",,\"OrderData\",\"\"&B300&\"\",\"\",\"OpenPosition\",\"\"&Display1!$D$3&\"\")),RTD(\"cqg.rtd\",,\"OrderData\",\"\"&B300&\"\",\"\",\"OpenPosition\",\"\"&Display1!$D$3&\"\")=0),A299+0.001,INT(A299)+1),A299)","v":0.30000000000000021},{"$f":"(LEFT(B299,SEARCH(Display1!$G$2,B299)+LEN(Display1!$G$2)+2))&RIGHT(B299,LEN(B299)-(SEARCH(Display1!$G$2,B299)+LEN(Display1!$G$2)+2))-Display1!$J$3","v":"P.US.CLE2N173450"}]
[{"$f":"IFERROR(IF(OR(ISTEXT(RTD(\"cqg.rtd\",,\"OrderData\",\"\"&B301&\"\",\"\",\"OpenPosition\",\"\"&Display1!$D$3&\"\")),RTD(\"cqg.rtd\",,\"OrderData\",\"\"&B301&\"\",\"\",\"OpenPosition\",\"\"&Display1!$D$3&\"\")=0),A300+0.001,INT(A300)+1),A300)","v":0.30100000000000021},{"$f":"(LEFT(B300,SEARCH(Display1!$G$2,B300)+LEN(Display1!$G$2)+2))&RIGHT(B300,LEN(B300)-(SEARCH(Display1!$G$2,B300)+LEN(Display1!$G$2)+2))-Display1!$J$3","v":"P.US.CLE2N173400"}]
[{"$f":"IFERROR(IF(OR(ISTEXT(RTD(\"cqg.rtd\",,\"OrderData\",\"\"&B302&\"\",\"\",\"OpenPosition\",\"\"&Display1!$D$3&\"\")),RTD(\"cqg.rtd\",,\"OrderData\",\"\"&B302&\"\",\"\",\"OpenPosition\",\"\"&Display1!$D$3&\"\")=0),A301+0.001,INT(A301)+1),A301)","v":0.30200000000000021},{"$f":"(LEFT(B301,SEARCH(Display1!$G$2,B301)+LEN(Display1!$G$2)+2))&RIGHT(B301,LEN(B301)-(SEARCH(Display1!$G$2,B301)+LEN(Display1!$G$2)+2))-Display1!$J$3","v":"P.US.CLE2N173350"}]
[{"$f":"IFERROR(IF(OR(ISTEXT(RTD(\"cqg.rtd\",,\"OrderData\",\"\"&B303&\"\",\"\",\"OpenPosition\",\"\"&Display1!$D$3&\"\")),RTD(\"cqg.rtd\",,\"OrderData\",\"\"&B303&\"\",\"\",\"OpenPosition\",\"\"&Display1!$D$3&\"\")=0),A302+0.001,INT(A302)+1),A302)","v":0.30200000000000021},{"$f":"(LEFT(B302,SEARCH(Display1!$G$2,B302)+LEN(Display1!$G$2)+2))&RIGHT(B302,LEN(B302)-(SEARCH(Display1!$G$2,B302)+LEN(Display1!$G$2)+2))-Display1!$J$3","v":"P.US.CLE2N173300"}]
[{"$f":"IFERROR(IF(OR(ISTEXT(RTD(\"cqg.rtd\",,\"OrderData\",\"\"&B304&\"\",\"\",\"OpenPosition\",\"\"&Display1!$D$3&\"\")),RTD(\"cqg.rtd\",,\"OrderData\",\"\"&B304&\"\",\"\",\"OpenPosition\",\"\"&Display1!$D$3&\"\")=0),A303+0.001,INT(A303)+1),A303)","v":0.30300000000000021},{"$f":"(LEFT(B305,SEARCH(Display1!$G$2,B305)+LEN(Display1!$G$2)+2))&RIGHT(B305,LEN(B305)-(SEARCH(Display1!$G$2,B305)+LEN(Display1!$G$2)+2))+Display1!$J$3","v":"C.US.CLEQ176350"}]
[{"$f":"IFERROR(IF(OR(ISTEXT(RTD(\"cqg.rtd\",,\"OrderData\",\"\"&B305&\"\",\"\",\"OpenPosition\",\"\"&Display1!$D$3&\"\")),RTD(\"cqg.rtd\",,\"OrderData\",\"\"&B305&\"\",\"\",\"OpenPosition\",\"\"&Display1!$D$3&\"\")=0),A304+0.001,INT(A304)+1),A304)","v":0.30400000000000021},{"$f":"(LEFT(B306,SEARCH(Display1!$G$2,B306)+LEN(Display1!$G$2)+2))&RIGHT(B306,LEN(B306)-(SEARCH(Display1!$G$2,B306)+LEN(Display1!$G$2)+2))+Display1!$J$3","v":"C.US.CLEQ176300"}]
[{"$f":"IFERROR(IF(OR(ISTEXT(RTD(\"cqg.rtd\",,\"OrderData\",\"\"&B306&\"\",\"\",\"OpenPosition\",\"\"&Display1!$D$3&\"\")),RTD(\"cqg.rtd\",,\"OrderData\",\"\"&B306&\"\",\"\",\"OpenPosition\",\"\"&Display1!$D$3&\"\")=0),A305+0.001,INT(A305)+1),A305)","v":0.30500000000000022},{"$f":"(LEFT(B307,SEARCH(Display1!$G$2,B307)+LEN(Display1!$G$2)+2))&RIGHT(B307,LEN(B307)-(SEARCH(Display1!$G$2,B307)+LEN(Display1!$G$2)+2))+Display1!$J$3","v":"C.US.CLEQ176250"}]
[{"$f":"IFERROR(IF(OR(ISTEXT(RTD(\"cqg.rtd\",,\"OrderData\",\"\"&B307&\"\",\"\",\"OpenPosition\",\"\"&Display1!$D$3&\"\")),RTD(\"cqg.rtd\",,\"OrderData\",\"\"&B307&\"\",\"\",\"OpenPosition\",\"\"&Display1!$D$3&\"\")=0),A306+0.001,INT(A306)+1),A306)","v":0.30600000000000022},{"$f":"(LEFT(B308,SEARCH(Display1!$G$2,B308)+LEN(Display1!$G$2)+2))&RIGHT(B308,LEN(B308)-(SEARCH(Display1!$G$2,B308)+LEN(Display1!$G$2)+2))+Display1!$J$3","v":"C.US.CLEQ176200"}]
[{"$f":"IFERROR(IF(OR(ISTEXT(RTD(\"cqg.rtd\",,\"OrderData\",\"\"&B308&\"\",\"\",\"OpenPosition\",\"\"&Display1!$D$3&\"\")),RTD(\"cqg.rtd\",,\"OrderData\",\"\"&B308&\"\",\"\",\"OpenPosition\",\"\"&Display1!$D$3&\"\")=0),A307+0.001,INT(A307)+1),A307)","v":0.30700000000000022},{"$f":"(LEFT(B309,SEARCH(Display1!$G$2,B309)+LEN(Display1!$G$2)+2))&RIGHT(B309,LEN(B309)-(SEARCH(Display1!$G$2,B309)+LEN(Display1!$G$2)+2))+Display1!$J$3","v":"C.US.CLEQ176150"}]
[{"$f":"IFERROR(IF(OR(ISTEXT(RTD(\"cqg.rtd\",,\"OrderData\",\"\"&B309&\"\",\"\",\"OpenPosition\",\"\"&Display1!$D$3&\"\")),RTD(\"cqg.rtd\",,\"OrderData\",\"\"&B309&\"\",\"\",\"OpenPosition\",\"\"&Display1!$D$3&\"\")=0),A308+0.001,INT(A308)+1),A308)","v":0.30800000000000022},{"$f":"(LEFT(B310,SEARCH(Display1!$G$2,B310)+LEN(Display1!$G$2)+2))&RIGHT(B310,LEN(B310)-(SEARCH(Display1!$G$2,B310)+LEN(Display1!$G$2)+2))+Display1!$J$3","v":"C.US.CLEQ176100"}]
[{"$f":"IFERROR(IF(OR(ISTEXT(RTD(\"cqg.rtd\",,\"OrderData\",\"\"&B310&\"\",\"\",\"OpenPosition\",\"\"&Display1!$D$3&\"\")),RTD(\"cqg.rtd\",,\"OrderData\",\"\"&B310&\"\",\"\",\"OpenPosition\",\"\"&Display1!$D$3&\"\")=0),A309+0.001,INT(A309)+1),A309)","v":0.30900000000000022},{"$f":"(LEFT(B311,SEARCH(Display1!$G$2,B311)+LEN(Display1!$G$2)+2))&RIGHT(B311,LEN(B311)-(SEARCH(Display1!$G$2,B311)+LEN(Display1!$G$2)+2))+Display1!$J$3","v":"C.US.CLEQ176050"}]
[{"$f":"IFERROR(IF(OR(ISTEXT(RTD(\"cqg.rtd\",,\"OrderData\",\"\"&B311&\"\",\"\",\"OpenPosition\",\"\"&Display1!$D$3&\"\")),RTD(\"cqg.rtd\",,\"OrderData\",\"\"&B311&\"\",\"\",\"OpenPosition\",\"\"&Display1!$D$3&\"\")=0),A310+0.001,INT(A310)+1),A310)","v":0.31000000000000022},{"$f":"(LEFT(B312,SEARCH(Display1!$G$2,B312)+LEN(Display1!$G$2)+2))&RIGHT(B312,LEN(B312)-(SEARCH(Display1!$G$2,B312)+LEN(Display1!$G$2)+2))+Display1!$J$3","v":"C.US.CLEQ176000"}]
[{"$f":"IFERROR(IF(OR(ISTEXT(RTD(\"cqg.rtd\",,\"OrderData\",\"\"&B312&\"\",\"\",\"OpenPosition\",\"\"&Display1!$D$3&\"\")),RTD(\"cqg.rtd\",,\"OrderData\",\"\"&B312&\"\",\"\",\"OpenPosition\",\"\"&Display1!$D$3&\"\")=0),A311+0.001,INT(A311)+1),A311)","v":0.31100000000000022},{"$f":"(LEFT(B313,SEARCH(Display1!$G$2,B313)+LEN(Display1!$G$2)+2))&RIGHT(B313,LEN(B313)-(SEARCH(Display1!$G$2,B313)+LEN(Display1!$G$2)+2))+Display1!$J$3","v":"C.US.CLEQ175950"}]
[{"$f":"IFERROR(IF(OR(ISTEXT(RTD(\"cqg.rtd\",,\"OrderData\",\"\"&B313&\"\",\"\",\"OpenPosition\",\"\"&Display1!$D$3&\"\")),RTD(\"cqg.rtd\",,\"OrderData\",\"\"&B313&\"\",\"\",\"OpenPosition\",\"\"&Display1!$D$3&\"\")=0),A312+0.001,INT(A312)+1),A312)","v":0.31200000000000022},{"$f":"(LEFT(B314,SEARCH(Display1!$G$2,B314)+LEN(Display1!$G$2)+2))&RIGHT(B314,LEN(B314)-(SEARCH(Display1!$G$2,B314)+LEN(Display1!$G$2)+2))+Display1!$J$3","v":"C.US.CLEQ175900"}]
[{"$f":"IFERROR(IF(OR(ISTEXT(RTD(\"cqg.rtd\",,\"OrderData\",\"\"&B314&\"\",\"\",\"OpenPosition\",\"\"&Display1!$D$3&\"\")),RTD(\"cqg.rtd\",,\"OrderData\",\"\"&B314&\"\",\"\",\"OpenPosition\",\"\"&Display1!$D$3&\"\")=0),A313+0.001,INT(A313)+1),A313)","v":0.31300000000000022},{"$f":"(LEFT(B315,SEARCH(Display1!$G$2,B315)+LEN(Display1!$G$2)+2))&RIGHT(B315,LEN(B315)-(SEARCH(Display1!$G$2,B315)+LEN(Display1!$G$2)+2))+Display1!$J$3","v":"C.US.CLEQ175850"}]
[{"$f":"IFERROR(IF(OR(ISTEXT(RTD(\"cqg.rtd\",,\"OrderData\",\"\"&B315&\"\",\"\",\"OpenPosition\",\"\"&Display1!$D$3&\"\")),RTD(\"cqg.rtd\",,\"OrderData\",\"\"&B315&\"\",\"\",\"OpenPosition\",\"\"&Display1!$D$3&\"\")=0),A314+0.001,INT(A314)+1),A314)","v":0.31400000000000022},{"$f":"(LEFT(B316,SEARCH(Display1!$G$2,B316)+LEN(Display1!$G$2)+2))&RIGHT(B316,LEN(B316)-(SEARCH(Display1!$G$2,B316)+LEN(Display1!$G$2)+2))+Display1!$J$3","v":"C.US.CLEQ175800"}]
[{"$f":"IFERROR(IF(OR(ISTEXT(RTD(\"cqg.rtd\",,\"OrderData\",\"\"&B316&\"\",\"\",\"OpenPosition\",\"\"&Display1!$D$3&\"\")),RTD(\"cqg.rtd\",,\"OrderData\",\"\"&B316&\"\",\"\",\"OpenPosition\",\"\"&Display1!$D$3&\"\")=0),A315+0.001,INT(A315)+1),A315)","v":0.31500000000000022},{"$f":"(LEFT(B317,SEARCH(Display1!$G$2,B317)+LEN(Display1!$G$2)+2))&RIGHT(B317,LEN(B317)-(SEARCH(Display1!$G$2,B317)+LEN(Display1!$G$2)+2))+Display1!$J$3","v":"C.US.CLEQ175750"}]
[{"$f":"IFERROR(IF(OR(ISTEXT(RTD(\"cqg.rtd\",,\"OrderData\",\"\"&B317&\"\",\"\",\"OpenPosition\",\"\"&Display1!$D$3&\"\")),RTD(\"cqg.rtd\",,\"OrderData\",\"\"&B317&\"\",\"\",\"OpenPosition\",\"\"&Display1!$D$3&\"\")=0),A316+0.001,INT(A316)+1),A316)","v":0.31600000000000023},{"$f":"(LEFT(B318,SEARCH(Display1!$G$2,B318)+LEN(Display1!$G$2)+2))&RIGHT(B318,LEN(B318)-(SEARCH(Display1!$G$2,B318)+LEN(Display1!$G$2)+2))+Display1!$J$3","v":"C.US.CLEQ175700"}]
[{"$f":"IFERROR(IF(OR(ISTEXT(RTD(\"cqg.rtd\",,\"OrderData\",\"\"&B318&\"\",\"\",\"OpenPosition\",\"\"&Display1!$D$3&\"\")),RTD(\"cqg.rtd\",,\"OrderData\",\"\"&B318&\"\",\"\",\"OpenPosition\",\"\"&Display1!$D$3&\"\")=0),A317+0.001,INT(A317)+1),A317)","v":0.31700000000000023},{"$f":"(LEFT(B319,SEARCH(Display1!$G$2,B319)+LEN(Display1!$G$2)+2))&RIGHT(B319,LEN(B319)-(SEARCH(Display1!$G$2,B319)+LEN(Display1!$G$2)+2))+Display1!$J$3","v":"C.US.CLEQ175650"}]
[{"$f":"IFERROR(IF(OR(ISTEXT(RTD(\"cqg.rtd\",,\"OrderData\",\"\"&B319&\"\",\"\",\"OpenPosition\",\"\"&Display1!$D$3&\"\")),RTD(\"cqg.rtd\",,\"OrderData\",\"\"&B319&\"\",\"\",\"OpenPosition\",\"\"&Display1!$D$3&\"\")=0),A318+0.001,INT(A318)+1),A318)","v":0.31800000000000023},{"$f":"(LEFT(B320,SEARCH(Display1!$G$2,B320)+LEN(Display1!$G$2)+2))&RIGHT(B320,LEN(B320)-(SEARCH(Display1!$G$2,B320)+LEN(Display1!$G$2)+2))+Display1!$J$3","v":"C.US.CLEQ175600"}]
[{"$f":"IFERROR(IF(OR(ISTEXT(RTD(\"cqg.rtd\",,\"OrderData\",\"\"&B320&\"\",\"\",\"OpenPosition\",\"\"&Display1!$D$3&\"\")),RTD(\"cqg.rtd\",,\"OrderData\",\"\"&B320&\"\",\"\",\"OpenPosition\",\"\"&Display1!$D$3&\"\")=0),A319+0.001,INT(A319)+1),A319)","v":0.31900000000000023},{"$f":"(LEFT(B321,SEARCH(Display1!$G$2,B321)+LEN(Display1!$G$2)+2))&RIGHT(B321,LEN(B321)-(SEARCH(Display1!$G$2,B321)+LEN(Display1!$G$2)+2))+Display1!$J$3","v":"C.US.CLEQ175550"}]
[{"$f":"IFERROR(IF(OR(ISTEXT(RTD(\"cqg.rtd\",,\"OrderData\",\"\"&B321&\"\",\"\",\"OpenPosition\",\"\"&Display1!$D$3&\"\")),RTD(\"cqg.rtd\",,\"OrderData\",\"\"&B321&\"\",\"\",\"OpenPosition\",\"\"&Display1!$D$3&\"\")=0),A320+0.001,INT(A320)+1),A320)","v":0.32000000000000023},{"$f":"(LEFT(B322,SEARCH(Display1!$G$2,B322)+LEN(Display1!$G$2)+2))&RIGHT(B322,LEN(B322)-(SEARCH(Display1!$G$2,B322)+LEN(Display1!$G$2)+2))+Display1!$J$3","v":"C.US.CLEQ175500"}]
[{"$f":"IFERROR(IF(OR(ISTEXT(RTD(\"cqg.rtd\",,\"OrderData\",\"\"&B322&\"\",\"\",\"OpenPosition\",\"\"&Display1!$D$3&\"\")),RTD(\"cqg.rtd\",,\"OrderData\",\"\"&B322&\"\",\"\",\"OpenPosition\",\"\"&Display1!$D$3&\"\")=0),A321+0.001,INT(A321)+1),A321)","v":0.32100000000000023},{"$f":"(LEFT(B323,SEARCH(Display1!$G$2,B323)+LEN(Display1!$G$2)+2))&RIGHT(B323,LEN(B323)-(SEARCH(Display1!$G$2,B323)+LEN(Display1!$G$2)+2))+Display1!$J$3","v":"C.US.CLEQ175450"}]
[{"$f":"IFERROR(IF(OR(ISTEXT(RTD(\"cqg.rtd\",,\"OrderData\",\"\"&B323&\"\",\"\",\"OpenPosition\",\"\"&Display1!$D$3&\"\")),RTD(\"cqg.rtd\",,\"OrderData\",\"\"&B323&\"\",\"\",\"OpenPosition\",\"\"&Display1!$D$3&\"\")=0),A322+0.001,INT(A322)+1),A322)","v":0.32200000000000023},{"$f":"(LEFT(B324,SEARCH(Display1!$G$2,B324)+LEN(Display1!$G$2)+2))&RIGHT(B324,LEN(B324)-(SEARCH(Display1!$G$2,B324)+LEN(Display1!$G$2)+2))+Display1!$J$3","v":"C.US.CLEQ175400"}]
[{"$f":"IFERROR(IF(OR(ISTEXT(RTD(\"cqg.rtd\",,\"OrderData\",\"\"&B324&\"\",\"\",\"OpenPosition\",\"\"&Display1!$D$3&\"\")),RTD(\"cqg.rtd\",,\"OrderData\",\"\"&B324&\"\",\"\",\"OpenPosition\",\"\"&Display1!$D$3&\"\")=0),A323+0.001,INT(A323)+1),A323)","v":0.32300000000000023},{"$f":"(LEFT(B325,SEARCH(Display1!$G$2,B325)+LEN(Display1!$G$2)+2))&RIGHT(B325,LEN(B325)-(SEARCH(Display1!$G$2,B325)+LEN(Display1!$G$2)+2))+Display1!$J$3","v":"C.US.CLEQ175350"}]
[{"$f":"IFERROR(IF(OR(ISTEXT(RTD(\"cqg.rtd\",,\"OrderData\",\"\"&B325&\"\",\"\",\"OpenPosition\",\"\"&Display1!$D$3&\"\")),RTD(\"cqg.rtd\",,\"OrderData\",\"\"&B325&\"\",\"\",\"OpenPosition\",\"\"&Display1!$D$3&\"\")=0),A324+0.001,INT(A324)+1),A324)","v":0.32400000000000023},{"$f":"(LEFT(B326,SEARCH(Display1!$G$2,B326)+LEN(Display1!$G$2)+2))&RIGHT(B326,LEN(B326)-(SEARCH(Display1!$G$2,B326)+LEN(Display1!$G$2)+2))+Display1!$J$3","v":"C.US.CLEQ175300"}]
[{"$f":"IFERROR(IF(OR(ISTEXT(RTD(\"cqg.rtd\",,\"OrderData\",\"\"&B326&\"\",\"\",\"OpenPosition\",\"\"&Display1!$D$3&\"\")),RTD(\"cqg.rtd\",,\"OrderData\",\"\"&B326&\"\",\"\",\"OpenPosition\",\"\"&Display1!$D$3&\"\")=0),A325+0.001,INT(A325)+1),A325)","v":0.32500000000000023},{"$f":"(LEFT(B327,SEARCH(Display1!$G$2,B327)+LEN(Display1!$G$2)+2))&RIGHT(B327,LEN(B327)-(SEARCH(Display1!$G$2,B327)+LEN(Display1!$G$2)+2))+Display1!$J$3","v":"C.US.CLEQ175250"}]
[{"$f":"IFERROR(IF(OR(ISTEXT(RTD(\"cqg.rtd\",,\"OrderData\",\"\"&B327&\"\",\"\",\"OpenPosition\",\"\"&Display1!$D$3&\"\")),RTD(\"cqg.rtd\",,\"OrderData\",\"\"&B327&\"\",\"\",\"OpenPosition\",\"\"&Display1!$D$3&\"\")=0),A326+0.001,INT(A326)+1),A326)","v":0.32600000000000023},{"$f":"(LEFT(B328,SEARCH(Display1!$G$2,B328)+LEN(Display1!$G$2)+2))&RIGHT(B328,LEN(B328)-(SEARCH(Display1!$G$2,B328)+LEN(Display1!$G$2)+2))+Display1!$J$3","v":"C.US.CLEQ175200"}]
[{"$f":"IFERROR(IF(OR(ISTEXT(RTD(\"cqg.rtd\",,\"OrderData\",\"\"&B328&\"\",\"\",\"OpenPosition\",\"\"&Display1!$D$3&\"\")),RTD(\"cqg.rtd\",,\"OrderData\",\"\"&B328&\"\",\"\",\"OpenPosition\",\"\"&Display1!$D$3&\"\")=0),A327+0.001,INT(A327)+1),A327)","v":0.32700000000000023},{"$f":"(LEFT(B329,SEARCH(Display1!$G$2,B329)+LEN(Display1!$G$2)+2))&RIGHT(B329,LEN(B329)-(SEARCH(Display1!$G$2,B329)+LEN(Display1!$G$2)+2))+Display1!$J$3","v":"C.US.CLEQ175150"}]
[{"$f":"IFERROR(IF(OR(ISTEXT(RTD(\"cqg.rtd\",,\"OrderData\",\"\"&B329&\"\",\"\",\"OpenPosition\",\"\"&Display1!$D$3&\"\")),RTD(\"cqg.rtd\",,\"OrderData\",\"\"&B329&\"\",\"\",\"OpenPosition\",\"\"&Display1!$D$3&\"\")=0),A328+0.001,INT(A328)+1),A328)","v":0.32800000000000024},{"$f":"(LEFT(B330,SEARCH(Display1!$G$2,B330)+LEN(Display1!$G$2)+2))&RIGHT(B330,LEN(B330)-(SEARCH(Display1!$G$2,B330)+LEN(Display1!$G$2)+2))+Display1!$J$3","v":"C.US.CLEQ175100"}]
[{"$f":"IFERROR(IF(OR(ISTEXT(RTD(\"cqg.rtd\",,\"OrderData\",\"\"&B330&\"\",\"\",\"OpenPosition\",\"\"&Display1!$D$3&\"\")),RTD(\"cqg.rtd\",,\"OrderData\",\"\"&B330&\"\",\"\",\"OpenPosition\",\"\"&Display1!$D$3&\"\")=0),A329+0.001,INT(A329)+1),A329)","v":0.32900000000000024},{"$f":"(LEFT(B331,SEARCH(Display1!$G$2,B331)+LEN(Display1!$G$2)+2))&RIGHT(B331,LEN(B331)-(SEARCH(Display1!$G$2,B331)+LEN(Display1!$G$2)+2))+Display1!$J$3","v":"C.US.CLEQ175050"}]
[{"$f":"IFERROR(IF(OR(ISTEXT(RTD(\"cqg.rtd\",,\"OrderData\",\"\"&B331&\"\",\"\",\"OpenPosition\",\"\"&Display1!$D$3&\"\")),RTD(\"cqg.rtd\",,\"OrderData\",\"\"&B331&\"\",\"\",\"OpenPosition\",\"\"&Display1!$D$3&\"\")=0),A330+0.001,INT(A330)+1),A330)","v":0.33000000000000024},{"$f":"(LEFT(B332,SEARCH(Display1!$G$2,B332)+LEN(Display1!$G$2)+2))&RIGHT(B332,LEN(B332)-(SEARCH(Display1!$G$2,B332)+LEN(Display1!$G$2)+2))+Display1!$J$3","v":"C.US.CLEQ175000"}]
[{"$f":"IFERROR(IF(OR(ISTEXT(RTD(\"cqg.rtd\",,\"OrderData\",\"\"&B332&\"\",\"\",\"OpenPosition\",\"\"&Display1!$D$3&\"\")),RTD(\"cqg.rtd\",,\"OrderData\",\"\"&B332&\"\",\"\",\"OpenPosition\",\"\"&Display1!$D$3&\"\")=0),A331+0.001,INT(A331)+1),A331)","v":0.33100000000000024},{"$f":"(LEFT(B333,SEARCH(Display1!$G$2,B333)+LEN(Display1!$G$2)+2))&RIGHT(B333,LEN(B333)-(SEARCH(Display1!$G$2,B333)+LEN(Display1!$G$2)+2))+Display1!$J$3","v":"C.US.CLEQ174950"}]
[{"$f":"IFERROR(IF(OR(ISTEXT(RTD(\"cqg.rtd\",,\"OrderData\",\"\"&B333&\"\",\"\",\"OpenPosition\",\"\"&Display1!$D$3&\"\")),RTD(\"cqg.rtd\",,\"OrderData\",\"\"&B333&\"\",\"\",\"OpenPosition\",\"\"&Display1!$D$3&\"\")=0),A332+0.001,INT(A332)+1),A332)","v":0.33200000000000024},{"$f":"(LEFT(B334,SEARCH(Display1!$G$2,B334)+LEN(Display1!$G$2)+2))&RIGHT(B334,LEN(B334)-(SEARCH(Display1!$G$2,B334)+LEN(Display1!$G$2)+2))+Display1!$J$3","v":"C.US.CLEQ174900"}]
[{"$f":"IFERROR(IF(OR(ISTEXT(RTD(\"cqg.rtd\",,\"OrderData\",\"\"&B334&\"\",\"\",\"OpenPosition\",\"\"&Display1!$D$3&\"\")),RTD(\"cqg.rtd\",,\"OrderData\",\"\"&B334&\"\",\"\",\"OpenPosition\",\"\"&Display1!$D$3&\"\")=0),A333+0.001,INT(A333)+1),A333)","v":0.33300000000000024},{"$f":"(LEFT(B335,SEARCH(Display1!$G$2,B335)+LEN(Display1!$G$2)+2))&RIGHT(B335,LEN(B335)-(SEARCH(Display1!$G$2,B335)+LEN(Display1!$G$2)+2))+Display1!$J$3","v":"C.US.CLEQ174850"}]
[{"$f":"IFERROR(IF(OR(ISTEXT(RTD(\"cqg.rtd\",,\"OrderData\",\"\"&B335&\"\",\"\",\"OpenPosition\",\"\"&Display1!$D$3&\"\")),RTD(\"cqg.rtd\",,\"OrderData\",\"\"&B335&\"\",\"\",\"OpenPosition\",\"\"&Display1!$D$3&\"\")=0),A334+0.001,INT(A334)+1),A334)","v":0.33400000000000024},{"$f":"(LEFT(B336,SEARCH(Display1!$G$2,B336)+LEN(Display1!$G$2)+2))&RIGHT(B336,LEN(B336)-(SEARCH(Display1!$G$2,B336)+LEN(Display1!$G$2)+2))+Display1!$J$3","v":"C.US.CLEQ174800"}]
[{"$f":"IFERROR(IF(OR(ISTEXT(RTD(\"cqg.rtd\",,\"OrderData\",\"\"&B336&\"\",\"\",\"OpenPosition\",\"\"&Display1!$D$3&\"\")),RTD(\"cqg.rtd\",,\"OrderData\",\"\"&B336&\"\",\"\",\"OpenPosition\",\"\"&Display1!$D$3&\"\")=0),A335+0.001,INT(A335)+1),A335)","v":0.33500000000000024},{"$f":"(LEFT(B337,SEARCH(Display1!$G$2,B337)+LEN(Display1!$G$2)+2))&RIGHT(B337,LEN(B337)-(SEARCH(Display1!$G$2,B337)+LEN(Display1!$G$2)+2))+Display1!$J$3","v":"C.US.CLEQ174750"}]
[{"$f":"IFERROR(IF(OR(ISTEXT(RTD(\"cqg.rtd\",,\"OrderData\",\"\"&B337&\"\",\"\",\"OpenPosition\",\"\"&Display1!$D$3&\"\")),RTD(\"cqg.rtd\",,\"OrderData\",\"\"&B337&\"\",\"\",\"OpenPosition\",\"\"&Display1!$D$3&\"\")=0),A336+0.001,INT(A336)+1),A336)","v":0.33600000000000024},{"$f":"(LEFT(B338,SEARCH(Display1!$G$2,B338)+LEN(Display1!$G$2)+2))&RIGHT(B338,LEN(B338)-(SEARCH(Display1!$G$2,B338)+LEN(Display1!$G$2)+2))+Display1!$J$3","v":"C.US.CLEQ174700"}]
[{"$f":"IFERROR(IF(OR(ISTEXT(RTD(\"cqg.rtd\",,\"OrderData\",\"\"&B338&\"\",\"\",\"OpenPosition\",\"\"&Display1!$D$3&\"\")),RTD(\"cqg.rtd\",,\"OrderData\",\"\"&B338&\"\",\"\",\"OpenPosition\",\"\"&Display1!$D$3&\"\")=0),A337+0.001,INT(A337)+1),A337)","v":0.33700000000000024},{"$f":"(LEFT(B339,SEARCH(Display1!$G$2,B339)+LEN(Display1!$G$2)+2))&RIGHT(B339,LEN(B339)-(SEARCH(Display1!$G$2,B339)+LEN(Display1!$G$2)+2))+Display1!$J$3","v":"C.US.CLEQ174650"}]
[{"$f":"IFERROR(IF(OR(ISTEXT(RTD(\"cqg.rtd\",,\"OrderData\",\"\"&B339&\"\",\"\",\"OpenPosition\",\"\"&Display1!$D$3&\"\")),RTD(\"cqg.rtd\",,\"OrderData\",\"\"&B339&\"\",\"\",\"OpenPosition\",\"\"&Display1!$D$3&\"\")=0),A338+0.001,INT(A338)+1),A338)","v":0.33800000000000024},{"$f":"(LEFT(B340,SEARCH(Display1!$G$2,B340)+LEN(Display1!$G$2)+2))&RIGHT(B340,LEN(B340)-(SEARCH(Display1!$G$2,B340)+LEN(Display1!$G$2)+2))+Display1!$J$3","v":"C.US.CLEQ174600"}]
[{"$f":"IFERROR(IF(OR(ISTEXT(RTD(\"cqg.rtd\",,\"OrderData\",\"\"&B340&\"\",\"\",\"OpenPosition\",\"\"&Display1!$D$3&\"\")),RTD(\"cqg.rtd\",,\"OrderData\",\"\"&B340&\"\",\"\",\"OpenPosition\",\"\"&Display1!$D$3&\"\")=0),A339+0.001,INT(A339)+1),A339)","v":0.33900000000000025},{"$f":"(LEFT(B341,SEARCH(Display1!$G$2,B341)+LEN(Display1!$G$2)+2))&RIGHT(B341,LEN(B341)-(SEARCH(Display1!$G$2,B341)+LEN(Display1!$G$2)+2))+Display1!$J$3","v":"C.US.CLEQ174550"}]
[{"$f":"IFERROR(IF(OR(ISTEXT(RTD(\"cqg.rtd\",,\"OrderData\",\"\"&B341&\"\",\"\",\"OpenPosition\",\"\"&Display1!$D$3&\"\")),RTD(\"cqg.rtd\",,\"OrderData\",\"\"&B341&\"\",\"\",\"OpenPosition\",\"\"&Display1!$D$3&\"\")=0),A340+0.001,INT(A340)+1),A340)","v":0.34000000000000025},{"$f":"(LEFT(B342,SEARCH(Display1!$G$2,B342)+LEN(Display1!$G$2)+2))&RIGHT(B342,LEN(B342)-(SEARCH(Display1!$G$2,B342)+LEN(Display1!$G$2)+2))+Display1!$J$3","v":"C.US.CLEQ174500"}]
[{"$f":"IFERROR(IF(OR(ISTEXT(RTD(\"cqg.rtd\",,\"OrderData\",\"\"&B342&\"\",\"\",\"OpenPosition\",\"\"&Display1!$D$3&\"\")),RTD(\"cqg.rtd\",,\"OrderData\",\"\"&B342&\"\",\"\",\"OpenPosition\",\"\"&Display1!$D$3&\"\")=0),A341+0.001,INT(A341)+1),A341)","v":0.34100000000000025},{"$f":"(LEFT(B343,SEARCH(Display1!$G$2,B343)+LEN(Display1!$G$2)+2))&RIGHT(B343,LEN(B343)-(SEARCH(Display1!$G$2,B343)+LEN(Display1!$G$2)+2))+Display1!$J$3","v":"C.US.CLEQ174450"}]
[{"$f":"IFERROR(IF(OR(ISTEXT(RTD(\"cqg.rtd\",,\"OrderData\",\"\"&B343&\"\",\"\",\"OpenPosition\",\"\"&Display1!$D$3&\"\")),RTD(\"cqg.rtd\",,\"OrderData\",\"\"&B343&\"\",\"\",\"OpenPosition\",\"\"&Display1!$D$3&\"\")=0),A342+0.001,INT(A342)+1),A342)","v":0.34200000000000025},{"$f":"(LEFT(B344,SEARCH(Display1!$G$2,B344)+LEN(Display1!$G$2)+2))&RIGHT(B344,LEN(B344)-(SEARCH(Display1!$G$2,B344)+LEN(Display1!$G$2)+2))+Display1!$J$3","v":"C.US.CLEQ174400"}]
[{"$f":"IFERROR(IF(OR(ISTEXT(RTD(\"cqg.rtd\",,\"OrderData\",\"\"&B344&\"\",\"\",\"OpenPosition\",\"\"&Display1!$D$3&\"\")),RTD(\"cqg.rtd\",,\"OrderData\",\"\"&B344&\"\",\"\",\"OpenPosition\",\"\"&Display1!$D$3&\"\")=0),A343+0.001,INT(A343)+1),A343)","v":0.34300000000000025},{"$f":"RTD(\"cqg.rtd\", ,\"ContractData\", \"C.US.\"&Display1!$G$2&Display1!$I$3&\"\", \"Symbol\",, \"T\")","v":"C.US.CLEQ174350"}]
[{"$f":"IFERROR(IF(OR(ISTEXT(RTD(\"cqg.rtd\",,\"OrderData\",\"\"&B345&\"\",\"\",\"OpenPosition\",\"\"&Display1!$D$3&\"\")),RTD(\"cqg.rtd\",,\"OrderData\",\"\"&B345&\"\",\"\",\"OpenPosition\",\"\"&Display1!$D$3&\"\")=0),A344+0.001,INT(A344)+1),A344)","v":0.34400000000000025},{"$f":"(LEFT(B344,SEARCH(Display1!$G$2,B344)+LEN(Display1!$G$2)+2))&RIGHT(B344,LEN(B344)-(SEARCH(Display1!$G$2,B344)+LEN(Display1!$G$2)+2))-Display1!$J$3","v":"C.US.CLEQ174300"}]
[{"$f":"IFERROR(IF(OR(ISTEXT(RTD(\"cqg.rtd\",,\"OrderData\",\"\"&B346&\"\",\"\",\"OpenPosition\",\"\"&Display1!$D$3&\"\")),RTD(\"cqg.rtd\",,\"OrderData\",\"\"&B346&\"\",\"\",\"OpenPosition\",\"\"&Display1!$D$3&\"\")=0),A345+0.001,INT(A345)+1),A345)","v":0.34500000000000025},{"$f":"(LEFT(B345,SEARCH(Display1!$G$2,B345)+LEN(Display1!$G$2)+2))&RIGHT(B345,LEN(B345)-(SEARCH(Display1!$G$2,B345)+LEN(Display1!$G$2)+2))-Display1!$J$3","v":"C.US.CLEQ174250"}]
[{"$f":"IFERROR(IF(OR(ISTEXT(RTD(\"cqg.rtd\",,\"OrderData\",\"\"&B347&\"\",\"\",\"OpenPosition\",\"\"&Display1!$D$3&\"\")),RTD(\"cqg.rtd\",,\"OrderData\",\"\"&B347&\"\",\"\",\"OpenPosition\",\"\"&Display1!$D$3&\"\")=0),A346+0.001,INT(A346)+1),A346)","v":0.34600000000000025},{"$f":"(LEFT(B346,SEARCH(Display1!$G$2,B346)+LEN(Display1!$G$2)+2))&RIGHT(B346,LEN(B346)-(SEARCH(Display1!$G$2,B346)+LEN(Display1!$G$2)+2))-Display1!$J$3","v":"C.US.CLEQ174200"}]
[{"$f":"IFERROR(IF(OR(ISTEXT(RTD(\"cqg.rtd\",,\"OrderData\",\"\"&B348&\"\",\"\",\"OpenPosition\",\"\"&Display1!$D$3&\"\")),RTD(\"cqg.rtd\",,\"OrderData\",\"\"&B348&\"\",\"\",\"OpenPosition\",\"\"&Display1!$D$3&\"\")=0),A347+0.001,INT(A347)+1),A347)","v":0.34700000000000025},{"$f":"(LEFT(B347,SEARCH(Display1!$G$2,B347)+LEN(Display1!$G$2)+2))&RIGHT(B347,LEN(B347)-(SEARCH(Display1!$G$2,B347)+LEN(Display1!$G$2)+2))-Display1!$J$3","v":"C.US.CLEQ174150"}]
[{"$f":"IFERROR(IF(OR(ISTEXT(RTD(\"cqg.rtd\",,\"OrderData\",\"\"&B349&\"\",\"\",\"OpenPosition\",\"\"&Display1!$D$3&\"\")),RTD(\"cqg.rtd\",,\"OrderData\",\"\"&B349&\"\",\"\",\"OpenPosition\",\"\"&Display1!$D$3&\"\")=0),A348+0.001,INT(A348)+1),A348)","v":0.34800000000000025},{"$f":"(LEFT(B348,SEARCH(Display1!$G$2,B348)+LEN(Display1!$G$2)+2))&RIGHT(B348,LEN(B348)-(SEARCH(Display1!$G$2,B348)+LEN(Display1!$G$2)+2))-Display1!$J$3","v":"C.US.CLEQ174100"}]
[{"$f":"IFERROR(IF(OR(ISTEXT(RTD(\"cqg.rtd\",,\"OrderData\",\"\"&B350&\"\",\"\",\"OpenPosition\",\"\"&Display1!$D$3&\"\")),RTD(\"cqg.rtd\",,\"OrderData\",\"\"&B350&\"\",\"\",\"OpenPosition\",\"\"&Display1!$D$3&\"\")=0),A349+0.001,INT(A349)+1),A349)","v":0.34900000000000025},{"$f":"(LEFT(B349,SEARCH(Display1!$G$2,B349)+LEN(Display1!$G$2)+2))&RIGHT(B349,LEN(B349)-(SEARCH(Display1!$G$2,B349)+LEN(Display1!$G$2)+2))-Display1!$J$3","v":"C.US.CLEQ174050"}]
[{"$f":"IFERROR(IF(OR(ISTEXT(RTD(\"cqg.rtd\",,\"OrderData\",\"\"&B351&\"\",\"\",\"OpenPosition\",\"\"&Display1!$D$3&\"\")),RTD(\"cqg.rtd\",,\"OrderData\",\"\"&B351&\"\",\"\",\"OpenPosition\",\"\"&Display1!$D$3&\"\")=0),A350+0.001,INT(A350)+1),A350)","v":0.35000000000000026},{"$f":"(LEFT(B350,SEARCH(Display1!$G$2,B350)+LEN(Display1!$G$2)+2))&RIGHT(B350,LEN(B350)-(SEARCH(Display1!$G$2,B350)+LEN(Display1!$G$2)+2))-Display1!$J$3","v":"C.US.CLEQ174000"}]
[{"$f":"IFERROR(IF(OR(ISTEXT(RTD(\"cqg.rtd\",,\"OrderData\",\"\"&B352&\"\",\"\",\"OpenPosition\",\"\"&Display1!$D$3&\"\")),RTD(\"cqg.rtd\",,\"OrderData\",\"\"&B352&\"\",\"\",\"OpenPosition\",\"\"&Display1!$D$3&\"\")=0),A351+0.001,INT(A351)+1),A351)","v":0.35100000000000026},{"$f":"(LEFT(B351,SEARCH(Display1!$G$2,B351)+LEN(Display1!$G$2)+2))&RIGHT(B351,LEN(B351)-(SEARCH(Display1!$G$2,B351)+LEN(Display1!$G$2)+2))-Display1!$J$3","v":"C.US.CLEQ173950"}]
[{"$f":"IFERROR(IF(OR(ISTEXT(RTD(\"cqg.rtd\",,\"OrderData\",\"\"&B353&\"\",\"\",\"OpenPosition\",\"\"&Display1!$D$3&\"\")),RTD(\"cqg.rtd\",,\"OrderData\",\"\"&B353&\"\",\"\",\"OpenPosition\",\"\"&Display1!$D$3&\"\")=0),A352+0.001,INT(A352)+1),A352)","v":0.35200000000000026},{"$f":"(LEFT(B352,SEARCH(Display1!$G$2,B352)+LEN(Display1!$G$2)+2))&RIGHT(B352,LEN(B352)-(SEARCH(Display1!$G$2,B352)+LEN(Display1!$G$2)+2))-Display1!$J$3","v":"C.US.CLEQ173900"}]
[{"$f":"IFERROR(IF(OR(ISTEXT(RTD(\"cqg.rtd\",,\"OrderData\",\"\"&B354&\"\",\"\",\"OpenPosition\",\"\"&Display1!$D$3&\"\")),RTD(\"cqg.rtd\",,\"OrderData\",\"\"&B354&\"\",\"\",\"OpenPosition\",\"\"&Display1!$D$3&\"\")=0),A353+0.001,INT(A353)+1),A353)","v":0.35300000000000026},{"$f":"(LEFT(B353,SEARCH(Display1!$G$2,B353)+LEN(Display1!$G$2)+2))&RIGHT(B353,LEN(B353)-(SEARCH(Display1!$G$2,B353)+LEN(Display1!$G$2)+2))-Display1!$J$3","v":"C.US.CLEQ173850"}]
[{"$f":"IFERROR(IF(OR(ISTEXT(RTD(\"cqg.rtd\",,\"OrderData\",\"\"&B355&\"\",\"\",\"OpenPosition\",\"\"&Display1!$D$3&\"\")),RTD(\"cqg.rtd\",,\"OrderData\",\"\"&B355&\"\",\"\",\"OpenPosition\",\"\"&Display1!$D$3&\"\")=0),A354+0.001,INT(A354)+1),A354)","v":0.35400000000000026},{"$f":"(LEFT(B354,SEARCH(Display1!$G$2,B354)+LEN(Display1!$G$2)+2))&RIGHT(B354,LEN(B354)-(SEARCH(Display1!$G$2,B354)+LEN(Display1!$G$2)+2))-Display1!$J$3","v":"C.US.CLEQ173800"}]
[{"$f":"IFERROR(IF(OR(ISTEXT(RTD(\"cqg.rtd\",,\"OrderData\",\"\"&B356&\"\",\"\",\"OpenPosition\",\"\"&Display1!$D$3&\"\")),RTD(\"cqg.rtd\",,\"OrderData\",\"\"&B356&\"\",\"\",\"OpenPosition\",\"\"&Display1!$D$3&\"\")=0),A355+0.001,INT(A355)+1),A355)","v":0.35500000000000026},{"$f":"(LEFT(B355,SEARCH(Display1!$G$2,B355)+LEN(Display1!$G$2)+2))&RIGHT(B355,LEN(B355)-(SEARCH(Display1!$G$2,B355)+LEN(Display1!$G$2)+2))-Display1!$J$3","v":"C.US.CLEQ173750"}]
[{"$f":"IFERROR(IF(OR(ISTEXT(RTD(\"cqg.rtd\",,\"OrderData\",\"\"&B357&\"\",\"\",\"OpenPosition\",\"\"&Display1!$D$3&\"\")),RTD(\"cqg.rtd\",,\"OrderData\",\"\"&B357&\"\",\"\",\"OpenPosition\",\"\"&Display1!$D$3&\"\")=0),A356+0.001,INT(A356)+1),A356)","v":0.35600000000000026},{"$f":"(LEFT(B356,SEARCH(Display1!$G$2,B356)+LEN(Display1!$G$2)+2))&RIGHT(B356,LEN(B356)-(SEARCH(Display1!$G$2,B356)+LEN(Display1!$G$2)+2))-Display1!$J$3","v":"C.US.CLEQ173700"}]
[{"$f":"IFERROR(IF(OR(ISTEXT(RTD(\"cqg.rtd\",,\"OrderData\",\"\"&B358&\"\",\"\",\"OpenPosition\",\"\"&Display1!$D$3&\"\")),RTD(\"cqg.rtd\",,\"OrderData\",\"\"&B358&\"\",\"\",\"OpenPosition\",\"\"&Display1!$D$3&\"\")=0),A357+0.001,INT(A357)+1),A357)","v":0.35700000000000026},{"$f":"(LEFT(B357,SEARCH(Display1!$G$2,B357)+LEN(Display1!$G$2)+2))&RIGHT(B357,LEN(B357)-(SEARCH(Display1!$G$2,B357)+LEN(Display1!$G$2)+2))-Display1!$J$3","v":"C.US.CLEQ173650"}]
[{"$f":"IFERROR(IF(OR(ISTEXT(RTD(\"cqg.rtd\",,\"OrderData\",\"\"&B359&\"\",\"\",\"OpenPosition\",\"\"&Display1!$D$3&\"\")),RTD(\"cqg.rtd\",,\"OrderData\",\"\"&B359&\"\",\"\",\"OpenPosition\",\"\"&Display1!$D$3&\"\")=0),A358+0.001,INT(A358)+1),A358)","v":0.35800000000000026},{"$f":"(LEFT(B358,SEARCH(Display1!$G$2,B358)+LEN(Display1!$G$2)+2))&RIGHT(B358,LEN(B358)-(SEARCH(Display1!$G$2,B358)+LEN(Display1!$G$2)+2))-Display1!$J$3","v":"C.US.CLEQ173600"}]
[{"$f":"IFERROR(IF(OR(ISTEXT(RTD(\"cqg.rtd\",,\"OrderData\",\"\"&B360&\"\",\"\",\"OpenPosition\",\"\"&Display1!$D$3&\"\")),RTD(\"cqg.rtd\",,\"OrderData\",\"\"&B360&\"\",\"\",\"OpenPosition\",\"\"&Display1!$D$3&\"\")=0),A359+0.001,INT(A359)+1),A359)","v":0.35900000000000026},{"$f":"(LEFT(B359,SEARCH(Display1!$G$2,B359)+LEN(Display1!$G$2)+2))&RIGHT(B359,LEN(B359)-(SEARCH(Display1!$G$2,B359)+LEN(Display1!$G$2)+2))-Display1!$J$3","v":"C.US.CLEQ173550"}]
[{"$f":"IFERROR(IF(OR(ISTEXT(RTD(\"cqg.rtd\",,\"OrderData\",\"\"&B361&\"\",\"\",\"OpenPosition\",\"\"&Display1!$D$3&\"\")),RTD(\"cqg.rtd\",,\"OrderData\",\"\"&B361&\"\",\"\",\"OpenPosition\",\"\"&Display1!$D$3&\"\")=0),A360+0.001,INT(A360)+1),A360)","v":0.36000000000000026},{"$f":"(LEFT(B360,SEARCH(Display1!$G$2,B360)+LEN(Display1!$G$2)+2))&RIGHT(B360,LEN(B360)-(SEARCH(Display1!$G$2,B360)+LEN(Display1!$G$2)+2))-Display1!$J$3","v":"C.US.CLEQ173500"}]
[{"$f":"IFERROR(IF(OR(ISTEXT(RTD(\"cqg.rtd\",,\"OrderData\",\"\"&B362&\"\",\"\",\"OpenPosition\",\"\"&Display1!$D$3&\"\")),RTD(\"cqg.rtd\",,\"OrderData\",\"\"&B362&\"\",\"\",\"OpenPosition\",\"\"&Display1!$D$3&\"\")=0),A361+0.001,INT(A361)+1),A361)","v":0.36100000000000027},{"$f":"(LEFT(B361,SEARCH(Display1!$G$2,B361)+LEN(Display1!$G$2)+2))&RIGHT(B361,LEN(B361)-(SEARCH(Display1!$G$2,B361)+LEN(Display1!$G$2)+2))-Display1!$J$3","v":"C.US.CLEQ173450"}]
[{"$f":"IFERROR(IF(OR(ISTEXT(RTD(\"cqg.rtd\",,\"OrderData\",\"\"&B363&\"\",\"\",\"OpenPosition\",\"\"&Display1!$D$3&\"\")),RTD(\"cqg.rtd\",,\"OrderData\",\"\"&B363&\"\",\"\",\"OpenPosition\",\"\"&Display1!$D$3&\"\")=0),A362+0.001,INT(A362)+1),A362)","v":0.36200000000000027},{"$f":"(LEFT(B362,SEARCH(Display1!$G$2,B362)+LEN(Display1!$G$2)+2))&RIGHT(B362,LEN(B362)-(SEARCH(Display1!$G$2,B362)+LEN(Display1!$G$2)+2))-Display1!$J$3","v":"C.US.CLEQ173400"}]
[{"$f":"IFERROR(IF(OR(ISTEXT(RTD(\"cqg.rtd\",,\"OrderData\",\"\"&B364&\"\",\"\",\"OpenPosition\",\"\"&Display1!$D$3&\"\")),RTD(\"cqg.rtd\",,\"OrderData\",\"\"&B364&\"\",\"\",\"OpenPosition\",\"\"&Display1!$D$3&\"\")=0),A363+0.001,INT(A363)+1),A363)","v":0.36300000000000027},{"$f":"(LEFT(B363,SEARCH(Display1!$G$2,B363)+LEN(Display1!$G$2)+2))&RIGHT(B363,LEN(B363)-(SEARCH(Display1!$G$2,B363)+LEN(Display1!$G$2)+2))-Display1!$J$3","v":"C.US.CLEQ173350"}]
[{"$f":"IFERROR(IF(OR(ISTEXT(RTD(\"cqg.rtd\",,\"OrderData\",\"\"&B365&\"\",\"\",\"OpenPosition\",\"\"&Display1!$D$3&\"\")),RTD(\"cqg.rtd\",,\"OrderData\",\"\"&B365&\"\",\"\",\"OpenPosition\",\"\"&Display1!$D$3&\"\")=0),A364+0.001,INT(A364)+1),A364)","v":0.36400000000000027},{"$f":"(LEFT(B366,SEARCH(Display1!$G$2,B366)+LEN(Display1!$G$2)+2))&RIGHT(B366,LEN(B366)-(SEARCH(Display1!$G$2,B366)+LEN(Display1!$G$2)+2))+Display1!$J$3","v":"P.US.CLEQ176300"}]
[{"$f":"IFERROR(IF(OR(ISTEXT(RTD(\"cqg.rtd\",,\"OrderData\",\"\"&B366&\"\",\"\",\"OpenPosition\",\"\"&Display1!$D$3&\"\")),RTD(\"cqg.rtd\",,\"OrderData\",\"\"&B366&\"\",\"\",\"OpenPosition\",\"\"&Display1!$D$3&\"\")=0),A365+0.001,INT(A365)+1),A365)","v":0.36500000000000027},{"$f":"(LEFT(B367,SEARCH(Display1!$G$2,B367)+LEN(Display1!$G$2)+2))&RIGHT(B367,LEN(B367)-(SEARCH(Display1!$G$2,B367)+LEN(Display1!$G$2)+2))+Display1!$J$3","v":"P.US.CLEQ176250"}]
[{"$f":"IFERROR(IF(OR(ISTEXT(RTD(\"cqg.rtd\",,\"OrderData\",\"\"&B367&\"\",\"\",\"OpenPosition\",\"\"&Display1!$D$3&\"\")),RTD(\"cqg.rtd\",,\"OrderData\",\"\"&B367&\"\",\"\",\"OpenPosition\",\"\"&Display1!$D$3&\"\")=0),A366+0.001,INT(A366)+1),A366)","v":0.36600000000000027},{"$f":"(LEFT(B368,SEARCH(Display1!$G$2,B368)+LEN(Display1!$G$2)+2))&RIGHT(B368,LEN(B368)-(SEARCH(Display1!$G$2,B368)+LEN(Display1!$G$2)+2))+Display1!$J$3","v":"P.US.CLEQ176200"}]
[{"$f":"IFERROR(IF(OR(ISTEXT(RTD(\"cqg.rtd\",,\"OrderData\",\"\"&B368&\"\",\"\",\"OpenPosition\",\"\"&Display1!$D$3&\"\")),RTD(\"cqg.rtd\",,\"OrderData\",\"\"&B368&\"\",\"\",\"OpenPosition\",\"\"&Display1!$D$3&\"\")=0),A367+0.001,INT(A367)+1),A367)","v":0.36700000000000027},{"$f":"(LEFT(B369,SEARCH(Display1!$G$2,B369)+LEN(Display1!$G$2)+2))&RIGHT(B369,LEN(B369)-(SEARCH(Display1!$G$2,B369)+LEN(Display1!$G$2)+2))+Display1!$J$3","v":"P.US.CLEQ176150"}]
[{"$f":"IFERROR(IF(OR(ISTEXT(RTD(\"cqg.rtd\",,\"OrderData\",\"\"&B369&\"\",\"\",\"OpenPosition\",\"\"&Display1!$D$3&\"\")),RTD(\"cqg.rtd\",,\"OrderData\",\"\"&B369&\"\",\"\",\"OpenPosition\",\"\"&Display1!$D$3&\"\")=0),A368+0.001,INT(A368)+1),A368)","v":0.36800000000000027},{"$f":"(LEFT(B370,SEARCH(Display1!$G$2,B370)+LEN(Display1!$G$2)+2))&RIGHT(B370,LEN(B370)-(SEARCH(Display1!$G$2,B370)+LEN(Display1!$G$2)+2))+Display1!$J$3","v":"P.US.CLEQ176100"}]
[{"$f":"IFERROR(IF(OR(ISTEXT(RTD(\"cqg.rtd\",,\"OrderData\",\"\"&B370&\"\",\"\",\"OpenPosition\",\"\"&Display1!$D$3&\"\")),RTD(\"cqg.rtd\",,\"OrderData\",\"\"&B370&\"\",\"\",\"OpenPosition\",\"\"&Display1!$D$3&\"\")=0),A369+0.001,INT(A369)+1),A369)","v":0.36900000000000027},{"$f":"(LEFT(B371,SEARCH(Display1!$G$2,B371)+LEN(Display1!$G$2)+2))&RIGHT(B371,LEN(B371)-(SEARCH(Display1!$G$2,B371)+LEN(Display1!$G$2)+2))+Display1!$J$3","v":"P.US.CLEQ176050"}]
[{"$f":"IFERROR(IF(OR(ISTEXT(RTD(\"cqg.rtd\",,\"OrderData\",\"\"&B371&\"\",\"\",\"OpenPosition\",\"\"&Display1!$D$3&\"\")),RTD(\"cqg.rtd\",,\"OrderData\",\"\"&B371&\"\",\"\",\"OpenPosition\",\"\"&Display1!$D$3&\"\")=0),A370+0.001,INT(A370)+1),A370)","v":0.37000000000000027},{"$f":"(LEFT(B372,SEARCH(Display1!$G$2,B372)+LEN(Display1!$G$2)+2))&RIGHT(B372,LEN(B372)-(SEARCH(Display1!$G$2,B372)+LEN(Display1!$G$2)+2))+Display1!$J$3","v":"P.US.CLEQ176000"}]
[{"$f":"IFERROR(IF(OR(ISTEXT(RTD(\"cqg.rtd\",,\"OrderData\",\"\"&B372&\"\",\"\",\"OpenPosition\",\"\"&Display1!$D$3&\"\")),RTD(\"cqg.rtd\",,\"OrderData\",\"\"&B372&\"\",\"\",\"OpenPosition\",\"\"&Display1!$D$3&\"\")=0),A371+0.001,INT(A371)+1),A371)","v":0.37100000000000027},{"$f":"(LEFT(B373,SEARCH(Display1!$G$2,B373)+LEN(Display1!$G$2)+2))&RIGHT(B373,LEN(B373)-(SEARCH(Display1!$G$2,B373)+LEN(Display1!$G$2)+2))+Display1!$J$3","v":"P.US.CLEQ175950"}]
[{"$f":"IFERROR(IF(OR(ISTEXT(RTD(\"cqg.rtd\",,\"OrderData\",\"\"&B373&\"\",\"\",\"OpenPosition\",\"\"&Display1!$D$3&\"\")),RTD(\"cqg.rtd\",,\"OrderData\",\"\"&B373&\"\",\"\",\"OpenPosition\",\"\"&Display1!$D$3&\"\")=0),A372+0.001,INT(A372)+1),A372)","v":0.37200000000000027},{"$f":"(LEFT(B374,SEARCH(Display1!$G$2,B374)+LEN(Display1!$G$2)+2))&RIGHT(B374,LEN(B374)-(SEARCH(Display1!$G$2,B374)+LEN(Display1!$G$2)+2))+Display1!$J$3","v":"P.US.CLEQ175900"}]
[{"$f":"IFERROR(IF(OR(ISTEXT(RTD(\"cqg.rtd\",,\"OrderData\",\"\"&B374&\"\",\"\",\"OpenPosition\",\"\"&Display1!$D$3&\"\")),RTD(\"cqg.rtd\",,\"OrderData\",\"\"&B374&\"\",\"\",\"OpenPosition\",\"\"&Display1!$D$3&\"\")=0),A373+0.001,INT(A373)+1),A373)","v":0.37300000000000028},{"$f":"(LEFT(B375,SEARCH(Display1!$G$2,B375)+LEN(Display1!$G$2)+2))&RIGHT(B375,LEN(B375)-(SEARCH(Display1!$G$2,B375)+LEN(Display1!$G$2)+2))+Display1!$J$3","v":"P.US.CLEQ175850"}]
[{"$f":"IFERROR(IF(OR(ISTEXT(RTD(\"cqg.rtd\",,\"OrderData\",\"\"&B375&\"\",\"\",\"OpenPosition\",\"\"&Display1!$D$3&\"\")),RTD(\"cqg.rtd\",,\"OrderData\",\"\"&B375&\"\",\"\",\"OpenPosition\",\"\"&Display1!$D$3&\"\")=0),A374+0.001,INT(A374)+1),A374)","v":0.37400000000000028},{"$f":"(LEFT(B376,SEARCH(Display1!$G$2,B376)+LEN(Display1!$G$2)+2))&RIGHT(B376,LEN(B376)-(SEARCH(Display1!$G$2,B376)+LEN(Display1!$G$2)+2))+Display1!$J$3","v":"P.US.CLEQ175800"}]
[{"$f":"IFERROR(IF(OR(ISTEXT(RTD(\"cqg.rtd\",,\"OrderData\",\"\"&B376&\"\",\"\",\"OpenPosition\",\"\"&Display1!$D$3&\"\")),RTD(\"cqg.rtd\",,\"OrderData\",\"\"&B376&\"\",\"\",\"OpenPosition\",\"\"&Display1!$D$3&\"\")=0),A375+0.001,INT(A375)+1),A375)","v":0.37500000000000028},{"$f":"(LEFT(B377,SEARCH(Display1!$G$2,B377)+LEN(Display1!$G$2)+2))&RIGHT(B377,LEN(B377)-(SEARCH(Display1!$G$2,B377)+LEN(Display1!$G$2)+2))+Display1!$J$3","v":"P.US.CLEQ175750"}]
[{"$f":"IFERROR(IF(OR(ISTEXT(RTD(\"cqg.rtd\",,\"OrderData\",\"\"&B377&\"\",\"\",\"OpenPosition\",\"\"&Display1!$D$3&\"\")),RTD(\"cqg.rtd\",,\"OrderData\",\"\"&B377&\"\",\"\",\"OpenPosition\",\"\"&Display1!$D$3&\"\")=0),A376+0.001,INT(A376)+1),A376)","v":0.37600000000000028},{"$f":"(LEFT(B378,SEARCH(Display1!$G$2,B378)+LEN(Display1!$G$2)+2))&RIGHT(B378,LEN(B378)-(SEARCH(Display1!$G$2,B378)+LEN(Display1!$G$2)+2))+Display1!$J$3","v":"P.US.CLEQ175700"}]
[{"$f":"IFERROR(IF(OR(ISTEXT(RTD(\"cqg.rtd\",,\"OrderData\",\"\"&B378&\"\",\"\",\"OpenPosition\",\"\"&Display1!$D$3&\"\")),RTD(\"cqg.rtd\",,\"OrderData\",\"\"&B378&\"\",\"\",\"OpenPosition\",\"\"&Display1!$D$3&\"\")=0),A377+0.001,INT(A377)+1),A377)","v":0.37700000000000028},{"$f":"(LEFT(B379,SEARCH(Display1!$G$2,B379)+LEN(Display1!$G$2)+2))&RIGHT(B379,LEN(B379)-(SEARCH(Display1!$G$2,B379)+LEN(Display1!$G$2)+2))+Display1!$J$3","v":"P.US.CLEQ175650"}]
[{"$f":"IFERROR(IF(OR(ISTEXT(RTD(\"cqg.rtd\",,\"OrderData\",\"\"&B379&\"\",\"\",\"OpenPosition\",\"\"&Display1!$D$3&\"\")),RTD(\"cqg.rtd\",,\"OrderData\",\"\"&B379&\"\",\"\",\"OpenPosition\",\"\"&Display1!$D$3&\"\")=0),A378+0.001,INT(A378)+1),A378)","v":0.37800000000000028},{"$f":"(LEFT(B380,SEARCH(Display1!$G$2,B380)+LEN(Display1!$G$2)+2))&RIGHT(B380,LEN(B380)-(SEARCH(Display1!$G$2,B380)+LEN(Display1!$G$2)+2))+Display1!$J$3","v":"P.US.CLEQ175600"}]
[{"$f":"IFERROR(IF(OR(ISTEXT(RTD(\"cqg.rtd\",,\"OrderData\",\"\"&B380&\"\",\"\",\"OpenPosition\",\"\"&Display1!$D$3&\"\")),RTD(\"cqg.rtd\",,\"OrderData\",\"\"&B380&\"\",\"\",\"OpenPosition\",\"\"&Display1!$D$3&\"\")=0),A379+0.001,INT(A379)+1),A379)","v":0.37900000000000028},{"$f":"(LEFT(B381,SEARCH(Display1!$G$2,B381)+LEN(Display1!$G$2)+2))&RIGHT(B381,LEN(B381)-(SEARCH(Display1!$G$2,B381)+LEN(Display1!$G$2)+2))+Display1!$J$3","v":"P.US.CLEQ175550"}]
[{"$f":"IFERROR(IF(OR(ISTEXT(RTD(\"cqg.rtd\",,\"OrderData\",\"\"&B381&\"\",\"\",\"OpenPosition\",\"\"&Display1!$D$3&\"\")),RTD(\"cqg.rtd\",,\"OrderData\",\"\"&B381&\"\",\"\",\"OpenPosition\",\"\"&Display1!$D$3&\"\")=0),A380+0.001,INT(A380)+1),A380)","v":0.38000000000000028},{"$f":"(LEFT(B382,SEARCH(Display1!$G$2,B382)+LEN(Display1!$G$2)+2))&RIGHT(B382,LEN(B382)-(SEARCH(Display1!$G$2,B382)+LEN(Display1!$G$2)+2))+Display1!$J$3","v":"P.US.CLEQ175500"}]
[{"$f":"IFERROR(IF(OR(ISTEXT(RTD(\"cqg.rtd\",,\"OrderData\",\"\"&B382&\"\",\"\",\"OpenPosition\",\"\"&Display1!$D$3&\"\")),RTD(\"cqg.rtd\",,\"OrderData\",\"\"&B382&\"\",\"\",\"OpenPosition\",\"\"&Display1!$D$3&\"\")=0),A381+0.001,INT(A381)+1),A381)","v":0.38100000000000028},{"$f":"(LEFT(B383,SEARCH(Display1!$G$2,B383)+LEN(Display1!$G$2)+2))&RIGHT(B383,LEN(B383)-(SEARCH(Display1!$G$2,B383)+LEN(Display1!$G$2)+2))+Display1!$J$3","v":"P.US.CLEQ175450"}]
[{"$f":"IFERROR(IF(OR(ISTEXT(RTD(\"cqg.rtd\",,\"OrderData\",\"\"&B383&\"\",\"\",\"OpenPosition\",\"\"&Display1!$D$3&\"\")),RTD(\"cqg.rtd\",,\"OrderData\",\"\"&B383&\"\",\"\",\"OpenPosition\",\"\"&Display1!$D$3&\"\")=0),A382+0.001,INT(A382)+1),A382)","v":0.38200000000000028},{"$f":"(LEFT(B384,SEARCH(Display1!$G$2,B384)+LEN(Display1!$G$2)+2))&RIGHT(B384,LEN(B384)-(SEARCH(Display1!$G$2,B384)+LEN(Display1!$G$2)+2))+Display1!$J$3","v":"P.US.CLEQ175400"}]
[{"$f":"IFERROR(IF(OR(ISTEXT(RTD(\"cqg.rtd\",,\"OrderData\",\"\"&B384&\"\",\"\",\"OpenPosition\",\"\"&Display1!$D$3&\"\")),RTD(\"cqg.rtd\",,\"OrderData\",\"\"&B384&\"\",\"\",\"OpenPosition\",\"\"&Display1!$D$3&\"\")=0),A383+0.001,INT(A383)+1),A383)","v":0.38300000000000028},{"$f":"(LEFT(B385,SEARCH(Display1!$G$2,B385)+LEN(Display1!$G$2)+2))&RIGHT(B385,LEN(B385)-(SEARCH(Display1!$G$2,B385)+LEN(Display1!$G$2)+2))+Display1!$J$3","v":"P.US.CLEQ175350"}]
[{"$f":"IFERROR(IF(OR(ISTEXT(RTD(\"cqg.rtd\",,\"OrderData\",\"\"&B385&\"\",\"\",\"OpenPosition\",\"\"&Display1!$D$3&\"\")),RTD(\"cqg.rtd\",,\"OrderData\",\"\"&B385&\"\",\"\",\"OpenPosition\",\"\"&Display1!$D$3&\"\")=0),A384+0.001,INT(A384)+1),A384)","v":0.38400000000000029},{"$f":"(LEFT(B386,SEARCH(Display1!$G$2,B386)+LEN(Display1!$G$2)+2))&RIGHT(B386,LEN(B386)-(SEARCH(Display1!$G$2,B386)+LEN(Display1!$G$2)+2))+Display1!$J$3","v":"P.US.CLEQ175300"}]
[{"$f":"IFERROR(IF(OR(ISTEXT(RTD(\"cqg.rtd\",,\"OrderData\",\"\"&B386&\"\",\"\",\"OpenPosition\",\"\"&Display1!$D$3&\"\")),RTD(\"cqg.rtd\",,\"OrderData\",\"\"&B386&\"\",\"\",\"OpenPosition\",\"\"&Display1!$D$3&\"\")=0),A385+0.001,INT(A385)+1),A385)","v":0.38500000000000029},{"$f":"(LEFT(B387,SEARCH(Display1!$G$2,B387)+LEN(Display1!$G$2)+2))&RIGHT(B387,LEN(B387)-(SEARCH(Display1!$G$2,B387)+LEN(Display1!$G$2)+2))+Display1!$J$3","v":"P.US.CLEQ175250"}]
[{"$f":"IFERROR(IF(OR(ISTEXT(RTD(\"cqg.rtd\",,\"OrderData\",\"\"&B387&\"\",\"\",\"OpenPosition\",\"\"&Display1!$D$3&\"\")),RTD(\"cqg.rtd\",,\"OrderData\",\"\"&B387&\"\",\"\",\"OpenPosition\",\"\"&Display1!$D$3&\"\")=0),A386+0.001,INT(A386)+1),A386)","v":0.38600000000000029},{"$f":"(LEFT(B388,SEARCH(Display1!$G$2,B388)+LEN(Display1!$G$2)+2))&RIGHT(B388,LEN(B388)-(SEARCH(Display1!$G$2,B388)+LEN(Display1!$G$2)+2))+Display1!$J$3","v":"P.US.CLEQ175200"}]
[{"$f":"IFERROR(IF(OR(ISTEXT(RTD(\"cqg.rtd\",,\"OrderData\",\"\"&B388&\"\",\"\",\"OpenPosition\",\"\"&Display1!$D$3&\"\")),RTD(\"cqg.rtd\",,\"OrderData\",\"\"&B388&\"\",\"\",\"OpenPosition\",\"\"&Display1!$D$3&\"\")=0),A387+0.001,INT(A387)+1),A387)","v":0.38700000000000029},{"$f":"(LEFT(B389,SEARCH(Display1!$G$2,B389)+LEN(Display1!$G$2)+2))&RIGHT(B389,LEN(B389)-(SEARCH(Display1!$G$2,B389)+LEN(Display1!$G$2)+2))+Display1!$J$3","v":"P.US.CLEQ175150"}]
[{"$f":"IFERROR(IF(OR(ISTEXT(RTD(\"cqg.rtd\",,\"OrderData\",\"\"&B389&\"\",\"\",\"OpenPosition\",\"\"&Display1!$D$3&\"\")),RTD(\"cqg.rtd\",,\"OrderData\",\"\"&B389&\"\",\"\",\"OpenPosition\",\"\"&Display1!$D$3&\"\")=0),A388+0.001,INT(A388)+1),A388)","v":0.38800000000000029},{"$f":"(LEFT(B390,SEARCH(Display1!$G$2,B390)+LEN(Display1!$G$2)+2))&RIGHT(B390,LEN(B390)-(SEARCH(Display1!$G$2,B390)+LEN(Display1!$G$2)+2))+Display1!$J$3","v":"P.US.CLEQ175100"}]
[{"$f":"IFERROR(IF(OR(ISTEXT(RTD(\"cqg.rtd\",,\"OrderData\",\"\"&B390&\"\",\"\",\"OpenPosition\",\"\"&Display1!$D$3&\"\")),RTD(\"cqg.rtd\",,\"OrderData\",\"\"&B390&\"\",\"\",\"OpenPosition\",\"\"&Display1!$D$3&\"\")=0),A389+0.001,INT(A389)+1),A389)","v":0.38900000000000029},{"$f":"(LEFT(B391,SEARCH(Display1!$G$2,B391)+LEN(Display1!$G$2)+2))&RIGHT(B391,LEN(B391)-(SEARCH(Display1!$G$2,B391)+LEN(Display1!$G$2)+2))+Display1!$J$3","v":"P.US.CLEQ175050"}]
[{"$f":"IFERROR(IF(OR(ISTEXT(RTD(\"cqg.rtd\",,\"OrderData\",\"\"&B391&\"\",\"\",\"OpenPosition\",\"\"&Display1!$D$3&\"\")),RTD(\"cqg.rtd\",,\"OrderData\",\"\"&B391&\"\",\"\",\"OpenPosition\",\"\"&Display1!$D$3&\"\")=0),A390+0.001,INT(A390)+1),A390)","v":0.39000000000000029},{"$f":"(LEFT(B392,SEARCH(Display1!$G$2,B392)+LEN(Display1!$G$2)+2))&RIGHT(B392,LEN(B392)-(SEARCH(Display1!$G$2,B392)+LEN(Display1!$G$2)+2))+Display1!$J$3","v":"P.US.CLEQ175000"}]
[{"$f":"IFERROR(IF(OR(ISTEXT(RTD(\"cqg.rtd\",,\"OrderData\",\"\"&B392&\"\",\"\",\"OpenPosition\",\"\"&Display1!$D$3&\"\")),RTD(\"cqg.rtd\",,\"OrderData\",\"\"&B392&\"\",\"\",\"OpenPosition\",\"\"&Display1!$D$3&\"\")=0),A391+0.001,INT(A391)+1),A391)","v":0.39100000000000029},{"$f":"(LEFT(B393,SEARCH(Display1!$G$2,B393)+LEN(Display1!$G$2)+2))&RIGHT(B393,LEN(B393)-(SEARCH(Display1!$G$2,B393)+LEN(Display1!$G$2)+2))+Display1!$J$3","v":"P.US.CLEQ174950"}]
[{"$f":"IFERROR(IF(OR(ISTEXT(RTD(\"cqg.rtd\",,\"OrderData\",\"\"&B393&\"\",\"\",\"OpenPosition\",\"\"&Display1!$D$3&\"\")),RTD(\"cqg.rtd\",,\"OrderData\",\"\"&B393&\"\",\"\",\"OpenPosition\",\"\"&Display1!$D$3&\"\")=0),A392+0.001,INT(A392)+1),A392)","v":0.39200000000000029},{"$f":"(LEFT(B394,SEARCH(Display1!$G$2,B394)+LEN(Display1!$G$2)+2))&RIGHT(B394,LEN(B394)-(SEARCH(Display1!$G$2,B394)+LEN(Display1!$G$2)+2))+Display1!$J$3","v":"P.US.CLEQ174900"}]
[{"$f":"IFERROR(IF(OR(ISTEXT(RTD(\"cqg.rtd\",,\"OrderData\",\"\"&B394&\"\",\"\",\"OpenPosition\",\"\"&Display1!$D$3&\"\")),RTD(\"cqg.rtd\",,\"OrderData\",\"\"&B394&\"\",\"\",\"OpenPosition\",\"\"&Display1!$D$3&\"\")=0),A393+0.001,INT(A393)+1),A393)","v":0.39300000000000029},{"$f":"(LEFT(B395,SEARCH(Display1!$G$2,B395)+LEN(Display1!$G$2)+2))&RIGHT(B395,LEN(B395)-(SEARCH(Display1!$G$2,B395)+LEN(Display1!$G$2)+2))+Display1!$J$3","v":"P.US.CLEQ174850"}]
[{"$f":"IFERROR(IF(OR(ISTEXT(RTD(\"cqg.rtd\",,\"OrderData\",\"\"&B395&\"\",\"\",\"OpenPosition\",\"\"&Display1!$D$3&\"\")),RTD(\"cqg.rtd\",,\"OrderData\",\"\"&B395&\"\",\"\",\"OpenPosition\",\"\"&Display1!$D$3&\"\")=0),A394+0.001,INT(A394)+1),A394)","v":0.39400000000000029},{"$f":"(LEFT(B396,SEARCH(Display1!$G$2,B396)+LEN(Display1!$G$2)+2))&RIGHT(B396,LEN(B396)-(SEARCH(Display1!$G$2,B396)+LEN(Display1!$G$2)+2))+Display1!$J$3","v":"P.US.CLEQ174800"}]
[{"$f":"IFERROR(IF(OR(ISTEXT(RTD(\"cqg.rtd\",,\"OrderData\",\"\"&B396&\"\",\"\",\"OpenPosition\",\"\"&Display1!$D$3&\"\")),RTD(\"cqg.rtd\",,\"OrderData\",\"\"&B396&\"\",\"\",\"OpenPosition\",\"\"&Display1!$D$3&\"\")=0),A395+0.001,INT(A395)+1),A395)","v":0.3950000000000003},{"$f":"(LEFT(B397,SEARCH(Display1!$G$2,B397)+LEN(Display1!$G$2)+2))&RIGHT(B397,LEN(B397)-(SEARCH(Display1!$G$2,B397)+LEN(Display1!$G$2)+2))+Display1!$J$3","v":"P.US.CLEQ174750"}]
[{"$f":"IFERROR(IF(OR(ISTEXT(RTD(\"cqg.rtd\",,\"OrderData\",\"\"&B397&\"\",\"\",\"OpenPosition\",\"\"&Display1!$D$3&\"\")),RTD(\"cqg.rtd\",,\"OrderData\",\"\"&B397&\"\",\"\",\"OpenPosition\",\"\"&Display1!$D$3&\"\")=0),A396+0.001,INT(A396)+1),A396)","v":0.3960000000000003},{"$f":"(LEFT(B398,SEARCH(Display1!$G$2,B398)+LEN(Display1!$G$2)+2))&RIGHT(B398,LEN(B398)-(SEARCH(Display1!$G$2,B398)+LEN(Display1!$G$2)+2))+Display1!$J$3","v":"P.US.CLEQ174700"}]
[{"$f":"IFERROR(IF(OR(ISTEXT(RTD(\"cqg.rtd\",,\"OrderData\",\"\"&B398&\"\",\"\",\"OpenPosition\",\"\"&Display1!$D$3&\"\")),RTD(\"cqg.rtd\",,\"OrderData\",\"\"&B398&\"\",\"\",\"OpenPosition\",\"\"&Display1!$D$3&\"\")=0),A397+0.001,INT(A397)+1),A397)","v":0.3970000000000003},{"$f":"(LEFT(B399,SEARCH(Display1!$G$2,B399)+LEN(Display1!$G$2)+2))&RIGHT(B399,LEN(B399)-(SEARCH(Display1!$G$2,B399)+LEN(Display1!$G$2)+2))+Display1!$J$3","v":"P.US.CLEQ174650"}]
[{"$f":"IFERROR(IF(OR(ISTEXT(RTD(\"cqg.rtd\",,\"OrderData\",\"\"&B399&\"\",\"\",\"OpenPosition\",\"\"&Display1!$D$3&\"\")),RTD(\"cqg.rtd\",,\"OrderData\",\"\"&B399&\"\",\"\",\"OpenPosition\",\"\"&Display1!$D$3&\"\")=0),A398+0.001,INT(A398)+1),A398)","v":0.3980000000000003},{"$f":"(LEFT(B400,SEARCH(Display1!$G$2,B400)+LEN(Display1!$G$2)+2))&RIGHT(B400,LEN(B400)-(SEARCH(Display1!$G$2,B400)+LEN(Display1!$G$2)+2))+Display1!$J$3","v":"P.US.CLEQ174600"}]
[{"$f":"IFERROR(IF(OR(ISTEXT(RTD(\"cqg.rtd\",,\"OrderData\",\"\"&B400&\"\",\"\",\"OpenPosition\",\"\"&Display1!$D$3&\"\")),RTD(\"cqg.rtd\",,\"OrderData\",\"\"&B400&\"\",\"\",\"OpenPosition\",\"\"&Display1!$D$3&\"\")=0),A399+0.001,INT(A399)+1),A399)","v":0.3990000000000003},{"$f":"(LEFT(B401,SEARCH(Display1!$G$2,B401)+LEN(Display1!$G$2)+2))&RIGHT(B401,LEN(B401)-(SEARCH(Display1!$G$2,B401)+LEN(Display1!$G$2)+2))+Display1!$J$3","v":"P.US.CLEQ174550"}]
[{"$f":"IFERROR(IF(OR(ISTEXT(RTD(\"cqg.rtd\",,\"OrderData\",\"\"&B401&\"\",\"\",\"OpenPosition\",\"\"&Display1!$D$3&\"\")),RTD(\"cqg.rtd\",,\"OrderData\",\"\"&B401&\"\",\"\",\"OpenPosition\",\"\"&Display1!$D$3&\"\")=0),A400+0.001,INT(A400)+1),A400)","v":0.4000000000000003},{"$f":"(LEFT(B402,SEARCH(Display1!$G$2,B402)+LEN(Display1!$G$2)+2))&RIGHT(B402,LEN(B402)-(SEARCH(Display1!$G$2,B402)+LEN(Display1!$G$2)+2))+Display1!$J$3","v":"P.US.CLEQ174500"}]
[{"$f":"IFERROR(IF(OR(ISTEXT(RTD(\"cqg.rtd\",,\"OrderData\",\"\"&B402&\"\",\"\",\"OpenPosition\",\"\"&Display1!$D$3&\"\")),RTD(\"cqg.rtd\",,\"OrderData\",\"\"&B402&\"\",\"\",\"OpenPosition\",\"\"&Display1!$D$3&\"\")=0),A401+0.001,INT(A401)+1),A401)","v":0.4010000000000003},{"$f":"(LEFT(B403,SEARCH(Display1!$G$2,B403)+LEN(Display1!$G$2)+2))&RIGHT(B403,LEN(B403)-(SEARCH(Display1!$G$2,B403)+LEN(Display1!$G$2)+2))+Display1!$J$3","v":"P.US.CLEQ174450"}]
[{"$f":"IFERROR(IF(OR(ISTEXT(RTD(\"cqg.rtd\",,\"OrderData\",\"\"&B403&\"\",\"\",\"OpenPosition\",\"\"&Display1!$D$3&\"\")),RTD(\"cqg.rtd\",,\"OrderData\",\"\"&B403&\"\",\"\",\"OpenPosition\",\"\"&Display1!$D$3&\"\")=0),A402+0.001,INT(A402)+1),A402)","v":0.4020000000000003},{"$f":"(LEFT(B404,SEARCH(Display1!$G$2,B404)+LEN(Display1!$G$2)+2))&RIGHT(B404,LEN(B404)-(SEARCH(Display1!$G$2,B404)+LEN(Display1!$G$2)+2))+Display1!$J$3","v":"P.US.CLEQ174400"}]
[{"$f":"IFERROR(IF(OR(ISTEXT(RTD(\"cqg.rtd\",,\"OrderData\",\"\"&B404&\"\",\"\",\"OpenPosition\",\"\"&Display1!$D$3&\"\")),RTD(\"cqg.rtd\",,\"OrderData\",\"\"&B404&\"\",\"\",\"OpenPosition\",\"\"&Display1!$D$3&\"\")=0),A403+0.001,INT(A403)+1),A403)","v":0.4030000000000003},{"$f":"(LEFT(B405,SEARCH(Display1!$G$2,B405)+LEN(Display1!$G$2)+2))&RIGHT(B405,LEN(B405)-(SEARCH(Display1!$G$2,B405)+LEN(Display1!$G$2)+2))+Display1!$J$3","v":"P.US.CLEQ174350"}]
[{"$f":"IFERROR(IF(OR(ISTEXT(RTD(\"cqg.rtd\",,\"OrderData\",\"\"&B405&\"\",\"\",\"OpenPosition\",\"\"&Display1!$D$3&\"\")),RTD(\"cqg.rtd\",,\"OrderData\",\"\"&B405&\"\",\"\",\"OpenPosition\",\"\"&Display1!$D$3&\"\")=0),A404+0.001,INT(A404)+1),A404)","v":0.4040000000000003},{"$f":"RTD(\"cqg.rtd\", ,\"ContractData\", \"P.US.\"&Display1!$G$2&Display1!$I$3&\"\", \"Symbol\",, \"T\")","v":"P.US.CLEQ174300"}]
[{"$f":"IFERROR(IF(OR(ISTEXT(RTD(\"cqg.rtd\",,\"OrderData\",\"\"&B406&\"\",\"\",\"OpenPosition\",\"\"&Display1!$D$3&\"\")),RTD(\"cqg.rtd\",,\"OrderData\",\"\"&B406&\"\",\"\",\"OpenPosition\",\"\"&Display1!$D$3&\"\")=0),A405+0.001,INT(A405)+1),A405)","v":0.4050000000000003},{"$f":"(LEFT(B405,SEARCH(Display1!$G$2,B405)+LEN(Display1!$G$2)+2))&RIGHT(B405,LEN(B405)-(SEARCH(Display1!$G$2,B405)+LEN(Display1!$G$2)+2))-Display1!$J$3","v":"P.US.CLEQ174250"}]
[{"$f":"IFERROR(IF(OR(ISTEXT(RTD(\"cqg.rtd\",,\"OrderData\",\"\"&B407&\"\",\"\",\"OpenPosition\",\"\"&Display1!$D$3&\"\")),RTD(\"cqg.rtd\",,\"OrderData\",\"\"&B407&\"\",\"\",\"OpenPosition\",\"\"&Display1!$D$3&\"\")=0),A406+0.001,INT(A406)+1),A406)","v":0.40600000000000031},{"$f":"(LEFT(B406,SEARCH(Display1!$G$2,B406)+LEN(Display1!$G$2)+2))&RIGHT(B406,LEN(B406)-(SEARCH(Display1!$G$2,B406)+LEN(Display1!$G$2)+2))-Display1!$J$3","v":"P.US.CLEQ174200"}]
[{"$f":"IFERROR(IF(OR(ISTEXT(RTD(\"cqg.rtd\",,\"OrderData\",\"\"&B408&\"\",\"\",\"OpenPosition\",\"\"&Display1!$D$3&\"\")),RTD(\"cqg.rtd\",,\"OrderData\",\"\"&B408&\"\",\"\",\"OpenPosition\",\"\"&Display1!$D$3&\"\")=0),A407+0.001,INT(A407)+1),A407)","v":0.40700000000000031},{"$f":"(LEFT(B407,SEARCH(Display1!$G$2,B407)+LEN(Display1!$G$2)+2))&RIGHT(B407,LEN(B407)-(SEARCH(Display1!$G$2,B407)+LEN(Display1!$G$2)+2))-Display1!$J$3","v":"P.US.CLEQ174150"}]
[{"$f":"IFERROR(IF(OR(ISTEXT(RTD(\"cqg.rtd\",,\"OrderData\",\"\"&B409&\"\",\"\",\"OpenPosition\",\"\"&Display1!$D$3&\"\")),RTD(\"cqg.rtd\",,\"OrderData\",\"\"&B409&\"\",\"\",\"OpenPosition\",\"\"&Display1!$D$3&\"\")=0),A408+0.001,INT(A408)+1),A408)","v":0.40800000000000031},{"$f":"(LEFT(B408,SEARCH(Display1!$G$2,B408)+LEN(Display1!$G$2)+2))&RIGHT(B408,LEN(B408)-(SEARCH(Display1!$G$2,B408)+LEN(Display1!$G$2)+2))-Display1!$J$3","v":"P.US.CLEQ174100"}]
[{"$f":"IFERROR(IF(OR(ISTEXT(RTD(\"cqg.rtd\",,\"OrderData\",\"\"&B410&\"\",\"\",\"OpenPosition\",\"\"&Display1!$D$3&\"\")),RTD(\"cqg.rtd\",,\"OrderData\",\"\"&B410&\"\",\"\",\"OpenPosition\",\"\"&Display1!$D$3&\"\")=0),A409+0.001,INT(A409)+1),A409)","v":0.40900000000000031},{"$f":"(LEFT(B409,SEARCH(Display1!$G$2,B409)+LEN(Display1!$G$2)+2))&RIGHT(B409,LEN(B409)-(SEARCH(Display1!$G$2,B409)+LEN(Display1!$G$2)+2))-Display1!$J$3","v":"P.US.CLEQ174050"}]
[{"$f":"IFERROR(IF(OR(ISTEXT(RTD(\"cqg.rtd\",,\"OrderData\",\"\"&B411&\"\",\"\",\"OpenPosition\",\"\"&Display1!$D$3&\"\")),RTD(\"cqg.rtd\",,\"OrderData\",\"\"&B411&\"\",\"\",\"OpenPosition\",\"\"&Display1!$D$3&\"\")=0),A410+0.001,INT(A410)+1),A410)","v":0.41000000000000031},{"$f":"(LEFT(B410,SEARCH(Display1!$G$2,B410)+LEN(Display1!$G$2)+2))&RIGHT(B410,LEN(B410)-(SEARCH(Display1!$G$2,B410)+LEN(Display1!$G$2)+2))-Display1!$J$3","v":"P.US.CLEQ174000"}]
[{"$f":"IFERROR(IF(OR(ISTEXT(RTD(\"cqg.rtd\",,\"OrderData\",\"\"&B412&\"\",\"\",\"OpenPosition\",\"\"&Display1!$D$3&\"\")),RTD(\"cqg.rtd\",,\"OrderData\",\"\"&B412&\"\",\"\",\"OpenPosition\",\"\"&Display1!$D$3&\"\")=0),A411+0.001,INT(A411)+1),A411)","v":0.41100000000000031},{"$f":"(LEFT(B411,SEARCH(Display1!$G$2,B411)+LEN(Display1!$G$2)+2))&RIGHT(B411,LEN(B411)-(SEARCH(Display1!$G$2,B411)+LEN(Display1!$G$2)+2))-Display1!$J$3","v":"P.US.CLEQ173950"}]
[{"$f":"IFERROR(IF(OR(ISTEXT(RTD(\"cqg.rtd\",,\"OrderData\",\"\"&B413&\"\",\"\",\"OpenPosition\",\"\"&Display1!$D$3&\"\")),RTD(\"cqg.rtd\",,\"OrderData\",\"\"&B413&\"\",\"\",\"OpenPosition\",\"\"&Display1!$D$3&\"\")=0),A412+0.001,INT(A412)+1),A412)","v":0.41200000000000031},{"$f":"(LEFT(B412,SEARCH(Display1!$G$2,B412)+LEN(Display1!$G$2)+2))&RIGHT(B412,LEN(B412)-(SEARCH(Display1!$G$2,B412)+LEN(Display1!$G$2)+2))-Display1!$J$3","v":"P.US.CLEQ173900"}]
[{"$f":"IFERROR(IF(OR(ISTEXT(RTD(\"cqg.rtd\",,\"OrderData\",\"\"&B414&\"\",\"\",\"OpenPosition\",\"\"&Display1!$D$3&\"\")),RTD(\"cqg.rtd\",,\"OrderData\",\"\"&B414&\"\",\"\",\"OpenPosition\",\"\"&Display1!$D$3&\"\")=0),A413+0.001,INT(A413)+1),A413)","v":0.41300000000000031},{"$f":"(LEFT(B413,SEARCH(Display1!$G$2,B413)+LEN(Display1!$G$2)+2))&RIGHT(B413,LEN(B413)-(SEARCH(Display1!$G$2,B413)+LEN(Display1!$G$2)+2))-Display1!$J$3","v":"P.US.CLEQ173850"}]
[{"$f":"IFERROR(IF(OR(ISTEXT(RTD(\"cqg.rtd\",,\"OrderData\",\"\"&B415&\"\",\"\",\"OpenPosition\",\"\"&Display1!$D$3&\"\")),RTD(\"cqg.rtd\",,\"OrderData\",\"\"&B415&\"\",\"\",\"OpenPosition\",\"\"&Display1!$D$3&\"\")=0),A414+0.001,INT(A414)+1),A414)","v":0.41400000000000031},{"$f":"(LEFT(B414,SEARCH(Display1!$G$2,B414)+LEN(Display1!$G$2)+2))&RIGHT(B414,LEN(B414)-(SEARCH(Display1!$G$2,B414)+LEN(Display1!$G$2)+2))-Display1!$J$3","v":"P.US.CLEQ173800"}]
[{"$f":"IFERROR(IF(OR(ISTEXT(RTD(\"cqg.rtd\",,\"OrderData\",\"\"&B416&\"\",\"\",\"OpenPosition\",\"\"&Display1!$D$3&\"\")),RTD(\"cqg.rtd\",,\"OrderData\",\"\"&B416&\"\",\"\",\"OpenPosition\",\"\"&Display1!$D$3&\"\")=0),A415+0.001,INT(A415)+1),A415)","v":0.41500000000000031},{"$f":"(LEFT(B415,SEARCH(Display1!$G$2,B415)+LEN(Display1!$G$2)+2))&RIGHT(B415,LEN(B415)-(SEARCH(Display1!$G$2,B415)+LEN(Display1!$G$2)+2))-Display1!$J$3","v":"P.US.CLEQ173750"}]
[{"$f":"IFERROR(IF(OR(ISTEXT(RTD(\"cqg.rtd\",,\"OrderData\",\"\"&B417&\"\",\"\",\"OpenPosition\",\"\"&Display1!$D$3&\"\")),RTD(\"cqg.rtd\",,\"OrderData\",\"\"&B417&\"\",\"\",\"OpenPosition\",\"\"&Display1!$D$3&\"\")=0),A416+0.001,INT(A416)+1),A416)","v":0.41600000000000031},{"$f":"(LEFT(B416,SEARCH(Display1!$G$2,B416)+LEN(Display1!$G$2)+2))&RIGHT(B416,LEN(B416)-(SEARCH(Display1!$G$2,B416)+LEN(Display1!$G$2)+2))-Display1!$J$3","v":"P.US.CLEQ173700"}]
[{"$f":"IFERROR(IF(OR(ISTEXT(RTD(\"cqg.rtd\",,\"OrderData\",\"\"&B418&\"\",\"\",\"OpenPosition\",\"\"&Display1!$D$3&\"\")),RTD(\"cqg.rtd\",,\"OrderData\",\"\"&B418&\"\",\"\",\"OpenPosition\",\"\"&Display1!$D$3&\"\")=0),A417+0.001,INT(A417)+1),A417)","v":0.41700000000000031},{"$f":"(LEFT(B417,SEARCH(Display1!$G$2,B417)+LEN(Display1!$G$2)+2))&RIGHT(B417,LEN(B417)-(SEARCH(Display1!$G$2,B417)+LEN(Display1!$G$2)+2))-Display1!$J$3","v":"P.US.CLEQ173650"}]
[{"$f":"IFERROR(IF(OR(ISTEXT(RTD(\"cqg.rtd\",,\"OrderData\",\"\"&B419&\"\",\"\",\"OpenPosition\",\"\"&Display1!$D$3&\"\")),RTD(\"cqg.rtd\",,\"OrderData\",\"\"&B419&\"\",\"\",\"OpenPosition\",\"\"&Display1!$D$3&\"\")=0),A418+0.001,INT(A418)+1),A418)","v":0.41800000000000032},{"$f":"(LEFT(B418,SEARCH(Display1!$G$2,B418)+LEN(Display1!$G$2)+2))&RIGHT(B418,LEN(B418)-(SEARCH(Display1!$G$2,B418)+LEN(Display1!$G$2)+2))-Display1!$J$3","v":"P.US.CLEQ173600"}]
[{"$f":"IFERROR(IF(OR(ISTEXT(RTD(\"cqg.rtd\",,\"OrderData\",\"\"&B420&\"\",\"\",\"OpenPosition\",\"\"&Display1!$D$3&\"\")),RTD(\"cqg.rtd\",,\"OrderData\",\"\"&B420&\"\",\"\",\"OpenPosition\",\"\"&Display1!$D$3&\"\")=0),A419+0.001,INT(A419)+1),A419)","v":0.41900000000000032},{"$f":"(LEFT(B419,SEARCH(Display1!$G$2,B419)+LEN(Display1!$G$2)+2))&RIGHT(B419,LEN(B419)-(SEARCH(Display1!$G$2,B419)+LEN(Display1!$G$2)+2))-Display1!$J$3","v":"P.US.CLEQ173550"}]
[{"$f":"IFERROR(IF(OR(ISTEXT(RTD(\"cqg.rtd\",,\"OrderData\",\"\"&B421&\"\",\"\",\"OpenPosition\",\"\"&Display1!$D$3&\"\")),RTD(\"cqg.rtd\",,\"OrderData\",\"\"&B421&\"\",\"\",\"OpenPosition\",\"\"&Display1!$D$3&\"\")=0),A420+0.001,INT(A420)+1),A420)","v":0.42000000000000032},{"$f":"(LEFT(B420,SEARCH(Display1!$G$2,B420)+LEN(Display1!$G$2)+2))&RIGHT(B420,LEN(B420)-(SEARCH(Display1!$G$2,B420)+LEN(Display1!$G$2)+2))-Display1!$J$3","v":"P.US.CLEQ173500"}]
[{"$f":"IFERROR(IF(OR(ISTEXT(RTD(\"cqg.rtd\",,\"OrderData\",\"\"&B422&\"\",\"\",\"OpenPosition\",\"\"&Display1!$D$3&\"\")),RTD(\"cqg.rtd\",,\"OrderData\",\"\"&B422&\"\",\"\",\"OpenPosition\",\"\"&Display1!$D$3&\"\")=0),A421+0.001,INT(A421)+1),A421)","v":0.42100000000000032},{"$f":"(LEFT(B421,SEARCH(Display1!$G$2,B421)+LEN(Display1!$G$2)+2))&RIGHT(B421,LEN(B421)-(SEARCH(Display1!$G$2,B421)+LEN(Display1!$G$2)+2))-Display1!$J$3","v":"P.US.CLEQ173450"}]
[{"$f":"IFERROR(IF(OR(ISTEXT(RTD(\"cqg.rtd\",,\"OrderData\",\"\"&B423&\"\",\"\",\"OpenPosition\",\"\"&Display1!$D$3&\"\")),RTD(\"cqg.rtd\",,\"OrderData\",\"\"&B423&\"\",\"\",\"OpenPosition\",\"\"&Display1!$D$3&\"\")=0),A422+0.001,INT(A422)+1),A422)","v":0.42200000000000032},{"$f":"(LEFT(B422,SEARCH(Display1!$G$2,B422)+LEN(Display1!$G$2)+2))&RIGHT(B422,LEN(B422)-(SEARCH(Display1!$G$2,B422)+LEN(Display1!$G$2)+2))-Display1!$J$3","v":"P.US.CLEQ173400"}]
[{"$f":"IFERROR(IF(OR(ISTEXT(RTD(\"cqg.rtd\",,\"OrderData\",\"\"&B424&\"\",\"\",\"OpenPosition\",\"\"&Display1!$D$3&\"\")),RTD(\"cqg.rtd\",,\"OrderData\",\"\"&B424&\"\",\"\",\"OpenPosition\",\"\"&Display1!$D$3&\"\")=0),A423+0.001,INT(A423)+1),A423)","v":0.42300000000000032},{"$f":"(LEFT(B423,SEARCH(Display1!$G$2,B423)+LEN(Display1!$G$2)+2))&RIGHT(B423,LEN(B423)-(SEARCH(Display1!$G$2,B423)+LEN(Display1!$G$2)+2))-Display1!$J$3","v":"P.US.CLEQ173350"}]
[{"$f":"IFERROR(IF(OR(ISTEXT(RTD(\"cqg.rtd\",,\"OrderData\",\"\"&B425&\"\",\"\",\"OpenPosition\",\"\"&Display1!$D$3&\"\")),RTD(\"cqg.rtd\",,\"OrderData\",\"\"&B425&\"\",\"\",\"OpenPosition\",\"\"&Display1!$D$3&\"\")=0),A424+0.001,INT(A424)+1),A424)","v":0.42400000000000032},{"$f":"(LEFT(B424,SEARCH(Display1!$G$2,B424)+LEN(Display1!$G$2)+2))&RIGHT(B424,LEN(B424)-(SEARCH(Display1!$G$2,B424)+LEN(Display1!$G$2)+2))-Display1!$J$3","v":"P.US.CLEQ173300"}]
[{"$f":"IFERROR(IF(OR(ISTEXT(RTD(\"cqg.rtd\",,\"OrderData\",\"\"&B426&\"\",\"\",\"OpenPosition\",\"\"&Display1!$D$3&\"\")),RTD(\"cqg.rtd\",,\"OrderData\",\"\"&B426&\"\",\"\",\"OpenPosition\",\"\"&Display1!$D$3&\"\")=0),A425+0.001,INT(A425)+1),A425)","v":0.42500000000000032},{"$f":"(LEFT(B425,SEARCH(Display1!$G$2,B425)+LEN(Display1!$G$2)+2))&RIGHT(B425,LEN(B425)-(SEARCH(Display1!$G$2,B425)+LEN(Display1!$G$2)+2))-Display1!$J$3","v":"P.US.CLEQ173250"}]
[{"$f":"IFERROR(IF(OR(ISTEXT(RTD(\"cqg.rtd\",,\"OrderData\",\"\"&B427&\"\",\"\",\"OpenPosition\",\"\"&Display1!$D$3&\"\")),RTD(\"cqg.rtd\",,\"OrderData\",\"\"&B427&\"\",\"\",\"OpenPosition\",\"\"&Display1!$D$3&\"\")=0),A426+0.001,INT(A426)+1),A426)","v":0.42600000000000032},{"$f":"(LEFT(B426,SEARCH(Display1!$G$2,B426)+LEN(Display1!$G$2)+2))&RIGHT(B426,LEN(B426)-(SEARCH(Display1!$G$2,B426)+LEN(Display1!$G$2)+2))-Display1!$J$3","v":"P.US.CLEQ173200"}]
[{"$f":"IFERROR(IF(OR(ISTEXT(RTD(\"cqg.rtd\",,\"OrderData\",\"\"&B428&\"\",\"\",\"OpenPosition\",\"\"&Display1!$D$3&\"\")),RTD(\"cqg.rtd\",,\"OrderData\",\"\"&B428&\"\",\"\",\"OpenPosition\",\"\"&Display1!$D$3&\"\")=0),A427+0.001,INT(A427)+1),A427)","v":0.42700000000000032},{"$f":"(LEFT(B427,SEARCH(Display1!$G$2,B427)+LEN(Display1!$G$2)+2))&RIGHT(B427,LEN(B427)-(SEARCH(Display1!$G$2,B427)+LEN(Display1!$G$2)+2))-Display1!$J$3","v":"P.US.CLEQ173150"}]
[{"$f":"IFERROR(IF(OR(ISTEXT(RTD(\"cqg.rtd\",,\"OrderData\",\"\"&B429&\"\",\"\",\"OpenPosition\",\"\"&Display1!$D$3&\"\")),RTD(\"cqg.rtd\",,\"OrderData\",\"\"&B429&\"\",\"\",\"OpenPosition\",\"\"&Display1!$D$3&\"\")=0),A428+0.001,INT(A428)+1),A428)","v":0.42800000000000032},{"$f":"(LEFT(B428,SEARCH(Display1!$G$2,B428)+LEN(Display1!$G$2)+2))&RIGHT(B428,LEN(B428)-(SEARCH(Display1!$G$2,B428)+LEN(Display1!$G$2)+2))-Display1!$J$3","v":"P.US.CLEQ173100"}]
[{"$f":"IFERROR(IF(OR(ISTEXT(RTD(\"cqg.rtd\",,\"OrderData\",\"\"&B430&\"\",\"\",\"OpenPosition\",\"\"&Display1!$D$3&\"\")),RTD(\"cqg.rtd\",,\"OrderData\",\"\"&B430&\"\",\"\",\"OpenPosition\",\"\"&Display1!$D$3&\"\")=0),A429+0.001,INT(A429)+1),A429)","v":0.42900000000000033},{"$f":"(LEFT(B429,SEARCH(Display1!$G$2,B429)+LEN(Display1!$G$2)+2))&RIGHT(B429,LEN(B429)-(SEARCH(Display1!$G$2,B429)+LEN(Display1!$G$2)+2))-Display1!$J$3","v":"P.US.CLEQ173050"}]
[{"$f":"IFERROR(IF(OR(ISTEXT(RTD(\"cqg.rtd\",,\"OrderData\",\"\"&B431&\"\",\"\",\"OpenPosition\",\"\"&Display1!$D$3&\"\")),RTD(\"cqg.rtd\",,\"OrderData\",\"\"&B431&\"\",\"\",\"OpenPosition\",\"\"&Display1!$D$3&\"\")=0),A430+0.001,INT(A430)+1),A430)","v":0.43000000000000033},{"$f":"(LEFT(B430,SEARCH(Display1!$G$2,B430)+LEN(Display1!$G$2)+2))&RIGHT(B430,LEN(B430)-(SEARCH(Display1!$G$2,B430)+LEN(Display1!$G$2)+2))-Display1!$J$3","v":"P.US.CLEQ173000"}]
[{"$f":"IFERROR(IF(OR(ISTEXT(RTD(\"cqg.rtd\",,\"OrderData\",\"\"&B432&\"\",\"\",\"OpenPosition\",\"\"&Display1!$D$3&\"\")),RTD(\"cqg.rtd\",,\"OrderData\",\"\"&B432&\"\",\"\",\"OpenPosition\",\"\"&Display1!$D$3&\"\")=0),A431+0.001,INT(A431)+1),A431)","v":0.43100000000000033},{"$f":"(LEFT(B431,SEARCH(Display1!$G$2,B431)+LEN(Display1!$G$2)+2))&RIGHT(B431,LEN(B431)-(SEARCH(Display1!$G$2,B431)+LEN(Display1!$G$2)+2))-Display1!$J$3","v":"P.US.CLEQ172950"}]
[{"$f":"IFERROR(IF(OR(ISTEXT(RTD(\"cqg.rtd\",,\"OrderData\",\"\"&B433&\"\",\"\",\"OpenPosition\",\"\"&Display1!$D$3&\"\")),RTD(\"cqg.rtd\",,\"OrderData\",\"\"&B433&\"\",\"\",\"OpenPosition\",\"\"&Display1!$D$3&\"\")=0),A432+0.001,INT(A432)+1),A432)","v":0.43200000000000033},{"$f":"(LEFT(B432,SEARCH(Display1!$G$2,B432)+LEN(Display1!$G$2)+2))&RIGHT(B432,LEN(B432)-(SEARCH(Display1!$G$2,B432)+LEN(Display1!$G$2)+2))-Display1!$J$3","v":"P.US.CLEQ172900"}]
[{"$f":"IFERROR(IF(OR(ISTEXT(RTD(\"cqg.rtd\",,\"OrderData\",\"\"&B434&\"\",\"\",\"OpenPosition\",\"\"&Display1!$D$3&\"\")),RTD(\"cqg.rtd\",,\"OrderData\",\"\"&B434&\"\",\"\",\"OpenPosition\",\"\"&Display1!$D$3&\"\")=0),A433+0.001,INT(A433)+1),A433)","v":0.43300000000000033},{"$f":"(LEFT(B433,SEARCH(Display1!$G$2,B433)+LEN(Display1!$G$2)+2))&RIGHT(B433,LEN(B433)-(SEARCH(Display1!$G$2,B433)+LEN(Display1!$G$2)+2))-Display1!$J$3","v":"P.US.CLEQ172850"}]
[{"$f":"IFERROR(IF(OR(ISTEXT(RTD(\"cqg.rtd\",,\"OrderData\",\"\"&B435&\"\",\"\",\"OpenPosition\",\"\"&Display1!$D$3&\"\")),RTD(\"cqg.rtd\",,\"OrderData\",\"\"&B435&\"\",\"\",\"OpenPosition\",\"\"&Display1!$D$3&\"\")=0),A434+0.001,INT(A434)+1),A434)","v":0.43400000000000033},{"$f":"(LEFT(B434,SEARCH(Display1!$G$2,B434)+LEN(Display1!$G$2)+2))&RIGHT(B434,LEN(B434)-(SEARCH(Display1!$G$2,B434)+LEN(Display1!$G$2)+2))-Display1!$J$3","v":"P.US.CLEQ172800"}]
[{"$f":"IFERROR(IF(OR(ISTEXT(RTD(\"cqg.rtd\",,\"OrderData\",\"\"&B436&\"\",\"\",\"OpenPosition\",\"\"&Display1!$D$3&\"\")),RTD(\"cqg.rtd\",,\"OrderData\",\"\"&B436&\"\",\"\",\"OpenPosition\",\"\"&Display1!$D$3&\"\")=0),A435+0.001,INT(A435)+1),A435)","v":0.43500000000000033},{"$f":"(LEFT(B435,SEARCH(Display1!$G$2,B435)+LEN(Display1!$G$2)+2))&RIGHT(B435,LEN(B435)-(SEARCH(Display1!$G$2,B435)+LEN(Display1!$G$2)+2))-Display1!$J$3","v":"P.US.CLEQ172750"}]
[{"$f":"IFERROR(IF(OR(ISTEXT(RTD(\"cqg.rtd\",,\"OrderData\",\"\"&B437&\"\",\"\",\"OpenPosition\",\"\"&Display1!$D$3&\"\")),RTD(\"cqg.rtd\",,\"OrderData\",\"\"&B437&\"\",\"\",\"OpenPosition\",\"\"&Display1!$D$3&\"\")=0),A436+0.001,INT(A436)+1),A436)","v":0.43600000000000033},{"$f":"(LEFT(B436,SEARCH(Display1!$G$2,B436)+LEN(Display1!$G$2)+2))&RIGHT(B436,LEN(B436)-(SEARCH(Display1!$G$2,B436)+LEN(Display1!$G$2)+2))-Display1!$J$3","v":"P.US.CLEQ172700"}]
[{"$f":"IFERROR(IF(OR(ISTEXT(RTD(\"cqg.rtd\",,\"OrderData\",\"\"&B438&\"\",\"\",\"OpenPosition\",\"\"&Display1!$D$3&\"\")),RTD(\"cqg.rtd\",,\"OrderData\",\"\"&B438&\"\",\"\",\"OpenPosition\",\"\"&Display1!$D$3&\"\")=0),A437+0.001,INT(A437)+1),A437)","v":0.43700000000000033},{"$f":"(LEFT(B437,SEARCH(Display1!$G$2,B437)+LEN(Display1!$G$2)+2))&RIGHT(B437,LEN(B437)-(SEARCH(Display1!$G$2,B437)+LEN(Display1!$G$2)+2))-Display1!$J$3","v":"P.US.CLEQ172650"}]
[{"$f":"IFERROR(IF(OR(ISTEXT(RTD(\"cqg.rtd\",,\"OrderData\",\"\"&B439&\"\",\"\",\"OpenPosition\",\"\"&Display1!$D$3&\"\")),RTD(\"cqg.rtd\",,\"OrderData\",\"\"&B439&\"\",\"\",\"OpenPosition\",\"\"&Display1!$D$3&\"\")=0),A438+0.001,INT(A438)+1),A438)","v":0.43800000000000033},{"$f":"(LEFT(B438,SEARCH(Display1!$G$2,B438)+LEN(Display1!$G$2)+2))&RIGHT(B438,LEN(B438)-(SEARCH(Display1!$G$2,B438)+LEN(Display1!$G$2)+2))-Display1!$J$3","v":"P.US.CLEQ172600"}]
[{"$f":"IFERROR(IF(OR(ISTEXT(RTD(\"cqg.rtd\",,\"OrderData\",\"\"&B440&\"\",\"\",\"OpenPosition\",\"\"&Display1!$D$3&\"\")),RTD(\"cqg.rtd\",,\"OrderData\",\"\"&B440&\"\",\"\",\"OpenPosition\",\"\"&Display1!$D$3&\"\")=0),A439+0.001,INT(A439)+1),A439)","v":0.43900000000000033},{"$f":"(LEFT(B439,SEARCH(Display1!$G$2,B439)+LEN(Display1!$G$2)+2))&RIGHT(B439,LEN(B439)-(SEARCH(Display1!$G$2,B439)+LEN(Display1!$G$2)+2))-Display1!$J$3","v":"P.US.CLEQ172550"}]
[{"$f":"IFERROR(IF(OR(ISTEXT(RTD(\"cqg.rtd\",,\"OrderData\",\"\"&B441&\"\",\"\",\"OpenPosition\",\"\"&Display1!$D$3&\"\")),RTD(\"cqg.rtd\",,\"OrderData\",\"\"&B441&\"\",\"\",\"OpenPosition\",\"\"&Display1!$D$3&\"\")=0),A440+0.001,INT(A440)+1),A440)","v":0.44000000000000034},{"$f":"(LEFT(B440,SEARCH(Display1!$G$2,B440)+LEN(Display1!$G$2)+2))&RIGHT(B440,LEN(B440)-(SEARCH(Display1!$G$2,B440)+LEN(Display1!$G$2)+2))-Display1!$J$3","v":"P.US.CLEQ172500"}]
[{"$f":"IFERROR(IF(OR(ISTEXT(RTD(\"cqg.rtd\",,\"OrderData\",\"\"&B442&\"\",\"\",\"OpenPosition\",\"\"&Display1!$D$3&\"\")),RTD(\"cqg.rtd\",,\"OrderData\",\"\"&B442&\"\",\"\",\"OpenPosition\",\"\"&Display1!$D$3&\"\")=0),A441+0.001,INT(A441)+1),A441)","v":0.44100000000000034},{"$f":"(LEFT(B441,SEARCH(Display1!$G$2,B441)+LEN(Display1!$G$2)+2))&RIGHT(B441,LEN(B441)-(SEARCH(Display1!$G$2,B441)+LEN(Display1!$G$2)+2))-Display1!$J$3","v":"P.US.CLEQ172450"}]
[{"$f":"IFERROR(IF(OR(ISTEXT(RTD(\"cqg.rtd\",,\"OrderData\",\"\"&B443&\"\",\"\",\"OpenPosition\",\"\"&Display1!$D$3&\"\")),RTD(\"cqg.rtd\",,\"OrderData\",\"\"&B443&\"\",\"\",\"OpenPosition\",\"\"&Display1!$D$3&\"\")=0),A442+0.001,INT(A442)+1),A442)","v":0.44200000000000034},{"$f":"(LEFT(B442,SEARCH(Display1!$G$2,B442)+LEN(Display1!$G$2)+2))&RIGHT(B442,LEN(B442)-(SEARCH(Display1!$G$2,B442)+LEN(Display1!$G$2)+2))-Display1!$J$3","v":"P.US.CLEQ172400"}]
[{"$f":"IFERROR(IF(OR(ISTEXT(RTD(\"cqg.rtd\",,\"OrderData\",\"\"&B444&\"\",\"\",\"OpenPosition\",\"\"&Display1!$D$3&\"\")),RTD(\"cqg.rtd\",,\"OrderData\",\"\"&B444&\"\",\"\",\"OpenPosition\",\"\"&Display1!$D$3&\"\")=0),A443+0.001,INT(A443)+1),A443)","v":0.44300000000000034},{"$f":"(LEFT(B443,SEARCH(Display1!$G$2,B443)+LEN(Display1!$G$2)+2))&RIGHT(B443,LEN(B443)-(SEARCH(Display1!$G$2,B443)+LEN(Display1!$G$2)+2))-Display1!$J$3","v":"P.US.CLEQ172350"}]
[{"$f":"IFERROR(IF(OR(ISTEXT(RTD(\"cqg.rtd\",,\"OrderData\",\"\"&B445&\"\",\"\",\"OpenPosition\",\"\"&Display1!$D$3&\"\")),RTD(\"cqg.rtd\",,\"OrderData\",\"\"&B445&\"\",\"\",\"OpenPosition\",\"\"&Display1!$D$3&\"\")=0),A444+0.001,INT(A444)+1),A444)","v":0.44400000000000034},{"$f":"(LEFT(B444,SEARCH(Display1!$G$2,B444)+LEN(Display1!$G$2)+2))&RIGHT(B444,LEN(B444)-(SEARCH(Display1!$G$2,B444)+LEN(Display1!$G$2)+2))-Display1!$J$3","v":"P.US.CLEQ172300"}]
[{"$f":"IFERROR(IF(OR(ISTEXT(RTD(\"cqg.rtd\",,\"OrderData\",\"\"&B446&\"\",\"\",\"OpenPosition\",\"\"&Display1!$D$3&\"\")),RTD(\"cqg.rtd\",,\"OrderData\",\"\"&B446&\"\",\"\",\"OpenPosition\",\"\"&Display1!$D$3&\"\")=0),A445+0.001,INT(A445)+1),A445)","v":0.44500000000000034},{"$f":"RTD(\"cqg.rtd\", ,\"ContractData\", \"F.US.\"&Display1!$K$3&\"\", \"LongSymbol\",, \"T\")","v":"F.US.CLEQ17"}]
[{"$f":"IFERROR(IF(OR(ISTEXT(RTD(\"cqg.rtd\",,\"OrderData\",\"\"&B447&\"\",\"\",\"OpenPosition\",\"\"&Display1!$D$3&\"\")),RTD(\"cqg.rtd\",,\"OrderData\",\"\"&B447&\"\",\"\",\"OpenPosition\",\"\"&Display1!$D$3&\"\")=0),A446+0.001,INT(A446)+1),A446)","v":0.44600000000000034},{"$f":"RTD(\"cqg.rtd\", ,\"ContractData\", \"F.US.\"&Display1!$M$3&\"\", \"LongSymbol\",, \"T\")","v":"F.US.CLEU17"}]
[{"$f":"IFERROR(IF(OR(ISTEXT(RTD(\"cqg.rtd\",,\"OrderData\",\"\"&B448&\"\",\"\",\"OpenPosition\",\"\"&Display1!$D$3&\"\")),RTD(\"cqg.rtd\",,\"OrderData\",\"\"&B448&\"\",\"\",\"OpenPosition\",\"\"&Display1!$D$3&\"\")=0),A447+0.001,INT(A447)+1),A447)","v":0.44700000000000034},{"$f":"RTD(\"cqg.rtd\", ,\"ContractData\", \"F.US.\"&Display1!$N$3&\"\", \"LongSymbol\",, \"T\")","v":"F.US.CLEV17"}]
[null,{"$f":"Display1!D3","v":"PSspread300"}]

{"sheet":"Second","index":7,"n_rows":449,"n_cols":43,"rows_kept":449,"cut":false,"hidden":true,"merged":[]}
[{"$f":"IF(OR(ISTEXT(RTD(\"cqg.rtd\",,\"OrderData\",\"\"&B1&\"\",\"\",\"OpenPosition\",\"\"&Display2!$D$3&\"\")),RTD(\"cqg.rtd\",,\"OrderData\",\"\"&B1&\"\",\"\",\"OpenPosition\",\"\"&Display2!$D$3&\"\")=0),0.001,1)","v":1E-3},{"$f":"(LEFT(B2,SEARCH(Display2!$G$2,B2)+LEN(Display2!$G$2)+2))&RIGHT(B2,LEN(B2)-(SEARCH(Display2!$G$2,B2)+LEN(Display2!$G$2)+2))+Display2!$J$3","v":"C.US.CLE1N176250"},{"$f":"IF(D1=1,VLOOKUP(E1,$A$1:$B$448,2),0)","v":0},{"$f":"IF(LOOKUP(E1,$A$1:$A$448)<>E1,0,1)","v":0},1,{"$f":"IF(D1=1,RTD(\"cqg.rtd\", ,\"ContractData\",C1, \"ImpliedVolatility\",, \"T\"),\"\")","v":""},{"$f":"IF(F1=\"\",\"\",RANK(F1,$F$1:$F$35,0)+COUNTIF($F$1:F1,F1)-1)","v":""},{"$f":"C1","v":0},1,{"$f":"IF(D1=1,IF(F1=\"\",H1,VLOOKUP(I1,$G$1:$H$35,2,FALSE)),0)","v":0},{"$f":"IF(D1=1,RTD(\"cqg.rtd\", ,\"OrderData\",\"\"&C1&\"\", \"\", \"OpenTradeEquity\",\"\"&$B$449&\"\"),\"\")","v":""},{"$f":"IF(K1=\"\",\"\",RANK(K1,$K$1:$K$35,0))+COUNTIF($K$1:K1,K1)-1","v":{"$error":"#VALUE!"}},{"$f":"C1","v":0},1,{"$f":"IF(D1=1,VLOOKUP(N1,$L$1:$M$35,2,FALSE),\"\")","v":""},{"$f":"IF(D1=1,RTD(\"cqg.rtd\", ,\"ContractData\",C1, \"Delta\",, \"T\"),\"\")","v":""},{"$f":"IF(D1=1,RTD(\"cqg.rtd\", ,\"OrderData\", \"\"&O1&\"\", \"\", \"OpenPosition\",\"\"&$B$449&\"\"),\"\")","v":""},{"$f":"IF(D1=0,\"\",IF(LEFT(O1,1)=\"F\",Q1*100,Q1*RTD(\"cqg.rtd\",,\"ContractData\",O1,\"Delta\",,\"T\")))","v":""},{"$f":"IF(R1=\"\",\"\",RANK(R1,$R$1:$R$35,0)+COUNTIF($R$1:R1,R1)-1)","v":""},{"$f":"O1","v":""},1,{"$f":"IF(D1=1,VLOOKUP(U1,$S$1:$T$35,2,FALSE),\"\")","v":""},{"$f":"IF(D1=1,RTD(\"cqg.rtd\", ,\"ContractData\",C1, \"Vega\",, \"T\"),\"\")","v":""},{"$f":"IF(W1=\"\",\"\",RANK(W1,$W$1:$W$35,0)+COUNTIF($W$1:W1,W1)-1)","v":""},{"$f":"C1","v":0},1,{"$f":"IF(D1=1,IF(W1=\"\",Y1,VLOOKUP(Z1,$X$1:$Y$35,2,FALSE)),\"\")","v":""},{"$f":"IF(D1=1,RTD(\"cqg.rtd\", ,\"ContractData\",C1, \"Gamma\",, \"T\"),\"\")","v":""},{"$f":"IF(AB1=\"\",\"\",RANK(AB1,$AB$1:$AB$35,0)+COUNTIF($AB$1:AB1,AB1)-1)","v":""},{"$f":"C1","v":0},1,{"$f":"IF(D1=1,IF(AB1=\"\",AD1,VLOOKUP(AE1,$AC$1:$AD$35,2,FALSE)),\"\")","v":""},{"$f":"IF(D1=1,RTD(\"cqg.rtd\", ,\"ContractData\",C1, \"Theta\",, \"T\"),\"\")","v":""},{"$f":"IF(AG1=\"\",\"\",RANK(AG1,$AG$1:$AG$35,0)+COUNTIF($AG$1:AG1,AG1)-1)","v":""},{"$f":"C1","v":0},1,{"$f":"IF(D1=1,IF(AG1=\"\",AI1,VLOOKUP(AJ1,$AH$1:$AI$35,2,FALSE)),\"\")","v":""},{"$f":"IF(D1=1,1/RTD(\"cqg.rtd\", ,\"ContractData\",C1, \"ExpirationDate\",, \"T\"),\"\")","v":""},{"$f":"IF(AL1=\"\",\"\",RANK(AL1,$AL$1:$AL$35,0)+COUNTIF($AL$1:AL1,AL1)-1)","v":""},{"$f":"C1","v":0},1,{"$f":"IF(D1=1,IF(AL1=\"\",AN1,VLOOKUP(AO1,$AM$1:$AN$35,2,FALSE)),\"\")","v":""}]
[{"$f":"IF(OR(ISTEXT(RTD(\"cqg.rtd\",,\"OrderData\",\"\"&B2&\"\",\"\",\"OpenPosition\",\"\"&Display2!$D$3&\"\")),RTD(\"cqg.rtd\",,\"OrderData\",\"\"&B2&\"\",\"\",\"OpenPosition\",\"\"&Display2!$D$3&\"\")=0),A1+0.001,INT(A1)+1)","v":2E-3},{"$f":"(LEFT(B3,SEARCH(Display2!$G$2,B3)+LEN(Display2!$G$2)+2))&RIGHT(B3,LEN(B3)-(SEARCH(Display2!$G$2,B3)+LEN(Display2!$G$2)+2))+Display2!$J$3","v":"C.US.CLE1N176200"},{"$f":"IF(D2=1,VLOOKUP(E2,$A$1:$B$448,2),0)","v":0},{"$f":"IF(LOOKUP(E2,$A$1:$A$448)<>E2,0,1)","v":0},{"$f":"E1+1","v":2},{"$f":"IF(D2=1,RTD(\"cqg.rtd\", ,\"ContractData\",C2, \"ImpliedVolatility\",, \"T\"),\"\")","v":""},{"$f":"IF(F2=\"\",\"\",RANK(F2,$F$1:$F$35,0)+COUNTIF($F$1:F2,F2)-1)","v":""},{"$f":"C2","v":0},{"$f":"I1+1","v":2},{"$f":"IF(D2=1,IF(F2=\"\",H2,VLOOKUP(I2,$G$1:$H$35,2,FALSE)),0)","v":0},{"$f":"IF(D2=1,RTD(\"cqg.rtd\", ,\"OrderData\",\"\"&C2&\"\", \"\", \"OpenTradeEquity\",\"\"&$B$449&\"\"),\"\")","v":""},{"$f":"IF(K2=\"\",\"\",RANK(K2,$K$1:$K$35,0))+COUNTIF($K$1:K2,K2)-1","v":{"$error":"#VALUE!"}},{"$f":"C2","v":0},{"$f":"N1+1","v":2},{"$f":"IF(D2=1,VLOOKUP(N2,$L$1:$M$35,2,FALSE),\"\")","v":""},{"$f":"IF(D2=1,RTD(\"cqg.rtd\", ,\"ContractData\",C2, \"Delta\",, \"T\"),\"\")","v":""},{"$f":"IF(D2=1,RTD(\"cqg.rtd\", ,\"OrderData\", \"\"&O2&\"\", \"\", \"OpenPosition\",\"\"&$B$449&\"\"),\"\")","v":""},{"$f":"IF(D2=0,\"\",IF(LEFT(O2,1)=\"F\",Q2*100,Q2*RTD(\"cqg.rtd\",,\"ContractData\",O2,\"Delta\",,\"T\")))","v":""},{"$f":"IF(R2=\"\",\"\",RANK(R2,$R$1:$R$35,0)+COUNTIF($R$1:R2,R2)-1)","v":""},{"$f":"O2","v":""},{"$f":"U1+1","v":2},{"$f":"IF(D2=1,VLOOKUP(U2,$S$1:$T$35,2,FALSE),\"\")","v":""},{"$f":"IF(D2=1,RTD(\"cqg.rtd\", ,\"ContractData\",C2, \"Vega\",, \"T\"),\"\")","v":""},{"$f":"IF(W2=\"\",\"\",RANK(W2,$W$1:$W$35,0)+COUNTIF($W$1:W2,W2)-1)","v":""},{"$f":"C2","v":0},{"$f":"Z1+1","v":2},{"$f":"IF(D2=1,IF(W2=\"\",Y2,VLOOKUP(Z2,$X$1:$Y$35,2,FALSE)),\"\")","v":""},{"$f":"IF(D2=1,RTD(\"cqg.rtd\", ,\"ContractData\",C2, \"Gamma\",, \"T\"),\"\")","v":""},{"$f":"IF(AB2=\"\",\"\",RANK(AB2,$AB$1:$AB$35,0)+COUNTIF($AB$1:AB2,AB2)-1)","v":""},{"$f":"C2","v":0},{"$f":"AE1+1","v":2},{"$f":"IF(D2=1,IF(AB2=\"\",AD2,VLOOKUP(AE2,$AC$1:$AD$35,2,FALSE)),\"\")","v":""},{"$f":"IF(D2=1,RTD(\"cqg.rtd\", ,\"ContractData\",C2, \"Theta\",, \"T\"),\"\")","v":""},{"$f":"IF(AG2=\"\",\"\",RANK(AG2,$AG$1:$AG$35,0)+COUNTIF($AG$1:AG2,AG2)-1)","v":""},{"$f":"C2","v":0},{"$f":"AJ1+1","v":2},{"$f":"IF(D2=1,IF(AG2=\"\",AI2,VLOOKUP(AJ2,$AH$1:$AI$35,2,FALSE)),\"\")","v":""},{"$f":"IF(D2=1,1/RTD(\"cqg.rtd\", ,\"ContractData\",C2, \"ExpirationDate\",, \"T\"),\"\")","v":""},{"$f":"IF(AL2=\"\",\"\",RANK(AL2,$AL$1:$AL$35,0)+COUNTIF($AL$1:AL2,AL2)-1)","v":""},{"$f":"C2","v":0},{"$f":"AO1+1","v":2},{"$f":"IF(D2=1,IF(AL2=\"\",AN2,VLOOKUP(AO2,$AM$1:$AN$35,2,FALSE)),\"\")","v":""}]
[{"$f":"IF(OR(ISTEXT(RTD(\"cqg.rtd\",,\"OrderData\",\"\"&B3&\"\",\"\",\"OpenPosition\",\"\"&Display2!$D$3&\"\")),RTD(\"cqg.rtd\",,\"OrderData\",\"\"&B3&\"\",\"\",\"OpenPosition\",\"\"&Display2!$D$3&\"\")=0),A2+0.001,INT(A2)+1)","v":3.0000000000000001E-3},{"$f":"(LEFT(B4,SEARCH(Display2!$G$2,B4)+LEN(Display2!$G$2)+2))&RIGHT(B4,LEN(B4)-(SEARCH(Display2!$G$2,B4)+LEN(Display2!$G$2)+2))+Display2!$J$3","v":"C.US.CLE1N176150"},0,0,{"$f":"E2+1","v":3},{"$f":"IF(D3=1,RTD(\"cqg.rtd\", ,\"ContractData\",C3, \"ImpliedVolatility\",, \"T\"),\"\")","v":""},{"$f":"IF(F3=\"\",\"\",RANK(F3,$F$1:$F$35,0)+COUNTIF($F$1:F3,F3)-1)","v":""},0,{"$f":"I2+1","v":3},0,{"$f":"IF(D3=1,RTD(\"cqg.rtd\", ,\"OrderData\",\"\"&C3&\"\", \"\", \"OpenTradeEquity\",\"\"&$B$449&\"\"),\"\")","v":""},{"$f":"IF(K3=\"\",\"\",RANK(K3,$K$1:$K$35,0))+COUNTIF($K$1:K3,K3)-1","v":{"$error":"#VALUE!"}},0,{"$f":"N2+1","v":3},"",{"$f":"IF(D3=1,RTD(\"cqg.rtd\", ,\"ContractData\",C3, \"Delta\",, \"T\"),\"\")","v":""},{"$f":"IF(D3=1,RTD(\"cqg.rtd\", ,\"OrderData\", \"\"&O3&\"\", \"\", \"OpenPosition\",\"\"&$B$449&\"\"),\"\")","v":""},{"$f":"IF(D3=0,\"\",IF(LEFT(O3,1)=\"F\",Q3*100,Q3*RTD(\"cqg.rtd\",,\"ContractData\",O3,\"Delta\",,\"T\")))","v":""},{"$f":"IF(R3=\"\",\"\",RANK(R3,$R$1:$R$35,0)+COUNTIF($R$1:R3,R3)-1)","v":""},"",{"$f":"U2+1","v":3},"",{"$f":"IF(D3=1,RTD(\"cqg.rtd\", ,\"ContractData\",C3, \"Vega\",, \"T\"),\"\")","v":""},{"$f":"IF(W3=\"\",\"\",RANK(W3,$W$1:$W$35,0)+COUNTIF($W$1:W3,W3)-1)","v":""},0,{"$f":"Z2+1","v":3},"",{"$f":"IF(D3=1,RTD(\"cqg.rtd\", ,\"ContractData\",C3, \"Gamma\",, \"T\"),\"\")","v":""},{"$f":"IF(AB3=\"\",\"\",RANK(AB3,$AB$1:$AB$35,0)+COUNTIF($AB$1:AB3,AB3)-1)","v":""},0,3,{"$f":"IF(D3=1,IF(AB3=\"\",AD3,VLOOKUP(AE3,$AC$1:$AD$35,2,FALSE)),\"\")","v":""},{"$f":"IF(D3=1,RTD(\"cqg.rtd\", ,\"ContractData\",C3, \"Theta\",, \"T\"),\"\")","v":""},{"$f":"IF(AG3=\"\",\"\",RANK(AG3,$AG$1:$AG$35,0)+COUNTIF($AG$1:AG3,AG3)-1)","v":""},0,{"$f":"AJ2+1","v":3},"",{"$f":"IF(D3=1,1/RTD(\"cqg.rtd\", ,\"ContractData\",C3, \"ExpirationDate\",, \"T\"),\"\")","v":""},{"$f":"IF(AL3=\"\",\"\",RANK(AL3,$AL$1:$AL$35,0)+COUNTIF($AL$1:AL3,AL3)-1)","v":""},0,{"$f":"AO2+1","v":3},{"$f":"IF(D3=1,IF(AL3=\"\",AN3,VLOOKUP(AO3,$AM$1:$AN$35,2,FALSE)),\"\")","v":""}]
[{"$f":"IF(OR(ISTEXT(RTD(\"cqg.rtd\",,\"OrderData\",\"\"&B4&\"\",\"\",\"OpenPosition\",\"\"&Display2!$D$3&\"\")),RTD(\"cqg.rtd\",,\"OrderData\",\"\"&B4&\"\",\"\",\"OpenPosition\",\"\"&Display2!$D$3&\"\")=0),A3+0.001,INT(A3)+1)","v":4.0000000000000001E-3},{"$f":"(LEFT(B5,SEARCH(Display2!$G$2,B5)+LEN(Display2!$G$2)+2))&RIGHT(B5,LEN(B5)-(SEARCH(Display2!$G$2,B5)+LEN(Display2!$G$2)+2))+Display2!$J$3","v":"C.US.CLE1N176100"},0,0,4,{"$f":"IF(D4=1,RTD(\"cqg.rtd\", ,\"ContractData\",C4, \"ImpliedVolatility\",, \"T\"),\"\")","v":""},{"$f":"IF(F4=\"\",\"\",RANK(F4,$F$1:$F$35,0)+COUNTIF($F$1:F4,F4)-1)","v":""},0,4,0,{"$f":"IF(D4=1,RTD(\"cqg.rtd\", ,\"OrderData\",\"\"&C4&\"\", \"\", \"OpenTradeEquity\",\"\"&$B$449&\"\"),\"\")","v":""},{"$f":"IF(K4=\"\",\"\",RANK(K4,$K$1:$K$35,0))+COUNTIF($K$1:K4,K4)-1","v":{"$error":"#VALUE!"}},0,4,"",{"$f":"IF(D4=1,RTD(\"cqg.rtd\", ,\"ContractData\",C4, \"Delta\",, \"T\"),\"\")","v":""},{"$f":"IF(D4=1,RTD(\"cqg.rtd\", ,\"OrderData\", \"\"&O4&\"\", \"\", \"OpenPosition\",\"\"&$B$449&\"\"),\"\")","v":""},{"$f":"IF(D4=0,\"\",IF(LEFT(O4,1)=\"F\",Q4*100,Q4*RTD(\"cqg.rtd\",,\"ContractData\",O4,\"Delta\",,\"T\")))","v":""},{"$f":"IF(R4=\"\",\"\",RANK(R4,$R$1:$R$35,0)+COUNTIF($R$1:R4,R4)-1)","v":""},"",4,"",{"$f":"IF(D4=1,RTD(\"cqg.rtd\", ,\"ContractData\",C4, \"Vega\",, \"T\"),\"\")","v":""},{"$f":"IF(W4=\"\",\"\",RANK(W4,$W$1:$W$35,0)+COUNTIF($W$1:W4,W4)-1)","v":""},0,4,"",{"$f":"IF(D4=1,RTD(\"cqg.rtd\", ,\"ContractData\",C4, \"Gamma\",, \"T\"),\"\")","v":""},{"$f":"IF(AB4=\"\",\"\",RANK(AB4,$AB$1:$AB$35,0)+COUNTIF($AB$1:AB4,AB4)-1)","v":""},0,4,"",{"$f":"IF(D4=1,RTD(\"cqg.rtd\", ,\"ContractData\",C4, \"Theta\",, \"T\"),\"\")","v":""},{"$f":"IF(AG4=\"\",\"\",RANK(AG4,$AG$1:$AG$35,0)+COUNTIF($AG$1:AG4,AG4)-1)","v":""},0,4,"",{"$f":"IF(D4=1,1/RTD(\"cqg.rtd\", ,\"ContractData\",C4, \"ExpirationDate\",, \"T\"),\"\")","v":""},{"$f":"IF(AL4=\"\",\"\",RANK(AL4,$AL$1:$AL$35,0)+COUNTIF($AL$1:AL4,AL4)-1)","v":""},0,4,""]
[{"$f":"IF(OR(ISTEXT(RTD(\"cqg.rtd\",,\"OrderData\",\"\"&B5&\"\",\"\",\"OpenPosition\",\"\"&Display2!$D$3&\"\")),RTD(\"cqg.rtd\",,\"OrderData\",\"\"&B5&\"\",\"\",\"OpenPosition\",\"\"&Display2!$D$3&\"\")=0),A4+0.001,INT(A4)+1)","v":5.0000000000000001E-3},{"$f":"(LEFT(B6,SEARCH(Display2!$G$2,B6)+LEN(Display2!$G$2)+2))&RIGHT(B6,LEN(B6)-(SEARCH(Display2!$G$2,B6)+LEN(Display2!$G$2)+2))+Display2!$J$3","v":"C.US.CLE1N176050"},0,0,5,{"$f":"IF(D5=1,RTD(\"cqg.rtd\", ,\"ContractData\",C5, \"ImpliedVolatility\",, \"T\"),\"\")","v":""},{"$f":"IF(F5=\"\",\"\",RANK(F5,$F$1:$F$35,0)+COUNTIF($F$1:F5,F5)-1)","v":""},0,5,0,{"$f":"IF(D5=1,RTD(\"cqg.rtd\", ,\"OrderData\",\"\"&C5&\"\", \"\", \"OpenTradeEquity\",\"\"&$B$449&\"\"),\"\")","v":""},{"$f":"IF(K5=\"\",\"\",RANK(K5,$K$1:$K$35,0))+COUNTIF($K$1:K5,K5)-1","v":{"$error":"#VALUE!"}},0,5,"",{"$f":"IF(D5=1,RTD(\"cqg.rtd\", ,\"ContractData\",C5, \"Delta\",, \"T\"),\"\")","v":""},{"$f":"IF(D5=1,RTD(\"cqg.rtd\", ,\"OrderData\", \"\"&O5&\"\", \"\", \"OpenPosition\",\"\"&$B$449&\"\"),\"\")","v":""},{"$f":"IF(D5=0,\"\",IF(LEFT(O5,1)=\"F\",Q5*100,Q5*RTD(\"cqg.rtd\",,\"ContractData\",O5,\"Delta\",,\"T\")))","v":""},{"$f":"IF(R5=\"\",\"\",RANK(R5,$R$1:$R$35,0)+COUNTIF($R$1:R5,R5)-1)","v":""},"",5,"",{"$f":"IF(D5=1,RTD(\"cqg.rtd\", ,\"ContractData\",C5, \"Vega\",, \"T\"),\"\")","v":""},{"$f":"IF(W5=\"\",\"\",RANK(W5,$W$1:$W$35,0)+COUNTIF($W$1:W5,W5)-1)","v":""},0,5,"",{"$f":"IF(D5=1,RTD(\"cqg.rtd\", ,\"ContractData\",C5, \"Gamma\",, \"T\"),\"\")","v":""},{"$f":"IF(AB5=\"\",\"\",RANK(AB5,$AB$1:$AB$35,0)+COUNTIF($AB$1:AB5,AB5)-1)","v":""},0,5,"",{"$f":"IF(D5=1,RTD(\"cqg.rtd\", ,\"ContractData\",C5, \"Theta\",, \"T\"),\"\")","v":""},{"$f":"IF(AG5=\"\",\"\",RANK(AG5,$AG$1:$AG$35,0)+COUNTIF($AG$1:AG5,AG5)-1)","v":""},0,5,"",{"$f":"IF(D5=1,1/RTD(\"cqg.rtd\", ,\"ContractData\",C5, \"ExpirationDate\",, \"T\"),\"\")","v":""},{"$f":"IF(AL5=\"\",\"\",RANK(AL5,$AL$1:$AL$35,0)+COUNTIF($AL$1:AL5,AL5)-1)","v":""},0,5,""]
[{"$f":"IF(OR(ISTEXT(RTD(\"cqg.rtd\",,\"OrderData\",\"\"&B6&\"\",\"\",\"OpenPosition\",\"\"&Display2!$D$3&\"\")),RTD(\"cqg.rtd\",,\"OrderData\",\"\"&B6&\"\",\"\",\"OpenPosition\",\"\"&Display2!$D$3&\"\")=0),A5+0.001,INT(A5)+1)","v":6.0000000000000001E-3},{"$f":"(LEFT(B7,SEARCH(Display2!$G$2,B7)+LEN(Display2!$G$2)+2))&RIGHT(B7,LEN(B7)-(SEARCH(Display2!$G$2,B7)+LEN(Display2!$G$2)+2))+Display2!$J$3","v":"C.US.CLE1N176000"},0,0,6,{"$f":"IF(D6=1,RTD(\"cqg.rtd\", ,\"ContractData\",C6, \"ImpliedVolatility\",, \"T\"),\"\")","v":""},{"$f":"IF(F6=\"\",\"\",RANK(F6,$F$1:$F$35,0)+COUNTIF($F$1:F6,F6)-1)","v":""},0,6,0,{"$f":"IF(D6=1,RTD(\"cqg.rtd\", ,\"OrderData\",\"\"&C6&\"\", \"\", \"OpenTradeEquity\",\"\"&$B$449&\"\"),\"\")","v":""},{"$f":"IF(K6=\"\",\"\",RANK(K6,$K$1:$K$35,0))+COUNTIF($K$1:K6,K6)-1","v":{"$error":"#VALUE!"}},0,6,"",{"$f":"IF(D6=1,RTD(\"cqg.rtd\", ,\"ContractData\",C6, \"Delta\",, \"T\"),\"\")","v":""},{"$f":"IF(D6=1,RTD(\"cqg.rtd\", ,\"OrderData\", \"\"&O6&\"\", \"\", \"OpenPosition\",\"\"&$B$449&\"\"),\"\")","v":""},{"$f":"IF(D6=0,\"\",IF(LEFT(O6,1)=\"F\",Q6*100,Q6*RTD(\"cqg.rtd\",,\"ContractData\",O6,\"Delta\",,\"T\")))","v":""},{"$f":"IF(R6=\"\",\"\",RANK(R6,$R$1:$R$35,0)+COUNTIF($R$1:R6,R6)-1)","v":""},"",6,"",{"$f":"IF(D6=1,RTD(\"cqg.rtd\", ,\"ContractData\",C6, \"Vega\",, \"T\"),\"\")","v":""},{"$f":"IF(W6=\"\",\"\",RANK(W6,$W$1:$W$35,0)+COUNTIF($W$1:W6,W6)-1)","v":""},0,6,"",{"$f":"IF(D6=1,RTD(\"cqg.rtd\", ,\"ContractData\",C6, \"Gamma\",, \"T\"),\"\")","v":""},{"$f":"IF(AB6=\"\",\"\",RANK(AB6,$AB$1:$AB$35,0)+COUNTIF($AB$1:AB6,AB6)-1)","v":""},0,6,"",{"$f":"IF(D6=1,RTD(\"cqg.rtd\", ,\"ContractData\",C6, \"Theta\",, \"T\"),\"\")","v":""},{"$f":"IF(AG6=\"\",\"\",RANK(AG6,$AG$1:$AG$35,0)+COUNTIF($AG$1:AG6,AG6)-1)","v":""},0,6,"",{"$f":"IF(D6=1,1/RTD(\"cqg.rtd\", ,\"ContractData\",C6, \"ExpirationDate\",, \"T\"),\"\")","v":""},{"$f":"IF(AL6=\"\",\"\",RANK(AL6,$AL$1:$AL$35,0)+COUNTIF($AL$1:AL6,AL6)-1)","v":""},0,6,""]
[{"$f":"IF(OR(ISTEXT(RTD(\"cqg.rtd\",,\"OrderData\",\"\"&B7&\"\",\"\",\"OpenPosition\",\"\"&Display2!$D$3&\"\")),RTD(\"cqg.rtd\",,\"OrderData\",\"\"&B7&\"\",\"\",\"OpenPosition\",\"\"&Display2!$D$3&\"\")=0),A6+0.001,INT(A6)+1)","v":7.0000000000000001E-3},{"$f":"(LEFT(B8,SEARCH(Display2!$G$2,B8)+LEN(Display2!$G$2)+2))&RIGHT(B8,LEN(B8)-(SEARCH(Display2!$G$2,B8)+LEN(Display2!$G$2)+2))+Display2!$J$3","v":"C.US.CLE1N175950"},0,0,7,{"$f":"IF(D7=1,RTD(\"cqg.rtd\", ,\"ContractData\",C7, \"ImpliedVolatility\",, \"T\"),\"\")","v":""},{"$f":"IF(F7=\"\",\"\",RANK(F7,$F$1:$F$35,0)+COUNTIF($F$1:F7,F7)-1)","v":""},0,7,0,{"$f":"IF(D7=1,RTD(\"cqg.rtd\", ,\"OrderData\",\"\"&C7&\"\", \"\", \"OpenTradeEquity\",\"\"&$B$449&\"\"),\"\")","v":""},{"$f":"IF(K7=\"\",\"\",RANK(K7,$K$1:$K$35,0))+COUNTIF($K$1:K7,K7)-1","v":{"$error":"#VALUE!"}},0,7,{"$f":"IF(D7=1,VLOOKUP(N7,$L$1:$M$35,2,FALSE),\"\")","v":""},{"$f":"IF(D7=1,RTD(\"cqg.rtd\", ,\"ContractData\",C7, \"Delta\",, \"T\"),\"\")","v":""},{"$f":"IF(D7=1,RTD(\"cqg.rtd\", ,\"OrderData\", \"\"&O7&\"\", \"\", \"OpenPosition\",\"\"&$B$449&\"\"),\"\")","v":""},{"$f":"IF(D7=0,\"\",IF(LEFT(O7,1)=\"F\",Q7*100,Q7*RTD(\"cqg.rtd\",,\"ContractData\",O7,\"Delta\",,\"T\")))","v":""},{"$f":"IF(R7=\"\",\"\",RANK(R7,$R$1:$R$35,0)+COUNTIF($R$1:R7,R7)-1)","v":""},"",7,"",{"$f":"IF(D7=1,RTD(\"cqg.rtd\", ,\"ContractData\",C7, \"Vega\",, \"T\"),\"\")","v":""},{"$f":"IF(W7=\"\",\"\",RANK(W7,$W$1:$W$35,0)+COUNTIF($W$1:W7,W7)-1)","v":""},0,7,"",{"$f":"IF(D7=1,RTD(\"cqg.rtd\", ,\"ContractData\",C7, \"Gamma\",, \"T\"),\"\")","v":""},{"$f":"IF(AB7=\"\",\"\",RANK(AB7,$AB$1:$AB$35,0)+COUNTIF($AB$1:AB7,AB7)-1)","v":""},0,7,"",{"$f":"IF(D7=1,RTD(\"cqg.rtd\", ,\"ContractData\",C7, \"Theta\",, \"T\"),\"\")","v":""},{"$f":"IF(AG7=\"\",\"\",RANK(AG7,$AG$1:$AG$35,0)+COUNTIF($AG$1:AG7,AG7)-1)","v":""},0,7,"",{"$f":"IF(D7=1,1/RTD(\"cqg.rtd\", ,\"ContractData\",C7, \"ExpirationDate\",, \"T\"),\"\")","v":""},{"$f":"IF(AL7=\"\",\"\",RANK(AL7,$AL$1:$AL$35,0)+COUNTIF($AL$1:AL7,AL7)-1)","v":""},0,7,""]
[{"$f":"IF(OR(ISTEXT(RTD(\"cqg.rtd\",,\"OrderData\",\"\"&B8&\"\",\"\",\"OpenPosition\",\"\"&Display2!$D$3&\"\")),RTD(\"cqg.rtd\",,\"OrderData\",\"\"&B8&\"\",\"\",\"OpenPosition\",\"\"&Display2!$D$3&\"\")=0),A7+0.001,INT(A7)+1)","v":8.0000000000000002E-3},{"$f":"(LEFT(B9,SEARCH(Display2!$G$2,B9)+LEN(Display2!$G$2)+2))&RIGHT(B9,LEN(B9)-(SEARCH(Display2!$G$2,B9)+LEN(Display2!$G$2)+2))+Display2!$J$3","v":"C.US.CLE1N175900"},0,0,8,{"$f":"IF(D8=1,RTD(\"cqg.rtd\", ,\"ContractData\",C8, \"ImpliedVolatility\",, \"T\"),\"\")","v":""},{"$f":"IF(F8=\"\",\"\",RANK(F8,$F$1:$F$35,0)+COUNTIF($F$1:F8,F8)-1)","v":""},0,8,0,{"$f":"IF(D8=1,RTD(\"cqg.rtd\", ,\"OrderData\",\"\"&C8&\"\", \"\", \"OpenTradeEquity\",\"\"&$B$449&\"\"),\"\")","v":""},{"$f":"IF(K8=\"\",\"\",RANK(K8,$K$1:$K$35,0))+COUNTIF($K$1:K8,K8)-1","v":{"$error":"#VALUE!"}},0,8,"",{"$f":"IF(D8=1,RTD(\"cqg.rtd\", ,\"ContractData\",C8, \"Delta\",, \"T\"),\"\")","v":""},{"$f":"IF(D8=1,RTD(\"cqg.rtd\", ,\"OrderData\", \"\"&O8&\"\", \"\", \"OpenPosition\",\"\"&$B$449&\"\"),\"\")","v":""},{"$f":"IF(D8=0,\"\",IF(LEFT(O8,1)=\"F\",Q8*100,Q8*RTD(\"cqg.rtd\",,\"ContractData\",O8,\"Delta\",,\"T\")))","v":""},{"$f":"IF(R8=\"\",\"\",RANK(R8,$R$1:$R$35,0)+COUNTIF($R$1:R8,R8)-1)","v":""},"",8,"",{"$f":"IF(D8=1,RTD(\"cqg.rtd\", ,\"ContractData\",C8, \"Vega\",, \"T\"),\"\")","v":""},{"$f":"IF(W8=\"\",\"\",RANK(W8,$W$1:$W$35,0)+COUNTIF($W$1:W8,W8)-1)","v":""},0,8,"",{"$f":"IF(D8=1,RTD(\"cqg.rtd\", ,\"ContractData\",C8, \"Gamma\",, \"T\"),\"\")","v":""},{"$f":"IF(AB8=\"\",\"\",RANK(AB8,$AB$1:$AB$35,0)+COUNTIF($AB$1:AB8,AB8)-1)","v":""},0,8,"",{"$f":"IF(D8=1,RTD(\"cqg.rtd\", ,\"ContractData\",C8, \"Theta\",, \"T\"),\"\")","v":""},{"$f":"IF(AG8=\"\",\"\",RANK(AG8,$AG$1:$AG$35,0)+COUNTIF($AG$1:AG8,AG8)-1)","v":""},0,8,"",{"$f":"IF(D8=1,1/RTD(\"cqg.rtd\", ,\"ContractData\",C8, \"ExpirationDate\",, \"T\"),\"\")","v":""},{"$f":"IF(AL8=\"\",\"\",RANK(AL8,$AL$1:$AL$35,0)+COUNTIF($AL$1:AL8,AL8)-1)","v":""},0,8,""]
[{"$f":"IF(OR(ISTEXT(RTD(\"cqg.rtd\",,\"OrderData\",\"\"&B9&\"\",\"\",\"OpenPosition\",\"\"&Display2!$D$3&\"\")),RTD(\"cqg.rtd\",,\"OrderData\",\"\"&B9&\"\",\"\",\"OpenPosition\",\"\"&Display2!$D$3&\"\")=0),A8+0.001,INT(A8)+1)","v":9.0000000000000011E-3},{"$f":"(LEFT(B10,SEARCH(Display2!$G$2,B10)+LEN(Display2!$G$2)+2))&RIGHT(B10,LEN(B10)-(SEARCH(Display2!$G$2,B10)+LEN(Display2!$G$2)+2))+Display2!$J$3","v":"C.US.CLE1N175850"},0,0,9,{"$f":"IF(D9=1,RTD(\"cqg.rtd\", ,\"ContractData\",C9, \"ImpliedVolatility\",, \"T\"),\"\")","v":""},{"$f":"IF(F9=\"\",\"\",RANK(F9,$F$1:$F$35,0)+COUNTIF($F$1:F9,F9)-1)","v":""},0,9,0,{"$f":"IF(D9=1,RTD(\"cqg.rtd\", ,\"OrderData\",\"\"&C9&\"\", \"\", \"OpenTradeEquity\",\"\"&$B$449&\"\"),\"\")","v":""},{"$f":"IF(K9=\"\",\"\",RANK(K9,$K$1:$K$35,0))+COUNTIF($K$1:K9,K9)-1","v":{"$error":"#VALUE!"}},0,9,"",{"$f":"IF(D9=1,RTD(\"cqg.rtd\", ,\"ContractData\",C9, \"Delta\",, \"T\"),\"\")","v":""},{"$f":"IF(D9=1,RTD(\"cqg.rtd\", ,\"OrderData\", \"\"&O9&\"\", \"\", \"OpenPosition\",\"\"&$B$449&\"\"),\"\")","v":""},{"$f":"IF(D9=0,\"\",IF(LEFT(O9,1)=\"F\",Q9*100,Q9*RTD(\"cqg.rtd\",,\"ContractData\",O9,\"Delta\",,\"T\")))","v":""},{"$f":"IF(R9=\"\",\"\",RANK(R9,$R$1:$R$35,0)+COUNTIF($R$1:R9,R9)-1)","v":""},"",9,"",{"$f":"IF(D9=1,RTD(\"cqg.rtd\", ,\"ContractData\",C9, \"Vega\",, \"T\"),\"\")","v":""},{"$f":"IF(W9=\"\",\"\",RANK(W9,$W$1:$W$35,0)+COUNTIF($W$1:W9,W9)-1)","v":""},0,9,"",{"$f":"IF(D9=1,RTD(\"cqg.rtd\", ,\"ContractData\",C9, \"Gamma\",, \"T\"),\"\")","v":""},{"$f":"IF(AB9=\"\",\"\",RANK(AB9,$AB$1:$AB$35,0)+COUNTIF($AB$1:AB9,AB9)-1)","v":""},0,9,"",{"$f":"IF(D9=1,RTD(\"cqg.rtd\", ,\"ContractData\",C9, \"Theta\",, \"T\"),\"\")","v":""},{"$f":"IF(AG9=\"\",\"\",RANK(AG9,$AG$1:$AG$35,0)+COUNTIF($AG$1:AG9,AG9)-1)","v":""},0,9,"",{"$f":"IF(D9=1,1/RTD(\"cqg.rtd\", ,\"ContractData\",C9, \"ExpirationDate\",, \"T\"),\"\")","v":""},{"$f":"IF(AL9=\"\",\"\",RANK(AL9,$AL$1:$AL$35,0)+COUNTIF($AL$1:AL9,AL9)-1)","v":""},0,9,""]
[{"$f":"IF(OR(ISTEXT(RTD(\"cqg.rtd\",,\"OrderData\",\"\"&B10&\"\",\"\",\"OpenPosition\",\"\"&Display2!$D$3&\"\")),RTD(\"cqg.rtd\",,\"OrderData\",\"\"&B10&\"\",\"\",\"OpenPosition\",\"\"&Display2!$D$3&\"\")=0),A9+0.001,INT(A9)+1)","v":1.0000000000000002E-2},{"$f":"(LEFT(B11,SEARCH(Display2!$G$2,B11)+LEN(Display2!$G$2)+2))&RIGHT(B11,LEN(B11)-(SEARCH(Display2!$G$2,B11)+LEN(Display2!$G$2)+2))+Display2!$J$3","v":"C.US.CLE1N175800"},0,0,10,{"$f":"IF(D10=1,RTD(\"cqg.rtd\", ,\"ContractData\",C10, \"ImpliedVolatility\",, \"T\"),\"\")","v":""},{"$f":"IF(F10=\"\",\"\",RANK(F10,$F$1:$F$35,0)+COUNTIF($F$1:F10,F10)-1)","v":""},0,10,0,{"$f":"IF(D10=1,RTD(\"cqg.rtd\", ,\"OrderData\",\"\"&C10&\"\", \"\", \"OpenTradeEquity\",\"\"&$B$449&\"\"),\"\")","v":""},{"$f":"IF(K10=\"\",\"\",RANK(K10,$K$1:$K$35,0))+COUNTIF($K$1:K10,K10)-1","v":{"$error":"#VALUE!"}},0,10,"",{"$f":"IF(D10=1,RTD(\"cqg.rtd\", ,\"ContractData\",C10, \"Delta\",, \"T\"),\"\")","v":""},{"$f":"IF(D10=1,RTD(\"cqg.rtd\", ,\"OrderData\", \"\"&O10&\"\", \"\", \"OpenPosition\",\"\"&$B$449&\"\"),\"\")","v":""},{"$f":"IF(D10=0,\"\",IF(LEFT(O10,1)=\"F\",Q10*100,Q10*RTD(\"cqg.rtd\",,\"ContractData\",O10,\"Delta\",,\"T\")))","v":""},{"$f":"IF(R10=\"\",\"\",RANK(R10,$R$1:$R$35,0)+COUNTIF($R$1:R10,R10)-1)","v":""},"",10,"",{"$f":"IF(D10=1,RTD(\"cqg.rtd\", ,\"ContractData\",C10, \"Vega\",, \"T\"),\"\")","v":""},{"$f":"IF(W10=\"\",\"\",RANK(W10,$W$1:$W$35,0)+COUNTIF($W$1:W10,W10)-1)","v":""},0,10,"",{"$f":"IF(D10=1,RTD(\"cqg.rtd\", ,\"ContractData\",C10, \"Gamma\",, \"T\"),\"\")","v":""},{"$f":"IF(AB10=\"\",\"\",RANK(AB10,$AB$1:$AB$35,0)+COUNTIF($AB$1:AB10,AB10)-1)","v":""},0,10,"",{"$f":"IF(D10=1,RTD(\"cqg.rtd\", ,\"ContractData\",C10, \"Theta\",, \"T\"),\"\")","v":""},{"$f":"IF(AG10=\"\",\"\",RANK(AG10,$AG$1:$AG$35,0)+COUNTIF($AG$1:AG10,AG10)-1)","v":""},0,10,"",{"$f":"IF(D10=1,1/RTD(\"cqg.rtd\", ,\"ContractData\",C10, \"ExpirationDate\",, \"T\"),\"\")","v":""},{"$f":"IF(AL10=\"\",\"\",RANK(AL10,$AL$1:$AL$35,0)+COUNTIF($AL$1:AL10,AL10)-1)","v":""},0,10,""]
[{"$f":"IF(OR(ISTEXT(RTD(\"cqg.rtd\",,\"OrderData\",\"\"&B11&\"\",\"\",\"OpenPosition\",\"\"&Display2!$D$3&\"\")),RTD(\"cqg.rtd\",,\"OrderData\",\"\"&B11&\"\",\"\",\"OpenPosition\",\"\"&Display2!$D$3&\"\")=0),A10+0.001,INT(A10)+1)","v":1.1000000000000003E-2},{"$f":"(LEFT(B12,SEARCH(Display2!$G$2,B12)+LEN(Display2!$G$2)+2))&RIGHT(B12,LEN(B12)-(SEARCH(Display2!$G$2,B12)+LEN(Display2!$G$2)+2))+Display2!$J$3","v":"C.US.CLE1N175750"},0,0,11,{"$f":"IF(D11=1,RTD(\"cqg.rtd\", ,\"ContractData\",C11, \"ImpliedVolatility\",, \"T\"),\"\")","v":""},{"$f":"IF(F11=\"\",\"\",RANK(F11,$F$1:$F$35,0)+COUNTIF($F$1:F11,F11)-1)","v":""},0,11,0,{"$f":"IF(D11=1,RTD(\"cqg.rtd\", ,\"OrderData\",\"\"&C11&\"\", \"\", \"OpenTradeEquity\",\"\"&$B$449&\"\"),\"\")","v":""},{"$f":"IF(K11=\"\",\"\",RANK(K11,$K$1:$K$35,0))+COUNTIF($K$1:K11,K11)-1","v":{"$error":"#VALUE!"}},0,11,"",{"$f":"IF(D11=1,RTD(\"cqg.rtd\", ,\"ContractData\",C11, \"Delta\",, \"T\"),\"\")","v":""},{"$f":"IF(D11=1,RTD(\"cqg.rtd\", ,\"OrderData\", \"\"&O11&\"\", \"\", \"OpenPosition\",\"\"&$B$449&\"\"),\"\")","v":""},{"$f":"IF(D11=0,\"\",IF(LEFT(O11,1)=\"F\",Q11*100,Q11*RTD(\"cqg.rtd\",,\"ContractData\",O11,\"Delta\",,\"T\")))","v":""},{"$f":"IF(R11=\"\",\"\",RANK(R11,$R$1:$R$35,0)+COUNTIF($R$1:R11,R11)-1)","v":""},"",11,"",{"$f":"IF(D11=1,RTD(\"cqg.rtd\", ,\"ContractData\",C11, \"Vega\",, \"T\"),\"\")","v":""},{"$f":"IF(W11=\"\",\"\",RANK(W11,$W$1:$W$35,0)+COUNTIF($W$1:W11,W11)-1)","v":""},0,11,"",{"$f":"IF(D11=1,RTD(\"cqg.rtd\", ,\"ContractData\",C11, \"Gamma\",, \"T\"),\"\")","v":""},{"$f":"IF(AB11=\"\",\"\",RANK(AB11,$AB$1:$AB$35,0)+COUNTIF($AB$1:AB11,AB11)-1)","v":""},0,11,"",{"$f":"IF(D11=1,RTD(\"cqg.rtd\", ,\"ContractData\",C11, \"Theta\",, \"T\"),\"\")","v":""},{"$f":"IF(AG11=\"\",\"\",RANK(AG11,$AG$1:$AG$35,0)+COUNTIF($AG$1:AG11,AG11)-1)","v":""},0,11,"",{"$f":"IF(D11=1,1/RTD(\"cqg.rtd\", ,\"ContractData\",C11, \"ExpirationDate\",, \"T\"),\"\")","v":""},{"$f":"IF(AL11=\"\",\"\",RANK(AL11,$AL$1:$AL$35,0)+COUNTIF($AL$1:AL11,AL11)-1)","v":""},0,11,"",{"$f":"IF(AL11=\"\",\"\",RANK(AL11,$AL$1:$AL$35,0)+COUNTIF($AL$1:AL11,AL11)-1)","v":""}]
[{"$f":"IF(OR(ISTEXT(RTD(\"cqg.rtd\",,\"OrderData\",\"\"&B12&\"\",\"\",\"OpenPosition\",\"\"&Display2!$D$3&\"\")),RTD(\"cqg.rtd\",,\"OrderData\",\"\"&B12&\"\",\"\",\"OpenPosition\",\"\"&Display2!$D$3&\"\")=0),A11+0.001,INT(A11)+1)","v":1.2000000000000004E-2},{"$f":"(LEFT(B13,SEARCH(Display2!$G$2,B13)+LEN(Display2!$G$2)+2))&RIGHT(B13,LEN(B13)-(SEARCH(Display2!$G$2,B13)+LEN(Display2!$G$2)+2))+Display2!$J$3","v":"C.US.CLE1N175700"},0,0,12,{"$f":"IF(D12=1,RTD(\"cqg.rtd\", ,\"ContractData\",C12, \"ImpliedVolatility\",, \"T\"),\"\")","v":""},{"$f":"IF(F12=\"\",\"\",RANK(F12,$F$1:$F$35,0)+COUNTIF($F$1:F12,F12)-1)","v":""},0,12,0,{"$f":"IF(D12=1,RTD(\"cqg.rtd\", ,\"OrderData\",\"\"&C12&\"\", \"\", \"OpenTradeEquity\",\"\"&$B$449&\"\"),\"\")","v":""},{"$f":"IF(K12=\"\",\"\",RANK(K12,$K$1:$K$35,0))+COUNTIF($K$1:K12,K12)-1","v":{"$error":"#VALUE!"}},0,12,"",{"$f":"IF(D12=1,RTD(\"cqg.rtd\", ,\"ContractData\",C12, \"Delta\",, \"T\"),\"\")","v":""},{"$f":"IF(D12=1,RTD(\"cqg.rtd\", ,\"OrderData\", \"\"&O12&\"\", \"\", \"OpenPosition\",\"\"&$B$449&\"\"),\"\")","v":""},{"$f":"IF(D12=0,\"\",IF(LEFT(O12,1)=\"F\",Q12*100,Q12*RTD(\"cqg.rtd\",,\"ContractData\",O12,\"Delta\",,\"T\")))","v":""},{"$f":"IF(R12=\"\",\"\",RANK(R12,$R$1:$R$35,0)+COUNTIF($R$1:R12,R12)-1)","v":""},"",12,"",{"$f":"IF(D12=1,RTD(\"cqg.rtd\", ,\"ContractData\",C12, \"Vega\",, \"T\"),\"\")","v":""},{"$f":"IF(W12=\"\",\"\",RANK(W12,$W$1:$W$35,0)+COUNTIF($W$1:W12,W12)-1)","v":""},0,12,"",{"$f":"IF(D12=1,RTD(\"cqg.rtd\", ,\"ContractData\",C12, \"Gamma\",, \"T\"),\"\")","v":""},{"$f":"IF(AB12=\"\",\"\",RANK(AB12,$AB$1:$AB$35,0)+COUNTIF($AB$1:AB12,AB12)-1)","v":""},0,12,null,{"$f":"IF(D12=1,RTD(\"cqg.rtd\", ,\"ContractData\",C12, \"Theta\",, \"T\"),\"\")","v":""},{"$f":"IF(AG12=\"\",\"\",RANK(AG12,$AG$1:$AG$35,0)+COUNTIF($AG$1:AG12,AG12)-1)","v":""},0,12,"",{"$f":"IF(D12=1,1/RTD(\"cqg.rtd\", ,\"ContractData\",C12, \"ExpirationDate\",, \"T\"),\"\")","v":""},{"$f":"IF(AL12=\"\",\"\",RANK(AL12,$AL$1:$AL$35,0)+COUNTIF($AL$1:AL12,AL12)-1)","v":""},0,12,"",{"$f":"IF(AL12=\"\",\"\",RANK(AL12,$AL$1:$AL$35,0)+COUNTIF($AL$1:AL12,AL12)-1)","v":""}]
[{"$f":"IF(OR(ISTEXT(RTD(\"cqg.rtd\",,\"OrderData\",\"\"&B13&\"\",\"\",\"OpenPosition\",\"\"&Display2!$D$3&\"\")),RTD(\"cqg.rtd\",,\"OrderData\",\"\"&B13&\"\",\"\",\"OpenPosition\",\"\"&Display2!$D$3&\"\")=0),A12+0.001,INT(A12)+1)","v":1.3000000000000005E-2},{"$f":"(LEFT(B14,SEARCH(Display2!$G$2,B14)+LEN(Display2!$G$2)+2))&RIGHT(B14,LEN(B14)-(SEARCH(Display2!$G$2,B14)+LEN(Display2!$G$2)+2))+Display2!$J$3","v":"C.US.CLE1N175650"},0,0,13,{"$f":"IF(D13=1,RTD(\"cqg.rtd\", ,\"ContractData\",C13, \"ImpliedVolatility\",, \"T\"),\"\")","v":""},{"$f":"IF(F13=\"\",\"\",RANK(F13,$F$1:$F$35,0)+COUNTIF($F$1:F13,F13)-1)","v":""},0,13,0,{"$f":"IF(D13=1,RTD(\"cqg.rtd\", ,\"OrderData\",\"\"&C13&\"\", \"\", \"OpenTradeEquity\",\"\"&$B$449&\"\"),\"\")","v":""},{"$f":"IF(K13=\"\",\"\",RANK(K13,$K$1:$K$35,0))+COUNTIF($K$1:K13,K13)-1","v":{"$error":"#VALUE!"}},0,13,"",{"$f":"IF(D13=1,RTD(\"cqg.rtd\", ,\"ContractData\",C13, \"Delta\",, \"T\"),\"\")","v":""},{"$f":"IF(D13=1,RTD(\"cqg.rtd\", ,\"OrderData\", \"\"&O13&\"\", \"\", \"OpenPosition\",\"\"&$B$449&\"\"),\"\")","v":""},{"$f":"IF(D13=0,\"\",IF(LEFT(O13,1)=\"F\",Q13*100,Q13*RTD(\"cqg.rtd\",,\"ContractData\",O13,\"Delta\",,\"T\")))","v":""},{"$f":"IF(R13=\"\",\"\",RANK(R13,$R$1:$R$35,0)+COUNTIF($R$1:R13,R13)-1)","v":""},"",13,"",{"$f":"IF(D13=1,RTD(\"cqg.rtd\", ,\"ContractData\",C13, \"Vega\",, \"T\"),\"\")","v":""},{"$f":"IF(W13=\"\",\"\",RANK(W13,$W$1:$W$35,0)+COUNTIF($W$1:W13,W13)-1)","v":""},0,13,"",{"$f":"IF(D13=1,RTD(\"cqg.rtd\", ,\"ContractData\",C13, \"Gamma\",, \"T\"),\"\")","v":""},{"$f":"IF(AB13=\"\",\"\",RANK(AB13,$AB$1:$AB$35,0)+COUNTIF($AB$1:AB13,AB13)-1)","v":""},0,13,"",{"$f":"IF(D13=1,RTD(\"cqg.rtd\", ,\"ContractData\",C13, \"Theta\",, \"T\"),\"\")","v":""},{"$f":"IF(AG13=\"\",\"\",RANK(AG13,$AG$1:$AG$35,0)+COUNTIF($AG$1:AG13,AG13)-1)","v":""},0,13,"",{"$f":"IF(D13=1,1/RTD(\"cqg.rtd\", ,\"ContractData\",C13, \"ExpirationDate\",, \"T\"),\"\")","v":""},{"$f":"IF(AL13=\"\",\"\",RANK(AL13,$AL$1:$AL$35,0)+COUNTIF($AL$1:AL13,AL13)-1)","v":""},0,13,"",{"$f":"IF(AL13=\"\",\"\",RANK(AL13,$AL$1:$AL$35,0)+COUNTIF($AL$1:AL13,AL13)-1)","v":""}]
[{"$f":"IF(OR(ISTEXT(RTD(\"cqg.rtd\",,\"OrderData\",\"\"&B14&\"\",\"\",\"OpenPosition\",\"\"&Display2!$D$3&\"\")),RTD(\"cqg.rtd\",,\"OrderData\",\"\"&B14&\"\",\"\",\"OpenPosition\",\"\"&Display2!$D$3&\"\")=0),A13+0.001,INT(A13)+1)","v":1.4000000000000005E-2},{"$f":"(LEFT(B15,SEARCH(Display2!$G$2,B15)+LEN(Display2!$G$2)+2))&RIGHT(B15,LEN(B15)-(SEARCH(Display2!$G$2,B15)+LEN(Display2!$G$2)+2))+Display2!$J$3","v":"C.US.CLE1N175600"},0,0,14,{"$f":"IF(D14=1,RTD(\"cqg.rtd\", ,\"ContractData\",C14, \"ImpliedVolatility\",, \"T\"),\"\")","v":""},{"$f":"IF(F14=\"\",\"\",RANK(F14,$F$1:$F$35,0)+COUNTIF($F$1:F14,F14)-1)","v":""},0,14,0,{"$f":"IF(D14=1,RTD(\"cqg.rtd\", ,\"OrderData\",\"\"&C14&\"\", \"\", \"OpenTradeEquity\",\"\"&$B$449&\"\"),\"\")","v":""},{"$f":"IF(K14=\"\",\"\",RANK(K14,$K$1:$K$35,0))+COUNTIF($K$1:K14,K14)-1","v":{"$error":"#VALUE!"}},0,14,"",{"$f":"IF(D14=1,RTD(\"cqg.rtd\", ,\"ContractData\",C14, \"Delta\",, \"T\"),\"\")","v":""},{"$f":"IF(D14=1,RTD(\"cqg.rtd\", ,\"OrderData\", \"\"&O14&\"\", \"\", \"OpenPosition\",\"\"&$B$449&\"\"),\"\")","v":""},{"$f":"IF(D14=0,\"\",IF(LEFT(O14,1)=\"F\",Q14*100,Q14*RTD(\"cqg.rtd\",,\"ContractData\",O14,\"Delta\",,\"T\")))","v":""},{"$f":"IF(R14=\"\",\"\",RANK(R14,$R$1:$R$35,0)+COUNTIF($R$1:R14,R14)-1)","v":""},"",14,"",{"$f":"IF(D14=1,RTD(\"cqg.rtd\", ,\"ContractData\",C14, \"Vega\",, \"T\"),\"\")","v":""},{"$f":"IF(W14=\"\",\"\",RANK(W14,$W$1:$W$35,0)+COUNTIF($W$1:W14,W14)-1)","v":""},0,14,"",{"$f":"IF(D14=1,RTD(\"cqg.rtd\", ,\"ContractData\",C14, \"Gamma\",, \"T\"),\"\")","v":""},{"$f":"IF(AB14=\"\",\"\",RANK(AB14,$AB$1:$AB$35,0)+COUNTIF($AB$1:AB14,AB14)-1)","v":""},0,14,"",{"$f":"IF(D14=1,RTD(\"cqg.rtd\", ,\"ContractData\",C14, \"Theta\",, \"T\"),\"\")","v":""},{"$f":"IF(AG14=\"\",\"\",RANK(AG14,$AG$1:$AG$35,0)+COUNTIF($AG$1:AG14,AG14)-1)","v":""},0,14,"",{"$f":"IF(D14=1,1/RTD(\"cqg.rtd\", ,\"ContractData\",C14, \"ExpirationDate\",, \"T\"),\"\")","v":""},{"$f":"IF(AL14=\"\",\"\",RANK(AL14,$AL$1:$AL$35,0)+COUNTIF($AL$1:AL14,AL14)-1)","v":""},0,14,"",{"$f":"IF(AL14=\"\",\"\",RANK(AL14,$AL$1:$AL$35,0)+COUNTIF($AL$1:AL14,AL14)-1)","v":""}]
[{"$f":"IF(OR(ISTEXT(RTD(\"cqg.rtd\",,\"OrderData\",\"\"&B15&\"\",\"\",\"OpenPosition\",\"\"&Display2!$D$3&\"\")),RTD(\"cqg.rtd\",,\"OrderData\",\"\"&B15&\"\",\"\",\"OpenPosition\",\"\"&Display2!$D$3&\"\")=0),A14+0.001,INT(A14)+1)","v":1.5000000000000006E-2},{"$f":"(LEFT(B16,SEARCH(Display2!$G$2,B16)+LEN(Display2!$G$2)+2))&RIGHT(B16,LEN(B16)-(SEARCH(Display2!$G$2,B16)+LEN(Display2!$G$2)+2))+Display2!$J$3","v":"C.US.CLE1N175550"},0,0,15,{"$f":"IF(D15=1,RTD(\"cqg.rtd\", ,\"ContractData\",C15, \"ImpliedVolatility\",, \"T\"),\"\")","v":""},{"$f":"IF(F15=\"\",\"\",RANK(F15,$F$1:$F$35,0)+COUNTIF($F$1:F15,F15)-1)","v":""},0,15,0,{"$f":"IF(D15=1,RTD(\"cqg.rtd\", ,\"OrderData\",\"\"&C15&\"\", \"\", \"OpenTradeEquity\",\"\"&$B$449&\"\"),\"\")","v":""},{"$f":"IF(K15=\"\",\"\",RANK(K15,$K$1:$K$35,0))+COUNTIF($K$1:K15,K15)-1","v":{"$error":"#VALUE!"}},0,15,"",{"$f":"IF(D15=1,RTD(\"cqg.rtd\", ,\"ContractData\",C15, \"Delta\",, \"T\"),\"\")","v":""},{"$f":"IF(D15=1,RTD(\"cqg.rtd\", ,\"OrderData\", \"\"&O15&\"\", \"\", \"OpenPosition\",\"\"&$B$449&\"\"),\"\")","v":""},{"$f":"IF(D15=0,\"\",IF(LEFT(O15,1)=\"F\",Q15*100,Q15*RTD(\"cqg.rtd\",,\"ContractData\",O15,\"Delta\",,\"T\")))","v":""},{"$f":"IF(R15=\"\",\"\",RANK(R15,$R$1:$R$35,0)+COUNTIF($R$1:R15,R15)-1)","v":""},"",15,"",{"$f":"IF(D15=1,RTD(\"cqg.rtd\", ,\"ContractData\",C15, \"Vega\",, \"T\"),\"\")","v":""},{"$f":"IF(W15=\"\",\"\",RANK(W15,$W$1:$W$35,0)+COUNTIF($W$1:W15,W15)-1)","v":""},0,15,"",{"$f":"IF(D15=1,RTD(\"cqg.rtd\", ,\"ContractData\",C15, \"Gamma\",, \"T\"),\"\")","v":""},{"$f":"IF(AB15=\"\",\"\",RANK(AB15,$AB$1:$AB$35,0)+COUNTIF($AB$1:AB15,AB15)-1)","v":""},0,15,"",{"$f":"IF(D15=1,RTD(\"cqg.rtd\", ,\"ContractData\",C15, \"Theta\",, \"T\"),\"\")","v":""},{"$f":"IF(AG15=\"\",\"\",RANK(AG15,$AG$1:$AG$35,0)+COUNTIF($AG$1:AG15,AG15)-1)","v":""},0,15,"",{"$f":"IF(D15=1,1/RTD(\"cqg.rtd\", ,\"ContractData\",C15, \"ExpirationDate\",, \"T\"),\"\")","v":""},{"$f":"IF(AL15=\"\",\"\",RANK(AL15,$AL$1:$AL$35,0)+COUNTIF($AL$1:AL15,AL15)-1)","v":""},0,15,"",{"$f":"IF(AL15=\"\",\"\",RANK(AL15,$AL$1:$AL$35,0)+COUNTIF($AL$1:AL15,AL15)-1)","v":""}]
[{"$f":"IF(OR(ISTEXT(RTD(\"cqg.rtd\",,\"OrderData\",\"\"&B16&\"\",\"\",\"OpenPosition\",\"\"&Display2!$D$3&\"\")),RTD(\"cqg.rtd\",,\"OrderData\",\"\"&B16&\"\",\"\",\"OpenPosition\",\"\"&Display2!$D$3&\"\")=0),A15+0.001,INT(A15)+1)","v":1.6000000000000007E-2},{"$f":"(LEFT(B17,SEARCH(Display2!$G$2,B17)+LEN(Display2!$G$2)+2))&RIGHT(B17,LEN(B17)-(SEARCH(Display2!$G$2,B17)+LEN(Display2!$G$2)+2))+Display2!$J$3","v":"C.US.CLE1N175500"},0,0,16,{"$f":"IF(D16=1,RTD(\"cqg.rtd\", ,\"ContractData\",C16, \"ImpliedVolatility\",, \"T\"),\"\")","v":""},{"$f":"IF(F16=\"\",\"\",RANK(F16,$F$1:$F$35,0)+COUNTIF($F$1:F16,F16)-1)","v":""},0,16,0,{"$f":"IF(D16=1,RTD(\"cqg.rtd\", ,\"OrderData\",\"\"&C16&\"\", \"\", \"OpenTradeEquity\",\"\"&$B$449&\"\"),\"\")","v":""},{"$f":"IF(K16=\"\",\"\",RANK(K16,$K$1:$K$35,0))+COUNTIF($K$1:K16,K16)-1","v":{"$error":"#VALUE!"}},0,16,"",{"$f":"IF(D16=1,RTD(\"cqg.rtd\", ,\"ContractData\",C16, \"Delta\",, \"T\"),\"\")","v":""},{"$f":"IF(D16=1,RTD(\"cqg.rtd\", ,\"OrderData\", \"\"&O16&\"\", \"\", \"OpenPosition\",\"\"&$B$449&\"\"),\"\")","v":""},{"$f":"IF(D16=0,\"\",IF(LEFT(O16,1)=\"F\",Q16*100,Q16*RTD(\"cqg.rtd\",,\"ContractData\",O16,\"Delta\",,\"T\")))","v":""},{"$f":"IF(R16=\"\",\"\",RANK(R16,$R$1:$R$35,0)+COUNTIF($R$1:R16,R16)-1)","v":""},"",16,"",{"$f":"IF(D16=1,RTD(\"cqg.rtd\", ,\"ContractData\",C16, \"Vega\",, \"T\"),\"\")","v":""},{"$f":"IF(W16=\"\",\"\",RANK(W16,$W$1:$W$35,0)+COUNTIF($W$1:W16,W16)-1)","v":""},0,16,"",{"$f":"IF(D16=1,RTD(\"cqg.rtd\", ,\"ContractData\",C16, \"Gamma\",, \"T\"),\"\")","v":""},{"$f":"IF(AB16=\"\",\"\",RANK(AB16,$AB$1:$AB$35,0)+COUNTIF($AB$1:AB16,AB16)-1)","v":""},0,16,"",{"$f":"IF(D16=1,RTD(\"cqg.rtd\", ,\"ContractData\",C16, \"Theta\",, \"T\"),\"\")","v":""},{"$f":"IF(AG16=\"\",\"\",RANK(AG16,$AG$1:$AG$35,0)+COUNTIF($AG$1:AG16,AG16)-1)","v":""},0,16,"",{"$f":"IF(D16=1,1/RTD(\"cqg.rtd\", ,\"ContractData\",C16, \"ExpirationDate\",, \"T\"),\"\")","v":""},{"$f":"IF(AL16=\"\",\"\",RANK(AL16,$AL$1:$AL$35,0)+COUNTIF($AL$1:AL16,AL16)-1)","v":""},0,16,"",{"$f":"IF(AL16=\"\",\"\",RANK(AL16,$AL$1:$AL$35,0)+COUNTIF($AL$1:AL16,AL16)-1)","v":""}]
[{"$f":"IF(OR(ISTEXT(RTD(\"cqg.rtd\",,\"OrderData\",\"\"&B17&\"\",\"\",\"OpenPosition\",\"\"&Display2!$D$3&\"\")),RTD(\"cqg.rtd\",,\"OrderData\",\"\"&B17&\"\",\"\",\"OpenPosition\",\"\"&Display2!$D$3&\"\")=0),A16+0.001,INT(A16)+1)","v":1.7000000000000008E-2},{"$f":"(LEFT(B18,SEARCH(Display2!$G$2,B18)+LEN(Display2!$G$2)+2))&RIGHT(B18,LEN(B18)-(SEARCH(Display2!$G$2,B18)+LEN(Display2!$G$2)+2))+Display2!$J$3","v":"C.US.CLE1N175450"},0,0,17,{"$f":"IF(D17=1,RTD(\"cqg.rtd\", ,\"ContractData\",C17, \"ImpliedVolatility\",, \"T\"),\"\")","v":""},{"$f":"IF(F17=\"\",\"\",RANK(F17,$F$1:$F$35,0)+COUNTIF($F$1:F17,F17)-1)","v":""},0,17,0,{"$f":"IF(D17=1,RTD(\"cqg.rtd\", ,\"OrderData\",\"\"&C17&\"\", \"\", \"OpenTradeEquity\",\"\"&$B$449&\"\"),\"\")","v":""},{"$f":"IF(K17=\"\",\"\",RANK(K17,$K$1:$K$35,0))+COUNTIF($K$1:K17,K17)-1","v":{"$error":"#VALUE!"}},0,17,"",{"$f":"IF(D17=1,RTD(\"cqg.rtd\", ,\"ContractData\",C17, \"Delta\",, \"T\"),\"\")","v":""},{"$f":"IF(D17=1,RTD(\"cqg.rtd\", ,\"OrderData\", \"\"&O17&\"\", \"\", \"OpenPosition\",\"\"&$B$449&\"\"),\"\")","v":""},{"$f":"IF(D17=0,\"\",IF(LEFT(O17,1)=\"F\",Q17*100,Q17*RTD(\"cqg.rtd\",,\"ContractData\",O17,\"Delta\",,\"T\")))","v":""},{"$f":"IF(R17=\"\",\"\",RANK(R17,$R$1:$R$35,0)+COUNTIF($R$1:R17,R17)-1)","v":""},"",17,"",{"$f":"IF(D17=1,RTD(\"cqg.rtd\", ,\"ContractData\",C17, \"Vega\",, \"T\"),\"\")","v":""},{"$f":"IF(W17=\"\",\"\",RANK(W17,$W$1:$W$35,0)+COUNTIF($W$1:W17,W17)-1)","v":""},0,17,"",{"$f":"IF(D17=1,RTD(\"cqg.rtd\", ,\"ContractData\",C17, \"Gamma\",, \"T\"),\"\")","v":""},{"$f":"IF(AB17=\"\",\"\",RANK(AB17,$AB$1:$AB$35,0)+COUNTIF($AB$1:AB17,AB17)-1)","v":""},0,17,"",{"$f":"IF(D17=1,RTD(\"cqg.rtd\", ,\"ContractData\",C17, \"Theta\",, \"T\"),\"\")","v":""},{"$f":"IF(AG17=\"\",\"\",RANK(AG17,$AG$1:$AG$35,0)+COUNTIF($AG$1:AG17,AG17)-1)","v":""},0,17,"",{"$f":"IF(D17=1,1/RTD(\"cqg.rtd\", ,\"ContractData\",C17, \"ExpirationDate\",, \"T\"),\"\")","v":""},{"$f":"IF(AL17=\"\",\"\",RANK(AL17,$AL$1:$AL$35,0)+COUNTIF($AL$1:AL17,AL17)-1)","v":""},0,17,"",{"$f":"IF(AL17=\"\",\"\",RANK(AL17,$AL$1:$AL$35,0)+COUNTIF($AL$1:AL17,AL17)-1)","v":""}]
[{"$f":"IF(OR(ISTEXT(RTD(\"cqg.rtd\",,\"OrderData\",\"\"&B18&\"\",\"\",\"OpenPosition\",\"\"&Display2!$D$3&\"\")),RTD(\"cqg.rtd\",,\"OrderData\",\"\"&B18&\"\",\"\",\"OpenPosition\",\"\"&Display2!$D$3&\"\")=0),A17+0.001,INT(A17)+1)","v":1.8000000000000009E-2},{"$f":"(LEFT(B19,SEARCH(Display2!$G$2,B19)+LEN(Display2!$G$2)+2))&RIGHT(B19,LEN(B19)-(SEARCH(Display2!$G$2,B19)+LEN(Display2!$G$2)+2))+Display2!$J$3","v":"C.US.CLE1N175400"},0,0,18,{"$f":"IF(D18=1,RTD(\"cqg.rtd\", ,\"ContractData\",C18, \"ImpliedVolatility\",, \"T\"),\"\")","v":""},{"$f":"IF(F18=\"\",\"\",RANK(F18,$F$1:$F$35,0)+COUNTIF($F$1:F18,F18)-1)","v":""},0,18,0,{"$f":"IF(D18=1,RTD(\"cqg.rtd\", ,\"OrderData\",\"\"&C18&\"\", \"\", \"OpenTradeEquity\",\"\"&$B$449&\"\"),\"\")","v":""},{"$f":"IF(K18=\"\",\"\",RANK(K18,$K$1:$K$35,0))+COUNTIF($K$1:K18,K18)-1","v":{"$error":"#VALUE!"}},0,18,"",{"$f":"IF(D18=1,RTD(\"cqg.rtd\", ,\"ContractData\",C18, \"Delta\",, \"T\"),\"\")","v":""},{"$f":"IF(D18=1,RTD(\"cqg.rtd\", ,\"OrderData\", \"\"&O18&\"\", \"\", \"OpenPosition\",\"\"&$B$449&\"\"),\"\")","v":""},{"$f":"IF(D18=0,\"\",IF(LEFT(O18,1)=\"F\",Q18*100,Q18*RTD(\"cqg.rtd\",,\"ContractData\",O18,\"Delta\",,\"T\")))","v":""},{"$f":"IF(R18=\"\",\"\",RANK(R18,$R$1:$R$35,0)+COUNTIF($R$1:R18,R18)-1)","v":""},"",18,"",{"$f":"IF(D18=1,RTD(\"cqg.rtd\", ,\"ContractData\",C18, \"Vega\",, \"T\"),\"\")","v":""},{"$f":"IF(W18=\"\",\"\",RANK(W18,$W$1:$W$35,0)+COUNTIF($W$1:W18,W18)-1)","v":""},0,18,"",{"$f":"IF(D18=1,RTD(\"cqg.rtd\", ,\"ContractData\",C18, \"Gamma\",, \"T\"),\"\")","v":""},{"$f":"IF(AB18=\"\",\"\",RANK(AB18,$AB$1:$AB$35,0)+COUNTIF($AB$1:AB18,AB18)-1)","v":""},0,18,"",{"$f":"IF(D18=1,RTD(\"cqg.rtd\", ,\"ContractData\",C18, \"Theta\",, \"T\"),\"\")","v":""},{"$f":"IF(AG18=\"\",\"\",RANK(AG18,$AG$1:$AG$35,0)+COUNTIF($AG$1:AG18,AG18)-1)","v":""},0,18,"",{"$f":"IF(D18=1,1/RTD(\"cqg.rtd\", ,\"ContractData\",C18, \"ExpirationDate\",, \"T\"),\"\")","v":""},{"$f":"IF(AL18=\"\",\"\",RANK(AL18,$AL$1:$AL$35,0)+COUNTIF($AL$1:AL18,AL18)-1)","v":""},0,18,"",{"$f":"IF(AL18=\"\",\"\",RANK(AL18,$AL$1:$AL$35,0)+COUNTIF($AL$1:AL18,AL18)-1)","v":""}]
[{"$f":"IF(OR(ISTEXT(RTD(\"cqg.rtd\",,\"OrderData\",\"\"&B19&\"\",\"\",\"OpenPosition\",\"\"&Display2!$D$3&\"\")),RTD(\"cqg.rtd\",,\"OrderData\",\"\"&B19&\"\",\"\",\"OpenPosition\",\"\"&Display2!$D$3&\"\")=0),A18+0.001,INT(A18)+1)","v":1.900000000000001E-2},{"$f":"(LEFT(B20,SEARCH(Display2!$G$2,B20)+LEN(Display2!$G$2)+2))&RIGHT(B20,LEN(B20)-(SEARCH(Display2!$G$2,B20)+LEN(Display2!$G$2)+2))+Display2!$J$3","v":"C.US.CLE1N175350"},0,0,19,{"$f":"IF(D19=1,RTD(\"cqg.rtd\", ,\"ContractData\",C19, \"ImpliedVolatility\",, \"T\"),\"\")","v":""},{"$f":"IF(F19=\"\",\"\",RANK(F19,$F$1:$F$35,0)+COUNTIF($F$1:F19,F19)-1)","v":""},0,19,0,{"$f":"IF(D19=1,RTD(\"cqg.rtd\", ,\"OrderData\",\"\"&C19&\"\", \"\", \"OpenTradeEquity\",\"\"&$B$449&\"\"),\"\")","v":""},{"$f":"IF(K19=\"\",\"\",RANK(K19,$K$1:$K$35,0))+COUNTIF($K$1:K19,K19)-1","v":{"$error":"#VALUE!"}},0,19,"",{"$f":"IF(D19=1,RTD(\"cqg.rtd\", ,\"ContractData\",C19, \"Delta\",, \"T\"),\"\")","v":""},{"$f":"IF(D19=1,RTD(\"cqg.rtd\", ,\"OrderData\", \"\"&O19&\"\", \"\", \"OpenPosition\",\"\"&$B$449&\"\"),\"\")","v":""},{"$f":"IF(D19=0,\"\",IF(LEFT(O19,1)=\"F\",Q19*100,Q19*RTD(\"cqg.rtd\",,\"ContractData\",O19,\"Delta\",,\"T\")))","v":""},{"$f":"IF(R19=\"\",\"\",RANK(R19,$R$1:$R$35,0)+COUNTIF($R$1:R19,R19)-1)","v":""},"",19,"",{"$f":"IF(D19=1,RTD(\"cqg.rtd\", ,\"ContractData\",C19, \"Vega\",, \"T\"),\"\")","v":""},{"$f":"IF(W19=\"\",\"\",RANK(W19,$W$1:$W$35,0)+COUNTIF($W$1:W19,W19)-1)","v":""},0,19,"",{"$f":"IF(D19=1,RTD(\"cqg.rtd\", ,\"ContractData\",C19, \"Gamma\",, \"T\"),\"\")","v":""},{"$f":"IF(AB19=\"\",\"\",RANK(AB19,$AB$1:$AB$35,0)+COUNTIF($AB$1:AB19,AB19)-1)","v":""},0,19,"",{"$f":"IF(D19=1,RTD(\"cqg.rtd\", ,\"ContractData\",C19, \"Theta\",, \"T\"),\"\")","v":""},{"$f":"IF(AG19=\"\",\"\",RANK(AG19,$AG$1:$AG$35,0)+COUNTIF($AG$1:AG19,AG19)-1)","v":""},0,19,"",{"$f":"IF(D19=1,1/RTD(\"cqg.rtd\", ,\"ContractData\",C19, \"ExpirationDate\",, \"T\"),\"\")","v":""},{"$f":"IF(AL19=\"\",\"\",RANK(AL19,$AL$1:$AL$35,0)+COUNTIF($AL$1:AL19,AL19)-1)","v":""},0,19,"",{"$f":"IF(AL19=\"\",\"\",RANK(AL19,$AL$1:$AL$35,0)+COUNTIF($AL$1:AL19,AL19)-1)","v":""}]
[{"$f":"IF(OR(ISTEXT(RTD(\"cqg.rtd\",,\"OrderData\",\"\"&B20&\"\",\"\",\"OpenPosition\",\"\"&Display2!$D$3&\"\")),RTD(\"cqg.rtd\",,\"OrderData\",\"\"&B20&\"\",\"\",\"OpenPosition\",\"\"&Display2!$D$3&\"\")=0),A19+0.001,INT(A19)+1)","v":2.0000000000000011E-2},{"$f":"(LEFT(B21,SEARCH(Display2!$G$2,B21)+LEN(Display2!$G$2)+2))&RIGHT(B21,LEN(B21)-(SEARCH(Display2!$G$2,B21)+LEN(Display2!$G$2)+2))+Display2!$J$3","v":"C.US.CLE1N175300"},0,0,20,{"$f":"IF(D20=1,RTD(\"cqg.rtd\", ,\"ContractData\",C20, \"ImpliedVolatility\",, \"T\"),\"\")","v":""},{"$f":"IF(F20=\"\",\"\",RANK(F20,$F$1:$F$35,0)+COUNTIF($F$1:F20,F20)-1)","v":""},0,20,0,{"$f":"IF(D20=1,RTD(\"cqg.rtd\", ,\"OrderData\",\"\"&C20&\"\", \"\", \"OpenTradeEquity\",\"\"&$B$449&\"\"),\"\")","v":""},{"$f":"IF(K20=\"\",\"\",RANK(K20,$K$1:$K$35,0))+COUNTIF($K$1:K20,K20)-1","v":{"$error":"#VALUE!"}},0,20,"",{"$f":"IF(D20=1,RTD(\"cqg.rtd\", ,\"ContractData\",C20, \"Delta\",, \"T\"),\"\")","v":""},{"$f":"IF(D20=1,RTD(\"cqg.rtd\", ,\"OrderData\", \"\"&O20&\"\", \"\", \"OpenPosition\",\"\"&$B$449&\"\"),\"\")","v":""},{"$f":"IF(D20=0,\"\",IF(LEFT(O20,1)=\"F\",Q20*100,Q20*RTD(\"cqg.rtd\",,\"ContractData\",O20,\"Delta\",,\"T\")))","v":""},{"$f":"IF(R20=\"\",\"\",RANK(R20,$R$1:$R$35,0)+COUNTIF($R$1:R20,R20)-1)","v":""},"",20,"",{"$f":"IF(D20=1,RTD(\"cqg.rtd\", ,\"ContractData\",C20, \"Vega\",, \"T\"),\"\")","v":""},{"$f":"IF(W20=\"\",\"\",RANK(W20,$W$1:$W$35,0)+COUNTIF($W$1:W20,W20)-1)","v":""},0,20,"",{"$f":"IF(D20=1,RTD(\"cqg.rtd\", ,\"ContractData\",C20, \"Gamma\",, \"T\"),\"\")","v":""},{"$f":"IF(AB20=\"\",\"\",RANK(AB20,$AB$1:$AB$35,0)+COUNTIF($AB$1:AB20,AB20)-1)","v":""},0,20,"",{"$f":"IF(D20=1,RTD(\"cqg.rtd\", ,\"ContractData\",C20, \"Theta\",, \"T\"),\"\")","v":""},{"$f":"IF(AG20=\"\",\"\",RANK(AG20,$AG$1:$AG$35,0)+COUNTIF($AG$1:AG20,AG20)-1)","v":""},0,20,"",{"$f":"IF(D20=1,1/RTD(\"cqg.rtd\", ,\"ContractData\",C20, \"ExpirationDate\",, \"T\"),\"\")","v":""},{"$f":"IF(AL20=\"\",\"\",RANK(AL20,$AL$1:$AL$35,0)+COUNTIF($AL$1:AL20,AL20)-1)","v":""},0,20,"",{"$f":"IF(AL20=\"\",\"\",RANK(AL20,$AL$1:$AL$35,0)+COUNTIF($AL$1:AL20,AL20)-1)","v":""}]
[{"$f":"IF(OR(ISTEXT(RTD(\"cqg.rtd\",,\"OrderData\",\"\"&B21&\"\",\"\",\"OpenPosition\",\"\"&Display2!$D$3&\"\")),RTD(\"cqg.rtd\",,\"OrderData\",\"\"&B21&\"\",\"\",\"OpenPosition\",\"\"&Display2!$D$3&\"\")=0),A20+0.001,INT(A20)+1)","v":2.1000000000000012E-2},{"$f":"(LEFT(B22,SEARCH(Display2!$G$2,B22)+LEN(Display2!$G$2)+2))&RIGHT(B22,LEN(B22)-(SEARCH(Display2!$G$2,B22)+LEN(Display2!$G$2)+2))+Display2!$J$3","v":"C.US.CLE1N175250"},0,0,21,{"$f":"IF(D21=1,RTD(\"cqg.rtd\", ,\"ContractData\",C21, \"ImpliedVolatility\",, \"T\"),\"\")","v":""},{"$f":"IF(F21=\"\",\"\",RANK(F21,$F$1:$F$35,0)+COUNTIF($F$1:F21,F21)-1)","v":""},0,21,0,{"$f":"IF(D21=1,RTD(\"cqg.rtd\", ,\"OrderData\",\"\"&C21&\"\", \"\", \"OpenTradeEquity\",\"\"&$B$449&\"\"),\"\")","v":""},{"$f":"IF(K21=\"\",\"\",RANK(K21,$K$1:$K$35,0))+COUNTIF($K$1:K21,K21)-1","v":{"$error":"#VALUE!"}},0,21,"",{"$f":"IF(D21=1,RTD(\"cqg.rtd\", ,\"ContractData\",C21, \"Delta\",, \"T\"),\"\")","v":""},{"$f":"IF(D21=1,RTD(\"cqg.rtd\", ,\"OrderData\", \"\"&O21&\"\", \"\", \"OpenPosition\",\"\"&$B$449&\"\"),\"\")","v":""},{"$f":"IF(D21=0,\"\",IF(LEFT(O21,1)=\"F\",Q21*100,Q21*RTD(\"cqg.rtd\",,\"ContractData\",O21,\"Delta\",,\"T\")))","v":""},{"$f":"IF(R21=\"\",\"\",RANK(R21,$R$1:$R$35,0)+COUNTIF($R$1:R21,R21)-1)","v":""},"",21,"",{"$f":"IF(D21=1,RTD(\"cqg.rtd\", ,\"ContractData\",C21, \"Vega\",, \"T\"),\"\")","v":""},{"$f":"IF(W21=\"\",\"\",RANK(W21,$W$1:$W$35,0)+COUNTIF($W$1:W21,W21)-1)","v":""},0,21,"",{"$f":"IF(D21=1,RTD(\"cqg.rtd\", ,\"ContractData\",C21, \"Gamma\",, \"T\"),\"\")","v":""},{"$f":"IF(AB21=\"\",\"\",RANK(AB21,$AB$1:$AB$35,0)+COUNTIF($AB$1:AB21,AB21)-1)","v":""},0,21,"",{"$f":"IF(D21=1,RTD(\"cqg.rtd\", ,\"ContractData\",C21, \"Theta\",, \"T\"),\"\")","v":""},{"$f":"IF(AG21=\"\",\"\",RANK(AG21,$AG$1:$AG$35,0)+COUNTIF($AG$1:AG21,AG21)-1)","v":""},0,21,"",{"$f":"IF(D21=1,1/RTD(\"cqg.rtd\", ,\"ContractData\",C21, \"ExpirationDate\",, \"T\"),\"\")","v":""},{"$f":"IF(AL21=\"\",\"\",RANK(AL21,$AL$1:$AL$35,0)+COUNTIF($AL$1:AL21,AL21)-1)","v":""},0,21,"",{"$f":"IF(AL21=\"\",\"\",RANK(AL21,$AL$1:$AL$35,0)+COUNTIF($AL$1:AL21,AL21)-1)","v":""}]
[{"$f":"IF(OR(ISTEXT(RTD(\"cqg.rtd\",,\"OrderData\",\"\"&B22&\"\",\"\",\"OpenPosition\",\"\"&Display2!$D$3&\"\")),RTD(\"cqg.rtd\",,\"OrderData\",\"\"&B22&\"\",\"\",\"OpenPosition\",\"\"&Display2!$D$3&\"\")=0),A21+0.001,INT(A21)+1)","v":2.2000000000000013E-2},{"$f":"(LEFT(B23,SEARCH(Display2!$G$2,B23)+LEN(Display2!$G$2)+2))&RIGHT(B23,LEN(B23)-(SEARCH(Display2!$G$2,B23)+LEN(Display2!$G$2)+2))+Display2!$J$3","v":"C.US.CLE1N175200"},0,0,22,{"$f":"IF(D22=1,RTD(\"cqg.rtd\", ,\"ContractData\",C22, \"ImpliedVolatility\",, \"T\"),\"\")","v":""},{"$f":"IF(F22=\"\",\"\",RANK(F22,$F$1:$F$35,0)+COUNTIF($F$1:F22,F22)-1)","v":""},0,22,0,{"$f":"IF(D22=1,RTD(\"cqg.rtd\", ,\"OrderData\",\"\"&C22&\"\", \"\", \"OpenTradeEquity\",\"\"&$B$449&\"\"),\"\")","v":""},{"$f":"IF(K22=\"\",\"\",RANK(K22,$K$1:$K$35,0))+COUNTIF($K$1:K22,K22)-1","v":{"$error":"#VALUE!"}},0,22,"",{"$f":"IF(D22=1,RTD(\"cqg.rtd\", ,\"ContractData\",C22, \"Delta\",, \"T\"),\"\")","v":""},{"$f":"IF(D22=1,RTD(\"cqg.rtd\", ,\"OrderData\", \"\"&O22&\"\", \"\", \"OpenPosition\",\"\"&$B$449&\"\"),\"\")","v":""},{"$f":"IF(D22=0,\"\",IF(LEFT(O22,1)=\"F\",Q22*100,Q22*RTD(\"cqg.rtd\",,\"ContractData\",O22,\"Delta\",,\"T\")))","v":""},{"$f":"IF(R22=\"\",\"\",RANK(R22,$R$1:$R$35,0)+COUNTIF($R$1:R22,R22)-1)","v":""},"",22,"",{"$f":"IF(D22=1,RTD(\"cqg.rtd\", ,\"ContractData\",C22, \"Vega\",, \"T\"),\"\")","v":""},{"$f":"IF(W22=\"\",\"\",RANK(W22,$W$1:$W$35,0)+COUNTIF($W$1:W22,W22)-1)","v":""},0,22,"",{"$f":"IF(D22=1,RTD(\"cqg.rtd\", ,\"ContractData\",C22, \"Gamma\",, \"T\"),\"\")","v":""},{"$f":"IF(AB22=\"\",\"\",RANK(AB22,$AB$1:$AB$35,0)+COUNTIF($AB$1:AB22,AB22)-1)","v":""},0,22,"",{"$f":"IF(D22=1,RTD(\"cqg.rtd\", ,\"ContractData\",C22, \"Theta\",, \"T\"),\"\")","v":""},{"$f":"IF(AG22=\"\",\"\",RANK(AG22,$AG$1:$AG$35,0)+COUNTIF($AG$1:AG22,AG22)-1)","v":""},0,22,"",{"$f":"IF(D22=1,1/RTD(\"cqg.rtd\", ,\"ContractData\",C22, \"ExpirationDate\",, \"T\"),\"\")","v":""},{"$f":"IF(AL22=\"\",\"\",RANK(AL22,$AL$1:$AL$35,0)+COUNTIF($AL$1:AL22,AL22)-1)","v":""},0,22,"",{"$f":"IF(AL22=\"\",\"\",RANK(AL22,$AL$1:$AL$35,0)+COUNTIF($AL$1:AL22,AL22)-1)","v":""}]
[{"$f":"IF(OR(ISTEXT(RTD(\"cqg.rtd\",,\"OrderData\",\"\"&B23&\"\",\"\",\"OpenPosition\",\"\"&Display2!$D$3&\"\")),RTD(\"cqg.rtd\",,\"OrderData\",\"\"&B23&\"\",\"\",\"OpenPosition\",\"\"&Display2!$D$3&\"\")=0),A22+0.001,INT(A22)+1)","v":2.3000000000000013E-2},{"$f":"(LEFT(B24,SEARCH(Display2!$G$2,B24)+LEN(Display2!$G$2)+2))&RIGHT(B24,LEN(B24)-(SEARCH(Display2!$G$2,B24)+LEN(Display2!$G$2)+2))+Display2!$J$3","v":"C.US.CLE1N175150"},0,0,23,{"$f":"IF(D23=1,RTD(\"cqg.rtd\", ,\"ContractData\",C23, \"ImpliedVolatility\",, \"T\"),\"\")","v":""},{"$f":"IF(F23=\"\",\"\",RANK(F23,$F$1:$F$35,0)+COUNTIF($F$1:F23,F23)-1)","v":""},0,23,0,{"$f":"IF(D23=1,RTD(\"cqg.rtd\", ,\"OrderData\",\"\"&C23&\"\", \"\", \"OpenTradeEquity\",\"\"&$B$449&\"\"),\"\")","v":""},{"$f":"IF(K23=\"\",\"\",RANK(K23,$K$1:$K$35,0))+COUNTIF($K$1:K23,K23)-1","v":{"$error":"#VALUE!"}},0,23,"",{"$f":"IF(D23=1,RTD(\"cqg.rtd\", ,\"ContractData\",C23, \"Delta\",, \"T\"),\"\")","v":""},{"$f":"IF(D23=1,RTD(\"cqg.rtd\", ,\"OrderData\", \"\"&O23&\"\", \"\", \"OpenPosition\",\"\"&$B$449&\"\"),\"\")","v":""},{"$f":"IF(D23=0,\"\",IF(LEFT(O23,1)=\"F\",Q23*100,Q23*RTD(\"cqg.rtd\",,\"ContractData\",O23,\"Delta\",,\"T\")))","v":""},{"$f":"IF(R23=\"\",\"\",RANK(R23,$R$1:$R$35,0)+COUNTIF($R$1:R23,R23)-1)","v":""},"",23,"",{"$f":"IF(D23=1,RTD(\"cqg.rtd\", ,\"ContractData\",C23, \"Vega\",, \"T\"),\"\")","v":""},{"$f":"IF(W23=\"\",\"\",RANK(W23,$W$1:$W$35,0)+COUNTIF($W$1:W23,W23)-1)","v":""},0,23,"",{"$f":"IF(D23=1,RTD(\"cqg.rtd\", ,\"ContractData\",C23, \"Gamma\",, \"T\"),\"\")","v":""},{"$f":"IF(AB23=\"\",\"\",RANK(AB23,$AB$1:$AB$35,0)+COUNTIF($AB$1:AB23,AB23)-1)","v":""},0,23,"",{"$f":"IF(D23=1,RTD(\"cqg.rtd\", ,\"ContractData\",C23, \"Theta\",, \"T\"),\"\")","v":""},{"$f":"IF(AG23=\"\",\"\",RANK(AG23,$AG$1:$AG$35,0)+COUNTIF($AG$1:AG23,AG23)-1)","v":""},0,23,"",{"$f":"IF(D23=1,1/RTD(\"cqg.rtd\", ,\"ContractData\",C23, \"ExpirationDate\",, \"T\"),\"\")","v":""},{"$f":"IF(AL23=\"\",\"\",RANK(AL23,$AL$1:$AL$35,0)+COUNTIF($AL$1:AL23,AL23)-1)","v":""},0,23,"",{"$f":"IF(AL23=\"\",\"\",RANK(AL23,$AL$1:$AL$35,0)+COUNTIF($AL$1:AL23,AL23)-1)","v":""}]
[{"$f":"IF(OR(ISTEXT(RTD(\"cqg.rtd\",,\"OrderData\",\"\"&B24&\"\",\"\",\"OpenPosition\",\"\"&Display2!$D$3&\"\")),RTD(\"cqg.rtd\",,\"OrderData\",\"\"&B24&\"\",\"\",\"OpenPosition\",\"\"&Display2!$D$3&\"\")=0),A23+0.001,INT(A23)+1)","v":2.4000000000000014E-2},{"$f":"(LEFT(B25,SEARCH(Display2!$G$2,B25)+LEN(Display2!$G$2)+2))&RIGHT(B25,LEN(B25)-(SEARCH(Display2!$G$2,B25)+LEN(Display2!$G$2)+2))+Display2!$J$3","v":"C.US.CLE1N175100"},0,0,24,{"$f":"IF(D24=1,RTD(\"cqg.rtd\", ,\"ContractData\",C24, \"ImpliedVolatility\",, \"T\"),\"\")","v":""},{"$f":"IF(F24=\"\",\"\",RANK(F24,$F$1:$F$35,0)+COUNTIF($F$1:F24,F24)-1)","v":""},0,24,0,{"$f":"IF(D24=1,RTD(\"cqg.rtd\", ,\"OrderData\",\"\"&C24&\"\", \"\", \"OpenTradeEquity\",\"\"&$B$449&\"\"),\"\")","v":""},{"$f":"IF(K24=\"\",\"\",RANK(K24,$K$1:$K$35,0))+COUNTIF($K$1:K24,K24)-1","v":{"$error":"#VALUE!"}},0,24,"",{"$f":"IF(D24=1,RTD(\"cqg.rtd\", ,\"ContractData\",C24, \"Delta\",, \"T\"),\"\")","v":""},{"$f":"IF(D24=1,RTD(\"cqg.rtd\", ,\"OrderData\", \"\"&O24&\"\", \"\", \"OpenPosition\",\"\"&$B$449&\"\"),\"\")","v":""},{"$f":"IF(D24=0,\"\",IF(LEFT(O24,1)=\"F\",Q24*100,Q24*RTD(\"cqg.rtd\",,\"ContractData\",O24,\"Delta\",,\"T\")))","v":""},{"$f":"IF(R24=\"\",\"\",RANK(R24,$R$1:$R$35,0)+COUNTIF($R$1:R24,R24)-1)","v":""},"",24,"",{"$f":"IF(D24=1,RTD(\"cqg.rtd\", ,\"ContractData\",C24, \"Vega\",, \"T\"),\"\")","v":""},{"$f":"IF(W24=\"\",\"\",RANK(W24,$W$1:$W$35,0)+COUNTIF($W$1:W24,W24)-1)","v":""},0,24,"",{"$f":"IF(D24=1,RTD(\"cqg.rtd\", ,\"ContractData\",C24, \"Gamma\",, \"T\"),\"\")","v":""},{"$f":"IF(AB24=\"\",\"\",RANK(AB24,$AB$1:$AB$35,0)+COUNTIF($AB$1:AB24,AB24)-1)","v":""},0,24,"",{"$f":"IF(D24=1,RTD(\"cqg.rtd\", ,\"ContractData\",C24, \"Theta\",, \"T\"),\"\")","v":""},{"$f":"IF(AG24=\"\",\"\",RANK(AG24,$AG$1:$AG$35,0)+COUNTIF($AG$1:AG24,AG24)-1)","v":""},0,24,"",{"$f":"IF(D24=1,1/RTD(\"cqg.rtd\", ,\"ContractData\",C24, \"ExpirationDate\",, \"T\"),\"\")","v":""},{"$f":"IF(AL24=\"\",\"\",RANK(AL24,$AL$1:$AL$35,0)+COUNTIF($AL$1:AL24,AL24)-1)","v":""},0,24,"",{"$f":"IF(AL24=\"\",\"\",RANK(AL24,$AL$1:$AL$35,0)+COUNTIF($AL$1:AL24,AL24)-1)","v":""}]
[{"$f":"IF(OR(ISTEXT(RTD(\"cqg.rtd\",,\"OrderData\",\"\"&B25&\"\",\"\",\"OpenPosition\",\"\"&Display2!$D$3&\"\")),RTD(\"cqg.rtd\",,\"OrderData\",\"\"&B25&\"\",\"\",\"OpenPosition\",\"\"&Display2!$D$3&\"\")=0),A24+0.001,INT(A24)+1)","v":2.5000000000000015E-2},{"$f":"(LEFT(B26,SEARCH(Display2!$G$2,B26)+LEN(Display2!$G$2)+2))&RIGHT(B26,LEN(B26)-(SEARCH(Display2!$G$2,B26)+LEN(Display2!$G$2)+2))+Display2!$J$3","v":"C.US.CLE1N175050"},0,0,25,{"$f":"IF(D25=1,RTD(\"cqg.rtd\", ,\"ContractData\",C25, \"ImpliedVolatility\",, \"T\"),\"\")","v":""},{"$f":"IF(F25=\"\",\"\",RANK(F25,$F$1:$F$35,0)+COUNTIF($F$1:F25,F25)-1)","v":""},0,25,0,{"$f":"IF(D25=1,RTD(\"cqg.rtd\", ,\"OrderData\",\"\"&C25&\"\", \"\", \"OpenTradeEquity\",\"\"&$B$449&\"\"),\"\")","v":""},{"$f":"IF(K25=\"\",\"\",RANK(K25,$K$1:$K$35,0))+COUNTIF($K$1:K25,K25)-1","v":{"$error":"#VALUE!"}},0,25,"",{"$f":"IF(D25=1,RTD(\"cqg.rtd\", ,\"ContractData\",C25, \"Delta\",, \"T\"),\"\")","v":""},{"$f":"IF(D25=1,RTD(\"cqg.rtd\", ,\"OrderData\", \"\"&O25&\"\", \"\", \"OpenPosition\",\"\"&$B$449&\"\"),\"\")","v":""},{"$f":"IF(D25=0,\"\",IF(LEFT(O25,1)=\"F\",Q25*100,Q25*RTD(\"cqg.rtd\",,\"ContractData\",O25,\"Delta\",,\"T\")))","v":""},{"$f":"IF(R25=\"\",\"\",RANK(R25,$R$1:$R$35,0)+COUNTIF($R$1:R25,R25)-1)","v":""},"",25,"",{"$f":"IF(D25=1,RTD(\"cqg.rtd\", ,\"ContractData\",C25, \"Vega\",, \"T\"),\"\")","v":""},{"$f":"IF(W25=\"\",\"\",RANK(W25,$W$1:$W$35,0)+COUNTIF($W$1:W25,W25)-1)","v":""},0,25,"",{"$f":"IF(D25=1,RTD(\"cqg.rtd\", ,\"ContractData\",C25, \"Gamma\",, \"T\"),\"\")","v":""},{"$f":"IF(AB25=\"\",\"\",RANK(AB25,$AB$1:$AB$35,0)+COUNTIF($AB$1:AB25,AB25)-1)","v":""},0,25,"",{"$f":"IF(D25=1,RTD(\"cqg.rtd\", ,\"ContractData\",C25, \"Theta\",, \"T\"),\"\")","v":""},{"$f":"IF(AG25=\"\",\"\",RANK(AG25,$AG$1:$AG$35,0)+COUNTIF($AG$1:AG25,AG25)-1)","v":""},0,25,"",{"$f":"IF(D25=1,1/RTD(\"cqg.rtd\", ,\"ContractData\",C25, \"ExpirationDate\",, \"T\"),\"\")","v":""},{"$f":"IF(AL25=\"\",\"\",RANK(AL25,$AL$1:$AL$35,0)+COUNTIF($AL$1:AL25,AL25)-1)","v":""},0,25,"",{"$f":"IF(AL25=\"\",\"\",RANK(AL25,$AL$1:$AL$35,0)+COUNTIF($AL$1:AL25,AL25)-1)","v":""}]
[{"$f":"IF(OR(ISTEXT(RTD(\"cqg.rtd\",,\"OrderData\",\"\"&B26&\"\",\"\",\"OpenPosition\",\"\"&Display2!$D$3&\"\")),RTD(\"cqg.rtd\",,\"OrderData\",\"\"&B26&\"\",\"\",\"OpenPosition\",\"\"&Display2!$D$3&\"\")=0),A25+0.001,INT(A25)+1)","v":2.6000000000000016E-2},{"$f":"(LEFT(B27,SEARCH(Display2!$G$2,B27)+LEN(Display2!$G$2)+2))&RIGHT(B27,LEN(B27)-(SEARCH(Display2!$G$2,B27)+LEN(Display2!$G$2)+2))+Display2!$J$3","v":"C.US.CLE1N175000"},0,0,26,{"$f":"IF(D26=1,RTD(\"cqg.rtd\", ,\"ContractData\",C26, \"ImpliedVolatility\",, \"T\"),\"\")","v":""},{"$f":"IF(F26=\"\",\"\",RANK(F26,$F$1:$F$35,0)+COUNTIF($F$1:F26,F26)-1)","v":""},0,26,0,{"$f":"IF(D26=1,RTD(\"cqg.rtd\", ,\"OrderData\",\"\"&C26&\"\", \"\", \"OpenTradeEquity\",\"\"&$B$449&\"\"),\"\")","v":""},{"$f":"IF(K26=\"\",\"\",RANK(K26,$K$1:$K$35,0))+COUNTIF($K$1:K26,K26)-1","v":{"$error":"#VALUE!"}},0,26,"",{"$f":"IF(D26=1,RTD(\"cqg.rtd\", ,\"ContractData\",C26, \"Delta\",, \"T\"),\"\")","v":""},{"$f":"IF(D26=1,RTD(\"cqg.rtd\", ,\"OrderData\", \"\"&O26&\"\", \"\", \"OpenPosition\",\"\"&$B$449&\"\"),\"\")","v":""},{"$f":"IF(D26=0,\"\",IF(LEFT(O26,1)=\"F\",Q26*100,Q26*RTD(\"cqg.rtd\",,\"ContractData\",O26,\"Delta\",,\"T\")))","v":""},{"$f":"IF(R26=\"\",\"\",RANK(R26,$R$1:$R$35,0)+COUNTIF($R$1:R26,R26)-1)","v":""},"",26,"",{"$f":"IF(D26=1,RTD(\"cqg.rtd\", ,\"ContractData\",C26, \"Vega\",, \"T\"),\"\")","v":""},{"$f":"IF(W26=\"\",\"\",RANK(W26,$W$1:$W$35,0)+COUNTIF($W$1:W26,W26)-1)","v":""},0,26,"",{"$f":"IF(D26=1,RTD(\"cqg.rtd\", ,\"ContractData\",C26, \"Gamma\",, \"T\"),\"\")","v":""},{"$f":"IF(AB26=\"\",\"\",RANK(AB26,$AB$1:$AB$35,0)+COUNTIF($AB$1:AB26,AB26)-1)","v":""},0,26,"",{"$f":"IF(D26=1,RTD(\"cqg.rtd\", ,\"ContractData\",C26, \"Theta\",, \"T\"),\"\")","v":""},{"$f":"IF(AG26=\"\",\"\",RANK(AG26,$AG$1:$AG$35,0)+COUNTIF($AG$1:AG26,AG26)-1)","v":""},0,26,"",{"$f":"IF(D26=1,1/RTD(\"cqg.rtd\", ,\"ContractData\",C26, \"ExpirationDate\",, \"T\"),\"\")","v":""},{"$f":"IF(AL26=\"\",\"\",RANK(AL26,$AL$1:$AL$35,0)+COUNTIF($AL$1:AL26,AL26)-1)","v":""},0,26,"",{"$f":"IF(AL26=\"\",\"\",RANK(AL26,$AL$1:$AL$35,0)+COUNTIF($AL$1:AL26,AL26)-1)","v":""}]
[{"$f":"IF(OR(ISTEXT(RTD(\"cqg.rtd\",,\"OrderData\",\"\"&B27&\"\",\"\",\"OpenPosition\",\"\"&Display2!$D$3&\"\")),RTD(\"cqg.rtd\",,\"OrderData\",\"\"&B27&\"\",\"\",\"OpenPosition\",\"\"&Display2!$D$3&\"\")=0),A26+0.001,INT(A26)+1)","v":2.7000000000000017E-2},{"$f":"(LEFT(B28,SEARCH(Display2!$G$2,B28)+LEN(Display2!$G$2)+2))&RIGHT(B28,LEN(B28)-(SEARCH(Display2!$G$2,B28)+LEN(Display2!$G$2)+2))+Display2!$J$3","v":"C.US.CLE1N174950"},0,0,27,{"$f":"IF(D27=1,RTD(\"cqg.rtd\", ,\"ContractData\",C27, \"ImpliedVolatility\",, \"T\"),\"\")","v":""},{"$f":"IF(F27=\"\",\"\",RANK(F27,$F$1:$F$35,0)+COUNTIF($F$1:F27,F27)-1)","v":""},0,27,0,{"$f":"IF(D27=1,RTD(\"cqg.rtd\", ,\"OrderData\",\"\"&C27&\"\", \"\", \"OpenTradeEquity\",\"\"&$B$449&\"\"),\"\")","v":""},{"$f":"IF(K27=\"\",\"\",RANK(K27,$K$1:$K$35,0))+COUNTIF($K$1:K27,K27)-1","v":{"$error":"#VALUE!"}},0,27,"",{"$f":"IF(D27=1,RTD(\"cqg.rtd\", ,\"ContractData\",C27, \"Delta\",, \"T\"),\"\")","v":""},{"$f":"IF(D27=1,RTD(\"cqg.rtd\", ,\"OrderData\", \"\"&O27&\"\", \"\", \"OpenPosition\",\"\"&$B$449&\"\"),\"\")","v":""},{"$f":"IF(D27=0,\"\",IF(LEFT(O27,1)=\"F\",Q27*100,Q27*RTD(\"cqg.rtd\",,\"ContractData\",O27,\"Delta\",,\"T\")))","v":""},{"$f":"IF(R27=\"\",\"\",RANK(R27,$R$1:$R$35,0)+COUNTIF($R$1:R27,R27)-1)","v":""},"",27,"",{"$f":"IF(D27=1,RTD(\"cqg.rtd\", ,\"ContractData\",C27, \"Vega\",, \"T\"),\"\")","v":""},{"$f":"IF(W27=\"\",\"\",RANK(W27,$W$1:$W$35,0)+COUNTIF($W$1:W27,W27)-1)","v":""},0,27,"",{"$f":"IF(D27=1,RTD(\"cqg.rtd\", ,\"ContractData\",C27, \"Gamma\",, \"T\"),\"\")","v":""},{"$f":"IF(AB27=\"\",\"\",RANK(AB27,$AB$1:$AB$35,0)+COUNTIF($AB$1:AB27,AB27)-1)","v":""},0,27,"",{"$f":"IF(D27=1,RTD(\"cqg.rtd\", ,\"ContractData\",C27, \"Theta\",, \"T\"),\"\")","v":""},{"$f":"IF(AG27=\"\",\"\",RANK(AG27,$AG$1:$AG$35,0)+COUNTIF($AG$1:AG27,AG27)-1)","v":""},0,27,"",{"$f":"IF(D27=1,1/RTD(\"cqg.rtd\", ,\"ContractData\",C27, \"ExpirationDate\",, \"T\"),\"\")","v":""},{"$f":"IF(AL27=\"\",\"\",RANK(AL27,$AL$1:$AL$35,0)+COUNTIF($AL$1:AL27,AL27)-1)","v":""},0,27,"",{"$f":"IF(AL27=\"\",\"\",RANK(AL27,$AL$1:$AL$35,0)+COUNTIF($AL$1:AL27,AL27)-1)","v":""}]
[{"$f":"IF(OR(ISTEXT(RTD(\"cqg.rtd\",,\"OrderData\",\"\"&B28&\"\",\"\",\"OpenPosition\",\"\"&Display2!$D$3&\"\")),RTD(\"cqg.rtd\",,\"OrderData\",\"\"&B28&\"\",\"\",\"OpenPosition\",\"\"&Display2!$D$3&\"\")=0),A27+0.001,INT(A27)+1)","v":2.8000000000000018E-2},{"$f":"(LEFT(B29,SEARCH(Display2!$G$2,B29)+LEN(Display2!$G$2)+2))&RIGHT(B29,LEN(B29)-(SEARCH(Display2!$G$2,B29)+LEN(Display2!$G$2)+2))+Display2!$J$3","v":"C.US.CLE1N174900"},0,0,28,{"$f":"IF(D28=1,RTD(\"cqg.rtd\", ,\"ContractData\",C28, \"ImpliedVolatility\",, \"T\"),\"\")","v":""},{"$f":"IF(F28=\"\",\"\",RANK(F28,$F$1:$F$35,0)+COUNTIF($F$1:F28,F28)-1)","v":""},0,28,0,{"$f":"IF(D28=1,RTD(\"cqg.rtd\", ,\"OrderData\",\"\"&C28&\"\", \"\", \"OpenTradeEquity\",\"\"&$B$449&\"\"),\"\")","v":""},{"$f":"IF(K28=\"\",\"\",RANK(K28,$K$1:$K$35,0))+COUNTIF($K$1:K28,K28)-1","v":{"$error":"#VALUE!"}},0,28,"",{"$f":"IF(D28=1,RTD(\"cqg.rtd\", ,\"ContractData\",C28, \"Delta\",, \"T\"),\"\")","v":""},{"$f":"IF(D28=1,RTD(\"cqg.rtd\", ,\"OrderData\", \"\"&O28&\"\", \"\", \"OpenPosition\",\"\"&$B$449&\"\"),\"\")","v":""},{"$f":"IF(D28=0,\"\",IF(LEFT(O28,1)=\"F\",Q28*100,Q28*RTD(\"cqg.rtd\",,\"ContractData\",O28,\"Delta\",,\"T\")))","v":""},{"$f":"IF(R28=\"\",\"\",RANK(R28,$R$1:$R$35,0)+COUNTIF($R$1:R28,R28)-1)","v":""},"",28,"",{"$f":"IF(D28=1,RTD(\"cqg.rtd\", ,\"ContractData\",C28, \"Vega\",, \"T\"),\"\")","v":""},{"$f":"IF(W28=\"\",\"\",RANK(W28,$W$1:$W$35,0)+COUNTIF($W$1:W28,W28)-1)","v":""},0,28,"",{"$f":"IF(D28=1,RTD(\"cqg.rtd\", ,\"ContractData\",C28, \"Gamma\",, \"T\"),\"\")","v":""},{"$f":"IF(AB28=\"\",\"\",RANK(AB28,$AB$1:$AB$35,0)+COUNTIF($AB$1:AB28,AB28)-1)","v":""},0,28,"",{"$f":"IF(D28=1,RTD(\"cqg.rtd\", ,\"ContractData\",C28, \"Theta\",, \"T\"),\"\")","v":""},{"$f":"IF(AG28=\"\",\"\",RANK(AG28,$AG$1:$AG$35,0)+COUNTIF($AG$1:AG28,AG28)-1)","v":""},0,28,"",{"$f":"IF(D28=1,1/RTD(\"cqg.rtd\", ,\"ContractData\",C28, \"ExpirationDate\",, \"T\"),\"\")","v":""},{"$f":"IF(AL28=\"\",\"\",RANK(AL28,$AL$1:$AL$35,0)+COUNTIF($AL$1:AL28,AL28)-1)","v":""},0,28,"",{"$f":"IF(AL28=\"\",\"\",RANK(AL28,$AL$1:$AL$35,0)+COUNTIF($AL$1:AL28,AL28)-1)","v":""}]
[{"$f":"IF(OR(ISTEXT(RTD(\"cqg.rtd\",,\"OrderData\",\"\"&B29&\"\",\"\",\"OpenPosition\",\"\"&Display2!$D$3&\"\")),RTD(\"cqg.rtd\",,\"OrderData\",\"\"&B29&\"\",\"\",\"OpenPosition\",\"\"&Display2!$D$3&\"\")=0),A28+0.001,INT(A28)+1)","v":2.9000000000000019E-2},{"$f":"(LEFT(B30,SEARCH(Display2!$G$2,B30)+LEN(Display2!$G$2)+2))&RIGHT(B30,LEN(B30)-(SEARCH(Display2!$G$2,B30)+LEN(Display2!$G$2)+2))+Display2!$J$3","v":"C.US.CLE1N174850"},0,0,29,{"$f":"IF(D29=1,RTD(\"cqg.rtd\", ,\"ContractData\",C29, \"ImpliedVolatility\",, \"T\"),\"\")","v":""},{"$f":"IF(F29=\"\",\"\",RANK(F29,$F$1:$F$35,0)+COUNTIF($F$1:F29,F29)-1)","v":""},0,29,0,{"$f":"IF(D29=1,RTD(\"cqg.rtd\", ,\"OrderData\",\"\"&C29&\"\", \"\", \"OpenTradeEquity\",\"\"&$B$449&\"\"),\"\")","v":""},{"$f":"IF(K29=\"\",\"\",RANK(K29,$K$1:$K$35,0))+COUNTIF($K$1:K29,K29)-1","v":{"$error":"#VALUE!"}},0,29,"",{"$f":"IF(D29=1,RTD(\"cqg.rtd\", ,\"ContractData\",C29, \"Delta\",, \"T\"),\"\")","v":""},{"$f":"IF(D29=1,RTD(\"cqg.rtd\", ,\"OrderData\", \"\"&O29&\"\", \"\", \"OpenPosition\",\"\"&$B$449&\"\"),\"\")","v":""},{"$f":"IF(D29=0,\"\",IF(LEFT(O29,1)=\"F\",Q29*100,Q29*RTD(\"cqg.rtd\",,\"ContractData\",O29,\"Delta\",,\"T\")))","v":""},{"$f":"IF(R29=\"\",\"\",RANK(R29,$R$1:$R$35,0)+COUNTIF($R$1:R29,R29)-1)","v":""},"",29,"",{"$f":"IF(D29=1,RTD(\"cqg.rtd\", ,\"ContractData\",C29, \"Vega\",, \"T\"),\"\")","v":""},{"$f":"IF(W29=\"\",\"\",RANK(W29,$W$1:$W$35,0)+COUNTIF($W$1:W29,W29)-1)","v":""},0,29,"",{"$f":"IF(D29=1,RTD(\"cqg.rtd\", ,\"ContractData\",C29, \"Gamma\",, \"T\"),\"\")","v":""},{"$f":"IF(AB29=\"\",\"\",RANK(AB29,$AB$1:$AB$35,0)+COUNTIF($AB$1:AB29,AB29)-1)","v":""},0,29,"",{"$f":"IF(D29=1,RTD(\"cqg.rtd\", ,\"ContractData\",C29, \"Theta\",, \"T\"),\"\")","v":""},{"$f":"IF(AG29=\"\",\"\",RANK(AG29,$AG$1:$AG$35,0)+COUNTIF($AG$1:AG29,AG29)-1)","v":""},0,29,"",{"$f":"IF(D29=1,1/RTD(\"cqg.rtd\", ,\"ContractData\",C29, \"ExpirationDate\",, \"T\"),\"\")","v":""},{"$f":"IF(AL29=\"\",\"\",RANK(AL29,$AL$1:$AL$35,0)+COUNTIF($AL$1:AL29,AL29)-1)","v":""},0,29,"",{"$f":"IF(AL29=\"\",\"\",RANK(AL29,$AL$1:$AL$35,0)+COUNTIF($AL$1:AL29,AL29)-1)","v":""}]
[{"$f":"IF(OR(ISTEXT(RTD(\"cqg.rtd\",,\"OrderData\",\"\"&B30&\"\",\"\",\"OpenPosition\",\"\"&Display2!$D$3&\"\")),RTD(\"cqg.rtd\",,\"OrderData\",\"\"&B30&\"\",\"\",\"OpenPosition\",\"\"&Display2!$D$3&\"\")=0),A29+0.001,INT(A29)+1)","v":3.000000000000002E-2},{"$f":"(LEFT(B31,SEARCH(Display2!$G$2,B31)+LEN(Display2!$G$2)+2))&RIGHT(B31,LEN(B31)-(SEARCH(Display2!$G$2,B31)+LEN(Display2!$G$2)+2))+Display2!$J$3","v":"C.US.CLE1N174800"},0,0,30,{"$f":"IF(D30=1,RTD(\"cqg.rtd\", ,\"ContractData\",C30, \"ImpliedVolatility\",, \"T\"),\"\")","v":""},{"$f":"IF(F30=\"\",\"\",RANK(F30,$F$1:$F$35,0)+COUNTIF($F$1:F30,F30)-1)","v":""},0,30,0,{"$f":"IF(D30=1,RTD(\"cqg.rtd\", ,\"OrderData\",\"\"&C30&\"\", \"\", \"OpenTradeEquity\",\"\"&$B$449&\"\"),\"\")","v":""},{"$f":"IF(K30=\"\",\"\",RANK(K30,$K$1:$K$35,0))+COUNTIF($K$1:K30,K30)-1","v":{"$error":"#VALUE!"}},0,30,"",{"$f":"IF(D30=1,RTD(\"cqg.rtd\", ,\"ContractData\",C30, \"Delta\",, \"T\"),\"\")","v":""},{"$f":"IF(D30=1,RTD(\"cqg.rtd\", ,\"OrderData\", \"\"&O30&\"\", \"\", \"OpenPosition\",\"\"&$B$449&\"\"),\"\")","v":""},{"$f":"IF(D30=0,\"\",IF(LEFT(O30,1)=\"F\",Q30*100,Q30*RTD(\"cqg.rtd\",,\"ContractData\",O30,\"Delta\",,\"T\")))","v":""},{"$f":"IF(R30=\"\",\"\",RANK(R30,$R$1:$R$35,0)+COUNTIF($R$1:R30,R30)-1)","v":""},"",30,"",{"$f":"IF(D30=1,RTD(\"cqg.rtd\", ,\"ContractData\",C30, \"Vega\",, \"T\"),\"\")","v":""},{"$f":"IF(W30=\"\",\"\",RANK(W30,$W$1:$W$35,0)+COUNTIF($W$1:W30,W30)-1)","v":""},0,30,"",{"$f":"IF(D30=1,RTD(\"cqg.rtd\", ,\"ContractData\",C30, \"Gamma\",, \"T\"),\"\")","v":""},{"$f":"IF(AB30=\"\",\"\",RANK(AB30,$AB$1:$AB$35,0)+COUNTIF($AB$1:AB30,AB30)-1)","v":""},0,30,"",{"$f":"IF(D30=1,RTD(\"cqg.rtd\", ,\"ContractData\",C30, \"Theta\",, \"T\"),\"\")","v":""},{"$f":"IF(AG30=\"\",\"\",RANK(AG30,$AG$1:$AG$35,0)+COUNTIF($AG$1:AG30,AG30)-1)","v":""},0,30,"",{"$f":"IF(D30=1,1/RTD(\"cqg.rtd\", ,\"ContractData\",C30, \"ExpirationDate\",, \"T\"),\"\")","v":""},{"$f":"IF(AL30=\"\",\"\",RANK(AL30,$AL$1:$AL$35,0)+COUNTIF($AL$1:AL30,AL30)-1)","v":""},0,30,"",{"$f":"IF(AL30=\"\",\"\",RANK(AL30,$AL$1:$AL$35,0)+COUNTIF($AL$1:AL30,AL30)-1)","v":""}]
[{"$f":"IF(OR(ISTEXT(RTD(\"cqg.rtd\",,\"OrderData\",\"\"&B31&\"\",\"\",\"OpenPosition\",\"\"&Display2!$D$3&\"\")),RTD(\"cqg.rtd\",,\"OrderData\",\"\"&B31&\"\",\"\",\"OpenPosition\",\"\"&Display2!$D$3&\"\")=0),A30+0.001,INT(A30)+1)","v":3.1000000000000021E-2},{"$f":"(LEFT(B32,SEARCH(Display2!$G$2,B32)+LEN(Display2!$G$2)+2))&RIGHT(B32,LEN(B32)-(SEARCH(Display2!$G$2,B32)+LEN(Display2!$G$2)+2))+Display2!$J$3","v":"C.US.CLE1N174750"},0,0,31,{"$f":"IF(D31=1,RTD(\"cqg.rtd\", ,\"ContractData\",C31, \"ImpliedVolatility\",, \"T\"),\"\")","v":""},{"$f":"IF(F31=\"\",\"\",RANK(F31,$F$1:$F$35,0)+COUNTIF($F$1:F31,F31)-1)","v":""},0,31,0,{"$f":"IF(D31=1,RTD(\"cqg.rtd\", ,\"OrderData\",\"\"&C31&\"\", \"\", \"OpenTradeEquity\",\"\"&$B$449&\"\"),\"\")","v":""},{"$f":"IF(K31=\"\",\"\",RANK(K31,$K$1:$K$35,0))+COUNTIF($K$1:K31,K31)-1","v":{"$error":"#VALUE!"}},0,31,"",{"$f":"IF(D31=1,RTD(\"cqg.rtd\", ,\"ContractData\",C31, \"Delta\",, \"T\"),\"\")","v":""},{"$f":"IF(D31=1,RTD(\"cqg.rtd\", ,\"OrderData\", \"\"&O31&\"\", \"\", \"OpenPosition\",\"\"&$B$449&\"\"),\"\")","v":""},{"$f":"IF(D31=0,\"\",IF(LEFT(O31,1)=\"F\",Q31*100,Q31*RTD(\"cqg.rtd\",,\"ContractData\",O31,\"Delta\",,\"T\")))","v":""},{"$f":"IF(R31=\"\",\"\",RANK(R31,$R$1:$R$35,0)+COUNTIF($R$1:R31,R31)-1)","v":""},"",31,"",{"$f":"IF(D31=1,RTD(\"cqg.rtd\", ,\"ContractData\",C31, \"Vega\",, \"T\"),\"\")","v":""},{"$f":"IF(W31=\"\",\"\",RANK(W31,$W$1:$W$35,0)+COUNTIF($W$1:W31,W31)-1)","v":""},0,31,"",{"$f":"IF(D31=1,RTD(\"cqg.rtd\", ,\"ContractData\",C31, \"Gamma\",, \"T\"),\"\")","v":""},{"$f":"IF(AB31=\"\",\"\",RANK(AB31,$AB$1:$AB$35,0)+COUNTIF($AB$1:AB31,AB31)-1)","v":""},0,31,"",{"$f":"IF(D31=1,RTD(\"cqg.rtd\", ,\"ContractData\",C31, \"Theta\",, \"T\"),\"\")","v":""},{"$f":"IF(AG31=\"\",\"\",RANK(AG31,$AG$1:$AG$35,0)+COUNTIF($AG$1:AG31,AG31)-1)","v":""},0,31,"",{"$f":"IF(D31=1,1/RTD(\"cqg.rtd\", ,\"ContractData\",C31, \"ExpirationDate\",, \"T\"),\"\")","v":""},{"$f":"IF(AL31=\"\",\"\",RANK(AL31,$AL$1:$AL$35,0)+COUNTIF($AL$1:AL31,AL31)-1)","v":""},0,31,"",{"$f":"IF(AL31=\"\",\"\",RANK(AL31,$AL$1:$AL$35,0)+COUNTIF($AL$1:AL31,AL31)-1)","v":""}]
[{"$f":"IF(OR(ISTEXT(RTD(\"cqg.rtd\",,\"OrderData\",\"\"&B32&\"\",\"\",\"OpenPosition\",\"\"&Display2!$D$3&\"\")),RTD(\"cqg.rtd\",,\"OrderData\",\"\"&B32&\"\",\"\",\"OpenPosition\",\"\"&Display2!$D$3&\"\")=0),A31+0.001,INT(A31)+1)","v":3.2000000000000021E-2},{"$f":"(LEFT(B33,SEARCH(Display2!$G$2,B33)+LEN(Display2!$G$2)+2))&RIGHT(B33,LEN(B33)-(SEARCH(Display2!$G$2,B33)+LEN(Display2!$G$2)+2))+Display2!$J$3","v":"C.US.CLE1N174700"},0,0,32,{"$f":"IF(D32=1,RTD(\"cqg.rtd\", ,\"ContractData\",C32, \"ImpliedVolatility\",, \"T\"),\"\")","v":""},{"$f":"IF(F32=\"\",\"\",RANK(F32,$F$1:$F$35,0)+COUNTIF($F$1:F32,F32)-1)","v":""},0,32,0,{"$f":"IF(D32=1,RTD(\"cqg.rtd\", ,\"OrderData\",\"\"&C32&\"\", \"\", \"OpenTradeEquity\",\"\"&$B$449&\"\"),\"\")","v":""},{"$f":"IF(K32=\"\",\"\",RANK(K32,$K$1:$K$35,0))+COUNTIF($K$1:K32,K32)-1","v":{"$error":"#VALUE!"}},0,32,"",{"$f":"IF(D32=1,RTD(\"cqg.rtd\", ,\"ContractData\",C32, \"Delta\",, \"T\"),\"\")","v":""},{"$f":"IF(D32=1,RTD(\"cqg.rtd\", ,\"OrderData\", \"\"&O32&\"\", \"\", \"OpenPosition\",\"\"&$B$449&\"\"),\"\")","v":""},{"$f":"IF(D32=0,\"\",IF(LEFT(O32,1)=\"F\",Q32*100,Q32*RTD(\"cqg.rtd\",,\"ContractData\",O32,\"Delta\",,\"T\")))","v":""},{"$f":"IF(R32=\"\",\"\",RANK(R32,$R$1:$R$35,0)+COUNTIF($R$1:R32,R32)-1)","v":""},"",32,"",{"$f":"IF(D32=1,RTD(\"cqg.rtd\", ,\"ContractData\",C32, \"Vega\",, \"T\"),\"\")","v":""},{"$f":"IF(W32=\"\",\"\",RANK(W32,$W$1:$W$35,0)+COUNTIF($W$1:W32,W32)-1)","v":""},0,32,"",{"$f":"IF(D32=1,RTD(\"cqg.rtd\", ,\"ContractData\",C32, \"Gamma\",, \"T\"),\"\")","v":""},{"$f":"IF(AB32=\"\",\"\",RANK(AB32,$AB$1:$AB$35,0)+COUNTIF($AB$1:AB32,AB32)-1)","v":""},0,32,"",{"$f":"IF(D32=1,RTD(\"cqg.rtd\", ,\"ContractData\",C32, \"Theta\",, \"T\"),\"\")","v":""},{"$f":"IF(AG32=\"\",\"\",RANK(AG32,$AG$1:$AG$35,0)+COUNTIF($AG$1:AG32,AG32)-1)","v":""},0,32,"",{"$f":"IF(D32=1,1/RTD(\"cqg.rtd\", ,\"ContractData\",C32, \"ExpirationDate\",, \"T\"),\"\")","v":""},{"$f":"IF(AL32=\"\",\"\",RANK(AL32,$AL$1:$AL$35,0)+COUNTIF($AL$1:AL32,AL32)-1)","v":""},0,32,"",{"$f":"IF(AL32=\"\",\"\",RANK(AL32,$AL$1:$AL$35,0)+COUNTIF($AL$1:AL32,AL32)-1)","v":""}]
[{"$f":"IF(OR(ISTEXT(RTD(\"cqg.rtd\",,\"OrderData\",\"\"&B33&\"\",\"\",\"OpenPosition\",\"\"&Display2!$D$3&\"\")),RTD(\"cqg.rtd\",,\"OrderData\",\"\"&B33&\"\",\"\",\"OpenPosition\",\"\"&Display2!$D$3&\"\")=0),A32+0.001,INT(A32)+1)","v":3.3000000000000022E-2},{"$f":"(LEFT(B34,SEARCH(Display2!$G$2,B34)+LEN(Display2!$G$2)+2))&RIGHT(B34,LEN(B34)-(SEARCH(Display2!$G$2,B34)+LEN(Display2!$G$2)+2))+Display2!$J$3","v":"C.US.CLE1N174650"},0,0,33,{"$f":"IF(D33=1,RTD(\"cqg.rtd\", ,\"ContractData\",C33, \"ImpliedVolatility\",, \"T\"),\"\")","v":""},{"$f":"IF(F33=\"\",\"\",RANK(F33,$F$1:$F$35,0)+COUNTIF($F$1:F33,F33)-1)","v":""},0,33,0,{"$f":"IF(D33=1,RTD(\"cqg.rtd\", ,\"OrderData\",\"\"&C33&\"\", \"\", \"OpenTradeEquity\",\"\"&$B$449&\"\"),\"\")","v":""},{"$f":"IF(K33=\"\",\"\",RANK(K33,$K$1:$K$35,0))+COUNTIF($K$1:K33,K33)-1","v":{"$error":"#VALUE!"}},0,33,"",{"$f":"IF(D33=1,RTD(\"cqg.rtd\", ,\"ContractData\",C33, \"Delta\",, \"T\"),\"\")","v":""},{"$f":"IF(D33=1,RTD(\"cqg.rtd\", ,\"OrderData\", \"\"&O33&\"\", \"\", \"OpenPosition\",\"\"&$B$449&\"\"),\"\")","v":""},{"$f":"IF(D33=0,\"\",IF(LEFT(O33,1)=\"F\",Q33*100,Q33*RTD(\"cqg.rtd\",,\"ContractData\",O33,\"Delta\",,\"T\")))","v":""},{"$f":"IF(R33=\"\",\"\",RANK(R33,$R$1:$R$35,0)+COUNTIF($R$1:R33,R33)-1)","v":""},"",33,"",{"$f":"IF(D33=1,RTD(\"cqg.rtd\", ,\"ContractData\",C33, \"Vega\",, \"T\"),\"\")","v":""},{"$f":"IF(W33=\"\",\"\",RANK(W33,$W$1:$W$35,0)+COUNTIF($W$1:W33,W33)-1)","v":""},0,33,"",{"$f":"IF(D33=1,RTD(\"cqg.rtd\", ,\"ContractData\",C33, \"Gamma\",, \"T\"),\"\")","v":""},{"$f":"IF(AB33=\"\",\"\",RANK(AB33,$AB$1:$AB$35,0)+COUNTIF($AB$1:AB33,AB33)-1)","v":""},0,33,"",{"$f":"IF(D33=1,RTD(\"cqg.rtd\", ,\"ContractData\",C33, \"Theta\",, \"T\"),\"\")","v":""},{"$f":"IF(AG33=\"\",\"\",RANK(AG33,$AG$1:$AG$35,0)+COUNTIF($AG$1:AG33,AG33)-1)","v":""},0,33,"",{"$f":"IF(D33=1,1/RTD(\"cqg.rtd\", ,\"ContractData\",C33, \"ExpirationDate\",, \"T\"),\"\")","v":""},{"$f":"IF(AL33=\"\",\"\",RANK(AL33,$AL$1:$AL$35,0)+COUNTIF($AL$1:AL33,AL33)-1)","v":""},0,33,"",{"$f":"IF(AL33=\"\",\"\",RANK(AL33,$AL$1:$AL$35,0)+COUNTIF($AL$1:AL33,AL33)-1)","v":""}]
[{"$f":"IF(OR(ISTEXT(RTD(\"cqg.rtd\",,\"OrderData\",\"\"&B34&\"\",\"\",\"OpenPosition\",\"\"&Display2!$D$3&\"\")),RTD(\"cqg.rtd\",,\"OrderData\",\"\"&B34&\"\",\"\",\"OpenPosition\",\"\"&Display2!$D$3&\"\")=0),A33+0.001,INT(A33)+1)","v":3.4000000000000023E-2},{"$f":"(LEFT(B35,SEARCH(Display2!$G$2,B35)+LEN(Display2!$G$2)+2))&RIGHT(B35,LEN(B35)-(SEARCH(Display2!$G$2,B35)+LEN(Display2!$G$2)+2))+Display2!$J$3","v":"C.US.CLE1N174600"},0,0,34,{"$f":"IF(D34=1,RTD(\"cqg.rtd\", ,\"ContractData\",C34, \"ImpliedVolatility\",, \"T\"),\"\")","v":""},{"$f":"IF(F34=\"\",\"\",RANK(F34,$F$1:$F$35,0)+COUNTIF($F$1:F34,F34)-1)","v":""},0,34,0,{"$f":"IF(D34=1,RTD(\"cqg.rtd\", ,\"OrderData\",\"\"&C34&\"\", \"\", \"OpenTradeEquity\",\"\"&$B$449&\"\"),\"\")","v":""},{"$f":"IF(K34=\"\",\"\",RANK(K34,$K$1:$K$35,0))+COUNTIF($K$1:K34,K34)-1","v":{"$error":"#VALUE!"}},0,34,"",{"$f":"IF(D34=1,RTD(\"cqg.rtd\", ,\"ContractData\",C34, \"Delta\",, \"T\"),\"\")","v":""},{"$f":"IF(D34=1,RTD(\"cqg.rtd\", ,\"OrderData\", \"\"&O34&\"\", \"\", \"OpenPosition\",\"\"&$B$449&\"\"),\"\")","v":""},{"$f":"IF(D34=0,\"\",IF(LEFT(O34,1)=\"F\",Q34*100,Q34*RTD(\"cqg.rtd\",,\"ContractData\",O34,\"Delta\",,\"T\")))","v":""},{"$f":"IF(R34=\"\",\"\",RANK(R34,$R$1:$R$35,0)+COUNTIF($R$1:R34,R34)-1)","v":""},"",34,"",{"$f":"IF(D34=1,RTD(\"cqg.rtd\", ,\"ContractData\",C34, \"Vega\",, \"T\"),\"\")","v":""},{"$f":"IF(W34=\"\",\"\",RANK(W34,$W$1:$W$35,0)+COUNTIF($W$1:W34,W34)-1)","v":""},0,34,"",{"$f":"IF(D34=1,RTD(\"cqg.rtd\", ,\"ContractData\",C34, \"Gamma\",, \"T\"),\"\")","v":""},{"$f":"IF(AB34=\"\",\"\",RANK(AB34,$AB$1:$AB$35,0)+COUNTIF($AB$1:AB34,AB34)-1)","v":""},0,34,"",{"$f":"IF(D34=1,RTD(\"cqg.rtd\", ,\"ContractData\",C34, \"Theta\",, \"T\"),\"\")","v":""},{"$f":"IF(AG34=\"\",\"\",RANK(AG34,$AG$1:$AG$35,0)+COUNTIF($AG$1:AG34,AG34)-1)","v":""},0,34,"",{"$f":"IF(D34=1,1/RTD(\"cqg.rtd\", ,\"ContractData\",C34, \"ExpirationDate\",, \"T\"),\"\")","v":""},{"$f":"IF(AL34=\"\",\"\",RANK(AL34,$AL$1:$AL$35,0)+COUNTIF($AL$1:AL34,AL34)-1)","v":""},0,34,"",{"$f":"IF(AL34=\"\",\"\",RANK(AL34,$AL$1:$AL$35,0)+COUNTIF($AL$1:AL34,AL34)-1)","v":""}]
[{"$f":"IF(OR(ISTEXT(RTD(\"cqg.rtd\",,\"OrderData\",\"\"&B35&\"\",\"\",\"OpenPosition\",\"\"&Display2!$D$3&\"\")),RTD(\"cqg.rtd\",,\"OrderData\",\"\"&B35&\"\",\"\",\"OpenPosition\",\"\"&Display2!$D$3&\"\")=0),A34+0.001,INT(A34)+1)","v":3.5000000000000024E-2},{"$f":"(LEFT(B36,SEARCH(Display2!$G$2,B36)+LEN(Display2!$G$2)+2))&RIGHT(B36,LEN(B36)-(SEARCH(Display2!$G$2,B36)+LEN(Display2!$G$2)+2))+Display2!$J$3","v":"C.US.CLE1N174550"},{"$f":"IF(D35=1,VLOOKUP(E35,$A$1:$B$448,2),0)","v":0},0,35,{"$f":"IF(D35=1,RTD(\"cqg.rtd\", ,\"ContractData\",C35, \"ImpliedVolatility\",, \"T\"),\"\")","v":""},{"$f":"IF(F35=\"\",\"\",RANK(F35,$F$1:$F$35,0)+COUNTIF($F$1:F35,F35)-1)","v":""},0,35,0,{"$f":"IF(D35=1,RTD(\"cqg.rtd\", ,\"OrderData\",\"\"&C35&\"\", \"\", \"OpenTradeEquity\",\"\"&$B$449&\"\"),\"\")","v":""},{"$f":"IF(K35=\"\",\"\",RANK(K35,$K$1:$K$35,0))+COUNTIF($K$1:K35,K35)-1","v":{"$error":"#VALUE!"}},0,35,"",{"$f":"IF(D35=1,RTD(\"cqg.rtd\", ,\"ContractData\",C35, \"Delta\",, \"T\"),\"\")","v":""},{"$f":"IF(D35=1,RTD(\"cqg.rtd\", ,\"OrderData\", \"\"&O35&\"\", \"\", \"OpenPosition\",\"\"&$B$449&\"\"),\"\")","v":""},{"$f":"IF(D35=0,\"\",IF(LEFT(O35,1)=\"F\",Q35*100,Q35*RTD(\"cqg.rtd\",,\"ContractData\",O35,\"Delta\",,\"T\")))","v":""},{"$f":"IF(R35=\"\",\"\",RANK(R35,$R$1:$R$35,0)+COUNTIF($R$1:R35,R35)-1)","v":""},"",35,"",{"$f":"IF(D35=1,RTD(\"cqg.rtd\", ,\"ContractData\",C35, \"Vega\",, \"T\"),\"\")","v":""},{"$f":"IF(W35=\"\",\"\",RANK(W35,$W$1:$W$35,0)+COUNTIF($W$1:W35,W35)-1)","v":""},0,35,"",{"$f":"IF(D35=1,RTD(\"cqg.rtd\", ,\"ContractData\",C35, \"Gamma\",, \"T\"),\"\")","v":""},{"$f":"IF(AB35=\"\",\"\",RANK(AB35,$AB$1:$AB$35,0)+COUNTIF($AB$1:AB35,AB35)-1)","v":""},0,35,"",{"$f":"IF(D35=1,RTD(\"cqg.rtd\", ,\"ContractData\",C35, \"Theta\",, \"T\"),\"\")","v":""},{"$f":"IF(AG35=\"\",\"\",RANK(AG35,$AG$1:$AG$35,0)+COUNTIF($AG$1:AG35,AG35)-1)","v":""},0,35,"",{"$f":"IF(D35=1,1/RTD(\"cqg.rtd\", ,\"ContractData\",C35, \"ExpirationDate\",, \"T\"),\"\")","v":""},{"$f":"IF(AL35=\"\",\"\",RANK(AL35,$AL$1:$AL$35,0)+COUNTIF($AL$1:AL35,AL35)-1)","v":""},0,35,"",{"$f":"IF(AL35=\"\",\"\",RANK(AL35,$AL$1:$AL$35,0)+COUNTIF($AL$1:AL35,AL35)-1)","v":""}]
[{"$f":"IF(OR(ISTEXT(RTD(\"cqg.rtd\",,\"OrderData\",\"\"&B36&\"\",\"\",\"OpenPosition\",\"\"&Display2!$D$3&\"\")),RTD(\"cqg.rtd\",,\"OrderData\",\"\"&B36&\"\",\"\",\"OpenPosition\",\"\"&Display2!$D$3&\"\")=0),A35+0.001,INT(A35)+1)","v":3.6000000000000025E-2},{"$f":"(LEFT(B37,SEARCH(Display2!$G$2,B37)+LEN(Display2!$G$2)+2))&RIGHT(B37,LEN(B37)-(SEARCH(Display2!$G$2,B37)+LEN(Display2!$G$2)+2))+Display2!$J$3","v":"C.US.CLE1N174500"}]
[{"$f":"IF(OR(ISTEXT(RTD(\"cqg.rtd\",,\"OrderData\",\"\"&B37&\"\",\"\",\"OpenPosition\",\"\"&Display2!$D$3&\"\")),RTD(\"cqg.rtd\",,\"OrderData\",\"\"&B37&\"\",\"\",\"OpenPosition\",\"\"&Display2!$D$3&\"\")=0),A36+0.001,INT(A36)+1)","v":3.7000000000000026E-2},{"$f":"(LEFT(B38,SEARCH(Display2!$G$2,B38)+LEN(Display2!$G$2)+2))&RIGHT(B38,LEN(B38)-(SEARCH(Display2!$G$2,B38)+LEN(Display2!$G$2)+2))+Display2!$J$3","v":"C.US.CLE1N174450"}]
[{"$f":"IF(OR(ISTEXT(RTD(\"cqg.rtd\",,\"OrderData\",\"\"&B38&\"\",\"\",\"OpenPosition\",\"\"&Display2!$D$3&\"\")),RTD(\"cqg.rtd\",,\"OrderData\",\"\"&B38&\"\",\"\",\"OpenPosition\",\"\"&Display2!$D$3&\"\")=0),A37+0.001,INT(A37)+1)","v":3.8000000000000027E-2},{"$f":"(LEFT(B39,SEARCH(Display2!$G$2,B39)+LEN(Display2!$G$2)+2))&RIGHT(B39,LEN(B39)-(SEARCH(Display2!$G$2,B39)+LEN(Display2!$G$2)+2))+Display2!$J$3","v":"C.US.CLE1N174400"}]
[{"$f":"IF(OR(ISTEXT(RTD(\"cqg.rtd\",,\"OrderData\",\"\"&B39&\"\",\"\",\"OpenPosition\",\"\"&Display2!$D$3&\"\")),RTD(\"cqg.rtd\",,\"OrderData\",\"\"&B39&\"\",\"\",\"OpenPosition\",\"\"&Display2!$D$3&\"\")=0),A38+0.001,INT(A38)+1)","v":3.9000000000000028E-2},{"$f":"(LEFT(B40,SEARCH(Display2!$G$2,B40)+LEN(Display2!$G$2)+2))&RIGHT(B40,LEN(B40)-(SEARCH(Display2!$G$2,B40)+LEN(Display2!$G$2)+2))+Display2!$J$3","v":"C.US.CLE1N174350"}]
[{"$f":"IF(OR(ISTEXT(RTD(\"cqg.rtd\",,\"OrderData\",\"\"&B40&\"\",\"\",\"OpenPosition\",\"\"&Display2!$D$3&\"\")),RTD(\"cqg.rtd\",,\"OrderData\",\"\"&B40&\"\",\"\",\"OpenPosition\",\"\"&Display2!$D$3&\"\")=0),A39+0.001,INT(A39)+1)","v":4.0000000000000029E-2},{"$f":"RTD(\"cqg.rtd\", ,\"ContractData\", \"C.US.\"&Display2!$G$2&Display2!$G$3&\"\", \"Symbol\",, \"T\")","v":"C.US.CLE1N174300"}]
[{"$f":"IF(OR(ISTEXT(RTD(\"cqg.rtd\",,\"OrderData\",\"\"&B41&\"\",\"\",\"OpenPosition\",\"\"&Display2!$D$3&\"\")),RTD(\"cqg.rtd\",,\"OrderData\",\"\"&B41&\"\",\"\",\"OpenPosition\",\"\"&Display2!$D$3&\"\")=0),A40+0.001,INT(A40)+1)","v":4.1000000000000029E-2},{"$f":"(LEFT(B40,SEARCH(Display2!$G$2,B40)+LEN(Display2!$G$2)+2))&RIGHT(B40,LEN(B40)-(SEARCH(Display2!$G$2,B40)+LEN(Display2!$G$2)+2))-Display2!$J$3","v":"C.US.CLE1N174250"}]
[{"$f":"IF(OR(ISTEXT(RTD(\"cqg.rtd\",,\"OrderData\",\"\"&B42&\"\",\"\",\"OpenPosition\",\"\"&Display2!$D$3&\"\")),RTD(\"cqg.rtd\",,\"OrderData\",\"\"&B42&\"\",\"\",\"OpenPosition\",\"\"&Display2!$D$3&\"\")=0),A41+0.001,INT(A41)+1)","v":4.200000000000003E-2},{"$f":"(LEFT(B41,SEARCH(Display2!$G$2,B41)+LEN(Display2!$G$2)+2))&RIGHT(B41,LEN(B41)-(SEARCH(Display2!$G$2,B41)+LEN(Display2!$G$2)+2))-Display2!$J$3","v":"C.US.CLE1N174200"}]
[{"$f":"IF(OR(ISTEXT(RTD(\"cqg.rtd\",,\"OrderData\",\"\"&B43&\"\",\"\",\"OpenPosition\",\"\"&Display2!$D$3&\"\")),RTD(\"cqg.rtd\",,\"OrderData\",\"\"&B43&\"\",\"\",\"OpenPosition\",\"\"&Display2!$D$3&\"\")=0),A42+0.001,INT(A42)+1)","v":4.3000000000000031E-2},{"$f":"(LEFT(B42,SEARCH(Display2!$G$2,B42)+LEN(Display2!$G$2)+2))&RIGHT(B42,LEN(B42)-(SEARCH(Display2!$G$2,B42)+LEN(Display2!$G$2)+2))-Display2!$J$3","v":"C.US.CLE1N174150"}]
[{"$f":"IF(OR(ISTEXT(RTD(\"cqg.rtd\",,\"OrderData\",\"\"&B44&\"\",\"\",\"OpenPosition\",\"\"&Display2!$D$3&\"\")),RTD(\"cqg.rtd\",,\"OrderData\",\"\"&B44&\"\",\"\",\"OpenPosition\",\"\"&Display2!$D$3&\"\")=0),A43+0.001,INT(A43)+1)","v":4.4000000000000032E-2},{"$f":"(LEFT(B43,SEARCH(Display2!$G$2,B43)+LEN(Display2!$G$2)+2))&RIGHT(B43,LEN(B43)-(SEARCH(Display2!$G$2,B43)+LEN(Display2!$G$2)+2))-Display2!$J$3","v":"C.US.CLE1N174100"}]
[{"$f":"IF(OR(ISTEXT(RTD(\"cqg.rtd\",,\"OrderData\",\"\"&B45&\"\",\"\",\"OpenPosition\",\"\"&Display2!$D$3&\"\")),RTD(\"cqg.rtd\",,\"OrderData\",\"\"&B45&\"\",\"\",\"OpenPosition\",\"\"&Display2!$D$3&\"\")=0),A44+0.001,INT(A44)+1)","v":4.5000000000000033E-2},{"$f":"(LEFT(B44,SEARCH(Display2!$G$2,B44)+LEN(Display2!$G$2)+2))&RIGHT(B44,LEN(B44)-(SEARCH(Display2!$G$2,B44)+LEN(Display2!$G$2)+2))-Display2!$J$3","v":"C.US.CLE1N174050"}]
[{"$f":"IF(OR(ISTEXT(RTD(\"cqg.rtd\",,\"OrderData\",\"\"&B46&\"\",\"\",\"OpenPosition\",\"\"&Display2!$D$3&\"\")),RTD(\"cqg.rtd\",,\"OrderData\",\"\"&B46&\"\",\"\",\"OpenPosition\",\"\"&Display2!$D$3&\"\")=0),A45+0.001,INT(A45)+1)","v":4.6000000000000034E-2},{"$f":"(LEFT(B45,SEARCH(Display2!$G$2,B45)+LEN(Display2!$G$2)+2))&RIGHT(B45,LEN(B45)-(SEARCH(Display2!$G$2,B45)+LEN(Display2!$G$2)+2))-Display2!$J$3","v":"C.US.CLE1N174000"}]
[{"$f":"IF(OR(ISTEXT(RTD(\"cqg.rtd\",,\"OrderData\",\"\"&B47&\"\",\"\",\"OpenPosition\",\"\"&Display2!$D$3&\"\")),RTD(\"cqg.rtd\",,\"OrderData\",\"\"&B47&\"\",\"\",\"OpenPosition\",\"\"&Display2!$D$3&\"\")=0),A46+0.001,INT(A46)+1)","v":4.7000000000000035E-2},{"$f":"(LEFT(B46,SEARCH(Display2!$G$2,B46)+LEN(Display2!$G$2)+2))&RIGHT(B46,LEN(B46)-(SEARCH(Display2!$G$2,B46)+LEN(Display2!$G$2)+2))-Display2!$J$3","v":"C.US.CLE1N173950"}]
[{"$f":"IF(OR(ISTEXT(RTD(\"cqg.rtd\",,\"OrderData\",\"\"&B48&\"\",\"\",\"OpenPosition\",\"\"&Display2!$D$3&\"\")),RTD(\"cqg.rtd\",,\"OrderData\",\"\"&B48&\"\",\"\",\"OpenPosition\",\"\"&Display2!$D$3&\"\")=0),A47+0.001,INT(A47)+1)","v":4.8000000000000036E-2},{"$f":"(LEFT(B47,SEARCH(Display2!$G$2,B47)+LEN(Display2!$G$2)+2))&RIGHT(B47,LEN(B47)-(SEARCH(Display2!$G$2,B47)+LEN(Display2!$G$2)+2))-Display2!$J$3","v":"C.US.CLE1N173900"}]
[{"$f":"IF(OR(ISTEXT(RTD(\"cqg.rtd\",,\"OrderData\",\"\"&B49&\"\",\"\",\"OpenPosition\",\"\"&Display2!$D$3&\"\")),RTD(\"cqg.rtd\",,\"OrderData\",\"\"&B49&\"\",\"\",\"OpenPosition\",\"\"&Display2!$D$3&\"\")=0),A48+0.001,INT(A48)+1)","v":4.9000000000000037E-2},{"$f":"(LEFT(B48,SEARCH(Display2!$G$2,B48)+LEN(Display2!$G$2)+2))&RIGHT(B48,LEN(B48)-(SEARCH(Display2!$G$2,B48)+LEN(Display2!$G$2)+2))-Display2!$J$3","v":"C.US.CLE1N173850"}]
[{"$f":"IF(OR(ISTEXT(RTD(\"cqg.rtd\",,\"OrderData\",\"\"&B50&\"\",\"\",\"OpenPosition\",\"\"&Display2!$D$3&\"\")),RTD(\"cqg.rtd\",,\"OrderData\",\"\"&B50&\"\",\"\",\"OpenPosition\",\"\"&Display2!$D$3&\"\")=0),A49+0.001,INT(A49)+1)","v":5.0000000000000037E-2},{"$f":"(LEFT(B49,SEARCH(Display2!$G$2,B49)+LEN(Display2!$G$2)+2))&RIGHT(B49,LEN(B49)-(SEARCH(Display2!$G$2,B49)+LEN(Display2!$G$2)+2))-Display2!$J$3","v":"C.US.CLE1N173800"}]
[{"$f":"IF(OR(ISTEXT(RTD(\"cqg.rtd\",,\"OrderData\",\"\"&B51&\"\",\"\",\"OpenPosition\",\"\"&Display2!$D$3&\"\")),RTD(\"cqg.rtd\",,\"OrderData\",\"\"&B51&\"\",\"\",\"OpenPosition\",\"\"&Display2!$D$3&\"\")=0),A50+0.001,INT(A50)+1)","v":5.1000000000000038E-2},{"$f":"(LEFT(B50,SEARCH(Display2!$G$2,B50)+LEN(Display2!$G$2)+2))&RIGHT(B50,LEN(B50)-(SEARCH(Display2!$G$2,B50)+LEN(Display2!$G$2)+2))-Display2!$J$3","v":"C.US.CLE1N173750"}]
[{"$f":"IF(OR(ISTEXT(RTD(\"cqg.rtd\",,\"OrderData\",\"\"&B52&\"\",\"\",\"OpenPosition\",\"\"&Display2!$D$3&\"\")),RTD(\"cqg.rtd\",,\"OrderData\",\"\"&B52&\"\",\"\",\"OpenPosition\",\"\"&Display2!$D$3&\"\")=0),A51+0.001,INT(A51)+1)","v":5.2000000000000039E-2},{"$f":"(LEFT(B51,SEARCH(Display2!$G$2,B51)+LEN(Display2!$G$2)+2))&RIGHT(B51,LEN(B51)-(SEARCH(Display2!$G$2,B51)+LEN(Display2!$G$2)+2))-Display2!$J$3","v":"C.US.CLE1N173700"}]
[{"$f":"IF(OR(ISTEXT(RTD(\"cqg.rtd\",,\"OrderData\",\"\"&B53&\"\",\"\",\"OpenPosition\",\"\"&Display2!$D$3&\"\")),RTD(\"cqg.rtd\",,\"OrderData\",\"\"&B53&\"\",\"\",\"OpenPosition\",\"\"&Display2!$D$3&\"\")=0),A52+0.001,INT(A52)+1)","v":5.300000000000004E-2},{"$f":"(LEFT(B52,SEARCH(Display2!$G$2,B52)+LEN(Display2!$G$2)+2))&RIGHT(B52,LEN(B52)-(SEARCH(Display2!$G$2,B52)+LEN(Display2!$G$2)+2))-Display2!$J$3","v":"C.US.CLE1N173650"}]
[{"$f":"IF(OR(ISTEXT(RTD(\"cqg.rtd\",,\"OrderData\",\"\"&B54&\"\",\"\",\"OpenPosition\",\"\"&Display2!$D$3&\"\")),RTD(\"cqg.rtd\",,\"OrderData\",\"\"&B54&\"\",\"\",\"OpenPosition\",\"\"&Display2!$D$3&\"\")=0),A53+0.001,INT(A53)+1)","v":5.4000000000000041E-2},{"$f":"(LEFT(B53,SEARCH(Display2!$G$2,B53)+LEN(Display2!$G$2)+2))&RIGHT(B53,LEN(B53)-(SEARCH(Display2!$G$2,B53)+LEN(Display2!$G$2)+2))-Display2!$J$3","v":"C.US.CLE1N173600"}]
[{"$f":"IF(OR(ISTEXT(RTD(\"cqg.rtd\",,\"OrderData\",\"\"&B55&\"\",\"\",\"OpenPosition\",\"\"&Display2!$D$3&\"\")),RTD(\"cqg.rtd\",,\"OrderData\",\"\"&B55&\"\",\"\",\"OpenPosition\",\"\"&Display2!$D$3&\"\")=0),A54+0.001,INT(A54)+1)","v":5.5000000000000042E-2},{"$f":"(LEFT(B54,SEARCH(Display2!$G$2,B54)+LEN(Display2!$G$2)+2))&RIGHT(B54,LEN(B54)-(SEARCH(Display2!$G$2,B54)+LEN(Display2!$G$2)+2))-Display2!$J$3","v":"C.US.CLE1N173550"}]
[{"$f":"IF(OR(ISTEXT(RTD(\"cqg.rtd\",,\"OrderData\",\"\"&B56&\"\",\"\",\"OpenPosition\",\"\"&Display2!$D$3&\"\")),RTD(\"cqg.rtd\",,\"OrderData\",\"\"&B56&\"\",\"\",\"OpenPosition\",\"\"&Display2!$D$3&\"\")=0),A55+0.001,INT(A55)+1)","v":5.6000000000000043E-2},{"$f":"(LEFT(B55,SEARCH(Display2!$G$2,B55)+LEN(Display2!$G$2)+2))&RIGHT(B55,LEN(B55)-(SEARCH(Display2!$G$2,B55)+LEN(Display2!$G$2)+2))-Display2!$J$3","v":"C.US.CLE1N173500"}]
[{"$f":"IF(OR(ISTEXT(RTD(\"cqg.rtd\",,\"OrderData\",\"\"&B57&\"\",\"\",\"OpenPosition\",\"\"&Display2!$D$3&\"\")),RTD(\"cqg.rtd\",,\"OrderData\",\"\"&B57&\"\",\"\",\"OpenPosition\",\"\"&Display2!$D$3&\"\")=0),A56+0.001,INT(A56)+1)","v":5.7000000000000044E-2},{"$f":"(LEFT(B56,SEARCH(Display2!$G$2,B56)+LEN(Display2!$G$2)+2))&RIGHT(B56,LEN(B56)-(SEARCH(Display2!$G$2,B56)+LEN(Display2!$G$2)+2))-Display2!$J$3","v":"C.US.CLE1N173450"}]
[{"$f":"IF(OR(ISTEXT(RTD(\"cqg.rtd\",,\"OrderData\",\"\"&B58&\"\",\"\",\"OpenPosition\",\"\"&Display2!$D$3&\"\")),RTD(\"cqg.rtd\",,\"OrderData\",\"\"&B58&\"\",\"\",\"OpenPosition\",\"\"&Display2!$D$3&\"\")=0),A57+0.001,INT(A57)+1)","v":5.8000000000000045E-2},{"$f":"(LEFT(B57,SEARCH(Display2!$G$2,B57)+LEN(Display2!$G$2)+2))&RIGHT(B57,LEN(B57)-(SEARCH(Display2!$G$2,B57)+LEN(Display2!$G$2)+2))-Display2!$J$3","v":"C.US.CLE1N173400"}]
[{"$f":"IF(OR(ISTEXT(RTD(\"cqg.rtd\",,\"OrderData\",\"\"&B59&\"\",\"\",\"OpenPosition\",\"\"&Display2!$D$3&\"\")),RTD(\"cqg.rtd\",,\"OrderData\",\"\"&B59&\"\",\"\",\"OpenPosition\",\"\"&Display2!$D$3&\"\")=0),A58+0.001,INT(A58)+1)","v":5.9000000000000045E-2},{"$f":"(LEFT(B58,SEARCH(Display2!$G$2,B58)+LEN(Display2!$G$2)+2))&RIGHT(B58,LEN(B58)-(SEARCH(Display2!$G$2,B58)+LEN(Display2!$G$2)+2))-Display2!$J$3","v":"C.US.CLE1N173350"}]
[{"$f":"IF(OR(ISTEXT(RTD(\"cqg.rtd\",,\"OrderData\",\"\"&B60&\"\",\"\",\"OpenPosition\",\"\"&Display2!$D$3&\"\")),RTD(\"cqg.rtd\",,\"OrderData\",\"\"&B60&\"\",\"\",\"OpenPosition\",\"\"&Display2!$D$3&\"\")=0),A59+0.001,INT(A59)+1)","v":6.0000000000000046E-2},{"$f":"(LEFT(B59,SEARCH(Display2!$G$2,B59)+LEN(Display2!$G$2)+2))&RIGHT(B59,LEN(B59)-(SEARCH(Display2!$G$2,B59)+LEN(Display2!$G$2)+2))-Display2!$J$3","v":"C.US.CLE1N173300"}]
[{"$f":"IF(OR(ISTEXT(RTD(\"cqg.rtd\",,\"OrderData\",\"\"&B61&\"\",\"\",\"OpenPosition\",\"\"&Display2!$D$3&\"\")),RTD(\"cqg.rtd\",,\"OrderData\",\"\"&B61&\"\",\"\",\"OpenPosition\",\"\"&Display2!$D$3&\"\")=0),A60+0.001,INT(A60)+1)","v":6.1000000000000047E-2},{"$f":"(LEFT(B60,SEARCH(Display2!$G$2,B60)+LEN(Display2!$G$2)+2))&RIGHT(B60,LEN(B60)-(SEARCH(Display2!$G$2,B60)+LEN(Display2!$G$2)+2))-Display2!$J$3","v":"C.US.CLE1N173250"}]
[{"$f":"IF(OR(ISTEXT(RTD(\"cqg.rtd\",,\"OrderData\",\"\"&B62&\"\",\"\",\"OpenPosition\",\"\"&Display2!$D$3&\"\")),RTD(\"cqg.rtd\",,\"OrderData\",\"\"&B62&\"\",\"\",\"OpenPosition\",\"\"&Display2!$D$3&\"\")=0),A61+0.001,INT(A61)+1)","v":6.2000000000000048E-2},{"$f":"(LEFT(B61,SEARCH(Display2!$G$2,B61)+LEN(Display2!$G$2)+2))&RIGHT(B61,LEN(B61)-(SEARCH(Display2!$G$2,B61)+LEN(Display2!$G$2)+2))-Display2!$J$3","v":"C.US.CLE1N173200"}]
[{"$f":"IF(OR(ISTEXT(RTD(\"cqg.rtd\",,\"OrderData\",\"\"&B63&\"\",\"\",\"OpenPosition\",\"\"&Display2!$D$3&\"\")),RTD(\"cqg.rtd\",,\"OrderData\",\"\"&B63&\"\",\"\",\"OpenPosition\",\"\"&Display2!$D$3&\"\")=0),A62+0.001,INT(A62)+1)","v":6.3000000000000042E-2},{"$f":"(LEFT(B62,SEARCH(Display2!$G$2,B62)+LEN(Display2!$G$2)+2))&RIGHT(B62,LEN(B62)-(SEARCH(Display2!$G$2,B62)+LEN(Display2!$G$2)+2))-Display2!$J$3","v":"C.US.CLE1N173150"}]
[{"$f":"IF(OR(ISTEXT(RTD(\"cqg.rtd\",,\"OrderData\",\"\"&B64&\"\",\"\",\"OpenPosition\",\"\"&Display2!$D$3&\"\")),RTD(\"cqg.rtd\",,\"OrderData\",\"\"&B64&\"\",\"\",\"OpenPosition\",\"\"&Display2!$D$3&\"\")=0),A63+0.001,INT(A63)+1)","v":6.4000000000000043E-2},{"$f":"(LEFT(B63,SEARCH(Display2!$G$2,B63)+LEN(Display2!$G$2)+2))&RIGHT(B63,LEN(B63)-(SEARCH(Display2!$G$2,B63)+LEN(Display2!$G$2)+2))-Display2!$J$3","v":"C.US.CLE1N173100"}]
[{"$f":"IF(OR(ISTEXT(RTD(\"cqg.rtd\",,\"OrderData\",\"\"&B65&\"\",\"\",\"OpenPosition\",\"\"&Display2!$D$3&\"\")),RTD(\"cqg.rtd\",,\"OrderData\",\"\"&B65&\"\",\"\",\"OpenPosition\",\"\"&Display2!$D$3&\"\")=0),A64+0.001,INT(A64)+1)","v":6.5000000000000044E-2},{"$f":"(LEFT(B64,SEARCH(Display2!$G$2,B64)+LEN(Display2!$G$2)+2))&RIGHT(B64,LEN(B64)-(SEARCH(Display2!$G$2,B64)+LEN(Display2!$G$2)+2))-Display2!$J$3","v":"C.US.CLE1N173050"}]
[{"$f":"IF(OR(ISTEXT(RTD(\"cqg.rtd\",,\"OrderData\",\"\"&B66&\"\",\"\",\"OpenPosition\",\"\"&Display2!$D$3&\"\")),RTD(\"cqg.rtd\",,\"OrderData\",\"\"&B66&\"\",\"\",\"OpenPosition\",\"\"&Display2!$D$3&\"\")=0),A65+0.001,INT(A65)+1)","v":6.6000000000000045E-2},{"$f":"(LEFT(B65,SEARCH(Display2!$G$2,B65)+LEN(Display2!$G$2)+2))&RIGHT(B65,LEN(B65)-(SEARCH(Display2!$G$2,B65)+LEN(Display2!$G$2)+2))-Display2!$J$3","v":"C.US.CLE1N173000"}]
[{"$f":"IF(OR(ISTEXT(RTD(\"cqg.rtd\",,\"OrderData\",\"\"&B67&\"\",\"\",\"OpenPosition\",\"\"&Display2!$D$3&\"\")),RTD(\"cqg.rtd\",,\"OrderData\",\"\"&B67&\"\",\"\",\"OpenPosition\",\"\"&Display2!$D$3&\"\")=0),A66+0.001,INT(A66)+1)","v":6.7000000000000046E-2},{"$f":"(LEFT(B66,SEARCH(Display2!$G$2,B66)+LEN(Display2!$G$2)+2))&RIGHT(B66,LEN(B66)-(SEARCH(Display2!$G$2,B66)+LEN(Display2!$G$2)+2))-Display2!$J$3","v":"C.US.CLE1N172950"}]
[{"$f":"IF(OR(ISTEXT(RTD(\"cqg.rtd\",,\"OrderData\",\"\"&B68&\"\",\"\",\"OpenPosition\",\"\"&Display2!$D$3&\"\")),RTD(\"cqg.rtd\",,\"OrderData\",\"\"&B68&\"\",\"\",\"OpenPosition\",\"\"&Display2!$D$3&\"\")=0),A67+0.001,INT(A67)+1)","v":6.8000000000000047E-2},{"$f":"(LEFT(B67,SEARCH(Display2!$G$2,B67)+LEN(Display2!$G$2)+2))&RIGHT(B67,LEN(B67)-(SEARCH(Display2!$G$2,B67)+LEN(Display2!$G$2)+2))-Display2!$J$3","v":"C.US.CLE1N172900"}]
[{"$f":"IF(OR(ISTEXT(RTD(\"cqg.rtd\",,\"OrderData\",\"\"&B69&\"\",\"\",\"OpenPosition\",\"\"&Display2!$D$3&\"\")),RTD(\"cqg.rtd\",,\"OrderData\",\"\"&B69&\"\",\"\",\"OpenPosition\",\"\"&Display2!$D$3&\"\")=0),A68+0.001,INT(A68)+1)","v":6.9000000000000047E-2},{"$f":"(LEFT(B68,SEARCH(Display2!$G$2,B68)+LEN(Display2!$G$2)+2))&RIGHT(B68,LEN(B68)-(SEARCH(Display2!$G$2,B68)+LEN(Display2!$G$2)+2))-Display2!$J$3","v":"C.US.CLE1N172850"}]
[{"$f":"IF(OR(ISTEXT(RTD(\"cqg.rtd\",,\"OrderData\",\"\"&B70&\"\",\"\",\"OpenPosition\",\"\"&Display2!$D$3&\"\")),RTD(\"cqg.rtd\",,\"OrderData\",\"\"&B70&\"\",\"\",\"OpenPosition\",\"\"&Display2!$D$3&\"\")=0),A69+0.001,INT(A69)+1)","v":7.0000000000000048E-2},{"$f":"(LEFT(B69,SEARCH(Display2!$G$2,B69)+LEN(Display2!$G$2)+2))&RIGHT(B69,LEN(B69)-(SEARCH(Display2!$G$2,B69)+LEN(Display2!$G$2)+2))-Display2!$J$3","v":"C.US.CLE1N172800"}]
[{"$f":"IF(OR(ISTEXT(RTD(\"cqg.rtd\",,\"OrderData\",\"\"&B71&\"\",\"\",\"OpenPosition\",\"\"&Display2!$D$3&\"\")),RTD(\"cqg.rtd\",,\"OrderData\",\"\"&B71&\"\",\"\",\"OpenPosition\",\"\"&Display2!$D$3&\"\")=0),A70+0.001,INT(A70)+1)","v":7.1000000000000049E-2},{"$f":"(LEFT(B70,SEARCH(Display2!$G$2,B70)+LEN(Display2!$G$2)+2))&RIGHT(B70,LEN(B70)-(SEARCH(Display2!$G$2,B70)+LEN(Display2!$G$2)+2))-Display2!$J$3","v":"C.US.CLE1N172750"}]
[{"$f":"IF(OR(ISTEXT(RTD(\"cqg.rtd\",,\"OrderData\",\"\"&B72&\"\",\"\",\"OpenPosition\",\"\"&Display2!$D$3&\"\")),RTD(\"cqg.rtd\",,\"OrderData\",\"\"&B72&\"\",\"\",\"OpenPosition\",\"\"&Display2!$D$3&\"\")=0),A71+0.001,INT(A71)+1)","v":7.200000000000005E-2},{"$f":"(LEFT(B71,SEARCH(Display2!$G$2,B71)+LEN(Display2!$G$2)+2))&RIGHT(B71,LEN(B71)-(SEARCH(Display2!$G$2,B71)+LEN(Display2!$G$2)+2))-Display2!$J$3","v":"C.US.CLE1N172700"}]
[{"$f":"IF(OR(ISTEXT(RTD(\"cqg.rtd\",,\"OrderData\",\"\"&B73&\"\",\"\",\"OpenPosition\",\"\"&Display2!$D$3&\"\")),RTD(\"cqg.rtd\",,\"OrderData\",\"\"&B73&\"\",\"\",\"OpenPosition\",\"\"&Display2!$D$3&\"\")=0),A72+0.001,INT(A72)+1)","v":7.3000000000000051E-2},{"$f":"(LEFT(B72,SEARCH(Display2!$G$2,B72)+LEN(Display2!$G$2)+2))&RIGHT(B72,LEN(B72)-(SEARCH(Display2!$G$2,B72)+LEN(Display2!$G$2)+2))-Display2!$J$3","v":"C.US.CLE1N172650"}]
[{"$f":"IF(OR(ISTEXT(RTD(\"cqg.rtd\",,\"OrderData\",\"\"&B74&\"\",\"\",\"OpenPosition\",\"\"&Display2!$D$3&\"\")),RTD(\"cqg.rtd\",,\"OrderData\",\"\"&B74&\"\",\"\",\"OpenPosition\",\"\"&Display2!$D$3&\"\")=0),A73+0.001,INT(A73)+1)","v":7.4000000000000052E-2},{"$f":"(LEFT(B73,SEARCH(Display2!$G$2,B73)+LEN(Display2!$G$2)+2))&RIGHT(B73,LEN(B73)-(SEARCH(Display2!$G$2,B73)+LEN(Display2!$G$2)+2))-Display2!$J$3","v":"C.US.CLE1N172600"}]
[{"$f":"IF(OR(ISTEXT(RTD(\"cqg.rtd\",,\"OrderData\",\"\"&B75&\"\",\"\",\"OpenPosition\",\"\"&Display2!$D$3&\"\")),RTD(\"cqg.rtd\",,\"OrderData\",\"\"&B75&\"\",\"\",\"OpenPosition\",\"\"&Display2!$D$3&\"\")=0),A74+0.001,INT(A74)+1)","v":7.5000000000000053E-2},{"$f":"(LEFT(B74,SEARCH(Display2!$G$2,B74)+LEN(Display2!$G$2)+2))&RIGHT(B74,LEN(B74)-(SEARCH(Display2!$G$2,B74)+LEN(Display2!$G$2)+2))-Display2!$J$3","v":"C.US.CLE1N172550"}]
[{"$f":"IF(OR(ISTEXT(RTD(\"cqg.rtd\",,\"OrderData\",\"\"&B76&\"\",\"\",\"OpenPosition\",\"\"&Display2!$D$3&\"\")),RTD(\"cqg.rtd\",,\"OrderData\",\"\"&B76&\"\",\"\",\"OpenPosition\",\"\"&Display2!$D$3&\"\")=0),A75+0.001,INT(A75)+1)","v":7.6000000000000054E-2},{"$f":"(LEFT(B75,SEARCH(Display2!$G$2,B75)+LEN(Display2!$G$2)+2))&RIGHT(B75,LEN(B75)-(SEARCH(Display2!$G$2,B75)+LEN(Display2!$G$2)+2))-Display2!$J$3","v":"C.US.CLE1N172500"}]
[{"$f":"IF(OR(ISTEXT(RTD(\"cqg.rtd\",,\"OrderData\",\"\"&B77&\"\",\"\",\"OpenPosition\",\"\"&Display2!$D$3&\"\")),RTD(\"cqg.rtd\",,\"OrderData\",\"\"&B77&\"\",\"\",\"OpenPosition\",\"\"&Display2!$D$3&\"\")=0),A76+0.001,INT(A76)+1)","v":7.7000000000000055E-2},{"$f":"(LEFT(B76,SEARCH(Display2!$G$2,B76)+LEN(Display2!$G$2)+2))&RIGHT(B76,LEN(B76)-(SEARCH(Display2!$G$2,B76)+LEN(Display2!$G$2)+2))-Display2!$J$3","v":"C.US.CLE1N172450"}]
[{"$f":"IF(OR(ISTEXT(RTD(\"cqg.rtd\",,\"OrderData\",\"\"&B78&\"\",\"\",\"OpenPosition\",\"\"&Display2!$D$3&\"\")),RTD(\"cqg.rtd\",,\"OrderData\",\"\"&B78&\"\",\"\",\"OpenPosition\",\"\"&Display2!$D$3&\"\")=0),A77+0.001,INT(A77)+1)","v":7.8000000000000055E-2},{"$f":"(LEFT(B77,SEARCH(Display2!$G$2,B77)+LEN(Display2!$G$2)+2))&RIGHT(B77,LEN(B77)-(SEARCH(Display2!$G$2,B77)+LEN(Display2!$G$2)+2))-Display2!$J$3","v":"C.US.CLE1N172400"}]
[{"$f":"IF(OR(ISTEXT(RTD(\"cqg.rtd\",,\"OrderData\",\"\"&B79&\"\",\"\",\"OpenPosition\",\"\"&Display2!$D$3&\"\")),RTD(\"cqg.rtd\",,\"OrderData\",\"\"&B79&\"\",\"\",\"OpenPosition\",\"\"&Display2!$D$3&\"\")=0),A78+0.001,INT(A78)+1)","v":7.9000000000000056E-2},{"$f":"(LEFT(B78,SEARCH(Display2!$G$2,B78)+LEN(Display2!$G$2)+2))&RIGHT(B78,LEN(B78)-(SEARCH(Display2!$G$2,B78)+LEN(Display2!$G$2)+2))-Display2!$J$3","v":"C.US.CLE1N172350"}]
[{"$f":"IF(OR(ISTEXT(RTD(\"cqg.rtd\",,\"OrderData\",\"\"&B80&\"\",\"\",\"OpenPosition\",\"\"&Display2!$D$3&\"\")),RTD(\"cqg.rtd\",,\"OrderData\",\"\"&B80&\"\",\"\",\"OpenPosition\",\"\"&Display2!$D$3&\"\")=0),A79+0.001,INT(A79)+1)","v":8.0000000000000057E-2},{"$f":"(LEFT(B79,SEARCH(Display2!$G$2,B79)+LEN(Display2!$G$2)+2))&RIGHT(B79,LEN(B79)-(SEARCH(Display2!$G$2,B79)+LEN(Display2!$G$2)+2))-Display2!$J$3","v":"C.US.CLE1N172300"}]
[{"$f":"IF(OR(ISTEXT(RTD(\"cqg.rtd\",,\"OrderData\",\"\"&B81&\"\",\"\",\"OpenPosition\",\"\"&Display2!$D$3&\"\")),RTD(\"cqg.rtd\",,\"OrderData\",\"\"&B81&\"\",\"\",\"OpenPosition\",\"\"&Display2!$D$3&\"\")=0),A80+0.001,INT(A80)+1)","v":8.1000000000000058E-2},{"$f":"(LEFT(B82,SEARCH(Display2!$G$2,B82)+LEN(Display2!$G$2)+2))&RIGHT(B82,LEN(B82)-(SEARCH(Display2!$G$2,B82)+LEN(Display2!$G$2)+2))+Display2!$J$3","v":"P.US.CLE1N176300"}]
[{"$f":"IF(OR(ISTEXT(RTD(\"cqg.rtd\",,\"OrderData\",\"\"&B82&\"\",\"\",\"OpenPosition\",\"\"&Display2!$D$3&\"\")),RTD(\"cqg.rtd\",,\"OrderData\",\"\"&B82&\"\",\"\",\"OpenPosition\",\"\"&Display2!$D$3&\"\")=0),A81+0.001,INT(A81)+1)","v":8.2000000000000059E-2},{"$f":"(LEFT(B83,SEARCH(Display2!$G$2,B83)+LEN(Display2!$G$2)+2))&RIGHT(B83,LEN(B83)-(SEARCH(Display2!$G$2,B83)+LEN(Display2!$G$2)+2))+Display2!$J$3","v":"P.US.CLE1N176250"}]
[{"$f":"IF(OR(ISTEXT(RTD(\"cqg.rtd\",,\"OrderData\",\"\"&B83&\"\",\"\",\"OpenPosition\",\"\"&Display2!$D$3&\"\")),RTD(\"cqg.rtd\",,\"OrderData\",\"\"&B83&\"\",\"\",\"OpenPosition\",\"\"&Display2!$D$3&\"\")=0),A82+0.001,INT(A82)+1)","v":8.300000000000006E-2},{"$f":"(LEFT(B84,SEARCH(Display2!$G$2,B84)+LEN(Display2!$G$2)+2))&RIGHT(B84,LEN(B84)-(SEARCH(Display2!$G$2,B84)+LEN(Display2!$G$2)+2))+Display2!$J$3","v":"P.US.CLE1N176200"}]
[{"$f":"IF(OR(ISTEXT(RTD(\"cqg.rtd\",,\"OrderData\",\"\"&B84&\"\",\"\",\"OpenPosition\",\"\"&Display2!$D$3&\"\")),RTD(\"cqg.rtd\",,\"OrderData\",\"\"&B84&\"\",\"\",\"OpenPosition\",\"\"&Display2!$D$3&\"\")=0),A83+0.001,INT(A83)+1)","v":8.4000000000000061E-2},{"$f":"(LEFT(B85,SEARCH(Display2!$G$2,B85)+LEN(Display2!$G$2)+2))&RIGHT(B85,LEN(B85)-(SEARCH(Display2!$G$2,B85)+LEN(Display2!$G$2)+2))+Display2!$J$3","v":"P.US.CLE1N176150"}]
[{"$f":"IF(OR(ISTEXT(RTD(\"cqg.rtd\",,\"OrderData\",\"\"&B85&\"\",\"\",\"OpenPosition\",\"\"&Display2!$D$3&\"\")),RTD(\"cqg.rtd\",,\"OrderData\",\"\"&B85&\"\",\"\",\"OpenPosition\",\"\"&Display2!$D$3&\"\")=0),A84+0.001,INT(A84)+1)","v":8.5000000000000062E-2},{"$f":"(LEFT(B86,SEARCH(Display2!$G$2,B86)+LEN(Display2!$G$2)+2))&RIGHT(B86,LEN(B86)-(SEARCH(Display2!$G$2,B86)+LEN(Display2!$G$2)+2))+Display2!$J$3","v":"P.US.CLE1N176100"}]
[{"$f":"IF(OR(ISTEXT(RTD(\"cqg.rtd\",,\"OrderData\",\"\"&B86&\"\",\"\",\"OpenPosition\",\"\"&Display2!$D$3&\"\")),RTD(\"cqg.rtd\",,\"OrderData\",\"\"&B86&\"\",\"\",\"OpenPosition\",\"\"&Display2!$D$3&\"\")=0),A85+0.001,INT(A85)+1)","v":8.6000000000000063E-2},{"$f":"(LEFT(B87,SEARCH(Display2!$G$2,B87)+LEN(Display2!$G$2)+2))&RIGHT(B87,LEN(B87)-(SEARCH(Display2!$G$2,B87)+LEN(Display2!$G$2)+2))+Display2!$J$3","v":"P.US.CLE1N176050"}]
[{"$f":"IF(OR(ISTEXT(RTD(\"cqg.rtd\",,\"OrderData\",\"\"&B87&\"\",\"\",\"OpenPosition\",\"\"&Display2!$D$3&\"\")),RTD(\"cqg.rtd\",,\"OrderData\",\"\"&B87&\"\",\"\",\"OpenPosition\",\"\"&Display2!$D$3&\"\")=0),A86+0.001,INT(A86)+1)","v":8.7000000000000063E-2},{"$f":"(LEFT(B88,SEARCH(Display2!$G$2,B88)+LEN(Display2!$G$2)+2))&RIGHT(B88,LEN(B88)-(SEARCH(Display2!$G$2,B88)+LEN(Display2!$G$2)+2))+Display2!$J$3","v":"P.US.CLE1N176000"}]
[{"$f":"IF(OR(ISTEXT(RTD(\"cqg.rtd\",,\"OrderData\",\"\"&B88&\"\",\"\",\"OpenPosition\",\"\"&Display2!$D$3&\"\")),RTD(\"cqg.rtd\",,\"OrderData\",\"\"&B88&\"\",\"\",\"OpenPosition\",\"\"&Display2!$D$3&\"\")=0),A87+0.001,INT(A87)+1)","v":8.8000000000000064E-2},{"$f":"(LEFT(B89,SEARCH(Display2!$G$2,B89)+LEN(Display2!$G$2)+2))&RIGHT(B89,LEN(B89)-(SEARCH(Display2!$G$2,B89)+LEN(Display2!$G$2)+2))+Display2!$J$3","v":"P.US.CLE1N175950"}]
[{"$f":"IF(OR(ISTEXT(RTD(\"cqg.rtd\",,\"OrderData\",\"\"&B89&\"\",\"\",\"OpenPosition\",\"\"&Display2!$D$3&\"\")),RTD(\"cqg.rtd\",,\"OrderData\",\"\"&B89&\"\",\"\",\"OpenPosition\",\"\"&Display2!$D$3&\"\")=0),A88+0.001,INT(A88)+1)","v":8.9000000000000065E-2},{"$f":"(LEFT(B90,SEARCH(Display2!$G$2,B90)+LEN(Display2!$G$2)+2))&RIGHT(B90,LEN(B90)-(SEARCH(Display2!$G$2,B90)+LEN(Display2!$G$2)+2))+Display2!$J$3","v":"P.US.CLE1N175900"}]
[{"$f":"IF(OR(ISTEXT(RTD(\"cqg.rtd\",,\"OrderData\",\"\"&B90&\"\",\"\",\"OpenPosition\",\"\"&Display2!$D$3&\"\")),RTD(\"cqg.rtd\",,\"OrderData\",\"\"&B90&\"\",\"\",\"OpenPosition\",\"\"&Display2!$D$3&\"\")=0),A89+0.001,INT(A89)+1)","v":9.0000000000000066E-2},{"$f":"(LEFT(B91,SEARCH(Display2!$G$2,B91)+LEN(Display2!$G$2)+2))&RIGHT(B91,LEN(B91)-(SEARCH(Display2!$G$2,B91)+LEN(Display2!$G$2)+2))+Display2!$J$3","v":"P.US.CLE1N175850"}]
[{"$f":"IF(OR(ISTEXT(RTD(\"cqg.rtd\",,\"OrderData\",\"\"&B91&\"\",\"\",\"OpenPosition\",\"\"&Display2!$D$3&\"\")),RTD(\"cqg.rtd\",,\"OrderData\",\"\"&B91&\"\",\"\",\"OpenPosition\",\"\"&Display2!$D$3&\"\")=0),A90+0.001,INT(A90)+1)","v":9.1000000000000067E-2},{"$f":"(LEFT(B92,SEARCH(Display2!$G$2,B92)+LEN(Display2!$G$2)+2))&RIGHT(B92,LEN(B92)-(SEARCH(Display2!$G$2,B92)+LEN(Display2!$G$2)+2))+Display2!$J$3","v":"P.US.CLE1N175800"}]
[{"$f":"IF(OR(ISTEXT(RTD(\"cqg.rtd\",,\"OrderData\",\"\"&B92&\"\",\"\",\"OpenPosition\",\"\"&Display2!$D$3&\"\")),RTD(\"cqg.rtd\",,\"OrderData\",\"\"&B92&\"\",\"\",\"OpenPosition\",\"\"&Display2!$D$3&\"\")=0),A91+0.001,INT(A91)+1)","v":9.2000000000000068E-2},{"$f":"(LEFT(B93,SEARCH(Display2!$G$2,B93)+LEN(Display2!$G$2)+2))&RIGHT(B93,LEN(B93)-(SEARCH(Display2!$G$2,B93)+LEN(Display2!$G$2)+2))+Display2!$J$3","v":"P.US.CLE1N175750"}]
[{"$f":"IF(OR(ISTEXT(RTD(\"cqg.rtd\",,\"OrderData\",\"\"&B93&\"\",\"\",\"OpenPosition\",\"\"&Display2!$D$3&\"\")),RTD(\"cqg.rtd\",,\"OrderData\",\"\"&B93&\"\",\"\",\"OpenPosition\",\"\"&Display2!$D$3&\"\")=0),A92+0.001,INT(A92)+1)","v":9.3000000000000069E-2},{"$f":"(LEFT(B94,SEARCH(Display2!$G$2,B94)+LEN(Display2!$G$2)+2))&RIGHT(B94,LEN(B94)-(SEARCH(Display2!$G$2,B94)+LEN(Display2!$G$2)+2))+Display2!$J$3","v":"P.US.CLE1N175700"}]
[{"$f":"IF(OR(ISTEXT(RTD(\"cqg.rtd\",,\"OrderData\",\"\"&B94&\"\",\"\",\"OpenPosition\",\"\"&Display2!$D$3&\"\")),RTD(\"cqg.rtd\",,\"OrderData\",\"\"&B94&\"\",\"\",\"OpenPosition\",\"\"&Display2!$D$3&\"\")=0),A93+0.001,INT(A93)+1)","v":9.400000000000007E-2},{"$f":"(LEFT(B95,SEARCH(Display2!$G$2,B95)+LEN(Display2!$G$2)+2))&RIGHT(B95,LEN(B95)-(SEARCH(Display2!$G$2,B95)+LEN(Display2!$G$2)+2))+Display2!$J$3","v":"P.US.CLE1N175650"}]
[{"$f":"IF(OR(ISTEXT(RTD(\"cqg.rtd\",,\"OrderData\",\"\"&B95&\"\",\"\",\"OpenPosition\",\"\"&Display2!$D$3&\"\")),RTD(\"cqg.rtd\",,\"OrderData\",\"\"&B95&\"\",\"\",\"OpenPosition\",\"\"&Display2!$D$3&\"\")=0),A94+0.001,INT(A94)+1)","v":9.500000000000007E-2},{"$f":"(LEFT(B96,SEARCH(Display2!$G$2,B96)+LEN(Display2!$G$2)+2))&RIGHT(B96,LEN(B96)-(SEARCH(Display2!$G$2,B96)+LEN(Display2!$G$2)+2))+Display2!$J$3","v":"P.US.CLE1N175600"}]
[{"$f":"IF(OR(ISTEXT(RTD(\"cqg.rtd\",,\"OrderData\",\"\"&B96&\"\",\"\",\"OpenPosition\",\"\"&Display2!$D$3&\"\")),RTD(\"cqg.rtd\",,\"OrderData\",\"\"&B96&\"\",\"\",\"OpenPosition\",\"\"&Display2!$D$3&\"\")=0),A95+0.001,INT(A95)+1)","v":9.6000000000000071E-2},{"$f":"(LEFT(B97,SEARCH(Display2!$G$2,B97)+LEN(Display2!$G$2)+2))&RIGHT(B97,LEN(B97)-(SEARCH(Display2!$G$2,B97)+LEN(Display2!$G$2)+2))+Display2!$J$3","v":"P.US.CLE1N175550"}]
[{"$f":"IF(OR(ISTEXT(RTD(\"cqg.rtd\",,\"OrderData\",\"\"&B97&\"\",\"\",\"OpenPosition\",\"\"&Display2!$D$3&\"\")),RTD(\"cqg.rtd\",,\"OrderData\",\"\"&B97&\"\",\"\",\"OpenPosition\",\"\"&Display2!$D$3&\"\")=0),A96+0.001,INT(A96)+1)","v":9.7000000000000072E-2},{"$f":"(LEFT(B98,SEARCH(Display2!$G$2,B98)+LEN(Display2!$G$2)+2))&RIGHT(B98,LEN(B98)-(SEARCH(Display2!$G$2,B98)+LEN(Display2!$G$2)+2))+Display2!$J$3","v":"P.US.CLE1N175500"}]
[{"$f":"IF(OR(ISTEXT(RTD(\"cqg.rtd\",,\"OrderData\",\"\"&B98&\"\",\"\",\"OpenPosition\",\"\"&Display2!$D$3&\"\")),RTD(\"cqg.rtd\",,\"OrderData\",\"\"&B98&\"\",\"\",\"OpenPosition\",\"\"&Display2!$D$3&\"\")=0),A97+0.001,INT(A97)+1)","v":9.8000000000000073E-2},{"$f":"(LEFT(B99,SEARCH(Display2!$G$2,B99)+LEN(Display2!$G$2)+2))&RIGHT(B99,LEN(B99)-(SEARCH(Display2!$G$2,B99)+LEN(Display2!$G$2)+2))+Display2!$J$3","v":"P.US.CLE1N175450"}]
[{"$f":"IF(OR(ISTEXT(RTD(\"cqg.rtd\",,\"OrderData\",\"\"&B99&\"\",\"\",\"OpenPosition\",\"\"&Display2!$D$3&\"\")),RTD(\"cqg.rtd\",,\"OrderData\",\"\"&B99&\"\",\"\",\"OpenPosition\",\"\"&Display2!$D$3&\"\")=0),A98+0.001,INT(A98)+1)","v":9.9000000000000074E-2},{"$f":"(LEFT(B100,SEARCH(Display2!$G$2,B100)+LEN(Display2!$G$2)+2))&RIGHT(B100,LEN(B100)-(SEARCH(Display2!$G$2,B100)+LEN(Display2!$G$2)+2))+Display2!$J$3","v":"P.US.CLE1N175400"}]
[{"$f":"IF(OR(ISTEXT(RTD(\"cqg.rtd\",,\"OrderData\",\"\"&B100&\"\",\"\",\"OpenPosition\",\"\"&Display2!$D$3&\"\")),RTD(\"cqg.rtd\",,\"OrderData\",\"\"&B100&\"\",\"\",\"OpenPosition\",\"\"&Display2!$D$3&\"\")=0),A99+0.001,INT(A99)+1)","v":0.10000000000000007},{"$f":"(LEFT(B101,SEARCH(Display2!$G$2,B101)+LEN(Display2!$G$2)+2))&RIGHT(B101,LEN(B101)-(SEARCH(Display2!$G$2,B101)+LEN(Display2!$G$2)+2))+Display2!$J$3","v":"P.US.CLE1N175350"}]
[{"$f":"IF(OR(ISTEXT(RTD(\"cqg.rtd\",,\"OrderData\",\"\"&B101&\"\",\"\",\"OpenPosition\",\"\"&Display2!$D$3&\"\")),RTD(\"cqg.rtd\",,\"OrderData\",\"\"&B101&\"\",\"\",\"OpenPosition\",\"\"&Display2!$D$3&\"\")=0),A100+0.001,INT(A100)+1)","v":0.10100000000000008},{"$f":"(LEFT(B102,SEARCH(Display2!$G$2,B102)+LEN(Display2!$G$2)+2))&RIGHT(B102,LEN(B102)-(SEARCH(Display2!$G$2,B102)+LEN(Display2!$G$2)+2))+Display2!$J$3","v":"P.US.CLE1N175300"}]
[{"$f":"IF(OR(ISTEXT(RTD(\"cqg.rtd\",,\"OrderData\",\"\"&B102&\"\",\"\",\"OpenPosition\",\"\"&Display2!$D$3&\"\")),RTD(\"cqg.rtd\",,\"OrderData\",\"\"&B102&\"\",\"\",\"OpenPosition\",\"\"&Display2!$D$3&\"\")=0),A101+0.001,INT(A101)+1)","v":0.10200000000000008},{"$f":"(LEFT(B103,SEARCH(Display2!$G$2,B103)+LEN(Display2!$G$2)+2))&RIGHT(B103,LEN(B103)-(SEARCH(Display2!$G$2,B103)+LEN(Display2!$G$2)+2))+Display2!$J$3","v":"P.US.CLE1N175250"}]
[{"$f":"IF(OR(ISTEXT(RTD(\"cqg.rtd\",,\"OrderData\",\"\"&B103&\"\",\"\",\"OpenPosition\",\"\"&Display2!$D$3&\"\")),RTD(\"cqg.rtd\",,\"OrderData\",\"\"&B103&\"\",\"\",\"OpenPosition\",\"\"&Display2!$D$3&\"\")=0),A102+0.001,INT(A102)+1)","v":0.10300000000000008},{"$f":"(LEFT(B104,SEARCH(Display2!$G$2,B104)+LEN(Display2!$G$2)+2))&RIGHT(B104,LEN(B104)-(SEARCH(Display2!$G$2,B104)+LEN(Display2!$G$2)+2))+Display2!$J$3","v":"P.US.CLE1N175200"}]
[{"$f":"IF(OR(ISTEXT(RTD(\"cqg.rtd\",,\"OrderData\",\"\"&B104&\"\",\"\",\"OpenPosition\",\"\"&Display2!$D$3&\"\")),RTD(\"cqg.rtd\",,\"OrderData\",\"\"&B104&\"\",\"\",\"OpenPosition\",\"\"&Display2!$D$3&\"\")=0),A103+0.001,INT(A103)+1)","v":0.10400000000000008},{"$f":"(LEFT(B105,SEARCH(Display2!$G$2,B105)+LEN(Display2!$G$2)+2))&RIGHT(B105,LEN(B105)-(SEARCH(Display2!$G$2,B105)+LEN(Display2!$G$2)+2))+Display2!$J$3","v":"P.US.CLE1N175150"}]
[{"$f":"IF(OR(ISTEXT(RTD(\"cqg.rtd\",,\"OrderData\",\"\"&B105&\"\",\"\",\"OpenPosition\",\"\"&Display2!$D$3&\"\")),RTD(\"cqg.rtd\",,\"OrderData\",\"\"&B105&\"\",\"\",\"OpenPosition\",\"\"&Display2!$D$3&\"\")=0),A104+0.001,INT(A104)+1)","v":0.10500000000000008},{"$f":"(LEFT(B106,SEARCH(Display2!$G$2,B106)+LEN(Display2!$G$2)+2))&RIGHT(B106,LEN(B106)-(SEARCH(Display2!$G$2,B106)+LEN(Display2!$G$2)+2))+Display2!$J$3","v":"P.US.CLE1N175100"}]
[{"$f":"IF(OR(ISTEXT(RTD(\"cqg.rtd\",,\"OrderData\",\"\"&B106&\"\",\"\",\"OpenPosition\",\"\"&Display2!$D$3&\"\")),RTD(\"cqg.rtd\",,\"OrderData\",\"\"&B106&\"\",\"\",\"OpenPosition\",\"\"&Display2!$D$3&\"\")=0),A105+0.001,INT(A105)+1)","v":0.10600000000000008},{"$f":"(LEFT(B107,SEARCH(Display2!$G$2,B107)+LEN(Display2!$G$2)+2))&RIGHT(B107,LEN(B107)-(SEARCH(Display2!$G$2,B107)+LEN(Display2!$G$2)+2))+Display2!$J$3","v":"P.US.CLE1N175050"}]
[{"$f":"IF(OR(ISTEXT(RTD(\"cqg.rtd\",,\"OrderData\",\"\"&B107&\"\",\"\",\"OpenPosition\",\"\"&Display2!$D$3&\"\")),RTD(\"cqg.rtd\",,\"OrderData\",\"\"&B107&\"\",\"\",\"OpenPosition\",\"\"&Display2!$D$3&\"\")=0),A106+0.001,INT(A106)+1)","v":0.10700000000000008},{"$f":"(LEFT(B108,SEARCH(Display2!$G$2,B108)+LEN(Display2!$G$2)+2))&RIGHT(B108,LEN(B108)-(SEARCH(Display2!$G$2,B108)+LEN(Display2!$G$2)+2))+Display2!$J$3","v":"P.US.CLE1N175000"}]
[{"$f":"IF(OR(ISTEXT(RTD(\"cqg.rtd\",,\"OrderData\",\"\"&B108&\"\",\"\",\"OpenPosition\",\"\"&Display2!$D$3&\"\")),RTD(\"cqg.rtd\",,\"OrderData\",\"\"&B108&\"\",\"\",\"OpenPosition\",\"\"&Display2!$D$3&\"\")=0),A107+0.001,INT(A107)+1)","v":0.10800000000000008},{"$f":"(LEFT(B109,SEARCH(Display2!$G$2,B109)+LEN(Display2!$G$2)+2))&RIGHT(B109,LEN(B109)-(SEARCH(Display2!$G$2,B109)+LEN(Display2!$G$2)+2))+Display2!$J$3","v":"P.US.CLE1N174950"}]
[{"$f":"IF(OR(ISTEXT(RTD(\"cqg.rtd\",,\"OrderData\",\"\"&B109&\"\",\"\",\"OpenPosition\",\"\"&Display2!$D$3&\"\")),RTD(\"cqg.rtd\",,\"OrderData\",\"\"&B109&\"\",\"\",\"OpenPosition\",\"\"&Display2!$D$3&\"\")=0),A108+0.001,INT(A108)+1)","v":0.10900000000000008},{"$f":"(LEFT(B110,SEARCH(Display2!$G$2,B110)+LEN(Display2!$G$2)+2))&RIGHT(B110,LEN(B110)-(SEARCH(Display2!$G$2,B110)+LEN(Display2!$G$2)+2))+Display2!$J$3","v":"P.US.CLE1N174900"}]
[{"$f":"IF(OR(ISTEXT(RTD(\"cqg.rtd\",,\"OrderData\",\"\"&B110&\"\",\"\",\"OpenPosition\",\"\"&Display2!$D$3&\"\")),RTD(\"cqg.rtd\",,\"OrderData\",\"\"&B110&\"\",\"\",\"OpenPosition\",\"\"&Display2!$D$3&\"\")=0),A109+0.001,INT(A109)+1)","v":0.11000000000000008},{"$f":"(LEFT(B111,SEARCH(Display2!$G$2,B111)+LEN(Display2!$G$2)+2))&RIGHT(B111,LEN(B111)-(SEARCH(Display2!$G$2,B111)+LEN(Display2!$G$2)+2))+Display2!$J$3","v":"P.US.CLE1N174850"}]
[{"$f":"IF(OR(ISTEXT(RTD(\"cqg.rtd\",,\"OrderData\",\"\"&B111&\"\",\"\",\"OpenPosition\",\"\"&Display2!$D$3&\"\")),RTD(\"cqg.rtd\",,\"OrderData\",\"\"&B111&\"\",\"\",\"OpenPosition\",\"\"&Display2!$D$3&\"\")=0),A110+0.001,INT(A110)+1)","v":0.11100000000000008},{"$f":"(LEFT(B112,SEARCH(Display2!$G$2,B112)+LEN(Display2!$G$2)+2))&RIGHT(B112,LEN(B112)-(SEARCH(Display2!$G$2,B112)+LEN(Display2!$G$2)+2))+Display2!$J$3","v":"P.US.CLE1N174800"}]
[{"$f":"IF(OR(ISTEXT(RTD(\"cqg.rtd\",,\"OrderData\",\"\"&B112&\"\",\"\",\"OpenPosition\",\"\"&Display2!$D$3&\"\")),RTD(\"cqg.rtd\",,\"OrderData\",\"\"&B112&\"\",\"\",\"OpenPosition\",\"\"&Display2!$D$3&\"\")=0),A111+0.001,INT(A111)+1)","v":0.11200000000000009},{"$f":"(LEFT(B113,SEARCH(Display2!$G$2,B113)+LEN(Display2!$G$2)+2))&RIGHT(B113,LEN(B113)-(SEARCH(Display2!$G$2,B113)+LEN(Display2!$G$2)+2))+Display2!$J$3","v":"P.US.CLE1N174750"}]
[{"$f":"IF(OR(ISTEXT(RTD(\"cqg.rtd\",,\"OrderData\",\"\"&B113&\"\",\"\",\"OpenPosition\",\"\"&Display2!$D$3&\"\")),RTD(\"cqg.rtd\",,\"OrderData\",\"\"&B113&\"\",\"\",\"OpenPosition\",\"\"&Display2!$D$3&\"\")=0),A112+0.001,INT(A112)+1)","v":0.11300000000000009},{"$f":"(LEFT(B114,SEARCH(Display2!$G$2,B114)+LEN(Display2!$G$2)+2))&RIGHT(B114,LEN(B114)-(SEARCH(Display2!$G$2,B114)+LEN(Display2!$G$2)+2))+Display2!$J$3","v":"P.US.CLE1N174700"}]
[{"$f":"IF(OR(ISTEXT(RTD(\"cqg.rtd\",,\"OrderData\",\"\"&B114&\"\",\"\",\"OpenPosition\",\"\"&Display2!$D$3&\"\")),RTD(\"cqg.rtd\",,\"OrderData\",\"\"&B114&\"\",\"\",\"OpenPosition\",\"\"&Display2!$D$3&\"\")=0),A113+0.001,INT(A113)+1)","v":0.11400000000000009},{"$f":"(LEFT(B115,SEARCH(Display2!$G$2,B115)+LEN(Display2!$G$2)+2))&RIGHT(B115,LEN(B115)-(SEARCH(Display2!$G$2,B115)+LEN(Display2!$G$2)+2))+Display2!$J$3","v":"P.US.CLE1N174650"}]
[{"$f":"IF(OR(ISTEXT(RTD(\"cqg.rtd\",,\"OrderData\",\"\"&B115&\"\",\"\",\"OpenPosition\",\"\"&Display2!$D$3&\"\")),RTD(\"cqg.rtd\",,\"OrderData\",\"\"&B115&\"\",\"\",\"OpenPosition\",\"\"&Display2!$D$3&\"\")=0),A114+0.001,INT(A114)+1)","v":0.11500000000000009},{"$f":"(LEFT(B116,SEARCH(Display2!$G$2,B116)+LEN(Display2!$G$2)+2))&RIGHT(B116,LEN(B116)-(SEARCH(Display2!$G$2,B116)+LEN(Display2!$G$2)+2))+Display2!$J$3","v":"P.US.CLE1N174600"}]
[{"$f":"IF(OR(ISTEXT(RTD(\"cqg.rtd\",,\"OrderData\",\"\"&B116&\"\",\"\",\"OpenPosition\",\"\"&Display2!$D$3&\"\")),RTD(\"cqg.rtd\",,\"OrderData\",\"\"&B116&\"\",\"\",\"OpenPosition\",\"\"&Display2!$D$3&\"\")=0),A115+0.001,INT(A115)+1)","v":0.11600000000000009},{"$f":"(LEFT(B117,SEARCH(Display2!$G$2,B117)+LEN(Display2!$G$2)+2))&RIGHT(B117,LEN(B117)-(SEARCH(Display2!$G$2,B117)+LEN(Display2!$G$2)+2))+Display2!$J$3","v":"P.US.CLE1N174550"}]
[{"$f":"IF(OR(ISTEXT(RTD(\"cqg.rtd\",,\"OrderData\",\"\"&B117&\"\",\"\",\"OpenPosition\",\"\"&Display2!$D$3&\"\")),RTD(\"cqg.rtd\",,\"OrderData\",\"\"&B117&\"\",\"\",\"OpenPosition\",\"\"&Display2!$D$3&\"\")=0),A116+0.001,INT(A116)+1)","v":0.11700000000000009},{"$f":"(LEFT(B118,SEARCH(Display2!$G$2,B118)+LEN(Display2!$G$2)+2))&RIGHT(B118,LEN(B118)-(SEARCH(Display2!$G$2,B118)+LEN(Display2!$G$2)+2))+Display2!$J$3","v":"P.US.CLE1N174500"}]
[{"$f":"IF(OR(ISTEXT(RTD(\"cqg.rtd\",,\"OrderData\",\"\"&B118&\"\",\"\",\"OpenPosition\",\"\"&Display2!$D$3&\"\")),RTD(\"cqg.rtd\",,\"OrderData\",\"\"&B118&\"\",\"\",\"OpenPosition\",\"\"&Display2!$D$3&\"\")=0),A117+0.001,INT(A117)+1)","v":0.11800000000000009},{"$f":"(LEFT(B119,SEARCH(Display2!$G$2,B119)+LEN(Display2!$G$2)+2))&RIGHT(B119,LEN(B119)-(SEARCH(Display2!$G$2,B119)+LEN(Display2!$G$2)+2))+Display2!$J$3","v":"P.US.CLE1N174450"}]
[{"$f":"IF(OR(ISTEXT(RTD(\"cqg.rtd\",,\"OrderData\",\"\"&B119&\"\",\"\",\"OpenPosition\",\"\"&Display2!$D$3&\"\")),RTD(\"cqg.rtd\",,\"OrderData\",\"\"&B119&\"\",\"\",\"OpenPosition\",\"\"&Display2!$D$3&\"\")=0),A118+0.001,INT(A118)+1)","v":0.11900000000000009},{"$f":"(LEFT(B120,SEARCH(Display2!$G$2,B120)+LEN(Display2!$G$2)+2))&RIGHT(B120,LEN(B120)-(SEARCH(Display2!$G$2,B120)+LEN(Display2!$G$2)+2))+Display2!$J$3","v":"P.US.CLE1N174400"}]
[{"$f":"IF(OR(ISTEXT(RTD(\"cqg.rtd\",,\"OrderData\",\"\"&B120&\"\",\"\",\"OpenPosition\",\"\"&Display2!$D$3&\"\")),RTD(\"cqg.rtd\",,\"OrderData\",\"\"&B120&\"\",\"\",\"OpenPosition\",\"\"&Display2!$D$3&\"\")=0),A119+0.001,INT(A119)+1)","v":0.12000000000000009},{"$f":"(LEFT(B121,SEARCH(Display2!$G$2,B121)+LEN(Display2!$G$2)+2))&RIGHT(B121,LEN(B121)-(SEARCH(Display2!$G$2,B121)+LEN(Display2!$G$2)+2))+Display2!$J$3","v":"P.US.CLE1N174350"}]
[{"$f":"IF(OR(ISTEXT(RTD(\"cqg.rtd\",,\"OrderData\",\"\"&B121&\"\",\"\",\"OpenPosition\",\"\"&Display2!$D$3&\"\")),RTD(\"cqg.rtd\",,\"OrderData\",\"\"&B121&\"\",\"\",\"OpenPosition\",\"\"&Display2!$D$3&\"\")=0),A120+0.001,INT(A120)+1)","v":0.12100000000000009},{"$f":"RTD(\"cqg.rtd\", ,\"ContractData\", \"P.US.\"&Display2!$G$2&Display2!$G$3&\"\", \"Symbol\",, \"T\")","v":"P.US.CLE1N174300"}]
[{"$f":"IF(OR(ISTEXT(RTD(\"cqg.rtd\",,\"OrderData\",\"\"&B122&\"\",\"\",\"OpenPosition\",\"\"&Display2!$D$3&\"\")),RTD(\"cqg.rtd\",,\"OrderData\",\"\"&B122&\"\",\"\",\"OpenPosition\",\"\"&Display2!$D$3&\"\")=0),A121+0.001,INT(A121)+1)","v":0.12200000000000009},{"$f":"(LEFT(B121,SEARCH(Display2!$G$2,B121)+LEN(Display2!$G$2)+2))&RIGHT(B121,LEN(B121)-(SEARCH(Display2!$G$2,B121)+LEN(Display2!$G$2)+2))-Display2!$J$3","v":"P.US.CLE1N174250"}]
[{"$f":"IF(OR(ISTEXT(RTD(\"cqg.rtd\",,\"OrderData\",\"\"&B123&\"\",\"\",\"OpenPosition\",\"\"&Display2!$D$3&\"\")),RTD(\"cqg.rtd\",,\"OrderData\",\"\"&B123&\"\",\"\",\"OpenPosition\",\"\"&Display2!$D$3&\"\")=0),A122+0.001,INT(A122)+1)","v":0.1230000000000001},{"$f":"(LEFT(B122,SEARCH(Display2!$G$2,B122)+LEN(Display2!$G$2)+2))&RIGHT(B122,LEN(B122)-(SEARCH(Display2!$G$2,B122)+LEN(Display2!$G$2)+2))-Display2!$J$3","v":"P.US.CLE1N174200"}]
[{"$f":"IF(OR(ISTEXT(RTD(\"cqg.rtd\",,\"OrderData\",\"\"&B124&\"\",\"\",\"OpenPosition\",\"\"&Display2!$D$3&\"\")),RTD(\"cqg.rtd\",,\"OrderData\",\"\"&B124&\"\",\"\",\"OpenPosition\",\"\"&Display2!$D$3&\"\")=0),A123+0.001,INT(A123)+1)","v":0.1240000000000001},{"$f":"(LEFT(B123,SEARCH(Display2!$G$2,B123)+LEN(Display2!$G$2)+2))&RIGHT(B123,LEN(B123)-(SEARCH(Display2!$G$2,B123)+LEN(Display2!$G$2)+2))-Display2!$J$3","v":"P.US.CLE1N174150"}]
[{"$f":"IF(OR(ISTEXT(RTD(\"cqg.rtd\",,\"OrderData\",\"\"&B125&\"\",\"\",\"OpenPosition\",\"\"&Display2!$D$3&\"\")),RTD(\"cqg.rtd\",,\"OrderData\",\"\"&B125&\"\",\"\",\"OpenPosition\",\"\"&Display2!$D$3&\"\")=0),A124+0.001,INT(A124)+1)","v":0.12500000000000008},{"$f":"(LEFT(B124,SEARCH(Display2!$G$2,B124)+LEN(Display2!$G$2)+2))&RIGHT(B124,LEN(B124)-(SEARCH(Display2!$G$2,B124)+LEN(Display2!$G$2)+2))-Display2!$J$3","v":"P.US.CLE1N174100"}]
[{"$f":"IF(OR(ISTEXT(RTD(\"cqg.rtd\",,\"OrderData\",\"\"&B126&\"\",\"\",\"OpenPosition\",\"\"&Display2!$D$3&\"\")),RTD(\"cqg.rtd\",,\"OrderData\",\"\"&B126&\"\",\"\",\"OpenPosition\",\"\"&Display2!$D$3&\"\")=0),A125+0.001,INT(A125)+1)","v":0.12600000000000008},{"$f":"(LEFT(B125,SEARCH(Display2!$G$2,B125)+LEN(Display2!$G$2)+2))&RIGHT(B125,LEN(B125)-(SEARCH(Display2!$G$2,B125)+LEN(Display2!$G$2)+2))-Display2!$J$3","v":"P.US.CLE1N174050"}]
[{"$f":"IF(OR(ISTEXT(RTD(\"cqg.rtd\",,\"OrderData\",\"\"&B127&\"\",\"\",\"OpenPosition\",\"\"&Display2!$D$3&\"\")),RTD(\"cqg.rtd\",,\"OrderData\",\"\"&B127&\"\",\"\",\"OpenPosition\",\"\"&Display2!$D$3&\"\")=0),A126+0.001,INT(A126)+1)","v":0.12700000000000009},{"$f":"(LEFT(B126,SEARCH(Display2!$G$2,B126)+LEN(Display2!$G$2)+2))&RIGHT(B126,LEN(B126)-(SEARCH(Display2!$G$2,B126)+LEN(Display2!$G$2)+2))-Display2!$J$3","v":"P.US.CLE1N174000"}]
[{"$f":"IF(OR(ISTEXT(RTD(\"cqg.rtd\",,\"OrderData\",\"\"&B128&\"\",\"\",\"OpenPosition\",\"\"&Display2!$D$3&\"\")),RTD(\"cqg.rtd\",,\"OrderData\",\"\"&B128&\"\",\"\",\"OpenPosition\",\"\"&Display2!$D$3&\"\")=0),A127+0.001,INT(A127)+1)","v":0.12800000000000009},{"$f":"(LEFT(B127,SEARCH(Display2!$G$2,B127)+LEN(Display2!$G$2)+2))&RIGHT(B127,LEN(B127)-(SEARCH(Display2!$G$2,B127)+LEN(Display2!$G$2)+2))-Display2!$J$3","v":"P.US.CLE1N173950"}]
[{"$f":"IF(OR(ISTEXT(RTD(\"cqg.rtd\",,\"OrderData\",\"\"&B129&\"\",\"\",\"OpenPosition\",\"\"&Display2!$D$3&\"\")),RTD(\"cqg.rtd\",,\"OrderData\",\"\"&B129&\"\",\"\",\"OpenPosition\",\"\"&Display2!$D$3&\"\")=0),A128+0.001,INT(A128)+1)","v":0.12900000000000009},{"$f":"(LEFT(B128,SEARCH(Display2!$G$2,B128)+LEN(Display2!$G$2)+2))&RIGHT(B128,LEN(B128)-(SEARCH(Display2!$G$2,B128)+LEN(Display2!$G$2)+2))-Display2!$J$3","v":"P.US.CLE1N173900"}]
[{"$f":"IF(OR(ISTEXT(RTD(\"cqg.rtd\",,\"OrderData\",\"\"&B130&\"\",\"\",\"OpenPosition\",\"\"&Display2!$D$3&\"\")),RTD(\"cqg.rtd\",,\"OrderData\",\"\"&B130&\"\",\"\",\"OpenPosition\",\"\"&Display2!$D$3&\"\")=0),A129+0.001,INT(A129)+1)","v":0.13000000000000009},{"$f":"(LEFT(B129,SEARCH(Display2!$G$2,B129)+LEN(Display2!$G$2)+2))&RIGHT(B129,LEN(B129)-(SEARCH(Display2!$G$2,B129)+LEN(Display2!$G$2)+2))-Display2!$J$3","v":"P.US.CLE1N173850"}]
[{"$f":"IF(OR(ISTEXT(RTD(\"cqg.rtd\",,\"OrderData\",\"\"&B131&\"\",\"\",\"OpenPosition\",\"\"&Display2!$D$3&\"\")),RTD(\"cqg.rtd\",,\"OrderData\",\"\"&B131&\"\",\"\",\"OpenPosition\",\"\"&Display2!$D$3&\"\")=0),A130+0.001,INT(A130)+1)","v":0.13100000000000009},{"$f":"(LEFT(B130,SEARCH(Display2!$G$2,B130)+LEN(Display2!$G$2)+2))&RIGHT(B130,LEN(B130)-(SEARCH(Display2!$G$2,B130)+LEN(Display2!$G$2)+2))-Display2!$J$3","v":"P.US.CLE1N173800"}]
[{"$f":"IF(OR(ISTEXT(RTD(\"cqg.rtd\",,\"OrderData\",\"\"&B132&\"\",\"\",\"OpenPosition\",\"\"&Display2!$D$3&\"\")),RTD(\"cqg.rtd\",,\"OrderData\",\"\"&B132&\"\",\"\",\"OpenPosition\",\"\"&Display2!$D$3&\"\")=0),A131+0.001,INT(A131)+1)","v":0.13200000000000009},{"$f":"(LEFT(B131,SEARCH(Display2!$G$2,B131)+LEN(Display2!$G$2)+2))&RIGHT(B131,LEN(B131)-(SEARCH(Display2!$G$2,B131)+LEN(Display2!$G$2)+2))-Display2!$J$3","v":"P.US.CLE1N173750"}]
[{"$f":"IF(OR(ISTEXT(RTD(\"cqg.rtd\",,\"OrderData\",\"\"&B133&\"\",\"\",\"OpenPosition\",\"\"&Display2!$D$3&\"\")),RTD(\"cqg.rtd\",,\"OrderData\",\"\"&B133&\"\",\"\",\"OpenPosition\",\"\"&Display2!$D$3&\"\")=0),A132+0.001,INT(A132)+1)","v":0.13300000000000009},{"$f":"(LEFT(B132,SEARCH(Display2!$G$2,B132)+LEN(Display2!$G$2)+2))&RIGHT(B132,LEN(B132)-(SEARCH(Display2!$G$2,B132)+LEN(Display2!$G$2)+2))-Display2!$J$3","v":"P.US.CLE1N173700"}]
[{"$f":"IF(OR(ISTEXT(RTD(\"cqg.rtd\",,\"OrderData\",\"\"&B134&\"\",\"\",\"OpenPosition\",\"\"&Display2!$D$3&\"\")),RTD(\"cqg.rtd\",,\"OrderData\",\"\"&B134&\"\",\"\",\"OpenPosition\",\"\"&Display2!$D$3&\"\")=0),A133+0.001,INT(A133)+1)","v":0.13400000000000009},{"$f":"(LEFT(B133,SEARCH(Display2!$G$2,B133)+LEN(Display2!$G$2)+2))&RIGHT(B133,LEN(B133)-(SEARCH(Display2!$G$2,B133)+LEN(Display2!$G$2)+2))-Display2!$J$3","v":"P.US.CLE1N173650"}]
[{"$f":"IF(OR(ISTEXT(RTD(\"cqg.rtd\",,\"OrderData\",\"\"&B135&\"\",\"\",\"OpenPosition\",\"\"&Display2!$D$3&\"\")),RTD(\"cqg.rtd\",,\"OrderData\",\"\"&B135&\"\",\"\",\"OpenPosition\",\"\"&Display2!$D$3&\"\")=0),A134+0.001,INT(A134)+1)","v":0.13500000000000009},{"$f":"(LEFT(B134,SEARCH(Display2!$G$2,B134)+LEN(Display2!$G$2)+2))&RIGHT(B134,LEN(B134)-(SEARCH(Display2!$G$2,B134)+LEN(Display2!$G$2)+2))-Display2!$J$3","v":"P.US.CLE1N173600"}]
[{"$f":"IF(OR(ISTEXT(RTD(\"cqg.rtd\",,\"OrderData\",\"\"&B136&\"\",\"\",\"OpenPosition\",\"\"&Display2!$D$3&\"\")),RTD(\"cqg.rtd\",,\"OrderData\",\"\"&B136&\"\",\"\",\"OpenPosition\",\"\"&Display2!$D$3&\"\")=0),A135+0.001,INT(A135)+1)","v":0.13600000000000009},{"$f":"(LEFT(B135,SEARCH(Display2!$G$2,B135)+LEN(Display2!$G$2)+2))&RIGHT(B135,LEN(B135)-(SEARCH(Display2!$G$2,B135)+LEN(Display2!$G$2)+2))-Display2!$J$3","v":"P.US.CLE1N173550"}]
[{"$f":"IF(OR(ISTEXT(RTD(\"cqg.rtd\",,\"OrderData\",\"\"&B137&\"\",\"\",\"OpenPosition\",\"\"&Display2!$D$3&\"\")),RTD(\"cqg.rtd\",,\"OrderData\",\"\"&B137&\"\",\"\",\"OpenPosition\",\"\"&Display2!$D$3&\"\")=0),A136+0.001,INT(A136)+1)","v":0.13700000000000009},{"$f":"(LEFT(B136,SEARCH(Display2!$G$2,B136)+LEN(Display2!$G$2)+2))&RIGHT(B136,LEN(B136)-(SEARCH(Display2!$G$2,B136)+LEN(Display2!$G$2)+2))-Display2!$J$3","v":"P.US.CLE1N173500"}]
[{"$f":"IF(OR(ISTEXT(RTD(\"cqg.rtd\",,\"OrderData\",\"\"&B138&\"\",\"\",\"OpenPosition\",\"\"&Display2!$D$3&\"\")),RTD(\"cqg.rtd\",,\"OrderData\",\"\"&B138&\"\",\"\",\"OpenPosition\",\"\"&Display2!$D$3&\"\")=0),A137+0.001,INT(A137)+1)","v":0.13800000000000009},{"$f":"(LEFT(B137,SEARCH(Display2!$G$2,B137)+LEN(Display2!$G$2)+2))&RIGHT(B137,LEN(B137)-(SEARCH(Display2!$G$2,B137)+LEN(Display2!$G$2)+2))-Display2!$J$3","v":"P.US.CLE1N173450"}]
[{"$f":"IF(OR(ISTEXT(RTD(\"cqg.rtd\",,\"OrderData\",\"\"&B139&\"\",\"\",\"OpenPosition\",\"\"&Display2!$D$3&\"\")),RTD(\"cqg.rtd\",,\"OrderData\",\"\"&B139&\"\",\"\",\"OpenPosition\",\"\"&Display2!$D$3&\"\")=0),A138+0.001,INT(A138)+1)","v":0.1390000000000001},{"$f":"(LEFT(B138,SEARCH(Display2!$G$2,B138)+LEN(Display2!$G$2)+2))&RIGHT(B138,LEN(B138)-(SEARCH(Display2!$G$2,B138)+LEN(Display2!$G$2)+2))-Display2!$J$3","v":"P.US.CLE1N173400"}]
[{"$f":"IF(OR(ISTEXT(RTD(\"cqg.rtd\",,\"OrderData\",\"\"&B140&\"\",\"\",\"OpenPosition\",\"\"&Display2!$D$3&\"\")),RTD(\"cqg.rtd\",,\"OrderData\",\"\"&B140&\"\",\"\",\"OpenPosition\",\"\"&Display2!$D$3&\"\")=0),A139+0.001,INT(A139)+1)","v":0.1400000000000001},{"$f":"(LEFT(B139,SEARCH(Display2!$G$2,B139)+LEN(Display2!$G$2)+2))&RIGHT(B139,LEN(B139)-(SEARCH(Display2!$G$2,B139)+LEN(Display2!$G$2)+2))-Display2!$J$3","v":"P.US.CLE1N173350"}]
[{"$f":"IF(OR(ISTEXT(RTD(\"cqg.rtd\",,\"OrderData\",\"\"&B141&\"\",\"\",\"OpenPosition\",\"\"&Display2!$D$3&\"\")),RTD(\"cqg.rtd\",,\"OrderData\",\"\"&B141&\"\",\"\",\"OpenPosition\",\"\"&Display2!$D$3&\"\")=0),A140+0.001,INT(A140)+1)","v":0.1410000000000001},{"$f":"(LEFT(B140,SEARCH(Display2!$G$2,B140)+LEN(Display2!$G$2)+2))&RIGHT(B140,LEN(B140)-(SEARCH(Display2!$G$2,B140)+LEN(Display2!$G$2)+2))-Display2!$J$3","v":"P.US.CLE1N173300"}]
[{"$f":"IF(OR(ISTEXT(RTD(\"cqg.rtd\",,\"OrderData\",\"\"&B142&\"\",\"\",\"OpenPosition\",\"\"&Display2!$D$3&\"\")),RTD(\"cqg.rtd\",,\"OrderData\",\"\"&B142&\"\",\"\",\"OpenPosition\",\"\"&Display2!$D$3&\"\")=0),A141+0.001,INT(A141)+1)","v":0.1420000000000001},{"$f":"(LEFT(B141,SEARCH(Display2!$G$2,B141)+LEN(Display2!$G$2)+2))&RIGHT(B141,LEN(B141)-(SEARCH(Display2!$G$2,B141)+LEN(Display2!$G$2)+2))-Display2!$J$3","v":"P.US.CLE1N173250"}]
[{"$f":"IF(OR(ISTEXT(RTD(\"cqg.rtd\",,\"OrderData\",\"\"&B143&\"\",\"\",\"OpenPosition\",\"\"&Display2!$D$3&\"\")),RTD(\"cqg.rtd\",,\"OrderData\",\"\"&B143&\"\",\"\",\"OpenPosition\",\"\"&Display2!$D$3&\"\")=0),A142+0.001,INT(A142)+1)","v":0.1430000000000001},{"$f":"(LEFT(B142,SEARCH(Display2!$G$2,B142)+LEN(Display2!$G$2)+2))&RIGHT(B142,LEN(B142)-(SEARCH(Display2!$G$2,B142)+LEN(Display2!$G$2)+2))-Display2!$J$3","v":"P.US.CLE1N173200"}]
[{"$f":"IF(OR(ISTEXT(RTD(\"cqg.rtd\",,\"OrderData\",\"\"&B144&\"\",\"\",\"OpenPosition\",\"\"&Display2!$D$3&\"\")),RTD(\"cqg.rtd\",,\"OrderData\",\"\"&B144&\"\",\"\",\"OpenPosition\",\"\"&Display2!$D$3&\"\")=0),A143+0.001,INT(A143)+1)","v":0.1440000000000001},{"$f":"(LEFT(B143,SEARCH(Display2!$G$2,B143)+LEN(Display2!$G$2)+2))&RIGHT(B143,LEN(B143)-(SEARCH(Display2!$G$2,B143)+LEN(Display2!$G$2)+2))-Display2!$J$3","v":"P.US.CLE1N173150"}]
[{"$f":"IF(OR(ISTEXT(RTD(\"cqg.rtd\",,\"OrderData\",\"\"&B145&\"\",\"\",\"OpenPosition\",\"\"&Display2!$D$3&\"\")),RTD(\"cqg.rtd\",,\"OrderData\",\"\"&B145&\"\",\"\",\"OpenPosition\",\"\"&Display2!$D$3&\"\")=0),A144+0.001,INT(A144)+1)","v":0.1450000000000001},{"$f":"(LEFT(B144,SEARCH(Display2!$G$2,B144)+LEN(Display2!$G$2)+2))&RIGHT(B144,LEN(B144)-(SEARCH(Display2!$G$2,B144)+LEN(Display2!$G$2)+2))-Display2!$J$3","v":"P.US.CLE1N173100"}]
[{"$f":"IF(OR(ISTEXT(RTD(\"cqg.rtd\",,\"OrderData\",\"\"&B146&\"\",\"\",\"OpenPosition\",\"\"&Display2!$D$3&\"\")),RTD(\"cqg.rtd\",,\"OrderData\",\"\"&B146&\"\",\"\",\"OpenPosition\",\"\"&Display2!$D$3&\"\")=0),A145+0.001,INT(A145)+1)","v":0.1460000000000001},{"$f":"(LEFT(B145,SEARCH(Display2!$G$2,B145)+LEN(Display2!$G$2)+2))&RIGHT(B145,LEN(B145)-(SEARCH(Display2!$G$2,B145)+LEN(Display2!$G$2)+2))-Display2!$J$3","v":"P.US.CLE1N173050"}]
[{"$f":"IF(OR(ISTEXT(RTD(\"cqg.rtd\",,\"OrderData\",\"\"&B147&\"\",\"\",\"OpenPosition\",\"\"&Display2!$D$3&\"\")),RTD(\"cqg.rtd\",,\"OrderData\",\"\"&B147&\"\",\"\",\"OpenPosition\",\"\"&Display2!$D$3&\"\")=0),A146+0.001,INT(A146)+1)","v":0.1470000000000001},{"$f":"(LEFT(B146,SEARCH(Display2!$G$2,B146)+LEN(Display2!$G$2)+2))&RIGHT(B146,LEN(B146)-(SEARCH(Display2!$G$2,B146)+LEN(Display2!$G$2)+2))-Display2!$J$3","v":"P.US.CLE1N173000"}]
[{"$f":"IF(OR(ISTEXT(RTD(\"cqg.rtd\",,\"OrderData\",\"\"&B148&\"\",\"\",\"OpenPosition\",\"\"&Display2!$D$3&\"\")),RTD(\"cqg.rtd\",,\"OrderData\",\"\"&B148&\"\",\"\",\"OpenPosition\",\"\"&Display2!$D$3&\"\")=0),A147+0.001,INT(A147)+1)","v":0.1480000000000001},{"$f":"(LEFT(B147,SEARCH(Display2!$G$2,B147)+LEN(Display2!$G$2)+2))&RIGHT(B147,LEN(B147)-(SEARCH(Display2!$G$2,B147)+LEN(Display2!$G$2)+2))-Display2!$J$3","v":"P.US.CLE1N172950"}]
[{"$f":"IF(OR(ISTEXT(RTD(\"cqg.rtd\",,\"OrderData\",\"\"&B149&\"\",\"\",\"OpenPosition\",\"\"&Display2!$D$3&\"\")),RTD(\"cqg.rtd\",,\"OrderData\",\"\"&B149&\"\",\"\",\"OpenPosition\",\"\"&Display2!$D$3&\"\")=0),A148+0.001,INT(A148)+1)","v":0.1490000000000001},{"$f":"(LEFT(B148,SEARCH(Display2!$G$2,B148)+LEN(Display2!$G$2)+2))&RIGHT(B148,LEN(B148)-(SEARCH(Display2!$G$2,B148)+LEN(Display2!$G$2)+2))-Display2!$J$3","v":"P.US.CLE1N172900"}]
[{"$f":"IF(OR(ISTEXT(RTD(\"cqg.rtd\",,\"OrderData\",\"\"&B150&\"\",\"\",\"OpenPosition\",\"\"&Display2!$D$3&\"\")),RTD(\"cqg.rtd\",,\"OrderData\",\"\"&B150&\"\",\"\",\"OpenPosition\",\"\"&Display2!$D$3&\"\")=0),A149+0.001,INT(A149)+1)","v":0.15000000000000011},{"$f":"(LEFT(B149,SEARCH(Display2!$G$2,B149)+LEN(Display2!$G$2)+2))&RIGHT(B149,LEN(B149)-(SEARCH(Display2!$G$2,B149)+LEN(Display2!$G$2)+2))-Display2!$J$3","v":"P.US.CLE1N172850"}]
[{"$f":"IF(OR(ISTEXT(RTD(\"cqg.rtd\",,\"OrderData\",\"\"&B151&\"\",\"\",\"OpenPosition\",\"\"&Display2!$D$3&\"\")),RTD(\"cqg.rtd\",,\"OrderData\",\"\"&B151&\"\",\"\",\"OpenPosition\",\"\"&Display2!$D$3&\"\")=0),A150+0.001,INT(A150)+1)","v":0.15100000000000011},{"$f":"(LEFT(B150,SEARCH(Display2!$G$2,B150)+LEN(Display2!$G$2)+2))&RIGHT(B150,LEN(B150)-(SEARCH(Display2!$G$2,B150)+LEN(Display2!$G$2)+2))-Display2!$J$3","v":"P.US.CLE1N172800"}]
[{"$f":"IF(OR(ISTEXT(RTD(\"cqg.rtd\",,\"OrderData\",\"\"&B152&\"\",\"\",\"OpenPosition\",\"\"&Display2!$D$3&\"\")),RTD(\"cqg.rtd\",,\"OrderData\",\"\"&B152&\"\",\"\",\"OpenPosition\",\"\"&Display2!$D$3&\"\")=0),A151+0.001,INT(A151)+1)","v":0.15200000000000011},{"$f":"(LEFT(B151,SEARCH(Display2!$G$2,B151)+LEN(Display2!$G$2)+2))&RIGHT(B151,LEN(B151)-(SEARCH(Display2!$G$2,B151)+LEN(Display2!$G$2)+2))-Display2!$J$3","v":"P.US.CLE1N172750"}]
[{"$f":"IF(OR(ISTEXT(RTD(\"cqg.rtd\",,\"OrderData\",\"\"&B153&\"\",\"\",\"OpenPosition\",\"\"&Display2!$D$3&\"\")),RTD(\"cqg.rtd\",,\"OrderData\",\"\"&B153&\"\",\"\",\"OpenPosition\",\"\"&Display2!$D$3&\"\")=0),A152+0.001,INT(A152)+1)","v":0.15300000000000011},{"$f":"(LEFT(B152,SEARCH(Display2!$G$2,B152)+LEN(Display2!$G$2)+2))&RIGHT(B152,LEN(B152)-(SEARCH(Display2!$G$2,B152)+LEN(Display2!$G$2)+2))-Display2!$J$3","v":"P.US.CLE1N172700"}]
[{"$f":"IF(OR(ISTEXT(RTD(\"cqg.rtd\",,\"OrderData\",\"\"&B154&\"\",\"\",\"OpenPosition\",\"\"&Display2!$D$3&\"\")),RTD(\"cqg.rtd\",,\"OrderData\",\"\"&B154&\"\",\"\",\"OpenPosition\",\"\"&Display2!$D$3&\"\")=0),A153+0.001,INT(A153)+1)","v":0.15400000000000011},{"$f":"(LEFT(B153,SEARCH(Display2!$G$2,B153)+LEN(Display2!$G$2)+2))&RIGHT(B153,LEN(B153)-(SEARCH(Display2!$G$2,B153)+LEN(Display2!$G$2)+2))-Display2!$J$3","v":"P.US.CLE1N172650"}]
[{"$f":"IF(OR(ISTEXT(RTD(\"cqg.rtd\",,\"OrderData\",\"\"&B155&\"\",\"\",\"OpenPosition\",\"\"&Display2!$D$3&\"\")),RTD(\"cqg.rtd\",,\"OrderData\",\"\"&B155&\"\",\"\",\"OpenPosition\",\"\"&Display2!$D$3&\"\")=0),A154+0.001,INT(A154)+1)","v":0.15500000000000011},{"$f":"(LEFT(B154,SEARCH(Display2!$G$2,B154)+LEN(Display2!$G$2)+2))&RIGHT(B154,LEN(B154)-(SEARCH(Display2!$G$2,B154)+LEN(Display2!$G$2)+2))-Display2!$J$3","v":"P.US.CLE1N172600"}]
[{"$f":"IF(OR(ISTEXT(RTD(\"cqg.rtd\",,\"OrderData\",\"\"&B156&\"\",\"\",\"OpenPosition\",\"\"&Display2!$D$3&\"\")),RTD(\"cqg.rtd\",,\"OrderData\",\"\"&B156&\"\",\"\",\"OpenPosition\",\"\"&Display2!$D$3&\"\")=0),A155+0.001,INT(A155)+1)","v":0.15600000000000011},{"$f":"(LEFT(B155,SEARCH(Display2!$G$2,B155)+LEN(Display2!$G$2)+2))&RIGHT(B155,LEN(B155)-(SEARCH(Display2!$G$2,B155)+LEN(Display2!$G$2)+2))-Display2!$J$3","v":"P.US.CLE1N172550"}]
[{"$f":"IF(OR(ISTEXT(RTD(\"cqg.rtd\",,\"OrderData\",\"\"&B157&\"\",\"\",\"OpenPosition\",\"\"&Display2!$D$3&\"\")),RTD(\"cqg.rtd\",,\"OrderData\",\"\"&B157&\"\",\"\",\"OpenPosition\",\"\"&Display2!$D$3&\"\")=0),A156+0.001,INT(A156)+1)","v":0.15700000000000011},{"$f":"(LEFT(B156,SEARCH(Display2!$G$2,B156)+LEN(Display2!$G$2)+2))&RIGHT(B156,LEN(B156)-(SEARCH(Display2!$G$2,B156)+LEN(Display2!$G$2)+2))-Display2!$J$3","v":"P.US.CLE1N172500"}]
[{"$f":"IF(OR(ISTEXT(RTD(\"cqg.rtd\",,\"OrderData\",\"\"&B158&\"\",\"\",\"OpenPosition\",\"\"&Display2!$D$3&\"\")),RTD(\"cqg.rtd\",,\"OrderData\",\"\"&B158&\"\",\"\",\"OpenPosition\",\"\"&Display2!$D$3&\"\")=0),A157+0.001,INT(A157)+1)","v":0.15800000000000011},{"$f":"(LEFT(B157,SEARCH(Display2!$G$2,B157)+LEN(Display2!$G$2)+2))&RIGHT(B157,LEN(B157)-(SEARCH(Display2!$G$2,B157)+LEN(Display2!$G$2)+2))-Display2!$J$3","v":"P.US.CLE1N172450"}]
[{"$f":"IF(OR(ISTEXT(RTD(\"cqg.rtd\",,\"OrderData\",\"\"&B159&\"\",\"\",\"OpenPosition\",\"\"&Display2!$D$3&\"\")),RTD(\"cqg.rtd\",,\"OrderData\",\"\"&B159&\"\",\"\",\"OpenPosition\",\"\"&Display2!$D$3&\"\")=0),A158+0.001,INT(A158)+1)","v":0.15900000000000011},{"$f":"(LEFT(B158,SEARCH(Display2!$G$2,B158)+LEN(Display2!$G$2)+2))&RIGHT(B158,LEN(B158)-(SEARCH(Display2!$G$2,B158)+LEN(Display2!$G$2)+2))-Display2!$J$3","v":"P.US.CLE1N172400"}]
[{"$f":"IF(OR(ISTEXT(RTD(\"cqg.rtd\",,\"OrderData\",\"\"&B160&\"\",\"\",\"OpenPosition\",\"\"&Display2!$D$3&\"\")),RTD(\"cqg.rtd\",,\"OrderData\",\"\"&B160&\"\",\"\",\"OpenPosition\",\"\"&Display2!$D$3&\"\")=0),A159+0.001,INT(A159)+1)","v":0.16000000000000011},{"$f":"(LEFT(B159,SEARCH(Display2!$G$2,B159)+LEN(Display2!$G$2)+2))&RIGHT(B159,LEN(B159)-(SEARCH(Display2!$G$2,B159)+LEN(Display2!$G$2)+2))-Display2!$J$3","v":"P.US.CLE1N172350"}]
[{"$f":"IF(OR(ISTEXT(RTD(\"cqg.rtd\",,\"OrderData\",\"\"&B161&\"\",\"\",\"OpenPosition\",\"\"&Display2!$D$3&\"\")),RTD(\"cqg.rtd\",,\"OrderData\",\"\"&B161&\"\",\"\",\"OpenPosition\",\"\"&Display2!$D$3&\"\")=0),A160+0.001,INT(A160)+1)","v":0.16100000000000012},{"$f":"(LEFT(B160,SEARCH(Display2!$G$2,B160)+LEN(Display2!$G$2)+2))&RIGHT(B160,LEN(B160)-(SEARCH(Display2!$G$2,B160)+LEN(Display2!$G$2)+2))-Display2!$J$3","v":"P.US.CLE1N172300"}]
[{"$f":"IFERROR(IF(OR(ISTEXT(RTD(\"cqg.rtd\",,\"OrderData\",\"\"&B162&\"\",\"\",\"OpenPosition\",\"\"&Display2!$D$3&\"\")),RTD(\"cqg.rtd\",,\"OrderData\",\"\"&B162&\"\",\"\",\"OpenPosition\",\"\"&Display2!$D$3&\"\")=0),A161+0.001,INT(A161)+1),A161)","v":0.16200000000000012},{"$f":"(LEFT(B163,SEARCH(Display2!$G$2,B163)+LEN(Display2!$G$2)+2))&RIGHT(B163,LEN(B163)-(SEARCH(Display2!$G$2,B163)+LEN(Display2!$G$2)+2))+Display2!$J$3","v":"C.US.CLEU176350"}]
[{"$f":"IFERROR(IF(OR(ISTEXT(RTD(\"cqg.rtd\",,\"OrderData\",\"\"&B163&\"\",\"\",\"OpenPosition\",\"\"&Display2!$D$3&\"\")),RTD(\"cqg.rtd\",,\"OrderData\",\"\"&B163&\"\",\"\",\"OpenPosition\",\"\"&Display2!$D$3&\"\")=0),A162+0.001,INT(A162)+1),A162)","v":0.16300000000000012},{"$f":"(LEFT(B164,SEARCH(Display2!$G$2,B164)+LEN(Display2!$G$2)+2))&RIGHT(B164,LEN(B164)-(SEARCH(Display2!$G$2,B164)+LEN(Display2!$G$2)+2))+Display2!$J$3","v":"C.US.CLEU176300"}]
[{"$f":"IFERROR(IF(OR(ISTEXT(RTD(\"cqg.rtd\",,\"OrderData\",\"\"&B164&\"\",\"\",\"OpenPosition\",\"\"&Display2!$D$3&\"\")),RTD(\"cqg.rtd\",,\"OrderData\",\"\"&B164&\"\",\"\",\"OpenPosition\",\"\"&Display2!$D$3&\"\")=0),A163+0.001,INT(A163)+1),A163)","v":0.16400000000000012},{"$f":"(LEFT(B165,SEARCH(Display2!$G$2,B165)+LEN(Display2!$G$2)+2))&RIGHT(B165,LEN(B165)-(SEARCH(Display2!$G$2,B165)+LEN(Display2!$G$2)+2))+Display2!$J$3","v":"C.US.CLEU176250"}]
[{"$f":"IFERROR(IF(OR(ISTEXT(RTD(\"cqg.rtd\",,\"OrderData\",\"\"&B165&\"\",\"\",\"OpenPosition\",\"\"&Display2!$D$3&\"\")),RTD(\"cqg.rtd\",,\"OrderData\",\"\"&B165&\"\",\"\",\"OpenPosition\",\"\"&Display2!$D$3&\"\")=0),A164+0.001,INT(A164)+1),A164)","v":0.16500000000000012},{"$f":"(LEFT(B166,SEARCH(Display2!$G$2,B166)+LEN(Display2!$G$2)+2))&RIGHT(B166,LEN(B166)-(SEARCH(Display2!$G$2,B166)+LEN(Display2!$G$2)+2))+Display2!$J$3","v":"C.US.CLEU176200"}]
[{"$f":"IFERROR(IF(OR(ISTEXT(RTD(\"cqg.rtd\",,\"OrderData\",\"\"&B166&\"\",\"\",\"OpenPosition\",\"\"&Display2!$D$3&\"\")),RTD(\"cqg.rtd\",,\"OrderData\",\"\"&B166&\"\",\"\",\"OpenPosition\",\"\"&Display2!$D$3&\"\")=0),A165+0.001,INT(A165)+1),A165)","v":0.16600000000000012},{"$f":"(LEFT(B167,SEARCH(Display2!$G$2,B167)+LEN(Display2!$G$2)+2))&RIGHT(B167,LEN(B167)-(SEARCH(Display2!$G$2,B167)+LEN(Display2!$G$2)+2))+Display2!$J$3","v":"C.US.CLEU176150"}]
[{"$f":"IFERROR(IF(OR(ISTEXT(RTD(\"cqg.rtd\",,\"OrderData\",\"\"&B167&\"\",\"\",\"OpenPosition\",\"\"&Display2!$D$3&\"\")),RTD(\"cqg.rtd\",,\"OrderData\",\"\"&B167&\"\",\"\",\"OpenPosition\",\"\"&Display2!$D$3&\"\")=0),A166+0.001,INT(A166)+1),A166)","v":0.16700000000000012},{"$f":"(LEFT(B168,SEARCH(Display2!$G$2,B168)+LEN(Display2!$G$2)+2))&RIGHT(B168,LEN(B168)-(SEARCH(Display2!$G$2,B168)+LEN(Display2!$G$2)+2))+Display2!$J$3","v":"C.US.CLEU176100"}]
[{"$f":"IFERROR(IF(OR(ISTEXT(RTD(\"cqg.rtd\",,\"OrderData\",\"\"&B168&\"\",\"\",\"OpenPosition\",\"\"&Display2!$D$3&\"\")),RTD(\"cqg.rtd\",,\"OrderData\",\"\"&B168&\"\",\"\",\"OpenPosition\",\"\"&Display2!$D$3&\"\")=0),A167+0.001,INT(A167)+1),A167)","v":0.16800000000000012},{"$f":"(LEFT(B169,SEARCH(Display2!$G$2,B169)+LEN(Display2!$G$2)+2))&RIGHT(B169,LEN(B169)-(SEARCH(Display2!$G$2,B169)+LEN(Display2!$G$2)+2))+Display2!$J$3","v":"C.US.CLEU176050"}]
[{"$f":"IFERROR(IF(OR(ISTEXT(RTD(\"cqg.rtd\",,\"OrderData\",\"\"&B169&\"\",\"\",\"OpenPosition\",\"\"&Display2!$D$3&\"\")),RTD(\"cqg.rtd\",,\"OrderData\",\"\"&B169&\"\",\"\",\"OpenPosition\",\"\"&Display2!$D$3&\"\")=0),A168+0.001,INT(A168)+1),A168)","v":0.16900000000000012},{"$f":"(LEFT(B170,SEARCH(Display2!$G$2,B170)+LEN(Display2!$G$2)+2))&RIGHT(B170,LEN(B170)-(SEARCH(Display2!$G$2,B170)+LEN(Display2!$G$2)+2))+Display2!$J$3","v":"C.US.CLEU176000"}]
[{"$f":"IFERROR(IF(OR(ISTEXT(RTD(\"cqg.rtd\",,\"OrderData\",\"\"&B170&\"\",\"\",\"OpenPosition\",\"\"&Display2!$D$3&\"\")),RTD(\"cqg.rtd\",,\"OrderData\",\"\"&B170&\"\",\"\",\"OpenPosition\",\"\"&Display2!$D$3&\"\")=0),A169+0.001,INT(A169)+1),A169)","v":0.17000000000000012},{"$f":"(LEFT(B171,SEARCH(Display2!$G$2,B171)+LEN(Display2!$G$2)+2))&RIGHT(B171,LEN(B171)-(SEARCH(Display2!$G$2,B171)+LEN(Display2!$G$2)+2))+Display2!$J$3","v":"C.US.CLEU175950"}]
[{"$f":"IFERROR(IF(OR(ISTEXT(RTD(\"cqg.rtd\",,\"OrderData\",\"\"&B171&\"\",\"\",\"OpenPosition\",\"\"&Display2!$D$3&\"\")),RTD(\"cqg.rtd\",,\"OrderData\",\"\"&B171&\"\",\"\",\"OpenPosition\",\"\"&Display2!$D$3&\"\")=0),A170+0.001,INT(A170)+1),A170)","v":0.17100000000000012},{"$f":"(LEFT(B172,SEARCH(Display2!$G$2,B172)+LEN(Display2!$G$2)+2))&RIGHT(B172,LEN(B172)-(SEARCH(Display2!$G$2,B172)+LEN(Display2!$G$2)+2))+Display2!$J$3","v":"C.US.CLEU175900"}]
[{"$f":"IFERROR(IF(OR(ISTEXT(RTD(\"cqg.rtd\",,\"OrderData\",\"\"&B172&\"\",\"\",\"OpenPosition\",\"\"&Display2!$D$3&\"\")),RTD(\"cqg.rtd\",,\"OrderData\",\"\"&B172&\"\",\"\",\"OpenPosition\",\"\"&Display2!$D$3&\"\")=0),A171+0.001,INT(A171)+1),A171)","v":0.17200000000000013},{"$f":"(LEFT(B173,SEARCH(Display2!$G$2,B173)+LEN(Display2!$G$2)+2))&RIGHT(B173,LEN(B173)-(SEARCH(Display2!$G$2,B173)+LEN(Display2!$G$2)+2))+Display2!$J$3","v":"C.US.CLEU175850"}]
[{"$f":"IFERROR(IF(OR(ISTEXT(RTD(\"cqg.rtd\",,\"OrderData\",\"\"&B173&\"\",\"\",\"OpenPosition\",\"\"&Display2!$D$3&\"\")),RTD(\"cqg.rtd\",,\"OrderData\",\"\"&B173&\"\",\"\",\"OpenPosition\",\"\"&Display2!$D$3&\"\")=0),A172+0.001,INT(A172)+1),A172)","v":0.17300000000000013},{"$f":"(LEFT(B174,SEARCH(Display2!$G$2,B174)+LEN(Display2!$G$2)+2))&RIGHT(B174,LEN(B174)-(SEARCH(Display2!$G$2,B174)+LEN(Display2!$G$2)+2))+Display2!$J$3","v":"C.US.CLEU175800"}]
[{"$f":"IFERROR(IF(OR(ISTEXT(RTD(\"cqg.rtd\",,\"OrderData\",\"\"&B174&\"\",\"\",\"OpenPosition\",\"\"&Display2!$D$3&\"\")),RTD(\"cqg.rtd\",,\"OrderData\",\"\"&B174&\"\",\"\",\"OpenPosition\",\"\"&Display2!$D$3&\"\")=0),A173+0.001,INT(A173)+1),A173)","v":0.17400000000000013},{"$f":"(LEFT(B175,SEARCH(Display2!$G$2,B175)+LEN(Display2!$G$2)+2))&RIGHT(B175,LEN(B175)-(SEARCH(Display2!$G$2,B175)+LEN(Display2!$G$2)+2))+Display2!$J$3","v":"C.US.CLEU175750"}]
[{"$f":"IFERROR(IF(OR(ISTEXT(RTD(\"cqg.rtd\",,\"OrderData\",\"\"&B175&\"\",\"\",\"OpenPosition\",\"\"&Display2!$D$3&\"\")),RTD(\"cqg.rtd\",,\"OrderData\",\"\"&B175&\"\",\"\",\"OpenPosition\",\"\"&Display2!$D$3&\"\")=0),A174+0.001,INT(A174)+1),A174)","v":0.17500000000000013},{"$f":"(LEFT(B176,SEARCH(Display2!$G$2,B176)+LEN(Display2!$G$2)+2))&RIGHT(B176,LEN(B176)-(SEARCH(Display2!$G$2,B176)+LEN(Display2!$G$2)+2))+Display2!$J$3","v":"C.US.CLEU175700"}]
[{"$f":"IFERROR(IF(OR(ISTEXT(RTD(\"cqg.rtd\",,\"OrderData\",\"\"&B176&\"\",\"\",\"OpenPosition\",\"\"&Display2!$D$3&\"\")),RTD(\"cqg.rtd\",,\"OrderData\",\"\"&B176&\"\",\"\",\"OpenPosition\",\"\"&Display2!$D$3&\"\")=0),A175+0.001,INT(A175)+1),A175)","v":0.17600000000000013},{"$f":"(LEFT(B177,SEARCH(Display2!$G$2,B177)+LEN(Display2!$G$2)+2))&RIGHT(B177,LEN(B177)-(SEARCH(Display2!$G$2,B177)+LEN(Display2!$G$2)+2))+Display2!$J$3","v":"C.US.CLEU175650"}]
[{"$f":"IFERROR(IF(OR(ISTEXT(RTD(\"cqg.rtd\",,\"OrderData\",\"\"&B177&\"\",\"\",\"OpenPosition\",\"\"&Display2!$D$3&\"\")),RTD(\"cqg.rtd\",,\"OrderData\",\"\"&B177&\"\",\"\",\"OpenPosition\",\"\"&Display2!$D$3&\"\")=0),A176+0.001,INT(A176)+1),A176)","v":0.17700000000000013},{"$f":"(LEFT(B178,SEARCH(Display2!$G$2,B178)+LEN(Display2!$G$2)+2))&RIGHT(B178,LEN(B178)-(SEARCH(Display2!$G$2,B178)+LEN(Display2!$G$2)+2))+Display2!$J$3","v":"C.US.CLEU175600"}]
[{"$f":"IFERROR(IF(OR(ISTEXT(RTD(\"cqg.rtd\",,\"OrderData\",\"\"&B178&\"\",\"\",\"OpenPosition\",\"\"&Display2!$D$3&\"\")),RTD(\"cqg.rtd\",,\"OrderData\",\"\"&B178&\"\",\"\",\"OpenPosition\",\"\"&Display2!$D$3&\"\")=0),A177+0.001,INT(A177)+1),A177)","v":0.17800000000000013},{"$f":"(LEFT(B179,SEARCH(Display2!$G$2,B179)+LEN(Display2!$G$2)+2))&RIGHT(B179,LEN(B179)-(SEARCH(Display2!$G$2,B179)+LEN(Display2!$G$2)+2))+Display2!$J$3","v":"C.US.CLEU175550"}]
[{"$f":"IFERROR(IF(OR(ISTEXT(RTD(\"cqg.rtd\",,\"OrderData\",\"\"&B179&\"\",\"\",\"OpenPosition\",\"\"&Display2!$D$3&\"\")),RTD(\"cqg.rtd\",,\"OrderData\",\"\"&B179&\"\",\"\",\"OpenPosition\",\"\"&Display2!$D$3&\"\")=0),A178+0.001,INT(A178)+1),A178)","v":0.17900000000000013},{"$f":"(LEFT(B180,SEARCH(Display2!$G$2,B180)+LEN(Display2!$G$2)+2))&RIGHT(B180,LEN(B180)-(SEARCH(Display2!$G$2,B180)+LEN(Display2!$G$2)+2))+Display2!$J$3","v":"C.US.CLEU175500"}]
[{"$f":"IFERROR(IF(OR(ISTEXT(RTD(\"cqg.rtd\",,\"OrderData\",\"\"&B180&\"\",\"\",\"OpenPosition\",\"\"&Display2!$D$3&\"\")),RTD(\"cqg.rtd\",,\"OrderData\",\"\"&B180&\"\",\"\",\"OpenPosition\",\"\"&Display2!$D$3&\"\")=0),A179+0.001,INT(A179)+1),A179)","v":0.18000000000000013},{"$f":"(LEFT(B181,SEARCH(Display2!$G$2,B181)+LEN(Display2!$G$2)+2))&RIGHT(B181,LEN(B181)-(SEARCH(Display2!$G$2,B181)+LEN(Display2!$G$2)+2))+Display2!$J$3","v":"C.US.CLEU175450"}]
[{"$f":"IFERROR(IF(OR(ISTEXT(RTD(\"cqg.rtd\",,\"OrderData\",\"\"&B181&\"\",\"\",\"OpenPosition\",\"\"&Display2!$D$3&\"\")),RTD(\"cqg.rtd\",,\"OrderData\",\"\"&B181&\"\",\"\",\"OpenPosition\",\"\"&Display2!$D$3&\"\")=0),A180+0.001,INT(A180)+1),A180)","v":0.18100000000000013},{"$f":"(LEFT(B182,SEARCH(Display2!$G$2,B182)+LEN(Display2!$G$2)+2))&RIGHT(B182,LEN(B182)-(SEARCH(Display2!$G$2,B182)+LEN(Display2!$G$2)+2))+Display2!$J$3","v":"C.US.CLEU175400"}]
[{"$f":"IFERROR(IF(OR(ISTEXT(RTD(\"cqg.rtd\",,\"OrderData\",\"\"&B182&\"\",\"\",\"OpenPosition\",\"\"&Display2!$D$3&\"\")),RTD(\"cqg.rtd\",,\"OrderData\",\"\"&B182&\"\",\"\",\"OpenPosition\",\"\"&Display2!$D$3&\"\")=0),A181+0.001,INT(A181)+1),A181)","v":0.18200000000000013},{"$f":"(LEFT(B183,SEARCH(Display2!$G$2,B183)+LEN(Display2!$G$2)+2))&RIGHT(B183,LEN(B183)-(SEARCH(Display2!$G$2,B183)+LEN(Display2!$G$2)+2))+Display2!$J$3","v":"C.US.CLEU175350"}]
[{"$f":"IFERROR(IF(OR(ISTEXT(RTD(\"cqg.rtd\",,\"OrderData\",\"\"&B183&\"\",\"\",\"OpenPosition\",\"\"&Display2!$D$3&\"\")),RTD(\"cqg.rtd\",,\"OrderData\",\"\"&B183&\"\",\"\",\"OpenPosition\",\"\"&Display2!$D$3&\"\")=0),A182+0.001,INT(A182)+1),A182)","v":0.18300000000000013},{"$f":"(LEFT(B184,SEARCH(Display2!$G$2,B184)+LEN(Display2!$G$2)+2))&RIGHT(B184,LEN(B184)-(SEARCH(Display2!$G$2,B184)+LEN(Display2!$G$2)+2))+Display2!$J$3","v":"C.US.CLEU175300"}]
[{"$f":"IFERROR(IF(OR(ISTEXT(RTD(\"cqg.rtd\",,\"OrderData\",\"\"&B184&\"\",\"\",\"OpenPosition\",\"\"&Display2!$D$3&\"\")),RTD(\"cqg.rtd\",,\"OrderData\",\"\"&B184&\"\",\"\",\"OpenPosition\",\"\"&Display2!$D$3&\"\")=0),A183+0.001,INT(A183)+1),A183)","v":0.18400000000000014},{"$f":"(LEFT(B185,SEARCH(Display2!$G$2,B185)+LEN(Display2!$G$2)+2))&RIGHT(B185,LEN(B185)-(SEARCH(Display2!$G$2,B185)+LEN(Display2!$G$2)+2))+Display2!$J$3","v":"C.US.CLEU175250"}]
[{"$f":"IFERROR(IF(OR(ISTEXT(RTD(\"cqg.rtd\",,\"OrderData\",\"\"&B185&\"\",\"\",\"OpenPosition\",\"\"&Display2!$D$3&\"\")),RTD(\"cqg.rtd\",,\"OrderData\",\"\"&B185&\"\",\"\",\"OpenPosition\",\"\"&Display2!$D$3&\"\")=0),A184+0.001,INT(A184)+1),A184)","v":0.18500000000000014},{"$f":"(LEFT(B186,SEARCH(Display2!$G$2,B186)+LEN(Display2!$G$2)+2))&RIGHT(B186,LEN(B186)-(SEARCH(Display2!$G$2,B186)+LEN(Display2!$G$2)+2))+Display2!$J$3","v":"C.US.CLEU175200"}]
[{"$f":"IFERROR(IF(OR(ISTEXT(RTD(\"cqg.rtd\",,\"OrderData\",\"\"&B186&\"\",\"\",\"OpenPosition\",\"\"&Display2!$D$3&\"\")),RTD(\"cqg.rtd\",,\"OrderData\",\"\"&B186&\"\",\"\",\"OpenPosition\",\"\"&Display2!$D$3&\"\")=0),A185+0.001,INT(A185)+1),A185)","v":0.18600000000000014},{"$f":"(LEFT(B187,SEARCH(Display2!$G$2,B187)+LEN(Display2!$G$2)+2))&RIGHT(B187,LEN(B187)-(SEARCH(Display2!$G$2,B187)+LEN(Display2!$G$2)+2))+Display2!$J$3","v":"C.US.CLEU175150"}]
[{"$f":"IFERROR(IF(OR(ISTEXT(RTD(\"cqg.rtd\",,\"OrderData\",\"\"&B187&\"\",\"\",\"OpenPosition\",\"\"&Display2!$D$3&\"\")),RTD(\"cqg.rtd\",,\"OrderData\",\"\"&B187&\"\",\"\",\"OpenPosition\",\"\"&Display2!$D$3&\"\")=0),A186+0.001,INT(A186)+1),A186)","v":0.18700000000000014},{"$f":"(LEFT(B188,SEARCH(Display2!$G$2,B188)+LEN(Display2!$G$2)+2))&RIGHT(B188,LEN(B188)-(SEARCH(Display2!$G$2,B188)+LEN(Display2!$G$2)+2))+Display2!$J$3","v":"C.US.CLEU175100"}]
[{"$f":"IFERROR(IF(OR(ISTEXT(RTD(\"cqg.rtd\",,\"OrderData\",\"\"&B188&\"\",\"\",\"OpenPosition\",\"\"&Display2!$D$3&\"\")),RTD(\"cqg.rtd\",,\"OrderData\",\"\"&B188&\"\",\"\",\"OpenPosition\",\"\"&Display2!$D$3&\"\")=0),A187+0.001,INT(A187)+1),A187)","v":0.18800000000000014},{"$f":"(LEFT(B189,SEARCH(Display2!$G$2,B189)+LEN(Display2!$G$2)+2))&RIGHT(B189,LEN(B189)-(SEARCH(Display2!$G$2,B189)+LEN(Display2!$G$2)+2))+Display2!$J$3","v":"C.US.CLEU175050"}]
[{"$f":"IFERROR(IF(OR(ISTEXT(RTD(\"cqg.rtd\",,\"OrderData\",\"\"&B189&\"\",\"\",\"OpenPosition\",\"\"&Display2!$D$3&\"\")),RTD(\"cqg.rtd\",,\"OrderData\",\"\"&B189&\"\",\"\",\"OpenPosition\",\"\"&Display2!$D$3&\"\")=0),A188+0.001,INT(A188)+1),A188)","v":0.18900000000000014},{"$f":"(LEFT(B190,SEARCH(Display2!$G$2,B190)+LEN(Display2!$G$2)+2))&RIGHT(B190,LEN(B190)-(SEARCH(Display2!$G$2,B190)+LEN(Display2!$G$2)+2))+Display2!$J$3","v":"C.US.CLEU175000"}]
[{"$f":"IFERROR(IF(OR(ISTEXT(RTD(\"cqg.rtd\",,\"OrderData\",\"\"&B190&\"\",\"\",\"OpenPosition\",\"\"&Display2!$D$3&\"\")),RTD(\"cqg.rtd\",,\"OrderData\",\"\"&B190&\"\",\"\",\"OpenPosition\",\"\"&Display2!$D$3&\"\")=0),A189+0.001,INT(A189)+1),A189)","v":0.19000000000000014},{"$f":"(LEFT(B191,SEARCH(Display2!$G$2,B191)+LEN(Display2!$G$2)+2))&RIGHT(B191,LEN(B191)-(SEARCH(Display2!$G$2,B191)+LEN(Display2!$G$2)+2))+Display2!$J$3","v":"C.US.CLEU174950"}]
[{"$f":"IFERROR(IF(OR(ISTEXT(RTD(\"cqg.rtd\",,\"OrderData\",\"\"&B191&\"\",\"\",\"OpenPosition\",\"\"&Display2!$D$3&\"\")),RTD(\"cqg.rtd\",,\"OrderData\",\"\"&B191&\"\",\"\",\"OpenPosition\",\"\"&Display2!$D$3&\"\")=0),A190+0.001,INT(A190)+1),A190)","v":0.19100000000000014},{"$f":"(LEFT(B192,SEARCH(Display2!$G$2,B192)+LEN(Display2!$G$2)+2))&RIGHT(B192,LEN(B192)-(SEARCH(Display2!$G$2,B192)+LEN(Display2!$G$2)+2))+Display2!$J$3","v":"C.US.CLEU174900"}]
[{"$f":"IFERROR(IF(OR(ISTEXT(RTD(\"cqg.rtd\",,\"OrderData\",\"\"&B192&\"\",\"\",\"OpenPosition\",\"\"&Display2!$D$3&\"\")),RTD(\"cqg.rtd\",,\"OrderData\",\"\"&B192&\"\",\"\",\"OpenPosition\",\"\"&Display2!$D$3&\"\")=0),A191+0.001,INT(A191)+1),A191)","v":0.19200000000000014},{"$f":"(LEFT(B193,SEARCH(Display2!$G$2,B193)+LEN(Display2!$G$2)+2))&RIGHT(B193,LEN(B193)-(SEARCH(Display2!$G$2,B193)+LEN(Display2!$G$2)+2))+Display2!$J$3","v":"C.US.CLEU174850"}]
[{"$f":"IFERROR(IF(OR(ISTEXT(RTD(\"cqg.rtd\",,\"OrderData\",\"\"&B193&\"\",\"\",\"OpenPosition\",\"\"&Display2!$D$3&\"\")),RTD(\"cqg.rtd\",,\"OrderData\",\"\"&B193&\"\",\"\",\"OpenPosition\",\"\"&Display2!$D$3&\"\")=0),A192+0.001,INT(A192)+1),A192)","v":0.19300000000000014},{"$f":"(LEFT(B194,SEARCH(Display2!$G$2,B194)+LEN(Display2!$G$2)+2))&RIGHT(B194,LEN(B194)-(SEARCH(Display2!$G$2,B194)+LEN(Display2!$G$2)+2))+Display2!$J$3","v":"C.US.CLEU174800"}]
[{"$f":"IFERROR(IF(OR(ISTEXT(RTD(\"cqg.rtd\",,\"OrderData\",\"\"&B194&\"\",\"\",\"OpenPosition\",\"\"&Display2!$D$3&\"\")),RTD(\"cqg.rtd\",,\"OrderData\",\"\"&B194&\"\",\"\",\"OpenPosition\",\"\"&Display2!$D$3&\"\")=0),A193+0.001,INT(A193)+1),A193)","v":0.19400000000000014},{"$f":"(LEFT(B195,SEARCH(Display2!$G$2,B195)+LEN(Display2!$G$2)+2))&RIGHT(B195,LEN(B195)-(SEARCH(Display2!$G$2,B195)+LEN(Display2!$G$2)+2))+Display2!$J$3","v":"C.US.CLEU174750"}]
[{"$f":"IFERROR(IF(OR(ISTEXT(RTD(\"cqg.rtd\",,\"OrderData\",\"\"&B195&\"\",\"\",\"OpenPosition\",\"\"&Display2!$D$3&\"\")),RTD(\"cqg.rtd\",,\"OrderData\",\"\"&B195&\"\",\"\",\"OpenPosition\",\"\"&Display2!$D$3&\"\")=0),A194+0.001,INT(A194)+1),A194)","v":0.19500000000000015},{"$f":"(LEFT(B196,SEARCH(Display2!$G$2,B196)+LEN(Display2!$G$2)+2))&RIGHT(B196,LEN(B196)-(SEARCH(Display2!$G$2,B196)+LEN(Display2!$G$2)+2))+Display2!$J$3","v":"C.US.CLEU174700"}]
[{"$f":"IFERROR(IF(OR(ISTEXT(RTD(\"cqg.rtd\",,\"OrderData\",\"\"&B196&\"\",\"\",\"OpenPosition\",\"\"&Display2!$D$3&\"\")),RTD(\"cqg.rtd\",,\"OrderData\",\"\"&B196&\"\",\"\",\"OpenPosition\",\"\"&Display2!$D$3&\"\")=0),A195+0.001,INT(A195)+1),A195)","v":0.19600000000000015},{"$f":"(LEFT(B197,SEARCH(Display2!$G$2,B197)+LEN(Display2!$G$2)+2))&RIGHT(B197,LEN(B197)-(SEARCH(Display2!$G$2,B197)+LEN(Display2!$G$2)+2))+Display2!$J$3","v":"C.US.CLEU174650"}]
[{"$f":"IFERROR(IF(OR(ISTEXT(RTD(\"cqg.rtd\",,\"OrderData\",\"\"&B197&\"\",\"\",\"OpenPosition\",\"\"&Display2!$D$3&\"\")),RTD(\"cqg.rtd\",,\"OrderData\",\"\"&B197&\"\",\"\",\"OpenPosition\",\"\"&Display2!$D$3&\"\")=0),A196+0.001,INT(A196)+1),A196)","v":0.19700000000000015},{"$f":"(LEFT(B198,SEARCH(Display2!$G$2,B198)+LEN(Display2!$G$2)+2))&RIGHT(B198,LEN(B198)-(SEARCH(Display2!$G$2,B198)+LEN(Display2!$G$2)+2))+Display2!$J$3","v":"C.US.CLEU174600"}]
[{"$f":"IFERROR(IF(OR(ISTEXT(RTD(\"cqg.rtd\",,\"OrderData\",\"\"&B198&\"\",\"\",\"OpenPosition\",\"\"&Display2!$D$3&\"\")),RTD(\"cqg.rtd\",,\"OrderData\",\"\"&B198&\"\",\"\",\"OpenPosition\",\"\"&Display2!$D$3&\"\")=0),A197+0.001,INT(A197)+1),A197)","v":0.19800000000000015},{"$f":"(LEFT(B199,SEARCH(Display2!$G$2,B199)+LEN(Display2!$G$2)+2))&RIGHT(B199,LEN(B199)-(SEARCH(Display2!$G$2,B199)+LEN(Display2!$G$2)+2))+Display2!$J$3","v":"C.US.CLEU174550"}]
[{"$f":"IFERROR(IF(OR(ISTEXT(RTD(\"cqg.rtd\",,\"OrderData\",\"\"&B199&\"\",\"\",\"OpenPosition\",\"\"&Display2!$D$3&\"\")),RTD(\"cqg.rtd\",,\"OrderData\",\"\"&B199&\"\",\"\",\"OpenPosition\",\"\"&Display2!$D$3&\"\")=0),A198+0.001,INT(A198)+1),A198)","v":0.19900000000000015},{"$f":"(LEFT(B200,SEARCH(Display2!$G$2,B200)+LEN(Display2!$G$2)+2))&RIGHT(B200,LEN(B200)-(SEARCH(Display2!$G$2,B200)+LEN(Display2!$G$2)+2))+Display2!$J$3","v":"C.US.CLEU174500"}]
[{"$f":"IFERROR(IF(OR(ISTEXT(RTD(\"cqg.rtd\",,\"OrderData\",\"\"&B200&\"\",\"\",\"OpenPosition\",\"\"&Display2!$D$3&\"\")),RTD(\"cqg.rtd\",,\"OrderData\",\"\"&B200&\"\",\"\",\"OpenPosition\",\"\"&Display2!$D$3&\"\")=0),A199+0.001,INT(A199)+1),A199)","v":0.20000000000000015},{"$f":"(LEFT(B201,SEARCH(Display2!$G$2,B201)+LEN(Display2!$G$2)+2))&RIGHT(B201,LEN(B201)-(SEARCH(Display2!$G$2,B201)+LEN(Display2!$G$2)+2))+Display2!$J$3","v":"C.US.CLEU174450"}]
[{"$f":"IFERROR(IF(OR(ISTEXT(RTD(\"cqg.rtd\",,\"OrderData\",\"\"&B201&\"\",\"\",\"OpenPosition\",\"\"&Display2!$D$3&\"\")),RTD(\"cqg.rtd\",,\"OrderData\",\"\"&B201&\"\",\"\",\"OpenPosition\",\"\"&Display2!$D$3&\"\")=0),A200+0.001,INT(A200)+1),A200)","v":0.20100000000000015},{"$f":"(LEFT(B202,SEARCH(Display2!$G$2,B202)+LEN(Display2!$G$2)+2))&RIGHT(B202,LEN(B202)-(SEARCH(Display2!$G$2,B202)+LEN(Display2!$G$2)+2))+Display2!$J$3","v":"C.US.CLEU174400"}]
[{"$f":"IFERROR(IF(OR(ISTEXT(RTD(\"cqg.rtd\",,\"OrderData\",\"\"&B202&\"\",\"\",\"OpenPosition\",\"\"&Display2!$D$3&\"\")),RTD(\"cqg.rtd\",,\"OrderData\",\"\"&B202&\"\",\"\",\"OpenPosition\",\"\"&Display2!$D$3&\"\")=0),A201+0.001,INT(A201)+1),A201)","v":0.20200000000000015},{"$f":"RTD(\"cqg.rtd\", ,\"ContractData\", \"C.US.\"&Display2!$G$2&Display2!$H$3&\"\", \"Symbol\",, \"T\")","v":"C.US.CLEU174350"}]
[{"$f":"IFERROR(IF(OR(ISTEXT(RTD(\"cqg.rtd\",,\"OrderData\",\"\"&B203&\"\",\"\",\"OpenPosition\",\"\"&Display2!$D$3&\"\")),RTD(\"cqg.rtd\",,\"OrderData\",\"\"&B203&\"\",\"\",\"OpenPosition\",\"\"&Display2!$D$3&\"\")=0),A202+0.001,INT(A202)+1),A202)","v":0.20300000000000015},{"$f":"(LEFT(B202,SEARCH(Display2!$G$2,B202)+LEN(Display2!$G$2)+2))&RIGHT(B202,LEN(B202)-(SEARCH(Display2!$G$2,B202)+LEN(Display2!$G$2)+2))-Display2!$J$3","v":"C.US.CLEU174300"}]
[{"$f":"IFERROR(IF(OR(ISTEXT(RTD(\"cqg.rtd\",,\"OrderData\",\"\"&B204&\"\",\"\",\"OpenPosition\",\"\"&Display2!$D$3&\"\")),RTD(\"cqg.rtd\",,\"OrderData\",\"\"&B204&\"\",\"\",\"OpenPosition\",\"\"&Display2!$D$3&\"\")=0),A203+0.001,INT(A203)+1),A203)","v":0.20400000000000015},{"$f":"(LEFT(B203,SEARCH(Display2!$G$2,B203)+LEN(Display2!$G$2)+2))&RIGHT(B203,LEN(B203)-(SEARCH(Display2!$G$2,B203)+LEN(Display2!$G$2)+2))-Display2!$J$3","v":"C.US.CLEU174250"}]
[{"$f":"IFERROR(IF(OR(ISTEXT(RTD(\"cqg.rtd\",,\"OrderData\",\"\"&B205&\"\",\"\",\"OpenPosition\",\"\"&Display2!$D$3&\"\")),RTD(\"cqg.rtd\",,\"OrderData\",\"\"&B205&\"\",\"\",\"OpenPosition\",\"\"&Display2!$D$3&\"\")=0),A204+0.001,INT(A204)+1),A204)","v":0.20500000000000015},{"$f":"(LEFT(B204,SEARCH(Display2!$G$2,B204)+LEN(Display2!$G$2)+2))&RIGHT(B204,LEN(B204)-(SEARCH(Display2!$G$2,B204)+LEN(Display2!$G$2)+2))-Display2!$J$3","v":"C.US.CLEU174200"}]
[{"$f":"IFERROR(IF(OR(ISTEXT(RTD(\"cqg.rtd\",,\"OrderData\",\"\"&B206&\"\",\"\",\"OpenPosition\",\"\"&Display2!$D$3&\"\")),RTD(\"cqg.rtd\",,\"OrderData\",\"\"&B206&\"\",\"\",\"OpenPosition\",\"\"&Display2!$D$3&\"\")=0),A205+0.001,INT(A205)+1),A205)","v":0.20600000000000016},{"$f":"(LEFT(B205,SEARCH(Display2!$G$2,B205)+LEN(Display2!$G$2)+2))&RIGHT(B205,LEN(B205)-(SEARCH(Display2!$G$2,B205)+LEN(Display2!$G$2)+2))-Display2!$J$3","v":"C.US.CLEU174150"}]
[{"$f":"IFERROR(IF(OR(ISTEXT(RTD(\"cqg.rtd\",,\"OrderData\",\"\"&B207&\"\",\"\",\"OpenPosition\",\"\"&Display2!$D$3&\"\")),RTD(\"cqg.rtd\",,\"OrderData\",\"\"&B207&\"\",\"\",\"OpenPosition\",\"\"&Display2!$D$3&\"\")=0),A206+0.001,INT(A206)+1),A206)","v":0.20700000000000016},{"$f":"(LEFT(B206,SEARCH(Display2!$G$2,B206)+LEN(Display2!$G$2)+2))&RIGHT(B206,LEN(B206)-(SEARCH(Display2!$G$2,B206)+LEN(Display2!$G$2)+2))-Display2!$J$3","v":"C.US.CLEU174100"}]
[{"$f":"IFERROR(IF(OR(ISTEXT(RTD(\"cqg.rtd\",,\"OrderData\",\"\"&B208&\"\",\"\",\"OpenPosition\",\"\"&Display2!$D$3&\"\")),RTD(\"cqg.rtd\",,\"OrderData\",\"\"&B208&\"\",\"\",\"OpenPosition\",\"\"&Display2!$D$3&\"\")=0),A207+0.001,INT(A207)+1),A207)","v":0.20800000000000016},{"$f":"(LEFT(B207,SEARCH(Display2!$G$2,B207)+LEN(Display2!$G$2)+2))&RIGHT(B207,LEN(B207)-(SEARCH(Display2!$G$2,B207)+LEN(Display2!$G$2)+2))-Display2!$J$3","v":"C.US.CLEU174050"}]
[{"$f":"IFERROR(IF(OR(ISTEXT(RTD(\"cqg.rtd\",,\"OrderData\",\"\"&B209&\"\",\"\",\"OpenPosition\",\"\"&Display2!$D$3&\"\")),RTD(\"cqg.rtd\",,\"OrderData\",\"\"&B209&\"\",\"\",\"OpenPosition\",\"\"&Display2!$D$3&\"\")=0),A208+0.001,INT(A208)+1),A208)","v":0.20900000000000016},{"$f":"(LEFT(B208,SEARCH(Display2!$G$2,B208)+LEN(Display2!$G$2)+2))&RIGHT(B208,LEN(B208)-(SEARCH(Display2!$G$2,B208)+LEN(Display2!$G$2)+2))-Display2!$J$3","v":"C.US.CLEU174000"}]
[{"$f":"IFERROR(IF(OR(ISTEXT(RTD(\"cqg.rtd\",,\"OrderData\",\"\"&B210&\"\",\"\",\"OpenPosition\",\"\"&Display2!$D$3&\"\")),RTD(\"cqg.rtd\",,\"OrderData\",\"\"&B210&\"\",\"\",\"OpenPosition\",\"\"&Display2!$D$3&\"\")=0),A209+0.001,INT(A209)+1),A209)","v":0.21000000000000016},{"$f":"(LEFT(B209,SEARCH(Display2!$G$2,B209)+LEN(Display2!$G$2)+2))&RIGHT(B209,LEN(B209)-(SEARCH(Display2!$G$2,B209)+LEN(Display2!$G$2)+2))-Display2!$J$3","v":"C.US.CLEU173950"}]
[{"$f":"IFERROR(IF(OR(ISTEXT(RTD(\"cqg.rtd\",,\"OrderData\",\"\"&B211&\"\",\"\",\"OpenPosition\",\"\"&Display2!$D$3&\"\")),RTD(\"cqg.rtd\",,\"OrderData\",\"\"&B211&\"\",\"\",\"OpenPosition\",\"\"&Display2!$D$3&\"\")=0),A210+0.001,INT(A210)+1),A210)","v":0.21100000000000016},{"$f":"(LEFT(B210,SEARCH(Display2!$G$2,B210)+LEN(Display2!$G$2)+2))&RIGHT(B210,LEN(B210)-(SEARCH(Display2!$G$2,B210)+LEN(Display2!$G$2)+2))-Display2!$J$3","v":"C.US.CLEU173900"}]
[{"$f":"IFERROR(IF(OR(ISTEXT(RTD(\"cqg.rtd\",,\"OrderData\",\"\"&B212&\"\",\"\",\"OpenPosition\",\"\"&Display2!$D$3&\"\")),RTD(\"cqg.rtd\",,\"OrderData\",\"\"&B212&\"\",\"\",\"OpenPosition\",\"\"&Display2!$D$3&\"\")=0),A211+0.001,INT(A211)+1),A211)","v":0.21200000000000016},{"$f":"(LEFT(B211,SEARCH(Display2!$G$2,B211)+LEN(Display2!$G$2)+2))&RIGHT(B211,LEN(B211)-(SEARCH(Display2!$G$2,B211)+LEN(Display2!$G$2)+2))-Display2!$J$3","v":"C.US.CLEU173850"}]
[{"$f":"IFERROR(IF(OR(ISTEXT(RTD(\"cqg.rtd\",,\"OrderData\",\"\"&B213&\"\",\"\",\"OpenPosition\",\"\"&Display2!$D$3&\"\")),RTD(\"cqg.rtd\",,\"OrderData\",\"\"&B213&\"\",\"\",\"OpenPosition\",\"\"&Display2!$D$3&\"\")=0),A212+0.001,INT(A212)+1),A212)","v":0.21300000000000016},{"$f":"(LEFT(B212,SEARCH(Display2!$G$2,B212)+LEN(Display2!$G$2)+2))&RIGHT(B212,LEN(B212)-(SEARCH(Display2!$G$2,B212)+LEN(Display2!$G$2)+2))-Display2!$J$3","v":"C.US.CLEU173800"}]
[{"$f":"IFERROR(IF(OR(ISTEXT(RTD(\"cqg.rtd\",,\"OrderData\",\"\"&B214&\"\",\"\",\"OpenPosition\",\"\"&Display2!$D$3&\"\")),RTD(\"cqg.rtd\",,\"OrderData\",\"\"&B214&\"\",\"\",\"OpenPosition\",\"\"&Display2!$D$3&\"\")=0),A213+0.001,INT(A213)+1),A213)","v":0.21400000000000016},{"$f":"(LEFT(B213,SEARCH(Display2!$G$2,B213)+LEN(Display2!$G$2)+2))&RIGHT(B213,LEN(B213)-(SEARCH(Display2!$G$2,B213)+LEN(Display2!$G$2)+2))-Display2!$J$3","v":"C.US.CLEU173750"}]
[{"$f":"IFERROR(IF(OR(ISTEXT(RTD(\"cqg.rtd\",,\"OrderData\",\"\"&B215&\"\",\"\",\"OpenPosition\",\"\"&Display2!$D$3&\"\")),RTD(\"cqg.rtd\",,\"OrderData\",\"\"&B215&\"\",\"\",\"OpenPosition\",\"\"&Display2!$D$3&\"\")=0),A214+0.001,INT(A214)+1),A214)","v":0.21500000000000016},{"$f":"(LEFT(B214,SEARCH(Display2!$G$2,B214)+LEN(Display2!$G$2)+2))&RIGHT(B214,LEN(B214)-(SEARCH(Display2!$G$2,B214)+LEN(Display2!$G$2)+2))-Display2!$J$3","v":"C.US.CLEU173700"}]
[{"$f":"IFERROR(IF(OR(ISTEXT(RTD(\"cqg.rtd\",,\"OrderData\",\"\"&B216&\"\",\"\",\"OpenPosition\",\"\"&Display2!$D$3&\"\")),RTD(\"cqg.rtd\",,\"OrderData\",\"\"&B216&\"\",\"\",\"OpenPosition\",\"\"&Display2!$D$3&\"\")=0),A215+0.001,INT(A215)+1),A215)","v":0.21600000000000016},{"$f":"(LEFT(B215,SEARCH(Display2!$G$2,B215)+LEN(Display2!$G$2)+2))&RIGHT(B215,LEN(B215)-(SEARCH(Display2!$G$2,B215)+LEN(Display2!$G$2)+2))-Display2!$J$3","v":"C.US.CLEU173650"}]
[{"$f":"IFERROR(IF(OR(ISTEXT(RTD(\"cqg.rtd\",,\"OrderData\",\"\"&B217&\"\",\"\",\"OpenPosition\",\"\"&Display2!$D$3&\"\")),RTD(\"cqg.rtd\",,\"OrderData\",\"\"&B217&\"\",\"\",\"OpenPosition\",\"\"&Display2!$D$3&\"\")=0),A216+0.001,INT(A216)+1),A216)","v":0.21700000000000016},{"$f":"(LEFT(B216,SEARCH(Display2!$G$2,B216)+LEN(Display2!$G$2)+2))&RIGHT(B216,LEN(B216)-(SEARCH(Display2!$G$2,B216)+LEN(Display2!$G$2)+2))-Display2!$J$3","v":"C.US.CLEU173600"}]
[{"$f":"IFERROR(IF(OR(ISTEXT(RTD(\"cqg.rtd\",,\"OrderData\",\"\"&B218&\"\",\"\",\"OpenPosition\",\"\"&Display2!$D$3&\"\")),RTD(\"cqg.rtd\",,\"OrderData\",\"\"&B218&\"\",\"\",\"OpenPosition\",\"\"&Display2!$D$3&\"\")=0),A217+0.001,INT(A217)+1),A217)","v":0.21800000000000017},{"$f":"(LEFT(B217,SEARCH(Display2!$G$2,B217)+LEN(Display2!$G$2)+2))&RIGHT(B217,LEN(B217)-(SEARCH(Display2!$G$2,B217)+LEN(Display2!$G$2)+2))-Display2!$J$3","v":"C.US.CLEU173550"}]
[{"$f":"IFERROR(IF(OR(ISTEXT(RTD(\"cqg.rtd\",,\"OrderData\",\"\"&B219&\"\",\"\",\"OpenPosition\",\"\"&Display2!$D$3&\"\")),RTD(\"cqg.rtd\",,\"OrderData\",\"\"&B219&\"\",\"\",\"OpenPosition\",\"\"&Display2!$D$3&\"\")=0),A218+0.001,INT(A218)+1),A218)","v":0.21900000000000017},{"$f":"(LEFT(B218,SEARCH(Display2!$G$2,B218)+LEN(Display2!$G$2)+2))&RIGHT(B218,LEN(B218)-(SEARCH(Display2!$G$2,B218)+LEN(Display2!$G$2)+2))-Display2!$J$3","v":"C.US.CLEU173500"}]
[{"$f":"IFERROR(IF(OR(ISTEXT(RTD(\"cqg.rtd\",,\"OrderData\",\"\"&B220&\"\",\"\",\"OpenPosition\",\"\"&Display2!$D$3&\"\")),RTD(\"cqg.rtd\",,\"OrderData\",\"\"&B220&\"\",\"\",\"OpenPosition\",\"\"&Display2!$D$3&\"\")=0),A219+0.001,INT(A219)+1),A219)","v":0.22000000000000017},{"$f":"(LEFT(B219,SEARCH(Display2!$G$2,B219)+LEN(Display2!$G$2)+2))&RIGHT(B219,LEN(B219)-(SEARCH(Display2!$G$2,B219)+LEN(Display2!$G$2)+2))-Display2!$J$3","v":"C.US.CLEU173450"}]
[{"$f":"IFERROR(IF(OR(ISTEXT(RTD(\"cqg.rtd\",,\"OrderData\",\"\"&B221&\"\",\"\",\"OpenPosition\",\"\"&Display2!$D$3&\"\")),RTD(\"cqg.rtd\",,\"OrderData\",\"\"&B221&\"\",\"\",\"OpenPosition\",\"\"&Display2!$D$3&\"\")=0),A220+0.001,INT(A220)+1),A220)","v":0.22100000000000017},{"$f":"(LEFT(B220,SEARCH(Display2!$G$2,B220)+LEN(Display2!$G$2)+2))&RIGHT(B220,LEN(B220)-(SEARCH(Display2!$G$2,B220)+LEN(Display2!$G$2)+2))-Display2!$J$3","v":"C.US.CLEU173400"}]
[{"$f":"IFERROR(IF(OR(ISTEXT(RTD(\"cqg.rtd\",,\"OrderData\",\"\"&B222&\"\",\"\",\"OpenPosition\",\"\"&Display2!$D$3&\"\")),RTD(\"cqg.rtd\",,\"OrderData\",\"\"&B222&\"\",\"\",\"OpenPosition\",\"\"&Display2!$D$3&\"\")=0),A221+0.001,INT(A221)+1),A221)","v":0.22200000000000017},{"$f":"(LEFT(B221,SEARCH(Display2!$G$2,B221)+LEN(Display2!$G$2)+2))&RIGHT(B221,LEN(B221)-(SEARCH(Display2!$G$2,B221)+LEN(Display2!$G$2)+2))-Display2!$J$3","v":"C.US.CLEU173350"}]
[{"$f":"IFERROR(IF(OR(ISTEXT(RTD(\"cqg.rtd\",,\"OrderData\",\"\"&B223&\"\",\"\",\"OpenPosition\",\"\"&Display2!$D$3&\"\")),RTD(\"cqg.rtd\",,\"OrderData\",\"\"&B223&\"\",\"\",\"OpenPosition\",\"\"&Display2!$D$3&\"\")=0),A222+0.001,INT(A222)+1),A222)","v":0.22300000000000017},{"$f":"(LEFT(B222,SEARCH(Display2!$G$2,B222)+LEN(Display2!$G$2)+2))&RIGHT(B222,LEN(B222)-(SEARCH(Display2!$G$2,B222)+LEN(Display2!$G$2)+2))-Display2!$J$3","v":"C.US.CLEU173300"}]
[{"$f":"IFERROR(IF(OR(ISTEXT(RTD(\"cqg.rtd\",,\"OrderData\",\"\"&B224&\"\",\"\",\"OpenPosition\",\"\"&Display2!$D$3&\"\")),RTD(\"cqg.rtd\",,\"OrderData\",\"\"&B224&\"\",\"\",\"OpenPosition\",\"\"&Display2!$D$3&\"\")=0),A223+0.001,INT(A223)+1),A223)","v":0.22400000000000017},{"$f":"(LEFT(B223,SEARCH(Display2!$G$2,B223)+LEN(Display2!$G$2)+2))&RIGHT(B223,LEN(B223)-(SEARCH(Display2!$G$2,B223)+LEN(Display2!$G$2)+2))-Display2!$J$3","v":"C.US.CLEU173250"}]
[{"$f":"IFERROR(IF(OR(ISTEXT(RTD(\"cqg.rtd\",,\"OrderData\",\"\"&B225&\"\",\"\",\"OpenPosition\",\"\"&Display2!$D$3&\"\")),RTD(\"cqg.rtd\",,\"OrderData\",\"\"&B225&\"\",\"\",\"OpenPosition\",\"\"&Display2!$D$3&\"\")=0),A224+0.001,INT(A224)+1),A224)","v":0.22500000000000017},{"$f":"(LEFT(B224,SEARCH(Display2!$G$2,B224)+LEN(Display2!$G$2)+2))&RIGHT(B224,LEN(B224)-(SEARCH(Display2!$G$2,B224)+LEN(Display2!$G$2)+2))-Display2!$J$3","v":"C.US.CLEU173200"}]
[{"$f":"IFERROR(IF(OR(ISTEXT(RTD(\"cqg.rtd\",,\"OrderData\",\"\"&B226&\"\",\"\",\"OpenPosition\",\"\"&Display2!$D$3&\"\")),RTD(\"cqg.rtd\",,\"OrderData\",\"\"&B226&\"\",\"\",\"OpenPosition\",\"\"&Display2!$D$3&\"\")=0),A225+0.001,INT(A225)+1),A225)","v":0.22600000000000017},{"$f":"(LEFT(B225,SEARCH(Display2!$G$2,B225)+LEN(Display2!$G$2)+2))&RIGHT(B225,LEN(B225)-(SEARCH(Display2!$G$2,B225)+LEN(Display2!$G$2)+2))-Display2!$J$3","v":"C.US.CLEU173150"}]
[{"$f":"IFERROR(IF(OR(ISTEXT(RTD(\"cqg.rtd\",,\"OrderData\",\"\"&B227&\"\",\"\",\"OpenPosition\",\"\"&Display2!$D$3&\"\")),RTD(\"cqg.rtd\",,\"OrderData\",\"\"&B227&\"\",\"\",\"OpenPosition\",\"\"&Display2!$D$3&\"\")=0),A226+0.001,INT(A226)+1),A226)","v":0.22700000000000017},{"$f":"(LEFT(B226,SEARCH(Display2!$G$2,B226)+LEN(Display2!$G$2)+2))&RIGHT(B226,LEN(B226)-(SEARCH(Display2!$G$2,B226)+LEN(Display2!$G$2)+2))-Display2!$J$3","v":"C.US.CLEU173100"}]
[{"$f":"IFERROR(IF(OR(ISTEXT(RTD(\"cqg.rtd\",,\"OrderData\",\"\"&B228&\"\",\"\",\"OpenPosition\",\"\"&Display2!$D$3&\"\")),RTD(\"cqg.rtd\",,\"OrderData\",\"\"&B228&\"\",\"\",\"OpenPosition\",\"\"&Display2!$D$3&\"\")=0),A227+0.001,INT(A227)+1),A227)","v":0.22800000000000017},{"$f":"(LEFT(B227,SEARCH(Display2!$G$2,B227)+LEN(Display2!$G$2)+2))&RIGHT(B227,LEN(B227)-(SEARCH(Display2!$G$2,B227)+LEN(Display2!$G$2)+2))-Display2!$J$3","v":"C.US.CLEU173050"}]
[{"$f":"IFERROR(IF(OR(ISTEXT(RTD(\"cqg.rtd\",,\"OrderData\",\"\"&B229&\"\",\"\",\"OpenPosition\",\"\"&Display2!$D$3&\"\")),RTD(\"cqg.rtd\",,\"OrderData\",\"\"&B229&\"\",\"\",\"OpenPosition\",\"\"&Display2!$D$3&\"\")=0),A228+0.001,INT(A228)+1),A228)","v":0.22900000000000018},{"$f":"(LEFT(B228,SEARCH(Display2!$G$2,B228)+LEN(Display2!$G$2)+2))&RIGHT(B228,LEN(B228)-(SEARCH(Display2!$G$2,B228)+LEN(Display2!$G$2)+2))-Display2!$J$3","v":"C.US.CLEU173000"}]
[{"$f":"IFERROR(IF(OR(ISTEXT(RTD(\"cqg.rtd\",,\"OrderData\",\"\"&B230&\"\",\"\",\"OpenPosition\",\"\"&Display2!$D$3&\"\")),RTD(\"cqg.rtd\",,\"OrderData\",\"\"&B230&\"\",\"\",\"OpenPosition\",\"\"&Display2!$D$3&\"\")=0),A229+0.001,INT(A229)+1),A229)","v":0.23000000000000018},{"$f":"(LEFT(B229,SEARCH(Display2!$G$2,B229)+LEN(Display2!$G$2)+2))&RIGHT(B229,LEN(B229)-(SEARCH(Display2!$G$2,B229)+LEN(Display2!$G$2)+2))-Display2!$J$3","v":"C.US.CLEU172950"}]
[{"$f":"IFERROR(IF(OR(ISTEXT(RTD(\"cqg.rtd\",,\"OrderData\",\"\"&B231&\"\",\"\",\"OpenPosition\",\"\"&Display2!$D$3&\"\")),RTD(\"cqg.rtd\",,\"OrderData\",\"\"&B231&\"\",\"\",\"OpenPosition\",\"\"&Display2!$D$3&\"\")=0),A230+0.001,INT(A230)+1),A230)","v":0.23100000000000018},{"$f":"(LEFT(B230,SEARCH(Display2!$G$2,B230)+LEN(Display2!$G$2)+2))&RIGHT(B230,LEN(B230)-(SEARCH(Display2!$G$2,B230)+LEN(Display2!$G$2)+2))-Display2!$J$3","v":"C.US.CLEU172900"}]
[{"$f":"IFERROR(IF(OR(ISTEXT(RTD(\"cqg.rtd\",,\"OrderData\",\"\"&B232&\"\",\"\",\"OpenPosition\",\"\"&Display2!$D$3&\"\")),RTD(\"cqg.rtd\",,\"OrderData\",\"\"&B232&\"\",\"\",\"OpenPosition\",\"\"&Display2!$D$3&\"\")=0),A231+0.001,INT(A231)+1),A231)","v":0.23200000000000018},{"$f":"(LEFT(B231,SEARCH(Display2!$G$2,B231)+LEN(Display2!$G$2)+2))&RIGHT(B231,LEN(B231)-(SEARCH(Display2!$G$2,B231)+LEN(Display2!$G$2)+2))-Display2!$J$3","v":"C.US.CLEU172850"}]
[{"$f":"IFERROR(IF(OR(ISTEXT(RTD(\"cqg.rtd\",,\"OrderData\",\"\"&B233&\"\",\"\",\"OpenPosition\",\"\"&Display2!$D$3&\"\")),RTD(\"cqg.rtd\",,\"OrderData\",\"\"&B233&\"\",\"\",\"OpenPosition\",\"\"&Display2!$D$3&\"\")=0),A232+0.001,INT(A232)+1),A232)","v":0.23300000000000018},{"$f":"(LEFT(B232,SEARCH(Display2!$G$2,B232)+LEN(Display2!$G$2)+2))&RIGHT(B232,LEN(B232)-(SEARCH(Display2!$G$2,B232)+LEN(Display2!$G$2)+2))-Display2!$J$3","v":"C.US.CLEU172800"}]
[{"$f":"IFERROR(IF(OR(ISTEXT(RTD(\"cqg.rtd\",,\"OrderData\",\"\"&B234&\"\",\"\",\"OpenPosition\",\"\"&Display2!$D$3&\"\")),RTD(\"cqg.rtd\",,\"OrderData\",\"\"&B234&\"\",\"\",\"OpenPosition\",\"\"&Display2!$D$3&\"\")=0),A233+0.001,INT(A233)+1),A233)","v":0.23400000000000018},{"$f":"(LEFT(B233,SEARCH(Display2!$G$2,B233)+LEN(Display2!$G$2)+2))&RIGHT(B233,LEN(B233)-(SEARCH(Display2!$G$2,B233)+LEN(Display2!$G$2)+2))-Display2!$J$3","v":"C.US.CLEU172750"}]
[{"$f":"IFERROR(IF(OR(ISTEXT(RTD(\"cqg.rtd\",,\"OrderData\",\"\"&B235&\"\",\"\",\"OpenPosition\",\"\"&Display2!$D$3&\"\")),RTD(\"cqg.rtd\",,\"OrderData\",\"\"&B235&\"\",\"\",\"OpenPosition\",\"\"&Display2!$D$3&\"\")=0),A234+0.001,INT(A234)+1),A234)","v":0.23500000000000018},{"$f":"(LEFT(B234,SEARCH(Display2!$G$2,B234)+LEN(Display2!$G$2)+2))&RIGHT(B234,LEN(B234)-(SEARCH(Display2!$G$2,B234)+LEN(Display2!$G$2)+2))-Display2!$J$3","v":"C.US.CLEU172700"}]
[{"$f":"IFERROR(IF(OR(ISTEXT(RTD(\"cqg.rtd\",,\"OrderData\",\"\"&B236&\"\",\"\",\"OpenPosition\",\"\"&Display2!$D$3&\"\")),RTD(\"cqg.rtd\",,\"OrderData\",\"\"&B236&\"\",\"\",\"OpenPosition\",\"\"&Display2!$D$3&\"\")=0),A235+0.001,INT(A235)+1),A235)","v":0.23600000000000018},{"$f":"(LEFT(B235,SEARCH(Display2!$G$2,B235)+LEN(Display2!$G$2)+2))&RIGHT(B235,LEN(B235)-(SEARCH(Display2!$G$2,B235)+LEN(Display2!$G$2)+2))-Display2!$J$3","v":"C.US.CLEU172650"}]
[{"$f":"IFERROR(IF(OR(ISTEXT(RTD(\"cqg.rtd\",,\"OrderData\",\"\"&B237&\"\",\"\",\"OpenPosition\",\"\"&Display2!$D$3&\"\")),RTD(\"cqg.rtd\",,\"OrderData\",\"\"&B237&\"\",\"\",\"OpenPosition\",\"\"&Display2!$D$3&\"\")=0),A236+0.001,INT(A236)+1),A236)","v":0.23700000000000018},{"$f":"(LEFT(B236,SEARCH(Display2!$G$2,B236)+LEN(Display2!$G$2)+2))&RIGHT(B236,LEN(B236)-(SEARCH(Display2!$G$2,B236)+LEN(Display2!$G$2)+2))-Display2!$J$3","v":"C.US.CLEU172600"}]
[{"$f":"IFERROR(IF(OR(ISTEXT(RTD(\"cqg.rtd\",,\"OrderData\",\"\"&B238&\"\",\"\",\"OpenPosition\",\"\"&Display2!$D$3&\"\")),RTD(\"cqg.rtd\",,\"OrderData\",\"\"&B238&\"\",\"\",\"OpenPosition\",\"\"&Display2!$D$3&\"\")=0),A237+0.001,INT(A237)+1),A237)","v":0.23800000000000018},{"$f":"(LEFT(B237,SEARCH(Display2!$G$2,B237)+LEN(Display2!$G$2)+2))&RIGHT(B237,LEN(B237)-(SEARCH(Display2!$G$2,B237)+LEN(Display2!$G$2)+2))-Display2!$J$3","v":"C.US.CLEU172550"}]
[{"$f":"IFERROR(IF(OR(ISTEXT(RTD(\"cqg.rtd\",,\"OrderData\",\"\"&B239&\"\",\"\",\"OpenPosition\",\"\"&Display2!$D$3&\"\")),RTD(\"cqg.rtd\",,\"OrderData\",\"\"&B239&\"\",\"\",\"OpenPosition\",\"\"&Display2!$D$3&\"\")=0),A238+0.001,INT(A238)+1),A238)","v":0.23900000000000018},{"$f":"(LEFT(B238,SEARCH(Display2!$G$2,B238)+LEN(Display2!$G$2)+2))&RIGHT(B238,LEN(B238)-(SEARCH(Display2!$G$2,B238)+LEN(Display2!$G$2)+2))-Display2!$J$3","v":"C.US.CLEU172500"}]
[{"$f":"IFERROR(IF(OR(ISTEXT(RTD(\"cqg.rtd\",,\"OrderData\",\"\"&B240&\"\",\"\",\"OpenPosition\",\"\"&Display2!$D$3&\"\")),RTD(\"cqg.rtd\",,\"OrderData\",\"\"&B240&\"\",\"\",\"OpenPosition\",\"\"&Display2!$D$3&\"\")=0),A239+0.001,INT(A239)+1),A239)","v":0.24000000000000019},{"$f":"(LEFT(B239,SEARCH(Display2!$G$2,B239)+LEN(Display2!$G$2)+2))&RIGHT(B239,LEN(B239)-(SEARCH(Display2!$G$2,B239)+LEN(Display2!$G$2)+2))-Display2!$J$3","v":"C.US.CLEU172450"}]
[{"$f":"IFERROR(IF(OR(ISTEXT(RTD(\"cqg.rtd\",,\"OrderData\",\"\"&B241&\"\",\"\",\"OpenPosition\",\"\"&Display2!$D$3&\"\")),RTD(\"cqg.rtd\",,\"OrderData\",\"\"&B241&\"\",\"\",\"OpenPosition\",\"\"&Display2!$D$3&\"\")=0),A240+0.001,INT(A240)+1),A240)","v":0.24100000000000019},{"$f":"(LEFT(B240,SEARCH(Display2!$G$2,B240)+LEN(Display2!$G$2)+2))&RIGHT(B240,LEN(B240)-(SEARCH(Display2!$G$2,B240)+LEN(Display2!$G$2)+2))-Display2!$J$3","v":"C.US.CLEU172400"}]
[{"$f":"IFERROR(IF(OR(ISTEXT(RTD(\"cqg.rtd\",,\"OrderData\",\"\"&B242&\"\",\"\",\"OpenPosition\",\"\"&Display2!$D$3&\"\")),RTD(\"cqg.rtd\",,\"OrderData\",\"\"&B242&\"\",\"\",\"OpenPosition\",\"\"&Display2!$D$3&\"\")=0),A241+0.001,INT(A241)+1),A241)","v":0.24200000000000019},{"$f":"(LEFT(B241,SEARCH(Display2!$G$2,B241)+LEN(Display2!$G$2)+2))&RIGHT(B241,LEN(B241)-(SEARCH(Display2!$G$2,B241)+LEN(Display2!$G$2)+2))-Display2!$J$3","v":"C.US.CLEU172350"}]
[{"$f":"IFERROR(IF(OR(ISTEXT(RTD(\"cqg.rtd\",,\"OrderData\",\"\"&B243&\"\",\"\",\"OpenPosition\",\"\"&Display2!$D$3&\"\")),RTD(\"cqg.rtd\",,\"OrderData\",\"\"&B243&\"\",\"\",\"OpenPosition\",\"\"&Display2!$D$3&\"\")=0),A242+0.001,INT(A242)+1),A242)","v":0.24300000000000019},{"$f":"(LEFT(B244,SEARCH(Display2!$G$2,B244)+LEN(Display2!$G$2)+2))&RIGHT(B244,LEN(B244)-(SEARCH(Display2!$G$2,B244)+LEN(Display2!$G$2)+2))+Display2!$J$3","v":"P.US.CLEU176350"}]
[{"$f":"IFERROR(IF(OR(ISTEXT(RTD(\"cqg.rtd\",,\"OrderData\",\"\"&B244&\"\",\"\",\"OpenPosition\",\"\"&Display2!$D$3&\"\")),RTD(\"cqg.rtd\",,\"OrderData\",\"\"&B244&\"\",\"\",\"OpenPosition\",\"\"&Display2!$D$3&\"\")=0),A243+0.001,INT(A243)+1),A243)","v":0.24400000000000019},{"$f":"(LEFT(B245,SEARCH(Display2!$G$2,B245)+LEN(Display2!$G$2)+2))&RIGHT(B245,LEN(B245)-(SEARCH(Display2!$G$2,B245)+LEN(Display2!$G$2)+2))+Display2!$J$3","v":"P.US.CLEU176300"}]
[{"$f":"IFERROR(IF(OR(ISTEXT(RTD(\"cqg.rtd\",,\"OrderData\",\"\"&B245&\"\",\"\",\"OpenPosition\",\"\"&Display2!$D$3&\"\")),RTD(\"cqg.rtd\",,\"OrderData\",\"\"&B245&\"\",\"\",\"OpenPosition\",\"\"&Display2!$D$3&\"\")=0),A244+0.001,INT(A244)+1),A244)","v":0.24500000000000019},{"$f":"(LEFT(B246,SEARCH(Display2!$G$2,B246)+LEN(Display2!$G$2)+2))&RIGHT(B246,LEN(B246)-(SEARCH(Display2!$G$2,B246)+LEN(Display2!$G$2)+2))+Display2!$J$3","v":"P.US.CLEU176250"}]
[{"$f":"IFERROR(IF(OR(ISTEXT(RTD(\"cqg.rtd\",,\"OrderData\",\"\"&B246&\"\",\"\",\"OpenPosition\",\"\"&Display2!$D$3&\"\")),RTD(\"cqg.rtd\",,\"OrderData\",\"\"&B246&\"\",\"\",\"OpenPosition\",\"\"&Display2!$D$3&\"\")=0),A245+0.001,INT(A245)+1),A245)","v":0.24600000000000019},{"$f":"(LEFT(B247,SEARCH(Display2!$G$2,B247)+LEN(Display2!$G$2)+2))&RIGHT(B247,LEN(B247)-(SEARCH(Display2!$G$2,B247)+LEN(Display2!$G$2)+2))+Display2!$J$3","v":"P.US.CLEU176200"}]
[{"$f":"IFERROR(IF(OR(ISTEXT(RTD(\"cqg.rtd\",,\"OrderData\",\"\"&B247&\"\",\"\",\"OpenPosition\",\"\"&Display2!$D$3&\"\")),RTD(\"cqg.rtd\",,\"OrderData\",\"\"&B247&\"\",\"\",\"OpenPosition\",\"\"&Display2!$D$3&\"\")=0),A246+0.001,INT(A246)+1),A246)","v":0.24700000000000019},{"$f":"(LEFT(B248,SEARCH(Display2!$G$2,B248)+LEN(Display2!$G$2)+2))&RIGHT(B248,LEN(B248)-(SEARCH(Display2!$G$2,B248)+LEN(Display2!$G$2)+2))+Display2!$J$3","v":"P.US.CLEU176150"}]
[{"$f":"IFERROR(IF(OR(ISTEXT(RTD(\"cqg.rtd\",,\"OrderData\",\"\"&B248&\"\",\"\",\"OpenPosition\",\"\"&Display2!$D$3&\"\")),RTD(\"cqg.rtd\",,\"OrderData\",\"\"&B248&\"\",\"\",\"OpenPosition\",\"\"&Display2!$D$3&\"\")=0),A247+0.001,INT(A247)+1),A247)","v":0.24800000000000019},{"$f":"(LEFT(B249,SEARCH(Display2!$G$2,B249)+LEN(Display2!$G$2)+2))&RIGHT(B249,LEN(B249)-(SEARCH(Display2!$G$2,B249)+LEN(Display2!$G$2)+2))+Display2!$J$3","v":"P.US.CLEU176100"}]
[{"$f":"IFERROR(IF(OR(ISTEXT(RTD(\"cqg.rtd\",,\"OrderData\",\"\"&B249&\"\",\"\",\"OpenPosition\",\"\"&Display2!$D$3&\"\")),RTD(\"cqg.rtd\",,\"OrderData\",\"\"&B249&\"\",\"\",\"OpenPosition\",\"\"&Display2!$D$3&\"\")=0),A248+0.001,INT(A248)+1),A248)","v":0.24900000000000019},{"$f":"(LEFT(B250,SEARCH(Display2!$G$2,B250)+LEN(Display2!$G$2)+2))&RIGHT(B250,LEN(B250)-(SEARCH(Display2!$G$2,B250)+LEN(Display2!$G$2)+2))+Display2!$J$3","v":"P.US.CLEU176050"}]
[{"$f":"IFERROR(IF(OR(ISTEXT(RTD(\"cqg.rtd\",,\"OrderData\",\"\"&B250&\"\",\"\",\"OpenPosition\",\"\"&Display2!$D$3&\"\")),RTD(\"cqg.rtd\",,\"OrderData\",\"\"&B250&\"\",\"\",\"OpenPosition\",\"\"&Display2!$D$3&\"\")=0),A249+0.001,INT(A249)+1),A249)","v":0.25000000000000017},{"$f":"(LEFT(B251,SEARCH(Display2!$G$2,B251)+LEN(Display2!$G$2)+2))&RIGHT(B251,LEN(B251)-(SEARCH(Display2!$G$2,B251)+LEN(Display2!$G$2)+2))+Display2!$J$3","v":"P.US.CLEU176000"}]
[{"$f":"IFERROR(IF(OR(ISTEXT(RTD(\"cqg.rtd\",,\"OrderData\",\"\"&B251&\"\",\"\",\"OpenPosition\",\"\"&Display2!$D$3&\"\")),RTD(\"cqg.rtd\",,\"OrderData\",\"\"&B251&\"\",\"\",\"OpenPosition\",\"\"&Display2!$D$3&\"\")=0),A250+0.001,INT(A250)+1),A250)","v":0.25100000000000017},{"$f":"(LEFT(B252,SEARCH(Display2!$G$2,B252)+LEN(Display2!$G$2)+2))&RIGHT(B252,LEN(B252)-(SEARCH(Display2!$G$2,B252)+LEN(Display2!$G$2)+2))+Display2!$J$3","v":"P.US.CLEU175950"}]
[{"$f":"IFERROR(IF(OR(ISTEXT(RTD(\"cqg.rtd\",,\"OrderData\",\"\"&B252&\"\",\"\",\"OpenPosition\",\"\"&Display2!$D$3&\"\")),RTD(\"cqg.rtd\",,\"OrderData\",\"\"&B252&\"\",\"\",\"OpenPosition\",\"\"&Display2!$D$3&\"\")=0),A251+0.001,INT(A251)+1),A251)","v":0.25200000000000017},{"$f":"(LEFT(B253,SEARCH(Display2!$G$2,B253)+LEN(Display2!$G$2)+2))&RIGHT(B253,LEN(B253)-(SEARCH(Display2!$G$2,B253)+LEN(Display2!$G$2)+2))+Display2!$J$3","v":"P.US.CLEU175900"}]
[{"$f":"IFERROR(IF(OR(ISTEXT(RTD(\"cqg.rtd\",,\"OrderData\",\"\"&B253&\"\",\"\",\"OpenPosition\",\"\"&Display2!$D$3&\"\")),RTD(\"cqg.rtd\",,\"OrderData\",\"\"&B253&\"\",\"\",\"OpenPosition\",\"\"&Display2!$D$3&\"\")=0),A252+0.001,INT(A252)+1),A252)","v":0.25300000000000017},{"$f":"(LEFT(B254,SEARCH(Display2!$G$2,B254)+LEN(Display2!$G$2)+2))&RIGHT(B254,LEN(B254)-(SEARCH(Display2!$G$2,B254)+LEN(Display2!$G$2)+2))+Display2!$J$3","v":"P.US.CLEU175850"}]
[{"$f":"IFERROR(IF(OR(ISTEXT(RTD(\"cqg.rtd\",,\"OrderData\",\"\"&B254&\"\",\"\",\"OpenPosition\",\"\"&Display2!$D$3&\"\")),RTD(\"cqg.rtd\",,\"OrderData\",\"\"&B254&\"\",\"\",\"OpenPosition\",\"\"&Display2!$D$3&\"\")=0),A253+0.001,INT(A253)+1),A253)","v":0.25400000000000017},{"$f":"(LEFT(B255,SEARCH(Display2!$G$2,B255)+LEN(Display2!$G$2)+2))&RIGHT(B255,LEN(B255)-(SEARCH(Display2!$G$2,B255)+LEN(Display2!$G$2)+2))+Display2!$J$3","v":"P.US.CLEU175800"}]
[{"$f":"IFERROR(IF(OR(ISTEXT(RTD(\"cqg.rtd\",,\"OrderData\",\"\"&B255&\"\",\"\",\"OpenPosition\",\"\"&Display2!$D$3&\"\")),RTD(\"cqg.rtd\",,\"OrderData\",\"\"&B255&\"\",\"\",\"OpenPosition\",\"\"&Display2!$D$3&\"\")=0),A254+0.001,INT(A254)+1),A254)","v":0.25500000000000017},{"$f":"(LEFT(B256,SEARCH(Display2!$G$2,B256)+LEN(Display2!$G$2)+2))&RIGHT(B256,LEN(B256)-(SEARCH(Display2!$G$2,B256)+LEN(Display2!$G$2)+2))+Display2!$J$3","v":"P.US.CLEU175750"}]
[{"$f":"IFERROR(IF(OR(ISTEXT(RTD(\"cqg.rtd\",,\"OrderData\",\"\"&B256&\"\",\"\",\"OpenPosition\",\"\"&Display2!$D$3&\"\")),RTD(\"cqg.rtd\",,\"OrderData\",\"\"&B256&\"\",\"\",\"OpenPosition\",\"\"&Display2!$D$3&\"\")=0),A255+0.001,INT(A255)+1),A255)","v":0.25600000000000017},{"$f":"(LEFT(B257,SEARCH(Display2!$G$2,B257)+LEN(Display2!$G$2)+2))&RIGHT(B257,LEN(B257)-(SEARCH(Display2!$G$2,B257)+LEN(Display2!$G$2)+2))+Display2!$J$3","v":"P.US.CLEU175700"}]
[{"$f":"IFERROR(IF(OR(ISTEXT(RTD(\"cqg.rtd\",,\"OrderData\",\"\"&B257&\"\",\"\",\"OpenPosition\",\"\"&Display2!$D$3&\"\")),RTD(\"cqg.rtd\",,\"OrderData\",\"\"&B257&\"\",\"\",\"OpenPosition\",\"\"&Display2!$D$3&\"\")=0),A256+0.001,INT(A256)+1),A256)","v":0.25700000000000017},{"$f":"(LEFT(B258,SEARCH(Display2!$G$2,B258)+LEN(Display2!$G$2)+2))&RIGHT(B258,LEN(B258)-(SEARCH(Display2!$G$2,B258)+LEN(Display2!$G$2)+2))+Display2!$J$3","v":"P.US.CLEU175650"}]
[{"$f":"IFERROR(IF(OR(ISTEXT(RTD(\"cqg.rtd\",,\"OrderData\",\"\"&B258&\"\",\"\",\"OpenPosition\",\"\"&Display2!$D$3&\"\")),RTD(\"cqg.rtd\",,\"OrderData\",\"\"&B258&\"\",\"\",\"OpenPosition\",\"\"&Display2!$D$3&\"\")=0),A257+0.001,INT(A257)+1),A257)","v":0.25800000000000017},{"$f":"(LEFT(B259,SEARCH(Display2!$G$2,B259)+LEN(Display2!$G$2)+2))&RIGHT(B259,LEN(B259)-(SEARCH(Display2!$G$2,B259)+LEN(Display2!$G$2)+2))+Display2!$J$3","v":"P.US.CLEU175600"}]
[{"$f":"IFERROR(IF(OR(ISTEXT(RTD(\"cqg.rtd\",,\"OrderData\",\"\"&B259&\"\",\"\",\"OpenPosition\",\"\"&Display2!$D$3&\"\")),RTD(\"cqg.rtd\",,\"OrderData\",\"\"&B259&\"\",\"\",\"OpenPosition\",\"\"&Display2!$D$3&\"\")=0),A258+0.001,INT(A258)+1),A258)","v":0.25900000000000017},{"$f":"(LEFT(B260,SEARCH(Display2!$G$2,B260)+LEN(Display2!$G$2)+2))&RIGHT(B260,LEN(B260)-(SEARCH(Display2!$G$2,B260)+LEN(Display2!$G$2)+2))+Display2!$J$3","v":"P.US.CLEU175550"}]
[{"$f":"IFERROR(IF(OR(ISTEXT(RTD(\"cqg.rtd\",,\"OrderData\",\"\"&B260&\"\",\"\",\"OpenPosition\",\"\"&Display2!$D$3&\"\")),RTD(\"cqg.rtd\",,\"OrderData\",\"\"&B260&\"\",\"\",\"OpenPosition\",\"\"&Display2!$D$3&\"\")=0),A259+0.001,INT(A259)+1),A259)","v":0.26000000000000018},{"$f":"(LEFT(B261,SEARCH(Display2!$G$2,B261)+LEN(Display2!$G$2)+2))&RIGHT(B261,LEN(B261)-(SEARCH(Display2!$G$2,B261)+LEN(Display2!$G$2)+2))+Display2!$J$3","v":"P.US.CLEU175500"}]
[{"$f":"IFERROR(IF(OR(ISTEXT(RTD(\"cqg.rtd\",,\"OrderData\",\"\"&B261&\"\",\"\",\"OpenPosition\",\"\"&Display2!$D$3&\"\")),RTD(\"cqg.rtd\",,\"OrderData\",\"\"&B261&\"\",\"\",\"OpenPosition\",\"\"&Display2!$D$3&\"\")=0),A260+0.001,INT(A260)+1),A260)","v":0.26100000000000018},{"$f":"(LEFT(B262,SEARCH(Display2!$G$2,B262)+LEN(Display2!$G$2)+2))&RIGHT(B262,LEN(B262)-(SEARCH(Display2!$G$2,B262)+LEN(Display2!$G$2)+2))+Display2!$J$3","v":"P.US.CLEU175450"}]
[{"$f":"IFERROR(IF(OR(ISTEXT(RTD(\"cqg.rtd\",,\"OrderData\",\"\"&B262&\"\",\"\",\"OpenPosition\",\"\"&Display2!$D$3&\"\")),RTD(\"cqg.rtd\",,\"OrderData\",\"\"&B262&\"\",\"\",\"OpenPosition\",\"\"&Display2!$D$3&\"\")=0),A261+0.001,INT(A261)+1),A261)","v":0.26200000000000018},{"$f":"(LEFT(B263,SEARCH(Display2!$G$2,B263)+LEN(Display2!$G$2)+2))&RIGHT(B263,LEN(B263)-(SEARCH(Display2!$G$2,B263)+LEN(Display2!$G$2)+2))+Display2!$J$3","v":"P.US.CLEU175400"}]
[{"$f":"IFERROR(IF(OR(ISTEXT(RTD(\"cqg.rtd\",,\"OrderData\",\"\"&B263&\"\",\"\",\"OpenPosition\",\"\"&Display2!$D$3&\"\")),RTD(\"cqg.rtd\",,\"OrderData\",\"\"&B263&\"\",\"\",\"OpenPosition\",\"\"&Display2!$D$3&\"\")=0),A262+0.001,INT(A262)+1),A262)","v":0.26300000000000018},{"$f":"(LEFT(B264,SEARCH(Display2!$G$2,B264)+LEN(Display2!$G$2)+2))&RIGHT(B264,LEN(B264)-(SEARCH(Display2!$G$2,B264)+LEN(Display2!$G$2)+2))+Display2!$J$3","v":"P.US.CLEU175350"}]
[{"$f":"IFERROR(IF(OR(ISTEXT(RTD(\"cqg.rtd\",,\"OrderData\",\"\"&B264&\"\",\"\",\"OpenPosition\",\"\"&Display2!$D$3&\"\")),RTD(\"cqg.rtd\",,\"OrderData\",\"\"&B264&\"\",\"\",\"OpenPosition\",\"\"&Display2!$D$3&\"\")=0),A263+0.001,INT(A263)+1),A263)","v":0.26400000000000018},{"$f":"(LEFT(B265,SEARCH(Display2!$G$2,B265)+LEN(Display2!$G$2)+2))&RIGHT(B265,LEN(B265)-(SEARCH(Display2!$G$2,B265)+LEN(Display2!$G$2)+2))+Display2!$J$3","v":"P.US.CLEU175300"}]
[{"$f":"IFERROR(IF(OR(ISTEXT(RTD(\"cqg.rtd\",,\"OrderData\",\"\"&B265&\"\",\"\",\"OpenPosition\",\"\"&Display2!$D$3&\"\")),RTD(\"cqg.rtd\",,\"OrderData\",\"\"&B265&\"\",\"\",\"OpenPosition\",\"\"&Display2!$D$3&\"\")=0),A264+0.001,INT(A264)+1),A264)","v":0.26500000000000018},{"$f":"(LEFT(B266,SEARCH(Display2!$G$2,B266)+LEN(Display2!$G$2)+2))&RIGHT(B266,LEN(B266)-(SEARCH(Display2!$G$2,B266)+LEN(Display2!$G$2)+2))+Display2!$J$3","v":"P.US.CLEU175250"}]
[{"$f":"IFERROR(IF(OR(ISTEXT(RTD(\"cqg.rtd\",,\"OrderData\",\"\"&B266&\"\",\"\",\"OpenPosition\",\"\"&Display2!$D$3&\"\")),RTD(\"cqg.rtd\",,\"OrderData\",\"\"&B266&\"\",\"\",\"OpenPosition\",\"\"&Display2!$D$3&\"\")=0),A265+0.001,INT(A265)+1),A265)","v":0.26600000000000018},{"$f":"(LEFT(B267,SEARCH(Display2!$G$2,B267)+LEN(Display2!$G$2)+2))&RIGHT(B267,LEN(B267)-(SEARCH(Display2!$G$2,B267)+LEN(Display2!$G$2)+2))+Display2!$J$3","v":"P.US.CLEU175200"}]
[{"$f":"IFERROR(IF(OR(ISTEXT(RTD(\"cqg.rtd\",,\"OrderData\",\"\"&B267&\"\",\"\",\"OpenPosition\",\"\"&Display2!$D$3&\"\")),RTD(\"cqg.rtd\",,\"OrderData\",\"\"&B267&\"\",\"\",\"OpenPosition\",\"\"&Display2!$D$3&\"\")=0),A266+0.001,INT(A266)+1),A266)","v":0.26700000000000018},{"$f":"(LEFT(B268,SEARCH(Display2!$G$2,B268)+LEN(Display2!$G$2)+2))&RIGHT(B268,LEN(B268)-(SEARCH(Display2!$G$2,B268)+LEN(Display2!$G$2)+2))+Display2!$J$3","v":"P.US.CLEU175150"}]
[{"$f":"IFERROR(IF(OR(ISTEXT(RTD(\"cqg.rtd\",,\"OrderData\",\"\"&B268&\"\",\"\",\"OpenPosition\",\"\"&Display2!$D$3&\"\")),RTD(\"cqg.rtd\",,\"OrderData\",\"\"&B268&\"\",\"\",\"OpenPosition\",\"\"&Display2!$D$3&\"\")=0),A267+0.001,INT(A267)+1),A267)","v":0.26800000000000018},{"$f":"(LEFT(B269,SEARCH(Display2!$G$2,B269)+LEN(Display2!$G$2)+2))&RIGHT(B269,LEN(B269)-(SEARCH(Display2!$G$2,B269)+LEN(Display2!$G$2)+2))+Display2!$J$3","v":"P.US.CLEU175100"}]
[{"$f":"IFERROR(IF(OR(ISTEXT(RTD(\"cqg.rtd\",,\"OrderData\",\"\"&B269&\"\",\"\",\"OpenPosition\",\"\"&Display2!$D$3&\"\")),RTD(\"cqg.rtd\",,\"OrderData\",\"\"&B269&\"\",\"\",\"OpenPosition\",\"\"&Display2!$D$3&\"\")=0),A268+0.001,INT(A268)+1),A268)","v":0.26900000000000018},{"$f":"(LEFT(B270,SEARCH(Display2!$G$2,B270)+LEN(Display2!$G$2)+2))&RIGHT(B270,LEN(B270)-(SEARCH(Display2!$G$2,B270)+LEN(Display2!$G$2)+2))+Display2!$J$3","v":"P.US.CLEU175050"}]
[{"$f":"IFERROR(IF(OR(ISTEXT(RTD(\"cqg.rtd\",,\"OrderData\",\"\"&B270&\"\",\"\",\"OpenPosition\",\"\"&Display2!$D$3&\"\")),RTD(\"cqg.rtd\",,\"OrderData\",\"\"&B270&\"\",\"\",\"OpenPosition\",\"\"&Display2!$D$3&\"\")=0),A269+0.001,INT(A269)+1),A269)","v":0.27000000000000018},{"$f":"(LEFT(B271,SEARCH(Display2!$G$2,B271)+LEN(Display2!$G$2)+2))&RIGHT(B271,LEN(B271)-(SEARCH(Display2!$G$2,B271)+LEN(Display2!$G$2)+2))+Display2!$J$3","v":"P.US.CLEU175000"}]
[{"$f":"IFERROR(IF(OR(ISTEXT(RTD(\"cqg.rtd\",,\"OrderData\",\"\"&B271&\"\",\"\",\"OpenPosition\",\"\"&Display2!$D$3&\"\")),RTD(\"cqg.rtd\",,\"OrderData\",\"\"&B271&\"\",\"\",\"OpenPosition\",\"\"&Display2!$D$3&\"\")=0),A270+0.001,INT(A270)+1),A270)","v":0.27100000000000019},{"$f":"(LEFT(B272,SEARCH(Display2!$G$2,B272)+LEN(Display2!$G$2)+2))&RIGHT(B272,LEN(B272)-(SEARCH(Display2!$G$2,B272)+LEN(Display2!$G$2)+2))+Display2!$J$3","v":"P.US.CLEU174950"}]
[{"$f":"IFERROR(IF(OR(ISTEXT(RTD(\"cqg.rtd\",,\"OrderData\",\"\"&B272&\"\",\"\",\"OpenPosition\",\"\"&Display2!$D$3&\"\")),RTD(\"cqg.rtd\",,\"OrderData\",\"\"&B272&\"\",\"\",\"OpenPosition\",\"\"&Display2!$D$3&\"\")=0),A271+0.001,INT(A271)+1),A271)","v":0.27200000000000019},{"$f":"(LEFT(B273,SEARCH(Display2!$G$2,B273)+LEN(Display2!$G$2)+2))&RIGHT(B273,LEN(B273)-(SEARCH(Display2!$G$2,B273)+LEN(Display2!$G$2)+2))+Display2!$J$3","v":"P.US.CLEU174900"}]
[{"$f":"IFERROR(IF(OR(ISTEXT(RTD(\"cqg.rtd\",,\"OrderData\",\"\"&B273&\"\",\"\",\"OpenPosition\",\"\"&Display2!$D$3&\"\")),RTD(\"cqg.rtd\",,\"OrderData\",\"\"&B273&\"\",\"\",\"OpenPosition\",\"\"&Display2!$D$3&\"\")=0),A272+0.001,INT(A272)+1),A272)","v":0.27300000000000019},{"$f":"(LEFT(B274,SEARCH(Display2!$G$2,B274)+LEN(Display2!$G$2)+2))&RIGHT(B274,LEN(B274)-(SEARCH(Display2!$G$2,B274)+LEN(Display2!$G$2)+2))+Display2!$J$3","v":"P.US.CLEU174850"}]
[{"$f":"IFERROR(IF(OR(ISTEXT(RTD(\"cqg.rtd\",,\"OrderData\",\"\"&B274&\"\",\"\",\"OpenPosition\",\"\"&Display2!$D$3&\"\")),RTD(\"cqg.rtd\",,\"OrderData\",\"\"&B274&\"\",\"\",\"OpenPosition\",\"\"&Display2!$D$3&\"\")=0),A273+0.001,INT(A273)+1),A273)","v":0.27400000000000019},{"$f":"(LEFT(B275,SEARCH(Display2!$G$2,B275)+LEN(Display2!$G$2)+2))&RIGHT(B275,LEN(B275)-(SEARCH(Display2!$G$2,B275)+LEN(Display2!$G$2)+2))+Display2!$J$3","v":"P.US.CLEU174800"}]
[{"$f":"IFERROR(IF(OR(ISTEXT(RTD(\"cqg.rtd\",,\"OrderData\",\"\"&B275&\"\",\"\",\"OpenPosition\",\"\"&Display2!$D$3&\"\")),RTD(\"cqg.rtd\",,\"OrderData\",\"\"&B275&\"\",\"\",\"OpenPosition\",\"\"&Display2!$D$3&\"\")=0),A274+0.001,INT(A274)+1),A274)","v":0.27500000000000019},{"$f":"(LEFT(B276,SEARCH(Display2!$G$2,B276)+LEN(Display2!$G$2)+2))&RIGHT(B276,LEN(B276)-(SEARCH(Display2!$G$2,B276)+LEN(Display2!$G$2)+2))+Display2!$J$3","v":"P.US.CLEU174750"}]
[{"$f":"IFERROR(IF(OR(ISTEXT(RTD(\"cqg.rtd\",,\"OrderData\",\"\"&B276&\"\",\"\",\"OpenPosition\",\"\"&Display2!$D$3&\"\")),RTD(\"cqg.rtd\",,\"OrderData\",\"\"&B276&\"\",\"\",\"OpenPosition\",\"\"&Display2!$D$3&\"\")=0),A275+0.001,INT(A275)+1),A275)","v":0.27600000000000019},{"$f":"(LEFT(B277,SEARCH(Display2!$G$2,B277)+LEN(Display2!$G$2)+2))&RIGHT(B277,LEN(B277)-(SEARCH(Display2!$G$2,B277)+LEN(Display2!$G$2)+2))+Display2!$J$3","v":"P.US.CLEU174700"}]
[{"$f":"IFERROR(IF(OR(ISTEXT(RTD(\"cqg.rtd\",,\"OrderData\",\"\"&B277&\"\",\"\",\"OpenPosition\",\"\"&Display2!$D$3&\"\")),RTD(\"cqg.rtd\",,\"OrderData\",\"\"&B277&\"\",\"\",\"OpenPosition\",\"\"&Display2!$D$3&\"\")=0),A276+0.001,INT(A276)+1),A276)","v":0.27700000000000019},{"$f":"(LEFT(B278,SEARCH(Display2!$G$2,B278)+LEN(Display2!$G$2)+2))&RIGHT(B278,LEN(B278)-(SEARCH(Display2!$G$2,B278)+LEN(Display2!$G$2)+2))+Display2!$J$3","v":"P.US.CLEU174650"}]
[{"$f":"IFERROR(IF(OR(ISTEXT(RTD(\"cqg.rtd\",,\"OrderData\",\"\"&B278&\"\",\"\",\"OpenPosition\",\"\"&Display2!$D$3&\"\")),RTD(\"cqg.rtd\",,\"OrderData\",\"\"&B278&\"\",\"\",\"OpenPosition\",\"\"&Display2!$D$3&\"\")=0),A277+0.001,INT(A277)+1),A277)","v":0.27800000000000019},{"$f":"(LEFT(B279,SEARCH(Display2!$G$2,B279)+LEN(Display2!$G$2)+2))&RIGHT(B279,LEN(B279)-(SEARCH(Display2!$G$2,B279)+LEN(Display2!$G$2)+2))+Display2!$J$3","v":"P.US.CLEU174600"}]
[{"$f":"IFERROR(IF(OR(ISTEXT(RTD(\"cqg.rtd\",,\"OrderData\",\"\"&B279&\"\",\"\",\"OpenPosition\",\"\"&Display2!$D$3&\"\")),RTD(\"cqg.rtd\",,\"OrderData\",\"\"&B279&\"\",\"\",\"OpenPosition\",\"\"&Display2!$D$3&\"\")=0),A278+0.001,INT(A278)+1),A278)","v":0.27900000000000019},{"$f":"(LEFT(B280,SEARCH(Display2!$G$2,B280)+LEN(Display2!$G$2)+2))&RIGHT(B280,LEN(B280)-(SEARCH(Display2!$G$2,B280)+LEN(Display2!$G$2)+2))+Display2!$J$3","v":"P.US.CLEU174550"}]
[{"$f":"IFERROR(IF(OR(ISTEXT(RTD(\"cqg.rtd\",,\"OrderData\",\"\"&B280&\"\",\"\",\"OpenPosition\",\"\"&Display2!$D$3&\"\")),RTD(\"cqg.rtd\",,\"OrderData\",\"\"&B280&\"\",\"\",\"OpenPosition\",\"\"&Display2!$D$3&\"\")=0),A279+0.001,INT(A279)+1),A279)","v":0.28000000000000019},{"$f":"(LEFT(B281,SEARCH(Display2!$G$2,B281)+LEN(Display2!$G$2)+2))&RIGHT(B281,LEN(B281)-(SEARCH(Display2!$G$2,B281)+LEN(Display2!$G$2)+2))+Display2!$J$3","v":"P.US.CLEU174500"}]
[{"$f":"IFERROR(IF(OR(ISTEXT(RTD(\"cqg.rtd\",,\"OrderData\",\"\"&B281&\"\",\"\",\"OpenPosition\",\"\"&Display2!$D$3&\"\")),RTD(\"cqg.rtd\",,\"OrderData\",\"\"&B281&\"\",\"\",\"OpenPosition\",\"\"&Display2!$D$3&\"\")=0),A280+0.001,INT(A280)+1),A280)","v":0.28100000000000019},{"$f":"(LEFT(B282,SEARCH(Display2!$G$2,B282)+LEN(Display2!$G$2)+2))&RIGHT(B282,LEN(B282)-(SEARCH(Display2!$G$2,B282)+LEN(Display2!$G$2)+2))+Display2!$J$3","v":"P.US.CLEU174450"}]
[{"$f":"IFERROR(IF(OR(ISTEXT(RTD(\"cqg.rtd\",,\"OrderData\",\"\"&B282&\"\",\"\",\"OpenPosition\",\"\"&Display2!$D$3&\"\")),RTD(\"cqg.rtd\",,\"OrderData\",\"\"&B282&\"\",\"\",\"OpenPosition\",\"\"&Display2!$D$3&\"\")=0),A281+0.001,INT(A281)+1),A281)","v":0.28200000000000019},{"$f":"(LEFT(B283,SEARCH(Display2!$G$2,B283)+LEN(Display2!$G$2)+2))&RIGHT(B283,LEN(B283)-(SEARCH(Display2!$G$2,B283)+LEN(Display2!$G$2)+2))+Display2!$J$3","v":"P.US.CLEU174400"}]
[{"$f":"IFERROR(IF(OR(ISTEXT(RTD(\"cqg.rtd\",,\"OrderData\",\"\"&B283&\"\",\"\",\"OpenPosition\",\"\"&Display2!$D$3&\"\")),RTD(\"cqg.rtd\",,\"OrderData\",\"\"&B283&\"\",\"\",\"OpenPosition\",\"\"&Display2!$D$3&\"\")=0),A282+0.001,INT(A282)+1),A282)","v":0.2830000000000002},{"$f":"RTD(\"cqg.rtd\", ,\"ContractData\", \"P.US.\"&Display2!$G$2&Display2!$H$3&\"\", \"Symbol\",, \"T\")","v":"P.US.CLEU174350"}]
[{"$f":"IFERROR(IF(OR(ISTEXT(RTD(\"cqg.rtd\",,\"OrderData\",\"\"&B284&\"\",\"\",\"OpenPosition\",\"\"&Display2!$D$3&\"\")),RTD(\"cqg.rtd\",,\"OrderData\",\"\"&B284&\"\",\"\",\"OpenPosition\",\"\"&Display2!$D$3&\"\")=0),A283+0.001,INT(A283)+1),A283)","v":0.2840000000000002},{"$f":"(LEFT(B283,SEARCH(Display2!$G$2,B283)+LEN(Display2!$G$2)+2))&RIGHT(B283,LEN(B283)-(SEARCH(Display2!$G$2,B283)+LEN(Display2!$G$2)+2))-Display2!$J$3","v":"P.US.CLEU174300"}]
[{"$f":"IFERROR(IF(OR(ISTEXT(RTD(\"cqg.rtd\",,\"OrderData\",\"\"&B285&\"\",\"\",\"OpenPosition\",\"\"&Display2!$D$3&\"\")),RTD(\"cqg.rtd\",,\"OrderData\",\"\"&B285&\"\",\"\",\"OpenPosition\",\"\"&Display2!$D$3&\"\")=0),A284+0.001,INT(A284)+1),A284)","v":0.2850000000000002},{"$f":"(LEFT(B284,SEARCH(Display2!$G$2,B284)+LEN(Display2!$G$2)+2))&RIGHT(B284,LEN(B284)-(SEARCH(Display2!$G$2,B284)+LEN(Display2!$G$2)+2))-Display2!$J$3","v":"P.US.CLEU174250"}]
[{"$f":"IFERROR(IF(OR(ISTEXT(RTD(\"cqg.rtd\",,\"OrderData\",\"\"&B286&\"\",\"\",\"OpenPosition\",\"\"&Display2!$D$3&\"\")),RTD(\"cqg.rtd\",,\"OrderData\",\"\"&B286&\"\",\"\",\"OpenPosition\",\"\"&Display2!$D$3&\"\")=0),A285+0.001,INT(A285)+1),A285)","v":0.2860000000000002},{"$f":"(LEFT(B285,SEARCH(Display2!$G$2,B285)+LEN(Display2!$G$2)+2))&RIGHT(B285,LEN(B285)-(SEARCH(Display2!$G$2,B285)+LEN(Display2!$G$2)+2))-Display2!$J$3","v":"P.US.CLEU174200"}]
[{"$f":"IFERROR(IF(OR(ISTEXT(RTD(\"cqg.rtd\",,\"OrderData\",\"\"&B287&\"\",\"\",\"OpenPosition\",\"\"&Display2!$D$3&\"\")),RTD(\"cqg.rtd\",,\"OrderData\",\"\"&B287&\"\",\"\",\"OpenPosition\",\"\"&Display2!$D$3&\"\")=0),A286+0.001,INT(A286)+1),A286)","v":0.2870000000000002},{"$f":"(LEFT(B286,SEARCH(Display2!$G$2,B286)+LEN(Display2!$G$2)+2))&RIGHT(B286,LEN(B286)-(SEARCH(Display2!$G$2,B286)+LEN(Display2!$G$2)+2))-Display2!$J$3","v":"P.US.CLEU174150"}]
[{"$f":"IFERROR(IF(OR(ISTEXT(RTD(\"cqg.rtd\",,\"OrderData\",\"\"&B288&\"\",\"\",\"OpenPosition\",\"\"&Display2!$D$3&\"\")),RTD(\"cqg.rtd\",,\"OrderData\",\"\"&B288&\"\",\"\",\"OpenPosition\",\"\"&Display2!$D$3&\"\")=0),A287+0.001,INT(A287)+1),A287)","v":0.2880000000000002},{"$f":"(LEFT(B287,SEARCH(Display2!$G$2,B287)+LEN(Display2!$G$2)+2))&RIGHT(B287,LEN(B287)-(SEARCH(Display2!$G$2,B287)+LEN(Display2!$G$2)+2))-Display2!$J$3","v":"P.US.CLEU174100"}]
[{"$f":"IFERROR(IF(OR(ISTEXT(RTD(\"cqg.rtd\",,\"OrderData\",\"\"&B289&\"\",\"\",\"OpenPosition\",\"\"&Display2!$D$3&\"\")),RTD(\"cqg.rtd\",,\"OrderData\",\"\"&B289&\"\",\"\",\"OpenPosition\",\"\"&Display2!$D$3&\"\")=0),A288+0.001,INT(A288)+1),A288)","v":0.2890000000000002},{"$f":"(LEFT(B288,SEARCH(Display2!$G$2,B288)+LEN(Display2!$G$2)+2))&RIGHT(B288,LEN(B288)-(SEARCH(Display2!$G$2,B288)+LEN(Display2!$G$2)+2))-Display2!$J$3","v":"P.US.CLEU174050"}]
[{"$f":"IFERROR(IF(OR(ISTEXT(RTD(\"cqg.rtd\",,\"OrderData\",\"\"&B290&\"\",\"\",\"OpenPosition\",\"\"&Display2!$D$3&\"\")),RTD(\"cqg.rtd\",,\"OrderData\",\"\"&B290&\"\",\"\",\"OpenPosition\",\"\"&Display2!$D$3&\"\")=0),A289+0.001,INT(A289)+1),A289)","v":0.2900000000000002},{"$f":"(LEFT(B289,SEARCH(Display2!$G$2,B289)+LEN(Display2!$G$2)+2))&RIGHT(B289,LEN(B289)-(SEARCH(Display2!$G$2,B289)+LEN(Display2!$G$2)+2))-Display2!$J$3","v":"P.US.CLEU174000"}]
[{"$f":"IFERROR(IF(OR(ISTEXT(RTD(\"cqg.rtd\",,\"OrderData\",\"\"&B291&\"\",\"\",\"OpenPosition\",\"\"&Display2!$D$3&\"\")),RTD(\"cqg.rtd\",,\"OrderData\",\"\"&B291&\"\",\"\",\"OpenPosition\",\"\"&Display2!$D$3&\"\")=0),A290+0.001,INT(A290)+1),A290)","v":0.2910000000000002},{"$f":"(LEFT(B290,SEARCH(Display2!$G$2,B290)+LEN(Display2!$G$2)+2))&RIGHT(B290,LEN(B290)-(SEARCH(Display2!$G$2,B290)+LEN(Display2!$G$2)+2))-Display2!$J$3","v":"P.US.CLEU173950"}]
[{"$f":"IFERROR(IF(OR(ISTEXT(RTD(\"cqg.rtd\",,\"OrderData\",\"\"&B292&\"\",\"\",\"OpenPosition\",\"\"&Display2!$D$3&\"\")),RTD(\"cqg.rtd\",,\"OrderData\",\"\"&B292&\"\",\"\",\"OpenPosition\",\"\"&Display2!$D$3&\"\")=0),A291+0.001,INT(A291)+1),A291)","v":0.2920000000000002},{"$f":"(LEFT(B291,SEARCH(Display2!$G$2,B291)+LEN(Display2!$G$2)+2))&RIGHT(B291,LEN(B291)-(SEARCH(Display2!$G$2,B291)+LEN(Display2!$G$2)+2))-Display2!$J$3","v":"P.US.CLEU173900"}]
[{"$f":"IFERROR(IF(OR(ISTEXT(RTD(\"cqg.rtd\",,\"OrderData\",\"\"&B293&\"\",\"\",\"OpenPosition\",\"\"&Display2!$D$3&\"\")),RTD(\"cqg.rtd\",,\"OrderData\",\"\"&B293&\"\",\"\",\"OpenPosition\",\"\"&Display2!$D$3&\"\")=0),A292+0.001,INT(A292)+1),A292)","v":0.2930000000000002},{"$f":"(LEFT(B292,SEARCH(Display2!$G$2,B292)+LEN(Display2!$G$2)+2))&RIGHT(B292,LEN(B292)-(SEARCH(Display2!$G$2,B292)+LEN(Display2!$G$2)+2))-Display2!$J$3","v":"P.US.CLEU173850"}]
[{"$f":"IFERROR(IF(OR(ISTEXT(RTD(\"cqg.rtd\",,\"OrderData\",\"\"&B294&\"\",\"\",\"OpenPosition\",\"\"&Display2!$D$3&\"\")),RTD(\"cqg.rtd\",,\"OrderData\",\"\"&B294&\"\",\"\",\"OpenPosition\",\"\"&Display2!$D$3&\"\")=0),A293+0.001,INT(A293)+1),A293)","v":0.29400000000000021},{"$f":"(LEFT(B293,SEARCH(Display2!$G$2,B293)+LEN(Display2!$G$2)+2))&RIGHT(B293,LEN(B293)-(SEARCH(Display2!$G$2,B293)+LEN(Display2!$G$2)+2))-Display2!$J$3","v":"P.US.CLEU173800"}]
[{"$f":"IFERROR(IF(OR(ISTEXT(RTD(\"cqg.rtd\",,\"OrderData\",\"\"&B295&\"\",\"\",\"OpenPosition\",\"\"&Display2!$D$3&\"\")),RTD(\"cqg.rtd\",,\"OrderData\",\"\"&B295&\"\",\"\",\"OpenPosition\",\"\"&Display2!$D$3&\"\")=0),A294+0.001,INT(A294)+1),A294)","v":0.29500000000000021},{"$f":"(LEFT(B294,SEARCH(Display2!$G$2,B294)+LEN(Display2!$G$2)+2))&RIGHT(B294,LEN(B294)-(SEARCH(Display2!$G$2,B294)+LEN(Display2!$G$2)+2))-Display2!$J$3","v":"P.US.CLEU173750"}]
[{"$f":"IFERROR(IF(OR(ISTEXT(RTD(\"cqg.rtd\",,\"OrderData\",\"\"&B296&\"\",\"\",\"OpenPosition\",\"\"&Display2!$D$3&\"\")),RTD(\"cqg.rtd\",,\"OrderData\",\"\"&B296&\"\",\"\",\"OpenPosition\",\"\"&Display2!$D$3&\"\")=0),A295+0.001,INT(A295)+1),A295)","v":0.29600000000000021},{"$f":"(LEFT(B295,SEARCH(Display2!$G$2,B295)+LEN(Display2!$G$2)+2))&RIGHT(B295,LEN(B295)-(SEARCH(Display2!$G$2,B295)+LEN(Display2!$G$2)+2))-Display2!$J$3","v":"P.US.CLEU173700"}]
[{"$f":"IFERROR(IF(OR(ISTEXT(RTD(\"cqg.rtd\",,\"OrderData\",\"\"&B297&\"\",\"\",\"OpenPosition\",\"\"&Display2!$D$3&\"\")),RTD(\"cqg.rtd\",,\"OrderData\",\"\"&B297&\"\",\"\",\"OpenPosition\",\"\"&Display2!$D$3&\"\")=0),A296+0.001,INT(A296)+1),A296)","v":0.29700000000000021},{"$f":"(LEFT(B296,SEARCH(Display2!$G$2,B296)+LEN(Display2!$G$2)+2))&RIGHT(B296,LEN(B296)-(SEARCH(Display2!$G$2,B296)+LEN(Display2!$G$2)+2))-Display2!$J$3","v":"P.US.CLEU173650"}]
[{"$f":"IFERROR(IF(OR(ISTEXT(RTD(\"cqg.rtd\",,\"OrderData\",\"\"&B298&\"\",\"\",\"OpenPosition\",\"\"&Display2!$D$3&\"\")),RTD(\"cqg.rtd\",,\"OrderData\",\"\"&B298&\"\",\"\",\"OpenPosition\",\"\"&Display2!$D$3&\"\")=0),A297+0.001,INT(A297)+1),A297)","v":0.29800000000000021},{"$f":"(LEFT(B297,SEARCH(Display2!$G$2,B297)+LEN(Display2!$G$2)+2))&RIGHT(B297,LEN(B297)-(SEARCH(Display2!$G$2,B297)+LEN(Display2!$G$2)+2))-Display2!$J$3","v":"P.US.CLEU173600"}]
[{"$f":"IFERROR(IF(OR(ISTEXT(RTD(\"cqg.rtd\",,\"OrderData\",\"\"&B299&\"\",\"\",\"OpenPosition\",\"\"&Display2!$D$3&\"\")),RTD(\"cqg.rtd\",,\"OrderData\",\"\"&B299&\"\",\"\",\"OpenPosition\",\"\"&Display2!$D$3&\"\")=0),A298+0.001,INT(A298)+1),A298)","v":0.29900000000000021},{"$f":"(LEFT(B298,SEARCH(Display2!$G$2,B298)+LEN(Display2!$G$2)+2))&RIGHT(B298,LEN(B298)-(SEARCH(Display2!$G$2,B298)+LEN(Display2!$G$2)+2))-Display2!$J$3","v":"P.US.CLEU173550"}]
[{"$f":"IFERROR(IF(OR(ISTEXT(RTD(\"cqg.rtd\",,\"OrderData\",\"\"&B300&\"\",\"\",\"OpenPosition\",\"\"&Display2!$D$3&\"\")),RTD(\"cqg.rtd\",,\"OrderData\",\"\"&B300&\"\",\"\",\"OpenPosition\",\"\"&Display2!$D$3&\"\")=0),A299+0.001,INT(A299)+1),A299)","v":0.30000000000000021},{"$f":"(LEFT(B299,SEARCH(Display2!$G$2,B299)+LEN(Display2!$G$2)+2))&RIGHT(B299,LEN(B299)-(SEARCH(Display2!$G$2,B299)+LEN(Display2!$G$2)+2))-Display2!$J$3","v":"P.US.CLEU173500"}]
[{"$f":"IFERROR(IF(OR(ISTEXT(RTD(\"cqg.rtd\",,\"OrderData\",\"\"&B301&\"\",\"\",\"OpenPosition\",\"\"&Display2!$D$3&\"\")),RTD(\"cqg.rtd\",,\"OrderData\",\"\"&B301&\"\",\"\",\"OpenPosition\",\"\"&Display2!$D$3&\"\")=0),A300+0.001,INT(A300)+1),A300)","v":0.30100000000000021},{"$f":"(LEFT(B300,SEARCH(Display2!$G$2,B300)+LEN(Display2!$G$2)+2))&RIGHT(B300,LEN(B300)-(SEARCH(Display2!$G$2,B300)+LEN(Display2!$G$2)+2))-Display2!$J$3","v":"P.US.CLEU173450"}]
[{"$f":"IFERROR(IF(OR(ISTEXT(RTD(\"cqg.rtd\",,\"OrderData\",\"\"&B302&\"\",\"\",\"OpenPosition\",\"\"&Display2!$D$3&\"\")),RTD(\"cqg.rtd\",,\"OrderData\",\"\"&B302&\"\",\"\",\"OpenPosition\",\"\"&Display2!$D$3&\"\")=0),A301+0.001,INT(A301)+1),A301)","v":0.30200000000000021},{"$f":"(LEFT(B301,SEARCH(Display2!$G$2,B301)+LEN(Display2!$G$2)+2))&RIGHT(B301,LEN(B301)-(SEARCH(Display2!$G$2,B301)+LEN(Display2!$G$2)+2))-Display2!$J$3","v":"P.US.CLEU173400"}]
[{"$f":"IFERROR(IF(OR(ISTEXT(RTD(\"cqg.rtd\",,\"OrderData\",\"\"&B303&\"\",\"\",\"OpenPosition\",\"\"&Display2!$D$3&\"\")),RTD(\"cqg.rtd\",,\"OrderData\",\"\"&B303&\"\",\"\",\"OpenPosition\",\"\"&Display2!$D$3&\"\")=0),A302+0.001,INT(A302)+1),A302)","v":0.30300000000000021},{"$f":"(LEFT(B302,SEARCH(Display2!$G$2,B302)+LEN(Display2!$G$2)+2))&RIGHT(B302,LEN(B302)-(SEARCH(Display2!$G$2,B302)+LEN(Display2!$G$2)+2))-Display2!$J$3","v":"P.US.CLEU173350"}]
[{"$f":"IFERROR(IF(OR(ISTEXT(RTD(\"cqg.rtd\",,\"OrderData\",\"\"&B304&\"\",\"\",\"OpenPosition\",\"\"&Display2!$D$3&\"\")),RTD(\"cqg.rtd\",,\"OrderData\",\"\"&B304&\"\",\"\",\"OpenPosition\",\"\"&Display2!$D$3&\"\")=0),A303+0.001,INT(A303)+1),A303)","v":0.30400000000000021},{"$f":"(LEFT(B305,SEARCH(Display2!$G$2,B305)+LEN(Display2!$G$2)+2))&RIGHT(B305,LEN(B305)-(SEARCH(Display2!$G$2,B305)+LEN(Display2!$G$2)+2))+Display2!$J$3","v":"C.US.CLEV176350"}]
[{"$f":"IFERROR(IF(OR(ISTEXT(RTD(\"cqg.rtd\",,\"OrderData\",\"\"&B305&\"\",\"\",\"OpenPosition\",\"\"&Display2!$D$3&\"\")),RTD(\"cqg.rtd\",,\"OrderData\",\"\"&B305&\"\",\"\",\"OpenPosition\",\"\"&Display2!$D$3&\"\")=0),A304+0.001,INT(A304)+1),A304)","v":0.30500000000000022},{"$f":"(LEFT(B306,SEARCH(Display2!$G$2,B306)+LEN(Display2!$G$2)+2))&RIGHT(B306,LEN(B306)-(SEARCH(Display2!$G$2,B306)+LEN(Display2!$G$2)+2))+Display2!$J$3","v":"C.US.CLEV176300"}]
[{"$f":"IFERROR(IF(OR(ISTEXT(RTD(\"cqg.rtd\",,\"OrderData\",\"\"&B306&\"\",\"\",\"OpenPosition\",\"\"&Display2!$D$3&\"\")),RTD(\"cqg.rtd\",,\"OrderData\",\"\"&B306&\"\",\"\",\"OpenPosition\",\"\"&Display2!$D$3&\"\")=0),A305+0.001,INT(A305)+1),A305)","v":0.30600000000000022},{"$f":"(LEFT(B307,SEARCH(Display2!$G$2,B307)+LEN(Display2!$G$2)+2))&RIGHT(B307,LEN(B307)-(SEARCH(Display2!$G$2,B307)+LEN(Display2!$G$2)+2))+Display2!$J$3","v":"C.US.CLEV176250"}]
[{"$f":"IFERROR(IF(OR(ISTEXT(RTD(\"cqg.rtd\",,\"OrderData\",\"\"&B307&\"\",\"\",\"OpenPosition\",\"\"&Display2!$D$3&\"\")),RTD(\"cqg.rtd\",,\"OrderData\",\"\"&B307&\"\",\"\",\"OpenPosition\",\"\"&Display2!$D$3&\"\")=0),A306+0.001,INT(A306)+1),A306)","v":0.30700000000000022},{"$f":"(LEFT(B308,SEARCH(Display2!$G$2,B308)+LEN(Display2!$G$2)+2))&RIGHT(B308,LEN(B308)-(SEARCH(Display2!$G$2,B308)+LEN(Display2!$G$2)+2))+Display2!$J$3","v":"C.US.CLEV176200"}]
[{"$f":"IFERROR(IF(OR(ISTEXT(RTD(\"cqg.rtd\",,\"OrderData\",\"\"&B308&\"\",\"\",\"OpenPosition\",\"\"&Display2!$D$3&\"\")),RTD(\"cqg.rtd\",,\"OrderData\",\"\"&B308&\"\",\"\",\"OpenPosition\",\"\"&Display2!$D$3&\"\")=0),A307+0.001,INT(A307)+1),A307)","v":0.30800000000000022},{"$f":"(LEFT(B309,SEARCH(Display2!$G$2,B309)+LEN(Display2!$G$2)+2))&RIGHT(B309,LEN(B309)-(SEARCH(Display2!$G$2,B309)+LEN(Display2!$G$2)+2))+Display2!$J$3","v":"C.US.CLEV176150"}]
[{"$f":"IFERROR(IF(OR(ISTEXT(RTD(\"cqg.rtd\",,\"OrderData\",\"\"&B309&\"\",\"\",\"OpenPosition\",\"\"&Display2!$D$3&\"\")),RTD(\"cqg.rtd\",,\"OrderData\",\"\"&B309&\"\",\"\",\"OpenPosition\",\"\"&Display2!$D$3&\"\")=0),A308+0.001,INT(A308)+1),A308)","v":0.30900000000000022},{"$f":"(LEFT(B310,SEARCH(Display2!$G$2,B310)+LEN(Display2!$G$2)+2))&RIGHT(B310,LEN(B310)-(SEARCH(Display2!$G$2,B310)+LEN(Display2!$G$2)+2))+Display2!$J$3","v":"C.US.CLEV176100"}]
[{"$f":"IFERROR(IF(OR(ISTEXT(RTD(\"cqg.rtd\",,\"OrderData\",\"\"&B310&\"\",\"\",\"OpenPosition\",\"\"&Display2!$D$3&\"\")),RTD(\"cqg.rtd\",,\"OrderData\",\"\"&B310&\"\",\"\",\"OpenPosition\",\"\"&Display2!$D$3&\"\")=0),A309+0.001,INT(A309)+1),A309)","v":0.31000000000000022},{"$f":"(LEFT(B311,SEARCH(Display2!$G$2,B311)+LEN(Display2!$G$2)+2))&RIGHT(B311,LEN(B311)-(SEARCH(Display2!$G$2,B311)+LEN(Display2!$G$2)+2))+Display2!$J$3","v":"C.US.CLEV176050"}]
[{"$f":"IFERROR(IF(OR(ISTEXT(RTD(\"cqg.rtd\",,\"OrderData\",\"\"&B311&\"\",\"\",\"OpenPosition\",\"\"&Display2!$D$3&\"\")),RTD(\"cqg.rtd\",,\"OrderData\",\"\"&B311&\"\",\"\",\"OpenPosition\",\"\"&Display2!$D$3&\"\")=0),A310+0.001,INT(A310)+1),A310)","v":0.31100000000000022},{"$f":"(LEFT(B312,SEARCH(Display2!$G$2,B312)+LEN(Display2!$G$2)+2))&RIGHT(B312,LEN(B312)-(SEARCH(Display2!$G$2,B312)+LEN(Display2!$G$2)+2))+Display2!$J$3","v":"C.US.CLEV176000"}]
[{"$f":"IFERROR(IF(OR(ISTEXT(RTD(\"cqg.rtd\",,\"OrderData\",\"\"&B312&\"\",\"\",\"OpenPosition\",\"\"&Display2!$D$3&\"\")),RTD(\"cqg.rtd\",,\"OrderData\",\"\"&B312&\"\",\"\",\"OpenPosition\",\"\"&Display2!$D$3&\"\")=0),A311+0.001,INT(A311)+1),A311)","v":0.31200000000000022},{"$f":"(LEFT(B313,SEARCH(Display2!$G$2,B313)+LEN(Display2!$G$2)+2))&RIGHT(B313,LEN(B313)-(SEARCH(Display2!$G$2,B313)+LEN(Display2!$G$2)+2))+Display2!$J$3","v":"C.US.CLEV175950"}]
[{"$f":"IFERROR(IF(OR(ISTEXT(RTD(\"cqg.rtd\",,\"OrderData\",\"\"&B313&\"\",\"\",\"OpenPosition\",\"\"&Display2!$D$3&\"\")),RTD(\"cqg.rtd\",,\"OrderData\",\"\"&B313&\"\",\"\",\"OpenPosition\",\"\"&Display2!$D$3&\"\")=0),A312+0.001,INT(A312)+1),A312)","v":0.31300000000000022},{"$f":"(LEFT(B314,SEARCH(Display2!$G$2,B314)+LEN(Display2!$G$2)+2))&RIGHT(B314,LEN(B314)-(SEARCH(Display2!$G$2,B314)+LEN(Display2!$G$2)+2))+Display2!$J$3","v":"C.US.CLEV175900"}]
[{"$f":"IFERROR(IF(OR(ISTEXT(RTD(\"cqg.rtd\",,\"OrderData\",\"\"&B314&\"\",\"\",\"OpenPosition\",\"\"&Display2!$D$3&\"\")),RTD(\"cqg.rtd\",,\"OrderData\",\"\"&B314&\"\",\"\",\"OpenPosition\",\"\"&Display2!$D$3&\"\")=0),A313+0.001,INT(A313)+1),A313)","v":0.31400000000000022},{"$f":"(LEFT(B315,SEARCH(Display2!$G$2,B315)+LEN(Display2!$G$2)+2))&RIGHT(B315,LEN(B315)-(SEARCH(Display2!$G$2,B315)+LEN(Display2!$G$2)+2))+Display2!$J$3","v":"C.US.CLEV175850"}]
[{"$f":"IFERROR(IF(OR(ISTEXT(RTD(\"cqg.rtd\",,\"OrderData\",\"\"&B315&\"\",\"\",\"OpenPosition\",\"\"&Display2!$D$3&\"\")),RTD(\"cqg.rtd\",,\"OrderData\",\"\"&B315&\"\",\"\",\"OpenPosition\",\"\"&Display2!$D$3&\"\")=0),A314+0.001,INT(A314)+1),A314)","v":0.31500000000000022},{"$f":"(LEFT(B316,SEARCH(Display2!$G$2,B316)+LEN(Display2!$G$2)+2))&RIGHT(B316,LEN(B316)-(SEARCH(Display2!$G$2,B316)+LEN(Display2!$G$2)+2))+Display2!$J$3","v":"C.US.CLEV175800"}]
[{"$f":"IFERROR(IF(OR(ISTEXT(RTD(\"cqg.rtd\",,\"OrderData\",\"\"&B316&\"\",\"\",\"OpenPosition\",\"\"&Display2!$D$3&\"\")),RTD(\"cqg.rtd\",,\"OrderData\",\"\"&B316&\"\",\"\",\"OpenPosition\",\"\"&Display2!$D$3&\"\")=0),A315+0.001,INT(A315)+1),A315)","v":0.31600000000000023},{"$f":"(LEFT(B317,SEARCH(Display2!$G$2,B317)+LEN(Display2!$G$2)+2))&RIGHT(B317,LEN(B317)-(SEARCH(Display2!$G$2,B317)+LEN(Display2!$G$2)+2))+Display2!$J$3","v":"C.US.CLEV175750"}]
[{"$f":"IFERROR(IF(OR(ISTEXT(RTD(\"cqg.rtd\",,\"OrderData\",\"\"&B317&\"\",\"\",\"OpenPosition\",\"\"&Display2!$D$3&\"\")),RTD(\"cqg.rtd\",,\"OrderData\",\"\"&B317&\"\",\"\",\"OpenPosition\",\"\"&Display2!$D$3&\"\")=0),A316+0.001,INT(A316)+1),A316)","v":0.31700000000000023},{"$f":"(LEFT(B318,SEARCH(Display2!$G$2,B318)+LEN(Display2!$G$2)+2))&RIGHT(B318,LEN(B318)-(SEARCH(Display2!$G$2,B318)+LEN(Display2!$G$2)+2))+Display2!$J$3","v":"C.US.CLEV175700"}]
[{"$f":"IFERROR(IF(OR(ISTEXT(RTD(\"cqg.rtd\",,\"OrderData\",\"\"&B318&\"\",\"\",\"OpenPosition\",\"\"&Display2!$D$3&\"\")),RTD(\"cqg.rtd\",,\"OrderData\",\"\"&B318&\"\",\"\",\"OpenPosition\",\"\"&Display2!$D$3&\"\")=0),A317+0.001,INT(A317)+1),A317)","v":0.31800000000000023},{"$f":"(LEFT(B319,SEARCH(Display2!$G$2,B319)+LEN(Display2!$G$2)+2))&RIGHT(B319,LEN(B319)-(SEARCH(Display2!$G$2,B319)+LEN(Display2!$G$2)+2))+Display2!$J$3","v":"C.US.CLEV175650"}]
[{"$f":"IFERROR(IF(OR(ISTEXT(RTD(\"cqg.rtd\",,\"OrderData\",\"\"&B319&\"\",\"\",\"OpenPosition\",\"\"&Display2!$D$3&\"\")),RTD(\"cqg.rtd\",,\"OrderData\",\"\"&B319&\"\",\"\",\"OpenPosition\",\"\"&Display2!$D$3&\"\")=0),A318+0.001,INT(A318)+1),A318)","v":0.31900000000000023},{"$f":"(LEFT(B320,SEARCH(Display2!$G$2,B320)+LEN(Display2!$G$2)+2))&RIGHT(B320,LEN(B320)-(SEARCH(Display2!$G$2,B320)+LEN(Display2!$G$2)+2))+Display2!$J$3","v":"C.US.CLEV175600"}]
[{"$f":"IFERROR(IF(OR(ISTEXT(RTD(\"cqg.rtd\",,\"OrderData\",\"\"&B320&\"\",\"\",\"OpenPosition\",\"\"&Display2!$D$3&\"\")),RTD(\"cqg.rtd\",,\"OrderData\",\"\"&B320&\"\",\"\",\"OpenPosition\",\"\"&Display2!$D$3&\"\")=0),A319+0.001,INT(A319)+1),A319)","v":0.32000000000000023},{"$f":"(LEFT(B321,SEARCH(Display2!$G$2,B321)+LEN(Display2!$G$2)+2))&RIGHT(B321,LEN(B321)-(SEARCH(Display2!$G$2,B321)+LEN(Display2!$G$2)+2))+Display2!$J$3","v":"C.US.CLEV175550"}]
[{"$f":"IFERROR(IF(OR(ISTEXT(RTD(\"cqg.rtd\",,\"OrderData\",\"\"&B321&\"\",\"\",\"OpenPosition\",\"\"&Display2!$D$3&\"\")),RTD(\"cqg.rtd\",,\"OrderData\",\"\"&B321&\"\",\"\",\"OpenPosition\",\"\"&Display2!$D$3&\"\")=0),A320+0.001,INT(A320)+1),A320)","v":0.32100000000000023},{"$f":"(LEFT(B322,SEARCH(Display2!$G$2,B322)+LEN(Display2!$G$2)+2))&RIGHT(B322,LEN(B322)-(SEARCH(Display2!$G$2,B322)+LEN(Display2!$G$2)+2))+Display2!$J$3","v":"C.US.CLEV175500"}]
[{"$f":"IFERROR(IF(OR(ISTEXT(RTD(\"cqg.rtd\",,\"OrderData\",\"\"&B322&\"\",\"\",\"OpenPosition\",\"\"&Display2!$D$3&\"\")),RTD(\"cqg.rtd\",,\"OrderData\",\"\"&B322&\"\",\"\",\"OpenPosition\",\"\"&Display2!$D$3&\"\")=0),A321+0.001,INT(A321)+1),A321)","v":0.32200000000000023},{"$f":"(LEFT(B323,SEARCH(Display2!$G$2,B323)+LEN(Display2!$G$2)+2))&RIGHT(B323,LEN(B323)-(SEARCH(Display2!$G$2,B323)+LEN(Display2!$G$2)+2))+Display2!$J$3","v":"C.US.CLEV175450"}]
[{"$f":"IFERROR(IF(OR(ISTEXT(RTD(\"cqg.rtd\",,\"OrderData\",\"\"&B323&\"\",\"\",\"OpenPosition\",\"\"&Display2!$D$3&\"\")),RTD(\"cqg.rtd\",,\"OrderData\",\"\"&B323&\"\",\"\",\"OpenPosition\",\"\"&Display2!$D$3&\"\")=0),A322+0.001,INT(A322)+1),A322)","v":0.32300000000000023},{"$f":"(LEFT(B324,SEARCH(Display2!$G$2,B324)+LEN(Display2!$G$2)+2))&RIGHT(B324,LEN(B324)-(SEARCH(Display2!$G$2,B324)+LEN(Display2!$G$2)+2))+Display2!$J$3","v":"C.US.CLEV175400"}]
[{"$f":"IFERROR(IF(OR(ISTEXT(RTD(\"cqg.rtd\",,\"OrderData\",\"\"&B324&\"\",\"\",\"OpenPosition\",\"\"&Display2!$D$3&\"\")),RTD(\"cqg.rtd\",,\"OrderData\",\"\"&B324&\"\",\"\",\"OpenPosition\",\"\"&Display2!$D$3&\"\")=0),A323+0.001,INT(A323)+1),A323)","v":0.32400000000000023},{"$f":"(LEFT(B325,SEARCH(Display2!$G$2,B325)+LEN(Display2!$G$2)+2))&RIGHT(B325,LEN(B325)-(SEARCH(Display2!$G$2,B325)+LEN(Display2!$G$2)+2))+Display2!$J$3","v":"C.US.CLEV175350"}]
[{"$f":"IFERROR(IF(OR(ISTEXT(RTD(\"cqg.rtd\",,\"OrderData\",\"\"&B325&\"\",\"\",\"OpenPosition\",\"\"&Display2!$D$3&\"\")),RTD(\"cqg.rtd\",,\"OrderData\",\"\"&B325&\"\",\"\",\"OpenPosition\",\"\"&Display2!$D$3&\"\")=0),A324+0.001,INT(A324)+1),A324)","v":0.32500000000000023},{"$f":"(LEFT(B326,SEARCH(Display2!$G$2,B326)+LEN(Display2!$G$2)+2))&RIGHT(B326,LEN(B326)-(SEARCH(Display2!$G$2,B326)+LEN(Display2!$G$2)+2))+Display2!$J$3","v":"C.US.CLEV175300"}]
[{"$f":"IFERROR(IF(OR(ISTEXT(RTD(\"cqg.rtd\",,\"OrderData\",\"\"&B326&\"\",\"\",\"OpenPosition\",\"\"&Display2!$D$3&\"\")),RTD(\"cqg.rtd\",,\"OrderData\",\"\"&B326&\"\",\"\",\"OpenPosition\",\"\"&Display2!$D$3&\"\")=0),A325+0.001,INT(A325)+1),A325)","v":0.32600000000000023},{"$f":"(LEFT(B327,SEARCH(Display2!$G$2,B327)+LEN(Display2!$G$2)+2))&RIGHT(B327,LEN(B327)-(SEARCH(Display2!$G$2,B327)+LEN(Display2!$G$2)+2))+Display2!$J$3","v":"C.US.CLEV175250"}]
[{"$f":"IFERROR(IF(OR(ISTEXT(RTD(\"cqg.rtd\",,\"OrderData\",\"\"&B327&\"\",\"\",\"OpenPosition\",\"\"&Display2!$D$3&\"\")),RTD(\"cqg.rtd\",,\"OrderData\",\"\"&B327&\"\",\"\",\"OpenPosition\",\"\"&Display2!$D$3&\"\")=0),A326+0.001,INT(A326)+1),A326)","v":0.32700000000000023},{"$f":"(LEFT(B328,SEARCH(Display2!$G$2,B328)+LEN(Display2!$G$2)+2))&RIGHT(B328,LEN(B328)-(SEARCH(Display2!$G$2,B328)+LEN(Display2!$G$2)+2))+Display2!$J$3","v":"C.US.CLEV175200"}]
[{"$f":"IFERROR(IF(OR(ISTEXT(RTD(\"cqg.rtd\",,\"OrderData\",\"\"&B328&\"\",\"\",\"OpenPosition\",\"\"&Display2!$D$3&\"\")),RTD(\"cqg.rtd\",,\"OrderData\",\"\"&B328&\"\",\"\",\"OpenPosition\",\"\"&Display2!$D$3&\"\")=0),A327+0.001,INT(A327)+1),A327)","v":0.32800000000000024},{"$f":"(LEFT(B329,SEARCH(Display2!$G$2,B329)+LEN(Display2!$G$2)+2))&RIGHT(B329,LEN(B329)-(SEARCH(Display2!$G$2,B329)+LEN(Display2!$G$2)+2))+Display2!$J$3","v":"C.US.CLEV175150"}]
[{"$f":"IFERROR(IF(OR(ISTEXT(RTD(\"cqg.rtd\",,\"OrderData\",\"\"&B329&\"\",\"\",\"OpenPosition\",\"\"&Display2!$D$3&\"\")),RTD(\"cqg.rtd\",,\"OrderData\",\"\"&B329&\"\",\"\",\"OpenPosition\",\"\"&Display2!$D$3&\"\")=0),A328+0.001,INT(A328)+1),A328)","v":0.32900000000000024},{"$f":"(LEFT(B330,SEARCH(Display2!$G$2,B330)+LEN(Display2!$G$2)+2))&RIGHT(B330,LEN(B330)-(SEARCH(Display2!$G$2,B330)+LEN(Display2!$G$2)+2))+Display2!$J$3","v":"C.US.CLEV175100"}]
[{"$f":"IFERROR(IF(OR(ISTEXT(RTD(\"cqg.rtd\",,\"OrderData\",\"\"&B330&\"\",\"\",\"OpenPosition\",\"\"&Display2!$D$3&\"\")),RTD(\"cqg.rtd\",,\"OrderData\",\"\"&B330&\"\",\"\",\"OpenPosition\",\"\"&Display2!$D$3&\"\")=0),A329+0.001,INT(A329)+1),A329)","v":0.33000000000000024},{"$f":"(LEFT(B331,SEARCH(Display2!$G$2,B331)+LEN(Display2!$G$2)+2))&RIGHT(B331,LEN(B331)-(SEARCH(Display2!$G$2,B331)+LEN(Display2!$G$2)+2))+Display2!$J$3","v":"C.US.CLEV175050"}]
[{"$f":"IFERROR(IF(OR(ISTEXT(RTD(\"cqg.rtd\",,\"OrderData\",\"\"&B331&\"\",\"\",\"OpenPosition\",\"\"&Display2!$D$3&\"\")),RTD(\"cqg.rtd\",,\"OrderData\",\"\"&B331&\"\",\"\",\"OpenPosition\",\"\"&Display2!$D$3&\"\")=0),A330+0.001,INT(A330)+1),A330)","v":0.33100000000000024},{"$f":"(LEFT(B332,SEARCH(Display2!$G$2,B332)+LEN(Display2!$G$2)+2))&RIGHT(B332,LEN(B332)-(SEARCH(Display2!$G$2,B332)+LEN(Display2!$G$2)+2))+Display2!$J$3","v":"C.US.CLEV175000"}]
[{"$f":"IFERROR(IF(OR(ISTEXT(RTD(\"cqg.rtd\",,\"OrderData\",\"\"&B332&\"\",\"\",\"OpenPosition\",\"\"&Display2!$D$3&\"\")),RTD(\"cqg.rtd\",,\"OrderData\",\"\"&B332&\"\",\"\",\"OpenPosition\",\"\"&Display2!$D$3&\"\")=0),A331+0.001,INT(A331)+1),A331)","v":0.33200000000000024},{"$f":"(LEFT(B333,SEARCH(Display2!$G$2,B333)+LEN(Display2!$G$2)+2))&RIGHT(B333,LEN(B333)-(SEARCH(Display2!$G$2,B333)+LEN(Display2!$G$2)+2))+Display2!$J$3","v":"C.US.CLEV174950"}]
[{"$f":"IFERROR(IF(OR(ISTEXT(RTD(\"cqg.rtd\",,\"OrderData\",\"\"&B333&\"\",\"\",\"OpenPosition\",\"\"&Display2!$D$3&\"\")),RTD(\"cqg.rtd\",,\"OrderData\",\"\"&B333&\"\",\"\",\"OpenPosition\",\"\"&Display2!$D$3&\"\")=0),A332+0.001,INT(A332)+1),A332)","v":0.33300000000000024},{"$f":"(LEFT(B334,SEARCH(Display2!$G$2,B334)+LEN(Display2!$G$2)+2))&RIGHT(B334,LEN(B334)-(SEARCH(Display2!$G$2,B334)+LEN(Display2!$G$2)+2))+Display2!$J$3","v":"C.US.CLEV174900"}]
[{"$f":"IFERROR(IF(OR(ISTEXT(RTD(\"cqg.rtd\",,\"OrderData\",\"\"&B334&\"\",\"\",\"OpenPosition\",\"\"&Display2!$D$3&\"\")),RTD(\"cqg.rtd\",,\"OrderData\",\"\"&B334&\"\",\"\",\"OpenPosition\",\"\"&Display2!$D$3&\"\")=0),A333+0.001,INT(A333)+1),A333)","v":0.33400000000000024},{"$f":"(LEFT(B335,SEARCH(Display2!$G$2,B335)+LEN(Display2!$G$2)+2))&RIGHT(B335,LEN(B335)-(SEARCH(Display2!$G$2,B335)+LEN(Display2!$G$2)+2))+Display2!$J$3","v":"C.US.CLEV174850"}]
[{"$f":"IFERROR(IF(OR(ISTEXT(RTD(\"cqg.rtd\",,\"OrderData\",\"\"&B335&\"\",\"\",\"OpenPosition\",\"\"&Display2!$D$3&\"\")),RTD(\"cqg.rtd\",,\"OrderData\",\"\"&B335&\"\",\"\",\"OpenPosition\",\"\"&Display2!$D$3&\"\")=0),A334+0.001,INT(A334)+1),A334)","v":0.33500000000000024},{"$f":"(LEFT(B336,SEARCH(Display2!$G$2,B336)+LEN(Display2!$G$2)+2))&RIGHT(B336,LEN(B336)-(SEARCH(Display2!$G$2,B336)+LEN(Display2!$G$2)+2))+Display2!$J$3","v":"C.US.CLEV174800"}]
[{"$f":"IFERROR(IF(OR(ISTEXT(RTD(\"cqg.rtd\",,\"OrderData\",\"\"&B336&\"\",\"\",\"OpenPosition\",\"\"&Display2!$D$3&\"\")),RTD(\"cqg.rtd\",,\"OrderData\",\"\"&B336&\"\",\"\",\"OpenPosition\",\"\"&Display2!$D$3&\"\")=0),A335+0.001,INT(A335)+1),A335)","v":0.33600000000000024},{"$f":"(LEFT(B337,SEARCH(Display2!$G$2,B337)+LEN(Display2!$G$2)+2))&RIGHT(B337,LEN(B337)-(SEARCH(Display2!$G$2,B337)+LEN(Display2!$G$2)+2))+Display2!$J$3","v":"C.US.CLEV174750"}]
[{"$f":"IFERROR(IF(OR(ISTEXT(RTD(\"cqg.rtd\",,\"OrderData\",\"\"&B337&\"\",\"\",\"OpenPosition\",\"\"&Display2!$D$3&\"\")),RTD(\"cqg.rtd\",,\"OrderData\",\"\"&B337&\"\",\"\",\"OpenPosition\",\"\"&Display2!$D$3&\"\")=0),A336+0.001,INT(A336)+1),A336)","v":0.33700000000000024},{"$f":"(LEFT(B338,SEARCH(Display2!$G$2,B338)+LEN(Display2!$G$2)+2))&RIGHT(B338,LEN(B338)-(SEARCH(Display2!$G$2,B338)+LEN(Display2!$G$2)+2))+Display2!$J$3","v":"C.US.CLEV174700"}]
[{"$f":"IFERROR(IF(OR(ISTEXT(RTD(\"cqg.rtd\",,\"OrderData\",\"\"&B338&\"\",\"\",\"OpenPosition\",\"\"&Display2!$D$3&\"\")),RTD(\"cqg.rtd\",,\"OrderData\",\"\"&B338&\"\",\"\",\"OpenPosition\",\"\"&Display2!$D$3&\"\")=0),A337+0.001,INT(A337)+1),A337)","v":0.33800000000000024},{"$f":"(LEFT(B339,SEARCH(Display2!$G$2,B339)+LEN(Display2!$G$2)+2))&RIGHT(B339,LEN(B339)-(SEARCH(Display2!$G$2,B339)+LEN(Display2!$G$2)+2))+Display2!$J$3","v":"C.US.CLEV174650"}]
[{"$f":"IFERROR(IF(OR(ISTEXT(RTD(\"cqg.rtd\",,\"OrderData\",\"\"&B339&\"\",\"\",\"OpenPosition\",\"\"&Display2!$D$3&\"\")),RTD(\"cqg.rtd\",,\"OrderData\",\"\"&B339&\"\",\"\",\"OpenPosition\",\"\"&Display2!$D$3&\"\")=0),A338+0.001,INT(A338)+1),A338)","v":0.33900000000000025},{"$f":"(LEFT(B340,SEARCH(Display2!$G$2,B340)+LEN(Display2!$G$2)+2))&RIGHT(B340,LEN(B340)-(SEARCH(Display2!$G$2,B340)+LEN(Display2!$G$2)+2))+Display2!$J$3","v":"C.US.CLEV174600"}]
[{"$f":"IFERROR(IF(OR(ISTEXT(RTD(\"cqg.rtd\",,\"OrderData\",\"\"&B340&\"\",\"\",\"OpenPosition\",\"\"&Display2!$D$3&\"\")),RTD(\"cqg.rtd\",,\"OrderData\",\"\"&B340&\"\",\"\",\"OpenPosition\",\"\"&Display2!$D$3&\"\")=0),A339+0.001,INT(A339)+1),A339)","v":0.34000000000000025},{"$f":"(LEFT(B341,SEARCH(Display2!$G$2,B341)+LEN(Display2!$G$2)+2))&RIGHT(B341,LEN(B341)-(SEARCH(Display2!$G$2,B341)+LEN(Display2!$G$2)+2))+Display2!$J$3","v":"C.US.CLEV174550"}]
[{"$f":"IFERROR(IF(OR(ISTEXT(RTD(\"cqg.rtd\",,\"OrderData\",\"\"&B341&\"\",\"\",\"OpenPosition\",\"\"&Display2!$D$3&\"\")),RTD(\"cqg.rtd\",,\"OrderData\",\"\"&B341&\"\",\"\",\"OpenPosition\",\"\"&Display2!$D$3&\"\")=0),A340+0.001,INT(A340)+1),A340)","v":0.34100000000000025},{"$f":"(LEFT(B342,SEARCH(Display2!$G$2,B342)+LEN(Display2!$G$2)+2))&RIGHT(B342,LEN(B342)-(SEARCH(Display2!$G$2,B342)+LEN(Display2!$G$2)+2))+Display2!$J$3","v":"C.US.CLEV174500"}]
[{"$f":"IFERROR(IF(OR(ISTEXT(RTD(\"cqg.rtd\",,\"OrderData\",\"\"&B342&\"\",\"\",\"OpenPosition\",\"\"&Display2!$D$3&\"\")),RTD(\"cqg.rtd\",,\"OrderData\",\"\"&B342&\"\",\"\",\"OpenPosition\",\"\"&Display2!$D$3&\"\")=0),A341+0.001,INT(A341)+1),A341)","v":0.34200000000000025},{"$f":"(LEFT(B343,SEARCH(Display2!$G$2,B343)+LEN(Display2!$G$2)+2))&RIGHT(B343,LEN(B343)-(SEARCH(Display2!$G$2,B343)+LEN(Display2!$G$2)+2))+Display2!$J$3","v":"C.US.CLEV174450"}]
[{"$f":"IFERROR(IF(OR(ISTEXT(RTD(\"cqg.rtd\",,\"OrderData\",\"\"&B343&\"\",\"\",\"OpenPosition\",\"\"&Display2!$D$3&\"\")),RTD(\"cqg.rtd\",,\"OrderData\",\"\"&B343&\"\",\"\",\"OpenPosition\",\"\"&Display2!$D$3&\"\")=0),A342+0.001,INT(A342)+1),A342)","v":0.34300000000000025},{"$f":"(LEFT(B344,SEARCH(Display2!$G$2,B344)+LEN(Display2!$G$2)+2))&RIGHT(B344,LEN(B344)-(SEARCH(Display2!$G$2,B344)+LEN(Display2!$G$2)+2))+Display2!$J$3","v":"C.US.CLEV174400"}]
[{"$f":"IFERROR(IF(OR(ISTEXT(RTD(\"cqg.rtd\",,\"OrderData\",\"\"&B344&\"\",\"\",\"OpenPosition\",\"\"&Display2!$D$3&\"\")),RTD(\"cqg.rtd\",,\"OrderData\",\"\"&B344&\"\",\"\",\"OpenPosition\",\"\"&Display2!$D$3&\"\")=0),A343+0.001,INT(A343)+1),A343)","v":0.34400000000000025},{"$f":"RTD(\"cqg.rtd\", ,\"ContractData\", \"C.US.\"&Display2!$G$2&Display2!$I$3&\"\", \"Symbol\",, \"T\")","v":"C.US.CLEV174350"}]
[{"$f":"IFERROR(IF(OR(ISTEXT(RTD(\"cqg.rtd\",,\"OrderData\",\"\"&B345&\"\",\"\",\"OpenPosition\",\"\"&Display2!$D$3&\"\")),RTD(\"cqg.rtd\",,\"OrderData\",\"\"&B345&\"\",\"\",\"OpenPosition\",\"\"&Display2!$D$3&\"\")=0),A344+0.001,INT(A344)+1),A344)","v":0.34500000000000025},{"$f":"(LEFT(B344,SEARCH(Display2!$G$2,B344)+LEN(Display2!$G$2)+2))&RIGHT(B344,LEN(B344)-(SEARCH(Display2!$G$2,B344)+LEN(Display2!$G$2)+2))-Display2!$J$3","v":"C.US.CLEV174300"}]
[{"$f":"IFERROR(IF(OR(ISTEXT(RTD(\"cqg.rtd\",,\"OrderData\",\"\"&B346&\"\",\"\",\"OpenPosition\",\"\"&Display2!$D$3&\"\")),RTD(\"cqg.rtd\",,\"OrderData\",\"\"&B346&\"\",\"\",\"OpenPosition\",\"\"&Display2!$D$3&\"\")=0),A345+0.001,INT(A345)+1),A345)","v":0.34600000000000025},{"$f":"(LEFT(B345,SEARCH(Display2!$G$2,B345)+LEN(Display2!$G$2)+2))&RIGHT(B345,LEN(B345)-(SEARCH(Display2!$G$2,B345)+LEN(Display2!$G$2)+2))-Display2!$J$3","v":"C.US.CLEV174250"}]
[{"$f":"IFERROR(IF(OR(ISTEXT(RTD(\"cqg.rtd\",,\"OrderData\",\"\"&B347&\"\",\"\",\"OpenPosition\",\"\"&Display2!$D$3&\"\")),RTD(\"cqg.rtd\",,\"OrderData\",\"\"&B347&\"\",\"\",\"OpenPosition\",\"\"&Display2!$D$3&\"\")=0),A346+0.001,INT(A346)+1),A346)","v":0.34700000000000025},{"$f":"(LEFT(B346,SEARCH(Display2!$G$2,B346)+LEN(Display2!$G$2)+2))&RIGHT(B346,LEN(B346)-(SEARCH(Display2!$G$2,B346)+LEN(Display2!$G$2)+2))-Display2!$J$3","v":"C.US.CLEV174200"}]
[{"$f":"IFERROR(IF(OR(ISTEXT(RTD(\"cqg.rtd\",,\"OrderData\",\"\"&B348&\"\",\"\",\"OpenPosition\",\"\"&Display2!$D$3&\"\")),RTD(\"cqg.rtd\",,\"OrderData\",\"\"&B348&\"\",\"\",\"OpenPosition\",\"\"&Display2!$D$3&\"\")=0),A347+0.001,INT(A347)+1),A347)","v":0.34800000000000025},{"$f":"(LEFT(B347,SEARCH(Display2!$G$2,B347)+LEN(Display2!$G$2)+2))&RIGHT(B347,LEN(B347)-(SEARCH(Display2!$G$2,B347)+LEN(Display2!$G$2)+2))-Display2!$J$3","v":"C.US.CLEV174150"}]
[{"$f":"IFERROR(IF(OR(ISTEXT(RTD(\"cqg.rtd\",,\"OrderData\",\"\"&B349&\"\",\"\",\"OpenPosition\",\"\"&Display2!$D$3&\"\")),RTD(\"cqg.rtd\",,\"OrderData\",\"\"&B349&\"\",\"\",\"OpenPosition\",\"\"&Display2!$D$3&\"\")=0),A348+0.001,INT(A348)+1),A348)","v":0.34900000000000025},{"$f":"(LEFT(B348,SEARCH(Display2!$G$2,B348)+LEN(Display2!$G$2)+2))&RIGHT(B348,LEN(B348)-(SEARCH(Display2!$G$2,B348)+LEN(Display2!$G$2)+2))-Display2!$J$3","v":"C.US.CLEV174100"}]
[{"$f":"IFERROR(IF(OR(ISTEXT(RTD(\"cqg.rtd\",,\"OrderData\",\"\"&B350&\"\",\"\",\"OpenPosition\",\"\"&Display2!$D$3&\"\")),RTD(\"cqg.rtd\",,\"OrderData\",\"\"&B350&\"\",\"\",\"OpenPosition\",\"\"&Display2!$D$3&\"\")=0),A349+0.001,INT(A349)+1),A349)","v":0.35000000000000026},{"$f":"(LEFT(B349,SEARCH(Display2!$G$2,B349)+LEN(Display2!$G$2)+2))&RIGHT(B349,LEN(B349)-(SEARCH(Display2!$G$2,B349)+LEN(Display2!$G$2)+2))-Display2!$J$3","v":"C.US.CLEV174050"}]
[{"$f":"IFERROR(IF(OR(ISTEXT(RTD(\"cqg.rtd\",,\"OrderData\",\"\"&B351&\"\",\"\",\"OpenPosition\",\"\"&Display2!$D$3&\"\")),RTD(\"cqg.rtd\",,\"OrderData\",\"\"&B351&\"\",\"\",\"OpenPosition\",\"\"&Display2!$D$3&\"\")=0),A350+0.001,INT(A350)+1),A350)","v":0.35100000000000026},{"$f":"(LEFT(B350,SEARCH(Display2!$G$2,B350)+LEN(Display2!$G$2)+2))&RIGHT(B350,LEN(B350)-(SEARCH(Display2!$G$2,B350)+LEN(Display2!$G$2)+2))-Display2!$J$3","v":"C.US.CLEV174000"}]
[{"$f":"IFERROR(IF(OR(ISTEXT(RTD(\"cqg.rtd\",,\"OrderData\",\"\"&B352&\"\",\"\",\"OpenPosition\",\"\"&Display2!$D$3&\"\")),RTD(\"cqg.rtd\",,\"OrderData\",\"\"&B352&\"\",\"\",\"OpenPosition\",\"\"&Display2!$D$3&\"\")=0),A351+0.001,INT(A351)+1),A351)","v":0.35200000000000026},{"$f":"(LEFT(B351,SEARCH(Display2!$G$2,B351)+LEN(Display2!$G$2)+2))&RIGHT(B351,LEN(B351)-(SEARCH(Display2!$G$2,B351)+LEN(Display2!$G$2)+2))-Display2!$J$3","v":"C.US.CLEV173950"}]
[{"$f":"IFERROR(IF(OR(ISTEXT(RTD(\"cqg.rtd\",,\"OrderData\",\"\"&B353&\"\",\"\",\"OpenPosition\",\"\"&Display2!$D$3&\"\")),RTD(\"cqg.rtd\",,\"OrderData\",\"\"&B353&\"\",\"\",\"OpenPosition\",\"\"&Display2!$D$3&\"\")=0),A352+0.001,INT(A352)+1),A352)","v":0.35300000000000026},{"$f":"(LEFT(B352,SEARCH(Display2!$G$2,B352)+LEN(Display2!$G$2)+2))&RIGHT(B352,LEN(B352)-(SEARCH(Display2!$G$2,B352)+LEN(Display2!$G$2)+2))-Display2!$J$3","v":"C.US.CLEV173900"}]
[{"$f":"IFERROR(IF(OR(ISTEXT(RTD(\"cqg.rtd\",,\"OrderData\",\"\"&B354&\"\",\"\",\"OpenPosition\",\"\"&Display2!$D$3&\"\")),RTD(\"cqg.rtd\",,\"OrderData\",\"\"&B354&\"\",\"\",\"OpenPosition\",\"\"&Display2!$D$3&\"\")=0),A353+0.001,INT(A353)+1),A353)","v":0.35400000000000026},{"$f":"(LEFT(B353,SEARCH(Display2!$G$2,B353)+LEN(Display2!$G$2)+2))&RIGHT(B353,LEN(B353)-(SEARCH(Display2!$G$2,B353)+LEN(Display2!$G$2)+2))-Display2!$J$3","v":"C.US.CLEV173850"}]
[{"$f":"IFERROR(IF(OR(ISTEXT(RTD(\"cqg.rtd\",,\"OrderData\",\"\"&B355&\"\",\"\",\"OpenPosition\",\"\"&Display2!$D$3&\"\")),RTD(\"cqg.rtd\",,\"OrderData\",\"\"&B355&\"\",\"\",\"OpenPosition\",\"\"&Display2!$D$3&\"\")=0),A354+0.001,INT(A354)+1),A354)","v":0.35500000000000026},{"$f":"(LEFT(B354,SEARCH(Display2!$G$2,B354)+LEN(Display2!$G$2)+2))&RIGHT(B354,LEN(B354)-(SEARCH(Display2!$G$2,B354)+LEN(Display2!$G$2)+2))-Display2!$J$3","v":"C.US.CLEV173800"}]
[{"$f":"IFERROR(IF(OR(ISTEXT(RTD(\"cqg.rtd\",,\"OrderData\",\"\"&B356&\"\",\"\",\"OpenPosition\",\"\"&Display2!$D$3&\"\")),RTD(\"cqg.rtd\",,\"OrderData\",\"\"&B356&\"\",\"\",\"OpenPosition\",\"\"&Display2!$D$3&\"\")=0),A355+0.001,INT(A355)+1),A355)","v":0.35600000000000026},{"$f":"(LEFT(B355,SEARCH(Display2!$G$2,B355)+LEN(Display2!$G$2)+2))&RIGHT(B355,LEN(B355)-(SEARCH(Display2!$G$2,B355)+LEN(Display2!$G$2)+2))-Display2!$J$3","v":"C.US.CLEV173750"}]
[{"$f":"IFERROR(IF(OR(ISTEXT(RTD(\"cqg.rtd\",,\"OrderData\",\"\"&B357&\"\",\"\",\"OpenPosition\",\"\"&Display2!$D$3&\"\")),RTD(\"cqg.rtd\",,\"OrderData\",\"\"&B357&\"\",\"\",\"OpenPosition\",\"\"&Display2!$D$3&\"\")=0),A356+0.001,INT(A356)+1),A356)","v":0.35700000000000026},{"$f":"(LEFT(B356,SEARCH(Display2!$G$2,B356)+LEN(Display2!$G$2)+2))&RIGHT(B356,LEN(B356)-(SEARCH(Display2!$G$2,B356)+LEN(Display2!$G$2)+2))-Display2!$J$3","v":"C.US.CLEV173700"}]
[{"$f":"IFERROR(IF(OR(ISTEXT(RTD(\"cqg.rtd\",,\"OrderData\",\"\"&B358&\"\",\"\",\"OpenPosition\",\"\"&Display2!$D$3&\"\")),RTD(\"cqg.rtd\",,\"OrderData\",\"\"&B358&\"\",\"\",\"OpenPosition\",\"\"&Display2!$D$3&\"\")=0),A357+0.001,INT(A357)+1),A357)","v":0.35800000000000026},{"$f":"(LEFT(B357,SEARCH(Display2!$G$2,B357)+LEN(Display2!$G$2)+2))&RIGHT(B357,LEN(B357)-(SEARCH(Display2!$G$2,B357)+LEN(Display2!$G$2)+2))-Display2!$J$3","v":"C.US.CLEV173650"}]
[{"$f":"IFERROR(IF(OR(ISTEXT(RTD(\"cqg.rtd\",,\"OrderData\",\"\"&B359&\"\",\"\",\"OpenPosition\",\"\"&Display2!$D$3&\"\")),RTD(\"cqg.rtd\",,\"OrderData\",\"\"&B359&\"\",\"\",\"OpenPosition\",\"\"&Display2!$D$3&\"\")=0),A358+0.001,INT(A358)+1),A358)","v":0.35900000000000026},{"$f":"(LEFT(B358,SEARCH(Display2!$G$2,B358)+LEN(Display2!$G$2)+2))&RIGHT(B358,LEN(B358)-(SEARCH(Display2!$G$2,B358)+LEN(Display2!$G$2)+2))-Display2!$J$3","v":"C.US.CLEV173600"}]
[{"$f":"IFERROR(IF(OR(ISTEXT(RTD(\"cqg.rtd\",,\"OrderData\",\"\"&B360&\"\",\"\",\"OpenPosition\",\"\"&Display2!$D$3&\"\")),RTD(\"cqg.rtd\",,\"OrderData\",\"\"&B360&\"\",\"\",\"OpenPosition\",\"\"&Display2!$D$3&\"\")=0),A359+0.001,INT(A359)+1),A359)","v":0.36000000000000026},{"$f":"(LEFT(B359,SEARCH(Display2!$G$2,B359)+LEN(Display2!$G$2)+2))&RIGHT(B359,LEN(B359)-(SEARCH(Display2!$G$2,B359)+LEN(Display2!$G$2)+2))-Display2!$J$3","v":"C.US.CLEV173550"}]
[{"$f":"IFERROR(IF(OR(ISTEXT(RTD(\"cqg.rtd\",,\"OrderData\",\"\"&B361&\"\",\"\",\"OpenPosition\",\"\"&Display2!$D$3&\"\")),RTD(\"cqg.rtd\",,\"OrderData\",\"\"&B361&\"\",\"\",\"OpenPosition\",\"\"&Display2!$D$3&\"\")=0),A360+0.001,INT(A360)+1),A360)","v":0.36100000000000027},{"$f":"(LEFT(B360,SEARCH(Display2!$G$2,B360)+LEN(Display2!$G$2)+2))&RIGHT(B360,LEN(B360)-(SEARCH(Display2!$G$2,B360)+LEN(Display2!$G$2)+2))-Display2!$J$3","v":"C.US.CLEV173500"}]
[{"$f":"IFERROR(IF(OR(ISTEXT(RTD(\"cqg.rtd\",,\"OrderData\",\"\"&B362&\"\",\"\",\"OpenPosition\",\"\"&Display2!$D$3&\"\")),RTD(\"cqg.rtd\",,\"OrderData\",\"\"&B362&\"\",\"\",\"OpenPosition\",\"\"&Display2!$D$3&\"\")=0),A361+0.001,INT(A361)+1),A361)","v":0.36200000000000027},{"$f":"(LEFT(B361,SEARCH(Display2!$G$2,B361)+LEN(Display2!$G$2)+2))&RIGHT(B361,LEN(B361)-(SEARCH(Display2!$G$2,B361)+LEN(Display2!$G$2)+2))-Display2!$J$3","v":"C.US.CLEV173450"}]
[{"$f":"IFERROR(IF(OR(ISTEXT(RTD(\"cqg.rtd\",,\"OrderData\",\"\"&B363&\"\",\"\",\"OpenPosition\",\"\"&Display2!$D$3&\"\")),RTD(\"cqg.rtd\",,\"OrderData\",\"\"&B363&\"\",\"\",\"OpenPosition\",\"\"&Display2!$D$3&\"\")=0),A362+0.001,INT(A362)+1),A362)","v":0.36300000000000027},{"$f":"(LEFT(B362,SEARCH(Display2!$G$2,B362)+LEN(Display2!$G$2)+2))&RIGHT(B362,LEN(B362)-(SEARCH(Display2!$G$2,B362)+LEN(Display2!$G$2)+2))-Display2!$J$3","v":"C.US.CLEV173400"}]
[{"$f":"IFERROR(IF(OR(ISTEXT(RTD(\"cqg.rtd\",,\"OrderData\",\"\"&B364&\"\",\"\",\"OpenPosition\",\"\"&Display2!$D$3&\"\")),RTD(\"cqg.rtd\",,\"OrderData\",\"\"&B364&\"\",\"\",\"OpenPosition\",\"\"&Display2!$D$3&\"\")=0),A363+0.001,INT(A363)+1),A363)","v":0.36400000000000027},{"$f":"(LEFT(B363,SEARCH(Display2!$G$2,B363)+LEN(Display2!$G$2)+2))&RIGHT(B363,LEN(B363)-(SEARCH(Display2!$G$2,B363)+LEN(Display2!$G$2)+2))-Display2!$J$3","v":"C.US.CLEV173350"}]
[{"$f":"IFERROR(IF(OR(ISTEXT(RTD(\"cqg.rtd\",,\"OrderData\",\"\"&B365&\"\",\"\",\"OpenPosition\",\"\"&Display2!$D$3&\"\")),RTD(\"cqg.rtd\",,\"OrderData\",\"\"&B365&\"\",\"\",\"OpenPosition\",\"\"&Display2!$D$3&\"\")=0),A364+0.001,INT(A364)+1),A364)","v":0.36500000000000027},{"$f":"(LEFT(B366,SEARCH(Display2!$G$2,B366)+LEN(Display2!$G$2)+2))&RIGHT(B366,LEN(B366)-(SEARCH(Display2!$G$2,B366)+LEN(Display2!$G$2)+2))+Display2!$J$3","v":"P.US.CLEV176350"}]
[{"$f":"IFERROR(IF(OR(ISTEXT(RTD(\"cqg.rtd\",,\"OrderData\",\"\"&B366&\"\",\"\",\"OpenPosition\",\"\"&Display2!$D$3&\"\")),RTD(\"cqg.rtd\",,\"OrderData\",\"\"&B366&\"\",\"\",\"OpenPosition\",\"\"&Display2!$D$3&\"\")=0),A365+0.001,INT(A365)+1),A365)","v":0.36600000000000027},{"$f":"(LEFT(B367,SEARCH(Display2!$G$2,B367)+LEN(Display2!$G$2)+2))&RIGHT(B367,LEN(B367)-(SEARCH(Display2!$G$2,B367)+LEN(Display2!$G$2)+2))+Display2!$J$3","v":"P.US.CLEV176300"}]
[{"$f":"IFERROR(IF(OR(ISTEXT(RTD(\"cqg.rtd\",,\"OrderData\",\"\"&B367&\"\",\"\",\"OpenPosition\",\"\"&Display2!$D$3&\"\")),RTD(\"cqg.rtd\",,\"OrderData\",\"\"&B367&\"\",\"\",\"OpenPosition\",\"\"&Display2!$D$3&\"\")=0),A366+0.001,INT(A366)+1),A366)","v":0.36700000000000027},{"$f":"(LEFT(B368,SEARCH(Display2!$G$2,B368)+LEN(Display2!$G$2)+2))&RIGHT(B368,LEN(B368)-(SEARCH(Display2!$G$2,B368)+LEN(Display2!$G$2)+2))+Display2!$J$3","v":"P.US.CLEV176250"}]
[{"$f":"IFERROR(IF(OR(ISTEXT(RTD(\"cqg.rtd\",,\"OrderData\",\"\"&B368&\"\",\"\",\"OpenPosition\",\"\"&Display2!$D$3&\"\")),RTD(\"cqg.rtd\",,\"OrderData\",\"\"&B368&\"\",\"\",\"OpenPosition\",\"\"&Display2!$D$3&\"\")=0),A367+0.001,INT(A367)+1),A367)","v":0.36800000000000027},{"$f":"(LEFT(B369,SEARCH(Display2!$G$2,B369)+LEN(Display2!$G$2)+2))&RIGHT(B369,LEN(B369)-(SEARCH(Display2!$G$2,B369)+LEN(Display2!$G$2)+2))+Display2!$J$3","v":"P.US.CLEV176200"}]
[{"$f":"IFERROR(IF(OR(ISTEXT(RTD(\"cqg.rtd\",,\"OrderData\",\"\"&B369&\"\",\"\",\"OpenPosition\",\"\"&Display2!$D$3&\"\")),RTD(\"cqg.rtd\",,\"OrderData\",\"\"&B369&\"\",\"\",\"OpenPosition\",\"\"&Display2!$D$3&\"\")=0),A368+0.001,INT(A368)+1),A368)","v":0.36900000000000027},{"$f":"(LEFT(B370,SEARCH(Display2!$G$2,B370)+LEN(Display2!$G$2)+2))&RIGHT(B370,LEN(B370)-(SEARCH(Display2!$G$2,B370)+LEN(Display2!$G$2)+2))+Display2!$J$3","v":"P.US.CLEV176150"}]
[{"$f":"IFERROR(IF(OR(ISTEXT(RTD(\"cqg.rtd\",,\"OrderData\",\"\"&B370&\"\",\"\",\"OpenPosition\",\"\"&Display2!$D$3&\"\")),RTD(\"cqg.rtd\",,\"OrderData\",\"\"&B370&\"\",\"\",\"OpenPosition\",\"\"&Display2!$D$3&\"\")=0),A369+0.001,INT(A369)+1),A369)","v":0.37000000000000027},{"$f":"(LEFT(B371,SEARCH(Display2!$G$2,B371)+LEN(Display2!$G$2)+2))&RIGHT(B371,LEN(B371)-(SEARCH(Display2!$G$2,B371)+LEN(Display2!$G$2)+2))+Display2!$J$3","v":"P.US.CLEV176100"}]
[{"$f":"IFERROR(IF(OR(ISTEXT(RTD(\"cqg.rtd\",,\"OrderData\",\"\"&B371&\"\",\"\",\"OpenPosition\",\"\"&Display2!$D$3&\"\")),RTD(\"cqg.rtd\",,\"OrderData\",\"\"&B371&\"\",\"\",\"OpenPosition\",\"\"&Display2!$D$3&\"\")=0),A370+0.001,INT(A370)+1),A370)","v":0.37100000000000027},{"$f":"(LEFT(B372,SEARCH(Display2!$G$2,B372)+LEN(Display2!$G$2)+2))&RIGHT(B372,LEN(B372)-(SEARCH(Display2!$G$2,B372)+LEN(Display2!$G$2)+2))+Display2!$J$3","v":"P.US.CLEV176050"}]
[{"$f":"IFERROR(IF(OR(ISTEXT(RTD(\"cqg.rtd\",,\"OrderData\",\"\"&B372&\"\",\"\",\"OpenPosition\",\"\"&Display2!$D$3&\"\")),RTD(\"cqg.rtd\",,\"OrderData\",\"\"&B372&\"\",\"\",\"OpenPosition\",\"\"&Display2!$D$3&\"\")=0),A371+0.001,INT(A371)+1),A371)","v":0.37200000000000027},{"$f":"(LEFT(B373,SEARCH(Display2!$G$2,B373)+LEN(Display2!$G$2)+2))&RIGHT(B373,LEN(B373)-(SEARCH(Display2!$G$2,B373)+LEN(Display2!$G$2)+2))+Display2!$J$3","v":"P.US.CLEV176000"}]
[{"$f":"IFERROR(IF(OR(ISTEXT(RTD(\"cqg.rtd\",,\"OrderData\",\"\"&B373&\"\",\"\",\"OpenPosition\",\"\"&Display2!$D$3&\"\")),RTD(\"cqg.rtd\",,\"OrderData\",\"\"&B373&\"\",\"\",\"OpenPosition\",\"\"&Display2!$D$3&\"\")=0),A372+0.001,INT(A372)+1),A372)","v":0.37300000000000028},{"$f":"(LEFT(B374,SEARCH(Display2!$G$2,B374)+LEN(Display2!$G$2)+2))&RIGHT(B374,LEN(B374)-(SEARCH(Display2!$G$2,B374)+LEN(Display2!$G$2)+2))+Display2!$J$3","v":"P.US.CLEV175950"}]
[{"$f":"IFERROR(IF(OR(ISTEXT(RTD(\"cqg.rtd\",,\"OrderData\",\"\"&B374&\"\",\"\",\"OpenPosition\",\"\"&Display2!$D$3&\"\")),RTD(\"cqg.rtd\",,\"OrderData\",\"\"&B374&\"\",\"\",\"OpenPosition\",\"\"&Display2!$D$3&\"\")=0),A373+0.001,INT(A373)+1),A373)","v":0.37400000000000028},{"$f":"(LEFT(B375,SEARCH(Display2!$G$2,B375)+LEN(Display2!$G$2)+2))&RIGHT(B375,LEN(B375)-(SEARCH(Display2!$G$2,B375)+LEN(Display2!$G$2)+2))+Display2!$J$3","v":"P.US.CLEV175900"}]
[{"$f":"IFERROR(IF(OR(ISTEXT(RTD(\"cqg.rtd\",,\"OrderData\",\"\"&B375&\"\",\"\",\"OpenPosition\",\"\"&Display2!$D$3&\"\")),RTD(\"cqg.rtd\",,\"OrderData\",\"\"&B375&\"\",\"\",\"OpenPosition\",\"\"&Display2!$D$3&\"\")=0),A374+0.001,INT(A374)+1),A374)","v":0.37500000000000028},{"$f":"(LEFT(B376,SEARCH(Display2!$G$2,B376)+LEN(Display2!$G$2)+2))&RIGHT(B376,LEN(B376)-(SEARCH(Display2!$G$2,B376)+LEN(Display2!$G$2)+2))+Display2!$J$3","v":"P.US.CLEV175850"}]
[{"$f":"IFERROR(IF(OR(ISTEXT(RTD(\"cqg.rtd\",,\"OrderData\",\"\"&B376&\"\",\"\",\"OpenPosition\",\"\"&Display2!$D$3&\"\")),RTD(\"cqg.rtd\",,\"OrderData\",\"\"&B376&\"\",\"\",\"OpenPosition\",\"\"&Display2!$D$3&\"\")=0),A375+0.001,INT(A375)+1),A375)","v":0.37600000000000028},{"$f":"(LEFT(B377,SEARCH(Display2!$G$2,B377)+LEN(Display2!$G$2)+2))&RIGHT(B377,LEN(B377)-(SEARCH(Display2!$G$2,B377)+LEN(Display2!$G$2)+2))+Display2!$J$3","v":"P.US.CLEV175800"}]
[{"$f":"IFERROR(IF(OR(ISTEXT(RTD(\"cqg.rtd\",,\"OrderData\",\"\"&B377&\"\",\"\",\"OpenPosition\",\"\"&Display2!$D$3&\"\")),RTD(\"cqg.rtd\",,\"OrderData\",\"\"&B377&\"\",\"\",\"OpenPosition\",\"\"&Display2!$D$3&\"\")=0),A376+0.001,INT(A376)+1),A376)","v":0.37700000000000028},{"$f":"(LEFT(B378,SEARCH(Display2!$G$2,B378)+LEN(Display2!$G$2)+2))&RIGHT(B378,LEN(B378)-(SEARCH(Display2!$G$2,B378)+LEN(Display2!$G$2)+2))+Display2!$J$3","v":"P.US.CLEV175750"}]
[{"$f":"IFERROR(IF(OR(ISTEXT(RTD(\"cqg.rtd\",,\"OrderData\",\"\"&B378&\"\",\"\",\"OpenPosition\",\"\"&Display2!$D$3&\"\")),RTD(\"cqg.rtd\",,\"OrderData\",\"\"&B378&\"\",\"\",\"OpenPosition\",\"\"&Display2!$D$3&\"\")=0),A377+0.001,INT(A377)+1),A377)","v":0.37800000000000028},{"$f":"(LEFT(B379,SEARCH(Display2!$G$2,B379)+LEN(Display2!$G$2)+2))&RIGHT(B379,LEN(B379)-(SEARCH(Display2!$G$2,B379)+LEN(Display2!$G$2)+2))+Display2!$J$3","v":"P.US.CLEV175700"}]
[{"$f":"IFERROR(IF(OR(ISTEXT(RTD(\"cqg.rtd\",,\"OrderData\",\"\"&B379&\"\",\"\",\"OpenPosition\",\"\"&Display2!$D$3&\"\")),RTD(\"cqg.rtd\",,\"OrderData\",\"\"&B379&\"\",\"\",\"OpenPosition\",\"\"&Display2!$D$3&\"\")=0),A378+0.001,INT(A378)+1),A378)","v":0.37900000000000028},{"$f":"(LEFT(B380,SEARCH(Display2!$G$2,B380)+LEN(Display2!$G$2)+2))&RIGHT(B380,LEN(B380)-(SEARCH(Display2!$G$2,B380)+LEN(Display2!$G$2)+2))+Display2!$J$3","v":"P.US.CLEV175650"}]
[{"$f":"IFERROR(IF(OR(ISTEXT(RTD(\"cqg.rtd\",,\"OrderData\",\"\"&B380&\"\",\"\",\"OpenPosition\",\"\"&Display2!$D$3&\"\")),RTD(\"cqg.rtd\",,\"OrderData\",\"\"&B380&\"\",\"\",\"OpenPosition\",\"\"&Display2!$D$3&\"\")=0),A379+0.001,INT(A379)+1),A379)","v":0.38000000000000028},{"$f":"(LEFT(B381,SEARCH(Display2!$G$2,B381)+LEN(Display2!$G$2)+2))&RIGHT(B381,LEN(B381)-(SEARCH(Display2!$G$2,B381)+LEN(Display2!$G$2)+2))+Display2!$J$3","v":"P.US.CLEV175600"}]
[{"$f":"IFERROR(IF(OR(ISTEXT(RTD(\"cqg.rtd\",,\"OrderData\",\"\"&B381&\"\",\"\",\"OpenPosition\",\"\"&Display2!$D$3&\"\")),RTD(\"cqg.rtd\",,\"OrderData\",\"\"&B381&\"\",\"\",\"OpenPosition\",\"\"&Display2!$D$3&\"\")=0),A380+0.001,INT(A380)+1),A380)","v":0.38100000000000028},{"$f":"(LEFT(B382,SEARCH(Display2!$G$2,B382)+LEN(Display2!$G$2)+2))&RIGHT(B382,LEN(B382)-(SEARCH(Display2!$G$2,B382)+LEN(Display2!$G$2)+2))+Display2!$J$3","v":"P.US.CLEV175550"}]
[{"$f":"IFERROR(IF(OR(ISTEXT(RTD(\"cqg.rtd\",,\"OrderData\",\"\"&B382&\"\",\"\",\"OpenPosition\",\"\"&Display2!$D$3&\"\")),RTD(\"cqg.rtd\",,\"OrderData\",\"\"&B382&\"\",\"\",\"OpenPosition\",\"\"&Display2!$D$3&\"\")=0),A381+0.001,INT(A381)+1),A381)","v":0.38200000000000028},{"$f":"(LEFT(B383,SEARCH(Display2!$G$2,B383)+LEN(Display2!$G$2)+2))&RIGHT(B383,LEN(B383)-(SEARCH(Display2!$G$2,B383)+LEN(Display2!$G$2)+2))+Display2!$J$3","v":"P.US.CLEV175500"}]
[{"$f":"IFERROR(IF(OR(ISTEXT(RTD(\"cqg.rtd\",,\"OrderData\",\"\"&B383&\"\",\"\",\"OpenPosition\",\"\"&Display2!$D$3&\"\")),RTD(\"cqg.rtd\",,\"OrderData\",\"\"&B383&\"\",\"\",\"OpenPosition\",\"\"&Display2!$D$3&\"\")=0),A382+0.001,INT(A382)+1),A382)","v":0.38300000000000028},{"$f":"(LEFT(B384,SEARCH(Display2!$G$2,B384)+LEN(Display2!$G$2)+2))&RIGHT(B384,LEN(B384)-(SEARCH(Display2!$G$2,B384)+LEN(Display2!$G$2)+2))+Display2!$J$3","v":"P.US.CLEV175450"}]
[{"$f":"IFERROR(IF(OR(ISTEXT(RTD(\"cqg.rtd\",,\"OrderData\",\"\"&B384&\"\",\"\",\"OpenPosition\",\"\"&Display2!$D$3&\"\")),RTD(\"cqg.rtd\",,\"OrderData\",\"\"&B384&\"\",\"\",\"OpenPosition\",\"\"&Display2!$D$3&\"\")=0),A383+0.001,INT(A383)+1),A383)","v":0.38400000000000029},{"$f":"(LEFT(B385,SEARCH(Display2!$G$2,B385)+LEN(Display2!$G$2)+2))&RIGHT(B385,LEN(B385)-(SEARCH(Display2!$G$2,B385)+LEN(Display2!$G$2)+2))+Display2!$J$3","v":"P.US.CLEV175400"}]
[{"$f":"IFERROR(IF(OR(ISTEXT(RTD(\"cqg.rtd\",,\"OrderData\",\"\"&B385&\"\",\"\",\"OpenPosition\",\"\"&Display2!$D$3&\"\")),RTD(\"cqg.rtd\",,\"OrderData\",\"\"&B385&\"\",\"\",\"OpenPosition\",\"\"&Display2!$D$3&\"\")=0),A384+0.001,INT(A384)+1),A384)","v":0.38500000000000029},{"$f":"(LEFT(B386,SEARCH(Display2!$G$2,B386)+LEN(Display2!$G$2)+2))&RIGHT(B386,LEN(B386)-(SEARCH(Display2!$G$2,B386)+LEN(Display2!$G$2)+2))+Display2!$J$3","v":"P.US.CLEV175350"}]
[{"$f":"IFERROR(IF(OR(ISTEXT(RTD(\"cqg.rtd\",,\"OrderData\",\"\"&B386&\"\",\"\",\"OpenPosition\",\"\"&Display2!$D$3&\"\")),RTD(\"cqg.rtd\",,\"OrderData\",\"\"&B386&\"\",\"\",\"OpenPosition\",\"\"&Display2!$D$3&\"\")=0),A385+0.001,INT(A385)+1),A385)","v":0.38600000000000029},{"$f":"(LEFT(B387,SEARCH(Display2!$G$2,B387)+LEN(Display2!$G$2)+2))&RIGHT(B387,LEN(B387)-(SEARCH(Display2!$G$2,B387)+LEN(Display2!$G$2)+2))+Display2!$J$3","v":"P.US.CLEV175300"}]
[{"$f":"IFERROR(IF(OR(ISTEXT(RTD(\"cqg.rtd\",,\"OrderData\",\"\"&B387&\"\",\"\",\"OpenPosition\",\"\"&Display2!$D$3&\"\")),RTD(\"cqg.rtd\",,\"OrderData\",\"\"&B387&\"\",\"\",\"OpenPosition\",\"\"&Display2!$D$3&\"\")=0),A386+0.001,INT(A386)+1),A386)","v":0.38700000000000029},{"$f":"(LEFT(B388,SEARCH(Display2!$G$2,B388)+LEN(Display2!$G$2)+2))&RIGHT(B388,LEN(B388)-(SEARCH(Display2!$G$2,B388)+LEN(Display2!$G$2)+2))+Display2!$J$3","v":"P.US.CLEV175250"}]
[{"$f":"IFERROR(IF(OR(ISTEXT(RTD(\"cqg.rtd\",,\"OrderData\",\"\"&B388&\"\",\"\",\"OpenPosition\",\"\"&Display2!$D$3&\"\")),RTD(\"cqg.rtd\",,\"OrderData\",\"\"&B388&\"\",\"\",\"OpenPosition\",\"\"&Display2!$D$3&\"\")=0),A387+0.001,INT(A387)+1),A387)","v":0.38800000000000029},{"$f":"(LEFT(B389,SEARCH(Display2!$G$2,B389)+LEN(Display2!$G$2)+2))&RIGHT(B389,LEN(B389)-(SEARCH(Display2!$G$2,B389)+LEN(Display2!$G$2)+2))+Display2!$J$3","v":"P.US.CLEV175200"}]
[{"$f":"IFERROR(IF(OR(ISTEXT(RTD(\"cqg.rtd\",,\"OrderData\",\"\"&B389&\"\",\"\",\"OpenPosition\",\"\"&Display2!$D$3&\"\")),RTD(\"cqg.rtd\",,\"OrderData\",\"\"&B389&\"\",\"\",\"OpenPosition\",\"\"&Display2!$D$3&\"\")=0),A388+0.001,INT(A388)+1),A388)","v":0.38900000000000029},{"$f":"(LEFT(B390,SEARCH(Display2!$G$2,B390)+LEN(Display2!$G$2)+2))&RIGHT(B390,LEN(B390)-(SEARCH(Display2!$G$2,B390)+LEN(Display2!$G$2)+2))+Display2!$J$3","v":"P.US.CLEV175150"}]
[{"$f":"IFERROR(IF(OR(ISTEXT(RTD(\"cqg.rtd\",,\"OrderData\",\"\"&B390&\"\",\"\",\"OpenPosition\",\"\"&Display2!$D$3&\"\")),RTD(\"cqg.rtd\",,\"OrderData\",\"\"&B390&\"\",\"\",\"OpenPosition\",\"\"&Display2!$D$3&\"\")=0),A389+0.001,INT(A389)+1),A389)","v":0.39000000000000029},{"$f":"(LEFT(B391,SEARCH(Display2!$G$2,B391)+LEN(Display2!$G$2)+2))&RIGHT(B391,LEN(B391)-(SEARCH(Display2!$G$2,B391)+LEN(Display2!$G$2)+2))+Display2!$J$3","v":"P.US.CLEV175100"}]
[{"$f":"IFERROR(IF(OR(ISTEXT(RTD(\"cqg.rtd\",,\"OrderData\",\"\"&B391&\"\",\"\",\"OpenPosition\",\"\"&Display2!$D$3&\"\")),RTD(\"cqg.rtd\",,\"OrderData\",\"\"&B391&\"\",\"\",\"OpenPosition\",\"\"&Display2!$D$3&\"\")=0),A390+0.001,INT(A390)+1),A390)","v":0.39100000000000029},{"$f":"(LEFT(B392,SEARCH(Display2!$G$2,B392)+LEN(Display2!$G$2)+2))&RIGHT(B392,LEN(B392)-(SEARCH(Display2!$G$2,B392)+LEN(Display2!$G$2)+2))+Display2!$J$3","v":"P.US.CLEV175050"}]
[{"$f":"IFERROR(IF(OR(ISTEXT(RTD(\"cqg.rtd\",,\"OrderData\",\"\"&B392&\"\",\"\",\"OpenPosition\",\"\"&Display2!$D$3&\"\")),RTD(\"cqg.rtd\",,\"OrderData\",\"\"&B392&\"\",\"\",\"OpenPosition\",\"\"&Display2!$D$3&\"\")=0),A391+0.001,INT(A391)+1),A391)","v":0.39200000000000029},{"$f":"(LEFT(B393,SEARCH(Display2!$G$2,B393)+LEN(Display2!$G$2)+2))&RIGHT(B393,LEN(B393)-(SEARCH(Display2!$G$2,B393)+LEN(Display2!$G$2)+2))+Display2!$J$3","v":"P.US.CLEV175000"}]
[{"$f":"IFERROR(IF(OR(ISTEXT(RTD(\"cqg.rtd\",,\"OrderData\",\"\"&B393&\"\",\"\",\"OpenPosition\",\"\"&Display2!$D$3&\"\")),RTD(\"cqg.rtd\",,\"OrderData\",\"\"&B393&\"\",\"\",\"OpenPosition\",\"\"&Display2!$D$3&\"\")=0),A392+0.001,INT(A392)+1),A392)","v":0.39300000000000029},{"$f":"(LEFT(B394,SEARCH(Display2!$G$2,B394)+LEN(Display2!$G$2)+2))&RIGHT(B394,LEN(B394)-(SEARCH(Display2!$G$2,B394)+LEN(Display2!$G$2)+2))+Display2!$J$3","v":"P.US.CLEV174950"}]
[{"$f":"IFERROR(IF(OR(ISTEXT(RTD(\"cqg.rtd\",,\"OrderData\",\"\"&B394&\"\",\"\",\"OpenPosition\",\"\"&Display2!$D$3&\"\")),RTD(\"cqg.rtd\",,\"OrderData\",\"\"&B394&\"\",\"\",\"OpenPosition\",\"\"&Display2!$D$3&\"\")=0),A393+0.001,INT(A393)+1),A393)","v":0.39400000000000029},{"$f":"(LEFT(B395,SEARCH(Display2!$G$2,B395)+LEN(Display2!$G$2)+2))&RIGHT(B395,LEN(B395)-(SEARCH(Display2!$G$2,B395)+LEN(Display2!$G$2)+2))+Display2!$J$3","v":"P.US.CLEV174900"}]
[{"$f":"IFERROR(IF(OR(ISTEXT(RTD(\"cqg.rtd\",,\"OrderData\",\"\"&B395&\"\",\"\",\"OpenPosition\",\"\"&Display2!$D$3&\"\")),RTD(\"cqg.rtd\",,\"OrderData\",\"\"&B395&\"\",\"\",\"OpenPosition\",\"\"&Display2!$D$3&\"\")=0),A394+0.001,INT(A394)+1),A394)","v":0.3950000000000003},{"$f":"(LEFT(B396,SEARCH(Display2!$G$2,B396)+LEN(Display2!$G$2)+2))&RIGHT(B396,LEN(B396)-(SEARCH(Display2!$G$2,B396)+LEN(Display2!$G$2)+2))+Display2!$J$3","v":"P.US.CLEV174850"}]
[{"$f":"IFERROR(IF(OR(ISTEXT(RTD(\"cqg.rtd\",,\"OrderData\",\"\"&B396&\"\",\"\",\"OpenPosition\",\"\"&Display2!$D$3&\"\")),RTD(\"cqg.rtd\",,\"OrderData\",\"\"&B396&\"\",\"\",\"OpenPosition\",\"\"&Display2!$D$3&\"\")=0),A395+0.001,INT(A395)+1),A395)","v":0.3960000000000003},{"$f":"(LEFT(B397,SEARCH(Display2!$G$2,B397)+LEN(Display2!$G$2)+2))&RIGHT(B397,LEN(B397)-(SEARCH(Display2!$G$2,B397)+LEN(Display2!$G$2)+2))+Display2!$J$3","v":"P.US.CLEV174800"}]
[{"$f":"IFERROR(IF(OR(ISTEXT(RTD(\"cqg.rtd\",,\"OrderData\",\"\"&B397&\"\",\"\",\"OpenPosition\",\"\"&Display2!$D$3&\"\")),RTD(\"cqg.rtd\",,\"OrderData\",\"\"&B397&\"\",\"\",\"OpenPosition\",\"\"&Display2!$D$3&\"\")=0),A396+0.001,INT(A396)+1),A396)","v":0.3970000000000003},{"$f":"(LEFT(B398,SEARCH(Display2!$G$2,B398)+LEN(Display2!$G$2)+2))&RIGHT(B398,LEN(B398)-(SEARCH(Display2!$G$2,B398)+LEN(Display2!$G$2)+2))+Display2!$J$3","v":"P.US.CLEV174750"}]
[{"$f":"IFERROR(IF(OR(ISTEXT(RTD(\"cqg.rtd\",,\"OrderData\",\"\"&B398&\"\",\"\",\"OpenPosition\",\"\"&Display2!$D$3&\"\")),RTD(\"cqg.rtd\",,\"OrderData\",\"\"&B398&\"\",\"\",\"OpenPosition\",\"\"&Display2!$D$3&\"\")=0),A397+0.001,INT(A397)+1),A397)","v":0.3980000000000003},{"$f":"(LEFT(B399,SEARCH(Display2!$G$2,B399)+LEN(Display2!$G$2)+2))&RIGHT(B399,LEN(B399)-(SEARCH(Display2!$G$2,B399)+LEN(Display2!$G$2)+2))+Display2!$J$3","v":"P.US.CLEV174700"}]
[{"$f":"IFERROR(IF(OR(ISTEXT(RTD(\"cqg.rtd\",,\"OrderData\",\"\"&B399&\"\",\"\",\"OpenPosition\",\"\"&Display2!$D$3&\"\")),RTD(\"cqg.rtd\",,\"OrderData\",\"\"&B399&\"\",\"\",\"OpenPosition\",\"\"&Display2!$D$3&\"\")=0),A398+0.001,INT(A398)+1),A398)","v":0.3990000000000003},{"$f":"(LEFT(B400,SEARCH(Display2!$G$2,B400)+LEN(Display2!$G$2)+2))&RIGHT(B400,LEN(B400)-(SEARCH(Display2!$G$2,B400)+LEN(Display2!$G$2)+2))+Display2!$J$3","v":"P.US.CLEV174650"}]
[{"$f":"IFERROR(IF(OR(ISTEXT(RTD(\"cqg.rtd\",,\"OrderData\",\"\"&B400&\"\",\"\",\"OpenPosition\",\"\"&Display2!$D$3&\"\")),RTD(\"cqg.rtd\",,\"OrderData\",\"\"&B400&\"\",\"\",\"OpenPosition\",\"\"&Display2!$D$3&\"\")=0),A399+0.001,INT(A399)+1),A399)","v":0.4000000000000003},{"$f":"(LEFT(B401,SEARCH(Display2!$G$2,B401)+LEN(Display2!$G$2)+2))&RIGHT(B401,LEN(B401)-(SEARCH(Display2!$G$2,B401)+LEN(Display2!$G$2)+2))+Display2!$J$3","v":"P.US.CLEV174600"}]
[{"$f":"IFERROR(IF(OR(ISTEXT(RTD(\"cqg.rtd\",,\"OrderData\",\"\"&B401&\"\",\"\",\"OpenPosition\",\"\"&Display2!$D$3&\"\")),RTD(\"cqg.rtd\",,\"OrderData\",\"\"&B401&\"\",\"\",\"OpenPosition\",\"\"&Display2!$D$3&\"\")=0),A400+0.001,INT(A400)+1),A400)","v":0.4010000000000003},{"$f":"(LEFT(B402,SEARCH(Display2!$G$2,B402)+LEN(Display2!$G$2)+2))&RIGHT(B402,LEN(B402)-(SEARCH(Display2!$G$2,B402)+LEN(Display2!$G$2)+2))+Display2!$J$3","v":"P.US.CLEV174550"}]
[{"$f":"IFERROR(IF(OR(ISTEXT(RTD(\"cqg.rtd\",,\"OrderData\",\"\"&B402&\"\",\"\",\"OpenPosition\",\"\"&Display2!$D$3&\"\")),RTD(\"cqg.rtd\",,\"OrderData\",\"\"&B402&\"\",\"\",\"OpenPosition\",\"\"&Display2!$D$3&\"\")=0),A401+0.001,INT(A401)+1),A401)","v":0.4020000000000003},{"$f":"(LEFT(B403,SEARCH(Display2!$G$2,B403)+LEN(Display2!$G$2)+2))&RIGHT(B403,LEN(B403)-(SEARCH(Display2!$G$2,B403)+LEN(Display2!$G$2)+2))+Display2!$J$3","v":"P.US.CLEV174500"}]
[{"$f":"IFERROR(IF(OR(ISTEXT(RTD(\"cqg.rtd\",,\"OrderData\",\"\"&B403&\"\",\"\",\"OpenPosition\",\"\"&Display2!$D$3&\"\")),RTD(\"cqg.rtd\",,\"OrderData\",\"\"&B403&\"\",\"\",\"OpenPosition\",\"\"&Display2!$D$3&\"\")=0),A402+0.001,INT(A402)+1),A402)","v":0.4030000000000003},{"$f":"(LEFT(B404,SEARCH(Display2!$G$2,B404)+LEN(Display2!$G$2)+2))&RIGHT(B404,LEN(B404)-(SEARCH(Display2!$G$2,B404)+LEN(Display2!$G$2)+2))+Display2!$J$3","v":"P.US.CLEV174450"}]
[{"$f":"IFERROR(IF(OR(ISTEXT(RTD(\"cqg.rtd\",,\"OrderData\",\"\"&B404&\"\",\"\",\"OpenPosition\",\"\"&Display2!$D$3&\"\")),RTD(\"cqg.rtd\",,\"OrderData\",\"\"&B404&\"\",\"\",\"OpenPosition\",\"\"&Display2!$D$3&\"\")=0),A403+0.001,INT(A403)+1),A403)","v":0.4040000000000003},{"$f":"(LEFT(B405,SEARCH(Display2!$G$2,B405)+LEN(Display2!$G$2)+2))&RIGHT(B405,LEN(B405)-(SEARCH(Display2!$G$2,B405)+LEN(Display2!$G$2)+2))+Display2!$J$3","v":"P.US.CLEV174400"}]
[{"$f":"IFERROR(IF(OR(ISTEXT(RTD(\"cqg.rtd\",,\"OrderData\",\"\"&B405&\"\",\"\",\"OpenPosition\",\"\"&Display2!$D$3&\"\")),RTD(\"cqg.rtd\",,\"OrderData\",\"\"&B405&\"\",\"\",\"OpenPosition\",\"\"&Display2!$D$3&\"\")=0),A404+0.001,INT(A404)+1),A404)","v":0.4050000000000003},{"$f":"RTD(\"cqg.rtd\", ,\"ContractData\", \"P.US.\"&Display2!$G$2&Display2!$I$3&\"\", \"Symbol\",, \"T\")","v":"P.US.CLEV174350"}]
[{"$f":"IFERROR(IF(OR(ISTEXT(RTD(\"cqg.rtd\",,\"OrderData\",\"\"&B406&\"\",\"\",\"OpenPosition\",\"\"&Display2!$D$3&\"\")),RTD(\"cqg.rtd\",,\"OrderData\",\"\"&B406&\"\",\"\",\"OpenPosition\",\"\"&Display2!$D$3&\"\")=0),A405+0.001,INT(A405)+1),A405)","v":0.40600000000000031},{"$f":"(LEFT(B405,SEARCH(Display2!$G$2,B405)+LEN(Display2!$G$2)+2))&RIGHT(B405,LEN(B405)-(SEARCH(Display2!$G$2,B405)+LEN(Display2!$G$2)+2))-Display2!$J$3","v":"P.US.CLEV174300"}]
[{"$f":"IFERROR(IF(OR(ISTEXT(RTD(\"cqg.rtd\",,\"OrderData\",\"\"&B407&\"\",\"\",\"OpenPosition\",\"\"&Display2!$D$3&\"\")),RTD(\"cqg.rtd\",,\"OrderData\",\"\"&B407&\"\",\"\",\"OpenPosition\",\"\"&Display2!$D$3&\"\")=0),A406+0.001,INT(A406)+1),A406)","v":0.40700000000000031},{"$f":"(LEFT(B406,SEARCH(Display2!$G$2,B406)+LEN(Display2!$G$2)+2))&RIGHT(B406,LEN(B406)-(SEARCH(Display2!$G$2,B406)+LEN(Display2!$G$2)+2))-Display2!$J$3","v":"P.US.CLEV174250"}]
[{"$f":"IFERROR(IF(OR(ISTEXT(RTD(\"cqg.rtd\",,\"OrderData\",\"\"&B408&\"\",\"\",\"OpenPosition\",\"\"&Display2!$D$3&\"\")),RTD(\"cqg.rtd\",,\"OrderData\",\"\"&B408&\"\",\"\",\"OpenPosition\",\"\"&Display2!$D$3&\"\")=0),A407+0.001,INT(A407)+1),A407)","v":0.40800000000000031},{"$f":"(LEFT(B407,SEARCH(Display2!$G$2,B407)+LEN(Display2!$G$2)+2))&RIGHT(B407,LEN(B407)-(SEARCH(Display2!$G$2,B407)+LEN(Display2!$G$2)+2))-Display2!$J$3","v":"P.US.CLEV174200"}]
[{"$f":"IFERROR(IF(OR(ISTEXT(RTD(\"cqg.rtd\",,\"OrderData\",\"\"&B409&\"\",\"\",\"OpenPosition\",\"\"&Display2!$D$3&\"\")),RTD(\"cqg.rtd\",,\"OrderData\",\"\"&B409&\"\",\"\",\"OpenPosition\",\"\"&Display2!$D$3&\"\")=0),A408+0.001,INT(A408)+1),A408)","v":0.40900000000000031},{"$f":"(LEFT(B408,SEARCH(Display2!$G$2,B408)+LEN(Display2!$G$2)+2))&RIGHT(B408,LEN(B408)-(SEARCH(Display2!$G$2,B408)+LEN(Display2!$G$2)+2))-Display2!$J$3","v":"P.US.CLEV174150"}]
[{"$f":"IFERROR(IF(OR(ISTEXT(RTD(\"cqg.rtd\",,\"OrderData\",\"\"&B410&\"\",\"\",\"OpenPosition\",\"\"&Display2!$D$3&\"\")),RTD(\"cqg.rtd\",,\"OrderData\",\"\"&B410&\"\",\"\",\"OpenPosition\",\"\"&Display2!$D$3&\"\")=0),A409+0.001,INT(A409)+1),A409)","v":0.41000000000000031},{"$f":"(LEFT(B409,SEARCH(Display2!$G$2,B409)+LEN(Display2!$G$2)+2))&RIGHT(B409,LEN(B409)-(SEARCH(Display2!$G$2,B409)+LEN(Display2!$G$2)+2))-Display2!$J$3","v":"P.US.CLEV174100"}]
[{"$f":"IFERROR(IF(OR(ISTEXT(RTD(\"cqg.rtd\",,\"OrderData\",\"\"&B411&\"\",\"\",\"OpenPosition\",\"\"&Display2!$D$3&\"\")),RTD(\"cqg.rtd\",,\"OrderData\",\"\"&B411&\"\",\"\",\"OpenPosition\",\"\"&Display2!$D$3&\"\")=0),A410+0.001,INT(A410)+1),A410)","v":0.41100000000000031},{"$f":"(LEFT(B410,SEARCH(Display2!$G$2,B410)+LEN(Display2!$G$2)+2))&RIGHT(B410,LEN(B410)-(SEARCH(Display2!$G$2,B410)+LEN(Display2!$G$2)+2))-Display2!$J$3","v":"P.US.CLEV174050"}]
[{"$f":"IFERROR(IF(OR(ISTEXT(RTD(\"cqg.rtd\",,\"OrderData\",\"\"&B412&\"\",\"\",\"OpenPosition\",\"\"&Display2!$D$3&\"\")),RTD(\"cqg.rtd\",,\"OrderData\",\"\"&B412&\"\",\"\",\"OpenPosition\",\"\"&Display2!$D$3&\"\")=0),A411+0.001,INT(A411)+1),A411)","v":0.41200000000000031},{"$f":"(LEFT(B411,SEARCH(Display2!$G$2,B411)+LEN(Display2!$G$2)+2))&RIGHT(B411,LEN(B411)-(SEARCH(Display2!$G$2,B411)+LEN(Display2!$G$2)+2))-Display2!$J$3","v":"P.US.CLEV174000"}]
[{"$f":"IFERROR(IF(OR(ISTEXT(RTD(\"cqg.rtd\",,\"OrderData\",\"\"&B413&\"\",\"\",\"OpenPosition\",\"\"&Display2!$D$3&\"\")),RTD(\"cqg.rtd\",,\"OrderData\",\"\"&B413&\"\",\"\",\"OpenPosition\",\"\"&Display2!$D$3&\"\")=0),A412+0.001,INT(A412)+1),A412)","v":0.41300000000000031},{"$f":"(LEFT(B412,SEARCH(Display2!$G$2,B412)+LEN(Display2!$G$2)+2))&RIGHT(B412,LEN(B412)-(SEARCH(Display2!$G$2,B412)+LEN(Display2!$G$2)+2))-Display2!$J$3","v":"P.US.CLEV173950"}]
[{"$f":"IFERROR(IF(OR(ISTEXT(RTD(\"cqg.rtd\",,\"OrderData\",\"\"&B414&\"\",\"\",\"OpenPosition\",\"\"&Display2!$D$3&\"\")),RTD(\"cqg.rtd\",,\"OrderData\",\"\"&B414&\"\",\"\",\"OpenPosition\",\"\"&Display2!$D$3&\"\")=0),A413+0.001,INT(A413)+1),A413)","v":0.41400000000000031},{"$f":"(LEFT(B413,SEARCH(Display2!$G$2,B413)+LEN(Display2!$G$2)+2))&RIGHT(B413,LEN(B413)-(SEARCH(Display2!$G$2,B413)+LEN(Display2!$G$2)+2))-Display2!$J$3","v":"P.US.CLEV173900"}]
[{"$f":"IFERROR(IF(OR(ISTEXT(RTD(\"cqg.rtd\",,\"OrderData\",\"\"&B415&\"\",\"\",\"OpenPosition\",\"\"&Display2!$D$3&\"\")),RTD(\"cqg.rtd\",,\"OrderData\",\"\"&B415&\"\",\"\",\"OpenPosition\",\"\"&Display2!$D$3&\"\")=0),A414+0.001,INT(A414)+1),A414)","v":0.41500000000000031},{"$f":"(LEFT(B414,SEARCH(Display2!$G$2,B414)+LEN(Display2!$G$2)+2))&RIGHT(B414,LEN(B414)-(SEARCH(Display2!$G$2,B414)+LEN(Display2!$G$2)+2))-Display2!$J$3","v":"P.US.CLEV173850"}]
[{"$f":"IFERROR(IF(OR(ISTEXT(RTD(\"cqg.rtd\",,\"OrderData\",\"\"&B416&\"\",\"\",\"OpenPosition\",\"\"&Display2!$D$3&\"\")),RTD(\"cqg.rtd\",,\"OrderData\",\"\"&B416&\"\",\"\",\"OpenPosition\",\"\"&Display2!$D$3&\"\")=0),A415+0.001,INT(A415)+1),A415)","v":0.41600000000000031},{"$f":"(LEFT(B415,SEARCH(Display2!$G$2,B415)+LEN(Display2!$G$2)+2))&RIGHT(B415,LEN(B415)-(SEARCH(Display2!$G$2,B415)+LEN(Display2!$G$2)+2))-Display2!$J$3","v":"P.US.CLEV173800"}]
[{"$f":"IFERROR(IF(OR(ISTEXT(RTD(\"cqg.rtd\",,\"OrderData\",\"\"&B417&\"\",\"\",\"OpenPosition\",\"\"&Display2!$D$3&\"\")),RTD(\"cqg.rtd\",,\"OrderData\",\"\"&B417&\"\",\"\",\"OpenPosition\",\"\"&Display2!$D$3&\"\")=0),A416+0.001,INT(A416)+1),A416)","v":0.41700000000000031},{"$f":"(LEFT(B416,SEARCH(Display2!$G$2,B416)+LEN(Display2!$G$2)+2))&RIGHT(B416,LEN(B416)-(SEARCH(Display2!$G$2,B416)+LEN(Display2!$G$2)+2))-Display2!$J$3","v":"P.US.CLEV173750"}]
[{"$f":"IFERROR(IF(OR(ISTEXT(RTD(\"cqg.rtd\",,\"OrderData\",\"\"&B418&\"\",\"\",\"OpenPosition\",\"\"&Display2!$D$3&\"\")),RTD(\"cqg.rtd\",,\"OrderData\",\"\"&B418&\"\",\"\",\"OpenPosition\",\"\"&Display2!$D$3&\"\")=0),A417+0.001,INT(A417)+1),A417)","v":0.41800000000000032},{"$f":"(LEFT(B417,SEARCH(Display2!$G$2,B417)+LEN(Display2!$G$2)+2))&RIGHT(B417,LEN(B417)-(SEARCH(Display2!$G$2,B417)+LEN(Display2!$G$2)+2))-Display2!$J$3","v":"P.US.CLEV173700"}]
[{"$f":"IFERROR(IF(OR(ISTEXT(RTD(\"cqg.rtd\",,\"OrderData\",\"\"&B419&\"\",\"\",\"OpenPosition\",\"\"&Display2!$D$3&\"\")),RTD(\"cqg.rtd\",,\"OrderData\",\"\"&B419&\"\",\"\",\"OpenPosition\",\"\"&Display2!$D$3&\"\")=0),A418+0.001,INT(A418)+1),A418)","v":0.41900000000000032},{"$f":"(LEFT(B418,SEARCH(Display2!$G$2,B418)+LEN(Display2!$G$2)+2))&RIGHT(B418,LEN(B418)-(SEARCH(Display2!$G$2,B418)+LEN(Display2!$G$2)+2))-Display2!$J$3","v":"P.US.CLEV173650"}]
[{"$f":"IFERROR(IF(OR(ISTEXT(RTD(\"cqg.rtd\",,\"OrderData\",\"\"&B420&\"\",\"\",\"OpenPosition\",\"\"&Display2!$D$3&\"\")),RTD(\"cqg.rtd\",,\"OrderData\",\"\"&B420&\"\",\"\",\"OpenPosition\",\"\"&Display2!$D$3&\"\")=0),A419+0.001,INT(A419)+1),A419)","v":0.42000000000000032},{"$f":"(LEFT(B419,SEARCH(Display2!$G$2,B419)+LEN(Display2!$G$2)+2))&RIGHT(B419,LEN(B419)-(SEARCH(Display2!$G$2,B419)+LEN(Display2!$G$2)+2))-Display2!$J$3","v":"P.US.CLEV173600"}]
[{"$f":"IFERROR(IF(OR(ISTEXT(RTD(\"cqg.rtd\",,\"OrderData\",\"\"&B421&\"\",\"\",\"OpenPosition\",\"\"&Display2!$D$3&\"\")),RTD(\"cqg.rtd\",,\"OrderData\",\"\"&B421&\"\",\"\",\"OpenPosition\",\"\"&Display2!$D$3&\"\")=0),A420+0.001,INT(A420)+1),A420)","v":0.42100000000000032},{"$f":"(LEFT(B420,SEARCH(Display2!$G$2,B420)+LEN(Display2!$G$2)+2))&RIGHT(B420,LEN(B420)-(SEARCH(Display2!$G$2,B420)+LEN(Display2!$G$2)+2))-Display2!$J$3","v":"P.US.CLEV173550"}]
[{"$f":"IFERROR(IF(OR(ISTEXT(RTD(\"cqg.rtd\",,\"OrderData\",\"\"&B422&\"\",\"\",\"OpenPosition\",\"\"&Display2!$D$3&\"\")),RTD(\"cqg.rtd\",,\"OrderData\",\"\"&B422&\"\",\"\",\"OpenPosition\",\"\"&Display2!$D$3&\"\")=0),A421+0.001,INT(A421)+1),A421)","v":0.42200000000000032},{"$f":"(LEFT(B421,SEARCH(Display2!$G$2,B421)+LEN(Display2!$G$2)+2))&RIGHT(B421,LEN(B421)-(SEARCH(Display2!$G$2,B421)+LEN(Display2!$G$2)+2))-Display2!$J$3","v":"P.US.CLEV173500"}]
[{"$f":"IFERROR(IF(OR(ISTEXT(RTD(\"cqg.rtd\",,\"OrderData\",\"\"&B423&\"\",\"\",\"OpenPosition\",\"\"&Display2!$D$3&\"\")),RTD(\"cqg.rtd\",,\"OrderData\",\"\"&B423&\"\",\"\",\"OpenPosition\",\"\"&Display2!$D$3&\"\")=0),A422+0.001,INT(A422)+1),A422)","v":0.42300000000000032},{"$f":"(LEFT(B422,SEARCH(Display2!$G$2,B422)+LEN(Display2!$G$2)+2))&RIGHT(B422,LEN(B422)-(SEARCH(Display2!$G$2,B422)+LEN(Display2!$G$2)+2))-Display2!$J$3","v":"P.US.CLEV173450"}]
[{"$f":"IFERROR(IF(OR(ISTEXT(RTD(\"cqg.rtd\",,\"OrderData\",\"\"&B424&\"\",\"\",\"OpenPosition\",\"\"&Display2!$D$3&\"\")),RTD(\"cqg.rtd\",,\"OrderData\",\"\"&B424&\"\",\"\",\"OpenPosition\",\"\"&Display2!$D$3&\"\")=0),A423+0.001,INT(A423)+1),A423)","v":0.42400000000000032},{"$f":"(LEFT(B423,SEARCH(Display2!$G$2,B423)+LEN(Display2!$G$2)+2))&RIGHT(B423,LEN(B423)-(SEARCH(Display2!$G$2,B423)+LEN(Display2!$G$2)+2))-Display2!$J$3","v":"P.US.CLEV173400"}]
[{"$f":"IFERROR(IF(OR(ISTEXT(RTD(\"cqg.rtd\",,\"OrderData\",\"\"&B425&\"\",\"\",\"OpenPosition\",\"\"&Display2!$D$3&\"\")),RTD(\"cqg.rtd\",,\"OrderData\",\"\"&B425&\"\",\"\",\"OpenPosition\",\"\"&Display2!$D$3&\"\")=0),A424+0.001,INT(A424)+1),A424)","v":0.42500000000000032},{"$f":"(LEFT(B424,SEARCH(Display2!$G$2,B424)+LEN(Display2!$G$2)+2))&RIGHT(B424,LEN(B424)-(SEARCH(Display2!$G$2,B424)+LEN(Display2!$G$2)+2))-Display2!$J$3","v":"P.US.CLEV173350"}]
[{"$f":"IFERROR(IF(OR(ISTEXT(RTD(\"cqg.rtd\",,\"OrderData\",\"\"&B426&\"\",\"\",\"OpenPosition\",\"\"&Display2!$D$3&\"\")),RTD(\"cqg.rtd\",,\"OrderData\",\"\"&B426&\"\",\"\",\"OpenPosition\",\"\"&Display2!$D$3&\"\")=0),A425+0.001,INT(A425)+1),A425)","v":0.42600000000000032},{"$f":"(LEFT(B425,SEARCH(Display2!$G$2,B425)+LEN(Display2!$G$2)+2))&RIGHT(B425,LEN(B425)-(SEARCH(Display2!$G$2,B425)+LEN(Display2!$G$2)+2))-Display2!$J$3","v":"P.US.CLEV173300"}]
[{"$f":"IFERROR(IF(OR(ISTEXT(RTD(\"cqg.rtd\",,\"OrderData\",\"\"&B427&\"\",\"\",\"OpenPosition\",\"\"&Display2!$D$3&\"\")),RTD(\"cqg.rtd\",,\"OrderData\",\"\"&B427&\"\",\"\",\"OpenPosition\",\"\"&Display2!$D$3&\"\")=0),A426+0.001,INT(A426)+1),A426)","v":0.42700000000000032},{"$f":"(LEFT(B426,SEARCH(Display2!$G$2,B426)+LEN(Display2!$G$2)+2))&RIGHT(B426,LEN(B426)-(SEARCH(Display2!$G$2,B426)+LEN(Display2!$G$2)+2))-Display2!$J$3","v":"P.US.CLEV173250"}]
[{"$f":"IFERROR(IF(OR(ISTEXT(RTD(\"cqg.rtd\",,\"OrderData\",\"\"&B428&\"\",\"\",\"OpenPosition\",\"\"&Display2!$D$3&\"\")),RTD(\"cqg.rtd\",,\"OrderData\",\"\"&B428&\"\",\"\",\"OpenPosition\",\"\"&Display2!$D$3&\"\")=0),A427+0.001,INT(A427)+1),A427)","v":0.42800000000000032},{"$f":"(LEFT(B427,SEARCH(Display2!$G$2,B427)+LEN(Display2!$G$2)+2))&RIGHT(B427,LEN(B427)-(SEARCH(Display2!$G$2,B427)+LEN(Display2!$G$2)+2))-Display2!$J$3","v":"P.US.CLEV173200"}]
[{"$f":"IFERROR(IF(OR(ISTEXT(RTD(\"cqg.rtd\",,\"OrderData\",\"\"&B429&\"\",\"\",\"OpenPosition\",\"\"&Display2!$D$3&\"\")),RTD(\"cqg.rtd\",,\"OrderData\",\"\"&B429&\"\",\"\",\"OpenPosition\",\"\"&Display2!$D$3&\"\")=0),A428+0.001,INT(A428)+1),A428)","v":0.42900000000000033},{"$f":"(LEFT(B428,SEARCH(Display2!$G$2,B428)+LEN(Display2!$G$2)+2))&RIGHT(B428,LEN(B428)-(SEARCH(Display2!$G$2,B428)+LEN(Display2!$G$2)+2))-Display2!$J$3","v":"P.US.CLEV173150"}]
[{"$f":"IFERROR(IF(OR(ISTEXT(RTD(\"cqg.rtd\",,\"OrderData\",\"\"&B430&\"\",\"\",\"OpenPosition\",\"\"&Display2!$D$3&\"\")),RTD(\"cqg.rtd\",,\"OrderData\",\"\"&B430&\"\",\"\",\"OpenPosition\",\"\"&Display2!$D$3&\"\")=0),A429+0.001,INT(A429)+1),A429)","v":0.43000000000000033},{"$f":"(LEFT(B429,SEARCH(Display2!$G$2,B429)+LEN(Display2!$G$2)+2))&RIGHT(B429,LEN(B429)-(SEARCH(Display2!$G$2,B429)+LEN(Display2!$G$2)+2))-Display2!$J$3","v":"P.US.CLEV173100"}]
[{"$f":"IFERROR(IF(OR(ISTEXT(RTD(\"cqg.rtd\",,\"OrderData\",\"\"&B431&\"\",\"\",\"OpenPosition\",\"\"&Display2!$D$3&\"\")),RTD(\"cqg.rtd\",,\"OrderData\",\"\"&B431&\"\",\"\",\"OpenPosition\",\"\"&Display2!$D$3&\"\")=0),A430+0.001,INT(A430)+1),A430)","v":0.43100000000000033},{"$f":"(LEFT(B430,SEARCH(Display2!$G$2,B430)+LEN(Display2!$G$2)+2))&RIGHT(B430,LEN(B430)-(SEARCH(Display2!$G$2,B430)+LEN(Display2!$G$2)+2))-Display2!$J$3","v":"P.US.CLEV173050"}]
[{"$f":"IFERROR(IF(OR(ISTEXT(RTD(\"cqg.rtd\",,\"OrderData\",\"\"&B432&\"\",\"\",\"OpenPosition\",\"\"&Display2!$D$3&\"\")),RTD(\"cqg.rtd\",,\"OrderData\",\"\"&B432&\"\",\"\",\"OpenPosition\",\"\"&Display2!$D$3&\"\")=0),A431+0.001,INT(A431)+1),A431)","v":0.43200000000000033},{"$f":"(LEFT(B431,SEARCH(Display2!$G$2,B431)+LEN(Display2!$G$2)+2))&RIGHT(B431,LEN(B431)-(SEARCH(Display2!$G$2,B431)+LEN(Display2!$G$2)+2))-Display2!$J$3","v":"P.US.CLEV173000"}]
[{"$f":"IFERROR(IF(OR(ISTEXT(RTD(\"cqg.rtd\",,\"OrderData\",\"\"&B433&\"\",\"\",\"OpenPosition\",\"\"&Display2!$D$3&\"\")),RTD(\"cqg.rtd\",,\"OrderData\",\"\"&B433&\"\",\"\",\"OpenPosition\",\"\"&Display2!$D$3&\"\")=0),A432+0.001,INT(A432)+1),A432)","v":0.43300000000000033},{"$f":"(LEFT(B432,SEARCH(Display2!$G$2,B432)+LEN(Display2!$G$2)+2))&RIGHT(B432,LEN(B432)-(SEARCH(Display2!$G$2,B432)+LEN(Display2!$G$2)+2))-Display2!$J$3","v":"P.US.CLEV172950"}]
[{"$f":"IFERROR(IF(OR(ISTEXT(RTD(\"cqg.rtd\",,\"OrderData\",\"\"&B434&\"\",\"\",\"OpenPosition\",\"\"&Display2!$D$3&\"\")),RTD(\"cqg.rtd\",,\"OrderData\",\"\"&B434&\"\",\"\",\"OpenPosition\",\"\"&Display2!$D$3&\"\")=0),A433+0.001,INT(A433)+1),A433)","v":0.43400000000000033},{"$f":"(LEFT(B433,SEARCH(Display2!$G$2,B433)+LEN(Display2!$G$2)+2))&RIGHT(B433,LEN(B433)-(SEARCH(Display2!$G$2,B433)+LEN(Display2!$G$2)+2))-Display2!$J$3","v":"P.US.CLEV172900"}]
[{"$f":"IFERROR(IF(OR(ISTEXT(RTD(\"cqg.rtd\",,\"OrderData\",\"\"&B435&\"\",\"\",\"OpenPosition\",\"\"&Display2!$D$3&\"\")),RTD(\"cqg.rtd\",,\"OrderData\",\"\"&B435&\"\",\"\",\"OpenPosition\",\"\"&Display2!$D$3&\"\")=0),A434+0.001,INT(A434)+1),A434)","v":0.43500000000000033},{"$f":"(LEFT(B434,SEARCH(Display2!$G$2,B434)+LEN(Display2!$G$2)+2))&RIGHT(B434,LEN(B434)-(SEARCH(Display2!$G$2,B434)+LEN(Display2!$G$2)+2))-Display2!$J$3","v":"P.US.CLEV172850"}]
[{"$f":"IFERROR(IF(OR(ISTEXT(RTD(\"cqg.rtd\",,\"OrderData\",\"\"&B436&\"\",\"\",\"OpenPosition\",\"\"&Display2!$D$3&\"\")),RTD(\"cqg.rtd\",,\"OrderData\",\"\"&B436&\"\",\"\",\"OpenPosition\",\"\"&Display2!$D$3&\"\")=0),A435+0.001,INT(A435)+1),A435)","v":0.43600000000000033},{"$f":"(LEFT(B435,SEARCH(Display2!$G$2,B435)+LEN(Display2!$G$2)+2))&RIGHT(B435,LEN(B435)-(SEARCH(Display2!$G$2,B435)+LEN(Display2!$G$2)+2))-Display2!$J$3","v":"P.US.CLEV172800"}]
[{"$f":"IFERROR(IF(OR(ISTEXT(RTD(\"cqg.rtd\",,\"OrderData\",\"\"&B437&\"\",\"\",\"OpenPosition\",\"\"&Display2!$D$3&\"\")),RTD(\"cqg.rtd\",,\"OrderData\",\"\"&B437&\"\",\"\",\"OpenPosition\",\"\"&Display2!$D$3&\"\")=0),A436+0.001,INT(A436)+1),A436)","v":0.43700000000000033},{"$f":"(LEFT(B436,SEARCH(Display2!$G$2,B436)+LEN(Display2!$G$2)+2))&RIGHT(B436,LEN(B436)-(SEARCH(Display2!$G$2,B436)+LEN(Display2!$G$2)+2))-Display2!$J$3","v":"P.US.CLEV172750"}]
[{"$f":"IFERROR(IF(OR(ISTEXT(RTD(\"cqg.rtd\",,\"OrderData\",\"\"&B438&\"\",\"\",\"OpenPosition\",\"\"&Display2!$D$3&\"\")),RTD(\"cqg.rtd\",,\"OrderData\",\"\"&B438&\"\",\"\",\"OpenPosition\",\"\"&Display2!$D$3&\"\")=0),A437+0.001,INT(A437)+1),A437)","v":0.43800000000000033},{"$f":"(LEFT(B437,SEARCH(Display2!$G$2,B437)+LEN(Display2!$G$2)+2))&RIGHT(B437,LEN(B437)-(SEARCH(Display2!$G$2,B437)+LEN(Display2!$G$2)+2))-Display2!$J$3","v":"P.US.CLEV172700"}]
[{"$f":"IFERROR(IF(OR(ISTEXT(RTD(\"cqg.rtd\",,\"OrderData\",\"\"&B439&\"\",\"\",\"OpenPosition\",\"\"&Display2!$D$3&\"\")),RTD(\"cqg.rtd\",,\"OrderData\",\"\"&B439&\"\",\"\",\"OpenPosition\",\"\"&Display2!$D$3&\"\")=0),A438+0.001,INT(A438)+1),A438)","v":0.43900000000000033},{"$f":"(LEFT(B438,SEARCH(Display2!$G$2,B438)+LEN(Display2!$G$2)+2))&RIGHT(B438,LEN(B438)-(SEARCH(Display2!$G$2,B438)+LEN(Display2!$G$2)+2))-Display2!$J$3","v":"P.US.CLEV172650"}]
[{"$f":"IFERROR(IF(OR(ISTEXT(RTD(\"cqg.rtd\",,\"OrderData\",\"\"&B440&\"\",\"\",\"OpenPosition\",\"\"&Display2!$D$3&\"\")),RTD(\"cqg.rtd\",,\"OrderData\",\"\"&B440&\"\",\"\",\"OpenPosition\",\"\"&Display2!$D$3&\"\")=0),A439+0.001,INT(A439)+1),A439)","v":0.44000000000000034},{"$f":"(LEFT(B439,SEARCH(Display2!$G$2,B439)+LEN(Display2!$G$2)+2))&RIGHT(B439,LEN(B439)-(SEARCH(Display2!$G$2,B439)+LEN(Display2!$G$2)+2))-Display2!$J$3","v":"P.US.CLEV172600"}]
[{"$f":"IFERROR(IF(OR(ISTEXT(RTD(\"cqg.rtd\",,\"OrderData\",\"\"&B441&\"\",\"\",\"OpenPosition\",\"\"&Display2!$D$3&\"\")),RTD(\"cqg.rtd\",,\"OrderData\",\"\"&B441&\"\",\"\",\"OpenPosition\",\"\"&Display2!$D$3&\"\")=0),A440+0.001,INT(A440)+1),A440)","v":0.44100000000000034},{"$f":"(LEFT(B440,SEARCH(Display2!$G$2,B440)+LEN(Display2!$G$2)+2))&RIGHT(B440,LEN(B440)-(SEARCH(Display2!$G$2,B440)+LEN(Display2!$G$2)+2))-Display2!$J$3","v":"P.US.CLEV172550"}]
[{"$f":"IFERROR(IF(OR(ISTEXT(RTD(\"cqg.rtd\",,\"OrderData\",\"\"&B442&\"\",\"\",\"OpenPosition\",\"\"&Display2!$D$3&\"\")),RTD(\"cqg.rtd\",,\"OrderData\",\"\"&B442&\"\",\"\",\"OpenPosition\",\"\"&Display2!$D$3&\"\")=0),A441+0.001,INT(A441)+1),A441)","v":0.44200000000000034},{"$f":"(LEFT(B441,SEARCH(Display2!$G$2,B441)+LEN(Display2!$G$2)+2))&RIGHT(B441,LEN(B441)-(SEARCH(Display2!$G$2,B441)+LEN(Display2!$G$2)+2))-Display2!$J$3","v":"P.US.CLEV172500"}]
[{"$f":"IFERROR(IF(OR(ISTEXT(RTD(\"cqg.rtd\",,\"OrderData\",\"\"&B443&\"\",\"\",\"OpenPosition\",\"\"&Display2!$D$3&\"\")),RTD(\"cqg.rtd\",,\"OrderData\",\"\"&B443&\"\",\"\",\"OpenPosition\",\"\"&Display2!$D$3&\"\")=0),A442+0.001,INT(A442)+1),A442)","v":0.44300000000000034},{"$f":"(LEFT(B442,SEARCH(Display2!$G$2,B442)+LEN(Display2!$G$2)+2))&RIGHT(B442,LEN(B442)-(SEARCH(Display2!$G$2,B442)+LEN(Display2!$G$2)+2))-Display2!$J$3","v":"P.US.CLEV172450"}]
[{"$f":"IFERROR(IF(OR(ISTEXT(RTD(\"cqg.rtd\",,\"OrderData\",\"\"&B444&\"\",\"\",\"OpenPosition\",\"\"&Display2!$D$3&\"\")),RTD(\"cqg.rtd\",,\"OrderData\",\"\"&B444&\"\",\"\",\"OpenPosition\",\"\"&Display2!$D$3&\"\")=0),A443+0.001,INT(A443)+1),A443)","v":0.44400000000000034},{"$f":"(LEFT(B443,SEARCH(Display2!$G$2,B443)+LEN(Display2!$G$2)+2))&RIGHT(B443,LEN(B443)-(SEARCH(Display2!$G$2,B443)+LEN(Display2!$G$2)+2))-Display2!$J$3","v":"P.US.CLEV172400"}]
[{"$f":"IFERROR(IF(OR(ISTEXT(RTD(\"cqg.rtd\",,\"OrderData\",\"\"&B445&\"\",\"\",\"OpenPosition\",\"\"&Display2!$D$3&\"\")),RTD(\"cqg.rtd\",,\"OrderData\",\"\"&B445&\"\",\"\",\"OpenPosition\",\"\"&Display2!$D$3&\"\")=0),A444+0.001,INT(A444)+1),A444)","v":0.44500000000000034},{"$f":"(LEFT(B444,SEARCH(Display2!$G$2,B444)+LEN(Display2!$G$2)+2))&RIGHT(B444,LEN(B444)-(SEARCH(Display2!$G$2,B444)+LEN(Display2!$G$2)+2))-Display2!$J$3","v":"P.US.CLEV172350"}]
[{"$f":"IFERROR(IF(OR(ISTEXT(RTD(\"cqg.rtd\",,\"OrderData\",\"\"&B446&\"\",\"\",\"OpenPosition\",\"\"&Display2!$D$3&\"\")),RTD(\"cqg.rtd\",,\"OrderData\",\"\"&B446&\"\",\"\",\"OpenPosition\",\"\"&Display2!$D$3&\"\")=0),A445+0.001,INT(A445)+1),A445)","v":0.44600000000000034},{"$f":"RTD(\"cqg.rtd\", ,\"ContractData\", \"F.US.\"&Display2!$K$3&\"\", \"LongSymbol\",, \"T\")","v":"F.US.EPU17"}]
[{"$f":"IFERROR(IF(OR(ISTEXT(RTD(\"cqg.rtd\",,\"OrderData\",\"\"&B447&\"\",\"\",\"OpenPosition\",\"\"&Display2!$D$3&\"\")),RTD(\"cqg.rtd\",,\"OrderData\",\"\"&B447&\"\",\"\",\"OpenPosition\",\"\"&Display2!$D$3&\"\")=0),A446+0.001,INT(A446)+1),A446)","v":0.44700000000000034},{"$f":"RTD(\"cqg.rtd\", ,\"ContractData\", \"F.US.\"&Display2!$M$3&\"\", \"LongSymbol\",, \"T\")","v":"F.US.EPZ17"}]
[{"$f":"IFERROR(IF(OR(ISTEXT(RTD(\"cqg.rtd\",,\"OrderData\",\"\"&B448&\"\",\"\",\"OpenPosition\",\"\"&Display2!$D$3&\"\")),RTD(\"cqg.rtd\",,\"OrderData\",\"\"&B448&\"\",\"\",\"OpenPosition\",\"\"&Display2!$D$3&\"\")=0),A447+0.001,INT(A447)+1),A447)","v":0.44800000000000034},{"$f":"RTD(\"cqg.rtd\", ,\"ContractData\", \"F.US.\"&Display2!$N$3&\"\", \"LongSymbol\",, \"T\")","v":"F.US.EPH18"}]
[null,{"$f":"Display2!D3","v":"PSspread300"}]

{"sheet":"Third","index":8,"n_rows":449,"n_cols":43,"rows_kept":449,"cut":false,"hidden":true,"merged":[]}
[{"$f":"IF(OR(ISTEXT(RTD(\"cqg.rtd\",,\"OrderData\",\"\"&B1&\"\",\"\",\"OpenPosition\",\"\"&Display3!$D$3&\"\")),RTD(\"cqg.rtd\",,\"OrderData\",\"\"&B1&\"\",\"\",\"OpenPosition\",\"\"&Display3!$D$3&\"\")=0),0.001,1)","v":1E-3},{"$f":"(LEFT(B2,SEARCH(Display3!$G$2,B2)+LEN(Display3!$G$2)+2))&RIGHT(B2,LEN(B2)-(SEARCH(Display3!$G$2,B2)+LEN(Display3!$G$2)+2))+Display3!$J$3","v":"C.US.EPU1726300"},{"$f":"IF(D1=1,VLOOKUP(E1,$A$1:$B$448,2),0)","v":0},{"$f":"IF(LOOKUP(E1,$A$1:$A$448)<>E1,0,1)","v":0},1,{"$f":"IF(D1=1,RTD(\"cqg.rtd\", ,\"ContractData\",C1, \"ImpliedVolatility\",, \"T\"),\"\")","v":""},{"$f":"IF(F1=\"\",\"\",RANK(F1,$F$1:$F$35,0)+COUNTIF($F$1:F1,F1)-1)","v":""},{"$f":"C1","v":0},1,{"$f":"IF(D1=1,IF(F1=\"\",H1,VLOOKUP(I1,$G$1:$H$35,2,FALSE)),0)","v":0},{"$f":"IF(D1=1,RTD(\"cqg.rtd\", ,\"OrderData\",\"\"&C1&\"\", \"\", \"OpenTradeEquity\",\"\"&$B$449&\"\"),\"\")","v":""},{"$f":"IF(K1=\"\",\"\",RANK(K1,$K$1:$K$35,0))+COUNTIF($K$1:K1,K1)-1","v":{"$error":"#VALUE!"}},{"$f":"C1","v":0},1,{"$f":"IF(D1=1,VLOOKUP(N1,$L$1:$M$35,2,FALSE),\"\")","v":""},{"$f":"IF(D1=1,RTD(\"cqg.rtd\", ,\"ContractData\",C1, \"Delta\",, \"T\"),\"\")","v":""},{"$f":"IF(D1=1,RTD(\"cqg.rtd\", ,\"OrderData\", \"\"&O1&\"\", \"\", \"OpenPosition\",\"\"&$B$449&\"\"),\"\")","v":""},{"$f":"IF(D1=0,\"\",IF(LEFT(O1,1)=\"F\",Q1*100,Q1*RTD(\"cqg.rtd\",,\"ContractData\",O1,\"Delta\",,\"T\")))","v":""},{"$f":"IF(R1=\"\",\"\",RANK(R1,$R$1:$R$35,0)+COUNTIF($R$1:R1,R1)-1)","v":""},{"$f":"O1","v":""},1,{"$f":"IF(D1=1,VLOOKUP(U1,$S$1:$T$35,2,FALSE),\"\")","v":""},{"$f":"IF(D1=1,RTD(\"cqg.rtd\", ,\"ContractData\",C1, \"Vega\",, \"T\"),\"\")","v":""},{"$f":"IF(W1=\"\",\"\",RANK(W1,$W$1:$W$35,0)+COUNTIF($W$1:W1,W1)-1)","v":""},{"$f":"C1","v":0},1,{"$f":"IF(D1=1,IF(W1=\"\",Y1,VLOOKUP(Z1,$X$1:$Y$35,2,FALSE)),\"\")","v":""},{"$f":"IF(D1=1,RTD(\"cqg.rtd\", ,\"ContractData\",C1, \"Gamma\",, \"T\"),\"\")","v":""},{"$f":"IF(AB1=\"\",\"\",RANK(AB1,$AB$1:$AB$35,0)+COUNTIF($AB$1:AB1,AB1)-1)","v":""},{"$f":"C1","v":0},1,{"$f":"IF(D1=1,IF(AB1=\"\",AD1,VLOOKUP(AE1,$AC$1:$AD$35,2,FALSE)),\"\")","v":""},{"$f":"IF(D1=1,RTD(\"cqg.rtd\", ,\"ContractData\",C1, \"Theta\",, \"T\"),\"\")","v":""},{"$f":"IF(AG1=\"\",\"\",RANK(AG1,$AG$1:$AG$35,0)+COUNTIF($AG$1:AG1,AG1)-1)","v":""},{"$f":"C1","v":0},1,{"$f":"IF(D1=1,IF(AG1=\"\",AI1,VLOOKUP(AJ1,$AH$1:$AI$35,2,FALSE)),\"\")","v":""},{"$f":"IF(D1=1,1/RTD(\"cqg.rtd\", ,\"ContractData\",C1, \"ExpirationDate\",, \"T\"),\"\")","v":""},{"$f":"IF(AL1=\"\",\"\",RANK(AL1,$AL$1:$AL$35,0)+COUNTIF($AL$1:AL1,AL1)-1)","v":""},{"$f":"C1","v":0},1,{"$f":"IF(D1=1,IF(AL1=\"\",AN1,VLOOKUP(AO1,$AM$1:$AN$35,2,FALSE)),\"\")","v":""}]
[{"$f":"IF(OR(ISTEXT(RTD(\"cqg.rtd\",,\"OrderData\",\"\"&B2&\"\",\"\",\"OpenPosition\",\"\"&Display3!$D$3&\"\")),RTD(\"cqg.rtd\",,\"OrderData\",\"\"&B2&\"\",\"\",\"OpenPosition\",\"\"&Display3!$D$3&\"\")=0),A1+0.001,INT(A1)+1)","v":2E-3},{"$f":"(LEFT(B3,SEARCH(Display3!$G$2,B3)+LEN(Display3!$G$2)+2))&RIGHT(B3,LEN(B3)-(SEARCH(Display3!$G$2,B3)+LEN(Display3!$G$2)+2))+Display3!$J$3","v":"C.US.EPU1726250"},{"$f":"IF(D2=1,VLOOKUP(E2,$A$1:$B$448,2),0)","v":0},{"$f":"IF(LOOKUP(E2,$A$1:$A$448)<>E2,0,1)","v":0},{"$f":"E1+1","v":2},{"$f":"IF(D2=1,RTD(\"cqg.rtd\", ,\"ContractData\",C2, \"ImpliedVolatility\",, \"T\"),\"\")","v":""},{"$f":"IF(F2=\"\",\"\",RANK(F2,$F$1:$F$35,0)+COUNTIF($F$1:F2,F2)-1)","v":""},{"$f":"C2","v":0},{"$f":"I1+1","v":2},{"$f":"IF(D2=1,IF(F2=\"\",H2,VLOOKUP(I2,$G$1:$H$35,2,FALSE)),0)","v":0},{"$f":"IF(D2=1,RTD(\"cqg.rtd\", ,\"OrderData\",\"\"&C2&\"\", \"\", \"OpenTradeEquity\",\"\"&$B$449&\"\"),\"\")","v":""},{"$f":"IF(K2=\"\",\"\",RANK(K2,$K$1:$K$35,0))+COUNTIF($K$1:K2,K2)-1","v":{"$error":"#VALUE!"}},{"$f":"C2","v":0},{"$f":"N1+1","v":2},{"$f":"IF(D2=1,VLOOKUP(N2,$L$1:$M$35,2,FALSE),\"\")","v":""},{"$f":"IF(D2=1,RTD(\"cqg.rtd\", ,\"ContractData\",C2, \"Delta\",, \"T\"),\"\")","v":""},{"$f":"IF(D2=1,RTD(\"cqg.rtd\", ,\"OrderData\", \"\"&O2&\"\", \"\", \"OpenPosition\",\"\"&$B$449&\"\"),\"\")","v":""},{"$f":"IF(D2=0,\"\",IF(LEFT(O2,1)=\"F\",Q2*100,Q2*RTD(\"cqg.rtd\",,\"ContractData\",O2,\"Delta\",,\"T\")))","v":""},{"$f":"IF(R2=\"\",\"\",RANK(R2,$R$1:$R$35,0)+COUNTIF($R$1:R2,R2)-1)","v":""},{"$f":"O2","v":""},{"$f":"U1+1","v":2},{"$f":"IF(D2=1,VLOOKUP(U2,$S$1:$T$35,2,FALSE),\"\")","v":""},{"$f":"IF(D2=1,RTD(\"cqg.rtd\", ,\"ContractData\",C2, \"Vega\",, \"T\"),\"\")","v":""},{"$f":"IF(W2=\"\",\"\",RANK(W2,$W$1:$W$35,0)+COUNTIF($W$1:W2,W2)-1)","v":""},{"$f":"C2","v":0},{"$f":"Z1+1","v":2},{"$f":"IF(D2=1,IF(W2=\"\",Y2,VLOOKUP(Z2,$X$1:$Y$35,2,FALSE)),\"\")","v":""},{"$f":"IF(D2=1,RTD(\"cqg.rtd\", ,\"ContractData\",C2, \"Gamma\",, \"T\"),\"\")","v":""},{"$f":"IF(AB2=\"\",\"\",RANK(AB2,$AB$1:$AB$35,0)+COUNTIF($AB$1:AB2,AB2)-1)","v":""},{"$f":"C2","v":0},{"$f":"AE1+1","v":2},{"$f":"IF(D2=1,IF(AB2=\"\",AD2,VLOOKUP(AE2,$AC$1:$AD$35,2,FALSE)),\"\")","v":""},{"$f":"IF(D2=1,RTD(\"cqg.rtd\", ,\"ContractData\",C2, \"Theta\",, \"T\"),\"\")","v":""},{"$f":"IF(AG2=\"\",\"\",RANK(AG2,$AG$1:$AG$35,0)+COUNTIF($AG$1:AG2,AG2)-1)","v":""},{"$f":"C2","v":0},{"$f":"AJ1+1","v":2},{"$f":"IF(D2=1,IF(AG2=\"\",AI2,VLOOKUP(AJ2,$AH$1:$AI$35,2,FALSE)),\"\")","v":""},{"$f":"IF(D2=1,1/RTD(\"cqg.rtd\", ,\"ContractData\",C2, \"ExpirationDate\",, \"T\"),\"\")","v":""},{"$f":"IF(AL2=\"\",\"\",RANK(AL2,$AL$1:$AL$35,0)+COUNTIF($AL$1:AL2,AL2)-1)","v":""},{"$f":"C2","v":0},{"$f":"AO1+1","v":2},{"$f":"IF(D2=1,IF(AL2=\"\",AN2,VLOOKUP(AO2,$AM$1:$AN$35,2,FALSE)),\"\")","v":""}]
[{"$f":"IF(OR(ISTEXT(RTD(\"cqg.rtd\",,\"OrderData\",\"\"&B3&\"\",\"\",\"OpenPosition\",\"\"&Display3!$D$3&\"\")),RTD(\"cqg.rtd\",,\"OrderData\",\"\"&B3&\"\",\"\",\"OpenPosition\",\"\"&Display3!$D$3&\"\")=0),A2+0.001,INT(A2)+1)","v":3.0000000000000001E-3},{"$f":"(LEFT(B4,SEARCH(Display3!$G$2,B4)+LEN(Display3!$G$2)+2))&RIGHT(B4,LEN(B4)-(SEARCH(Display3!$G$2,B4)+LEN(Display3!$G$2)+2))+Display3!$J$3","v":"C.US.EPU1726200"},0,0,{"$f":"E2+1","v":3},{"$f":"IF(D3=1,RTD(\"cqg.rtd\", ,\"ContractData\",C3, \"ImpliedVolatility\",, \"T\"),\"\")","v":""},{"$f":"IF(F3=\"\",\"\",RANK(F3,$F$1:$F$35,0)+COUNTIF($F$1:F3,F3)-1)","v":""},0,{"$f":"I2+1","v":3},0,{"$f":"IF(D3=1,RTD(\"cqg.rtd\", ,\"OrderData\",\"\"&C3&\"\", \"\", \"OpenTradeEquity\",\"\"&$B$449&\"\"),\"\")","v":""},{"$f":"IF(K3=\"\",\"\",RANK(K3,$K$1:$K$35,0))+COUNTIF($K$1:K3,K3)-1","v":{"$error":"#VALUE!"}},0,{"$f":"N2+1","v":3},"",{"$f":"IF(D3=1,RTD(\"cqg.rtd\", ,\"ContractData\",C3, \"Delta\",, \"T\"),\"\")","v":""},{"$f":"IF(D3=1,RTD(\"cqg.rtd\", ,\"OrderData\", \"\"&O3&\"\", \"\", \"OpenPosition\",\"\"&$B$449&\"\"),\"\")","v":""},{"$f":"IF(D3=0,\"\",IF(LEFT(O3,1)=\"F\",Q3*100,Q3*RTD(\"cqg.rtd\",,\"ContractData\",O3,\"Delta\",,\"T\")))","v":""},{"$f":"IF(R3=\"\",\"\",RANK(R3,$R$1:$R$35,0)+COUNTIF($R$1:R3,R3)-1)","v":""},"",{"$f":"U2+1","v":3},"",{"$f":"IF(D3=1,RTD(\"cqg.rtd\", ,\"ContractData\",C3, \"Vega\",, \"T\"),\"\")","v":""},{"$f":"IF(W3=\"\",\"\",RANK(W3,$W$1:$W$35,0)+COUNTIF($W$1:W3,W3)-1)","v":""},0,{"$f":"Z2+1","v":3},"",{"$f":"IF(D3=1,RTD(\"cqg.rtd\", ,\"ContractData\",C3, \"Gamma\",, \"T\"),\"\")","v":""},{"$f":"IF(AB3=\"\",\"\",RANK(AB3,$AB$1:$AB$35,0)+COUNTIF($AB$1:AB3,AB3)-1)","v":""},0,3,{"$f":"IF(D3=1,IF(AB3=\"\",AD3,VLOOKUP(AE3,$AC$1:$AD$35,2,FALSE)),\"\")","v":""},{"$f":"IF(D3=1,RTD(\"cqg.rtd\", ,\"ContractData\",C3, \"Theta\",, \"T\"),\"\")","v":""},{"$f":"IF(AG3=\"\",\"\",RANK(AG3,$AG$1:$AG$35,0)+COUNTIF($AG$1:AG3,AG3)-1)","v":""},0,{"$f":"AJ2+1","v":3},"",{"$f":"IF(D3=1,1/RTD(\"cqg.rtd\", ,\"ContractData\",C3, \"ExpirationDate\",, \"T\"),\"\")","v":""},{"$f":"IF(AL3=\"\",\"\",RANK(AL3,$AL$1:$AL$35,0)+COUNTIF($AL$1:AL3,AL3)-1)","v":""},0,{"$f":"AO2+1","v":3},{"$f":"IF(D3=1,IF(AL3=\"\",AN3,VLOOKUP(AO3,$AM$1:$AN$35,2,FALSE)),\"\")","v":""}]
[{"$f":"IF(OR(ISTEXT(RTD(\"cqg.rtd\",,\"OrderData\",\"\"&B4&\"\",\"\",\"OpenPosition\",\"\"&Display3!$D$3&\"\")),RTD(\"cqg.rtd\",,\"OrderData\",\"\"&B4&\"\",\"\",\"OpenPosition\",\"\"&Display3!$D$3&\"\")=0),A3+0.001,INT(A3)+1)","v":4.0000000000000001E-3},{"$f":"(LEFT(B5,SEARCH(Display3!$G$2,B5)+LEN(Display3!$G$2)+2))&RIGHT(B5,LEN(B5)-(SEARCH(Display3!$G$2,B5)+LEN(Display3!$G$2)+2))+Display3!$J$3","v":"C.US.EPU1726150"},0,0,4,{"$f":"IF(D4=1,RTD(\"cqg.rtd\", ,\"ContractData\",C4, \"ImpliedVolatility\",, \"T\"),\"\")","v":""},{"$f":"IF(F4=\"\",\"\",RANK(F4,$F$1:$F$35,0)+COUNTIF($F$1:F4,F4)-1)","v":""},0,4,0,{"$f":"IF(D4=1,RTD(\"cqg.rtd\", ,\"OrderData\",\"\"&C4&\"\", \"\", \"OpenTradeEquity\",\"\"&$B$449&\"\"),\"\")","v":""},{"$f":"IF(K4=\"\",\"\",RANK(K4,$K$1:$K$35,0))+COUNTIF($K$1:K4,K4)-1","v":{"$error":"#VALUE!"}},0,4,"",{"$f":"IF(D4=1,RTD(\"cqg.rtd\", ,\"ContractData\",C4, \"Delta\",, \"T\"),\"\")","v":""},{"$f":"IF(D4=1,RTD(\"cqg.rtd\", ,\"OrderData\", \"\"&O4&\"\", \"\", \"OpenPosition\",\"\"&$B$449&\"\"),\"\")","v":""},{"$f":"IF(D4=0,\"\",IF(LEFT(O4,1)=\"F\",Q4*100,Q4*RTD(\"cqg.rtd\",,\"ContractData\",O4,\"Delta\",,\"T\")))","v":""},{"$f":"IF(R4=\"\",\"\",RANK(R4,$R$1:$R$35,0)+COUNTIF($R$1:R4,R4)-1)","v":""},"",4,"",{"$f":"IF(D4=1,RTD(\"cqg.rtd\", ,\"ContractData\",C4, \"Vega\",, \"T\"),\"\")","v":""},{"$f":"IF(W4=\"\",\"\",RANK(W4,$W$1:$W$35,0)+COUNTIF($W$1:W4,W4)-1)","v":""},0,4,"",{"$f":"IF(D4=1,RTD(\"cqg.rtd\", ,\"ContractData\",C4, \"Gamma\",, \"T\"),\"\")","v":""},{"$f":"IF(AB4=\"\",\"\",RANK(AB4,$AB$1:$AB$35,0)+COUNTIF($AB$1:AB4,AB4)-1)","v":""},0,4,"",{"$f":"IF(D4=1,RTD(\"cqg.rtd\", ,\"ContractData\",C4, \"Theta\",, \"T\"),\"\")","v":""},{"$f":"IF(AG4=\"\",\"\",RANK(AG4,$AG$1:$AG$35,0)+COUNTIF($AG$1:AG4,AG4)-1)","v":""},0,4,"",{"$f":"IF(D4=1,1/RTD(\"cqg.rtd\", ,\"ContractData\",C4, \"ExpirationDate\",, \"T\"),\"\")","v":""},{"$f":"IF(AL4=\"\",\"\",RANK(AL4,$AL$1:$AL$35,0)+COUNTIF($AL$1:AL4,AL4)-1)","v":""},0,4,""]
[{"$f":"IF(OR(ISTEXT(RTD(\"cqg.rtd\",,\"OrderData\",\"\"&B5&\"\",\"\",\"OpenPosition\",\"\"&Display3!$D$3&\"\")),RTD(\"cqg.rtd\",,\"OrderData\",\"\"&B5&\"\",\"\",\"OpenPosition\",\"\"&Display3!$D$3&\"\")=0),A4+0.001,INT(A4)+1)","v":5.0000000000000001E-3},{"$f":"(LEFT(B6,SEARCH(Display3!$G$2,B6)+LEN(Display3!$G$2)+2))&RIGHT(B6,LEN(B6)-(SEARCH(Display3!$G$2,B6)+LEN(Display3!$G$2)+2))+Display3!$J$3","v":"C.US.EPU1726100"},0,0,5,{"$f":"IF(D5=1,RTD(\"cqg.rtd\", ,\"ContractData\",C5, \"ImpliedVolatility\",, \"T\"),\"\")","v":""},{"$f":"IF(F5=\"\",\"\",RANK(F5,$F$1:$F$35,0)+COUNTIF($F$1:F5,F5)-1)","v":""},0,5,0,{"$f":"IF(D5=1,RTD(\"cqg.rtd\", ,\"OrderData\",\"\"&C5&\"\", \"\", \"OpenTradeEquity\",\"\"&$B$449&\"\"),\"\")","v":""},{"$f":"IF(K5=\"\",\"\",RANK(K5,$K$1:$K$35,0))+COUNTIF($K$1:K5,K5)-1","v":{"$error":"#VALUE!"}},0,5,"",{"$f":"IF(D5=1,RTD(\"cqg.rtd\", ,\"ContractData\",C5, \"Delta\",, \"T\"),\"\")","v":""},{"$f":"IF(D5=1,RTD(\"cqg.rtd\", ,\"OrderData\", \"\"&O5&\"\", \"\", \"OpenPosition\",\"\"&$B$449&\"\"),\"\")","v":""},{"$f":"IF(D5=0,\"\",IF(LEFT(O5,1)=\"F\",Q5*100,Q5*RTD(\"cqg.rtd\",,\"ContractData\",O5,\"Delta\",,\"T\")))","v":""},{"$f":"IF(R5=\"\",\"\",RANK(R5,$R$1:$R$35,0)+COUNTIF($R$1:R5,R5)-1)","v":""},"",5,"",{"$f":"IF(D5=1,RTD(\"cqg.rtd\", ,\"ContractData\",C5, \"Vega\",, \"T\"),\"\")","v":""},{"$f":"IF(W5=\"\",\"\",RANK(W5,$W$1:$W$35,0)+COUNTIF($W$1:W5,W5)-1)","v":""},0,5,"",{"$f":"IF(D5=1,RTD(\"cqg.rtd\", ,\"ContractData\",C5, \"Gamma\",, \"T\"),\"\")","v":""},{"$f":"IF(AB5=\"\",\"\",RANK(AB5,$AB$1:$AB$35,0)+COUNTIF($AB$1:AB5,AB5)-1)","v":""},0,5,"",{"$f":"IF(D5=1,RTD(\"cqg.rtd\", ,\"ContractData\",C5, \"Theta\",, \"T\"),\"\")","v":""},{"$f":"IF(AG5=\"\",\"\",RANK(AG5,$AG$1:$AG$35,0)+COUNTIF($AG$1:AG5,AG5)-1)","v":""},0,5,"",{"$f":"IF(D5=1,1/RTD(\"cqg.rtd\", ,\"ContractData\",C5, \"ExpirationDate\",, \"T\"),\"\")","v":""},{"$f":"IF(AL5=\"\",\"\",RANK(AL5,$AL$1:$AL$35,0)+COUNTIF($AL$1:AL5,AL5)-1)","v":""},0,5,""]
[{"$f":"IF(OR(ISTEXT(RTD(\"cqg.rtd\",,\"OrderData\",\"\"&B6&\"\",\"\",\"OpenPosition\",\"\"&Display3!$D$3&\"\")),RTD(\"cqg.rtd\",,\"OrderData\",\"\"&B6&\"\",\"\",\"OpenPosition\",\"\"&Display3!$D$3&\"\")=0),A5+0.001,INT(A5)+1)","v":6.0000000000000001E-3},{"$f":"(LEFT(B7,SEARCH(Display3!$G$2,B7)+LEN(Display3!$G$2)+2))&RIGHT(B7,LEN(B7)-(SEARCH(Display3!$G$2,B7)+LEN(Display3!$G$2)+2))+Display3!$J$3","v":"C.US.EPU1726050"},0,0,6,{"$f":"IF(D6=1,RTD(\"cqg.rtd\", ,\"ContractData\",C6, \"ImpliedVolatility\",, \"T\"),\"\")","v":""},{"$f":"IF(F6=\"\",\"\",RANK(F6,$F$1:$F$35,0)+COUNTIF($F$1:F6,F6)-1)","v":""},0,6,0,{"$f":"IF(D6=1,RTD(\"cqg.rtd\", ,\"OrderData\",\"\"&C6&\"\", \"\", \"OpenTradeEquity\",\"\"&$B$449&\"\"),\"\")","v":""},{"$f":"IF(K6=\"\",\"\",RANK(K6,$K$1:$K$35,0))+COUNTIF($K$1:K6,K6)-1","v":{"$error":"#VALUE!"}},0,6,"",{"$f":"IF(D6=1,RTD(\"cqg.rtd\", ,\"ContractData\",C6, \"Delta\",, \"T\"),\"\")","v":""},{"$f":"IF(D6=1,RTD(\"cqg.rtd\", ,\"OrderData\", \"\"&O6&\"\", \"\", \"OpenPosition\",\"\"&$B$449&\"\"),\"\")","v":""},{"$f":"IF(D6=0,\"\",IF(LEFT(O6,1)=\"F\",Q6*100,Q6*RTD(\"cqg.rtd\",,\"ContractData\",O6,\"Delta\",,\"T\")))","v":""},{"$f":"IF(R6=\"\",\"\",RANK(R6,$R$1:$R$35,0)+COUNTIF($R$1:R6,R6)-1)","v":""},"",6,"",{"$f":"IF(D6=1,RTD(\"cqg.rtd\", ,\"ContractData\",C6, \"Vega\",, \"T\"),\"\")","v":""},{"$f":"IF(W6=\"\",\"\",RANK(W6,$W$1:$W$35,0)+COUNTIF($W$1:W6,W6)-1)","v":""},0,6,"",{"$f":"IF(D6=1,RTD(\"cqg.rtd\", ,\"ContractData\",C6, \"Gamma\",, \"T\"),\"\")","v":""},{"$f":"IF(AB6=\"\",\"\",RANK(AB6,$AB$1:$AB$35,0)+COUNTIF($AB$1:AB6,AB6)-1)","v":""},0,6,"",{"$f":"IF(D6=1,RTD(\"cqg.rtd\", ,\"ContractData\",C6, \"Theta\",, \"T\"),\"\")","v":""},{"$f":"IF(AG6=\"\",\"\",RANK(AG6,$AG$1:$AG$35,0)+COUNTIF($AG$1:AG6,AG6)-1)","v":""},0,6,"",{"$f":"IF(D6=1,1/RTD(\"cqg.rtd\", ,\"ContractData\",C6, \"ExpirationDate\",, \"T\"),\"\")","v":""},{"$f":"IF(AL6=\"\",\"\",RANK(AL6,$AL$1:$AL$35,0)+COUNTIF($AL$1:AL6,AL6)-1)","v":""},0,6,""]
[{"$f":"IF(OR(ISTEXT(RTD(\"cqg.rtd\",,\"OrderData\",\"\"&B7&\"\",\"\",\"OpenPosition\",\"\"&Display3!$D$3&\"\")),RTD(\"cqg.rtd\",,\"OrderData\",\"\"&B7&\"\",\"\",\"OpenPosition\",\"\"&Display3!$D$3&\"\")=0),A6+0.001,INT(A6)+1)","v":7.0000000000000001E-3},{"$f":"(LEFT(B8,SEARCH(Display3!$G$2,B8)+LEN(Display3!$G$2)+2))&RIGHT(B8,LEN(B8)-(SEARCH(Display3!$G$2,B8)+LEN(Display3!$G$2)+2))+Display3!$J$3","v":"C.US.EPU1726000"},0,0,7,{"$f":"IF(D7=1,RTD(\"cqg.rtd\", ,\"ContractData\",C7, \"ImpliedVolatility\",, \"T\"),\"\")","v":""},{"$f":"IF(F7=\"\",\"\",RANK(F7,$F$1:$F$35,0)+COUNTIF($F$1:F7,F7)-1)","v":""},0,7,0,{"$f":"IF(D7=1,RTD(\"cqg.rtd\", ,\"OrderData\",\"\"&C7&\"\", \"\", \"OpenTradeEquity\",\"\"&$B$449&\"\"),\"\")","v":""},{"$f":"IF(K7=\"\",\"\",RANK(K7,$K$1:$K$35,0))+COUNTIF($K$1:K7,K7)-1","v":{"$error":"#VALUE!"}},0,7,{"$f":"IF(D7=1,VLOOKUP(N7,$L$1:$M$35,2,FALSE),\"\")","v":""},{"$f":"IF(D7=1,RTD(\"cqg.rtd\", ,\"ContractData\",C7, \"Delta\",, \"T\"),\"\")","v":""},{"$f":"IF(D7=1,RTD(\"cqg.rtd\", ,\"OrderData\", \"\"&O7&\"\", \"\", \"OpenPosition\",\"\"&$B$449&\"\"),\"\")","v":""},{"$f":"IF(D7=0,\"\",IF(LEFT(O7,1)=\"F\",Q7*100,Q7*RTD(\"cqg.rtd\",,\"ContractData\",O7,\"Delta\",,\"T\")))","v":""},{"$f":"IF(R7=\"\",\"\",RANK(R7,$R$1:$R$35,0)+COUNTIF($R$1:R7,R7)-1)","v":""},"",7,"",{"$f":"IF(D7=1,RTD(\"cqg.rtd\", ,\"ContractData\",C7, \"Vega\",, \"T\"),\"\")","v":""},{"$f":"IF(W7=\"\",\"\",RANK(W7,$W$1:$W$35,0)+COUNTIF($W$1:W7,W7)-1)","v":""},0,7,"",{"$f":"IF(D7=1,RTD(\"cqg.rtd\", ,\"ContractData\",C7, \"Gamma\",, \"T\"),\"\")","v":""},{"$f":"IF(AB7=\"\",\"\",RANK(AB7,$AB$1:$AB$35,0)+COUNTIF($AB$1:AB7,AB7)-1)","v":""},0,7,"",{"$f":"IF(D7=1,RTD(\"cqg.rtd\", ,\"ContractData\",C7, \"Theta\",, \"T\"),\"\")","v":""},{"$f":"IF(AG7=\"\",\"\",RANK(AG7,$AG$1:$AG$35,0)+COUNTIF($AG$1:AG7,AG7)-1)","v":""},0,7,"",{"$f":"IF(D7=1,1/RTD(\"cqg.rtd\", ,\"ContractData\",C7, \"ExpirationDate\",, \"T\"),\"\")","v":""},{"$f":"IF(AL7=\"\",\"\",RANK(AL7,$AL$1:$AL$35,0)+COUNTIF($AL$1:AL7,AL7)-1)","v":""},0,7,""]
[{"$f":"IF(OR(ISTEXT(RTD(\"cqg.rtd\",,\"OrderData\",\"\"&B8&\"\",\"\",\"OpenPosition\",\"\"&Display3!$D$3&\"\")),RTD(\"cqg.rtd\",,\"OrderData\",\"\"&B8&\"\",\"\",\"OpenPosition\",\"\"&Display3!$D$3&\"\")=0),A7+0.001,INT(A7)+1)","v":8.0000000000000002E-3},{"$f":"(LEFT(B9,SEARCH(Display3!$G$2,B9)+LEN(Display3!$G$2)+2))&RIGHT(B9,LEN(B9)-(SEARCH(Display3!$G$2,B9)+LEN(Display3!$G$2)+2))+Display3!$J$3","v":"C.US.EPU1725950"},0,0,8,{"$f":"IF(D8=1,RTD(\"cqg.rtd\", ,\"ContractData\",C8, \"ImpliedVolatility\",, \"T\"),\"\")","v":""},{"$f":"IF(F8=\"\",\"\",RANK(F8,$F$1:$F$35,0)+COUNTIF($F$1:F8,F8)-1)","v":""},0,8,0,{"$f":"IF(D8=1,RTD(\"cqg.rtd\", ,\"OrderData\",\"\"&C8&\"\", \"\", \"OpenTradeEquity\",\"\"&$B$449&\"\"),\"\")","v":""},{"$f":"IF(K8=\"\",\"\",RANK(K8,$K$1:$K$35,0))+COUNTIF($K$1:K8,K8)-1","v":{"$error":"#VALUE!"}},0,8,"",{"$f":"IF(D8=1,RTD(\"cqg.rtd\", ,\"ContractData\",C8, \"Delta\",, \"T\"),\"\")","v":""},{"$f":"IF(D8=1,RTD(\"cqg.rtd\", ,\"OrderData\", \"\"&O8&\"\", \"\", \"OpenPosition\",\"\"&$B$449&\"\"),\"\")","v":""},{"$f":"IF(D8=0,\"\",IF(LEFT(O8,1)=\"F\",Q8*100,Q8*RTD(\"cqg.rtd\",,\"ContractData\",O8,\"Delta\",,\"T\")))","v":""},{"$f":"IF(R8=\"\",\"\",RANK(R8,$R$1:$R$35,0)+COUNTIF($R$1:R8,R8)-1)","v":""},"",8,"",{"$f":"IF(D8=1,RTD(\"cqg.rtd\", ,\"ContractData\",C8, \"Vega\",, \"T\"),\"\")","v":""},{"$f":"IF(W8=\"\",\"\",RANK(W8,$W$1:$W$35,0)+COUNTIF($W$1:W8,W8)-1)","v":""},0,8,"",{"$f":"IF(D8=1,RTD(\"cqg.rtd\", ,\"ContractData\",C8, \"Gamma\",, \"T\"),\"\")","v":""},{"$f":"IF(AB8=\"\",\"\",RANK(AB8,$AB$1:$AB$35,0)+COUNTIF($AB$1:AB8,AB8)-1)","v":""},0,8,"",{"$f":"IF(D8=1,RTD(\"cqg.rtd\", ,\"ContractData\",C8, \"Theta\",, \"T\"),\"\")","v":""},{"$f":"IF(AG8=\"\",\"\",RANK(AG8,$AG$1:$AG$35,0)+COUNTIF($AG$1:AG8,AG8)-1)","v":""},0,8,"",{"$f":"IF(D8=1,1/RTD(\"cqg.rtd\", ,\"ContractData\",C8, \"ExpirationDate\",, \"T\"),\"\")","v":""},{"$f":"IF(AL8=\"\",\"\",RANK(AL8,$AL$1:$AL$35,0)+COUNTIF($AL$1:AL8,AL8)-1)","v":""},0,8,""]
[{"$f":"IF(OR(ISTEXT(RTD(\"cqg.rtd\",,\"OrderData\",\"\"&B9&\"\",\"\",\"OpenPosition\",\"\"&Display3!$D$3&\"\")),RTD(\"cqg.rtd\",,\"OrderData\",\"\"&B9&\"\",\"\",\"OpenPosition\",\"\"&Display3!$D$3&\"\")=0),A8+0.001,INT(A8)+1)","v":9.0000000000000011E-3},{"$f":"(LEFT(B10,SEARCH(Display3!$G$2,B10)+LEN(Display3!$G$2)+2))&RIGHT(B10,LEN(B10)-(SEARCH(Display3!$G$2,B10)+LEN(Display3!$G$2)+2))+Display3!$J$3","v":"C.US.EPU1725900"},0,0,9,{"$f":"IF(D9=1,RTD(\"cqg.rtd\", ,\"ContractData\",C9, \"ImpliedVolatility\",, \"T\"),\"\")","v":""},{"$f":"IF(F9=\"\",\"\",RANK(F9,$F$1:$F$35,0)+COUNTIF($F$1:F9,F9)-1)","v":""},0,9,0,{"$f":"IF(D9=1,RTD(\"cqg.rtd\", ,\"OrderData\",\"\"&C9&\"\", \"\", \"OpenTradeEquity\",\"\"&$B$449&\"\"),\"\")","v":""},{"$f":"IF(K9=\"\",\"\",RANK(K9,$K$1:$K$35,0))+COUNTIF($K$1:K9,K9)-1","v":{"$error":"#VALUE!"}},0,9,"",{"$f":"IF(D9=1,RTD(\"cqg.rtd\", ,\"ContractData\",C9, \"Delta\",, \"T\"),\"\")","v":""},{"$f":"IF(D9=1,RTD(\"cqg.rtd\", ,\"OrderData\", \"\"&O9&\"\", \"\", \"OpenPosition\",\"\"&$B$449&\"\"),\"\")","v":""},{"$f":"IF(D9=0,\"\",IF(LEFT(O9,1)=\"F\",Q9*100,Q9*RTD(\"cqg.rtd\",,\"ContractData\",O9,\"Delta\",,\"T\")))","v":""},{"$f":"IF(R9=\"\",\"\",RANK(R9,$R$1:$R$35,0)+COUNTIF($R$1:R9,R9)-1)","v":""},"",9,"",{"$f":"IF(D9=1,RTD(\"cqg.rtd\", ,\"ContractData\",C9, \"Vega\",, \"T\"),\"\")","v":""},{"$f":"IF(W9=\"\",\"\",RANK(W9,$W$1:$W$35,0)+COUNTIF($W$1:W9,W9)-1)","v":""},0,9,"",{"$f":"IF(D9=1,RTD(\"cqg.rtd\", ,\"ContractData\",C9, \"Gamma\",, \"T\"),\"\")","v":""},{"$f":"IF(AB9=\"\",\"\",RANK(AB9,$AB$1:$AB$35,0)+COUNTIF($AB$1:AB9,AB9)-1)","v":""},0,9,"",{"$f":"IF(D9=1,RTD(\"cqg.rtd\", ,\"ContractData\",C9, \"Theta\",, \"T\"),\"\")","v":""},{"$f":"IF(AG9=\"\",\"\",RANK(AG9,$AG$1:$AG$35,0)+COUNTIF($AG$1:AG9,AG9)-1)","v":""},0,9,"",{"$f":"IF(D9=1,1/RTD(\"cqg.rtd\", ,\"ContractData\",C9, \"ExpirationDate\",, \"T\"),\"\")","v":""},{"$f":"IF(AL9=\"\",\"\",RANK(AL9,$AL$1:$AL$35,0)+COUNTIF($AL$1:AL9,AL9)-1)","v":""},0,9,""]
[{"$f":"IF(OR(ISTEXT(RTD(\"cqg.rtd\",,\"OrderData\",\"\"&B10&\"\",\"\",\"OpenPosition\",\"\"&Display3!$D$3&\"\")),RTD(\"cqg.rtd\",,\"OrderData\",\"\"&B10&\"\",\"\",\"OpenPosition\",\"\"&Display3!$D$3&\"\")=0),A9+0.001,INT(A9)+1)","v":1.0000000000000002E-2},{"$f":"(LEFT(B11,SEARCH(Display3!$G$2,B11)+LEN(Display3!$G$2)+2))&RIGHT(B11,LEN(B11)-(SEARCH(Display3!$G$2,B11)+LEN(Display3!$G$2)+2))+Display3!$J$3","v":"C.US.EPU1725850"},0,0,10,{"$f":"IF(D10=1,RTD(\"cqg.rtd\", ,\"ContractData\",C10, \"ImpliedVolatility\",, \"T\"),\"\")","v":""},{"$f":"IF(F10=\"\",\"\",RANK(F10,$F$1:$F$35,0)+COUNTIF($F$1:F10,F10)-1)","v":""},0,10,0,{"$f":"IF(D10=1,RTD(\"cqg.rtd\", ,\"OrderData\",\"\"&C10&\"\", \"\", \"OpenTradeEquity\",\"\"&$B$449&\"\"),\"\")","v":""},{"$f":"IF(K10=\"\",\"\",RANK(K10,$K$1:$K$35,0))+COUNTIF($K$1:K10,K10)-1","v":{"$error":"#VALUE!"}},0,10,"",{"$f":"IF(D10=1,RTD(\"cqg.rtd\", ,\"ContractData\",C10, \"Delta\",, \"T\"),\"\")","v":""},{"$f":"IF(D10=1,RTD(\"cqg.rtd\", ,\"OrderData\", \"\"&O10&\"\", \"\", \"OpenPosition\",\"\"&$B$449&\"\"),\"\")","v":""},{"$f":"IF(D10=0,\"\",IF(LEFT(O10,1)=\"F\",Q10*100,Q10*RTD(\"cqg.rtd\",,\"ContractData\",O10,\"Delta\",,\"T\")))","v":""},{"$f":"IF(R10=\"\",\"\",RANK(R10,$R$1:$R$35,0)+COUNTIF($R$1:R10,R10)-1)","v":""},"",10,"",{"$f":"IF(D10=1,RTD(\"cqg.rtd\", ,\"ContractData\",C10, \"Vega\",, \"T\"),\"\")","v":""},{"$f":"IF(W10=\"\",\"\",RANK(W10,$W$1:$W$35,0)+COUNTIF($W$1:W10,W10)-1)","v":""},0,10,"",{"$f":"IF(D10=1,RTD(\"cqg.rtd\", ,\"ContractData\",C10, \"Gamma\",, \"T\"),\"\")","v":""},{"$f":"IF(AB10=\"\",\"\",RANK(AB10,$AB$1:$AB$35,0)+COUNTIF($AB$1:AB10,AB10)-1)","v":""},0,10,"",{"$f":"IF(D10=1,RTD(\"cqg.rtd\", ,\"ContractData\",C10, \"Theta\",, \"T\"),\"\")","v":""},{"$f":"IF(AG10=\"\",\"\",RANK(AG10,$AG$1:$AG$35,0)+COUNTIF($AG$1:AG10,AG10)-1)","v":""},0,10,"",{"$f":"IF(D10=1,1/RTD(\"cqg.rtd\", ,\"ContractData\",C10, \"ExpirationDate\",, \"T\"),\"\")","v":""},{"$f":"IF(AL10=\"\",\"\",RANK(AL10,$AL$1:$AL$35,0)+COUNTIF($AL$1:AL10,AL10)-1)","v":""},0,10,""]
[{"$f":"IF(OR(ISTEXT(RTD(\"cqg.rtd\",,\"OrderData\",\"\"&B11&\"\",\"\",\"OpenPosition\",\"\"&Display3!$D$3&\"\")),RTD(\"cqg.rtd\",,\"OrderData\",\"\"&B11&\"\",\"\",\"OpenPosition\",\"\"&Display3!$D$3&\"\")=0),A10+0.001,INT(A10)+1)","v":1.1000000000000003E-2},{"$f":"(LEFT(B12,SEARCH(Display3!$G$2,B12)+LEN(Display3!$G$2)+2))&RIGHT(B12,LEN(B12)-(SEARCH(Display3!$G$2,B12)+LEN(Display3!$G$2)+2))+Display3!$J$3","v":"C.US.EPU1725800"},0,0,11,{"$f":"IF(D11=1,RTD(\"cqg.rtd\", ,\"ContractData\",C11, \"ImpliedVolatility\",, \"T\"),\"\")","v":""},{"$f":"IF(F11=\"\",\"\",RANK(F11,$F$1:$F$35,0)+COUNTIF($F$1:F11,F11)-1)","v":""},0,11,0,{"$f":"IF(D11=1,RTD(\"cqg.rtd\", ,\"OrderData\",\"\"&C11&\"\", \"\", \"OpenTradeEquity\",\"\"&$B$449&\"\"),\"\")","v":""},{"$f":"IF(K11=\"\",\"\",RANK(K11,$K$1:$K$35,0))+COUNTIF($K$1:K11,K11)-1","v":{"$error":"#VALUE!"}},0,11,"",{"$f":"IF(D11=1,RTD(\"cqg.rtd\", ,\"ContractData\",C11, \"Delta\",, \"T\"),\"\")","v":""},{"$f":"IF(D11=1,RTD(\"cqg.rtd\", ,\"OrderData\", \"\"&O11&\"\", \"\", \"OpenPosition\",\"\"&$B$449&\"\"),\"\")","v":""},{"$f":"IF(D11=0,\"\",IF(LEFT(O11,1)=\"F\",Q11*100,Q11*RTD(\"cqg.rtd\",,\"ContractData\",O11,\"Delta\",,\"T\")))","v":""},{"$f":"IF(R11=\"\",\"\",RANK(R11,$R$1:$R$35,0)+COUNTIF($R$1:R11,R11)-1)","v":""},"",11,"",{"$f":"IF(D11=1,RTD(\"cqg.rtd\", ,\"ContractData\",C11, \"Vega\",, \"T\"),\"\")","v":""},{"$f":"IF(W11=\"\",\"\",RANK(W11,$W$1:$W$35,0)+COUNTIF($W$1:W11,W11)-1)","v":""},0,11,"",{"$f":"IF(D11=1,RTD(\"cqg.rtd\", ,\"ContractData\",C11, \"Gamma\",, \"T\"),\"\")","v":""},{"$f":"IF(AB11=\"\",\"\",RANK(AB11,$AB$1:$AB$35,0)+COUNTIF($AB$1:AB11,AB11)-1)","v":""},0,11,"",{"$f":"IF(D11=1,RTD(\"cqg.rtd\", ,\"ContractData\",C11, \"Theta\",, \"T\"),\"\")","v":""},{"$f":"IF(AG11=\"\",\"\",RANK(AG11,$AG$1:$AG$35,0)+COUNTIF($AG$1:AG11,AG11)-1)","v":""},0,11,"",{"$f":"IF(D11=1,1/RTD(\"cqg.rtd\", ,\"ContractData\",C11, \"ExpirationDate\",, \"T\"),\"\")","v":""},{"$f":"IF(AL11=\"\",\"\",RANK(AL11,$AL$1:$AL$35,0)+COUNTIF($AL$1:AL11,AL11)-1)","v":""},0,11,"",{"$f":"IF(AL11=\"\",\"\",RANK(AL11,$AL$1:$AL$35,0)+COUNTIF($AL$1:AL11,AL11)-1)","v":""}]
[{"$f":"IF(OR(ISTEXT(RTD(\"cqg.rtd\",,\"OrderData\",\"\"&B12&\"\",\"\",\"OpenPosition\",\"\"&Display3!$D$3&\"\")),RTD(\"cqg.rtd\",,\"OrderData\",\"\"&B12&\"\",\"\",\"OpenPosition\",\"\"&Display3!$D$3&\"\")=0),A11+0.001,INT(A11)+1)","v":1.2000000000000004E-2},{"$f":"(LEFT(B13,SEARCH(Display3!$G$2,B13)+LEN(Display3!$G$2)+2))&RIGHT(B13,LEN(B13)-(SEARCH(Display3!$G$2,B13)+LEN(Display3!$G$2)+2))+Display3!$J$3","v":"C.US.EPU1725750"},0,0,12,{"$f":"IF(D12=1,RTD(\"cqg.rtd\", ,\"ContractData\",C12, \"ImpliedVolatility\",, \"T\"),\"\")","v":""},{"$f":"IF(F12=\"\",\"\",RANK(F12,$F$1:$F$35,0)+COUNTIF($F$1:F12,F12)-1)","v":""},0,12,0,{"$f":"IF(D12=1,RTD(\"cqg.rtd\", ,\"OrderData\",\"\"&C12&\"\", \"\", \"OpenTradeEquity\",\"\"&$B$449&\"\"),\"\")","v":""},{"$f":"IF(K12=\"\",\"\",RANK(K12,$K$1:$K$35,0))+COUNTIF($K$1:K12,K12)-1","v":{"$error":"#VALUE!"}},0,12,"",{"$f":"IF(D12=1,RTD(\"cqg.rtd\", ,\"ContractData\",C12, \"Delta\",, \"T\"),\"\")","v":""},{"$f":"IF(D12=1,RTD(\"cqg.rtd\", ,\"OrderData\", \"\"&O12&\"\", \"\", \"OpenPosition\",\"\"&$B$449&\"\"),\"\")","v":""},{"$f":"IF(D12=0,\"\",IF(LEFT(O12,1)=\"F\",Q12*100,Q12*RTD(\"cqg.rtd\",,\"ContractData\",O12,\"Delta\",,\"T\")))","v":""},{"$f":"IF(R12=\"\",\"\",RANK(R12,$R$1:$R$35,0)+COUNTIF($R$1:R12,R12)-1)","v":""},"",12,"",{"$f":"IF(D12=1,RTD(\"cqg.rtd\", ,\"ContractData\",C12, \"Vega\",, \"T\"),\"\")","v":""},{"$f":"IF(W12=\"\",\"\",RANK(W12,$W$1:$W$35,0)+COUNTIF($W$1:W12,W12)-1)","v":""},0,12,"",{"$f":"IF(D12=1,RTD(\"cqg.rtd\", ,\"ContractData\",C12, \"Gamma\",, \"T\"),\"\")","v":""},{"$f":"IF(AB12=\"\",\"\",RANK(AB12,$AB$1:$AB$35,0)+COUNTIF($AB$1:AB12,AB12)-1)","v":""},0,12,null,{"$f":"IF(D12=1,RTD(\"cqg.rtd\", ,\"ContractData\",C12, \"Theta\",, \"T\"),\"\")","v":""},{"$f":"IF(AG12=\"\",\"\",RANK(AG12,$AG$1:$AG$35,0)+COUNTIF($AG$1:AG12,AG12)-1)","v":""},0,12,"",{"$f":"IF(D12=1,1/RTD(\"cqg.rtd\", ,\"ContractData\",C12, \"ExpirationDate\",, \"T\"),\"\")","v":""},{"$f":"IF(AL12=\"\",\"\",RANK(AL12,$AL$1:$AL$35,0)+COUNTIF($AL$1:AL12,AL12)-1)","v":""},0,12,"",{"$f":"IF(AL12=\"\",\"\",RANK(AL12,$AL$1:$AL$35,0)+COUNTIF($AL$1:AL12,AL12)-1)","v":""}]
[{"$f":"IF(OR(ISTEXT(RTD(\"cqg.rtd\",,\"OrderData\",\"\"&B13&\"\",\"\",\"OpenPosition\",\"\"&Display3!$D$3&\"\")),RTD(\"cqg.rtd\",,\"OrderData\",\"\"&B13&\"\",\"\",\"OpenPosition\",\"\"&Display3!$D$3&\"\")=0),A12+0.001,INT(A12)+1)","v":1.3000000000000005E-2},{"$f":"(LEFT(B14,SEARCH(Display3!$G$2,B14)+LEN(Display3!$G$2)+2))&RIGHT(B14,LEN(B14)-(SEARCH(Display3!$G$2,B14)+LEN(Display3!$G$2)+2))+Display3!$J$3","v":"C.US.EPU1725700"},0,0,13,{"$f":"IF(D13=1,RTD(\"cqg.rtd\", ,\"ContractData\",C13, \"ImpliedVolatility\",, \"T\"),\"\")","v":""},{"$f":"IF(F13=\"\",\"\",RANK(F13,$F$1:$F$35,0)+COUNTIF($F$1:F13,F13)-1)","v":""},0,13,0,{"$f":"IF(D13=1,RTD(\"cqg.rtd\", ,\"OrderData\",\"\"&C13&\"\", \"\", \"OpenTradeEquity\",\"\"&$B$449&\"\"),\"\")","v":""},{"$f":"IF(K13=\"\",\"\",RANK(K13,$K$1:$K$35,0))+COUNTIF($K$1:K13,K13)-1","v":{"$error":"#VALUE!"}},0,13,"",{"$f":"IF(D13=1,RTD(\"cqg.rtd\", ,\"ContractData\",C13, \"Delta\",, \"T\"),\"\")","v":""},{"$f":"IF(D13=1,RTD(\"cqg.rtd\", ,\"OrderData\", \"\"&O13&\"\", \"\", \"OpenPosition\",\"\"&$B$449&\"\"),\"\")","v":""},{"$f":"IF(D13=0,\"\",IF(LEFT(O13,1)=\"F\",Q13*100,Q13*RTD(\"cqg.rtd\",,\"ContractData\",O13,\"Delta\",,\"T\")))","v":""},{"$f":"IF(R13=\"\",\"\",RANK(R13,$R$1:$R$35,0)+COUNTIF($R$1:R13,R13)-1)","v":""},"",13,"",{"$f":"IF(D13=1,RTD(\"cqg.rtd\", ,\"ContractData\",C13, \"Vega\",, \"T\"),\"\")","v":""},{"$f":"IF(W13=\"\",\"\",RANK(W13,$W$1:$W$35,0)+COUNTIF($W$1:W13,W13)-1)","v":""},0,13,"",{"$f":"IF(D13=1,RTD(\"cqg.rtd\", ,\"ContractData\",C13, \"Gamma\",, \"T\"),\"\")","v":""},{"$f":"IF(AB13=\"\",\"\",RANK(AB13,$AB$1:$AB$35,0)+COUNTIF($AB$1:AB13,AB13)-1)","v":""},0,13,"",{"$f":"IF(D13=1,RTD(\"cqg.rtd\", ,\"ContractData\",C13, \"Theta\",, \"T\"),\"\")","v":""},{"$f":"IF(AG13=\"\",\"\",RANK(AG13,$AG$1:$AG$35,0)+COUNTIF($AG$1:AG13,AG13)-1)","v":""},0,13,"",{"$f":"IF(D13=1,1/RTD(\"cqg.rtd\", ,\"ContractData\",C13, \"ExpirationDate\",, \"T\"),\"\")","v":""},{"$f":"IF(AL13=\"\",\"\",RANK(AL13,$AL$1:$AL$35,0)+COUNTIF($AL$1:AL13,AL13)-1)","v":""},0,13,"",{"$f":"IF(AL13=\"\",\"\",RANK(AL13,$AL$1:$AL$35,0)+COUNTIF($AL$1:AL13,AL13)-1)","v":""}]
[{"$f":"IF(OR(ISTEXT(RTD(\"cqg.rtd\",,\"OrderData\",\"\"&B14&\"\",\"\",\"OpenPosition\",\"\"&Display3!$D$3&\"\")),RTD(\"cqg.rtd\",,\"OrderData\",\"\"&B14&\"\",\"\",\"OpenPosition\",\"\"&Display3!$D$3&\"\")=0),A13+0.001,INT(A13)+1)","v":1.4000000000000005E-2},{"$f":"(LEFT(B15,SEARCH(Display3!$G$2,B15)+LEN(Display3!$G$2)+2))&RIGHT(B15,LEN(B15)-(SEARCH(Display3!$G$2,B15)+LEN(Display3!$G$2)+2))+Display3!$J$3","v":"C.US.EPU1725650"},0,0,14,{"$f":"IF(D14=1,RTD(\"cqg.rtd\", ,\"ContractData\",C14, \"ImpliedVolatility\",, \"T\"),\"\")","v":""},{"$f":"IF(F14=\"\",\"\",RANK(F14,$F$1:$F$35,0)+COUNTIF($F$1:F14,F14)-1)","v":""},0,14,0,{"$f":"IF(D14=1,RTD(\"cqg.rtd\", ,\"OrderData\",\"\"&C14&\"\", \"\", \"OpenTradeEquity\",\"\"&$B$449&\"\"),\"\")","v":""},{"$f":"IF(K14=\"\",\"\",RANK(K14,$K$1:$K$35,0))+COUNTIF($K$1:K14,K14)-1","v":{"$error":"#VALUE!"}},0,14,"",{"$f":"IF(D14=1,RTD(\"cqg.rtd\", ,\"ContractData\",C14, \"Delta\",, \"T\"),\"\")","v":""},{"$f":"IF(D14=1,RTD(\"cqg.rtd\", ,\"OrderData\", \"\"&O14&\"\", \"\", \"OpenPosition\",\"\"&$B$449&\"\"),\"\")","v":""},{"$f":"IF(D14=0,\"\",IF(LEFT(O14,1)=\"F\",Q14*100,Q14*RTD(\"cqg.rtd\",,\"ContractData\",O14,\"Delta\",,\"T\")))","v":""},{"$f":"IF(R14=\"\",\"\",RANK(R14,$R$1:$R$35,0)+COUNTIF($R$1:R14,R14)-1)","v":""},"",14,"",{"$f":"IF(D14=1,RTD(\"cqg.rtd\", ,\"ContractData\",C14, \"Vega\",, \"T\"),\"\")","v":""},{"$f":"IF(W14=\"\",\"\",RANK(W14,$W$1:$W$35,0)+COUNTIF($W$1:W14,W14)-1)","v":""},0,14,"",{"$f":"IF(D14=1,RTD(\"cqg.rtd\", ,\"ContractData\",C14, \"Gamma\",, \"T\"),\"\")","v":""},{"$f":"IF(AB14=\"\",\"\",RANK(AB14,$AB$1:$AB$35,0)+COUNTIF($AB$1:AB14,AB14)-1)","v":""},0,14,"",{"$f":"IF(D14=1,RTD(\"cqg.rtd\", ,\"ContractData\",C14, \"Theta\",, \"T\"),\"\")","v":""},{"$f":"IF(AG14=\"\",\"\",RANK(AG14,$AG$1:$AG$35,0)+COUNTIF($AG$1:AG14,AG14)-1)","v":""},0,14,"",{"$f":"IF(D14=1,1/RTD(\"cqg.rtd\", ,\"ContractData\",C14, \"ExpirationDate\",, \"T\"),\"\")","v":""},{"$f":"IF(AL14=\"\",\"\",RANK(AL14,$AL$1:$AL$35,0)+COUNTIF($AL$1:AL14,AL14)-1)","v":""},0,14,"",{"$f":"IF(AL14=\"\",\"\",RANK(AL14,$AL$1:$AL$35,0)+COUNTIF($AL$1:AL14,AL14)-1)","v":""}]
[{"$f":"IF(OR(ISTEXT(RTD(\"cqg.rtd\",,\"OrderData\",\"\"&B15&\"\",\"\",\"OpenPosition\",\"\"&Display3!$D$3&\"\")),RTD(\"cqg.rtd\",,\"OrderData\",\"\"&B15&\"\",\"\",\"OpenPosition\",\"\"&Display3!$D$3&\"\")=0),A14+0.001,INT(A14)+1)","v":1.5000000000000006E-2},{"$f":"(LEFT(B16,SEARCH(Display3!$G$2,B16)+LEN(Display3!$G$2)+2))&RIGHT(B16,LEN(B16)-(SEARCH(Display3!$G$2,B16)+LEN(Display3!$G$2)+2))+Display3!$J$3","v":"C.US.EPU1725600"},0,0,15,{"$f":"IF(D15=1,RTD(\"cqg.rtd\", ,\"ContractData\",C15, \"ImpliedVolatility\",, \"T\"),\"\")","v":""},{"$f":"IF(F15=\"\",\"\",RANK(F15,$F$1:$F$35,0)+COUNTIF($F$1:F15,F15)-1)","v":""},0,15,0,{"$f":"IF(D15=1,RTD(\"cqg.rtd\", ,\"OrderData\",\"\"&C15&\"\", \"\", \"OpenTradeEquity\",\"\"&$B$449&\"\"),\"\")","v":""},{"$f":"IF(K15=\"\",\"\",RANK(K15,$K$1:$K$35,0))+COUNTIF($K$1:K15,K15)-1","v":{"$error":"#VALUE!"}},0,15,"",{"$f":"IF(D15=1,RTD(\"cqg.rtd\", ,\"ContractData\",C15, \"Delta\",, \"T\"),\"\")","v":""},{"$f":"IF(D15=1,RTD(\"cqg.rtd\", ,\"OrderData\", \"\"&O15&\"\", \"\", \"OpenPosition\",\"\"&$B$449&\"\"),\"\")","v":""},{"$f":"IF(D15=0,\"\",IF(LEFT(O15,1)=\"F\",Q15*100,Q15*RTD(\"cqg.rtd\",,\"ContractData\",O15,\"Delta\",,\"T\")))","v":""},{"$f":"IF(R15=\"\",\"\",RANK(R15,$R$1:$R$35,0)+COUNTIF($R$1:R15,R15)-1)","v":""},"",15,"",{"$f":"IF(D15=1,RTD(\"cqg.rtd\", ,\"ContractData\",C15, \"Vega\",, \"T\"),\"\")","v":""},{"$f":"IF(W15=\"\",\"\",RANK(W15,$W$1:$W$35,0)+COUNTIF($W$1:W15,W15)-1)","v":""},0,15,"",{"$f":"IF(D15=1,RTD(\"cqg.rtd\", ,\"ContractData\",C15, \"Gamma\",, \"T\"),\"\")","v":""},{"$f":"IF(AB15=\"\",\"\",RANK(AB15,$AB$1:$AB$35,0)+COUNTIF($AB$1:AB15,AB15)-1)","v":""},0,15,"",{"$f":"IF(D15=1,RTD(\"cqg.rtd\", ,\"ContractData\",C15, \"Theta\",, \"T\"),\"\")","v":""},{"$f":"IF(AG15=\"\",\"\",RANK(AG15,$AG$1:$AG$35,0)+COUNTIF($AG$1:AG15,AG15)-1)","v":""},0,15,"",{"$f":"IF(D15=1,1/RTD(\"cqg.rtd\", ,\"ContractData\",C15, \"ExpirationDate\",, \"T\"),\"\")","v":""},{"$f":"IF(AL15=\"\",\"\",RANK(AL15,$AL$1:$AL$35,0)+COUNTIF($AL$1:AL15,AL15)-1)","v":""},0,15,"",{"$f":"IF(AL15=\"\",\"\",RANK(AL15,$AL$1:$AL$35,0)+COUNTIF($AL$1:AL15,AL15)-1)","v":""}]
[{"$f":"IF(OR(ISTEXT(RTD(\"cqg.rtd\",,\"OrderData\",\"\"&B16&\"\",\"\",\"OpenPosition\",\"\"&Display3!$D$3&\"\")),RTD(\"cqg.rtd\",,\"OrderData\",\"\"&B16&\"\",\"\",\"OpenPosition\",\"\"&Display3!$D$3&\"\")=0),A15+0.001,INT(A15)+1)","v":1.6000000000000007E-2},{"$f":"(LEFT(B17,SEARCH(Display3!$G$2,B17)+LEN(Display3!$G$2)+2))&RIGHT(B17,LEN(B17)-(SEARCH(Display3!$G$2,B17)+LEN(Display3!$G$2)+2))+Display3!$J$3","v":"C.US.EPU1725550"},0,0,16,{"$f":"IF(D16=1,RTD(\"cqg.rtd\", ,\"ContractData\",C16, \"ImpliedVolatility\",, \"T\"),\"\")","v":""},{"$f":"IF(F16=\"\",\"\",RANK(F16,$F$1:$F$35,0)+COUNTIF($F$1:F16,F16)-1)","v":""},0,16,0,{"$f":"IF(D16=1,RTD(\"cqg.rtd\", ,\"OrderData\",\"\"&C16&\"\", \"\", \"OpenTradeEquity\",\"\"&$B$449&\"\"),\"\")","v":""},{"$f":"IF(K16=\"\",\"\",RANK(K16,$K$1:$K$35,0))+COUNTIF($K$1:K16,K16)-1","v":{"$error":"#VALUE!"}},0,16,"",{"$f":"IF(D16=1,RTD(\"cqg.rtd\", ,\"ContractData\",C16, \"Delta\",, \"T\"),\"\")","v":""},{"$f":"IF(D16=1,RTD(\"cqg.rtd\", ,\"OrderData\", \"\"&O16&\"\", \"\", \"OpenPosition\",\"\"&$B$449&\"\"),\"\")","v":""},{"$f":"IF(D16=0,\"\",IF(LEFT(O16,1)=\"F\",Q16*100,Q16*RTD(\"cqg.rtd\",,\"ContractData\",O16,\"Delta\",,\"T\")))","v":""},{"$f":"IF(R16=\"\",\"\",RANK(R16,$R$1:$R$35,0)+COUNTIF($R$1:R16,R16)-1)","v":""},"",16,"",{"$f":"IF(D16=1,RTD(\"cqg.rtd\", ,\"ContractData\",C16, \"Vega\",, \"T\"),\"\")","v":""},{"$f":"IF(W16=\"\",\"\",RANK(W16,$W$1:$W$35,0)+COUNTIF($W$1:W16,W16)-1)","v":""},0,16,"",{"$f":"IF(D16=1,RTD(\"cqg.rtd\", ,\"ContractData\",C16, \"Gamma\",, \"T\"),\"\")","v":""},{"$f":"IF(AB16=\"\",\"\",RANK(AB16,$AB$1:$AB$35,0)+COUNTIF($AB$1:AB16,AB16)-1)","v":""},0,16,"",{"$f":"IF(D16=1,RTD(\"cqg.rtd\", ,\"ContractData\",C16, \"Theta\",, \"T\"),\"\")","v":""},{"$f":"IF(AG16=\"\",\"\",RANK(AG16,$AG$1:$AG$35,0)+COUNTIF($AG$1:AG16,AG16)-1)","v":""},0,16,"",{"$f":"IF(D16=1,1/RTD(\"cqg.rtd\", ,\"ContractData\",C16, \"ExpirationDate\",, \"T\"),\"\")","v":""},{"$f":"IF(AL16=\"\",\"\",RANK(AL16,$AL$1:$AL$35,0)+COUNTIF($AL$1:AL16,AL16)-1)","v":""},0,16,"",{"$f":"IF(AL16=\"\",\"\",RANK(AL16,$AL$1:$AL$35,0)+COUNTIF($AL$1:AL16,AL16)-1)","v":""}]
[{"$f":"IF(OR(ISTEXT(RTD(\"cqg.rtd\",,\"OrderData\",\"\"&B17&\"\",\"\",\"OpenPosition\",\"\"&Display3!$D$3&\"\")),RTD(\"cqg.rtd\",,\"OrderData\",\"\"&B17&\"\",\"\",\"OpenPosition\",\"\"&Display3!$D$3&\"\")=0),A16+0.001,INT(A16)+1)","v":1.7000000000000008E-2},{"$f":"(LEFT(B18,SEARCH(Display3!$G$2,B18)+LEN(Display3!$G$2)+2))&RIGHT(B18,LEN(B18)-(SEARCH(Display3!$G$2,B18)+LEN(Display3!$G$2)+2))+Display3!$J$3","v":"C.US.EPU1725500"},0,0,17,{"$f":"IF(D17=1,RTD(\"cqg.rtd\", ,\"ContractData\",C17, \"ImpliedVolatility\",, \"T\"),\"\")","v":""},{"$f":"IF(F17=\"\",\"\",RANK(F17,$F$1:$F$35,0)+COUNTIF($F$1:F17,F17)-1)","v":""},0,17,0,{"$f":"IF(D17=1,RTD(\"cqg.rtd\", ,\"OrderData\",\"\"&C17&\"\", \"\", \"OpenTradeEquity\",\"\"&$B$449&\"\"),\"\")","v":""},{"$f":"IF(K17=\"\",\"\",RANK(K17,$K$1:$K$35,0))+COUNTIF($K$1:K17,K17)-1","v":{"$error":"#VALUE!"}},0,17,"",{"$f":"IF(D17=1,RTD(\"cqg.rtd\", ,\"ContractData\",C17, \"Delta\",, \"T\"),\"\")","v":""},{"$f":"IF(D17=1,RTD(\"cqg.rtd\", ,\"OrderData\", \"\"&O17&\"\", \"\", \"OpenPosition\",\"\"&$B$449&\"\"),\"\")","v":""},{"$f":"IF(D17=0,\"\",IF(LEFT(O17,1)=\"F\",Q17*100,Q17*RTD(\"cqg.rtd\",,\"ContractData\",O17,\"Delta\",,\"T\")))","v":""},{"$f":"IF(R17=\"\",\"\",RANK(R17,$R$1:$R$35,0)+COUNTIF($R$1:R17,R17)-1)","v":""},"",17,"",{"$f":"IF(D17=1,RTD(\"cqg.rtd\", ,\"ContractData\",C17, \"Vega\",, \"T\"),\"\")","v":""},{"$f":"IF(W17=\"\",\"\",RANK(W17,$W$1:$W$35,0)+COUNTIF($W$1:W17,W17)-1)","v":""},0,17,"",{"$f":"IF(D17=1,RTD(\"cqg.rtd\", ,\"ContractData\",C17, \"Gamma\",, \"T\"),\"\")","v":""},{"$f":"IF(AB17=\"\",\"\",RANK(AB17,$AB$1:$AB$35,0)+COUNTIF($AB$1:AB17,AB17)-1)","v":""},0,17,"",{"$f":"IF(D17=1,RTD(\"cqg.rtd\", ,\"ContractData\",C17, \"Theta\",, \"T\"),\"\")","v":""},{"$f":"IF(AG17=\"\",\"\",RANK(AG17,$AG$1:$AG$35,0)+COUNTIF($AG$1:AG17,AG17)-1)","v":""},0,17,"",{"$f":"IF(D17=1,1/RTD(\"cqg.rtd\", ,\"ContractData\",C17, \"ExpirationDate\",, \"T\"),\"\")","v":""},{"$f":"IF(AL17=\"\",\"\",RANK(AL17,$AL$1:$AL$35,0)+COUNTIF($AL$1:AL17,AL17)-1)","v":""},0,17,"",{"$f":"IF(AL17=\"\",\"\",RANK(AL17,$AL$1:$AL$35,0)+COUNTIF($AL$1:AL17,AL17)-1)","v":""}]
[{"$f":"IF(OR(ISTEXT(RTD(\"cqg.rtd\",,\"OrderData\",\"\"&B18&\"\",\"\",\"OpenPosition\",\"\"&Display3!$D$3&\"\")),RTD(\"cqg.rtd\",,\"OrderData\",\"\"&B18&\"\",\"\",\"OpenPosition\",\"\"&Display3!$D$3&\"\")=0),A17+0.001,INT(A17)+1)","v":1.8000000000000009E-2},{"$f":"(LEFT(B19,SEARCH(Display3!$G$2,B19)+LEN(Display3!$G$2)+2))&RIGHT(B19,LEN(B19)-(SEARCH(Display3!$G$2,B19)+LEN(Display3!$G$2)+2))+Display3!$J$3","v":"C.US.EPU1725450"},0,0,18,{"$f":"IF(D18=1,RTD(\"cqg.rtd\", ,\"ContractData\",C18, \"ImpliedVolatility\",, \"T\"),\"\")","v":""},{"$f":"IF(F18=\"\",\"\",RANK(F18,$F$1:$F$35,0)+COUNTIF($F$1:F18,F18)-1)","v":""},0,18,0,{"$f":"IF(D18=1,RTD(\"cqg.rtd\", ,\"OrderData\",\"\"&C18&\"\", \"\", \"OpenTradeEquity\",\"\"&$B$449&\"\"),\"\")","v":""},{"$f":"IF(K18=\"\",\"\",RANK(K18,$K$1:$K$35,0))+COUNTIF($K$1:K18,K18)-1","v":{"$error":"#VALUE!"}},0,18,"",{"$f":"IF(D18=1,RTD(\"cqg.rtd\", ,\"ContractData\",C18, \"Delta\",, \"T\"),\"\")","v":""},{"$f":"IF(D18=1,RTD(\"cqg.rtd\", ,\"OrderData\", \"\"&O18&\"\", \"\", \"OpenPosition\",\"\"&$B$449&\"\"),\"\")","v":""},{"$f":"IF(D18=0,\"\",IF(LEFT(O18,1)=\"F\",Q18*100,Q18*RTD(\"cqg.rtd\",,\"ContractData\",O18,\"Delta\",,\"T\")))","v":""},{"$f":"IF(R18=\"\",\"\",RANK(R18,$R$1:$R$35,0)+COUNTIF($R$1:R18,R18)-1)","v":""},"",18,"",{"$f":"IF(D18=1,RTD(\"cqg.rtd\", ,\"ContractData\",C18, \"Vega\",, \"T\"),\"\")","v":""},{"$f":"IF(W18=\"\",\"\",RANK(W18,$W$1:$W$35,0)+COUNTIF($W$1:W18,W18)-1)","v":""},0,18,"",{"$f":"IF(D18=1,RTD(\"cqg.rtd\", ,\"ContractData\",C18, \"Gamma\",, \"T\"),\"\")","v":""},{"$f":"IF(AB18=\"\",\"\",RANK(AB18,$AB$1:$AB$35,0)+COUNTIF($AB$1:AB18,AB18)-1)","v":""},0,18,"",{"$f":"IF(D18=1,RTD(\"cqg.rtd\", ,\"ContractData\",C18, \"Theta\",, \"T\"),\"\")","v":""},{"$f":"IF(AG18=\"\",\"\",RANK(AG18,$AG$1:$AG$35,0)+COUNTIF($AG$1:AG18,AG18)-1)","v":""},0,18,"",{"$f":"IF(D18=1,1/RTD(\"cqg.rtd\", ,\"ContractData\",C18, \"ExpirationDate\",, \"T\"),\"\")","v":""},{"$f":"IF(AL18=\"\",\"\",RANK(AL18,$AL$1:$AL$35,0)+COUNTIF($AL$1:AL18,AL18)-1)","v":""},0,18,"",{"$f":"IF(AL18=\"\",\"\",RANK(AL18,$AL$1:$AL$35,0)+COUNTIF($AL$1:AL18,AL18)-1)","v":""}]
[{"$f":"IF(OR(ISTEXT(RTD(\"cqg.rtd\",,\"OrderData\",\"\"&B19&\"\",\"\",\"OpenPosition\",\"\"&Display3!$D$3&\"\")),RTD(\"cqg.rtd\",,\"OrderData\",\"\"&B19&\"\",\"\",\"OpenPosition\",\"\"&Display3!$D$3&\"\")=0),A18+0.001,INT(A18)+1)","v":1.900000000000001E-2},{"$f":"(LEFT(B20,SEARCH(Display3!$G$2,B20)+LEN(Display3!$G$2)+2))&RIGHT(B20,LEN(B20)-(SEARCH(Display3!$G$2,B20)+LEN(Display3!$G$2)+2))+Display3!$J$3","v":"C.US.EPU1725400"},0,0,19,{"$f":"IF(D19=1,RTD(\"cqg.rtd\", ,\"ContractData\",C19, \"ImpliedVolatility\",, \"T\"),\"\")","v":""},{"$f":"IF(F19=\"\",\"\",RANK(F19,$F$1:$F$35,0)+COUNTIF($F$1:F19,F19)-1)","v":""},0,19,0,{"$f":"IF(D19=1,RTD(\"cqg.rtd\", ,\"OrderData\",\"\"&C19&\"\", \"\", \"OpenTradeEquity\",\"\"&$B$449&\"\"),\"\")","v":""},{"$f":"IF(K19=\"\",\"\",RANK(K19,$K$1:$K$35,0))+COUNTIF($K$1:K19,K19)-1","v":{"$error":"#VALUE!"}},0,19,"",{"$f":"IF(D19=1,RTD(\"cqg.rtd\", ,\"ContractData\",C19, \"Delta\",, \"T\"),\"\")","v":""},{"$f":"IF(D19=1,RTD(\"cqg.rtd\", ,\"OrderData\", \"\"&O19&\"\", \"\", \"OpenPosition\",\"\"&$B$449&\"\"),\"\")","v":""},{"$f":"IF(D19=0,\"\",IF(LEFT(O19,1)=\"F\",Q19*100,Q19*RTD(\"cqg.rtd\",,\"ContractData\",O19,\"Delta\",,\"T\")))","v":""},{"$f":"IF(R19=\"\",\"\",RANK(R19,$R$1:$R$35,0)+COUNTIF($R$1:R19,R19)-1)","v":""},"",19,"",{"$f":"IF(D19=1,RTD(\"cqg.rtd\", ,\"ContractData\",C19, \"Vega\",, \"T\"),\"\")","v":""},{"$f":"IF(W19=\"\",\"\",RANK(W19,$W$1:$W$35,0)+COUNTIF($W$1:W19,W19)-1)","v":""},0,19,"",{"$f":"IF(D19=1,RTD(\"cqg.rtd\", ,\"ContractData\",C19, \"Gamma\",, \"T\"),\"\")","v":""},{"$f":"IF(AB19=\"\",\"\",RANK(AB19,$AB$1:$AB$35,0)+COUNTIF($AB$1:AB19,AB19)-1)","v":""},0,19,"",{"$f":"IF(D19=1,RTD(\"cqg.rtd\", ,\"ContractData\",C19, \"Theta\",, \"T\"),\"\")","v":""},{"$f":"IF(AG19=\"\",\"\",RANK(AG19,$AG$1:$AG$35,0)+COUNTIF($AG$1:AG19,AG19)-1)","v":""},0,19,"",{"$f":"IF(D19=1,1/RTD(\"cqg.rtd\", ,\"ContractData\",C19, \"ExpirationDate\",, \"T\"),\"\")","v":""},{"$f":"IF(AL19=\"\",\"\",RANK(AL19,$AL$1:$AL$35,0)+COUNTIF($AL$1:AL19,AL19)-1)","v":""},0,19,"",{"$f":"IF(AL19=\"\",\"\",RANK(AL19,$AL$1:$AL$35,0)+COUNTIF($AL$1:AL19,AL19)-1)","v":""}]
[{"$f":"IF(OR(ISTEXT(RTD(\"cqg.rtd\",,\"OrderData\",\"\"&B20&\"\",\"\",\"OpenPosition\",\"\"&Display3!$D$3&\"\")),RTD(\"cqg.rtd\",,\"OrderData\",\"\"&B20&\"\",\"\",\"OpenPosition\",\"\"&Display3!$D$3&\"\")=0),A19+0.001,INT(A19)+1)","v":2.0000000000000011E-2},{"$f":"(LEFT(B21,SEARCH(Display3!$G$2,B21)+LEN(Display3!$G$2)+2))&RIGHT(B21,LEN(B21)-(SEARCH(Display3!$G$2,B21)+LEN(Display3!$G$2)+2))+Display3!$J$3","v":"C.US.EPU1725350"},0,0,20,{"$f":"IF(D20=1,RTD(\"cqg.rtd\", ,\"ContractData\",C20, \"ImpliedVolatility\",, \"T\"),\"\")","v":""},{"$f":"IF(F20=\"\",\"\",RANK(F20,$F$1:$F$35,0)+COUNTIF($F$1:F20,F20)-1)","v":""},0,20,0,{"$f":"IF(D20=1,RTD(\"cqg.rtd\", ,\"OrderData\",\"\"&C20&\"\", \"\", \"OpenTradeEquity\",\"\"&$B$449&\"\"),\"\")","v":""},{"$f":"IF(K20=\"\",\"\",RANK(K20,$K$1:$K$35,0))+COUNTIF($K$1:K20,K20)-1","v":{"$error":"#VALUE!"}},0,20,"",{"$f":"IF(D20=1,RTD(\"cqg.rtd\", ,\"ContractData\",C20, \"Delta\",, \"T\"),\"\")","v":""},{"$f":"IF(D20=1,RTD(\"cqg.rtd\", ,\"OrderData\", \"\"&O20&\"\", \"\", \"OpenPosition\",\"\"&$B$449&\"\"),\"\")","v":""},{"$f":"IF(D20=0,\"\",IF(LEFT(O20,1)=\"F\",Q20*100,Q20*RTD(\"cqg.rtd\",,\"ContractData\",O20,\"Delta\",,\"T\")))","v":""},{"$f":"IF(R20=\"\",\"\",RANK(R20,$R$1:$R$35,0)+COUNTIF($R$1:R20,R20)-1)","v":""},"",20,"",{"$f":"IF(D20=1,RTD(\"cqg.rtd\", ,\"ContractData\",C20, \"Vega\",, \"T\"),\"\")","v":""},{"$f":"IF(W20=\"\",\"\",RANK(W20,$W$1:$W$35,0)+COUNTIF($W$1:W20,W20)-1)","v":""},0,20,"",{"$f":"IF(D20=1,RTD(\"cqg.rtd\", ,\"ContractData\",C20, \"Gamma\",, \"T\"),\"\")","v":""},{"$f":"IF(AB20=\"\",\"\",RANK(AB20,$AB$1:$AB$35,0)+COUNTIF($AB$1:AB20,AB20)-1)","v":""},0,20,"",{"$f":"IF(D20=1,RTD(\"cqg.rtd\", ,\"ContractData\",C20, \"Theta\",, \"T\"),\"\")","v":""},{"$f":"IF(AG20=\"\",\"\",RANK(AG20,$AG$1:$AG$35,0)+COUNTIF($AG$1:AG20,AG20)-1)","v":""},0,20,"",{"$f":"IF(D20=1,1/RTD(\"cqg.rtd\", ,\"ContractData\",C20, \"ExpirationDate\",, \"T\"),\"\")","v":""},{"$f":"IF(AL20=\"\",\"\",RANK(AL20,$AL$1:$AL$35,0)+COUNTIF($AL$1:AL20,AL20)-1)","v":""},0,20,"",{"$f":"IF(AL20=\"\",\"\",RANK(AL20,$AL$1:$AL$35,0)+COUNTIF($AL$1:AL20,AL20)-1)","v":""}]
[{"$f":"IF(OR(ISTEXT(RTD(\"cqg.rtd\",,\"OrderData\",\"\"&B21&\"\",\"\",\"OpenPosition\",\"\"&Display3!$D$3&\"\")),RTD(\"cqg.rtd\",,\"OrderData\",\"\"&B21&\"\",\"\",\"OpenPosition\",\"\"&Display3!$D$3&\"\")=0),A20+0.001,INT(A20)+1)","v":2.1000000000000012E-2},{"$f":"(LEFT(B22,SEARCH(Display3!$G$2,B22)+LEN(Display3!$G$2)+2))&RIGHT(B22,LEN(B22)-(SEARCH(Display3!$G$2,B22)+LEN(Display3!$G$2)+2))+Display3!$J$3","v":"C.US.EPU1725300"},0,0,21,{"$f":"IF(D21=1,RTD(\"cqg.rtd\", ,\"ContractData\",C21, \"ImpliedVolatility\",, \"T\"),\"\")","v":""},{"$f":"IF(F21=\"\",\"\",RANK(F21,$F$1:$F$35,0)+COUNTIF($F$1:F21,F21)-1)","v":""},0,21,0,{"$f":"IF(D21=1,RTD(\"cqg.rtd\", ,\"OrderData\",\"\"&C21&\"\", \"\", \"OpenTradeEquity\",\"\"&$B$449&\"\"),\"\")","v":""},{"$f":"IF(K21=\"\",\"\",RANK(K21,$K$1:$K$35,0))+COUNTIF($K$1:K21,K21)-1","v":{"$error":"#VALUE!"}},0,21,"",{"$f":"IF(D21=1,RTD(\"cqg.rtd\", ,\"ContractData\",C21, \"Delta\",, \"T\"),\"\")","v":""},{"$f":"IF(D21=1,RTD(\"cqg.rtd\", ,\"OrderData\", \"\"&O21&\"\", \"\", \"OpenPosition\",\"\"&$B$449&\"\"),\"\")","v":""},{"$f":"IF(D21=0,\"\",IF(LEFT(O21,1)=\"F\",Q21*100,Q21*RTD(\"cqg.rtd\",,\"ContractData\",O21,\"Delta\",,\"T\")))","v":""},{"$f":"IF(R21=\"\",\"\",RANK(R21,$R$1:$R$35,0)+COUNTIF($R$1:R21,R21)-1)","v":""},"",21,"",{"$f":"IF(D21=1,RTD(\"cqg.rtd\", ,\"ContractData\",C21, \"Vega\",, \"T\"),\"\")","v":""},{"$f":"IF(W21=\"\",\"\",RANK(W21,$W$1:$W$35,0)+COUNTIF($W$1:W21,W21)-1)","v":""},0,21,"",{"$f":"IF(D21=1,RTD(\"cqg.rtd\", ,\"ContractData\",C21, \"Gamma\",, \"T\"),\"\")","v":""},{"$f":"IF(AB21=\"\",\"\",RANK(AB21,$AB$1:$AB$35,0)+COUNTIF($AB$1:AB21,AB21)-1)","v":""},0,21,"",{"$f":"IF(D21=1,RTD(\"cqg.rtd\", ,\"ContractData\",C21, \"Theta\",, \"T\"),\"\")","v":""},{"$f":"IF(AG21=\"\",\"\",RANK(AG21,$AG$1:$AG$35,0)+COUNTIF($AG$1:AG21,AG21)-1)","v":""},0,21,"",{"$f":"IF(D21=1,1/RTD(\"cqg.rtd\", ,\"ContractData\",C21, \"ExpirationDate\",, \"T\"),\"\")","v":""},{"$f":"IF(AL21=\"\",\"\",RANK(AL21,$AL$1:$AL$35,0)+COUNTIF($AL$1:AL21,AL21)-1)","v":""},0,21,"",{"$f":"IF(AL21=\"\",\"\",RANK(AL21,$AL$1:$AL$35,0)+COUNTIF($AL$1:AL21,AL21)-1)","v":""}]
[{"$f":"IF(OR(ISTEXT(RTD(\"cqg.rtd\",,\"OrderData\",\"\"&B22&\"\",\"\",\"OpenPosition\",\"\"&Display3!$D$3&\"\")),RTD(\"cqg.rtd\",,\"OrderData\",\"\"&B22&\"\",\"\",\"OpenPosition\",\"\"&Display3!$D$3&\"\")=0),A21+0.001,INT(A21)+1)","v":2.2000000000000013E-2},{"$f":"(LEFT(B23,SEARCH(Display3!$G$2,B23)+LEN(Display3!$G$2)+2))&RIGHT(B23,LEN(B23)-(SEARCH(Display3!$G$2,B23)+LEN(Display3!$G$2)+2))+Display3!$J$3","v":"C.US.EPU1725250"},0,0,22,{"$f":"IF(D22=1,RTD(\"cqg.rtd\", ,\"ContractData\",C22, \"ImpliedVolatility\",, \"T\"),\"\")","v":""},{"$f":"IF(F22=\"\",\"\",RANK(F22,$F$1:$F$35,0)+COUNTIF($F$1:F22,F22)-1)","v":""},0,22,0,{"$f":"IF(D22=1,RTD(\"cqg.rtd\", ,\"OrderData\",\"\"&C22&\"\", \"\", \"OpenTradeEquity\",\"\"&$B$449&\"\"),\"\")","v":""},{"$f":"IF(K22=\"\",\"\",RANK(K22,$K$1:$K$35,0))+COUNTIF($K$1:K22,K22)-1","v":{"$error":"#VALUE!"}},0,22,"",{"$f":"IF(D22=1,RTD(\"cqg.rtd\", ,\"ContractData\",C22, \"Delta\",, \"T\"),\"\")","v":""},{"$f":"IF(D22=1,RTD(\"cqg.rtd\", ,\"OrderData\", \"\"&O22&\"\", \"\", \"OpenPosition\",\"\"&$B$449&\"\"),\"\")","v":""},{"$f":"IF(D22=0,\"\",IF(LEFT(O22,1)=\"F\",Q22*100,Q22*RTD(\"cqg.rtd\",,\"ContractData\",O22,\"Delta\",,\"T\")))","v":""},{"$f":"IF(R22=\"\",\"\",RANK(R22,$R$1:$R$35,0)+COUNTIF($R$1:R22,R22)-1)","v":""},"",22,"",{"$f":"IF(D22=1,RTD(\"cqg.rtd\", ,\"ContractData\",C22, \"Vega\",, \"T\"),\"\")","v":""},{"$f":"IF(W22=\"\",\"\",RANK(W22,$W$1:$W$35,0)+COUNTIF($W$1:W22,W22)-1)","v":""},0,22,"",{"$f":"IF(D22=1,RTD(\"cqg.rtd\", ,\"ContractData\",C22, \"Gamma\",, \"T\"),\"\")","v":""},{"$f":"IF(AB22=\"\",\"\",RANK(AB22,$AB$1:$AB$35,0)+COUNTIF($AB$1:AB22,AB22)-1)","v":""},0,22,"",{"$f":"IF(D22=1,RTD(\"cqg.rtd\", ,\"ContractData\",C22, \"Theta\",, \"T\"),\"\")","v":""},{"$f":"IF(AG22=\"\",\"\",RANK(AG22,$AG$1:$AG$35,0)+COUNTIF($AG$1:AG22,AG22)-1)","v":""},0,22,"",{"$f":"IF(D22=1,1/RTD(\"cqg.rtd\", ,\"ContractData\",C22, \"ExpirationDate\",, \"T\"),\"\")","v":""},{"$f":"IF(AL22=\"\",\"\",RANK(AL22,$AL$1:$AL$35,0)+COUNTIF($AL$1:AL22,AL22)-1)","v":""},0,22,"",{"$f":"IF(AL22=\"\",\"\",RANK(AL22,$AL$1:$AL$35,0)+COUNTIF($AL$1:AL22,AL22)-1)","v":""}]
[{"$f":"IF(OR(ISTEXT(RTD(\"cqg.rtd\",,\"OrderData\",\"\"&B23&\"\",\"\",\"OpenPosition\",\"\"&Display3!$D$3&\"\")),RTD(\"cqg.rtd\",,\"OrderData\",\"\"&B23&\"\",\"\",\"OpenPosition\",\"\"&Display3!$D$3&\"\")=0),A22+0.001,INT(A22)+1)","v":2.3000000000000013E-2},{"$f":"(LEFT(B24,SEARCH(Display3!$G$2,B24)+LEN(Display3!$G$2)+2))&RIGHT(B24,LEN(B24)-(SEARCH(Display3!$G$2,B24)+LEN(Display3!$G$2)+2))+Display3!$J$3","v":"C.US.EPU1725200"},0,0,23,{"$f":"IF(D23=1,RTD(\"cqg.rtd\", ,\"ContractData\",C23, \"ImpliedVolatility\",, \"T\"),\"\")","v":""},{"$f":"IF(F23=\"\",\"\",RANK(F23,$F$1:$F$35,0)+COUNTIF($F$1:F23,F23)-1)","v":""},0,23,0,{"$f":"IF(D23=1,RTD(\"cqg.rtd\", ,\"OrderData\",\"\"&C23&\"\", \"\", \"OpenTradeEquity\",\"\"&$B$449&\"\"),\"\")","v":""},{"$f":"IF(K23=\"\",\"\",RANK(K23,$K$1:$K$35,0))+COUNTIF($K$1:K23,K23)-1","v":{"$error":"#VALUE!"}},0,23,"",{"$f":"IF(D23=1,RTD(\"cqg.rtd\", ,\"ContractData\",C23, \"Delta\",, \"T\"),\"\")","v":""},{"$f":"IF(D23=1,RTD(\"cqg.rtd\", ,\"OrderData\", \"\"&O23&\"\", \"\", \"OpenPosition\",\"\"&$B$449&\"\"),\"\")","v":""},{"$f":"IF(D23=0,\"\",IF(LEFT(O23,1)=\"F\",Q23*100,Q23*RTD(\"cqg.rtd\",,\"ContractData\",O23,\"Delta\",,\"T\")))","v":""},{"$f":"IF(R23=\"\",\"\",RANK(R23,$R$1:$R$35,0)+COUNTIF($R$1:R23,R23)-1)","v":""},"",23,"",{"$f":"IF(D23=1,RTD(\"cqg.rtd\", ,\"ContractData\",C23, \"Vega\",, \"T\"),\"\")","v":""},{"$f":"IF(W23=\"\",\"\",RANK(W23,$W$1:$W$35,0)+COUNTIF($W$1:W23,W23)-1)","v":""},0,23,"",{"$f":"IF(D23=1,RTD(\"cqg.rtd\", ,\"ContractData\",C23, \"Gamma\",, \"T\"),\"\")","v":""},{"$f":"IF(AB23=\"\",\"\",RANK(AB23,$AB$1:$AB$35,0)+COUNTIF($AB$1:AB23,AB23)-1)","v":""},0,23,"",{"$f":"IF(D23=1,RTD(\"cqg.rtd\", ,\"ContractData\",C23, \"Theta\",, \"T\"),\"\")","v":""},{"$f":"IF(AG23=\"\",\"\",RANK(AG23,$AG$1:$AG$35,0)+COUNTIF($AG$1:AG23,AG23)-1)","v":""},0,23,"",{"$f":"IF(D23=1,1/RTD(\"cqg.rtd\", ,\"ContractData\",C23, \"ExpirationDate\",, \"T\"),\"\")","v":""},{"$f":"IF(AL23=\"\",\"\",RANK(AL23,$AL$1:$AL$35,0)+COUNTIF($AL$1:AL23,AL23)-1)","v":""},0,23,"",{"$f":"IF(AL23=\"\",\"\",RANK(AL23,$AL$1:$AL$35,0)+COUNTIF($AL$1:AL23,AL23)-1)","v":""}]
[{"$f":"IF(OR(ISTEXT(RTD(\"cqg.rtd\",,\"OrderData\",\"\"&B24&\"\",\"\",\"OpenPosition\",\"\"&Display3!$D$3&\"\")),RTD(\"cqg.rtd\",,\"OrderData\",\"\"&B24&\"\",\"\",\"OpenPosition\",\"\"&Display3!$D$3&\"\")=0),A23+0.001,INT(A23)+1)","v":2.4000000000000014E-2},{"$f":"(LEFT(B25,SEARCH(Display3!$G$2,B25)+LEN(Display3!$G$2)+2))&RIGHT(B25,LEN(B25)-(SEARCH(Display3!$G$2,B25)+LEN(Display3!$G$2)+2))+Display3!$J$3","v":"C.US.EPU1725150"},0,0,24,{"$f":"IF(D24=1,RTD(\"cqg.rtd\", ,\"ContractData\",C24, \"ImpliedVolatility\",, \"T\"),\"\")","v":""},{"$f":"IF(F24=\"\",\"\",RANK(F24,$F$1:$F$35,0)+COUNTIF($F$1:F24,F24)-1)","v":""},0,24,0,{"$f":"IF(D24=1,RTD(\"cqg.rtd\", ,\"OrderData\",\"\"&C24&\"\", \"\", \"OpenTradeEquity\",\"\"&$B$449&\"\"),\"\")","v":""},{"$f":"IF(K24=\"\",\"\",RANK(K24,$K$1:$K$35,0))+COUNTIF($K$1:K24,K24)-1","v":{"$error":"#VALUE!"}},0,24,"",{"$f":"IF(D24=1,RTD(\"cqg.rtd\", ,\"ContractData\",C24, \"Delta\",, \"T\"),\"\")","v":""},{"$f":"IF(D24=1,RTD(\"cqg.rtd\", ,\"OrderData\", \"\"&O24&\"\", \"\", \"OpenPosition\",\"\"&$B$449&\"\"),\"\")","v":""},{"$f":"IF(D24=0,\"\",IF(LEFT(O24,1)=\"F\",Q24*100,Q24*RTD(\"cqg.rtd\",,\"ContractData\",O24,\"Delta\",,\"T\")))","v":""},{"$f":"IF(R24=\"\",\"\",RANK(R24,$R$1:$R$35,0)+COUNTIF($R$1:R24,R24)-1)","v":""},"",24,"",{"$f":"IF(D24=1,RTD(\"cqg.rtd\", ,\"ContractData\",C24, \"Vega\",, \"T\"),\"\")","v":""},{"$f":"IF(W24=\"\",\"\",RANK(W24,$W$1:$W$35,0)+COUNTIF($W$1:W24,W24)-1)","v":""},0,24,"",{"$f":"IF(D24=1,RTD(\"cqg.rtd\", ,\"ContractData\",C24, \"Gamma\",, \"T\"),\"\")","v":""},{"$f":"IF(AB24=\"\",\"\",RANK(AB24,$AB$1:$AB$35,0)+COUNTIF($AB$1:AB24,AB24)-1)","v":""},0,24,"",{"$f":"IF(D24=1,RTD(\"cqg.rtd\", ,\"ContractData\",C24, \"Theta\",, \"T\"),\"\")","v":""},{"$f":"IF(AG24=\"\",\"\",RANK(AG24,$AG$1:$AG$35,0)+COUNTIF($AG$1:AG24,AG24)-1)","v":""},0,24,"",{"$f":"IF(D24=1,1/RTD(\"cqg.rtd\", ,\"ContractData\",C24, \"ExpirationDate\",, \"T\"),\"\")","v":""},{"$f":"IF(AL24=\"\",\"\",RANK(AL24,$AL$1:$AL$35,0)+COUNTIF($AL$1:AL24,AL24)-1)","v":""},0,24,"",{"$f":"IF(AL24=\"\",\"\",RANK(AL24,$AL$1:$AL$35,0)+COUNTIF($AL$1:AL24,AL24)-1)","v":""}]
[{"$f":"IF(OR(ISTEXT(RTD(\"cqg.rtd\",,\"OrderData\",\"\"&B25&\"\",\"\",\"OpenPosition\",\"\"&Display3!$D$3&\"\")),RTD(\"cqg.rtd\",,\"OrderData\",\"\"&B25&\"\",\"\",\"OpenPosition\",\"\"&Display3!$D$3&\"\")=0),A24+0.001,INT(A24)+1)","v":2.5000000000000015E-2},{"$f":"(LEFT(B26,SEARCH(Display3!$G$2,B26)+LEN(Display3!$G$2)+2))&RIGHT(B26,LEN(B26)-(SEARCH(Display3!$G$2,B26)+LEN(Display3!$G$2)+2))+Display3!$J$3","v":"C.US.EPU1725100"},0,0,25,{"$f":"IF(D25=1,RTD(\"cqg.rtd\", ,\"ContractData\",C25, \"ImpliedVolatility\",, \"T\"),\"\")","v":""},{"$f":"IF(F25=\"\",\"\",RANK(F25,$F$1:$F$35,0)+COUNTIF($F$1:F25,F25)-1)","v":""},0,25,0,{"$f":"IF(D25=1,RTD(\"cqg.rtd\", ,\"OrderData\",\"\"&C25&\"\", \"\", \"OpenTradeEquity\",\"\"&$B$449&\"\"),\"\")","v":""},{"$f":"IF(K25=\"\",\"\",RANK(K25,$K$1:$K$35,0))+COUNTIF($K$1:K25,K25)-1","v":{"$error":"#VALUE!"}},0,25,"",{"$f":"IF(D25=1,RTD(\"cqg.rtd\", ,\"ContractData\",C25, \"Delta\",, \"T\"),\"\")","v":""},{"$f":"IF(D25=1,RTD(\"cqg.rtd\", ,\"OrderData\", \"\"&O25&\"\", \"\", \"OpenPosition\",\"\"&$B$449&\"\"),\"\")","v":""},{"$f":"IF(D25=0,\"\",IF(LEFT(O25,1)=\"F\",Q25*100,Q25*RTD(\"cqg.rtd\",,\"ContractData\",O25,\"Delta\",,\"T\")))","v":""},{"$f":"IF(R25=\"\",\"\",RANK(R25,$R$1:$R$35,0)+COUNTIF($R$1:R25,R25)-1)","v":""},"",25,"",{"$f":"IF(D25=1,RTD(\"cqg.rtd\", ,\"ContractData\",C25, \"Vega\",, \"T\"),\"\")","v":""},{"$f":"IF(W25=\"\",\"\",RANK(W25,$W$1:$W$35,0)+COUNTIF($W$1:W25,W25)-1)","v":""},0,25,"",{"$f":"IF(D25=1,RTD(\"cqg.rtd\", ,\"ContractData\",C25, \"Gamma\",, \"T\"),\"\")","v":""},{"$f":"IF(AB25=\"\",\"\",RANK(AB25,$AB$1:$AB$35,0)+COUNTIF($AB$1:AB25,AB25)-1)","v":""},0,25,"",{"$f":"IF(D25=1,RTD(\"cqg.rtd\", ,\"ContractData\",C25, \"Theta\",, \"T\"),\"\")","v":""},{"$f":"IF(AG25=\"\",\"\",RANK(AG25,$AG$1:$AG$35,0)+COUNTIF($AG$1:AG25,AG25)-1)","v":""},0,25,"",{"$f":"IF(D25=1,1/RTD(\"cqg.rtd\", ,\"ContractData\",C25, \"ExpirationDate\",, \"T\"),\"\")","v":""},{"$f":"IF(AL25=\"\",\"\",RANK(AL25,$AL$1:$AL$35,0)+COUNTIF($AL$1:AL25,AL25)-1)","v":""},0,25,"",{"$f":"IF(AL25=\"\",\"\",RANK(AL25,$AL$1:$AL$35,0)+COUNTIF($AL$1:AL25,AL25)-1)","v":""}]
[{"$f":"IF(OR(ISTEXT(RTD(\"cqg.rtd\",,\"OrderData\",\"\"&B26&\"\",\"\",\"OpenPosition\",\"\"&Display3!$D$3&\"\")),RTD(\"cqg.rtd\",,\"OrderData\",\"\"&B26&\"\",\"\",\"OpenPosition\",\"\"&Display3!$D$3&\"\")=0),A25+0.001,INT(A25)+1)","v":2.6000000000000016E-2},{"$f":"(LEFT(B27,SEARCH(Display3!$G$2,B27)+LEN(Display3!$G$2)+2))&RIGHT(B27,LEN(B27)-(SEARCH(Display3!$G$2,B27)+LEN(Display3!$G$2)+2))+Display3!$J$3","v":"C.US.EPU1725050"},0,0,26,{"$f":"IF(D26=1,RTD(\"cqg.rtd\", ,\"ContractData\",C26, \"ImpliedVolatility\",, \"T\"),\"\")","v":""},{"$f":"IF(F26=\"\",\"\",RANK(F26,$F$1:$F$35,0)+COUNTIF($F$1:F26,F26)-1)","v":""},0,26,0,{"$f":"IF(D26=1,RTD(\"cqg.rtd\", ,\"OrderData\",\"\"&C26&\"\", \"\", \"OpenTradeEquity\",\"\"&$B$449&\"\"),\"\")","v":""},{"$f":"IF(K26=\"\",\"\",RANK(K26,$K$1:$K$35,0))+COUNTIF($K$1:K26,K26)-1","v":{"$error":"#VALUE!"}},0,26,"",{"$f":"IF(D26=1,RTD(\"cqg.rtd\", ,\"ContractData\",C26, \"Delta\",, \"T\"),\"\")","v":""},{"$f":"IF(D26=1,RTD(\"cqg.rtd\", ,\"OrderData\", \"\"&O26&\"\", \"\", \"OpenPosition\",\"\"&$B$449&\"\"),\"\")","v":""},{"$f":"IF(D26=0,\"\",IF(LEFT(O26,1)=\"F\",Q26*100,Q26*RTD(\"cqg.rtd\",,\"ContractData\",O26,\"Delta\",,\"T\")))","v":""},{"$f":"IF(R26=\"\",\"\",RANK(R26,$R$1:$R$35,0)+COUNTIF($R$1:R26,R26)-1)","v":""},"",26,"",{"$f":"IF(D26=1,RTD(\"cqg.rtd\", ,\"ContractData\",C26, \"Vega\",, \"T\"),\"\")","v":""},{"$f":"IF(W26=\"\",\"\",RANK(W26,$W$1:$W$35,0)+COUNTIF($W$1:W26,W26)-1)","v":""},0,26,"",{"$f":"IF(D26=1,RTD(\"cqg.rtd\", ,\"ContractData\",C26, \"Gamma\",, \"T\"),\"\")","v":""},{"$f":"IF(AB26=\"\",\"\",RANK(AB26,$AB$1:$AB$35,0)+COUNTIF($AB$1:AB26,AB26)-1)","v":""},0,26,"",{"$f":"IF(D26=1,RTD(\"cqg.rtd\", ,\"ContractData\",C26, \"Theta\",, \"T\"),\"\")","v":""},{"$f":"IF(AG26=\"\",\"\",RANK(AG26,$AG$1:$AG$35,0)+COUNTIF($AG$1:AG26,AG26)-1)","v":""},0,26,"",{"$f":"IF(D26=1,1/RTD(\"cqg.rtd\", ,\"ContractData\",C26, \"ExpirationDate\",, \"T\"),\"\")","v":""},{"$f":"IF(AL26=\"\",\"\",RANK(AL26,$AL$1:$AL$35,0)+COUNTIF($AL$1:AL26,AL26)-1)","v":""},0,26,"",{"$f":"IF(AL26=\"\",\"\",RANK(AL26,$AL$1:$AL$35,0)+COUNTIF($AL$1:AL26,AL26)-1)","v":""}]
[{"$f":"IF(OR(ISTEXT(RTD(\"cqg.rtd\",,\"OrderData\",\"\"&B27&\"\",\"\",\"OpenPosition\",\"\"&Display3!$D$3&\"\")),RTD(\"cqg.rtd\",,\"OrderData\",\"\"&B27&\"\",\"\",\"OpenPosition\",\"\"&Display3!$D$3&\"\")=0),A26+0.001,INT(A26)+1)","v":2.7000000000000017E-2},{"$f":"(LEFT(B28,SEARCH(Display3!$G$2,B28)+LEN(Display3!$G$2)+2))&RIGHT(B28,LEN(B28)-(SEARCH(Display3!$G$2,B28)+LEN(Display3!$G$2)+2))+Display3!$J$3","v":"C.US.EPU1725000"},0,0,27,{"$f":"IF(D27=1,RTD(\"cqg.rtd\", ,\"ContractData\",C27, \"ImpliedVolatility\",, \"T\"),\"\")","v":""},{"$f":"IF(F27=\"\",\"\",RANK(F27,$F$1:$F$35,0)+COUNTIF($F$1:F27,F27)-1)","v":""},0,27,0,{"$f":"IF(D27=1,RTD(\"cqg.rtd\", ,\"OrderData\",\"\"&C27&\"\", \"\", \"OpenTradeEquity\",\"\"&$B$449&\"\"),\"\")","v":""},{"$f":"IF(K27=\"\",\"\",RANK(K27,$K$1:$K$35,0))+COUNTIF($K$1:K27,K27)-1","v":{"$error":"#VALUE!"}},0,27,"",{"$f":"IF(D27=1,RTD(\"cqg.rtd\", ,\"ContractData\",C27, \"Delta\",, \"T\"),\"\")","v":""},{"$f":"IF(D27=1,RTD(\"cqg.rtd\", ,\"OrderData\", \"\"&O27&\"\", \"\", \"OpenPosition\",\"\"&$B$449&\"\"),\"\")","v":""},{"$f":"IF(D27=0,\"\",IF(LEFT(O27,1)=\"F\",Q27*100,Q27*RTD(\"cqg.rtd\",,\"ContractData\",O27,\"Delta\",,\"T\")))","v":""},{"$f":"IF(R27=\"\",\"\",RANK(R27,$R$1:$R$35,0)+COUNTIF($R$1:R27,R27)-1)","v":""},"",27,"",{"$f":"IF(D27=1,RTD(\"cqg.rtd\", ,\"ContractData\",C27, \"Vega\",, \"T\"),\"\")","v":""},{"$f":"IF(W27=\"\",\"\",RANK(W27,$W$1:$W$35,0)+COUNTIF($W$1:W27,W27)-1)","v":""},0,27,"",{"$f":"IF(D27=1,RTD(\"cqg.rtd\", ,\"ContractData\",C27, \"Gamma\",, \"T\"),\"\")","v":""},{"$f":"IF(AB27=\"\",\"\",RANK(AB27,$AB$1:$AB$35,0)+COUNTIF($AB$1:AB27,AB27)-1)","v":""},0,27,"",{"$f":"IF(D27=1,RTD(\"cqg.rtd\", ,\"ContractData\",C27, \"Theta\",, \"T\"),\"\")","v":""},{"$f":"IF(AG27=\"\",\"\",RANK(AG27,$AG$1:$AG$35,0)+COUNTIF($AG$1:AG27,AG27)-1)","v":""},0,27,"",{"$f":"IF(D27=1,1/RTD(\"cqg.rtd\", ,\"ContractData\",C27, \"ExpirationDate\",, \"T\"),\"\")","v":""},{"$f":"IF(AL27=\"\",\"\",RANK(AL27,$AL$1:$AL$35,0)+COUNTIF($AL$1:AL27,AL27)-1)","v":""},0,27,"",{"$f":"IF(AL27=\"\",\"\",RANK(AL27,$AL$1:$AL$35,0)+COUNTIF($AL$1:AL27,AL27)-1)","v":""}]
[{"$f":"IF(OR(ISTEXT(RTD(\"cqg.rtd\",,\"OrderData\",\"\"&B28&\"\",\"\",\"OpenPosition\",\"\"&Display3!$D$3&\"\")),RTD(\"cqg.rtd\",,\"OrderData\",\"\"&B28&\"\",\"\",\"OpenPosition\",\"\"&Display3!$D$3&\"\")=0),A27+0.001,INT(A27)+1)","v":2.8000000000000018E-2},{"$f":"(LEFT(B29,SEARCH(Display3!$G$2,B29)+LEN(Display3!$G$2)+2))&RIGHT(B29,LEN(B29)-(SEARCH(Display3!$G$2,B29)+LEN(Display3!$G$2)+2))+Display3!$J$3","v":"C.US.EPU1724950"},0,0,28,{"$f":"IF(D28=1,RTD(\"cqg.rtd\", ,\"ContractData\",C28, \"ImpliedVolatility\",, \"T\"),\"\")","v":""},{"$f":"IF(F28=\"\",\"\",RANK(F28,$F$1:$F$35,0)+COUNTIF($F$1:F28,F28)-1)","v":""},0,28,0,{"$f":"IF(D28=1,RTD(\"cqg.rtd\", ,\"OrderData\",\"\"&C28&\"\", \"\", \"OpenTradeEquity\",\"\"&$B$449&\"\"),\"\")","v":""},{"$f":"IF(K28=\"\",\"\",RANK(K28,$K$1:$K$35,0))+COUNTIF($K$1:K28,K28)-1","v":{"$error":"#VALUE!"}},0,28,"",{"$f":"IF(D28=1,RTD(\"cqg.rtd\", ,\"ContractData\",C28, \"Delta\",, \"T\"),\"\")","v":""},{"$f":"IF(D28=1,RTD(\"cqg.rtd\", ,\"OrderData\", \"\"&O28&\"\", \"\", \"OpenPosition\",\"\"&$B$449&\"\"),\"\")","v":""},{"$f":"IF(D28=0,\"\",IF(LEFT(O28,1)=\"F\",Q28*100,Q28*RTD(\"cqg.rtd\",,\"ContractData\",O28,\"Delta\",,\"T\")))","v":""},{"$f":"IF(R28=\"\",\"\",RANK(R28,$R$1:$R$35,0)+COUNTIF($R$1:R28,R28)-1)","v":""},"",28,"",{"$f":"IF(D28=1,RTD(\"cqg.rtd\", ,\"ContractData\",C28, \"Vega\",, \"T\"),\"\")","v":""},{"$f":"IF(W28=\"\",\"\",RANK(W28,$W$1:$W$35,0)+COUNTIF($W$1:W28,W28)-1)","v":""},0,28,"",{"$f":"IF(D28=1,RTD(\"cqg.rtd\", ,\"ContractData\",C28, \"Gamma\",, \"T\"),\"\")","v":""},{"$f":"IF(AB28=\"\",\"\",RANK(AB28,$AB$1:$AB$35,0)+COUNTIF($AB$1:AB28,AB28)-1)","v":""},0,28,"",{"$f":"IF(D28=1,RTD(\"cqg.rtd\", ,\"ContractData\",C28, \"Theta\",, \"T\"),\"\")","v":""},{"$f":"IF(AG28=\"\",\"\",RANK(AG28,$AG$1:$AG$35,0)+COUNTIF($AG$1:AG28,AG28)-1)","v":""},0,28,"",{"$f":"IF(D28=1,1/RTD(\"cqg.rtd\", ,\"ContractData\",C28, \"ExpirationDate\",, \"T\"),\"\")","v":""},{"$f":"IF(AL28=\"\",\"\",RANK(AL28,$AL$1:$AL$35,0)+COUNTIF($AL$1:AL28,AL28)-1)","v":""},0,28,"",{"$f":"IF(AL28=\"\",\"\",RANK(AL28,$AL$1:$AL$35,0)+COUNTIF($AL$1:AL28,AL28)-1)","v":""}]
[{"$f":"IF(OR(ISTEXT(RTD(\"cqg.rtd\",,\"OrderData\",\"\"&B29&\"\",\"\",\"OpenPosition\",\"\"&Display3!$D$3&\"\")),RTD(\"cqg.rtd\",,\"OrderData\",\"\"&B29&\"\",\"\",\"OpenPosition\",\"\"&Display3!$D$3&\"\")=0),A28+0.001,INT(A28)+1)","v":2.9000000000000019E-2},{"$f":"(LEFT(B30,SEARCH(Display3!$G$2,B30)+LEN(Display3!$G$2)+2))&RIGHT(B30,LEN(B30)-(SEARCH(Display3!$G$2,B30)+LEN(Display3!$G$2)+2))+Display3!$J$3","v":"C.US.EPU1724900"},0,0,29,{"$f":"IF(D29=1,RTD(\"cqg.rtd\", ,\"ContractData\",C29, \"ImpliedVolatility\",, \"T\"),\"\")","v":""},{"$f":"IF(F29=\"\",\"\",RANK(F29,$F$1:$F$35,0)+COUNTIF($F$1:F29,F29)-1)","v":""},0,29,0,{"$f":"IF(D29=1,RTD(\"cqg.rtd\", ,\"OrderData\",\"\"&C29&\"\", \"\", \"OpenTradeEquity\",\"\"&$B$449&\"\"),\"\")","v":""},{"$f":"IF(K29=\"\",\"\",RANK(K29,$K$1:$K$35,0))+COUNTIF($K$1:K29,K29)-1","v":{"$error":"#VALUE!"}},0,29,"",{"$f":"IF(D29=1,RTD(\"cqg.rtd\", ,\"ContractData\",C29, \"Delta\",, \"T\"),\"\")","v":""},{"$f":"IF(D29=1,RTD(\"cqg.rtd\", ,\"OrderData\", \"\"&O29&\"\", \"\", \"OpenPosition\",\"\"&$B$449&\"\"),\"\")","v":""},{"$f":"IF(D29=0,\"\",IF(LEFT(O29,1)=\"F\",Q29*100,Q29*RTD(\"cqg.rtd\",,\"ContractData\",O29,\"Delta\",,\"T\")))","v":""},{"$f":"IF(R29=\"\",\"\",RANK(R29,$R$1:$R$35,0)+COUNTIF($R$1:R29,R29)-1)","v":""},"",29,"",{"$f":"IF(D29=1,RTD(\"cqg.rtd\", ,\"ContractData\",C29, \"Vega\",, \"T\"),\"\")","v":""},{"$f":"IF(W29=\"\",\"\",RANK(W29,$W$1:$W$35,0)+COUNTIF($W$1:W29,W29)-1)","v":""},0,29,"",{"$f":"IF(D29=1,RTD(\"cqg.rtd\", ,\"ContractData\",C29, \"Gamma\",, \"T\"),\"\")","v":""},{"$f":"IF(AB29=\"\",\"\",RANK(AB29,$AB$1:$AB$35,0)+COUNTIF($AB$1:AB29,AB29)-1)","v":""},0,29,"",{"$f":"IF(D29=1,RTD(\"cqg.rtd\", ,\"ContractData\",C29, \"Theta\",, \"T\"),\"\")","v":""},{"$f":"IF(AG29=\"\",\"\",RANK(AG29,$AG$1:$AG$35,0)+COUNTIF($AG$1:AG29,AG29)-1)","v":""},0,29,"",{"$f":"IF(D29=1,1/RTD(\"cqg.rtd\", ,\"ContractData\",C29, \"ExpirationDate\",, \"T\"),\"\")","v":""},{"$f":"IF(AL29=\"\",\"\",RANK(AL29,$AL$1:$AL$35,0)+COUNTIF($AL$1:AL29,AL29)-1)","v":""},0,29,"",{"$f":"IF(AL29=\"\",\"\",RANK(AL29,$AL$1:$AL$35,0)+COUNTIF($AL$1:AL29,AL29)-1)","v":""}]
[{"$f":"IF(OR(ISTEXT(RTD(\"cqg.rtd\",,\"OrderData\",\"\"&B30&\"\",\"\",\"OpenPosition\",\"\"&Display3!$D$3&\"\")),RTD(\"cqg.rtd\",,\"OrderData\",\"\"&B30&\"\",\"\",\"OpenPosition\",\"\"&Display3!$D$3&\"\")=0),A29+0.001,INT(A29)+1)","v":3.000000000000002E-2},{"$f":"(LEFT(B31,SEARCH(Display3!$G$2,B31)+LEN(Display3!$G$2)+2))&RIGHT(B31,LEN(B31)-(SEARCH(Display3!$G$2,B31)+LEN(Display3!$G$2)+2))+Display3!$J$3","v":"C.US.EPU1724850"},0,0,30,{"$f":"IF(D30=1,RTD(\"cqg.rtd\", ,\"ContractData\",C30, \"ImpliedVolatility\",, \"T\"),\"\")","v":""},{"$f":"IF(F30=\"\",\"\",RANK(F30,$F$1:$F$35,0)+COUNTIF($F$1:F30,F30)-1)","v":""},0,30,0,{"$f":"IF(D30=1,RTD(\"cqg.rtd\", ,\"OrderData\",\"\"&C30&\"\", \"\", \"OpenTradeEquity\",\"\"&$B$449&\"\"),\"\")","v":""},{"$f":"IF(K30=\"\",\"\",RANK(K30,$K$1:$K$35,0))+COUNTIF($K$1:K30,K30)-1","v":{"$error":"#VALUE!"}},0,30,"",{"$f":"IF(D30=1,RTD(\"cqg.rtd\", ,\"ContractData\",C30, \"Delta\",, \"T\"),\"\")","v":""},{"$f":"IF(D30=1,RTD(\"cqg.rtd\", ,\"OrderData\", \"\"&O30&\"\", \"\", \"OpenPosition\",\"\"&$B$449&\"\"),\"\")","v":""},{"$f":"IF(D30=0,\"\",IF(LEFT(O30,1)=\"F\",Q30*100,Q30*RTD(\"cqg.rtd\",,\"ContractData\",O30,\"Delta\",,\"T\")))","v":""},{"$f":"IF(R30=\"\",\"\",RANK(R30,$R$1:$R$35,0)+COUNTIF($R$1:R30,R30)-1)","v":""},"",30,"",{"$f":"IF(D30=1,RTD(\"cqg.rtd\", ,\"ContractData\",C30, \"Vega\",, \"T\"),\"\")","v":""},{"$f":"IF(W30=\"\",\"\",RANK(W30,$W$1:$W$35,0)+COUNTIF($W$1:W30,W30)-1)","v":""},0,30,"",{"$f":"IF(D30=1,RTD(\"cqg.rtd\", ,\"ContractData\",C30, \"Gamma\",, \"T\"),\"\")","v":""},{"$f":"IF(AB30=\"\",\"\",RANK(AB30,$AB$1:$AB$35,0)+COUNTIF($AB$1:AB30,AB30)-1)","v":""},0,30,"",{"$f":"IF(D30=1,RTD(\"cqg.rtd\", ,\"ContractData\",C30, \"Theta\",, \"T\"),\"\")","v":""},{"$f":"IF(AG30=\"\",\"\",RANK(AG30,$AG$1:$AG$35,0)+COUNTIF($AG$1:AG30,AG30)-1)","v":""},0,30,"",{"$f":"IF(D30=1,1/RTD(\"cqg.rtd\", ,\"ContractData\",C30, \"ExpirationDate\",, \"T\"),\"\")","v":""},{"$f":"IF(AL30=\"\",\"\",RANK(AL30,$AL$1:$AL$35,0)+COUNTIF($AL$1:AL30,AL30)-1)","v":""},0,30,"",{"$f":"IF(AL30=\"\",\"\",RANK(AL30,$AL$1:$AL$35,0)+COUNTIF($AL$1:AL30,AL30)-1)","v":""}]
[{"$f":"IF(OR(ISTEXT(RTD(\"cqg.rtd\",,\"OrderData\",\"\"&B31&\"\",\"\",\"OpenPosition\",\"\"&Display3!$D$3&\"\")),RTD(\"cqg.rtd\",,\"OrderData\",\"\"&B31&\"\",\"\",\"OpenPosition\",\"\"&Display3!$D$3&\"\")=0),A30+0.001,INT(A30)+1)","v":3.1000000000000021E-2},{"$f":"(LEFT(B32,SEARCH(Display3!$G$2,B32)+LEN(Display3!$G$2)+2))&RIGHT(B32,LEN(B32)-(SEARCH(Display3!$G$2,B32)+LEN(Display3!$G$2)+2))+Display3!$J$3","v":"C.US.EPU1724800"},0,0,31,{"$f":"IF(D31=1,RTD(\"cqg.rtd\", ,\"ContractData\",C31, \"ImpliedVolatility\",, \"T\"),\"\")","v":""},{"$f":"IF(F31=\"\",\"\",RANK(F31,$F$1:$F$35,0)+COUNTIF($F$1:F31,F31)-1)","v":""},0,31,0,{"$f":"IF(D31=1,RTD(\"cqg.rtd\", ,\"OrderData\",\"\"&C31&\"\", \"\", \"OpenTradeEquity\",\"\"&$B$449&\"\"),\"\")","v":""},{"$f":"IF(K31=\"\",\"\",RANK(K31,$K$1:$K$35,0))+COUNTIF($K$1:K31,K31)-1","v":{"$error":"#VALUE!"}},0,31,"",{"$f":"IF(D31=1,RTD(\"cqg.rtd\", ,\"ContractData\",C31, \"Delta\",, \"T\"),\"\")","v":""},{"$f":"IF(D31=1,RTD(\"cqg.rtd\", ,\"OrderData\", \"\"&O31&\"\", \"\", \"OpenPosition\",\"\"&$B$449&\"\"),\"\")","v":""},{"$f":"IF(D31=0,\"\",IF(LEFT(O31,1)=\"F\",Q31*100,Q31*RTD(\"cqg.rtd\",,\"ContractData\",O31,\"Delta\",,\"T\")))","v":""},{"$f":"IF(R31=\"\",\"\",RANK(R31,$R$1:$R$35,0)+COUNTIF($R$1:R31,R31)-1)","v":""},"",31,"",{"$f":"IF(D31=1,RTD(\"cqg.rtd\", ,\"ContractData\",C31, \"Vega\",, \"T\"),\"\")","v":""},{"$f":"IF(W31=\"\",\"\",RANK(W31,$W$1:$W$35,0)+COUNTIF($W$1:W31,W31)-1)","v":""},0,31,"",{"$f":"IF(D31=1,RTD(\"cqg.rtd\", ,\"ContractData\",C31, \"Gamma\",, \"T\"),\"\")","v":""},{"$f":"IF(AB31=\"\",\"\",RANK(AB31,$AB$1:$AB$35,0)+COUNTIF($AB$1:AB31,AB31)-1)","v":""},0,31,"",{"$f":"IF(D31=1,RTD(\"cqg.rtd\", ,\"ContractData\",C31, \"Theta\",, \"T\"),\"\")","v":""},{"$f":"IF(AG31=\"\",\"\",RANK(AG31,$AG$1:$AG$35,0)+COUNTIF($AG$1:AG31,AG31)-1)","v":""},0,31,"",{"$f":"IF(D31=1,1/RTD(\"cqg.rtd\", ,\"ContractData\",C31, \"ExpirationDate\",, \"T\"),\"\")","v":""},{"$f":"IF(AL31=\"\",\"\",RANK(AL31,$AL$1:$AL$35,0)+COUNTIF($AL$1:AL31,AL31)-1)","v":""},0,31,"",{"$f":"IF(AL31=\"\",\"\",RANK(AL31,$AL$1:$AL$35,0)+COUNTIF($AL$1:AL31,AL31)-1)","v":""}]
[{"$f":"IF(OR(ISTEXT(RTD(\"cqg.rtd\",,\"OrderData\",\"\"&B32&\"\",\"\",\"OpenPosition\",\"\"&Display3!$D$3&\"\")),RTD(\"cqg.rtd\",,\"OrderData\",\"\"&B32&\"\",\"\",\"OpenPosition\",\"\"&Display3!$D$3&\"\")=0),A31+0.001,INT(A31)+1)","v":3.2000000000000021E-2},{"$f":"(LEFT(B33,SEARCH(Display3!$G$2,B33)+LEN(Display3!$G$2)+2))&RIGHT(B33,LEN(B33)-(SEARCH(Display3!$G$2,B33)+LEN(Display3!$G$2)+2))+Display3!$J$3","v":"C.US.EPU1724750"},0,0,32,{"$f":"IF(D32=1,RTD(\"cqg.rtd\", ,\"ContractData\",C32, \"ImpliedVolatility\",, \"T\"),\"\")","v":""},{"$f":"IF(F32=\"\",\"\",RANK(F32,$F$1:$F$35,0)+COUNTIF($F$1:F32,F32)-1)","v":""},0,32,0,{"$f":"IF(D32=1,RTD(\"cqg.rtd\", ,\"OrderData\",\"\"&C32&\"\", \"\", \"OpenTradeEquity\",\"\"&$B$449&\"\"),\"\")","v":""},{"$f":"IF(K32=\"\",\"\",RANK(K32,$K$1:$K$35,0))+COUNTIF($K$1:K32,K32)-1","v":{"$error":"#VALUE!"}},0,32,"",{"$f":"IF(D32=1,RTD(\"cqg.rtd\", ,\"ContractData\",C32, \"Delta\",, \"T\"),\"\")","v":""},{"$f":"IF(D32=1,RTD(\"cqg.rtd\", ,\"OrderData\", \"\"&O32&\"\", \"\", \"OpenPosition\",\"\"&$B$449&\"\"),\"\")","v":""},{"$f":"IF(D32=0,\"\",IF(LEFT(O32,1)=\"F\",Q32*100,Q32*RTD(\"cqg.rtd\",,\"ContractData\",O32,\"Delta\",,\"T\")))","v":""},{"$f":"IF(R32=\"\",\"\",RANK(R32,$R$1:$R$35,0)+COUNTIF($R$1:R32,R32)-1)","v":""},"",32,"",{"$f":"IF(D32=1,RTD(\"cqg.rtd\", ,\"ContractData\",C32, \"Vega\",, \"T\"),\"\")","v":""},{"$f":"IF(W32=\"\",\"\",RANK(W32,$W$1:$W$35,0)+COUNTIF($W$1:W32,W32)-1)","v":""},0,32,"",{"$f":"IF(D32=1,RTD(\"cqg.rtd\", ,\"ContractData\",C32, \"Gamma\",, \"T\"),\"\")","v":""},{"$f":"IF(AB32=\"\",\"\",RANK(AB32,$AB$1:$AB$35,0)+COUNTIF($AB$1:AB32,AB32)-1)","v":""},0,32,"",{"$f":"IF(D32=1,RTD(\"cqg.rtd\", ,\"ContractData\",C32, \"Theta\",, \"T\"),\"\")","v":""},{"$f":"IF(AG32=\"\",\"\",RANK(AG32,$AG$1:$AG$35,0)+COUNTIF($AG$1:AG32,AG32)-1)","v":""},0,32,"",{"$f":"IF(D32=1,1/RTD(\"cqg.rtd\", ,\"ContractData\",C32, \"ExpirationDate\",, \"T\"),\"\")","v":""},{"$f":"IF(AL32=\"\",\"\",RANK(AL32,$AL$1:$AL$35,0)+COUNTIF($AL$1:AL32,AL32)-1)","v":""},0,32,"",{"$f":"IF(AL32=\"\",\"\",RANK(AL32,$AL$1:$AL$35,0)+COUNTIF($AL$1:AL32,AL32)-1)","v":""}]
[{"$f":"IF(OR(ISTEXT(RTD(\"cqg.rtd\",,\"OrderData\",\"\"&B33&\"\",\"\",\"OpenPosition\",\"\"&Display3!$D$3&\"\")),RTD(\"cqg.rtd\",,\"OrderData\",\"\"&B33&\"\",\"\",\"OpenPosition\",\"\"&Display3!$D$3&\"\")=0),A32+0.001,INT(A32)+1)","v":3.3000000000000022E-2},{"$f":"(LEFT(B34,SEARCH(Display3!$G$2,B34)+LEN(Display3!$G$2)+2))&RIGHT(B34,LEN(B34)-(SEARCH(Display3!$G$2,B34)+LEN(Display3!$G$2)+2))+Display3!$J$3","v":"C.US.EPU1724700"},0,0,33,{"$f":"IF(D33=1,RTD(\"cqg.rtd\", ,\"ContractData\",C33, \"ImpliedVolatility\",, \"T\"),\"\")","v":""},{"$f":"IF(F33=\"\",\"\",RANK(F33,$F$1:$F$35,0)+COUNTIF($F$1:F33,F33)-1)","v":""},0,33,0,{"$f":"IF(D33=1,RTD(\"cqg.rtd\", ,\"OrderData\",\"\"&C33&\"\", \"\", \"OpenTradeEquity\",\"\"&$B$449&\"\"),\"\")","v":""},{"$f":"IF(K33=\"\",\"\",RANK(K33,$K$1:$K$35,0))+COUNTIF($K$1:K33,K33)-1","v":{"$error":"#VALUE!"}},0,33,"",{"$f":"IF(D33=1,RTD(\"cqg.rtd\", ,\"ContractData\",C33, \"Delta\",, \"T\"),\"\")","v":""},{"$f":"IF(D33=1,RTD(\"cqg.rtd\", ,\"OrderData\", \"\"&O33&\"\", \"\", \"OpenPosition\",\"\"&$B$449&\"\"),\"\")","v":""},{"$f":"IF(D33=0,\"\",IF(LEFT(O33,1)=\"F\",Q33*100,Q33*RTD(\"cqg.rtd\",,\"ContractData\",O33,\"Delta\",,\"T\")))","v":""},{"$f":"IF(R33=\"\",\"\",RANK(R33,$R$1:$R$35,0)+COUNTIF($R$1:R33,R33)-1)","v":""},"",33,"",{"$f":"IF(D33=1,RTD(\"cqg.rtd\", ,\"ContractData\",C33, \"Vega\",, \"T\"),\"\")","v":""},{"$f":"IF(W33=\"\",\"\",RANK(W33,$W$1:$W$35,0)+COUNTIF($W$1:W33,W33)-1)","v":""},0,33,"",{"$f":"IF(D33=1,RTD(\"cqg.rtd\", ,\"ContractData\",C33, \"Gamma\",, \"T\"),\"\")","v":""},{"$f":"IF(AB33=\"\",\"\",RANK(AB33,$AB$1:$AB$35,0)+COUNTIF($AB$1:AB33,AB33)-1)","v":""},0,33,"",{"$f":"IF(D33=1,RTD(\"cqg.rtd\", ,\"ContractData\",C33, \"Theta\",, \"T\"),\"\")","v":""},{"$f":"IF(AG33=\"\",\"\",RANK(AG33,$AG$1:$AG$35,0)+COUNTIF($AG$1:AG33,AG33)-1)","v":""},0,33,"",{"$f":"IF(D33=1,1/RTD(\"cqg.rtd\", ,\"ContractData\",C33, \"ExpirationDate\",, \"T\"),\"\")","v":""},{"$f":"IF(AL33=\"\",\"\",RANK(AL33,$AL$1:$AL$35,0)+COUNTIF($AL$1:AL33,AL33)-1)","v":""},0,33,"",{"$f":"IF(AL33=\"\",\"\",RANK(AL33,$AL$1:$AL$35,0)+COUNTIF($AL$1:AL33,AL33)-1)","v":""}]
[{"$f":"IF(OR(ISTEXT(RTD(\"cqg.rtd\",,\"OrderData\",\"\"&B34&\"\",\"\",\"OpenPosition\",\"\"&Display3!$D$3&\"\")),RTD(\"cqg.rtd\",,\"OrderData\",\"\"&B34&\"\",\"\",\"OpenPosition\",\"\"&Display3!$D$3&\"\")=0),A33+0.001,INT(A33)+1)","v":3.4000000000000023E-2},{"$f":"(LEFT(B35,SEARCH(Display3!$G$2,B35)+LEN(Display3!$G$2)+2))&RIGHT(B35,LEN(B35)-(SEARCH(Display3!$G$2,B35)+LEN(Display3!$G$2)+2))+Display3!$J$3","v":"C.US.EPU1724650"},0,0,34,{"$f":"IF(D34=1,RTD(\"cqg.rtd\", ,\"ContractData\",C34, \"ImpliedVolatility\",, \"T\"),\"\")","v":""},{"$f":"IF(F34=\"\",\"\",RANK(F34,$F$1:$F$35,0)+COUNTIF($F$1:F34,F34)-1)","v":""},0,34,0,{"$f":"IF(D34=1,RTD(\"cqg.rtd\", ,\"OrderData\",\"\"&C34&\"\", \"\", \"OpenTradeEquity\",\"\"&$B$449&\"\"),\"\")","v":""},{"$f":"IF(K34=\"\",\"\",RANK(K34,$K$1:$K$35,0))+COUNTIF($K$1:K34,K34)-1","v":{"$error":"#VALUE!"}},0,34,"",{"$f":"IF(D34=1,RTD(\"cqg.rtd\", ,\"ContractData\",C34, \"Delta\",, \"T\"),\"\")","v":""},{"$f":"IF(D34=1,RTD(\"cqg.rtd\", ,\"OrderData\", \"\"&O34&\"\", \"\", \"OpenPosition\",\"\"&$B$449&\"\"),\"\")","v":""},{"$f":"IF(D34=0,\"\",IF(LEFT(O34,1)=\"F\",Q34*100,Q34*RTD(\"cqg.rtd\",,\"ContractData\",O34,\"Delta\",,\"T\")))","v":""},{"$f":"IF(R34=\"\",\"\",RANK(R34,$R$1:$R$35,0)+COUNTIF($R$1:R34,R34)-1)","v":""},"",34,"",{"$f":"IF(D34=1,RTD(\"cqg.rtd\", ,\"ContractData\",C34, \"Vega\",, \"T\"),\"\")","v":""},{"$f":"IF(W34=\"\",\"\",RANK(W34,$W$1:$W$35,0)+COUNTIF($W$1:W34,W34)-1)","v":""},0,34,"",{"$f":"IF(D34=1,RTD(\"cqg.rtd\", ,\"ContractData\",C34, \"Gamma\",, \"T\"),\"\")","v":""},{"$f":"IF(AB34=\"\",\"\",RANK(AB34,$AB$1:$AB$35,0)+COUNTIF($AB$1:AB34,AB34)-1)","v":""},0,34,"",{"$f":"IF(D34=1,RTD(\"cqg.rtd\", ,\"ContractData\",C34, \"Theta\",, \"T\"),\"\")","v":""},{"$f":"IF(AG34=\"\",\"\",RANK(AG34,$AG$1:$AG$35,0)+COUNTIF($AG$1:AG34,AG34)-1)","v":""},0,34,"",{"$f":"IF(D34=1,1/RTD(\"cqg.rtd\", ,\"ContractData\",C34, \"ExpirationDate\",, \"T\"),\"\")","v":""},{"$f":"IF(AL34=\"\",\"\",RANK(AL34,$AL$1:$AL$35,0)+COUNTIF($AL$1:AL34,AL34)-1)","v":""},0,34,"",{"$f":"IF(AL34=\"\",\"\",RANK(AL34,$AL$1:$AL$35,0)+COUNTIF($AL$1:AL34,AL34)-1)","v":""}]
[{"$f":"IF(OR(ISTEXT(RTD(\"cqg.rtd\",,\"OrderData\",\"\"&B35&\"\",\"\",\"OpenPosition\",\"\"&Display3!$D$3&\"\")),RTD(\"cqg.rtd\",,\"OrderData\",\"\"&B35&\"\",\"\",\"OpenPosition\",\"\"&Display3!$D$3&\"\")=0),A34+0.001,INT(A34)+1)","v":3.5000000000000024E-2},{"$f":"(LEFT(B36,SEARCH(Display3!$G$2,B36)+LEN(Display3!$G$2)+2))&RIGHT(B36,LEN(B36)-(SEARCH(Display3!$G$2,B36)+LEN(Display3!$G$2)+2))+Display3!$J$3","v":"C.US.EPU1724600"},{"$f":"IF(D35=1,VLOOKUP(E35,$A$1:$B$448,2),0)","v":0},0,35,{"$f":"IF(D35=1,RTD(\"cqg.rtd\", ,\"ContractData\",C35, \"ImpliedVolatility\",, \"T\"),\"\")","v":""},{"$f":"IF(F35=\"\",\"\",RANK(F35,$F$1:$F$35,0)+COUNTIF($F$1:F35,F35)-1)","v":""},0,35,0,{"$f":"IF(D35=1,RTD(\"cqg.rtd\", ,\"OrderData\",\"\"&C35&\"\", \"\", \"OpenTradeEquity\",\"\"&$B$449&\"\"),\"\")","v":""},{"$f":"IF(K35=\"\",\"\",RANK(K35,$K$1:$K$35,0))+COUNTIF($K$1:K35,K35)-1","v":{"$error":"#VALUE!"}},0,35,"",{"$f":"IF(D35=1,RTD(\"cqg.rtd\", ,\"ContractData\",C35, \"Delta\",, \"T\"),\"\")","v":""},{"$f":"IF(D35=1,RTD(\"cqg.rtd\", ,\"OrderData\", \"\"&O35&\"\", \"\", \"OpenPosition\",\"\"&$B$449&\"\"),\"\")","v":""},{"$f":"IF(D35=0,\"\",IF(LEFT(O35,1)=\"F\",Q35*100,Q35*RTD(\"cqg.rtd\",,\"ContractData\",O35,\"Delta\",,\"T\")))","v":""},{"$f":"IF(R35=\"\",\"\",RANK(R35,$R$1:$R$35,0)+COUNTIF($R$1:R35,R35)-1)","v":""},"",35,"",{"$f":"IF(D35=1,RTD(\"cqg.rtd\", ,\"ContractData\",C35, \"Vega\",, \"T\"),\"\")","v":""},{"$f":"IF(W35=\"\",\"\",RANK(W35,$W$1:$W$35,0)+COUNTIF($W$1:W35,W35)-1)","v":""},0,35,"",{"$f":"IF(D35=1,RTD(\"cqg.rtd\", ,\"ContractData\",C35, \"Gamma\",, \"T\"),\"\")","v":""},{"$f":"IF(AB35=\"\",\"\",RANK(AB35,$AB$1:$AB$35,0)+COUNTIF($AB$1:AB35,AB35)-1)","v":""},0,35,"",{"$f":"IF(D35=1,RTD(\"cqg.rtd\", ,\"ContractData\",C35, \"Theta\",, \"T\"),\"\")","v":""},{"$f":"IF(AG35=\"\",\"\",RANK(AG35,$AG$1:$AG$35,0)+COUNTIF($AG$1:AG35,AG35)-1)","v":""},0,35,"",{"$f":"IF(D35=1,1/RTD(\"cqg.rtd\", ,\"ContractData\",C35, \"ExpirationDate\",, \"T\"),\"\")","v":""},{"$f":"IF(AL35=\"\",\"\",RANK(AL35,$AL$1:$AL$35,0)+COUNTIF($AL$1:AL35,AL35)-1)","v":""},0,35,"",{"$f":"IF(AL35=\"\",\"\",RANK(AL35,$AL$1:$AL$35,0)+COUNTIF($AL$1:AL35,AL35)-1)","v":""}]
[{"$f":"IF(OR(ISTEXT(RTD(\"cqg.rtd\",,\"OrderData\",\"\"&B36&\"\",\"\",\"OpenPosition\",\"\"&Display3!$D$3&\"\")),RTD(\"cqg.rtd\",,\"OrderData\",\"\"&B36&\"\",\"\",\"OpenPosition\",\"\"&Display3!$D$3&\"\")=0),A35+0.001,INT(A35)+1)","v":3.6000000000000025E-2},{"$f":"(LEFT(B37,SEARCH(Display3!$G$2,B37)+LEN(Display3!$G$2)+2))&RIGHT(B37,LEN(B37)-(SEARCH(Display3!$G$2,B37)+LEN(Display3!$G$2)+2))+Display3!$J$3","v":"C.US.EPU1724550"}]
[{"$f":"IF(OR(ISTEXT(RTD(\"cqg.rtd\",,\"OrderData\",\"\"&B37&\"\",\"\",\"OpenPosition\",\"\"&Display3!$D$3&\"\")),RTD(\"cqg.rtd\",,\"OrderData\",\"\"&B37&\"\",\"\",\"OpenPosition\",\"\"&Display3!$D$3&\"\")=0),A36+0.001,INT(A36)+1)","v":3.7000000000000026E-2},{"$f":"(LEFT(B38,SEARCH(Display3!$G$2,B38)+LEN(Display3!$G$2)+2))&RIGHT(B38,LEN(B38)-(SEARCH(Display3!$G$2,B38)+LEN(Display3!$G$2)+2))+Display3!$J$3","v":"C.US.EPU1724500"}]
[{"$f":"IF(OR(ISTEXT(RTD(\"cqg.rtd\",,\"OrderData\",\"\"&B38&\"\",\"\",\"OpenPosition\",\"\"&Display3!$D$3&\"\")),RTD(\"cqg.rtd\",,\"OrderData\",\"\"&B38&\"\",\"\",\"OpenPosition\",\"\"&Display3!$D$3&\"\")=0),A37+0.001,INT(A37)+1)","v":3.8000000000000027E-2},{"$f":"(LEFT(B39,SEARCH(Display3!$G$2,B39)+LEN(Display3!$G$2)+2))&RIGHT(B39,LEN(B39)-(SEARCH(Display3!$G$2,B39)+LEN(Display3!$G$2)+2))+Display3!$J$3","v":"C.US.EPU1724450"}]
[{"$f":"IF(OR(ISTEXT(RTD(\"cqg.rtd\",,\"OrderData\",\"\"&B39&\"\",\"\",\"OpenPosition\",\"\"&Display3!$D$3&\"\")),RTD(\"cqg.rtd\",,\"OrderData\",\"\"&B39&\"\",\"\",\"OpenPosition\",\"\"&Display3!$D$3&\"\")=0),A38+0.001,INT(A38)+1)","v":3.9000000000000028E-2},{"$f":"(LEFT(B40,SEARCH(Display3!$G$2,B40)+LEN(Display3!$G$2)+2))&RIGHT(B40,LEN(B40)-(SEARCH(Display3!$G$2,B40)+LEN(Display3!$G$2)+2))+Display3!$J$3","v":"C.US.EPU1724400"}]
[{"$f":"IF(OR(ISTEXT(RTD(\"cqg.rtd\",,\"OrderData\",\"\"&B40&\"\",\"\",\"OpenPosition\",\"\"&Display3!$D$3&\"\")),RTD(\"cqg.rtd\",,\"OrderData\",\"\"&B40&\"\",\"\",\"OpenPosition\",\"\"&Display3!$D$3&\"\")=0),A39+0.001,INT(A39)+1)","v":4.0000000000000029E-2},{"$f":"RTD(\"cqg.rtd\", ,\"ContractData\", \"C.US.\"&Display3!$G$2&Display3!$G$3&\"\", \"Symbol\",, \"T\")","v":"C.US.EPU1724350"}]
[{"$f":"IF(OR(ISTEXT(RTD(\"cqg.rtd\",,\"OrderData\",\"\"&B41&\"\",\"\",\"OpenPosition\",\"\"&Display3!$D$3&\"\")),RTD(\"cqg.rtd\",,\"OrderData\",\"\"&B41&\"\",\"\",\"OpenPosition\",\"\"&Display3!$D$3&\"\")=0),A40+0.001,INT(A40)+1)","v":4.1000000000000029E-2},{"$f":"(LEFT(B40,SEARCH(Display3!$G$2,B40)+LEN(Display3!$G$2)+2))&RIGHT(B40,LEN(B40)-(SEARCH(Display3!$G$2,B40)+LEN(Display3!$G$2)+2))-Display3!$J$3","v":"C.US.EPU1724300"}]
[{"$f":"IF(OR(ISTEXT(RTD(\"cqg.rtd\",,\"OrderData\",\"\"&B42&\"\",\"\",\"OpenPosition\",\"\"&Display3!$D$3&\"\")),RTD(\"cqg.rtd\",,\"OrderData\",\"\"&B42&\"\",\"\",\"OpenPosition\",\"\"&Display3!$D$3&\"\")=0),A41+0.001,INT(A41)+1)","v":4.200000000000003E-2},{"$f":"(LEFT(B41,SEARCH(Display3!$G$2,B41)+LEN(Display3!$G$2)+2))&RIGHT(B41,LEN(B41)-(SEARCH(Display3!$G$2,B41)+LEN(Display3!$G$2)+2))-Display3!$J$3","v":"C.US.EPU1724250"}]
[{"$f":"IF(OR(ISTEXT(RTD(\"cqg.rtd\",,\"OrderData\",\"\"&B43&\"\",\"\",\"OpenPosition\",\"\"&Display3!$D$3&\"\")),RTD(\"cqg.rtd\",,\"OrderData\",\"\"&B43&\"\",\"\",\"OpenPosition\",\"\"&Display3!$D$3&\"\")=0),A42+0.001,INT(A42)+1)","v":4.3000000000000031E-2},{"$f":"(LEFT(B42,SEARCH(Display3!$G$2,B42)+LEN(Display3!$G$2)+2))&RIGHT(B42,LEN(B42)-(SEARCH(Display3!$G$2,B42)+LEN(Display3!$G$2)+2))-Display3!$J$3","v":"C.US.EPU1724200"}]
[{"$f":"IF(OR(ISTEXT(RTD(\"cqg.rtd\",,\"OrderData\",\"\"&B44&\"\",\"\",\"OpenPosition\",\"\"&Display3!$D$3&\"\")),RTD(\"cqg.rtd\",,\"OrderData\",\"\"&B44&\"\",\"\",\"OpenPosition\",\"\"&Display3!$D$3&\"\")=0),A43+0.001,INT(A43)+1)","v":4.4000000000000032E-2},{"$f":"(LEFT(B43,SEARCH(Display3!$G$2,B43)+LEN(Display3!$G$2)+2))&RIGHT(B43,LEN(B43)-(SEARCH(Display3!$G$2,B43)+LEN(Display3!$G$2)+2))-Display3!$J$3","v":"C.US.EPU1724150"}]
[{"$f":"IF(OR(ISTEXT(RTD(\"cqg.rtd\",,\"OrderData\",\"\"&B45&\"\",\"\",\"OpenPosition\",\"\"&Display3!$D$3&\"\")),RTD(\"cqg.rtd\",,\"OrderData\",\"\"&B45&\"\",\"\",\"OpenPosition\",\"\"&Display3!$D$3&\"\")=0),A44+0.001,INT(A44)+1)","v":4.5000000000000033E-2},{"$f":"(LEFT(B44,SEARCH(Display3!$G$2,B44)+LEN(Display3!$G$2)+2))&RIGHT(B44,LEN(B44)-(SEARCH(Display3!$G$2,B44)+LEN(Display3!$G$2)+2))-Display3!$J$3","v":"C.US.EPU1724100"}]
[{"$f":"IF(OR(ISTEXT(RTD(\"cqg.rtd\",,\"OrderData\",\"\"&B46&\"\",\"\",\"OpenPosition\",\"\"&Display3!$D$3&\"\")),RTD(\"cqg.rtd\",,\"OrderData\",\"\"&B46&\"\",\"\",\"OpenPosition\",\"\"&Display3!$D$3&\"\")=0),A45+0.001,INT(A45)+1)","v":4.6000000000000034E-2},{"$f":"(LEFT(B45,SEARCH(Display3!$G$2,B45)+LEN(Display3!$G$2)+2))&RIGHT(B45,LEN(B45)-(SEARCH(Display3!$G$2,B45)+LEN(Display3!$G$2)+2))-Display3!$J$3","v":"C.US.EPU1724050"}]
[{"$f":"IF(OR(ISTEXT(RTD(\"cqg.rtd\",,\"OrderData\",\"\"&B47&\"\",\"\",\"OpenPosition\",\"\"&Display3!$D$3&\"\")),RTD(\"cqg.rtd\",,\"OrderData\",\"\"&B47&\"\",\"\",\"OpenPosition\",\"\"&Display3!$D$3&\"\")=0),A46+0.001,INT(A46)+1)","v":4.7000000000000035E-2},{"$f":"(LEFT(B46,SEARCH(Display3!$G$2,B46)+LEN(Display3!$G$2)+2))&RIGHT(B46,LEN(B46)-(SEARCH(Display3!$G$2,B46)+LEN(Display3!$G$2)+2))-Display3!$J$3","v":"C.US.EPU1724000"}]
[{"$f":"IF(OR(ISTEXT(RTD(\"cqg.rtd\",,\"OrderData\",\"\"&B48&\"\",\"\",\"OpenPosition\",\"\"&Display3!$D$3&\"\")),RTD(\"cqg.rtd\",,\"OrderData\",\"\"&B48&\"\",\"\",\"OpenPosition\",\"\"&Display3!$D$3&\"\")=0),A47+0.001,INT(A47)+1)","v":4.8000000000000036E-2},{"$f":"(LEFT(B47,SEARCH(Display3!$G$2,B47)+LEN(Display3!$G$2)+2))&RIGHT(B47,LEN(B47)-(SEARCH(Display3!$G$2,B47)+LEN(Display3!$G$2)+2))-Display3!$J$3","v":"C.US.EPU1723950"}]
[{"$f":"IF(OR(ISTEXT(RTD(\"cqg.rtd\",,\"OrderData\",\"\"&B49&\"\",\"\",\"OpenPosition\",\"\"&Display3!$D$3&\"\")),RTD(\"cqg.rtd\",,\"OrderData\",\"\"&B49&\"\",\"\",\"OpenPosition\",\"\"&Display3!$D$3&\"\")=0),A48+0.001,INT(A48)+1)","v":4.9000000000000037E-2},{"$f":"(LEFT(B48,SEARCH(Display3!$G$2,B48)+LEN(Display3!$G$2)+2))&RIGHT(B48,LEN(B48)-(SEARCH(Display3!$G$2,B48)+LEN(Display3!$G$2)+2))-Display3!$J$3","v":"C.US.EPU1723900"}]
[{"$f":"IF(OR(ISTEXT(RTD(\"cqg.rtd\",,\"OrderData\",\"\"&B50&\"\",\"\",\"OpenPosition\",\"\"&Display3!$D$3&\"\")),RTD(\"cqg.rtd\",,\"OrderData\",\"\"&B50&\"\",\"\",\"OpenPosition\",\"\"&Display3!$D$3&\"\")=0),A49+0.001,INT(A49)+1)","v":5.0000000000000037E-2},{"$f":"(LEFT(B49,SEARCH(Display3!$G$2,B49)+LEN(Display3!$G$2)+2))&RIGHT(B49,LEN(B49)-(SEARCH(Display3!$G$2,B49)+LEN(Display3!$G$2)+2))-Display3!$J$3","v":"C.US.EPU1723850"}]
[{"$f":"IF(OR(ISTEXT(RTD(\"cqg.rtd\",,\"OrderData\",\"\"&B51&\"\",\"\",\"OpenPosition\",\"\"&Display3!$D$3&\"\")),RTD(\"cqg.rtd\",,\"OrderData\",\"\"&B51&\"\",\"\",\"OpenPosition\",\"\"&Display3!$D$3&\"\")=0),A50+0.001,INT(A50)+1)","v":5.1000000000000038E-2},{"$f":"(LEFT(B50,SEARCH(Display3!$G$2,B50)+LEN(Display3!$G$2)+2))&RIGHT(B50,LEN(B50)-(SEARCH(Display3!$G$2,B50)+LEN(Display3!$G$2)+2))-Display3!$J$3","v":"C.US.EPU1723800"}]
[{"$f":"IF(OR(ISTEXT(RTD(\"cqg.rtd\",,\"OrderData\",\"\"&B52&\"\",\"\",\"OpenPosition\",\"\"&Display3!$D$3&\"\")),RTD(\"cqg.rtd\",,\"OrderData\",\"\"&B52&\"\",\"\",\"OpenPosition\",\"\"&Display3!$D$3&\"\")=0),A51+0.001,INT(A51)+1)","v":5.2000000000000039E-2},{"$f":"(LEFT(B51,SEARCH(Display3!$G$2,B51)+LEN(Display3!$G$2)+2))&RIGHT(B51,LEN(B51)-(SEARCH(Display3!$G$2,B51)+LEN(Display3!$G$2)+2))-Display3!$J$3","v":"C.US.EPU1723750"}]
[{"$f":"IF(OR(ISTEXT(RTD(\"cqg.rtd\",,\"OrderData\",\"\"&B53&\"\",\"\",\"OpenPosition\",\"\"&Display3!$D$3&\"\")),RTD(\"cqg.rtd\",,\"OrderData\",\"\"&B53&\"\",\"\",\"OpenPosition\",\"\"&Display3!$D$3&\"\")=0),A52+0.001,INT(A52)+1)","v":5.300000000000004E-2},{"$f":"(LEFT(B52,SEARCH(Display3!$G$2,B52)+LEN(Display3!$G$2)+2))&RIGHT(B52,LEN(B52)-(SEARCH(Display3!$G$2,B52)+LEN(Display3!$G$2)+2))-Display3!$J$3","v":"C.US.EPU1723700"}]
[{"$f":"IF(OR(ISTEXT(RTD(\"cqg.rtd\",,\"OrderData\",\"\"&B54&\"\",\"\",\"OpenPosition\",\"\"&Display3!$D$3&\"\")),RTD(\"cqg.rtd\",,\"OrderData\",\"\"&B54&\"\",\"\",\"OpenPosition\",\"\"&Display3!$D$3&\"\")=0),A53+0.001,INT(A53)+1)","v":5.4000000000000041E-2},{"$f":"(LEFT(B53,SEARCH(Display3!$G$2,B53)+LEN(Display3!$G$2)+2))&RIGHT(B53,LEN(B53)-(SEARCH(Display3!$G$2,B53)+LEN(Display3!$G$2)+2))-Display3!$J$3","v":"C.US.EPU1723650"}]
[{"$f":"IF(OR(ISTEXT(RTD(\"cqg.rtd\",,\"OrderData\",\"\"&B55&\"\",\"\",\"OpenPosition\",\"\"&Display3!$D$3&\"\")),RTD(\"cqg.rtd\",,\"OrderData\",\"\"&B55&\"\",\"\",\"OpenPosition\",\"\"&Display3!$D$3&\"\")=0),A54+0.001,INT(A54)+1)","v":5.5000000000000042E-2},{"$f":"(LEFT(B54,SEARCH(Display3!$G$2,B54)+LEN(Display3!$G$2)+2))&RIGHT(B54,LEN(B54)-(SEARCH(Display3!$G$2,B54)+LEN(Display3!$G$2)+2))-Display3!$J$3","v":"C.US.EPU1723600"}]
[{"$f":"IF(OR(ISTEXT(RTD(\"cqg.rtd\",,\"OrderData\",\"\"&B56&\"\",\"\",\"OpenPosition\",\"\"&Display3!$D$3&\"\")),RTD(\"cqg.rtd\",,\"OrderData\",\"\"&B56&\"\",\"\",\"OpenPosition\",\"\"&Display3!$D$3&\"\")=0),A55+0.001,INT(A55)+1)","v":5.6000000000000043E-2},{"$f":"(LEFT(B55,SEARCH(Display3!$G$2,B55)+LEN(Display3!$G$2)+2))&RIGHT(B55,LEN(B55)-(SEARCH(Display3!$G$2,B55)+LEN(Display3!$G$2)+2))-Display3!$J$3","v":"C.US.EPU1723550"}]
[{"$f":"IF(OR(ISTEXT(RTD(\"cqg.rtd\",,\"OrderData\",\"\"&B57&\"\",\"\",\"OpenPosition\",\"\"&Display3!$D$3&\"\")),RTD(\"cqg.rtd\",,\"OrderData\",\"\"&B57&\"\",\"\",\"OpenPosition\",\"\"&Display3!$D$3&\"\")=0),A56+0.001,INT(A56)+1)","v":5.7000000000000044E-2},{"$f":"(LEFT(B56,SEARCH(Display3!$G$2,B56)+LEN(Display3!$G$2)+2))&RIGHT(B56,LEN(B56)-(SEARCH(Display3!$G$2,B56)+LEN(Display3!$G$2)+2))-Display3!$J$3","v":"C.US.EPU1723500"}]
[{"$f":"IF(OR(ISTEXT(RTD(\"cqg.rtd\",,\"OrderData\",\"\"&B58&\"\",\"\",\"OpenPosition\",\"\"&Display3!$D$3&\"\")),RTD(\"cqg.rtd\",,\"OrderData\",\"\"&B58&\"\",\"\",\"OpenPosition\",\"\"&Display3!$D$3&\"\")=0),A57+0.001,INT(A57)+1)","v":5.8000000000000045E-2},{"$f":"(LEFT(B57,SEARCH(Display3!$G$2,B57)+LEN(Display3!$G$2)+2))&RIGHT(B57,LEN(B57)-(SEARCH(Display3!$G$2,B57)+LEN(Display3!$G$2)+2))-Display3!$J$3","v":"C.US.EPU1723450"}]
[{"$f":"IF(OR(ISTEXT(RTD(\"cqg.rtd\",,\"OrderData\",\"\"&B59&\"\",\"\",\"OpenPosition\",\"\"&Display3!$D$3&\"\")),RTD(\"cqg.rtd\",,\"OrderData\",\"\"&B59&\"\",\"\",\"OpenPosition\",\"\"&Display3!$D$3&\"\")=0),A58+0.001,INT(A58)+1)","v":5.9000000000000045E-2},{"$f":"(LEFT(B58,SEARCH(Display3!$G$2,B58)+LEN(Display3!$G$2)+2))&RIGHT(B58,LEN(B58)-(SEARCH(Display3!$G$2,B58)+LEN(Display3!$G$2)+2))-Display3!$J$3","v":"C.US.EPU1723400"}]
[{"$f":"IF(OR(ISTEXT(RTD(\"cqg.rtd\",,\"OrderData\",\"\"&B60&\"\",\"\",\"OpenPosition\",\"\"&Display3!$D$3&\"\")),RTD(\"cqg.rtd\",,\"OrderData\",\"\"&B60&\"\",\"\",\"OpenPosition\",\"\"&Display3!$D$3&\"\")=0),A59+0.001,INT(A59)+1)","v":6.0000000000000046E-2},{"$f":"(LEFT(B59,SEARCH(Display3!$G$2,B59)+LEN(Display3!$G$2)+2))&RIGHT(B59,LEN(B59)-(SEARCH(Display3!$G$2,B59)+LEN(Display3!$G$2)+2))-Display3!$J$3","v":"C.US.EPU1723350"}]
[{"$f":"IF(OR(ISTEXT(RTD(\"cqg.rtd\",,\"OrderData\",\"\"&B61&\"\",\"\",\"OpenPosition\",\"\"&Display3!$D$3&\"\")),RTD(\"cqg.rtd\",,\"OrderData\",\"\"&B61&\"\",\"\",\"OpenPosition\",\"\"&Display3!$D$3&\"\")=0),A60+0.001,INT(A60)+1)","v":6.1000000000000047E-2},{"$f":"(LEFT(B60,SEARCH(Display3!$G$2,B60)+LEN(Display3!$G$2)+2))&RIGHT(B60,LEN(B60)-(SEARCH(Display3!$G$2,B60)+LEN(Display3!$G$2)+2))-Display3!$J$3","v":"C.US.EPU1723300"}]
[{"$f":"IF(OR(ISTEXT(RTD(\"cqg.rtd\",,\"OrderData\",\"\"&B62&\"\",\"\",\"OpenPosition\",\"\"&Display3!$D$3&\"\")),RTD(\"cqg.rtd\",,\"OrderData\",\"\"&B62&\"\",\"\",\"OpenPosition\",\"\"&Display3!$D$3&\"\")=0),A61+0.001,INT(A61)+1)","v":6.2000000000000048E-2},{"$f":"(LEFT(B61,SEARCH(Display3!$G$2,B61)+LEN(Display3!$G$2)+2))&RIGHT(B61,LEN(B61)-(SEARCH(Display3!$G$2,B61)+LEN(Display3!$G$2)+2))-Display3!$J$3","v":"C.US.EPU1723250"}]
[{"$f":"IF(OR(ISTEXT(RTD(\"cqg.rtd\",,\"OrderData\",\"\"&B63&\"\",\"\",\"OpenPosition\",\"\"&Display3!$D$3&\"\")),RTD(\"cqg.rtd\",,\"OrderData\",\"\"&B63&\"\",\"\",\"OpenPosition\",\"\"&Display3!$D$3&\"\")=0),A62+0.001,INT(A62)+1)","v":6.3000000000000042E-2},{"$f":"(LEFT(B62,SEARCH(Display3!$G$2,B62)+LEN(Display3!$G$2)+2))&RIGHT(B62,LEN(B62)-(SEARCH(Display3!$G$2,B62)+LEN(Display3!$G$2)+2))-Display3!$J$3","v":"C.US.EPU1723200"}]
[{"$f":"IF(OR(ISTEXT(RTD(\"cqg.rtd\",,\"OrderData\",\"\"&B64&\"\",\"\",\"OpenPosition\",\"\"&Display3!$D$3&\"\")),RTD(\"cqg.rtd\",,\"OrderData\",\"\"&B64&\"\",\"\",\"OpenPosition\",\"\"&Display3!$D$3&\"\")=0),A63+0.001,INT(A63)+1)","v":6.4000000000000043E-2},{"$f":"(LEFT(B63,SEARCH(Display3!$G$2,B63)+LEN(Display3!$G$2)+2))&RIGHT(B63,LEN(B63)-(SEARCH(Display3!$G$2,B63)+LEN(Display3!$G$2)+2))-Display3!$J$3","v":"C.US.EPU1723150"}]
[{"$f":"IF(OR(ISTEXT(RTD(\"cqg.rtd\",,\"OrderData\",\"\"&B65&\"\",\"\",\"OpenPosition\",\"\"&Display3!$D$3&\"\")),RTD(\"cqg.rtd\",,\"OrderData\",\"\"&B65&\"\",\"\",\"OpenPosition\",\"\"&Display3!$D$3&\"\")=0),A64+0.001,INT(A64)+1)","v":6.5000000000000044E-2},{"$f":"(LEFT(B64,SEARCH(Display3!$G$2,B64)+LEN(Display3!$G$2)+2))&RIGHT(B64,LEN(B64)-(SEARCH(Display3!$G$2,B64)+LEN(Display3!$G$2)+2))-Display3!$J$3","v":"C.US.EPU1723100"}]
[{"$f":"IF(OR(ISTEXT(RTD(\"cqg.rtd\",,\"OrderData\",\"\"&B66&\"\",\"\",\"OpenPosition\",\"\"&Display3!$D$3&\"\")),RTD(\"cqg.rtd\",,\"OrderData\",\"\"&B66&\"\",\"\",\"OpenPosition\",\"\"&Display3!$D$3&\"\")=0),A65+0.001,INT(A65)+1)","v":6.6000000000000045E-2},{"$f":"(LEFT(B65,SEARCH(Display3!$G$2,B65)+LEN(Display3!$G$2)+2))&RIGHT(B65,LEN(B65)-(SEARCH(Display3!$G$2,B65)+LEN(Display3!$G$2)+2))-Display3!$J$3","v":"C.US.EPU1723050"}]
[{"$f":"IF(OR(ISTEXT(RTD(\"cqg.rtd\",,\"OrderData\",\"\"&B67&\"\",\"\",\"OpenPosition\",\"\"&Display3!$D$3&\"\")),RTD(\"cqg.rtd\",,\"OrderData\",\"\"&B67&\"\",\"\",\"OpenPosition\",\"\"&Display3!$D$3&\"\")=0),A66+0.001,INT(A66)+1)","v":6.7000000000000046E-2},{"$f":"(LEFT(B66,SEARCH(Display3!$G$2,B66)+LEN(Display3!$G$2)+2))&RIGHT(B66,LEN(B66)-(SEARCH(Display3!$G$2,B66)+LEN(Display3!$G$2)+2))-Display3!$J$3","v":"C.US.EPU1723000"}]
[{"$f":"IF(OR(ISTEXT(RTD(\"cqg.rtd\",,\"OrderData\",\"\"&B68&\"\",\"\",\"OpenPosition\",\"\"&Display3!$D$3&\"\")),RTD(\"cqg.rtd\",,\"OrderData\",\"\"&B68&\"\",\"\",\"OpenPosition\",\"\"&Display3!$D$3&\"\")=0),A67+0.001,INT(A67)+1)","v":6.8000000000000047E-2},{"$f":"(LEFT(B67,SEARCH(Display3!$G$2,B67)+LEN(Display3!$G$2)+2))&RIGHT(B67,LEN(B67)-(SEARCH(Display3!$G$2,B67)+LEN(Display3!$G$2)+2))-Display3!$J$3","v":"C.US.EPU1722950"}]
[{"$f":"IF(OR(ISTEXT(RTD(\"cqg.rtd\",,\"OrderData\",\"\"&B69&\"\",\"\",\"OpenPosition\",\"\"&Display3!$D$3&\"\")),RTD(\"cqg.rtd\",,\"OrderData\",\"\"&B69&\"\",\"\",\"OpenPosition\",\"\"&Display3!$D$3&\"\")=0),A68+0.001,INT(A68)+1)","v":6.9000000000000047E-2},{"$f":"(LEFT(B68,SEARCH(Display3!$G$2,B68)+LEN(Display3!$G$2)+2))&RIGHT(B68,LEN(B68)-(SEARCH(Display3!$G$2,B68)+LEN(Display3!$G$2)+2))-Display3!$J$3","v":"C.US.EPU1722900"}]
[{"$f":"IF(OR(ISTEXT(RTD(\"cqg.rtd\",,\"OrderData\",\"\"&B70&\"\",\"\",\"OpenPosition\",\"\"&Display3!$D$3&\"\")),RTD(\"cqg.rtd\",,\"OrderData\",\"\"&B70&\"\",\"\",\"OpenPosition\",\"\"&Display3!$D$3&\"\")=0),A69+0.001,INT(A69)+1)","v":7.0000000000000048E-2},{"$f":"(LEFT(B69,SEARCH(Display3!$G$2,B69)+LEN(Display3!$G$2)+2))&RIGHT(B69,LEN(B69)-(SEARCH(Display3!$G$2,B69)+LEN(Display3!$G$2)+2))-Display3!$J$3","v":"C.US.EPU1722850"}]
[{"$f":"IF(OR(ISTEXT(RTD(\"cqg.rtd\",,\"OrderData\",\"\"&B71&\"\",\"\",\"OpenPosition\",\"\"&Display3!$D$3&\"\")),RTD(\"cqg.rtd\",,\"OrderData\",\"\"&B71&\"\",\"\",\"OpenPosition\",\"\"&Display3!$D$3&\"\")=0),A70+0.001,INT(A70)+1)","v":7.1000000000000049E-2},{"$f":"(LEFT(B70,SEARCH(Display3!$G$2,B70)+LEN(Display3!$G$2)+2))&RIGHT(B70,LEN(B70)-(SEARCH(Display3!$G$2,B70)+LEN(Display3!$G$2)+2))-Display3!$J$3","v":"C.US.EPU1722800"}]
[{"$f":"IF(OR(ISTEXT(RTD(\"cqg.rtd\",,\"OrderData\",\"\"&B72&\"\",\"\",\"OpenPosition\",\"\"&Display3!$D$3&\"\")),RTD(\"cqg.rtd\",,\"OrderData\",\"\"&B72&\"\",\"\",\"OpenPosition\",\"\"&Display3!$D$3&\"\")=0),A71+0.001,INT(A71)+1)","v":7.200000000000005E-2},{"$f":"(LEFT(B71,SEARCH(Display3!$G$2,B71)+LEN(Display3!$G$2)+2))&RIGHT(B71,LEN(B71)-(SEARCH(Display3!$G$2,B71)+LEN(Display3!$G$2)+2))-Display3!$J$3","v":"C.US.EPU1722750"}]
[{"$f":"IF(OR(ISTEXT(RTD(\"cqg.rtd\",,\"OrderData\",\"\"&B73&\"\",\"\",\"OpenPosition\",\"\"&Display3!$D$3&\"\")),RTD(\"cqg.rtd\",,\"OrderData\",\"\"&B73&\"\",\"\",\"OpenPosition\",\"\"&Display3!$D$3&\"\")=0),A72+0.001,INT(A72)+1)","v":7.3000000000000051E-2},{"$f":"(LEFT(B72,SEARCH(Display3!$G$2,B72)+LEN(Display3!$G$2)+2))&RIGHT(B72,LEN(B72)-(SEARCH(Display3!$G$2,B72)+LEN(Display3!$G$2)+2))-Display3!$J$3","v":"C.US.EPU1722700"}]
[{"$f":"IF(OR(ISTEXT(RTD(\"cqg.rtd\",,\"OrderData\",\"\"&B74&\"\",\"\",\"OpenPosition\",\"\"&Display3!$D$3&\"\")),RTD(\"cqg.rtd\",,\"OrderData\",\"\"&B74&\"\",\"\",\"OpenPosition\",\"\"&Display3!$D$3&\"\")=0),A73+0.001,INT(A73)+1)","v":7.4000000000000052E-2},{"$f":"(LEFT(B73,SEARCH(Display3!$G$2,B73)+LEN(Display3!$G$2)+2))&RIGHT(B73,LEN(B73)-(SEARCH(Display3!$G$2,B73)+LEN(Display3!$G$2)+2))-Display3!$J$3","v":"C.US.EPU1722650"}]
[{"$f":"IF(OR(ISTEXT(RTD(\"cqg.rtd\",,\"OrderData\",\"\"&B75&\"\",\"\",\"OpenPosition\",\"\"&Display3!$D$3&\"\")),RTD(\"cqg.rtd\",,\"OrderData\",\"\"&B75&\"\",\"\",\"OpenPosition\",\"\"&Display3!$D$3&\"\")=0),A74+0.001,INT(A74)+1)","v":7.5000000000000053E-2},{"$f":"(LEFT(B74,SEARCH(Display3!$G$2,B74)+LEN(Display3!$G$2)+2))&RIGHT(B74,LEN(B74)-(SEARCH(Display3!$G$2,B74)+LEN(Display3!$G$2)+2))-Display3!$J$3","v":"C.US.EPU1722600"}]
[{"$f":"IF(OR(ISTEXT(RTD(\"cqg.rtd\",,\"OrderData\",\"\"&B76&\"\",\"\",\"OpenPosition\",\"\"&Display3!$D$3&\"\")),RTD(\"cqg.rtd\",,\"OrderData\",\"\"&B76&\"\",\"\",\"OpenPosition\",\"\"&Display3!$D$3&\"\")=0),A75+0.001,INT(A75)+1)","v":7.6000000000000054E-2},{"$f":"(LEFT(B75,SEARCH(Display3!$G$2,B75)+LEN(Display3!$G$2)+2))&RIGHT(B75,LEN(B75)-(SEARCH(Display3!$G$2,B75)+LEN(Display3!$G$2)+2))-Display3!$J$3","v":"C.US.EPU1722550"}]
[{"$f":"IF(OR(ISTEXT(RTD(\"cqg.rtd\",,\"OrderData\",\"\"&B77&\"\",\"\",\"OpenPosition\",\"\"&Display3!$D$3&\"\")),RTD(\"cqg.rtd\",,\"OrderData\",\"\"&B77&\"\",\"\",\"OpenPosition\",\"\"&Display3!$D$3&\"\")=0),A76+0.001,INT(A76)+1)","v":7.7000000000000055E-2},{"$f":"(LEFT(B76,SEARCH(Display3!$G$2,B76)+LEN(Display3!$G$2)+2))&RIGHT(B76,LEN(B76)-(SEARCH(Display3!$G$2,B76)+LEN(Display3!$G$2)+2))-Display3!$J$3","v":"C.US.EPU1722500"}]
[{"$f":"IF(OR(ISTEXT(RTD(\"cqg.rtd\",,\"OrderData\",\"\"&B78&\"\",\"\",\"OpenPosition\",\"\"&Display3!$D$3&\"\")),RTD(\"cqg.rtd\",,\"OrderData\",\"\"&B78&\"\",\"\",\"OpenPosition\",\"\"&Display3!$D$3&\"\")=0),A77+0.001,INT(A77)+1)","v":7.8000000000000055E-2},{"$f":"(LEFT(B77,SEARCH(Display3!$G$2,B77)+LEN(Display3!$G$2)+2))&RIGHT(B77,LEN(B77)-(SEARCH(Display3!$G$2,B77)+LEN(Display3!$G$2)+2))-Display3!$J$3","v":"C.US.EPU1722450"}]
[{"$f":"IF(OR(ISTEXT(RTD(\"cqg.rtd\",,\"OrderData\",\"\"&B79&\"\",\"\",\"OpenPosition\",\"\"&Display3!$D$3&\"\")),RTD(\"cqg.rtd\",,\"OrderData\",\"\"&B79&\"\",\"\",\"OpenPosition\",\"\"&Display3!$D$3&\"\")=0),A78+0.001,INT(A78)+1)","v":7.9000000000000056E-2},{"$f":"(LEFT(B78,SEARCH(Display3!$G$2,B78)+LEN(Display3!$G$2)+2))&RIGHT(B78,LEN(B78)-(SEARCH(Display3!$G$2,B78)+LEN(Display3!$G$2)+2))-Display3!$J$3","v":"C.US.EPU1722400"}]
[{"$f":"IF(OR(ISTEXT(RTD(\"cqg.rtd\",,\"OrderData\",\"\"&B80&\"\",\"\",\"OpenPosition\",\"\"&Display3!$D$3&\"\")),RTD(\"cqg.rtd\",,\"OrderData\",\"\"&B80&\"\",\"\",\"OpenPosition\",\"\"&Display3!$D$3&\"\")=0),A79+0.001,INT(A79)+1)","v":8.0000000000000057E-2},{"$f":"(LEFT(B79,SEARCH(Display3!$G$2,B79)+LEN(Display3!$G$2)+2))&RIGHT(B79,LEN(B79)-(SEARCH(Display3!$G$2,B79)+LEN(Display3!$G$2)+2))-Display3!$J$3","v":"C.US.EPU1722350"}]
[{"$f":"IF(OR(ISTEXT(RTD(\"cqg.rtd\",,\"OrderData\",\"\"&B81&\"\",\"\",\"OpenPosition\",\"\"&Display3!$D$3&\"\")),RTD(\"cqg.rtd\",,\"OrderData\",\"\"&B81&\"\",\"\",\"OpenPosition\",\"\"&Display3!$D$3&\"\")=0),A80+0.001,INT(A80)+1)","v":8.1000000000000058E-2},{"$f":"(LEFT(B82,SEARCH(Display3!$G$2,B82)+LEN(Display3!$G$2)+2))&RIGHT(B82,LEN(B82)-(SEARCH(Display3!$G$2,B82)+LEN(Display3!$G$2)+2))+Display3!$J$3","v":"P.US.EPU1726350"}]
[{"$f":"IF(OR(ISTEXT(RTD(\"cqg.rtd\",,\"OrderData\",\"\"&B82&\"\",\"\",\"OpenPosition\",\"\"&Display3!$D$3&\"\")),RTD(\"cqg.rtd\",,\"OrderData\",\"\"&B82&\"\",\"\",\"OpenPosition\",\"\"&Display3!$D$3&\"\")=0),A81+0.001,INT(A81)+1)","v":8.2000000000000059E-2},{"$f":"(LEFT(B83,SEARCH(Display3!$G$2,B83)+LEN(Display3!$G$2)+2))&RIGHT(B83,LEN(B83)-(SEARCH(Display3!$G$2,B83)+LEN(Display3!$G$2)+2))+Display3!$J$3","v":"P.US.EPU1726300"}]
[{"$f":"IF(OR(ISTEXT(RTD(\"cqg.rtd\",,\"OrderData\",\"\"&B83&\"\",\"\",\"OpenPosition\",\"\"&Display3!$D$3&\"\")),RTD(\"cqg.rtd\",,\"OrderData\",\"\"&B83&\"\",\"\",\"OpenPosition\",\"\"&Display3!$D$3&\"\")=0),A82+0.001,INT(A82)+1)","v":8.300000000000006E-2},{"$f":"(LEFT(B84,SEARCH(Display3!$G$2,B84)+LEN(Display3!$G$2)+2))&RIGHT(B84,LEN(B84)-(SEARCH(Display3!$G$2,B84)+LEN(Display3!$G$2)+2))+Display3!$J$3","v":"P.US.EPU1726250"}]
[{"$f":"IF(OR(ISTEXT(RTD(\"cqg.rtd\",,\"OrderData\",\"\"&B84&\"\",\"\",\"OpenPosition\",\"\"&Display3!$D$3&\"\")),RTD(\"cqg.rtd\",,\"OrderData\",\"\"&B84&\"\",\"\",\"OpenPosition\",\"\"&Display3!$D$3&\"\")=0),A83+0.001,INT(A83)+1)","v":8.4000000000000061E-2},{"$f":"(LEFT(B85,SEARCH(Display3!$G$2,B85)+LEN(Display3!$G$2)+2))&RIGHT(B85,LEN(B85)-(SEARCH(Display3!$G$2,B85)+LEN(Display3!$G$2)+2))+Display3!$J$3","v":"P.US.EPU1726200"}]
[{"$f":"IF(OR(ISTEXT(RTD(\"cqg.rtd\",,\"OrderData\",\"\"&B85&\"\",\"\",\"OpenPosition\",\"\"&Display3!$D$3&\"\")),RTD(\"cqg.rtd\",,\"OrderData\",\"\"&B85&\"\",\"\",\"OpenPosition\",\"\"&Display3!$D$3&\"\")=0),A84+0.001,INT(A84)+1)","v":8.5000000000000062E-2},{"$f":"(LEFT(B86,SEARCH(Display3!$G$2,B86)+LEN(Display3!$G$2)+2))&RIGHT(B86,LEN(B86)-(SEARCH(Display3!$G$2,B86)+LEN(Display3!$G$2)+2))+Display3!$J$3","v":"P.US.EPU1726150"}]
[{"$f":"IF(OR(ISTEXT(RTD(\"cqg.rtd\",,\"OrderData\",\"\"&B86&\"\",\"\",\"OpenPosition\",\"\"&Display3!$D$3&\"\")),RTD(\"cqg.rtd\",,\"OrderData\",\"\"&B86&\"\",\"\",\"OpenPosition\",\"\"&Display3!$D$3&\"\")=0),A85+0.001,INT(A85)+1)","v":8.6000000000000063E-2},{"$f":"(LEFT(B87,SEARCH(Display3!$G$2,B87)+LEN(Display3!$G$2)+2))&RIGHT(B87,LEN(B87)-(SEARCH(Display3!$G$2,B87)+LEN(Display3!$G$2)+2))+Display3!$J$3","v":"P.US.EPU1726100"}]
[{"$f":"IF(OR(ISTEXT(RTD(\"cqg.rtd\",,\"OrderData\",\"\"&B87&\"\",\"\",\"OpenPosition\",\"\"&Display3!$D$3&\"\")),RTD(\"cqg.rtd\",,\"OrderData\",\"\"&B87&\"\",\"\",\"OpenPosition\",\"\"&Display3!$D$3&\"\")=0),A86+0.001,INT(A86)+1)","v":8.7000000000000063E-2},{"$f":"(LEFT(B88,SEARCH(Display3!$G$2,B88)+LEN(Display3!$G$2)+2))&RIGHT(B88,LEN(B88)-(SEARCH(Display3!$G$2,B88)+LEN(Display3!$G$2)+2))+Display3!$J$3","v":"P.US.EPU1726050"}]
[{"$f":"IF(OR(ISTEXT(RTD(\"cqg.rtd\",,\"OrderData\",\"\"&B88&\"\",\"\",\"OpenPosition\",\"\"&Display3!$D$3&\"\")),RTD(\"cqg.rtd\",,\"OrderData\",\"\"&B88&\"\",\"\",\"OpenPosition\",\"\"&Display3!$D$3&\"\")=0),A87+0.001,INT(A87)+1)","v":8.8000000000000064E-2},{"$f":"(LEFT(B89,SEARCH(Display3!$G$2,B89)+LEN(Display3!$G$2)+2))&RIGHT(B89,LEN(B89)-(SEARCH(Display3!$G$2,B89)+LEN(Display3!$G$2)+2))+Display3!$J$3","v":"P.US.EPU1726000"}]
[{"$f":"IF(OR(ISTEXT(RTD(\"cqg.rtd\",,\"OrderData\",\"\"&B89&\"\",\"\",\"OpenPosition\",\"\"&Display3!$D$3&\"\")),RTD(\"cqg.rtd\",,\"OrderData\",\"\"&B89&\"\",\"\",\"OpenPosition\",\"\"&Display3!$D$3&\"\")=0),A88+0.001,INT(A88)+1)","v":8.9000000000000065E-2},{"$f":"(LEFT(B90,SEARCH(Display3!$G$2,B90)+LEN(Display3!$G$2)+2))&RIGHT(B90,LEN(B90)-(SEARCH(Display3!$G$2,B90)+LEN(Display3!$G$2)+2))+Display3!$J$3","v":"P.US.EPU1725950"}]
[{"$f":"IF(OR(ISTEXT(RTD(\"cqg.rtd\",,\"OrderData\",\"\"&B90&\"\",\"\",\"OpenPosition\",\"\"&Display3!$D$3&\"\")),RTD(\"cqg.rtd\",,\"OrderData\",\"\"&B90&\"\",\"\",\"OpenPosition\",\"\"&Display3!$D$3&\"\")=0),A89+0.001,INT(A89)+1)","v":9.0000000000000066E-2},{"$f":"(LEFT(B91,SEARCH(Display3!$G$2,B91)+LEN(Display3!$G$2)+2))&RIGHT(B91,LEN(B91)-(SEARCH(Display3!$G$2,B91)+LEN(Display3!$G$2)+2))+Display3!$J$3","v":"P.US.EPU1725900"}]
[{"$f":"IF(OR(ISTEXT(RTD(\"cqg.rtd\",,\"OrderData\",\"\"&B91&\"\",\"\",\"OpenPosition\",\"\"&Display3!$D$3&\"\")),RTD(\"cqg.rtd\",,\"OrderData\",\"\"&B91&\"\",\"\",\"OpenPosition\",\"\"&Display3!$D$3&\"\")=0),A90+0.001,INT(A90)+1)","v":9.1000000000000067E-2},{"$f":"(LEFT(B92,SEARCH(Display3!$G$2,B92)+LEN(Display3!$G$2)+2))&RIGHT(B92,LEN(B92)-(SEARCH(Display3!$G$2,B92)+LEN(Display3!$G$2)+2))+Display3!$J$3","v":"P.US.EPU1725850"}]
[{"$f":"IF(OR(ISTEXT(RTD(\"cqg.rtd\",,\"OrderData\",\"\"&B92&\"\",\"\",\"OpenPosition\",\"\"&Display3!$D$3&\"\")),RTD(\"cqg.rtd\",,\"OrderData\",\"\"&B92&\"\",\"\",\"OpenPosition\",\"\"&Display3!$D$3&\"\")=0),A91+0.001,INT(A91)+1)","v":9.2000000000000068E-2},{"$f":"(LEFT(B93,SEARCH(Display3!$G$2,B93)+LEN(Display3!$G$2)+2))&RIGHT(B93,LEN(B93)-(SEARCH(Display3!$G$2,B93)+LEN(Display3!$G$2)+2))+Display3!$J$3","v":"P.US.EPU1725800"}]
[{"$f":"IF(OR(ISTEXT(RTD(\"cqg.rtd\",,\"OrderData\",\"\"&B93&\"\",\"\",\"OpenPosition\",\"\"&Display3!$D$3&\"\")),RTD(\"cqg.rtd\",,\"OrderData\",\"\"&B93&\"\",\"\",\"OpenPosition\",\"\"&Display3!$D$3&\"\")=0),A92+0.001,INT(A92)+1)","v":9.3000000000000069E-2},{"$f":"(LEFT(B94,SEARCH(Display3!$G$2,B94)+LEN(Display3!$G$2)+2))&RIGHT(B94,LEN(B94)-(SEARCH(Display3!$G$2,B94)+LEN(Display3!$G$2)+2))+Display3!$J$3","v":"P.US.EPU1725750"}]
[{"$f":"IF(OR(ISTEXT(RTD(\"cqg.rtd\",,\"OrderData\",\"\"&B94&\"\",\"\",\"OpenPosition\",\"\"&Display3!$D$3&\"\")),RTD(\"cqg.rtd\",,\"OrderData\",\"\"&B94&\"\",\"\",\"OpenPosition\",\"\"&Display3!$D$3&\"\")=0),A93+0.001,INT(A93)+1)","v":9.400000000000007E-2},{"$f":"(LEFT(B95,SEARCH(Display3!$G$2,B95)+LEN(Display3!$G$2)+2))&RIGHT(B95,LEN(B95)-(SEARCH(Display3!$G$2,B95)+LEN(Display3!$G$2)+2))+Display3!$J$3","v":"P.US.EPU1725700"}]
[{"$f":"IF(OR(ISTEXT(RTD(\"cqg.rtd\",,\"OrderData\",\"\"&B95&\"\",\"\",\"OpenPosition\",\"\"&Display3!$D$3&\"\")),RTD(\"cqg.rtd\",,\"OrderData\",\"\"&B95&\"\",\"\",\"OpenPosition\",\"\"&Display3!$D$3&\"\")=0),A94+0.001,INT(A94)+1)","v":9.500000000000007E-2},{"$f":"(LEFT(B96,SEARCH(Display3!$G$2,B96)+LEN(Display3!$G$2)+2))&RIGHT(B96,LEN(B96)-(SEARCH(Display3!$G$2,B96)+LEN(Display3!$G$2)+2))+Display3!$J$3","v":"P.US.EPU1725650"}]
[{"$f":"IF(OR(ISTEXT(RTD(\"cqg.rtd\",,\"OrderData\",\"\"&B96&\"\",\"\",\"OpenPosition\",\"\"&Display3!$D$3&\"\")),RTD(\"cqg.rtd\",,\"OrderData\",\"\"&B96&\"\",\"\",\"OpenPosition\",\"\"&Display3!$D$3&\"\")=0),A95+0.001,INT(A95)+1)","v":9.6000000000000071E-2},{"$f":"(LEFT(B97,SEARCH(Display3!$G$2,B97)+LEN(Display3!$G$2)+2))&RIGHT(B97,LEN(B97)-(SEARCH(Display3!$G$2,B97)+LEN(Display3!$G$2)+2))+Display3!$J$3","v":"P.US.EPU1725600"}]
[{"$f":"IF(OR(ISTEXT(RTD(\"cqg.rtd\",,\"OrderData\",\"\"&B97&\"\",\"\",\"OpenPosition\",\"\"&Display3!$D$3&\"\")),RTD(\"cqg.rtd\",,\"OrderData\",\"\"&B97&\"\",\"\",\"OpenPosition\",\"\"&Display3!$D$3&\"\")=0),A96+0.001,INT(A96)+1)","v":9.7000000000000072E-2},{"$f":"(LEFT(B98,SEARCH(Display3!$G$2,B98)+LEN(Display3!$G$2)+2))&RIGHT(B98,LEN(B98)-(SEARCH(Display3!$G$2,B98)+LEN(Display3!$G$2)+2))+Display3!$J$3","v":"P.US.EPU1725550"}]
[{"$f":"IF(OR(ISTEXT(RTD(\"cqg.rtd\",,\"OrderData\",\"\"&B98&\"\",\"\",\"OpenPosition\",\"\"&Display3!$D$3&\"\")),RTD(\"cqg.rtd\",,\"OrderData\",\"\"&B98&\"\",\"\",\"OpenPosition\",\"\"&Display3!$D$3&\"\")=0),A97+0.001,INT(A97)+1)","v":9.8000000000000073E-2},{"$f":"(LEFT(B99,SEARCH(Display3!$G$2,B99)+LEN(Display3!$G$2)+2))&RIGHT(B99,LEN(B99)-(SEARCH(Display3!$G$2,B99)+LEN(Display3!$G$2)+2))+Display3!$J$3","v":"P.US.EPU1725500"}]
[{"$f":"IF(OR(ISTEXT(RTD(\"cqg.rtd\",,\"OrderData\",\"\"&B99&\"\",\"\",\"OpenPosition\",\"\"&Display3!$D$3&\"\")),RTD(\"cqg.rtd\",,\"OrderData\",\"\"&B99&\"\",\"\",\"OpenPosition\",\"\"&Display3!$D$3&\"\")=0),A98+0.001,INT(A98)+1)","v":9.9000000000000074E-2},{"$f":"(LEFT(B100,SEARCH(Display3!$G$2,B100)+LEN(Display3!$G$2)+2))&RIGHT(B100,LEN(B100)-(SEARCH(Display3!$G$2,B100)+LEN(Display3!$G$2)+2))+Display3!$J$3","v":"P.US.EPU1725450"}]
[{"$f":"IF(OR(ISTEXT(RTD(\"cqg.rtd\",,\"OrderData\",\"\"&B100&\"\",\"\",\"OpenPosition\",\"\"&Display3!$D$3&\"\")),RTD(\"cqg.rtd\",,\"OrderData\",\"\"&B100&\"\",\"\",\"OpenPosition\",\"\"&Display3!$D$3&\"\")=0),A99+0.001,INT(A99)+1)","v":0.10000000000000007},{"$f":"(LEFT(B101,SEARCH(Display3!$G$2,B101)+LEN(Display3!$G$2)+2))&RIGHT(B101,LEN(B101)-(SEARCH(Display3!$G$2,B101)+LEN(Display3!$G$2)+2))+Display3!$J$3","v":"P.US.EPU1725400"}]
[{"$f":"IF(OR(ISTEXT(RTD(\"cqg.rtd\",,\"OrderData\",\"\"&B101&\"\",\"\",\"OpenPosition\",\"\"&Display3!$D$3&\"\")),RTD(\"cqg.rtd\",,\"OrderData\",\"\"&B101&\"\",\"\",\"OpenPosition\",\"\"&Display3!$D$3&\"\")=0),A100+0.001,INT(A100)+1)","v":0.10100000000000008},{"$f":"(LEFT(B102,SEARCH(Display3!$G$2,B102)+LEN(Display3!$G$2)+2))&RIGHT(B102,LEN(B102)-(SEARCH(Display3!$G$2,B102)+LEN(Display3!$G$2)+2))+Display3!$J$3","v":"P.US.EPU1725350"}]
[{"$f":"IF(OR(ISTEXT(RTD(\"cqg.rtd\",,\"OrderData\",\"\"&B102&\"\",\"\",\"OpenPosition\",\"\"&Display3!$D$3&\"\")),RTD(\"cqg.rtd\",,\"OrderData\",\"\"&B102&\"\",\"\",\"OpenPosition\",\"\"&Display3!$D$3&\"\")=0),A101+0.001,INT(A101)+1)","v":0.10200000000000008},{"$f":"(LEFT(B103,SEARCH(Display3!$G$2,B103)+LEN(Display3!$G$2)+2))&RIGHT(B103,LEN(B103)-(SEARCH(Display3!$G$2,B103)+LEN(Display3!$G$2)+2))+Display3!$J$3","v":"P.US.EPU1725300"}]
[{"$f":"IF(OR(ISTEXT(RTD(\"cqg.rtd\",,\"OrderData\",\"\"&B103&\"\",\"\",\"OpenPosition\",\"\"&Display3!$D$3&\"\")),RTD(\"cqg.rtd\",,\"OrderData\",\"\"&B103&\"\",\"\",\"OpenPosition\",\"\"&Display3!$D$3&\"\")=0),A102+0.001,INT(A102)+1)","v":0.10300000000000008},{"$f":"(LEFT(B104,SEARCH(Display3!$G$2,B104)+LEN(Display3!$G$2)+2))&RIGHT(B104,LEN(B104)-(SEARCH(Display3!$G$2,B104)+LEN(Display3!$G$2)+2))+Display3!$J$3","v":"P.US.EPU1725250"}]
[{"$f":"IF(OR(ISTEXT(RTD(\"cqg.rtd\",,\"OrderData\",\"\"&B104&\"\",\"\",\"OpenPosition\",\"\"&Display3!$D$3&\"\")),RTD(\"cqg.rtd\",,\"OrderData\",\"\"&B104&\"\",\"\",\"OpenPosition\",\"\"&Display3!$D$3&\"\")=0),A103+0.001,INT(A103)+1)","v":0.10400000000000008},{"$f":"(LEFT(B105,SEARCH(Display3!$G$2,B105)+LEN(Display3!$G$2)+2))&RIGHT(B105,LEN(B105)-(SEARCH(Display3!$G$2,B105)+LEN(Display3!$G$2)+2))+Display3!$J$3","v":"P.US.EPU1725200"}]
[{"$f":"IF(OR(ISTEXT(RTD(\"cqg.rtd\",,\"OrderData\",\"\"&B105&\"\",\"\",\"OpenPosition\",\"\"&Display3!$D$3&\"\")),RTD(\"cqg.rtd\",,\"OrderData\",\"\"&B105&\"\",\"\",\"OpenPosition\",\"\"&Display3!$D$3&\"\")=0),A104+0.001,INT(A104)+1)","v":0.10500000000000008},{"$f":"(LEFT(B106,SEARCH(Display3!$G$2,B106)+LEN(Display3!$G$2)+2))&RIGHT(B106,LEN(B106)-(SEARCH(Display3!$G$2,B106)+LEN(Display3!$G$2)+2))+Display3!$J$3","v":"P.US.EPU1725150"}]
[{"$f":"IF(OR(ISTEXT(RTD(\"cqg.rtd\",,\"OrderData\",\"\"&B106&\"\",\"\",\"OpenPosition\",\"\"&Display3!$D$3&\"\")),RTD(\"cqg.rtd\",,\"OrderData\",\"\"&B106&\"\",\"\",\"OpenPosition\",\"\"&Display3!$D$3&\"\")=0),A105+0.001,INT(A105)+1)","v":0.10600000000000008},{"$f":"(LEFT(B107,SEARCH(Display3!$G$2,B107)+LEN(Display3!$G$2)+2))&RIGHT(B107,LEN(B107)-(SEARCH(Display3!$G$2,B107)+LEN(Display3!$G$2)+2))+Display3!$J$3","v":"P.US.EPU1725100"}]
[{"$f":"IF(OR(ISTEXT(RTD(\"cqg.rtd\",,\"OrderData\",\"\"&B107&\"\",\"\",\"OpenPosition\",\"\"&Display3!$D$3&\"\")),RTD(\"cqg.rtd\",,\"OrderData\",\"\"&B107&\"\",\"\",\"OpenPosition\",\"\"&Display3!$D$3&\"\")=0),A106+0.001,INT(A106)+1)","v":0.10700000000000008},{"$f":"(LEFT(B108,SEARCH(Display3!$G$2,B108)+LEN(Display3!$G$2)+2))&RIGHT(B108,LEN(B108)-(SEARCH(Display3!$G$2,B108)+LEN(Display3!$G$2)+2))+Display3!$J$3","v":"P.US.EPU1725050"}]
[{"$f":"IF(OR(ISTEXT(RTD(\"cqg.rtd\",,\"OrderData\",\"\"&B108&\"\",\"\",\"OpenPosition\",\"\"&Display3!$D$3&\"\")),RTD(\"cqg.rtd\",,\"OrderData\",\"\"&B108&\"\",\"\",\"OpenPosition\",\"\"&Display3!$D$3&\"\")=0),A107+0.001,INT(A107)+1)","v":0.10800000000000008},{"$f":"(LEFT(B109,SEARCH(Display3!$G$2,B109)+LEN(Display3!$G$2)+2))&RIGHT(B109,LEN(B109)-(SEARCH(Display3!$G$2,B109)+LEN(Display3!$G$2)+2))+Display3!$J$3","v":"P.US.EPU1725000"}]
[{"$f":"IF(OR(ISTEXT(RTD(\"cqg.rtd\",,\"OrderData\",\"\"&B109&\"\",\"\",\"OpenPosition\",\"\"&Display3!$D$3&\"\")),RTD(\"cqg.rtd\",,\"OrderData\",\"\"&B109&\"\",\"\",\"OpenPosition\",\"\"&Display3!$D$3&\"\")=0),A108+0.001,INT(A108)+1)","v":0.10900000000000008},{"$f":"(LEFT(B110,SEARCH(Display3!$G$2,B110)+LEN(Display3!$G$2)+2))&RIGHT(B110,LEN(B110)-(SEARCH(Display3!$G$2,B110)+LEN(Display3!$G$2)+2))+Display3!$J$3","v":"P.US.EPU1724950"}]
[{"$f":"IF(OR(ISTEXT(RTD(\"cqg.rtd\",,\"OrderData\",\"\"&B110&\"\",\"\",\"OpenPosition\",\"\"&Display3!$D$3&\"\")),RTD(\"cqg.rtd\",,\"OrderData\",\"\"&B110&\"\",\"\",\"OpenPosition\",\"\"&Display3!$D$3&\"\")=0),A109+0.001,INT(A109)+1)","v":0.11000000000000008},{"$f":"(LEFT(B111,SEARCH(Display3!$G$2,B111)+LEN(Display3!$G$2)+2))&RIGHT(B111,LEN(B111)-(SEARCH(Display3!$G$2,B111)+LEN(Display3!$G$2)+2))+Display3!$J$3","v":"P.US.EPU1724900"}]
[{"$f":"IF(OR(ISTEXT(RTD(\"cqg.rtd\",,\"OrderData\",\"\"&B111&\"\",\"\",\"OpenPosition\",\"\"&Display3!$D$3&\"\")),RTD(\"cqg.rtd\",,\"OrderData\",\"\"&B111&\"\",\"\",\"OpenPosition\",\"\"&Display3!$D$3&\"\")=0),A110+0.001,INT(A110)+1)","v":0.11100000000000008},{"$f":"(LEFT(B112,SEARCH(Display3!$G$2,B112)+LEN(Display3!$G$2)+2))&RIGHT(B112,LEN(B112)-(SEARCH(Display3!$G$2,B112)+LEN(Display3!$G$2)+2))+Display3!$J$3","v":"P.US.EPU1724850"}]
[{"$f":"IF(OR(ISTEXT(RTD(\"cqg.rtd\",,\"OrderData\",\"\"&B112&\"\",\"\",\"OpenPosition\",\"\"&Display3!$D$3&\"\")),RTD(\"cqg.rtd\",,\"OrderData\",\"\"&B112&\"\",\"\",\"OpenPosition\",\"\"&Display3!$D$3&\"\")=0),A111+0.001,INT(A111)+1)","v":0.11200000000000009},{"$f":"(LEFT(B113,SEARCH(Display3!$G$2,B113)+LEN(Display3!$G$2)+2))&RIGHT(B113,LEN(B113)-(SEARCH(Display3!$G$2,B113)+LEN(Display3!$G$2)+2))+Display3!$J$3","v":"P.US.EPU1724800"}]
[{"$f":"IF(OR(ISTEXT(RTD(\"cqg.rtd\",,\"OrderData\",\"\"&B113&\"\",\"\",\"OpenPosition\",\"\"&Display3!$D$3&\"\")),RTD(\"cqg.rtd\",,\"OrderData\",\"\"&B113&\"\",\"\",\"OpenPosition\",\"\"&Display3!$D$3&\"\")=0),A112+0.001,INT(A112)+1)","v":0.11300000000000009},{"$f":"(LEFT(B114,SEARCH(Display3!$G$2,B114)+LEN(Display3!$G$2)+2))&RIGHT(B114,LEN(B114)-(SEARCH(Display3!$G$2,B114)+LEN(Display3!$G$2)+2))+Display3!$J$3","v":"P.US.EPU1724750"}]
[{"$f":"IF(OR(ISTEXT(RTD(\"cqg.rtd\",,\"OrderData\",\"\"&B114&\"\",\"\",\"OpenPosition\",\"\"&Display3!$D$3&\"\")),RTD(\"cqg.rtd\",,\"OrderData\",\"\"&B114&\"\",\"\",\"OpenPosition\",\"\"&Display3!$D$3&\"\")=0),A113+0.001,INT(A113)+1)","v":0.11400000000000009},{"$f":"(LEFT(B115,SEARCH(Display3!$G$2,B115)+LEN(Display3!$G$2)+2))&RIGHT(B115,LEN(B115)-(SEARCH(Display3!$G$2,B115)+LEN(Display3!$G$2)+2))+Display3!$J$3","v":"P.US.EPU1724700"}]
[{"$f":"IF(OR(ISTEXT(RTD(\"cqg.rtd\",,\"OrderData\",\"\"&B115&\"\",\"\",\"OpenPosition\",\"\"&Display3!$D$3&\"\")),RTD(\"cqg.rtd\",,\"OrderData\",\"\"&B115&\"\",\"\",\"OpenPosition\",\"\"&Display3!$D$3&\"\")=0),A114+0.001,INT(A114)+1)","v":0.11500000000000009},{"$f":"(LEFT(B116,SEARCH(Display3!$G$2,B116)+LEN(Display3!$G$2)+2))&RIGHT(B116,LEN(B116)-(SEARCH(Display3!$G$2,B116)+LEN(Display3!$G$2)+2))+Display3!$J$3","v":"P.US.EPU1724650"}]
[{"$f":"IF(OR(ISTEXT(RTD(\"cqg.rtd\",,\"OrderData\",\"\"&B116&\"\",\"\",\"OpenPosition\",\"\"&Display3!$D$3&\"\")),RTD(\"cqg.rtd\",,\"OrderData\",\"\"&B116&\"\",\"\",\"OpenPosition\",\"\"&Display3!$D$3&\"\")=0),A115+0.001,INT(A115)+1)","v":0.11600000000000009},{"$f":"(LEFT(B117,SEARCH(Display3!$G$2,B117)+LEN(Display3!$G$2)+2))&RIGHT(B117,LEN(B117)-(SEARCH(Display3!$G$2,B117)+LEN(Display3!$G$2)+2))+Display3!$J$3","v":"P.US.EPU1724600"}]
[{"$f":"IF(OR(ISTEXT(RTD(\"cqg.rtd\",,\"OrderData\",\"\"&B117&\"\",\"\",\"OpenPosition\",\"\"&Display3!$D$3&\"\")),RTD(\"cqg.rtd\",,\"OrderData\",\"\"&B117&\"\",\"\",\"OpenPosition\",\"\"&Display3!$D$3&\"\")=0),A116+0.001,INT(A116)+1)","v":0.11700000000000009},{"$f":"(LEFT(B118,SEARCH(Display3!$G$2,B118)+LEN(Display3!$G$2)+2))&RIGHT(B118,LEN(B118)-(SEARCH(Display3!$G$2,B118)+LEN(Display3!$G$2)+2))+Display3!$J$3","v":"P.US.EPU1724550"}]
[{"$f":"IF(OR(ISTEXT(RTD(\"cqg.rtd\",,\"OrderData\",\"\"&B118&\"\",\"\",\"OpenPosition\",\"\"&Display3!$D$3&\"\")),RTD(\"cqg.rtd\",,\"OrderData\",\"\"&B118&\"\",\"\",\"OpenPosition\",\"\"&Display3!$D$3&\"\")=0),A117+0.001,INT(A117)+1)","v":0.11800000000000009},{"$f":"(LEFT(B119,SEARCH(Display3!$G$2,B119)+LEN(Display3!$G$2)+2))&RIGHT(B119,LEN(B119)-(SEARCH(Display3!$G$2,B119)+LEN(Display3!$G$2)+2))+Display3!$J$3","v":"P.US.EPU1724500"}]
[{"$f":"IF(OR(ISTEXT(RTD(\"cqg.rtd\",,\"OrderData\",\"\"&B119&\"\",\"\",\"OpenPosition\",\"\"&Display3!$D$3&\"\")),RTD(\"cqg.rtd\",,\"OrderData\",\"\"&B119&\"\",\"\",\"OpenPosition\",\"\"&Display3!$D$3&\"\")=0),A118+0.001,INT(A118)+1)","v":0.11900000000000009},{"$f":"(LEFT(B120,SEARCH(Display3!$G$2,B120)+LEN(Display3!$G$2)+2))&RIGHT(B120,LEN(B120)-(SEARCH(Display3!$G$2,B120)+LEN(Display3!$G$2)+2))+Display3!$J$3","v":"P.US.EPU1724450"}]
[{"$f":"IF(OR(ISTEXT(RTD(\"cqg.rtd\",,\"OrderData\",\"\"&B120&\"\",\"\",\"OpenPosition\",\"\"&Display3!$D$3&\"\")),RTD(\"cqg.rtd\",,\"OrderData\",\"\"&B120&\"\",\"\",\"OpenPosition\",\"\"&Display3!$D$3&\"\")=0),A119+0.001,INT(A119)+1)","v":0.12000000000000009},{"$f":"(LEFT(B121,SEARCH(Display3!$G$2,B121)+LEN(Display3!$G$2)+2))&RIGHT(B121,LEN(B121)-(SEARCH(Display3!$G$2,B121)+LEN(Display3!$G$2)+2))+Display3!$J$3","v":"P.US.EPU1724400"}]
[{"$f":"IF(OR(ISTEXT(RTD(\"cqg.rtd\",,\"OrderData\",\"\"&B121&\"\",\"\",\"OpenPosition\",\"\"&Display3!$D$3&\"\")),RTD(\"cqg.rtd\",,\"OrderData\",\"\"&B121&\"\",\"\",\"OpenPosition\",\"\"&Display3!$D$3&\"\")=0),A120+0.001,INT(A120)+1)","v":0.12100000000000009},{"$f":"RTD(\"cqg.rtd\", ,\"ContractData\", \"P.US.\"&Display3!$G$2&Display3!$G$3&\"\", \"Symbol\",, \"T\")","v":"P.US.EPU1724350"}]
[{"$f":"IF(OR(ISTEXT(RTD(\"cqg.rtd\",,\"OrderData\",\"\"&B122&\"\",\"\",\"OpenPosition\",\"\"&Display3!$D$3&\"\")),RTD(\"cqg.rtd\",,\"OrderData\",\"\"&B122&\"\",\"\",\"OpenPosition\",\"\"&Display3!$D$3&\"\")=0),A121+0.001,INT(A121)+1)","v":0.12200000000000009},{"$f":"(LEFT(B121,SEARCH(Display3!$G$2,B121)+LEN(Display3!$G$2)+2))&RIGHT(B121,LEN(B121)-(SEARCH(Display3!$G$2,B121)+LEN(Display3!$G$2)+2))-Display3!$J$3","v":"P.US.EPU1724300"}]
[{"$f":"IF(OR(ISTEXT(RTD(\"cqg.rtd\",,\"OrderData\",\"\"&B123&\"\",\"\",\"OpenPosition\",\"\"&Display3!$D$3&\"\")),RTD(\"cqg.rtd\",,\"OrderData\",\"\"&B123&\"\",\"\",\"OpenPosition\",\"\"&Display3!$D$3&\"\")=0),A122+0.001,INT(A122)+1)","v":0.1230000000000001},{"$f":"(LEFT(B122,SEARCH(Display3!$G$2,B122)+LEN(Display3!$G$2)+2))&RIGHT(B122,LEN(B122)-(SEARCH(Display3!$G$2,B122)+LEN(Display3!$G$2)+2))-Display3!$J$3","v":"P.US.EPU1724250"}]
[{"$f":"IF(OR(ISTEXT(RTD(\"cqg.rtd\",,\"OrderData\",\"\"&B124&\"\",\"\",\"OpenPosition\",\"\"&Display3!$D$3&\"\")),RTD(\"cqg.rtd\",,\"OrderData\",\"\"&B124&\"\",\"\",\"OpenPosition\",\"\"&Display3!$D$3&\"\")=0),A123+0.001,INT(A123)+1)","v":0.1240000000000001},{"$f":"(LEFT(B123,SEARCH(Display3!$G$2,B123)+LEN(Display3!$G$2)+2))&RIGHT(B123,LEN(B123)-(SEARCH(Display3!$G$2,B123)+LEN(Display3!$G$2)+2))-Display3!$J$3","v":"P.US.EPU1724200"}]
[{"$f":"IF(OR(ISTEXT(RTD(\"cqg.rtd\",,\"OrderData\",\"\"&B125&\"\",\"\",\"OpenPosition\",\"\"&Display3!$D$3&\"\")),RTD(\"cqg.rtd\",,\"OrderData\",\"\"&B125&\"\",\"\",\"OpenPosition\",\"\"&Display3!$D$3&\"\")=0),A124+0.001,INT(A124)+1)","v":0.12500000000000008},{"$f":"(LEFT(B124,SEARCH(Display3!$G$2,B124)+LEN(Display3!$G$2)+2))&RIGHT(B124,LEN(B124)-(SEARCH(Display3!$G$2,B124)+LEN(Display3!$G$2)+2))-Display3!$J$3","v":"P.US.EPU1724150"}]
[{"$f":"IF(OR(ISTEXT(RTD(\"cqg.rtd\",,\"OrderData\",\"\"&B126&\"\",\"\",\"OpenPosition\",\"\"&Display3!$D$3&\"\")),RTD(\"cqg.rtd\",,\"OrderData\",\"\"&B126&\"\",\"\",\"OpenPosition\",\"\"&Display3!$D$3&\"\")=0),A125+0.001,INT(A125)+1)","v":0.12600000000000008},{"$f":"(LEFT(B125,SEARCH(Display3!$G$2,B125)+LEN(Display3!$G$2)+2))&RIGHT(B125,LEN(B125)-(SEARCH(Display3!$G$2,B125)+LEN(Display3!$G$2)+2))-Display3!$J$3","v":"P.US.EPU1724100"}]
[{"$f":"IF(OR(ISTEXT(RTD(\"cqg.rtd\",,\"OrderData\",\"\"&B127&\"\",\"\",\"OpenPosition\",\"\"&Display3!$D$3&\"\")),RTD(\"cqg.rtd\",,\"OrderData\",\"\"&B127&\"\",\"\",\"OpenPosition\",\"\"&Display3!$D$3&\"\")=0),A126+0.001,INT(A126)+1)","v":0.12700000000000009},{"$f":"(LEFT(B126,SEARCH(Display3!$G$2,B126)+LEN(Display3!$G$2)+2))&RIGHT(B126,LEN(B126)-(SEARCH(Display3!$G$2,B126)+LEN(Display3!$G$2)+2))-Display3!$J$3","v":"P.US.EPU1724050"}]
[{"$f":"IF(OR(ISTEXT(RTD(\"cqg.rtd\",,\"OrderData\",\"\"&B128&\"\",\"\",\"OpenPosition\",\"\"&Display3!$D$3&\"\")),RTD(\"cqg.rtd\",,\"OrderData\",\"\"&B128&\"\",\"\",\"OpenPosition\",\"\"&Display3!$D$3&\"\")=0),A127+0.001,INT(A127)+1)","v":0.12800000000000009},{"$f":"(LEFT(B127,SEARCH(Display3!$G$2,B127)+LEN(Display3!$G$2)+2))&RIGHT(B127,LEN(B127)-(SEARCH(Display3!$G$2,B127)+LEN(Display3!$G$2)+2))-Display3!$J$3","v":"P.US.EPU1724000"}]
[{"$f":"IF(OR(ISTEXT(RTD(\"cqg.rtd\",,\"OrderData\",\"\"&B129&\"\",\"\",\"OpenPosition\",\"\"&Display3!$D$3&\"\")),RTD(\"cqg.rtd\",,\"OrderData\",\"\"&B129&\"\",\"\",\"OpenPosition\",\"\"&Display3!$D$3&\"\")=0),A128+0.001,INT(A128)+1)","v":0.12900000000000009},{"$f":"(LEFT(B128,SEARCH(Display3!$G$2,B128)+LEN(Display3!$G$2)+2))&RIGHT(B128,LEN(B128)-(SEARCH(Display3!$G$2,B128)+LEN(Display3!$G$2)+2))-Display3!$J$3","v":"P.US.EPU1723950"}]
[{"$f":"IF(OR(ISTEXT(RTD(\"cqg.rtd\",,\"OrderData\",\"\"&B130&\"\",\"\",\"OpenPosition\",\"\"&Display3!$D$3&\"\")),RTD(\"cqg.rtd\",,\"OrderData\",\"\"&B130&\"\",\"\",\"OpenPosition\",\"\"&Display3!$D$3&\"\")=0),A129+0.001,INT(A129)+1)","v":0.13000000000000009},{"$f":"(LEFT(B129,SEARCH(Display3!$G$2,B129)+LEN(Display3!$G$2)+2))&RIGHT(B129,LEN(B129)-(SEARCH(Display3!$G$2,B129)+LEN(Display3!$G$2)+2))-Display3!$J$3","v":"P.US.EPU1723900"}]
[{"$f":"IF(OR(ISTEXT(RTD(\"cqg.rtd\",,\"OrderData\",\"\"&B131&\"\",\"\",\"OpenPosition\",\"\"&Display3!$D$3&\"\")),RTD(\"cqg.rtd\",,\"OrderData\",\"\"&B131&\"\",\"\",\"OpenPosition\",\"\"&Display3!$D$3&\"\")=0),A130+0.001,INT(A130)+1)","v":0.13100000000000009},{"$f":"(LEFT(B130,SEARCH(Display3!$G$2,B130)+LEN(Display3!$G$2)+2))&RIGHT(B130,LEN(B130)-(SEARCH(Display3!$G$2,B130)+LEN(Display3!$G$2)+2))-Display3!$J$3","v":"P.US.EPU1723850"}]
[{"$f":"IF(OR(ISTEXT(RTD(\"cqg.rtd\",,\"OrderData\",\"\"&B132&\"\",\"\",\"OpenPosition\",\"\"&Display3!$D$3&\"\")),RTD(\"cqg.rtd\",,\"OrderData\",\"\"&B132&\"\",\"\",\"OpenPosition\",\"\"&Display3!$D$3&\"\")=0),A131+0.001,INT(A131)+1)","v":0.13200000000000009},{"$f":"(LEFT(B131,SEARCH(Display3!$G$2,B131)+LEN(Display3!$G$2)+2))&RIGHT(B131,LEN(B131)-(SEARCH(Display3!$G$2,B131)+LEN(Display3!$G$2)+2))-Display3!$J$3","v":"P.US.EPU1723800"}]
[{"$f":"IF(OR(ISTEXT(RTD(\"cqg.rtd\",,\"OrderData\",\"\"&B133&\"\",\"\",\"OpenPosition\",\"\"&Display3!$D$3&\"\")),RTD(\"cqg.rtd\",,\"OrderData\",\"\"&B133&\"\",\"\",\"OpenPosition\",\"\"&Display3!$D$3&\"\")=0),A132+0.001,INT(A132)+1)","v":0.13300000000000009},{"$f":"(LEFT(B132,SEARCH(Display3!$G$2,B132)+LEN(Display3!$G$2)+2))&RIGHT(B132,LEN(B132)-(SEARCH(Display3!$G$2,B132)+LEN(Display3!$G$2)+2))-Display3!$J$3","v":"P.US.EPU1723750"}]
[{"$f":"IF(OR(ISTEXT(RTD(\"cqg.rtd\",,\"OrderData\",\"\"&B134&\"\",\"\",\"OpenPosition\",\"\"&Display3!$D$3&\"\")),RTD(\"cqg.rtd\",,\"OrderData\",\"\"&B134&\"\",\"\",\"OpenPosition\",\"\"&Display3!$D$3&\"\")=0),A133+0.001,INT(A133)+1)","v":0.13400000000000009},{"$f":"(LEFT(B133,SEARCH(Display3!$G$2,B133)+LEN(Display3!$G$2)+2))&RIGHT(B133,LEN(B133)-(SEARCH(Display3!$G$2,B133)+LEN(Display3!$G$2)+2))-Display3!$J$3","v":"P.US.EPU1723700"}]
[{"$f":"IF(OR(ISTEXT(RTD(\"cqg.rtd\",,\"OrderData\",\"\"&B135&\"\",\"\",\"OpenPosition\",\"\"&Display3!$D$3&\"\")),RTD(\"cqg.rtd\",,\"OrderData\",\"\"&B135&\"\",\"\",\"OpenPosition\",\"\"&Display3!$D$3&\"\")=0),A134+0.001,INT(A134)+1)","v":0.13500000000000009},{"$f":"(LEFT(B134,SEARCH(Display3!$G$2,B134)+LEN(Display3!$G$2)+2))&RIGHT(B134,LEN(B134)-(SEARCH(Display3!$G$2,B134)+LEN(Display3!$G$2)+2))-Display3!$J$3","v":"P.US.EPU1723650"}]
[{"$f":"IF(OR(ISTEXT(RTD(\"cqg.rtd\",,\"OrderData\",\"\"&B136&\"\",\"\",\"OpenPosition\",\"\"&Display3!$D$3&\"\")),RTD(\"cqg.rtd\",,\"OrderData\",\"\"&B136&\"\",\"\",\"OpenPosition\",\"\"&Display3!$D$3&\"\")=0),A135+0.001,INT(A135)+1)","v":0.13600000000000009},{"$f":"(LEFT(B135,SEARCH(Display3!$G$2,B135)+LEN(Display3!$G$2)+2))&RIGHT(B135,LEN(B135)-(SEARCH(Display3!$G$2,B135)+LEN(Display3!$G$2)+2))-Display3!$J$3","v":"P.US.EPU1723600"}]
[{"$f":"IF(OR(ISTEXT(RTD(\"cqg.rtd\",,\"OrderData\",\"\"&B137&\"\",\"\",\"OpenPosition\",\"\"&Display3!$D$3&\"\")),RTD(\"cqg.rtd\",,\"OrderData\",\"\"&B137&\"\",\"\",\"OpenPosition\",\"\"&Display3!$D$3&\"\")=0),A136+0.001,INT(A136)+1)","v":0.13700000000000009},{"$f":"(LEFT(B136,SEARCH(Display3!$G$2,B136)+LEN(Display3!$G$2)+2))&RIGHT(B136,LEN(B136)-(SEARCH(Display3!$G$2,B136)+LEN(Display3!$G$2)+2))-Display3!$J$3","v":"P.US.EPU1723550"}]
[{"$f":"IF(OR(ISTEXT(RTD(\"cqg.rtd\",,\"OrderData\",\"\"&B138&\"\",\"\",\"OpenPosition\",\"\"&Display3!$D$3&\"\")),RTD(\"cqg.rtd\",,\"OrderData\",\"\"&B138&\"\",\"\",\"OpenPosition\",\"\"&Display3!$D$3&\"\")=0),A137+0.001,INT(A137)+1)","v":0.13800000000000009},{"$f":"(LEFT(B137,SEARCH(Display3!$G$2,B137)+LEN(Display3!$G$2)+2))&RIGHT(B137,LEN(B137)-(SEARCH(Display3!$G$2,B137)+LEN(Display3!$G$2)+2))-Display3!$J$3","v":"P.US.EPU1723500"}]
[{"$f":"IF(OR(ISTEXT(RTD(\"cqg.rtd\",,\"OrderData\",\"\"&B139&\"\",\"\",\"OpenPosition\",\"\"&Display3!$D$3&\"\")),RTD(\"cqg.rtd\",,\"OrderData\",\"\"&B139&\"\",\"\",\"OpenPosition\",\"\"&Display3!$D$3&\"\")=0),A138+0.001,INT(A138)+1)","v":0.1390000000000001},{"$f":"(LEFT(B138,SEARCH(Display3!$G$2,B138)+LEN(Display3!$G$2)+2))&RIGHT(B138,LEN(B138)-(SEARCH(Display3!$G$2,B138)+LEN(Display3!$G$2)+2))-Display3!$J$3","v":"P.US.EPU1723450"}]
[{"$f":"IF(OR(ISTEXT(RTD(\"cqg.rtd\",,\"OrderData\",\"\"&B140&\"\",\"\",\"OpenPosition\",\"\"&Display3!$D$3&\"\")),RTD(\"cqg.rtd\",,\"OrderData\",\"\"&B140&\"\",\"\",\"OpenPosition\",\"\"&Display3!$D$3&\"\")=0),A139+0.001,INT(A139)+1)","v":0.1400000000000001},{"$f":"(LEFT(B139,SEARCH(Display3!$G$2,B139)+LEN(Display3!$G$2)+2))&RIGHT(B139,LEN(B139)-(SEARCH(Display3!$G$2,B139)+LEN(Display3!$G$2)+2))-Display3!$J$3","v":"P.US.EPU1723400"}]
[{"$f":"IF(OR(ISTEXT(RTD(\"cqg.rtd\",,\"OrderData\",\"\"&B141&\"\",\"\",\"OpenPosition\",\"\"&Display3!$D$3&\"\")),RTD(\"cqg.rtd\",,\"OrderData\",\"\"&B141&\"\",\"\",\"OpenPosition\",\"\"&Display3!$D$3&\"\")=0),A140+0.001,INT(A140)+1)","v":0.1410000000000001},{"$f":"(LEFT(B140,SEARCH(Display3!$G$2,B140)+LEN(Display3!$G$2)+2))&RIGHT(B140,LEN(B140)-(SEARCH(Display3!$G$2,B140)+LEN(Display3!$G$2)+2))-Display3!$J$3","v":"P.US.EPU1723350"}]
[{"$f":"IF(OR(ISTEXT(RTD(\"cqg.rtd\",,\"OrderData\",\"\"&B142&\"\",\"\",\"OpenPosition\",\"\"&Display3!$D$3&\"\")),RTD(\"cqg.rtd\",,\"OrderData\",\"\"&B142&\"\",\"\",\"OpenPosition\",\"\"&Display3!$D$3&\"\")=0),A141+0.001,INT(A141)+1)","v":0.1420000000000001},{"$f":"(LEFT(B141,SEARCH(Display3!$G$2,B141)+LEN(Display3!$G$2)+2))&RIGHT(B141,LEN(B141)-(SEARCH(Display3!$G$2,B141)+LEN(Display3!$G$2)+2))-Display3!$J$3","v":"P.US.EPU1723300"}]
[{"$f":"IF(OR(ISTEXT(RTD(\"cqg.rtd\",,\"OrderData\",\"\"&B143&\"\",\"\",\"OpenPosition\",\"\"&Display3!$D$3&\"\")),RTD(\"cqg.rtd\",,\"OrderData\",\"\"&B143&\"\",\"\",\"OpenPosition\",\"\"&Display3!$D$3&\"\")=0),A142+0.001,INT(A142)+1)","v":0.1430000000000001},{"$f":"(LEFT(B142,SEARCH(Display3!$G$2,B142)+LEN(Display3!$G$2)+2))&RIGHT(B142,LEN(B142)-(SEARCH(Display3!$G$2,B142)+LEN(Display3!$G$2)+2))-Display3!$J$3","v":"P.US.EPU1723250"}]
[{"$f":"IF(OR(ISTEXT(RTD(\"cqg.rtd\",,\"OrderData\",\"\"&B144&\"\",\"\",\"OpenPosition\",\"\"&Display3!$D$3&\"\")),RTD(\"cqg.rtd\",,\"OrderData\",\"\"&B144&\"\",\"\",\"OpenPosition\",\"\"&Display3!$D$3&\"\")=0),A143+0.001,INT(A143)+1)","v":0.1440000000000001},{"$f":"(LEFT(B143,SEARCH(Display3!$G$2,B143)+LEN(Display3!$G$2)+2))&RIGHT(B143,LEN(B143)-(SEARCH(Display3!$G$2,B143)+LEN(Display3!$G$2)+2))-Display3!$J$3","v":"P.US.EPU1723200"}]
[{"$f":"IF(OR(ISTEXT(RTD(\"cqg.rtd\",,\"OrderData\",\"\"&B145&\"\",\"\",\"OpenPosition\",\"\"&Display3!$D$3&\"\")),RTD(\"cqg.rtd\",,\"OrderData\",\"\"&B145&\"\",\"\",\"OpenPosition\",\"\"&Display3!$D$3&\"\")=0),A144+0.001,INT(A144)+1)","v":0.1450000000000001},{"$f":"(LEFT(B144,SEARCH(Display3!$G$2,B144)+LEN(Display3!$G$2)+2))&RIGHT(B144,LEN(B144)-(SEARCH(Display3!$G$2,B144)+LEN(Display3!$G$2)+2))-Display3!$J$3","v":"P.US.EPU1723150"}]
[{"$f":"IF(OR(ISTEXT(RTD(\"cqg.rtd\",,\"OrderData\",\"\"&B146&\"\",\"\",\"OpenPosition\",\"\"&Display3!$D$3&\"\")),RTD(\"cqg.rtd\",,\"OrderData\",\"\"&B146&\"\",\"\",\"OpenPosition\",\"\"&Display3!$D$3&\"\")=0),A145+0.001,INT(A145)+1)","v":0.1460000000000001},{"$f":"(LEFT(B145,SEARCH(Display3!$G$2,B145)+LEN(Display3!$G$2)+2))&RIGHT(B145,LEN(B145)-(SEARCH(Display3!$G$2,B145)+LEN(Display3!$G$2)+2))-Display3!$J$3","v":"P.US.EPU1723100"}]
[{"$f":"IF(OR(ISTEXT(RTD(\"cqg.rtd\",,\"OrderData\",\"\"&B147&\"\",\"\",\"OpenPosition\",\"\"&Display3!$D$3&\"\")),RTD(\"cqg.rtd\",,\"OrderData\",\"\"&B147&\"\",\"\",\"OpenPosition\",\"\"&Display3!$D$3&\"\")=0),A146+0.001,INT(A146)+1)","v":0.1470000000000001},{"$f":"(LEFT(B146,SEARCH(Display3!$G$2,B146)+LEN(Display3!$G$2)+2))&RIGHT(B146,LEN(B146)-(SEARCH(Display3!$G$2,B146)+LEN(Display3!$G$2)+2))-Display3!$J$3","v":"P.US.EPU1723050"}]
[{"$f":"IF(OR(ISTEXT(RTD(\"cqg.rtd\",,\"OrderData\",\"\"&B148&\"\",\"\",\"OpenPosition\",\"\"&Display3!$D$3&\"\")),RTD(\"cqg.rtd\",,\"OrderData\",\"\"&B148&\"\",\"\",\"OpenPosition\",\"\"&Display3!$D$3&\"\")=0),A147+0.001,INT(A147)+1)","v":0.1480000000000001},{"$f":"(LEFT(B147,SEARCH(Display3!$G$2,B147)+LEN(Display3!$G$2)+2))&RIGHT(B147,LEN(B147)-(SEARCH(Display3!$G$2,B147)+LEN(Display3!$G$2)+2))-Display3!$J$3","v":"P.US.EPU1723000"}]
[{"$f":"IF(OR(ISTEXT(RTD(\"cqg.rtd\",,\"OrderData\",\"\"&B149&\"\",\"\",\"OpenPosition\",\"\"&Display3!$D$3&\"\")),RTD(\"cqg.rtd\",,\"OrderData\",\"\"&B149&\"\",\"\",\"OpenPosition\",\"\"&Display3!$D$3&\"\")=0),A148+0.001,INT(A148)+1)","v":0.1490000000000001},{"$f":"(LEFT(B148,SEARCH(Display3!$G$2,B148)+LEN(Display3!$G$2)+2))&RIGHT(B148,LEN(B148)-(SEARCH(Display3!$G$2,B148)+LEN(Display3!$G$2)+2))-Display3!$J$3","v":"P.US.EPU1722950"}]
[{"$f":"IF(OR(ISTEXT(RTD(\"cqg.rtd\",,\"OrderData\",\"\"&B150&\"\",\"\",\"OpenPosition\",\"\"&Display3!$D$3&\"\")),RTD(\"cqg.rtd\",,\"OrderData\",\"\"&B150&\"\",\"\",\"OpenPosition\",\"\"&Display3!$D$3&\"\")=0),A149+0.001,INT(A149)+1)","v":0.15000000000000011},{"$f":"(LEFT(B149,SEARCH(Display3!$G$2,B149)+LEN(Display3!$G$2)+2))&RIGHT(B149,LEN(B149)-(SEARCH(Display3!$G$2,B149)+LEN(Display3!$G$2)+2))-Display3!$J$3","v":"P.US.EPU1722900"}]
[{"$f":"IF(OR(ISTEXT(RTD(\"cqg.rtd\",,\"OrderData\",\"\"&B151&\"\",\"\",\"OpenPosition\",\"\"&Display3!$D$3&\"\")),RTD(\"cqg.rtd\",,\"OrderData\",\"\"&B151&\"\",\"\",\"OpenPosition\",\"\"&Display3!$D$3&\"\")=0),A150+0.001,INT(A150)+1)","v":0.15100000000000011},{"$f":"(LEFT(B150,SEARCH(Display3!$G$2,B150)+LEN(Display3!$G$2)+2))&RIGHT(B150,LEN(B150)-(SEARCH(Display3!$G$2,B150)+LEN(Display3!$G$2)+2))-Display3!$J$3","v":"P.US.EPU1722850"}]
[{"$f":"IF(OR(ISTEXT(RTD(\"cqg.rtd\",,\"OrderData\",\"\"&B152&\"\",\"\",\"OpenPosition\",\"\"&Display3!$D$3&\"\")),RTD(\"cqg.rtd\",,\"OrderData\",\"\"&B152&\"\",\"\",\"OpenPosition\",\"\"&Display3!$D$3&\"\")=0),A151+0.001,INT(A151)+1)","v":0.15200000000000011},{"$f":"(LEFT(B151,SEARCH(Display3!$G$2,B151)+LEN(Display3!$G$2)+2))&RIGHT(B151,LEN(B151)-(SEARCH(Display3!$G$2,B151)+LEN(Display3!$G$2)+2))-Display3!$J$3","v":"P.US.EPU1722800"}]
[{"$f":"IF(OR(ISTEXT(RTD(\"cqg.rtd\",,\"OrderData\",\"\"&B153&\"\",\"\",\"OpenPosition\",\"\"&Display3!$D$3&\"\")),RTD(\"cqg.rtd\",,\"OrderData\",\"\"&B153&\"\",\"\",\"OpenPosition\",\"\"&Display3!$D$3&\"\")=0),A152+0.001,INT(A152)+1)","v":0.15300000000000011},{"$f":"(LEFT(B152,SEARCH(Display3!$G$2,B152)+LEN(Display3!$G$2)+2))&RIGHT(B152,LEN(B152)-(SEARCH(Display3!$G$2,B152)+LEN(Display3!$G$2)+2))-Display3!$J$3","v":"P.US.EPU1722750"}]
[{"$f":"IF(OR(ISTEXT(RTD(\"cqg.rtd\",,\"OrderData\",\"\"&B154&\"\",\"\",\"OpenPosition\",\"\"&Display3!$D$3&\"\")),RTD(\"cqg.rtd\",,\"OrderData\",\"\"&B154&\"\",\"\",\"OpenPosition\",\"\"&Display3!$D$3&\"\")=0),A153+0.001,INT(A153)+1)","v":0.15400000000000011},{"$f":"(LEFT(B153,SEARCH(Display3!$G$2,B153)+LEN(Display3!$G$2)+2))&RIGHT(B153,LEN(B153)-(SEARCH(Display3!$G$2,B153)+LEN(Display3!$G$2)+2))-Display3!$J$3","v":"P.US.EPU1722700"}]
[{"$f":"IF(OR(ISTEXT(RTD(\"cqg.rtd\",,\"OrderData\",\"\"&B155&\"\",\"\",\"OpenPosition\",\"\"&Display3!$D$3&\"\")),RTD(\"cqg.rtd\",,\"OrderData\",\"\"&B155&\"\",\"\",\"OpenPosition\",\"\"&Display3!$D$3&\"\")=0),A154+0.001,INT(A154)+1)","v":0.15500000000000011},{"$f":"(LEFT(B154,SEARCH(Display3!$G$2,B154)+LEN(Display3!$G$2)+2))&RIGHT(B154,LEN(B154)-(SEARCH(Display3!$G$2,B154)+LEN(Display3!$G$2)+2))-Display3!$J$3","v":"P.US.EPU1722650"}]
[{"$f":"IF(OR(ISTEXT(RTD(\"cqg.rtd\",,\"OrderData\",\"\"&B156&\"\",\"\",\"OpenPosition\",\"\"&Display3!$D$3&\"\")),RTD(\"cqg.rtd\",,\"OrderData\",\"\"&B156&\"\",\"\",\"OpenPosition\",\"\"&Display3!$D$3&\"\")=0),A155+0.001,INT(A155)+1)","v":0.15600000000000011},{"$f":"(LEFT(B155,SEARCH(Display3!$G$2,B155)+LEN(Display3!$G$2)+2))&RIGHT(B155,LEN(B155)-(SEARCH(Display3!$G$2,B155)+LEN(Display3!$G$2)+2))-Display3!$J$3","v":"P.US.EPU1722600"}]
[{"$f":"IF(OR(ISTEXT(RTD(\"cqg.rtd\",,\"OrderData\",\"\"&B157&\"\",\"\",\"OpenPosition\",\"\"&Display3!$D$3&\"\")),RTD(\"cqg.rtd\",,\"OrderData\",\"\"&B157&\"\",\"\",\"OpenPosition\",\"\"&Display3!$D$3&\"\")=0),A156+0.001,INT(A156)+1)","v":0.15700000000000011},{"$f":"(LEFT(B156,SEARCH(Display3!$G$2,B156)+LEN(Display3!$G$2)+2))&RIGHT(B156,LEN(B156)-(SEARCH(Display3!$G$2,B156)+LEN(Display3!$G$2)+2))-Display3!$J$3","v":"P.US.EPU1722550"}]
[{"$f":"IF(OR(ISTEXT(RTD(\"cqg.rtd\",,\"OrderData\",\"\"&B158&\"\",\"\",\"OpenPosition\",\"\"&Display3!$D$3&\"\")),RTD(\"cqg.rtd\",,\"OrderData\",\"\"&B158&\"\",\"\",\"OpenPosition\",\"\"&Display3!$D$3&\"\")=0),A157+0.001,INT(A157)+1)","v":0.15800000000000011},{"$f":"(LEFT(B157,SEARCH(Display3!$G$2,B157)+LEN(Display3!$G$2)+2))&RIGHT(B157,LEN(B157)-(SEARCH(Display3!$G$2,B157)+LEN(Display3!$G$2)+2))-Display3!$J$3","v":"P.US.EPU1722500"}]
[{"$f":"IF(OR(ISTEXT(RTD(\"cqg.rtd\",,\"OrderData\",\"\"&B159&\"\",\"\",\"OpenPosition\",\"\"&Display3!$D$3&\"\")),RTD(\"cqg.rtd\",,\"OrderData\",\"\"&B159&\"\",\"\",\"OpenPosition\",\"\"&Display3!$D$3&\"\")=0),A158+0.001,INT(A158)+1)","v":0.15900000000000011},{"$f":"(LEFT(B158,SEARCH(Display3!$G$2,B158)+LEN(Display3!$G$2)+2))&RIGHT(B158,LEN(B158)-(SEARCH(Display3!$G$2,B158)+LEN(Display3!$G$2)+2))-Display3!$J$3","v":"P.US.EPU1722450"}]
[{"$f":"IF(OR(ISTEXT(RTD(\"cqg.rtd\",,\"OrderData\",\"\"&B160&\"\",\"\",\"OpenPosition\",\"\"&Display3!$D$3&\"\")),RTD(\"cqg.rtd\",,\"OrderData\",\"\"&B160&\"\",\"\",\"OpenPosition\",\"\"&Display3!$D$3&\"\")=0),A159+0.001,INT(A159)+1)","v":0.16000000000000011},{"$f":"(LEFT(B159,SEARCH(Display3!$G$2,B159)+LEN(Display3!$G$2)+2))&RIGHT(B159,LEN(B159)-(SEARCH(Display3!$G$2,B159)+LEN(Display3!$G$2)+2))-Display3!$J$3","v":"P.US.EPU1722400"}]
[{"$f":"IF(OR(ISTEXT(RTD(\"cqg.rtd\",,\"OrderData\",\"\"&B161&\"\",\"\",\"OpenPosition\",\"\"&Display3!$D$3&\"\")),RTD(\"cqg.rtd\",,\"OrderData\",\"\"&B161&\"\",\"\",\"OpenPosition\",\"\"&Display3!$D$3&\"\")=0),A160+0.001,INT(A160)+1)","v":0.16100000000000012},{"$f":"(LEFT(B160,SEARCH(Display3!$G$2,B160)+LEN(Display3!$G$2)+2))&RIGHT(B160,LEN(B160)-(SEARCH(Display3!$G$2,B160)+LEN(Display3!$G$2)+2))-Display3!$J$3","v":"P.US.EPU1722350"}]
[{"$f":"IFERROR(IF(OR(ISTEXT(RTD(\"cqg.rtd\",,\"OrderData\",\"\"&B162&\"\",\"\",\"OpenPosition\",\"\"&Display3!$D$3&\"\")),RTD(\"cqg.rtd\",,\"OrderData\",\"\"&B162&\"\",\"\",\"OpenPosition\",\"\"&Display3!$D$3&\"\")=0),A161+0.001,INT(A161)+1),A161)","v":0.16200000000000012},{"$f":"(LEFT(B163,SEARCH(Display3!$G$2,B163)+LEN(Display3!$G$2)+2))&RIGHT(B163,LEN(B163)-(SEARCH(Display3!$G$2,B163)+LEN(Display3!$G$2)+2))+Display3!$J$3","v":"C.US.EPZ1726350"}]
[{"$f":"IFERROR(IF(OR(ISTEXT(RTD(\"cqg.rtd\",,\"OrderData\",\"\"&B163&\"\",\"\",\"OpenPosition\",\"\"&Display3!$D$3&\"\")),RTD(\"cqg.rtd\",,\"OrderData\",\"\"&B163&\"\",\"\",\"OpenPosition\",\"\"&Display3!$D$3&\"\")=0),A162+0.001,INT(A162)+1),A162)","v":0.16300000000000012},{"$f":"(LEFT(B164,SEARCH(Display3!$G$2,B164)+LEN(Display3!$G$2)+2))&RIGHT(B164,LEN(B164)-(SEARCH(Display3!$G$2,B164)+LEN(Display3!$G$2)+2))+Display3!$J$3","v":"C.US.EPZ1726300"}]
[{"$f":"IFERROR(IF(OR(ISTEXT(RTD(\"cqg.rtd\",,\"OrderData\",\"\"&B164&\"\",\"\",\"OpenPosition\",\"\"&Display3!$D$3&\"\")),RTD(\"cqg.rtd\",,\"OrderData\",\"\"&B164&\"\",\"\",\"OpenPosition\",\"\"&Display3!$D$3&\"\")=0),A163+0.001,INT(A163)+1),A163)","v":0.16400000000000012},{"$f":"(LEFT(B165,SEARCH(Display3!$G$2,B165)+LEN(Display3!$G$2)+2))&RIGHT(B165,LEN(B165)-(SEARCH(Display3!$G$2,B165)+LEN(Display3!$G$2)+2))+Display3!$J$3","v":"C.US.EPZ1726250"}]
[{"$f":"IFERROR(IF(OR(ISTEXT(RTD(\"cqg.rtd\",,\"OrderData\",\"\"&B165&\"\",\"\",\"OpenPosition\",\"\"&Display3!$D$3&\"\")),RTD(\"cqg.rtd\",,\"OrderData\",\"\"&B165&\"\",\"\",\"OpenPosition\",\"\"&Display3!$D$3&\"\")=0),A164+0.001,INT(A164)+1),A164)","v":0.16500000000000012},{"$f":"(LEFT(B166,SEARCH(Display3!$G$2,B166)+LEN(Display3!$G$2)+2))&RIGHT(B166,LEN(B166)-(SEARCH(Display3!$G$2,B166)+LEN(Display3!$G$2)+2))+Display3!$J$3","v":"C.US.EPZ1726200"}]
[{"$f":"IFERROR(IF(OR(ISTEXT(RTD(\"cqg.rtd\",,\"OrderData\",\"\"&B166&\"\",\"\",\"OpenPosition\",\"\"&Display3!$D$3&\"\")),RTD(\"cqg.rtd\",,\"OrderData\",\"\"&B166&\"\",\"\",\"OpenPosition\",\"\"&Display3!$D$3&\"\")=0),A165+0.001,INT(A165)+1),A165)","v":0.16600000000000012},{"$f":"(LEFT(B167,SEARCH(Display3!$G$2,B167)+LEN(Display3!$G$2)+2))&RIGHT(B167,LEN(B167)-(SEARCH(Display3!$G$2,B167)+LEN(Display3!$G$2)+2))+Display3!$J$3","v":"C.US.EPZ1726150"}]
[{"$f":"IFERROR(IF(OR(ISTEXT(RTD(\"cqg.rtd\",,\"OrderData\",\"\"&B167&\"\",\"\",\"OpenPosition\",\"\"&Display3!$D$3&\"\")),RTD(\"cqg.rtd\",,\"OrderData\",\"\"&B167&\"\",\"\",\"OpenPosition\",\"\"&Display3!$D$3&\"\")=0),A166+0.001,INT(A166)+1),A166)","v":0.16700000000000012},{"$f":"(LEFT(B168,SEARCH(Display3!$G$2,B168)+LEN(Display3!$G$2)+2))&RIGHT(B168,LEN(B168)-(SEARCH(Display3!$G$2,B168)+LEN(Display3!$G$2)+2))+Display3!$J$3","v":"C.US.EPZ1726100"}]
[{"$f":"IFERROR(IF(OR(ISTEXT(RTD(\"cqg.rtd\",,\"OrderData\",\"\"&B168&\"\",\"\",\"OpenPosition\",\"\"&Display3!$D$3&\"\")),RTD(\"cqg.rtd\",,\"OrderData\",\"\"&B168&\"\",\"\",\"OpenPosition\",\"\"&Display3!$D$3&\"\")=0),A167+0.001,INT(A167)+1),A167)","v":0.16800000000000012},{"$f":"(LEFT(B169,SEARCH(Display3!$G$2,B169)+LEN(Display3!$G$2)+2))&RIGHT(B169,LEN(B169)-(SEARCH(Display3!$G$2,B169)+LEN(Display3!$G$2)+2))+Display3!$J$3","v":"C.US.EPZ1726050"}]
[{"$f":"IFERROR(IF(OR(ISTEXT(RTD(\"cqg.rtd\",,\"OrderData\",\"\"&B169&\"\",\"\",\"OpenPosition\",\"\"&Display3!$D$3&\"\")),RTD(\"cqg.rtd\",,\"OrderData\",\"\"&B169&\"\",\"\",\"OpenPosition\",\"\"&Display3!$D$3&\"\")=0),A168+0.001,INT(A168)+1),A168)","v":0.16900000000000012},{"$f":"(LEFT(B170,SEARCH(Display3!$G$2,B170)+LEN(Display3!$G$2)+2))&RIGHT(B170,LEN(B170)-(SEARCH(Display3!$G$2,B170)+LEN(Display3!$G$2)+2))+Display3!$J$3","v":"C.US.EPZ1726000"}]
[{"$f":"IFERROR(IF(OR(ISTEXT(RTD(\"cqg.rtd\",,\"OrderData\",\"\"&B170&\"\",\"\",\"OpenPosition\",\"\"&Display3!$D$3&\"\")),RTD(\"cqg.rtd\",,\"OrderData\",\"\"&B170&\"\",\"\",\"OpenPosition\",\"\"&Display3!$D$3&\"\")=0),A169+0.001,INT(A169)+1),A169)","v":0.17000000000000012},{"$f":"(LEFT(B171,SEARCH(Display3!$G$2,B171)+LEN(Display3!$G$2)+2))&RIGHT(B171,LEN(B171)-(SEARCH(Display3!$G$2,B171)+LEN(Display3!$G$2)+2))+Display3!$J$3","v":"C.US.EPZ1725950"}]
[{"$f":"IFERROR(IF(OR(ISTEXT(RTD(\"cqg.rtd\",,\"OrderData\",\"\"&B171&\"\",\"\",\"OpenPosition\",\"\"&Display3!$D$3&\"\")),RTD(\"cqg.rtd\",,\"OrderData\",\"\"&B171&\"\",\"\",\"OpenPosition\",\"\"&Display3!$D$3&\"\")=0),A170+0.001,INT(A170)+1),A170)","v":0.17100000000000012},{"$f":"(LEFT(B172,SEARCH(Display3!$G$2,B172)+LEN(Display3!$G$2)+2))&RIGHT(B172,LEN(B172)-(SEARCH(Display3!$G$2,B172)+LEN(Display3!$G$2)+2))+Display3!$J$3","v":"C.US.EPZ1725900"}]
[{"$f":"IFERROR(IF(OR(ISTEXT(RTD(\"cqg.rtd\",,\"OrderData\",\"\"&B172&\"\",\"\",\"OpenPosition\",\"\"&Display3!$D$3&\"\")),RTD(\"cqg.rtd\",,\"OrderData\",\"\"&B172&\"\",\"\",\"OpenPosition\",\"\"&Display3!$D$3&\"\")=0),A171+0.001,INT(A171)+1),A171)","v":0.17200000000000013},{"$f":"(LEFT(B173,SEARCH(Display3!$G$2,B173)+LEN(Display3!$G$2)+2))&RIGHT(B173,LEN(B173)-(SEARCH(Display3!$G$2,B173)+LEN(Display3!$G$2)+2))+Display3!$J$3","v":"C.US.EPZ1725850"}]
[{"$f":"IFERROR(IF(OR(ISTEXT(RTD(\"cqg.rtd\",,\"OrderData\",\"\"&B173&\"\",\"\",\"OpenPosition\",\"\"&Display3!$D$3&\"\")),RTD(\"cqg.rtd\",,\"OrderData\",\"\"&B173&\"\",\"\",\"OpenPosition\",\"\"&Display3!$D$3&\"\")=0),A172+0.001,INT(A172)+1),A172)","v":0.17300000000000013},{"$f":"(LEFT(B174,SEARCH(Display3!$G$2,B174)+LEN(Display3!$G$2)+2))&RIGHT(B174,LEN(B174)-(SEARCH(Display3!$G$2,B174)+LEN(Display3!$G$2)+2))+Display3!$J$3","v":"C.US.EPZ1725800"}]
[{"$f":"IFERROR(IF(OR(ISTEXT(RTD(\"cqg.rtd\",,\"OrderData\",\"\"&B174&\"\",\"\",\"OpenPosition\",\"\"&Display3!$D$3&\"\")),RTD(\"cqg.rtd\",,\"OrderData\",\"\"&B174&\"\",\"\",\"OpenPosition\",\"\"&Display3!$D$3&\"\")=0),A173+0.001,INT(A173)+1),A173)","v":0.17400000000000013},{"$f":"(LEFT(B175,SEARCH(Display3!$G$2,B175)+LEN(Display3!$G$2)+2))&RIGHT(B175,LEN(B175)-(SEARCH(Display3!$G$2,B175)+LEN(Display3!$G$2)+2))+Display3!$J$3","v":"C.US.EPZ1725750"}]
[{"$f":"IFERROR(IF(OR(ISTEXT(RTD(\"cqg.rtd\",,\"OrderData\",\"\"&B175&\"\",\"\",\"OpenPosition\",\"\"&Display3!$D$3&\"\")),RTD(\"cqg.rtd\",,\"OrderData\",\"\"&B175&\"\",\"\",\"OpenPosition\",\"\"&Display3!$D$3&\"\")=0),A174+0.001,INT(A174)+1),A174)","v":0.17500000000000013},{"$f":"(LEFT(B176,SEARCH(Display3!$G$2,B176)+LEN(Display3!$G$2)+2))&RIGHT(B176,LEN(B176)-(SEARCH(Display3!$G$2,B176)+LEN(Display3!$G$2)+2))+Display3!$J$3","v":"C.US.EPZ1725700"}]
[{"$f":"IFERROR(IF(OR(ISTEXT(RTD(\"cqg.rtd\",,\"OrderData\",\"\"&B176&\"\",\"\",\"OpenPosition\",\"\"&Display3!$D$3&\"\")),RTD(\"cqg.rtd\",,\"OrderData\",\"\"&B176&\"\",\"\",\"OpenPosition\",\"\"&Display3!$D$3&\"\")=0),A175+0.001,INT(A175)+1),A175)","v":0.17600000000000013},{"$f":"(LEFT(B177,SEARCH(Display3!$G$2,B177)+LEN(Display3!$G$2)+2))&RIGHT(B177,LEN(B177)-(SEARCH(Display3!$G$2,B177)+LEN(Display3!$G$2)+2))+Display3!$J$3","v":"C.US.EPZ1725650"}]
[{"$f":"IFERROR(IF(OR(ISTEXT(RTD(\"cqg.rtd\",,\"OrderData\",\"\"&B177&\"\",\"\",\"OpenPosition\",\"\"&Display3!$D$3&\"\")),RTD(\"cqg.rtd\",,\"OrderData\",\"\"&B177&\"\",\"\",\"OpenPosition\",\"\"&Display3!$D$3&\"\")=0),A176+0.001,INT(A176)+1),A176)","v":0.17700000000000013},{"$f":"(LEFT(B178,SEARCH(Display3!$G$2,B178)+LEN(Display3!$G$2)+2))&RIGHT(B178,LEN(B178)-(SEARCH(Display3!$G$2,B178)+LEN(Display3!$G$2)+2))+Display3!$J$3","v":"C.US.EPZ1725600"}]
[{"$f":"IFERROR(IF(OR(ISTEXT(RTD(\"cqg.rtd\",,\"OrderData\",\"\"&B178&\"\",\"\",\"OpenPosition\",\"\"&Display3!$D$3&\"\")),RTD(\"cqg.rtd\",,\"OrderData\",\"\"&B178&\"\",\"\",\"OpenPosition\",\"\"&Display3!$D$3&\"\")=0),A177+0.001,INT(A177)+1),A177)","v":0.17800000000000013},{"$f":"(LEFT(B179,SEARCH(Display3!$G$2,B179)+LEN(Display3!$G$2)+2))&RIGHT(B179,LEN(B179)-(SEARCH(Display3!$G$2,B179)+LEN(Display3!$G$2)+2))+Display3!$J$3","v":"C.US.EPZ1725550"}]
[{"$f":"IFERROR(IF(OR(ISTEXT(RTD(\"cqg.rtd\",,\"OrderData\",\"\"&B179&\"\",\"\",\"OpenPosition\",\"\"&Display3!$D$3&\"\")),RTD(\"cqg.rtd\",,\"OrderData\",\"\"&B179&\"\",\"\",\"OpenPosition\",\"\"&Display3!$D$3&\"\")=0),A178+0.001,INT(A178)+1),A178)","v":0.17900000000000013},{"$f":"(LEFT(B180,SEARCH(Display3!$G$2,B180)+LEN(Display3!$G$2)+2))&RIGHT(B180,LEN(B180)-(SEARCH(Display3!$G$2,B180)+LEN(Display3!$G$2)+2))+Display3!$J$3","v":"C.US.EPZ1725500"}]
[{"$f":"IFERROR(IF(OR(ISTEXT(RTD(\"cqg.rtd\",,\"OrderData\",\"\"&B180&\"\",\"\",\"OpenPosition\",\"\"&Display3!$D$3&\"\")),RTD(\"cqg.rtd\",,\"OrderData\",\"\"&B180&\"\",\"\",\"OpenPosition\",\"\"&Display3!$D$3&\"\")=0),A179+0.001,INT(A179)+1),A179)","v":0.18000000000000013},{"$f":"(LEFT(B181,SEARCH(Display3!$G$2,B181)+LEN(Display3!$G$2)+2))&RIGHT(B181,LEN(B181)-(SEARCH(Display3!$G$2,B181)+LEN(Display3!$G$2)+2))+Display3!$J$3","v":"C.US.EPZ1725450"}]
[{"$f":"IFERROR(IF(OR(ISTEXT(RTD(\"cqg.rtd\",,\"OrderData\",\"\"&B181&\"\",\"\",\"OpenPosition\",\"\"&Display3!$D$3&\"\")),RTD(\"cqg.rtd\",,\"OrderData\",\"\"&B181&\"\",\"\",\"OpenPosition\",\"\"&Display3!$D$3&\"\")=0),A180+0.001,INT(A180)+1),A180)","v":0.18100000000000013},{"$f":"(LEFT(B182,SEARCH(Display3!$G$2,B182)+LEN(Display3!$G$2)+2))&RIGHT(B182,LEN(B182)-(SEARCH(Display3!$G$2,B182)+LEN(Display3!$G$2)+2))+Display3!$J$3","v":"C.US.EPZ1725400"}]
[{"$f":"IFERROR(IF(OR(ISTEXT(RTD(\"cqg.rtd\",,\"OrderData\",\"\"&B182&\"\",\"\",\"OpenPosition\",\"\"&Display3!$D$3&\"\")),RTD(\"cqg.rtd\",,\"OrderData\",\"\"&B182&\"\",\"\",\"OpenPosition\",\"\"&Display3!$D$3&\"\")=0),A181+0.001,INT(A181)+1),A181)","v":0.18200000000000013},{"$f":"(LEFT(B183,SEARCH(Display3!$G$2,B183)+LEN(Display3!$G$2)+2))&RIGHT(B183,LEN(B183)-(SEARCH(Display3!$G$2,B183)+LEN(Display3!$G$2)+2))+Display3!$J$3","v":"C.US.EPZ1725350"}]
[{"$f":"IFERROR(IF(OR(ISTEXT(RTD(\"cqg.rtd\",,\"OrderData\",\"\"&B183&\"\",\"\",\"OpenPosition\",\"\"&Display3!$D$3&\"\")),RTD(\"cqg.rtd\",,\"OrderData\",\"\"&B183&\"\",\"\",\"OpenPosition\",\"\"&Display3!$D$3&\"\")=0),A182+0.001,INT(A182)+1),A182)","v":0.18300000000000013},{"$f":"(LEFT(B184,SEARCH(Display3!$G$2,B184)+LEN(Display3!$G$2)+2))&RIGHT(B184,LEN(B184)-(SEARCH(Display3!$G$2,B184)+LEN(Display3!$G$2)+2))+Display3!$J$3","v":"C.US.EPZ1725300"}]
[{"$f":"IFERROR(IF(OR(ISTEXT(RTD(\"cqg.rtd\",,\"OrderData\",\"\"&B184&\"\",\"\",\"OpenPosition\",\"\"&Display3!$D$3&\"\")),RTD(\"cqg.rtd\",,\"OrderData\",\"\"&B184&\"\",\"\",\"OpenPosition\",\"\"&Display3!$D$3&\"\")=0),A183+0.001,INT(A183)+1),A183)","v":0.18400000000000014},{"$f":"(LEFT(B185,SEARCH(Display3!$G$2,B185)+LEN(Display3!$G$2)+2))&RIGHT(B185,LEN(B185)-(SEARCH(Display3!$G$2,B185)+LEN(Display3!$G$2)+2))+Display3!$J$3","v":"C.US.EPZ1725250"}]
[{"$f":"IFERROR(IF(OR(ISTEXT(RTD(\"cqg.rtd\",,\"OrderData\",\"\"&B185&\"\",\"\",\"OpenPosition\",\"\"&Display3!$D$3&\"\")),RTD(\"cqg.rtd\",,\"OrderData\",\"\"&B185&\"\",\"\",\"OpenPosition\",\"\"&Display3!$D$3&\"\")=0),A184+0.001,INT(A184)+1),A184)","v":0.18500000000000014},{"$f":"(LEFT(B186,SEARCH(Display3!$G$2,B186)+LEN(Display3!$G$2)+2))&RIGHT(B186,LEN(B186)-(SEARCH(Display3!$G$2,B186)+LEN(Display3!$G$2)+2))+Display3!$J$3","v":"C.US.EPZ1725200"}]
[{"$f":"IFERROR(IF(OR(ISTEXT(RTD(\"cqg.rtd\",,\"OrderData\",\"\"&B186&\"\",\"\",\"OpenPosition\",\"\"&Display3!$D$3&\"\")),RTD(\"cqg.rtd\",,\"OrderData\",\"\"&B186&\"\",\"\",\"OpenPosition\",\"\"&Display3!$D$3&\"\")=0),A185+0.001,INT(A185)+1),A185)","v":0.18600000000000014},{"$f":"(LEFT(B187,SEARCH(Display3!$G$2,B187)+LEN(Display3!$G$2)+2))&RIGHT(B187,LEN(B187)-(SEARCH(Display3!$G$2,B187)+LEN(Display3!$G$2)+2))+Display3!$J$3","v":"C.US.EPZ1725150"}]
[{"$f":"IFERROR(IF(OR(ISTEXT(RTD(\"cqg.rtd\",,\"OrderData\",\"\"&B187&\"\",\"\",\"OpenPosition\",\"\"&Display3!$D$3&\"\")),RTD(\"cqg.rtd\",,\"OrderData\",\"\"&B187&\"\",\"\",\"OpenPosition\",\"\"&Display3!$D$3&\"\")=0),A186+0.001,INT(A186)+1),A186)","v":0.18700000000000014},{"$f":"(LEFT(B188,SEARCH(Display3!$G$2,B188)+LEN(Display3!$G$2)+2))&RIGHT(B188,LEN(B188)-(SEARCH(Display3!$G$2,B188)+LEN(Display3!$G$2)+2))+Display3!$J$3","v":"C.US.EPZ1725100"}]
[{"$f":"IFERROR(IF(OR(ISTEXT(RTD(\"cqg.rtd\",,\"OrderData\",\"\"&B188&\"\",\"\",\"OpenPosition\",\"\"&Display3!$D$3&\"\")),RTD(\"cqg.rtd\",,\"OrderData\",\"\"&B188&\"\",\"\",\"OpenPosition\",\"\"&Display3!$D$3&\"\")=0),A187+0.001,INT(A187)+1),A187)","v":0.18800000000000014},{"$f":"(LEFT(B189,SEARCH(Display3!$G$2,B189)+LEN(Display3!$G$2)+2))&RIGHT(B189,LEN(B189)-(SEARCH(Display3!$G$2,B189)+LEN(Display3!$G$2)+2))+Display3!$J$3","v":"C.US.EPZ1725050"}]
[{"$f":"IFERROR(IF(OR(ISTEXT(RTD(\"cqg.rtd\",,\"OrderData\",\"\"&B189&\"\",\"\",\"OpenPosition\",\"\"&Display3!$D$3&\"\")),RTD(\"cqg.rtd\",,\"OrderData\",\"\"&B189&\"\",\"\",\"OpenPosition\",\"\"&Display3!$D$3&\"\")=0),A188+0.001,INT(A188)+1),A188)","v":0.18900000000000014},{"$f":"(LEFT(B190,SEARCH(Display3!$G$2,B190)+LEN(Display3!$G$2)+2))&RIGHT(B190,LEN(B190)-(SEARCH(Display3!$G$2,B190)+LEN(Display3!$G$2)+2))+Display3!$J$3","v":"C.US.EPZ1725000"}]
[{"$f":"IFERROR(IF(OR(ISTEXT(RTD(\"cqg.rtd\",,\"OrderData\",\"\"&B190&\"\",\"\",\"OpenPosition\",\"\"&Display3!$D$3&\"\")),RTD(\"cqg.rtd\",,\"OrderData\",\"\"&B190&\"\",\"\",\"OpenPosition\",\"\"&Display3!$D$3&\"\")=0),A189+0.001,INT(A189)+1),A189)","v":0.19000000000000014},{"$f":"(LEFT(B191,SEARCH(Display3!$G$2,B191)+LEN(Display3!$G$2)+2))&RIGHT(B191,LEN(B191)-(SEARCH(Display3!$G$2,B191)+LEN(Display3!$G$2)+2))+Display3!$J$3","v":"C.US.EPZ1724950"}]
[{"$f":"IFERROR(IF(OR(ISTEXT(RTD(\"cqg.rtd\",,\"OrderData\",\"\"&B191&\"\",\"\",\"OpenPosition\",\"\"&Display3!$D$3&\"\")),RTD(\"cqg.rtd\",,\"OrderData\",\"\"&B191&\"\",\"\",\"OpenPosition\",\"\"&Display3!$D$3&\"\")=0),A190+0.001,INT(A190)+1),A190)","v":0.19100000000000014},{"$f":"(LEFT(B192,SEARCH(Display3!$G$2,B192)+LEN(Display3!$G$2)+2))&RIGHT(B192,LEN(B192)-(SEARCH(Display3!$G$2,B192)+LEN(Display3!$G$2)+2))+Display3!$J$3","v":"C.US.EPZ1724900"}]
[{"$f":"IFERROR(IF(OR(ISTEXT(RTD(\"cqg.rtd\",,\"OrderData\",\"\"&B192&\"\",\"\",\"OpenPosition\",\"\"&Display3!$D$3&\"\")),RTD(\"cqg.rtd\",,\"OrderData\",\"\"&B192&\"\",\"\",\"OpenPosition\",\"\"&Display3!$D$3&\"\")=0),A191+0.001,INT(A191)+1),A191)","v":0.19200000000000014},{"$f":"(LEFT(B193,SEARCH(Display3!$G$2,B193)+LEN(Display3!$G$2)+2))&RIGHT(B193,LEN(B193)-(SEARCH(Display3!$G$2,B193)+LEN(Display3!$G$2)+2))+Display3!$J$3","v":"C.US.EPZ1724850"}]
[{"$f":"IFERROR(IF(OR(ISTEXT(RTD(\"cqg.rtd\",,\"OrderData\",\"\"&B193&\"\",\"\",\"OpenPosition\",\"\"&Display3!$D$3&\"\")),RTD(\"cqg.rtd\",,\"OrderData\",\"\"&B193&\"\",\"\",\"OpenPosition\",\"\"&Display3!$D$3&\"\")=0),A192+0.001,INT(A192)+1),A192)","v":0.19300000000000014},{"$f":"(LEFT(B194,SEARCH(Display3!$G$2,B194)+LEN(Display3!$G$2)+2))&RIGHT(B194,LEN(B194)-(SEARCH(Display3!$G$2,B194)+LEN(Display3!$G$2)+2))+Display3!$J$3","v":"C.US.EPZ1724800"}]
[{"$f":"IFERROR(IF(OR(ISTEXT(RTD(\"cqg.rtd\",,\"OrderData\",\"\"&B194&\"\",\"\",\"OpenPosition\",\"\"&Display3!$D$3&\"\")),RTD(\"cqg.rtd\",,\"OrderData\",\"\"&B194&\"\",\"\",\"OpenPosition\",\"\"&Display3!$D$3&\"\")=0),A193+0.001,INT(A193)+1),A193)","v":0.19400000000000014},{"$f":"(LEFT(B195,SEARCH(Display3!$G$2,B195)+LEN(Display3!$G$2)+2))&RIGHT(B195,LEN(B195)-(SEARCH(Display3!$G$2,B195)+LEN(Display3!$G$2)+2))+Display3!$J$3","v":"C.US.EPZ1724750"}]
[{"$f":"IFERROR(IF(OR(ISTEXT(RTD(\"cqg.rtd\",,\"OrderData\",\"\"&B195&\"\",\"\",\"OpenPosition\",\"\"&Display3!$D$3&\"\")),RTD(\"cqg.rtd\",,\"OrderData\",\"\"&B195&\"\",\"\",\"OpenPosition\",\"\"&Display3!$D$3&\"\")=0),A194+0.001,INT(A194)+1),A194)","v":0.19500000000000015},{"$f":"(LEFT(B196,SEARCH(Display3!$G$2,B196)+LEN(Display3!$G$2)+2))&RIGHT(B196,LEN(B196)-(SEARCH(Display3!$G$2,B196)+LEN(Display3!$G$2)+2))+Display3!$J$3","v":"C.US.EPZ1724700"}]
[{"$f":"IFERROR(IF(OR(ISTEXT(RTD(\"cqg.rtd\",,\"OrderData\",\"\"&B196&\"\",\"\",\"OpenPosition\",\"\"&Display3!$D$3&\"\")),RTD(\"cqg.rtd\",,\"OrderData\",\"\"&B196&\"\",\"\",\"OpenPosition\",\"\"&Display3!$D$3&\"\")=0),A195+0.001,INT(A195)+1),A195)","v":0.19600000000000015},{"$f":"(LEFT(B197,SEARCH(Display3!$G$2,B197)+LEN(Display3!$G$2)+2))&RIGHT(B197,LEN(B197)-(SEARCH(Display3!$G$2,B197)+LEN(Display3!$G$2)+2))+Display3!$J$3","v":"C.US.EPZ1724650"}]
[{"$f":"IFERROR(IF(OR(ISTEXT(RTD(\"cqg.rtd\",,\"OrderData\",\"\"&B197&\"\",\"\",\"OpenPosition\",\"\"&Display3!$D$3&\"\")),RTD(\"cqg.rtd\",,\"OrderData\",\"\"&B197&\"\",\"\",\"OpenPosition\",\"\"&Display3!$D$3&\"\")=0),A196+0.001,INT(A196)+1),A196)","v":0.19700000000000015},{"$f":"(LEFT(B198,SEARCH(Display3!$G$2,B198)+LEN(Display3!$G$2)+2))&RIGHT(B198,LEN(B198)-(SEARCH(Display3!$G$2,B198)+LEN(Display3!$G$2)+2))+Display3!$J$3","v":"C.US.EPZ1724600"}]
[{"$f":"IFERROR(IF(OR(ISTEXT(RTD(\"cqg.rtd\",,\"OrderData\",\"\"&B198&\"\",\"\",\"OpenPosition\",\"\"&Display3!$D$3&\"\")),RTD(\"cqg.rtd\",,\"OrderData\",\"\"&B198&\"\",\"\",\"OpenPosition\",\"\"&Display3!$D$3&\"\")=0),A197+0.001,INT(A197)+1),A197)","v":0.19800000000000015},{"$f":"(LEFT(B199,SEARCH(Display3!$G$2,B199)+LEN(Display3!$G$2)+2))&RIGHT(B199,LEN(B199)-(SEARCH(Display3!$G$2,B199)+LEN(Display3!$G$2)+2))+Display3!$J$3","v":"C.US.EPZ1724550"}]
[{"$f":"IFERROR(IF(OR(ISTEXT(RTD(\"cqg.rtd\",,\"OrderData\",\"\"&B199&\"\",\"\",\"OpenPosition\",\"\"&Display3!$D$3&\"\")),RTD(\"cqg.rtd\",,\"OrderData\",\"\"&B199&\"\",\"\",\"OpenPosition\",\"\"&Display3!$D$3&\"\")=0),A198+0.001,INT(A198)+1),A198)","v":0.19900000000000015},{"$f":"(LEFT(B200,SEARCH(Display3!$G$2,B200)+LEN(Display3!$G$2)+2))&RIGHT(B200,LEN(B200)-(SEARCH(Display3!$G$2,B200)+LEN(Display3!$G$2)+2))+Display3!$J$3","v":"C.US.EPZ1724500"}]
[{"$f":"IFERROR(IF(OR(ISTEXT(RTD(\"cqg.rtd\",,\"OrderData\",\"\"&B200&\"\",\"\",\"OpenPosition\",\"\"&Display3!$D$3&\"\")),RTD(\"cqg.rtd\",,\"OrderData\",\"\"&B200&\"\",\"\",\"OpenPosition\",\"\"&Display3!$D$3&\"\")=0),A199+0.001,INT(A199)+1),A199)","v":0.20000000000000015},{"$f":"(LEFT(B201,SEARCH(Display3!$G$2,B201)+LEN(Display3!$G$2)+2))&RIGHT(B201,LEN(B201)-(SEARCH(Display3!$G$2,B201)+LEN(Display3!$G$2)+2))+Display3!$J$3","v":"C.US.EPZ1724450"}]
[{"$f":"IFERROR(IF(OR(ISTEXT(RTD(\"cqg.rtd\",,\"OrderData\",\"\"&B201&\"\",\"\",\"OpenPosition\",\"\"&Display3!$D$3&\"\")),RTD(\"cqg.rtd\",,\"OrderData\",\"\"&B201&\"\",\"\",\"OpenPosition\",\"\"&Display3!$D$3&\"\")=0),A200+0.001,INT(A200)+1),A200)","v":0.20100000000000015},{"$f":"(LEFT(B202,SEARCH(Display3!$G$2,B202)+LEN(Display3!$G$2)+2))&RIGHT(B202,LEN(B202)-(SEARCH(Display3!$G$2,B202)+LEN(Display3!$G$2)+2))+Display3!$J$3","v":"C.US.EPZ1724400"}]
[{"$f":"IFERROR(IF(OR(ISTEXT(RTD(\"cqg.rtd\",,\"OrderData\",\"\"&B202&\"\",\"\",\"OpenPosition\",\"\"&Display3!$D$3&\"\")),RTD(\"cqg.rtd\",,\"OrderData\",\"\"&B202&\"\",\"\",\"OpenPosition\",\"\"&Display3!$D$3&\"\")=0),A201+0.001,INT(A201)+1),A201)","v":0.20200000000000015},{"$f":"RTD(\"cqg.rtd\", ,\"ContractData\", \"C.US.\"&Display3!$G$2&Display3!$H$3&\"\", \"Symbol\",, \"T\")","v":"C.US.EPZ1724350"}]
[{"$f":"IFERROR(IF(OR(ISTEXT(RTD(\"cqg.rtd\",,\"OrderData\",\"\"&B203&\"\",\"\",\"OpenPosition\",\"\"&Display3!$D$3&\"\")),RTD(\"cqg.rtd\",,\"OrderData\",\"\"&B203&\"\",\"\",\"OpenPosition\",\"\"&Display3!$D$3&\"\")=0),A202+0.001,INT(A202)+1),A202)","v":0.20300000000000015},{"$f":"(LEFT(B202,SEARCH(Display3!$G$2,B202)+LEN(Display3!$G$2)+2))&RIGHT(B202,LEN(B202)-(SEARCH(Display3!$G$2,B202)+LEN(Display3!$G$2)+2))-Display3!$J$3","v":"C.US.EPZ1724300"}]
[{"$f":"IFERROR(IF(OR(ISTEXT(RTD(\"cqg.rtd\",,\"OrderData\",\"\"&B204&\"\",\"\",\"OpenPosition\",\"\"&Display3!$D$3&\"\")),RTD(\"cqg.rtd\",,\"OrderData\",\"\"&B204&\"\",\"\",\"OpenPosition\",\"\"&Display3!$D$3&\"\")=0),A203+0.001,INT(A203)+1),A203)","v":0.20400000000000015},{"$f":"(LEFT(B203,SEARCH(Display3!$G$2,B203)+LEN(Display3!$G$2)+2))&RIGHT(B203,LEN(B203)-(SEARCH(Display3!$G$2,B203)+LEN(Display3!$G$2)+2))-Display3!$J$3","v":"C.US.EPZ1724250"}]
[{"$f":"IFERROR(IF(OR(ISTEXT(RTD(\"cqg.rtd\",,\"OrderData\",\"\"&B205&\"\",\"\",\"OpenPosition\",\"\"&Display3!$D$3&\"\")),RTD(\"cqg.rtd\",,\"OrderData\",\"\"&B205&\"\",\"\",\"OpenPosition\",\"\"&Display3!$D$3&\"\")=0),A204+0.001,INT(A204)+1),A204)","v":0.20500000000000015},{"$f":"(LEFT(B204,SEARCH(Display3!$G$2,B204)+LEN(Display3!$G$2)+2))&RIGHT(B204,LEN(B204)-(SEARCH(Display3!$G$2,B204)+LEN(Display3!$G$2)+2))-Display3!$J$3","v":"C.US.EPZ1724200"}]
[{"$f":"IFERROR(IF(OR(ISTEXT(RTD(\"cqg.rtd\",,\"OrderData\",\"\"&B206&\"\",\"\",\"OpenPosition\",\"\"&Display3!$D$3&\"\")),RTD(\"cqg.rtd\",,\"OrderData\",\"\"&B206&\"\",\"\",\"OpenPosition\",\"\"&Display3!$D$3&\"\")=0),A205+0.001,INT(A205)+1),A205)","v":0.20600000000000016},{"$f":"(LEFT(B205,SEARCH(Display3!$G$2,B205)+LEN(Display3!$G$2)+2))&RIGHT(B205,LEN(B205)-(SEARCH(Display3!$G$2,B205)+LEN(Display3!$G$2)+2))-Display3!$J$3","v":"C.US.EPZ1724150"}]
[{"$f":"IFERROR(IF(OR(ISTEXT(RTD(\"cqg.rtd\",,\"OrderData\",\"\"&B207&\"\",\"\",\"OpenPosition\",\"\"&Display3!$D$3&\"\")),RTD(\"cqg.rtd\",,\"OrderData\",\"\"&B207&\"\",\"\",\"OpenPosition\",\"\"&Display3!$D$3&\"\")=0),A206+0.001,INT(A206)+1),A206)","v":0.20700000000000016},{"$f":"(LEFT(B206,SEARCH(Display3!$G$2,B206)+LEN(Display3!$G$2)+2))&RIGHT(B206,LEN(B206)-(SEARCH(Display3!$G$2,B206)+LEN(Display3!$G$2)+2))-Display3!$J$3","v":"C.US.EPZ1724100"}]
[{"$f":"IFERROR(IF(OR(ISTEXT(RTD(\"cqg.rtd\",,\"OrderData\",\"\"&B208&\"\",\"\",\"OpenPosition\",\"\"&Display3!$D$3&\"\")),RTD(\"cqg.rtd\",,\"OrderData\",\"\"&B208&\"\",\"\",\"OpenPosition\",\"\"&Display3!$D$3&\"\")=0),A207+0.001,INT(A207)+1),A207)","v":0.20800000000000016},{"$f":"(LEFT(B207,SEARCH(Display3!$G$2,B207)+LEN(Display3!$G$2)+2))&RIGHT(B207,LEN(B207)-(SEARCH(Display3!$G$2,B207)+LEN(Display3!$G$2)+2))-Display3!$J$3","v":"C.US.EPZ1724050"}]
[{"$f":"IFERROR(IF(OR(ISTEXT(RTD(\"cqg.rtd\",,\"OrderData\",\"\"&B209&\"\",\"\",\"OpenPosition\",\"\"&Display3!$D$3&\"\")),RTD(\"cqg.rtd\",,\"OrderData\",\"\"&B209&\"\",\"\",\"OpenPosition\",\"\"&Display3!$D$3&\"\")=0),A208+0.001,INT(A208)+1),A208)","v":0.20900000000000016},{"$f":"(LEFT(B208,SEARCH(Display3!$G$2,B208)+LEN(Display3!$G$2)+2))&RIGHT(B208,LEN(B208)-(SEARCH(Display3!$G$2,B208)+LEN(Display3!$G$2)+2))-Display3!$J$3","v":"C.US.EPZ1724000"}]
[{"$f":"IFERROR(IF(OR(ISTEXT(RTD(\"cqg.rtd\",,\"OrderData\",\"\"&B210&\"\",\"\",\"OpenPosition\",\"\"&Display3!$D$3&\"\")),RTD(\"cqg.rtd\",,\"OrderData\",\"\"&B210&\"\",\"\",\"OpenPosition\",\"\"&Display3!$D$3&\"\")=0),A209+0.001,INT(A209)+1),A209)","v":0.21000000000000016},{"$f":"(LEFT(B209,SEARCH(Display3!$G$2,B209)+LEN(Display3!$G$2)+2))&RIGHT(B209,LEN(B209)-(SEARCH(Display3!$G$2,B209)+LEN(Display3!$G$2)+2))-Display3!$J$3","v":"C.US.EPZ1723950"}]
[{"$f":"IFERROR(IF(OR(ISTEXT(RTD(\"cqg.rtd\",,\"OrderData\",\"\"&B211&\"\",\"\",\"OpenPosition\",\"\"&Display3!$D$3&\"\")),RTD(\"cqg.rtd\",,\"OrderData\",\"\"&B211&\"\",\"\",\"OpenPosition\",\"\"&Display3!$D$3&\"\")=0),A210+0.001,INT(A210)+1),A210)","v":0.21100000000000016},{"$f":"(LEFT(B210,SEARCH(Display3!$G$2,B210)+LEN(Display3!$G$2)+2))&RIGHT(B210,LEN(B210)-(SEARCH(Display3!$G$2,B210)+LEN(Display3!$G$2)+2))-Display3!$J$3","v":"C.US.EPZ1723900"}]
[{"$f":"IFERROR(IF(OR(ISTEXT(RTD(\"cqg.rtd\",,\"OrderData\",\"\"&B212&\"\",\"\",\"OpenPosition\",\"\"&Display3!$D$3&\"\")),RTD(\"cqg.rtd\",,\"OrderData\",\"\"&B212&\"\",\"\",\"OpenPosition\",\"\"&Display3!$D$3&\"\")=0),A211+0.001,INT(A211)+1),A211)","v":0.21200000000000016},{"$f":"(LEFT(B211,SEARCH(Display3!$G$2,B211)+LEN(Display3!$G$2)+2))&RIGHT(B211,LEN(B211)-(SEARCH(Display3!$G$2,B211)+LEN(Display3!$G$2)+2))-Display3!$J$3","v":"C.US.EPZ1723850"}]
[{"$f":"IFERROR(IF(OR(ISTEXT(RTD(\"cqg.rtd\",,\"OrderData\",\"\"&B213&\"\",\"\",\"OpenPosition\",\"\"&Display3!$D$3&\"\")),RTD(\"cqg.rtd\",,\"OrderData\",\"\"&B213&\"\",\"\",\"OpenPosition\",\"\"&Display3!$D$3&\"\")=0),A212+0.001,INT(A212)+1),A212)","v":0.21300000000000016},{"$f":"(LEFT(B212,SEARCH(Display3!$G$2,B212)+LEN(Display3!$G$2)+2))&RIGHT(B212,LEN(B212)-(SEARCH(Display3!$G$2,B212)+LEN(Display3!$G$2)+2))-Display3!$J$3","v":"C.US.EPZ1723800"}]
[{"$f":"IFERROR(IF(OR(ISTEXT(RTD(\"cqg.rtd\",,\"OrderData\",\"\"&B214&\"\",\"\",\"OpenPosition\",\"\"&Display3!$D$3&\"\")),RTD(\"cqg.rtd\",,\"OrderData\",\"\"&B214&\"\",\"\",\"OpenPosition\",\"\"&Display3!$D$3&\"\")=0),A213+0.001,INT(A213)+1),A213)","v":0.21400000000000016},{"$f":"(LEFT(B213,SEARCH(Display3!$G$2,B213)+LEN(Display3!$G$2)+2))&RIGHT(B213,LEN(B213)-(SEARCH(Display3!$G$2,B213)+LEN(Display3!$G$2)+2))-Display3!$J$3","v":"C.US.EPZ1723750"}]
[{"$f":"IFERROR(IF(OR(ISTEXT(RTD(\"cqg.rtd\",,\"OrderData\",\"\"&B215&\"\",\"\",\"OpenPosition\",\"\"&Display3!$D$3&\"\")),RTD(\"cqg.rtd\",,\"OrderData\",\"\"&B215&\"\",\"\",\"OpenPosition\",\"\"&Display3!$D$3&\"\")=0),A214+0.001,INT(A214)+1),A214)","v":0.21500000000000016},{"$f":"(LEFT(B214,SEARCH(Display3!$G$2,B214)+LEN(Display3!$G$2)+2))&RIGHT(B214,LEN(B214)-(SEARCH(Display3!$G$2,B214)+LEN(Display3!$G$2)+2))-Display3!$J$3","v":"C.US.EPZ1723700"}]
[{"$f":"IFERROR(IF(OR(ISTEXT(RTD(\"cqg.rtd\",,\"OrderData\",\"\"&B216&\"\",\"\",\"OpenPosition\",\"\"&Display3!$D$3&\"\")),RTD(\"cqg.rtd\",,\"OrderData\",\"\"&B216&\"\",\"\",\"OpenPosition\",\"\"&Display3!$D$3&\"\")=0),A215+0.001,INT(A215)+1),A215)","v":0.21600000000000016},{"$f":"(LEFT(B215,SEARCH(Display3!$G$2,B215)+LEN(Display3!$G$2)+2))&RIGHT(B215,LEN(B215)-(SEARCH(Display3!$G$2,B215)+LEN(Display3!$G$2)+2))-Display3!$J$3","v":"C.US.EPZ1723650"}]
[{"$f":"IFERROR(IF(OR(ISTEXT(RTD(\"cqg.rtd\",,\"OrderData\",\"\"&B217&\"\",\"\",\"OpenPosition\",\"\"&Display3!$D$3&\"\")),RTD(\"cqg.rtd\",,\"OrderData\",\"\"&B217&\"\",\"\",\"OpenPosition\",\"\"&Display3!$D$3&\"\")=0),A216+0.001,INT(A216)+1),A216)","v":0.21700000000000016},{"$f":"(LEFT(B216,SEARCH(Display3!$G$2,B216)+LEN(Display3!$G$2)+2))&RIGHT(B216,LEN(B216)-(SEARCH(Display3!$G$2,B216)+LEN(Display3!$G$2)+2))-Display3!$J$3","v":"C.US.EPZ1723600"}]
[{"$f":"IFERROR(IF(OR(ISTEXT(RTD(\"cqg.rtd\",,\"OrderData\",\"\"&B218&\"\",\"\",\"OpenPosition\",\"\"&Display3!$D$3&\"\")),RTD(\"cqg.rtd\",,\"OrderData\",\"\"&B218&\"\",\"\",\"OpenPosition\",\"\"&Display3!$D$3&\"\")=0),A217+0.001,INT(A217)+1),A217)","v":0.21800000000000017},{"$f":"(LEFT(B217,SEARCH(Display3!$G$2,B217)+LEN(Display3!$G$2)+2))&RIGHT(B217,LEN(B217)-(SEARCH(Display3!$G$2,B217)+LEN(Display3!$G$2)+2))-Display3!$J$3","v":"C.US.EPZ1723550"}]
[{"$f":"IFERROR(IF(OR(ISTEXT(RTD(\"cqg.rtd\",,\"OrderData\",\"\"&B219&\"\",\"\",\"OpenPosition\",\"\"&Display3!$D$3&\"\")),RTD(\"cqg.rtd\",,\"OrderData\",\"\"&B219&\"\",\"\",\"OpenPosition\",\"\"&Display3!$D$3&\"\")=0),A218+0.001,INT(A218)+1),A218)","v":0.21900000000000017},{"$f":"(LEFT(B218,SEARCH(Display3!$G$2,B218)+LEN(Display3!$G$2)+2))&RIGHT(B218,LEN(B218)-(SEARCH(Display3!$G$2,B218)+LEN(Display3!$G$2)+2))-Display3!$J$3","v":"C.US.EPZ1723500"}]
[{"$f":"IFERROR(IF(OR(ISTEXT(RTD(\"cqg.rtd\",,\"OrderData\",\"\"&B220&\"\",\"\",\"OpenPosition\",\"\"&Display3!$D$3&\"\")),RTD(\"cqg.rtd\",,\"OrderData\",\"\"&B220&\"\",\"\",\"OpenPosition\",\"\"&Display3!$D$3&\"\")=0),A219+0.001,INT(A219)+1),A219)","v":0.22000000000000017},{"$f":"(LEFT(B219,SEARCH(Display3!$G$2,B219)+LEN(Display3!$G$2)+2))&RIGHT(B219,LEN(B219)-(SEARCH(Display3!$G$2,B219)+LEN(Display3!$G$2)+2))-Display3!$J$3","v":"C.US.EPZ1723450"}]
[{"$f":"IFERROR(IF(OR(ISTEXT(RTD(\"cqg.rtd\",,\"OrderData\",\"\"&B221&\"\",\"\",\"OpenPosition\",\"\"&Display3!$D$3&\"\")),RTD(\"cqg.rtd\",,\"OrderData\",\"\"&B221&\"\",\"\",\"OpenPosition\",\"\"&Display3!$D$3&\"\")=0),A220+0.001,INT(A220)+1),A220)","v":0.22100000000000017},{"$f":"(LEFT(B220,SEARCH(Display3!$G$2,B220)+LEN(Display3!$G$2)+2))&RIGHT(B220,LEN(B220)-(SEARCH(Display3!$G$2,B220)+LEN(Display3!$G$2)+2))-Display3!$J$3","v":"C.US.EPZ1723400"}]
[{"$f":"IFERROR(IF(OR(ISTEXT(RTD(\"cqg.rtd\",,\"OrderData\",\"\"&B222&\"\",\"\",\"OpenPosition\",\"\"&Display3!$D$3&\"\")),RTD(\"cqg.rtd\",,\"OrderData\",\"\"&B222&\"\",\"\",\"OpenPosition\",\"\"&Display3!$D$3&\"\")=0),A221+0.001,INT(A221)+1),A221)","v":0.22200000000000017},{"$f":"(LEFT(B221,SEARCH(Display3!$G$2,B221)+LEN(Display3!$G$2)+2))&RIGHT(B221,LEN(B221)-(SEARCH(Display3!$G$2,B221)+LEN(Display3!$G$2)+2))-Display3!$J$3","v":"C.US.EPZ1723350"}]
[{"$f":"IFERROR(IF(OR(ISTEXT(RTD(\"cqg.rtd\",,\"OrderData\",\"\"&B223&\"\",\"\",\"OpenPosition\",\"\"&Display3!$D$3&\"\")),RTD(\"cqg.rtd\",,\"OrderData\",\"\"&B223&\"\",\"\",\"OpenPosition\",\"\"&Display3!$D$3&\"\")=0),A222+0.001,INT(A222)+1),A222)","v":0.22300000000000017},{"$f":"(LEFT(B222,SEARCH(Display3!$G$2,B222)+LEN(Display3!$G$2)+2))&RIGHT(B222,LEN(B222)-(SEARCH(Display3!$G$2,B222)+LEN(Display3!$G$2)+2))-Display3!$J$3","v":"C.US.EPZ1723300"}]
[{"$f":"IFERROR(IF(OR(ISTEXT(RTD(\"cqg.rtd\",,\"OrderData\",\"\"&B224&\"\",\"\",\"OpenPosition\",\"\"&Display3!$D$3&\"\")),RTD(\"cqg.rtd\",,\"OrderData\",\"\"&B224&\"\",\"\",\"OpenPosition\",\"\"&Display3!$D$3&\"\")=0),A223+0.001,INT(A223)+1),A223)","v":0.22400000000000017},{"$f":"(LEFT(B223,SEARCH(Display3!$G$2,B223)+LEN(Display3!$G$2)+2))&RIGHT(B223,LEN(B223)-(SEARCH(Display3!$G$2,B223)+LEN(Display3!$G$2)+2))-Display3!$J$3","v":"C.US.EPZ1723250"}]
[{"$f":"IFERROR(IF(OR(ISTEXT(RTD(\"cqg.rtd\",,\"OrderData\",\"\"&B225&\"\",\"\",\"OpenPosition\",\"\"&Display3!$D$3&\"\")),RTD(\"cqg.rtd\",,\"OrderData\",\"\"&B225&\"\",\"\",\"OpenPosition\",\"\"&Display3!$D$3&\"\")=0),A224+0.001,INT(A224)+1),A224)","v":0.22500000000000017},{"$f":"(LEFT(B224,SEARCH(Display3!$G$2,B224)+LEN(Display3!$G$2)+2))&RIGHT(B224,LEN(B224)-(SEARCH(Display3!$G$2,B224)+LEN(Display3!$G$2)+2))-Display3!$J$3","v":"C.US.EPZ1723200"}]
[{"$f":"IFERROR(IF(OR(ISTEXT(RTD(\"cqg.rtd\",,\"OrderData\",\"\"&B226&\"\",\"\",\"OpenPosition\",\"\"&Display3!$D$3&\"\")),RTD(\"cqg.rtd\",,\"OrderData\",\"\"&B226&\"\",\"\",\"OpenPosition\",\"\"&Display3!$D$3&\"\")=0),A225+0.001,INT(A225)+1),A225)","v":0.22600000000000017},{"$f":"(LEFT(B225,SEARCH(Display3!$G$2,B225)+LEN(Display3!$G$2)+2))&RIGHT(B225,LEN(B225)-(SEARCH(Display3!$G$2,B225)+LEN(Display3!$G$2)+2))-Display3!$J$3","v":"C.US.EPZ1723150"}]
[{"$f":"IFERROR(IF(OR(ISTEXT(RTD(\"cqg.rtd\",,\"OrderData\",\"\"&B227&\"\",\"\",\"OpenPosition\",\"\"&Display3!$D$3&\"\")),RTD(\"cqg.rtd\",,\"OrderData\",\"\"&B227&\"\",\"\",\"OpenPosition\",\"\"&Display3!$D$3&\"\")=0),A226+0.001,INT(A226)+1),A226)","v":0.22700000000000017},{"$f":"(LEFT(B226,SEARCH(Display3!$G$2,B226)+LEN(Display3!$G$2)+2))&RIGHT(B226,LEN(B226)-(SEARCH(Display3!$G$2,B226)+LEN(Display3!$G$2)+2))-Display3!$J$3","v":"C.US.EPZ1723100"}]
[{"$f":"IFERROR(IF(OR(ISTEXT(RTD(\"cqg.rtd\",,\"OrderData\",\"\"&B228&\"\",\"\",\"OpenPosition\",\"\"&Display3!$D$3&\"\")),RTD(\"cqg.rtd\",,\"OrderData\",\"\"&B228&\"\",\"\",\"OpenPosition\",\"\"&Display3!$D$3&\"\")=0),A227+0.001,INT(A227)+1),A227)","v":0.22800000000000017},{"$f":"(LEFT(B227,SEARCH(Display3!$G$2,B227)+LEN(Display3!$G$2)+2))&RIGHT(B227,LEN(B227)-(SEARCH(Display3!$G$2,B227)+LEN(Display3!$G$2)+2))-Display3!$J$3","v":"C.US.EPZ1723050"}]
[{"$f":"IFERROR(IF(OR(ISTEXT(RTD(\"cqg.rtd\",,\"OrderData\",\"\"&B229&\"\",\"\",\"OpenPosition\",\"\"&Display3!$D$3&\"\")),RTD(\"cqg.rtd\",,\"OrderData\",\"\"&B229&\"\",\"\",\"OpenPosition\",\"\"&Display3!$D$3&\"\")=0),A228+0.001,INT(A228)+1),A228)","v":0.22900000000000018},{"$f":"(LEFT(B228,SEARCH(Display3!$G$2,B228)+LEN(Display3!$G$2)+2))&RIGHT(B228,LEN(B228)-(SEARCH(Display3!$G$2,B228)+LEN(Display3!$G$2)+2))-Display3!$J$3","v":"C.US.EPZ1723000"}]
[{"$f":"IFERROR(IF(OR(ISTEXT(RTD(\"cqg.rtd\",,\"OrderData\",\"\"&B230&\"\",\"\",\"OpenPosition\",\"\"&Display3!$D$3&\"\")),RTD(\"cqg.rtd\",,\"OrderData\",\"\"&B230&\"\",\"\",\"OpenPosition\",\"\"&Display3!$D$3&\"\")=0),A229+0.001,INT(A229)+1),A229)","v":0.23000000000000018},{"$f":"(LEFT(B229,SEARCH(Display3!$G$2,B229)+LEN(Display3!$G$2)+2))&RIGHT(B229,LEN(B229)-(SEARCH(Display3!$G$2,B229)+LEN(Display3!$G$2)+2))-Display3!$J$3","v":"C.US.EPZ1722950"}]
[{"$f":"IFERROR(IF(OR(ISTEXT(RTD(\"cqg.rtd\",,\"OrderData\",\"\"&B231&\"\",\"\",\"OpenPosition\",\"\"&Display3!$D$3&\"\")),RTD(\"cqg.rtd\",,\"OrderData\",\"\"&B231&\"\",\"\",\"OpenPosition\",\"\"&Display3!$D$3&\"\")=0),A230+0.001,INT(A230)+1),A230)","v":0.23100000000000018},{"$f":"(LEFT(B230,SEARCH(Display3!$G$2,B230)+LEN(Display3!$G$2)+2))&RIGHT(B230,LEN(B230)-(SEARCH(Display3!$G$2,B230)+LEN(Display3!$G$2)+2))-Display3!$J$3","v":"C.US.EPZ1722900"}]
[{"$f":"IFERROR(IF(OR(ISTEXT(RTD(\"cqg.rtd\",,\"OrderData\",\"\"&B232&\"\",\"\",\"OpenPosition\",\"\"&Display3!$D$3&\"\")),RTD(\"cqg.rtd\",,\"OrderData\",\"\"&B232&\"\",\"\",\"OpenPosition\",\"\"&Display3!$D$3&\"\")=0),A231+0.001,INT(A231)+1),A231)","v":0.23200000000000018},{"$f":"(LEFT(B231,SEARCH(Display3!$G$2,B231)+LEN(Display3!$G$2)+2))&RIGHT(B231,LEN(B231)-(SEARCH(Display3!$G$2,B231)+LEN(Display3!$G$2)+2))-Display3!$J$3","v":"C.US.EPZ1722850"}]
[{"$f":"IFERROR(IF(OR(ISTEXT(RTD(\"cqg.rtd\",,\"OrderData\",\"\"&B233&\"\",\"\",\"OpenPosition\",\"\"&Display3!$D$3&\"\")),RTD(\"cqg.rtd\",,\"OrderData\",\"\"&B233&\"\",\"\",\"OpenPosition\",\"\"&Display3!$D$3&\"\")=0),A232+0.001,INT(A232)+1),A232)","v":0.23300000000000018},{"$f":"(LEFT(B232,SEARCH(Display3!$G$2,B232)+LEN(Display3!$G$2)+2))&RIGHT(B232,LEN(B232)-(SEARCH(Display3!$G$2,B232)+LEN(Display3!$G$2)+2))-Display3!$J$3","v":"C.US.EPZ1722800"}]
[{"$f":"IFERROR(IF(OR(ISTEXT(RTD(\"cqg.rtd\",,\"OrderData\",\"\"&B234&\"\",\"\",\"OpenPosition\",\"\"&Display3!$D$3&\"\")),RTD(\"cqg.rtd\",,\"OrderData\",\"\"&B234&\"\",\"\",\"OpenPosition\",\"\"&Display3!$D$3&\"\")=0),A233+0.001,INT(A233)+1),A233)","v":0.23400000000000018},{"$f":"(LEFT(B233,SEARCH(Display3!$G$2,B233)+LEN(Display3!$G$2)+2))&RIGHT(B233,LEN(B233)-(SEARCH(Display3!$G$2,B233)+LEN(Display3!$G$2)+2))-Display3!$J$3","v":"C.US.EPZ1722750"}]
[{"$f":"IFERROR(IF(OR(ISTEXT(RTD(\"cqg.rtd\",,\"OrderData\",\"\"&B235&\"\",\"\",\"OpenPosition\",\"\"&Display3!$D$3&\"\")),RTD(\"cqg.rtd\",,\"OrderData\",\"\"&B235&\"\",\"\",\"OpenPosition\",\"\"&Display3!$D$3&\"\")=0),A234+0.001,INT(A234)+1),A234)","v":0.23500000000000018},{"$f":"(LEFT(B234,SEARCH(Display3!$G$2,B234)+LEN(Display3!$G$2)+2))&RIGHT(B234,LEN(B234)-(SEARCH(Display3!$G$2,B234)+LEN(Display3!$G$2)+2))-Display3!$J$3","v":"C.US.EPZ1722700"}]
[{"$f":"IFERROR(IF(OR(ISTEXT(RTD(\"cqg.rtd\",,\"OrderData\",\"\"&B236&\"\",\"\",\"OpenPosition\",\"\"&Display3!$D$3&\"\")),RTD(\"cqg.rtd\",,\"OrderData\",\"\"&B236&\"\",\"\",\"OpenPosition\",\"\"&Display3!$D$3&\"\")=0),A235+0.001,INT(A235)+1),A235)","v":0.23600000000000018},{"$f":"(LEFT(B235,SEARCH(Display3!$G$2,B235)+LEN(Display3!$G$2)+2))&RIGHT(B235,LEN(B235)-(SEARCH(Display3!$G$2,B235)+LEN(Display3!$G$2)+2))-Display3!$J$3","v":"C.US.EPZ1722650"}]
[{"$f":"IFERROR(IF(OR(ISTEXT(RTD(\"cqg.rtd\",,\"OrderData\",\"\"&B237&\"\",\"\",\"OpenPosition\",\"\"&Display3!$D$3&\"\")),RTD(\"cqg.rtd\",,\"OrderData\",\"\"&B237&\"\",\"\",\"OpenPosition\",\"\"&Display3!$D$3&\"\")=0),A236+0.001,INT(A236)+1),A236)","v":0.23700000000000018},{"$f":"(LEFT(B236,SEARCH(Display3!$G$2,B236)+LEN(Display3!$G$2)+2))&RIGHT(B236,LEN(B236)-(SEARCH(Display3!$G$2,B236)+LEN(Display3!$G$2)+2))-Display3!$J$3","v":"C.US.EPZ1722600"}]
[{"$f":"IFERROR(IF(OR(ISTEXT(RTD(\"cqg.rtd\",,\"OrderData\",\"\"&B238&\"\",\"\",\"OpenPosition\",\"\"&Display3!$D$3&\"\")),RTD(\"cqg.rtd\",,\"OrderData\",\"\"&B238&\"\",\"\",\"OpenPosition\",\"\"&Display3!$D$3&\"\")=0),A237+0.001,INT(A237)+1),A237)","v":0.23800000000000018},{"$f":"(LEFT(B237,SEARCH(Display3!$G$2,B237)+LEN(Display3!$G$2)+2))&RIGHT(B237,LEN(B237)-(SEARCH(Display3!$G$2,B237)+LEN(Display3!$G$2)+2))-Display3!$J$3","v":"C.US.EPZ1722550"}]
[{"$f":"IFERROR(IF(OR(ISTEXT(RTD(\"cqg.rtd\",,\"OrderData\",\"\"&B239&\"\",\"\",\"OpenPosition\",\"\"&Display3!$D$3&\"\")),RTD(\"cqg.rtd\",,\"OrderData\",\"\"&B239&\"\",\"\",\"OpenPosition\",\"\"&Display3!$D$3&\"\")=0),A238+0.001,INT(A238)+1),A238)","v":0.23900000000000018},{"$f":"(LEFT(B238,SEARCH(Display3!$G$2,B238)+LEN(Display3!$G$2)+2))&RIGHT(B238,LEN(B238)-(SEARCH(Display3!$G$2,B238)+LEN(Display3!$G$2)+2))-Display3!$J$3","v":"C.US.EPZ1722500"}]
[{"$f":"IFERROR(IF(OR(ISTEXT(RTD(\"cqg.rtd\",,\"OrderData\",\"\"&B240&\"\",\"\",\"OpenPosition\",\"\"&Display3!$D$3&\"\")),RTD(\"cqg.rtd\",,\"OrderData\",\"\"&B240&\"\",\"\",\"OpenPosition\",\"\"&Display3!$D$3&\"\")=0),A239+0.001,INT(A239)+1),A239)","v":0.24000000000000019},{"$f":"(LEFT(B239,SEARCH(Display3!$G$2,B239)+LEN(Display3!$G$2)+2))&RIGHT(B239,LEN(B239)-(SEARCH(Display3!$G$2,B239)+LEN(Display3!$G$2)+2))-Display3!$J$3","v":"C.US.EPZ1722450"}]
[{"$f":"IFERROR(IF(OR(ISTEXT(RTD(\"cqg.rtd\",,\"OrderData\",\"\"&B241&\"\",\"\",\"OpenPosition\",\"\"&Display3!$D$3&\"\")),RTD(\"cqg.rtd\",,\"OrderData\",\"\"&B241&\"\",\"\",\"OpenPosition\",\"\"&Display3!$D$3&\"\")=0),A240+0.001,INT(A240)+1),A240)","v":0.24100000000000019},{"$f":"(LEFT(B240,SEARCH(Display3!$G$2,B240)+LEN(Display3!$G$2)+2))&RIGHT(B240,LEN(B240)-(SEARCH(Display3!$G$2,B240)+LEN(Display3!$G$2)+2))-Display3!$J$3","v":"C.US.EPZ1722400"}]
[{"$f":"IFERROR(IF(OR(ISTEXT(RTD(\"cqg.rtd\",,\"OrderData\",\"\"&B242&\"\",\"\",\"OpenPosition\",\"\"&Display3!$D$3&\"\")),RTD(\"cqg.rtd\",,\"OrderData\",\"\"&B242&\"\",\"\",\"OpenPosition\",\"\"&Display3!$D$3&\"\")=0),A241+0.001,INT(A241)+1),A241)","v":0.24200000000000019},{"$f":"(LEFT(B241,SEARCH(Display3!$G$2,B241)+LEN(Display3!$G$2)+2))&RIGHT(B241,LEN(B241)-(SEARCH(Display3!$G$2,B241)+LEN(Display3!$G$2)+2))-Display3!$J$3","v":"C.US.EPZ1722350"}]
[{"$f":"IFERROR(IF(OR(ISTEXT(RTD(\"cqg.rtd\",,\"OrderData\",\"\"&B243&\"\",\"\",\"OpenPosition\",\"\"&Display3!$D$3&\"\")),RTD(\"cqg.rtd\",,\"OrderData\",\"\"&B243&\"\",\"\",\"OpenPosition\",\"\"&Display3!$D$3&\"\")=0),A242+0.001,INT(A242)+1),A242)","v":0.24300000000000019},{"$f":"(LEFT(B244,SEARCH(Display3!$G$2,B244)+LEN(Display3!$G$2)+2))&RIGHT(B244,LEN(B244)-(SEARCH(Display3!$G$2,B244)+LEN(Display3!$G$2)+2))+Display3!$J$3","v":"P.US.EPZ1726350"}]
[{"$f":"IFERROR(IF(OR(ISTEXT(RTD(\"cqg.rtd\",,\"OrderData\",\"\"&B244&\"\",\"\",\"OpenPosition\",\"\"&Display3!$D$3&\"\")),RTD(\"cqg.rtd\",,\"OrderData\",\"\"&B244&\"\",\"\",\"OpenPosition\",\"\"&Display3!$D$3&\"\")=0),A243+0.001,INT(A243)+1),A243)","v":0.24400000000000019},{"$f":"(LEFT(B245,SEARCH(Display3!$G$2,B245)+LEN(Display3!$G$2)+2))&RIGHT(B245,LEN(B245)-(SEARCH(Display3!$G$2,B245)+LEN(Display3!$G$2)+2))+Display3!$J$3","v":"P.US.EPZ1726300"}]
[{"$f":"IFERROR(IF(OR(ISTEXT(RTD(\"cqg.rtd\",,\"OrderData\",\"\"&B245&\"\",\"\",\"OpenPosition\",\"\"&Display3!$D$3&\"\")),RTD(\"cqg.rtd\",,\"OrderData\",\"\"&B245&\"\",\"\",\"OpenPosition\",\"\"&Display3!$D$3&\"\")=0),A244+0.001,INT(A244)+1),A244)","v":0.24500000000000019},{"$f":"(LEFT(B246,SEARCH(Display3!$G$2,B246)+LEN(Display3!$G$2)+2))&RIGHT(B246,LEN(B246)-(SEARCH(Display3!$G$2,B246)+LEN(Display3!$G$2)+2))+Display3!$J$3","v":"P.US.EPZ1726250"}]
[{"$f":"IFERROR(IF(OR(ISTEXT(RTD(\"cqg.rtd\",,\"OrderData\",\"\"&B246&\"\",\"\",\"OpenPosition\",\"\"&Display3!$D$3&\"\")),RTD(\"cqg.rtd\",,\"OrderData\",\"\"&B246&\"\",\"\",\"OpenPosition\",\"\"&Display3!$D$3&\"\")=0),A245+0.001,INT(A245)+1),A245)","v":0.24600000000000019},{"$f":"(LEFT(B247,SEARCH(Display3!$G$2,B247)+LEN(Display3!$G$2)+2))&RIGHT(B247,LEN(B247)-(SEARCH(Display3!$G$2,B247)+LEN(Display3!$G$2)+2))+Display3!$J$3","v":"P.US.EPZ1726200"}]
[{"$f":"IFERROR(IF(OR(ISTEXT(RTD(\"cqg.rtd\",,\"OrderData\",\"\"&B247&\"\",\"\",\"OpenPosition\",\"\"&Display3!$D$3&\"\")),RTD(\"cqg.rtd\",,\"OrderData\",\"\"&B247&\"\",\"\",\"OpenPosition\",\"\"&Display3!$D$3&\"\")=0),A246+0.001,INT(A246)+1),A246)","v":0.24700000000000019},{"$f":"(LEFT(B248,SEARCH(Display3!$G$2,B248)+LEN(Display3!$G$2)+2))&RIGHT(B248,LEN(B248)-(SEARCH(Display3!$G$2,B248)+LEN(Display3!$G$2)+2))+Display3!$J$3","v":"P.US.EPZ1726150"}]
[{"$f":"IFERROR(IF(OR(ISTEXT(RTD(\"cqg.rtd\",,\"OrderData\",\"\"&B248&\"\",\"\",\"OpenPosition\",\"\"&Display3!$D$3&\"\")),RTD(\"cqg.rtd\",,\"OrderData\",\"\"&B248&\"\",\"\",\"OpenPosition\",\"\"&Display3!$D$3&\"\")=0),A247+0.001,INT(A247)+1),A247)","v":0.24800000000000019},{"$f":"(LEFT(B249,SEARCH(Display3!$G$2,B249)+LEN(Display3!$G$2)+2))&RIGHT(B249,LEN(B249)-(SEARCH(Display3!$G$2,B249)+LEN(Display3!$G$2)+2))+Display3!$J$3","v":"P.US.EPZ1726100"}]
[{"$f":"IFERROR(IF(OR(ISTEXT(RTD(\"cqg.rtd\",,\"OrderData\",\"\"&B249&\"\",\"\",\"OpenPosition\",\"\"&Display3!$D$3&\"\")),RTD(\"cqg.rtd\",,\"OrderData\",\"\"&B249&\"\",\"\",\"OpenPosition\",\"\"&Display3!$D$3&\"\")=0),A248+0.001,INT(A248)+1),A248)","v":0.24900000000000019},{"$f":"(LEFT(B250,SEARCH(Display3!$G$2,B250)+LEN(Display3!$G$2)+2))&RIGHT(B250,LEN(B250)-(SEARCH(Display3!$G$2,B250)+LEN(Display3!$G$2)+2))+Display3!$J$3","v":"P.US.EPZ1726050"}]
[{"$f":"IFERROR(IF(OR(ISTEXT(RTD(\"cqg.rtd\",,\"OrderData\",\"\"&B250&\"\",\"\",\"OpenPosition\",\"\"&Display3!$D$3&\"\")),RTD(\"cqg.rtd\",,\"OrderData\",\"\"&B250&\"\",\"\",\"OpenPosition\",\"\"&Display3!$D$3&\"\")=0),A249+0.001,INT(A249)+1),A249)","v":0.25000000000000017},{"$f":"(LEFT(B251,SEARCH(Display3!$G$2,B251)+LEN(Display3!$G$2)+2))&RIGHT(B251,LEN(B251)-(SEARCH(Display3!$G$2,B251)+LEN(Display3!$G$2)+2))+Display3!$J$3","v":"P.US.EPZ1726000"}]
[{"$f":"IFERROR(IF(OR(ISTEXT(RTD(\"cqg.rtd\",,\"OrderData\",\"\"&B251&\"\",\"\",\"OpenPosition\",\"\"&Display3!$D$3&\"\")),RTD(\"cqg.rtd\",,\"OrderData\",\"\"&B251&\"\",\"\",\"OpenPosition\",\"\"&Display3!$D$3&\"\")=0),A250+0.001,INT(A250)+1),A250)","v":0.25100000000000017},{"$f":"(LEFT(B252,SEARCH(Display3!$G$2,B252)+LEN(Display3!$G$2)+2))&RIGHT(B252,LEN(B252)-(SEARCH(Display3!$G$2,B252)+LEN(Display3!$G$2)+2))+Display3!$J$3","v":"P.US.EPZ1725950"}]
[{"$f":"IFERROR(IF(OR(ISTEXT(RTD(\"cqg.rtd\",,\"OrderData\",\"\"&B252&\"\",\"\",\"OpenPosition\",\"\"&Display3!$D$3&\"\")),RTD(\"cqg.rtd\",,\"OrderData\",\"\"&B252&\"\",\"\",\"OpenPosition\",\"\"&Display3!$D$3&\"\")=0),A251+0.001,INT(A251)+1),A251)","v":0.25200000000000017},{"$f":"(LEFT(B253,SEARCH(Display3!$G$2,B253)+LEN(Display3!$G$2)+2))&RIGHT(B253,LEN(B253)-(SEARCH(Display3!$G$2,B253)+LEN(Display3!$G$2)+2))+Display3!$J$3","v":"P.US.EPZ1725900"}]
[{"$f":"IFERROR(IF(OR(ISTEXT(RTD(\"cqg.rtd\",,\"OrderData\",\"\"&B253&\"\",\"\",\"OpenPosition\",\"\"&Display3!$D$3&\"\")),RTD(\"cqg.rtd\",,\"OrderData\",\"\"&B253&\"\",\"\",\"OpenPosition\",\"\"&Display3!$D$3&\"\")=0),A252+0.001,INT(A252)+1),A252)","v":0.25300000000000017},{"$f":"(LEFT(B254,SEARCH(Display3!$G$2,B254)+LEN(Display3!$G$2)+2))&RIGHT(B254,LEN(B254)-(SEARCH(Display3!$G$2,B254)+LEN(Display3!$G$2)+2))+Display3!$J$3","v":"P.US.EPZ1725850"}]
[{"$f":"IFERROR(IF(OR(ISTEXT(RTD(\"cqg.rtd\",,\"OrderData\",\"\"&B254&\"\",\"\",\"OpenPosition\",\"\"&Display3!$D$3&\"\")),RTD(\"cqg.rtd\",,\"OrderData\",\"\"&B254&\"\",\"\",\"OpenPosition\",\"\"&Display3!$D$3&\"\")=0),A253+0.001,INT(A253)+1),A253)","v":0.25400000000000017},{"$f":"(LEFT(B255,SEARCH(Display3!$G$2,B255)+LEN(Display3!$G$2)+2))&RIGHT(B255,LEN(B255)-(SEARCH(Display3!$G$2,B255)+LEN(Display3!$G$2)+2))+Display3!$J$3","v":"P.US.EPZ1725800"}]
[{"$f":"IFERROR(IF(OR(ISTEXT(RTD(\"cqg.rtd\",,\"OrderData\",\"\"&B255&\"\",\"\",\"OpenPosition\",\"\"&Display3!$D$3&\"\")),RTD(\"cqg.rtd\",,\"OrderData\",\"\"&B255&\"\",\"\",\"OpenPosition\",\"\"&Display3!$D$3&\"\")=0),A254+0.001,INT(A254)+1),A254)","v":0.25500000000000017},{"$f":"(LEFT(B256,SEARCH(Display3!$G$2,B256)+LEN(Display3!$G$2)+2))&RIGHT(B256,LEN(B256)-(SEARCH(Display3!$G$2,B256)+LEN(Display3!$G$2)+2))+Display3!$J$3","v":"P.US.EPZ1725750"}]
[{"$f":"IFERROR(IF(OR(ISTEXT(RTD(\"cqg.rtd\",,\"OrderData\",\"\"&B256&\"\",\"\",\"OpenPosition\",\"\"&Display3!$D$3&\"\")),RTD(\"cqg.rtd\",,\"OrderData\",\"\"&B256&\"\",\"\",\"OpenPosition\",\"\"&Display3!$D$3&\"\")=0),A255+0.001,INT(A255)+1),A255)","v":0.25600000000000017},{"$f":"(LEFT(B257,SEARCH(Display3!$G$2,B257)+LEN(Display3!$G$2)+2))&RIGHT(B257,LEN(B257)-(SEARCH(Display3!$G$2,B257)+LEN(Display3!$G$2)+2))+Display3!$J$3","v":"P.US.EPZ1725700"}]
[{"$f":"IFERROR(IF(OR(ISTEXT(RTD(\"cqg.rtd\",,\"OrderData\",\"\"&B257&\"\",\"\",\"OpenPosition\",\"\"&Display3!$D$3&\"\")),RTD(\"cqg.rtd\",,\"OrderData\",\"\"&B257&\"\",\"\",\"OpenPosition\",\"\"&Display3!$D$3&\"\")=0),A256+0.001,INT(A256)+1),A256)","v":0.25700000000000017},{"$f":"(LEFT(B258,SEARCH(Display3!$G$2,B258)+LEN(Display3!$G$2)+2))&RIGHT(B258,LEN(B258)-(SEARCH(Display3!$G$2,B258)+LEN(Display3!$G$2)+2))+Display3!$J$3","v":"P.US.EPZ1725650"}]
[{"$f":"IFERROR(IF(OR(ISTEXT(RTD(\"cqg.rtd\",,\"OrderData\",\"\"&B258&\"\",\"\",\"OpenPosition\",\"\"&Display3!$D$3&\"\")),RTD(\"cqg.rtd\",,\"OrderData\",\"\"&B258&\"\",\"\",\"OpenPosition\",\"\"&Display3!$D$3&\"\")=0),A257+0.001,INT(A257)+1),A257)","v":0.25800000000000017},{"$f":"(LEFT(B259,SEARCH(Display3!$G$2,B259)+LEN(Display3!$G$2)+2))&RIGHT(B259,LEN(B259)-(SEARCH(Display3!$G$2,B259)+LEN(Display3!$G$2)+2))+Display3!$J$3","v":"P.US.EPZ1725600"}]
[{"$f":"IFERROR(IF(OR(ISTEXT(RTD(\"cqg.rtd\",,\"OrderData\",\"\"&B259&\"\",\"\",\"OpenPosition\",\"\"&Display3!$D$3&\"\")),RTD(\"cqg.rtd\",,\"OrderData\",\"\"&B259&\"\",\"\",\"OpenPosition\",\"\"&Display3!$D$3&\"\")=0),A258+0.001,INT(A258)+1),A258)","v":0.25900000000000017},{"$f":"(LEFT(B260,SEARCH(Display3!$G$2,B260)+LEN(Display3!$G$2)+2))&RIGHT(B260,LEN(B260)-(SEARCH(Display3!$G$2,B260)+LEN(Display3!$G$2)+2))+Display3!$J$3","v":"P.US.EPZ1725550"}]
[{"$f":"IFERROR(IF(OR(ISTEXT(RTD(\"cqg.rtd\",,\"OrderData\",\"\"&B260&\"\",\"\",\"OpenPosition\",\"\"&Display3!$D$3&\"\")),RTD(\"cqg.rtd\",,\"OrderData\",\"\"&B260&\"\",\"\",\"OpenPosition\",\"\"&Display3!$D$3&\"\")=0),A259+0.001,INT(A259)+1),A259)","v":0.26000000000000018},{"$f":"(LEFT(B261,SEARCH(Display3!$G$2,B261)+LEN(Display3!$G$2)+2))&RIGHT(B261,LEN(B261)-(SEARCH(Display3!$G$2,B261)+LEN(Display3!$G$2)+2))+Display3!$J$3","v":"P.US.EPZ1725500"}]
[{"$f":"IFERROR(IF(OR(ISTEXT(RTD(\"cqg.rtd\",,\"OrderData\",\"\"&B261&\"\",\"\",\"OpenPosition\",\"\"&Display3!$D$3&\"\")),RTD(\"cqg.rtd\",,\"OrderData\",\"\"&B261&\"\",\"\",\"OpenPosition\",\"\"&Display3!$D$3&\"\")=0),A260+0.001,INT(A260)+1),A260)","v":0.26100000000000018},{"$f":"(LEFT(B262,SEARCH(Display3!$G$2,B262)+LEN(Display3!$G$2)+2))&RIGHT(B262,LEN(B262)-(SEARCH(Display3!$G$2,B262)+LEN(Display3!$G$2)+2))+Display3!$J$3","v":"P.US.EPZ1725450"}]
[{"$f":"IFERROR(IF(OR(ISTEXT(RTD(\"cqg.rtd\",,\"OrderData\",\"\"&B262&\"\",\"\",\"OpenPosition\",\"\"&Display3!$D$3&\"\")),RTD(\"cqg.rtd\",,\"OrderData\",\"\"&B262&\"\",\"\",\"OpenPosition\",\"\"&Display3!$D$3&\"\")=0),A261+0.001,INT(A261)+1),A261)","v":0.26200000000000018},{"$f":"(LEFT(B263,SEARCH(Display3!$G$2,B263)+LEN(Display3!$G$2)+2))&RIGHT(B263,LEN(B263)-(SEARCH(Display3!$G$2,B263)+LEN(Display3!$G$2)+2))+Display3!$J$3","v":"P.US.EPZ1725400"}]
[{"$f":"IFERROR(IF(OR(ISTEXT(RTD(\"cqg.rtd\",,\"OrderData\",\"\"&B263&\"\",\"\",\"OpenPosition\",\"\"&Display3!$D$3&\"\")),RTD(\"cqg.rtd\",,\"OrderData\",\"\"&B263&\"\",\"\",\"OpenPosition\",\"\"&Display3!$D$3&\"\")=0),A262+0.001,INT(A262)+1),A262)","v":0.26300000000000018},{"$f":"(LEFT(B264,SEARCH(Display3!$G$2,B264)+LEN(Display3!$G$2)+2))&RIGHT(B264,LEN(B264)-(SEARCH(Display3!$G$2,B264)+LEN(Display3!$G$2)+2))+Display3!$J$3","v":"P.US.EPZ1725350"}]
[{"$f":"IFERROR(IF(OR(ISTEXT(RTD(\"cqg.rtd\",,\"OrderData\",\"\"&B264&\"\",\"\",\"OpenPosition\",\"\"&Display3!$D$3&\"\")),RTD(\"cqg.rtd\",,\"OrderData\",\"\"&B264&\"\",\"\",\"OpenPosition\",\"\"&Display3!$D$3&\"\")=0),A263+0.001,INT(A263)+1),A263)","v":0.26400000000000018},{"$f":"(LEFT(B265,SEARCH(Display3!$G$2,B265)+LEN(Display3!$G$2)+2))&RIGHT(B265,LEN(B265)-(SEARCH(Display3!$G$2,B265)+LEN(Display3!$G$2)+2))+Display3!$J$3","v":"P.US.EPZ1725300"}]
[{"$f":"IFERROR(IF(OR(ISTEXT(RTD(\"cqg.rtd\",,\"OrderData\",\"\"&B265&\"\",\"\",\"OpenPosition\",\"\"&Display3!$D$3&\"\")),RTD(\"cqg.rtd\",,\"OrderData\",\"\"&B265&\"\",\"\",\"OpenPosition\",\"\"&Display3!$D$3&\"\")=0),A264+0.001,INT(A264)+1),A264)","v":0.26500000000000018},{"$f":"(LEFT(B266,SEARCH(Display3!$G$2,B266)+LEN(Display3!$G$2)+2))&RIGHT(B266,LEN(B266)-(SEARCH(Display3!$G$2,B266)+LEN(Display3!$G$2)+2))+Display3!$J$3","v":"P.US.EPZ1725250"}]
[{"$f":"IFERROR(IF(OR(ISTEXT(RTD(\"cqg.rtd\",,\"OrderData\",\"\"&B266&\"\",\"\",\"OpenPosition\",\"\"&Display3!$D$3&\"\")),RTD(\"cqg.rtd\",,\"OrderData\",\"\"&B266&\"\",\"\",\"OpenPosition\",\"\"&Display3!$D$3&\"\")=0),A265+0.001,INT(A265)+1),A265)","v":0.26600000000000018},{"$f":"(LEFT(B267,SEARCH(Display3!$G$2,B267)+LEN(Display3!$G$2)+2))&RIGHT(B267,LEN(B267)-(SEARCH(Display3!$G$2,B267)+LEN(Display3!$G$2)+2))+Display3!$J$3","v":"P.US.EPZ1725200"}]
[{"$f":"IFERROR(IF(OR(ISTEXT(RTD(\"cqg.rtd\",,\"OrderData\",\"\"&B267&\"\",\"\",\"OpenPosition\",\"\"&Display3!$D$3&\"\")),RTD(\"cqg.rtd\",,\"OrderData\",\"\"&B267&\"\",\"\",\"OpenPosition\",\"\"&Display3!$D$3&\"\")=0),A266+0.001,INT(A266)+1),A266)","v":0.26700000000000018},{"$f":"(LEFT(B268,SEARCH(Display3!$G$2,B268)+LEN(Display3!$G$2)+2))&RIGHT(B268,LEN(B268)-(SEARCH(Display3!$G$2,B268)+LEN(Display3!$G$2)+2))+Display3!$J$3","v":"P.US.EPZ1725150"}]
[{"$f":"IFERROR(IF(OR(ISTEXT(RTD(\"cqg.rtd\",,\"OrderData\",\"\"&B268&\"\",\"\",\"OpenPosition\",\"\"&Display3!$D$3&\"\")),RTD(\"cqg.rtd\",,\"OrderData\",\"\"&B268&\"\",\"\",\"OpenPosition\",\"\"&Display3!$D$3&\"\")=0),A267+0.001,INT(A267)+1),A267)","v":0.26800000000000018},{"$f":"(LEFT(B269,SEARCH(Display3!$G$2,B269)+LEN(Display3!$G$2)+2))&RIGHT(B269,LEN(B269)-(SEARCH(Display3!$G$2,B269)+LEN(Display3!$G$2)+2))+Display3!$J$3","v":"P.US.EPZ1725100"}]
[{"$f":"IFERROR(IF(OR(ISTEXT(RTD(\"cqg.rtd\",,\"OrderData\",\"\"&B269&\"\",\"\",\"OpenPosition\",\"\"&Display3!$D$3&\"\")),RTD(\"cqg.rtd\",,\"OrderData\",\"\"&B269&\"\",\"\",\"OpenPosition\",\"\"&Display3!$D$3&\"\")=0),A268+0.001,INT(A268)+1),A268)","v":0.26900000000000018},{"$f":"(LEFT(B270,SEARCH(Display3!$G$2,B270)+LEN(Display3!$G$2)+2))&RIGHT(B270,LEN(B270)-(SEARCH(Display3!$G$2,B270)+LEN(Display3!$G$2)+2))+Display3!$J$3","v":"P.US.EPZ1725050"}]
[{"$f":"IFERROR(IF(OR(ISTEXT(RTD(\"cqg.rtd\",,\"OrderData\",\"\"&B270&\"\",\"\",\"OpenPosition\",\"\"&Display3!$D$3&\"\")),RTD(\"cqg.rtd\",,\"OrderData\",\"\"&B270&\"\",\"\",\"OpenPosition\",\"\"&Display3!$D$3&\"\")=0),A269+0.001,INT(A269)+1),A269)","v":0.27000000000000018},{"$f":"(LEFT(B271,SEARCH(Display3!$G$2,B271)+LEN(Display3!$G$2)+2))&RIGHT(B271,LEN(B271)-(SEARCH(Display3!$G$2,B271)+LEN(Display3!$G$2)+2))+Display3!$J$3","v":"P.US.EPZ1725000"}]
[{"$f":"IFERROR(IF(OR(ISTEXT(RTD(\"cqg.rtd\",,\"OrderData\",\"\"&B271&\"\",\"\",\"OpenPosition\",\"\"&Display3!$D$3&\"\")),RTD(\"cqg.rtd\",,\"OrderData\",\"\"&B271&\"\",\"\",\"OpenPosition\",\"\"&Display3!$D$3&\"\")=0),A270+0.001,INT(A270)+1),A270)","v":0.27100000000000019},{"$f":"(LEFT(B272,SEARCH(Display3!$G$2,B272)+LEN(Display3!$G$2)+2))&RIGHT(B272,LEN(B272)-(SEARCH(Display3!$G$2,B272)+LEN(Display3!$G$2)+2))+Display3!$J$3","v":"P.US.EPZ1724950"}]
[{"$f":"IFERROR(IF(OR(ISTEXT(RTD(\"cqg.rtd\",,\"OrderData\",\"\"&B272&\"\",\"\",\"OpenPosition\",\"\"&Display3!$D$3&\"\")),RTD(\"cqg.rtd\",,\"OrderData\",\"\"&B272&\"\",\"\",\"OpenPosition\",\"\"&Display3!$D$3&\"\")=0),A271+0.001,INT(A271)+1),A271)","v":0.27200000000000019},{"$f":"(LEFT(B273,SEARCH(Display3!$G$2,B273)+LEN(Display3!$G$2)+2))&RIGHT(B273,LEN(B273)-(SEARCH(Display3!$G$2,B273)+LEN(Display3!$G$2)+2))+Display3!$J$3","v":"P.US.EPZ1724900"}]
[{"$f":"IFERROR(IF(OR(ISTEXT(RTD(\"cqg.rtd\",,\"OrderData\",\"\"&B273&\"\",\"\",\"OpenPosition\",\"\"&Display3!$D$3&\"\")),RTD(\"cqg.rtd\",,\"OrderData\",\"\"&B273&\"\",\"\",\"OpenPosition\",\"\"&Display3!$D$3&\"\")=0),A272+0.001,INT(A272)+1),A272)","v":0.27300000000000019},{"$f":"(LEFT(B274,SEARCH(Display3!$G$2,B274)+LEN(Display3!$G$2)+2))&RIGHT(B274,LEN(B274)-(SEARCH(Display3!$G$2,B274)+LEN(Display3!$G$2)+2))+Display3!$J$3","v":"P.US.EPZ1724850"}]
[{"$f":"IFERROR(IF(OR(ISTEXT(RTD(\"cqg.rtd\",,\"OrderData\",\"\"&B274&\"\",\"\",\"OpenPosition\",\"\"&Display3!$D$3&\"\")),RTD(\"cqg.rtd\",,\"OrderData\",\"\"&B274&\"\",\"\",\"OpenPosition\",\"\"&Display3!$D$3&\"\")=0),A273+0.001,INT(A273)+1),A273)","v":0.27400000000000019},{"$f":"(LEFT(B275,SEARCH(Display3!$G$2,B275)+LEN(Display3!$G$2)+2))&RIGHT(B275,LEN(B275)-(SEARCH(Display3!$G$2,B275)+LEN(Display3!$G$2)+2))+Display3!$J$3","v":"P.US.EPZ1724800"}]
[{"$f":"IFERROR(IF(OR(ISTEXT(RTD(\"cqg.rtd\",,\"OrderData\",\"\"&B275&\"\",\"\",\"OpenPosition\",\"\"&Display3!$D$3&\"\")),RTD(\"cqg.rtd\",,\"OrderData\",\"\"&B275&\"\",\"\",\"OpenPosition\",\"\"&Display3!$D$3&\"\")=0),A274+0.001,INT(A274)+1),A274)","v":0.27500000000000019},{"$f":"(LEFT(B276,SEARCH(Display3!$G$2,B276)+LEN(Display3!$G$2)+2))&RIGHT(B276,LEN(B276)-(SEARCH(Display3!$G$2,B276)+LEN(Display3!$G$2)+2))+Display3!$J$3","v":"P.US.EPZ1724750"}]
[{"$f":"IFERROR(IF(OR(ISTEXT(RTD(\"cqg.rtd\",,\"OrderData\",\"\"&B276&\"\",\"\",\"OpenPosition\",\"\"&Display3!$D$3&\"\")),RTD(\"cqg.rtd\",,\"OrderData\",\"\"&B276&\"\",\"\",\"OpenPosition\",\"\"&Display3!$D$3&\"\")=0),A275+0.001,INT(A275)+1),A275)","v":0.27600000000000019},{"$f":"(LEFT(B277,SEARCH(Display3!$G$2,B277)+LEN(Display3!$G$2)+2))&RIGHT(B277,LEN(B277)-(SEARCH(Display3!$G$2,B277)+LEN(Display3!$G$2)+2))+Display3!$J$3","v":"P.US.EPZ1724700"}]
[{"$f":"IFERROR(IF(OR(ISTEXT(RTD(\"cqg.rtd\",,\"OrderData\",\"\"&B277&\"\",\"\",\"OpenPosition\",\"\"&Display3!$D$3&\"\")),RTD(\"cqg.rtd\",,\"OrderData\",\"\"&B277&\"\",\"\",\"OpenPosition\",\"\"&Display3!$D$3&\"\")=0),A276+0.001,INT(A276)+1),A276)","v":0.27700000000000019},{"$f":"(LEFT(B278,SEARCH(Display3!$G$2,B278)+LEN(Display3!$G$2)+2))&RIGHT(B278,LEN(B278)-(SEARCH(Display3!$G$2,B278)+LEN(Display3!$G$2)+2))+Display3!$J$3","v":"P.US.EPZ1724650"}]
[{"$f":"IFERROR(IF(OR(ISTEXT(RTD(\"cqg.rtd\",,\"OrderData\",\"\"&B278&\"\",\"\",\"OpenPosition\",\"\"&Display3!$D$3&\"\")),RTD(\"cqg.rtd\",,\"OrderData\",\"\"&B278&\"\",\"\",\"OpenPosition\",\"\"&Display3!$D$3&\"\")=0),A277+0.001,INT(A277)+1),A277)","v":0.27800000000000019},{"$f":"(LEFT(B279,SEARCH(Display3!$G$2,B279)+LEN(Display3!$G$2)+2))&RIGHT(B279,LEN(B279)-(SEARCH(Display3!$G$2,B279)+LEN(Display3!$G$2)+2))+Display3!$J$3","v":"P.US.EPZ1724600"}]
[{"$f":"IFERROR(IF(OR(ISTEXT(RTD(\"cqg.rtd\",,\"OrderData\",\"\"&B279&\"\",\"\",\"OpenPosition\",\"\"&Display3!$D$3&\"\")),RTD(\"cqg.rtd\",,\"OrderData\",\"\"&B279&\"\",\"\",\"OpenPosition\",\"\"&Display3!$D$3&\"\")=0),A278+0.001,INT(A278)+1),A278)","v":0.27900000000000019},{"$f":"(LEFT(B280,SEARCH(Display3!$G$2,B280)+LEN(Display3!$G$2)+2))&RIGHT(B280,LEN(B280)-(SEARCH(Display3!$G$2,B280)+LEN(Display3!$G$2)+2))+Display3!$J$3","v":"P.US.EPZ1724550"}]
[{"$f":"IFERROR(IF(OR(ISTEXT(RTD(\"cqg.rtd\",,\"OrderData\",\"\"&B280&\"\",\"\",\"OpenPosition\",\"\"&Display3!$D$3&\"\")),RTD(\"cqg.rtd\",,\"OrderData\",\"\"&B280&\"\",\"\",\"OpenPosition\",\"\"&Display3!$D$3&\"\")=0),A279+0.001,INT(A279)+1),A279)","v":0.28000000000000019},{"$f":"(LEFT(B281,SEARCH(Display3!$G$2,B281)+LEN(Display3!$G$2)+2))&RIGHT(B281,LEN(B281)-(SEARCH(Display3!$G$2,B281)+LEN(Display3!$G$2)+2))+Display3!$J$3","v":"P.US.EPZ1724500"}]
[{"$f":"IFERROR(IF(OR(ISTEXT(RTD(\"cqg.rtd\",,\"OrderData\",\"\"&B281&\"\",\"\",\"OpenPosition\",\"\"&Display3!$D$3&\"\")),RTD(\"cqg.rtd\",,\"OrderData\",\"\"&B281&\"\",\"\",\"OpenPosition\",\"\"&Display3!$D$3&\"\")=0),A280+0.001,INT(A280)+1),A280)","v":0.28100000000000019},{"$f":"(LEFT(B282,SEARCH(Display3!$G$2,B282)+LEN(Display3!$G$2)+2))&RIGHT(B282,LEN(B282)-(SEARCH(Display3!$G$2,B282)+LEN(Display3!$G$2)+2))+Display3!$J$3","v":"P.US.EPZ1724450"}]
[{"$f":"IFERROR(IF(OR(ISTEXT(RTD(\"cqg.rtd\",,\"OrderData\",\"\"&B282&\"\",\"\",\"OpenPosition\",\"\"&Display3!$D$3&\"\")),RTD(\"cqg.rtd\",,\"OrderData\",\"\"&B282&\"\",\"\",\"OpenPosition\",\"\"&Display3!$D$3&\"\")=0),A281+0.001,INT(A281)+1),A281)","v":0.28200000000000019},{"$f":"(LEFT(B283,SEARCH(Display3!$G$2,B283)+LEN(Display3!$G$2)+2))&RIGHT(B283,LEN(B283)-(SEARCH(Display3!$G$2,B283)+LEN(Display3!$G$2)+2))+Display3!$J$3","v":"P.US.EPZ1724400"}]
[{"$f":"IFERROR(IF(OR(ISTEXT(RTD(\"cqg.rtd\",,\"OrderData\",\"\"&B283&\"\",\"\",\"OpenPosition\",\"\"&Display3!$D$3&\"\")),RTD(\"cqg.rtd\",,\"OrderData\",\"\"&B283&\"\",\"\",\"OpenPosition\",\"\"&Display3!$D$3&\"\")=0),A282+0.001,INT(A282)+1),A282)","v":0.2830000000000002},{"$f":"RTD(\"cqg.rtd\", ,\"ContractData\", \"P.US.\"&Display3!$G$2&Display3!$H$3&\"\", \"Symbol\",, \"T\")","v":"P.US.EPZ1724350"}]
[{"$f":"IFERROR(IF(OR(ISTEXT(RTD(\"cqg.rtd\",,\"OrderData\",\"\"&B284&\"\",\"\",\"OpenPosition\",\"\"&Display3!$D$3&\"\")),RTD(\"cqg.rtd\",,\"OrderData\",\"\"&B284&\"\",\"\",\"OpenPosition\",\"\"&Display3!$D$3&\"\")=0),A283+0.001,INT(A283)+1),A283)","v":0.2840000000000002},{"$f":"(LEFT(B283,SEARCH(Display3!$G$2,B283)+LEN(Display3!$G$2)+2))&RIGHT(B283,LEN(B283)-(SEARCH(Display3!$G$2,B283)+LEN(Display3!$G$2)+2))-Display3!$J$3","v":"P.US.EPZ1724300"}]
[{"$f":"IFERROR(IF(OR(ISTEXT(RTD(\"cqg.rtd\",,\"OrderData\",\"\"&B285&\"\",\"\",\"OpenPosition\",\"\"&Display3!$D$3&\"\")),RTD(\"cqg.rtd\",,\"OrderData\",\"\"&B285&\"\",\"\",\"OpenPosition\",\"\"&Display3!$D$3&\"\")=0),A284+0.001,INT(A284)+1),A284)","v":0.2850000000000002},{"$f":"(LEFT(B284,SEARCH(Display3!$G$2,B284)+LEN(Display3!$G$2)+2))&RIGHT(B284,LEN(B284)-(SEARCH(Display3!$G$2,B284)+LEN(Display3!$G$2)+2))-Display3!$J$3","v":"P.US.EPZ1724250"}]
[{"$f":"IFERROR(IF(OR(ISTEXT(RTD(\"cqg.rtd\",,\"OrderData\",\"\"&B286&\"\",\"\",\"OpenPosition\",\"\"&Display3!$D$3&\"\")),RTD(\"cqg.rtd\",,\"OrderData\",\"\"&B286&\"\",\"\",\"OpenPosition\",\"\"&Display3!$D$3&\"\")=0),A285+0.001,INT(A285)+1),A285)","v":0.2860000000000002},{"$f":"(LEFT(B285,SEARCH(Display3!$G$2,B285)+LEN(Display3!$G$2)+2))&RIGHT(B285,LEN(B285)-(SEARCH(Display3!$G$2,B285)+LEN(Display3!$G$2)+2))-Display3!$J$3","v":"P.US.EPZ1724200"}]
[{"$f":"IFERROR(IF(OR(ISTEXT(RTD(\"cqg.rtd\",,\"OrderData\",\"\"&B287&\"\",\"\",\"OpenPosition\",\"\"&Display3!$D$3&\"\")),RTD(\"cqg.rtd\",,\"OrderData\",\"\"&B287&\"\",\"\",\"OpenPosition\",\"\"&Display3!$D$3&\"\")=0),A286+0.001,INT(A286)+1),A286)","v":0.2870000000000002},{"$f":"(LEFT(B286,SEARCH(Display3!$G$2,B286)+LEN(Display3!$G$2)+2))&RIGHT(B286,LEN(B286)-(SEARCH(Display3!$G$2,B286)+LEN(Display3!$G$2)+2))-Display3!$J$3","v":"P.US.EPZ1724150"}]
[{"$f":"IFERROR(IF(OR(ISTEXT(RTD(\"cqg.rtd\",,\"OrderData\",\"\"&B288&\"\",\"\",\"OpenPosition\",\"\"&Display3!$D$3&\"\")),RTD(\"cqg.rtd\",,\"OrderData\",\"\"&B288&\"\",\"\",\"OpenPosition\",\"\"&Display3!$D$3&\"\")=0),A287+0.001,INT(A287)+1),A287)","v":0.2880000000000002},{"$f":"(LEFT(B287,SEARCH(Display3!$G$2,B287)+LEN(Display3!$G$2)+2))&RIGHT(B287,LEN(B287)-(SEARCH(Display3!$G$2,B287)+LEN(Display3!$G$2)+2))-Display3!$J$3","v":"P.US.EPZ1724100"}]
[{"$f":"IFERROR(IF(OR(ISTEXT(RTD(\"cqg.rtd\",,\"OrderData\",\"\"&B289&\"\",\"\",\"OpenPosition\",\"\"&Display3!$D$3&\"\")),RTD(\"cqg.rtd\",,\"OrderData\",\"\"&B289&\"\",\"\",\"OpenPosition\",\"\"&Display3!$D$3&\"\")=0),A288+0.001,INT(A288)+1),A288)","v":0.2890000000000002},{"$f":"(LEFT(B288,SEARCH(Display3!$G$2,B288)+LEN(Display3!$G$2)+2))&RIGHT(B288,LEN(B288)-(SEARCH(Display3!$G$2,B288)+LEN(Display3!$G$2)+2))-Display3!$J$3","v":"P.US.EPZ1724050"}]
[{"$f":"IFERROR(IF(OR(ISTEXT(RTD(\"cqg.rtd\",,\"OrderData\",\"\"&B290&\"\",\"\",\"OpenPosition\",\"\"&Display3!$D$3&\"\")),RTD(\"cqg.rtd\",,\"OrderData\",\"\"&B290&\"\",\"\",\"OpenPosition\",\"\"&Display3!$D$3&\"\")=0),A289+0.001,INT(A289)+1),A289)","v":0.2900000000000002},{"$f":"(LEFT(B289,SEARCH(Display3!$G$2,B289)+LEN(Display3!$G$2)+2))&RIGHT(B289,LEN(B289)-(SEARCH(Display3!$G$2,B289)+LEN(Display3!$G$2)+2))-Display3!$J$3","v":"P.US.EPZ1724000"}]
[{"$f":"IFERROR(IF(OR(ISTEXT(RTD(\"cqg.rtd\",,\"OrderData\",\"\"&B291&\"\",\"\",\"OpenPosition\",\"\"&Display3!$D$3&\"\")),RTD(\"cqg.rtd\",,\"OrderData\",\"\"&B291&\"\",\"\",\"OpenPosition\",\"\"&Display3!$D$3&\"\")=0),A290+0.001,INT(A290)+1),A290)","v":0.2910000000000002},{"$f":"(LEFT(B290,SEARCH(Display3!$G$2,B290)+LEN(Display3!$G$2)+2))&RIGHT(B290,LEN(B290)-(SEARCH(Display3!$G$2,B290)+LEN(Display3!$G$2)+2))-Display3!$J$3","v":"P.US.EPZ1723950"}]
[{"$f":"IFERROR(IF(OR(ISTEXT(RTD(\"cqg.rtd\",,\"OrderData\",\"\"&B292&\"\",\"\",\"OpenPosition\",\"\"&Display3!$D$3&\"\")),RTD(\"cqg.rtd\",,\"OrderData\",\"\"&B292&\"\",\"\",\"OpenPosition\",\"\"&Display3!$D$3&\"\")=0),A291+0.001,INT(A291)+1),A291)","v":0.2920000000000002},{"$f":"(LEFT(B291,SEARCH(Display3!$G$2,B291)+LEN(Display3!$G$2)+2))&RIGHT(B291,LEN(B291)-(SEARCH(Display3!$G$2,B291)+LEN(Display3!$G$2)+2))-Display3!$J$3","v":"P.US.EPZ1723900"}]
[{"$f":"IFERROR(IF(OR(ISTEXT(RTD(\"cqg.rtd\",,\"OrderData\",\"\"&B293&\"\",\"\",\"OpenPosition\",\"\"&Display3!$D$3&\"\")),RTD(\"cqg.rtd\",,\"OrderData\",\"\"&B293&\"\",\"\",\"OpenPosition\",\"\"&Display3!$D$3&\"\")=0),A292+0.001,INT(A292)+1),A292)","v":0.2930000000000002},{"$f":"(LEFT(B292,SEARCH(Display3!$G$2,B292)+LEN(Display3!$G$2)+2))&RIGHT(B292,LEN(B292)-(SEARCH(Display3!$G$2,B292)+LEN(Display3!$G$2)+2))-Display3!$J$3","v":"P.US.EPZ1723850"}]
[{"$f":"IFERROR(IF(OR(ISTEXT(RTD(\"cqg.rtd\",,\"OrderData\",\"\"&B294&\"\",\"\",\"OpenPosition\",\"\"&Display3!$D$3&\"\")),RTD(\"cqg.rtd\",,\"OrderData\",\"\"&B294&\"\",\"\",\"OpenPosition\",\"\"&Display3!$D$3&\"\")=0),A293+0.001,INT(A293)+1),A293)","v":0.29400000000000021},{"$f":"(LEFT(B293,SEARCH(Display3!$G$2,B293)+LEN(Display3!$G$2)+2))&RIGHT(B293,LEN(B293)-(SEARCH(Display3!$G$2,B293)+LEN(Display3!$G$2)+2))-Display3!$J$3","v":"P.US.EPZ1723800"}]
[{"$f":"IFERROR(IF(OR(ISTEXT(RTD(\"cqg.rtd\",,\"OrderData\",\"\"&B295&\"\",\"\",\"OpenPosition\",\"\"&Display3!$D$3&\"\")),RTD(\"cqg.rtd\",,\"OrderData\",\"\"&B295&\"\",\"\",\"OpenPosition\",\"\"&Display3!$D$3&\"\")=0),A294+0.001,INT(A294)+1),A294)","v":0.29500000000000021},{"$f":"(LEFT(B294,SEARCH(Display3!$G$2,B294)+LEN(Display3!$G$2)+2))&RIGHT(B294,LEN(B294)-(SEARCH(Display3!$G$2,B294)+LEN(Display3!$G$2)+2))-Display3!$J$3","v":"P.US.EPZ1723750"}]
[{"$f":"IFERROR(IF(OR(ISTEXT(RTD(\"cqg.rtd\",,\"OrderData\",\"\"&B296&\"\",\"\",\"OpenPosition\",\"\"&Display3!$D$3&\"\")),RTD(\"cqg.rtd\",,\"OrderData\",\"\"&B296&\"\",\"\",\"OpenPosition\",\"\"&Display3!$D$3&\"\")=0),A295+0.001,INT(A295)+1),A295)","v":0.29600000000000021},{"$f":"(LEFT(B295,SEARCH(Display3!$G$2,B295)+LEN(Display3!$G$2)+2))&RIGHT(B295,LEN(B295)-(SEARCH(Display3!$G$2,B295)+LEN(Display3!$G$2)+2))-Display3!$J$3","v":"P.US.EPZ1723700"}]
[{"$f":"IFERROR(IF(OR(ISTEXT(RTD(\"cqg.rtd\",,\"OrderData\",\"\"&B297&\"\",\"\",\"OpenPosition\",\"\"&Display3!$D$3&\"\")),RTD(\"cqg.rtd\",,\"OrderData\",\"\"&B297&\"\",\"\",\"OpenPosition\",\"\"&Display3!$D$3&\"\")=0),A296+0.001,INT(A296)+1),A296)","v":0.29700000000000021},{"$f":"(LEFT(B296,SEARCH(Display3!$G$2,B296)+LEN(Display3!$G$2)+2))&RIGHT(B296,LEN(B296)-(SEARCH(Display3!$G$2,B296)+LEN(Display3!$G$2)+2))-Display3!$J$3","v":"P.US.EPZ1723650"}]
[{"$f":"IFERROR(IF(OR(ISTEXT(RTD(\"cqg.rtd\",,\"OrderData\",\"\"&B298&\"\",\"\",\"OpenPosition\",\"\"&Display3!$D$3&\"\")),RTD(\"cqg.rtd\",,\"OrderData\",\"\"&B298&\"\",\"\",\"OpenPosition\",\"\"&Display3!$D$3&\"\")=0),A297+0.001,INT(A297)+1),A297)","v":0.29800000000000021},{"$f":"(LEFT(B297,SEARCH(Display3!$G$2,B297)+LEN(Display3!$G$2)+2))&RIGHT(B297,LEN(B297)-(SEARCH(Display3!$G$2,B297)+LEN(Display3!$G$2)+2))-Display3!$J$3","v":"P.US.EPZ1723600"}]
[{"$f":"IFERROR(IF(OR(ISTEXT(RTD(\"cqg.rtd\",,\"OrderData\",\"\"&B299&\"\",\"\",\"OpenPosition\",\"\"&Display3!$D$3&\"\")),RTD(\"cqg.rtd\",,\"OrderData\",\"\"&B299&\"\",\"\",\"OpenPosition\",\"\"&Display3!$D$3&\"\")=0),A298+0.001,INT(A298)+1),A298)","v":0.29900000000000021},{"$f":"(LEFT(B298,SEARCH(Display3!$G$2,B298)+LEN(Display3!$G$2)+2))&RIGHT(B298,LEN(B298)-(SEARCH(Display3!$G$2,B298)+LEN(Display3!$G$2)+2))-Display3!$J$3","v":"P.US.EPZ1723550"}]
[{"$f":"IFERROR(IF(OR(ISTEXT(RTD(\"cqg.rtd\",,\"OrderData\",\"\"&B300&\"\",\"\",\"OpenPosition\",\"\"&Display3!$D$3&\"\")),RTD(\"cqg.rtd\",,\"OrderData\",\"\"&B300&\"\",\"\",\"OpenPosition\",\"\"&Display3!$D$3&\"\")=0),A299+0.001,INT(A299)+1),A299)","v":0.30000000000000021},{"$f":"(LEFT(B299,SEARCH(Display3!$G$2,B299)+LEN(Display3!$G$2)+2))&RIGHT(B299,LEN(B299)-(SEARCH(Display3!$G$2,B299)+LEN(Display3!$G$2)+2))-Display3!$J$3","v":"P.US.EPZ1723500"}]
[{"$f":"IFERROR(IF(OR(ISTEXT(RTD(\"cqg.rtd\",,\"OrderData\",\"\"&B301&\"\",\"\",\"OpenPosition\",\"\"&Display3!$D$3&\"\")),RTD(\"cqg.rtd\",,\"OrderData\",\"\"&B301&\"\",\"\",\"OpenPosition\",\"\"&Display3!$D$3&\"\")=0),A300+0.001,INT(A300)+1),A300)","v":0.30100000000000021},{"$f":"(LEFT(B300,SEARCH(Display3!$G$2,B300)+LEN(Display3!$G$2)+2))&RIGHT(B300,LEN(B300)-(SEARCH(Display3!$G$2,B300)+LEN(Display3!$G$2)+2))-Display3!$J$3","v":"P.US.EPZ1723450"}]
[{"$f":"IFERROR(IF(OR(ISTEXT(RTD(\"cqg.rtd\",,\"OrderData\",\"\"&B302&\"\",\"\",\"OpenPosition\",\"\"&Display3!$D$3&\"\")),RTD(\"cqg.rtd\",,\"OrderData\",\"\"&B302&\"\",\"\",\"OpenPosition\",\"\"&Display3!$D$3&\"\")=0),A301+0.001,INT(A301)+1),A301)","v":0.30200000000000021},{"$f":"(LEFT(B301,SEARCH(Display3!$G$2,B301)+LEN(Display3!$G$2)+2))&RIGHT(B301,LEN(B301)-(SEARCH(Display3!$G$2,B301)+LEN(Display3!$G$2)+2))-Display3!$J$3","v":"P.US.EPZ1723400"}]
[{"$f":"IFERROR(IF(OR(ISTEXT(RTD(\"cqg.rtd\",,\"OrderData\",\"\"&B303&\"\",\"\",\"OpenPosition\",\"\"&Display3!$D$3&\"\")),RTD(\"cqg.rtd\",,\"OrderData\",\"\"&B303&\"\",\"\",\"OpenPosition\",\"\"&Display3!$D$3&\"\")=0),A302+0.001,INT(A302)+1),A302)","v":0.30300000000000021},{"$f":"(LEFT(B302,SEARCH(Display3!$G$2,B302)+LEN(Display3!$G$2)+2))&RIGHT(B302,LEN(B302)-(SEARCH(Display3!$G$2,B302)+LEN(Display3!$G$2)+2))-Display3!$J$3","v":"P.US.EPZ1723350"}]
[{"$f":"IFERROR(IF(OR(ISTEXT(RTD(\"cqg.rtd\",,\"OrderData\",\"\"&B304&\"\",\"\",\"OpenPosition\",\"\"&Display3!$D$3&\"\")),RTD(\"cqg.rtd\",,\"OrderData\",\"\"&B304&\"\",\"\",\"OpenPosition\",\"\"&Display3!$D$3&\"\")=0),A303+0.001,INT(A303)+1),A303)","v":0.30400000000000021},{"$f":"(LEFT(B305,SEARCH(Display3!$G$2,B305)+LEN(Display3!$G$2)+2))&RIGHT(B305,LEN(B305)-(SEARCH(Display3!$G$2,B305)+LEN(Display3!$G$2)+2))+Display3!$J$3","v":"C.US.EPH1826300"}]
[{"$f":"IFERROR(IF(OR(ISTEXT(RTD(\"cqg.rtd\",,\"OrderData\",\"\"&B305&\"\",\"\",\"OpenPosition\",\"\"&Display3!$D$3&\"\")),RTD(\"cqg.rtd\",,\"OrderData\",\"\"&B305&\"\",\"\",\"OpenPosition\",\"\"&Display3!$D$3&\"\")=0),A304+0.001,INT(A304)+1),A304)","v":0.30500000000000022},{"$f":"(LEFT(B306,SEARCH(Display3!$G$2,B306)+LEN(Display3!$G$2)+2))&RIGHT(B306,LEN(B306)-(SEARCH(Display3!$G$2,B306)+LEN(Display3!$G$2)+2))+Display3!$J$3","v":"C.US.EPH1826250"}]
[{"$f":"IFERROR(IF(OR(ISTEXT(RTD(\"cqg.rtd\",,\"OrderData\",\"\"&B306&\"\",\"\",\"OpenPosition\",\"\"&Display3!$D$3&\"\")),RTD(\"cqg.rtd\",,\"OrderData\",\"\"&B306&\"\",\"\",\"OpenPosition\",\"\"&Display3!$D$3&\"\")=0),A305+0.001,INT(A305)+1),A305)","v":0.30600000000000022},{"$f":"(LEFT(B307,SEARCH(Display3!$G$2,B307)+LEN(Display3!$G$2)+2))&RIGHT(B307,LEN(B307)-(SEARCH(Display3!$G$2,B307)+LEN(Display3!$G$2)+2))+Display3!$J$3","v":"C.US.EPH1826200"}]
[{"$f":"IFERROR(IF(OR(ISTEXT(RTD(\"cqg.rtd\",,\"OrderData\",\"\"&B307&\"\",\"\",\"OpenPosition\",\"\"&Display3!$D$3&\"\")),RTD(\"cqg.rtd\",,\"OrderData\",\"\"&B307&\"\",\"\",\"OpenPosition\",\"\"&Display3!$D$3&\"\")=0),A306+0.001,INT(A306)+1),A306)","v":0.30700000000000022},{"$f":"(LEFT(B308,SEARCH(Display3!$G$2,B308)+LEN(Display3!$G$2)+2))&RIGHT(B308,LEN(B308)-(SEARCH(Display3!$G$2,B308)+LEN(Display3!$G$2)+2))+Display3!$J$3","v":"C.US.EPH1826150"}]
[{"$f":"IFERROR(IF(OR(ISTEXT(RTD(\"cqg.rtd\",,\"OrderData\",\"\"&B308&\"\",\"\",\"OpenPosition\",\"\"&Display3!$D$3&\"\")),RTD(\"cqg.rtd\",,\"OrderData\",\"\"&B308&\"\",\"\",\"OpenPosition\",\"\"&Display3!$D$3&\"\")=0),A307+0.001,INT(A307)+1),A307)","v":0.30800000000000022},{"$f":"(LEFT(B309,SEARCH(Display3!$G$2,B309)+LEN(Display3!$G$2)+2))&RIGHT(B309,LEN(B309)-(SEARCH(Display3!$G$2,B309)+LEN(Display3!$G$2)+2))+Display3!$J$3","v":"C.US.EPH1826100"}]
[{"$f":"IFERROR(IF(OR(ISTEXT(RTD(\"cqg.rtd\",,\"OrderData\",\"\"&B309&\"\",\"\",\"OpenPosition\",\"\"&Display3!$D$3&\"\")),RTD(\"cqg.rtd\",,\"OrderData\",\"\"&B309&\"\",\"\",\"OpenPosition\",\"\"&Display3!$D$3&\"\")=0),A308+0.001,INT(A308)+1),A308)","v":0.30900000000000022},{"$f":"(LEFT(B310,SEARCH(Display3!$G$2,B310)+LEN(Display3!$G$2)+2))&RIGHT(B310,LEN(B310)-(SEARCH(Display3!$G$2,B310)+LEN(Display3!$G$2)+2))+Display3!$J$3","v":"C.US.EPH1826050"}]
[{"$f":"IFERROR(IF(OR(ISTEXT(RTD(\"cqg.rtd\",,\"OrderData\",\"\"&B310&\"\",\"\",\"OpenPosition\",\"\"&Display3!$D$3&\"\")),RTD(\"cqg.rtd\",,\"OrderData\",\"\"&B310&\"\",\"\",\"OpenPosition\",\"\"&Display3!$D$3&\"\")=0),A309+0.001,INT(A309)+1),A309)","v":0.31000000000000022},{"$f":"(LEFT(B311,SEARCH(Display3!$G$2,B311)+LEN(Display3!$G$2)+2))&RIGHT(B311,LEN(B311)-(SEARCH(Display3!$G$2,B311)+LEN(Display3!$G$2)+2))+Display3!$J$3","v":"C.US.EPH1826000"}]
[{"$f":"IFERROR(IF(OR(ISTEXT(RTD(\"cqg.rtd\",,\"OrderData\",\"\"&B311&\"\",\"\",\"OpenPosition\",\"\"&Display3!$D$3&\"\")),RTD(\"cqg.rtd\",,\"OrderData\",\"\"&B311&\"\",\"\",\"OpenPosition\",\"\"&Display3!$D$3&\"\")=0),A310+0.001,INT(A310)+1),A310)","v":0.31100000000000022},{"$f":"(LEFT(B312,SEARCH(Display3!$G$2,B312)+LEN(Display3!$G$2)+2))&RIGHT(B312,LEN(B312)-(SEARCH(Display3!$G$2,B312)+LEN(Display3!$G$2)+2))+Display3!$J$3","v":"C.US.EPH1825950"}]
[{"$f":"IFERROR(IF(OR(ISTEXT(RTD(\"cqg.rtd\",,\"OrderData\",\"\"&B312&\"\",\"\",\"OpenPosition\",\"\"&Display3!$D$3&\"\")),RTD(\"cqg.rtd\",,\"OrderData\",\"\"&B312&\"\",\"\",\"OpenPosition\",\"\"&Display3!$D$3&\"\")=0),A311+0.001,INT(A311)+1),A311)","v":0.31200000000000022},{"$f":"(LEFT(B313,SEARCH(Display3!$G$2,B313)+LEN(Display3!$G$2)+2))&RIGHT(B313,LEN(B313)-(SEARCH(Display3!$G$2,B313)+LEN(Display3!$G$2)+2))+Display3!$J$3","v":"C.US.EPH1825900"}]
[{"$f":"IFERROR(IF(OR(ISTEXT(RTD(\"cqg.rtd\",,\"OrderData\",\"\"&B313&\"\",\"\",\"OpenPosition\",\"\"&Display3!$D$3&\"\")),RTD(\"cqg.rtd\",,\"OrderData\",\"\"&B313&\"\",\"\",\"OpenPosition\",\"\"&Display3!$D$3&\"\")=0),A312+0.001,INT(A312)+1),A312)","v":0.31300000000000022},{"$f":"(LEFT(B314,SEARCH(Display3!$G$2,B314)+LEN(Display3!$G$2)+2))&RIGHT(B314,LEN(B314)-(SEARCH(Display3!$G$2,B314)+LEN(Display3!$G$2)+2))+Display3!$J$3","v":"C.US.EPH1825850"}]
[{"$f":"IFERROR(IF(OR(ISTEXT(RTD(\"cqg.rtd\",,\"OrderData\",\"\"&B314&\"\",\"\",\"OpenPosition\",\"\"&Display3!$D$3&\"\")),RTD(\"cqg.rtd\",,\"OrderData\",\"\"&B314&\"\",\"\",\"OpenPosition\",\"\"&Display3!$D$3&\"\")=0),A313+0.001,INT(A313)+1),A313)","v":0.31400000000000022},{"$f":"(LEFT(B315,SEARCH(Display3!$G$2,B315)+LEN(Display3!$G$2)+2))&RIGHT(B315,LEN(B315)-(SEARCH(Display3!$G$2,B315)+LEN(Display3!$G$2)+2))+Display3!$J$3","v":"C.US.EPH1825800"}]
[{"$f":"IFERROR(IF(OR(ISTEXT(RTD(\"cqg.rtd\",,\"OrderData\",\"\"&B315&\"\",\"\",\"OpenPosition\",\"\"&Display3!$D$3&\"\")),RTD(\"cqg.rtd\",,\"OrderData\",\"\"&B315&\"\",\"\",\"OpenPosition\",\"\"&Display3!$D$3&\"\")=0),A314+0.001,INT(A314)+1),A314)","v":0.31500000000000022},{"$f":"(LEFT(B316,SEARCH(Display3!$G$2,B316)+LEN(Display3!$G$2)+2))&RIGHT(B316,LEN(B316)-(SEARCH(Display3!$G$2,B316)+LEN(Display3!$G$2)+2))+Display3!$J$3","v":"C.US.EPH1825750"}]
[{"$f":"IFERROR(IF(OR(ISTEXT(RTD(\"cqg.rtd\",,\"OrderData\",\"\"&B316&\"\",\"\",\"OpenPosition\",\"\"&Display3!$D$3&\"\")),RTD(\"cqg.rtd\",,\"OrderData\",\"\"&B316&\"\",\"\",\"OpenPosition\",\"\"&Display3!$D$3&\"\")=0),A315+0.001,INT(A315)+1),A315)","v":0.31600000000000023},{"$f":"(LEFT(B317,SEARCH(Display3!$G$2,B317)+LEN(Display3!$G$2)+2))&RIGHT(B317,LEN(B317)-(SEARCH(Display3!$G$2,B317)+LEN(Display3!$G$2)+2))+Display3!$J$3","v":"C.US.EPH1825700"}]
[{"$f":"IFERROR(IF(OR(ISTEXT(RTD(\"cqg.rtd\",,\"OrderData\",\"\"&B317&\"\",\"\",\"OpenPosition\",\"\"&Display3!$D$3&\"\")),RTD(\"cqg.rtd\",,\"OrderData\",\"\"&B317&\"\",\"\",\"OpenPosition\",\"\"&Display3!$D$3&\"\")=0),A316+0.001,INT(A316)+1),A316)","v":0.31700000000000023},{"$f":"(LEFT(B318,SEARCH(Display3!$G$2,B318)+LEN(Display3!$G$2)+2))&RIGHT(B318,LEN(B318)-(SEARCH(Display3!$G$2,B318)+LEN(Display3!$G$2)+2))+Display3!$J$3","v":"C.US.EPH1825650"}]
[{"$f":"IFERROR(IF(OR(ISTEXT(RTD(\"cqg.rtd\",,\"OrderData\",\"\"&B318&\"\",\"\",\"OpenPosition\",\"\"&Display3!$D$3&\"\")),RTD(\"cqg.rtd\",,\"OrderData\",\"\"&B318&\"\",\"\",\"OpenPosition\",\"\"&Display3!$D$3&\"\")=0),A317+0.001,INT(A317)+1),A317)","v":0.31800000000000023},{"$f":"(LEFT(B319,SEARCH(Display3!$G$2,B319)+LEN(Display3!$G$2)+2))&RIGHT(B319,LEN(B319)-(SEARCH(Display3!$G$2,B319)+LEN(Display3!$G$2)+2))+Display3!$J$3","v":"C.US.EPH1825600"}]
[{"$f":"IFERROR(IF(OR(ISTEXT(RTD(\"cqg.rtd\",,\"OrderData\",\"\"&B319&\"\",\"\",\"OpenPosition\",\"\"&Display3!$D$3&\"\")),RTD(\"cqg.rtd\",,\"OrderData\",\"\"&B319&\"\",\"\",\"OpenPosition\",\"\"&Display3!$D$3&\"\")=0),A318+0.001,INT(A318)+1),A318)","v":0.31900000000000023},{"$f":"(LEFT(B320,SEARCH(Display3!$G$2,B320)+LEN(Display3!$G$2)+2))&RIGHT(B320,LEN(B320)-(SEARCH(Display3!$G$2,B320)+LEN(Display3!$G$2)+2))+Display3!$J$3","v":"C.US.EPH1825550"}]
[{"$f":"IFERROR(IF(OR(ISTEXT(RTD(\"cqg.rtd\",,\"OrderData\",\"\"&B320&\"\",\"\",\"OpenPosition\",\"\"&Display3!$D$3&\"\")),RTD(\"cqg.rtd\",,\"OrderData\",\"\"&B320&\"\",\"\",\"OpenPosition\",\"\"&Display3!$D$3&\"\")=0),A319+0.001,INT(A319)+1),A319)","v":0.32000000000000023},{"$f":"(LEFT(B321,SEARCH(Display3!$G$2,B321)+LEN(Display3!$G$2)+2))&RIGHT(B321,LEN(B321)-(SEARCH(Display3!$G$2,B321)+LEN(Display3!$G$2)+2))+Display3!$J$3","v":"C.US.EPH1825500"}]
[{"$f":"IFERROR(IF(OR(ISTEXT(RTD(\"cqg.rtd\",,\"OrderData\",\"\"&B321&\"\",\"\",\"OpenPosition\",\"\"&Display3!$D$3&\"\")),RTD(\"cqg.rtd\",,\"OrderData\",\"\"&B321&\"\",\"\",\"OpenPosition\",\"\"&Display3!$D$3&\"\")=0),A320+0.001,INT(A320)+1),A320)","v":0.32100000000000023},{"$f":"(LEFT(B322,SEARCH(Display3!$G$2,B322)+LEN(Display3!$G$2)+2))&RIGHT(B322,LEN(B322)-(SEARCH(Display3!$G$2,B322)+LEN(Display3!$G$2)+2))+Display3!$J$3","v":"C.US.EPH1825450"}]
[{"$f":"IFERROR(IF(OR(ISTEXT(RTD(\"cqg.rtd\",,\"OrderData\",\"\"&B322&\"\",\"\",\"OpenPosition\",\"\"&Display3!$D$3&\"\")),RTD(\"cqg.rtd\",,\"OrderData\",\"\"&B322&\"\",\"\",\"OpenPosition\",\"\"&Display3!$D$3&\"\")=0),A321+0.001,INT(A321)+1),A321)","v":0.32200000000000023},{"$f":"(LEFT(B323,SEARCH(Display3!$G$2,B323)+LEN(Display3!$G$2)+2))&RIGHT(B323,LEN(B323)-(SEARCH(Display3!$G$2,B323)+LEN(Display3!$G$2)+2))+Display3!$J$3","v":"C.US.EPH1825400"}]
[{"$f":"IFERROR(IF(OR(ISTEXT(RTD(\"cqg.rtd\",,\"OrderData\",\"\"&B323&\"\",\"\",\"OpenPosition\",\"\"&Display3!$D$3&\"\")),RTD(\"cqg.rtd\",,\"OrderData\",\"\"&B323&\"\",\"\",\"OpenPosition\",\"\"&Display3!$D$3&\"\")=0),A322+0.001,INT(A322)+1),A322)","v":0.32300000000000023},{"$f":"(LEFT(B324,SEARCH(Display3!$G$2,B324)+LEN(Display3!$G$2)+2))&RIGHT(B324,LEN(B324)-(SEARCH(Display3!$G$2,B324)+LEN(Display3!$G$2)+2))+Display3!$J$3","v":"C.US.EPH1825350"}]
[{"$f":"IFERROR(IF(OR(ISTEXT(RTD(\"cqg.rtd\",,\"OrderData\",\"\"&B324&\"\",\"\",\"OpenPosition\",\"\"&Display3!$D$3&\"\")),RTD(\"cqg.rtd\",,\"OrderData\",\"\"&B324&\"\",\"\",\"OpenPosition\",\"\"&Display3!$D$3&\"\")=0),A323+0.001,INT(A323)+1),A323)","v":0.32400000000000023},{"$f":"(LEFT(B325,SEARCH(Display3!$G$2,B325)+LEN(Display3!$G$2)+2))&RIGHT(B325,LEN(B325)-(SEARCH(Display3!$G$2,B325)+LEN(Display3!$G$2)+2))+Display3!$J$3","v":"C.US.EPH1825300"}]
[{"$f":"IFERROR(IF(OR(ISTEXT(RTD(\"cqg.rtd\",,\"OrderData\",\"\"&B325&\"\",\"\",\"OpenPosition\",\"\"&Display3!$D$3&\"\")),RTD(\"cqg.rtd\",,\"OrderData\",\"\"&B325&\"\",\"\",\"OpenPosition\",\"\"&Display3!$D$3&\"\")=0),A324+0.001,INT(A324)+1),A324)","v":0.32500000000000023},{"$f":"(LEFT(B326,SEARCH(Display3!$G$2,B326)+LEN(Display3!$G$2)+2))&RIGHT(B326,LEN(B326)-(SEARCH(Display3!$G$2,B326)+LEN(Display3!$G$2)+2))+Display3!$J$3","v":"C.US.EPH1825250"}]
[{"$f":"IFERROR(IF(OR(ISTEXT(RTD(\"cqg.rtd\",,\"OrderData\",\"\"&B326&\"\",\"\",\"OpenPosition\",\"\"&Display3!$D$3&\"\")),RTD(\"cqg.rtd\",,\"OrderData\",\"\"&B326&\"\",\"\",\"OpenPosition\",\"\"&Display3!$D$3&\"\")=0),A325+0.001,INT(A325)+1),A325)","v":0.32600000000000023},{"$f":"(LEFT(B327,SEARCH(Display3!$G$2,B327)+LEN(Display3!$G$2)+2))&RIGHT(B327,LEN(B327)-(SEARCH(Display3!$G$2,B327)+LEN(Display3!$G$2)+2))+Display3!$J$3","v":"C.US.EPH1825200"}]
[{"$f":"IFERROR(IF(OR(ISTEXT(RTD(\"cqg.rtd\",,\"OrderData\",\"\"&B327&\"\",\"\",\"OpenPosition\",\"\"&Display3!$D$3&\"\")),RTD(\"cqg.rtd\",,\"OrderData\",\"\"&B327&\"\",\"\",\"OpenPosition\",\"\"&Display3!$D$3&\"\")=0),A326+0.001,INT(A326)+1),A326)","v":0.32700000000000023},{"$f":"(LEFT(B328,SEARCH(Display3!$G$2,B328)+LEN(Display3!$G$2)+2))&RIGHT(B328,LEN(B328)-(SEARCH(Display3!$G$2,B328)+LEN(Display3!$G$2)+2))+Display3!$J$3","v":"C.US.EPH1825150"}]
[{"$f":"IFERROR(IF(OR(ISTEXT(RTD(\"cqg.rtd\",,\"OrderData\",\"\"&B328&\"\",\"\",\"OpenPosition\",\"\"&Display3!$D$3&\"\")),RTD(\"cqg.rtd\",,\"OrderData\",\"\"&B328&\"\",\"\",\"OpenPosition\",\"\"&Display3!$D$3&\"\")=0),A327+0.001,INT(A327)+1),A327)","v":0.32800000000000024},{"$f":"(LEFT(B329,SEARCH(Display3!$G$2,B329)+LEN(Display3!$G$2)+2))&RIGHT(B329,LEN(B329)-(SEARCH(Display3!$G$2,B329)+LEN(Display3!$G$2)+2))+Display3!$J$3","v":"C.US.EPH1825100"}]
[{"$f":"IFERROR(IF(OR(ISTEXT(RTD(\"cqg.rtd\",,\"OrderData\",\"\"&B329&\"\",\"\",\"OpenPosition\",\"\"&Display3!$D$3&\"\")),RTD(\"cqg.rtd\",,\"OrderData\",\"\"&B329&\"\",\"\",\"OpenPosition\",\"\"&Display3!$D$3&\"\")=0),A328+0.001,INT(A328)+1),A328)","v":0.32900000000000024},{"$f":"(LEFT(B330,SEARCH(Display3!$G$2,B330)+LEN(Display3!$G$2)+2))&RIGHT(B330,LEN(B330)-(SEARCH(Display3!$G$2,B330)+LEN(Display3!$G$2)+2))+Display3!$J$3","v":"C.US.EPH1825050"}]
[{"$f":"IFERROR(IF(OR(ISTEXT(RTD(\"cqg.rtd\",,\"OrderData\",\"\"&B330&\"\",\"\",\"OpenPosition\",\"\"&Display3!$D$3&\"\")),RTD(\"cqg.rtd\",,\"OrderData\",\"\"&B330&\"\",\"\",\"OpenPosition\",\"\"&Display3!$D$3&\"\")=0),A329+0.001,INT(A329)+1),A329)","v":0.33000000000000024},{"$f":"(LEFT(B331,SEARCH(Display3!$G$2,B331)+LEN(Display3!$G$2)+2))&RIGHT(B331,LEN(B331)-(SEARCH(Display3!$G$2,B331)+LEN(Display3!$G$2)+2))+Display3!$J$3","v":"C.US.EPH1825000"}]
[{"$f":"IFERROR(IF(OR(ISTEXT(RTD(\"cqg.rtd\",,\"OrderData\",\"\"&B331&\"\",\"\",\"OpenPosition\",\"\"&Display3!$D$3&\"\")),RTD(\"cqg.rtd\",,\"OrderData\",\"\"&B331&\"\",\"\",\"OpenPosition\",\"\"&Display3!$D$3&\"\")=0),A330+0.001,INT(A330)+1),A330)","v":0.33100000000000024},{"$f":"(LEFT(B332,SEARCH(Display3!$G$2,B332)+LEN(Display3!$G$2)+2))&RIGHT(B332,LEN(B332)-(SEARCH(Display3!$G$2,B332)+LEN(Display3!$G$2)+2))+Display3!$J$3","v":"C.US.EPH1824950"}]
[{"$f":"IFERROR(IF(OR(ISTEXT(RTD(\"cqg.rtd\",,\"OrderData\",\"\"&B332&\"\",\"\",\"OpenPosition\",\"\"&Display3!$D$3&\"\")),RTD(\"cqg.rtd\",,\"OrderData\",\"\"&B332&\"\",\"\",\"OpenPosition\",\"\"&Display3!$D$3&\"\")=0),A331+0.001,INT(A331)+1),A331)","v":0.33200000000000024},{"$f":"(LEFT(B333,SEARCH(Display3!$G$2,B333)+LEN(Display3!$G$2)+2))&RIGHT(B333,LEN(B333)-(SEARCH(Display3!$G$2,B333)+LEN(Display3!$G$2)+2))+Display3!$J$3","v":"C.US.EPH1824900"}]
[{"$f":"IFERROR(IF(OR(ISTEXT(RTD(\"cqg.rtd\",,\"OrderData\",\"\"&B333&\"\",\"\",\"OpenPosition\",\"\"&Display3!$D$3&\"\")),RTD(\"cqg.rtd\",,\"OrderData\",\"\"&B333&\"\",\"\",\"OpenPosition\",\"\"&Display3!$D$3&\"\")=0),A332+0.001,INT(A332)+1),A332)","v":0.33300000000000024},{"$f":"(LEFT(B334,SEARCH(Display3!$G$2,B334)+LEN(Display3!$G$2)+2))&RIGHT(B334,LEN(B334)-(SEARCH(Display3!$G$2,B334)+LEN(Display3!$G$2)+2))+Display3!$J$3","v":"C.US.EPH1824850"}]
[{"$f":"IFERROR(IF(OR(ISTEXT(RTD(\"cqg.rtd\",,\"OrderData\",\"\"&B334&\"\",\"\",\"OpenPosition\",\"\"&Display3!$D$3&\"\")),RTD(\"cqg.rtd\",,\"OrderData\",\"\"&B334&\"\",\"\",\"OpenPosition\",\"\"&Display3!$D$3&\"\")=0),A333+0.001,INT(A333)+1),A333)","v":0.33400000000000024},{"$f":"(LEFT(B335,SEARCH(Display3!$G$2,B335)+LEN(Display3!$G$2)+2))&RIGHT(B335,LEN(B335)-(SEARCH(Display3!$G$2,B335)+LEN(Display3!$G$2)+2))+Display3!$J$3","v":"C.US.EPH1824800"}]
[{"$f":"IFERROR(IF(OR(ISTEXT(RTD(\"cqg.rtd\",,\"OrderData\",\"\"&B335&\"\",\"\",\"OpenPosition\",\"\"&Display3!$D$3&\"\")),RTD(\"cqg.rtd\",,\"OrderData\",\"\"&B335&\"\",\"\",\"OpenPosition\",\"\"&Display3!$D$3&\"\")=0),A334+0.001,INT(A334)+1),A334)","v":0.33500000000000024},{"$f":"(LEFT(B336,SEARCH(Display3!$G$2,B336)+LEN(Display3!$G$2)+2))&RIGHT(B336,LEN(B336)-(SEARCH(Display3!$G$2,B336)+LEN(Display3!$G$2)+2))+Display3!$J$3","v":"C.US.EPH1824750"}]
[{"$f":"IFERROR(IF(OR(ISTEXT(RTD(\"cqg.rtd\",,\"OrderData\",\"\"&B336&\"\",\"\",\"OpenPosition\",\"\"&Display3!$D$3&\"\")),RTD(\"cqg.rtd\",,\"OrderData\",\"\"&B336&\"\",\"\",\"OpenPosition\",\"\"&Display3!$D$3&\"\")=0),A335+0.001,INT(A335)+1),A335)","v":0.33600000000000024},{"$f":"(LEFT(B337,SEARCH(Display3!$G$2,B337)+LEN(Display3!$G$2)+2))&RIGHT(B337,LEN(B337)-(SEARCH(Display3!$G$2,B337)+LEN(Display3!$G$2)+2))+Display3!$J$3","v":"C.US.EPH1824700"}]
[{"$f":"IFERROR(IF(OR(ISTEXT(RTD(\"cqg.rtd\",,\"OrderData\",\"\"&B337&\"\",\"\",\"OpenPosition\",\"\"&Display3!$D$3&\"\")),RTD(\"cqg.rtd\",,\"OrderData\",\"\"&B337&\"\",\"\",\"OpenPosition\",\"\"&Display3!$D$3&\"\")=0),A336+0.001,INT(A336)+1),A336)","v":0.33700000000000024},{"$f":"(LEFT(B338,SEARCH(Display3!$G$2,B338)+LEN(Display3!$G$2)+2))&RIGHT(B338,LEN(B338)-(SEARCH(Display3!$G$2,B338)+LEN(Display3!$G$2)+2))+Display3!$J$3","v":"C.US.EPH1824650"}]
[{"$f":"IFERROR(IF(OR(ISTEXT(RTD(\"cqg.rtd\",,\"OrderData\",\"\"&B338&\"\",\"\",\"OpenPosition\",\"\"&Display3!$D$3&\"\")),RTD(\"cqg.rtd\",,\"OrderData\",\"\"&B338&\"\",\"\",\"OpenPosition\",\"\"&Display3!$D$3&\"\")=0),A337+0.001,INT(A337)+1),A337)","v":0.33800000000000024},{"$f":"(LEFT(B339,SEARCH(Display3!$G$2,B339)+LEN(Display3!$G$2)+2))&RIGHT(B339,LEN(B339)-(SEARCH(Display3!$G$2,B339)+LEN(Display3!$G$2)+2))+Display3!$J$3","v":"C.US.EPH1824600"}]
[{"$f":"IFERROR(IF(OR(ISTEXT(RTD(\"cqg.rtd\",,\"OrderData\",\"\"&B339&\"\",\"\",\"OpenPosition\",\"\"&Display3!$D$3&\"\")),RTD(\"cqg.rtd\",,\"OrderData\",\"\"&B339&\"\",\"\",\"OpenPosition\",\"\"&Display3!$D$3&\"\")=0),A338+0.001,INT(A338)+1),A338)","v":0.33900000000000025},{"$f":"(LEFT(B340,SEARCH(Display3!$G$2,B340)+LEN(Display3!$G$2)+2))&RIGHT(B340,LEN(B340)-(SEARCH(Display3!$G$2,B340)+LEN(Display3!$G$2)+2))+Display3!$J$3","v":"C.US.EPH1824550"}]
[{"$f":"IFERROR(IF(OR(ISTEXT(RTD(\"cqg.rtd\",,\"OrderData\",\"\"&B340&\"\",\"\",\"OpenPosition\",\"\"&Display3!$D$3&\"\")),RTD(\"cqg.rtd\",,\"OrderData\",\"\"&B340&\"\",\"\",\"OpenPosition\",\"\"&Display3!$D$3&\"\")=0),A339+0.001,INT(A339)+1),A339)","v":0.34000000000000025},{"$f":"(LEFT(B341,SEARCH(Display3!$G$2,B341)+LEN(Display3!$G$2)+2))&RIGHT(B341,LEN(B341)-(SEARCH(Display3!$G$2,B341)+LEN(Display3!$G$2)+2))+Display3!$J$3","v":"C.US.EPH1824500"}]
[{"$f":"IFERROR(IF(OR(ISTEXT(RTD(\"cqg.rtd\",,\"OrderData\",\"\"&B341&\"\",\"\",\"OpenPosition\",\"\"&Display3!$D$3&\"\")),RTD(\"cqg.rtd\",,\"OrderData\",\"\"&B341&\"\",\"\",\"OpenPosition\",\"\"&Display3!$D$3&\"\")=0),A340+0.001,INT(A340)+1),A340)","v":0.34100000000000025},{"$f":"(LEFT(B342,SEARCH(Display3!$G$2,B342)+LEN(Display3!$G$2)+2))&RIGHT(B342,LEN(B342)-(SEARCH(Display3!$G$2,B342)+LEN(Display3!$G$2)+2))+Display3!$J$3","v":"C.US.EPH1824450"}]
[{"$f":"IFERROR(IF(OR(ISTEXT(RTD(\"cqg.rtd\",,\"OrderData\",\"\"&B342&\"\",\"\",\"OpenPosition\",\"\"&Display3!$D$3&\"\")),RTD(\"cqg.rtd\",,\"OrderData\",\"\"&B342&\"\",\"\",\"OpenPosition\",\"\"&Display3!$D$3&\"\")=0),A341+0.001,INT(A341)+1),A341)","v":0.34200000000000025},{"$f":"(LEFT(B343,SEARCH(Display3!$G$2,B343)+LEN(Display3!$G$2)+2))&RIGHT(B343,LEN(B343)-(SEARCH(Display3!$G$2,B343)+LEN(Display3!$G$2)+2))+Display3!$J$3","v":"C.US.EPH1824400"}]
[{"$f":"IFERROR(IF(OR(ISTEXT(RTD(\"cqg.rtd\",,\"OrderData\",\"\"&B343&\"\",\"\",\"OpenPosition\",\"\"&Display3!$D$3&\"\")),RTD(\"cqg.rtd\",,\"OrderData\",\"\"&B343&\"\",\"\",\"OpenPosition\",\"\"&Display3!$D$3&\"\")=0),A342+0.001,INT(A342)+1),A342)","v":0.34300000000000025},{"$f":"(LEFT(B344,SEARCH(Display3!$G$2,B344)+LEN(Display3!$G$2)+2))&RIGHT(B344,LEN(B344)-(SEARCH(Display3!$G$2,B344)+LEN(Display3!$G$2)+2))+Display3!$J$3","v":"C.US.EPH1824350"}]
[{"$f":"IFERROR(IF(OR(ISTEXT(RTD(\"cqg.rtd\",,\"OrderData\",\"\"&B344&\"\",\"\",\"OpenPosition\",\"\"&Display3!$D$3&\"\")),RTD(\"cqg.rtd\",,\"OrderData\",\"\"&B344&\"\",\"\",\"OpenPosition\",\"\"&Display3!$D$3&\"\")=0),A343+0.001,INT(A343)+1),A343)","v":0.34400000000000025},{"$f":"RTD(\"cqg.rtd\", ,\"ContractData\", \"C.US.\"&Display3!$G$2&Display3!$I$3&\"\", \"Symbol\",, \"T\")","v":"C.US.EPH1824300"}]
[{"$f":"IFERROR(IF(OR(ISTEXT(RTD(\"cqg.rtd\",,\"OrderData\",\"\"&B345&\"\",\"\",\"OpenPosition\",\"\"&Display3!$D$3&\"\")),RTD(\"cqg.rtd\",,\"OrderData\",\"\"&B345&\"\",\"\",\"OpenPosition\",\"\"&Display3!$D$3&\"\")=0),A344+0.001,INT(A344)+1),A344)","v":0.34500000000000025},{"$f":"(LEFT(B344,SEARCH(Display3!$G$2,B344)+LEN(Display3!$G$2)+2))&RIGHT(B344,LEN(B344)-(SEARCH(Display3!$G$2,B344)+LEN(Display3!$G$2)+2))-Display3!$J$3","v":"C.US.EPH1824250"}]
[{"$f":"IFERROR(IF(OR(ISTEXT(RTD(\"cqg.rtd\",,\"OrderData\",\"\"&B346&\"\",\"\",\"OpenPosition\",\"\"&Display3!$D$3&\"\")),RTD(\"cqg.rtd\",,\"OrderData\",\"\"&B346&\"\",\"\",\"OpenPosition\",\"\"&Display3!$D$3&\"\")=0),A345+0.001,INT(A345)+1),A345)","v":0.34600000000000025},{"$f":"(LEFT(B345,SEARCH(Display3!$G$2,B345)+LEN(Display3!$G$2)+2))&RIGHT(B345,LEN(B345)-(SEARCH(Display3!$G$2,B345)+LEN(Display3!$G$2)+2))-Display3!$J$3","v":"C.US.EPH1824200"}]
[{"$f":"IFERROR(IF(OR(ISTEXT(RTD(\"cqg.rtd\",,\"OrderData\",\"\"&B347&\"\",\"\",\"OpenPosition\",\"\"&Display3!$D$3&\"\")),RTD(\"cqg.rtd\",,\"OrderData\",\"\"&B347&\"\",\"\",\"OpenPosition\",\"\"&Display3!$D$3&\"\")=0),A346+0.001,INT(A346)+1),A346)","v":0.34700000000000025},{"$f":"(LEFT(B346,SEARCH(Display3!$G$2,B346)+LEN(Display3!$G$2)+2))&RIGHT(B346,LEN(B346)-(SEARCH(Display3!$G$2,B346)+LEN(Display3!$G$2)+2))-Display3!$J$3","v":"C.US.EPH1824150"}]
[{"$f":"IFERROR(IF(OR(ISTEXT(RTD(\"cqg.rtd\",,\"OrderData\",\"\"&B348&\"\",\"\",\"OpenPosition\",\"\"&Display3!$D$3&\"\")),RTD(\"cqg.rtd\",,\"OrderData\",\"\"&B348&\"\",\"\",\"OpenPosition\",\"\"&Display3!$D$3&\"\")=0),A347+0.001,INT(A347)+1),A347)","v":0.34800000000000025},{"$f":"(LEFT(B347,SEARCH(Display3!$G$2,B347)+LEN(Display3!$G$2)+2))&RIGHT(B347,LEN(B347)-(SEARCH(Display3!$G$2,B347)+LEN(Display3!$G$2)+2))-Display3!$J$3","v":"C.US.EPH1824100"}]
[{"$f":"IFERROR(IF(OR(ISTEXT(RTD(\"cqg.rtd\",,\"OrderData\",\"\"&B349&\"\",\"\",\"OpenPosition\",\"\"&Display3!$D$3&\"\")),RTD(\"cqg.rtd\",,\"OrderData\",\"\"&B349&\"\",\"\",\"OpenPosition\",\"\"&Display3!$D$3&\"\")=0),A348+0.001,INT(A348)+1),A348)","v":0.34900000000000025},{"$f":"(LEFT(B348,SEARCH(Display3!$G$2,B348)+LEN(Display3!$G$2)+2))&RIGHT(B348,LEN(B348)-(SEARCH(Display3!$G$2,B348)+LEN(Display3!$G$2)+2))-Display3!$J$3","v":"C.US.EPH1824050"}]
[{"$f":"IFERROR(IF(OR(ISTEXT(RTD(\"cqg.rtd\",,\"OrderData\",\"\"&B350&\"\",\"\",\"OpenPosition\",\"\"&Display3!$D$3&\"\")),RTD(\"cqg.rtd\",,\"OrderData\",\"\"&B350&\"\",\"\",\"OpenPosition\",\"\"&Display3!$D$3&\"\")=0),A349+0.001,INT(A349)+1),A349)","v":0.35000000000000026},{"$f":"(LEFT(B349,SEARCH(Display3!$G$2,B349)+LEN(Display3!$G$2)+2))&RIGHT(B349,LEN(B349)-(SEARCH(Display3!$G$2,B349)+LEN(Display3!$G$2)+2))-Display3!$J$3","v":"C.US.EPH1824000"}]
[{"$f":"IFERROR(IF(OR(ISTEXT(RTD(\"cqg.rtd\",,\"OrderData\",\"\"&B351&\"\",\"\",\"OpenPosition\",\"\"&Display3!$D$3&\"\")),RTD(\"cqg.rtd\",,\"OrderData\",\"\"&B351&\"\",\"\",\"OpenPosition\",\"\"&Display3!$D$3&\"\")=0),A350+0.001,INT(A350)+1),A350)","v":0.35100000000000026},{"$f":"(LEFT(B350,SEARCH(Display3!$G$2,B350)+LEN(Display3!$G$2)+2))&RIGHT(B350,LEN(B350)-(SEARCH(Display3!$G$2,B350)+LEN(Display3!$G$2)+2))-Display3!$J$3","v":"C.US.EPH1823950"}]
[{"$f":"IFERROR(IF(OR(ISTEXT(RTD(\"cqg.rtd\",,\"OrderData\",\"\"&B352&\"\",\"\",\"OpenPosition\",\"\"&Display3!$D$3&\"\")),RTD(\"cqg.rtd\",,\"OrderData\",\"\"&B352&\"\",\"\",\"OpenPosition\",\"\"&Display3!$D$3&\"\")=0),A351+0.001,INT(A351)+1),A351)","v":0.35200000000000026},{"$f":"(LEFT(B351,SEARCH(Display3!$G$2,B351)+LEN(Display3!$G$2)+2))&RIGHT(B351,LEN(B351)-(SEARCH(Display3!$G$2,B351)+LEN(Display3!$G$2)+2))-Display3!$J$3","v":"C.US.EPH1823900"}]
[{"$f":"IFERROR(IF(OR(ISTEXT(RTD(\"cqg.rtd\",,\"OrderData\",\"\"&B353&\"\",\"\",\"OpenPosition\",\"\"&Display3!$D$3&\"\")),RTD(\"cqg.rtd\",,\"OrderData\",\"\"&B353&\"\",\"\",\"OpenPosition\",\"\"&Display3!$D$3&\"\")=0),A352+0.001,INT(A352)+1),A352)","v":0.35300000000000026},{"$f":"(LEFT(B352,SEARCH(Display3!$G$2,B352)+LEN(Display3!$G$2)+2))&RIGHT(B352,LEN(B352)-(SEARCH(Display3!$G$2,B352)+LEN(Display3!$G$2)+2))-Display3!$J$3","v":"C.US.EPH1823850"}]
[{"$f":"IFERROR(IF(OR(ISTEXT(RTD(\"cqg.rtd\",,\"OrderData\",\"\"&B354&\"\",\"\",\"OpenPosition\",\"\"&Display3!$D$3&\"\")),RTD(\"cqg.rtd\",,\"OrderData\",\"\"&B354&\"\",\"\",\"OpenPosition\",\"\"&Display3!$D$3&\"\")=0),A353+0.001,INT(A353)+1),A353)","v":0.35400000000000026},{"$f":"(LEFT(B353,SEARCH(Display3!$G$2,B353)+LEN(Display3!$G$2)+2))&RIGHT(B353,LEN(B353)-(SEARCH(Display3!$G$2,B353)+LEN(Display3!$G$2)+2))-Display3!$J$3","v":"C.US.EPH1823800"}]
[{"$f":"IFERROR(IF(OR(ISTEXT(RTD(\"cqg.rtd\",,\"OrderData\",\"\"&B355&\"\",\"\",\"OpenPosition\",\"\"&Display3!$D$3&\"\")),RTD(\"cqg.rtd\",,\"OrderData\",\"\"&B355&\"\",\"\",\"OpenPosition\",\"\"&Display3!$D$3&\"\")=0),A354+0.001,INT(A354)+1),A354)","v":0.35500000000000026},{"$f":"(LEFT(B354,SEARCH(Display3!$G$2,B354)+LEN(Display3!$G$2)+2))&RIGHT(B354,LEN(B354)-(SEARCH(Display3!$G$2,B354)+LEN(Display3!$G$2)+2))-Display3!$J$3","v":"C.US.EPH1823750"}]
[{"$f":"IFERROR(IF(OR(ISTEXT(RTD(\"cqg.rtd\",,\"OrderData\",\"\"&B356&\"\",\"\",\"OpenPosition\",\"\"&Display3!$D$3&\"\")),RTD(\"cqg.rtd\",,\"OrderData\",\"\"&B356&\"\",\"\",\"OpenPosition\",\"\"&Display3!$D$3&\"\")=0),A355+0.001,INT(A355)+1),A355)","v":0.35600000000000026},{"$f":"(LEFT(B355,SEARCH(Display3!$G$2,B355)+LEN(Display3!$G$2)+2))&RIGHT(B355,LEN(B355)-(SEARCH(Display3!$G$2,B355)+LEN(Display3!$G$2)+2))-Display3!$J$3","v":"C.US.EPH1823700"}]
[{"$f":"IFERROR(IF(OR(ISTEXT(RTD(\"cqg.rtd\",,\"OrderData\",\"\"&B357&\"\",\"\",\"OpenPosition\",\"\"&Display3!$D$3&\"\")),RTD(\"cqg.rtd\",,\"OrderData\",\"\"&B357&\"\",\"\",\"OpenPosition\",\"\"&Display3!$D$3&\"\")=0),A356+0.001,INT(A356)+1),A356)","v":0.35700000000000026},{"$f":"(LEFT(B356,SEARCH(Display3!$G$2,B356)+LEN(Display3!$G$2)+2))&RIGHT(B356,LEN(B356)-(SEARCH(Display3!$G$2,B356)+LEN(Display3!$G$2)+2))-Display3!$J$3","v":"C.US.EPH1823650"}]
[{"$f":"IFERROR(IF(OR(ISTEXT(RTD(\"cqg.rtd\",,\"OrderData\",\"\"&B358&\"\",\"\",\"OpenPosition\",\"\"&Display3!$D$3&\"\")),RTD(\"cqg.rtd\",,\"OrderData\",\"\"&B358&\"\",\"\",\"OpenPosition\",\"\"&Display3!$D$3&\"\")=0),A357+0.001,INT(A357)+1),A357)","v":0.35800000000000026},{"$f":"(LEFT(B357,SEARCH(Display3!$G$2,B357)+LEN(Display3!$G$2)+2))&RIGHT(B357,LEN(B357)-(SEARCH(Display3!$G$2,B357)+LEN(Display3!$G$2)+2))-Display3!$J$3","v":"C.US.EPH1823600"}]
[{"$f":"IFERROR(IF(OR(ISTEXT(RTD(\"cqg.rtd\",,\"OrderData\",\"\"&B359&\"\",\"\",\"OpenPosition\",\"\"&Display3!$D$3&\"\")),RTD(\"cqg.rtd\",,\"OrderData\",\"\"&B359&\"\",\"\",\"OpenPosition\",\"\"&Display3!$D$3&\"\")=0),A358+0.001,INT(A358)+1),A358)","v":0.35900000000000026},{"$f":"(LEFT(B358,SEARCH(Display3!$G$2,B358)+LEN(Display3!$G$2)+2))&RIGHT(B358,LEN(B358)-(SEARCH(Display3!$G$2,B358)+LEN(Display3!$G$2)+2))-Display3!$J$3","v":"C.US.EPH1823550"}]
[{"$f":"IFERROR(IF(OR(ISTEXT(RTD(\"cqg.rtd\",,\"OrderData\",\"\"&B360&\"\",\"\",\"OpenPosition\",\"\"&Display3!$D$3&\"\")),RTD(\"cqg.rtd\",,\"OrderData\",\"\"&B360&\"\",\"\",\"OpenPosition\",\"\"&Display3!$D$3&\"\")=0),A359+0.001,INT(A359)+1),A359)","v":0.36000000000000026},{"$f":"(LEFT(B359,SEARCH(Display3!$G$2,B359)+LEN(Display3!$G$2)+2))&RIGHT(B359,LEN(B359)-(SEARCH(Display3!$G$2,B359)+LEN(Display3!$G$2)+2))-Display3!$J$3","v":"C.US.EPH1823500"}]
[{"$f":"IFERROR(IF(OR(ISTEXT(RTD(\"cqg.rtd\",,\"OrderData\",\"\"&B361&\"\",\"\",\"OpenPosition\",\"\"&Display3!$D$3&\"\")),RTD(\"cqg.rtd\",,\"OrderData\",\"\"&B361&\"\",\"\",\"OpenPosition\",\"\"&Display3!$D$3&\"\")=0),A360+0.001,INT(A360)+1),A360)","v":0.36100000000000027},{"$f":"(LEFT(B360,SEARCH(Display3!$G$2,B360)+LEN(Display3!$G$2)+2))&RIGHT(B360,LEN(B360)-(SEARCH(Display3!$G$2,B360)+LEN(Display3!$G$2)+2))-Display3!$J$3","v":"C.US.EPH1823450"}]
[{"$f":"IFERROR(IF(OR(ISTEXT(RTD(\"cqg.rtd\",,\"OrderData\",\"\"&B362&\"\",\"\",\"OpenPosition\",\"\"&Display3!$D$3&\"\")),RTD(\"cqg.rtd\",,\"OrderData\",\"\"&B362&\"\",\"\",\"OpenPosition\",\"\"&Display3!$D$3&\"\")=0),A361+0.001,INT(A361)+1),A361)","v":0.36200000000000027},{"$f":"(LEFT(B361,SEARCH(Display3!$G$2,B361)+LEN(Display3!$G$2)+2))&RIGHT(B361,LEN(B361)-(SEARCH(Display3!$G$2,B361)+LEN(Display3!$G$2)+2))-Display3!$J$3","v":"C.US.EPH1823400"}]
[{"$f":"IFERROR(IF(OR(ISTEXT(RTD(\"cqg.rtd\",,\"OrderData\",\"\"&B363&\"\",\"\",\"OpenPosition\",\"\"&Display3!$D$3&\"\")),RTD(\"cqg.rtd\",,\"OrderData\",\"\"&B363&\"\",\"\",\"OpenPosition\",\"\"&Display3!$D$3&\"\")=0),A362+0.001,INT(A362)+1),A362)","v":0.36300000000000027},{"$f":"(LEFT(B362,SEARCH(Display3!$G$2,B362)+LEN(Display3!$G$2)+2))&RIGHT(B362,LEN(B362)-(SEARCH(Display3!$G$2,B362)+LEN(Display3!$G$2)+2))-Display3!$J$3","v":"C.US.EPH1823350"}]
[{"$f":"IFERROR(IF(OR(ISTEXT(RTD(\"cqg.rtd\",,\"OrderData\",\"\"&B364&\"\",\"\",\"OpenPosition\",\"\"&Display3!$D$3&\"\")),RTD(\"cqg.rtd\",,\"OrderData\",\"\"&B364&\"\",\"\",\"OpenPosition\",\"\"&Display3!$D$3&\"\")=0),A363+0.001,INT(A363)+1),A363)","v":0.36400000000000027},{"$f":"(LEFT(B363,SEARCH(Display3!$G$2,B363)+LEN(Display3!$G$2)+2))&RIGHT(B363,LEN(B363)-(SEARCH(Display3!$G$2,B363)+LEN(Display3!$G$2)+2))-Display3!$J$3","v":"C.US.EPH1823300"}]
[{"$f":"IFERROR(IF(OR(ISTEXT(RTD(\"cqg.rtd\",,\"OrderData\",\"\"&B365&\"\",\"\",\"OpenPosition\",\"\"&Display3!$D$3&\"\")),RTD(\"cqg.rtd\",,\"OrderData\",\"\"&B365&\"\",\"\",\"OpenPosition\",\"\"&Display3!$D$3&\"\")=0),A364+0.001,INT(A364)+1),A364)","v":0.36500000000000027},{"$f":"(LEFT(B366,SEARCH(Display3!$G$2,B366)+LEN(Display3!$G$2)+2))&RIGHT(B366,LEN(B366)-(SEARCH(Display3!$G$2,B366)+LEN(Display3!$G$2)+2))+Display3!$J$3","v":"P.US.EPH1826300"}]
[{"$f":"IFERROR(IF(OR(ISTEXT(RTD(\"cqg.rtd\",,\"OrderData\",\"\"&B366&\"\",\"\",\"OpenPosition\",\"\"&Display3!$D$3&\"\")),RTD(\"cqg.rtd\",,\"OrderData\",\"\"&B366&\"\",\"\",\"OpenPosition\",\"\"&Display3!$D$3&\"\")=0),A365+0.001,INT(A365)+1),A365)","v":0.36600000000000027},{"$f":"(LEFT(B367,SEARCH(Display3!$G$2,B367)+LEN(Display3!$G$2)+2))&RIGHT(B367,LEN(B367)-(SEARCH(Display3!$G$2,B367)+LEN(Display3!$G$2)+2))+Display3!$J$3","v":"P.US.EPH1826250"}]
[{"$f":"IFERROR(IF(OR(ISTEXT(RTD(\"cqg.rtd\",,\"OrderData\",\"\"&B367&\"\",\"\",\"OpenPosition\",\"\"&Display3!$D$3&\"\")),RTD(\"cqg.rtd\",,\"OrderData\",\"\"&B367&\"\",\"\",\"OpenPosition\",\"\"&Display3!$D$3&\"\")=0),A366+0.001,INT(A366)+1),A366)","v":0.36700000000000027},{"$f":"(LEFT(B368,SEARCH(Display3!$G$2,B368)+LEN(Display3!$G$2)+2))&RIGHT(B368,LEN(B368)-(SEARCH(Display3!$G$2,B368)+LEN(Display3!$G$2)+2))+Display3!$J$3","v":"P.US.EPH1826200"}]
[{"$f":"IFERROR(IF(OR(ISTEXT(RTD(\"cqg.rtd\",,\"OrderData\",\"\"&B368&\"\",\"\",\"OpenPosition\",\"\"&Display3!$D$3&\"\")),RTD(\"cqg.rtd\",,\"OrderData\",\"\"&B368&\"\",\"\",\"OpenPosition\",\"\"&Display3!$D$3&\"\")=0),A367+0.001,INT(A367)+1),A367)","v":0.36800000000000027},{"$f":"(LEFT(B369,SEARCH(Display3!$G$2,B369)+LEN(Display3!$G$2)+2))&RIGHT(B369,LEN(B369)-(SEARCH(Display3!$G$2,B369)+LEN(Display3!$G$2)+2))+Display3!$J$3","v":"P.US.EPH1826150"}]
[{"$f":"IFERROR(IF(OR(ISTEXT(RTD(\"cqg.rtd\",,\"OrderData\",\"\"&B369&\"\",\"\",\"OpenPosition\",\"\"&Display3!$D$3&\"\")),RTD(\"cqg.rtd\",,\"OrderData\",\"\"&B369&\"\",\"\",\"OpenPosition\",\"\"&Display3!$D$3&\"\")=0),A368+0.001,INT(A368)+1),A368)","v":0.36900000000000027},{"$f":"(LEFT(B370,SEARCH(Display3!$G$2,B370)+LEN(Display3!$G$2)+2))&RIGHT(B370,LEN(B370)-(SEARCH(Display3!$G$2,B370)+LEN(Display3!$G$2)+2))+Display3!$J$3","v":"P.US.EPH1826100"}]
[{"$f":"IFERROR(IF(OR(ISTEXT(RTD(\"cqg.rtd\",,\"OrderData\",\"\"&B370&\"\",\"\",\"OpenPosition\",\"\"&Display3!$D$3&\"\")),RTD(\"cqg.rtd\",,\"OrderData\",\"\"&B370&\"\",\"\",\"OpenPosition\",\"\"&Display3!$D$3&\"\")=0),A369+0.001,INT(A369)+1),A369)","v":0.37000000000000027},{"$f":"(LEFT(B371,SEARCH(Display3!$G$2,B371)+LEN(Display3!$G$2)+2))&RIGHT(B371,LEN(B371)-(SEARCH(Display3!$G$2,B371)+LEN(Display3!$G$2)+2))+Display3!$J$3","v":"P.US.EPH1826050"}]
[{"$f":"IFERROR(IF(OR(ISTEXT(RTD(\"cqg.rtd\",,\"OrderData\",\"\"&B371&\"\",\"\",\"OpenPosition\",\"\"&Display3!$D$3&\"\")),RTD(\"cqg.rtd\",,\"OrderData\",\"\"&B371&\"\",\"\",\"OpenPosition\",\"\"&Display3!$D$3&\"\")=0),A370+0.001,INT(A370)+1),A370)","v":0.37100000000000027},{"$f":"(LEFT(B372,SEARCH(Display3!$G$2,B372)+LEN(Display3!$G$2)+2))&RIGHT(B372,LEN(B372)-(SEARCH(Display3!$G$2,B372)+LEN(Display3!$G$2)+2))+Display3!$J$3","v":"P.US.EPH1826000"}]
[{"$f":"IFERROR(IF(OR(ISTEXT(RTD(\"cqg.rtd\",,\"OrderData\",\"\"&B372&\"\",\"\",\"OpenPosition\",\"\"&Display3!$D$3&\"\")),RTD(\"cqg.rtd\",,\"OrderData\",\"\"&B372&\"\",\"\",\"OpenPosition\",\"\"&Display3!$D$3&\"\")=0),A371+0.001,INT(A371)+1),A371)","v":0.37200000000000027},{"$f":"(LEFT(B373,SEARCH(Display3!$G$2,B373)+LEN(Display3!$G$2)+2))&RIGHT(B373,LEN(B373)-(SEARCH(Display3!$G$2,B373)+LEN(Display3!$G$2)+2))+Display3!$J$3","v":"P.US.EPH1825950"}]
[{"$f":"IFERROR(IF(OR(ISTEXT(RTD(\"cqg.rtd\",,\"OrderData\",\"\"&B373&\"\",\"\",\"OpenPosition\",\"\"&Display3!$D$3&\"\")),RTD(\"cqg.rtd\",,\"OrderData\",\"\"&B373&\"\",\"\",\"OpenPosition\",\"\"&Display3!$D$3&\"\")=0),A372+0.001,INT(A372)+1),A372)","v":0.37300000000000028},{"$f":"(LEFT(B374,SEARCH(Display3!$G$2,B374)+LEN(Display3!$G$2)+2))&RIGHT(B374,LEN(B374)-(SEARCH(Display3!$G$2,B374)+LEN(Display3!$G$2)+2))+Display3!$J$3","v":"P.US.EPH1825900"}]
[{"$f":"IFERROR(IF(OR(ISTEXT(RTD(\"cqg.rtd\",,\"OrderData\",\"\"&B374&\"\",\"\",\"OpenPosition\",\"\"&Display3!$D$3&\"\")),RTD(\"cqg.rtd\",,\"OrderData\",\"\"&B374&\"\",\"\",\"OpenPosition\",\"\"&Display3!$D$3&\"\")=0),A373+0.001,INT(A373)+1),A373)","v":0.37400000000000028},{"$f":"(LEFT(B375,SEARCH(Display3!$G$2,B375)+LEN(Display3!$G$2)+2))&RIGHT(B375,LEN(B375)-(SEARCH(Display3!$G$2,B375)+LEN(Display3!$G$2)+2))+Display3!$J$3","v":"P.US.EPH1825850"}]
[{"$f":"IFERROR(IF(OR(ISTEXT(RTD(\"cqg.rtd\",,\"OrderData\",\"\"&B375&\"\",\"\",\"OpenPosition\",\"\"&Display3!$D$3&\"\")),RTD(\"cqg.rtd\",,\"OrderData\",\"\"&B375&\"\",\"\",\"OpenPosition\",\"\"&Display3!$D$3&\"\")=0),A374+0.001,INT(A374)+1),A374)","v":0.37500000000000028},{"$f":"(LEFT(B376,SEARCH(Display3!$G$2,B376)+LEN(Display3!$G$2)+2))&RIGHT(B376,LEN(B376)-(SEARCH(Display3!$G$2,B376)+LEN(Display3!$G$2)+2))+Display3!$J$3","v":"P.US.EPH1825800"}]
[{"$f":"IFERROR(IF(OR(ISTEXT(RTD(\"cqg.rtd\",,\"OrderData\",\"\"&B376&\"\",\"\",\"OpenPosition\",\"\"&Display3!$D$3&\"\")),RTD(\"cqg.rtd\",,\"OrderData\",\"\"&B376&\"\",\"\",\"OpenPosition\",\"\"&Display3!$D$3&\"\")=0),A375+0.001,INT(A375)+1),A375)","v":0.37600000000000028},{"$f":"(LEFT(B377,SEARCH(Display3!$G$2,B377)+LEN(Display3!$G$2)+2))&RIGHT(B377,LEN(B377)-(SEARCH(Display3!$G$2,B377)+LEN(Display3!$G$2)+2))+Display3!$J$3","v":"P.US.EPH1825750"}]
[{"$f":"IFERROR(IF(OR(ISTEXT(RTD(\"cqg.rtd\",,\"OrderData\",\"\"&B377&\"\",\"\",\"OpenPosition\",\"\"&Display3!$D$3&\"\")),RTD(\"cqg.rtd\",,\"OrderData\",\"\"&B377&\"\",\"\",\"OpenPosition\",\"\"&Display3!$D$3&\"\")=0),A376+0.001,INT(A376)+1),A376)","v":0.37700000000000028},{"$f":"(LEFT(B378,SEARCH(Display3!$G$2,B378)+LEN(Display3!$G$2)+2))&RIGHT(B378,LEN(B378)-(SEARCH(Display3!$G$2,B378)+LEN(Display3!$G$2)+2))+Display3!$J$3","v":"P.US.EPH1825700"}]
[{"$f":"IFERROR(IF(OR(ISTEXT(RTD(\"cqg.rtd\",,\"OrderData\",\"\"&B378&\"\",\"\",\"OpenPosition\",\"\"&Display3!$D$3&\"\")),RTD(\"cqg.rtd\",,\"OrderData\",\"\"&B378&\"\",\"\",\"OpenPosition\",\"\"&Display3!$D$3&\"\")=0),A377+0.001,INT(A377)+1),A377)","v":0.37800000000000028},{"$f":"(LEFT(B379,SEARCH(Display3!$G$2,B379)+LEN(Display3!$G$2)+2))&RIGHT(B379,LEN(B379)-(SEARCH(Display3!$G$2,B379)+LEN(Display3!$G$2)+2))+Display3!$J$3","v":"P.US.EPH1825650"}]
[{"$f":"IFERROR(IF(OR(ISTEXT(RTD(\"cqg.rtd\",,\"OrderData\",\"\"&B379&\"\",\"\",\"OpenPosition\",\"\"&Display3!$D$3&\"\")),RTD(\"cqg.rtd\",,\"OrderData\",\"\"&B379&\"\",\"\",\"OpenPosition\",\"\"&Display3!$D$3&\"\")=0),A378+0.001,INT(A378)+1),A378)","v":0.37900000000000028},{"$f":"(LEFT(B380,SEARCH(Display3!$G$2,B380)+LEN(Display3!$G$2)+2))&RIGHT(B380,LEN(B380)-(SEARCH(Display3!$G$2,B380)+LEN(Display3!$G$2)+2))+Display3!$J$3","v":"P.US.EPH1825600"}]
[{"$f":"IFERROR(IF(OR(ISTEXT(RTD(\"cqg.rtd\",,\"OrderData\",\"\"&B380&\"\",\"\",\"OpenPosition\",\"\"&Display3!$D$3&\"\")),RTD(\"cqg.rtd\",,\"OrderData\",\"\"&B380&\"\",\"\",\"OpenPosition\",\"\"&Display3!$D$3&\"\")=0),A379+0.001,INT(A379)+1),A379)","v":0.38000000000000028},{"$f":"(LEFT(B381,SEARCH(Display3!$G$2,B381)+LEN(Display3!$G$2)+2))&RIGHT(B381,LEN(B381)-(SEARCH(Display3!$G$2,B381)+LEN(Display3!$G$2)+2))+Display3!$J$3","v":"P.US.EPH1825550"}]
[{"$f":"IFERROR(IF(OR(ISTEXT(RTD(\"cqg.rtd\",,\"OrderData\",\"\"&B381&\"\",\"\",\"OpenPosition\",\"\"&Display3!$D$3&\"\")),RTD(\"cqg.rtd\",,\"OrderData\",\"\"&B381&\"\",\"\",\"OpenPosition\",\"\"&Display3!$D$3&\"\")=0),A380+0.001,INT(A380)+1),A380)","v":0.38100000000000028},{"$f":"(LEFT(B382,SEARCH(Display3!$G$2,B382)+LEN(Display3!$G$2)+2))&RIGHT(B382,LEN(B382)-(SEARCH(Display3!$G$2,B382)+LEN(Display3!$G$2)+2))+Display3!$J$3","v":"P.US.EPH1825500"}]
[{"$f":"IFERROR(IF(OR(ISTEXT(RTD(\"cqg.rtd\",,\"OrderData\",\"\"&B382&\"\",\"\",\"OpenPosition\",\"\"&Display3!$D$3&\"\")),RTD(\"cqg.rtd\",,\"OrderData\",\"\"&B382&\"\",\"\",\"OpenPosition\",\"\"&Display3!$D$3&\"\")=0),A381+0.001,INT(A381)+1),A381)","v":0.38200000000000028},{"$f":"(LEFT(B383,SEARCH(Display3!$G$2,B383)+LEN(Display3!$G$2)+2))&RIGHT(B383,LEN(B383)-(SEARCH(Display3!$G$2,B383)+LEN(Display3!$G$2)+2))+Display3!$J$3","v":"P.US.EPH1825450"}]
[{"$f":"IFERROR(IF(OR(ISTEXT(RTD(\"cqg.rtd\",,\"OrderData\",\"\"&B383&\"\",\"\",\"OpenPosition\",\"\"&Display3!$D$3&\"\")),RTD(\"cqg.rtd\",,\"OrderData\",\"\"&B383&\"\",\"\",\"OpenPosition\",\"\"&Display3!$D$3&\"\")=0),A382+0.001,INT(A382)+1),A382)","v":0.38300000000000028},{"$f":"(LEFT(B384,SEARCH(Display3!$G$2,B384)+LEN(Display3!$G$2)+2))&RIGHT(B384,LEN(B384)-(SEARCH(Display3!$G$2,B384)+LEN(Display3!$G$2)+2))+Display3!$J$3","v":"P.US.EPH1825400"}]
[{"$f":"IFERROR(IF(OR(ISTEXT(RTD(\"cqg.rtd\",,\"OrderData\",\"\"&B384&\"\",\"\",\"OpenPosition\",\"\"&Display3!$D$3&\"\")),RTD(\"cqg.rtd\",,\"OrderData\",\"\"&B384&\"\",\"\",\"OpenPosition\",\"\"&Display3!$D$3&\"\")=0),A383+0.001,INT(A383)+1),A383)","v":0.38400000000000029},{"$f":"(LEFT(B385,SEARCH(Display3!$G$2,B385)+LEN(Display3!$G$2)+2))&RIGHT(B385,LEN(B385)-(SEARCH(Display3!$G$2,B385)+LEN(Display3!$G$2)+2))+Display3!$J$3","v":"P.US.EPH1825350"}]
[{"$f":"IFERROR(IF(OR(ISTEXT(RTD(\"cqg.rtd\",,\"OrderData\",\"\"&B385&\"\",\"\",\"OpenPosition\",\"\"&Display3!$D$3&\"\")),RTD(\"cqg.rtd\",,\"OrderData\",\"\"&B385&\"\",\"\",\"OpenPosition\",\"\"&Display3!$D$3&\"\")=0),A384+0.001,INT(A384)+1),A384)","v":0.38500000000000029},{"$f":"(LEFT(B386,SEARCH(Display3!$G$2,B386)+LEN(Display3!$G$2)+2))&RIGHT(B386,LEN(B386)-(SEARCH(Display3!$G$2,B386)+LEN(Display3!$G$2)+2))+Display3!$J$3","v":"P.US.EPH1825300"}]
[{"$f":"IFERROR(IF(OR(ISTEXT(RTD(\"cqg.rtd\",,\"OrderData\",\"\"&B386&\"\",\"\",\"OpenPosition\",\"\"&Display3!$D$3&\"\")),RTD(\"cqg.rtd\",,\"OrderData\",\"\"&B386&\"\",\"\",\"OpenPosition\",\"\"&Display3!$D$3&\"\")=0),A385+0.001,INT(A385)+1),A385)","v":0.38600000000000029},{"$f":"(LEFT(B387,SEARCH(Display3!$G$2,B387)+LEN(Display3!$G$2)+2))&RIGHT(B387,LEN(B387)-(SEARCH(Display3!$G$2,B387)+LEN(Display3!$G$2)+2))+Display3!$J$3","v":"P.US.EPH1825250"}]
[{"$f":"IFERROR(IF(OR(ISTEXT(RTD(\"cqg.rtd\",,\"OrderData\",\"\"&B387&\"\",\"\",\"OpenPosition\",\"\"&Display3!$D$3&\"\")),RTD(\"cqg.rtd\",,\"OrderData\",\"\"&B387&\"\",\"\",\"OpenPosition\",\"\"&Display3!$D$3&\"\")=0),A386+0.001,INT(A386)+1),A386)","v":0.38700000000000029},{"$f":"(LEFT(B388,SEARCH(Display3!$G$2,B388)+LEN(Display3!$G$2)+2))&RIGHT(B388,LEN(B388)-(SEARCH(Display3!$G$2,B388)+LEN(Display3!$G$2)+2))+Display3!$J$3","v":"P.US.EPH1825200"}]
[{"$f":"IFERROR(IF(OR(ISTEXT(RTD(\"cqg.rtd\",,\"OrderData\",\"\"&B388&\"\",\"\",\"OpenPosition\",\"\"&Display3!$D$3&\"\")),RTD(\"cqg.rtd\",,\"OrderData\",\"\"&B388&\"\",\"\",\"OpenPosition\",\"\"&Display3!$D$3&\"\")=0),A387+0.001,INT(A387)+1),A387)","v":0.38800000000000029},{"$f":"(LEFT(B389,SEARCH(Display3!$G$2,B389)+LEN(Display3!$G$2)+2))&RIGHT(B389,LEN(B389)-(SEARCH(Display3!$G$2,B389)+LEN(Display3!$G$2)+2))+Display3!$J$3","v":"P.US.EPH1825150"}]
[{"$f":"IFERROR(IF(OR(ISTEXT(RTD(\"cqg.rtd\",,\"OrderData\",\"\"&B389&\"\",\"\",\"OpenPosition\",\"\"&Display3!$D$3&\"\")),RTD(\"cqg.rtd\",,\"OrderData\",\"\"&B389&\"\",\"\",\"OpenPosition\",\"\"&Display3!$D$3&\"\")=0),A388+0.001,INT(A388)+1),A388)","v":0.38900000000000029},{"$f":"(LEFT(B390,SEARCH(Display3!$G$2,B390)+LEN(Display3!$G$2)+2))&RIGHT(B390,LEN(B390)-(SEARCH(Display3!$G$2,B390)+LEN(Display3!$G$2)+2))+Display3!$J$3","v":"P.US.EPH1825100"}]
[{"$f":"IFERROR(IF(OR(ISTEXT(RTD(\"cqg.rtd\",,\"OrderData\",\"\"&B390&\"\",\"\",\"OpenPosition\",\"\"&Display3!$D$3&\"\")),RTD(\"cqg.rtd\",,\"OrderData\",\"\"&B390&\"\",\"\",\"OpenPosition\",\"\"&Display3!$D$3&\"\")=0),A389+0.001,INT(A389)+1),A389)","v":0.39000000000000029},{"$f":"(LEFT(B391,SEARCH(Display3!$G$2,B391)+LEN(Display3!$G$2)+2))&RIGHT(B391,LEN(B391)-(SEARCH(Display3!$G$2,B391)+LEN(Display3!$G$2)+2))+Display3!$J$3","v":"P.US.EPH1825050"}]
[{"$f":"IFERROR(IF(OR(ISTEXT(RTD(\"cqg.rtd\",,\"OrderData\",\"\"&B391&\"\",\"\",\"OpenPosition\",\"\"&Display3!$D$3&\"\")),RTD(\"cqg.rtd\",,\"OrderData\",\"\"&B391&\"\",\"\",\"OpenPosition\",\"\"&Display3!$D$3&\"\")=0),A390+0.001,INT(A390)+1),A390)","v":0.39100000000000029},{"$f":"(LEFT(B392,SEARCH(Display3!$G$2,B392)+LEN(Display3!$G$2)+2))&RIGHT(B392,LEN(B392)-(SEARCH(Display3!$G$2,B392)+LEN(Display3!$G$2)+2))+Display3!$J$3","v":"P.US.EPH1825000"}]
[{"$f":"IFERROR(IF(OR(ISTEXT(RTD(\"cqg.rtd\",,\"OrderData\",\"\"&B392&\"\",\"\",\"OpenPosition\",\"\"&Display3!$D$3&\"\")),RTD(\"cqg.rtd\",,\"OrderData\",\"\"&B392&\"\",\"\",\"OpenPosition\",\"\"&Display3!$D$3&\"\")=0),A391+0.001,INT(A391)+1),A391)","v":0.39200000000000029},{"$f":"(LEFT(B393,SEARCH(Display3!$G$2,B393)+LEN(Display3!$G$2)+2))&RIGHT(B393,LEN(B393)-(SEARCH(Display3!$G$2,B393)+LEN(Display3!$G$2)+2))+Display3!$J$3","v":"P.US.EPH1824950"}]
[{"$f":"IFERROR(IF(OR(ISTEXT(RTD(\"cqg.rtd\",,\"OrderData\",\"\"&B393&\"\",\"\",\"OpenPosition\",\"\"&Display3!$D$3&\"\")),RTD(\"cqg.rtd\",,\"OrderData\",\"\"&B393&\"\",\"\",\"OpenPosition\",\"\"&Display3!$D$3&\"\")=0),A392+0.001,INT(A392)+1),A392)","v":0.39300000000000029},{"$f":"(LEFT(B394,SEARCH(Display3!$G$2,B394)+LEN(Display3!$G$2)+2))&RIGHT(B394,LEN(B394)-(SEARCH(Display3!$G$2,B394)+LEN(Display3!$G$2)+2))+Display3!$J$3","v":"P.US.EPH1824900"}]
[{"$f":"IFERROR(IF(OR(ISTEXT(RTD(\"cqg.rtd\",,\"OrderData\",\"\"&B394&\"\",\"\",\"OpenPosition\",\"\"&Display3!$D$3&\"\")),RTD(\"cqg.rtd\",,\"OrderData\",\"\"&B394&\"\",\"\",\"OpenPosition\",\"\"&Display3!$D$3&\"\")=0),A393+0.001,INT(A393)+1),A393)","v":0.39400000000000029},{"$f":"(LEFT(B395,SEARCH(Display3!$G$2,B395)+LEN(Display3!$G$2)+2))&RIGHT(B395,LEN(B395)-(SEARCH(Display3!$G$2,B395)+LEN(Display3!$G$2)+2))+Display3!$J$3","v":"P.US.EPH1824850"}]
[{"$f":"IFERROR(IF(OR(ISTEXT(RTD(\"cqg.rtd\",,\"OrderData\",\"\"&B395&\"\",\"\",\"OpenPosition\",\"\"&Display3!$D$3&\"\")),RTD(\"cqg.rtd\",,\"OrderData\",\"\"&B395&\"\",\"\",\"OpenPosition\",\"\"&Display3!$D$3&\"\")=0),A394+0.001,INT(A394)+1),A394)","v":0.3950000000000003},{"$f":"(LEFT(B396,SEARCH(Display3!$G$2,B396)+LEN(Display3!$G$2)+2))&RIGHT(B396,LEN(B396)-(SEARCH(Display3!$G$2,B396)+LEN(Display3!$G$2)+2))+Display3!$J$3","v":"P.US.EPH1824800"}]
[{"$f":"IFERROR(IF(OR(ISTEXT(RTD(\"cqg.rtd\",,\"OrderData\",\"\"&B396&\"\",\"\",\"OpenPosition\",\"\"&Display3!$D$3&\"\")),RTD(\"cqg.rtd\",,\"OrderData\",\"\"&B396&\"\",\"\",\"OpenPosition\",\"\"&Display3!$D$3&\"\")=0),A395+0.001,INT(A395)+1),A395)","v":0.3960000000000003},{"$f":"(LEFT(B397,SEARCH(Display3!$G$2,B397)+LEN(Display3!$G$2)+2))&RIGHT(B397,LEN(B397)-(SEARCH(Display3!$G$2,B397)+LEN(Display3!$G$2)+2))+Display3!$J$3","v":"P.US.EPH1824750"}]
[{"$f":"IFERROR(IF(OR(ISTEXT(RTD(\"cqg.rtd\",,\"OrderData\",\"\"&B397&\"\",\"\",\"OpenPosition\",\"\"&Display3!$D$3&\"\")),RTD(\"cqg.rtd\",,\"OrderData\",\"\"&B397&\"\",\"\",\"OpenPosition\",\"\"&Display3!$D$3&\"\")=0),A396+0.001,INT(A396)+1),A396)","v":0.3970000000000003},{"$f":"(LEFT(B398,SEARCH(Display3!$G$2,B398)+LEN(Display3!$G$2)+2))&RIGHT(B398,LEN(B398)-(SEARCH(Display3!$G$2,B398)+LEN(Display3!$G$2)+2))+Display3!$J$3","v":"P.US.EPH1824700"}]
[{"$f":"IFERROR(IF(OR(ISTEXT(RTD(\"cqg.rtd\",,\"OrderData\",\"\"&B398&\"\",\"\",\"OpenPosition\",\"\"&Display3!$D$3&\"\")),RTD(\"cqg.rtd\",,\"OrderData\",\"\"&B398&\"\",\"\",\"OpenPosition\",\"\"&Display3!$D$3&\"\")=0),A397+0.001,INT(A397)+1),A397)","v":0.3980000000000003},{"$f":"(LEFT(B399,SEARCH(Display3!$G$2,B399)+LEN(Display3!$G$2)+2))&RIGHT(B399,LEN(B399)-(SEARCH(Display3!$G$2,B399)+LEN(Display3!$G$2)+2))+Display3!$J$3","v":"P.US.EPH1824650"}]
[{"$f":"IFERROR(IF(OR(ISTEXT(RTD(\"cqg.rtd\",,\"OrderData\",\"\"&B399&\"\",\"\",\"OpenPosition\",\"\"&Display3!$D$3&\"\")),RTD(\"cqg.rtd\",,\"OrderData\",\"\"&B399&\"\",\"\",\"OpenPosition\",\"\"&Display3!$D$3&\"\")=0),A398+0.001,INT(A398)+1),A398)","v":0.3990000000000003},{"$f":"(LEFT(B400,SEARCH(Display3!$G$2,B400)+LEN(Display3!$G$2)+2))&RIGHT(B400,LEN(B400)-(SEARCH(Display3!$G$2,B400)+LEN(Display3!$G$2)+2))+Display3!$J$3","v":"P.US.EPH1824600"}]
[{"$f":"IFERROR(IF(OR(ISTEXT(RTD(\"cqg.rtd\",,\"OrderData\",\"\"&B400&\"\",\"\",\"OpenPosition\",\"\"&Display3!$D$3&\"\")),RTD(\"cqg.rtd\",,\"OrderData\",\"\"&B400&\"\",\"\",\"OpenPosition\",\"\"&Display3!$D$3&\"\")=0),A399+0.001,INT(A399)+1),A399)","v":0.4000000000000003},{"$f":"(LEFT(B401,SEARCH(Display3!$G$2,B401)+LEN(Display3!$G$2)+2))&RIGHT(B401,LEN(B401)-(SEARCH(Display3!$G$2,B401)+LEN(Display3!$G$2)+2))+Display3!$J$3","v":"P.US.EPH1824550"}]
[{"$f":"IFERROR(IF(OR(ISTEXT(RTD(\"cqg.rtd\",,\"OrderData\",\"\"&B401&\"\",\"\",\"OpenPosition\",\"\"&Display3!$D$3&\"\")),RTD(\"cqg.rtd\",,\"OrderData\",\"\"&B401&\"\",\"\",\"OpenPosition\",\"\"&Display3!$D$3&\"\")=0),A400+0.001,INT(A400)+1),A400)","v":0.4010000000000003},{"$f":"(LEFT(B402,SEARCH(Display3!$G$2,B402)+LEN(Display3!$G$2)+2))&RIGHT(B402,LEN(B402)-(SEARCH(Display3!$G$2,B402)+LEN(Display3!$G$2)+2))+Display3!$J$3","v":"P.US.EPH1824500"}]
[{"$f":"IFERROR(IF(OR(ISTEXT(RTD(\"cqg.rtd\",,\"OrderData\",\"\"&B402&\"\",\"\",\"OpenPosition\",\"\"&Display3!$D$3&\"\")),RTD(\"cqg.rtd\",,\"OrderData\",\"\"&B402&\"\",\"\",\"OpenPosition\",\"\"&Display3!$D$3&\"\")=0),A401+0.001,INT(A401)+1),A401)","v":0.4020000000000003},{"$f":"(LEFT(B403,SEARCH(Display3!$G$2,B403)+LEN(Display3!$G$2)+2))&RIGHT(B403,LEN(B403)-(SEARCH(Display3!$G$2,B403)+LEN(Display3!$G$2)+2))+Display3!$J$3","v":"P.US.EPH1824450"}]
[{"$f":"IFERROR(IF(OR(ISTEXT(RTD(\"cqg.rtd\",,\"OrderData\",\"\"&B403&\"\",\"\",\"OpenPosition\",\"\"&Display3!$D$3&\"\")),RTD(\"cqg.rtd\",,\"OrderData\",\"\"&B403&\"\",\"\",\"OpenPosition\",\"\"&Display3!$D$3&\"\")=0),A402+0.001,INT(A402)+1),A402)","v":0.4030000000000003},{"$f":"(LEFT(B404,SEARCH(Display3!$G$2,B404)+LEN(Display3!$G$2)+2))&RIGHT(B404,LEN(B404)-(SEARCH(Display3!$G$2,B404)+LEN(Display3!$G$2)+2))+Display3!$J$3","v":"P.US.EPH1824400"}]
[{"$f":"IFERROR(IF(OR(ISTEXT(RTD(\"cqg.rtd\",,\"OrderData\",\"\"&B404&\"\",\"\",\"OpenPosition\",\"\"&Display3!$D$3&\"\")),RTD(\"cqg.rtd\",,\"OrderData\",\"\"&B404&\"\",\"\",\"OpenPosition\",\"\"&Display3!$D$3&\"\")=0),A403+0.001,INT(A403)+1),A403)","v":0.4040000000000003},{"$f":"(LEFT(B405,SEARCH(Display3!$G$2,B405)+LEN(Display3!$G$2)+2))&RIGHT(B405,LEN(B405)-(SEARCH(Display3!$G$2,B405)+LEN(Display3!$G$2)+2))+Display3!$J$3","v":"P.US.EPH1824350"}]
[{"$f":"IFERROR(IF(OR(ISTEXT(RTD(\"cqg.rtd\",,\"OrderData\",\"\"&B405&\"\",\"\",\"OpenPosition\",\"\"&Display3!$D$3&\"\")),RTD(\"cqg.rtd\",,\"OrderData\",\"\"&B405&\"\",\"\",\"OpenPosition\",\"\"&Display3!$D$3&\"\")=0),A404+0.001,INT(A404)+1),A404)","v":0.4050000000000003},{"$f":"RTD(\"cqg.rtd\", ,\"ContractData\", \"P.US.\"&Display3!$G$2&Display3!$I$3&\"\", \"Symbol\",, \"T\")","v":"P.US.EPH1824300"}]
[{"$f":"IFERROR(IF(OR(ISTEXT(RTD(\"cqg.rtd\",,\"OrderData\",\"\"&B406&\"\",\"\",\"OpenPosition\",\"\"&Display3!$D$3&\"\")),RTD(\"cqg.rtd\",,\"OrderData\",\"\"&B406&\"\",\"\",\"OpenPosition\",\"\"&Display3!$D$3&\"\")=0),A405+0.001,INT(A405)+1),A405)","v":0.40600000000000031},{"$f":"(LEFT(B405,SEARCH(Display3!$G$2,B405)+LEN(Display3!$G$2)+2))&RIGHT(B405,LEN(B405)-(SEARCH(Display3!$G$2,B405)+LEN(Display3!$G$2)+2))-Display3!$J$3","v":"P.US.EPH1824250"}]
[{"$f":"IFERROR(IF(OR(ISTEXT(RTD(\"cqg.rtd\",,\"OrderData\",\"\"&B407&\"\",\"\",\"OpenPosition\",\"\"&Display3!$D$3&\"\")),RTD(\"cqg.rtd\",,\"OrderData\",\"\"&B407&\"\",\"\",\"OpenPosition\",\"\"&Display3!$D$3&\"\")=0),A406+0.001,INT(A406)+1),A406)","v":0.40700000000000031},{"$f":"(LEFT(B406,SEARCH(Display3!$G$2,B406)+LEN(Display3!$G$2)+2))&RIGHT(B406,LEN(B406)-(SEARCH(Display3!$G$2,B406)+LEN(Display3!$G$2)+2))-Display3!$J$3","v":"P.US.EPH1824200"}]
[{"$f":"IFERROR(IF(OR(ISTEXT(RTD(\"cqg.rtd\",,\"OrderData\",\"\"&B408&\"\",\"\",\"OpenPosition\",\"\"&Display3!$D$3&\"\")),RTD(\"cqg.rtd\",,\"OrderData\",\"\"&B408&\"\",\"\",\"OpenPosition\",\"\"&Display3!$D$3&\"\")=0),A407+0.001,INT(A407)+1),A407)","v":0.40800000000000031},{"$f":"(LEFT(B407,SEARCH(Display3!$G$2,B407)+LEN(Display3!$G$2)+2))&RIGHT(B407,LEN(B407)-(SEARCH(Display3!$G$2,B407)+LEN(Display3!$G$2)+2))-Display3!$J$3","v":"P.US.EPH1824150"}]
[{"$f":"IFERROR(IF(OR(ISTEXT(RTD(\"cqg.rtd\",,\"OrderData\",\"\"&B409&\"\",\"\",\"OpenPosition\",\"\"&Display3!$D$3&\"\")),RTD(\"cqg.rtd\",,\"OrderData\",\"\"&B409&\"\",\"\",\"OpenPosition\",\"\"&Display3!$D$3&\"\")=0),A408+0.001,INT(A408)+1),A408)","v":0.40900000000000031},{"$f":"(LEFT(B408,SEARCH(Display3!$G$2,B408)+LEN(Display3!$G$2)+2))&RIGHT(B408,LEN(B408)-(SEARCH(Display3!$G$2,B408)+LEN(Display3!$G$2)+2))-Display3!$J$3","v":"P.US.EPH1824100"}]
[{"$f":"IFERROR(IF(OR(ISTEXT(RTD(\"cqg.rtd\",,\"OrderData\",\"\"&B410&\"\",\"\",\"OpenPosition\",\"\"&Display3!$D$3&\"\")),RTD(\"cqg.rtd\",,\"OrderData\",\"\"&B410&\"\",\"\",\"OpenPosition\",\"\"&Display3!$D$3&\"\")=0),A409+0.001,INT(A409)+1),A409)","v":0.41000000000000031},{"$f":"(LEFT(B409,SEARCH(Display3!$G$2,B409)+LEN(Display3!$G$2)+2))&RIGHT(B409,LEN(B409)-(SEARCH(Display3!$G$2,B409)+LEN(Display3!$G$2)+2))-Display3!$J$3","v":"P.US.EPH1824050"}]
[{"$f":"IFERROR(IF(OR(ISTEXT(RTD(\"cqg.rtd\",,\"OrderData\",\"\"&B411&\"\",\"\",\"OpenPosition\",\"\"&Display3!$D$3&\"\")),RTD(\"cqg.rtd\",,\"OrderData\",\"\"&B411&\"\",\"\",\"OpenPosition\",\"\"&Display3!$D$3&\"\")=0),A410+0.001,INT(A410)+1),A410)","v":0.41100000000000031},{"$f":"(LEFT(B410,SEARCH(Display3!$G$2,B410)+LEN(Display3!$G$2)+2))&RIGHT(B410,LEN(B410)-(SEARCH(Display3!$G$2,B410)+LEN(Display3!$G$2)+2))-Display3!$J$3","v":"P.US.EPH1824000"}]
[{"$f":"IFERROR(IF(OR(ISTEXT(RTD(\"cqg.rtd\",,\"OrderData\",\"\"&B412&\"\",\"\",\"OpenPosition\",\"\"&Display3!$D$3&\"\")),RTD(\"cqg.rtd\",,\"OrderData\",\"\"&B412&\"\",\"\",\"OpenPosition\",\"\"&Display3!$D$3&\"\")=0),A411+0.001,INT(A411)+1),A411)","v":0.41200000000000031},{"$f":"(LEFT(B411,SEARCH(Display3!$G$2,B411)+LEN(Display3!$G$2)+2))&RIGHT(B411,LEN(B411)-(SEARCH(Display3!$G$2,B411)+LEN(Display3!$G$2)+2))-Display3!$J$3","v":"P.US.EPH1823950"}]
[{"$f":"IFERROR(IF(OR(ISTEXT(RTD(\"cqg.rtd\",,\"OrderData\",\"\"&B413&\"\",\"\",\"OpenPosition\",\"\"&Display3!$D$3&\"\")),RTD(\"cqg.rtd\",,\"OrderData\",\"\"&B413&\"\",\"\",\"OpenPosition\",\"\"&Display3!$D$3&\"\")=0),A412+0.001,INT(A412)+1),A412)","v":0.41300000000000031},{"$f":"(LEFT(B412,SEARCH(Display3!$G$2,B412)+LEN(Display3!$G$2)+2))&RIGHT(B412,LEN(B412)-(SEARCH(Display3!$G$2,B412)+LEN(Display3!$G$2)+2))-Display3!$J$3","v":"P.US.EPH1823900"}]
[{"$f":"IFERROR(IF(OR(ISTEXT(RTD(\"cqg.rtd\",,\"OrderData\",\"\"&B414&\"\",\"\",\"OpenPosition\",\"\"&Display3!$D$3&\"\")),RTD(\"cqg.rtd\",,\"OrderData\",\"\"&B414&\"\",\"\",\"OpenPosition\",\"\"&Display3!$D$3&\"\")=0),A413+0.001,INT(A413)+1),A413)","v":0.41400000000000031},{"$f":"(LEFT(B413,SEARCH(Display3!$G$2,B413)+LEN(Display3!$G$2)+2))&RIGHT(B413,LEN(B413)-(SEARCH(Display3!$G$2,B413)+LEN(Display3!$G$2)+2))-Display3!$J$3","v":"P.US.EPH1823850"}]
[{"$f":"IFERROR(IF(OR(ISTEXT(RTD(\"cqg.rtd\",,\"OrderData\",\"\"&B415&\"\",\"\",\"OpenPosition\",\"\"&Display3!$D$3&\"\")),RTD(\"cqg.rtd\",,\"OrderData\",\"\"&B415&\"\",\"\",\"OpenPosition\",\"\"&Display3!$D$3&\"\")=0),A414+0.001,INT(A414)+1),A414)","v":0.41500000000000031},{"$f":"(LEFT(B414,SEARCH(Display3!$G$2,B414)+LEN(Display3!$G$2)+2))&RIGHT(B414,LEN(B414)-(SEARCH(Display3!$G$2,B414)+LEN(Display3!$G$2)+2))-Display3!$J$3","v":"P.US.EPH1823800"}]
[{"$f":"IFERROR(IF(OR(ISTEXT(RTD(\"cqg.rtd\",,\"OrderData\",\"\"&B416&\"\",\"\",\"OpenPosition\",\"\"&Display3!$D$3&\"\")),RTD(\"cqg.rtd\",,\"OrderData\",\"\"&B416&\"\",\"\",\"OpenPosition\",\"\"&Display3!$D$3&\"\")=0),A415+0.001,INT(A415)+1),A415)","v":0.41600000000000031},{"$f":"(LEFT(B415,SEARCH(Display3!$G$2,B415)+LEN(Display3!$G$2)+2))&RIGHT(B415,LEN(B415)-(SEARCH(Display3!$G$2,B415)+LEN(Display3!$G$2)+2))-Display3!$J$3","v":"P.US.EPH1823750"}]
[{"$f":"IFERROR(IF(OR(ISTEXT(RTD(\"cqg.rtd\",,\"OrderData\",\"\"&B417&\"\",\"\",\"OpenPosition\",\"\"&Display3!$D$3&\"\")),RTD(\"cqg.rtd\",,\"OrderData\",\"\"&B417&\"\",\"\",\"OpenPosition\",\"\"&Display3!$D$3&\"\")=0),A416+0.001,INT(A416)+1),A416)","v":0.41700000000000031},{"$f":"(LEFT(B416,SEARCH(Display3!$G$2,B416)+LEN(Display3!$G$2)+2))&RIGHT(B416,LEN(B416)-(SEARCH(Display3!$G$2,B416)+LEN(Display3!$G$2)+2))-Display3!$J$3","v":"P.US.EPH1823700"}]
[{"$f":"IFERROR(IF(OR(ISTEXT(RTD(\"cqg.rtd\",,\"OrderData\",\"\"&B418&\"\",\"\",\"OpenPosition\",\"\"&Display3!$D$3&\"\")),RTD(\"cqg.rtd\",,\"OrderData\",\"\"&B418&\"\",\"\",\"OpenPosition\",\"\"&Display3!$D$3&\"\")=0),A417+0.001,INT(A417)+1),A417)","v":0.41800000000000032},{"$f":"(LEFT(B417,SEARCH(Display3!$G$2,B417)+LEN(Display3!$G$2)+2))&RIGHT(B417,LEN(B417)-(SEARCH(Display3!$G$2,B417)+LEN(Display3!$G$2)+2))-Display3!$J$3","v":"P.US.EPH1823650"}]
[{"$f":"IFERROR(IF(OR(ISTEXT(RTD(\"cqg.rtd\",,\"OrderData\",\"\"&B419&\"\",\"\",\"OpenPosition\",\"\"&Display3!$D$3&\"\")),RTD(\"cqg.rtd\",,\"OrderData\",\"\"&B419&\"\",\"\",\"OpenPosition\",\"\"&Display3!$D$3&\"\")=0),A418+0.001,INT(A418)+1),A418)","v":0.41900000000000032},{"$f":"(LEFT(B418,SEARCH(Display3!$G$2,B418)+LEN(Display3!$G$2)+2))&RIGHT(B418,LEN(B418)-(SEARCH(Display3!$G$2,B418)+LEN(Display3!$G$2)+2))-Display3!$J$3","v":"P.US.EPH1823600"}]
[{"$f":"IFERROR(IF(OR(ISTEXT(RTD(\"cqg.rtd\",,\"OrderData\",\"\"&B420&\"\",\"\",\"OpenPosition\",\"\"&Display3!$D$3&\"\")),RTD(\"cqg.rtd\",,\"OrderData\",\"\"&B420&\"\",\"\",\"OpenPosition\",\"\"&Display3!$D$3&\"\")=0),A419+0.001,INT(A419)+1),A419)","v":0.42000000000000032},{"$f":"(LEFT(B419,SEARCH(Display3!$G$2,B419)+LEN(Display3!$G$2)+2))&RIGHT(B419,LEN(B419)-(SEARCH(Display3!$G$2,B419)+LEN(Display3!$G$2)+2))-Display3!$J$3","v":"P.US.EPH1823550"}]
[{"$f":"IFERROR(IF(OR(ISTEXT(RTD(\"cqg.rtd\",,\"OrderData\",\"\"&B421&\"\",\"\",\"OpenPosition\",\"\"&Display3!$D$3&\"\")),RTD(\"cqg.rtd\",,\"OrderData\",\"\"&B421&\"\",\"\",\"OpenPosition\",\"\"&Display3!$D$3&\"\")=0),A420+0.001,INT(A420)+1),A420)","v":0.42100000000000032},{"$f":"(LEFT(B420,SEARCH(Display3!$G$2,B420)+LEN(Display3!$G$2)+2))&RIGHT(B420,LEN(B420)-(SEARCH(Display3!$G$2,B420)+LEN(Display3!$G$2)+2))-Display3!$J$3","v":"P.US.EPH1823500"}]
[{"$f":"IFERROR(IF(OR(ISTEXT(RTD(\"cqg.rtd\",,\"OrderData\",\"\"&B422&\"\",\"\",\"OpenPosition\",\"\"&Display3!$D$3&\"\")),RTD(\"cqg.rtd\",,\"OrderData\",\"\"&B422&\"\",\"\",\"OpenPosition\",\"\"&Display3!$D$3&\"\")=0),A421+0.001,INT(A421)+1),A421)","v":0.42200000000000032},{"$f":"(LEFT(B421,SEARCH(Display3!$G$2,B421)+LEN(Display3!$G$2)+2))&RIGHT(B421,LEN(B421)-(SEARCH(Display3!$G$2,B421)+LEN(Display3!$G$2)+2))-Display3!$J$3","v":"P.US.EPH1823450"}]
[{"$f":"IFERROR(IF(OR(ISTEXT(RTD(\"cqg.rtd\",,\"OrderData\",\"\"&B423&\"\",\"\",\"OpenPosition\",\"\"&Display3!$D$3&\"\")),RTD(\"cqg.rtd\",,\"OrderData\",\"\"&B423&\"\",\"\",\"OpenPosition\",\"\"&Display3!$D$3&\"\")=0),A422+0.001,INT(A422)+1),A422)","v":0.42300000000000032},{"$f":"(LEFT(B422,SEARCH(Display3!$G$2,B422)+LEN(Display3!$G$2)+2))&RIGHT(B422,LEN(B422)-(SEARCH(Display3!$G$2,B422)+LEN(Display3!$G$2)+2))-Display3!$J$3","v":"P.US.EPH1823400"}]
[{"$f":"IFERROR(IF(OR(ISTEXT(RTD(\"cqg.rtd\",,\"OrderData\",\"\"&B424&\"\",\"\",\"OpenPosition\",\"\"&Display3!$D$3&\"\")),RTD(\"cqg.rtd\",,\"OrderData\",\"\"&B424&\"\",\"\",\"OpenPosition\",\"\"&Display3!$D$3&\"\")=0),A423+0.001,INT(A423)+1),A423)","v":0.42400000000000032},{"$f":"(LEFT(B423,SEARCH(Display3!$G$2,B423)+LEN(Display3!$G$2)+2))&RIGHT(B423,LEN(B423)-(SEARCH(Display3!$G$2,B423)+LEN(Display3!$G$2)+2))-Display3!$J$3","v":"P.US.EPH1823350"}]
[{"$f":"IFERROR(IF(OR(ISTEXT(RTD(\"cqg.rtd\",,\"OrderData\",\"\"&B425&\"\",\"\",\"OpenPosition\",\"\"&Display3!$D$3&\"\")),RTD(\"cqg.rtd\",,\"OrderData\",\"\"&B425&\"\",\"\",\"OpenPosition\",\"\"&Display3!$D$3&\"\")=0),A424+0.001,INT(A424)+1),A424)","v":0.42500000000000032},{"$f":"(LEFT(B424,SEARCH(Display3!$G$2,B424)+LEN(Display3!$G$2)+2))&RIGHT(B424,LEN(B424)-(SEARCH(Display3!$G$2,B424)+LEN(Display3!$G$2)+2))-Display3!$J$3","v":"P.US.EPH1823300"}]
[{"$f":"IFERROR(IF(OR(ISTEXT(RTD(\"cqg.rtd\",,\"OrderData\",\"\"&B426&\"\",\"\",\"OpenPosition\",\"\"&Display3!$D$3&\"\")),RTD(\"cqg.rtd\",,\"OrderData\",\"\"&B426&\"\",\"\",\"OpenPosition\",\"\"&Display3!$D$3&\"\")=0),A425+0.001,INT(A425)+1),A425)","v":0.42600000000000032},{"$f":"(LEFT(B425,SEARCH(Display3!$G$2,B425)+LEN(Display3!$G$2)+2))&RIGHT(B425,LEN(B425)-(SEARCH(Display3!$G$2,B425)+LEN(Display3!$G$2)+2))-Display3!$J$3","v":"P.US.EPH1823250"}]
[{"$f":"IFERROR(IF(OR(ISTEXT(RTD(\"cqg.rtd\",,\"OrderData\",\"\"&B427&\"\",\"\",\"OpenPosition\",\"\"&Display3!$D$3&\"\")),RTD(\"cqg.rtd\",,\"OrderData\",\"\"&B427&\"\",\"\",\"OpenPosition\",\"\"&Display3!$D$3&\"\")=0),A426+0.001,INT(A426)+1),A426)","v":0.42700000000000032},{"$f":"(LEFT(B426,SEARCH(Display3!$G$2,B426)+LEN(Display3!$G$2)+2))&RIGHT(B426,LEN(B426)-(SEARCH(Display3!$G$2,B426)+LEN(Display3!$G$2)+2))-Display3!$J$3","v":"P.US.EPH1823200"}]
[{"$f":"IFERROR(IF(OR(ISTEXT(RTD(\"cqg.rtd\",,\"OrderData\",\"\"&B428&\"\",\"\",\"OpenPosition\",\"\"&Display3!$D$3&\"\")),RTD(\"cqg.rtd\",,\"OrderData\",\"\"&B428&\"\",\"\",\"OpenPosition\",\"\"&Display3!$D$3&\"\")=0),A427+0.001,INT(A427)+1),A427)","v":0.42800000000000032},{"$f":"(LEFT(B427,SEARCH(Display3!$G$2,B427)+LEN(Display3!$G$2)+2))&RIGHT(B427,LEN(B427)-(SEARCH(Display3!$G$2,B427)+LEN(Display3!$G$2)+2))-Display3!$J$3","v":"P.US.EPH1823150"}]
[{"$f":"IFERROR(IF(OR(ISTEXT(RTD(\"cqg.rtd\",,\"OrderData\",\"\"&B429&\"\",\"\",\"OpenPosition\",\"\"&Display3!$D$3&\"\")),RTD(\"cqg.rtd\",,\"OrderData\",\"\"&B429&\"\",\"\",\"OpenPosition\",\"\"&Display3!$D$3&\"\")=0),A428+0.001,INT(A428)+1),A428)","v":0.42900000000000033},{"$f":"(LEFT(B428,SEARCH(Display3!$G$2,B428)+LEN(Display3!$G$2)+2))&RIGHT(B428,LEN(B428)-(SEARCH(Display3!$G$2,B428)+LEN(Display3!$G$2)+2))-Display3!$J$3","v":"P.US.EPH1823100"}]
[{"$f":"IFERROR(IF(OR(ISTEXT(RTD(\"cqg.rtd\",,\"OrderData\",\"\"&B430&\"\",\"\",\"OpenPosition\",\"\"&Display3!$D$3&\"\")),RTD(\"cqg.rtd\",,\"OrderData\",\"\"&B430&\"\",\"\",\"OpenPosition\",\"\"&Display3!$D$3&\"\")=0),A429+0.001,INT(A429)+1),A429)","v":0.43000000000000033},{"$f":"(LEFT(B429,SEARCH(Display3!$G$2,B429)+LEN(Display3!$G$2)+2))&RIGHT(B429,LEN(B429)-(SEARCH(Display3!$G$2,B429)+LEN(Display3!$G$2)+2))-Display3!$J$3","v":"P.US.EPH1823050"}]
[{"$f":"IFERROR(IF(OR(ISTEXT(RTD(\"cqg.rtd\",,\"OrderData\",\"\"&B431&\"\",\"\",\"OpenPosition\",\"\"&Display3!$D$3&\"\")),RTD(\"cqg.rtd\",,\"OrderData\",\"\"&B431&\"\",\"\",\"OpenPosition\",\"\"&Display3!$D$3&\"\")=0),A430+0.001,INT(A430)+1),A430)","v":0.43100000000000033},{"$f":"(LEFT(B430,SEARCH(Display3!$G$2,B430)+LEN(Display3!$G$2)+2))&RIGHT(B430,LEN(B430)-(SEARCH(Display3!$G$2,B430)+LEN(Display3!$G$2)+2))-Display3!$J$3","v":"P.US.EPH1823000"}]
[{"$f":"IFERROR(IF(OR(ISTEXT(RTD(\"cqg.rtd\",,\"OrderData\",\"\"&B432&\"\",\"\",\"OpenPosition\",\"\"&Display3!$D$3&\"\")),RTD(\"cqg.rtd\",,\"OrderData\",\"\"&B432&\"\",\"\",\"OpenPosition\",\"\"&Display3!$D$3&\"\")=0),A431+0.001,INT(A431)+1),A431)","v":0.43200000000000033},{"$f":"(LEFT(B431,SEARCH(Display3!$G$2,B431)+LEN(Display3!$G$2)+2))&RIGHT(B431,LEN(B431)-(SEARCH(Display3!$G$2,B431)+LEN(Display3!$G$2)+2))-Display3!$J$3","v":"P.US.EPH1822950"}]
[{"$f":"IFERROR(IF(OR(ISTEXT(RTD(\"cqg.rtd\",,\"OrderData\",\"\"&B433&\"\",\"\",\"OpenPosition\",\"\"&Display3!$D$3&\"\")),RTD(\"cqg.rtd\",,\"OrderData\",\"\"&B433&\"\",\"\",\"OpenPosition\",\"\"&Display3!$D$3&\"\")=0),A432+0.001,INT(A432)+1),A432)","v":0.43300000000000033},{"$f":"(LEFT(B432,SEARCH(Display3!$G$2,B432)+LEN(Display3!$G$2)+2))&RIGHT(B432,LEN(B432)-(SEARCH(Display3!$G$2,B432)+LEN(Display3!$G$2)+2))-Display3!$J$3","v":"P.US.EPH1822900"}]
[{"$f":"IFERROR(IF(OR(ISTEXT(RTD(\"cqg.rtd\",,\"OrderData\",\"\"&B434&\"\",\"\",\"OpenPosition\",\"\"&Display3!$D$3&\"\")),RTD(\"cqg.rtd\",,\"OrderData\",\"\"&B434&\"\",\"\",\"OpenPosition\",\"\"&Display3!$D$3&\"\")=0),A433+0.001,INT(A433)+1),A433)","v":0.43400000000000033},{"$f":"(LEFT(B433,SEARCH(Display3!$G$2,B433)+LEN(Display3!$G$2)+2))&RIGHT(B433,LEN(B433)-(SEARCH(Display3!$G$2,B433)+LEN(Display3!$G$2)+2))-Display3!$J$3","v":"P.US.EPH1822850"}]
[{"$f":"IFERROR(IF(OR(ISTEXT(RTD(\"cqg.rtd\",,\"OrderData\",\"\"&B435&\"\",\"\",\"OpenPosition\",\"\"&Display3!$D$3&\"\")),RTD(\"cqg.rtd\",,\"OrderData\",\"\"&B435&\"\",\"\",\"OpenPosition\",\"\"&Display3!$D$3&\"\")=0),A434+0.001,INT(A434)+1),A434)","v":0.43500000000000033},{"$f":"(LEFT(B434,SEARCH(Display3!$G$2,B434)+LEN(Display3!$G$2)+2))&RIGHT(B434,LEN(B434)-(SEARCH(Display3!$G$2,B434)+LEN(Display3!$G$2)+2))-Display3!$J$3","v":"P.US.EPH1822800"}]
[{"$f":"IFERROR(IF(OR(ISTEXT(RTD(\"cqg.rtd\",,\"OrderData\",\"\"&B436&\"\",\"\",\"OpenPosition\",\"\"&Display3!$D$3&\"\")),RTD(\"cqg.rtd\",,\"OrderData\",\"\"&B436&\"\",\"\",\"OpenPosition\",\"\"&Display3!$D$3&\"\")=0),A435+0.001,INT(A435)+1),A435)","v":0.43600000000000033},{"$f":"(LEFT(B435,SEARCH(Display3!$G$2,B435)+LEN(Display3!$G$2)+2))&RIGHT(B435,LEN(B435)-(SEARCH(Display3!$G$2,B435)+LEN(Display3!$G$2)+2))-Display3!$J$3","v":"P.US.EPH1822750"}]
[{"$f":"IFERROR(IF(OR(ISTEXT(RTD(\"cqg.rtd\",,\"OrderData\",\"\"&B437&\"\",\"\",\"OpenPosition\",\"\"&Display3!$D$3&\"\")),RTD(\"cqg.rtd\",,\"OrderData\",\"\"&B437&\"\",\"\",\"OpenPosition\",\"\"&Display3!$D$3&\"\")=0),A436+0.001,INT(A436)+1),A436)","v":0.43700000000000033},{"$f":"(LEFT(B436,SEARCH(Display3!$G$2,B436)+LEN(Display3!$G$2)+2))&RIGHT(B436,LEN(B436)-(SEARCH(Display3!$G$2,B436)+LEN(Display3!$G$2)+2))-Display3!$J$3","v":"P.US.EPH1822700"}]
[{"$f":"IFERROR(IF(OR(ISTEXT(RTD(\"cqg.rtd\",,\"OrderData\",\"\"&B438&\"\",\"\",\"OpenPosition\",\"\"&Display3!$D$3&\"\")),RTD(\"cqg.rtd\",,\"OrderData\",\"\"&B438&\"\",\"\",\"OpenPosition\",\"\"&Display3!$D$3&\"\")=0),A437+0.001,INT(A437)+1),A437)","v":0.43800000000000033},{"$f":"(LEFT(B437,SEARCH(Display3!$G$2,B437)+LEN(Display3!$G$2)+2))&RIGHT(B437,LEN(B437)-(SEARCH(Display3!$G$2,B437)+LEN(Display3!$G$2)+2))-Display3!$J$3","v":"P.US.EPH1822650"}]
[{"$f":"IFERROR(IF(OR(ISTEXT(RTD(\"cqg.rtd\",,\"OrderData\",\"\"&B439&\"\",\"\",\"OpenPosition\",\"\"&Display3!$D$3&\"\")),RTD(\"cqg.rtd\",,\"OrderData\",\"\"&B439&\"\",\"\",\"OpenPosition\",\"\"&Display3!$D$3&\"\")=0),A438+0.001,INT(A438)+1),A438)","v":0.43900000000000033},{"$f":"(LEFT(B438,SEARCH(Display3!$G$2,B438)+LEN(Display3!$G$2)+2))&RIGHT(B438,LEN(B438)-(SEARCH(Display3!$G$2,B438)+LEN(Display3!$G$2)+2))-Display3!$J$3","v":"P.US.EPH1822600"}]
[{"$f":"IFERROR(IF(OR(ISTEXT(RTD(\"cqg.rtd\",,\"OrderData\",\"\"&B440&\"\",\"\",\"OpenPosition\",\"\"&Display3!$D$3&\"\")),RTD(\"cqg.rtd\",,\"OrderData\",\"\"&B440&\"\",\"\",\"OpenPosition\",\"\"&Display3!$D$3&\"\")=0),A439+0.001,INT(A439)+1),A439)","v":0.44000000000000034},{"$f":"(LEFT(B439,SEARCH(Display3!$G$2,B439)+LEN(Display3!$G$2)+2))&RIGHT(B439,LEN(B439)-(SEARCH(Display3!$G$2,B439)+LEN(Display3!$G$2)+2))-Display3!$J$3","v":"P.US.EPH1822550"}]
[{"$f":"IFERROR(IF(OR(ISTEXT(RTD(\"cqg.rtd\",,\"OrderData\",\"\"&B441&\"\",\"\",\"OpenPosition\",\"\"&Display3!$D$3&\"\")),RTD(\"cqg.rtd\",,\"OrderData\",\"\"&B441&\"\",\"\",\"OpenPosition\",\"\"&Display3!$D$3&\"\")=0),A440+0.001,INT(A440)+1),A440)","v":0.44100000000000034},{"$f":"(LEFT(B440,SEARCH(Display3!$G$2,B440)+LEN(Display3!$G$2)+2))&RIGHT(B440,LEN(B440)-(SEARCH(Display3!$G$2,B440)+LEN(Display3!$G$2)+2))-Display3!$J$3","v":"P.US.EPH1822500"}]
[{"$f":"IFERROR(IF(OR(ISTEXT(RTD(\"cqg.rtd\",,\"OrderData\",\"\"&B442&\"\",\"\",\"OpenPosition\",\"\"&Display3!$D$3&\"\")),RTD(\"cqg.rtd\",,\"OrderData\",\"\"&B442&\"\",\"\",\"OpenPosition\",\"\"&Display3!$D$3&\"\")=0),A441+0.001,INT(A441)+1),A441)","v":0.44200000000000034},{"$f":"(LEFT(B441,SEARCH(Display3!$G$2,B441)+LEN(Display3!$G$2)+2))&RIGHT(B441,LEN(B441)-(SEARCH(Display3!$G$2,B441)+LEN(Display3!$G$2)+2))-Display3!$J$3","v":"P.US.EPH1822450"}]
[{"$f":"IFERROR(IF(OR(ISTEXT(RTD(\"cqg.rtd\",,\"OrderData\",\"\"&B443&\"\",\"\",\"OpenPosition\",\"\"&Display3!$D$3&\"\")),RTD(\"cqg.rtd\",,\"OrderData\",\"\"&B443&\"\",\"\",\"OpenPosition\",\"\"&Display3!$D$3&\"\")=0),A442+0.001,INT(A442)+1),A442)","v":0.44300000000000034},{"$f":"(LEFT(B442,SEARCH(Display3!$G$2,B442)+LEN(Display3!$G$2)+2))&RIGHT(B442,LEN(B442)-(SEARCH(Display3!$G$2,B442)+LEN(Display3!$G$2)+2))-Display3!$J$3","v":"P.US.EPH1822400"}]
[{"$f":"IFERROR(IF(OR(ISTEXT(RTD(\"cqg.rtd\",,\"OrderData\",\"\"&B444&\"\",\"\",\"OpenPosition\",\"\"&Display3!$D$3&\"\")),RTD(\"cqg.rtd\",,\"OrderData\",\"\"&B444&\"\",\"\",\"OpenPosition\",\"\"&Display3!$D$3&\"\")=0),A443+0.001,INT(A443)+1),A443)","v":0.44400000000000034},{"$f":"(LEFT(B443,SEARCH(Display3!$G$2,B443)+LEN(Display3!$G$2)+2))&RIGHT(B443,LEN(B443)-(SEARCH(Display3!$G$2,B443)+LEN(Display3!$G$2)+2))-Display3!$J$3","v":"P.US.EPH1822350"}]
[{"$f":"IFERROR(IF(OR(ISTEXT(RTD(\"cqg.rtd\",,\"OrderData\",\"\"&B445&\"\",\"\",\"OpenPosition\",\"\"&Display3!$D$3&\"\")),RTD(\"cqg.rtd\",,\"OrderData\",\"\"&B445&\"\",\"\",\"OpenPosition\",\"\"&Display3!$D$3&\"\")=0),A444+0.001,INT(A444)+1),A444)","v":0.44500000000000034},{"$f":"(LEFT(B444,SEARCH(Display3!$G$2,B444)+LEN(Display3!$G$2)+2))&RIGHT(B444,LEN(B444)-(SEARCH(Display3!$G$2,B444)+LEN(Display3!$G$2)+2))-Display3!$J$3","v":"P.US.EPH1822300"}]
[{"$f":"IFERROR(IF(OR(ISTEXT(RTD(\"cqg.rtd\",,\"OrderData\",\"\"&B446&\"\",\"\",\"OpenPosition\",\"\"&Display3!$D$3&\"\")),RTD(\"cqg.rtd\",,\"OrderData\",\"\"&B446&\"\",\"\",\"OpenPosition\",\"\"&Display3!$D$3&\"\")=0),A445+0.001,INT(A445)+1),A445)","v":0.44600000000000034},{"$f":"RTD(\"cqg.rtd\", ,\"ContractData\", \"F.US.\"&Display3!$K$3&\"\", \"LongSymbol\",, \"T\")","v":"F.US.EPU17"}]
[{"$f":"IFERROR(IF(OR(ISTEXT(RTD(\"cqg.rtd\",,\"OrderData\",\"\"&B447&\"\",\"\",\"OpenPosition\",\"\"&Display3!$D$3&\"\")),RTD(\"cqg.rtd\",,\"OrderData\",\"\"&B447&\"\",\"\",\"OpenPosition\",\"\"&Display3!$D$3&\"\")=0),A446+0.001,INT(A446)+1),A446)","v":0.44700000000000034},{"$f":"RTD(\"cqg.rtd\", ,\"ContractData\", \"F.US.\"&Display3!$M$3&\"\", \"LongSymbol\",, \"T\")","v":"F.US.EPZ17"}]
[{"$f":"IFERROR(IF(OR(ISTEXT(RTD(\"cqg.rtd\",,\"OrderData\",\"\"&B448&\"\",\"\",\"OpenPosition\",\"\"&Display3!$D$3&\"\")),RTD(\"cqg.rtd\",,\"OrderData\",\"\"&B448&\"\",\"\",\"OpenPosition\",\"\"&Display3!$D$3&\"\")=0),A447+0.001,INT(A447)+1),A447)","v":0.44800000000000034},{"$f":"RTD(\"cqg.rtd\", ,\"ContractData\", \"F.US.\"&Display3!$N$3&\"\", \"LongSymbol\",, \"T\")","v":"F.US.EPH18"}]
[null,{"$f":"Display3!D3","v":"PSspread300"}]

{"sheet":"Fourth","index":9,"n_rows":449,"n_cols":43,"rows_kept":449,"cut":false,"hidden":true,"merged":[]}
[{"$f":"IF(OR(ISTEXT(RTD(\"cqg.rtd\",,\"OrderData\",\"\"&B1&\"\",\"\",\"OpenPosition\",\"\"&Display4!$D$3&\"\")),RTD(\"cqg.rtd\",,\"OrderData\",\"\"&B1&\"\",\"\",\"OpenPosition\",\"\"&Display4!$D$3&\"\")=0),0.001,1)","v":1E-3},{"$f":"(LEFT(B2,SEARCH(Display4!$G$2,B2)+LEN(Display4!$G$2)+2))&RIGHT(B2,LEN(B2)-(SEARCH(Display4!$G$2,B2)+LEN(Display4!$G$2)+2))+Display4!$J$3","v":"C.US.EPU1726300"},{"$f":"IF(D1=1,VLOOKUP(E1,$A$1:$B$448,2),0)","v":0},{"$f":"IF(LOOKUP(E1,$A$1:$A$448)<>E1,0,1)","v":0},1,{"$f":"IF(D1=1,RTD(\"cqg.rtd\", ,\"ContractData\",C1, \"ImpliedVolatility\",, \"T\"),\"\")","v":""},{"$f":"IF(F1=\"\",\"\",RANK(F1,$F$1:$F$35,0)+COUNTIF($F$1:F1,F1)-1)","v":""},{"$f":"C1","v":0},1,{"$f":"IF(D1=1,IF(F1=\"\",H1,VLOOKUP(I1,$G$1:$H$35,2,FALSE)),0)","v":0},{"$f":"IF(D1=1,RTD(\"cqg.rtd\", ,\"OrderData\",\"\"&C1&\"\", \"\", \"OpenTradeEquity\",\"\"&$B$449&\"\"),\"\")","v":""},{"$f":"IF(K1=\"\",\"\",RANK(K1,$K$1:$K$35,0))+COUNTIF($K$1:K1,K1)-1","v":{"$error":"#VALUE!"}},{"$f":"C1","v":0},1,{"$f":"IF(D1=1,VLOOKUP(N1,$L$1:$M$35,2,FALSE),\"\")","v":""},{"$f":"IF(D1=1,RTD(\"cqg.rtd\", ,\"ContractData\",C1, \"Delta\",, \"T\"),\"\")","v":""},{"$f":"IF(D1=1,RTD(\"cqg.rtd\", ,\"OrderData\", \"\"&O1&\"\", \"\", \"OpenPosition\",\"\"&$B$449&\"\"),\"\")","v":""},{"$f":"IF(D1=0,\"\",IF(LEFT(O1,1)=\"F\",Q1*100,Q1*RTD(\"cqg.rtd\",,\"ContractData\",O1,\"Delta\",,\"T\")))","v":""},{"$f":"IF(R1=\"\",\"\",RANK(R1,$R$1:$R$35,0)+COUNTIF($R$1:R1,R1)-1)","v":""},{"$f":"O1","v":""},1,{"$f":"IF(D1=1,VLOOKUP(U1,$S$1:$T$35,2,FALSE),\"\")","v":""},{"$f":"IF(D1=1,RTD(\"cqg.rtd\", ,\"ContractData\",C1, \"Vega\",, \"T\"),\"\")","v":""},{"$f":"IF(W1=\"\",\"\",RANK(W1,$W$1:$W$35,0)+COUNTIF($W$1:W1,W1)-1)","v":""},{"$f":"C1","v":0},1,{"$f":"IF(D1=1,IF(W1=\"\",Y1,VLOOKUP(Z1,$X$1:$Y$35,2,FALSE)),\"\")","v":""},{"$f":"IF(D1=1,RTD(\"cqg.rtd\", ,\"ContractData\",C1, \"Gamma\",, \"T\"),\"\")","v":""},{"$f":"IF(AB1=\"\",\"\",RANK(AB1,$AB$1:$AB$35,0)+COUNTIF($AB$1:AB1,AB1)-1)","v":""},{"$f":"C1","v":0},1,{"$f":"IF(D1=1,IF(AB1=\"\",AD1,VLOOKUP(AE1,$AC$1:$AD$35,2,FALSE)),\"\")","v":""},{"$f":"IF(D1=1,RTD(\"cqg.rtd\", ,\"ContractData\",C1, \"Theta\",, \"T\"),\"\")","v":""},{"$f":"IF(AG1=\"\",\"\",RANK(AG1,$AG$1:$AG$35,0)+COUNTIF($AG$1:AG1,AG1)-1)","v":""},{"$f":"C1","v":0},1,{"$f":"IF(D1=1,IF(AG1=\"\",AI1,VLOOKUP(AJ1,$AH$1:$AI$35,2,FALSE)),\"\")","v":""},{"$f":"IF(D1=1,1/RTD(\"cqg.rtd\", ,\"ContractData\",C1, \"ExpirationDate\",, \"T\"),\"\")","v":""},{"$f":"IF(AL1=\"\",\"\",RANK(AL1,$AL$1:$AL$35,0)+COUNTIF($AL$1:AL1,AL1)-1)","v":""},{"$f":"C1","v":0},1,{"$f":"IF(D1=1,IF(AL1=\"\",AN1,VLOOKUP(AO1,$AM$1:$AN$35,2,FALSE)),\"\")","v":""}]
[{"$f":"IF(OR(ISTEXT(RTD(\"cqg.rtd\",,\"OrderData\",\"\"&B2&\"\",\"\",\"OpenPosition\",\"\"&Display4!$D$3&\"\")),RTD(\"cqg.rtd\",,\"OrderData\",\"\"&B2&\"\",\"\",\"OpenPosition\",\"\"&Display4!$D$3&\"\")=0),A1+0.001,INT(A1)+1)","v":2E-3},{"$f":"(LEFT(B3,SEARCH(Display4!$G$2,B3)+LEN(Display4!$G$2)+2))&RIGHT(B3,LEN(B3)-(SEARCH(Display4!$G$2,B3)+LEN(Display4!$G$2)+2))+Display4!$J$3","v":"C.US.EPU1726250"},{"$f":"IF(D2=1,VLOOKUP(E2,$A$1:$B$448,2),0)","v":0},{"$f":"IF(LOOKUP(E2,$A$1:$A$448)<>E2,0,1)","v":0},{"$f":"E1+1","v":2},{"$f":"IF(D2=1,RTD(\"cqg.rtd\", ,\"ContractData\",C2, \"ImpliedVolatility\",, \"T\"),\"\")","v":""},{"$f":"IF(F2=\"\",\"\",RANK(F2,$F$1:$F$35,0)+COUNTIF($F$1:F2,F2)-1)","v":""},{"$f":"C2","v":0},{"$f":"I1+1","v":2},{"$f":"IF(D2=1,IF(F2=\"\",H2,VLOOKUP(I2,$G$1:$H$35,2,FALSE)),0)","v":0},{"$f":"IF(D2=1,RTD(\"cqg.rtd\", ,\"OrderData\",\"\"&C2&\"\", \"\", \"OpenTradeEquity\",\"\"&$B$449&\"\"),\"\")","v":""},{"$f":"IF(K2=\"\",\"\",RANK(K2,$K$1:$K$35,0))+COUNTIF($K$1:K2,K2)-1","v":{"$error":"#VALUE!"}},{"$f":"C2","v":0},{"$f":"N1+1","v":2},{"$f":"IF(D2=1,VLOOKUP(N2,$L$1:$M$35,2,FALSE),\"\")","v":""},{"$f":"IF(D2=1,RTD(\"cqg.rtd\", ,\"ContractData\",C2, \"Delta\",, \"T\"),\"\")","v":""},{"$f":"IF(D2=1,RTD(\"cqg.rtd\", ,\"OrderData\", \"\"&O2&\"\", \"\", \"OpenPosition\",\"\"&$B$449&\"\"),\"\")","v":""},{"$f":"IF(D2=0,\"\",IF(LEFT(O2,1)=\"F\",Q2*100,Q2*RTD(\"cqg.rtd\",,\"ContractData\",O2,\"Delta\",,\"T\")))","v":""},{"$f":"IF(R2=\"\",\"\",RANK(R2,$R$1:$R$35,0)+COUNTIF($R$1:R2,R2)-1)","v":""},{"$f":"O2","v":""},{"$f":"U1+1","v":2},{"$f":"IF(D2=1,VLOOKUP(U2,$S$1:$T$35,2,FALSE),\"\")","v":""},{"$f":"IF(D2=1,RTD(\"cqg.rtd\", ,\"ContractData\",C2, \"Vega\",, \"T\"),\"\")","v":""},{"$f":"IF(W2=\"\",\"\",RANK(W2,$W$1:$W$35,0)+COUNTIF($W$1:W2,W2)-1)","v":""},{"$f":"C2","v":0},{"$f":"Z1+1","v":2},{"$f":"IF(D2=1,IF(W2=\"\",Y2,VLOOKUP(Z2,$X$1:$Y$35,2,FALSE)),\"\")","v":""},{"$f":"IF(D2=1,RTD(\"cqg.rtd\", ,\"ContractData\",C2, \"Gamma\",, \"T\"),\"\")","v":""},{"$f":"IF(AB2=\"\",\"\",RANK(AB2,$AB$1:$AB$35,0)+COUNTIF($AB$1:AB2,AB2)-1)","v":""},{"$f":"C2","v":0},{"$f":"AE1+1","v":2},{"$f":"IF(D2=1,IF(AB2=\"\",AD2,VLOOKUP(AE2,$AC$1:$AD$35,2,FALSE)),\"\")","v":""},{"$f":"IF(D2=1,RTD(\"cqg.rtd\", ,\"ContractData\",C2, \"Theta\",, \"T\"),\"\")","v":""},{"$f":"IF(AG2=\"\",\"\",RANK(AG2,$AG$1:$AG$35,0)+COUNTIF($AG$1:AG2,AG2)-1)","v":""},{"$f":"C2","v":0},{"$f":"AJ1+1","v":2},{"$f":"IF(D2=1,IF(AG2=\"\",AI2,VLOOKUP(AJ2,$AH$1:$AI$35,2,FALSE)),\"\")","v":""},{"$f":"IF(D2=1,1/RTD(\"cqg.rtd\", ,\"ContractData\",C2, \"ExpirationDate\",, \"T\"),\"\")","v":""},{"$f":"IF(AL2=\"\",\"\",RANK(AL2,$AL$1:$AL$35,0)+COUNTIF($AL$1:AL2,AL2)-1)","v":""},{"$f":"C2","v":0},{"$f":"AO1+1","v":2},{"$f":"IF(D2=1,IF(AL2=\"\",AN2,VLOOKUP(AO2,$AM$1:$AN$35,2,FALSE)),\"\")","v":""}]
[{"$f":"IF(OR(ISTEXT(RTD(\"cqg.rtd\",,\"OrderData\",\"\"&B3&\"\",\"\",\"OpenPosition\",\"\"&Display4!$D$3&\"\")),RTD(\"cqg.rtd\",,\"OrderData\",\"\"&B3&\"\",\"\",\"OpenPosition\",\"\"&Display4!$D$3&\"\")=0),A2+0.001,INT(A2)+1)","v":3.0000000000000001E-3},{"$f":"(LEFT(B4,SEARCH(Display4!$G$2,B4)+LEN(Display4!$G$2)+2))&RIGHT(B4,LEN(B4)-(SEARCH(Display4!$G$2,B4)+LEN(Display4!$G$2)+2))+Display4!$J$3","v":"C.US.EPU1726200"},0,0,{"$f":"E2+1","v":3},{"$f":"IF(D3=1,RTD(\"cqg.rtd\", ,\"ContractData\",C3, \"ImpliedVolatility\",, \"T\"),\"\")","v":""},{"$f":"IF(F3=\"\",\"\",RANK(F3,$F$1:$F$35,0)+COUNTIF($F$1:F3,F3)-1)","v":""},0,{"$f":"I2+1","v":3},0,{"$f":"IF(D3=1,RTD(\"cqg.rtd\", ,\"OrderData\",\"\"&C3&\"\", \"\", \"OpenTradeEquity\",\"\"&$B$449&\"\"),\"\")","v":""},{"$f":"IF(K3=\"\",\"\",RANK(K3,$K$1:$K$35,0))+COUNTIF($K$1:K3,K3)-1","v":{"$error":"#VALUE!"}},0,{"$f":"N2+1","v":3},"",{"$f":"IF(D3=1,RTD(\"cqg.rtd\", ,\"ContractData\",C3, \"Delta\",, \"T\"),\"\")","v":""},{"$f":"IF(D3=1,RTD(\"cqg.rtd\", ,\"OrderData\", \"\"&O3&\"\", \"\", \"OpenPosition\",\"\"&$B$449&\"\"),\"\")","v":""},{"$f":"IF(D3=0,\"\",IF(LEFT(O3,1)=\"F\",Q3*100,Q3*RTD(\"cqg.rtd\",,\"ContractData\",O3,\"Delta\",,\"T\")))","v":""},{"$f":"IF(R3=\"\",\"\",RANK(R3,$R$1:$R$35,0)+COUNTIF($R$1:R3,R3)-1)","v":""},"",{"$f":"U2+1","v":3},"",{"$f":"IF(D3=1,RTD(\"cqg.rtd\", ,\"ContractData\",C3, \"Vega\",, \"T\"),\"\")","v":""},{"$f":"IF(W3=\"\",\"\",RANK(W3,$W$1:$W$35,0)+COUNTIF($W$1:W3,W3)-1)","v":""},0,{"$f":"Z2+1","v":3},"",{"$f":"IF(D3=1,RTD(\"cqg.rtd\", ,\"ContractData\",C3, \"Gamma\",, \"T\"),\"\")","v":""},{"$f":"IF(AB3=\"\",\"\",RANK(AB3,$AB$1:$AB$35,0)+COUNTIF($AB$1:AB3,AB3)-1)","v":""},0,3,{"$f":"IF(D3=1,IF(AB3=\"\",AD3,VLOOKUP(AE3,$AC$1:$AD$35,2,FALSE)),\"\")","v":""},{"$f":"IF(D3=1,RTD(\"cqg.rtd\", ,\"ContractData\",C3, \"Theta\",, \"T\"),\"\")","v":""},{"$f":"IF(AG3=\"\",\"\",RANK(AG3,$AG$1:$AG$35,0)+COUNTIF($AG$1:AG3,AG3)-1)","v":""},0,{"$f":"AJ2+1","v":3},"",{"$f":"IF(D3=1,1/RTD(\"cqg.rtd\", ,\"ContractData\",C3, \"ExpirationDate\",, \"T\"),\"\")","v":""},{"$f":"IF(AL3=\"\",\"\",RANK(AL3,$AL$1:$AL$35,0)+COUNTIF($AL$1:AL3,AL3)-1)","v":""},0,{"$f":"AO2+1","v":3},{"$f":"IF(D3=1,IF(AL3=\"\",AN3,VLOOKUP(AO3,$AM$1:$AN$35,2,FALSE)),\"\")","v":""}]
[{"$f":"IF(OR(ISTEXT(RTD(\"cqg.rtd\",,\"OrderData\",\"\"&B4&\"\",\"\",\"OpenPosition\",\"\"&Display4!$D$3&\"\")),RTD(\"cqg.rtd\",,\"OrderData\",\"\"&B4&\"\",\"\",\"OpenPosition\",\"\"&Display4!$D$3&\"\")=0),A3+0.001,INT(A3)+1)","v":4.0000000000000001E-3},{"$f":"(LEFT(B5,SEARCH(Display4!$G$2,B5)+LEN(Display4!$G$2)+2))&RIGHT(B5,LEN(B5)-(SEARCH(Display4!$G$2,B5)+LEN(Display4!$G$2)+2))+Display4!$J$3","v":"C.US.EPU1726150"},0,0,4,{"$f":"IF(D4=1,RTD(\"cqg.rtd\", ,\"ContractData\",C4, \"ImpliedVolatility\",, \"T\"),\"\")","v":""},{"$f":"IF(F4=\"\",\"\",RANK(F4,$F$1:$F$35,0)+COUNTIF($F$1:F4,F4)-1)","v":""},0,4,0,{"$f":"IF(D4=1,RTD(\"cqg.rtd\", ,\"OrderData\",\"\"&C4&\"\", \"\", \"OpenTradeEquity\",\"\"&$B$449&\"\"),\"\")","v":""},{"$f":"IF(K4=\"\",\"\",RANK(K4,$K$1:$K$35,0))+COUNTIF($K$1:K4,K4)-1","v":{"$error":"#VALUE!"}},0,4,"",{"$f":"IF(D4=1,RTD(\"cqg.rtd\", ,\"ContractData\",C4, \"Delta\",, \"T\"),\"\")","v":""},{"$f":"IF(D4=1,RTD(\"cqg.rtd\", ,\"OrderData\", \"\"&O4&\"\", \"\", \"OpenPosition\",\"\"&$B$449&\"\"),\"\")","v":""},{"$f":"IF(D4=0,\"\",IF(LEFT(O4,1)=\"F\",Q4*100,Q4*RTD(\"cqg.rtd\",,\"ContractData\",O4,\"Delta\",,\"T\")))","v":""},{"$f":"IF(R4=\"\",\"\",RANK(R4,$R$1:$R$35,0)+COUNTIF($R$1:R4,R4)-1)","v":""},"",4,"",{"$f":"IF(D4=1,RTD(\"cqg.rtd\", ,\"ContractData\",C4, \"Vega\",, \"T\"),\"\")","v":""},{"$f":"IF(W4=\"\",\"\",RANK(W4,$W$1:$W$35,0)+COUNTIF($W$1:W4,W4)-1)","v":""},0,4,"",{"$f":"IF(D4=1,RTD(\"cqg.rtd\", ,\"ContractData\",C4, \"Gamma\",, \"T\"),\"\")","v":""},{"$f":"IF(AB4=\"\",\"\",RANK(AB4,$AB$1:$AB$35,0)+COUNTIF($AB$1:AB4,AB4)-1)","v":""},0,4,"",{"$f":"IF(D4=1,RTD(\"cqg.rtd\", ,\"ContractData\",C4, \"Theta\",, \"T\"),\"\")","v":""},{"$f":"IF(AG4=\"\",\"\",RANK(AG4,$AG$1:$AG$35,0)+COUNTIF($AG$1:AG4,AG4)-1)","v":""},0,4,"",{"$f":"IF(D4=1,1/RTD(\"cqg.rtd\", ,\"ContractData\",C4, \"ExpirationDate\",, \"T\"),\"\")","v":""},{"$f":"IF(AL4=\"\",\"\",RANK(AL4,$AL$1:$AL$35,0)+COUNTIF($AL$1:AL4,AL4)-1)","v":""},0,4,""]
[{"$f":"IF(OR(ISTEXT(RTD(\"cqg.rtd\",,\"OrderData\",\"\"&B5&\"\",\"\",\"OpenPosition\",\"\"&Display4!$D$3&\"\")),RTD(\"cqg.rtd\",,\"OrderData\",\"\"&B5&\"\",\"\",\"OpenPosition\",\"\"&Display4!$D$3&\"\")=0),A4+0.001,INT(A4)+1)","v":5.0000000000000001E-3},{"$f":"(LEFT(B6,SEARCH(Display4!$G$2,B6)+LEN(Display4!$G$2)+2))&RIGHT(B6,LEN(B6)-(SEARCH(Display4!$G$2,B6)+LEN(Display4!$G$2)+2))+Display4!$J$3","v":"C.US.EPU1726100"},0,0,5,{"$f":"IF(D5=1,RTD(\"cqg.rtd\", ,\"ContractData\",C5, \"ImpliedVolatility\",, \"T\"),\"\")","v":""},{"$f":"IF(F5=\"\",\"\",RANK(F5,$F$1:$F$35,0)+COUNTIF($F$1:F5,F5)-1)","v":""},0,5,0,{"$f":"IF(D5=1,RTD(\"cqg.rtd\", ,\"OrderData\",\"\"&C5&\"\", \"\", \"OpenTradeEquity\",\"\"&$B$449&\"\"),\"\")","v":""},{"$f":"IF(K5=\"\",\"\",RANK(K5,$K$1:$K$35,0))+COUNTIF($K$1:K5,K5)-1","v":{"$error":"#VALUE!"}},0,5,"",{"$f":"IF(D5=1,RTD(\"cqg.rtd\", ,\"ContractData\",C5, \"Delta\",, \"T\"),\"\")","v":""},{"$f":"IF(D5=1,RTD(\"cqg.rtd\", ,\"OrderData\", \"\"&O5&\"\", \"\", \"OpenPosition\",\"\"&$B$449&\"\"),\"\")","v":""},{"$f":"IF(D5=0,\"\",IF(LEFT(O5,1)=\"F\",Q5*100,Q5*RTD(\"cqg.rtd\",,\"ContractData\",O5,\"Delta\",,\"T\")))","v":""},{"$f":"IF(R5=\"\",\"\",RANK(R5,$R$1:$R$35,0)+COUNTIF($R$1:R5,R5)-1)","v":""},"",5,"",{"$f":"IF(D5=1,RTD(\"cqg.rtd\", ,\"ContractData\",C5, \"Vega\",, \"T\"),\"\")","v":""},{"$f":"IF(W5=\"\",\"\",RANK(W5,$W$1:$W$35,0)+COUNTIF($W$1:W5,W5)-1)","v":""},0,5,"",{"$f":"IF(D5=1,RTD(\"cqg.rtd\", ,\"ContractData\",C5, \"Gamma\",, \"T\"),\"\")","v":""},{"$f":"IF(AB5=\"\",\"\",RANK(AB5,$AB$1:$AB$35,0)+COUNTIF($AB$1:AB5,AB5)-1)","v":""},0,5,"",{"$f":"IF(D5=1,RTD(\"cqg.rtd\", ,\"ContractData\",C5, \"Theta\",, \"T\"),\"\")","v":""},{"$f":"IF(AG5=\"\",\"\",RANK(AG5,$AG$1:$AG$35,0)+COUNTIF($AG$1:AG5,AG5)-1)","v":""},0,5,"",{"$f":"IF(D5=1,1/RTD(\"cqg.rtd\", ,\"ContractData\",C5, \"ExpirationDate\",, \"T\"),\"\")","v":""},{"$f":"IF(AL5=\"\",\"\",RANK(AL5,$AL$1:$AL$35,0)+COUNTIF($AL$1:AL5,AL5)-1)","v":""},0,5,""]
[{"$f":"IF(OR(ISTEXT(RTD(\"cqg.rtd\",,\"OrderData\",\"\"&B6&\"\",\"\",\"OpenPosition\",\"\"&Display4!$D$3&\"\")),RTD(\"cqg.rtd\",,\"OrderData\",\"\"&B6&\"\",\"\",\"OpenPosition\",\"\"&Display4!$D$3&\"\")=0),A5+0.001,INT(A5)+1)","v":6.0000000000000001E-3},{"$f":"(LEFT(B7,SEARCH(Display4!$G$2,B7)+LEN(Display4!$G$2)+2))&RIGHT(B7,LEN(B7)-(SEARCH(Display4!$G$2,B7)+LEN(Display4!$G$2)+2))+Display4!$J$3","v":"C.US.EPU1726050"},0,0,6,{"$f":"IF(D6=1,RTD(\"cqg.rtd\", ,\"ContractData\",C6, \"ImpliedVolatility\",, \"T\"),\"\")","v":""},{"$f":"IF(F6=\"\",\"\",RANK(F6,$F$1:$F$35,0)+COUNTIF($F$1:F6,F6)-1)","v":""},0,6,0,{"$f":"IF(D6=1,RTD(\"cqg.rtd\", ,\"OrderData\",\"\"&C6&\"\", \"\", \"OpenTradeEquity\",\"\"&$B$449&\"\"),\"\")","v":""},{"$f":"IF(K6=\"\",\"\",RANK(K6,$K$1:$K$35,0))+COUNTIF($K$1:K6,K6)-1","v":{"$error":"#VALUE!"}},0,6,"",{"$f":"IF(D6=1,RTD(\"cqg.rtd\", ,\"ContractData\",C6, \"Delta\",, \"T\"),\"\")","v":""},{"$f":"IF(D6=1,RTD(\"cqg.rtd\", ,\"OrderData\", \"\"&O6&\"\", \"\", \"OpenPosition\",\"\"&$B$449&\"\"),\"\")","v":""},{"$f":"IF(D6=0,\"\",IF(LEFT(O6,1)=\"F\",Q6*100,Q6*RTD(\"cqg.rtd\",,\"ContractData\",O6,\"Delta\",,\"T\")))","v":""},{"$f":"IF(R6=\"\",\"\",RANK(R6,$R$1:$R$35,0)+COUNTIF($R$1:R6,R6)-1)","v":""},"",6,"",{"$f":"IF(D6=1,RTD(\"cqg.rtd\", ,\"ContractData\",C6, \"Vega\",, \"T\"),\"\")","v":""},{"$f":"IF(W6=\"\",\"\",RANK(W6,$W$1:$W$35,0)+COUNTIF($W$1:W6,W6)-1)","v":""},0,6,"",{"$f":"IF(D6=1,RTD(\"cqg.rtd\", ,\"ContractData\",C6, \"Gamma\",, \"T\"),\"\")","v":""},{"$f":"IF(AB6=\"\",\"\",RANK(AB6,$AB$1:$AB$35,0)+COUNTIF($AB$1:AB6,AB6)-1)","v":""},0,6,"",{"$f":"IF(D6=1,RTD(\"cqg.rtd\", ,\"ContractData\",C6, \"Theta\",, \"T\"),\"\")","v":""},{"$f":"IF(AG6=\"\",\"\",RANK(AG6,$AG$1:$AG$35,0)+COUNTIF($AG$1:AG6,AG6)-1)","v":""},0,6,"",{"$f":"IF(D6=1,1/RTD(\"cqg.rtd\", ,\"ContractData\",C6, \"ExpirationDate\",, \"T\"),\"\")","v":""},{"$f":"IF(AL6=\"\",\"\",RANK(AL6,$AL$1:$AL$35,0)+COUNTIF($AL$1:AL6,AL6)-1)","v":""},0,6,""]
[{"$f":"IF(OR(ISTEXT(RTD(\"cqg.rtd\",,\"OrderData\",\"\"&B7&\"\",\"\",\"OpenPosition\",\"\"&Display4!$D$3&\"\")),RTD(\"cqg.rtd\",,\"OrderData\",\"\"&B7&\"\",\"\",\"OpenPosition\",\"\"&Display4!$D$3&\"\")=0),A6+0.001,INT(A6)+1)","v":7.0000000000000001E-3},{"$f":"(LEFT(B8,SEARCH(Display4!$G$2,B8)+LEN(Display4!$G$2)+2))&RIGHT(B8,LEN(B8)-(SEARCH(Display4!$G$2,B8)+LEN(Display4!$G$2)+2))+Display4!$J$3","v":"C.US.EPU1726000"},0,0,7,{"$f":"IF(D7=1,RTD(\"cqg.rtd\", ,\"ContractData\",C7, \"ImpliedVolatility\",, \"T\"),\"\")","v":""},{"$f":"IF(F7=\"\",\"\",RANK(F7,$F$1:$F$35,0)+COUNTIF($F$1:F7,F7)-1)","v":""},0,7,0,{"$f":"IF(D7=1,RTD(\"cqg.rtd\", ,\"OrderData\",\"\"&C7&\"\", \"\", \"OpenTradeEquity\",\"\"&$B$449&\"\"),\"\")","v":""},{"$f":"IF(K7=\"\",\"\",RANK(K7,$K$1:$K$35,0))+COUNTIF($K$1:K7,K7)-1","v":{"$error":"#VALUE!"}},0,7,{"$f":"IF(D7=1,VLOOKUP(N7,$L$1:$M$35,2,FALSE),\"\")","v":""},{"$f":"IF(D7=1,RTD(\"cqg.rtd\", ,\"ContractData\",C7, \"Delta\",, \"T\"),\"\")","v":""},{"$f":"IF(D7=1,RTD(\"cqg.rtd\", ,\"OrderData\", \"\"&O7&\"\", \"\", \"OpenPosition\",\"\"&$B$449&\"\"),\"\")","v":""},{"$f":"IF(D7=0,\"\",IF(LEFT(O7,1)=\"F\",Q7*100,Q7*RTD(\"cqg.rtd\",,\"ContractData\",O7,\"Delta\",,\"T\")))","v":""},{"$f":"IF(R7=\"\",\"\",RANK(R7,$R$1:$R$35,0)+COUNTIF($R$1:R7,R7)-1)","v":""},"",7,"",{"$f":"IF(D7=1,RTD(\"cqg.rtd\", ,\"ContractData\",C7, \"Vega\",, \"T\"),\"\")","v":""},{"$f":"IF(W7=\"\",\"\",RANK(W7,$W$1:$W$35,0)+COUNTIF($W$1:W7,W7)-1)","v":""},0,7,"",{"$f":"IF(D7=1,RTD(\"cqg.rtd\", ,\"ContractData\",C7, \"Gamma\",, \"T\"),\"\")","v":""},{"$f":"IF(AB7=\"\",\"\",RANK(AB7,$AB$1:$AB$35,0)+COUNTIF($AB$1:AB7,AB7)-1)","v":""},0,7,"",{"$f":"IF(D7=1,RTD(\"cqg.rtd\", ,\"ContractData\",C7, \"Theta\",, \"T\"),\"\")","v":""},{"$f":"IF(AG7=\"\",\"\",RANK(AG7,$AG$1:$AG$35,0)+COUNTIF($AG$1:AG7,AG7)-1)","v":""},0,7,"",{"$f":"IF(D7=1,1/RTD(\"cqg.rtd\", ,\"ContractData\",C7, \"ExpirationDate\",, \"T\"),\"\")","v":""},{"$f":"IF(AL7=\"\",\"\",RANK(AL7,$AL$1:$AL$35,0)+COUNTIF($AL$1:AL7,AL7)-1)","v":""},0,7,""]
[{"$f":"IF(OR(ISTEXT(RTD(\"cqg.rtd\",,\"OrderData\",\"\"&B8&\"\",\"\",\"OpenPosition\",\"\"&Display4!$D$3&\"\")),RTD(\"cqg.rtd\",,\"OrderData\",\"\"&B8&\"\",\"\",\"OpenPosition\",\"\"&Display4!$D$3&\"\")=0),A7+0.001,INT(A7)+1)","v":8.0000000000000002E-3},{"$f":"(LEFT(B9,SEARCH(Display4!$G$2,B9)+LEN(Display4!$G$2)+2))&RIGHT(B9,LEN(B9)-(SEARCH(Display4!$G$2,B9)+LEN(Display4!$G$2)+2))+Display4!$J$3","v":"C.US.EPU1725950"},0,0,8,{"$f":"IF(D8=1,RTD(\"cqg.rtd\", ,\"ContractData\",C8, \"ImpliedVolatility\",, \"T\"),\"\")","v":""},{"$f":"IF(F8=\"\",\"\",RANK(F8,$F$1:$F$35,0)+COUNTIF($F$1:F8,F8)-1)","v":""},0,8,0,{"$f":"IF(D8=1,RTD(\"cqg.rtd\", ,\"OrderData\",\"\"&C8&\"\", \"\", \"OpenTradeEquity\",\"\"&$B$449&\"\"),\"\")","v":""},{"$f":"IF(K8=\"\",\"\",RANK(K8,$K$1:$K$35,0))+COUNTIF($K$1:K8,K8)-1","v":{"$error":"#VALUE!"}},0,8,"",{"$f":"IF(D8=1,RTD(\"cqg.rtd\", ,\"ContractData\",C8, \"Delta\",, \"T\"),\"\")","v":""},{"$f":"IF(D8=1,RTD(\"cqg.rtd\", ,\"OrderData\", \"\"&O8&\"\", \"\", \"OpenPosition\",\"\"&$B$449&\"\"),\"\")","v":""},{"$f":"IF(D8=0,\"\",IF(LEFT(O8,1)=\"F\",Q8*100,Q8*RTD(\"cqg.rtd\",,\"ContractData\",O8,\"Delta\",,\"T\")))","v":""},{"$f":"IF(R8=\"\",\"\",RANK(R8,$R$1:$R$35,0)+COUNTIF($R$1:R8,R8)-1)","v":""},"",8,"",{"$f":"IF(D8=1,RTD(\"cqg.rtd\", ,\"ContractData\",C8, \"Vega\",, \"T\"),\"\")","v":""},{"$f":"IF(W8=\"\",\"\",RANK(W8,$W$1:$W$35,0)+COUNTIF($W$1:W8,W8)-1)","v":""},0,8,"",{"$f":"IF(D8=1,RTD(\"cqg.rtd\", ,\"ContractData\",C8, \"Gamma\",, \"T\"),\"\")","v":""},{"$f":"IF(AB8=\"\",\"\",RANK(AB8,$AB$1:$AB$35,0)+COUNTIF($AB$1:AB8,AB8)-1)","v":""},0,8,"",{"$f":"IF(D8=1,RTD(\"cqg.rtd\", ,\"ContractData\",C8, \"Theta\",, \"T\"),\"\")","v":""},{"$f":"IF(AG8=\"\",\"\",RANK(AG8,$AG$1:$AG$35,0)+COUNTIF($AG$1:AG8,AG8)-1)","v":""},0,8,"",{"$f":"IF(D8=1,1/RTD(\"cqg.rtd\", ,\"ContractData\",C8, \"ExpirationDate\",, \"T\"),\"\")","v":""},{"$f":"IF(AL8=\"\",\"\",RANK(AL8,$AL$1:$AL$35,0)+COUNTIF($AL$1:AL8,AL8)-1)","v":""},0,8,""]
[{"$f":"IF(OR(ISTEXT(RTD(\"cqg.rtd\",,\"OrderData\",\"\"&B9&\"\",\"\",\"OpenPosition\",\"\"&Display4!$D$3&\"\")),RTD(\"cqg.rtd\",,\"OrderData\",\"\"&B9&\"\",\"\",\"OpenPosition\",\"\"&Display4!$D$3&\"\")=0),A8+0.001,INT(A8)+1)","v":9.0000000000000011E-3},{"$f":"(LEFT(B10,SEARCH(Display4!$G$2,B10)+LEN(Display4!$G$2)+2))&RIGHT(B10,LEN(B10)-(SEARCH(Display4!$G$2,B10)+LEN(Display4!$G$2)+2))+Display4!$J$3","v":"C.US.EPU1725900"},0,0,9,{"$f":"IF(D9=1,RTD(\"cqg.rtd\", ,\"ContractData\",C9, \"ImpliedVolatility\",, \"T\"),\"\")","v":""},{"$f":"IF(F9=\"\",\"\",RANK(F9,$F$1:$F$35,0)+COUNTIF($F$1:F9,F9)-1)","v":""},0,9,0,{"$f":"IF(D9=1,RTD(\"cqg.rtd\", ,\"OrderData\",\"\"&C9&\"\", \"\", \"OpenTradeEquity\",\"\"&$B$449&\"\"),\"\")","v":""},{"$f":"IF(K9=\"\",\"\",RANK(K9,$K$1:$K$35,0))+COUNTIF($K$1:K9,K9)-1","v":{"$error":"#VALUE!"}},0,9,"",{"$f":"IF(D9=1,RTD(\"cqg.rtd\", ,\"ContractData\",C9, \"Delta\",, \"T\"),\"\")","v":""},{"$f":"IF(D9=1,RTD(\"cqg.rtd\", ,\"OrderData\", \"\"&O9&\"\", \"\", \"OpenPosition\",\"\"&$B$449&\"\"),\"\")","v":""},{"$f":"IF(D9=0,\"\",IF(LEFT(O9,1)=\"F\",Q9*100,Q9*RTD(\"cqg.rtd\",,\"ContractData\",O9,\"Delta\",,\"T\")))","v":""},{"$f":"IF(R9=\"\",\"\",RANK(R9,$R$1:$R$35,0)+COUNTIF($R$1:R9,R9)-1)","v":""},"",9,"",{"$f":"IF(D9=1,RTD(\"cqg.rtd\", ,\"ContractData\",C9, \"Vega\",, \"T\"),\"\")","v":""},{"$f":"IF(W9=\"\",\"\",RANK(W9,$W$1:$W$35,0)+COUNTIF($W$1:W9,W9)-1)","v":""},0,9,"",{"$f":"IF(D9=1,RTD(\"cqg.rtd\", ,\"ContractData\",C9, \"Gamma\",, \"T\"),\"\")","v":""},{"$f":"IF(AB9=\"\",\"\",RANK(AB9,$AB$1:$AB$35,0)+COUNTIF($AB$1:AB9,AB9)-1)","v":""},0,9,"",{"$f":"IF(D9=1,RTD(\"cqg.rtd\", ,\"ContractData\",C9, \"Theta\",, \"T\"),\"\")","v":""},{"$f":"IF(AG9=\"\",\"\",RANK(AG9,$AG$1:$AG$35,0)+COUNTIF($AG$1:AG9,AG9)-1)","v":""},0,9,"",{"$f":"IF(D9=1,1/RTD(\"cqg.rtd\", ,\"ContractData\",C9, \"ExpirationDate\",, \"T\"),\"\")","v":""},{"$f":"IF(AL9=\"\",\"\",RANK(AL9,$AL$1:$AL$35,0)+COUNTIF($AL$1:AL9,AL9)-1)","v":""},0,9,""]
[{"$f":"IF(OR(ISTEXT(RTD(\"cqg.rtd\",,\"OrderData\",\"\"&B10&\"\",\"\",\"OpenPosition\",\"\"&Display4!$D$3&\"\")),RTD(\"cqg.rtd\",,\"OrderData\",\"\"&B10&\"\",\"\",\"OpenPosition\",\"\"&Display4!$D$3&\"\")=0),A9+0.001,INT(A9)+1)","v":1.0000000000000002E-2},{"$f":"(LEFT(B11,SEARCH(Display4!$G$2,B11)+LEN(Display4!$G$2)+2))&RIGHT(B11,LEN(B11)-(SEARCH(Display4!$G$2,B11)+LEN(Display4!$G$2)+2))+Display4!$J$3","v":"C.US.EPU1725850"},0,0,10,{"$f":"IF(D10=1,RTD(\"cqg.rtd\", ,\"ContractData\",C10, \"ImpliedVolatility\",, \"T\"),\"\")","v":""},{"$f":"IF(F10=\"\",\"\",RANK(F10,$F$1:$F$35,0)+COUNTIF($F$1:F10,F10)-1)","v":""},0,10,0,{"$f":"IF(D10=1,RTD(\"cqg.rtd\", ,\"OrderData\",\"\"&C10&\"\", \"\", \"OpenTradeEquity\",\"\"&$B$449&\"\"),\"\")","v":""},{"$f":"IF(K10=\"\",\"\",RANK(K10,$K$1:$K$35,0))+COUNTIF($K$1:K10,K10)-1","v":{"$error":"#VALUE!"}},0,10,"",{"$f":"IF(D10=1,RTD(\"cqg.rtd\", ,\"ContractData\",C10, \"Delta\",, \"T\"),\"\")","v":""},{"$f":"IF(D10=1,RTD(\"cqg.rtd\", ,\"OrderData\", \"\"&O10&\"\", \"\", \"OpenPosition\",\"\"&$B$449&\"\"),\"\")","v":""},{"$f":"IF(D10=0,\"\",IF(LEFT(O10,1)=\"F\",Q10*100,Q10*RTD(\"cqg.rtd\",,\"ContractData\",O10,\"Delta\",,\"T\")))","v":""},{"$f":"IF(R10=\"\",\"\",RANK(R10,$R$1:$R$35,0)+COUNTIF($R$1:R10,R10)-1)","v":""},"",10,"",{"$f":"IF(D10=1,RTD(\"cqg.rtd\", ,\"ContractData\",C10, \"Vega\",, \"T\"),\"\")","v":""},{"$f":"IF(W10=\"\",\"\",RANK(W10,$W$1:$W$35,0)+COUNTIF($W$1:W10,W10)-1)","v":""},0,10,"",{"$f":"IF(D10=1,RTD(\"cqg.rtd\", ,\"ContractData\",C10, \"Gamma\",, \"T\"),\"\")","v":""},{"$f":"IF(AB10=\"\",\"\",RANK(AB10,$AB$1:$AB$35,0)+COUNTIF($AB$1:AB10,AB10)-1)","v":""},0,10,"",{"$f":"IF(D10=1,RTD(\"cqg.rtd\", ,\"ContractData\",C10, \"Theta\",, \"T\"),\"\")","v":""},{"$f":"IF(AG10=\"\",\"\",RANK(AG10,$AG$1:$AG$35,0)+COUNTIF($AG$1:AG10,AG10)-1)","v":""},0,10,"",{"$f":"IF(D10=1,1/RTD(\"cqg.rtd\", ,\"ContractData\",C10, \"ExpirationDate\",, \"T\"),\"\")","v":""},{"$f":"IF(AL10=\"\",\"\",RANK(AL10,$AL$1:$AL$35,0)+COUNTIF($AL$1:AL10,AL10)-1)","v":""},0,10,""]
[{"$f":"IF(OR(ISTEXT(RTD(\"cqg.rtd\",,\"OrderData\",\"\"&B11&\"\",\"\",\"OpenPosition\",\"\"&Display4!$D$3&\"\")),RTD(\"cqg.rtd\",,\"OrderData\",\"\"&B11&\"\",\"\",\"OpenPosition\",\"\"&Display4!$D$3&\"\")=0),A10+0.001,INT(A10)+1)","v":1.1000000000000003E-2},{"$f":"(LEFT(B12,SEARCH(Display4!$G$2,B12)+LEN(Display4!$G$2)+2))&RIGHT(B12,LEN(B12)-(SEARCH(Display4!$G$2,B12)+LEN(Display4!$G$2)+2))+Display4!$J$3","v":"C.US.EPU1725800"},0,0,11,{"$f":"IF(D11=1,RTD(\"cqg.rtd\", ,\"ContractData\",C11, \"ImpliedVolatility\",, \"T\"),\"\")","v":""},{"$f":"IF(F11=\"\",\"\",RANK(F11,$F$1:$F$35,0)+COUNTIF($F$1:F11,F11)-1)","v":""},0,11,0,{"$f":"IF(D11=1,RTD(\"cqg.rtd\", ,\"OrderData\",\"\"&C11&\"\", \"\", \"OpenTradeEquity\",\"\"&$B$449&\"\"),\"\")","v":""},{"$f":"IF(K11=\"\",\"\",RANK(K11,$K$1:$K$35,0))+COUNTIF($K$1:K11,K11)-1","v":{"$error":"#VALUE!"}},0,11,"",{"$f":"IF(D11=1,RTD(\"cqg.rtd\", ,\"ContractData\",C11, \"Delta\",, \"T\"),\"\")","v":""},{"$f":"IF(D11=1,RTD(\"cqg.rtd\", ,\"OrderData\", \"\"&O11&\"\", \"\", \"OpenPosition\",\"\"&$B$449&\"\"),\"\")","v":""},{"$f":"IF(D11=0,\"\",IF(LEFT(O11,1)=\"F\",Q11*100,Q11*RTD(\"cqg.rtd\",,\"ContractData\",O11,\"Delta\",,\"T\")))","v":""},{"$f":"IF(R11=\"\",\"\",RANK(R11,$R$1:$R$35,0)+COUNTIF($R$1:R11,R11)-1)","v":""},"",11,"",{"$f":"IF(D11=1,RTD(\"cqg.rtd\", ,\"ContractData\",C11, \"Vega\",, \"T\"),\"\")","v":""},{"$f":"IF(W11=\"\",\"\",RANK(W11,$W$1:$W$35,0)+COUNTIF($W$1:W11,W11)-1)","v":""},0,11,"",{"$f":"IF(D11=1,RTD(\"cqg.rtd\", ,\"ContractData\",C11, \"Gamma\",, \"T\"),\"\")","v":""},{"$f":"IF(AB11=\"\",\"\",RANK(AB11,$AB$1:$AB$35,0)+COUNTIF($AB$1:AB11,AB11)-1)","v":""},0,11,"",{"$f":"IF(D11=1,RTD(\"cqg.rtd\", ,\"ContractData\",C11, \"Theta\",, \"T\"),\"\")","v":""},{"$f":"IF(AG11=\"\",\"\",RANK(AG11,$AG$1:$AG$35,0)+COUNTIF($AG$1:AG11,AG11)-1)","v":""},0,11,"",{"$f":"IF(D11=1,1/RTD(\"cqg.rtd\", ,\"ContractData\",C11, \"ExpirationDate\",, \"T\"),\"\")","v":""},{"$f":"IF(AL11=\"\",\"\",RANK(AL11,$AL$1:$AL$35,0)+COUNTIF($AL$1:AL11,AL11)-1)","v":""},0,11,"",{"$f":"IF(AL11=\"\",\"\",RANK(AL11,$AL$1:$AL$35,0)+COUNTIF($AL$1:AL11,AL11)-1)","v":""}]
[{"$f":"IF(OR(ISTEXT(RTD(\"cqg.rtd\",,\"OrderData\",\"\"&B12&\"\",\"\",\"OpenPosition\",\"\"&Display4!$D$3&\"\")),RTD(\"cqg.rtd\",,\"OrderData\",\"\"&B12&\"\",\"\",\"OpenPosition\",\"\"&Display4!$D$3&\"\")=0),A11+0.001,INT(A11)+1)","v":1.2000000000000004E-2},{"$f":"(LEFT(B13,SEARCH(Display4!$G$2,B13)+LEN(Display4!$G$2)+2))&RIGHT(B13,LEN(B13)-(SEARCH(Display4!$G$2,B13)+LEN(Display4!$G$2)+2))+Display4!$J$3","v":"C.US.EPU1725750"},0,0,12,{"$f":"IF(D12=1,RTD(\"cqg.rtd\", ,\"ContractData\",C12, \"ImpliedVolatility\",, \"T\"),\"\")","v":""},{"$f":"IF(F12=\"\",\"\",RANK(F12,$F$1:$F$35,0)+COUNTIF($F$1:F12,F12)-1)","v":""},0,12,0,{"$f":"IF(D12=1,RTD(\"cqg.rtd\", ,\"OrderData\",\"\"&C12&\"\", \"\", \"OpenTradeEquity\",\"\"&$B$449&\"\"),\"\")","v":""},{"$f":"IF(K12=\"\",\"\",RANK(K12,$K$1:$K$35,0))+COUNTIF($K$1:K12,K12)-1","v":{"$error":"#VALUE!"}},0,12,"",{"$f":"IF(D12=1,RTD(\"cqg.rtd\", ,\"ContractData\",C12, \"Delta\",, \"T\"),\"\")","v":""},{"$f":"IF(D12=1,RTD(\"cqg.rtd\", ,\"OrderData\", \"\"&O12&\"\", \"\", \"OpenPosition\",\"\"&$B$449&\"\"),\"\")","v":""},{"$f":"IF(D12=0,\"\",IF(LEFT(O12,1)=\"F\",Q12*100,Q12*RTD(\"cqg.rtd\",,\"ContractData\",O12,\"Delta\",,\"T\")))","v":""},{"$f":"IF(R12=\"\",\"\",RANK(R12,$R$1:$R$35,0)+COUNTIF($R$1:R12,R12)-1)","v":""},"",12,"",{"$f":"IF(D12=1,RTD(\"cqg.rtd\", ,\"ContractData\",C12, \"Vega\",, \"T\"),\"\")","v":""},{"$f":"IF(W12=\"\",\"\",RANK(W12,$W$1:$W$35,0)+COUNTIF($W$1:W12,W12)-1)","v":""},0,12,"",{"$f":"IF(D12=1,RTD(\"cqg.rtd\", ,\"ContractData\",C12, \"Gamma\",, \"T\"),\"\")","v":""},{"$f":"IF(AB12=\"\",\"\",RANK(AB12,$AB$1:$AB$35,0)+COUNTIF($AB$1:AB12,AB12)-1)","v":""},0,12,null,{"$f":"IF(D12=1,RTD(\"cqg.rtd\", ,\"ContractData\",C12, \"Theta\",, \"T\"),\"\")","v":""},{"$f":"IF(AG12=\"\",\"\",RANK(AG12,$AG$1:$AG$35,0)+COUNTIF($AG$1:AG12,AG12)-1)","v":""},0,12,"",{"$f":"IF(D12=1,1/RTD(\"cqg.rtd\", ,\"ContractData\",C12, \"ExpirationDate\",, \"T\"),\"\")","v":""},{"$f":"IF(AL12=\"\",\"\",RANK(AL12,$AL$1:$AL$35,0)+COUNTIF($AL$1:AL12,AL12)-1)","v":""},0,12,"",{"$f":"IF(AL12=\"\",\"\",RANK(AL12,$AL$1:$AL$35,0)+COUNTIF($AL$1:AL12,AL12)-1)","v":""}]
[{"$f":"IF(OR(ISTEXT(RTD(\"cqg.rtd\",,\"OrderData\",\"\"&B13&\"\",\"\",\"OpenPosition\",\"\"&Display4!$D$3&\"\")),RTD(\"cqg.rtd\",,\"OrderData\",\"\"&B13&\"\",\"\",\"OpenPosition\",\"\"&Display4!$D$3&\"\")=0),A12+0.001,INT(A12)+1)","v":1.3000000000000005E-2},{"$f":"(LEFT(B14,SEARCH(Display4!$G$2,B14)+LEN(Display4!$G$2)+2))&RIGHT(B14,LEN(B14)-(SEARCH(Display4!$G$2,B14)+LEN(Display4!$G$2)+2))+Display4!$J$3","v":"C.US.EPU1725700"},0,0,13,{"$f":"IF(D13=1,RTD(\"cqg.rtd\", ,\"ContractData\",C13, \"ImpliedVolatility\",, \"T\"),\"\")","v":""},{"$f":"IF(F13=\"\",\"\",RANK(F13,$F$1:$F$35,0)+COUNTIF($F$1:F13,F13)-1)","v":""},0,13,0,{"$f":"IF(D13=1,RTD(\"cqg.rtd\", ,\"OrderData\",\"\"&C13&\"\", \"\", \"OpenTradeEquity\",\"\"&$B$449&\"\"),\"\")","v":""},{"$f":"IF(K13=\"\",\"\",RANK(K13,$K$1:$K$35,0))+COUNTIF($K$1:K13,K13)-1","v":{"$error":"#VALUE!"}},0,13,"",{"$f":"IF(D13=1,RTD(\"cqg.rtd\", ,\"ContractData\",C13, \"Delta\",, \"T\"),\"\")","v":""},{"$f":"IF(D13=1,RTD(\"cqg.rtd\", ,\"OrderData\", \"\"&O13&\"\", \"\", \"OpenPosition\",\"\"&$B$449&\"\"),\"\")","v":""},{"$f":"IF(D13=0,\"\",IF(LEFT(O13,1)=\"F\",Q13*100,Q13*RTD(\"cqg.rtd\",,\"ContractData\",O13,\"Delta\",,\"T\")))","v":""},{"$f":"IF(R13=\"\",\"\",RANK(R13,$R$1:$R$35,0)+COUNTIF($R$1:R13,R13)-1)","v":""},"",13,"",{"$f":"IF(D13=1,RTD(\"cqg.rtd\", ,\"ContractData\",C13, \"Vega\",, \"T\"),\"\")","v":""},{"$f":"IF(W13=\"\",\"\",RANK(W13,$W$1:$W$35,0)+COUNTIF($W$1:W13,W13)-1)","v":""},0,13,"",{"$f":"IF(D13=1,RTD(\"cqg.rtd\", ,\"ContractData\",C13, \"Gamma\",, \"T\"),\"\")","v":""},{"$f":"IF(AB13=\"\",\"\",RANK(AB13,$AB$1:$AB$35,0)+COUNTIF($AB$1:AB13,AB13)-1)","v":""},0,13,"",{"$f":"IF(D13=1,RTD(\"cqg.rtd\", ,\"ContractData\",C13, \"Theta\",, \"T\"),\"\")","v":""},{"$f":"IF(AG13=\"\",\"\",RANK(AG13,$AG$1:$AG$35,0)+COUNTIF($AG$1:AG13,AG13)-1)","v":""},0,13,"",{"$f":"IF(D13=1,1/RTD(\"cqg.rtd\", ,\"ContractData\",C13, \"ExpirationDate\",, \"T\"),\"\")","v":""},{"$f":"IF(AL13=\"\",\"\",RANK(AL13,$AL$1:$AL$35,0)+COUNTIF($AL$1:AL13,AL13)-1)","v":""},0,13,"",{"$f":"IF(AL13=\"\",\"\",RANK(AL13,$AL$1:$AL$35,0)+COUNTIF($AL$1:AL13,AL13)-1)","v":""}]
[{"$f":"IF(OR(ISTEXT(RTD(\"cqg.rtd\",,\"OrderData\",\"\"&B14&\"\",\"\",\"OpenPosition\",\"\"&Display4!$D$3&\"\")),RTD(\"cqg.rtd\",,\"OrderData\",\"\"&B14&\"\",\"\",\"OpenPosition\",\"\"&Display4!$D$3&\"\")=0),A13+0.001,INT(A13)+1)","v":1.4000000000000005E-2},{"$f":"(LEFT(B15,SEARCH(Display4!$G$2,B15)+LEN(Display4!$G$2)+2))&RIGHT(B15,LEN(B15)-(SEARCH(Display4!$G$2,B15)+LEN(Display4!$G$2)+2))+Display4!$J$3","v":"C.US.EPU1725650"},0,0,14,{"$f":"IF(D14=1,RTD(\"cqg.rtd\", ,\"ContractData\",C14, \"ImpliedVolatility\",, \"T\"),\"\")","v":""},{"$f":"IF(F14=\"\",\"\",RANK(F14,$F$1:$F$35,0)+COUNTIF($F$1:F14,F14)-1)","v":""},0,14,0,{"$f":"IF(D14=1,RTD(\"cqg.rtd\", ,\"OrderData\",\"\"&C14&\"\", \"\", \"OpenTradeEquity\",\"\"&$B$449&\"\"),\"\")","v":""},{"$f":"IF(K14=\"\",\"\",RANK(K14,$K$1:$K$35,0))+COUNTIF($K$1:K14,K14)-1","v":{"$error":"#VALUE!"}},0,14,"",{"$f":"IF(D14=1,RTD(\"cqg.rtd\", ,\"ContractData\",C14, \"Delta\",, \"T\"),\"\")","v":""},{"$f":"IF(D14=1,RTD(\"cqg.rtd\", ,\"OrderData\", \"\"&O14&\"\", \"\", \"OpenPosition\",\"\"&$B$449&\"\"),\"\")","v":""},{"$f":"IF(D14=0,\"\",IF(LEFT(O14,1)=\"F\",Q14*100,Q14*RTD(\"cqg.rtd\",,\"ContractData\",O14,\"Delta\",,\"T\")))","v":""},{"$f":"IF(R14=\"\",\"\",RANK(R14,$R$1:$R$35,0)+COUNTIF($R$1:R14,R14)-1)","v":""},"",14,"",{"$f":"IF(D14=1,RTD(\"cqg.rtd\", ,\"ContractData\",C14, \"Vega\",, \"T\"),\"\")","v":""},{"$f":"IF(W14=\"\",\"\",RANK(W14,$W$1:$W$35,0)+COUNTIF($W$1:W14,W14)-1)","v":""},0,14,"",{"$f":"IF(D14=1,RTD(\"cqg.rtd\", ,\"ContractData\",C14, \"Gamma\",, \"T\"),\"\")","v":""},{"$f":"IF(AB14=\"\",\"\",RANK(AB14,$AB$1:$AB$35,0)+COUNTIF($AB$1:AB14,AB14)-1)","v":""},0,14,"",{"$f":"IF(D14=1,RTD(\"cqg.rtd\", ,\"ContractData\",C14, \"Theta\",, \"T\"),\"\")","v":""},{"$f":"IF(AG14=\"\",\"\",RANK(AG14,$AG$1:$AG$35,0)+COUNTIF($AG$1:AG14,AG14)-1)","v":""},0,14,"",{"$f":"IF(D14=1,1/RTD(\"cqg.rtd\", ,\"ContractData\",C14, \"ExpirationDate\",, \"T\"),\"\")","v":""},{"$f":"IF(AL14=\"\",\"\",RANK(AL14,$AL$1:$AL$35,0)+COUNTIF($AL$1:AL14,AL14)-1)","v":""},0,14,"",{"$f":"IF(AL14=\"\",\"\",RANK(AL14,$AL$1:$AL$35,0)+COUNTIF($AL$1:AL14,AL14)-1)","v":""}]
[{"$f":"IF(OR(ISTEXT(RTD(\"cqg.rtd\",,\"OrderData\",\"\"&B15&\"\",\"\",\"OpenPosition\",\"\"&Display4!$D$3&\"\")),RTD(\"cqg.rtd\",,\"OrderData\",\"\"&B15&\"\",\"\",\"OpenPosition\",\"\"&Display4!$D$3&\"\")=0),A14+0.001,INT(A14)+1)","v":1.5000000000000006E-2},{"$f":"(LEFT(B16,SEARCH(Display4!$G$2,B16)+LEN(Display4!$G$2)+2))&RIGHT(B16,LEN(B16)-(SEARCH(Display4!$G$2,B16)+LEN(Display4!$G$2)+2))+Display4!$J$3","v":"C.US.EPU1725600"},0,0,15,{"$f":"IF(D15=1,RTD(\"cqg.rtd\", ,\"ContractData\",C15, \"ImpliedVolatility\",, \"T\"),\"\")","v":""},{"$f":"IF(F15=\"\",\"\",RANK(F15,$F$1:$F$35,0)+COUNTIF($F$1:F15,F15)-1)","v":""},0,15,0,{"$f":"IF(D15=1,RTD(\"cqg.rtd\", ,\"OrderData\",\"\"&C15&\"\", \"\", \"OpenTradeEquity\",\"\"&$B$449&\"\"),\"\")","v":""},{"$f":"IF(K15=\"\",\"\",RANK(K15,$K$1:$K$35,0))+COUNTIF($K$1:K15,K15)-1","v":{"$error":"#VALUE!"}},0,15,"",{"$f":"IF(D15=1,RTD(\"cqg.rtd\", ,\"ContractData\",C15, \"Delta\",, \"T\"),\"\")","v":""},{"$f":"IF(D15=1,RTD(\"cqg.rtd\", ,\"OrderData\", \"\"&O15&\"\", \"\", \"OpenPosition\",\"\"&$B$449&\"\"),\"\")","v":""},{"$f":"IF(D15=0,\"\",IF(LEFT(O15,1)=\"F\",Q15*100,Q15*RTD(\"cqg.rtd\",,\"ContractData\",O15,\"Delta\",,\"T\")))","v":""},{"$f":"IF(R15=\"\",\"\",RANK(R15,$R$1:$R$35,0)+COUNTIF($R$1:R15,R15)-1)","v":""},"",15,"",{"$f":"IF(D15=1,RTD(\"cqg.rtd\", ,\"ContractData\",C15, \"Vega\",, \"T\"),\"\")","v":""},{"$f":"IF(W15=\"\",\"\",RANK(W15,$W$1:$W$35,0)+COUNTIF($W$1:W15,W15)-1)","v":""},0,15,"",{"$f":"IF(D15=1,RTD(\"cqg.rtd\", ,\"ContractData\",C15, \"Gamma\",, \"T\"),\"\")","v":""},{"$f":"IF(AB15=\"\",\"\",RANK(AB15,$AB$1:$AB$35,0)+COUNTIF($AB$1:AB15,AB15)-1)","v":""},0,15,"",{"$f":"IF(D15=1,RTD(\"cqg.rtd\", ,\"ContractData\",C15, \"Theta\",, \"T\"),\"\")","v":""},{"$f":"IF(AG15=\"\",\"\",RANK(AG15,$AG$1:$AG$35,0)+COUNTIF($AG$1:AG15,AG15)-1)","v":""},0,15,"",{"$f":"IF(D15=1,1/RTD(\"cqg.rtd\", ,\"ContractData\",C15, \"ExpirationDate\",, \"T\"),\"\")","v":""},{"$f":"IF(AL15=\"\",\"\",RANK(AL15,$AL$1:$AL$35,0)+COUNTIF($AL$1:AL15,AL15)-1)","v":""},0,15,"",{"$f":"IF(AL15=\"\",\"\",RANK(AL15,$AL$1:$AL$35,0)+COUNTIF($AL$1:AL15,AL15)-1)","v":""}]
[{"$f":"IF(OR(ISTEXT(RTD(\"cqg.rtd\",,\"OrderData\",\"\"&B16&\"\",\"\",\"OpenPosition\",\"\"&Display4!$D$3&\"\")),RTD(\"cqg.rtd\",,\"OrderData\",\"\"&B16&\"\",\"\",\"OpenPosition\",\"\"&Display4!$D$3&\"\")=0),A15+0.001,INT(A15)+1)","v":1.6000000000000007E-2},{"$f":"(LEFT(B17,SEARCH(Display4!$G$2,B17)+LEN(Display4!$G$2)+2))&RIGHT(B17,LEN(B17)-(SEARCH(Display4!$G$2,B17)+LEN(Display4!$G$2)+2))+Display4!$J$3","v":"C.US.EPU1725550"},0,0,16,{"$f":"IF(D16=1,RTD(\"cqg.rtd\", ,\"ContractData\",C16, \"ImpliedVolatility\",, \"T\"),\"\")","v":""},{"$f":"IF(F16=\"\",\"\",RANK(F16,$F$1:$F$35,0)+COUNTIF($F$1:F16,F16)-1)","v":""},0,16,0,{"$f":"IF(D16=1,RTD(\"cqg.rtd\", ,\"OrderData\",\"\"&C16&\"\", \"\", \"OpenTradeEquity\",\"\"&$B$449&\"\"),\"\")","v":""},{"$f":"IF(K16=\"\",\"\",RANK(K16,$K$1:$K$35,0))+COUNTIF($K$1:K16,K16)-1","v":{"$error":"#VALUE!"}},0,16,"",{"$f":"IF(D16=1,RTD(\"cqg.rtd\", ,\"ContractData\",C16, \"Delta\",, \"T\"),\"\")","v":""},{"$f":"IF(D16=1,RTD(\"cqg.rtd\", ,\"OrderData\", \"\"&O16&\"\", \"\", \"OpenPosition\",\"\"&$B$449&\"\"),\"\")","v":""},{"$f":"IF(D16=0,\"\",IF(LEFT(O16,1)=\"F\",Q16*100,Q16*RTD(\"cqg.rtd\",,\"ContractData\",O16,\"Delta\",,\"T\")))","v":""},{"$f":"IF(R16=\"\",\"\",RANK(R16,$R$1:$R$35,0)+COUNTIF($R$1:R16,R16)-1)","v":""},"",16,"",{"$f":"IF(D16=1,RTD(\"cqg.rtd\", ,\"ContractData\",C16, \"Vega\",, \"T\"),\"\")","v":""},{"$f":"IF(W16=\"\",\"\",RANK(W16,$W$1:$W$35,0)+COUNTIF($W$1:W16,W16)-1)","v":""},0,16,"",{"$f":"IF(D16=1,RTD(\"cqg.rtd\", ,\"ContractData\",C16, \"Gamma\",, \"T\"),\"\")","v":""},{"$f":"IF(AB16=\"\",\"\",RANK(AB16,$AB$1:$AB$35,0)+COUNTIF($AB$1:AB16,AB16)-1)","v":""},0,16,"",{"$f":"IF(D16=1,RTD(\"cqg.rtd\", ,\"ContractData\",C16, \"Theta\",, \"T\"),\"\")","v":""},{"$f":"IF(AG16=\"\",\"\",RANK(AG16,$AG$1:$AG$35,0)+COUNTIF($AG$1:AG16,AG16)-1)","v":""},0,16,"",{"$f":"IF(D16=1,1/RTD(\"cqg.rtd\", ,\"ContractData\",C16, \"ExpirationDate\",, \"T\"),\"\")","v":""},{"$f":"IF(AL16=\"\",\"\",RANK(AL16,$AL$1:$AL$35,0)+COUNTIF($AL$1:AL16,AL16)-1)","v":""},0,16,"",{"$f":"IF(AL16=\"\",\"\",RANK(AL16,$AL$1:$AL$35,0)+COUNTIF($AL$1:AL16,AL16)-1)","v":""}]
[{"$f":"IF(OR(ISTEXT(RTD(\"cqg.rtd\",,\"OrderData\",\"\"&B17&\"\",\"\",\"OpenPosition\",\"\"&Display4!$D$3&\"\")),RTD(\"cqg.rtd\",,\"OrderData\",\"\"&B17&\"\",\"\",\"OpenPosition\",\"\"&Display4!$D$3&\"\")=0),A16+0.001,INT(A16)+1)","v":1.7000000000000008E-2},{"$f":"(LEFT(B18,SEARCH(Display4!$G$2,B18)+LEN(Display4!$G$2)+2))&RIGHT(B18,LEN(B18)-(SEARCH(Display4!$G$2,B18)+LEN(Display4!$G$2)+2))+Display4!$J$3","v":"C.US.EPU1725500"},0,0,17,{"$f":"IF(D17=1,RTD(\"cqg.rtd\", ,\"ContractData\",C17, \"ImpliedVolatility\",, \"T\"),\"\")","v":""},{"$f":"IF(F17=\"\",\"\",RANK(F17,$F$1:$F$35,0)+COUNTIF($F$1:F17,F17)-1)","v":""},0,17,0,{"$f":"IF(D17=1,RTD(\"cqg.rtd\", ,\"OrderData\",\"\"&C17&\"\", \"\", \"OpenTradeEquity\",\"\"&$B$449&\"\"),\"\")","v":""},{"$f":"IF(K17=\"\",\"\",RANK(K17,$K$1:$K$35,0))+COUNTIF($K$1:K17,K17)-1","v":{"$error":"#VALUE!"}},0,17,"",{"$f":"IF(D17=1,RTD(\"cqg.rtd\", ,\"ContractData\",C17, \"Delta\",, \"T\"),\"\")","v":""},{"$f":"IF(D17=1,RTD(\"cqg.rtd\", ,\"OrderData\", \"\"&O17&\"\", \"\", \"OpenPosition\",\"\"&$B$449&\"\"),\"\")","v":""},{"$f":"IF(D17=0,\"\",IF(LEFT(O17,1)=\"F\",Q17*100,Q17*RTD(\"cqg.rtd\",,\"ContractData\",O17,\"Delta\",,\"T\")))","v":""},{"$f":"IF(R17=\"\",\"\",RANK(R17,$R$1:$R$35,0)+COUNTIF($R$1:R17,R17)-1)","v":""},"",17,"",{"$f":"IF(D17=1,RTD(\"cqg.rtd\", ,\"ContractData\",C17, \"Vega\",, \"T\"),\"\")","v":""},{"$f":"IF(W17=\"\",\"\",RANK(W17,$W$1:$W$35,0)+COUNTIF($W$1:W17,W17)-1)","v":""},0,17,"",{"$f":"IF(D17=1,RTD(\"cqg.rtd\", ,\"ContractData\",C17, \"Gamma\",, \"T\"),\"\")","v":""},{"$f":"IF(AB17=\"\",\"\",RANK(AB17,$AB$1:$AB$35,0)+COUNTIF($AB$1:AB17,AB17)-1)","v":""},0,17,"",{"$f":"IF(D17=1,RTD(\"cqg.rtd\", ,\"ContractData\",C17, \"Theta\",, \"T\"),\"\")","v":""},{"$f":"IF(AG17=\"\",\"\",RANK(AG17,$AG$1:$AG$35,0)+COUNTIF($AG$1:AG17,AG17)-1)","v":""},0,17,"",{"$f":"IF(D17=1,1/RTD(\"cqg.rtd\", ,\"ContractData\",C17, \"ExpirationDate\",, \"T\"),\"\")","v":""},{"$f":"IF(AL17=\"\",\"\",RANK(AL17,$AL$1:$AL$35,0)+COUNTIF($AL$1:AL17,AL17)-1)","v":""},0,17,"",{"$f":"IF(AL17=\"\",\"\",RANK(AL17,$AL$1:$AL$35,0)+COUNTIF($AL$1:AL17,AL17)-1)","v":""}]
[{"$f":"IF(OR(ISTEXT(RTD(\"cqg.rtd\",,\"OrderData\",\"\"&B18&\"\",\"\",\"OpenPosition\",\"\"&Display4!$D$3&\"\")),RTD(\"cqg.rtd\",,\"OrderData\",\"\"&B18&\"\",\"\",\"OpenPosition\",\"\"&Display4!$D$3&\"\")=0),A17+0.001,INT(A17)+1)","v":1.8000000000000009E-2},{"$f":"(LEFT(B19,SEARCH(Display4!$G$2,B19)+LEN(Display4!$G$2)+2))&RIGHT(B19,LEN(B19)-(SEARCH(Display4!$G$2,B19)+LEN(Display4!$G$2)+2))+Display4!$J$3","v":"C.US.EPU1725450"},0,0,18,{"$f":"IF(D18=1,RTD(\"cqg.rtd\", ,\"ContractData\",C18, \"ImpliedVolatility\",, \"T\"),\"\")","v":""},{"$f":"IF(F18=\"\",\"\",RANK(F18,$F$1:$F$35,0)+COUNTIF($F$1:F18,F18)-1)","v":""},0,18,0,{"$f":"IF(D18=1,RTD(\"cqg.rtd\", ,\"OrderData\",\"\"&C18&\"\", \"\", \"OpenTradeEquity\",\"\"&$B$449&\"\"),\"\")","v":""},{"$f":"IF(K18=\"\",\"\",RANK(K18,$K$1:$K$35,0))+COUNTIF($K$1:K18,K18)-1","v":{"$error":"#VALUE!"}},0,18,"",{"$f":"IF(D18=1,RTD(\"cqg.rtd\", ,\"ContractData\",C18, \"Delta\",, \"T\"),\"\")","v":""},{"$f":"IF(D18=1,RTD(\"cqg.rtd\", ,\"OrderData\", \"\"&O18&\"\", \"\", \"OpenPosition\",\"\"&$B$449&\"\"),\"\")","v":""},{"$f":"IF(D18=0,\"\",IF(LEFT(O18,1)=\"F\",Q18*100,Q18*RTD(\"cqg.rtd\",,\"ContractData\",O18,\"Delta\",,\"T\")))","v":""},{"$f":"IF(R18=\"\",\"\",RANK(R18,$R$1:$R$35,0)+COUNTIF($R$1:R18,R18)-1)","v":""},"",18,"",{"$f":"IF(D18=1,RTD(\"cqg.rtd\", ,\"ContractData\",C18, \"Vega\",, \"T\"),\"\")","v":""},{"$f":"IF(W18=\"\",\"\",RANK(W18,$W$1:$W$35,0)+COUNTIF($W$1:W18,W18)-1)","v":""},0,18,"",{"$f":"IF(D18=1,RTD(\"cqg.rtd\", ,\"ContractData\",C18, \"Gamma\",, \"T\"),\"\")","v":""},{"$f":"IF(AB18=\"\",\"\",RANK(AB18,$AB$1:$AB$35,0)+COUNTIF($AB$1:AB18,AB18)-1)","v":""},0,18,"",{"$f":"IF(D18=1,RTD(\"cqg.rtd\", ,\"ContractData\",C18, \"Theta\",, \"T\"),\"\")","v":""},{"$f":"IF(AG18=\"\",\"\",RANK(AG18,$AG$1:$AG$35,0)+COUNTIF($AG$1:AG18,AG18)-1)","v":""},0,18,"",{"$f":"IF(D18=1,1/RTD(\"cqg.rtd\", ,\"ContractData\",C18, \"ExpirationDate\",, \"T\"),\"\")","v":""},{"$f":"IF(AL18=\"\",\"\",RANK(AL18,$AL$1:$AL$35,0)+COUNTIF($AL$1:AL18,AL18)-1)","v":""},0,18,"",{"$f":"IF(AL18=\"\",\"\",RANK(AL18,$AL$1:$AL$35,0)+COUNTIF($AL$1:AL18,AL18)-1)","v":""}]
[{"$f":"IF(OR(ISTEXT(RTD(\"cqg.rtd\",,\"OrderData\",\"\"&B19&\"\",\"\",\"OpenPosition\",\"\"&Display4!$D$3&\"\")),RTD(\"cqg.rtd\",,\"OrderData\",\"\"&B19&\"\",\"\",\"OpenPosition\",\"\"&Display4!$D$3&\"\")=0),A18+0.001,INT(A18)+1)","v":1.900000000000001E-2},{"$f":"(LEFT(B20,SEARCH(Display4!$G$2,B20)+LEN(Display4!$G$2)+2))&RIGHT(B20,LEN(B20)-(SEARCH(Display4!$G$2,B20)+LEN(Display4!$G$2)+2))+Display4!$J$3","v":"C.US.EPU1725400"},0,0,19,{"$f":"IF(D19=1,RTD(\"cqg.rtd\", ,\"ContractData\",C19, \"ImpliedVolatility\",, \"T\"),\"\")","v":""},{"$f":"IF(F19=\"\",\"\",RANK(F19,$F$1:$F$35,0)+COUNTIF($F$1:F19,F19)-1)","v":""},0,19,0,{"$f":"IF(D19=1,RTD(\"cqg.rtd\", ,\"OrderData\",\"\"&C19&\"\", \"\", \"OpenTradeEquity\",\"\"&$B$449&\"\"),\"\")","v":""},{"$f":"IF(K19=\"\",\"\",RANK(K19,$K$1:$K$35,0))+COUNTIF($K$1:K19,K19)-1","v":{"$error":"#VALUE!"}},0,19,"",{"$f":"IF(D19=1,RTD(\"cqg.rtd\", ,\"ContractData\",C19, \"Delta\",, \"T\"),\"\")","v":""},{"$f":"IF(D19=1,RTD(\"cqg.rtd\", ,\"OrderData\", \"\"&O19&\"\", \"\", \"OpenPosition\",\"\"&$B$449&\"\"),\"\")","v":""},{"$f":"IF(D19=0,\"\",IF(LEFT(O19,1)=\"F\",Q19*100,Q19*RTD(\"cqg.rtd\",,\"ContractData\",O19,\"Delta\",,\"T\")))","v":""},{"$f":"IF(R19=\"\",\"\",RANK(R19,$R$1:$R$35,0)+COUNTIF($R$1:R19,R19)-1)","v":""},"",19,"",{"$f":"IF(D19=1,RTD(\"cqg.rtd\", ,\"ContractData\",C19, \"Vega\",, \"T\"),\"\")","v":""},{"$f":"IF(W19=\"\",\"\",RANK(W19,$W$1:$W$35,0)+COUNTIF($W$1:W19,W19)-1)","v":""},0,19,"",{"$f":"IF(D19=1,RTD(\"cqg.rtd\", ,\"ContractData\",C19, \"Gamma\",, \"T\"),\"\")","v":""},{"$f":"IF(AB19=\"\",\"\",RANK(AB19,$AB$1:$AB$35,0)+COUNTIF($AB$1:AB19,AB19)-1)","v":""},0,19,"",{"$f":"IF(D19=1,RTD(\"cqg.rtd\", ,\"ContractData\",C19, \"Theta\",, \"T\"),\"\")","v":""},{"$f":"IF(AG19=\"\",\"\",RANK(AG19,$AG$1:$AG$35,0)+COUNTIF($AG$1:AG19,AG19)-1)","v":""},0,19,"",{"$f":"IF(D19=1,1/RTD(\"cqg.rtd\", ,\"ContractData\",C19, \"ExpirationDate\",, \"T\"),\"\")","v":""},{"$f":"IF(AL19=\"\",\"\",RANK(AL19,$AL$1:$AL$35,0)+COUNTIF($AL$1:AL19,AL19)-1)","v":""},0,19,"",{"$f":"IF(AL19=\"\",\"\",RANK(AL19,$AL$1:$AL$35,0)+COUNTIF($AL$1:AL19,AL19)-1)","v":""}]
[{"$f":"IF(OR(ISTEXT(RTD(\"cqg.rtd\",,\"OrderData\",\"\"&B20&\"\",\"\",\"OpenPosition\",\"\"&Display4!$D$3&\"\")),RTD(\"cqg.rtd\",,\"OrderData\",\"\"&B20&\"\",\"\",\"OpenPosition\",\"\"&Display4!$D$3&\"\")=0),A19+0.001,INT(A19)+1)","v":2.0000000000000011E-2},{"$f":"(LEFT(B21,SEARCH(Display4!$G$2,B21)+LEN(Display4!$G$2)+2))&RIGHT(B21,LEN(B21)-(SEARCH(Display4!$G$2,B21)+LEN(Display4!$G$2)+2))+Display4!$J$3","v":"C.US.EPU1725350"},0,0,20,{"$f":"IF(D20=1,RTD(\"cqg.rtd\", ,\"ContractData\",C20, \"ImpliedVolatility\",, \"T\"),\"\")","v":""},{"$f":"IF(F20=\"\",\"\",RANK(F20,$F$1:$F$35,0)+COUNTIF($F$1:F20,F20)-1)","v":""},0,20,0,{"$f":"IF(D20=1,RTD(\"cqg.rtd\", ,\"OrderData\",\"\"&C20&\"\", \"\", \"OpenTradeEquity\",\"\"&$B$449&\"\"),\"\")","v":""},{"$f":"IF(K20=\"\",\"\",RANK(K20,$K$1:$K$35,0))+COUNTIF($K$1:K20,K20)-1","v":{"$error":"#VALUE!"}},0,20,"",{"$f":"IF(D20=1,RTD(\"cqg.rtd\", ,\"ContractData\",C20, \"Delta\",, \"T\"),\"\")","v":""},{"$f":"IF(D20=1,RTD(\"cqg.rtd\", ,\"OrderData\", \"\"&O20&\"\", \"\", \"OpenPosition\",\"\"&$B$449&\"\"),\"\")","v":""},{"$f":"IF(D20=0,\"\",IF(LEFT(O20,1)=\"F\",Q20*100,Q20*RTD(\"cqg.rtd\",,\"ContractData\",O20,\"Delta\",,\"T\")))","v":""},{"$f":"IF(R20=\"\",\"\",RANK(R20,$R$1:$R$35,0)+COUNTIF($R$1:R20,R20)-1)","v":""},"",20,"",{"$f":"IF(D20=1,RTD(\"cqg.rtd\", ,\"ContractData\",C20, \"Vega\",, \"T\"),\"\")","v":""},{"$f":"IF(W20=\"\",\"\",RANK(W20,$W$1:$W$35,0)+COUNTIF($W$1:W20,W20)-1)","v":""},0,20,"",{"$f":"IF(D20=1,RTD(\"cqg.rtd\", ,\"ContractData\",C20, \"Gamma\",, \"T\"),\"\")","v":""},{"$f":"IF(AB20=\"\",\"\",RANK(AB20,$AB$1:$AB$35,0)+COUNTIF($AB$1:AB20,AB20)-1)","v":""},0,20,"",{"$f":"IF(D20=1,RTD(\"cqg.rtd\", ,\"ContractData\",C20, \"Theta\",, \"T\"),\"\")","v":""},{"$f":"IF(AG20=\"\",\"\",RANK(AG20,$AG$1:$AG$35,0)+COUNTIF($AG$1:AG20,AG20)-1)","v":""},0,20,"",{"$f":"IF(D20=1,1/RTD(\"cqg.rtd\", ,\"ContractData\",C20, \"ExpirationDate\",, \"T\"),\"\")","v":""},{"$f":"IF(AL20=\"\",\"\",RANK(AL20,$AL$1:$AL$35,0)+COUNTIF($AL$1:AL20,AL20)-1)","v":""},0,20,"",{"$f":"IF(AL20=\"\",\"\",RANK(AL20,$AL$1:$AL$35,0)+COUNTIF($AL$1:AL20,AL20)-1)","v":""}]
[{"$f":"IF(OR(ISTEXT(RTD(\"cqg.rtd\",,\"OrderData\",\"\"&B21&\"\",\"\",\"OpenPosition\",\"\"&Display4!$D$3&\"\")),RTD(\"cqg.rtd\",,\"OrderData\",\"\"&B21&\"\",\"\",\"OpenPosition\",\"\"&Display4!$D$3&\"\")=0),A20+0.001,INT(A20)+1)","v":2.1000000000000012E-2},{"$f":"(LEFT(B22,SEARCH(Display4!$G$2,B22)+LEN(Display4!$G$2)+2))&RIGHT(B22,LEN(B22)-(SEARCH(Display4!$G$2,B22)+LEN(Display4!$G$2)+2))+Display4!$J$3","v":"C.US.EPU1725300"},0,0,21,{"$f":"IF(D21=1,RTD(\"cqg.rtd\", ,\"ContractData\",C21, \"ImpliedVolatility\",, \"T\"),\"\")","v":""},{"$f":"IF(F21=\"\",\"\",RANK(F21,$F$1:$F$35,0)+COUNTIF($F$1:F21,F21)-1)","v":""},0,21,0,{"$f":"IF(D21=1,RTD(\"cqg.rtd\", ,\"OrderData\",\"\"&C21&\"\", \"\", \"OpenTradeEquity\",\"\"&$B$449&\"\"),\"\")","v":""},{"$f":"IF(K21=\"\",\"\",RANK(K21,$K$1:$K$35,0))+COUNTIF($K$1:K21,K21)-1","v":{"$error":"#VALUE!"}},0,21,"",{"$f":"IF(D21=1,RTD(\"cqg.rtd\", ,\"ContractData\",C21, \"Delta\",, \"T\"),\"\")","v":""},{"$f":"IF(D21=1,RTD(\"cqg.rtd\", ,\"OrderData\", \"\"&O21&\"\", \"\", \"OpenPosition\",\"\"&$B$449&\"\"),\"\")","v":""},{"$f":"IF(D21=0,\"\",IF(LEFT(O21,1)=\"F\",Q21*100,Q21*RTD(\"cqg.rtd\",,\"ContractData\",O21,\"Delta\",,\"T\")))","v":""},{"$f":"IF(R21=\"\",\"\",RANK(R21,$R$1:$R$35,0)+COUNTIF($R$1:R21,R21)-1)","v":""},"",21,"",{"$f":"IF(D21=1,RTD(\"cqg.rtd\", ,\"ContractData\",C21, \"Vega\",, \"T\"),\"\")","v":""},{"$f":"IF(W21=\"\",\"\",RANK(W21,$W$1:$W$35,0)+COUNTIF($W$1:W21,W21)-1)","v":""},0,21,"",{"$f":"IF(D21=1,RTD(\"cqg.rtd\", ,\"ContractData\",C21, \"Gamma\",, \"T\"),\"\")","v":""},{"$f":"IF(AB21=\"\",\"\",RANK(AB21,$AB$1:$AB$35,0)+COUNTIF($AB$1:AB21,AB21)-1)","v":""},0,21,"",{"$f":"IF(D21=1,RTD(\"cqg.rtd\", ,\"ContractData\",C21, \"Theta\",, \"T\"),\"\")","v":""},{"$f":"IF(AG21=\"\",\"\",RANK(AG21,$AG$1:$AG$35,0)+COUNTIF($AG$1:AG21,AG21)-1)","v":""},0,21,"",{"$f":"IF(D21=1,1/RTD(\"cqg.rtd\", ,\"ContractData\",C21, \"ExpirationDate\",, \"T\"),\"\")","v":""},{"$f":"IF(AL21=\"\",\"\",RANK(AL21,$AL$1:$AL$35,0)+COUNTIF($AL$1:AL21,AL21)-1)","v":""},0,21,"",{"$f":"IF(AL21=\"\",\"\",RANK(AL21,$AL$1:$AL$35,0)+COUNTIF($AL$1:AL21,AL21)-1)","v":""}]
[{"$f":"IF(OR(ISTEXT(RTD(\"cqg.rtd\",,\"OrderData\",\"\"&B22&\"\",\"\",\"OpenPosition\",\"\"&Display4!$D$3&\"\")),RTD(\"cqg.rtd\",,\"OrderData\",\"\"&B22&\"\",\"\",\"OpenPosition\",\"\"&Display4!$D$3&\"\")=0),A21+0.001,INT(A21)+1)","v":2.2000000000000013E-2},{"$f":"(LEFT(B23,SEARCH(Display4!$G$2,B23)+LEN(Display4!$G$2)+2))&RIGHT(B23,LEN(B23)-(SEARCH(Display4!$G$2,B23)+LEN(Display4!$G$2)+2))+Display4!$J$3","v":"C.US.EPU1725250"},0,0,22,{"$f":"IF(D22=1,RTD(\"cqg.rtd\", ,\"ContractData\",C22, \"ImpliedVolatility\",, \"T\"),\"\")","v":""},{"$f":"IF(F22=\"\",\"\",RANK(F22,$F$1:$F$35,0)+COUNTIF($F$1:F22,F22)-1)","v":""},0,22,0,{"$f":"IF(D22=1,RTD(\"cqg.rtd\", ,\"OrderData\",\"\"&C22&\"\", \"\", \"OpenTradeEquity\",\"\"&$B$449&\"\"),\"\")","v":""},{"$f":"IF(K22=\"\",\"\",RANK(K22,$K$1:$K$35,0))+COUNTIF($K$1:K22,K22)-1","v":{"$error":"#VALUE!"}},0,22,"",{"$f":"IF(D22=1,RTD(\"cqg.rtd\", ,\"ContractData\",C22, \"Delta\",, \"T\"),\"\")","v":""},{"$f":"IF(D22=1,RTD(\"cqg.rtd\", ,\"OrderData\", \"\"&O22&\"\", \"\", \"OpenPosition\",\"\"&$B$449&\"\"),\"\")","v":""},{"$f":"IF(D22=0,\"\",IF(LEFT(O22,1)=\"F\",Q22*100,Q22*RTD(\"cqg.rtd\",,\"ContractData\",O22,\"Delta\",,\"T\")))","v":""},{"$f":"IF(R22=\"\",\"\",RANK(R22,$R$1:$R$35,0)+COUNTIF($R$1:R22,R22)-1)","v":""},"",22,"",{"$f":"IF(D22=1,RTD(\"cqg.rtd\", ,\"ContractData\",C22, \"Vega\",, \"T\"),\"\")","v":""},{"$f":"IF(W22=\"\",\"\",RANK(W22,$W$1:$W$35,0)+COUNTIF($W$1:W22,W22)-1)","v":""},0,22,"",{"$f":"IF(D22=1,RTD(\"cqg.rtd\", ,\"ContractData\",C22, \"Gamma\",, \"T\"),\"\")","v":""},{"$f":"IF(AB22=\"\",\"\",RANK(AB22,$AB$1:$AB$35,0)+COUNTIF($AB$1:AB22,AB22)-1)","v":""},0,22,"",{"$f":"IF(D22=1,RTD(\"cqg.rtd\", ,\"ContractData\",C22, \"Theta\",, \"T\"),\"\")","v":""},{"$f":"IF(AG22=\"\",\"\",RANK(AG22,$AG$1:$AG$35,0)+COUNTIF($AG$1:AG22,AG22)-1)","v":""},0,22,"",{"$f":"IF(D22=1,1/RTD(\"cqg.rtd\", ,\"ContractData\",C22, \"ExpirationDate\",, \"T\"),\"\")","v":""},{"$f":"IF(AL22=\"\",\"\",RANK(AL22,$AL$1:$AL$35,0)+COUNTIF($AL$1:AL22,AL22)-1)","v":""},0,22,"",{"$f":"IF(AL22=\"\",\"\",RANK(AL22,$AL$1:$AL$35,0)+COUNTIF($AL$1:AL22,AL22)-1)","v":""}]
[{"$f":"IF(OR(ISTEXT(RTD(\"cqg.rtd\",,\"OrderData\",\"\"&B23&\"\",\"\",\"OpenPosition\",\"\"&Display4!$D$3&\"\")),RTD(\"cqg.rtd\",,\"OrderData\",\"\"&B23&\"\",\"\",\"OpenPosition\",\"\"&Display4!$D$3&\"\")=0),A22+0.001,INT(A22)+1)","v":2.3000000000000013E-2},{"$f":"(LEFT(B24,SEARCH(Display4!$G$2,B24)+LEN(Display4!$G$2)+2))&RIGHT(B24,LEN(B24)-(SEARCH(Display4!$G$2,B24)+LEN(Display4!$G$2)+2))+Display4!$J$3","v":"C.US.EPU1725200"},0,0,23,{"$f":"IF(D23=1,RTD(\"cqg.rtd\", ,\"ContractData\",C23, \"ImpliedVolatility\",, \"T\"),\"\")","v":""},{"$f":"IF(F23=\"\",\"\",RANK(F23,$F$1:$F$35,0)+COUNTIF($F$1:F23,F23)-1)","v":""},0,23,0,{"$f":"IF(D23=1,RTD(\"cqg.rtd\", ,\"OrderData\",\"\"&C23&\"\", \"\", \"OpenTradeEquity\",\"\"&$B$449&\"\"),\"\")","v":""},{"$f":"IF(K23=\"\",\"\",RANK(K23,$K$1:$K$35,0))+COUNTIF($K$1:K23,K23)-1","v":{"$error":"#VALUE!"}},0,23,"",{"$f":"IF(D23=1,RTD(\"cqg.rtd\", ,\"ContractData\",C23, \"Delta\",, \"T\"),\"\")","v":""},{"$f":"IF(D23=1,RTD(\"cqg.rtd\", ,\"OrderData\", \"\"&O23&\"\", \"\", \"OpenPosition\",\"\"&$B$449&\"\"),\"\")","v":""},{"$f":"IF(D23=0,\"\",IF(LEFT(O23,1)=\"F\",Q23*100,Q23*RTD(\"cqg.rtd\",,\"ContractData\",O23,\"Delta\",,\"T\")))","v":""},{"$f":"IF(R23=\"\",\"\",RANK(R23,$R$1:$R$35,0)+COUNTIF($R$1:R23,R23)-1)","v":""},"",23,"",{"$f":"IF(D23=1,RTD(\"cqg.rtd\", ,\"ContractData\",C23, \"Vega\",, \"T\"),\"\")","v":""},{"$f":"IF(W23=\"\",\"\",RANK(W23,$W$1:$W$35,0)+COUNTIF($W$1:W23,W23)-1)","v":""},0,23,"",{"$f":"IF(D23=1,RTD(\"cqg.rtd\", ,\"ContractData\",C23, \"Gamma\",, \"T\"),\"\")","v":""},{"$f":"IF(AB23=\"\",\"\",RANK(AB23,$AB$1:$AB$35,0)+COUNTIF($AB$1:AB23,AB23)-1)","v":""},0,23,"",{"$f":"IF(D23=1,RTD(\"cqg.rtd\", ,\"ContractData\",C23, \"Theta\",, \"T\"),\"\")","v":""},{"$f":"IF(AG23=\"\",\"\",RANK(AG23,$AG$1:$AG$35,0)+COUNTIF($AG$1:AG23,AG23)-1)","v":""},0,23,"",{"$f":"IF(D23=1,1/RTD(\"cqg.rtd\", ,\"ContractData\",C23, \"ExpirationDate\",, \"T\"),\"\")","v":""},{"$f":"IF(AL23=\"\",\"\",RANK(AL23,$AL$1:$AL$35,0)+COUNTIF($AL$1:AL23,AL23)-1)","v":""},0,23,"",{"$f":"IF(AL23=\"\",\"\",RANK(AL23,$AL$1:$AL$35,0)+COUNTIF($AL$1:AL23,AL23)-1)","v":""}]
[{"$f":"IF(OR(ISTEXT(RTD(\"cqg.rtd\",,\"OrderData\",\"\"&B24&\"\",\"\",\"OpenPosition\",\"\"&Display4!$D$3&\"\")),RTD(\"cqg.rtd\",,\"OrderData\",\"\"&B24&\"\",\"\",\"OpenPosition\",\"\"&Display4!$D$3&\"\")=0),A23+0.001,INT(A23)+1)","v":2.4000000000000014E-2},{"$f":"(LEFT(B25,SEARCH(Display4!$G$2,B25)+LEN(Display4!$G$2)+2))&RIGHT(B25,LEN(B25)-(SEARCH(Display4!$G$2,B25)+LEN(Display4!$G$2)+2))+Display4!$J$3","v":"C.US.EPU1725150"},0,0,24,{"$f":"IF(D24=1,RTD(\"cqg.rtd\", ,\"ContractData\",C24, \"ImpliedVolatility\",, \"T\"),\"\")","v":""},{"$f":"IF(F24=\"\",\"\",RANK(F24,$F$1:$F$35,0)+COUNTIF($F$1:F24,F24)-1)","v":""},0,24,0,{"$f":"IF(D24=1,RTD(\"cqg.rtd\", ,\"OrderData\",\"\"&C24&\"\", \"\", \"OpenTradeEquity\",\"\"&$B$449&\"\"),\"\")","v":""},{"$f":"IF(K24=\"\",\"\",RANK(K24,$K$1:$K$35,0))+COUNTIF($K$1:K24,K24)-1","v":{"$error":"#VALUE!"}},0,24,"",{"$f":"IF(D24=1,RTD(\"cqg.rtd\", ,\"ContractData\",C24, \"Delta\",, \"T\"),\"\")","v":""},{"$f":"IF(D24=1,RTD(\"cqg.rtd\", ,\"OrderData\", \"\"&O24&\"\", \"\", \"OpenPosition\",\"\"&$B$449&\"\"),\"\")","v":""},{"$f":"IF(D24=0,\"\",IF(LEFT(O24,1)=\"F\",Q24*100,Q24*RTD(\"cqg.rtd\",,\"ContractData\",O24,\"Delta\",,\"T\")))","v":""},{"$f":"IF(R24=\"\",\"\",RANK(R24,$R$1:$R$35,0)+COUNTIF($R$1:R24,R24)-1)","v":""},"",24,"",{"$f":"IF(D24=1,RTD(\"cqg.rtd\", ,\"ContractData\",C24, \"Vega\",, \"T\"),\"\")","v":""},{"$f":"IF(W24=\"\",\"\",RANK(W24,$W$1:$W$35,0)+COUNTIF($W$1:W24,W24)-1)","v":""},0,24,"",{"$f":"IF(D24=1,RTD(\"cqg.rtd\", ,\"ContractData\",C24, \"Gamma\",, \"T\"),\"\")","v":""},{"$f":"IF(AB24=\"\",\"\",RANK(AB24,$AB$1:$AB$35,0)+COUNTIF($AB$1:AB24,AB24)-1)","v":""},0,24,"",{"$f":"IF(D24=1,RTD(\"cqg.rtd\", ,\"ContractData\",C24, \"Theta\",, \"T\"),\"\")","v":""},{"$f":"IF(AG24=\"\",\"\",RANK(AG24,$AG$1:$AG$35,0)+COUNTIF($AG$1:AG24,AG24)-1)","v":""},0,24,"",{"$f":"IF(D24=1,1/RTD(\"cqg.rtd\", ,\"ContractData\",C24, \"ExpirationDate\",, \"T\"),\"\")","v":""},{"$f":"IF(AL24=\"\",\"\",RANK(AL24,$AL$1:$AL$35,0)+COUNTIF($AL$1:AL24,AL24)-1)","v":""},0,24,"",{"$f":"IF(AL24=\"\",\"\",RANK(AL24,$AL$1:$AL$35,0)+COUNTIF($AL$1:AL24,AL24)-1)","v":""}]
[{"$f":"IF(OR(ISTEXT(RTD(\"cqg.rtd\",,\"OrderData\",\"\"&B25&\"\",\"\",\"OpenPosition\",\"\"&Display4!$D$3&\"\")),RTD(\"cqg.rtd\",,\"OrderData\",\"\"&B25&\"\",\"\",\"OpenPosition\",\"\"&Display4!$D$3&\"\")=0),A24+0.001,INT(A24)+1)","v":2.5000000000000015E-2},{"$f":"(LEFT(B26,SEARCH(Display4!$G$2,B26)+LEN(Display4!$G$2)+2))&RIGHT(B26,LEN(B26)-(SEARCH(Display4!$G$2,B26)+LEN(Display4!$G$2)+2))+Display4!$J$3","v":"C.US.EPU1725100"},0,0,25,{"$f":"IF(D25=1,RTD(\"cqg.rtd\", ,\"ContractData\",C25, \"ImpliedVolatility\",, \"T\"),\"\")","v":""},{"$f":"IF(F25=\"\",\"\",RANK(F25,$F$1:$F$35,0)+COUNTIF($F$1:F25,F25)-1)","v":""},0,25,0,{"$f":"IF(D25=1,RTD(\"cqg.rtd\", ,\"OrderData\",\"\"&C25&\"\", \"\", \"OpenTradeEquity\",\"\"&$B$449&\"\"),\"\")","v":""},{"$f":"IF(K25=\"\",\"\",RANK(K25,$K$1:$K$35,0))+COUNTIF($K$1:K25,K25)-1","v":{"$error":"#VALUE!"}},0,25,"",{"$f":"IF(D25=1,RTD(\"cqg.rtd\", ,\"ContractData\",C25, \"Delta\",, \"T\"),\"\")","v":""},{"$f":"IF(D25=1,RTD(\"cqg.rtd\", ,\"OrderData\", \"\"&O25&\"\", \"\", \"OpenPosition\",\"\"&$B$449&\"\"),\"\")","v":""},{"$f":"IF(D25=0,\"\",IF(LEFT(O25,1)=\"F\",Q25*100,Q25*RTD(\"cqg.rtd\",,\"ContractData\",O25,\"Delta\",,\"T\")))","v":""},{"$f":"IF(R25=\"\",\"\",RANK(R25,$R$1:$R$35,0)+COUNTIF($R$1:R25,R25)-1)","v":""},"",25,"",{"$f":"IF(D25=1,RTD(\"cqg.rtd\", ,\"ContractData\",C25, \"Vega\",, \"T\"),\"\")","v":""},{"$f":"IF(W25=\"\",\"\",RANK(W25,$W$1:$W$35,0)+COUNTIF($W$1:W25,W25)-1)","v":""},0,25,"",{"$f":"IF(D25=1,RTD(\"cqg.rtd\", ,\"ContractData\",C25, \"Gamma\",, \"T\"),\"\")","v":""},{"$f":"IF(AB25=\"\",\"\",RANK(AB25,$AB$1:$AB$35,0)+COUNTIF($AB$1:AB25,AB25)-1)","v":""},0,25,"",{"$f":"IF(D25=1,RTD(\"cqg.rtd\", ,\"ContractData\",C25, \"Theta\",, \"T\"),\"\")","v":""},{"$f":"IF(AG25=\"\",\"\",RANK(AG25,$AG$1:$AG$35,0)+COUNTIF($AG$1:AG25,AG25)-1)","v":""},0,25,"",{"$f":"IF(D25=1,1/RTD(\"cqg.rtd\", ,\"ContractData\",C25, \"ExpirationDate\",, \"T\"),\"\")","v":""},{"$f":"IF(AL25=\"\",\"\",RANK(AL25,$AL$1:$AL$35,0)+COUNTIF($AL$1:AL25,AL25)-1)","v":""},0,25,"",{"$f":"IF(AL25=\"\",\"\",RANK(AL25,$AL$1:$AL$35,0)+COUNTIF($AL$1:AL25,AL25)-1)","v":""}]
[{"$f":"IF(OR(ISTEXT(RTD(\"cqg.rtd\",,\"OrderData\",\"\"&B26&\"\",\"\",\"OpenPosition\",\"\"&Display4!$D$3&\"\")),RTD(\"cqg.rtd\",,\"OrderData\",\"\"&B26&\"\",\"\",\"OpenPosition\",\"\"&Display4!$D$3&\"\")=0),A25+0.001,INT(A25)+1)","v":2.6000000000000016E-2},{"$f":"(LEFT(B27,SEARCH(Display4!$G$2,B27)+LEN(Display4!$G$2)+2))&RIGHT(B27,LEN(B27)-(SEARCH(Display4!$G$2,B27)+LEN(Display4!$G$2)+2))+Display4!$J$3","v":"C.US.EPU1725050"},0,0,26,{"$f":"IF(D26=1,RTD(\"cqg.rtd\", ,\"ContractData\",C26, \"ImpliedVolatility\",, \"T\"),\"\")","v":""},{"$f":"IF(F26=\"\",\"\",RANK(F26,$F$1:$F$35,0)+COUNTIF($F$1:F26,F26)-1)","v":""},0,26,0,{"$f":"IF(D26=1,RTD(\"cqg.rtd\", ,\"OrderData\",\"\"&C26&\"\", \"\", \"OpenTradeEquity\",\"\"&$B$449&\"\"),\"\")","v":""},{"$f":"IF(K26=\"\",\"\",RANK(K26,$K$1:$K$35,0))+COUNTIF($K$1:K26,K26)-1","v":{"$error":"#VALUE!"}},0,26,"",{"$f":"IF(D26=1,RTD(\"cqg.rtd\", ,\"ContractData\",C26, \"Delta\",, \"T\"),\"\")","v":""},{"$f":"IF(D26=1,RTD(\"cqg.rtd\", ,\"OrderData\", \"\"&O26&\"\", \"\", \"OpenPosition\",\"\"&$B$449&\"\"),\"\")","v":""},{"$f":"IF(D26=0,\"\",IF(LEFT(O26,1)=\"F\",Q26*100,Q26*RTD(\"cqg.rtd\",,\"ContractData\",O26,\"Delta\",,\"T\")))","v":""},{"$f":"IF(R26=\"\",\"\",RANK(R26,$R$1:$R$35,0)+COUNTIF($R$1:R26,R26)-1)","v":""},"",26,"",{"$f":"IF(D26=1,RTD(\"cqg.rtd\", ,\"ContractData\",C26, \"Vega\",, \"T\"),\"\")","v":""},{"$f":"IF(W26=\"\",\"\",RANK(W26,$W$1:$W$35,0)+COUNTIF($W$1:W26,W26)-1)","v":""},0,26,"",{"$f":"IF(D26=1,RTD(\"cqg.rtd\", ,\"ContractData\",C26, \"Gamma\",, \"T\"),\"\")","v":""},{"$f":"IF(AB26=\"\",\"\",RANK(AB26,$AB$1:$AB$35,0)+COUNTIF($AB$1:AB26,AB26)-1)","v":""},0,26,"",{"$f":"IF(D26=1,RTD(\"cqg.rtd\", ,\"ContractData\",C26, \"Theta\",, \"T\"),\"\")","v":""},{"$f":"IF(AG26=\"\",\"\",RANK(AG26,$AG$1:$AG$35,0)+COUNTIF($AG$1:AG26,AG26)-1)","v":""},0,26,"",{"$f":"IF(D26=1,1/RTD(\"cqg.rtd\", ,\"ContractData\",C26, \"ExpirationDate\",, \"T\"),\"\")","v":""},{"$f":"IF(AL26=\"\",\"\",RANK(AL26,$AL$1:$AL$35,0)+COUNTIF($AL$1:AL26,AL26)-1)","v":""},0,26,"",{"$f":"IF(AL26=\"\",\"\",RANK(AL26,$AL$1:$AL$35,0)+COUNTIF($AL$1:AL26,AL26)-1)","v":""}]
[{"$f":"IF(OR(ISTEXT(RTD(\"cqg.rtd\",,\"OrderData\",\"\"&B27&\"\",\"\",\"OpenPosition\",\"\"&Display4!$D$3&\"\")),RTD(\"cqg.rtd\",,\"OrderData\",\"\"&B27&\"\",\"\",\"OpenPosition\",\"\"&Display4!$D$3&\"\")=0),A26+0.001,INT(A26)+1)","v":2.7000000000000017E-2},{"$f":"(LEFT(B28,SEARCH(Display4!$G$2,B28)+LEN(Display4!$G$2)+2))&RIGHT(B28,LEN(B28)-(SEARCH(Display4!$G$2,B28)+LEN(Display4!$G$2)+2))+Display4!$J$3","v":"C.US.EPU1725000"},0,0,27,{"$f":"IF(D27=1,RTD(\"cqg.rtd\", ,\"ContractData\",C27, \"ImpliedVolatility\",, \"T\"),\"\")","v":""},{"$f":"IF(F27=\"\",\"\",RANK(F27,$F$1:$F$35,0)+COUNTIF($F$1:F27,F27)-1)","v":""},0,27,0,{"$f":"IF(D27=1,RTD(\"cqg.rtd\", ,\"OrderData\",\"\"&C27&\"\", \"\", \"OpenTradeEquity\",\"\"&$B$449&\"\"),\"\")","v":""},{"$f":"IF(K27=\"\",\"\",RANK(K27,$K$1:$K$35,0))+COUNTIF($K$1:K27,K27)-1","v":{"$error":"#VALUE!"}},0,27,"",{"$f":"IF(D27=1,RTD(\"cqg.rtd\", ,\"ContractData\",C27, \"Delta\",, \"T\"),\"\")","v":""},{"$f":"IF(D27=1,RTD(\"cqg.rtd\", ,\"OrderData\", \"\"&O27&\"\", \"\", \"OpenPosition\",\"\"&$B$449&\"\"),\"\")","v":""},{"$f":"IF(D27=0,\"\",IF(LEFT(O27,1)=\"F\",Q27*100,Q27*RTD(\"cqg.rtd\",,\"ContractData\",O27,\"Delta\",,\"T\")))","v":""},{"$f":"IF(R27=\"\",\"\",RANK(R27,$R$1:$R$35,0)+COUNTIF($R$1:R27,R27)-1)","v":""},"",27,"",{"$f":"IF(D27=1,RTD(\"cqg.rtd\", ,\"ContractData\",C27, \"Vega\",, \"T\"),\"\")","v":""},{"$f":"IF(W27=\"\",\"\",RANK(W27,$W$1:$W$35,0)+COUNTIF($W$1:W27,W27)-1)","v":""},0,27,"",{"$f":"IF(D27=1,RTD(\"cqg.rtd\", ,\"ContractData\",C27, \"Gamma\",, \"T\"),\"\")","v":""},{"$f":"IF(AB27=\"\",\"\",RANK(AB27,$AB$1:$AB$35,0)+COUNTIF($AB$1:AB27,AB27)-1)","v":""},0,27,"",{"$f":"IF(D27=1,RTD(\"cqg.rtd\", ,\"ContractData\",C27, \"Theta\",, \"T\"),\"\")","v":""},{"$f":"IF(AG27=\"\",\"\",RANK(AG27,$AG$1:$AG$35,0)+COUNTIF($AG$1:AG27,AG27)-1)","v":""},0,27,"",{"$f":"IF(D27=1,1/RTD(\"cqg.rtd\", ,\"ContractData\",C27, \"ExpirationDate\",, \"T\"),\"\")","v":""},{"$f":"IF(AL27=\"\",\"\",RANK(AL27,$AL$1:$AL$35,0)+COUNTIF($AL$1:AL27,AL27)-1)","v":""},0,27,"",{"$f":"IF(AL27=\"\",\"\",RANK(AL27,$AL$1:$AL$35,0)+COUNTIF($AL$1:AL27,AL27)-1)","v":""}]
[{"$f":"IF(OR(ISTEXT(RTD(\"cqg.rtd\",,\"OrderData\",\"\"&B28&\"\",\"\",\"OpenPosition\",\"\"&Display4!$D$3&\"\")),RTD(\"cqg.rtd\",,\"OrderData\",\"\"&B28&\"\",\"\",\"OpenPosition\",\"\"&Display4!$D$3&\"\")=0),A27+0.001,INT(A27)+1)","v":2.8000000000000018E-2},{"$f":"(LEFT(B29,SEARCH(Display4!$G$2,B29)+LEN(Display4!$G$2)+2))&RIGHT(B29,LEN(B29)-(SEARCH(Display4!$G$2,B29)+LEN(Display4!$G$2)+2))+Display4!$J$3","v":"C.US.EPU1724950"},0,0,28,{"$f":"IF(D28=1,RTD(\"cqg.rtd\", ,\"ContractData\",C28, \"ImpliedVolatility\",, \"T\"),\"\")","v":""},{"$f":"IF(F28=\"\",\"\",RANK(F28,$F$1:$F$35,0)+COUNTIF($F$1:F28,F28)-1)","v":""},0,28,0,{"$f":"IF(D28=1,RTD(\"cqg.rtd\", ,\"OrderData\",\"\"&C28&\"\", \"\", \"OpenTradeEquity\",\"\"&$B$449&\"\"),\"\")","v":""},{"$f":"IF(K28=\"\",\"\",RANK(K28,$K$1:$K$35,0))+COUNTIF($K$1:K28,K28)-1","v":{"$error":"#VALUE!"}},0,28,"",{"$f":"IF(D28=1,RTD(\"cqg.rtd\", ,\"ContractData\",C28, \"Delta\",, \"T\"),\"\")","v":""},{"$f":"IF(D28=1,RTD(\"cqg.rtd\", ,\"OrderData\", \"\"&O28&\"\", \"\", \"OpenPosition\",\"\"&$B$449&\"\"),\"\")","v":""},{"$f":"IF(D28=0,\"\",IF(LEFT(O28,1)=\"F\",Q28*100,Q28*RTD(\"cqg.rtd\",,\"ContractData\",O28,\"Delta\",,\"T\")))","v":""},{"$f":"IF(R28=\"\",\"\",RANK(R28,$R$1:$R$35,0)+COUNTIF($R$1:R28,R28)-1)","v":""},"",28,"",{"$f":"IF(D28=1,RTD(\"cqg.rtd\", ,\"ContractData\",C28, \"Vega\",, \"T\"),\"\")","v":""},{"$f":"IF(W28=\"\",\"\",RANK(W28,$W$1:$W$35,0)+COUNTIF($W$1:W28,W28)-1)","v":""},0,28,"",{"$f":"IF(D28=1,RTD(\"cqg.rtd\", ,\"ContractData\",C28, \"Gamma\",, \"T\"),\"\")","v":""},{"$f":"IF(AB28=\"\",\"\",RANK(AB28,$AB$1:$AB$35,0)+COUNTIF($AB$1:AB28,AB28)-1)","v":""},0,28,"",{"$f":"IF(D28=1,RTD(\"cqg.rtd\", ,\"ContractData\",C28, \"Theta\",, \"T\"),\"\")","v":""},{"$f":"IF(AG28=\"\",\"\",RANK(AG28,$AG$1:$AG$35,0)+COUNTIF($AG$1:AG28,AG28)-1)","v":""},0,28,"",{"$f":"IF(D28=1,1/RTD(\"cqg.rtd\", ,\"ContractData\",C28, \"ExpirationDate\",, \"T\"),\"\")","v":""},{"$f":"IF(AL28=\"\",\"\",RANK(AL28,$AL$1:$AL$35,0)+COUNTIF($AL$1:AL28,AL28)-1)","v":""},0,28,"",{"$f":"IF(AL28=\"\",\"\",RANK(AL28,$AL$1:$AL$35,0)+COUNTIF($AL$1:AL28,AL28)-1)","v":""}]
[{"$f":"IF(OR(ISTEXT(RTD(\"cqg.rtd\",,\"OrderData\",\"\"&B29&\"\",\"\",\"OpenPosition\",\"\"&Display4!$D$3&\"\")),RTD(\"cqg.rtd\",,\"OrderData\",\"\"&B29&\"\",\"\",\"OpenPosition\",\"\"&Display4!$D$3&\"\")=0),A28+0.001,INT(A28)+1)","v":2.9000000000000019E-2},{"$f":"(LEFT(B30,SEARCH(Display4!$G$2,B30)+LEN(Display4!$G$2)+2))&RIGHT(B30,LEN(B30)-(SEARCH(Display4!$G$2,B30)+LEN(Display4!$G$2)+2))+Display4!$J$3","v":"C.US.EPU1724900"},0,0,29,{"$f":"IF(D29=1,RTD(\"cqg.rtd\", ,\"ContractData\",C29, \"ImpliedVolatility\",, \"T\"),\"\")","v":""},{"$f":"IF(F29=\"\",\"\",RANK(F29,$F$1:$F$35,0)+COUNTIF($F$1:F29,F29)-1)","v":""},0,29,0,{"$f":"IF(D29=1,RTD(\"cqg.rtd\", ,\"OrderData\",\"\"&C29&\"\", \"\", \"OpenTradeEquity\",\"\"&$B$449&\"\"),\"\")","v":""},{"$f":"IF(K29=\"\",\"\",RANK(K29,$K$1:$K$35,0))+COUNTIF($K$1:K29,K29)-1","v":{"$error":"#VALUE!"}},0,29,"",{"$f":"IF(D29=1,RTD(\"cqg.rtd\", ,\"ContractData\",C29, \"Delta\",, \"T\"),\"\")","v":""},{"$f":"IF(D29=1,RTD(\"cqg.rtd\", ,\"OrderData\", \"\"&O29&\"\", \"\", \"OpenPosition\",\"\"&$B$449&\"\"),\"\")","v":""},{"$f":"IF(D29=0,\"\",IF(LEFT(O29,1)=\"F\",Q29*100,Q29*RTD(\"cqg.rtd\",,\"ContractData\",O29,\"Delta\",,\"T\")))","v":""},{"$f":"IF(R29=\"\",\"\",RANK(R29,$R$1:$R$35,0)+COUNTIF($R$1:R29,R29)-1)","v":""},"",29,"",{"$f":"IF(D29=1,RTD(\"cqg.rtd\", ,\"ContractData\",C29, \"Vega\",, \"T\"),\"\")","v":""},{"$f":"IF(W29=\"\",\"\",RANK(W29,$W$1:$W$35,0)+COUNTIF($W$1:W29,W29)-1)","v":""},0,29,"",{"$f":"IF(D29=1,RTD(\"cqg.rtd\", ,\"ContractData\",C29, \"Gamma\",, \"T\"),\"\")","v":""},{"$f":"IF(AB29=\"\",\"\",RANK(AB29,$AB$1:$AB$35,0)+COUNTIF($AB$1:AB29,AB29)-1)","v":""},0,29,"",{"$f":"IF(D29=1,RTD(\"cqg.rtd\", ,\"ContractData\",C29, \"Theta\",, \"T\"),\"\")","v":""},{"$f":"IF(AG29=\"\",\"\",RANK(AG29,$AG$1:$AG$35,0)+COUNTIF($AG$1:AG29,AG29)-1)","v":""},0,29,"",{"$f":"IF(D29=1,1/RTD(\"cqg.rtd\", ,\"ContractData\",C29, \"ExpirationDate\",, \"T\"),\"\")","v":""},{"$f":"IF(AL29=\"\",\"\",RANK(AL29,$AL$1:$AL$35,0)+COUNTIF($AL$1:AL29,AL29)-1)","v":""},0,29,"",{"$f":"IF(AL29=\"\",\"\",RANK(AL29,$AL$1:$AL$35,0)+COUNTIF($AL$1:AL29,AL29)-1)","v":""}]
[{"$f":"IF(OR(ISTEXT(RTD(\"cqg.rtd\",,\"OrderData\",\"\"&B30&\"\",\"\",\"OpenPosition\",\"\"&Display4!$D$3&\"\")),RTD(\"cqg.rtd\",,\"OrderData\",\"\"&B30&\"\",\"\",\"OpenPosition\",\"\"&Display4!$D$3&\"\")=0),A29+0.001,INT(A29)+1)","v":3.000000000000002E-2},{"$f":"(LEFT(B31,SEARCH(Display4!$G$2,B31)+LEN(Display4!$G$2)+2))&RIGHT(B31,LEN(B31)-(SEARCH(Display4!$G$2,B31)+LEN(Display4!$G$2)+2))+Display4!$J$3","v":"C.US.EPU1724850"},0,0,30,{"$f":"IF(D30=1,RTD(\"cqg.rtd\", ,\"ContractData\",C30, \"ImpliedVolatility\",, \"T\"),\"\")","v":""},{"$f":"IF(F30=\"\",\"\",RANK(F30,$F$1:$F$35,0)+COUNTIF($F$1:F30,F30)-1)","v":""},0,30,0,{"$f":"IF(D30=1,RTD(\"cqg.rtd\", ,\"OrderData\",\"\"&C30&\"\", \"\", \"OpenTradeEquity\",\"\"&$B$449&\"\"),\"\")","v":""},{"$f":"IF(K30=\"\",\"\",RANK(K30,$K$1:$K$35,0))+COUNTIF($K$1:K30,K30)-1","v":{"$error":"#VALUE!"}},0,30,"",{"$f":"IF(D30=1,RTD(\"cqg.rtd\", ,\"ContractData\",C30, \"Delta\",, \"T\"),\"\")","v":""},{"$f":"IF(D30=1,RTD(\"cqg.rtd\", ,\"OrderData\", \"\"&O30&\"\", \"\", \"OpenPosition\",\"\"&$B$449&\"\"),\"\")","v":""},{"$f":"IF(D30=0,\"\",IF(LEFT(O30,1)=\"F\",Q30*100,Q30*RTD(\"cqg.rtd\",,\"ContractData\",O30,\"Delta\",,\"T\")))","v":""},{"$f":"IF(R30=\"\",\"\",RANK(R30,$R$1:$R$35,0)+COUNTIF($R$1:R30,R30)-1)","v":""},"",30,"",{"$f":"IF(D30=1,RTD(\"cqg.rtd\", ,\"ContractData\",C30, \"Vega\",, \"T\"),\"\")","v":""},{"$f":"IF(W30=\"\",\"\",RANK(W30,$W$1:$W$35,0)+COUNTIF($W$1:W30,W30)-1)","v":""},0,30,"",{"$f":"IF(D30=1,RTD(\"cqg.rtd\", ,\"ContractData\",C30, \"Gamma\",, \"T\"),\"\")","v":""},{"$f":"IF(AB30=\"\",\"\",RANK(AB30,$AB$1:$AB$35,0)+COUNTIF($AB$1:AB30,AB30)-1)","v":""},0,30,"",{"$f":"IF(D30=1,RTD(\"cqg.rtd\", ,\"ContractData\",C30, \"Theta\",, \"T\"),\"\")","v":""},{"$f":"IF(AG30=\"\",\"\",RANK(AG30,$AG$1:$AG$35,0)+COUNTIF($AG$1:AG30,AG30)-1)","v":""},0,30,"",{"$f":"IF(D30=1,1/RTD(\"cqg.rtd\", ,\"ContractData\",C30, \"ExpirationDate\",, \"T\"),\"\")","v":""},{"$f":"IF(AL30=\"\",\"\",RANK(AL30,$AL$1:$AL$35,0)+COUNTIF($AL$1:AL30,AL30)-1)","v":""},0,30,"",{"$f":"IF(AL30=\"\",\"\",RANK(AL30,$AL$1:$AL$35,0)+COUNTIF($AL$1:AL30,AL30)-1)","v":""}]
[{"$f":"IF(OR(ISTEXT(RTD(\"cqg.rtd\",,\"OrderData\",\"\"&B31&\"\",\"\",\"OpenPosition\",\"\"&Display4!$D$3&\"\")),RTD(\"cqg.rtd\",,\"OrderData\",\"\"&B31&\"\",\"\",\"OpenPosition\",\"\"&Display4!$D$3&\"\")=0),A30+0.001,INT(A30)+1)","v":3.1000000000000021E-2},{"$f":"(LEFT(B32,SEARCH(Display4!$G$2,B32)+LEN(Display4!$G$2)+2))&RIGHT(B32,LEN(B32)-(SEARCH(Display4!$G$2,B32)+LEN(Display4!$G$2)+2))+Display4!$J$3","v":"C.US.EPU1724800"},0,0,31,{"$f":"IF(D31=1,RTD(\"cqg.rtd\", ,\"ContractData\",C31, \"ImpliedVolatility\",, \"T\"),\"\")","v":""},{"$f":"IF(F31=\"\",\"\",RANK(F31,$F$1:$F$35,0)+COUNTIF($F$1:F31,F31)-1)","v":""},0,31,0,{"$f":"IF(D31=1,RTD(\"cqg.rtd\", ,\"OrderData\",\"\"&C31&\"\", \"\", \"OpenTradeEquity\",\"\"&$B$449&\"\"),\"\")","v":""},{"$f":"IF(K31=\"\",\"\",RANK(K31,$K$1:$K$35,0))+COUNTIF($K$1:K31,K31)-1","v":{"$error":"#VALUE!"}},0,31,"",{"$f":"IF(D31=1,RTD(\"cqg.rtd\", ,\"ContractData\",C31, \"Delta\",, \"T\"),\"\")","v":""},{"$f":"IF(D31=1,RTD(\"cqg.rtd\", ,\"OrderData\", \"\"&O31&\"\", \"\", \"OpenPosition\",\"\"&$B$449&\"\"),\"\")","v":""},{"$f":"IF(D31=0,\"\",IF(LEFT(O31,1)=\"F\",Q31*100,Q31*RTD(\"cqg.rtd\",,\"ContractData\",O31,\"Delta\",,\"T\")))","v":""},{"$f":"IF(R31=\"\",\"\",RANK(R31,$R$1:$R$35,0)+COUNTIF($R$1:R31,R31)-1)","v":""},"",31,"",{"$f":"IF(D31=1,RTD(\"cqg.rtd\", ,\"ContractData\",C31, \"Vega\",, \"T\"),\"\")","v":""},{"$f":"IF(W31=\"\",\"\",RANK(W31,$W$1:$W$35,0)+COUNTIF($W$1:W31,W31)-1)","v":""},0,31,"",{"$f":"IF(D31=1,RTD(\"cqg.rtd\", ,\"ContractData\",C31, \"Gamma\",, \"T\"),\"\")","v":""},{"$f":"IF(AB31=\"\",\"\",RANK(AB31,$AB$1:$AB$35,0)+COUNTIF($AB$1:AB31,AB31)-1)","v":""},0,31,"",{"$f":"IF(D31=1,RTD(\"cqg.rtd\", ,\"ContractData\",C31, \"Theta\",, \"T\"),\"\")","v":""},{"$f":"IF(AG31=\"\",\"\",RANK(AG31,$AG$1:$AG$35,0)+COUNTIF($AG$1:AG31,AG31)-1)","v":""},0,31,"",{"$f":"IF(D31=1,1/RTD(\"cqg.rtd\", ,\"ContractData\",C31, \"ExpirationDate\",, \"T\"),\"\")","v":""},{"$f":"IF(AL31=\"\",\"\",RANK(AL31,$AL$1:$AL$35,0)+COUNTIF($AL$1:AL31,AL31)-1)","v":""},0,31,"",{"$f":"IF(AL31=\"\",\"\",RANK(AL31,$AL$1:$AL$35,0)+COUNTIF($AL$1:AL31,AL31)-1)","v":""}]
[{"$f":"IF(OR(ISTEXT(RTD(\"cqg.rtd\",,\"OrderData\",\"\"&B32&\"\",\"\",\"OpenPosition\",\"\"&Display4!$D$3&\"\")),RTD(\"cqg.rtd\",,\"OrderData\",\"\"&B32&\"\",\"\",\"OpenPosition\",\"\"&Display4!$D$3&\"\")=0),A31+0.001,INT(A31)+1)","v":3.2000000000000021E-2},{"$f":"(LEFT(B33,SEARCH(Display4!$G$2,B33)+LEN(Display4!$G$2)+2))&RIGHT(B33,LEN(B33)-(SEARCH(Display4!$G$2,B33)+LEN(Display4!$G$2)+2))+Display4!$J$3","v":"C.US.EPU1724750"},0,0,32,{"$f":"IF(D32=1,RTD(\"cqg.rtd\", ,\"ContractData\",C32, \"ImpliedVolatility\",, \"T\"),\"\")","v":""},{"$f":"IF(F32=\"\",\"\",RANK(F32,$F$1:$F$35,0)+COUNTIF($F$1:F32,F32)-1)","v":""},0,32,0,{"$f":"IF(D32=1,RTD(\"cqg.rtd\", ,\"OrderData\",\"\"&C32&\"\", \"\", \"OpenTradeEquity\",\"\"&$B$449&\"\"),\"\")","v":""},{"$f":"IF(K32=\"\",\"\",RANK(K32,$K$1:$K$35,0))+COUNTIF($K$1:K32,K32)-1","v":{"$error":"#VALUE!"}},0,32,"",{"$f":"IF(D32=1,RTD(\"cqg.rtd\", ,\"ContractData\",C32, \"Delta\",, \"T\"),\"\")","v":""},{"$f":"IF(D32=1,RTD(\"cqg.rtd\", ,\"OrderData\", \"\"&O32&\"\", \"\", \"OpenPosition\",\"\"&$B$449&\"\"),\"\")","v":""},{"$f":"IF(D32=0,\"\",IF(LEFT(O32,1)=\"F\",Q32*100,Q32*RTD(\"cqg.rtd\",,\"ContractData\",O32,\"Delta\",,\"T\")))","v":""},{"$f":"IF(R32=\"\",\"\",RANK(R32,$R$1:$R$35,0)+COUNTIF($R$1:R32,R32)-1)","v":""},"",32,"",{"$f":"IF(D32=1,RTD(\"cqg.rtd\", ,\"ContractData\",C32, \"Vega\",, \"T\"),\"\")","v":""},{"$f":"IF(W32=\"\",\"\",RANK(W32,$W$1:$W$35,0)+COUNTIF($W$1:W32,W32)-1)","v":""},0,32,"",{"$f":"IF(D32=1,RTD(\"cqg.rtd\", ,\"ContractData\",C32, \"Gamma\",, \"T\"),\"\")","v":""},{"$f":"IF(AB32=\"\",\"\",RANK(AB32,$AB$1:$AB$35,0)+COUNTIF($AB$1:AB32,AB32)-1)","v":""},0,32,"",{"$f":"IF(D32=1,RTD(\"cqg.rtd\", ,\"ContractData\",C32, \"Theta\",, \"T\"),\"\")","v":""},{"$f":"IF(AG32=\"\",\"\",RANK(AG32,$AG$1:$AG$35,0)+COUNTIF($AG$1:AG32,AG32)-1)","v":""},0,32,"",{"$f":"IF(D32=1,1/RTD(\"cqg.rtd\", ,\"ContractData\",C32, \"ExpirationDate\",, \"T\"),\"\")","v":""},{"$f":"IF(AL32=\"\",\"\",RANK(AL32,$AL$1:$AL$35,0)+COUNTIF($AL$1:AL32,AL32)-1)","v":""},0,32,"",{"$f":"IF(AL32=\"\",\"\",RANK(AL32,$AL$1:$AL$35,0)+COUNTIF($AL$1:AL32,AL32)-1)","v":""}]
[{"$f":"IF(OR(ISTEXT(RTD(\"cqg.rtd\",,\"OrderData\",\"\"&B33&\"\",\"\",\"OpenPosition\",\"\"&Display4!$D$3&\"\")),RTD(\"cqg.rtd\",,\"OrderData\",\"\"&B33&\"\",\"\",\"OpenPosition\",\"\"&Display4!$D$3&\"\")=0),A32+0.001,INT(A32)+1)","v":3.3000000000000022E-2},{"$f":"(LEFT(B34,SEARCH(Display4!$G$2,B34)+LEN(Display4!$G$2)+2))&RIGHT(B34,LEN(B34)-(SEARCH(Display4!$G$2,B34)+LEN(Display4!$G$2)+2))+Display4!$J$3","v":"C.US.EPU1724700"},0,0,33,{"$f":"IF(D33=1,RTD(\"cqg.rtd\", ,\"ContractData\",C33, \"ImpliedVolatility\",, \"T\"),\"\")","v":""},{"$f":"IF(F33=\"\",\"\",RANK(F33,$F$1:$F$35,0)+COUNTIF($F$1:F33,F33)-1)","v":""},0,33,0,{"$f":"IF(D33=1,RTD(\"cqg.rtd\", ,\"OrderData\",\"\"&C33&\"\", \"\", \"OpenTradeEquity\",\"\"&$B$449&\"\"),\"\")","v":""},{"$f":"IF(K33=\"\",\"\",RANK(K33,$K$1:$K$35,0))+COUNTIF($K$1:K33,K33)-1","v":{"$error":"#VALUE!"}},0,33,"",{"$f":"IF(D33=1,RTD(\"cqg.rtd\", ,\"ContractData\",C33, \"Delta\",, \"T\"),\"\")","v":""},{"$f":"IF(D33=1,RTD(\"cqg.rtd\", ,\"OrderData\", \"\"&O33&\"\", \"\", \"OpenPosition\",\"\"&$B$449&\"\"),\"\")","v":""},{"$f":"IF(D33=0,\"\",IF(LEFT(O33,1)=\"F\",Q33*100,Q33*RTD(\"cqg.rtd\",,\"ContractData\",O33,\"Delta\",,\"T\")))","v":""},{"$f":"IF(R33=\"\",\"\",RANK(R33,$R$1:$R$35,0)+COUNTIF($R$1:R33,R33)-1)","v":""},"",33,"",{"$f":"IF(D33=1,RTD(\"cqg.rtd\", ,\"ContractData\",C33, \"Vega\",, \"T\"),\"\")","v":""},{"$f":"IF(W33=\"\",\"\",RANK(W33,$W$1:$W$35,0)+COUNTIF($W$1:W33,W33)-1)","v":""},0,33,"",{"$f":"IF(D33=1,RTD(\"cqg.rtd\", ,\"ContractData\",C33, \"Gamma\",, \"T\"),\"\")","v":""},{"$f":"IF(AB33=\"\",\"\",RANK(AB33,$AB$1:$AB$35,0)+COUNTIF($AB$1:AB33,AB33)-1)","v":""},0,33,"",{"$f":"IF(D33=1,RTD(\"cqg.rtd\", ,\"ContractData\",C33, \"Theta\",, \"T\"),\"\")","v":""},{"$f":"IF(AG33=\"\",\"\",RANK(AG33,$AG$1:$AG$35,0)+COUNTIF($AG$1:AG33,AG33)-1)","v":""},0,33,"",{"$f":"IF(D33=1,1/RTD(\"cqg.rtd\", ,\"ContractData\",C33, \"ExpirationDate\",, \"T\"),\"\")","v":""},{"$f":"IF(AL33=\"\",\"\",RANK(AL33,$AL$1:$AL$35,0)+COUNTIF($AL$1:AL33,AL33)-1)","v":""},0,33,"",{"$f":"IF(AL33=\"\",\"\",RANK(AL33,$AL$1:$AL$35,0)+COUNTIF($AL$1:AL33,AL33)-1)","v":""}]
[{"$f":"IF(OR(ISTEXT(RTD(\"cqg.rtd\",,\"OrderData\",\"\"&B34&\"\",\"\",\"OpenPosition\",\"\"&Display4!$D$3&\"\")),RTD(\"cqg.rtd\",,\"OrderData\",\"\"&B34&\"\",\"\",\"OpenPosition\",\"\"&Display4!$D$3&\"\")=0),A33+0.001,INT(A33)+1)","v":3.4000000000000023E-2},{"$f":"(LEFT(B35,SEARCH(Display4!$G$2,B35)+LEN(Display4!$G$2)+2))&RIGHT(B35,LEN(B35)-(SEARCH(Display4!$G$2,B35)+LEN(Display4!$G$2)+2))+Display4!$J$3","v":"C.US.EPU1724650"},0,0,34,{"$f":"IF(D34=1,RTD(\"cqg.rtd\", ,\"ContractData\",C34, \"ImpliedVolatility\",, \"T\"),\"\")","v":""},{"$f":"IF(F34=\"\",\"\",RANK(F34,$F$1:$F$35,0)+COUNTIF($F$1:F34,F34)-1)","v":""},0,34,0,{"$f":"IF(D34=1,RTD(\"cqg.rtd\", ,\"OrderData\",\"\"&C34&\"\", \"\", \"OpenTradeEquity\",\"\"&$B$449&\"\"),\"\")","v":""},{"$f":"IF(K34=\"\",\"\",RANK(K34,$K$1:$K$35,0))+COUNTIF($K$1:K34,K34)-1","v":{"$error":"#VALUE!"}},0,34,"",{"$f":"IF(D34=1,RTD(\"cqg.rtd\", ,\"ContractData\",C34, \"Delta\",, \"T\"),\"\")","v":""},{"$f":"IF(D34=1,RTD(\"cqg.rtd\", ,\"OrderData\", \"\"&O34&\"\", \"\", \"OpenPosition\",\"\"&$B$449&\"\"),\"\")","v":""},{"$f":"IF(D34=0,\"\",IF(LEFT(O34,1)=\"F\",Q34*100,Q34*RTD(\"cqg.rtd\",,\"ContractData\",O34,\"Delta\",,\"T\")))","v":""},{"$f":"IF(R34=\"\",\"\",RANK(R34,$R$1:$R$35,0)+COUNTIF($R$1:R34,R34)-1)","v":""},"",34,"",{"$f":"IF(D34=1,RTD(\"cqg.rtd\", ,\"ContractData\",C34, \"Vega\",, \"T\"),\"\")","v":""},{"$f":"IF(W34=\"\",\"\",RANK(W34,$W$1:$W$35,0)+COUNTIF($W$1:W34,W34)-1)","v":""},0,34,"",{"$f":"IF(D34=1,RTD(\"cqg.rtd\", ,\"ContractData\",C34, \"Gamma\",, \"T\"),\"\")","v":""},{"$f":"IF(AB34=\"\",\"\",RANK(AB34,$AB$1:$AB$35,0)+COUNTIF($AB$1:AB34,AB34)-1)","v":""},0,34,"",{"$f":"IF(D34=1,RTD(\"cqg.rtd\", ,\"ContractData\",C34, \"Theta\",, \"T\"),\"\")","v":""},{"$f":"IF(AG34=\"\",\"\",RANK(AG34,$AG$1:$AG$35,0)+COUNTIF($AG$1:AG34,AG34)-1)","v":""},0,34,"",{"$f":"IF(D34=1,1/RTD(\"cqg.rtd\", ,\"ContractData\",C34, \"ExpirationDate\",, \"T\"),\"\")","v":""},{"$f":"IF(AL34=\"\",\"\",RANK(AL34,$AL$1:$AL$35,0)+COUNTIF($AL$1:AL34,AL34)-1)","v":""},0,34,"",{"$f":"IF(AL34=\"\",\"\",RANK(AL34,$AL$1:$AL$35,0)+COUNTIF($AL$1:AL34,AL34)-1)","v":""}]
[{"$f":"IF(OR(ISTEXT(RTD(\"cqg.rtd\",,\"OrderData\",\"\"&B35&\"\",\"\",\"OpenPosition\",\"\"&Display4!$D$3&\"\")),RTD(\"cqg.rtd\",,\"OrderData\",\"\"&B35&\"\",\"\",\"OpenPosition\",\"\"&Display4!$D$3&\"\")=0),A34+0.001,INT(A34)+1)","v":3.5000000000000024E-2},{"$f":"(LEFT(B36,SEARCH(Display4!$G$2,B36)+LEN(Display4!$G$2)+2))&RIGHT(B36,LEN(B36)-(SEARCH(Display4!$G$2,B36)+LEN(Display4!$G$2)+2))+Display4!$J$3","v":"C.US.EPU1724600"},{"$f":"IF(D35=1,VLOOKUP(E35,$A$1:$B$448,2),0)","v":0},0,35,{"$f":"IF(D35=1,RTD(\"cqg.rtd\", ,\"ContractData\",C35, \"ImpliedVolatility\",, \"T\"),\"\")","v":""},{"$f":"IF(F35=\"\",\"\",RANK(F35,$F$1:$F$35,0)+COUNTIF($F$1:F35,F35)-1)","v":""},0,35,0,{"$f":"IF(D35=1,RTD(\"cqg.rtd\", ,\"OrderData\",\"\"&C35&\"\", \"\", \"OpenTradeEquity\",\"\"&$B$449&\"\"),\"\")","v":""},{"$f":"IF(K35=\"\",\"\",RANK(K35,$K$1:$K$35,0))+COUNTIF($K$1:K35,K35)-1","v":{"$error":"#VALUE!"}},0,35,"",{"$f":"IF(D35=1,RTD(\"cqg.rtd\", ,\"ContractData\",C35, \"Delta\",, \"T\"),\"\")","v":""},{"$f":"IF(D35=1,RTD(\"cqg.rtd\", ,\"OrderData\", \"\"&O35&\"\", \"\", \"OpenPosition\",\"\"&$B$449&\"\"),\"\")","v":""},{"$f":"IF(D35=0,\"\",IF(LEFT(O35,1)=\"F\",Q35*100,Q35*RTD(\"cqg.rtd\",,\"ContractData\",O35,\"Delta\",,\"T\")))","v":""},{"$f":"IF(R35=\"\",\"\",RANK(R35,$R$1:$R$35,0)+COUNTIF($R$1:R35,R35)-1)","v":""},"",35,"",{"$f":"IF(D35=1,RTD(\"cqg.rtd\", ,\"ContractData\",C35, \"Vega\",, \"T\"),\"\")","v":""},{"$f":"IF(W35=\"\",\"\",RANK(W35,$W$1:$W$35,0)+COUNTIF($W$1:W35,W35)-1)","v":""},0,35,"",{"$f":"IF(D35=1,RTD(\"cqg.rtd\", ,\"ContractData\",C35, \"Gamma\",, \"T\"),\"\")","v":""},{"$f":"IF(AB35=\"\",\"\",RANK(AB35,$AB$1:$AB$35,0)+COUNTIF($AB$1:AB35,AB35)-1)","v":""},0,35,"",{"$f":"IF(D35=1,RTD(\"cqg.rtd\", ,\"ContractData\",C35, \"Theta\",, \"T\"),\"\")","v":""},{"$f":"IF(AG35=\"\",\"\",RANK(AG35,$AG$1:$AG$35,0)+COUNTIF($AG$1:AG35,AG35)-1)","v":""},0,35,"",{"$f":"IF(D35=1,1/RTD(\"cqg.rtd\", ,\"ContractData\",C35, \"ExpirationDate\",, \"T\"),\"\")","v":""},{"$f":"IF(AL35=\"\",\"\",RANK(AL35,$AL$1:$AL$35,0)+COUNTIF($AL$1:AL35,AL35)-1)","v":""},0,35,"",{"$f":"IF(AL35=\"\",\"\",RANK(AL35,$AL$1:$AL$35,0)+COUNTIF($AL$1:AL35,AL35)-1)","v":""}]
[{"$f":"IF(OR(ISTEXT(RTD(\"cqg.rtd\",,\"OrderData\",\"\"&B36&\"\",\"\",\"OpenPosition\",\"\"&Display4!$D$3&\"\")),RTD(\"cqg.rtd\",,\"OrderData\",\"\"&B36&\"\",\"\",\"OpenPosition\",\"\"&Display4!$D$3&\"\")=0),A35+0.001,INT(A35)+1)","v":3.6000000000000025E-2},{"$f":"(LEFT(B37,SEARCH(Display4!$G$2,B37)+LEN(Display4!$G$2)+2))&RIGHT(B37,LEN(B37)-(SEARCH(Display4!$G$2,B37)+LEN(Display4!$G$2)+2))+Display4!$J$3","v":"C.US.EPU1724550"}]
[{"$f":"IF(OR(ISTEXT(RTD(\"cqg.rtd\",,\"OrderData\",\"\"&B37&\"\",\"\",\"OpenPosition\",\"\"&Display4!$D$3&\"\")),RTD(\"cqg.rtd\",,\"OrderData\",\"\"&B37&\"\",\"\",\"OpenPosition\",\"\"&Display4!$D$3&\"\")=0),A36+0.001,INT(A36)+1)","v":3.7000000000000026E-2},{"$f":"(LEFT(B38,SEARCH(Display4!$G$2,B38)+LEN(Display4!$G$2)+2))&RIGHT(B38,LEN(B38)-(SEARCH(Display4!$G$2,B38)+LEN(Display4!$G$2)+2))+Display4!$J$3","v":"C.US.EPU1724500"}]
[{"$f":"IF(OR(ISTEXT(RTD(\"cqg.rtd\",,\"OrderData\",\"\"&B38&\"\",\"\",\"OpenPosition\",\"\"&Display4!$D$3&\"\")),RTD(\"cqg.rtd\",,\"OrderData\",\"\"&B38&\"\",\"\",\"OpenPosition\",\"\"&Display4!$D$3&\"\")=0),A37+0.001,INT(A37)+1)","v":3.8000000000000027E-2},{"$f":"(LEFT(B39,SEARCH(Display4!$G$2,B39)+LEN(Display4!$G$2)+2))&RIGHT(B39,LEN(B39)-(SEARCH(Display4!$G$2,B39)+LEN(Display4!$G$2)+2))+Display4!$J$3","v":"C.US.EPU1724450"}]
[{"$f":"IF(OR(ISTEXT(RTD(\"cqg.rtd\",,\"OrderData\",\"\"&B39&\"\",\"\",\"OpenPosition\",\"\"&Display4!$D$3&\"\")),RTD(\"cqg.rtd\",,\"OrderData\",\"\"&B39&\"\",\"\",\"OpenPosition\",\"\"&Display4!$D$3&\"\")=0),A38+0.001,INT(A38)+1)","v":3.9000000000000028E-2},{"$f":"(LEFT(B40,SEARCH(Display4!$G$2,B40)+LEN(Display4!$G$2)+2))&RIGHT(B40,LEN(B40)-(SEARCH(Display4!$G$2,B40)+LEN(Display4!$G$2)+2))+Display4!$J$3","v":"C.US.EPU1724400"}]
[{"$f":"IF(OR(ISTEXT(RTD(\"cqg.rtd\",,\"OrderData\",\"\"&B40&\"\",\"\",\"OpenPosition\",\"\"&Display4!$D$3&\"\")),RTD(\"cqg.rtd\",,\"OrderData\",\"\"&B40&\"\",\"\",\"OpenPosition\",\"\"&Display4!$D$3&\"\")=0),A39+0.001,INT(A39)+1)","v":4.0000000000000029E-2},{"$f":"RTD(\"cqg.rtd\", ,\"ContractData\", \"C.US.\"&Display4!$G$2&Display4!$G$3&\"\", \"Symbol\",, \"T\")","v":"C.US.EPU1724350"}]
[{"$f":"IF(OR(ISTEXT(RTD(\"cqg.rtd\",,\"OrderData\",\"\"&B41&\"\",\"\",\"OpenPosition\",\"\"&Display4!$D$3&\"\")),RTD(\"cqg.rtd\",,\"OrderData\",\"\"&B41&\"\",\"\",\"OpenPosition\",\"\"&Display4!$D$3&\"\")=0),A40+0.001,INT(A40)+1)","v":4.1000000000000029E-2},{"$f":"(LEFT(B40,SEARCH(Display4!$G$2,B40)+LEN(Display4!$G$2)+2))&RIGHT(B40,LEN(B40)-(SEARCH(Display4!$G$2,B40)+LEN(Display4!$G$2)+2))-Display4!$J$3","v":"C.US.EPU1724300"}]
[{"$f":"IF(OR(ISTEXT(RTD(\"cqg.rtd\",,\"OrderData\",\"\"&B42&\"\",\"\",\"OpenPosition\",\"\"&Display4!$D$3&\"\")),RTD(\"cqg.rtd\",,\"OrderData\",\"\"&B42&\"\",\"\",\"OpenPosition\",\"\"&Display4!$D$3&\"\")=0),A41+0.001,INT(A41)+1)","v":4.200000000000003E-2},{"$f":"(LEFT(B41,SEARCH(Display4!$G$2,B41)+LEN(Display4!$G$2)+2))&RIGHT(B41,LEN(B41)-(SEARCH(Display4!$G$2,B41)+LEN(Display4!$G$2)+2))-Display4!$J$3","v":"C.US.EPU1724250"}]
[{"$f":"IF(OR(ISTEXT(RTD(\"cqg.rtd\",,\"OrderData\",\"\"&B43&\"\",\"\",\"OpenPosition\",\"\"&Display4!$D$3&\"\")),RTD(\"cqg.rtd\",,\"OrderData\",\"\"&B43&\"\",\"\",\"OpenPosition\",\"\"&Display4!$D$3&\"\")=0),A42+0.001,INT(A42)+1)","v":4.3000000000000031E-2},{"$f":"(LEFT(B42,SEARCH(Display4!$G$2,B42)+LEN(Display4!$G$2)+2))&RIGHT(B42,LEN(B42)-(SEARCH(Display4!$G$2,B42)+LEN(Display4!$G$2)+2))-Display4!$J$3","v":"C.US.EPU1724200"}]
[{"$f":"IF(OR(ISTEXT(RTD(\"cqg.rtd\",,\"OrderData\",\"\"&B44&\"\",\"\",\"OpenPosition\",\"\"&Display4!$D$3&\"\")),RTD(\"cqg.rtd\",,\"OrderData\",\"\"&B44&\"\",\"\",\"OpenPosition\",\"\"&Display4!$D$3&\"\")=0),A43+0.001,INT(A43)+1)","v":4.4000000000000032E-2},{"$f":"(LEFT(B43,SEARCH(Display4!$G$2,B43)+LEN(Display4!$G$2)+2))&RIGHT(B43,LEN(B43)-(SEARCH(Display4!$G$2,B43)+LEN(Display4!$G$2)+2))-Display4!$J$3","v":"C.US.EPU1724150"}]
[{"$f":"IF(OR(ISTEXT(RTD(\"cqg.rtd\",,\"OrderData\",\"\"&B45&\"\",\"\",\"OpenPosition\",\"\"&Display4!$D$3&\"\")),RTD(\"cqg.rtd\",,\"OrderData\",\"\"&B45&\"\",\"\",\"OpenPosition\",\"\"&Display4!$D$3&\"\")=0),A44+0.001,INT(A44)+1)","v":4.5000000000000033E-2},{"$f":"(LEFT(B44,SEARCH(Display4!$G$2,B44)+LEN(Display4!$G$2)+2))&RIGHT(B44,LEN(B44)-(SEARCH(Display4!$G$2,B44)+LEN(Display4!$G$2)+2))-Display4!$J$3","v":"C.US.EPU1724100"}]
[{"$f":"IF(OR(ISTEXT(RTD(\"cqg.rtd\",,\"OrderData\",\"\"&B46&\"\",\"\",\"OpenPosition\",\"\"&Display4!$D$3&\"\")),RTD(\"cqg.rtd\",,\"OrderData\",\"\"&B46&\"\",\"\",\"OpenPosition\",\"\"&Display4!$D$3&\"\")=0),A45+0.001,INT(A45)+1)","v":4.6000000000000034E-2},{"$f":"(LEFT(B45,SEARCH(Display4!$G$2,B45)+LEN(Display4!$G$2)+2))&RIGHT(B45,LEN(B45)-(SEARCH(Display4!$G$2,B45)+LEN(Display4!$G$2)+2))-Display4!$J$3","v":"C.US.EPU1724050"}]
[{"$f":"IF(OR(ISTEXT(RTD(\"cqg.rtd\",,\"OrderData\",\"\"&B47&\"\",\"\",\"OpenPosition\",\"\"&Display4!$D$3&\"\")),RTD(\"cqg.rtd\",,\"OrderData\",\"\"&B47&\"\",\"\",\"OpenPosition\",\"\"&Display4!$D$3&\"\")=0),A46+0.001,INT(A46)+1)","v":4.7000000000000035E-2},{"$f":"(LEFT(B46,SEARCH(Display4!$G$2,B46)+LEN(Display4!$G$2)+2))&RIGHT(B46,LEN(B46)-(SEARCH(Display4!$G$2,B46)+LEN(Display4!$G$2)+2))-Display4!$J$3","v":"C.US.EPU1724000"}]
[{"$f":"IF(OR(ISTEXT(RTD(\"cqg.rtd\",,\"OrderData\",\"\"&B48&\"\",\"\",\"OpenPosition\",\"\"&Display4!$D$3&\"\")),RTD(\"cqg.rtd\",,\"OrderData\",\"\"&B48&\"\",\"\",\"OpenPosition\",\"\"&Display4!$D$3&\"\")=0),A47+0.001,INT(A47)+1)","v":4.8000000000000036E-2},{"$f":"(LEFT(B47,SEARCH(Display4!$G$2,B47)+LEN(Display4!$G$2)+2))&RIGHT(B47,LEN(B47)-(SEARCH(Display4!$G$2,B47)+LEN(Display4!$G$2)+2))-Display4!$J$3","v":"C.US.EPU1723950"}]
[{"$f":"IF(OR(ISTEXT(RTD(\"cqg.rtd\",,\"OrderData\",\"\"&B49&\"\",\"\",\"OpenPosition\",\"\"&Display4!$D$3&\"\")),RTD(\"cqg.rtd\",,\"OrderData\",\"\"&B49&\"\",\"\",\"OpenPosition\",\"\"&Display4!$D$3&\"\")=0),A48+0.001,INT(A48)+1)","v":4.9000000000000037E-2},{"$f":"(LEFT(B48,SEARCH(Display4!$G$2,B48)+LEN(Display4!$G$2)+2))&RIGHT(B48,LEN(B48)-(SEARCH(Display4!$G$2,B48)+LEN(Display4!$G$2)+2))-Display4!$J$3","v":"C.US.EPU1723900"}]
[{"$f":"IF(OR(ISTEXT(RTD(\"cqg.rtd\",,\"OrderData\",\"\"&B50&\"\",\"\",\"OpenPosition\",\"\"&Display4!$D$3&\"\")),RTD(\"cqg.rtd\",,\"OrderData\",\"\"&B50&\"\",\"\",\"OpenPosition\",\"\"&Display4!$D$3&\"\")=0),A49+0.001,INT(A49)+1)","v":5.0000000000000037E-2},{"$f":"(LEFT(B49,SEARCH(Display4!$G$2,B49)+LEN(Display4!$G$2)+2))&RIGHT(B49,LEN(B49)-(SEARCH(Display4!$G$2,B49)+LEN(Display4!$G$2)+2))-Display4!$J$3","v":"C.US.EPU1723850"}]
[{"$f":"IF(OR(ISTEXT(RTD(\"cqg.rtd\",,\"OrderData\",\"\"&B51&\"\",\"\",\"OpenPosition\",\"\"&Display4!$D$3&\"\")),RTD(\"cqg.rtd\",,\"OrderData\",\"\"&B51&\"\",\"\",\"OpenPosition\",\"\"&Display4!$D$3&\"\")=0),A50+0.001,INT(A50)+1)","v":5.1000000000000038E-2},{"$f":"(LEFT(B50,SEARCH(Display4!$G$2,B50)+LEN(Display4!$G$2)+2))&RIGHT(B50,LEN(B50)-(SEARCH(Display4!$G$2,B50)+LEN(Display4!$G$2)+2))-Display4!$J$3","v":"C.US.EPU1723800"}]
[{"$f":"IF(OR(ISTEXT(RTD(\"cqg.rtd\",,\"OrderData\",\"\"&B52&\"\",\"\",\"OpenPosition\",\"\"&Display4!$D$3&\"\")),RTD(\"cqg.rtd\",,\"OrderData\",\"\"&B52&\"\",\"\",\"OpenPosition\",\"\"&Display4!$D$3&\"\")=0),A51+0.001,INT(A51)+1)","v":5.2000000000000039E-2},{"$f":"(LEFT(B51,SEARCH(Display4!$G$2,B51)+LEN(Display4!$G$2)+2))&RIGHT(B51,LEN(B51)-(SEARCH(Display4!$G$2,B51)+LEN(Display4!$G$2)+2))-Display4!$J$3","v":"C.US.EPU1723750"}]
[{"$f":"IF(OR(ISTEXT(RTD(\"cqg.rtd\",,\"OrderData\",\"\"&B53&\"\",\"\",\"OpenPosition\",\"\"&Display4!$D$3&\"\")),RTD(\"cqg.rtd\",,\"OrderData\",\"\"&B53&\"\",\"\",\"OpenPosition\",\"\"&Display4!$D$3&\"\")=0),A52+0.001,INT(A52)+1)","v":5.300000000000004E-2},{"$f":"(LEFT(B52,SEARCH(Display4!$G$2,B52)+LEN(Display4!$G$2)+2))&RIGHT(B52,LEN(B52)-(SEARCH(Display4!$G$2,B52)+LEN(Display4!$G$2)+2))-Display4!$J$3","v":"C.US.EPU1723700"}]
[{"$f":"IF(OR(ISTEXT(RTD(\"cqg.rtd\",,\"OrderData\",\"\"&B54&\"\",\"\",\"OpenPosition\",\"\"&Display4!$D$3&\"\")),RTD(\"cqg.rtd\",,\"OrderData\",\"\"&B54&\"\",\"\",\"OpenPosition\",\"\"&Display4!$D$3&\"\")=0),A53+0.001,INT(A53)+1)","v":5.4000000000000041E-2},{"$f":"(LEFT(B53,SEARCH(Display4!$G$2,B53)+LEN(Display4!$G$2)+2))&RIGHT(B53,LEN(B53)-(SEARCH(Display4!$G$2,B53)+LEN(Display4!$G$2)+2))-Display4!$J$3","v":"C.US.EPU1723650"}]
[{"$f":"IF(OR(ISTEXT(RTD(\"cqg.rtd\",,\"OrderData\",\"\"&B55&\"\",\"\",\"OpenPosition\",\"\"&Display4!$D$3&\"\")),RTD(\"cqg.rtd\",,\"OrderData\",\"\"&B55&\"\",\"\",\"OpenPosition\",\"\"&Display4!$D$3&\"\")=0),A54+0.001,INT(A54)+1)","v":5.5000000000000042E-2},{"$f":"(LEFT(B54,SEARCH(Display4!$G$2,B54)+LEN(Display4!$G$2)+2))&RIGHT(B54,LEN(B54)-(SEARCH(Display4!$G$2,B54)+LEN(Display4!$G$2)+2))-Display4!$J$3","v":"C.US.EPU1723600"}]
[{"$f":"IF(OR(ISTEXT(RTD(\"cqg.rtd\",,\"OrderData\",\"\"&B56&\"\",\"\",\"OpenPosition\",\"\"&Display4!$D$3&\"\")),RTD(\"cqg.rtd\",,\"OrderData\",\"\"&B56&\"\",\"\",\"OpenPosition\",\"\"&Display4!$D$3&\"\")=0),A55+0.001,INT(A55)+1)","v":5.6000000000000043E-2},{"$f":"(LEFT(B55,SEARCH(Display4!$G$2,B55)+LEN(Display4!$G$2)+2))&RIGHT(B55,LEN(B55)-(SEARCH(Display4!$G$2,B55)+LEN(Display4!$G$2)+2))-Display4!$J$3","v":"C.US.EPU1723550"}]
[{"$f":"IF(OR(ISTEXT(RTD(\"cqg.rtd\",,\"OrderData\",\"\"&B57&\"\",\"\",\"OpenPosition\",\"\"&Display4!$D$3&\"\")),RTD(\"cqg.rtd\",,\"OrderData\",\"\"&B57&\"\",\"\",\"OpenPosition\",\"\"&Display4!$D$3&\"\")=0),A56+0.001,INT(A56)+1)","v":5.7000000000000044E-2},{"$f":"(LEFT(B56,SEARCH(Display4!$G$2,B56)+LEN(Display4!$G$2)+2))&RIGHT(B56,LEN(B56)-(SEARCH(Display4!$G$2,B56)+LEN(Display4!$G$2)+2))-Display4!$J$3","v":"C.US.EPU1723500"}]
[{"$f":"IF(OR(ISTEXT(RTD(\"cqg.rtd\",,\"OrderData\",\"\"&B58&\"\",\"\",\"OpenPosition\",\"\"&Display4!$D$3&\"\")),RTD(\"cqg.rtd\",,\"OrderData\",\"\"&B58&\"\",\"\",\"OpenPosition\",\"\"&Display4!$D$3&\"\")=0),A57+0.001,INT(A57)+1)","v":5.8000000000000045E-2},{"$f":"(LEFT(B57,SEARCH(Display4!$G$2,B57)+LEN(Display4!$G$2)+2))&RIGHT(B57,LEN(B57)-(SEARCH(Display4!$G$2,B57)+LEN(Display4!$G$2)+2))-Display4!$J$3","v":"C.US.EPU1723450"}]
[{"$f":"IF(OR(ISTEXT(RTD(\"cqg.rtd\",,\"OrderData\",\"\"&B59&\"\",\"\",\"OpenPosition\",\"\"&Display4!$D$3&\"\")),RTD(\"cqg.rtd\",,\"OrderData\",\"\"&B59&\"\",\"\",\"OpenPosition\",\"\"&Display4!$D$3&\"\")=0),A58+0.001,INT(A58)+1)","v":5.9000000000000045E-2},{"$f":"(LEFT(B58,SEARCH(Display4!$G$2,B58)+LEN(Display4!$G$2)+2))&RIGHT(B58,LEN(B58)-(SEARCH(Display4!$G$2,B58)+LEN(Display4!$G$2)+2))-Display4!$J$3","v":"C.US.EPU1723400"}]
[{"$f":"IF(OR(ISTEXT(RTD(\"cqg.rtd\",,\"OrderData\",\"\"&B60&\"\",\"\",\"OpenPosition\",\"\"&Display4!$D$3&\"\")),RTD(\"cqg.rtd\",,\"OrderData\",\"\"&B60&\"\",\"\",\"OpenPosition\",\"\"&Display4!$D$3&\"\")=0),A59+0.001,INT(A59)+1)","v":6.0000000000000046E-2},{"$f":"(LEFT(B59,SEARCH(Display4!$G$2,B59)+LEN(Display4!$G$2)+2))&RIGHT(B59,LEN(B59)-(SEARCH(Display4!$G$2,B59)+LEN(Display4!$G$2)+2))-Display4!$J$3","v":"C.US.EPU1723350"}]
[{"$f":"IF(OR(ISTEXT(RTD(\"cqg.rtd\",,\"OrderData\",\"\"&B61&\"\",\"\",\"OpenPosition\",\"\"&Display4!$D$3&\"\")),RTD(\"cqg.rtd\",,\"OrderData\",\"\"&B61&\"\",\"\",\"OpenPosition\",\"\"&Display4!$D$3&\"\")=0),A60+0.001,INT(A60)+1)","v":6.1000000000000047E-2},{"$f":"(LEFT(B60,SEARCH(Display4!$G$2,B60)+LEN(Display4!$G$2)+2))&RIGHT(B60,LEN(B60)-(SEARCH(Display4!$G$2,B60)+LEN(Display4!$G$2)+2))-Display4!$J$3","v":"C.US.EPU1723300"}]
[{"$f":"IF(OR(ISTEXT(RTD(\"cqg.rtd\",,\"OrderData\",\"\"&B62&\"\",\"\",\"OpenPosition\",\"\"&Display4!$D$3&\"\")),RTD(\"cqg.rtd\",,\"OrderData\",\"\"&B62&\"\",\"\",\"OpenPosition\",\"\"&Display4!$D$3&\"\")=0),A61+0.001,INT(A61)+1)","v":6.2000000000000048E-2},{"$f":"(LEFT(B61,SEARCH(Display4!$G$2,B61)+LEN(Display4!$G$2)+2))&RIGHT(B61,LEN(B61)-(SEARCH(Display4!$G$2,B61)+LEN(Display4!$G$2)+2))-Display4!$J$3","v":"C.US.EPU1723250"}]
[{"$f":"IF(OR(ISTEXT(RTD(\"cqg.rtd\",,\"OrderData\",\"\"&B63&\"\",\"\",\"OpenPosition\",\"\"&Display4!$D$3&\"\")),RTD(\"cqg.rtd\",,\"OrderData\",\"\"&B63&\"\",\"\",\"OpenPosition\",\"\"&Display4!$D$3&\"\")=0),A62+0.001,INT(A62)+1)","v":6.3000000000000042E-2},{"$f":"(LEFT(B62,SEARCH(Display4!$G$2,B62)+LEN(Display4!$G$2)+2))&RIGHT(B62,LEN(B62)-(SEARCH(Display4!$G$2,B62)+LEN(Display4!$G$2)+2))-Display4!$J$3","v":"C.US.EPU1723200"}]
[{"$f":"IF(OR(ISTEXT(RTD(\"cqg.rtd\",,\"OrderData\",\"\"&B64&\"\",\"\",\"OpenPosition\",\"\"&Display4!$D$3&\"\")),RTD(\"cqg.rtd\",,\"OrderData\",\"\"&B64&\"\",\"\",\"OpenPosition\",\"\"&Display4!$D$3&\"\")=0),A63+0.001,INT(A63)+1)","v":6.4000000000000043E-2},{"$f":"(LEFT(B63,SEARCH(Display4!$G$2,B63)+LEN(Display4!$G$2)+2))&RIGHT(B63,LEN(B63)-(SEARCH(Display4!$G$2,B63)+LEN(Display4!$G$2)+2))-Display4!$J$3","v":"C.US.EPU1723150"}]
[{"$f":"IF(OR(ISTEXT(RTD(\"cqg.rtd\",,\"OrderData\",\"\"&B65&\"\",\"\",\"OpenPosition\",\"\"&Display4!$D$3&\"\")),RTD(\"cqg.rtd\",,\"OrderData\",\"\"&B65&\"\",\"\",\"OpenPosition\",\"\"&Display4!$D$3&\"\")=0),A64+0.001,INT(A64)+1)","v":6.5000000000000044E-2},{"$f":"(LEFT(B64,SEARCH(Display4!$G$2,B64)+LEN(Display4!$G$2)+2))&RIGHT(B64,LEN(B64)-(SEARCH(Display4!$G$2,B64)+LEN(Display4!$G$2)+2))-Display4!$J$3","v":"C.US.EPU1723100"}]
[{"$f":"IF(OR(ISTEXT(RTD(\"cqg.rtd\",,\"OrderData\",\"\"&B66&\"\",\"\",\"OpenPosition\",\"\"&Display4!$D$3&\"\")),RTD(\"cqg.rtd\",,\"OrderData\",\"\"&B66&\"\",\"\",\"OpenPosition\",\"\"&Display4!$D$3&\"\")=0),A65+0.001,INT(A65)+1)","v":6.6000000000000045E-2},{"$f":"(LEFT(B65,SEARCH(Display4!$G$2,B65)+LEN(Display4!$G$2)+2))&RIGHT(B65,LEN(B65)-(SEARCH(Display4!$G$2,B65)+LEN(Display4!$G$2)+2))-Display4!$J$3","v":"C.US.EPU1723050"}]
[{"$f":"IF(OR(ISTEXT(RTD(\"cqg.rtd\",,\"OrderData\",\"\"&B67&\"\",\"\",\"OpenPosition\",\"\"&Display4!$D$3&\"\")),RTD(\"cqg.rtd\",,\"OrderData\",\"\"&B67&\"\",\"\",\"OpenPosition\",\"\"&Display4!$D$3&\"\")=0),A66+0.001,INT(A66)+1)","v":6.7000000000000046E-2},{"$f":"(LEFT(B66,SEARCH(Display4!$G$2,B66)+LEN(Display4!$G$2)+2))&RIGHT(B66,LEN(B66)-(SEARCH(Display4!$G$2,B66)+LEN(Display4!$G$2)+2))-Display4!$J$3","v":"C.US.EPU1723000"}]
[{"$f":"IF(OR(ISTEXT(RTD(\"cqg.rtd\",,\"OrderData\",\"\"&B68&\"\",\"\",\"OpenPosition\",\"\"&Display4!$D$3&\"\")),RTD(\"cqg.rtd\",,\"OrderData\",\"\"&B68&\"\",\"\",\"OpenPosition\",\"\"&Display4!$D$3&\"\")=0),A67+0.001,INT(A67)+1)","v":6.8000000000000047E-2},{"$f":"(LEFT(B67,SEARCH(Display4!$G$2,B67)+LEN(Display4!$G$2)+2))&RIGHT(B67,LEN(B67)-(SEARCH(Display4!$G$2,B67)+LEN(Display4!$G$2)+2))-Display4!$J$3","v":"C.US.EPU1722950"}]
[{"$f":"IF(OR(ISTEXT(RTD(\"cqg.rtd\",,\"OrderData\",\"\"&B69&\"\",\"\",\"OpenPosition\",\"\"&Display4!$D$3&\"\")),RTD(\"cqg.rtd\",,\"OrderData\",\"\"&B69&\"\",\"\",\"OpenPosition\",\"\"&Display4!$D$3&\"\")=0),A68+0.001,INT(A68)+1)","v":6.9000000000000047E-2},{"$f":"(LEFT(B68,SEARCH(Display4!$G$2,B68)+LEN(Display4!$G$2)+2))&RIGHT(B68,LEN(B68)-(SEARCH(Display4!$G$2,B68)+LEN(Display4!$G$2)+2))-Display4!$J$3","v":"C.US.EPU1722900"}]
[{"$f":"IF(OR(ISTEXT(RTD(\"cqg.rtd\",,\"OrderData\",\"\"&B70&\"\",\"\",\"OpenPosition\",\"\"&Display4!$D$3&\"\")),RTD(\"cqg.rtd\",,\"OrderData\",\"\"&B70&\"\",\"\",\"OpenPosition\",\"\"&Display4!$D$3&\"\")=0),A69+0.001,INT(A69)+1)","v":7.0000000000000048E-2},{"$f":"(LEFT(B69,SEARCH(Display4!$G$2,B69)+LEN(Display4!$G$2)+2))&RIGHT(B69,LEN(B69)-(SEARCH(Display4!$G$2,B69)+LEN(Display4!$G$2)+2))-Display4!$J$3","v":"C.US.EPU1722850"}]
[{"$f":"IF(OR(ISTEXT(RTD(\"cqg.rtd\",,\"OrderData\",\"\"&B71&\"\",\"\",\"OpenPosition\",\"\"&Display4!$D$3&\"\")),RTD(\"cqg.rtd\",,\"OrderData\",\"\"&B71&\"\",\"\",\"OpenPosition\",\"\"&Display4!$D$3&\"\")=0),A70+0.001,INT(A70)+1)","v":7.1000000000000049E-2},{"$f":"(LEFT(B70,SEARCH(Display4!$G$2,B70)+LEN(Display4!$G$2)+2))&RIGHT(B70,LEN(B70)-(SEARCH(Display4!$G$2,B70)+LEN(Display4!$G$2)+2))-Display4!$J$3","v":"C.US.EPU1722800"}]
[{"$f":"IF(OR(ISTEXT(RTD(\"cqg.rtd\",,\"OrderData\",\"\"&B72&\"\",\"\",\"OpenPosition\",\"\"&Display4!$D$3&\"\")),RTD(\"cqg.rtd\",,\"OrderData\",\"\"&B72&\"\",\"\",\"OpenPosition\",\"\"&Display4!$D$3&\"\")=0),A71+0.001,INT(A71)+1)","v":7.200000000000005E-2},{"$f":"(LEFT(B71,SEARCH(Display4!$G$2,B71)+LEN(Display4!$G$2)+2))&RIGHT(B71,LEN(B71)-(SEARCH(Display4!$G$2,B71)+LEN(Display4!$G$2)+2))-Display4!$J$3","v":"C.US.EPU1722750"}]
[{"$f":"IF(OR(ISTEXT(RTD(\"cqg.rtd\",,\"OrderData\",\"\"&B73&\"\",\"\",\"OpenPosition\",\"\"&Display4!$D$3&\"\")),RTD(\"cqg.rtd\",,\"OrderData\",\"\"&B73&\"\",\"\",\"OpenPosition\",\"\"&Display4!$D$3&\"\")=0),A72+0.001,INT(A72)+1)","v":7.3000000000000051E-2},{"$f":"(LEFT(B72,SEARCH(Display4!$G$2,B72)+LEN(Display4!$G$2)+2))&RIGHT(B72,LEN(B72)-(SEARCH(Display4!$G$2,B72)+LEN(Display4!$G$2)+2))-Display4!$J$3","v":"C.US.EPU1722700"}]
[{"$f":"IF(OR(ISTEXT(RTD(\"cqg.rtd\",,\"OrderData\",\"\"&B74&\"\",\"\",\"OpenPosition\",\"\"&Display4!$D$3&\"\")),RTD(\"cqg.rtd\",,\"OrderData\",\"\"&B74&\"\",\"\",\"OpenPosition\",\"\"&Display4!$D$3&\"\")=0),A73+0.001,INT(A73)+1)","v":7.4000000000000052E-2},{"$f":"(LEFT(B73,SEARCH(Display4!$G$2,B73)+LEN(Display4!$G$2)+2))&RIGHT(B73,LEN(B73)-(SEARCH(Display4!$G$2,B73)+LEN(Display4!$G$2)+2))-Display4!$J$3","v":"C.US.EPU1722650"}]
[{"$f":"IF(OR(ISTEXT(RTD(\"cqg.rtd\",,\"OrderData\",\"\"&B75&\"\",\"\",\"OpenPosition\",\"\"&Display4!$D$3&\"\")),RTD(\"cqg.rtd\",,\"OrderData\",\"\"&B75&\"\",\"\",\"OpenPosition\",\"\"&Display4!$D$3&\"\")=0),A74+0.001,INT(A74)+1)","v":7.5000000000000053E-2},{"$f":"(LEFT(B74,SEARCH(Display4!$G$2,B74)+LEN(Display4!$G$2)+2))&RIGHT(B74,LEN(B74)-(SEARCH(Display4!$G$2,B74)+LEN(Display4!$G$2)+2))-Display4!$J$3","v":"C.US.EPU1722600"}]
[{"$f":"IF(OR(ISTEXT(RTD(\"cqg.rtd\",,\"OrderData\",\"\"&B76&\"\",\"\",\"OpenPosition\",\"\"&Display4!$D$3&\"\")),RTD(\"cqg.rtd\",,\"OrderData\",\"\"&B76&\"\",\"\",\"OpenPosition\",\"\"&Display4!$D$3&\"\")=0),A75+0.001,INT(A75)+1)","v":7.6000000000000054E-2},{"$f":"(LEFT(B75,SEARCH(Display4!$G$2,B75)+LEN(Display4!$G$2)+2))&RIGHT(B75,LEN(B75)-(SEARCH(Display4!$G$2,B75)+LEN(Display4!$G$2)+2))-Display4!$J$3","v":"C.US.EPU1722550"}]
[{"$f":"IF(OR(ISTEXT(RTD(\"cqg.rtd\",,\"OrderData\",\"\"&B77&\"\",\"\",\"OpenPosition\",\"\"&Display4!$D$3&\"\")),RTD(\"cqg.rtd\",,\"OrderData\",\"\"&B77&\"\",\"\",\"OpenPosition\",\"\"&Display4!$D$3&\"\")=0),A76+0.001,INT(A76)+1)","v":7.7000000000000055E-2},{"$f":"(LEFT(B76,SEARCH(Display4!$G$2,B76)+LEN(Display4!$G$2)+2))&RIGHT(B76,LEN(B76)-(SEARCH(Display4!$G$2,B76)+LEN(Display4!$G$2)+2))-Display4!$J$3","v":"C.US.EPU1722500"}]
[{"$f":"IF(OR(ISTEXT(RTD(\"cqg.rtd\",,\"OrderData\",\"\"&B78&\"\",\"\",\"OpenPosition\",\"\"&Display4!$D$3&\"\")),RTD(\"cqg.rtd\",,\"OrderData\",\"\"&B78&\"\",\"\",\"OpenPosition\",\"\"&Display4!$D$3&\"\")=0),A77+0.001,INT(A77)+1)","v":7.8000000000000055E-2},{"$f":"(LEFT(B77,SEARCH(Display4!$G$2,B77)+LEN(Display4!$G$2)+2))&RIGHT(B77,LEN(B77)-(SEARCH(Display4!$G$2,B77)+LEN(Display4!$G$2)+2))-Display4!$J$3","v":"C.US.EPU1722450"}]
[{"$f":"IF(OR(ISTEXT(RTD(\"cqg.rtd\",,\"OrderData\",\"\"&B79&\"\",\"\",\"OpenPosition\",\"\"&Display4!$D$3&\"\")),RTD(\"cqg.rtd\",,\"OrderData\",\"\"&B79&\"\",\"\",\"OpenPosition\",\"\"&Display4!$D$3&\"\")=0),A78+0.001,INT(A78)+1)","v":7.9000000000000056E-2},{"$f":"(LEFT(B78,SEARCH(Display4!$G$2,B78)+LEN(Display4!$G$2)+2))&RIGHT(B78,LEN(B78)-(SEARCH(Display4!$G$2,B78)+LEN(Display4!$G$2)+2))-Display4!$J$3","v":"C.US.EPU1722400"}]
[{"$f":"IF(OR(ISTEXT(RTD(\"cqg.rtd\",,\"OrderData\",\"\"&B80&\"\",\"\",\"OpenPosition\",\"\"&Display4!$D$3&\"\")),RTD(\"cqg.rtd\",,\"OrderData\",\"\"&B80&\"\",\"\",\"OpenPosition\",\"\"&Display4!$D$3&\"\")=0),A79+0.001,INT(A79)+1)","v":8.0000000000000057E-2},{"$f":"(LEFT(B79,SEARCH(Display4!$G$2,B79)+LEN(Display4!$G$2)+2))&RIGHT(B79,LEN(B79)-(SEARCH(Display4!$G$2,B79)+LEN(Display4!$G$2)+2))-Display4!$J$3","v":"C.US.EPU1722350"}]
[{"$f":"IF(OR(ISTEXT(RTD(\"cqg.rtd\",,\"OrderData\",\"\"&B81&\"\",\"\",\"OpenPosition\",\"\"&Display4!$D$3&\"\")),RTD(\"cqg.rtd\",,\"OrderData\",\"\"&B81&\"\",\"\",\"OpenPosition\",\"\"&Display4!$D$3&\"\")=0),A80+0.001,INT(A80)+1)","v":8.1000000000000058E-2},{"$f":"(LEFT(B82,SEARCH(Display4!$G$2,B82)+LEN(Display4!$G$2)+2))&RIGHT(B82,LEN(B82)-(SEARCH(Display4!$G$2,B82)+LEN(Display4!$G$2)+2))+Display4!$J$3","v":"P.US.EPU1726350"}]
[{"$f":"IF(OR(ISTEXT(RTD(\"cqg.rtd\",,\"OrderData\",\"\"&B82&\"\",\"\",\"OpenPosition\",\"\"&Display4!$D$3&\"\")),RTD(\"cqg.rtd\",,\"OrderData\",\"\"&B82&\"\",\"\",\"OpenPosition\",\"\"&Display4!$D$3&\"\")=0),A81+0.001,INT(A81)+1)","v":8.2000000000000059E-2},{"$f":"(LEFT(B83,SEARCH(Display4!$G$2,B83)+LEN(Display4!$G$2)+2))&RIGHT(B83,LEN(B83)-(SEARCH(Display4!$G$2,B83)+LEN(Display4!$G$2)+2))+Display4!$J$3","v":"P.US.EPU1726300"}]
[{"$f":"IF(OR(ISTEXT(RTD(\"cqg.rtd\",,\"OrderData\",\"\"&B83&\"\",\"\",\"OpenPosition\",\"\"&Display4!$D$3&\"\")),RTD(\"cqg.rtd\",,\"OrderData\",\"\"&B83&\"\",\"\",\"OpenPosition\",\"\"&Display4!$D$3&\"\")=0),A82+0.001,INT(A82)+1)","v":8.300000000000006E-2},{"$f":"(LEFT(B84,SEARCH(Display4!$G$2,B84)+LEN(Display4!$G$2)+2))&RIGHT(B84,LEN(B84)-(SEARCH(Display4!$G$2,B84)+LEN(Display4!$G$2)+2))+Display4!$J$3","v":"P.US.EPU1726250"}]
[{"$f":"IF(OR(ISTEXT(RTD(\"cqg.rtd\",,\"OrderData\",\"\"&B84&\"\",\"\",\"OpenPosition\",\"\"&Display4!$D$3&\"\")),RTD(\"cqg.rtd\",,\"OrderData\",\"\"&B84&\"\",\"\",\"OpenPosition\",\"\"&Display4!$D$3&\"\")=0),A83+0.001,INT(A83)+1)","v":8.4000000000000061E-2},{"$f":"(LEFT(B85,SEARCH(Display4!$G$2,B85)+LEN(Display4!$G$2)+2))&RIGHT(B85,LEN(B85)-(SEARCH(Display4!$G$2,B85)+LEN(Display4!$G$2)+2))+Display4!$J$3","v":"P.US.EPU1726200"}]
[{"$f":"IF(OR(ISTEXT(RTD(\"cqg.rtd\",,\"OrderData\",\"\"&B85&\"\",\"\",\"OpenPosition\",\"\"&Display4!$D$3&\"\")),RTD(\"cqg.rtd\",,\"OrderData\",\"\"&B85&\"\",\"\",\"OpenPosition\",\"\"&Display4!$D$3&\"\")=0),A84+0.001,INT(A84)+1)","v":8.5000000000000062E-2},{"$f":"(LEFT(B86,SEARCH(Display4!$G$2,B86)+LEN(Display4!$G$2)+2))&RIGHT(B86,LEN(B86)-(SEARCH(Display4!$G$2,B86)+LEN(Display4!$G$2)+2))+Display4!$J$3","v":"P.US.EPU1726150"}]
[{"$f":"IF(OR(ISTEXT(RTD(\"cqg.rtd\",,\"OrderData\",\"\"&B86&\"\",\"\",\"OpenPosition\",\"\"&Display4!$D$3&\"\")),RTD(\"cqg.rtd\",,\"OrderData\",\"\"&B86&\"\",\"\",\"OpenPosition\",\"\"&Display4!$D$3&\"\")=0),A85+0.001,INT(A85)+1)","v":8.6000000000000063E-2},{"$f":"(LEFT(B87,SEARCH(Display4!$G$2,B87)+LEN(Display4!$G$2)+2))&RIGHT(B87,LEN(B87)-(SEARCH(Display4!$G$2,B87)+LEN(Display4!$G$2)+2))+Display4!$J$3","v":"P.US.EPU1726100"}]
[{"$f":"IF(OR(ISTEXT(RTD(\"cqg.rtd\",,\"OrderData\",\"\"&B87&\"\",\"\",\"OpenPosition\",\"\"&Display4!$D$3&\"\")),RTD(\"cqg.rtd\",,\"OrderData\",\"\"&B87&\"\",\"\",\"OpenPosition\",\"\"&Display4!$D$3&\"\")=0),A86+0.001,INT(A86)+1)","v":8.7000000000000063E-2},{"$f":"(LEFT(B88,SEARCH(Display4!$G$2,B88)+LEN(Display4!$G$2)+2))&RIGHT(B88,LEN(B88)-(SEARCH(Display4!$G$2,B88)+LEN(Display4!$G$2)+2))+Display4!$J$3","v":"P.US.EPU1726050"}]
[{"$f":"IF(OR(ISTEXT(RTD(\"cqg.rtd\",,\"OrderData\",\"\"&B88&\"\",\"\",\"OpenPosition\",\"\"&Display4!$D$3&\"\")),RTD(\"cqg.rtd\",,\"OrderData\",\"\"&B88&\"\",\"\",\"OpenPosition\",\"\"&Display4!$D$3&\"\")=0),A87+0.001,INT(A87)+1)","v":8.8000000000000064E-2},{"$f":"(LEFT(B89,SEARCH(Display4!$G$2,B89)+LEN(Display4!$G$2)+2))&RIGHT(B89,LEN(B89)-(SEARCH(Display4!$G$2,B89)+LEN(Display4!$G$2)+2))+Display4!$J$3","v":"P.US.EPU1726000"}]
[{"$f":"IF(OR(ISTEXT(RTD(\"cqg.rtd\",,\"OrderData\",\"\"&B89&\"\",\"\",\"OpenPosition\",\"\"&Display4!$D$3&\"\")),RTD(\"cqg.rtd\",,\"OrderData\",\"\"&B89&\"\",\"\",\"OpenPosition\",\"\"&Display4!$D$3&\"\")=0),A88+0.001,INT(A88)+1)","v":8.9000000000000065E-2},{"$f":"(LEFT(B90,SEARCH(Display4!$G$2,B90)+LEN(Display4!$G$2)+2))&RIGHT(B90,LEN(B90)-(SEARCH(Display4!$G$2,B90)+LEN(Display4!$G$2)+2))+Display4!$J$3","v":"P.US.EPU1725950"}]
[{"$f":"IF(OR(ISTEXT(RTD(\"cqg.rtd\",,\"OrderData\",\"\"&B90&\"\",\"\",\"OpenPosition\",\"\"&Display4!$D$3&\"\")),RTD(\"cqg.rtd\",,\"OrderData\",\"\"&B90&\"\",\"\",\"OpenPosition\",\"\"&Display4!$D$3&\"\")=0),A89+0.001,INT(A89)+1)","v":9.0000000000000066E-2},{"$f":"(LEFT(B91,SEARCH(Display4!$G$2,B91)+LEN(Display4!$G$2)+2))&RIGHT(B91,LEN(B91)-(SEARCH(Display4!$G$2,B91)+LEN(Display4!$G$2)+2))+Display4!$J$3","v":"P.US.EPU1725900"}]
[{"$f":"IF(OR(ISTEXT(RTD(\"cqg.rtd\",,\"OrderData\",\"\"&B91&\"\",\"\",\"OpenPosition\",\"\"&Display4!$D$3&\"\")),RTD(\"cqg.rtd\",,\"OrderData\",\"\"&B91&\"\",\"\",\"OpenPosition\",\"\"&Display4!$D$3&\"\")=0),A90+0.001,INT(A90)+1)","v":9.1000000000000067E-2},{"$f":"(LEFT(B92,SEARCH(Display4!$G$2,B92)+LEN(Display4!$G$2)+2))&RIGHT(B92,LEN(B92)-(SEARCH(Display4!$G$2,B92)+LEN(Display4!$G$2)+2))+Display4!$J$3","v":"P.US.EPU1725850"}]
[{"$f":"IF(OR(ISTEXT(RTD(\"cqg.rtd\",,\"OrderData\",\"\"&B92&\"\",\"\",\"OpenPosition\",\"\"&Display4!$D$3&\"\")),RTD(\"cqg.rtd\",,\"OrderData\",\"\"&B92&\"\",\"\",\"OpenPosition\",\"\"&Display4!$D$3&\"\")=0),A91+0.001,INT(A91)+1)","v":9.2000000000000068E-2},{"$f":"(LEFT(B93,SEARCH(Display4!$G$2,B93)+LEN(Display4!$G$2)+2))&RIGHT(B93,LEN(B93)-(SEARCH(Display4!$G$2,B93)+LEN(Display4!$G$2)+2))+Display4!$J$3","v":"P.US.EPU1725800"}]
[{"$f":"IF(OR(ISTEXT(RTD(\"cqg.rtd\",,\"OrderData\",\"\"&B93&\"\",\"\",\"OpenPosition\",\"\"&Display4!$D$3&\"\")),RTD(\"cqg.rtd\",,\"OrderData\",\"\"&B93&\"\",\"\",\"OpenPosition\",\"\"&Display4!$D$3&\"\")=0),A92+0.001,INT(A92)+1)","v":9.3000000000000069E-2},{"$f":"(LEFT(B94,SEARCH(Display4!$G$2,B94)+LEN(Display4!$G$2)+2))&RIGHT(B94,LEN(B94)-(SEARCH(Display4!$G$2,B94)+LEN(Display4!$G$2)+2))+Display4!$J$3","v":"P.US.EPU1725750"}]
[{"$f":"IF(OR(ISTEXT(RTD(\"cqg.rtd\",,\"OrderData\",\"\"&B94&\"\",\"\",\"OpenPosition\",\"\"&Display4!$D$3&\"\")),RTD(\"cqg.rtd\",,\"OrderData\",\"\"&B94&\"\",\"\",\"OpenPosition\",\"\"&Display4!$D$3&\"\")=0),A93+0.001,INT(A93)+1)","v":9.400000000000007E-2},{"$f":"(LEFT(B95,SEARCH(Display4!$G$2,B95)+LEN(Display4!$G$2)+2))&RIGHT(B95,LEN(B95)-(SEARCH(Display4!$G$2,B95)+LEN(Display4!$G$2)+2))+Display4!$J$3","v":"P.US.EPU1725700"}]
[{"$f":"IF(OR(ISTEXT(RTD(\"cqg.rtd\",,\"OrderData\",\"\"&B95&\"\",\"\",\"OpenPosition\",\"\"&Display4!$D$3&\"\")),RTD(\"cqg.rtd\",,\"OrderData\",\"\"&B95&\"\",\"\",\"OpenPosition\",\"\"&Display4!$D$3&\"\")=0),A94+0.001,INT(A94)+1)","v":9.500000000000007E-2},{"$f":"(LEFT(B96,SEARCH(Display4!$G$2,B96)+LEN(Display4!$G$2)+2))&RIGHT(B96,LEN(B96)-(SEARCH(Display4!$G$2,B96)+LEN(Display4!$G$2)+2))+Display4!$J$3","v":"P.US.EPU1725650"}]
[{"$f":"IF(OR(ISTEXT(RTD(\"cqg.rtd\",,\"OrderData\",\"\"&B96&\"\",\"\",\"OpenPosition\",\"\"&Display4!$D$3&\"\")),RTD(\"cqg.rtd\",,\"OrderData\",\"\"&B96&\"\",\"\",\"OpenPosition\",\"\"&Display4!$D$3&\"\")=0),A95+0.001,INT(A95)+1)","v":9.6000000000000071E-2},{"$f":"(LEFT(B97,SEARCH(Display4!$G$2,B97)+LEN(Display4!$G$2)+2))&RIGHT(B97,LEN(B97)-(SEARCH(Display4!$G$2,B97)+LEN(Display4!$G$2)+2))+Display4!$J$3","v":"P.US.EPU1725600"}]
[{"$f":"IF(OR(ISTEXT(RTD(\"cqg.rtd\",,\"OrderData\",\"\"&B97&\"\",\"\",\"OpenPosition\",\"\"&Display4!$D$3&\"\")),RTD(\"cqg.rtd\",,\"OrderData\",\"\"&B97&\"\",\"\",\"OpenPosition\",\"\"&Display4!$D$3&\"\")=0),A96+0.001,INT(A96)+1)","v":9.7000000000000072E-2},{"$f":"(LEFT(B98,SEARCH(Display4!$G$2,B98)+LEN(Display4!$G$2)+2))&RIGHT(B98,LEN(B98)-(SEARCH(Display4!$G$2,B98)+LEN(Display4!$G$2)+2))+Display4!$J$3","v":"P.US.EPU1725550"}]
[{"$f":"IF(OR(ISTEXT(RTD(\"cqg.rtd\",,\"OrderData\",\"\"&B98&\"\",\"\",\"OpenPosition\",\"\"&Display4!$D$3&\"\")),RTD(\"cqg.rtd\",,\"OrderData\",\"\"&B98&\"\",\"\",\"OpenPosition\",\"\"&Display4!$D$3&\"\")=0),A97+0.001,INT(A97)+1)","v":9.8000000000000073E-2},{"$f":"(LEFT(B99,SEARCH(Display4!$G$2,B99)+LEN(Display4!$G$2)+2))&RIGHT(B99,LEN(B99)-(SEARCH(Display4!$G$2,B99)+LEN(Display4!$G$2)+2))+Display4!$J$3","v":"P.US.EPU1725500"}]
[{"$f":"IF(OR(ISTEXT(RTD(\"cqg.rtd\",,\"OrderData\",\"\"&B99&\"\",\"\",\"OpenPosition\",\"\"&Display4!$D$3&\"\")),RTD(\"cqg.rtd\",,\"OrderData\",\"\"&B99&\"\",\"\",\"OpenPosition\",\"\"&Display4!$D$3&\"\")=0),A98+0.001,INT(A98)+1)","v":9.9000000000000074E-2},{"$f":"(LEFT(B100,SEARCH(Display4!$G$2,B100)+LEN(Display4!$G$2)+2))&RIGHT(B100,LEN(B100)-(SEARCH(Display4!$G$2,B100)+LEN(Display4!$G$2)+2))+Display4!$J$3","v":"P.US.EPU1725450"}]
[{"$f":"IF(OR(ISTEXT(RTD(\"cqg.rtd\",,\"OrderData\",\"\"&B100&\"\",\"\",\"OpenPosition\",\"\"&Display4!$D$3&\"\")),RTD(\"cqg.rtd\",,\"OrderData\",\"\"&B100&\"\",\"\",\"OpenPosition\",\"\"&Display4!$D$3&\"\")=0),A99+0.001,INT(A99)+1)","v":0.10000000000000007},{"$f":"(LEFT(B101,SEARCH(Display4!$G$2,B101)+LEN(Display4!$G$2)+2))&RIGHT(B101,LEN(B101)-(SEARCH(Display4!$G$2,B101)+LEN(Display4!$G$2)+2))+Display4!$J$3","v":"P.US.EPU1725400"}]
[{"$f":"IF(OR(ISTEXT(RTD(\"cqg.rtd\",,\"OrderData\",\"\"&B101&\"\",\"\",\"OpenPosition\",\"\"&Display4!$D$3&\"\")),RTD(\"cqg.rtd\",,\"OrderData\",\"\"&B101&\"\",\"\",\"OpenPosition\",\"\"&Display4!$D$3&\"\")=0),A100+0.001,INT(A100)+1)","v":0.10100000000000008},{"$f":"(LEFT(B102,SEARCH(Display4!$G$2,B102)+LEN(Display4!$G$2)+2))&RIGHT(B102,LEN(B102)-(SEARCH(Display4!$G$2,B102)+LEN(Display4!$G$2)+2))+Display4!$J$3","v":"P.US.EPU1725350"}]
[{"$f":"IF(OR(ISTEXT(RTD(\"cqg.rtd\",,\"OrderData\",\"\"&B102&\"\",\"\",\"OpenPosition\",\"\"&Display4!$D$3&\"\")),RTD(\"cqg.rtd\",,\"OrderData\",\"\"&B102&\"\",\"\",\"OpenPosition\",\"\"&Display4!$D$3&\"\")=0),A101+0.001,INT(A101)+1)","v":0.10200000000000008},{"$f":"(LEFT(B103,SEARCH(Display4!$G$2,B103)+LEN(Display4!$G$2)+2))&RIGHT(B103,LEN(B103)-(SEARCH(Display4!$G$2,B103)+LEN(Display4!$G$2)+2))+Display4!$J$3","v":"P.US.EPU1725300"}]
[{"$f":"IF(OR(ISTEXT(RTD(\"cqg.rtd\",,\"OrderData\",\"\"&B103&\"\",\"\",\"OpenPosition\",\"\"&Display4!$D$3&\"\")),RTD(\"cqg.rtd\",,\"OrderData\",\"\"&B103&\"\",\"\",\"OpenPosition\",\"\"&Display4!$D$3&\"\")=0),A102+0.001,INT(A102)+1)","v":0.10300000000000008},{"$f":"(LEFT(B104,SEARCH(Display4!$G$2,B104)+LEN(Display4!$G$2)+2))&RIGHT(B104,LEN(B104)-(SEARCH(Display4!$G$2,B104)+LEN(Display4!$G$2)+2))+Display4!$J$3","v":"P.US.EPU1725250"}]
[{"$f":"IF(OR(ISTEXT(RTD(\"cqg.rtd\",,\"OrderData\",\"\"&B104&\"\",\"\",\"OpenPosition\",\"\"&Display4!$D$3&\"\")),RTD(\"cqg.rtd\",,\"OrderData\",\"\"&B104&\"\",\"\",\"OpenPosition\",\"\"&Display4!$D$3&\"\")=0),A103+0.001,INT(A103)+1)","v":0.10400000000000008},{"$f":"(LEFT(B105,SEARCH(Display4!$G$2,B105)+LEN(Display4!$G$2)+2))&RIGHT(B105,LEN(B105)-(SEARCH(Display4!$G$2,B105)+LEN(Display4!$G$2)+2))+Display4!$J$3","v":"P.US.EPU1725200"}]
[{"$f":"IF(OR(ISTEXT(RTD(\"cqg.rtd\",,\"OrderData\",\"\"&B105&\"\",\"\",\"OpenPosition\",\"\"&Display4!$D$3&\"\")),RTD(\"cqg.rtd\",,\"OrderData\",\"\"&B105&\"\",\"\",\"OpenPosition\",\"\"&Display4!$D$3&\"\")=0),A104+0.001,INT(A104)+1)","v":0.10500000000000008},{"$f":"(LEFT(B106,SEARCH(Display4!$G$2,B106)+LEN(Display4!$G$2)+2))&RIGHT(B106,LEN(B106)-(SEARCH(Display4!$G$2,B106)+LEN(Display4!$G$2)+2))+Display4!$J$3","v":"P.US.EPU1725150"}]
[{"$f":"IF(OR(ISTEXT(RTD(\"cqg.rtd\",,\"OrderData\",\"\"&B106&\"\",\"\",\"OpenPosition\",\"\"&Display4!$D$3&\"\")),RTD(\"cqg.rtd\",,\"OrderData\",\"\"&B106&\"\",\"\",\"OpenPosition\",\"\"&Display4!$D$3&\"\")=0),A105+0.001,INT(A105)+1)","v":0.10600000000000008},{"$f":"(LEFT(B107,SEARCH(Display4!$G$2,B107)+LEN(Display4!$G$2)+2))&RIGHT(B107,LEN(B107)-(SEARCH(Display4!$G$2,B107)+LEN(Display4!$G$2)+2))+Display4!$J$3","v":"P.US.EPU1725100"}]
[{"$f":"IF(OR(ISTEXT(RTD(\"cqg.rtd\",,\"OrderData\",\"\"&B107&\"\",\"\",\"OpenPosition\",\"\"&Display4!$D$3&\"\")),RTD(\"cqg.rtd\",,\"OrderData\",\"\"&B107&\"\",\"\",\"OpenPosition\",\"\"&Display4!$D$3&\"\")=0),A106+0.001,INT(A106)+1)","v":0.10700000000000008},{"$f":"(LEFT(B108,SEARCH(Display4!$G$2,B108)+LEN(Display4!$G$2)+2))&RIGHT(B108,LEN(B108)-(SEARCH(Display4!$G$2,B108)+LEN(Display4!$G$2)+2))+Display4!$J$3","v":"P.US.EPU1725050"}]
[{"$f":"IF(OR(ISTEXT(RTD(\"cqg.rtd\",,\"OrderData\",\"\"&B108&\"\",\"\",\"OpenPosition\",\"\"&Display4!$D$3&\"\")),RTD(\"cqg.rtd\",,\"OrderData\",\"\"&B108&\"\",\"\",\"OpenPosition\",\"\"&Display4!$D$3&\"\")=0),A107+0.001,INT(A107)+1)","v":0.10800000000000008},{"$f":"(LEFT(B109,SEARCH(Display4!$G$2,B109)+LEN(Display4!$G$2)+2))&RIGHT(B109,LEN(B109)-(SEARCH(Display4!$G$2,B109)+LEN(Display4!$G$2)+2))+Display4!$J$3","v":"P.US.EPU1725000"}]
[{"$f":"IF(OR(ISTEXT(RTD(\"cqg.rtd\",,\"OrderData\",\"\"&B109&\"\",\"\",\"OpenPosition\",\"\"&Display4!$D$3&\"\")),RTD(\"cqg.rtd\",,\"OrderData\",\"\"&B109&\"\",\"\",\"OpenPosition\",\"\"&Display4!$D$3&\"\")=0),A108+0.001,INT(A108)+1)","v":0.10900000000000008},{"$f":"(LEFT(B110,SEARCH(Display4!$G$2,B110)+LEN(Display4!$G$2)+2))&RIGHT(B110,LEN(B110)-(SEARCH(Display4!$G$2,B110)+LEN(Display4!$G$2)+2))+Display4!$J$3","v":"P.US.EPU1724950"}]
[{"$f":"IF(OR(ISTEXT(RTD(\"cqg.rtd\",,\"OrderData\",\"\"&B110&\"\",\"\",\"OpenPosition\",\"\"&Display4!$D$3&\"\")),RTD(\"cqg.rtd\",,\"OrderData\",\"\"&B110&\"\",\"\",\"OpenPosition\",\"\"&Display4!$D$3&\"\")=0),A109+0.001,INT(A109)+1)","v":0.11000000000000008},{"$f":"(LEFT(B111,SEARCH(Display4!$G$2,B111)+LEN(Display4!$G$2)+2))&RIGHT(B111,LEN(B111)-(SEARCH(Display4!$G$2,B111)+LEN(Display4!$G$2)+2))+Display4!$J$3","v":"P.US.EPU1724900"}]
[{"$f":"IF(OR(ISTEXT(RTD(\"cqg.rtd\",,\"OrderData\",\"\"&B111&\"\",\"\",\"OpenPosition\",\"\"&Display4!$D$3&\"\")),RTD(\"cqg.rtd\",,\"OrderData\",\"\"&B111&\"\",\"\",\"OpenPosition\",\"\"&Display4!$D$3&\"\")=0),A110+0.001,INT(A110)+1)","v":0.11100000000000008},{"$f":"(LEFT(B112,SEARCH(Display4!$G$2,B112)+LEN(Display4!$G$2)+2))&RIGHT(B112,LEN(B112)-(SEARCH(Display4!$G$2,B112)+LEN(Display4!$G$2)+2))+Display4!$J$3","v":"P.US.EPU1724850"}]
[{"$f":"IF(OR(ISTEXT(RTD(\"cqg.rtd\",,\"OrderData\",\"\"&B112&\"\",\"\",\"OpenPosition\",\"\"&Display4!$D$3&\"\")),RTD(\"cqg.rtd\",,\"OrderData\",\"\"&B112&\"\",\"\",\"OpenPosition\",\"\"&Display4!$D$3&\"\")=0),A111+0.001,INT(A111)+1)","v":0.11200000000000009},{"$f":"(LEFT(B113,SEARCH(Display4!$G$2,B113)+LEN(Display4!$G$2)+2))&RIGHT(B113,LEN(B113)-(SEARCH(Display4!$G$2,B113)+LEN(Display4!$G$2)+2))+Display4!$J$3","v":"P.US.EPU1724800"}]
[{"$f":"IF(OR(ISTEXT(RTD(\"cqg.rtd\",,\"OrderData\",\"\"&B113&\"\",\"\",\"OpenPosition\",\"\"&Display4!$D$3&\"\")),RTD(\"cqg.rtd\",,\"OrderData\",\"\"&B113&\"\",\"\",\"OpenPosition\",\"\"&Display4!$D$3&\"\")=0),A112+0.001,INT(A112)+1)","v":0.11300000000000009},{"$f":"(LEFT(B114,SEARCH(Display4!$G$2,B114)+LEN(Display4!$G$2)+2))&RIGHT(B114,LEN(B114)-(SEARCH(Display4!$G$2,B114)+LEN(Display4!$G$2)+2))+Display4!$J$3","v":"P.US.EPU1724750"}]
[{"$f":"IF(OR(ISTEXT(RTD(\"cqg.rtd\",,\"OrderData\",\"\"&B114&\"\",\"\",\"OpenPosition\",\"\"&Display4!$D$3&\"\")),RTD(\"cqg.rtd\",,\"OrderData\",\"\"&B114&\"\",\"\",\"OpenPosition\",\"\"&Display4!$D$3&\"\")=0),A113+0.001,INT(A113)+1)","v":0.11400000000000009},{"$f":"(LEFT(B115,SEARCH(Display4!$G$2,B115)+LEN(Display4!$G$2)+2))&RIGHT(B115,LEN(B115)-(SEARCH(Display4!$G$2,B115)+LEN(Display4!$G$2)+2))+Display4!$J$3","v":"P.US.EPU1724700"}]
[{"$f":"IF(OR(ISTEXT(RTD(\"cqg.rtd\",,\"OrderData\",\"\"&B115&\"\",\"\",\"OpenPosition\",\"\"&Display4!$D$3&\"\")),RTD(\"cqg.rtd\",,\"OrderData\",\"\"&B115&\"\",\"\",\"OpenPosition\",\"\"&Display4!$D$3&\"\")=0),A114+0.001,INT(A114)+1)","v":0.11500000000000009},{"$f":"(LEFT(B116,SEARCH(Display4!$G$2,B116)+LEN(Display4!$G$2)+2))&RIGHT(B116,LEN(B116)-(SEARCH(Display4!$G$2,B116)+LEN(Display4!$G$2)+2))+Display4!$J$3","v":"P.US.EPU1724650"}]
[{"$f":"IF(OR(ISTEXT(RTD(\"cqg.rtd\",,\"OrderData\",\"\"&B116&\"\",\"\",\"OpenPosition\",\"\"&Display4!$D$3&\"\")),RTD(\"cqg.rtd\",,\"OrderData\",\"\"&B116&\"\",\"\",\"OpenPosition\",\"\"&Display4!$D$3&\"\")=0),A115+0.001,INT(A115)+1)","v":0.11600000000000009},{"$f":"(LEFT(B117,SEARCH(Display4!$G$2,B117)+LEN(Display4!$G$2)+2))&RIGHT(B117,LEN(B117)-(SEARCH(Display4!$G$2,B117)+LEN(Display4!$G$2)+2))+Display4!$J$3","v":"P.US.EPU1724600"}]
[{"$f":"IF(OR(ISTEXT(RTD(\"cqg.rtd\",,\"OrderData\",\"\"&B117&\"\",\"\",\"OpenPosition\",\"\"&Display4!$D$3&\"\")),RTD(\"cqg.rtd\",,\"OrderData\",\"\"&B117&\"\",\"\",\"OpenPosition\",\"\"&Display4!$D$3&\"\")=0),A116+0.001,INT(A116)+1)","v":0.11700000000000009},{"$f":"(LEFT(B118,SEARCH(Display4!$G$2,B118)+LEN(Display4!$G$2)+2))&RIGHT(B118,LEN(B118)-(SEARCH(Display4!$G$2,B118)+LEN(Display4!$G$2)+2))+Display4!$J$3","v":"P.US.EPU1724550"}]
[{"$f":"IF(OR(ISTEXT(RTD(\"cqg.rtd\",,\"OrderData\",\"\"&B118&\"\",\"\",\"OpenPosition\",\"\"&Display4!$D$3&\"\")),RTD(\"cqg.rtd\",,\"OrderData\",\"\"&B118&\"\",\"\",\"OpenPosition\",\"\"&Display4!$D$3&\"\")=0),A117+0.001,INT(A117)+1)","v":0.11800000000000009},{"$f":"(LEFT(B119,SEARCH(Display4!$G$2,B119)+LEN(Display4!$G$2)+2))&RIGHT(B119,LEN(B119)-(SEARCH(Display4!$G$2,B119)+LEN(Display4!$G$2)+2))+Display4!$J$3","v":"P.US.EPU1724500"}]
[{"$f":"IF(OR(ISTEXT(RTD(\"cqg.rtd\",,\"OrderData\",\"\"&B119&\"\",\"\",\"OpenPosition\",\"\"&Display4!$D$3&\"\")),RTD(\"cqg.rtd\",,\"OrderData\",\"\"&B119&\"\",\"\",\"OpenPosition\",\"\"&Display4!$D$3&\"\")=0),A118+0.001,INT(A118)+1)","v":0.11900000000000009},{"$f":"(LEFT(B120,SEARCH(Display4!$G$2,B120)+LEN(Display4!$G$2)+2))&RIGHT(B120,LEN(B120)-(SEARCH(Display4!$G$2,B120)+LEN(Display4!$G$2)+2))+Display4!$J$3","v":"P.US.EPU1724450"}]
[{"$f":"IF(OR(ISTEXT(RTD(\"cqg.rtd\",,\"OrderData\",\"\"&B120&\"\",\"\",\"OpenPosition\",\"\"&Display4!$D$3&\"\")),RTD(\"cqg.rtd\",,\"OrderData\",\"\"&B120&\"\",\"\",\"OpenPosition\",\"\"&Display4!$D$3&\"\")=0),A119+0.001,INT(A119)+1)","v":0.12000000000000009},{"$f":"(LEFT(B121,SEARCH(Display4!$G$2,B121)+LEN(Display4!$G$2)+2))&RIGHT(B121,LEN(B121)-(SEARCH(Display4!$G$2,B121)+LEN(Display4!$G$2)+2))+Display4!$J$3","v":"P.US.EPU1724400"}]
[{"$f":"IF(OR(ISTEXT(RTD(\"cqg.rtd\",,\"OrderData\",\"\"&B121&\"\",\"\",\"OpenPosition\",\"\"&Display4!$D$3&\"\")),RTD(\"cqg.rtd\",,\"OrderData\",\"\"&B121&\"\",\"\",\"OpenPosition\",\"\"&Display4!$D$3&\"\")=0),A120+0.001,INT(A120)+1)","v":0.12100000000000009},{"$f":"RTD(\"cqg.rtd\", ,\"ContractData\", \"P.US.\"&Display4!$G$2&Display4!$G$3&\"\", \"Symbol\",, \"T\")","v":"P.US.EPU1724350"}]
[{"$f":"IF(OR(ISTEXT(RTD(\"cqg.rtd\",,\"OrderData\",\"\"&B122&\"\",\"\",\"OpenPosition\",\"\"&Display4!$D$3&\"\")),RTD(\"cqg.rtd\",,\"OrderData\",\"\"&B122&\"\",\"\",\"OpenPosition\",\"\"&Display4!$D$3&\"\")=0),A121+0.001,INT(A121)+1)","v":0.12200000000000009},{"$f":"(LEFT(B121,SEARCH(Display4!$G$2,B121)+LEN(Display4!$G$2)+2))&RIGHT(B121,LEN(B121)-(SEARCH(Display4!$G$2,B121)+LEN(Display4!$G$2)+2))-Display4!$J$3","v":"P.US.EPU1724300"}]
[{"$f":"IF(OR(ISTEXT(RTD(\"cqg.rtd\",,\"OrderData\",\"\"&B123&\"\",\"\",\"OpenPosition\",\"\"&Display4!$D$3&\"\")),RTD(\"cqg.rtd\",,\"OrderData\",\"\"&B123&\"\",\"\",\"OpenPosition\",\"\"&Display4!$D$3&\"\")=0),A122+0.001,INT(A122)+1)","v":0.1230000000000001},{"$f":"(LEFT(B122,SEARCH(Display4!$G$2,B122)+LEN(Display4!$G$2)+2))&RIGHT(B122,LEN(B122)-(SEARCH(Display4!$G$2,B122)+LEN(Display4!$G$2)+2))-Display4!$J$3","v":"P.US.EPU1724250"}]
[{"$f":"IF(OR(ISTEXT(RTD(\"cqg.rtd\",,\"OrderData\",\"\"&B124&\"\",\"\",\"OpenPosition\",\"\"&Display4!$D$3&\"\")),RTD(\"cqg.rtd\",,\"OrderData\",\"\"&B124&\"\",\"\",\"OpenPosition\",\"\"&Display4!$D$3&\"\")=0),A123+0.001,INT(A123)+1)","v":0.1240000000000001},{"$f":"(LEFT(B123,SEARCH(Display4!$G$2,B123)+LEN(Display4!$G$2)+2))&RIGHT(B123,LEN(B123)-(SEARCH(Display4!$G$2,B123)+LEN(Display4!$G$2)+2))-Display4!$J$3","v":"P.US.EPU1724200"}]
[{"$f":"IF(OR(ISTEXT(RTD(\"cqg.rtd\",,\"OrderData\",\"\"&B125&\"\",\"\",\"OpenPosition\",\"\"&Display4!$D$3&\"\")),RTD(\"cqg.rtd\",,\"OrderData\",\"\"&B125&\"\",\"\",\"OpenPosition\",\"\"&Display4!$D$3&\"\")=0),A124+0.001,INT(A124)+1)","v":0.12500000000000008},{"$f":"(LEFT(B124,SEARCH(Display4!$G$2,B124)+LEN(Display4!$G$2)+2))&RIGHT(B124,LEN(B124)-(SEARCH(Display4!$G$2,B124)+LEN(Display4!$G$2)+2))-Display4!$J$3","v":"P.US.EPU1724150"}]
[{"$f":"IF(OR(ISTEXT(RTD(\"cqg.rtd\",,\"OrderData\",\"\"&B126&\"\",\"\",\"OpenPosition\",\"\"&Display4!$D$3&\"\")),RTD(\"cqg.rtd\",,\"OrderData\",\"\"&B126&\"\",\"\",\"OpenPosition\",\"\"&Display4!$D$3&\"\")=0),A125+0.001,INT(A125)+1)","v":0.12600000000000008},{"$f":"(LEFT(B125,SEARCH(Display4!$G$2,B125)+LEN(Display4!$G$2)+2))&RIGHT(B125,LEN(B125)-(SEARCH(Display4!$G$2,B125)+LEN(Display4!$G$2)+2))-Display4!$J$3","v":"P.US.EPU1724100"}]
[{"$f":"IF(OR(ISTEXT(RTD(\"cqg.rtd\",,\"OrderData\",\"\"&B127&\"\",\"\",\"OpenPosition\",\"\"&Display4!$D$3&\"\")),RTD(\"cqg.rtd\",,\"OrderData\",\"\"&B127&\"\",\"\",\"OpenPosition\",\"\"&Display4!$D$3&\"\")=0),A126+0.001,INT(A126)+1)","v":0.12700000000000009},{"$f":"(LEFT(B126,SEARCH(Display4!$G$2,B126)+LEN(Display4!$G$2)+2))&RIGHT(B126,LEN(B126)-(SEARCH(Display4!$G$2,B126)+LEN(Display4!$G$2)+2))-Display4!$J$3","v":"P.US.EPU1724050"}]
[{"$f":"IF(OR(ISTEXT(RTD(\"cqg.rtd\",,\"OrderData\",\"\"&B128&\"\",\"\",\"OpenPosition\",\"\"&Display4!$D$3&\"\")),RTD(\"cqg.rtd\",,\"OrderData\",\"\"&B128&\"\",\"\",\"OpenPosition\",\"\"&Display4!$D$3&\"\")=0),A127+0.001,INT(A127)+1)","v":0.12800000000000009},{"$f":"(LEFT(B127,SEARCH(Display4!$G$2,B127)+LEN(Display4!$G$2)+2))&RIGHT(B127,LEN(B127)-(SEARCH(Display4!$G$2,B127)+LEN(Display4!$G$2)+2))-Display4!$J$3","v":"P.US.EPU1724000"}]
[{"$f":"IF(OR(ISTEXT(RTD(\"cqg.rtd\",,\"OrderData\",\"\"&B129&\"\",\"\",\"OpenPosition\",\"\"&Display4!$D$3&\"\")),RTD(\"cqg.rtd\",,\"OrderData\",\"\"&B129&\"\",\"\",\"OpenPosition\",\"\"&Display4!$D$3&\"\")=0),A128+0.001,INT(A128)+1)","v":0.12900000000000009},{"$f":"(LEFT(B128,SEARCH(Display4!$G$2,B128)+LEN(Display4!$G$2)+2))&RIGHT(B128,LEN(B128)-(SEARCH(Display4!$G$2,B128)+LEN(Display4!$G$2)+2))-Display4!$J$3","v":"P.US.EPU1723950"}]
[{"$f":"IF(OR(ISTEXT(RTD(\"cqg.rtd\",,\"OrderData\",\"\"&B130&\"\",\"\",\"OpenPosition\",\"\"&Display4!$D$3&\"\")),RTD(\"cqg.rtd\",,\"OrderData\",\"\"&B130&\"\",\"\",\"OpenPosition\",\"\"&Display4!$D$3&\"\")=0),A129+0.001,INT(A129)+1)","v":0.13000000000000009},{"$f":"(LEFT(B129,SEARCH(Display4!$G$2,B129)+LEN(Display4!$G$2)+2))&RIGHT(B129,LEN(B129)-(SEARCH(Display4!$G$2,B129)+LEN(Display4!$G$2)+2))-Display4!$J$3","v":"P.US.EPU1723900"}]
[{"$f":"IF(OR(ISTEXT(RTD(\"cqg.rtd\",,\"OrderData\",\"\"&B131&\"\",\"\",\"OpenPosition\",\"\"&Display4!$D$3&\"\")),RTD(\"cqg.rtd\",,\"OrderData\",\"\"&B131&\"\",\"\",\"OpenPosition\",\"\"&Display4!$D$3&\"\")=0),A130+0.001,INT(A130)+1)","v":0.13100000000000009},{"$f":"(LEFT(B130,SEARCH(Display4!$G$2,B130)+LEN(Display4!$G$2)+2))&RIGHT(B130,LEN(B130)-(SEARCH(Display4!$G$2,B130)+LEN(Display4!$G$2)+2))-Display4!$J$3","v":"P.US.EPU1723850"}]
[{"$f":"IF(OR(ISTEXT(RTD(\"cqg.rtd\",,\"OrderData\",\"\"&B132&\"\",\"\",\"OpenPosition\",\"\"&Display4!$D$3&\"\")),RTD(\"cqg.rtd\",,\"OrderData\",\"\"&B132&\"\",\"\",\"OpenPosition\",\"\"&Display4!$D$3&\"\")=0),A131+0.001,INT(A131)+1)","v":0.13200000000000009},{"$f":"(LEFT(B131,SEARCH(Display4!$G$2,B131)+LEN(Display4!$G$2)+2))&RIGHT(B131,LEN(B131)-(SEARCH(Display4!$G$2,B131)+LEN(Display4!$G$2)+2))-Display4!$J$3","v":"P.US.EPU1723800"}]
[{"$f":"IF(OR(ISTEXT(RTD(\"cqg.rtd\",,\"OrderData\",\"\"&B133&\"\",\"\",\"OpenPosition\",\"\"&Display4!$D$3&\"\")),RTD(\"cqg.rtd\",,\"OrderData\",\"\"&B133&\"\",\"\",\"OpenPosition\",\"\"&Display4!$D$3&\"\")=0),A132+0.001,INT(A132)+1)","v":0.13300000000000009},{"$f":"(LEFT(B132,SEARCH(Display4!$G$2,B132)+LEN(Display4!$G$2)+2))&RIGHT(B132,LEN(B132)-(SEARCH(Display4!$G$2,B132)+LEN(Display4!$G$2)+2))-Display4!$J$3","v":"P.US.EPU1723750"}]
[{"$f":"IF(OR(ISTEXT(RTD(\"cqg.rtd\",,\"OrderData\",\"\"&B134&\"\",\"\",\"OpenPosition\",\"\"&Display4!$D$3&\"\")),RTD(\"cqg.rtd\",,\"OrderData\",\"\"&B134&\"\",\"\",\"OpenPosition\",\"\"&Display4!$D$3&\"\")=0),A133+0.001,INT(A133)+1)","v":0.13400000000000009},{"$f":"(LEFT(B133,SEARCH(Display4!$G$2,B133)+LEN(Display4!$G$2)+2))&RIGHT(B133,LEN(B133)-(SEARCH(Display4!$G$2,B133)+LEN(Display4!$G$2)+2))-Display4!$J$3","v":"P.US.EPU1723700"}]
[{"$f":"IF(OR(ISTEXT(RTD(\"cqg.rtd\",,\"OrderData\",\"\"&B135&\"\",\"\",\"OpenPosition\",\"\"&Display4!$D$3&\"\")),RTD(\"cqg.rtd\",,\"OrderData\",\"\"&B135&\"\",\"\",\"OpenPosition\",\"\"&Display4!$D$3&\"\")=0),A134+0.001,INT(A134)+1)","v":0.13500000000000009},{"$f":"(LEFT(B134,SEARCH(Display4!$G$2,B134)+LEN(Display4!$G$2)+2))&RIGHT(B134,LEN(B134)-(SEARCH(Display4!$G$2,B134)+LEN(Display4!$G$2)+2))-Display4!$J$3","v":"P.US.EPU1723650"}]
[{"$f":"IF(OR(ISTEXT(RTD(\"cqg.rtd\",,\"OrderData\",\"\"&B136&\"\",\"\",\"OpenPosition\",\"\"&Display4!$D$3&\"\")),RTD(\"cqg.rtd\",,\"OrderData\",\"\"&B136&\"\",\"\",\"OpenPosition\",\"\"&Display4!$D$3&\"\")=0),A135+0.001,INT(A135)+1)","v":0.13600000000000009},{"$f":"(LEFT(B135,SEARCH(Display4!$G$2,B135)+LEN(Display4!$G$2)+2))&RIGHT(B135,LEN(B135)-(SEARCH(Display4!$G$2,B135)+LEN(Display4!$G$2)+2))-Display4!$J$3","v":"P.US.EPU1723600"}]
[{"$f":"IF(OR(ISTEXT(RTD(\"cqg.rtd\",,\"OrderData\",\"\"&B137&\"\",\"\",\"OpenPosition\",\"\"&Display4!$D$3&\"\")),RTD(\"cqg.rtd\",,\"OrderData\",\"\"&B137&\"\",\"\",\"OpenPosition\",\"\"&Display4!$D$3&\"\")=0),A136+0.001,INT(A136)+1)","v":0.13700000000000009},{"$f":"(LEFT(B136,SEARCH(Display4!$G$2,B136)+LEN(Display4!$G$2)+2))&RIGHT(B136,LEN(B136)-(SEARCH(Display4!$G$2,B136)+LEN(Display4!$G$2)+2))-Display4!$J$3","v":"P.US.EPU1723550"}]
[{"$f":"IF(OR(ISTEXT(RTD(\"cqg.rtd\",,\"OrderData\",\"\"&B138&\"\",\"\",\"OpenPosition\",\"\"&Display4!$D$3&\"\")),RTD(\"cqg.rtd\",,\"OrderData\",\"\"&B138&\"\",\"\",\"OpenPosition\",\"\"&Display4!$D$3&\"\")=0),A137+0.001,INT(A137)+1)","v":0.13800000000000009},{"$f":"(LEFT(B137,SEARCH(Display4!$G$2,B137)+LEN(Display4!$G$2)+2))&RIGHT(B137,LEN(B137)-(SEARCH(Display4!$G$2,B137)+LEN(Display4!$G$2)+2))-Display4!$J$3","v":"P.US.EPU1723500"}]
[{"$f":"IF(OR(ISTEXT(RTD(\"cqg.rtd\",,\"OrderData\",\"\"&B139&\"\",\"\",\"OpenPosition\",\"\"&Display4!$D$3&\"\")),RTD(\"cqg.rtd\",,\"OrderData\",\"\"&B139&\"\",\"\",\"OpenPosition\",\"\"&Display4!$D$3&\"\")=0),A138+0.001,INT(A138)+1)","v":0.1390000000000001},{"$f":"(LEFT(B138,SEARCH(Display4!$G$2,B138)+LEN(Display4!$G$2)+2))&RIGHT(B138,LEN(B138)-(SEARCH(Display4!$G$2,B138)+LEN(Display4!$G$2)+2))-Display4!$J$3","v":"P.US.EPU1723450"}]
[{"$f":"IF(OR(ISTEXT(RTD(\"cqg.rtd\",,\"OrderData\",\"\"&B140&\"\",\"\",\"OpenPosition\",\"\"&Display4!$D$3&\"\")),RTD(\"cqg.rtd\",,\"OrderData\",\"\"&B140&\"\",\"\",\"OpenPosition\",\"\"&Display4!$D$3&\"\")=0),A139+0.001,INT(A139)+1)","v":0.1400000000000001},{"$f":"(LEFT(B139,SEARCH(Display4!$G$2,B139)+LEN(Display4!$G$2)+2))&RIGHT(B139,LEN(B139)-(SEARCH(Display4!$G$2,B139)+LEN(Display4!$G$2)+2))-Display4!$J$3","v":"P.US.EPU1723400"}]
[{"$f":"IF(OR(ISTEXT(RTD(\"cqg.rtd\",,\"OrderData\",\"\"&B141&\"\",\"\",\"OpenPosition\",\"\"&Display4!$D$3&\"\")),RTD(\"cqg.rtd\",,\"OrderData\",\"\"&B141&\"\",\"\",\"OpenPosition\",\"\"&Display4!$D$3&\"\")=0),A140+0.001,INT(A140)+1)","v":0.1410000000000001},{"$f":"(LEFT(B140,SEARCH(Display4!$G$2,B140)+LEN(Display4!$G$2)+2))&RIGHT(B140,LEN(B140)-(SEARCH(Display4!$G$2,B140)+LEN(Display4!$G$2)+2))-Display4!$J$3","v":"P.US.EPU1723350"}]
[{"$f":"IF(OR(ISTEXT(RTD(\"cqg.rtd\",,\"OrderData\",\"\"&B142&\"\",\"\",\"OpenPosition\",\"\"&Display4!$D$3&\"\")),RTD(\"cqg.rtd\",,\"OrderData\",\"\"&B142&\"\",\"\",\"OpenPosition\",\"\"&Display4!$D$3&\"\")=0),A141+0.001,INT(A141)+1)","v":0.1420000000000001},{"$f":"(LEFT(B141,SEARCH(Display4!$G$2,B141)+LEN(Display4!$G$2)+2))&RIGHT(B141,LEN(B141)-(SEARCH(Display4!$G$2,B141)+LEN(Display4!$G$2)+2))-Display4!$J$3","v":"P.US.EPU1723300"}]
[{"$f":"IF(OR(ISTEXT(RTD(\"cqg.rtd\",,\"OrderData\",\"\"&B143&\"\",\"\",\"OpenPosition\",\"\"&Display4!$D$3&\"\")),RTD(\"cqg.rtd\",,\"OrderData\",\"\"&B143&\"\",\"\",\"OpenPosition\",\"\"&Display4!$D$3&\"\")=0),A142+0.001,INT(A142)+1)","v":0.1430000000000001},{"$f":"(LEFT(B142,SEARCH(Display4!$G$2,B142)+LEN(Display4!$G$2)+2))&RIGHT(B142,LEN(B142)-(SEARCH(Display4!$G$2,B142)+LEN(Display4!$G$2)+2))-Display4!$J$3","v":"P.US.EPU1723250"}]
[{"$f":"IF(OR(ISTEXT(RTD(\"cqg.rtd\",,\"OrderData\",\"\"&B144&\"\",\"\",\"OpenPosition\",\"\"&Display4!$D$3&\"\")),RTD(\"cqg.rtd\",,\"OrderData\",\"\"&B144&\"\",\"\",\"OpenPosition\",\"\"&Display4!$D$3&\"\")=0),A143+0.001,INT(A143)+1)","v":0.1440000000000001},{"$f":"(LEFT(B143,SEARCH(Display4!$G$2,B143)+LEN(Display4!$G$2)+2))&RIGHT(B143,LEN(B143)-(SEARCH(Display4!$G$2,B143)+LEN(Display4!$G$2)+2))-Display4!$J$3","v":"P.US.EPU1723200"}]
[{"$f":"IF(OR(ISTEXT(RTD(\"cqg.rtd\",,\"OrderData\",\"\"&B145&\"\",\"\",\"OpenPosition\",\"\"&Display4!$D$3&\"\")),RTD(\"cqg.rtd\",,\"OrderData\",\"\"&B145&\"\",\"\",\"OpenPosition\",\"\"&Display4!$D$3&\"\")=0),A144+0.001,INT(A144)+1)","v":0.1450000000000001},{"$f":"(LEFT(B144,SEARCH(Display4!$G$2,B144)+LEN(Display4!$G$2)+2))&RIGHT(B144,LEN(B144)-(SEARCH(Display4!$G$2,B144)+LEN(Display4!$G$2)+2))-Display4!$J$3","v":"P.US.EPU1723150"}]
[{"$f":"IF(OR(ISTEXT(RTD(\"cqg.rtd\",,\"OrderData\",\"\"&B146&\"\",\"\",\"OpenPosition\",\"\"&Display4!$D$3&\"\")),RTD(\"cqg.rtd\",,\"OrderData\",\"\"&B146&\"\",\"\",\"OpenPosition\",\"\"&Display4!$D$3&\"\")=0),A145+0.001,INT(A145)+1)","v":0.1460000000000001},{"$f":"(LEFT(B145,SEARCH(Display4!$G$2,B145)+LEN(Display4!$G$2)+2))&RIGHT(B145,LEN(B145)-(SEARCH(Display4!$G$2,B145)+LEN(Display4!$G$2)+2))-Display4!$J$3","v":"P.US.EPU1723100"}]
[{"$f":"IF(OR(ISTEXT(RTD(\"cqg.rtd\",,\"OrderData\",\"\"&B147&\"\",\"\",\"OpenPosition\",\"\"&Display4!$D$3&\"\")),RTD(\"cqg.rtd\",,\"OrderData\",\"\"&B147&\"\",\"\",\"OpenPosition\",\"\"&Display4!$D$3&\"\")=0),A146+0.001,INT(A146)+1)","v":0.1470000000000001},{"$f":"(LEFT(B146,SEARCH(Display4!$G$2,B146)+LEN(Display4!$G$2)+2))&RIGHT(B146,LEN(B146)-(SEARCH(Display4!$G$2,B146)+LEN(Display4!$G$2)+2))-Display4!$J$3","v":"P.US.EPU1723050"}]
[{"$f":"IF(OR(ISTEXT(RTD(\"cqg.rtd\",,\"OrderData\",\"\"&B148&\"\",\"\",\"OpenPosition\",\"\"&Display4!$D$3&\"\")),RTD(\"cqg.rtd\",,\"OrderData\",\"\"&B148&\"\",\"\",\"OpenPosition\",\"\"&Display4!$D$3&\"\")=0),A147+0.001,INT(A147)+1)","v":0.1480000000000001},{"$f":"(LEFT(B147,SEARCH(Display4!$G$2,B147)+LEN(Display4!$G$2)+2))&RIGHT(B147,LEN(B147)-(SEARCH(Display4!$G$2,B147)+LEN(Display4!$G$2)+2))-Display4!$J$3","v":"P.US.EPU1723000"}]
[{"$f":"IF(OR(ISTEXT(RTD(\"cqg.rtd\",,\"OrderData\",\"\"&B149&\"\",\"\",\"OpenPosition\",\"\"&Display4!$D$3&\"\")),RTD(\"cqg.rtd\",,\"OrderData\",\"\"&B149&\"\",\"\",\"OpenPosition\",\"\"&Display4!$D$3&\"\")=0),A148+0.001,INT(A148)+1)","v":0.1490000000000001},{"$f":"(LEFT(B148,SEARCH(Display4!$G$2,B148)+LEN(Display4!$G$2)+2))&RIGHT(B148,LEN(B148)-(SEARCH(Display4!$G$2,B148)+LEN(Display4!$G$2)+2))-Display4!$J$3","v":"P.US.EPU1722950"}]
[{"$f":"IF(OR(ISTEXT(RTD(\"cqg.rtd\",,\"OrderData\",\"\"&B150&\"\",\"\",\"OpenPosition\",\"\"&Display4!$D$3&\"\")),RTD(\"cqg.rtd\",,\"OrderData\",\"\"&B150&\"\",\"\",\"OpenPosition\",\"\"&Display4!$D$3&\"\")=0),A149+0.001,INT(A149)+1)","v":0.15000000000000011},{"$f":"(LEFT(B149,SEARCH(Display4!$G$2,B149)+LEN(Display4!$G$2)+2))&RIGHT(B149,LEN(B149)-(SEARCH(Display4!$G$2,B149)+LEN(Display4!$G$2)+2))-Display4!$J$3","v":"P.US.EPU1722900"}]
[{"$f":"IF(OR(ISTEXT(RTD(\"cqg.rtd\",,\"OrderData\",\"\"&B151&\"\",\"\",\"OpenPosition\",\"\"&Display4!$D$3&\"\")),RTD(\"cqg.rtd\",,\"OrderData\",\"\"&B151&\"\",\"\",\"OpenPosition\",\"\"&Display4!$D$3&\"\")=0),A150+0.001,INT(A150)+1)","v":0.15100000000000011},{"$f":"(LEFT(B150,SEARCH(Display4!$G$2,B150)+LEN(Display4!$G$2)+2))&RIGHT(B150,LEN(B150)-(SEARCH(Display4!$G$2,B150)+LEN(Display4!$G$2)+2))-Display4!$J$3","v":"P.US.EPU1722850"}]
[{"$f":"IF(OR(ISTEXT(RTD(\"cqg.rtd\",,\"OrderData\",\"\"&B152&\"\",\"\",\"OpenPosition\",\"\"&Display4!$D$3&\"\")),RTD(\"cqg.rtd\",,\"OrderData\",\"\"&B152&\"\",\"\",\"OpenPosition\",\"\"&Display4!$D$3&\"\")=0),A151+0.001,INT(A151)+1)","v":0.15200000000000011},{"$f":"(LEFT(B151,SEARCH(Display4!$G$2,B151)+LEN(Display4!$G$2)+2))&RIGHT(B151,LEN(B151)-(SEARCH(Display4!$G$2,B151)+LEN(Display4!$G$2)+2))-Display4!$J$3","v":"P.US.EPU1722800"}]
[{"$f":"IF(OR(ISTEXT(RTD(\"cqg.rtd\",,\"OrderData\",\"\"&B153&\"\",\"\",\"OpenPosition\",\"\"&Display4!$D$3&\"\")),RTD(\"cqg.rtd\",,\"OrderData\",\"\"&B153&\"\",\"\",\"OpenPosition\",\"\"&Display4!$D$3&\"\")=0),A152+0.001,INT(A152)+1)","v":0.15300000000000011},{"$f":"(LEFT(B152,SEARCH(Display4!$G$2,B152)+LEN(Display4!$G$2)+2))&RIGHT(B152,LEN(B152)-(SEARCH(Display4!$G$2,B152)+LEN(Display4!$G$2)+2))-Display4!$J$3","v":"P.US.EPU1722750"}]
[{"$f":"IF(OR(ISTEXT(RTD(\"cqg.rtd\",,\"OrderData\",\"\"&B154&\"\",\"\",\"OpenPosition\",\"\"&Display4!$D$3&\"\")),RTD(\"cqg.rtd\",,\"OrderData\",\"\"&B154&\"\",\"\",\"OpenPosition\",\"\"&Display4!$D$3&\"\")=0),A153+0.001,INT(A153)+1)","v":0.15400000000000011},{"$f":"(LEFT(B153,SEARCH(Display4!$G$2,B153)+LEN(Display4!$G$2)+2))&RIGHT(B153,LEN(B153)-(SEARCH(Display4!$G$2,B153)+LEN(Display4!$G$2)+2))-Display4!$J$3","v":"P.US.EPU1722700"}]
[{"$f":"IF(OR(ISTEXT(RTD(\"cqg.rtd\",,\"OrderData\",\"\"&B155&\"\",\"\",\"OpenPosition\",\"\"&Display4!$D$3&\"\")),RTD(\"cqg.rtd\",,\"OrderData\",\"\"&B155&\"\",\"\",\"OpenPosition\",\"\"&Display4!$D$3&\"\")=0),A154+0.001,INT(A154)+1)","v":0.15500000000000011},{"$f":"(LEFT(B154,SEARCH(Display4!$G$2,B154)+LEN(Display4!$G$2)+2))&RIGHT(B154,LEN(B154)-(SEARCH(Display4!$G$2,B154)+LEN(Display4!$G$2)+2))-Display4!$J$3","v":"P.US.EPU1722650"}]
[{"$f":"IF(OR(ISTEXT(RTD(\"cqg.rtd\",,\"OrderData\",\"\"&B156&\"\",\"\",\"OpenPosition\",\"\"&Display4!$D$3&\"\")),RTD(\"cqg.rtd\",,\"OrderData\",\"\"&B156&\"\",\"\",\"OpenPosition\",\"\"&Display4!$D$3&\"\")=0),A155+0.001,INT(A155)+1)","v":0.15600000000000011},{"$f":"(LEFT(B155,SEARCH(Display4!$G$2,B155)+LEN(Display4!$G$2)+2))&RIGHT(B155,LEN(B155)-(SEARCH(Display4!$G$2,B155)+LEN(Display4!$G$2)+2))-Display4!$J$3","v":"P.US.EPU1722600"}]
[{"$f":"IF(OR(ISTEXT(RTD(\"cqg.rtd\",,\"OrderData\",\"\"&B157&\"\",\"\",\"OpenPosition\",\"\"&Display4!$D$3&\"\")),RTD(\"cqg.rtd\",,\"OrderData\",\"\"&B157&\"\",\"\",\"OpenPosition\",\"\"&Display4!$D$3&\"\")=0),A156+0.001,INT(A156)+1)","v":0.15700000000000011},{"$f":"(LEFT(B156,SEARCH(Display4!$G$2,B156)+LEN(Display4!$G$2)+2))&RIGHT(B156,LEN(B156)-(SEARCH(Display4!$G$2,B156)+LEN(Display4!$G$2)+2))-Display4!$J$3","v":"P.US.EPU1722550"}]
[{"$f":"IF(OR(ISTEXT(RTD(\"cqg.rtd\",,\"OrderData\",\"\"&B158&\"\",\"\",\"OpenPosition\",\"\"&Display4!$D$3&\"\")),RTD(\"cqg.rtd\",,\"OrderData\",\"\"&B158&\"\",\"\",\"OpenPosition\",\"\"&Display4!$D$3&\"\")=0),A157+0.001,INT(A157)+1)","v":0.15800000000000011},{"$f":"(LEFT(B157,SEARCH(Display4!$G$2,B157)+LEN(Display4!$G$2)+2))&RIGHT(B157,LEN(B157)-(SEARCH(Display4!$G$2,B157)+LEN(Display4!$G$2)+2))-Display4!$J$3","v":"P.US.EPU1722500"}]
[{"$f":"IF(OR(ISTEXT(RTD(\"cqg.rtd\",,\"OrderData\",\"\"&B159&\"\",\"\",\"OpenPosition\",\"\"&Display4!$D$3&\"\")),RTD(\"cqg.rtd\",,\"OrderData\",\"\"&B159&\"\",\"\",\"OpenPosition\",\"\"&Display4!$D$3&\"\")=0),A158+0.001,INT(A158)+1)","v":0.15900000000000011},{"$f":"(LEFT(B158,SEARCH(Display4!$G$2,B158)+LEN(Display4!$G$2)+2))&RIGHT(B158,LEN(B158)-(SEARCH(Display4!$G$2,B158)+LEN(Display4!$G$2)+2))-Display4!$J$3","v":"P.US.EPU1722450"}]
[{"$f":"IF(OR(ISTEXT(RTD(\"cqg.rtd\",,\"OrderData\",\"\"&B160&\"\",\"\",\"OpenPosition\",\"\"&Display4!$D$3&\"\")),RTD(\"cqg.rtd\",,\"OrderData\",\"\"&B160&\"\",\"\",\"OpenPosition\",\"\"&Display4!$D$3&\"\")=0),A159+0.001,INT(A159)+1)","v":0.16000000000000011},{"$f":"(LEFT(B159,SEARCH(Display4!$G$2,B159)+LEN(Display4!$G$2)+2))&RIGHT(B159,LEN(B159)-(SEARCH(Display4!$G$2,B159)+LEN(Display4!$G$2)+2))-Display4!$J$3","v":"P.US.EPU1722400"}]
[{"$f":"IF(OR(ISTEXT(RTD(\"cqg.rtd\",,\"OrderData\",\"\"&B161&\"\",\"\",\"OpenPosition\",\"\"&Display4!$D$3&\"\")),RTD(\"cqg.rtd\",,\"OrderData\",\"\"&B161&\"\",\"\",\"OpenPosition\",\"\"&Display4!$D$3&\"\")=0),A160+0.001,INT(A160)+1)","v":0.16100000000000012},{"$f":"(LEFT(B160,SEARCH(Display4!$G$2,B160)+LEN(Display4!$G$2)+2))&RIGHT(B160,LEN(B160)-(SEARCH(Display4!$G$2,B160)+LEN(Display4!$G$2)+2))-Display4!$J$3","v":"P.US.EPU1722350"}]
[{"$f":"IFERROR(IF(OR(ISTEXT(RTD(\"cqg.rtd\",,\"OrderData\",\"\"&B162&\"\",\"\",\"OpenPosition\",\"\"&Display4!$D$3&\"\")),RTD(\"cqg.rtd\",,\"OrderData\",\"\"&B162&\"\",\"\",\"OpenPosition\",\"\"&Display4!$D$3&\"\")=0),A161+0.001,INT(A161)+1),A161)","v":0.16200000000000012},{"$f":"(LEFT(B163,SEARCH(Display4!$G$2,B163)+LEN(Display4!$G$2)+2))&RIGHT(B163,LEN(B163)-(SEARCH(Display4!$G$2,B163)+LEN(Display4!$G$2)+2))+Display4!$J$3","v":"C.US.EPZ1726350"}]
[{"$f":"IFERROR(IF(OR(ISTEXT(RTD(\"cqg.rtd\",,\"OrderData\",\"\"&B163&\"\",\"\",\"OpenPosition\",\"\"&Display4!$D$3&\"\")),RTD(\"cqg.rtd\",,\"OrderData\",\"\"&B163&\"\",\"\",\"OpenPosition\",\"\"&Display4!$D$3&\"\")=0),A162+0.001,INT(A162)+1),A162)","v":0.16300000000000012},{"$f":"(LEFT(B164,SEARCH(Display4!$G$2,B164)+LEN(Display4!$G$2)+2))&RIGHT(B164,LEN(B164)-(SEARCH(Display4!$G$2,B164)+LEN(Display4!$G$2)+2))+Display4!$J$3","v":"C.US.EPZ1726300"}]
[{"$f":"IFERROR(IF(OR(ISTEXT(RTD(\"cqg.rtd\",,\"OrderData\",\"\"&B164&\"\",\"\",\"OpenPosition\",\"\"&Display4!$D$3&\"\")),RTD(\"cqg.rtd\",,\"OrderData\",\"\"&B164&\"\",\"\",\"OpenPosition\",\"\"&Display4!$D$3&\"\")=0),A163+0.001,INT(A163)+1),A163)","v":0.16400000000000012},{"$f":"(LEFT(B165,SEARCH(Display4!$G$2,B165)+LEN(Display4!$G$2)+2))&RIGHT(B165,LEN(B165)-(SEARCH(Display4!$G$2,B165)+LEN(Display4!$G$2)+2))+Display4!$J$3","v":"C.US.EPZ1726250"}]
[{"$f":"IFERROR(IF(OR(ISTEXT(RTD(\"cqg.rtd\",,\"OrderData\",\"\"&B165&\"\",\"\",\"OpenPosition\",\"\"&Display4!$D$3&\"\")),RTD(\"cqg.rtd\",,\"OrderData\",\"\"&B165&\"\",\"\",\"OpenPosition\",\"\"&Display4!$D$3&\"\")=0),A164+0.001,INT(A164)+1),A164)","v":0.16500000000000012},{"$f":"(LEFT(B166,SEARCH(Display4!$G$2,B166)+LEN(Display4!$G$2)+2))&RIGHT(B166,LEN(B166)-(SEARCH(Display4!$G$2,B166)+LEN(Display4!$G$2)+2))+Display4!$J$3","v":"C.US.EPZ1726200"}]
[{"$f":"IFERROR(IF(OR(ISTEXT(RTD(\"cqg.rtd\",,\"OrderData\",\"\"&B166&\"\",\"\",\"OpenPosition\",\"\"&Display4!$D$3&\"\")),RTD(\"cqg.rtd\",,\"OrderData\",\"\"&B166&\"\",\"\",\"OpenPosition\",\"\"&Display4!$D$3&\"\")=0),A165+0.001,INT(A165)+1),A165)","v":0.16600000000000012},{"$f":"(LEFT(B167,SEARCH(Display4!$G$2,B167)+LEN(Display4!$G$2)+2))&RIGHT(B167,LEN(B167)-(SEARCH(Display4!$G$2,B167)+LEN(Display4!$G$2)+2))+Display4!$J$3","v":"C.US.EPZ1726150"}]
[{"$f":"IFERROR(IF(OR(ISTEXT(RTD(\"cqg.rtd\",,\"OrderData\",\"\"&B167&\"\",\"\",\"OpenPosition\",\"\"&Display4!$D$3&\"\")),RTD(\"cqg.rtd\",,\"OrderData\",\"\"&B167&\"\",\"\",\"OpenPosition\",\"\"&Display4!$D$3&\"\")=0),A166+0.001,INT(A166)+1),A166)","v":0.16700000000000012},{"$f":"(LEFT(B168,SEARCH(Display4!$G$2,B168)+LEN(Display4!$G$2)+2))&RIGHT(B168,LEN(B168)-(SEARCH(Display4!$G$2,B168)+LEN(Display4!$G$2)+2))+Display4!$J$3","v":"C.US.EPZ1726100"}]
[{"$f":"IFERROR(IF(OR(ISTEXT(RTD(\"cqg.rtd\",,\"OrderData\",\"\"&B168&\"\",\"\",\"OpenPosition\",\"\"&Display4!$D$3&\"\")),RTD(\"cqg.rtd\",,\"OrderData\",\"\"&B168&\"\",\"\",\"OpenPosition\",\"\"&Display4!$D$3&\"\")=0),A167+0.001,INT(A167)+1),A167)","v":0.16800000000000012},{"$f":"(LEFT(B169,SEARCH(Display4!$G$2,B169)+LEN(Display4!$G$2)+2))&RIGHT(B169,LEN(B169)-(SEARCH(Display4!$G$2,B169)+LEN(Display4!$G$2)+2))+Display4!$J$3","v":"C.US.EPZ1726050"}]
[{"$f":"IFERROR(IF(OR(ISTEXT(RTD(\"cqg.rtd\",,\"OrderData\",\"\"&B169&\"\",\"\",\"OpenPosition\",\"\"&Display4!$D$3&\"\")),RTD(\"cqg.rtd\",,\"OrderData\",\"\"&B169&\"\",\"\",\"OpenPosition\",\"\"&Display4!$D$3&\"\")=0),A168+0.001,INT(A168)+1),A168)","v":0.16900000000000012},{"$f":"(LEFT(B170,SEARCH(Display4!$G$2,B170)+LEN(Display4!$G$2)+2))&RIGHT(B170,LEN(B170)-(SEARCH(Display4!$G$2,B170)+LEN(Display4!$G$2)+2))+Display4!$J$3","v":"C.US.EPZ1726000"}]
[{"$f":"IFERROR(IF(OR(ISTEXT(RTD(\"cqg.rtd\",,\"OrderData\",\"\"&B170&\"\",\"\",\"OpenPosition\",\"\"&Display4!$D$3&\"\")),RTD(\"cqg.rtd\",,\"OrderData\",\"\"&B170&\"\",\"\",\"OpenPosition\",\"\"&Display4!$D$3&\"\")=0),A169+0.001,INT(A169)+1),A169)","v":0.17000000000000012},{"$f":"(LEFT(B171,SEARCH(Display4!$G$2,B171)+LEN(Display4!$G$2)+2))&RIGHT(B171,LEN(B171)-(SEARCH(Display4!$G$2,B171)+LEN(Display4!$G$2)+2))+Display4!$J$3","v":"C.US.EPZ1725950"}]
[{"$f":"IFERROR(IF(OR(ISTEXT(RTD(\"cqg.rtd\",,\"OrderData\",\"\"&B171&\"\",\"\",\"OpenPosition\",\"\"&Display4!$D$3&\"\")),RTD(\"cqg.rtd\",,\"OrderData\",\"\"&B171&\"\",\"\",\"OpenPosition\",\"\"&Display4!$D$3&\"\")=0),A170+0.001,INT(A170)+1),A170)","v":0.17100000000000012},{"$f":"(LEFT(B172,SEARCH(Display4!$G$2,B172)+LEN(Display4!$G$2)+2))&RIGHT(B172,LEN(B172)-(SEARCH(Display4!$G$2,B172)+LEN(Display4!$G$2)+2))+Display4!$J$3","v":"C.US.EPZ1725900"}]
[{"$f":"IFERROR(IF(OR(ISTEXT(RTD(\"cqg.rtd\",,\"OrderData\",\"\"&B172&\"\",\"\",\"OpenPosition\",\"\"&Display4!$D$3&\"\")),RTD(\"cqg.rtd\",,\"OrderData\",\"\"&B172&\"\",\"\",\"OpenPosition\",\"\"&Display4!$D$3&\"\")=0),A171+0.001,INT(A171)+1),A171)","v":0.17200000000000013},{"$f":"(LEFT(B173,SEARCH(Display4!$G$2,B173)+LEN(Display4!$G$2)+2))&RIGHT(B173,LEN(B173)-(SEARCH(Display4!$G$2,B173)+LEN(Display4!$G$2)+2))+Display4!$J$3","v":"C.US.EPZ1725850"}]
[{"$f":"IFERROR(IF(OR(ISTEXT(RTD(\"cqg.rtd\",,\"OrderData\",\"\"&B173&\"\",\"\",\"OpenPosition\",\"\"&Display4!$D$3&\"\")),RTD(\"cqg.rtd\",,\"OrderData\",\"\"&B173&\"\",\"\",\"OpenPosition\",\"\"&Display4!$D$3&\"\")=0),A172+0.001,INT(A172)+1),A172)","v":0.17300000000000013},{"$f":"(LEFT(B174,SEARCH(Display4!$G$2,B174)+LEN(Display4!$G$2)+2))&RIGHT(B174,LEN(B174)-(SEARCH(Display4!$G$2,B174)+LEN(Display4!$G$2)+2))+Display4!$J$3","v":"C.US.EPZ1725800"}]
[{"$f":"IFERROR(IF(OR(ISTEXT(RTD(\"cqg.rtd\",,\"OrderData\",\"\"&B174&\"\",\"\",\"OpenPosition\",\"\"&Display4!$D$3&\"\")),RTD(\"cqg.rtd\",,\"OrderData\",\"\"&B174&\"\",\"\",\"OpenPosition\",\"\"&Display4!$D$3&\"\")=0),A173+0.001,INT(A173)+1),A173)","v":0.17400000000000013},{"$f":"(LEFT(B175,SEARCH(Display4!$G$2,B175)+LEN(Display4!$G$2)+2))&RIGHT(B175,LEN(B175)-(SEARCH(Display4!$G$2,B175)+LEN(Display4!$G$2)+2))+Display4!$J$3","v":"C.US.EPZ1725750"}]
[{"$f":"IFERROR(IF(OR(ISTEXT(RTD(\"cqg.rtd\",,\"OrderData\",\"\"&B175&\"\",\"\",\"OpenPosition\",\"\"&Display4!$D$3&\"\")),RTD(\"cqg.rtd\",,\"OrderData\",\"\"&B175&\"\",\"\",\"OpenPosition\",\"\"&Display4!$D$3&\"\")=0),A174+0.001,INT(A174)+1),A174)","v":0.17500000000000013},{"$f":"(LEFT(B176,SEARCH(Display4!$G$2,B176)+LEN(Display4!$G$2)+2))&RIGHT(B176,LEN(B176)-(SEARCH(Display4!$G$2,B176)+LEN(Display4!$G$2)+2))+Display4!$J$3","v":"C.US.EPZ1725700"}]
[{"$f":"IFERROR(IF(OR(ISTEXT(RTD(\"cqg.rtd\",,\"OrderData\",\"\"&B176&\"\",\"\",\"OpenPosition\",\"\"&Display4!$D$3&\"\")),RTD(\"cqg.rtd\",,\"OrderData\",\"\"&B176&\"\",\"\",\"OpenPosition\",\"\"&Display4!$D$3&\"\")=0),A175+0.001,INT(A175)+1),A175)","v":0.17600000000000013},{"$f":"(LEFT(B177,SEARCH(Display4!$G$2,B177)+LEN(Display4!$G$2)+2))&RIGHT(B177,LEN(B177)-(SEARCH(Display4!$G$2,B177)+LEN(Display4!$G$2)+2))+Display4!$J$3","v":"C.US.EPZ1725650"}]
[{"$f":"IFERROR(IF(OR(ISTEXT(RTD(\"cqg.rtd\",,\"OrderData\",\"\"&B177&\"\",\"\",\"OpenPosition\",\"\"&Display4!$D$3&\"\")),RTD(\"cqg.rtd\",,\"OrderData\",\"\"&B177&\"\",\"\",\"OpenPosition\",\"\"&Display4!$D$3&\"\")=0),A176+0.001,INT(A176)+1),A176)","v":0.17700000000000013},{"$f":"(LEFT(B178,SEARCH(Display4!$G$2,B178)+LEN(Display4!$G$2)+2))&RIGHT(B178,LEN(B178)-(SEARCH(Display4!$G$2,B178)+LEN(Display4!$G$2)+2))+Display4!$J$3","v":"C.US.EPZ1725600"}]
[{"$f":"IFERROR(IF(OR(ISTEXT(RTD(\"cqg.rtd\",,\"OrderData\",\"\"&B178&\"\",\"\",\"OpenPosition\",\"\"&Display4!$D$3&\"\")),RTD(\"cqg.rtd\",,\"OrderData\",\"\"&B178&\"\",\"\",\"OpenPosition\",\"\"&Display4!$D$3&\"\")=0),A177+0.001,INT(A177)+1),A177)","v":0.17800000000000013},{"$f":"(LEFT(B179,SEARCH(Display4!$G$2,B179)+LEN(Display4!$G$2)+2))&RIGHT(B179,LEN(B179)-(SEARCH(Display4!$G$2,B179)+LEN(Display4!$G$2)+2))+Display4!$J$3","v":"C.US.EPZ1725550"}]
[{"$f":"IFERROR(IF(OR(ISTEXT(RTD(\"cqg.rtd\",,\"OrderData\",\"\"&B179&\"\",\"\",\"OpenPosition\",\"\"&Display4!$D$3&\"\")),RTD(\"cqg.rtd\",,\"OrderData\",\"\"&B179&\"\",\"\",\"OpenPosition\",\"\"&Display4!$D$3&\"\")=0),A178+0.001,INT(A178)+1),A178)","v":0.17900000000000013},{"$f":"(LEFT(B180,SEARCH(Display4!$G$2,B180)+LEN(Display4!$G$2)+2))&RIGHT(B180,LEN(B180)-(SEARCH(Display4!$G$2,B180)+LEN(Display4!$G$2)+2))+Display4!$J$3","v":"C.US.EPZ1725500"}]
[{"$f":"IFERROR(IF(OR(ISTEXT(RTD(\"cqg.rtd\",,\"OrderData\",\"\"&B180&\"\",\"\",\"OpenPosition\",\"\"&Display4!$D$3&\"\")),RTD(\"cqg.rtd\",,\"OrderData\",\"\"&B180&\"\",\"\",\"OpenPosition\",\"\"&Display4!$D$3&\"\")=0),A179+0.001,INT(A179)+1),A179)","v":0.18000000000000013},{"$f":"(LEFT(B181,SEARCH(Display4!$G$2,B181)+LEN(Display4!$G$2)+2))&RIGHT(B181,LEN(B181)-(SEARCH(Display4!$G$2,B181)+LEN(Display4!$G$2)+2))+Display4!$J$3","v":"C.US.EPZ1725450"}]
[{"$f":"IFERROR(IF(OR(ISTEXT(RTD(\"cqg.rtd\",,\"OrderData\",\"\"&B181&\"\",\"\",\"OpenPosition\",\"\"&Display4!$D$3&\"\")),RTD(\"cqg.rtd\",,\"OrderData\",\"\"&B181&\"\",\"\",\"OpenPosition\",\"\"&Display4!$D$3&\"\")=0),A180+0.001,INT(A180)+1),A180)","v":0.18100000000000013},{"$f":"(LEFT(B182,SEARCH(Display4!$G$2,B182)+LEN(Display4!$G$2)+2))&RIGHT(B182,LEN(B182)-(SEARCH(Display4!$G$2,B182)+LEN(Display4!$G$2)+2))+Display4!$J$3","v":"C.US.EPZ1725400"}]
[{"$f":"IFERROR(IF(OR(ISTEXT(RTD(\"cqg.rtd\",,\"OrderData\",\"\"&B182&\"\",\"\",\"OpenPosition\",\"\"&Display4!$D$3&\"\")),RTD(\"cqg.rtd\",,\"OrderData\",\"\"&B182&\"\",\"\",\"OpenPosition\",\"\"&Display4!$D$3&\"\")=0),A181+0.001,INT(A181)+1),A181)","v":0.18200000000000013},{"$f":"(LEFT(B183,SEARCH(Display4!$G$2,B183)+LEN(Display4!$G$2)+2))&RIGHT(B183,LEN(B183)-(SEARCH(Display4!$G$2,B183)+LEN(Display4!$G$2)+2))+Display4!$J$3","v":"C.US.EPZ1725350"}]
[{"$f":"IFERROR(IF(OR(ISTEXT(RTD(\"cqg.rtd\",,\"OrderData\",\"\"&B183&\"\",\"\",\"OpenPosition\",\"\"&Display4!$D$3&\"\")),RTD(\"cqg.rtd\",,\"OrderData\",\"\"&B183&\"\",\"\",\"OpenPosition\",\"\"&Display4!$D$3&\"\")=0),A182+0.001,INT(A182)+1),A182)","v":0.18300000000000013},{"$f":"(LEFT(B184,SEARCH(Display4!$G$2,B184)+LEN(Display4!$G$2)+2))&RIGHT(B184,LEN(B184)-(SEARCH(Display4!$G$2,B184)+LEN(Display4!$G$2)+2))+Display4!$J$3","v":"C.US.EPZ1725300"}]
[{"$f":"IFERROR(IF(OR(ISTEXT(RTD(\"cqg.rtd\",,\"OrderData\",\"\"&B184&\"\",\"\",\"OpenPosition\",\"\"&Display4!$D$3&\"\")),RTD(\"cqg.rtd\",,\"OrderData\",\"\"&B184&\"\",\"\",\"OpenPosition\",\"\"&Display4!$D$3&\"\")=0),A183+0.001,INT(A183)+1),A183)","v":0.18400000000000014},{"$f":"(LEFT(B185,SEARCH(Display4!$G$2,B185)+LEN(Display4!$G$2)+2))&RIGHT(B185,LEN(B185)-(SEARCH(Display4!$G$2,B185)+LEN(Display4!$G$2)+2))+Display4!$J$3","v":"C.US.EPZ1725250"}]
[{"$f":"IFERROR(IF(OR(ISTEXT(RTD(\"cqg.rtd\",,\"OrderData\",\"\"&B185&\"\",\"\",\"OpenPosition\",\"\"&Display4!$D$3&\"\")),RTD(\"cqg.rtd\",,\"OrderData\",\"\"&B185&\"\",\"\",\"OpenPosition\",\"\"&Display4!$D$3&\"\")=0),A184+0.001,INT(A184)+1),A184)","v":0.18500000000000014},{"$f":"(LEFT(B186,SEARCH(Display4!$G$2,B186)+LEN(Display4!$G$2)+2))&RIGHT(B186,LEN(B186)-(SEARCH(Display4!$G$2,B186)+LEN(Display4!$G$2)+2))+Display4!$J$3","v":"C.US.EPZ1725200"}]
[{"$f":"IFERROR(IF(OR(ISTEXT(RTD(\"cqg.rtd\",,\"OrderData\",\"\"&B186&\"\",\"\",\"OpenPosition\",\"\"&Display4!$D$3&\"\")),RTD(\"cqg.rtd\",,\"OrderData\",\"\"&B186&\"\",\"\",\"OpenPosition\",\"\"&Display4!$D$3&\"\")=0),A185+0.001,INT(A185)+1),A185)","v":0.18600000000000014},{"$f":"(LEFT(B187,SEARCH(Display4!$G$2,B187)+LEN(Display4!$G$2)+2))&RIGHT(B187,LEN(B187)-(SEARCH(Display4!$G$2,B187)+LEN(Display4!$G$2)+2))+Display4!$J$3","v":"C.US.EPZ1725150"}]
[{"$f":"IFERROR(IF(OR(ISTEXT(RTD(\"cqg.rtd\",,\"OrderData\",\"\"&B187&\"\",\"\",\"OpenPosition\",\"\"&Display4!$D$3&\"\")),RTD(\"cqg.rtd\",,\"OrderData\",\"\"&B187&\"\",\"\",\"OpenPosition\",\"\"&Display4!$D$3&\"\")=0),A186+0.001,INT(A186)+1),A186)","v":0.18700000000000014},{"$f":"(LEFT(B188,SEARCH(Display4!$G$2,B188)+LEN(Display4!$G$2)+2))&RIGHT(B188,LEN(B188)-(SEARCH(Display4!$G$2,B188)+LEN(Display4!$G$2)+2))+Display4!$J$3","v":"C.US.EPZ1725100"}]
[{"$f":"IFERROR(IF(OR(ISTEXT(RTD(\"cqg.rtd\",,\"OrderData\",\"\"&B188&\"\",\"\",\"OpenPosition\",\"\"&Display4!$D$3&\"\")),RTD(\"cqg.rtd\",,\"OrderData\",\"\"&B188&\"\",\"\",\"OpenPosition\",\"\"&Display4!$D$3&\"\")=0),A187+0.001,INT(A187)+1),A187)","v":0.18800000000000014},{"$f":"(LEFT(B189,SEARCH(Display4!$G$2,B189)+LEN(Display4!$G$2)+2))&RIGHT(B189,LEN(B189)-(SEARCH(Display4!$G$2,B189)+LEN(Display4!$G$2)+2))+Display4!$J$3","v":"C.US.EPZ1725050"}]
[{"$f":"IFERROR(IF(OR(ISTEXT(RTD(\"cqg.rtd\",,\"OrderData\",\"\"&B189&\"\",\"\",\"OpenPosition\",\"\"&Display4!$D$3&\"\")),RTD(\"cqg.rtd\",,\"OrderData\",\"\"&B189&\"\",\"\",\"OpenPosition\",\"\"&Display4!$D$3&\"\")=0),A188+0.001,INT(A188)+1),A188)","v":0.18900000000000014},{"$f":"(LEFT(B190,SEARCH(Display4!$G$2,B190)+LEN(Display4!$G$2)+2))&RIGHT(B190,LEN(B190)-(SEARCH(Display4!$G$2,B190)+LEN(Display4!$G$2)+2))+Display4!$J$3","v":"C.US.EPZ1725000"}]
[{"$f":"IFERROR(IF(OR(ISTEXT(RTD(\"cqg.rtd\",,\"OrderData\",\"\"&B190&\"\",\"\",\"OpenPosition\",\"\"&Display4!$D$3&\"\")),RTD(\"cqg.rtd\",,\"OrderData\",\"\"&B190&\"\",\"\",\"OpenPosition\",\"\"&Display4!$D$3&\"\")=0),A189+0.001,INT(A189)+1),A189)","v":0.19000000000000014},{"$f":"(LEFT(B191,SEARCH(Display4!$G$2,B191)+LEN(Display4!$G$2)+2))&RIGHT(B191,LEN(B191)-(SEARCH(Display4!$G$2,B191)+LEN(Display4!$G$2)+2))+Display4!$J$3","v":"C.US.EPZ1724950"}]
[{"$f":"IFERROR(IF(OR(ISTEXT(RTD(\"cqg.rtd\",,\"OrderData\",\"\"&B191&\"\",\"\",\"OpenPosition\",\"\"&Display4!$D$3&\"\")),RTD(\"cqg.rtd\",,\"OrderData\",\"\"&B191&\"\",\"\",\"OpenPosition\",\"\"&Display4!$D$3&\"\")=0),A190+0.001,INT(A190)+1),A190)","v":0.19100000000000014},{"$f":"(LEFT(B192,SEARCH(Display4!$G$2,B192)+LEN(Display4!$G$2)+2))&RIGHT(B192,LEN(B192)-(SEARCH(Display4!$G$2,B192)+LEN(Display4!$G$2)+2))+Display4!$J$3","v":"C.US.EPZ1724900"}]
[{"$f":"IFERROR(IF(OR(ISTEXT(RTD(\"cqg.rtd\",,\"OrderData\",\"\"&B192&\"\",\"\",\"OpenPosition\",\"\"&Display4!$D$3&\"\")),RTD(\"cqg.rtd\",,\"OrderData\",\"\"&B192&\"\",\"\",\"OpenPosition\",\"\"&Display4!$D$3&\"\")=0),A191+0.001,INT(A191)+1),A191)","v":0.19200000000000014},{"$f":"(LEFT(B193,SEARCH(Display4!$G$2,B193)+LEN(Display4!$G$2)+2))&RIGHT(B193,LEN(B193)-(SEARCH(Display4!$G$2,B193)+LEN(Display4!$G$2)+2))+Display4!$J$3","v":"C.US.EPZ1724850"}]
[{"$f":"IFERROR(IF(OR(ISTEXT(RTD(\"cqg.rtd\",,\"OrderData\",\"\"&B193&\"\",\"\",\"OpenPosition\",\"\"&Display4!$D$3&\"\")),RTD(\"cqg.rtd\",,\"OrderData\",\"\"&B193&\"\",\"\",\"OpenPosition\",\"\"&Display4!$D$3&\"\")=0),A192+0.001,INT(A192)+1),A192)","v":0.19300000000000014},{"$f":"(LEFT(B194,SEARCH(Display4!$G$2,B194)+LEN(Display4!$G$2)+2))&RIGHT(B194,LEN(B194)-(SEARCH(Display4!$G$2,B194)+LEN(Display4!$G$2)+2))+Display4!$J$3","v":"C.US.EPZ1724800"}]
[{"$f":"IFERROR(IF(OR(ISTEXT(RTD(\"cqg.rtd\",,\"OrderData\",\"\"&B194&\"\",\"\",\"OpenPosition\",\"\"&Display4!$D$3&\"\")),RTD(\"cqg.rtd\",,\"OrderData\",\"\"&B194&\"\",\"\",\"OpenPosition\",\"\"&Display4!$D$3&\"\")=0),A193+0.001,INT(A193)+1),A193)","v":0.19400000000000014},{"$f":"(LEFT(B195,SEARCH(Display4!$G$2,B195)+LEN(Display4!$G$2)+2))&RIGHT(B195,LEN(B195)-(SEARCH(Display4!$G$2,B195)+LEN(Display4!$G$2)+2))+Display4!$J$3","v":"C.US.EPZ1724750"}]
[{"$f":"IFERROR(IF(OR(ISTEXT(RTD(\"cqg.rtd\",,\"OrderData\",\"\"&B195&\"\",\"\",\"OpenPosition\",\"\"&Display4!$D$3&\"\")),RTD(\"cqg.rtd\",,\"OrderData\",\"\"&B195&\"\",\"\",\"OpenPosition\",\"\"&Display4!$D$3&\"\")=0),A194+0.001,INT(A194)+1),A194)","v":0.19500000000000015},{"$f":"(LEFT(B196,SEARCH(Display4!$G$2,B196)+LEN(Display4!$G$2)+2))&RIGHT(B196,LEN(B196)-(SEARCH(Display4!$G$2,B196)+LEN(Display4!$G$2)+2))+Display4!$J$3","v":"C.US.EPZ1724700"}]
[{"$f":"IFERROR(IF(OR(ISTEXT(RTD(\"cqg.rtd\",,\"OrderData\",\"\"&B196&\"\",\"\",\"OpenPosition\",\"\"&Display4!$D$3&\"\")),RTD(\"cqg.rtd\",,\"OrderData\",\"\"&B196&\"\",\"\",\"OpenPosition\",\"\"&Display4!$D$3&\"\")=0),A195+0.001,INT(A195)+1),A195)","v":0.19600000000000015},{"$f":"(LEFT(B197,SEARCH(Display4!$G$2,B197)+LEN(Display4!$G$2)+2))&RIGHT(B197,LEN(B197)-(SEARCH(Display4!$G$2,B197)+LEN(Display4!$G$2)+2))+Display4!$J$3","v":"C.US.EPZ1724650"}]
[{"$f":"IFERROR(IF(OR(ISTEXT(RTD(\"cqg.rtd\",,\"OrderData\",\"\"&B197&\"\",\"\",\"OpenPosition\",\"\"&Display4!$D$3&\"\")),RTD(\"cqg.rtd\",,\"OrderData\",\"\"&B197&\"\",\"\",\"OpenPosition\",\"\"&Display4!$D$3&\"\")=0),A196+0.001,INT(A196)+1),A196)","v":0.19700000000000015},{"$f":"(LEFT(B198,SEARCH(Display4!$G$2,B198)+LEN(Display4!$G$2)+2))&RIGHT(B198,LEN(B198)-(SEARCH(Display4!$G$2,B198)+LEN(Display4!$G$2)+2))+Display4!$J$3","v":"C.US.EPZ1724600"}]
[{"$f":"IFERROR(IF(OR(ISTEXT(RTD(\"cqg.rtd\",,\"OrderData\",\"\"&B198&\"\",\"\",\"OpenPosition\",\"\"&Display4!$D$3&\"\")),RTD(\"cqg.rtd\",,\"OrderData\",\"\"&B198&\"\",\"\",\"OpenPosition\",\"\"&Display4!$D$3&\"\")=0),A197+0.001,INT(A197)+1),A197)","v":0.19800000000000015},{"$f":"(LEFT(B199,SEARCH(Display4!$G$2,B199)+LEN(Display4!$G$2)+2))&RIGHT(B199,LEN(B199)-(SEARCH(Display4!$G$2,B199)+LEN(Display4!$G$2)+2))+Display4!$J$3","v":"C.US.EPZ1724550"}]
[{"$f":"IFERROR(IF(OR(ISTEXT(RTD(\"cqg.rtd\",,\"OrderData\",\"\"&B199&\"\",\"\",\"OpenPosition\",\"\"&Display4!$D$3&\"\")),RTD(\"cqg.rtd\",,\"OrderData\",\"\"&B199&\"\",\"\",\"OpenPosition\",\"\"&Display4!$D$3&\"\")=0),A198+0.001,INT(A198)+1),A198)","v":0.19900000000000015},{"$f":"(LEFT(B200,SEARCH(Display4!$G$2,B200)+LEN(Display4!$G$2)+2))&RIGHT(B200,LEN(B200)-(SEARCH(Display4!$G$2,B200)+LEN(Display4!$G$2)+2))+Display4!$J$3","v":"C.US.EPZ1724500"}]
[{"$f":"IFERROR(IF(OR(ISTEXT(RTD(\"cqg.rtd\",,\"OrderData\",\"\"&B200&\"\",\"\",\"OpenPosition\",\"\"&Display4!$D$3&\"\")),RTD(\"cqg.rtd\",,\"OrderData\",\"\"&B200&\"\",\"\",\"OpenPosition\",\"\"&Display4!$D$3&\"\")=0),A199+0.001,INT(A199)+1),A199)","v":0.20000000000000015},{"$f":"(LEFT(B201,SEARCH(Display4!$G$2,B201)+LEN(Display4!$G$2)+2))&RIGHT(B201,LEN(B201)-(SEARCH(Display4!$G$2,B201)+LEN(Display4!$G$2)+2))+Display4!$J$3","v":"C.US.EPZ1724450"}]
[{"$f":"IFERROR(IF(OR(ISTEXT(RTD(\"cqg.rtd\",,\"OrderData\",\"\"&B201&\"\",\"\",\"OpenPosition\",\"\"&Display4!$D$3&\"\")),RTD(\"cqg.rtd\",,\"OrderData\",\"\"&B201&\"\",\"\",\"OpenPosition\",\"\"&Display4!$D$3&\"\")=0),A200+0.001,INT(A200)+1),A200)","v":0.20100000000000015},{"$f":"(LEFT(B202,SEARCH(Display4!$G$2,B202)+LEN(Display4!$G$2)+2))&RIGHT(B202,LEN(B202)-(SEARCH(Display4!$G$2,B202)+LEN(Display4!$G$2)+2))+Display4!$J$3","v":"C.US.EPZ1724400"}]
[{"$f":"IFERROR(IF(OR(ISTEXT(RTD(\"cqg.rtd\",,\"OrderData\",\"\"&B202&\"\",\"\",\"OpenPosition\",\"\"&Display4!$D$3&\"\")),RTD(\"cqg.rtd\",,\"OrderData\",\"\"&B202&\"\",\"\",\"OpenPosition\",\"\"&Display4!$D$3&\"\")=0),A201+0.001,INT(A201)+1),A201)","v":0.20200000000000015},{"$f":"RTD(\"cqg.rtd\", ,\"ContractData\", \"C.US.\"&Display4!$G$2&Display4!$H$3&\"\", \"Symbol\",, \"T\")","v":"C.US.EPZ1724350"}]
[{"$f":"IFERROR(IF(OR(ISTEXT(RTD(\"cqg.rtd\",,\"OrderData\",\"\"&B203&\"\",\"\",\"OpenPosition\",\"\"&Display4!$D$3&\"\")),RTD(\"cqg.rtd\",,\"OrderData\",\"\"&B203&\"\",\"\",\"OpenPosition\",\"\"&Display4!$D$3&\"\")=0),A202+0.001,INT(A202)+1),A202)","v":0.20300000000000015},{"$f":"(LEFT(B202,SEARCH(Display4!$G$2,B202)+LEN(Display4!$G$2)+2))&RIGHT(B202,LEN(B202)-(SEARCH(Display4!$G$2,B202)+LEN(Display4!$G$2)+2))-Display4!$J$3","v":"C.US.EPZ1724300"}]
[{"$f":"IFERROR(IF(OR(ISTEXT(RTD(\"cqg.rtd\",,\"OrderData\",\"\"&B204&\"\",\"\",\"OpenPosition\",\"\"&Display4!$D$3&\"\")),RTD(\"cqg.rtd\",,\"OrderData\",\"\"&B204&\"\",\"\",\"OpenPosition\",\"\"&Display4!$D$3&\"\")=0),A203+0.001,INT(A203)+1),A203)","v":0.20400000000000015},{"$f":"(LEFT(B203,SEARCH(Display4!$G$2,B203)+LEN(Display4!$G$2)+2))&RIGHT(B203,LEN(B203)-(SEARCH(Display4!$G$2,B203)+LEN(Display4!$G$2)+2))-Display4!$J$3","v":"C.US.EPZ1724250"}]
[{"$f":"IFERROR(IF(OR(ISTEXT(RTD(\"cqg.rtd\",,\"OrderData\",\"\"&B205&\"\",\"\",\"OpenPosition\",\"\"&Display4!$D$3&\"\")),RTD(\"cqg.rtd\",,\"OrderData\",\"\"&B205&\"\",\"\",\"OpenPosition\",\"\"&Display4!$D$3&\"\")=0),A204+0.001,INT(A204)+1),A204)","v":0.20500000000000015},{"$f":"(LEFT(B204,SEARCH(Display4!$G$2,B204)+LEN(Display4!$G$2)+2))&RIGHT(B204,LEN(B204)-(SEARCH(Display4!$G$2,B204)+LEN(Display4!$G$2)+2))-Display4!$J$3","v":"C.US.EPZ1724200"}]
[{"$f":"IFERROR(IF(OR(ISTEXT(RTD(\"cqg.rtd\",,\"OrderData\",\"\"&B206&\"\",\"\",\"OpenPosition\",\"\"&Display4!$D$3&\"\")),RTD(\"cqg.rtd\",,\"OrderData\",\"\"&B206&\"\",\"\",\"OpenPosition\",\"\"&Display4!$D$3&\"\")=0),A205+0.001,INT(A205)+1),A205)","v":0.20600000000000016},{"$f":"(LEFT(B205,SEARCH(Display4!$G$2,B205)+LEN(Display4!$G$2)+2))&RIGHT(B205,LEN(B205)-(SEARCH(Display4!$G$2,B205)+LEN(Display4!$G$2)+2))-Display4!$J$3","v":"C.US.EPZ1724150"}]
[{"$f":"IFERROR(IF(OR(ISTEXT(RTD(\"cqg.rtd\",,\"OrderData\",\"\"&B207&\"\",\"\",\"OpenPosition\",\"\"&Display4!$D$3&\"\")),RTD(\"cqg.rtd\",,\"OrderData\",\"\"&B207&\"\",\"\",\"OpenPosition\",\"\"&Display4!$D$3&\"\")=0),A206+0.001,INT(A206)+1),A206)","v":0.20700000000000016},{"$f":"(LEFT(B206,SEARCH(Display4!$G$2,B206)+LEN(Display4!$G$2)+2))&RIGHT(B206,LEN(B206)-(SEARCH(Display4!$G$2,B206)+LEN(Display4!$G$2)+2))-Display4!$J$3","v":"C.US.EPZ1724100"}]
[{"$f":"IFERROR(IF(OR(ISTEXT(RTD(\"cqg.rtd\",,\"OrderData\",\"\"&B208&\"\",\"\",\"OpenPosition\",\"\"&Display4!$D$3&\"\")),RTD(\"cqg.rtd\",,\"OrderData\",\"\"&B208&\"\",\"\",\"OpenPosition\",\"\"&Display4!$D$3&\"\")=0),A207+0.001,INT(A207)+1),A207)","v":0.20800000000000016},{"$f":"(LEFT(B207,SEARCH(Display4!$G$2,B207)+LEN(Display4!$G$2)+2))&RIGHT(B207,LEN(B207)-(SEARCH(Display4!$G$2,B207)+LEN(Display4!$G$2)+2))-Display4!$J$3","v":"C.US.EPZ1724050"}]
[{"$f":"IFERROR(IF(OR(ISTEXT(RTD(\"cqg.rtd\",,\"OrderData\",\"\"&B209&\"\",\"\",\"OpenPosition\",\"\"&Display4!$D$3&\"\")),RTD(\"cqg.rtd\",,\"OrderData\",\"\"&B209&\"\",\"\",\"OpenPosition\",\"\"&Display4!$D$3&\"\")=0),A208+0.001,INT(A208)+1),A208)","v":0.20900000000000016},{"$f":"(LEFT(B208,SEARCH(Display4!$G$2,B208)+LEN(Display4!$G$2)+2))&RIGHT(B208,LEN(B208)-(SEARCH(Display4!$G$2,B208)+LEN(Display4!$G$2)+2))-Display4!$J$3","v":"C.US.EPZ1724000"}]
[{"$f":"IFERROR(IF(OR(ISTEXT(RTD(\"cqg.rtd\",,\"OrderData\",\"\"&B210&\"\",\"\",\"OpenPosition\",\"\"&Display4!$D$3&\"\")),RTD(\"cqg.rtd\",,\"OrderData\",\"\"&B210&\"\",\"\",\"OpenPosition\",\"\"&Display4!$D$3&\"\")=0),A209+0.001,INT(A209)+1),A209)","v":0.21000000000000016},{"$f":"(LEFT(B209,SEARCH(Display4!$G$2,B209)+LEN(Display4!$G$2)+2))&RIGHT(B209,LEN(B209)-(SEARCH(Display4!$G$2,B209)+LEN(Display4!$G$2)+2))-Display4!$J$3","v":"C.US.EPZ1723950"}]
[{"$f":"IFERROR(IF(OR(ISTEXT(RTD(\"cqg.rtd\",,\"OrderData\",\"\"&B211&\"\",\"\",\"OpenPosition\",\"\"&Display4!$D$3&\"\")),RTD(\"cqg.rtd\",,\"OrderData\",\"\"&B211&\"\",\"\",\"OpenPosition\",\"\"&Display4!$D$3&\"\")=0),A210+0.001,INT(A210)+1),A210)","v":0.21100000000000016},{"$f":"(LEFT(B210,SEARCH(Display4!$G$2,B210)+LEN(Display4!$G$2)+2))&RIGHT(B210,LEN(B210)-(SEARCH(Display4!$G$2,B210)+LEN(Display4!$G$2)+2))-Display4!$J$3","v":"C.US.EPZ1723900"}]
[{"$f":"IFERROR(IF(OR(ISTEXT(RTD(\"cqg.rtd\",,\"OrderData\",\"\"&B212&\"\",\"\",\"OpenPosition\",\"\"&Display4!$D$3&\"\")),RTD(\"cqg.rtd\",,\"OrderData\",\"\"&B212&\"\",\"\",\"OpenPosition\",\"\"&Display4!$D$3&\"\")=0),A211+0.001,INT(A211)+1),A211)","v":0.21200000000000016},{"$f":"(LEFT(B211,SEARCH(Display4!$G$2,B211)+LEN(Display4!$G$2)+2))&RIGHT(B211,LEN(B211)-(SEARCH(Display4!$G$2,B211)+LEN(Display4!$G$2)+2))-Display4!$J$3","v":"C.US.EPZ1723850"}]
[{"$f":"IFERROR(IF(OR(ISTEXT(RTD(\"cqg.rtd\",,\"OrderData\",\"\"&B213&\"\",\"\",\"OpenPosition\",\"\"&Display4!$D$3&\"\")),RTD(\"cqg.rtd\",,\"OrderData\",\"\"&B213&\"\",\"\",\"OpenPosition\",\"\"&Display4!$D$3&\"\")=0),A212+0.001,INT(A212)+1),A212)","v":0.21300000000000016},{"$f":"(LEFT(B212,SEARCH(Display4!$G$2,B212)+LEN(Display4!$G$2)+2))&RIGHT(B212,LEN(B212)-(SEARCH(Display4!$G$2,B212)+LEN(Display4!$G$2)+2))-Display4!$J$3","v":"C.US.EPZ1723800"}]
[{"$f":"IFERROR(IF(OR(ISTEXT(RTD(\"cqg.rtd\",,\"OrderData\",\"\"&B214&\"\",\"\",\"OpenPosition\",\"\"&Display4!$D$3&\"\")),RTD(\"cqg.rtd\",,\"OrderData\",\"\"&B214&\"\",\"\",\"OpenPosition\",\"\"&Display4!$D$3&\"\")=0),A213+0.001,INT(A213)+1),A213)","v":0.21400000000000016},{"$f":"(LEFT(B213,SEARCH(Display4!$G$2,B213)+LEN(Display4!$G$2)+2))&RIGHT(B213,LEN(B213)-(SEARCH(Display4!$G$2,B213)+LEN(Display4!$G$2)+2))-Display4!$J$3","v":"C.US.EPZ1723750"}]
[{"$f":"IFERROR(IF(OR(ISTEXT(RTD(\"cqg.rtd\",,\"OrderData\",\"\"&B215&\"\",\"\",\"OpenPosition\",\"\"&Display4!$D$3&\"\")),RTD(\"cqg.rtd\",,\"OrderData\",\"\"&B215&\"\",\"\",\"OpenPosition\",\"\"&Display4!$D$3&\"\")=0),A214+0.001,INT(A214)+1),A214)","v":0.21500000000000016},{"$f":"(LEFT(B214,SEARCH(Display4!$G$2,B214)+LEN(Display4!$G$2)+2))&RIGHT(B214,LEN(B214)-(SEARCH(Display4!$G$2,B214)+LEN(Display4!$G$2)+2))-Display4!$J$3","v":"C.US.EPZ1723700"}]
[{"$f":"IFERROR(IF(OR(ISTEXT(RTD(\"cqg.rtd\",,\"OrderData\",\"\"&B216&\"\",\"\",\"OpenPosition\",\"\"&Display4!$D$3&\"\")),RTD(\"cqg.rtd\",,\"OrderData\",\"\"&B216&\"\",\"\",\"OpenPosition\",\"\"&Display4!$D$3&\"\")=0),A215+0.001,INT(A215)+1),A215)","v":0.21600000000000016},{"$f":"(LEFT(B215,SEARCH(Display4!$G$2,B215)+LEN(Display4!$G$2)+2))&RIGHT(B215,LEN(B215)-(SEARCH(Display4!$G$2,B215)+LEN(Display4!$G$2)+2))-Display4!$J$3","v":"C.US.EPZ1723650"}]
[{"$f":"IFERROR(IF(OR(ISTEXT(RTD(\"cqg.rtd\",,\"OrderData\",\"\"&B217&\"\",\"\",\"OpenPosition\",\"\"&Display4!$D$3&\"\")),RTD(\"cqg.rtd\",,\"OrderData\",\"\"&B217&\"\",\"\",\"OpenPosition\",\"\"&Display4!$D$3&\"\")=0),A216+0.001,INT(A216)+1),A216)","v":0.21700000000000016},{"$f":"(LEFT(B216,SEARCH(Display4!$G$2,B216)+LEN(Display4!$G$2)+2))&RIGHT(B216,LEN(B216)-(SEARCH(Display4!$G$2,B216)+LEN(Display4!$G$2)+2))-Display4!$J$3","v":"C.US.EPZ1723600"}]
[{"$f":"IFERROR(IF(OR(ISTEXT(RTD(\"cqg.rtd\",,\"OrderData\",\"\"&B218&\"\",\"\",\"OpenPosition\",\"\"&Display4!$D$3&\"\")),RTD(\"cqg.rtd\",,\"OrderData\",\"\"&B218&\"\",\"\",\"OpenPosition\",\"\"&Display4!$D$3&\"\")=0),A217+0.001,INT(A217)+1),A217)","v":0.21800000000000017},{"$f":"(LEFT(B217,SEARCH(Display4!$G$2,B217)+LEN(Display4!$G$2)+2))&RIGHT(B217,LEN(B217)-(SEARCH(Display4!$G$2,B217)+LEN(Display4!$G$2)+2))-Display4!$J$3","v":"C.US.EPZ1723550"}]
[{"$f":"IFERROR(IF(OR(ISTEXT(RTD(\"cqg.rtd\",,\"OrderData\",\"\"&B219&\"\",\"\",\"OpenPosition\",\"\"&Display4!$D$3&\"\")),RTD(\"cqg.rtd\",,\"OrderData\",\"\"&B219&\"\",\"\",\"OpenPosition\",\"\"&Display4!$D$3&\"\")=0),A218+0.001,INT(A218)+1),A218)","v":0.21900000000000017},{"$f":"(LEFT(B218,SEARCH(Display4!$G$2,B218)+LEN(Display4!$G$2)+2))&RIGHT(B218,LEN(B218)-(SEARCH(Display4!$G$2,B218)+LEN(Display4!$G$2)+2))-Display4!$J$3","v":"C.US.EPZ1723500"}]
[{"$f":"IFERROR(IF(OR(ISTEXT(RTD(\"cqg.rtd\",,\"OrderData\",\"\"&B220&\"\",\"\",\"OpenPosition\",\"\"&Display4!$D$3&\"\")),RTD(\"cqg.rtd\",,\"OrderData\",\"\"&B220&\"\",\"\",\"OpenPosition\",\"\"&Display4!$D$3&\"\")=0),A219+0.001,INT(A219)+1),A219)","v":0.22000000000000017},{"$f":"(LEFT(B219,SEARCH(Display4!$G$2,B219)+LEN(Display4!$G$2)+2))&RIGHT(B219,LEN(B219)-(SEARCH(Display4!$G$2,B219)+LEN(Display4!$G$2)+2))-Display4!$J$3","v":"C.US.EPZ1723450"}]
[{"$f":"IFERROR(IF(OR(ISTEXT(RTD(\"cqg.rtd\",,\"OrderData\",\"\"&B221&\"\",\"\",\"OpenPosition\",\"\"&Display4!$D$3&\"\")),RTD(\"cqg.rtd\",,\"OrderData\",\"\"&B221&\"\",\"\",\"OpenPosition\",\"\"&Display4!$D$3&\"\")=0),A220+0.001,INT(A220)+1),A220)","v":0.22100000000000017},{"$f":"(LEFT(B220,SEARCH(Display4!$G$2,B220)+LEN(Display4!$G$2)+2))&RIGHT(B220,LEN(B220)-(SEARCH(Display4!$G$2,B220)+LEN(Display4!$G$2)+2))-Display4!$J$3","v":"C.US.EPZ1723400"}]
[{"$f":"IFERROR(IF(OR(ISTEXT(RTD(\"cqg.rtd\",,\"OrderData\",\"\"&B222&\"\",\"\",\"OpenPosition\",\"\"&Display4!$D$3&\"\")),RTD(\"cqg.rtd\",,\"OrderData\",\"\"&B222&\"\",\"\",\"OpenPosition\",\"\"&Display4!$D$3&\"\")=0),A221+0.001,INT(A221)+1),A221)","v":0.22200000000000017},{"$f":"(LEFT(B221,SEARCH(Display4!$G$2,B221)+LEN(Display4!$G$2)+2))&RIGHT(B221,LEN(B221)-(SEARCH(Display4!$G$2,B221)+LEN(Display4!$G$2)+2))-Display4!$J$3","v":"C.US.EPZ1723350"}]
[{"$f":"IFERROR(IF(OR(ISTEXT(RTD(\"cqg.rtd\",,\"OrderData\",\"\"&B223&\"\",\"\",\"OpenPosition\",\"\"&Display4!$D$3&\"\")),RTD(\"cqg.rtd\",,\"OrderData\",\"\"&B223&\"\",\"\",\"OpenPosition\",\"\"&Display4!$D$3&\"\")=0),A222+0.001,INT(A222)+1),A222)","v":0.22300000000000017},{"$f":"(LEFT(B222,SEARCH(Display4!$G$2,B222)+LEN(Display4!$G$2)+2))&RIGHT(B222,LEN(B222)-(SEARCH(Display4!$G$2,B222)+LEN(Display4!$G$2)+2))-Display4!$J$3","v":"C.US.EPZ1723300"}]
[{"$f":"IFERROR(IF(OR(ISTEXT(RTD(\"cqg.rtd\",,\"OrderData\",\"\"&B224&\"\",\"\",\"OpenPosition\",\"\"&Display4!$D$3&\"\")),RTD(\"cqg.rtd\",,\"OrderData\",\"\"&B224&\"\",\"\",\"OpenPosition\",\"\"&Display4!$D$3&\"\")=0),A223+0.001,INT(A223)+1),A223)","v":0.22400000000000017},{"$f":"(LEFT(B223,SEARCH(Display4!$G$2,B223)+LEN(Display4!$G$2)+2))&RIGHT(B223,LEN(B223)-(SEARCH(Display4!$G$2,B223)+LEN(Display4!$G$2)+2))-Display4!$J$3","v":"C.US.EPZ1723250"}]
[{"$f":"IFERROR(IF(OR(ISTEXT(RTD(\"cqg.rtd\",,\"OrderData\",\"\"&B225&\"\",\"\",\"OpenPosition\",\"\"&Display4!$D$3&\"\")),RTD(\"cqg.rtd\",,\"OrderData\",\"\"&B225&\"\",\"\",\"OpenPosition\",\"\"&Display4!$D$3&\"\")=0),A224+0.001,INT(A224)+1),A224)","v":0.22500000000000017},{"$f":"(LEFT(B224,SEARCH(Display4!$G$2,B224)+LEN(Display4!$G$2)+2))&RIGHT(B224,LEN(B224)-(SEARCH(Display4!$G$2,B224)+LEN(Display4!$G$2)+2))-Display4!$J$3","v":"C.US.EPZ1723200"}]
[{"$f":"IFERROR(IF(OR(ISTEXT(RTD(\"cqg.rtd\",,\"OrderData\",\"\"&B226&\"\",\"\",\"OpenPosition\",\"\"&Display4!$D$3&\"\")),RTD(\"cqg.rtd\",,\"OrderData\",\"\"&B226&\"\",\"\",\"OpenPosition\",\"\"&Display4!$D$3&\"\")=0),A225+0.001,INT(A225)+1),A225)","v":0.22600000000000017},{"$f":"(LEFT(B225,SEARCH(Display4!$G$2,B225)+LEN(Display4!$G$2)+2))&RIGHT(B225,LEN(B225)-(SEARCH(Display4!$G$2,B225)+LEN(Display4!$G$2)+2))-Display4!$J$3","v":"C.US.EPZ1723150"}]
[{"$f":"IFERROR(IF(OR(ISTEXT(RTD(\"cqg.rtd\",,\"OrderData\",\"\"&B227&\"\",\"\",\"OpenPosition\",\"\"&Display4!$D$3&\"\")),RTD(\"cqg.rtd\",,\"OrderData\",\"\"&B227&\"\",\"\",\"OpenPosition\",\"\"&Display4!$D$3&\"\")=0),A226+0.001,INT(A226)+1),A226)","v":0.22700000000000017},{"$f":"(LEFT(B226,SEARCH(Display4!$G$2,B226)+LEN(Display4!$G$2)+2))&RIGHT(B226,LEN(B226)-(SEARCH(Display4!$G$2,B226)+LEN(Display4!$G$2)+2))-Display4!$J$3","v":"C.US.EPZ1723100"}]
[{"$f":"IFERROR(IF(OR(ISTEXT(RTD(\"cqg.rtd\",,\"OrderData\",\"\"&B228&\"\",\"\",\"OpenPosition\",\"\"&Display4!$D$3&\"\")),RTD(\"cqg.rtd\",,\"OrderData\",\"\"&B228&\"\",\"\",\"OpenPosition\",\"\"&Display4!$D$3&\"\")=0),A227+0.001,INT(A227)+1),A227)","v":0.22800000000000017},{"$f":"(LEFT(B227,SEARCH(Display4!$G$2,B227)+LEN(Display4!$G$2)+2))&RIGHT(B227,LEN(B227)-(SEARCH(Display4!$G$2,B227)+LEN(Display4!$G$2)+2))-Display4!$J$3","v":"C.US.EPZ1723050"}]
[{"$f":"IFERROR(IF(OR(ISTEXT(RTD(\"cqg.rtd\",,\"OrderData\",\"\"&B229&\"\",\"\",\"OpenPosition\",\"\"&Display4!$D$3&\"\")),RTD(\"cqg.rtd\",,\"OrderData\",\"\"&B229&\"\",\"\",\"OpenPosition\",\"\"&Display4!$D$3&\"\")=0),A228+0.001,INT(A228)+1),A228)","v":0.22900000000000018},{"$f":"(LEFT(B228,SEARCH(Display4!$G$2,B228)+LEN(Display4!$G$2)+2))&RIGHT(B228,LEN(B228)-(SEARCH(Display4!$G$2,B228)+LEN(Display4!$G$2)+2))-Display4!$J$3","v":"C.US.EPZ1723000"}]
[{"$f":"IFERROR(IF(OR(ISTEXT(RTD(\"cqg.rtd\",,\"OrderData\",\"\"&B230&\"\",\"\",\"OpenPosition\",\"\"&Display4!$D$3&\"\")),RTD(\"cqg.rtd\",,\"OrderData\",\"\"&B230&\"\",\"\",\"OpenPosition\",\"\"&Display4!$D$3&\"\")=0),A229+0.001,INT(A229)+1),A229)","v":0.23000000000000018},{"$f":"(LEFT(B229,SEARCH(Display4!$G$2,B229)+LEN(Display4!$G$2)+2))&RIGHT(B229,LEN(B229)-(SEARCH(Display4!$G$2,B229)+LEN(Display4!$G$2)+2))-Display4!$J$3","v":"C.US.EPZ1722950"}]
[{"$f":"IFERROR(IF(OR(ISTEXT(RTD(\"cqg.rtd\",,\"OrderData\",\"\"&B231&\"\",\"\",\"OpenPosition\",\"\"&Display4!$D$3&\"\")),RTD(\"cqg.rtd\",,\"OrderData\",\"\"&B231&\"\",\"\",\"OpenPosition\",\"\"&Display4!$D$3&\"\")=0),A230+0.001,INT(A230)+1),A230)","v":0.23100000000000018},{"$f":"(LEFT(B230,SEARCH(Display4!$G$2,B230)+LEN(Display4!$G$2)+2))&RIGHT(B230,LEN(B230)-(SEARCH(Display4!$G$2,B230)+LEN(Display4!$G$2)+2))-Display4!$J$3","v":"C.US.EPZ1722900"}]
[{"$f":"IFERROR(IF(OR(ISTEXT(RTD(\"cqg.rtd\",,\"OrderData\",\"\"&B232&\"\",\"\",\"OpenPosition\",\"\"&Display4!$D$3&\"\")),RTD(\"cqg.rtd\",,\"OrderData\",\"\"&B232&\"\",\"\",\"OpenPosition\",\"\"&Display4!$D$3&\"\")=0),A231+0.001,INT(A231)+1),A231)","v":0.23200000000000018},{"$f":"(LEFT(B231,SEARCH(Display4!$G$2,B231)+LEN(Display4!$G$2)+2))&RIGHT(B231,LEN(B231)-(SEARCH(Display4!$G$2,B231)+LEN(Display4!$G$2)+2))-Display4!$J$3","v":"C.US.EPZ1722850"}]
[{"$f":"IFERROR(IF(OR(ISTEXT(RTD(\"cqg.rtd\",,\"OrderData\",\"\"&B233&\"\",\"\",\"OpenPosition\",\"\"&Display4!$D$3&\"\")),RTD(\"cqg.rtd\",,\"OrderData\",\"\"&B233&\"\",\"\",\"OpenPosition\",\"\"&Display4!$D$3&\"\")=0),A232+0.001,INT(A232)+1),A232)","v":0.23300000000000018},{"$f":"(LEFT(B232,SEARCH(Display4!$G$2,B232)+LEN(Display4!$G$2)+2))&RIGHT(B232,LEN(B232)-(SEARCH(Display4!$G$2,B232)+LEN(Display4!$G$2)+2))-Display4!$J$3","v":"C.US.EPZ1722800"}]
[{"$f":"IFERROR(IF(OR(ISTEXT(RTD(\"cqg.rtd\",,\"OrderData\",\"\"&B234&\"\",\"\",\"OpenPosition\",\"\"&Display4!$D$3&\"\")),RTD(\"cqg.rtd\",,\"OrderData\",\"\"&B234&\"\",\"\",\"OpenPosition\",\"\"&Display4!$D$3&\"\")=0),A233+0.001,INT(A233)+1),A233)","v":0.23400000000000018},{"$f":"(LEFT(B233,SEARCH(Display4!$G$2,B233)+LEN(Display4!$G$2)+2))&RIGHT(B233,LEN(B233)-(SEARCH(Display4!$G$2,B233)+LEN(Display4!$G$2)+2))-Display4!$J$3","v":"C.US.EPZ1722750"}]
[{"$f":"IFERROR(IF(OR(ISTEXT(RTD(\"cqg.rtd\",,\"OrderData\",\"\"&B235&\"\",\"\",\"OpenPosition\",\"\"&Display4!$D$3&\"\")),RTD(\"cqg.rtd\",,\"OrderData\",\"\"&B235&\"\",\"\",\"OpenPosition\",\"\"&Display4!$D$3&\"\")=0),A234+0.001,INT(A234)+1),A234)","v":0.23500000000000018},{"$f":"(LEFT(B234,SEARCH(Display4!$G$2,B234)+LEN(Display4!$G$2)+2))&RIGHT(B234,LEN(B234)-(SEARCH(Display4!$G$2,B234)+LEN(Display4!$G$2)+2))-Display4!$J$3","v":"C.US.EPZ1722700"}]
[{"$f":"IFERROR(IF(OR(ISTEXT(RTD(\"cqg.rtd\",,\"OrderData\",\"\"&B236&\"\",\"\",\"OpenPosition\",\"\"&Display4!$D$3&\"\")),RTD(\"cqg.rtd\",,\"OrderData\",\"\"&B236&\"\",\"\",\"OpenPosition\",\"\"&Display4!$D$3&\"\")=0),A235+0.001,INT(A235)+1),A235)","v":0.23600000000000018},{"$f":"(LEFT(B235,SEARCH(Display4!$G$2,B235)+LEN(Display4!$G$2)+2))&RIGHT(B235,LEN(B235)-(SEARCH(Display4!$G$2,B235)+LEN(Display4!$G$2)+2))-Display4!$J$3","v":"C.US.EPZ1722650"}]
[{"$f":"IFERROR(IF(OR(ISTEXT(RTD(\"cqg.rtd\",,\"OrderData\",\"\"&B237&\"\",\"\",\"OpenPosition\",\"\"&Display4!$D$3&\"\")),RTD(\"cqg.rtd\",,\"OrderData\",\"\"&B237&\"\",\"\",\"OpenPosition\",\"\"&Display4!$D$3&\"\")=0),A236+0.001,INT(A236)+1),A236)","v":0.23700000000000018},{"$f":"(LEFT(B236,SEARCH(Display4!$G$2,B236)+LEN(Display4!$G$2)+2))&RIGHT(B236,LEN(B236)-(SEARCH(Display4!$G$2,B236)+LEN(Display4!$G$2)+2))-Display4!$J$3","v":"C.US.EPZ1722600"}]
[{"$f":"IFERROR(IF(OR(ISTEXT(RTD(\"cqg.rtd\",,\"OrderData\",\"\"&B238&\"\",\"\",\"OpenPosition\",\"\"&Display4!$D$3&\"\")),RTD(\"cqg.rtd\",,\"OrderData\",\"\"&B238&\"\",\"\",\"OpenPosition\",\"\"&Display4!$D$3&\"\")=0),A237+0.001,INT(A237)+1),A237)","v":0.23800000000000018},{"$f":"(LEFT(B237,SEARCH(Display4!$G$2,B237)+LEN(Display4!$G$2)+2))&RIGHT(B237,LEN(B237)-(SEARCH(Display4!$G$2,B237)+LEN(Display4!$G$2)+2))-Display4!$J$3","v":"C.US.EPZ1722550"}]
[{"$f":"IFERROR(IF(OR(ISTEXT(RTD(\"cqg.rtd\",,\"OrderData\",\"\"&B239&\"\",\"\",\"OpenPosition\",\"\"&Display4!$D$3&\"\")),RTD(\"cqg.rtd\",,\"OrderData\",\"\"&B239&\"\",\"\",\"OpenPosition\",\"\"&Display4!$D$3&\"\")=0),A238+0.001,INT(A238)+1),A238)","v":0.23900000000000018},{"$f":"(LEFT(B238,SEARCH(Display4!$G$2,B238)+LEN(Display4!$G$2)+2))&RIGHT(B238,LEN(B238)-(SEARCH(Display4!$G$2,B238)+LEN(Display4!$G$2)+2))-Display4!$J$3","v":"C.US.EPZ1722500"}]
[{"$f":"IFERROR(IF(OR(ISTEXT(RTD(\"cqg.rtd\",,\"OrderData\",\"\"&B240&\"\",\"\",\"OpenPosition\",\"\"&Display4!$D$3&\"\")),RTD(\"cqg.rtd\",,\"OrderData\",\"\"&B240&\"\",\"\",\"OpenPosition\",\"\"&Display4!$D$3&\"\")=0),A239+0.001,INT(A239)+1),A239)","v":0.24000000000000019},{"$f":"(LEFT(B239,SEARCH(Display4!$G$2,B239)+LEN(Display4!$G$2)+2))&RIGHT(B239,LEN(B239)-(SEARCH(Display4!$G$2,B239)+LEN(Display4!$G$2)+2))-Display4!$J$3","v":"C.US.EPZ1722450"}]
[{"$f":"IFERROR(IF(OR(ISTEXT(RTD(\"cqg.rtd\",,\"OrderData\",\"\"&B241&\"\",\"\",\"OpenPosition\",\"\"&Display4!$D$3&\"\")),RTD(\"cqg.rtd\",,\"OrderData\",\"\"&B241&\"\",\"\",\"OpenPosition\",\"\"&Display4!$D$3&\"\")=0),A240+0.001,INT(A240)+1),A240)","v":0.24100000000000019},{"$f":"(LEFT(B240,SEARCH(Display4!$G$2,B240)+LEN(Display4!$G$2)+2))&RIGHT(B240,LEN(B240)-(SEARCH(Display4!$G$2,B240)+LEN(Display4!$G$2)+2))-Display4!$J$3","v":"C.US.EPZ1722400"}]
[{"$f":"IFERROR(IF(OR(ISTEXT(RTD(\"cqg.rtd\",,\"OrderData\",\"\"&B242&\"\",\"\",\"OpenPosition\",\"\"&Display4!$D$3&\"\")),RTD(\"cqg.rtd\",,\"OrderData\",\"\"&B242&\"\",\"\",\"OpenPosition\",\"\"&Display4!$D$3&\"\")=0),A241+0.001,INT(A241)+1),A241)","v":0.24200000000000019},{"$f":"(LEFT(B241,SEARCH(Display4!$G$2,B241)+LEN(Display4!$G$2)+2))&RIGHT(B241,LEN(B241)-(SEARCH(Display4!$G$2,B241)+LEN(Display4!$G$2)+2))-Display4!$J$3","v":"C.US.EPZ1722350"}]
[{"$f":"IFERROR(IF(OR(ISTEXT(RTD(\"cqg.rtd\",,\"OrderData\",\"\"&B243&\"\",\"\",\"OpenPosition\",\"\"&Display4!$D$3&\"\")),RTD(\"cqg.rtd\",,\"OrderData\",\"\"&B243&\"\",\"\",\"OpenPosition\",\"\"&Display4!$D$3&\"\")=0),A242+0.001,INT(A242)+1),A242)","v":0.24300000000000019},{"$f":"(LEFT(B244,SEARCH(Display4!$G$2,B244)+LEN(Display4!$G$2)+2))&RIGHT(B244,LEN(B244)-(SEARCH(Display4!$G$2,B244)+LEN(Display4!$G$2)+2))+Display4!$J$3","v":"P.US.EPZ1726350"}]
[{"$f":"IFERROR(IF(OR(ISTEXT(RTD(\"cqg.rtd\",,\"OrderData\",\"\"&B244&\"\",\"\",\"OpenPosition\",\"\"&Display4!$D$3&\"\")),RTD(\"cqg.rtd\",,\"OrderData\",\"\"&B244&\"\",\"\",\"OpenPosition\",\"\"&Display4!$D$3&\"\")=0),A243+0.001,INT(A243)+1),A243)","v":0.24400000000000019},{"$f":"(LEFT(B245,SEARCH(Display4!$G$2,B245)+LEN(Display4!$G$2)+2))&RIGHT(B245,LEN(B245)-(SEARCH(Display4!$G$2,B245)+LEN(Display4!$G$2)+2))+Display4!$J$3","v":"P.US.EPZ1726300"}]
[{"$f":"IFERROR(IF(OR(ISTEXT(RTD(\"cqg.rtd\",,\"OrderData\",\"\"&B245&\"\",\"\",\"OpenPosition\",\"\"&Display4!$D$3&\"\")),RTD(\"cqg.rtd\",,\"OrderData\",\"\"&B245&\"\",\"\",\"OpenPosition\",\"\"&Display4!$D$3&\"\")=0),A244+0.001,INT(A244)+1),A244)","v":0.24500000000000019},{"$f":"(LEFT(B246,SEARCH(Display4!$G$2,B246)+LEN(Display4!$G$2)+2))&RIGHT(B246,LEN(B246)-(SEARCH(Display4!$G$2,B246)+LEN(Display4!$G$2)+2))+Display4!$J$3","v":"P.US.EPZ1726250"}]
[{"$f":"IFERROR(IF(OR(ISTEXT(RTD(\"cqg.rtd\",,\"OrderData\",\"\"&B246&\"\",\"\",\"OpenPosition\",\"\"&Display4!$D$3&\"\")),RTD(\"cqg.rtd\",,\"OrderData\",\"\"&B246&\"\",\"\",\"OpenPosition\",\"\"&Display4!$D$3&\"\")=0),A245+0.001,INT(A245)+1),A245)","v":0.24600000000000019},{"$f":"(LEFT(B247,SEARCH(Display4!$G$2,B247)+LEN(Display4!$G$2)+2))&RIGHT(B247,LEN(B247)-(SEARCH(Display4!$G$2,B247)+LEN(Display4!$G$2)+2))+Display4!$J$3","v":"P.US.EPZ1726200"}]
[{"$f":"IFERROR(IF(OR(ISTEXT(RTD(\"cqg.rtd\",,\"OrderData\",\"\"&B247&\"\",\"\",\"OpenPosition\",\"\"&Display4!$D$3&\"\")),RTD(\"cqg.rtd\",,\"OrderData\",\"\"&B247&\"\",\"\",\"OpenPosition\",\"\"&Display4!$D$3&\"\")=0),A246+0.001,INT(A246)+1),A246)","v":0.24700000000000019},{"$f":"(LEFT(B248,SEARCH(Display4!$G$2,B248)+LEN(Display4!$G$2)+2))&RIGHT(B248,LEN(B248)-(SEARCH(Display4!$G$2,B248)+LEN(Display4!$G$2)+2))+Display4!$J$3","v":"P.US.EPZ1726150"}]
[{"$f":"IFERROR(IF(OR(ISTEXT(RTD(\"cqg.rtd\",,\"OrderData\",\"\"&B248&\"\",\"\",\"OpenPosition\",\"\"&Display4!$D$3&\"\")),RTD(\"cqg.rtd\",,\"OrderData\",\"\"&B248&\"\",\"\",\"OpenPosition\",\"\"&Display4!$D$3&\"\")=0),A247+0.001,INT(A247)+1),A247)","v":0.24800000000000019},{"$f":"(LEFT(B249,SEARCH(Display4!$G$2,B249)+LEN(Display4!$G$2)+2))&RIGHT(B249,LEN(B249)-(SEARCH(Display4!$G$2,B249)+LEN(Display4!$G$2)+2))+Display4!$J$3","v":"P.US.EPZ1726100"}]
[{"$f":"IFERROR(IF(OR(ISTEXT(RTD(\"cqg.rtd\",,\"OrderData\",\"\"&B249&\"\",\"\",\"OpenPosition\",\"\"&Display4!$D$3&\"\")),RTD(\"cqg.rtd\",,\"OrderData\",\"\"&B249&\"\",\"\",\"OpenPosition\",\"\"&Display4!$D$3&\"\")=0),A248+0.001,INT(A248)+1),A248)","v":0.24900000000000019},{"$f":"(LEFT(B250,SEARCH(Display4!$G$2,B250)+LEN(Display4!$G$2)+2))&RIGHT(B250,LEN(B250)-(SEARCH(Display4!$G$2,B250)+LEN(Display4!$G$2)+2))+Display4!$J$3","v":"P.US.EPZ1726050"}]
[{"$f":"IFERROR(IF(OR(ISTEXT(RTD(\"cqg.rtd\",,\"OrderData\",\"\"&B250&\"\",\"\",\"OpenPosition\",\"\"&Display4!$D$3&\"\")),RTD(\"cqg.rtd\",,\"OrderData\",\"\"&B250&\"\",\"\",\"OpenPosition\",\"\"&Display4!$D$3&\"\")=0),A249+0.001,INT(A249)+1),A249)","v":0.25000000000000017},{"$f":"(LEFT(B251,SEARCH(Display4!$G$2,B251)+LEN(Display4!$G$2)+2))&RIGHT(B251,LEN(B251)-(SEARCH(Display4!$G$2,B251)+LEN(Display4!$G$2)+2))+Display4!$J$3","v":"P.US.EPZ1726000"}]
[{"$f":"IFERROR(IF(OR(ISTEXT(RTD(\"cqg.rtd\",,\"OrderData\",\"\"&B251&\"\",\"\",\"OpenPosition\",\"\"&Display4!$D$3&\"\")),RTD(\"cqg.rtd\",,\"OrderData\",\"\"&B251&\"\",\"\",\"OpenPosition\",\"\"&Display4!$D$3&\"\")=0),A250+0.001,INT(A250)+1),A250)","v":0.25100000000000017},{"$f":"(LEFT(B252,SEARCH(Display4!$G$2,B252)+LEN(Display4!$G$2)+2))&RIGHT(B252,LEN(B252)-(SEARCH(Display4!$G$2,B252)+LEN(Display4!$G$2)+2))+Display4!$J$3","v":"P.US.EPZ1725950"}]
[{"$f":"IFERROR(IF(OR(ISTEXT(RTD(\"cqg.rtd\",,\"OrderData\",\"\"&B252&\"\",\"\",\"OpenPosition\",\"\"&Display4!$D$3&\"\")),RTD(\"cqg.rtd\",,\"OrderData\",\"\"&B252&\"\",\"\",\"OpenPosition\",\"\"&Display4!$D$3&\"\")=0),A251+0.001,INT(A251)+1),A251)","v":0.25200000000000017},{"$f":"(LEFT(B253,SEARCH(Display4!$G$2,B253)+LEN(Display4!$G$2)+2))&RIGHT(B253,LEN(B253)-(SEARCH(Display4!$G$2,B253)+LEN(Display4!$G$2)+2))+Display4!$J$3","v":"P.US.EPZ1725900"}]
[{"$f":"IFERROR(IF(OR(ISTEXT(RTD(\"cqg.rtd\",,\"OrderData\",\"\"&B253&\"\",\"\",\"OpenPosition\",\"\"&Display4!$D$3&\"\")),RTD(\"cqg.rtd\",,\"OrderData\",\"\"&B253&\"\",\"\",\"OpenPosition\",\"\"&Display4!$D$3&\"\")=0),A252+0.001,INT(A252)+1),A252)","v":0.25300000000000017},{"$f":"(LEFT(B254,SEARCH(Display4!$G$2,B254)+LEN(Display4!$G$2)+2))&RIGHT(B254,LEN(B254)-(SEARCH(Display4!$G$2,B254)+LEN(Display4!$G$2)+2))+Display4!$J$3","v":"P.US.EPZ1725850"}]
[{"$f":"IFERROR(IF(OR(ISTEXT(RTD(\"cqg.rtd\",,\"OrderData\",\"\"&B254&\"\",\"\",\"OpenPosition\",\"\"&Display4!$D$3&\"\")),RTD(\"cqg.rtd\",,\"OrderData\",\"\"&B254&\"\",\"\",\"OpenPosition\",\"\"&Display4!$D$3&\"\")=0),A253+0.001,INT(A253)+1),A253)","v":0.25400000000000017},{"$f":"(LEFT(B255,SEARCH(Display4!$G$2,B255)+LEN(Display4!$G$2)+2))&RIGHT(B255,LEN(B255)-(SEARCH(Display4!$G$2,B255)+LEN(Display4!$G$2)+2))+Display4!$J$3","v":"P.US.EPZ1725800"}]
[{"$f":"IFERROR(IF(OR(ISTEXT(RTD(\"cqg.rtd\",,\"OrderData\",\"\"&B255&\"\",\"\",\"OpenPosition\",\"\"&Display4!$D$3&\"\")),RTD(\"cqg.rtd\",,\"OrderData\",\"\"&B255&\"\",\"\",\"OpenPosition\",\"\"&Display4!$D$3&\"\")=0),A254+0.001,INT(A254)+1),A254)","v":0.25500000000000017},{"$f":"(LEFT(B256,SEARCH(Display4!$G$2,B256)+LEN(Display4!$G$2)+2))&RIGHT(B256,LEN(B256)-(SEARCH(Display4!$G$2,B256)+LEN(Display4!$G$2)+2))+Display4!$J$3","v":"P.US.EPZ1725750"}]
[{"$f":"IFERROR(IF(OR(ISTEXT(RTD(\"cqg.rtd\",,\"OrderData\",\"\"&B256&\"\",\"\",\"OpenPosition\",\"\"&Display4!$D$3&\"\")),RTD(\"cqg.rtd\",,\"OrderData\",\"\"&B256&\"\",\"\",\"OpenPosition\",\"\"&Display4!$D$3&\"\")=0),A255+0.001,INT(A255)+1),A255)","v":0.25600000000000017},{"$f":"(LEFT(B257,SEARCH(Display4!$G$2,B257)+LEN(Display4!$G$2)+2))&RIGHT(B257,LEN(B257)-(SEARCH(Display4!$G$2,B257)+LEN(Display4!$G$2)+2))+Display4!$J$3","v":"P.US.EPZ1725700"}]
[{"$f":"IFERROR(IF(OR(ISTEXT(RTD(\"cqg.rtd\",,\"OrderData\",\"\"&B257&\"\",\"\",\"OpenPosition\",\"\"&Display4!$D$3&\"\")),RTD(\"cqg.rtd\",,\"OrderData\",\"\"&B257&\"\",\"\",\"OpenPosition\",\"\"&Display4!$D$3&\"\")=0),A256+0.001,INT(A256)+1),A256)","v":0.25700000000000017},{"$f":"(LEFT(B258,SEARCH(Display4!$G$2,B258)+LEN(Display4!$G$2)+2))&RIGHT(B258,LEN(B258)-(SEARCH(Display4!$G$2,B258)+LEN(Display4!$G$2)+2))+Display4!$J$3","v":"P.US.EPZ1725650"}]
[{"$f":"IFERROR(IF(OR(ISTEXT(RTD(\"cqg.rtd\",,\"OrderData\",\"\"&B258&\"\",\"\",\"OpenPosition\",\"\"&Display4!$D$3&\"\")),RTD(\"cqg.rtd\",,\"OrderData\",\"\"&B258&\"\",\"\",\"OpenPosition\",\"\"&Display4!$D$3&\"\")=0),A257+0.001,INT(A257)+1),A257)","v":0.25800000000000017},{"$f":"(LEFT(B259,SEARCH(Display4!$G$2,B259)+LEN(Display4!$G$2)+2))&RIGHT(B259,LEN(B259)-(SEARCH(Display4!$G$2,B259)+LEN(Display4!$G$2)+2))+Display4!$J$3","v":"P.US.EPZ1725600"}]
[{"$f":"IFERROR(IF(OR(ISTEXT(RTD(\"cqg.rtd\",,\"OrderData\",\"\"&B259&\"\",\"\",\"OpenPosition\",\"\"&Display4!$D$3&\"\")),RTD(\"cqg.rtd\",,\"OrderData\",\"\"&B259&\"\",\"\",\"OpenPosition\",\"\"&Display4!$D$3&\"\")=0),A258+0.001,INT(A258)+1),A258)","v":0.25900000000000017},{"$f":"(LEFT(B260,SEARCH(Display4!$G$2,B260)+LEN(Display4!$G$2)+2))&RIGHT(B260,LEN(B260)-(SEARCH(Display4!$G$2,B260)+LEN(Display4!$G$2)+2))+Display4!$J$3","v":"P.US.EPZ1725550"}]
[{"$f":"IFERROR(IF(OR(ISTEXT(RTD(\"cqg.rtd\",,\"OrderData\",\"\"&B260&\"\",\"\",\"OpenPosition\",\"\"&Display4!$D$3&\"\")),RTD(\"cqg.rtd\",,\"OrderData\",\"\"&B260&\"\",\"\",\"OpenPosition\",\"\"&Display4!$D$3&\"\")=0),A259+0.001,INT(A259)+1),A259)","v":0.26000000000000018},{"$f":"(LEFT(B261,SEARCH(Display4!$G$2,B261)+LEN(Display4!$G$2)+2))&RIGHT(B261,LEN(B261)-(SEARCH(Display4!$G$2,B261)+LEN(Display4!$G$2)+2))+Display4!$J$3","v":"P.US.EPZ1725500"}]
[{"$f":"IFERROR(IF(OR(ISTEXT(RTD(\"cqg.rtd\",,\"OrderData\",\"\"&B261&\"\",\"\",\"OpenPosition\",\"\"&Display4!$D$3&\"\")),RTD(\"cqg.rtd\",,\"OrderData\",\"\"&B261&\"\",\"\",\"OpenPosition\",\"\"&Display4!$D$3&\"\")=0),A260+0.001,INT(A260)+1),A260)","v":0.26100000000000018},{"$f":"(LEFT(B262,SEARCH(Display4!$G$2,B262)+LEN(Display4!$G$2)+2))&RIGHT(B262,LEN(B262)-(SEARCH(Display4!$G$2,B262)+LEN(Display4!$G$2)+2))+Display4!$J$3","v":"P.US.EPZ1725450"}]
[{"$f":"IFERROR(IF(OR(ISTEXT(RTD(\"cqg.rtd\",,\"OrderData\",\"\"&B262&\"\",\"\",\"OpenPosition\",\"\"&Display4!$D$3&\"\")),RTD(\"cqg.rtd\",,\"OrderData\",\"\"&B262&\"\",\"\",\"OpenPosition\",\"\"&Display4!$D$3&\"\")=0),A261+0.001,INT(A261)+1),A261)","v":0.26200000000000018},{"$f":"(LEFT(B263,SEARCH(Display4!$G$2,B263)+LEN(Display4!$G$2)+2))&RIGHT(B263,LEN(B263)-(SEARCH(Display4!$G$2,B263)+LEN(Display4!$G$2)+2))+Display4!$J$3","v":"P.US.EPZ1725400"}]
[{"$f":"IFERROR(IF(OR(ISTEXT(RTD(\"cqg.rtd\",,\"OrderData\",\"\"&B263&\"\",\"\",\"OpenPosition\",\"\"&Display4!$D$3&\"\")),RTD(\"cqg.rtd\",,\"OrderData\",\"\"&B263&\"\",\"\",\"OpenPosition\",\"\"&Display4!$D$3&\"\")=0),A262+0.001,INT(A262)+1),A262)","v":0.26300000000000018},{"$f":"(LEFT(B264,SEARCH(Display4!$G$2,B264)+LEN(Display4!$G$2)+2))&RIGHT(B264,LEN(B264)-(SEARCH(Display4!$G$2,B264)+LEN(Display4!$G$2)+2))+Display4!$J$3","v":"P.US.EPZ1725350"}]
[{"$f":"IFERROR(IF(OR(ISTEXT(RTD(\"cqg.rtd\",,\"OrderData\",\"\"&B264&\"\",\"\",\"OpenPosition\",\"\"&Display4!$D$3&\"\")),RTD(\"cqg.rtd\",,\"OrderData\",\"\"&B264&\"\",\"\",\"OpenPosition\",\"\"&Display4!$D$3&\"\")=0),A263+0.001,INT(A263)+1),A263)","v":0.26400000000000018},{"$f":"(LEFT(B265,SEARCH(Display4!$G$2,B265)+LEN(Display4!$G$2)+2))&RIGHT(B265,LEN(B265)-(SEARCH(Display4!$G$2,B265)+LEN(Display4!$G$2)+2))+Display4!$J$3","v":"P.US.EPZ1725300"}]
[{"$f":"IFERROR(IF(OR(ISTEXT(RTD(\"cqg.rtd\",,\"OrderData\",\"\"&B265&\"\",\"\",\"OpenPosition\",\"\"&Display4!$D$3&\"\")),RTD(\"cqg.rtd\",,\"OrderData\",\"\"&B265&\"\",\"\",\"OpenPosition\",\"\"&Display4!$D$3&\"\")=0),A264+0.001,INT(A264)+1),A264)","v":0.26500000000000018},{"$f":"(LEFT(B266,SEARCH(Display4!$G$2,B266)+LEN(Display4!$G$2)+2))&RIGHT(B266,LEN(B266)-(SEARCH(Display4!$G$2,B266)+LEN(Display4!$G$2)+2))+Display4!$J$3","v":"P.US.EPZ1725250"}]
[{"$f":"IFERROR(IF(OR(ISTEXT(RTD(\"cqg.rtd\",,\"OrderData\",\"\"&B266&\"\",\"\",\"OpenPosition\",\"\"&Display4!$D$3&\"\")),RTD(\"cqg.rtd\",,\"OrderData\",\"\"&B266&\"\",\"\",\"OpenPosition\",\"\"&Display4!$D$3&\"\")=0),A265+0.001,INT(A265)+1),A265)","v":0.26600000000000018},{"$f":"(LEFT(B267,SEARCH(Display4!$G$2,B267)+LEN(Display4!$G$2)+2))&RIGHT(B267,LEN(B267)-(SEARCH(Display4!$G$2,B267)+LEN(Display4!$G$2)+2))+Display4!$J$3","v":"P.US.EPZ1725200"}]
[{"$f":"IFERROR(IF(OR(ISTEXT(RTD(\"cqg.rtd\",,\"OrderData\",\"\"&B267&\"\",\"\",\"OpenPosition\",\"\"&Display4!$D$3&\"\")),RTD(\"cqg.rtd\",,\"OrderData\",\"\"&B267&\"\",\"\",\"OpenPosition\",\"\"&Display4!$D$3&\"\")=0),A266+0.001,INT(A266)+1),A266)","v":0.26700000000000018},{"$f":"(LEFT(B268,SEARCH(Display4!$G$2,B268)+LEN(Display4!$G$2)+2))&RIGHT(B268,LEN(B268)-(SEARCH(Display4!$G$2,B268)+LEN(Display4!$G$2)+2))+Display4!$J$3","v":"P.US.EPZ1725150"}]
[{"$f":"IFERROR(IF(OR(ISTEXT(RTD(\"cqg.rtd\",,\"OrderData\",\"\"&B268&\"\",\"\",\"OpenPosition\",\"\"&Display4!$D$3&\"\")),RTD(\"cqg.rtd\",,\"OrderData\",\"\"&B268&\"\",\"\",\"OpenPosition\",\"\"&Display4!$D$3&\"\")=0),A267+0.001,INT(A267)+1),A267)","v":0.26800000000000018},{"$f":"(LEFT(B269,SEARCH(Display4!$G$2,B269)+LEN(Display4!$G$2)+2))&RIGHT(B269,LEN(B269)-(SEARCH(Display4!$G$2,B269)+LEN(Display4!$G$2)+2))+Display4!$J$3","v":"P.US.EPZ1725100"}]
[{"$f":"IFERROR(IF(OR(ISTEXT(RTD(\"cqg.rtd\",,\"OrderData\",\"\"&B269&\"\",\"\",\"OpenPosition\",\"\"&Display4!$D$3&\"\")),RTD(\"cqg.rtd\",,\"OrderData\",\"\"&B269&\"\",\"\",\"OpenPosition\",\"\"&Display4!$D$3&\"\")=0),A268+0.001,INT(A268)+1),A268)","v":0.26900000000000018},{"$f":"(LEFT(B270,SEARCH(Display4!$G$2,B270)+LEN(Display4!$G$2)+2))&RIGHT(B270,LEN(B270)-(SEARCH(Display4!$G$2,B270)+LEN(Display4!$G$2)+2))+Display4!$J$3","v":"P.US.EPZ1725050"}]
[{"$f":"IFERROR(IF(OR(ISTEXT(RTD(\"cqg.rtd\",,\"OrderData\",\"\"&B270&\"\",\"\",\"OpenPosition\",\"\"&Display4!$D$3&\"\")),RTD(\"cqg.rtd\",,\"OrderData\",\"\"&B270&\"\",\"\",\"OpenPosition\",\"\"&Display4!$D$3&\"\")=0),A269+0.001,INT(A269)+1),A269)","v":0.27000000000000018},{"$f":"(LEFT(B271,SEARCH(Display4!$G$2,B271)+LEN(Display4!$G$2)+2))&RIGHT(B271,LEN(B271)-(SEARCH(Display4!$G$2,B271)+LEN(Display4!$G$2)+2))+Display4!$J$3","v":"P.US.EPZ1725000"}]
[{"$f":"IFERROR(IF(OR(ISTEXT(RTD(\"cqg.rtd\",,\"OrderData\",\"\"&B271&\"\",\"\",\"OpenPosition\",\"\"&Display4!$D$3&\"\")),RTD(\"cqg.rtd\",,\"OrderData\",\"\"&B271&\"\",\"\",\"OpenPosition\",\"\"&Display4!$D$3&\"\")=0),A270+0.001,INT(A270)+1),A270)","v":0.27100000000000019},{"$f":"(LEFT(B272,SEARCH(Display4!$G$2,B272)+LEN(Display4!$G$2)+2))&RIGHT(B272,LEN(B272)-(SEARCH(Display4!$G$2,B272)+LEN(Display4!$G$2)+2))+Display4!$J$3","v":"P.US.EPZ1724950"}]
[{"$f":"IFERROR(IF(OR(ISTEXT(RTD(\"cqg.rtd\",,\"OrderData\",\"\"&B272&\"\",\"\",\"OpenPosition\",\"\"&Display4!$D$3&\"\")),RTD(\"cqg.rtd\",,\"OrderData\",\"\"&B272&\"\",\"\",\"OpenPosition\",\"\"&Display4!$D$3&\"\")=0),A271+0.001,INT(A271)+1),A271)","v":0.27200000000000019},{"$f":"(LEFT(B273,SEARCH(Display4!$G$2,B273)+LEN(Display4!$G$2)+2))&RIGHT(B273,LEN(B273)-(SEARCH(Display4!$G$2,B273)+LEN(Display4!$G$2)+2))+Display4!$J$3","v":"P.US.EPZ1724900"}]
[{"$f":"IFERROR(IF(OR(ISTEXT(RTD(\"cqg.rtd\",,\"OrderData\",\"\"&B273&\"\",\"\",\"OpenPosition\",\"\"&Display4!$D$3&\"\")),RTD(\"cqg.rtd\",,\"OrderData\",\"\"&B273&\"\",\"\",\"OpenPosition\",\"\"&Display4!$D$3&\"\")=0),A272+0.001,INT(A272)+1),A272)","v":0.27300000000000019},{"$f":"(LEFT(B274,SEARCH(Display4!$G$2,B274)+LEN(Display4!$G$2)+2))&RIGHT(B274,LEN(B274)-(SEARCH(Display4!$G$2,B274)+LEN(Display4!$G$2)+2))+Display4!$J$3","v":"P.US.EPZ1724850"}]
[{"$f":"IFERROR(IF(OR(ISTEXT(RTD(\"cqg.rtd\",,\"OrderData\",\"\"&B274&\"\",\"\",\"OpenPosition\",\"\"&Display4!$D$3&\"\")),RTD(\"cqg.rtd\",,\"OrderData\",\"\"&B274&\"\",\"\",\"OpenPosition\",\"\"&Display4!$D$3&\"\")=0),A273+0.001,INT(A273)+1),A273)","v":0.27400000000000019},{"$f":"(LEFT(B275,SEARCH(Display4!$G$2,B275)+LEN(Display4!$G$2)+2))&RIGHT(B275,LEN(B275)-(SEARCH(Display4!$G$2,B275)+LEN(Display4!$G$2)+2))+Display4!$J$3","v":"P.US.EPZ1724800"}]
[{"$f":"IFERROR(IF(OR(ISTEXT(RTD(\"cqg.rtd\",,\"OrderData\",\"\"&B275&\"\",\"\",\"OpenPosition\",\"\"&Display4!$D$3&\"\")),RTD(\"cqg.rtd\",,\"OrderData\",\"\"&B275&\"\",\"\",\"OpenPosition\",\"\"&Display4!$D$3&\"\")=0),A274+0.001,INT(A274)+1),A274)","v":0.27500000000000019},{"$f":"(LEFT(B276,SEARCH(Display4!$G$2,B276)+LEN(Display4!$G$2)+2))&RIGHT(B276,LEN(B276)-(SEARCH(Display4!$G$2,B276)+LEN(Display4!$G$2)+2))+Display4!$J$3","v":"P.US.EPZ1724750"}]
[{"$f":"IFERROR(IF(OR(ISTEXT(RTD(\"cqg.rtd\",,\"OrderData\",\"\"&B276&\"\",\"\",\"OpenPosition\",\"\"&Display4!$D$3&\"\")),RTD(\"cqg.rtd\",,\"OrderData\",\"\"&B276&\"\",\"\",\"OpenPosition\",\"\"&Display4!$D$3&\"\")=0),A275+0.001,INT(A275)+1),A275)","v":0.27600000000000019},{"$f":"(LEFT(B277,SEARCH(Display4!$G$2,B277)+LEN(Display4!$G$2)+2))&RIGHT(B277,LEN(B277)-(SEARCH(Display4!$G$2,B277)+LEN(Display4!$G$2)+2))+Display4!$J$3","v":"P.US.EPZ1724700"}]
[{"$f":"IFERROR(IF(OR(ISTEXT(RTD(\"cqg.rtd\",,\"OrderData\",\"\"&B277&\"\",\"\",\"OpenPosition\",\"\"&Display4!$D$3&\"\")),RTD(\"cqg.rtd\",,\"OrderData\",\"\"&B277&\"\",\"\",\"OpenPosition\",\"\"&Display4!$D$3&\"\")=0),A276+0.001,INT(A276)+1),A276)","v":0.27700000000000019},{"$f":"(LEFT(B278,SEARCH(Display4!$G$2,B278)+LEN(Display4!$G$2)+2))&RIGHT(B278,LEN(B278)-(SEARCH(Display4!$G$2,B278)+LEN(Display4!$G$2)+2))+Display4!$J$3","v":"P.US.EPZ1724650"}]
[{"$f":"IFERROR(IF(OR(ISTEXT(RTD(\"cqg.rtd\",,\"OrderData\",\"\"&B278&\"\",\"\",\"OpenPosition\",\"\"&Display4!$D$3&\"\")),RTD(\"cqg.rtd\",,\"OrderData\",\"\"&B278&\"\",\"\",\"OpenPosition\",\"\"&Display4!$D$3&\"\")=0),A277+0.001,INT(A277)+1),A277)","v":0.27800000000000019},{"$f":"(LEFT(B279,SEARCH(Display4!$G$2,B279)+LEN(Display4!$G$2)+2))&RIGHT(B279,LEN(B279)-(SEARCH(Display4!$G$2,B279)+LEN(Display4!$G$2)+2))+Display4!$J$3","v":"P.US.EPZ1724600"}]
[{"$f":"IFERROR(IF(OR(ISTEXT(RTD(\"cqg.rtd\",,\"OrderData\",\"\"&B279&\"\",\"\",\"OpenPosition\",\"\"&Display4!$D$3&\"\")),RTD(\"cqg.rtd\",,\"OrderData\",\"\"&B279&\"\",\"\",\"OpenPosition\",\"\"&Display4!$D$3&\"\")=0),A278+0.001,INT(A278)+1),A278)","v":0.27900000000000019},{"$f":"(LEFT(B280,SEARCH(Display4!$G$2,B280)+LEN(Display4!$G$2)+2))&RIGHT(B280,LEN(B280)-(SEARCH(Display4!$G$2,B280)+LEN(Display4!$G$2)+2))+Display4!$J$3","v":"P.US.EPZ1724550"}]
[{"$f":"IFERROR(IF(OR(ISTEXT(RTD(\"cqg.rtd\",,\"OrderData\",\"\"&B280&\"\",\"\",\"OpenPosition\",\"\"&Display4!$D$3&\"\")),RTD(\"cqg.rtd\",,\"OrderData\",\"\"&B280&\"\",\"\",\"OpenPosition\",\"\"&Display4!$D$3&\"\")=0),A279+0.001,INT(A279)+1),A279)","v":0.28000000000000019},{"$f":"(LEFT(B281,SEARCH(Display4!$G$2,B281)+LEN(Display4!$G$2)+2))&RIGHT(B281,LEN(B281)-(SEARCH(Display4!$G$2,B281)+LEN(Display4!$G$2)+2))+Display4!$J$3","v":"P.US.EPZ1724500"}]
[{"$f":"IFERROR(IF(OR(ISTEXT(RTD(\"cqg.rtd\",,\"OrderData\",\"\"&B281&\"\",\"\",\"OpenPosition\",\"\"&Display4!$D$3&\"\")),RTD(\"cqg.rtd\",,\"OrderData\",\"\"&B281&\"\",\"\",\"OpenPosition\",\"\"&Display4!$D$3&\"\")=0),A280+0.001,INT(A280)+1),A280)","v":0.28100000000000019},{"$f":"(LEFT(B282,SEARCH(Display4!$G$2,B282)+LEN(Display4!$G$2)+2))&RIGHT(B282,LEN(B282)-(SEARCH(Display4!$G$2,B282)+LEN(Display4!$G$2)+2))+Display4!$J$3","v":"P.US.EPZ1724450"}]
[{"$f":"IFERROR(IF(OR(ISTEXT(RTD(\"cqg.rtd\",,\"OrderData\",\"\"&B282&\"\",\"\",\"OpenPosition\",\"\"&Display4!$D$3&\"\")),RTD(\"cqg.rtd\",,\"OrderData\",\"\"&B282&\"\",\"\",\"OpenPosition\",\"\"&Display4!$D$3&\"\")=0),A281+0.001,INT(A281)+1),A281)","v":0.28200000000000019},{"$f":"(LEFT(B283,SEARCH(Display4!$G$2,B283)+LEN(Display4!$G$2)+2))&RIGHT(B283,LEN(B283)-(SEARCH(Display4!$G$2,B283)+LEN(Display4!$G$2)+2))+Display4!$J$3","v":"P.US.EPZ1724400"}]
[{"$f":"IFERROR(IF(OR(ISTEXT(RTD(\"cqg.rtd\",,\"OrderData\",\"\"&B283&\"\",\"\",\"OpenPosition\",\"\"&Display4!$D$3&\"\")),RTD(\"cqg.rtd\",,\"OrderData\",\"\"&B283&\"\",\"\",\"OpenPosition\",\"\"&Display4!$D$3&\"\")=0),A282+0.001,INT(A282)+1),A282)","v":0.2830000000000002},{"$f":"RTD(\"cqg.rtd\", ,\"ContractData\", \"P.US.\"&Display4!$G$2&Display4!$H$3&\"\", \"Symbol\",, \"T\")","v":"P.US.EPZ1724350"}]
[{"$f":"IFERROR(IF(OR(ISTEXT(RTD(\"cqg.rtd\",,\"OrderData\",\"\"&B284&\"\",\"\",\"OpenPosition\",\"\"&Display4!$D$3&\"\")),RTD(\"cqg.rtd\",,\"OrderData\",\"\"&B284&\"\",\"\",\"OpenPosition\",\"\"&Display4!$D$3&\"\")=0),A283+0.001,INT(A283)+1),A283)","v":0.2840000000000002},{"$f":"(LEFT(B283,SEARCH(Display4!$G$2,B283)+LEN(Display4!$G$2)+2))&RIGHT(B283,LEN(B283)-(SEARCH(Display4!$G$2,B283)+LEN(Display4!$G$2)+2))-Display4!$J$3","v":"P.US.EPZ1724300"}]
[{"$f":"IFERROR(IF(OR(ISTEXT(RTD(\"cqg.rtd\",,\"OrderData\",\"\"&B285&\"\",\"\",\"OpenPosition\",\"\"&Display4!$D$3&\"\")),RTD(\"cqg.rtd\",,\"OrderData\",\"\"&B285&\"\",\"\",\"OpenPosition\",\"\"&Display4!$D$3&\"\")=0),A284+0.001,INT(A284)+1),A284)","v":0.2850000000000002},{"$f":"(LEFT(B284,SEARCH(Display4!$G$2,B284)+LEN(Display4!$G$2)+2))&RIGHT(B284,LEN(B284)-(SEARCH(Display4!$G$2,B284)+LEN(Display4!$G$2)+2))-Display4!$J$3","v":"P.US.EPZ1724250"}]
[{"$f":"IFERROR(IF(OR(ISTEXT(RTD(\"cqg.rtd\",,\"OrderData\",\"\"&B286&\"\",\"\",\"OpenPosition\",\"\"&Display4!$D$3&\"\")),RTD(\"cqg.rtd\",,\"OrderData\",\"\"&B286&\"\",\"\",\"OpenPosition\",\"\"&Display4!$D$3&\"\")=0),A285+0.001,INT(A285)+1),A285)","v":0.2860000000000002},{"$f":"(LEFT(B285,SEARCH(Display4!$G$2,B285)+LEN(Display4!$G$2)+2))&RIGHT(B285,LEN(B285)-(SEARCH(Display4!$G$2,B285)+LEN(Display4!$G$2)+2))-Display4!$J$3","v":"P.US.EPZ1724200"}]
[{"$f":"IFERROR(IF(OR(ISTEXT(RTD(\"cqg.rtd\",,\"OrderData\",\"\"&B287&\"\",\"\",\"OpenPosition\",\"\"&Display4!$D$3&\"\")),RTD(\"cqg.rtd\",,\"OrderData\",\"\"&B287&\"\",\"\",\"OpenPosition\",\"\"&Display4!$D$3&\"\")=0),A286+0.001,INT(A286)+1),A286)","v":0.2870000000000002},{"$f":"(LEFT(B286,SEARCH(Display4!$G$2,B286)+LEN(Display4!$G$2)+2))&RIGHT(B286,LEN(B286)-(SEARCH(Display4!$G$2,B286)+LEN(Display4!$G$2)+2))-Display4!$J$3","v":"P.US.EPZ1724150"}]
[{"$f":"IFERROR(IF(OR(ISTEXT(RTD(\"cqg.rtd\",,\"OrderData\",\"\"&B288&\"\",\"\",\"OpenPosition\",\"\"&Display4!$D$3&\"\")),RTD(\"cqg.rtd\",,\"OrderData\",\"\"&B288&\"\",\"\",\"OpenPosition\",\"\"&Display4!$D$3&\"\")=0),A287+0.001,INT(A287)+1),A287)","v":0.2880000000000002},{"$f":"(LEFT(B287,SEARCH(Display4!$G$2,B287)+LEN(Display4!$G$2)+2))&RIGHT(B287,LEN(B287)-(SEARCH(Display4!$G$2,B287)+LEN(Display4!$G$2)+2))-Display4!$J$3","v":"P.US.EPZ1724100"}]
[{"$f":"IFERROR(IF(OR(ISTEXT(RTD(\"cqg.rtd\",,\"OrderData\",\"\"&B289&\"\",\"\",\"OpenPosition\",\"\"&Display4!$D$3&\"\")),RTD(\"cqg.rtd\",,\"OrderData\",\"\"&B289&\"\",\"\",\"OpenPosition\",\"\"&Display4!$D$3&\"\")=0),A288+0.001,INT(A288)+1),A288)","v":0.2890000000000002},{"$f":"(LEFT(B288,SEARCH(Display4!$G$2,B288)+LEN(Display4!$G$2)+2))&RIGHT(B288,LEN(B288)-(SEARCH(Display4!$G$2,B288)+LEN(Display4!$G$2)+2))-Display4!$J$3","v":"P.US.EPZ1724050"}]
[{"$f":"IFERROR(IF(OR(ISTEXT(RTD(\"cqg.rtd\",,\"OrderData\",\"\"&B290&\"\",\"\",\"OpenPosition\",\"\"&Display4!$D$3&\"\")),RTD(\"cqg.rtd\",,\"OrderData\",\"\"&B290&\"\",\"\",\"OpenPosition\",\"\"&Display4!$D$3&\"\")=0),A289+0.001,INT(A289)+1),A289)","v":0.2900000000000002},{"$f":"(LEFT(B289,SEARCH(Display4!$G$2,B289)+LEN(Display4!$G$2)+2))&RIGHT(B289,LEN(B289)-(SEARCH(Display4!$G$2,B289)+LEN(Display4!$G$2)+2))-Display4!$J$3","v":"P.US.EPZ1724000"}]
[{"$f":"IFERROR(IF(OR(ISTEXT(RTD(\"cqg.rtd\",,\"OrderData\",\"\"&B291&\"\",\"\",\"OpenPosition\",\"\"&Display4!$D$3&\"\")),RTD(\"cqg.rtd\",,\"OrderData\",\"\"&B291&\"\",\"\",\"OpenPosition\",\"\"&Display4!$D$3&\"\")=0),A290+0.001,INT(A290)+1),A290)","v":0.2910000000000002},{"$f":"(LEFT(B290,SEARCH(Display4!$G$2,B290)+LEN(Display4!$G$2)+2))&RIGHT(B290,LEN(B290)-(SEARCH(Display4!$G$2,B290)+LEN(Display4!$G$2)+2))-Display4!$J$3","v":"P.US.EPZ1723950"}]
[{"$f":"IFERROR(IF(OR(ISTEXT(RTD(\"cqg.rtd\",,\"OrderData\",\"\"&B292&\"\",\"\",\"OpenPosition\",\"\"&Display4!$D$3&\"\")),RTD(\"cqg.rtd\",,\"OrderData\",\"\"&B292&\"\",\"\",\"OpenPosition\",\"\"&Display4!$D$3&\"\")=0),A291+0.001,INT(A291)+1),A291)","v":0.2920000000000002},{"$f":"(LEFT(B291,SEARCH(Display4!$G$2,B291)+LEN(Display4!$G$2)+2))&RIGHT(B291,LEN(B291)-(SEARCH(Display4!$G$2,B291)+LEN(Display4!$G$2)+2))-Display4!$J$3","v":"P.US.EPZ1723900"}]
[{"$f":"IFERROR(IF(OR(ISTEXT(RTD(\"cqg.rtd\",,\"OrderData\",\"\"&B293&\"\",\"\",\"OpenPosition\",\"\"&Display4!$D$3&\"\")),RTD(\"cqg.rtd\",,\"OrderData\",\"\"&B293&\"\",\"\",\"OpenPosition\",\"\"&Display4!$D$3&\"\")=0),A292+0.001,INT(A292)+1),A292)","v":0.2930000000000002},{"$f":"(LEFT(B292,SEARCH(Display4!$G$2,B292)+LEN(Display4!$G$2)+2))&RIGHT(B292,LEN(B292)-(SEARCH(Display4!$G$2,B292)+LEN(Display4!$G$2)+2))-Display4!$J$3","v":"P.US.EPZ1723850"}]
[{"$f":"IFERROR(IF(OR(ISTEXT(RTD(\"cqg.rtd\",,\"OrderData\",\"\"&B294&\"\",\"\",\"OpenPosition\",\"\"&Display4!$D$3&\"\")),RTD(\"cqg.rtd\",,\"OrderData\",\"\"&B294&\"\",\"\",\"OpenPosition\",\"\"&Display4!$D$3&\"\")=0),A293+0.001,INT(A293)+1),A293)","v":0.29400000000000021},{"$f":"(LEFT(B293,SEARCH(Display4!$G$2,B293)+LEN(Display4!$G$2)+2))&RIGHT(B293,LEN(B293)-(SEARCH(Display4!$G$2,B293)+LEN(Display4!$G$2)+2))-Display4!$J$3","v":"P.US.EPZ1723800"}]
[{"$f":"IFERROR(IF(OR(ISTEXT(RTD(\"cqg.rtd\",,\"OrderData\",\"\"&B295&\"\",\"\",\"OpenPosition\",\"\"&Display4!$D$3&\"\")),RTD(\"cqg.rtd\",,\"OrderData\",\"\"&B295&\"\",\"\",\"OpenPosition\",\"\"&Display4!$D$3&\"\")=0),A294+0.001,INT(A294)+1),A294)","v":0.29500000000000021},{"$f":"(LEFT(B294,SEARCH(Display4!$G$2,B294)+LEN(Display4!$G$2)+2))&RIGHT(B294,LEN(B294)-(SEARCH(Display4!$G$2,B294)+LEN(Display4!$G$2)+2))-Display4!$J$3","v":"P.US.EPZ1723750"}]
[{"$f":"IFERROR(IF(OR(ISTEXT(RTD(\"cqg.rtd\",,\"OrderData\",\"\"&B296&\"\",\"\",\"OpenPosition\",\"\"&Display4!$D$3&\"\")),RTD(\"cqg.rtd\",,\"OrderData\",\"\"&B296&\"\",\"\",\"OpenPosition\",\"\"&Display4!$D$3&\"\")=0),A295+0.001,INT(A295)+1),A295)","v":0.29600000000000021},{"$f":"(LEFT(B295,SEARCH(Display4!$G$2,B295)+LEN(Display4!$G$2)+2))&RIGHT(B295,LEN(B295)-(SEARCH(Display4!$G$2,B295)+LEN(Display4!$G$2)+2))-Display4!$J$3","v":"P.US.EPZ1723700"}]
[{"$f":"IFERROR(IF(OR(ISTEXT(RTD(\"cqg.rtd\",,\"OrderData\",\"\"&B297&\"\",\"\",\"OpenPosition\",\"\"&Display4!$D$3&\"\")),RTD(\"cqg.rtd\",,\"OrderData\",\"\"&B297&\"\",\"\",\"OpenPosition\",\"\"&Display4!$D$3&\"\")=0),A296+0.001,INT(A296)+1),A296)","v":0.29700000000000021},{"$f":"(LEFT(B296,SEARCH(Display4!$G$2,B296)+LEN(Display4!$G$2)+2))&RIGHT(B296,LEN(B296)-(SEARCH(Display4!$G$2,B296)+LEN(Display4!$G$2)+2))-Display4!$J$3","v":"P.US.EPZ1723650"}]
[{"$f":"IFERROR(IF(OR(ISTEXT(RTD(\"cqg.rtd\",,\"OrderData\",\"\"&B298&\"\",\"\",\"OpenPosition\",\"\"&Display4!$D$3&\"\")),RTD(\"cqg.rtd\",,\"OrderData\",\"\"&B298&\"\",\"\",\"OpenPosition\",\"\"&Display4!$D$3&\"\")=0),A297+0.001,INT(A297)+1),A297)","v":0.29800000000000021},{"$f":"(LEFT(B297,SEARCH(Display4!$G$2,B297)+LEN(Display4!$G$2)+2))&RIGHT(B297,LEN(B297)-(SEARCH(Display4!$G$2,B297)+LEN(Display4!$G$2)+2))-Display4!$J$3","v":"P.US.EPZ1723600"}]
[{"$f":"IFERROR(IF(OR(ISTEXT(RTD(\"cqg.rtd\",,\"OrderData\",\"\"&B299&\"\",\"\",\"OpenPosition\",\"\"&Display4!$D$3&\"\")),RTD(\"cqg.rtd\",,\"OrderData\",\"\"&B299&\"\",\"\",\"OpenPosition\",\"\"&Display4!$D$3&\"\")=0),A298+0.001,INT(A298)+1),A298)","v":0.29900000000000021},{"$f":"(LEFT(B298,SEARCH(Display4!$G$2,B298)+LEN(Display4!$G$2)+2))&RIGHT(B298,LEN(B298)-(SEARCH(Display4!$G$2,B298)+LEN(Display4!$G$2)+2))-Display4!$J$3","v":"P.US.EPZ1723550"}]
[{"$f":"IFERROR(IF(OR(ISTEXT(RTD(\"cqg.rtd\",,\"OrderData\",\"\"&B300&\"\",\"\",\"OpenPosition\",\"\"&Display4!$D$3&\"\")),RTD(\"cqg.rtd\",,\"OrderData\",\"\"&B300&\"\",\"\",\"OpenPosition\",\"\"&Display4!$D$3&\"\")=0),A299+0.001,INT(A299)+1),A299)","v":0.30000000000000021},{"$f":"(LEFT(B299,SEARCH(Display4!$G$2,B299)+LEN(Display4!$G$2)+2))&RIGHT(B299,LEN(B299)-(SEARCH(Display4!$G$2,B299)+LEN(Display4!$G$2)+2))-Display4!$J$3","v":"P.US.EPZ1723500"}]
[{"$f":"IFERROR(IF(OR(ISTEXT(RTD(\"cqg.rtd\",,\"OrderData\",\"\"&B301&\"\",\"\",\"OpenPosition\",\"\"&Display4!$D$3&\"\")),RTD(\"cqg.rtd\",,\"OrderData\",\"\"&B301&\"\",\"\",\"OpenPosition\",\"\"&Display4!$D$3&\"\")=0),A300+0.001,INT(A300)+1),A300)","v":0.30100000000000021},{"$f":"(LEFT(B300,SEARCH(Display4!$G$2,B300)+LEN(Display4!$G$2)+2))&RIGHT(B300,LEN(B300)-(SEARCH(Display4!$G$2,B300)+LEN(Display4!$G$2)+2))-Display4!$J$3","v":"P.US.EPZ1723450"}]
[{"$f":"IFERROR(IF(OR(ISTEXT(RTD(\"cqg.rtd\",,\"OrderData\",\"\"&B302&\"\",\"\",\"OpenPosition\",\"\"&Display4!$D$3&\"\")),RTD(\"cqg.rtd\",,\"OrderData\",\"\"&B302&\"\",\"\",\"OpenPosition\",\"\"&Display4!$D$3&\"\")=0),A301+0.001,INT(A301)+1),A301)","v":0.30200000000000021},{"$f":"(LEFT(B301,SEARCH(Display4!$G$2,B301)+LEN(Display4!$G$2)+2))&RIGHT(B301,LEN(B301)-(SEARCH(Display4!$G$2,B301)+LEN(Display4!$G$2)+2))-Display4!$J$3","v":"P.US.EPZ1723400"}]
[{"$f":"IFERROR(IF(OR(ISTEXT(RTD(\"cqg.rtd\",,\"OrderData\",\"\"&B303&\"\",\"\",\"OpenPosition\",\"\"&Display4!$D$3&\"\")),RTD(\"cqg.rtd\",,\"OrderData\",\"\"&B303&\"\",\"\",\"OpenPosition\",\"\"&Display4!$D$3&\"\")=0),A302+0.001,INT(A302)+1),A302)","v":0.30300000000000021},{"$f":"(LEFT(B302,SEARCH(Display4!$G$2,B302)+LEN(Display4!$G$2)+2))&RIGHT(B302,LEN(B302)-(SEARCH(Display4!$G$2,B302)+LEN(Display4!$G$2)+2))-Display4!$J$3","v":"P.US.EPZ1723350"}]
[{"$f":"IFERROR(IF(OR(ISTEXT(RTD(\"cqg.rtd\",,\"OrderData\",\"\"&B304&\"\",\"\",\"OpenPosition\",\"\"&Display4!$D$3&\"\")),RTD(\"cqg.rtd\",,\"OrderData\",\"\"&B304&\"\",\"\",\"OpenPosition\",\"\"&Display4!$D$3&\"\")=0),A303+0.001,INT(A303)+1),A303)","v":0.30400000000000021},{"$f":"(LEFT(B305,SEARCH(Display4!$G$2,B305)+LEN(Display4!$G$2)+2))&RIGHT(B305,LEN(B305)-(SEARCH(Display4!$G$2,B305)+LEN(Display4!$G$2)+2))+Display4!$J$3","v":"C.US.EPH1826300"}]
[{"$f":"IFERROR(IF(OR(ISTEXT(RTD(\"cqg.rtd\",,\"OrderData\",\"\"&B305&\"\",\"\",\"OpenPosition\",\"\"&Display4!$D$3&\"\")),RTD(\"cqg.rtd\",,\"OrderData\",\"\"&B305&\"\",\"\",\"OpenPosition\",\"\"&Display4!$D$3&\"\")=0),A304+0.001,INT(A304)+1),A304)","v":0.30500000000000022},{"$f":"(LEFT(B306,SEARCH(Display4!$G$2,B306)+LEN(Display4!$G$2)+2))&RIGHT(B306,LEN(B306)-(SEARCH(Display4!$G$2,B306)+LEN(Display4!$G$2)+2))+Display4!$J$3","v":"C.US.EPH1826250"}]
[{"$f":"IFERROR(IF(OR(ISTEXT(RTD(\"cqg.rtd\",,\"OrderData\",\"\"&B306&\"\",\"\",\"OpenPosition\",\"\"&Display4!$D$3&\"\")),RTD(\"cqg.rtd\",,\"OrderData\",\"\"&B306&\"\",\"\",\"OpenPosition\",\"\"&Display4!$D$3&\"\")=0),A305+0.001,INT(A305)+1),A305)","v":0.30600000000000022},{"$f":"(LEFT(B307,SEARCH(Display4!$G$2,B307)+LEN(Display4!$G$2)+2))&RIGHT(B307,LEN(B307)-(SEARCH(Display4!$G$2,B307)+LEN(Display4!$G$2)+2))+Display4!$J$3","v":"C.US.EPH1826200"}]
[{"$f":"IFERROR(IF(OR(ISTEXT(RTD(\"cqg.rtd\",,\"OrderData\",\"\"&B307&\"\",\"\",\"OpenPosition\",\"\"&Display4!$D$3&\"\")),RTD(\"cqg.rtd\",,\"OrderData\",\"\"&B307&\"\",\"\",\"OpenPosition\",\"\"&Display4!$D$3&\"\")=0),A306+0.001,INT(A306)+1),A306)","v":0.30700000000000022},{"$f":"(LEFT(B308,SEARCH(Display4!$G$2,B308)+LEN(Display4!$G$2)+2))&RIGHT(B308,LEN(B308)-(SEARCH(Display4!$G$2,B308)+LEN(Display4!$G$2)+2))+Display4!$J$3","v":"C.US.EPH1826150"}]
[{"$f":"IFERROR(IF(OR(ISTEXT(RTD(\"cqg.rtd\",,\"OrderData\",\"\"&B308&\"\",\"\",\"OpenPosition\",\"\"&Display4!$D$3&\"\")),RTD(\"cqg.rtd\",,\"OrderData\",\"\"&B308&\"\",\"\",\"OpenPosition\",\"\"&Display4!$D$3&\"\")=0),A307+0.001,INT(A307)+1),A307)","v":0.30800000000000022},{"$f":"(LEFT(B309,SEARCH(Display4!$G$2,B309)+LEN(Display4!$G$2)+2))&RIGHT(B309,LEN(B309)-(SEARCH(Display4!$G$2,B309)+LEN(Display4!$G$2)+2))+Display4!$J$3","v":"C.US.EPH1826100"}]
[{"$f":"IFERROR(IF(OR(ISTEXT(RTD(\"cqg.rtd\",,\"OrderData\",\"\"&B309&\"\",\"\",\"OpenPosition\",\"\"&Display4!$D$3&\"\")),RTD(\"cqg.rtd\",,\"OrderData\",\"\"&B309&\"\",\"\",\"OpenPosition\",\"\"&Display4!$D$3&\"\")=0),A308+0.001,INT(A308)+1),A308)","v":0.30900000000000022},{"$f":"(LEFT(B310,SEARCH(Display4!$G$2,B310)+LEN(Display4!$G$2)+2))&RIGHT(B310,LEN(B310)-(SEARCH(Display4!$G$2,B310)+LEN(Display4!$G$2)+2))+Display4!$J$3","v":"C.US.EPH1826050"}]
[{"$f":"IFERROR(IF(OR(ISTEXT(RTD(\"cqg.rtd\",,\"OrderData\",\"\"&B310&\"\",\"\",\"OpenPosition\",\"\"&Display4!$D$3&\"\")),RTD(\"cqg.rtd\",,\"OrderData\",\"\"&B310&\"\",\"\",\"OpenPosition\",\"\"&Display4!$D$3&\"\")=0),A309+0.001,INT(A309)+1),A309)","v":0.31000000000000022},{"$f":"(LEFT(B311,SEARCH(Display4!$G$2,B311)+LEN(Display4!$G$2)+2))&RIGHT(B311,LEN(B311)-(SEARCH(Display4!$G$2,B311)+LEN(Display4!$G$2)+2))+Display4!$J$3","v":"C.US.EPH1826000"}]
[{"$f":"IFERROR(IF(OR(ISTEXT(RTD(\"cqg.rtd\",,\"OrderData\",\"\"&B311&\"\",\"\",\"OpenPosition\",\"\"&Display4!$D$3&\"\")),RTD(\"cqg.rtd\",,\"OrderData\",\"\"&B311&\"\",\"\",\"OpenPosition\",\"\"&Display4!$D$3&\"\")=0),A310+0.001,INT(A310)+1),A310)","v":0.31100000000000022},{"$f":"(LEFT(B312,SEARCH(Display4!$G$2,B312)+LEN(Display4!$G$2)+2))&RIGHT(B312,LEN(B312)-(SEARCH(Display4!$G$2,B312)+LEN(Display4!$G$2)+2))+Display4!$J$3","v":"C.US.EPH1825950"}]
[{"$f":"IFERROR(IF(OR(ISTEXT(RTD(\"cqg.rtd\",,\"OrderData\",\"\"&B312&\"\",\"\",\"OpenPosition\",\"\"&Display4!$D$3&\"\")),RTD(\"cqg.rtd\",,\"OrderData\",\"\"&B312&\"\",\"\",\"OpenPosition\",\"\"&Display4!$D$3&\"\")=0),A311+0.001,INT(A311)+1),A311)","v":0.31200000000000022},{"$f":"(LEFT(B313,SEARCH(Display4!$G$2,B313)+LEN(Display4!$G$2)+2))&RIGHT(B313,LEN(B313)-(SEARCH(Display4!$G$2,B313)+LEN(Display4!$G$2)+2))+Display4!$J$3","v":"C.US.EPH1825900"}]
[{"$f":"IFERROR(IF(OR(ISTEXT(RTD(\"cqg.rtd\",,\"OrderData\",\"\"&B313&\"\",\"\",\"OpenPosition\",\"\"&Display4!$D$3&\"\")),RTD(\"cqg.rtd\",,\"OrderData\",\"\"&B313&\"\",\"\",\"OpenPosition\",\"\"&Display4!$D$3&\"\")=0),A312+0.001,INT(A312)+1),A312)","v":0.31300000000000022},{"$f":"(LEFT(B314,SEARCH(Display4!$G$2,B314)+LEN(Display4!$G$2)+2))&RIGHT(B314,LEN(B314)-(SEARCH(Display4!$G$2,B314)+LEN(Display4!$G$2)+2))+Display4!$J$3","v":"C.US.EPH1825850"}]
[{"$f":"IFERROR(IF(OR(ISTEXT(RTD(\"cqg.rtd\",,\"OrderData\",\"\"&B314&\"\",\"\",\"OpenPosition\",\"\"&Display4!$D$3&\"\")),RTD(\"cqg.rtd\",,\"OrderData\",\"\"&B314&\"\",\"\",\"OpenPosition\",\"\"&Display4!$D$3&\"\")=0),A313+0.001,INT(A313)+1),A313)","v":0.31400000000000022},{"$f":"(LEFT(B315,SEARCH(Display4!$G$2,B315)+LEN(Display4!$G$2)+2))&RIGHT(B315,LEN(B315)-(SEARCH(Display4!$G$2,B315)+LEN(Display4!$G$2)+2))+Display4!$J$3","v":"C.US.EPH1825800"}]
[{"$f":"IFERROR(IF(OR(ISTEXT(RTD(\"cqg.rtd\",,\"OrderData\",\"\"&B315&\"\",\"\",\"OpenPosition\",\"\"&Display4!$D$3&\"\")),RTD(\"cqg.rtd\",,\"OrderData\",\"\"&B315&\"\",\"\",\"OpenPosition\",\"\"&Display4!$D$3&\"\")=0),A314+0.001,INT(A314)+1),A314)","v":0.31500000000000022},{"$f":"(LEFT(B316,SEARCH(Display4!$G$2,B316)+LEN(Display4!$G$2)+2))&RIGHT(B316,LEN(B316)-(SEARCH(Display4!$G$2,B316)+LEN(Display4!$G$2)+2))+Display4!$J$3","v":"C.US.EPH1825750"}]
[{"$f":"IFERROR(IF(OR(ISTEXT(RTD(\"cqg.rtd\",,\"OrderData\",\"\"&B316&\"\",\"\",\"OpenPosition\",\"\"&Display4!$D$3&\"\")),RTD(\"cqg.rtd\",,\"OrderData\",\"\"&B316&\"\",\"\",\"OpenPosition\",\"\"&Display4!$D$3&\"\")=0),A315+0.001,INT(A315)+1),A315)","v":0.31600000000000023},{"$f":"(LEFT(B317,SEARCH(Display4!$G$2,B317)+LEN(Display4!$G$2)+2))&RIGHT(B317,LEN(B317)-(SEARCH(Display4!$G$2,B317)+LEN(Display4!$G$2)+2))+Display4!$J$3","v":"C.US.EPH1825700"}]
[{"$f":"IFERROR(IF(OR(ISTEXT(RTD(\"cqg.rtd\",,\"OrderData\",\"\"&B317&\"\",\"\",\"OpenPosition\",\"\"&Display4!$D$3&\"\")),RTD(\"cqg.rtd\",,\"OrderData\",\"\"&B317&\"\",\"\",\"OpenPosition\",\"\"&Display4!$D$3&\"\")=0),A316+0.001,INT(A316)+1),A316)","v":0.31700000000000023},{"$f":"(LEFT(B318,SEARCH(Display4!$G$2,B318)+LEN(Display4!$G$2)+2))&RIGHT(B318,LEN(B318)-(SEARCH(Display4!$G$2,B318)+LEN(Display4!$G$2)+2))+Display4!$J$3","v":"C.US.EPH1825650"}]
[{"$f":"IFERROR(IF(OR(ISTEXT(RTD(\"cqg.rtd\",,\"OrderData\",\"\"&B318&\"\",\"\",\"OpenPosition\",\"\"&Display4!$D$3&\"\")),RTD(\"cqg.rtd\",,\"OrderData\",\"\"&B318&\"\",\"\",\"OpenPosition\",\"\"&Display4!$D$3&\"\")=0),A317+0.001,INT(A317)+1),A317)","v":0.31800000000000023},{"$f":"(LEFT(B319,SEARCH(Display4!$G$2,B319)+LEN(Display4!$G$2)+2))&RIGHT(B319,LEN(B319)-(SEARCH(Display4!$G$2,B319)+LEN(Display4!$G$2)+2))+Display4!$J$3","v":"C.US.EPH1825600"}]
[{"$f":"IFERROR(IF(OR(ISTEXT(RTD(\"cqg.rtd\",,\"OrderData\",\"\"&B319&\"\",\"\",\"OpenPosition\",\"\"&Display4!$D$3&\"\")),RTD(\"cqg.rtd\",,\"OrderData\",\"\"&B319&\"\",\"\",\"OpenPosition\",\"\"&Display4!$D$3&\"\")=0),A318+0.001,INT(A318)+1),A318)","v":0.31900000000000023},{"$f":"(LEFT(B320,SEARCH(Display4!$G$2,B320)+LEN(Display4!$G$2)+2))&RIGHT(B320,LEN(B320)-(SEARCH(Display4!$G$2,B320)+LEN(Display4!$G$2)+2))+Display4!$J$3","v":"C.US.EPH1825550"}]
[{"$f":"IFERROR(IF(OR(ISTEXT(RTD(\"cqg.rtd\",,\"OrderData\",\"\"&B320&\"\",\"\",\"OpenPosition\",\"\"&Display4!$D$3&\"\")),RTD(\"cqg.rtd\",,\"OrderData\",\"\"&B320&\"\",\"\",\"OpenPosition\",\"\"&Display4!$D$3&\"\")=0),A319+0.001,INT(A319)+1),A319)","v":0.32000000000000023},{"$f":"(LEFT(B321,SEARCH(Display4!$G$2,B321)+LEN(Display4!$G$2)+2))&RIGHT(B321,LEN(B321)-(SEARCH(Display4!$G$2,B321)+LEN(Display4!$G$2)+2))+Display4!$J$3","v":"C.US.EPH1825500"}]
[{"$f":"IFERROR(IF(OR(ISTEXT(RTD(\"cqg.rtd\",,\"OrderData\",\"\"&B321&\"\",\"\",\"OpenPosition\",\"\"&Display4!$D$3&\"\")),RTD(\"cqg.rtd\",,\"OrderData\",\"\"&B321&\"\",\"\",\"OpenPosition\",\"\"&Display4!$D$3&\"\")=0),A320+0.001,INT(A320)+1),A320)","v":0.32100000000000023},{"$f":"(LEFT(B322,SEARCH(Display4!$G$2,B322)+LEN(Display4!$G$2)+2))&RIGHT(B322,LEN(B322)-(SEARCH(Display4!$G$2,B322)+LEN(Display4!$G$2)+2))+Display4!$J$3","v":"C.US.EPH1825450"}]
[{"$f":"IFERROR(IF(OR(ISTEXT(RTD(\"cqg.rtd\",,\"OrderData\",\"\"&B322&\"\",\"\",\"OpenPosition\",\"\"&Display4!$D$3&\"\")),RTD(\"cqg.rtd\",,\"OrderData\",\"\"&B322&\"\",\"\",\"OpenPosition\",\"\"&Display4!$D$3&\"\")=0),A321+0.001,INT(A321)+1),A321)","v":0.32200000000000023},{"$f":"(LEFT(B323,SEARCH(Display4!$G$2,B323)+LEN(Display4!$G$2)+2))&RIGHT(B323,LEN(B323)-(SEARCH(Display4!$G$2,B323)+LEN(Display4!$G$2)+2))+Display4!$J$3","v":"C.US.EPH1825400"}]
[{"$f":"IFERROR(IF(OR(ISTEXT(RTD(\"cqg.rtd\",,\"OrderData\",\"\"&B323&\"\",\"\",\"OpenPosition\",\"\"&Display4!$D$3&\"\")),RTD(\"cqg.rtd\",,\"OrderData\",\"\"&B323&\"\",\"\",\"OpenPosition\",\"\"&Display4!$D$3&\"\")=0),A322+0.001,INT(A322)+1),A322)","v":0.32300000000000023},{"$f":"(LEFT(B324,SEARCH(Display4!$G$2,B324)+LEN(Display4!$G$2)+2))&RIGHT(B324,LEN(B324)-(SEARCH(Display4!$G$2,B324)+LEN(Display4!$G$2)+2))+Display4!$J$3","v":"C.US.EPH1825350"}]
[{"$f":"IFERROR(IF(OR(ISTEXT(RTD(\"cqg.rtd\",,\"OrderData\",\"\"&B324&\"\",\"\",\"OpenPosition\",\"\"&Display4!$D$3&\"\")),RTD(\"cqg.rtd\",,\"OrderData\",\"\"&B324&\"\",\"\",\"OpenPosition\",\"\"&Display4!$D$3&\"\")=0),A323+0.001,INT(A323)+1),A323)","v":0.32400000000000023},{"$f":"(LEFT(B325,SEARCH(Display4!$G$2,B325)+LEN(Display4!$G$2)+2))&RIGHT(B325,LEN(B325)-(SEARCH(Display4!$G$2,B325)+LEN(Display4!$G$2)+2))+Display4!$J$3","v":"C.US.EPH1825300"}]
[{"$f":"IFERROR(IF(OR(ISTEXT(RTD(\"cqg.rtd\",,\"OrderData\",\"\"&B325&\"\",\"\",\"OpenPosition\",\"\"&Display4!$D$3&\"\")),RTD(\"cqg.rtd\",,\"OrderData\",\"\"&B325&\"\",\"\",\"OpenPosition\",\"\"&Display4!$D$3&\"\")=0),A324+0.001,INT(A324)+1),A324)","v":0.32500000000000023},{"$f":"(LEFT(B326,SEARCH(Display4!$G$2,B326)+LEN(Display4!$G$2)+2))&RIGHT(B326,LEN(B326)-(SEARCH(Display4!$G$2,B326)+LEN(Display4!$G$2)+2))+Display4!$J$3","v":"C.US.EPH1825250"}]
[{"$f":"IFERROR(IF(OR(ISTEXT(RTD(\"cqg.rtd\",,\"OrderData\",\"\"&B326&\"\",\"\",\"OpenPosition\",\"\"&Display4!$D$3&\"\")),RTD(\"cqg.rtd\",,\"OrderData\",\"\"&B326&\"\",\"\",\"OpenPosition\",\"\"&Display4!$D$3&\"\")=0),A325+0.001,INT(A325)+1),A325)","v":0.32600000000000023},{"$f":"(LEFT(B327,SEARCH(Display4!$G$2,B327)+LEN(Display4!$G$2)+2))&RIGHT(B327,LEN(B327)-(SEARCH(Display4!$G$2,B327)+LEN(Display4!$G$2)+2))+Display4!$J$3","v":"C.US.EPH1825200"}]
[{"$f":"IFERROR(IF(OR(ISTEXT(RTD(\"cqg.rtd\",,\"OrderData\",\"\"&B327&\"\",\"\",\"OpenPosition\",\"\"&Display4!$D$3&\"\")),RTD(\"cqg.rtd\",,\"OrderData\",\"\"&B327&\"\",\"\",\"OpenPosition\",\"\"&Display4!$D$3&\"\")=0),A326+0.001,INT(A326)+1),A326)","v":0.32700000000000023},{"$f":"(LEFT(B328,SEARCH(Display4!$G$2,B328)+LEN(Display4!$G$2)+2))&RIGHT(B328,LEN(B328)-(SEARCH(Display4!$G$2,B328)+LEN(Display4!$G$2)+2))+Display4!$J$3","v":"C.US.EPH1825150"}]
[{"$f":"IFERROR(IF(OR(ISTEXT(RTD(\"cqg.rtd\",,\"OrderData\",\"\"&B328&\"\",\"\",\"OpenPosition\",\"\"&Display4!$D$3&\"\")),RTD(\"cqg.rtd\",,\"OrderData\",\"\"&B328&\"\",\"\",\"OpenPosition\",\"\"&Display4!$D$3&\"\")=0),A327+0.001,INT(A327)+1),A327)","v":0.32800000000000024},{"$f":"(LEFT(B329,SEARCH(Display4!$G$2,B329)+LEN(Display4!$G$2)+2))&RIGHT(B329,LEN(B329)-(SEARCH(Display4!$G$2,B329)+LEN(Display4!$G$2)+2))+Display4!$J$3","v":"C.US.EPH1825100"}]
[{"$f":"IFERROR(IF(OR(ISTEXT(RTD(\"cqg.rtd\",,\"OrderData\",\"\"&B329&\"\",\"\",\"OpenPosition\",\"\"&Display4!$D$3&\"\")),RTD(\"cqg.rtd\",,\"OrderData\",\"\"&B329&\"\",\"\",\"OpenPosition\",\"\"&Display4!$D$3&\"\")=0),A328+0.001,INT(A328)+1),A328)","v":0.32900000000000024},{"$f":"(LEFT(B330,SEARCH(Display4!$G$2,B330)+LEN(Display4!$G$2)+2))&RIGHT(B330,LEN(B330)-(SEARCH(Display4!$G$2,B330)+LEN(Display4!$G$2)+2))+Display4!$J$3","v":"C.US.EPH1825050"}]
[{"$f":"IFERROR(IF(OR(ISTEXT(RTD(\"cqg.rtd\",,\"OrderData\",\"\"&B330&\"\",\"\",\"OpenPosition\",\"\"&Display4!$D$3&\"\")),RTD(\"cqg.rtd\",,\"OrderData\",\"\"&B330&\"\",\"\",\"OpenPosition\",\"\"&Display4!$D$3&\"\")=0),A329+0.001,INT(A329)+1),A329)","v":0.33000000000000024},{"$f":"(LEFT(B331,SEARCH(Display4!$G$2,B331)+LEN(Display4!$G$2)+2))&RIGHT(B331,LEN(B331)-(SEARCH(Display4!$G$2,B331)+LEN(Display4!$G$2)+2))+Display4!$J$3","v":"C.US.EPH1825000"}]
[{"$f":"IFERROR(IF(OR(ISTEXT(RTD(\"cqg.rtd\",,\"OrderData\",\"\"&B331&\"\",\"\",\"OpenPosition\",\"\"&Display4!$D$3&\"\")),RTD(\"cqg.rtd\",,\"OrderData\",\"\"&B331&\"\",\"\",\"OpenPosition\",\"\"&Display4!$D$3&\"\")=0),A330+0.001,INT(A330)+1),A330)","v":0.33100000000000024},{"$f":"(LEFT(B332,SEARCH(Display4!$G$2,B332)+LEN(Display4!$G$2)+2))&RIGHT(B332,LEN(B332)-(SEARCH(Display4!$G$2,B332)+LEN(Display4!$G$2)+2))+Display4!$J$3","v":"C.US.EPH1824950"}]
[{"$f":"IFERROR(IF(OR(ISTEXT(RTD(\"cqg.rtd\",,\"OrderData\",\"\"&B332&\"\",\"\",\"OpenPosition\",\"\"&Display4!$D$3&\"\")),RTD(\"cqg.rtd\",,\"OrderData\",\"\"&B332&\"\",\"\",\"OpenPosition\",\"\"&Display4!$D$3&\"\")=0),A331+0.001,INT(A331)+1),A331)","v":0.33200000000000024},{"$f":"(LEFT(B333,SEARCH(Display4!$G$2,B333)+LEN(Display4!$G$2)+2))&RIGHT(B333,LEN(B333)-(SEARCH(Display4!$G$2,B333)+LEN(Display4!$G$2)+2))+Display4!$J$3","v":"C.US.EPH1824900"}]
[{"$f":"IFERROR(IF(OR(ISTEXT(RTD(\"cqg.rtd\",,\"OrderData\",\"\"&B333&\"\",\"\",\"OpenPosition\",\"\"&Display4!$D$3&\"\")),RTD(\"cqg.rtd\",,\"OrderData\",\"\"&B333&\"\",\"\",\"OpenPosition\",\"\"&Display4!$D$3&\"\")=0),A332+0.001,INT(A332)+1),A332)","v":0.33300000000000024},{"$f":"(LEFT(B334,SEARCH(Display4!$G$2,B334)+LEN(Display4!$G$2)+2))&RIGHT(B334,LEN(B334)-(SEARCH(Display4!$G$2,B334)+LEN(Display4!$G$2)+2))+Display4!$J$3","v":"C.US.EPH1824850"}]
[{"$f":"IFERROR(IF(OR(ISTEXT(RTD(\"cqg.rtd\",,\"OrderData\",\"\"&B334&\"\",\"\",\"OpenPosition\",\"\"&Display4!$D$3&\"\")),RTD(\"cqg.rtd\",,\"OrderData\",\"\"&B334&\"\",\"\",\"OpenPosition\",\"\"&Display4!$D$3&\"\")=0),A333+0.001,INT(A333)+1),A333)","v":0.33400000000000024},{"$f":"(LEFT(B335,SEARCH(Display4!$G$2,B335)+LEN(Display4!$G$2)+2))&RIGHT(B335,LEN(B335)-(SEARCH(Display4!$G$2,B335)+LEN(Display4!$G$2)+2))+Display4!$J$3","v":"C.US.EPH1824800"}]
[{"$f":"IFERROR(IF(OR(ISTEXT(RTD(\"cqg.rtd\",,\"OrderData\",\"\"&B335&\"\",\"\",\"OpenPosition\",\"\"&Display4!$D$3&\"\")),RTD(\"cqg.rtd\",,\"OrderData\",\"\"&B335&\"\",\"\",\"OpenPosition\",\"\"&Display4!$D$3&\"\")=0),A334+0.001,INT(A334)+1),A334)","v":0.33500000000000024},{"$f":"(LEFT(B336,SEARCH(Display4!$G$2,B336)+LEN(Display4!$G$2)+2))&RIGHT(B336,LEN(B336)-(SEARCH(Display4!$G$2,B336)+LEN(Display4!$G$2)+2))+Display4!$J$3","v":"C.US.EPH1824750"}]
[{"$f":"IFERROR(IF(OR(ISTEXT(RTD(\"cqg.rtd\",,\"OrderData\",\"\"&B336&\"\",\"\",\"OpenPosition\",\"\"&Display4!$D$3&\"\")),RTD(\"cqg.rtd\",,\"OrderData\",\"\"&B336&\"\",\"\",\"OpenPosition\",\"\"&Display4!$D$3&\"\")=0),A335+0.001,INT(A335)+1),A335)","v":0.33600000000000024},{"$f":"(LEFT(B337,SEARCH(Display4!$G$2,B337)+LEN(Display4!$G$2)+2))&RIGHT(B337,LEN(B337)-(SEARCH(Display4!$G$2,B337)+LEN(Display4!$G$2)+2))+Display4!$J$3","v":"C.US.EPH1824700"}]
[{"$f":"IFERROR(IF(OR(ISTEXT(RTD(\"cqg.rtd\",,\"OrderData\",\"\"&B337&\"\",\"\",\"OpenPosition\",\"\"&Display4!$D$3&\"\")),RTD(\"cqg.rtd\",,\"OrderData\",\"\"&B337&\"\",\"\",\"OpenPosition\",\"\"&Display4!$D$3&\"\")=0),A336+0.001,INT(A336)+1),A336)","v":0.33700000000000024},{"$f":"(LEFT(B338,SEARCH(Display4!$G$2,B338)+LEN(Display4!$G$2)+2))&RIGHT(B338,LEN(B338)-(SEARCH(Display4!$G$2,B338)+LEN(Display4!$G$2)+2))+Display4!$J$3","v":"C.US.EPH1824650"}]
[{"$f":"IFERROR(IF(OR(ISTEXT(RTD(\"cqg.rtd\",,\"OrderData\",\"\"&B338&\"\",\"\",\"OpenPosition\",\"\"&Display4!$D$3&\"\")),RTD(\"cqg.rtd\",,\"OrderData\",\"\"&B338&\"\",\"\",\"OpenPosition\",\"\"&Display4!$D$3&\"\")=0),A337+0.001,INT(A337)+1),A337)","v":0.33800000000000024},{"$f":"(LEFT(B339,SEARCH(Display4!$G$2,B339)+LEN(Display4!$G$2)+2))&RIGHT(B339,LEN(B339)-(SEARCH(Display4!$G$2,B339)+LEN(Display4!$G$2)+2))+Display4!$J$3","v":"C.US.EPH1824600"}]
[{"$f":"IFERROR(IF(OR(ISTEXT(RTD(\"cqg.rtd\",,\"OrderData\",\"\"&B339&\"\",\"\",\"OpenPosition\",\"\"&Display4!$D$3&\"\")),RTD(\"cqg.rtd\",,\"OrderData\",\"\"&B339&\"\",\"\",\"OpenPosition\",\"\"&Display4!$D$3&\"\")=0),A338+0.001,INT(A338)+1),A338)","v":0.33900000000000025},{"$f":"(LEFT(B340,SEARCH(Display4!$G$2,B340)+LEN(Display4!$G$2)+2))&RIGHT(B340,LEN(B340)-(SEARCH(Display4!$G$2,B340)+LEN(Display4!$G$2)+2))+Display4!$J$3","v":"C.US.EPH1824550"}]
[{"$f":"IFERROR(IF(OR(ISTEXT(RTD(\"cqg.rtd\",,\"OrderData\",\"\"&B340&\"\",\"\",\"OpenPosition\",\"\"&Display4!$D$3&\"\")),RTD(\"cqg.rtd\",,\"OrderData\",\"\"&B340&\"\",\"\",\"OpenPosition\",\"\"&Display4!$D$3&\"\")=0),A339+0.001,INT(A339)+1),A339)","v":0.34000000000000025},{"$f":"(LEFT(B341,SEARCH(Display4!$G$2,B341)+LEN(Display4!$G$2)+2))&RIGHT(B341,LEN(B341)-(SEARCH(Display4!$G$2,B341)+LEN(Display4!$G$2)+2))+Display4!$J$3","v":"C.US.EPH1824500"}]
[{"$f":"IFERROR(IF(OR(ISTEXT(RTD(\"cqg.rtd\",,\"OrderData\",\"\"&B341&\"\",\"\",\"OpenPosition\",\"\"&Display4!$D$3&\"\")),RTD(\"cqg.rtd\",,\"OrderData\",\"\"&B341&\"\",\"\",\"OpenPosition\",\"\"&Display4!$D$3&\"\")=0),A340+0.001,INT(A340)+1),A340)","v":0.34100000000000025},{"$f":"(LEFT(B342,SEARCH(Display4!$G$2,B342)+LEN(Display4!$G$2)+2))&RIGHT(B342,LEN(B342)-(SEARCH(Display4!$G$2,B342)+LEN(Display4!$G$2)+2))+Display4!$J$3","v":"C.US.EPH1824450"}]
[{"$f":"IFERROR(IF(OR(ISTEXT(RTD(\"cqg.rtd\",,\"OrderData\",\"\"&B342&\"\",\"\",\"OpenPosition\",\"\"&Display4!$D$3&\"\")),RTD(\"cqg.rtd\",,\"OrderData\",\"\"&B342&\"\",\"\",\"OpenPosition\",\"\"&Display4!$D$3&\"\")=0),A341+0.001,INT(A341)+1),A341)","v":0.34200000000000025},{"$f":"(LEFT(B343,SEARCH(Display4!$G$2,B343)+LEN(Display4!$G$2)+2))&RIGHT(B343,LEN(B343)-(SEARCH(Display4!$G$2,B343)+LEN(Display4!$G$2)+2))+Display4!$J$3","v":"C.US.EPH1824400"}]
[{"$f":"IFERROR(IF(OR(ISTEXT(RTD(\"cqg.rtd\",,\"OrderData\",\"\"&B343&\"\",\"\",\"OpenPosition\",\"\"&Display4!$D$3&\"\")),RTD(\"cqg.rtd\",,\"OrderData\",\"\"&B343&\"\",\"\",\"OpenPosition\",\"\"&Display4!$D$3&\"\")=0),A342+0.001,INT(A342)+1),A342)","v":0.34300000000000025},{"$f":"(LEFT(B344,SEARCH(Display4!$G$2,B344)+LEN(Display4!$G$2)+2))&RIGHT(B344,LEN(B344)-(SEARCH(Display4!$G$2,B344)+LEN(Display4!$G$2)+2))+Display4!$J$3","v":"C.US.EPH1824350"}]
[{"$f":"IFERROR(IF(OR(ISTEXT(RTD(\"cqg.rtd\",,\"OrderData\",\"\"&B344&\"\",\"\",\"OpenPosition\",\"\"&Display4!$D$3&\"\")),RTD(\"cqg.rtd\",,\"OrderData\",\"\"&B344&\"\",\"\",\"OpenPosition\",\"\"&Display4!$D$3&\"\")=0),A343+0.001,INT(A343)+1),A343)","v":0.34400000000000025},{"$f":"RTD(\"cqg.rtd\", ,\"ContractData\", \"C.US.\"&Display4!$G$2&Display4!$I$3&\"\", \"Symbol\",, \"T\")","v":"C.US.EPH1824300"}]
[{"$f":"IFERROR(IF(OR(ISTEXT(RTD(\"cqg.rtd\",,\"OrderData\",\"\"&B345&\"\",\"\",\"OpenPosition\",\"\"&Display4!$D$3&\"\")),RTD(\"cqg.rtd\",,\"OrderData\",\"\"&B345&\"\",\"\",\"OpenPosition\",\"\"&Display4!$D$3&\"\")=0),A344+0.001,INT(A344)+1),A344)","v":0.34500000000000025},{"$f":"(LEFT(B344,SEARCH(Display4!$G$2,B344)+LEN(Display4!$G$2)+2))&RIGHT(B344,LEN(B344)-(SEARCH(Display4!$G$2,B344)+LEN(Display4!$G$2)+2))-Display4!$J$3","v":"C.US.EPH1824250"}]
[{"$f":"IFERROR(IF(OR(ISTEXT(RTD(\"cqg.rtd\",,\"OrderData\",\"\"&B346&\"\",\"\",\"OpenPosition\",\"\"&Display4!$D$3&\"\")),RTD(\"cqg.rtd\",,\"OrderData\",\"\"&B346&\"\",\"\",\"OpenPosition\",\"\"&Display4!$D$3&\"\")=0),A345+0.001,INT(A345)+1),A345)","v":0.34600000000000025},{"$f":"(LEFT(B345,SEARCH(Display4!$G$2,B345)+LEN(Display4!$G$2)+2))&RIGHT(B345,LEN(B345)-(SEARCH(Display4!$G$2,B345)+LEN(Display4!$G$2)+2))-Display4!$J$3","v":"C.US.EPH1824200"}]
[{"$f":"IFERROR(IF(OR(ISTEXT(RTD(\"cqg.rtd\",,\"OrderData\",\"\"&B347&\"\",\"\",\"OpenPosition\",\"\"&Display4!$D$3&\"\")),RTD(\"cqg.rtd\",,\"OrderData\",\"\"&B347&\"\",\"\",\"OpenPosition\",\"\"&Display4!$D$3&\"\")=0),A346+0.001,INT(A346)+1),A346)","v":0.34700000000000025},{"$f":"(LEFT(B346,SEARCH(Display4!$G$2,B346)+LEN(Display4!$G$2)+2))&RIGHT(B346,LEN(B346)-(SEARCH(Display4!$G$2,B346)+LEN(Display4!$G$2)+2))-Display4!$J$3","v":"C.US.EPH1824150"}]
[{"$f":"IFERROR(IF(OR(ISTEXT(RTD(\"cqg.rtd\",,\"OrderData\",\"\"&B348&\"\",\"\",\"OpenPosition\",\"\"&Display4!$D$3&\"\")),RTD(\"cqg.rtd\",,\"OrderData\",\"\"&B348&\"\",\"\",\"OpenPosition\",\"\"&Display4!$D$3&\"\")=0),A347+0.001,INT(A347)+1),A347)","v":0.34800000000000025},{"$f":"(LEFT(B347,SEARCH(Display4!$G$2,B347)+LEN(Display4!$G$2)+2))&RIGHT(B347,LEN(B347)-(SEARCH(Display4!$G$2,B347)+LEN(Display4!$G$2)+2))-Display4!$J$3","v":"C.US.EPH1824100"}]
[{"$f":"IFERROR(IF(OR(ISTEXT(RTD(\"cqg.rtd\",,\"OrderData\",\"\"&B349&\"\",\"\",\"OpenPosition\",\"\"&Display4!$D$3&\"\")),RTD(\"cqg.rtd\",,\"OrderData\",\"\"&B349&\"\",\"\",\"OpenPosition\",\"\"&Display4!$D$3&\"\")=0),A348+0.001,INT(A348)+1),A348)","v":0.34900000000000025},{"$f":"(LEFT(B348,SEARCH(Display4!$G$2,B348)+LEN(Display4!$G$2)+2))&RIGHT(B348,LEN(B348)-(SEARCH(Display4!$G$2,B348)+LEN(Display4!$G$2)+2))-Display4!$J$3","v":"C.US.EPH1824050"}]
[{"$f":"IFERROR(IF(OR(ISTEXT(RTD(\"cqg.rtd\",,\"OrderData\",\"\"&B350&\"\",\"\",\"OpenPosition\",\"\"&Display4!$D$3&\"\")),RTD(\"cqg.rtd\",,\"OrderData\",\"\"&B350&\"\",\"\",\"OpenPosition\",\"\"&Display4!$D$3&\"\")=0),A349+0.001,INT(A349)+1),A349)","v":0.35000000000000026},{"$f":"(LEFT(B349,SEARCH(Display4!$G$2,B349)+LEN(Display4!$G$2)+2))&RIGHT(B349,LEN(B349)-(SEARCH(Display4!$G$2,B349)+LEN(Display4!$G$2)+2))-Display4!$J$3","v":"C.US.EPH1824000"}]
[{"$f":"IFERROR(IF(OR(ISTEXT(RTD(\"cqg.rtd\",,\"OrderData\",\"\"&B351&\"\",\"\",\"OpenPosition\",\"\"&Display4!$D$3&\"\")),RTD(\"cqg.rtd\",,\"OrderData\",\"\"&B351&\"\",\"\",\"OpenPosition\",\"\"&Display4!$D$3&\"\")=0),A350+0.001,INT(A350)+1),A350)","v":0.35100000000000026},{"$f":"(LEFT(B350,SEARCH(Display4!$G$2,B350)+LEN(Display4!$G$2)+2))&RIGHT(B350,LEN(B350)-(SEARCH(Display4!$G$2,B350)+LEN(Display4!$G$2)+2))-Display4!$J$3","v":"C.US.EPH1823950"}]
[{"$f":"IFERROR(IF(OR(ISTEXT(RTD(\"cqg.rtd\",,\"OrderData\",\"\"&B352&\"\",\"\",\"OpenPosition\",\"\"&Display4!$D$3&\"\")),RTD(\"cqg.rtd\",,\"OrderData\",\"\"&B352&\"\",\"\",\"OpenPosition\",\"\"&Display4!$D$3&\"\")=0),A351+0.001,INT(A351)+1),A351)","v":0.35200000000000026},{"$f":"(LEFT(B351,SEARCH(Display4!$G$2,B351)+LEN(Display4!$G$2)+2))&RIGHT(B351,LEN(B351)-(SEARCH(Display4!$G$2,B351)+LEN(Display4!$G$2)+2))-Display4!$J$3","v":"C.US.EPH1823900"}]
[{"$f":"IFERROR(IF(OR(ISTEXT(RTD(\"cqg.rtd\",,\"OrderData\",\"\"&B353&\"\",\"\",\"OpenPosition\",\"\"&Display4!$D$3&\"\")),RTD(\"cqg.rtd\",,\"OrderData\",\"\"&B353&\"\",\"\",\"OpenPosition\",\"\"&Display4!$D$3&\"\")=0),A352+0.001,INT(A352)+1),A352)","v":0.35300000000000026},{"$f":"(LEFT(B352,SEARCH(Display4!$G$2,B352)+LEN(Display4!$G$2)+2))&RIGHT(B352,LEN(B352)-(SEARCH(Display4!$G$2,B352)+LEN(Display4!$G$2)+2))-Display4!$J$3","v":"C.US.EPH1823850"}]
[{"$f":"IFERROR(IF(OR(ISTEXT(RTD(\"cqg.rtd\",,\"OrderData\",\"\"&B354&\"\",\"\",\"OpenPosition\",\"\"&Display4!$D$3&\"\")),RTD(\"cqg.rtd\",,\"OrderData\",\"\"&B354&\"\",\"\",\"OpenPosition\",\"\"&Display4!$D$3&\"\")=0),A353+0.001,INT(A353)+1),A353)","v":0.35400000000000026},{"$f":"(LEFT(B353,SEARCH(Display4!$G$2,B353)+LEN(Display4!$G$2)+2))&RIGHT(B353,LEN(B353)-(SEARCH(Display4!$G$2,B353)+LEN(Display4!$G$2)+2))-Display4!$J$3","v":"C.US.EPH1823800"}]
[{"$f":"IFERROR(IF(OR(ISTEXT(RTD(\"cqg.rtd\",,\"OrderData\",\"\"&B355&\"\",\"\",\"OpenPosition\",\"\"&Display4!$D$3&\"\")),RTD(\"cqg.rtd\",,\"OrderData\",\"\"&B355&\"\",\"\",\"OpenPosition\",\"\"&Display4!$D$3&\"\")=0),A354+0.001,INT(A354)+1),A354)","v":0.35500000000000026},{"$f":"(LEFT(B354,SEARCH(Display4!$G$2,B354)+LEN(Display4!$G$2)+2))&RIGHT(B354,LEN(B354)-(SEARCH(Display4!$G$2,B354)+LEN(Display4!$G$2)+2))-Display4!$J$3","v":"C.US.EPH1823750"}]
[{"$f":"IFERROR(IF(OR(ISTEXT(RTD(\"cqg.rtd\",,\"OrderData\",\"\"&B356&\"\",\"\",\"OpenPosition\",\"\"&Display4!$D$3&\"\")),RTD(\"cqg.rtd\",,\"OrderData\",\"\"&B356&\"\",\"\",\"OpenPosition\",\"\"&Display4!$D$3&\"\")=0),A355+0.001,INT(A355)+1),A355)","v":0.35600000000000026},{"$f":"(LEFT(B355,SEARCH(Display4!$G$2,B355)+LEN(Display4!$G$2)+2))&RIGHT(B355,LEN(B355)-(SEARCH(Display4!$G$2,B355)+LEN(Display4!$G$2)+2))-Display4!$J$3","v":"C.US.EPH1823700"}]
[{"$f":"IFERROR(IF(OR(ISTEXT(RTD(\"cqg.rtd\",,\"OrderData\",\"\"&B357&\"\",\"\",\"OpenPosition\",\"\"&Display4!$D$3&\"\")),RTD(\"cqg.rtd\",,\"OrderData\",\"\"&B357&\"\",\"\",\"OpenPosition\",\"\"&Display4!$D$3&\"\")=0),A356+0.001,INT(A356)+1),A356)","v":0.35700000000000026},{"$f":"(LEFT(B356,SEARCH(Display4!$G$2,B356)+LEN(Display4!$G$2)+2))&RIGHT(B356,LEN(B356)-(SEARCH(Display4!$G$2,B356)+LEN(Display4!$G$2)+2))-Display4!$J$3","v":"C.US.EPH1823650"}]
[{"$f":"IFERROR(IF(OR(ISTEXT(RTD(\"cqg.rtd\",,\"OrderData\",\"\"&B358&\"\",\"\",\"OpenPosition\",\"\"&Display4!$D$3&\"\")),RTD(\"cqg.rtd\",,\"OrderData\",\"\"&B358&\"\",\"\",\"OpenPosition\",\"\"&Display4!$D$3&\"\")=0),A357+0.001,INT(A357)+1),A357)","v":0.35800000000000026},{"$f":"(LEFT(B357,SEARCH(Display4!$G$2,B357)+LEN(Display4!$G$2)+2))&RIGHT(B357,LEN(B357)-(SEARCH(Display4!$G$2,B357)+LEN(Display4!$G$2)+2))-Display4!$J$3","v":"C.US.EPH1823600"}]
[{"$f":"IFERROR(IF(OR(ISTEXT(RTD(\"cqg.rtd\",,\"OrderData\",\"\"&B359&\"\",\"\",\"OpenPosition\",\"\"&Display4!$D$3&\"\")),RTD(\"cqg.rtd\",,\"OrderData\",\"\"&B359&\"\",\"\",\"OpenPosition\",\"\"&Display4!$D$3&\"\")=0),A358+0.001,INT(A358)+1),A358)","v":0.35900000000000026},{"$f":"(LEFT(B358,SEARCH(Display4!$G$2,B358)+LEN(Display4!$G$2)+2))&RIGHT(B358,LEN(B358)-(SEARCH(Display4!$G$2,B358)+LEN(Display4!$G$2)+2))-Display4!$J$3","v":"C.US.EPH1823550"}]
[{"$f":"IFERROR(IF(OR(ISTEXT(RTD(\"cqg.rtd\",,\"OrderData\",\"\"&B360&\"\",\"\",\"OpenPosition\",\"\"&Display4!$D$3&\"\")),RTD(\"cqg.rtd\",,\"OrderData\",\"\"&B360&\"\",\"\",\"OpenPosition\",\"\"&Display4!$D$3&\"\")=0),A359+0.001,INT(A359)+1),A359)","v":0.36000000000000026},{"$f":"(LEFT(B359,SEARCH(Display4!$G$2,B359)+LEN(Display4!$G$2)+2))&RIGHT(B359,LEN(B359)-(SEARCH(Display4!$G$2,B359)+LEN(Display4!$G$2)+2))-Display4!$J$3","v":"C.US.EPH1823500"}]
[{"$f":"IFERROR(IF(OR(ISTEXT(RTD(\"cqg.rtd\",,\"OrderData\",\"\"&B361&\"\",\"\",\"OpenPosition\",\"\"&Display4!$D$3&\"\")),RTD(\"cqg.rtd\",,\"OrderData\",\"\"&B361&\"\",\"\",\"OpenPosition\",\"\"&Display4!$D$3&\"\")=0),A360+0.001,INT(A360)+1),A360)","v":0.36100000000000027},{"$f":"(LEFT(B360,SEARCH(Display4!$G$2,B360)+LEN(Display4!$G$2)+2))&RIGHT(B360,LEN(B360)-(SEARCH(Display4!$G$2,B360)+LEN(Display4!$G$2)+2))-Display4!$J$3","v":"C.US.EPH1823450"}]
[{"$f":"IFERROR(IF(OR(ISTEXT(RTD(\"cqg.rtd\",,\"OrderData\",\"\"&B362&\"\",\"\",\"OpenPosition\",\"\"&Display4!$D$3&\"\")),RTD(\"cqg.rtd\",,\"OrderData\",\"\"&B362&\"\",\"\",\"OpenPosition\",\"\"&Display4!$D$3&\"\")=0),A361+0.001,INT(A361)+1),A361)","v":0.36200000000000027},{"$f":"(LEFT(B361,SEARCH(Display4!$G$2,B361)+LEN(Display4!$G$2)+2))&RIGHT(B361,LEN(B361)-(SEARCH(Display4!$G$2,B361)+LEN(Display4!$G$2)+2))-Display4!$J$3","v":"C.US.EPH1823400"}]
[{"$f":"IFERROR(IF(OR(ISTEXT(RTD(\"cqg.rtd\",,\"OrderData\",\"\"&B363&\"\",\"\",\"OpenPosition\",\"\"&Display4!$D$3&\"\")),RTD(\"cqg.rtd\",,\"OrderData\",\"\"&B363&\"\",\"\",\"OpenPosition\",\"\"&Display4!$D$3&\"\")=0),A362+0.001,INT(A362)+1),A362)","v":0.36300000000000027},{"$f":"(LEFT(B362,SEARCH(Display4!$G$2,B362)+LEN(Display4!$G$2)+2))&RIGHT(B362,LEN(B362)-(SEARCH(Display4!$G$2,B362)+LEN(Display4!$G$2)+2))-Display4!$J$3","v":"C.US.EPH1823350"}]
[{"$f":"IFERROR(IF(OR(ISTEXT(RTD(\"cqg.rtd\",,\"OrderData\",\"\"&B364&\"\",\"\",\"OpenPosition\",\"\"&Display4!$D$3&\"\")),RTD(\"cqg.rtd\",,\"OrderData\",\"\"&B364&\"\",\"\",\"OpenPosition\",\"\"&Display4!$D$3&\"\")=0),A363+0.001,INT(A363)+1),A363)","v":0.36400000000000027},{"$f":"(LEFT(B363,SEARCH(Display4!$G$2,B363)+LEN(Display4!$G$2)+2))&RIGHT(B363,LEN(B363)-(SEARCH(Display4!$G$2,B363)+LEN(Display4!$G$2)+2))-Display4!$J$3","v":"C.US.EPH1823300"}]
[{"$f":"IFERROR(IF(OR(ISTEXT(RTD(\"cqg.rtd\",,\"OrderData\",\"\"&B365&\"\",\"\",\"OpenPosition\",\"\"&Display4!$D$3&\"\")),RTD(\"cqg.rtd\",,\"OrderData\",\"\"&B365&\"\",\"\",\"OpenPosition\",\"\"&Display4!$D$3&\"\")=0),A364+0.001,INT(A364)+1),A364)","v":0.36500000000000027},{"$f":"(LEFT(B366,SEARCH(Display4!$G$2,B366)+LEN(Display4!$G$2)+2))&RIGHT(B366,LEN(B366)-(SEARCH(Display4!$G$2,B366)+LEN(Display4!$G$2)+2))+Display4!$J$3","v":"P.US.EPH1826300"}]
[{"$f":"IFERROR(IF(OR(ISTEXT(RTD(\"cqg.rtd\",,\"OrderData\",\"\"&B366&\"\",\"\",\"OpenPosition\",\"\"&Display4!$D$3&\"\")),RTD(\"cqg.rtd\",,\"OrderData\",\"\"&B366&\"\",\"\",\"OpenPosition\",\"\"&Display4!$D$3&\"\")=0),A365+0.001,INT(A365)+1),A365)","v":0.36600000000000027},{"$f":"(LEFT(B367,SEARCH(Display4!$G$2,B367)+LEN(Display4!$G$2)+2))&RIGHT(B367,LEN(B367)-(SEARCH(Display4!$G$2,B367)+LEN(Display4!$G$2)+2))+Display4!$J$3","v":"P.US.EPH1826250"}]
[{"$f":"IFERROR(IF(OR(ISTEXT(RTD(\"cqg.rtd\",,\"OrderData\",\"\"&B367&\"\",\"\",\"OpenPosition\",\"\"&Display4!$D$3&\"\")),RTD(\"cqg.rtd\",,\"OrderData\",\"\"&B367&\"\",\"\",\"OpenPosition\",\"\"&Display4!$D$3&\"\")=0),A366+0.001,INT(A366)+1),A366)","v":0.36700000000000027},{"$f":"(LEFT(B368,SEARCH(Display4!$G$2,B368)+LEN(Display4!$G$2)+2))&RIGHT(B368,LEN(B368)-(SEARCH(Display4!$G$2,B368)+LEN(Display4!$G$2)+2))+Display4!$J$3","v":"P.US.EPH1826200"}]
[{"$f":"IFERROR(IF(OR(ISTEXT(RTD(\"cqg.rtd\",,\"OrderData\",\"\"&B368&\"\",\"\",\"OpenPosition\",\"\"&Display4!$D$3&\"\")),RTD(\"cqg.rtd\",,\"OrderData\",\"\"&B368&\"\",\"\",\"OpenPosition\",\"\"&Display4!$D$3&\"\")=0),A367+0.001,INT(A367)+1),A367)","v":0.36800000000000027},{"$f":"(LEFT(B369,SEARCH(Display4!$G$2,B369)+LEN(Display4!$G$2)+2))&RIGHT(B369,LEN(B369)-(SEARCH(Display4!$G$2,B369)+LEN(Display4!$G$2)+2))+Display4!$J$3","v":"P.US.EPH1826150"}]
[{"$f":"IFERROR(IF(OR(ISTEXT(RTD(\"cqg.rtd\",,\"OrderData\",\"\"&B369&\"\",\"\",\"OpenPosition\",\"\"&Display4!$D$3&\"\")),RTD(\"cqg.rtd\",,\"OrderData\",\"\"&B369&\"\",\"\",\"OpenPosition\",\"\"&Display4!$D$3&\"\")=0),A368+0.001,INT(A368)+1),A368)","v":0.36900000000000027},{"$f":"(LEFT(B370,SEARCH(Display4!$G$2,B370)+LEN(Display4!$G$2)+2))&RIGHT(B370,LEN(B370)-(SEARCH(Display4!$G$2,B370)+LEN(Display4!$G$2)+2))+Display4!$J$3","v":"P.US.EPH1826100"}]
[{"$f":"IFERROR(IF(OR(ISTEXT(RTD(\"cqg.rtd\",,\"OrderData\",\"\"&B370&\"\",\"\",\"OpenPosition\",\"\"&Display4!$D$3&\"\")),RTD(\"cqg.rtd\",,\"OrderData\",\"\"&B370&\"\",\"\",\"OpenPosition\",\"\"&Display4!$D$3&\"\")=0),A369+0.001,INT(A369)+1),A369)","v":0.37000000000000027},{"$f":"(LEFT(B371,SEARCH(Display4!$G$2,B371)+LEN(Display4!$G$2)+2))&RIGHT(B371,LEN(B371)-(SEARCH(Display4!$G$2,B371)+LEN(Display4!$G$2)+2))+Display4!$J$3","v":"P.US.EPH1826050"}]
[{"$f":"IFERROR(IF(OR(ISTEXT(RTD(\"cqg.rtd\",,\"OrderData\",\"\"&B371&\"\",\"\",\"OpenPosition\",\"\"&Display4!$D$3&\"\")),RTD(\"cqg.rtd\",,\"OrderData\",\"\"&B371&\"\",\"\",\"OpenPosition\",\"\"&Display4!$D$3&\"\")=0),A370+0.001,INT(A370)+1),A370)","v":0.37100000000000027},{"$f":"(LEFT(B372,SEARCH(Display4!$G$2,B372)+LEN(Display4!$G$2)+2))&RIGHT(B372,LEN(B372)-(SEARCH(Display4!$G$2,B372)+LEN(Display4!$G$2)+2))+Display4!$J$3","v":"P.US.EPH1826000"}]
[{"$f":"IFERROR(IF(OR(ISTEXT(RTD(\"cqg.rtd\",,\"OrderData\",\"\"&B372&\"\",\"\",\"OpenPosition\",\"\"&Display4!$D$3&\"\")),RTD(\"cqg.rtd\",,\"OrderData\",\"\"&B372&\"\",\"\",\"OpenPosition\",\"\"&Display4!$D$3&\"\")=0),A371+0.001,INT(A371)+1),A371)","v":0.37200000000000027},{"$f":"(LEFT(B373,SEARCH(Display4!$G$2,B373)+LEN(Display4!$G$2)+2))&RIGHT(B373,LEN(B373)-(SEARCH(Display4!$G$2,B373)+LEN(Display4!$G$2)+2))+Display4!$J$3","v":"P.US.EPH1825950"}]
[{"$f":"IFERROR(IF(OR(ISTEXT(RTD(\"cqg.rtd\",,\"OrderData\",\"\"&B373&\"\",\"\",\"OpenPosition\",\"\"&Display4!$D$3&\"\")),RTD(\"cqg.rtd\",,\"OrderData\",\"\"&B373&\"\",\"\",\"OpenPosition\",\"\"&Display4!$D$3&\"\")=0),A372+0.001,INT(A372)+1),A372)","v":0.37300000000000028},{"$f":"(LEFT(B374,SEARCH(Display4!$G$2,B374)+LEN(Display4!$G$2)+2))&RIGHT(B374,LEN(B374)-(SEARCH(Display4!$G$2,B374)+LEN(Display4!$G$2)+2))+Display4!$J$3","v":"P.US.EPH1825900"}]
[{"$f":"IFERROR(IF(OR(ISTEXT(RTD(\"cqg.rtd\",,\"OrderData\",\"\"&B374&\"\",\"\",\"OpenPosition\",\"\"&Display4!$D$3&\"\")),RTD(\"cqg.rtd\",,\"OrderData\",\"\"&B374&\"\",\"\",\"OpenPosition\",\"\"&Display4!$D$3&\"\")=0),A373+0.001,INT(A373)+1),A373)","v":0.37400000000000028},{"$f":"(LEFT(B375,SEARCH(Display4!$G$2,B375)+LEN(Display4!$G$2)+2))&RIGHT(B375,LEN(B375)-(SEARCH(Display4!$G$2,B375)+LEN(Display4!$G$2)+2))+Display4!$J$3","v":"P.US.EPH1825850"}]
[{"$f":"IFERROR(IF(OR(ISTEXT(RTD(\"cqg.rtd\",,\"OrderData\",\"\"&B375&\"\",\"\",\"OpenPosition\",\"\"&Display4!$D$3&\"\")),RTD(\"cqg.rtd\",,\"OrderData\",\"\"&B375&\"\",\"\",\"OpenPosition\",\"\"&Display4!$D$3&\"\")=0),A374+0.001,INT(A374)+1),A374)","v":0.37500000000000028},{"$f":"(LEFT(B376,SEARCH(Display4!$G$2,B376)+LEN(Display4!$G$2)+2))&RIGHT(B376,LEN(B376)-(SEARCH(Display4!$G$2,B376)+LEN(Display4!$G$2)+2))+Display4!$J$3","v":"P.US.EPH1825800"}]
[{"$f":"IFERROR(IF(OR(ISTEXT(RTD(\"cqg.rtd\",,\"OrderData\",\"\"&B376&\"\",\"\",\"OpenPosition\",\"\"&Display4!$D$3&\"\")),RTD(\"cqg.rtd\",,\"OrderData\",\"\"&B376&\"\",\"\",\"OpenPosition\",\"\"&Display4!$D$3&\"\")=0),A375+0.001,INT(A375)+1),A375)","v":0.37600000000000028},{"$f":"(LEFT(B377,SEARCH(Display4!$G$2,B377)+LEN(Display4!$G$2)+2))&RIGHT(B377,LEN(B377)-(SEARCH(Display4!$G$2,B377)+LEN(Display4!$G$2)+2))+Display4!$J$3","v":"P.US.EPH1825750"}]
[{"$f":"IFERROR(IF(OR(ISTEXT(RTD(\"cqg.rtd\",,\"OrderData\",\"\"&B377&\"\",\"\",\"OpenPosition\",\"\"&Display4!$D$3&\"\")),RTD(\"cqg.rtd\",,\"OrderData\",\"\"&B377&\"\",\"\",\"OpenPosition\",\"\"&Display4!$D$3&\"\")=0),A376+0.001,INT(A376)+1),A376)","v":0.37700000000000028},{"$f":"(LEFT(B378,SEARCH(Display4!$G$2,B378)+LEN(Display4!$G$2)+2))&RIGHT(B378,LEN(B378)-(SEARCH(Display4!$G$2,B378)+LEN(Display4!$G$2)+2))+Display4!$J$3","v":"P.US.EPH1825700"}]
[{"$f":"IFERROR(IF(OR(ISTEXT(RTD(\"cqg.rtd\",,\"OrderData\",\"\"&B378&\"\",\"\",\"OpenPosition\",\"\"&Display4!$D$3&\"\")),RTD(\"cqg.rtd\",,\"OrderData\",\"\"&B378&\"\",\"\",\"OpenPosition\",\"\"&Display4!$D$3&\"\")=0),A377+0.001,INT(A377)+1),A377)","v":0.37800000000000028},{"$f":"(LEFT(B379,SEARCH(Display4!$G$2,B379)+LEN(Display4!$G$2)+2))&RIGHT(B379,LEN(B379)-(SEARCH(Display4!$G$2,B379)+LEN(Display4!$G$2)+2))+Display4!$J$3","v":"P.US.EPH1825650"}]
[{"$f":"IFERROR(IF(OR(ISTEXT(RTD(\"cqg.rtd\",,\"OrderData\",\"\"&B379&\"\",\"\",\"OpenPosition\",\"\"&Display4!$D$3&\"\")),RTD(\"cqg.rtd\",,\"OrderData\",\"\"&B379&\"\",\"\",\"OpenPosition\",\"\"&Display4!$D$3&\"\")=0),A378+0.001,INT(A378)+1),A378)","v":0.37900000000000028},{"$f":"(LEFT(B380,SEARCH(Display4!$G$2,B380)+LEN(Display4!$G$2)+2))&RIGHT(B380,LEN(B380)-(SEARCH(Display4!$G$2,B380)+LEN(Display4!$G$2)+2))+Display4!$J$3","v":"P.US.EPH1825600"}]
[{"$f":"IFERROR(IF(OR(ISTEXT(RTD(\"cqg.rtd\",,\"OrderData\",\"\"&B380&\"\",\"\",\"OpenPosition\",\"\"&Display4!$D$3&\"\")),RTD(\"cqg.rtd\",,\"OrderData\",\"\"&B380&\"\",\"\",\"OpenPosition\",\"\"&Display4!$D$3&\"\")=0),A379+0.001,INT(A379)+1),A379)","v":0.38000000000000028},{"$f":"(LEFT(B381,SEARCH(Display4!$G$2,B381)+LEN(Display4!$G$2)+2))&RIGHT(B381,LEN(B381)-(SEARCH(Display4!$G$2,B381)+LEN(Display4!$G$2)+2))+Display4!$J$3","v":"P.US.EPH1825550"}]
[{"$f":"IFERROR(IF(OR(ISTEXT(RTD(\"cqg.rtd\",,\"OrderData\",\"\"&B381&\"\",\"\",\"OpenPosition\",\"\"&Display4!$D$3&\"\")),RTD(\"cqg.rtd\",,\"OrderData\",\"\"&B381&\"\",\"\",\"OpenPosition\",\"\"&Display4!$D$3&\"\")=0),A380+0.001,INT(A380)+1),A380)","v":0.38100000000000028},{"$f":"(LEFT(B382,SEARCH(Display4!$G$2,B382)+LEN(Display4!$G$2)+2))&RIGHT(B382,LEN(B382)-(SEARCH(Display4!$G$2,B382)+LEN(Display4!$G$2)+2))+Display4!$J$3","v":"P.US.EPH1825500"}]
[{"$f":"IFERROR(IF(OR(ISTEXT(RTD(\"cqg.rtd\",,\"OrderData\",\"\"&B382&\"\",\"\",\"OpenPosition\",\"\"&Display4!$D$3&\"\")),RTD(\"cqg.rtd\",,\"OrderData\",\"\"&B382&\"\",\"\",\"OpenPosition\",\"\"&Display4!$D$3&\"\")=0),A381+0.001,INT(A381)+1),A381)","v":0.38200000000000028},{"$f":"(LEFT(B383,SEARCH(Display4!$G$2,B383)+LEN(Display4!$G$2)+2))&RIGHT(B383,LEN(B383)-(SEARCH(Display4!$G$2,B383)+LEN(Display4!$G$2)+2))+Display4!$J$3","v":"P.US.EPH1825450"}]
[{"$f":"IFERROR(IF(OR(ISTEXT(RTD(\"cqg.rtd\",,\"OrderData\",\"\"&B383&\"\",\"\",\"OpenPosition\",\"\"&Display4!$D$3&\"\")),RTD(\"cqg.rtd\",,\"OrderData\",\"\"&B383&\"\",\"\",\"OpenPosition\",\"\"&Display4!$D$3&\"\")=0),A382+0.001,INT(A382)+1),A382)","v":0.38300000000000028},{"$f":"(LEFT(B384,SEARCH(Display4!$G$2,B384)+LEN(Display4!$G$2)+2))&RIGHT(B384,LEN(B384)-(SEARCH(Display4!$G$2,B384)+LEN(Display4!$G$2)+2))+Display4!$J$3","v":"P.US.EPH1825400"}]
[{"$f":"IFERROR(IF(OR(ISTEXT(RTD(\"cqg.rtd\",,\"OrderData\",\"\"&B384&\"\",\"\",\"OpenPosition\",\"\"&Display4!$D$3&\"\")),RTD(\"cqg.rtd\",,\"OrderData\",\"\"&B384&\"\",\"\",\"OpenPosition\",\"\"&Display4!$D$3&\"\")=0),A383+0.001,INT(A383)+1),A383)","v":0.38400000000000029},{"$f":"(LEFT(B385,SEARCH(Display4!$G$2,B385)+LEN(Display4!$G$2)+2))&RIGHT(B385,LEN(B385)-(SEARCH(Display4!$G$2,B385)+LEN(Display4!$G$2)+2))+Display4!$J$3","v":"P.US.EPH1825350"}]
[{"$f":"IFERROR(IF(OR(ISTEXT(RTD(\"cqg.rtd\",,\"OrderData\",\"\"&B385&\"\",\"\",\"OpenPosition\",\"\"&Display4!$D$3&\"\")),RTD(\"cqg.rtd\",,\"OrderData\",\"\"&B385&\"\",\"\",\"OpenPosition\",\"\"&Display4!$D$3&\"\")=0),A384+0.001,INT(A384)+1),A384)","v":0.38500000000000029},{"$f":"(LEFT(B386,SEARCH(Display4!$G$2,B386)+LEN(Display4!$G$2)+2))&RIGHT(B386,LEN(B386)-(SEARCH(Display4!$G$2,B386)+LEN(Display4!$G$2)+2))+Display4!$J$3","v":"P.US.EPH1825300"}]
[{"$f":"IFERROR(IF(OR(ISTEXT(RTD(\"cqg.rtd\",,\"OrderData\",\"\"&B386&\"\",\"\",\"OpenPosition\",\"\"&Display4!$D$3&\"\")),RTD(\"cqg.rtd\",,\"OrderData\",\"\"&B386&\"\",\"\",\"OpenPosition\",\"\"&Display4!$D$3&\"\")=0),A385+0.001,INT(A385)+1),A385)","v":0.38600000000000029},{"$f":"(LEFT(B387,SEARCH(Display4!$G$2,B387)+LEN(Display4!$G$2)+2))&RIGHT(B387,LEN(B387)-(SEARCH(Display4!$G$2,B387)+LEN(Display4!$G$2)+2))+Display4!$J$3","v":"P.US.EPH1825250"}]
[{"$f":"IFERROR(IF(OR(ISTEXT(RTD(\"cqg.rtd\",,\"OrderData\",\"\"&B387&\"\",\"\",\"OpenPosition\",\"\"&Display4!$D$3&\"\")),RTD(\"cqg.rtd\",,\"OrderData\",\"\"&B387&\"\",\"\",\"OpenPosition\",\"\"&Display4!$D$3&\"\")=0),A386+0.001,INT(A386)+1),A386)","v":0.38700000000000029},{"$f":"(LEFT(B388,SEARCH(Display4!$G$2,B388)+LEN(Display4!$G$2)+2))&RIGHT(B388,LEN(B388)-(SEARCH(Display4!$G$2,B388)+LEN(Display4!$G$2)+2))+Display4!$J$3","v":"P.US.EPH1825200"}]
[{"$f":"IFERROR(IF(OR(ISTEXT(RTD(\"cqg.rtd\",,\"OrderData\",\"\"&B388&\"\",\"\",\"OpenPosition\",\"\"&Display4!$D$3&\"\")),RTD(\"cqg.rtd\",,\"OrderData\",\"\"&B388&\"\",\"\",\"OpenPosition\",\"\"&Display4!$D$3&\"\")=0),A387+0.001,INT(A387)+1),A387)","v":0.38800000000000029},{"$f":"(LEFT(B389,SEARCH(Display4!$G$2,B389)+LEN(Display4!$G$2)+2))&RIGHT(B389,LEN(B389)-(SEARCH(Display4!$G$2,B389)+LEN(Display4!$G$2)+2))+Display4!$J$3","v":"P.US.EPH1825150"}]
[{"$f":"IFERROR(IF(OR(ISTEXT(RTD(\"cqg.rtd\",,\"OrderData\",\"\"&B389&\"\",\"\",\"OpenPosition\",\"\"&Display4!$D$3&\"\")),RTD(\"cqg.rtd\",,\"OrderData\",\"\"&B389&\"\",\"\",\"OpenPosition\",\"\"&Display4!$D$3&\"\")=0),A388+0.001,INT(A388)+1),A388)","v":0.38900000000000029},{"$f":"(LEFT(B390,SEARCH(Display4!$G$2,B390)+LEN(Display4!$G$2)+2))&RIGHT(B390,LEN(B390)-(SEARCH(Display4!$G$2,B390)+LEN(Display4!$G$2)+2))+Display4!$J$3","v":"P.US.EPH1825100"}]
[{"$f":"IFERROR(IF(OR(ISTEXT(RTD(\"cqg.rtd\",,\"OrderData\",\"\"&B390&\"\",\"\",\"OpenPosition\",\"\"&Display4!$D$3&\"\")),RTD(\"cqg.rtd\",,\"OrderData\",\"\"&B390&\"\",\"\",\"OpenPosition\",\"\"&Display4!$D$3&\"\")=0),A389+0.001,INT(A389)+1),A389)","v":0.39000000000000029},{"$f":"(LEFT(B391,SEARCH(Display4!$G$2,B391)+LEN(Display4!$G$2)+2))&RIGHT(B391,LEN(B391)-(SEARCH(Display4!$G$2,B391)+LEN(Display4!$G$2)+2))+Display4!$J$3","v":"P.US.EPH1825050"}]
[{"$f":"IFERROR(IF(OR(ISTEXT(RTD(\"cqg.rtd\",,\"OrderData\",\"\"&B391&\"\",\"\",\"OpenPosition\",\"\"&Display4!$D$3&\"\")),RTD(\"cqg.rtd\",,\"OrderData\",\"\"&B391&\"\",\"\",\"OpenPosition\",\"\"&Display4!$D$3&\"\")=0),A390+0.001,INT(A390)+1),A390)","v":0.39100000000000029},{"$f":"(LEFT(B392,SEARCH(Display4!$G$2,B392)+LEN(Display4!$G$2)+2))&RIGHT(B392,LEN(B392)-(SEARCH(Display4!$G$2,B392)+LEN(Display4!$G$2)+2))+Display4!$J$3","v":"P.US.EPH1825000"}]
[{"$f":"IFERROR(IF(OR(ISTEXT(RTD(\"cqg.rtd\",,\"OrderData\",\"\"&B392&\"\",\"\",\"OpenPosition\",\"\"&Display4!$D$3&\"\")),RTD(\"cqg.rtd\",,\"OrderData\",\"\"&B392&\"\",\"\",\"OpenPosition\",\"\"&Display4!$D$3&\"\")=0),A391+0.001,INT(A391)+1),A391)","v":0.39200000000000029},{"$f":"(LEFT(B393,SEARCH(Display4!$G$2,B393)+LEN(Display4!$G$2)+2))&RIGHT(B393,LEN(B393)-(SEARCH(Display4!$G$2,B393)+LEN(Display4!$G$2)+2))+Display4!$J$3","v":"P.US.EPH1824950"}]
[{"$f":"IFERROR(IF(OR(ISTEXT(RTD(\"cqg.rtd\",,\"OrderData\",\"\"&B393&\"\",\"\",\"OpenPosition\",\"\"&Display4!$D$3&\"\")),RTD(\"cqg.rtd\",,\"OrderData\",\"\"&B393&\"\",\"\",\"OpenPosition\",\"\"&Display4!$D$3&\"\")=0),A392+0.001,INT(A392)+1),A392)","v":0.39300000000000029},{"$f":"(LEFT(B394,SEARCH(Display4!$G$2,B394)+LEN(Display4!$G$2)+2))&RIGHT(B394,LEN(B394)-(SEARCH(Display4!$G$2,B394)+LEN(Display4!$G$2)+2))+Display4!$J$3","v":"P.US.EPH1824900"}]
[{"$f":"IFERROR(IF(OR(ISTEXT(RTD(\"cqg.rtd\",,\"OrderData\",\"\"&B394&\"\",\"\",\"OpenPosition\",\"\"&Display4!$D$3&\"\")),RTD(\"cqg.rtd\",,\"OrderData\",\"\"&B394&\"\",\"\",\"OpenPosition\",\"\"&Display4!$D$3&\"\")=0),A393+0.001,INT(A393)+1),A393)","v":0.39400000000000029},{"$f":"(LEFT(B395,SEARCH(Display4!$G$2,B395)+LEN(Display4!$G$2)+2))&RIGHT(B395,LEN(B395)-(SEARCH(Display4!$G$2,B395)+LEN(Display4!$G$2)+2))+Display4!$J$3","v":"P.US.EPH1824850"}]
[{"$f":"IFERROR(IF(OR(ISTEXT(RTD(\"cqg.rtd\",,\"OrderData\",\"\"&B395&\"\",\"\",\"OpenPosition\",\"\"&Display4!$D$3&\"\")),RTD(\"cqg.rtd\",,\"OrderData\",\"\"&B395&\"\",\"\",\"OpenPosition\",\"\"&Display4!$D$3&\"\")=0),A394+0.001,INT(A394)+1),A394)","v":0.3950000000000003},{"$f":"(LEFT(B396,SEARCH(Display4!$G$2,B396)+LEN(Display4!$G$2)+2))&RIGHT(B396,LEN(B396)-(SEARCH(Display4!$G$2,B396)+LEN(Display4!$G$2)+2))+Display4!$J$3","v":"P.US.EPH1824800"}]
[{"$f":"IFERROR(IF(OR(ISTEXT(RTD(\"cqg.rtd\",,\"OrderData\",\"\"&B396&\"\",\"\",\"OpenPosition\",\"\"&Display4!$D$3&\"\")),RTD(\"cqg.rtd\",,\"OrderData\",\"\"&B396&\"\",\"\",\"OpenPosition\",\"\"&Display4!$D$3&\"\")=0),A395+0.001,INT(A395)+1),A395)","v":0.3960000000000003},{"$f":"(LEFT(B397,SEARCH(Display4!$G$2,B397)+LEN(Display4!$G$2)+2))&RIGHT(B397,LEN(B397)-(SEARCH(Display4!$G$2,B397)+LEN(Display4!$G$2)+2))+Display4!$J$3","v":"P.US.EPH1824750"}]
[{"$f":"IFERROR(IF(OR(ISTEXT(RTD(\"cqg.rtd\",,\"OrderData\",\"\"&B397&\"\",\"\",\"OpenPosition\",\"\"&Display4!$D$3&\"\")),RTD(\"cqg.rtd\",,\"OrderData\",\"\"&B397&\"\",\"\",\"OpenPosition\",\"\"&Display4!$D$3&\"\")=0),A396+0.001,INT(A396)+1),A396)","v":0.3970000000000003},{"$f":"(LEFT(B398,SEARCH(Display4!$G$2,B398)+LEN(Display4!$G$2)+2))&RIGHT(B398,LEN(B398)-(SEARCH(Display4!$G$2,B398)+LEN(Display4!$G$2)+2))+Display4!$J$3","v":"P.US.EPH1824700"}]
[{"$f":"IFERROR(IF(OR(ISTEXT(RTD(\"cqg.rtd\",,\"OrderData\",\"\"&B398&\"\",\"\",\"OpenPosition\",\"\"&Display4!$D$3&\"\")),RTD(\"cqg.rtd\",,\"OrderData\",\"\"&B398&\"\",\"\",\"OpenPosition\",\"\"&Display4!$D$3&\"\")=0),A397+0.001,INT(A397)+1),A397)","v":0.3980000000000003},{"$f":"(LEFT(B399,SEARCH(Display4!$G$2,B399)+LEN(Display4!$G$2)+2))&RIGHT(B399,LEN(B399)-(SEARCH(Display4!$G$2,B399)+LEN(Display4!$G$2)+2))+Display4!$J$3","v":"P.US.EPH1824650"}]
[{"$f":"IFERROR(IF(OR(ISTEXT(RTD(\"cqg.rtd\",,\"OrderData\",\"\"&B399&\"\",\"\",\"OpenPosition\",\"\"&Display4!$D$3&\"\")),RTD(\"cqg.rtd\",,\"OrderData\",\"\"&B399&\"\",\"\",\"OpenPosition\",\"\"&Display4!$D$3&\"\")=0),A398+0.001,INT(A398)+1),A398)","v":0.3990000000000003},{"$f":"(LEFT(B400,SEARCH(Display4!$G$2,B400)+LEN(Display4!$G$2)+2))&RIGHT(B400,LEN(B400)-(SEARCH(Display4!$G$2,B400)+LEN(Display4!$G$2)+2))+Display4!$J$3","v":"P.US.EPH1824600"}]
[{"$f":"IFERROR(IF(OR(ISTEXT(RTD(\"cqg.rtd\",,\"OrderData\",\"\"&B400&\"\",\"\",\"OpenPosition\",\"\"&Display4!$D$3&\"\")),RTD(\"cqg.rtd\",,\"OrderData\",\"\"&B400&\"\",\"\",\"OpenPosition\",\"\"&Display4!$D$3&\"\")=0),A399+0.001,INT(A399)+1),A399)","v":0.4000000000000003},{"$f":"(LEFT(B401,SEARCH(Display4!$G$2,B401)+LEN(Display4!$G$2)+2))&RIGHT(B401,LEN(B401)-(SEARCH(Display4!$G$2,B401)+LEN(Display4!$G$2)+2))+Display4!$J$3","v":"P.US.EPH1824550"}]
[{"$f":"IFERROR(IF(OR(ISTEXT(RTD(\"cqg.rtd\",,\"OrderData\",\"\"&B401&\"\",\"\",\"OpenPosition\",\"\"&Display4!$D$3&\"\")),RTD(\"cqg.rtd\",,\"OrderData\",\"\"&B401&\"\",\"\",\"OpenPosition\",\"\"&Display4!$D$3&\"\")=0),A400+0.001,INT(A400)+1),A400)","v":0.4010000000000003},{"$f":"(LEFT(B402,SEARCH(Display4!$G$2,B402)+LEN(Display4!$G$2)+2))&RIGHT(B402,LEN(B402)-(SEARCH(Display4!$G$2,B402)+LEN(Display4!$G$2)+2))+Display4!$J$3","v":"P.US.EPH1824500"}]
[{"$f":"IFERROR(IF(OR(ISTEXT(RTD(\"cqg.rtd\",,\"OrderData\",\"\"&B402&\"\",\"\",\"OpenPosition\",\"\"&Display4!$D$3&\"\")),RTD(\"cqg.rtd\",,\"OrderData\",\"\"&B402&\"\",\"\",\"OpenPosition\",\"\"&Display4!$D$3&\"\")=0),A401+0.001,INT(A401)+1),A401)","v":0.4020000000000003},{"$f":"(LEFT(B403,SEARCH(Display4!$G$2,B403)+LEN(Display4!$G$2)+2))&RIGHT(B403,LEN(B403)-(SEARCH(Display4!$G$2,B403)+LEN(Display4!$G$2)+2))+Display4!$J$3","v":"P.US.EPH1824450"}]
[{"$f":"IFERROR(IF(OR(ISTEXT(RTD(\"cqg.rtd\",,\"OrderData\",\"\"&B403&\"\",\"\",\"OpenPosition\",\"\"&Display4!$D$3&\"\")),RTD(\"cqg.rtd\",,\"OrderData\",\"\"&B403&\"\",\"\",\"OpenPosition\",\"\"&Display4!$D$3&\"\")=0),A402+0.001,INT(A402)+1),A402)","v":0.4030000000000003},{"$f":"(LEFT(B404,SEARCH(Display4!$G$2,B404)+LEN(Display4!$G$2)+2))&RIGHT(B404,LEN(B404)-(SEARCH(Display4!$G$2,B404)+LEN(Display4!$G$2)+2))+Display4!$J$3","v":"P.US.EPH1824400"}]
[{"$f":"IFERROR(IF(OR(ISTEXT(RTD(\"cqg.rtd\",,\"OrderData\",\"\"&B404&\"\",\"\",\"OpenPosition\",\"\"&Display4!$D$3&\"\")),RTD(\"cqg.rtd\",,\"OrderData\",\"\"&B404&\"\",\"\",\"OpenPosition\",\"\"&Display4!$D$3&\"\")=0),A403+0.001,INT(A403)+1),A403)","v":0.4040000000000003},{"$f":"(LEFT(B405,SEARCH(Display4!$G$2,B405)+LEN(Display4!$G$2)+2))&RIGHT(B405,LEN(B405)-(SEARCH(Display4!$G$2,B405)+LEN(Display4!$G$2)+2))+Display4!$J$3","v":"P.US.EPH1824350"}]
[{"$f":"IFERROR(IF(OR(ISTEXT(RTD(\"cqg.rtd\",,\"OrderData\",\"\"&B405&\"\",\"\",\"OpenPosition\",\"\"&Display4!$D$3&\"\")),RTD(\"cqg.rtd\",,\"OrderData\",\"\"&B405&\"\",\"\",\"OpenPosition\",\"\"&Display4!$D$3&\"\")=0),A404+0.001,INT(A404)+1),A404)","v":0.4050000000000003},{"$f":"RTD(\"cqg.rtd\", ,\"ContractData\", \"P.US.\"&Display4!$G$2&Display4!$I$3&\"\", \"Symbol\",, \"T\")","v":"P.US.EPH1824300"}]
[{"$f":"IFERROR(IF(OR(ISTEXT(RTD(\"cqg.rtd\",,\"OrderData\",\"\"&B406&\"\",\"\",\"OpenPosition\",\"\"&Display4!$D$3&\"\")),RTD(\"cqg.rtd\",,\"OrderData\",\"\"&B406&\"\",\"\",\"OpenPosition\",\"\"&Display4!$D$3&\"\")=0),A405+0.001,INT(A405)+1),A405)","v":0.40600000000000031},{"$f":"(LEFT(B405,SEARCH(Display4!$G$2,B405)+LEN(Display4!$G$2)+2))&RIGHT(B405,LEN(B405)-(SEARCH(Display4!$G$2,B405)+LEN(Display4!$G$2)+2))-Display4!$J$3","v":"P.US.EPH1824250"}]
[{"$f":"IFERROR(IF(OR(ISTEXT(RTD(\"cqg.rtd\",,\"OrderData\",\"\"&B407&\"\",\"\",\"OpenPosition\",\"\"&Display4!$D$3&\"\")),RTD(\"cqg.rtd\",,\"OrderData\",\"\"&B407&\"\",\"\",\"OpenPosition\",\"\"&Display4!$D$3&\"\")=0),A406+0.001,INT(A406)+1),A406)","v":0.40700000000000031},{"$f":"(LEFT(B406,SEARCH(Display4!$G$2,B406)+LEN(Display4!$G$2)+2))&RIGHT(B406,LEN(B406)-(SEARCH(Display4!$G$2,B406)+LEN(Display4!$G$2)+2))-Display4!$J$3","v":"P.US.EPH1824200"}]
[{"$f":"IFERROR(IF(OR(ISTEXT(RTD(\"cqg.rtd\",,\"OrderData\",\"\"&B408&\"\",\"\",\"OpenPosition\",\"\"&Display4!$D$3&\"\")),RTD(\"cqg.rtd\",,\"OrderData\",\"\"&B408&\"\",\"\",\"OpenPosition\",\"\"&Display4!$D$3&\"\")=0),A407+0.001,INT(A407)+1),A407)","v":0.40800000000000031},{"$f":"(LEFT(B407,SEARCH(Display4!$G$2,B407)+LEN(Display4!$G$2)+2))&RIGHT(B407,LEN(B407)-(SEARCH(Display4!$G$2,B407)+LEN(Display4!$G$2)+2))-Display4!$J$3","v":"P.US.EPH1824150"}]
[{"$f":"IFERROR(IF(OR(ISTEXT(RTD(\"cqg.rtd\",,\"OrderData\",\"\"&B409&\"\",\"\",\"OpenPosition\",\"\"&Display4!$D$3&\"\")),RTD(\"cqg.rtd\",,\"OrderData\",\"\"&B409&\"\",\"\",\"OpenPosition\",\"\"&Display4!$D$3&\"\")=0),A408+0.001,INT(A408)+1),A408)","v":0.40900000000000031},{"$f":"(LEFT(B408,SEARCH(Display4!$G$2,B408)+LEN(Display4!$G$2)+2))&RIGHT(B408,LEN(B408)-(SEARCH(Display4!$G$2,B408)+LEN(Display4!$G$2)+2))-Display4!$J$3","v":"P.US.EPH1824100"}]
[{"$f":"IFERROR(IF(OR(ISTEXT(RTD(\"cqg.rtd\",,\"OrderData\",\"\"&B410&\"\",\"\",\"OpenPosition\",\"\"&Display4!$D$3&\"\")),RTD(\"cqg.rtd\",,\"OrderData\",\"\"&B410&\"\",\"\",\"OpenPosition\",\"\"&Display4!$D$3&\"\")=0),A409+0.001,INT(A409)+1),A409)","v":0.41000000000000031},{"$f":"(LEFT(B409,SEARCH(Display4!$G$2,B409)+LEN(Display4!$G$2)+2))&RIGHT(B409,LEN(B409)-(SEARCH(Display4!$G$2,B409)+LEN(Display4!$G$2)+2))-Display4!$J$3","v":"P.US.EPH1824050"}]
[{"$f":"IFERROR(IF(OR(ISTEXT(RTD(\"cqg.rtd\",,\"OrderData\",\"\"&B411&\"\",\"\",\"OpenPosition\",\"\"&Display4!$D$3&\"\")),RTD(\"cqg.rtd\",,\"OrderData\",\"\"&B411&\"\",\"\",\"OpenPosition\",\"\"&Display4!$D$3&\"\")=0),A410+0.001,INT(A410)+1),A410)","v":0.41100000000000031},{"$f":"(LEFT(B410,SEARCH(Display4!$G$2,B410)+LEN(Display4!$G$2)+2))&RIGHT(B410,LEN(B410)-(SEARCH(Display4!$G$2,B410)+LEN(Display4!$G$2)+2))-Display4!$J$3","v":"P.US.EPH1824000"}]
[{"$f":"IFERROR(IF(OR(ISTEXT(RTD(\"cqg.rtd\",,\"OrderData\",\"\"&B412&\"\",\"\",\"OpenPosition\",\"\"&Display4!$D$3&\"\")),RTD(\"cqg.rtd\",,\"OrderData\",\"\"&B412&\"\",\"\",\"OpenPosition\",\"\"&Display4!$D$3&\"\")=0),A411+0.001,INT(A411)+1),A411)","v":0.41200000000000031},{"$f":"(LEFT(B411,SEARCH(Display4!$G$2,B411)+LEN(Display4!$G$2)+2))&RIGHT(B411,LEN(B411)-(SEARCH(Display4!$G$2,B411)+LEN(Display4!$G$2)+2))-Display4!$J$3","v":"P.US.EPH1823950"}]
[{"$f":"IFERROR(IF(OR(ISTEXT(RTD(\"cqg.rtd\",,\"OrderData\",\"\"&B413&\"\",\"\",\"OpenPosition\",\"\"&Display4!$D$3&\"\")),RTD(\"cqg.rtd\",,\"OrderData\",\"\"&B413&\"\",\"\",\"OpenPosition\",\"\"&Display4!$D$3&\"\")=0),A412+0.001,INT(A412)+1),A412)","v":0.41300000000000031},{"$f":"(LEFT(B412,SEARCH(Display4!$G$2,B412)+LEN(Display4!$G$2)+2))&RIGHT(B412,LEN(B412)-(SEARCH(Display4!$G$2,B412)+LEN(Display4!$G$2)+2))-Display4!$J$3","v":"P.US.EPH1823900"}]
[{"$f":"IFERROR(IF(OR(ISTEXT(RTD(\"cqg.rtd\",,\"OrderData\",\"\"&B414&\"\",\"\",\"OpenPosition\",\"\"&Display4!$D$3&\"\")),RTD(\"cqg.rtd\",,\"OrderData\",\"\"&B414&\"\",\"\",\"OpenPosition\",\"\"&Display4!$D$3&\"\")=0),A413+0.001,INT(A413)+1),A413)","v":0.41400000000000031},{"$f":"(LEFT(B413,SEARCH(Display4!$G$2,B413)+LEN(Display4!$G$2)+2))&RIGHT(B413,LEN(B413)-(SEARCH(Display4!$G$2,B413)+LEN(Display4!$G$2)+2))-Display4!$J$3","v":"P.US.EPH1823850"}]
[{"$f":"IFERROR(IF(OR(ISTEXT(RTD(\"cqg.rtd\",,\"OrderData\",\"\"&B415&\"\",\"\",\"OpenPosition\",\"\"&Display4!$D$3&\"\")),RTD(\"cqg.rtd\",,\"OrderData\",\"\"&B415&\"\",\"\",\"OpenPosition\",\"\"&Display4!$D$3&\"\")=0),A414+0.001,INT(A414)+1),A414)","v":0.41500000000000031},{"$f":"(LEFT(B414,SEARCH(Display4!$G$2,B414)+LEN(Display4!$G$2)+2))&RIGHT(B414,LEN(B414)-(SEARCH(Display4!$G$2,B414)+LEN(Display4!$G$2)+2))-Display4!$J$3","v":"P.US.EPH1823800"}]
[{"$f":"IFERROR(IF(OR(ISTEXT(RTD(\"cqg.rtd\",,\"OrderData\",\"\"&B416&\"\",\"\",\"OpenPosition\",\"\"&Display4!$D$3&\"\")),RTD(\"cqg.rtd\",,\"OrderData\",\"\"&B416&\"\",\"\",\"OpenPosition\",\"\"&Display4!$D$3&\"\")=0),A415+0.001,INT(A415)+1),A415)","v":0.41600000000000031},{"$f":"(LEFT(B415,SEARCH(Display4!$G$2,B415)+LEN(Display4!$G$2)+2))&RIGHT(B415,LEN(B415)-(SEARCH(Display4!$G$2,B415)+LEN(Display4!$G$2)+2))-Display4!$J$3","v":"P.US.EPH1823750"}]
[{"$f":"IFERROR(IF(OR(ISTEXT(RTD(\"cqg.rtd\",,\"OrderData\",\"\"&B417&\"\",\"\",\"OpenPosition\",\"\"&Display4!$D$3&\"\")),RTD(\"cqg.rtd\",,\"OrderData\",\"\"&B417&\"\",\"\",\"OpenPosition\",\"\"&Display4!$D$3&\"\")=0),A416+0.001,INT(A416)+1),A416)","v":0.41700000000000031},{"$f":"(LEFT(B416,SEARCH(Display4!$G$2,B416)+LEN(Display4!$G$2)+2))&RIGHT(B416,LEN(B416)-(SEARCH(Display4!$G$2,B416)+LEN(Display4!$G$2)+2))-Display4!$J$3","v":"P.US.EPH1823700"}]
[{"$f":"IFERROR(IF(OR(ISTEXT(RTD(\"cqg.rtd\",,\"OrderData\",\"\"&B418&\"\",\"\",\"OpenPosition\",\"\"&Display4!$D$3&\"\")),RTD(\"cqg.rtd\",,\"OrderData\",\"\"&B418&\"\",\"\",\"OpenPosition\",\"\"&Display4!$D$3&\"\")=0),A417+0.001,INT(A417)+1),A417)","v":0.41800000000000032},{"$f":"(LEFT(B417,SEARCH(Display4!$G$2,B417)+LEN(Display4!$G$2)+2))&RIGHT(B417,LEN(B417)-(SEARCH(Display4!$G$2,B417)+LEN(Display4!$G$2)+2))-Display4!$J$3","v":"P.US.EPH1823650"}]
[{"$f":"IFERROR(IF(OR(ISTEXT(RTD(\"cqg.rtd\",,\"OrderData\",\"\"&B419&\"\",\"\",\"OpenPosition\",\"\"&Display4!$D$3&\"\")),RTD(\"cqg.rtd\",,\"OrderData\",\"\"&B419&\"\",\"\",\"OpenPosition\",\"\"&Display4!$D$3&\"\")=0),A418+0.001,INT(A418)+1),A418)","v":0.41900000000000032},{"$f":"(LEFT(B418,SEARCH(Display4!$G$2,B418)+LEN(Display4!$G$2)+2))&RIGHT(B418,LEN(B418)-(SEARCH(Display4!$G$2,B418)+LEN(Display4!$G$2)+2))-Display4!$J$3","v":"P.US.EPH1823600"}]
[{"$f":"IFERROR(IF(OR(ISTEXT(RTD(\"cqg.rtd\",,\"OrderData\",\"\"&B420&\"\",\"\",\"OpenPosition\",\"\"&Display4!$D$3&\"\")),RTD(\"cqg.rtd\",,\"OrderData\",\"\"&B420&\"\",\"\",\"OpenPosition\",\"\"&Display4!$D$3&\"\")=0),A419+0.001,INT(A419)+1),A419)","v":0.42000000000000032},{"$f":"(LEFT(B419,SEARCH(Display4!$G$2,B419)+LEN(Display4!$G$2)+2))&RIGHT(B419,LEN(B419)-(SEARCH(Display4!$G$2,B419)+LEN(Display4!$G$2)+2))-Display4!$J$3","v":"P.US.EPH1823550"}]
[{"$f":"IFERROR(IF(OR(ISTEXT(RTD(\"cqg.rtd\",,\"OrderData\",\"\"&B421&\"\",\"\",\"OpenPosition\",\"\"&Display4!$D$3&\"\")),RTD(\"cqg.rtd\",,\"OrderData\",\"\"&B421&\"\",\"\",\"OpenPosition\",\"\"&Display4!$D$3&\"\")=0),A420+0.001,INT(A420)+1),A420)","v":0.42100000000000032},{"$f":"(LEFT(B420,SEARCH(Display4!$G$2,B420)+LEN(Display4!$G$2)+2))&RIGHT(B420,LEN(B420)-(SEARCH(Display4!$G$2,B420)+LEN(Display4!$G$2)+2))-Display4!$J$3","v":"P.US.EPH1823500"}]
[{"$f":"IFERROR(IF(OR(ISTEXT(RTD(\"cqg.rtd\",,\"OrderData\",\"\"&B422&\"\",\"\",\"OpenPosition\",\"\"&Display4!$D$3&\"\")),RTD(\"cqg.rtd\",,\"OrderData\",\"\"&B422&\"\",\"\",\"OpenPosition\",\"\"&Display4!$D$3&\"\")=0),A421+0.001,INT(A421)+1),A421)","v":0.42200000000000032},{"$f":"(LEFT(B421,SEARCH(Display4!$G$2,B421)+LEN(Display4!$G$2)+2))&RIGHT(B421,LEN(B421)-(SEARCH(Display4!$G$2,B421)+LEN(Display4!$G$2)+2))-Display4!$J$3","v":"P.US.EPH1823450"}]
[{"$f":"IFERROR(IF(OR(ISTEXT(RTD(\"cqg.rtd\",,\"OrderData\",\"\"&B423&\"\",\"\",\"OpenPosition\",\"\"&Display4!$D$3&\"\")),RTD(\"cqg.rtd\",,\"OrderData\",\"\"&B423&\"\",\"\",\"OpenPosition\",\"\"&Display4!$D$3&\"\")=0),A422+0.001,INT(A422)+1),A422)","v":0.42300000000000032},{"$f":"(LEFT(B422,SEARCH(Display4!$G$2,B422)+LEN(Display4!$G$2)+2))&RIGHT(B422,LEN(B422)-(SEARCH(Display4!$G$2,B422)+LEN(Display4!$G$2)+2))-Display4!$J$3","v":"P.US.EPH1823400"}]
[{"$f":"IFERROR(IF(OR(ISTEXT(RTD(\"cqg.rtd\",,\"OrderData\",\"\"&B424&\"\",\"\",\"OpenPosition\",\"\"&Display4!$D$3&\"\")),RTD(\"cqg.rtd\",,\"OrderData\",\"\"&B424&\"\",\"\",\"OpenPosition\",\"\"&Display4!$D$3&\"\")=0),A423+0.001,INT(A423)+1),A423)","v":0.42400000000000032},{"$f":"(LEFT(B423,SEARCH(Display4!$G$2,B423)+LEN(Display4!$G$2)+2))&RIGHT(B423,LEN(B423)-(SEARCH(Display4!$G$2,B423)+LEN(Display4!$G$2)+2))-Display4!$J$3","v":"P.US.EPH1823350"}]
[{"$f":"IFERROR(IF(OR(ISTEXT(RTD(\"cqg.rtd\",,\"OrderData\",\"\"&B425&\"\",\"\",\"OpenPosition\",\"\"&Display4!$D$3&\"\")),RTD(\"cqg.rtd\",,\"OrderData\",\"\"&B425&\"\",\"\",\"OpenPosition\",\"\"&Display4!$D$3&\"\")=0),A424+0.001,INT(A424)+1),A424)","v":0.42500000000000032},{"$f":"(LEFT(B424,SEARCH(Display4!$G$2,B424)+LEN(Display4!$G$2)+2))&RIGHT(B424,LEN(B424)-(SEARCH(Display4!$G$2,B424)+LEN(Display4!$G$2)+2))-Display4!$J$3","v":"P.US.EPH1823300"}]
[{"$f":"IFERROR(IF(OR(ISTEXT(RTD(\"cqg.rtd\",,\"OrderData\",\"\"&B426&\"\",\"\",\"OpenPosition\",\"\"&Display4!$D$3&\"\")),RTD(\"cqg.rtd\",,\"OrderData\",\"\"&B426&\"\",\"\",\"OpenPosition\",\"\"&Display4!$D$3&\"\")=0),A425+0.001,INT(A425)+1),A425)","v":0.42600000000000032},{"$f":"(LEFT(B425,SEARCH(Display4!$G$2,B425)+LEN(Display4!$G$2)+2))&RIGHT(B425,LEN(B425)-(SEARCH(Display4!$G$2,B425)+LEN(Display4!$G$2)+2))-Display4!$J$3","v":"P.US.EPH1823250"}]
[{"$f":"IFERROR(IF(OR(ISTEXT(RTD(\"cqg.rtd\",,\"OrderData\",\"\"&B427&\"\",\"\",\"OpenPosition\",\"\"&Display4!$D$3&\"\")),RTD(\"cqg.rtd\",,\"OrderData\",\"\"&B427&\"\",\"\",\"OpenPosition\",\"\"&Display4!$D$3&\"\")=0),A426+0.001,INT(A426)+1),A426)","v":0.42700000000000032},{"$f":"(LEFT(B426,SEARCH(Display4!$G$2,B426)+LEN(Display4!$G$2)+2))&RIGHT(B426,LEN(B426)-(SEARCH(Display4!$G$2,B426)+LEN(Display4!$G$2)+2))-Display4!$J$3","v":"P.US.EPH1823200"}]
[{"$f":"IFERROR(IF(OR(ISTEXT(RTD(\"cqg.rtd\",,\"OrderData\",\"\"&B428&\"\",\"\",\"OpenPosition\",\"\"&Display4!$D$3&\"\")),RTD(\"cqg.rtd\",,\"OrderData\",\"\"&B428&\"\",\"\",\"OpenPosition\",\"\"&Display4!$D$3&\"\")=0),A427+0.001,INT(A427)+1),A427)","v":0.42800000000000032},{"$f":"(LEFT(B427,SEARCH(Display4!$G$2,B427)+LEN(Display4!$G$2)+2))&RIGHT(B427,LEN(B427)-(SEARCH(Display4!$G$2,B427)+LEN(Display4!$G$2)+2))-Display4!$J$3","v":"P.US.EPH1823150"}]
[{"$f":"IFERROR(IF(OR(ISTEXT(RTD(\"cqg.rtd\",,\"OrderData\",\"\"&B429&\"\",\"\",\"OpenPosition\",\"\"&Display4!$D$3&\"\")),RTD(\"cqg.rtd\",,\"OrderData\",\"\"&B429&\"\",\"\",\"OpenPosition\",\"\"&Display4!$D$3&\"\")=0),A428+0.001,INT(A428)+1),A428)","v":0.42900000000000033},{"$f":"(LEFT(B428,SEARCH(Display4!$G$2,B428)+LEN(Display4!$G$2)+2))&RIGHT(B428,LEN(B428)-(SEARCH(Display4!$G$2,B428)+LEN(Display4!$G$2)+2))-Display4!$J$3","v":"P.US.EPH1823100"}]
[{"$f":"IFERROR(IF(OR(ISTEXT(RTD(\"cqg.rtd\",,\"OrderData\",\"\"&B430&\"\",\"\",\"OpenPosition\",\"\"&Display4!$D$3&\"\")),RTD(\"cqg.rtd\",,\"OrderData\",\"\"&B430&\"\",\"\",\"OpenPosition\",\"\"&Display4!$D$3&\"\")=0),A429+0.001,INT(A429)+1),A429)","v":0.43000000000000033},{"$f":"(LEFT(B429,SEARCH(Display4!$G$2,B429)+LEN(Display4!$G$2)+2))&RIGHT(B429,LEN(B429)-(SEARCH(Display4!$G$2,B429)+LEN(Display4!$G$2)+2))-Display4!$J$3","v":"P.US.EPH1823050"}]
[{"$f":"IFERROR(IF(OR(ISTEXT(RTD(\"cqg.rtd\",,\"OrderData\",\"\"&B431&\"\",\"\",\"OpenPosition\",\"\"&Display4!$D$3&\"\")),RTD(\"cqg.rtd\",,\"OrderData\",\"\"&B431&\"\",\"\",\"OpenPosition\",\"\"&Display4!$D$3&\"\")=0),A430+0.001,INT(A430)+1),A430)","v":0.43100000000000033},{"$f":"(LEFT(B430,SEARCH(Display4!$G$2,B430)+LEN(Display4!$G$2)+2))&RIGHT(B430,LEN(B430)-(SEARCH(Display4!$G$2,B430)+LEN(Display4!$G$2)+2))-Display4!$J$3","v":"P.US.EPH1823000"}]
[{"$f":"IFERROR(IF(OR(ISTEXT(RTD(\"cqg.rtd\",,\"OrderData\",\"\"&B432&\"\",\"\",\"OpenPosition\",\"\"&Display4!$D$3&\"\")),RTD(\"cqg.rtd\",,\"OrderData\",\"\"&B432&\"\",\"\",\"OpenPosition\",\"\"&Display4!$D$3&\"\")=0),A431+0.001,INT(A431)+1),A431)","v":0.43200000000000033},{"$f":"(LEFT(B431,SEARCH(Display4!$G$2,B431)+LEN(Display4!$G$2)+2))&RIGHT(B431,LEN(B431)-(SEARCH(Display4!$G$2,B431)+LEN(Display4!$G$2)+2))-Display4!$J$3","v":"P.US.EPH1822950"}]
[{"$f":"IFERROR(IF(OR(ISTEXT(RTD(\"cqg.rtd\",,\"OrderData\",\"\"&B433&\"\",\"\",\"OpenPosition\",\"\"&Display4!$D$3&\"\")),RTD(\"cqg.rtd\",,\"OrderData\",\"\"&B433&\"\",\"\",\"OpenPosition\",\"\"&Display4!$D$3&\"\")=0),A432+0.001,INT(A432)+1),A432)","v":0.43300000000000033},{"$f":"(LEFT(B432,SEARCH(Display4!$G$2,B432)+LEN(Display4!$G$2)+2))&RIGHT(B432,LEN(B432)-(SEARCH(Display4!$G$2,B432)+LEN(Display4!$G$2)+2))-Display4!$J$3","v":"P.US.EPH1822900"}]
[{"$f":"IFERROR(IF(OR(ISTEXT(RTD(\"cqg.rtd\",,\"OrderData\",\"\"&B434&\"\",\"\",\"OpenPosition\",\"\"&Display4!$D$3&\"\")),RTD(\"cqg.rtd\",,\"OrderData\",\"\"&B434&\"\",\"\",\"OpenPosition\",\"\"&Display4!$D$3&\"\")=0),A433+0.001,INT(A433)+1),A433)","v":0.43400000000000033},{"$f":"(LEFT(B433,SEARCH(Display4!$G$2,B433)+LEN(Display4!$G$2)+2))&RIGHT(B433,LEN(B433)-(SEARCH(Display4!$G$2,B433)+LEN(Display4!$G$2)+2))-Display4!$J$3","v":"P.US.EPH1822850"}]
[{"$f":"IFERROR(IF(OR(ISTEXT(RTD(\"cqg.rtd\",,\"OrderData\",\"\"&B435&\"\",\"\",\"OpenPosition\",\"\"&Display4!$D$3&\"\")),RTD(\"cqg.rtd\",,\"OrderData\",\"\"&B435&\"\",\"\",\"OpenPosition\",\"\"&Display4!$D$3&\"\")=0),A434+0.001,INT(A434)+1),A434)","v":0.43500000000000033},{"$f":"(LEFT(B434,SEARCH(Display4!$G$2,B434)+LEN(Display4!$G$2)+2))&RIGHT(B434,LEN(B434)-(SEARCH(Display4!$G$2,B434)+LEN(Display4!$G$2)+2))-Display4!$J$3","v":"P.US.EPH1822800"}]
[{"$f":"IFERROR(IF(OR(ISTEXT(RTD(\"cqg.rtd\",,\"OrderData\",\"\"&B436&\"\",\"\",\"OpenPosition\",\"\"&Display4!$D$3&\"\")),RTD(\"cqg.rtd\",,\"OrderData\",\"\"&B436&\"\",\"\",\"OpenPosition\",\"\"&Display4!$D$3&\"\")=0),A435+0.001,INT(A435)+1),A435)","v":0.43600000000000033},{"$f":"(LEFT(B435,SEARCH(Display4!$G$2,B435)+LEN(Display4!$G$2)+2))&RIGHT(B435,LEN(B435)-(SEARCH(Display4!$G$2,B435)+LEN(Display4!$G$2)+2))-Display4!$J$3","v":"P.US.EPH1822750"}]
[{"$f":"IFERROR(IF(OR(ISTEXT(RTD(\"cqg.rtd\",,\"OrderData\",\"\"&B437&\"\",\"\",\"OpenPosition\",\"\"&Display4!$D$3&\"\")),RTD(\"cqg.rtd\",,\"OrderData\",\"\"&B437&\"\",\"\",\"OpenPosition\",\"\"&Display4!$D$3&\"\")=0),A436+0.001,INT(A436)+1),A436)","v":0.43700000000000033},{"$f":"(LEFT(B436,SEARCH(Display4!$G$2,B436)+LEN(Display4!$G$2)+2))&RIGHT(B436,LEN(B436)-(SEARCH(Display4!$G$2,B436)+LEN(Display4!$G$2)+2))-Display4!$J$3","v":"P.US.EPH1822700"}]
[{"$f":"IFERROR(IF(OR(ISTEXT(RTD(\"cqg.rtd\",,\"OrderData\",\"\"&B438&\"\",\"\",\"OpenPosition\",\"\"&Display4!$D$3&\"\")),RTD(\"cqg.rtd\",,\"OrderData\",\"\"&B438&\"\",\"\",\"OpenPosition\",\"\"&Display4!$D$3&\"\")=0),A437+0.001,INT(A437)+1),A437)","v":0.43800000000000033},{"$f":"(LEFT(B437,SEARCH(Display4!$G$2,B437)+LEN(Display4!$G$2)+2))&RIGHT(B437,LEN(B437)-(SEARCH(Display4!$G$2,B437)+LEN(Display4!$G$2)+2))-Display4!$J$3","v":"P.US.EPH1822650"}]
[{"$f":"IFERROR(IF(OR(ISTEXT(RTD(\"cqg.rtd\",,\"OrderData\",\"\"&B439&\"\",\"\",\"OpenPosition\",\"\"&Display4!$D$3&\"\")),RTD(\"cqg.rtd\",,\"OrderData\",\"\"&B439&\"\",\"\",\"OpenPosition\",\"\"&Display4!$D$3&\"\")=0),A438+0.001,INT(A438)+1),A438)","v":0.43900000000000033},{"$f":"(LEFT(B438,SEARCH(Display4!$G$2,B438)+LEN(Display4!$G$2)+2))&RIGHT(B438,LEN(B438)-(SEARCH(Display4!$G$2,B438)+LEN(Display4!$G$2)+2))-Display4!$J$3","v":"P.US.EPH1822600"}]
[{"$f":"IFERROR(IF(OR(ISTEXT(RTD(\"cqg.rtd\",,\"OrderData\",\"\"&B440&\"\",\"\",\"OpenPosition\",\"\"&Display4!$D$3&\"\")),RTD(\"cqg.rtd\",,\"OrderData\",\"\"&B440&\"\",\"\",\"OpenPosition\",\"\"&Display4!$D$3&\"\")=0),A439+0.001,INT(A439)+1),A439)","v":0.44000000000000034},{"$f":"(LEFT(B439,SEARCH(Display4!$G$2,B439)+LEN(Display4!$G$2)+2))&RIGHT(B439,LEN(B439)-(SEARCH(Display4!$G$2,B439)+LEN(Display4!$G$2)+2))-Display4!$J$3","v":"P.US.EPH1822550"}]
[{"$f":"IFERROR(IF(OR(ISTEXT(RTD(\"cqg.rtd\",,\"OrderData\",\"\"&B441&\"\",\"\",\"OpenPosition\",\"\"&Display4!$D$3&\"\")),RTD(\"cqg.rtd\",,\"OrderData\",\"\"&B441&\"\",\"\",\"OpenPosition\",\"\"&Display4!$D$3&\"\")=0),A440+0.001,INT(A440)+1),A440)","v":0.44100000000000034},{"$f":"(LEFT(B440,SEARCH(Display4!$G$2,B440)+LEN(Display4!$G$2)+2))&RIGHT(B440,LEN(B440)-(SEARCH(Display4!$G$2,B440)+LEN(Display4!$G$2)+2))-Display4!$J$3","v":"P.US.EPH1822500"}]
[{"$f":"IFERROR(IF(OR(ISTEXT(RTD(\"cqg.rtd\",,\"OrderData\",\"\"&B442&\"\",\"\",\"OpenPosition\",\"\"&Display4!$D$3&\"\")),RTD(\"cqg.rtd\",,\"OrderData\",\"\"&B442&\"\",\"\",\"OpenPosition\",\"\"&Display4!$D$3&\"\")=0),A441+0.001,INT(A441)+1),A441)","v":0.44200000000000034},{"$f":"(LEFT(B441,SEARCH(Display4!$G$2,B441)+LEN(Display4!$G$2)+2))&RIGHT(B441,LEN(B441)-(SEARCH(Display4!$G$2,B441)+LEN(Display4!$G$2)+2))-Display4!$J$3","v":"P.US.EPH1822450"}]
[{"$f":"IFERROR(IF(OR(ISTEXT(RTD(\"cqg.rtd\",,\"OrderData\",\"\"&B443&\"\",\"\",\"OpenPosition\",\"\"&Display4!$D$3&\"\")),RTD(\"cqg.rtd\",,\"OrderData\",\"\"&B443&\"\",\"\",\"OpenPosition\",\"\"&Display4!$D$3&\"\")=0),A442+0.001,INT(A442)+1),A442)","v":0.44300000000000034},{"$f":"(LEFT(B442,SEARCH(Display4!$G$2,B442)+LEN(Display4!$G$2)+2))&RIGHT(B442,LEN(B442)-(SEARCH(Display4!$G$2,B442)+LEN(Display4!$G$2)+2))-Display4!$J$3","v":"P.US.EPH1822400"}]
[{"$f":"IFERROR(IF(OR(ISTEXT(RTD(\"cqg.rtd\",,\"OrderData\",\"\"&B444&\"\",\"\",\"OpenPosition\",\"\"&Display4!$D$3&\"\")),RTD(\"cqg.rtd\",,\"OrderData\",\"\"&B444&\"\",\"\",\"OpenPosition\",\"\"&Display4!$D$3&\"\")=0),A443+0.001,INT(A443)+1),A443)","v":0.44400000000000034},{"$f":"(LEFT(B443,SEARCH(Display4!$G$2,B443)+LEN(Display4!$G$2)+2))&RIGHT(B443,LEN(B443)-(SEARCH(Display4!$G$2,B443)+LEN(Display4!$G$2)+2))-Display4!$J$3","v":"P.US.EPH1822350"}]
[{"$f":"IFERROR(IF(OR(ISTEXT(RTD(\"cqg.rtd\",,\"OrderData\",\"\"&B445&\"\",\"\",\"OpenPosition\",\"\"&Display4!$D$3&\"\")),RTD(\"cqg.rtd\",,\"OrderData\",\"\"&B445&\"\",\"\",\"OpenPosition\",\"\"&Display4!$D$3&\"\")=0),A444+0.001,INT(A444)+1),A444)","v":0.44500000000000034},{"$f":"(LEFT(B444,SEARCH(Display4!$G$2,B444)+LEN(Display4!$G$2)+2))&RIGHT(B444,LEN(B444)-(SEARCH(Display4!$G$2,B444)+LEN(Display4!$G$2)+2))-Display4!$J$3","v":"P.US.EPH1822300"}]
[{"$f":"IFERROR(IF(OR(ISTEXT(RTD(\"cqg.rtd\",,\"OrderData\",\"\"&B446&\"\",\"\",\"OpenPosition\",\"\"&Display4!$D$3&\"\")),RTD(\"cqg.rtd\",,\"OrderData\",\"\"&B446&\"\",\"\",\"OpenPosition\",\"\"&Display4!$D$3&\"\")=0),A445+0.001,INT(A445)+1),A445)","v":0.44600000000000034},{"$f":"RTD(\"cqg.rtd\", ,\"ContractData\", \"F.US.\"&Display4!$K$3&\"\", \"LongSymbol\",, \"T\")","v":"F.US.EPU17"}]
[{"$f":"IFERROR(IF(OR(ISTEXT(RTD(\"cqg.rtd\",,\"OrderData\",\"\"&B447&\"\",\"\",\"OpenPosition\",\"\"&Display4!$D$3&\"\")),RTD(\"cqg.rtd\",,\"OrderData\",\"\"&B447&\"\",\"\",\"OpenPosition\",\"\"&Display4!$D$3&\"\")=0),A446+0.001,INT(A446)+1),A446)","v":0.44700000000000034},{"$f":"RTD(\"cqg.rtd\", ,\"ContractData\", \"F.US.\"&Display4!$M$3&\"\", \"LongSymbol\",, \"T\")","v":"F.US.EPZ17"}]
[{"$f":"IFERROR(IF(OR(ISTEXT(RTD(\"cqg.rtd\",,\"OrderData\",\"\"&B448&\"\",\"\",\"OpenPosition\",\"\"&Display4!$D$3&\"\")),RTD(\"cqg.rtd\",,\"OrderData\",\"\"&B448&\"\",\"\",\"OpenPosition\",\"\"&Display4!$D$3&\"\")=0),A447+0.001,INT(A447)+1),A447)","v":0.44800000000000034},{"$f":"RTD(\"cqg.rtd\", ,\"ContractData\", \"F.US.\"&Display4!$N$3&\"\", \"LongSymbol\",, \"T\")","v":"F.US.EPH18"}]
[null,{"$f":"Display4!D3","v":"PSspread300"}]

{"sheet":"Fifth","index":10,"n_rows":449,"n_cols":43,"rows_kept":449,"cut":false,"hidden":true,"merged":[]}
[{"$f":"IF(OR(ISTEXT(RTD(\"cqg.rtd\",,\"OrderData\",\"\"&B1&\"\",\"\",\"OpenPosition\",\"\"&Display5!$D$3&\"\")),RTD(\"cqg.rtd\",,\"OrderData\",\"\"&B1&\"\",\"\",\"OpenPosition\",\"\"&Display5!$D$3&\"\")=0),0.001,1)","v":1E-3},{"$f":"(LEFT(B2,SEARCH(Display5!$G$2,B2)+LEN(Display5!$G$2)+2))&RIGHT(B2,LEN(B2)-(SEARCH(Display5!$G$2,B2)+LEN(Display5!$G$2)+2))+Display5!$J$3","v":"C.US.EPU1726300"},{"$f":"IF(D1=1,VLOOKUP(E1,$A$1:$B$448,2),0)","v":0},{"$f":"IF(LOOKUP(E1,$A$1:$A$448)<>E1,0,1)","v":0},1,{"$f":"IF(D1=1,RTD(\"cqg.rtd\", ,\"ContractData\",C1, \"ImpliedVolatility\",, \"T\"),\"\")","v":""},{"$f":"IF(F1=\"\",\"\",RANK(F1,$F$1:$F$35,0)+COUNTIF($F$1:F1,F1)-1)","v":""},{"$f":"C1","v":0},1,{"$f":"IF(D1=1,IF(F1=\"\",H1,VLOOKUP(I1,$G$1:$H$35,2,FALSE)),0)","v":0},{"$f":"IF(D1=1,RTD(\"cqg.rtd\", ,\"OrderData\",\"\"&C1&\"\", \"\", \"OpenTradeEquity\",\"\"&$B$449&\"\"),\"\")","v":""},{"$f":"IF(K1=\"\",\"\",RANK(K1,$K$1:$K$35,0))+COUNTIF($K$1:K1,K1)-1","v":{"$error":"#VALUE!"}},{"$f":"C1","v":0},1,{"$f":"IF(D1=1,VLOOKUP(N1,$L$1:$M$35,2,FALSE),\"\")","v":""},{"$f":"IF(D1=1,RTD(\"cqg.rtd\", ,\"ContractData\",C1, \"Delta\",, \"T\"),\"\")","v":""},{"$f":"IF(D1=1,RTD(\"cqg.rtd\", ,\"OrderData\", \"\"&O1&\"\", \"\", \"OpenPosition\",\"\"&$B$449&\"\"),\"\")","v":""},{"$f":"IF(D1=0,\"\",IF(LEFT(O1,1)=\"F\",Q1*100,Q1*RTD(\"cqg.rtd\",,\"ContractData\",O1,\"Delta\",,\"T\")))","v":""},{"$f":"IF(R1=\"\",\"\",RANK(R1,$R$1:$R$35,0)+COUNTIF($R$1:R1,R1)-1)","v":""},{"$f":"O1","v":""},1,{"$f":"IF(D1=1,VLOOKUP(U1,$S$1:$T$35,2,FALSE),\"\")","v":""},{"$f":"IF(D1=1,RTD(\"cqg.rtd\", ,\"ContractData\",C1, \"Vega\",, \"T\"),\"\")","v":""},{"$f":"IF(W1=\"\",\"\",RANK(W1,$W$1:$W$35,0)+COUNTIF($W$1:W1,W1)-1)","v":""},{"$f":"C1","v":0},1,{"$f":"IF(D1=1,IF(W1=\"\",Y1,VLOOKUP(Z1,$X$1:$Y$35,2,FALSE)),\"\")","v":""},{"$f":"IF(D1=1,RTD(\"cqg.rtd\", ,\"ContractData\",C1, \"Gamma\",, \"T\"),\"\")","v":""},{"$f":"IF(AB1=\"\",\"\",RANK(AB1,$AB$1:$AB$35,0)+COUNTIF($AB$1:AB1,AB1)-1)","v":""},{"$f":"C1","v":0},1,{"$f":"IF(D1=1,IF(AB1=\"\",AD1,VLOOKUP(AE1,$AC$1:$AD$35,2,FALSE)),\"\")","v":""},{"$f":"IF(D1=1,RTD(\"cqg.rtd\", ,\"ContractData\",C1, \"Theta\",, \"T\"),\"\")","v":""},{"$f":"IF(AG1=\"\",\"\",RANK(AG1,$AG$1:$AG$35,0)+COUNTIF($AG$1:AG1,AG1)-1)","v":""},{"$f":"C1","v":0},1,{"$f":"IF(D1=1,IF(AG1=\"\",AI1,VLOOKUP(AJ1,$AH$1:$AI$35,2,FALSE)),\"\")","v":""},{"$f":"IF(D1=1,1/RTD(\"cqg.rtd\", ,\"ContractData\",C1, \"ExpirationDate\",, \"T\"),\"\")","v":""},{"$f":"IF(AL1=\"\",\"\",RANK(AL1,$AL$1:$AL$35,0)+COUNTIF($AL$1:AL1,AL1)-1)","v":""},{"$f":"C1","v":0},1,{"$f":"IF(D1=1,IF(AL1=\"\",AN1,VLOOKUP(AO1,$AM$1:$AN$35,2,FALSE)),\"\")","v":""}]
[{"$f":"IF(OR(ISTEXT(RTD(\"cqg.rtd\",,\"OrderData\",\"\"&B2&\"\",\"\",\"OpenPosition\",\"\"&Display5!$D$3&\"\")),RTD(\"cqg.rtd\",,\"OrderData\",\"\"&B2&\"\",\"\",\"OpenPosition\",\"\"&Display5!$D$3&\"\")=0),A1+0.001,INT(A1)+1)","v":2E-3},{"$f":"(LEFT(B3,SEARCH(Display5!$G$2,B3)+LEN(Display5!$G$2)+2))&RIGHT(B3,LEN(B3)-(SEARCH(Display5!$G$2,B3)+LEN(Display5!$G$2)+2))+Display5!$J$3","v":"C.US.EPU1726250"},{"$f":"IF(D2=1,VLOOKUP(E2,$A$1:$B$448,2),0)","v":0},{"$f":"IF(LOOKUP(E2,$A$1:$A$448)<>E2,0,1)","v":0},{"$f":"E1+1","v":2},{"$f":"IF(D2=1,RTD(\"cqg.rtd\", ,\"ContractData\",C2, \"ImpliedVolatility\",, \"T\"),\"\")","v":""},{"$f":"IF(F2=\"\",\"\",RANK(F2,$F$1:$F$35,0)+COUNTIF($F$1:F2,F2)-1)","v":""},{"$f":"C2","v":0},{"$f":"I1+1","v":2},{"$f":"IF(D2=1,IF(F2=\"\",H2,VLOOKUP(I2,$G$1:$H$35,2,FALSE)),0)","v":0},{"$f":"IF(D2=1,RTD(\"cqg.rtd\", ,\"OrderData\",\"\"&C2&\"\", \"\", \"OpenTradeEquity\",\"\"&$B$449&\"\"),\"\")","v":""},{"$f":"IF(K2=\"\",\"\",RANK(K2,$K$1:$K$35,0))+COUNTIF($K$1:K2,K2)-1","v":{"$error":"#VALUE!"}},{"$f":"C2","v":0},{"$f":"N1+1","v":2},{"$f":"IF(D2=1,VLOOKUP(N2,$L$1:$M$35,2,FALSE),\"\")","v":""},{"$f":"IF(D2=1,RTD(\"cqg.rtd\", ,\"ContractData\",C2, \"Delta\",, \"T\"),\"\")","v":""},{"$f":"IF(D2=1,RTD(\"cqg.rtd\", ,\"OrderData\", \"\"&O2&\"\", \"\", \"OpenPosition\",\"\"&$B$449&\"\"),\"\")","v":""},{"$f":"IF(D2=0,\"\",IF(LEFT(O2,1)=\"F\",Q2*100,Q2*RTD(\"cqg.rtd\",,\"ContractData\",O2,\"Delta\",,\"T\")))","v":""},{"$f":"IF(R2=\"\",\"\",RANK(R2,$R$1:$R$35,0)+COUNTIF($R$1:R2,R2)-1)","v":""},{"$f":"O2","v":""},{"$f":"U1+1","v":2},{"$f":"IF(D2=1,VLOOKUP(U2,$S$1:$T$35,2,FALSE),\"\")","v":""},{"$f":"IF(D2=1,RTD(\"cqg.rtd\", ,\"ContractData\",C2, \"Vega\",, \"T\"),\"\")","v":""},{"$f":"IF(W2=\"\",\"\",RANK(W2,$W$1:$W$35,0)+COUNTIF($W$1:W2,W2)-1)","v":""},{"$f":"C2","v":0},{"$f":"Z1+1","v":2},{"$f":"IF(D2=1,IF(W2=\"\",Y2,VLOOKUP(Z2,$X$1:$Y$35,2,FALSE)),\"\")","v":""},{"$f":"IF(D2=1,RTD(\"cqg.rtd\", ,\"ContractData\",C2, \"Gamma\",, \"T\"),\"\")","v":""},{"$f":"IF(AB2=\"\",\"\",RANK(AB2,$AB$1:$AB$35,0)+COUNTIF($AB$1:AB2,AB2)-1)","v":""},{"$f":"C2","v":0},{"$f":"AE1+1","v":2},{"$f":"IF(D2=1,IF(AB2=\"\",AD2,VLOOKUP(AE2,$AC$1:$AD$35,2,FALSE)),\"\")","v":""},{"$f":"IF(D2=1,RTD(\"cqg.rtd\", ,\"ContractData\",C2, \"Theta\",, \"T\"),\"\")","v":""},{"$f":"IF(AG2=\"\",\"\",RANK(AG2,$AG$1:$AG$35,0)+COUNTIF($AG$1:AG2,AG2)-1)","v":""},{"$f":"C2","v":0},{"$f":"AJ1+1","v":2},{"$f":"IF(D2=1,IF(AG2=\"\",AI2,VLOOKUP(AJ2,$AH$1:$AI$35,2,FALSE)),\"\")","v":""},{"$f":"IF(D2=1,1/RTD(\"cqg.rtd\", ,\"ContractData\",C2, \"ExpirationDate\",, \"T\"),\"\")","v":""},{"$f":"IF(AL2=\"\",\"\",RANK(AL2,$AL$1:$AL$35,0)+COUNTIF($AL$1:AL2,AL2)-1)","v":""},{"$f":"C2","v":0},{"$f":"AO1+1","v":2},{"$f":"IF(D2=1,IF(AL2=\"\",AN2,VLOOKUP(AO2,$AM$1:$AN$35,2,FALSE)),\"\")","v":""}]
[{"$f":"IF(OR(ISTEXT(RTD(\"cqg.rtd\",,\"OrderData\",\"\"&B3&\"\",\"\",\"OpenPosition\",\"\"&Display5!$D$3&\"\")),RTD(\"cqg.rtd\",,\"OrderData\",\"\"&B3&\"\",\"\",\"OpenPosition\",\"\"&Display5!$D$3&\"\")=0),A2+0.001,INT(A2)+1)","v":3.0000000000000001E-3},{"$f":"(LEFT(B4,SEARCH(Display5!$G$2,B4)+LEN(Display5!$G$2)+2))&RIGHT(B4,LEN(B4)-(SEARCH(Display5!$G$2,B4)+LEN(Display5!$G$2)+2))+Display5!$J$3","v":"C.US.EPU1726200"},0,0,{"$f":"E2+1","v":3},{"$f":"IF(D3=1,RTD(\"cqg.rtd\", ,\"ContractData\",C3, \"ImpliedVolatility\",, \"T\"),\"\")","v":""},{"$f":"IF(F3=\"\",\"\",RANK(F3,$F$1:$F$35,0)+COUNTIF($F$1:F3,F3)-1)","v":""},0,{"$f":"I2+1","v":3},0,{"$f":"IF(D3=1,RTD(\"cqg.rtd\", ,\"OrderData\",\"\"&C3&\"\", \"\", \"OpenTradeEquity\",\"\"&$B$449&\"\"),\"\")","v":""},{"$f":"IF(K3=\"\",\"\",RANK(K3,$K$1:$K$35,0))+COUNTIF($K$1:K3,K3)-1","v":{"$error":"#VALUE!"}},0,{"$f":"N2+1","v":3},"",{"$f":"IF(D3=1,RTD(\"cqg.rtd\", ,\"ContractData\",C3, \"Delta\",, \"T\"),\"\")","v":""},{"$f":"IF(D3=1,RTD(\"cqg.rtd\", ,\"OrderData\", \"\"&O3&\"\", \"\", \"OpenPosition\",\"\"&$B$449&\"\"),\"\")","v":""},{"$f":"IF(D3=0,\"\",IF(LEFT(O3,1)=\"F\",Q3*100,Q3*RTD(\"cqg.rtd\",,\"ContractData\",O3,\"Delta\",,\"T\")))","v":""},{"$f":"IF(R3=\"\",\"\",RANK(R3,$R$1:$R$35,0)+COUNTIF($R$1:R3,R3)-1)","v":""},"",{"$f":"U2+1","v":3},"",{"$f":"IF(D3=1,RTD(\"cqg.rtd\", ,\"ContractData\",C3, \"Vega\",, \"T\"),\"\")","v":""},{"$f":"IF(W3=\"\",\"\",RANK(W3,$W$1:$W$35,0)+COUNTIF($W$1:W3,W3)-1)","v":""},0,{"$f":"Z2+1","v":3},"",{"$f":"IF(D3=1,RTD(\"cqg.rtd\", ,\"ContractData\",C3, \"Gamma\",, \"T\"),\"\")","v":""},{"$f":"IF(AB3=\"\",\"\",RANK(AB3,$AB$1:$AB$35,0)+COUNTIF($AB$1:AB3,AB3)-1)","v":""},0,3,{"$f":"IF(D3=1,IF(AB3=\"\",AD3,VLOOKUP(AE3,$AC$1:$AD$35,2,FALSE)),\"\")","v":""},{"$f":"IF(D3=1,RTD(\"cqg.rtd\", ,\"ContractData\",C3, \"Theta\",, \"T\"),\"\")","v":""},{"$f":"IF(AG3=\"\",\"\",RANK(AG3,$AG$1:$AG$35,0)+COUNTIF($AG$1:AG3,AG3)-1)","v":""},0,{"$f":"AJ2+1","v":3},"",{"$f":"IF(D3=1,1/RTD(\"cqg.rtd\", ,\"ContractData\",C3, \"ExpirationDate\",, \"T\"),\"\")","v":""},{"$f":"IF(AL3=\"\",\"\",RANK(AL3,$AL$1:$AL$35,0)+COUNTIF($AL$1:AL3,AL3)-1)","v":""},0,{"$f":"AO2+1","v":3},{"$f":"IF(D3=1,IF(AL3=\"\",AN3,VLOOKUP(AO3,$AM$1:$AN$35,2,FALSE)),\"\")","v":""}]
[{"$f":"IF(OR(ISTEXT(RTD(\"cqg.rtd\",,\"OrderData\",\"\"&B4&\"\",\"\",\"OpenPosition\",\"\"&Display5!$D$3&\"\")),RTD(\"cqg.rtd\",,\"OrderData\",\"\"&B4&\"\",\"\",\"OpenPosition\",\"\"&Display5!$D$3&\"\")=0),A3+0.001,INT(A3)+1)","v":4.0000000000000001E-3},{"$f":"(LEFT(B5,SEARCH(Display5!$G$2,B5)+LEN(Display5!$G$2)+2))&RIGHT(B5,LEN(B5)-(SEARCH(Display5!$G$2,B5)+LEN(Display5!$G$2)+2))+Display5!$J$3","v":"C.US.EPU1726150"},0,0,4,{"$f":"IF(D4=1,RTD(\"cqg.rtd\", ,\"ContractData\",C4, \"ImpliedVolatility\",, \"T\"),\"\")","v":""},{"$f":"IF(F4=\"\",\"\",RANK(F4,$F$1:$F$35,0)+COUNTIF($F$1:F4,F4)-1)","v":""},0,4,0,{"$f":"IF(D4=1,RTD(\"cqg.rtd\", ,\"OrderData\",\"\"&C4&\"\", \"\", \"OpenTradeEquity\",\"\"&$B$449&\"\"),\"\")","v":""},{"$f":"IF(K4=\"\",\"\",RANK(K4,$K$1:$K$35,0))+COUNTIF($K$1:K4,K4)-1","v":{"$error":"#VALUE!"}},0,4,"",{"$f":"IF(D4=1,RTD(\"cqg.rtd\", ,\"ContractData\",C4, \"Delta\",, \"T\"),\"\")","v":""},{"$f":"IF(D4=1,RTD(\"cqg.rtd\", ,\"OrderData\", \"\"&O4&\"\", \"\", \"OpenPosition\",\"\"&$B$449&\"\"),\"\")","v":""},{"$f":"IF(D4=0,\"\",IF(LEFT(O4,1)=\"F\",Q4*100,Q4*RTD(\"cqg.rtd\",,\"ContractData\",O4,\"Delta\",,\"T\")))","v":""},{"$f":"IF(R4=\"\",\"\",RANK(R4,$R$1:$R$35,0)+COUNTIF($R$1:R4,R4)-1)","v":""},"",4,"",{"$f":"IF(D4=1,RTD(\"cqg.rtd\", ,\"ContractData\",C4, \"Vega\",, \"T\"),\"\")","v":""},{"$f":"IF(W4=\"\",\"\",RANK(W4,$W$1:$W$35,0)+COUNTIF($W$1:W4,W4)-1)","v":""},0,4,"",{"$f":"IF(D4=1,RTD(\"cqg.rtd\", ,\"ContractData\",C4, \"Gamma\",, \"T\"),\"\")","v":""},{"$f":"IF(AB4=\"\",\"\",RANK(AB4,$AB$1:$AB$35,0)+COUNTIF($AB$1:AB4,AB4)-1)","v":""},0,4,"",{"$f":"IF(D4=1,RTD(\"cqg.rtd\", ,\"ContractData\",C4, \"Theta\",, \"T\"),\"\")","v":""},{"$f":"IF(AG4=\"\",\"\",RANK(AG4,$AG$1:$AG$35,0)+COUNTIF($AG$1:AG4,AG4)-1)","v":""},0,4,"",{"$f":"IF(D4=1,1/RTD(\"cqg.rtd\", ,\"ContractData\",C4, \"ExpirationDate\",, \"T\"),\"\")","v":""},{"$f":"IF(AL4=\"\",\"\",RANK(AL4,$AL$1:$AL$35,0)+COUNTIF($AL$1:AL4,AL4)-1)","v":""},0,4,""]
[{"$f":"IF(OR(ISTEXT(RTD(\"cqg.rtd\",,\"OrderData\",\"\"&B5&\"\",\"\",\"OpenPosition\",\"\"&Display5!$D$3&\"\")),RTD(\"cqg.rtd\",,\"OrderData\",\"\"&B5&\"\",\"\",\"OpenPosition\",\"\"&Display5!$D$3&\"\")=0),A4+0.001,INT(A4)+1)","v":5.0000000000000001E-3},{"$f":"(LEFT(B6,SEARCH(Display5!$G$2,B6)+LEN(Display5!$G$2)+2))&RIGHT(B6,LEN(B6)-(SEARCH(Display5!$G$2,B6)+LEN(Display5!$G$2)+2))+Display5!$J$3","v":"C.US.EPU1726100"},0,0,5,{"$f":"IF(D5=1,RTD(\"cqg.rtd\", ,\"ContractData\",C5, \"ImpliedVolatility\",, \"T\"),\"\")","v":""},{"$f":"IF(F5=\"\",\"\",RANK(F5,$F$1:$F$35,0)+COUNTIF($F$1:F5,F5)-1)","v":""},0,5,0,{"$f":"IF(D5=1,RTD(\"cqg.rtd\", ,\"OrderData\",\"\"&C5&\"\", \"\", \"OpenTradeEquity\",\"\"&$B$449&\"\"),\"\")","v":""},{"$f":"IF(K5=\"\",\"\",RANK(K5,$K$1:$K$35,0))+COUNTIF($K$1:K5,K5)-1","v":{"$error":"#VALUE!"}},0,5,"",{"$f":"IF(D5=1,RTD(\"cqg.rtd\", ,\"ContractData\",C5, \"Delta\",, \"T\"),\"\")","v":""},{"$f":"IF(D5=1,RTD(\"cqg.rtd\", ,\"OrderData\", \"\"&O5&\"\", \"\", \"OpenPosition\",\"\"&$B$449&\"\"),\"\")","v":""},{"$f":"IF(D5=0,\"\",IF(LEFT(O5,1)=\"F\",Q5*100,Q5*RTD(\"cqg.rtd\",,\"ContractData\",O5,\"Delta\",,\"T\")))","v":""},{"$f":"IF(R5=\"\",\"\",RANK(R5,$R$1:$R$35,0)+COUNTIF($R$1:R5,R5)-1)","v":""},"",5,"",{"$f":"IF(D5=1,RTD(\"cqg.rtd\", ,\"ContractData\",C5, \"Vega\",, \"T\"),\"\")","v":""},{"$f":"IF(W5=\"\",\"\",RANK(W5,$W$1:$W$35,0)+COUNTIF($W$1:W5,W5)-1)","v":""},0,5,"",{"$f":"IF(D5=1,RTD(\"cqg.rtd\", ,\"ContractData\",C5, \"Gamma\",, \"T\"),\"\")","v":""},{"$f":"IF(AB5=\"\",\"\",RANK(AB5,$AB$1:$AB$35,0)+COUNTIF($AB$1:AB5,AB5)-1)","v":""},0,5,"",{"$f":"IF(D5=1,RTD(\"cqg.rtd\", ,\"ContractData\",C5, \"Theta\",, \"T\"),\"\")","v":""},{"$f":"IF(AG5=\"\",\"\",RANK(AG5,$AG$1:$AG$35,0)+COUNTIF($AG$1:AG5,AG5)-1)","v":""},0,5,"",{"$f":"IF(D5=1,1/RTD(\"cqg.rtd\", ,\"ContractData\",C5, \"ExpirationDate\",, \"T\"),\"\")","v":""},{"$f":"IF(AL5=\"\",\"\",RANK(AL5,$AL$1:$AL$35,0)+COUNTIF($AL$1:AL5,AL5)-1)","v":""},0,5,""]
[{"$f":"IF(OR(ISTEXT(RTD(\"cqg.rtd\",,\"OrderData\",\"\"&B6&\"\",\"\",\"OpenPosition\",\"\"&Display5!$D$3&\"\")),RTD(\"cqg.rtd\",,\"OrderData\",\"\"&B6&\"\",\"\",\"OpenPosition\",\"\"&Display5!$D$3&\"\")=0),A5+0.001,INT(A5)+1)","v":6.0000000000000001E-3},{"$f":"(LEFT(B7,SEARCH(Display5!$G$2,B7)+LEN(Display5!$G$2)+2))&RIGHT(B7,LEN(B7)-(SEARCH(Display5!$G$2,B7)+LEN(Display5!$G$2)+2))+Display5!$J$3","v":"C.US.EPU1726050"},0,0,6,{"$f":"IF(D6=1,RTD(\"cqg.rtd\", ,\"ContractData\",C6, \"ImpliedVolatility\",, \"T\"),\"\")","v":""},{"$f":"IF(F6=\"\",\"\",RANK(F6,$F$1:$F$35,0)+COUNTIF($F$1:F6,F6)-1)","v":""},0,6,0,{"$f":"IF(D6=1,RTD(\"cqg.rtd\", ,\"OrderData\",\"\"&C6&\"\", \"\", \"OpenTradeEquity\",\"\"&$B$449&\"\"),\"\")","v":""},{"$f":"IF(K6=\"\",\"\",RANK(K6,$K$1:$K$35,0))+COUNTIF($K$1:K6,K6)-1","v":{"$error":"#VALUE!"}},0,6,"",{"$f":"IF(D6=1,RTD(\"cqg.rtd\", ,\"ContractData\",C6, \"Delta\",, \"T\"),\"\")","v":""},{"$f":"IF(D6=1,RTD(\"cqg.rtd\", ,\"OrderData\", \"\"&O6&\"\", \"\", \"OpenPosition\",\"\"&$B$449&\"\"),\"\")","v":""},{"$f":"IF(D6=0,\"\",IF(LEFT(O6,1)=\"F\",Q6*100,Q6*RTD(\"cqg.rtd\",,\"ContractData\",O6,\"Delta\",,\"T\")))","v":""},{"$f":"IF(R6=\"\",\"\",RANK(R6,$R$1:$R$35,0)+COUNTIF($R$1:R6,R6)-1)","v":""},"",6,"",{"$f":"IF(D6=1,RTD(\"cqg.rtd\", ,\"ContractData\",C6, \"Vega\",, \"T\"),\"\")","v":""},{"$f":"IF(W6=\"\",\"\",RANK(W6,$W$1:$W$35,0)+COUNTIF($W$1:W6,W6)-1)","v":""},0,6,"",{"$f":"IF(D6=1,RTD(\"cqg.rtd\", ,\"ContractData\",C6, \"Gamma\",, \"T\"),\"\")","v":""},{"$f":"IF(AB6=\"\",\"\",RANK(AB6,$AB$1:$AB$35,0)+COUNTIF($AB$1:AB6,AB6)-1)","v":""},0,6,"",{"$f":"IF(D6=1,RTD(\"cqg.rtd\", ,\"ContractData\",C6, \"Theta\",, \"T\"),\"\")","v":""},{"$f":"IF(AG6=\"\",\"\",RANK(AG6,$AG$1:$AG$35,0)+COUNTIF($AG$1:AG6,AG6)-1)","v":""},0,6,"",{"$f":"IF(D6=1,1/RTD(\"cqg.rtd\", ,\"ContractData\",C6, \"ExpirationDate\",, \"T\"),\"\")","v":""},{"$f":"IF(AL6=\"\",\"\",RANK(AL6,$AL$1:$AL$35,0)+COUNTIF($AL$1:AL6,AL6)-1)","v":""},0,6,""]
[{"$f":"IF(OR(ISTEXT(RTD(\"cqg.rtd\",,\"OrderData\",\"\"&B7&\"\",\"\",\"OpenPosition\",\"\"&Display5!$D$3&\"\")),RTD(\"cqg.rtd\",,\"OrderData\",\"\"&B7&\"\",\"\",\"OpenPosition\",\"\"&Display5!$D$3&\"\")=0),A6+0.001,INT(A6)+1)","v":7.0000000000000001E-3},{"$f":"(LEFT(B8,SEARCH(Display5!$G$2,B8)+LEN(Display5!$G$2)+2))&RIGHT(B8,LEN(B8)-(SEARCH(Display5!$G$2,B8)+LEN(Display5!$G$2)+2))+Display5!$J$3","v":"C.US.EPU1726000"},0,0,7,{"$f":"IF(D7=1,RTD(\"cqg.rtd\", ,\"ContractData\",C7, \"ImpliedVolatility\",, \"T\"),\"\")","v":""},{"$f":"IF(F7=\"\",\"\",RANK(F7,$F$1:$F$35,0)+COUNTIF($F$1:F7,F7)-1)","v":""},0,7,0,{"$f":"IF(D7=1,RTD(\"cqg.rtd\", ,\"OrderData\",\"\"&C7&\"\", \"\", \"OpenTradeEquity\",\"\"&$B$449&\"\"),\"\")","v":""},{"$f":"IF(K7=\"\",\"\",RANK(K7,$K$1:$K$35,0))+COUNTIF($K$1:K7,K7)-1","v":{"$error":"#VALUE!"}},0,7,{"$f":"IF(D7=1,VLOOKUP(N7,$L$1:$M$35,2,FALSE),\"\")","v":""},{"$f":"IF(D7=1,RTD(\"cqg.rtd\", ,\"ContractData\",C7, \"Delta\",, \"T\"),\"\")","v":""},{"$f":"IF(D7=1,RTD(\"cqg.rtd\", ,\"OrderData\", \"\"&O7&\"\", \"\", \"OpenPosition\",\"\"&$B$449&\"\"),\"\")","v":""},{"$f":"IF(D7=0,\"\",IF(LEFT(O7,1)=\"F\",Q7*100,Q7*RTD(\"cqg.rtd\",,\"ContractData\",O7,\"Delta\",,\"T\")))","v":""},{"$f":"IF(R7=\"\",\"\",RANK(R7,$R$1:$R$35,0)+COUNTIF($R$1:R7,R7)-1)","v":""},"",7,"",{"$f":"IF(D7=1,RTD(\"cqg.rtd\", ,\"ContractData\",C7, \"Vega\",, \"T\"),\"\")","v":""},{"$f":"IF(W7=\"\",\"\",RANK(W7,$W$1:$W$35,0)+COUNTIF($W$1:W7,W7)-1)","v":""},0,7,"",{"$f":"IF(D7=1,RTD(\"cqg.rtd\", ,\"ContractData\",C7, \"Gamma\",, \"T\"),\"\")","v":""},{"$f":"IF(AB7=\"\",\"\",RANK(AB7,$AB$1:$AB$35,0)+COUNTIF($AB$1:AB7,AB7)-1)","v":""},0,7,"",{"$f":"IF(D7=1,RTD(\"cqg.rtd\", ,\"ContractData\",C7, \"Theta\",, \"T\"),\"\")","v":""},{"$f":"IF(AG7=\"\",\"\",RANK(AG7,$AG$1:$AG$35,0)+COUNTIF($AG$1:AG7,AG7)-1)","v":""},0,7,"",{"$f":"IF(D7=1,1/RTD(\"cqg.rtd\", ,\"ContractData\",C7, \"ExpirationDate\",, \"T\"),\"\")","v":""},{"$f":"IF(AL7=\"\",\"\",RANK(AL7,$AL$1:$AL$35,0)+COUNTIF($AL$1:AL7,AL7)-1)","v":""},0,7,""]
[{"$f":"IF(OR(ISTEXT(RTD(\"cqg.rtd\",,\"OrderData\",\"\"&B8&\"\",\"\",\"OpenPosition\",\"\"&Display5!$D$3&\"\")),RTD(\"cqg.rtd\",,\"OrderData\",\"\"&B8&\"\",\"\",\"OpenPosition\",\"\"&Display5!$D$3&\"\")=0),A7+0.001,INT(A7)+1)","v":8.0000000000000002E-3},{"$f":"(LEFT(B9,SEARCH(Display5!$G$2,B9)+LEN(Display5!$G$2)+2))&RIGHT(B9,LEN(B9)-(SEARCH(Display5!$G$2,B9)+LEN(Display5!$G$2)+2))+Display5!$J$3","v":"C.US.EPU1725950"},0,0,8,{"$f":"IF(D8=1,RTD(\"cqg.rtd\", ,\"ContractData\",C8, \"ImpliedVolatility\",, \"T\"),\"\")","v":""},{"$f":"IF(F8=\"\",\"\",RANK(F8,$F$1:$F$35,0)+COUNTIF($F$1:F8,F8)-1)","v":""},0,8,0,{"$f":"IF(D8=1,RTD(\"cqg.rtd\", ,\"OrderData\",\"\"&C8&\"\", \"\", \"OpenTradeEquity\",\"\"&$B$449&\"\"),\"\")","v":""},{"$f":"IF(K8=\"\",\"\",RANK(K8,$K$1:$K$35,0))+COUNTIF($K$1:K8,K8)-1","v":{"$error":"#VALUE!"}},0,8,"",{"$f":"IF(D8=1,RTD(\"cqg.rtd\", ,\"ContractData\",C8, \"Delta\",, \"T\"),\"\")","v":""},{"$f":"IF(D8=1,RTD(\"cqg.rtd\", ,\"OrderData\", \"\"&O8&\"\", \"\", \"OpenPosition\",\"\"&$B$449&\"\"),\"\")","v":""},{"$f":"IF(D8=0,\"\",IF(LEFT(O8,1)=\"F\",Q8*100,Q8*RTD(\"cqg.rtd\",,\"ContractData\",O8,\"Delta\",,\"T\")))","v":""},{"$f":"IF(R8=\"\",\"\",RANK(R8,$R$1:$R$35,0)+COUNTIF($R$1:R8,R8)-1)","v":""},"",8,"",{"$f":"IF(D8=1,RTD(\"cqg.rtd\", ,\"ContractData\",C8, \"Vega\",, \"T\"),\"\")","v":""},{"$f":"IF(W8=\"\",\"\",RANK(W8,$W$1:$W$35,0)+COUNTIF($W$1:W8,W8)-1)","v":""},0,8,"",{"$f":"IF(D8=1,RTD(\"cqg.rtd\", ,\"ContractData\",C8, \"Gamma\",, \"T\"),\"\")","v":""},{"$f":"IF(AB8=\"\",\"\",RANK(AB8,$AB$1:$AB$35,0)+COUNTIF($AB$1:AB8,AB8)-1)","v":""},0,8,"",{"$f":"IF(D8=1,RTD(\"cqg.rtd\", ,\"ContractData\",C8, \"Theta\",, \"T\"),\"\")","v":""},{"$f":"IF(AG8=\"\",\"\",RANK(AG8,$AG$1:$AG$35,0)+COUNTIF($AG$1:AG8,AG8)-1)","v":""},0,8,"",{"$f":"IF(D8=1,1/RTD(\"cqg.rtd\", ,\"ContractData\",C8, \"ExpirationDate\",, \"T\"),\"\")","v":""},{"$f":"IF(AL8=\"\",\"\",RANK(AL8,$AL$1:$AL$35,0)+COUNTIF($AL$1:AL8,AL8)-1)","v":""},0,8,""]
[{"$f":"IF(OR(ISTEXT(RTD(\"cqg.rtd\",,\"OrderData\",\"\"&B9&\"\",\"\",\"OpenPosition\",\"\"&Display5!$D$3&\"\")),RTD(\"cqg.rtd\",,\"OrderData\",\"\"&B9&\"\",\"\",\"OpenPosition\",\"\"&Display5!$D$3&\"\")=0),A8+0.001,INT(A8)+1)","v":9.0000000000000011E-3},{"$f":"(LEFT(B10,SEARCH(Display5!$G$2,B10)+LEN(Display5!$G$2)+2))&RIGHT(B10,LEN(B10)-(SEARCH(Display5!$G$2,B10)+LEN(Display5!$G$2)+2))+Display5!$J$3","v":"C.US.EPU1725900"},0,0,9,{"$f":"IF(D9=1,RTD(\"cqg.rtd\", ,\"ContractData\",C9, \"ImpliedVolatility\",, \"T\"),\"\")","v":""},{"$f":"IF(F9=\"\",\"\",RANK(F9,$F$1:$F$35,0)+COUNTIF($F$1:F9,F9)-1)","v":""},0,9,0,{"$f":"IF(D9=1,RTD(\"cqg.rtd\", ,\"OrderData\",\"\"&C9&\"\", \"\", \"OpenTradeEquity\",\"\"&$B$449&\"\"),\"\")","v":""},{"$f":"IF(K9=\"\",\"\",RANK(K9,$K$1:$K$35,0))+COUNTIF($K$1:K9,K9)-1","v":{"$error":"#VALUE!"}},0,9,"",{"$f":"IF(D9=1,RTD(\"cqg.rtd\", ,\"ContractData\",C9, \"Delta\",, \"T\"),\"\")","v":""},{"$f":"IF(D9=1,RTD(\"cqg.rtd\", ,\"OrderData\", \"\"&O9&\"\", \"\", \"OpenPosition\",\"\"&$B$449&\"\"),\"\")","v":""},{"$f":"IF(D9=0,\"\",IF(LEFT(O9,1)=\"F\",Q9*100,Q9*RTD(\"cqg.rtd\",,\"ContractData\",O9,\"Delta\",,\"T\")))","v":""},{"$f":"IF(R9=\"\",\"\",RANK(R9,$R$1:$R$35,0)+COUNTIF($R$1:R9,R9)-1)","v":""},"",9,"",{"$f":"IF(D9=1,RTD(\"cqg.rtd\", ,\"ContractData\",C9, \"Vega\",, \"T\"),\"\")","v":""},{"$f":"IF(W9=\"\",\"\",RANK(W9,$W$1:$W$35,0)+COUNTIF($W$1:W9,W9)-1)","v":""},0,9,"",{"$f":"IF(D9=1,RTD(\"cqg.rtd\", ,\"ContractData\",C9, \"Gamma\",, \"T\"),\"\")","v":""},{"$f":"IF(AB9=\"\",\"\",RANK(AB9,$AB$1:$AB$35,0)+COUNTIF($AB$1:AB9,AB9)-1)","v":""},0,9,"",{"$f":"IF(D9=1,RTD(\"cqg.rtd\", ,\"ContractData\",C9, \"Theta\",, \"T\"),\"\")","v":""},{"$f":"IF(AG9=\"\",\"\",RANK(AG9,$AG$1:$AG$35,0)+COUNTIF($AG$1:AG9,AG9)-1)","v":""},0,9,"",{"$f":"IF(D9=1,1/RTD(\"cqg.rtd\", ,\"ContractData\",C9, \"ExpirationDate\",, \"T\"),\"\")","v":""},{"$f":"IF(AL9=\"\",\"\",RANK(AL9,$AL$1:$AL$35,0)+COUNTIF($AL$1:AL9,AL9)-1)","v":""},0,9,""]
[{"$f":"IF(OR(ISTEXT(RTD(\"cqg.rtd\",,\"OrderData\",\"\"&B10&\"\",\"\",\"OpenPosition\",\"\"&Display5!$D$3&\"\")),RTD(\"cqg.rtd\",,\"OrderData\",\"\"&B10&\"\",\"\",\"OpenPosition\",\"\"&Display5!$D$3&\"\")=0),A9+0.001,INT(A9)+1)","v":1.0000000000000002E-2},{"$f":"(LEFT(B11,SEARCH(Display5!$G$2,B11)+LEN(Display5!$G$2)+2))&RIGHT(B11,LEN(B11)-(SEARCH(Display5!$G$2,B11)+LEN(Display5!$G$2)+2))+Display5!$J$3","v":"C.US.EPU1725850"},0,0,10,{"$f":"IF(D10=1,RTD(\"cqg.rtd\", ,\"ContractData\",C10, \"ImpliedVolatility\",, \"T\"),\"\")","v":""},{"$f":"IF(F10=\"\",\"\",RANK(F10,$F$1:$F$35,0)+COUNTIF($F$1:F10,F10)-1)","v":""},0,10,0,{"$f":"IF(D10=1,RTD(\"cqg.rtd\", ,\"OrderData\",\"\"&C10&\"\", \"\", \"OpenTradeEquity\",\"\"&$B$449&\"\"),\"\")","v":""},{"$f":"IF(K10=\"\",\"\",RANK(K10,$K$1:$K$35,0))+COUNTIF($K$1:K10,K10)-1","v":{"$error":"#VALUE!"}},0,10,"",{"$f":"IF(D10=1,RTD(\"cqg.rtd\", ,\"ContractData\",C10, \"Delta\",, \"T\"),\"\")","v":""},{"$f":"IF(D10=1,RTD(\"cqg.rtd\", ,\"OrderData\", \"\"&O10&\"\", \"\", \"OpenPosition\",\"\"&$B$449&\"\"),\"\")","v":""},{"$f":"IF(D10=0,\"\",IF(LEFT(O10,1)=\"F\",Q10*100,Q10*RTD(\"cqg.rtd\",,\"ContractData\",O10,\"Delta\",,\"T\")))","v":""},{"$f":"IF(R10=\"\",\"\",RANK(R10,$R$1:$R$35,0)+COUNTIF($R$1:R10,R10)-1)","v":""},"",10,"",{"$f":"IF(D10=1,RTD(\"cqg.rtd\", ,\"ContractData\",C10, \"Vega\",, \"T\"),\"\")","v":""},{"$f":"IF(W10=\"\",\"\",RANK(W10,$W$1:$W$35,0)+COUNTIF($W$1:W10,W10)-1)","v":""},0,10,"",{"$f":"IF(D10=1,RTD(\"cqg.rtd\", ,\"ContractData\",C10, \"Gamma\",, \"T\"),\"\")","v":""},{"$f":"IF(AB10=\"\",\"\",RANK(AB10,$AB$1:$AB$35,0)+COUNTIF($AB$1:AB10,AB10)-1)","v":""},0,10,"",{"$f":"IF(D10=1,RTD(\"cqg.rtd\", ,\"ContractData\",C10, \"Theta\",, \"T\"),\"\")","v":""},{"$f":"IF(AG10=\"\",\"\",RANK(AG10,$AG$1:$AG$35,0)+COUNTIF($AG$1:AG10,AG10)-1)","v":""},0,10,"",{"$f":"IF(D10=1,1/RTD(\"cqg.rtd\", ,\"ContractData\",C10, \"ExpirationDate\",, \"T\"),\"\")","v":""},{"$f":"IF(AL10=\"\",\"\",RANK(AL10,$AL$1:$AL$35,0)+COUNTIF($AL$1:AL10,AL10)-1)","v":""},0,10,""]
[{"$f":"IF(OR(ISTEXT(RTD(\"cqg.rtd\",,\"OrderData\",\"\"&B11&\"\",\"\",\"OpenPosition\",\"\"&Display5!$D$3&\"\")),RTD(\"cqg.rtd\",,\"OrderData\",\"\"&B11&\"\",\"\",\"OpenPosition\",\"\"&Display5!$D$3&\"\")=0),A10+0.001,INT(A10)+1)","v":1.1000000000000003E-2},{"$f":"(LEFT(B12,SEARCH(Display5!$G$2,B12)+LEN(Display5!$G$2)+2))&RIGHT(B12,LEN(B12)-(SEARCH(Display5!$G$2,B12)+LEN(Display5!$G$2)+2))+Display5!$J$3","v":"C.US.EPU1725800"},0,0,11,{"$f":"IF(D11=1,RTD(\"cqg.rtd\", ,\"ContractData\",C11, \"ImpliedVolatility\",, \"T\"),\"\")","v":""},{"$f":"IF(F11=\"\",\"\",RANK(F11,$F$1:$F$35,0)+COUNTIF($F$1:F11,F11)-1)","v":""},0,11,0,{"$f":"IF(D11=1,RTD(\"cqg.rtd\", ,\"OrderData\",\"\"&C11&\"\", \"\", \"OpenTradeEquity\",\"\"&$B$449&\"\"),\"\")","v":""},{"$f":"IF(K11=\"\",\"\",RANK(K11,$K$1:$K$35,0))+COUNTIF($K$1:K11,K11)-1","v":{"$error":"#VALUE!"}},0,11,"",{"$f":"IF(D11=1,RTD(\"cqg.rtd\", ,\"ContractData\",C11, \"Delta\",, \"T\"),\"\")","v":""},{"$f":"IF(D11=1,RTD(\"cqg.rtd\", ,\"OrderData\", \"\"&O11&\"\", \"\", \"OpenPosition\",\"\"&$B$449&\"\"),\"\")","v":""},{"$f":"IF(D11=0,\"\",IF(LEFT(O11,1)=\"F\",Q11*100,Q11*RTD(\"cqg.rtd\",,\"ContractData\",O11,\"Delta\",,\"T\")))","v":""},{"$f":"IF(R11=\"\",\"\",RANK(R11,$R$1:$R$35,0)+COUNTIF($R$1:R11,R11)-1)","v":""},"",11,"",{"$f":"IF(D11=1,RTD(\"cqg.rtd\", ,\"ContractData\",C11, \"Vega\",, \"T\"),\"\")","v":""},{"$f":"IF(W11=\"\",\"\",RANK(W11,$W$1:$W$35,0)+COUNTIF($W$1:W11,W11)-1)","v":""},0,11,"",{"$f":"IF(D11=1,RTD(\"cqg.rtd\", ,\"ContractData\",C11, \"Gamma\",, \"T\"),\"\")","v":""},{"$f":"IF(AB11=\"\",\"\",RANK(AB11,$AB$1:$AB$35,0)+COUNTIF($AB$1:AB11,AB11)-1)","v":""},0,11,"",{"$f":"IF(D11=1,RTD(\"cqg.rtd\", ,\"ContractData\",C11, \"Theta\",, \"T\"),\"\")","v":""},{"$f":"IF(AG11=\"\",\"\",RANK(AG11,$AG$1:$AG$35,0)+COUNTIF($AG$1:AG11,AG11)-1)","v":""},0,11,"",{"$f":"IF(D11=1,1/RTD(\"cqg.rtd\", ,\"ContractData\",C11, \"ExpirationDate\",, \"T\"),\"\")","v":""},{"$f":"IF(AL11=\"\",\"\",RANK(AL11,$AL$1:$AL$35,0)+COUNTIF($AL$1:AL11,AL11)-1)","v":""},0,11,"",{"$f":"IF(AL11=\"\",\"\",RANK(AL11,$AL$1:$AL$35,0)+COUNTIF($AL$1:AL11,AL11)-1)","v":""}]
[{"$f":"IF(OR(ISTEXT(RTD(\"cqg.rtd\",,\"OrderData\",\"\"&B12&\"\",\"\",\"OpenPosition\",\"\"&Display5!$D$3&\"\")),RTD(\"cqg.rtd\",,\"OrderData\",\"\"&B12&\"\",\"\",\"OpenPosition\",\"\"&Display5!$D$3&\"\")=0),A11+0.001,INT(A11)+1)","v":1.2000000000000004E-2},{"$f":"(LEFT(B13,SEARCH(Display5!$G$2,B13)+LEN(Display5!$G$2)+2))&RIGHT(B13,LEN(B13)-(SEARCH(Display5!$G$2,B13)+LEN(Display5!$G$2)+2))+Display5!$J$3","v":"C.US.EPU1725750"},0,0,12,{"$f":"IF(D12=1,RTD(\"cqg.rtd\", ,\"ContractData\",C12, \"ImpliedVolatility\",, \"T\"),\"\")","v":""},{"$f":"IF(F12=\"\",\"\",RANK(F12,$F$1:$F$35,0)+COUNTIF($F$1:F12,F12)-1)","v":""},0,12,0,{"$f":"IF(D12=1,RTD(\"cqg.rtd\", ,\"OrderData\",\"\"&C12&\"\", \"\", \"OpenTradeEquity\",\"\"&$B$449&\"\"),\"\")","v":""},{"$f":"IF(K12=\"\",\"\",RANK(K12,$K$1:$K$35,0))+COUNTIF($K$1:K12,K12)-1","v":{"$error":"#VALUE!"}},0,12,"",{"$f":"IF(D12=1,RTD(\"cqg.rtd\", ,\"ContractData\",C12, \"Delta\",, \"T\"),\"\")","v":""},{"$f":"IF(D12=1,RTD(\"cqg.rtd\", ,\"OrderData\", \"\"&O12&\"\", \"\", \"OpenPosition\",\"\"&$B$449&\"\"),\"\")","v":""},{"$f":"IF(D12=0,\"\",IF(LEFT(O12,1)=\"F\",Q12*100,Q12*RTD(\"cqg.rtd\",,\"ContractData\",O12,\"Delta\",,\"T\")))","v":""},{"$f":"IF(R12=\"\",\"\",RANK(R12,$R$1:$R$35,0)+COUNTIF($R$1:R12,R12)-1)","v":""},"",12,"",{"$f":"IF(D12=1,RTD(\"cqg.rtd\", ,\"ContractData\",C12, \"Vega\",, \"T\"),\"\")","v":""},{"$f":"IF(W12=\"\",\"\",RANK(W12,$W$1:$W$35,0)+COUNTIF($W$1:W12,W12)-1)","v":""},0,12,"",{"$f":"IF(D12=1,RTD(\"cqg.rtd\", ,\"ContractData\",C12, \"Gamma\",, \"T\"),\"\")","v":""},{"$f":"IF(AB12=\"\",\"\",RANK(AB12,$AB$1:$AB$35,0)+COUNTIF($AB$1:AB12,AB12)-1)","v":""},0,12,null,{"$f":"IF(D12=1,RTD(\"cqg.rtd\", ,\"ContractData\",C12, \"Theta\",, \"T\"),\"\")","v":""},{"$f":"IF(AG12=\"\",\"\",RANK(AG12,$AG$1:$AG$35,0)+COUNTIF($AG$1:AG12,AG12)-1)","v":""},0,12,"",{"$f":"IF(D12=1,1/RTD(\"cqg.rtd\", ,\"ContractData\",C12, \"ExpirationDate\",, \"T\"),\"\")","v":""},{"$f":"IF(AL12=\"\",\"\",RANK(AL12,$AL$1:$AL$35,0)+COUNTIF($AL$1:AL12,AL12)-1)","v":""},0,12,"",{"$f":"IF(AL12=\"\",\"\",RANK(AL12,$AL$1:$AL$35,0)+COUNTIF($AL$1:AL12,AL12)-1)","v":""}]
[{"$f":"IF(OR(ISTEXT(RTD(\"cqg.rtd\",,\"OrderData\",\"\"&B13&\"\",\"\",\"OpenPosition\",\"\"&Display5!$D$3&\"\")),RTD(\"cqg.rtd\",,\"OrderData\",\"\"&B13&\"\",\"\",\"OpenPosition\",\"\"&Display5!$D$3&\"\")=0),A12+0.001,INT(A12)+1)","v":1.3000000000000005E-2},{"$f":"(LEFT(B14,SEARCH(Display5!$G$2,B14)+LEN(Display5!$G$2)+2))&RIGHT(B14,LEN(B14)-(SEARCH(Display5!$G$2,B14)+LEN(Display5!$G$2)+2))+Display5!$J$3","v":"C.US.EPU1725700"},0,0,13,{"$f":"IF(D13=1,RTD(\"cqg.rtd\", ,\"ContractData\",C13, \"ImpliedVolatility\",, \"T\"),\"\")","v":""},{"$f":"IF(F13=\"\",\"\",RANK(F13,$F$1:$F$35,0)+COUNTIF($F$1:F13,F13)-1)","v":""},0,13,0,{"$f":"IF(D13=1,RTD(\"cqg.rtd\", ,\"OrderData\",\"\"&C13&\"\", \"\", \"OpenTradeEquity\",\"\"&$B$449&\"\"),\"\")","v":""},{"$f":"IF(K13=\"\",\"\",RANK(K13,$K$1:$K$35,0))+COUNTIF($K$1:K13,K13)-1","v":{"$error":"#VALUE!"}},0,13,"",{"$f":"IF(D13=1,RTD(\"cqg.rtd\", ,\"ContractData\",C13, \"Delta\",, \"T\"),\"\")","v":""},{"$f":"IF(D13=1,RTD(\"cqg.rtd\", ,\"OrderData\", \"\"&O13&\"\", \"\", \"OpenPosition\",\"\"&$B$449&\"\"),\"\")","v":""},{"$f":"IF(D13=0,\"\",IF(LEFT(O13,1)=\"F\",Q13*100,Q13*RTD(\"cqg.rtd\",,\"ContractData\",O13,\"Delta\",,\"T\")))","v":""},{"$f":"IF(R13=\"\",\"\",RANK(R13,$R$1:$R$35,0)+COUNTIF($R$1:R13,R13)-1)","v":""},"",13,"",{"$f":"IF(D13=1,RTD(\"cqg.rtd\", ,\"ContractData\",C13, \"Vega\",, \"T\"),\"\")","v":""},{"$f":"IF(W13=\"\",\"\",RANK(W13,$W$1:$W$35,0)+COUNTIF($W$1:W13,W13)-1)","v":""},0,13,"",{"$f":"IF(D13=1,RTD(\"cqg.rtd\", ,\"ContractData\",C13, \"Gamma\",, \"T\"),\"\")","v":""},{"$f":"IF(AB13=\"\",\"\",RANK(AB13,$AB$1:$AB$35,0)+COUNTIF($AB$1:AB13,AB13)-1)","v":""},0,13,"",{"$f":"IF(D13=1,RTD(\"cqg.rtd\", ,\"ContractData\",C13, \"Theta\",, \"T\"),\"\")","v":""},{"$f":"IF(AG13=\"\",\"\",RANK(AG13,$AG$1:$AG$35,0)+COUNTIF($AG$1:AG13,AG13)-1)","v":""},0,13,"",{"$f":"IF(D13=1,1/RTD(\"cqg.rtd\", ,\"ContractData\",C13, \"ExpirationDate\",, \"T\"),\"\")","v":""},{"$f":"IF(AL13=\"\",\"\",RANK(AL13,$AL$1:$AL$35,0)+COUNTIF($AL$1:AL13,AL13)-1)","v":""},0,13,"",{"$f":"IF(AL13=\"\",\"\",RANK(AL13,$AL$1:$AL$35,0)+COUNTIF($AL$1:AL13,AL13)-1)","v":""}]
[{"$f":"IF(OR(ISTEXT(RTD(\"cqg.rtd\",,\"OrderData\",\"\"&B14&\"\",\"\",\"OpenPosition\",\"\"&Display5!$D$3&\"\")),RTD(\"cqg.rtd\",,\"OrderData\",\"\"&B14&\"\",\"\",\"OpenPosition\",\"\"&Display5!$D$3&\"\")=0),A13+0.001,INT(A13)+1)","v":1.4000000000000005E-2},{"$f":"(LEFT(B15,SEARCH(Display5!$G$2,B15)+LEN(Display5!$G$2)+2))&RIGHT(B15,LEN(B15)-(SEARCH(Display5!$G$2,B15)+LEN(Display5!$G$2)+2))+Display5!$J$3","v":"C.US.EPU1725650"},0,0,14,{"$f":"IF(D14=1,RTD(\"cqg.rtd\", ,\"ContractData\",C14, \"ImpliedVolatility\",, \"T\"),\"\")","v":""},{"$f":"IF(F14=\"\",\"\",RANK(F14,$F$1:$F$35,0)+COUNTIF($F$1:F14,F14)-1)","v":""},0,14,0,{"$f":"IF(D14=1,RTD(\"cqg.rtd\", ,\"OrderData\",\"\"&C14&\"\", \"\", \"OpenTradeEquity\",\"\"&$B$449&\"\"),\"\")","v":""},{"$f":"IF(K14=\"\",\"\",RANK(K14,$K$1:$K$35,0))+COUNTIF($K$1:K14,K14)-1","v":{"$error":"#VALUE!"}},0,14,"",{"$f":"IF(D14=1,RTD(\"cqg.rtd\", ,\"ContractData\",C14, \"Delta\",, \"T\"),\"\")","v":""},{"$f":"IF(D14=1,RTD(\"cqg.rtd\", ,\"OrderData\", \"\"&O14&\"\", \"\", \"OpenPosition\",\"\"&$B$449&\"\"),\"\")","v":""},{"$f":"IF(D14=0,\"\",IF(LEFT(O14,1)=\"F\",Q14*100,Q14*RTD(\"cqg.rtd\",,\"ContractData\",O14,\"Delta\",,\"T\")))","v":""},{"$f":"IF(R14=\"\",\"\",RANK(R14,$R$1:$R$35,0)+COUNTIF($R$1:R14,R14)-1)","v":""},"",14,"",{"$f":"IF(D14=1,RTD(\"cqg.rtd\", ,\"ContractData\",C14, \"Vega\",, \"T\"),\"\")","v":""},{"$f":"IF(W14=\"\",\"\",RANK(W14,$W$1:$W$35,0)+COUNTIF($W$1:W14,W14)-1)","v":""},0,14,"",{"$f":"IF(D14=1,RTD(\"cqg.rtd\", ,\"ContractData\",C14, \"Gamma\",, \"T\"),\"\")","v":""},{"$f":"IF(AB14=\"\",\"\",RANK(AB14,$AB$1:$AB$35,0)+COUNTIF($AB$1:AB14,AB14)-1)","v":""},0,14,"",{"$f":"IF(D14=1,RTD(\"cqg.rtd\", ,\"ContractData\",C14, \"Theta\",, \"T\"),\"\")","v":""},{"$f":"IF(AG14=\"\",\"\",RANK(AG14,$AG$1:$AG$35,0)+COUNTIF($AG$1:AG14,AG14)-1)","v":""},0,14,"",{"$f":"IF(D14=1,1/RTD(\"cqg.rtd\", ,\"ContractData\",C14, \"ExpirationDate\",, \"T\"),\"\")","v":""},{"$f":"IF(AL14=\"\",\"\",RANK(AL14,$AL$1:$AL$35,0)+COUNTIF($AL$1:AL14,AL14)-1)","v":""},0,14,"",{"$f":"IF(AL14=\"\",\"\",RANK(AL14,$AL$1:$AL$35,0)+COUNTIF($AL$1:AL14,AL14)-1)","v":""}]
[{"$f":"IF(OR(ISTEXT(RTD(\"cqg.rtd\",,\"OrderData\",\"\"&B15&\"\",\"\",\"OpenPosition\",\"\"&Display5!$D$3&\"\")),RTD(\"cqg.rtd\",,\"OrderData\",\"\"&B15&\"\",\"\",\"OpenPosition\",\"\"&Display5!$D$3&\"\")=0),A14+0.001,INT(A14)+1)","v":1.5000000000000006E-2},{"$f":"(LEFT(B16,SEARCH(Display5!$G$2,B16)+LEN(Display5!$G$2)+2))&RIGHT(B16,LEN(B16)-(SEARCH(Display5!$G$2,B16)+LEN(Display5!$G$2)+2))+Display5!$J$3","v":"C.US.EPU1725600"},0,0,15,{"$f":"IF(D15=1,RTD(\"cqg.rtd\", ,\"ContractData\",C15, \"ImpliedVolatility\",, \"T\"),\"\")","v":""},{"$f":"IF(F15=\"\",\"\",RANK(F15,$F$1:$F$35,0)+COUNTIF($F$1:F15,F15)-1)","v":""},0,15,0,{"$f":"IF(D15=1,RTD(\"cqg.rtd\", ,\"OrderData\",\"\"&C15&\"\", \"\", \"OpenTradeEquity\",\"\"&$B$449&\"\"),\"\")","v":""},{"$f":"IF(K15=\"\",\"\",RANK(K15,$K$1:$K$35,0))+COUNTIF($K$1:K15,K15)-1","v":{"$error":"#VALUE!"}},0,15,"",{"$f":"IF(D15=1,RTD(\"cqg.rtd\", ,\"ContractData\",C15, \"Delta\",, \"T\"),\"\")","v":""},{"$f":"IF(D15=1,RTD(\"cqg.rtd\", ,\"OrderData\", \"\"&O15&\"\", \"\", \"OpenPosition\",\"\"&$B$449&\"\"),\"\")","v":""},{"$f":"IF(D15=0,\"\",IF(LEFT(O15,1)=\"F\",Q15*100,Q15*RTD(\"cqg.rtd\",,\"ContractData\",O15,\"Delta\",,\"T\")))","v":""},{"$f":"IF(R15=\"\",\"\",RANK(R15,$R$1:$R$35,0)+COUNTIF($R$1:R15,R15)-1)","v":""},"",15,"",{"$f":"IF(D15=1,RTD(\"cqg.rtd\", ,\"ContractData\",C15, \"Vega\",, \"T\"),\"\")","v":""},{"$f":"IF(W15=\"\",\"\",RANK(W15,$W$1:$W$35,0)+COUNTIF($W$1:W15,W15)-1)","v":""},0,15,"",{"$f":"IF(D15=1,RTD(\"cqg.rtd\", ,\"ContractData\",C15, \"Gamma\",, \"T\"),\"\")","v":""},{"$f":"IF(AB15=\"\",\"\",RANK(AB15,$AB$1:$AB$35,0)+COUNTIF($AB$1:AB15,AB15)-1)","v":""},0,15,"",{"$f":"IF(D15=1,RTD(\"cqg.rtd\", ,\"ContractData\",C15, \"Theta\",, \"T\"),\"\")","v":""},{"$f":"IF(AG15=\"\",\"\",RANK(AG15,$AG$1:$AG$35,0)+COUNTIF($AG$1:AG15,AG15)-1)","v":""},0,15,"",{"$f":"IF(D15=1,1/RTD(\"cqg.rtd\", ,\"ContractData\",C15, \"ExpirationDate\",, \"T\"),\"\")","v":""},{"$f":"IF(AL15=\"\",\"\",RANK(AL15,$AL$1:$AL$35,0)+COUNTIF($AL$1:AL15,AL15)-1)","v":""},0,15,"",{"$f":"IF(AL15=\"\",\"\",RANK(AL15,$AL$1:$AL$35,0)+COUNTIF($AL$1:AL15,AL15)-1)","v":""}]
[{"$f":"IF(OR(ISTEXT(RTD(\"cqg.rtd\",,\"OrderData\",\"\"&B16&\"\",\"\",\"OpenPosition\",\"\"&Display5!$D$3&\"\")),RTD(\"cqg.rtd\",,\"OrderData\",\"\"&B16&\"\",\"\",\"OpenPosition\",\"\"&Display5!$D$3&\"\")=0),A15+0.001,INT(A15)+1)","v":1.6000000000000007E-2},{"$f":"(LEFT(B17,SEARCH(Display5!$G$2,B17)+LEN(Display5!$G$2)+2))&RIGHT(B17,LEN(B17)-(SEARCH(Display5!$G$2,B17)+LEN(Display5!$G$2)+2))+Display5!$J$3","v":"C.US.EPU1725550"},0,0,16,{"$f":"IF(D16=1,RTD(\"cqg.rtd\", ,\"ContractData\",C16, \"ImpliedVolatility\",, \"T\"),\"\")","v":""},{"$f":"IF(F16=\"\",\"\",RANK(F16,$F$1:$F$35,0)+COUNTIF($F$1:F16,F16)-1)","v":""},0,16,0,{"$f":"IF(D16=1,RTD(\"cqg.rtd\", ,\"OrderData\",\"\"&C16&\"\", \"\", \"OpenTradeEquity\",\"\"&$B$449&\"\"),\"\")","v":""},{"$f":"IF(K16=\"\",\"\",RANK(K16,$K$1:$K$35,0))+COUNTIF($K$1:K16,K16)-1","v":{"$error":"#VALUE!"}},0,16,"",{"$f":"IF(D16=1,RTD(\"cqg.rtd\", ,\"ContractData\",C16, \"Delta\",, \"T\"),\"\")","v":""},{"$f":"IF(D16=1,RTD(\"cqg.rtd\", ,\"OrderData\", \"\"&O16&\"\", \"\", \"OpenPosition\",\"\"&$B$449&\"\"),\"\")","v":""},{"$f":"IF(D16=0,\"\",IF(LEFT(O16,1)=\"F\",Q16*100,Q16*RTD(\"cqg.rtd\",,\"ContractData\",O16,\"Delta\",,\"T\")))","v":""},{"$f":"IF(R16=\"\",\"\",RANK(R16,$R$1:$R$35,0)+COUNTIF($R$1:R16,R16)-1)","v":""},"",16,"",{"$f":"IF(D16=1,RTD(\"cqg.rtd\", ,\"ContractData\",C16, \"Vega\",, \"T\"),\"\")","v":""},{"$f":"IF(W16=\"\",\"\",RANK(W16,$W$1:$W$35,0)+COUNTIF($W$1:W16,W16)-1)","v":""},0,16,"",{"$f":"IF(D16=1,RTD(\"cqg.rtd\", ,\"ContractData\",C16, \"Gamma\",, \"T\"),\"\")","v":""},{"$f":"IF(AB16=\"\",\"\",RANK(AB16,$AB$1:$AB$35,0)+COUNTIF($AB$1:AB16,AB16)-1)","v":""},0,16,"",{"$f":"IF(D16=1,RTD(\"cqg.rtd\", ,\"ContractData\",C16, \"Theta\",, \"T\"),\"\")","v":""},{"$f":"IF(AG16=\"\",\"\",RANK(AG16,$AG$1:$AG$35,0)+COUNTIF($AG$1:AG16,AG16)-1)","v":""},0,16,"",{"$f":"IF(D16=1,1/RTD(\"cqg.rtd\", ,\"ContractData\",C16, \"ExpirationDate\",, \"T\"),\"\")","v":""},{"$f":"IF(AL16=\"\",\"\",RANK(AL16,$AL$1:$AL$35,0)+COUNTIF($AL$1:AL16,AL16)-1)","v":""},0,16,"",{"$f":"IF(AL16=\"\",\"\",RANK(AL16,$AL$1:$AL$35,0)+COUNTIF($AL$1:AL16,AL16)-1)","v":""}]
[{"$f":"IF(OR(ISTEXT(RTD(\"cqg.rtd\",,\"OrderData\",\"\"&B17&\"\",\"\",\"OpenPosition\",\"\"&Display5!$D$3&\"\")),RTD(\"cqg.rtd\",,\"OrderData\",\"\"&B17&\"\",\"\",\"OpenPosition\",\"\"&Display5!$D$3&\"\")=0),A16+0.001,INT(A16)+1)","v":1.7000000000000008E-2},{"$f":"(LEFT(B18,SEARCH(Display5!$G$2,B18)+LEN(Display5!$G$2)+2))&RIGHT(B18,LEN(B18)-(SEARCH(Display5!$G$2,B18)+LEN(Display5!$G$2)+2))+Display5!$J$3","v":"C.US.EPU1725500"},0,0,17,{"$f":"IF(D17=1,RTD(\"cqg.rtd\", ,\"ContractData\",C17, \"ImpliedVolatility\",, \"T\"),\"\")","v":""},{"$f":"IF(F17=\"\",\"\",RANK(F17,$F$1:$F$35,0)+COUNTIF($F$1:F17,F17)-1)","v":""},0,17,0,{"$f":"IF(D17=1,RTD(\"cqg.rtd\", ,\"OrderData\",\"\"&C17&\"\", \"\", \"OpenTradeEquity\",\"\"&$B$449&\"\"),\"\")","v":""},{"$f":"IF(K17=\"\",\"\",RANK(K17,$K$1:$K$35,0))+COUNTIF($K$1:K17,K17)-1","v":{"$error":"#VALUE!"}},0,17,"",{"$f":"IF(D17=1,RTD(\"cqg.rtd\", ,\"ContractData\",C17, \"Delta\",, \"T\"),\"\")","v":""},{"$f":"IF(D17=1,RTD(\"cqg.rtd\", ,\"OrderData\", \"\"&O17&\"\", \"\", \"OpenPosition\",\"\"&$B$449&\"\"),\"\")","v":""},{"$f":"IF(D17=0,\"\",IF(LEFT(O17,1)=\"F\",Q17*100,Q17*RTD(\"cqg.rtd\",,\"ContractData\",O17,\"Delta\",,\"T\")))","v":""},{"$f":"IF(R17=\"\",\"\",RANK(R17,$R$1:$R$35,0)+COUNTIF($R$1:R17,R17)-1)","v":""},"",17,"",{"$f":"IF(D17=1,RTD(\"cqg.rtd\", ,\"ContractData\",C17, \"Vega\",, \"T\"),\"\")","v":""},{"$f":"IF(W17=\"\",\"\",RANK(W17,$W$1:$W$35,0)+COUNTIF($W$1:W17,W17)-1)","v":""},0,17,"",{"$f":"IF(D17=1,RTD(\"cqg.rtd\", ,\"ContractData\",C17, \"Gamma\",, \"T\"),\"\")","v":""},{"$f":"IF(AB17=\"\",\"\",RANK(AB17,$AB$1:$AB$35,0)+COUNTIF($AB$1:AB17,AB17)-1)","v":""},0,17,"",{"$f":"IF(D17=1,RTD(\"cqg.rtd\", ,\"ContractData\",C17, \"Theta\",, \"T\"),\"\")","v":""},{"$f":"IF(AG17=\"\",\"\",RANK(AG17,$AG$1:$AG$35,0)+COUNTIF($AG$1:AG17,AG17)-1)","v":""},0,17,"",{"$f":"IF(D17=1,1/RTD(\"cqg.rtd\", ,\"ContractData\",C17, \"ExpirationDate\",, \"T\"),\"\")","v":""},{"$f":"IF(AL17=\"\",\"\",RANK(AL17,$AL$1:$AL$35,0)+COUNTIF($AL$1:AL17,AL17)-1)","v":""},0,17,"",{"$f":"IF(AL17=\"\",\"\",RANK(AL17,$AL$1:$AL$35,0)+COUNTIF($AL$1:AL17,AL17)-1)","v":""}]
[{"$f":"IF(OR(ISTEXT(RTD(\"cqg.rtd\",,\"OrderData\",\"\"&B18&\"\",\"\",\"OpenPosition\",\"\"&Display5!$D$3&\"\")),RTD(\"cqg.rtd\",,\"OrderData\",\"\"&B18&\"\",\"\",\"OpenPosition\",\"\"&Display5!$D$3&\"\")=0),A17+0.001,INT(A17)+1)","v":1.8000000000000009E-2},{"$f":"(LEFT(B19,SEARCH(Display5!$G$2,B19)+LEN(Display5!$G$2)+2))&RIGHT(B19,LEN(B19)-(SEARCH(Display5!$G$2,B19)+LEN(Display5!$G$2)+2))+Display5!$J$3","v":"C.US.EPU1725450"},0,0,18,{"$f":"IF(D18=1,RTD(\"cqg.rtd\", ,\"ContractData\",C18, \"ImpliedVolatility\",, \"T\"),\"\")","v":""},{"$f":"IF(F18=\"\",\"\",RANK(F18,$F$1:$F$35,0)+COUNTIF($F$1:F18,F18)-1)","v":""},0,18,0,{"$f":"IF(D18=1,RTD(\"cqg.rtd\", ,\"OrderData\",\"\"&C18&\"\", \"\", \"OpenTradeEquity\",\"\"&$B$449&\"\"),\"\")","v":""},{"$f":"IF(K18=\"\",\"\",RANK(K18,$K$1:$K$35,0))+COUNTIF($K$1:K18,K18)-1","v":{"$error":"#VALUE!"}},0,18,"",{"$f":"IF(D18=1,RTD(\"cqg.rtd\", ,\"ContractData\",C18, \"Delta\",, \"T\"),\"\")","v":""},{"$f":"IF(D18=1,RTD(\"cqg.rtd\", ,\"OrderData\", \"\"&O18&\"\", \"\", \"OpenPosition\",\"\"&$B$449&\"\"),\"\")","v":""},{"$f":"IF(D18=0,\"\",IF(LEFT(O18,1)=\"F\",Q18*100,Q18*RTD(\"cqg.rtd\",,\"ContractData\",O18,\"Delta\",,\"T\")))","v":""},{"$f":"IF(R18=\"\",\"\",RANK(R18,$R$1:$R$35,0)+COUNTIF($R$1:R18,R18)-1)","v":""},"",18,"",{"$f":"IF(D18=1,RTD(\"cqg.rtd\", ,\"ContractData\",C18, \"Vega\",, \"T\"),\"\")","v":""},{"$f":"IF(W18=\"\",\"\",RANK(W18,$W$1:$W$35,0)+COUNTIF($W$1:W18,W18)-1)","v":""},0,18,"",{"$f":"IF(D18=1,RTD(\"cqg.rtd\", ,\"ContractData\",C18, \"Gamma\",, \"T\"),\"\")","v":""},{"$f":"IF(AB18=\"\",\"\",RANK(AB18,$AB$1:$AB$35,0)+COUNTIF($AB$1:AB18,AB18)-1)","v":""},0,18,"",{"$f":"IF(D18=1,RTD(\"cqg.rtd\", ,\"ContractData\",C18, \"Theta\",, \"T\"),\"\")","v":""},{"$f":"IF(AG18=\"\",\"\",RANK(AG18,$AG$1:$AG$35,0)+COUNTIF($AG$1:AG18,AG18)-1)","v":""},0,18,"",{"$f":"IF(D18=1,1/RTD(\"cqg.rtd\", ,\"ContractData\",C18, \"ExpirationDate\",, \"T\"),\"\")","v":""},{"$f":"IF(AL18=\"\",\"\",RANK(AL18,$AL$1:$AL$35,0)+COUNTIF($AL$1:AL18,AL18)-1)","v":""},0,18,"",{"$f":"IF(AL18=\"\",\"\",RANK(AL18,$AL$1:$AL$35,0)+COUNTIF($AL$1:AL18,AL18)-1)","v":""}]
[{"$f":"IF(OR(ISTEXT(RTD(\"cqg.rtd\",,\"OrderData\",\"\"&B19&\"\",\"\",\"OpenPosition\",\"\"&Display5!$D$3&\"\")),RTD(\"cqg.rtd\",,\"OrderData\",\"\"&B19&\"\",\"\",\"OpenPosition\",\"\"&Display5!$D$3&\"\")=0),A18+0.001,INT(A18)+1)","v":1.900000000000001E-2},{"$f":"(LEFT(B20,SEARCH(Display5!$G$2,B20)+LEN(Display5!$G$2)+2))&RIGHT(B20,LEN(B20)-(SEARCH(Display5!$G$2,B20)+LEN(Display5!$G$2)+2))+Display5!$J$3","v":"C.US.EPU1725400"},0,0,19,{"$f":"IF(D19=1,RTD(\"cqg.rtd\", ,\"ContractData\",C19, \"ImpliedVolatility\",, \"T\"),\"\")","v":""},{"$f":"IF(F19=\"\",\"\",RANK(F19,$F$1:$F$35,0)+COUNTIF($F$1:F19,F19)-1)","v":""},0,19,0,{"$f":"IF(D19=1,RTD(\"cqg.rtd\", ,\"OrderData\",\"\"&C19&\"\", \"\", \"OpenTradeEquity\",\"\"&$B$449&\"\"),\"\")","v":""},{"$f":"IF(K19=\"\",\"\",RANK(K19,$K$1:$K$35,0))+COUNTIF($K$1:K19,K19)-1","v":{"$error":"#VALUE!"}},0,19,"",{"$f":"IF(D19=1,RTD(\"cqg.rtd\", ,\"ContractData\",C19, \"Delta\",, \"T\"),\"\")","v":""},{"$f":"IF(D19=1,RTD(\"cqg.rtd\", ,\"OrderData\", \"\"&O19&\"\", \"\", \"OpenPosition\",\"\"&$B$449&\"\"),\"\")","v":""},{"$f":"IF(D19=0,\"\",IF(LEFT(O19,1)=\"F\",Q19*100,Q19*RTD(\"cqg.rtd\",,\"ContractData\",O19,\"Delta\",,\"T\")))","v":""},{"$f":"IF(R19=\"\",\"\",RANK(R19,$R$1:$R$35,0)+COUNTIF($R$1:R19,R19)-1)","v":""},"",19,"",{"$f":"IF(D19=1,RTD(\"cqg.rtd\", ,\"ContractData\",C19, \"Vega\",, \"T\"),\"\")","v":""},{"$f":"IF(W19=\"\",\"\",RANK(W19,$W$1:$W$35,0)+COUNTIF($W$1:W19,W19)-1)","v":""},0,19,"",{"$f":"IF(D19=1,RTD(\"cqg.rtd\", ,\"ContractData\",C19, \"Gamma\",, \"T\"),\"\")","v":""},{"$f":"IF(AB19=\"\",\"\",RANK(AB19,$AB$1:$AB$35,0)+COUNTIF($AB$1:AB19,AB19)-1)","v":""},0,19,"",{"$f":"IF(D19=1,RTD(\"cqg.rtd\", ,\"ContractData\",C19, \"Theta\",, \"T\"),\"\")","v":""},{"$f":"IF(AG19=\"\",\"\",RANK(AG19,$AG$1:$AG$35,0)+COUNTIF($AG$1:AG19,AG19)-1)","v":""},0,19,"",{"$f":"IF(D19=1,1/RTD(\"cqg.rtd\", ,\"ContractData\",C19, \"ExpirationDate\",, \"T\"),\"\")","v":""},{"$f":"IF(AL19=\"\",\"\",RANK(AL19,$AL$1:$AL$35,0)+COUNTIF($AL$1:AL19,AL19)-1)","v":""},0,19,"",{"$f":"IF(AL19=\"\",\"\",RANK(AL19,$AL$1:$AL$35,0)+COUNTIF($AL$1:AL19,AL19)-1)","v":""}]
[{"$f":"IF(OR(ISTEXT(RTD(\"cqg.rtd\",,\"OrderData\",\"\"&B20&\"\",\"\",\"OpenPosition\",\"\"&Display5!$D$3&\"\")),RTD(\"cqg.rtd\",,\"OrderData\",\"\"&B20&\"\",\"\",\"OpenPosition\",\"\"&Display5!$D$3&\"\")=0),A19+0.001,INT(A19)+1)","v":2.0000000000000011E-2},{"$f":"(LEFT(B21,SEARCH(Display5!$G$2,B21)+LEN(Display5!$G$2)+2))&RIGHT(B21,LEN(B21)-(SEARCH(Display5!$G$2,B21)+LEN(Display5!$G$2)+2))+Display5!$J$3","v":"C.US.EPU1725350"},0,0,20,{"$f":"IF(D20=1,RTD(\"cqg.rtd\", ,\"ContractData\",C20, \"ImpliedVolatility\",, \"T\"),\"\")","v":""},{"$f":"IF(F20=\"\",\"\",RANK(F20,$F$1:$F$35,0)+COUNTIF($F$1:F20,F20)-1)","v":""},0,20,0,{"$f":"IF(D20=1,RTD(\"cqg.rtd\", ,\"OrderData\",\"\"&C20&\"\", \"\", \"OpenTradeEquity\",\"\"&$B$449&\"\"),\"\")","v":""},{"$f":"IF(K20=\"\",\"\",RANK(K20,$K$1:$K$35,0))+COUNTIF($K$1:K20,K20)-1","v":{"$error":"#VALUE!"}},0,20,"",{"$f":"IF(D20=1,RTD(\"cqg.rtd\", ,\"ContractData\",C20, \"Delta\",, \"T\"),\"\")","v":""},{"$f":"IF(D20=1,RTD(\"cqg.rtd\", ,\"OrderData\", \"\"&O20&\"\", \"\", \"OpenPosition\",\"\"&$B$449&\"\"),\"\")","v":""},{"$f":"IF(D20=0,\"\",IF(LEFT(O20,1)=\"F\",Q20*100,Q20*RTD(\"cqg.rtd\",,\"ContractData\",O20,\"Delta\",,\"T\")))","v":""},{"$f":"IF(R20=\"\",\"\",RANK(R20,$R$1:$R$35,0)+COUNTIF($R$1:R20,R20)-1)","v":""},"",20,"",{"$f":"IF(D20=1,RTD(\"cqg.rtd\", ,\"ContractData\",C20, \"Vega\",, \"T\"),\"\")","v":""},{"$f":"IF(W20=\"\",\"\",RANK(W20,$W$1:$W$35,0)+COUNTIF($W$1:W20,W20)-1)","v":""},0,20,"",{"$f":"IF(D20=1,RTD(\"cqg.rtd\", ,\"ContractData\",C20, \"Gamma\",, \"T\"),\"\")","v":""},{"$f":"IF(AB20=\"\",\"\",RANK(AB20,$AB$1:$AB$35,0)+COUNTIF($AB$1:AB20,AB20)-1)","v":""},0,20,"",{"$f":"IF(D20=1,RTD(\"cqg.rtd\", ,\"ContractData\",C20, \"Theta\",, \"T\"),\"\")","v":""},{"$f":"IF(AG20=\"\",\"\",RANK(AG20,$AG$1:$AG$35,0)+COUNTIF($AG$1:AG20,AG20)-1)","v":""},0,20,"",{"$f":"IF(D20=1,1/RTD(\"cqg.rtd\", ,\"ContractData\",C20, \"ExpirationDate\",, \"T\"),\"\")","v":""},{"$f":"IF(AL20=\"\",\"\",RANK(AL20,$AL$1:$AL$35,0)+COUNTIF($AL$1:AL20,AL20)-1)","v":""},0,20,"",{"$f":"IF(AL20=\"\",\"\",RANK(AL20,$AL$1:$AL$35,0)+COUNTIF($AL$1:AL20,AL20)-1)","v":""}]
[{"$f":"IF(OR(ISTEXT(RTD(\"cqg.rtd\",,\"OrderData\",\"\"&B21&\"\",\"\",\"OpenPosition\",\"\"&Display5!$D$3&\"\")),RTD(\"cqg.rtd\",,\"OrderData\",\"\"&B21&\"\",\"\",\"OpenPosition\",\"\"&Display5!$D$3&\"\")=0),A20+0.001,INT(A20)+1)","v":2.1000000000000012E-2},{"$f":"(LEFT(B22,SEARCH(Display5!$G$2,B22)+LEN(Display5!$G$2)+2))&RIGHT(B22,LEN(B22)-(SEARCH(Display5!$G$2,B22)+LEN(Display5!$G$2)+2))+Display5!$J$3","v":"C.US.EPU1725300"},0,0,21,{"$f":"IF(D21=1,RTD(\"cqg.rtd\", ,\"ContractData\",C21, \"ImpliedVolatility\",, \"T\"),\"\")","v":""},{"$f":"IF(F21=\"\",\"\",RANK(F21,$F$1:$F$35,0)+COUNTIF($F$1:F21,F21)-1)","v":""},0,21,0,{"$f":"IF(D21=1,RTD(\"cqg.rtd\", ,\"OrderData\",\"\"&C21&\"\", \"\", \"OpenTradeEquity\",\"\"&$B$449&\"\"),\"\")","v":""},{"$f":"IF(K21=\"\",\"\",RANK(K21,$K$1:$K$35,0))+COUNTIF($K$1:K21,K21)-1","v":{"$error":"#VALUE!"}},0,21,"",{"$f":"IF(D21=1,RTD(\"cqg.rtd\", ,\"ContractData\",C21, \"Delta\",, \"T\"),\"\")","v":""},{"$f":"IF(D21=1,RTD(\"cqg.rtd\", ,\"OrderData\", \"\"&O21&\"\", \"\", \"OpenPosition\",\"\"&$B$449&\"\"),\"\")","v":""},{"$f":"IF(D21=0,\"\",IF(LEFT(O21,1)=\"F\",Q21*100,Q21*RTD(\"cqg.rtd\",,\"ContractData\",O21,\"Delta\",,\"T\")))","v":""},{"$f":"IF(R21=\"\",\"\",RANK(R21,$R$1:$R$35,0)+COUNTIF($R$1:R21,R21)-1)","v":""},"",21,"",{"$f":"IF(D21=1,RTD(\"cqg.rtd\", ,\"ContractData\",C21, \"Vega\",, \"T\"),\"\")","v":""},{"$f":"IF(W21=\"\",\"\",RANK(W21,$W$1:$W$35,0)+COUNTIF($W$1:W21,W21)-1)","v":""},0,21,"",{"$f":"IF(D21=1,RTD(\"cqg.rtd\", ,\"ContractData\",C21, \"Gamma\",, \"T\"),\"\")","v":""},{"$f":"IF(AB21=\"\",\"\",RANK(AB21,$AB$1:$AB$35,0)+COUNTIF($AB$1:AB21,AB21)-1)","v":""},0,21,"",{"$f":"IF(D21=1,RTD(\"cqg.rtd\", ,\"ContractData\",C21, \"Theta\",, \"T\"),\"\")","v":""},{"$f":"IF(AG21=\"\",\"\",RANK(AG21,$AG$1:$AG$35,0)+COUNTIF($AG$1:AG21,AG21)-1)","v":""},0,21,"",{"$f":"IF(D21=1,1/RTD(\"cqg.rtd\", ,\"ContractData\",C21, \"ExpirationDate\",, \"T\"),\"\")","v":""},{"$f":"IF(AL21=\"\",\"\",RANK(AL21,$AL$1:$AL$35,0)+COUNTIF($AL$1:AL21,AL21)-1)","v":""},0,21,"",{"$f":"IF(AL21=\"\",\"\",RANK(AL21,$AL$1:$AL$35,0)+COUNTIF($AL$1:AL21,AL21)-1)","v":""}]
[{"$f":"IF(OR(ISTEXT(RTD(\"cqg.rtd\",,\"OrderData\",\"\"&B22&\"\",\"\",\"OpenPosition\",\"\"&Display5!$D$3&\"\")),RTD(\"cqg.rtd\",,\"OrderData\",\"\"&B22&\"\",\"\",\"OpenPosition\",\"\"&Display5!$D$3&\"\")=0),A21+0.001,INT(A21)+1)","v":2.2000000000000013E-2},{"$f":"(LEFT(B23,SEARCH(Display5!$G$2,B23)+LEN(Display5!$G$2)+2))&RIGHT(B23,LEN(B23)-(SEARCH(Display5!$G$2,B23)+LEN(Display5!$G$2)+2))+Display5!$J$3","v":"C.US.EPU1725250"},0,0,22,{"$f":"IF(D22=1,RTD(\"cqg.rtd\", ,\"ContractData\",C22, \"ImpliedVolatility\",, \"T\"),\"\")","v":""},{"$f":"IF(F22=\"\",\"\",RANK(F22,$F$1:$F$35,0)+COUNTIF($F$1:F22,F22)-1)","v":""},0,22,0,{"$f":"IF(D22=1,RTD(\"cqg.rtd\", ,\"OrderData\",\"\"&C22&\"\", \"\", \"OpenTradeEquity\",\"\"&$B$449&\"\"),\"\")","v":""},{"$f":"IF(K22=\"\",\"\",RANK(K22,$K$1:$K$35,0))+COUNTIF($K$1:K22,K22)-1","v":{"$error":"#VALUE!"}},0,22,"",{"$f":"IF(D22=1,RTD(\"cqg.rtd\", ,\"ContractData\",C22, \"Delta\",, \"T\"),\"\")","v":""},{"$f":"IF(D22=1,RTD(\"cqg.rtd\", ,\"OrderData\", \"\"&O22&\"\", \"\", \"OpenPosition\",\"\"&$B$449&\"\"),\"\")","v":""},{"$f":"IF(D22=0,\"\",IF(LEFT(O22,1)=\"F\",Q22*100,Q22*RTD(\"cqg.rtd\",,\"ContractData\",O22,\"Delta\",,\"T\")))","v":""},{"$f":"IF(R22=\"\",\"\",RANK(R22,$R$1:$R$35,0)+COUNTIF($R$1:R22,R22)-1)","v":""},"",22,"",{"$f":"IF(D22=1,RTD(\"cqg.rtd\", ,\"ContractData\",C22, \"Vega\",, \"T\"),\"\")","v":""},{"$f":"IF(W22=\"\",\"\",RANK(W22,$W$1:$W$35,0)+COUNTIF($W$1:W22,W22)-1)","v":""},0,22,"",{"$f":"IF(D22=1,RTD(\"cqg.rtd\", ,\"ContractData\",C22, \"Gamma\",, \"T\"),\"\")","v":""},{"$f":"IF(AB22=\"\",\"\",RANK(AB22,$AB$1:$AB$35,0)+COUNTIF($AB$1:AB22,AB22)-1)","v":""},0,22,"",{"$f":"IF(D22=1,RTD(\"cqg.rtd\", ,\"ContractData\",C22, \"Theta\",, \"T\"),\"\")","v":""},{"$f":"IF(AG22=\"\",\"\",RANK(AG22,$AG$1:$AG$35,0)+COUNTIF($AG$1:AG22,AG22)-1)","v":""},0,22,"",{"$f":"IF(D22=1,1/RTD(\"cqg.rtd\", ,\"ContractData\",C22, \"ExpirationDate\",, \"T\"),\"\")","v":""},{"$f":"IF(AL22=\"\",\"\",RANK(AL22,$AL$1:$AL$35,0)+COUNTIF($AL$1:AL22,AL22)-1)","v":""},0,22,"",{"$f":"IF(AL22=\"\",\"\",RANK(AL22,$AL$1:$AL$35,0)+COUNTIF($AL$1:AL22,AL22)-1)","v":""}]
[{"$f":"IF(OR(ISTEXT(RTD(\"cqg.rtd\",,\"OrderData\",\"\"&B23&\"\",\"\",\"OpenPosition\",\"\"&Display5!$D$3&\"\")),RTD(\"cqg.rtd\",,\"OrderData\",\"\"&B23&\"\",\"\",\"OpenPosition\",\"\"&Display5!$D$3&\"\")=0),A22+0.001,INT(A22)+1)","v":2.3000000000000013E-2},{"$f":"(LEFT(B24,SEARCH(Display5!$G$2,B24)+LEN(Display5!$G$2)+2))&RIGHT(B24,LEN(B24)-(SEARCH(Display5!$G$2,B24)+LEN(Display5!$G$2)+2))+Display5!$J$3","v":"C.US.EPU1725200"},0,0,23,{"$f":"IF(D23=1,RTD(\"cqg.rtd\", ,\"ContractData\",C23, \"ImpliedVolatility\",, \"T\"),\"\")","v":""},{"$f":"IF(F23=\"\",\"\",RANK(F23,$F$1:$F$35,0)+COUNTIF($F$1:F23,F23)-1)","v":""},0,23,0,{"$f":"IF(D23=1,RTD(\"cqg.rtd\", ,\"OrderData\",\"\"&C23&\"\", \"\", \"OpenTradeEquity\",\"\"&$B$449&\"\"),\"\")","v":""},{"$f":"IF(K23=\"\",\"\",RANK(K23,$K$1:$K$35,0))+COUNTIF($K$1:K23,K23)-1","v":{"$error":"#VALUE!"}},0,23,"",{"$f":"IF(D23=1,RTD(\"cqg.rtd\", ,\"ContractData\",C23, \"Delta\",, \"T\"),\"\")","v":""},{"$f":"IF(D23=1,RTD(\"cqg.rtd\", ,\"OrderData\", \"\"&O23&\"\", \"\", \"OpenPosition\",\"\"&$B$449&\"\"),\"\")","v":""},{"$f":"IF(D23=0,\"\",IF(LEFT(O23,1)=\"F\",Q23*100,Q23*RTD(\"cqg.rtd\",,\"ContractData\",O23,\"Delta\",,\"T\")))","v":""},{"$f":"IF(R23=\"\",\"\",RANK(R23,$R$1:$R$35,0)+COUNTIF($R$1:R23,R23)-1)","v":""},"",23,"",{"$f":"IF(D23=1,RTD(\"cqg.rtd\", ,\"ContractData\",C23, \"Vega\",, \"T\"),\"\")","v":""},{"$f":"IF(W23=\"\",\"\",RANK(W23,$W$1:$W$35,0)+COUNTIF($W$1:W23,W23)-1)","v":""},0,23,"",{"$f":"IF(D23=1,RTD(\"cqg.rtd\", ,\"ContractData\",C23, \"Gamma\",, \"T\"),\"\")","v":""},{"$f":"IF(AB23=\"\",\"\",RANK(AB23,$AB$1:$AB$35,0)+COUNTIF($AB$1:AB23,AB23)-1)","v":""},0,23,"",{"$f":"IF(D23=1,RTD(\"cqg.rtd\", ,\"ContractData\",C23, \"Theta\",, \"T\"),\"\")","v":""},{"$f":"IF(AG23=\"\",\"\",RANK(AG23,$AG$1:$AG$35,0)+COUNTIF($AG$1:AG23,AG23)-1)","v":""},0,23,"",{"$f":"IF(D23=1,1/RTD(\"cqg.rtd\", ,\"ContractData\",C23, \"ExpirationDate\",, \"T\"),\"\")","v":""},{"$f":"IF(AL23=\"\",\"\",RANK(AL23,$AL$1:$AL$35,0)+COUNTIF($AL$1:AL23,AL23)-1)","v":""},0,23,"",{"$f":"IF(AL23=\"\",\"\",RANK(AL23,$AL$1:$AL$35,0)+COUNTIF($AL$1:AL23,AL23)-1)","v":""}]
[{"$f":"IF(OR(ISTEXT(RTD(\"cqg.rtd\",,\"OrderData\",\"\"&B24&\"\",\"\",\"OpenPosition\",\"\"&Display5!$D$3&\"\")),RTD(\"cqg.rtd\",,\"OrderData\",\"\"&B24&\"\",\"\",\"OpenPosition\",\"\"&Display5!$D$3&\"\")=0),A23+0.001,INT(A23)+1)","v":2.4000000000000014E-2},{"$f":"(LEFT(B25,SEARCH(Display5!$G$2,B25)+LEN(Display5!$G$2)+2))&RIGHT(B25,LEN(B25)-(SEARCH(Display5!$G$2,B25)+LEN(Display5!$G$2)+2))+Display5!$J$3","v":"C.US.EPU1725150"},0,0,24,{"$f":"IF(D24=1,RTD(\"cqg.rtd\", ,\"ContractData\",C24, \"ImpliedVolatility\",, \"T\"),\"\")","v":""},{"$f":"IF(F24=\"\",\"\",RANK(F24,$F$1:$F$35,0)+COUNTIF($F$1:F24,F24)-1)","v":""},0,24,0,{"$f":"IF(D24=1,RTD(\"cqg.rtd\", ,\"OrderData\",\"\"&C24&\"\", \"\", \"OpenTradeEquity\",\"\"&$B$449&\"\"),\"\")","v":""},{"$f":"IF(K24=\"\",\"\",RANK(K24,$K$1:$K$35,0))+COUNTIF($K$1:K24,K24)-1","v":{"$error":"#VALUE!"}},0,24,"",{"$f":"IF(D24=1,RTD(\"cqg.rtd\", ,\"ContractData\",C24, \"Delta\",, \"T\"),\"\")","v":""},{"$f":"IF(D24=1,RTD(\"cqg.rtd\", ,\"OrderData\", \"\"&O24&\"\", \"\", \"OpenPosition\",\"\"&$B$449&\"\"),\"\")","v":""},{"$f":"IF(D24=0,\"\",IF(LEFT(O24,1)=\"F\",Q24*100,Q24*RTD(\"cqg.rtd\",,\"ContractData\",O24,\"Delta\",,\"T\")))","v":""},{"$f":"IF(R24=\"\",\"\",RANK(R24,$R$1:$R$35,0)+COUNTIF($R$1:R24,R24)-1)","v":""},"",24,"",{"$f":"IF(D24=1,RTD(\"cqg.rtd\", ,\"ContractData\",C24, \"Vega\",, \"T\"),\"\")","v":""},{"$f":"IF(W24=\"\",\"\",RANK(W24,$W$1:$W$35,0)+COUNTIF($W$1:W24,W24)-1)","v":""},0,24,"",{"$f":"IF(D24=1,RTD(\"cqg.rtd\", ,\"ContractData\",C24, \"Gamma\",, \"T\"),\"\")","v":""},{"$f":"IF(AB24=\"\",\"\",RANK(AB24,$AB$1:$AB$35,0)+COUNTIF($AB$1:AB24,AB24)-1)","v":""},0,24,"",{"$f":"IF(D24=1,RTD(\"cqg.rtd\", ,\"ContractData\",C24, \"Theta\",, \"T\"),\"\")","v":""},{"$f":"IF(AG24=\"\",\"\",RANK(AG24,$AG$1:$AG$35,0)+COUNTIF($AG$1:AG24,AG24)-1)","v":""},0,24,"",{"$f":"IF(D24=1,1/RTD(\"cqg.rtd\", ,\"ContractData\",C24, \"ExpirationDate\",, \"T\"),\"\")","v":""},{"$f":"IF(AL24=\"\",\"\",RANK(AL24,$AL$1:$AL$35,0)+COUNTIF($AL$1:AL24,AL24)-1)","v":""},0,24,"",{"$f":"IF(AL24=\"\",\"\",RANK(AL24,$AL$1:$AL$35,0)+COUNTIF($AL$1:AL24,AL24)-1)","v":""}]
[{"$f":"IF(OR(ISTEXT(RTD(\"cqg.rtd\",,\"OrderData\",\"\"&B25&\"\",\"\",\"OpenPosition\",\"\"&Display5!$D$3&\"\")),RTD(\"cqg.rtd\",,\"OrderData\",\"\"&B25&\"\",\"\",\"OpenPosition\",\"\"&Display5!$D$3&\"\")=0),A24+0.001,INT(A24)+1)","v":2.5000000000000015E-2},{"$f":"(LEFT(B26,SEARCH(Display5!$G$2,B26)+LEN(Display5!$G$2)+2))&RIGHT(B26,LEN(B26)-(SEARCH(Display5!$G$2,B26)+LEN(Display5!$G$2)+2))+Display5!$J$3","v":"C.US.EPU1725100"},0,0,25,{"$f":"IF(D25=1,RTD(\"cqg.rtd\", ,\"ContractData\",C25, \"ImpliedVolatility\",, \"T\"),\"\")","v":""},{"$f":"IF(F25=\"\",\"\",RANK(F25,$F$1:$F$35,0)+COUNTIF($F$1:F25,F25)-1)","v":""},0,25,0,{"$f":"IF(D25=1,RTD(\"cqg.rtd\", ,\"OrderData\",\"\"&C25&\"\", \"\", \"OpenTradeEquity\",\"\"&$B$449&\"\"),\"\")","v":""},{"$f":"IF(K25=\"\",\"\",RANK(K25,$K$1:$K$35,0))+COUNTIF($K$1:K25,K25)-1","v":{"$error":"#VALUE!"}},0,25,"",{"$f":"IF(D25=1,RTD(\"cqg.rtd\", ,\"ContractData\",C25, \"Delta\",, \"T\"),\"\")","v":""},{"$f":"IF(D25=1,RTD(\"cqg.rtd\", ,\"OrderData\", \"\"&O25&\"\", \"\", \"OpenPosition\",\"\"&$B$449&\"\"),\"\")","v":""},{"$f":"IF(D25=0,\"\",IF(LEFT(O25,1)=\"F\",Q25*100,Q25*RTD(\"cqg.rtd\",,\"ContractData\",O25,\"Delta\",,\"T\")))","v":""},{"$f":"IF(R25=\"\",\"\",RANK(R25,$R$1:$R$35,0)+COUNTIF($R$1:R25,R25)-1)","v":""},"",25,"",{"$f":"IF(D25=1,RTD(\"cqg.rtd\", ,\"ContractData\",C25, \"Vega\",, \"T\"),\"\")","v":""},{"$f":"IF(W25=\"\",\"\",RANK(W25,$W$1:$W$35,0)+COUNTIF($W$1:W25,W25)-1)","v":""},0,25,"",{"$f":"IF(D25=1,RTD(\"cqg.rtd\", ,\"ContractData\",C25, \"Gamma\",, \"T\"),\"\")","v":""},{"$f":"IF(AB25=\"\",\"\",RANK(AB25,$AB$1:$AB$35,0)+COUNTIF($AB$1:AB25,AB25)-1)","v":""},0,25,"",{"$f":"IF(D25=1,RTD(\"cqg.rtd\", ,\"ContractData\",C25, \"Theta\",, \"T\"),\"\")","v":""},{"$f":"IF(AG25=\"\",\"\",RANK(AG25,$AG$1:$AG$35,0)+COUNTIF($AG$1:AG25,AG25)-1)","v":""},0,25,"",{"$f":"IF(D25=1,1/RTD(\"cqg.rtd\", ,\"ContractData\",C25, \"ExpirationDate\",, \"T\"),\"\")","v":""},{"$f":"IF(AL25=\"\",\"\",RANK(AL25,$AL$1:$AL$35,0)+COUNTIF($AL$1:AL25,AL25)-1)","v":""},0,25,"",{"$f":"IF(AL25=\"\",\"\",RANK(AL25,$AL$1:$AL$35,0)+COUNTIF($AL$1:AL25,AL25)-1)","v":""}]
[{"$f":"IF(OR(ISTEXT(RTD(\"cqg.rtd\",,\"OrderData\",\"\"&B26&\"\",\"\",\"OpenPosition\",\"\"&Display5!$D$3&\"\")),RTD(\"cqg.rtd\",,\"OrderData\",\"\"&B26&\"\",\"\",\"OpenPosition\",\"\"&Display5!$D$3&\"\")=0),A25+0.001,INT(A25)+1)","v":2.6000000000000016E-2},{"$f":"(LEFT(B27,SEARCH(Display5!$G$2,B27)+LEN(Display5!$G$2)+2))&RIGHT(B27,LEN(B27)-(SEARCH(Display5!$G$2,B27)+LEN(Display5!$G$2)+2))+Display5!$J$3","v":"C.US.EPU1725050"},0,0,26,{"$f":"IF(D26=1,RTD(\"cqg.rtd\", ,\"ContractData\",C26, \"ImpliedVolatility\",, \"T\"),\"\")","v":""},{"$f":"IF(F26=\"\",\"\",RANK(F26,$F$1:$F$35,0)+COUNTIF($F$1:F26,F26)-1)","v":""},0,26,0,{"$f":"IF(D26=1,RTD(\"cqg.rtd\", ,\"OrderData\",\"\"&C26&\"\", \"\", \"OpenTradeEquity\",\"\"&$B$449&\"\"),\"\")","v":""},{"$f":"IF(K26=\"\",\"\",RANK(K26,$K$1:$K$35,0))+COUNTIF($K$1:K26,K26)-1","v":{"$error":"#VALUE!"}},0,26,"",{"$f":"IF(D26=1,RTD(\"cqg.rtd\", ,\"ContractData\",C26, \"Delta\",, \"T\"),\"\")","v":""},{"$f":"IF(D26=1,RTD(\"cqg.rtd\", ,\"OrderData\", \"\"&O26&\"\", \"\", \"OpenPosition\",\"\"&$B$449&\"\"),\"\")","v":""},{"$f":"IF(D26=0,\"\",IF(LEFT(O26,1)=\"F\",Q26*100,Q26*RTD(\"cqg.rtd\",,\"ContractData\",O26,\"Delta\",,\"T\")))","v":""},{"$f":"IF(R26=\"\",\"\",RANK(R26,$R$1:$R$35,0)+COUNTIF($R$1:R26,R26)-1)","v":""},"",26,"",{"$f":"IF(D26=1,RTD(\"cqg.rtd\", ,\"ContractData\",C26, \"Vega\",, \"T\"),\"\")","v":""},{"$f":"IF(W26=\"\",\"\",RANK(W26,$W$1:$W$35,0)+COUNTIF($W$1:W26,W26)-1)","v":""},0,26,"",{"$f":"IF(D26=1,RTD(\"cqg.rtd\", ,\"ContractData\",C26, \"Gamma\",, \"T\"),\"\")","v":""},{"$f":"IF(AB26=\"\",\"\",RANK(AB26,$AB$1:$AB$35,0)+COUNTIF($AB$1:AB26,AB26)-1)","v":""},0,26,"",{"$f":"IF(D26=1,RTD(\"cqg.rtd\", ,\"ContractData\",C26, \"Theta\",, \"T\"),\"\")","v":""},{"$f":"IF(AG26=\"\",\"\",RANK(AG26,$AG$1:$AG$35,0)+COUNTIF($AG$1:AG26,AG26)-1)","v":""},0,26,"",{"$f":"IF(D26=1,1/RTD(\"cqg.rtd\", ,\"ContractData\",C26, \"ExpirationDate\",, \"T\"),\"\")","v":""},{"$f":"IF(AL26=\"\",\"\",RANK(AL26,$AL$1:$AL$35,0)+COUNTIF($AL$1:AL26,AL26)-1)","v":""},0,26,"",{"$f":"IF(AL26=\"\",\"\",RANK(AL26,$AL$1:$AL$35,0)+COUNTIF($AL$1:AL26,AL26)-1)","v":""}]
[{"$f":"IF(OR(ISTEXT(RTD(\"cqg.rtd\",,\"OrderData\",\"\"&B27&\"\",\"\",\"OpenPosition\",\"\"&Display5!$D$3&\"\")),RTD(\"cqg.rtd\",,\"OrderData\",\"\"&B27&\"\",\"\",\"OpenPosition\",\"\"&Display5!$D$3&\"\")=0),A26+0.001,INT(A26)+1)","v":2.7000000000000017E-2},{"$f":"(LEFT(B28,SEARCH(Display5!$G$2,B28)+LEN(Display5!$G$2)+2))&RIGHT(B28,LEN(B28)-(SEARCH(Display5!$G$2,B28)+LEN(Display5!$G$2)+2))+Display5!$J$3","v":"C.US.EPU1725000"},0,0,27,{"$f":"IF(D27=1,RTD(\"cqg.rtd\", ,\"ContractData\",C27, \"ImpliedVolatility\",, \"T\"),\"\")","v":""},{"$f":"IF(F27=\"\",\"\",RANK(F27,$F$1:$F$35,0)+COUNTIF($F$1:F27,F27)-1)","v":""},0,27,0,{"$f":"IF(D27=1,RTD(\"cqg.rtd\", ,\"OrderData\",\"\"&C27&\"\", \"\", \"OpenTradeEquity\",\"\"&$B$449&\"\"),\"\")","v":""},{"$f":"IF(K27=\"\",\"\",RANK(K27,$K$1:$K$35,0))+COUNTIF($K$1:K27,K27)-1","v":{"$error":"#VALUE!"}},0,27,"",{"$f":"IF(D27=1,RTD(\"cqg.rtd\", ,\"ContractData\",C27, \"Delta\",, \"T\"),\"\")","v":""},{"$f":"IF(D27=1,RTD(\"cqg.rtd\", ,\"OrderData\", \"\"&O27&\"\", \"\", \"OpenPosition\",\"\"&$B$449&\"\"),\"\")","v":""},{"$f":"IF(D27=0,\"\",IF(LEFT(O27,1)=\"F\",Q27*100,Q27*RTD(\"cqg.rtd\",,\"ContractData\",O27,\"Delta\",,\"T\")))","v":""},{"$f":"IF(R27=\"\",\"\",RANK(R27,$R$1:$R$35,0)+COUNTIF($R$1:R27,R27)-1)","v":""},"",27,"",{"$f":"IF(D27=1,RTD(\"cqg.rtd\", ,\"ContractData\",C27, \"Vega\",, \"T\"),\"\")","v":""},{"$f":"IF(W27=\"\",\"\",RANK(W27,$W$1:$W$35,0)+COUNTIF($W$1:W27,W27)-1)","v":""},0,27,"",{"$f":"IF(D27=1,RTD(\"cqg.rtd\", ,\"ContractData\",C27, \"Gamma\",, \"T\"),\"\")","v":""},{"$f":"IF(AB27=\"\",\"\",RANK(AB27,$AB$1:$AB$35,0)+COUNTIF($AB$1:AB27,AB27)-1)","v":""},0,27,"",{"$f":"IF(D27=1,RTD(\"cqg.rtd\", ,\"ContractData\",C27, \"Theta\",, \"T\"),\"\")","v":""},{"$f":"IF(AG27=\"\",\"\",RANK(AG27,$AG$1:$AG$35,0)+COUNTIF($AG$1:AG27,AG27)-1)","v":""},0,27,"",{"$f":"IF(D27=1,1/RTD(\"cqg.rtd\", ,\"ContractData\",C27, \"ExpirationDate\",, \"T\"),\"\")","v":""},{"$f":"IF(AL27=\"\",\"\",RANK(AL27,$AL$1:$AL$35,0)+COUNTIF($AL$1:AL27,AL27)-1)","v":""},0,27,"",{"$f":"IF(AL27=\"\",\"\",RANK(AL27,$AL$1:$AL$35,0)+COUNTIF($AL$1:AL27,AL27)-1)","v":""}]
[{"$f":"IF(OR(ISTEXT(RTD(\"cqg.rtd\",,\"OrderData\",\"\"&B28&\"\",\"\",\"OpenPosition\",\"\"&Display5!$D$3&\"\")),RTD(\"cqg.rtd\",,\"OrderData\",\"\"&B28&\"\",\"\",\"OpenPosition\",\"\"&Display5!$D$3&\"\")=0),A27+0.001,INT(A27)+1)","v":2.8000000000000018E-2},{"$f":"(LEFT(B29,SEARCH(Display5!$G$2,B29)+LEN(Display5!$G$2)+2))&RIGHT(B29,LEN(B29)-(SEARCH(Display5!$G$2,B29)+LEN(Display5!$G$2)+2))+Display5!$J$3","v":"C.US.EPU1724950"},0,0,28,{"$f":"IF(D28=1,RTD(\"cqg.rtd\", ,\"ContractData\",C28, \"ImpliedVolatility\",, \"T\"),\"\")","v":""},{"$f":"IF(F28=\"\",\"\",RANK(F28,$F$1:$F$35,0)+COUNTIF($F$1:F28,F28)-1)","v":""},0,28,0,{"$f":"IF(D28=1,RTD(\"cqg.rtd\", ,\"OrderData\",\"\"&C28&\"\", \"\", \"OpenTradeEquity\",\"\"&$B$449&\"\"),\"\")","v":""},{"$f":"IF(K28=\"\",\"\",RANK(K28,$K$1:$K$35,0))+COUNTIF($K$1:K28,K28)-1","v":{"$error":"#VALUE!"}},0,28,"",{"$f":"IF(D28=1,RTD(\"cqg.rtd\", ,\"ContractData\",C28, \"Delta\",, \"T\"),\"\")","v":""},{"$f":"IF(D28=1,RTD(\"cqg.rtd\", ,\"OrderData\", \"\"&O28&\"\", \"\", \"OpenPosition\",\"\"&$B$449&\"\"),\"\")","v":""},{"$f":"IF(D28=0,\"\",IF(LEFT(O28,1)=\"F\",Q28*100,Q28*RTD(\"cqg.rtd\",,\"ContractData\",O28,\"Delta\",,\"T\")))","v":""},{"$f":"IF(R28=\"\",\"\",RANK(R28,$R$1:$R$35,0)+COUNTIF($R$1:R28,R28)-1)","v":""},"",28,"",{"$f":"IF(D28=1,RTD(\"cqg.rtd\", ,\"ContractData\",C28, \"Vega\",, \"T\"),\"\")","v":""},{"$f":"IF(W28=\"\",\"\",RANK(W28,$W$1:$W$35,0)+COUNTIF($W$1:W28,W28)-1)","v":""},0,28,"",{"$f":"IF(D28=1,RTD(\"cqg.rtd\", ,\"ContractData\",C28, \"Gamma\",, \"T\"),\"\")","v":""},{"$f":"IF(AB28=\"\",\"\",RANK(AB28,$AB$1:$AB$35,0)+COUNTIF($AB$1:AB28,AB28)-1)","v":""},0,28,"",{"$f":"IF(D28=1,RTD(\"cqg.rtd\", ,\"ContractData\",C28, \"Theta\",, \"T\"),\"\")","v":""},{"$f":"IF(AG28=\"\",\"\",RANK(AG28,$AG$1:$AG$35,0)+COUNTIF($AG$1:AG28,AG28)-1)","v":""},0,28,"",{"$f":"IF(D28=1,1/RTD(\"cqg.rtd\", ,\"ContractData\",C28, \"ExpirationDate\",, \"T\"),\"\")","v":""},{"$f":"IF(AL28=\"\",\"\",RANK(AL28,$AL$1:$AL$35,0)+COUNTIF($AL$1:AL28,AL28)-1)","v":""},0,28,"",{"$f":"IF(AL28=\"\",\"\",RANK(AL28,$AL$1:$AL$35,0)+COUNTIF($AL$1:AL28,AL28)-1)","v":""}]
[{"$f":"IF(OR(ISTEXT(RTD(\"cqg.rtd\",,\"OrderData\",\"\"&B29&\"\",\"\",\"OpenPosition\",\"\"&Display5!$D$3&\"\")),RTD(\"cqg.rtd\",,\"OrderData\",\"\"&B29&\"\",\"\",\"OpenPosition\",\"\"&Display5!$D$3&\"\")=0),A28+0.001,INT(A28)+1)","v":2.9000000000000019E-2},{"$f":"(LEFT(B30,SEARCH(Display5!$G$2,B30)+LEN(Display5!$G$2)+2))&RIGHT(B30,LEN(B30)-(SEARCH(Display5!$G$2,B30)+LEN(Display5!$G$2)+2))+Display5!$J$3","v":"C.US.EPU1724900"},0,0,29,{"$f":"IF(D29=1,RTD(\"cqg.rtd\", ,\"ContractData\",C29, \"ImpliedVolatility\",, \"T\"),\"\")","v":""},{"$f":"IF(F29=\"\",\"\",RANK(F29,$F$1:$F$35,0)+COUNTIF($F$1:F29,F29)-1)","v":""},0,29,0,{"$f":"IF(D29=1,RTD(\"cqg.rtd\", ,\"OrderData\",\"\"&C29&\"\", \"\", \"OpenTradeEquity\",\"\"&$B$449&\"\"),\"\")","v":""},{"$f":"IF(K29=\"\",\"\",RANK(K29,$K$1:$K$35,0))+COUNTIF($K$1:K29,K29)-1","v":{"$error":"#VALUE!"}},0,29,"",{"$f":"IF(D29=1,RTD(\"cqg.rtd\", ,\"ContractData\",C29, \"Delta\",, \"T\"),\"\")","v":""},{"$f":"IF(D29=1,RTD(\"cqg.rtd\", ,\"OrderData\", \"\"&O29&\"\", \"\", \"OpenPosition\",\"\"&$B$449&\"\"),\"\")","v":""},{"$f":"IF(D29=0,\"\",IF(LEFT(O29,1)=\"F\",Q29*100,Q29*RTD(\"cqg.rtd\",,\"ContractData\",O29,\"Delta\",,\"T\")))","v":""},{"$f":"IF(R29=\"\",\"\",RANK(R29,$R$1:$R$35,0)+COUNTIF($R$1:R29,R29)-1)","v":""},"",29,"",{"$f":"IF(D29=1,RTD(\"cqg.rtd\", ,\"ContractData\",C29, \"Vega\",, \"T\"),\"\")","v":""},{"$f":"IF(W29=\"\",\"\",RANK(W29,$W$1:$W$35,0)+COUNTIF($W$1:W29,W29)-1)","v":""},0,29,"",{"$f":"IF(D29=1,RTD(\"cqg.rtd\", ,\"ContractData\",C29, \"Gamma\",, \"T\"),\"\")","v":""},{"$f":"IF(AB29=\"\",\"\",RANK(AB29,$AB$1:$AB$35,0)+COUNTIF($AB$1:AB29,AB29)-1)","v":""},0,29,"",{"$f":"IF(D29=1,RTD(\"cqg.rtd\", ,\"ContractData\",C29, \"Theta\",, \"T\"),\"\")","v":""},{"$f":"IF(AG29=\"\",\"\",RANK(AG29,$AG$1:$AG$35,0)+COUNTIF($AG$1:AG29,AG29)-1)","v":""},0,29,"",{"$f":"IF(D29=1,1/RTD(\"cqg.rtd\", ,\"ContractData\",C29, \"ExpirationDate\",, \"T\"),\"\")","v":""},{"$f":"IF(AL29=\"\",\"\",RANK(AL29,$AL$1:$AL$35,0)+COUNTIF($AL$1:AL29,AL29)-1)","v":""},0,29,"",{"$f":"IF(AL29=\"\",\"\",RANK(AL29,$AL$1:$AL$35,0)+COUNTIF($AL$1:AL29,AL29)-1)","v":""}]
[{"$f":"IF(OR(ISTEXT(RTD(\"cqg.rtd\",,\"OrderData\",\"\"&B30&\"\",\"\",\"OpenPosition\",\"\"&Display5!$D$3&\"\")),RTD(\"cqg.rtd\",,\"OrderData\",\"\"&B30&\"\",\"\",\"OpenPosition\",\"\"&Display5!$D$3&\"\")=0),A29+0.001,INT(A29)+1)","v":3.000000000000002E-2},{"$f":"(LEFT(B31,SEARCH(Display5!$G$2,B31)+LEN(Display5!$G$2)+2))&RIGHT(B31,LEN(B31)-(SEARCH(Display5!$G$2,B31)+LEN(Display5!$G$2)+2))+Display5!$J$3","v":"C.US.EPU1724850"},0,0,30,{"$f":"IF(D30=1,RTD(\"cqg.rtd\", ,\"ContractData\",C30, \"ImpliedVolatility\",, \"T\"),\"\")","v":""},{"$f":"IF(F30=\"\",\"\",RANK(F30,$F$1:$F$35,0)+COUNTIF($F$1:F30,F30)-1)","v":""},0,30,0,{"$f":"IF(D30=1,RTD(\"cqg.rtd\", ,\"OrderData\",\"\"&C30&\"\", \"\", \"OpenTradeEquity\",\"\"&$B$449&\"\"),\"\")","v":""},{"$f":"IF(K30=\"\",\"\",RANK(K30,$K$1:$K$35,0))+COUNTIF($K$1:K30,K30)-1","v":{"$error":"#VALUE!"}},0,30,"",{"$f":"IF(D30=1,RTD(\"cqg.rtd\", ,\"ContractData\",C30, \"Delta\",, \"T\"),\"\")","v":""},{"$f":"IF(D30=1,RTD(\"cqg.rtd\", ,\"OrderData\", \"\"&O30&\"\", \"\", \"OpenPosition\",\"\"&$B$449&\"\"),\"\")","v":""},{"$f":"IF(D30=0,\"\",IF(LEFT(O30,1)=\"F\",Q30*100,Q30*RTD(\"cqg.rtd\",,\"ContractData\",O30,\"Delta\",,\"T\")))","v":""},{"$f":"IF(R30=\"\",\"\",RANK(R30,$R$1:$R$35,0)+COUNTIF($R$1:R30,R30)-1)","v":""},"",30,"",{"$f":"IF(D30=1,RTD(\"cqg.rtd\", ,\"ContractData\",C30, \"Vega\",, \"T\"),\"\")","v":""},{"$f":"IF(W30=\"\",\"\",RANK(W30,$W$1:$W$35,0)+COUNTIF($W$1:W30,W30)-1)","v":""},0,30,"",{"$f":"IF(D30=1,RTD(\"cqg.rtd\", ,\"ContractData\",C30, \"Gamma\",, \"T\"),\"\")","v":""},{"$f":"IF(AB30=\"\",\"\",RANK(AB30,$AB$1:$AB$35,0)+COUNTIF($AB$1:AB30,AB30)-1)","v":""},0,30,"",{"$f":"IF(D30=1,RTD(\"cqg.rtd\", ,\"ContractData\",C30, \"Theta\",, \"T\"),\"\")","v":""},{"$f":"IF(AG30=\"\",\"\",RANK(AG30,$AG$1:$AG$35,0)+COUNTIF($AG$1:AG30,AG30)-1)","v":""},0,30,"",{"$f":"IF(D30=1,1/RTD(\"cqg.rtd\", ,\"ContractData\",C30, \"ExpirationDate\",, \"T\"),\"\")","v":""},{"$f":"IF(AL30=\"\",\"\",RANK(AL30,$AL$1:$AL$35,0)+COUNTIF($AL$1:AL30,AL30)-1)","v":""},0,30,"",{"$f":"IF(AL30=\"\",\"\",RANK(AL30,$AL$1:$AL$35,0)+COUNTIF($AL$1:AL30,AL30)-1)","v":""}]
[{"$f":"IF(OR(ISTEXT(RTD(\"cqg.rtd\",,\"OrderData\",\"\"&B31&\"\",\"\",\"OpenPosition\",\"\"&Display5!$D$3&\"\")),RTD(\"cqg.rtd\",,\"OrderData\",\"\"&B31&\"\",\"\",\"OpenPosition\",\"\"&Display5!$D$3&\"\")=0),A30+0.001,INT(A30)+1)","v":3.1000000000000021E-2},{"$f":"(LEFT(B32,SEARCH(Display5!$G$2,B32)+LEN(Display5!$G$2)+2))&RIGHT(B32,LEN(B32)-(SEARCH(Display5!$G$2,B32)+LEN(Display5!$G$2)+2))+Display5!$J$3","v":"C.US.EPU1724800"},0,0,31,{"$f":"IF(D31=1,RTD(\"cqg.rtd\", ,\"ContractData\",C31, \"ImpliedVolatility\",, \"T\"),\"\")","v":""},{"$f":"IF(F31=\"\",\"\",RANK(F31,$F$1:$F$35,0)+COUNTIF($F$1:F31,F31)-1)","v":""},0,31,0,{"$f":"IF(D31=1,RTD(\"cqg.rtd\", ,\"OrderData\",\"\"&C31&\"\", \"\", \"OpenTradeEquity\",\"\"&$B$449&\"\"),\"\")","v":""},{"$f":"IF(K31=\"\",\"\",RANK(K31,$K$1:$K$35,0))+COUNTIF($K$1:K31,K31)-1","v":{"$error":"#VALUE!"}},0,31,"",{"$f":"IF(D31=1,RTD(\"cqg.rtd\", ,\"ContractData\",C31, \"Delta\",, \"T\"),\"\")","v":""},{"$f":"IF(D31=1,RTD(\"cqg.rtd\", ,\"OrderData\", \"\"&O31&\"\", \"\", \"OpenPosition\",\"\"&$B$449&\"\"),\"\")","v":""},{"$f":"IF(D31=0,\"\",IF(LEFT(O31,1)=\"F\",Q31*100,Q31*RTD(\"cqg.rtd\",,\"ContractData\",O31,\"Delta\",,\"T\")))","v":""},{"$f":"IF(R31=\"\",\"\",RANK(R31,$R$1:$R$35,0)+COUNTIF($R$1:R31,R31)-1)","v":""},"",31,"",{"$f":"IF(D31=1,RTD(\"cqg.rtd\", ,\"ContractData\",C31, \"Vega\",, \"T\"),\"\")","v":""},{"$f":"IF(W31=\"\",\"\",RANK(W31,$W$1:$W$35,0)+COUNTIF($W$1:W31,W31)-1)","v":""},0,31,"",{"$f":"IF(D31=1,RTD(\"cqg.rtd\", ,\"ContractData\",C31, \"Gamma\",, \"T\"),\"\")","v":""},{"$f":"IF(AB31=\"\",\"\",RANK(AB31,$AB$1:$AB$35,0)+COUNTIF($AB$1:AB31,AB31)-1)","v":""},0,31,"",{"$f":"IF(D31=1,RTD(\"cqg.rtd\", ,\"ContractData\",C31, \"Theta\",, \"T\"),\"\")","v":""},{"$f":"IF(AG31=\"\",\"\",RANK(AG31,$AG$1:$AG$35,0)+COUNTIF($AG$1:AG31,AG31)-1)","v":""},0,31,"",{"$f":"IF(D31=1,1/RTD(\"cqg.rtd\", ,\"ContractData\",C31, \"ExpirationDate\",, \"T\"),\"\")","v":""},{"$f":"IF(AL31=\"\",\"\",RANK(AL31,$AL$1:$AL$35,0)+COUNTIF($AL$1:AL31,AL31)-1)","v":""},0,31,"",{"$f":"IF(AL31=\"\",\"\",RANK(AL31,$AL$1:$AL$35,0)+COUNTIF($AL$1:AL31,AL31)-1)","v":""}]
[{"$f":"IF(OR(ISTEXT(RTD(\"cqg.rtd\",,\"OrderData\",\"\"&B32&\"\",\"\",\"OpenPosition\",\"\"&Display5!$D$3&\"\")),RTD(\"cqg.rtd\",,\"OrderData\",\"\"&B32&\"\",\"\",\"OpenPosition\",\"\"&Display5!$D$3&\"\")=0),A31+0.001,INT(A31)+1)","v":3.2000000000000021E-2},{"$f":"(LEFT(B33,SEARCH(Display5!$G$2,B33)+LEN(Display5!$G$2)+2))&RIGHT(B33,LEN(B33)-(SEARCH(Display5!$G$2,B33)+LEN(Display5!$G$2)+2))+Display5!$J$3","v":"C.US.EPU1724750"},0,0,32,{"$f":"IF(D32=1,RTD(\"cqg.rtd\", ,\"ContractData\",C32, \"ImpliedVolatility\",, \"T\"),\"\")","v":""},{"$f":"IF(F32=\"\",\"\",RANK(F32,$F$1:$F$35,0)+COUNTIF($F$1:F32,F32)-1)","v":""},0,32,0,{"$f":"IF(D32=1,RTD(\"cqg.rtd\", ,\"OrderData\",\"\"&C32&\"\", \"\", \"OpenTradeEquity\",\"\"&$B$449&\"\"),\"\")","v":""},{"$f":"IF(K32=\"\",\"\",RANK(K32,$K$1:$K$35,0))+COUNTIF($K$1:K32,K32)-1","v":{"$error":"#VALUE!"}},0,32,"",{"$f":"IF(D32=1,RTD(\"cqg.rtd\", ,\"ContractData\",C32, \"Delta\",, \"T\"),\"\")","v":""},{"$f":"IF(D32=1,RTD(\"cqg.rtd\", ,\"OrderData\", \"\"&O32&\"\", \"\", \"OpenPosition\",\"\"&$B$449&\"\"),\"\")","v":""},{"$f":"IF(D32=0,\"\",IF(LEFT(O32,1)=\"F\",Q32*100,Q32*RTD(\"cqg.rtd\",,\"ContractData\",O32,\"Delta\",,\"T\")))","v":""},{"$f":"IF(R32=\"\",\"\",RANK(R32,$R$1:$R$35,0)+COUNTIF($R$1:R32,R32)-1)","v":""},"",32,"",{"$f":"IF(D32=1,RTD(\"cqg.rtd\", ,\"ContractData\",C32, \"Vega\",, \"T\"),\"\")","v":""},{"$f":"IF(W32=\"\",\"\",RANK(W32,$W$1:$W$35,0)+COUNTIF($W$1:W32,W32)-1)","v":""},0,32,"",{"$f":"IF(D32=1,RTD(\"cqg.rtd\", ,\"ContractData\",C32, \"Gamma\",, \"T\"),\"\")","v":""},{"$f":"IF(AB32=\"\",\"\",RANK(AB32,$AB$1:$AB$35,0)+COUNTIF($AB$1:AB32,AB32)-1)","v":""},0,32,"",{"$f":"IF(D32=1,RTD(\"cqg.rtd\", ,\"ContractData\",C32, \"Theta\",, \"T\"),\"\")","v":""},{"$f":"IF(AG32=\"\",\"\",RANK(AG32,$AG$1:$AG$35,0)+COUNTIF($AG$1:AG32,AG32)-1)","v":""},0,32,"",{"$f":"IF(D32=1,1/RTD(\"cqg.rtd\", ,\"ContractData\",C32, \"ExpirationDate\",, \"T\"),\"\")","v":""},{"$f":"IF(AL32=\"\",\"\",RANK(AL32,$AL$1:$AL$35,0)+COUNTIF($AL$1:AL32,AL32)-1)","v":""},0,32,"",{"$f":"IF(AL32=\"\",\"\",RANK(AL32,$AL$1:$AL$35,0)+COUNTIF($AL$1:AL32,AL32)-1)","v":""}]
[{"$f":"IF(OR(ISTEXT(RTD(\"cqg.rtd\",,\"OrderData\",\"\"&B33&\"\",\"\",\"OpenPosition\",\"\"&Display5!$D$3&\"\")),RTD(\"cqg.rtd\",,\"OrderData\",\"\"&B33&\"\",\"\",\"OpenPosition\",\"\"&Display5!$D$3&\"\")=0),A32+0.001,INT(A32)+1)","v":3.3000000000000022E-2},{"$f":"(LEFT(B34,SEARCH(Display5!$G$2,B34)+LEN(Display5!$G$2)+2))&RIGHT(B34,LEN(B34)-(SEARCH(Display5!$G$2,B34)+LEN(Display5!$G$2)+2))+Display5!$J$3","v":"C.US.EPU1724700"},0,0,33,{"$f":"IF(D33=1,RTD(\"cqg.rtd\", ,\"ContractData\",C33, \"ImpliedVolatility\",, \"T\"),\"\")","v":""},{"$f":"IF(F33=\"\",\"\",RANK(F33,$F$1:$F$35,0)+COUNTIF($F$1:F33,F33)-1)","v":""},0,33,0,{"$f":"IF(D33=1,RTD(\"cqg.rtd\", ,\"OrderData\",\"\"&C33&\"\", \"\", \"OpenTradeEquity\",\"\"&$B$449&\"\"),\"\")","v":""},{"$f":"IF(K33=\"\",\"\",RANK(K33,$K$1:$K$35,0))+COUNTIF($K$1:K33,K33)-1","v":{"$error":"#VALUE!"}},0,33,"",{"$f":"IF(D33=1,RTD(\"cqg.rtd\", ,\"ContractData\",C33, \"Delta\",, \"T\"),\"\")","v":""},{"$f":"IF(D33=1,RTD(\"cqg.rtd\", ,\"OrderData\", \"\"&O33&\"\", \"\", \"OpenPosition\",\"\"&$B$449&\"\"),\"\")","v":""},{"$f":"IF(D33=0,\"\",IF(LEFT(O33,1)=\"F\",Q33*100,Q33*RTD(\"cqg.rtd\",,\"ContractData\",O33,\"Delta\",,\"T\")))","v":""},{"$f":"IF(R33=\"\",\"\",RANK(R33,$R$1:$R$35,0)+COUNTIF($R$1:R33,R33)-1)","v":""},"",33,"",{"$f":"IF(D33=1,RTD(\"cqg.rtd\", ,\"ContractData\",C33, \"Vega\",, \"T\"),\"\")","v":""},{"$f":"IF(W33=\"\",\"\",RANK(W33,$W$1:$W$35,0)+COUNTIF($W$1:W33,W33)-1)","v":""},0,33,"",{"$f":"IF(D33=1,RTD(\"cqg.rtd\", ,\"ContractData\",C33, \"Gamma\",, \"T\"),\"\")","v":""},{"$f":"IF(AB33=\"\",\"\",RANK(AB33,$AB$1:$AB$35,0)+COUNTIF($AB$1:AB33,AB33)-1)","v":""},0,33,"",{"$f":"IF(D33=1,RTD(\"cqg.rtd\", ,\"ContractData\",C33, \"Theta\",, \"T\"),\"\")","v":""},{"$f":"IF(AG33=\"\",\"\",RANK(AG33,$AG$1:$AG$35,0)+COUNTIF($AG$1:AG33,AG33)-1)","v":""},0,33,"",{"$f":"IF(D33=1,1/RTD(\"cqg.rtd\", ,\"ContractData\",C33, \"ExpirationDate\",, \"T\"),\"\")","v":""},{"$f":"IF(AL33=\"\",\"\",RANK(AL33,$AL$1:$AL$35,0)+COUNTIF($AL$1:AL33,AL33)-1)","v":""},0,33,"",{"$f":"IF(AL33=\"\",\"\",RANK(AL33,$AL$1:$AL$35,0)+COUNTIF($AL$1:AL33,AL33)-1)","v":""}]
[{"$f":"IF(OR(ISTEXT(RTD(\"cqg.rtd\",,\"OrderData\",\"\"&B34&\"\",\"\",\"OpenPosition\",\"\"&Display5!$D$3&\"\")),RTD(\"cqg.rtd\",,\"OrderData\",\"\"&B34&\"\",\"\",\"OpenPosition\",\"\"&Display5!$D$3&\"\")=0),A33+0.001,INT(A33)+1)","v":3.4000000000000023E-2},{"$f":"(LEFT(B35,SEARCH(Display5!$G$2,B35)+LEN(Display5!$G$2)+2))&RIGHT(B35,LEN(B35)-(SEARCH(Display5!$G$2,B35)+LEN(Display5!$G$2)+2))+Display5!$J$3","v":"C.US.EPU1724650"},0,0,34,{"$f":"IF(D34=1,RTD(\"cqg.rtd\", ,\"ContractData\",C34, \"ImpliedVolatility\",, \"T\"),\"\")","v":""},{"$f":"IF(F34=\"\",\"\",RANK(F34,$F$1:$F$35,0)+COUNTIF($F$1:F34,F34)-1)","v":""},0,34,0,{"$f":"IF(D34=1,RTD(\"cqg.rtd\", ,\"OrderData\",\"\"&C34&\"\", \"\", \"OpenTradeEquity\",\"\"&$B$449&\"\"),\"\")","v":""},{"$f":"IF(K34=\"\",\"\",RANK(K34,$K$1:$K$35,0))+COUNTIF($K$1:K34,K34)-1","v":{"$error":"#VALUE!"}},0,34,"",{"$f":"IF(D34=1,RTD(\"cqg.rtd\", ,\"ContractData\",C34, \"Delta\",, \"T\"),\"\")","v":""},{"$f":"IF(D34=1,RTD(\"cqg.rtd\", ,\"OrderData\", \"\"&O34&\"\", \"\", \"OpenPosition\",\"\"&$B$449&\"\"),\"\")","v":""},{"$f":"IF(D34=0,\"\",IF(LEFT(O34,1)=\"F\",Q34*100,Q34*RTD(\"cqg.rtd\",,\"ContractData\",O34,\"Delta\",,\"T\")))","v":""},{"$f":"IF(R34=\"\",\"\",RANK(R34,$R$1:$R$35,0)+COUNTIF($R$1:R34,R34)-1)","v":""},"",34,"",{"$f":"IF(D34=1,RTD(\"cqg.rtd\", ,\"ContractData\",C34, \"Vega\",, \"T\"),\"\")","v":""},{"$f":"IF(W34=\"\",\"\",RANK(W34,$W$1:$W$35,0)+COUNTIF($W$1:W34,W34)-1)","v":""},0,34,"",{"$f":"IF(D34=1,RTD(\"cqg.rtd\", ,\"ContractData\",C34, \"Gamma\",, \"T\"),\"\")","v":""},{"$f":"IF(AB34=\"\",\"\",RANK(AB34,$AB$1:$AB$35,0)+COUNTIF($AB$1:AB34,AB34)-1)","v":""},0,34,"",{"$f":"IF(D34=1,RTD(\"cqg.rtd\", ,\"ContractData\",C34, \"Theta\",, \"T\"),\"\")","v":""},{"$f":"IF(AG34=\"\",\"\",RANK(AG34,$AG$1:$AG$35,0)+COUNTIF($AG$1:AG34,AG34)-1)","v":""},0,34,"",{"$f":"IF(D34=1,1/RTD(\"cqg.rtd\", ,\"ContractData\",C34, \"ExpirationDate\",, \"T\"),\"\")","v":""},{"$f":"IF(AL34=\"\",\"\",RANK(AL34,$AL$1:$AL$35,0)+COUNTIF($AL$1:AL34,AL34)-1)","v":""},0,34,"",{"$f":"IF(AL34=\"\",\"\",RANK(AL34,$AL$1:$AL$35,0)+COUNTIF($AL$1:AL34,AL34)-1)","v":""}]
[{"$f":"IF(OR(ISTEXT(RTD(\"cqg.rtd\",,\"OrderData\",\"\"&B35&\"\",\"\",\"OpenPosition\",\"\"&Display5!$D$3&\"\")),RTD(\"cqg.rtd\",,\"OrderData\",\"\"&B35&\"\",\"\",\"OpenPosition\",\"\"&Display5!$D$3&\"\")=0),A34+0.001,INT(A34)+1)","v":3.5000000000000024E-2},{"$f":"(LEFT(B36,SEARCH(Display5!$G$2,B36)+LEN(Display5!$G$2)+2))&RIGHT(B36,LEN(B36)-(SEARCH(Display5!$G$2,B36)+LEN(Display5!$G$2)+2))+Display5!$J$3","v":"C.US.EPU1724600"},{"$f":"IF(D35=1,VLOOKUP(E35,$A$1:$B$448,2),0)","v":0},0,35,{"$f":"IF(D35=1,RTD(\"cqg.rtd\", ,\"ContractData\",C35, \"ImpliedVolatility\",, \"T\"),\"\")","v":""},{"$f":"IF(F35=\"\",\"\",RANK(F35,$F$1:$F$35,0)+COUNTIF($F$1:F35,F35)-1)","v":""},0,35,0,{"$f":"IF(D35=1,RTD(\"cqg.rtd\", ,\"OrderData\",\"\"&C35&\"\", \"\", \"OpenTradeEquity\",\"\"&$B$449&\"\"),\"\")","v":""},{"$f":"IF(K35=\"\",\"\",RANK(K35,$K$1:$K$35,0))+COUNTIF($K$1:K35,K35)-1","v":{"$error":"#VALUE!"}},0,35,"",{"$f":"IF(D35=1,RTD(\"cqg.rtd\", ,\"ContractData\",C35, \"Delta\",, \"T\"),\"\")","v":""},{"$f":"IF(D35=1,RTD(\"cqg.rtd\", ,\"OrderData\", \"\"&O35&\"\", \"\", \"OpenPosition\",\"\"&$B$449&\"\"),\"\")","v":""},{"$f":"IF(D35=0,\"\",IF(LEFT(O35,1)=\"F\",Q35*100,Q35*RTD(\"cqg.rtd\",,\"ContractData\",O35,\"Delta\",,\"T\")))","v":""},{"$f":"IF(R35=\"\",\"\",RANK(R35,$R$1:$R$35,0)+COUNTIF($R$1:R35,R35)-1)","v":""},"",35,"",{"$f":"IF(D35=1,RTD(\"cqg.rtd\", ,\"ContractData\",C35, \"Vega\",, \"T\"),\"\")","v":""},{"$f":"IF(W35=\"\",\"\",RANK(W35,$W$1:$W$35,0)+COUNTIF($W$1:W35,W35)-1)","v":""},0,35,"",{"$f":"IF(D35=1,RTD(\"cqg.rtd\", ,\"ContractData\",C35, \"Gamma\",, \"T\"),\"\")","v":""},{"$f":"IF(AB35=\"\",\"\",RANK(AB35,$AB$1:$AB$35,0)+COUNTIF($AB$1:AB35,AB35)-1)","v":""},0,35,"",{"$f":"IF(D35=1,RTD(\"cqg.rtd\", ,\"ContractData\",C35, \"Theta\",, \"T\"),\"\")","v":""},{"$f":"IF(AG35=\"\",\"\",RANK(AG35,$AG$1:$AG$35,0)+COUNTIF($AG$1:AG35,AG35)-1)","v":""},0,35,"",{"$f":"IF(D35=1,1/RTD(\"cqg.rtd\", ,\"ContractData\",C35, \"ExpirationDate\",, \"T\"),\"\")","v":""},{"$f":"IF(AL35=\"\",\"\",RANK(AL35,$AL$1:$AL$35,0)+COUNTIF($AL$1:AL35,AL35)-1)","v":""},0,35,"",{"$f":"IF(AL35=\"\",\"\",RANK(AL35,$AL$1:$AL$35,0)+COUNTIF($AL$1:AL35,AL35)-1)","v":""}]
[{"$f":"IF(OR(ISTEXT(RTD(\"cqg.rtd\",,\"OrderData\",\"\"&B36&\"\",\"\",\"OpenPosition\",\"\"&Display5!$D$3&\"\")),RTD(\"cqg.rtd\",,\"OrderData\",\"\"&B36&\"\",\"\",\"OpenPosition\",\"\"&Display5!$D$3&\"\")=0),A35+0.001,INT(A35)+1)","v":3.6000000000000025E-2},{"$f":"(LEFT(B37,SEARCH(Display5!$G$2,B37)+LEN(Display5!$G$2)+2))&RIGHT(B37,LEN(B37)-(SEARCH(Display5!$G$2,B37)+LEN(Display5!$G$2)+2))+Display5!$J$3","v":"C.US.EPU1724550"}]
[{"$f":"IF(OR(ISTEXT(RTD(\"cqg.rtd\",,\"OrderData\",\"\"&B37&\"\",\"\",\"OpenPosition\",\"\"&Display5!$D$3&\"\")),RTD(\"cqg.rtd\",,\"OrderData\",\"\"&B37&\"\",\"\",\"OpenPosition\",\"\"&Display5!$D$3&\"\")=0),A36+0.001,INT(A36)+1)","v":3.7000000000000026E-2},{"$f":"(LEFT(B38,SEARCH(Display5!$G$2,B38)+LEN(Display5!$G$2)+2))&RIGHT(B38,LEN(B38)-(SEARCH(Display5!$G$2,B38)+LEN(Display5!$G$2)+2))+Display5!$J$3","v":"C.US.EPU1724500"}]
[{"$f":"IF(OR(ISTEXT(RTD(\"cqg.rtd\",,\"OrderData\",\"\"&B38&\"\",\"\",\"OpenPosition\",\"\"&Display5!$D$3&\"\")),RTD(\"cqg.rtd\",,\"OrderData\",\"\"&B38&\"\",\"\",\"OpenPosition\",\"\"&Display5!$D$3&\"\")=0),A37+0.001,INT(A37)+1)","v":3.8000000000000027E-2},{"$f":"(LEFT(B39,SEARCH(Display5!$G$2,B39)+LEN(Display5!$G$2)+2))&RIGHT(B39,LEN(B39)-(SEARCH(Display5!$G$2,B39)+LEN(Display5!$G$2)+2))+Display5!$J$3","v":"C.US.EPU1724450"}]
[{"$f":"IF(OR(ISTEXT(RTD(\"cqg.rtd\",,\"OrderData\",\"\"&B39&\"\",\"\",\"OpenPosition\",\"\"&Display5!$D$3&\"\")),RTD(\"cqg.rtd\",,\"OrderData\",\"\"&B39&\"\",\"\",\"OpenPosition\",\"\"&Display5!$D$3&\"\")=0),A38+0.001,INT(A38)+1)","v":3.9000000000000028E-2},{"$f":"(LEFT(B40,SEARCH(Display5!$G$2,B40)+LEN(Display5!$G$2)+2))&RIGHT(B40,LEN(B40)-(SEARCH(Display5!$G$2,B40)+LEN(Display5!$G$2)+2))+Display5!$J$3","v":"C.US.EPU1724400"}]
[{"$f":"IF(OR(ISTEXT(RTD(\"cqg.rtd\",,\"OrderData\",\"\"&B40&\"\",\"\",\"OpenPosition\",\"\"&Display5!$D$3&\"\")),RTD(\"cqg.rtd\",,\"OrderData\",\"\"&B40&\"\",\"\",\"OpenPosition\",\"\"&Display5!$D$3&\"\")=0),A39+0.001,INT(A39)+1)","v":4.0000000000000029E-2},{"$f":"RTD(\"cqg.rtd\", ,\"ContractData\", \"C.US.\"&Display5!$G$2&Display5!$G$3&\"\", \"Symbol\",, \"T\")","v":"C.US.EPU1724350"}]
[{"$f":"IF(OR(ISTEXT(RTD(\"cqg.rtd\",,\"OrderData\",\"\"&B41&\"\",\"\",\"OpenPosition\",\"\"&Display5!$D$3&\"\")),RTD(\"cqg.rtd\",,\"OrderData\",\"\"&B41&\"\",\"\",\"OpenPosition\",\"\"&Display5!$D$3&\"\")=0),A40+0.001,INT(A40)+1)","v":4.1000000000000029E-2},{"$f":"(LEFT(B40,SEARCH(Display5!$G$2,B40)+LEN(Display5!$G$2)+2))&RIGHT(B40,LEN(B40)-(SEARCH(Display5!$G$2,B40)+LEN(Display5!$G$2)+2))-Display5!$J$3","v":"C.US.EPU1724300"}]
[{"$f":"IF(OR(ISTEXT(RTD(\"cqg.rtd\",,\"OrderData\",\"\"&B42&\"\",\"\",\"OpenPosition\",\"\"&Display5!$D$3&\"\")),RTD(\"cqg.rtd\",,\"OrderData\",\"\"&B42&\"\",\"\",\"OpenPosition\",\"\"&Display5!$D$3&\"\")=0),A41+0.001,INT(A41)+1)","v":4.200000000000003E-2},{"$f":"(LEFT(B41,SEARCH(Display5!$G$2,B41)+LEN(Display5!$G$2)+2))&RIGHT(B41,LEN(B41)-(SEARCH(Display5!$G$2,B41)+LEN(Display5!$G$2)+2))-Display5!$J$3","v":"C.US.EPU1724250"}]
[{"$f":"IF(OR(ISTEXT(RTD(\"cqg.rtd\",,\"OrderData\",\"\"&B43&\"\",\"\",\"OpenPosition\",\"\"&Display5!$D$3&\"\")),RTD(\"cqg.rtd\",,\"OrderData\",\"\"&B43&\"\",\"\",\"OpenPosition\",\"\"&Display5!$D$3&\"\")=0),A42+0.001,INT(A42)+1)","v":4.3000000000000031E-2},{"$f":"(LEFT(B42,SEARCH(Display5!$G$2,B42)+LEN(Display5!$G$2)+2))&RIGHT(B42,LEN(B42)-(SEARCH(Display5!$G$2,B42)+LEN(Display5!$G$2)+2))-Display5!$J$3","v":"C.US.EPU1724200"}]
[{"$f":"IF(OR(ISTEXT(RTD(\"cqg.rtd\",,\"OrderData\",\"\"&B44&\"\",\"\",\"OpenPosition\",\"\"&Display5!$D$3&\"\")),RTD(\"cqg.rtd\",,\"OrderData\",\"\"&B44&\"\",\"\",\"OpenPosition\",\"\"&Display5!$D$3&\"\")=0),A43+0.001,INT(A43)+1)","v":4.4000000000000032E-2},{"$f":"(LEFT(B43,SEARCH(Display5!$G$2,B43)+LEN(Display5!$G$2)+2))&RIGHT(B43,LEN(B43)-(SEARCH(Display5!$G$2,B43)+LEN(Display5!$G$2)+2))-Display5!$J$3","v":"C.US.EPU1724150"}]
[{"$f":"IF(OR(ISTEXT(RTD(\"cqg.rtd\",,\"OrderData\",\"\"&B45&\"\",\"\",\"OpenPosition\",\"\"&Display5!$D$3&\"\")),RTD(\"cqg.rtd\",,\"OrderData\",\"\"&B45&\"\",\"\",\"OpenPosition\",\"\"&Display5!$D$3&\"\")=0),A44+0.001,INT(A44)+1)","v":4.5000000000000033E-2},{"$f":"(LEFT(B44,SEARCH(Display5!$G$2,B44)+LEN(Display5!$G$2)+2))&RIGHT(B44,LEN(B44)-(SEARCH(Display5!$G$2,B44)+LEN(Display5!$G$2)+2))-Display5!$J$3","v":"C.US.EPU1724100"}]
[{"$f":"IF(OR(ISTEXT(RTD(\"cqg.rtd\",,\"OrderData\",\"\"&B46&\"\",\"\",\"OpenPosition\",\"\"&Display5!$D$3&\"\")),RTD(\"cqg.rtd\",,\"OrderData\",\"\"&B46&\"\",\"\",\"OpenPosition\",\"\"&Display5!$D$3&\"\")=0),A45+0.001,INT(A45)+1)","v":4.6000000000000034E-2},{"$f":"(LEFT(B45,SEARCH(Display5!$G$2,B45)+LEN(Display5!$G$2)+2))&RIGHT(B45,LEN(B45)-(SEARCH(Display5!$G$2,B45)+LEN(Display5!$G$2)+2))-Display5!$J$3","v":"C.US.EPU1724050"}]
[{"$f":"IF(OR(ISTEXT(RTD(\"cqg.rtd\",,\"OrderData\",\"\"&B47&\"\",\"\",\"OpenPosition\",\"\"&Display5!$D$3&\"\")),RTD(\"cqg.rtd\",,\"OrderData\",\"\"&B47&\"\",\"\",\"OpenPosition\",\"\"&Display5!$D$3&\"\")=0),A46+0.001,INT(A46)+1)","v":4.7000000000000035E-2},{"$f":"(LEFT(B46,SEARCH(Display5!$G$2,B46)+LEN(Display5!$G$2)+2))&RIGHT(B46,LEN(B46)-(SEARCH(Display5!$G$2,B46)+LEN(Display5!$G$2)+2))-Display5!$J$3","v":"C.US.EPU1724000"}]
[{"$f":"IF(OR(ISTEXT(RTD(\"cqg.rtd\",,\"OrderData\",\"\"&B48&\"\",\"\",\"OpenPosition\",\"\"&Display5!$D$3&\"\")),RTD(\"cqg.rtd\",,\"OrderData\",\"\"&B48&\"\",\"\",\"OpenPosition\",\"\"&Display5!$D$3&\"\")=0),A47+0.001,INT(A47)+1)","v":4.8000000000000036E-2},{"$f":"(LEFT(B47,SEARCH(Display5!$G$2,B47)+LEN(Display5!$G$2)+2))&RIGHT(B47,LEN(B47)-(SEARCH(Display5!$G$2,B47)+LEN(Display5!$G$2)+2))-Display5!$J$3","v":"C.US.EPU1723950"}]
[{"$f":"IF(OR(ISTEXT(RTD(\"cqg.rtd\",,\"OrderData\",\"\"&B49&\"\",\"\",\"OpenPosition\",\"\"&Display5!$D$3&\"\")),RTD(\"cqg.rtd\",,\"OrderData\",\"\"&B49&\"\",\"\",\"OpenPosition\",\"\"&Display5!$D$3&\"\")=0),A48+0.001,INT(A48)+1)","v":4.9000000000000037E-2},{"$f":"(LEFT(B48,SEARCH(Display5!$G$2,B48)+LEN(Display5!$G$2)+2))&RIGHT(B48,LEN(B48)-(SEARCH(Display5!$G$2,B48)+LEN(Display5!$G$2)+2))-Display5!$J$3","v":"C.US.EPU1723900"}]
[{"$f":"IF(OR(ISTEXT(RTD(\"cqg.rtd\",,\"OrderData\",\"\"&B50&\"\",\"\",\"OpenPosition\",\"\"&Display5!$D$3&\"\")),RTD(\"cqg.rtd\",,\"OrderData\",\"\"&B50&\"\",\"\",\"OpenPosition\",\"\"&Display5!$D$3&\"\")=0),A49+0.001,INT(A49)+1)","v":5.0000000000000037E-2},{"$f":"(LEFT(B49,SEARCH(Display5!$G$2,B49)+LEN(Display5!$G$2)+2))&RIGHT(B49,LEN(B49)-(SEARCH(Display5!$G$2,B49)+LEN(Display5!$G$2)+2))-Display5!$J$3","v":"C.US.EPU1723850"}]
[{"$f":"IF(OR(ISTEXT(RTD(\"cqg.rtd\",,\"OrderData\",\"\"&B51&\"\",\"\",\"OpenPosition\",\"\"&Display5!$D$3&\"\")),RTD(\"cqg.rtd\",,\"OrderData\",\"\"&B51&\"\",\"\",\"OpenPosition\",\"\"&Display5!$D$3&\"\")=0),A50+0.001,INT(A50)+1)","v":5.1000000000000038E-2},{"$f":"(LEFT(B50,SEARCH(Display5!$G$2,B50)+LEN(Display5!$G$2)+2))&RIGHT(B50,LEN(B50)-(SEARCH(Display5!$G$2,B50)+LEN(Display5!$G$2)+2))-Display5!$J$3","v":"C.US.EPU1723800"}]
[{"$f":"IF(OR(ISTEXT(RTD(\"cqg.rtd\",,\"OrderData\",\"\"&B52&\"\",\"\",\"OpenPosition\",\"\"&Display5!$D$3&\"\")),RTD(\"cqg.rtd\",,\"OrderData\",\"\"&B52&\"\",\"\",\"OpenPosition\",\"\"&Display5!$D$3&\"\")=0),A51+0.001,INT(A51)+1)","v":5.2000000000000039E-2},{"$f":"(LEFT(B51,SEARCH(Display5!$G$2,B51)+LEN(Display5!$G$2)+2))&RIGHT(B51,LEN(B51)-(SEARCH(Display5!$G$2,B51)+LEN(Display5!$G$2)+2))-Display5!$J$3","v":"C.US.EPU1723750"}]
[{"$f":"IF(OR(ISTEXT(RTD(\"cqg.rtd\",,\"OrderData\",\"\"&B53&\"\",\"\",\"OpenPosition\",\"\"&Display5!$D$3&\"\")),RTD(\"cqg.rtd\",,\"OrderData\",\"\"&B53&\"\",\"\",\"OpenPosition\",\"\"&Display5!$D$3&\"\")=0),A52+0.001,INT(A52)+1)","v":5.300000000000004E-2},{"$f":"(LEFT(B52,SEARCH(Display5!$G$2,B52)+LEN(Display5!$G$2)+2))&RIGHT(B52,LEN(B52)-(SEARCH(Display5!$G$2,B52)+LEN(Display5!$G$2)+2))-Display5!$J$3","v":"C.US.EPU1723700"}]
[{"$f":"IF(OR(ISTEXT(RTD(\"cqg.rtd\",,\"OrderData\",\"\"&B54&\"\",\"\",\"OpenPosition\",\"\"&Display5!$D$3&\"\")),RTD(\"cqg.rtd\",,\"OrderData\",\"\"&B54&\"\",\"\",\"OpenPosition\",\"\"&Display5!$D$3&\"\")=0),A53+0.001,INT(A53)+1)","v":5.4000000000000041E-2},{"$f":"(LEFT(B53,SEARCH(Display5!$G$2,B53)+LEN(Display5!$G$2)+2))&RIGHT(B53,LEN(B53)-(SEARCH(Display5!$G$2,B53)+LEN(Display5!$G$2)+2))-Display5!$J$3","v":"C.US.EPU1723650"}]
[{"$f":"IF(OR(ISTEXT(RTD(\"cqg.rtd\",,\"OrderData\",\"\"&B55&\"\",\"\",\"OpenPosition\",\"\"&Display5!$D$3&\"\")),RTD(\"cqg.rtd\",,\"OrderData\",\"\"&B55&\"\",\"\",\"OpenPosition\",\"\"&Display5!$D$3&\"\")=0),A54+0.001,INT(A54)+1)","v":5.5000000000000042E-2},{"$f":"(LEFT(B54,SEARCH(Display5!$G$2,B54)+LEN(Display5!$G$2)+2))&RIGHT(B54,LEN(B54)-(SEARCH(Display5!$G$2,B54)+LEN(Display5!$G$2)+2))-Display5!$J$3","v":"C.US.EPU1723600"}]
[{"$f":"IF(OR(ISTEXT(RTD(\"cqg.rtd\",,\"OrderData\",\"\"&B56&\"\",\"\",\"OpenPosition\",\"\"&Display5!$D$3&\"\")),RTD(\"cqg.rtd\",,\"OrderData\",\"\"&B56&\"\",\"\",\"OpenPosition\",\"\"&Display5!$D$3&\"\")=0),A55+0.001,INT(A55)+1)","v":5.6000000000000043E-2},{"$f":"(LEFT(B55,SEARCH(Display5!$G$2,B55)+LEN(Display5!$G$2)+2))&RIGHT(B55,LEN(B55)-(SEARCH(Display5!$G$2,B55)+LEN(Display5!$G$2)+2))-Display5!$J$3","v":"C.US.EPU1723550"}]
[{"$f":"IF(OR(ISTEXT(RTD(\"cqg.rtd\",,\"OrderData\",\"\"&B57&\"\",\"\",\"OpenPosition\",\"\"&Display5!$D$3&\"\")),RTD(\"cqg.rtd\",,\"OrderData\",\"\"&B57&\"\",\"\",\"OpenPosition\",\"\"&Display5!$D$3&\"\")=0),A56+0.001,INT(A56)+1)","v":5.7000000000000044E-2},{"$f":"(LEFT(B56,SEARCH(Display5!$G$2,B56)+LEN(Display5!$G$2)+2))&RIGHT(B56,LEN(B56)-(SEARCH(Display5!$G$2,B56)+LEN(Display5!$G$2)+2))-Display5!$J$3","v":"C.US.EPU1723500"}]
[{"$f":"IF(OR(ISTEXT(RTD(\"cqg.rtd\",,\"OrderData\",\"\"&B58&\"\",\"\",\"OpenPosition\",\"\"&Display5!$D$3&\"\")),RTD(\"cqg.rtd\",,\"OrderData\",\"\"&B58&\"\",\"\",\"OpenPosition\",\"\"&Display5!$D$3&\"\")=0),A57+0.001,INT(A57)+1)","v":5.8000000000000045E-2},{"$f":"(LEFT(B57,SEARCH(Display5!$G$2,B57)+LEN(Display5!$G$2)+2))&RIGHT(B57,LEN(B57)-(SEARCH(Display5!$G$2,B57)+LEN(Display5!$G$2)+2))-Display5!$J$3","v":"C.US.EPU1723450"}]
[{"$f":"IF(OR(ISTEXT(RTD(\"cqg.rtd\",,\"OrderData\",\"\"&B59&\"\",\"\",\"OpenPosition\",\"\"&Display5!$D$3&\"\")),RTD(\"cqg.rtd\",,\"OrderData\",\"\"&B59&\"\",\"\",\"OpenPosition\",\"\"&Display5!$D$3&\"\")=0),A58+0.001,INT(A58)+1)","v":5.9000000000000045E-2},{"$f":"(LEFT(B58,SEARCH(Display5!$G$2,B58)+LEN(Display5!$G$2)+2))&RIGHT(B58,LEN(B58)-(SEARCH(Display5!$G$2,B58)+LEN(Display5!$G$2)+2))-Display5!$J$3","v":"C.US.EPU1723400"}]
[{"$f":"IF(OR(ISTEXT(RTD(\"cqg.rtd\",,\"OrderData\",\"\"&B60&\"\",\"\",\"OpenPosition\",\"\"&Display5!$D$3&\"\")),RTD(\"cqg.rtd\",,\"OrderData\",\"\"&B60&\"\",\"\",\"OpenPosition\",\"\"&Display5!$D$3&\"\")=0),A59+0.001,INT(A59)+1)","v":6.0000000000000046E-2},{"$f":"(LEFT(B59,SEARCH(Display5!$G$2,B59)+LEN(Display5!$G$2)+2))&RIGHT(B59,LEN(B59)-(SEARCH(Display5!$G$2,B59)+LEN(Display5!$G$2)+2))-Display5!$J$3","v":"C.US.EPU1723350"}]
[{"$f":"IF(OR(ISTEXT(RTD(\"cqg.rtd\",,\"OrderData\",\"\"&B61&\"\",\"\",\"OpenPosition\",\"\"&Display5!$D$3&\"\")),RTD(\"cqg.rtd\",,\"OrderData\",\"\"&B61&\"\",\"\",\"OpenPosition\",\"\"&Display5!$D$3&\"\")=0),A60+0.001,INT(A60)+1)","v":6.1000000000000047E-2},{"$f":"(LEFT(B60,SEARCH(Display5!$G$2,B60)+LEN(Display5!$G$2)+2))&RIGHT(B60,LEN(B60)-(SEARCH(Display5!$G$2,B60)+LEN(Display5!$G$2)+2))-Display5!$J$3","v":"C.US.EPU1723300"}]
[{"$f":"IF(OR(ISTEXT(RTD(\"cqg.rtd\",,\"OrderData\",\"\"&B62&\"\",\"\",\"OpenPosition\",\"\"&Display5!$D$3&\"\")),RTD(\"cqg.rtd\",,\"OrderData\",\"\"&B62&\"\",\"\",\"OpenPosition\",\"\"&Display5!$D$3&\"\")=0),A61+0.001,INT(A61)+1)","v":6.2000000000000048E-2},{"$f":"(LEFT(B61,SEARCH(Display5!$G$2,B61)+LEN(Display5!$G$2)+2))&RIGHT(B61,LEN(B61)-(SEARCH(Display5!$G$2,B61)+LEN(Display5!$G$2)+2))-Display5!$J$3","v":"C.US.EPU1723250"}]
[{"$f":"IF(OR(ISTEXT(RTD(\"cqg.rtd\",,\"OrderData\",\"\"&B63&\"\",\"\",\"OpenPosition\",\"\"&Display5!$D$3&\"\")),RTD(\"cqg.rtd\",,\"OrderData\",\"\"&B63&\"\",\"\",\"OpenPosition\",\"\"&Display5!$D$3&\"\")=0),A62+0.001,INT(A62)+1)","v":6.3000000000000042E-2},{"$f":"(LEFT(B62,SEARCH(Display5!$G$2,B62)+LEN(Display5!$G$2)+2))&RIGHT(B62,LEN(B62)-(SEARCH(Display5!$G$2,B62)+LEN(Display5!$G$2)+2))-Display5!$J$3","v":"C.US.EPU1723200"}]
[{"$f":"IF(OR(ISTEXT(RTD(\"cqg.rtd\",,\"OrderData\",\"\"&B64&\"\",\"\",\"OpenPosition\",\"\"&Display5!$D$3&\"\")),RTD(\"cqg.rtd\",,\"OrderData\",\"\"&B64&\"\",\"\",\"OpenPosition\",\"\"&Display5!$D$3&\"\")=0),A63+0.001,INT(A63)+1)","v":6.4000000000000043E-2},{"$f":"(LEFT(B63,SEARCH(Display5!$G$2,B63)+LEN(Display5!$G$2)+2))&RIGHT(B63,LEN(B63)-(SEARCH(Display5!$G$2,B63)+LEN(Display5!$G$2)+2))-Display5!$J$3","v":"C.US.EPU1723150"}]
[{"$f":"IF(OR(ISTEXT(RTD(\"cqg.rtd\",,\"OrderData\",\"\"&B65&\"\",\"\",\"OpenPosition\",\"\"&Display5!$D$3&\"\")),RTD(\"cqg.rtd\",,\"OrderData\",\"\"&B65&\"\",\"\",\"OpenPosition\",\"\"&Display5!$D$3&\"\")=0),A64+0.001,INT(A64)+1)","v":6.5000000000000044E-2},{"$f":"(LEFT(B64,SEARCH(Display5!$G$2,B64)+LEN(Display5!$G$2)+2))&RIGHT(B64,LEN(B64)-(SEARCH(Display5!$G$2,B64)+LEN(Display5!$G$2)+2))-Display5!$J$3","v":"C.US.EPU1723100"}]
[{"$f":"IF(OR(ISTEXT(RTD(\"cqg.rtd\",,\"OrderData\",\"\"&B66&\"\",\"\",\"OpenPosition\",\"\"&Display5!$D$3&\"\")),RTD(\"cqg.rtd\",,\"OrderData\",\"\"&B66&\"\",\"\",\"OpenPosition\",\"\"&Display5!$D$3&\"\")=0),A65+0.001,INT(A65)+1)","v":6.6000000000000045E-2},{"$f":"(LEFT(B65,SEARCH(Display5!$G$2,B65)+LEN(Display5!$G$2)+2))&RIGHT(B65,LEN(B65)-(SEARCH(Display5!$G$2,B65)+LEN(Display5!$G$2)+2))-Display5!$J$3","v":"C.US.EPU1723050"}]
[{"$f":"IF(OR(ISTEXT(RTD(\"cqg.rtd\",,\"OrderData\",\"\"&B67&\"\",\"\",\"OpenPosition\",\"\"&Display5!$D$3&\"\")),RTD(\"cqg.rtd\",,\"OrderData\",\"\"&B67&\"\",\"\",\"OpenPosition\",\"\"&Display5!$D$3&\"\")=0),A66+0.001,INT(A66)+1)","v":6.7000000000000046E-2},{"$f":"(LEFT(B66,SEARCH(Display5!$G$2,B66)+LEN(Display5!$G$2)+2))&RIGHT(B66,LEN(B66)-(SEARCH(Display5!$G$2,B66)+LEN(Display5!$G$2)+2))-Display5!$J$3","v":"C.US.EPU1723000"}]
[{"$f":"IF(OR(ISTEXT(RTD(\"cqg.rtd\",,\"OrderData\",\"\"&B68&\"\",\"\",\"OpenPosition\",\"\"&Display5!$D$3&\"\")),RTD(\"cqg.rtd\",,\"OrderData\",\"\"&B68&\"\",\"\",\"OpenPosition\",\"\"&Display5!$D$3&\"\")=0),A67+0.001,INT(A67)+1)","v":6.8000000000000047E-2},{"$f":"(LEFT(B67,SEARCH(Display5!$G$2,B67)+LEN(Display5!$G$2)+2))&RIGHT(B67,LEN(B67)-(SEARCH(Display5!$G$2,B67)+LEN(Display5!$G$2)+2))-Display5!$J$3","v":"C.US.EPU1722950"}]
[{"$f":"IF(OR(ISTEXT(RTD(\"cqg.rtd\",,\"OrderData\",\"\"&B69&\"\",\"\",\"OpenPosition\",\"\"&Display5!$D$3&\"\")),RTD(\"cqg.rtd\",,\"OrderData\",\"\"&B69&\"\",\"\",\"OpenPosition\",\"\"&Display5!$D$3&\"\")=0),A68+0.001,INT(A68)+1)","v":6.9000000000000047E-2},{"$f":"(LEFT(B68,SEARCH(Display5!$G$2,B68)+LEN(Display5!$G$2)+2))&RIGHT(B68,LEN(B68)-(SEARCH(Display5!$G$2,B68)+LEN(Display5!$G$2)+2))-Display5!$J$3","v":"C.US.EPU1722900"}]
[{"$f":"IF(OR(ISTEXT(RTD(\"cqg.rtd\",,\"OrderData\",\"\"&B70&\"\",\"\",\"OpenPosition\",\"\"&Display5!$D$3&\"\")),RTD(\"cqg.rtd\",,\"OrderData\",\"\"&B70&\"\",\"\",\"OpenPosition\",\"\"&Display5!$D$3&\"\")=0),A69+0.001,INT(A69)+1)","v":7.0000000000000048E-2},{"$f":"(LEFT(B69,SEARCH(Display5!$G$2,B69)+LEN(Display5!$G$2)+2))&RIGHT(B69,LEN(B69)-(SEARCH(Display5!$G$2,B69)+LEN(Display5!$G$2)+2))-Display5!$J$3","v":"C.US.EPU1722850"}]
[{"$f":"IF(OR(ISTEXT(RTD(\"cqg.rtd\",,\"OrderData\",\"\"&B71&\"\",\"\",\"OpenPosition\",\"\"&Display5!$D$3&\"\")),RTD(\"cqg.rtd\",,\"OrderData\",\"\"&B71&\"\",\"\",\"OpenPosition\",\"\"&Display5!$D$3&\"\")=0),A70+0.001,INT(A70)+1)","v":7.1000000000000049E-2},{"$f":"(LEFT(B70,SEARCH(Display5!$G$2,B70)+LEN(Display5!$G$2)+2))&RIGHT(B70,LEN(B70)-(SEARCH(Display5!$G$2,B70)+LEN(Display5!$G$2)+2))-Display5!$J$3","v":"C.US.EPU1722800"}]
[{"$f":"IF(OR(ISTEXT(RTD(\"cqg.rtd\",,\"OrderData\",\"\"&B72&\"\",\"\",\"OpenPosition\",\"\"&Display5!$D$3&\"\")),RTD(\"cqg.rtd\",,\"OrderData\",\"\"&B72&\"\",\"\",\"OpenPosition\",\"\"&Display5!$D$3&\"\")=0),A71+0.001,INT(A71)+1)","v":7.200000000000005E-2},{"$f":"(LEFT(B71,SEARCH(Display5!$G$2,B71)+LEN(Display5!$G$2)+2))&RIGHT(B71,LEN(B71)-(SEARCH(Display5!$G$2,B71)+LEN(Display5!$G$2)+2))-Display5!$J$3","v":"C.US.EPU1722750"}]
[{"$f":"IF(OR(ISTEXT(RTD(\"cqg.rtd\",,\"OrderData\",\"\"&B73&\"\",\"\",\"OpenPosition\",\"\"&Display5!$D$3&\"\")),RTD(\"cqg.rtd\",,\"OrderData\",\"\"&B73&\"\",\"\",\"OpenPosition\",\"\"&Display5!$D$3&\"\")=0),A72+0.001,INT(A72)+1)","v":7.3000000000000051E-2},{"$f":"(LEFT(B72,SEARCH(Display5!$G$2,B72)+LEN(Display5!$G$2)+2))&RIGHT(B72,LEN(B72)-(SEARCH(Display5!$G$2,B72)+LEN(Display5!$G$2)+2))-Display5!$J$3","v":"C.US.EPU1722700"}]
[{"$f":"IF(OR(ISTEXT(RTD(\"cqg.rtd\",,\"OrderData\",\"\"&B74&\"\",\"\",\"OpenPosition\",\"\"&Display5!$D$3&\"\")),RTD(\"cqg.rtd\",,\"OrderData\",\"\"&B74&\"\",\"\",\"OpenPosition\",\"\"&Display5!$D$3&\"\")=0),A73+0.001,INT(A73)+1)","v":7.4000000000000052E-2},{"$f":"(LEFT(B73,SEARCH(Display5!$G$2,B73)+LEN(Display5!$G$2)+2))&RIGHT(B73,LEN(B73)-(SEARCH(Display5!$G$2,B73)+LEN(Display5!$G$2)+2))-Display5!$J$3","v":"C.US.EPU1722650"}]
[{"$f":"IF(OR(ISTEXT(RTD(\"cqg.rtd\",,\"OrderData\",\"\"&B75&\"\",\"\",\"OpenPosition\",\"\"&Display5!$D$3&\"\")),RTD(\"cqg.rtd\",,\"OrderData\",\"\"&B75&\"\",\"\",\"OpenPosition\",\"\"&Display5!$D$3&\"\")=0),A74+0.001,INT(A74)+1)","v":7.5000000000000053E-2},{"$f":"(LEFT(B74,SEARCH(Display5!$G$2,B74)+LEN(Display5!$G$2)+2))&RIGHT(B74,LEN(B74)-(SEARCH(Display5!$G$2,B74)+LEN(Display5!$G$2)+2))-Display5!$J$3","v":"C.US.EPU1722600"}]
[{"$f":"IF(OR(ISTEXT(RTD(\"cqg.rtd\",,\"OrderData\",\"\"&B76&\"\",\"\",\"OpenPosition\",\"\"&Display5!$D$3&\"\")),RTD(\"cqg.rtd\",,\"OrderData\",\"\"&B76&\"\",\"\",\"OpenPosition\",\"\"&Display5!$D$3&\"\")=0),A75+0.001,INT(A75)+1)","v":7.6000000000000054E-2},{"$f":"(LEFT(B75,SEARCH(Display5!$G$2,B75)+LEN(Display5!$G$2)+2))&RIGHT(B75,LEN(B75)-(SEARCH(Display5!$G$2,B75)+LEN(Display5!$G$2)+2))-Display5!$J$3","v":"C.US.EPU1722550"}]
[{"$f":"IF(OR(ISTEXT(RTD(\"cqg.rtd\",,\"OrderData\",\"\"&B77&\"\",\"\",\"OpenPosition\",\"\"&Display5!$D$3&\"\")),RTD(\"cqg.rtd\",,\"OrderData\",\"\"&B77&\"\",\"\",\"OpenPosition\",\"\"&Display5!$D$3&\"\")=0),A76+0.001,INT(A76)+1)","v":7.7000000000000055E-2},{"$f":"(LEFT(B76,SEARCH(Display5!$G$2,B76)+LEN(Display5!$G$2)+2))&RIGHT(B76,LEN(B76)-(SEARCH(Display5!$G$2,B76)+LEN(Display5!$G$2)+2))-Display5!$J$3","v":"C.US.EPU1722500"}]
[{"$f":"IF(OR(ISTEXT(RTD(\"cqg.rtd\",,\"OrderData\",\"\"&B78&\"\",\"\",\"OpenPosition\",\"\"&Display5!$D$3&\"\")),RTD(\"cqg.rtd\",,\"OrderData\",\"\"&B78&\"\",\"\",\"OpenPosition\",\"\"&Display5!$D$3&\"\")=0),A77+0.001,INT(A77)+1)","v":7.8000000000000055E-2},{"$f":"(LEFT(B77,SEARCH(Display5!$G$2,B77)+LEN(Display5!$G$2)+2))&RIGHT(B77,LEN(B77)-(SEARCH(Display5!$G$2,B77)+LEN(Display5!$G$2)+2))-Display5!$J$3","v":"C.US.EPU1722450"}]
[{"$f":"IF(OR(ISTEXT(RTD(\"cqg.rtd\",,\"OrderData\",\"\"&B79&\"\",\"\",\"OpenPosition\",\"\"&Display5!$D$3&\"\")),RTD(\"cqg.rtd\",,\"OrderData\",\"\"&B79&\"\",\"\",\"OpenPosition\",\"\"&Display5!$D$3&\"\")=0),A78+0.001,INT(A78)+1)","v":7.9000000000000056E-2},{"$f":"(LEFT(B78,SEARCH(Display5!$G$2,B78)+LEN(Display5!$G$2)+2))&RIGHT(B78,LEN(B78)-(SEARCH(Display5!$G$2,B78)+LEN(Display5!$G$2)+2))-Display5!$J$3","v":"C.US.EPU1722400"}]
[{"$f":"IF(OR(ISTEXT(RTD(\"cqg.rtd\",,\"OrderData\",\"\"&B80&\"\",\"\",\"OpenPosition\",\"\"&Display5!$D$3&\"\")),RTD(\"cqg.rtd\",,\"OrderData\",\"\"&B80&\"\",\"\",\"OpenPosition\",\"\"&Display5!$D$3&\"\")=0),A79+0.001,INT(A79)+1)","v":8.0000000000000057E-2},{"$f":"(LEFT(B79,SEARCH(Display5!$G$2,B79)+LEN(Display5!$G$2)+2))&RIGHT(B79,LEN(B79)-(SEARCH(Display5!$G$2,B79)+LEN(Display5!$G$2)+2))-Display5!$J$3","v":"C.US.EPU1722350"}]
[{"$f":"IF(OR(ISTEXT(RTD(\"cqg.rtd\",,\"OrderData\",\"\"&B81&\"\",\"\",\"OpenPosition\",\"\"&Display5!$D$3&\"\")),RTD(\"cqg.rtd\",,\"OrderData\",\"\"&B81&\"\",\"\",\"OpenPosition\",\"\"&Display5!$D$3&\"\")=0),A80+0.001,INT(A80)+1)","v":8.1000000000000058E-2},{"$f":"(LEFT(B82,SEARCH(Display5!$G$2,B82)+LEN(Display5!$G$2)+2))&RIGHT(B82,LEN(B82)-(SEARCH(Display5!$G$2,B82)+LEN(Display5!$G$2)+2))+Display5!$J$3","v":"P.US.EPU1726350"}]
[{"$f":"IF(OR(ISTEXT(RTD(\"cqg.rtd\",,\"OrderData\",\"\"&B82&\"\",\"\",\"OpenPosition\",\"\"&Display5!$D$3&\"\")),RTD(\"cqg.rtd\",,\"OrderData\",\"\"&B82&\"\",\"\",\"OpenPosition\",\"\"&Display5!$D$3&\"\")=0),A81+0.001,INT(A81)+1)","v":8.2000000000000059E-2},{"$f":"(LEFT(B83,SEARCH(Display5!$G$2,B83)+LEN(Display5!$G$2)+2))&RIGHT(B83,LEN(B83)-(SEARCH(Display5!$G$2,B83)+LEN(Display5!$G$2)+2))+Display5!$J$3","v":"P.US.EPU1726300"}]
[{"$f":"IF(OR(ISTEXT(RTD(\"cqg.rtd\",,\"OrderData\",\"\"&B83&\"\",\"\",\"OpenPosition\",\"\"&Display5!$D$3&\"\")),RTD(\"cqg.rtd\",,\"OrderData\",\"\"&B83&\"\",\"\",\"OpenPosition\",\"\"&Display5!$D$3&\"\")=0),A82+0.001,INT(A82)+1)","v":8.300000000000006E-2},{"$f":"(LEFT(B84,SEARCH(Display5!$G$2,B84)+LEN(Display5!$G$2)+2))&RIGHT(B84,LEN(B84)-(SEARCH(Display5!$G$2,B84)+LEN(Display5!$G$2)+2))+Display5!$J$3","v":"P.US.EPU1726250"}]
[{"$f":"IF(OR(ISTEXT(RTD(\"cqg.rtd\",,\"OrderData\",\"\"&B84&\"\",\"\",\"OpenPosition\",\"\"&Display5!$D$3&\"\")),RTD(\"cqg.rtd\",,\"OrderData\",\"\"&B84&\"\",\"\",\"OpenPosition\",\"\"&Display5!$D$3&\"\")=0),A83+0.001,INT(A83)+1)","v":8.4000000000000061E-2},{"$f":"(LEFT(B85,SEARCH(Display5!$G$2,B85)+LEN(Display5!$G$2)+2))&RIGHT(B85,LEN(B85)-(SEARCH(Display5!$G$2,B85)+LEN(Display5!$G$2)+2))+Display5!$J$3","v":"P.US.EPU1726200"}]
[{"$f":"IF(OR(ISTEXT(RTD(\"cqg.rtd\",,\"OrderData\",\"\"&B85&\"\",\"\",\"OpenPosition\",\"\"&Display5!$D$3&\"\")),RTD(\"cqg.rtd\",,\"OrderData\",\"\"&B85&\"\",\"\",\"OpenPosition\",\"\"&Display5!$D$3&\"\")=0),A84+0.001,INT(A84)+1)","v":8.5000000000000062E-2},{"$f":"(LEFT(B86,SEARCH(Display5!$G$2,B86)+LEN(Display5!$G$2)+2))&RIGHT(B86,LEN(B86)-(SEARCH(Display5!$G$2,B86)+LEN(Display5!$G$2)+2))+Display5!$J$3","v":"P.US.EPU1726150"}]
[{"$f":"IF(OR(ISTEXT(RTD(\"cqg.rtd\",,\"OrderData\",\"\"&B86&\"\",\"\",\"OpenPosition\",\"\"&Display5!$D$3&\"\")),RTD(\"cqg.rtd\",,\"OrderData\",\"\"&B86&\"\",\"\",\"OpenPosition\",\"\"&Display5!$D$3&\"\")=0),A85+0.001,INT(A85)+1)","v":8.6000000000000063E-2},{"$f":"(LEFT(B87,SEARCH(Display5!$G$2,B87)+LEN(Display5!$G$2)+2))&RIGHT(B87,LEN(B87)-(SEARCH(Display5!$G$2,B87)+LEN(Display5!$G$2)+2))+Display5!$J$3","v":"P.US.EPU1726100"}]
[{"$f":"IF(OR(ISTEXT(RTD(\"cqg.rtd\",,\"OrderData\",\"\"&B87&\"\",\"\",\"OpenPosition\",\"\"&Display5!$D$3&\"\")),RTD(\"cqg.rtd\",,\"OrderData\",\"\"&B87&\"\",\"\",\"OpenPosition\",\"\"&Display5!$D$3&\"\")=0),A86+0.001,INT(A86)+1)","v":8.7000000000000063E-2},{"$f":"(LEFT(B88,SEARCH(Display5!$G$2,B88)+LEN(Display5!$G$2)+2))&RIGHT(B88,LEN(B88)-(SEARCH(Display5!$G$2,B88)+LEN(Display5!$G$2)+2))+Display5!$J$3","v":"P.US.EPU1726050"}]
[{"$f":"IF(OR(ISTEXT(RTD(\"cqg.rtd\",,\"OrderData\",\"\"&B88&\"\",\"\",\"OpenPosition\",\"\"&Display5!$D$3&\"\")),RTD(\"cqg.rtd\",,\"OrderData\",\"\"&B88&\"\",\"\",\"OpenPosition\",\"\"&Display5!$D$3&\"\")=0),A87+0.001,INT(A87)+1)","v":8.8000000000000064E-2},{"$f":"(LEFT(B89,SEARCH(Display5!$G$2,B89)+LEN(Display5!$G$2)+2))&RIGHT(B89,LEN(B89)-(SEARCH(Display5!$G$2,B89)+LEN(Display5!$G$2)+2))+Display5!$J$3","v":"P.US.EPU1726000"}]
[{"$f":"IF(OR(ISTEXT(RTD(\"cqg.rtd\",,\"OrderData\",\"\"&B89&\"\",\"\",\"OpenPosition\",\"\"&Display5!$D$3&\"\")),RTD(\"cqg.rtd\",,\"OrderData\",\"\"&B89&\"\",\"\",\"OpenPosition\",\"\"&Display5!$D$3&\"\")=0),A88+0.001,INT(A88)+1)","v":8.9000000000000065E-2},{"$f":"(LEFT(B90,SEARCH(Display5!$G$2,B90)+LEN(Display5!$G$2)+2))&RIGHT(B90,LEN(B90)-(SEARCH(Display5!$G$2,B90)+LEN(Display5!$G$2)+2))+Display5!$J$3","v":"P.US.EPU1725950"}]
[{"$f":"IF(OR(ISTEXT(RTD(\"cqg.rtd\",,\"OrderData\",\"\"&B90&\"\",\"\",\"OpenPosition\",\"\"&Display5!$D$3&\"\")),RTD(\"cqg.rtd\",,\"OrderData\",\"\"&B90&\"\",\"\",\"OpenPosition\",\"\"&Display5!$D$3&\"\")=0),A89+0.001,INT(A89)+1)","v":9.0000000000000066E-2},{"$f":"(LEFT(B91,SEARCH(Display5!$G$2,B91)+LEN(Display5!$G$2)+2))&RIGHT(B91,LEN(B91)-(SEARCH(Display5!$G$2,B91)+LEN(Display5!$G$2)+2))+Display5!$J$3","v":"P.US.EPU1725900"}]
[{"$f":"IF(OR(ISTEXT(RTD(\"cqg.rtd\",,\"OrderData\",\"\"&B91&\"\",\"\",\"OpenPosition\",\"\"&Display5!$D$3&\"\")),RTD(\"cqg.rtd\",,\"OrderData\",\"\"&B91&\"\",\"\",\"OpenPosition\",\"\"&Display5!$D$3&\"\")=0),A90+0.001,INT(A90)+1)","v":9.1000000000000067E-2},{"$f":"(LEFT(B92,SEARCH(Display5!$G$2,B92)+LEN(Display5!$G$2)+2))&RIGHT(B92,LEN(B92)-(SEARCH(Display5!$G$2,B92)+LEN(Display5!$G$2)+2))+Display5!$J$3","v":"P.US.EPU1725850"}]
[{"$f":"IF(OR(ISTEXT(RTD(\"cqg.rtd\",,\"OrderData\",\"\"&B92&\"\",\"\",\"OpenPosition\",\"\"&Display5!$D$3&\"\")),RTD(\"cqg.rtd\",,\"OrderData\",\"\"&B92&\"\",\"\",\"OpenPosition\",\"\"&Display5!$D$3&\"\")=0),A91+0.001,INT(A91)+1)","v":9.2000000000000068E-2},{"$f":"(LEFT(B93,SEARCH(Display5!$G$2,B93)+LEN(Display5!$G$2)+2))&RIGHT(B93,LEN(B93)-(SEARCH(Display5!$G$2,B93)+LEN(Display5!$G$2)+2))+Display5!$J$3","v":"P.US.EPU1725800"}]
[{"$f":"IF(OR(ISTEXT(RTD(\"cqg.rtd\",,\"OrderData\",\"\"&B93&\"\",\"\",\"OpenPosition\",\"\"&Display5!$D$3&\"\")),RTD(\"cqg.rtd\",,\"OrderData\",\"\"&B93&\"\",\"\",\"OpenPosition\",\"\"&Display5!$D$3&\"\")=0),A92+0.001,INT(A92)+1)","v":9.3000000000000069E-2},{"$f":"(LEFT(B94,SEARCH(Display5!$G$2,B94)+LEN(Display5!$G$2)+2))&RIGHT(B94,LEN(B94)-(SEARCH(Display5!$G$2,B94)+LEN(Display5!$G$2)+2))+Display5!$J$3","v":"P.US.EPU1725750"}]
[{"$f":"IF(OR(ISTEXT(RTD(\"cqg.rtd\",,\"OrderData\",\"\"&B94&\"\",\"\",\"OpenPosition\",\"\"&Display5!$D$3&\"\")),RTD(\"cqg.rtd\",,\"OrderData\",\"\"&B94&\"\",\"\",\"OpenPosition\",\"\"&Display5!$D$3&\"\")=0),A93+0.001,INT(A93)+1)","v":9.400000000000007E-2},{"$f":"(LEFT(B95,SEARCH(Display5!$G$2,B95)+LEN(Display5!$G$2)+2))&RIGHT(B95,LEN(B95)-(SEARCH(Display5!$G$2,B95)+LEN(Display5!$G$2)+2))+Display5!$J$3","v":"P.US.EPU1725700"}]
[{"$f":"IF(OR(ISTEXT(RTD(\"cqg.rtd\",,\"OrderData\",\"\"&B95&\"\",\"\",\"OpenPosition\",\"\"&Display5!$D$3&\"\")),RTD(\"cqg.rtd\",,\"OrderData\",\"\"&B95&\"\",\"\",\"OpenPosition\",\"\"&Display5!$D$3&\"\")=0),A94+0.001,INT(A94)+1)","v":9.500000000000007E-2},{"$f":"(LEFT(B96,SEARCH(Display5!$G$2,B96)+LEN(Display5!$G$2)+2))&RIGHT(B96,LEN(B96)-(SEARCH(Display5!$G$2,B96)+LEN(Display5!$G$2)+2))+Display5!$J$3","v":"P.US.EPU1725650"}]
[{"$f":"IF(OR(ISTEXT(RTD(\"cqg.rtd\",,\"OrderData\",\"\"&B96&\"\",\"\",\"OpenPosition\",\"\"&Display5!$D$3&\"\")),RTD(\"cqg.rtd\",,\"OrderData\",\"\"&B96&\"\",\"\",\"OpenPosition\",\"\"&Display5!$D$3&\"\")=0),A95+0.001,INT(A95)+1)","v":9.6000000000000071E-2},{"$f":"(LEFT(B97,SEARCH(Display5!$G$2,B97)+LEN(Display5!$G$2)+2))&RIGHT(B97,LEN(B97)-(SEARCH(Display5!$G$2,B97)+LEN(Display5!$G$2)+2))+Display5!$J$3","v":"P.US.EPU1725600"}]
[{"$f":"IF(OR(ISTEXT(RTD(\"cqg.rtd\",,\"OrderData\",\"\"&B97&\"\",\"\",\"OpenPosition\",\"\"&Display5!$D$3&\"\")),RTD(\"cqg.rtd\",,\"OrderData\",\"\"&B97&\"\",\"\",\"OpenPosition\",\"\"&Display5!$D$3&\"\")=0),A96+0.001,INT(A96)+1)","v":9.7000000000000072E-2},{"$f":"(LEFT(B98,SEARCH(Display5!$G$2,B98)+LEN(Display5!$G$2)+2))&RIGHT(B98,LEN(B98)-(SEARCH(Display5!$G$2,B98)+LEN(Display5!$G$2)+2))+Display5!$J$3","v":"P.US.EPU1725550"}]
[{"$f":"IF(OR(ISTEXT(RTD(\"cqg.rtd\",,\"OrderData\",\"\"&B98&\"\",\"\",\"OpenPosition\",\"\"&Display5!$D$3&\"\")),RTD(\"cqg.rtd\",,\"OrderData\",\"\"&B98&\"\",\"\",\"OpenPosition\",\"\"&Display5!$D$3&\"\")=0),A97+0.001,INT(A97)+1)","v":9.8000000000000073E-2},{"$f":"(LEFT(B99,SEARCH(Display5!$G$2,B99)+LEN(Display5!$G$2)+2))&RIGHT(B99,LEN(B99)-(SEARCH(Display5!$G$2,B99)+LEN(Display5!$G$2)+2))+Display5!$J$3","v":"P.US.EPU1725500"}]
[{"$f":"IF(OR(ISTEXT(RTD(\"cqg.rtd\",,\"OrderData\",\"\"&B99&\"\",\"\",\"OpenPosition\",\"\"&Display5!$D$3&\"\")),RTD(\"cqg.rtd\",,\"OrderData\",\"\"&B99&\"\",\"\",\"OpenPosition\",\"\"&Display5!$D$3&\"\")=0),A98+0.001,INT(A98)+1)","v":9.9000000000000074E-2},{"$f":"(LEFT(B100,SEARCH(Display5!$G$2,B100)+LEN(Display5!$G$2)+2))&RIGHT(B100,LEN(B100)-(SEARCH(Display5!$G$2,B100)+LEN(Display5!$G$2)+2))+Display5!$J$3","v":"P.US.EPU1725450"}]
[{"$f":"IF(OR(ISTEXT(RTD(\"cqg.rtd\",,\"OrderData\",\"\"&B100&\"\",\"\",\"OpenPosition\",\"\"&Display5!$D$3&\"\")),RTD(\"cqg.rtd\",,\"OrderData\",\"\"&B100&\"\",\"\",\"OpenPosition\",\"\"&Display5!$D$3&\"\")=0),A99+0.001,INT(A99)+1)","v":0.10000000000000007},{"$f":"(LEFT(B101,SEARCH(Display5!$G$2,B101)+LEN(Display5!$G$2)+2))&RIGHT(B101,LEN(B101)-(SEARCH(Display5!$G$2,B101)+LEN(Display5!$G$2)+2))+Display5!$J$3","v":"P.US.EPU1725400"}]
[{"$f":"IF(OR(ISTEXT(RTD(\"cqg.rtd\",,\"OrderData\",\"\"&B101&\"\",\"\",\"OpenPosition\",\"\"&Display5!$D$3&\"\")),RTD(\"cqg.rtd\",,\"OrderData\",\"\"&B101&\"\",\"\",\"OpenPosition\",\"\"&Display5!$D$3&\"\")=0),A100+0.001,INT(A100)+1)","v":0.10100000000000008},{"$f":"(LEFT(B102,SEARCH(Display5!$G$2,B102)+LEN(Display5!$G$2)+2))&RIGHT(B102,LEN(B102)-(SEARCH(Display5!$G$2,B102)+LEN(Display5!$G$2)+2))+Display5!$J$3","v":"P.US.EPU1725350"}]
[{"$f":"IF(OR(ISTEXT(RTD(\"cqg.rtd\",,\"OrderData\",\"\"&B102&\"\",\"\",\"OpenPosition\",\"\"&Display5!$D$3&\"\")),RTD(\"cqg.rtd\",,\"OrderData\",\"\"&B102&\"\",\"\",\"OpenPosition\",\"\"&Display5!$D$3&\"\")=0),A101+0.001,INT(A101)+1)","v":0.10200000000000008},{"$f":"(LEFT(B103,SEARCH(Display5!$G$2,B103)+LEN(Display5!$G$2)+2))&RIGHT(B103,LEN(B103)-(SEARCH(Display5!$G$2,B103)+LEN(Display5!$G$2)+2))+Display5!$J$3","v":"P.US.EPU1725300"}]
[{"$f":"IF(OR(ISTEXT(RTD(\"cqg.rtd\",,\"OrderData\",\"\"&B103&\"\",\"\",\"OpenPosition\",\"\"&Display5!$D$3&\"\")),RTD(\"cqg.rtd\",,\"OrderData\",\"\"&B103&\"\",\"\",\"OpenPosition\",\"\"&Display5!$D$3&\"\")=0),A102+0.001,INT(A102)+1)","v":0.10300000000000008},{"$f":"(LEFT(B104,SEARCH(Display5!$G$2,B104)+LEN(Display5!$G$2)+2))&RIGHT(B104,LEN(B104)-(SEARCH(Display5!$G$2,B104)+LEN(Display5!$G$2)+2))+Display5!$J$3","v":"P.US.EPU1725250"}]
[{"$f":"IF(OR(ISTEXT(RTD(\"cqg.rtd\",,\"OrderData\",\"\"&B104&\"\",\"\",\"OpenPosition\",\"\"&Display5!$D$3&\"\")),RTD(\"cqg.rtd\",,\"OrderData\",\"\"&B104&\"\",\"\",\"OpenPosition\",\"\"&Display5!$D$3&\"\")=0),A103+0.001,INT(A103)+1)","v":0.10400000000000008},{"$f":"(LEFT(B105,SEARCH(Display5!$G$2,B105)+LEN(Display5!$G$2)+2))&RIGHT(B105,LEN(B105)-(SEARCH(Display5!$G$2,B105)+LEN(Display5!$G$2)+2))+Display5!$J$3","v":"P.US.EPU1725200"}]
[{"$f":"IF(OR(ISTEXT(RTD(\"cqg.rtd\",,\"OrderData\",\"\"&B105&\"\",\"\",\"OpenPosition\",\"\"&Display5!$D$3&\"\")),RTD(\"cqg.rtd\",,\"OrderData\",\"\"&B105&\"\",\"\",\"OpenPosition\",\"\"&Display5!$D$3&\"\")=0),A104+0.001,INT(A104)+1)","v":0.10500000000000008},{"$f":"(LEFT(B106,SEARCH(Display5!$G$2,B106)+LEN(Display5!$G$2)+2))&RIGHT(B106,LEN(B106)-(SEARCH(Display5!$G$2,B106)+LEN(Display5!$G$2)+2))+Display5!$J$3","v":"P.US.EPU1725150"}]
[{"$f":"IF(OR(ISTEXT(RTD(\"cqg.rtd\",,\"OrderData\",\"\"&B106&\"\",\"\",\"OpenPosition\",\"\"&Display5!$D$3&\"\")),RTD(\"cqg.rtd\",,\"OrderData\",\"\"&B106&\"\",\"\",\"OpenPosition\",\"\"&Display5!$D$3&\"\")=0),A105+0.001,INT(A105)+1)","v":0.10600000000000008},{"$f":"(LEFT(B107,SEARCH(Display5!$G$2,B107)+LEN(Display5!$G$2)+2))&RIGHT(B107,LEN(B107)-(SEARCH(Display5!$G$2,B107)+LEN(Display5!$G$2)+2))+Display5!$J$3","v":"P.US.EPU1725100"}]
[{"$f":"IF(OR(ISTEXT(RTD(\"cqg.rtd\",,\"OrderData\",\"\"&B107&\"\",\"\",\"OpenPosition\",\"\"&Display5!$D$3&\"\")),RTD(\"cqg.rtd\",,\"OrderData\",\"\"&B107&\"\",\"\",\"OpenPosition\",\"\"&Display5!$D$3&\"\")=0),A106+0.001,INT(A106)+1)","v":0.10700000000000008},{"$f":"(LEFT(B108,SEARCH(Display5!$G$2,B108)+LEN(Display5!$G$2)+2))&RIGHT(B108,LEN(B108)-(SEARCH(Display5!$G$2,B108)+LEN(Display5!$G$2)+2))+Display5!$J$3","v":"P.US.EPU1725050"}]
[{"$f":"IF(OR(ISTEXT(RTD(\"cqg.rtd\",,\"OrderData\",\"\"&B108&\"\",\"\",\"OpenPosition\",\"\"&Display5!$D$3&\"\")),RTD(\"cqg.rtd\",,\"OrderData\",\"\"&B108&\"\",\"\",\"OpenPosition\",\"\"&Display5!$D$3&\"\")=0),A107+0.001,INT(A107)+1)","v":0.10800000000000008},{"$f":"(LEFT(B109,SEARCH(Display5!$G$2,B109)+LEN(Display5!$G$2)+2))&RIGHT(B109,LEN(B109)-(SEARCH(Display5!$G$2,B109)+LEN(Display5!$G$2)+2))+Display5!$J$3","v":"P.US.EPU1725000"}]
[{"$f":"IF(OR(ISTEXT(RTD(\"cqg.rtd\",,\"OrderData\",\"\"&B109&\"\",\"\",\"OpenPosition\",\"\"&Display5!$D$3&\"\")),RTD(\"cqg.rtd\",,\"OrderData\",\"\"&B109&\"\",\"\",\"OpenPosition\",\"\"&Display5!$D$3&\"\")=0),A108+0.001,INT(A108)+1)","v":0.10900000000000008},{"$f":"(LEFT(B110,SEARCH(Display5!$G$2,B110)+LEN(Display5!$G$2)+2))&RIGHT(B110,LEN(B110)-(SEARCH(Display5!$G$2,B110)+LEN(Display5!$G$2)+2))+Display5!$J$3","v":"P.US.EPU1724950"}]
[{"$f":"IF(OR(ISTEXT(RTD(\"cqg.rtd\",,\"OrderData\",\"\"&B110&\"\",\"\",\"OpenPosition\",\"\"&Display5!$D$3&\"\")),RTD(\"cqg.rtd\",,\"OrderData\",\"\"&B110&\"\",\"\",\"OpenPosition\",\"\"&Display5!$D$3&\"\")=0),A109+0.001,INT(A109)+1)","v":0.11000000000000008},{"$f":"(LEFT(B111,SEARCH(Display5!$G$2,B111)+LEN(Display5!$G$2)+2))&RIGHT(B111,LEN(B111)-(SEARCH(Display5!$G$2,B111)+LEN(Display5!$G$2)+2))+Display5!$J$3","v":"P.US.EPU1724900"}]
[{"$f":"IF(OR(ISTEXT(RTD(\"cqg.rtd\",,\"OrderData\",\"\"&B111&\"\",\"\",\"OpenPosition\",\"\"&Display5!$D$3&\"\")),RTD(\"cqg.rtd\",,\"OrderData\",\"\"&B111&\"\",\"\",\"OpenPosition\",\"\"&Display5!$D$3&\"\")=0),A110+0.001,INT(A110)+1)","v":0.11100000000000008},{"$f":"(LEFT(B112,SEARCH(Display5!$G$2,B112)+LEN(Display5!$G$2)+2))&RIGHT(B112,LEN(B112)-(SEARCH(Display5!$G$2,B112)+LEN(Display5!$G$2)+2))+Display5!$J$3","v":"P.US.EPU1724850"}]
[{"$f":"IF(OR(ISTEXT(RTD(\"cqg.rtd\",,\"OrderData\",\"\"&B112&\"\",\"\",\"OpenPosition\",\"\"&Display5!$D$3&\"\")),RTD(\"cqg.rtd\",,\"OrderData\",\"\"&B112&\"\",\"\",\"OpenPosition\",\"\"&Display5!$D$3&\"\")=0),A111+0.001,INT(A111)+1)","v":0.11200000000000009},{"$f":"(LEFT(B113,SEARCH(Display5!$G$2,B113)+LEN(Display5!$G$2)+2))&RIGHT(B113,LEN(B113)-(SEARCH(Display5!$G$2,B113)+LEN(Display5!$G$2)+2))+Display5!$J$3","v":"P.US.EPU1724800"}]
[{"$f":"IF(OR(ISTEXT(RTD(\"cqg.rtd\",,\"OrderData\",\"\"&B113&\"\",\"\",\"OpenPosition\",\"\"&Display5!$D$3&\"\")),RTD(\"cqg.rtd\",,\"OrderData\",\"\"&B113&\"\",\"\",\"OpenPosition\",\"\"&Display5!$D$3&\"\")=0),A112+0.001,INT(A112)+1)","v":0.11300000000000009},{"$f":"(LEFT(B114,SEARCH(Display5!$G$2,B114)+LEN(Display5!$G$2)+2))&RIGHT(B114,LEN(B114)-(SEARCH(Display5!$G$2,B114)+LEN(Display5!$G$2)+2))+Display5!$J$3","v":"P.US.EPU1724750"}]
[{"$f":"IF(OR(ISTEXT(RTD(\"cqg.rtd\",,\"OrderData\",\"\"&B114&\"\",\"\",\"OpenPosition\",\"\"&Display5!$D$3&\"\")),RTD(\"cqg.rtd\",,\"OrderData\",\"\"&B114&\"\",\"\",\"OpenPosition\",\"\"&Display5!$D$3&\"\")=0),A113+0.001,INT(A113)+1)","v":0.11400000000000009},{"$f":"(LEFT(B115,SEARCH(Display5!$G$2,B115)+LEN(Display5!$G$2)+2))&RIGHT(B115,LEN(B115)-(SEARCH(Display5!$G$2,B115)+LEN(Display5!$G$2)+2))+Display5!$J$3","v":"P.US.EPU1724700"}]
[{"$f":"IF(OR(ISTEXT(RTD(\"cqg.rtd\",,\"OrderData\",\"\"&B115&\"\",\"\",\"OpenPosition\",\"\"&Display5!$D$3&\"\")),RTD(\"cqg.rtd\",,\"OrderData\",\"\"&B115&\"\",\"\",\"OpenPosition\",\"\"&Display5!$D$3&\"\")=0),A114+0.001,INT(A114)+1)","v":0.11500000000000009},{"$f":"(LEFT(B116,SEARCH(Display5!$G$2,B116)+LEN(Display5!$G$2)+2))&RIGHT(B116,LEN(B116)-(SEARCH(Display5!$G$2,B116)+LEN(Display5!$G$2)+2))+Display5!$J$3","v":"P.US.EPU1724650"}]
[{"$f":"IF(OR(ISTEXT(RTD(\"cqg.rtd\",,\"OrderData\",\"\"&B116&\"\",\"\",\"OpenPosition\",\"\"&Display5!$D$3&\"\")),RTD(\"cqg.rtd\",,\"OrderData\",\"\"&B116&\"\",\"\",\"OpenPosition\",\"\"&Display5!$D$3&\"\")=0),A115+0.001,INT(A115)+1)","v":0.11600000000000009},{"$f":"(LEFT(B117,SEARCH(Display5!$G$2,B117)+LEN(Display5!$G$2)+2))&RIGHT(B117,LEN(B117)-(SEARCH(Display5!$G$2,B117)+LEN(Display5!$G$2)+2))+Display5!$J$3","v":"P.US.EPU1724600"}]
[{"$f":"IF(OR(ISTEXT(RTD(\"cqg.rtd\",,\"OrderData\",\"\"&B117&\"\",\"\",\"OpenPosition\",\"\"&Display5!$D$3&\"\")),RTD(\"cqg.rtd\",,\"OrderData\",\"\"&B117&\"\",\"\",\"OpenPosition\",\"\"&Display5!$D$3&\"\")=0),A116+0.001,INT(A116)+1)","v":0.11700000000000009},{"$f":"(LEFT(B118,SEARCH(Display5!$G$2,B118)+LEN(Display5!$G$2)+2))&RIGHT(B118,LEN(B118)-(SEARCH(Display5!$G$2,B118)+LEN(Display5!$G$2)+2))+Display5!$J$3","v":"P.US.EPU1724550"}]
[{"$f":"IF(OR(ISTEXT(RTD(\"cqg.rtd\",,\"OrderData\",\"\"&B118&\"\",\"\",\"OpenPosition\",\"\"&Display5!$D$3&\"\")),RTD(\"cqg.rtd\",,\"OrderData\",\"\"&B118&\"\",\"\",\"OpenPosition\",\"\"&Display5!$D$3&\"\")=0),A117+0.001,INT(A117)+1)","v":0.11800000000000009},{"$f":"(LEFT(B119,SEARCH(Display5!$G$2,B119)+LEN(Display5!$G$2)+2))&RIGHT(B119,LEN(B119)-(SEARCH(Display5!$G$2,B119)+LEN(Display5!$G$2)+2))+Display5!$J$3","v":"P.US.EPU1724500"}]
[{"$f":"IF(OR(ISTEXT(RTD(\"cqg.rtd\",,\"OrderData\",\"\"&B119&\"\",\"\",\"OpenPosition\",\"\"&Display5!$D$3&\"\")),RTD(\"cqg.rtd\",,\"OrderData\",\"\"&B119&\"\",\"\",\"OpenPosition\",\"\"&Display5!$D$3&\"\")=0),A118+0.001,INT(A118)+1)","v":0.11900000000000009},{"$f":"(LEFT(B120,SEARCH(Display5!$G$2,B120)+LEN(Display5!$G$2)+2))&RIGHT(B120,LEN(B120)-(SEARCH(Display5!$G$2,B120)+LEN(Display5!$G$2)+2))+Display5!$J$3","v":"P.US.EPU1724450"}]
[{"$f":"IF(OR(ISTEXT(RTD(\"cqg.rtd\",,\"OrderData\",\"\"&B120&\"\",\"\",\"OpenPosition\",\"\"&Display5!$D$3&\"\")),RTD(\"cqg.rtd\",,\"OrderData\",\"\"&B120&\"\",\"\",\"OpenPosition\",\"\"&Display5!$D$3&\"\")=0),A119+0.001,INT(A119)+1)","v":0.12000000000000009},{"$f":"(LEFT(B121,SEARCH(Display5!$G$2,B121)+LEN(Display5!$G$2)+2))&RIGHT(B121,LEN(B121)-(SEARCH(Display5!$G$2,B121)+LEN(Display5!$G$2)+2))+Display5!$J$3","v":"P.US.EPU1724400"}]
[{"$f":"IF(OR(ISTEXT(RTD(\"cqg.rtd\",,\"OrderData\",\"\"&B121&\"\",\"\",\"OpenPosition\",\"\"&Display5!$D$3&\"\")),RTD(\"cqg.rtd\",,\"OrderData\",\"\"&B121&\"\",\"\",\"OpenPosition\",\"\"&Display5!$D$3&\"\")=0),A120+0.001,INT(A120)+1)","v":0.12100000000000009},{"$f":"RTD(\"cqg.rtd\", ,\"ContractData\", \"P.US.\"&Display5!$G$2&Display5!$G$3&\"\", \"Symbol\",, \"T\")","v":"P.US.EPU1724350"}]
[{"$f":"IF(OR(ISTEXT(RTD(\"cqg.rtd\",,\"OrderData\",\"\"&B122&\"\",\"\",\"OpenPosition\",\"\"&Display5!$D$3&\"\")),RTD(\"cqg.rtd\",,\"OrderData\",\"\"&B122&\"\",\"\",\"OpenPosition\",\"\"&Display5!$D$3&\"\")=0),A121+0.001,INT(A121)+1)","v":0.12200000000000009},{"$f":"(LEFT(B121,SEARCH(Display5!$G$2,B121)+LEN(Display5!$G$2)+2))&RIGHT(B121,LEN(B121)-(SEARCH(Display5!$G$2,B121)+LEN(Display5!$G$2)+2))-Display5!$J$3","v":"P.US.EPU1724300"}]
[{"$f":"IF(OR(ISTEXT(RTD(\"cqg.rtd\",,\"OrderData\",\"\"&B123&\"\",\"\",\"OpenPosition\",\"\"&Display5!$D$3&\"\")),RTD(\"cqg.rtd\",,\"OrderData\",\"\"&B123&\"\",\"\",\"OpenPosition\",\"\"&Display5!$D$3&\"\")=0),A122+0.001,INT(A122)+1)","v":0.1230000000000001},{"$f":"(LEFT(B122,SEARCH(Display5!$G$2,B122)+LEN(Display5!$G$2)+2))&RIGHT(B122,LEN(B122)-(SEARCH(Display5!$G$2,B122)+LEN(Display5!$G$2)+2))-Display5!$J$3","v":"P.US.EPU1724250"}]
[{"$f":"IF(OR(ISTEXT(RTD(\"cqg.rtd\",,\"OrderData\",\"\"&B124&\"\",\"\",\"OpenPosition\",\"\"&Display5!$D$3&\"\")),RTD(\"cqg.rtd\",,\"OrderData\",\"\"&B124&\"\",\"\",\"OpenPosition\",\"\"&Display5!$D$3&\"\")=0),A123+0.001,INT(A123)+1)","v":0.1240000000000001},{"$f":"(LEFT(B123,SEARCH(Display5!$G$2,B123)+LEN(Display5!$G$2)+2))&RIGHT(B123,LEN(B123)-(SEARCH(Display5!$G$2,B123)+LEN(Display5!$G$2)+2))-Display5!$J$3","v":"P.US.EPU1724200"}]
[{"$f":"IF(OR(ISTEXT(RTD(\"cqg.rtd\",,\"OrderData\",\"\"&B125&\"\",\"\",\"OpenPosition\",\"\"&Display5!$D$3&\"\")),RTD(\"cqg.rtd\",,\"OrderData\",\"\"&B125&\"\",\"\",\"OpenPosition\",\"\"&Display5!$D$3&\"\")=0),A124+0.001,INT(A124)+1)","v":0.12500000000000008},{"$f":"(LEFT(B124,SEARCH(Display5!$G$2,B124)+LEN(Display5!$G$2)+2))&RIGHT(B124,LEN(B124)-(SEARCH(Display5!$G$2,B124)+LEN(Display5!$G$2)+2))-Display5!$J$3","v":"P.US.EPU1724150"}]
[{"$f":"IF(OR(ISTEXT(RTD(\"cqg.rtd\",,\"OrderData\",\"\"&B126&\"\",\"\",\"OpenPosition\",\"\"&Display5!$D$3&\"\")),RTD(\"cqg.rtd\",,\"OrderData\",\"\"&B126&\"\",\"\",\"OpenPosition\",\"\"&Display5!$D$3&\"\")=0),A125+0.001,INT(A125)+1)","v":0.12600000000000008},{"$f":"(LEFT(B125,SEARCH(Display5!$G$2,B125)+LEN(Display5!$G$2)+2))&RIGHT(B125,LEN(B125)-(SEARCH(Display5!$G$2,B125)+LEN(Display5!$G$2)+2))-Display5!$J$3","v":"P.US.EPU1724100"}]
[{"$f":"IF(OR(ISTEXT(RTD(\"cqg.rtd\",,\"OrderData\",\"\"&B127&\"\",\"\",\"OpenPosition\",\"\"&Display5!$D$3&\"\")),RTD(\"cqg.rtd\",,\"OrderData\",\"\"&B127&\"\",\"\",\"OpenPosition\",\"\"&Display5!$D$3&\"\")=0),A126+0.001,INT(A126)+1)","v":0.12700000000000009},{"$f":"(LEFT(B126,SEARCH(Display5!$G$2,B126)+LEN(Display5!$G$2)+2))&RIGHT(B126,LEN(B126)-(SEARCH(Display5!$G$2,B126)+LEN(Display5!$G$2)+2))-Display5!$J$3","v":"P.US.EPU1724050"}]
[{"$f":"IF(OR(ISTEXT(RTD(\"cqg.rtd\",,\"OrderData\",\"\"&B128&\"\",\"\",\"OpenPosition\",\"\"&Display5!$D$3&\"\")),RTD(\"cqg.rtd\",,\"OrderData\",\"\"&B128&\"\",\"\",\"OpenPosition\",\"\"&Display5!$D$3&\"\")=0),A127+0.001,INT(A127)+1)","v":0.12800000000000009},{"$f":"(LEFT(B127,SEARCH(Display5!$G$2,B127)+LEN(Display5!$G$2)+2))&RIGHT(B127,LEN(B127)-(SEARCH(Display5!$G$2,B127)+LEN(Display5!$G$2)+2))-Display5!$J$3","v":"P.US.EPU1724000"}]
[{"$f":"IF(OR(ISTEXT(RTD(\"cqg.rtd\",,\"OrderData\",\"\"&B129&\"\",\"\",\"OpenPosition\",\"\"&Display5!$D$3&\"\")),RTD(\"cqg.rtd\",,\"OrderData\",\"\"&B129&\"\",\"\",\"OpenPosition\",\"\"&Display5!$D$3&\"\")=0),A128+0.001,INT(A128)+1)","v":0.12900000000000009},{"$f":"(LEFT(B128,SEARCH(Display5!$G$2,B128)+LEN(Display5!$G$2)+2))&RIGHT(B128,LEN(B128)-(SEARCH(Display5!$G$2,B128)+LEN(Display5!$G$2)+2))-Display5!$J$3","v":"P.US.EPU1723950"}]
[{"$f":"IF(OR(ISTEXT(RTD(\"cqg.rtd\",,\"OrderData\",\"\"&B130&\"\",\"\",\"OpenPosition\",\"\"&Display5!$D$3&\"\")),RTD(\"cqg.rtd\",,\"OrderData\",\"\"&B130&\"\",\"\",\"OpenPosition\",\"\"&Display5!$D$3&\"\")=0),A129+0.001,INT(A129)+1)","v":0.13000000000000009},{"$f":"(LEFT(B129,SEARCH(Display5!$G$2,B129)+LEN(Display5!$G$2)+2))&RIGHT(B129,LEN(B129)-(SEARCH(Display5!$G$2,B129)+LEN(Display5!$G$2)+2))-Display5!$J$3","v":"P.US.EPU1723900"}]
[{"$f":"IF(OR(ISTEXT(RTD(\"cqg.rtd\",,\"OrderData\",\"\"&B131&\"\",\"\",\"OpenPosition\",\"\"&Display5!$D$3&\"\")),RTD(\"cqg.rtd\",,\"OrderData\",\"\"&B131&\"\",\"\",\"OpenPosition\",\"\"&Display5!$D$3&\"\")=0),A130+0.001,INT(A130)+1)","v":0.13100000000000009},{"$f":"(LEFT(B130,SEARCH(Display5!$G$2,B130)+LEN(Display5!$G$2)+2))&RIGHT(B130,LEN(B130)-(SEARCH(Display5!$G$2,B130)+LEN(Display5!$G$2)+2))-Display5!$J$3","v":"P.US.EPU1723850"}]
[{"$f":"IF(OR(ISTEXT(RTD(\"cqg.rtd\",,\"OrderData\",\"\"&B132&\"\",\"\",\"OpenPosition\",\"\"&Display5!$D$3&\"\")),RTD(\"cqg.rtd\",,\"OrderData\",\"\"&B132&\"\",\"\",\"OpenPosition\",\"\"&Display5!$D$3&\"\")=0),A131+0.001,INT(A131)+1)","v":0.13200000000000009},{"$f":"(LEFT(B131,SEARCH(Display5!$G$2,B131)+LEN(Display5!$G$2)+2))&RIGHT(B131,LEN(B131)-(SEARCH(Display5!$G$2,B131)+LEN(Display5!$G$2)+2))-Display5!$J$3","v":"P.US.EPU1723800"}]
[{"$f":"IF(OR(ISTEXT(RTD(\"cqg.rtd\",,\"OrderData\",\"\"&B133&\"\",\"\",\"OpenPosition\",\"\"&Display5!$D$3&\"\")),RTD(\"cqg.rtd\",,\"OrderData\",\"\"&B133&\"\",\"\",\"OpenPosition\",\"\"&Display5!$D$3&\"\")=0),A132+0.001,INT(A132)+1)","v":0.13300000000000009},{"$f":"(LEFT(B132,SEARCH(Display5!$G$2,B132)+LEN(Display5!$G$2)+2))&RIGHT(B132,LEN(B132)-(SEARCH(Display5!$G$2,B132)+LEN(Display5!$G$2)+2))-Display5!$J$3","v":"P.US.EPU1723750"}]
[{"$f":"IF(OR(ISTEXT(RTD(\"cqg.rtd\",,\"OrderData\",\"\"&B134&\"\",\"\",\"OpenPosition\",\"\"&Display5!$D$3&\"\")),RTD(\"cqg.rtd\",,\"OrderData\",\"\"&B134&\"\",\"\",\"OpenPosition\",\"\"&Display5!$D$3&\"\")=0),A133+0.001,INT(A133)+1)","v":0.13400000000000009},{"$f":"(LEFT(B133,SEARCH(Display5!$G$2,B133)+LEN(Display5!$G$2)+2))&RIGHT(B133,LEN(B133)-(SEARCH(Display5!$G$2,B133)+LEN(Display5!$G$2)+2))-Display5!$J$3","v":"P.US.EPU1723700"}]
[{"$f":"IF(OR(ISTEXT(RTD(\"cqg.rtd\",,\"OrderData\",\"\"&B135&\"\",\"\",\"OpenPosition\",\"\"&Display5!$D$3&\"\")),RTD(\"cqg.rtd\",,\"OrderData\",\"\"&B135&\"\",\"\",\"OpenPosition\",\"\"&Display5!$D$3&\"\")=0),A134+0.001,INT(A134)+1)","v":0.13500000000000009},{"$f":"(LEFT(B134,SEARCH(Display5!$G$2,B134)+LEN(Display5!$G$2)+2))&RIGHT(B134,LEN(B134)-(SEARCH(Display5!$G$2,B134)+LEN(Display5!$G$2)+2))-Display5!$J$3","v":"P.US.EPU1723650"}]
[{"$f":"IF(OR(ISTEXT(RTD(\"cqg.rtd\",,\"OrderData\",\"\"&B136&\"\",\"\",\"OpenPosition\",\"\"&Display5!$D$3&\"\")),RTD(\"cqg.rtd\",,\"OrderData\",\"\"&B136&\"\",\"\",\"OpenPosition\",\"\"&Display5!$D$3&\"\")=0),A135+0.001,INT(A135)+1)","v":0.13600000000000009},{"$f":"(LEFT(B135,SEARCH(Display5!$G$2,B135)+LEN(Display5!$G$2)+2))&RIGHT(B135,LEN(B135)-(SEARCH(Display5!$G$2,B135)+LEN(Display5!$G$2)+2))-Display5!$J$3","v":"P.US.EPU1723600"}]
[{"$f":"IF(OR(ISTEXT(RTD(\"cqg.rtd\",,\"OrderData\",\"\"&B137&\"\",\"\",\"OpenPosition\",\"\"&Display5!$D$3&\"\")),RTD(\"cqg.rtd\",,\"OrderData\",\"\"&B137&\"\",\"\",\"OpenPosition\",\"\"&Display5!$D$3&\"\")=0),A136+0.001,INT(A136)+1)","v":0.13700000000000009},{"$f":"(LEFT(B136,SEARCH(Display5!$G$2,B136)+LEN(Display5!$G$2)+2))&RIGHT(B136,LEN(B136)-(SEARCH(Display5!$G$2,B136)+LEN(Display5!$G$2)+2))-Display5!$J$3","v":"P.US.EPU1723550"}]
[{"$f":"IF(OR(ISTEXT(RTD(\"cqg.rtd\",,\"OrderData\",\"\"&B138&\"\",\"\",\"OpenPosition\",\"\"&Display5!$D$3&\"\")),RTD(\"cqg.rtd\",,\"OrderData\",\"\"&B138&\"\",\"\",\"OpenPosition\",\"\"&Display5!$D$3&\"\")=0),A137+0.001,INT(A137)+1)","v":0.13800000000000009},{"$f":"(LEFT(B137,SEARCH(Display5!$G$2,B137)+LEN(Display5!$G$2)+2))&RIGHT(B137,LEN(B137)-(SEARCH(Display5!$G$2,B137)+LEN(Display5!$G$2)+2))-Display5!$J$3","v":"P.US.EPU1723500"}]
[{"$f":"IF(OR(ISTEXT(RTD(\"cqg.rtd\",,\"OrderData\",\"\"&B139&\"\",\"\",\"OpenPosition\",\"\"&Display5!$D$3&\"\")),RTD(\"cqg.rtd\",,\"OrderData\",\"\"&B139&\"\",\"\",\"OpenPosition\",\"\"&Display5!$D$3&\"\")=0),A138+0.001,INT(A138)+1)","v":0.1390000000000001},{"$f":"(LEFT(B138,SEARCH(Display5!$G$2,B138)+LEN(Display5!$G$2)+2))&RIGHT(B138,LEN(B138)-(SEARCH(Display5!$G$2,B138)+LEN(Display5!$G$2)+2))-Display5!$J$3","v":"P.US.EPU1723450"}]
[{"$f":"IF(OR(ISTEXT(RTD(\"cqg.rtd\",,\"OrderData\",\"\"&B140&\"\",\"\",\"OpenPosition\",\"\"&Display5!$D$3&\"\")),RTD(\"cqg.rtd\",,\"OrderData\",\"\"&B140&\"\",\"\",\"OpenPosition\",\"\"&Display5!$D$3&\"\")=0),A139+0.001,INT(A139)+1)","v":0.1400000000000001},{"$f":"(LEFT(B139,SEARCH(Display5!$G$2,B139)+LEN(Display5!$G$2)+2))&RIGHT(B139,LEN(B139)-(SEARCH(Display5!$G$2,B139)+LEN(Display5!$G$2)+2))-Display5!$J$3","v":"P.US.EPU1723400"}]
[{"$f":"IF(OR(ISTEXT(RTD(\"cqg.rtd\",,\"OrderData\",\"\"&B141&\"\",\"\",\"OpenPosition\",\"\"&Display5!$D$3&\"\")),RTD(\"cqg.rtd\",,\"OrderData\",\"\"&B141&\"\",\"\",\"OpenPosition\",\"\"&Display5!$D$3&\"\")=0),A140+0.001,INT(A140)+1)","v":0.1410000000000001},{"$f":"(LEFT(B140,SEARCH(Display5!$G$2,B140)+LEN(Display5!$G$2)+2))&RIGHT(B140,LEN(B140)-(SEARCH(Display5!$G$2,B140)+LEN(Display5!$G$2)+2))-Display5!$J$3","v":"P.US.EPU1723350"}]
[{"$f":"IF(OR(ISTEXT(RTD(\"cqg.rtd\",,\"OrderData\",\"\"&B142&\"\",\"\",\"OpenPosition\",\"\"&Display5!$D$3&\"\")),RTD(\"cqg.rtd\",,\"OrderData\",\"\"&B142&\"\",\"\",\"OpenPosition\",\"\"&Display5!$D$3&\"\")=0),A141+0.001,INT(A141)+1)","v":0.1420000000000001},{"$f":"(LEFT(B141,SEARCH(Display5!$G$2,B141)+LEN(Display5!$G$2)+2))&RIGHT(B141,LEN(B141)-(SEARCH(Display5!$G$2,B141)+LEN(Display5!$G$2)+2))-Display5!$J$3","v":"P.US.EPU1723300"}]
[{"$f":"IF(OR(ISTEXT(RTD(\"cqg.rtd\",,\"OrderData\",\"\"&B143&\"\",\"\",\"OpenPosition\",\"\"&Display5!$D$3&\"\")),RTD(\"cqg.rtd\",,\"OrderData\",\"\"&B143&\"\",\"\",\"OpenPosition\",\"\"&Display5!$D$3&\"\")=0),A142+0.001,INT(A142)+1)","v":0.1430000000000001},{"$f":"(LEFT(B142,SEARCH(Display5!$G$2,B142)+LEN(Display5!$G$2)+2))&RIGHT(B142,LEN(B142)-(SEARCH(Display5!$G$2,B142)+LEN(Display5!$G$2)+2))-Display5!$J$3","v":"P.US.EPU1723250"}]
[{"$f":"IF(OR(ISTEXT(RTD(\"cqg.rtd\",,\"OrderData\",\"\"&B144&\"\",\"\",\"OpenPosition\",\"\"&Display5!$D$3&\"\")),RTD(\"cqg.rtd\",,\"OrderData\",\"\"&B144&\"\",\"\",\"OpenPosition\",\"\"&Display5!$D$3&\"\")=0),A143+0.001,INT(A143)+1)","v":0.1440000000000001},{"$f":"(LEFT(B143,SEARCH(Display5!$G$2,B143)+LEN(Display5!$G$2)+2))&RIGHT(B143,LEN(B143)-(SEARCH(Display5!$G$2,B143)+LEN(Display5!$G$2)+2))-Display5!$J$3","v":"P.US.EPU1723200"}]
[{"$f":"IF(OR(ISTEXT(RTD(\"cqg.rtd\",,\"OrderData\",\"\"&B145&\"\",\"\",\"OpenPosition\",\"\"&Display5!$D$3&\"\")),RTD(\"cqg.rtd\",,\"OrderData\",\"\"&B145&\"\",\"\",\"OpenPosition\",\"\"&Display5!$D$3&\"\")=0),A144+0.001,INT(A144)+1)","v":0.1450000000000001},{"$f":"(LEFT(B144,SEARCH(Display5!$G$2,B144)+LEN(Display5!$G$2)+2))&RIGHT(B144,LEN(B144)-(SEARCH(Display5!$G$2,B144)+LEN(Display5!$G$2)+2))-Display5!$J$3","v":"P.US.EPU1723150"}]
[{"$f":"IF(OR(ISTEXT(RTD(\"cqg.rtd\",,\"OrderData\",\"\"&B146&\"\",\"\",\"OpenPosition\",\"\"&Display5!$D$3&\"\")),RTD(\"cqg.rtd\",,\"OrderData\",\"\"&B146&\"\",\"\",\"OpenPosition\",\"\"&Display5!$D$3&\"\")=0),A145+0.001,INT(A145)+1)","v":0.1460000000000001},{"$f":"(LEFT(B145,SEARCH(Display5!$G$2,B145)+LEN(Display5!$G$2)+2))&RIGHT(B145,LEN(B145)-(SEARCH(Display5!$G$2,B145)+LEN(Display5!$G$2)+2))-Display5!$J$3","v":"P.US.EPU1723100"}]
[{"$f":"IF(OR(ISTEXT(RTD(\"cqg.rtd\",,\"OrderData\",\"\"&B147&\"\",\"\",\"OpenPosition\",\"\"&Display5!$D$3&\"\")),RTD(\"cqg.rtd\",,\"OrderData\",\"\"&B147&\"\",\"\",\"OpenPosition\",\"\"&Display5!$D$3&\"\")=0),A146+0.001,INT(A146)+1)","v":0.1470000000000001},{"$f":"(LEFT(B146,SEARCH(Display5!$G$2,B146)+LEN(Display5!$G$2)+2))&RIGHT(B146,LEN(B146)-(SEARCH(Display5!$G$2,B146)+LEN(Display5!$G$2)+2))-Display5!$J$3","v":"P.US.EPU1723050"}]
[{"$f":"IF(OR(ISTEXT(RTD(\"cqg.rtd\",,\"OrderData\",\"\"&B148&\"\",\"\",\"OpenPosition\",\"\"&Display5!$D$3&\"\")),RTD(\"cqg.rtd\",,\"OrderData\",\"\"&B148&\"\",\"\",\"OpenPosition\",\"\"&Display5!$D$3&\"\")=0),A147+0.001,INT(A147)+1)","v":0.1480000000000001},{"$f":"(LEFT(B147,SEARCH(Display5!$G$2,B147)+LEN(Display5!$G$2)+2))&RIGHT(B147,LEN(B147)-(SEARCH(Display5!$G$2,B147)+LEN(Display5!$G$2)+2))-Display5!$J$3","v":"P.US.EPU1723000"}]
[{"$f":"IF(OR(ISTEXT(RTD(\"cqg.rtd\",,\"OrderData\",\"\"&B149&\"\",\"\",\"OpenPosition\",\"\"&Display5!$D$3&\"\")),RTD(\"cqg.rtd\",,\"OrderData\",\"\"&B149&\"\",\"\",\"OpenPosition\",\"\"&Display5!$D$3&\"\")=0),A148+0.001,INT(A148)+1)","v":0.1490000000000001},{"$f":"(LEFT(B148,SEARCH(Display5!$G$2,B148)+LEN(Display5!$G$2)+2))&RIGHT(B148,LEN(B148)-(SEARCH(Display5!$G$2,B148)+LEN(Display5!$G$2)+2))-Display5!$J$3","v":"P.US.EPU1722950"}]
[{"$f":"IF(OR(ISTEXT(RTD(\"cqg.rtd\",,\"OrderData\",\"\"&B150&\"\",\"\",\"OpenPosition\",\"\"&Display5!$D$3&\"\")),RTD(\"cqg.rtd\",,\"OrderData\",\"\"&B150&\"\",\"\",\"OpenPosition\",\"\"&Display5!$D$3&\"\")=0),A149+0.001,INT(A149)+1)","v":0.15000000000000011},{"$f":"(LEFT(B149,SEARCH(Display5!$G$2,B149)+LEN(Display5!$G$2)+2))&RIGHT(B149,LEN(B149)-(SEARCH(Display5!$G$2,B149)+LEN(Display5!$G$2)+2))-Display5!$J$3","v":"P.US.EPU1722900"}]
[{"$f":"IF(OR(ISTEXT(RTD(\"cqg.rtd\",,\"OrderData\",\"\"&B151&\"\",\"\",\"OpenPosition\",\"\"&Display5!$D$3&\"\")),RTD(\"cqg.rtd\",,\"OrderData\",\"\"&B151&\"\",\"\",\"OpenPosition\",\"\"&Display5!$D$3&\"\")=0),A150+0.001,INT(A150)+1)","v":0.15100000000000011},{"$f":"(LEFT(B150,SEARCH(Display5!$G$2,B150)+LEN(Display5!$G$2)+2))&RIGHT(B150,LEN(B150)-(SEARCH(Display5!$G$2,B150)+LEN(Display5!$G$2)+2))-Display5!$J$3","v":"P.US.EPU1722850"}]
[{"$f":"IF(OR(ISTEXT(RTD(\"cqg.rtd\",,\"OrderData\",\"\"&B152&\"\",\"\",\"OpenPosition\",\"\"&Display5!$D$3&\"\")),RTD(\"cqg.rtd\",,\"OrderData\",\"\"&B152&\"\",\"\",\"OpenPosition\",\"\"&Display5!$D$3&\"\")=0),A151+0.001,INT(A151)+1)","v":0.15200000000000011},{"$f":"(LEFT(B151,SEARCH(Display5!$G$2,B151)+LEN(Display5!$G$2)+2))&RIGHT(B151,LEN(B151)-(SEARCH(Display5!$G$2,B151)+LEN(Display5!$G$2)+2))-Display5!$J$3","v":"P.US.EPU1722800"}]
[{"$f":"IF(OR(ISTEXT(RTD(\"cqg.rtd\",,\"OrderData\",\"\"&B153&\"\",\"\",\"OpenPosition\",\"\"&Display5!$D$3&\"\")),RTD(\"cqg.rtd\",,\"OrderData\",\"\"&B153&\"\",\"\",\"OpenPosition\",\"\"&Display5!$D$3&\"\")=0),A152+0.001,INT(A152)+1)","v":0.15300000000000011},{"$f":"(LEFT(B152,SEARCH(Display5!$G$2,B152)+LEN(Display5!$G$2)+2))&RIGHT(B152,LEN(B152)-(SEARCH(Display5!$G$2,B152)+LEN(Display5!$G$2)+2))-Display5!$J$3","v":"P.US.EPU1722750"}]
[{"$f":"IF(OR(ISTEXT(RTD(\"cqg.rtd\",,\"OrderData\",\"\"&B154&\"\",\"\",\"OpenPosition\",\"\"&Display5!$D$3&\"\")),RTD(\"cqg.rtd\",,\"OrderData\",\"\"&B154&\"\",\"\",\"OpenPosition\",\"\"&Display5!$D$3&\"\")=0),A153+0.001,INT(A153)+1)","v":0.15400000000000011},{"$f":"(LEFT(B153,SEARCH(Display5!$G$2,B153)+LEN(Display5!$G$2)+2))&RIGHT(B153,LEN(B153)-(SEARCH(Display5!$G$2,B153)+LEN(Display5!$G$2)+2))-Display5!$J$3","v":"P.US.EPU1722700"}]
[{"$f":"IF(OR(ISTEXT(RTD(\"cqg.rtd\",,\"OrderData\",\"\"&B155&\"\",\"\",\"OpenPosition\",\"\"&Display5!$D$3&\"\")),RTD(\"cqg.rtd\",,\"OrderData\",\"\"&B155&\"\",\"\",\"OpenPosition\",\"\"&Display5!$D$3&\"\")=0),A154+0.001,INT(A154)+1)","v":0.15500000000000011},{"$f":"(LEFT(B154,SEARCH(Display5!$G$2,B154)+LEN(Display5!$G$2)+2))&RIGHT(B154,LEN(B154)-(SEARCH(Display5!$G$2,B154)+LEN(Display5!$G$2)+2))-Display5!$J$3","v":"P.US.EPU1722650"}]
[{"$f":"IF(OR(ISTEXT(RTD(\"cqg.rtd\",,\"OrderData\",\"\"&B156&\"\",\"\",\"OpenPosition\",\"\"&Display5!$D$3&\"\")),RTD(\"cqg.rtd\",,\"OrderData\",\"\"&B156&\"\",\"\",\"OpenPosition\",\"\"&Display5!$D$3&\"\")=0),A155+0.001,INT(A155)+1)","v":0.15600000000000011},{"$f":"(LEFT(B155,SEARCH(Display5!$G$2,B155)+LEN(Display5!$G$2)+2))&RIGHT(B155,LEN(B155)-(SEARCH(Display5!$G$2,B155)+LEN(Display5!$G$2)+2))-Display5!$J$3","v":"P.US.EPU1722600"}]
[{"$f":"IF(OR(ISTEXT(RTD(\"cqg.rtd\",,\"OrderData\",\"\"&B157&\"\",\"\",\"OpenPosition\",\"\"&Display5!$D$3&\"\")),RTD(\"cqg.rtd\",,\"OrderData\",\"\"&B157&\"\",\"\",\"OpenPosition\",\"\"&Display5!$D$3&\"\")=0),A156+0.001,INT(A156)+1)","v":0.15700000000000011},{"$f":"(LEFT(B156,SEARCH(Display5!$G$2,B156)+LEN(Display5!$G$2)+2))&RIGHT(B156,LEN(B156)-(SEARCH(Display5!$G$2,B156)+LEN(Display5!$G$2)+2))-Display5!$J$3","v":"P.US.EPU1722550"}]
[{"$f":"IF(OR(ISTEXT(RTD(\"cqg.rtd\",,\"OrderData\",\"\"&B158&\"\",\"\",\"OpenPosition\",\"\"&Display5!$D$3&\"\")),RTD(\"cqg.rtd\",,\"OrderData\",\"\"&B158&\"\",\"\",\"OpenPosition\",\"\"&Display5!$D$3&\"\")=0),A157+0.001,INT(A157)+1)","v":0.15800000000000011},{"$f":"(LEFT(B157,SEARCH(Display5!$G$2,B157)+LEN(Display5!$G$2)+2))&RIGHT(B157,LEN(B157)-(SEARCH(Display5!$G$2,B157)+LEN(Display5!$G$2)+2))-Display5!$J$3","v":"P.US.EPU1722500"}]
[{"$f":"IF(OR(ISTEXT(RTD(\"cqg.rtd\",,\"OrderData\",\"\"&B159&\"\",\"\",\"OpenPosition\",\"\"&Display5!$D$3&\"\")),RTD(\"cqg.rtd\",,\"OrderData\",\"\"&B159&\"\",\"\",\"OpenPosition\",\"\"&Display5!$D$3&\"\")=0),A158+0.001,INT(A158)+1)","v":0.15900000000000011},{"$f":"(LEFT(B158,SEARCH(Display5!$G$2,B158)+LEN(Display5!$G$2)+2))&RIGHT(B158,LEN(B158)-(SEARCH(Display5!$G$2,B158)+LEN(Display5!$G$2)+2))-Display5!$J$3","v":"P.US.EPU1722450"}]
[{"$f":"IF(OR(ISTEXT(RTD(\"cqg.rtd\",,\"OrderData\",\"\"&B160&\"\",\"\",\"OpenPosition\",\"\"&Display5!$D$3&\"\")),RTD(\"cqg.rtd\",,\"OrderData\",\"\"&B160&\"\",\"\",\"OpenPosition\",\"\"&Display5!$D$3&\"\")=0),A159+0.001,INT(A159)+1)","v":0.16000000000000011},{"$f":"(LEFT(B159,SEARCH(Display5!$G$2,B159)+LEN(Display5!$G$2)+2))&RIGHT(B159,LEN(B159)-(SEARCH(Display5!$G$2,B159)+LEN(Display5!$G$2)+2))-Display5!$J$3","v":"P.US.EPU1722400"}]
[{"$f":"IF(OR(ISTEXT(RTD(\"cqg.rtd\",,\"OrderData\",\"\"&B161&\"\",\"\",\"OpenPosition\",\"\"&Display5!$D$3&\"\")),RTD(\"cqg.rtd\",,\"OrderData\",\"\"&B161&\"\",\"\",\"OpenPosition\",\"\"&Display5!$D$3&\"\")=0),A160+0.001,INT(A160)+1)","v":0.16100000000000012},{"$f":"(LEFT(B160,SEARCH(Display5!$G$2,B160)+LEN(Display5!$G$2)+2))&RIGHT(B160,LEN(B160)-(SEARCH(Display5!$G$2,B160)+LEN(Display5!$G$2)+2))-Display5!$J$3","v":"P.US.EPU1722350"}]
[{"$f":"IFERROR(IF(OR(ISTEXT(RTD(\"cqg.rtd\",,\"OrderData\",\"\"&B162&\"\",\"\",\"OpenPosition\",\"\"&Display5!$D$3&\"\")),RTD(\"cqg.rtd\",,\"OrderData\",\"\"&B162&\"\",\"\",\"OpenPosition\",\"\"&Display5!$D$3&\"\")=0),A161+0.001,INT(A161)+1),A161)","v":0.16200000000000012},{"$f":"(LEFT(B163,SEARCH(Display5!$G$2,B163)+LEN(Display5!$G$2)+2))&RIGHT(B163,LEN(B163)-(SEARCH(Display5!$G$2,B163)+LEN(Display5!$G$2)+2))+Display5!$J$3","v":"C.US.EPZ1726350"}]
[{"$f":"IFERROR(IF(OR(ISTEXT(RTD(\"cqg.rtd\",,\"OrderData\",\"\"&B163&\"\",\"\",\"OpenPosition\",\"\"&Display5!$D$3&\"\")),RTD(\"cqg.rtd\",,\"OrderData\",\"\"&B163&\"\",\"\",\"OpenPosition\",\"\"&Display5!$D$3&\"\")=0),A162+0.001,INT(A162)+1),A162)","v":0.16300000000000012},{"$f":"(LEFT(B164,SEARCH(Display5!$G$2,B164)+LEN(Display5!$G$2)+2))&RIGHT(B164,LEN(B164)-(SEARCH(Display5!$G$2,B164)+LEN(Display5!$G$2)+2))+Display5!$J$3","v":"C.US.EPZ1726300"}]
[{"$f":"IFERROR(IF(OR(ISTEXT(RTD(\"cqg.rtd\",,\"OrderData\",\"\"&B164&\"\",\"\",\"OpenPosition\",\"\"&Display5!$D$3&\"\")),RTD(\"cqg.rtd\",,\"OrderData\",\"\"&B164&\"\",\"\",\"OpenPosition\",\"\"&Display5!$D$3&\"\")=0),A163+0.001,INT(A163)+1),A163)","v":0.16400000000000012},{"$f":"(LEFT(B165,SEARCH(Display5!$G$2,B165)+LEN(Display5!$G$2)+2))&RIGHT(B165,LEN(B165)-(SEARCH(Display5!$G$2,B165)+LEN(Display5!$G$2)+2))+Display5!$J$3","v":"C.US.EPZ1726250"}]
[{"$f":"IFERROR(IF(OR(ISTEXT(RTD(\"cqg.rtd\",,\"OrderData\",\"\"&B165&\"\",\"\",\"OpenPosition\",\"\"&Display5!$D$3&\"\")),RTD(\"cqg.rtd\",,\"OrderData\",\"\"&B165&\"\",\"\",\"OpenPosition\",\"\"&Display5!$D$3&\"\")=0),A164+0.001,INT(A164)+1),A164)","v":0.16500000000000012},{"$f":"(LEFT(B166,SEARCH(Display5!$G$2,B166)+LEN(Display5!$G$2)+2))&RIGHT(B166,LEN(B166)-(SEARCH(Display5!$G$2,B166)+LEN(Display5!$G$2)+2))+Display5!$J$3","v":"C.US.EPZ1726200"}]
[{"$f":"IFERROR(IF(OR(ISTEXT(RTD(\"cqg.rtd\",,\"OrderData\",\"\"&B166&\"\",\"\",\"OpenPosition\",\"\"&Display5!$D$3&\"\")),RTD(\"cqg.rtd\",,\"OrderData\",\"\"&B166&\"\",\"\",\"OpenPosition\",\"\"&Display5!$D$3&\"\")=0),A165+0.001,INT(A165)+1),A165)","v":0.16600000000000012},{"$f":"(LEFT(B167,SEARCH(Display5!$G$2,B167)+LEN(Display5!$G$2)+2))&RIGHT(B167,LEN(B167)-(SEARCH(Display5!$G$2,B167)+LEN(Display5!$G$2)+2))+Display5!$J$3","v":"C.US.EPZ1726150"}]
[{"$f":"IFERROR(IF(OR(ISTEXT(RTD(\"cqg.rtd\",,\"OrderData\",\"\"&B167&\"\",\"\",\"OpenPosition\",\"\"&Display5!$D$3&\"\")),RTD(\"cqg.rtd\",,\"OrderData\",\"\"&B167&\"\",\"\",\"OpenPosition\",\"\"&Display5!$D$3&\"\")=0),A166+0.001,INT(A166)+1),A166)","v":0.16700000000000012},{"$f":"(LEFT(B168,SEARCH(Display5!$G$2,B168)+LEN(Display5!$G$2)+2))&RIGHT(B168,LEN(B168)-(SEARCH(Display5!$G$2,B168)+LEN(Display5!$G$2)+2))+Display5!$J$3","v":"C.US.EPZ1726100"}]
[{"$f":"IFERROR(IF(OR(ISTEXT(RTD(\"cqg.rtd\",,\"OrderData\",\"\"&B168&\"\",\"\",\"OpenPosition\",\"\"&Display5!$D$3&\"\")),RTD(\"cqg.rtd\",,\"OrderData\",\"\"&B168&\"\",\"\",\"OpenPosition\",\"\"&Display5!$D$3&\"\")=0),A167+0.001,INT(A167)+1),A167)","v":0.16800000000000012},{"$f":"(LEFT(B169,SEARCH(Display5!$G$2,B169)+LEN(Display5!$G$2)+2))&RIGHT(B169,LEN(B169)-(SEARCH(Display5!$G$2,B169)+LEN(Display5!$G$2)+2))+Display5!$J$3","v":"C.US.EPZ1726050"}]
[{"$f":"IFERROR(IF(OR(ISTEXT(RTD(\"cqg.rtd\",,\"OrderData\",\"\"&B169&\"\",\"\",\"OpenPosition\",\"\"&Display5!$D$3&\"\")),RTD(\"cqg.rtd\",,\"OrderData\",\"\"&B169&\"\",\"\",\"OpenPosition\",\"\"&Display5!$D$3&\"\")=0),A168+0.001,INT(A168)+1),A168)","v":0.16900000000000012},{"$f":"(LEFT(B170,SEARCH(Display5!$G$2,B170)+LEN(Display5!$G$2)+2))&RIGHT(B170,LEN(B170)-(SEARCH(Display5!$G$2,B170)+LEN(Display5!$G$2)+2))+Display5!$J$3","v":"C.US.EPZ1726000"}]
[{"$f":"IFERROR(IF(OR(ISTEXT(RTD(\"cqg.rtd\",,\"OrderData\",\"\"&B170&\"\",\"\",\"OpenPosition\",\"\"&Display5!$D$3&\"\")),RTD(\"cqg.rtd\",,\"OrderData\",\"\"&B170&\"\",\"\",\"OpenPosition\",\"\"&Display5!$D$3&\"\")=0),A169+0.001,INT(A169)+1),A169)","v":0.17000000000000012},{"$f":"(LEFT(B171,SEARCH(Display5!$G$2,B171)+LEN(Display5!$G$2)+2))&RIGHT(B171,LEN(B171)-(SEARCH(Display5!$G$2,B171)+LEN(Display5!$G$2)+2))+Display5!$J$3","v":"C.US.EPZ1725950"}]
[{"$f":"IFERROR(IF(OR(ISTEXT(RTD(\"cqg.rtd\",,\"OrderData\",\"\"&B171&\"\",\"\",\"OpenPosition\",\"\"&Display5!$D$3&\"\")),RTD(\"cqg.rtd\",,\"OrderData\",\"\"&B171&\"\",\"\",\"OpenPosition\",\"\"&Display5!$D$3&\"\")=0),A170+0.001,INT(A170)+1),A170)","v":0.17100000000000012},{"$f":"(LEFT(B172,SEARCH(Display5!$G$2,B172)+LEN(Display5!$G$2)+2))&RIGHT(B172,LEN(B172)-(SEARCH(Display5!$G$2,B172)+LEN(Display5!$G$2)+2))+Display5!$J$3","v":"C.US.EPZ1725900"}]
[{"$f":"IFERROR(IF(OR(ISTEXT(RTD(\"cqg.rtd\",,\"OrderData\",\"\"&B172&\"\",\"\",\"OpenPosition\",\"\"&Display5!$D$3&\"\")),RTD(\"cqg.rtd\",,\"OrderData\",\"\"&B172&\"\",\"\",\"OpenPosition\",\"\"&Display5!$D$3&\"\")=0),A171+0.001,INT(A171)+1),A171)","v":0.17200000000000013},{"$f":"(LEFT(B173,SEARCH(Display5!$G$2,B173)+LEN(Display5!$G$2)+2))&RIGHT(B173,LEN(B173)-(SEARCH(Display5!$G$2,B173)+LEN(Display5!$G$2)+2))+Display5!$J$3","v":"C.US.EPZ1725850"}]
[{"$f":"IFERROR(IF(OR(ISTEXT(RTD(\"cqg.rtd\",,\"OrderData\",\"\"&B173&\"\",\"\",\"OpenPosition\",\"\"&Display5!$D$3&\"\")),RTD(\"cqg.rtd\",,\"OrderData\",\"\"&B173&\"\",\"\",\"OpenPosition\",\"\"&Display5!$D$3&\"\")=0),A172+0.001,INT(A172)+1),A172)","v":0.17300000000000013},{"$f":"(LEFT(B174,SEARCH(Display5!$G$2,B174)+LEN(Display5!$G$2)+2))&RIGHT(B174,LEN(B174)-(SEARCH(Display5!$G$2,B174)+LEN(Display5!$G$2)+2))+Display5!$J$3","v":"C.US.EPZ1725800"}]
[{"$f":"IFERROR(IF(OR(ISTEXT(RTD(\"cqg.rtd\",,\"OrderData\",\"\"&B174&\"\",\"\",\"OpenPosition\",\"\"&Display5!$D$3&\"\")),RTD(\"cqg.rtd\",,\"OrderData\",\"\"&B174&\"\",\"\",\"OpenPosition\",\"\"&Display5!$D$3&\"\")=0),A173+0.001,INT(A173)+1),A173)","v":0.17400000000000013},{"$f":"(LEFT(B175,SEARCH(Display5!$G$2,B175)+LEN(Display5!$G$2)+2))&RIGHT(B175,LEN(B175)-(SEARCH(Display5!$G$2,B175)+LEN(Display5!$G$2)+2))+Display5!$J$3","v":"C.US.EPZ1725750"}]
[{"$f":"IFERROR(IF(OR(ISTEXT(RTD(\"cqg.rtd\",,\"OrderData\",\"\"&B175&\"\",\"\",\"OpenPosition\",\"\"&Display5!$D$3&\"\")),RTD(\"cqg.rtd\",,\"OrderData\",\"\"&B175&\"\",\"\",\"OpenPosition\",\"\"&Display5!$D$3&\"\")=0),A174+0.001,INT(A174)+1),A174)","v":0.17500000000000013},{"$f":"(LEFT(B176,SEARCH(Display5!$G$2,B176)+LEN(Display5!$G$2)+2))&RIGHT(B176,LEN(B176)-(SEARCH(Display5!$G$2,B176)+LEN(Display5!$G$2)+2))+Display5!$J$3","v":"C.US.EPZ1725700"}]
[{"$f":"IFERROR(IF(OR(ISTEXT(RTD(\"cqg.rtd\",,\"OrderData\",\"\"&B176&\"\",\"\",\"OpenPosition\",\"\"&Display5!$D$3&\"\")),RTD(\"cqg.rtd\",,\"OrderData\",\"\"&B176&\"\",\"\",\"OpenPosition\",\"\"&Display5!$D$3&\"\")=0),A175+0.001,INT(A175)+1),A175)","v":0.17600000000000013},{"$f":"(LEFT(B177,SEARCH(Display5!$G$2,B177)+LEN(Display5!$G$2)+2))&RIGHT(B177,LEN(B177)-(SEARCH(Display5!$G$2,B177)+LEN(Display5!$G$2)+2))+Display5!$J$3","v":"C.US.EPZ1725650"}]
[{"$f":"IFERROR(IF(OR(ISTEXT(RTD(\"cqg.rtd\",,\"OrderData\",\"\"&B177&\"\",\"\",\"OpenPosition\",\"\"&Display5!$D$3&\"\")),RTD(\"cqg.rtd\",,\"OrderData\",\"\"&B177&\"\",\"\",\"OpenPosition\",\"\"&Display5!$D$3&\"\")=0),A176+0.001,INT(A176)+1),A176)","v":0.17700000000000013},{"$f":"(LEFT(B178,SEARCH(Display5!$G$2,B178)+LEN(Display5!$G$2)+2))&RIGHT(B178,LEN(B178)-(SEARCH(Display5!$G$2,B178)+LEN(Display5!$G$2)+2))+Display5!$J$3","v":"C.US.EPZ1725600"}]
[{"$f":"IFERROR(IF(OR(ISTEXT(RTD(\"cqg.rtd\",,\"OrderData\",\"\"&B178&\"\",\"\",\"OpenPosition\",\"\"&Display5!$D$3&\"\")),RTD(\"cqg.rtd\",,\"OrderData\",\"\"&B178&\"\",\"\",\"OpenPosition\",\"\"&Display5!$D$3&\"\")=0),A177+0.001,INT(A177)+1),A177)","v":0.17800000000000013},{"$f":"(LEFT(B179,SEARCH(Display5!$G$2,B179)+LEN(Display5!$G$2)+2))&RIGHT(B179,LEN(B179)-(SEARCH(Display5!$G$2,B179)+LEN(Display5!$G$2)+2))+Display5!$J$3","v":"C.US.EPZ1725550"}]
[{"$f":"IFERROR(IF(OR(ISTEXT(RTD(\"cqg.rtd\",,\"OrderData\",\"\"&B179&\"\",\"\",\"OpenPosition\",\"\"&Display5!$D$3&\"\")),RTD(\"cqg.rtd\",,\"OrderData\",\"\"&B179&\"\",\"\",\"OpenPosition\",\"\"&Display5!$D$3&\"\")=0),A178+0.001,INT(A178)+1),A178)","v":0.17900000000000013},{"$f":"(LEFT(B180,SEARCH(Display5!$G$2,B180)+LEN(Display5!$G$2)+2))&RIGHT(B180,LEN(B180)-(SEARCH(Display5!$G$2,B180)+LEN(Display5!$G$2)+2))+Display5!$J$3","v":"C.US.EPZ1725500"}]
[{"$f":"IFERROR(IF(OR(ISTEXT(RTD(\"cqg.rtd\",,\"OrderData\",\"\"&B180&\"\",\"\",\"OpenPosition\",\"\"&Display5!$D$3&\"\")),RTD(\"cqg.rtd\",,\"OrderData\",\"\"&B180&\"\",\"\",\"OpenPosition\",\"\"&Display5!$D$3&\"\")=0),A179+0.001,INT(A179)+1),A179)","v":0.18000000000000013},{"$f":"(LEFT(B181,SEARCH(Display5!$G$2,B181)+LEN(Display5!$G$2)+2))&RIGHT(B181,LEN(B181)-(SEARCH(Display5!$G$2,B181)+LEN(Display5!$G$2)+2))+Display5!$J$3","v":"C.US.EPZ1725450"}]
[{"$f":"IFERROR(IF(OR(ISTEXT(RTD(\"cqg.rtd\",,\"OrderData\",\"\"&B181&\"\",\"\",\"OpenPosition\",\"\"&Display5!$D$3&\"\")),RTD(\"cqg.rtd\",,\"OrderData\",\"\"&B181&\"\",\"\",\"OpenPosition\",\"\"&Display5!$D$3&\"\")=0),A180+0.001,INT(A180)+1),A180)","v":0.18100000000000013},{"$f":"(LEFT(B182,SEARCH(Display5!$G$2,B182)+LEN(Display5!$G$2)+2))&RIGHT(B182,LEN(B182)-(SEARCH(Display5!$G$2,B182)+LEN(Display5!$G$2)+2))+Display5!$J$3","v":"C.US.EPZ1725400"}]
[{"$f":"IFERROR(IF(OR(ISTEXT(RTD(\"cqg.rtd\",,\"OrderData\",\"\"&B182&\"\",\"\",\"OpenPosition\",\"\"&Display5!$D$3&\"\")),RTD(\"cqg.rtd\",,\"OrderData\",\"\"&B182&\"\",\"\",\"OpenPosition\",\"\"&Display5!$D$3&\"\")=0),A181+0.001,INT(A181)+1),A181)","v":0.18200000000000013},{"$f":"(LEFT(B183,SEARCH(Display5!$G$2,B183)+LEN(Display5!$G$2)+2))&RIGHT(B183,LEN(B183)-(SEARCH(Display5!$G$2,B183)+LEN(Display5!$G$2)+2))+Display5!$J$3","v":"C.US.EPZ1725350"}]
[{"$f":"IFERROR(IF(OR(ISTEXT(RTD(\"cqg.rtd\",,\"OrderData\",\"\"&B183&\"\",\"\",\"OpenPosition\",\"\"&Display5!$D$3&\"\")),RTD(\"cqg.rtd\",,\"OrderData\",\"\"&B183&\"\",\"\",\"OpenPosition\",\"\"&Display5!$D$3&\"\")=0),A182+0.001,INT(A182)+1),A182)","v":0.18300000000000013},{"$f":"(LEFT(B184,SEARCH(Display5!$G$2,B184)+LEN(Display5!$G$2)+2))&RIGHT(B184,LEN(B184)-(SEARCH(Display5!$G$2,B184)+LEN(Display5!$G$2)+2))+Display5!$J$3","v":"C.US.EPZ1725300"}]
[{"$f":"IFERROR(IF(OR(ISTEXT(RTD(\"cqg.rtd\",,\"OrderData\",\"\"&B184&\"\",\"\",\"OpenPosition\",\"\"&Display5!$D$3&\"\")),RTD(\"cqg.rtd\",,\"OrderData\",\"\"&B184&\"\",\"\",\"OpenPosition\",\"\"&Display5!$D$3&\"\")=0),A183+0.001,INT(A183)+1),A183)","v":0.18400000000000014},{"$f":"(LEFT(B185,SEARCH(Display5!$G$2,B185)+LEN(Display5!$G$2)+2))&RIGHT(B185,LEN(B185)-(SEARCH(Display5!$G$2,B185)+LEN(Display5!$G$2)+2))+Display5!$J$3","v":"C.US.EPZ1725250"}]
[{"$f":"IFERROR(IF(OR(ISTEXT(RTD(\"cqg.rtd\",,\"OrderData\",\"\"&B185&\"\",\"\",\"OpenPosition\",\"\"&Display5!$D$3&\"\")),RTD(\"cqg.rtd\",,\"OrderData\",\"\"&B185&\"\",\"\",\"OpenPosition\",\"\"&Display5!$D$3&\"\")=0),A184+0.001,INT(A184)+1),A184)","v":0.18500000000000014},{"$f":"(LEFT(B186,SEARCH(Display5!$G$2,B186)+LEN(Display5!$G$2)+2))&RIGHT(B186,LEN(B186)-(SEARCH(Display5!$G$2,B186)+LEN(Display5!$G$2)+2))+Display5!$J$3","v":"C.US.EPZ1725200"}]
[{"$f":"IFERROR(IF(OR(ISTEXT(RTD(\"cqg.rtd\",,\"OrderData\",\"\"&B186&\"\",\"\",\"OpenPosition\",\"\"&Display5!$D$3&\"\")),RTD(\"cqg.rtd\",,\"OrderData\",\"\"&B186&\"\",\"\",\"OpenPosition\",\"\"&Display5!$D$3&\"\")=0),A185+0.001,INT(A185)+1),A185)","v":0.18600000000000014},{"$f":"(LEFT(B187,SEARCH(Display5!$G$2,B187)+LEN(Display5!$G$2)+2))&RIGHT(B187,LEN(B187)-(SEARCH(Display5!$G$2,B187)+LEN(Display5!$G$2)+2))+Display5!$J$3","v":"C.US.EPZ1725150"}]
[{"$f":"IFERROR(IF(OR(ISTEXT(RTD(\"cqg.rtd\",,\"OrderData\",\"\"&B187&\"\",\"\",\"OpenPosition\",\"\"&Display5!$D$3&\"\")),RTD(\"cqg.rtd\",,\"OrderData\",\"\"&B187&\"\",\"\",\"OpenPosition\",\"\"&Display5!$D$3&\"\")=0),A186+0.001,INT(A186)+1),A186)","v":0.18700000000000014},{"$f":"(LEFT(B188,SEARCH(Display5!$G$2,B188)+LEN(Display5!$G$2)+2))&RIGHT(B188,LEN(B188)-(SEARCH(Display5!$G$2,B188)+LEN(Display5!$G$2)+2))+Display5!$J$3","v":"C.US.EPZ1725100"}]
[{"$f":"IFERROR(IF(OR(ISTEXT(RTD(\"cqg.rtd\",,\"OrderData\",\"\"&B188&\"\",\"\",\"OpenPosition\",\"\"&Display5!$D$3&\"\")),RTD(\"cqg.rtd\",,\"OrderData\",\"\"&B188&\"\",\"\",\"OpenPosition\",\"\"&Display5!$D$3&\"\")=0),A187+0.001,INT(A187)+1),A187)","v":0.18800000000000014},{"$f":"(LEFT(B189,SEARCH(Display5!$G$2,B189)+LEN(Display5!$G$2)+2))&RIGHT(B189,LEN(B189)-(SEARCH(Display5!$G$2,B189)+LEN(Display5!$G$2)+2))+Display5!$J$3","v":"C.US.EPZ1725050"}]
[{"$f":"IFERROR(IF(OR(ISTEXT(RTD(\"cqg.rtd\",,\"OrderData\",\"\"&B189&\"\",\"\",\"OpenPosition\",\"\"&Display5!$D$3&\"\")),RTD(\"cqg.rtd\",,\"OrderData\",\"\"&B189&\"\",\"\",\"OpenPosition\",\"\"&Display5!$D$3&\"\")=0),A188+0.001,INT(A188)+1),A188)","v":0.18900000000000014},{"$f":"(LEFT(B190,SEARCH(Display5!$G$2,B190)+LEN(Display5!$G$2)+2))&RIGHT(B190,LEN(B190)-(SEARCH(Display5!$G$2,B190)+LEN(Display5!$G$2)+2))+Display5!$J$3","v":"C.US.EPZ1725000"}]
[{"$f":"IFERROR(IF(OR(ISTEXT(RTD(\"cqg.rtd\",,\"OrderData\",\"\"&B190&\"\",\"\",\"OpenPosition\",\"\"&Display5!$D$3&\"\")),RTD(\"cqg.rtd\",,\"OrderData\",\"\"&B190&\"\",\"\",\"OpenPosition\",\"\"&Display5!$D$3&\"\")=0),A189+0.001,INT(A189)+1),A189)","v":0.19000000000000014},{"$f":"(LEFT(B191,SEARCH(Display5!$G$2,B191)+LEN(Display5!$G$2)+2))&RIGHT(B191,LEN(B191)-(SEARCH(Display5!$G$2,B191)+LEN(Display5!$G$2)+2))+Display5!$J$3","v":"C.US.EPZ1724950"}]
[{"$f":"IFERROR(IF(OR(ISTEXT(RTD(\"cqg.rtd\",,\"OrderData\",\"\"&B191&\"\",\"\",\"OpenPosition\",\"\"&Display5!$D$3&\"\")),RTD(\"cqg.rtd\",,\"OrderData\",\"\"&B191&\"\",\"\",\"OpenPosition\",\"\"&Display5!$D$3&\"\")=0),A190+0.001,INT(A190)+1),A190)","v":0.19100000000000014},{"$f":"(LEFT(B192,SEARCH(Display5!$G$2,B192)+LEN(Display5!$G$2)+2))&RIGHT(B192,LEN(B192)-(SEARCH(Display5!$G$2,B192)+LEN(Display5!$G$2)+2))+Display5!$J$3","v":"C.US.EPZ1724900"}]
[{"$f":"IFERROR(IF(OR(ISTEXT(RTD(\"cqg.rtd\",,\"OrderData\",\"\"&B192&\"\",\"\",\"OpenPosition\",\"\"&Display5!$D$3&\"\")),RTD(\"cqg.rtd\",,\"OrderData\",\"\"&B192&\"\",\"\",\"OpenPosition\",\"\"&Display5!$D$3&\"\")=0),A191+0.001,INT(A191)+1),A191)","v":0.19200000000000014},{"$f":"(LEFT(B193,SEARCH(Display5!$G$2,B193)+LEN(Display5!$G$2)+2))&RIGHT(B193,LEN(B193)-(SEARCH(Display5!$G$2,B193)+LEN(Display5!$G$2)+2))+Display5!$J$3","v":"C.US.EPZ1724850"}]
[{"$f":"IFERROR(IF(OR(ISTEXT(RTD(\"cqg.rtd\",,\"OrderData\",\"\"&B193&\"\",\"\",\"OpenPosition\",\"\"&Display5!$D$3&\"\")),RTD(\"cqg.rtd\",,\"OrderData\",\"\"&B193&\"\",\"\",\"OpenPosition\",\"\"&Display5!$D$3&\"\")=0),A192+0.001,INT(A192)+1),A192)","v":0.19300000000000014},{"$f":"(LEFT(B194,SEARCH(Display5!$G$2,B194)+LEN(Display5!$G$2)+2))&RIGHT(B194,LEN(B194)-(SEARCH(Display5!$G$2,B194)+LEN(Display5!$G$2)+2))+Display5!$J$3","v":"C.US.EPZ1724800"}]
[{"$f":"IFERROR(IF(OR(ISTEXT(RTD(\"cqg.rtd\",,\"OrderData\",\"\"&B194&\"\",\"\",\"OpenPosition\",\"\"&Display5!$D$3&\"\")),RTD(\"cqg.rtd\",,\"OrderData\",\"\"&B194&\"\",\"\",\"OpenPosition\",\"\"&Display5!$D$3&\"\")=0),A193+0.001,INT(A193)+1),A193)","v":0.19400000000000014},{"$f":"(LEFT(B195,SEARCH(Display5!$G$2,B195)+LEN(Display5!$G$2)+2))&RIGHT(B195,LEN(B195)-(SEARCH(Display5!$G$2,B195)+LEN(Display5!$G$2)+2))+Display5!$J$3","v":"C.US.EPZ1724750"}]
[{"$f":"IFERROR(IF(OR(ISTEXT(RTD(\"cqg.rtd\",,\"OrderData\",\"\"&B195&\"\",\"\",\"OpenPosition\",\"\"&Display5!$D$3&\"\")),RTD(\"cqg.rtd\",,\"OrderData\",\"\"&B195&\"\",\"\",\"OpenPosition\",\"\"&Display5!$D$3&\"\")=0),A194+0.001,INT(A194)+1),A194)","v":0.19500000000000015},{"$f":"(LEFT(B196,SEARCH(Display5!$G$2,B196)+LEN(Display5!$G$2)+2))&RIGHT(B196,LEN(B196)-(SEARCH(Display5!$G$2,B196)+LEN(Display5!$G$2)+2))+Display5!$J$3","v":"C.US.EPZ1724700"}]
[{"$f":"IFERROR(IF(OR(ISTEXT(RTD(\"cqg.rtd\",,\"OrderData\",\"\"&B196&\"\",\"\",\"OpenPosition\",\"\"&Display5!$D$3&\"\")),RTD(\"cqg.rtd\",,\"OrderData\",\"\"&B196&\"\",\"\",\"OpenPosition\",\"\"&Display5!$D$3&\"\")=0),A195+0.001,INT(A195)+1),A195)","v":0.19600000000000015},{"$f":"(LEFT(B197,SEARCH(Display5!$G$2,B197)+LEN(Display5!$G$2)+2))&RIGHT(B197,LEN(B197)-(SEARCH(Display5!$G$2,B197)+LEN(Display5!$G$2)+2))+Display5!$J$3","v":"C.US.EPZ1724650"}]
[{"$f":"IFERROR(IF(OR(ISTEXT(RTD(\"cqg.rtd\",,\"OrderData\",\"\"&B197&\"\",\"\",\"OpenPosition\",\"\"&Display5!$D$3&\"\")),RTD(\"cqg.rtd\",,\"OrderData\",\"\"&B197&\"\",\"\",\"OpenPosition\",\"\"&Display5!$D$3&\"\")=0),A196+0.001,INT(A196)+1),A196)","v":0.19700000000000015},{"$f":"(LEFT(B198,SEARCH(Display5!$G$2,B198)+LEN(Display5!$G$2)+2))&RIGHT(B198,LEN(B198)-(SEARCH(Display5!$G$2,B198)+LEN(Display5!$G$2)+2))+Display5!$J$3","v":"C.US.EPZ1724600"}]
[{"$f":"IFERROR(IF(OR(ISTEXT(RTD(\"cqg.rtd\",,\"OrderData\",\"\"&B198&\"\",\"\",\"OpenPosition\",\"\"&Display5!$D$3&\"\")),RTD(\"cqg.rtd\",,\"OrderData\",\"\"&B198&\"\",\"\",\"OpenPosition\",\"\"&Display5!$D$3&\"\")=0),A197+0.001,INT(A197)+1),A197)","v":0.19800000000000015},{"$f":"(LEFT(B199,SEARCH(Display5!$G$2,B199)+LEN(Display5!$G$2)+2))&RIGHT(B199,LEN(B199)-(SEARCH(Display5!$G$2,B199)+LEN(Display5!$G$2)+2))+Display5!$J$3","v":"C.US.EPZ1724550"}]
[{"$f":"IFERROR(IF(OR(ISTEXT(RTD(\"cqg.rtd\",,\"OrderData\",\"\"&B199&\"\",\"\",\"OpenPosition\",\"\"&Display5!$D$3&\"\")),RTD(\"cqg.rtd\",,\"OrderData\",\"\"&B199&\"\",\"\",\"OpenPosition\",\"\"&Display5!$D$3&\"\")=0),A198+0.001,INT(A198)+1),A198)","v":0.19900000000000015},{"$f":"(LEFT(B200,SEARCH(Display5!$G$2,B200)+LEN(Display5!$G$2)+2))&RIGHT(B200,LEN(B200)-(SEARCH(Display5!$G$2,B200)+LEN(Display5!$G$2)+2))+Display5!$J$3","v":"C.US.EPZ1724500"}]
[{"$f":"IFERROR(IF(OR(ISTEXT(RTD(\"cqg.rtd\",,\"OrderData\",\"\"&B200&\"\",\"\",\"OpenPosition\",\"\"&Display5!$D$3&\"\")),RTD(\"cqg.rtd\",,\"OrderData\",\"\"&B200&\"\",\"\",\"OpenPosition\",\"\"&Display5!$D$3&\"\")=0),A199+0.001,INT(A199)+1),A199)","v":0.20000000000000015},{"$f":"(LEFT(B201,SEARCH(Display5!$G$2,B201)+LEN(Display5!$G$2)+2))&RIGHT(B201,LEN(B201)-(SEARCH(Display5!$G$2,B201)+LEN(Display5!$G$2)+2))+Display5!$J$3","v":"C.US.EPZ1724450"}]
[{"$f":"IFERROR(IF(OR(ISTEXT(RTD(\"cqg.rtd\",,\"OrderData\",\"\"&B201&\"\",\"\",\"OpenPosition\",\"\"&Display5!$D$3&\"\")),RTD(\"cqg.rtd\",,\"OrderData\",\"\"&B201&\"\",\"\",\"OpenPosition\",\"\"&Display5!$D$3&\"\")=0),A200+0.001,INT(A200)+1),A200)","v":0.20100000000000015},{"$f":"(LEFT(B202,SEARCH(Display5!$G$2,B202)+LEN(Display5!$G$2)+2))&RIGHT(B202,LEN(B202)-(SEARCH(Display5!$G$2,B202)+LEN(Display5!$G$2)+2))+Display5!$J$3","v":"C.US.EPZ1724400"}]
[{"$f":"IFERROR(IF(OR(ISTEXT(RTD(\"cqg.rtd\",,\"OrderData\",\"\"&B202&\"\",\"\",\"OpenPosition\",\"\"&Display5!$D$3&\"\")),RTD(\"cqg.rtd\",,\"OrderData\",\"\"&B202&\"\",\"\",\"OpenPosition\",\"\"&Display5!$D$3&\"\")=0),A201+0.001,INT(A201)+1),A201)","v":0.20200000000000015},{"$f":"RTD(\"cqg.rtd\", ,\"ContractData\", \"C.US.\"&Display5!$G$2&Display5!$H$3&\"\", \"Symbol\",, \"T\")","v":"C.US.EPZ1724350"}]
[{"$f":"IFERROR(IF(OR(ISTEXT(RTD(\"cqg.rtd\",,\"OrderData\",\"\"&B203&\"\",\"\",\"OpenPosition\",\"\"&Display5!$D$3&\"\")),RTD(\"cqg.rtd\",,\"OrderData\",\"\"&B203&\"\",\"\",\"OpenPosition\",\"\"&Display5!$D$3&\"\")=0),A202+0.001,INT(A202)+1),A202)","v":0.20300000000000015},{"$f":"(LEFT(B202,SEARCH(Display5!$G$2,B202)+LEN(Display5!$G$2)+2))&RIGHT(B202,LEN(B202)-(SEARCH(Display5!$G$2,B202)+LEN(Display5!$G$2)+2))-Display5!$J$3","v":"C.US.EPZ1724300"}]
[{"$f":"IFERROR(IF(OR(ISTEXT(RTD(\"cqg.rtd\",,\"OrderData\",\"\"&B204&\"\",\"\",\"OpenPosition\",\"\"&Display5!$D$3&\"\")),RTD(\"cqg.rtd\",,\"OrderData\",\"\"&B204&\"\",\"\",\"OpenPosition\",\"\"&Display5!$D$3&\"\")=0),A203+0.001,INT(A203)+1),A203)","v":0.20400000000000015},{"$f":"(LEFT(B203,SEARCH(Display5!$G$2,B203)+LEN(Display5!$G$2)+2))&RIGHT(B203,LEN(B203)-(SEARCH(Display5!$G$2,B203)+LEN(Display5!$G$2)+2))-Display5!$J$3","v":"C.US.EPZ1724250"}]
[{"$f":"IFERROR(IF(OR(ISTEXT(RTD(\"cqg.rtd\",,\"OrderData\",\"\"&B205&\"\",\"\",\"OpenPosition\",\"\"&Display5!$D$3&\"\")),RTD(\"cqg.rtd\",,\"OrderData\",\"\"&B205&\"\",\"\",\"OpenPosition\",\"\"&Display5!$D$3&\"\")=0),A204+0.001,INT(A204)+1),A204)","v":0.20500000000000015},{"$f":"(LEFT(B204,SEARCH(Display5!$G$2,B204)+LEN(Display5!$G$2)+2))&RIGHT(B204,LEN(B204)-(SEARCH(Display5!$G$2,B204)+LEN(Display5!$G$2)+2))-Display5!$J$3","v":"C.US.EPZ1724200"}]
[{"$f":"IFERROR(IF(OR(ISTEXT(RTD(\"cqg.rtd\",,\"OrderData\",\"\"&B206&\"\",\"\",\"OpenPosition\",\"\"&Display5!$D$3&\"\")),RTD(\"cqg.rtd\",,\"OrderData\",\"\"&B206&\"\",\"\",\"OpenPosition\",\"\"&Display5!$D$3&\"\")=0),A205+0.001,INT(A205)+1),A205)","v":0.20600000000000016},{"$f":"(LEFT(B205,SEARCH(Display5!$G$2,B205)+LEN(Display5!$G$2)+2))&RIGHT(B205,LEN(B205)-(SEARCH(Display5!$G$2,B205)+LEN(Display5!$G$2)+2))-Display5!$J$3","v":"C.US.EPZ1724150"}]
[{"$f":"IFERROR(IF(OR(ISTEXT(RTD(\"cqg.rtd\",,\"OrderData\",\"\"&B207&\"\",\"\",\"OpenPosition\",\"\"&Display5!$D$3&\"\")),RTD(\"cqg.rtd\",,\"OrderData\",\"\"&B207&\"\",\"\",\"OpenPosition\",\"\"&Display5!$D$3&\"\")=0),A206+0.001,INT(A206)+1),A206)","v":0.20700000000000016},{"$f":"(LEFT(B206,SEARCH(Display5!$G$2,B206)+LEN(Display5!$G$2)+2))&RIGHT(B206,LEN(B206)-(SEARCH(Display5!$G$2,B206)+LEN(Display5!$G$2)+2))-Display5!$J$3","v":"C.US.EPZ1724100"}]
[{"$f":"IFERROR(IF(OR(ISTEXT(RTD(\"cqg.rtd\",,\"OrderData\",\"\"&B208&\"\",\"\",\"OpenPosition\",\"\"&Display5!$D$3&\"\")),RTD(\"cqg.rtd\",,\"OrderData\",\"\"&B208&\"\",\"\",\"OpenPosition\",\"\"&Display5!$D$3&\"\")=0),A207+0.001,INT(A207)+1),A207)","v":0.20800000000000016},{"$f":"(LEFT(B207,SEARCH(Display5!$G$2,B207)+LEN(Display5!$G$2)+2))&RIGHT(B207,LEN(B207)-(SEARCH(Display5!$G$2,B207)+LEN(Display5!$G$2)+2))-Display5!$J$3","v":"C.US.EPZ1724050"}]
[{"$f":"IFERROR(IF(OR(ISTEXT(RTD(\"cqg.rtd\",,\"OrderData\",\"\"&B209&\"\",\"\",\"OpenPosition\",\"\"&Display5!$D$3&\"\")),RTD(\"cqg.rtd\",,\"OrderData\",\"\"&B209&\"\",\"\",\"OpenPosition\",\"\"&Display5!$D$3&\"\")=0),A208+0.001,INT(A208)+1),A208)","v":0.20900000000000016},{"$f":"(LEFT(B208,SEARCH(Display5!$G$2,B208)+LEN(Display5!$G$2)+2))&RIGHT(B208,LEN(B208)-(SEARCH(Display5!$G$2,B208)+LEN(Display5!$G$2)+2))-Display5!$J$3","v":"C.US.EPZ1724000"}]
[{"$f":"IFERROR(IF(OR(ISTEXT(RTD(\"cqg.rtd\",,\"OrderData\",\"\"&B210&\"\",\"\",\"OpenPosition\",\"\"&Display5!$D$3&\"\")),RTD(\"cqg.rtd\",,\"OrderData\",\"\"&B210&\"\",\"\",\"OpenPosition\",\"\"&Display5!$D$3&\"\")=0),A209+0.001,INT(A209)+1),A209)","v":0.21000000000000016},{"$f":"(LEFT(B209,SEARCH(Display5!$G$2,B209)+LEN(Display5!$G$2)+2))&RIGHT(B209,LEN(B209)-(SEARCH(Display5!$G$2,B209)+LEN(Display5!$G$2)+2))-Display5!$J$3","v":"C.US.EPZ1723950"}]
[{"$f":"IFERROR(IF(OR(ISTEXT(RTD(\"cqg.rtd\",,\"OrderData\",\"\"&B211&\"\",\"\",\"OpenPosition\",\"\"&Display5!$D$3&\"\")),RTD(\"cqg.rtd\",,\"OrderData\",\"\"&B211&\"\",\"\",\"OpenPosition\",\"\"&Display5!$D$3&\"\")=0),A210+0.001,INT(A210)+1),A210)","v":0.21100000000000016},{"$f":"(LEFT(B210,SEARCH(Display5!$G$2,B210)+LEN(Display5!$G$2)+2))&RIGHT(B210,LEN(B210)-(SEARCH(Display5!$G$2,B210)+LEN(Display5!$G$2)+2))-Display5!$J$3","v":"C.US.EPZ1723900"}]
[{"$f":"IFERROR(IF(OR(ISTEXT(RTD(\"cqg.rtd\",,\"OrderData\",\"\"&B212&\"\",\"\",\"OpenPosition\",\"\"&Display5!$D$3&\"\")),RTD(\"cqg.rtd\",,\"OrderData\",\"\"&B212&\"\",\"\",\"OpenPosition\",\"\"&Display5!$D$3&\"\")=0),A211+0.001,INT(A211)+1),A211)","v":0.21200000000000016},{"$f":"(LEFT(B211,SEARCH(Display5!$G$2,B211)+LEN(Display5!$G$2)+2))&RIGHT(B211,LEN(B211)-(SEARCH(Display5!$G$2,B211)+LEN(Display5!$G$2)+2))-Display5!$J$3","v":"C.US.EPZ1723850"}]
[{"$f":"IFERROR(IF(OR(ISTEXT(RTD(\"cqg.rtd\",,\"OrderData\",\"\"&B213&\"\",\"\",\"OpenPosition\",\"\"&Display5!$D$3&\"\")),RTD(\"cqg.rtd\",,\"OrderData\",\"\"&B213&\"\",\"\",\"OpenPosition\",\"\"&Display5!$D$3&\"\")=0),A212+0.001,INT(A212)+1),A212)","v":0.21300000000000016},{"$f":"(LEFT(B212,SEARCH(Display5!$G$2,B212)+LEN(Display5!$G$2)+2))&RIGHT(B212,LEN(B212)-(SEARCH(Display5!$G$2,B212)+LEN(Display5!$G$2)+2))-Display5!$J$3","v":"C.US.EPZ1723800"}]
[{"$f":"IFERROR(IF(OR(ISTEXT(RTD(\"cqg.rtd\",,\"OrderData\",\"\"&B214&\"\",\"\",\"OpenPosition\",\"\"&Display5!$D$3&\"\")),RTD(\"cqg.rtd\",,\"OrderData\",\"\"&B214&\"\",\"\",\"OpenPosition\",\"\"&Display5!$D$3&\"\")=0),A213+0.001,INT(A213)+1),A213)","v":0.21400000000000016},{"$f":"(LEFT(B213,SEARCH(Display5!$G$2,B213)+LEN(Display5!$G$2)+2))&RIGHT(B213,LEN(B213)-(SEARCH(Display5!$G$2,B213)+LEN(Display5!$G$2)+2))-Display5!$J$3","v":"C.US.EPZ1723750"}]
[{"$f":"IFERROR(IF(OR(ISTEXT(RTD(\"cqg.rtd\",,\"OrderData\",\"\"&B215&\"\",\"\",\"OpenPosition\",\"\"&Display5!$D$3&\"\")),RTD(\"cqg.rtd\",,\"OrderData\",\"\"&B215&\"\",\"\",\"OpenPosition\",\"\"&Display5!$D$3&\"\")=0),A214+0.001,INT(A214)+1),A214)","v":0.21500000000000016},{"$f":"(LEFT(B214,SEARCH(Display5!$G$2,B214)+LEN(Display5!$G$2)+2))&RIGHT(B214,LEN(B214)-(SEARCH(Display5!$G$2,B214)+LEN(Display5!$G$2)+2))-Display5!$J$3","v":"C.US.EPZ1723700"}]
[{"$f":"IFERROR(IF(OR(ISTEXT(RTD(\"cqg.rtd\",,\"OrderData\",\"\"&B216&\"\",\"\",\"OpenPosition\",\"\"&Display5!$D$3&\"\")),RTD(\"cqg.rtd\",,\"OrderData\",\"\"&B216&\"\",\"\",\"OpenPosition\",\"\"&Display5!$D$3&\"\")=0),A215+0.001,INT(A215)+1),A215)","v":0.21600000000000016},{"$f":"(LEFT(B215,SEARCH(Display5!$G$2,B215)+LEN(Display5!$G$2)+2))&RIGHT(B215,LEN(B215)-(SEARCH(Display5!$G$2,B215)+LEN(Display5!$G$2)+2))-Display5!$J$3","v":"C.US.EPZ1723650"}]
[{"$f":"IFERROR(IF(OR(ISTEXT(RTD(\"cqg.rtd\",,\"OrderData\",\"\"&B217&\"\",\"\",\"OpenPosition\",\"\"&Display5!$D$3&\"\")),RTD(\"cqg.rtd\",,\"OrderData\",\"\"&B217&\"\",\"\",\"OpenPosition\",\"\"&Display5!$D$3&\"\")=0),A216+0.001,INT(A216)+1),A216)","v":0.21700000000000016},{"$f":"(LEFT(B216,SEARCH(Display5!$G$2,B216)+LEN(Display5!$G$2)+2))&RIGHT(B216,LEN(B216)-(SEARCH(Display5!$G$2,B216)+LEN(Display5!$G$2)+2))-Display5!$J$3","v":"C.US.EPZ1723600"}]
[{"$f":"IFERROR(IF(OR(ISTEXT(RTD(\"cqg.rtd\",,\"OrderData\",\"\"&B218&\"\",\"\",\"OpenPosition\",\"\"&Display5!$D$3&\"\")),RTD(\"cqg.rtd\",,\"OrderData\",\"\"&B218&\"\",\"\",\"OpenPosition\",\"\"&Display5!$D$3&\"\")=0),A217+0.001,INT(A217)+1),A217)","v":0.21800000000000017},{"$f":"(LEFT(B217,SEARCH(Display5!$G$2,B217)+LEN(Display5!$G$2)+2))&RIGHT(B217,LEN(B217)-(SEARCH(Display5!$G$2,B217)+LEN(Display5!$G$2)+2))-Display5!$J$3","v":"C.US.EPZ1723550"}]
[{"$f":"IFERROR(IF(OR(ISTEXT(RTD(\"cqg.rtd\",,\"OrderData\",\"\"&B219&\"\",\"\",\"OpenPosition\",\"\"&Display5!$D$3&\"\")),RTD(\"cqg.rtd\",,\"OrderData\",\"\"&B219&\"\",\"\",\"OpenPosition\",\"\"&Display5!$D$3&\"\")=0),A218+0.001,INT(A218)+1),A218)","v":0.21900000000000017},{"$f":"(LEFT(B218,SEARCH(Display5!$G$2,B218)+LEN(Display5!$G$2)+2))&RIGHT(B218,LEN(B218)-(SEARCH(Display5!$G$2,B218)+LEN(Display5!$G$2)+2))-Display5!$J$3","v":"C.US.EPZ1723500"}]
[{"$f":"IFERROR(IF(OR(ISTEXT(RTD(\"cqg.rtd\",,\"OrderData\",\"\"&B220&\"\",\"\",\"OpenPosition\",\"\"&Display5!$D$3&\"\")),RTD(\"cqg.rtd\",,\"OrderData\",\"\"&B220&\"\",\"\",\"OpenPosition\",\"\"&Display5!$D$3&\"\")=0),A219+0.001,INT(A219)+1),A219)","v":0.22000000000000017},{"$f":"(LEFT(B219,SEARCH(Display5!$G$2,B219)+LEN(Display5!$G$2)+2))&RIGHT(B219,LEN(B219)-(SEARCH(Display5!$G$2,B219)+LEN(Display5!$G$2)+2))-Display5!$J$3","v":"C.US.EPZ1723450"}]
[{"$f":"IFERROR(IF(OR(ISTEXT(RTD(\"cqg.rtd\",,\"OrderData\",\"\"&B221&\"\",\"\",\"OpenPosition\",\"\"&Display5!$D$3&\"\")),RTD(\"cqg.rtd\",,\"OrderData\",\"\"&B221&\"\",\"\",\"OpenPosition\",\"\"&Display5!$D$3&\"\")=0),A220+0.001,INT(A220)+1),A220)","v":0.22100000000000017},{"$f":"(LEFT(B220,SEARCH(Display5!$G$2,B220)+LEN(Display5!$G$2)+2))&RIGHT(B220,LEN(B220)-(SEARCH(Display5!$G$2,B220)+LEN(Display5!$G$2)+2))-Display5!$J$3","v":"C.US.EPZ1723400"}]
[{"$f":"IFERROR(IF(OR(ISTEXT(RTD(\"cqg.rtd\",,\"OrderData\",\"\"&B222&\"\",\"\",\"OpenPosition\",\"\"&Display5!$D$3&\"\")),RTD(\"cqg.rtd\",,\"OrderData\",\"\"&B222&\"\",\"\",\"OpenPosition\",\"\"&Display5!$D$3&\"\")=0),A221+0.001,INT(A221)+1),A221)","v":0.22200000000000017},{"$f":"(LEFT(B221,SEARCH(Display5!$G$2,B221)+LEN(Display5!$G$2)+2))&RIGHT(B221,LEN(B221)-(SEARCH(Display5!$G$2,B221)+LEN(Display5!$G$2)+2))-Display5!$J$3","v":"C.US.EPZ1723350"}]
[{"$f":"IFERROR(IF(OR(ISTEXT(RTD(\"cqg.rtd\",,\"OrderData\",\"\"&B223&\"\",\"\",\"OpenPosition\",\"\"&Display5!$D$3&\"\")),RTD(\"cqg.rtd\",,\"OrderData\",\"\"&B223&\"\",\"\",\"OpenPosition\",\"\"&Display5!$D$3&\"\")=0),A222+0.001,INT(A222)+1),A222)","v":0.22300000000000017},{"$f":"(LEFT(B222,SEARCH(Display5!$G$2,B222)+LEN(Display5!$G$2)+2))&RIGHT(B222,LEN(B222)-(SEARCH(Display5!$G$2,B222)+LEN(Display5!$G$2)+2))-Display5!$J$3","v":"C.US.EPZ1723300"}]
[{"$f":"IFERROR(IF(OR(ISTEXT(RTD(\"cqg.rtd\",,\"OrderData\",\"\"&B224&\"\",\"\",\"OpenPosition\",\"\"&Display5!$D$3&\"\")),RTD(\"cqg.rtd\",,\"OrderData\",\"\"&B224&\"\",\"\",\"OpenPosition\",\"\"&Display5!$D$3&\"\")=0),A223+0.001,INT(A223)+1),A223)","v":0.22400000000000017},{"$f":"(LEFT(B223,SEARCH(Display5!$G$2,B223)+LEN(Display5!$G$2)+2))&RIGHT(B223,LEN(B223)-(SEARCH(Display5!$G$2,B223)+LEN(Display5!$G$2)+2))-Display5!$J$3","v":"C.US.EPZ1723250"}]
[{"$f":"IFERROR(IF(OR(ISTEXT(RTD(\"cqg.rtd\",,\"OrderData\",\"\"&B225&\"\",\"\",\"OpenPosition\",\"\"&Display5!$D$3&\"\")),RTD(\"cqg.rtd\",,\"OrderData\",\"\"&B225&\"\",\"\",\"OpenPosition\",\"\"&Display5!$D$3&\"\")=0),A224+0.001,INT(A224)+1),A224)","v":0.22500000000000017},{"$f":"(LEFT(B224,SEARCH(Display5!$G$2,B224)+LEN(Display5!$G$2)+2))&RIGHT(B224,LEN(B224)-(SEARCH(Display5!$G$2,B224)+LEN(Display5!$G$2)+2))-Display5!$J$3","v":"C.US.EPZ1723200"}]
[{"$f":"IFERROR(IF(OR(ISTEXT(RTD(\"cqg.rtd\",,\"OrderData\",\"\"&B226&\"\",\"\",\"OpenPosition\",\"\"&Display5!$D$3&\"\")),RTD(\"cqg.rtd\",,\"OrderData\",\"\"&B226&\"\",\"\",\"OpenPosition\",\"\"&Display5!$D$3&\"\")=0),A225+0.001,INT(A225)+1),A225)","v":0.22600000000000017},{"$f":"(LEFT(B225,SEARCH(Display5!$G$2,B225)+LEN(Display5!$G$2)+2))&RIGHT(B225,LEN(B225)-(SEARCH(Display5!$G$2,B225)+LEN(Display5!$G$2)+2))-Display5!$J$3","v":"C.US.EPZ1723150"}]
[{"$f":"IFERROR(IF(OR(ISTEXT(RTD(\"cqg.rtd\",,\"OrderData\",\"\"&B227&\"\",\"\",\"OpenPosition\",\"\"&Display5!$D$3&\"\")),RTD(\"cqg.rtd\",,\"OrderData\",\"\"&B227&\"\",\"\",\"OpenPosition\",\"\"&Display5!$D$3&\"\")=0),A226+0.001,INT(A226)+1),A226)","v":0.22700000000000017},{"$f":"(LEFT(B226,SEARCH(Display5!$G$2,B226)+LEN(Display5!$G$2)+2))&RIGHT(B226,LEN(B226)-(SEARCH(Display5!$G$2,B226)+LEN(Display5!$G$2)+2))-Display5!$J$3","v":"C.US.EPZ1723100"}]
[{"$f":"IFERROR(IF(OR(ISTEXT(RTD(\"cqg.rtd\",,\"OrderData\",\"\"&B228&\"\",\"\",\"OpenPosition\",\"\"&Display5!$D$3&\"\")),RTD(\"cqg.rtd\",,\"OrderData\",\"\"&B228&\"\",\"\",\"OpenPosition\",\"\"&Display5!$D$3&\"\")=0),A227+0.001,INT(A227)+1),A227)","v":0.22800000000000017},{"$f":"(LEFT(B227,SEARCH(Display5!$G$2,B227)+LEN(Display5!$G$2)+2))&RIGHT(B227,LEN(B227)-(SEARCH(Display5!$G$2,B227)+LEN(Display5!$G$2)+2))-Display5!$J$3","v":"C.US.EPZ1723050"}]
[{"$f":"IFERROR(IF(OR(ISTEXT(RTD(\"cqg.rtd\",,\"OrderData\",\"\"&B229&\"\",\"\",\"OpenPosition\",\"\"&Display5!$D$3&\"\")),RTD(\"cqg.rtd\",,\"OrderData\",\"\"&B229&\"\",\"\",\"OpenPosition\",\"\"&Display5!$D$3&\"\")=0),A228+0.001,INT(A228)+1),A228)","v":0.22900000000000018},{"$f":"(LEFT(B228,SEARCH(Display5!$G$2,B228)+LEN(Display5!$G$2)+2))&RIGHT(B228,LEN(B228)-(SEARCH(Display5!$G$2,B228)+LEN(Display5!$G$2)+2))-Display5!$J$3","v":"C.US.EPZ1723000"}]
[{"$f":"IFERROR(IF(OR(ISTEXT(RTD(\"cqg.rtd\",,\"OrderData\",\"\"&B230&\"\",\"\",\"OpenPosition\",\"\"&Display5!$D$3&\"\")),RTD(\"cqg.rtd\",,\"OrderData\",\"\"&B230&\"\",\"\",\"OpenPosition\",\"\"&Display5!$D$3&\"\")=0),A229+0.001,INT(A229)+1),A229)","v":0.23000000000000018},{"$f":"(LEFT(B229,SEARCH(Display5!$G$2,B229)+LEN(Display5!$G$2)+2))&RIGHT(B229,LEN(B229)-(SEARCH(Display5!$G$2,B229)+LEN(Display5!$G$2)+2))-Display5!$J$3","v":"C.US.EPZ1722950"}]
[{"$f":"IFERROR(IF(OR(ISTEXT(RTD(\"cqg.rtd\",,\"OrderData\",\"\"&B231&\"\",\"\",\"OpenPosition\",\"\"&Display5!$D$3&\"\")),RTD(\"cqg.rtd\",,\"OrderData\",\"\"&B231&\"\",\"\",\"OpenPosition\",\"\"&Display5!$D$3&\"\")=0),A230+0.001,INT(A230)+1),A230)","v":0.23100000000000018},{"$f":"(LEFT(B230,SEARCH(Display5!$G$2,B230)+LEN(Display5!$G$2)+2))&RIGHT(B230,LEN(B230)-(SEARCH(Display5!$G$2,B230)+LEN(Display5!$G$2)+2))-Display5!$J$3","v":"C.US.EPZ1722900"}]
[{"$f":"IFERROR(IF(OR(ISTEXT(RTD(\"cqg.rtd\",,\"OrderData\",\"\"&B232&\"\",\"\",\"OpenPosition\",\"\"&Display5!$D$3&\"\")),RTD(\"cqg.rtd\",,\"OrderData\",\"\"&B232&\"\",\"\",\"OpenPosition\",\"\"&Display5!$D$3&\"\")=0),A231+0.001,INT(A231)+1),A231)","v":0.23200000000000018},{"$f":"(LEFT(B231,SEARCH(Display5!$G$2,B231)+LEN(Display5!$G$2)+2))&RIGHT(B231,LEN(B231)-(SEARCH(Display5!$G$2,B231)+LEN(Display5!$G$2)+2))-Display5!$J$3","v":"C.US.EPZ1722850"}]
[{"$f":"IFERROR(IF(OR(ISTEXT(RTD(\"cqg.rtd\",,\"OrderData\",\"\"&B233&\"\",\"\",\"OpenPosition\",\"\"&Display5!$D$3&\"\")),RTD(\"cqg.rtd\",,\"OrderData\",\"\"&B233&\"\",\"\",\"OpenPosition\",\"\"&Display5!$D$3&\"\")=0),A232+0.001,INT(A232)+1),A232)","v":0.23300000000000018},{"$f":"(LEFT(B232,SEARCH(Display5!$G$2,B232)+LEN(Display5!$G$2)+2))&RIGHT(B232,LEN(B232)-(SEARCH(Display5!$G$2,B232)+LEN(Display5!$G$2)+2))-Display5!$J$3","v":"C.US.EPZ1722800"}]
[{"$f":"IFERROR(IF(OR(ISTEXT(RTD(\"cqg.rtd\",,\"OrderData\",\"\"&B234&\"\",\"\",\"OpenPosition\",\"\"&Display5!$D$3&\"\")),RTD(\"cqg.rtd\",,\"OrderData\",\"\"&B234&\"\",\"\",\"OpenPosition\",\"\"&Display5!$D$3&\"\")=0),A233+0.001,INT(A233)+1),A233)","v":0.23400000000000018},{"$f":"(LEFT(B233,SEARCH(Display5!$G$2,B233)+LEN(Display5!$G$2)+2))&RIGHT(B233,LEN(B233)-(SEARCH(Display5!$G$2,B233)+LEN(Display5!$G$2)+2))-Display5!$J$3","v":"C.US.EPZ1722750"}]
[{"$f":"IFERROR(IF(OR(ISTEXT(RTD(\"cqg.rtd\",,\"OrderData\",\"\"&B235&\"\",\"\",\"OpenPosition\",\"\"&Display5!$D$3&\"\")),RTD(\"cqg.rtd\",,\"OrderData\",\"\"&B235&\"\",\"\",\"OpenPosition\",\"\"&Display5!$D$3&\"\")=0),A234+0.001,INT(A234)+1),A234)","v":0.23500000000000018},{"$f":"(LEFT(B234,SEARCH(Display5!$G$2,B234)+LEN(Display5!$G$2)+2))&RIGHT(B234,LEN(B234)-(SEARCH(Display5!$G$2,B234)+LEN(Display5!$G$2)+2))-Display5!$J$3","v":"C.US.EPZ1722700"}]
[{"$f":"IFERROR(IF(OR(ISTEXT(RTD(\"cqg.rtd\",,\"OrderData\",\"\"&B236&\"\",\"\",\"OpenPosition\",\"\"&Display5!$D$3&\"\")),RTD(\"cqg.rtd\",,\"OrderData\",\"\"&B236&\"\",\"\",\"OpenPosition\",\"\"&Display5!$D$3&\"\")=0),A235+0.001,INT(A235)+1),A235)","v":0.23600000000000018},{"$f":"(LEFT(B235,SEARCH(Display5!$G$2,B235)+LEN(Display5!$G$2)+2))&RIGHT(B235,LEN(B235)-(SEARCH(Display5!$G$2,B235)+LEN(Display5!$G$2)+2))-Display5!$J$3","v":"C.US.EPZ1722650"}]
[{"$f":"IFERROR(IF(OR(ISTEXT(RTD(\"cqg.rtd\",,\"OrderData\",\"\"&B237&\"\",\"\",\"OpenPosition\",\"\"&Display5!$D$3&\"\")),RTD(\"cqg.rtd\",,\"OrderData\",\"\"&B237&\"\",\"\",\"OpenPosition\",\"\"&Display5!$D$3&\"\")=0),A236+0.001,INT(A236)+1),A236)","v":0.23700000000000018},{"$f":"(LEFT(B236,SEARCH(Display5!$G$2,B236)+LEN(Display5!$G$2)+2))&RIGHT(B236,LEN(B236)-(SEARCH(Display5!$G$2,B236)+LEN(Display5!$G$2)+2))-Display5!$J$3","v":"C.US.EPZ1722600"}]
[{"$f":"IFERROR(IF(OR(ISTEXT(RTD(\"cqg.rtd\",,\"OrderData\",\"\"&B238&\"\",\"\",\"OpenPosition\",\"\"&Display5!$D$3&\"\")),RTD(\"cqg.rtd\",,\"OrderData\",\"\"&B238&\"\",\"\",\"OpenPosition\",\"\"&Display5!$D$3&\"\")=0),A237+0.001,INT(A237)+1),A237)","v":0.23800000000000018},{"$f":"(LEFT(B237,SEARCH(Display5!$G$2,B237)+LEN(Display5!$G$2)+2))&RIGHT(B237,LEN(B237)-(SEARCH(Display5!$G$2,B237)+LEN(Display5!$G$2)+2))-Display5!$J$3","v":"C.US.EPZ1722550"}]
[{"$f":"IFERROR(IF(OR(ISTEXT(RTD(\"cqg.rtd\",,\"OrderData\",\"\"&B239&\"\",\"\",\"OpenPosition\",\"\"&Display5!$D$3&\"\")),RTD(\"cqg.rtd\",,\"OrderData\",\"\"&B239&\"\",\"\",\"OpenPosition\",\"\"&Display5!$D$3&\"\")=0),A238+0.001,INT(A238)+1),A238)","v":0.23900000000000018},{"$f":"(LEFT(B238,SEARCH(Display5!$G$2,B238)+LEN(Display5!$G$2)+2))&RIGHT(B238,LEN(B238)-(SEARCH(Display5!$G$2,B238)+LEN(Display5!$G$2)+2))-Display5!$J$3","v":"C.US.EPZ1722500"}]
[{"$f":"IFERROR(IF(OR(ISTEXT(RTD(\"cqg.rtd\",,\"OrderData\",\"\"&B240&\"\",\"\",\"OpenPosition\",\"\"&Display5!$D$3&\"\")),RTD(\"cqg.rtd\",,\"OrderData\",\"\"&B240&\"\",\"\",\"OpenPosition\",\"\"&Display5!$D$3&\"\")=0),A239+0.001,INT(A239)+1),A239)","v":0.24000000000000019},{"$f":"(LEFT(B239,SEARCH(Display5!$G$2,B239)+LEN(Display5!$G$2)+2))&RIGHT(B239,LEN(B239)-(SEARCH(Display5!$G$2,B239)+LEN(Display5!$G$2)+2))-Display5!$J$3","v":"C.US.EPZ1722450"}]
[{"$f":"IFERROR(IF(OR(ISTEXT(RTD(\"cqg.rtd\",,\"OrderData\",\"\"&B241&\"\",\"\",\"OpenPosition\",\"\"&Display5!$D$3&\"\")),RTD(\"cqg.rtd\",,\"OrderData\",\"\"&B241&\"\",\"\",\"OpenPosition\",\"\"&Display5!$D$3&\"\")=0),A240+0.001,INT(A240)+1),A240)","v":0.24100000000000019},{"$f":"(LEFT(B240,SEARCH(Display5!$G$2,B240)+LEN(Display5!$G$2)+2))&RIGHT(B240,LEN(B240)-(SEARCH(Display5!$G$2,B240)+LEN(Display5!$G$2)+2))-Display5!$J$3","v":"C.US.EPZ1722400"}]
[{"$f":"IFERROR(IF(OR(ISTEXT(RTD(\"cqg.rtd\",,\"OrderData\",\"\"&B242&\"\",\"\",\"OpenPosition\",\"\"&Display5!$D$3&\"\")),RTD(\"cqg.rtd\",,\"OrderData\",\"\"&B242&\"\",\"\",\"OpenPosition\",\"\"&Display5!$D$3&\"\")=0),A241+0.001,INT(A241)+1),A241)","v":0.24200000000000019},{"$f":"(LEFT(B241,SEARCH(Display5!$G$2,B241)+LEN(Display5!$G$2)+2))&RIGHT(B241,LEN(B241)-(SEARCH(Display5!$G$2,B241)+LEN(Display5!$G$2)+2))-Display5!$J$3","v":"C.US.EPZ1722350"}]
[{"$f":"IFERROR(IF(OR(ISTEXT(RTD(\"cqg.rtd\",,\"OrderData\",\"\"&B243&\"\",\"\",\"OpenPosition\",\"\"&Display5!$D$3&\"\")),RTD(\"cqg.rtd\",,\"OrderData\",\"\"&B243&\"\",\"\",\"OpenPosition\",\"\"&Display5!$D$3&\"\")=0),A242+0.001,INT(A242)+1),A242)","v":0.24300000000000019},{"$f":"(LEFT(B244,SEARCH(Display5!$G$2,B244)+LEN(Display5!$G$2)+2))&RIGHT(B244,LEN(B244)-(SEARCH(Display5!$G$2,B244)+LEN(Display5!$G$2)+2))+Display5!$J$3","v":"P.US.EPZ1726350"}]
[{"$f":"IFERROR(IF(OR(ISTEXT(RTD(\"cqg.rtd\",,\"OrderData\",\"\"&B244&\"\",\"\",\"OpenPosition\",\"\"&Display5!$D$3&\"\")),RTD(\"cqg.rtd\",,\"OrderData\",\"\"&B244&\"\",\"\",\"OpenPosition\",\"\"&Display5!$D$3&\"\")=0),A243+0.001,INT(A243)+1),A243)","v":0.24400000000000019},{"$f":"(LEFT(B245,SEARCH(Display5!$G$2,B245)+LEN(Display5!$G$2)+2))&RIGHT(B245,LEN(B245)-(SEARCH(Display5!$G$2,B245)+LEN(Display5!$G$2)+2))+Display5!$J$3","v":"P.US.EPZ1726300"}]
[{"$f":"IFERROR(IF(OR(ISTEXT(RTD(\"cqg.rtd\",,\"OrderData\",\"\"&B245&\"\",\"\",\"OpenPosition\",\"\"&Display5!$D$3&\"\")),RTD(\"cqg.rtd\",,\"OrderData\",\"\"&B245&\"\",\"\",\"OpenPosition\",\"\"&Display5!$D$3&\"\")=0),A244+0.001,INT(A244)+1),A244)","v":0.24500000000000019},{"$f":"(LEFT(B246,SEARCH(Display5!$G$2,B246)+LEN(Display5!$G$2)+2))&RIGHT(B246,LEN(B246)-(SEARCH(Display5!$G$2,B246)+LEN(Display5!$G$2)+2))+Display5!$J$3","v":"P.US.EPZ1726250"}]
[{"$f":"IFERROR(IF(OR(ISTEXT(RTD(\"cqg.rtd\",,\"OrderData\",\"\"&B246&\"\",\"\",\"OpenPosition\",\"\"&Display5!$D$3&\"\")),RTD(\"cqg.rtd\",,\"OrderData\",\"\"&B246&\"\",\"\",\"OpenPosition\",\"\"&Display5!$D$3&\"\")=0),A245+0.001,INT(A245)+1),A245)","v":0.24600000000000019},{"$f":"(LEFT(B247,SEARCH(Display5!$G$2,B247)+LEN(Display5!$G$2)+2))&RIGHT(B247,LEN(B247)-(SEARCH(Display5!$G$2,B247)+LEN(Display5!$G$2)+2))+Display5!$J$3","v":"P.US.EPZ1726200"}]
[{"$f":"IFERROR(IF(OR(ISTEXT(RTD(\"cqg.rtd\",,\"OrderData\",\"\"&B247&\"\",\"\",\"OpenPosition\",\"\"&Display5!$D$3&\"\")),RTD(\"cqg.rtd\",,\"OrderData\",\"\"&B247&\"\",\"\",\"OpenPosition\",\"\"&Display5!$D$3&\"\")=0),A246+0.001,INT(A246)+1),A246)","v":0.24700000000000019},{"$f":"(LEFT(B248,SEARCH(Display5!$G$2,B248)+LEN(Display5!$G$2)+2))&RIGHT(B248,LEN(B248)-(SEARCH(Display5!$G$2,B248)+LEN(Display5!$G$2)+2))+Display5!$J$3","v":"P.US.EPZ1726150"}]
[{"$f":"IFERROR(IF(OR(ISTEXT(RTD(\"cqg.rtd\",,\"OrderData\",\"\"&B248&\"\",\"\",\"OpenPosition\",\"\"&Display5!$D$3&\"\")),RTD(\"cqg.rtd\",,\"OrderData\",\"\"&B248&\"\",\"\",\"OpenPosition\",\"\"&Display5!$D$3&\"\")=0),A247+0.001,INT(A247)+1),A247)","v":0.24800000000000019},{"$f":"(LEFT(B249,SEARCH(Display5!$G$2,B249)+LEN(Display5!$G$2)+2))&RIGHT(B249,LEN(B249)-(SEARCH(Display5!$G$2,B249)+LEN(Display5!$G$2)+2))+Display5!$J$3","v":"P.US.EPZ1726100"}]
[{"$f":"IFERROR(IF(OR(ISTEXT(RTD(\"cqg.rtd\",,\"OrderData\",\"\"&B249&\"\",\"\",\"OpenPosition\",\"\"&Display5!$D$3&\"\")),RTD(\"cqg.rtd\",,\"OrderData\",\"\"&B249&\"\",\"\",\"OpenPosition\",\"\"&Display5!$D$3&\"\")=0),A248+0.001,INT(A248)+1),A248)","v":0.24900000000000019},{"$f":"(LEFT(B250,SEARCH(Display5!$G$2,B250)+LEN(Display5!$G$2)+2))&RIGHT(B250,LEN(B250)-(SEARCH(Display5!$G$2,B250)+LEN(Display5!$G$2)+2))+Display5!$J$3","v":"P.US.EPZ1726050"}]
[{"$f":"IFERROR(IF(OR(ISTEXT(RTD(\"cqg.rtd\",,\"OrderData\",\"\"&B250&\"\",\"\",\"OpenPosition\",\"\"&Display5!$D$3&\"\")),RTD(\"cqg.rtd\",,\"OrderData\",\"\"&B250&\"\",\"\",\"OpenPosition\",\"\"&Display5!$D$3&\"\")=0),A249+0.001,INT(A249)+1),A249)","v":0.25000000000000017},{"$f":"(LEFT(B251,SEARCH(Display5!$G$2,B251)+LEN(Display5!$G$2)+2))&RIGHT(B251,LEN(B251)-(SEARCH(Display5!$G$2,B251)+LEN(Display5!$G$2)+2))+Display5!$J$3","v":"P.US.EPZ1726000"}]
[{"$f":"IFERROR(IF(OR(ISTEXT(RTD(\"cqg.rtd\",,\"OrderData\",\"\"&B251&\"\",\"\",\"OpenPosition\",\"\"&Display5!$D$3&\"\")),RTD(\"cqg.rtd\",,\"OrderData\",\"\"&B251&\"\",\"\",\"OpenPosition\",\"\"&Display5!$D$3&\"\")=0),A250+0.001,INT(A250)+1),A250)","v":0.25100000000000017},{"$f":"(LEFT(B252,SEARCH(Display5!$G$2,B252)+LEN(Display5!$G$2)+2))&RIGHT(B252,LEN(B252)-(SEARCH(Display5!$G$2,B252)+LEN(Display5!$G$2)+2))+Display5!$J$3","v":"P.US.EPZ1725950"}]
[{"$f":"IFERROR(IF(OR(ISTEXT(RTD(\"cqg.rtd\",,\"OrderData\",\"\"&B252&\"\",\"\",\"OpenPosition\",\"\"&Display5!$D$3&\"\")),RTD(\"cqg.rtd\",,\"OrderData\",\"\"&B252&\"\",\"\",\"OpenPosition\",\"\"&Display5!$D$3&\"\")=0),A251+0.001,INT(A251)+1),A251)","v":0.25200000000000017},{"$f":"(LEFT(B253,SEARCH(Display5!$G$2,B253)+LEN(Display5!$G$2)+2))&RIGHT(B253,LEN(B253)-(SEARCH(Display5!$G$2,B253)+LEN(Display5!$G$2)+2))+Display5!$J$3","v":"P.US.EPZ1725900"}]
[{"$f":"IFERROR(IF(OR(ISTEXT(RTD(\"cqg.rtd\",,\"OrderData\",\"\"&B253&\"\",\"\",\"OpenPosition\",\"\"&Display5!$D$3&\"\")),RTD(\"cqg.rtd\",,\"OrderData\",\"\"&B253&\"\",\"\",\"OpenPosition\",\"\"&Display5!$D$3&\"\")=0),A252+0.001,INT(A252)+1),A252)","v":0.25300000000000017},{"$f":"(LEFT(B254,SEARCH(Display5!$G$2,B254)+LEN(Display5!$G$2)+2))&RIGHT(B254,LEN(B254)-(SEARCH(Display5!$G$2,B254)+LEN(Display5!$G$2)+2))+Display5!$J$3","v":"P.US.EPZ1725850"}]
[{"$f":"IFERROR(IF(OR(ISTEXT(RTD(\"cqg.rtd\",,\"OrderData\",\"\"&B254&\"\",\"\",\"OpenPosition\",\"\"&Display5!$D$3&\"\")),RTD(\"cqg.rtd\",,\"OrderData\",\"\"&B254&\"\",\"\",\"OpenPosition\",\"\"&Display5!$D$3&\"\")=0),A253+0.001,INT(A253)+1),A253)","v":0.25400000000000017},{"$f":"(LEFT(B255,SEARCH(Display5!$G$2,B255)+LEN(Display5!$G$2)+2))&RIGHT(B255,LEN(B255)-(SEARCH(Display5!$G$2,B255)+LEN(Display5!$G$2)+2))+Display5!$J$3","v":"P.US.EPZ1725800"}]
[{"$f":"IFERROR(IF(OR(ISTEXT(RTD(\"cqg.rtd\",,\"OrderData\",\"\"&B255&\"\",\"\",\"OpenPosition\",\"\"&Display5!$D$3&\"\")),RTD(\"cqg.rtd\",,\"OrderData\",\"\"&B255&\"\",\"\",\"OpenPosition\",\"\"&Display5!$D$3&\"\")=0),A254+0.001,INT(A254)+1),A254)","v":0.25500000000000017},{"$f":"(LEFT(B256,SEARCH(Display5!$G$2,B256)+LEN(Display5!$G$2)+2))&RIGHT(B256,LEN(B256)-(SEARCH(Display5!$G$2,B256)+LEN(Display5!$G$2)+2))+Display5!$J$3","v":"P.US.EPZ1725750"}]
[{"$f":"IFERROR(IF(OR(ISTEXT(RTD(\"cqg.rtd\",,\"OrderData\",\"\"&B256&\"\",\"\",\"OpenPosition\",\"\"&Display5!$D$3&\"\")),RTD(\"cqg.rtd\",,\"OrderData\",\"\"&B256&\"\",\"\",\"OpenPosition\",\"\"&Display5!$D$3&\"\")=0),A255+0.001,INT(A255)+1),A255)","v":0.25600000000000017},{"$f":"(LEFT(B257,SEARCH(Display5!$G$2,B257)+LEN(Display5!$G$2)+2))&RIGHT(B257,LEN(B257)-(SEARCH(Display5!$G$2,B257)+LEN(Display5!$G$2)+2))+Display5!$J$3","v":"P.US.EPZ1725700"}]
[{"$f":"IFERROR(IF(OR(ISTEXT(RTD(\"cqg.rtd\",,\"OrderData\",\"\"&B257&\"\",\"\",\"OpenPosition\",\"\"&Display5!$D$3&\"\")),RTD(\"cqg.rtd\",,\"OrderData\",\"\"&B257&\"\",\"\",\"OpenPosition\",\"\"&Display5!$D$3&\"\")=0),A256+0.001,INT(A256)+1),A256)","v":0.25700000000000017},{"$f":"(LEFT(B258,SEARCH(Display5!$G$2,B258)+LEN(Display5!$G$2)+2))&RIGHT(B258,LEN(B258)-(SEARCH(Display5!$G$2,B258)+LEN(Display5!$G$2)+2))+Display5!$J$3","v":"P.US.EPZ1725650"}]
[{"$f":"IFERROR(IF(OR(ISTEXT(RTD(\"cqg.rtd\",,\"OrderData\",\"\"&B258&\"\",\"\",\"OpenPosition\",\"\"&Display5!$D$3&\"\")),RTD(\"cqg.rtd\",,\"OrderData\",\"\"&B258&\"\",\"\",\"OpenPosition\",\"\"&Display5!$D$3&\"\")=0),A257+0.001,INT(A257)+1),A257)","v":0.25800000000000017},{"$f":"(LEFT(B259,SEARCH(Display5!$G$2,B259)+LEN(Display5!$G$2)+2))&RIGHT(B259,LEN(B259)-(SEARCH(Display5!$G$2,B259)+LEN(Display5!$G$2)+2))+Display5!$J$3","v":"P.US.EPZ1725600"}]
[{"$f":"IFERROR(IF(OR(ISTEXT(RTD(\"cqg.rtd\",,\"OrderData\",\"\"&B259&\"\",\"\",\"OpenPosition\",\"\"&Display5!$D$3&\"\")),RTD(\"cqg.rtd\",,\"OrderData\",\"\"&B259&\"\",\"\",\"OpenPosition\",\"\"&Display5!$D$3&\"\")=0),A258+0.001,INT(A258)+1),A258)","v":0.25900000000000017},{"$f":"(LEFT(B260,SEARCH(Display5!$G$2,B260)+LEN(Display5!$G$2)+2))&RIGHT(B260,LEN(B260)-(SEARCH(Display5!$G$2,B260)+LEN(Display5!$G$2)+2))+Display5!$J$3","v":"P.US.EPZ1725550"}]
[{"$f":"IFERROR(IF(OR(ISTEXT(RTD(\"cqg.rtd\",,\"OrderData\",\"\"&B260&\"\",\"\",\"OpenPosition\",\"\"&Display5!$D$3&\"\")),RTD(\"cqg.rtd\",,\"OrderData\",\"\"&B260&\"\",\"\",\"OpenPosition\",\"\"&Display5!$D$3&\"\")=0),A259+0.001,INT(A259)+1),A259)","v":0.26000000000000018},{"$f":"(LEFT(B261,SEARCH(Display5!$G$2,B261)+LEN(Display5!$G$2)+2))&RIGHT(B261,LEN(B261)-(SEARCH(Display5!$G$2,B261)+LEN(Display5!$G$2)+2))+Display5!$J$3","v":"P.US.EPZ1725500"}]
[{"$f":"IFERROR(IF(OR(ISTEXT(RTD(\"cqg.rtd\",,\"OrderData\",\"\"&B261&\"\",\"\",\"OpenPosition\",\"\"&Display5!$D$3&\"\")),RTD(\"cqg.rtd\",,\"OrderData\",\"\"&B261&\"\",\"\",\"OpenPosition\",\"\"&Display5!$D$3&\"\")=0),A260+0.001,INT(A260)+1),A260)","v":0.26100000000000018},{"$f":"(LEFT(B262,SEARCH(Display5!$G$2,B262)+LEN(Display5!$G$2)+2))&RIGHT(B262,LEN(B262)-(SEARCH(Display5!$G$2,B262)+LEN(Display5!$G$2)+2))+Display5!$J$3","v":"P.US.EPZ1725450"}]
[{"$f":"IFERROR(IF(OR(ISTEXT(RTD(\"cqg.rtd\",,\"OrderData\",\"\"&B262&\"\",\"\",\"OpenPosition\",\"\"&Display5!$D$3&\"\")),RTD(\"cqg.rtd\",,\"OrderData\",\"\"&B262&\"\",\"\",\"OpenPosition\",\"\"&Display5!$D$3&\"\")=0),A261+0.001,INT(A261)+1),A261)","v":0.26200000000000018},{"$f":"(LEFT(B263,SEARCH(Display5!$G$2,B263)+LEN(Display5!$G$2)+2))&RIGHT(B263,LEN(B263)-(SEARCH(Display5!$G$2,B263)+LEN(Display5!$G$2)+2))+Display5!$J$3","v":"P.US.EPZ1725400"}]
[{"$f":"IFERROR(IF(OR(ISTEXT(RTD(\"cqg.rtd\",,\"OrderData\",\"\"&B263&\"\",\"\",\"OpenPosition\",\"\"&Display5!$D$3&\"\")),RTD(\"cqg.rtd\",,\"OrderData\",\"\"&B263&\"\",\"\",\"OpenPosition\",\"\"&Display5!$D$3&\"\")=0),A262+0.001,INT(A262)+1),A262)","v":0.26300000000000018},{"$f":"(LEFT(B264,SEARCH(Display5!$G$2,B264)+LEN(Display5!$G$2)+2))&RIGHT(B264,LEN(B264)-(SEARCH(Display5!$G$2,B264)+LEN(Display5!$G$2)+2))+Display5!$J$3","v":"P.US.EPZ1725350"}]
[{"$f":"IFERROR(IF(OR(ISTEXT(RTD(\"cqg.rtd\",,\"OrderData\",\"\"&B264&\"\",\"\",\"OpenPosition\",\"\"&Display5!$D$3&\"\")),RTD(\"cqg.rtd\",,\"OrderData\",\"\"&B264&\"\",\"\",\"OpenPosition\",\"\"&Display5!$D$3&\"\")=0),A263+0.001,INT(A263)+1),A263)","v":0.26400000000000018},{"$f":"(LEFT(B265,SEARCH(Display5!$G$2,B265)+LEN(Display5!$G$2)+2))&RIGHT(B265,LEN(B265)-(SEARCH(Display5!$G$2,B265)+LEN(Display5!$G$2)+2))+Display5!$J$3","v":"P.US.EPZ1725300"}]
[{"$f":"IFERROR(IF(OR(ISTEXT(RTD(\"cqg.rtd\",,\"OrderData\",\"\"&B265&\"\",\"\",\"OpenPosition\",\"\"&Display5!$D$3&\"\")),RTD(\"cqg.rtd\",,\"OrderData\",\"\"&B265&\"\",\"\",\"OpenPosition\",\"\"&Display5!$D$3&\"\")=0),A264+0.001,INT(A264)+1),A264)","v":0.26500000000000018},{"$f":"(LEFT(B266,SEARCH(Display5!$G$2,B266)+LEN(Display5!$G$2)+2))&RIGHT(B266,LEN(B266)-(SEARCH(Display5!$G$2,B266)+LEN(Display5!$G$2)+2))+Display5!$J$3","v":"P.US.EPZ1725250"}]
[{"$f":"IFERROR(IF(OR(ISTEXT(RTD(\"cqg.rtd\",,\"OrderData\",\"\"&B266&\"\",\"\",\"OpenPosition\",\"\"&Display5!$D$3&\"\")),RTD(\"cqg.rtd\",,\"OrderData\",\"\"&B266&\"\",\"\",\"OpenPosition\",\"\"&Display5!$D$3&\"\")=0),A265+0.001,INT(A265)+1),A265)","v":0.26600000000000018},{"$f":"(LEFT(B267,SEARCH(Display5!$G$2,B267)+LEN(Display5!$G$2)+2))&RIGHT(B267,LEN(B267)-(SEARCH(Display5!$G$2,B267)+LEN(Display5!$G$2)+2))+Display5!$J$3","v":"P.US.EPZ1725200"}]
[{"$f":"IFERROR(IF(OR(ISTEXT(RTD(\"cqg.rtd\",,\"OrderData\",\"\"&B267&\"\",\"\",\"OpenPosition\",\"\"&Display5!$D$3&\"\")),RTD(\"cqg.rtd\",,\"OrderData\",\"\"&B267&\"\",\"\",\"OpenPosition\",\"\"&Display5!$D$3&\"\")=0),A266+0.001,INT(A266)+1),A266)","v":0.26700000000000018},{"$f":"(LEFT(B268,SEARCH(Display5!$G$2,B268)+LEN(Display5!$G$2)+2))&RIGHT(B268,LEN(B268)-(SEARCH(Display5!$G$2,B268)+LEN(Display5!$G$2)+2))+Display5!$J$3","v":"P.US.EPZ1725150"}]
[{"$f":"IFERROR(IF(OR(ISTEXT(RTD(\"cqg.rtd\",,\"OrderData\",\"\"&B268&\"\",\"\",\"OpenPosition\",\"\"&Display5!$D$3&\"\")),RTD(\"cqg.rtd\",,\"OrderData\",\"\"&B268&\"\",\"\",\"OpenPosition\",\"\"&Display5!$D$3&\"\")=0),A267+0.001,INT(A267)+1),A267)","v":0.26800000000000018},{"$f":"(LEFT(B269,SEARCH(Display5!$G$2,B269)+LEN(Display5!$G$2)+2))&RIGHT(B269,LEN(B269)-(SEARCH(Display5!$G$2,B269)+LEN(Display5!$G$2)+2))+Display5!$J$3","v":"P.US.EPZ1725100"}]
[{"$f":"IFERROR(IF(OR(ISTEXT(RTD(\"cqg.rtd\",,\"OrderData\",\"\"&B269&\"\",\"\",\"OpenPosition\",\"\"&Display5!$D$3&\"\")),RTD(\"cqg.rtd\",,\"OrderData\",\"\"&B269&\"\",\"\",\"OpenPosition\",\"\"&Display5!$D$3&\"\")=0),A268+0.001,INT(A268)+1),A268)","v":0.26900000000000018},{"$f":"(LEFT(B270,SEARCH(Display5!$G$2,B270)+LEN(Display5!$G$2)+2))&RIGHT(B270,LEN(B270)-(SEARCH(Display5!$G$2,B270)+LEN(Display5!$G$2)+2))+Display5!$J$3","v":"P.US.EPZ1725050"}]
[{"$f":"IFERROR(IF(OR(ISTEXT(RTD(\"cqg.rtd\",,\"OrderData\",\"\"&B270&\"\",\"\",\"OpenPosition\",\"\"&Display5!$D$3&\"\")),RTD(\"cqg.rtd\",,\"OrderData\",\"\"&B270&\"\",\"\",\"OpenPosition\",\"\"&Display5!$D$3&\"\")=0),A269+0.001,INT(A269)+1),A269)","v":0.27000000000000018},{"$f":"(LEFT(B271,SEARCH(Display5!$G$2,B271)+LEN(Display5!$G$2)+2))&RIGHT(B271,LEN(B271)-(SEARCH(Display5!$G$2,B271)+LEN(Display5!$G$2)+2))+Display5!$J$3","v":"P.US.EPZ1725000"}]
[{"$f":"IFERROR(IF(OR(ISTEXT(RTD(\"cqg.rtd\",,\"OrderData\",\"\"&B271&\"\",\"\",\"OpenPosition\",\"\"&Display5!$D$3&\"\")),RTD(\"cqg.rtd\",,\"OrderData\",\"\"&B271&\"\",\"\",\"OpenPosition\",\"\"&Display5!$D$3&\"\")=0),A270+0.001,INT(A270)+1),A270)","v":0.27100000000000019},{"$f":"(LEFT(B272,SEARCH(Display5!$G$2,B272)+LEN(Display5!$G$2)+2))&RIGHT(B272,LEN(B272)-(SEARCH(Display5!$G$2,B272)+LEN(Display5!$G$2)+2))+Display5!$J$3","v":"P.US.EPZ1724950"}]
[{"$f":"IFERROR(IF(OR(ISTEXT(RTD(\"cqg.rtd\",,\"OrderData\",\"\"&B272&\"\",\"\",\"OpenPosition\",\"\"&Display5!$D$3&\"\")),RTD(\"cqg.rtd\",,\"OrderData\",\"\"&B272&\"\",\"\",\"OpenPosition\",\"\"&Display5!$D$3&\"\")=0),A271+0.001,INT(A271)+1),A271)","v":0.27200000000000019},{"$f":"(LEFT(B273,SEARCH(Display5!$G$2,B273)+LEN(Display5!$G$2)+2))&RIGHT(B273,LEN(B273)-(SEARCH(Display5!$G$2,B273)+LEN(Display5!$G$2)+2))+Display5!$J$3","v":"P.US.EPZ1724900"}]
[{"$f":"IFERROR(IF(OR(ISTEXT(RTD(\"cqg.rtd\",,\"OrderData\",\"\"&B273&\"\",\"\",\"OpenPosition\",\"\"&Display5!$D$3&\"\")),RTD(\"cqg.rtd\",,\"OrderData\",\"\"&B273&\"\",\"\",\"OpenPosition\",\"\"&Display5!$D$3&\"\")=0),A272+0.001,INT(A272)+1),A272)","v":0.27300000000000019},{"$f":"(LEFT(B274,SEARCH(Display5!$G$2,B274)+LEN(Display5!$G$2)+2))&RIGHT(B274,LEN(B274)-(SEARCH(Display5!$G$2,B274)+LEN(Display5!$G$2)+2))+Display5!$J$3","v":"P.US.EPZ1724850"}]
[{"$f":"IFERROR(IF(OR(ISTEXT(RTD(\"cqg.rtd\",,\"OrderData\",\"\"&B274&\"\",\"\",\"OpenPosition\",\"\"&Display5!$D$3&\"\")),RTD(\"cqg.rtd\",,\"OrderData\",\"\"&B274&\"\",\"\",\"OpenPosition\",\"\"&Display5!$D$3&\"\")=0),A273+0.001,INT(A273)+1),A273)","v":0.27400000000000019},{"$f":"(LEFT(B275,SEARCH(Display5!$G$2,B275)+LEN(Display5!$G$2)+2))&RIGHT(B275,LEN(B275)-(SEARCH(Display5!$G$2,B275)+LEN(Display5!$G$2)+2))+Display5!$J$3","v":"P.US.EPZ1724800"}]
[{"$f":"IFERROR(IF(OR(ISTEXT(RTD(\"cqg.rtd\",,\"OrderData\",\"\"&B275&\"\",\"\",\"OpenPosition\",\"\"&Display5!$D$3&\"\")),RTD(\"cqg.rtd\",,\"OrderData\",\"\"&B275&\"\",\"\",\"OpenPosition\",\"\"&Display5!$D$3&\"\")=0),A274+0.001,INT(A274)+1),A274)","v":0.27500000000000019},{"$f":"(LEFT(B276,SEARCH(Display5!$G$2,B276)+LEN(Display5!$G$2)+2))&RIGHT(B276,LEN(B276)-(SEARCH(Display5!$G$2,B276)+LEN(Display5!$G$2)+2))+Display5!$J$3","v":"P.US.EPZ1724750"}]
[{"$f":"IFERROR(IF(OR(ISTEXT(RTD(\"cqg.rtd\",,\"OrderData\",\"\"&B276&\"\",\"\",\"OpenPosition\",\"\"&Display5!$D$3&\"\")),RTD(\"cqg.rtd\",,\"OrderData\",\"\"&B276&\"\",\"\",\"OpenPosition\",\"\"&Display5!$D$3&\"\")=0),A275+0.001,INT(A275)+1),A275)","v":0.27600000000000019},{"$f":"(LEFT(B277,SEARCH(Display5!$G$2,B277)+LEN(Display5!$G$2)+2))&RIGHT(B277,LEN(B277)-(SEARCH(Display5!$G$2,B277)+LEN(Display5!$G$2)+2))+Display5!$J$3","v":"P.US.EPZ1724700"}]
[{"$f":"IFERROR(IF(OR(ISTEXT(RTD(\"cqg.rtd\",,\"OrderData\",\"\"&B277&\"\",\"\",\"OpenPosition\",\"\"&Display5!$D$3&\"\")),RTD(\"cqg.rtd\",,\"OrderData\",\"\"&B277&\"\",\"\",\"OpenPosition\",\"\"&Display5!$D$3&\"\")=0),A276+0.001,INT(A276)+1),A276)","v":0.27700000000000019},{"$f":"(LEFT(B278,SEARCH(Display5!$G$2,B278)+LEN(Display5!$G$2)+2))&RIGHT(B278,LEN(B278)-(SEARCH(Display5!$G$2,B278)+LEN(Display5!$G$2)+2))+Display5!$J$3","v":"P.US.EPZ1724650"}]
[{"$f":"IFERROR(IF(OR(ISTEXT(RTD(\"cqg.rtd\",,\"OrderData\",\"\"&B278&\"\",\"\",\"OpenPosition\",\"\"&Display5!$D$3&\"\")),RTD(\"cqg.rtd\",,\"OrderData\",\"\"&B278&\"\",\"\",\"OpenPosition\",\"\"&Display5!$D$3&\"\")=0),A277+0.001,INT(A277)+1),A277)","v":0.27800000000000019},{"$f":"(LEFT(B279,SEARCH(Display5!$G$2,B279)+LEN(Display5!$G$2)+2))&RIGHT(B279,LEN(B279)-(SEARCH(Display5!$G$2,B279)+LEN(Display5!$G$2)+2))+Display5!$J$3","v":"P.US.EPZ1724600"}]
[{"$f":"IFERROR(IF(OR(ISTEXT(RTD(\"cqg.rtd\",,\"OrderData\",\"\"&B279&\"\",\"\",\"OpenPosition\",\"\"&Display5!$D$3&\"\")),RTD(\"cqg.rtd\",,\"OrderData\",\"\"&B279&\"\",\"\",\"OpenPosition\",\"\"&Display5!$D$3&\"\")=0),A278+0.001,INT(A278)+1),A278)","v":0.27900000000000019},{"$f":"(LEFT(B280,SEARCH(Display5!$G$2,B280)+LEN(Display5!$G$2)+2))&RIGHT(B280,LEN(B280)-(SEARCH(Display5!$G$2,B280)+LEN(Display5!$G$2)+2))+Display5!$J$3","v":"P.US.EPZ1724550"}]
[{"$f":"IFERROR(IF(OR(ISTEXT(RTD(\"cqg.rtd\",,\"OrderData\",\"\"&B280&\"\",\"\",\"OpenPosition\",\"\"&Display5!$D$3&\"\")),RTD(\"cqg.rtd\",,\"OrderData\",\"\"&B280&\"\",\"\",\"OpenPosition\",\"\"&Display5!$D$3&\"\")=0),A279+0.001,INT(A279)+1),A279)","v":0.28000000000000019},{"$f":"(LEFT(B281,SEARCH(Display5!$G$2,B281)+LEN(Display5!$G$2)+2))&RIGHT(B281,LEN(B281)-(SEARCH(Display5!$G$2,B281)+LEN(Display5!$G$2)+2))+Display5!$J$3","v":"P.US.EPZ1724500"}]
[{"$f":"IFERROR(IF(OR(ISTEXT(RTD(\"cqg.rtd\",,\"OrderData\",\"\"&B281&\"\",\"\",\"OpenPosition\",\"\"&Display5!$D$3&\"\")),RTD(\"cqg.rtd\",,\"OrderData\",\"\"&B281&\"\",\"\",\"OpenPosition\",\"\"&Display5!$D$3&\"\")=0),A280+0.001,INT(A280)+1),A280)","v":0.28100000000000019},{"$f":"(LEFT(B282,SEARCH(Display5!$G$2,B282)+LEN(Display5!$G$2)+2))&RIGHT(B282,LEN(B282)-(SEARCH(Display5!$G$2,B282)+LEN(Display5!$G$2)+2))+Display5!$J$3","v":"P.US.EPZ1724450"}]
[{"$f":"IFERROR(IF(OR(ISTEXT(RTD(\"cqg.rtd\",,\"OrderData\",\"\"&B282&\"\",\"\",\"OpenPosition\",\"\"&Display5!$D$3&\"\")),RTD(\"cqg.rtd\",,\"OrderData\",\"\"&B282&\"\",\"\",\"OpenPosition\",\"\"&Display5!$D$3&\"\")=0),A281+0.001,INT(A281)+1),A281)","v":0.28200000000000019},{"$f":"(LEFT(B283,SEARCH(Display5!$G$2,B283)+LEN(Display5!$G$2)+2))&RIGHT(B283,LEN(B283)-(SEARCH(Display5!$G$2,B283)+LEN(Display5!$G$2)+2))+Display5!$J$3","v":"P.US.EPZ1724400"}]
[{"$f":"IFERROR(IF(OR(ISTEXT(RTD(\"cqg.rtd\",,\"OrderData\",\"\"&B283&\"\",\"\",\"OpenPosition\",\"\"&Display5!$D$3&\"\")),RTD(\"cqg.rtd\",,\"OrderData\",\"\"&B283&\"\",\"\",\"OpenPosition\",\"\"&Display5!$D$3&\"\")=0),A282+0.001,INT(A282)+1),A282)","v":0.2830000000000002},{"$f":"RTD(\"cqg.rtd\", ,\"ContractData\", \"P.US.\"&Display5!$G$2&Display5!$H$3&\"\", \"Symbol\",, \"T\")","v":"P.US.EPZ1724350"}]
[{"$f":"IFERROR(IF(OR(ISTEXT(RTD(\"cqg.rtd\",,\"OrderData\",\"\"&B284&\"\",\"\",\"OpenPosition\",\"\"&Display5!$D$3&\"\")),RTD(\"cqg.rtd\",,\"OrderData\",\"\"&B284&\"\",\"\",\"OpenPosition\",\"\"&Display5!$D$3&\"\")=0),A283+0.001,INT(A283)+1),A283)","v":0.2840000000000002},{"$f":"(LEFT(B283,SEARCH(Display5!$G$2,B283)+LEN(Display5!$G$2)+2))&RIGHT(B283,LEN(B283)-(SEARCH(Display5!$G$2,B283)+LEN(Display5!$G$2)+2))-Display5!$J$3","v":"P.US.EPZ1724300"}]
[{"$f":"IFERROR(IF(OR(ISTEXT(RTD(\"cqg.rtd\",,\"OrderData\",\"\"&B285&\"\",\"\",\"OpenPosition\",\"\"&Display5!$D$3&\"\")),RTD(\"cqg.rtd\",,\"OrderData\",\"\"&B285&\"\",\"\",\"OpenPosition\",\"\"&Display5!$D$3&\"\")=0),A284+0.001,INT(A284)+1),A284)","v":0.2850000000000002},{"$f":"(LEFT(B284,SEARCH(Display5!$G$2,B284)+LEN(Display5!$G$2)+2))&RIGHT(B284,LEN(B284)-(SEARCH(Display5!$G$2,B284)+LEN(Display5!$G$2)+2))-Display5!$J$3","v":"P.US.EPZ1724250"}]
[{"$f":"IFERROR(IF(OR(ISTEXT(RTD(\"cqg.rtd\",,\"OrderData\",\"\"&B286&\"\",\"\",\"OpenPosition\",\"\"&Display5!$D$3&\"\")),RTD(\"cqg.rtd\",,\"OrderData\",\"\"&B286&\"\",\"\",\"OpenPosition\",\"\"&Display5!$D$3&\"\")=0),A285+0.001,INT(A285)+1),A285)","v":0.2860000000000002},{"$f":"(LEFT(B285,SEARCH(Display5!$G$2,B285)+LEN(Display5!$G$2)+2))&RIGHT(B285,LEN(B285)-(SEARCH(Display5!$G$2,B285)+LEN(Display5!$G$2)+2))-Display5!$J$3","v":"P.US.EPZ1724200"}]
[{"$f":"IFERROR(IF(OR(ISTEXT(RTD(\"cqg.rtd\",,\"OrderData\",\"\"&B287&\"\",\"\",\"OpenPosition\",\"\"&Display5!$D$3&\"\")),RTD(\"cqg.rtd\",,\"OrderData\",\"\"&B287&\"\",\"\",\"OpenPosition\",\"\"&Display5!$D$3&\"\")=0),A286+0.001,INT(A286)+1),A286)","v":0.2870000000000002},{"$f":"(LEFT(B286,SEARCH(Display5!$G$2,B286)+LEN(Display5!$G$2)+2))&RIGHT(B286,LEN(B286)-(SEARCH(Display5!$G$2,B286)+LEN(Display5!$G$2)+2))-Display5!$J$3","v":"P.US.EPZ1724150"}]
[{"$f":"IFERROR(IF(OR(ISTEXT(RTD(\"cqg.rtd\",,\"OrderData\",\"\"&B288&\"\",\"\",\"OpenPosition\",\"\"&Display5!$D$3&\"\")),RTD(\"cqg.rtd\",,\"OrderData\",\"\"&B288&\"\",\"\",\"OpenPosition\",\"\"&Display5!$D$3&\"\")=0),A287+0.001,INT(A287)+1),A287)","v":0.2880000000000002},{"$f":"(LEFT(B287,SEARCH(Display5!$G$2,B287)+LEN(Display5!$G$2)+2))&RIGHT(B287,LEN(B287)-(SEARCH(Display5!$G$2,B287)+LEN(Display5!$G$2)+2))-Display5!$J$3","v":"P.US.EPZ1724100"}]
[{"$f":"IFERROR(IF(OR(ISTEXT(RTD(\"cqg.rtd\",,\"OrderData\",\"\"&B289&\"\",\"\",\"OpenPosition\",\"\"&Display5!$D$3&\"\")),RTD(\"cqg.rtd\",,\"OrderData\",\"\"&B289&\"\",\"\",\"OpenPosition\",\"\"&Display5!$D$3&\"\")=0),A288+0.001,INT(A288)+1),A288)","v":0.2890000000000002},{"$f":"(LEFT(B288,SEARCH(Display5!$G$2,B288)+LEN(Display5!$G$2)+2))&RIGHT(B288,LEN(B288)-(SEARCH(Display5!$G$2,B288)+LEN(Display5!$G$2)+2))-Display5!$J$3","v":"P.US.EPZ1724050"}]
[{"$f":"IFERROR(IF(OR(ISTEXT(RTD(\"cqg.rtd\",,\"OrderData\",\"\"&B290&\"\",\"\",\"OpenPosition\",\"\"&Display5!$D$3&\"\")),RTD(\"cqg.rtd\",,\"OrderData\",\"\"&B290&\"\",\"\",\"OpenPosition\",\"\"&Display5!$D$3&\"\")=0),A289+0.001,INT(A289)+1),A289)","v":0.2900000000000002},{"$f":"(LEFT(B289,SEARCH(Display5!$G$2,B289)+LEN(Display5!$G$2)+2))&RIGHT(B289,LEN(B289)-(SEARCH(Display5!$G$2,B289)+LEN(Display5!$G$2)+2))-Display5!$J$3","v":"P.US.EPZ1724000"}]
[{"$f":"IFERROR(IF(OR(ISTEXT(RTD(\"cqg.rtd\",,\"OrderData\",\"\"&B291&\"\",\"\",\"OpenPosition\",\"\"&Display5!$D$3&\"\")),RTD(\"cqg.rtd\",,\"OrderData\",\"\"&B291&\"\",\"\",\"OpenPosition\",\"\"&Display5!$D$3&\"\")=0),A290+0.001,INT(A290)+1),A290)","v":0.2910000000000002},{"$f":"(LEFT(B290,SEARCH(Display5!$G$2,B290)+LEN(Display5!$G$2)+2))&RIGHT(B290,LEN(B290)-(SEARCH(Display5!$G$2,B290)+LEN(Display5!$G$2)+2))-Display5!$J$3","v":"P.US.EPZ1723950"}]
[{"$f":"IFERROR(IF(OR(ISTEXT(RTD(\"cqg.rtd\",,\"OrderData\",\"\"&B292&\"\",\"\",\"OpenPosition\",\"\"&Display5!$D$3&\"\")),RTD(\"cqg.rtd\",,\"OrderData\",\"\"&B292&\"\",\"\",\"OpenPosition\",\"\"&Display5!$D$3&\"\")=0),A291+0.001,INT(A291)+1),A291)","v":0.2920000000000002},{"$f":"(LEFT(B291,SEARCH(Display5!$G$2,B291)+LEN(Display5!$G$2)+2))&RIGHT(B291,LEN(B291)-(SEARCH(Display5!$G$2,B291)+LEN(Display5!$G$2)+2))-Display5!$J$3","v":"P.US.EPZ1723900"}]
[{"$f":"IFERROR(IF(OR(ISTEXT(RTD(\"cqg.rtd\",,\"OrderData\",\"\"&B293&\"\",\"\",\"OpenPosition\",\"\"&Display5!$D$3&\"\")),RTD(\"cqg.rtd\",,\"OrderData\",\"\"&B293&\"\",\"\",\"OpenPosition\",\"\"&Display5!$D$3&\"\")=0),A292+0.001,INT(A292)+1),A292)","v":0.2930000000000002},{"$f":"(LEFT(B292,SEARCH(Display5!$G$2,B292)+LEN(Display5!$G$2)+2))&RIGHT(B292,LEN(B292)-(SEARCH(Display5!$G$2,B292)+LEN(Display5!$G$2)+2))-Display5!$J$3","v":"P.US.EPZ1723850"}]
[{"$f":"IFERROR(IF(OR(ISTEXT(RTD(\"cqg.rtd\",,\"OrderData\",\"\"&B294&\"\",\"\",\"OpenPosition\",\"\"&Display5!$D$3&\"\")),RTD(\"cqg.rtd\",,\"OrderData\",\"\"&B294&\"\",\"\",\"OpenPosition\",\"\"&Display5!$D$3&\"\")=0),A293+0.001,INT(A293)+1),A293)","v":0.29400000000000021},{"$f":"(LEFT(B293,SEARCH(Display5!$G$2,B293)+LEN(Display5!$G$2)+2))&RIGHT(B293,LEN(B293)-(SEARCH(Display5!$G$2,B293)+LEN(Display5!$G$2)+2))-Display5!$J$3","v":"P.US.EPZ1723800"}]
[{"$f":"IFERROR(IF(OR(ISTEXT(RTD(\"cqg.rtd\",,\"OrderData\",\"\"&B295&\"\",\"\",\"OpenPosition\",\"\"&Display5!$D$3&\"\")),RTD(\"cqg.rtd\",,\"OrderData\",\"\"&B295&\"\",\"\",\"OpenPosition\",\"\"&Display5!$D$3&\"\")=0),A294+0.001,INT(A294)+1),A294)","v":0.29500000000000021},{"$f":"(LEFT(B294,SEARCH(Display5!$G$2,B294)+LEN(Display5!$G$2)+2))&RIGHT(B294,LEN(B294)-(SEARCH(Display5!$G$2,B294)+LEN(Display5!$G$2)+2))-Display5!$J$3","v":"P.US.EPZ1723750"}]
[{"$f":"IFERROR(IF(OR(ISTEXT(RTD(\"cqg.rtd\",,\"OrderData\",\"\"&B296&\"\",\"\",\"OpenPosition\",\"\"&Display5!$D$3&\"\")),RTD(\"cqg.rtd\",,\"OrderData\",\"\"&B296&\"\",\"\",\"OpenPosition\",\"\"&Display5!$D$3&\"\")=0),A295+0.001,INT(A295)+1),A295)","v":0.29600000000000021},{"$f":"(LEFT(B295,SEARCH(Display5!$G$2,B295)+LEN(Display5!$G$2)+2))&RIGHT(B295,LEN(B295)-(SEARCH(Display5!$G$2,B295)+LEN(Display5!$G$2)+2))-Display5!$J$3","v":"P.US.EPZ1723700"}]
[{"$f":"IFERROR(IF(OR(ISTEXT(RTD(\"cqg.rtd\",,\"OrderData\",\"\"&B297&\"\",\"\",\"OpenPosition\",\"\"&Display5!$D$3&\"\")),RTD(\"cqg.rtd\",,\"OrderData\",\"\"&B297&\"\",\"\",\"OpenPosition\",\"\"&Display5!$D$3&\"\")=0),A296+0.001,INT(A296)+1),A296)","v":0.29700000000000021},{"$f":"(LEFT(B296,SEARCH(Display5!$G$2,B296)+LEN(Display5!$G$2)+2))&RIGHT(B296,LEN(B296)-(SEARCH(Display5!$G$2,B296)+LEN(Display5!$G$2)+2))-Display5!$J$3","v":"P.US.EPZ1723650"}]
[{"$f":"IFERROR(IF(OR(ISTEXT(RTD(\"cqg.rtd\",,\"OrderData\",\"\"&B298&\"\",\"\",\"OpenPosition\",\"\"&Display5!$D$3&\"\")),RTD(\"cqg.rtd\",,\"OrderData\",\"\"&B298&\"\",\"\",\"OpenPosition\",\"\"&Display5!$D$3&\"\")=0),A297+0.001,INT(A297)+1),A297)","v":0.29800000000000021},{"$f":"(LEFT(B297,SEARCH(Display5!$G$2,B297)+LEN(Display5!$G$2)+2))&RIGHT(B297,LEN(B297)-(SEARCH(Display5!$G$2,B297)+LEN(Display5!$G$2)+2))-Display5!$J$3","v":"P.US.EPZ1723600"}]
[{"$f":"IFERROR(IF(OR(ISTEXT(RTD(\"cqg.rtd\",,\"OrderData\",\"\"&B299&\"\",\"\",\"OpenPosition\",\"\"&Display5!$D$3&\"\")),RTD(\"cqg.rtd\",,\"OrderData\",\"\"&B299&\"\",\"\",\"OpenPosition\",\"\"&Display5!$D$3&\"\")=0),A298+0.001,INT(A298)+1),A298)","v":0.29900000000000021},{"$f":"(LEFT(B298,SEARCH(Display5!$G$2,B298)+LEN(Display5!$G$2)+2))&RIGHT(B298,LEN(B298)-(SEARCH(Display5!$G$2,B298)+LEN(Display5!$G$2)+2))-Display5!$J$3","v":"P.US.EPZ1723550"}]
[{"$f":"IFERROR(IF(OR(ISTEXT(RTD(\"cqg.rtd\",,\"OrderData\",\"\"&B300&\"\",\"\",\"OpenPosition\",\"\"&Display5!$D$3&\"\")),RTD(\"cqg.rtd\",,\"OrderData\",\"\"&B300&\"\",\"\",\"OpenPosition\",\"\"&Display5!$D$3&\"\")=0),A299+0.001,INT(A299)+1),A299)","v":0.30000000000000021},{"$f":"(LEFT(B299,SEARCH(Display5!$G$2,B299)+LEN(Display5!$G$2)+2))&RIGHT(B299,LEN(B299)-(SEARCH(Display5!$G$2,B299)+LEN(Display5!$G$2)+2))-Display5!$J$3","v":"P.US.EPZ1723500"}]
[{"$f":"IFERROR(IF(OR(ISTEXT(RTD(\"cqg.rtd\",,\"OrderData\",\"\"&B301&\"\",\"\",\"OpenPosition\",\"\"&Display5!$D$3&\"\")),RTD(\"cqg.rtd\",,\"OrderData\",\"\"&B301&\"\",\"\",\"OpenPosition\",\"\"&Display5!$D$3&\"\")=0),A300+0.001,INT(A300)+1),A300)","v":0.30100000000000021},{"$f":"(LEFT(B300,SEARCH(Display5!$G$2,B300)+LEN(Display5!$G$2)+2))&RIGHT(B300,LEN(B300)-(SEARCH(Display5!$G$2,B300)+LEN(Display5!$G$2)+2))-Display5!$J$3","v":"P.US.EPZ1723450"}]
[{"$f":"IFERROR(IF(OR(ISTEXT(RTD(\"cqg.rtd\",,\"OrderData\",\"\"&B302&\"\",\"\",\"OpenPosition\",\"\"&Display5!$D$3&\"\")),RTD(\"cqg.rtd\",,\"OrderData\",\"\"&B302&\"\",\"\",\"OpenPosition\",\"\"&Display5!$D$3&\"\")=0),A301+0.001,INT(A301)+1),A301)","v":0.30200000000000021},{"$f":"(LEFT(B301,SEARCH(Display5!$G$2,B301)+LEN(Display5!$G$2)+2))&RIGHT(B301,LEN(B301)-(SEARCH(Display5!$G$2,B301)+LEN(Display5!$G$2)+2))-Display5!$J$3","v":"P.US.EPZ1723400"}]
[{"$f":"IFERROR(IF(OR(ISTEXT(RTD(\"cqg.rtd\",,\"OrderData\",\"\"&B303&\"\",\"\",\"OpenPosition\",\"\"&Display5!$D$3&\"\")),RTD(\"cqg.rtd\",,\"OrderData\",\"\"&B303&\"\",\"\",\"OpenPosition\",\"\"&Display5!$D$3&\"\")=0),A302+0.001,INT(A302)+1),A302)","v":0.30300000000000021},{"$f":"(LEFT(B302,SEARCH(Display5!$G$2,B302)+LEN(Display5!$G$2)+2))&RIGHT(B302,LEN(B302)-(SEARCH(Display5!$G$2,B302)+LEN(Display5!$G$2)+2))-Display5!$J$3","v":"P.US.EPZ1723350"}]
[{"$f":"IFERROR(IF(OR(ISTEXT(RTD(\"cqg.rtd\",,\"OrderData\",\"\"&B304&\"\",\"\",\"OpenPosition\",\"\"&Display5!$D$3&\"\")),RTD(\"cqg.rtd\",,\"OrderData\",\"\"&B304&\"\",\"\",\"OpenPosition\",\"\"&Display5!$D$3&\"\")=0),A303+0.001,INT(A303)+1),A303)","v":0.30400000000000021},{"$f":"(LEFT(B305,SEARCH(Display5!$G$2,B305)+LEN(Display5!$G$2)+2))&RIGHT(B305,LEN(B305)-(SEARCH(Display5!$G$2,B305)+LEN(Display5!$G$2)+2))+Display5!$J$3","v":"C.US.EPH1826300"}]
[{"$f":"IFERROR(IF(OR(ISTEXT(RTD(\"cqg.rtd\",,\"OrderData\",\"\"&B305&\"\",\"\",\"OpenPosition\",\"\"&Display5!$D$3&\"\")),RTD(\"cqg.rtd\",,\"OrderData\",\"\"&B305&\"\",\"\",\"OpenPosition\",\"\"&Display5!$D$3&\"\")=0),A304+0.001,INT(A304)+1),A304)","v":0.30500000000000022},{"$f":"(LEFT(B306,SEARCH(Display5!$G$2,B306)+LEN(Display5!$G$2)+2))&RIGHT(B306,LEN(B306)-(SEARCH(Display5!$G$2,B306)+LEN(Display5!$G$2)+2))+Display5!$J$3","v":"C.US.EPH1826250"}]
[{"$f":"IFERROR(IF(OR(ISTEXT(RTD(\"cqg.rtd\",,\"OrderData\",\"\"&B306&\"\",\"\",\"OpenPosition\",\"\"&Display5!$D$3&\"\")),RTD(\"cqg.rtd\",,\"OrderData\",\"\"&B306&\"\",\"\",\"OpenPosition\",\"\"&Display5!$D$3&\"\")=0),A305+0.001,INT(A305)+1),A305)","v":0.30600000000000022},{"$f":"(LEFT(B307,SEARCH(Display5!$G$2,B307)+LEN(Display5!$G$2)+2))&RIGHT(B307,LEN(B307)-(SEARCH(Display5!$G$2,B307)+LEN(Display5!$G$2)+2))+Display5!$J$3","v":"C.US.EPH1826200"}]
[{"$f":"IFERROR(IF(OR(ISTEXT(RTD(\"cqg.rtd\",,\"OrderData\",\"\"&B307&\"\",\"\",\"OpenPosition\",\"\"&Display5!$D$3&\"\")),RTD(\"cqg.rtd\",,\"OrderData\",\"\"&B307&\"\",\"\",\"OpenPosition\",\"\"&Display5!$D$3&\"\")=0),A306+0.001,INT(A306)+1),A306)","v":0.30700000000000022},{"$f":"(LEFT(B308,SEARCH(Display5!$G$2,B308)+LEN(Display5!$G$2)+2))&RIGHT(B308,LEN(B308)-(SEARCH(Display5!$G$2,B308)+LEN(Display5!$G$2)+2))+Display5!$J$3","v":"C.US.EPH1826150"}]
[{"$f":"IFERROR(IF(OR(ISTEXT(RTD(\"cqg.rtd\",,\"OrderData\",\"\"&B308&\"\",\"\",\"OpenPosition\",\"\"&Display5!$D$3&\"\")),RTD(\"cqg.rtd\",,\"OrderData\",\"\"&B308&\"\",\"\",\"OpenPosition\",\"\"&Display5!$D$3&\"\")=0),A307+0.001,INT(A307)+1),A307)","v":0.30800000000000022},{"$f":"(LEFT(B309,SEARCH(Display5!$G$2,B309)+LEN(Display5!$G$2)+2))&RIGHT(B309,LEN(B309)-(SEARCH(Display5!$G$2,B309)+LEN(Display5!$G$2)+2))+Display5!$J$3","v":"C.US.EPH1826100"}]
[{"$f":"IFERROR(IF(OR(ISTEXT(RTD(\"cqg.rtd\",,\"OrderData\",\"\"&B309&\"\",\"\",\"OpenPosition\",\"\"&Display5!$D$3&\"\")),RTD(\"cqg.rtd\",,\"OrderData\",\"\"&B309&\"\",\"\",\"OpenPosition\",\"\"&Display5!$D$3&\"\")=0),A308+0.001,INT(A308)+1),A308)","v":0.30900000000000022},{"$f":"(LEFT(B310,SEARCH(Display5!$G$2,B310)+LEN(Display5!$G$2)+2))&RIGHT(B310,LEN(B310)-(SEARCH(Display5!$G$2,B310)+LEN(Display5!$G$2)+2))+Display5!$J$3","v":"C.US.EPH1826050"}]
[{"$f":"IFERROR(IF(OR(ISTEXT(RTD(\"cqg.rtd\",,\"OrderData\",\"\"&B310&\"\",\"\",\"OpenPosition\",\"\"&Display5!$D$3&\"\")),RTD(\"cqg.rtd\",,\"OrderData\",\"\"&B310&\"\",\"\",\"OpenPosition\",\"\"&Display5!$D$3&\"\")=0),A309+0.001,INT(A309)+1),A309)","v":0.31000000000000022},{"$f":"(LEFT(B311,SEARCH(Display5!$G$2,B311)+LEN(Display5!$G$2)+2))&RIGHT(B311,LEN(B311)-(SEARCH(Display5!$G$2,B311)+LEN(Display5!$G$2)+2))+Display5!$J$3","v":"C.US.EPH1826000"}]
[{"$f":"IFERROR(IF(OR(ISTEXT(RTD(\"cqg.rtd\",,\"OrderData\",\"\"&B311&\"\",\"\",\"OpenPosition\",\"\"&Display5!$D$3&\"\")),RTD(\"cqg.rtd\",,\"OrderData\",\"\"&B311&\"\",\"\",\"OpenPosition\",\"\"&Display5!$D$3&\"\")=0),A310+0.001,INT(A310)+1),A310)","v":0.31100000000000022},{"$f":"(LEFT(B312,SEARCH(Display5!$G$2,B312)+LEN(Display5!$G$2)+2))&RIGHT(B312,LEN(B312)-(SEARCH(Display5!$G$2,B312)+LEN(Display5!$G$2)+2))+Display5!$J$3","v":"C.US.EPH1825950"}]
[{"$f":"IFERROR(IF(OR(ISTEXT(RTD(\"cqg.rtd\",,\"OrderData\",\"\"&B312&\"\",\"\",\"OpenPosition\",\"\"&Display5!$D$3&\"\")),RTD(\"cqg.rtd\",,\"OrderData\",\"\"&B312&\"\",\"\",\"OpenPosition\",\"\"&Display5!$D$3&\"\")=0),A311+0.001,INT(A311)+1),A311)","v":0.31200000000000022},{"$f":"(LEFT(B313,SEARCH(Display5!$G$2,B313)+LEN(Display5!$G$2)+2))&RIGHT(B313,LEN(B313)-(SEARCH(Display5!$G$2,B313)+LEN(Display5!$G$2)+2))+Display5!$J$3","v":"C.US.EPH1825900"}]
[{"$f":"IFERROR(IF(OR(ISTEXT(RTD(\"cqg.rtd\",,\"OrderData\",\"\"&B313&\"\",\"\",\"OpenPosition\",\"\"&Display5!$D$3&\"\")),RTD(\"cqg.rtd\",,\"OrderData\",\"\"&B313&\"\",\"\",\"OpenPosition\",\"\"&Display5!$D$3&\"\")=0),A312+0.001,INT(A312)+1),A312)","v":0.31300000000000022},{"$f":"(LEFT(B314,SEARCH(Display5!$G$2,B314)+LEN(Display5!$G$2)+2))&RIGHT(B314,LEN(B314)-(SEARCH(Display5!$G$2,B314)+LEN(Display5!$G$2)+2))+Display5!$J$3","v":"C.US.EPH1825850"}]
[{"$f":"IFERROR(IF(OR(ISTEXT(RTD(\"cqg.rtd\",,\"OrderData\",\"\"&B314&\"\",\"\",\"OpenPosition\",\"\"&Display5!$D$3&\"\")),RTD(\"cqg.rtd\",,\"OrderData\",\"\"&B314&\"\",\"\",\"OpenPosition\",\"\"&Display5!$D$3&\"\")=0),A313+0.001,INT(A313)+1),A313)","v":0.31400000000000022},{"$f":"(LEFT(B315,SEARCH(Display5!$G$2,B315)+LEN(Display5!$G$2)+2))&RIGHT(B315,LEN(B315)-(SEARCH(Display5!$G$2,B315)+LEN(Display5!$G$2)+2))+Display5!$J$3","v":"C.US.EPH1825800"}]
[{"$f":"IFERROR(IF(OR(ISTEXT(RTD(\"cqg.rtd\",,\"OrderData\",\"\"&B315&\"\",\"\",\"OpenPosition\",\"\"&Display5!$D$3&\"\")),RTD(\"cqg.rtd\",,\"OrderData\",\"\"&B315&\"\",\"\",\"OpenPosition\",\"\"&Display5!$D$3&\"\")=0),A314+0.001,INT(A314)+1),A314)","v":0.31500000000000022},{"$f":"(LEFT(B316,SEARCH(Display5!$G$2,B316)+LEN(Display5!$G$2)+2))&RIGHT(B316,LEN(B316)-(SEARCH(Display5!$G$2,B316)+LEN(Display5!$G$2)+2))+Display5!$J$3","v":"C.US.EPH1825750"}]
[{"$f":"IFERROR(IF(OR(ISTEXT(RTD(\"cqg.rtd\",,\"OrderData\",\"\"&B316&\"\",\"\",\"OpenPosition\",\"\"&Display5!$D$3&\"\")),RTD(\"cqg.rtd\",,\"OrderData\",\"\"&B316&\"\",\"\",\"OpenPosition\",\"\"&Display5!$D$3&\"\")=0),A315+0.001,INT(A315)+1),A315)","v":0.31600000000000023},{"$f":"(LEFT(B317,SEARCH(Display5!$G$2,B317)+LEN(Display5!$G$2)+2))&RIGHT(B317,LEN(B317)-(SEARCH(Display5!$G$2,B317)+LEN(Display5!$G$2)+2))+Display5!$J$3","v":"C.US.EPH1825700"}]
[{"$f":"IFERROR(IF(OR(ISTEXT(RTD(\"cqg.rtd\",,\"OrderData\",\"\"&B317&\"\",\"\",\"OpenPosition\",\"\"&Display5!$D$3&\"\")),RTD(\"cqg.rtd\",,\"OrderData\",\"\"&B317&\"\",\"\",\"OpenPosition\",\"\"&Display5!$D$3&\"\")=0),A316+0.001,INT(A316)+1),A316)","v":0.31700000000000023},{"$f":"(LEFT(B318,SEARCH(Display5!$G$2,B318)+LEN(Display5!$G$2)+2))&RIGHT(B318,LEN(B318)-(SEARCH(Display5!$G$2,B318)+LEN(Display5!$G$2)+2))+Display5!$J$3","v":"C.US.EPH1825650"}]
[{"$f":"IFERROR(IF(OR(ISTEXT(RTD(\"cqg.rtd\",,\"OrderData\",\"\"&B318&\"\",\"\",\"OpenPosition\",\"\"&Display5!$D$3&\"\")),RTD(\"cqg.rtd\",,\"OrderData\",\"\"&B318&\"\",\"\",\"OpenPosition\",\"\"&Display5!$D$3&\"\")=0),A317+0.001,INT(A317)+1),A317)","v":0.31800000000000023},{"$f":"(LEFT(B319,SEARCH(Display5!$G$2,B319)+LEN(Display5!$G$2)+2))&RIGHT(B319,LEN(B319)-(SEARCH(Display5!$G$2,B319)+LEN(Display5!$G$2)+2))+Display5!$J$3","v":"C.US.EPH1825600"}]
[{"$f":"IFERROR(IF(OR(ISTEXT(RTD(\"cqg.rtd\",,\"OrderData\",\"\"&B319&\"\",\"\",\"OpenPosition\",\"\"&Display5!$D$3&\"\")),RTD(\"cqg.rtd\",,\"OrderData\",\"\"&B319&\"\",\"\",\"OpenPosition\",\"\"&Display5!$D$3&\"\")=0),A318+0.001,INT(A318)+1),A318)","v":0.31900000000000023},{"$f":"(LEFT(B320,SEARCH(Display5!$G$2,B320)+LEN(Display5!$G$2)+2))&RIGHT(B320,LEN(B320)-(SEARCH(Display5!$G$2,B320)+LEN(Display5!$G$2)+2))+Display5!$J$3","v":"C.US.EPH1825550"}]
[{"$f":"IFERROR(IF(OR(ISTEXT(RTD(\"cqg.rtd\",,\"OrderData\",\"\"&B320&\"\",\"\",\"OpenPosition\",\"\"&Display5!$D$3&\"\")),RTD(\"cqg.rtd\",,\"OrderData\",\"\"&B320&\"\",\"\",\"OpenPosition\",\"\"&Display5!$D$3&\"\")=0),A319+0.001,INT(A319)+1),A319)","v":0.32000000000000023},{"$f":"(LEFT(B321,SEARCH(Display5!$G$2,B321)+LEN(Display5!$G$2)+2))&RIGHT(B321,LEN(B321)-(SEARCH(Display5!$G$2,B321)+LEN(Display5!$G$2)+2))+Display5!$J$3","v":"C.US.EPH1825500"}]
[{"$f":"IFERROR(IF(OR(ISTEXT(RTD(\"cqg.rtd\",,\"OrderData\",\"\"&B321&\"\",\"\",\"OpenPosition\",\"\"&Display5!$D$3&\"\")),RTD(\"cqg.rtd\",,\"OrderData\",\"\"&B321&\"\",\"\",\"OpenPosition\",\"\"&Display5!$D$3&\"\")=0),A320+0.001,INT(A320)+1),A320)","v":0.32100000000000023},{"$f":"(LEFT(B322,SEARCH(Display5!$G$2,B322)+LEN(Display5!$G$2)+2))&RIGHT(B322,LEN(B322)-(SEARCH(Display5!$G$2,B322)+LEN(Display5!$G$2)+2))+Display5!$J$3","v":"C.US.EPH1825450"}]
[{"$f":"IFERROR(IF(OR(ISTEXT(RTD(\"cqg.rtd\",,\"OrderData\",\"\"&B322&\"\",\"\",\"OpenPosition\",\"\"&Display5!$D$3&\"\")),RTD(\"cqg.rtd\",,\"OrderData\",\"\"&B322&\"\",\"\",\"OpenPosition\",\"\"&Display5!$D$3&\"\")=0),A321+0.001,INT(A321)+1),A321)","v":0.32200000000000023},{"$f":"(LEFT(B323,SEARCH(Display5!$G$2,B323)+LEN(Display5!$G$2)+2))&RIGHT(B323,LEN(B323)-(SEARCH(Display5!$G$2,B323)+LEN(Display5!$G$2)+2))+Display5!$J$3","v":"C.US.EPH1825400"}]
[{"$f":"IFERROR(IF(OR(ISTEXT(RTD(\"cqg.rtd\",,\"OrderData\",\"\"&B323&\"\",\"\",\"OpenPosition\",\"\"&Display5!$D$3&\"\")),RTD(\"cqg.rtd\",,\"OrderData\",\"\"&B323&\"\",\"\",\"OpenPosition\",\"\"&Display5!$D$3&\"\")=0),A322+0.001,INT(A322)+1),A322)","v":0.32300000000000023},{"$f":"(LEFT(B324,SEARCH(Display5!$G$2,B324)+LEN(Display5!$G$2)+2))&RIGHT(B324,LEN(B324)-(SEARCH(Display5!$G$2,B324)+LEN(Display5!$G$2)+2))+Display5!$J$3","v":"C.US.EPH1825350"}]
[{"$f":"IFERROR(IF(OR(ISTEXT(RTD(\"cqg.rtd\",,\"OrderData\",\"\"&B324&\"\",\"\",\"OpenPosition\",\"\"&Display5!$D$3&\"\")),RTD(\"cqg.rtd\",,\"OrderData\",\"\"&B324&\"\",\"\",\"OpenPosition\",\"\"&Display5!$D$3&\"\")=0),A323+0.001,INT(A323)+1),A323)","v":0.32400000000000023},{"$f":"(LEFT(B325,SEARCH(Display5!$G$2,B325)+LEN(Display5!$G$2)+2))&RIGHT(B325,LEN(B325)-(SEARCH(Display5!$G$2,B325)+LEN(Display5!$G$2)+2))+Display5!$J$3","v":"C.US.EPH1825300"}]
[{"$f":"IFERROR(IF(OR(ISTEXT(RTD(\"cqg.rtd\",,\"OrderData\",\"\"&B325&\"\",\"\",\"OpenPosition\",\"\"&Display5!$D$3&\"\")),RTD(\"cqg.rtd\",,\"OrderData\",\"\"&B325&\"\",\"\",\"OpenPosition\",\"\"&Display5!$D$3&\"\")=0),A324+0.001,INT(A324)+1),A324)","v":0.32500000000000023},{"$f":"(LEFT(B326,SEARCH(Display5!$G$2,B326)+LEN(Display5!$G$2)+2))&RIGHT(B326,LEN(B326)-(SEARCH(Display5!$G$2,B326)+LEN(Display5!$G$2)+2))+Display5!$J$3","v":"C.US.EPH1825250"}]
[{"$f":"IFERROR(IF(OR(ISTEXT(RTD(\"cqg.rtd\",,\"OrderData\",\"\"&B326&\"\",\"\",\"OpenPosition\",\"\"&Display5!$D$3&\"\")),RTD(\"cqg.rtd\",,\"OrderData\",\"\"&B326&\"\",\"\",\"OpenPosition\",\"\"&Display5!$D$3&\"\")=0),A325+0.001,INT(A325)+1),A325)","v":0.32600000000000023},{"$f":"(LEFT(B327,SEARCH(Display5!$G$2,B327)+LEN(Display5!$G$2)+2))&RIGHT(B327,LEN(B327)-(SEARCH(Display5!$G$2,B327)+LEN(Display5!$G$2)+2))+Display5!$J$3","v":"C.US.EPH1825200"}]
[{"$f":"IFERROR(IF(OR(ISTEXT(RTD(\"cqg.rtd\",,\"OrderData\",\"\"&B327&\"\",\"\",\"OpenPosition\",\"\"&Display5!$D$3&\"\")),RTD(\"cqg.rtd\",,\"OrderData\",\"\"&B327&\"\",\"\",\"OpenPosition\",\"\"&Display5!$D$3&\"\")=0),A326+0.001,INT(A326)+1),A326)","v":0.32700000000000023},{"$f":"(LEFT(B328,SEARCH(Display5!$G$2,B328)+LEN(Display5!$G$2)+2))&RIGHT(B328,LEN(B328)-(SEARCH(Display5!$G$2,B328)+LEN(Display5!$G$2)+2))+Display5!$J$3","v":"C.US.EPH1825150"}]
[{"$f":"IFERROR(IF(OR(ISTEXT(RTD(\"cqg.rtd\",,\"OrderData\",\"\"&B328&\"\",\"\",\"OpenPosition\",\"\"&Display5!$D$3&\"\")),RTD(\"cqg.rtd\",,\"OrderData\",\"\"&B328&\"\",\"\",\"OpenPosition\",\"\"&Display5!$D$3&\"\")=0),A327+0.001,INT(A327)+1),A327)","v":0.32800000000000024},{"$f":"(LEFT(B329,SEARCH(Display5!$G$2,B329)+LEN(Display5!$G$2)+2))&RIGHT(B329,LEN(B329)-(SEARCH(Display5!$G$2,B329)+LEN(Display5!$G$2)+2))+Display5!$J$3","v":"C.US.EPH1825100"}]
[{"$f":"IFERROR(IF(OR(ISTEXT(RTD(\"cqg.rtd\",,\"OrderData\",\"\"&B329&\"\",\"\",\"OpenPosition\",\"\"&Display5!$D$3&\"\")),RTD(\"cqg.rtd\",,\"OrderData\",\"\"&B329&\"\",\"\",\"OpenPosition\",\"\"&Display5!$D$3&\"\")=0),A328+0.001,INT(A328)+1),A328)","v":0.32900000000000024},{"$f":"(LEFT(B330,SEARCH(Display5!$G$2,B330)+LEN(Display5!$G$2)+2))&RIGHT(B330,LEN(B330)-(SEARCH(Display5!$G$2,B330)+LEN(Display5!$G$2)+2))+Display5!$J$3","v":"C.US.EPH1825050"}]
[{"$f":"IFERROR(IF(OR(ISTEXT(RTD(\"cqg.rtd\",,\"OrderData\",\"\"&B330&\"\",\"\",\"OpenPosition\",\"\"&Display5!$D$3&\"\")),RTD(\"cqg.rtd\",,\"OrderData\",\"\"&B330&\"\",\"\",\"OpenPosition\",\"\"&Display5!$D$3&\"\")=0),A329+0.001,INT(A329)+1),A329)","v":0.33000000000000024},{"$f":"(LEFT(B331,SEARCH(Display5!$G$2,B331)+LEN(Display5!$G$2)+2))&RIGHT(B331,LEN(B331)-(SEARCH(Display5!$G$2,B331)+LEN(Display5!$G$2)+2))+Display5!$J$3","v":"C.US.EPH1825000"}]
[{"$f":"IFERROR(IF(OR(ISTEXT(RTD(\"cqg.rtd\",,\"OrderData\",\"\"&B331&\"\",\"\",\"OpenPosition\",\"\"&Display5!$D$3&\"\")),RTD(\"cqg.rtd\",,\"OrderData\",\"\"&B331&\"\",\"\",\"OpenPosition\",\"\"&Display5!$D$3&\"\")=0),A330+0.001,INT(A330)+1),A330)","v":0.33100000000000024},{"$f":"(LEFT(B332,SEARCH(Display5!$G$2,B332)+LEN(Display5!$G$2)+2))&RIGHT(B332,LEN(B332)-(SEARCH(Display5!$G$2,B332)+LEN(Display5!$G$2)+2))+Display5!$J$3","v":"C.US.EPH1824950"}]
[{"$f":"IFERROR(IF(OR(ISTEXT(RTD(\"cqg.rtd\",,\"OrderData\",\"\"&B332&\"\",\"\",\"OpenPosition\",\"\"&Display5!$D$3&\"\")),RTD(\"cqg.rtd\",,\"OrderData\",\"\"&B332&\"\",\"\",\"OpenPosition\",\"\"&Display5!$D$3&\"\")=0),A331+0.001,INT(A331)+1),A331)","v":0.33200000000000024},{"$f":"(LEFT(B333,SEARCH(Display5!$G$2,B333)+LEN(Display5!$G$2)+2))&RIGHT(B333,LEN(B333)-(SEARCH(Display5!$G$2,B333)+LEN(Display5!$G$2)+2))+Display5!$J$3","v":"C.US.EPH1824900"}]
[{"$f":"IFERROR(IF(OR(ISTEXT(RTD(\"cqg.rtd\",,\"OrderData\",\"\"&B333&\"\",\"\",\"OpenPosition\",\"\"&Display5!$D$3&\"\")),RTD(\"cqg.rtd\",,\"OrderData\",\"\"&B333&\"\",\"\",\"OpenPosition\",\"\"&Display5!$D$3&\"\")=0),A332+0.001,INT(A332)+1),A332)","v":0.33300000000000024},{"$f":"(LEFT(B334,SEARCH(Display5!$G$2,B334)+LEN(Display5!$G$2)+2))&RIGHT(B334,LEN(B334)-(SEARCH(Display5!$G$2,B334)+LEN(Display5!$G$2)+2))+Display5!$J$3","v":"C.US.EPH1824850"}]
[{"$f":"IFERROR(IF(OR(ISTEXT(RTD(\"cqg.rtd\",,\"OrderData\",\"\"&B334&\"\",\"\",\"OpenPosition\",\"\"&Display5!$D$3&\"\")),RTD(\"cqg.rtd\",,\"OrderData\",\"\"&B334&\"\",\"\",\"OpenPosition\",\"\"&Display5!$D$3&\"\")=0),A333+0.001,INT(A333)+1),A333)","v":0.33400000000000024},{"$f":"(LEFT(B335,SEARCH(Display5!$G$2,B335)+LEN(Display5!$G$2)+2))&RIGHT(B335,LEN(B335)-(SEARCH(Display5!$G$2,B335)+LEN(Display5!$G$2)+2))+Display5!$J$3","v":"C.US.EPH1824800"}]
[{"$f":"IFERROR(IF(OR(ISTEXT(RTD(\"cqg.rtd\",,\"OrderData\",\"\"&B335&\"\",\"\",\"OpenPosition\",\"\"&Display5!$D$3&\"\")),RTD(\"cqg.rtd\",,\"OrderData\",\"\"&B335&\"\",\"\",\"OpenPosition\",\"\"&Display5!$D$3&\"\")=0),A334+0.001,INT(A334)+1),A334)","v":0.33500000000000024},{"$f":"(LEFT(B336,SEARCH(Display5!$G$2,B336)+LEN(Display5!$G$2)+2))&RIGHT(B336,LEN(B336)-(SEARCH(Display5!$G$2,B336)+LEN(Display5!$G$2)+2))+Display5!$J$3","v":"C.US.EPH1824750"}]
[{"$f":"IFERROR(IF(OR(ISTEXT(RTD(\"cqg.rtd\",,\"OrderData\",\"\"&B336&\"\",\"\",\"OpenPosition\",\"\"&Display5!$D$3&\"\")),RTD(\"cqg.rtd\",,\"OrderData\",\"\"&B336&\"\",\"\",\"OpenPosition\",\"\"&Display5!$D$3&\"\")=0),A335+0.001,INT(A335)+1),A335)","v":0.33600000000000024},{"$f":"(LEFT(B337,SEARCH(Display5!$G$2,B337)+LEN(Display5!$G$2)+2))&RIGHT(B337,LEN(B337)-(SEARCH(Display5!$G$2,B337)+LEN(Display5!$G$2)+2))+Display5!$J$3","v":"C.US.EPH1824700"}]
[{"$f":"IFERROR(IF(OR(ISTEXT(RTD(\"cqg.rtd\",,\"OrderData\",\"\"&B337&\"\",\"\",\"OpenPosition\",\"\"&Display5!$D$3&\"\")),RTD(\"cqg.rtd\",,\"OrderData\",\"\"&B337&\"\",\"\",\"OpenPosition\",\"\"&Display5!$D$3&\"\")=0),A336+0.001,INT(A336)+1),A336)","v":0.33700000000000024},{"$f":"(LEFT(B338,SEARCH(Display5!$G$2,B338)+LEN(Display5!$G$2)+2))&RIGHT(B338,LEN(B338)-(SEARCH(Display5!$G$2,B338)+LEN(Display5!$G$2)+2))+Display5!$J$3","v":"C.US.EPH1824650"}]
[{"$f":"IFERROR(IF(OR(ISTEXT(RTD(\"cqg.rtd\",,\"OrderData\",\"\"&B338&\"\",\"\",\"OpenPosition\",\"\"&Display5!$D$3&\"\")),RTD(\"cqg.rtd\",,\"OrderData\",\"\"&B338&\"\",\"\",\"OpenPosition\",\"\"&Display5!$D$3&\"\")=0),A337+0.001,INT(A337)+1),A337)","v":0.33800000000000024},{"$f":"(LEFT(B339,SEARCH(Display5!$G$2,B339)+LEN(Display5!$G$2)+2))&RIGHT(B339,LEN(B339)-(SEARCH(Display5!$G$2,B339)+LEN(Display5!$G$2)+2))+Display5!$J$3","v":"C.US.EPH1824600"}]
[{"$f":"IFERROR(IF(OR(ISTEXT(RTD(\"cqg.rtd\",,\"OrderData\",\"\"&B339&\"\",\"\",\"OpenPosition\",\"\"&Display5!$D$3&\"\")),RTD(\"cqg.rtd\",,\"OrderData\",\"\"&B339&\"\",\"\",\"OpenPosition\",\"\"&Display5!$D$3&\"\")=0),A338+0.001,INT(A338)+1),A338)","v":0.33900000000000025},{"$f":"(LEFT(B340,SEARCH(Display5!$G$2,B340)+LEN(Display5!$G$2)+2))&RIGHT(B340,LEN(B340)-(SEARCH(Display5!$G$2,B340)+LEN(Display5!$G$2)+2))+Display5!$J$3","v":"C.US.EPH1824550"}]
[{"$f":"IFERROR(IF(OR(ISTEXT(RTD(\"cqg.rtd\",,\"OrderData\",\"\"&B340&\"\",\"\",\"OpenPosition\",\"\"&Display5!$D$3&\"\")),RTD(\"cqg.rtd\",,\"OrderData\",\"\"&B340&\"\",\"\",\"OpenPosition\",\"\"&Display5!$D$3&\"\")=0),A339+0.001,INT(A339)+1),A339)","v":0.34000000000000025},{"$f":"(LEFT(B341,SEARCH(Display5!$G$2,B341)+LEN(Display5!$G$2)+2))&RIGHT(B341,LEN(B341)-(SEARCH(Display5!$G$2,B341)+LEN(Display5!$G$2)+2))+Display5!$J$3","v":"C.US.EPH1824500"}]
[{"$f":"IFERROR(IF(OR(ISTEXT(RTD(\"cqg.rtd\",,\"OrderData\",\"\"&B341&\"\",\"\",\"OpenPosition\",\"\"&Display5!$D$3&\"\")),RTD(\"cqg.rtd\",,\"OrderData\",\"\"&B341&\"\",\"\",\"OpenPosition\",\"\"&Display5!$D$3&\"\")=0),A340+0.001,INT(A340)+1),A340)","v":0.34100000000000025},{"$f":"(LEFT(B342,SEARCH(Display5!$G$2,B342)+LEN(Display5!$G$2)+2))&RIGHT(B342,LEN(B342)-(SEARCH(Display5!$G$2,B342)+LEN(Display5!$G$2)+2))+Display5!$J$3","v":"C.US.EPH1824450"}]
[{"$f":"IFERROR(IF(OR(ISTEXT(RTD(\"cqg.rtd\",,\"OrderData\",\"\"&B342&\"\",\"\",\"OpenPosition\",\"\"&Display5!$D$3&\"\")),RTD(\"cqg.rtd\",,\"OrderData\",\"\"&B342&\"\",\"\",\"OpenPosition\",\"\"&Display5!$D$3&\"\")=0),A341+0.001,INT(A341)+1),A341)","v":0.34200000000000025},{"$f":"(LEFT(B343,SEARCH(Display5!$G$2,B343)+LEN(Display5!$G$2)+2))&RIGHT(B343,LEN(B343)-(SEARCH(Display5!$G$2,B343)+LEN(Display5!$G$2)+2))+Display5!$J$3","v":"C.US.EPH1824400"}]
[{"$f":"IFERROR(IF(OR(ISTEXT(RTD(\"cqg.rtd\",,\"OrderData\",\"\"&B343&\"\",\"\",\"OpenPosition\",\"\"&Display5!$D$3&\"\")),RTD(\"cqg.rtd\",,\"OrderData\",\"\"&B343&\"\",\"\",\"OpenPosition\",\"\"&Display5!$D$3&\"\")=0),A342+0.001,INT(A342)+1),A342)","v":0.34300000000000025},{"$f":"(LEFT(B344,SEARCH(Display5!$G$2,B344)+LEN(Display5!$G$2)+2))&RIGHT(B344,LEN(B344)-(SEARCH(Display5!$G$2,B344)+LEN(Display5!$G$2)+2))+Display5!$J$3","v":"C.US.EPH1824350"}]
[{"$f":"IFERROR(IF(OR(ISTEXT(RTD(\"cqg.rtd\",,\"OrderData\",\"\"&B344&\"\",\"\",\"OpenPosition\",\"\"&Display5!$D$3&\"\")),RTD(\"cqg.rtd\",,\"OrderData\",\"\"&B344&\"\",\"\",\"OpenPosition\",\"\"&Display5!$D$3&\"\")=0),A343+0.001,INT(A343)+1),A343)","v":0.34400000000000025},{"$f":"RTD(\"cqg.rtd\", ,\"ContractData\", \"C.US.\"&Display5!$G$2&Display5!$I$3&\"\", \"Symbol\",, \"T\")","v":"C.US.EPH1824300"}]
[{"$f":"IFERROR(IF(OR(ISTEXT(RTD(\"cqg.rtd\",,\"OrderData\",\"\"&B345&\"\",\"\",\"OpenPosition\",\"\"&Display5!$D$3&\"\")),RTD(\"cqg.rtd\",,\"OrderData\",\"\"&B345&\"\",\"\",\"OpenPosition\",\"\"&Display5!$D$3&\"\")=0),A344+0.001,INT(A344)+1),A344)","v":0.34500000000000025},{"$f":"(LEFT(B344,SEARCH(Display5!$G$2,B344)+LEN(Display5!$G$2)+2))&RIGHT(B344,LEN(B344)-(SEARCH(Display5!$G$2,B344)+LEN(Display5!$G$2)+2))-Display5!$J$3","v":"C.US.EPH1824250"}]
[{"$f":"IFERROR(IF(OR(ISTEXT(RTD(\"cqg.rtd\",,\"OrderData\",\"\"&B346&\"\",\"\",\"OpenPosition\",\"\"&Display5!$D$3&\"\")),RTD(\"cqg.rtd\",,\"OrderData\",\"\"&B346&\"\",\"\",\"OpenPosition\",\"\"&Display5!$D$3&\"\")=0),A345+0.001,INT(A345)+1),A345)","v":0.34600000000000025},{"$f":"(LEFT(B345,SEARCH(Display5!$G$2,B345)+LEN(Display5!$G$2)+2))&RIGHT(B345,LEN(B345)-(SEARCH(Display5!$G$2,B345)+LEN(Display5!$G$2)+2))-Display5!$J$3","v":"C.US.EPH1824200"}]
[{"$f":"IFERROR(IF(OR(ISTEXT(RTD(\"cqg.rtd\",,\"OrderData\",\"\"&B347&\"\",\"\",\"OpenPosition\",\"\"&Display5!$D$3&\"\")),RTD(\"cqg.rtd\",,\"OrderData\",\"\"&B347&\"\",\"\",\"OpenPosition\",\"\"&Display5!$D$3&\"\")=0),A346+0.001,INT(A346)+1),A346)","v":0.34700000000000025},{"$f":"(LEFT(B346,SEARCH(Display5!$G$2,B346)+LEN(Display5!$G$2)+2))&RIGHT(B346,LEN(B346)-(SEARCH(Display5!$G$2,B346)+LEN(Display5!$G$2)+2))-Display5!$J$3","v":"C.US.EPH1824150"}]
[{"$f":"IFERROR(IF(OR(ISTEXT(RTD(\"cqg.rtd\",,\"OrderData\",\"\"&B348&\"\",\"\",\"OpenPosition\",\"\"&Display5!$D$3&\"\")),RTD(\"cqg.rtd\",,\"OrderData\",\"\"&B348&\"\",\"\",\"OpenPosition\",\"\"&Display5!$D$3&\"\")=0),A347+0.001,INT(A347)+1),A347)","v":0.34800000000000025},{"$f":"(LEFT(B347,SEARCH(Display5!$G$2,B347)+LEN(Display5!$G$2)+2))&RIGHT(B347,LEN(B347)-(SEARCH(Display5!$G$2,B347)+LEN(Display5!$G$2)+2))-Display5!$J$3","v":"C.US.EPH1824100"}]
[{"$f":"IFERROR(IF(OR(ISTEXT(RTD(\"cqg.rtd\",,\"OrderData\",\"\"&B349&\"\",\"\",\"OpenPosition\",\"\"&Display5!$D$3&\"\")),RTD(\"cqg.rtd\",,\"OrderData\",\"\"&B349&\"\",\"\",\"OpenPosition\",\"\"&Display5!$D$3&\"\")=0),A348+0.001,INT(A348)+1),A348)","v":0.34900000000000025},{"$f":"(LEFT(B348,SEARCH(Display5!$G$2,B348)+LEN(Display5!$G$2)+2))&RIGHT(B348,LEN(B348)-(SEARCH(Display5!$G$2,B348)+LEN(Display5!$G$2)+2))-Display5!$J$3","v":"C.US.EPH1824050"}]
[{"$f":"IFERROR(IF(OR(ISTEXT(RTD(\"cqg.rtd\",,\"OrderData\",\"\"&B350&\"\",\"\",\"OpenPosition\",\"\"&Display5!$D$3&\"\")),RTD(\"cqg.rtd\",,\"OrderData\",\"\"&B350&\"\",\"\",\"OpenPosition\",\"\"&Display5!$D$3&\"\")=0),A349+0.001,INT(A349)+1),A349)","v":0.35000000000000026},{"$f":"(LEFT(B349,SEARCH(Display5!$G$2,B349)+LEN(Display5!$G$2)+2))&RIGHT(B349,LEN(B349)-(SEARCH(Display5!$G$2,B349)+LEN(Display5!$G$2)+2))-Display5!$J$3","v":"C.US.EPH1824000"}]
[{"$f":"IFERROR(IF(OR(ISTEXT(RTD(\"cqg.rtd\",,\"OrderData\",\"\"&B351&\"\",\"\",\"OpenPosition\",\"\"&Display5!$D$3&\"\")),RTD(\"cqg.rtd\",,\"OrderData\",\"\"&B351&\"\",\"\",\"OpenPosition\",\"\"&Display5!$D$3&\"\")=0),A350+0.001,INT(A350)+1),A350)","v":0.35100000000000026},{"$f":"(LEFT(B350,SEARCH(Display5!$G$2,B350)+LEN(Display5!$G$2)+2))&RIGHT(B350,LEN(B350)-(SEARCH(Display5!$G$2,B350)+LEN(Display5!$G$2)+2))-Display5!$J$3","v":"C.US.EPH1823950"}]
[{"$f":"IFERROR(IF(OR(ISTEXT(RTD(\"cqg.rtd\",,\"OrderData\",\"\"&B352&\"\",\"\",\"OpenPosition\",\"\"&Display5!$D$3&\"\")),RTD(\"cqg.rtd\",,\"OrderData\",\"\"&B352&\"\",\"\",\"OpenPosition\",\"\"&Display5!$D$3&\"\")=0),A351+0.001,INT(A351)+1),A351)","v":0.35200000000000026},{"$f":"(LEFT(B351,SEARCH(Display5!$G$2,B351)+LEN(Display5!$G$2)+2))&RIGHT(B351,LEN(B351)-(SEARCH(Display5!$G$2,B351)+LEN(Display5!$G$2)+2))-Display5!$J$3","v":"C.US.EPH1823900"}]
[{"$f":"IFERROR(IF(OR(ISTEXT(RTD(\"cqg.rtd\",,\"OrderData\",\"\"&B353&\"\",\"\",\"OpenPosition\",\"\"&Display5!$D$3&\"\")),RTD(\"cqg.rtd\",,\"OrderData\",\"\"&B353&\"\",\"\",\"OpenPosition\",\"\"&Display5!$D$3&\"\")=0),A352+0.001,INT(A352)+1),A352)","v":0.35300000000000026},{"$f":"(LEFT(B352,SEARCH(Display5!$G$2,B352)+LEN(Display5!$G$2)+2))&RIGHT(B352,LEN(B352)-(SEARCH(Display5!$G$2,B352)+LEN(Display5!$G$2)+2))-Display5!$J$3","v":"C.US.EPH1823850"}]
[{"$f":"IFERROR(IF(OR(ISTEXT(RTD(\"cqg.rtd\",,\"OrderData\",\"\"&B354&\"\",\"\",\"OpenPosition\",\"\"&Display5!$D$3&\"\")),RTD(\"cqg.rtd\",,\"OrderData\",\"\"&B354&\"\",\"\",\"OpenPosition\",\"\"&Display5!$D$3&\"\")=0),A353+0.001,INT(A353)+1),A353)","v":0.35400000000000026},{"$f":"(LEFT(B353,SEARCH(Display5!$G$2,B353)+LEN(Display5!$G$2)+2))&RIGHT(B353,LEN(B353)-(SEARCH(Display5!$G$2,B353)+LEN(Display5!$G$2)+2))-Display5!$J$3","v":"C.US.EPH1823800"}]
[{"$f":"IFERROR(IF(OR(ISTEXT(RTD(\"cqg.rtd\",,\"OrderData\",\"\"&B355&\"\",\"\",\"OpenPosition\",\"\"&Display5!$D$3&\"\")),RTD(\"cqg.rtd\",,\"OrderData\",\"\"&B355&\"\",\"\",\"OpenPosition\",\"\"&Display5!$D$3&\"\")=0),A354+0.001,INT(A354)+1),A354)","v":0.35500000000000026},{"$f":"(LEFT(B354,SEARCH(Display5!$G$2,B354)+LEN(Display5!$G$2)+2))&RIGHT(B354,LEN(B354)-(SEARCH(Display5!$G$2,B354)+LEN(Display5!$G$2)+2))-Display5!$J$3","v":"C.US.EPH1823750"}]
[{"$f":"IFERROR(IF(OR(ISTEXT(RTD(\"cqg.rtd\",,\"OrderData\",\"\"&B356&\"\",\"\",\"OpenPosition\",\"\"&Display5!$D$3&\"\")),RTD(\"cqg.rtd\",,\"OrderData\",\"\"&B356&\"\",\"\",\"OpenPosition\",\"\"&Display5!$D$3&\"\")=0),A355+0.001,INT(A355)+1),A355)","v":0.35600000000000026},{"$f":"(LEFT(B355,SEARCH(Display5!$G$2,B355)+LEN(Display5!$G$2)+2))&RIGHT(B355,LEN(B355)-(SEARCH(Display5!$G$2,B355)+LEN(Display5!$G$2)+2))-Display5!$J$3","v":"C.US.EPH1823700"}]
[{"$f":"IFERROR(IF(OR(ISTEXT(RTD(\"cqg.rtd\",,\"OrderData\",\"\"&B357&\"\",\"\",\"OpenPosition\",\"\"&Display5!$D$3&\"\")),RTD(\"cqg.rtd\",,\"OrderData\",\"\"&B357&\"\",\"\",\"OpenPosition\",\"\"&Display5!$D$3&\"\")=0),A356+0.001,INT(A356)+1),A356)","v":0.35700000000000026},{"$f":"(LEFT(B356,SEARCH(Display5!$G$2,B356)+LEN(Display5!$G$2)+2))&RIGHT(B356,LEN(B356)-(SEARCH(Display5!$G$2,B356)+LEN(Display5!$G$2)+2))-Display5!$J$3","v":"C.US.EPH1823650"}]
[{"$f":"IFERROR(IF(OR(ISTEXT(RTD(\"cqg.rtd\",,\"OrderData\",\"\"&B358&\"\",\"\",\"OpenPosition\",\"\"&Display5!$D$3&\"\")),RTD(\"cqg.rtd\",,\"OrderData\",\"\"&B358&\"\",\"\",\"OpenPosition\",\"\"&Display5!$D$3&\"\")=0),A357+0.001,INT(A357)+1),A357)","v":0.35800000000000026},{"$f":"(LEFT(B357,SEARCH(Display5!$G$2,B357)+LEN(Display5!$G$2)+2))&RIGHT(B357,LEN(B357)-(SEARCH(Display5!$G$2,B357)+LEN(Display5!$G$2)+2))-Display5!$J$3","v":"C.US.EPH1823600"}]
[{"$f":"IFERROR(IF(OR(ISTEXT(RTD(\"cqg.rtd\",,\"OrderData\",\"\"&B359&\"\",\"\",\"OpenPosition\",\"\"&Display5!$D$3&\"\")),RTD(\"cqg.rtd\",,\"OrderData\",\"\"&B359&\"\",\"\",\"OpenPosition\",\"\"&Display5!$D$3&\"\")=0),A358+0.001,INT(A358)+1),A358)","v":0.35900000000000026},{"$f":"(LEFT(B358,SEARCH(Display5!$G$2,B358)+LEN(Display5!$G$2)+2))&RIGHT(B358,LEN(B358)-(SEARCH(Display5!$G$2,B358)+LEN(Display5!$G$2)+2))-Display5!$J$3","v":"C.US.EPH1823550"}]
[{"$f":"IFERROR(IF(OR(ISTEXT(RTD(\"cqg.rtd\",,\"OrderData\",\"\"&B360&\"\",\"\",\"OpenPosition\",\"\"&Display5!$D$3&\"\")),RTD(\"cqg.rtd\",,\"OrderData\",\"\"&B360&\"\",\"\",\"OpenPosition\",\"\"&Display5!$D$3&\"\")=0),A359+0.001,INT(A359)+1),A359)","v":0.36000000000000026},{"$f":"(LEFT(B359,SEARCH(Display5!$G$2,B359)+LEN(Display5!$G$2)+2))&RIGHT(B359,LEN(B359)-(SEARCH(Display5!$G$2,B359)+LEN(Display5!$G$2)+2))-Display5!$J$3","v":"C.US.EPH1823500"}]
[{"$f":"IFERROR(IF(OR(ISTEXT(RTD(\"cqg.rtd\",,\"OrderData\",\"\"&B361&\"\",\"\",\"OpenPosition\",\"\"&Display5!$D$3&\"\")),RTD(\"cqg.rtd\",,\"OrderData\",\"\"&B361&\"\",\"\",\"OpenPosition\",\"\"&Display5!$D$3&\"\")=0),A360+0.001,INT(A360)+1),A360)","v":0.36100000000000027},{"$f":"(LEFT(B360,SEARCH(Display5!$G$2,B360)+LEN(Display5!$G$2)+2))&RIGHT(B360,LEN(B360)-(SEARCH(Display5!$G$2,B360)+LEN(Display5!$G$2)+2))-Display5!$J$3","v":"C.US.EPH1823450"}]
[{"$f":"IFERROR(IF(OR(ISTEXT(RTD(\"cqg.rtd\",,\"OrderData\",\"\"&B362&\"\",\"\",\"OpenPosition\",\"\"&Display5!$D$3&\"\")),RTD(\"cqg.rtd\",,\"OrderData\",\"\"&B362&\"\",\"\",\"OpenPosition\",\"\"&Display5!$D$3&\"\")=0),A361+0.001,INT(A361)+1),A361)","v":0.36200000000000027},{"$f":"(LEFT(B361,SEARCH(Display5!$G$2,B361)+LEN(Display5!$G$2)+2))&RIGHT(B361,LEN(B361)-(SEARCH(Display5!$G$2,B361)+LEN(Display5!$G$2)+2))-Display5!$J$3","v":"C.US.EPH1823400"}]
[{"$f":"IFERROR(IF(OR(ISTEXT(RTD(\"cqg.rtd\",,\"OrderData\",\"\"&B363&\"\",\"\",\"OpenPosition\",\"\"&Display5!$D$3&\"\")),RTD(\"cqg.rtd\",,\"OrderData\",\"\"&B363&\"\",\"\",\"OpenPosition\",\"\"&Display5!$D$3&\"\")=0),A362+0.001,INT(A362)+1),A362)","v":0.36300000000000027},{"$f":"(LEFT(B362,SEARCH(Display5!$G$2,B362)+LEN(Display5!$G$2)+2))&RIGHT(B362,LEN(B362)-(SEARCH(Display5!$G$2,B362)+LEN(Display5!$G$2)+2))-Display5!$J$3","v":"C.US.EPH1823350"}]
[{"$f":"IFERROR(IF(OR(ISTEXT(RTD(\"cqg.rtd\",,\"OrderData\",\"\"&B364&\"\",\"\",\"OpenPosition\",\"\"&Display5!$D$3&\"\")),RTD(\"cqg.rtd\",,\"OrderData\",\"\"&B364&\"\",\"\",\"OpenPosition\",\"\"&Display5!$D$3&\"\")=0),A363+0.001,INT(A363)+1),A363)","v":0.36400000000000027},{"$f":"(LEFT(B363,SEARCH(Display5!$G$2,B363)+LEN(Display5!$G$2)+2))&RIGHT(B363,LEN(B363)-(SEARCH(Display5!$G$2,B363)+LEN(Display5!$G$2)+2))-Display5!$J$3","v":"C.US.EPH1823300"}]
[{"$f":"IFERROR(IF(OR(ISTEXT(RTD(\"cqg.rtd\",,\"OrderData\",\"\"&B365&\"\",\"\",\"OpenPosition\",\"\"&Display5!$D$3&\"\")),RTD(\"cqg.rtd\",,\"OrderData\",\"\"&B365&\"\",\"\",\"OpenPosition\",\"\"&Display5!$D$3&\"\")=0),A364+0.001,INT(A364)+1),A364)","v":0.36500000000000027},{"$f":"(LEFT(B366,SEARCH(Display5!$G$2,B366)+LEN(Display5!$G$2)+2))&RIGHT(B366,LEN(B366)-(SEARCH(Display5!$G$2,B366)+LEN(Display5!$G$2)+2))+Display5!$J$3","v":"P.US.EPH1826300"}]
[{"$f":"IFERROR(IF(OR(ISTEXT(RTD(\"cqg.rtd\",,\"OrderData\",\"\"&B366&\"\",\"\",\"OpenPosition\",\"\"&Display5!$D$3&\"\")),RTD(\"cqg.rtd\",,\"OrderData\",\"\"&B366&\"\",\"\",\"OpenPosition\",\"\"&Display5!$D$3&\"\")=0),A365+0.001,INT(A365)+1),A365)","v":0.36600000000000027},{"$f":"(LEFT(B367,SEARCH(Display5!$G$2,B367)+LEN(Display5!$G$2)+2))&RIGHT(B367,LEN(B367)-(SEARCH(Display5!$G$2,B367)+LEN(Display5!$G$2)+2))+Display5!$J$3","v":"P.US.EPH1826250"}]
[{"$f":"IFERROR(IF(OR(ISTEXT(RTD(\"cqg.rtd\",,\"OrderData\",\"\"&B367&\"\",\"\",\"OpenPosition\",\"\"&Display5!$D$3&\"\")),RTD(\"cqg.rtd\",,\"OrderData\",\"\"&B367&\"\",\"\",\"OpenPosition\",\"\"&Display5!$D$3&\"\")=0),A366+0.001,INT(A366)+1),A366)","v":0.36700000000000027},{"$f":"(LEFT(B368,SEARCH(Display5!$G$2,B368)+LEN(Display5!$G$2)+2))&RIGHT(B368,LEN(B368)-(SEARCH(Display5!$G$2,B368)+LEN(Display5!$G$2)+2))+Display5!$J$3","v":"P.US.EPH1826200"}]
[{"$f":"IFERROR(IF(OR(ISTEXT(RTD(\"cqg.rtd\",,\"OrderData\",\"\"&B368&\"\",\"\",\"OpenPosition\",\"\"&Display5!$D$3&\"\")),RTD(\"cqg.rtd\",,\"OrderData\",\"\"&B368&\"\",\"\",\"OpenPosition\",\"\"&Display5!$D$3&\"\")=0),A367+0.001,INT(A367)+1),A367)","v":0.36800000000000027},{"$f":"(LEFT(B369,SEARCH(Display5!$G$2,B369)+LEN(Display5!$G$2)+2))&RIGHT(B369,LEN(B369)-(SEARCH(Display5!$G$2,B369)+LEN(Display5!$G$2)+2))+Display5!$J$3","v":"P.US.EPH1826150"}]
[{"$f":"IFERROR(IF(OR(ISTEXT(RTD(\"cqg.rtd\",,\"OrderData\",\"\"&B369&\"\",\"\",\"OpenPosition\",\"\"&Display5!$D$3&\"\")),RTD(\"cqg.rtd\",,\"OrderData\",\"\"&B369&\"\",\"\",\"OpenPosition\",\"\"&Display5!$D$3&\"\")=0),A368+0.001,INT(A368)+1),A368)","v":0.36900000000000027},{"$f":"(LEFT(B370,SEARCH(Display5!$G$2,B370)+LEN(Display5!$G$2)+2))&RIGHT(B370,LEN(B370)-(SEARCH(Display5!$G$2,B370)+LEN(Display5!$G$2)+2))+Display5!$J$3","v":"P.US.EPH1826100"}]
[{"$f":"IFERROR(IF(OR(ISTEXT(RTD(\"cqg.rtd\",,\"OrderData\",\"\"&B370&\"\",\"\",\"OpenPosition\",\"\"&Display5!$D$3&\"\")),RTD(\"cqg.rtd\",,\"OrderData\",\"\"&B370&\"\",\"\",\"OpenPosition\",\"\"&Display5!$D$3&\"\")=0),A369+0.001,INT(A369)+1),A369)","v":0.37000000000000027},{"$f":"(LEFT(B371,SEARCH(Display5!$G$2,B371)+LEN(Display5!$G$2)+2))&RIGHT(B371,LEN(B371)-(SEARCH(Display5!$G$2,B371)+LEN(Display5!$G$2)+2))+Display5!$J$3","v":"P.US.EPH1826050"}]
[{"$f":"IFERROR(IF(OR(ISTEXT(RTD(\"cqg.rtd\",,\"OrderData\",\"\"&B371&\"\",\"\",\"OpenPosition\",\"\"&Display5!$D$3&\"\")),RTD(\"cqg.rtd\",,\"OrderData\",\"\"&B371&\"\",\"\",\"OpenPosition\",\"\"&Display5!$D$3&\"\")=0),A370+0.001,INT(A370)+1),A370)","v":0.37100000000000027},{"$f":"(LEFT(B372,SEARCH(Display5!$G$2,B372)+LEN(Display5!$G$2)+2))&RIGHT(B372,LEN(B372)-(SEARCH(Display5!$G$2,B372)+LEN(Display5!$G$2)+2))+Display5!$J$3","v":"P.US.EPH1826000"}]
[{"$f":"IFERROR(IF(OR(ISTEXT(RTD(\"cqg.rtd\",,\"OrderData\",\"\"&B372&\"\",\"\",\"OpenPosition\",\"\"&Display5!$D$3&\"\")),RTD(\"cqg.rtd\",,\"OrderData\",\"\"&B372&\"\",\"\",\"OpenPosition\",\"\"&Display5!$D$3&\"\")=0),A371+0.001,INT(A371)+1),A371)","v":0.37200000000000027},{"$f":"(LEFT(B373,SEARCH(Display5!$G$2,B373)+LEN(Display5!$G$2)+2))&RIGHT(B373,LEN(B373)-(SEARCH(Display5!$G$2,B373)+LEN(Display5!$G$2)+2))+Display5!$J$3","v":"P.US.EPH1825950"}]
[{"$f":"IFERROR(IF(OR(ISTEXT(RTD(\"cqg.rtd\",,\"OrderData\",\"\"&B373&\"\",\"\",\"OpenPosition\",\"\"&Display5!$D$3&\"\")),RTD(\"cqg.rtd\",,\"OrderData\",\"\"&B373&\"\",\"\",\"OpenPosition\",\"\"&Display5!$D$3&\"\")=0),A372+0.001,INT(A372)+1),A372)","v":0.37300000000000028},{"$f":"(LEFT(B374,SEARCH(Display5!$G$2,B374)+LEN(Display5!$G$2)+2))&RIGHT(B374,LEN(B374)-(SEARCH(Display5!$G$2,B374)+LEN(Display5!$G$2)+2))+Display5!$J$3","v":"P.US.EPH1825900"}]
[{"$f":"IFERROR(IF(OR(ISTEXT(RTD(\"cqg.rtd\",,\"OrderData\",\"\"&B374&\"\",\"\",\"OpenPosition\",\"\"&Display5!$D$3&\"\")),RTD(\"cqg.rtd\",,\"OrderData\",\"\"&B374&\"\",\"\",\"OpenPosition\",\"\"&Display5!$D$3&\"\")=0),A373+0.001,INT(A373)+1),A373)","v":0.37400000000000028},{"$f":"(LEFT(B375,SEARCH(Display5!$G$2,B375)+LEN(Display5!$G$2)+2))&RIGHT(B375,LEN(B375)-(SEARCH(Display5!$G$2,B375)+LEN(Display5!$G$2)+2))+Display5!$J$3","v":"P.US.EPH1825850"}]
[{"$f":"IFERROR(IF(OR(ISTEXT(RTD(\"cqg.rtd\",,\"OrderData\",\"\"&B375&\"\",\"\",\"OpenPosition\",\"\"&Display5!$D$3&\"\")),RTD(\"cqg.rtd\",,\"OrderData\",\"\"&B375&\"\",\"\",\"OpenPosition\",\"\"&Display5!$D$3&\"\")=0),A374+0.001,INT(A374)+1),A374)","v":0.37500000000000028},{"$f":"(LEFT(B376,SEARCH(Display5!$G$2,B376)+LEN(Display5!$G$2)+2))&RIGHT(B376,LEN(B376)-(SEARCH(Display5!$G$2,B376)+LEN(Display5!$G$2)+2))+Display5!$J$3","v":"P.US.EPH1825800"}]
[{"$f":"IFERROR(IF(OR(ISTEXT(RTD(\"cqg.rtd\",,\"OrderData\",\"\"&B376&\"\",\"\",\"OpenPosition\",\"\"&Display5!$D$3&\"\")),RTD(\"cqg.rtd\",,\"OrderData\",\"\"&B376&\"\",\"\",\"OpenPosition\",\"\"&Display5!$D$3&\"\")=0),A375+0.001,INT(A375)+1),A375)","v":0.37600000000000028},{"$f":"(LEFT(B377,SEARCH(Display5!$G$2,B377)+LEN(Display5!$G$2)+2))&RIGHT(B377,LEN(B377)-(SEARCH(Display5!$G$2,B377)+LEN(Display5!$G$2)+2))+Display5!$J$3","v":"P.US.EPH1825750"}]
[{"$f":"IFERROR(IF(OR(ISTEXT(RTD(\"cqg.rtd\",,\"OrderData\",\"\"&B377&\"\",\"\",\"OpenPosition\",\"\"&Display5!$D$3&\"\")),RTD(\"cqg.rtd\",,\"OrderData\",\"\"&B377&\"\",\"\",\"OpenPosition\",\"\"&Display5!$D$3&\"\")=0),A376+0.001,INT(A376)+1),A376)","v":0.37700000000000028},{"$f":"(LEFT(B378,SEARCH(Display5!$G$2,B378)+LEN(Display5!$G$2)+2))&RIGHT(B378,LEN(B378)-(SEARCH(Display5!$G$2,B378)+LEN(Display5!$G$2)+2))+Display5!$J$3","v":"P.US.EPH1825700"}]
[{"$f":"IFERROR(IF(OR(ISTEXT(RTD(\"cqg.rtd\",,\"OrderData\",\"\"&B378&\"\",\"\",\"OpenPosition\",\"\"&Display5!$D$3&\"\")),RTD(\"cqg.rtd\",,\"OrderData\",\"\"&B378&\"\",\"\",\"OpenPosition\",\"\"&Display5!$D$3&\"\")=0),A377+0.001,INT(A377)+1),A377)","v":0.37800000000000028},{"$f":"(LEFT(B379,SEARCH(Display5!$G$2,B379)+LEN(Display5!$G$2)+2))&RIGHT(B379,LEN(B379)-(SEARCH(Display5!$G$2,B379)+LEN(Display5!$G$2)+2))+Display5!$J$3","v":"P.US.EPH1825650"}]
[{"$f":"IFERROR(IF(OR(ISTEXT(RTD(\"cqg.rtd\",,\"OrderData\",\"\"&B379&\"\",\"\",\"OpenPosition\",\"\"&Display5!$D$3&\"\")),RTD(\"cqg.rtd\",,\"OrderData\",\"\"&B379&\"\",\"\",\"OpenPosition\",\"\"&Display5!$D$3&\"\")=0),A378+0.001,INT(A378)+1),A378)","v":0.37900000000000028},{"$f":"(LEFT(B380,SEARCH(Display5!$G$2,B380)+LEN(Display5!$G$2)+2))&RIGHT(B380,LEN(B380)-(SEARCH(Display5!$G$2,B380)+LEN(Display5!$G$2)+2))+Display5!$J$3","v":"P.US.EPH1825600"}]
[{"$f":"IFERROR(IF(OR(ISTEXT(RTD(\"cqg.rtd\",,\"OrderData\",\"\"&B380&\"\",\"\",\"OpenPosition\",\"\"&Display5!$D$3&\"\")),RTD(\"cqg.rtd\",,\"OrderData\",\"\"&B380&\"\",\"\",\"OpenPosition\",\"\"&Display5!$D$3&\"\")=0),A379+0.001,INT(A379)+1),A379)","v":0.38000000000000028},{"$f":"(LEFT(B381,SEARCH(Display5!$G$2,B381)+LEN(Display5!$G$2)+2))&RIGHT(B381,LEN(B381)-(SEARCH(Display5!$G$2,B381)+LEN(Display5!$G$2)+2))+Display5!$J$3","v":"P.US.EPH1825550"}]
[{"$f":"IFERROR(IF(OR(ISTEXT(RTD(\"cqg.rtd\",,\"OrderData\",\"\"&B381&\"\",\"\",\"OpenPosition\",\"\"&Display5!$D$3&\"\")),RTD(\"cqg.rtd\",,\"OrderData\",\"\"&B381&\"\",\"\",\"OpenPosition\",\"\"&Display5!$D$3&\"\")=0),A380+0.001,INT(A380)+1),A380)","v":0.38100000000000028},{"$f":"(LEFT(B382,SEARCH(Display5!$G$2,B382)+LEN(Display5!$G$2)+2))&RIGHT(B382,LEN(B382)-(SEARCH(Display5!$G$2,B382)+LEN(Display5!$G$2)+2))+Display5!$J$3","v":"P.US.EPH1825500"}]
[{"$f":"IFERROR(IF(OR(ISTEXT(RTD(\"cqg.rtd\",,\"OrderData\",\"\"&B382&\"\",\"\",\"OpenPosition\",\"\"&Display5!$D$3&\"\")),RTD(\"cqg.rtd\",,\"OrderData\",\"\"&B382&\"\",\"\",\"OpenPosition\",\"\"&Display5!$D$3&\"\")=0),A381+0.001,INT(A381)+1),A381)","v":0.38200000000000028},{"$f":"(LEFT(B383,SEARCH(Display5!$G$2,B383)+LEN(Display5!$G$2)+2))&RIGHT(B383,LEN(B383)-(SEARCH(Display5!$G$2,B383)+LEN(Display5!$G$2)+2))+Display5!$J$3","v":"P.US.EPH1825450"}]
[{"$f":"IFERROR(IF(OR(ISTEXT(RTD(\"cqg.rtd\",,\"OrderData\",\"\"&B383&\"\",\"\",\"OpenPosition\",\"\"&Display5!$D$3&\"\")),RTD(\"cqg.rtd\",,\"OrderData\",\"\"&B383&\"\",\"\",\"OpenPosition\",\"\"&Display5!$D$3&\"\")=0),A382+0.001,INT(A382)+1),A382)","v":0.38300000000000028},{"$f":"(LEFT(B384,SEARCH(Display5!$G$2,B384)+LEN(Display5!$G$2)+2))&RIGHT(B384,LEN(B384)-(SEARCH(Display5!$G$2,B384)+LEN(Display5!$G$2)+2))+Display5!$J$3","v":"P.US.EPH1825400"}]
[{"$f":"IFERROR(IF(OR(ISTEXT(RTD(\"cqg.rtd\",,\"OrderData\",\"\"&B384&\"\",\"\",\"OpenPosition\",\"\"&Display5!$D$3&\"\")),RTD(\"cqg.rtd\",,\"OrderData\",\"\"&B384&\"\",\"\",\"OpenPosition\",\"\"&Display5!$D$3&\"\")=0),A383+0.001,INT(A383)+1),A383)","v":0.38400000000000029},{"$f":"(LEFT(B385,SEARCH(Display5!$G$2,B385)+LEN(Display5!$G$2)+2))&RIGHT(B385,LEN(B385)-(SEARCH(Display5!$G$2,B385)+LEN(Display5!$G$2)+2))+Display5!$J$3","v":"P.US.EPH1825350"}]
[{"$f":"IFERROR(IF(OR(ISTEXT(RTD(\"cqg.rtd\",,\"OrderData\",\"\"&B385&\"\",\"\",\"OpenPosition\",\"\"&Display5!$D$3&\"\")),RTD(\"cqg.rtd\",,\"OrderData\",\"\"&B385&\"\",\"\",\"OpenPosition\",\"\"&Display5!$D$3&\"\")=0),A384+0.001,INT(A384)+1),A384)","v":0.38500000000000029},{"$f":"(LEFT(B386,SEARCH(Display5!$G$2,B386)+LEN(Display5!$G$2)+2))&RIGHT(B386,LEN(B386)-(SEARCH(Display5!$G$2,B386)+LEN(Display5!$G$2)+2))+Display5!$J$3","v":"P.US.EPH1825300"}]
[{"$f":"IFERROR(IF(OR(ISTEXT(RTD(\"cqg.rtd\",,\"OrderData\",\"\"&B386&\"\",\"\",\"OpenPosition\",\"\"&Display5!$D$3&\"\")),RTD(\"cqg.rtd\",,\"OrderData\",\"\"&B386&\"\",\"\",\"OpenPosition\",\"\"&Display5!$D$3&\"\")=0),A385+0.001,INT(A385)+1),A385)","v":0.38600000000000029},{"$f":"(LEFT(B387,SEARCH(Display5!$G$2,B387)+LEN(Display5!$G$2)+2))&RIGHT(B387,LEN(B387)-(SEARCH(Display5!$G$2,B387)+LEN(Display5!$G$2)+2))+Display5!$J$3","v":"P.US.EPH1825250"}]
[{"$f":"IFERROR(IF(OR(ISTEXT(RTD(\"cqg.rtd\",,\"OrderData\",\"\"&B387&\"\",\"\",\"OpenPosition\",\"\"&Display5!$D$3&\"\")),RTD(\"cqg.rtd\",,\"OrderData\",\"\"&B387&\"\",\"\",\"OpenPosition\",\"\"&Display5!$D$3&\"\")=0),A386+0.001,INT(A386)+1),A386)","v":0.38700000000000029},{"$f":"(LEFT(B388,SEARCH(Display5!$G$2,B388)+LEN(Display5!$G$2)+2))&RIGHT(B388,LEN(B388)-(SEARCH(Display5!$G$2,B388)+LEN(Display5!$G$2)+2))+Display5!$J$3","v":"P.US.EPH1825200"}]
[{"$f":"IFERROR(IF(OR(ISTEXT(RTD(\"cqg.rtd\",,\"OrderData\",\"\"&B388&\"\",\"\",\"OpenPosition\",\"\"&Display5!$D$3&\"\")),RTD(\"cqg.rtd\",,\"OrderData\",\"\"&B388&\"\",\"\",\"OpenPosition\",\"\"&Display5!$D$3&\"\")=0),A387+0.001,INT(A387)+1),A387)","v":0.38800000000000029},{"$f":"(LEFT(B389,SEARCH(Display5!$G$2,B389)+LEN(Display5!$G$2)+2))&RIGHT(B389,LEN(B389)-(SEARCH(Display5!$G$2,B389)+LEN(Display5!$G$2)+2))+Display5!$J$3","v":"P.US.EPH1825150"}]
[{"$f":"IFERROR(IF(OR(ISTEXT(RTD(\"cqg.rtd\",,\"OrderData\",\"\"&B389&\"\",\"\",\"OpenPosition\",\"\"&Display5!$D$3&\"\")),RTD(\"cqg.rtd\",,\"OrderData\",\"\"&B389&\"\",\"\",\"OpenPosition\",\"\"&Display5!$D$3&\"\")=0),A388+0.001,INT(A388)+1),A388)","v":0.38900000000000029},{"$f":"(LEFT(B390,SEARCH(Display5!$G$2,B390)+LEN(Display5!$G$2)+2))&RIGHT(B390,LEN(B390)-(SEARCH(Display5!$G$2,B390)+LEN(Display5!$G$2)+2))+Display5!$J$3","v":"P.US.EPH1825100"}]
[{"$f":"IFERROR(IF(OR(ISTEXT(RTD(\"cqg.rtd\",,\"OrderData\",\"\"&B390&\"\",\"\",\"OpenPosition\",\"\"&Display5!$D$3&\"\")),RTD(\"cqg.rtd\",,\"OrderData\",\"\"&B390&\"\",\"\",\"OpenPosition\",\"\"&Display5!$D$3&\"\")=0),A389+0.001,INT(A389)+1),A389)","v":0.39000000000000029},{"$f":"(LEFT(B391,SEARCH(Display5!$G$2,B391)+LEN(Display5!$G$2)+2))&RIGHT(B391,LEN(B391)-(SEARCH(Display5!$G$2,B391)+LEN(Display5!$G$2)+2))+Display5!$J$3","v":"P.US.EPH1825050"}]
[{"$f":"IFERROR(IF(OR(ISTEXT(RTD(\"cqg.rtd\",,\"OrderData\",\"\"&B391&\"\",\"\",\"OpenPosition\",\"\"&Display5!$D$3&\"\")),RTD(\"cqg.rtd\",,\"OrderData\",\"\"&B391&\"\",\"\",\"OpenPosition\",\"\"&Display5!$D$3&\"\")=0),A390+0.001,INT(A390)+1),A390)","v":0.39100000000000029},{"$f":"(LEFT(B392,SEARCH(Display5!$G$2,B392)+LEN(Display5!$G$2)+2))&RIGHT(B392,LEN(B392)-(SEARCH(Display5!$G$2,B392)+LEN(Display5!$G$2)+2))+Display5!$J$3","v":"P.US.EPH1825000"}]
[{"$f":"IFERROR(IF(OR(ISTEXT(RTD(\"cqg.rtd\",,\"OrderData\",\"\"&B392&\"\",\"\",\"OpenPosition\",\"\"&Display5!$D$3&\"\")),RTD(\"cqg.rtd\",,\"OrderData\",\"\"&B392&\"\",\"\",\"OpenPosition\",\"\"&Display5!$D$3&\"\")=0),A391+0.001,INT(A391)+1),A391)","v":0.39200000000000029},{"$f":"(LEFT(B393,SEARCH(Display5!$G$2,B393)+LEN(Display5!$G$2)+2))&RIGHT(B393,LEN(B393)-(SEARCH(Display5!$G$2,B393)+LEN(Display5!$G$2)+2))+Display5!$J$3","v":"P.US.EPH1824950"}]
[{"$f":"IFERROR(IF(OR(ISTEXT(RTD(\"cqg.rtd\",,\"OrderData\",\"\"&B393&\"\",\"\",\"OpenPosition\",\"\"&Display5!$D$3&\"\")),RTD(\"cqg.rtd\",,\"OrderData\",\"\"&B393&\"\",\"\",\"OpenPosition\",\"\"&Display5!$D$3&\"\")=0),A392+0.001,INT(A392)+1),A392)","v":0.39300000000000029},{"$f":"(LEFT(B394,SEARCH(Display5!$G$2,B394)+LEN(Display5!$G$2)+2))&RIGHT(B394,LEN(B394)-(SEARCH(Display5!$G$2,B394)+LEN(Display5!$G$2)+2))+Display5!$J$3","v":"P.US.EPH1824900"}]
[{"$f":"IFERROR(IF(OR(ISTEXT(RTD(\"cqg.rtd\",,\"OrderData\",\"\"&B394&\"\",\"\",\"OpenPosition\",\"\"&Display5!$D$3&\"\")),RTD(\"cqg.rtd\",,\"OrderData\",\"\"&B394&\"\",\"\",\"OpenPosition\",\"\"&Display5!$D$3&\"\")=0),A393+0.001,INT(A393)+1),A393)","v":0.39400000000000029},{"$f":"(LEFT(B395,SEARCH(Display5!$G$2,B395)+LEN(Display5!$G$2)+2))&RIGHT(B395,LEN(B395)-(SEARCH(Display5!$G$2,B395)+LEN(Display5!$G$2)+2))+Display5!$J$3","v":"P.US.EPH1824850"}]
[{"$f":"IFERROR(IF(OR(ISTEXT(RTD(\"cqg.rtd\",,\"OrderData\",\"\"&B395&\"\",\"\",\"OpenPosition\",\"\"&Display5!$D$3&\"\")),RTD(\"cqg.rtd\",,\"OrderData\",\"\"&B395&\"\",\"\",\"OpenPosition\",\"\"&Display5!$D$3&\"\")=0),A394+0.001,INT(A394)+1),A394)","v":0.3950000000000003},{"$f":"(LEFT(B396,SEARCH(Display5!$G$2,B396)+LEN(Display5!$G$2)+2))&RIGHT(B396,LEN(B396)-(SEARCH(Display5!$G$2,B396)+LEN(Display5!$G$2)+2))+Display5!$J$3","v":"P.US.EPH1824800"}]
[{"$f":"IFERROR(IF(OR(ISTEXT(RTD(\"cqg.rtd\",,\"OrderData\",\"\"&B396&\"\",\"\",\"OpenPosition\",\"\"&Display5!$D$3&\"\")),RTD(\"cqg.rtd\",,\"OrderData\",\"\"&B396&\"\",\"\",\"OpenPosition\",\"\"&Display5!$D$3&\"\")=0),A395+0.001,INT(A395)+1),A395)","v":0.3960000000000003},{"$f":"(LEFT(B397,SEARCH(Display5!$G$2,B397)+LEN(Display5!$G$2)+2))&RIGHT(B397,LEN(B397)-(SEARCH(Display5!$G$2,B397)+LEN(Display5!$G$2)+2))+Display5!$J$3","v":"P.US.EPH1824750"}]
[{"$f":"IFERROR(IF(OR(ISTEXT(RTD(\"cqg.rtd\",,\"OrderData\",\"\"&B397&\"\",\"\",\"OpenPosition\",\"\"&Display5!$D$3&\"\")),RTD(\"cqg.rtd\",,\"OrderData\",\"\"&B397&\"\",\"\",\"OpenPosition\",\"\"&Display5!$D$3&\"\")=0),A396+0.001,INT(A396)+1),A396)","v":0.3970000000000003},{"$f":"(LEFT(B398,SEARCH(Display5!$G$2,B398)+LEN(Display5!$G$2)+2))&RIGHT(B398,LEN(B398)-(SEARCH(Display5!$G$2,B398)+LEN(Display5!$G$2)+2))+Display5!$J$3","v":"P.US.EPH1824700"}]
[{"$f":"IFERROR(IF(OR(ISTEXT(RTD(\"cqg.rtd\",,\"OrderData\",\"\"&B398&\"\",\"\",\"OpenPosition\",\"\"&Display5!$D$3&\"\")),RTD(\"cqg.rtd\",,\"OrderData\",\"\"&B398&\"\",\"\",\"OpenPosition\",\"\"&Display5!$D$3&\"\")=0),A397+0.001,INT(A397)+1),A397)","v":0.3980000000000003},{"$f":"(LEFT(B399,SEARCH(Display5!$G$2,B399)+LEN(Display5!$G$2)+2))&RIGHT(B399,LEN(B399)-(SEARCH(Display5!$G$2,B399)+LEN(Display5!$G$2)+2))+Display5!$J$3","v":"P.US.EPH1824650"}]
[{"$f":"IFERROR(IF(OR(ISTEXT(RTD(\"cqg.rtd\",,\"OrderData\",\"\"&B399&\"\",\"\",\"OpenPosition\",\"\"&Display5!$D$3&\"\")),RTD(\"cqg.rtd\",,\"OrderData\",\"\"&B399&\"\",\"\",\"OpenPosition\",\"\"&Display5!$D$3&\"\")=0),A398+0.001,INT(A398)+1),A398)","v":0.3990000000000003},{"$f":"(LEFT(B400,SEARCH(Display5!$G$2,B400)+LEN(Display5!$G$2)+2))&RIGHT(B400,LEN(B400)-(SEARCH(Display5!$G$2,B400)+LEN(Display5!$G$2)+2))+Display5!$J$3","v":"P.US.EPH1824600"}]
[{"$f":"IFERROR(IF(OR(ISTEXT(RTD(\"cqg.rtd\",,\"OrderData\",\"\"&B400&\"\",\"\",\"OpenPosition\",\"\"&Display5!$D$3&\"\")),RTD(\"cqg.rtd\",,\"OrderData\",\"\"&B400&\"\",\"\",\"OpenPosition\",\"\"&Display5!$D$3&\"\")=0),A399+0.001,INT(A399)+1),A399)","v":0.4000000000000003},{"$f":"(LEFT(B401,SEARCH(Display5!$G$2,B401)+LEN(Display5!$G$2)+2))&RIGHT(B401,LEN(B401)-(SEARCH(Display5!$G$2,B401)+LEN(Display5!$G$2)+2))+Display5!$J$3","v":"P.US.EPH1824550"}]
[{"$f":"IFERROR(IF(OR(ISTEXT(RTD(\"cqg.rtd\",,\"OrderData\",\"\"&B401&\"\",\"\",\"OpenPosition\",\"\"&Display5!$D$3&\"\")),RTD(\"cqg.rtd\",,\"OrderData\",\"\"&B401&\"\",\"\",\"OpenPosition\",\"\"&Display5!$D$3&\"\")=0),A400+0.001,INT(A400)+1),A400)","v":0.4010000000000003},{"$f":"(LEFT(B402,SEARCH(Display5!$G$2,B402)+LEN(Display5!$G$2)+2))&RIGHT(B402,LEN(B402)-(SEARCH(Display5!$G$2,B402)+LEN(Display5!$G$2)+2))+Display5!$J$3","v":"P.US.EPH1824500"}]
[{"$f":"IFERROR(IF(OR(ISTEXT(RTD(\"cqg.rtd\",,\"OrderData\",\"\"&B402&\"\",\"\",\"OpenPosition\",\"\"&Display5!$D$3&\"\")),RTD(\"cqg.rtd\",,\"OrderData\",\"\"&B402&\"\",\"\",\"OpenPosition\",\"\"&Display5!$D$3&\"\")=0),A401+0.001,INT(A401)+1),A401)","v":0.4020000000000003},{"$f":"(LEFT(B403,SEARCH(Display5!$G$2,B403)+LEN(Display5!$G$2)+2))&RIGHT(B403,LEN(B403)-(SEARCH(Display5!$G$2,B403)+LEN(Display5!$G$2)+2))+Display5!$J$3","v":"P.US.EPH1824450"}]
[{"$f":"IFERROR(IF(OR(ISTEXT(RTD(\"cqg.rtd\",,\"OrderData\",\"\"&B403&\"\",\"\",\"OpenPosition\",\"\"&Display5!$D$3&\"\")),RTD(\"cqg.rtd\",,\"OrderData\",\"\"&B403&\"\",\"\",\"OpenPosition\",\"\"&Display5!$D$3&\"\")=0),A402+0.001,INT(A402)+1),A402)","v":0.4030000000000003},{"$f":"(LEFT(B404,SEARCH(Display5!$G$2,B404)+LEN(Display5!$G$2)+2))&RIGHT(B404,LEN(B404)-(SEARCH(Display5!$G$2,B404)+LEN(Display5!$G$2)+2))+Display5!$J$3","v":"P.US.EPH1824400"}]
[{"$f":"IFERROR(IF(OR(ISTEXT(RTD(\"cqg.rtd\",,\"OrderData\",\"\"&B404&\"\",\"\",\"OpenPosition\",\"\"&Display5!$D$3&\"\")),RTD(\"cqg.rtd\",,\"OrderData\",\"\"&B404&\"\",\"\",\"OpenPosition\",\"\"&Display5!$D$3&\"\")=0),A403+0.001,INT(A403)+1),A403)","v":0.4040000000000003},{"$f":"(LEFT(B405,SEARCH(Display5!$G$2,B405)+LEN(Display5!$G$2)+2))&RIGHT(B405,LEN(B405)-(SEARCH(Display5!$G$2,B405)+LEN(Display5!$G$2)+2))+Display5!$J$3","v":"P.US.EPH1824350"}]
[{"$f":"IFERROR(IF(OR(ISTEXT(RTD(\"cqg.rtd\",,\"OrderData\",\"\"&B405&\"\",\"\",\"OpenPosition\",\"\"&Display5!$D$3&\"\")),RTD(\"cqg.rtd\",,\"OrderData\",\"\"&B405&\"\",\"\",\"OpenPosition\",\"\"&Display5!$D$3&\"\")=0),A404+0.001,INT(A404)+1),A404)","v":0.4050000000000003},{"$f":"RTD(\"cqg.rtd\", ,\"ContractData\", \"P.US.\"&Display5!$G$2&Display5!$I$3&\"\", \"Symbol\",, \"T\")","v":"P.US.EPH1824300"}]
[{"$f":"IFERROR(IF(OR(ISTEXT(RTD(\"cqg.rtd\",,\"OrderData\",\"\"&B406&\"\",\"\",\"OpenPosition\",\"\"&Display5!$D$3&\"\")),RTD(\"cqg.rtd\",,\"OrderData\",\"\"&B406&\"\",\"\",\"OpenPosition\",\"\"&Display5!$D$3&\"\")=0),A405+0.001,INT(A405)+1),A405)","v":0.40600000000000031},{"$f":"(LEFT(B405,SEARCH(Display5!$G$2,B405)+LEN(Display5!$G$2)+2))&RIGHT(B405,LEN(B405)-(SEARCH(Display5!$G$2,B405)+LEN(Display5!$G$2)+2))-Display5!$J$3","v":"P.US.EPH1824250"}]
[{"$f":"IFERROR(IF(OR(ISTEXT(RTD(\"cqg.rtd\",,\"OrderData\",\"\"&B407&\"\",\"\",\"OpenPosition\",\"\"&Display5!$D$3&\"\")),RTD(\"cqg.rtd\",,\"OrderData\",\"\"&B407&\"\",\"\",\"OpenPosition\",\"\"&Display5!$D$3&\"\")=0),A406+0.001,INT(A406)+1),A406)","v":0.40700000000000031},{"$f":"(LEFT(B406,SEARCH(Display5!$G$2,B406)+LEN(Display5!$G$2)+2))&RIGHT(B406,LEN(B406)-(SEARCH(Display5!$G$2,B406)+LEN(Display5!$G$2)+2))-Display5!$J$3","v":"P.US.EPH1824200"}]
[{"$f":"IFERROR(IF(OR(ISTEXT(RTD(\"cqg.rtd\",,\"OrderData\",\"\"&B408&\"\",\"\",\"OpenPosition\",\"\"&Display5!$D$3&\"\")),RTD(\"cqg.rtd\",,\"OrderData\",\"\"&B408&\"\",\"\",\"OpenPosition\",\"\"&Display5!$D$3&\"\")=0),A407+0.001,INT(A407)+1),A407)","v":0.40800000000000031},{"$f":"(LEFT(B407,SEARCH(Display5!$G$2,B407)+LEN(Display5!$G$2)+2))&RIGHT(B407,LEN(B407)-(SEARCH(Display5!$G$2,B407)+LEN(Display5!$G$2)+2))-Display5!$J$3","v":"P.US.EPH1824150"}]
[{"$f":"IFERROR(IF(OR(ISTEXT(RTD(\"cqg.rtd\",,\"OrderData\",\"\"&B409&\"\",\"\",\"OpenPosition\",\"\"&Display5!$D$3&\"\")),RTD(\"cqg.rtd\",,\"OrderData\",\"\"&B409&\"\",\"\",\"OpenPosition\",\"\"&Display5!$D$3&\"\")=0),A408+0.001,INT(A408)+1),A408)","v":0.40900000000000031},{"$f":"(LEFT(B408,SEARCH(Display5!$G$2,B408)+LEN(Display5!$G$2)+2))&RIGHT(B408,LEN(B408)-(SEARCH(Display5!$G$2,B408)+LEN(Display5!$G$2)+2))-Display5!$J$3","v":"P.US.EPH1824100"}]
[{"$f":"IFERROR(IF(OR(ISTEXT(RTD(\"cqg.rtd\",,\"OrderData\",\"\"&B410&\"\",\"\",\"OpenPosition\",\"\"&Display5!$D$3&\"\")),RTD(\"cqg.rtd\",,\"OrderData\",\"\"&B410&\"\",\"\",\"OpenPosition\",\"\"&Display5!$D$3&\"\")=0),A409+0.001,INT(A409)+1),A409)","v":0.41000000000000031},{"$f":"(LEFT(B409,SEARCH(Display5!$G$2,B409)+LEN(Display5!$G$2)+2))&RIGHT(B409,LEN(B409)-(SEARCH(Display5!$G$2,B409)+LEN(Display5!$G$2)+2))-Display5!$J$3","v":"P.US.EPH1824050"}]
[{"$f":"IFERROR(IF(OR(ISTEXT(RTD(\"cqg.rtd\",,\"OrderData\",\"\"&B411&\"\",\"\",\"OpenPosition\",\"\"&Display5!$D$3&\"\")),RTD(\"cqg.rtd\",,\"OrderData\",\"\"&B411&\"\",\"\",\"OpenPosition\",\"\"&Display5!$D$3&\"\")=0),A410+0.001,INT(A410)+1),A410)","v":0.41100000000000031},{"$f":"(LEFT(B410,SEARCH(Display5!$G$2,B410)+LEN(Display5!$G$2)+2))&RIGHT(B410,LEN(B410)-(SEARCH(Display5!$G$2,B410)+LEN(Display5!$G$2)+2))-Display5!$J$3","v":"P.US.EPH1824000"}]
[{"$f":"IFERROR(IF(OR(ISTEXT(RTD(\"cqg.rtd\",,\"OrderData\",\"\"&B412&\"\",\"\",\"OpenPosition\",\"\"&Display5!$D$3&\"\")),RTD(\"cqg.rtd\",,\"OrderData\",\"\"&B412&\"\",\"\",\"OpenPosition\",\"\"&Display5!$D$3&\"\")=0),A411+0.001,INT(A411)+1),A411)","v":0.41200000000000031},{"$f":"(LEFT(B411,SEARCH(Display5!$G$2,B411)+LEN(Display5!$G$2)+2))&RIGHT(B411,LEN(B411)-(SEARCH(Display5!$G$2,B411)+LEN(Display5!$G$2)+2))-Display5!$J$3","v":"P.US.EPH1823950"}]
[{"$f":"IFERROR(IF(OR(ISTEXT(RTD(\"cqg.rtd\",,\"OrderData\",\"\"&B413&\"\",\"\",\"OpenPosition\",\"\"&Display5!$D$3&\"\")),RTD(\"cqg.rtd\",,\"OrderData\",\"\"&B413&\"\",\"\",\"OpenPosition\",\"\"&Display5!$D$3&\"\")=0),A412+0.001,INT(A412)+1),A412)","v":0.41300000000000031},{"$f":"(LEFT(B412,SEARCH(Display5!$G$2,B412)+LEN(Display5!$G$2)+2))&RIGHT(B412,LEN(B412)-(SEARCH(Display5!$G$2,B412)+LEN(Display5!$G$2)+2))-Display5!$J$3","v":"P.US.EPH1823900"}]
[{"$f":"IFERROR(IF(OR(ISTEXT(RTD(\"cqg.rtd\",,\"OrderData\",\"\"&B414&\"\",\"\",\"OpenPosition\",\"\"&Display5!$D$3&\"\")),RTD(\"cqg.rtd\",,\"OrderData\",\"\"&B414&\"\",\"\",\"OpenPosition\",\"\"&Display5!$D$3&\"\")=0),A413+0.001,INT(A413)+1),A413)","v":0.41400000000000031},{"$f":"(LEFT(B413,SEARCH(Display5!$G$2,B413)+LEN(Display5!$G$2)+2))&RIGHT(B413,LEN(B413)-(SEARCH(Display5!$G$2,B413)+LEN(Display5!$G$2)+2))-Display5!$J$3","v":"P.US.EPH1823850"}]
[{"$f":"IFERROR(IF(OR(ISTEXT(RTD(\"cqg.rtd\",,\"OrderData\",\"\"&B415&\"\",\"\",\"OpenPosition\",\"\"&Display5!$D$3&\"\")),RTD(\"cqg.rtd\",,\"OrderData\",\"\"&B415&\"\",\"\",\"OpenPosition\",\"\"&Display5!$D$3&\"\")=0),A414+0.001,INT(A414)+1),A414)","v":0.41500000000000031},{"$f":"(LEFT(B414,SEARCH(Display5!$G$2,B414)+LEN(Display5!$G$2)+2))&RIGHT(B414,LEN(B414)-(SEARCH(Display5!$G$2,B414)+LEN(Display5!$G$2)+2))-Display5!$J$3","v":"P.US.EPH1823800"}]
[{"$f":"IFERROR(IF(OR(ISTEXT(RTD(\"cqg.rtd\",,\"OrderData\",\"\"&B416&\"\",\"\",\"OpenPosition\",\"\"&Display5!$D$3&\"\")),RTD(\"cqg.rtd\",,\"OrderData\",\"\"&B416&\"\",\"\",\"OpenPosition\",\"\"&Display5!$D$3&\"\")=0),A415+0.001,INT(A415)+1),A415)","v":0.41600000000000031},{"$f":"(LEFT(B415,SEARCH(Display5!$G$2,B415)+LEN(Display5!$G$2)+2))&RIGHT(B415,LEN(B415)-(SEARCH(Display5!$G$2,B415)+LEN(Display5!$G$2)+2))-Display5!$J$3","v":"P.US.EPH1823750"}]
[{"$f":"IFERROR(IF(OR(ISTEXT(RTD(\"cqg.rtd\",,\"OrderData\",\"\"&B417&\"\",\"\",\"OpenPosition\",\"\"&Display5!$D$3&\"\")),RTD(\"cqg.rtd\",,\"OrderData\",\"\"&B417&\"\",\"\",\"OpenPosition\",\"\"&Display5!$D$3&\"\")=0),A416+0.001,INT(A416)+1),A416)","v":0.41700000000000031},{"$f":"(LEFT(B416,SEARCH(Display5!$G$2,B416)+LEN(Display5!$G$2)+2))&RIGHT(B416,LEN(B416)-(SEARCH(Display5!$G$2,B416)+LEN(Display5!$G$2)+2))-Display5!$J$3","v":"P.US.EPH1823700"}]
[{"$f":"IFERROR(IF(OR(ISTEXT(RTD(\"cqg.rtd\",,\"OrderData\",\"\"&B418&\"\",\"\",\"OpenPosition\",\"\"&Display5!$D$3&\"\")),RTD(\"cqg.rtd\",,\"OrderData\",\"\"&B418&\"\",\"\",\"OpenPosition\",\"\"&Display5!$D$3&\"\")=0),A417+0.001,INT(A417)+1),A417)","v":0.41800000000000032},{"$f":"(LEFT(B417,SEARCH(Display5!$G$2,B417)+LEN(Display5!$G$2)+2))&RIGHT(B417,LEN(B417)-(SEARCH(Display5!$G$2,B417)+LEN(Display5!$G$2)+2))-Display5!$J$3","v":"P.US.EPH1823650"}]
[{"$f":"IFERROR(IF(OR(ISTEXT(RTD(\"cqg.rtd\",,\"OrderData\",\"\"&B419&\"\",\"\",\"OpenPosition\",\"\"&Display5!$D$3&\"\")),RTD(\"cqg.rtd\",,\"OrderData\",\"\"&B419&\"\",\"\",\"OpenPosition\",\"\"&Display5!$D$3&\"\")=0),A418+0.001,INT(A418)+1),A418)","v":0.41900000000000032},{"$f":"(LEFT(B418,SEARCH(Display5!$G$2,B418)+LEN(Display5!$G$2)+2))&RIGHT(B418,LEN(B418)-(SEARCH(Display5!$G$2,B418)+LEN(Display5!$G$2)+2))-Display5!$J$3","v":"P.US.EPH1823600"}]
[{"$f":"IFERROR(IF(OR(ISTEXT(RTD(\"cqg.rtd\",,\"OrderData\",\"\"&B420&\"\",\"\",\"OpenPosition\",\"\"&Display5!$D$3&\"\")),RTD(\"cqg.rtd\",,\"OrderData\",\"\"&B420&\"\",\"\",\"OpenPosition\",\"\"&Display5!$D$3&\"\")=0),A419+0.001,INT(A419)+1),A419)","v":0.42000000000000032},{"$f":"(LEFT(B419,SEARCH(Display5!$G$2,B419)+LEN(Display5!$G$2)+2))&RIGHT(B419,LEN(B419)-(SEARCH(Display5!$G$2,B419)+LEN(Display5!$G$2)+2))-Display5!$J$3","v":"P.US.EPH1823550"}]
[{"$f":"IFERROR(IF(OR(ISTEXT(RTD(\"cqg.rtd\",,\"OrderData\",\"\"&B421&\"\",\"\",\"OpenPosition\",\"\"&Display5!$D$3&\"\")),RTD(\"cqg.rtd\",,\"OrderData\",\"\"&B421&\"\",\"\",\"OpenPosition\",\"\"&Display5!$D$3&\"\")=0),A420+0.001,INT(A420)+1),A420)","v":0.42100000000000032},{"$f":"(LEFT(B420,SEARCH(Display5!$G$2,B420)+LEN(Display5!$G$2)+2))&RIGHT(B420,LEN(B420)-(SEARCH(Display5!$G$2,B420)+LEN(Display5!$G$2)+2))-Display5!$J$3","v":"P.US.EPH1823500"}]
[{"$f":"IFERROR(IF(OR(ISTEXT(RTD(\"cqg.rtd\",,\"OrderData\",\"\"&B422&\"\",\"\",\"OpenPosition\",\"\"&Display5!$D$3&\"\")),RTD(\"cqg.rtd\",,\"OrderData\",\"\"&B422&\"\",\"\",\"OpenPosition\",\"\"&Display5!$D$3&\"\")=0),A421+0.001,INT(A421)+1),A421)","v":0.42200000000000032},{"$f":"(LEFT(B421,SEARCH(Display5!$G$2,B421)+LEN(Display5!$G$2)+2))&RIGHT(B421,LEN(B421)-(SEARCH(Display5!$G$2,B421)+LEN(Display5!$G$2)+2))-Display5!$J$3","v":"P.US.EPH1823450"}]
[{"$f":"IFERROR(IF(OR(ISTEXT(RTD(\"cqg.rtd\",,\"OrderData\",\"\"&B423&\"\",\"\",\"OpenPosition\",\"\"&Display5!$D$3&\"\")),RTD(\"cqg.rtd\",,\"OrderData\",\"\"&B423&\"\",\"\",\"OpenPosition\",\"\"&Display5!$D$3&\"\")=0),A422+0.001,INT(A422)+1),A422)","v":0.42300000000000032},{"$f":"(LEFT(B422,SEARCH(Display5!$G$2,B422)+LEN(Display5!$G$2)+2))&RIGHT(B422,LEN(B422)-(SEARCH(Display5!$G$2,B422)+LEN(Display5!$G$2)+2))-Display5!$J$3","v":"P.US.EPH1823400"}]
[{"$f":"IFERROR(IF(OR(ISTEXT(RTD(\"cqg.rtd\",,\"OrderData\",\"\"&B424&\"\",\"\",\"OpenPosition\",\"\"&Display5!$D$3&\"\")),RTD(\"cqg.rtd\",,\"OrderData\",\"\"&B424&\"\",\"\",\"OpenPosition\",\"\"&Display5!$D$3&\"\")=0),A423+0.001,INT(A423)+1),A423)","v":0.42400000000000032},{"$f":"(LEFT(B423,SEARCH(Display5!$G$2,B423)+LEN(Display5!$G$2)+2))&RIGHT(B423,LEN(B423)-(SEARCH(Display5!$G$2,B423)+LEN(Display5!$G$2)+2))-Display5!$J$3","v":"P.US.EPH1823350"}]
[{"$f":"IFERROR(IF(OR(ISTEXT(RTD(\"cqg.rtd\",,\"OrderData\",\"\"&B425&\"\",\"\",\"OpenPosition\",\"\"&Display5!$D$3&\"\")),RTD(\"cqg.rtd\",,\"OrderData\",\"\"&B425&\"\",\"\",\"OpenPosition\",\"\"&Display5!$D$3&\"\")=0),A424+0.001,INT(A424)+1),A424)","v":0.42500000000000032},{"$f":"(LEFT(B424,SEARCH(Display5!$G$2,B424)+LEN(Display5!$G$2)+2))&RIGHT(B424,LEN(B424)-(SEARCH(Display5!$G$2,B424)+LEN(Display5!$G$2)+2))-Display5!$J$3","v":"P.US.EPH1823300"}]
[{"$f":"IFERROR(IF(OR(ISTEXT(RTD(\"cqg.rtd\",,\"OrderData\",\"\"&B426&\"\",\"\",\"OpenPosition\",\"\"&Display5!$D$3&\"\")),RTD(\"cqg.rtd\",,\"OrderData\",\"\"&B426&\"\",\"\",\"OpenPosition\",\"\"&Display5!$D$3&\"\")=0),A425+0.001,INT(A425)+1),A425)","v":0.42600000000000032},{"$f":"(LEFT(B425,SEARCH(Display5!$G$2,B425)+LEN(Display5!$G$2)+2))&RIGHT(B425,LEN(B425)-(SEARCH(Display5!$G$2,B425)+LEN(Display5!$G$2)+2))-Display5!$J$3","v":"P.US.EPH1823250"}]
[{"$f":"IFERROR(IF(OR(ISTEXT(RTD(\"cqg.rtd\",,\"OrderData\",\"\"&B427&\"\",\"\",\"OpenPosition\",\"\"&Display5!$D$3&\"\")),RTD(\"cqg.rtd\",,\"OrderData\",\"\"&B427&\"\",\"\",\"OpenPosition\",\"\"&Display5!$D$3&\"\")=0),A426+0.001,INT(A426)+1),A426)","v":0.42700000000000032},{"$f":"(LEFT(B426,SEARCH(Display5!$G$2,B426)+LEN(Display5!$G$2)+2))&RIGHT(B426,LEN(B426)-(SEARCH(Display5!$G$2,B426)+LEN(Display5!$G$2)+2))-Display5!$J$3","v":"P.US.EPH1823200"}]
[{"$f":"IFERROR(IF(OR(ISTEXT(RTD(\"cqg.rtd\",,\"OrderData\",\"\"&B428&\"\",\"\",\"OpenPosition\",\"\"&Display5!$D$3&\"\")),RTD(\"cqg.rtd\",,\"OrderData\",\"\"&B428&\"\",\"\",\"OpenPosition\",\"\"&Display5!$D$3&\"\")=0),A427+0.001,INT(A427)+1),A427)","v":0.42800000000000032},{"$f":"(LEFT(B427,SEARCH(Display5!$G$2,B427)+LEN(Display5!$G$2)+2))&RIGHT(B427,LEN(B427)-(SEARCH(Display5!$G$2,B427)+LEN(Display5!$G$2)+2))-Display5!$J$3","v":"P.US.EPH1823150"}]
[{"$f":"IFERROR(IF(OR(ISTEXT(RTD(\"cqg.rtd\",,\"OrderData\",\"\"&B429&\"\",\"\",\"OpenPosition\",\"\"&Display5!$D$3&\"\")),RTD(\"cqg.rtd\",,\"OrderData\",\"\"&B429&\"\",\"\",\"OpenPosition\",\"\"&Display5!$D$3&\"\")=0),A428+0.001,INT(A428)+1),A428)","v":0.42900000000000033},{"$f":"(LEFT(B428,SEARCH(Display5!$G$2,B428)+LEN(Display5!$G$2)+2))&RIGHT(B428,LEN(B428)-(SEARCH(Display5!$G$2,B428)+LEN(Display5!$G$2)+2))-Display5!$J$3","v":"P.US.EPH1823100"}]
[{"$f":"IFERROR(IF(OR(ISTEXT(RTD(\"cqg.rtd\",,\"OrderData\",\"\"&B430&\"\",\"\",\"OpenPosition\",\"\"&Display5!$D$3&\"\")),RTD(\"cqg.rtd\",,\"OrderData\",\"\"&B430&\"\",\"\",\"OpenPosition\",\"\"&Display5!$D$3&\"\")=0),A429+0.001,INT(A429)+1),A429)","v":0.43000000000000033},{"$f":"(LEFT(B429,SEARCH(Display5!$G$2,B429)+LEN(Display5!$G$2)+2))&RIGHT(B429,LEN(B429)-(SEARCH(Display5!$G$2,B429)+LEN(Display5!$G$2)+2))-Display5!$J$3","v":"P.US.EPH1823050"}]
[{"$f":"IFERROR(IF(OR(ISTEXT(RTD(\"cqg.rtd\",,\"OrderData\",\"\"&B431&\"\",\"\",\"OpenPosition\",\"\"&Display5!$D$3&\"\")),RTD(\"cqg.rtd\",,\"OrderData\",\"\"&B431&\"\",\"\",\"OpenPosition\",\"\"&Display5!$D$3&\"\")=0),A430+0.001,INT(A430)+1),A430)","v":0.43100000000000033},{"$f":"(LEFT(B430,SEARCH(Display5!$G$2,B430)+LEN(Display5!$G$2)+2))&RIGHT(B430,LEN(B430)-(SEARCH(Display5!$G$2,B430)+LEN(Display5!$G$2)+2))-Display5!$J$3","v":"P.US.EPH1823000"}]
[{"$f":"IFERROR(IF(OR(ISTEXT(RTD(\"cqg.rtd\",,\"OrderData\",\"\"&B432&\"\",\"\",\"OpenPosition\",\"\"&Display5!$D$3&\"\")),RTD(\"cqg.rtd\",,\"OrderData\",\"\"&B432&\"\",\"\",\"OpenPosition\",\"\"&Display5!$D$3&\"\")=0),A431+0.001,INT(A431)+1),A431)","v":0.43200000000000033},{"$f":"(LEFT(B431,SEARCH(Display5!$G$2,B431)+LEN(Display5!$G$2)+2))&RIGHT(B431,LEN(B431)-(SEARCH(Display5!$G$2,B431)+LEN(Display5!$G$2)+2))-Display5!$J$3","v":"P.US.EPH1822950"}]
[{"$f":"IFERROR(IF(OR(ISTEXT(RTD(\"cqg.rtd\",,\"OrderData\",\"\"&B433&\"\",\"\",\"OpenPosition\",\"\"&Display5!$D$3&\"\")),RTD(\"cqg.rtd\",,\"OrderData\",\"\"&B433&\"\",\"\",\"OpenPosition\",\"\"&Display5!$D$3&\"\")=0),A432+0.001,INT(A432)+1),A432)","v":0.43300000000000033},{"$f":"(LEFT(B432,SEARCH(Display5!$G$2,B432)+LEN(Display5!$G$2)+2))&RIGHT(B432,LEN(B432)-(SEARCH(Display5!$G$2,B432)+LEN(Display5!$G$2)+2))-Display5!$J$3","v":"P.US.EPH1822900"}]
[{"$f":"IFERROR(IF(OR(ISTEXT(RTD(\"cqg.rtd\",,\"OrderData\",\"\"&B434&\"\",\"\",\"OpenPosition\",\"\"&Display5!$D$3&\"\")),RTD(\"cqg.rtd\",,\"OrderData\",\"\"&B434&\"\",\"\",\"OpenPosition\",\"\"&Display5!$D$3&\"\")=0),A433+0.001,INT(A433)+1),A433)","v":0.43400000000000033},{"$f":"(LEFT(B433,SEARCH(Display5!$G$2,B433)+LEN(Display5!$G$2)+2))&RIGHT(B433,LEN(B433)-(SEARCH(Display5!$G$2,B433)+LEN(Display5!$G$2)+2))-Display5!$J$3","v":"P.US.EPH1822850"}]
[{"$f":"IFERROR(IF(OR(ISTEXT(RTD(\"cqg.rtd\",,\"OrderData\",\"\"&B435&\"\",\"\",\"OpenPosition\",\"\"&Display5!$D$3&\"\")),RTD(\"cqg.rtd\",,\"OrderData\",\"\"&B435&\"\",\"\",\"OpenPosition\",\"\"&Display5!$D$3&\"\")=0),A434+0.001,INT(A434)+1),A434)","v":0.43500000000000033},{"$f":"(LEFT(B434,SEARCH(Display5!$G$2,B434)+LEN(Display5!$G$2)+2))&RIGHT(B434,LEN(B434)-(SEARCH(Display5!$G$2,B434)+LEN(Display5!$G$2)+2))-Display5!$J$3","v":"P.US.EPH1822800"}]
[{"$f":"IFERROR(IF(OR(ISTEXT(RTD(\"cqg.rtd\",,\"OrderData\",\"\"&B436&\"\",\"\",\"OpenPosition\",\"\"&Display5!$D$3&\"\")),RTD(\"cqg.rtd\",,\"OrderData\",\"\"&B436&\"\",\"\",\"OpenPosition\",\"\"&Display5!$D$3&\"\")=0),A435+0.001,INT(A435)+1),A435)","v":0.43600000000000033},{"$f":"(LEFT(B435,SEARCH(Display5!$G$2,B435)+LEN(Display5!$G$2)+2))&RIGHT(B435,LEN(B435)-(SEARCH(Display5!$G$2,B435)+LEN(Display5!$G$2)+2))-Display5!$J$3","v":"P.US.EPH1822750"}]
[{"$f":"IFERROR(IF(OR(ISTEXT(RTD(\"cqg.rtd\",,\"OrderData\",\"\"&B437&\"\",\"\",\"OpenPosition\",\"\"&Display5!$D$3&\"\")),RTD(\"cqg.rtd\",,\"OrderData\",\"\"&B437&\"\",\"\",\"OpenPosition\",\"\"&Display5!$D$3&\"\")=0),A436+0.001,INT(A436)+1),A436)","v":0.43700000000000033},{"$f":"(LEFT(B436,SEARCH(Display5!$G$2,B436)+LEN(Display5!$G$2)+2))&RIGHT(B436,LEN(B436)-(SEARCH(Display5!$G$2,B436)+LEN(Display5!$G$2)+2))-Display5!$J$3","v":"P.US.EPH1822700"}]
[{"$f":"IFERROR(IF(OR(ISTEXT(RTD(\"cqg.rtd\",,\"OrderData\",\"\"&B438&\"\",\"\",\"OpenPosition\",\"\"&Display5!$D$3&\"\")),RTD(\"cqg.rtd\",,\"OrderData\",\"\"&B438&\"\",\"\",\"OpenPosition\",\"\"&Display5!$D$3&\"\")=0),A437+0.001,INT(A437)+1),A437)","v":0.43800000000000033},{"$f":"(LEFT(B437,SEARCH(Display5!$G$2,B437)+LEN(Display5!$G$2)+2))&RIGHT(B437,LEN(B437)-(SEARCH(Display5!$G$2,B437)+LEN(Display5!$G$2)+2))-Display5!$J$3","v":"P.US.EPH1822650"}]
[{"$f":"IFERROR(IF(OR(ISTEXT(RTD(\"cqg.rtd\",,\"OrderData\",\"\"&B439&\"\",\"\",\"OpenPosition\",\"\"&Display5!$D$3&\"\")),RTD(\"cqg.rtd\",,\"OrderData\",\"\"&B439&\"\",\"\",\"OpenPosition\",\"\"&Display5!$D$3&\"\")=0),A438+0.001,INT(A438)+1),A438)","v":0.43900000000000033},{"$f":"(LEFT(B438,SEARCH(Display5!$G$2,B438)+LEN(Display5!$G$2)+2))&RIGHT(B438,LEN(B438)-(SEARCH(Display5!$G$2,B438)+LEN(Display5!$G$2)+2))-Display5!$J$3","v":"P.US.EPH1822600"}]
[{"$f":"IFERROR(IF(OR(ISTEXT(RTD(\"cqg.rtd\",,\"OrderData\",\"\"&B440&\"\",\"\",\"OpenPosition\",\"\"&Display5!$D$3&\"\")),RTD(\"cqg.rtd\",,\"OrderData\",\"\"&B440&\"\",\"\",\"OpenPosition\",\"\"&Display5!$D$3&\"\")=0),A439+0.001,INT(A439)+1),A439)","v":0.44000000000000034},{"$f":"(LEFT(B439,SEARCH(Display5!$G$2,B439)+LEN(Display5!$G$2)+2))&RIGHT(B439,LEN(B439)-(SEARCH(Display5!$G$2,B439)+LEN(Display5!$G$2)+2))-Display5!$J$3","v":"P.US.EPH1822550"}]
[{"$f":"IFERROR(IF(OR(ISTEXT(RTD(\"cqg.rtd\",,\"OrderData\",\"\"&B441&\"\",\"\",\"OpenPosition\",\"\"&Display5!$D$3&\"\")),RTD(\"cqg.rtd\",,\"OrderData\",\"\"&B441&\"\",\"\",\"OpenPosition\",\"\"&Display5!$D$3&\"\")=0),A440+0.001,INT(A440)+1),A440)","v":0.44100000000000034},{"$f":"(LEFT(B440,SEARCH(Display5!$G$2,B440)+LEN(Display5!$G$2)+2))&RIGHT(B440,LEN(B440)-(SEARCH(Display5!$G$2,B440)+LEN(Display5!$G$2)+2))-Display5!$J$3","v":"P.US.EPH1822500"}]
[{"$f":"IFERROR(IF(OR(ISTEXT(RTD(\"cqg.rtd\",,\"OrderData\",\"\"&B442&\"\",\"\",\"OpenPosition\",\"\"&Display5!$D$3&\"\")),RTD(\"cqg.rtd\",,\"OrderData\",\"\"&B442&\"\",\"\",\"OpenPosition\",\"\"&Display5!$D$3&\"\")=0),A441+0.001,INT(A441)+1),A441)","v":0.44200000000000034},{"$f":"(LEFT(B441,SEARCH(Display5!$G$2,B441)+LEN(Display5!$G$2)+2))&RIGHT(B441,LEN(B441)-(SEARCH(Display5!$G$2,B441)+LEN(Display5!$G$2)+2))-Display5!$J$3","v":"P.US.EPH1822450"}]
[{"$f":"IFERROR(IF(OR(ISTEXT(RTD(\"cqg.rtd\",,\"OrderData\",\"\"&B443&\"\",\"\",\"OpenPosition\",\"\"&Display5!$D$3&\"\")),RTD(\"cqg.rtd\",,\"OrderData\",\"\"&B443&\"\",\"\",\"OpenPosition\",\"\"&Display5!$D$3&\"\")=0),A442+0.001,INT(A442)+1),A442)","v":0.44300000000000034},{"$f":"(LEFT(B442,SEARCH(Display5!$G$2,B442)+LEN(Display5!$G$2)+2))&RIGHT(B442,LEN(B442)-(SEARCH(Display5!$G$2,B442)+LEN(Display5!$G$2)+2))-Display5!$J$3","v":"P.US.EPH1822400"}]
[{"$f":"IFERROR(IF(OR(ISTEXT(RTD(\"cqg.rtd\",,\"OrderData\",\"\"&B444&\"\",\"\",\"OpenPosition\",\"\"&Display5!$D$3&\"\")),RTD(\"cqg.rtd\",,\"OrderData\",\"\"&B444&\"\",\"\",\"OpenPosition\",\"\"&Display5!$D$3&\"\")=0),A443+0.001,INT(A443)+1),A443)","v":0.44400000000000034},{"$f":"(LEFT(B443,SEARCH(Display5!$G$2,B443)+LEN(Display5!$G$2)+2))&RIGHT(B443,LEN(B443)-(SEARCH(Display5!$G$2,B443)+LEN(Display5!$G$2)+2))-Display5!$J$3","v":"P.US.EPH1822350"}]
[{"$f":"IFERROR(IF(OR(ISTEXT(RTD(\"cqg.rtd\",,\"OrderData\",\"\"&B445&\"\",\"\",\"OpenPosition\",\"\"&Display5!$D$3&\"\")),RTD(\"cqg.rtd\",,\"OrderData\",\"\"&B445&\"\",\"\",\"OpenPosition\",\"\"&Display5!$D$3&\"\")=0),A444+0.001,INT(A444)+1),A444)","v":0.44500000000000034},{"$f":"(LEFT(B444,SEARCH(Display5!$G$2,B444)+LEN(Display5!$G$2)+2))&RIGHT(B444,LEN(B444)-(SEARCH(Display5!$G$2,B444)+LEN(Display5!$G$2)+2))-Display5!$J$3","v":"P.US.EPH1822300"}]
[{"$f":"IFERROR(IF(OR(ISTEXT(RTD(\"cqg.rtd\",,\"OrderData\",\"\"&B446&\"\",\"\",\"OpenPosition\",\"\"&Display5!$D$3&\"\")),RTD(\"cqg.rtd\",,\"OrderData\",\"\"&B446&\"\",\"\",\"OpenPosition\",\"\"&Display5!$D$3&\"\")=0),A445+0.001,INT(A445)+1),A445)","v":0.44600000000000034},{"$f":"RTD(\"cqg.rtd\", ,\"ContractData\", \"F.US.\"&Display5!$K$3&\"\", \"LongSymbol\",, \"T\")","v":"F.US.EPU17"}]
[{"$f":"IFERROR(IF(OR(ISTEXT(RTD(\"cqg.rtd\",,\"OrderData\",\"\"&B447&\"\",\"\",\"OpenPosition\",\"\"&Display5!$D$3&\"\")),RTD(\"cqg.rtd\",,\"OrderData\",\"\"&B447&\"\",\"\",\"OpenPosition\",\"\"&Display5!$D$3&\"\")=0),A446+0.001,INT(A446)+1),A446)","v":0.44700000000000034},{"$f":"RTD(\"cqg.rtd\", ,\"ContractData\", \"F.US.\"&Display5!$M$3&\"\", \"LongSymbol\",, \"T\")","v":"F.US.EPZ17"}]
[{"$f":"IFERROR(IF(OR(ISTEXT(RTD(\"cqg.rtd\",,\"OrderData\",\"\"&B448&\"\",\"\",\"OpenPosition\",\"\"&Display5!$D$3&\"\")),RTD(\"cqg.rtd\",,\"OrderData\",\"\"&B448&\"\",\"\",\"OpenPosition\",\"\"&Display5!$D$3&\"\")=0),A447+0.001,INT(A447)+1),A447)","v":0.44800000000000034},{"$f":"RTD(\"cqg.rtd\", ,\"ContractData\", \"F.US.\"&Display5!$N$3&\"\", \"LongSymbol\",, \"T\")","v":"F.US.EPH18"}]
[null,{"$f":"Display5!D3","v":"PSspread300"}]