{"text_format":"1","workbook":"xlsx","n_sheets":3,"sheets":["Symbols","MainDisplay","Data"],"not_rendered":{"charts":2,"images":14,"macros":1,"external_links":0,"defined_names":0,"comments":0,"pivot_tables":0},"unopened":[],"bounds":{"document_bytes":16777216,"sheet_cells":100000,"rows_first":2000,"rows_last":500,"rows_between":2000,"halvings":0,"cell_chars":16384,"cell_head_chars":4096},"cells_cut":0,"cells_raw":0,"read":"whole","date_system":"1900"}

{"sheet":"Symbols","index":0,"n_rows":15,"n_cols":14,"rows_kept":15,"cut":false,"hidden":false,"merged":[[2,1,2,2]]}
[]
[null,null,null,{"$f":"IF(Symbols!D4=\"B\",\"B\",IF(Symbols!D4=0,0,IF(Symbols!D4=1,\"#.0\",IF(Symbols!D4=2,\"#.00\",IF(Symbols!D4=3,\"#.000\",IF(Symbols!D4=4,\"#.0000\",IF(Symbols!D4=5,\"#.00000\",IF(Symbols!D4=6,\"#.000000\"))))))))","v":"#.00"},{"$f":"IF(Symbols!E4=\"B\",\"B\",IF(Symbols!E4=0,0,IF(Symbols!E4=1,\"#.0\",IF(Symbols!E4=2,\"#.00\",IF(Symbols!E4=3,\"#.000\",IF(Symbols!E4=4,\"#.0000\",IF(Symbols!E4=5,\"#.00000\",IF(Symbols!E4=6,\"#.000000\"))))))))","v":0},{"$f":"IF(Symbols!F4=\"B\",\"B\",IF(Symbols!F4=0,0,IF(Symbols!F4=1,\"#.0\",IF(Symbols!F4=2,\"#.00\",IF(Symbols!F4=3,\"#.000\",IF(Symbols!F4=4,\"#.0000\",IF(Symbols!F4=5,\"#.00000\",IF(Symbols!F4=6,\"#.000000\"))))))))","v":0},{"$f":"IF(Symbols!G4=\"B\",\"B\",IF(Symbols!G4=0,0,IF(Symbols!G4=1,\"#.0\",IF(Symbols!G4=2,\"#.00\",IF(Symbols!G4=3,\"#.000\",IF(Symbols!G4=4,\"#.0000\",IF(Symbols!G4=5,\"#.00000\",IF(Symbols!G4=6,\"#.000000\"))))))))","v":"#.00"},{"$f":"IF(Symbols!H4=\"B\",\"B\",IF(Symbols!H4=0,0,IF(Symbols!H4=1,\"#.0\",IF(Symbols!H4=2,\"#.00\",IF(Symbols!H4=3,\"#.000\",IF(Symbols!H4=4,\"#.0000\",IF(Symbols!H4=5,\"#.00000\",IF(Symbols!H4=6,\"#.000000\"))))))))","v":"#.00"},{"$f":"IF(Symbols!I4=\"B\",\"B\",IF(Symbols!I4=0,0,IF(Symbols!I4=1,\"#.0\",IF(Symbols!I4=2,\"#.00\",IF(Symbols!I4=3,\"#.000\",IF(Symbols!I4=4,\"#.0000\",IF(Symbols!I4=5,\"#.00000\",IF(Symbols!I4=6,\"#.000000\"))))))))","v":"#.00"},{"$f":"IF(Symbols!J4=\"B\",\"B\",IF(Symbols!J4=0,0,IF(Symbols!J4=1,\"#.0\",IF(Symbols!J4=2,\"#.00\",IF(Symbols!J4=3,\"#.000\",IF(Symbols!J4=4,\"#.0000\",IF(Symbols!J4=5,\"#.00000\",IF(Symbols!J4=6,\"#.000000\"))))))))","v":"#.000"},{"$f":"IF(Symbols!K4=\"B\",\"B\",IF(Symbols!K4=0,0,IF(Symbols!K4=1,\"#.0\",IF(Symbols!K4=2,\"#.00\",IF(Symbols!K4=3,\"#.000\",IF(Symbols!K4=4,\"#.0000\",IF(Symbols!K4=5,\"#.00000\",IF(Symbols!K4=6,\"#.000000\"))))))))","v":"#.000"},{"$f":"IF(Symbols!L4=\"B\",\"B\",IF(Symbols!L4=0,0,IF(Symbols!L4=1,\"#.0\",IF(Symbols!L4=2,\"#.00\",IF(Symbols!L4=3,\"#.000\",IF(Symbols!L4=4,\"#.0000\",IF(Symbols!L4=5,\"#.00000\",IF(Symbols!L4=6,\"#.000000\"))))))))","v":"#.00"},{"$f":"IF(Symbols!M4=\"B\",\"B\",IF(Symbols!M4=0,0,IF(Symbols!M4=1,\"#.0\",IF(Symbols!M4=2,\"#.00\",IF(Symbols!M4=3,\"#.000\",IF(Symbols!M4=4,\"#.0000\",IF(Symbols!M4=5,\"#.00000\",IF(Symbols!M4=6,\"#.000000\"))))))))","v":"#.00"},{"$f":"IF(Symbols!N4=\"B\",\"B\",IF(Symbols!N4=0,0,IF(Symbols!N4=1,\"#.0\",IF(Symbols!N4=2,\"#.00\",IF(Symbols!N4=3,\"#.000\",IF(Symbols!N4=4,\"#.0000\",IF(Symbols!N4=5,\"#.00000\",IF(Symbols!N4=6,\"#.000000\"))))))))","v":0}]
[null,"Symbols",null,"DD","DSX","YM","PIL","CLE","PLE","RBE","NGE","TFE","QFA"]
[null,null,"Decimals",2,0,0,2,2,2,3,3,2,2]
[null,"EP",2,{"$f":"IF(Symbols!C5=\"B\",\"B\",IF(Symbols!C5=0,0,IF(Symbols!C5=1,\"#.0\",IF(Symbols!C5=2,\"#.00\",IF(Symbols!C5=3,\"#.000\",IF(Symbols!C5=4,\"#.0000\",IF(Symbols!C5=5,\"#.00000\",IF(Symbols!C5=6,\"#.000000\"))))))))","v":"#.00"}]
[null,"ENQ",2,{"$f":"IF(Symbols!C6=\"B\",\"B\",IF(Symbols!C6=0,0,IF(Symbols!C6=1,\"#.0\",IF(Symbols!C6=2,\"#.00\",IF(Symbols!C6=3,\"#.000\",IF(Symbols!C6=4,\"#.0000\",IF(Symbols!C6=5,\"#.00000\",IF(Symbols!C6=6,\"#.000000\"))))))))","v":"#.00"},"Enter in, using all capitals, the symbols in the column to the left for the symbols in the first column of the Correlation matrix. This will also be the top row"]
[null,"EMD",2,{"$f":"IF(Symbols!C7=\"B\",\"B\",IF(Symbols!C7=0,0,IF(Symbols!C7=1,\"#.0\",IF(Symbols!C7=2,\"#.00\",IF(Symbols!C7=3,\"#.000\",IF(Symbols!C7=4,\"#.0000\",IF(Symbols!C7=5,\"#.00000\",IF(Symbols!C7=6,\"#.000000\"))))))))","v":"#.00"},"of market information on the main display. For price formatting, enter in the number of decimals or B for bonds and grains. "]
[null,"GCE",2,{"$f":"IF(Symbols!C8=\"B\",\"B\",IF(Symbols!C8=0,0,IF(Symbols!C8=1,\"#.0\",IF(Symbols!C8=2,\"#.00\",IF(Symbols!C8=3,\"#.000\",IF(Symbols!C8=4,\"#.0000\",IF(Symbols!C8=5,\"#.00000\",IF(Symbols!C8=6,\"#.000000\"))))))))","v":"#.00"}]
[null,"DXE",2,{"$f":"IF(Symbols!C9=\"B\",\"B\",IF(Symbols!C9=0,0,IF(Symbols!C9=1,\"#.0\",IF(Symbols!C9=2,\"#.00\",IF(Symbols!C9=3,\"#.000\",IF(Symbols!C9=4,\"#.0000\",IF(Symbols!C9=5,\"#.00000\",IF(Symbols!C9=6,\"#.000000\"))))))))","v":"#.00"},"Enter in, using all capitals, the symbols in the the top row above for the symbols along the top of the Correlation matrix. This will also be the bottom row"]
[null,"EU6",4,{"$f":"IF(Symbols!C10=\"B\",\"B\",IF(Symbols!C10=0,0,IF(Symbols!C10=1,\"#.0\",IF(Symbols!C10=2,\"#.00\",IF(Symbols!C10=3,\"#.000\",IF(Symbols!C10=4,\"#.0000\",IF(Symbols!C10=5,\"#.00000\",IF(Symbols!C10=6,\"#.000000\"))))))))","v":"#.0000"},"of market information on the main display. Enter in the number of decimals or B for bonds and grains. "]
[null,"JY6",6,{"$f":"IF(Symbols!C11=\"B\",\"B\",IF(Symbols!C11=0,0,IF(Symbols!C11=1,\"#.0\",IF(Symbols!C11=2,\"#.00\",IF(Symbols!C11=3,\"#.000\",IF(Symbols!C11=4,\"#.0000\",IF(Symbols!C11=5,\"#.00000\",IF(Symbols!C11=6,\"#.000000\"))))))))","v":"#.000000"}]
[null,"DA6",4,{"$f":"IF(Symbols!C12=\"B\",\"B\",IF(Symbols!C12=0,0,IF(Symbols!C12=1,\"#.0\",IF(Symbols!C12=2,\"#.00\",IF(Symbols!C12=3,\"#.000\",IF(Symbols!C12=4,\"#.0000\",IF(Symbols!C12=5,\"#.00000\",IF(Symbols!C12=6,\"#.000000\"))))))))","v":"#.0000"},"Click the \"Chart\" toolbar button on the Correlation matrix on the main display to change the scattergram chart to display"]
[null,"BP6",4,{"$f":"IF(Symbols!C13=\"B\",\"B\",IF(Symbols!C13=0,0,IF(Symbols!C13=1,\"#.0\",IF(Symbols!C13=2,\"#.00\",IF(Symbols!C13=3,\"#.000\",IF(Symbols!C13=4,\"#.0000\",IF(Symbols!C13=5,\"#.00000\",IF(Symbols!C13=6,\"#.000000\"))))))))","v":"#.0000"},"that row of correlation values relative to the market in the same row listed in the first column."]
[null,"MX6",6,{"$f":"IF(Symbols!C14=\"B\",\"B\",IF(Symbols!C14=0,0,IF(Symbols!C14=1,\"#.0\",IF(Symbols!C14=2,\"#.00\",IF(Symbols!C14=3,\"#.000\",IF(Symbols!C14=4,\"#.0000\",IF(Symbols!C14=5,\"#.00000\",IF(Symbols!C14=6,\"#.000000\"))))))))","v":"#.000000"}]
[null,null,null,null,"Enter in the time frame and look back period for the correlation analysis. The ranked correlation histogram bar chart will also used these parameters."]

{"sheet":"MainDisplay","index":1,"n_rows":56,"n_cols":34,"rows_kept":56,"cut":false,"hidden":false,"merged":[[25,24,25,25],[27,24,27,25],[29,24,29,25],[17,21,17,22],[19,21,19,22],[28,27,28,28],[18,13,18,16],[17,30,17,31],[19,30,19,31],[21,30,21,31],[17,24,17,25],[19,24,19,25],[21,24,21,25],[26,18,26,19],[26,21,26,22],[26,24,26,25],[26,27,26,28],[26,30,26,31],[28,30,28,31],[11,27,11,28],[13,27,13,28],[29,13,29,16],[15,27,15,28],[17,27,17,28],[19,27,19,28],[21,27,21,28],[23,27,23,28],[25,27,25,28],[27,27,27,28],[17,13,17,16],[19,13,19,16],[21,13,21,16],[23,13,23,16],[25,13,25,16],[27,13,27,16],[29,27,29,28],[23,24,23,25],[12,13,12,16],[16,13,16,16],[14,13,14,16],[11,24,11,25],[13,24,13,25],[15,24,15,25],[3,25,3,27],[4,22,5,24],[4,25,5,27],[3,28,3,30],[3,31,3,33],[4,28,5,30],[4,31,5,33],[3,22,3,24],[55,9,55,10],[55,11,55,12],[11,18,11,19],[13,18,13,19],[15,18,15,19],[17,18,17,19],[19,18,19,19],[21,18,21,19],[23,18,23,19],[25,18,25,19],[27,18,27,19],[29,18,29,19],[51,25,52,27],[50,28,50,30],[11,21,11,22],[13,21,13,22],[4,10,5,12],[4,13,5,15],[3,16,3,18],[3,19,3,21],[4,16,5,18],[4,19,5,21],[3,4,3,6],[4,4,5,6],[3,7,3,9],[4,7,5,9],[3,10,3,12],[51,28,52,30],[50,31,50,33],[51,31,52,33],[9,13,9,14],[9,15,9,16],[10,13,10,14],[10,15,10,16],[1,4,2,33],[50,13,50,15],[51,13,52,15],[50,4,50,6],[51,4,52,6],[50,7,50,9],[51,7,52,9],[50,10,50,12],[51,10,52,12],[50,16,50,18],[51,16,52,18],[50,19,50,21],[51,19,52,21],[50,22,50,24],[51,22,52,24],[50,25,50,27],[3,13,3,15],[8,4,8,12],[10,24,10,26],[9,26,9,28],[10,27,10,29],[9,29,9,31],[10,30,10,32],[9,32,9,33],[8,13,8,33],[10,18,10,20],[9,20,9,22],[10,21,10,23],[9,23,9,25],[15,21,15,22],[11,13,11,16],[13,13,13,16],[15,13,15,16],[11,30,11,31],[13,30,13,31],[30,18,30,19],[30,21,30,22],[12,30,12,31],[12,27,12,28],[12,24,12,25],[12,21,12,22],[12,18,12,19],[21,21,21,22],[23,21,23,22],[25,21,25,22],[27,21,27,22],[14,18,14,19],[14,21,14,22],[14,24,14,25],[14,27,14,28],[14,30,14,31],[24,27,24,28],[24,30,24,31],[15,30,15,31],[30,13,30,16],[29,21,29,22],[23,30,23,31],[25,30,25,31],[27,30,27,31],[29,30,29,31],[31,13,31,16],[16,30,16,31],[16,27,16,28],[16,24,16,25],[16,21,16,22],[16,18,16,19],[18,18,18,19],[18,21,18,22],[18,24,18,25],[18,27,18,28],[18,30,18,31],[20,18,20,19],[20,21,20,22],[20,24,20,25],[20,27,20,28],[20,30,20,31],[22,18,22,19],[32,13,32,33],[30,24,30,25],[30,27,30,28],[30,30,30,31],[28,13,28,16],[26,13,26,16],[24,13,24,16],[22,13,22,16],[20,13,20,16],[22,21,22,22],[22,24,22,25],[22,27,22,28],[22,30,22,31],[24,18,24,19],[24,21,24,22],[24,24,24,25],[31,18,31,19],[31,21,31,22],[31,24,31,25],[31,27,31,28],[31,30,31,31],[28,18,28,19],[28,21,28,22],[28,24,28,25]]}
[null,null,null,null,null,null,null,null,null,null,null,null,null,null,null,null,null,null,{"$f":"Data!C2","v":"DD"},null,{"$f":"Data!D2","v":"DSX"},{"$f":"Data!E2","v":"YM"},null,{"$f":"Data!F2","v":"PIL"},{"$f":"Data!G2","v":"CLE"},null,{"$f":"Data!H2","v":"PLE"},{"$f":"Data!I2","v":"RBE"},null,{"$f":"Data!J2","v":"NGE"},{"$f":"Data!K2","v":"TFE"},null,{"$f":"Data!L2","v":"QFA"}]
[null,15,15,null,"CQG Correlation Dashboard"]
[null,null,65]
[{"$f":"INDIRECT(\"Data!H\"&$B$2)","v":"EP vs YM"},{"$f":"INDIRECT(\"Data!J\"&$B$2)","v":0.95659353079999998},{"$f":"INDIRECT(\"Data!K\"&$B$2)","v":""},{"$f":"INDIRECT(\"Data!L\"&$B$2)","v":0.95659353079999998},{"$f":"RTD(\"cqg.rtd\", ,\"ContractData\",Symbols!B5, \"LongDescription\",, \"T\")","v":"E-Mini S&P 500, Jun 15"},null,null,{"$f":"RTD(\"cqg.rtd\", ,\"ContractData\",Symbols!B6, \"LongDescription\",, \"T\")","v":"E-mini NASDAQ-100, Jun 15"},null,null,{"$f":"RTD(\"cqg.rtd\", ,\"ContractData\",Symbols!B7, \"LongDescription\",, \"T\")","v":"E-mini MidCap 400, Jun 15"},null,null,{"$f":"RTD(\"cqg.rtd\", ,\"ContractData\",Symbols!B8, \"LongDescription\",, \"T\")","v":"Gold (Globex), Jun 15"},null,null,{"$f":"RTD(\"cqg.rtd\", ,\"ContractData\",Symbols!B9, \"LongDescription\",, \"T\")","v":"Dollar Index (ICE), Jun 15"},null,null,{"$f":"RTD(\"cqg.rtd\", ,\"ContractData\",Symbols!B10, \"LongDescription\",, \"T\")","v":"Euro FX (Globex), Jun 15"},null,null,{"$f":"RTD(\"cqg.rtd\", ,\"ContractData\",Symbols!B11, \"LongDescription\",, \"T\")","v":"Japanese Yen (Globex), Jun 15"},null,null,{"$f":"RTD(\"cqg.rtd\", ,\"ContractData\",Symbols!B12, \"LongDescription\",, \"T\")","v":"Australian Dollar (Globex), Jun 15"},null,null,{"$f":"RTD(\"cqg.rtd\", ,\"ContractData\",Symbols!B13, \"LongDescription\",, \"T\")","v":"British Pound (Globex), Jun 15"},null,null,{"$f":"RTD(\"cqg.rtd\", ,\"ContractData\",Symbols!B14, \"LongDescription\",, \"T\")","v":"Mexican Peso (Globex), Jun 15"}]
[{"$f":"INDIRECT(\"Data!H\"&$B$2+1)","v":"EMD vs TFE"},{"$f":"INDIRECT(\"Data!J\"&$B$2+1)","v":0.94141601620000004},{"$f":"INDIRECT(\"Data!K\"&$B$2+1)","v":""},{"$f":"INDIRECT(\"Data!L\"&$B$2+1)","v":0.94141601620000004},{"$f":"IF(Symbols!C5=\"B\",RTD(\"cqg.rtd\",,\"ContractData\",Symbols!B5,\"LastTrade\",,\"B\"),TEXT(RTD(\"cqg.rtd\",,\"ContractData\",Symbols!B5,\"LastTrade\",,\"T\"),Symbols!D5))","v":"2112.25"},null,null,{"$f":"IF(Symbols!C6=\"B\",RTD(\"cqg.rtd\",,\"ContractData\",Symbols!B6,\"LastTrade\",,\"B\"),TEXT(RTD(\"cqg.rtd\",,\"ContractData\",Symbols!B6,\"LastTrade\",,\"T\"),Symbols!D6))","v":"4488.75"},null,null,{"$f":"IF(Symbols!C7=\"B\",RTD(\"cqg.rtd\",,\"ContractData\",Symbols!B7,\"LastTrade\",,\"B\"),TEXT(RTD(\"cqg.rtd\",,\"ContractData\",Symbols!B7,\"LastTrade\",,\"T\"),Symbols!D7))","v":"1519.10"},null,null,{"$f":"IF(Symbols!C8=\"B\",RTD(\"cqg.rtd\",,\"ContractData\",Symbols!B8,\"LastTrade\",,\"B\"),TEXT(RTD(\"cqg.rtd\",,\"ContractData\",Symbols!B8,\"LastTrade\",,\"T\"),Symbols!D8))","v":"1188.60"},null,null,{"$f":"IF(Symbols!C9=\"B\",RTD(\"cqg.rtd\",,\"ContractData\",Symbols!B9,\"LastTrade\",,\"B\"),TEXT(RTD(\"cqg.rtd\",,\"ContractData\",Symbols!B9,\"LastTrade\",,\"T\"),Symbols!D9))","v":"95.65"},null,null,{"$f":"IF(Symbols!C10=\"B\",RTD(\"cqg.rtd\",,\"ContractData\",Symbols!B10,\"LastTrade\",,\"B\"),TEXT(RTD(\"cqg.rtd\",,\"ContractData\",Symbols!B10,\"LastTrade\",,\"T\"),Symbols!D10))","v":"1.1144"},null,null,{"$f":"IF(Symbols!C11=\"B\",RTD(\"cqg.rtd\",,\"ContractData\",Symbols!B11,\"LastTrade\",,\"B\"),TEXT(RTD(\"cqg.rtd\",,\"ContractData\",Symbols!B11,\"LastTrade\",,\"T\"),Symbols!D11))","v":".008331"},null,null,{"$f":"IF(Symbols!C12=\"B\",RTD(\"cqg.rtd\",,\"ContractData\",Symbols!B12,\"LastTrade\",,\"B\"),TEXT(RTD(\"cqg.rtd\",,\"ContractData\",Symbols!B12,\"LastTrade\",,\"T\"),Symbols!D12))","v":".7824"},null,null,{"$f":"IF(Symbols!C13=\"B\",RTD(\"cqg.rtd\",,\"ContractData\",Symbols!B13,\"LastTrade\",,\"B\"),TEXT(RTD(\"cqg.rtd\",,\"ContractData\",Symbols!B13,\"LastTrade\",,\"T\"),Symbols!D13))","v":"1.5108"},null,null,{"$f":"IF(Symbols!C14=\"B\",RTD(\"cqg.rtd\",,\"ContractData\",Symbols!B14,\"LastTrade\",,\"B\"),TEXT(RTD(\"cqg.rtd\",,\"ContractData\",Symbols!B14,\"LastTrade\",,\"T\"),Symbols!D14))","v":".064520"}]
[{"$f":"INDIRECT(\"Data!H\"&$B$2+2)","v":"EU6 vs CLE"},{"$f":"INDIRECT(\"Data!J\"&$B$2+2)","v":0.93999856969999995},{"$f":"INDIRECT(\"Data!K\"&$B$2+2)","v":""},{"$f":"INDIRECT(\"Data!L\"&$B$2+2)","v":0.93999856969999995}]
[{"$f":"INDIRECT(\"Data!H\"&$B$2+3)","v":"GCE vs PLE"},{"$f":"INDIRECT(\"Data!J\"&$B$2+3)","v":0.89937038819999993},{"$f":"INDIRECT(\"Data!K\"&$B$2+3)","v":""},{"$f":"INDIRECT(\"Data!L\"&$B$2+3)","v":0.89937038819999993},"H:",{"$f":"IF(Symbols!C5=\"B\",RTD(\"cqg.rtd\",,\"ContractData\",Symbols!B5,\"High\",,\"B\"),TEXT(RTD(\"cqg.rtd\",,\"ContractData\",Symbols!B5,\"High\",,\"T\"),Symbols!D5))","v":"2115.00"},{"$f":"IF(Symbols!C5=\"B\",RTD(\"cqg.rtd\",,\"ContractData\",Symbols!B5,\"NetLastQuoteToday\",,\"B\"),IF(RTD(\"cqg.rtd\",,\"ContractData\",Symbols!B5,\"NetLastQuoteToday\",,\"T\")>0,\"+\"&TEXT(RTD(\"cqg.rtd\",,\"ContractData\",Symbols!B5,\"NetLastQuoteToday\",,\"T\"),Symbols!D5),TEXT(RTD(\"cqg.rtd\",,\"ContractData\",Symbols!B5,\"NetLastQuoteToday\",,\"T\"),Symbols!D5)))","v":"+10.75"},"H:",{"$f":"IF(Symbols!C6=\"B\",RTD(\"cqg.rtd\",,\"ContractData\",Symbols!B6,\"High\",,\"B\"),TEXT(RTD(\"cqg.rtd\",,\"ContractData\",Symbols!B6,\"High\",,\"T\"),Symbols!D6))","v":""},{"$f":"IF(Symbols!C6=\"B\",RTD(\"cqg.rtd\",,\"ContractData\",Symbols!B6,\"NetLastQuoteToday\",,\"B\"),IF(RTD(\"cqg.rtd\",,\"ContractData\",Symbols!B6,\"NetLastQuoteToday\",,\"T\")>0,\"+\"&TEXT(RTD(\"cqg.rtd\",,\"ContractData\",Symbols!B6,\"NetLastQuoteToday\",,\"T\"),Symbols!D6),TEXT(RTD(\"cqg.rtd\",,\"ContractData\",Symbols!B6,\"NetLastQuoteToday\",,\"T\"),Symbols!D6)))","v":"+"},"H:",{"$f":"IF(Symbols!C7=\"B\",RTD(\"cqg.rtd\",,\"ContractData\",Symbols!B7,\"High\",,\"B\"),TEXT(RTD(\"cqg.rtd\",,\"ContractData\",Symbols!B7,\"High\",,\"T\"),Symbols!D7))","v":"1521.80"},{"$f":"IF(Symbols!C7=\"B\",RTD(\"cqg.rtd\",,\"ContractData\",Symbols!B7,\"NetLastQuoteToday\",,\"B\"),IF(RTD(\"cqg.rtd\",,\"ContractData\",Symbols!B7,\"NetLastQuoteToday\",,\"T\")>0,\"+\"&TEXT(RTD(\"cqg.rtd\",,\"ContractData\",Symbols!B7,\"NetLastQuoteToday\",,\"T\"),Symbols!D7),TEXT(RTD(\"cqg.rtd\",,\"ContractData\",Symbols!B7,\"NetLastQuoteToday\",,\"T\"),Symbols!D7)))","v":"+10.90"},"H:",{"$f":"IF(Symbols!C8=\"B\",RTD(\"cqg.rtd\",,\"ContractData\",Symbols!B8,\"High\",,\"B\"),TEXT(RTD(\"cqg.rtd\",,\"ContractData\",Symbols!B8,\"High\",,\"T\"),Symbols!D8))","v":""},{"$f":"IF(Symbols!C8=\"B\",RTD(\"cqg.rtd\",,\"ContractData\",Symbols!B8,\"NetLastQuoteToday\",,\"B\"),IF(RTD(\"cqg.rtd\",,\"ContractData\",Symbols!B8,\"NetLastQuoteToday\",,\"T\")>0,\"+\"&TEXT(RTD(\"cqg.rtd\",,\"ContractData\",Symbols!B8,\"NetLastQuoteToday\",,\"T\"),Symbols!D8),TEXT(RTD(\"cqg.rtd\",,\"ContractData\",Symbols!B8,\"NetLastQuoteToday\",,\"T\"),Symbols!D8)))","v":"+"},"H:",{"$f":"IF(Symbols!C9=\"B\",RTD(\"cqg.rtd\",,\"ContractData\",Symbols!B9,\"High\",,\"B\"),TEXT(RTD(\"cqg.rtd\",,\"ContractData\",Symbols!B9,\"High\",,\"T\"),Symbols!D9))","v":""},{"$f":"IF(Symbols!C9=\"B\",RTD(\"cqg.rtd\",,\"ContractData\",Symbols!B9,\"NetLastQuoteToday\",,\"B\"),IF(RTD(\"cqg.rtd\",,\"ContractData\",Symbols!B9,\"NetLastQuoteToday\",,\"T\")>0,\"+\"&TEXT(RTD(\"cqg.rtd\",,\"ContractData\",Symbols!B9,\"NetLastQuoteToday\",,\"T\"),Symbols!D9),TEXT(RTD(\"cqg.rtd\",,\"ContractData\",Symbols!B9,\"NetLastQuoteToday\",,\"T\"),Symbols!D9)))","v":"+"},"H:",{"$f":"IF(Symbols!C10=\"B\",RTD(\"cqg.rtd\",,\"ContractData\",Symbols!B10,\"High\",,\"B\"),TEXT(RTD(\"cqg.rtd\",,\"ContractData\",Symbols!B10,\"High\",,\"T\"),Symbols!D10))","v":""},{"$f":"IF(Symbols!C10=\"B\",RTD(\"cqg.rtd\",,\"ContractData\",Symbols!B10,\"NetLastQuoteToday\",,\"B\"),IF(RTD(\"cqg.rtd\",,\"ContractData\",Symbols!B10,\"NetLastQuoteToday\",,\"T\")>0,\"+\"&TEXT(RTD(\"cqg.rtd\",,\"ContractData\",Symbols!B10,\"NetLastQuoteToday\",,\"T\"),Symbols!D10),TEXT(RTD(\"cqg.rtd\",,\"ContractData\",Symbols!B10,\"NetLastQuoteToday\",,\"T\"),Symbols!D10)))","v":"+"},"H:",{"$f":"IF(Symbols!C8=\"B\",RTD(\"cqg.rtd\",,\"ContractData\",Symbols!B8,\"High\",,\"B\"),TEXT(RTD(\"cqg.rtd\",,\"ContractData\",Symbols!B8,\"High\",,\"T\"),Symbols!D8))","v":""},{"$f":"IF(Symbols!C11=\"B\",RTD(\"cqg.rtd\",,\"ContractData\",Symbols!B11,\"NetLastQuoteToday\",,\"B\"),IF(RTD(\"cqg.rtd\",,\"ContractData\",Symbols!B11,\"NetLastQuoteToday\",,\"T\")>0,\"+\"&TEXT(RTD(\"cqg.rtd\",,\"ContractData\",Symbols!B11,\"NetLastQuoteToday\",,\"T\"),Symbols!D11),TEXT(RTD(\"cqg.rtd\",,\"ContractData\",Symbols!B11,\"NetLastQuoteToday\",,\"T\"),Symbols!D5)))","v":"+"},"H:",{"$f":"IF(Symbols!C12=\"B\",RTD(\"cqg.rtd\",,\"ContractData\",Symbols!B12,\"High\",,\"B\"),TEXT(RTD(\"cqg.rtd\",,\"ContractData\",Symbols!B12,\"High\",,\"T\"),Symbols!D12))","v":""},{"$f":"IF(Symbols!C12=\"B\",RTD(\"cqg.rtd\",,\"ContractData\",Symbols!B12,\"NetLastQuoteToday\",,\"B\"),IF(RTD(\"cqg.rtd\",,\"ContractData\",Symbols!B12,\"NetLastQuoteToday\",,\"T\")>0,\"+\"&TEXT(RTD(\"cqg.rtd\",,\"ContractData\",Symbols!B12,\"NetLastQuoteToday\",,\"T\"),Symbols!D12),TEXT(RTD(\"cqg.rtd\",,\"ContractData\",Symbols!B12,\"NetLastQuoteToday\",,\"T\"),Symbols!D12)))","v":"+"},"H:",{"$f":"IF(Symbols!C13=\"B\",RTD(\"cqg.rtd\",,\"ContractData\",Symbols!B13,\"High\",,\"B\"),TEXT(RTD(\"cqg.rtd\",,\"ContractData\",Symbols!B13,\"High\",,\"T\"),Symbols!D13))","v":""},{"$f":"IF(Symbols!C13=\"B\",RTD(\"cqg.rtd\",,\"ContractData\",Symbols!B13,\"NetLastQuoteToday\",,\"B\"),IF(RTD(\"cqg.rtd\",,\"ContractData\",Symbols!B13,\"NetLastQuoteToday\",,\"T\")>0,\"+\"&TEXT(RTD(\"cqg.rtd\",,\"ContractData\",Symbols!B13,\"NetLastQuoteToday\",,\"T\"),Symbols!D13),TEXT(RTD(\"cqg.rtd\",,\"ContractData\",Symbols!B13,\"NetLastQuoteToday\",,\"T\"),Symbols!D12)))","v":"+"},"H:",{"$f":"IF(Symbols!C14=\"B\",RTD(\"cqg.rtd\",,\"ContractData\",Symbols!B14,\"High\",,\"B\"),TEXT(RTD(\"cqg.rtd\",,\"ContractData\",Symbols!B14,\"High\",,\"T\"),Symbols!D14))","v":".064630"},{"$f":"IF(Symbols!C14=\"B\",RTD(\"cqg.rtd\",,\"ContractData\",Symbols!B14,\"NetLastQuoteToday\",,\"B\"),IF(RTD(\"cqg.rtd\",,\"ContractData\",Symbols!B14,\"NetLastQuoteToday\",,\"T\")>0,\"+\"&TEXT(RTD(\"cqg.rtd\",,\"ContractData\",Symbols!B14,\"NetLastQuoteToday\",,\"T\"),Symbols!D14),TEXT(RTD(\"cqg.rtd\",,\"ContractData\",Symbols!B14,\"NetLastQuoteToday\",,\"T\"),Symbols!D5)))","v":"+.000580"}]
[{"$f":"INDIRECT(\"Data!H\"&$B$2+4)","v":"ENQ vs YM"},{"$f":"INDIRECT(\"Data!J\"&$B$2+4)","v":0.87390877759999996},{"$f":"INDIRECT(\"Data!K\"&$B$2+4)","v":""},{"$f":"INDIRECT(\"Data!L\"&$B$2+4)","v":0.87390877759999996},"L:",{"$f":"IF(Symbols!C5=\"B\",RTD(\"cqg.rtd\",,\"ContractData\",Symbols!B5,\"Low\",,\"B\"),TEXT(RTD(\"cqg.rtd\",,\"ContractData\",Symbols!B5,\"Low\",,\"T\"),Symbols!D5))","v":"2098.00"},{"$f":"IFERROR(RTD(\"cqg.rtd\", ,\"ContractData\",Symbols!B5, \"PerCentNetLastQuote\",, \"T\")/100,\"\")","v":5.1153937663573632E-3},"L:",{"$f":"IF(Symbols!C6=\"B\",RTD(\"cqg.rtd\",,\"ContractData\",Symbols!B6,\"Low\",,\"B\"),TEXT(RTD(\"cqg.rtd\",,\"ContractData\",Symbols!B6,\"Low\",,\"T\"),Symbols!D6))","v":""},{"$f":"IFERROR(RTD(\"cqg.rtd\", ,\"ContractData\",Symbols!B6, \"PerCentNetLastQuote\",, \"T\")/100,\"\")","v":""},"L:",{"$f":"IF(Symbols!C7=\"B\",RTD(\"cqg.rtd\",,\"ContractData\",Symbols!B7,\"Low\",,\"B\"),TEXT(RTD(\"cqg.rtd\",,\"ContractData\",Symbols!B7,\"Low\",,\"T\"),Symbols!D7))","v":"1506.20"},{"$f":"IFERROR(RTD(\"cqg.rtd\", ,\"ContractData\",Symbols!B7, \"PerCentNetLastQuote\",, \"T\")/100,\"\")","v":7.2271582018299963E-3},"L:",{"$f":"IF(Symbols!C8=\"B\",RTD(\"cqg.rtd\",,\"ContractData\",Symbols!B8,\"Low\",,\"B\"),TEXT(RTD(\"cqg.rtd\",,\"ContractData\",Symbols!B8,\"Low\",,\"T\"),Symbols!D8))","v":""},{"$f":"IFERROR(RTD(\"cqg.rtd\", ,\"ContractData\",Symbols!B8, \"PerCentNetLastQuote\",, \"T\")/100,\"\")","v":""},"L:",{"$f":"IF(Symbols!C9=\"B\",RTD(\"cqg.rtd\",,\"ContractData\",Symbols!B9,\"Low\",,\"B\"),TEXT(RTD(\"cqg.rtd\",,\"ContractData\",Symbols!B9,\"Low\",,\"T\"),Symbols!D9))","v":""},{"$f":"IFERROR(RTD(\"cqg.rtd\", ,\"ContractData\",Symbols!B9, \"PerCentNetLastQuote\",, \"T\")/100,\"\")","v":""},"L:",{"$f":"IF(Symbols!C10=\"B\",RTD(\"cqg.rtd\",,\"ContractData\",Symbols!B10,\"Low\",,\"B\"),TEXT(RTD(\"cqg.rtd\",,\"ContractData\",Symbols!B10,\"Low\",,\"T\"),Symbols!D10))","v":""},{"$f":"IFERROR(RTD(\"cqg.rtd\", ,\"ContractData\",Symbols!B10, \"PerCentNetLastQuote\",, \"T\")/100,\"\")","v":""},"L:",{"$f":"IF(Symbols!C11=\"B\",RTD(\"cqg.rtd\",,\"ContractData\",Symbols!B11,\"Low\",,\"B\"),TEXT(RTD(\"cqg.rtd\",,\"ContractData\",Symbols!B11,\"Low\",,\"T\"),Symbols!D11))","v":""},{"$f":"IFERROR(RTD(\"cqg.rtd\", ,\"ContractData\",Symbols!B11, \"PerCentNetLastQuote\",, \"T\")/100,\"\")","v":""},"L:",{"$f":"IF(Symbols!C12=\"B\",RTD(\"cqg.rtd\",,\"ContractData\",Symbols!B12,\"Low\",,\"B\"),TEXT(RTD(\"cqg.rtd\",,\"ContractData\",Symbols!B12,\"Low\",,\"T\"),Symbols!D12))","v":""},{"$f":"IFERROR(RTD(\"cqg.rtd\", ,\"ContractData\",Symbols!B12, \"PerCentNetLastQuote\",, \"T\")/100,\"\")","v":""},"L:",{"$f":"IF(Symbols!C13=\"B\",RTD(\"cqg.rtd\",,\"ContractData\",Symbols!B13,\"Low\",,\"B\"),TEXT(RTD(\"cqg.rtd\",,\"ContractData\",Symbols!B13,\"Low\",,\"T\"),Symbols!D13))","v":""},{"$f":"IFERROR(RTD(\"cqg.rtd\", ,\"ContractData\",Symbols!B13, \"PerCentNetLastQuote\",, \"T\")/100,\"\")","v":""},"L:",{"$f":"IF(Symbols!C14=\"B\",RTD(\"cqg.rtd\",,\"ContractData\",Symbols!B14,\"Low\",,\"B\"),TEXT(RTD(\"cqg.rtd\",,\"ContractData\",Symbols!B14,\"Low\",,\"T\"),Symbols!D14))","v":".063930"},{"$f":"IFERROR(RTD(\"cqg.rtd\", ,\"ContractData\",Symbols!B14, \"PerCentNetLastQuote\",, \"T\")/100,\"\")","v":9.0710040663121664E-3}]
[{"$f":"INDIRECT(\"Data!H\"&$B$2+5)","v":"DXE vs TFE"},{"$f":"INDIRECT(\"Data!J\"&$B$2+5)","v":0.86617419819999997},{"$f":"INDIRECT(\"Data!K\"&$B$2+5)","v":""},{"$f":"INDIRECT(\"Data!L\"&$B$2+5)","v":0.86617419819999997},"Ranked Correlations",null,null,null,null,null,null,null,null,"Correlations"]
[{"$f":"INDIRECT(\"Data!H\"&$B$2+6)","v":"EMD vs QFA"},{"$f":"INDIRECT(\"Data!J\"&$B$2+6)","v":0.84882179809999991},{"$f":"INDIRECT(\"Data!K\"&$B$2+6)","v":""},{"$f":"INDIRECT(\"Data!L\"&$B$2+6)","v":0.84882179809999991},null,null,null,null,null,null,null,null,null,"Time Frame",null,"Look Back",null,null,null,null,{"$f":"RTD(\"cqg.rtd\", ,\"ContractData\",Data!D2, \"LongDescription\",, \"T\")","v":"Euro STOXX 50, Jun 15"},null,null,{"$f":"RTD(\"cqg.rtd\", ,\"ContractData\",Data!F2, \"LongDescription\",, \"T\")","v":"CAC40, May 15"},null,null,{"$f":"RTD(\"cqg.rtd\", ,\"ContractData\",Data!H2, \"LongDescription\",, \"T\")","v":"Platinum (Globex), Jul 15"},null,null,{"$f":"RTD(\"cqg.rtd\", ,\"ContractData\",Data!J2, \"LongDescription\",, \"T\")","v":"Natural Gas (Globex), Jun 15"},null,null,{"$f":"RTD(\"cqg.rtd\", ,\"ContractData\",Data!L2, \"LongDescription\",, \"T\")","v":"FTSE 100 - Stnd Index, Jun 15"}]
[{"$f":"INDIRECT(\"Data!H\"&$B$2+7)","v":"EU6 vs RBE"},{"$f":"INDIRECT(\"Data!J\"&$B$2+7)","v":0.84872542940000006},{"$f":"INDIRECT(\"Data!K\"&$B$2+7)","v":""},{"$f":"INDIRECT(\"Data!L\"&$B$2+7)","v":0.84872542940000006},null,null,null,null,null,null,null,null,null,"D",null,10,null,null,{"$f":"RTD(\"cqg.rtd\", ,\"ContractData\",Data!C2, \"LongDescription\",, \"T\")","v":"DAX Index, Jun 15"},null,null,{"$f":"RTD(\"cqg.rtd\", ,\"ContractData\",Data!E2, \"LongDescription\",, \"T\")","v":"E-mini Dow ($5), Jun 15"},null,null,{"$f":"RTD(\"cqg.rtd\", ,\"ContractData\",Data!G2, \"LongDescription\",, \"T\")","v":"Crude Light (Globex), Jun 15"},null,null,{"$f":"RTD(\"cqg.rtd\", ,\"ContractData\",Data!I2, \"LongDescription\",, \"T\")","v":"RBOB Gasoline (Globex), Jun 15"},null,null,{"$f":"RTD(\"cqg.rtd\", ,\"ContractData\",Data!K2, \"LongDescription\",, \"T\")","v":"Russell 2000 Index Mini, Jun 15"}]
[{"$f":"INDIRECT(\"Data!H\"&$B$2+8)","v":"DXE vs PIL"},{"$f":"INDIRECT(\"Data!J\"&$B$2+8)","v":0.82302067140000001},{"$f":"INDIRECT(\"Data!K\"&$B$2+8)","v":""},{"$f":"INDIRECT(\"Data!L\"&$B$2+8)","v":0.82302067140000001},null,null,null,null,null,null,null,null,null,{"$f":"RTD(\"cqg.rtd\", ,\"ContractData\",Symbols!B5, \"LongDescription\",, \"T\")","v":"E-Mini S&P 500, Jun 15"},null,null,null,{"$f":"Symbols!B5","v":"EP"},{"$f":"Data!C3","v":0.13615007869999998},null,{"$f":"Data!D3","v":0.22299619270000001},{"$f":"Data!E3","v":0.95659353079999998},null,{"$f":"Data!F3","v":0.38823862279999999},{"$f":"Data!G3","v":-0.24033074419999997},null,{"$f":"Data!H3","v":-9.5899752199999994E-2},{"$f":"Data!I3","v":0.17526907110000001},null,{"$f":"Data!J3","v":-0.2532428907},{"$f":"Data!K3","v":0.43722661899999998},null,{"$f":"Data!L3","v":0.48387143199999999}]
[{"$f":"INDIRECT(\"Data!H\"&$B$2+9)","v":"DXE vs DD"},{"$f":"INDIRECT(\"Data!J\"&$B$2+9)","v":0.81968485060000007},{"$f":"INDIRECT(\"Data!K\"&$B$2+9)","v":""},{"$f":"INDIRECT(\"Data!L\"&$B$2+9)","v":0.81968485060000007},null,null,null,null,null,null,null,null,null,{"$f":"$N$12","v":"E-Mini S&P 500, Jun 15"},null,null,null,null,{"$f":"$S$12","v":0.13615007869999998},null,{"$f":"$U$12","v":0.22299619270000001},{"$f":"$V$12","v":0.95659353079999998},null,{"$f":"$X$12","v":0.38823862279999999},{"$f":"$Y$12","v":-0.24033074419999997},null,{"$f":"$AA$12","v":-9.5899752199999994E-2},{"$f":"$AB$12","v":0.17526907110000001},null,{"$f":"$AD$12","v":-0.2532428907},{"$f":"$AE$12","v":0.43722661899999998},null,{"$f":"$AG$12","v":0.48387143199999999}]
[{"$f":"INDIRECT(\"Data!H\"&$B$2+10)","v":"EMD vs PIL"},{"$f":"INDIRECT(\"Data!J\"&$B$2+10)","v":0.80082269819999996},{"$f":"INDIRECT(\"Data!K\"&$B$2+10)","v":""},{"$f":"INDIRECT(\"Data!L\"&$B$2+10)","v":0.80082269819999996},null,null,null,null,null,null,null,null,null,{"$f":"RTD(\"cqg.rtd\", ,\"ContractData\",Symbols!B6, \"LongDescription\",, \"T\")","v":"E-mini NASDAQ-100, Jun 15"},null,null,null,{"$f":"Symbols!B6","v":"ENQ"},{"$f":"Data!C4","v":0.14852657969999999},null,{"$f":"Data!D4","v":0.30008779899999999},{"$f":"Data!E4","v":0.87390877759999996},null,{"$f":"Data!F4","v":0.35044319100000004},{"$f":"Data!G4","v":-0.26586857259999996},null,{"$f":"Data!H4","v":6.6041002400000007E-2},{"$f":"Data!I4","v":0.26552471910000003},null,{"$f":"Data!J4","v":-0.52739552590000005},{"$f":"Data!K4","v":0.39711874709999995},null,{"$f":"Data!L4","v":0.4723335978}]
[{"$f":"INDIRECT(\"Data!H\"&$B$2+11)","v":"DXE vs QFA"},{"$f":"INDIRECT(\"Data!J\"&$B$2+11)","v":0.7528931258999999},{"$f":"INDIRECT(\"Data!K\"&$B$2+11)","v":""},{"$f":"INDIRECT(\"Data!L\"&$B$2+11)","v":0.7528931258999999},null,null,null,null,null,null,null,null,null,{"$f":"$N$14","v":"E-mini NASDAQ-100, Jun 15"},null,null,null,null,{"$f":"$S$14","v":0.14852657969999999},null,{"$f":"$U$14","v":0.30008779899999999},{"$f":"$V$14","v":0.87390877759999996},null,{"$f":"$X$14","v":0.35044319100000004},{"$f":"$Y$14","v":-0.26586857259999996},null,{"$f":"$AA$14","v":6.6041002400000007E-2},{"$f":"$AB$14","v":0.26552471910000003},null,{"$f":"$AD$14","v":-0.52739552590000005},{"$f":"$AE$14","v":0.39711874709999995},null,{"$f":"$AG$14","v":0.4723335978}]
[{"$f":"INDIRECT(\"Data!H\"&$B$2+12)","v":"DXE vs DSX"},{"$f":"INDIRECT(\"Data!J\"&$B$2+12)","v":0.73405670029999992},{"$f":"INDIRECT(\"Data!K\"&$B$2+12)","v":""},{"$f":"INDIRECT(\"Data!L\"&$B$2+12)","v":0.73405670029999992},null,null,null,null,null,null,null,null,null,{"$f":"RTD(\"cqg.rtd\", ,\"ContractData\",Symbols!B7, \"LongDescription\",, \"T\")","v":"E-mini MidCap 400, Jun 15"},null,null,null,{"$f":"Symbols!B7","v":"EMD"},{"$f":"Data!C5","v":0.58870034830000006},null,{"$f":"Data!D5","v":0.58345562939999995},{"$f":"Data!E5","v":0.65842993419999996},null,{"$f":"Data!F5","v":0.80082269819999996},{"$f":"Data!G5","v":-0.77668456109999995},null,{"$f":"Data!H5","v":-0.15206072170000001},{"$f":"Data!I5","v":-0.56451109300000002},null,{"$f":"Data!J5","v":-0.57717753770000002},{"$f":"Data!K5","v":0.94141601620000004},null,{"$f":"Data!L5","v":0.84882179809999991}]
[{"$f":"INDIRECT(\"Data!H\"&$B$2+13)","v":"EMD vs YM"},{"$f":"INDIRECT(\"Data!J\"&$B$2+13)","v":0.65842993419999996},{"$f":"INDIRECT(\"Data!K\"&$B$2+13)","v":""},{"$f":"INDIRECT(\"Data!L\"&$B$2+13)","v":0.65842993419999996},null,null,null,null,null,null,null,null,null,{"$f":"$N$16","v":"E-mini MidCap 400, Jun 15"},null,null,null,null,{"$f":"$S$16","v":0.58870034830000006},null,{"$f":"$U$16","v":0.58345562939999995},{"$f":"$V$16","v":0.65842993419999996},null,{"$f":"$X$16","v":0.80082269819999996},{"$f":"$Y$16","v":-0.77668456109999995},null,{"$f":"$AA$16","v":-0.15206072170000001},{"$f":"$AB$16","v":-0.56451109300000002},null,{"$f":"$AD$16","v":-0.57717753770000002},{"$f":"$AE$16","v":0.94141601620000004},null,{"$f":"$AG$16","v":0.84882179809999991}]
[{"$f":"INDIRECT(\"Data!H\"&$B$2+14)","v":"EU6 vs NGE"},{"$f":"INDIRECT(\"Data!J\"&$B$2+14)","v":0.64116444279999996},{"$f":"INDIRECT(\"Data!K\"&$B$2+14)","v":""},{"$f":"INDIRECT(\"Data!L\"&$B$2+14)","v":0.64116444279999996},null,null,null,null,null,null,null,null,null,{"$f":"RTD(\"cqg.rtd\", ,\"ContractData\",Symbols!B8, \"LongDescription\",, \"T\")","v":"Gold (Globex), Jun 15"},null,null,null,{"$f":"Symbols!B8","v":"GCE"},{"$f":"Data!C6","v":0.1221561015},null,{"$f":"Data!D6","v":0.1388292136},{"$f":"Data!E6","v":0.26635958479999999},null,{"$f":"Data!F6","v":9.7663337699999991E-2},{"$f":"Data!G6","v":-0.3337297588},null,{"$f":"Data!H6","v":0.89937038819999993},{"$f":"Data!I6","v":-0.31963383579999999},null,{"$f":"Data!J6","v":-0.56652372399999995},{"$f":"Data!K6","v":0.32870167700000003},null,{"$f":"Data!L6","v":0.20515162310000001}]
[{"$f":"INDIRECT(\"Data!H\"&$B$2+15)","v":"BP6 vs RBE"},{"$f":"INDIRECT(\"Data!J\"&$B$2+15)","v":0.6343058211},{"$f":"INDIRECT(\"Data!K\"&$B$2+15)","v":""},{"$f":"INDIRECT(\"Data!L\"&$B$2+15)","v":0.6343058211},null,null,null,null,null,null,null,null,null,{"$f":"$N$18","v":"Gold (Globex), Jun 15"},null,null,null,null,{"$f":"$S$18","v":0.1221561015},null,{"$f":"$U$18","v":0.1388292136},{"$f":"$V$18","v":0.26635958479999999},null,{"$f":"$X$18","v":9.7663337699999991E-2},{"$f":"$Y$18","v":-0.3337297588},null,{"$f":"$AA$18","v":0.89937038819999993},{"$f":"$AB$18","v":-0.31963383579999999},null,{"$f":"$AD$18","v":-0.56652372399999995},{"$f":"$AE$18","v":0.32870167700000003},null,{"$f":"$AG$18","v":0.20515162310000001}]
[{"$f":"INDIRECT(\"Data!H\"&$B$2+16)","v":"EMD vs DD"},{"$f":"INDIRECT(\"Data!J\"&$B$2+16)","v":0.58870034830000006},{"$f":"INDIRECT(\"Data!K\"&$B$2+16)","v":""},{"$f":"INDIRECT(\"Data!L\"&$B$2+16)","v":0.58870034830000006},null,null,null,null,null,null,null,null,null,{"$f":"RTD(\"cqg.rtd\", ,\"ContractData\",Symbols!B9, \"LongDescription\",, \"T\")","v":"Dollar Index (ICE), Jun 15"},null,null,null,{"$f":"Symbols!B9","v":"DXE"},{"$f":"Data!C7","v":0.81968485060000007},null,{"$f":"Data!D7","v":0.73405670029999992},{"$f":"Data!E7","v":0.22849753369999998},null,{"$f":"Data!F7","v":0.82302067140000001},{"$f":"Data!G7","v":-0.90155218619999999},null,{"$f":"Data!H7","v":-0.21719623869999999},{"$f":"Data!I7","v":-0.86328056959999999},null,{"$f":"Data!J7","v":-0.51209359620000006},{"$f":"Data!K7","v":0.86617419819999997},null,{"$f":"Data!L7","v":0.7528931258999999}]
[{"$f":"INDIRECT(\"Data!H\"&$B$2+17)","v":"MX6 vs PLE"},{"$f":"INDIRECT(\"Data!J\"&$B$2+17)","v":0.5870908319},{"$f":"INDIRECT(\"Data!K\"&$B$2+17)","v":""},{"$f":"INDIRECT(\"Data!L\"&$B$2+17)","v":0.5870908319},null,null,null,null,null,null,null,null,null,{"$f":"$N$20","v":"Dollar Index (ICE), Jun 15"},null,null,null,null,{"$f":"$S$20","v":0.81968485060000007},null,{"$f":"$U$20","v":0.73405670029999992},{"$f":"$V$20","v":0.22849753369999998},null,{"$f":"$X$20","v":0.82302067140000001},{"$f":"$Y$20","v":-0.90155218619999999},null,{"$f":"$AA$20","v":-0.21719623869999999},{"$f":"$AB$20","v":-0.86328056959999999},null,{"$f":"$AD$20","v":-0.51209359620000006},{"$f":"$AE$20","v":0.86617419819999997},null,{"$f":"$AG$20","v":0.7528931258999999}]
[{"$f":"INDIRECT(\"Data!H\"&$B$2+18)","v":"EMD vs DSX"},{"$f":"INDIRECT(\"Data!J\"&$B$2+18)","v":0.58345562939999995},{"$f":"INDIRECT(\"Data!K\"&$B$2+18)","v":""},{"$f":"INDIRECT(\"Data!L\"&$B$2+18)","v":0.58345562939999995},null,null,null,null,null,null,null,null,null,{"$f":"RTD(\"cqg.rtd\", ,\"ContractData\",Symbols!B10, \"LongDescription\",, \"T\")","v":"Euro FX (Globex), Jun 15"},null,null,null,{"$f":"Symbols!B10","v":"EU6"},{"$f":"Data!C8","v":-0.83463596039999999},null,{"$f":"Data!D8","v":-0.77387619119999995},{"$f":"Data!E8","v":-0.28598835509999998},null,{"$f":"Data!F8","v":-0.85829543110000006},{"$f":"Data!G8","v":0.93999856969999995},null,{"$f":"Data!H8","v":0.12820617049999999},{"$f":"Data!I8","v":0.84872542940000006},null,{"$f":"Data!J8","v":0.64116444279999996},{"$f":"Data!K8","v":-0.9236491644},null,{"$f":"Data!L8","v":-0.81256737229999998}]
[{"$f":"INDIRECT(\"Data!H\"&$B$2+19)","v":"DA6 vs RBE"},{"$f":"INDIRECT(\"Data!J\"&$B$2+19)","v":0.55253450049999997},{"$f":"INDIRECT(\"Data!K\"&$B$2+19)","v":""},{"$f":"INDIRECT(\"Data!L\"&$B$2+19)","v":0.55253450049999997},null,null,null,null,null,null,null,null,null,{"$f":"$N$22","v":"Euro FX (Globex), Jun 15"},null,null,null,null,{"$f":"$S$22","v":-0.83463596039999999},null,{"$f":"$U$22","v":-0.77387619119999995},{"$f":"$V$22","v":-0.28598835509999998},null,{"$f":"$X$22","v":-0.85829543110000006},{"$f":"$Y$22","v":0.93999856969999995},null,{"$f":"$AA$22","v":0.12820617049999999},{"$f":"$AB$22","v":0.84872542940000006},null,{"$f":"$AD$22","v":0.64116444279999996},{"$f":"$AE$22","v":-0.9236491644},null,{"$f":"$AG$22","v":-0.81256737229999998}]
[{"$f":"INDIRECT(\"Data!H\"&$B$2+20)","v":"DA6 vs PLE"},{"$f":"INDIRECT(\"Data!J\"&$B$2+20)","v":0.52348291120000001},{"$f":"INDIRECT(\"Data!K\"&$B$2+20)","v":""},{"$f":"INDIRECT(\"Data!L\"&$B$2+20)","v":0.52348291120000001},null,null,null,null,null,null,null,null,null,{"$f":"RTD(\"cqg.rtd\", ,\"ContractData\",Symbols!B11, \"LongDescription\",, \"T\")","v":"Japanese Yen (Globex), Jun 15"},null,null,null,{"$f":"Symbols!B11","v":"JY6"},{"$f":"Data!C9","v":1.40909001E-2},null,{"$f":"Data!D9","v":0.17379331669999998},{"$f":"Data!E9","v":0.23562196120000001},null,{"$f":"Data!F9","v":5.9084612200000004E-2},{"$f":"Data!G9","v":-0.28346756670000001},null,{"$f":"Data!H9","v":0.30897664890000004},{"$f":"Data!I9","v":4.1295026200000001E-2},null,{"$f":"Data!J9","v":-0.78952458699999994},{"$f":"Data!K9","v":0.38977908859999999},null,{"$f":"Data!L9","v":0.23781292530000001}]
[{"$f":"INDIRECT(\"Data!H\"&$B$2+21)","v":"EP vs QFA"},{"$f":"INDIRECT(\"Data!J\"&$B$2+21)","v":0.48387143199999999},{"$f":"INDIRECT(\"Data!K\"&$B$2+21)","v":""},{"$f":"INDIRECT(\"Data!L\"&$B$2+21)","v":0.48387143199999999},null,null,null,null,null,null,null,null,null,{"$f":"$N$24","v":"Japanese Yen (Globex), Jun 15"},null,null,null,null,{"$f":"$S$24","v":1.40909001E-2},null,{"$f":"$U$24","v":0.17379331669999998},{"$f":"$V$24","v":0.23562196120000001},null,{"$f":"$X$24","v":5.9084612200000004E-2},{"$f":"$Y$24","v":-0.28346756670000001},null,{"$f":"$AA$24","v":0.30897664890000004},{"$f":"$AB$24","v":4.1295026200000001E-2},null,{"$f":"$AD$24","v":-0.78952458699999994},{"$f":"$AE$24","v":0.38977908859999999},null,{"$f":"$AG$24","v":0.23781292530000001}]
[{"$f":"INDIRECT(\"Data!H\"&$B$2+22)","v":"ENQ vs QFA"},{"$f":"INDIRECT(\"Data!J\"&$B$2+22)","v":0.4723335978},{"$f":"INDIRECT(\"Data!K\"&$B$2+22)","v":""},{"$f":"INDIRECT(\"Data!L\"&$B$2+22)","v":0.4723335978},null,null,null,null,null,null,null,null,null,{"$f":"RTD(\"cqg.rtd\", ,\"ContractData\",Symbols!B12, \"LongDescription\",, \"T\")","v":"Australian Dollar (Globex), Jun 15"},null,null,null,{"$f":"Symbols!B12","v":"DA6"},{"$f":"Data!C10","v":-0.6048081676},null,{"$f":"Data!D10","v":-0.4602335534},{"$f":"Data!E10","v":0.14285272199999999},null,{"$f":"Data!F10","v":-0.52215390679999996},{"$f":"Data!G10","v":0.38740339880000002},null,{"$f":"Data!H10","v":0.52348291120000001},{"$f":"Data!I10","v":0.55253450049999997},null,{"$f":"Data!J10","v":-0.1118109697},{"$f":"Data!K10","v":-0.33489219539999998},null,{"$f":"Data!L10","v":-0.41129500530000002}]
[{"$f":"INDIRECT(\"Data!H\"&$B$2+23)","v":"BP6 vs CLE"},{"$f":"INDIRECT(\"Data!J\"&$B$2+23)","v":0.45457787840000002},{"$f":"INDIRECT(\"Data!K\"&$B$2+23)","v":""},{"$f":"INDIRECT(\"Data!L\"&$B$2+23)","v":0.45457787840000002},null,null,null,null,null,null,null,null,null,{"$f":"$N$26","v":"Australian Dollar (Globex), Jun 15"},null,null,null,null,{"$f":"$S$26","v":-0.6048081676},null,{"$f":"$U$26","v":-0.4602335534},{"$f":"$V$26","v":0.14285272199999999},null,{"$f":"$X$26","v":-0.52215390679999996},{"$f":"$Y$26","v":0.38740339880000002},null,{"$f":"$AA$26","v":0.52348291120000001},{"$f":"$AB$26","v":0.55253450049999997},null,{"$f":"$AD$26","v":-0.1118109697},{"$f":"$AE$26","v":-0.33489219539999998},null,{"$f":"$AG$26","v":-0.41129500530000002}]
[{"$f":"INDIRECT(\"Data!H\"&$B$2+24)","v":"EP vs TFE"},{"$f":"INDIRECT(\"Data!J\"&$B$2+24)","v":0.43722661899999998},{"$f":"INDIRECT(\"Data!K\"&$B$2+24)","v":""},{"$f":"INDIRECT(\"Data!L\"&$B$2+24)","v":0.43722661899999998},null,null,null,null,null,null,null,null,null,{"$f":"RTD(\"cqg.rtd\", ,\"ContractData\",Symbols!B13, \"LongDescription\",, \"T\")","v":"British Pound (Globex), Jun 15"},null,null,null,{"$f":"Symbols!B13","v":"BP6"},{"$f":"Data!C11","v":-0.61754386150000007},null,{"$f":"Data!D11","v":-0.44545219330000002},{"$f":"Data!E11","v":-4.4355273000000001E-2},null,{"$f":"Data!F11","v":-0.54145820349999996},{"$f":"Data!G11","v":0.45457787840000002},null,{"$f":"Data!H11","v":0.3849366179},{"$f":"Data!I11","v":0.6343058211},null,{"$f":"Data!J11","v":-0.10640171520000001},{"$f":"Data!K11","v":-0.42200653090000001},null,{"$f":"Data!L11","v":-0.44698271379999999}]
[{"$f":"INDIRECT(\"Data!H\"&$B$2+25)","v":"ENQ vs TFE"},{"$f":"INDIRECT(\"Data!J\"&$B$2+25)","v":0.39711874709999995},{"$f":"INDIRECT(\"Data!K\"&$B$2+25)","v":""},{"$f":"INDIRECT(\"Data!L\"&$B$2+25)","v":0.39711874709999995},null,null,null,null,null,null,null,null,null,{"$f":"$N$28","v":"British Pound (Globex), Jun 15"},null,null,null,null,{"$f":"$S$28","v":-0.61754386150000007},null,{"$f":"$U$28","v":-0.44545219330000002},{"$f":"$V$28","v":-4.4355273000000001E-2},null,{"$f":"$X$28","v":-0.54145820349999996},{"$f":"$Y$28","v":0.45457787840000002},null,{"$f":"$AA$28","v":0.3849366179},{"$f":"$AB$28","v":0.6343058211},null,{"$f":"$AD$28","v":-0.10640171520000001},{"$f":"$AE$28","v":-0.42200653090000001},null,{"$f":"$AG$28","v":-0.44698271379999999}]
[{"$f":"INDIRECT(\"Data!H\"&$B$2+26)","v":"JY6 vs TFE"},{"$f":"INDIRECT(\"Data!J\"&$B$2+26)","v":0.38977908859999999},{"$f":"INDIRECT(\"Data!K\"&$B$2+26)","v":""},{"$f":"INDIRECT(\"Data!L\"&$B$2+26)","v":0.38977908859999999},null,null,null,null,null,null,null,null,null,{"$f":"RTD(\"cqg.rtd\", ,\"ContractData\",Symbols!B14, \"LongDescription\",, \"T\")","v":"Mexican Peso (Globex), Jun 15"},null,null,null,{"$f":"Symbols!B14","v":"MX6"},{"$f":"Data!C12","v":-0.51135608300000002},null,{"$f":"Data!D12","v":-0.341354294},{"$f":"Data!E12","v":0.16987791460000001},null,{"$f":"Data!F12","v":-0.35475820419999998},{"$f":"Data!G12","v":-3.4623509900000002E-2},null,{"$f":"Data!H12","v":0.5870908319},{"$f":"Data!I12","v":0.11488465389999999},null,{"$f":"Data!J12","v":-0.54540871699999993},{"$f":"Data!K12","v":0.184834262},null,{"$f":"Data!L12","v":-0.17022792310000001}]
[{"$f":"INDIRECT(\"Data!H\"&$B$2+27)","v":"EP vs PIL"},{"$f":"INDIRECT(\"Data!J\"&$B$2+27)","v":0.38823862279999999},{"$f":"INDIRECT(\"Data!K\"&$B$2+27)","v":""},{"$f":"INDIRECT(\"Data!L\"&$B$2+27)","v":0.38823862279999999},null,null,null,null,null,null,null,null,null,{"$f":"$N$30","v":"Mexican Peso (Globex), Jun 15"},null,null,null,null,{"$f":"$S$30","v":-0.51135608300000002},null,{"$f":"$U$30","v":-0.341354294},{"$f":"$V$30","v":0.16987791460000001},null,{"$f":"$X$30","v":-0.35475820419999998},{"$f":"$Y$30","v":-3.4623509900000002E-2},null,{"$f":"$AA$30","v":0.5870908319},{"$f":"$AB$30","v":0.11488465389999999},null,{"$f":"$AD$30","v":-0.54540871699999993},{"$f":"$AE$30","v":0.184834262},null,{"$f":"$AG$30","v":-0.17022792310000001}]
[{"$f":"INDIRECT(\"Data!H\"&$B$2+28)","v":"DA6 vs CLE"},{"$f":"INDIRECT(\"Data!J\"&$B$2+28)","v":0.38740339880000002},{"$f":"INDIRECT(\"Data!K\"&$B$2+28)","v":""},{"$f":"INDIRECT(\"Data!L\"&$B$2+28)","v":0.38740339880000002},null,null,null,null,null,null,null,null,null,{"$f":"$N$20","v":"Dollar Index (ICE), Jun 15"},null,null,null,null,{"$f":"$S$20","v":0.81968485060000007},null,{"$f":"$U$20","v":0.73405670029999992},{"$f":"$V$20","v":0.22849753369999998},null,{"$f":"$X$20","v":0.82302067140000001},{"$f":"$Y$20","v":-0.90155218619999999},null,{"$f":"$AA$20","v":-0.21719623869999999},{"$f":"$AB$20","v":-0.86328056959999999},null,{"$f":"$AD$20","v":-0.51209359620000006},{"$f":"$AE$20","v":0.86617419819999997},null,{"$f":"$AG$20","v":0.7528931258999999}]
[{"$f":"INDIRECT(\"Data!H\"&$B$2+29)","v":"BP6 vs PLE"},{"$f":"INDIRECT(\"Data!J\"&$B$2+29)","v":0.3849366179},{"$f":"INDIRECT(\"Data!K\"&$B$2+29)","v":""},{"$f":"INDIRECT(\"Data!L\"&$B$2+29)","v":0.3849366179},null,null,null,null,null,null,null,null,null,{"$f":"\"Correlations relative to the  \"&N32","v":"Correlations relative to the  Dollar Index (ICE), Jun 15"}]
[{"$f":"INDIRECT(\"Data!H\"&$B$2+30)","v":"ENQ vs PIL"},{"$f":"INDIRECT(\"Data!J\"&$B$2+30)","v":0.35044319100000004},{"$f":"INDIRECT(\"Data!K\"&$B$2+30)","v":""},{"$f":"INDIRECT(\"Data!L\"&$B$2+30)","v":0.35044319100000004}]
[{"$f":"INDIRECT(\"Data!H\"&$B$2+31)","v":"GCE vs TFE"},{"$f":"INDIRECT(\"Data!J\"&$B$2+31)","v":0.32870167700000003},{"$f":"INDIRECT(\"Data!K\"&$B$2+31)","v":""},{"$f":"INDIRECT(\"Data!L\"&$B$2+31)","v":0.32870167700000003}]
[{"$f":"INDIRECT(\"Data!H\"&$B$2+32)","v":"JY6 vs PLE"},{"$f":"INDIRECT(\"Data!J\"&$B$2+32)","v":0.30897664890000004},{"$f":"INDIRECT(\"Data!K\"&$B$2+32)","v":""},{"$f":"INDIRECT(\"Data!L\"&$B$2+32)","v":0.30897664890000004}]
[{"$f":"INDIRECT(\"Data!H\"&$B$2+33)","v":"ENQ vs DSX"},{"$f":"INDIRECT(\"Data!J\"&$B$2+33)","v":0.30008779899999999},{"$f":"INDIRECT(\"Data!K\"&$B$2+33)","v":""},{"$f":"INDIRECT(\"Data!L\"&$B$2+33)","v":0.30008779899999999}]
[{"$f":"INDIRECT(\"Data!H\"&$B$2+34)","v":"GCE vs YM"},{"$f":"INDIRECT(\"Data!J\"&$B$2+34)","v":0.26635958479999999},{"$f":"INDIRECT(\"Data!K\"&$B$2+34)","v":""},{"$f":"INDIRECT(\"Data!L\"&$B$2+34)","v":0.26635958479999999}]
[{"$f":"INDIRECT(\"Data!H\"&$B$2+35)","v":"ENQ vs RBE"},{"$f":"INDIRECT(\"Data!J\"&$B$2+35)","v":0.26552471910000003},{"$f":"INDIRECT(\"Data!K\"&$B$2+35)","v":""},{"$f":"INDIRECT(\"Data!L\"&$B$2+35)","v":0.26552471910000003}]
[{"$f":"INDIRECT(\"Data!H\"&$B$2+36)","v":"JY6 vs QFA"},{"$f":"INDIRECT(\"Data!J\"&$B$2+36)","v":0.23781292530000001},{"$f":"INDIRECT(\"Data!K\"&$B$2+36)","v":""},{"$f":"INDIRECT(\"Data!L\"&$B$2+36)","v":0.23781292530000001}]
[{"$f":"INDIRECT(\"Data!H\"&$B$2+35)","v":"ENQ vs RBE"},{"$f":"INDIRECT(\"Data!J\"&$B$2+35)","v":0.26552471910000003},{"$f":"INDIRECT(\"Data!K\"&$B$2+35)","v":""},{"$f":"INDIRECT(\"Data!L\"&$B$2+35)","v":0.26552471910000003}]
[{"$f":"INDIRECT(\"Data!H\"&$B$2+38)","v":"DXE vs YM"},{"$f":"INDIRECT(\"Data!J\"&$B$2+38)","v":0.22849753369999998},{"$f":"INDIRECT(\"Data!K\"&$B$2+38)","v":""},{"$f":"INDIRECT(\"Data!L\"&$B$2+38)","v":0.22849753369999998}]
[{"$f":"INDIRECT(\"Data!H\"&$B$2+39)","v":"EP vs DSX"},{"$f":"INDIRECT(\"Data!J\"&$B$2+39)","v":0.22299619270000001},{"$f":"INDIRECT(\"Data!K\"&$B$2+39)","v":""},{"$f":"INDIRECT(\"Data!L\"&$B$2+39)","v":0.22299619270000001}]
[{"$f":"INDIRECT(\"Data!H\"&$B$2+40)","v":"GCE vs QFA"},{"$f":"INDIRECT(\"Data!J\"&$B$2+40)","v":0.20515162310000001},{"$f":"INDIRECT(\"Data!K\"&$B$2+40)","v":""},{"$f":"INDIRECT(\"Data!L\"&$B$2+40)","v":0.20515162310000001}]
[{"$f":"INDIRECT(\"Data!H\"&$B$2+41)","v":"MX6 vs TFE"},{"$f":"INDIRECT(\"Data!J\"&$B$2+41)","v":0.184834262},{"$f":"INDIRECT(\"Data!K\"&$B$2+41)","v":""},{"$f":"INDIRECT(\"Data!L\"&$B$2+41)","v":0.184834262}]
[{"$f":"INDIRECT(\"Data!H\"&$B$2+42)","v":"EP vs RBE"},{"$f":"INDIRECT(\"Data!J\"&$B$2+42)","v":0.17526907110000001},{"$f":"INDIRECT(\"Data!K\"&$B$2+42)","v":""},{"$f":"INDIRECT(\"Data!L\"&$B$2+42)","v":0.17526907110000001}]
[{"$f":"INDIRECT(\"Data!H\"&$B$2+43)","v":"JY6 vs DSX"},{"$f":"INDIRECT(\"Data!J\"&$B$2+43)","v":0.17379331669999998},{"$f":"INDIRECT(\"Data!K\"&$B$2+43)","v":""},{"$f":"INDIRECT(\"Data!L\"&$B$2+43)","v":0.17379331669999998}]
[{"$f":"INDIRECT(\"Data!H\"&$B$2+44)","v":"MX6 vs YM"},{"$f":"INDIRECT(\"Data!J\"&$B$2+44)","v":0.16987791460000001},{"$f":"INDIRECT(\"Data!K\"&$B$2+44)","v":""},{"$f":"INDIRECT(\"Data!L\"&$B$2+44)","v":0.16987791460000001}]
[{"$f":"INDIRECT(\"Data!H\"&$B$2+45)","v":"ENQ vs DD"},{"$f":"INDIRECT(\"Data!J\"&$B$2+45)","v":0.14852657969999999},{"$f":"INDIRECT(\"Data!K\"&$B$2+45)","v":""},{"$f":"INDIRECT(\"Data!L\"&$B$2+45)","v":0.14852657969999999}]
[{"$f":"INDIRECT(\"Data!H\"&$B$2+46)","v":"DA6 vs YM"},{"$f":"INDIRECT(\"Data!J\"&$B$2+46)","v":0.14285272199999999},{"$f":"INDIRECT(\"Data!K\"&$B$2+46)","v":""},{"$f":"INDIRECT(\"Data!L\"&$B$2+46)","v":0.14285272199999999}]
[{"$f":"INDIRECT(\"Data!H\"&$B$2+47)","v":"GCE vs DSX"},{"$f":"INDIRECT(\"Data!J\"&$B$2+47)","v":0.1388292136},{"$f":"INDIRECT(\"Data!K\"&$B$2+47)","v":""},{"$f":"INDIRECT(\"Data!L\"&$B$2+47)","v":0.1388292136},{"$f":"RTD(\"cqg.rtd\", ,\"ContractData\",Symbols!D3, \"LongDescription\",, \"T\")","v":"DAX Index, Jun 15"},null,null,{"$f":"RTD(\"cqg.rtd\", ,\"ContractData\",Symbols!E3, \"LongDescription\",, \"T\")","v":"Euro STOXX 50, Jun 15"},null,null,{"$f":"RTD(\"cqg.rtd\", ,\"ContractData\",Symbols!F3, \"LongDescription\",, \"T\")","v":"E-mini Dow ($5), Jun 15"},null,null,{"$f":"RTD(\"cqg.rtd\", ,\"ContractData\",Symbols!G3, \"LongDescription\",, \"T\")","v":"CAC40, May 15"},null,null,{"$f":"RTD(\"cqg.rtd\", ,\"ContractData\",Symbols!H3, \"LongDescription\",, \"T\")","v":"Crude Light (Globex), Jun 15"},null,null,{"$f":"RTD(\"cqg.rtd\", ,\"ContractData\",Symbols!I3, \"LongDescription\",, \"T\")","v":"Platinum (Globex), Jul 15"},null,null,{"$f":"RTD(\"cqg.rtd\", ,\"ContractData\",Symbols!J3, \"LongDescription\",, \"T\")","v":"RBOB Gasoline (Globex), Jun 15"},null,null,{"$f":"RTD(\"cqg.rtd\", ,\"ContractData\",Symbols!K3, \"LongDescription\",, \"T\")","v":"Natural Gas (Globex), Jun 15"},null,null,{"$f":"RTD(\"cqg.rtd\", ,\"ContractData\",Symbols!L3, \"LongDescription\",, \"T\")","v":"Russell 2000 Index Mini, Jun 15"},null,null,{"$f":"RTD(\"cqg.rtd\", ,\"ContractData\",Symbols!M3, \"LongDescription\",, \"T\")","v":"FTSE 100 - Stnd Index, Jun 15"}]
[{"$f":"INDIRECT(\"Data!H\"&$B$2+48)","v":"EP vs DD"},{"$f":"INDIRECT(\"Data!J\"&$B$2+48)","v":0.13615007869999998},{"$f":"INDIRECT(\"Data!K\"&$B$2+48)","v":""},{"$f":"INDIRECT(\"Data!L\"&$B$2+48)","v":0.13615007869999998},{"$f":"IF(Symbols!D4=\"B\",RTD(\"cqg.rtd\",,\"ContractData\",Symbols!D3,\"LastTrade\",,\"B\"),TEXT(RTD(\"cqg.rtd\",,\"ContractData\",Symbols!D3,\"LastTrade\",,\"T\"),Symbols!D2))","v":"11644.50"},null,null,{"$f":"IF(Symbols!E4=\"B\",RTD(\"cqg.rtd\",,\"ContractData\",Symbols!E3,\"LastTrade\",,\"B\"),TEXT(RTD(\"cqg.rtd\",,\"ContractData\",Symbols!E3,\"LastTrade\",,\"T\"),Symbols!E2))","v":"3586"},null,null,{"$f":"IF(Symbols!F4=\"B\",RTD(\"cqg.rtd\",,\"ContractData\",Symbols!F3,\"LastTrade\",,\"B\"),TEXT(RTD(\"cqg.rtd\",,\"ContractData\",Symbols!F3,\"LastTrade\",,\"T\"),Symbols!F2))","v":"18030"},null,null,{"$f":"IF(Symbols!G4=\"B\",RTD(\"cqg.rtd\",,\"ContractData\",Symbols!G3,\"LastTrade\",,\"B\"),TEXT(RTD(\"cqg.rtd\",,\"ContractData\",Symbols!G3,\"LastTrade\",,\"T\"),Symbols!G2))","v":"5052.00"},null,null,{"$f":"IF(Symbols!H4=\"B\",RTD(\"cqg.rtd\",,\"ContractData\",Symbols!H3,\"LastTrade\",,\"B\"),TEXT(RTD(\"cqg.rtd\",,\"ContractData\",Symbols!H3,\"LastTrade\",,\"T\"),Symbols!H2))","v":"58.88"},null,null,{"$f":"IF(Symbols!I4=\"B\",RTD(\"cqg.rtd\",,\"ContractData\",Symbols!I3,\"LastTrade\",,\"B\"),TEXT(RTD(\"cqg.rtd\",,\"ContractData\",Symbols!I3,\"LastTrade\",,\"T\"),Symbols!I2))","v":"1148.80"},null,null,{"$f":"IF(Symbols!J4=\"B\",RTD(\"cqg.rtd\",,\"ContractData\",Symbols!J3,\"LastTrade\",,\"B\"),TEXT(RTD(\"cqg.rtd\",,\"ContractData\",Symbols!J3,\"LastTrade\",,\"T\"),Symbols!J2))","v":"2.031"},null,null,{"$f":"IF(Symbols!K4=\"B\",RTD(\"cqg.rtd\",,\"ContractData\",Symbols!K3,\"LastTrade\",,\"B\"),TEXT(RTD(\"cqg.rtd\",,\"ContractData\",Symbols!K3,\"LastTrade\",,\"T\"),Symbols!K2))","v":"2.819"},null,null,{"$f":"IF(Symbols!L4=\"B\",RTD(\"cqg.rtd\",,\"ContractData\",Symbols!L3,\"LastTrade\",,\"B\"),TEXT(RTD(\"cqg.rtd\",,\"ContractData\",Symbols!L3,\"LastTrade\",,\"T\"),Symbols!L2))","v":"1232.30"},null,null,{"$f":"IF(Symbols!M4=\"B\",RTD(\"cqg.rtd\",,\"ContractData\",Symbols!M3,\"LastTrade\",,\"B\"),TEXT(RTD(\"cqg.rtd\",,\"ContractData\",Symbols!M3,\"LastTrade\",,\"T\"),Symbols!M2))","v":"7000.00"}]
[{"$f":"INDIRECT(\"Data!H\"&$B$2+49)","v":"EU6 vs PLE"},{"$f":"INDIRECT(\"Data!J\"&$B$2+49)","v":0.12820617049999999},{"$f":"INDIRECT(\"Data!K\"&$B$2+49)","v":""},{"$f":"INDIRECT(\"Data!L\"&$B$2+49)","v":0.12820617049999999}]
[null,null,null,null,"H:",{"$f":"IF(Symbols!D4=\"B\",RTD(\"cqg.rtd\",,\"ContractData\",Symbols!D3,\"High\",,\"B\"),TEXT(RTD(\"cqg.rtd\",,\"ContractData\",Symbols!D3,\"High\",,\"T\"),Symbols!D2))","v":""},{"$f":"IF(Symbols!D4=\"B\",RTD(\"cqg.rtd\",,\"ContractData\",Symbols!D3,\"NetLastQuoteToday\",,\"B\"),IF(RTD(\"cqg.rtd\",,\"ContractData\",Symbols!D3,\"NetLastQuoteToday\",,\"T\")>0,\"+\"&TEXT(RTD(\"cqg.rtd\",,\"ContractData\",Symbols!D3,\"NetLastQuoteToday\",,\"T\"),Symbols!D2),TEXT(RTD(\"cqg.rtd\",,\"ContractData\",Symbols!D3,\"NetLastQuoteToday\",,\"T\"),Symbols!D2)))","v":"+"},"H:",{"$f":"IF(Symbols!E4=\"B\",RTD(\"cqg.rtd\",,\"ContractData\",Symbols!E3,\"High\",,\"B\"),TEXT(RTD(\"cqg.rtd\",,\"ContractData\",Symbols!E3,\"High\",,\"T\"),Symbols!E2))","v":""},{"$f":"IF(Symbols!E4=\"B\",RTD(\"cqg.rtd\",,\"ContractData\",Symbols!E3,\"NetLastQuoteToday\",,\"B\"),IF(RTD(\"cqg.rtd\",,\"ContractData\",Symbols!E3,\"NetLastQuoteToday\",,\"T\")>0,\"+\"&TEXT(RTD(\"cqg.rtd\",,\"ContractData\",Symbols!E3,\"NetLastQuoteToday\",,\"T\"),Symbols!E2),TEXT(RTD(\"cqg.rtd\",,\"ContractData\",Symbols!E3,\"NetLastQuoteToday\",,\"T\"),Symbols!E2)))","v":"+"},"H:",{"$f":"IF(Symbols!F4=\"B\",RTD(\"cqg.rtd\",,\"ContractData\",Symbols!F3,\"High\",,\"B\"),TEXT(RTD(\"cqg.rtd\",,\"ContractData\",Symbols!F3,\"High\",,\"T\"),Symbols!F2))","v":""},{"$f":"IF(Symbols!F4=\"B\",RTD(\"cqg.rtd\",,\"ContractData\",Symbols!F3,\"NetLastQuoteToday\",,\"B\"),IF(RTD(\"cqg.rtd\",,\"ContractData\",Symbols!F3,\"NetLastQuoteToday\",,\"T\")>0,\"+\"&TEXT(RTD(\"cqg.rtd\",,\"ContractData\",Symbols!F3,\"NetLastQuoteToday\",,\"T\"),Symbols!F2),TEXT(RTD(\"cqg.rtd\",,\"ContractData\",Symbols!F3,\"NetLastQuoteToday\",,\"T\"),Symbols!F2)))","v":"+"},"H:",{"$f":"IF(Symbols!M4=\"B\",RTD(\"cqg.rtd\",,\"ContractData\",Symbols!M3,\"High\",,\"B\"),TEXT(RTD(\"cqg.rtd\",,\"ContractData\",Symbols!M3,\"High\",,\"T\"),Symbols!M2))","v":""},{"$f":"IF(Symbols!G4=\"B\",RTD(\"cqg.rtd\",,\"ContractData\",Symbols!G3,\"NetLastQuoteToday\",,\"B\"),IF(RTD(\"cqg.rtd\",,\"ContractData\",Symbols!G3,\"NetLastQuoteToday\",,\"T\")>0,\"+\"&TEXT(RTD(\"cqg.rtd\",,\"ContractData\",Symbols!G3,\"NetLastQuoteToday\",,\"T\"),Symbols!G2),TEXT(RTD(\"cqg.rtd\",,\"ContractData\",Symbols!G3,\"NetLastQuoteToday\",,\"T\"),Symbols!G2)))","v":"+"},"H:",{"$f":"IF(Symbols!H4=\"B\",RTD(\"cqg.rtd\",,\"ContractData\",Symbols!H3,\"High\",,\"B\"),TEXT(RTD(\"cqg.rtd\",,\"ContractData\",Symbols!H3,\"High\",,\"T\"),Symbols!H2))","v":"59.73"},{"$f":"IF(Symbols!H4=\"B\",RTD(\"cqg.rtd\",,\"ContractData\",Symbols!H3,\"NetLastQuoteToday\",,\"B\"),IF(RTD(\"cqg.rtd\",,\"ContractData\",Symbols!H3,\"NetLastQuoteToday\",,\"T\")>0,\"+\"&TEXT(RTD(\"cqg.rtd\",,\"ContractData\",Symbols!H3,\"NetLastQuoteToday\",,\"T\"),Symbols!H2),TEXT(RTD(\"cqg.rtd\",,\"ContractData\",Symbols!H3,\"NetLastQuoteToday\",,\"T\"),Symbols!H2)))","v":"-.27"},"H:",{"$f":"IF(Symbols!I4=\"B\",RTD(\"cqg.rtd\",,\"ContractData\",Symbols!I3,\"High\",,\"B\"),TEXT(RTD(\"cqg.rtd\",,\"ContractData\",Symbols!I3,\"High\",,\"T\"),Symbols!I2))","v":""},{"$f":"IF(Symbols!I4=\"B\",RTD(\"cqg.rtd\",,\"ContractData\",Symbols!I3,\"NetLastQuoteToday\",,\"B\"),IF(RTD(\"cqg.rtd\",,\"ContractData\",Symbols!I3,\"NetLastQuoteToday\",,\"T\")>0,\"+\"&TEXT(RTD(\"cqg.rtd\",,\"ContractData\",Symbols!I3,\"NetLastQuoteToday\",,\"T\"),Symbols!I2),TEXT(RTD(\"cqg.rtd\",,\"ContractData\",Symbols!I3,\"NetLastQuoteToday\",,\"T\"),Symbols!I2)))","v":"+"},"H:",{"$f":"IF(Symbols!J4=\"B\",RTD(\"cqg.rtd\",,\"ContractData\",Symbols!J3,\"High\",,\"B\"),TEXT(RTD(\"cqg.rtd\",,\"ContractData\",Symbols!J3,\"High\",,\"T\"),Symbols!J2))","v":""},{"$f":"IF(Symbols!J4=\"B\",RTD(\"cqg.rtd\",,\"ContractData\",Symbols!J3,\"NetLastQuoteToday\",,\"B\"),IF(RTD(\"cqg.rtd\",,\"ContractData\",Symbols!J3,\"NetLastQuoteToday\",,\"T\")>0,\"+\"&TEXT(RTD(\"cqg.rtd\",,\"ContractData\",Symbols!J3,\"NetLastQuoteToday\",,\"T\"),Symbols!J2),TEXT(RTD(\"cqg.rtd\",,\"ContractData\",Symbols!J3,\"NetLastQuoteToday\",,\"T\"),Symbols!J2)))","v":"+"},"H:",{"$f":"IF(Symbols!K4=\"B\",RTD(\"cqg.rtd\",,\"ContractData\",Symbols!K3,\"High\",,\"B\"),TEXT(RTD(\"cqg.rtd\",,\"ContractData\",Symbols!K3,\"High\",,\"T\"),Symbols!K2))","v":""},{"$f":"IF(Symbols!K4=\"B\",RTD(\"cqg.rtd\",,\"ContractData\",Symbols!K3,\"NetLastQuoteToday\",,\"B\"),IF(RTD(\"cqg.rtd\",,\"ContractData\",Symbols!K3,\"NetLastQuoteToday\",,\"T\")>0,\"+\"&TEXT(RTD(\"cqg.rtd\",,\"ContractData\",Symbols!K3,\"NetLastQuoteToday\",,\"T\"),Symbols!K2),TEXT(RTD(\"cqg.rtd\",,\"ContractData\",Symbols!K3,\"NetLastQuoteToday\",,\"T\"),Symbols!K2)))","v":"+"},"H:",{"$f":"IF(Symbols!L4=\"B\",RTD(\"cqg.rtd\",,\"ContractData\",Symbols!L3,\"High\",,\"B\"),TEXT(RTD(\"cqg.rtd\",,\"ContractData\",Symbols!L3,\"High\",,\"T\"),Symbols!L2))","v":""},{"$f":"IF(Symbols!L4=\"B\",RTD(\"cqg.rtd\",,\"ContractData\",Symbols!L3,\"NetLastQuoteToday\",,\"B\"),IF(RTD(\"cqg.rtd\",,\"ContractData\",Symbols!L3,\"NetLastQuoteToday\",,\"T\")>0,\"+\"&TEXT(RTD(\"cqg.rtd\",,\"ContractData\",Symbols!L3,\"NetLastQuoteToday\",,\"T\"),Symbols!L2),TEXT(RTD(\"cqg.rtd\",,\"ContractData\",Symbols!L3,\"NetLastQuoteToday\",,\"T\"),Symbols!L2)))","v":"+"},"H:",{"$f":"IF(Symbols!M4=\"B\",RTD(\"cqg.rtd\",,\"ContractData\",Symbols!M3,\"High\",,\"B\"),TEXT(RTD(\"cqg.rtd\",,\"ContractData\",Symbols!M3,\"High\",,\"T\"),Symbols!M2))","v":""},{"$f":"IF(Symbols!M4=\"B\",RTD(\"cqg.rtd\",,\"ContractData\",Symbols!M3,\"NetLastQuoteToday\",,\"B\"),IF(RTD(\"cqg.rtd\",,\"ContractData\",Symbols!M3,\"NetLastQuoteToday\",,\"T\")>0,\"+\"&TEXT(RTD(\"cqg.rtd\",,\"ContractData\",Symbols!M3,\"NetLastQuoteToday\",,\"T\"),Symbols!M2),TEXT(RTD(\"cqg.rtd\",,\"ContractData\",Symbols!M3,\"NetLastQuoteToday\",,\"T\"),Symbols!M2)))","v":"+"}]
[null,null,null,null,"L:",{"$f":"IF(Symbols!D4=\"B\",RTD(\"cqg.rtd\",,\"ContractData\",Symbols!D3,\"Low\",,\"B\"),TEXT(RTD(\"cqg.rtd\",,\"ContractData\",Symbols!D3,\"Low\",,\"T\"),Symbols!D2))","v":""},{"$f":"IFERROR(RTD(\"cqg.rtd\", ,\"ContractData\",Symbols!D3, \"PerCentNetLastQuote\",, \"T\")/100,\"\")","v":""},"L:",{"$f":"IF(Symbols!E4=\"B\",RTD(\"cqg.rtd\",,\"ContractData\",Symbols!E3,\"Low\",,\"B\"),TEXT(RTD(\"cqg.rtd\",,\"ContractData\",Symbols!E3,\"Low\",,\"T\"),Symbols!E2))","v":""},{"$f":"IFERROR(RTD(\"cqg.rtd\", ,\"ContractData\",Symbols!E3, \"PerCentNetLastQuote\",, \"T\")/100,\"\")","v":""},"L:",{"$f":"IF(Symbols!F4=\"B\",RTD(\"cqg.rtd\",,\"ContractData\",Symbols!F3,\"Low\",,\"B\"),TEXT(RTD(\"cqg.rtd\",,\"ContractData\",Symbols!F3,\"Low\",,\"T\"),Symbols!F2))","v":""},{"$f":"IFERROR(RTD(\"cqg.rtd\", ,\"ContractData\",Symbols!F3, \"PerCentNetLastQuote\",, \"T\")/100,\"\")","v":""},"L:",{"$f":"IF(Symbols!M4=\"B\",RTD(\"cqg.rtd\",,\"ContractData\",Symbols!M3,\"Low\",,\"B\"),TEXT(RTD(\"cqg.rtd\",,\"ContractData\",Symbols!M3,\"Low\",,\"T\"),Symbols!M2))","v":""},{"$f":"IFERROR(RTD(\"cqg.rtd\", ,\"ContractData\",Symbols!M3, \"PerCentNetLastQuote\",, \"T\")/100,\"\")","v":""},"L:",{"$f":"IF(Symbols!H4=\"B\",RTD(\"cqg.rtd\",,\"ContractData\",Symbols!H3,\"Low\",,\"B\"),TEXT(RTD(\"cqg.rtd\",,\"ContractData\",Symbols!H3,\"Low\",,\"T\"),Symbols!H2))","v":"58.45"},{"$f":"IFERROR(RTD(\"cqg.rtd\", ,\"ContractData\",Symbols!H3, \"PerCentNetLastQuote\",, \"T\")/100,\"\")","v":-4.5646661031276412E-3},"L:",{"$f":"IF(Symbols!I4=\"B\",RTD(\"cqg.rtd\",,\"ContractData\",Symbols!I3,\"Low\",,\"B\"),TEXT(RTD(\"cqg.rtd\",,\"ContractData\",Symbols!I3,\"Low\",,\"T\"),Symbols!I2))","v":""},{"$f":"IFERROR(RTD(\"cqg.rtd\", ,\"ContractData\",Symbols!I3, \"PerCentNetLastQuote\",, \"T\")/100,\"\")","v":""},"L:",{"$f":"IF(Symbols!J4=\"B\",RTD(\"cqg.rtd\",,\"ContractData\",Symbols!J3,\"Low\",,\"B\"),TEXT(RTD(\"cqg.rtd\",,\"ContractData\",Symbols!J3,\"Low\",,\"T\"),Symbols!J2))","v":""},{"$f":"IFERROR(RTD(\"cqg.rtd\", ,\"ContractData\",Symbols!J3, \"PerCentNetLastQuote\",, \"T\")/100,\"\")","v":""},"L:",{"$f":"IF(Symbols!K4=\"B\",RTD(\"cqg.rtd\",,\"ContractData\",Symbols!K3,\"Low\",,\"B\"),TEXT(RTD(\"cqg.rtd\",,\"ContractData\",Symbols!K3,\"Low\",,\"T\"),Symbols!K2))","v":""},{"$f":"IFERROR(RTD(\"cqg.rtd\", ,\"ContractData\",Symbols!K3, \"PerCentNetLastQuote\",, \"T\")/100,\"\")","v":""},"L:",{"$f":"IF(Symbols!L4=\"B\",RTD(\"cqg.rtd\",,\"ContractData\",Symbols!L3,\"Low\",,\"B\"),TEXT(RTD(\"cqg.rtd\",,\"ContractData\",Symbols!L3,\"Low\",,\"T\"),Symbols!L2))","v":""},{"$f":"IFERROR(RTD(\"cqg.rtd\", ,\"ContractData\",Symbols!L3, \"PerCentNetLastQuote\",, \"T\")/100,\"\")","v":""},"L:",{"$f":"IF(Symbols!M4=\"B\",RTD(\"cqg.rtd\",,\"ContractData\",Symbols!M3,\"Low\",,\"B\"),TEXT(RTD(\"cqg.rtd\",,\"ContractData\",Symbols!M3,\"Low\",,\"T\"),Symbols!M2))","v":""},{"$f":"IFERROR(RTD(\"cqg.rtd\", ,\"ContractData\",Symbols!M3, \"PerCentNetLastQuote\",, \"T\")/100,\"\")","v":""}]
[null,null,null,null,null,"  Copyright © 2015",null,null,null,"Chicago:",null,{"$f":"RTD(\"cqg.rtd\", ,\"SystemInfo\", \"Linetime\")","v":42128.570497685185},null,null,"Designed by Thom Hartle"]

{"sheet":"Data","index":2,"n_rows":114,"n_cols":12,"rows_kept":114,"cut":false,"hidden":true,"merged":[]}
["Lookback:",{"$f":"MainDisplay!P11","v":10}]
["Time Frame:",{"$f":"MainDisplay!N11","v":"D"},{"$f":"Symbols!D3","v":"DD"},{"$f":"Symbols!E3","v":"DSX"},{"$f":"Symbols!F3","v":"YM"},{"$f":"Symbols!G3","v":"PIL"},{"$f":"Symbols!H3","v":"CLE"},{"$f":"Symbols!I3","v":"PLE"},{"$f":"Symbols!J3","v":"RBE"},{"$f":"Symbols!K3","v":"NGE"},{"$f":"Symbols!L3","v":"TFE"},{"$f":"Symbols!M3","v":"QFA"}]
[{"$f":"Symbols!B5","v":"EP"},null,{"$f":"RTD(\"cqg.rtd\",,\"StudyData\", \"Correlation(\"&$A$3&\",\"&C$2&\",Period:=\"&$B$1&\",InputChoice1::=Close,InputChoice2::=Close)\", \"FG\", \"\", \"Close\",$B$2, \"0\", \"all\",\"\", \"\",\"True\",\"T\")/100","v":0.13615007869999998},{"$f":"RTD(\"cqg.rtd\",,\"StudyData\", \"Correlation(\"&$A$3&\",\"&D$2&\",Period:=\"&$B$1&\",InputChoice1:=Close,InputChoice2:=Close)\", \"FG\", \"\", \"Close\",$B$2, \"0\", \"all\",\"\", \"\",\"True\",\"T\")/100","v":0.22299619270000001},{"$f":"RTD(\"cqg.rtd\",,\"StudyData\", \"Correlation(\"&$A$3&\",\"&E$2&\",Period:=\"&$B$1&\",InputChoice1:=Close,InputChoice2:=Close)\", \"FG\", \"\", \"Close\",$B$2, \"0\", \"all\",\"\", \"\",\"True\",\"T\")/100","v":0.95659353079999998},{"$f":"RTD(\"cqg.rtd\",,\"StudyData\", \"Correlation(\"&$A$3&\",\"&F$2&\",Period:=\"&$B$1&\",InputChoice1:=Close,InputChoice2:=Close)\", \"FG\", \"\", \"Close\",$B$2, \"0\", \"all\",\"\", \"\",\"True\",\"T\")/100","v":0.38823862279999999},{"$f":"RTD(\"cqg.rtd\",,\"StudyData\", \"Correlation(\"&$A$3&\",\"&G$2&\",Period:=\"&$B$1&\",InputChoice1:=Close,InputChoice2:=Close)\", \"FG\", \"\", \"Close\",$B$2, \"0\", \"all\",\"\", \"\",\"True\",\"T\")/100","v":-0.24033074419999997},{"$f":"RTD(\"cqg.rtd\",,\"StudyData\", \"Correlation(\"&$A$3&\",\"&H$2&\",Period:=\"&$B$1&\",InputChoice1:=Close,InputChoice2:=Close)\", \"FG\", \"\", \"Close\",$B$2, \"0\", \"all\",\"\", \"\",\"True\",\"T\")/100","v":-9.5899752199999994E-2},{"$f":"RTD(\"cqg.rtd\",,\"StudyData\", \"Correlation(\"&$A$3&\",\"&I$2&\",Period:=\"&$B$1&\",InputChoice1:=Close,InputChoice2:=Close)\", \"FG\", \"\", \"Close\",$B$2, \"0\", \"all\",\"\", \"\",\"True\",\"T\")/100","v":0.17526907110000001},{"$f":"RTD(\"cqg.rtd\",,\"StudyData\", \"Correlation(\"&$A$3&\",\"&J$2&\",Period:=\"&$B$1&\",InputChoice1:=Close,InputChoice2:=Close)\", \"FG\", \"\", \"Close\",$B$2, \"0\", \"all\",\"\", \"\",\"True\",\"T\")/100","v":-0.2532428907},{"$f":"RTD(\"cqg.rtd\",,\"StudyData\", \"Correlation(\"&$A$3&\",\"&K$2&\",Period:=\"&$B$1&\",InputChoice1:=Close,InputChoice2:=Close)\", \"FG\", \"\", \"Close\",$B$2, \"0\", \"all\",\"\", \"\",\"True\",\"T\")/100","v":0.43722661899999998},{"$f":"RTD(\"cqg.rtd\",,\"StudyData\", \"Correlation(\"&$A$3&\",\"&L$2&\",Period:=\"&$B$1&\",InputChoice1:=Close,InputChoice2:=Close)\", \"FG\", \"\", \"Close\",$B$2, \"0\", \"all\",\"\", \"\",\"True\",\"T\")/100","v":0.48387143199999999}]
[{"$f":"Symbols!B6","v":"ENQ"},null,{"$f":"RTD(\"cqg.rtd\",,\"StudyData\", \"Correlation(\"&$A$4&\",\"&C$2&\",Period:=\"&$B$1&\",InputChoice1::=Close,InputChoice2::=Close)\", \"FG\", \"\", \"Close\",$B$2, \"0\", \"all\",\"\", \"\",\"True\",\"T\")/100","v":0.14852657969999999},{"$f":"RTD(\"cqg.rtd\",,\"StudyData\", \"Correlation(\"&$A$4&\",\"&D$2&\",Period:=\"&$B$1&\",InputChoice1:=Close,InputChoice2:=Close)\", \"FG\", \"\", \"Close\",$B$2, \"0\", \"all\",\"\", \"\",\"True\",\"T\")/100","v":0.30008779899999999},{"$f":"RTD(\"cqg.rtd\",,\"StudyData\", \"Correlation(\"&$A$4&\",\"&E$2&\",Period:=\"&$B$1&\",InputChoice1:=Close,InputChoice2:=Close)\", \"FG\", \"\", \"Close\",$B$2, \"0\", \"all\",\"\", \"\",\"True\",\"T\")/100","v":0.87390877759999996},{"$f":"RTD(\"cqg.rtd\",,\"StudyData\", \"Correlation(\"&$A$4&\",\"&F$2&\",Period:=\"&$B$1&\",InputChoice1:=Close,InputChoice2:=Close)\", \"FG\", \"\", \"Close\",$B$2, \"0\", \"all\",\"\", \"\",\"True\",\"T\")/100","v":0.35044319100000004},{"$f":"RTD(\"cqg.rtd\",,\"StudyData\", \"Correlation(\"&$A$4&\",\"&G$2&\",Period:=\"&$B$1&\",InputChoice1:=Close,InputChoice2:=Close)\", \"FG\", \"\", \"Close\",$B$2, \"0\", \"all\",\"\", \"\",\"True\",\"T\")/100","v":-0.26586857259999996},{"$f":"RTD(\"cqg.rtd\",,\"StudyData\", \"Correlation(\"&$A$4&\",\"&H$2&\",Period:=\"&$B$1&\",InputChoice1:=Close,InputChoice2:=Close)\", \"FG\", \"\", \"Close\",$B$2, \"0\", \"all\",\"\", \"\",\"True\",\"T\")/100","v":6.6041002400000007E-2},{"$f":"RTD(\"cqg.rtd\",,\"StudyData\", \"Correlation(\"&$A$4&\",\"&I$2&\",Period:=\"&$B$1&\",InputChoice1:=Close,InputChoice2:=Close)\", \"FG\", \"\", \"Close\",$B$2, \"0\", \"all\",\"\", \"\",\"True\",\"T\")/100","v":0.26552471910000003},{"$f":"RTD(\"cqg.rtd\",,\"StudyData\", \"Correlation(\"&$A$4&\",\"&J$2&\",Period:=\"&$B$1&\",InputChoice1:=Close,InputChoice2:=Close)\", \"FG\", \"\", \"Close\",$B$2, \"0\", \"all\",\"\", \"\",\"True\",\"T\")/100","v":-0.52739552590000005},{"$f":"RTD(\"cqg.rtd\",,\"StudyData\", \"Correlation(\"&$A$4&\",\"&K$2&\",Period:=\"&$B$1&\",InputChoice1:=Close,InputChoice2:=Close)\", \"FG\", \"\", \"Close\",$B$2, \"0\", \"all\",\"\", \"\",\"True\",\"T\")/100","v":0.39711874709999995},{"$f":"RTD(\"cqg.rtd\",,\"StudyData\", \"Correlation(\"&$A$4&\",\"&L$2&\",Period:=\"&$B$1&\",InputChoice1:=Close,InputChoice2:=Close)\", \"FG\", \"\", \"Close\",$B$2, \"0\", \"all\",\"\", \"\",\"True\",\"T\")/100","v":0.4723335978}]
[{"$f":"Symbols!B7","v":"EMD"},null,{"$f":"RTD(\"cqg.rtd\",,\"StudyData\", \"Correlation(\"&$A$5&\",\"&C$2&\",Period:=\"&$B$1&\",InputChoice1:=Close,InputChoice2:=Close)\", \"FG\", \"\", \"Close\",$B$2, \"0\", \"all\",\"\", \"\",\"True\",\"T\")/100","v":0.58870034830000006},{"$f":"RTD(\"cqg.rtd\",,\"StudyData\", \"Correlation(\"&$A$5&\",\"&D$2&\",Period:=\"&$B$1&\",InputChoice1:=Close,InputChoice2:=Close)\", \"FG\", \"\", \"Close\",$B$2, \"0\", \"all\",\"\", \"\",\"True\",\"T\")/100","v":0.58345562939999995},{"$f":"RTD(\"cqg.rtd\",,\"StudyData\", \"Correlation(\"&$A$5&\",\"&E$2&\",Period:=\"&$B$1&\",InputChoice1:=Close,InputChoice2:=Close)\", \"FG\", \"\", \"Close\",$B$2, \"0\", \"all\",\"\", \"\",\"True\",\"T\")/100","v":0.65842993419999996},{"$f":"RTD(\"cqg.rtd\",,\"StudyData\", \"Correlation(\"&$A$5&\",\"&F$2&\",Period:=\"&$B$1&\",InputChoice1:=Close,InputChoice2:=Close)\", \"FG\", \"\", \"Close\",$B$2, \"0\", \"all\",\"\", \"\",\"True\",\"T\")/100","v":0.80082269819999996},{"$f":"RTD(\"cqg.rtd\",,\"StudyData\", \"Correlation(\"&$A$5&\",\"&G$2&\",Period:=\"&$B$1&\",InputChoice1:=Close,InputChoice2:=Close)\", \"FG\", \"\", \"Close\",$B$2, \"0\", \"all\",\"\", \"\",\"True\",\"T\")/100","v":-0.77668456109999995},{"$f":"RTD(\"cqg.rtd\",,\"StudyData\", \"Correlation(\"&$A$5&\",\"&H$2&\",Period:=\"&$B$1&\",InputChoice1:=Close,InputChoice2:=Close)\", \"FG\", \"\", \"Close\",$B$2, \"0\", \"all\",\"\", \"\",\"True\",\"T\")/100","v":-0.15206072170000001},{"$f":"RTD(\"cqg.rtd\",,\"StudyData\", \"Correlation(\"&$A$5&\",\"&I$2&\",Period:=\"&$B$1&\",InputChoice1:=Close,InputChoice2:=Close)\", \"FG\", \"\", \"Close\",$B$2, \"0\", \"all\",\"\", \"\",\"True\",\"T\")/100","v":-0.56451109300000002},{"$f":"RTD(\"cqg.rtd\",,\"StudyData\", \"Correlation(\"&$A$5&\",\"&J$2&\",Period:=\"&$B$1&\",InputChoice1:=Close,InputChoice2:=Close)\", \"FG\", \"\", \"Close\",$B$2, \"0\", \"all\",\"\", \"\",\"True\",\"T\")/100","v":-0.57717753770000002},{"$f":"RTD(\"cqg.rtd\",,\"StudyData\", \"Correlation(\"&$A$5&\",\"&K$2&\",Period:=\"&$B$1&\",InputChoice1:=Close,InputChoice2:=Close)\", \"FG\", \"\", \"Close\",$B$2, \"0\", \"all\",\"\", \"\",\"True\",\"T\")/100","v":0.94141601620000004},{"$f":"RTD(\"cqg.rtd\",,\"StudyData\", \"Correlation(\"&$A$5&\",\"&L$2&\",Period:=\"&$B$1&\",InputChoice1:=Close,InputChoice2:=Close)\", \"FG\", \"\", \"Close\",$B$2, \"0\", \"all\",\"\", \"\",\"True\",\"T\")/100","v":0.84882179809999991}]
[{"$f":"Symbols!B8","v":"GCE"},null,{"$f":"RTD(\"cqg.rtd\",,\"StudyData\", \"Correlation(\"&$A$6&\",\"&C$2&\",Period:=\"&$B$1&\",InputChoice1:=Close,InputChoice2:=Close)\", \"FG\", \"\", \"Close\",$B$2, \"0\", \"all\",\"\", \"\",\"True\",\"T\")/100","v":0.1221561015},{"$f":"RTD(\"cqg.rtd\",,\"StudyData\", \"Correlation(\"&$A$6&\",\"&D$2&\",Period:=\"&$B$1&\",InputChoice1:=Close,InputChoice2:=Close)\", \"FG\", \"\", \"Close\",$B$2, \"0\", \"all\",\"\", \"\",\"True\",\"T\")/100","v":0.1388292136},{"$f":"RTD(\"cqg.rtd\",,\"StudyData\", \"Correlation(\"&$A$6&\",\"&E$2&\",Period:=\"&$B$1&\",InputChoice1:=Close,InputChoice2:=Close)\", \"FG\", \"\", \"Close\",$B$2, \"0\", \"all\",\"\", \"\",\"True\",\"T\")/100","v":0.26635958479999999},{"$f":"RTD(\"cqg.rtd\",,\"StudyData\", \"Correlation(\"&$A$6&\",\"&F$2&\",Period:=\"&$B$1&\",InputChoice1:=Close,InputChoice2:=Close)\", \"FG\", \"\", \"Close\",$B$2, \"0\", \"all\",\"\", \"\",\"True\",\"T\")/100","v":9.7663337699999991E-2},{"$f":"RTD(\"cqg.rtd\",,\"StudyData\", \"Correlation(\"&$A$6&\",\"&G$2&\",Period:=\"&$B$1&\",InputChoice1:=Close,InputChoice2:=Close)\", \"FG\", \"\", \"Close\",$B$2, \"0\", \"all\",\"\", \"\",\"True\",\"T\")/100","v":-0.3337297588},{"$f":"RTD(\"cqg.rtd\",,\"StudyData\", \"Correlation(\"&$A$6&\",\"&H$2&\",Period:=\"&$B$1&\",InputChoice1:=Close,InputChoice2:=Close)\", \"FG\", \"\", \"Close\",$B$2, \"0\", \"all\",\"\", \"\",\"True\",\"T\")/100","v":0.89937038819999993},{"$f":"RTD(\"cqg.rtd\",,\"StudyData\", \"Correlation(\"&$A$6&\",\"&I$2&\",Period:=\"&$B$1&\",InputChoice1:=Close,InputChoice2:=Close)\", \"FG\", \"\", \"Close\",$B$2, \"0\", \"all\",\"\", \"\",\"True\",\"T\")/100","v":-0.31963383579999999},{"$f":"RTD(\"cqg.rtd\",,\"StudyData\", \"Correlation(\"&$A$6&\",\"&J$2&\",Period:=\"&$B$1&\",InputChoice1:=Close,InputChoice2:=Close)\", \"FG\", \"\", \"Close\",$B$2, \"0\", \"all\",\"\", \"\",\"True\",\"T\")/100","v":-0.56652372399999995},{"$f":"RTD(\"cqg.rtd\",,\"StudyData\", \"Correlation(\"&$A$6&\",\"&K$2&\",Period:=\"&$B$1&\",InputChoice1:=Close,InputChoice2:=Close)\", \"FG\", \"\", \"Close\",$B$2, \"0\", \"all\",\"\", \"\",\"True\",\"T\")/100","v":0.32870167700000003},{"$f":"RTD(\"cqg.rtd\",,\"StudyData\", \"Correlation(\"&$A$6&\",\"&L$2&\",Period:=\"&$B$1&\",InputChoice1:=Close,InputChoice2:=Close)\", \"FG\", \"\", \"Close\",$B$2, \"0\", \"all\",\"\", \"\",\"True\",\"T\")/100","v":0.20515162310000001}]
[{"$f":"Symbols!B9","v":"DXE"},null,{"$f":"RTD(\"cqg.rtd\",,\"StudyData\", \"Correlation(\"&$A$7&\",\"&C$2&\",Period:=\"&$B$1&\",InputChoice1:=Close,InputChoice2:=Close)\", \"FG\", \"\", \"Close\",$B$2, \"0\", \"all\",\"\", \"\",\"True\",\"T\")/100","v":0.81968485060000007},{"$f":"RTD(\"cqg.rtd\",,\"StudyData\", \"Correlation(\"&$A$7&\",\"&D$2&\",Period:=\"&$B$1&\",InputChoice1:=Close,InputChoice2:=Close)\", \"FG\", \"\", \"Close\",$B$2, \"0\", \"all\",\"\", \"\",\"True\",\"T\")/100","v":0.73405670029999992},{"$f":"RTD(\"cqg.rtd\",,\"StudyData\", \"Correlation(\"&$A$7&\",\"&E$2&\",Period:=\"&$B$1&\",InputChoice1:=Close,InputChoice2:=Close)\", \"FG\", \"\", \"Close\",$B$2, \"0\", \"all\",\"\", \"\",\"True\",\"T\")/100","v":0.22849753369999998},{"$f":"RTD(\"cqg.rtd\",,\"StudyData\", \"Correlation(\"&$A$7&\",\"&F$2&\",Period:=\"&$B$1&\",InputChoice1:=Close,InputChoice2:=Close)\", \"FG\", \"\", \"Close\",$B$2, \"0\", \"all\",\"\", \"\",\"True\",\"T\")/100","v":0.82302067140000001},{"$f":"RTD(\"cqg.rtd\",,\"StudyData\", \"Correlation(\"&$A$7&\",\"&G$2&\",Period:=\"&$B$1&\",InputChoice1:=Close,InputChoice2:=Close)\", \"FG\", \"\", \"Close\",$B$2, \"0\", \"all\",\"\", \"\",\"True\",\"T\")/100","v":-0.90155218619999999},{"$f":"RTD(\"cqg.rtd\",,\"StudyData\", \"Correlation(\"&$A$7&\",\"&H$2&\",Period:=\"&$B$1&\",InputChoice1:=Close,InputChoice2:=Close)\", \"FG\", \"\", \"Close\",$B$2, \"0\", \"all\",\"\", \"\",\"True\",\"T\")/100","v":-0.21719623869999999},{"$f":"RTD(\"cqg.rtd\",,\"StudyData\", \"Correlation(\"&$A$7&\",\"&I$2&\",Period:=\"&$B$1&\",InputChoice1:=Close,InputChoice2:=Close)\", \"FG\", \"\", \"Close\",$B$2, \"0\", \"all\",\"\", \"\",\"True\",\"T\")/100","v":-0.86328056959999999},{"$f":"RTD(\"cqg.rtd\",,\"StudyData\", \"Correlation(\"&$A$7&\",\"&J$2&\",Period:=\"&$B$1&\",InputChoice1:=Close,InputChoice2:=Close)\", \"FG\", \"\", \"Close\",$B$2, \"0\", \"all\",\"\", \"\",\"True\",\"T\")/100","v":-0.51209359620000006},{"$f":"RTD(\"cqg.rtd\",,\"StudyData\", \"Correlation(\"&$A$7&\",\"&K$2&\",Period:=\"&$B$1&\",InputChoice1:=Close,InputChoice2:=Close)\", \"FG\", \"\", \"Close\",$B$2, \"0\", \"all\",\"\", \"\",\"True\",\"T\")/100","v":0.86617419819999997},{"$f":"RTD(\"cqg.rtd\",,\"StudyData\", \"Correlation(\"&$A$7&\",\"&L$2&\",Period:=\"&$B$1&\",InputChoice1:=Close,InputChoice2:=Close)\", \"FG\", \"\", \"Close\",$B$2, \"0\", \"all\",\"\", \"\",\"True\",\"T\")/100","v":0.7528931258999999}]
[{"$f":"Symbols!B10","v":"EU6"},null,{"$f":"RTD(\"cqg.rtd\",,\"StudyData\", \"Correlation(\"&$A$8&\",\"&C$2&\",Period:=\"&$B$1&\",InputChoice1:=Close,InputChoice2:=Close)\", \"FG\", \"\", \"Close\",$B$2, \"0\", \"all\",\"\", \"\",\"True\",\"T\")/100","v":-0.83463596039999999},{"$f":"RTD(\"cqg.rtd\",,\"StudyData\", \"Correlation(\"&$A$8&\",\"&D$2&\",Period:=\"&$B$1&\",InputChoice1:=Close,InputChoice2:=Close)\", \"FG\", \"\", \"Close\",$B$2, \"0\", \"all\",\"\", \"\",\"True\",\"T\")/100","v":-0.77387619119999995},{"$f":"RTD(\"cqg.rtd\",,\"StudyData\", \"Correlation(\"&$A$8&\",\"&E$2&\",Period:=\"&$B$1&\",InputChoice1:=Close,InputChoice2:=Close)\", \"FG\", \"\", \"Close\",$B$2, \"0\", \"all\",\"\", \"\",\"True\",\"T\")/100","v":-0.28598835509999998},{"$f":"RTD(\"cqg.rtd\",,\"StudyData\", \"Correlation(\"&$A$8&\",\"&F$2&\",Period:=\"&$B$1&\",InputChoice1:=Close,InputChoice2:=Close)\", \"FG\", \"\", \"Close\",$B$2, \"0\", \"all\",\"\", \"\",\"True\",\"T\")/100","v":-0.85829543110000006},{"$f":"RTD(\"cqg.rtd\",,\"StudyData\", \"Correlation(\"&$A$8&\",\"&G$2&\",Period:=\"&$B$1&\",InputChoice1:=Close,InputChoice2:=Close)\", \"FG\", \"\", \"Close\",$B$2, \"0\", \"all\",\"\", \"\",\"True\",\"T\")/100","v":0.93999856969999995},{"$f":"RTD(\"cqg.rtd\",,\"StudyData\", \"Correlation(\"&$A$8&\",\"&H$2&\",Period:=\"&$B$1&\",InputChoice1:=Close,InputChoice2:=Close)\", \"FG\", \"\", \"Close\",$B$2, \"0\", \"all\",\"\", \"\",\"True\",\"T\")/100","v":0.12820617049999999},{"$f":"RTD(\"cqg.rtd\",,\"StudyData\", \"Correlation(\"&$A$8&\",\"&I$2&\",Period:=\"&$B$1&\",InputChoice1:=Close,InputChoice2:=Close)\", \"FG\", \"\", \"Close\",$B$2, \"0\", \"all\",\"\", \"\",\"True\",\"T\")/100","v":0.84872542940000006},{"$f":"RTD(\"cqg.rtd\",,\"StudyData\", \"Correlation(\"&$A$8&\",\"&J$2&\",Period:=\"&$B$1&\",InputChoice1:=Close,InputChoice2:=Close)\", \"FG\", \"\", \"Close\",$B$2, \"0\", \"all\",\"\", \"\",\"True\",\"T\")/100","v":0.64116444279999996},{"$f":"RTD(\"cqg.rtd\",,\"StudyData\", \"Correlation(\"&$A$8&\",\"&K$2&\",Period:=\"&$B$1&\",InputChoice1:=Close,InputChoice2:=Close)\", \"FG\", \"\", \"Close\",$B$2, \"0\", \"all\",\"\", \"\",\"True\",\"T\")/100","v":-0.9236491644},{"$f":"RTD(\"cqg.rtd\",,\"StudyData\", \"Correlation(\"&$A$8&\",\"&L$2&\",Period:=\"&$B$1&\",InputChoice1:=Close,InputChoice2:=Close)\", \"FG\", \"\", \"Close\",$B$2, \"0\", \"all\",\"\", \"\",\"True\",\"T\")/100","v":-0.81256737229999998}]
[{"$f":"Symbols!B11","v":"JY6"},null,{"$f":"RTD(\"cqg.rtd\",,\"StudyData\", \"Correlation(\"&$A$9&\",\"&C$2&\",Period:=\"&$B$1&\",InputChoice1:=Close,InputChoice2:=Close)\", \"FG\", \"\", \"Close\",$B$2, \"0\", \"all\",\"\", \"\",\"True\",\"T\")/100","v":1.40909001E-2},{"$f":"RTD(\"cqg.rtd\",,\"StudyData\", \"Correlation(\"&$A$9&\",\"&D$2&\",Period:=\"&$B$1&\",InputChoice1:=Close,InputChoice2:=Close)\", \"FG\", \"\", \"Close\",$B$2, \"0\", \"all\",\"\", \"\",\"True\",\"T\")/100","v":0.17379331669999998},{"$f":"RTD(\"cqg.rtd\",,\"StudyData\", \"Correlation(\"&$A$9&\",\"&E$2&\",Period:=\"&$B$1&\",InputChoice1:=Close,InputChoice2:=Close)\", \"FG\", \"\", \"Close\",$B$2, \"0\", \"all\",\"\", \"\",\"True\",\"T\")/100","v":0.23562196120000001},{"$f":"RTD(\"cqg.rtd\",,\"StudyData\", \"Correlation(\"&$A$9&\",\"&F$2&\",Period:=\"&$B$1&\",InputChoice1:=Close,InputChoice2:=Close)\", \"FG\", \"\", \"Close\",$B$2, \"0\", \"all\",\"\", \"\",\"True\",\"T\")/100","v":5.9084612200000004E-2},{"$f":"RTD(\"cqg.rtd\",,\"StudyData\", \"Correlation(\"&$A$9&\",\"&G$2&\",Period:=\"&$B$1&\",InputChoice1:=Close,InputChoice2:=Close)\", \"FG\", \"\", \"Close\",$B$2, \"0\", \"all\",\"\", \"\",\"True\",\"T\")/100","v":-0.28346756670000001},{"$f":"RTD(\"cqg.rtd\",,\"StudyData\", \"Correlation(\"&$A$9&\",\"&H$2&\",Period:=\"&$B$1&\",InputChoice1:=Close,InputChoice2:=Close)\", \"FG\", \"\", \"Close\",$B$2, \"0\", \"all\",\"\", \"\",\"True\",\"T\")/100","v":0.30897664890000004},{"$f":"RTD(\"cqg.rtd\",,\"StudyData\", \"Correlation(\"&$A$9&\",\"&I$2&\",Period:=\"&$B$1&\",InputChoice1:=Close,InputChoice2:=Close)\", \"FG\", \"\", \"Close\",$B$2, \"0\", \"all\",\"\", \"\",\"True\",\"T\")/100","v":4.1295026200000001E-2},{"$f":"RTD(\"cqg.rtd\",,\"StudyData\", \"Correlation(\"&$A$9&\",\"&J$2&\",Period:=\"&$B$1&\",InputChoice1:=Close,InputChoice2:=Close)\", \"FG\", \"\", \"Close\",$B$2, \"0\", \"all\",\"\", \"\",\"True\",\"T\")/100","v":-0.78952458699999994},{"$f":"RTD(\"cqg.rtd\",,\"StudyData\", \"Correlation(\"&$A$9&\",\"&K$2&\",Period:=\"&$B$1&\",InputChoice1:=Close,InputChoice2:=Close)\", \"FG\", \"\", \"Close\",$B$2, \"0\", \"all\",\"\", \"\",\"True\",\"T\")/100","v":0.38977908859999999},{"$f":"RTD(\"cqg.rtd\",,\"StudyData\", \"Correlation(\"&$A$9&\",\"&L$2&\",Period:=\"&$B$1&\",InputChoice1:=Close,InputChoice2:=Close)\", \"FG\", \"\", \"Close\",$B$2, \"0\", \"all\",\"\", \"\",\"True\",\"T\")/100","v":0.23781292530000001}]
[{"$f":"Symbols!B12","v":"DA6"},null,{"$f":"RTD(\"cqg.rtd\",,\"StudyData\", \"Correlation(\"&$A$10&\",\"&C$2&\",Period:=\"&$B$1&\",InputChoice1:=Close,InputChoice2:=Close)\", \"FG\", \"\", \"Close\",$B$2, \"0\", \"all\",\"\", \"\",\"True\",\"T\")/100","v":-0.6048081676},{"$f":"RTD(\"cqg.rtd\",,\"StudyData\", \"Correlation(\"&$A$10&\",\"&D$2&\",Period:=\"&$B$1&\",InputChoice1:=Close,InputChoice2:=Close)\", \"FG\", \"\", \"Close\",$B$2, \"0\", \"all\",\"\", \"\",\"True\",\"T\")/100","v":-0.4602335534},{"$f":"RTD(\"cqg.rtd\",,\"StudyData\", \"Correlation(\"&$A$10&\",\"&E$2&\",Period:=\"&$B$1&\",InputChoice1:=Close,InputChoice2:=Close)\", \"FG\", \"\", \"Close\",$B$2, \"0\", \"all\",\"\", \"\",\"True\",\"T\")/100","v":0.14285272199999999},{"$f":"RTD(\"cqg.rtd\",,\"StudyData\", \"Correlation(\"&$A$10&\",\"&F$2&\",Period:=\"&$B$1&\",InputChoice1:=Close,InputChoice2:=Close)\", \"FG\", \"\", \"Close\",$B$2, \"0\", \"all\",\"\", \"\",\"True\",\"T\")/100","v":-0.52215390679999996},{"$f":"RTD(\"cqg.rtd\",,\"StudyData\", \"Correlation(\"&$A$10&\",\"&G$2&\",Period:=\"&$B$1&\",InputChoice1:=Close,InputChoice2:=Close)\", \"FG\", \"\", \"Close\",$B$2, \"0\", \"all\",\"\", \"\",\"True\",\"T\")/100","v":0.38740339880000002},{"$f":"RTD(\"cqg.rtd\",,\"StudyData\", \"Correlation(\"&$A$10&\",\"&H$2&\",Period:=\"&$B$1&\",InputChoice1:=Close,InputChoice2:=Close)\", \"FG\", \"\", \"Close\",$B$2, \"0\", \"all\",\"\", \"\",\"True\",\"T\")/100","v":0.52348291120000001},{"$f":"RTD(\"cqg.rtd\",,\"StudyData\", \"Correlation(\"&$A$10&\",\"&I$2&\",Period:=\"&$B$1&\",InputChoice1:=Close,InputChoice2:=Close)\", \"FG\", \"\", \"Close\",$B$2, \"0\", \"all\",\"\", \"\",\"True\",\"T\")/100","v":0.55253450049999997},{"$f":"RTD(\"cqg.rtd\",,\"StudyData\", \"Correlation(\"&$A$10&\",\"&J$2&\",Period:=\"&$B$1&\",InputChoice1:=Close,InputChoice2:=Close)\", \"FG\", \"\", \"Close\",$B$2, \"0\", \"all\",\"\", \"\",\"True\",\"T\")/100","v":-0.1118109697},{"$f":"RTD(\"cqg.rtd\",,\"StudyData\", \"Correlation(\"&$A$10&\",\"&K$2&\",Period:=\"&$B$1&\",InputChoice1:=Close,InputChoice2:=Close)\", \"FG\", \"\", \"Close\",$B$2, \"0\", \"all\",\"\", \"\",\"True\",\"T\")/100","v":-0.33489219539999998},{"$f":"RTD(\"cqg.rtd\",,\"StudyData\", \"Correlation(\"&$A$10&\",\"&L$2&\",Period:=\"&$B$1&\",InputChoice1:=Close,InputChoice2:=Close)\", \"FG\", \"\", \"Close\",$B$2, \"0\", \"all\",\"\", \"\",\"True\",\"T\")/100","v":-0.41129500530000002}]
[{"$f":"Symbols!B13","v":"BP6"},null,{"$f":"RTD(\"cqg.rtd\",,\"StudyData\", \"Correlation(\"&$A$11&\",\"&C$2&\",Period:=\"&$B$1&\",InputChoice1:=Close,InputChoice2:=Close)\", \"FG\", \"\", \"Close\",$B$2, \"0\", \"all\",\"\", \"\",\"True\",\"T\")/100","v":-0.61754386150000007},{"$f":"RTD(\"cqg.rtd\",,\"StudyData\", \"Correlation(\"&$A$11&\",\"&D$2&\",Period:=\"&$B$1&\",InputChoice1:=Close,InputChoice2:=Close)\", \"FG\", \"\", \"Close\",$B$2, \"0\", \"all\",\"\", \"\",\"True\",\"T\")/100","v":-0.44545219330000002},{"$f":"RTD(\"cqg.rtd\",,\"StudyData\", \"Correlation(\"&$A$11&\",\"&E$2&\",Period:=\"&$B$1&\",InputChoice1:=Close,InputChoice2:=Close)\", \"FG\", \"\", \"Close\",$B$2, \"0\", \"all\",\"\", \"\",\"True\",\"T\")/100","v":-4.4355273000000001E-2},{"$f":"RTD(\"cqg.rtd\",,\"StudyData\", \"Correlation(\"&$A$11&\",\"&F$2&\",Period:=\"&$B$1&\",InputChoice1:=Close,InputChoice2:=Close)\", \"FG\", \"\", \"Close\",$B$2, \"0\", \"all\",\"\", \"\",\"True\",\"T\")/100","v":-0.54145820349999996},{"$f":"RTD(\"cqg.rtd\",,\"StudyData\", \"Correlation(\"&$A$11&\",\"&G$2&\",Period:=\"&$B$1&\",InputChoice1:=Close,InputChoice2:=Close)\", \"FG\", \"\", \"Close\",$B$2, \"0\", \"all\",\"\", \"\",\"True\",\"T\")/100","v":0.45457787840000002},{"$f":"RTD(\"cqg.rtd\",,\"StudyData\", \"Correlation(\"&$A$11&\",\"&H$2&\",Period:=\"&$B$1&\",InputChoice1:=Close,InputChoice2:=Close)\", \"FG\", \"\", \"Close\",$B$2, \"0\", \"all\",\"\", \"\",\"True\",\"T\")/100","v":0.3849366179},{"$f":"RTD(\"cqg.rtd\",,\"StudyData\", \"Correlation(\"&$A$11&\",\"&I$2&\",Period:=\"&$B$1&\",InputChoice1:=Close,InputChoice2:=Close)\", \"FG\", \"\", \"Close\",$B$2, \"0\", \"all\",\"\", \"\",\"True\",\"T\")/100","v":0.6343058211},{"$f":"RTD(\"cqg.rtd\",,\"StudyData\", \"Correlation(\"&$A$11&\",\"&J$2&\",Period:=\"&$B$1&\",InputChoice1:=Close,InputChoice2:=Close)\", \"FG\", \"\", \"Close\",$B$2, \"0\", \"all\",\"\", \"\",\"True\",\"T\")/100","v":-0.10640171520000001},{"$f":"RTD(\"cqg.rtd\",,\"StudyData\", \"Correlation(\"&$A$11&\",\"&K$2&\",Period:=\"&$B$1&\",InputChoice1:=Close,InputChoice2:=Close)\", \"FG\", \"\", \"Close\",$B$2, \"0\", \"all\",\"\", \"\",\"True\",\"T\")/100","v":-0.42200653090000001},{"$f":"RTD(\"cqg.rtd\",,\"StudyData\", \"Correlation(\"&$A$11&\",\"&L$2&\",Period:=\"&$B$1&\",InputChoice1:=Close,InputChoice2:=Close)\", \"FG\", \"\", \"Close\",$B$2, \"0\", \"all\",\"\", \"\",\"True\",\"T\")/100","v":-0.44698271379999999}]
[{"$f":"Symbols!B14","v":"MX6"},null,{"$f":"RTD(\"cqg.rtd\",,\"StudyData\", \"Correlation(\"&$A$12&\",\"&C$2&\",Period:=\"&$B$1&\",InputChoice1:=Close,InputChoice2:=Close)\", \"FG\", \"\", \"Close\",$B$2, \"0\", \"all\",\"\", \"\",\"True\",\"T\")/100","v":-0.51135608300000002},{"$f":"RTD(\"cqg.rtd\",,\"StudyData\", \"Correlation(\"&$A$12&\",\"&D$2&\",Period:=\"&$B$1&\",InputChoice1:=Close,InputChoice2:=Close)\", \"FG\", \"\", \"Close\",$B$2, \"0\", \"all\",\"\", \"\",\"True\",\"T\")/100","v":-0.341354294},{"$f":"RTD(\"cqg.rtd\",,\"StudyData\", \"Correlation(\"&$A$12&\",\"&E$2&\",Period:=\"&$B$1&\",InputChoice1:=Close,InputChoice2:=Close)\", \"FG\", \"\", \"Close\",$B$2, \"0\", \"all\",\"\", \"\",\"True\",\"T\")/100","v":0.16987791460000001},{"$f":"RTD(\"cqg.rtd\",,\"StudyData\", \"Correlation(\"&$A$12&\",\"&F$2&\",Period:=\"&$B$1&\",InputChoice1:=Close,InputChoice2:=Close)\", \"FG\", \"\", \"Close\",$B$2, \"0\", \"all\",\"\", \"\",\"True\",\"T\")/100","v":-0.35475820419999998},{"$f":"RTD(\"cqg.rtd\",,\"StudyData\", \"Correlation(\"&$A$12&\",\"&G$2&\",Period:=\"&$B$1&\",InputChoice1:=Close,InputChoice2:=Close)\", \"FG\", \"\", \"Close\",$B$2, \"0\", \"all\",\"\", \"\",\"True\",\"T\")/100","v":-3.4623509900000002E-2},{"$f":"RTD(\"cqg.rtd\",,\"StudyData\", \"Correlation(\"&$A$12&\",\"&H$2&\",Period:=\"&$B$1&\",InputChoice1:=Close,InputChoice2:=Close)\", \"FG\", \"\", \"Close\",$B$2, \"0\", \"all\",\"\", \"\",\"True\",\"T\")/100","v":0.5870908319},{"$f":"RTD(\"cqg.rtd\",,\"StudyData\", \"Correlation(\"&$A$12&\",\"&I$2&\",Period:=\"&$B$1&\",InputChoice1:=Close,InputChoice2:=Close)\", \"FG\", \"\", \"Close\",$B$2, \"0\", \"all\",\"\", \"\",\"True\",\"T\")/100","v":0.11488465389999999},{"$f":"RTD(\"cqg.rtd\",,\"StudyData\", \"Correlation(\"&$A$12&\",\"&J$2&\",Period:=\"&$B$1&\",InputChoice1:=Close,InputChoice2:=Close)\", \"FG\", \"\", \"Close\",$B$2, \"0\", \"all\",\"\", \"\",\"True\",\"T\")/100","v":-0.54540871699999993},{"$f":"RTD(\"cqg.rtd\",,\"StudyData\", \"Correlation(\"&$A$12&\",\"&K$2&\",Period:=\"&$B$1&\",InputChoice1:=Close,InputChoice2:=Close)\", \"FG\", \"\", \"Close\",$B$2, \"0\", \"all\",\"\", \"\",\"True\",\"T\")/100","v":0.184834262},{"$f":"RTD(\"cqg.rtd\",,\"StudyData\", \"Correlation(\"&$A$12&\",\"&L$2&\",Period:=\"&$B$1&\",InputChoice1:=Close,InputChoice2:=Close)\", \"FG\", \"\", \"Close\",$B$2, \"0\", \"all\",\"\", \"\",\"True\",\"T\")/100","v":-0.17022792310000001}]
[]
[]
[{"$f":"$A$3","v":"EP"},{"$f":"$C$2","v":"DD"},{"$f":"RTD(\"cqg.rtd\",,\"StudyData\", \"Correlation(\"&A15&\",\"&B15&\",Period:=\"&$B$1&\",InputChoice1:=Close,InputChoice2:=Close)\", \"FG\", \"\", \"Close\",$B$2, \"0\", \"all\",\"\", \"\",\"True\",\"T\")/100","v":0.13615007869999998},{"$f":"RANK(C15,$C$15:$C$114,0)+COUNTIF($C$15:C15,C15)-1","v":49},{"$f":"A15&\" vs \"&B15","v":"EP vs DD"},{"$f":"C15","v":0.13615007869999998},1,{"$f":"IFERROR(VLOOKUP(G15,$D$15:$E$114,2,FALSE),\"\")","v":"EP vs YM"},{"$f":"IFERROR(VLOOKUP(G15,$D$15:$F$114,3,FALSE),\"\")","v":0.95659353079999998},{"$f":"IF(I15>0,I15,I15*-1)","v":0.95659353079999998},{"$f":"IF(I15<0,I15*-1,\"\")","v":""},{"$f":"IF(K15=\"\",J15,J15*-1)","v":0.95659353079999998}]
[{"$f":"$A$3","v":"EP"},{"$f":"$D$2","v":"DSX"},{"$f":"RTD(\"cqg.rtd\",,\"StudyData\", \"Correlation(\"&A16&\",\"&B16&\",Period:=\"&$B$1&\",InputChoice1:=Close,InputChoice2:=Close)\", \"FG\", \"\", \"Close\",$B$2, \"0\", \"all\",\"\", \"\",\"True\",\"T\")/100","v":0.22299619270000001},{"$f":"RANK(C16,$C$15:$C$114,0)+COUNTIF($C$15:C16,C16)-1","v":40},{"$f":"A16&\" vs \"&B16","v":"EP vs DSX"},{"$f":"C16","v":0.22299619270000001},{"$f":"G15+1","v":2},{"$f":"IFERROR(VLOOKUP(G16,$D$15:$E$114,2,FALSE),\"\")","v":"EMD vs TFE"},{"$f":"IFERROR(VLOOKUP(G16,$D$15:$F$114,3,FALSE),\"\")","v":0.94141601620000004},{"$f":"IF(I16>0,I16,I16*-1)","v":0.94141601620000004},{"$f":"IF(I16<0,I16*-1,\"\")","v":""},{"$f":"IF(K16=\"\",J16,J16*-1)","v":0.94141601620000004}]
["EP",{"$f":"$E$2","v":"YM"},{"$f":"RTD(\"cqg.rtd\",,\"StudyData\", \"Correlation(\"&A17&\",\"&B17&\",Period:=\"&$B$1&\",InputChoice1:=Close,InputChoice2:=Close)\", \"FG\", \"\", \"Close\",$B$2, \"0\", \"all\",\"\", \"\",\"True\",\"T\")/100","v":0.95659353079999998},{"$f":"RANK(C17,$C$15:$C$114,0)+COUNTIF($C$15:C17,C17)-1","v":1},"EP vs YM",0.95659353079999998,{"$f":"G16+1","v":3},"EU6 vs CLE",0.93999856969999995,0.93999856969999995,"",0.93999856969999995]
["EP",{"$f":"$F$2","v":"PIL"},{"$f":"RTD(\"cqg.rtd\",,\"StudyData\", \"Correlation(\"&A18&\",\"&B18&\",Period:=\"&$B$1&\",InputChoice1:=Close,InputChoice2:=Close)\", \"FG\", \"\", \"Close\",$B$2, \"0\", \"all\",\"\", \"\",\"True\",\"T\")/100","v":0.38823862279999999},{"$f":"RANK(C18,$C$15:$C$114,0)+COUNTIF($C$15:C18,C18)-1","v":28},"EP vs PIL",0.38823862279999999,4,"GCE vs PLE",0.89937038819999993,0.89937038819999993,"",0.89937038819999993]
["EP",{"$f":"$G$2","v":"CLE"},{"$f":"RTD(\"cqg.rtd\",,\"StudyData\", \"Correlation(\"&A19&\",\"&B19&\",Period:=\"&$B$1&\",InputChoice1:=Close,InputChoice2:=Close)\", \"FG\", \"\", \"Close\",$B$2, \"0\", \"all\",\"\", \"\",\"True\",\"T\")/100","v":-0.24033074419999997},{"$f":"RANK(C19,$C$15:$C$114,0)+COUNTIF($C$15:C19,C19)-1","v":66},"EP vs CLE",-0.24033074419999997,5,"ENQ vs YM",0.87390877759999996,0.87390877759999996,"",0.87390877759999996]
["EP",{"$f":"$H$2","v":"PLE"},{"$f":"RTD(\"cqg.rtd\",,\"StudyData\", \"Correlation(\"&A20&\",\"&B20&\",Period:=\"&$B$1&\",InputChoice1:=Close,InputChoice2:=Close)\", \"FG\", \"\", \"Close\",$B$2, \"0\", \"all\",\"\", \"\",\"True\",\"T\")/100","v":-9.5899752199999994E-2},{"$f":"RANK(C20,$C$15:$C$114,0)+COUNTIF($C$15:C20,C20)-1","v":60},"EP vs PLE",-9.5899752199999994E-2,6,"DXE vs TFE",0.86617419819999997,0.86617419819999997,"",0.86617419819999997]
["EP",{"$f":"$I$2","v":"RBE"},{"$f":"RTD(\"cqg.rtd\",,\"StudyData\", \"Correlation(\"&A21&\",\"&B21&\",Period:=\"&$B$1&\",InputChoice1:=Close,InputChoice2:=Close)\", \"FG\", \"\", \"Close\",$B$2, \"0\", \"all\",\"\", \"\",\"True\",\"T\")/100","v":0.17526907110000001},{"$f":"RANK(C21,$C$15:$C$114,0)+COUNTIF($C$15:C21,C21)-1","v":43},"EP vs RBE",0.17526907110000001,7,"EMD vs QFA",0.84882179809999991,0.84882179809999991,"",0.84882179809999991]
["EP",{"$f":"$J$2","v":"NGE"},{"$f":"RTD(\"cqg.rtd\",,\"StudyData\", \"Correlation(\"&A22&\",\"&B22&\",Period:=\"&$B$1&\",InputChoice1:=Close,InputChoice2:=Close)\", \"FG\", \"\", \"Close\",$B$2, \"0\", \"all\",\"\", \"\",\"True\",\"T\")/100","v":-0.2532428907},{"$f":"RANK(C22,$C$15:$C$114,0)+COUNTIF($C$15:C22,C22)-1","v":67},"EP vs NGE",-0.2532428907,8,"EU6 vs RBE",0.84872542940000006,0.84872542940000006,"",0.84872542940000006]
["EP",{"$f":"$K$2","v":"TFE"},{"$f":"RTD(\"cqg.rtd\",,\"StudyData\", \"Correlation(\"&A23&\",\"&B23&\",Period:=\"&$B$1&\",InputChoice1:=Close,InputChoice2:=Close)\", \"FG\", \"\", \"Close\",$B$2, \"0\", \"all\",\"\", \"\",\"True\",\"T\")/100","v":0.43722661899999998},{"$f":"RANK(C23,$C$15:$C$114,0)+COUNTIF($C$15:C23,C23)-1","v":25},"EP vs TFE",0.43722661899999998,9,"DXE vs PIL",0.82302067140000001,0.82302067140000001,"",0.82302067140000001]
["EP",{"$f":"$L$2","v":"QFA"},{"$f":"RTD(\"cqg.rtd\",,\"StudyData\", \"Correlation(\"&A24&\",\"&B24&\",Period:=\"&$B$1&\",InputChoice1:=Close,InputChoice2:=Close)\", \"FG\", \"\", \"Close\",$B$2, \"0\", \"all\",\"\", \"\",\"True\",\"T\")/100","v":0.48387143199999999},{"$f":"RANK(C24,$C$15:$C$114,0)+COUNTIF($C$15:C24,C24)-1","v":22},"EP vs QFA",0.48387143199999999,10,"DXE vs DD",0.81968485060000007,0.81968485060000007,"",0.81968485060000007]
[{"$f":"$A$4","v":"ENQ"},{"$f":"$C$2","v":"DD"},{"$f":"RTD(\"cqg.rtd\",,\"StudyData\", \"Correlation(\"&A25&\",\"&B25&\",Period:=\"&$B$1&\",InputChoice1:=Close,InputChoice2:=Close)\", \"FG\", \"\", \"Close\",$B$2, \"0\", \"all\",\"\", \"\",\"True\",\"T\")/100","v":0.14852657969999999},{"$f":"RANK(C25,$C$15:$C$114,0)+COUNTIF($C$15:C25,C25)-1","v":46},"ENQ vs DD",0.14852657969999999,11,"EMD vs PIL",0.80082269819999996,0.80082269819999996,"",0.80082269819999996]
["ENQ",{"$f":"$D$2","v":"DSX"},{"$f":"RTD(\"cqg.rtd\",,\"StudyData\", \"Correlation(\"&A26&\",\"&B26&\",Period:=\"&$B$1&\",InputChoice1:=Close,InputChoice2:=Close)\", \"FG\", \"\", \"Close\",$B$2, \"0\", \"all\",\"\", \"\",\"True\",\"T\")/100","v":0.30008779899999999},{"$f":"RANK(C26,$C$15:$C$114,0)+COUNTIF($C$15:C26,C26)-1","v":34},"ENQ vs DSX",0.30008779899999999,12,"DXE vs QFA",0.7528931258999999,0.7528931258999999,"",0.7528931258999999]
["ENQ",{"$f":"$E$2","v":"YM"},{"$f":"RTD(\"cqg.rtd\",,\"StudyData\", \"Correlation(\"&A27&\",\"&B27&\",Period:=\"&$B$1&\",InputChoice1:=Close,InputChoice2:=Close)\", \"FG\", \"\", \"Close\",$B$2, \"0\", \"all\",\"\", \"\",\"True\",\"T\")/100","v":0.87390877759999996},{"$f":"RANK(C27,$C$15:$C$114,0)+COUNTIF($C$15:C27,C27)-1","v":5},"ENQ vs YM",0.87390877759999996,13,"DXE vs DSX",0.73405670029999992,0.73405670029999992,"",0.73405670029999992]
["ENQ",{"$f":"$F$2","v":"PIL"},{"$f":"RTD(\"cqg.rtd\",,\"StudyData\", \"Correlation(\"&A28&\",\"&B28&\",Period:=\"&$B$1&\",InputChoice1:=Close,InputChoice2:=Close)\", \"FG\", \"\", \"Close\",$B$2, \"0\", \"all\",\"\", \"\",\"True\",\"T\")/100","v":0.35044319100000004},{"$f":"RANK(C28,$C$15:$C$114,0)+COUNTIF($C$15:C28,C28)-1","v":31},"ENQ vs PIL",0.35044319100000004,14,"EMD vs YM",0.65842993419999996,0.65842993419999996,"",0.65842993419999996]
["ENQ",{"$f":"$G$2","v":"CLE"},{"$f":"RTD(\"cqg.rtd\",,\"StudyData\", \"Correlation(\"&A29&\",\"&B29&\",Period:=\"&$B$1&\",InputChoice1:=Close,InputChoice2:=Close)\", \"FG\", \"\", \"Close\",$B$2, \"0\", \"all\",\"\", \"\",\"True\",\"T\")/100","v":-0.26586857259999996},{"$f":"RANK(C29,$C$15:$C$114,0)+COUNTIF($C$15:C29,C29)-1","v":68},"ENQ vs CLE",-0.26586857259999996,15,"EU6 vs NGE",0.64116444279999996,0.64116444279999996,"",0.64116444279999996]
["ENQ",{"$f":"$H$2","v":"PLE"},{"$f":"RTD(\"cqg.rtd\",,\"StudyData\", \"Correlation(\"&A30&\",\"&B30&\",Period:=\"&$B$1&\",InputChoice1:=Close,InputChoice2:=Close)\", \"FG\", \"\", \"Close\",$B$2, \"0\", \"all\",\"\", \"\",\"True\",\"T\")/100","v":6.6041002400000007E-2},{"$f":"RANK(C30,$C$15:$C$114,0)+COUNTIF($C$15:C30,C30)-1","v":54},"ENQ vs PLE",6.6041002400000007E-2,16,"BP6 vs RBE",0.6343058211,0.6343058211,"",0.6343058211]
["ENQ",{"$f":"$I$2","v":"RBE"},{"$f":"RTD(\"cqg.rtd\",,\"StudyData\", \"Correlation(\"&A31&\",\"&B31&\",Period:=\"&$B$1&\",InputChoice1:=Close,InputChoice2:=Close)\", \"FG\", \"\", \"Close\",$B$2, \"0\", \"all\",\"\", \"\",\"True\",\"T\")/100","v":0.26552471910000003},{"$f":"RANK(C31,$C$15:$C$114,0)+COUNTIF($C$15:C31,C31)-1","v":36},"ENQ vs RBE",0.26552471910000003,17,"EMD vs DD",0.58870034830000006,0.58870034830000006,"",0.58870034830000006]
["ENQ",{"$f":"$J$2","v":"NGE"},{"$f":"RTD(\"cqg.rtd\",,\"StudyData\", \"Correlation(\"&A32&\",\"&B32&\",Period:=\"&$B$1&\",InputChoice1:=Close,InputChoice2:=Close)\", \"FG\", \"\", \"Close\",$B$2, \"0\", \"all\",\"\", \"\",\"True\",\"T\")/100","v":-0.52739552590000005},{"$f":"RANK(C32,$C$15:$C$114,0)+COUNTIF($C$15:C32,C32)-1","v":84},"ENQ vs NGE",-0.52739552590000005,18,"MX6 vs PLE",0.5870908319,0.5870908319,"",0.5870908319]
["ENQ",{"$f":"$K$2","v":"TFE"},{"$f":"RTD(\"cqg.rtd\",,\"StudyData\", \"Correlation(\"&A33&\",\"&B33&\",Period:=\"&$B$1&\",InputChoice1:=Close,InputChoice2:=Close)\", \"FG\", \"\", \"Close\",$B$2, \"0\", \"all\",\"\", \"\",\"True\",\"T\")/100","v":0.39711874709999995},{"$f":"RANK(C33,$C$15:$C$114,0)+COUNTIF($C$15:C33,C33)-1","v":26},"ENQ vs TFE",0.39711874709999995,19,"EMD vs DSX",0.58345562939999995,0.58345562939999995,"",0.58345562939999995]
["ENQ",{"$f":"$L$2","v":"QFA"},{"$f":"RTD(\"cqg.rtd\",,\"StudyData\", \"Correlation(\"&A34&\",\"&B34&\",Period:=\"&$B$1&\",InputChoice1:=Close,InputChoice2:=Close)\", \"FG\", \"\", \"Close\",$B$2, \"0\", \"all\",\"\", \"\",\"True\",\"T\")/100","v":0.4723335978},{"$f":"RANK(C34,$C$15:$C$114,0)+COUNTIF($C$15:C34,C34)-1","v":23},"ENQ vs QFA",0.4723335978,20,"DA6 vs RBE",0.55253450049999997,0.55253450049999997,"",0.55253450049999997]
[{"$f":"$A$5","v":"EMD"},{"$f":"$C$2","v":"DD"},{"$f":"RTD(\"cqg.rtd\",,\"StudyData\", \"Correlation(\"&A35&\",\"&B35&\",Period:=\"&$B$1&\",InputChoice1:=Close,InputChoice2:=Close)\", \"FG\", \"\", \"Close\",$B$2, \"0\", \"all\",\"\", \"\",\"True\",\"T\")/100","v":0.58870034830000006},{"$f":"RANK(C35,$C$15:$C$114,0)+COUNTIF($C$15:C35,C35)-1","v":17},"EMD vs DD",0.58870034830000006,21,"DA6 vs PLE",0.52348291120000001,0.52348291120000001,"",0.52348291120000001]
["EMD",{"$f":"$D$2","v":"DSX"},{"$f":"RTD(\"cqg.rtd\",,\"StudyData\", \"Correlation(\"&A36&\",\"&B36&\",Period:=\"&$B$1&\",InputChoice1:=Close,InputChoice2:=Close)\", \"FG\", \"\", \"Close\",$B$2, \"0\", \"all\",\"\", \"\",\"True\",\"T\")/100","v":0.58345562939999995},{"$f":"RANK(C36,$C$15:$C$114,0)+COUNTIF($C$15:C36,C36)-1","v":19},"EMD vs DSX",0.58345562939999995,22,"EP vs QFA",0.48387143199999999,0.48387143199999999,"",0.48387143199999999]
["EMD",{"$f":"$E$2","v":"YM"},{"$f":"RTD(\"cqg.rtd\",,\"StudyData\", \"Correlation(\"&A37&\",\"&B37&\",Period:=\"&$B$1&\",InputChoice1:=Close,InputChoice2:=Close)\", \"FG\", \"\", \"Close\",$B$2, \"0\", \"all\",\"\", \"\",\"True\",\"T\")/100","v":0.65842993419999996},{"$f":"RANK(C37,$C$15:$C$114,0)+COUNTIF($C$15:C37,C37)-1","v":14},"EMD vs YM",0.65842993419999996,23,"ENQ vs QFA",0.4723335978,0.4723335978,"",0.4723335978]
["EMD",{"$f":"$F$2","v":"PIL"},{"$f":"RTD(\"cqg.rtd\",,\"StudyData\", \"Correlation(\"&A38&\",\"&B38&\",Period:=\"&$B$1&\",InputChoice1:=Close,InputChoice2:=Close)\", \"FG\", \"\", \"Close\",$B$2, \"0\", \"all\",\"\", \"\",\"True\",\"T\")/100","v":0.80082269819999996},{"$f":"RANK(C38,$C$15:$C$114,0)+COUNTIF($C$15:C38,C38)-1","v":11},"EMD vs PIL",0.80082269819999996,24,"BP6 vs CLE",0.45457787840000002,0.45457787840000002,"",0.45457787840000002]
["EMD",{"$f":"$G$2","v":"CLE"},{"$f":"RTD(\"cqg.rtd\",,\"StudyData\", \"Correlation(\"&A39&\",\"&B39&\",Period:=\"&$B$1&\",InputChoice1:=Close,InputChoice2:=Close)\", \"FG\", \"\", \"Close\",$B$2, \"0\", \"all\",\"\", \"\",\"True\",\"T\")/100","v":-0.77668456109999995},{"$f":"RANK(C39,$C$15:$C$114,0)+COUNTIF($C$15:C39,C39)-1","v":93},"EMD vs CLE",-0.77668456109999995,25,"EP vs TFE",0.43722661899999998,0.43722661899999998,"",0.43722661899999998]
["EMD",{"$f":"$H$2","v":"PLE"},{"$f":"RTD(\"cqg.rtd\",,\"StudyData\", \"Correlation(\"&A40&\",\"&B40&\",Period:=\"&$B$1&\",InputChoice1:=Close,InputChoice2:=Close)\", \"FG\", \"\", \"Close\",$B$2, \"0\", \"all\",\"\", \"\",\"True\",\"T\")/100","v":-0.15206072170000001},{"$f":"RANK(C40,$C$15:$C$114,0)+COUNTIF($C$15:C40,C40)-1","v":63},"EMD vs PLE",-0.15206072170000001,26,"ENQ vs TFE",0.39711874709999995,0.39711874709999995,"",0.39711874709999995]
["EMD",{"$f":"$I$2","v":"RBE"},{"$f":"RTD(\"cqg.rtd\",,\"StudyData\", \"Correlation(\"&A41&\",\"&B41&\",Period:=\"&$B$1&\",InputChoice1:=Close,InputChoice2:=Close)\", \"FG\", \"\", \"Close\",$B$2, \"0\", \"all\",\"\", \"\",\"True\",\"T\")/100","v":-0.56451109300000002},{"$f":"RANK(C41,$C$15:$C$114,0)+COUNTIF($C$15:C41,C41)-1","v":87},"EMD vs RBE",-0.56451109300000002,27,"JY6 vs TFE",0.38977908859999999,0.38977908859999999,"",0.38977908859999999]
["EMD",{"$f":"$J$2","v":"NGE"},{"$f":"RTD(\"cqg.rtd\",,\"StudyData\", \"Correlation(\"&A42&\",\"&B42&\",Period:=\"&$B$1&\",InputChoice1:=Close,InputChoice2:=Close)\", \"FG\", \"\", \"Close\",$B$2, \"0\", \"all\",\"\", \"\",\"True\",\"T\")/100","v":-0.57717753770000002},{"$f":"RANK(C42,$C$15:$C$114,0)+COUNTIF($C$15:C42,C42)-1","v":89},"EMD vs NGE",-0.57717753770000002,28,"EP vs PIL",0.38823862279999999,0.38823862279999999,"",0.38823862279999999]
["EMD",{"$f":"$K$2","v":"TFE"},{"$f":"RTD(\"cqg.rtd\",,\"StudyData\", \"Correlation(\"&A43&\",\"&B43&\",Period:=\"&$B$1&\",InputChoice1:=Close,InputChoice2:=Close)\", \"FG\", \"\", \"Close\",$B$2, \"0\", \"all\",\"\", \"\",\"True\",\"T\")/100","v":0.94141601620000004},{"$f":"RANK(C43,$C$15:$C$114,0)+COUNTIF($C$15:C43,C43)-1","v":2},"EMD vs TFE",0.94141601620000004,29,"DA6 vs CLE",0.38740339880000002,0.38740339880000002,"",0.38740339880000002]
["EMD",{"$f":"$L$2","v":"QFA"},{"$f":"RTD(\"cqg.rtd\",,\"StudyData\", \"Correlation(\"&A44&\",\"&B44&\",Period:=\"&$B$1&\",InputChoice1:=Close,InputChoice2:=Close)\", \"FG\", \"\", \"Close\",$B$2, \"0\", \"all\",\"\", \"\",\"True\",\"T\")/100","v":0.84882179809999991},{"$f":"RANK(C44,$C$15:$C$114,0)+COUNTIF($C$15:C44,C44)-1","v":7},"EMD vs QFA",0.84882179809999991,30,"BP6 vs PLE",0.3849366179,0.3849366179,"",0.3849366179]
[{"$f":"$A$6","v":"GCE"},{"$f":"$C$2","v":"DD"},{"$f":"RTD(\"cqg.rtd\",,\"StudyData\", \"Correlation(\"&A45&\",\"&B45&\",Period:=\"&$B$1&\",InputChoice1:=Close,InputChoice2:=Close)\", \"FG\", \"\", \"Close\",$B$2, \"0\", \"all\",\"\", \"\",\"True\",\"T\")/100","v":0.1221561015},{"$f":"RANK(C45,$C$15:$C$114,0)+COUNTIF($C$15:C45,C45)-1","v":51},"GCE vs DD",0.1221561015,31,"ENQ vs PIL",0.35044319100000004,0.35044319100000004,"",0.35044319100000004]
[{"$f":"$A$6","v":"GCE"},{"$f":"$D$2","v":"DSX"},{"$f":"RTD(\"cqg.rtd\",,\"StudyData\", \"Correlation(\"&A46&\",\"&B46&\",Period:=\"&$B$1&\",InputChoice1:=Close,InputChoice2:=Close)\", \"FG\", \"\", \"Close\",$B$2, \"0\", \"all\",\"\", \"\",\"True\",\"T\")/100","v":0.1388292136},{"$f":"RANK(C46,$C$15:$C$114,0)+COUNTIF($C$15:C46,C46)-1","v":48},"GCE vs DSX",0.1388292136,32,"GCE vs TFE",0.32870167700000003,0.32870167700000003,"",0.32870167700000003]
["GCE",{"$f":"$E$2","v":"YM"},{"$f":"RTD(\"cqg.rtd\",,\"StudyData\", \"Correlation(\"&A47&\",\"&B47&\",Period:=\"&$B$1&\",InputChoice1:=Close,InputChoice2:=Close)\", \"FG\", \"\", \"Close\",$B$2, \"0\", \"all\",\"\", \"\",\"True\",\"T\")/100","v":0.26635958479999999},{"$f":"RANK(C47,$C$15:$C$114,0)+COUNTIF($C$15:C47,C47)-1","v":35},"GCE vs YM",0.26635958479999999,33,"JY6 vs PLE",0.30897664890000004,0.30897664890000004,"",0.30897664890000004]
["GCE",{"$f":"$F$2","v":"PIL"},{"$f":"RTD(\"cqg.rtd\",,\"StudyData\", \"Correlation(\"&A48&\",\"&B48&\",Period:=\"&$B$1&\",InputChoice1:=Close,InputChoice2:=Close)\", \"FG\", \"\", \"Close\",$B$2, \"0\", \"all\",\"\", \"\",\"True\",\"T\")/100","v":9.7663337699999991E-2},{"$f":"RANK(C48,$C$15:$C$114,0)+COUNTIF($C$15:C48,C48)-1","v":53},"GCE vs PIL",9.7663337699999991E-2,34,"ENQ vs DSX",0.30008779899999999,0.30008779899999999,"",0.30008779899999999]
["GCE",{"$f":"$G$2","v":"CLE"},{"$f":"RTD(\"cqg.rtd\",,\"StudyData\", \"Correlation(\"&A49&\",\"&B49&\",Period:=\"&$B$1&\",InputChoice1:=Close,InputChoice2:=Close)\", \"FG\", \"\", \"Close\",$B$2, \"0\", \"all\",\"\", \"\",\"True\",\"T\")/100","v":-0.3337297588},{"$f":"RANK(C49,$C$15:$C$114,0)+COUNTIF($C$15:C49,C49)-1","v":72},"GCE vs CLE",-0.3337297588,35,"GCE vs YM",0.26635958479999999,0.26635958479999999,"",0.26635958479999999]
["GCE",{"$f":"$H$2","v":"PLE"},{"$f":"RTD(\"cqg.rtd\",,\"StudyData\", \"Correlation(\"&A50&\",\"&B50&\",Period:=\"&$B$1&\",InputChoice1:=Close,InputChoice2:=Close)\", \"FG\", \"\", \"Close\",$B$2, \"0\", \"all\",\"\", \"\",\"True\",\"T\")/100","v":0.89937038819999993},{"$f":"RANK(C50,$C$15:$C$114,0)+COUNTIF($C$15:C50,C50)-1","v":4},"GCE vs PLE",0.89937038819999993,36,"ENQ vs RBE",0.26552471910000003,0.26552471910000003,"",0.26552471910000003]
["GCE",{"$f":"$I$2","v":"RBE"},{"$f":"RTD(\"cqg.rtd\",,\"StudyData\", \"Correlation(\"&A51&\",\"&B51&\",Period:=\"&$B$1&\",InputChoice1:=Close,InputChoice2:=Close)\", \"FG\", \"\", \"Close\",$B$2, \"0\", \"all\",\"\", \"\",\"True\",\"T\")/100","v":-0.31963383579999999},{"$f":"RANK(C51,$C$15:$C$114,0)+COUNTIF($C$15:C51,C51)-1","v":71},"GCE vs RBE",-0.31963383579999999,37,"JY6 vs QFA",0.23781292530000001,0.23781292530000001,"",0.23781292530000001]
["GCE",{"$f":"$J$2","v":"NGE"},{"$f":"RTD(\"cqg.rtd\",,\"StudyData\", \"Correlation(\"&A52&\",\"&B52&\",Period:=\"&$B$1&\",InputChoice1:=Close,InputChoice2:=Close)\", \"FG\", \"\", \"Close\",$B$2, \"0\", \"all\",\"\", \"\",\"True\",\"T\")/100","v":-0.56652372399999995},{"$f":"RANK(C52,$C$15:$C$114,0)+COUNTIF($C$15:C52,C52)-1","v":88},"GCE vs NGE",-0.56652372399999995,38,"JY6 vs YM",0.23562196120000001,0.23562196120000001,"",0.23562196120000001]
["GCE",{"$f":"$K$2","v":"TFE"},{"$f":"RTD(\"cqg.rtd\",,\"StudyData\", \"Correlation(\"&A53&\",\"&B53&\",Period:=\"&$B$1&\",InputChoice1:=Close,InputChoice2:=Close)\", \"FG\", \"\", \"Close\",$B$2, \"0\", \"all\",\"\", \"\",\"True\",\"T\")/100","v":0.32870167700000003},{"$f":"RANK(C53,$C$15:$C$114,0)+COUNTIF($C$15:C53,C53)-1","v":32},"GCE vs TFE",0.32870167700000003,39,"DXE vs YM",0.22849753369999998,0.22849753369999998,"",0.22849753369999998]
["GCE",{"$f":"$L$2","v":"QFA"},{"$f":"RTD(\"cqg.rtd\",,\"StudyData\", \"Correlation(\"&A54&\",\"&B54&\",Period:=\"&$B$1&\",InputChoice1:=Close,InputChoice2:=Close)\", \"FG\", \"\", \"Close\",$B$2, \"0\", \"all\",\"\", \"\",\"True\",\"T\")/100","v":0.20515162310000001},{"$f":"RANK(C54,$C$15:$C$114,0)+COUNTIF($C$15:C54,C54)-1","v":41},"GCE vs QFA",0.20515162310000001,40,"EP vs DSX",0.22299619270000001,0.22299619270000001,"",0.22299619270000001]
[{"$f":"$A$7","v":"DXE"},{"$f":"$C$2","v":"DD"},{"$f":"RTD(\"cqg.rtd\",,\"StudyData\", \"Correlation(\"&A55&\",\"&B55&\",Period:=\"&$B$1&\",InputChoice1:=Close,InputChoice2:=Close)\", \"FG\", \"\", \"Close\",$B$2, \"0\", \"all\",\"\", \"\",\"True\",\"T\")/100","v":0.81968485060000007},{"$f":"RANK(C55,$C$15:$C$114,0)+COUNTIF($C$15:C55,C55)-1","v":10},"DXE vs DD",0.81968485060000007,41,"GCE vs QFA",0.20515162310000001,0.20515162310000001,"",0.20515162310000001]
[{"$f":"$A$7","v":"DXE"},{"$f":"$D$2","v":"DSX"},{"$f":"RTD(\"cqg.rtd\",,\"StudyData\", \"Correlation(\"&A56&\",\"&B56&\",Period:=\"&$B$1&\",InputChoice1:=Close,InputChoice2:=Close)\", \"FG\", \"\", \"Close\",$B$2, \"0\", \"all\",\"\", \"\",\"True\",\"T\")/100","v":0.73405670029999992},{"$f":"RANK(C56,$C$15:$C$114,0)+COUNTIF($C$15:C56,C56)-1","v":13},"DXE vs DSX",0.73405670029999992,42,"MX6 vs TFE",0.184834262,0.184834262,"",0.184834262]
["DXE",{"$f":"$E$2","v":"YM"},{"$f":"RTD(\"cqg.rtd\",,\"StudyData\", \"Correlation(\"&A57&\",\"&B57&\",Period:=\"&$B$1&\",InputChoice1:=Close,InputChoice2:=Close)\", \"FG\", \"\", \"Close\",$B$2, \"0\", \"all\",\"\", \"\",\"True\",\"T\")/100","v":0.22849753369999998},{"$f":"RANK(C57,$C$15:$C$114,0)+COUNTIF($C$15:C57,C57)-1","v":39},"DXE vs YM",0.22849753369999998,43,"EP vs RBE",0.17526907110000001,0.17526907110000001,"",0.17526907110000001]
["DXE",{"$f":"$F$2","v":"PIL"},{"$f":"RTD(\"cqg.rtd\",,\"StudyData\", \"Correlation(\"&A58&\",\"&B58&\",Period:=\"&$B$1&\",InputChoice1:=Close,InputChoice2:=Close)\", \"FG\", \"\", \"Close\",$B$2, \"0\", \"all\",\"\", \"\",\"True\",\"T\")/100","v":0.82302067140000001},{"$f":"RANK(C58,$C$15:$C$114,0)+COUNTIF($C$15:C58,C58)-1","v":9},"DXE vs PIL",0.82302067140000001,44,"JY6 vs DSX",0.17379331669999998,0.17379331669999998,"",0.17379331669999998]
["DXE",{"$f":"$G$2","v":"CLE"},{"$f":"RTD(\"cqg.rtd\",,\"StudyData\", \"Correlation(\"&A59&\",\"&B59&\",Period:=\"&$B$1&\",InputChoice1:=Close,InputChoice2:=Close)\", \"FG\", \"\", \"Close\",$B$2, \"0\", \"all\",\"\", \"\",\"True\",\"T\")/100","v":-0.90155218619999999},{"$f":"RANK(C59,$C$15:$C$114,0)+COUNTIF($C$15:C59,C59)-1","v":99},"DXE vs CLE",-0.90155218619999999,45,"MX6 vs YM",0.16987791460000001,0.16987791460000001,"",0.16987791460000001]
["DXE",{"$f":"$H$2","v":"PLE"},{"$f":"RTD(\"cqg.rtd\",,\"StudyData\", \"Correlation(\"&A60&\",\"&B60&\",Period:=\"&$B$1&\",InputChoice1:=Close,InputChoice2:=Close)\", \"FG\", \"\", \"Close\",$B$2, \"0\", \"all\",\"\", \"\",\"True\",\"T\")/100","v":-0.21719623869999999},{"$f":"RANK(C60,$C$15:$C$114,0)+COUNTIF($C$15:C60,C60)-1","v":65},"DXE vs PLE",-0.21719623869999999,46,"ENQ vs DD",0.14852657969999999,0.14852657969999999,"",0.14852657969999999]
["DXE",{"$f":"$I$2","v":"RBE"},{"$f":"RTD(\"cqg.rtd\",,\"StudyData\", \"Correlation(\"&A61&\",\"&B61&\",Period:=\"&$B$1&\",InputChoice1:=Close,InputChoice2:=Close)\", \"FG\", \"\", \"Close\",$B$2, \"0\", \"all\",\"\", \"\",\"True\",\"T\")/100","v":-0.86328056959999999},{"$f":"RANK(C61,$C$15:$C$114,0)+COUNTIF($C$15:C61,C61)-1","v":98},"DXE vs RBE",-0.86328056959999999,47,"DA6 vs YM",0.14285272199999999,0.14285272199999999,"",0.14285272199999999]
["DXE",{"$f":"$J$2","v":"NGE"},{"$f":"RTD(\"cqg.rtd\",,\"StudyData\", \"Correlation(\"&A62&\",\"&B62&\",Period:=\"&$B$1&\",InputChoice1:=Close,InputChoice2:=Close)\", \"FG\", \"\", \"Close\",$B$2, \"0\", \"all\",\"\", \"\",\"True\",\"T\")/100","v":-0.51209359620000006},{"$f":"RANK(C62,$C$15:$C$114,0)+COUNTIF($C$15:C62,C62)-1","v":82},"DXE vs NGE",-0.51209359620000006,48,"GCE vs DSX",0.1388292136,0.1388292136,"",0.1388292136]
["DXE",{"$f":"$K$2","v":"TFE"},{"$f":"RTD(\"cqg.rtd\",,\"StudyData\", \"Correlation(\"&A63&\",\"&B63&\",Period:=\"&$B$1&\",InputChoice1:=Close,InputChoice2:=Close)\", \"FG\", \"\", \"Close\",$B$2, \"0\", \"all\",\"\", \"\",\"True\",\"T\")/100","v":0.86617419819999997},{"$f":"RANK(C63,$C$15:$C$114,0)+COUNTIF($C$15:C63,C63)-1","v":6},"DXE vs TFE",0.86617419819999997,49,"EP vs DD",0.13615007869999998,0.13615007869999998,"",0.13615007869999998]
["DXE",{"$f":"$L$2","v":"QFA"},{"$f":"RTD(\"cqg.rtd\",,\"StudyData\", \"Correlation(\"&A64&\",\"&B64&\",Period:=\"&$B$1&\",InputChoice1:=Close,InputChoice2:=Close)\", \"FG\", \"\", \"Close\",$B$2, \"0\", \"all\",\"\", \"\",\"True\",\"T\")/100","v":0.7528931258999999},{"$f":"RANK(C64,$C$15:$C$114,0)+COUNTIF($C$15:C64,C64)-1","v":12},"DXE vs QFA",0.7528931258999999,50,"EU6 vs PLE",0.12820617049999999,0.12820617049999999,"",0.12820617049999999]
[{"$f":"$A$8","v":"EU6"},{"$f":"$C$2","v":"DD"},{"$f":"RTD(\"cqg.rtd\",,\"StudyData\", \"Correlation(\"&A65&\",\"&B65&\",Period:=\"&$B$1&\",InputChoice1:=Close,InputChoice2:=Close)\", \"FG\", \"\", \"Close\",$B$2, \"0\", \"all\",\"\", \"\",\"True\",\"T\")/100","v":-0.83463596039999999},{"$f":"RANK(C65,$C$15:$C$114,0)+COUNTIF($C$15:C65,C65)-1","v":96},"EU6 vs DD",-0.83463596039999999,51,"GCE vs DD",0.1221561015,0.1221561015,"",0.1221561015]
[{"$f":"$A$8","v":"EU6"},{"$f":"$D$2","v":"DSX"},{"$f":"RTD(\"cqg.rtd\",,\"StudyData\", \"Correlation(\"&A66&\",\"&B66&\",Period:=\"&$B$1&\",InputChoice1:=Close,InputChoice2:=Close)\", \"FG\", \"\", \"Close\",$B$2, \"0\", \"all\",\"\", \"\",\"True\",\"T\")/100","v":-0.77387619119999995},{"$f":"RANK(C66,$C$15:$C$114,0)+COUNTIF($C$15:C66,C66)-1","v":92},"EU6 vs DSX",-0.77387619119999995,52,"MX6 vs RBE",0.11488465389999999,0.11488465389999999,"",0.11488465389999999]
["EU6",{"$f":"$E$2","v":"YM"},{"$f":"RTD(\"cqg.rtd\",,\"StudyData\", \"Correlation(\"&A67&\",\"&B67&\",Period:=\"&$B$1&\",InputChoice1:=Close,InputChoice2:=Close)\", \"FG\", \"\", \"Close\",$B$2, \"0\", \"all\",\"\", \"\",\"True\",\"T\")/100","v":-0.28598835509999998},{"$f":"RANK(C67,$C$15:$C$114,0)+COUNTIF($C$15:C67,C67)-1","v":70},"EU6 vs YM",-0.28598835509999998,53,"GCE vs PIL",9.7663337699999991E-2,9.7663337699999991E-2,"",9.7663337699999991E-2]
["EU6",{"$f":"$F$2","v":"PIL"},{"$f":"RTD(\"cqg.rtd\",,\"StudyData\", \"Correlation(\"&A68&\",\"&B68&\",Period:=\"&$B$1&\",InputChoice1:=Close,InputChoice2:=Close)\", \"FG\", \"\", \"Close\",$B$2, \"0\", \"all\",\"\", \"\",\"True\",\"T\")/100","v":-0.85829543110000006},{"$f":"RANK(C68,$C$15:$C$114,0)+COUNTIF($C$15:C68,C68)-1","v":97},"EU6 vs PIL",-0.85829543110000006,54,"ENQ vs PLE",6.6041002400000007E-2,6.6041002400000007E-2,"",6.6041002400000007E-2]
["EU6",{"$f":"$G$2","v":"CLE"},{"$f":"RTD(\"cqg.rtd\",,\"StudyData\", \"Correlation(\"&A69&\",\"&B69&\",Period:=\"&$B$1&\",InputChoice1:=Close,InputChoice2:=Close)\", \"FG\", \"\", \"Close\",$B$2, \"0\", \"all\",\"\", \"\",\"True\",\"T\")/100","v":0.93999856969999995},{"$f":"RANK(C69,$C$15:$C$114,0)+COUNTIF($C$15:C69,C69)-1","v":3},"EU6 vs CLE",0.93999856969999995,55,"JY6 vs PIL",5.9084612200000004E-2,5.9084612200000004E-2,"",5.9084612200000004E-2]
["EU6",{"$f":"$H$2","v":"PLE"},{"$f":"RTD(\"cqg.rtd\",,\"StudyData\", \"Correlation(\"&A70&\",\"&B70&\",Period:=\"&$B$1&\",InputChoice1:=Close,InputChoice2:=Close)\", \"FG\", \"\", \"Close\",$B$2, \"0\", \"all\",\"\", \"\",\"True\",\"T\")/100","v":0.12820617049999999},{"$f":"RANK(C70,$C$15:$C$114,0)+COUNTIF($C$15:C70,C70)-1","v":50},"EU6 vs PLE",0.12820617049999999,56,"JY6 vs RBE",4.1295026200000001E-2,4.1295026200000001E-2,"",4.1295026200000001E-2]
["EU6",{"$f":"$I$2","v":"RBE"},{"$f":"RTD(\"cqg.rtd\",,\"StudyData\", \"Correlation(\"&A71&\",\"&B71&\",Period:=\"&$B$1&\",InputChoice1:=Close,InputChoice2:=Close)\", \"FG\", \"\", \"Close\",$B$2, \"0\", \"all\",\"\", \"\",\"True\",\"T\")/100","v":0.84872542940000006},{"$f":"RANK(C71,$C$15:$C$114,0)+COUNTIF($C$15:C71,C71)-1","v":8},"EU6 vs RBE",0.84872542940000006,57,"JY6 vs DD",1.40909001E-2,1.40909001E-2,"",1.40909001E-2]
["EU6",{"$f":"$J$2","v":"NGE"},{"$f":"RTD(\"cqg.rtd\",,\"StudyData\", \"Correlation(\"&A72&\",\"&B72&\",Period:=\"&$B$1&\",InputChoice1:=Close,InputChoice2:=Close)\", \"FG\", \"\", \"Close\",$B$2, \"0\", \"all\",\"\", \"\",\"True\",\"T\")/100","v":0.64116444279999996},{"$f":"RANK(C72,$C$15:$C$114,0)+COUNTIF($C$15:C72,C72)-1","v":15},"EU6 vs NGE",0.64116444279999996,58,"MX6 vs CLE",-3.4623509900000002E-2,3.4623509900000002E-2,3.4623509900000002E-2,-3.4623509900000002E-2]
["EU6",{"$f":"$K$2","v":"TFE"},{"$f":"RTD(\"cqg.rtd\",,\"StudyData\", \"Correlation(\"&A73&\",\"&B73&\",Period:=\"&$B$1&\",InputChoice1:=Close,InputChoice2:=Close)\", \"FG\", \"\", \"Close\",$B$2, \"0\", \"all\",\"\", \"\",\"True\",\"T\")/100","v":-0.9236491644},{"$f":"RANK(C73,$C$15:$C$114,0)+COUNTIF($C$15:C73,C73)-1","v":100},"EU6 vs TFE",-0.9236491644,59,"BP6 vs YM",-4.4355273000000001E-2,4.4355273000000001E-2,4.4355273000000001E-2,-4.4355273000000001E-2]
["EU6",{"$f":"$L$2","v":"QFA"},{"$f":"RTD(\"cqg.rtd\",,\"StudyData\", \"Correlation(\"&A74&\",\"&B74&\",Period:=\"&$B$1&\",InputChoice1:=Close,InputChoice2:=Close)\", \"FG\", \"\", \"Close\",$B$2, \"0\", \"all\",\"\", \"\",\"True\",\"T\")/100","v":-0.81256737229999998},{"$f":"RANK(C74,$C$15:$C$114,0)+COUNTIF($C$15:C74,C74)-1","v":95},"EU6 vs QFA",-0.81256737229999998,60,"EP vs PLE",-9.5899752199999994E-2,9.5899752199999994E-2,9.5899752199999994E-2,-9.5899752199999994E-2]
[{"$f":"$A$9","v":"JY6"},{"$f":"$C$2","v":"DD"},{"$f":"RTD(\"cqg.rtd\",,\"StudyData\", \"Correlation(\"&A75&\",\"&B75&\",Period:=\"&$B$1&\",InputChoice1:=Close,InputChoice2:=Close)\", \"FG\", \"\", \"Close\",$B$2, \"0\", \"all\",\"\", \"\",\"True\",\"T\")/100","v":1.40909001E-2},{"$f":"RANK(C75,$C$15:$C$114,0)+COUNTIF($C$15:C75,C75)-1","v":57},"JY6 vs DD",1.40909001E-2,61,"BP6 vs NGE",-0.10640171520000001,0.10640171520000001,0.10640171520000001,-0.10640171520000001]
[{"$f":"$A$9","v":"JY6"},{"$f":"$D$2","v":"DSX"},{"$f":"RTD(\"cqg.rtd\",,\"StudyData\", \"Correlation(\"&A76&\",\"&B76&\",Period:=\"&$B$1&\",InputChoice1:=Close,InputChoice2:=Close)\", \"FG\", \"\", \"Close\",$B$2, \"0\", \"all\",\"\", \"\",\"True\",\"T\")/100","v":0.17379331669999998},{"$f":"RANK(C76,$C$15:$C$114,0)+COUNTIF($C$15:C76,C76)-1","v":44},"JY6 vs DSX",0.17379331669999998,62,"DA6 vs NGE",-0.1118109697,0.1118109697,0.1118109697,-0.1118109697]
["JY6",{"$f":"$E$2","v":"YM"},{"$f":"RTD(\"cqg.rtd\",,\"StudyData\", \"Correlation(\"&A77&\",\"&B77&\",Period:=\"&$B$1&\",InputChoice1:=Close,InputChoice2:=Close)\", \"FG\", \"\", \"Close\",$B$2, \"0\", \"all\",\"\", \"\",\"True\",\"T\")/100","v":0.23562196120000001},{"$f":"RANK(C77,$C$15:$C$114,0)+COUNTIF($C$15:C77,C77)-1","v":38},"JY6 vs YM",0.23562196120000001,63,"EMD vs PLE",-0.15206072170000001,0.15206072170000001,0.15206072170000001,-0.15206072170000001]
["JY6",{"$f":"$F$2","v":"PIL"},{"$f":"RTD(\"cqg.rtd\",,\"StudyData\", \"Correlation(\"&A78&\",\"&B78&\",Period:=\"&$B$1&\",InputChoice1:=Close,InputChoice2:=Close)\", \"FG\", \"\", \"Close\",$B$2, \"0\", \"all\",\"\", \"\",\"True\",\"T\")/100","v":5.9084612200000004E-2},{"$f":"RANK(C78,$C$15:$C$114,0)+COUNTIF($C$15:C78,C78)-1","v":55},"JY6 vs PIL",5.9084612200000004E-2,64,"MX6 vs QFA",-0.17022792310000001,0.17022792310000001,0.17022792310000001,-0.17022792310000001]
["JY6",{"$f":"$G$2","v":"CLE"},{"$f":"RTD(\"cqg.rtd\",,\"StudyData\", \"Correlation(\"&A79&\",\"&B79&\",Period:=\"&$B$1&\",InputChoice1:=Close,InputChoice2:=Close)\", \"FG\", \"\", \"Close\",$B$2, \"0\", \"all\",\"\", \"\",\"True\",\"T\")/100","v":-0.28346756670000001},{"$f":"RANK(C79,$C$15:$C$114,0)+COUNTIF($C$15:C79,C79)-1","v":69},"JY6 vs CLE",-0.28346756670000001,65,"DXE vs PLE",-0.21719623869999999,0.21719623869999999,0.21719623869999999,-0.21719623869999999]
["JY6",{"$f":"$H$2","v":"PLE"},{"$f":"RTD(\"cqg.rtd\",,\"StudyData\", \"Correlation(\"&A80&\",\"&B80&\",Period:=\"&$B$1&\",InputChoice1:=Close,InputChoice2:=Close)\", \"FG\", \"\", \"Close\",$B$2, \"0\", \"all\",\"\", \"\",\"True\",\"T\")/100","v":0.30897664890000004},{"$f":"RANK(C80,$C$15:$C$114,0)+COUNTIF($C$15:C80,C80)-1","v":33},{"$f":"A80&\" vs \"&B80","v":"JY6 vs PLE"},{"$f":"C80","v":0.30897664890000004},66,{"$f":"IFERROR(VLOOKUP(G80,$D$15:$E$114,2,FALSE),\"\")","v":"EP vs CLE"},{"$f":"IFERROR(VLOOKUP(G80,$D$15:$F$114,3,FALSE),\"\")","v":-0.24033074419999997},{"$f":"IF(I80>0,I80,I80*-1)","v":0.24033074419999997},{"$f":"IF(I80<0,I80*-1,\"\")","v":0.24033074419999997},{"$f":"IF(K80=\"\",J80,J80*-1)","v":-0.24033074419999997}]
["JY6",{"$f":"$I$2","v":"RBE"},{"$f":"RTD(\"cqg.rtd\",,\"StudyData\", \"Correlation(\"&A81&\",\"&B81&\",Period:=\"&$B$1&\",InputChoice1:=Close,InputChoice2:=Close)\", \"FG\", \"\", \"Close\",$B$2, \"0\", \"all\",\"\", \"\",\"True\",\"T\")/100","v":4.1295026200000001E-2},{"$f":"RANK(C81,$C$15:$C$114,0)+COUNTIF($C$15:C81,C81)-1","v":56},"JY6 vs RBE",4.1295026200000001E-2,{"$f":"G80+1","v":67},"EP vs NGE",-0.2532428907,0.2532428907,0.2532428907,-0.2532428907]
["JY6",{"$f":"$J$2","v":"NGE"},{"$f":"RTD(\"cqg.rtd\",,\"StudyData\", \"Correlation(\"&A82&\",\"&B82&\",Period:=\"&$B$1&\",InputChoice1:=Close,InputChoice2:=Close)\", \"FG\", \"\", \"Close\",$B$2, \"0\", \"all\",\"\", \"\",\"True\",\"T\")/100","v":-0.78952458699999994},{"$f":"RANK(C82,$C$15:$C$114,0)+COUNTIF($C$15:C82,C82)-1","v":94},"JY6 vs NGE",-0.78952458699999994,68,"ENQ vs CLE",-0.26586857259999996,0.26586857259999996,0.26586857259999996,-0.26586857259999996]
["JY6",{"$f":"$K$2","v":"TFE"},{"$f":"RTD(\"cqg.rtd\",,\"StudyData\", \"Correlation(\"&A83&\",\"&B83&\",Period:=\"&$B$1&\",InputChoice1:=Close,InputChoice2:=Close)\", \"FG\", \"\", \"Close\",$B$2, \"0\", \"all\",\"\", \"\",\"True\",\"T\")/100","v":0.38977908859999999},{"$f":"RANK(C83,$C$15:$C$114,0)+COUNTIF($C$15:C83,C83)-1","v":27},"JY6 vs TFE",0.38977908859999999,69,"JY6 vs CLE",-0.28346756670000001,0.28346756670000001,0.28346756670000001,-0.28346756670000001]
["JY6",{"$f":"$L$2","v":"QFA"},{"$f":"RTD(\"cqg.rtd\",,\"StudyData\", \"Correlation(\"&A84&\",\"&B84&\",Period:=\"&$B$1&\",InputChoice1:=Close,InputChoice2:=Close)\", \"FG\", \"\", \"Close\",$B$2, \"0\", \"all\",\"\", \"\",\"True\",\"T\")/100","v":0.23781292530000001},{"$f":"RANK(C84,$C$15:$C$114,0)+COUNTIF($C$15:C84,C84)-1","v":37},"JY6 vs QFA",0.23781292530000001,70,"EU6 vs YM",-0.28598835509999998,0.28598835509999998,0.28598835509999998,-0.28598835509999998]
[{"$f":"$A$10","v":"DA6"},{"$f":"$C$2","v":"DD"},{"$f":"RTD(\"cqg.rtd\",,\"StudyData\", \"Correlation(\"&A85&\",\"&B85&\",Period:=\"&$B$1&\",InputChoice1:=Close,InputChoice2:=Close)\", \"FG\", \"\", \"Close\",$B$2, \"0\", \"all\",\"\", \"\",\"True\",\"T\")/100","v":-0.6048081676},{"$f":"RANK(C85,$C$15:$C$114,0)+COUNTIF($C$15:C85,C85)-1","v":90},"DA6 vs DD",-0.6048081676,71,"GCE vs RBE",-0.31963383579999999,0.31963383579999999,0.31963383579999999,-0.31963383579999999]
[{"$f":"$A$10","v":"DA6"},{"$f":"$D$2","v":"DSX"},{"$f":"RTD(\"cqg.rtd\",,\"StudyData\", \"Correlation(\"&A86&\",\"&B86&\",Period:=\"&$B$1&\",InputChoice1:=Close,InputChoice2:=Close)\", \"FG\", \"\", \"Close\",$B$2, \"0\", \"all\",\"\", \"\",\"True\",\"T\")/100","v":-0.4602335534},{"$f":"RANK(C86,$C$15:$C$114,0)+COUNTIF($C$15:C86,C86)-1","v":80},"DA6 vs DSX",-0.4602335534,72,"GCE vs CLE",-0.3337297588,0.3337297588,0.3337297588,-0.3337297588]
["DA6",{"$f":"$E$2","v":"YM"},{"$f":"RTD(\"cqg.rtd\",,\"StudyData\", \"Correlation(\"&A87&\",\"&B87&\",Period:=\"&$B$1&\",InputChoice1:=Close,InputChoice2:=Close)\", \"FG\", \"\", \"Close\",$B$2, \"0\", \"all\",\"\", \"\",\"True\",\"T\")/100","v":0.14285272199999999},{"$f":"RANK(C87,$C$15:$C$114,0)+COUNTIF($C$15:C87,C87)-1","v":47},"DA6 vs YM",0.14285272199999999,73,"DA6 vs TFE",-0.33489219539999998,0.33489219539999998,0.33489219539999998,-0.33489219539999998]
["DA6",{"$f":"$F$2","v":"PIL"},{"$f":"RTD(\"cqg.rtd\",,\"StudyData\", \"Correlation(\"&A88&\",\"&B88&\",Period:=\"&$B$1&\",InputChoice1:=Close,InputChoice2:=Close)\", \"FG\", \"\", \"Close\",$B$2, \"0\", \"all\",\"\", \"\",\"True\",\"T\")/100","v":-0.52215390679999996},{"$f":"RANK(C88,$C$15:$C$114,0)+COUNTIF($C$15:C88,C88)-1","v":83},"DA6 vs PIL",-0.52215390679999996,74,"MX6 vs DSX",-0.341354294,0.341354294,0.341354294,-0.341354294]
["DA6",{"$f":"$G$2","v":"CLE"},{"$f":"RTD(\"cqg.rtd\",,\"StudyData\", \"Correlation(\"&A89&\",\"&B89&\",Period:=\"&$B$1&\",InputChoice1:=Close,InputChoice2:=Close)\", \"FG\", \"\", \"Close\",$B$2, \"0\", \"all\",\"\", \"\",\"True\",\"T\")/100","v":0.38740339880000002},{"$f":"RANK(C89,$C$15:$C$114,0)+COUNTIF($C$15:C89,C89)-1","v":29},"DA6 vs CLE",0.38740339880000002,75,"MX6 vs PIL",-0.35475820419999998,0.35475820419999998,0.35475820419999998,-0.35475820419999998]
["DA6",{"$f":"$H$2","v":"PLE"},{"$f":"RTD(\"cqg.rtd\",,\"StudyData\", \"Correlation(\"&A90&\",\"&B90&\",Period:=\"&$B$1&\",InputChoice1:=Close,InputChoice2:=Close)\", \"FG\", \"\", \"Close\",$B$2, \"0\", \"all\",\"\", \"\",\"True\",\"T\")/100","v":0.52348291120000001},{"$f":"RANK(C90,$C$15:$C$114,0)+COUNTIF($C$15:C90,C90)-1","v":21},"DA6 vs PLE",0.52348291120000001,76,"DA6 vs QFA",-0.41129500530000002,0.41129500530000002,0.41129500530000002,-0.41129500530000002]
["DA6",{"$f":"$I$2","v":"RBE"},{"$f":"RTD(\"cqg.rtd\",,\"StudyData\", \"Correlation(\"&A91&\",\"&B91&\",Period:=\"&$B$1&\",InputChoice1:=Close,InputChoice2:=Close)\", \"FG\", \"\", \"Close\",$B$2, \"0\", \"all\",\"\", \"\",\"True\",\"T\")/100","v":0.55253450049999997},{"$f":"RANK(C91,$C$15:$C$114,0)+COUNTIF($C$15:C91,C91)-1","v":20},"DA6 vs RBE",0.55253450049999997,77,"BP6 vs TFE",-0.42200653090000001,0.42200653090000001,0.42200653090000001,-0.42200653090000001]
["DA6",{"$f":"$J$2","v":"NGE"},{"$f":"RTD(\"cqg.rtd\",,\"StudyData\", \"Correlation(\"&A92&\",\"&B92&\",Period:=\"&$B$1&\",InputChoice1:=Close,InputChoice2:=Close)\", \"FG\", \"\", \"Close\",$B$2, \"0\", \"all\",\"\", \"\",\"True\",\"T\")/100","v":-0.1118109697},{"$f":"RANK(C92,$C$15:$C$114,0)+COUNTIF($C$15:C92,C92)-1","v":62},"DA6 vs NGE",-0.1118109697,78,"BP6 vs DSX",-0.44545219330000002,0.44545219330000002,0.44545219330000002,-0.44545219330000002]
["DA6",{"$f":"$K$2","v":"TFE"},{"$f":"RTD(\"cqg.rtd\",,\"StudyData\", \"Correlation(\"&A93&\",\"&B93&\",Period:=\"&$B$1&\",InputChoice1:=Close,InputChoice2:=Close)\", \"FG\", \"\", \"Close\",$B$2, \"0\", \"all\",\"\", \"\",\"True\",\"T\")/100","v":-0.33489219539999998},{"$f":"RANK(C93,$C$15:$C$114,0)+COUNTIF($C$15:C93,C93)-1","v":73},"DA6 vs TFE",-0.33489219539999998,79,"BP6 vs QFA",-0.44698271379999999,0.44698271379999999,0.44698271379999999,-0.44698271379999999]
["DA6",{"$f":"$L$2","v":"QFA"},{"$f":"RTD(\"cqg.rtd\",,\"StudyData\", \"Correlation(\"&A94&\",\"&B94&\",Period:=\"&$B$1&\",InputChoice1:=Close,InputChoice2:=Close)\", \"FG\", \"\", \"Close\",$B$2, \"0\", \"all\",\"\", \"\",\"True\",\"T\")/100","v":-0.41129500530000002},{"$f":"RANK(C94,$C$15:$C$114,0)+COUNTIF($C$15:C94,C94)-1","v":76},"DA6 vs QFA",-0.41129500530000002,80,"DA6 vs DSX",-0.4602335534,0.4602335534,0.4602335534,-0.4602335534]
[{"$f":"$A$11","v":"BP6"},{"$f":"$C$2","v":"DD"},{"$f":"RTD(\"cqg.rtd\",,\"StudyData\", \"Correlation(\"&A95&\",\"&B95&\",Period:=\"&$B$1&\",InputChoice1:=Close,InputChoice2:=Close)\", \"FG\", \"\", \"Close\",$B$2, \"0\", \"all\",\"\", \"\",\"True\",\"T\")/100","v":-0.61754386150000007},{"$f":"RANK(C95,$C$15:$C$114,0)+COUNTIF($C$15:C95,C95)-1","v":91},"BP6 vs DD",-0.61754386150000007,81,"MX6 vs DD",-0.51135608300000002,0.51135608300000002,0.51135608300000002,-0.51135608300000002]
[{"$f":"$A$11","v":"BP6"},{"$f":"$D$2","v":"DSX"},{"$f":"RTD(\"cqg.rtd\",,\"StudyData\", \"Correlation(\"&A96&\",\"&B96&\",Period:=\"&$B$1&\",InputChoice1:=Close,InputChoice2:=Close)\", \"FG\", \"\", \"Close\",$B$2, \"0\", \"all\",\"\", \"\",\"True\",\"T\")/100","v":-0.44545219330000002},{"$f":"RANK(C96,$C$15:$C$114,0)+COUNTIF($C$15:C96,C96)-1","v":78},"BP6 vs DSX",-0.44545219330000002,82,"DXE vs NGE",-0.51209359620000006,0.51209359620000006,0.51209359620000006,-0.51209359620000006]
["BP6",{"$f":"$E$2","v":"YM"},{"$f":"RTD(\"cqg.rtd\",,\"StudyData\", \"Correlation(\"&A97&\",\"&B97&\",Period:=\"&$B$1&\",InputChoice1:=Close,InputChoice2:=Close)\", \"FG\", \"\", \"Close\",$B$2, \"0\", \"all\",\"\", \"\",\"True\",\"T\")/100","v":-4.4355273000000001E-2},{"$f":"RANK(C97,$C$15:$C$114,0)+COUNTIF($C$15:C97,C97)-1","v":59},"BP6 vs YM",-4.4355273000000001E-2,83,"DA6 vs PIL",-0.52215390679999996,0.52215390679999996,0.52215390679999996,-0.52215390679999996]
["BP6",{"$f":"$F$2","v":"PIL"},{"$f":"RTD(\"cqg.rtd\",,\"StudyData\", \"Correlation(\"&A98&\",\"&B98&\",Period:=\"&$B$1&\",InputChoice1:=Close,InputChoice2:=Close)\", \"FG\", \"\", \"Close\",$B$2, \"0\", \"all\",\"\", \"\",\"True\",\"T\")/100","v":-0.54145820349999996},{"$f":"RANK(C98,$C$15:$C$114,0)+COUNTIF($C$15:C98,C98)-1","v":85},"BP6 vs PIL",-0.54145820349999996,84,"ENQ vs NGE",-0.52739552590000005,0.52739552590000005,0.52739552590000005,-0.52739552590000005]
["BP6",{"$f":"$G$2","v":"CLE"},{"$f":"RTD(\"cqg.rtd\",,\"StudyData\", \"Correlation(\"&A99&\",\"&B99&\",Period:=\"&$B$1&\",InputChoice1:=Close,InputChoice2:=Close)\", \"FG\", \"\", \"Close\",$B$2, \"0\", \"all\",\"\", \"\",\"True\",\"T\")/100","v":0.45457787840000002},{"$f":"RANK(C99,$C$15:$C$114,0)+COUNTIF($C$15:C99,C99)-1","v":24},"BP6 vs CLE",0.45457787840000002,85,"BP6 vs PIL",-0.54145820349999996,0.54145820349999996,0.54145820349999996,-0.54145820349999996]
["BP6",{"$f":"$H$2","v":"PLE"},{"$f":"RTD(\"cqg.rtd\",,\"StudyData\", \"Correlation(\"&A100&\",\"&B100&\",Period:=\"&$B$1&\",InputChoice1:=Close,InputChoice2:=Close)\", \"FG\", \"\", \"Close\",$B$2, \"0\", \"all\",\"\", \"\",\"True\",\"T\")/100","v":0.3849366179},{"$f":"RANK(C100,$C$15:$C$114,0)+COUNTIF($C$15:C100,C100)-1","v":30},"BP6 vs PLE",0.3849366179,86,"MX6 vs NGE",-0.54540871699999993,0.54540871699999993,0.54540871699999993,-0.54540871699999993]
["BP6",{"$f":"$I$2","v":"RBE"},{"$f":"RTD(\"cqg.rtd\",,\"StudyData\", \"Correlation(\"&A101&\",\"&B101&\",Period:=\"&$B$1&\",InputChoice1:=Close,InputChoice2:=Close)\", \"FG\", \"\", \"Close\",$B$2, \"0\", \"all\",\"\", \"\",\"True\",\"T\")/100","v":0.6343058211},{"$f":"RANK(C101,$C$15:$C$114,0)+COUNTIF($C$15:C101,C101)-1","v":16},"BP6 vs RBE",0.6343058211,87,"EMD vs RBE",-0.56451109300000002,0.56451109300000002,0.56451109300000002,-0.56451109300000002]
["BP6",{"$f":"$J$2","v":"NGE"},{"$f":"RTD(\"cqg.rtd\",,\"StudyData\", \"Correlation(\"&A102&\",\"&B102&\",Period:=\"&$B$1&\",InputChoice1:=Close,InputChoice2:=Close)\", \"FG\", \"\", \"Close\",$B$2, \"0\", \"all\",\"\", \"\",\"True\",\"T\")/100","v":-0.10640171520000001},{"$f":"RANK(C102,$C$15:$C$114,0)+COUNTIF($C$15:C102,C102)-1","v":61},"BP6 vs NGE",-0.10640171520000001,88,"GCE vs NGE",-0.56652372399999995,0.56652372399999995,0.56652372399999995,-0.56652372399999995]
["BP6",{"$f":"$K$2","v":"TFE"},{"$f":"RTD(\"cqg.rtd\",,\"StudyData\", \"Correlation(\"&A103&\",\"&B103&\",Period:=\"&$B$1&\",InputChoice1:=Close,InputChoice2:=Close)\", \"FG\", \"\", \"Close\",$B$2, \"0\", \"all\",\"\", \"\",\"True\",\"T\")/100","v":-0.42200653090000001},{"$f":"RANK(C103,$C$15:$C$114,0)+COUNTIF($C$15:C103,C103)-1","v":77},"BP6 vs TFE",-0.42200653090000001,89,"EMD vs NGE",-0.57717753770000002,0.57717753770000002,0.57717753770000002,-0.57717753770000002]
["BP6",{"$f":"$L$2","v":"QFA"},{"$f":"RTD(\"cqg.rtd\",,\"StudyData\", \"Correlation(\"&A104&\",\"&B104&\",Period:=\"&$B$1&\",InputChoice1:=Close,InputChoice2:=Close)\", \"FG\", \"\", \"Close\",$B$2, \"0\", \"all\",\"\", \"\",\"True\",\"T\")/100","v":-0.44698271379999999},{"$f":"RANK(C104,$C$15:$C$114,0)+COUNTIF($C$15:C104,C104)-1","v":79},"BP6 vs QFA",-0.44698271379999999,90,"DA6 vs DD",-0.6048081676,0.6048081676,0.6048081676,-0.6048081676]
[{"$f":"$A$12","v":"MX6"},{"$f":"$C$2","v":"DD"},{"$f":"RTD(\"cqg.rtd\",,\"StudyData\", \"Correlation(\"&A105&\",\"&B105&\",Period:=\"&$B$1&\",InputChoice1:=Close,InputChoice2:=Close)\", \"FG\", \"\", \"Close\",$B$2, \"0\", \"all\",\"\", \"\",\"True\",\"T\")/100","v":-0.51135608300000002},{"$f":"RANK(C105,$C$15:$C$114,0)+COUNTIF($C$15:C105,C105)-1","v":81},"MX6 vs DD",-0.51135608300000002,91,"BP6 vs DD",-0.61754386150000007,0.61754386150000007,0.61754386150000007,-0.61754386150000007]
[{"$f":"$A$12","v":"MX6"},{"$f":"$D$2","v":"DSX"},{"$f":"RTD(\"cqg.rtd\",,\"StudyData\", \"Correlation(\"&A106&\",\"&B106&\",Period:=\"&$B$1&\",InputChoice1:=Close,InputChoice2:=Close)\", \"FG\", \"\", \"Close\",$B$2, \"0\", \"all\",\"\", \"\",\"True\",\"T\")/100","v":-0.341354294},{"$f":"RANK(C106,$C$15:$C$114,0)+COUNTIF($C$15:C106,C106)-1","v":74},"MX6 vs DSX",-0.341354294,92,"EU6 vs DSX",-0.77387619119999995,0.77387619119999995,0.77387619119999995,-0.77387619119999995]
["MX6",{"$f":"$E$2","v":"YM"},{"$f":"RTD(\"cqg.rtd\",,\"StudyData\", \"Correlation(\"&A107&\",\"&B107&\",Period:=\"&$B$1&\",InputChoice1:=Close,InputChoice2:=Close)\", \"FG\", \"\", \"Close\",$B$2, \"0\", \"all\",\"\", \"\",\"True\",\"T\")/100","v":0.16987791460000001},{"$f":"RANK(C107,$C$15:$C$114,0)+COUNTIF($C$15:C107,C107)-1","v":45},"MX6 vs YM",0.16987791460000001,93,"EMD vs CLE",-0.77668456109999995,0.77668456109999995,0.77668456109999995,-0.77668456109999995]
["MX6",{"$f":"$F$2","v":"PIL"},{"$f":"RTD(\"cqg.rtd\",,\"StudyData\", \"Correlation(\"&A108&\",\"&B108&\",Period:=\"&$B$1&\",InputChoice1:=Close,InputChoice2:=Close)\", \"FG\", \"\", \"Close\",$B$2, \"0\", \"all\",\"\", \"\",\"True\",\"T\")/100","v":-0.35475820419999998},{"$f":"RANK(C108,$C$15:$C$114,0)+COUNTIF($C$15:C108,C108)-1","v":75},"MX6 vs PIL",-0.35475820419999998,94,"JY6 vs NGE",-0.78952458699999994,0.78952458699999994,0.78952458699999994,-0.78952458699999994]
["MX6",{"$f":"$G$2","v":"CLE"},{"$f":"RTD(\"cqg.rtd\",,\"StudyData\", \"Correlation(\"&A109&\",\"&B109&\",Period:=\"&$B$1&\",InputChoice1:=Close,InputChoice2:=Close)\", \"FG\", \"\", \"Close\",$B$2, \"0\", \"all\",\"\", \"\",\"True\",\"T\")/100","v":-3.4623509900000002E-2},{"$f":"RANK(C109,$C$15:$C$114,0)+COUNTIF($C$15:C109,C109)-1","v":58},"MX6 vs CLE",-3.4623509900000002E-2,95,"EU6 vs QFA",-0.81256737229999998,0.81256737229999998,0.81256737229999998,-0.81256737229999998]
["MX6",{"$f":"$H$2","v":"PLE"},{"$f":"RTD(\"cqg.rtd\",,\"StudyData\", \"Correlation(\"&A110&\",\"&B110&\",Period:=\"&$B$1&\",InputChoice1:=Close,InputChoice2:=Close)\", \"FG\", \"\", \"Close\",$B$2, \"0\", \"all\",\"\", \"\",\"True\",\"T\")/100","v":0.5870908319},{"$f":"RANK(C110,$C$15:$C$114,0)+COUNTIF($C$15:C110,C110)-1","v":18},"MX6 vs PLE",0.5870908319,96,"EU6 vs DD",-0.83463596039999999,0.83463596039999999,0.83463596039999999,-0.83463596039999999]
["MX6",{"$f":"$I$2","v":"RBE"},{"$f":"RTD(\"cqg.rtd\",,\"StudyData\", \"Correlation(\"&A111&\",\"&B111&\",Period:=\"&$B$1&\",InputChoice1:=Close,InputChoice2:=Close)\", \"FG\", \"\", \"Close\",$B$2, \"0\", \"all\",\"\", \"\",\"True\",\"T\")/100","v":0.11488465389999999},{"$f":"RANK(C111,$C$15:$C$114,0)+COUNTIF($C$15:C111,C111)-1","v":52},"MX6 vs RBE",0.11488465389999999,97,"EU6 vs PIL",-0.85829543110000006,0.85829543110000006,0.85829543110000006,-0.85829543110000006]
["MX6",{"$f":"$J$2","v":"NGE"},{"$f":"RTD(\"cqg.rtd\",,\"StudyData\", \"Correlation(\"&A112&\",\"&B112&\",Period:=\"&$B$1&\",InputChoice1:=Close,InputChoice2:=Close)\", \"FG\", \"\", \"Close\",$B$2, \"0\", \"all\",\"\", \"\",\"True\",\"T\")/100","v":-0.54540871699999993},{"$f":"RANK(C112,$C$15:$C$114,0)+COUNTIF($C$15:C112,C112)-1","v":86},"MX6 vs NGE",-0.54540871699999993,98,"DXE vs RBE",-0.86328056959999999,0.86328056959999999,0.86328056959999999,-0.86328056959999999]
["MX6",{"$f":"$K$2","v":"TFE"},{"$f":"RTD(\"cqg.rtd\",,\"StudyData\", \"Correlation(\"&A113&\",\"&B113&\",Period:=\"&$B$1&\",InputChoice1:=Close,InputChoice2:=Close)\", \"FG\", \"\", \"Close\",$B$2, \"0\", \"all\",\"\", \"\",\"True\",\"T\")/100","v":0.184834262},{"$f":"RANK(C113,$C$15:$C$114,0)+COUNTIF($C$15:C113,C113)-1","v":42},"MX6 vs TFE",0.184834262,99,"DXE vs CLE",-0.90155218619999999,0.90155218619999999,0.90155218619999999,-0.90155218619999999]
["MX6",{"$f":"$L$2","v":"QFA"},{"$f":"RTD(\"cqg.rtd\",,\"StudyData\", \"Correlation(\"&A114&\",\"&B114&\",Period:=\"&$B$1&\",InputChoice1:=Close,InputChoice2:=Close)\", \"FG\", \"\", \"Close\",$B$2, \"0\", \"all\",\"\", \"\",\"True\",\"T\")/100","v":-0.17022792310000001},{"$f":"RANK(C114,$C$15:$C$114,0)+COUNTIF($C$15:C114,C114)-1","v":64},"MX6 vs QFA",-0.17022792310000001,100,"EU6 vs TFE",-0.9236491644,0.9236491644,0.9236491644,-0.9236491644]