{"text_format":"1","workbook":"xlsx","n_sheets":2,"sheets":["Display","RYT"],"not_rendered":{"charts":2,"images":3,"macros":1,"external_links":0,"defined_names":0,"comments":0,"pivot_tables":0},"unopened":[],"bounds":{"document_bytes":16777216,"sheet_cells":100000,"rows_first":2000,"rows_last":500,"rows_between":2000,"halvings":0,"cell_chars":16384,"cell_head_chars":4096},"cells_cut":0,"cells_raw":0,"read":"whole","date_system":"1900"}

{"sheet":"Display","index":0,"n_rows":49,"n_cols":28,"rows_kept":49,"cut":false,"hidden":false,"merged":[[48,9,48,24],[46,2,46,6],[46,14,46,15],[47,2,47,6],[47,14,47,15],[16,2,16,6],[16,14,16,15],[32,2,32,6],[32,14,32,15],[43,2,43,6],[43,14,43,15],[44,2,44,6],[44,14,44,15],[45,2,45,6],[45,14,45,15],[40,2,40,6],[40,14,40,15],[42,2,42,6],[42,14,42,15],[37,2,37,6],[37,14,37,15],[38,2,38,6],[38,14,38,15],[39,2,39,6],[39,14,39,15],[35,2,35,6],[35,14,35,15],[36,2,36,6],[36,14,36,15],[41,2,41,6],[41,14,41,15],[31,2,31,6],[31,14,31,15],[33,2,33,6],[33,14,33,15],[34,2,34,6],[34,14,34,15],[28,2,28,6],[28,14,28,15],[29,2,29,6],[29,14,29,15],[30,2,30,6],[30,14,30,15],[25,2,25,6],[25,14,25,15],[26,2,26,6],[26,14,26,15],[27,2,27,6],[27,14,27,15],[22,2,22,6],[22,14,22,15],[23,2,23,6],[23,14,23,15],[24,2,24,6],[24,14,24,15],[5,14,5,15],[4,1,4,16],[18,2,18,6],[18,14,18,15],[19,2,19,6],[19,14,19,15],[1,1,2,4],[1,27,2,30],[1,5,2,26],[4,18,4,30],[17,2,17,6],[17,14,17,15],[15,2,15,6],[5,2,5,6],[15,14,15,15],[14,14,14,15],[13,14,13,15],[12,14,12,15],[11,14,11,15],[10,14,10,15],[9,14,9,15],[9,2,9,6],[26,18,26,30],[6,2,6,6],[7,2,7,6],[8,2,8,6],[14,2,14,6],[10,2,10,6],[11,2,11,6],[12,2,12,6],[13,2,13,6],[8,14,8,15],[7,14,7,15],[6,14,6,15],[20,2,20,6],[20,14,20,15],[21,2,21,6],[21,14,21,15]]}
[]
[null,null,null,null,null,"CQG Guggenheim S&P 500®  Eq Wt Technology ETF Performance",null,null,null,null,null,null,null,null,null,null,null,null,null,null,null,null,null,null,null,null,null,{"$f":"RTD(\"cqg.rtd\", ,\"SystemInfo\", \"Linetime\")","v":42873.495763888888}]
[]
[]
[null,"Exchange Traded Funds Performance",null,null,null,null,null,null,null,null,null,null,null,null,null,null,null,null,"Top 15 Performing Companies "]
[null,"Symbol","Description",null,null,null,null,"Last","NC","%NC","NC/ATR","Open","High","Low","Volume",null,"Ratio"]
[null,"RYT",{"$f":"RTD(\"cqg.rtd\", ,\"ContractData\",B7, \"LongDescription\",, \"T\")","v":"Guggenheim S&P 500 Eq Wt Technology ETF"},null,null,null,null,{"$f":"RTD(\"cqg.rtd\", ,\"ContractData\",B7, \"LastTradeToday\",, \"T\")","v":123.06},{"$f":"RTD(\"cqg.rtd\", ,\"ContractData\",B7, \"NetLastTradeToday\",, \"T\")","v":0.12},{"$f":"RTD(\"cqg.rtd\", ,\"ContractData\",B7, \"PerCentNetLastTrade\",, \"T\")/100","v":9.760858955588092E-4},{"$f":" I7/RTD(\"cqg.rtd\",,\"StudyData\",B7, \"ATR\", \"MaType=Sim,Period=10\", \"ATR\",\"D\",\"-1\",\"ALL\",,,\"FALSE\",\"T\")/100","v":1.1235955056179774E-3},{"$f":"RTD(\"cqg.rtd\", ,\"ContractData\",B7, \"OPen\",, \"T\")","v":122.65},{"$f":"RTD(\"cqg.rtd\", ,\"ContractData\", B7, \"HIgh\",, \"T\")","v":123.64},{"$f":"RTD(\"cqg.rtd\", ,\"ContractData\",B7, \"LOw\",, \"T\")","v":122.2},{"$f":"RTD(\"cqg.rtd\", ,\"ContractData\",B7, \"T_CVol\",, \"T\")","v":29324},null,{"$f":" IFERROR(O7/RTD(\"cqg.rtd\",,\"StudyData\",B7, \"MA\", \"InputChoice=Vol,MAType=Sim,Period=21\", \"MA\",\"D\",\"-1\",\"all\",,,,\"T\"),\"\")","v":0.26938493755148502}]
[null,"SPY",{"$f":"RTD(\"cqg.rtd\", ,\"ContractData\",B8, \"LongDescription\",, \"T\")","v":"SPDR S&P 500"},null,null,null,null,{"$f":"RTD(\"cqg.rtd\", ,\"ContractData\",B8, \"LastTradeToday\",, \"T\")","v":236.20000000000002},{"$f":"RTD(\"cqg.rtd\", ,\"ContractData\",B8, \"NetLastTradeToday\",, \"T\")","v":0.38},{"$f":"RTD(\"cqg.rtd\", ,\"ContractData\",B8, \"PerCentNetLastTrade\",, \"T\")/100","v":1.6113985242981934E-3},{"$f":" I8/RTD(\"cqg.rtd\",,\"StudyData\",B8, \"ATR\", \"MaType=Sim,Period=10\", \"ATR\",\"D\",\"-1\",\"ALL\",,,\"FALSE\",\"T\")/100","v":2.6517794836008373E-3},{"$f":"RTD(\"cqg.rtd\", ,\"ContractData\",B8, \"OPen\",, \"T\")","v":235.73000000000002},{"$f":"RTD(\"cqg.rtd\", ,\"ContractData\", B8, \"HIgh\",, \"T\")","v":237.02},{"$f":"RTD(\"cqg.rtd\", ,\"ContractData\",B8, \"LOw\",, \"T\")","v":235.43},{"$f":"RTD(\"cqg.rtd\", ,\"ContractData\",B8, \"T_CVol\",, \"T\")","v":43038604},null,{"$f":" IFERROR(O8/RTD(\"cqg.rtd\",,\"StudyData\",B8, \"MA\", \"InputChoice=Vol,MAType=Sim,Period=21\", \"MA\",\"D\",\"-1\",\"all\",,,,\"T\"),\"\")","v":0.58398966381270356}]
[null,"XLF",{"$f":"RTD(\"cqg.rtd\", ,\"ContractData\",B9, \"LongDescription\",, \"T\")","v":"Financial Select Sector SPDR"},null,null,null,null,{"$f":"RTD(\"cqg.rtd\", ,\"ContractData\",B9, \"LastTradeToday\",, \"T\")","v":23.05},{"$f":"RTD(\"cqg.rtd\", ,\"ContractData\",B9, \"NetLastTradeToday\",, \"T\")","v":-0.01},{"$f":"RTD(\"cqg.rtd\", ,\"ContractData\",B9, \"PerCentNetLastTrade\",, \"T\")/100","v":-4.3365134431916737E-4},{"$f":" I9/RTD(\"cqg.rtd\",,\"StudyData\",B9, \"ATR\", \"MaType=Sim,Period=10\", \"ATR\",\"D\",\"-1\",\"ALL\",,,\"FALSE\",\"T\")/100","v":-3.4482758620689663E-4},{"$f":"RTD(\"cqg.rtd\", ,\"ContractData\",B9, \"OPen\",, \"T\")","v":23.03},{"$f":"RTD(\"cqg.rtd\", ,\"ContractData\", B9, \"HIgh\",, \"T\")","v":23.25},{"$f":"RTD(\"cqg.rtd\", ,\"ContractData\",B9, \"LOw\",, \"T\")","v":23},{"$f":"RTD(\"cqg.rtd\", ,\"ContractData\",B9, \"T_CVol\",, \"T\")","v":62867267},null,{"$f":" IFERROR(O9/RTD(\"cqg.rtd\",,\"StudyData\",B9, \"MA\", \"InputChoice=Vol,MAType=Sim,Period=21\", \"MA\",\"D\",\"-1\",\"all\",,,,\"T\"),\"\")","v":0.88831197674638107}]
[null,"GDX",{"$f":"RTD(\"cqg.rtd\", ,\"ContractData\",B10, \"LongDescription\",, \"T\")","v":"Market Vectors Gold Miners ETF"},null,null,null,null,{"$f":"RTD(\"cqg.rtd\", ,\"ContractData\",B10, \"LastTradeToday\",, \"T\")","v":22.93},{"$f":"RTD(\"cqg.rtd\", ,\"ContractData\",B10, \"NetLastTradeToday\",, \"T\")","v":-0.44},{"$f":"RTD(\"cqg.rtd\", ,\"ContractData\",B10, \"PerCentNetLastTrade\",, \"T\")/100","v":-1.8827556696619598E-2},{"$f":" I10/RTD(\"cqg.rtd\",,\"StudyData\",B10, \"ATR\", \"MaType=Sim,Period=10\", \"ATR\",\"D\",\"-1\",\"ALL\",,,\"FALSE\",\"T\")/100","v":-8.5937500000000007E-3},{"$f":"RTD(\"cqg.rtd\", ,\"ContractData\",B10, \"OPen\",, \"T\")","v":23.11},{"$f":"RTD(\"cqg.rtd\", ,\"ContractData\", B10, \"HIgh\",, \"T\")","v":23.17},{"$f":"RTD(\"cqg.rtd\", ,\"ContractData\",B10, \"LOw\",, \"T\")","v":22.55},{"$f":"RTD(\"cqg.rtd\", ,\"ContractData\",B10, \"T_CVol\",, \"T\")","v":30553404},null,{"$f":" IFERROR(O10/RTD(\"cqg.rtd\",,\"StudyData\",B10, \"MA\", \"InputChoice=Vol,MAType=Sim,Period=21\", \"MA\",\"D\",\"-1\",\"all\",,,,\"T\"),\"\")","v":0.49154073618303001}]
[null,"FXI",{"$f":"RTD(\"cqg.rtd\", ,\"ContractData\",B11, \"LongDescription\",, \"T\")","v":"iShares China Large-Cap ETF"},null,null,null,null,{"$f":"RTD(\"cqg.rtd\", ,\"ContractData\",B11, \"LastTradeToday\",, \"T\")","v":38.93},{"$f":"RTD(\"cqg.rtd\", ,\"ContractData\",B11, \"NetLastTradeToday\",, \"T\")","v":0.01},{"$f":"RTD(\"cqg.rtd\", ,\"ContractData\",B11, \"PerCentNetLastTrade\",, \"T\")/100","v":2.5693730729701953E-4},{"$f":" I11/RTD(\"cqg.rtd\",,\"StudyData\",B11, \"ATR\", \"MaType=Sim,Period=10\", \"ATR\",\"D\",\"-1\",\"ALL\",,,\"FALSE\",\"T\")/100","v":2.1598272138228941E-4},{"$f":"RTD(\"cqg.rtd\", ,\"ContractData\",B11, \"OPen\",, \"T\")","v":38.72},{"$f":"RTD(\"cqg.rtd\", ,\"ContractData\", B11, \"HIgh\",, \"T\")","v":39.07},{"$f":"RTD(\"cqg.rtd\", ,\"ContractData\",B11, \"LOw\",, \"T\")","v":38.660000000000004},{"$f":"RTD(\"cqg.rtd\", ,\"ContractData\",B11, \"T_CVol\",, \"T\")","v":9595191},null,{"$f":" IFERROR(O11/RTD(\"cqg.rtd\",,\"StudyData\",B11, \"MA\", \"InputChoice=Vol,MAType=Sim,Period=21\", \"MA\",\"D\",\"-1\",\"all\",,,,\"T\"),\"\")","v":0.57125806433587534}]
[null,"IWF",{"$f":"RTD(\"cqg.rtd\", ,\"ContractData\",B12, \"LongDescription\",, \"T\")","v":"iShares Russell 1000 Growth ETF"},null,null,null,null,{"$f":"RTD(\"cqg.rtd\", ,\"ContractData\",B12, \"LastTradeToday\",, \"T\")","v":116.06},{"$f":"RTD(\"cqg.rtd\", ,\"ContractData\",B12, \"NetLastTradeToday\",, \"T\")","v":0.39},{"$f":"RTD(\"cqg.rtd\", ,\"ContractData\",B12, \"PerCentNetLastTrade\",, \"T\")/100","v":3.3716607590559351E-3},{"$f":" I12/RTD(\"cqg.rtd\",,\"StudyData\",B12, \"ATR\", \"MaType=Sim,Period=10\", \"ATR\",\"D\",\"-1\",\"ALL\",,,\"FALSE\",\"T\")/100","v":5.7863501483679525E-3},{"$f":"RTD(\"cqg.rtd\", ,\"ContractData\",B12, \"OPen\",, \"T\")","v":115.65},{"$f":"RTD(\"cqg.rtd\", ,\"ContractData\", B12, \"HIgh\",, \"T\")","v":116.45},{"$f":"RTD(\"cqg.rtd\", ,\"ContractData\",B12, \"LOw\",, \"T\")","v":115.57000000000001},{"$f":"RTD(\"cqg.rtd\", ,\"ContractData\",B12, \"T_CVol\",, \"T\")","v":791056},null,{"$f":" IFERROR(O12/RTD(\"cqg.rtd\",,\"StudyData\",B12, \"MA\", \"InputChoice=Vol,MAType=Sim,Period=21\", \"MA\",\"D\",\"-1\",\"all\",,,,\"T\"),\"\")","v":0.56646344170565754}]
[null,"IWO",{"$f":"RTD(\"cqg.rtd\", ,\"ContractData\",B13, \"LongDescription\",, \"T\")","v":"iShares Russell 2000 Growth ETF"},null,null,null,null,{"$f":"RTD(\"cqg.rtd\", ,\"ContractData\",B13, \"LastTradeToday\",, \"T\")","v":160.72999999999999},{"$f":"RTD(\"cqg.rtd\", ,\"ContractData\",B13, \"NetLastTradeToday\",, \"T\")","v":-0.28000000000000003},{"$f":"RTD(\"cqg.rtd\", ,\"ContractData\",B13, \"PerCentNetLastTrade\",, \"T\")/100","v":-1.7390224209676416E-3},{"$f":" I13/RTD(\"cqg.rtd\",,\"StudyData\",B13, \"ATR\", \"MaType=Sim,Period=10\", \"ATR\",\"D\",\"-1\",\"ALL\",,,\"FALSE\",\"T\")/100","v":-1.3895781637717122E-3},{"$f":"RTD(\"cqg.rtd\", ,\"ContractData\",B13, \"OPen\",, \"T\")","v":160.56},{"$f":"RTD(\"cqg.rtd\", ,\"ContractData\", B13, \"HIgh\",, \"T\")","v":162.07},{"$f":"RTD(\"cqg.rtd\", ,\"ContractData\",B13, \"LOw\",, \"T\")","v":160.19},{"$f":"RTD(\"cqg.rtd\", ,\"ContractData\",B13, \"T_CVol\",, \"T\")","v":280059},null,{"$f":" IFERROR(O13/RTD(\"cqg.rtd\",,\"StudyData\",B13, \"MA\", \"InputChoice=Vol,MAType=Sim,Period=21\", \"MA\",\"D\",\"-1\",\"all\",,,,\"T\"),\"\")","v":0.53469683212501995}]
[null,"EP",{"$f":"RTD(\"cqg.rtd\", ,\"ContractData\",B14, \"LongDescription\",, \"T\")","v":"E-Mini S&P 500, Jun 17"},null,null,null,null,{"$f":"RTD(\"cqg.rtd\", ,\"ContractData\",B14, \"LastTradeToday\",, \"T\")","v":2359.25},{"$f":"RTD(\"cqg.rtd\", ,\"ContractData\",B14, \"NetLastTradeToday\",, \"T\")","v":1.75},{"$f":"RTD(\"cqg.rtd\", ,\"ContractData\",B14, \"PerCentNetLastTrade\",, \"T\")/100","v":7.4231177094379638E-4},{"$f":" I14/RTD(\"cqg.rtd\",,\"StudyData\",B14, \"ATR\", \"MaType=Sim,Period=10\", \"ATR\",\"D\",\"-1\",\"ALL\",,,\"FALSE\",\"T\")/100","v":1.0869565217391304E-3},{"$f":"RTD(\"cqg.rtd\", ,\"ContractData\",B14, \"OPen\",, \"T\")","v":2355},{"$f":"RTD(\"cqg.rtd\", ,\"ContractData\", B14, \"HIgh\",, \"T\")","v":2367.5},{"$f":"RTD(\"cqg.rtd\", ,\"ContractData\",B14, \"LOw\",, \"T\")","v":2344.5},{"$f":"RTD(\"cqg.rtd\", ,\"ContractData\",B14, \"T_CVol\",, \"T\")","v":1548252},null,{"$f":" IFERROR(O14/RTD(\"cqg.rtd\",,\"StudyData\",B14, \"MA\", \"InputChoice=Vol,MAType=Sim,Period=21\", \"MA\",\"D\",\"-1\",\"all\",,,,\"T\"),\"\")","v":1.2277438079321881}]
[null,"XLE",{"$f":"RTD(\"cqg.rtd\", ,\"ContractData\",B15, \"LongDescription\",, \"T\")","v":"Energy Select Sector SPDR"},null,null,null,null,{"$f":"RTD(\"cqg.rtd\", ,\"ContractData\",B15, \"LastTradeToday\",, \"T\")","v":67.25},{"$f":"RTD(\"cqg.rtd\", ,\"ContractData\",B15, \"NetLastTradeToday\",, \"T\")","v":-0.02},{"$f":"RTD(\"cqg.rtd\", ,\"ContractData\",B15, \"PerCentNetLastTrade\",, \"T\")/100","v":-2.973093503790694E-4},{"$f":" I15/RTD(\"cqg.rtd\",,\"StudyData\",B15, \"ATR\", \"MaType=Sim,Period=10\", \"ATR\",\"D\",\"-1\",\"ALL\",,,\"FALSE\",\"T\")/100","v":-2.0964360587002098E-4},{"$f":"RTD(\"cqg.rtd\", ,\"ContractData\",B15, \"OPen\",, \"T\")","v":66.97},{"$f":"RTD(\"cqg.rtd\", ,\"ContractData\", B15, \"HIgh\",, \"T\")","v":67.489999999999995},{"$f":"RTD(\"cqg.rtd\", ,\"ContractData\",B15, \"LOw\",, \"T\")","v":66.72},{"$f":"RTD(\"cqg.rtd\", ,\"ContractData\",B15, \"T_CVol\",, \"T\")","v":6192927},null,{"$f":" IFERROR(O15/RTD(\"cqg.rtd\",,\"StudyData\",B15, \"MA\", \"InputChoice=Vol,MAType=Sim,Period=21\", \"MA\",\"D\",\"-1\",\"all\",,,,\"T\"),\"\")","v":0.38511948442271582}]
[null,"USO",{"$f":"RTD(\"cqg.rtd\", ,\"ContractData\",B16, \"LongDescription\",, \"T\")","v":"United States Oil Fund"},null,null,null,null,{"$f":"RTD(\"cqg.rtd\", ,\"ContractData\",B16, \"LastTradeToday\",, \"T\")","v":10.27},{"$f":"RTD(\"cqg.rtd\", ,\"ContractData\",B16, \"NetLastTradeToday\",, \"T\")","v":0.09},{"$f":"RTD(\"cqg.rtd\", ,\"ContractData\",B16, \"PerCentNetLastTrade\",, \"T\")/100","v":8.840864440078585E-3},{"$f":" I16/RTD(\"cqg.rtd\",,\"StudyData\",B16, \"ATR\", \"MaType=Sim,Period=10\", \"ATR\",\"D\",\"-1\",\"ALL\",,,\"FALSE\",\"T\")/100","v":3.4351145038167934E-3},{"$f":"RTD(\"cqg.rtd\", ,\"ContractData\",B16, \"OPen\",, \"T\")","v":10.09},{"$f":"RTD(\"cqg.rtd\", ,\"ContractData\", B16, \"HIgh\",, \"T\")","v":10.31},{"$f":"RTD(\"cqg.rtd\", ,\"ContractData\",B16, \"LOw\",, \"T\")","v":10.08},{"$f":"RTD(\"cqg.rtd\", ,\"ContractData\",B16, \"T_CVol\",, \"T\")","v":9054555},null,{"$f":" IFERROR(O16/RTD(\"cqg.rtd\",,\"StudyData\",B16, \"MA\", \"InputChoice=Vol,MAType=Sim,Period=21\", \"MA\",\"D\",\"-1\",\"all\",,,,\"T\"),\"\")","v":0.29128057270865171}]
[null,null,"Top 15 Description",null,null,null,null,"Last","NC","%NC","NC/ATR","Open","High","Low","Volume",null,"Ratio"]
[{"$f":"TRIM(RYT!O1)","v":"S.US.QRVO"},"News",{"$f":"RTD(\"cqg.rtd\", ,\"ContractData\",A18, \"LongDescription\",, \"T\")&\" (\"&RIGHT(A18,LEN(A18)-5)&\")\"","v":"Qorvo (QRVO)"},null,null,null,null,{"$f":"RTD(\"cqg.rtd\", ,\"ContractData\",A18, \"LastTradeToday\",, \"T\")","v":74.66},{"$f":"RTD(\"cqg.rtd\", ,\"ContractData\",A18, \"NetLastTradeToday\",, \"T\")","v":2.12},{"$f":"RTD(\"cqg.rtd\", ,\"ContractData\",A18, \"PerCentNetLastTrade\",, \"T\")/100","v":2.9225255031706646E-2},{"$f":" I18/RTD(\"cqg.rtd\",,\"StudyData\",A18, \"ATR\", \"MaType=Sim,Period=10\", \"ATR\",\"D\",\"-1\",\"ALL\",,,\"FALSE\",\"T\")/100","v":9.7069597069597072E-3},{"$f":"RTD(\"cqg.rtd\", ,\"ContractData\",A18, \"OPen\",, \"T\")","v":72.16},{"$f":"RTD(\"cqg.rtd\", ,\"ContractData\", A18, \"HIgh\",, \"T\")","v":75.42},{"$f":"RTD(\"cqg.rtd\", ,\"ContractData\",A18, \"LOw\",, \"T\")","v":71.75},{"$f":"RTD(\"cqg.rtd\", ,\"ContractData\",A18, \"T_CVol\",, \"T\")","v":1545499},null,{"$f":" IFERROR(O18/RTD(\"cqg.rtd\",,\"StudyData\",A18, \"MA\", \"InputChoice=Vol,MAType=Sim,Period=21\", \"MA\",\"D\",\"-1\",\"all\",,,,\"T\"),\"\")","v":0.82017705859002688},{"$f":"RYT!Q1","v":"https://finance.yahoo.com/quote/QRVO"}]
[{"$f":"TRIM(RYT!O2)","v":"S.US.SWKS"},"News",{"$f":"RTD(\"cqg.rtd\", ,\"ContractData\",A19, \"LongDescription\",, \"T\")&\" (\"&RIGHT(A19,LEN(A19)-5)&\")\"","v":"Skyworks Solutions Inc (SWKS)"},null,null,null,null,{"$f":"RTD(\"cqg.rtd\", ,\"ContractData\",A19, \"LastTradeToday\",, \"T\")","v":102.61},{"$f":"RTD(\"cqg.rtd\", ,\"ContractData\",A19, \"NetLastTradeToday\",, \"T\")","v":2.06},{"$f":"RTD(\"cqg.rtd\", ,\"ContractData\",A19, \"PerCentNetLastTrade\",, \"T\")/100","v":2.0487319741422177E-2},{"$f":" I19/RTD(\"cqg.rtd\",,\"StudyData\",A19, \"ATR\", \"MaType=Sim,Period=10\", \"ATR\",\"D\",\"-1\",\"ALL\",,,\"FALSE\",\"T\")/100","v":1.1318681318681318E-2},{"$f":"RTD(\"cqg.rtd\", ,\"ContractData\",A19, \"OPen\",, \"T\")","v":100.63},{"$f":"RTD(\"cqg.rtd\", ,\"ContractData\", A19, \"HIgh\",, \"T\")","v":103.04},{"$f":"RTD(\"cqg.rtd\", ,\"ContractData\",A19, \"LOw\",, \"T\")","v":100.22},{"$f":"RTD(\"cqg.rtd\", ,\"ContractData\",A19, \"T_CVol\",, \"T\")","v":953238},null,{"$f":" IFERROR(O19/RTD(\"cqg.rtd\",,\"StudyData\",A19, \"MA\", \"InputChoice=Vol,MAType=Sim,Period=21\", \"MA\",\"D\",\"-1\",\"all\",,,,\"T\"),\"\")","v":0.48803010837424149},{"$f":"RYT!Q2","v":"https://finance.yahoo.com/quote/SWKS      "}]
[{"$f":"TRIM(RYT!O3)","v":"S.US.AMAT"},"News",{"$f":"RTD(\"cqg.rtd\", ,\"ContractData\",A20, \"LongDescription\",, \"T\")&\" (\"&RIGHT(A20,LEN(A20)-5)&\")\"","v":"Applied Materials Inc (AMAT)"},null,null,null,null,{"$f":"RTD(\"cqg.rtd\", ,\"ContractData\",A20, \"LastTradeToday\",, \"T\")","v":43.58},{"$f":"RTD(\"cqg.rtd\", ,\"ContractData\",A20, \"NetLastTradeToday\",, \"T\")","v":0.82000000000000006},{"$f":"RTD(\"cqg.rtd\", ,\"ContractData\",A20, \"PerCentNetLastTrade\",, \"T\")/100","v":1.9176800748362956E-2},{"$f":" I20/RTD(\"cqg.rtd\",,\"StudyData\",A20, \"ATR\", \"MaType=Sim,Period=10\", \"ATR\",\"D\",\"-1\",\"ALL\",,,\"FALSE\",\"T\")/100","v":9.4361334867663991E-3},{"$f":"RTD(\"cqg.rtd\", ,\"ContractData\",A20, \"OPen\",, \"T\")","v":43.1},{"$f":"RTD(\"cqg.rtd\", ,\"ContractData\", A20, \"HIgh\",, \"T\")","v":43.730000000000004},{"$f":"RTD(\"cqg.rtd\", ,\"ContractData\",A20, \"LOw\",, \"T\")","v":42.83},{"$f":"RTD(\"cqg.rtd\", ,\"ContractData\",A20, \"T_CVol\",, \"T\")","v":9296686},null,{"$f":" IFERROR(O20/RTD(\"cqg.rtd\",,\"StudyData\",A20, \"MA\", \"InputChoice=Vol,MAType=Sim,Period=21\", \"MA\",\"D\",\"-1\",\"all\",,,,\"T\"),\"\")","v":1.0233014528481248},{"$f":"RYT!Q3","v":"https://finance.yahoo.com/quote/AMAT      "}]
[{"$f":"TRIM(RYT!O4)","v":"S.US.NVDA"},"News",{"$f":"RTD(\"cqg.rtd\", ,\"ContractData\",A21, \"LongDescription\",, \"T\")&\" (\"&RIGHT(A21,LEN(A21)-5)&\")\"","v":"NVIDIA Corp (NVDA)"},null,null,null,null,{"$f":"RTD(\"cqg.rtd\", ,\"ContractData\",A21, \"LastTradeToday\",, \"T\")","v":130.16},{"$f":"RTD(\"cqg.rtd\", ,\"ContractData\",A21, \"NetLastTradeToday\",, \"T\")","v":2.44},{"$f":"RTD(\"cqg.rtd\", ,\"ContractData\",A21, \"PerCentNetLastTrade\",, \"T\")/100","v":1.9104290635765738E-2},{"$f":" I21/RTD(\"cqg.rtd\",,\"StudyData\",A21, \"ATR\", \"MaType=Sim,Period=10\", \"ATR\",\"D\",\"-1\",\"ALL\",,,\"FALSE\",\"T\")/100","v":4.0491204779289748E-3},{"$f":"RTD(\"cqg.rtd\", ,\"ContractData\",A21, \"OPen\",, \"T\")","v":129.5},{"$f":"RTD(\"cqg.rtd\", ,\"ContractData\", A21, \"HIgh\",, \"T\")","v":132.78},{"$f":"RTD(\"cqg.rtd\", ,\"ContractData\",A21, \"LOw\",, \"T\")","v":127.05},{"$f":"RTD(\"cqg.rtd\", ,\"ContractData\",A21, \"T_CVol\",, \"T\")","v":18027814},null,{"$f":" IFERROR(O21/RTD(\"cqg.rtd\",,\"StudyData\",A21, \"MA\", \"InputChoice=Vol,MAType=Sim,Period=21\", \"MA\",\"D\",\"-1\",\"all\",,,,\"T\"),\"\")","v":1.0575860435819682},{"$f":"RYT!Q4","v":"https://finance.yahoo.com/quote/NVDA      "}]
[{"$f":"TRIM(RYT!O5)","v":"S.US.ADI"},"News",{"$f":"RTD(\"cqg.rtd\", ,\"ContractData\",A22, \"LongDescription\",, \"T\")&\" (\"&RIGHT(A22,LEN(A22)-5)&\")\"","v":"Analog Devices Inc (ADI)"},null,null,null,null,{"$f":"RTD(\"cqg.rtd\", ,\"ContractData\",A22, \"LastTradeToday\",, \"T\")","v":79.88},{"$f":"RTD(\"cqg.rtd\", ,\"ContractData\",A22, \"NetLastTradeToday\",, \"T\")","v":1.46},{"$f":"RTD(\"cqg.rtd\", ,\"ContractData\",A22, \"PerCentNetLastTrade\",, \"T\")/100","v":1.8617699566437135E-2},{"$f":" I22/RTD(\"cqg.rtd\",,\"StudyData\",A22, \"ATR\", \"MaType=Sim,Period=10\", \"ATR\",\"D\",\"-1\",\"ALL\",,,\"FALSE\",\"T\")/100","v":9.8648648648648647E-3},{"$f":"RTD(\"cqg.rtd\", ,\"ContractData\",A22, \"OPen\",, \"T\")","v":79.52},{"$f":"RTD(\"cqg.rtd\", ,\"ContractData\", A22, \"HIgh\",, \"T\")","v":81.320000000000007},{"$f":"RTD(\"cqg.rtd\", ,\"ContractData\",A22, \"LOw\",, \"T\")","v":79.03},{"$f":"RTD(\"cqg.rtd\", ,\"ContractData\",A22, \"T_CVol\",, \"T\")","v":2739669},null,{"$f":" IFERROR(O22/RTD(\"cqg.rtd\",,\"StudyData\",A22, \"MA\", \"InputChoice=Vol,MAType=Sim,Period=21\", \"MA\",\"D\",\"-1\",\"all\",,,,\"T\"),\"\")","v":0.78571003166067521},{"$f":"RYT!Q5","v":"https://finance.yahoo.com/quote/ADI       "}]
[{"$f":"TRIM(RYT!O6)","v":"S.US.AVGO"},"News",{"$f":"RTD(\"cqg.rtd\", ,\"ContractData\",A23, \"LongDescription\",, \"T\")&\" (\"&RIGHT(A23,LEN(A23)-5)&\")\"","v":"Broadcom Limited (AVGO)"},null,null,null,null,{"$f":"RTD(\"cqg.rtd\", ,\"ContractData\",A23, \"LastTradeToday\",, \"T\")","v":235.42000000000002},{"$f":"RTD(\"cqg.rtd\", ,\"ContractData\",A23, \"NetLastTradeToday\",, \"T\")","v":4.24},{"$f":"RTD(\"cqg.rtd\", ,\"ContractData\",A23, \"PerCentNetLastTrade\",, \"T\")/100","v":1.8340686910632408E-2},{"$f":" I23/RTD(\"cqg.rtd\",,\"StudyData\",A23, \"ATR\", \"MaType=Sim,Period=10\", \"ATR\",\"D\",\"-1\",\"ALL\",,,\"FALSE\",\"T\")/100","v":9.2657342657342674E-3},{"$f":"RTD(\"cqg.rtd\", ,\"ContractData\",A23, \"OPen\",, \"T\")","v":231.58},{"$f":"RTD(\"cqg.rtd\", ,\"ContractData\", A23, \"HIgh\",, \"T\")","v":237.1},{"$f":"RTD(\"cqg.rtd\", ,\"ContractData\",A23, \"LOw\",, \"T\")","v":227.68},{"$f":"RTD(\"cqg.rtd\", ,\"ContractData\",A23, \"T_CVol\",, \"T\")","v":1749287},null,{"$f":" IFERROR(O23/RTD(\"cqg.rtd\",,\"StudyData\",A23, \"MA\", \"InputChoice=Vol,MAType=Sim,Period=21\", \"MA\",\"D\",\"-1\",\"all\",,,,\"T\"),\"\")","v":0.91907893122119644},{"$f":"RYT!Q6","v":"https://finance.yahoo.com/quote/AVGO"}]
[{"$f":"TRIM(RYT!O7)","v":"S.US.XLNX"},"News",{"$f":"RTD(\"cqg.rtd\", ,\"ContractData\",A24, \"LongDescription\",, \"T\")&\" (\"&RIGHT(A24,LEN(A24)-5)&\")\"","v":"Xilinx Inc (XLNX)"},null,null,null,null,{"$f":"RTD(\"cqg.rtd\", ,\"ContractData\",A24, \"LastTradeToday\",, \"T\")","v":65.790000000000006},{"$f":"RTD(\"cqg.rtd\", ,\"ContractData\",A24, \"NetLastTradeToday\",, \"T\")","v":1.03},{"$f":"RTD(\"cqg.rtd\", ,\"ContractData\",A24, \"PerCentNetLastTrade\",, \"T\")/100","v":1.5904879555281037E-2},{"$f":" I24/RTD(\"cqg.rtd\",,\"StudyData\",A24, \"ATR\", \"MaType=Sim,Period=10\", \"ATR\",\"D\",\"-1\",\"ALL\",,,\"FALSE\",\"T\")/100","v":1.1004273504273503E-2},{"$f":"RTD(\"cqg.rtd\", ,\"ContractData\",A24, \"OPen\",, \"T\")","v":64.55},{"$f":"RTD(\"cqg.rtd\", ,\"ContractData\", A24, \"HIgh\",, \"T\")","v":65.8},{"$f":"RTD(\"cqg.rtd\", ,\"ContractData\",A24, \"LOw\",, \"T\")","v":64.290000000000006},{"$f":"RTD(\"cqg.rtd\", ,\"ContractData\",A24, \"T_CVol\",, \"T\")","v":2465593},null,{"$f":" IFERROR(O24/RTD(\"cqg.rtd\",,\"StudyData\",A24, \"MA\", \"InputChoice=Vol,MAType=Sim,Period=21\", \"MA\",\"D\",\"-1\",\"all\",,,,\"T\"),\"\")","v":0.69243647121135377},{"$f":"RYT!Q7","v":"https://finance.yahoo.com/quote/XLNX      "}]
[{"$f":"TRIM(RYT!O8)","v":"S.US.ATVI"},"News",{"$f":"RTD(\"cqg.rtd\", ,\"ContractData\",A25, \"LongDescription\",, \"T\")&\" (\"&RIGHT(A25,LEN(A25)-5)&\")\"","v":"Activision Blizzard Inc (ATVI)"},null,null,null,null,{"$f":"RTD(\"cqg.rtd\", ,\"ContractData\",A25, \"LastTradeToday\",, \"T\")","v":54.980000000000004},{"$f":"RTD(\"cqg.rtd\", ,\"ContractData\",A25, \"NetLastTradeToday\",, \"T\")","v":0.75},{"$f":"RTD(\"cqg.rtd\", ,\"ContractData\",A25, \"PerCentNetLastTrade\",, \"T\")/100","v":1.3829983404019914E-2},{"$f":" I25/RTD(\"cqg.rtd\",,\"StudyData\",A25, \"ATR\", \"MaType=Sim,Period=10\", \"ATR\",\"D\",\"-1\",\"ALL\",,,\"FALSE\",\"T\")/100","v":6.5674255691768836E-3},{"$f":"RTD(\"cqg.rtd\", ,\"ContractData\",A25, \"OPen\",, \"T\")","v":53.9},{"$f":"RTD(\"cqg.rtd\", ,\"ContractData\", A25, \"HIgh\",, \"T\")","v":55.27},{"$f":"RTD(\"cqg.rtd\", ,\"ContractData\",A25, \"LOw\",, \"T\")","v":53.660000000000004},{"$f":"RTD(\"cqg.rtd\", ,\"ContractData\",A25, \"T_CVol\",, \"T\")","v":4122527},null,{"$f":" IFERROR(O25/RTD(\"cqg.rtd\",,\"StudyData\",A25, \"MA\", \"InputChoice=Vol,MAType=Sim,Period=21\", \"MA\",\"D\",\"-1\",\"all\",,,,\"T\"),\"\")","v":0.73566028223065238},{"$f":"RYT!Q8","v":"https://finance.yahoo.com/quote/ATVI      "}]
[{"$f":"TRIM(RYT!O9)","v":"S.US.XRX"},"News",{"$f":"RTD(\"cqg.rtd\", ,\"ContractData\",A26, \"LongDescription\",, \"T\")&\" (\"&RIGHT(A26,LEN(A26)-5)&\")\"","v":"Xerox Corp (XRX)"},null,null,null,null,{"$f":"RTD(\"cqg.rtd\", ,\"ContractData\",A26, \"LastTradeToday\",, \"T\")","v":6.97},{"$f":"RTD(\"cqg.rtd\", ,\"ContractData\",A26, \"NetLastTradeToday\",, \"T\")","v":0.09},{"$f":"RTD(\"cqg.rtd\", ,\"ContractData\",A26, \"PerCentNetLastTrade\",, \"T\")/100","v":1.308139534883721E-2},{"$f":" I26/RTD(\"cqg.rtd\",,\"StudyData\",A26, \"ATR\", \"MaType=Sim,Period=10\", \"ATR\",\"D\",\"-1\",\"ALL\",,,\"FALSE\",\"T\")/100","v":7.5630252100840336E-3},{"$f":"RTD(\"cqg.rtd\", ,\"ContractData\",A26, \"OPen\",, \"T\")","v":6.91},{"$f":"RTD(\"cqg.rtd\", ,\"ContractData\", A26, \"HIgh\",, \"T\")","v":7},{"$f":"RTD(\"cqg.rtd\", ,\"ContractData\",A26, \"LOw\",, \"T\")","v":6.87},{"$f":"RTD(\"cqg.rtd\", ,\"ContractData\",A26, \"T_CVol\",, \"T\")","v":4330195},null,{"$f":" IFERROR(O26/RTD(\"cqg.rtd\",,\"StudyData\",A26, \"MA\", \"InputChoice=Vol,MAType=Sim,Period=21\", \"MA\",\"D\",\"-1\",\"all\",,,,\"T\"),\"\")","v":0.53171751542173051},{"$f":"RYT!Q9","v":"https://finance.yahoo.com/quote/XRX       "}]
[{"$f":"TRIM(RYT!O10)","v":"S.US.AAPL"},"News",{"$f":"RTD(\"cqg.rtd\", ,\"ContractData\",A27, \"LongDescription\",, \"T\")&\" (\"&RIGHT(A27,LEN(A27)-5)&\")\"","v":"Apple Inc (AAPL)"},null,null,null,null,{"$f":"RTD(\"cqg.rtd\", ,\"ContractData\",A27, \"LastTradeToday\",, \"T\")","v":152.07},{"$f":"RTD(\"cqg.rtd\", ,\"ContractData\",A27, \"NetLastTradeToday\",, \"T\")","v":1.82},{"$f":"RTD(\"cqg.rtd\", ,\"ContractData\",A27, \"PerCentNetLastTrade\",, \"T\")/100","v":1.2113144758735442E-2},{"$f":" I27/RTD(\"cqg.rtd\",,\"StudyData\",A27, \"ATR\", \"MaType=Sim,Period=10\", \"ATR\",\"D\",\"-1\",\"ALL\",,,\"FALSE\",\"T\")/100","v":7.2222222222222219E-3},{"$f":"RTD(\"cqg.rtd\", ,\"ContractData\",A27, \"OPen\",, \"T\")","v":151.27000000000001},{"$f":"RTD(\"cqg.rtd\", ,\"ContractData\", A27, \"HIgh\",, \"T\")","v":153.34},{"$f":"RTD(\"cqg.rtd\", ,\"ContractData\",A27, \"LOw\",, \"T\")","v":151.13},{"$f":"RTD(\"cqg.rtd\", ,\"ContractData\",A27, \"T_CVol\",, \"T\")","v":20069127},null,{"$f":" IFERROR(O27/RTD(\"cqg.rtd\",,\"StudyData\",A27, \"MA\", \"InputChoice=Vol,MAType=Sim,Period=21\", \"MA\",\"D\",\"-1\",\"all\",,,,\"T\"),\"\")","v":0.70859505045229776},{"$f":"RYT!Q10","v":"https://finance.yahoo.com/quote/AAPL      "},"Bottom 15 Performing Companies "]
[{"$f":"TRIM(RYT!O11)","v":"S.US.FB"},"News",{"$f":"RTD(\"cqg.rtd\", ,\"ContractData\",A28, \"LongDescription\",, \"T\")&\" (\"&RIGHT(A28,LEN(A28)-5)&\")\"","v":"Facebook, Inc. (FB)"},null,null,null,null,{"$f":"RTD(\"cqg.rtd\", ,\"ContractData\",A28, \"LastTradeToday\",, \"T\")","v":146.6},{"$f":"RTD(\"cqg.rtd\", ,\"ContractData\",A28, \"NetLastTradeToday\",, \"T\")","v":1.75},{"$f":"RTD(\"cqg.rtd\", ,\"ContractData\",A28, \"PerCentNetLastTrade\",, \"T\")/100","v":1.2081463583016913E-2},{"$f":" I28/RTD(\"cqg.rtd\",,\"StudyData\",A28, \"ATR\", \"MaType=Sim,Period=10\", \"ATR\",\"D\",\"-1\",\"ALL\",,,\"FALSE\",\"T\")/100","v":8.4869059165858397E-3},{"$f":"RTD(\"cqg.rtd\", ,\"ContractData\",A28, \"OPen\",, \"T\")","v":144.72},{"$f":"RTD(\"cqg.rtd\", ,\"ContractData\", A28, \"HIgh\",, \"T\")","v":147.42000000000002},{"$f":"RTD(\"cqg.rtd\", ,\"ContractData\",A28, \"LOw\",, \"T\")","v":144.51},{"$f":"RTD(\"cqg.rtd\", ,\"ContractData\",A28, \"T_CVol\",, \"T\")","v":13207443},null,{"$f":" IFERROR(O28/RTD(\"cqg.rtd\",,\"StudyData\",A28, \"MA\", \"InputChoice=Vol,MAType=Sim,Period=21\", \"MA\",\"D\",\"-1\",\"all\",,,,\"T\"),\"\")","v":0.71970697062903788},{"$f":"RYT!Q11","v":"https://finance.yahoo.com/quote/FB"}]
[{"$f":"TRIM(RYT!O12)","v":"S.US.EA"},"News",{"$f":"RTD(\"cqg.rtd\", ,\"ContractData\",A29, \"LongDescription\",, \"T\")&\" (\"&RIGHT(A29,LEN(A29)-5)&\")\"","v":"Electronic Arts (EA)"},null,null,null,null,{"$f":"RTD(\"cqg.rtd\", ,\"ContractData\",A29, \"LastTradeToday\",, \"T\")","v":106.51},{"$f":"RTD(\"cqg.rtd\", ,\"ContractData\",A29, \"NetLastTradeToday\",, \"T\")","v":1.27},{"$f":"RTD(\"cqg.rtd\", ,\"ContractData\",A29, \"PerCentNetLastTrade\",, \"T\")/100","v":1.2067654884074496E-2},{"$f":" I29/RTD(\"cqg.rtd\",,\"StudyData\",A29, \"ATR\", \"MaType=Sim,Period=10\", \"ATR\",\"D\",\"-1\",\"ALL\",,,\"FALSE\",\"T\")/100","v":3.6983110075713456E-3},{"$f":"RTD(\"cqg.rtd\", ,\"ContractData\",A29, \"OPen\",, \"T\")","v":104.71000000000001},{"$f":"RTD(\"cqg.rtd\", ,\"ContractData\", A29, \"HIgh\",, \"T\")","v":107.62},{"$f":"RTD(\"cqg.rtd\", ,\"ContractData\",A29, \"LOw\",, \"T\")","v":104.34},{"$f":"RTD(\"cqg.rtd\", ,\"ContractData\",A29, \"T_CVol\",, \"T\")","v":1750468},null,{"$f":" IFERROR(O29/RTD(\"cqg.rtd\",,\"StudyData\",A29, \"MA\", \"InputChoice=Vol,MAType=Sim,Period=21\", \"MA\",\"D\",\"-1\",\"all\",,,,\"T\"),\"\")","v":0.47448494328058355},{"$f":"RYT!Q12","v":"https://finance.yahoo.com/quote/EA"}]
[{"$f":"TRIM(RYT!O13)","v":"S.US.GPN"},"News",{"$f":"RTD(\"cqg.rtd\", ,\"ContractData\",A30, \"LongDescription\",, \"T\")&\" (\"&RIGHT(A30,LEN(A30)-5)&\")\"","v":"Global Payments (GPN)"},null,null,null,null,{"$f":"RTD(\"cqg.rtd\", ,\"ContractData\",A30, \"LastTradeToday\",, \"T\")","v":89.06},{"$f":"RTD(\"cqg.rtd\", ,\"ContractData\",A30, \"NetLastTradeToday\",, \"T\")","v":0.96},{"$f":"RTD(\"cqg.rtd\", ,\"ContractData\",A30, \"PerCentNetLastTrade\",, \"T\")/100","v":1.0896708286038592E-2},{"$f":" I30/RTD(\"cqg.rtd\",,\"StudyData\",A30, \"ATR\", \"MaType=Sim,Period=10\", \"ATR\",\"D\",\"-1\",\"ALL\",,,\"FALSE\",\"T\")/100","v":6.2337662337662338E-3},{"$f":"RTD(\"cqg.rtd\", ,\"ContractData\",A30, \"OPen\",, \"T\")","v":88.09},{"$f":"RTD(\"cqg.rtd\", ,\"ContractData\", A30, \"HIgh\",, \"T\")","v":89.15},{"$f":"RTD(\"cqg.rtd\", ,\"ContractData\",A30, \"LOw\",, \"T\")","v":87.68},{"$f":"RTD(\"cqg.rtd\", ,\"ContractData\",A30, \"T_CVol\",, \"T\")","v":285606},null,{"$f":" IFERROR(O30/RTD(\"cqg.rtd\",,\"StudyData\",A30, \"MA\", \"InputChoice=Vol,MAType=Sim,Period=21\", \"MA\",\"D\",\"-1\",\"all\",,,,\"T\"),\"\")","v":0.21224655584328272},{"$f":"RYT!Q13","v":"https://finance.yahoo.com/quote/GPN       "}]
[{"$f":"TRIM(RYT!O14)","v":"S.US.ADP"},"News",{"$f":"RTD(\"cqg.rtd\", ,\"ContractData\",A31, \"LongDescription\",, \"T\")&\" (\"&RIGHT(A31,LEN(A31)-5)&\")\"","v":"Auto Data Processing Inc (ADP)"},null,null,null,null,{"$f":"RTD(\"cqg.rtd\", ,\"ContractData\",A31, \"LastTradeToday\",, \"T\")","v":98.27},{"$f":"RTD(\"cqg.rtd\", ,\"ContractData\",A31, \"NetLastTradeToday\",, \"T\")","v":0.97},{"$f":"RTD(\"cqg.rtd\", ,\"ContractData\",A31, \"PerCentNetLastTrade\",, \"T\")/100","v":9.9691675231243573E-3},{"$f":" I31/RTD(\"cqg.rtd\",,\"StudyData\",A31, \"ATR\", \"MaType=Sim,Period=10\", \"ATR\",\"D\",\"-1\",\"ALL\",,,\"FALSE\",\"T\")/100","v":6.9583931133428987E-3},{"$f":"RTD(\"cqg.rtd\", ,\"ContractData\",A31, \"OPen\",, \"T\")","v":97.15},{"$f":"RTD(\"cqg.rtd\", ,\"ContractData\", A31, \"HIgh\",, \"T\")","v":98.39},{"$f":"RTD(\"cqg.rtd\", ,\"ContractData\",A31, \"LOw\",, \"T\")","v":96.8},{"$f":"RTD(\"cqg.rtd\", ,\"ContractData\",A31, \"T_CVol\",, \"T\")","v":875586},null,{"$f":" IFERROR(O31/RTD(\"cqg.rtd\",,\"StudyData\",A31, \"MA\", \"InputChoice=Vol,MAType=Sim,Period=21\", \"MA\",\"D\",\"-1\",\"all\",,,,\"T\"),\"\")","v":0.36377789970991981},{"$f":"RYT!Q14","v":"https://finance.yahoo.com/quote/ADP       "}]
[{"$f":"TRIM(RYT!O15)","v":"S.US.MU"},"News",{"$f":"RTD(\"cqg.rtd\", ,\"ContractData\",A32, \"LongDescription\",, \"T\")&\" (\"&RIGHT(A32,LEN(A32)-5)&\")\"","v":"Micron Technology Inc (MU)"},null,null,null,null,{"$f":"RTD(\"cqg.rtd\", ,\"ContractData\",A32, \"LastTradeToday\",, \"T\")","v":27.240000000000002},{"$f":"RTD(\"cqg.rtd\", ,\"ContractData\",A32, \"NetLastTradeToday\",, \"T\")","v":0.24},{"$f":"RTD(\"cqg.rtd\", ,\"ContractData\",A32, \"PerCentNetLastTrade\",, \"T\")/100","v":8.8888888888888889E-3},{"$f":" I32/RTD(\"cqg.rtd\",,\"StudyData\",A32, \"ATR\", \"MaType=Sim,Period=10\", \"ATR\",\"D\",\"-1\",\"ALL\",,,\"FALSE\",\"T\")/100","v":3.1957390146471372E-3},{"$f":"RTD(\"cqg.rtd\", ,\"ContractData\",A32, \"OPen\",, \"T\")","v":27.150000000000002},{"$f":"RTD(\"cqg.rtd\", ,\"ContractData\", A32, \"HIgh\",, \"T\")","v":27.89},{"$f":"RTD(\"cqg.rtd\", ,\"ContractData\",A32, \"LOw\",, \"T\")","v":27.080000000000002},{"$f":"RTD(\"cqg.rtd\", ,\"ContractData\",A32, \"T_CVol\",, \"T\")","v":17582287},null,{"$f":" IFERROR(O32/RTD(\"cqg.rtd\",,\"StudyData\",A32, \"MA\", \"InputChoice=Vol,MAType=Sim,Period=21\", \"MA\",\"D\",\"-1\",\"all\",,,,\"T\"),\"\")","v":0.71141637535683799},{"$f":"RYT!Q15","v":"https://finance.yahoo.com/quote/MU        "}]
[null,null,"Bottom 15 Description",null,null,null,null,"Last","NC","%NC","NC/ATR","Open","High","Low","Volume",null,"Ratio"]
[{"$f":"TRIM(RYT!O55)","v":"S.US.APH"},"News",{"$f":"RTD(\"cqg.rtd\", ,\"ContractData\",A34, \"LongDescription\",, \"T\")&\" (\"&RIGHT(A34,LEN(A34)-5)&\")\"","v":"Amphenol (APH)"},null,null,null,null,{"$f":"RTD(\"cqg.rtd\", ,\"ContractData\",A34, \"LastTradeToday\",, \"T\")","v":72.239999999999995},{"$f":"RTD(\"cqg.rtd\", ,\"ContractData\",A34, \"NetLastTradeToday\",, \"T\")","v":-0.32},{"$f":"RTD(\"cqg.rtd\", ,\"ContractData\",A34, \"PerCentNetLastTrade\",, \"T\")/100","v":-4.410143329658214E-3},{"$f":" I34/RTD(\"cqg.rtd\",,\"StudyData\",A34, \"ATR\", \"MaType=Sim,Period=10\", \"ATR\",\"D\",\"-1\",\"ALL\",,,\"FALSE\",\"T\")/100","v":-4.6376811594202906E-3},{"$f":"RTD(\"cqg.rtd\", ,\"ContractData\",A34, \"OPen\",, \"T\")","v":72.13},{"$f":"RTD(\"cqg.rtd\", ,\"ContractData\", A34, \"HIgh\",, \"T\")","v":72.5},{"$f":"RTD(\"cqg.rtd\", ,\"ContractData\",A34, \"LOw\",, \"T\")","v":71.37},{"$f":"RTD(\"cqg.rtd\", ,\"ContractData\",A34, \"T_CVol\",, \"T\")","v":328098},null,{"$f":" IFERROR(O34/RTD(\"cqg.rtd\",,\"StudyData\",A34, \"MA\", \"InputChoice=Vol,MAType=Sim,Period=21\", \"MA\",\"D\",\"-1\",\"all\",,,,\"T\"),\"\")","v":0.30431551095910925},{"$f":"RYT!Q55","v":"https://finance.yahoo.com/quote/APH       "}]
[{"$f":"TRIM(RYT!O56)","v":"S.US.CA"},"News",{"$f":"RTD(\"cqg.rtd\", ,\"ContractData\",A35, \"LongDescription\",, \"T\")&\" (\"&RIGHT(A35,LEN(A35)-5)&\")\"","v":"CA Inc. (CA)"},null,null,null,null,{"$f":"RTD(\"cqg.rtd\", ,\"ContractData\",A35, \"LastTradeToday\",, \"T\")","v":31.05},{"$f":"RTD(\"cqg.rtd\", ,\"ContractData\",A35, \"NetLastTradeToday\",, \"T\")","v":-0.16},{"$f":"RTD(\"cqg.rtd\", ,\"ContractData\",A35, \"PerCentNetLastTrade\",, \"T\")/100","v":-5.1265619993591796E-3},{"$f":" I35/RTD(\"cqg.rtd\",,\"StudyData\",A35, \"ATR\", \"MaType=Sim,Period=10\", \"ATR\",\"D\",\"-1\",\"ALL\",,,\"FALSE\",\"T\")/100","v":-2.6490066225165563E-3},{"$f":"RTD(\"cqg.rtd\", ,\"ContractData\",A35, \"OPen\",, \"T\")","v":31.26},{"$f":"RTD(\"cqg.rtd\", ,\"ContractData\", A35, \"HIgh\",, \"T\")","v":31.35},{"$f":"RTD(\"cqg.rtd\", ,\"ContractData\",A35, \"LOw\",, \"T\")","v":30.92},{"$f":"RTD(\"cqg.rtd\", ,\"ContractData\",A35, \"T_CVol\",, \"T\")","v":1507690},null,{"$f":" IFERROR(O35/RTD(\"cqg.rtd\",,\"StudyData\",A35, \"MA\", \"InputChoice=Vol,MAType=Sim,Period=21\", \"MA\",\"D\",\"-1\",\"all\",,,,\"T\"),\"\")","v":0.54345227724023715},{"$f":"RYT!Q56","v":"https://finance.yahoo.com/quote/CA        "}]
[{"$f":"TRIM(RYT!O57)","v":"S.US.CTXS"},"News",{"$f":"RTD(\"cqg.rtd\", ,\"ContractData\",A36, \"LongDescription\",, \"T\")&\" (\"&RIGHT(A36,LEN(A36)-5)&\")\"","v":"Citrix Systems Inc (CTXS)"},null,null,null,null,{"$f":"RTD(\"cqg.rtd\", ,\"ContractData\",A36, \"LastTradeToday\",, \"T\")","v":82.3},{"$f":"RTD(\"cqg.rtd\", ,\"ContractData\",A36, \"NetLastTradeToday\",, \"T\")","v":-0.44},{"$f":"RTD(\"cqg.rtd\", ,\"ContractData\",A36, \"PerCentNetLastTrade\",, \"T\")/100","v":-5.31786318588349E-3},{"$f":" I36/RTD(\"cqg.rtd\",,\"StudyData\",A36, \"ATR\", \"MaType=Sim,Period=10\", \"ATR\",\"D\",\"-1\",\"ALL\",,,\"FALSE\",\"T\")/100","v":-3.3587786259541984E-3},{"$f":"RTD(\"cqg.rtd\", ,\"ContractData\",A36, \"OPen\",, \"T\")","v":82.52},{"$f":"RTD(\"cqg.rtd\", ,\"ContractData\", A36, \"HIgh\",, \"T\")","v":83.04},{"$f":"RTD(\"cqg.rtd\", ,\"ContractData\",A36, \"LOw\",, \"T\")","v":81.8},{"$f":"RTD(\"cqg.rtd\", ,\"ContractData\",A36, \"T_CVol\",, \"T\")","v":503770},null,{"$f":" IFERROR(O36/RTD(\"cqg.rtd\",,\"StudyData\",A36, \"MA\", \"InputChoice=Vol,MAType=Sim,Period=21\", \"MA\",\"D\",\"-1\",\"all\",,,,\"T\"),\"\")","v":0.256037111158811},{"$f":"RYT!Q57","v":"https://finance.yahoo.com/quote/CTXS      "}]
[{"$f":"TRIM(RYT!O58)","v":"S.US.STX"},"News",{"$f":"RTD(\"cqg.rtd\", ,\"ContractData\",A37, \"LongDescription\",, \"T\")&\" (\"&RIGHT(A37,LEN(A37)-5)&\")\"","v":"Seagate Technology (STX)"},null,null,null,null,{"$f":"RTD(\"cqg.rtd\", ,\"ContractData\",A37, \"LastTradeToday\",, \"T\")","v":41.89},{"$f":"RTD(\"cqg.rtd\", ,\"ContractData\",A37, \"NetLastTradeToday\",, \"T\")","v":-0.27},{"$f":"RTD(\"cqg.rtd\", ,\"ContractData\",A37, \"PerCentNetLastTrade\",, \"T\")/100","v":-6.4041745730550282E-3},{"$f":" I37/RTD(\"cqg.rtd\",,\"StudyData\",A37, \"ATR\", \"MaType=Sim,Period=10\", \"ATR\",\"D\",\"-1\",\"ALL\",,,\"FALSE\",\"T\")/100","v":-3.2490974729241879E-3},{"$f":"RTD(\"cqg.rtd\", ,\"ContractData\",A37, \"OPen\",, \"T\")","v":42.660000000000004},{"$f":"RTD(\"cqg.rtd\", ,\"ContractData\", A37, \"HIgh\",, \"T\")","v":42.660000000000004},{"$f":"RTD(\"cqg.rtd\", ,\"ContractData\",A37, \"LOw\",, \"T\")","v":41.67},{"$f":"RTD(\"cqg.rtd\", ,\"ContractData\",A37, \"T_CVol\",, \"T\")","v":2278802},null,{"$f":" IFERROR(O37/RTD(\"cqg.rtd\",,\"StudyData\",A37, \"MA\", \"InputChoice=Vol,MAType=Sim,Period=21\", \"MA\",\"D\",\"-1\",\"all\",,,,\"T\"),\"\")","v":0.34466895940644049},{"$f":"RYT!Q58","v":"https://finance.yahoo.com/quote/STX       "}]
[{"$f":"TRIM(RYT!O59)","v":"S.US.MA"},"News",{"$f":"RTD(\"cqg.rtd\", ,\"ContractData\",A38, \"LongDescription\",, \"T\")&\" (\"&RIGHT(A38,LEN(A38)-5)&\")\"","v":"Mastercard Inc. (MA)"},null,null,null,null,{"$f":"RTD(\"cqg.rtd\", ,\"ContractData\",A38, \"LastTradeToday\",, \"T\")","v":115.98},{"$f":"RTD(\"cqg.rtd\", ,\"ContractData\",A38, \"NetLastTradeToday\",, \"T\")","v":-0.82000000000000006},{"$f":"RTD(\"cqg.rtd\", ,\"ContractData\",A38, \"PerCentNetLastTrade\",, \"T\")/100","v":-7.0205479452054801E-3},{"$f":" I38/RTD(\"cqg.rtd\",,\"StudyData\",A38, \"ATR\", \"MaType=Sim,Period=10\", \"ATR\",\"D\",\"-1\",\"ALL\",,,\"FALSE\",\"T\")/100","v":-7.0386266094420603E-3},{"$f":"RTD(\"cqg.rtd\", ,\"ContractData\",A38, \"OPen\",, \"T\")","v":115.93},{"$f":"RTD(\"cqg.rtd\", ,\"ContractData\", A38, \"HIgh\",, \"T\")","v":116.65},{"$f":"RTD(\"cqg.rtd\", ,\"ContractData\",A38, \"LOw\",, \"T\")","v":115.68},{"$f":"RTD(\"cqg.rtd\", ,\"ContractData\",A38, \"T_CVol\",, \"T\")","v":2226503},null,{"$f":" IFERROR(O38/RTD(\"cqg.rtd\",,\"StudyData\",A38, \"MA\", \"InputChoice=Vol,MAType=Sim,Period=21\", \"MA\",\"D\",\"-1\",\"all\",,,,\"T\"),\"\")","v":0.71330543782667433},{"$f":"RYT!Q59","v":"https://finance.yahoo.com/quote/MA        "}]
[{"$f":"TRIM(RYT!O60)","v":"S.US.DXC"},"News",{"$f":"RTD(\"cqg.rtd\", ,\"ContractData\",A39, \"LongDescription\",, \"T\")&\" (\"&RIGHT(A39,LEN(A39)-5)&\")\"","v":"DXC Technology Company (DXC)"},null,null,null,null,{"$f":"RTD(\"cqg.rtd\", ,\"ContractData\",A39, \"LastTradeToday\",, \"T\")","v":78},{"$f":"RTD(\"cqg.rtd\", ,\"ContractData\",A39, \"NetLastTradeToday\",, \"T\")","v":-0.78},{"$f":"RTD(\"cqg.rtd\", ,\"ContractData\",A39, \"PerCentNetLastTrade\",, \"T\")/100","v":-9.9009900990099011E-3},{"$f":" I39/RTD(\"cqg.rtd\",,\"StudyData\",A39, \"ATR\", \"MaType=Sim,Period=10\", \"ATR\",\"D\",\"-1\",\"ALL\",,,\"FALSE\",\"T\")/100","v":-7.3446327683615821E-3},{"$f":"RTD(\"cqg.rtd\", ,\"ContractData\",A39, \"OPen\",, \"T\")","v":78.7},{"$f":"RTD(\"cqg.rtd\", ,\"ContractData\", A39, \"HIgh\",, \"T\")","v":78.89},{"$f":"RTD(\"cqg.rtd\", ,\"ContractData\",A39, \"LOw\",, \"T\")","v":77.86},{"$f":"RTD(\"cqg.rtd\", ,\"ContractData\",A39, \"T_CVol\",, \"T\")","v":1051458},null,{"$f":" IFERROR(O39/RTD(\"cqg.rtd\",,\"StudyData\",A39, \"MA\", \"InputChoice=Vol,MAType=Sim,Period=21\", \"MA\",\"D\",\"-1\",\"all\",,,,\"T\"),\"\")","v":0.48790534618368109},{"$f":"RYT!Q60","v":"https://finance.yahoo.com/quote/DXC"}]
[{"$f":"TRIM(RYT!O61)","v":"S.US.YHOO"},"News",{"$f":"RTD(\"cqg.rtd\", ,\"ContractData\",A40, \"LongDescription\",, \"T\")&\" (\"&RIGHT(A40,LEN(A40)-5)&\")\"","v":"Yahoo! Inc (YHOO)"},null,null,null,null,{"$f":"RTD(\"cqg.rtd\", ,\"ContractData\",A40, \"LastTradeToday\",, \"T\")","v":49.14},{"$f":"RTD(\"cqg.rtd\", ,\"ContractData\",A40, \"NetLastTradeToday\",, \"T\")","v":-0.51},{"$f":"RTD(\"cqg.rtd\", ,\"ContractData\",A40, \"PerCentNetLastTrade\",, \"T\")/100","v":-1.0271903323262841E-2},{"$f":" I40/RTD(\"cqg.rtd\",,\"StudyData\",A40, \"ATR\", \"MaType=Sim,Period=10\", \"ATR\",\"D\",\"-1\",\"ALL\",,,\"FALSE\",\"T\")/100","v":-7.5221238938053096E-3},{"$f":"RTD(\"cqg.rtd\", ,\"ContractData\",A40, \"OPen\",, \"T\")","v":48.68},{"$f":"RTD(\"cqg.rtd\", ,\"ContractData\", A40, \"HIgh\",, \"T\")","v":49.53},{"$f":"RTD(\"cqg.rtd\", ,\"ContractData\",A40, \"LOw\",, \"T\")","v":47.74},{"$f":"RTD(\"cqg.rtd\", ,\"ContractData\",A40, \"T_CVol\",, \"T\")","v":8180901},null,{"$f":" IFERROR(O40/RTD(\"cqg.rtd\",,\"StudyData\",A40, \"MA\", \"InputChoice=Vol,MAType=Sim,Period=21\", \"MA\",\"D\",\"-1\",\"all\",,,,\"T\"),\"\")","v":0.89620202740742816},{"$f":"RYT!Q61","v":"https://finance.yahoo.com/quote/YHOO      "}]
[{"$f":"TRIM(RYT!O62)","v":"S.US.AKAM"},"News",{"$f":"RTD(\"cqg.rtd\", ,\"ContractData\",A41, \"LongDescription\",, \"T\")&\" (\"&RIGHT(A41,LEN(A41)-5)&\")\"","v":"Akamai Tech Inc (AKAM)"},null,null,null,null,{"$f":"RTD(\"cqg.rtd\", ,\"ContractData\",A41, \"LastTradeToday\",, \"T\")","v":46.97},{"$f":"RTD(\"cqg.rtd\", ,\"ContractData\",A41, \"NetLastTradeToday\",, \"T\")","v":-0.53},{"$f":"RTD(\"cqg.rtd\", ,\"ContractData\",A41, \"PerCentNetLastTrade\",, \"T\")/100","v":-1.1157894736842104E-2},{"$f":" I41/RTD(\"cqg.rtd\",,\"StudyData\",A41, \"ATR\", \"MaType=Sim,Period=10\", \"ATR\",\"D\",\"-1\",\"ALL\",,,\"FALSE\",\"T\")/100","v":-5.0766283524904211E-3},{"$f":"RTD(\"cqg.rtd\", ,\"ContractData\",A41, \"OPen\",, \"T\")","v":47.5},{"$f":"RTD(\"cqg.rtd\", ,\"ContractData\", A41, \"HIgh\",, \"T\")","v":47.7},{"$f":"RTD(\"cqg.rtd\", ,\"ContractData\",A41, \"LOw\",, \"T\")","v":46.9},{"$f":"RTD(\"cqg.rtd\", ,\"ContractData\",A41, \"T_CVol\",, \"T\")","v":2019379},null,{"$f":" IFERROR(O41/RTD(\"cqg.rtd\",,\"StudyData\",A41, \"MA\", \"InputChoice=Vol,MAType=Sim,Period=21\", \"MA\",\"D\",\"-1\",\"all\",,,,\"T\"),\"\")","v":0.58981332008585241},{"$f":"RYT!Q62","v":"https://finance.yahoo.com/quote/AKAM      "}]
[{"$f":"TRIM(RYT!O63)","v":"S.US.MSI"},"News",{"$f":"RTD(\"cqg.rtd\", ,\"ContractData\",A42, \"LongDescription\",, \"T\")&\" (\"&RIGHT(A42,LEN(A42)-5)&\")\"","v":"Motorola Solutions, Inc. (MSI)"},null,null,null,null,{"$f":"RTD(\"cqg.rtd\", ,\"ContractData\",A42, \"LastTradeToday\",, \"T\")","v":80.87},{"$f":"RTD(\"cqg.rtd\", ,\"ContractData\",A42, \"NetLastTradeToday\",, \"T\")","v":-0.98},{"$f":"RTD(\"cqg.rtd\", ,\"ContractData\",A42, \"PerCentNetLastTrade\",, \"T\")/100","v":-1.1973121563836286E-2},{"$f":" I42/RTD(\"cqg.rtd\",,\"StudyData\",A42, \"ATR\", \"MaType=Sim,Period=10\", \"ATR\",\"D\",\"-1\",\"ALL\",,,\"FALSE\",\"T\")/100","v":-5.5650198750709819E-3},{"$f":"RTD(\"cqg.rtd\", ,\"ContractData\",A42, \"OPen\",, \"T\")","v":81.22},{"$f":"RTD(\"cqg.rtd\", ,\"ContractData\", A42, \"HIgh\",, \"T\")","v":81.7},{"$f":"RTD(\"cqg.rtd\", ,\"ContractData\",A42, \"LOw\",, \"T\")","v":80.680000000000007},{"$f":"RTD(\"cqg.rtd\", ,\"ContractData\",A42, \"T_CVol\",, \"T\")","v":396913},null,{"$f":" IFERROR(O42/RTD(\"cqg.rtd\",,\"StudyData\",A42, \"MA\", \"InputChoice=Vol,MAType=Sim,Period=21\", \"MA\",\"D\",\"-1\",\"all\",,,,\"T\"),\"\")","v":0.42334285915413689},{"$f":"RYT!Q63","v":"https://finance.yahoo.com/quote/MSI"}]
[{"$f":"TRIM(RYT!O64)","v":"S.US.HPQ"},"News",{"$f":"RTD(\"cqg.rtd\", ,\"ContractData\",A43, \"LongDescription\",, \"T\")&\" (\"&RIGHT(A43,LEN(A43)-5)&\")\"","v":"Hewlett-Packard Company (HPQ)"},null,null,null,null,{"$f":"RTD(\"cqg.rtd\", ,\"ContractData\",A43, \"LastTradeToday\",, \"T\")","v":18.73},{"$f":"RTD(\"cqg.rtd\", ,\"ContractData\",A43, \"NetLastTradeToday\",, \"T\")","v":-0.23},{"$f":"RTD(\"cqg.rtd\", ,\"ContractData\",A43, \"PerCentNetLastTrade\",, \"T\")/100","v":-1.2130801687763712E-2},{"$f":" I43/RTD(\"cqg.rtd\",,\"StudyData\",A43, \"ATR\", \"MaType=Sim,Period=10\", \"ATR\",\"D\",\"-1\",\"ALL\",,,\"FALSE\",\"T\")/100","v":-8.6792452830188674E-3},{"$f":"RTD(\"cqg.rtd\", ,\"ContractData\",A43, \"OPen\",, \"T\")","v":18.87},{"$f":"RTD(\"cqg.rtd\", ,\"ContractData\", A43, \"HIgh\",, \"T\")","v":18.88},{"$f":"RTD(\"cqg.rtd\", ,\"ContractData\",A43, \"LOw\",, \"T\")","v":18.650000000000002},{"$f":"RTD(\"cqg.rtd\", ,\"ContractData\",A43, \"T_CVol\",, \"T\")","v":6324151},null,{"$f":" IFERROR(O43/RTD(\"cqg.rtd\",,\"StudyData\",A43, \"MA\", \"InputChoice=Vol,MAType=Sim,Period=21\", \"MA\",\"D\",\"-1\",\"all\",,,,\"T\"),\"\")","v":0.72776331179703135},{"$f":"RYT!Q64","v":"https://finance.yahoo.com/quote/HPQ"}]
[{"$f":"TRIM(RYT!O65)","v":"S.US.SYMC"},"News",{"$f":"RTD(\"cqg.rtd\", ,\"ContractData\",A44, \"LongDescription\",, \"T\")&\" (\"&RIGHT(A44,LEN(A44)-5)&\")\"","v":"Symantec Corp (SYMC)"},null,null,null,null,{"$f":"RTD(\"cqg.rtd\", ,\"ContractData\",A44, \"LastTradeToday\",, \"T\")","v":29.740000000000002},{"$f":"RTD(\"cqg.rtd\", ,\"ContractData\",A44, \"NetLastTradeToday\",, \"T\")","v":-0.38},{"$f":"RTD(\"cqg.rtd\", ,\"ContractData\",A44, \"PerCentNetLastTrade\",, \"T\")/100","v":-1.2616201859229747E-2},{"$f":" I44/RTD(\"cqg.rtd\",,\"StudyData\",A44, \"ATR\", \"MaType=Sim,Period=10\", \"ATR\",\"D\",\"-1\",\"ALL\",,,\"FALSE\",\"T\")/100","v":-4.02542372881356E-3},{"$f":"RTD(\"cqg.rtd\", ,\"ContractData\",A44, \"OPen\",, \"T\")","v":29.96},{"$f":"RTD(\"cqg.rtd\", ,\"ContractData\", A44, \"HIgh\",, \"T\")","v":30.05},{"$f":"RTD(\"cqg.rtd\", ,\"ContractData\",A44, \"LOw\",, \"T\")","v":29.25},{"$f":"RTD(\"cqg.rtd\", ,\"ContractData\",A44, \"T_CVol\",, \"T\")","v":3932884},null,{"$f":" IFERROR(O44/RTD(\"cqg.rtd\",,\"StudyData\",A44, \"MA\", \"InputChoice=Vol,MAType=Sim,Period=21\", \"MA\",\"D\",\"-1\",\"all\",,,,\"T\"),\"\")","v":0.56843358118859544},{"$f":"RYT!Q65","v":"https://finance.yahoo.com/quote/SYMC      "}]
[{"$f":"TRIM(RYT!O66)","v":"S.US.ADS"},"News",{"$f":"RTD(\"cqg.rtd\", ,\"ContractData\",A45, \"LongDescription\",, \"T\")&\" (\"&RIGHT(A45,LEN(A45)-5)&\")\"","v":"Alliance Data Systems Corp (ADS)"},null,null,null,null,{"$f":"RTD(\"cqg.rtd\", ,\"ContractData\",A45, \"LastTradeToday\",, \"T\")","v":234.99},{"$f":"RTD(\"cqg.rtd\", ,\"ContractData\",A45, \"NetLastTradeToday\",, \"T\")","v":-3.2},{"$f":"RTD(\"cqg.rtd\", ,\"ContractData\",A45, \"PerCentNetLastTrade\",, \"T\")/100","v":-1.3434653008102775E-2},{"$f":" I45/RTD(\"cqg.rtd\",,\"StudyData\",A45, \"ATR\", \"MaType=Sim,Period=10\", \"ATR\",\"D\",\"-1\",\"ALL\",,,\"FALSE\",\"T\")/100","v":-5.8351568198395333E-3},{"$f":"RTD(\"cqg.rtd\", ,\"ContractData\",A45, \"OPen\",, \"T\")","v":237.05},{"$f":"RTD(\"cqg.rtd\", ,\"ContractData\", A45, \"HIgh\",, \"T\")","v":238.53},{"$f":"RTD(\"cqg.rtd\", ,\"ContractData\",A45, \"LOw\",, \"T\")","v":232.81},{"$f":"RTD(\"cqg.rtd\", ,\"ContractData\",A45, \"T_CVol\",, \"T\")","v":245537},null,{"$f":" IFERROR(O45/RTD(\"cqg.rtd\",,\"StudyData\",A45, \"MA\", \"InputChoice=Vol,MAType=Sim,Period=21\", \"MA\",\"D\",\"-1\",\"all\",,,,\"T\"),\"\")","v":0.33510780585068178},{"$f":"RYT!Q66","v":"https://finance.yahoo.com/quote/ADS       "}]
[{"$f":"TRIM(RYT!O67)","v":"S.US.FFIV"},"News",{"$f":"RTD(\"cqg.rtd\", ,\"ContractData\",A46, \"LongDescription\",, \"T\")&\" (\"&RIGHT(A46,LEN(A46)-5)&\")\"","v":"F5 Networks Inc (FFIV)"},null,null,null,null,{"$f":"RTD(\"cqg.rtd\", ,\"ContractData\",A46, \"LastTradeToday\",, \"T\")","v":126.08},{"$f":"RTD(\"cqg.rtd\", ,\"ContractData\",A46, \"NetLastTradeToday\",, \"T\")","v":-1.79},{"$f":"RTD(\"cqg.rtd\", ,\"ContractData\",A46, \"PerCentNetLastTrade\",, \"T\")/100","v":-1.3998592320325331E-2},{"$f":" I46/RTD(\"cqg.rtd\",,\"StudyData\",A46, \"ATR\", \"MaType=Sim,Period=10\", \"ATR\",\"D\",\"-1\",\"ALL\",,,\"FALSE\",\"T\")/100","v":-8.49146110056926E-3},{"$f":"RTD(\"cqg.rtd\", ,\"ContractData\",A46, \"OPen\",, \"T\")","v":126.89},{"$f":"RTD(\"cqg.rtd\", ,\"ContractData\", A46, \"HIgh\",, \"T\")","v":128.02000000000001},{"$f":"RTD(\"cqg.rtd\", ,\"ContractData\",A46, \"LOw\",, \"T\")","v":124.27},{"$f":"RTD(\"cqg.rtd\", ,\"ContractData\",A46, \"T_CVol\",, \"T\")","v":635486},null,{"$f":" IFERROR(O46/RTD(\"cqg.rtd\",,\"StudyData\",A46, \"MA\", \"InputChoice=Vol,MAType=Sim,Period=21\", \"MA\",\"D\",\"-1\",\"all\",,,,\"T\"),\"\")","v":0.51665446446639496},{"$f":"RYT!Q67","v":"https://finance.yahoo.com/quote/FFIV      "}]
[{"$f":"TRIM(RYT!O68)","v":"S.US.SNPS"},"News",{"$f":"RTD(\"cqg.rtd\", ,\"ContractData\",A47, \"LongDescription\",, \"T\")&\" (\"&RIGHT(A47,LEN(A47)-5)&\")\"","v":"Synopsis (SNPS)"},null,null,null,null,{"$f":"RTD(\"cqg.rtd\", ,\"ContractData\",A47, \"LastTradeToday\",, \"T\")","v":71.489999999999995},{"$f":"RTD(\"cqg.rtd\", ,\"ContractData\",A47, \"NetLastTradeToday\",, \"T\")","v":-1.9000000000000001},{"$f":"RTD(\"cqg.rtd\", ,\"ContractData\",A47, \"PerCentNetLastTrade\",, \"T\")/100","v":-2.5889085706499521E-2},{"$f":" I47/RTD(\"cqg.rtd\",,\"StudyData\",A47, \"ATR\", \"MaType=Sim,Period=10\", \"ATR\",\"D\",\"-1\",\"ALL\",,,\"FALSE\",\"T\")/100","v":-2.7982326951399114E-2},{"$f":"RTD(\"cqg.rtd\", ,\"ContractData\",A47, \"OPen\",, \"T\")","v":75},{"$f":"RTD(\"cqg.rtd\", ,\"ContractData\", A47, \"HIgh\",, \"T\")","v":75.34},{"$f":"RTD(\"cqg.rtd\", ,\"ContractData\",A47, \"LOw\",, \"T\")","v":71.460000000000008},{"$f":"RTD(\"cqg.rtd\", ,\"ContractData\",A47, \"T_CVol\",, \"T\")","v":1538446},null,{"$f":" IFERROR(O47/RTD(\"cqg.rtd\",,\"StudyData\",A47, \"MA\", \"InputChoice=Vol,MAType=Sim,Period=21\", \"MA\",\"D\",\"-1\",\"all\",,,,\"T\"),\"\")","v":1.6222172199919409},{"$f":"RYT!Q68","v":"https://finance.yahoo.com/quote/SNPS      "}]
[{"$f":"TRIM(RYT!O69)","v":"S.US.CSCO"},"News",{"$f":"RTD(\"cqg.rtd\", ,\"ContractData\",A48, \"LongDescription\",, \"T\")&\" (\"&RIGHT(A48,LEN(A48)-5)&\")\"","v":"Cisco Systems Inc (CSCO)"},null,null,null,null,{"$f":"RTD(\"cqg.rtd\", ,\"ContractData\",A48, \"LastTradeToday\",, \"T\")","v":31.2},{"$f":"RTD(\"cqg.rtd\", ,\"ContractData\",A48, \"NetLastTradeToday\",, \"T\")","v":-2.62},{"$f":"RTD(\"cqg.rtd\", ,\"ContractData\",A48, \"PerCentNetLastTrade\",, \"T\")/100","v":-7.7468953282081601E-2},{"$f":" I48/RTD(\"cqg.rtd\",,\"StudyData\",A48, \"ATR\", \"MaType=Sim,Period=10\", \"ATR\",\"D\",\"-1\",\"ALL\",,,\"FALSE\",\"T\")/100","v":-5.670995670995671E-2},{"$f":"RTD(\"cqg.rtd\", ,\"ContractData\",A48, \"OPen\",, \"T\")","v":31.1},{"$f":"RTD(\"cqg.rtd\", ,\"ContractData\", A48, \"HIgh\",, \"T\")","v":31.51},{"$f":"RTD(\"cqg.rtd\", ,\"ContractData\",A48, \"LOw\",, \"T\")","v":30.37},{"$f":"RTD(\"cqg.rtd\", ,\"ContractData\",A48, \"T_CVol\",, \"T\")","v":47834674},null,{"$f":" IFERROR(O48/RTD(\"cqg.rtd\",,\"StudyData\",A48, \"MA\", \"InputChoice=Vol,MAType=Sim,Period=21\", \"MA\",\"D\",\"-1\",\"all\",,,,\"T\"),\"\")","v":2.5959439926709651},{"$f":"RYT!Q69","v":"https://finance.yahoo.com/quote/CSCO      "}]
[null,null,"CQG Inc.,   Copyright © 2017",null,null,null,"Designed by Thom Hartle",null,null,"Standard & Poor’s® and S&P® are registered trademarks of Standard & Poor’s Financial Services LLC, and have been licensed for use by Guggenheim Investments and its affiliates.",null,null,null,null,null,null,null,null,null,null,null,null,null,null,null,{"$f":"RYT!AB70","v":0.56521739130434778},"of the stocks in the ETF are higher today"]

{"sheet":"RYT","index":1,"n_rows":72,"n_cols":34,"rows_kept":72,"cut":false,"hidden":true,"merged":[]}
["ACCENTURE PLC","ACN       ",{"$f":"\"S.US.\"&B1","v":"S.US.ACN       "},{"$f":"RTD(\"cqg.rtd\", ,\"ContractData\",C1, \"LongDescription\",, \"T\")","v":"Accenture PLC Ireland"},{"$f":"RTD(\"cqg.rtd\", ,\"ContractData\",C1, \"Open\",, \"T\")","v":120.86},{"$f":"RTD(\"cqg.rtd\", ,\"ContractData\",C1, \"High\",, \"T\")","v":121.03},{"$f":"RTD(\"cqg.rtd\", ,\"ContractData\",C1, \"Low\",, \"T\")","v":119.41},{"$f":"RTD(\"cqg.rtd\", ,\"ContractData\",C1, \"LastTradeToday\",, \"T\")","v":120.45},{"$f":"RTD(\"cqg.rtd\", ,\"ContractData\",C1, \"NetLastTradeToday\",, \"T\")","v":0.01},{"$f":"RTD(\"cqg.rtd\", ,\"ContractData\",C1, \"PerCentNetLastTrade\",, \"T\")/100","v":8.302889405513119E-5},{"$f":"RTD(\"cqg.rtd\", ,\"ContractData\", C1, \"T_CVol\",, \"T\")","v":654510},1,{"$f":"RANK($J1,$J$1:J$69)+COUNTIF($J$1:J1,J1)-1","v":38},{"$f":"C1","v":"S.US.ACN       "},{"$f":"VLOOKUP($L1,$M$1:$N$69,2,FALSE)","v":"S.US.QRVO"},{"$f":"RTD(\"cqg.rtd\", ,\"ContractData\",O1, \"PerCentNetLastTrade\",, \"T\")/100","v":2.9225255031706646E-2},{"$f":"\"https://finance.yahoo.com/quote/\"&RIGHT(O1,(LEN(O1)-5))","v":"https://finance.yahoo.com/quote/QRVO"},null,{"$f":"IF(P1>=0,P1,NA())","v":2.9225255031706646E-2},{"$f":"IF(P1>=0,NA(),-1*P1)","v":{"$error":"#N/A"}},null,{"$f":"RTD(\"cqg.rtd\", ,\"ContractData\",O1, \"LongDescription\",, \"T\")","v":"Qorvo"},null,null,{"$f":"IFERROR(S1,P1)","v":2.9225255031706646E-2},null,{"$f":"IF(S1=\"NA()\",0,1)","v":1},{"$f":"IFERROR(AA1,0)","v":1},null,{"$f":"IFERROR(S1,\"\")","v":2.9225255031706646E-2},{"$f":"IFERROR(T1,\"\")","v":""},{"$f":"IF(AE1=\"\",\"\",Y1)","v":""}]
["ACTIVISION BLIZZARD INC","ATVI      ",{"$f":"\"S.US.\"&B2","v":"S.US.ATVI      "},{"$f":"RTD(\"cqg.rtd\", ,\"ContractData\",C2, \"LongDescription\",, \"T\")","v":"Activision Blizzard Inc"},{"$f":"RTD(\"cqg.rtd\", ,\"ContractData\",C2, \"Open\",, \"T\")","v":53.9},{"$f":"RTD(\"cqg.rtd\", ,\"ContractData\",C2, \"High\",, \"T\")","v":55.27},{"$f":"RTD(\"cqg.rtd\", ,\"ContractData\",C2, \"Low\",, \"T\")","v":53.660000000000004},{"$f":"RTD(\"cqg.rtd\", ,\"ContractData\",C2, \"LastTradeToday\",, \"T\")","v":54.980000000000004},{"$f":"RTD(\"cqg.rtd\", ,\"ContractData\",C2, \"NetLastTradeToday\",, \"T\")","v":0.75},{"$f":"RTD(\"cqg.rtd\", ,\"ContractData\",C2, \"PerCentNetLastTrade\",, \"T\")/100","v":1.3829983404019914E-2},{"$f":"RTD(\"cqg.rtd\", ,\"ContractData\", C2, \"T_CVol\",, \"T\")","v":4122527},{"$f":"L1+1","v":2},{"$f":"RANK($J2,$J$1:J$69)+COUNTIF($J$1:J2,J2)-1","v":8},{"$f":"C2","v":"S.US.ATVI      "},{"$f":"VLOOKUP($L2,$M$1:$N$69,2,FALSE)","v":"S.US.SWKS      "},{"$f":"RTD(\"cqg.rtd\", ,\"ContractData\",O2, \"PerCentNetLastTrade\",, \"T\")/100","v":2.0487319741422177E-2},{"$f":"\"https://finance.yahoo.com/quote/\"&RIGHT(O2,(LEN(O2)-5))","v":"https://finance.yahoo.com/quote/SWKS      "},null,{"$f":"IF(P2>=0,P2,NA())","v":2.0487319741422177E-2},{"$f":"IF(P2>=0,NA(),-1*P2)","v":{"$error":"#N/A"}},null,{"$f":"RTD(\"cqg.rtd\", ,\"ContractData\",O2, \"LongDescription\",, \"T\")","v":"Skyworks Solutions Inc"},null,null,{"$f":"IFERROR(S2,P2)","v":2.0487319741422177E-2},null,{"$f":"IF(S2=\"NA()\",0,1)","v":1},{"$f":"IFERROR(AA2,0)","v":1},null,{"$f":"IFERROR(S2,\"\")","v":2.0487319741422177E-2},{"$f":"IFERROR(T2,\"\")","v":""},{"$f":"IF(AE2=\"\",\"\",Y2)","v":""}]
["ADOBE SYSTEMS, INC.","ADBE      ","S.US.ADBE      ",{"$f":"RTD(\"cqg.rtd\", ,\"ContractData\",C3, \"LongDescription\",, \"T\")","v":"Adobe Systems Inc"},{"$f":"RTD(\"cqg.rtd\", ,\"ContractData\",C3, \"Open\",, \"T\")","v":132.77000000000001},{"$f":"RTD(\"cqg.rtd\", ,\"ContractData\",C3, \"High\",, \"T\")","v":134.84},{"$f":"RTD(\"cqg.rtd\", ,\"ContractData\",C3, \"Low\",, \"T\")","v":130.82},{"$f":"RTD(\"cqg.rtd\", ,\"ContractData\",C3, \"LastTradeToday\",, \"T\")","v":133.94},{"$f":"RTD(\"cqg.rtd\", ,\"ContractData\",C3, \"NetLastTradeToday\",, \"T\")","v":-0.39},{"$f":"RTD(\"cqg.rtd\", ,\"ContractData\",C3, \"PerCentNetLastTrade\",, \"T\")/100","v":-2.9032978485818506E-3},{"$f":"RTD(\"cqg.rtd\", ,\"ContractData\", C3, \"T_CVol\",, \"T\")","v":2088914},{"$f":"L2+1","v":3},{"$f":"RANK($J3,$J$1:J$69)+COUNTIF($J$1:J3,J3)-1","v":48},"S.US.ADBE      ","S.US.AMAT      ",{"$f":"RTD(\"cqg.rtd\", ,\"ContractData\",O3, \"PerCentNetLastTrade\",, \"T\")/100","v":1.9176800748362956E-2},"https://finance.yahoo.com/quote/AMAT      ",null,1.9176800748362956E-2,{"$error":"#N/A"},null,{"$f":"RTD(\"cqg.rtd\", ,\"ContractData\",O3, \"LongDescription\",, \"T\")","v":"Applied Materials Inc"},null,null,1.9176800748362956E-2,null,1,1,null,1.9176800748362956E-2,"",""]
["ADVANCED MICRO DEVICESINC","AMD       ","S.US.AMD       ",{"$f":"RTD(\"cqg.rtd\", ,\"ContractData\",C4, \"LongDescription\",, \"T\")","v":"Advanced Micro Devices"},{"$f":"RTD(\"cqg.rtd\", ,\"ContractData\",C4, \"Open\",, \"T\")","v":10.99},{"$f":"RTD(\"cqg.rtd\", ,\"ContractData\",C4, \"High\",, \"T\")","v":11.49},{"$f":"RTD(\"cqg.rtd\", ,\"ContractData\",C4, \"Low\",, \"T\")","v":10.81},{"$f":"RTD(\"cqg.rtd\", ,\"ContractData\",C4, \"LastTradeToday\",, \"T\")","v":11.22},{"$f":"RTD(\"cqg.rtd\", ,\"ContractData\",C4, \"NetLastTradeToday\",, \"T\")","v":0.02},{"$f":"RTD(\"cqg.rtd\", ,\"ContractData\",C4, \"PerCentNetLastTrade\",, \"T\")/100","v":1.7857142857142857E-3},{"$f":"RTD(\"cqg.rtd\", ,\"ContractData\", C4, \"T_CVol\",, \"T\")","v":59082152},4,{"$f":"RANK($J4,$J$1:J$69)+COUNTIF($J$1:J4,J4)-1","v":32},"S.US.AMD       ","S.US.NVDA      ",{"$f":"RTD(\"cqg.rtd\", ,\"ContractData\",O4, \"PerCentNetLastTrade\",, \"T\")/100","v":1.9104290635765738E-2},"https://finance.yahoo.com/quote/NVDA      ",null,1.9104290635765738E-2,{"$error":"#N/A"},null,{"$f":"RTD(\"cqg.rtd\", ,\"ContractData\",O4, \"LongDescription\",, \"T\")","v":"NVIDIA Corp"},null,null,1.9104290635765738E-2,null,1,1,null,1.9104290635765738E-2,"",""]
["AKAMAI TECHNOLOGIES INC","AKAM      ","S.US.AKAM      ",{"$f":"RTD(\"cqg.rtd\", ,\"ContractData\",C5, \"LongDescription\",, \"T\")","v":"Akamai Tech Inc"},{"$f":"RTD(\"cqg.rtd\", ,\"ContractData\",C5, \"Open\",, \"T\")","v":47.5},{"$f":"RTD(\"cqg.rtd\", ,\"ContractData\",C5, \"High\",, \"T\")","v":47.7},{"$f":"RTD(\"cqg.rtd\", ,\"ContractData\",C5, \"Low\",, \"T\")","v":46.9},{"$f":"RTD(\"cqg.rtd\", ,\"ContractData\",C5, \"LastTradeToday\",, \"T\")","v":46.97},{"$f":"RTD(\"cqg.rtd\", ,\"ContractData\",C5, \"NetLastTradeToday\",, \"T\")","v":-0.53},{"$f":"RTD(\"cqg.rtd\", ,\"ContractData\",C5, \"PerCentNetLastTrade\",, \"T\")/100","v":-1.1157894736842104E-2},{"$f":"RTD(\"cqg.rtd\", ,\"ContractData\", C5, \"T_CVol\",, \"T\")","v":2019379},5,{"$f":"RANK($J5,$J$1:J$69)+COUNTIF($J$1:J5,J5)-1","v":62},"S.US.AKAM      ","S.US.ADI       ",{"$f":"RTD(\"cqg.rtd\", ,\"ContractData\",O5, \"PerCentNetLastTrade\",, \"T\")/100","v":1.8617699566437135E-2},"https://finance.yahoo.com/quote/ADI       ",null,1.8617699566437135E-2,{"$error":"#N/A"},null,{"$f":"RTD(\"cqg.rtd\", ,\"ContractData\",O5, \"LongDescription\",, \"T\")","v":"Analog Devices Inc"},null,null,1.8617699566437135E-2,null,1,1,null,1.8617699566437135E-2,"",""]
["ALLIANCE DATA SYSTEMS","ADS       ","S.US.ADS       ",{"$f":"RTD(\"cqg.rtd\", ,\"ContractData\",C6, \"LongDescription\",, \"T\")","v":"Alliance Data Systems Corp"},{"$f":"RTD(\"cqg.rtd\", ,\"ContractData\",C6, \"Open\",, \"T\")","v":237.05},{"$f":"RTD(\"cqg.rtd\", ,\"ContractData\",C6, \"High\",, \"T\")","v":238.53},{"$f":"RTD(\"cqg.rtd\", ,\"ContractData\",C6, \"Low\",, \"T\")","v":232.81},{"$f":"RTD(\"cqg.rtd\", ,\"ContractData\",C6, \"LastTradeToday\",, \"T\")","v":234.99},{"$f":"RTD(\"cqg.rtd\", ,\"ContractData\",C6, \"NetLastTradeToday\",, \"T\")","v":-3.2},{"$f":"RTD(\"cqg.rtd\", ,\"ContractData\",C6, \"PerCentNetLastTrade\",, \"T\")/100","v":-1.3434653008102775E-2},{"$f":"RTD(\"cqg.rtd\", ,\"ContractData\", C6, \"T_CVol\",, \"T\")","v":245537},6,{"$f":"RANK($J6,$J$1:J$69)+COUNTIF($J$1:J6,J6)-1","v":66},"S.US.ADS       ","S.US.AVGO",{"$f":"RTD(\"cqg.rtd\", ,\"ContractData\",O6, \"PerCentNetLastTrade\",, \"T\")/100","v":1.8340686910632408E-2},"https://finance.yahoo.com/quote/AVGO",null,1.8340686910632408E-2,{"$error":"#N/A"},null,{"$f":"RTD(\"cqg.rtd\", ,\"ContractData\",O6, \"LongDescription\",, \"T\")","v":"Broadcom Limited"},null,null,1.8340686910632408E-2,null,1,1,null,1.8340686910632408E-2,"","",null,"https://finance.yahoo.com/quote/LRCX      "]
["ALPHABET INC A SHARES","GOOGL","S.US.GOOGL",{"$f":"RTD(\"cqg.rtd\", ,\"ContractData\",C7, \"LongDescription\",, \"T\")","v":"Alphabet Inc. Class A"},{"$f":"RTD(\"cqg.rtd\", ,\"ContractData\",C7, \"Open\",, \"T\")","v":943.2},{"$f":"RTD(\"cqg.rtd\", ,\"ContractData\",C7, \"High\",, \"T\")","v":952.53},{"$f":"RTD(\"cqg.rtd\", ,\"ContractData\",C7, \"Low\",, \"T\")","v":941.27},{"$f":"RTD(\"cqg.rtd\", ,\"ContractData\",C7, \"LastTradeToday\",, \"T\")","v":947.69},{"$f":"RTD(\"cqg.rtd\", ,\"ContractData\",C7, \"NetLastTradeToday\",, \"T\")","v":5.5200000000000005},{"$f":"RTD(\"cqg.rtd\", ,\"ContractData\",C7, \"PerCentNetLastTrade\",, \"T\")/100","v":5.8588152881114876E-3},{"$f":"RTD(\"cqg.rtd\", ,\"ContractData\", C7, \"T_CVol\",, \"T\")","v":1042451},7,{"$f":"RANK($J7,$J$1:J$69)+COUNTIF($J$1:J7,J7)-1","v":25},"S.US.GOOGL","S.US.XLNX      ",{"$f":"RTD(\"cqg.rtd\", ,\"ContractData\",O7, \"PerCentNetLastTrade\",, \"T\")/100","v":1.5904879555281037E-2},"https://finance.yahoo.com/quote/XLNX      ",null,1.5904879555281037E-2,{"$error":"#N/A"},null,{"$f":"RTD(\"cqg.rtd\", ,\"ContractData\",O7, \"LongDescription\",, \"T\")","v":"Xilinx Inc"},null,null,1.5904879555281037E-2,null,1,1,null,1.5904879555281037E-2,"",""]
["ALPHABET INC C SHARES","GOOG","S.US.GOOG",{"$f":"RTD(\"cqg.rtd\", ,\"ContractData\",C8, \"LongDescription\",, \"T\")","v":"Google, Inc. Class C"},{"$f":"RTD(\"cqg.rtd\", ,\"ContractData\",C8, \"Open\",, \"T\")","v":921},{"$f":"RTD(\"cqg.rtd\", ,\"ContractData\",C8, \"High\",, \"T\")","v":930.94},{"$f":"RTD(\"cqg.rtd\", ,\"ContractData\",C8, \"Low\",, \"T\")","v":918.75},{"$f":"RTD(\"cqg.rtd\", ,\"ContractData\",C8, \"LastTradeToday\",, \"T\")","v":926.77},{"$f":"RTD(\"cqg.rtd\", ,\"ContractData\",C8, \"NetLastTradeToday\",, \"T\")","v":7.15},{"$f":"RTD(\"cqg.rtd\", ,\"ContractData\",C8, \"PerCentNetLastTrade\",, \"T\")/100","v":7.7749505230421253E-3},{"$f":"RTD(\"cqg.rtd\", ,\"ContractData\", C8, \"T_CVol\",, \"T\")","v":900255},8,{"$f":"RANK($J8,$J$1:J$69)+COUNTIF($J$1:J8,J8)-1","v":19},"S.US.GOOG","S.US.ATVI      ",{"$f":"RTD(\"cqg.rtd\", ,\"ContractData\",O8, \"PerCentNetLastTrade\",, \"T\")/100","v":1.3829983404019914E-2},"https://finance.yahoo.com/quote/ATVI      ",null,1.3829983404019914E-2,{"$error":"#N/A"},null,{"$f":"RTD(\"cqg.rtd\", ,\"ContractData\",O8, \"LongDescription\",, \"T\")","v":"Activision Blizzard Inc"},null,null,1.3829983404019914E-2,null,1,1,null,1.3829983404019914E-2,"",""]
["AMPHENOL CORP","APH       ","S.US.APH       ",{"$f":"RTD(\"cqg.rtd\", ,\"ContractData\",C9, \"LongDescription\",, \"T\")","v":"Amphenol"},{"$f":"RTD(\"cqg.rtd\", ,\"ContractData\",C9, \"Open\",, \"T\")","v":72.13},{"$f":"RTD(\"cqg.rtd\", ,\"ContractData\",C9, \"High\",, \"T\")","v":72.5},{"$f":"RTD(\"cqg.rtd\", ,\"ContractData\",C9, \"Low\",, \"T\")","v":71.37},{"$f":"RTD(\"cqg.rtd\", ,\"ContractData\",C9, \"LastTradeToday\",, \"T\")","v":72.239999999999995},{"$f":"RTD(\"cqg.rtd\", ,\"ContractData\",C9, \"NetLastTradeToday\",, \"T\")","v":-0.32},{"$f":"RTD(\"cqg.rtd\", ,\"ContractData\",C9, \"PerCentNetLastTrade\",, \"T\")/100","v":-4.410143329658214E-3},{"$f":"RTD(\"cqg.rtd\", ,\"ContractData\", C9, \"T_CVol\",, \"T\")","v":328098},9,{"$f":"RANK($J9,$J$1:J$69)+COUNTIF($J$1:J9,J9)-1","v":55},"S.US.APH       ","S.US.XRX       ",{"$f":"RTD(\"cqg.rtd\", ,\"ContractData\",O9, \"PerCentNetLastTrade\",, \"T\")/100","v":1.308139534883721E-2},"https://finance.yahoo.com/quote/XRX       ",null,1.308139534883721E-2,{"$error":"#N/A"},null,{"$f":"RTD(\"cqg.rtd\", ,\"ContractData\",O9, \"LongDescription\",, \"T\")","v":"Xerox Corp"},null,null,1.308139534883721E-2,null,1,1,null,1.308139534883721E-2,"",""]
["ANALOG DEVICES INC","ADI       ","S.US.ADI       ",{"$f":"RTD(\"cqg.rtd\", ,\"ContractData\",C10, \"LongDescription\",, \"T\")","v":"Analog Devices Inc"},{"$f":"RTD(\"cqg.rtd\", ,\"ContractData\",C10, \"Open\",, \"T\")","v":79.52},{"$f":"RTD(\"cqg.rtd\", ,\"ContractData\",C10, \"High\",, \"T\")","v":81.320000000000007},{"$f":"RTD(\"cqg.rtd\", ,\"ContractData\",C10, \"Low\",, \"T\")","v":79.03},{"$f":"RTD(\"cqg.rtd\", ,\"ContractData\",C10, \"LastTradeToday\",, \"T\")","v":79.88},{"$f":"RTD(\"cqg.rtd\", ,\"ContractData\",C10, \"NetLastTradeToday\",, \"T\")","v":1.46},{"$f":"RTD(\"cqg.rtd\", ,\"ContractData\",C10, \"PerCentNetLastTrade\",, \"T\")/100","v":1.8617699566437135E-2},{"$f":"RTD(\"cqg.rtd\", ,\"ContractData\", C10, \"T_CVol\",, \"T\")","v":2739669},10,{"$f":"RANK($J10,$J$1:J$69)+COUNTIF($J$1:J10,J10)-1","v":5},"S.US.ADI       ","S.US.AAPL      ",{"$f":"RTD(\"cqg.rtd\", ,\"ContractData\",O10, \"PerCentNetLastTrade\",, \"T\")/100","v":1.2113144758735442E-2},"https://finance.yahoo.com/quote/AAPL      ",null,1.2113144758735442E-2,{"$error":"#N/A"},null,{"$f":"RTD(\"cqg.rtd\", ,\"ContractData\",O10, \"LongDescription\",, \"T\")","v":"Apple Inc"},null,null,1.2113144758735442E-2,null,1,1,null,1.2113144758735442E-2,"",""]
["APPLE INC.","AAPL      ","S.US.AAPL      ",{"$f":"RTD(\"cqg.rtd\", ,\"ContractData\",C11, \"LongDescription\",, \"T\")","v":"Apple Inc"},{"$f":"RTD(\"cqg.rtd\", ,\"ContractData\",C11, \"Open\",, \"T\")","v":151.27000000000001},{"$f":"RTD(\"cqg.rtd\", ,\"ContractData\",C11, \"High\",, \"T\")","v":153.34},{"$f":"RTD(\"cqg.rtd\", ,\"ContractData\",C11, \"Low\",, \"T\")","v":151.13},{"$f":"RTD(\"cqg.rtd\", ,\"ContractData\",C11, \"LastTradeToday\",, \"T\")","v":152.07},{"$f":"RTD(\"cqg.rtd\", ,\"ContractData\",C11, \"NetLastTradeToday\",, \"T\")","v":1.82},{"$f":"RTD(\"cqg.rtd\", ,\"ContractData\",C11, \"PerCentNetLastTrade\",, \"T\")/100","v":1.2113144758735442E-2},{"$f":"RTD(\"cqg.rtd\", ,\"ContractData\", C11, \"T_CVol\",, \"T\")","v":20069127},11,{"$f":"RANK($J11,$J$1:J$69)+COUNTIF($J$1:J11,J11)-1","v":10},"S.US.AAPL      ","S.US.FB",{"$f":"RTD(\"cqg.rtd\", ,\"ContractData\",O11, \"PerCentNetLastTrade\",, \"T\")/100","v":1.2081463583016913E-2},"https://finance.yahoo.com/quote/FB",null,1.2081463583016913E-2,{"$error":"#N/A"},null,{"$f":"RTD(\"cqg.rtd\", ,\"ContractData\",O11, \"LongDescription\",, \"T\")","v":"Facebook, Inc."},null,null,1.2081463583016913E-2,null,1,1,null,1.2081463583016913E-2,"",""]
["APPLIED MATERIALS, INC.","AMAT      ","S.US.AMAT      ",{"$f":"RTD(\"cqg.rtd\", ,\"ContractData\",C12, \"LongDescription\",, \"T\")","v":"Applied Materials Inc"},{"$f":"RTD(\"cqg.rtd\", ,\"ContractData\",C12, \"Open\",, \"T\")","v":43.1},{"$f":"RTD(\"cqg.rtd\", ,\"ContractData\",C12, \"High\",, \"T\")","v":43.730000000000004},{"$f":"RTD(\"cqg.rtd\", ,\"ContractData\",C12, \"Low\",, \"T\")","v":42.83},{"$f":"RTD(\"cqg.rtd\", ,\"ContractData\",C12, \"LastTradeToday\",, \"T\")","v":43.58},{"$f":"RTD(\"cqg.rtd\", ,\"ContractData\",C12, \"NetLastTradeToday\",, \"T\")","v":0.82000000000000006},{"$f":"RTD(\"cqg.rtd\", ,\"ContractData\",C12, \"PerCentNetLastTrade\",, \"T\")/100","v":1.9176800748362956E-2},{"$f":"RTD(\"cqg.rtd\", ,\"ContractData\", C12, \"T_CVol\",, \"T\")","v":9296686},12,{"$f":"RANK($J12,$J$1:J$69)+COUNTIF($J$1:J12,J12)-1","v":3},"S.US.AMAT      ","S.US.EA",{"$f":"RTD(\"cqg.rtd\", ,\"ContractData\",O12, \"PerCentNetLastTrade\",, \"T\")/100","v":1.2067654884074496E-2},"https://finance.yahoo.com/quote/EA",null,1.2067654884074496E-2,{"$error":"#N/A"},null,{"$f":"RTD(\"cqg.rtd\", ,\"ContractData\",O12, \"LongDescription\",, \"T\")","v":"Electronic Arts"},null,null,1.2067654884074496E-2,null,1,1,null,1.2067654884074496E-2,"",""]
["AUTODESK INC","ADSK      ","S.US.ADSK      ",{"$f":"RTD(\"cqg.rtd\", ,\"ContractData\",C13, \"LongDescription\",, \"T\")","v":"Autodesk Inc"},{"$f":"RTD(\"cqg.rtd\", ,\"ContractData\",C13, \"Open\",, \"T\")","v":94.04},{"$f":"RTD(\"cqg.rtd\", ,\"ContractData\",C13, \"High\",, \"T\")","v":95.7},{"$f":"RTD(\"cqg.rtd\", ,\"ContractData\",C13, \"Low\",, \"T\")","v":93.070000000000007},{"$f":"RTD(\"cqg.rtd\", ,\"ContractData\",C13, \"LastTradeToday\",, \"T\")","v":94.72},{"$f":"RTD(\"cqg.rtd\", ,\"ContractData\",C13, \"NetLastTradeToday\",, \"T\")","v":0.75},{"$f":"RTD(\"cqg.rtd\", ,\"ContractData\",C13, \"PerCentNetLastTrade\",, \"T\")/100","v":7.9812706182824308E-3},{"$f":"RTD(\"cqg.rtd\", ,\"ContractData\", C13, \"T_CVol\",, \"T\")","v":904255},13,{"$f":"RANK($J13,$J$1:J$69)+COUNTIF($J$1:J13,J13)-1","v":18},"S.US.ADSK      ","S.US.GPN       ",{"$f":"RTD(\"cqg.rtd\", ,\"ContractData\",O13, \"PerCentNetLastTrade\",, \"T\")/100","v":1.0896708286038592E-2},"https://finance.yahoo.com/quote/GPN       ",null,1.0896708286038592E-2,{"$error":"#N/A"},null,{"$f":"RTD(\"cqg.rtd\", ,\"ContractData\",O13, \"LongDescription\",, \"T\")","v":"Global Payments"},null,null,1.0896708286038592E-2,null,1,1,null,1.0896708286038592E-2,"",""]
["AUTOMATIC DATA PROC","ADP       ","S.US.ADP       ",{"$f":"RTD(\"cqg.rtd\", ,\"ContractData\",C14, \"LongDescription\",, \"T\")","v":"Auto Data Processing Inc"},{"$f":"RTD(\"cqg.rtd\", ,\"ContractData\",C14, \"Open\",, \"T\")","v":97.15},{"$f":"RTD(\"cqg.rtd\", ,\"ContractData\",C14, \"High\",, \"T\")","v":98.39},{"$f":"RTD(\"cqg.rtd\", ,\"ContractData\",C14, \"Low\",, \"T\")","v":96.8},{"$f":"RTD(\"cqg.rtd\", ,\"ContractData\",C14, \"LastTradeToday\",, \"T\")","v":98.27},{"$f":"RTD(\"cqg.rtd\", ,\"ContractData\",C14, \"NetLastTradeToday\",, \"T\")","v":0.97},{"$f":"RTD(\"cqg.rtd\", ,\"ContractData\",C14, \"PerCentNetLastTrade\",, \"T\")/100","v":9.9691675231243573E-3},{"$f":"RTD(\"cqg.rtd\", ,\"ContractData\", C14, \"T_CVol\",, \"T\")","v":875586},14,{"$f":"RANK($J14,$J$1:J$69)+COUNTIF($J$1:J14,J14)-1","v":14},"S.US.ADP       ","S.US.ADP       ",{"$f":"RTD(\"cqg.rtd\", ,\"ContractData\",O14, \"PerCentNetLastTrade\",, \"T\")/100","v":9.9691675231243573E-3},"https://finance.yahoo.com/quote/ADP       ",null,9.9691675231243573E-3,{"$error":"#N/A"},null,{"$f":"RTD(\"cqg.rtd\", ,\"ContractData\",O14, \"LongDescription\",, \"T\")","v":"Auto Data Processing Inc"},null,null,9.9691675231243573E-3,null,1,1,null,9.9691675231243573E-3,"",""]
["BROADCOM, LTD.","AVGO","S.US.AVGO",{"$f":"RTD(\"cqg.rtd\", ,\"ContractData\",C15, \"LongDescription\",, \"T\")","v":"Broadcom Limited"},{"$f":"RTD(\"cqg.rtd\", ,\"ContractData\",C15, \"Open\",, \"T\")","v":231.58},{"$f":"RTD(\"cqg.rtd\", ,\"ContractData\",C15, \"High\",, \"T\")","v":237.1},{"$f":"RTD(\"cqg.rtd\", ,\"ContractData\",C15, \"Low\",, \"T\")","v":227.68},{"$f":"RTD(\"cqg.rtd\", ,\"ContractData\",C15, \"LastTradeToday\",, \"T\")","v":235.42000000000002},{"$f":"RTD(\"cqg.rtd\", ,\"ContractData\",C15, \"NetLastTradeToday\",, \"T\")","v":4.24},{"$f":"RTD(\"cqg.rtd\", ,\"ContractData\",C15, \"PerCentNetLastTrade\",, \"T\")/100","v":1.8340686910632408E-2},{"$f":"RTD(\"cqg.rtd\", ,\"ContractData\", C15, \"T_CVol\",, \"T\")","v":1749287},15,{"$f":"RANK($J15,$J$1:J$69)+COUNTIF($J$1:J15,J15)-1","v":6},"S.US.AVGO","S.US.MU        ",{"$f":"RTD(\"cqg.rtd\", ,\"ContractData\",O15, \"PerCentNetLastTrade\",, \"T\")/100","v":8.8888888888888889E-3},"https://finance.yahoo.com/quote/MU        ",null,8.8888888888888889E-3,{"$error":"#N/A"},null,{"$f":"RTD(\"cqg.rtd\", ,\"ContractData\",O15, \"LongDescription\",, \"T\")","v":"Micron Technology Inc"},null,null,8.8888888888888889E-3,null,1,1,null,8.8888888888888889E-3,"",""]
["CA INC.","CA        ","S.US.CA        ",{"$f":"RTD(\"cqg.rtd\", ,\"ContractData\",C16, \"LongDescription\",, \"T\")","v":"CA Inc."},{"$f":"RTD(\"cqg.rtd\", ,\"ContractData\",C16, \"Open\",, \"T\")","v":31.26},{"$f":"RTD(\"cqg.rtd\", ,\"ContractData\",C16, \"High\",, \"T\")","v":31.35},{"$f":"RTD(\"cqg.rtd\", ,\"ContractData\",C16, \"Low\",, \"T\")","v":30.92},{"$f":"RTD(\"cqg.rtd\", ,\"ContractData\",C16, \"LastTradeToday\",, \"T\")","v":31.05},{"$f":"RTD(\"cqg.rtd\", ,\"ContractData\",C16, \"NetLastTradeToday\",, \"T\")","v":-0.16},{"$f":"RTD(\"cqg.rtd\", ,\"ContractData\",C16, \"PerCentNetLastTrade\",, \"T\")/100","v":-5.1265619993591796E-3},{"$f":"RTD(\"cqg.rtd\", ,\"ContractData\", C16, \"T_CVol\",, \"T\")","v":1507690},16,{"$f":"RANK($J16,$J$1:J$69)+COUNTIF($J$1:J16,J16)-1","v":56},"S.US.CA        ","S.US.MCHP      ",{"$f":"RTD(\"cqg.rtd\", ,\"ContractData\",O16, \"PerCentNetLastTrade\",, \"T\")/100","v":8.6801123308654585E-3},"https://finance.yahoo.com/quote/MCHP      ",null,8.6801123308654585E-3,{"$error":"#N/A"},null,{"$f":"RTD(\"cqg.rtd\", ,\"ContractData\",O16, \"LongDescription\",, \"T\")","v":"Microchip Technology Inc"},null,null,8.6801123308654585E-3,null,1,1,null,8.6801123308654585E-3,"",""]
["CISCO SYSTEMS, INC.","CSCO      ","S.US.CSCO      ",{"$f":"RTD(\"cqg.rtd\", ,\"ContractData\",C17, \"LongDescription\",, \"T\")","v":"Cisco Systems Inc"},{"$f":"RTD(\"cqg.rtd\", ,\"ContractData\",C17, \"Open\",, \"T\")","v":31.1},{"$f":"RTD(\"cqg.rtd\", ,\"ContractData\",C17, \"High\",, \"T\")","v":31.51},{"$f":"RTD(\"cqg.rtd\", ,\"ContractData\",C17, \"Low\",, \"T\")","v":30.37},{"$f":"RTD(\"cqg.rtd\", ,\"ContractData\",C17, \"LastTradeToday\",, \"T\")","v":31.2},{"$f":"RTD(\"cqg.rtd\", ,\"ContractData\",C17, \"NetLastTradeToday\",, \"T\")","v":-2.62},{"$f":"RTD(\"cqg.rtd\", ,\"ContractData\",C17, \"PerCentNetLastTrade\",, \"T\")/100","v":-7.7468953282081601E-2},{"$f":"RTD(\"cqg.rtd\", ,\"ContractData\", C17, \"T_CVol\",, \"T\")","v":47834674},17,{"$f":"RANK($J17,$J$1:J$69)+COUNTIF($J$1:J17,J17)-1","v":69},"S.US.CSCO      ","S.US.PAYX      ",{"$f":"RTD(\"cqg.rtd\", ,\"ContractData\",O17, \"PerCentNetLastTrade\",, \"T\")/100","v":8.0786793115560241E-3},"https://finance.yahoo.com/quote/PAYX      ",null,8.0786793115560241E-3,{"$error":"#N/A"},null,{"$f":"RTD(\"cqg.rtd\", ,\"ContractData\",O17, \"LongDescription\",, \"T\")","v":"Paychex Inc"},null,null,8.0786793115560241E-3,null,1,1,null,8.0786793115560241E-3,"",""]
["CITRIX SYSTEMS INC","CTXS      ","S.US.CTXS      ",{"$f":"RTD(\"cqg.rtd\", ,\"ContractData\",C18, \"LongDescription\",, \"T\")","v":"Citrix Systems Inc"},{"$f":"RTD(\"cqg.rtd\", ,\"ContractData\",C18, \"Open\",, \"T\")","v":82.52},{"$f":"RTD(\"cqg.rtd\", ,\"ContractData\",C18, \"High\",, \"T\")","v":83.04},{"$f":"RTD(\"cqg.rtd\", ,\"ContractData\",C18, \"Low\",, \"T\")","v":81.8},{"$f":"RTD(\"cqg.rtd\", ,\"ContractData\",C18, \"LastTradeToday\",, \"T\")","v":82.3},{"$f":"RTD(\"cqg.rtd\", ,\"ContractData\",C18, \"NetLastTradeToday\",, \"T\")","v":-0.44},{"$f":"RTD(\"cqg.rtd\", ,\"ContractData\",C18, \"PerCentNetLastTrade\",, \"T\")/100","v":-5.31786318588349E-3},{"$f":"RTD(\"cqg.rtd\", ,\"ContractData\", C18, \"T_CVol\",, \"T\")","v":503770},18,{"$f":"RANK($J18,$J$1:J$69)+COUNTIF($J$1:J18,J18)-1","v":57},"S.US.CTXS      ","S.US.ADSK      ",{"$f":"RTD(\"cqg.rtd\", ,\"ContractData\",O18, \"PerCentNetLastTrade\",, \"T\")/100","v":7.9812706182824308E-3},"https://finance.yahoo.com/quote/ADSK      ",null,7.9812706182824308E-3,{"$error":"#N/A"},null,{"$f":"RTD(\"cqg.rtd\", ,\"ContractData\",O18, \"LongDescription\",, \"T\")","v":"Autodesk Inc"},null,null,7.9812706182824308E-3,null,1,1,null,7.9812706182824308E-3,"",""]
["COGNIZANT TECH SOLUTIONS","CTSH      ","S.US.CTSH      ",{"$f":"RTD(\"cqg.rtd\", ,\"ContractData\",C19, \"LongDescription\",, \"T\")","v":"Cognizant Tech Solutions Corp"},{"$f":"RTD(\"cqg.rtd\", ,\"ContractData\",C19, \"Open\",, \"T\")","v":64.16},{"$f":"RTD(\"cqg.rtd\", ,\"ContractData\",C19, \"High\",, \"T\")","v":65.150000000000006},{"$f":"RTD(\"cqg.rtd\", ,\"ContractData\",C19, \"Low\",, \"T\")","v":63.96},{"$f":"RTD(\"cqg.rtd\", ,\"ContractData\",C19, \"LastTradeToday\",, \"T\")","v":65},{"$f":"RTD(\"cqg.rtd\", ,\"ContractData\",C19, \"NetLastTradeToday\",, \"T\")","v":0.5},{"$f":"RTD(\"cqg.rtd\", ,\"ContractData\",C19, \"PerCentNetLastTrade\",, \"T\")/100","v":7.7519379844961248E-3},{"$f":"RTD(\"cqg.rtd\", ,\"ContractData\", C19, \"T_CVol\",, \"T\")","v":1532197},19,{"$f":"RANK($J19,$J$1:J$69)+COUNTIF($J$1:J19,J19)-1","v":20},"S.US.CTSH      ","S.US.GOOG",{"$f":"RTD(\"cqg.rtd\", ,\"ContractData\",O19, \"PerCentNetLastTrade\",, \"T\")/100","v":7.7749505230421253E-3},"https://finance.yahoo.com/quote/GOOG",null,7.7749505230421253E-3,{"$error":"#N/A"},null,{"$f":"RTD(\"cqg.rtd\", ,\"ContractData\",O19, \"LongDescription\",, \"T\")","v":"Google, Inc. Class C"},null,null,7.7749505230421253E-3,null,1,1,null,7.7749505230421253E-3,"",""]
["CORNING, INC.","GLW       ","S.US.GLW       ",{"$f":"RTD(\"cqg.rtd\", ,\"ContractData\",C20, \"LongDescription\",, \"T\")","v":"Corning Incorporated"},{"$f":"RTD(\"cqg.rtd\", ,\"ContractData\",C20, \"Open\",, \"T\")","v":28.59},{"$f":"RTD(\"cqg.rtd\", ,\"ContractData\",C20, \"High\",, \"T\")","v":28.77},{"$f":"RTD(\"cqg.rtd\", ,\"ContractData\",C20, \"Low\",, \"T\")","v":28.330000000000002},{"$f":"RTD(\"cqg.rtd\", ,\"ContractData\",C20, \"LastTradeToday\",, \"T\")","v":28.650000000000002},{"$f":"RTD(\"cqg.rtd\", ,\"ContractData\",C20, \"NetLastTradeToday\",, \"T\")","v":0.01},{"$f":"RTD(\"cqg.rtd\", ,\"ContractData\",C20, \"PerCentNetLastTrade\",, \"T\")/100","v":3.4916201117318431E-4},{"$f":"RTD(\"cqg.rtd\", ,\"ContractData\", C20, \"T_CVol\",, \"T\")","v":2924465},20,{"$f":"RANK($J20,$J$1:J$69)+COUNTIF($J$1:J20,J20)-1","v":36},"S.US.GLW       ","S.US.CTSH      ",{"$f":"RTD(\"cqg.rtd\", ,\"ContractData\",O20, \"PerCentNetLastTrade\",, \"T\")/100","v":7.7519379844961248E-3},"https://finance.yahoo.com/quote/CTSH      ",null,7.7519379844961248E-3,{"$error":"#N/A"},null,{"$f":"RTD(\"cqg.rtd\", ,\"ContractData\",O20, \"LongDescription\",, \"T\")","v":"Cognizant Tech Solutions Corp"},null,null,7.7519379844961248E-3,null,1,1,null,7.7519379844961248E-3,"",""]
["CSRA INC","CSRA","S.US.CSRA",{"$f":"RTD(\"cqg.rtd\", ,\"ContractData\",C21, \"LongDescription\",, \"T\")","v":"CSRA Inc."},{"$f":"RTD(\"cqg.rtd\", ,\"ContractData\",C21, \"Open\",, \"T\")","v":28.61},{"$f":"RTD(\"cqg.rtd\", ,\"ContractData\",C21, \"High\",, \"T\")","v":28.87},{"$f":"RTD(\"cqg.rtd\", ,\"ContractData\",C21, \"Low\",, \"T\")","v":28.240000000000002},{"$f":"RTD(\"cqg.rtd\", ,\"ContractData\",C21, \"LastTradeToday\",, \"T\")","v":28.75},{"$f":"RTD(\"cqg.rtd\", ,\"ContractData\",C21, \"NetLastTradeToday\",, \"T\")","v":-0.04},{"$f":"RTD(\"cqg.rtd\", ,\"ContractData\",C21, \"PerCentNetLastTrade\",, \"T\")/100","v":-1.3893713094824591E-3},{"$f":"RTD(\"cqg.rtd\", ,\"ContractData\", C21, \"T_CVol\",, \"T\")","v":397963},21,{"$f":"RANK($J21,$J$1:J$69)+COUNTIF($J$1:J21,J21)-1","v":44},"S.US.CSRA","S.US.LRCX      ",{"$f":"RTD(\"cqg.rtd\", ,\"ContractData\",O21, \"PerCentNetLastTrade\",, \"T\")/100","v":7.6050791064032055E-3},"https://finance.yahoo.com/quote/LRCX      ",null,7.6050791064032055E-3,{"$f":"IF(P21>=0,NA(),-1*P21)","v":{"$error":"#N/A"}},null,{"$f":"RTD(\"cqg.rtd\", ,\"ContractData\",O21, \"LongDescription\",, \"T\")","v":"LAM Research Corporation"},null,null,7.6050791064032055E-3,null,1,1,null,7.6050791064032055E-3,"",""]
["DXC TECHNOLOGY CO","DXC","S.US.DXC",{"$f":"RTD(\"cqg.rtd\", ,\"ContractData\",C22, \"LongDescription\",, \"T\")","v":"DXC Technology Company"},{"$f":"RTD(\"cqg.rtd\", ,\"ContractData\",C22, \"Open\",, \"T\")","v":78.7},{"$f":"RTD(\"cqg.rtd\", ,\"ContractData\",C22, \"High\",, \"T\")","v":78.89},{"$f":"RTD(\"cqg.rtd\", ,\"ContractData\",C22, \"Low\",, \"T\")","v":77.86},{"$f":"RTD(\"cqg.rtd\", ,\"ContractData\",C22, \"LastTradeToday\",, \"T\")","v":78},{"$f":"RTD(\"cqg.rtd\", ,\"ContractData\",C22, \"NetLastTradeToday\",, \"T\")","v":-0.78},{"$f":"RTD(\"cqg.rtd\", ,\"ContractData\",C22, \"PerCentNetLastTrade\",, \"T\")/100","v":-9.9009900990099011E-3},{"$f":"RTD(\"cqg.rtd\", ,\"ContractData\", C22, \"T_CVol\",, \"T\")","v":1051458},22,{"$f":"RANK($J22,$J$1:J$69)+COUNTIF($J$1:J22,J22)-1","v":60},"S.US.DXC","S.US.QCOM      ",{"$f":"RTD(\"cqg.rtd\", ,\"ContractData\",O22, \"PerCentNetLastTrade\",, \"T\")/100","v":7.4060693641618503E-3},"https://finance.yahoo.com/quote/QCOM      ",null,7.4060693641618503E-3,{"$error":"#N/A"},null,{"$f":"RTD(\"cqg.rtd\", ,\"ContractData\",O22, \"LongDescription\",, \"T\")","v":"QUALCOMM Inc"},null,null,7.4060693641618503E-3,null,1,1,null,7.4060693641618503E-3,"",""]
["EBAY, INC.","EBAY      ","S.US.EBAY      ",{"$f":"RTD(\"cqg.rtd\", ,\"ContractData\",C23, \"LongDescription\",, \"T\")","v":"eBay Inc"},{"$f":"RTD(\"cqg.rtd\", ,\"ContractData\",C23, \"Open\",, \"T\")","v":33.64},{"$f":"RTD(\"cqg.rtd\", ,\"ContractData\",C23, \"High\",, \"T\")","v":33.880000000000003},{"$f":"RTD(\"cqg.rtd\", ,\"ContractData\",C23, \"Low\",, \"T\")","v":32.99},{"$f":"RTD(\"cqg.rtd\", ,\"ContractData\",C23, \"LastTradeToday\",, \"T\")","v":33.619999999999997},{"$f":"RTD(\"cqg.rtd\", ,\"ContractData\",C23, \"NetLastTradeToday\",, \"T\")","v":0.04},{"$f":"RTD(\"cqg.rtd\", ,\"ContractData\",C23, \"PerCentNetLastTrade\",, \"T\")/100","v":1.1911852293031565E-3},{"$f":"RTD(\"cqg.rtd\", ,\"ContractData\", C23, \"T_CVol\",, \"T\")","v":6522348},23,{"$f":"RANK($J23,$J$1:J$69)+COUNTIF($J$1:J23,J23)-1","v":34},"S.US.EBAY      ","S.US.FISV      ",{"$f":"RTD(\"cqg.rtd\", ,\"ContractData\",O23, \"PerCentNetLastTrade\",, \"T\")/100","v":6.7153529757407867E-3},"https://finance.yahoo.com/quote/FISV      ",null,6.7153529757407867E-3,{"$error":"#N/A"},null,{"$f":"RTD(\"cqg.rtd\", ,\"ContractData\",O23, \"LongDescription\",, \"T\")","v":"FISERV Inc"},null,null,6.7153529757407867E-3,null,1,1,null,6.7153529757407867E-3,{"$f":"IFERROR(T23,\"\")","v":""},""]
["ELECTRONIC ARTS INC","EA","S.US.EA",{"$f":"RTD(\"cqg.rtd\", ,\"ContractData\",C24, \"LongDescription\",, \"T\")","v":"Electronic Arts"},{"$f":"RTD(\"cqg.rtd\", ,\"ContractData\",C24, \"Open\",, \"T\")","v":104.71000000000001},{"$f":"RTD(\"cqg.rtd\", ,\"ContractData\",C24, \"High\",, \"T\")","v":107.62},{"$f":"RTD(\"cqg.rtd\", ,\"ContractData\",C24, \"Low\",, \"T\")","v":104.34},{"$f":"RTD(\"cqg.rtd\", ,\"ContractData\",C24, \"LastTradeToday\",, \"T\")","v":106.51},{"$f":"RTD(\"cqg.rtd\", ,\"ContractData\",C24, \"NetLastTradeToday\",, \"T\")","v":1.27},{"$f":"RTD(\"cqg.rtd\", ,\"ContractData\",C24, \"PerCentNetLastTrade\",, \"T\")/100","v":1.2067654884074496E-2},{"$f":"RTD(\"cqg.rtd\", ,\"ContractData\", C24, \"T_CVol\",, \"T\")","v":1750468},24,{"$f":"RANK($J24,$J$1:J$69)+COUNTIF($J$1:J24,J24)-1","v":12},"S.US.EA","S.US.TXN       ",{"$f":"RTD(\"cqg.rtd\", ,\"ContractData\",O24, \"PerCentNetLastTrade\",, \"T\")/100","v":6.6090493136756476E-3},"https://finance.yahoo.com/quote/TXN       ",null,6.6090493136756476E-3,{"$error":"#N/A"},null,{"$f":"RTD(\"cqg.rtd\", ,\"ContractData\",O24, \"LongDescription\",, \"T\")","v":"Texas Instruments Inc"},null,null,6.6090493136756476E-3,null,1,1,null,6.6090493136756476E-3,"",""]
["F5 NETWORKS, INC.","FFIV      ","S.US.FFIV      ",{"$f":"RTD(\"cqg.rtd\", ,\"ContractData\",C25, \"LongDescription\",, \"T\")","v":"F5 Networks Inc"},{"$f":"RTD(\"cqg.rtd\", ,\"ContractData\",C25, \"Open\",, \"T\")","v":126.89},{"$f":"RTD(\"cqg.rtd\", ,\"ContractData\",C25, \"High\",, \"T\")","v":128.02000000000001},{"$f":"RTD(\"cqg.rtd\", ,\"ContractData\",C25, \"Low\",, \"T\")","v":124.27},{"$f":"RTD(\"cqg.rtd\", ,\"ContractData\",C25, \"LastTradeToday\",, \"T\")","v":126.08},{"$f":"RTD(\"cqg.rtd\", ,\"ContractData\",C25, \"NetLastTradeToday\",, \"T\")","v":-1.79},{"$f":"RTD(\"cqg.rtd\", ,\"ContractData\",C25, \"PerCentNetLastTrade\",, \"T\")/100","v":-1.3998592320325331E-2},{"$f":"RTD(\"cqg.rtd\", ,\"ContractData\", C25, \"T_CVol\",, \"T\")","v":635486},25,{"$f":"RANK($J25,$J$1:J$69)+COUNTIF($J$1:J25,J25)-1","v":67},"S.US.FFIV      ","S.US.GOOGL",{"$f":"RTD(\"cqg.rtd\", ,\"ContractData\",O25, \"PerCentNetLastTrade\",, \"T\")/100","v":5.8588152881114876E-3},"https://finance.yahoo.com/quote/GOOGL",null,5.8588152881114876E-3,{"$error":"#N/A"},null,{"$f":"RTD(\"cqg.rtd\", ,\"ContractData\",O25, \"LongDescription\",, \"T\")","v":"Alphabet Inc. Class A"},null,null,5.8588152881114876E-3,null,1,1,null,{"$f":"IFERROR(S25,\"\")","v":5.8588152881114876E-3},{"$f":"IFERROR(T25,\"\")","v":""},""]
["FACEBOOK INC-A","FB","S.US.FB",{"$f":"RTD(\"cqg.rtd\", ,\"ContractData\",C26, \"LongDescription\",, \"T\")","v":"Facebook, Inc."},{"$f":"RTD(\"cqg.rtd\", ,\"ContractData\",C26, \"Open\",, \"T\")","v":144.72},{"$f":"RTD(\"cqg.rtd\", ,\"ContractData\",C26, \"High\",, \"T\")","v":147.42000000000002},{"$f":"RTD(\"cqg.rtd\", ,\"ContractData\",C26, \"Low\",, \"T\")","v":144.51},{"$f":"RTD(\"cqg.rtd\", ,\"ContractData\",C26, \"LastTradeToday\",, \"T\")","v":146.6},{"$f":"RTD(\"cqg.rtd\", ,\"ContractData\",C26, \"NetLastTradeToday\",, \"T\")","v":1.75},{"$f":"RTD(\"cqg.rtd\", ,\"ContractData\",C26, \"PerCentNetLastTrade\",, \"T\")/100","v":1.2081463583016913E-2},{"$f":"RTD(\"cqg.rtd\", ,\"ContractData\", C26, \"T_CVol\",, \"T\")","v":13207443},26,{"$f":"RANK($J26,$J$1:J$69)+COUNTIF($J$1:J26,J26)-1","v":11},"S.US.FB","S.US.IT        ",{"$f":"RTD(\"cqg.rtd\", ,\"ContractData\",O26, \"PerCentNetLastTrade\",, \"T\")/100","v":4.6716377683945738E-3},"https://finance.yahoo.com/quote/IT        ",null,4.6716377683945738E-3,{"$error":"#N/A"},null,{"$f":"RTD(\"cqg.rtd\", ,\"ContractData\",O26, \"LongDescription\",, \"T\")","v":"Gartner Group"},null,null,4.6716377683945738E-3,null,1,1]
["FIDELITY NATIONAL","FIS       ","S.US.FIS       ",{"$f":"RTD(\"cqg.rtd\", ,\"ContractData\",C27, \"LongDescription\",, \"T\")","v":"Fidelity National Info Services"},{"$f":"RTD(\"cqg.rtd\", ,\"ContractData\",C27, \"Open\",, \"T\")","v":82.850000000000009},{"$f":"RTD(\"cqg.rtd\", ,\"ContractData\",C27, \"High\",, \"T\")","v":83.44},{"$f":"RTD(\"cqg.rtd\", ,\"ContractData\",C27, \"Low\",, \"T\")","v":82.58},{"$f":"RTD(\"cqg.rtd\", ,\"ContractData\",C27, \"LastTradeToday\",, \"T\")","v":82.95},{"$f":"RTD(\"cqg.rtd\", ,\"ContractData\",C27, \"NetLastTradeToday\",, \"T\")","v":0.1},{"$f":"RTD(\"cqg.rtd\", ,\"ContractData\",C27, \"PerCentNetLastTrade\",, \"T\")/100","v":1.2070006035003018E-3},{"$f":"RTD(\"cqg.rtd\", ,\"ContractData\", C27, \"T_CVol\",, \"T\")","v":752928},27,{"$f":"RANK($J27,$J$1:J$69)+COUNTIF($J$1:J27,J27)-1","v":33},"S.US.FIS       ","S.US.KLAC      ",{"$f":"RTD(\"cqg.rtd\", ,\"ContractData\",O27, \"PerCentNetLastTrade\",, \"T\")/100","v":3.7044453344012816E-3},"https://finance.yahoo.com/quote/KLAC      ",null,3.7044453344012816E-3,{"$error":"#N/A"},null,{"$f":"RTD(\"cqg.rtd\", ,\"ContractData\",O27, \"LongDescription\",, \"T\")","v":"KLA-Tencor"},null,null,3.7044453344012816E-3,null,1,1]
["FISERV INC","FISV      ","S.US.FISV      ",{"$f":"RTD(\"cqg.rtd\", ,\"ContractData\",C28, \"LongDescription\",, \"T\")","v":"FISERV Inc"},{"$f":"RTD(\"cqg.rtd\", ,\"ContractData\",C28, \"Open\",, \"T\")","v":119.3},{"$f":"RTD(\"cqg.rtd\", ,\"ContractData\",C28, \"High\",, \"T\")","v":120.37},{"$f":"RTD(\"cqg.rtd\", ,\"ContractData\",C28, \"Low\",, \"T\")","v":118.95},{"$f":"RTD(\"cqg.rtd\", ,\"ContractData\",C28, \"LastTradeToday\",, \"T\")","v":119.93},{"$f":"RTD(\"cqg.rtd\", ,\"ContractData\",C28, \"NetLastTradeToday\",, \"T\")","v":0.8},{"$f":"RTD(\"cqg.rtd\", ,\"ContractData\",C28, \"PerCentNetLastTrade\",, \"T\")/100","v":6.7153529757407867E-3},{"$f":"RTD(\"cqg.rtd\", ,\"ContractData\", C28, \"T_CVol\",, \"T\")","v":284281},28,{"$f":"RANK($J28,$J$1:J$69)+COUNTIF($J$1:J28,J28)-1","v":23},"S.US.FISV      ","S.US.ORCL      ",{"$f":"RTD(\"cqg.rtd\", ,\"ContractData\",O28, \"PerCentNetLastTrade\",, \"T\")/100","v":2.9391815509834953E-3},"https://finance.yahoo.com/quote/ORCL      ",null,2.9391815509834953E-3,{"$error":"#N/A"},null,{"$f":"RTD(\"cqg.rtd\", ,\"ContractData\",O28, \"LongDescription\",, \"T\")","v":"Oracle Corporation"},null,null,2.9391815509834953E-3,null,1,1]
["FLIR SYSTEMS INC.","FLIR      ","S.US.FLIR      ",{"$f":"RTD(\"cqg.rtd\", ,\"ContractData\",C29, \"LongDescription\",, \"T\")","v":"FLIR Systems Inc"},{"$f":"RTD(\"cqg.rtd\", ,\"ContractData\",C29, \"Open\",, \"T\")","v":37.22},{"$f":"RTD(\"cqg.rtd\", ,\"ContractData\",C29, \"High\",, \"T\")","v":37.54},{"$f":"RTD(\"cqg.rtd\", ,\"ContractData\",C29, \"Low\",, \"T\")","v":37.06},{"$f":"RTD(\"cqg.rtd\", ,\"ContractData\",C29, \"LastTradeToday\",, \"T\")","v":37.33},{"$f":"RTD(\"cqg.rtd\", ,\"ContractData\",C29, \"NetLastTradeToday\",, \"T\")","v":0.03},{"$f":"RTD(\"cqg.rtd\", ,\"ContractData\",C29, \"PerCentNetLastTrade\",, \"T\")/100","v":8.042895442359249E-4},{"$f":"RTD(\"cqg.rtd\", ,\"ContractData\", C29, \"T_CVol\",, \"T\")","v":249961},29,{"$f":"RANK($J29,$J$1:J$69)+COUNTIF($J$1:J29,J29)-1","v":35},"S.US.FLIR      ","S.US.INTC      ",{"$f":"RTD(\"cqg.rtd\", ,\"ContractData\",O29, \"PerCentNetLastTrade\",, \"T\")/100","v":2.8538812785388131E-3},"https://finance.yahoo.com/quote/INTC      ",null,2.8538812785388131E-3,{"$error":"#N/A"},null,{"$f":"RTD(\"cqg.rtd\", ,\"ContractData\",O29, \"LongDescription\",, \"T\")","v":"Intel Corporation"},null,null,2.8538812785388131E-3,null,1,1]
["GARTNER INC","IT        ","S.US.IT        ",{"$f":"RTD(\"cqg.rtd\", ,\"ContractData\",C30, \"LongDescription\",, \"T\")","v":"Gartner Group"},{"$f":"RTD(\"cqg.rtd\", ,\"ContractData\",C30, \"Open\",, \"T\")","v":111.47},{"$f":"RTD(\"cqg.rtd\", ,\"ContractData\",C30, \"High\",, \"T\")","v":112.57000000000001},{"$f":"RTD(\"cqg.rtd\", ,\"ContractData\",C30, \"Low\",, \"T\")","v":110.76},{"$f":"RTD(\"cqg.rtd\", ,\"ContractData\",C30, \"LastTradeToday\",, \"T\")","v":111.83},{"$f":"RTD(\"cqg.rtd\", ,\"ContractData\",C30, \"NetLastTradeToday\",, \"T\")","v":0.52},{"$f":"RTD(\"cqg.rtd\", ,\"ContractData\",C30, \"PerCentNetLastTrade\",, \"T\")/100","v":4.6716377683945738E-3},{"$f":"RTD(\"cqg.rtd\", ,\"ContractData\", C30, \"T_CVol\",, \"T\")","v":87771},30,{"$f":"RANK($J30,$J$1:J$69)+COUNTIF($J$1:J30,J30)-1","v":26},"S.US.IT        ","S.US.MSFT      ",{"$f":"RTD(\"cqg.rtd\", ,\"ContractData\",O30, \"PerCentNetLastTrade\",, \"T\")/100","v":2.8156490812092472E-3},"https://finance.yahoo.com/quote/MSFT      ",null,2.8156490812092472E-3,{"$error":"#N/A"},null,{"$f":"RTD(\"cqg.rtd\", ,\"ContractData\",O30, \"LongDescription\",, \"T\")","v":"Microsoft Corporation"},null,null,2.8156490812092472E-3,null,1,1]
["GLOBAL PAYMENTS, INC","GPN       ","S.US.GPN       ",{"$f":"RTD(\"cqg.rtd\", ,\"ContractData\",C31, \"LongDescription\",, \"T\")","v":"Global Payments"},{"$f":"RTD(\"cqg.rtd\", ,\"ContractData\",C31, \"Open\",, \"T\")","v":88.09},{"$f":"RTD(\"cqg.rtd\", ,\"ContractData\",C31, \"High\",, \"T\")","v":89.15},{"$f":"RTD(\"cqg.rtd\", ,\"ContractData\",C31, \"Low\",, \"T\")","v":87.68},{"$f":"RTD(\"cqg.rtd\", ,\"ContractData\",C31, \"LastTradeToday\",, \"T\")","v":89.06},{"$f":"RTD(\"cqg.rtd\", ,\"ContractData\",C31, \"NetLastTradeToday\",, \"T\")","v":0.96},{"$f":"RTD(\"cqg.rtd\", ,\"ContractData\",C31, \"PerCentNetLastTrade\",, \"T\")/100","v":1.0896708286038592E-2},{"$f":"RTD(\"cqg.rtd\", ,\"ContractData\", C31, \"T_CVol\",, \"T\")","v":285606},31,{"$f":"RANK($J31,$J$1:J$69)+COUNTIF($J$1:J31,J31)-1","v":13},"S.US.GPN       ","S.US.VRSN      ",{"$f":"RTD(\"cqg.rtd\", ,\"ContractData\",O31, \"PerCentNetLastTrade\",, \"T\")/100","v":1.930282729646872E-3},"https://finance.yahoo.com/quote/VRSN      ",null,1.930282729646872E-3,{"$error":"#N/A"},null,{"$f":"RTD(\"cqg.rtd\", ,\"ContractData\",O31, \"LongDescription\",, \"T\")","v":"Verisign Inc"},null,null,1.930282729646872E-3,null,1,1]
["HARRIS CORPORATION","HRS       ","S.US.HRS       ",{"$f":"RTD(\"cqg.rtd\", ,\"ContractData\",C32, \"LongDescription\",, \"T\")","v":"Harris Corporation"},{"$f":"RTD(\"cqg.rtd\", ,\"ContractData\",C32, \"Open\",, \"T\")","v":107.09},{"$f":"RTD(\"cqg.rtd\", ,\"ContractData\",C32, \"High\",, \"T\")","v":107.25},{"$f":"RTD(\"cqg.rtd\", ,\"ContractData\",C32, \"Low\",, \"T\")","v":106.18},{"$f":"RTD(\"cqg.rtd\", ,\"ContractData\",C32, \"LastTradeToday\",, \"T\")","v":107.02},{"$f":"RTD(\"cqg.rtd\", ,\"ContractData\",C32, \"NetLastTradeToday\",, \"T\")","v":-0.16},{"$f":"RTD(\"cqg.rtd\", ,\"ContractData\",C32, \"PerCentNetLastTrade\",, \"T\")/100","v":-1.4928158238477326E-3},{"$f":"RTD(\"cqg.rtd\", ,\"ContractData\", C32, \"T_CVol\",, \"T\")","v":342260},32,{"$f":"RANK($J32,$J$1:J$69)+COUNTIF($J$1:J32,J32)-1","v":45},"S.US.HRS       ","S.US.AMD       ",{"$f":"RTD(\"cqg.rtd\", ,\"ContractData\",O32, \"PerCentNetLastTrade\",, \"T\")/100","v":1.7857142857142857E-3},"https://finance.yahoo.com/quote/AMD       ",null,1.7857142857142857E-3,{"$error":"#N/A"},null,{"$f":"RTD(\"cqg.rtd\", ,\"ContractData\",O32, \"LongDescription\",, \"T\")","v":"Advanced Micro Devices"},null,null,1.7857142857142857E-3,null,1,1]
["HEWLETT PACKARD ENTERPRIS","HPE","S.US.HPE",{"$f":"RTD(\"cqg.rtd\", ,\"ContractData\",C33, \"LongDescription\",, \"T\")","v":"Hewlett Packard Enterprise Company"},{"$f":"RTD(\"cqg.rtd\", ,\"ContractData\",C33, \"Open\",, \"T\")","v":18.650000000000002},{"$f":"RTD(\"cqg.rtd\", ,\"ContractData\",C33, \"High\",, \"T\")","v":18.940000000000001},{"$f":"RTD(\"cqg.rtd\", ,\"ContractData\",C33, \"Low\",, \"T\")","v":18.52},{"$f":"RTD(\"cqg.rtd\", ,\"ContractData\",C33, \"LastTradeToday\",, \"T\")","v":18.79},{"$f":"RTD(\"cqg.rtd\", ,\"ContractData\",C33, \"NetLastTradeToday\",, \"T\")","v":-0.01},{"$f":"RTD(\"cqg.rtd\", ,\"ContractData\",C33, \"PerCentNetLastTrade\",, \"T\")/100","v":-5.3191489361702129E-4},{"$f":"RTD(\"cqg.rtd\", ,\"ContractData\", C33, \"T_CVol\",, \"T\")","v":6996892},33,{"$f":"RANK($J33,$J$1:J$69)+COUNTIF($J$1:J33,J33)-1","v":40},"S.US.HPE","S.US.FIS       ",{"$f":"RTD(\"cqg.rtd\", ,\"ContractData\",O33, \"PerCentNetLastTrade\",, \"T\")/100","v":1.2070006035003018E-3},"https://finance.yahoo.com/quote/FIS       ",null,1.2070006035003018E-3,{"$error":"#N/A"},null,{"$f":"RTD(\"cqg.rtd\", ,\"ContractData\",O33, \"LongDescription\",, \"T\")","v":"Fidelity National Info Services"},null,null,1.2070006035003018E-3,null,1,1]
["HP INC","HPQ","S.US.HPQ",{"$f":"RTD(\"cqg.rtd\", ,\"ContractData\",C34, \"LongDescription\",, \"T\")","v":"Hewlett-Packard Company"},{"$f":"RTD(\"cqg.rtd\", ,\"ContractData\",C34, \"Open\",, \"T\")","v":18.87},{"$f":"RTD(\"cqg.rtd\", ,\"ContractData\",C34, \"High\",, \"T\")","v":18.88},{"$f":"RTD(\"cqg.rtd\", ,\"ContractData\",C34, \"Low\",, \"T\")","v":18.650000000000002},{"$f":"RTD(\"cqg.rtd\", ,\"ContractData\",C34, \"LastTradeToday\",, \"T\")","v":18.73},{"$f":"RTD(\"cqg.rtd\", ,\"ContractData\",C34, \"NetLastTradeToday\",, \"T\")","v":-0.23},{"$f":"RTD(\"cqg.rtd\", ,\"ContractData\",C34, \"PerCentNetLastTrade\",, \"T\")/100","v":-1.2130801687763712E-2},{"$f":"RTD(\"cqg.rtd\", ,\"ContractData\", C34, \"T_CVol\",, \"T\")","v":6324151},34,{"$f":"RANK($J34,$J$1:J$69)+COUNTIF($J$1:J34,J34)-1","v":64},"S.US.HPQ","S.US.EBAY      ",{"$f":"RTD(\"cqg.rtd\", ,\"ContractData\",O34, \"PerCentNetLastTrade\",, \"T\")/100","v":1.1911852293031565E-3},"https://finance.yahoo.com/quote/EBAY      ",null,1.1911852293031565E-3,{"$error":"#N/A"},null,{"$f":"RTD(\"cqg.rtd\", ,\"ContractData\",O34, \"LongDescription\",, \"T\")","v":"eBay Inc"},null,null,1.1911852293031565E-3,null,1,1]
["INTEL CORPORATION","INTC      ","S.US.INTC      ",{"$f":"RTD(\"cqg.rtd\", ,\"ContractData\",C35, \"LongDescription\",, \"T\")","v":"Intel Corporation"},{"$f":"RTD(\"cqg.rtd\", ,\"ContractData\",C35, \"Open\",, \"T\")","v":35.19},{"$f":"RTD(\"cqg.rtd\", ,\"ContractData\",C35, \"High\",, \"T\")","v":35.47},{"$f":"RTD(\"cqg.rtd\", ,\"ContractData\",C35, \"Low\",, \"T\")","v":35.08},{"$f":"RTD(\"cqg.rtd\", ,\"ContractData\",C35, \"LastTradeToday\",, \"T\")","v":35.14},{"$f":"RTD(\"cqg.rtd\", ,\"ContractData\",C35, \"NetLastTradeToday\",, \"T\")","v":0.1},{"$f":"RTD(\"cqg.rtd\", ,\"ContractData\",C35, \"PerCentNetLastTrade\",, \"T\")/100","v":2.8538812785388131E-3},{"$f":"RTD(\"cqg.rtd\", ,\"ContractData\", C35, \"T_CVol\",, \"T\")","v":8489605},35,{"$f":"RANK($J35,$J$1:J$69)+COUNTIF($J$1:J35,J35)-1","v":29},"S.US.INTC      ","S.US.FLIR      ",{"$f":"RTD(\"cqg.rtd\", ,\"ContractData\",O35, \"PerCentNetLastTrade\",, \"T\")/100","v":8.042895442359249E-4},"https://finance.yahoo.com/quote/FLIR      ",null,8.042895442359249E-4,{"$error":"#N/A"},null,{"$f":"RTD(\"cqg.rtd\", ,\"ContractData\",O35, \"LongDescription\",, \"T\")","v":"FLIR Systems Inc"},null,null,8.042895442359249E-4,null,1,1]
["INTL. BUS. MACHINES CORP.","IBM       ","S.US.IBM       ",{"$f":"RTD(\"cqg.rtd\", ,\"ContractData\",C36, \"LongDescription\",, \"T\")","v":"International Business Machines"},{"$f":"RTD(\"cqg.rtd\", ,\"ContractData\",C36, \"Open\",, \"T\")","v":150.86000000000001},{"$f":"RTD(\"cqg.rtd\", ,\"ContractData\",C36, \"High\",, \"T\")","v":151.22999999999999},{"$f":"RTD(\"cqg.rtd\", ,\"ContractData\",C36, \"Low\",, \"T\")","v":150.11000000000001},{"$f":"RTD(\"cqg.rtd\", ,\"ContractData\",C36, \"LastTradeToday\",, \"T\")","v":150.55000000000001},{"$f":"RTD(\"cqg.rtd\", ,\"ContractData\",C36, \"NetLastTradeToday\",, \"T\")","v":-0.38},{"$f":"RTD(\"cqg.rtd\", ,\"ContractData\",C36, \"PerCentNetLastTrade\",, \"T\")/100","v":-2.5177234479560064E-3},{"$f":"RTD(\"cqg.rtd\", ,\"ContractData\", C36, \"T_CVol\",, \"T\")","v":1345535},36,{"$f":"RANK($J36,$J$1:J$69)+COUNTIF($J$1:J36,J36)-1","v":47},"S.US.IBM       ","S.US.GLW       ",{"$f":"RTD(\"cqg.rtd\", ,\"ContractData\",O36, \"PerCentNetLastTrade\",, \"T\")/100","v":3.4916201117318431E-4},"https://finance.yahoo.com/quote/GLW       ",null,3.4916201117318431E-4,{"$error":"#N/A"},null,{"$f":"RTD(\"cqg.rtd\", ,\"ContractData\",O36, \"LongDescription\",, \"T\")","v":"Corning Incorporated"},null,null,3.4916201117318431E-4,null,1,1]
["INTUIT INC","INTU      ","S.US.INTU      ",{"$f":"RTD(\"cqg.rtd\", ,\"ContractData\",C37, \"LongDescription\",, \"T\")","v":"Intuit Corp"},{"$f":"RTD(\"cqg.rtd\", ,\"ContractData\",C37, \"Open\",, \"T\")","v":125.2},{"$f":"RTD(\"cqg.rtd\", ,\"ContractData\",C37, \"High\",, \"T\")","v":125.83},{"$f":"RTD(\"cqg.rtd\", ,\"ContractData\",C37, \"Low\",, \"T\")","v":124.22},{"$f":"RTD(\"cqg.rtd\", ,\"ContractData\",C37, \"LastTradeToday\",, \"T\")","v":125.24000000000001},{"$f":"RTD(\"cqg.rtd\", ,\"ContractData\",C37, \"NetLastTradeToday\",, \"T\")","v":-0.11},{"$f":"RTD(\"cqg.rtd\", ,\"ContractData\",C37, \"PerCentNetLastTrade\",, \"T\")/100","v":-8.7754287993617864E-4},{"$f":"RTD(\"cqg.rtd\", ,\"ContractData\", C37, \"T_CVol\",, \"T\")","v":758452},37,{"$f":"RANK($J37,$J$1:J$69)+COUNTIF($J$1:J37,J37)-1","v":42},"S.US.INTU      ","S.US.PYPL",{"$f":"RTD(\"cqg.rtd\", ,\"ContractData\",O37, \"PerCentNetLastTrade\",, \"T\")/100","v":2.0387359836901122E-4},"https://finance.yahoo.com/quote/PYPL",null,2.0387359836901122E-4,{"$error":"#N/A"},null,{"$f":"RTD(\"cqg.rtd\", ,\"ContractData\",O37, \"LongDescription\",, \"T\")","v":"PayPal Holdings, Inc."},null,null,2.0387359836901122E-4,null,1,1]
["JUNIPER NETWORKS, INC.","JNPR      ","S.US.JNPR      ",{"$f":"RTD(\"cqg.rtd\", ,\"ContractData\",C38, \"LongDescription\",, \"T\")","v":"Juniper Networks, Inc."},{"$f":"RTD(\"cqg.rtd\", ,\"ContractData\",C38, \"Open\",, \"T\")","v":29.51},{"$f":"RTD(\"cqg.rtd\", ,\"ContractData\",C38, \"High\",, \"T\")","v":29.89},{"$f":"RTD(\"cqg.rtd\", ,\"ContractData\",C38, \"Low\",, \"T\")","v":29.17},{"$f":"RTD(\"cqg.rtd\", ,\"ContractData\",C38, \"LastTradeToday\",, \"T\")","v":29.650000000000002},{"$f":"RTD(\"cqg.rtd\", ,\"ContractData\",C38, \"NetLastTradeToday\",, \"T\")","v":-0.11},{"$f":"RTD(\"cqg.rtd\", ,\"ContractData\",C38, \"PerCentNetLastTrade\",, \"T\")/100","v":-3.6962365591397851E-3},{"$f":"RTD(\"cqg.rtd\", ,\"ContractData\", C38, \"T_CVol\",, \"T\")","v":3699892},38,{"$f":"RANK($J38,$J$1:J$69)+COUNTIF($J$1:J38,J38)-1","v":51},"S.US.JNPR      ","S.US.ACN       ",{"$f":"RTD(\"cqg.rtd\", ,\"ContractData\",O38, \"PerCentNetLastTrade\",, \"T\")/100","v":8.302889405513119E-5},"https://finance.yahoo.com/quote/ACN       ",null,8.302889405513119E-5,{"$error":"#N/A"},null,{"$f":"RTD(\"cqg.rtd\", ,\"ContractData\",O38, \"LongDescription\",, \"T\")","v":"Accenture PLC Ireland"},null,null,8.302889405513119E-5,null,1,1]
["KLA-TENCOR CORPORATION","KLAC      ","S.US.KLAC      ",{"$f":"RTD(\"cqg.rtd\", ,\"ContractData\",C39, \"LongDescription\",, \"T\")","v":"KLA-Tencor"},{"$f":"RTD(\"cqg.rtd\", ,\"ContractData\",C39, \"Open\",, \"T\")","v":99.65},{"$f":"RTD(\"cqg.rtd\", ,\"ContractData\",C39, \"High\",, \"T\")","v":100.58},{"$f":"RTD(\"cqg.rtd\", ,\"ContractData\",C39, \"Low\",, \"T\")","v":99.16},{"$f":"RTD(\"cqg.rtd\", ,\"ContractData\",C39, \"LastTradeToday\",, \"T\")","v":100.25},{"$f":"RTD(\"cqg.rtd\", ,\"ContractData\",C39, \"NetLastTradeToday\",, \"T\")","v":0.37},{"$f":"RTD(\"cqg.rtd\", ,\"ContractData\",C39, \"PerCentNetLastTrade\",, \"T\")/100","v":3.7044453344012816E-3},{"$f":"RTD(\"cqg.rtd\", ,\"ContractData\", C39, \"T_CVol\",, \"T\")","v":765126},39,{"$f":"RANK($J39,$J$1:J$69)+COUNTIF($J$1:J39,J39)-1","v":27},"S.US.KLAC      ","S.US.WDC       ",{"$f":"RTD(\"cqg.rtd\", ,\"ContractData\",O39, \"PerCentNetLastTrade\",, \"T\")/100","v":0},"https://finance.yahoo.com/quote/WDC       ",null,0,{"$error":"#N/A"},null,{"$f":"RTD(\"cqg.rtd\", ,\"ContractData\",O39, \"LongDescription\",, \"T\")","v":"Western Digital Corporation"},null,null,0,null,{"$f":"IF(S39=\"#N/A\",0,1)","v":1},1]
["LAM RESEARCH CORPORATION","LRCX      ","S.US.LRCX      ",{"$f":"RTD(\"cqg.rtd\", ,\"ContractData\",C40, \"LongDescription\",, \"T\")","v":"LAM Research Corporation"},{"$f":"RTD(\"cqg.rtd\", ,\"ContractData\",C40, \"Open\",, \"T\")","v":146.68},{"$f":"RTD(\"cqg.rtd\", ,\"ContractData\",C40, \"High\",, \"T\")","v":148.95000000000002},{"$f":"RTD(\"cqg.rtd\", ,\"ContractData\",C40, \"Low\",, \"T\")","v":145.13},{"$f":"RTD(\"cqg.rtd\", ,\"ContractData\",C40, \"LastTradeToday\",, \"T\")","v":148.39000000000001},{"$f":"RTD(\"cqg.rtd\", ,\"ContractData\",C40, \"NetLastTradeToday\",, \"T\")","v":1.1200000000000001},{"$f":"RTD(\"cqg.rtd\", ,\"ContractData\",C40, \"PerCentNetLastTrade\",, \"T\")/100","v":7.6050791064032055E-3},{"$f":"RTD(\"cqg.rtd\", ,\"ContractData\", C40, \"T_CVol\",, \"T\")","v":1407217},40,{"$f":"RANK($J40,$J$1:J$69)+COUNTIF($J$1:J40,J40)-1","v":21},"S.US.LRCX      ","S.US.HPE",{"$f":"RTD(\"cqg.rtd\", ,\"ContractData\",O40, \"PerCentNetLastTrade\",, \"T\")/100","v":-5.3191489361702129E-4},"https://finance.yahoo.com/quote/HPE",null,{"$error":"#N/A"},5.3191489361702129E-4,null,{"$f":"RTD(\"cqg.rtd\", ,\"ContractData\",O40, \"LongDescription\",, \"T\")","v":"Hewlett Packard Enterprise Company"},null,null,-5.3191489361702129E-4,null,{"$error":"#N/A"},0]
["MASTERCARD, INC.","MA        ","S.US.MA        ",{"$f":"RTD(\"cqg.rtd\", ,\"ContractData\",C41, \"LongDescription\",, \"T\")","v":"Mastercard Inc."},{"$f":"RTD(\"cqg.rtd\", ,\"ContractData\",C41, \"Open\",, \"T\")","v":115.93},{"$f":"RTD(\"cqg.rtd\", ,\"ContractData\",C41, \"High\",, \"T\")","v":116.65},{"$f":"RTD(\"cqg.rtd\", ,\"ContractData\",C41, \"Low\",, \"T\")","v":115.68},{"$f":"RTD(\"cqg.rtd\", ,\"ContractData\",C41, \"LastTradeToday\",, \"T\")","v":115.98},{"$f":"RTD(\"cqg.rtd\", ,\"ContractData\",C41, \"NetLastTradeToday\",, \"T\")","v":-0.82000000000000006},{"$f":"RTD(\"cqg.rtd\", ,\"ContractData\",C41, \"PerCentNetLastTrade\",, \"T\")/100","v":-7.0205479452054801E-3},{"$f":"RTD(\"cqg.rtd\", ,\"ContractData\", C41, \"T_CVol\",, \"T\")","v":2226503},41,{"$f":"RANK($J41,$J$1:J$69)+COUNTIF($J$1:J41,J41)-1","v":59},"S.US.MA        ","S.US.V         ",{"$f":"RTD(\"cqg.rtd\", ,\"ContractData\",O41, \"PerCentNetLastTrade\",, \"T\")/100","v":-5.4489973844812562E-4},"https://finance.yahoo.com/quote/V         ",null,{"$error":"#N/A"},5.4489973844812562E-4,null,{"$f":"RTD(\"cqg.rtd\", ,\"ContractData\",O41, \"LongDescription\",, \"T\")","v":"Visa Inc."},null,null,-5.4489973844812562E-4,null,{"$error":"#N/A"},0]
["MICROCHIP TECHNOLOGY INC","MCHP      ","S.US.MCHP      ",{"$f":"RTD(\"cqg.rtd\", ,\"ContractData\",C42, \"LongDescription\",, \"T\")","v":"Microchip Technology Inc"},{"$f":"RTD(\"cqg.rtd\", ,\"ContractData\",C42, \"Open\",, \"T\")","v":78.39},{"$f":"RTD(\"cqg.rtd\", ,\"ContractData\",C42, \"High\",, \"T\")","v":79.56},{"$f":"RTD(\"cqg.rtd\", ,\"ContractData\",C42, \"Low\",, \"T\")","v":77.87},{"$f":"RTD(\"cqg.rtd\", ,\"ContractData\",C42, \"LastTradeToday\",, \"T\")","v":79.02},{"$f":"RTD(\"cqg.rtd\", ,\"ContractData\",C42, \"NetLastTradeToday\",, \"T\")","v":0.68},{"$f":"RTD(\"cqg.rtd\", ,\"ContractData\",C42, \"PerCentNetLastTrade\",, \"T\")/100","v":8.6801123308654585E-3},{"$f":"RTD(\"cqg.rtd\", ,\"ContractData\", C42, \"T_CVol\",, \"T\")","v":1332850},42,{"$f":"RANK($J42,$J$1:J$69)+COUNTIF($J$1:J42,J42)-1","v":16},"S.US.MCHP      ","S.US.INTU      ",{"$f":"RTD(\"cqg.rtd\", ,\"ContractData\",O42, \"PerCentNetLastTrade\",, \"T\")/100","v":-8.7754287993617864E-4},"https://finance.yahoo.com/quote/INTU      ",null,{"$error":"#N/A"},8.7754287993617864E-4,null,{"$f":"RTD(\"cqg.rtd\", ,\"ContractData\",O42, \"LongDescription\",, \"T\")","v":"Intuit Corp"},null,null,-8.7754287993617864E-4,null,{"$error":"#N/A"},0]
["MICRON TECHNOLOGY, INC.","MU        ","S.US.MU        ",{"$f":"RTD(\"cqg.rtd\", ,\"ContractData\",C43, \"LongDescription\",, \"T\")","v":"Micron Technology Inc"},{"$f":"RTD(\"cqg.rtd\", ,\"ContractData\",C43, \"Open\",, \"T\")","v":27.150000000000002},{"$f":"RTD(\"cqg.rtd\", ,\"ContractData\",C43, \"High\",, \"T\")","v":27.89},{"$f":"RTD(\"cqg.rtd\", ,\"ContractData\",C43, \"Low\",, \"T\")","v":27.080000000000002},{"$f":"RTD(\"cqg.rtd\", ,\"ContractData\",C43, \"LastTradeToday\",, \"T\")","v":27.240000000000002},{"$f":"RTD(\"cqg.rtd\", ,\"ContractData\",C43, \"NetLastTradeToday\",, \"T\")","v":0.24},{"$f":"RTD(\"cqg.rtd\", ,\"ContractData\",C43, \"PerCentNetLastTrade\",, \"T\")/100","v":8.8888888888888889E-3},{"$f":"RTD(\"cqg.rtd\", ,\"ContractData\", C43, \"T_CVol\",, \"T\")","v":17582287},43,{"$f":"RANK($J43,$J$1:J$69)+COUNTIF($J$1:J43,J43)-1","v":15},"S.US.MU        ","S.US.TSS       ",{"$f":"RTD(\"cqg.rtd\", ,\"ContractData\",O43, \"PerCentNetLastTrade\",, \"T\")/100","v":-1.2079378774805867E-3},"https://finance.yahoo.com/quote/TSS       ",null,{"$error":"#N/A"},1.2079378774805867E-3,null,{"$f":"RTD(\"cqg.rtd\", ,\"ContractData\",O43, \"LongDescription\",, \"T\")","v":"Total Systems Services Inc"},null,null,-1.2079378774805867E-3,null,{"$error":"#N/A"},0]
["MICROSOFT CORPORATION","MSFT      ","S.US.MSFT      ",{"$f":"RTD(\"cqg.rtd\", ,\"ContractData\",C44, \"LongDescription\",, \"T\")","v":"Microsoft Corporation"},{"$f":"RTD(\"cqg.rtd\", ,\"ContractData\",C44, \"Open\",, \"T\")","v":67.400000000000006},{"$f":"RTD(\"cqg.rtd\", ,\"ContractData\",C44, \"High\",, \"T\")","v":68.13},{"$f":"RTD(\"cqg.rtd\", ,\"ContractData\",C44, \"Low\",, \"T\")","v":67.14},{"$f":"RTD(\"cqg.rtd\", ,\"ContractData\",C44, \"LastTradeToday\",, \"T\")","v":67.67},{"$f":"RTD(\"cqg.rtd\", ,\"ContractData\",C44, \"NetLastTradeToday\",, \"T\")","v":0.19},{"$f":"RTD(\"cqg.rtd\", ,\"ContractData\",C44, \"PerCentNetLastTrade\",, \"T\")/100","v":2.8156490812092472E-3},{"$f":"RTD(\"cqg.rtd\", ,\"ContractData\", C44, \"T_CVol\",, \"T\")","v":12844420},44,{"$f":"RANK($J44,$J$1:J$69)+COUNTIF($J$1:J44,J44)-1","v":30},"S.US.MSFT      ","S.US.CSRA",{"$f":"RTD(\"cqg.rtd\", ,\"ContractData\",O44, \"PerCentNetLastTrade\",, \"T\")/100","v":-1.3893713094824591E-3},"https://finance.yahoo.com/quote/CSRA",null,{"$error":"#N/A"},1.3893713094824591E-3,null,{"$f":"RTD(\"cqg.rtd\", ,\"ContractData\",O44, \"LongDescription\",, \"T\")","v":"CSRA Inc."},null,null,-1.3893713094824591E-3,null,{"$error":"#N/A"},0]
["MOTOROLA SOLUTIONS INC","MSI","S.US.MSI",{"$f":"RTD(\"cqg.rtd\", ,\"ContractData\",C45, \"LongDescription\",, \"T\")","v":"Motorola Solutions, Inc."},{"$f":"RTD(\"cqg.rtd\", ,\"ContractData\",C45, \"Open\",, \"T\")","v":81.22},{"$f":"RTD(\"cqg.rtd\", ,\"ContractData\",C45, \"High\",, \"T\")","v":81.7},{"$f":"RTD(\"cqg.rtd\", ,\"ContractData\",C45, \"Low\",, \"T\")","v":80.680000000000007},{"$f":"RTD(\"cqg.rtd\", ,\"ContractData\",C45, \"LastTradeToday\",, \"T\")","v":80.87},{"$f":"RTD(\"cqg.rtd\", ,\"ContractData\",C45, \"NetLastTradeToday\",, \"T\")","v":-0.98},{"$f":"RTD(\"cqg.rtd\", ,\"ContractData\",C45, \"PerCentNetLastTrade\",, \"T\")/100","v":-1.1973121563836286E-2},{"$f":"RTD(\"cqg.rtd\", ,\"ContractData\", C45, \"T_CVol\",, \"T\")","v":396913},45,{"$f":"RANK($J45,$J$1:J$69)+COUNTIF($J$1:J45,J45)-1","v":63},"S.US.MSI","S.US.HRS       ",{"$f":"RTD(\"cqg.rtd\", ,\"ContractData\",O45, \"PerCentNetLastTrade\",, \"T\")/100","v":-1.4928158238477326E-3},"https://finance.yahoo.com/quote/HRS       ",null,{"$error":"#N/A"},1.4928158238477326E-3,null,{"$f":"RTD(\"cqg.rtd\", ,\"ContractData\",O45, \"LongDescription\",, \"T\")","v":"Harris Corporation"},null,null,-1.4928158238477326E-3,null,{"$error":"#N/A"},0,null,{"$f":"IFERROR(S45,\"\")","v":""},{"$f":"IFERROR(T45,\"\")","v":1.4928158238477326E-3},{"$f":"IF(AE45=\"\",\"\",Y45)","v":-1.4928158238477326E-3}]
["NETAPP INC","NTAP","S.US.NTAP",{"$f":"RTD(\"cqg.rtd\", ,\"ContractData\",C46, \"LongDescription\",, \"T\")","v":"NetApp inc."},{"$f":"RTD(\"cqg.rtd\", ,\"ContractData\",C46, \"Open\",, \"T\")","v":40.119999999999997},{"$f":"RTD(\"cqg.rtd\", ,\"ContractData\",C46, \"High\",, \"T\")","v":40.840000000000003},{"$f":"RTD(\"cqg.rtd\", ,\"ContractData\",C46, \"Low\",, \"T\")","v":39.69},{"$f":"RTD(\"cqg.rtd\", ,\"ContractData\",C46, \"LastTradeToday\",, \"T\")","v":40.19},{"$f":"RTD(\"cqg.rtd\", ,\"ContractData\",C46, \"NetLastTradeToday\",, \"T\")","v":-0.15},{"$f":"RTD(\"cqg.rtd\", ,\"ContractData\",C46, \"PerCentNetLastTrade\",, \"T\")/100","v":-3.7183936539414973E-3},{"$f":"RTD(\"cqg.rtd\", ,\"ContractData\", C46, \"T_CVol\",, \"T\")","v":1991329},46,{"$f":"RANK($J46,$J$1:J$69)+COUNTIF($J$1:J46,J46)-1","v":52},"S.US.NTAP","S.US.CRM       ",{"$f":"RTD(\"cqg.rtd\", ,\"ContractData\",O46, \"PerCentNetLastTrade\",, \"T\")/100","v":-2.3907103825136613E-3},"https://finance.yahoo.com/quote/CRM       ",null,{"$error":"#N/A"},2.3907103825136613E-3,null,{"$f":"RTD(\"cqg.rtd\", ,\"ContractData\",O46, \"LongDescription\",, \"T\")","v":"Salesforce.com Inc"},null,null,-2.3907103825136613E-3,null,{"$error":"#N/A"},0,null,{"$f":"IFERROR(S46,\"\")","v":""},{"$f":"IFERROR(T46,\"\")","v":2.3907103825136613E-3},{"$f":"IF(AE46=\"\",\"\",Y46)","v":-2.3907103825136613E-3}]
["NVIDIA CORP","NVDA      ","S.US.NVDA      ",{"$f":"RTD(\"cqg.rtd\", ,\"ContractData\",C47, \"LongDescription\",, \"T\")","v":"NVIDIA Corp"},{"$f":"RTD(\"cqg.rtd\", ,\"ContractData\",C47, \"Open\",, \"T\")","v":129.5},{"$f":"RTD(\"cqg.rtd\", ,\"ContractData\",C47, \"High\",, \"T\")","v":132.78},{"$f":"RTD(\"cqg.rtd\", ,\"ContractData\",C47, \"Low\",, \"T\")","v":127.05},{"$f":"RTD(\"cqg.rtd\", ,\"ContractData\",C47, \"LastTradeToday\",, \"T\")","v":130.16},{"$f":"RTD(\"cqg.rtd\", ,\"ContractData\",C47, \"NetLastTradeToday\",, \"T\")","v":2.44},{"$f":"RTD(\"cqg.rtd\", ,\"ContractData\",C47, \"PerCentNetLastTrade\",, \"T\")/100","v":1.9104290635765738E-2},{"$f":"RTD(\"cqg.rtd\", ,\"ContractData\", C47, \"T_CVol\",, \"T\")","v":18027814},47,{"$f":"RANK($J47,$J$1:J$69)+COUNTIF($J$1:J47,J47)-1","v":4},"S.US.NVDA      ","S.US.IBM       ",{"$f":"RTD(\"cqg.rtd\", ,\"ContractData\",O47, \"PerCentNetLastTrade\",, \"T\")/100","v":-2.5177234479560064E-3},"https://finance.yahoo.com/quote/IBM       ",null,{"$error":"#N/A"},2.5177234479560064E-3,null,{"$f":"RTD(\"cqg.rtd\", ,\"ContractData\",O47, \"LongDescription\",, \"T\")","v":"International Business Machines"},null,null,-2.5177234479560064E-3,null,{"$error":"#N/A"},0,null,"",2.5177234479560064E-3,-2.5177234479560064E-3]
["ORACLE CORPORATION","ORCL      ","S.US.ORCL      ",{"$f":"RTD(\"cqg.rtd\", ,\"ContractData\",C48, \"LongDescription\",, \"T\")","v":"Oracle Corporation"},{"$f":"RTD(\"cqg.rtd\", ,\"ContractData\",C48, \"Open\",, \"T\")","v":44.06},{"$f":"RTD(\"cqg.rtd\", ,\"ContractData\",C48, \"High\",, \"T\")","v":44.410000000000004},{"$f":"RTD(\"cqg.rtd\", ,\"ContractData\",C48, \"Low\",, \"T\")","v":43.6},{"$f":"RTD(\"cqg.rtd\", ,\"ContractData\",C48, \"LastTradeToday\",, \"T\")","v":44.36},{"$f":"RTD(\"cqg.rtd\", ,\"ContractData\",C48, \"NetLastTradeToday\",, \"T\")","v":0.13},{"$f":"RTD(\"cqg.rtd\", ,\"ContractData\",C48, \"PerCentNetLastTrade\",, \"T\")/100","v":2.9391815509834953E-3},{"$f":"RTD(\"cqg.rtd\", ,\"ContractData\", C48, \"T_CVol\",, \"T\")","v":6846395},48,{"$f":"RANK($J48,$J$1:J$69)+COUNTIF($J$1:J48,J48)-1","v":28},"S.US.ORCL      ","S.US.ADBE      ",{"$f":"RTD(\"cqg.rtd\", ,\"ContractData\",O48, \"PerCentNetLastTrade\",, \"T\")/100","v":-2.9032978485818506E-3},"https://finance.yahoo.com/quote/ADBE      ",null,{"$error":"#N/A"},2.9032978485818506E-3,null,{"$f":"RTD(\"cqg.rtd\", ,\"ContractData\",O48, \"LongDescription\",, \"T\")","v":"Adobe Systems Inc"},null,null,-2.9032978485818506E-3,null,{"$error":"#N/A"},0,null,"",2.9032978485818506E-3,-2.9032978485818506E-3]
["PAYCHEX INC","PAYX      ","S.US.PAYX      ",{"$f":"RTD(\"cqg.rtd\", ,\"ContractData\",C49, \"LongDescription\",, \"T\")","v":"Paychex Inc"},{"$f":"RTD(\"cqg.rtd\", ,\"ContractData\",C49, \"Open\",, \"T\")","v":57},{"$f":"RTD(\"cqg.rtd\", ,\"ContractData\",C49, \"High\",, \"T\")","v":57.68},{"$f":"RTD(\"cqg.rtd\", ,\"ContractData\",C49, \"Low\",, \"T\")","v":56.77},{"$f":"RTD(\"cqg.rtd\", ,\"ContractData\",C49, \"LastTradeToday\",, \"T\")","v":57.4},{"$f":"RTD(\"cqg.rtd\", ,\"ContractData\",C49, \"NetLastTradeToday\",, \"T\")","v":0.46},{"$f":"RTD(\"cqg.rtd\", ,\"ContractData\",C49, \"PerCentNetLastTrade\",, \"T\")/100","v":8.0786793115560241E-3},{"$f":"RTD(\"cqg.rtd\", ,\"ContractData\", C49, \"T_CVol\",, \"T\")","v":695408},49,{"$f":"RANK($J49,$J$1:J$69)+COUNTIF($J$1:J49,J49)-1","v":17},"S.US.PAYX      ","S.US.RHT       ",{"$f":"RTD(\"cqg.rtd\", ,\"ContractData\",O49, \"PerCentNetLastTrade\",, \"T\")/100","v":-3.3878504672897199E-3},"https://finance.yahoo.com/quote/RHT       ",null,{"$error":"#N/A"},3.3878504672897199E-3,null,{"$f":"RTD(\"cqg.rtd\", ,\"ContractData\",O49, \"LongDescription\",, \"T\")","v":"Red Hat Inc"},null,null,-3.3878504672897199E-3,null,{"$error":"#N/A"},0,null,"",3.3878504672897199E-3,-3.3878504672897199E-3]
["PAYPAL HOLDINGS INC","PYPL","S.US.PYPL",{"$f":"RTD(\"cqg.rtd\", ,\"ContractData\",C50, \"LongDescription\",, \"T\")","v":"PayPal Holdings, Inc."},{"$f":"RTD(\"cqg.rtd\", ,\"ContractData\",C50, \"Open\",, \"T\")","v":49.03},{"$f":"RTD(\"cqg.rtd\", ,\"ContractData\",C50, \"High\",, \"T\")","v":49.58},{"$f":"RTD(\"cqg.rtd\", ,\"ContractData\",C50, \"Low\",, \"T\")","v":48.89},{"$f":"RTD(\"cqg.rtd\", ,\"ContractData\",C50, \"LastTradeToday\",, \"T\")","v":49.06},{"$f":"RTD(\"cqg.rtd\", ,\"ContractData\",C50, \"NetLastTradeToday\",, \"T\")","v":0.01},{"$f":"RTD(\"cqg.rtd\", ,\"ContractData\",C50, \"PerCentNetLastTrade\",, \"T\")/100","v":2.0387359836901122E-4},{"$f":"RTD(\"cqg.rtd\", ,\"ContractData\", C50, \"T_CVol\",, \"T\")","v":3894349},50,{"$f":"RANK($J50,$J$1:J$69)+COUNTIF($J$1:J50,J50)-1","v":37},"S.US.PYPL","S.US.TDC",{"$f":"RTD(\"cqg.rtd\", ,\"ContractData\",O50, \"PerCentNetLastTrade\",, \"T\")/100","v":-3.5448422545196739E-3},"https://finance.yahoo.com/quote/TDC",null,{"$error":"#N/A"},3.5448422545196739E-3,null,{"$f":"RTD(\"cqg.rtd\", ,\"ContractData\",O50, \"LongDescription\",, \"T\")","v":"Teradata Corporation"},null,null,-3.5448422545196739E-3,null,{"$error":"#N/A"},0,null,"",3.5448422545196739E-3,-3.5448422545196739E-3]
["QORVO INC","QRVO","S.US.QRVO",{"$f":"RTD(\"cqg.rtd\", ,\"ContractData\",C51, \"LongDescription\",, \"T\")","v":"Qorvo"},{"$f":"RTD(\"cqg.rtd\", ,\"ContractData\",C51, \"Open\",, \"T\")","v":72.16},{"$f":"RTD(\"cqg.rtd\", ,\"ContractData\",C51, \"High\",, \"T\")","v":75.42},{"$f":"RTD(\"cqg.rtd\", ,\"ContractData\",C51, \"Low\",, \"T\")","v":71.75},{"$f":"RTD(\"cqg.rtd\", ,\"ContractData\",C51, \"LastTradeToday\",, \"T\")","v":74.66},{"$f":"RTD(\"cqg.rtd\", ,\"ContractData\",C51, \"NetLastTradeToday\",, \"T\")","v":2.12},{"$f":"RTD(\"cqg.rtd\", ,\"ContractData\",C51, \"PerCentNetLastTrade\",, \"T\")/100","v":2.9225255031706646E-2},{"$f":"RTD(\"cqg.rtd\", ,\"ContractData\", C51, \"T_CVol\",, \"T\")","v":1545499},51,{"$f":"RANK($J51,$J$1:J$69)+COUNTIF($J$1:J51,J51)-1","v":1},"S.US.QRVO","S.US.JNPR      ",{"$f":"RTD(\"cqg.rtd\", ,\"ContractData\",O51, \"PerCentNetLastTrade\",, \"T\")/100","v":-3.6962365591397851E-3},"https://finance.yahoo.com/quote/JNPR      ",null,{"$error":"#N/A"},3.6962365591397851E-3,null,{"$f":"RTD(\"cqg.rtd\", ,\"ContractData\",O51, \"LongDescription\",, \"T\")","v":"Juniper Networks, Inc."},null,null,-3.6962365591397851E-3,null,{"$error":"#N/A"},0,null,"",3.6962365591397851E-3,-3.6962365591397851E-3]
["QUALCOMM INC.","QCOM      ","S.US.QCOM      ",{"$f":"RTD(\"cqg.rtd\", ,\"ContractData\",C52, \"LongDescription\",, \"T\")","v":"QUALCOMM Inc"},{"$f":"RTD(\"cqg.rtd\", ,\"ContractData\",C52, \"Open\",, \"T\")","v":55.58},{"$f":"RTD(\"cqg.rtd\", ,\"ContractData\",C52, \"High\",, \"T\")","v":55.980000000000004},{"$f":"RTD(\"cqg.rtd\", ,\"ContractData\",C52, \"Low\",, \"T\")","v":55.02},{"$f":"RTD(\"cqg.rtd\", ,\"ContractData\",C52, \"LastTradeToday\",, \"T\")","v":55.77},{"$f":"RTD(\"cqg.rtd\", ,\"ContractData\",C52, \"NetLastTradeToday\",, \"T\")","v":0.41000000000000003},{"$f":"RTD(\"cqg.rtd\", ,\"ContractData\",C52, \"PerCentNetLastTrade\",, \"T\")/100","v":7.4060693641618503E-3},{"$f":"RTD(\"cqg.rtd\", ,\"ContractData\", C52, \"T_CVol\",, \"T\")","v":6048300},52,{"$f":"RANK($J52,$J$1:J$69)+COUNTIF($J$1:J52,J52)-1","v":22},"S.US.QCOM      ","S.US.NTAP",{"$f":"RTD(\"cqg.rtd\", ,\"ContractData\",O52, \"PerCentNetLastTrade\",, \"T\")/100","v":-3.7183936539414973E-3},"https://finance.yahoo.com/quote/NTAP",null,{"$error":"#N/A"},3.7183936539414973E-3,null,{"$f":"RTD(\"cqg.rtd\", ,\"ContractData\",O52, \"LongDescription\",, \"T\")","v":"NetApp inc."},null,null,-3.7183936539414973E-3,null,{"$error":"#N/A"},0,null,"",3.7183936539414973E-3,-3.7183936539414973E-3]
["RED HAT, INC.","RHT       ","S.US.RHT       ",{"$f":"RTD(\"cqg.rtd\", ,\"ContractData\",C53, \"LongDescription\",, \"T\")","v":"Red Hat Inc"},{"$f":"RTD(\"cqg.rtd\", ,\"ContractData\",C53, \"Open\",, \"T\")","v":85.03},{"$f":"RTD(\"cqg.rtd\", ,\"ContractData\",C53, \"High\",, \"T\")","v":85.87},{"$f":"RTD(\"cqg.rtd\", ,\"ContractData\",C53, \"Low\",, \"T\")","v":84.16},{"$f":"RTD(\"cqg.rtd\", ,\"ContractData\",C53, \"LastTradeToday\",, \"T\")","v":85.31},{"$f":"RTD(\"cqg.rtd\", ,\"ContractData\",C53, \"NetLastTradeToday\",, \"T\")","v":-0.28999999999999998},{"$f":"RTD(\"cqg.rtd\", ,\"ContractData\",C53, \"PerCentNetLastTrade\",, \"T\")/100","v":-3.3878504672897199E-3},{"$f":"RTD(\"cqg.rtd\", ,\"ContractData\", C53, \"T_CVol\",, \"T\")","v":715946},53,{"$f":"RANK($J53,$J$1:J$69)+COUNTIF($J$1:J53,J53)-1","v":49},"S.US.RHT       ","S.US.TEL",{"$f":"RTD(\"cqg.rtd\", ,\"ContractData\",O53, \"PerCentNetLastTrade\",, \"T\")/100","v":-3.9215686274509803E-3},"https://finance.yahoo.com/quote/TEL",null,{"$error":"#N/A"},3.9215686274509803E-3,null,{"$f":"RTD(\"cqg.rtd\", ,\"ContractData\",O53, \"LongDescription\",, \"T\")","v":"TE Connectivity Ltd."},null,null,-3.9215686274509803E-3,null,{"$error":"#N/A"},0,null,"",3.9215686274509803E-3,-3.9215686274509803E-3]
["SALESFORCE.COM, INC.","CRM       ","S.US.CRM       ",{"$f":"RTD(\"cqg.rtd\", ,\"ContractData\",C54, \"LongDescription\",, \"T\")","v":"Salesforce.com Inc"},{"$f":"RTD(\"cqg.rtd\", ,\"ContractData\",C54, \"Open\",, \"T\")","v":87.88},{"$f":"RTD(\"cqg.rtd\", ,\"ContractData\",C54, \"High\",, \"T\")","v":88.33},{"$f":"RTD(\"cqg.rtd\", ,\"ContractData\",C54, \"Low\",, \"T\")","v":87.17},{"$f":"RTD(\"cqg.rtd\", ,\"ContractData\",C54, \"LastTradeToday\",, \"T\")","v":87.63},{"$f":"RTD(\"cqg.rtd\", ,\"ContractData\",C54, \"NetLastTradeToday\",, \"T\")","v":-0.21},{"$f":"RTD(\"cqg.rtd\", ,\"ContractData\",C54, \"PerCentNetLastTrade\",, \"T\")/100","v":-2.3907103825136613E-3},{"$f":"RTD(\"cqg.rtd\", ,\"ContractData\", C54, \"T_CVol\",, \"T\")","v":3291025},54,{"$f":"RANK($J54,$J$1:J$69)+COUNTIF($J$1:J54,J54)-1","v":46},"S.US.CRM       ","S.US.WU        ",{"$f":"RTD(\"cqg.rtd\", ,\"ContractData\",O54, \"PerCentNetLastTrade\",, \"T\")/100","v":-4.2328042328042322E-3},"https://finance.yahoo.com/quote/WU        ",null,{"$error":"#N/A"},4.2328042328042322E-3,null,{"$f":"RTD(\"cqg.rtd\", ,\"ContractData\",O54, \"LongDescription\",, \"T\")","v":"The Western Union Company"},null,null,-4.2328042328042322E-3,null,{"$error":"#N/A"},0,null,"",4.2328042328042322E-3,-4.2328042328042322E-3]
["SEAGATE TECHNOLOGY","STX       ","S.US.STX       ",{"$f":"RTD(\"cqg.rtd\", ,\"ContractData\",C55, \"LongDescription\",, \"T\")","v":"Seagate Technology"},{"$f":"RTD(\"cqg.rtd\", ,\"ContractData\",C55, \"Open\",, \"T\")","v":42.660000000000004},{"$f":"RTD(\"cqg.rtd\", ,\"ContractData\",C55, \"High\",, \"T\")","v":42.660000000000004},{"$f":"RTD(\"cqg.rtd\", ,\"ContractData\",C55, \"Low\",, \"T\")","v":41.67},{"$f":"RTD(\"cqg.rtd\", ,\"ContractData\",C55, \"LastTradeToday\",, \"T\")","v":41.89},{"$f":"RTD(\"cqg.rtd\", ,\"ContractData\",C55, \"NetLastTradeToday\",, \"T\")","v":-0.27},{"$f":"RTD(\"cqg.rtd\", ,\"ContractData\",C55, \"PerCentNetLastTrade\",, \"T\")/100","v":-6.4041745730550282E-3},{"$f":"RTD(\"cqg.rtd\", ,\"ContractData\", C55, \"T_CVol\",, \"T\")","v":2278802},55,{"$f":"RANK($J55,$J$1:J$69)+COUNTIF($J$1:J55,J55)-1","v":58},"S.US.STX       ","S.US.APH       ",{"$f":"RTD(\"cqg.rtd\", ,\"ContractData\",O55, \"PerCentNetLastTrade\",, \"T\")/100","v":-4.410143329658214E-3},"https://finance.yahoo.com/quote/APH       ",null,{"$error":"#N/A"},4.410143329658214E-3,null,{"$f":"RTD(\"cqg.rtd\", ,\"ContractData\",O55, \"LongDescription\",, \"T\")","v":"Amphenol"},null,null,-4.410143329658214E-3,null,{"$error":"#N/A"},0,null,"",4.410143329658214E-3,-4.410143329658214E-3]
["SKYWORKS SOLUTIONS, INC.","SWKS      ","S.US.SWKS      ",{"$f":"RTD(\"cqg.rtd\", ,\"ContractData\",C56, \"LongDescription\",, \"T\")","v":"Skyworks Solutions Inc"},{"$f":"RTD(\"cqg.rtd\", ,\"ContractData\",C56, \"Open\",, \"T\")","v":100.63},{"$f":"RTD(\"cqg.rtd\", ,\"ContractData\",C56, \"High\",, \"T\")","v":103.04},{"$f":"RTD(\"cqg.rtd\", ,\"ContractData\",C56, \"Low\",, \"T\")","v":100.22},{"$f":"RTD(\"cqg.rtd\", ,\"ContractData\",C56, \"LastTradeToday\",, \"T\")","v":102.61},{"$f":"RTD(\"cqg.rtd\", ,\"ContractData\",C56, \"NetLastTradeToday\",, \"T\")","v":2.06},{"$f":"RTD(\"cqg.rtd\", ,\"ContractData\",C56, \"PerCentNetLastTrade\",, \"T\")/100","v":2.0487319741422177E-2},{"$f":"RTD(\"cqg.rtd\", ,\"ContractData\", C56, \"T_CVol\",, \"T\")","v":953238},56,{"$f":"RANK($J56,$J$1:J$69)+COUNTIF($J$1:J56,J56)-1","v":2},"S.US.SWKS      ","S.US.CA        ",{"$f":"RTD(\"cqg.rtd\", ,\"ContractData\",O56, \"PerCentNetLastTrade\",, \"T\")/100","v":-5.1265619993591796E-3},"https://finance.yahoo.com/quote/CA        ",null,{"$error":"#N/A"},5.1265619993591796E-3,null,{"$f":"RTD(\"cqg.rtd\", ,\"ContractData\",O56, \"LongDescription\",, \"T\")","v":"CA Inc."},null,null,-5.1265619993591796E-3,null,{"$error":"#N/A"},0,null,"",5.1265619993591796E-3,-5.1265619993591796E-3]
["SYMANTEC CORP","SYMC      ","S.US.SYMC      ",{"$f":"RTD(\"cqg.rtd\", ,\"ContractData\",C57, \"LongDescription\",, \"T\")","v":"Symantec Corp"},{"$f":"RTD(\"cqg.rtd\", ,\"ContractData\",C57, \"Open\",, \"T\")","v":29.96},{"$f":"RTD(\"cqg.rtd\", ,\"ContractData\",C57, \"High\",, \"T\")","v":30.05},{"$f":"RTD(\"cqg.rtd\", ,\"ContractData\",C57, \"Low\",, \"T\")","v":29.25},{"$f":"RTD(\"cqg.rtd\", ,\"ContractData\",C57, \"LastTradeToday\",, \"T\")","v":29.740000000000002},{"$f":"RTD(\"cqg.rtd\", ,\"ContractData\",C57, \"NetLastTradeToday\",, \"T\")","v":-0.38},{"$f":"RTD(\"cqg.rtd\", ,\"ContractData\",C57, \"PerCentNetLastTrade\",, \"T\")/100","v":-1.2616201859229747E-2},{"$f":"RTD(\"cqg.rtd\", ,\"ContractData\", C57, \"T_CVol\",, \"T\")","v":3932884},57,{"$f":"RANK($J57,$J$1:J$69)+COUNTIF($J$1:J57,J57)-1","v":65},"S.US.SYMC      ","S.US.CTXS      ",{"$f":"RTD(\"cqg.rtd\", ,\"ContractData\",O57, \"PerCentNetLastTrade\",, \"T\")/100","v":-5.31786318588349E-3},"https://finance.yahoo.com/quote/CTXS      ",null,{"$error":"#N/A"},5.31786318588349E-3,null,{"$f":"RTD(\"cqg.rtd\", ,\"ContractData\",O57, \"LongDescription\",, \"T\")","v":"Citrix Systems Inc"},null,null,-5.31786318588349E-3,null,{"$error":"#N/A"},0,null,"",5.31786318588349E-3,-5.31786318588349E-3]
["SYNOPSYS INC","SNPS      ","S.US.SNPS      ",{"$f":"RTD(\"cqg.rtd\", ,\"ContractData\",C58, \"LongDescription\",, \"T\")","v":"Synopsis"},{"$f":"RTD(\"cqg.rtd\", ,\"ContractData\",C58, \"Open\",, \"T\")","v":75},{"$f":"RTD(\"cqg.rtd\", ,\"ContractData\",C58, \"High\",, \"T\")","v":75.34},{"$f":"RTD(\"cqg.rtd\", ,\"ContractData\",C58, \"Low\",, \"T\")","v":71.460000000000008},{"$f":"RTD(\"cqg.rtd\", ,\"ContractData\",C58, \"LastTradeToday\",, \"T\")","v":71.489999999999995},{"$f":"RTD(\"cqg.rtd\", ,\"ContractData\",C58, \"NetLastTradeToday\",, \"T\")","v":-1.9000000000000001},{"$f":"RTD(\"cqg.rtd\", ,\"ContractData\",C58, \"PerCentNetLastTrade\",, \"T\")/100","v":-2.5889085706499521E-2},{"$f":"RTD(\"cqg.rtd\", ,\"ContractData\", C58, \"T_CVol\",, \"T\")","v":1538446},58,{"$f":"RANK($J58,$J$1:J$69)+COUNTIF($J$1:J58,J58)-1","v":68},"S.US.SNPS      ","S.US.STX       ",{"$f":"RTD(\"cqg.rtd\", ,\"ContractData\",O58, \"PerCentNetLastTrade\",, \"T\")/100","v":-6.4041745730550282E-3},"https://finance.yahoo.com/quote/STX       ",null,{"$error":"#N/A"},6.4041745730550282E-3,null,{"$f":"RTD(\"cqg.rtd\", ,\"ContractData\",O58, \"LongDescription\",, \"T\")","v":"Seagate Technology"},null,null,-6.4041745730550282E-3,null,{"$error":"#N/A"},0,null,"",6.4041745730550282E-3,-6.4041745730550282E-3]
["TE CONNECTIVITY LTD","TEL","S.US.TEL",{"$f":"RTD(\"cqg.rtd\", ,\"ContractData\",C59, \"LongDescription\",, \"T\")","v":"TE Connectivity Ltd."},{"$f":"RTD(\"cqg.rtd\", ,\"ContractData\",C59, \"Open\",, \"T\")","v":73.59},{"$f":"RTD(\"cqg.rtd\", ,\"ContractData\",C59, \"High\",, \"T\")","v":73.81},{"$f":"RTD(\"cqg.rtd\", ,\"ContractData\",C59, \"Low\",, \"T\")","v":73.010000000000005},{"$f":"RTD(\"cqg.rtd\", ,\"ContractData\",C59, \"LastTradeToday\",, \"T\")","v":73.66},{"$f":"RTD(\"cqg.rtd\", ,\"ContractData\",C59, \"NetLastTradeToday\",, \"T\")","v":-0.28999999999999998},{"$f":"RTD(\"cqg.rtd\", ,\"ContractData\",C59, \"PerCentNetLastTrade\",, \"T\")/100","v":-3.9215686274509803E-3},{"$f":"RTD(\"cqg.rtd\", ,\"ContractData\", C59, \"T_CVol\",, \"T\")","v":470188},59,{"$f":"RANK($J59,$J$1:J$69)+COUNTIF($J$1:J59,J59)-1","v":53},"S.US.TEL","S.US.MA        ",{"$f":"RTD(\"cqg.rtd\", ,\"ContractData\",O59, \"PerCentNetLastTrade\",, \"T\")/100","v":-7.0205479452054801E-3},"https://finance.yahoo.com/quote/MA        ",null,{"$error":"#N/A"},7.0205479452054801E-3,null,{"$f":"RTD(\"cqg.rtd\", ,\"ContractData\",O59, \"LongDescription\",, \"T\")","v":"Mastercard Inc."},null,null,-7.0205479452054801E-3,null,{"$error":"#N/A"},0,null,"",7.0205479452054801E-3,-7.0205479452054801E-3]
["TERADATA CORP","TDC","S.US.TDC",{"$f":"RTD(\"cqg.rtd\", ,\"ContractData\",C60, \"LongDescription\",, \"T\")","v":"Teradata Corporation"},{"$f":"RTD(\"cqg.rtd\", ,\"ContractData\",C60, \"Open\",, \"T\")","v":28.23},{"$f":"RTD(\"cqg.rtd\", ,\"ContractData\",C60, \"High\",, \"T\")","v":28.35},{"$f":"RTD(\"cqg.rtd\", ,\"ContractData\",C60, \"Low\",, \"T\")","v":27.97},{"$f":"RTD(\"cqg.rtd\", ,\"ContractData\",C60, \"LastTradeToday\",, \"T\")","v":28.11},{"$f":"RTD(\"cqg.rtd\", ,\"ContractData\",C60, \"NetLastTradeToday\",, \"T\")","v":-0.1},{"$f":"RTD(\"cqg.rtd\", ,\"ContractData\",C60, \"PerCentNetLastTrade\",, \"T\")/100","v":-3.5448422545196739E-3},{"$f":"RTD(\"cqg.rtd\", ,\"ContractData\", C60, \"T_CVol\",, \"T\")","v":459714},60,{"$f":"RANK($J60,$J$1:J$69)+COUNTIF($J$1:J60,J60)-1","v":50},"S.US.TDC","S.US.DXC",{"$f":"RTD(\"cqg.rtd\", ,\"ContractData\",O60, \"PerCentNetLastTrade\",, \"T\")/100","v":-9.9009900990099011E-3},"https://finance.yahoo.com/quote/DXC",null,{"$error":"#N/A"},9.9009900990099011E-3,null,{"$f":"RTD(\"cqg.rtd\", ,\"ContractData\",O60, \"LongDescription\",, \"T\")","v":"DXC Technology Company"},null,null,-9.9009900990099011E-3,null,{"$error":"#N/A"},0,null,"",9.9009900990099011E-3,-9.9009900990099011E-3]
["TEXAS INSTRUMENTS, INC.","TXN       ","S.US.TXN       ",{"$f":"RTD(\"cqg.rtd\", ,\"ContractData\",C61, \"LongDescription\",, \"T\")","v":"Texas Instruments Inc"},{"$f":"RTD(\"cqg.rtd\", ,\"ContractData\",C61, \"Open\",, \"T\")","v":78.92},{"$f":"RTD(\"cqg.rtd\", ,\"ContractData\",C61, \"High\",, \"T\")","v":79.680000000000007},{"$f":"RTD(\"cqg.rtd\", ,\"ContractData\",C61, \"Low\",, \"T\")","v":78.42},{"$f":"RTD(\"cqg.rtd\", ,\"ContractData\",C61, \"LastTradeToday\",, \"T\")","v":79.2},{"$f":"RTD(\"cqg.rtd\", ,\"ContractData\",C61, \"NetLastTradeToday\",, \"T\")","v":0.52},{"$f":"RTD(\"cqg.rtd\", ,\"ContractData\",C61, \"PerCentNetLastTrade\",, \"T\")/100","v":6.6090493136756476E-3},{"$f":"RTD(\"cqg.rtd\", ,\"ContractData\", C61, \"T_CVol\",, \"T\")","v":2253985},61,{"$f":"RANK($J61,$J$1:J$69)+COUNTIF($J$1:J61,J61)-1","v":24},"S.US.TXN       ","S.US.YHOO      ",{"$f":"RTD(\"cqg.rtd\", ,\"ContractData\",O61, \"PerCentNetLastTrade\",, \"T\")/100","v":-1.0271903323262841E-2},"https://finance.yahoo.com/quote/YHOO      ",null,{"$error":"#N/A"},1.0271903323262841E-2,null,{"$f":"RTD(\"cqg.rtd\", ,\"ContractData\",O61, \"LongDescription\",, \"T\")","v":"Yahoo! Inc"},null,null,-1.0271903323262841E-2,null,{"$error":"#N/A"},0,null,"",1.0271903323262841E-2,-1.0271903323262841E-2]
["TOTAL SYSTEM SERVICES INC","TSS       ","S.US.TSS       ",{"$f":"RTD(\"cqg.rtd\", ,\"ContractData\",C62, \"LongDescription\",, \"T\")","v":"Total Systems Services Inc"},{"$f":"RTD(\"cqg.rtd\", ,\"ContractData\",C62, \"Open\",, \"T\")","v":57.86},{"$f":"RTD(\"cqg.rtd\", ,\"ContractData\",C62, \"High\",, \"T\")","v":58.31},{"$f":"RTD(\"cqg.rtd\", ,\"ContractData\",C62, \"Low\",, \"T\")","v":57.58},{"$f":"RTD(\"cqg.rtd\", ,\"ContractData\",C62, \"LastTradeToday\",, \"T\")","v":57.88},{"$f":"RTD(\"cqg.rtd\", ,\"ContractData\",C62, \"NetLastTradeToday\",, \"T\")","v":-7.0000000000000007E-2},{"$f":"RTD(\"cqg.rtd\", ,\"ContractData\",C62, \"PerCentNetLastTrade\",, \"T\")/100","v":-1.2079378774805867E-3},{"$f":"RTD(\"cqg.rtd\", ,\"ContractData\", C62, \"T_CVol\",, \"T\")","v":173482},62,{"$f":"RANK($J62,$J$1:J$69)+COUNTIF($J$1:J62,J62)-1","v":43},"S.US.TSS       ","S.US.AKAM      ",{"$f":"RTD(\"cqg.rtd\", ,\"ContractData\",O62, \"PerCentNetLastTrade\",, \"T\")/100","v":-1.1157894736842104E-2},"https://finance.yahoo.com/quote/AKAM      ",null,{"$error":"#N/A"},1.1157894736842104E-2,null,{"$f":"RTD(\"cqg.rtd\", ,\"ContractData\",O62, \"LongDescription\",, \"T\")","v":"Akamai Tech Inc"},null,null,-1.1157894736842104E-2,null,{"$error":"#N/A"},0,null,"",1.1157894736842104E-2,-1.1157894736842104E-2]
["VERISIGN, INC.","VRSN      ","S.US.VRSN      ",{"$f":"RTD(\"cqg.rtd\", ,\"ContractData\",C63, \"LongDescription\",, \"T\")","v":"Verisign Inc"},{"$f":"RTD(\"cqg.rtd\", ,\"ContractData\",C63, \"Open\",, \"T\")","v":88.16},{"$f":"RTD(\"cqg.rtd\", ,\"ContractData\",C63, \"High\",, \"T\")","v":88.7},{"$f":"RTD(\"cqg.rtd\", ,\"ContractData\",C63, \"Low\",, \"T\")","v":87.54},{"$f":"RTD(\"cqg.rtd\", ,\"ContractData\",C63, \"LastTradeToday\",, \"T\")","v":88.24},{"$f":"RTD(\"cqg.rtd\", ,\"ContractData\",C63, \"NetLastTradeToday\",, \"T\")","v":0.17},{"$f":"RTD(\"cqg.rtd\", ,\"ContractData\",C63, \"PerCentNetLastTrade\",, \"T\")/100","v":1.930282729646872E-3},{"$f":"RTD(\"cqg.rtd\", ,\"ContractData\", C63, \"T_CVol\",, \"T\")","v":497866},63,{"$f":"RANK($J63,$J$1:J$69)+COUNTIF($J$1:J63,J63)-1","v":31},"S.US.VRSN      ","S.US.MSI",{"$f":"RTD(\"cqg.rtd\", ,\"ContractData\",O63, \"PerCentNetLastTrade\",, \"T\")/100","v":-1.1973121563836286E-2},"https://finance.yahoo.com/quote/MSI",null,{"$error":"#N/A"},1.1973121563836286E-2,null,{"$f":"RTD(\"cqg.rtd\", ,\"ContractData\",O63, \"LongDescription\",, \"T\")","v":"Motorola Solutions, Inc."},null,null,-1.1973121563836286E-2,null,{"$error":"#N/A"},0,null,"",1.1973121563836286E-2,-1.1973121563836286E-2]
["VISA INC.","V         ","S.US.V         ",{"$f":"RTD(\"cqg.rtd\", ,\"ContractData\",C64, \"LongDescription\",, \"T\")","v":"Visa Inc."},{"$f":"RTD(\"cqg.rtd\", ,\"ContractData\",C64, \"Open\",, \"T\")","v":91.36},{"$f":"RTD(\"cqg.rtd\", ,\"ContractData\",C64, \"High\",, \"T\")","v":92.48},{"$f":"RTD(\"cqg.rtd\", ,\"ContractData\",C64, \"Low\",, \"T\")","v":91.36},{"$f":"RTD(\"cqg.rtd\", ,\"ContractData\",C64, \"LastTradeToday\",, \"T\")","v":91.710000000000008},{"$f":"RTD(\"cqg.rtd\", ,\"ContractData\",C64, \"NetLastTradeToday\",, \"T\")","v":-0.05},{"$f":"RTD(\"cqg.rtd\", ,\"ContractData\",C64, \"PerCentNetLastTrade\",, \"T\")/100","v":-5.4489973844812562E-4},{"$f":"RTD(\"cqg.rtd\", ,\"ContractData\", C64, \"T_CVol\",, \"T\")","v":3336358},64,{"$f":"RANK($J64,$J$1:J$69)+COUNTIF($J$1:J64,J64)-1","v":41},"S.US.V         ","S.US.HPQ",{"$f":"RTD(\"cqg.rtd\", ,\"ContractData\",O64, \"PerCentNetLastTrade\",, \"T\")/100","v":-1.2130801687763712E-2},"https://finance.yahoo.com/quote/HPQ",null,{"$error":"#N/A"},1.2130801687763712E-2,null,{"$f":"RTD(\"cqg.rtd\", ,\"ContractData\",O64, \"LongDescription\",, \"T\")","v":"Hewlett-Packard Company"},null,null,-1.2130801687763712E-2,null,{"$error":"#N/A"},0,null,"",1.2130801687763712E-2,-1.2130801687763712E-2]
["WESTERN DIGITAL CORP","WDC       ","S.US.WDC       ",{"$f":"RTD(\"cqg.rtd\", ,\"ContractData\",C65, \"LongDescription\",, \"T\")","v":"Western Digital Corporation"},{"$f":"RTD(\"cqg.rtd\", ,\"ContractData\",C65, \"Open\",, \"T\")","v":85.73},{"$f":"RTD(\"cqg.rtd\", ,\"ContractData\",C65, \"High\",, \"T\")","v":86.51},{"$f":"RTD(\"cqg.rtd\", ,\"ContractData\",C65, \"Low\",, \"T\")","v":84.13},{"$f":"RTD(\"cqg.rtd\", ,\"ContractData\",C65, \"LastTradeToday\",, \"T\")","v":85.22},{"$f":"RTD(\"cqg.rtd\", ,\"ContractData\",C65, \"NetLastTradeToday\",, \"T\")","v":0},{"$f":"RTD(\"cqg.rtd\", ,\"ContractData\",C65, \"PerCentNetLastTrade\",, \"T\")/100","v":0},{"$f":"RTD(\"cqg.rtd\", ,\"ContractData\", C65, \"T_CVol\",, \"T\")","v":2065334},65,{"$f":"RANK($J65,$J$1:J$69)+COUNTIF($J$1:J65,J65)-1","v":39},"S.US.WDC       ","S.US.SYMC      ",{"$f":"RTD(\"cqg.rtd\", ,\"ContractData\",O65, \"PerCentNetLastTrade\",, \"T\")/100","v":-1.2616201859229747E-2},"https://finance.yahoo.com/quote/SYMC      ",null,{"$error":"#N/A"},1.2616201859229747E-2,null,{"$f":"RTD(\"cqg.rtd\", ,\"ContractData\",O65, \"LongDescription\",, \"T\")","v":"Symantec Corp"},null,null,-1.2616201859229747E-2,null,{"$error":"#N/A"},0,null,"",1.2616201859229747E-2,-1.2616201859229747E-2]
["WESTERN UNION CO","WU        ",{"$f":"\"S.US.\"&B66","v":"S.US.WU        "},{"$f":"RTD(\"cqg.rtd\", ,\"ContractData\",C66, \"LongDescription\",, \"T\")","v":"The Western Union Company"},{"$f":"RTD(\"cqg.rtd\", ,\"ContractData\",C66, \"Open\",, \"T\")","v":18.82},{"$f":"RTD(\"cqg.rtd\", ,\"ContractData\",C66, \"High\",, \"T\")","v":18.93},{"$f":"RTD(\"cqg.rtd\", ,\"ContractData\",C66, \"Low\",, \"T\")","v":18.79},{"$f":"RTD(\"cqg.rtd\", ,\"ContractData\",C66, \"LastTradeToday\",, \"T\")","v":18.82},{"$f":"RTD(\"cqg.rtd\", ,\"ContractData\",C66, \"NetLastTradeToday\",, \"T\")","v":-0.08},{"$f":"RTD(\"cqg.rtd\", ,\"ContractData\",C66, \"PerCentNetLastTrade\",, \"T\")/100","v":-4.2328042328042322E-3},{"$f":"RTD(\"cqg.rtd\", ,\"ContractData\", C66, \"T_CVol\",, \"T\")","v":1291364},66,{"$f":"RANK($J66,$J$1:J$69)+COUNTIF($J$1:J66,J66)-1","v":54},{"$f":"C66","v":"S.US.WU        "},{"$f":"VLOOKUP($L66,$M$1:$N$69,2,FALSE)","v":"S.US.ADS       "},{"$f":"RTD(\"cqg.rtd\", ,\"ContractData\",O66, \"PerCentNetLastTrade\",, \"T\")/100","v":-1.3434653008102775E-2},{"$f":"\"https://finance.yahoo.com/quote/\"&RIGHT(O66,(LEN(O66)-5))","v":"https://finance.yahoo.com/quote/ADS       "},null,{"$f":"IF(P66>=0,P66,NA())","v":{"$error":"#N/A"}},{"$f":"IF(P66>=0,NA(),-1*P66)","v":1.3434653008102775E-2},null,{"$f":"RTD(\"cqg.rtd\", ,\"ContractData\",O66, \"LongDescription\",, \"T\")","v":"Alliance Data Systems Corp"},null,null,{"$f":"IFERROR(S66,P66)","v":-1.3434653008102775E-2},null,{"$f":"IF(S66=\"NA()\",0,1)","v":{"$error":"#N/A"}},{"$f":"IFERROR(AA66,0)","v":0},null,"",1.3434653008102775E-2,-1.3434653008102775E-2]
["XEROX CORP","XRX       ","S.US.XRX       ",{"$f":"RTD(\"cqg.rtd\", ,\"ContractData\",C67, \"LongDescription\",, \"T\")","v":"Xerox Corp"},{"$f":"RTD(\"cqg.rtd\", ,\"ContractData\",C67, \"Open\",, \"T\")","v":6.91},{"$f":"RTD(\"cqg.rtd\", ,\"ContractData\",C67, \"High\",, \"T\")","v":7},{"$f":"RTD(\"cqg.rtd\", ,\"ContractData\",C67, \"Low\",, \"T\")","v":6.87},{"$f":"RTD(\"cqg.rtd\", ,\"ContractData\",C67, \"LastTradeToday\",, \"T\")","v":6.97},{"$f":"RTD(\"cqg.rtd\", ,\"ContractData\",C67, \"NetLastTradeToday\",, \"T\")","v":0.09},{"$f":"RTD(\"cqg.rtd\", ,\"ContractData\",C67, \"PerCentNetLastTrade\",, \"T\")/100","v":1.308139534883721E-2},{"$f":"RTD(\"cqg.rtd\", ,\"ContractData\", C67, \"T_CVol\",, \"T\")","v":4330195},{"$f":"L66+1","v":67},{"$f":"RANK($J67,$J$1:J$69)+COUNTIF($J$1:J67,J67)-1","v":9},"S.US.XRX       ","S.US.FFIV      ",{"$f":"RTD(\"cqg.rtd\", ,\"ContractData\",O67, \"PerCentNetLastTrade\",, \"T\")/100","v":-1.3998592320325331E-2},"https://finance.yahoo.com/quote/FFIV      ",null,{"$error":"#N/A"},1.3998592320325331E-2,null,{"$f":"RTD(\"cqg.rtd\", ,\"ContractData\",O67, \"LongDescription\",, \"T\")","v":"F5 Networks Inc"},null,null,-1.3998592320325331E-2,null,{"$error":"#N/A"},0,null,"",1.3998592320325331E-2,-1.3998592320325331E-2]
["XILINX INC","XLNX      ","S.US.XLNX      ",{"$f":"RTD(\"cqg.rtd\", ,\"ContractData\",C68, \"LongDescription\",, \"T\")","v":"Xilinx Inc"},{"$f":"RTD(\"cqg.rtd\", ,\"ContractData\",C68, \"Open\",, \"T\")","v":64.55},{"$f":"RTD(\"cqg.rtd\", ,\"ContractData\",C68, \"High\",, \"T\")","v":65.8},{"$f":"RTD(\"cqg.rtd\", ,\"ContractData\",C68, \"Low\",, \"T\")","v":64.290000000000006},{"$f":"RTD(\"cqg.rtd\", ,\"ContractData\",C68, \"LastTradeToday\",, \"T\")","v":65.790000000000006},{"$f":"RTD(\"cqg.rtd\", ,\"ContractData\",C68, \"NetLastTradeToday\",, \"T\")","v":1.03},{"$f":"RTD(\"cqg.rtd\", ,\"ContractData\",C68, \"PerCentNetLastTrade\",, \"T\")/100","v":1.5904879555281037E-2},{"$f":"RTD(\"cqg.rtd\", ,\"ContractData\", C68, \"T_CVol\",, \"T\")","v":2465593},68,{"$f":"RANK($J68,$J$1:J$69)+COUNTIF($J$1:J68,J68)-1","v":7},"S.US.XLNX      ","S.US.SNPS      ",{"$f":"RTD(\"cqg.rtd\", ,\"ContractData\",O68, \"PerCentNetLastTrade\",, \"T\")/100","v":-2.5889085706499521E-2},"https://finance.yahoo.com/quote/SNPS      ",null,{"$error":"#N/A"},2.5889085706499521E-2,null,{"$f":"RTD(\"cqg.rtd\", ,\"ContractData\",O68, \"LongDescription\",, \"T\")","v":"Synopsis"},null,null,-2.5889085706499521E-2,null,{"$error":"#N/A"},0,null,"",2.5889085706499521E-2,-2.5889085706499521E-2]
["YAHOO, INC.","YHOO      ","S.US.YHOO      ",{"$f":"RTD(\"cqg.rtd\", ,\"ContractData\",C69, \"LongDescription\",, \"T\")","v":"Yahoo! Inc"},{"$f":"RTD(\"cqg.rtd\", ,\"ContractData\",C69, \"Open\",, \"T\")","v":48.68},{"$f":"RTD(\"cqg.rtd\", ,\"ContractData\",C69, \"High\",, \"T\")","v":49.53},{"$f":"RTD(\"cqg.rtd\", ,\"ContractData\",C69, \"Low\",, \"T\")","v":47.74},{"$f":"RTD(\"cqg.rtd\", ,\"ContractData\",C69, \"LastTradeToday\",, \"T\")","v":49.14},{"$f":"RTD(\"cqg.rtd\", ,\"ContractData\",C69, \"NetLastTradeToday\",, \"T\")","v":-0.51},{"$f":"RTD(\"cqg.rtd\", ,\"ContractData\",C69, \"PerCentNetLastTrade\",, \"T\")/100","v":-1.0271903323262841E-2},{"$f":"RTD(\"cqg.rtd\", ,\"ContractData\", C69, \"T_CVol\",, \"T\")","v":8180901},69,{"$f":"RANK($J69,$J$1:J$69)+COUNTIF($J$1:J69,J69)-1","v":61},"S.US.YHOO      ","S.US.CSCO      ",{"$f":"RTD(\"cqg.rtd\", ,\"ContractData\",O69, \"PerCentNetLastTrade\",, \"T\")/100","v":-7.7468953282081601E-2},"https://finance.yahoo.com/quote/CSCO      ",null,{"$error":"#N/A"},7.7468953282081601E-2,null,{"$f":"RTD(\"cqg.rtd\", ,\"ContractData\",O69, \"LongDescription\",, \"T\")","v":"Cisco Systems Inc"},null,null,-7.7468953282081601E-2,null,{"$error":"#N/A"},0,null,"",7.7468953282081601E-2,-7.7468953282081601E-2]
[null,"",null,null,null,null,null,null,null,null,null,null,null,null,null,null,null,null,null,null,null,null,null,null,null,null,null,{"$f":"SUM(AB1:AB69)/69","v":0.56521739130434778}]
["Holdings"]
["http://gi.guggenheiminvestments.com/products/etf/details?productId=85"]