{"text_format":"1","workbook":"xlsx","n_sheets":3,"sheets":["Display","Symbols","Data"],"not_rendered":{"charts":2,"images":3,"macros":1,"external_links":0,"defined_names":0,"comments":0,"pivot_tables":0},"unopened":[],"bounds":{"document_bytes":16777216,"sheet_cells":100000,"rows_first":2000,"rows_last":500,"rows_between":2000,"halvings":0,"cell_chars":16384,"cell_head_chars":4096},"cells_cut":0,"cells_raw":0,"read":"whole","date_system":"1900"}

{"sheet":"Display","index":0,"n_rows":30,"n_cols":21,"rows_kept":30,"cut":false,"hidden":false,"merged":[[11,19,11,20],[17,15,17,16],[6,12,6,13],[7,12,7,13],[1,16,2,20],[5,12,5,13],[1,4,2,15],[6,14,10,14],[13,4,13,6],[14,4,14,6],[15,4,15,6],[12,14,16,14],[7,4,7,6],[8,4,8,6],[9,4,9,6],[10,4,10,6],[8,12,8,13],[9,12,9,13],[10,12,10,13],[22,4,22,6],[23,4,23,6],[11,4,11,6],[12,4,12,6],[19,4,19,6],[20,4,20,6],[21,4,21,6],[29,2,29,10],[6,4,6,6],[17,4,17,6],[16,4,16,6],[1,2,2,3],[3,2,4,20],[12,12,12,13],[14,12,14,13],[13,12,13,13],[15,12,15,13],[11,14,11,16],[24,4,24,6],[28,4,28,6],[25,4,25,6],[26,4,26,6],[27,4,27,6]]}
[null,null,null,null,null,null,null,null,null,null,null,null,null,null,null,{"$f":"\"C.US.CLE\"&Symbols!I2","v":"C.US.CLE?1"},{"$f":"\"P.US.CLE\"&Symbols!I2","v":"P.US.CLE?1"}]
[null,null,null,null,"CQG Crude Oil (Globex) User Defined Options Spreads (UDS) Market Quotes",null,null,null,null,null,null,null,null,null,null,null,{"$f":"RTD(\"cqg.rtd\", ,\"SystemInfo\", \"Linetime\")","v":42972.545405092591}]
[]
[null,null,"Until an order for a spread is sent and accepted by an exchange for trading, the market data shown on the DOM ladder is synthetic. If the UDS has been defined by someone else and the spread is trading, then the market data shown is actual, not synthetic. "]
[]
[null,null,"Strategy","UDS Type","UDS Formula",null,null,"Bid Vol","Best Bid",null,"Best Ask","Ask Vol","Expiration",null,null,"Symbol","Bid Vol","Best Bid",null,"Best Ask","Ask Vol"]
[null,null,"Bear Put Spread","BearP",{"$f":"\"UDS(\"&Symbols!N7&\"-\"&Symbols!O7&\",\"&D7&\")\"","v":"UDS(P.US.CLEV174700-P.US.CLEV174800,BearP)"},null,null,{"$f":"IFERROR(RTD(\"cqg.rtd\", ,\"ContractData\",E7, \"MT_LastBidVolume\",, \"T\"),\"\")","v":111},{"$f":"IFERROR(RTD(\"cqg.rtd\", ,\"ContractData\",E7, \"Bid\",, \"T\"),\"\")","v":-0.5},null,{"$f":"IFERROR(RTD(\"cqg.rtd\", ,\"ContractData\",E7, \"Ask\",, \"T\"),\"\")","v":-0.46},{"$f":"IFERROR(RTD(\"cqg.rtd\", ,\"ContractData\",E7, \"MT_LastAskVolume\",, \"T\"),\"\")","v":171},"Days",null,"Calls",{"$f":"(LEFT(P8,SEARCH(\"CLE\",P8)+LEN(\"CLE\")+2))&RIGHT(P8,LEN(P8)-(SEARCH(\"CLE\",P8)+LEN(\"CLE\")+2))-50","v":"C.US.CLEV174700"},{"$f":"IFERROR(RTD(\"cqg.rtd\", ,\"ContractData\",P7, \"MT_LastBidVolume\",, \"T\"),\"\")","v":12},{"$f":"IFERROR(RTD(\"cqg.rtd\", ,\"ContractData\",P7, \"Bid\",, \"T\"),\"\")","v":1.62},null,{"$f":"IFERROR(RTD(\"cqg.rtd\", ,\"ContractData\",P7, \"Ask\",, \"T\"),\"\")","v":1.6500000000000001},{"$f":"IFERROR(RTD(\"cqg.rtd\", ,\"ContractData\",P7, \"MT_LastAskVolume\",, \"T\"),\"\")","v":12}]
[null,null,"Box Spread","Box",{"$f":"\"UDS(\"&Symbols!N8&\"-\"&Symbols!O8&\"+\"&Symbols!P8&\"-\"&Symbols!Q8&\",\"&$D$8&\")\"","v":"UDS(C.US.CLEV174800-C.US.CLEV174850+P.US.CLEV174900-P.US.CLEV175150,Box)"},null,null,{"$f":"IFERROR(RTD(\"cqg.rtd\", ,\"ContractData\",E8, \"MT_LastBidVolume\",, \"T\"),\"\")","v":1},{"$f":"IFERROR(RTD(\"cqg.rtd\", ,\"ContractData\",E8, \"Bid\",, \"T\"),\"\")","v":-1.83},null,{"$f":"IFERROR(RTD(\"cqg.rtd\", ,\"ContractData\",E8, \"Ask\",, \"T\"),\"\")","v":-1.72},{"$f":"IFERROR(RTD(\"cqg.rtd\", ,\"ContractData\",E8, \"MT_LastAskVolume\",, \"T\"),\"\")","v":1},{"$f":"IFERROR(RTD(\"cqg.rtd\", ,\"ContractData\",P8, \"OptionDaysToExp\",, \"T\"),\"\")","v":21},null,null,{"$f":"RTD(\"cqg.rtd\", ,\"ContractData\",$P$1, \"Symbol\",, \"T\")","v":"C.US.CLEV174750"},{"$f":"IFERROR(RTD(\"cqg.rtd\", ,\"ContractData\",P8, \"MT_LastBidVolume\",, \"T\"),\"\")","v":140},{"$f":"IFERROR(RTD(\"cqg.rtd\", ,\"ContractData\",P8, \"Bid\",, \"T\"),\"\")","v":1.35},null,{"$f":"IFERROR(RTD(\"cqg.rtd\", ,\"ContractData\",P8, \"Ask\",, \"T\"),\"\")","v":1.37},{"$f":"IFERROR(RTD(\"cqg.rtd\", ,\"ContractData\",P8, \"MT_LastAskVolume\",, \"T\"),\"\")","v":140}]
[null,null,"Bull Call Spread","BullC",{"$f":"\"UDS(\"&Symbols!N9&\"-\"&Symbols!O9&\",\"&D9&\")\"","v":"UDS(C.US.CLEV174750-C.US.CLEV174800,BullC)"},null,null,{"$f":"IFERROR(RTD(\"cqg.rtd\", ,\"ContractData\",E9, \"MT_LastBidVolume\",, \"T\"),\"\")","v":150},{"$f":"IFERROR(RTD(\"cqg.rtd\", ,\"ContractData\",E9, \"Bid\",, \"T\"),\"\")","v":0.24},null,{"$f":"IFERROR(RTD(\"cqg.rtd\", ,\"ContractData\",E9, \"Ask\",, \"T\"),\"\")","v":0.25},{"$f":"IFERROR(RTD(\"cqg.rtd\", ,\"ContractData\",E9, \"MT_LastAskVolume\",, \"T\"),\"\")","v":966},"Date",null,null,{"$f":"(LEFT(P8,SEARCH(\"CLE\",P8)+LEN(\"CLE\")+2))&RIGHT(P8,LEN(P8)-(SEARCH(\"CLE\",P8)+LEN(\"CLE\")+2))+50","v":"C.US.CLEV174800"},{"$f":"IFERROR(RTD(\"cqg.rtd\", ,\"ContractData\",P9, \"MT_LastBidVolume\",, \"T\"),\"\")","v":144},{"$f":"IFERROR(RTD(\"cqg.rtd\", ,\"ContractData\",P9, \"Bid\",, \"T\"),\"\")","v":1.1100000000000001},null,{"$f":"IFERROR(RTD(\"cqg.rtd\", ,\"ContractData\",P9, \"Ask\",, \"T\"),\"\")","v":1.1300000000000001},{"$f":"IFERROR(RTD(\"cqg.rtd\", ,\"ContractData\",P9, \"MT_LastAskVolume\",, \"T\"),\"\")","v":167}]
[null,null,"Butterfly Call Long","BflyCL",{"$f":"\"UDS(\"&Symbols!N10&\"-2*\"&Symbols!O10&\"+\"&Symbols!P10&\",\"&D10&\")\"","v":"UDS(C.US.CLEV174700-2*C.US.CLEV174750+C.US.CLEV174800,BflyCL)"},null,null,{"$f":"IFERROR(RTD(\"cqg.rtd\", ,\"ContractData\",E10, \"MT_LastBidVolume\",, \"T\"),\"\")","v":12},{"$f":"IFERROR(RTD(\"cqg.rtd\", ,\"ContractData\",E10, \"Bid\",, \"T\"),\"\")","v":-0.01},null,{"$f":"IFERROR(RTD(\"cqg.rtd\", ,\"ContractData\",E10, \"Ask\",, \"T\"),\"\")","v":0.08},{"$f":"IFERROR(RTD(\"cqg.rtd\", ,\"ContractData\",E10, \"MT_LastAskVolume\",, \"T\"),\"\")","v":12},{"$f":"IFERROR(RTD(\"cqg.rtd\", ,\"ContractData\",P8, \"ExpirationDate\",, \"T\"),\"\")","v":"2017-09-15"},null,null,{"$f":"(LEFT(P9,SEARCH(\"CLE\",P9)+LEN(\"CLE\")+2))&RIGHT(P9,LEN(P9)-(SEARCH(\"CLE\",P9)+LEN(\"CLE\")+2))+50","v":"C.US.CLEV174850"},{"$f":"IFERROR(RTD(\"cqg.rtd\", ,\"ContractData\",P10, \"MT_LastBidVolume\",, \"T\"),\"\")","v":1},{"$f":"IFERROR(RTD(\"cqg.rtd\", ,\"ContractData\",P10, \"Bid\",, \"T\"),\"\")","v":0.91},null,{"$f":"IFERROR(RTD(\"cqg.rtd\", ,\"ContractData\",P10, \"Ask\",, \"T\"),\"\")","v":0.92},{"$f":"IFERROR(RTD(\"cqg.rtd\", ,\"ContractData\",P10, \"MT_LastAskVolume\",, \"T\"),\"\")","v":125}]
[null,null,"Butterfly Call Short","BflyCS",{"$f":"\"UDS(-\"&Symbols!N11&\"+2*\"&Symbols!O11&\"-\"&Symbols!P11&\",\"&D11&\")\"","v":"UDS(-C.US.CLEV174900+2*C.US.CLEV174950-C.US.CLEV175000,BflyCS)"},null,null,{"$f":"IFERROR(RTD(\"cqg.rtd\", ,\"ContractData\",E11, \"MT_LastBidVolume\",, \"T\"),\"\")","v":10},{"$f":"IFERROR(RTD(\"cqg.rtd\", ,\"ContractData\",E11, \"Bid\",, \"T\"),\"\")","v":-0.06},null,{"$f":"IFERROR(RTD(\"cqg.rtd\", ,\"ContractData\",E11, \"Ask\",, \"T\"),\"\")","v":0},{"$f":"IFERROR(RTD(\"cqg.rtd\", ,\"ContractData\",E11, \"MT_LastAskVolume\",, \"T\"),\"\")","v":140},null,null,null,{"$f":"(LEFT(P10,SEARCH(\"CLE\",P10)+LEN(\"CLE\")+2))&RIGHT(P10,LEN(P10)-(SEARCH(\"CLE\",P10)+LEN(\"CLE\")+2))+50","v":"C.US.CLEV174900"},{"$f":"IFERROR(RTD(\"cqg.rtd\", ,\"ContractData\",P11, \"MT_LastBidVolume\",, \"T\"),\"\")","v":153},{"$f":"IFERROR(RTD(\"cqg.rtd\", ,\"ContractData\",P11, \"Bid\",, \"T\"),\"\")","v":0.73},null,{"$f":"IFERROR(RTD(\"cqg.rtd\", ,\"ContractData\",P11, \"Ask\",, \"T\"),\"\")","v":0.74},{"$f":"IFERROR(RTD(\"cqg.rtd\", ,\"ContractData\",P11, \"MT_LastAskVolume\",, \"T\"),\"\")","v":10}]
[null,null,"Butterfly Put Long","BflyPL",{"$f":"\"UDS(\"&Symbols!N12&\"-2*\"&Symbols!O12&\"+\"&Symbols!P12&\",\"&D12&\")\"","v":"UDS(P.US.CLEV174850-2*P.US.CLEV174900+P.US.CLEV174950,BflyPL)"},null,null,{"$f":"IFERROR(RTD(\"cqg.rtd\", ,\"ContractData\",E12, \"MT_LastBidVolume\",, \"T\"),\"\")","v":6},{"$f":"IFERROR(RTD(\"cqg.rtd\", ,\"ContractData\",E12, \"Bid\",, \"T\"),\"\")","v":-0.02},null,{"$f":"IFERROR(RTD(\"cqg.rtd\", ,\"ContractData\",E12, \"Ask\",, \"T\"),\"\")","v":0.08},{"$f":"IFERROR(RTD(\"cqg.rtd\", ,\"ContractData\",E12, \"MT_LastAskVolume\",, \"T\"),\"\")","v":6},null,null,{"$f":"IFERROR(RTD(\"cqg.rtd\", ,\"ContractData\",\"CLE\"&Symbols!I2, \"LongDescription\",, \"T\"),\"\")","v":"Crude Light (Globex), Oct 17"},null,null,{"$f":"IFERROR(RTD(\"cqg.rtd\", ,\"ContractData\",\"CLE\"&Symbols!I2, \"LastTrade\",, \"T\"),\"\")","v":47.71},null,{"$f":"\"NC \"&IFERROR(TEXT(RTD(\"cqg.rtd\",,\"ContractData\",\"CLE\"&Symbols!I2,\"NetLastTrade\",,\"T\"),\"#.00\"),\"\")","v":"NC .28"}]
[null,null,"Butterfly Put Short","BflyPS",{"$f":"\"UDS(-\"&Symbols!N13&\"+2*\"&Symbols!O13&\"-\"&Symbols!P13&\",\"&D13&\")\"","v":"UDS(-P.US.CLEV174850+2*P.US.CLEV174900-P.US.CLEV175150,BflyPS)"},null,null,{"$f":"IFERROR(RTD(\"cqg.rtd\", ,\"ContractData\",E13, \"MT_LastBidVolume\",, \"T\"),\"\")","v":1},{"$f":"IFERROR(RTD(\"cqg.rtd\", ,\"ContractData\",E13, \"Bid\",, \"T\"),\"\")","v":-1.72},null,{"$f":"IFERROR(RTD(\"cqg.rtd\", ,\"ContractData\",E13, \"Ask\",, \"T\"),\"\")","v":-1.59},{"$f":"IFERROR(RTD(\"cqg.rtd\", ,\"ContractData\",E13, \"MT_LastAskVolume\",, \"T\"),\"\")","v":1},"Call ATM IV",null,"Puts",{"$f":"(LEFT(P14,SEARCH(\"CLE\",P14)+LEN(\"CLE\")+2))&RIGHT(P14,LEN(P14)-(SEARCH(\"CLE\",P14)+LEN(\"CLE\")+2))-50","v":"P.US.CLEV174700"},{"$f":"IFERROR(RTD(\"cqg.rtd\", ,\"ContractData\",P13, \"MT_LastBidVolume\",, \"T\"),\"\")","v":233},{"$f":"IFERROR(RTD(\"cqg.rtd\", ,\"ContractData\",P13, \"Bid\",, \"T\"),\"\")","v":0.92},null,{"$f":"IFERROR(RTD(\"cqg.rtd\", ,\"ContractData\",P13, \"Ask\",, \"T\"),\"\")","v":0.94000000000000006},{"$f":"IFERROR(RTD(\"cqg.rtd\", ,\"ContractData\",P13, \"MT_LastAskVolume\",, \"T\"),\"\")","v":310}]
[null,null,"Calendar Call","CalC",{"$f":"\"UDS(-\"&Symbols!N14&\"+\"&Symbols!O14&\",\"&D14&\")\"","v":"UDS(-C.US.CLEV174900+C.US.CLEX174900,CalC)"},null,null,{"$f":"IFERROR(RTD(\"cqg.rtd\", ,\"ContractData\",E14, \"MT_LastBidVolume\",, \"T\"),\"\")","v":10},{"$f":"IFERROR(RTD(\"cqg.rtd\", ,\"ContractData\",E14, \"Bid\",, \"T\"),\"\")","v":0.79},null,{"$f":"IFERROR(RTD(\"cqg.rtd\", ,\"ContractData\",E14, \"Ask\",, \"T\"),\"\")","v":0.82000000000000006},{"$f":"IFERROR(RTD(\"cqg.rtd\", ,\"ContractData\",E14, \"MT_LastAskVolume\",, \"T\"),\"\")","v":153},{"$f":"RTD(\"cqg.rtd\", ,\"ContractData\",P8, \"ImpliedVolatility\",, \"T\")","v":27.17},null,null,{"$f":"RTD(\"cqg.rtd\", ,\"ContractData\",$Q$1, \"Symbol\",, \"T\")","v":"P.US.CLEV174750"},{"$f":"IFERROR(RTD(\"cqg.rtd\", ,\"ContractData\",P14, \"MT_LastBidVolume\",, \"T\"),\"\")","v":323},{"$f":"IFERROR(RTD(\"cqg.rtd\", ,\"ContractData\",P14, \"Bid\",, \"T\"),\"\")","v":1.1400000000000001},null,{"$f":"IFERROR(RTD(\"cqg.rtd\", ,\"ContractData\",P14, \"Ask\",, \"T\"),\"\")","v":1.17},{"$f":"IFERROR(RTD(\"cqg.rtd\", ,\"ContractData\",P14, \"MT_LastAskVolume\",, \"T\"),\"\")","v":299}]
[null,null,"Call",null,{"$f":"Symbols!N15","v":"C.US.CLEV174750"},null,null,{"$f":"IFERROR(RTD(\"cqg.rtd\", ,\"ContractData\",E15, \"MT_LastBidVolume\",, \"T\"),\"\")","v":140},{"$f":"IFERROR(RTD(\"cqg.rtd\", ,\"ContractData\",E15, \"Bid\",, \"T\"),\"\")","v":1.35},null,{"$f":"IFERROR(RTD(\"cqg.rtd\", ,\"ContractData\",E15, \"Ask\",, \"T\"),\"\")","v":1.37},{"$f":"IFERROR(RTD(\"cqg.rtd\", ,\"ContractData\",E15, \"MT_LastAskVolume\",, \"T\"),\"\")","v":140},"Put ATM IV",null,null,{"$f":"(LEFT(P14,SEARCH(\"CLE\",P14)+LEN(\"CLE\")+2))&RIGHT(P14,LEN(P14)-(SEARCH(\"CLE\",P14)+LEN(\"CLE\")+2))+50","v":"P.US.CLEV174800"},{"$f":"IFERROR(RTD(\"cqg.rtd\", ,\"ContractData\",P15, \"MT_LastBidVolume\",, \"T\"),\"\")","v":171},{"$f":"IFERROR(RTD(\"cqg.rtd\", ,\"ContractData\",P15, \"Bid\",, \"T\"),\"\")","v":1.4000000000000001},null,{"$f":"IFERROR(RTD(\"cqg.rtd\", ,\"ContractData\",P15, \"Ask\",, \"T\"),\"\")","v":1.42},{"$f":"IFERROR(RTD(\"cqg.rtd\", ,\"ContractData\",P15, \"MT_LastAskVolume\",, \"T\"),\"\")","v":111}]
[null,null,"Put",null,{"$f":"Symbols!N16","v":"P.US.CLEV174750"},null,null,{"$f":"IFERROR(RTD(\"cqg.rtd\", ,\"ContractData\",E16, \"MT_LastBidVolume\",, \"T\"),\"\")","v":323},{"$f":"IFERROR(RTD(\"cqg.rtd\", ,\"ContractData\",E16, \"Bid\",, \"T\"),\"\")","v":1.1400000000000001},null,{"$f":"IFERROR(RTD(\"cqg.rtd\", ,\"ContractData\",E16, \"Ask\",, \"T\"),\"\")","v":1.17},{"$f":"IFERROR(RTD(\"cqg.rtd\", ,\"ContractData\",E16, \"MT_LastAskVolume\",, \"T\"),\"\")","v":299},{"$f":"RTD(\"cqg.rtd\", ,\"ContractData\",P14, \"ImpliedVolatility\",, \"T\")","v":27.83},null,null,{"$f":"(LEFT(P15,SEARCH(\"CLE\",P15)+LEN(\"CLE\")+2))&RIGHT(P15,LEN(P15)-(SEARCH(\"CLE\",P15)+LEN(\"CLE\")+2))+50","v":"P.US.CLEV174850"},{"$f":"IFERROR(RTD(\"cqg.rtd\", ,\"ContractData\",P16, \"MT_LastBidVolume\",, \"T\"),\"\")","v":134},{"$f":"IFERROR(RTD(\"cqg.rtd\", ,\"ContractData\",P16, \"Bid\",, \"T\"),\"\")","v":1.69},null,{"$f":"IFERROR(RTD(\"cqg.rtd\", ,\"ContractData\",P16, \"Ask\",, \"T\"),\"\")","v":1.72},{"$f":"IFERROR(RTD(\"cqg.rtd\", ,\"ContractData\",P16, \"MT_LastAskVolume\",, \"T\"),\"\")","v":133}]
[null,null,"Christmas Tree Call Long","CTreeCL",{"$f":"\"UDS(\"&Symbols!N17&\"-\"&Symbols!O17&\"-\"&Symbols!P17&\",\"&D17&\")\"","v":"UDS(C.US.CLEV174850-C.US.CLEV174800-C.US.CLEV174950,CTreeCL)"},null,null,{"$f":"IFERROR(RTD(\"cqg.rtd\", ,\"ContractData\",E17, \"MT_LastBidVolume\",, \"T\"),\"\")","v":1},{"$f":"IFERROR(RTD(\"cqg.rtd\", ,\"ContractData\",E17, \"Bid\",, \"T\"),\"\")","v":-0.82000000000000006},null,{"$f":"IFERROR(RTD(\"cqg.rtd\", ,\"ContractData\",E17, \"Ask\",, \"T\"),\"\")","v":-0.77},{"$f":"IFERROR(RTD(\"cqg.rtd\", ,\"ContractData\",E17, \"MT_LastAskVolume\",, \"T\"),\"\")","v":125},null,null,null,{"$f":"(LEFT(P16,SEARCH(\"CLE\",P16)+LEN(\"CLE\")+2))&RIGHT(P16,LEN(P16)-(SEARCH(\"CLE\",P16)+LEN(\"CLE\")+2))+50","v":"P.US.CLEV174900"},{"$f":"IFERROR(RTD(\"cqg.rtd\", ,\"ContractData\",P17, \"MT_LastBidVolume\",, \"T\"),\"\")","v":12},{"$f":"IFERROR(RTD(\"cqg.rtd\", ,\"ContractData\",P17, \"Bid\",, \"T\"),\"\")","v":2.02},null,{"$f":"IFERROR(RTD(\"cqg.rtd\", ,\"ContractData\",P17, \"Ask\",, \"T\"),\"\")","v":2.04},{"$f":"IFERROR(RTD(\"cqg.rtd\", ,\"ContractData\",P17, \"MT_LastAskVolume\",, \"T\"),\"\")","v":12}]
[null,null,"Christmas Tree Put Long","CTreePL",{"$f":"\"UDS(-\"&Symbols!N18&\"-\"&Symbols!O18&\"+\"&Symbols!P18&\",\"&D18&\")\"","v":"UDS(-P.US.CLEV174850-P.US.CLEV174700+P.US.CLEV174950,CTreePL)"},null,null,{"$f":"IFERROR(RTD(\"cqg.rtd\", ,\"ContractData\",E18, \"MT_LastBidVolume\",, \"T\"),\"\")","v":11},{"$f":"IFERROR(RTD(\"cqg.rtd\", ,\"ContractData\",E18, \"Bid\",, \"T\"),\"\")","v":-0.28999999999999998},null,{"$f":"IFERROR(RTD(\"cqg.rtd\", ,\"ContractData\",E18, \"Ask\",, \"T\"),\"\")","v":-0.21},{"$f":"IFERROR(RTD(\"cqg.rtd\", ,\"ContractData\",E18, \"MT_LastAskVolume\",, \"T\"),\"\")","v":11}]
[null,null,"Delta Neutral Call Ratio","DNeutC",{"$f":"\"UDS(\"&F19&\"*\"&Symbols!N19&\"-\"&G19&\"*\"&Symbols!O19&\",\"&D19&\")\"","v":"UDS(137*C.US.CLEV174800-156*C.US.CLEV174850,DNeutC)"},137,156,{"$f":"IFERROR(RTD(\"cqg.rtd\", ,\"ContractData\",E19, \"MT_LastBidVolume\",, \"T\"),\"\")","v":0},{"$f":"IFERROR(RTD(\"cqg.rtd\", ,\"ContractData\",E19, \"Bid\",, \"T\"),\"\")","v":8.5500000000000007},null,{"$f":"IFERROR(RTD(\"cqg.rtd\", ,\"ContractData\",E19, \"Ask\",, \"T\"),\"\")","v":12.85},{"$f":"IFERROR(RTD(\"cqg.rtd\", ,\"ContractData\",E19, \"MT_LastAskVolume\",, \"T\"),\"\")","v":0},null,null,null,null,null,"Frequency Distribution Call IV"]
[null,null,"Iron Butterfly Gut Long","IBGutL",{"$f":"\"UDS(\"&Symbols!N20&\"-\"&Symbols!O20&\"-\"&Symbols!P20&\"+\"&Symbols!Q20&\",\"&D20&\")\"","v":"UDS(C.US.CLEV174700-C.US.CLEV174750-P.US.CLEV174850+P.US.CLEV174900,IBGutL)"},null,null,{"$f":"IFERROR(RTD(\"cqg.rtd\", ,\"ContractData\",E20, \"MT_LastBidVolume\",, \"T\"),\"\")","v":12},{"$f":"IFERROR(RTD(\"cqg.rtd\", ,\"ContractData\",E20, \"Bid\",, \"T\"),\"\")","v":0.55000000000000004},null,{"$f":"IFERROR(RTD(\"cqg.rtd\", ,\"ContractData\",E20, \"Ask\",, \"T\"),\"\")","v":0.65},{"$f":"IFERROR(RTD(\"cqg.rtd\", ,\"ContractData\",E20, \"MT_LastAskVolume\",, \"T\"),\"\")","v":12}]
[null,null,"Iron Butterfly Gut Short","IBGutS",{"$f":"\"UDS(-\"&Symbols!N21&\"+\"&Symbols!O21&\"+\"&Symbols!P21&\"-\"&Symbols!Q21&\",\"&D21&\")\"","v":"UDS(-C.US.CLEV174700+C.US.CLEV174750+P.US.CLEV174800-P.US.CLEV174850,IBGutS)"},null,null,{"$f":"IFERROR(RTD(\"cqg.rtd\", ,\"ContractData\",E21, \"MT_LastBidVolume\",, \"T\"),\"\")","v":12},{"$f":"IFERROR(RTD(\"cqg.rtd\", ,\"ContractData\",E21, \"Bid\",, \"T\"),\"\")","v":-0.62},null,{"$f":"IFERROR(RTD(\"cqg.rtd\", ,\"ContractData\",E21, \"Ask\",, \"T\"),\"\")","v":-0.52},{"$f":"IFERROR(RTD(\"cqg.rtd\", ,\"ContractData\",E21, \"MT_LastAskVolume\",, \"T\"),\"\")","v":12}]
[null,null,"Iron Butterfly Short","IBflyS",{"$f":"\"UDS(-\"&Symbols!N22&\"+\"&Symbols!O22&\"+\"&Symbols!P22&\"-\"&Symbols!Q22&\",\"&D22&\")\"","v":"UDS(-P.US.CLEV174700+P.US.CLEV174750+C.US.CLEV174800-C.US.CLEV174850,IBflyS)"},null,null,{"$f":"IFERROR(RTD(\"cqg.rtd\", ,\"ContractData\",E22, \"MT_LastBidVolume\",, \"T\"),\"\")","v":125},{"$f":"IFERROR(RTD(\"cqg.rtd\", ,\"ContractData\",E22, \"Bid\",, \"T\"),\"\")","v":0.39},null,{"$f":"IFERROR(RTD(\"cqg.rtd\", ,\"ContractData\",E22, \"Ask\",, \"T\"),\"\")","v":0.47000000000000003},{"$f":"IFERROR(RTD(\"cqg.rtd\", ,\"ContractData\",E22, \"MT_LastAskVolume\",, \"T\"),\"\")","v":1}]
[null,null,"Ratio Spread Call","RatioC",{"$f":"\"UDS(\"&Symbols!N23&\"-2*\"&Symbols!O23&\",\"&D23&\")\"","v":"UDS(C.US.CLEV174750-2*C.US.CLEV174800,RatioC)"},null,null,{"$f":"IFERROR(RTD(\"cqg.rtd\", ,\"ContractData\",E23, \"MT_LastBidVolume\",, \"T\"),\"\")","v":83},{"$f":"IFERROR(RTD(\"cqg.rtd\", ,\"ContractData\",E23, \"Bid\",, \"T\"),\"\")","v":-0.91},null,{"$f":"IFERROR(RTD(\"cqg.rtd\", ,\"ContractData\",E23, \"Ask\",, \"T\"),\"\")","v":-0.85},{"$f":"IFERROR(RTD(\"cqg.rtd\", ,\"ContractData\",E23, \"MT_LastAskVolume\",, \"T\"),\"\")","v":72}]
[null,null,"Ratio Spread Put","RatioP",{"$f":"\"UDS(\"&Symbols!N24&\"-2*\"&Symbols!O24&\",\"&D24&\")\"","v":"UDS(P.US.CLEV174750-2*P.US.CLEV174800,RatioP)"},null,null,{"$f":"IFERROR(RTD(\"cqg.rtd\", ,\"ContractData\",E24, \"MT_LastBidVolume\",, \"T\"),\"\")","v":55},{"$f":"IFERROR(RTD(\"cqg.rtd\", ,\"ContractData\",E24, \"Bid\",, \"T\"),\"\")","v":-1.7},null,{"$f":"IFERROR(RTD(\"cqg.rtd\", ,\"ContractData\",E24, \"Ask\",, \"T\"),\"\")","v":-1.6300000000000001},{"$f":"IFERROR(RTD(\"cqg.rtd\", ,\"ContractData\",E24, \"MT_LastAskVolume\",, \"T\"),\"\")","v":85}]
[null,null,"Semi-Underlying Long","SemiUL",{"$f":"\"UDS(-\"&Symbols!N25&\"+\"&Symbols!O25&\",\"&D25&\")\"","v":"UDS(-C.US.CLEV174750+P.US.CLEV174750,SemiUL)"},null,null,{"$f":"IFERROR(RTD(\"cqg.rtd\", ,\"ContractData\",E25, \"MT_LastBidVolume\",, \"T\"),\"\")","v":140},{"$f":"IFERROR(RTD(\"cqg.rtd\", ,\"ContractData\",E25, \"Bid\",, \"T\"),\"\")","v":-0.23},null,{"$f":"IFERROR(RTD(\"cqg.rtd\", ,\"ContractData\",E25, \"Ask\",, \"T\"),\"\")","v":-0.18},{"$f":"IFERROR(RTD(\"cqg.rtd\", ,\"ContractData\",E25, \"MT_LastAskVolume\",, \"T\"),\"\")","v":140},null,null,null,null,null,"Frequency Distribution Put IV"]
[null,null,"Semi-Underlying Short","SemiUS",{"$f":"\"UDS(\"&Symbols!N26&\"-\"&Symbols!O26&\",\"&D26&\")\"","v":"UDS(P.US.CLEV174750-C.US.CLEV174750,SemiUS)"},null,null,{"$f":"IFERROR(RTD(\"cqg.rtd\", ,\"ContractData\",E26, \"MT_LastBidVolume\",, \"T\"),\"\")","v":140},{"$f":"IFERROR(RTD(\"cqg.rtd\", ,\"ContractData\",E26, \"Bid\",, \"T\"),\"\")","v":-0.23},null,{"$f":"IFERROR(RTD(\"cqg.rtd\", ,\"ContractData\",E26, \"Ask\",, \"T\"),\"\")","v":-0.18},{"$f":"IFERROR(RTD(\"cqg.rtd\", ,\"ContractData\",E26, \"MT_LastAskVolume\",, \"T\"),\"\")","v":140}]
[null,null,"Straddle Long","StradL",{"$f":"\"UDS(\"&Symbols!N27&\"+\"&Symbols!O27&\",\"&D27&\")\"","v":"UDS(C.US.CLEV174700+P.US.CLEV174700,StradL)"},null,null,{"$f":"IFERROR(RTD(\"cqg.rtd\", ,\"ContractData\",E27, \"MT_LastBidVolume\",, \"T\"),\"\")","v":15},{"$f":"IFERROR(RTD(\"cqg.rtd\", ,\"ContractData\",E27, \"Bid\",, \"T\"),\"\")","v":2.5500000000000003},null,{"$f":"IFERROR(RTD(\"cqg.rtd\", ,\"ContractData\",E27, \"Ask\",, \"T\"),\"\")","v":2.59},{"$f":"IFERROR(RTD(\"cqg.rtd\", ,\"ContractData\",E27, \"MT_LastAskVolume\",, \"T\"),\"\")","v":15}]
[null,null,"Strangle Long","StrangL",{"$f":"\"UDS(\"&Symbols!N28&\"+\"&Symbols!O28&\",\"&D28&\")\"","v":"UDS(C.US.CLEV174700+P.US.CLEV174850,StrangL)"},null,null,{"$f":"IFERROR(RTD(\"cqg.rtd\", ,\"ContractData\",E28, \"MT_LastBidVolume\",, \"T\"),\"\")","v":12},{"$f":"IFERROR(RTD(\"cqg.rtd\", ,\"ContractData\",E28, \"Bid\",, \"T\"),\"\")","v":3.31},null,{"$f":"IFERROR(RTD(\"cqg.rtd\", ,\"ContractData\",E28, \"Ask\",, \"T\"),\"\")","v":3.37},{"$f":"IFERROR(RTD(\"cqg.rtd\", ,\"ContractData\",E28, \"MT_LastAskVolume\",, \"T\"),\"\")","v":12}]
[null,null,"Synthetic Underlying Long","SynUL",{"$f":"\"UDS(\"&Symbols!N29&\"-\"&Symbols!O29&\",\"&D29&\")\"","v":"UDS(C.US.CLEV174900-P.US.CLEV174900,SynUL)"},null,null,{"$f":"IFERROR(RTD(\"cqg.rtd\", ,\"ContractData\",E29, \"MT_LastBidVolume\",, \"T\"),\"\")","v":12},{"$f":"IFERROR(RTD(\"cqg.rtd\", ,\"ContractData\",E29, \"Bid\",, \"T\"),\"\")","v":-1.31},null,{"$f":"IFERROR(RTD(\"cqg.rtd\", ,\"ContractData\",E29, \"Ask\",, \"T\"),\"\")","v":-1.28},{"$f":"IFERROR(RTD(\"cqg.rtd\", ,\"ContractData\",E29, \"MT_LastAskVolume\",, \"T\"),\"\")","v":10}]
[null,null,"CQG Inc.,   Copyright © 2017   Designed by Thom Hartle                   The Options Quote series in the upper right will update as the ATM strike changes.",null,null,null,null,null,null,null,null,null,null,"The Frequency Distribution uses CQG IV symbols for historical data."]

{"sheet":"Symbols","index":1,"n_rows":69,"n_cols":17,"rows_kept":69,"cut":false,"hidden":false,"merged":[[1,9,1,10],[1,2,1,3],[1,11,1,12],[2,2,3,2]]}
[]
[null,"Enter in the Expiry (?1)","Current ATM Strike: ",null,{"$f":"RTD(\"cqg.rtd\", ,\"ContractData\",\"C.CLE?\", \"Strike\",, \"T\")","v":4750},"Step",50,"Expiry: ","?1",{"$f":"LEFT(RTD(\"cqg.rtd\", ,\"ContractData\",\"C.CLE\"&I2, \"Symbol\",, \"T\"),11)","v":"C.US.CLEV17"},null,{"$f":"LEFT(RTD(\"cqg.rtd\", ,\"ContractData\",\"P.CLE\"&I2, \"Symbol\",, \"T\"),11)","v":"P.US.CLEV17"}]
[null,null,"Strikes","First","Second","Third","Fourth","Fifth","Sixth","Seventh","Eight","Ninth","Tenth"]
[null,"Enter in the first Strike and the rest ",null,4700,{"$f":"D4+$G$2","v":4750},4800,4850,4900,4950,5000,5050,5100,5150]
[null,"will update or overwrite the strikes."]
[null,null,"Symbols"]
[null,{"$f":"Display!C7","v":"Bear Put Spread"},2,null,null,null,null,null,null,null,null,null,null,{"$f":"L2&D4","v":"P.US.CLEV174700"},{"$f":"L2&F4","v":"P.US.CLEV174800"}]
[null,{"$f":"Display!C8","v":"Box Spread"},4,null,null,null,null,null,null,null,null,null,null,{"$f":"J2&F4","v":"C.US.CLEV174800"},{"$f":"J2&G4","v":"C.US.CLEV174850"},{"$f":"L2&H4","v":"P.US.CLEV174900"},{"$f":"L2&M4","v":"P.US.CLEV175150"}]
[null,{"$f":"Display!C9","v":"Bull Call Spread"},2,null,null,null,null,null,null,null,null,null,null,{"$f":"J2&E4","v":"C.US.CLEV174750"},{"$f":"J2&F4","v":"C.US.CLEV174800"}]
[null,{"$f":"Display!C10","v":"Butterfly Call Long"},3,null,null,null,null,null,null,null,null,null,null,{"$f":"J2&D4","v":"C.US.CLEV174700"},{"$f":"J2&E4","v":"C.US.CLEV174750"},{"$f":"J2&F4","v":"C.US.CLEV174800"}]
[null,{"$f":"Display!C11","v":"Butterfly Call Short"},3,null,null,null,null,null,null,null,null,null,null,{"$f":"J2&H4","v":"C.US.CLEV174900"},{"$f":"J2&I4","v":"C.US.CLEV174950"},{"$f":"J2&J4","v":"C.US.CLEV175000"}]
[null,{"$f":"Display!C12","v":"Butterfly Put Long"},3,null,null,null,null,null,null,null,null,null,null,{"$f":"L2&G4","v":"P.US.CLEV174850"},{"$f":"L2&H4","v":"P.US.CLEV174900"},{"$f":"L2&I4","v":"P.US.CLEV174950"}]
[null,{"$f":"Display!C13","v":"Butterfly Put Short"},3,null,null,null,null,null,null,null,null,null,null,{"$f":"L2&G4","v":"P.US.CLEV174850"},{"$f":"L2&H4","v":"P.US.CLEV174900"},{"$f":"L2&M4","v":"P.US.CLEV175150"}]
[null,{"$f":"Display!C14&\" (Enter 2nd Expiri:)\"","v":"Calendar Call (Enter 2nd Expiri:)"},"?2",null,null,null,null,null,null,null,null,null,null,{"$f":"J2&H4","v":"C.US.CLEV174900"},{"$f":"LEFT(RTD(\"cqg.rtd\", ,\"ContractData\",\"C.CLE\"&C14, \"Symbol\",, \"T\"),11)&H4","v":"C.US.CLEX174900"}]
[null,{"$f":"Display!C15","v":"Call"},1,null,null,null,null,null,null,null,null,null,null,{"$f":"J2&E4","v":"C.US.CLEV174750"}]
[null,{"$f":"Display!C16","v":"Put"},1,null,null,null,null,null,null,null,null,null,null,{"$f":"L2&E4","v":"P.US.CLEV174750"}]
[null,{"$f":"Display!C17","v":"Christmas Tree Call Long"},3,null,null,null,null,null,null,null,null,null,null,{"$f":"J2&G4","v":"C.US.CLEV174850"},{"$f":"J2&F4","v":"C.US.CLEV174800"},{"$f":"J2&I4","v":"C.US.CLEV174950"}]
[null,{"$f":"Display!C18","v":"Christmas Tree Put Long"},3,null,null,null,null,null,null,null,null,null,null,{"$f":"L2&G4","v":"P.US.CLEV174850"},{"$f":"L2&D4","v":"P.US.CLEV174700"},{"$f":"L2&I4","v":"P.US.CLEV174950"}]
[null,{"$f":"Display!C19","v":"Delta Neutral Call Ratio"},2,null,null,null,null,null,null,null,null,null,null,{"$f":"J2&F4","v":"C.US.CLEV174800"},{"$f":"J2&G4","v":"C.US.CLEV174850"}]
[null,{"$f":"Display!C20","v":"Iron Butterfly Gut Long"},4,null,null,null,null,null,null,null,null,null,null,{"$f":"J2&D4","v":"C.US.CLEV174700"},{"$f":"J2&E4","v":"C.US.CLEV174750"},{"$f":"L2&G4","v":"P.US.CLEV174850"},{"$f":"L2&H4","v":"P.US.CLEV174900"}]
[null,{"$f":"Display!C21","v":"Iron Butterfly Gut Short"},4,null,null,null,null,null,null,null,null,null,null,{"$f":"J2&D4","v":"C.US.CLEV174700"},{"$f":"J2&E4","v":"C.US.CLEV174750"},{"$f":"L2&F4","v":"P.US.CLEV174800"},{"$f":"L2&G4","v":"P.US.CLEV174850"}]
[null,{"$f":"Display!C22","v":"Iron Butterfly Short"},4,null,null,null,null,null,null,null,null,null,null,{"$f":"L2&D4","v":"P.US.CLEV174700"},{"$f":"L2&E4","v":"P.US.CLEV174750"},{"$f":"J2&F4","v":"C.US.CLEV174800"},{"$f":"J2&G4","v":"C.US.CLEV174850"}]
[null,{"$f":"Display!C23","v":"Ratio Spread Call"},2,null,null,null,null,null,null,null,null,null,null,{"$f":"J2&E4","v":"C.US.CLEV174750"},{"$f":"J2&F4","v":"C.US.CLEV174800"}]
[null,{"$f":"Display!C24","v":"Ratio Spread Put"},2,null,null,null,null,null,null,null,null,null,null,{"$f":"L2&E4","v":"P.US.CLEV174750"},{"$f":"L2&F4","v":"P.US.CLEV174800"}]
[null,{"$f":"Display!C25","v":"Semi-Underlying Long"},2,null,null,null,null,null,null,null,null,null,null,{"$f":"J2&E4","v":"C.US.CLEV174750"},{"$f":"L2&E4","v":"P.US.CLEV174750"}]
[null,{"$f":"Display!C26","v":"Semi-Underlying Short"},2,null,null,null,null,null,null,null,null,null,null,{"$f":"L2&E4","v":"P.US.CLEV174750"},{"$f":"J2&E4","v":"C.US.CLEV174750"}]
[null,{"$f":"Display!C27","v":"Straddle Long"},2,null,null,null,null,null,null,null,null,null,null,{"$f":"J2&D4","v":"C.US.CLEV174700"},{"$f":"L2&D4","v":"P.US.CLEV174700"}]
[null,{"$f":"Display!C28","v":"Strangle Long"},2,null,null,null,null,null,null,null,null,null,null,{"$f":"J2&D4","v":"C.US.CLEV174700"},{"$f":"L2&G4","v":"P.US.CLEV174850"}]
[null,{"$f":"Display!C29","v":"Synthetic Underlying Long"},2,null,null,null,null,null,null,null,null,null,null,{"$f":"J2&H4","v":"C.US.CLEV174900"},{"$f":"L2&H4","v":"P.US.CLEV174900"}]
[]
[]
[]
[]
[]
[]
[]
[]
[]
[]
[]
[]
[]
[]
[]
[]
[]
[]
[]
[]
[]
[]
[]
[]
[]
[]
[]
[]
[]
[]
[]
[]
[]
[]
[]
[]
[]
[]
[]
[null,null,5]

{"sheet":"Data","index":2,"n_rows":204,"n_cols":23,"rows_kept":204,"cut":false,"hidden":true,"merged":[]}
[null,null,"Open",{"$f":"RTD(\"cqg.rtd\", , \"ContractData\",D4,\"PrimarySessionOpenTime\",\"0\")","v":"08:00:00"},null,null,null,null,null,null,{"$f":"MIN(D5:D204)","v":23.1},{"$f":"MIN(P5:P204)","v":22.56},null,null,"Open",{"$f":"RTD(\"cqg.rtd\", , \"ContractData\",P4,\"PrimarySessionOpenTime\",\"0\")","v":"08:00:00"}]
[null,{"$f":" RTD(\"cqg.rtd\",,\"StudyData\", $D$4,  \"Bar\",, \"Close\",$E$4,C5,\"All\",,,,\"T\")","v":0.27839999999999998},"Close",{"$f":"RTD(\"cqg.rtd\", , \"ContractData\",D4,\"PrimarySessionCloseTime\")","v":"13:30:00"},{"$f":"D2-D1","v":0.22916666666666669},{"$f":"ROUND(IF(E2>0,E2*1440,1440+(1440*E2)),0)","v":330},{"$f":"ROUNDDOWN(G4,0)","v":22},{"$f":"ROUNDUP(H4,0)","v":50},{"$f":"ROUND(ROUNDUP(((H2-G2)/35),2),1)","v":0.8},null,{"$f":"MIN(K1:L1)","v":22.56},null,null,{"$f":" RTD(\"cqg.rtd\",,\"StudyData\", $D$4,  \"Bar\",, \"Close\",$E$4,O5,\"All\",,,,\"T\")","v":0.27839999999999998},"Close",{"$f":"RTD(\"cqg.rtd\", , \"ContractData\",P4,\"PrimarySessionCloseTime\")","v":"13:30:00"},{"$f":"P2-P1","v":0.22916666666666669},{"$f":"ROUND(IF(Q2>0,Q2*1440,1440+(1440*Q2)),0)","v":330},{"$f":"ROUNDDOWN(S4,0)","v":22},{"$f":"ROUNDUP(T4,0)","v":51},{"$f":"ROUND(ROUNDUP(((T2-S2)/35),2),1)","v":0.8}]
[null,null,null,null,null,null,{"$f":"IF((G4-G2)>0.5,0.5,0)","v":0.5},null,null,null,null,null,null,null,null,null,null,null,{"$f":"IF((S4-S2)>0.5,0.5,0)","v":0.5}]
[null,null,null,"CLECIV","D",null,{"$f":"K2","v":22.56},{"$f":"MAX(D5:D204)","v":49.6},null,{"$f":"G5+I4","v":22.5},null,null,null,null,null,"CLEPIV","D",null,{"$f":"K2","v":22.56},{"$f":"MAX(P5:P204)","v":50.07},null,{"$f":"S5+U4","v":22.5}]
[null,null,0,{"$f":"IF(RTD(\"cqg.rtd\",,\"StudyData\", $D$4,  \"Bar\",, \"Close\",$E$4,C5,\"All\",,,,\"T\")=\"\",\"\",RTD(\"cqg.rtd\",,\"StudyData\", $D$4,  \"Bar\",, \"Close\",$E$4,C5,\"All\",,,,\"T\")*100)","v":27.839999999999996},null,null,{"$f":"G2+G3","v":22.5},{"$f":"D5","v":27.839999999999996},null,{"$f":"FREQUENCY(H5:H204,G5:G40)","v":0},{"$f":"IF(AND($D$5>=G5,$D$5<G6),IF(J5=0,1,J5),NA())","v":{"$error":"#N/A"}},null,null,null,0,{"$f":"IF(RTD(\"cqg.rtd\",,\"StudyData\", $P$4,  \"Bar\",, \"Close\",$Q$4,O5,\"All\",,,,\"T\")=\"\",\"\",RTD(\"cqg.rtd\",,\"StudyData\", $P$4,  \"Bar\",, \"Close\",$Q$4,O5,\"All\",,,,\"T\")*100)","v":28.04},null,null,{"$f":"S2+S3","v":22.5},{"$f":"P5","v":28.04},null,{"$f":"FREQUENCY(T5:T204,S5:S40)","v":0},{"$f":"IF(AND($D$5>=S5,$D$5<S6),IF(V5=0,1,V5),NA())","v":{"$error":"#N/A"}}]
[null,null,{"$f":"C5-1","v":-1},{"$f":"IF(RTD(\"cqg.rtd\",,\"StudyData\", $D$4,  \"Bar\",, \"Close\",$E$4,C6,\"All\",,,,\"T\")=\"\",\"\",RTD(\"cqg.rtd\",,\"StudyData\", $D$4,  \"Bar\",, \"Close\",$E$4,C6,\"All\",,,,\"T\")*100)","v":25.86},null,null,{"$f":"G5+$I$2","v":23.3},{"$f":"D6","v":25.86},null,1,{"$f":"IF(AND($D$5>=G6,$D$5<G7),IF(J6=0,1,J6),NA())","v":{"$error":"#N/A"}},null,null,null,{"$f":"O5-1","v":-1},{"$f":"IF(RTD(\"cqg.rtd\",,\"StudyData\", $P$4,  \"Bar\",, \"Close\",$Q$4,O6,\"All\",,,,\"T\")=\"\",\"\",RTD(\"cqg.rtd\",,\"StudyData\", $P$4,  \"Bar\",, \"Close\",$Q$4,O6,\"All\",,,,\"T\")*100)","v":28.96},null,null,{"$f":"S5+$I$2","v":23.3},{"$f":"P6","v":28.96},null,3,{"$f":"IF(AND($D$5>=S6,$D$5<S7),IF(V6=0,1,V6),NA())","v":{"$error":"#N/A"}}]
[null,null,{"$f":"C6-1","v":-2},{"$f":"IF(RTD(\"cqg.rtd\",,\"StudyData\", $D$4,  \"Bar\",, \"Close\",$E$4,C7,\"All\",,,,\"T\")=\"\",\"\",RTD(\"cqg.rtd\",,\"StudyData\", $D$4,  \"Bar\",, \"Close\",$E$4,C7,\"All\",,,,\"T\")*100)","v":27.250000000000004},null,null,{"$f":"G6+$I$2","v":24.1},27.250000000000004,null,1,{"$error":"#N/A"},null,null,null,{"$f":"O6-1","v":-2},{"$f":"IF(RTD(\"cqg.rtd\",,\"StudyData\", $P$4,  \"Bar\",, \"Close\",$Q$4,O7,\"All\",,,,\"T\")=\"\",\"\",RTD(\"cqg.rtd\",,\"StudyData\", $P$4,  \"Bar\",, \"Close\",$Q$4,O7,\"All\",,,,\"T\")*100)","v":26.76},null,null,{"$f":"S6+$I$2","v":24.1},26.76,null,0,{"$error":"#N/A"}]
[null,null,-3,{"$f":"IF(RTD(\"cqg.rtd\",,\"StudyData\", $D$4,  \"Bar\",, \"Close\",$E$4,C8,\"All\",,,,\"T\")=\"\",\"\",RTD(\"cqg.rtd\",,\"StudyData\", $D$4,  \"Bar\",, \"Close\",$E$4,C8,\"All\",,,,\"T\")*100)","v":26.58},null,null,24.900000000000002,26.58,null,6,{"$error":"#N/A"},null,null,null,-3,{"$f":"IF(RTD(\"cqg.rtd\",,\"StudyData\", $P$4,  \"Bar\",, \"Close\",$Q$4,O8,\"All\",,,,\"T\")=\"\",\"\",RTD(\"cqg.rtd\",,\"StudyData\", $P$4,  \"Bar\",, \"Close\",$Q$4,O8,\"All\",,,,\"T\")*100)","v":27.76},null,null,24.900000000000002,27.76,null,8,{"$error":"#N/A"}]
[null,null,-4,{"$f":"IF(RTD(\"cqg.rtd\",,\"StudyData\", $D$4,  \"Bar\",, \"Close\",$E$4,C9,\"All\",,,,\"T\")=\"\",\"\",RTD(\"cqg.rtd\",,\"StudyData\", $D$4,  \"Bar\",, \"Close\",$E$4,C9,\"All\",,,,\"T\")*100)","v":26.16},null,null,25.700000000000003,26.16,null,3,{"$error":"#N/A"},null,null,null,-4,{"$f":"IF(RTD(\"cqg.rtd\",,\"StudyData\", $P$4,  \"Bar\",, \"Close\",$Q$4,O9,\"All\",,,,\"T\")=\"\",\"\",RTD(\"cqg.rtd\",,\"StudyData\", $P$4,  \"Bar\",, \"Close\",$Q$4,O9,\"All\",,,,\"T\")*100)","v":28.07},null,null,25.700000000000003,28.07,null,11,{"$error":"#N/A"}]
[null,null,-5,{"$f":"IF(RTD(\"cqg.rtd\",,\"StudyData\", $D$4,  \"Bar\",, \"Close\",$E$4,C10,\"All\",,,,\"T\")=\"\",\"\",RTD(\"cqg.rtd\",,\"StudyData\", $D$4,  \"Bar\",, \"Close\",$E$4,C10,\"All\",,,,\"T\")*100)","v":25.61},null,null,26.500000000000004,25.61,null,11,{"$error":"#N/A"},null,null,null,-5,{"$f":"IF(RTD(\"cqg.rtd\",,\"StudyData\", $P$4,  \"Bar\",, \"Close\",$Q$4,O10,\"All\",,,,\"T\")=\"\",\"\",RTD(\"cqg.rtd\",,\"StudyData\", $P$4,  \"Bar\",, \"Close\",$Q$4,O10,\"All\",,,,\"T\")*100)","v":28.73},null,null,26.500000000000004,28.73,null,6,{"$error":"#N/A"}]
[null,null,-6,{"$f":"IF(RTD(\"cqg.rtd\",,\"StudyData\", $D$4,  \"Bar\",, \"Close\",$E$4,C11,\"All\",,,,\"T\")=\"\",\"\",RTD(\"cqg.rtd\",,\"StudyData\", $D$4,  \"Bar\",, \"Close\",$E$4,C11,\"All\",,,,\"T\")*100)","v":28.22},null,null,27.300000000000004,28.22,null,12,12,null,null,null,-6,{"$f":"IF(RTD(\"cqg.rtd\",,\"StudyData\", $P$4,  \"Bar\",, \"Close\",$Q$4,O11,\"All\",,,,\"T\")=\"\",\"\",RTD(\"cqg.rtd\",,\"StudyData\", $P$4,  \"Bar\",, \"Close\",$Q$4,O11,\"All\",,,,\"T\")*100)","v":27.58},null,null,27.300000000000004,27.58,null,22,22]
[null,null,-7,{"$f":"IF(RTD(\"cqg.rtd\",,\"StudyData\", $D$4,  \"Bar\",, \"Close\",$E$4,C12,\"All\",,,,\"T\")=\"\",\"\",RTD(\"cqg.rtd\",,\"StudyData\", $D$4,  \"Bar\",, \"Close\",$E$4,C12,\"All\",,,,\"T\")*100)","v":27.73},null,null,28.100000000000005,27.73,null,29,{"$error":"#N/A"},null,null,null,-7,{"$f":"IF(RTD(\"cqg.rtd\",,\"StudyData\", $P$4,  \"Bar\",, \"Close\",$Q$4,O12,\"All\",,,,\"T\")=\"\",\"\",RTD(\"cqg.rtd\",,\"StudyData\", $P$4,  \"Bar\",, \"Close\",$Q$4,O12,\"All\",,,,\"T\")*100)","v":29.32},null,null,28.100000000000005,29.32,null,23,{"$error":"#N/A"}]
[null,null,-8,{"$f":"IF(RTD(\"cqg.rtd\",,\"StudyData\", $D$4,  \"Bar\",, \"Close\",$E$4,C13,\"All\",,,,\"T\")=\"\",\"\",RTD(\"cqg.rtd\",,\"StudyData\", $D$4,  \"Bar\",, \"Close\",$E$4,C13,\"All\",,,,\"T\")*100)","v":28.139999999999997},null,null,28.900000000000006,28.139999999999997,null,41,{"$error":"#N/A"},null,null,null,-8,{"$f":"IF(RTD(\"cqg.rtd\",,\"StudyData\", $P$4,  \"Bar\",, \"Close\",$Q$4,O13,\"All\",,,,\"T\")=\"\",\"\",RTD(\"cqg.rtd\",,\"StudyData\", $P$4,  \"Bar\",, \"Close\",$Q$4,O13,\"All\",,,,\"T\")*100)","v":29.110000000000003},null,null,28.900000000000006,29.110000000000003,null,30,{"$error":"#N/A"}]
[null,null,-9,{"$f":"IF(RTD(\"cqg.rtd\",,\"StudyData\", $D$4,  \"Bar\",, \"Close\",$E$4,C14,\"All\",,,,\"T\")=\"\",\"\",RTD(\"cqg.rtd\",,\"StudyData\", $D$4,  \"Bar\",, \"Close\",$E$4,C14,\"All\",,,,\"T\")*100)","v":29.87},null,null,29.700000000000006,29.87,null,29,{"$error":"#N/A"},null,null,null,-9,{"$f":"IF(RTD(\"cqg.rtd\",,\"StudyData\", $P$4,  \"Bar\",, \"Close\",$Q$4,O14,\"All\",,,,\"T\")=\"\",\"\",RTD(\"cqg.rtd\",,\"StudyData\", $P$4,  \"Bar\",, \"Close\",$Q$4,O14,\"All\",,,,\"T\")*100)","v":27.88},null,null,29.700000000000006,27.88,null,28,{"$error":"#N/A"}]
[null,null,-10,{"$f":"IF(RTD(\"cqg.rtd\",,\"StudyData\", $D$4,  \"Bar\",, \"Close\",$E$4,C15,\"All\",,,,\"T\")=\"\",\"\",RTD(\"cqg.rtd\",,\"StudyData\", $D$4,  \"Bar\",, \"Close\",$E$4,C15,\"All\",,,,\"T\")*100)","v":28.560000000000002},null,null,30.500000000000007,28.560000000000002,null,23,{"$error":"#N/A"},null,null,null,-10,{"$f":"IF(RTD(\"cqg.rtd\",,\"StudyData\", $P$4,  \"Bar\",, \"Close\",$Q$4,O15,\"All\",,,,\"T\")=\"\",\"\",RTD(\"cqg.rtd\",,\"StudyData\", $P$4,  \"Bar\",, \"Close\",$Q$4,O15,\"All\",,,,\"T\")*100)","v":28.37},null,null,30.500000000000007,28.37,null,20,{"$error":"#N/A"}]
[null,null,-11,{"$f":"IF(RTD(\"cqg.rtd\",,\"StudyData\", $D$4,  \"Bar\",, \"Close\",$E$4,C16,\"All\",,,,\"T\")=\"\",\"\",RTD(\"cqg.rtd\",,\"StudyData\", $D$4,  \"Bar\",, \"Close\",$E$4,C16,\"All\",,,,\"T\")*100)","v":28.749999999999996},null,null,31.300000000000008,28.749999999999996,null,14,{"$error":"#N/A"},null,null,null,-11,{"$f":"IF(RTD(\"cqg.rtd\",,\"StudyData\", $P$4,  \"Bar\",, \"Close\",$Q$4,O16,\"All\",,,,\"T\")=\"\",\"\",RTD(\"cqg.rtd\",,\"StudyData\", $P$4,  \"Bar\",, \"Close\",$Q$4,O16,\"All\",,,,\"T\")*100)","v":28.050000000000004},null,null,31.300000000000008,28.050000000000004,null,20,{"$error":"#N/A"}]
[null,null,-12,{"$f":"IF(RTD(\"cqg.rtd\",,\"StudyData\", $D$4,  \"Bar\",, \"Close\",$E$4,C17,\"All\",,,,\"T\")=\"\",\"\",RTD(\"cqg.rtd\",,\"StudyData\", $D$4,  \"Bar\",, \"Close\",$E$4,C17,\"All\",,,,\"T\")*100)","v":27.68},null,null,32.100000000000009,27.68,null,8,{"$error":"#N/A"},null,null,null,-12,{"$f":"IF(RTD(\"cqg.rtd\",,\"StudyData\", $P$4,  \"Bar\",, \"Close\",$Q$4,O17,\"All\",,,,\"T\")=\"\",\"\",RTD(\"cqg.rtd\",,\"StudyData\", $P$4,  \"Bar\",, \"Close\",$Q$4,O17,\"All\",,,,\"T\")*100)","v":26.1},null,null,32.100000000000009,26.1,null,5,{"$error":"#N/A"}]
[null,null,-13,{"$f":"IF(RTD(\"cqg.rtd\",,\"StudyData\", $D$4,  \"Bar\",, \"Close\",$E$4,C18,\"All\",,,,\"T\")=\"\",\"\",RTD(\"cqg.rtd\",,\"StudyData\", $D$4,  \"Bar\",, \"Close\",$E$4,C18,\"All\",,,,\"T\")*100)","v":28.59},null,null,32.900000000000006,28.59,null,2,{"$error":"#N/A"},null,null,null,-13,{"$f":"IF(RTD(\"cqg.rtd\",,\"StudyData\", $P$4,  \"Bar\",, \"Close\",$Q$4,O18,\"All\",,,,\"T\")=\"\",\"\",RTD(\"cqg.rtd\",,\"StudyData\", $P$4,  \"Bar\",, \"Close\",$Q$4,O18,\"All\",,,,\"T\")*100)","v":26.810000000000002},null,null,32.900000000000006,26.810000000000002,null,4,{"$error":"#N/A"}]
[null,null,-14,{"$f":"IF(RTD(\"cqg.rtd\",,\"StudyData\", $D$4,  \"Bar\",, \"Close\",$E$4,C19,\"All\",,,,\"T\")=\"\",\"\",RTD(\"cqg.rtd\",,\"StudyData\", $D$4,  \"Bar\",, \"Close\",$E$4,C19,\"All\",,,,\"T\")*100)","v":27.589999999999996},null,null,33.700000000000003,27.589999999999996,null,1,{"$error":"#N/A"},null,null,null,-14,{"$f":"IF(RTD(\"cqg.rtd\",,\"StudyData\", $P$4,  \"Bar\",, \"Close\",$Q$4,O19,\"All\",,,,\"T\")=\"\",\"\",RTD(\"cqg.rtd\",,\"StudyData\", $P$4,  \"Bar\",, \"Close\",$Q$4,O19,\"All\",,,,\"T\")*100)","v":26.43},null,null,33.700000000000003,26.43,null,5,{"$error":"#N/A"}]
[null,null,-15,{"$f":"IF(RTD(\"cqg.rtd\",,\"StudyData\", $D$4,  \"Bar\",, \"Close\",$E$4,C20,\"All\",,,,\"T\")=\"\",\"\",RTD(\"cqg.rtd\",,\"StudyData\", $D$4,  \"Bar\",, \"Close\",$E$4,C20,\"All\",,,,\"T\")*100)","v":28.08},null,null,34.5,28.08,null,0,{"$error":"#N/A"},null,null,null,-15,{"$f":"IF(RTD(\"cqg.rtd\",,\"StudyData\", $P$4,  \"Bar\",, \"Close\",$Q$4,O20,\"All\",,,,\"T\")=\"\",\"\",RTD(\"cqg.rtd\",,\"StudyData\", $P$4,  \"Bar\",, \"Close\",$Q$4,O20,\"All\",,,,\"T\")*100)","v":26.33},null,null,34.5,26.33,null,0,{"$error":"#N/A"}]
[null,null,-16,{"$f":"IF(RTD(\"cqg.rtd\",,\"StudyData\", $D$4,  \"Bar\",, \"Close\",$E$4,C21,\"All\",,,,\"T\")=\"\",\"\",RTD(\"cqg.rtd\",,\"StudyData\", $D$4,  \"Bar\",, \"Close\",$E$4,C21,\"All\",,,,\"T\")*100)","v":28.439999999999998},null,null,35.299999999999997,28.439999999999998,null,1,{"$error":"#N/A"},null,null,null,-16,{"$f":"IF(RTD(\"cqg.rtd\",,\"StudyData\", $P$4,  \"Bar\",, \"Close\",$Q$4,O21,\"All\",,,,\"T\")=\"\",\"\",RTD(\"cqg.rtd\",,\"StudyData\", $P$4,  \"Bar\",, \"Close\",$Q$4,O21,\"All\",,,,\"T\")*100)","v":26.61},null,null,35.299999999999997,26.61,null,0,{"$error":"#N/A"}]
[null,null,-17,{"$f":"IF(RTD(\"cqg.rtd\",,\"StudyData\", $D$4,  \"Bar\",, \"Close\",$E$4,C22,\"All\",,,,\"T\")=\"\",\"\",RTD(\"cqg.rtd\",,\"StudyData\", $D$4,  \"Bar\",, \"Close\",$E$4,C22,\"All\",,,,\"T\")*100)","v":29.2},null,null,36.099999999999994,29.2,null,1,{"$error":"#N/A"},null,null,null,-17,{"$f":"IF(RTD(\"cqg.rtd\",,\"StudyData\", $P$4,  \"Bar\",, \"Close\",$Q$4,O22,\"All\",,,,\"T\")=\"\",\"\",RTD(\"cqg.rtd\",,\"StudyData\", $P$4,  \"Bar\",, \"Close\",$Q$4,O22,\"All\",,,,\"T\")*100)","v":27.57},null,null,36.099999999999994,27.57,null,0,{"$error":"#N/A"}]
[null,null,-18,{"$f":"IF(RTD(\"cqg.rtd\",,\"StudyData\", $D$4,  \"Bar\",, \"Close\",$E$4,C23,\"All\",,,,\"T\")=\"\",\"\",RTD(\"cqg.rtd\",,\"StudyData\", $D$4,  \"Bar\",, \"Close\",$E$4,C23,\"All\",,,,\"T\")*100)","v":28.78},null,null,36.899999999999991,28.78,null,0,{"$error":"#N/A"},null,null,null,-18,{"$f":"IF(RTD(\"cqg.rtd\",,\"StudyData\", $P$4,  \"Bar\",, \"Close\",$Q$4,O23,\"All\",,,,\"T\")=\"\",\"\",RTD(\"cqg.rtd\",,\"StudyData\", $P$4,  \"Bar\",, \"Close\",$Q$4,O23,\"All\",,,,\"T\")*100)","v":29.189999999999998},null,null,36.899999999999991,29.189999999999998,null,1,{"$error":"#N/A"}]
[null,null,-19,{"$f":"IF(RTD(\"cqg.rtd\",,\"StudyData\", $D$4,  \"Bar\",, \"Close\",$E$4,C24,\"All\",,,,\"T\")=\"\",\"\",RTD(\"cqg.rtd\",,\"StudyData\", $D$4,  \"Bar\",, \"Close\",$E$4,C24,\"All\",,,,\"T\")*100)","v":27.91},null,null,37.699999999999989,27.91,null,0,{"$error":"#N/A"},null,null,null,-19,{"$f":"IF(RTD(\"cqg.rtd\",,\"StudyData\", $P$4,  \"Bar\",, \"Close\",$Q$4,O24,\"All\",,,,\"T\")=\"\",\"\",RTD(\"cqg.rtd\",,\"StudyData\", $P$4,  \"Bar\",, \"Close\",$Q$4,O24,\"All\",,,,\"T\")*100)","v":29.310000000000002},null,null,37.699999999999989,29.310000000000002,null,2,{"$error":"#N/A"}]
[null,null,-20,{"$f":"IF(RTD(\"cqg.rtd\",,\"StudyData\", $D$4,  \"Bar\",, \"Close\",$E$4,C25,\"All\",,,,\"T\")=\"\",\"\",RTD(\"cqg.rtd\",,\"StudyData\", $D$4,  \"Bar\",, \"Close\",$E$4,C25,\"All\",,,,\"T\")*100)","v":28.799999999999997},null,null,38.499999999999986,28.799999999999997,null,3,{"$error":"#N/A"},null,null,null,-20,{"$f":"IF(RTD(\"cqg.rtd\",,\"StudyData\", $P$4,  \"Bar\",, \"Close\",$Q$4,O25,\"All\",,,,\"T\")=\"\",\"\",RTD(\"cqg.rtd\",,\"StudyData\", $P$4,  \"Bar\",, \"Close\",$Q$4,O25,\"All\",,,,\"T\")*100)","v":28.470000000000002},null,null,38.499999999999986,28.470000000000002,null,3,{"$error":"#N/A"}]
[null,null,-21,{"$f":"IF(RTD(\"cqg.rtd\",,\"StudyData\", $D$4,  \"Bar\",, \"Close\",$E$4,C26,\"All\",,,,\"T\")=\"\",\"\",RTD(\"cqg.rtd\",,\"StudyData\", $D$4,  \"Bar\",, \"Close\",$E$4,C26,\"All\",,,,\"T\")*100)","v":27.68},null,null,39.299999999999983,27.68,null,0,{"$error":"#N/A"},null,null,null,-21,{"$f":"IF(RTD(\"cqg.rtd\",,\"StudyData\", $P$4,  \"Bar\",, \"Close\",$Q$4,O26,\"All\",,,,\"T\")=\"\",\"\",RTD(\"cqg.rtd\",,\"StudyData\", $P$4,  \"Bar\",, \"Close\",$Q$4,O26,\"All\",,,,\"T\")*100)","v":29.53},null,null,39.299999999999983,29.53,null,0,{"$error":"#N/A"}]
[null,null,-22,{"$f":"IF(RTD(\"cqg.rtd\",,\"StudyData\", $D$4,  \"Bar\",, \"Close\",$E$4,C27,\"All\",,,,\"T\")=\"\",\"\",RTD(\"cqg.rtd\",,\"StudyData\", $D$4,  \"Bar\",, \"Close\",$E$4,C27,\"All\",,,,\"T\")*100)","v":29.049999999999997},null,null,40.09999999999998,29.049999999999997,null,2,{"$error":"#N/A"},null,null,null,-22,{"$f":"IF(RTD(\"cqg.rtd\",,\"StudyData\", $P$4,  \"Bar\",, \"Close\",$Q$4,O27,\"All\",,,,\"T\")=\"\",\"\",RTD(\"cqg.rtd\",,\"StudyData\", $P$4,  \"Bar\",, \"Close\",$Q$4,O27,\"All\",,,,\"T\")*100)","v":26.740000000000002},null,null,40.09999999999998,26.740000000000002,null,1,{"$error":"#N/A"}]
[null,null,-23,{"$f":"IF(RTD(\"cqg.rtd\",,\"StudyData\", $D$4,  \"Bar\",, \"Close\",$E$4,C28,\"All\",,,,\"T\")=\"\",\"\",RTD(\"cqg.rtd\",,\"StudyData\", $D$4,  \"Bar\",, \"Close\",$E$4,C28,\"All\",,,,\"T\")*100)","v":28.310000000000002},null,null,40.899999999999977,28.310000000000002,null,0,{"$error":"#N/A"},null,null,null,-23,{"$f":"IF(RTD(\"cqg.rtd\",,\"StudyData\", $P$4,  \"Bar\",, \"Close\",$Q$4,O28,\"All\",,,,\"T\")=\"\",\"\",RTD(\"cqg.rtd\",,\"StudyData\", $P$4,  \"Bar\",, \"Close\",$Q$4,O28,\"All\",,,,\"T\")*100)","v":28.12},null,null,40.899999999999977,28.12,null,2,{"$error":"#N/A"}]
[null,null,-24,{"$f":"IF(RTD(\"cqg.rtd\",,\"StudyData\", $D$4,  \"Bar\",, \"Close\",$E$4,C29,\"All\",,,,\"T\")=\"\",\"\",RTD(\"cqg.rtd\",,\"StudyData\", $D$4,  \"Bar\",, \"Close\",$E$4,C29,\"All\",,,,\"T\")*100)","v":27.72},null,null,41.699999999999974,27.72,null,2,{"$error":"#N/A"},null,null,null,-24,{"$f":"IF(RTD(\"cqg.rtd\",,\"StudyData\", $P$4,  \"Bar\",, \"Close\",$Q$4,O29,\"All\",,,,\"T\")=\"\",\"\",RTD(\"cqg.rtd\",,\"StudyData\", $P$4,  \"Bar\",, \"Close\",$Q$4,O29,\"All\",,,,\"T\")*100)","v":27.97},null,null,41.699999999999974,27.97,null,2,{"$error":"#N/A"}]
[null,null,-25,{"$f":"IF(RTD(\"cqg.rtd\",,\"StudyData\", $D$4,  \"Bar\",, \"Close\",$E$4,C30,\"All\",,,,\"T\")=\"\",\"\",RTD(\"cqg.rtd\",,\"StudyData\", $D$4,  \"Bar\",, \"Close\",$E$4,C30,\"All\",,,,\"T\")*100)","v":30.020000000000003},null,null,42.499999999999972,30.020000000000003,null,1,{"$error":"#N/A"},null,null,null,-25,{"$f":"IF(RTD(\"cqg.rtd\",,\"StudyData\", $P$4,  \"Bar\",, \"Close\",$Q$4,O30,\"All\",,,,\"T\")=\"\",\"\",RTD(\"cqg.rtd\",,\"StudyData\", $P$4,  \"Bar\",, \"Close\",$Q$4,O30,\"All\",,,,\"T\")*100)","v":27.24},null,null,42.499999999999972,27.24,null,0,{"$error":"#N/A"}]
[null,null,-26,{"$f":"IF(RTD(\"cqg.rtd\",,\"StudyData\", $D$4,  \"Bar\",, \"Close\",$E$4,C31,\"All\",,,,\"T\")=\"\",\"\",RTD(\"cqg.rtd\",,\"StudyData\", $D$4,  \"Bar\",, \"Close\",$E$4,C31,\"All\",,,,\"T\")*100)","v":28.02},null,null,43.299999999999969,28.02,null,1,{"$error":"#N/A"},null,null,null,-26,{"$f":"IF(RTD(\"cqg.rtd\",,\"StudyData\", $P$4,  \"Bar\",, \"Close\",$Q$4,O31,\"All\",,,,\"T\")=\"\",\"\",RTD(\"cqg.rtd\",,\"StudyData\", $P$4,  \"Bar\",, \"Close\",$Q$4,O31,\"All\",,,,\"T\")*100)","v":27.67},null,null,43.299999999999969,27.67,null,0,{"$error":"#N/A"}]
[null,null,-27,{"$f":"IF(RTD(\"cqg.rtd\",,\"StudyData\", $D$4,  \"Bar\",, \"Close\",$E$4,C32,\"All\",,,,\"T\")=\"\",\"\",RTD(\"cqg.rtd\",,\"StudyData\", $D$4,  \"Bar\",, \"Close\",$E$4,C32,\"All\",,,,\"T\")*100)","v":27.77},null,null,44.099999999999966,27.77,null,2,{"$error":"#N/A"},null,null,null,-27,{"$f":"IF(RTD(\"cqg.rtd\",,\"StudyData\", $P$4,  \"Bar\",, \"Close\",$Q$4,O32,\"All\",,,,\"T\")=\"\",\"\",RTD(\"cqg.rtd\",,\"StudyData\", $P$4,  \"Bar\",, \"Close\",$Q$4,O32,\"All\",,,,\"T\")*100)","v":27.74},null,null,44.099999999999966,27.74,null,0,{"$error":"#N/A"}]
[null,null,-28,{"$f":"IF(RTD(\"cqg.rtd\",,\"StudyData\", $D$4,  \"Bar\",, \"Close\",$E$4,C33,\"All\",,,,\"T\")=\"\",\"\",RTD(\"cqg.rtd\",,\"StudyData\", $D$4,  \"Bar\",, \"Close\",$E$4,C33,\"All\",,,,\"T\")*100)","v":28.110000000000003},null,null,44.899999999999963,28.110000000000003,null,0,{"$error":"#N/A"},null,null,null,-28,{"$f":"IF(RTD(\"cqg.rtd\",,\"StudyData\", $P$4,  \"Bar\",, \"Close\",$Q$4,O33,\"All\",,,,\"T\")=\"\",\"\",RTD(\"cqg.rtd\",,\"StudyData\", $P$4,  \"Bar\",, \"Close\",$Q$4,O33,\"All\",,,,\"T\")*100)","v":28.249999999999996},null,null,44.899999999999963,28.249999999999996,null,1,{"$error":"#N/A"}]
[null,null,-29,{"$f":"IF(RTD(\"cqg.rtd\",,\"StudyData\", $D$4,  \"Bar\",, \"Close\",$E$4,C34,\"All\",,,,\"T\")=\"\",\"\",RTD(\"cqg.rtd\",,\"StudyData\", $D$4,  \"Bar\",, \"Close\",$E$4,C34,\"All\",,,,\"T\")*100)","v":27.900000000000002},null,null,45.69999999999996,27.900000000000002,null,1,{"$error":"#N/A"},null,null,null,-29,{"$f":"IF(RTD(\"cqg.rtd\",,\"StudyData\", $P$4,  \"Bar\",, \"Close\",$Q$4,O34,\"All\",,,,\"T\")=\"\",\"\",RTD(\"cqg.rtd\",,\"StudyData\", $P$4,  \"Bar\",, \"Close\",$Q$4,O34,\"All\",,,,\"T\")*100)","v":28.4},null,null,45.69999999999996,28.4,null,0,{"$error":"#N/A"}]
[null,null,-30,{"$f":"IF(RTD(\"cqg.rtd\",,\"StudyData\", $D$4,  \"Bar\",, \"Close\",$E$4,C35,\"All\",,,,\"T\")=\"\",\"\",RTD(\"cqg.rtd\",,\"StudyData\", $D$4,  \"Bar\",, \"Close\",$E$4,C35,\"All\",,,,\"T\")*100)","v":27.68},null,null,46.499999999999957,27.68,null,0,{"$error":"#N/A"},null,null,null,-30,{"$f":"IF(RTD(\"cqg.rtd\",,\"StudyData\", $P$4,  \"Bar\",, \"Close\",$Q$4,O35,\"All\",,,,\"T\")=\"\",\"\",RTD(\"cqg.rtd\",,\"StudyData\", $P$4,  \"Bar\",, \"Close\",$Q$4,O35,\"All\",,,,\"T\")*100)","v":28.59},null,null,46.499999999999957,28.59,null,0,{"$error":"#N/A"}]
[null,null,-31,{"$f":"IF(RTD(\"cqg.rtd\",,\"StudyData\", $D$4,  \"Bar\",, \"Close\",$E$4,C36,\"All\",,,,\"T\")=\"\",\"\",RTD(\"cqg.rtd\",,\"StudyData\", $D$4,  \"Bar\",, \"Close\",$E$4,C36,\"All\",,,,\"T\")*100)","v":28.95},null,null,47.299999999999955,28.95,null,3,{"$error":"#N/A"},null,null,null,-31,{"$f":"IF(RTD(\"cqg.rtd\",,\"StudyData\", $P$4,  \"Bar\",, \"Close\",$Q$4,O36,\"All\",,,,\"T\")=\"\",\"\",RTD(\"cqg.rtd\",,\"StudyData\", $P$4,  \"Bar\",, \"Close\",$Q$4,O36,\"All\",,,,\"T\")*100)","v":28.34},null,null,47.299999999999955,28.34,null,1,{"$error":"#N/A"}]
[null,null,-32,{"$f":"IF(RTD(\"cqg.rtd\",,\"StudyData\", $D$4,  \"Bar\",, \"Close\",$E$4,C37,\"All\",,,,\"T\")=\"\",\"\",RTD(\"cqg.rtd\",,\"StudyData\", $D$4,  \"Bar\",, \"Close\",$E$4,C37,\"All\",,,,\"T\")*100)","v":29.17},null,null,48.099999999999952,29.17,null,1,{"$error":"#N/A"},null,null,null,-32,{"$f":"IF(RTD(\"cqg.rtd\",,\"StudyData\", $P$4,  \"Bar\",, \"Close\",$Q$4,O37,\"All\",,,,\"T\")=\"\",\"\",RTD(\"cqg.rtd\",,\"StudyData\", $P$4,  \"Bar\",, \"Close\",$Q$4,O37,\"All\",,,,\"T\")*100)","v":29.34},null,null,48.099999999999952,29.34,null,0,{"$error":"#N/A"}]
[null,null,-33,{"$f":"IF(RTD(\"cqg.rtd\",,\"StudyData\", $D$4,  \"Bar\",, \"Close\",$E$4,C38,\"All\",,,,\"T\")=\"\",\"\",RTD(\"cqg.rtd\",,\"StudyData\", $D$4,  \"Bar\",, \"Close\",$E$4,C38,\"All\",,,,\"T\")*100)","v":30.009999999999998},null,null,48.899999999999949,30.009999999999998,null,0,{"$error":"#N/A"},null,null,null,-33,{"$f":"IF(RTD(\"cqg.rtd\",,\"StudyData\", $P$4,  \"Bar\",, \"Close\",$Q$4,O38,\"All\",,,,\"T\")=\"\",\"\",RTD(\"cqg.rtd\",,\"StudyData\", $P$4,  \"Bar\",, \"Close\",$Q$4,O38,\"All\",,,,\"T\")*100)","v":30.409999999999997},null,null,48.899999999999949,30.409999999999997,null,1,{"$error":"#N/A"}]
[null,null,-34,{"$f":"IF(RTD(\"cqg.rtd\",,\"StudyData\", $D$4,  \"Bar\",, \"Close\",$E$4,C39,\"All\",,,,\"T\")=\"\",\"\",RTD(\"cqg.rtd\",,\"StudyData\", $D$4,  \"Bar\",, \"Close\",$E$4,C39,\"All\",,,,\"T\")*100)","v":29.330000000000002},null,null,49.699999999999946,29.330000000000002,null,1,{"$error":"#N/A"},null,null,null,-34,{"$f":"IF(RTD(\"cqg.rtd\",,\"StudyData\", $P$4,  \"Bar\",, \"Close\",$Q$4,O39,\"All\",,,,\"T\")=\"\",\"\",RTD(\"cqg.rtd\",,\"StudyData\", $P$4,  \"Bar\",, \"Close\",$Q$4,O39,\"All\",,,,\"T\")*100)","v":30.330000000000002},null,null,49.699999999999946,30.330000000000002,null,0,{"$error":"#N/A"}]
[null,null,-35,{"$f":"IF(RTD(\"cqg.rtd\",,\"StudyData\", $D$4,  \"Bar\",, \"Close\",$E$4,C40,\"All\",,,,\"T\")=\"\",\"\",RTD(\"cqg.rtd\",,\"StudyData\", $D$4,  \"Bar\",, \"Close\",$E$4,C40,\"All\",,,,\"T\")*100)","v":30.36},{"$f":" RTD(\"cqg.rtd\",,\"StudyData\", $D$4,  \"Bar\",, \"Time\",$E$4,C40,,,,,\"T\")","v":"2017-07-07"},null,50.499999999999943,30.36,null,0,{"$error":"#N/A"},null,null,null,-35,{"$f":"IF(RTD(\"cqg.rtd\",,\"StudyData\", $P$4,  \"Bar\",, \"Close\",$Q$4,O40,\"All\",,,,\"T\")=\"\",\"\",RTD(\"cqg.rtd\",,\"StudyData\", $P$4,  \"Bar\",, \"Close\",$Q$4,O40,\"All\",,,,\"T\")*100)","v":30.18},{"$f":" RTD(\"cqg.rtd\",,\"StudyData\", $D$4,  \"Bar\",, \"Time\",$E$4,O40,,,,,\"T\")","v":"2017-07-07"},null,50.499999999999943,30.18,null,1,{"$error":"#N/A"}]
[null,null,-36,{"$f":"IF(RTD(\"cqg.rtd\",,\"StudyData\", $D$4,  \"Bar\",, \"Close\",$E$4,C41,\"All\",,,,\"T\")=\"\",\"\",RTD(\"cqg.rtd\",,\"StudyData\", $D$4,  \"Bar\",, \"Close\",$E$4,C41,\"All\",,,,\"T\")*100)","v":32.18},null,null,null,32.18,null,null,null,null,null,null,-36,{"$f":"IF(RTD(\"cqg.rtd\",,\"StudyData\", $P$4,  \"Bar\",, \"Close\",$Q$4,O41,\"All\",,,,\"T\")=\"\",\"\",RTD(\"cqg.rtd\",,\"StudyData\", $P$4,  \"Bar\",, \"Close\",$Q$4,O41,\"All\",,,,\"T\")*100)","v":26.97},null,null,null,26.97]
[null,null,-37,{"$f":"IF(RTD(\"cqg.rtd\",,\"StudyData\", $D$4,  \"Bar\",, \"Close\",$E$4,C42,\"All\",,,,\"T\")=\"\",\"\",RTD(\"cqg.rtd\",,\"StudyData\", $D$4,  \"Bar\",, \"Close\",$E$4,C42,\"All\",,,,\"T\")*100)","v":30.669999999999998},null,null,null,30.669999999999998,null,null,null,null,null,null,-37,{"$f":"IF(RTD(\"cqg.rtd\",,\"StudyData\", $P$4,  \"Bar\",, \"Close\",$Q$4,O42,\"All\",,,,\"T\")=\"\",\"\",RTD(\"cqg.rtd\",,\"StudyData\", $P$4,  \"Bar\",, \"Close\",$Q$4,O42,\"All\",,,,\"T\")*100)","v":29.23},null,null,null,29.23]
[null,null,-38,{"$f":"IF(RTD(\"cqg.rtd\",,\"StudyData\", $D$4,  \"Bar\",, \"Close\",$E$4,C43,\"All\",,,,\"T\")=\"\",\"\",RTD(\"cqg.rtd\",,\"StudyData\", $D$4,  \"Bar\",, \"Close\",$E$4,C43,\"All\",,,,\"T\")*100)","v":28.68},null,null,null,28.68,null,null,null,null,null,null,-38,{"$f":"IF(RTD(\"cqg.rtd\",,\"StudyData\", $P$4,  \"Bar\",, \"Close\",$Q$4,O43,\"All\",,,,\"T\")=\"\",\"\",RTD(\"cqg.rtd\",,\"StudyData\", $P$4,  \"Bar\",, \"Close\",$Q$4,O43,\"All\",,,,\"T\")*100)","v":27.37},null,null,null,27.37]
[null,null,-39,{"$f":"IF(RTD(\"cqg.rtd\",,\"StudyData\", $D$4,  \"Bar\",, \"Close\",$E$4,C44,\"All\",,,,\"T\")=\"\",\"\",RTD(\"cqg.rtd\",,\"StudyData\", $D$4,  \"Bar\",, \"Close\",$E$4,C44,\"All\",,,,\"T\")*100)","v":27.01},null,null,null,27.01,null,null,null,null,null,null,-39,{"$f":"IF(RTD(\"cqg.rtd\",,\"StudyData\", $P$4,  \"Bar\",, \"Close\",$Q$4,O44,\"All\",,,,\"T\")=\"\",\"\",RTD(\"cqg.rtd\",,\"StudyData\", $P$4,  \"Bar\",, \"Close\",$Q$4,O44,\"All\",,,,\"T\")*100)","v":29.17},null,null,null,29.17]
[null,null,-40,{"$f":"IF(RTD(\"cqg.rtd\",,\"StudyData\", $D$4,  \"Bar\",, \"Close\",$E$4,C45,\"All\",,,,\"T\")=\"\",\"\",RTD(\"cqg.rtd\",,\"StudyData\", $D$4,  \"Bar\",, \"Close\",$E$4,C45,\"All\",,,,\"T\")*100)","v":30.320000000000004},null,null,null,30.320000000000004,null,null,null,null,null,null,-40,{"$f":"IF(RTD(\"cqg.rtd\",,\"StudyData\", $P$4,  \"Bar\",, \"Close\",$Q$4,O45,\"All\",,,,\"T\")=\"\",\"\",RTD(\"cqg.rtd\",,\"StudyData\", $P$4,  \"Bar\",, \"Close\",$Q$4,O45,\"All\",,,,\"T\")*100)","v":27.58},null,null,null,27.58]
[null,null,-41,{"$f":"IF(RTD(\"cqg.rtd\",,\"StudyData\", $D$4,  \"Bar\",, \"Close\",$E$4,C46,\"All\",,,,\"T\")=\"\",\"\",RTD(\"cqg.rtd\",,\"StudyData\", $D$4,  \"Bar\",, \"Close\",$E$4,C46,\"All\",,,,\"T\")*100)","v":29.03},null,null,null,29.03,null,null,null,null,null,null,-41,{"$f":"IF(RTD(\"cqg.rtd\",,\"StudyData\", $P$4,  \"Bar\",, \"Close\",$Q$4,O46,\"All\",,,,\"T\")=\"\",\"\",RTD(\"cqg.rtd\",,\"StudyData\", $P$4,  \"Bar\",, \"Close\",$Q$4,O46,\"All\",,,,\"T\")*100)","v":30.14},null,null,null,30.14]
[null,null,-42,{"$f":"IF(RTD(\"cqg.rtd\",,\"StudyData\", $D$4,  \"Bar\",, \"Close\",$E$4,C47,\"All\",,,,\"T\")=\"\",\"\",RTD(\"cqg.rtd\",,\"StudyData\", $D$4,  \"Bar\",, \"Close\",$E$4,C47,\"All\",,,,\"T\")*100)","v":29.64},null,null,null,29.64,null,null,null,null,null,null,-42,{"$f":"IF(RTD(\"cqg.rtd\",,\"StudyData\", $P$4,  \"Bar\",, \"Close\",$Q$4,O47,\"All\",,,,\"T\")=\"\",\"\",RTD(\"cqg.rtd\",,\"StudyData\", $P$4,  \"Bar\",, \"Close\",$Q$4,O47,\"All\",,,,\"T\")*100)","v":30.490000000000002},null,null,null,30.490000000000002]
[null,null,-43,{"$f":"IF(RTD(\"cqg.rtd\",,\"StudyData\", $D$4,  \"Bar\",, \"Close\",$E$4,C48,\"All\",,,,\"T\")=\"\",\"\",RTD(\"cqg.rtd\",,\"StudyData\", $D$4,  \"Bar\",, \"Close\",$E$4,C48,\"All\",,,,\"T\")*100)","v":28.599999999999998},null,null,null,28.599999999999998,null,null,null,null,null,null,-43,{"$f":"IF(RTD(\"cqg.rtd\",,\"StudyData\", $P$4,  \"Bar\",, \"Close\",$Q$4,O48,\"All\",,,,\"T\")=\"\",\"\",RTD(\"cqg.rtd\",,\"StudyData\", $P$4,  \"Bar\",, \"Close\",$Q$4,O48,\"All\",,,,\"T\")*100)","v":30.919999999999998},null,null,null,30.919999999999998]
[null,null,-44,{"$f":"IF(RTD(\"cqg.rtd\",,\"StudyData\", $D$4,  \"Bar\",, \"Close\",$E$4,C49,\"All\",,,,\"T\")=\"\",\"\",RTD(\"cqg.rtd\",,\"StudyData\", $D$4,  \"Bar\",, \"Close\",$E$4,C49,\"All\",,,,\"T\")*100)","v":30.39},null,null,null,30.39,null,null,null,null,null,null,-44,{"$f":"IF(RTD(\"cqg.rtd\",,\"StudyData\", $P$4,  \"Bar\",, \"Close\",$Q$4,O49,\"All\",,,,\"T\")=\"\",\"\",RTD(\"cqg.rtd\",,\"StudyData\", $P$4,  \"Bar\",, \"Close\",$Q$4,O49,\"All\",,,,\"T\")*100)","v":30.75},null,null,null,30.75]
[null,null,-45,{"$f":"IF(RTD(\"cqg.rtd\",,\"StudyData\", $D$4,  \"Bar\",, \"Close\",$E$4,C50,\"All\",,,,\"T\")=\"\",\"\",RTD(\"cqg.rtd\",,\"StudyData\", $D$4,  \"Bar\",, \"Close\",$E$4,C50,\"All\",,,,\"T\")*100)","v":30.049999999999997},null,null,null,30.049999999999997,null,null,null,null,null,null,-45,{"$f":"IF(RTD(\"cqg.rtd\",,\"StudyData\", $P$4,  \"Bar\",, \"Close\",$Q$4,O50,\"All\",,,,\"T\")=\"\",\"\",RTD(\"cqg.rtd\",,\"StudyData\", $P$4,  \"Bar\",, \"Close\",$Q$4,O50,\"All\",,,,\"T\")*100)","v":30.12},null,null,null,30.12]
[null,null,-46,{"$f":"IF(RTD(\"cqg.rtd\",,\"StudyData\", $D$4,  \"Bar\",, \"Close\",$E$4,C51,\"All\",,,,\"T\")=\"\",\"\",RTD(\"cqg.rtd\",,\"StudyData\", $D$4,  \"Bar\",, \"Close\",$E$4,C51,\"All\",,,,\"T\")*100)","v":30.03},null,null,null,30.03,null,null,null,null,null,null,-46,{"$f":"IF(RTD(\"cqg.rtd\",,\"StudyData\", $P$4,  \"Bar\",, \"Close\",$Q$4,O51,\"All\",,,,\"T\")=\"\",\"\",RTD(\"cqg.rtd\",,\"StudyData\", $P$4,  \"Bar\",, \"Close\",$Q$4,O51,\"All\",,,,\"T\")*100)","v":30.570000000000004},null,null,null,30.570000000000004]
[null,null,-47,{"$f":"IF(RTD(\"cqg.rtd\",,\"StudyData\", $D$4,  \"Bar\",, \"Close\",$E$4,C52,\"All\",,,,\"T\")=\"\",\"\",RTD(\"cqg.rtd\",,\"StudyData\", $D$4,  \"Bar\",, \"Close\",$E$4,C52,\"All\",,,,\"T\")*100)","v":29.18},null,null,null,29.18,null,null,null,null,null,null,-47,{"$f":"IF(RTD(\"cqg.rtd\",,\"StudyData\", $P$4,  \"Bar\",, \"Close\",$Q$4,O52,\"All\",,,,\"T\")=\"\",\"\",RTD(\"cqg.rtd\",,\"StudyData\", $P$4,  \"Bar\",, \"Close\",$Q$4,O52,\"All\",,,,\"T\")*100)","v":28.660000000000004},null,null,null,28.660000000000004]
[null,null,-48,{"$f":"IF(RTD(\"cqg.rtd\",,\"StudyData\", $D$4,  \"Bar\",, \"Close\",$E$4,C53,\"All\",,,,\"T\")=\"\",\"\",RTD(\"cqg.rtd\",,\"StudyData\", $D$4,  \"Bar\",, \"Close\",$E$4,C53,\"All\",,,,\"T\")*100)","v":27.700000000000003},null,null,null,27.700000000000003,null,null,null,null,null,null,-48,{"$f":"IF(RTD(\"cqg.rtd\",,\"StudyData\", $P$4,  \"Bar\",, \"Close\",$Q$4,O53,\"All\",,,,\"T\")=\"\",\"\",RTD(\"cqg.rtd\",,\"StudyData\", $P$4,  \"Bar\",, \"Close\",$Q$4,O53,\"All\",,,,\"T\")*100)","v":27.36},null,null,null,27.36]
[null,null,-49,{"$f":"IF(RTD(\"cqg.rtd\",,\"StudyData\", $D$4,  \"Bar\",, \"Close\",$E$4,C54,\"All\",,,,\"T\")=\"\",\"\",RTD(\"cqg.rtd\",,\"StudyData\", $D$4,  \"Bar\",, \"Close\",$E$4,C54,\"All\",,,,\"T\")*100)","v":27.54},null,null,null,27.54,null,null,null,null,null,null,-49,{"$f":"IF(RTD(\"cqg.rtd\",,\"StudyData\", $P$4,  \"Bar\",, \"Close\",$Q$4,O54,\"All\",,,,\"T\")=\"\",\"\",RTD(\"cqg.rtd\",,\"StudyData\", $P$4,  \"Bar\",, \"Close\",$Q$4,O54,\"All\",,,,\"T\")*100)","v":26.77},null,null,null,26.77]
[null,null,-50,{"$f":"IF(RTD(\"cqg.rtd\",,\"StudyData\", $D$4,  \"Bar\",, \"Close\",$E$4,C55,\"All\",,,,\"T\")=\"\",\"\",RTD(\"cqg.rtd\",,\"StudyData\", $D$4,  \"Bar\",, \"Close\",$E$4,C55,\"All\",,,,\"T\")*100)","v":28.67},null,null,null,28.67,null,null,null,null,null,null,-50,{"$f":"IF(RTD(\"cqg.rtd\",,\"StudyData\", $P$4,  \"Bar\",, \"Close\",$Q$4,O55,\"All\",,,,\"T\")=\"\",\"\",RTD(\"cqg.rtd\",,\"StudyData\", $P$4,  \"Bar\",, \"Close\",$Q$4,O55,\"All\",,,,\"T\")*100)","v":28.21},null,null,null,28.21]
[null,null,-51,{"$f":"IF(RTD(\"cqg.rtd\",,\"StudyData\", $D$4,  \"Bar\",, \"Close\",$E$4,C56,\"All\",,,,\"T\")=\"\",\"\",RTD(\"cqg.rtd\",,\"StudyData\", $D$4,  \"Bar\",, \"Close\",$E$4,C56,\"All\",,,,\"T\")*100)","v":29.080000000000002},null,null,null,29.080000000000002,null,null,null,null,null,null,-51,{"$f":"IF(RTD(\"cqg.rtd\",,\"StudyData\", $P$4,  \"Bar\",, \"Close\",$Q$4,O56,\"All\",,,,\"T\")=\"\",\"\",RTD(\"cqg.rtd\",,\"StudyData\", $P$4,  \"Bar\",, \"Close\",$Q$4,O56,\"All\",,,,\"T\")*100)","v":30.04},null,null,null,30.04]
[null,null,-52,{"$f":"IF(RTD(\"cqg.rtd\",,\"StudyData\", $D$4,  \"Bar\",, \"Close\",$E$4,C57,\"All\",,,,\"T\")=\"\",\"\",RTD(\"cqg.rtd\",,\"StudyData\", $D$4,  \"Bar\",, \"Close\",$E$4,C57,\"All\",,,,\"T\")*100)","v":29.09},null,null,null,29.09,null,null,null,null,null,null,-52,{"$f":"IF(RTD(\"cqg.rtd\",,\"StudyData\", $P$4,  \"Bar\",, \"Close\",$Q$4,O57,\"All\",,,,\"T\")=\"\",\"\",RTD(\"cqg.rtd\",,\"StudyData\", $P$4,  \"Bar\",, \"Close\",$Q$4,O57,\"All\",,,,\"T\")*100)","v":30.470000000000002},null,null,null,30.470000000000002]
[null,null,-53,{"$f":"IF(RTD(\"cqg.rtd\",,\"StudyData\", $D$4,  \"Bar\",, \"Close\",$E$4,C58,\"All\",,,,\"T\")=\"\",\"\",RTD(\"cqg.rtd\",,\"StudyData\", $D$4,  \"Bar\",, \"Close\",$E$4,C58,\"All\",,,,\"T\")*100)","v":29.29},null,null,null,29.29,null,null,null,null,null,null,-53,{"$f":"IF(RTD(\"cqg.rtd\",,\"StudyData\", $P$4,  \"Bar\",, \"Close\",$Q$4,O58,\"All\",,,,\"T\")=\"\",\"\",RTD(\"cqg.rtd\",,\"StudyData\", $P$4,  \"Bar\",, \"Close\",$Q$4,O58,\"All\",,,,\"T\")*100)","v":29.74},null,null,null,29.74]
[null,null,-54,{"$f":"IF(RTD(\"cqg.rtd\",,\"StudyData\", $D$4,  \"Bar\",, \"Close\",$E$4,C59,\"All\",,,,\"T\")=\"\",\"\",RTD(\"cqg.rtd\",,\"StudyData\", $D$4,  \"Bar\",, \"Close\",$E$4,C59,\"All\",,,,\"T\")*100)","v":30.009999999999998},null,null,null,30.009999999999998,null,null,null,null,null,null,-54,{"$f":"IF(RTD(\"cqg.rtd\",,\"StudyData\", $P$4,  \"Bar\",, \"Close\",$Q$4,O59,\"All\",,,,\"T\")=\"\",\"\",RTD(\"cqg.rtd\",,\"StudyData\", $P$4,  \"Bar\",, \"Close\",$Q$4,O59,\"All\",,,,\"T\")*100)","v":29.93},null,null,null,29.93]
[null,null,-55,{"$f":"IF(RTD(\"cqg.rtd\",,\"StudyData\", $D$4,  \"Bar\",, \"Close\",$E$4,C60,\"All\",,,,\"T\")=\"\",\"\",RTD(\"cqg.rtd\",,\"StudyData\", $D$4,  \"Bar\",, \"Close\",$E$4,C60,\"All\",,,,\"T\")*100)","v":30.9},null,null,null,30.9,null,null,null,null,null,null,-55,{"$f":"IF(RTD(\"cqg.rtd\",,\"StudyData\", $P$4,  \"Bar\",, \"Close\",$Q$4,O60,\"All\",,,,\"T\")=\"\",\"\",RTD(\"cqg.rtd\",,\"StudyData\", $P$4,  \"Bar\",, \"Close\",$Q$4,O60,\"All\",,,,\"T\")*100)","v":30.78},null,null,null,30.78]
[null,null,-56,{"$f":"IF(RTD(\"cqg.rtd\",,\"StudyData\", $D$4,  \"Bar\",, \"Close\",$E$4,C61,\"All\",,,,\"T\")=\"\",\"\",RTD(\"cqg.rtd\",,\"StudyData\", $D$4,  \"Bar\",, \"Close\",$E$4,C61,\"All\",,,,\"T\")*100)","v":30.490000000000002},null,null,null,30.490000000000002,null,null,null,null,null,null,-56,{"$f":"IF(RTD(\"cqg.rtd\",,\"StudyData\", $P$4,  \"Bar\",, \"Close\",$Q$4,O61,\"All\",,,,\"T\")=\"\",\"\",RTD(\"cqg.rtd\",,\"StudyData\", $P$4,  \"Bar\",, \"Close\",$Q$4,O61,\"All\",,,,\"T\")*100)","v":31.8},null,null,null,31.8]
[null,null,-57,{"$f":"IF(RTD(\"cqg.rtd\",,\"StudyData\", $D$4,  \"Bar\",, \"Close\",$E$4,C62,\"All\",,,,\"T\")=\"\",\"\",RTD(\"cqg.rtd\",,\"StudyData\", $D$4,  \"Bar\",, \"Close\",$E$4,C62,\"All\",,,,\"T\")*100)","v":28.18},null,null,null,28.18,null,null,null,null,null,null,-57,{"$f":"IF(RTD(\"cqg.rtd\",,\"StudyData\", $P$4,  \"Bar\",, \"Close\",$Q$4,O62,\"All\",,,,\"T\")=\"\",\"\",RTD(\"cqg.rtd\",,\"StudyData\", $P$4,  \"Bar\",, \"Close\",$Q$4,O62,\"All\",,,,\"T\")*100)","v":29.57},null,null,null,29.57]
[null,null,-58,{"$f":"IF(RTD(\"cqg.rtd\",,\"StudyData\", $D$4,  \"Bar\",, \"Close\",$E$4,C63,\"All\",,,,\"T\")=\"\",\"\",RTD(\"cqg.rtd\",,\"StudyData\", $D$4,  \"Bar\",, \"Close\",$E$4,C63,\"All\",,,,\"T\")*100)","v":29.630000000000003},null,null,null,29.630000000000003,null,null,null,null,null,null,-58,{"$f":"IF(RTD(\"cqg.rtd\",,\"StudyData\", $P$4,  \"Bar\",, \"Close\",$Q$4,O63,\"All\",,,,\"T\")=\"\",\"\",RTD(\"cqg.rtd\",,\"StudyData\", $P$4,  \"Bar\",, \"Close\",$Q$4,O63,\"All\",,,,\"T\")*100)","v":29.470000000000002},null,null,null,29.470000000000002]
[null,null,-59,{"$f":"IF(RTD(\"cqg.rtd\",,\"StudyData\", $D$4,  \"Bar\",, \"Close\",$E$4,C64,\"All\",,,,\"T\")=\"\",\"\",RTD(\"cqg.rtd\",,\"StudyData\", $D$4,  \"Bar\",, \"Close\",$E$4,C64,\"All\",,,,\"T\")*100)","v":28.21},null,null,null,28.21,null,null,null,null,null,null,-59,{"$f":"IF(RTD(\"cqg.rtd\",,\"StudyData\", $P$4,  \"Bar\",, \"Close\",$Q$4,O64,\"All\",,,,\"T\")=\"\",\"\",RTD(\"cqg.rtd\",,\"StudyData\", $P$4,  \"Bar\",, \"Close\",$Q$4,O64,\"All\",,,,\"T\")*100)","v":30.03},null,null,null,30.03]
[null,null,-60,{"$f":"IF(RTD(\"cqg.rtd\",,\"StudyData\", $D$4,  \"Bar\",, \"Close\",$E$4,C65,\"All\",,,,\"T\")=\"\",\"\",RTD(\"cqg.rtd\",,\"StudyData\", $D$4,  \"Bar\",, \"Close\",$E$4,C65,\"All\",,,,\"T\")*100)","v":28.799999999999997},null,null,null,28.799999999999997,null,null,null,null,null,null,-60,{"$f":"IF(RTD(\"cqg.rtd\",,\"StudyData\", $P$4,  \"Bar\",, \"Close\",$Q$4,O65,\"All\",,,,\"T\")=\"\",\"\",RTD(\"cqg.rtd\",,\"StudyData\", $P$4,  \"Bar\",, \"Close\",$Q$4,O65,\"All\",,,,\"T\")*100)","v":26.77},null,null,null,26.77]
[null,null,-61,{"$f":"IF(RTD(\"cqg.rtd\",,\"StudyData\", $D$4,  \"Bar\",, \"Close\",$E$4,C66,\"All\",,,,\"T\")=\"\",\"\",RTD(\"cqg.rtd\",,\"StudyData\", $D$4,  \"Bar\",, \"Close\",$E$4,C66,\"All\",,,,\"T\")*100)","v":29.67},null,null,null,29.67,null,null,null,null,null,null,-61,{"$f":"IF(RTD(\"cqg.rtd\",,\"StudyData\", $P$4,  \"Bar\",, \"Close\",$Q$4,O66,\"All\",,,,\"T\")=\"\",\"\",RTD(\"cqg.rtd\",,\"StudyData\", $P$4,  \"Bar\",, \"Close\",$Q$4,O66,\"All\",,,,\"T\")*100)","v":27.38},null,null,null,27.38]
[null,null,-62,{"$f":"IF(RTD(\"cqg.rtd\",,\"StudyData\", $D$4,  \"Bar\",, \"Close\",$E$4,C67,\"All\",,,,\"T\")=\"\",\"\",RTD(\"cqg.rtd\",,\"StudyData\", $D$4,  \"Bar\",, \"Close\",$E$4,C67,\"All\",,,,\"T\")*100)","v":27.26},null,null,null,27.26,null,null,null,null,null,null,-62,{"$f":"IF(RTD(\"cqg.rtd\",,\"StudyData\", $P$4,  \"Bar\",, \"Close\",$Q$4,O67,\"All\",,,,\"T\")=\"\",\"\",RTD(\"cqg.rtd\",,\"StudyData\", $P$4,  \"Bar\",, \"Close\",$Q$4,O67,\"All\",,,,\"T\")*100)","v":26.590000000000003},null,null,null,26.590000000000003]
[null,null,-63,{"$f":"IF(RTD(\"cqg.rtd\",,\"StudyData\", $D$4,  \"Bar\",, \"Close\",$E$4,C68,\"All\",,,,\"T\")=\"\",\"\",RTD(\"cqg.rtd\",,\"StudyData\", $D$4,  \"Bar\",, \"Close\",$E$4,C68,\"All\",,,,\"T\")*100)","v":28.249999999999996},null,null,null,28.249999999999996,null,null,null,null,null,null,-63,{"$f":"IF(RTD(\"cqg.rtd\",,\"StudyData\", $P$4,  \"Bar\",, \"Close\",$Q$4,O68,\"All\",,,,\"T\")=\"\",\"\",RTD(\"cqg.rtd\",,\"StudyData\", $P$4,  \"Bar\",, \"Close\",$Q$4,O68,\"All\",,,,\"T\")*100)","v":26.99},null,null,null,26.99]
[null,null,-64,{"$f":"IF(RTD(\"cqg.rtd\",,\"StudyData\", $D$4,  \"Bar\",, \"Close\",$E$4,C69,\"All\",,,,\"T\")=\"\",\"\",RTD(\"cqg.rtd\",,\"StudyData\", $D$4,  \"Bar\",, \"Close\",$E$4,C69,\"All\",,,,\"T\")*100)","v":30.75},null,null,null,30.75,null,null,null,null,null,null,-64,{"$f":"IF(RTD(\"cqg.rtd\",,\"StudyData\", $P$4,  \"Bar\",, \"Close\",$Q$4,O69,\"All\",,,,\"T\")=\"\",\"\",RTD(\"cqg.rtd\",,\"StudyData\", $P$4,  \"Bar\",, \"Close\",$Q$4,O69,\"All\",,,,\"T\")*100)","v":26.91},null,null,null,26.91]
[null,null,-65,{"$f":"IF(RTD(\"cqg.rtd\",,\"StudyData\", $D$4,  \"Bar\",, \"Close\",$E$4,C70,\"All\",,,,\"T\")=\"\",\"\",RTD(\"cqg.rtd\",,\"StudyData\", $D$4,  \"Bar\",, \"Close\",$E$4,C70,\"All\",,,,\"T\")*100)","v":28.849999999999998},null,null,null,{"$f":"D70","v":28.849999999999998},null,null,null,null,null,null,-65,{"$f":"IF(RTD(\"cqg.rtd\",,\"StudyData\", $P$4,  \"Bar\",, \"Close\",$Q$4,O70,\"All\",,,,\"T\")=\"\",\"\",RTD(\"cqg.rtd\",,\"StudyData\", $P$4,  \"Bar\",, \"Close\",$Q$4,O70,\"All\",,,,\"T\")*100)","v":27.889999999999997},null,null,null,{"$f":"P70","v":27.889999999999997}]
[null,null,{"$f":"C70-1","v":-66},{"$f":"IF(RTD(\"cqg.rtd\",,\"StudyData\", $D$4,  \"Bar\",, \"Close\",$E$4,C71,\"All\",,,,\"T\")=\"\",\"\",RTD(\"cqg.rtd\",,\"StudyData\", $D$4,  \"Bar\",, \"Close\",$E$4,C71,\"All\",,,,\"T\")*100)","v":28.87},null,null,null,28.87,null,null,null,null,null,null,{"$f":"O70-1","v":-66},{"$f":"IF(RTD(\"cqg.rtd\",,\"StudyData\", $P$4,  \"Bar\",, \"Close\",$Q$4,O71,\"All\",,,,\"T\")=\"\",\"\",RTD(\"cqg.rtd\",,\"StudyData\", $P$4,  \"Bar\",, \"Close\",$Q$4,O71,\"All\",,,,\"T\")*100)","v":28.65},null,null,null,28.65]
[null,null,-67,{"$f":"IF(RTD(\"cqg.rtd\",,\"StudyData\", $D$4,  \"Bar\",, \"Close\",$E$4,C72,\"All\",,,,\"T\")=\"\",\"\",RTD(\"cqg.rtd\",,\"StudyData\", $D$4,  \"Bar\",, \"Close\",$E$4,C72,\"All\",,,,\"T\")*100)","v":29.7},null,null,null,29.7,null,null,null,null,null,null,-67,{"$f":"IF(RTD(\"cqg.rtd\",,\"StudyData\", $P$4,  \"Bar\",, \"Close\",$Q$4,O72,\"All\",,,,\"T\")=\"\",\"\",RTD(\"cqg.rtd\",,\"StudyData\", $P$4,  \"Bar\",, \"Close\",$Q$4,O72,\"All\",,,,\"T\")*100)","v":28.610000000000003},null,null,null,28.610000000000003]
[null,null,-68,{"$f":"IF(RTD(\"cqg.rtd\",,\"StudyData\", $D$4,  \"Bar\",, \"Close\",$E$4,C73,\"All\",,,,\"T\")=\"\",\"\",RTD(\"cqg.rtd\",,\"StudyData\", $D$4,  \"Bar\",, \"Close\",$E$4,C73,\"All\",,,,\"T\")*100)","v":30.570000000000004},{"$f":" RTD(\"cqg.rtd\",,\"StudyData\", $D$4,  \"Bar\",, \"Time\",$E$4,C73,,,,,\"T\")","v":"2017-05-19"},null,null,30.570000000000004,null,null,null,null,null,null,-68,{"$f":"IF(RTD(\"cqg.rtd\",,\"StudyData\", $P$4,  \"Bar\",, \"Close\",$Q$4,O73,\"All\",,,,\"T\")=\"\",\"\",RTD(\"cqg.rtd\",,\"StudyData\", $P$4,  \"Bar\",, \"Close\",$Q$4,O73,\"All\",,,,\"T\")*100)","v":30.8},{"$f":" RTD(\"cqg.rtd\",,\"StudyData\", $D$4,  \"Bar\",, \"Time\",$E$4,O73,,,,,\"T\")","v":"2017-05-19"},null,null,30.8]
[null,null,-69,{"$f":"IF(RTD(\"cqg.rtd\",,\"StudyData\", $D$4,  \"Bar\",, \"Close\",$E$4,C74,\"All\",,,,\"T\")=\"\",\"\",RTD(\"cqg.rtd\",,\"StudyData\", $D$4,  \"Bar\",, \"Close\",$E$4,C74,\"All\",,,,\"T\")*100)","v":31.8},null,null,null,31.8,null,null,null,null,null,null,-69,{"$f":"IF(RTD(\"cqg.rtd\",,\"StudyData\", $P$4,  \"Bar\",, \"Close\",$Q$4,O74,\"All\",,,,\"T\")=\"\",\"\",RTD(\"cqg.rtd\",,\"StudyData\", $P$4,  \"Bar\",, \"Close\",$Q$4,O74,\"All\",,,,\"T\")*100)","v":30.56},null,null,null,30.56]
[null,null,-70,{"$f":"IF(RTD(\"cqg.rtd\",,\"StudyData\", $D$4,  \"Bar\",, \"Close\",$E$4,C75,\"All\",,,,\"T\")=\"\",\"\",RTD(\"cqg.rtd\",,\"StudyData\", $D$4,  \"Bar\",, \"Close\",$E$4,C75,\"All\",,,,\"T\")*100)","v":31.69},null,null,null,31.69,null,null,null,null,null,null,-70,{"$f":"IF(RTD(\"cqg.rtd\",,\"StudyData\", $P$4,  \"Bar\",, \"Close\",$Q$4,O75,\"All\",,,,\"T\")=\"\",\"\",RTD(\"cqg.rtd\",,\"StudyData\", $P$4,  \"Bar\",, \"Close\",$Q$4,O75,\"All\",,,,\"T\")*100)","v":31.14},null,null,null,31.14]
[null,null,-71,{"$f":"IF(RTD(\"cqg.rtd\",,\"StudyData\", $D$4,  \"Bar\",, \"Close\",$E$4,C76,\"All\",,,,\"T\")=\"\",\"\",RTD(\"cqg.rtd\",,\"StudyData\", $D$4,  \"Bar\",, \"Close\",$E$4,C76,\"All\",,,,\"T\")*100)","v":31.06},null,null,null,31.06,null,null,null,null,null,null,-71,{"$f":"IF(RTD(\"cqg.rtd\",,\"StudyData\", $P$4,  \"Bar\",, \"Close\",$Q$4,O76,\"All\",,,,\"T\")=\"\",\"\",RTD(\"cqg.rtd\",,\"StudyData\", $P$4,  \"Bar\",, \"Close\",$Q$4,O76,\"All\",,,,\"T\")*100)","v":30.75},null,null,null,30.75]
[null,null,-72,{"$f":"IF(RTD(\"cqg.rtd\",,\"StudyData\", $D$4,  \"Bar\",, \"Close\",$E$4,C77,\"All\",,,,\"T\")=\"\",\"\",RTD(\"cqg.rtd\",,\"StudyData\", $D$4,  \"Bar\",, \"Close\",$E$4,C77,\"All\",,,,\"T\")*100)","v":30.85},null,null,null,30.85,null,null,null,null,null,null,-72,{"$f":"IF(RTD(\"cqg.rtd\",,\"StudyData\", $P$4,  \"Bar\",, \"Close\",$Q$4,O77,\"All\",,,,\"T\")=\"\",\"\",RTD(\"cqg.rtd\",,\"StudyData\", $P$4,  \"Bar\",, \"Close\",$Q$4,O77,\"All\",,,,\"T\")*100)","v":30.509999999999998},null,null,null,30.509999999999998]
[null,null,-73,{"$f":"IF(RTD(\"cqg.rtd\",,\"StudyData\", $D$4,  \"Bar\",, \"Close\",$E$4,C78,\"All\",,,,\"T\")=\"\",\"\",RTD(\"cqg.rtd\",,\"StudyData\", $D$4,  \"Bar\",, \"Close\",$E$4,C78,\"All\",,,,\"T\")*100)","v":31.019999999999996},null,null,null,31.019999999999996,null,null,null,null,null,null,-73,{"$f":"IF(RTD(\"cqg.rtd\",,\"StudyData\", $P$4,  \"Bar\",, \"Close\",$Q$4,O78,\"All\",,,,\"T\")=\"\",\"\",RTD(\"cqg.rtd\",,\"StudyData\", $P$4,  \"Bar\",, \"Close\",$Q$4,O78,\"All\",,,,\"T\")*100)","v":31.64},null,null,null,31.64]
[null,null,-74,{"$f":"IF(RTD(\"cqg.rtd\",,\"StudyData\", $D$4,  \"Bar\",, \"Close\",$E$4,C79,\"All\",,,,\"T\")=\"\",\"\",RTD(\"cqg.rtd\",,\"StudyData\", $D$4,  \"Bar\",, \"Close\",$E$4,C79,\"All\",,,,\"T\")*100)","v":31.89},null,null,null,31.89,null,null,null,null,null,null,-74,{"$f":"IF(RTD(\"cqg.rtd\",,\"StudyData\", $P$4,  \"Bar\",, \"Close\",$Q$4,O79,\"All\",,,,\"T\")=\"\",\"\",RTD(\"cqg.rtd\",,\"StudyData\", $P$4,  \"Bar\",, \"Close\",$Q$4,O79,\"All\",,,,\"T\")*100)","v":30.490000000000002},null,null,null,30.490000000000002]
[null,null,-75,{"$f":"IF(RTD(\"cqg.rtd\",,\"StudyData\", $D$4,  \"Bar\",, \"Close\",$E$4,C80,\"All\",,,,\"T\")=\"\",\"\",RTD(\"cqg.rtd\",,\"StudyData\", $D$4,  \"Bar\",, \"Close\",$E$4,C80,\"All\",,,,\"T\")*100)","v":31.009999999999998},null,null,null,31.009999999999998,null,null,null,null,null,null,-75,{"$f":"IF(RTD(\"cqg.rtd\",,\"StudyData\", $P$4,  \"Bar\",, \"Close\",$Q$4,O80,\"All\",,,,\"T\")=\"\",\"\",RTD(\"cqg.rtd\",,\"StudyData\", $P$4,  \"Bar\",, \"Close\",$Q$4,O80,\"All\",,,,\"T\")*100)","v":31.879999999999995},null,null,null,31.879999999999995]
[null,null,-76,{"$f":"IF(RTD(\"cqg.rtd\",,\"StudyData\", $D$4,  \"Bar\",, \"Close\",$E$4,C81,\"All\",,,,\"T\")=\"\",\"\",RTD(\"cqg.rtd\",,\"StudyData\", $D$4,  \"Bar\",, \"Close\",$E$4,C81,\"All\",,,,\"T\")*100)","v":30.39},null,null,null,30.39,null,null,null,null,null,null,-76,{"$f":"IF(RTD(\"cqg.rtd\",,\"StudyData\", $P$4,  \"Bar\",, \"Close\",$Q$4,O81,\"All\",,,,\"T\")=\"\",\"\",RTD(\"cqg.rtd\",,\"StudyData\", $P$4,  \"Bar\",, \"Close\",$Q$4,O81,\"All\",,,,\"T\")*100)","v":33.07},null,null,null,33.07]
[null,null,-77,{"$f":"IF(RTD(\"cqg.rtd\",,\"StudyData\", $D$4,  \"Bar\",, \"Close\",$E$4,C82,\"All\",,,,\"T\")=\"\",\"\",RTD(\"cqg.rtd\",,\"StudyData\", $D$4,  \"Bar\",, \"Close\",$E$4,C82,\"All\",,,,\"T\")*100)","v":31.290000000000003},null,null,null,31.290000000000003,null,null,null,null,null,null,-77,{"$f":"IF(RTD(\"cqg.rtd\",,\"StudyData\", $P$4,  \"Bar\",, \"Close\",$Q$4,O82,\"All\",,,,\"T\")=\"\",\"\",RTD(\"cqg.rtd\",,\"StudyData\", $P$4,  \"Bar\",, \"Close\",$Q$4,O82,\"All\",,,,\"T\")*100)","v":30.89},null,null,null,30.89]
[null,null,-78,{"$f":"IF(RTD(\"cqg.rtd\",,\"StudyData\", $D$4,  \"Bar\",, \"Close\",$E$4,C83,\"All\",,,,\"T\")=\"\",\"\",RTD(\"cqg.rtd\",,\"StudyData\", $D$4,  \"Bar\",, \"Close\",$E$4,C83,\"All\",,,,\"T\")*100)","v":30.28},null,null,null,30.28,null,null,null,null,null,null,-78,{"$f":"IF(RTD(\"cqg.rtd\",,\"StudyData\", $P$4,  \"Bar\",, \"Close\",$Q$4,O83,\"All\",,,,\"T\")=\"\",\"\",RTD(\"cqg.rtd\",,\"StudyData\", $P$4,  \"Bar\",, \"Close\",$Q$4,O83,\"All\",,,,\"T\")*100)","v":32.479999999999997},null,null,null,32.479999999999997]
[null,null,-79,{"$f":"IF(RTD(\"cqg.rtd\",,\"StudyData\", $D$4,  \"Bar\",, \"Close\",$E$4,C84,\"All\",,,,\"T\")=\"\",\"\",RTD(\"cqg.rtd\",,\"StudyData\", $D$4,  \"Bar\",, \"Close\",$E$4,C84,\"All\",,,,\"T\")*100)","v":31.819999999999997},null,null,null,31.819999999999997,null,null,null,null,null,null,-79,{"$f":"IF(RTD(\"cqg.rtd\",,\"StudyData\", $P$4,  \"Bar\",, \"Close\",$Q$4,O84,\"All\",,,,\"T\")=\"\",\"\",RTD(\"cqg.rtd\",,\"StudyData\", $P$4,  \"Bar\",, \"Close\",$Q$4,O84,\"All\",,,,\"T\")*100)","v":31.04},null,null,null,31.04]
[null,null,-80,{"$f":"IF(RTD(\"cqg.rtd\",,\"StudyData\", $D$4,  \"Bar\",, \"Close\",$E$4,C85,\"All\",,,,\"T\")=\"\",\"\",RTD(\"cqg.rtd\",,\"StudyData\", $D$4,  \"Bar\",, \"Close\",$E$4,C85,\"All\",,,,\"T\")*100)","v":29.67},null,null,null,29.67,null,null,null,null,null,null,-80,{"$f":"IF(RTD(\"cqg.rtd\",,\"StudyData\", $P$4,  \"Bar\",, \"Close\",$Q$4,O85,\"All\",,,,\"T\")=\"\",\"\",RTD(\"cqg.rtd\",,\"StudyData\", $P$4,  \"Bar\",, \"Close\",$Q$4,O85,\"All\",,,,\"T\")*100)","v":28.499999999999996},null,null,null,28.499999999999996]
[null,null,-81,{"$f":"IF(RTD(\"cqg.rtd\",,\"StudyData\", $D$4,  \"Bar\",, \"Close\",$E$4,C86,\"All\",,,,\"T\")=\"\",\"\",RTD(\"cqg.rtd\",,\"StudyData\", $D$4,  \"Bar\",, \"Close\",$E$4,C86,\"All\",,,,\"T\")*100)","v":29.330000000000002},null,null,null,29.330000000000002,null,null,null,null,null,null,-81,{"$f":"IF(RTD(\"cqg.rtd\",,\"StudyData\", $P$4,  \"Bar\",, \"Close\",$Q$4,O86,\"All\",,,,\"T\")=\"\",\"\",RTD(\"cqg.rtd\",,\"StudyData\", $P$4,  \"Bar\",, \"Close\",$Q$4,O86,\"All\",,,,\"T\")*100)","v":29.38},null,null,null,29.38]
[null,null,-82,{"$f":"IF(RTD(\"cqg.rtd\",,\"StudyData\", $D$4,  \"Bar\",, \"Close\",$E$4,C87,\"All\",,,,\"T\")=\"\",\"\",RTD(\"cqg.rtd\",,\"StudyData\", $D$4,  \"Bar\",, \"Close\",$E$4,C87,\"All\",,,,\"T\")*100)","v":28.71},null,null,null,28.71,null,null,null,null,null,null,-82,{"$f":"IF(RTD(\"cqg.rtd\",,\"StudyData\", $P$4,  \"Bar\",, \"Close\",$Q$4,O87,\"All\",,,,\"T\")=\"\",\"\",RTD(\"cqg.rtd\",,\"StudyData\", $P$4,  \"Bar\",, \"Close\",$Q$4,O87,\"All\",,,,\"T\")*100)","v":26.69},null,null,null,26.69]
[null,null,-83,{"$f":"IF(RTD(\"cqg.rtd\",,\"StudyData\", $D$4,  \"Bar\",, \"Close\",$E$4,C88,\"All\",,,,\"T\")=\"\",\"\",RTD(\"cqg.rtd\",,\"StudyData\", $D$4,  \"Bar\",, \"Close\",$E$4,C88,\"All\",,,,\"T\")*100)","v":28.89},null,null,null,28.89,null,null,null,null,null,null,-83,{"$f":"IF(RTD(\"cqg.rtd\",,\"StudyData\", $P$4,  \"Bar\",, \"Close\",$Q$4,O88,\"All\",,,,\"T\")=\"\",\"\",RTD(\"cqg.rtd\",,\"StudyData\", $P$4,  \"Bar\",, \"Close\",$Q$4,O88,\"All\",,,,\"T\")*100)","v":25.569999999999997},null,null,null,25.569999999999997]
[null,null,-84,{"$f":"IF(RTD(\"cqg.rtd\",,\"StudyData\", $D$4,  \"Bar\",, \"Close\",$E$4,C89,\"All\",,,,\"T\")=\"\",\"\",RTD(\"cqg.rtd\",,\"StudyData\", $D$4,  \"Bar\",, \"Close\",$E$4,C89,\"All\",,,,\"T\")*100)","v":26.229999999999997},null,null,null,26.229999999999997,null,null,null,null,null,null,-84,{"$f":"IF(RTD(\"cqg.rtd\",,\"StudyData\", $P$4,  \"Bar\",, \"Close\",$Q$4,O89,\"All\",,,,\"T\")=\"\",\"\",RTD(\"cqg.rtd\",,\"StudyData\", $P$4,  \"Bar\",, \"Close\",$Q$4,O89,\"All\",,,,\"T\")*100)","v":30.659999999999997},null,null,null,30.659999999999997]
[null,null,-85,{"$f":"IF(RTD(\"cqg.rtd\",,\"StudyData\", $D$4,  \"Bar\",, \"Close\",$E$4,C90,\"All\",,,,\"T\")=\"\",\"\",RTD(\"cqg.rtd\",,\"StudyData\", $D$4,  \"Bar\",, \"Close\",$E$4,C90,\"All\",,,,\"T\")*100)","v":30.75},null,null,null,30.75,null,null,null,null,null,null,-85,{"$f":"IF(RTD(\"cqg.rtd\",,\"StudyData\", $P$4,  \"Bar\",, \"Close\",$Q$4,O90,\"All\",,,,\"T\")=\"\",\"\",RTD(\"cqg.rtd\",,\"StudyData\", $P$4,  \"Bar\",, \"Close\",$Q$4,O90,\"All\",,,,\"T\")*100)","v":25.619999999999997},null,null,null,25.619999999999997]
[null,null,-86,{"$f":"IF(RTD(\"cqg.rtd\",,\"StudyData\", $D$4,  \"Bar\",, \"Close\",$E$4,C91,\"All\",,,,\"T\")=\"\",\"\",RTD(\"cqg.rtd\",,\"StudyData\", $D$4,  \"Bar\",, \"Close\",$E$4,C91,\"All\",,,,\"T\")*100)","v":27.05},null,null,null,27.05,null,null,null,null,null,null,-86,{"$f":"IF(RTD(\"cqg.rtd\",,\"StudyData\", $P$4,  \"Bar\",, \"Close\",$Q$4,O91,\"All\",,,,\"T\")=\"\",\"\",RTD(\"cqg.rtd\",,\"StudyData\", $P$4,  \"Bar\",, \"Close\",$Q$4,O91,\"All\",,,,\"T\")*100)","v":30.470000000000002},null,null,null,30.470000000000002]
[null,null,-87,{"$f":"IF(RTD(\"cqg.rtd\",,\"StudyData\", $D$4,  \"Bar\",, \"Close\",$E$4,C92,\"All\",,,,\"T\")=\"\",\"\",RTD(\"cqg.rtd\",,\"StudyData\", $D$4,  \"Bar\",, \"Close\",$E$4,C92,\"All\",,,,\"T\")*100)","v":30.240000000000002},null,null,null,30.240000000000002,null,null,null,null,null,null,-87,{"$f":"IF(RTD(\"cqg.rtd\",,\"StudyData\", $P$4,  \"Bar\",, \"Close\",$Q$4,O92,\"All\",,,,\"T\")=\"\",\"\",RTD(\"cqg.rtd\",,\"StudyData\", $P$4,  \"Bar\",, \"Close\",$Q$4,O92,\"All\",,,,\"T\")*100)","v":29.67},null,null,null,29.67]
[null,null,-88,{"$f":"IF(RTD(\"cqg.rtd\",,\"StudyData\", $D$4,  \"Bar\",, \"Close\",$E$4,C93,\"All\",,,,\"T\")=\"\",\"\",RTD(\"cqg.rtd\",,\"StudyData\", $D$4,  \"Bar\",, \"Close\",$E$4,C93,\"All\",,,,\"T\")*100)","v":29.509999999999998},null,null,null,29.509999999999998,null,null,null,null,null,null,-88,{"$f":"IF(RTD(\"cqg.rtd\",,\"StudyData\", $P$4,  \"Bar\",, \"Close\",$Q$4,O93,\"All\",,,,\"T\")=\"\",\"\",RTD(\"cqg.rtd\",,\"StudyData\", $P$4,  \"Bar\",, \"Close\",$Q$4,O93,\"All\",,,,\"T\")*100)","v":28.68},null,null,null,28.68]
[null,null,-89,{"$f":"IF(RTD(\"cqg.rtd\",,\"StudyData\", $D$4,  \"Bar\",, \"Close\",$E$4,C94,\"All\",,,,\"T\")=\"\",\"\",RTD(\"cqg.rtd\",,\"StudyData\", $D$4,  \"Bar\",, \"Close\",$E$4,C94,\"All\",,,,\"T\")*100)","v":28.37},null,null,null,28.37,null,null,null,null,null,null,-89,{"$f":"IF(RTD(\"cqg.rtd\",,\"StudyData\", $P$4,  \"Bar\",, \"Close\",$Q$4,O94,\"All\",,,,\"T\")=\"\",\"\",RTD(\"cqg.rtd\",,\"StudyData\", $P$4,  \"Bar\",, \"Close\",$Q$4,O94,\"All\",,,,\"T\")*100)","v":26.8},null,null,null,26.8]
[null,null,-90,{"$f":"IF(RTD(\"cqg.rtd\",,\"StudyData\", $D$4,  \"Bar\",, \"Close\",$E$4,C95,\"All\",,,,\"T\")=\"\",\"\",RTD(\"cqg.rtd\",,\"StudyData\", $D$4,  \"Bar\",, \"Close\",$E$4,C95,\"All\",,,,\"T\")*100)","v":28.4},null,null,null,28.4,null,null,null,null,null,null,-90,{"$f":"IF(RTD(\"cqg.rtd\",,\"StudyData\", $P$4,  \"Bar\",, \"Close\",$Q$4,O95,\"All\",,,,\"T\")=\"\",\"\",RTD(\"cqg.rtd\",,\"StudyData\", $P$4,  \"Bar\",, \"Close\",$Q$4,O95,\"All\",,,,\"T\")*100)","v":27.18},null,null,null,27.18]
[null,null,-91,{"$f":"IF(RTD(\"cqg.rtd\",,\"StudyData\", $D$4,  \"Bar\",, \"Close\",$E$4,C96,\"All\",,,,\"T\")=\"\",\"\",RTD(\"cqg.rtd\",,\"StudyData\", $D$4,  \"Bar\",, \"Close\",$E$4,C96,\"All\",,,,\"T\")*100)","v":24.65},null,null,null,24.65,null,null,null,null,null,null,-91,{"$f":"IF(RTD(\"cqg.rtd\",,\"StudyData\", $P$4,  \"Bar\",, \"Close\",$Q$4,O96,\"All\",,,,\"T\")=\"\",\"\",RTD(\"cqg.rtd\",,\"StudyData\", $P$4,  \"Bar\",, \"Close\",$Q$4,O96,\"All\",,,,\"T\")*100)","v":27.76},null,null,null,27.76]
[null,null,-92,{"$f":"IF(RTD(\"cqg.rtd\",,\"StudyData\", $D$4,  \"Bar\",, \"Close\",$E$4,C97,\"All\",,,,\"T\")=\"\",\"\",RTD(\"cqg.rtd\",,\"StudyData\", $D$4,  \"Bar\",, \"Close\",$E$4,C97,\"All\",,,,\"T\")*100)","v":26},null,null,null,26,null,null,null,null,null,null,-92,{"$f":"IF(RTD(\"cqg.rtd\",,\"StudyData\", $P$4,  \"Bar\",, \"Close\",$Q$4,O97,\"All\",,,,\"T\")=\"\",\"\",RTD(\"cqg.rtd\",,\"StudyData\", $P$4,  \"Bar\",, \"Close\",$Q$4,O97,\"All\",,,,\"T\")*100)","v":25.35},null,null,null,25.35]
[null,null,-93,{"$f":"IF(RTD(\"cqg.rtd\",,\"StudyData\", $D$4,  \"Bar\",, \"Close\",$E$4,C98,\"All\",,,,\"T\")=\"\",\"\",RTD(\"cqg.rtd\",,\"StudyData\", $D$4,  \"Bar\",, \"Close\",$E$4,C98,\"All\",,,,\"T\")*100)","v":26.740000000000002},null,null,null,26.740000000000002,null,null,null,null,null,null,-93,{"$f":"IF(RTD(\"cqg.rtd\",,\"StudyData\", $P$4,  \"Bar\",, \"Close\",$Q$4,O98,\"All\",,,,\"T\")=\"\",\"\",RTD(\"cqg.rtd\",,\"StudyData\", $P$4,  \"Bar\",, \"Close\",$Q$4,O98,\"All\",,,,\"T\")*100)","v":24.240000000000002},null,null,null,24.240000000000002]
[null,null,-94,{"$f":"IF(RTD(\"cqg.rtd\",,\"StudyData\", $D$4,  \"Bar\",, \"Close\",$E$4,C99,\"All\",,,,\"T\")=\"\",\"\",RTD(\"cqg.rtd\",,\"StudyData\", $D$4,  \"Bar\",, \"Close\",$E$4,C99,\"All\",,,,\"T\")*100)","v":27.11},null,null,null,27.11,null,null,null,null,null,null,-94,{"$f":"IF(RTD(\"cqg.rtd\",,\"StudyData\", $P$4,  \"Bar\",, \"Close\",$Q$4,O99,\"All\",,,,\"T\")=\"\",\"\",RTD(\"cqg.rtd\",,\"StudyData\", $P$4,  \"Bar\",, \"Close\",$Q$4,O99,\"All\",,,,\"T\")*100)","v":24.13},null,null,null,24.13]
[null,null,-95,{"$f":"IF(RTD(\"cqg.rtd\",,\"StudyData\", $D$4,  \"Bar\",, \"Close\",$E$4,C100,\"All\",,,,\"T\")=\"\",\"\",RTD(\"cqg.rtd\",,\"StudyData\", $D$4,  \"Bar\",, \"Close\",$E$4,C100,\"All\",,,,\"T\")*100)","v":28.33},null,null,null,28.33,null,null,null,null,null,null,-95,{"$f":"IF(RTD(\"cqg.rtd\",,\"StudyData\", $P$4,  \"Bar\",, \"Close\",$Q$4,O100,\"All\",,,,\"T\")=\"\",\"\",RTD(\"cqg.rtd\",,\"StudyData\", $P$4,  \"Bar\",, \"Close\",$Q$4,O100,\"All\",,,,\"T\")*100)","v":24.490000000000002},null,null,null,24.490000000000002]
[null,null,-96,{"$f":"IF(RTD(\"cqg.rtd\",,\"StudyData\", $D$4,  \"Bar\",, \"Close\",$E$4,C101,\"All\",,,,\"T\")=\"\",\"\",RTD(\"cqg.rtd\",,\"StudyData\", $D$4,  \"Bar\",, \"Close\",$E$4,C101,\"All\",,,,\"T\")*100)","v":27.38},null,null,null,27.38,null,null,null,null,null,null,-96,{"$f":"IF(RTD(\"cqg.rtd\",,\"StudyData\", $P$4,  \"Bar\",, \"Close\",$Q$4,O101,\"All\",,,,\"T\")=\"\",\"\",RTD(\"cqg.rtd\",,\"StudyData\", $P$4,  \"Bar\",, \"Close\",$Q$4,O101,\"All\",,,,\"T\")*100)","v":25.679999999999996},null,null,null,25.679999999999996]
[null,null,-97,{"$f":"IF(RTD(\"cqg.rtd\",,\"StudyData\", $D$4,  \"Bar\",, \"Close\",$E$4,C102,\"All\",,,,\"T\")=\"\",\"\",RTD(\"cqg.rtd\",,\"StudyData\", $D$4,  \"Bar\",, \"Close\",$E$4,C102,\"All\",,,,\"T\")*100)","v":28.389999999999997},null,null,null,28.389999999999997,null,null,null,null,null,null,-97,{"$f":"IF(RTD(\"cqg.rtd\",,\"StudyData\", $P$4,  \"Bar\",, \"Close\",$Q$4,O102,\"All\",,,,\"T\")=\"\",\"\",RTD(\"cqg.rtd\",,\"StudyData\", $P$4,  \"Bar\",, \"Close\",$Q$4,O102,\"All\",,,,\"T\")*100)","v":27.16},null,null,null,27.16]
[null,null,-98,{"$f":"IF(RTD(\"cqg.rtd\",,\"StudyData\", $D$4,  \"Bar\",, \"Close\",$E$4,C103,\"All\",,,,\"T\")=\"\",\"\",RTD(\"cqg.rtd\",,\"StudyData\", $D$4,  \"Bar\",, \"Close\",$E$4,C103,\"All\",,,,\"T\")*100)","v":27.750000000000004},null,null,null,27.750000000000004,null,null,null,null,null,null,-98,{"$f":"IF(RTD(\"cqg.rtd\",,\"StudyData\", $P$4,  \"Bar\",, \"Close\",$Q$4,O103,\"All\",,,,\"T\")=\"\",\"\",RTD(\"cqg.rtd\",,\"StudyData\", $P$4,  \"Bar\",, \"Close\",$Q$4,O103,\"All\",,,,\"T\")*100)","v":26.200000000000003},null,null,null,26.200000000000003]
[null,null,-99,{"$f":"IF(RTD(\"cqg.rtd\",,\"StudyData\", $D$4,  \"Bar\",, \"Close\",$E$4,C104,\"All\",,,,\"T\")=\"\",\"\",RTD(\"cqg.rtd\",,\"StudyData\", $D$4,  \"Bar\",, \"Close\",$E$4,C104,\"All\",,,,\"T\")*100)","v":29.38},{"$f":" RTD(\"cqg.rtd\",,\"StudyData\", $D$4,  \"Bar\",, \"Time\",$E$4,C104,,,,,\"T\")","v":"2017-04-05"},null,null,29.38,null,null,null,null,null,null,-99,{"$f":"IF(RTD(\"cqg.rtd\",,\"StudyData\", $P$4,  \"Bar\",, \"Close\",$Q$4,O104,\"All\",,,,\"T\")=\"\",\"\",RTD(\"cqg.rtd\",,\"StudyData\", $P$4,  \"Bar\",, \"Close\",$Q$4,O104,\"All\",,,,\"T\")*100)","v":25.05},{"$f":" RTD(\"cqg.rtd\",,\"StudyData\", $D$4,  \"Bar\",, \"Time\",$E$4,O104,,,,,\"T\")","v":"2017-04-05"},null,null,25.05]
[null,null,-100,{"$f":"IF(RTD(\"cqg.rtd\",,\"StudyData\", $D$4,  \"Bar\",, \"Close\",$E$4,C105,\"All\",,,,\"T\")=\"\",\"\",RTD(\"cqg.rtd\",,\"StudyData\", $D$4,  \"Bar\",, \"Close\",$E$4,C105,\"All\",,,,\"T\")*100)","v":27.99},null,null,null,27.99,null,null,null,null,null,null,-100,{"$f":"IF(RTD(\"cqg.rtd\",,\"StudyData\", $P$4,  \"Bar\",, \"Close\",$Q$4,O105,\"All\",,,,\"T\")=\"\",\"\",RTD(\"cqg.rtd\",,\"StudyData\", $P$4,  \"Bar\",, \"Close\",$Q$4,O105,\"All\",,,,\"T\")*100)","v":27.46},null,null,null,27.46]
[null,null,-101,{"$f":"IF(RTD(\"cqg.rtd\",,\"StudyData\", $D$4,  \"Bar\",, \"Close\",$E$4,C106,\"All\",,,,\"T\")=\"\",\"\",RTD(\"cqg.rtd\",,\"StudyData\", $D$4,  \"Bar\",, \"Close\",$E$4,C106,\"All\",,,,\"T\")*100)","v":25.869999999999997},null,null,null,25.869999999999997,null,null,null,null,null,null,-101,{"$f":"IF(RTD(\"cqg.rtd\",,\"StudyData\", $P$4,  \"Bar\",, \"Close\",$Q$4,O106,\"All\",,,,\"T\")=\"\",\"\",RTD(\"cqg.rtd\",,\"StudyData\", $P$4,  \"Bar\",, \"Close\",$Q$4,O106,\"All\",,,,\"T\")*100)","v":28.199999999999996},null,null,null,28.199999999999996]
[null,null,-102,{"$f":"IF(RTD(\"cqg.rtd\",,\"StudyData\", $D$4,  \"Bar\",, \"Close\",$E$4,C107,\"All\",,,,\"T\")=\"\",\"\",RTD(\"cqg.rtd\",,\"StudyData\", $D$4,  \"Bar\",, \"Close\",$E$4,C107,\"All\",,,,\"T\")*100)","v":27.05},null,null,null,27.05,null,null,null,null,null,null,-102,{"$f":"IF(RTD(\"cqg.rtd\",,\"StudyData\", $P$4,  \"Bar\",, \"Close\",$Q$4,O107,\"All\",,,,\"T\")=\"\",\"\",RTD(\"cqg.rtd\",,\"StudyData\", $P$4,  \"Bar\",, \"Close\",$Q$4,O107,\"All\",,,,\"T\")*100)","v":28.23},null,null,null,28.23]
[null,null,-103,{"$f":"IF(RTD(\"cqg.rtd\",,\"StudyData\", $D$4,  \"Bar\",, \"Close\",$E$4,C108,\"All\",,,,\"T\")=\"\",\"\",RTD(\"cqg.rtd\",,\"StudyData\", $D$4,  \"Bar\",, \"Close\",$E$4,C108,\"All\",,,,\"T\")*100)","v":28.71},null,null,null,28.71,null,null,null,null,null,null,-103,{"$f":"IF(RTD(\"cqg.rtd\",,\"StudyData\", $P$4,  \"Bar\",, \"Close\",$Q$4,O108,\"All\",,,,\"T\")=\"\",\"\",RTD(\"cqg.rtd\",,\"StudyData\", $P$4,  \"Bar\",, \"Close\",$Q$4,O108,\"All\",,,,\"T\")*100)","v":27.04},null,null,null,27.04]
[null,null,-104,{"$f":"IF(RTD(\"cqg.rtd\",,\"StudyData\", $D$4,  \"Bar\",, \"Close\",$E$4,C109,\"All\",,,,\"T\")=\"\",\"\",RTD(\"cqg.rtd\",,\"StudyData\", $D$4,  \"Bar\",, \"Close\",$E$4,C109,\"All\",,,,\"T\")*100)","v":29.160000000000004},null,null,null,29.160000000000004,null,null,null,null,null,null,-104,{"$f":"IF(RTD(\"cqg.rtd\",,\"StudyData\", $P$4,  \"Bar\",, \"Close\",$Q$4,O109,\"All\",,,,\"T\")=\"\",\"\",RTD(\"cqg.rtd\",,\"StudyData\", $P$4,  \"Bar\",, \"Close\",$Q$4,O109,\"All\",,,,\"T\")*100)","v":28.02},null,null,null,28.02]
[null,null,-105,{"$f":"IF(RTD(\"cqg.rtd\",,\"StudyData\", $D$4,  \"Bar\",, \"Close\",$E$4,C110,\"All\",,,,\"T\")=\"\",\"\",RTD(\"cqg.rtd\",,\"StudyData\", $D$4,  \"Bar\",, \"Close\",$E$4,C110,\"All\",,,,\"T\")*100)","v":29.220000000000002},null,null,null,29.220000000000002,null,null,null,null,null,null,-105,{"$f":"IF(RTD(\"cqg.rtd\",,\"StudyData\", $P$4,  \"Bar\",, \"Close\",$Q$4,O110,\"All\",,,,\"T\")=\"\",\"\",RTD(\"cqg.rtd\",,\"StudyData\", $P$4,  \"Bar\",, \"Close\",$Q$4,O110,\"All\",,,,\"T\")*100)","v":28.88},null,null,null,28.88]
[null,null,-106,{"$f":"IF(RTD(\"cqg.rtd\",,\"StudyData\", $D$4,  \"Bar\",, \"Close\",$E$4,C111,\"All\",,,,\"T\")=\"\",\"\",RTD(\"cqg.rtd\",,\"StudyData\", $D$4,  \"Bar\",, \"Close\",$E$4,C111,\"All\",,,,\"T\")*100)","v":29.7},null,null,null,29.7,null,null,null,null,null,null,-106,{"$f":"IF(RTD(\"cqg.rtd\",,\"StudyData\", $P$4,  \"Bar\",, \"Close\",$Q$4,O111,\"All\",,,,\"T\")=\"\",\"\",RTD(\"cqg.rtd\",,\"StudyData\", $P$4,  \"Bar\",, \"Close\",$Q$4,O111,\"All\",,,,\"T\")*100)","v":30.69},null,null,null,30.69]
[null,null,-107,{"$f":"IF(RTD(\"cqg.rtd\",,\"StudyData\", $D$4,  \"Bar\",, \"Close\",$E$4,C112,\"All\",,,,\"T\")=\"\",\"\",RTD(\"cqg.rtd\",,\"StudyData\", $D$4,  \"Bar\",, \"Close\",$E$4,C112,\"All\",,,,\"T\")*100)","v":30.78},null,null,null,30.78,null,null,null,null,null,null,-107,{"$f":"IF(RTD(\"cqg.rtd\",,\"StudyData\", $P$4,  \"Bar\",, \"Close\",$Q$4,O112,\"All\",,,,\"T\")=\"\",\"\",RTD(\"cqg.rtd\",,\"StudyData\", $P$4,  \"Bar\",, \"Close\",$Q$4,O112,\"All\",,,,\"T\")*100)","v":30.95},null,null,null,30.95]
[null,null,-108,{"$f":"IF(RTD(\"cqg.rtd\",,\"StudyData\", $D$4,  \"Bar\",, \"Close\",$E$4,C113,\"All\",,,,\"T\")=\"\",\"\",RTD(\"cqg.rtd\",,\"StudyData\", $D$4,  \"Bar\",, \"Close\",$E$4,C113,\"All\",,,,\"T\")*100)","v":30.11},null,null,null,30.11,null,null,null,null,null,null,-108,{"$f":"IF(RTD(\"cqg.rtd\",,\"StudyData\", $P$4,  \"Bar\",, \"Close\",$Q$4,O113,\"All\",,,,\"T\")=\"\",\"\",RTD(\"cqg.rtd\",,\"StudyData\", $P$4,  \"Bar\",, \"Close\",$Q$4,O113,\"All\",,,,\"T\")*100)","v":30.099999999999998},null,null,null,30.099999999999998]
[null,null,-109,{"$f":"IF(RTD(\"cqg.rtd\",,\"StudyData\", $D$4,  \"Bar\",, \"Close\",$E$4,C114,\"All\",,,,\"T\")=\"\",\"\",RTD(\"cqg.rtd\",,\"StudyData\", $D$4,  \"Bar\",, \"Close\",$E$4,C114,\"All\",,,,\"T\")*100)","v":28.87},null,null,null,28.87,null,null,null,null,null,null,-109,{"$f":"IF(RTD(\"cqg.rtd\",,\"StudyData\", $P$4,  \"Bar\",, \"Close\",$Q$4,O114,\"All\",,,,\"T\")=\"\",\"\",RTD(\"cqg.rtd\",,\"StudyData\", $P$4,  \"Bar\",, \"Close\",$Q$4,O114,\"All\",,,,\"T\")*100)","v":30.43},null,null,null,30.43]
[null,null,-110,{"$f":"IF(RTD(\"cqg.rtd\",,\"StudyData\", $D$4,  \"Bar\",, \"Close\",$E$4,C115,\"All\",,,,\"T\")=\"\",\"\",RTD(\"cqg.rtd\",,\"StudyData\", $D$4,  \"Bar\",, \"Close\",$E$4,C115,\"All\",,,,\"T\")*100)","v":29.42},null,null,null,29.42,null,null,null,null,null,null,-110,{"$f":"IF(RTD(\"cqg.rtd\",,\"StudyData\", $P$4,  \"Bar\",, \"Close\",$Q$4,O115,\"All\",,,,\"T\")=\"\",\"\",RTD(\"cqg.rtd\",,\"StudyData\", $P$4,  \"Bar\",, \"Close\",$Q$4,O115,\"All\",,,,\"T\")*100)","v":30.55},null,null,null,30.55]
[null,null,-111,{"$f":"IF(RTD(\"cqg.rtd\",,\"StudyData\", $D$4,  \"Bar\",, \"Close\",$E$4,C116,\"All\",,,,\"T\")=\"\",\"\",RTD(\"cqg.rtd\",,\"StudyData\", $D$4,  \"Bar\",, \"Close\",$E$4,C116,\"All\",,,,\"T\")*100)","v":28.28},null,null,null,28.28,null,null,null,null,null,null,-111,{"$f":"IF(RTD(\"cqg.rtd\",,\"StudyData\", $P$4,  \"Bar\",, \"Close\",$Q$4,O116,\"All\",,,,\"T\")=\"\",\"\",RTD(\"cqg.rtd\",,\"StudyData\", $P$4,  \"Bar\",, \"Close\",$Q$4,O116,\"All\",,,,\"T\")*100)","v":29.18},null,null,null,29.18]
[null,null,-112,{"$f":"IF(RTD(\"cqg.rtd\",,\"StudyData\", $D$4,  \"Bar\",, \"Close\",$E$4,C117,\"All\",,,,\"T\")=\"\",\"\",RTD(\"cqg.rtd\",,\"StudyData\", $D$4,  \"Bar\",, \"Close\",$E$4,C117,\"All\",,,,\"T\")*100)","v":28.07},null,null,null,28.07,null,null,null,null,null,null,-112,{"$f":"IF(RTD(\"cqg.rtd\",,\"StudyData\", $P$4,  \"Bar\",, \"Close\",$Q$4,O117,\"All\",,,,\"T\")=\"\",\"\",RTD(\"cqg.rtd\",,\"StudyData\", $P$4,  \"Bar\",, \"Close\",$Q$4,O117,\"All\",,,,\"T\")*100)","v":28.499999999999996},null,null,null,28.499999999999996]
[null,null,-113,{"$f":"IF(RTD(\"cqg.rtd\",,\"StudyData\", $D$4,  \"Bar\",, \"Close\",$E$4,C118,\"All\",,,,\"T\")=\"\",\"\",RTD(\"cqg.rtd\",,\"StudyData\", $D$4,  \"Bar\",, \"Close\",$E$4,C118,\"All\",,,,\"T\")*100)","v":27.55},null,null,null,27.55,null,null,null,null,null,null,-113,{"$f":"IF(RTD(\"cqg.rtd\",,\"StudyData\", $P$4,  \"Bar\",, \"Close\",$Q$4,O118,\"All\",,,,\"T\")=\"\",\"\",RTD(\"cqg.rtd\",,\"StudyData\", $P$4,  \"Bar\",, \"Close\",$Q$4,O118,\"All\",,,,\"T\")*100)","v":29.24},null,null,null,29.24]
[null,null,-114,{"$f":"IF(RTD(\"cqg.rtd\",,\"StudyData\", $D$4,  \"Bar\",, \"Close\",$E$4,C119,\"All\",,,,\"T\")=\"\",\"\",RTD(\"cqg.rtd\",,\"StudyData\", $D$4,  \"Bar\",, \"Close\",$E$4,C119,\"All\",,,,\"T\")*100)","v":29.659999999999997},null,null,null,29.659999999999997,null,null,null,null,null,null,-114,{"$f":"IF(RTD(\"cqg.rtd\",,\"StudyData\", $P$4,  \"Bar\",, \"Close\",$Q$4,O119,\"All\",,,,\"T\")=\"\",\"\",RTD(\"cqg.rtd\",,\"StudyData\", $P$4,  \"Bar\",, \"Close\",$Q$4,O119,\"All\",,,,\"T\")*100)","v":29.880000000000003},null,null,null,29.880000000000003]
[null,null,-115,{"$f":"IF(RTD(\"cqg.rtd\",,\"StudyData\", $D$4,  \"Bar\",, \"Close\",$E$4,C120,\"All\",,,,\"T\")=\"\",\"\",RTD(\"cqg.rtd\",,\"StudyData\", $D$4,  \"Bar\",, \"Close\",$E$4,C120,\"All\",,,,\"T\")*100)","v":29.82},null,null,null,29.82,null,null,null,null,null,null,-115,{"$f":"IF(RTD(\"cqg.rtd\",,\"StudyData\", $P$4,  \"Bar\",, \"Close\",$Q$4,O120,\"All\",,,,\"T\")=\"\",\"\",RTD(\"cqg.rtd\",,\"StudyData\", $P$4,  \"Bar\",, \"Close\",$Q$4,O120,\"All\",,,,\"T\")*100)","v":33.040000000000006},null,null,null,33.040000000000006]
[null,null,-116,{"$f":"IF(RTD(\"cqg.rtd\",,\"StudyData\", $D$4,  \"Bar\",, \"Close\",$E$4,C121,\"All\",,,,\"T\")=\"\",\"\",RTD(\"cqg.rtd\",,\"StudyData\", $D$4,  \"Bar\",, \"Close\",$E$4,C121,\"All\",,,,\"T\")*100)","v":30.599999999999998},null,null,null,30.599999999999998,null,null,null,null,null,null,-116,{"$f":"IF(RTD(\"cqg.rtd\",,\"StudyData\", $P$4,  \"Bar\",, \"Close\",$Q$4,O121,\"All\",,,,\"T\")=\"\",\"\",RTD(\"cqg.rtd\",,\"StudyData\", $P$4,  \"Bar\",, \"Close\",$Q$4,O121,\"All\",,,,\"T\")*100)","v":31.240000000000002},null,null,null,31.240000000000002]
[null,null,-117,{"$f":"IF(RTD(\"cqg.rtd\",,\"StudyData\", $D$4,  \"Bar\",, \"Close\",$E$4,C122,\"All\",,,,\"T\")=\"\",\"\",RTD(\"cqg.rtd\",,\"StudyData\", $D$4,  \"Bar\",, \"Close\",$E$4,C122,\"All\",,,,\"T\")*100)","v":32.619999999999997},null,null,null,32.619999999999997,null,null,null,null,null,null,-117,{"$f":"IF(RTD(\"cqg.rtd\",,\"StudyData\", $P$4,  \"Bar\",, \"Close\",$Q$4,O122,\"All\",,,,\"T\")=\"\",\"\",RTD(\"cqg.rtd\",,\"StudyData\", $P$4,  \"Bar\",, \"Close\",$Q$4,O122,\"All\",,,,\"T\")*100)","v":31.75},null,null,null,31.75]
[null,null,-118,{"$f":"IF(RTD(\"cqg.rtd\",,\"StudyData\", $D$4,  \"Bar\",, \"Close\",$E$4,C123,\"All\",,,,\"T\")=\"\",\"\",RTD(\"cqg.rtd\",,\"StudyData\", $D$4,  \"Bar\",, \"Close\",$E$4,C123,\"All\",,,,\"T\")*100)","v":27.54},null,null,null,27.54,null,null,null,null,null,null,-118,{"$f":"IF(RTD(\"cqg.rtd\",,\"StudyData\", $P$4,  \"Bar\",, \"Close\",$Q$4,O123,\"All\",,,,\"T\")=\"\",\"\",RTD(\"cqg.rtd\",,\"StudyData\", $P$4,  \"Bar\",, \"Close\",$Q$4,O123,\"All\",,,,\"T\")*100)","v":33.520000000000003},null,null,null,33.520000000000003]
[null,null,-119,{"$f":"IF(RTD(\"cqg.rtd\",,\"StudyData\", $D$4,  \"Bar\",, \"Close\",$E$4,C124,\"All\",,,,\"T\")=\"\",\"\",RTD(\"cqg.rtd\",,\"StudyData\", $D$4,  \"Bar\",, \"Close\",$E$4,C124,\"All\",,,,\"T\")*100)","v":29.79},null,null,null,29.79,null,null,null,null,null,null,-119,{"$f":"IF(RTD(\"cqg.rtd\",,\"StudyData\", $P$4,  \"Bar\",, \"Close\",$Q$4,O124,\"All\",,,,\"T\")=\"\",\"\",RTD(\"cqg.rtd\",,\"StudyData\", $P$4,  \"Bar\",, \"Close\",$Q$4,O124,\"All\",,,,\"T\")*100)","v":31.019999999999996},null,null,null,31.019999999999996]
[null,null,-120,{"$f":"IF(RTD(\"cqg.rtd\",,\"StudyData\", $D$4,  \"Bar\",, \"Close\",$E$4,C125,\"All\",,,,\"T\")=\"\",\"\",RTD(\"cqg.rtd\",,\"StudyData\", $D$4,  \"Bar\",, \"Close\",$E$4,C125,\"All\",,,,\"T\")*100)","v":25.66},null,null,null,25.66,null,null,null,null,null,null,-120,{"$f":"IF(RTD(\"cqg.rtd\",,\"StudyData\", $P$4,  \"Bar\",, \"Close\",$Q$4,O125,\"All\",,,,\"T\")=\"\",\"\",RTD(\"cqg.rtd\",,\"StudyData\", $P$4,  \"Bar\",, \"Close\",$Q$4,O125,\"All\",,,,\"T\")*100)","v":25.619999999999997},null,null,null,25.619999999999997]
[null,null,-121,{"$f":"IF(RTD(\"cqg.rtd\",,\"StudyData\", $D$4,  \"Bar\",, \"Close\",$E$4,C126,\"All\",,,,\"T\")=\"\",\"\",RTD(\"cqg.rtd\",,\"StudyData\", $D$4,  \"Bar\",, \"Close\",$E$4,C126,\"All\",,,,\"T\")*100)","v":24.51},null,null,null,24.51,null,null,null,null,null,null,-121,{"$f":"IF(RTD(\"cqg.rtd\",,\"StudyData\", $P$4,  \"Bar\",, \"Close\",$Q$4,O126,\"All\",,,,\"T\")=\"\",\"\",RTD(\"cqg.rtd\",,\"StudyData\", $P$4,  \"Bar\",, \"Close\",$Q$4,O126,\"All\",,,,\"T\")*100)","v":25.06},null,null,null,25.06]
[null,null,-122,{"$f":"IF(RTD(\"cqg.rtd\",,\"StudyData\", $D$4,  \"Bar\",, \"Close\",$E$4,C127,\"All\",,,,\"T\")=\"\",\"\",RTD(\"cqg.rtd\",,\"StudyData\", $D$4,  \"Bar\",, \"Close\",$E$4,C127,\"All\",,,,\"T\")*100)","v":25.05},null,null,null,25.05,null,null,null,null,null,null,-122,{"$f":"IF(RTD(\"cqg.rtd\",,\"StudyData\", $P$4,  \"Bar\",, \"Close\",$Q$4,O127,\"All\",,,,\"T\")=\"\",\"\",RTD(\"cqg.rtd\",,\"StudyData\", $P$4,  \"Bar\",, \"Close\",$Q$4,O127,\"All\",,,,\"T\")*100)","v":23.189999999999998},null,null,null,23.189999999999998]
[null,null,-123,{"$f":"IF(RTD(\"cqg.rtd\",,\"StudyData\", $D$4,  \"Bar\",, \"Close\",$E$4,C128,\"All\",,,,\"T\")=\"\",\"\",RTD(\"cqg.rtd\",,\"StudyData\", $D$4,  \"Bar\",, \"Close\",$E$4,C128,\"All\",,,,\"T\")*100)","v":24.44},null,null,null,24.44,null,null,null,null,null,null,-123,{"$f":"IF(RTD(\"cqg.rtd\",,\"StudyData\", $P$4,  \"Bar\",, \"Close\",$Q$4,O128,\"All\",,,,\"T\")=\"\",\"\",RTD(\"cqg.rtd\",,\"StudyData\", $P$4,  \"Bar\",, \"Close\",$Q$4,O128,\"All\",,,,\"T\")*100)","v":24.47},null,null,null,24.47]
[null,null,-124,{"$f":"IF(RTD(\"cqg.rtd\",,\"StudyData\", $D$4,  \"Bar\",, \"Close\",$E$4,C129,\"All\",,,,\"T\")=\"\",\"\",RTD(\"cqg.rtd\",,\"StudyData\", $D$4,  \"Bar\",, \"Close\",$E$4,C129,\"All\",,,,\"T\")*100)","v":23.1},null,null,null,23.1,null,null,null,null,null,null,-124,{"$f":"IF(RTD(\"cqg.rtd\",,\"StudyData\", $P$4,  \"Bar\",, \"Close\",$Q$4,O129,\"All\",,,,\"T\")=\"\",\"\",RTD(\"cqg.rtd\",,\"StudyData\", $P$4,  \"Bar\",, \"Close\",$Q$4,O129,\"All\",,,,\"T\")*100)","v":22.86},null,null,null,22.86]
[null,null,-125,{"$f":"IF(RTD(\"cqg.rtd\",,\"StudyData\", $D$4,  \"Bar\",, \"Close\",$E$4,C130,\"All\",,,,\"T\")=\"\",\"\",RTD(\"cqg.rtd\",,\"StudyData\", $D$4,  \"Bar\",, \"Close\",$E$4,C130,\"All\",,,,\"T\")*100)","v":24.14},null,null,null,24.14,null,null,null,null,null,null,-125,{"$f":"IF(RTD(\"cqg.rtd\",,\"StudyData\", $P$4,  \"Bar\",, \"Close\",$Q$4,O130,\"All\",,,,\"T\")=\"\",\"\",RTD(\"cqg.rtd\",,\"StudyData\", $P$4,  \"Bar\",, \"Close\",$Q$4,O130,\"All\",,,,\"T\")*100)","v":22.56},null,null,null,22.56]
[null,null,-126,{"$f":"IF(RTD(\"cqg.rtd\",,\"StudyData\", $D$4,  \"Bar\",, \"Close\",$E$4,C131,\"All\",,,,\"T\")=\"\",\"\",RTD(\"cqg.rtd\",,\"StudyData\", $D$4,  \"Bar\",, \"Close\",$E$4,C131,\"All\",,,,\"T\")*100)","v":23.44},null,null,null,23.44,null,null,null,null,null,null,-126,{"$f":"IF(RTD(\"cqg.rtd\",,\"StudyData\", $P$4,  \"Bar\",, \"Close\",$Q$4,O131,\"All\",,,,\"T\")=\"\",\"\",RTD(\"cqg.rtd\",,\"StudyData\", $P$4,  \"Bar\",, \"Close\",$Q$4,O131,\"All\",,,,\"T\")*100)","v":24.27},null,null,null,24.27]
[null,null,-127,{"$f":"IF(RTD(\"cqg.rtd\",,\"StudyData\", $D$4,  \"Bar\",, \"Close\",$E$4,C132,\"All\",,,,\"T\")=\"\",\"\",RTD(\"cqg.rtd\",,\"StudyData\", $D$4,  \"Bar\",, \"Close\",$E$4,C132,\"All\",,,,\"T\")*100)","v":24.47},null,null,null,24.47,null,null,null,null,null,null,-127,{"$f":"IF(RTD(\"cqg.rtd\",,\"StudyData\", $P$4,  \"Bar\",, \"Close\",$Q$4,O132,\"All\",,,,\"T\")=\"\",\"\",RTD(\"cqg.rtd\",,\"StudyData\", $P$4,  \"Bar\",, \"Close\",$Q$4,O132,\"All\",,,,\"T\")*100)","v":24.95},null,null,null,24.95]
[null,null,-128,{"$f":"IF(RTD(\"cqg.rtd\",,\"StudyData\", $D$4,  \"Bar\",, \"Close\",$E$4,C133,\"All\",,,,\"T\")=\"\",\"\",RTD(\"cqg.rtd\",,\"StudyData\", $D$4,  \"Bar\",, \"Close\",$E$4,C133,\"All\",,,,\"T\")*100)","v":25.72},null,null,null,25.72,null,null,null,null,null,null,-128,{"$f":"IF(RTD(\"cqg.rtd\",,\"StudyData\", $P$4,  \"Bar\",, \"Close\",$Q$4,O133,\"All\",,,,\"T\")=\"\",\"\",RTD(\"cqg.rtd\",,\"StudyData\", $P$4,  \"Bar\",, \"Close\",$Q$4,O133,\"All\",,,,\"T\")*100)","v":24.18},null,null,null,24.18]
[null,null,-129,{"$f":"IF(RTD(\"cqg.rtd\",,\"StudyData\", $D$4,  \"Bar\",, \"Close\",$E$4,C134,\"All\",,,,\"T\")=\"\",\"\",RTD(\"cqg.rtd\",,\"StudyData\", $D$4,  \"Bar\",, \"Close\",$E$4,C134,\"All\",,,,\"T\")*100)","v":25.85},null,null,null,{"$f":"D134","v":25.85},null,null,null,null,null,null,-129,{"$f":"IF(RTD(\"cqg.rtd\",,\"StudyData\", $P$4,  \"Bar\",, \"Close\",$Q$4,O134,\"All\",,,,\"T\")=\"\",\"\",RTD(\"cqg.rtd\",,\"StudyData\", $P$4,  \"Bar\",, \"Close\",$Q$4,O134,\"All\",,,,\"T\")*100)","v":24.73},null,null,null,{"$f":"P134","v":24.73}]
[null,null,{"$f":"C134-1","v":-130},{"$f":"IF(RTD(\"cqg.rtd\",,\"StudyData\", $D$4,  \"Bar\",, \"Close\",$E$4,C135,\"All\",,,,\"T\")=\"\",\"\",RTD(\"cqg.rtd\",,\"StudyData\", $D$4,  \"Bar\",, \"Close\",$E$4,C135,\"All\",,,,\"T\")*100)","v":24.43},null,null,null,24.43,null,null,null,null,null,null,{"$f":"O134-1","v":-130},{"$f":"IF(RTD(\"cqg.rtd\",,\"StudyData\", $P$4,  \"Bar\",, \"Close\",$Q$4,O135,\"All\",,,,\"T\")=\"\",\"\",RTD(\"cqg.rtd\",,\"StudyData\", $P$4,  \"Bar\",, \"Close\",$Q$4,O135,\"All\",,,,\"T\")*100)","v":25.34},null,null,null,25.34]
[null,null,-131,{"$f":"IF(RTD(\"cqg.rtd\",,\"StudyData\", $D$4,  \"Bar\",, \"Close\",$E$4,C136,\"All\",,,,\"T\")=\"\",\"\",RTD(\"cqg.rtd\",,\"StudyData\", $D$4,  \"Bar\",, \"Close\",$E$4,C136,\"All\",,,,\"T\")*100)","v":26.25},null,null,null,26.25,null,null,null,null,null,null,-131,{"$f":"IF(RTD(\"cqg.rtd\",,\"StudyData\", $P$4,  \"Bar\",, \"Close\",$Q$4,O136,\"All\",,,,\"T\")=\"\",\"\",RTD(\"cqg.rtd\",,\"StudyData\", $P$4,  \"Bar\",, \"Close\",$Q$4,O136,\"All\",,,,\"T\")*100)","v":24.63},null,null,null,24.63]
[null,null,-132,{"$f":"IF(RTD(\"cqg.rtd\",,\"StudyData\", $D$4,  \"Bar\",, \"Close\",$E$4,C137,\"All\",,,,\"T\")=\"\",\"\",RTD(\"cqg.rtd\",,\"StudyData\", $D$4,  \"Bar\",, \"Close\",$E$4,C137,\"All\",,,,\"T\")*100)","v":25.94},null,null,null,25.94,null,null,null,null,null,null,-132,{"$f":"IF(RTD(\"cqg.rtd\",,\"StudyData\", $P$4,  \"Bar\",, \"Close\",$Q$4,O137,\"All\",,,,\"T\")=\"\",\"\",RTD(\"cqg.rtd\",,\"StudyData\", $P$4,  \"Bar\",, \"Close\",$Q$4,O137,\"All\",,,,\"T\")*100)","v":26.779999999999998},null,null,null,26.779999999999998]
[null,null,-133,{"$f":"IF(RTD(\"cqg.rtd\",,\"StudyData\", $D$4,  \"Bar\",, \"Close\",$E$4,C138,\"All\",,,,\"T\")=\"\",\"\",RTD(\"cqg.rtd\",,\"StudyData\", $D$4,  \"Bar\",, \"Close\",$E$4,C138,\"All\",,,,\"T\")*100)","v":27.71},null,null,null,27.71,null,null,null,null,null,null,-133,{"$f":"IF(RTD(\"cqg.rtd\",,\"StudyData\", $P$4,  \"Bar\",, \"Close\",$Q$4,O138,\"All\",,,,\"T\")=\"\",\"\",RTD(\"cqg.rtd\",,\"StudyData\", $P$4,  \"Bar\",, \"Close\",$Q$4,O138,\"All\",,,,\"T\")*100)","v":26.57},null,null,null,26.57]
[null,null,-134,{"$f":"IF(RTD(\"cqg.rtd\",,\"StudyData\", $D$4,  \"Bar\",, \"Close\",$E$4,C139,\"All\",,,,\"T\")=\"\",\"\",RTD(\"cqg.rtd\",,\"StudyData\", $D$4,  \"Bar\",, \"Close\",$E$4,C139,\"All\",,,,\"T\")*100)","v":27.11},null,null,null,27.11,null,null,null,null,null,null,-134,{"$f":"IF(RTD(\"cqg.rtd\",,\"StudyData\", $P$4,  \"Bar\",, \"Close\",$Q$4,O139,\"All\",,,,\"T\")=\"\",\"\",RTD(\"cqg.rtd\",,\"StudyData\", $P$4,  \"Bar\",, \"Close\",$Q$4,O139,\"All\",,,,\"T\")*100)","v":26.779999999999998},null,null,null,26.779999999999998]
[null,null,-135,{"$f":"IF(RTD(\"cqg.rtd\",,\"StudyData\", $D$4,  \"Bar\",, \"Close\",$E$4,C140,\"All\",,,,\"T\")=\"\",\"\",RTD(\"cqg.rtd\",,\"StudyData\", $D$4,  \"Bar\",, \"Close\",$E$4,C140,\"All\",,,,\"T\")*100)","v":26.02},null,null,null,26.02,null,null,null,null,null,null,-135,{"$f":"IF(RTD(\"cqg.rtd\",,\"StudyData\", $P$4,  \"Bar\",, \"Close\",$Q$4,O140,\"All\",,,,\"T\")=\"\",\"\",RTD(\"cqg.rtd\",,\"StudyData\", $P$4,  \"Bar\",, \"Close\",$Q$4,O140,\"All\",,,,\"T\")*100)","v":25.5},null,null,null,25.5]
[null,null,-136,{"$f":"IF(RTD(\"cqg.rtd\",,\"StudyData\", $D$4,  \"Bar\",, \"Close\",$E$4,C141,\"All\",,,,\"T\")=\"\",\"\",RTD(\"cqg.rtd\",,\"StudyData\", $D$4,  \"Bar\",, \"Close\",$E$4,C141,\"All\",,,,\"T\")*100)","v":26.11},null,null,null,26.11,null,null,null,null,null,null,-136,{"$f":"IF(RTD(\"cqg.rtd\",,\"StudyData\", $P$4,  \"Bar\",, \"Close\",$Q$4,O141,\"All\",,,,\"T\")=\"\",\"\",RTD(\"cqg.rtd\",,\"StudyData\", $P$4,  \"Bar\",, \"Close\",$Q$4,O141,\"All\",,,,\"T\")*100)","v":25.06},null,null,null,25.06]
[null,null,-137,{"$f":"IF(RTD(\"cqg.rtd\",,\"StudyData\", $D$4,  \"Bar\",, \"Close\",$E$4,C142,\"All\",,,,\"T\")=\"\",\"\",RTD(\"cqg.rtd\",,\"StudyData\", $D$4,  \"Bar\",, \"Close\",$E$4,C142,\"All\",,,,\"T\")*100)","v":26.810000000000002},null,null,null,26.810000000000002,null,null,null,null,null,null,-137,{"$f":"IF(RTD(\"cqg.rtd\",,\"StudyData\", $P$4,  \"Bar\",, \"Close\",$Q$4,O142,\"All\",,,,\"T\")=\"\",\"\",RTD(\"cqg.rtd\",,\"StudyData\", $P$4,  \"Bar\",, \"Close\",$Q$4,O142,\"All\",,,,\"T\")*100)","v":26.97},null,null,null,26.97]
[null,null,-138,{"$f":"IF(RTD(\"cqg.rtd\",,\"StudyData\", $D$4,  \"Bar\",, \"Close\",$E$4,C143,\"All\",,,,\"T\")=\"\",\"\",RTD(\"cqg.rtd\",,\"StudyData\", $D$4,  \"Bar\",, \"Close\",$E$4,C143,\"All\",,,,\"T\")*100)","v":26.919999999999998},null,null,null,26.919999999999998,null,null,null,null,null,null,-138,{"$f":"IF(RTD(\"cqg.rtd\",,\"StudyData\", $P$4,  \"Bar\",, \"Close\",$Q$4,O143,\"All\",,,,\"T\")=\"\",\"\",RTD(\"cqg.rtd\",,\"StudyData\", $P$4,  \"Bar\",, \"Close\",$Q$4,O143,\"All\",,,,\"T\")*100)","v":28.26},null,null,null,28.26]
[null,null,-139,{"$f":"IF(RTD(\"cqg.rtd\",,\"StudyData\", $D$4,  \"Bar\",, \"Close\",$E$4,C144,\"All\",,,,\"T\")=\"\",\"\",RTD(\"cqg.rtd\",,\"StudyData\", $D$4,  \"Bar\",, \"Close\",$E$4,C144,\"All\",,,,\"T\")*100)","v":27.96},null,null,null,27.96,null,null,null,null,null,null,-139,{"$f":"IF(RTD(\"cqg.rtd\",,\"StudyData\", $P$4,  \"Bar\",, \"Close\",$Q$4,O144,\"All\",,,,\"T\")=\"\",\"\",RTD(\"cqg.rtd\",,\"StudyData\", $P$4,  \"Bar\",, \"Close\",$Q$4,O144,\"All\",,,,\"T\")*100)","v":28.139999999999997},null,null,null,28.139999999999997]
[null,null,-140,{"$f":"IF(RTD(\"cqg.rtd\",,\"StudyData\", $D$4,  \"Bar\",, \"Close\",$E$4,C145,\"All\",,,,\"T\")=\"\",\"\",RTD(\"cqg.rtd\",,\"StudyData\", $D$4,  \"Bar\",, \"Close\",$E$4,C145,\"All\",,,,\"T\")*100)","v":26.669999999999998},null,null,null,26.669999999999998,null,null,null,null,null,null,-140,{"$f":"IF(RTD(\"cqg.rtd\",,\"StudyData\", $P$4,  \"Bar\",, \"Close\",$Q$4,O145,\"All\",,,,\"T\")=\"\",\"\",RTD(\"cqg.rtd\",,\"StudyData\", $P$4,  \"Bar\",, \"Close\",$Q$4,O145,\"All\",,,,\"T\")*100)","v":28.4},null,null,null,28.4]
[null,null,-141,{"$f":"IF(RTD(\"cqg.rtd\",,\"StudyData\", $D$4,  \"Bar\",, \"Close\",$E$4,C146,\"All\",,,,\"T\")=\"\",\"\",RTD(\"cqg.rtd\",,\"StudyData\", $D$4,  \"Bar\",, \"Close\",$E$4,C146,\"All\",,,,\"T\")*100)","v":27.83},null,null,null,27.83,null,null,null,null,null,null,-141,{"$f":"IF(RTD(\"cqg.rtd\",,\"StudyData\", $P$4,  \"Bar\",, \"Close\",$Q$4,O146,\"All\",,,,\"T\")=\"\",\"\",RTD(\"cqg.rtd\",,\"StudyData\", $P$4,  \"Bar\",, \"Close\",$Q$4,O146,\"All\",,,,\"T\")*100)","v":27.439999999999998},null,null,null,27.439999999999998]
[null,null,-142,{"$f":"IF(RTD(\"cqg.rtd\",,\"StudyData\", $D$4,  \"Bar\",, \"Close\",$E$4,C147,\"All\",,,,\"T\")=\"\",\"\",RTD(\"cqg.rtd\",,\"StudyData\", $D$4,  \"Bar\",, \"Close\",$E$4,C147,\"All\",,,,\"T\")*100)","v":27.77},null,null,null,27.77,null,null,null,null,null,null,-142,{"$f":"IF(RTD(\"cqg.rtd\",,\"StudyData\", $P$4,  \"Bar\",, \"Close\",$Q$4,O147,\"All\",,,,\"T\")=\"\",\"\",RTD(\"cqg.rtd\",,\"StudyData\", $P$4,  \"Bar\",, \"Close\",$Q$4,O147,\"All\",,,,\"T\")*100)","v":28.99},null,null,null,28.99]
[null,null,-143,{"$f":"IF(RTD(\"cqg.rtd\",,\"StudyData\", $D$4,  \"Bar\",, \"Close\",$E$4,C148,\"All\",,,,\"T\")=\"\",\"\",RTD(\"cqg.rtd\",,\"StudyData\", $D$4,  \"Bar\",, \"Close\",$E$4,C148,\"All\",,,,\"T\")*100)","v":31.490000000000002},null,null,null,31.490000000000002,null,null,null,null,null,null,-143,{"$f":"IF(RTD(\"cqg.rtd\",,\"StudyData\", $P$4,  \"Bar\",, \"Close\",$Q$4,O148,\"All\",,,,\"T\")=\"\",\"\",RTD(\"cqg.rtd\",,\"StudyData\", $P$4,  \"Bar\",, \"Close\",$Q$4,O148,\"All\",,,,\"T\")*100)","v":25.85},null,null,null,25.85]
[null,null,-144,{"$f":"IF(RTD(\"cqg.rtd\",,\"StudyData\", $D$4,  \"Bar\",, \"Close\",$E$4,C149,\"All\",,,,\"T\")=\"\",\"\",RTD(\"cqg.rtd\",,\"StudyData\", $D$4,  \"Bar\",, \"Close\",$E$4,C149,\"All\",,,,\"T\")*100)","v":29.34},null,null,null,29.34,null,null,null,null,null,null,-144,{"$f":"IF(RTD(\"cqg.rtd\",,\"StudyData\", $P$4,  \"Bar\",, \"Close\",$Q$4,O149,\"All\",,,,\"T\")=\"\",\"\",RTD(\"cqg.rtd\",,\"StudyData\", $P$4,  \"Bar\",, \"Close\",$Q$4,O149,\"All\",,,,\"T\")*100)","v":29.409999999999997},null,null,null,29.409999999999997]
[null,null,-145,{"$f":"IF(RTD(\"cqg.rtd\",,\"StudyData\", $D$4,  \"Bar\",, \"Close\",$E$4,C150,\"All\",,,,\"T\")=\"\",\"\",RTD(\"cqg.rtd\",,\"StudyData\", $D$4,  \"Bar\",, \"Close\",$E$4,C150,\"All\",,,,\"T\")*100)","v":28.77},null,null,null,28.77,null,null,null,null,null,null,-145,{"$f":"IF(RTD(\"cqg.rtd\",,\"StudyData\", $P$4,  \"Bar\",, \"Close\",$Q$4,O150,\"All\",,,,\"T\")=\"\",\"\",RTD(\"cqg.rtd\",,\"StudyData\", $P$4,  \"Bar\",, \"Close\",$Q$4,O150,\"All\",,,,\"T\")*100)","v":28.95},null,null,null,28.95]
[null,null,-146,{"$f":"IF(RTD(\"cqg.rtd\",,\"StudyData\", $D$4,  \"Bar\",, \"Close\",$E$4,C151,\"All\",,,,\"T\")=\"\",\"\",RTD(\"cqg.rtd\",,\"StudyData\", $D$4,  \"Bar\",, \"Close\",$E$4,C151,\"All\",,,,\"T\")*100)","v":28.78},null,null,null,28.78,null,null,null,null,null,null,-146,{"$f":"IF(RTD(\"cqg.rtd\",,\"StudyData\", $P$4,  \"Bar\",, \"Close\",$Q$4,O151,\"All\",,,,\"T\")=\"\",\"\",RTD(\"cqg.rtd\",,\"StudyData\", $P$4,  \"Bar\",, \"Close\",$Q$4,O151,\"All\",,,,\"T\")*100)","v":28.22},null,null,null,28.22]
[null,null,-147,{"$f":"IF(RTD(\"cqg.rtd\",,\"StudyData\", $D$4,  \"Bar\",, \"Close\",$E$4,C152,\"All\",,,,\"T\")=\"\",\"\",RTD(\"cqg.rtd\",,\"StudyData\", $D$4,  \"Bar\",, \"Close\",$E$4,C152,\"All\",,,,\"T\")*100)","v":27.450000000000003},null,null,null,27.450000000000003,null,null,null,null,null,null,-147,{"$f":"IF(RTD(\"cqg.rtd\",,\"StudyData\", $P$4,  \"Bar\",, \"Close\",$Q$4,O152,\"All\",,,,\"T\")=\"\",\"\",RTD(\"cqg.rtd\",,\"StudyData\", $P$4,  \"Bar\",, \"Close\",$Q$4,O152,\"All\",,,,\"T\")*100)","v":28.349999999999998},null,null,null,28.349999999999998]
[null,null,-148,{"$f":"IF(RTD(\"cqg.rtd\",,\"StudyData\", $D$4,  \"Bar\",, \"Close\",$E$4,C153,\"All\",,,,\"T\")=\"\",\"\",RTD(\"cqg.rtd\",,\"StudyData\", $D$4,  \"Bar\",, \"Close\",$E$4,C153,\"All\",,,,\"T\")*100)","v":28.189999999999998},null,null,null,28.189999999999998,null,null,null,null,null,null,-148,{"$f":"IF(RTD(\"cqg.rtd\",,\"StudyData\", $P$4,  \"Bar\",, \"Close\",$Q$4,O153,\"All\",,,,\"T\")=\"\",\"\",RTD(\"cqg.rtd\",,\"StudyData\", $P$4,  \"Bar\",, \"Close\",$Q$4,O153,\"All\",,,,\"T\")*100)","v":29.64},null,null,null,29.64]
[null,null,-149,{"$f":"IF(RTD(\"cqg.rtd\",,\"StudyData\", $D$4,  \"Bar\",, \"Close\",$E$4,C154,\"All\",,,,\"T\")=\"\",\"\",RTD(\"cqg.rtd\",,\"StudyData\", $D$4,  \"Bar\",, \"Close\",$E$4,C154,\"All\",,,,\"T\")*100)","v":29.349999999999998},null,null,null,29.349999999999998,null,null,null,null,null,null,-149,{"$f":"IF(RTD(\"cqg.rtd\",,\"StudyData\", $P$4,  \"Bar\",, \"Close\",$Q$4,O154,\"All\",,,,\"T\")=\"\",\"\",RTD(\"cqg.rtd\",,\"StudyData\", $P$4,  \"Bar\",, \"Close\",$Q$4,O154,\"All\",,,,\"T\")*100)","v":27.58},null,null,null,27.58]
[null,null,-150,{"$f":"IF(RTD(\"cqg.rtd\",,\"StudyData\", $D$4,  \"Bar\",, \"Close\",$E$4,C155,\"All\",,,,\"T\")=\"\",\"\",RTD(\"cqg.rtd\",,\"StudyData\", $D$4,  \"Bar\",, \"Close\",$E$4,C155,\"All\",,,,\"T\")*100)","v":28.68},null,null,null,28.68,null,null,null,null,null,null,-150,{"$f":"IF(RTD(\"cqg.rtd\",,\"StudyData\", $P$4,  \"Bar\",, \"Close\",$Q$4,O155,\"All\",,,,\"T\")=\"\",\"\",RTD(\"cqg.rtd\",,\"StudyData\", $P$4,  \"Bar\",, \"Close\",$Q$4,O155,\"All\",,,,\"T\")*100)","v":28.970000000000002},null,null,null,28.970000000000002]
[null,null,-151,{"$f":"IF(RTD(\"cqg.rtd\",,\"StudyData\", $D$4,  \"Bar\",, \"Close\",$E$4,C156,\"All\",,,,\"T\")=\"\",\"\",RTD(\"cqg.rtd\",,\"StudyData\", $D$4,  \"Bar\",, \"Close\",$E$4,C156,\"All\",,,,\"T\")*100)","v":29.15},null,null,null,29.15,null,null,null,null,null,null,-151,{"$f":"IF(RTD(\"cqg.rtd\",,\"StudyData\", $P$4,  \"Bar\",, \"Close\",$Q$4,O156,\"All\",,,,\"T\")=\"\",\"\",RTD(\"cqg.rtd\",,\"StudyData\", $P$4,  \"Bar\",, \"Close\",$Q$4,O156,\"All\",,,,\"T\")*100)","v":28.449999999999996},null,null,null,28.449999999999996]
[null,null,-152,{"$f":"IF(RTD(\"cqg.rtd\",,\"StudyData\", $D$4,  \"Bar\",, \"Close\",$E$4,C157,\"All\",,,,\"T\")=\"\",\"\",RTD(\"cqg.rtd\",,\"StudyData\", $D$4,  \"Bar\",, \"Close\",$E$4,C157,\"All\",,,,\"T\")*100)","v":28.89},null,null,null,28.89,null,null,null,null,null,null,-152,{"$f":"IF(RTD(\"cqg.rtd\",,\"StudyData\", $P$4,  \"Bar\",, \"Close\",$Q$4,O157,\"All\",,,,\"T\")=\"\",\"\",RTD(\"cqg.rtd\",,\"StudyData\", $P$4,  \"Bar\",, \"Close\",$Q$4,O157,\"All\",,,,\"T\")*100)","v":29.73},null,null,null,29.73]
[null,null,-153,{"$f":"IF(RTD(\"cqg.rtd\",,\"StudyData\", $D$4,  \"Bar\",, \"Close\",$E$4,C158,\"All\",,,,\"T\")=\"\",\"\",RTD(\"cqg.rtd\",,\"StudyData\", $D$4,  \"Bar\",, \"Close\",$E$4,C158,\"All\",,,,\"T\")*100)","v":28.52},null,null,null,28.52,null,null,null,null,null,null,-153,{"$f":"IF(RTD(\"cqg.rtd\",,\"StudyData\", $P$4,  \"Bar\",, \"Close\",$Q$4,O158,\"All\",,,,\"T\")=\"\",\"\",RTD(\"cqg.rtd\",,\"StudyData\", $P$4,  \"Bar\",, \"Close\",$Q$4,O158,\"All\",,,,\"T\")*100)","v":30.84},null,null,null,30.84]
[null,null,-154,{"$f":"IF(RTD(\"cqg.rtd\",,\"StudyData\", $D$4,  \"Bar\",, \"Close\",$E$4,C159,\"All\",,,,\"T\")=\"\",\"\",RTD(\"cqg.rtd\",,\"StudyData\", $D$4,  \"Bar\",, \"Close\",$E$4,C159,\"All\",,,,\"T\")*100)","v":28.89},null,null,null,28.89,null,null,null,null,null,null,-154,{"$f":"IF(RTD(\"cqg.rtd\",,\"StudyData\", $P$4,  \"Bar\",, \"Close\",$Q$4,O159,\"All\",,,,\"T\")=\"\",\"\",RTD(\"cqg.rtd\",,\"StudyData\", $P$4,  \"Bar\",, \"Close\",$Q$4,O159,\"All\",,,,\"T\")*100)","v":28.77},null,null,null,28.77]
[null,null,-155,{"$f":"IF(RTD(\"cqg.rtd\",,\"StudyData\", $D$4,  \"Bar\",, \"Close\",$E$4,C160,\"All\",,,,\"T\")=\"\",\"\",RTD(\"cqg.rtd\",,\"StudyData\", $D$4,  \"Bar\",, \"Close\",$E$4,C160,\"All\",,,,\"T\")*100)","v":28.28},null,null,null,28.28,null,null,null,null,null,null,-155,{"$f":"IF(RTD(\"cqg.rtd\",,\"StudyData\", $P$4,  \"Bar\",, \"Close\",$Q$4,O160,\"All\",,,,\"T\")=\"\",\"\",RTD(\"cqg.rtd\",,\"StudyData\", $P$4,  \"Bar\",, \"Close\",$Q$4,O160,\"All\",,,,\"T\")*100)","v":29.299999999999997},null,null,null,29.299999999999997]
[null,null,-156,{"$f":"IF(RTD(\"cqg.rtd\",,\"StudyData\", $D$4,  \"Bar\",, \"Close\",$E$4,C161,\"All\",,,,\"T\")=\"\",\"\",RTD(\"cqg.rtd\",,\"StudyData\", $D$4,  \"Bar\",, \"Close\",$E$4,C161,\"All\",,,,\"T\")*100)","v":28.21},null,null,null,28.21,null,null,null,null,null,null,-156,{"$f":"IF(RTD(\"cqg.rtd\",,\"StudyData\", $P$4,  \"Bar\",, \"Close\",$Q$4,O161,\"All\",,,,\"T\")=\"\",\"\",RTD(\"cqg.rtd\",,\"StudyData\", $P$4,  \"Bar\",, \"Close\",$Q$4,O161,\"All\",,,,\"T\")*100)","v":28.999999999999996},null,null,null,28.999999999999996]
[null,null,-157,{"$f":"IF(RTD(\"cqg.rtd\",,\"StudyData\", $D$4,  \"Bar\",, \"Close\",$E$4,C162,\"All\",,,,\"T\")=\"\",\"\",RTD(\"cqg.rtd\",,\"StudyData\", $D$4,  \"Bar\",, \"Close\",$E$4,C162,\"All\",,,,\"T\")*100)","v":30.5},null,null,null,30.5,null,null,null,null,null,null,-157,{"$f":"IF(RTD(\"cqg.rtd\",,\"StudyData\", $P$4,  \"Bar\",, \"Close\",$Q$4,O162,\"All\",,,,\"T\")=\"\",\"\",RTD(\"cqg.rtd\",,\"StudyData\", $P$4,  \"Bar\",, \"Close\",$Q$4,O162,\"All\",,,,\"T\")*100)","v":29.18},null,null,null,29.18]
[null,null,-158,{"$f":"IF(RTD(\"cqg.rtd\",,\"StudyData\", $D$4,  \"Bar\",, \"Close\",$E$4,C163,\"All\",,,,\"T\")=\"\",\"\",RTD(\"cqg.rtd\",,\"StudyData\", $D$4,  \"Bar\",, \"Close\",$E$4,C163,\"All\",,,,\"T\")*100)","v":29.81},null,null,null,29.81,null,null,null,null,null,null,-158,{"$f":"IF(RTD(\"cqg.rtd\",,\"StudyData\", $P$4,  \"Bar\",, \"Close\",$Q$4,O163,\"All\",,,,\"T\")=\"\",\"\",RTD(\"cqg.rtd\",,\"StudyData\", $P$4,  \"Bar\",, \"Close\",$Q$4,O163,\"All\",,,,\"T\")*100)","v":31.3},null,null,null,31.3]
[null,null,-159,{"$f":"IF(RTD(\"cqg.rtd\",,\"StudyData\", $D$4,  \"Bar\",, \"Close\",$E$4,C164,\"All\",,,,\"T\")=\"\",\"\",RTD(\"cqg.rtd\",,\"StudyData\", $D$4,  \"Bar\",, \"Close\",$E$4,C164,\"All\",,,,\"T\")*100)","v":30.349999999999998},null,null,null,30.349999999999998,null,null,null,null,null,null,-159,{"$f":"IF(RTD(\"cqg.rtd\",,\"StudyData\", $P$4,  \"Bar\",, \"Close\",$Q$4,O164,\"All\",,,,\"T\")=\"\",\"\",RTD(\"cqg.rtd\",,\"StudyData\", $P$4,  \"Bar\",, \"Close\",$Q$4,O164,\"All\",,,,\"T\")*100)","v":29.609999999999996},null,null,null,29.609999999999996]
[null,null,-160,{"$f":"IF(RTD(\"cqg.rtd\",,\"StudyData\", $D$4,  \"Bar\",, \"Close\",$E$4,C165,\"All\",,,,\"T\")=\"\",\"\",RTD(\"cqg.rtd\",,\"StudyData\", $D$4,  \"Bar\",, \"Close\",$E$4,C165,\"All\",,,,\"T\")*100)","v":29.86},null,null,null,29.86,null,null,null,null,null,null,-160,{"$f":"IF(RTD(\"cqg.rtd\",,\"StudyData\", $P$4,  \"Bar\",, \"Close\",$Q$4,O165,\"All\",,,,\"T\")=\"\",\"\",RTD(\"cqg.rtd\",,\"StudyData\", $P$4,  \"Bar\",, \"Close\",$Q$4,O165,\"All\",,,,\"T\")*100)","v":26.44},null,null,null,26.44]
[null,null,-161,{"$f":"IF(RTD(\"cqg.rtd\",,\"StudyData\", $D$4,  \"Bar\",, \"Close\",$E$4,C166,\"All\",,,,\"T\")=\"\",\"\",RTD(\"cqg.rtd\",,\"StudyData\", $D$4,  \"Bar\",, \"Close\",$E$4,C166,\"All\",,,,\"T\")*100)","v":29.110000000000003},null,null,null,29.110000000000003,null,null,null,null,null,null,-161,{"$f":"IF(RTD(\"cqg.rtd\",,\"StudyData\", $P$4,  \"Bar\",, \"Close\",$Q$4,O166,\"All\",,,,\"T\")=\"\",\"\",RTD(\"cqg.rtd\",,\"StudyData\", $P$4,  \"Bar\",, \"Close\",$Q$4,O166,\"All\",,,,\"T\")*100)","v":28.13},null,null,null,28.13]
[null,null,-162,{"$f":"IF(RTD(\"cqg.rtd\",,\"StudyData\", $D$4,  \"Bar\",, \"Close\",$E$4,C167,\"All\",,,,\"T\")=\"\",\"\",RTD(\"cqg.rtd\",,\"StudyData\", $D$4,  \"Bar\",, \"Close\",$E$4,C167,\"All\",,,,\"T\")*100)","v":30.31},null,null,null,30.31,null,null,null,null,null,null,-162,{"$f":"IF(RTD(\"cqg.rtd\",,\"StudyData\", $P$4,  \"Bar\",, \"Close\",$Q$4,O167,\"All\",,,,\"T\")=\"\",\"\",RTD(\"cqg.rtd\",,\"StudyData\", $P$4,  \"Bar\",, \"Close\",$Q$4,O167,\"All\",,,,\"T\")*100)","v":28.26},null,null,null,28.26]
[null,null,-163,{"$f":"IF(RTD(\"cqg.rtd\",,\"StudyData\", $D$4,  \"Bar\",, \"Close\",$E$4,C168,\"All\",,,,\"T\")=\"\",\"\",RTD(\"cqg.rtd\",,\"StudyData\", $D$4,  \"Bar\",, \"Close\",$E$4,C168,\"All\",,,,\"T\")*100)","v":30.509999999999998},null,null,null,30.509999999999998,null,null,null,null,null,null,-163,{"$f":"IF(RTD(\"cqg.rtd\",,\"StudyData\", $P$4,  \"Bar\",, \"Close\",$Q$4,O168,\"All\",,,,\"T\")=\"\",\"\",RTD(\"cqg.rtd\",,\"StudyData\", $P$4,  \"Bar\",, \"Close\",$Q$4,O168,\"All\",,,,\"T\")*100)","v":29.599999999999998},null,null,null,29.599999999999998]
[null,null,-164,{"$f":"IF(RTD(\"cqg.rtd\",,\"StudyData\", $D$4,  \"Bar\",, \"Close\",$E$4,C169,\"All\",,,,\"T\")=\"\",\"\",RTD(\"cqg.rtd\",,\"StudyData\", $D$4,  \"Bar\",, \"Close\",$E$4,C169,\"All\",,,,\"T\")*100)","v":28.689999999999998},null,null,null,28.689999999999998,null,null,null,null,null,null,-164,{"$f":"IF(RTD(\"cqg.rtd\",,\"StudyData\", $P$4,  \"Bar\",, \"Close\",$Q$4,O169,\"All\",,,,\"T\")=\"\",\"\",RTD(\"cqg.rtd\",,\"StudyData\", $P$4,  \"Bar\",, \"Close\",$Q$4,O169,\"All\",,,,\"T\")*100)","v":28.18},null,null,null,28.18]
[null,null,-165,{"$f":"IF(RTD(\"cqg.rtd\",,\"StudyData\", $D$4,  \"Bar\",, \"Close\",$E$4,C170,\"All\",,,,\"T\")=\"\",\"\",RTD(\"cqg.rtd\",,\"StudyData\", $D$4,  \"Bar\",, \"Close\",$E$4,C170,\"All\",,,,\"T\")*100)","v":28.02},null,null,null,28.02,null,null,null,null,null,null,-165,{"$f":"IF(RTD(\"cqg.rtd\",,\"StudyData\", $P$4,  \"Bar\",, \"Close\",$Q$4,O170,\"All\",,,,\"T\")=\"\",\"\",RTD(\"cqg.rtd\",,\"StudyData\", $P$4,  \"Bar\",, \"Close\",$Q$4,O170,\"All\",,,,\"T\")*100)","v":27.36},null,null,null,27.36]
[null,null,-166,{"$f":"IF(RTD(\"cqg.rtd\",,\"StudyData\", $D$4,  \"Bar\",, \"Close\",$E$4,C171,\"All\",,,,\"T\")=\"\",\"\",RTD(\"cqg.rtd\",,\"StudyData\", $D$4,  \"Bar\",, \"Close\",$E$4,C171,\"All\",,,,\"T\")*100)","v":27.439999999999998},null,null,null,27.439999999999998,null,null,null,null,null,null,-166,{"$f":"IF(RTD(\"cqg.rtd\",,\"StudyData\", $P$4,  \"Bar\",, \"Close\",$Q$4,O171,\"All\",,,,\"T\")=\"\",\"\",RTD(\"cqg.rtd\",,\"StudyData\", $P$4,  \"Bar\",, \"Close\",$Q$4,O171,\"All\",,,,\"T\")*100)","v":26.76},null,null,null,26.76]
[null,null,-167,{"$f":"IF(RTD(\"cqg.rtd\",,\"StudyData\", $D$4,  \"Bar\",, \"Close\",$E$4,C172,\"All\",,,,\"T\")=\"\",\"\",RTD(\"cqg.rtd\",,\"StudyData\", $D$4,  \"Bar\",, \"Close\",$E$4,C172,\"All\",,,,\"T\")*100)","v":28.1},null,null,null,28.1,null,null,null,null,null,null,-167,{"$f":"IF(RTD(\"cqg.rtd\",,\"StudyData\", $P$4,  \"Bar\",, \"Close\",$Q$4,O172,\"All\",,,,\"T\")=\"\",\"\",RTD(\"cqg.rtd\",,\"StudyData\", $P$4,  \"Bar\",, \"Close\",$Q$4,O172,\"All\",,,,\"T\")*100)","v":26.76},null,null,null,26.76]
[null,null,-168,{"$f":"IF(RTD(\"cqg.rtd\",,\"StudyData\", $D$4,  \"Bar\",, \"Close\",$E$4,C173,\"All\",,,,\"T\")=\"\",\"\",RTD(\"cqg.rtd\",,\"StudyData\", $D$4,  \"Bar\",, \"Close\",$E$4,C173,\"All\",,,,\"T\")*100)","v":28.46},null,null,null,28.46,null,null,null,null,null,null,-168,{"$f":"IF(RTD(\"cqg.rtd\",,\"StudyData\", $P$4,  \"Bar\",, \"Close\",$Q$4,O173,\"All\",,,,\"T\")=\"\",\"\",RTD(\"cqg.rtd\",,\"StudyData\", $P$4,  \"Bar\",, \"Close\",$Q$4,O173,\"All\",,,,\"T\")*100)","v":28.799999999999997},null,null,null,28.799999999999997]
[null,null,-169,{"$f":"IF(RTD(\"cqg.rtd\",,\"StudyData\", $D$4,  \"Bar\",, \"Close\",$E$4,C174,\"All\",,,,\"T\")=\"\",\"\",RTD(\"cqg.rtd\",,\"StudyData\", $D$4,  \"Bar\",, \"Close\",$E$4,C174,\"All\",,,,\"T\")*100)","v":29.7},null,null,null,29.7,null,null,null,null,null,null,-169,{"$f":"IF(RTD(\"cqg.rtd\",,\"StudyData\", $P$4,  \"Bar\",, \"Close\",$Q$4,O174,\"All\",,,,\"T\")=\"\",\"\",RTD(\"cqg.rtd\",,\"StudyData\", $P$4,  \"Bar\",, \"Close\",$Q$4,O174,\"All\",,,,\"T\")*100)","v":28.050000000000004},null,null,null,28.050000000000004]
[null,null,-170,{"$f":"IF(RTD(\"cqg.rtd\",,\"StudyData\", $D$4,  \"Bar\",, \"Close\",$E$4,C175,\"All\",,,,\"T\")=\"\",\"\",RTD(\"cqg.rtd\",,\"StudyData\", $D$4,  \"Bar\",, \"Close\",$E$4,C175,\"All\",,,,\"T\")*100)","v":28.54},null,null,null,28.54,null,null,null,null,null,null,-170,{"$f":"IF(RTD(\"cqg.rtd\",,\"StudyData\", $P$4,  \"Bar\",, \"Close\",$Q$4,O175,\"All\",,,,\"T\")=\"\",\"\",RTD(\"cqg.rtd\",,\"StudyData\", $P$4,  \"Bar\",, \"Close\",$Q$4,O175,\"All\",,,,\"T\")*100)","v":29.110000000000003},null,null,null,29.110000000000003]
[null,null,-171,{"$f":"IF(RTD(\"cqg.rtd\",,\"StudyData\", $D$4,  \"Bar\",, \"Close\",$E$4,C176,\"All\",,,,\"T\")=\"\",\"\",RTD(\"cqg.rtd\",,\"StudyData\", $D$4,  \"Bar\",, \"Close\",$E$4,C176,\"All\",,,,\"T\")*100)","v":27.71},null,null,null,27.71,null,null,null,null,null,null,-171,{"$f":"IF(RTD(\"cqg.rtd\",,\"StudyData\", $P$4,  \"Bar\",, \"Close\",$Q$4,O176,\"All\",,,,\"T\")=\"\",\"\",RTD(\"cqg.rtd\",,\"StudyData\", $P$4,  \"Bar\",, \"Close\",$Q$4,O176,\"All\",,,,\"T\")*100)","v":27.51},null,null,null,27.51]
[null,null,-172,{"$f":"IF(RTD(\"cqg.rtd\",,\"StudyData\", $D$4,  \"Bar\",, \"Close\",$E$4,C177,\"All\",,,,\"T\")=\"\",\"\",RTD(\"cqg.rtd\",,\"StudyData\", $D$4,  \"Bar\",, \"Close\",$E$4,C177,\"All\",,,,\"T\")*100)","v":28.34},null,null,null,28.34,null,null,null,null,null,null,-172,{"$f":"IF(RTD(\"cqg.rtd\",,\"StudyData\", $P$4,  \"Bar\",, \"Close\",$Q$4,O177,\"All\",,,,\"T\")=\"\",\"\",RTD(\"cqg.rtd\",,\"StudyData\", $P$4,  \"Bar\",, \"Close\",$Q$4,O177,\"All\",,,,\"T\")*100)","v":29.330000000000002},null,null,null,29.330000000000002]
[null,null,-173,{"$f":"IF(RTD(\"cqg.rtd\",,\"StudyData\", $D$4,  \"Bar\",, \"Close\",$E$4,C178,\"All\",,,,\"T\")=\"\",\"\",RTD(\"cqg.rtd\",,\"StudyData\", $D$4,  \"Bar\",, \"Close\",$E$4,C178,\"All\",,,,\"T\")*100)","v":29.220000000000002},null,null,null,29.220000000000002,null,null,null,null,null,null,-173,{"$f":"IF(RTD(\"cqg.rtd\",,\"StudyData\", $P$4,  \"Bar\",, \"Close\",$Q$4,O178,\"All\",,,,\"T\")=\"\",\"\",RTD(\"cqg.rtd\",,\"StudyData\", $P$4,  \"Bar\",, \"Close\",$Q$4,O178,\"All\",,,,\"T\")*100)","v":30.159999999999997},null,null,null,30.159999999999997]
[null,null,-174,{"$f":"IF(RTD(\"cqg.rtd\",,\"StudyData\", $D$4,  \"Bar\",, \"Close\",$E$4,C179,\"All\",,,,\"T\")=\"\",\"\",RTD(\"cqg.rtd\",,\"StudyData\", $D$4,  \"Bar\",, \"Close\",$E$4,C179,\"All\",,,,\"T\")*100)","v":30.080000000000002},null,null,null,30.080000000000002,null,null,null,null,null,null,-174,{"$f":"IF(RTD(\"cqg.rtd\",,\"StudyData\", $P$4,  \"Bar\",, \"Close\",$Q$4,O179,\"All\",,,,\"T\")=\"\",\"\",RTD(\"cqg.rtd\",,\"StudyData\", $P$4,  \"Bar\",, \"Close\",$Q$4,O179,\"All\",,,,\"T\")*100)","v":30.69},null,null,null,30.69]
[null,null,-175,{"$f":"IF(RTD(\"cqg.rtd\",,\"StudyData\", $D$4,  \"Bar\",, \"Close\",$E$4,C180,\"All\",,,,\"T\")=\"\",\"\",RTD(\"cqg.rtd\",,\"StudyData\", $D$4,  \"Bar\",, \"Close\",$E$4,C180,\"All\",,,,\"T\")*100)","v":31.180000000000003},null,null,null,31.180000000000003,null,null,null,null,null,null,-175,{"$f":"IF(RTD(\"cqg.rtd\",,\"StudyData\", $P$4,  \"Bar\",, \"Close\",$Q$4,O180,\"All\",,,,\"T\")=\"\",\"\",RTD(\"cqg.rtd\",,\"StudyData\", $P$4,  \"Bar\",, \"Close\",$Q$4,O180,\"All\",,,,\"T\")*100)","v":29.04},null,null,null,29.04]
[null,null,-176,{"$f":"IF(RTD(\"cqg.rtd\",,\"StudyData\", $D$4,  \"Bar\",, \"Close\",$E$4,C181,\"All\",,,,\"T\")=\"\",\"\",RTD(\"cqg.rtd\",,\"StudyData\", $D$4,  \"Bar\",, \"Close\",$E$4,C181,\"All\",,,,\"T\")*100)","v":31.879999999999995},null,null,null,31.879999999999995,null,null,null,null,null,null,-176,{"$f":"IF(RTD(\"cqg.rtd\",,\"StudyData\", $P$4,  \"Bar\",, \"Close\",$Q$4,O181,\"All\",,,,\"T\")=\"\",\"\",RTD(\"cqg.rtd\",,\"StudyData\", $P$4,  \"Bar\",, \"Close\",$Q$4,O181,\"All\",,,,\"T\")*100)","v":28.860000000000003},null,null,null,28.860000000000003]
[null,null,-177,{"$f":"IF(RTD(\"cqg.rtd\",,\"StudyData\", $D$4,  \"Bar\",, \"Close\",$E$4,C182,\"All\",,,,\"T\")=\"\",\"\",RTD(\"cqg.rtd\",,\"StudyData\", $D$4,  \"Bar\",, \"Close\",$E$4,C182,\"All\",,,,\"T\")*100)","v":32.1},null,null,null,32.1,null,null,null,null,null,null,-177,{"$f":"IF(RTD(\"cqg.rtd\",,\"StudyData\", $P$4,  \"Bar\",, \"Close\",$Q$4,O182,\"All\",,,,\"T\")=\"\",\"\",RTD(\"cqg.rtd\",,\"StudyData\", $P$4,  \"Bar\",, \"Close\",$Q$4,O182,\"All\",,,,\"T\")*100)","v":30.270000000000003},null,null,null,30.270000000000003]
[null,null,-178,{"$f":"IF(RTD(\"cqg.rtd\",,\"StudyData\", $D$4,  \"Bar\",, \"Close\",$E$4,C183,\"All\",,,,\"T\")=\"\",\"\",RTD(\"cqg.rtd\",,\"StudyData\", $D$4,  \"Bar\",, \"Close\",$E$4,C183,\"All\",,,,\"T\")*100)","v":30.409999999999997},null,null,null,30.409999999999997,null,null,null,null,null,null,-178,{"$f":"IF(RTD(\"cqg.rtd\",,\"StudyData\", $P$4,  \"Bar\",, \"Close\",$Q$4,O183,\"All\",,,,\"T\")=\"\",\"\",RTD(\"cqg.rtd\",,\"StudyData\", $P$4,  \"Bar\",, \"Close\",$Q$4,O183,\"All\",,,,\"T\")*100)","v":32.61},null,null,null,32.61]
[null,null,-179,{"$f":"IF(RTD(\"cqg.rtd\",,\"StudyData\", $D$4,  \"Bar\",, \"Close\",$E$4,C184,\"All\",,,,\"T\")=\"\",\"\",RTD(\"cqg.rtd\",,\"StudyData\", $D$4,  \"Bar\",, \"Close\",$E$4,C184,\"All\",,,,\"T\")*100)","v":31.740000000000002},null,null,null,31.740000000000002,null,null,null,null,null,null,-179,{"$f":"IF(RTD(\"cqg.rtd\",,\"StudyData\", $P$4,  \"Bar\",, \"Close\",$Q$4,O184,\"All\",,,,\"T\")=\"\",\"\",RTD(\"cqg.rtd\",,\"StudyData\", $P$4,  \"Bar\",, \"Close\",$Q$4,O184,\"All\",,,,\"T\")*100)","v":30.220000000000002},null,null,null,30.220000000000002]
[null,null,-180,{"$f":"IF(RTD(\"cqg.rtd\",,\"StudyData\", $D$4,  \"Bar\",, \"Close\",$E$4,C185,\"All\",,,,\"T\")=\"\",\"\",RTD(\"cqg.rtd\",,\"StudyData\", $D$4,  \"Bar\",, \"Close\",$E$4,C185,\"All\",,,,\"T\")*100)","v":33.03},null,null,null,33.03,null,null,null,null,null,null,-180,{"$f":"IF(RTD(\"cqg.rtd\",,\"StudyData\", $P$4,  \"Bar\",, \"Close\",$Q$4,O185,\"All\",,,,\"T\")=\"\",\"\",RTD(\"cqg.rtd\",,\"StudyData\", $P$4,  \"Bar\",, \"Close\",$Q$4,O185,\"All\",,,,\"T\")*100)","v":31.81},null,null,null,31.81]
[null,null,-181,{"$f":"IF(RTD(\"cqg.rtd\",,\"StudyData\", $D$4,  \"Bar\",, \"Close\",$E$4,C186,\"All\",,,,\"T\")=\"\",\"\",RTD(\"cqg.rtd\",,\"StudyData\", $D$4,  \"Bar\",, \"Close\",$E$4,C186,\"All\",,,,\"T\")*100)","v":35.57},null,null,null,35.57,null,null,null,null,null,null,-181,{"$f":"IF(RTD(\"cqg.rtd\",,\"StudyData\", $P$4,  \"Bar\",, \"Close\",$Q$4,O186,\"All\",,,,\"T\")=\"\",\"\",RTD(\"cqg.rtd\",,\"StudyData\", $P$4,  \"Bar\",, \"Close\",$Q$4,O186,\"All\",,,,\"T\")*100)","v":32.369999999999997},null,null,null,32.369999999999997]
[null,null,-182,{"$f":"IF(RTD(\"cqg.rtd\",,\"StudyData\", $D$4,  \"Bar\",, \"Close\",$E$4,C187,\"All\",,,,\"T\")=\"\",\"\",RTD(\"cqg.rtd\",,\"StudyData\", $D$4,  \"Bar\",, \"Close\",$E$4,C187,\"All\",,,,\"T\")*100)","v":37.950000000000003},null,null,null,37.950000000000003,null,null,null,null,null,null,-182,{"$f":"IF(RTD(\"cqg.rtd\",,\"StudyData\", $P$4,  \"Bar\",, \"Close\",$Q$4,O187,\"All\",,,,\"T\")=\"\",\"\",RTD(\"cqg.rtd\",,\"StudyData\", $P$4,  \"Bar\",, \"Close\",$Q$4,O187,\"All\",,,,\"T\")*100)","v":32.18},null,null,null,32.18]
[null,null,-183,{"$f":"IF(RTD(\"cqg.rtd\",,\"StudyData\", $D$4,  \"Bar\",, \"Close\",$E$4,C188,\"All\",,,,\"T\")=\"\",\"\",RTD(\"cqg.rtd\",,\"StudyData\", $D$4,  \"Bar\",, \"Close\",$E$4,C188,\"All\",,,,\"T\")*100)","v":34.61},null,null,null,34.61,null,null,null,null,null,null,-183,{"$f":"IF(RTD(\"cqg.rtd\",,\"StudyData\", $P$4,  \"Bar\",, \"Close\",$Q$4,O188,\"All\",,,,\"T\")=\"\",\"\",RTD(\"cqg.rtd\",,\"StudyData\", $P$4,  \"Bar\",, \"Close\",$Q$4,O188,\"All\",,,,\"T\")*100)","v":33.650000000000006},null,null,null,33.650000000000006]
[null,null,-184,{"$f":"IF(RTD(\"cqg.rtd\",,\"StudyData\", $D$4,  \"Bar\",, \"Close\",$E$4,C189,\"All\",,,,\"T\")=\"\",\"\",RTD(\"cqg.rtd\",,\"StudyData\", $D$4,  \"Bar\",, \"Close\",$E$4,C189,\"All\",,,,\"T\")*100)","v":38.17},null,null,null,38.17,null,null,null,null,null,null,-184,{"$f":"IF(RTD(\"cqg.rtd\",,\"StudyData\", $P$4,  \"Bar\",, \"Close\",$Q$4,O189,\"All\",,,,\"T\")=\"\",\"\",RTD(\"cqg.rtd\",,\"StudyData\", $P$4,  \"Bar\",, \"Close\",$Q$4,O189,\"All\",,,,\"T\")*100)","v":33.69},null,null,null,33.69]
[null,null,-185,{"$f":"IF(RTD(\"cqg.rtd\",,\"StudyData\", $D$4,  \"Bar\",, \"Close\",$E$4,C190,\"All\",,,,\"T\")=\"\",\"\",RTD(\"cqg.rtd\",,\"StudyData\", $D$4,  \"Bar\",, \"Close\",$E$4,C190,\"All\",,,,\"T\")*100)","v":43.8},null,null,null,43.8,null,null,null,null,null,null,-185,{"$f":"IF(RTD(\"cqg.rtd\",,\"StudyData\", $P$4,  \"Bar\",, \"Close\",$Q$4,O190,\"All\",,,,\"T\")=\"\",\"\",RTD(\"cqg.rtd\",,\"StudyData\", $P$4,  \"Bar\",, \"Close\",$Q$4,O190,\"All\",,,,\"T\")*100)","v":37.69},null,null,null,37.69]
[null,null,-186,{"$f":"IF(RTD(\"cqg.rtd\",,\"StudyData\", $D$4,  \"Bar\",, \"Close\",$E$4,C191,\"All\",,,,\"T\")=\"\",\"\",RTD(\"cqg.rtd\",,\"StudyData\", $D$4,  \"Bar\",, \"Close\",$E$4,C191,\"All\",,,,\"T\")*100)","v":49.6},null,null,null,49.6,null,null,null,null,null,null,-186,{"$f":"IF(RTD(\"cqg.rtd\",,\"StudyData\", $P$4,  \"Bar\",, \"Close\",$Q$4,O191,\"All\",,,,\"T\")=\"\",\"\",RTD(\"cqg.rtd\",,\"StudyData\", $P$4,  \"Bar\",, \"Close\",$Q$4,O191,\"All\",,,,\"T\")*100)","v":50.07},null,null,null,50.07]
[null,null,-187,{"$f":"IF(RTD(\"cqg.rtd\",,\"StudyData\", $D$4,  \"Bar\",, \"Close\",$E$4,C192,\"All\",,,,\"T\")=\"\",\"\",RTD(\"cqg.rtd\",,\"StudyData\", $D$4,  \"Bar\",, \"Close\",$E$4,C192,\"All\",,,,\"T\")*100)","v":46.94},null,null,null,46.94,null,null,null,null,null,null,-187,{"$f":"IF(RTD(\"cqg.rtd\",,\"StudyData\", $P$4,  \"Bar\",, \"Close\",$Q$4,O192,\"All\",,,,\"T\")=\"\",\"\",RTD(\"cqg.rtd\",,\"StudyData\", $P$4,  \"Bar\",, \"Close\",$Q$4,O192,\"All\",,,,\"T\")*100)","v":46.800000000000004},null,null,null,46.800000000000004]
[null,null,-188,{"$f":"IF(RTD(\"cqg.rtd\",,\"StudyData\", $D$4,  \"Bar\",, \"Close\",$E$4,C193,\"All\",,,,\"T\")=\"\",\"\",RTD(\"cqg.rtd\",,\"StudyData\", $D$4,  \"Bar\",, \"Close\",$E$4,C193,\"All\",,,,\"T\")*100)","v":47.14},null,null,null,47.14,null,null,null,null,null,null,-188,{"$f":"IF(RTD(\"cqg.rtd\",,\"StudyData\", $P$4,  \"Bar\",, \"Close\",$Q$4,O193,\"All\",,,,\"T\")=\"\",\"\",RTD(\"cqg.rtd\",,\"StudyData\", $P$4,  \"Bar\",, \"Close\",$Q$4,O193,\"All\",,,,\"T\")*100)","v":48.17},null,null,null,48.17]
[null,null,-189,{"$f":"IF(RTD(\"cqg.rtd\",,\"StudyData\", $D$4,  \"Bar\",, \"Close\",$E$4,C194,\"All\",,,,\"T\")=\"\",\"\",RTD(\"cqg.rtd\",,\"StudyData\", $D$4,  \"Bar\",, \"Close\",$E$4,C194,\"All\",,,,\"T\")*100)","v":43.11},null,null,null,43.11,null,null,null,null,null,null,-189,{"$f":"IF(RTD(\"cqg.rtd\",,\"StudyData\", $P$4,  \"Bar\",, \"Close\",$Q$4,O194,\"All\",,,,\"T\")=\"\",\"\",RTD(\"cqg.rtd\",,\"StudyData\", $P$4,  \"Bar\",, \"Close\",$Q$4,O194,\"All\",,,,\"T\")*100)","v":38.21},null,null,null,38.21]
[null,null,-190,{"$f":"IF(RTD(\"cqg.rtd\",,\"StudyData\", $D$4,  \"Bar\",, \"Close\",$E$4,C195,\"All\",,,,\"T\")=\"\",\"\",RTD(\"cqg.rtd\",,\"StudyData\", $D$4,  \"Bar\",, \"Close\",$E$4,C195,\"All\",,,,\"T\")*100)","v":41.8},null,null,null,41.8,null,null,null,null,null,null,-190,{"$f":"IF(RTD(\"cqg.rtd\",,\"StudyData\", $P$4,  \"Bar\",, \"Close\",$Q$4,O195,\"All\",,,,\"T\")=\"\",\"\",RTD(\"cqg.rtd\",,\"StudyData\", $P$4,  \"Bar\",, \"Close\",$Q$4,O195,\"All\",,,,\"T\")*100)","v":37.97},null,null,null,37.97]
[null,null,-191,{"$f":"IF(RTD(\"cqg.rtd\",,\"StudyData\", $D$4,  \"Bar\",, \"Close\",$E$4,C196,\"All\",,,,\"T\")=\"\",\"\",RTD(\"cqg.rtd\",,\"StudyData\", $D$4,  \"Bar\",, \"Close\",$E$4,C196,\"All\",,,,\"T\")*100)","v":40.949999999999996},null,null,null,40.949999999999996,null,null,null,null,null,null,-191,{"$f":"IF(RTD(\"cqg.rtd\",,\"StudyData\", $P$4,  \"Bar\",, \"Close\",$Q$4,O196,\"All\",,,,\"T\")=\"\",\"\",RTD(\"cqg.rtd\",,\"StudyData\", $P$4,  \"Bar\",, \"Close\",$Q$4,O196,\"All\",,,,\"T\")*100)","v":39.550000000000004},null,null,null,39.550000000000004]
[null,null,-192,{"$f":"IF(RTD(\"cqg.rtd\",,\"StudyData\", $D$4,  \"Bar\",, \"Close\",$E$4,C197,\"All\",,,,\"T\")=\"\",\"\",RTD(\"cqg.rtd\",,\"StudyData\", $D$4,  \"Bar\",, \"Close\",$E$4,C197,\"All\",,,,\"T\")*100)","v":43.68},null,null,null,43.68,null,null,null,null,null,null,-192,{"$f":"IF(RTD(\"cqg.rtd\",,\"StudyData\", $P$4,  \"Bar\",, \"Close\",$Q$4,O197,\"All\",,,,\"T\")=\"\",\"\",RTD(\"cqg.rtd\",,\"StudyData\", $P$4,  \"Bar\",, \"Close\",$Q$4,O197,\"All\",,,,\"T\")*100)","v":38.36},null,null,null,38.36]
[null,null,-193,{"$f":"IF(RTD(\"cqg.rtd\",,\"StudyData\", $D$4,  \"Bar\",, \"Close\",$E$4,C198,\"All\",,,,\"T\")=\"\",\"\",RTD(\"cqg.rtd\",,\"StudyData\", $D$4,  \"Bar\",, \"Close\",$E$4,C198,\"All\",,,,\"T\")*100)","v":46.61},null,null,null,{"$f":"D198","v":46.61},null,null,null,null,null,null,-193,{"$f":"IF(RTD(\"cqg.rtd\",,\"StudyData\", $P$4,  \"Bar\",, \"Close\",$Q$4,O198,\"All\",,,,\"T\")=\"\",\"\",RTD(\"cqg.rtd\",,\"StudyData\", $P$4,  \"Bar\",, \"Close\",$Q$4,O198,\"All\",,,,\"T\")*100)","v":40.129999999999995},null,null,null,{"$f":"P198","v":40.129999999999995}]
[null,null,{"$f":"C198-1","v":-194},{"$f":"IF(RTD(\"cqg.rtd\",,\"StudyData\", $D$4,  \"Bar\",, \"Close\",$E$4,C199,\"All\",,,,\"T\")=\"\",\"\",RTD(\"cqg.rtd\",,\"StudyData\", $D$4,  \"Bar\",, \"Close\",$E$4,C199,\"All\",,,,\"T\")*100)","v":45.519999999999996},null,null,null,45.519999999999996,null,null,null,null,null,null,{"$f":"O198-1","v":-194},{"$f":"IF(RTD(\"cqg.rtd\",,\"StudyData\", $P$4,  \"Bar\",, \"Close\",$Q$4,O199,\"All\",,,,\"T\")=\"\",\"\",RTD(\"cqg.rtd\",,\"StudyData\", $P$4,  \"Bar\",, \"Close\",$Q$4,O199,\"All\",,,,\"T\")*100)","v":40.98},null,null,null,40.98]
[null,null,-195,{"$f":"IF(RTD(\"cqg.rtd\",,\"StudyData\", $D$4,  \"Bar\",, \"Close\",$E$4,C200,\"All\",,,,\"T\")=\"\",\"\",RTD(\"cqg.rtd\",,\"StudyData\", $D$4,  \"Bar\",, \"Close\",$E$4,C200,\"All\",,,,\"T\")*100)","v":41.07},null,null,null,41.07,null,null,null,null,null,null,-195,{"$f":"IF(RTD(\"cqg.rtd\",,\"StudyData\", $P$4,  \"Bar\",, \"Close\",$Q$4,O200,\"All\",,,,\"T\")=\"\",\"\",RTD(\"cqg.rtd\",,\"StudyData\", $P$4,  \"Bar\",, \"Close\",$Q$4,O200,\"All\",,,,\"T\")*100)","v":41.32},null,null,null,41.32]
[null,null,-196,{"$f":"IF(RTD(\"cqg.rtd\",,\"StudyData\", $D$4,  \"Bar\",, \"Close\",$E$4,C201,\"All\",,,,\"T\")=\"\",\"\",RTD(\"cqg.rtd\",,\"StudyData\", $D$4,  \"Bar\",, \"Close\",$E$4,C201,\"All\",,,,\"T\")*100)","v":47.92},null,null,null,47.92,null,null,null,null,null,null,-196,{"$f":"IF(RTD(\"cqg.rtd\",,\"StudyData\", $P$4,  \"Bar\",, \"Close\",$Q$4,O201,\"All\",,,,\"T\")=\"\",\"\",RTD(\"cqg.rtd\",,\"StudyData\", $P$4,  \"Bar\",, \"Close\",$Q$4,O201,\"All\",,,,\"T\")*100)","v":44.25},null,null,null,44.25]
[null,null,-197,{"$f":"IF(RTD(\"cqg.rtd\",,\"StudyData\", $D$4,  \"Bar\",, \"Close\",$E$4,C202,\"All\",,,,\"T\")=\"\",\"\",RTD(\"cqg.rtd\",,\"StudyData\", $D$4,  \"Bar\",, \"Close\",$E$4,C202,\"All\",,,,\"T\")*100)","v":39.72},null,null,null,39.72,null,null,null,null,null,null,-197,{"$f":"IF(RTD(\"cqg.rtd\",,\"StudyData\", $P$4,  \"Bar\",, \"Close\",$Q$4,O202,\"All\",,,,\"T\")=\"\",\"\",RTD(\"cqg.rtd\",,\"StudyData\", $P$4,  \"Bar\",, \"Close\",$Q$4,O202,\"All\",,,,\"T\")*100)","v":40.61},null,null,null,40.61]
[null,null,-198,{"$f":"IF(RTD(\"cqg.rtd\",,\"StudyData\", $D$4,  \"Bar\",, \"Close\",$E$4,C203,\"All\",,,,\"T\")=\"\",\"\",RTD(\"cqg.rtd\",,\"StudyData\", $D$4,  \"Bar\",, \"Close\",$E$4,C203,\"All\",,,,\"T\")*100)","v":40.06},null,null,null,40.06,null,null,null,null,null,null,-198,{"$f":"IF(RTD(\"cqg.rtd\",,\"StudyData\", $P$4,  \"Bar\",, \"Close\",$Q$4,O203,\"All\",,,,\"T\")=\"\",\"\",RTD(\"cqg.rtd\",,\"StudyData\", $P$4,  \"Bar\",, \"Close\",$Q$4,O203,\"All\",,,,\"T\")*100)","v":36.18},null,null,null,36.18]
[null,null,-199,{"$f":"IF(RTD(\"cqg.rtd\",,\"StudyData\", $D$4,  \"Bar\",, \"Close\",$E$4,C204,\"All\",,,,\"T\")=\"\",\"\",RTD(\"cqg.rtd\",,\"StudyData\", $D$4,  \"Bar\",, \"Close\",$E$4,C204,\"All\",,,,\"T\")*100)","v":38.26},{"$f":" RTD(\"cqg.rtd\",,\"StudyData\", $D$4,  \"Bar\",, \"Time\",$E$4,C204,,,,,\"T\")","v":"2016-11-09"},null,null,38.26,null,null,null,null,null,null,-199,{"$f":"IF(RTD(\"cqg.rtd\",,\"StudyData\", $P$4,  \"Bar\",, \"Close\",$Q$4,O204,\"All\",,,,\"T\")=\"\",\"\",RTD(\"cqg.rtd\",,\"StudyData\", $P$4,  \"Bar\",, \"Close\",$Q$4,O204,\"All\",,,,\"T\")*100)","v":37.549999999999997},{"$f":" RTD(\"cqg.rtd\",,\"StudyData\", $D$4,  \"Bar\",, \"Time\",$E$4,O204,,,,,\"T\")","v":"2016-11-09"},null,null,37.549999999999997]