{"text_format":"1","workbook":"xlsx","n_sheets":2,"sheets":["Display","KBE"],"not_rendered":{"charts":2,"images":3,"macros":1,"external_links":0,"defined_names":0,"comments":0,"pivot_tables":0},"unopened":[],"bounds":{"document_bytes":16777216,"sheet_cells":100000,"rows_first":2000,"rows_last":500,"rows_between":2000,"halvings":0,"cell_chars":16384,"cell_head_chars":4096},"cells_cut":0,"cells_raw":0,"read":"whole","date_system":"1900"}

{"sheet":"Display","index":0,"n_rows":53,"n_cols":28,"rows_kept":53,"cut":false,"hidden":false,"merged":[[26,18,26,30],[6,2,6,6],[7,2,7,6],[8,2,8,6],[14,2,14,6],[10,2,10,6],[11,2,11,6],[12,2,12,6],[13,2,13,6],[8,14,8,15],[7,14,7,15],[6,14,6,15],[20,2,20,6],[20,14,20,15],[21,2,21,6],[21,14,21,15],[1,1,2,4],[1,27,2,30],[1,5,2,26],[4,18,4,30],[17,2,17,6],[17,14,17,15],[15,2,15,6],[5,2,5,6],[15,14,15,15],[14,14,14,15],[13,14,13,15],[12,14,12,15],[11,14,11,15],[10,14,10,15],[9,14,9,15],[9,2,9,6],[5,14,5,15],[4,1,4,16],[18,2,18,6],[18,14,18,15],[19,2,19,6],[19,14,19,15],[16,2,16,6],[16,14,16,15],[22,2,22,6],[22,14,22,15],[23,2,23,6],[23,14,23,15],[24,2,24,6],[24,14,24,15],[25,2,25,6],[25,14,25,15],[26,2,26,6],[26,14,26,15],[27,2,27,6],[27,14,27,15],[28,2,28,6],[28,14,28,15],[29,2,29,6],[29,14,29,15],[30,2,30,6],[30,14,30,15],[31,2,31,6],[31,14,31,15],[33,2,33,6],[33,14,33,15],[34,2,34,6],[34,14,34,15],[32,2,32,6],[32,14,32,15],[44,14,44,15],[45,2,45,6],[45,14,45,15],[40,2,40,6],[40,14,40,15],[42,2,42,6],[42,14,42,15],[41,2,41,6],[41,14,41,15],[43,2,43,6],[43,14,43,15],[35,2,35,6],[35,14,35,15],[36,2,36,6],[36,14,36,15],[48,9,48,24],[46,2,46,6],[46,14,46,15],[47,2,47,6],[47,14,47,15],[37,2,37,6],[37,14,37,15],[38,2,38,6],[38,14,38,15],[39,2,39,6],[39,14,39,15],[44,2,44,6]]}
[]
[null,null,null,null,null,"CQG SPDR® S&P® Bank ETF Performance",null,null,null,null,null,null,null,null,null,null,null,null,null,null,null,null,null,null,null,null,null,{"$f":"RTD(\"cqg.rtd\", ,\"SystemInfo\", \"Linetime\")","v":42915.675243055557}]
[]
[]
[null,"Exchange Traded Funds Performance",null,null,null,null,null,null,null,null,null,null,null,null,null,null,null,null,"Top 15 Performing Companies "]
[null,"Symbol","Description",null,null,null,null,"Last","NC","%NC","NC/ATR","Open","High","Low","Volume",null,"Ratio"]
[null,"KBE",{"$f":"RTD(\"cqg.rtd\", ,\"ContractData\",B7, \"LongDescription\",, \"T\")","v":"SPDR S&P Bank ETF"},null,null,null,null,{"$f":"RTD(\"cqg.rtd\", ,\"ContractData\",B7, \"LastTradeToday\",, \"T\")","v":43.71},{"$f":"RTD(\"cqg.rtd\", ,\"ContractData\",B7, \"NetLastTradeToday\",, \"T\")","v":0.71},{"$f":"RTD(\"cqg.rtd\", ,\"ContractData\",B7, \"PerCentNetLastTrade\",, \"T\")/100","v":1.6511627906976745E-2},{"$f":" I7/RTD(\"cqg.rtd\",,\"StudyData\",B7, \"ATR\", \"MaType=Sim,Period=10\", \"ATR\",\"D\",\"-1\",\"ALL\",,,\"FALSE\",\"T\")/100","v":1.1076443057722308E-2},{"$f":"RTD(\"cqg.rtd\", ,\"ContractData\",B7, \"OPen\",, \"T\")","v":44.19},{"$f":"RTD(\"cqg.rtd\", ,\"ContractData\", B7, \"HIgh\",, \"T\")","v":44.32},{"$f":"RTD(\"cqg.rtd\", ,\"ContractData\",B7, \"LOw\",, \"T\")","v":43.25},{"$f":"RTD(\"cqg.rtd\", ,\"ContractData\",B7, \"T_CVol\",, \"T\")","v":6109758},null,{"$f":" IFERROR(O7/RTD(\"cqg.rtd\",,\"StudyData\",B7, \"MA\", \"InputChoice=Vol,MAType=Sim,Period=21\", \"MA\",\"D\",\"-1\",\"all\",,,,\"T\"),\"\")","v":2.5383965842365703}]
[null,"SPY",{"$f":"RTD(\"cqg.rtd\", ,\"ContractData\",B8, \"LongDescription\",, \"T\")","v":"SPDR S&P 500"},null,null,null,null,{"$f":"RTD(\"cqg.rtd\", ,\"ContractData\",B8, \"LastTradeToday\",, \"T\")","v":241.74},{"$f":"RTD(\"cqg.rtd\", ,\"ContractData\",B8, \"NetLastTradeToday\",, \"T\")","v":-2.14},{"$f":"RTD(\"cqg.rtd\", ,\"ContractData\",B8, \"PerCentNetLastTrade\",, \"T\")/100","v":-8.7888619655838024E-3},{"$f":" I8/RTD(\"cqg.rtd\",,\"StudyData\",B8, \"ATR\", \"MaType=Sim,Period=10\", \"ATR\",\"D\",\"-1\",\"ALL\",,,\"FALSE\",\"T\")/100","v":-1.2822049131216297E-2},{"$f":"RTD(\"cqg.rtd\", ,\"ContractData\",B8, \"OPen\",, \"T\")","v":243.66},{"$f":"RTD(\"cqg.rtd\", ,\"ContractData\", B8, \"HIgh\",, \"T\")","v":243.72},{"$f":"RTD(\"cqg.rtd\", ,\"ContractData\",B8, \"LOw\",, \"T\")","v":239.95000000000002},{"$f":"RTD(\"cqg.rtd\", ,\"ContractData\",B8, \"T_CVol\",, \"T\")","v":105686001},null,{"$f":" IFERROR(O8/RTD(\"cqg.rtd\",,\"StudyData\",B8, \"MA\", \"InputChoice=Vol,MAType=Sim,Period=21\", \"MA\",\"D\",\"-1\",\"all\",,,,\"T\"),\"\")","v":1.5104085856470699}]
[null,"XLF",{"$f":"RTD(\"cqg.rtd\", ,\"ContractData\",B9, \"LongDescription\",, \"T\")","v":"Financial Select Sector SPDR"},null,null,null,null,{"$f":"RTD(\"cqg.rtd\", ,\"ContractData\",B9, \"LastTradeToday\",, \"T\")","v":24.69},{"$f":"RTD(\"cqg.rtd\", ,\"ContractData\",B9, \"NetLastTradeToday\",, \"T\")","v":0.17},{"$f":"RTD(\"cqg.rtd\", ,\"ContractData\",B9, \"PerCentNetLastTrade\",, \"T\")/100","v":6.9331158238172923E-3},{"$f":" I9/RTD(\"cqg.rtd\",,\"StudyData\",B9, \"ATR\", \"MaType=Sim,Period=10\", \"ATR\",\"D\",\"-1\",\"ALL\",,,\"FALSE\",\"T\")/100","v":6.4150943396226413E-3},{"$f":"RTD(\"cqg.rtd\", ,\"ContractData\",B9, \"OPen\",, \"T\")","v":25.02},{"$f":"RTD(\"cqg.rtd\", ,\"ContractData\", B9, \"HIgh\",, \"T\")","v":25.02},{"$f":"RTD(\"cqg.rtd\", ,\"ContractData\",B9, \"LOw\",, \"T\")","v":24.51},{"$f":"RTD(\"cqg.rtd\", ,\"ContractData\",B9, \"T_CVol\",, \"T\")","v":118751030},null,{"$f":" IFERROR(O9/RTD(\"cqg.rtd\",,\"StudyData\",B9, \"MA\", \"InputChoice=Vol,MAType=Sim,Period=21\", \"MA\",\"D\",\"-1\",\"all\",,,,\"T\"),\"\")","v":1.5416631601797151}]
[null,"GDX",{"$f":"RTD(\"cqg.rtd\", ,\"ContractData\",B10, \"LongDescription\",, \"T\")","v":"Market Vectors Gold Miners ETF"},null,null,null,null,{"$f":"RTD(\"cqg.rtd\", ,\"ContractData\",B10, \"LastTradeToday\",, \"T\")","v":21.96},{"$f":"RTD(\"cqg.rtd\", ,\"ContractData\",B10, \"NetLastTradeToday\",, \"T\")","v":-0.48},{"$f":"RTD(\"cqg.rtd\", ,\"ContractData\",B10, \"PerCentNetLastTrade\",, \"T\")/100","v":-2.139991083370486E-2},{"$f":" I10/RTD(\"cqg.rtd\",,\"StudyData\",B10, \"ATR\", \"MaType=Sim,Period=10\", \"ATR\",\"D\",\"-1\",\"ALL\",,,\"FALSE\",\"T\")/100","v":-1.3043478260869566E-2},{"$f":"RTD(\"cqg.rtd\", ,\"ContractData\",B10, \"OPen\",, \"T\")","v":22.16},{"$f":"RTD(\"cqg.rtd\", ,\"ContractData\", B10, \"HIgh\",, \"T\")","v":22.2},{"$f":"RTD(\"cqg.rtd\", ,\"ContractData\",B10, \"LOw\",, \"T\")","v":21.88},{"$f":"RTD(\"cqg.rtd\", ,\"ContractData\",B10, \"T_CVol\",, \"T\")","v":54536520},null,{"$f":" IFERROR(O10/RTD(\"cqg.rtd\",,\"StudyData\",B10, \"MA\", \"InputChoice=Vol,MAType=Sim,Period=21\", \"MA\",\"D\",\"-1\",\"all\",,,,\"T\"),\"\")","v":1.064185309939859}]
[null,"FXI",{"$f":"RTD(\"cqg.rtd\", ,\"ContractData\",B11, \"LongDescription\",, \"T\")","v":"iShares China Large-Cap ETF"},null,null,null,null,{"$f":"RTD(\"cqg.rtd\", ,\"ContractData\",B11, \"LastTradeToday\",, \"T\")","v":39.619999999999997},{"$f":"RTD(\"cqg.rtd\", ,\"ContractData\",B11, \"NetLastTradeToday\",, \"T\")","v":-0.41000000000000003},{"$f":"RTD(\"cqg.rtd\", ,\"ContractData\",B11, \"PerCentNetLastTrade\",, \"T\")/100","v":-1.0242318261304022E-2},{"$f":" I11/RTD(\"cqg.rtd\",,\"StudyData\",B11, \"ATR\", \"MaType=Sim,Period=10\", \"ATR\",\"D\",\"-1\",\"ALL\",,,\"FALSE\",\"T\")/100","v":-9.975669099756692E-3},{"$f":"RTD(\"cqg.rtd\", ,\"ContractData\",B11, \"OPen\",, \"T\")","v":39.89},{"$f":"RTD(\"cqg.rtd\", ,\"ContractData\", B11, \"HIgh\",, \"T\")","v":39.910000000000004},{"$f":"RTD(\"cqg.rtd\", ,\"ContractData\",B11, \"LOw\",, \"T\")","v":39.36},{"$f":"RTD(\"cqg.rtd\", ,\"ContractData\",B11, \"T_CVol\",, \"T\")","v":20201856},null,{"$f":" IFERROR(O11/RTD(\"cqg.rtd\",,\"StudyData\",B11, \"MA\", \"InputChoice=Vol,MAType=Sim,Period=21\", \"MA\",\"D\",\"-1\",\"all\",,,,\"T\"),\"\")","v":1.4257821675376663}]
[null,"IWF",{"$f":"RTD(\"cqg.rtd\", ,\"ContractData\",B12, \"LongDescription\",, \"T\")","v":"iShares Russell 1000 Growth ETF"},null,null,null,null,{"$f":"RTD(\"cqg.rtd\", ,\"ContractData\",B12, \"LastTradeToday\",, \"T\")","v":118.77},{"$f":"RTD(\"cqg.rtd\", ,\"ContractData\",B12, \"NetLastTradeToday\",, \"T\")","v":-1.54},{"$f":"RTD(\"cqg.rtd\", ,\"ContractData\",B12, \"PerCentNetLastTrade\",, \"T\")/100","v":-1.2800265979552822E-2},{"$f":" I12/RTD(\"cqg.rtd\",,\"StudyData\",B12, \"ATR\", \"MaType=Sim,Period=10\", \"ATR\",\"D\",\"-1\",\"ALL\",,,\"FALSE\",\"T\")/100","v":-1.5338645418326692E-2},{"$f":"RTD(\"cqg.rtd\", ,\"ContractData\",B12, \"OPen\",, \"T\")","v":120.16},{"$f":"RTD(\"cqg.rtd\", ,\"ContractData\", B12, \"HIgh\",, \"T\")","v":120.16},{"$f":"RTD(\"cqg.rtd\", ,\"ContractData\",B12, \"LOw\",, \"T\")","v":117.91},{"$f":"RTD(\"cqg.rtd\", ,\"ContractData\",B12, \"T_CVol\",, \"T\")","v":1838292},null,{"$f":" IFERROR(O12/RTD(\"cqg.rtd\",,\"StudyData\",B12, \"MA\", \"InputChoice=Vol,MAType=Sim,Period=21\", \"MA\",\"D\",\"-1\",\"all\",,,,\"T\"),\"\")","v":0.88920025481843845}]
[null,"IWO",{"$f":"RTD(\"cqg.rtd\", ,\"ContractData\",B13, \"LongDescription\",, \"T\")","v":"iShares Russell 2000 Growth ETF"},null,null,null,null,{"$f":"RTD(\"cqg.rtd\", ,\"ContractData\",B13, \"LastTradeToday\",, \"T\")","v":168.84},{"$f":"RTD(\"cqg.rtd\", ,\"ContractData\",B13, \"NetLastTradeToday\",, \"T\")","v":-1.74},{"$f":"RTD(\"cqg.rtd\", ,\"ContractData\",B13, \"PerCentNetLastTrade\",, \"T\")/100","v":-1.0200492437565951E-2},{"$f":" I13/RTD(\"cqg.rtd\",,\"StudyData\",B13, \"ATR\", \"MaType=Sim,Period=10\", \"ATR\",\"D\",\"-1\",\"ALL\",,,\"FALSE\",\"T\")/100","v":-8.5085574572127138E-3},{"$f":"RTD(\"cqg.rtd\", ,\"ContractData\",B13, \"OPen\",, \"T\")","v":170.99},{"$f":"RTD(\"cqg.rtd\", ,\"ContractData\", B13, \"HIgh\",, \"T\")","v":170.99},{"$f":"RTD(\"cqg.rtd\", ,\"ContractData\",B13, \"LOw\",, \"T\")","v":166.98},{"$f":"RTD(\"cqg.rtd\", ,\"ContractData\",B13, \"T_CVol\",, \"T\")","v":393516},null,{"$f":" IFERROR(O13/RTD(\"cqg.rtd\",,\"StudyData\",B13, \"MA\", \"InputChoice=Vol,MAType=Sim,Period=21\", \"MA\",\"D\",\"-1\",\"all\",,,,\"T\"),\"\")","v":0.74676791006654586}]
[null,"EP",{"$f":"RTD(\"cqg.rtd\", ,\"ContractData\",B14, \"LongDescription\",, \"T\")","v":"E-Mini S&P 500, Sep 17"},null,null,null,null,{"$f":"RTD(\"cqg.rtd\", ,\"ContractData\",B14, \"LastTradeToday\",, \"T\")","v":2421.5},{"$f":"RTD(\"cqg.rtd\", ,\"ContractData\",B14, \"NetLastTradeToday\",, \"T\")","v":-17},{"$f":"RTD(\"cqg.rtd\", ,\"ContractData\",B14, \"PerCentNetLastTrade\",, \"T\")/100","v":-6.9714988722575357E-3},{"$f":" I14/RTD(\"cqg.rtd\",,\"StudyData\",B14, \"ATR\", \"MaType=Sim,Period=10\", \"ATR\",\"D\",\"-1\",\"ALL\",,,\"FALSE\",\"T\")/100","v":-9.9415204678362564E-3},{"$f":"RTD(\"cqg.rtd\", ,\"ContractData\",B14, \"OPen\",, \"T\")","v":2442},{"$f":"RTD(\"cqg.rtd\", ,\"ContractData\", B14, \"HIgh\",, \"T\")","v":2445},{"$f":"RTD(\"cqg.rtd\", ,\"ContractData\",B14, \"LOw\",, \"T\")","v":2402.25},{"$f":"RTD(\"cqg.rtd\", ,\"ContractData\",B14, \"T_CVol\",, \"T\")","v":2329022},null,{"$f":" IFERROR(O14/RTD(\"cqg.rtd\",,\"StudyData\",B14, \"MA\", \"InputChoice=Vol,MAType=Sim,Period=21\", \"MA\",\"D\",\"-1\",\"all\",,,,\"T\"),\"\")","v":1.2845528288733032}]
[null,"XLE",{"$f":"RTD(\"cqg.rtd\", ,\"ContractData\",B15, \"LongDescription\",, \"T\")","v":"Energy Select Sector SPDR"},null,null,null,null,{"$f":"RTD(\"cqg.rtd\", ,\"ContractData\",B15, \"LastTradeToday\",, \"T\")","v":64.62},{"$f":"RTD(\"cqg.rtd\", ,\"ContractData\",B15, \"NetLastTradeToday\",, \"T\")","v":0.14000000000000001},{"$f":"RTD(\"cqg.rtd\", ,\"ContractData\",B15, \"PerCentNetLastTrade\",, \"T\")/100","v":2.1708792060784617E-3},{"$f":" I15/RTD(\"cqg.rtd\",,\"StudyData\",B15, \"ATR\", \"MaType=Sim,Period=10\", \"ATR\",\"D\",\"-1\",\"ALL\",,,\"FALSE\",\"T\")/100","v":1.5102481121898597E-3},{"$f":"RTD(\"cqg.rtd\", ,\"ContractData\",B15, \"OPen\",, \"T\")","v":64.680000000000007},{"$f":"RTD(\"cqg.rtd\", ,\"ContractData\", B15, \"HIgh\",, \"T\")","v":65.34},{"$f":"RTD(\"cqg.rtd\", ,\"ContractData\",B15, \"LOw\",, \"T\")","v":64.489999999999995},{"$f":"RTD(\"cqg.rtd\", ,\"ContractData\",B15, \"T_CVol\",, \"T\")","v":19018969},null,{"$f":" IFERROR(O15/RTD(\"cqg.rtd\",,\"StudyData\",B15, \"MA\", \"InputChoice=Vol,MAType=Sim,Period=21\", \"MA\",\"D\",\"-1\",\"all\",,,,\"T\"),\"\")","v":1.0234016959865588}]
[null,"RYT",{"$f":"RTD(\"cqg.rtd\", ,\"ContractData\",B16, \"LongDescription\",, \"T\")","v":"Guggenheim S&P 500 Eq Wt Technology ETF"},null,null,null,null,{"$f":"RTD(\"cqg.rtd\", ,\"ContractData\",B16, \"LastTradeToday\",, \"T\")","v":125.17},{"$f":"RTD(\"cqg.rtd\", ,\"ContractData\",B16, \"NetLastTradeToday\",, \"T\")","v":-2.14},{"$f":"RTD(\"cqg.rtd\", ,\"ContractData\",B16, \"PerCentNetLastTrade\",, \"T\")/100","v":-1.6809362972272406E-2},{"$f":" I16/RTD(\"cqg.rtd\",,\"StudyData\",B16, \"ATR\", \"MaType=Sim,Period=10\", \"ATR\",\"D\",\"-1\",\"ALL\",,,\"FALSE\",\"T\")/100","v":-1.4439946018893389E-2},{"$f":"RTD(\"cqg.rtd\", ,\"ContractData\",B16, \"OPen\",, \"T\")","v":126.88000000000001},{"$f":"RTD(\"cqg.rtd\", ,\"ContractData\", B16, \"HIgh\",, \"T\")","v":126.88000000000001},{"$f":"RTD(\"cqg.rtd\", ,\"ContractData\",B16, \"LOw\",, \"T\")","v":123.92},{"$f":"RTD(\"cqg.rtd\", ,\"ContractData\",B16, \"T_CVol\",, \"T\")","v":57563},null,{"$f":" IFERROR(O16/RTD(\"cqg.rtd\",,\"StudyData\",B16, \"MA\", \"InputChoice=Vol,MAType=Sim,Period=21\", \"MA\",\"D\",\"-1\",\"all\",,,,\"T\"),\"\")","v":0.88116459051188356}]
[null,null,"Top 15 Description",null,null,null,null,"Last","NC","%NC","NC/ATR","Open","High","Low","Volume",null,"Ratio"]
[{"$f":"TRIM(KBE!O1)","v":"S.US.RF"},"News",{"$f":"RTD(\"cqg.rtd\", ,\"ContractData\",A18, \"LongDescription\",, \"T\")&\" (\"&RIGHT(A18,LEN(A18)-5)&\")\"","v":"Regions Financial Corp (RF)"},null,null,null,null,{"$f":"RTD(\"cqg.rtd\", ,\"ContractData\",A18, \"LastTradeToday\",, \"T\")","v":14.66},{"$f":"RTD(\"cqg.rtd\", ,\"ContractData\",A18, \"NetLastTradeToday\",, \"T\")","v":0.57000000000000006},{"$f":"RTD(\"cqg.rtd\", ,\"ContractData\",A18, \"PerCentNetLastTrade\",, \"T\")/100","v":4.04542228530873E-2},{"$f":" I18/RTD(\"cqg.rtd\",,\"StudyData\",A18, \"ATR\", \"MaType=Sim,Period=10\", \"ATR\",\"D\",\"-1\",\"ALL\",,,\"FALSE\",\"T\")/100","v":1.9791666666666669E-2},{"$f":"RTD(\"cqg.rtd\", ,\"ContractData\",A18, \"OPen\",, \"T\")","v":14.63},{"$f":"RTD(\"cqg.rtd\", ,\"ContractData\", A18, \"HIgh\",, \"T\")","v":14.85},{"$f":"RTD(\"cqg.rtd\", ,\"ContractData\",A18, \"LOw\",, \"T\")","v":14.48},{"$f":"RTD(\"cqg.rtd\", ,\"ContractData\",A18, \"T_CVol\",, \"T\")","v":32445983},null,{"$f":" IFERROR(O18/RTD(\"cqg.rtd\",,\"StudyData\",A18, \"MA\", \"InputChoice=Vol,MAType=Sim,Period=21\", \"MA\",\"D\",\"-1\",\"all\",,,,\"T\"),\"\")","v":1.6980545125711544},{"$f":"KBE!Q1","v":"https://finance.yahoo.com/quote/RF"}]
[{"$f":"TRIM(KBE!O2)","v":"S.US.BPOP"},"News",{"$f":"RTD(\"cqg.rtd\", ,\"ContractData\",A19, \"LongDescription\",, \"T\")&\" (\"&RIGHT(A19,LEN(A19)-5)&\")\"","v":"BanPonce Corp (BPOP)"},null,null,null,null,{"$f":"RTD(\"cqg.rtd\", ,\"ContractData\",A19, \"LastTradeToday\",, \"T\")","v":41.69},{"$f":"RTD(\"cqg.rtd\", ,\"ContractData\",A19, \"NetLastTradeToday\",, \"T\")","v":1.31},{"$f":"RTD(\"cqg.rtd\", ,\"ContractData\",A19, \"PerCentNetLastTrade\",, \"T\")/100","v":3.2441802872709265E-2},{"$f":" I19/RTD(\"cqg.rtd\",,\"StudyData\",A19, \"ATR\", \"MaType=Sim,Period=10\", \"ATR\",\"D\",\"-1\",\"ALL\",,,\"FALSE\",\"T\")/100","v":1.3804004214963118E-2},{"$f":"RTD(\"cqg.rtd\", ,\"ContractData\",A19, \"OPen\",, \"T\")","v":41.11},{"$f":"RTD(\"cqg.rtd\", ,\"ContractData\", A19, \"HIgh\",, \"T\")","v":42.06},{"$f":"RTD(\"cqg.rtd\", ,\"ContractData\",A19, \"LOw\",, \"T\")","v":41.11},{"$f":"RTD(\"cqg.rtd\", ,\"ContractData\",A19, \"T_CVol\",, \"T\")","v":729056},null,{"$f":" IFERROR(O19/RTD(\"cqg.rtd\",,\"StudyData\",A19, \"MA\", \"InputChoice=Vol,MAType=Sim,Period=21\", \"MA\",\"D\",\"-1\",\"all\",,,,\"T\"),\"\")","v":1.3883419968444701},{"$f":"KBE!Q2","v":"https://finance.yahoo.com/quote/BPOP"}]
[{"$f":"TRIM(KBE!O3)","v":"S.US.WTFC"},"News",{"$f":"RTD(\"cqg.rtd\", ,\"ContractData\",A20, \"LongDescription\",, \"T\")&\" (\"&RIGHT(A20,LEN(A20)-5)&\")\"","v":"Wintrust Financial Corp (WTFC)"},null,null,null,null,{"$f":"RTD(\"cqg.rtd\", ,\"ContractData\",A20, \"LastTradeToday\",, \"T\")","v":77.03},{"$f":"RTD(\"cqg.rtd\", ,\"ContractData\",A20, \"NetLastTradeToday\",, \"T\")","v":2.17},{"$f":"RTD(\"cqg.rtd\", ,\"ContractData\",A20, \"PerCentNetLastTrade\",, \"T\")/100","v":2.8987443227357735E-2},{"$f":" I20/RTD(\"cqg.rtd\",,\"StudyData\",A20, \"ATR\", \"MaType=Sim,Period=10\", \"ATR\",\"D\",\"-1\",\"ALL\",,,\"FALSE\",\"T\")/100","v":1.6602907421576128E-2},{"$f":"RTD(\"cqg.rtd\", ,\"ContractData\",A20, \"OPen\",, \"T\")","v":76.150000000000006},{"$f":"RTD(\"cqg.rtd\", ,\"ContractData\", A20, \"HIgh\",, \"T\")","v":77.12},{"$f":"RTD(\"cqg.rtd\", ,\"ContractData\",A20, \"LOw\",, \"T\")","v":75.37},{"$f":"RTD(\"cqg.rtd\", ,\"ContractData\",A20, \"T_CVol\",, \"T\")","v":519129},null,{"$f":" IFERROR(O20/RTD(\"cqg.rtd\",,\"StudyData\",A20, \"MA\", \"InputChoice=Vol,MAType=Sim,Period=21\", \"MA\",\"D\",\"-1\",\"all\",,,,\"T\"),\"\")","v":1.1391219310962339},{"$f":"KBE!Q3","v":"https://finance.yahoo.com/quote/WTFC"}]
[{"$f":"TRIM(KBE!O4)","v":"S.US.TCBI"},"News",{"$f":"RTD(\"cqg.rtd\", ,\"ContractData\",A21, \"LongDescription\",, \"T\")&\" (\"&RIGHT(A21,LEN(A21)-5)&\")\"","v":"Texas Capital Bancshares Inc (TCBI)"},null,null,null,null,{"$f":"RTD(\"cqg.rtd\", ,\"ContractData\",A21, \"LastTradeToday\",, \"T\")","v":77.400000000000006},{"$f":"RTD(\"cqg.rtd\", ,\"ContractData\",A21, \"NetLastTradeToday\",, \"T\")","v":2.1},{"$f":"RTD(\"cqg.rtd\", ,\"ContractData\",A21, \"PerCentNetLastTrade\",, \"T\")/100","v":2.7888446215139445E-2},{"$f":" I21/RTD(\"cqg.rtd\",,\"StudyData\",A21, \"ATR\", \"MaType=Sim,Period=10\", \"ATR\",\"D\",\"-1\",\"ALL\",,,\"FALSE\",\"T\")/100","v":1.0697911360163015E-2},{"$f":"RTD(\"cqg.rtd\", ,\"ContractData\",A21, \"OPen\",, \"T\")","v":77.05},{"$f":"RTD(\"cqg.rtd\", ,\"ContractData\", A21, \"HIgh\",, \"T\")","v":77.8},{"$f":"RTD(\"cqg.rtd\", ,\"ContractData\",A21, \"LOw\",, \"T\")","v":76.05},{"$f":"RTD(\"cqg.rtd\", ,\"ContractData\",A21, \"T_CVol\",, \"T\")","v":753998},null,{"$f":" IFERROR(O21/RTD(\"cqg.rtd\",,\"StudyData\",A21, \"MA\", \"InputChoice=Vol,MAType=Sim,Period=21\", \"MA\",\"D\",\"-1\",\"all\",,,,\"T\"),\"\")","v":1.2505375848985989},{"$f":"KBE!Q4","v":"https://finance.yahoo.com/quote/TCBI"}]
[{"$f":"TRIM(KBE!O5)","v":"S.US.IBKC"},"News",{"$f":"RTD(\"cqg.rtd\", ,\"ContractData\",A22, \"LongDescription\",, \"T\")&\" (\"&RIGHT(A22,LEN(A22)-5)&\")\"","v":"IBERIABANK Corp (IBKC)"},null,null,null,null,{"$f":"RTD(\"cqg.rtd\", ,\"ContractData\",A22, \"LastTradeToday\",, \"T\")","v":81.8},{"$f":"RTD(\"cqg.rtd\", ,\"ContractData\",A22, \"NetLastTradeToday\",, \"T\")","v":2.2000000000000002},{"$f":"RTD(\"cqg.rtd\", ,\"ContractData\",A22, \"PerCentNetLastTrade\",, \"T\")/100","v":2.7638190954773871E-2},{"$f":" I22/RTD(\"cqg.rtd\",,\"StudyData\",A22, \"ATR\", \"MaType=Sim,Period=10\", \"ATR\",\"D\",\"-1\",\"ALL\",,,\"FALSE\",\"T\")/100","v":1.5636105188343997E-2},{"$f":"RTD(\"cqg.rtd\", ,\"ContractData\",A22, \"OPen\",, \"T\")","v":81.25},{"$f":"RTD(\"cqg.rtd\", ,\"ContractData\", A22, \"HIgh\",, \"T\")","v":81.95},{"$f":"RTD(\"cqg.rtd\", ,\"ContractData\",A22, \"LOw\",, \"T\")","v":80.570000000000007},{"$f":"RTD(\"cqg.rtd\", ,\"ContractData\",A22, \"T_CVol\",, \"T\")","v":467812},null,{"$f":" IFERROR(O22/RTD(\"cqg.rtd\",,\"StudyData\",A22, \"MA\", \"InputChoice=Vol,MAType=Sim,Period=21\", \"MA\",\"D\",\"-1\",\"all\",,,,\"T\"),\"\")","v":1.091810630093875},{"$f":"KBE!Q5","v":"https://finance.yahoo.com/quote/IBKC"}]
[{"$f":"TRIM(KBE!O6)","v":"S.US.C"},"News",{"$f":"RTD(\"cqg.rtd\", ,\"ContractData\",A23, \"LongDescription\",, \"T\")&\" (\"&RIGHT(A23,LEN(A23)-5)&\")\"","v":"Citigroup Inc (C)"},null,null,null,null,{"$f":"RTD(\"cqg.rtd\", ,\"ContractData\",A23, \"LastTradeToday\",, \"T\")","v":66.98},{"$f":"RTD(\"cqg.rtd\", ,\"ContractData\",A23, \"NetLastTradeToday\",, \"T\")","v":1.8},{"$f":"RTD(\"cqg.rtd\", ,\"ContractData\",A23, \"PerCentNetLastTrade\",, \"T\")/100","v":2.7615833077631175E-2},{"$f":" I23/RTD(\"cqg.rtd\",,\"StudyData\",A23, \"ATR\", \"MaType=Sim,Period=10\", \"ATR\",\"D\",\"-1\",\"ALL\",,,\"FALSE\",\"T\")/100","v":2.125147579693034E-2},{"$f":"RTD(\"cqg.rtd\", ,\"ContractData\",A23, \"OPen\",, \"T\")","v":67.650000000000006},{"$f":"RTD(\"cqg.rtd\", ,\"ContractData\", A23, \"HIgh\",, \"T\")","v":67.75},{"$f":"RTD(\"cqg.rtd\", ,\"ContractData\",A23, \"LOw\",, \"T\")","v":66.260000000000005},{"$f":"RTD(\"cqg.rtd\", ,\"ContractData\",A23, \"T_CVol\",, \"T\")","v":40675401},null,{"$f":" IFERROR(O23/RTD(\"cqg.rtd\",,\"StudyData\",A23, \"MA\", \"InputChoice=Vol,MAType=Sim,Period=21\", \"MA\",\"D\",\"-1\",\"all\",,,,\"T\"),\"\")","v":2.3234350802039958},{"$f":"KBE!Q6","v":"https://finance.yahoo.com/quote/C"}]
[{"$f":"TRIM(KBE!O7)","v":"S.US.OZRK"},"News",{"$f":"RTD(\"cqg.rtd\", ,\"ContractData\",A24, \"LongDescription\",, \"T\")&\" (\"&RIGHT(A24,LEN(A24)-5)&\")\"","v":"Bank of the Ozarks (OZRK)"},null,null,null,null,{"$f":"RTD(\"cqg.rtd\", ,\"ContractData\",A24, \"LastTradeToday\",, \"T\")","v":47.11},{"$f":"RTD(\"cqg.rtd\", ,\"ContractData\",A24, \"NetLastTradeToday\",, \"T\")","v":1.25},{"$f":"RTD(\"cqg.rtd\", ,\"ContractData\",A24, \"PerCentNetLastTrade\",, \"T\")/100","v":2.7256868730920192E-2},{"$f":" I24/RTD(\"cqg.rtd\",,\"StudyData\",A24, \"ATR\", \"MaType=Sim,Period=10\", \"ATR\",\"D\",\"-1\",\"ALL\",,,\"FALSE\",\"T\")/100","v":1.1394712853236099E-2},{"$f":"RTD(\"cqg.rtd\", ,\"ContractData\",A24, \"OPen\",, \"T\")","v":46.84},{"$f":"RTD(\"cqg.rtd\", ,\"ContractData\", A24, \"HIgh\",, \"T\")","v":47.65},{"$f":"RTD(\"cqg.rtd\", ,\"ContractData\",A24, \"LOw\",, \"T\")","v":46.42},{"$f":"RTD(\"cqg.rtd\", ,\"ContractData\",A24, \"T_CVol\",, \"T\")","v":2105406},null,{"$f":" IFERROR(O24/RTD(\"cqg.rtd\",,\"StudyData\",A24, \"MA\", \"InputChoice=Vol,MAType=Sim,Period=21\", \"MA\",\"D\",\"-1\",\"all\",,,,\"T\"),\"\")","v":1.2212279502173169},{"$f":"KBE!Q7","v":"https://finance.yahoo.com/quote/OZRK"}]
[{"$f":"TRIM(KBE!O8)","v":"S.US.WFC"},"News",{"$f":"RTD(\"cqg.rtd\", ,\"ContractData\",A25, \"LongDescription\",, \"T\")&\" (\"&RIGHT(A25,LEN(A25)-5)&\")\"","v":"Wells Fargo & Co New (WFC)"},null,null,null,null,{"$f":"RTD(\"cqg.rtd\", ,\"ContractData\",A25, \"LastTradeToday\",, \"T\")","v":55.78},{"$f":"RTD(\"cqg.rtd\", ,\"ContractData\",A25, \"NetLastTradeToday\",, \"T\")","v":1.45},{"$f":"RTD(\"cqg.rtd\", ,\"ContractData\",A25, \"PerCentNetLastTrade\",, \"T\")/100","v":2.6688753911282902E-2},{"$f":" I25/RTD(\"cqg.rtd\",,\"StudyData\",A25, \"ATR\", \"MaType=Sim,Period=10\", \"ATR\",\"D\",\"-1\",\"ALL\",,,\"FALSE\",\"T\")/100","v":1.8565941101152367E-2},{"$f":"RTD(\"cqg.rtd\", ,\"ContractData\",A25, \"OPen\",, \"T\")","v":55.65},{"$f":"RTD(\"cqg.rtd\", ,\"ContractData\", A25, \"HIgh\",, \"T\")","v":56.6},{"$f":"RTD(\"cqg.rtd\", ,\"ContractData\",A25, \"LOw\",, \"T\")","v":55.21},{"$f":"RTD(\"cqg.rtd\", ,\"ContractData\",A25, \"T_CVol\",, \"T\")","v":32339538},null,{"$f":" IFERROR(O25/RTD(\"cqg.rtd\",,\"StudyData\",A25, \"MA\", \"InputChoice=Vol,MAType=Sim,Period=21\", \"MA\",\"D\",\"-1\",\"all\",,,,\"T\"),\"\")","v":1.7464553847719599},{"$f":"KBE!Q8","v":"https://finance.yahoo.com/quote/WFC"}]
[{"$f":"TRIM(KBE!O9)","v":"S.US.TCB"},"News",{"$f":"RTD(\"cqg.rtd\", ,\"ContractData\",A26, \"LongDescription\",, \"T\")&\" (\"&RIGHT(A26,LEN(A26)-5)&\")\"","v":"TCF Financial Corp (TCB)"},null,null,null,null,{"$f":"RTD(\"cqg.rtd\", ,\"ContractData\",A26, \"LastTradeToday\",, \"T\")","v":15.99},{"$f":"RTD(\"cqg.rtd\", ,\"ContractData\",A26, \"NetLastTradeToday\",, \"T\")","v":0.39},{"$f":"RTD(\"cqg.rtd\", ,\"ContractData\",A26, \"PerCentNetLastTrade\",, \"T\")/100","v":2.5000000000000001E-2},{"$f":" I26/RTD(\"cqg.rtd\",,\"StudyData\",A26, \"ATR\", \"MaType=Sim,Period=10\", \"ATR\",\"D\",\"-1\",\"ALL\",,,\"FALSE\",\"T\")/100","v":1.1470588235294116E-2},{"$f":"RTD(\"cqg.rtd\", ,\"ContractData\",A26, \"OPen\",, \"T\")","v":16.07},{"$f":"RTD(\"cqg.rtd\", ,\"ContractData\", A26, \"HIgh\",, \"T\")","v":16.14},{"$f":"RTD(\"cqg.rtd\", ,\"ContractData\",A26, \"LOw\",, \"T\")","v":15.76},{"$f":"RTD(\"cqg.rtd\", ,\"ContractData\",A26, \"T_CVol\",, \"T\")","v":1273320},null,{"$f":" IFERROR(O26/RTD(\"cqg.rtd\",,\"StudyData\",A26, \"MA\", \"InputChoice=Vol,MAType=Sim,Period=21\", \"MA\",\"D\",\"-1\",\"all\",,,,\"T\"),\"\")","v":0.90926859762790335},{"$f":"KBE!Q9","v":"https://finance.yahoo.com/quote/TCB"}]
[{"$f":"TRIM(KBE!O10)","v":"S.US.SNV"},"News",{"$f":"RTD(\"cqg.rtd\", ,\"ContractData\",A27, \"LongDescription\",, \"T\")&\" (\"&RIGHT(A27,LEN(A27)-5)&\")\"","v":"Synovous Fin Corp (SNV)"},null,null,null,null,{"$f":"RTD(\"cqg.rtd\", ,\"ContractData\",A27, \"LastTradeToday\",, \"T\")","v":44.410000000000004},{"$f":"RTD(\"cqg.rtd\", ,\"ContractData\",A27, \"NetLastTradeToday\",, \"T\")","v":1.05},{"$f":"RTD(\"cqg.rtd\", ,\"ContractData\",A27, \"PerCentNetLastTrade\",, \"T\")/100","v":2.4215867158671585E-2},{"$f":" I27/RTD(\"cqg.rtd\",,\"StudyData\",A27, \"ATR\", \"MaType=Sim,Period=10\", \"ATR\",\"D\",\"-1\",\"ALL\",,,\"FALSE\",\"T\")/100","v":1.4542936288088644E-2},{"$f":"RTD(\"cqg.rtd\", ,\"ContractData\",A27, \"OPen\",, \"T\")","v":44.59},{"$f":"RTD(\"cqg.rtd\", ,\"ContractData\", A27, \"HIgh\",, \"T\")","v":44.76},{"$f":"RTD(\"cqg.rtd\", ,\"ContractData\",A27, \"LOw\",, \"T\")","v":43.68},{"$f":"RTD(\"cqg.rtd\", ,\"ContractData\",A27, \"T_CVol\",, \"T\")","v":922345},null,{"$f":" IFERROR(O27/RTD(\"cqg.rtd\",,\"StudyData\",A27, \"MA\", \"InputChoice=Vol,MAType=Sim,Period=21\", \"MA\",\"D\",\"-1\",\"all\",,,,\"T\"),\"\")","v":1.1160915910716114},{"$f":"KBE!Q10","v":"https://finance.yahoo.com/quote/SNV"},"Bottom 15 Performing Companies "]
[{"$f":"TRIM(KBE!O11)","v":"S.US.HBHC"},"News",{"$f":"RTD(\"cqg.rtd\", ,\"ContractData\",A28, \"LongDescription\",, \"T\")&\" (\"&RIGHT(A28,LEN(A28)-5)&\")\"","v":"Hancock Hldg Co (HBHC)"},null,null,null,null,{"$f":"RTD(\"cqg.rtd\", ,\"ContractData\",A28, \"LastTradeToday\",, \"T\")","v":48.800000000000004},{"$f":"RTD(\"cqg.rtd\", ,\"ContractData\",A28, \"NetLastTradeToday\",, \"T\")","v":1.1500000000000001},{"$f":"RTD(\"cqg.rtd\", ,\"ContractData\",A28, \"PerCentNetLastTrade\",, \"T\")/100","v":2.4134312696747116E-2},{"$f":" I28/RTD(\"cqg.rtd\",,\"StudyData\",A28, \"ATR\", \"MaType=Sim,Period=10\", \"ATR\",\"D\",\"-1\",\"ALL\",,,\"FALSE\",\"T\")/100","v":1.0267857142857145E-2},{"$f":"RTD(\"cqg.rtd\", ,\"ContractData\",A28, \"OPen\",, \"T\")","v":48.85},{"$f":"RTD(\"cqg.rtd\", ,\"ContractData\", A28, \"HIgh\",, \"T\")","v":49.35},{"$f":"RTD(\"cqg.rtd\", ,\"ContractData\",A28, \"LOw\",, \"T\")","v":48.550000000000004},{"$f":"RTD(\"cqg.rtd\", ,\"ContractData\",A28, \"T_CVol\",, \"T\")","v":910722},null,{"$f":" IFERROR(O28/RTD(\"cqg.rtd\",,\"StudyData\",A28, \"MA\", \"InputChoice=Vol,MAType=Sim,Period=21\", \"MA\",\"D\",\"-1\",\"all\",,,,\"T\"),\"\")","v":1.3193651289472834},{"$f":"KBE!Q11","v":"https://finance.yahoo.com/quote/HBHC"}]
[{"$f":"TRIM(KBE!O12)","v":"S.US.ZION"},"News",{"$f":"RTD(\"cqg.rtd\", ,\"ContractData\",A29, \"LongDescription\",, \"T\")&\" (\"&RIGHT(A29,LEN(A29)-5)&\")\"","v":"Zions Bancorp (ZION)"},null,null,null,null,{"$f":"RTD(\"cqg.rtd\", ,\"ContractData\",A29, \"LastTradeToday\",, \"T\")","v":43.99},{"$f":"RTD(\"cqg.rtd\", ,\"ContractData\",A29, \"NetLastTradeToday\",, \"T\")","v":1.02},{"$f":"RTD(\"cqg.rtd\", ,\"ContractData\",A29, \"PerCentNetLastTrade\",, \"T\")/100","v":2.3737491272981148E-2},{"$f":" I29/RTD(\"cqg.rtd\",,\"StudyData\",A29, \"ATR\", \"MaType=Sim,Period=10\", \"ATR\",\"D\",\"-1\",\"ALL\",,,\"FALSE\",\"T\")/100","v":1.3492063492063493E-2},{"$f":"RTD(\"cqg.rtd\", ,\"ContractData\",A29, \"OPen\",, \"T\")","v":44.410000000000004},{"$f":"RTD(\"cqg.rtd\", ,\"ContractData\", A29, \"HIgh\",, \"T\")","v":44.85},{"$f":"RTD(\"cqg.rtd\", ,\"ContractData\",A29, \"LOw\",, \"T\")","v":43.38},{"$f":"RTD(\"cqg.rtd\", ,\"ContractData\",A29, \"T_CVol\",, \"T\")","v":4442441},null,{"$f":" IFERROR(O29/RTD(\"cqg.rtd\",,\"StudyData\",A29, \"MA\", \"InputChoice=Vol,MAType=Sim,Period=21\", \"MA\",\"D\",\"-1\",\"all\",,,,\"T\"),\"\")","v":1.3843605637584915},{"$f":"KBE!Q12","v":"https://finance.yahoo.com/quote/ZION"}]
[{"$f":"TRIM(KBE!O13)","v":"S.US.COLB"},"News",{"$f":"RTD(\"cqg.rtd\", ,\"ContractData\",A30, \"LongDescription\",, \"T\")&\" (\"&RIGHT(A30,LEN(A30)-5)&\")\"","v":"Columbia Banking System (COLB)"},null,null,null,null,{"$f":"RTD(\"cqg.rtd\", ,\"ContractData\",A30, \"LastTradeToday\",, \"T\")","v":40.28},{"$f":"RTD(\"cqg.rtd\", ,\"ContractData\",A30, \"NetLastTradeToday\",, \"T\")","v":0.93},{"$f":"RTD(\"cqg.rtd\", ,\"ContractData\",A30, \"PerCentNetLastTrade\",, \"T\")/100","v":2.363405336721728E-2},{"$f":" I30/RTD(\"cqg.rtd\",,\"StudyData\",A30, \"ATR\", \"MaType=Sim,Period=10\", \"ATR\",\"D\",\"-1\",\"ALL\",,,\"FALSE\",\"T\")/100","v":1.2601626016260163E-2},{"$f":"RTD(\"cqg.rtd\", ,\"ContractData\",A30, \"OPen\",, \"T\")","v":40.14},{"$f":"RTD(\"cqg.rtd\", ,\"ContractData\", A30, \"HIgh\",, \"T\")","v":40.42},{"$f":"RTD(\"cqg.rtd\", ,\"ContractData\",A30, \"LOw\",, \"T\")","v":39.72},{"$f":"RTD(\"cqg.rtd\", ,\"ContractData\",A30, \"T_CVol\",, \"T\")","v":324090},null,{"$f":" IFERROR(O30/RTD(\"cqg.rtd\",,\"StudyData\",A30, \"MA\", \"InputChoice=Vol,MAType=Sim,Period=21\", \"MA\",\"D\",\"-1\",\"all\",,,,\"T\"),\"\")","v":0.86915683400611066},{"$f":"KBE!Q13","v":"https://finance.yahoo.com/quote/COLB"}]
[{"$f":"TRIM(KBE!O14)","v":"S.US.CHFC"},"News",{"$f":"RTD(\"cqg.rtd\", ,\"ContractData\",A31, \"LongDescription\",, \"T\")&\" (\"&RIGHT(A31,LEN(A31)-5)&\")\"","v":"Chemical Financial Corp (CHFC)"},null,null,null,null,{"$f":"RTD(\"cqg.rtd\", ,\"ContractData\",A31, \"LastTradeToday\",, \"T\")","v":48.51},{"$f":"RTD(\"cqg.rtd\", ,\"ContractData\",A31, \"NetLastTradeToday\",, \"T\")","v":1.08},{"$f":"RTD(\"cqg.rtd\", ,\"ContractData\",A31, \"PerCentNetLastTrade\",, \"T\")/100","v":2.2770398481973434E-2},{"$f":" I31/RTD(\"cqg.rtd\",,\"StudyData\",A31, \"ATR\", \"MaType=Sim,Period=10\", \"ATR\",\"D\",\"-1\",\"ALL\",,,\"FALSE\",\"T\")/100","v":9.7737556561085983E-3},{"$f":"RTD(\"cqg.rtd\", ,\"ContractData\",A31, \"OPen\",, \"T\")","v":48.13},{"$f":"RTD(\"cqg.rtd\", ,\"ContractData\", A31, \"HIgh\",, \"T\")","v":48.730000000000004},{"$f":"RTD(\"cqg.rtd\", ,\"ContractData\",A31, \"LOw\",, \"T\")","v":47.84},{"$f":"RTD(\"cqg.rtd\", ,\"ContractData\",A31, \"T_CVol\",, \"T\")","v":267947},null,{"$f":" IFERROR(O31/RTD(\"cqg.rtd\",,\"StudyData\",A31, \"MA\", \"InputChoice=Vol,MAType=Sim,Period=21\", \"MA\",\"D\",\"-1\",\"all\",,,,\"T\"),\"\")","v":0.72115057803423199},{"$f":"KBE!Q14","v":"https://finance.yahoo.com/quote/CHFC"}]
[{"$f":"TRIM(KBE!O15)","v":"S.US.FITB"},"News",{"$f":"RTD(\"cqg.rtd\", ,\"ContractData\",A32, \"LongDescription\",, \"T\")&\" (\"&RIGHT(A32,LEN(A32)-5)&\")\"","v":"Fifth Third Bancorp (FITB)"},null,null,null,null,{"$f":"RTD(\"cqg.rtd\", ,\"ContractData\",A32, \"LastTradeToday\",, \"T\")","v":26.07},{"$f":"RTD(\"cqg.rtd\", ,\"ContractData\",A32, \"NetLastTradeToday\",, \"T\")","v":0.57999999999999996},{"$f":"RTD(\"cqg.rtd\", ,\"ContractData\",A32, \"PerCentNetLastTrade\",, \"T\")/100","v":2.2754021184778345E-2},{"$f":" I32/RTD(\"cqg.rtd\",,\"StudyData\",A32, \"ATR\", \"MaType=Sim,Period=10\", \"ATR\",\"D\",\"-1\",\"ALL\",,,\"FALSE\",\"T\")/100","v":1.1764705882352941E-2},{"$f":"RTD(\"cqg.rtd\", ,\"ContractData\",A32, \"OPen\",, \"T\")","v":26.2},{"$f":"RTD(\"cqg.rtd\", ,\"ContractData\", A32, \"HIgh\",, \"T\")","v":26.69},{"$f":"RTD(\"cqg.rtd\", ,\"ContractData\",A32, \"LOw\",, \"T\")","v":25.91},{"$f":"RTD(\"cqg.rtd\", ,\"ContractData\",A32, \"T_CVol\",, \"T\")","v":10133295},null,{"$f":" IFERROR(O32/RTD(\"cqg.rtd\",,\"StudyData\",A32, \"MA\", \"InputChoice=Vol,MAType=Sim,Period=21\", \"MA\",\"D\",\"-1\",\"all\",,,,\"T\"),\"\")","v":1.5803968482103667},{"$f":"KBE!Q15","v":"https://finance.yahoo.com/quote/FITB"}]
[null,null,"Bottom 15 Description",null,null,null,null,"Last","NC","%NC","NC/ATR","Open","High","Low","Volume",null,"Ratio"]
[{"$f":"TRIM(KBE!O57)","v":"S.US.BOH"},"News",{"$f":"RTD(\"cqg.rtd\", ,\"ContractData\",A34, \"LongDescription\",, \"T\")&\" (\"&RIGHT(A34,LEN(A34)-5)&\")\"","v":"Hawaii Corporation (BOH)"},null,null,null,null,{"$f":"RTD(\"cqg.rtd\", ,\"ContractData\",A34, \"LastTradeToday\",, \"T\")","v":83.59},{"$f":"RTD(\"cqg.rtd\", ,\"ContractData\",A34, \"NetLastTradeToday\",, \"T\")","v":0.81},{"$f":"RTD(\"cqg.rtd\", ,\"ContractData\",A34, \"PerCentNetLastTrade\",, \"T\")/100","v":9.7849722155109939E-3},{"$f":" I34/RTD(\"cqg.rtd\",,\"StudyData\",A34, \"ATR\", \"MaType=Sim,Period=10\", \"ATR\",\"D\",\"-1\",\"ALL\",,,\"FALSE\",\"T\")/100","v":5.8866279069767448E-3},{"$f":"RTD(\"cqg.rtd\", ,\"ContractData\",A34, \"OPen\",, \"T\")","v":84.460000000000008},{"$f":"RTD(\"cqg.rtd\", ,\"ContractData\", A34, \"HIgh\",, \"T\")","v":84.460000000000008},{"$f":"RTD(\"cqg.rtd\", ,\"ContractData\",A34, \"LOw\",, \"T\")","v":82.69},{"$f":"RTD(\"cqg.rtd\", ,\"ContractData\",A34, \"T_CVol\",, \"T\")","v":226149},null,{"$f":" IFERROR(O34/RTD(\"cqg.rtd\",,\"StudyData\",A34, \"MA\", \"InputChoice=Vol,MAType=Sim,Period=21\", \"MA\",\"D\",\"-1\",\"all\",,,,\"T\"),\"\")","v":0.86444051522095733},{"$f":"KBE!Q57","v":"https://finance.yahoo.com/quote/BOH"}]
[{"$f":"TRIM(KBE!O58)","v":"S.US.CFG"},"News",{"$f":"RTD(\"cqg.rtd\", ,\"ContractData\",A35, \"LongDescription\",, \"T\")&\" (\"&RIGHT(A35,LEN(A35)-5)&\")\"","v":"Citizens Financial Group, Inc. (CFG)"},null,null,null,null,{"$f":"RTD(\"cqg.rtd\", ,\"ContractData\",A35, \"LastTradeToday\",, \"T\")","v":35.65},{"$f":"RTD(\"cqg.rtd\", ,\"ContractData\",A35, \"NetLastTradeToday\",, \"T\")","v":0.31},{"$f":"RTD(\"cqg.rtd\", ,\"ContractData\",A35, \"PerCentNetLastTrade\",, \"T\")/100","v":8.771929824561403E-3},{"$f":" I35/RTD(\"cqg.rtd\",,\"StudyData\",A35, \"ATR\", \"MaType=Sim,Period=10\", \"ATR\",\"D\",\"-1\",\"ALL\",,,\"FALSE\",\"T\")/100","v":4.269972451790633E-3},{"$f":"RTD(\"cqg.rtd\", ,\"ContractData\",A35, \"OPen\",, \"T\")","v":36.18},{"$f":"RTD(\"cqg.rtd\", ,\"ContractData\", A35, \"HIgh\",, \"T\")","v":36.730000000000004},{"$f":"RTD(\"cqg.rtd\", ,\"ContractData\",A35, \"LOw\",, \"T\")","v":35.18},{"$f":"RTD(\"cqg.rtd\", ,\"ContractData\",A35, \"T_CVol\",, \"T\")","v":5573440},null,{"$f":" IFERROR(O35/RTD(\"cqg.rtd\",,\"StudyData\",A35, \"MA\", \"InputChoice=Vol,MAType=Sim,Period=21\", \"MA\",\"D\",\"-1\",\"all\",,,,\"T\"),\"\")","v":1.1345485313669565},{"$f":"KBE!Q58","v":"https://finance.yahoo.com/quote/CFG"}]
[{"$f":"TRIM(KBE!O59)","v":"S.US.BK"},"News",{"$f":"RTD(\"cqg.rtd\", ,\"ContractData\",A36, \"LongDescription\",, \"T\")&\" (\"&RIGHT(A36,LEN(A36)-5)&\")\"","v":"Bank of New York Co Inc (BK)"},null,null,null,null,{"$f":"RTD(\"cqg.rtd\", ,\"ContractData\",A36, \"LastTradeToday\",, \"T\")","v":51.01},{"$f":"RTD(\"cqg.rtd\", ,\"ContractData\",A36, \"NetLastTradeToday\",, \"T\")","v":0.41000000000000003},{"$f":"RTD(\"cqg.rtd\", ,\"ContractData\",A36, \"PerCentNetLastTrade\",, \"T\")/100","v":8.1027667984189724E-3},{"$f":" I36/RTD(\"cqg.rtd\",,\"StudyData\",A36, \"ATR\", \"MaType=Sim,Period=10\", \"ATR\",\"D\",\"-1\",\"ALL\",,,\"FALSE\",\"T\")/100","v":7.6492537313432836E-3},{"$f":"RTD(\"cqg.rtd\", ,\"ContractData\",A36, \"OPen\",, \"T\")","v":51.54},{"$f":"RTD(\"cqg.rtd\", ,\"ContractData\", A36, \"HIgh\",, \"T\")","v":51.59},{"$f":"RTD(\"cqg.rtd\", ,\"ContractData\",A36, \"LOw\",, \"T\")","v":50.550000000000004},{"$f":"RTD(\"cqg.rtd\", ,\"ContractData\",A36, \"T_CVol\",, \"T\")","v":5052851},null,{"$f":" IFERROR(O36/RTD(\"cqg.rtd\",,\"StudyData\",A36, \"MA\", \"InputChoice=Vol,MAType=Sim,Period=21\", \"MA\",\"D\",\"-1\",\"all\",,,,\"T\"),\"\")","v":1.0823727463290993},{"$f":"KBE!Q59","v":"https://finance.yahoo.com/quote/BK"}]
[{"$f":"TRIM(KBE!O60)","v":"S.US.FULT"},"News",{"$f":"RTD(\"cqg.rtd\", ,\"ContractData\",A37, \"LongDescription\",, \"T\")&\" (\"&RIGHT(A37,LEN(A37)-5)&\")\"","v":"Fulton Financial Corporation (FULT)"},null,null,null,null,{"$f":"RTD(\"cqg.rtd\", ,\"ContractData\",A37, \"LastTradeToday\",, \"T\")","v":19.150000000000002},{"$f":"RTD(\"cqg.rtd\", ,\"ContractData\",A37, \"NetLastTradeToday\",, \"T\")","v":0.15},{"$f":"RTD(\"cqg.rtd\", ,\"ContractData\",A37, \"PerCentNetLastTrade\",, \"T\")/100","v":7.8947368421052634E-3},{"$f":" I37/RTD(\"cqg.rtd\",,\"StudyData\",A37, \"ATR\", \"MaType=Sim,Period=10\", \"ATR\",\"D\",\"-1\",\"ALL\",,,\"FALSE\",\"T\")/100","v":3.8167938931297708E-3},{"$f":"RTD(\"cqg.rtd\", ,\"ContractData\",A37, \"OPen\",, \"T\")","v":19.25},{"$f":"RTD(\"cqg.rtd\", ,\"ContractData\", A37, \"HIgh\",, \"T\")","v":19.400000000000002},{"$f":"RTD(\"cqg.rtd\", ,\"ContractData\",A37, \"LOw\",, \"T\")","v":18.850000000000001},{"$f":"RTD(\"cqg.rtd\", ,\"ContractData\",A37, \"T_CVol\",, \"T\")","v":825787},null,{"$f":" IFERROR(O37/RTD(\"cqg.rtd\",,\"StudyData\",A37, \"MA\", \"InputChoice=Vol,MAType=Sim,Period=21\", \"MA\",\"D\",\"-1\",\"all\",,,,\"T\"),\"\")","v":0.82917925128646941},{"$f":"KBE!Q60","v":"https://finance.yahoo.com/quote/FULT"}]
[{"$f":"TRIM(KBE!O61)","v":"S.US.CFR"},"News",{"$f":"RTD(\"cqg.rtd\", ,\"ContractData\",A38, \"LongDescription\",, \"T\")&\" (\"&RIGHT(A38,LEN(A38)-5)&\")\"","v":"Cullen Frost Bankers Inc (CFR)"},null,null,null,null,{"$f":"RTD(\"cqg.rtd\", ,\"ContractData\",A38, \"LastTradeToday\",, \"T\")","v":94.12},{"$f":"RTD(\"cqg.rtd\", ,\"ContractData\",A38, \"NetLastTradeToday\",, \"T\")","v":0.72},{"$f":"RTD(\"cqg.rtd\", ,\"ContractData\",A38, \"PerCentNetLastTrade\",, \"T\")/100","v":7.7087794432548181E-3},{"$f":" I38/RTD(\"cqg.rtd\",,\"StudyData\",A38, \"ATR\", \"MaType=Sim,Period=10\", \"ATR\",\"D\",\"-1\",\"ALL\",,,\"FALSE\",\"T\")/100","v":3.0534351145038163E-3},{"$f":"RTD(\"cqg.rtd\", ,\"ContractData\",A38, \"OPen\",, \"T\")","v":96.38},{"$f":"RTD(\"cqg.rtd\", ,\"ContractData\", A38, \"HIgh\",, \"T\")","v":96.77},{"$f":"RTD(\"cqg.rtd\", ,\"ContractData\",A38, \"LOw\",, \"T\")","v":93.24},{"$f":"RTD(\"cqg.rtd\", ,\"ContractData\",A38, \"T_CVol\",, \"T\")","v":509666},null,{"$f":" IFERROR(O38/RTD(\"cqg.rtd\",,\"StudyData\",A38, \"MA\", \"InputChoice=Vol,MAType=Sim,Period=21\", \"MA\",\"D\",\"-1\",\"all\",,,,\"T\"),\"\")","v":1.0880011401510645},{"$f":"KBE!Q61","v":"https://finance.yahoo.com/quote/CFR"}]
[{"$f":"TRIM(KBE!O62)","v":"S.US.SIVB"},"News",{"$f":"RTD(\"cqg.rtd\", ,\"ContractData\",A39, \"LongDescription\",, \"T\")&\" (\"&RIGHT(A39,LEN(A39)-5)&\")\"","v":"SVB Financial Group (SIVB)"},null,null,null,null,{"$f":"RTD(\"cqg.rtd\", ,\"ContractData\",A39, \"LastTradeToday\",, \"T\")","v":177.23},{"$f":"RTD(\"cqg.rtd\", ,\"ContractData\",A39, \"NetLastTradeToday\",, \"T\")","v":1.1400000000000001},{"$f":"RTD(\"cqg.rtd\", ,\"ContractData\",A39, \"PerCentNetLastTrade\",, \"T\")/100","v":6.4739621784314838E-3},{"$f":" I39/RTD(\"cqg.rtd\",,\"StudyData\",A39, \"ATR\", \"MaType=Sim,Period=10\", \"ATR\",\"D\",\"-1\",\"ALL\",,,\"FALSE\",\"T\")/100","v":2.7117031398667941E-3},{"$f":"RTD(\"cqg.rtd\", ,\"ContractData\",A39, \"OPen\",, \"T\")","v":179.58},{"$f":"RTD(\"cqg.rtd\", ,\"ContractData\", A39, \"HIgh\",, \"T\")","v":181.49},{"$f":"RTD(\"cqg.rtd\", ,\"ContractData\",A39, \"LOw\",, \"T\")","v":175.89000000000001},{"$f":"RTD(\"cqg.rtd\", ,\"ContractData\",A39, \"T_CVol\",, \"T\")","v":475142},null,{"$f":" IFERROR(O39/RTD(\"cqg.rtd\",,\"StudyData\",A39, \"MA\", \"InputChoice=Vol,MAType=Sim,Period=21\", \"MA\",\"D\",\"-1\",\"all\",,,,\"T\"),\"\")","v":0.73239485622706624},{"$f":"KBE!Q62","v":"https://finance.yahoo.com/quote/SIVB"}]
[{"$f":"TRIM(KBE!O63)","v":"S.US.MTG"},"News",{"$f":"RTD(\"cqg.rtd\", ,\"ContractData\",A40, \"LongDescription\",, \"T\")&\" (\"&RIGHT(A40,LEN(A40)-5)&\")\"","v":"MGIC Investment Corp (MTG)"},null,null,null,null,{"$f":"RTD(\"cqg.rtd\", ,\"ContractData\",A40, \"LastTradeToday\",, \"T\")","v":11.23},{"$f":"RTD(\"cqg.rtd\", ,\"ContractData\",A40, \"NetLastTradeToday\",, \"T\")","v":0.05},{"$f":"RTD(\"cqg.rtd\", ,\"ContractData\",A40, \"PerCentNetLastTrade\",, \"T\")/100","v":4.4722719141323791E-3},{"$f":" I40/RTD(\"cqg.rtd\",,\"StudyData\",A40, \"ATR\", \"MaType=Sim,Period=10\", \"ATR\",\"D\",\"-1\",\"ALL\",,,\"FALSE\",\"T\")/100","v":2.2624434389140274E-3},{"$f":"RTD(\"cqg.rtd\", ,\"ContractData\",A40, \"OPen\",, \"T\")","v":11.27},{"$f":"RTD(\"cqg.rtd\", ,\"ContractData\", A40, \"HIgh\",, \"T\")","v":11.370000000000001},{"$f":"RTD(\"cqg.rtd\", ,\"ContractData\",A40, \"LOw\",, \"T\")","v":11.120000000000001},{"$f":"RTD(\"cqg.rtd\", ,\"ContractData\",A40, \"T_CVol\",, \"T\")","v":3367192},null,{"$f":" IFERROR(O40/RTD(\"cqg.rtd\",,\"StudyData\",A40, \"MA\", \"InputChoice=Vol,MAType=Sim,Period=21\", \"MA\",\"D\",\"-1\",\"all\",,,,\"T\"),\"\")","v":0.97573554566375631},{"$f":"KBE!Q63","v":"https://finance.yahoo.com/quote/MTG"}]
[{"$f":"TRIM(KBE!O64)","v":"S.US.EWBC"},"News",{"$f":"RTD(\"cqg.rtd\", ,\"ContractData\",A41, \"LongDescription\",, \"T\")&\" (\"&RIGHT(A41,LEN(A41)-5)&\")\"","v":"East West Bancorp (EWBC)"},null,null,null,null,{"$f":"RTD(\"cqg.rtd\", ,\"ContractData\",A41, \"LastTradeToday\",, \"T\")","v":58.46},{"$f":"RTD(\"cqg.rtd\", ,\"ContractData\",A41, \"NetLastTradeToday\",, \"T\")","v":0.21},{"$f":"RTD(\"cqg.rtd\", ,\"ContractData\",A41, \"PerCentNetLastTrade\",, \"T\")/100","v":3.6051502145922746E-3},{"$f":" I41/RTD(\"cqg.rtd\",,\"StudyData\",A41, \"ATR\", \"MaType=Sim,Period=10\", \"ATR\",\"D\",\"-1\",\"ALL\",,,\"FALSE\",\"T\")/100","v":1.7087062652563056E-3},{"$f":"RTD(\"cqg.rtd\", ,\"ContractData\",A41, \"OPen\",, \"T\")","v":59.35},{"$f":"RTD(\"cqg.rtd\", ,\"ContractData\", A41, \"HIgh\",, \"T\")","v":60.04},{"$f":"RTD(\"cqg.rtd\", ,\"ContractData\",A41, \"LOw\",, \"T\")","v":57.730000000000004},{"$f":"RTD(\"cqg.rtd\", ,\"ContractData\",A41, \"T_CVol\",, \"T\")","v":1235559},null,{"$f":" IFERROR(O41/RTD(\"cqg.rtd\",,\"StudyData\",A41, \"MA\", \"InputChoice=Vol,MAType=Sim,Period=21\", \"MA\",\"D\",\"-1\",\"all\",,,,\"T\"),\"\")","v":0.78095573907562876},{"$f":"KBE!Q64","v":"https://finance.yahoo.com/quote/EWBC"}]
[{"$f":"TRIM(KBE!O65)","v":"S.US.NTRS"},"News",{"$f":"RTD(\"cqg.rtd\", ,\"ContractData\",A42, \"LongDescription\",, \"T\")&\" (\"&RIGHT(A42,LEN(A42)-5)&\")\"","v":"Northern Trust Corp (NTRS)"},null,null,null,null,{"$f":"RTD(\"cqg.rtd\", ,\"ContractData\",A42, \"LastTradeToday\",, \"T\")","v":97},{"$f":"RTD(\"cqg.rtd\", ,\"ContractData\",A42, \"NetLastTradeToday\",, \"T\")","v":0.34},{"$f":"RTD(\"cqg.rtd\", ,\"ContractData\",A42, \"PerCentNetLastTrade\",, \"T\")/100","v":3.5174839644113386E-3},{"$f":" I42/RTD(\"cqg.rtd\",,\"StudyData\",A42, \"ATR\", \"MaType=Sim,Period=10\", \"ATR\",\"D\",\"-1\",\"ALL\",,,\"FALSE\",\"T\")/100","v":2.7178257394084738E-3},{"$f":"RTD(\"cqg.rtd\", ,\"ContractData\",A42, \"OPen\",, \"T\")","v":98.03},{"$f":"RTD(\"cqg.rtd\", ,\"ContractData\", A42, \"HIgh\",, \"T\")","v":98.72},{"$f":"RTD(\"cqg.rtd\", ,\"ContractData\",A42, \"LOw\",, \"T\")","v":95.850000000000009},{"$f":"RTD(\"cqg.rtd\", ,\"ContractData\",A42, \"T_CVol\",, \"T\")","v":1439981},null,{"$f":" IFERROR(O42/RTD(\"cqg.rtd\",,\"StudyData\",A42, \"MA\", \"InputChoice=Vol,MAType=Sim,Period=21\", \"MA\",\"D\",\"-1\",\"all\",,,,\"T\"),\"\")","v":1.3516171615450561},{"$f":"KBE!Q65","v":"https://finance.yahoo.com/quote/NTRS"}]
[{"$f":"TRIM(KBE!O66)","v":"S.US.FRC"},"News",{"$f":"RTD(\"cqg.rtd\", ,\"ContractData\",A43, \"LongDescription\",, \"T\")&\" (\"&RIGHT(A43,LEN(A43)-5)&\")\"","v":"First Republic Bank (FRC)"},null,null,null,null,{"$f":"RTD(\"cqg.rtd\", ,\"ContractData\",A43, \"LastTradeToday\",, \"T\")","v":100.56},{"$f":"RTD(\"cqg.rtd\", ,\"ContractData\",A43, \"NetLastTradeToday\",, \"T\")","v":-0.15},{"$f":"RTD(\"cqg.rtd\", ,\"ContractData\",A43, \"PerCentNetLastTrade\",, \"T\")/100","v":-1.4894250819183796E-3},{"$f":" I43/RTD(\"cqg.rtd\",,\"StudyData\",A43, \"ATR\", \"MaType=Sim,Period=10\", \"ATR\",\"D\",\"-1\",\"ALL\",,,\"FALSE\",\"T\")/100","v":-1.0438413361169101E-3},{"$f":"RTD(\"cqg.rtd\", ,\"ContractData\",A43, \"OPen\",, \"T\")","v":102.43},{"$f":"RTD(\"cqg.rtd\", ,\"ContractData\", A43, \"HIgh\",, \"T\")","v":103.69},{"$f":"RTD(\"cqg.rtd\", ,\"ContractData\",A43, \"LOw\",, \"T\")","v":99.29},{"$f":"RTD(\"cqg.rtd\", ,\"ContractData\",A43, \"T_CVol\",, \"T\")","v":968827},null,{"$f":" IFERROR(O43/RTD(\"cqg.rtd\",,\"StudyData\",A43, \"MA\", \"InputChoice=Vol,MAType=Sim,Period=21\", \"MA\",\"D\",\"-1\",\"all\",,,,\"T\"),\"\")","v":1.0934712105161004},{"$f":"KBE!Q66","v":"https://finance.yahoo.com/quote/FRC"}]
[{"$f":"TRIM(KBE!O67)","v":"S.US.WAFD"},"News",{"$f":"RTD(\"cqg.rtd\", ,\"ContractData\",A44, \"LongDescription\",, \"T\")&\" (\"&RIGHT(A44,LEN(A44)-5)&\")\"","v":"Washington Federal, Inc. (WAFD)"},null,null,null,null,{"$f":"RTD(\"cqg.rtd\", ,\"ContractData\",A44, \"LastTradeToday\",, \"T\")","v":33.450000000000003},{"$f":"RTD(\"cqg.rtd\", ,\"ContractData\",A44, \"NetLastTradeToday\",, \"T\")","v":-0.05},{"$f":"RTD(\"cqg.rtd\", ,\"ContractData\",A44, \"PerCentNetLastTrade\",, \"T\")/100","v":-1.4925373134328356E-3},{"$f":" I44/RTD(\"cqg.rtd\",,\"StudyData\",A44, \"ATR\", \"MaType=Sim,Period=10\", \"ATR\",\"D\",\"-1\",\"ALL\",,,\"FALSE\",\"T\")/100","v":-7.7041602465331271E-4},{"$f":"RTD(\"cqg.rtd\", ,\"ContractData\",A44, \"OPen\",, \"T\")","v":34.15},{"$f":"RTD(\"cqg.rtd\", ,\"ContractData\", A44, \"HIgh\",, \"T\")","v":34.5},{"$f":"RTD(\"cqg.rtd\", ,\"ContractData\",A44, \"LOw\",, \"T\")","v":33.200000000000003},{"$f":"RTD(\"cqg.rtd\", ,\"ContractData\",A44, \"T_CVol\",, \"T\")","v":844469},null,{"$f":" IFERROR(O44/RTD(\"cqg.rtd\",,\"StudyData\",A44, \"MA\", \"InputChoice=Vol,MAType=Sim,Period=21\", \"MA\",\"D\",\"-1\",\"all\",,,,\"T\"),\"\")","v":1.9249103802984018},{"$f":"KBE!Q67","v":"https://finance.yahoo.com/quote/WAFD"}]
[{"$f":"TRIM(KBE!O68)","v":"S.US.CIT"},"News",{"$f":"RTD(\"cqg.rtd\", ,\"ContractData\",A45, \"LongDescription\",, \"T\")&\" (\"&RIGHT(A45,LEN(A45)-5)&\")\"","v":"CIT Group Inc. (CIT)"},null,null,null,null,{"$f":"RTD(\"cqg.rtd\", ,\"ContractData\",A45, \"LastTradeToday\",, \"T\")","v":48.51},{"$f":"RTD(\"cqg.rtd\", ,\"ContractData\",A45, \"NetLastTradeToday\",, \"T\")","v":-0.1},{"$f":"RTD(\"cqg.rtd\", ,\"ContractData\",A45, \"PerCentNetLastTrade\",, \"T\")/100","v":-2.0571898786257972E-3},{"$f":" I45/RTD(\"cqg.rtd\",,\"StudyData\",A45, \"ATR\", \"MaType=Sim,Period=10\", \"ATR\",\"D\",\"-1\",\"ALL\",,,\"FALSE\",\"T\")/100","v":-1.2484394506866417E-3},{"$f":"RTD(\"cqg.rtd\", ,\"ContractData\",A45, \"OPen\",, \"T\")","v":49.25},{"$f":"RTD(\"cqg.rtd\", ,\"ContractData\", A45, \"HIgh\",, \"T\")","v":49.54},{"$f":"RTD(\"cqg.rtd\", ,\"ContractData\",A45, \"LOw\",, \"T\")","v":48.07},{"$f":"RTD(\"cqg.rtd\", ,\"ContractData\",A45, \"T_CVol\",, \"T\")","v":1739020},null,{"$f":" IFERROR(O45/RTD(\"cqg.rtd\",,\"StudyData\",A45, \"MA\", \"InputChoice=Vol,MAType=Sim,Period=21\", \"MA\",\"D\",\"-1\",\"all\",,,,\"T\"),\"\")","v":0.66205066925375733},{"$f":"KBE!Q68","v":"https://finance.yahoo.com/quote/CIT"}]
[{"$f":"TRIM(KBE!O69)","v":"S.US.MTB"},"News",{"$f":"RTD(\"cqg.rtd\", ,\"ContractData\",A46, \"LongDescription\",, \"T\")&\" (\"&RIGHT(A46,LEN(A46)-5)&\")\"","v":"M&T Bank Corp (MTB)"},null,null,null,null,{"$f":"RTD(\"cqg.rtd\", ,\"ContractData\",A46, \"LastTradeToday\",, \"T\")","v":161.18},{"$f":"RTD(\"cqg.rtd\", ,\"ContractData\",A46, \"NetLastTradeToday\",, \"T\")","v":-0.47000000000000003},{"$f":"RTD(\"cqg.rtd\", ,\"ContractData\",A46, \"PerCentNetLastTrade\",, \"T\")/100","v":-2.9075162387875038E-3},{"$f":" I46/RTD(\"cqg.rtd\",,\"StudyData\",A46, \"ATR\", \"MaType=Sim,Period=10\", \"ATR\",\"D\",\"-1\",\"ALL\",,,\"FALSE\",\"T\")/100","v":-2.0805666223992921E-3},{"$f":"RTD(\"cqg.rtd\", ,\"ContractData\",A46, \"OPen\",, \"T\")","v":163.11000000000001},{"$f":"RTD(\"cqg.rtd\", ,\"ContractData\", A46, \"HIgh\",, \"T\")","v":163.9},{"$f":"RTD(\"cqg.rtd\", ,\"ContractData\",A46, \"LOw\",, \"T\")","v":159.29},{"$f":"RTD(\"cqg.rtd\", ,\"ContractData\",A46, \"T_CVol\",, \"T\")","v":1347653},null,{"$f":" IFERROR(O46/RTD(\"cqg.rtd\",,\"StudyData\",A46, \"MA\", \"InputChoice=Vol,MAType=Sim,Period=21\", \"MA\",\"D\",\"-1\",\"all\",,,,\"T\"),\"\")","v":2.1001181231027015},{"$f":"KBE!Q69","v":"https://finance.yahoo.com/quote/MTB"}]
[{"$f":"TRIM(KBE!O70)","v":"S.US.USB"},"News",{"$f":"RTD(\"cqg.rtd\", ,\"ContractData\",A47, \"LongDescription\",, \"T\")&\" (\"&RIGHT(A47,LEN(A47)-5)&\")\"","v":"U S Bancorp (USB)"},null,null,null,null,{"$f":"RTD(\"cqg.rtd\", ,\"ContractData\",A47, \"LastTradeToday\",, \"T\")","v":51.78},{"$f":"RTD(\"cqg.rtd\", ,\"ContractData\",A47, \"NetLastTradeToday\",, \"T\")","v":-0.2},{"$f":"RTD(\"cqg.rtd\", ,\"ContractData\",A47, \"PerCentNetLastTrade\",, \"T\")/100","v":-3.8476337052712585E-3},{"$f":" I47/RTD(\"cqg.rtd\",,\"StudyData\",A47, \"ATR\", \"MaType=Sim,Period=10\", \"ATR\",\"D\",\"-1\",\"ALL\",,,\"FALSE\",\"T\")/100","v":-3.003003003003003E-3},{"$f":"RTD(\"cqg.rtd\", ,\"ContractData\",A47, \"OPen\",, \"T\")","v":52.86},{"$f":"RTD(\"cqg.rtd\", ,\"ContractData\", A47, \"HIgh\",, \"T\")","v":52.99},{"$f":"RTD(\"cqg.rtd\", ,\"ContractData\",A47, \"LOw\",, \"T\")","v":51.620000000000005},{"$f":"RTD(\"cqg.rtd\", ,\"ContractData\",A47, \"T_CVol\",, \"T\")","v":9967619},null,{"$f":" IFERROR(O47/RTD(\"cqg.rtd\",,\"StudyData\",A47, \"MA\", \"InputChoice=Vol,MAType=Sim,Period=21\", \"MA\",\"D\",\"-1\",\"all\",,,,\"T\"),\"\")","v":1.5282339396462059},{"$f":"KBE!Q70","v":"https://finance.yahoo.com/quote/USB"}]
[{"$f":"TRIM(KBE!O71)","v":"S.US.RDN"},"News",{"$f":"RTD(\"cqg.rtd\", ,\"ContractData\",A48, \"LongDescription\",, \"T\")&\" (\"&RIGHT(A48,LEN(A48)-5)&\")\"","v":"Radian Group (RDN)"},null,null,null,null,{"$f":"RTD(\"cqg.rtd\", ,\"ContractData\",A48, \"LastTradeToday\",, \"T\")","v":16.309999999999999},{"$f":"RTD(\"cqg.rtd\", ,\"ContractData\",A48, \"NetLastTradeToday\",, \"T\")","v":-0.14000000000000001},{"$f":"RTD(\"cqg.rtd\", ,\"ContractData\",A48, \"PerCentNetLastTrade\",, \"T\")/100","v":-8.5106382978723406E-3},{"$f":" I48/RTD(\"cqg.rtd\",,\"StudyData\",A48, \"ATR\", \"MaType=Sim,Period=10\", \"ATR\",\"D\",\"-1\",\"ALL\",,,\"FALSE\",\"T\")/100","v":-4.7781569965870312E-3},{"$f":"RTD(\"cqg.rtd\", ,\"ContractData\",A48, \"OPen\",, \"T\")","v":16.72},{"$f":"RTD(\"cqg.rtd\", ,\"ContractData\", A48, \"HIgh\",, \"T\")","v":16.73},{"$f":"RTD(\"cqg.rtd\", ,\"ContractData\",A48, \"LOw\",, \"T\")","v":16.240000000000002},{"$f":"RTD(\"cqg.rtd\", ,\"ContractData\",A48, \"T_CVol\",, \"T\")","v":3259481},null,{"$f":" IFERROR(O48/RTD(\"cqg.rtd\",,\"StudyData\",A48, \"MA\", \"InputChoice=Vol,MAType=Sim,Period=21\", \"MA\",\"D\",\"-1\",\"all\",,,,\"T\"),\"\")","v":1.7847955015991794},{"$f":"KBE!Q71","v":"https://finance.yahoo.com/quote/RDN"}]
[null,null,"CQG Inc.,   Copyright © 2017",null,null,null,"Designed by Thom Hartle",null,null,"Standard & Poor’s® and S&P® are registered trademarks of Standard & Poor’s Financial Services LLC, and have been licensed for use by Guggenheim Investments and its affiliates.",null,null,null,null,null,null,null,null,null,null,null,null,null,null,null,{"$f":"KBE!AB72","v":0.91549295774647887},"of the stocks in the ETF are higher today"]
[]
[]
[null,null,null,null,null,null,null,null,null,{"$f":"R34","v":"https://finance.yahoo.com/quote/BOH"}]
[null,null,null,null,null,null,null,null,null,{"$f":"R48","v":"https://finance.yahoo.com/quote/RDN"}]

{"sheet":"KBE","index":1,"n_rows":72,"n_cols":32,"rows_kept":72,"cut":false,"hidden":true,"merged":[]}
["Associated Banc-Corp","ASB",{"$f":"\"S.US.\"&B1","v":"S.US.ASB"},{"$f":"RTD(\"cqg.rtd\", ,\"ContractData\",C1, \"LongDescription\",, \"T\")","v":"Associated Banc-Corp"},{"$f":"RTD(\"cqg.rtd\", ,\"ContractData\",C1, \"Open\",, \"T\")","v":25.35},{"$f":"RTD(\"cqg.rtd\", ,\"ContractData\",C1, \"High\",, \"T\")","v":25.55},{"$f":"RTD(\"cqg.rtd\", ,\"ContractData\",C1, \"Low\",, \"T\")","v":24.87},{"$f":"RTD(\"cqg.rtd\", ,\"ContractData\",C1, \"LastTradeToday\",, \"T\")","v":25.2},{"$f":"RTD(\"cqg.rtd\", ,\"ContractData\",C1, \"NetLastTradeToday\",, \"T\")","v":0.4},{"$f":"RTD(\"cqg.rtd\", ,\"ContractData\",C1, \"PerCentNetLastTrade\",, \"T\")/100","v":1.6129032258064516E-2},{"$f":"RTD(\"cqg.rtd\", ,\"ContractData\", C1, \"T_CVol\",, \"T\")","v":1040694},1,{"$f":"RANK($J1,$J$1:J$71)+COUNTIF($J$1:J1,J1)-1","v":40},{"$f":"C1","v":"S.US.ASB"},{"$f":"VLOOKUP($L1,$M$1:$N$71,2,FALSE)","v":"S.US.RF"},{"$f":"RTD(\"cqg.rtd\", ,\"ContractData\",O1, \"PerCentNetLastTrade\",, \"T\")/100","v":4.04542228530873E-2},{"$f":"\"https://finance.yahoo.com/quote/\"&RIGHT(O1,(LEN(O1)-5))","v":"https://finance.yahoo.com/quote/RF"},null,{"$f":"IF(P1>=0,P1,NA())","v":4.04542228530873E-2},{"$f":"IF(P1>=0,NA(),-1*P1)","v":{"$error":"#N/A"}},null,{"$f":"RTD(\"cqg.rtd\", ,\"ContractData\",O1, \"LongDescription\",, \"T\")","v":"Regions Financial Corp"},null,null,{"$f":"IFERROR(S1,P1)","v":4.04542228530873E-2},null,{"$f":"IF(S1=\"NA()\",0,1)","v":1},{"$f":"IFERROR(AA1,0)","v":1},null,{"$f":"IFERROR(S1,\"\")","v":4.04542228530873E-2},{"$f":"IFERROR(T1,\"\")","v":""},{"$f":"IF(AE1=\"\",\"\",Y1)","v":""}]
["Bank of America Corp","BAC",{"$f":"\"S.US.\"&B2","v":"S.US.BAC"},{"$f":"RTD(\"cqg.rtd\", ,\"ContractData\",C2, \"LongDescription\",, \"T\")","v":"Bank of America Corp"},{"$f":"RTD(\"cqg.rtd\", ,\"ContractData\",C2, \"Open\",, \"T\")","v":24.580000000000002},{"$f":"RTD(\"cqg.rtd\", ,\"ContractData\",C2, \"High\",, \"T\")","v":24.67},{"$f":"RTD(\"cqg.rtd\", ,\"ContractData\",C2, \"Low\",, \"T\")","v":24.03},{"$f":"RTD(\"cqg.rtd\", ,\"ContractData\",C2, \"LastTradeToday\",, \"T\")","v":24.32},{"$f":"RTD(\"cqg.rtd\", ,\"ContractData\",C2, \"NetLastTradeToday\",, \"T\")","v":0.44},{"$f":"RTD(\"cqg.rtd\", ,\"ContractData\",C2, \"PerCentNetLastTrade\",, \"T\")/100","v":1.8425460636515914E-2},{"$f":"RTD(\"cqg.rtd\", ,\"ContractData\", C2, \"T_CVol\",, \"T\")","v":146734294},{"$f":"L1+1","v":2},{"$f":"RANK($J2,$J$1:J$71)+COUNTIF($J$1:J2,J2)-1","v":29},{"$f":"C2","v":"S.US.BAC"},"S.US.BPOP",{"$f":"RTD(\"cqg.rtd\", ,\"ContractData\",O2, \"PerCentNetLastTrade\",, \"T\")/100","v":3.2441802872709265E-2},{"$f":"\"https://finance.yahoo.com/quote/\"&RIGHT(O2,(LEN(O2)-5))","v":"https://finance.yahoo.com/quote/BPOP"},null,{"$f":"IF(P2>=0,P2,NA())","v":3.2441802872709265E-2},{"$f":"IF(P2>=0,NA(),-1*P2)","v":{"$error":"#N/A"}},null,{"$f":"RTD(\"cqg.rtd\", ,\"ContractData\",O2, \"LongDescription\",, \"T\")","v":"BanPonce Corp"},null,null,{"$f":"IFERROR(S2,P2)","v":3.2441802872709265E-2},null,{"$f":"IF(S2=\"NA()\",0,1)","v":1},{"$f":"IFERROR(AA2,0)","v":1},null,{"$f":"IFERROR(S2,\"\")","v":3.2441802872709265E-2},{"$f":"IFERROR(T2,\"\")","v":""},{"$f":"IF(AE2=\"\",\"\",Y2)","v":""}]
["BB&T Corp","BBT","S.US.BBT",{"$f":"RTD(\"cqg.rtd\", ,\"ContractData\",C3, \"LongDescription\",, \"T\")","v":"BB&T Corp"},{"$f":"RTD(\"cqg.rtd\", ,\"ContractData\",C3, \"Open\",, \"T\")","v":45.82},{"$f":"RTD(\"cqg.rtd\", ,\"ContractData\",C3, \"High\",, \"T\")","v":46.5},{"$f":"RTD(\"cqg.rtd\", ,\"ContractData\",C3, \"Low\",, \"T\")","v":44.99},{"$f":"RTD(\"cqg.rtd\", ,\"ContractData\",C3, \"LastTradeToday\",, \"T\")","v":45.61},{"$f":"RTD(\"cqg.rtd\", ,\"ContractData\",C3, \"NetLastTradeToday\",, \"T\")","v":0.83000000000000007},{"$f":"RTD(\"cqg.rtd\", ,\"ContractData\",C3, \"PerCentNetLastTrade\",, \"T\")/100","v":1.8535060294774454E-2},{"$f":"RTD(\"cqg.rtd\", ,\"ContractData\", C3, \"T_CVol\",, \"T\")","v":5906383},{"$f":"L2+1","v":3},{"$f":"RANK($J3,$J$1:J$71)+COUNTIF($J$1:J3,J3)-1","v":28},"S.US.BBT","S.US.WTFC",{"$f":"RTD(\"cqg.rtd\", ,\"ContractData\",O3, \"PerCentNetLastTrade\",, \"T\")/100","v":2.8987443227357735E-2},"https://finance.yahoo.com/quote/WTFC",null,2.8987443227357735E-2,{"$error":"#N/A"},null,{"$f":"RTD(\"cqg.rtd\", ,\"ContractData\",O3, \"LongDescription\",, \"T\")","v":"Wintrust Financial Corp"},null,null,2.8987443227357735E-2,null,1,1,null,2.8987443227357735E-2,"",""]
["Bank of New York Co Inc","BK","S.US.BK",{"$f":"RTD(\"cqg.rtd\", ,\"ContractData\",C4, \"LongDescription\",, \"T\")","v":"Bank of New York Co Inc"},{"$f":"RTD(\"cqg.rtd\", ,\"ContractData\",C4, \"Open\",, \"T\")","v":51.54},{"$f":"RTD(\"cqg.rtd\", ,\"ContractData\",C4, \"High\",, \"T\")","v":51.59},{"$f":"RTD(\"cqg.rtd\", ,\"ContractData\",C4, \"Low\",, \"T\")","v":50.550000000000004},{"$f":"RTD(\"cqg.rtd\", ,\"ContractData\",C4, \"LastTradeToday\",, \"T\")","v":51.01},{"$f":"RTD(\"cqg.rtd\", ,\"ContractData\",C4, \"NetLastTradeToday\",, \"T\")","v":0.41000000000000003},{"$f":"RTD(\"cqg.rtd\", ,\"ContractData\",C4, \"PerCentNetLastTrade\",, \"T\")/100","v":8.1027667984189724E-3},{"$f":"RTD(\"cqg.rtd\", ,\"ContractData\", C4, \"T_CVol\",, \"T\")","v":5052851},4,{"$f":"RANK($J4,$J$1:J$71)+COUNTIF($J$1:J4,J4)-1","v":59},"S.US.BK","S.US.TCBI",{"$f":"RTD(\"cqg.rtd\", ,\"ContractData\",O4, \"PerCentNetLastTrade\",, \"T\")/100","v":2.7888446215139445E-2},"https://finance.yahoo.com/quote/TCBI",null,2.7888446215139445E-2,{"$error":"#N/A"},null,{"$f":"RTD(\"cqg.rtd\", ,\"ContractData\",O4, \"LongDescription\",, \"T\")","v":"Texas Capital Bancshares Inc"},null,null,2.7888446215139445E-2,null,1,1,null,2.7888446215139445E-2,"",""]
["BankUnited, Inc.","BKU","S.US.BKU",{"$f":"RTD(\"cqg.rtd\", ,\"ContractData\",C5, \"LongDescription\",, \"T\")","v":"BankUnited, Inc."},{"$f":"RTD(\"cqg.rtd\", ,\"ContractData\",C5, \"Open\",, \"T\")","v":34.020000000000003},{"$f":"RTD(\"cqg.rtd\", ,\"ContractData\",C5, \"High\",, \"T\")","v":34.369999999999997},{"$f":"RTD(\"cqg.rtd\", ,\"ContractData\",C5, \"Low\",, \"T\")","v":33.58},{"$f":"RTD(\"cqg.rtd\", ,\"ContractData\",C5, \"LastTradeToday\",, \"T\")","v":33.94},{"$f":"RTD(\"cqg.rtd\", ,\"ContractData\",C5, \"NetLastTradeToday\",, \"T\")","v":0.66},{"$f":"RTD(\"cqg.rtd\", ,\"ContractData\",C5, \"PerCentNetLastTrade\",, \"T\")/100","v":1.9831730769230768E-2},{"$f":"RTD(\"cqg.rtd\", ,\"ContractData\", C5, \"T_CVol\",, \"T\")","v":1525253},5,{"$f":"RANK($J5,$J$1:J$71)+COUNTIF($J$1:J5,J5)-1","v":22},"S.US.BKU","S.US.IBKC",{"$f":"RTD(\"cqg.rtd\", ,\"ContractData\",O5, \"PerCentNetLastTrade\",, \"T\")/100","v":2.7638190954773871E-2},"https://finance.yahoo.com/quote/IBKC",null,2.7638190954773871E-2,{"$error":"#N/A"},null,{"$f":"RTD(\"cqg.rtd\", ,\"ContractData\",O5, \"LongDescription\",, \"T\")","v":"IBERIABANK Corp"},null,null,2.7638190954773871E-2,null,1,1,null,2.7638190954773871E-2,"",""]
["Hawaii Corporation","BOH","S.US.BOH",{"$f":"RTD(\"cqg.rtd\", ,\"ContractData\",C6, \"LongDescription\",, \"T\")","v":"Hawaii Corporation"},{"$f":"RTD(\"cqg.rtd\", ,\"ContractData\",C6, \"Open\",, \"T\")","v":84.460000000000008},{"$f":"RTD(\"cqg.rtd\", ,\"ContractData\",C6, \"High\",, \"T\")","v":84.460000000000008},{"$f":"RTD(\"cqg.rtd\", ,\"ContractData\",C6, \"Low\",, \"T\")","v":82.69},{"$f":"RTD(\"cqg.rtd\", ,\"ContractData\",C6, \"LastTradeToday\",, \"T\")","v":83.59},{"$f":"RTD(\"cqg.rtd\", ,\"ContractData\",C6, \"NetLastTradeToday\",, \"T\")","v":0.81},{"$f":"RTD(\"cqg.rtd\", ,\"ContractData\",C6, \"PerCentNetLastTrade\",, \"T\")/100","v":9.7849722155109939E-3},{"$f":"RTD(\"cqg.rtd\", ,\"ContractData\", C6, \"T_CVol\",, \"T\")","v":226149},6,{"$f":"RANK($J6,$J$1:J$71)+COUNTIF($J$1:J6,J6)-1","v":57},"S.US.BOH","S.US.C",{"$f":"RTD(\"cqg.rtd\", ,\"ContractData\",O6, \"PerCentNetLastTrade\",, \"T\")/100","v":2.7615833077631175E-2},"https://finance.yahoo.com/quote/C",null,2.7615833077631175E-2,{"$error":"#N/A"},null,{"$f":"RTD(\"cqg.rtd\", ,\"ContractData\",O6, \"LongDescription\",, \"T\")","v":"Citigroup Inc"},null,null,2.7615833077631175E-2,null,1,1,null,2.7615833077631175E-2,"",""]
["BanPonce Corp","BPOP","S.US.BPOP",{"$f":"RTD(\"cqg.rtd\", ,\"ContractData\",C7, \"LongDescription\",, \"T\")","v":"BanPonce Corp"},{"$f":"RTD(\"cqg.rtd\", ,\"ContractData\",C7, \"Open\",, \"T\")","v":41.11},{"$f":"RTD(\"cqg.rtd\", ,\"ContractData\",C7, \"High\",, \"T\")","v":42.06},{"$f":"RTD(\"cqg.rtd\", ,\"ContractData\",C7, \"Low\",, \"T\")","v":41.11},{"$f":"RTD(\"cqg.rtd\", ,\"ContractData\",C7, \"LastTradeToday\",, \"T\")","v":41.69},{"$f":"RTD(\"cqg.rtd\", ,\"ContractData\",C7, \"NetLastTradeToday\",, \"T\")","v":1.31},{"$f":"RTD(\"cqg.rtd\", ,\"ContractData\",C7, \"PerCentNetLastTrade\",, \"T\")/100","v":3.2441802872709265E-2},{"$f":"RTD(\"cqg.rtd\", ,\"ContractData\", C7, \"T_CVol\",, \"T\")","v":729056},7,{"$f":"RANK($J7,$J$1:J$71)+COUNTIF($J$1:J7,J7)-1","v":2},"S.US.BPOP","S.US.OZRK",{"$f":"RTD(\"cqg.rtd\", ,\"ContractData\",O7, \"PerCentNetLastTrade\",, \"T\")/100","v":2.7256868730920192E-2},"https://finance.yahoo.com/quote/OZRK",null,2.7256868730920192E-2,{"$error":"#N/A"},null,{"$f":"RTD(\"cqg.rtd\", ,\"ContractData\",O7, \"LongDescription\",, \"T\")","v":"Bank of the Ozarks"},null,null,2.7256868730920192E-2,null,1,1,null,2.7256868730920192E-2,"",""]
["BANCORPSOUTH INC","BXS","S.US.BXS",{"$f":"RTD(\"cqg.rtd\", ,\"ContractData\",C8, \"LongDescription\",, \"T\")","v":"BANCORPSOUTH INC"},{"$f":"RTD(\"cqg.rtd\", ,\"ContractData\",C8, \"Open\",, \"T\")","v":30.95},{"$f":"RTD(\"cqg.rtd\", ,\"ContractData\",C8, \"High\",, \"T\")","v":31.2},{"$f":"RTD(\"cqg.rtd\", ,\"ContractData\",C8, \"Low\",, \"T\")","v":30.27},{"$f":"RTD(\"cqg.rtd\", ,\"ContractData\",C8, \"LastTradeToday\",, \"T\")","v":30.75},{"$f":"RTD(\"cqg.rtd\", ,\"ContractData\",C8, \"NetLastTradeToday\",, \"T\")","v":0.45},{"$f":"RTD(\"cqg.rtd\", ,\"ContractData\",C8, \"PerCentNetLastTrade\",, \"T\")/100","v":1.4851485148514851E-2},{"$f":"RTD(\"cqg.rtd\", ,\"ContractData\", C8, \"T_CVol\",, \"T\")","v":478761},8,{"$f":"RANK($J8,$J$1:J$71)+COUNTIF($J$1:J8,J8)-1","v":45},"S.US.BXS","S.US.WFC",{"$f":"RTD(\"cqg.rtd\", ,\"ContractData\",O8, \"PerCentNetLastTrade\",, \"T\")/100","v":2.6688753911282902E-2},"https://finance.yahoo.com/quote/WFC",null,2.6688753911282902E-2,{"$error":"#N/A"},null,{"$f":"RTD(\"cqg.rtd\", ,\"ContractData\",O8, \"LongDescription\",, \"T\")","v":"Wells Fargo & Co New"},null,null,2.6688753911282902E-2,null,1,1,null,2.6688753911282902E-2,"",""]
["Citigroup Inc","C","S.US.C",{"$f":"RTD(\"cqg.rtd\", ,\"ContractData\",C9, \"LongDescription\",, \"T\")","v":"Citigroup Inc"},{"$f":"RTD(\"cqg.rtd\", ,\"ContractData\",C9, \"Open\",, \"T\")","v":67.650000000000006},{"$f":"RTD(\"cqg.rtd\", ,\"ContractData\",C9, \"High\",, \"T\")","v":67.75},{"$f":"RTD(\"cqg.rtd\", ,\"ContractData\",C9, \"Low\",, \"T\")","v":66.260000000000005},{"$f":"RTD(\"cqg.rtd\", ,\"ContractData\",C9, \"LastTradeToday\",, \"T\")","v":66.98},{"$f":"RTD(\"cqg.rtd\", ,\"ContractData\",C9, \"NetLastTradeToday\",, \"T\")","v":1.8},{"$f":"RTD(\"cqg.rtd\", ,\"ContractData\",C9, \"PerCentNetLastTrade\",, \"T\")/100","v":2.7615833077631175E-2},{"$f":"RTD(\"cqg.rtd\", ,\"ContractData\", C9, \"T_CVol\",, \"T\")","v":40675401},9,{"$f":"RANK($J9,$J$1:J$71)+COUNTIF($J$1:J9,J9)-1","v":6},"S.US.C","S.US.TCB",{"$f":"RTD(\"cqg.rtd\", ,\"ContractData\",O9, \"PerCentNetLastTrade\",, \"T\")/100","v":2.5000000000000001E-2},"https://finance.yahoo.com/quote/TCB",null,2.5000000000000001E-2,{"$error":"#N/A"},null,{"$f":"RTD(\"cqg.rtd\", ,\"ContractData\",O9, \"LongDescription\",, \"T\")","v":"TCF Financial Corp"},null,null,2.5000000000000001E-2,null,1,1,null,2.5000000000000001E-2,"",""]
["Cathay Bancorp Inc","CATY","S.US.CATY",{"$f":"RTD(\"cqg.rtd\", ,\"ContractData\",C10, \"LongDescription\",, \"T\")","v":"Cathay Bancorp Inc"},{"$f":"RTD(\"cqg.rtd\", ,\"ContractData\",C10, \"Open\",, \"T\")","v":38.42},{"$f":"RTD(\"cqg.rtd\", ,\"ContractData\",C10, \"High\",, \"T\")","v":38.58},{"$f":"RTD(\"cqg.rtd\", ,\"ContractData\",C10, \"Low\",, \"T\")","v":37.590000000000003},{"$f":"RTD(\"cqg.rtd\", ,\"ContractData\",C10, \"LastTradeToday\",, \"T\")","v":38.090000000000003},{"$f":"RTD(\"cqg.rtd\", ,\"ContractData\",C10, \"NetLastTradeToday\",, \"T\")","v":0.68},{"$f":"RTD(\"cqg.rtd\", ,\"ContractData\",C10, \"PerCentNetLastTrade\",, \"T\")/100","v":1.8176958032611601E-2},{"$f":"RTD(\"cqg.rtd\", ,\"ContractData\", C10, \"T_CVol\",, \"T\")","v":380766},10,{"$f":"RANK($J10,$J$1:J$71)+COUNTIF($J$1:J10,J10)-1","v":31},"S.US.CATY","S.US.SNV",{"$f":"RTD(\"cqg.rtd\", ,\"ContractData\",O10, \"PerCentNetLastTrade\",, \"T\")/100","v":2.4215867158671585E-2},"https://finance.yahoo.com/quote/SNV",null,2.4215867158671585E-2,{"$error":"#N/A"},null,{"$f":"RTD(\"cqg.rtd\", ,\"ContractData\",O10, \"LongDescription\",, \"T\")","v":"Synovous Fin Corp"},null,null,2.4215867158671585E-2,null,1,1,null,2.4215867158671585E-2,"",""]
["Commerce Bancshares Inc","CBSH","S.US.CBSH",{"$f":"RTD(\"cqg.rtd\", ,\"ContractData\",C11, \"LongDescription\",, \"T\")","v":"Commerce Bancshares Inc"},{"$f":"RTD(\"cqg.rtd\", ,\"ContractData\",C11, \"Open\",, \"T\")","v":57.69},{"$f":"RTD(\"cqg.rtd\", ,\"ContractData\",C11, \"High\",, \"T\")","v":57.81},{"$f":"RTD(\"cqg.rtd\", ,\"ContractData\",C11, \"Low\",, \"T\")","v":56.6},{"$f":"RTD(\"cqg.rtd\", ,\"ContractData\",C11, \"LastTradeToday\",, \"T\")","v":57.33},{"$f":"RTD(\"cqg.rtd\", ,\"ContractData\",C11, \"NetLastTradeToday\",, \"T\")","v":0.6},{"$f":"RTD(\"cqg.rtd\", ,\"ContractData\",C11, \"PerCentNetLastTrade\",, \"T\")/100","v":1.0576414595452142E-2},{"$f":"RTD(\"cqg.rtd\", ,\"ContractData\", C11, \"T_CVol\",, \"T\")","v":394361},11,{"$f":"RANK($J11,$J$1:J$71)+COUNTIF($J$1:J11,J11)-1","v":53},"S.US.CBSH","S.US.HBHC",{"$f":"RTD(\"cqg.rtd\", ,\"ContractData\",O11, \"PerCentNetLastTrade\",, \"T\")/100","v":2.4134312696747116E-2},"https://finance.yahoo.com/quote/HBHC",null,2.4134312696747116E-2,{"$error":"#N/A"},null,{"$f":"RTD(\"cqg.rtd\", ,\"ContractData\",O11, \"LongDescription\",, \"T\")","v":"Hancock Hldg Co"},null,null,2.4134312696747116E-2,null,1,1,null,2.4134312696747116E-2,"",""]
["Community Bank System, Inc.","CBU","S.US.CBU",{"$f":"RTD(\"cqg.rtd\", ,\"ContractData\",C12, \"LongDescription\",, \"T\")","v":"Community Bank System, Inc."},{"$f":"RTD(\"cqg.rtd\", ,\"ContractData\",C12, \"Open\",, \"T\")","v":58},{"$f":"RTD(\"cqg.rtd\", ,\"ContractData\",C12, \"High\",, \"T\")","v":58},{"$f":"RTD(\"cqg.rtd\", ,\"ContractData\",C12, \"Low\",, \"T\")","v":55.64},{"$f":"RTD(\"cqg.rtd\", ,\"ContractData\",C12, \"LastTradeToday\",, \"T\")","v":56.53},{"$f":"RTD(\"cqg.rtd\", ,\"ContractData\",C12, \"NetLastTradeToday\",, \"T\")","v":0.89},{"$f":"RTD(\"cqg.rtd\", ,\"ContractData\",C12, \"PerCentNetLastTrade\",, \"T\")/100","v":1.599568655643422E-2},{"$f":"RTD(\"cqg.rtd\", ,\"ContractData\", C12, \"T_CVol\",, \"T\")","v":142271},12,{"$f":"RANK($J12,$J$1:J$71)+COUNTIF($J$1:J12,J12)-1","v":41},"S.US.CBU","S.US.ZION",{"$f":"RTD(\"cqg.rtd\", ,\"ContractData\",O12, \"PerCentNetLastTrade\",, \"T\")/100","v":2.3737491272981148E-2},"https://finance.yahoo.com/quote/ZION",null,2.3737491272981148E-2,{"$error":"#N/A"},null,{"$f":"RTD(\"cqg.rtd\", ,\"ContractData\",O12, \"LongDescription\",, \"T\")","v":"Zions Bancorp"},null,null,2.3737491272981148E-2,null,1,1,null,2.3737491272981148E-2,"",""]
["Citizens Financial Group, Inc.","CFG","S.US.CFG",{"$f":"RTD(\"cqg.rtd\", ,\"ContractData\",C13, \"LongDescription\",, \"T\")","v":"Citizens Financial Group, Inc."},{"$f":"RTD(\"cqg.rtd\", ,\"ContractData\",C13, \"Open\",, \"T\")","v":36.18},{"$f":"RTD(\"cqg.rtd\", ,\"ContractData\",C13, \"High\",, \"T\")","v":36.730000000000004},{"$f":"RTD(\"cqg.rtd\", ,\"ContractData\",C13, \"Low\",, \"T\")","v":35.18},{"$f":"RTD(\"cqg.rtd\", ,\"ContractData\",C13, \"LastTradeToday\",, \"T\")","v":35.65},{"$f":"RTD(\"cqg.rtd\", ,\"ContractData\",C13, \"NetLastTradeToday\",, \"T\")","v":0.31},{"$f":"RTD(\"cqg.rtd\", ,\"ContractData\",C13, \"PerCentNetLastTrade\",, \"T\")/100","v":8.771929824561403E-3},{"$f":"RTD(\"cqg.rtd\", ,\"ContractData\", C13, \"T_CVol\",, \"T\")","v":5573440},13,{"$f":"RANK($J13,$J$1:J$71)+COUNTIF($J$1:J13,J13)-1","v":58},"S.US.CFG","S.US.COLB",{"$f":"RTD(\"cqg.rtd\", ,\"ContractData\",O13, \"PerCentNetLastTrade\",, \"T\")/100","v":2.363405336721728E-2},"https://finance.yahoo.com/quote/COLB",null,2.363405336721728E-2,{"$error":"#N/A"},null,{"$f":"RTD(\"cqg.rtd\", ,\"ContractData\",O13, \"LongDescription\",, \"T\")","v":"Columbia Banking System"},null,null,2.363405336721728E-2,null,1,1,null,2.363405336721728E-2,"",""]
["Cullen Frost Bankers Inc","CFR","S.US.CFR",{"$f":"RTD(\"cqg.rtd\", ,\"ContractData\",C14, \"LongDescription\",, \"T\")","v":"Cullen Frost Bankers Inc"},{"$f":"RTD(\"cqg.rtd\", ,\"ContractData\",C14, \"Open\",, \"T\")","v":96.38},{"$f":"RTD(\"cqg.rtd\", ,\"ContractData\",C14, \"High\",, \"T\")","v":96.77},{"$f":"RTD(\"cqg.rtd\", ,\"ContractData\",C14, \"Low\",, \"T\")","v":93.24},{"$f":"RTD(\"cqg.rtd\", ,\"ContractData\",C14, \"LastTradeToday\",, \"T\")","v":94.12},{"$f":"RTD(\"cqg.rtd\", ,\"ContractData\",C14, \"NetLastTradeToday\",, \"T\")","v":0.72},{"$f":"RTD(\"cqg.rtd\", ,\"ContractData\",C14, \"PerCentNetLastTrade\",, \"T\")/100","v":7.7087794432548181E-3},{"$f":"RTD(\"cqg.rtd\", ,\"ContractData\", C14, \"T_CVol\",, \"T\")","v":509666},14,{"$f":"RANK($J14,$J$1:J$71)+COUNTIF($J$1:J14,J14)-1","v":61},"S.US.CFR","S.US.CHFC",{"$f":"RTD(\"cqg.rtd\", ,\"ContractData\",O14, \"PerCentNetLastTrade\",, \"T\")/100","v":2.2770398481973434E-2},"https://finance.yahoo.com/quote/CHFC",null,2.2770398481973434E-2,{"$error":"#N/A"},null,{"$f":"RTD(\"cqg.rtd\", ,\"ContractData\",O14, \"LongDescription\",, \"T\")","v":"Chemical Financial Corp"},null,null,2.2770398481973434E-2,null,1,1,null,2.2770398481973434E-2,"",""]
["Chemical Financial Corp","CHFC","S.US.CHFC",{"$f":"RTD(\"cqg.rtd\", ,\"ContractData\",C15, \"LongDescription\",, \"T\")","v":"Chemical Financial Corp"},{"$f":"RTD(\"cqg.rtd\", ,\"ContractData\",C15, \"Open\",, \"T\")","v":48.13},{"$f":"RTD(\"cqg.rtd\", ,\"ContractData\",C15, \"High\",, \"T\")","v":48.730000000000004},{"$f":"RTD(\"cqg.rtd\", ,\"ContractData\",C15, \"Low\",, \"T\")","v":47.84},{"$f":"RTD(\"cqg.rtd\", ,\"ContractData\",C15, \"LastTradeToday\",, \"T\")","v":48.51},{"$f":"RTD(\"cqg.rtd\", ,\"ContractData\",C15, \"NetLastTradeToday\",, \"T\")","v":1.08},{"$f":"RTD(\"cqg.rtd\", ,\"ContractData\",C15, \"PerCentNetLastTrade\",, \"T\")/100","v":2.2770398481973434E-2},{"$f":"RTD(\"cqg.rtd\", ,\"ContractData\", C15, \"T_CVol\",, \"T\")","v":267947},15,{"$f":"RANK($J15,$J$1:J$71)+COUNTIF($J$1:J15,J15)-1","v":14},"S.US.CHFC","S.US.FITB",{"$f":"RTD(\"cqg.rtd\", ,\"ContractData\",O15, \"PerCentNetLastTrade\",, \"T\")/100","v":2.2754021184778345E-2},"https://finance.yahoo.com/quote/FITB",null,2.2754021184778345E-2,{"$error":"#N/A"},null,{"$f":"RTD(\"cqg.rtd\", ,\"ContractData\",O15, \"LongDescription\",, \"T\")","v":"Fifth Third Bancorp"},null,null,2.2754021184778345E-2,null,1,1,null,2.2754021184778345E-2,"",""]
["CIT Group Inc.","CIT","S.US.CIT",{"$f":"RTD(\"cqg.rtd\", ,\"ContractData\",C16, \"LongDescription\",, \"T\")","v":"CIT Group Inc."},{"$f":"RTD(\"cqg.rtd\", ,\"ContractData\",C16, \"Open\",, \"T\")","v":49.25},{"$f":"RTD(\"cqg.rtd\", ,\"ContractData\",C16, \"High\",, \"T\")","v":49.54},{"$f":"RTD(\"cqg.rtd\", ,\"ContractData\",C16, \"Low\",, \"T\")","v":48.07},{"$f":"RTD(\"cqg.rtd\", ,\"ContractData\",C16, \"LastTradeToday\",, \"T\")","v":48.51},{"$f":"RTD(\"cqg.rtd\", ,\"ContractData\",C16, \"NetLastTradeToday\",, \"T\")","v":-0.1},{"$f":"RTD(\"cqg.rtd\", ,\"ContractData\",C16, \"PerCentNetLastTrade\",, \"T\")/100","v":-2.0571898786257972E-3},{"$f":"RTD(\"cqg.rtd\", ,\"ContractData\", C16, \"T_CVol\",, \"T\")","v":1739020},16,{"$f":"RANK($J16,$J$1:J$71)+COUNTIF($J$1:J16,J16)-1","v":68},"S.US.CIT","S.US.CVBF",{"$f":"RTD(\"cqg.rtd\", ,\"ContractData\",O16, \"PerCentNetLastTrade\",, \"T\")/100","v":2.2573363431151242E-2},"https://finance.yahoo.com/quote/CVBF",null,2.2573363431151242E-2,{"$error":"#N/A"},null,{"$f":"RTD(\"cqg.rtd\", ,\"ContractData\",O16, \"LongDescription\",, \"T\")","v":"CVB Financial Corp"},null,null,2.2573363431151242E-2,null,1,1,null,2.2573363431151242E-2,"",""]
["Comerica Inc","CMA","S.US.CMA",{"$f":"RTD(\"cqg.rtd\", ,\"ContractData\",C17, \"LongDescription\",, \"T\")","v":"Comerica Inc"},{"$f":"RTD(\"cqg.rtd\", ,\"ContractData\",C17, \"Open\",, \"T\")","v":73.78},{"$f":"RTD(\"cqg.rtd\", ,\"ContractData\",C17, \"High\",, \"T\")","v":74.97},{"$f":"RTD(\"cqg.rtd\", ,\"ContractData\",C17, \"Low\",, \"T\")","v":72.13},{"$f":"RTD(\"cqg.rtd\", ,\"ContractData\",C17, \"LastTradeToday\",, \"T\")","v":72.790000000000006},{"$f":"RTD(\"cqg.rtd\", ,\"ContractData\",C17, \"NetLastTradeToday\",, \"T\")","v":0.85},{"$f":"RTD(\"cqg.rtd\", ,\"ContractData\",C17, \"PerCentNetLastTrade\",, \"T\")/100","v":1.1815401723658605E-2},{"$f":"RTD(\"cqg.rtd\", ,\"ContractData\", C17, \"T_CVol\",, \"T\")","v":2187041},17,{"$f":"RANK($J17,$J$1:J$71)+COUNTIF($J$1:J17,J17)-1","v":51},"S.US.CMA","S.US.STL",{"$f":"RTD(\"cqg.rtd\", ,\"ContractData\",O17, \"PerCentNetLastTrade\",, \"T\")/100","v":2.1691973969631236E-2},"https://finance.yahoo.com/quote/STL",null,2.1691973969631236E-2,{"$error":"#N/A"},null,{"$f":"RTD(\"cqg.rtd\", ,\"ContractData\",O17, \"LongDescription\",, \"T\")","v":"Sterling Bancorp"},null,null,2.1691973969631236E-2,null,1,1,null,2.1691973969631236E-2,"",""]
["Columbia Banking System","COLB","S.US.COLB",{"$f":"RTD(\"cqg.rtd\", ,\"ContractData\",C18, \"LongDescription\",, \"T\")","v":"Columbia Banking System"},{"$f":"RTD(\"cqg.rtd\", ,\"ContractData\",C18, \"Open\",, \"T\")","v":40.14},{"$f":"RTD(\"cqg.rtd\", ,\"ContractData\",C18, \"High\",, \"T\")","v":40.42},{"$f":"RTD(\"cqg.rtd\", ,\"ContractData\",C18, \"Low\",, \"T\")","v":39.72},{"$f":"RTD(\"cqg.rtd\", ,\"ContractData\",C18, \"LastTradeToday\",, \"T\")","v":40.28},{"$f":"RTD(\"cqg.rtd\", ,\"ContractData\",C18, \"NetLastTradeToday\",, \"T\")","v":0.93},{"$f":"RTD(\"cqg.rtd\", ,\"ContractData\",C18, \"PerCentNetLastTrade\",, \"T\")/100","v":2.363405336721728E-2},{"$f":"RTD(\"cqg.rtd\", ,\"ContractData\", C18, \"T_CVol\",, \"T\")","v":324090},18,{"$f":"RANK($J18,$J$1:J$71)+COUNTIF($J$1:J18,J18)-1","v":13},"S.US.COLB","S.US.PB",{"$f":"RTD(\"cqg.rtd\", ,\"ContractData\",O18, \"PerCentNetLastTrade\",, \"T\")/100","v":2.1320277953253319E-2},"https://finance.yahoo.com/quote/PB",null,2.1320277953253319E-2,{"$error":"#N/A"},null,{"$f":"RTD(\"cqg.rtd\", ,\"ContractData\",O18, \"LongDescription\",, \"T\")","v":"Prosperity Bancshares Inc."},null,null,2.1320277953253319E-2,null,1,1,null,2.1320277953253319E-2,"",""]
["CVB Financial Corp","CVBF","S.US.CVBF",{"$f":"RTD(\"cqg.rtd\", ,\"ContractData\",C19, \"LongDescription\",, \"T\")","v":"CVB Financial Corp"},{"$f":"RTD(\"cqg.rtd\", ,\"ContractData\",C19, \"Open\",, \"T\")","v":22.66},{"$f":"RTD(\"cqg.rtd\", ,\"ContractData\",C19, \"High\",, \"T\")","v":22.75},{"$f":"RTD(\"cqg.rtd\", ,\"ContractData\",C19, \"Low\",, \"T\")","v":22.29},{"$f":"RTD(\"cqg.rtd\", ,\"ContractData\",C19, \"LastTradeToday\",, \"T\")","v":22.650000000000002},{"$f":"RTD(\"cqg.rtd\", ,\"ContractData\",C19, \"NetLastTradeToday\",, \"T\")","v":0.5},{"$f":"RTD(\"cqg.rtd\", ,\"ContractData\",C19, \"PerCentNetLastTrade\",, \"T\")/100","v":2.2573363431151242E-2},{"$f":"RTD(\"cqg.rtd\", ,\"ContractData\", C19, \"T_CVol\",, \"T\")","v":341246},19,{"$f":"RANK($J19,$J$1:J$71)+COUNTIF($J$1:J19,J19)-1","v":16},"S.US.CVBF","S.US.HOMB",{"$f":"RTD(\"cqg.rtd\", ,\"ContractData\",O19, \"PerCentNetLastTrade\",, \"T\")/100","v":2.0799347471451877E-2},"https://finance.yahoo.com/quote/HOMB",null,2.0799347471451877E-2,{"$error":"#N/A"},null,{"$f":"RTD(\"cqg.rtd\", ,\"ContractData\",O19, \"LongDescription\",, \"T\")","v":"Home BancShares Inc"},null,null,2.0799347471451877E-2,null,1,1,null,2.0799347471451877E-2,"",""]
["Essent Group Ltd.","ESNT","S.US.ESNT",{"$f":"RTD(\"cqg.rtd\", ,\"ContractData\",C20, \"LongDescription\",, \"T\")","v":"Essent Group Ltd."},{"$f":"RTD(\"cqg.rtd\", ,\"ContractData\",C20, \"Open\",, \"T\")","v":36.81},{"$f":"RTD(\"cqg.rtd\", ,\"ContractData\",C20, \"High\",, \"T\")","v":37.28},{"$f":"RTD(\"cqg.rtd\", ,\"ContractData\",C20, \"Low\",, \"T\")","v":36.68},{"$f":"RTD(\"cqg.rtd\", ,\"ContractData\",C20, \"LastTradeToday\",, \"T\")","v":37.22},{"$f":"RTD(\"cqg.rtd\", ,\"ContractData\",C20, \"NetLastTradeToday\",, \"T\")","v":0.73},{"$f":"RTD(\"cqg.rtd\", ,\"ContractData\",C20, \"PerCentNetLastTrade\",, \"T\")/100","v":2.0005480953685942E-2},{"$f":"RTD(\"cqg.rtd\", ,\"ContractData\", C20, \"T_CVol\",, \"T\")","v":377774},20,{"$f":"RANK($J20,$J$1:J$71)+COUNTIF($J$1:J20,J20)-1","v":21},"S.US.ESNT","S.US.WBS",{"$f":"RTD(\"cqg.rtd\", ,\"ContractData\",O20, \"PerCentNetLastTrade\",, \"T\")/100","v":2.0658740986162542E-2},"https://finance.yahoo.com/quote/WBS",null,2.0658740986162542E-2,{"$error":"#N/A"},null,{"$f":"RTD(\"cqg.rtd\", ,\"ContractData\",O20, \"LongDescription\",, \"T\")","v":"Webster Financial Corp"},null,null,2.0658740986162542E-2,null,1,1,null,2.0658740986162542E-2,"",""]
["East West Bancorp","EWBC","S.US.EWBC",{"$f":"RTD(\"cqg.rtd\", ,\"ContractData\",C21, \"LongDescription\",, \"T\")","v":"East West Bancorp"},{"$f":"RTD(\"cqg.rtd\", ,\"ContractData\",C21, \"Open\",, \"T\")","v":59.35},{"$f":"RTD(\"cqg.rtd\", ,\"ContractData\",C21, \"High\",, \"T\")","v":60.04},{"$f":"RTD(\"cqg.rtd\", ,\"ContractData\",C21, \"Low\",, \"T\")","v":57.730000000000004},{"$f":"RTD(\"cqg.rtd\", ,\"ContractData\",C21, \"LastTradeToday\",, \"T\")","v":58.46},{"$f":"RTD(\"cqg.rtd\", ,\"ContractData\",C21, \"NetLastTradeToday\",, \"T\")","v":0.21},{"$f":"RTD(\"cqg.rtd\", ,\"ContractData\",C21, \"PerCentNetLastTrade\",, \"T\")/100","v":3.6051502145922746E-3},{"$f":"RTD(\"cqg.rtd\", ,\"ContractData\", C21, \"T_CVol\",, \"T\")","v":1235559},21,{"$f":"RANK($J21,$J$1:J$71)+COUNTIF($J$1:J21,J21)-1","v":64},"S.US.EWBC","S.US.ESNT",{"$f":"RTD(\"cqg.rtd\", ,\"ContractData\",O21, \"PerCentNetLastTrade\",, \"T\")/100","v":2.0005480953685942E-2},"https://finance.yahoo.com/quote/ESNT",null,2.0005480953685942E-2,{"$f":"IF(P21>=0,NA(),-1*P21)","v":{"$error":"#N/A"}},null,{"$f":"RTD(\"cqg.rtd\", ,\"ContractData\",O21, \"LongDescription\",, \"T\")","v":"Essent Group Ltd."},null,null,2.0005480953685942E-2,null,1,1,null,2.0005480953685942E-2,"",""]
["First Tennessee Nat Corp","FHN","S.US.FHN",{"$f":"RTD(\"cqg.rtd\", ,\"ContractData\",C22, \"LongDescription\",, \"T\")","v":"First Tennessee Nat Corp"},{"$f":"RTD(\"cqg.rtd\", ,\"ContractData\",C22, \"Open\",, \"T\")","v":17.77},{"$f":"RTD(\"cqg.rtd\", ,\"ContractData\",C22, \"High\",, \"T\")","v":17.87},{"$f":"RTD(\"cqg.rtd\", ,\"ContractData\",C22, \"Low\",, \"T\")","v":17.350000000000001},{"$f":"RTD(\"cqg.rtd\", ,\"ContractData\",C22, \"LastTradeToday\",, \"T\")","v":17.57},{"$f":"RTD(\"cqg.rtd\", ,\"ContractData\",C22, \"NetLastTradeToday\",, \"T\")","v":0.33},{"$f":"RTD(\"cqg.rtd\", ,\"ContractData\",C22, \"PerCentNetLastTrade\",, \"T\")/100","v":1.91415313225058E-2},{"$f":"RTD(\"cqg.rtd\", ,\"ContractData\", C22, \"T_CVol\",, \"T\")","v":2276870},22,{"$f":"RANK($J22,$J$1:J$71)+COUNTIF($J$1:J22,J22)-1","v":24},"S.US.FHN","S.US.BKU",{"$f":"RTD(\"cqg.rtd\", ,\"ContractData\",O22, \"PerCentNetLastTrade\",, \"T\")/100","v":1.9831730769230768E-2},"https://finance.yahoo.com/quote/BKU",null,1.9831730769230768E-2,{"$error":"#N/A"},null,{"$f":"RTD(\"cqg.rtd\", ,\"ContractData\",O22, \"LongDescription\",, \"T\")","v":"BankUnited, Inc."},null,null,1.9831730769230768E-2,null,1,1,null,1.9831730769230768E-2,"",""]
["Fifth Third Bancorp","FITB","S.US.FITB",{"$f":"RTD(\"cqg.rtd\", ,\"ContractData\",C23, \"LongDescription\",, \"T\")","v":"Fifth Third Bancorp"},{"$f":"RTD(\"cqg.rtd\", ,\"ContractData\",C23, \"Open\",, \"T\")","v":26.2},{"$f":"RTD(\"cqg.rtd\", ,\"ContractData\",C23, \"High\",, \"T\")","v":26.69},{"$f":"RTD(\"cqg.rtd\", ,\"ContractData\",C23, \"Low\",, \"T\")","v":25.91},{"$f":"RTD(\"cqg.rtd\", ,\"ContractData\",C23, \"LastTradeToday\",, \"T\")","v":26.07},{"$f":"RTD(\"cqg.rtd\", ,\"ContractData\",C23, \"NetLastTradeToday\",, \"T\")","v":0.57999999999999996},{"$f":"RTD(\"cqg.rtd\", ,\"ContractData\",C23, \"PerCentNetLastTrade\",, \"T\")/100","v":2.2754021184778345E-2},{"$f":"RTD(\"cqg.rtd\", ,\"ContractData\", C23, \"T_CVol\",, \"T\")","v":10133295},23,{"$f":"RANK($J23,$J$1:J$71)+COUNTIF($J$1:J23,J23)-1","v":15},"S.US.FITB","S.US.NYCB",{"$f":"RTD(\"cqg.rtd\", ,\"ContractData\",O23, \"PerCentNetLastTrade\",, \"T\")/100","v":1.924557351809084E-2},"https://finance.yahoo.com/quote/NYCB",null,1.924557351809084E-2,{"$error":"#N/A"},null,{"$f":"RTD(\"cqg.rtd\", ,\"ContractData\",O23, \"LongDescription\",, \"T\")","v":"New York Community Bankcorp Inc"},null,null,1.924557351809084E-2,null,1,1,null,1.924557351809084E-2,{"$f":"IFERROR(T23,\"\")","v":""},""]
["F.N.B. Corporation","FNB","S.US.FNB",{"$f":"RTD(\"cqg.rtd\", ,\"ContractData\",C24, \"LongDescription\",, \"T\")","v":"F.N.B. Corporation"},{"$f":"RTD(\"cqg.rtd\", ,\"ContractData\",C24, \"Open\",, \"T\")","v":14.43},{"$f":"RTD(\"cqg.rtd\", ,\"ContractData\",C24, \"High\",, \"T\")","v":14.56},{"$f":"RTD(\"cqg.rtd\", ,\"ContractData\",C24, \"Low\",, \"T\")","v":14.06},{"$f":"RTD(\"cqg.rtd\", ,\"ContractData\",C24, \"LastTradeToday\",, \"T\")","v":14.23},{"$f":"RTD(\"cqg.rtd\", ,\"ContractData\",C24, \"NetLastTradeToday\",, \"T\")","v":0.23},{"$f":"RTD(\"cqg.rtd\", ,\"ContractData\",C24, \"PerCentNetLastTrade\",, \"T\")/100","v":1.6428571428571428E-2},{"$f":"RTD(\"cqg.rtd\", ,\"ContractData\", C24, \"T_CVol\",, \"T\")","v":4015081},24,{"$f":"RANK($J24,$J$1:J$71)+COUNTIF($J$1:J24,J24)-1","v":38},"S.US.FNB","S.US.FHN",{"$f":"RTD(\"cqg.rtd\", ,\"ContractData\",O24, \"PerCentNetLastTrade\",, \"T\")/100","v":1.91415313225058E-2},"https://finance.yahoo.com/quote/FHN",null,1.91415313225058E-2,{"$error":"#N/A"},null,{"$f":"RTD(\"cqg.rtd\", ,\"ContractData\",O24, \"LongDescription\",, \"T\")","v":"First Tennessee Nat Corp"},null,null,1.91415313225058E-2,null,1,1,null,1.91415313225058E-2,"",""]
["First Republic Bank","FRC","S.US.FRC",{"$f":"RTD(\"cqg.rtd\", ,\"ContractData\",C25, \"LongDescription\",, \"T\")","v":"First Republic Bank"},{"$f":"RTD(\"cqg.rtd\", ,\"ContractData\",C25, \"Open\",, \"T\")","v":102.43},{"$f":"RTD(\"cqg.rtd\", ,\"ContractData\",C25, \"High\",, \"T\")","v":103.69},{"$f":"RTD(\"cqg.rtd\", ,\"ContractData\",C25, \"Low\",, \"T\")","v":99.29},{"$f":"RTD(\"cqg.rtd\", ,\"ContractData\",C25, \"LastTradeToday\",, \"T\")","v":100.56},{"$f":"RTD(\"cqg.rtd\", ,\"ContractData\",C25, \"NetLastTradeToday\",, \"T\")","v":-0.15},{"$f":"RTD(\"cqg.rtd\", ,\"ContractData\",C25, \"PerCentNetLastTrade\",, \"T\")/100","v":-1.4894250819183796E-3},{"$f":"RTD(\"cqg.rtd\", ,\"ContractData\", C25, \"T_CVol\",, \"T\")","v":968827},25,{"$f":"RANK($J25,$J$1:J$71)+COUNTIF($J$1:J25,J25)-1","v":66},"S.US.FRC","S.US.KEY",{"$f":"RTD(\"cqg.rtd\", ,\"ContractData\",O25, \"PerCentNetLastTrade\",, \"T\")/100","v":1.9042437431991296E-2},"https://finance.yahoo.com/quote/KEY",null,1.9042437431991296E-2,{"$error":"#N/A"},null,{"$f":"RTD(\"cqg.rtd\", ,\"ContractData\",O25, \"LongDescription\",, \"T\")","v":"KeyCorp"},null,null,1.9042437431991296E-2,null,1,1,null,{"$f":"IFERROR(S25,\"\")","v":1.9042437431991296E-2},{"$f":"IFERROR(T25,\"\")","v":""},""]
["Fulton Financial Corporation","FULT","S.US.FULT",{"$f":"RTD(\"cqg.rtd\", ,\"ContractData\",C26, \"LongDescription\",, \"T\")","v":"Fulton Financial Corporation"},{"$f":"RTD(\"cqg.rtd\", ,\"ContractData\",C26, \"Open\",, \"T\")","v":19.25},{"$f":"RTD(\"cqg.rtd\", ,\"ContractData\",C26, \"High\",, \"T\")","v":19.400000000000002},{"$f":"RTD(\"cqg.rtd\", ,\"ContractData\",C26, \"Low\",, \"T\")","v":18.850000000000001},{"$f":"RTD(\"cqg.rtd\", ,\"ContractData\",C26, \"LastTradeToday\",, \"T\")","v":19.150000000000002},{"$f":"RTD(\"cqg.rtd\", ,\"ContractData\",C26, \"NetLastTradeToday\",, \"T\")","v":0.15},{"$f":"RTD(\"cqg.rtd\", ,\"ContractData\",C26, \"PerCentNetLastTrade\",, \"T\")/100","v":7.8947368421052634E-3},{"$f":"RTD(\"cqg.rtd\", ,\"ContractData\", C26, \"T_CVol\",, \"T\")","v":825787},26,{"$f":"RANK($J26,$J$1:J$71)+COUNTIF($J$1:J26,J26)-1","v":60},"S.US.FULT","S.US.VLY",{"$f":"RTD(\"cqg.rtd\", ,\"ContractData\",O26, \"PerCentNetLastTrade\",, \"T\")/100","v":1.8803418803418803E-2},"https://finance.yahoo.com/quote/VLY",null,1.8803418803418803E-2,{"$error":"#N/A"},null,{"$f":"RTD(\"cqg.rtd\", ,\"ContractData\",O26, \"LongDescription\",, \"T\")","v":"Valley National Bancorp"},null,null,1.8803418803418803E-2,null,1,1]
["Glacier Bancorp Inc","GBCI","S.US.GBCI",{"$f":"RTD(\"cqg.rtd\", ,\"ContractData\",C27, \"LongDescription\",, \"T\")","v":"Glacier Bancorp Inc"},{"$f":"RTD(\"cqg.rtd\", ,\"ContractData\",C27, \"Open\",, \"T\")","v":36.69},{"$f":"RTD(\"cqg.rtd\", ,\"ContractData\",C27, \"High\",, \"T\")","v":36.94},{"$f":"RTD(\"cqg.rtd\", ,\"ContractData\",C27, \"Low\",, \"T\")","v":36.03},{"$f":"RTD(\"cqg.rtd\", ,\"ContractData\",C27, \"LastTradeToday\",, \"T\")","v":36.43},{"$f":"RTD(\"cqg.rtd\", ,\"ContractData\",C27, \"NetLastTradeToday\",, \"T\")","v":0.36},{"$f":"RTD(\"cqg.rtd\", ,\"ContractData\",C27, \"PerCentNetLastTrade\",, \"T\")/100","v":9.9805932908233978E-3},{"$f":"RTD(\"cqg.rtd\", ,\"ContractData\", C27, \"T_CVol\",, \"T\")","v":289911},27,{"$f":"RANK($J27,$J$1:J$71)+COUNTIF($J$1:J27,J27)-1","v":55},"S.US.GBCI","S.US.WAL",{"$f":"RTD(\"cqg.rtd\", ,\"ContractData\",O27, \"PerCentNetLastTrade\",, \"T\")/100","v":1.8762886597938143E-2},"https://finance.yahoo.com/quote/WAL",null,1.8762886597938143E-2,{"$error":"#N/A"},null,{"$f":"RTD(\"cqg.rtd\", ,\"ContractData\",O27, \"LongDescription\",, \"T\")","v":"Western Alliance Bancorporation"},null,null,1.8762886597938143E-2,null,1,1]
["Great Western Bancorp, Inc.","GWB","S.US.GWB",{"$f":"RTD(\"cqg.rtd\", ,\"ContractData\",C28, \"LongDescription\",, \"T\")","v":"Great Western Bancorp, Inc."},{"$f":"RTD(\"cqg.rtd\", ,\"ContractData\",C28, \"Open\",, \"T\")","v":41.28},{"$f":"RTD(\"cqg.rtd\", ,\"ContractData\",C28, \"High\",, \"T\")","v":41.67},{"$f":"RTD(\"cqg.rtd\", ,\"ContractData\",C28, \"Low\",, \"T\")","v":40.230000000000004},{"$f":"RTD(\"cqg.rtd\", ,\"ContractData\",C28, \"LastTradeToday\",, \"T\")","v":40.78},{"$f":"RTD(\"cqg.rtd\", ,\"ContractData\",C28, \"NetLastTradeToday\",, \"T\")","v":0.70000000000000007},{"$f":"RTD(\"cqg.rtd\", ,\"ContractData\",C28, \"PerCentNetLastTrade\",, \"T\")/100","v":1.7465069860279441E-2},{"$f":"RTD(\"cqg.rtd\", ,\"ContractData\", C28, \"T_CVol\",, \"T\")","v":226253},28,{"$f":"RANK($J28,$J$1:J$71)+COUNTIF($J$1:J28,J28)-1","v":35},"S.US.GWB","S.US.BBT",{"$f":"RTD(\"cqg.rtd\", ,\"ContractData\",O28, \"PerCentNetLastTrade\",, \"T\")/100","v":1.8535060294774454E-2},"https://finance.yahoo.com/quote/BBT",null,1.8535060294774454E-2,{"$error":"#N/A"},null,{"$f":"RTD(\"cqg.rtd\", ,\"ContractData\",O28, \"LongDescription\",, \"T\")","v":"BB&T Corp"},null,null,1.8535060294774454E-2,null,1,1]
["Huntington Bancshrs Inc","HBAN","S.US.HBAN",{"$f":"RTD(\"cqg.rtd\", ,\"ContractData\",C29, \"LongDescription\",, \"T\")","v":"Huntington Bancshrs Inc"},{"$f":"RTD(\"cqg.rtd\", ,\"ContractData\",C29, \"Open\",, \"T\")","v":13.59},{"$f":"RTD(\"cqg.rtd\", ,\"ContractData\",C29, \"High\",, \"T\")","v":13.780000000000001},{"$f":"RTD(\"cqg.rtd\", ,\"ContractData\",C29, \"Low\",, \"T\")","v":13.23},{"$f":"RTD(\"cqg.rtd\", ,\"ContractData\",C29, \"LastTradeToday\",, \"T\")","v":13.38},{"$f":"RTD(\"cqg.rtd\", ,\"ContractData\",C29, \"NetLastTradeToday\",, \"T\")","v":0.24},{"$f":"RTD(\"cqg.rtd\", ,\"ContractData\",C29, \"PerCentNetLastTrade\",, \"T\")/100","v":1.8264840182648401E-2},{"$f":"RTD(\"cqg.rtd\", ,\"ContractData\", C29, \"T_CVol\",, \"T\")","v":15035296},29,{"$f":"RANK($J29,$J$1:J$71)+COUNTIF($J$1:J29,J29)-1","v":30},"S.US.HBAN","S.US.BAC",{"$f":"RTD(\"cqg.rtd\", ,\"ContractData\",O29, \"PerCentNetLastTrade\",, \"T\")/100","v":1.8425460636515914E-2},"https://finance.yahoo.com/quote/BAC",null,1.8425460636515914E-2,{"$error":"#N/A"},null,{"$f":"RTD(\"cqg.rtd\", ,\"ContractData\",O29, \"LongDescription\",, \"T\")","v":"Bank of America Corp"},null,null,1.8425460636515914E-2,null,1,1]
["Hancock Hldg Co","HBHC","S.US.HBHC",{"$f":"RTD(\"cqg.rtd\", ,\"ContractData\",C30, \"LongDescription\",, \"T\")","v":"Hancock Hldg Co"},{"$f":"RTD(\"cqg.rtd\", ,\"ContractData\",C30, \"Open\",, \"T\")","v":48.85},{"$f":"RTD(\"cqg.rtd\", ,\"ContractData\",C30, \"High\",, \"T\")","v":49.35},{"$f":"RTD(\"cqg.rtd\", ,\"ContractData\",C30, \"Low\",, \"T\")","v":48.550000000000004},{"$f":"RTD(\"cqg.rtd\", ,\"ContractData\",C30, \"LastTradeToday\",, \"T\")","v":48.800000000000004},{"$f":"RTD(\"cqg.rtd\", ,\"ContractData\",C30, \"NetLastTradeToday\",, \"T\")","v":1.1500000000000001},{"$f":"RTD(\"cqg.rtd\", ,\"ContractData\",C30, \"PerCentNetLastTrade\",, \"T\")/100","v":2.4134312696747116E-2},{"$f":"RTD(\"cqg.rtd\", ,\"ContractData\", C30, \"T_CVol\",, \"T\")","v":910722},30,{"$f":"RANK($J30,$J$1:J$71)+COUNTIF($J$1:J30,J30)-1","v":11},"S.US.HBHC","S.US.HBAN",{"$f":"RTD(\"cqg.rtd\", ,\"ContractData\",O30, \"PerCentNetLastTrade\",, \"T\")/100","v":1.8264840182648401E-2},"https://finance.yahoo.com/quote/HBAN",null,1.8264840182648401E-2,{"$error":"#N/A"},null,{"$f":"RTD(\"cqg.rtd\", ,\"ContractData\",O30, \"LongDescription\",, \"T\")","v":"Huntington Bancshrs Inc"},null,null,1.8264840182648401E-2,null,1,1]
["Home BancShares Inc","HOMB","S.US.HOMB",{"$f":"RTD(\"cqg.rtd\", ,\"ContractData\",C31, \"LongDescription\",, \"T\")","v":"Home BancShares Inc"},{"$f":"RTD(\"cqg.rtd\", ,\"ContractData\",C31, \"Open\",, \"T\")","v":24.95},{"$f":"RTD(\"cqg.rtd\", ,\"ContractData\",C31, \"High\",, \"T\")","v":25.19},{"$f":"RTD(\"cqg.rtd\", ,\"ContractData\",C31, \"Low\",, \"T\")","v":24.55},{"$f":"RTD(\"cqg.rtd\", ,\"ContractData\",C31, \"LastTradeToday\",, \"T\")","v":25.03},{"$f":"RTD(\"cqg.rtd\", ,\"ContractData\",C31, \"NetLastTradeToday\",, \"T\")","v":0.51},{"$f":"RTD(\"cqg.rtd\", ,\"ContractData\",C31, \"PerCentNetLastTrade\",, \"T\")/100","v":2.0799347471451877E-2},{"$f":"RTD(\"cqg.rtd\", ,\"ContractData\", C31, \"T_CVol\",, \"T\")","v":459133},31,{"$f":"RANK($J31,$J$1:J$71)+COUNTIF($J$1:J31,J31)-1","v":19},"S.US.HOMB","S.US.CATY",{"$f":"RTD(\"cqg.rtd\", ,\"ContractData\",O31, \"PerCentNetLastTrade\",, \"T\")/100","v":1.8176958032611601E-2},"https://finance.yahoo.com/quote/CATY",null,1.8176958032611601E-2,{"$error":"#N/A"},null,{"$f":"RTD(\"cqg.rtd\", ,\"ContractData\",O31, \"LongDescription\",, \"T\")","v":"Cathay Bancorp Inc"},null,null,1.8176958032611601E-2,null,1,1]
["Hope Bancorp, Inc.","HOPE","S.US.HOPE",{"$f":"RTD(\"cqg.rtd\", ,\"ContractData\",C32, \"LongDescription\",, \"T\")","v":"Hope Bancorp, Inc."},{"$f":"RTD(\"cqg.rtd\", ,\"ContractData\",C32, \"Open\",, \"T\")","v":19.02},{"$f":"RTD(\"cqg.rtd\", ,\"ContractData\",C32, \"High\",, \"T\")","v":19.150000000000002},{"$f":"RTD(\"cqg.rtd\", ,\"ContractData\",C32, \"Low\",, \"T\")","v":18.59},{"$f":"RTD(\"cqg.rtd\", ,\"ContractData\",C32, \"LastTradeToday\",, \"T\")","v":18.88},{"$f":"RTD(\"cqg.rtd\", ,\"ContractData\",C32, \"NetLastTradeToday\",, \"T\")","v":0.23},{"$f":"RTD(\"cqg.rtd\", ,\"ContractData\",C32, \"PerCentNetLastTrade\",, \"T\")/100","v":1.2332439678284181E-2},{"$f":"RTD(\"cqg.rtd\", ,\"ContractData\", C32, \"T_CVol\",, \"T\")","v":352723},32,{"$f":"RANK($J32,$J$1:J$71)+COUNTIF($J$1:J32,J32)-1","v":49},"S.US.HOPE","S.US.UMBF",{"$f":"RTD(\"cqg.rtd\", ,\"ContractData\",O32, \"PerCentNetLastTrade\",, \"T\")/100","v":1.7905588714053174E-2},"https://finance.yahoo.com/quote/UMBF",null,1.7905588714053174E-2,{"$error":"#N/A"},null,{"$f":"RTD(\"cqg.rtd\", ,\"ContractData\",O32, \"LongDescription\",, \"T\")","v":"UMB Financial Corp"},null,null,1.7905588714053174E-2,null,1,1]
["IBERIABANK Corp","IBKC","S.US.IBKC",{"$f":"RTD(\"cqg.rtd\", ,\"ContractData\",C33, \"LongDescription\",, \"T\")","v":"IBERIABANK Corp"},{"$f":"RTD(\"cqg.rtd\", ,\"ContractData\",C33, \"Open\",, \"T\")","v":81.25},{"$f":"RTD(\"cqg.rtd\", ,\"ContractData\",C33, \"High\",, \"T\")","v":81.95},{"$f":"RTD(\"cqg.rtd\", ,\"ContractData\",C33, \"Low\",, \"T\")","v":80.570000000000007},{"$f":"RTD(\"cqg.rtd\", ,\"ContractData\",C33, \"LastTradeToday\",, \"T\")","v":81.8},{"$f":"RTD(\"cqg.rtd\", ,\"ContractData\",C33, \"NetLastTradeToday\",, \"T\")","v":2.2000000000000002},{"$f":"RTD(\"cqg.rtd\", ,\"ContractData\",C33, \"PerCentNetLastTrade\",, \"T\")/100","v":2.7638190954773871E-2},{"$f":"RTD(\"cqg.rtd\", ,\"ContractData\", C33, \"T_CVol\",, \"T\")","v":467812},33,{"$f":"RANK($J33,$J$1:J$71)+COUNTIF($J$1:J33,J33)-1","v":5},"S.US.IBKC",{"$f":"VLOOKUP($L33,$M$1:$N$71,2,FALSE)","v":"S.US.UCBI"},{"$f":"RTD(\"cqg.rtd\", ,\"ContractData\",O33, \"PerCentNetLastTrade\",, \"T\")/100","v":1.7831149927219795E-2},"https://finance.yahoo.com/quote/UCBI",null,1.7831149927219795E-2,{"$error":"#N/A"},null,{"$f":"RTD(\"cqg.rtd\", ,\"ContractData\",O33, \"LongDescription\",, \"T\")","v":"United Community Banks Inc"},null,null,1.7831149927219795E-2,null,1,1]
["Investors Bancorp","ISBC","S.US.ISBC",{"$f":"RTD(\"cqg.rtd\", ,\"ContractData\",C34, \"LongDescription\",, \"T\")","v":"Investors Bancorp"},{"$f":"RTD(\"cqg.rtd\", ,\"ContractData\",C34, \"Open\",, \"T\")","v":13.48},{"$f":"RTD(\"cqg.rtd\", ,\"ContractData\",C34, \"High\",, \"T\")","v":13.51},{"$f":"RTD(\"cqg.rtd\", ,\"ContractData\",C34, \"Low\",, \"T\")","v":13.24},{"$f":"RTD(\"cqg.rtd\", ,\"ContractData\",C34, \"LastTradeToday\",, \"T\")","v":13.43},{"$f":"RTD(\"cqg.rtd\", ,\"ContractData\",C34, \"NetLastTradeToday\",, \"T\")","v":0.2},{"$f":"RTD(\"cqg.rtd\", ,\"ContractData\",C34, \"PerCentNetLastTrade\",, \"T\")/100","v":1.5117157974300832E-2},{"$f":"RTD(\"cqg.rtd\", ,\"ContractData\", C34, \"T_CVol\",, \"T\")","v":3172313},34,{"$f":"RANK($J34,$J$1:J$71)+COUNTIF($J$1:J34,J34)-1","v":43},"S.US.ISBC","S.US.ONB",{"$f":"RTD(\"cqg.rtd\", ,\"ContractData\",O34, \"PerCentNetLastTrade\",, \"T\")/100","v":1.7595307917888561E-2},"https://finance.yahoo.com/quote/ONB",null,1.7595307917888561E-2,{"$error":"#N/A"},null,{"$f":"RTD(\"cqg.rtd\", ,\"ContractData\",O34, \"LongDescription\",, \"T\")","v":"Old National Bancorp"},null,null,1.7595307917888561E-2,null,1,1]
["JPMorgan Chase & Co.","JPM","S.US.JPM",{"$f":"RTD(\"cqg.rtd\", ,\"ContractData\",C35, \"LongDescription\",, \"T\")","v":"JPMorgan Chase & Co."},{"$f":"RTD(\"cqg.rtd\", ,\"ContractData\",C35, \"Open\",, \"T\")","v":92.34},{"$f":"RTD(\"cqg.rtd\", ,\"ContractData\",C35, \"High\",, \"T\")","v":92.65},{"$f":"RTD(\"cqg.rtd\", ,\"ContractData\",C35, \"Low\",, \"T\")","v":90.31},{"$f":"RTD(\"cqg.rtd\", ,\"ContractData\",C35, \"LastTradeToday\",, \"T\")","v":91.15},{"$f":"RTD(\"cqg.rtd\", ,\"ContractData\",C35, \"NetLastTradeToday\",, \"T\")","v":1.33},{"$f":"RTD(\"cqg.rtd\", ,\"ContractData\",C35, \"PerCentNetLastTrade\",, \"T\")/100","v":1.4807392562903586E-2},{"$f":"RTD(\"cqg.rtd\", ,\"ContractData\", C35, \"T_CVol\",, \"T\")","v":27685623},35,{"$f":"RANK($J35,$J$1:J$71)+COUNTIF($J$1:J35,J35)-1","v":46},"S.US.JPM","S.US.GWB",{"$f":"RTD(\"cqg.rtd\", ,\"ContractData\",O35, \"PerCentNetLastTrade\",, \"T\")/100","v":1.7465069860279441E-2},"https://finance.yahoo.com/quote/GWB",null,1.7465069860279441E-2,{"$error":"#N/A"},null,{"$f":"RTD(\"cqg.rtd\", ,\"ContractData\",O35, \"LongDescription\",, \"T\")","v":"Great Western Bancorp, Inc."},null,null,1.7465069860279441E-2,null,1,1]
["KeyCorp","KEY","S.US.KEY",{"$f":"RTD(\"cqg.rtd\", ,\"ContractData\",C36, \"LongDescription\",, \"T\")","v":"KeyCorp"},{"$f":"RTD(\"cqg.rtd\", ,\"ContractData\",C36, \"Open\",, \"T\")","v":18.82},{"$f":"RTD(\"cqg.rtd\", ,\"ContractData\",C36, \"High\",, \"T\")","v":19.100000000000001},{"$f":"RTD(\"cqg.rtd\", ,\"ContractData\",C36, \"Low\",, \"T\")","v":18.52},{"$f":"RTD(\"cqg.rtd\", ,\"ContractData\",C36, \"LastTradeToday\",, \"T\")","v":18.73},{"$f":"RTD(\"cqg.rtd\", ,\"ContractData\",C36, \"NetLastTradeToday\",, \"T\")","v":0.35000000000000003},{"$f":"RTD(\"cqg.rtd\", ,\"ContractData\",C36, \"PerCentNetLastTrade\",, \"T\")/100","v":1.9042437431991296E-2},{"$f":"RTD(\"cqg.rtd\", ,\"ContractData\", C36, \"T_CVol\",, \"T\")","v":12973899},36,{"$f":"RANK($J36,$J$1:J$71)+COUNTIF($J$1:J36,J36)-1","v":25},"S.US.KEY","S.US.TRMK",{"$f":"RTD(\"cqg.rtd\", ,\"ContractData\",O36, \"PerCentNetLastTrade\",, \"T\")/100","v":1.7225180081428124E-2},"https://finance.yahoo.com/quote/TRMK",null,1.7225180081428124E-2,{"$error":"#N/A"},null,{"$f":"RTD(\"cqg.rtd\", ,\"ContractData\",O36, \"LongDescription\",, \"T\")","v":"Trustmark Corporation"},null,null,1.7225180081428124E-2,null,1,1]
["MB Financial Inc","MBFI","S.US.MBFI",{"$f":"RTD(\"cqg.rtd\", ,\"ContractData\",C37, \"LongDescription\",, \"T\")","v":"MB Financial Inc"},{"$f":"RTD(\"cqg.rtd\", ,\"ContractData\",C37, \"Open\",, \"T\")","v":44.64},{"$f":"RTD(\"cqg.rtd\", ,\"ContractData\",C37, \"High\",, \"T\")","v":44.85},{"$f":"RTD(\"cqg.rtd\", ,\"ContractData\",C37, \"Low\",, \"T\")","v":43.660000000000004},{"$f":"RTD(\"cqg.rtd\", ,\"ContractData\",C37, \"LastTradeToday\",, \"T\")","v":44.27},{"$f":"RTD(\"cqg.rtd\", ,\"ContractData\",C37, \"NetLastTradeToday\",, \"T\")","v":0.52},{"$f":"RTD(\"cqg.rtd\", ,\"ContractData\",C37, \"PerCentNetLastTrade\",, \"T\")/100","v":1.1885714285714286E-2},{"$f":"RTD(\"cqg.rtd\", ,\"ContractData\", C37, \"T_CVol\",, \"T\")","v":302374},37,{"$f":"RANK($J37,$J$1:J$71)+COUNTIF($J$1:J37,J37)-1","v":50},"S.US.MBFI","S.US.SBNY",{"$f":"RTD(\"cqg.rtd\", ,\"ContractData\",O37, \"PerCentNetLastTrade\",, \"T\")/100","v":1.6797233396852282E-2},"https://finance.yahoo.com/quote/SBNY",null,1.6797233396852282E-2,{"$error":"#N/A"},null,{"$f":"RTD(\"cqg.rtd\", ,\"ContractData\",O37, \"LongDescription\",, \"T\")","v":"Signature Bank"},null,null,1.6797233396852282E-2,null,1,1]
["M&T Bank Corp","MTB","S.US.MTB",{"$f":"RTD(\"cqg.rtd\", ,\"ContractData\",C38, \"LongDescription\",, \"T\")","v":"M&T Bank Corp"},{"$f":"RTD(\"cqg.rtd\", ,\"ContractData\",C38, \"Open\",, \"T\")","v":163.11000000000001},{"$f":"RTD(\"cqg.rtd\", ,\"ContractData\",C38, \"High\",, \"T\")","v":163.9},{"$f":"RTD(\"cqg.rtd\", ,\"ContractData\",C38, \"Low\",, \"T\")","v":159.29},{"$f":"RTD(\"cqg.rtd\", ,\"ContractData\",C38, \"LastTradeToday\",, \"T\")","v":161.18},{"$f":"RTD(\"cqg.rtd\", ,\"ContractData\",C38, \"NetLastTradeToday\",, \"T\")","v":-0.47000000000000003},{"$f":"RTD(\"cqg.rtd\", ,\"ContractData\",C38, \"PerCentNetLastTrade\",, \"T\")/100","v":-2.9075162387875038E-3},{"$f":"RTD(\"cqg.rtd\", ,\"ContractData\", C38, \"T_CVol\",, \"T\")","v":1347653},38,{"$f":"RANK($J38,$J$1:J$71)+COUNTIF($J$1:J38,J38)-1","v":69},"S.US.MTB","S.US.FNB",{"$f":"RTD(\"cqg.rtd\", ,\"ContractData\",O38, \"PerCentNetLastTrade\",, \"T\")/100","v":1.6428571428571428E-2},"https://finance.yahoo.com/quote/FNB",null,1.6428571428571428E-2,{"$error":"#N/A"},null,{"$f":"RTD(\"cqg.rtd\", ,\"ContractData\",O38, \"LongDescription\",, \"T\")","v":"F.N.B. Corporation"},null,null,1.6428571428571428E-2,null,1,1]
["MGIC Investment Corp","MTG","S.US.MTG",{"$f":"RTD(\"cqg.rtd\", ,\"ContractData\",C39, \"LongDescription\",, \"T\")","v":"MGIC Investment Corp"},{"$f":"RTD(\"cqg.rtd\", ,\"ContractData\",C39, \"Open\",, \"T\")","v":11.27},{"$f":"RTD(\"cqg.rtd\", ,\"ContractData\",C39, \"High\",, \"T\")","v":11.370000000000001},{"$f":"RTD(\"cqg.rtd\", ,\"ContractData\",C39, \"Low\",, \"T\")","v":11.120000000000001},{"$f":"RTD(\"cqg.rtd\", ,\"ContractData\",C39, \"LastTradeToday\",, \"T\")","v":11.23},{"$f":"RTD(\"cqg.rtd\", ,\"ContractData\",C39, \"NetLastTradeToday\",, \"T\")","v":0.05},{"$f":"RTD(\"cqg.rtd\", ,\"ContractData\",C39, \"PerCentNetLastTrade\",, \"T\")/100","v":4.4722719141323791E-3},{"$f":"RTD(\"cqg.rtd\", ,\"ContractData\", C39, \"T_CVol\",, \"T\")","v":3367192},39,{"$f":"RANK($J39,$J$1:J$71)+COUNTIF($J$1:J39,J39)-1","v":63},"S.US.MTG","S.US.UBSI",{"$f":"RTD(\"cqg.rtd\", ,\"ContractData\",O39, \"PerCentNetLastTrade\",, \"T\")/100","v":1.6372795969773299E-2},"https://finance.yahoo.com/quote/UBSI",null,1.6372795969773299E-2,{"$error":"#N/A"},null,{"$f":"RTD(\"cqg.rtd\", ,\"ContractData\",O39, \"LongDescription\",, \"T\")","v":"United Bankshares"},null,null,1.6372795969773299E-2,null,{"$f":"IF(S39=\"#N/A\",0,1)","v":1},1]
["Northern Trust Corp","NTRS","S.US.NTRS",{"$f":"RTD(\"cqg.rtd\", ,\"ContractData\",C40, \"LongDescription\",, \"T\")","v":"Northern Trust Corp"},{"$f":"RTD(\"cqg.rtd\", ,\"ContractData\",C40, \"Open\",, \"T\")","v":98.03},{"$f":"RTD(\"cqg.rtd\", ,\"ContractData\",C40, \"High\",, \"T\")","v":98.72},{"$f":"RTD(\"cqg.rtd\", ,\"ContractData\",C40, \"Low\",, \"T\")","v":95.850000000000009},{"$f":"RTD(\"cqg.rtd\", ,\"ContractData\",C40, \"LastTradeToday\",, \"T\")","v":97},{"$f":"RTD(\"cqg.rtd\", ,\"ContractData\",C40, \"NetLastTradeToday\",, \"T\")","v":0.34},{"$f":"RTD(\"cqg.rtd\", ,\"ContractData\",C40, \"PerCentNetLastTrade\",, \"T\")/100","v":3.5174839644113386E-3},{"$f":"RTD(\"cqg.rtd\", ,\"ContractData\", C40, \"T_CVol\",, \"T\")","v":1439981},40,{"$f":"RANK($J40,$J$1:J$71)+COUNTIF($J$1:J40,J40)-1","v":65},"S.US.NTRS","S.US.ASB",{"$f":"RTD(\"cqg.rtd\", ,\"ContractData\",O40, \"PerCentNetLastTrade\",, \"T\")/100","v":1.6129032258064516E-2},"https://finance.yahoo.com/quote/ASB",null,1.6129032258064516E-2,{"$error":"#N/A"},null,{"$f":"RTD(\"cqg.rtd\", ,\"ContractData\",O40, \"LongDescription\",, \"T\")","v":"Associated Banc-Corp"},null,null,1.6129032258064516E-2,null,1,1]
["New York Community Bankcorp Inc","NYCB","S.US.NYCB",{"$f":"RTD(\"cqg.rtd\", ,\"ContractData\",C41, \"LongDescription\",, \"T\")","v":"New York Community Bankcorp Inc"},{"$f":"RTD(\"cqg.rtd\", ,\"ContractData\",C41, \"Open\",, \"T\")","v":13.22},{"$f":"RTD(\"cqg.rtd\", ,\"ContractData\",C41, \"High\",, \"T\")","v":13.34},{"$f":"RTD(\"cqg.rtd\", ,\"ContractData\",C41, \"Low\",, \"T\")","v":13.11},{"$f":"RTD(\"cqg.rtd\", ,\"ContractData\",C41, \"LastTradeToday\",, \"T\")","v":13.24},{"$f":"RTD(\"cqg.rtd\", ,\"ContractData\",C41, \"NetLastTradeToday\",, \"T\")","v":0.25},{"$f":"RTD(\"cqg.rtd\", ,\"ContractData\",C41, \"PerCentNetLastTrade\",, \"T\")/100","v":1.924557351809084E-2},{"$f":"RTD(\"cqg.rtd\", ,\"ContractData\", C41, \"T_CVol\",, \"T\")","v":5190394},41,{"$f":"RANK($J41,$J$1:J$71)+COUNTIF($J$1:J41,J41)-1","v":23},"S.US.NYCB","S.US.CBU",{"$f":"RTD(\"cqg.rtd\", ,\"ContractData\",O41, \"PerCentNetLastTrade\",, \"T\")/100","v":1.599568655643422E-2},"https://finance.yahoo.com/quote/CBU",null,1.599568655643422E-2,{"$error":"#N/A"},null,{"$f":"RTD(\"cqg.rtd\", ,\"ContractData\",O41, \"LongDescription\",, \"T\")","v":"Community Bank System, Inc."},null,null,1.599568655643422E-2,null,1,1]
["Old National Bancorp","ONB","S.US.ONB",{"$f":"RTD(\"cqg.rtd\", ,\"ContractData\",C42, \"LongDescription\",, \"T\")","v":"Old National Bancorp"},{"$f":"RTD(\"cqg.rtd\", ,\"ContractData\",C42, \"Open\",, \"T\")","v":17.350000000000001},{"$f":"RTD(\"cqg.rtd\", ,\"ContractData\",C42, \"High\",, \"T\")","v":17.600000000000001},{"$f":"RTD(\"cqg.rtd\", ,\"ContractData\",C42, \"Low\",, \"T\")","v":17.150000000000002},{"$f":"RTD(\"cqg.rtd\", ,\"ContractData\",C42, \"LastTradeToday\",, \"T\")","v":17.350000000000001},{"$f":"RTD(\"cqg.rtd\", ,\"ContractData\",C42, \"NetLastTradeToday\",, \"T\")","v":0.3},{"$f":"RTD(\"cqg.rtd\", ,\"ContractData\",C42, \"PerCentNetLastTrade\",, \"T\")/100","v":1.7595307917888561E-2},{"$f":"RTD(\"cqg.rtd\", ,\"ContractData\", C42, \"T_CVol\",, \"T\")","v":1386674},42,{"$f":"RANK($J42,$J$1:J$71)+COUNTIF($J$1:J42,J42)-1","v":34},"S.US.ONB","S.US.PNFP",{"$f":"RTD(\"cqg.rtd\", ,\"ContractData\",O42, \"PerCentNetLastTrade\",, \"T\")/100","v":1.532258064516129E-2},"https://finance.yahoo.com/quote/PNFP",null,1.532258064516129E-2,{"$error":"#N/A"},null,{"$f":"RTD(\"cqg.rtd\", ,\"ContractData\",O42, \"LongDescription\",, \"T\")","v":"Pinnacle Financial Partners Inc"},null,null,1.532258064516129E-2,null,1,1]
["Bank of the Ozarks","OZRK","S.US.OZRK",{"$f":"RTD(\"cqg.rtd\", ,\"ContractData\",C43, \"LongDescription\",, \"T\")","v":"Bank of the Ozarks"},{"$f":"RTD(\"cqg.rtd\", ,\"ContractData\",C43, \"Open\",, \"T\")","v":46.84},{"$f":"RTD(\"cqg.rtd\", ,\"ContractData\",C43, \"High\",, \"T\")","v":47.65},{"$f":"RTD(\"cqg.rtd\", ,\"ContractData\",C43, \"Low\",, \"T\")","v":46.42},{"$f":"RTD(\"cqg.rtd\", ,\"ContractData\",C43, \"LastTradeToday\",, \"T\")","v":47.11},{"$f":"RTD(\"cqg.rtd\", ,\"ContractData\",C43, \"NetLastTradeToday\",, \"T\")","v":1.25},{"$f":"RTD(\"cqg.rtd\", ,\"ContractData\",C43, \"PerCentNetLastTrade\",, \"T\")/100","v":2.7256868730920192E-2},{"$f":"RTD(\"cqg.rtd\", ,\"ContractData\", C43, \"T_CVol\",, \"T\")","v":2105406},43,{"$f":"RANK($J43,$J$1:J$71)+COUNTIF($J$1:J43,J43)-1","v":7},"S.US.OZRK","S.US.ISBC",{"$f":"RTD(\"cqg.rtd\", ,\"ContractData\",O43, \"PerCentNetLastTrade\",, \"T\")/100","v":1.5117157974300832E-2},"https://finance.yahoo.com/quote/ISBC",null,1.5117157974300832E-2,{"$error":"#N/A"},null,{"$f":"RTD(\"cqg.rtd\", ,\"ContractData\",O43, \"LongDescription\",, \"T\")","v":"Investors Bancorp"},null,null,1.5117157974300832E-2,null,1,1]
["PacWest Bancorp","PACW","S.US.PACW",{"$f":"RTD(\"cqg.rtd\", ,\"ContractData\",C44, \"LongDescription\",, \"T\")","v":"PacWest Bancorp"},{"$f":"RTD(\"cqg.rtd\", ,\"ContractData\",C44, \"Open\",, \"T\")","v":47.33},{"$f":"RTD(\"cqg.rtd\", ,\"ContractData\",C44, \"High\",, \"T\")","v":47.870000000000005},{"$f":"RTD(\"cqg.rtd\", ,\"ContractData\",C44, \"Low\",, \"T\")","v":46.2},{"$f":"RTD(\"cqg.rtd\", ,\"ContractData\",C44, \"LastTradeToday\",, \"T\")","v":46.97},{"$f":"RTD(\"cqg.rtd\", ,\"ContractData\",C44, \"NetLastTradeToday\",, \"T\")","v":0.6},{"$f":"RTD(\"cqg.rtd\", ,\"ContractData\",C44, \"PerCentNetLastTrade\",, \"T\")/100","v":1.2939400474444685E-2},{"$f":"RTD(\"cqg.rtd\", ,\"ContractData\", C44, \"T_CVol\",, \"T\")","v":1045429},44,{"$f":"RANK($J44,$J$1:J$71)+COUNTIF($J$1:J44,J44)-1","v":48},"S.US.PACW","S.US.PNC",{"$f":"RTD(\"cqg.rtd\", ,\"ContractData\",O44, \"PerCentNetLastTrade\",, \"T\")/100","v":1.4991896272285253E-2},"https://finance.yahoo.com/quote/PNC",null,1.4991896272285253E-2,{"$error":"#N/A"},null,{"$f":"RTD(\"cqg.rtd\", ,\"ContractData\",O44, \"LongDescription\",, \"T\")","v":"PNC Fincl Svcs Grp Inc"},null,null,1.4991896272285253E-2,null,1,1]
["Prosperity Bancshares Inc.","PB","S.US.PB",{"$f":"RTD(\"cqg.rtd\", ,\"ContractData\",C45, \"LongDescription\",, \"T\")","v":"Prosperity Bancshares Inc."},{"$f":"RTD(\"cqg.rtd\", ,\"ContractData\",C45, \"Open\",, \"T\")","v":65.33},{"$f":"RTD(\"cqg.rtd\", ,\"ContractData\",C45, \"High\",, \"T\")","v":65.39},{"$f":"RTD(\"cqg.rtd\", ,\"ContractData\",C45, \"Low\",, \"T\")","v":64.02},{"$f":"RTD(\"cqg.rtd\", ,\"ContractData\",C45, \"LastTradeToday\",, \"T\")","v":64.67},{"$f":"RTD(\"cqg.rtd\", ,\"ContractData\",C45, \"NetLastTradeToday\",, \"T\")","v":1.35},{"$f":"RTD(\"cqg.rtd\", ,\"ContractData\",C45, \"PerCentNetLastTrade\",, \"T\")/100","v":2.1320277953253319E-2},{"$f":"RTD(\"cqg.rtd\", ,\"ContractData\", C45, \"T_CVol\",, \"T\")","v":847561},45,{"$f":"RANK($J45,$J$1:J$71)+COUNTIF($J$1:J45,J45)-1","v":18},"S.US.PB","S.US.BXS",{"$f":"RTD(\"cqg.rtd\", ,\"ContractData\",O45, \"PerCentNetLastTrade\",, \"T\")/100","v":1.4851485148514851E-2},"https://finance.yahoo.com/quote/BXS",null,1.4851485148514851E-2,{"$error":"#N/A"},null,{"$f":"RTD(\"cqg.rtd\", ,\"ContractData\",O45, \"LongDescription\",, \"T\")","v":"BANCORPSOUTH INC"},null,null,1.4851485148514851E-2,null,1,1,null,{"$f":"IFERROR(S45,\"\")","v":1.4851485148514851E-2},{"$f":"IFERROR(T45,\"\")","v":""},{"$f":"IF(AE45=\"\",\"\",Y45)","v":""}]
["Peoples United Financial","PBCT","S.US.PBCT",{"$f":"RTD(\"cqg.rtd\", ,\"ContractData\",C46, \"LongDescription\",, \"T\")","v":"Peoples United Financial"},{"$f":"RTD(\"cqg.rtd\", ,\"ContractData\",C46, \"Open\",, \"T\")","v":17.760000000000002},{"$f":"RTD(\"cqg.rtd\", ,\"ContractData\",C46, \"High\",, \"T\")","v":17.96},{"$f":"RTD(\"cqg.rtd\", ,\"ContractData\",C46, \"Low\",, \"T\")","v":17.48},{"$f":"RTD(\"cqg.rtd\", ,\"ContractData\",C46, \"LastTradeToday\",, \"T\")","v":17.71},{"$f":"RTD(\"cqg.rtd\", ,\"ContractData\",C46, \"NetLastTradeToday\",, \"T\")","v":0.19},{"$f":"RTD(\"cqg.rtd\", ,\"ContractData\",C46, \"PerCentNetLastTrade\",, \"T\")/100","v":1.0844748858447488E-2},{"$f":"RTD(\"cqg.rtd\", ,\"ContractData\", C46, \"T_CVol\",, \"T\")","v":3274537},46,{"$f":"RANK($J46,$J$1:J$71)+COUNTIF($J$1:J46,J46)-1","v":52},"S.US.PBCT","S.US.JPM",{"$f":"RTD(\"cqg.rtd\", ,\"ContractData\",O46, \"PerCentNetLastTrade\",, \"T\")/100","v":1.4807392562903586E-2},"https://finance.yahoo.com/quote/JPM",null,1.4807392562903586E-2,{"$error":"#N/A"},null,{"$f":"RTD(\"cqg.rtd\", ,\"ContractData\",O46, \"LongDescription\",, \"T\")","v":"JPMorgan Chase & Co."},null,null,1.4807392562903586E-2,null,1,1,null,{"$f":"IFERROR(S46,\"\")","v":1.4807392562903586E-2},{"$f":"IFERROR(T46,\"\")","v":""},{"$f":"IF(AE46=\"\",\"\",Y46)","v":""}]
["PNC Fincl Svcs Grp Inc","PNC","S.US.PNC",{"$f":"RTD(\"cqg.rtd\", ,\"ContractData\",C47, \"LongDescription\",, \"T\")","v":"PNC Fincl Svcs Grp Inc"},{"$f":"RTD(\"cqg.rtd\", ,\"ContractData\",C47, \"Open\",, \"T\")","v":126.63000000000001},{"$f":"RTD(\"cqg.rtd\", ,\"ContractData\",C47, \"High\",, \"T\")","v":128.25},{"$f":"RTD(\"cqg.rtd\", ,\"ContractData\",C47, \"Low\",, \"T\")","v":124.19},{"$f":"RTD(\"cqg.rtd\", ,\"ContractData\",C47, \"LastTradeToday\",, \"T\")","v":125.25},{"$f":"RTD(\"cqg.rtd\", ,\"ContractData\",C47, \"NetLastTradeToday\",, \"T\")","v":1.85},{"$f":"RTD(\"cqg.rtd\", ,\"ContractData\",C47, \"PerCentNetLastTrade\",, \"T\")/100","v":1.4991896272285253E-2},{"$f":"RTD(\"cqg.rtd\", ,\"ContractData\", C47, \"T_CVol\",, \"T\")","v":2669345},47,{"$f":"RANK($J47,$J$1:J$71)+COUNTIF($J$1:J47,J47)-1","v":44},"S.US.PNC","S.US.STI",{"$f":"RTD(\"cqg.rtd\", ,\"ContractData\",O47, \"PerCentNetLastTrade\",, \"T\")/100","v":1.3014797646639329E-2},"https://finance.yahoo.com/quote/STI",null,1.3014797646639329E-2,{"$error":"#N/A"},null,{"$f":"RTD(\"cqg.rtd\", ,\"ContractData\",O47, \"LongDescription\",, \"T\")","v":"SunTrust Banks Inc"},null,null,1.3014797646639329E-2,null,1,1,null,1.3014797646639329E-2,"",""]
["Pinnacle Financial Partners Inc","PNFP","S.US.PNFP",{"$f":"RTD(\"cqg.rtd\", ,\"ContractData\",C48, \"LongDescription\",, \"T\")","v":"Pinnacle Financial Partners Inc"},{"$f":"RTD(\"cqg.rtd\", ,\"ContractData\",C48, \"Open\",, \"T\")","v":63.5},{"$f":"RTD(\"cqg.rtd\", ,\"ContractData\",C48, \"High\",, \"T\")","v":64.3},{"$f":"RTD(\"cqg.rtd\", ,\"ContractData\",C48, \"Low\",, \"T\")","v":62},{"$f":"RTD(\"cqg.rtd\", ,\"ContractData\",C48, \"LastTradeToday\",, \"T\")","v":62.95},{"$f":"RTD(\"cqg.rtd\", ,\"ContractData\",C48, \"NetLastTradeToday\",, \"T\")","v":0.95000000000000007},{"$f":"RTD(\"cqg.rtd\", ,\"ContractData\",C48, \"PerCentNetLastTrade\",, \"T\")/100","v":1.532258064516129E-2},{"$f":"RTD(\"cqg.rtd\", ,\"ContractData\", C48, \"T_CVol\",, \"T\")","v":613217},48,{"$f":"RANK($J48,$J$1:J$71)+COUNTIF($J$1:J48,J48)-1","v":42},"S.US.PNFP","S.US.PACW",{"$f":"RTD(\"cqg.rtd\", ,\"ContractData\",O48, \"PerCentNetLastTrade\",, \"T\")/100","v":1.2939400474444685E-2},"https://finance.yahoo.com/quote/PACW",null,1.2939400474444685E-2,{"$error":"#N/A"},null,{"$f":"RTD(\"cqg.rtd\", ,\"ContractData\",O48, \"LongDescription\",, \"T\")","v":"PacWest Bancorp"},null,null,1.2939400474444685E-2,null,1,1,null,1.2939400474444685E-2,"",""]
["Radian Group","RDN","S.US.RDN",{"$f":"RTD(\"cqg.rtd\", ,\"ContractData\",C49, \"LongDescription\",, \"T\")","v":"Radian Group"},{"$f":"RTD(\"cqg.rtd\", ,\"ContractData\",C49, \"Open\",, \"T\")","v":16.72},{"$f":"RTD(\"cqg.rtd\", ,\"ContractData\",C49, \"High\",, \"T\")","v":16.73},{"$f":"RTD(\"cqg.rtd\", ,\"ContractData\",C49, \"Low\",, \"T\")","v":16.240000000000002},{"$f":"RTD(\"cqg.rtd\", ,\"ContractData\",C49, \"LastTradeToday\",, \"T\")","v":16.309999999999999},{"$f":"RTD(\"cqg.rtd\", ,\"ContractData\",C49, \"NetLastTradeToday\",, \"T\")","v":-0.14000000000000001},{"$f":"RTD(\"cqg.rtd\", ,\"ContractData\",C49, \"PerCentNetLastTrade\",, \"T\")/100","v":-8.5106382978723406E-3},{"$f":"RTD(\"cqg.rtd\", ,\"ContractData\", C49, \"T_CVol\",, \"T\")","v":3259481},49,{"$f":"RANK($J49,$J$1:J$71)+COUNTIF($J$1:J49,J49)-1","v":71},"S.US.RDN","S.US.HOPE",{"$f":"RTD(\"cqg.rtd\", ,\"ContractData\",O49, \"PerCentNetLastTrade\",, \"T\")/100","v":1.2332439678284181E-2},"https://finance.yahoo.com/quote/HOPE",null,1.2332439678284181E-2,{"$error":"#N/A"},null,{"$f":"RTD(\"cqg.rtd\", ,\"ContractData\",O49, \"LongDescription\",, \"T\")","v":"Hope Bancorp, Inc."},null,null,1.2332439678284181E-2,null,1,1,null,1.2332439678284181E-2,"",""]
["Regions Financial Corp","RF","S.US.RF",{"$f":"RTD(\"cqg.rtd\", ,\"ContractData\",C50, \"LongDescription\",, \"T\")","v":"Regions Financial Corp"},{"$f":"RTD(\"cqg.rtd\", ,\"ContractData\",C50, \"Open\",, \"T\")","v":14.63},{"$f":"RTD(\"cqg.rtd\", ,\"ContractData\",C50, \"High\",, \"T\")","v":14.85},{"$f":"RTD(\"cqg.rtd\", ,\"ContractData\",C50, \"Low\",, \"T\")","v":14.48},{"$f":"RTD(\"cqg.rtd\", ,\"ContractData\",C50, \"LastTradeToday\",, \"T\")","v":14.66},{"$f":"RTD(\"cqg.rtd\", ,\"ContractData\",C50, \"NetLastTradeToday\",, \"T\")","v":0.57000000000000006},{"$f":"RTD(\"cqg.rtd\", ,\"ContractData\",C50, \"PerCentNetLastTrade\",, \"T\")/100","v":4.04542228530873E-2},{"$f":"RTD(\"cqg.rtd\", ,\"ContractData\", C50, \"T_CVol\",, \"T\")","v":32445983},50,{"$f":"RANK($J50,$J$1:J$71)+COUNTIF($J$1:J50,J50)-1","v":1},"S.US.RF","S.US.MBFI",{"$f":"RTD(\"cqg.rtd\", ,\"ContractData\",O50, \"PerCentNetLastTrade\",, \"T\")/100","v":1.1885714285714286E-2},"https://finance.yahoo.com/quote/MBFI",null,1.1885714285714286E-2,{"$error":"#N/A"},null,{"$f":"RTD(\"cqg.rtd\", ,\"ContractData\",O50, \"LongDescription\",, \"T\")","v":"MB Financial Inc"},null,null,1.1885714285714286E-2,null,1,1,null,1.1885714285714286E-2,"",""]
["Signature Bank","SBNY","S.US.SBNY",{"$f":"RTD(\"cqg.rtd\", ,\"ContractData\",C51, \"LongDescription\",, \"T\")","v":"Signature Bank"},{"$f":"RTD(\"cqg.rtd\", ,\"ContractData\",C51, \"Open\",, \"T\")","v":144.70000000000002},{"$f":"RTD(\"cqg.rtd\", ,\"ContractData\",C51, \"High\",, \"T\")","v":146.32},{"$f":"RTD(\"cqg.rtd\", ,\"ContractData\",C51, \"Low\",, \"T\")","v":142.55000000000001},{"$f":"RTD(\"cqg.rtd\", ,\"ContractData\",C51, \"LastTradeToday\",, \"T\")","v":144.07},{"$f":"RTD(\"cqg.rtd\", ,\"ContractData\",C51, \"NetLastTradeToday\",, \"T\")","v":2.38},{"$f":"RTD(\"cqg.rtd\", ,\"ContractData\",C51, \"PerCentNetLastTrade\",, \"T\")/100","v":1.6797233396852282E-2},{"$f":"RTD(\"cqg.rtd\", ,\"ContractData\", C51, \"T_CVol\",, \"T\")","v":607782},51,{"$f":"RANK($J51,$J$1:J$71)+COUNTIF($J$1:J51,J51)-1","v":37},"S.US.SBNY","S.US.CMA",{"$f":"RTD(\"cqg.rtd\", ,\"ContractData\",O51, \"PerCentNetLastTrade\",, \"T\")/100","v":1.1815401723658605E-2},"https://finance.yahoo.com/quote/CMA",null,1.1815401723658605E-2,{"$error":"#N/A"},null,{"$f":"RTD(\"cqg.rtd\", ,\"ContractData\",O51, \"LongDescription\",, \"T\")","v":"Comerica Inc"},null,null,1.1815401723658605E-2,null,1,1,null,1.1815401723658605E-2,"",""]
["SVB Financial Group","SIVB","S.US.SIVB",{"$f":"RTD(\"cqg.rtd\", ,\"ContractData\",C52, \"LongDescription\",, \"T\")","v":"SVB Financial Group"},{"$f":"RTD(\"cqg.rtd\", ,\"ContractData\",C52, \"Open\",, \"T\")","v":179.58},{"$f":"RTD(\"cqg.rtd\", ,\"ContractData\",C52, \"High\",, \"T\")","v":181.49},{"$f":"RTD(\"cqg.rtd\", ,\"ContractData\",C52, \"Low\",, \"T\")","v":175.89000000000001},{"$f":"RTD(\"cqg.rtd\", ,\"ContractData\",C52, \"LastTradeToday\",, \"T\")","v":177.23},{"$f":"RTD(\"cqg.rtd\", ,\"ContractData\",C52, \"NetLastTradeToday\",, \"T\")","v":1.1400000000000001},{"$f":"RTD(\"cqg.rtd\", ,\"ContractData\",C52, \"PerCentNetLastTrade\",, \"T\")/100","v":6.4739621784314838E-3},{"$f":"RTD(\"cqg.rtd\", ,\"ContractData\", C52, \"T_CVol\",, \"T\")","v":475142},52,{"$f":"RANK($J52,$J$1:J$71)+COUNTIF($J$1:J52,J52)-1","v":62},"S.US.SIVB","S.US.PBCT",{"$f":"RTD(\"cqg.rtd\", ,\"ContractData\",O52, \"PerCentNetLastTrade\",, \"T\")/100","v":1.0844748858447488E-2},"https://finance.yahoo.com/quote/PBCT",null,1.0844748858447488E-2,{"$error":"#N/A"},null,{"$f":"RTD(\"cqg.rtd\", ,\"ContractData\",O52, \"LongDescription\",, \"T\")","v":"Peoples United Financial"},null,null,1.0844748858447488E-2,null,1,1,null,1.0844748858447488E-2,"",""]
["Synovous Fin Corp","SNV","S.US.SNV",{"$f":"RTD(\"cqg.rtd\", ,\"ContractData\",C53, \"LongDescription\",, \"T\")","v":"Synovous Fin Corp"},{"$f":"RTD(\"cqg.rtd\", ,\"ContractData\",C53, \"Open\",, \"T\")","v":44.59},{"$f":"RTD(\"cqg.rtd\", ,\"ContractData\",C53, \"High\",, \"T\")","v":44.76},{"$f":"RTD(\"cqg.rtd\", ,\"ContractData\",C53, \"Low\",, \"T\")","v":43.68},{"$f":"RTD(\"cqg.rtd\", ,\"ContractData\",C53, \"LastTradeToday\",, \"T\")","v":44.410000000000004},{"$f":"RTD(\"cqg.rtd\", ,\"ContractData\",C53, \"NetLastTradeToday\",, \"T\")","v":1.05},{"$f":"RTD(\"cqg.rtd\", ,\"ContractData\",C53, \"PerCentNetLastTrade\",, \"T\")/100","v":2.4215867158671585E-2},{"$f":"RTD(\"cqg.rtd\", ,\"ContractData\", C53, \"T_CVol\",, \"T\")","v":922345},53,{"$f":"RANK($J53,$J$1:J$71)+COUNTIF($J$1:J53,J53)-1","v":10},"S.US.SNV","S.US.CBSH",{"$f":"RTD(\"cqg.rtd\", ,\"ContractData\",O53, \"PerCentNetLastTrade\",, \"T\")/100","v":1.0576414595452142E-2},"https://finance.yahoo.com/quote/CBSH",null,1.0576414595452142E-2,{"$error":"#N/A"},null,{"$f":"RTD(\"cqg.rtd\", ,\"ContractData\",O53, \"LongDescription\",, \"T\")","v":"Commerce Bancshares Inc"},null,null,1.0576414595452142E-2,null,1,1,null,1.0576414595452142E-2,"",""]
["SunTrust Banks Inc","STI","S.US.STI",{"$f":"RTD(\"cqg.rtd\", ,\"ContractData\",C54, \"LongDescription\",, \"T\")","v":"SunTrust Banks Inc"},{"$f":"RTD(\"cqg.rtd\", ,\"ContractData\",C54, \"Open\",, \"T\")","v":58.07},{"$f":"RTD(\"cqg.rtd\", ,\"ContractData\",C54, \"High\",, \"T\")","v":58.25},{"$f":"RTD(\"cqg.rtd\", ,\"ContractData\",C54, \"Low\",, \"T\")","v":56.14},{"$f":"RTD(\"cqg.rtd\", ,\"ContractData\",C54, \"LastTradeToday\",, \"T\")","v":56.82},{"$f":"RTD(\"cqg.rtd\", ,\"ContractData\",C54, \"NetLastTradeToday\",, \"T\")","v":0.73},{"$f":"RTD(\"cqg.rtd\", ,\"ContractData\",C54, \"PerCentNetLastTrade\",, \"T\")/100","v":1.3014797646639329E-2},{"$f":"RTD(\"cqg.rtd\", ,\"ContractData\", C54, \"T_CVol\",, \"T\")","v":5388154},54,{"$f":"RANK($J54,$J$1:J$71)+COUNTIF($J$1:J54,J54)-1","v":47},"S.US.STI","S.US.VOYA",{"$f":"RTD(\"cqg.rtd\", ,\"ContractData\",O54, \"PerCentNetLastTrade\",, \"T\")/100","v":1.0281385281385282E-2},"https://finance.yahoo.com/quote/VOYA",null,1.0281385281385282E-2,{"$error":"#N/A"},null,{"$f":"RTD(\"cqg.rtd\", ,\"ContractData\",O54, \"LongDescription\",, \"T\")","v":"VOYA Financial, Inc."},null,null,1.0281385281385282E-2,null,1,1,null,1.0281385281385282E-2,"",""]
["Sterling Bancorp","STL","S.US.STL",{"$f":"RTD(\"cqg.rtd\", ,\"ContractData\",C55, \"LongDescription\",, \"T\")","v":"Sterling Bancorp"},{"$f":"RTD(\"cqg.rtd\", ,\"ContractData\",C55, \"Open\",, \"T\")","v":23.7},{"$f":"RTD(\"cqg.rtd\", ,\"ContractData\",C55, \"High\",, \"T\")","v":23.7},{"$f":"RTD(\"cqg.rtd\", ,\"ContractData\",C55, \"Low\",, \"T\")","v":23.1},{"$f":"RTD(\"cqg.rtd\", ,\"ContractData\",C55, \"LastTradeToday\",, \"T\")","v":23.55},{"$f":"RTD(\"cqg.rtd\", ,\"ContractData\",C55, \"NetLastTradeToday\",, \"T\")","v":0.5},{"$f":"RTD(\"cqg.rtd\", ,\"ContractData\",C55, \"PerCentNetLastTrade\",, \"T\")/100","v":2.1691973969631236E-2},{"$f":"RTD(\"cqg.rtd\", ,\"ContractData\", C55, \"T_CVol\",, \"T\")","v":1233942},55,{"$f":"RANK($J55,$J$1:J$71)+COUNTIF($J$1:J55,J55)-1","v":17},"S.US.STL","S.US.GBCI",{"$f":"RTD(\"cqg.rtd\", ,\"ContractData\",O55, \"PerCentNetLastTrade\",, \"T\")/100","v":9.9805932908233978E-3},"https://finance.yahoo.com/quote/GBCI",null,9.9805932908233978E-3,{"$error":"#N/A"},null,{"$f":"RTD(\"cqg.rtd\", ,\"ContractData\",O55, \"LongDescription\",, \"T\")","v":"Glacier Bancorp Inc"},null,null,9.9805932908233978E-3,null,1,1,null,9.9805932908233978E-3,"",""]
["Texas Capital Bancshares Inc","TCBI","S.US.TCBI",{"$f":"RTD(\"cqg.rtd\", ,\"ContractData\",C56, \"LongDescription\",, \"T\")","v":"Texas Capital Bancshares Inc"},{"$f":"RTD(\"cqg.rtd\", ,\"ContractData\",C56, \"Open\",, \"T\")","v":77.05},{"$f":"RTD(\"cqg.rtd\", ,\"ContractData\",C56, \"High\",, \"T\")","v":77.8},{"$f":"RTD(\"cqg.rtd\", ,\"ContractData\",C56, \"Low\",, \"T\")","v":76.05},{"$f":"RTD(\"cqg.rtd\", ,\"ContractData\",C56, \"LastTradeToday\",, \"T\")","v":77.400000000000006},{"$f":"RTD(\"cqg.rtd\", ,\"ContractData\",C56, \"NetLastTradeToday\",, \"T\")","v":2.1},{"$f":"RTD(\"cqg.rtd\", ,\"ContractData\",C56, \"PerCentNetLastTrade\",, \"T\")/100","v":2.7888446215139445E-2},{"$f":"RTD(\"cqg.rtd\", ,\"ContractData\", C56, \"T_CVol\",, \"T\")","v":753998},56,{"$f":"RANK($J56,$J$1:J$71)+COUNTIF($J$1:J56,J56)-1","v":4},"S.US.TCBI","S.US.UMPQ",{"$f":"RTD(\"cqg.rtd\", ,\"ContractData\",O56, \"PerCentNetLastTrade\",, \"T\")/100","v":9.7879282218597055E-3},"https://finance.yahoo.com/quote/UMPQ",null,9.7879282218597055E-3,{"$error":"#N/A"},null,{"$f":"RTD(\"cqg.rtd\", ,\"ContractData\",O56, \"LongDescription\",, \"T\")","v":"Umpqua Hldgs Corp"},null,null,9.7879282218597055E-3,null,1,1,null,9.7879282218597055E-3,"",""]
["TCF Financial Corp","TCB","S.US.TCB",{"$f":"RTD(\"cqg.rtd\", ,\"ContractData\",C57, \"LongDescription\",, \"T\")","v":"TCF Financial Corp"},{"$f":"RTD(\"cqg.rtd\", ,\"ContractData\",C57, \"Open\",, \"T\")","v":16.07},{"$f":"RTD(\"cqg.rtd\", ,\"ContractData\",C57, \"High\",, \"T\")","v":16.14},{"$f":"RTD(\"cqg.rtd\", ,\"ContractData\",C57, \"Low\",, \"T\")","v":15.76},{"$f":"RTD(\"cqg.rtd\", ,\"ContractData\",C57, \"LastTradeToday\",, \"T\")","v":15.99},{"$f":"RTD(\"cqg.rtd\", ,\"ContractData\",C57, \"NetLastTradeToday\",, \"T\")","v":0.39},{"$f":"RTD(\"cqg.rtd\", ,\"ContractData\",C57, \"PerCentNetLastTrade\",, \"T\")/100","v":2.5000000000000001E-2},{"$f":"RTD(\"cqg.rtd\", ,\"ContractData\", C57, \"T_CVol\",, \"T\")","v":1273320},57,{"$f":"RANK($J57,$J$1:J$71)+COUNTIF($J$1:J57,J57)-1","v":9},"S.US.TCB","S.US.BOH",{"$f":"RTD(\"cqg.rtd\", ,\"ContractData\",O57, \"PerCentNetLastTrade\",, \"T\")/100","v":9.7849722155109939E-3},"https://finance.yahoo.com/quote/BOH",null,9.7849722155109939E-3,{"$error":"#N/A"},null,{"$f":"RTD(\"cqg.rtd\", ,\"ContractData\",O57, \"LongDescription\",, \"T\")","v":"Hawaii Corporation"},null,null,9.7849722155109939E-3,null,1,1,null,9.7849722155109939E-3,"",""]
["Trustmark Corporation","TRMK","S.US.TRMK",{"$f":"RTD(\"cqg.rtd\", ,\"ContractData\",C58, \"LongDescription\",, \"T\")","v":"Trustmark Corporation"},{"$f":"RTD(\"cqg.rtd\", ,\"ContractData\",C58, \"Open\",, \"T\")","v":32.56},{"$f":"RTD(\"cqg.rtd\", ,\"ContractData\",C58, \"High\",, \"T\")","v":33},{"$f":"RTD(\"cqg.rtd\", ,\"ContractData\",C58, \"Low\",, \"T\")","v":32.07},{"$f":"RTD(\"cqg.rtd\", ,\"ContractData\",C58, \"LastTradeToday\",, \"T\")","v":32.480000000000004},{"$f":"RTD(\"cqg.rtd\", ,\"ContractData\",C58, \"NetLastTradeToday\",, \"T\")","v":0.55000000000000004},{"$f":"RTD(\"cqg.rtd\", ,\"ContractData\",C58, \"PerCentNetLastTrade\",, \"T\")/100","v":1.7225180081428124E-2},{"$f":"RTD(\"cqg.rtd\", ,\"ContractData\", C58, \"T_CVol\",, \"T\")","v":272251},58,{"$f":"RANK($J58,$J$1:J$71)+COUNTIF($J$1:J58,J58)-1","v":36},"S.US.TRMK","S.US.CFG",{"$f":"RTD(\"cqg.rtd\", ,\"ContractData\",O58, \"PerCentNetLastTrade\",, \"T\")/100","v":8.771929824561403E-3},"https://finance.yahoo.com/quote/CFG",null,8.771929824561403E-3,{"$error":"#N/A"},null,{"$f":"RTD(\"cqg.rtd\", ,\"ContractData\",O58, \"LongDescription\",, \"T\")","v":"Citizens Financial Group, Inc."},null,null,8.771929824561403E-3,null,1,1,null,8.771929824561403E-3,"",""]
["United Bankshares","UBSI","S.US.UBSI",{"$f":"RTD(\"cqg.rtd\", ,\"ContractData\",C59, \"LongDescription\",, \"T\")","v":"United Bankshares"},{"$f":"RTD(\"cqg.rtd\", ,\"ContractData\",C59, \"Open\",, \"T\")","v":40.35},{"$f":"RTD(\"cqg.rtd\", ,\"ContractData\",C59, \"High\",, \"T\")","v":40.65},{"$f":"RTD(\"cqg.rtd\", ,\"ContractData\",C59, \"Low\",, \"T\")","v":39.69},{"$f":"RTD(\"cqg.rtd\", ,\"ContractData\",C59, \"LastTradeToday\",, \"T\")","v":40.35},{"$f":"RTD(\"cqg.rtd\", ,\"ContractData\",C59, \"NetLastTradeToday\",, \"T\")","v":0.65},{"$f":"RTD(\"cqg.rtd\", ,\"ContractData\",C59, \"PerCentNetLastTrade\",, \"T\")/100","v":1.6372795969773299E-2},{"$f":"RTD(\"cqg.rtd\", ,\"ContractData\", C59, \"T_CVol\",, \"T\")","v":587466},59,{"$f":"RANK($J59,$J$1:J$71)+COUNTIF($J$1:J59,J59)-1","v":39},"S.US.UBSI","S.US.BK",{"$f":"RTD(\"cqg.rtd\", ,\"ContractData\",O59, \"PerCentNetLastTrade\",, \"T\")/100","v":8.1027667984189724E-3},"https://finance.yahoo.com/quote/BK",null,8.1027667984189724E-3,{"$error":"#N/A"},null,{"$f":"RTD(\"cqg.rtd\", ,\"ContractData\",O59, \"LongDescription\",, \"T\")","v":"Bank of New York Co Inc"},null,null,8.1027667984189724E-3,null,1,1,null,8.1027667984189724E-3,"",""]
["United Community Banks Inc","UCBI","S.US.UCBI",{"$f":"RTD(\"cqg.rtd\", ,\"ContractData\",C60, \"LongDescription\",, \"T\")","v":"United Community Banks Inc"},{"$f":"RTD(\"cqg.rtd\", ,\"ContractData\",C60, \"Open\",, \"T\")","v":28.01},{"$f":"RTD(\"cqg.rtd\", ,\"ContractData\",C60, \"High\",, \"T\")","v":28.3},{"$f":"RTD(\"cqg.rtd\", ,\"ContractData\",C60, \"Low\",, \"T\")","v":27.44},{"$f":"RTD(\"cqg.rtd\", ,\"ContractData\",C60, \"LastTradeToday\",, \"T\")","v":27.97},{"$f":"RTD(\"cqg.rtd\", ,\"ContractData\",C60, \"NetLastTradeToday\",, \"T\")","v":0.49},{"$f":"RTD(\"cqg.rtd\", ,\"ContractData\",C60, \"PerCentNetLastTrade\",, \"T\")/100","v":1.7831149927219795E-2},{"$f":"RTD(\"cqg.rtd\", ,\"ContractData\", C60, \"T_CVol\",, \"T\")","v":304015},60,{"$f":"RANK($J60,$J$1:J$71)+COUNTIF($J$1:J60,J60)-1","v":33},"S.US.UCBI","S.US.FULT",{"$f":"RTD(\"cqg.rtd\", ,\"ContractData\",O60, \"PerCentNetLastTrade\",, \"T\")/100","v":7.8947368421052634E-3},"https://finance.yahoo.com/quote/FULT",null,7.8947368421052634E-3,{"$error":"#N/A"},null,{"$f":"RTD(\"cqg.rtd\", ,\"ContractData\",O60, \"LongDescription\",, \"T\")","v":"Fulton Financial Corporation"},null,null,7.8947368421052634E-3,null,1,1,null,7.8947368421052634E-3,"",""]
["UMB Financial Corp","UMBF","S.US.UMBF",{"$f":"RTD(\"cqg.rtd\", ,\"ContractData\",C61, \"LongDescription\",, \"T\")","v":"UMB Financial Corp"},{"$f":"RTD(\"cqg.rtd\", ,\"ContractData\",C61, \"Open\",, \"T\")","v":74.73},{"$f":"RTD(\"cqg.rtd\", ,\"ContractData\",C61, \"High\",, \"T\")","v":75.33},{"$f":"RTD(\"cqg.rtd\", ,\"ContractData\",C61, \"Low\",, \"T\")","v":73.61},{"$f":"RTD(\"cqg.rtd\", ,\"ContractData\",C61, \"LastTradeToday\",, \"T\")","v":75.040000000000006},{"$f":"RTD(\"cqg.rtd\", ,\"ContractData\",C61, \"NetLastTradeToday\",, \"T\")","v":1.32},{"$f":"RTD(\"cqg.rtd\", ,\"ContractData\",C61, \"PerCentNetLastTrade\",, \"T\")/100","v":1.7905588714053174E-2},{"$f":"RTD(\"cqg.rtd\", ,\"ContractData\", C61, \"T_CVol\",, \"T\")","v":216167},61,{"$f":"RANK($J61,$J$1:J$71)+COUNTIF($J$1:J61,J61)-1","v":32},"S.US.UMBF","S.US.CFR",{"$f":"RTD(\"cqg.rtd\", ,\"ContractData\",O61, \"PerCentNetLastTrade\",, \"T\")/100","v":7.7087794432548181E-3},"https://finance.yahoo.com/quote/CFR",null,7.7087794432548181E-3,{"$error":"#N/A"},null,{"$f":"RTD(\"cqg.rtd\", ,\"ContractData\",O61, \"LongDescription\",, \"T\")","v":"Cullen Frost Bankers Inc"},null,null,7.7087794432548181E-3,null,1,1,null,7.7087794432548181E-3,"",""]
["Umpqua Hldgs Corp","UMPQ","S.US.UMPQ",{"$f":"RTD(\"cqg.rtd\", ,\"ContractData\",C62, \"LongDescription\",, \"T\")","v":"Umpqua Hldgs Corp"},{"$f":"RTD(\"cqg.rtd\", ,\"ContractData\",C62, \"Open\",, \"T\")","v":18.73},{"$f":"RTD(\"cqg.rtd\", ,\"ContractData\",C62, \"High\",, \"T\")","v":18.82},{"$f":"RTD(\"cqg.rtd\", ,\"ContractData\",C62, \"Low\",, \"T\")","v":18.37},{"$f":"RTD(\"cqg.rtd\", ,\"ContractData\",C62, \"LastTradeToday\",, \"T\")","v":18.57},{"$f":"RTD(\"cqg.rtd\", ,\"ContractData\",C62, \"NetLastTradeToday\",, \"T\")","v":0.18},{"$f":"RTD(\"cqg.rtd\", ,\"ContractData\",C62, \"PerCentNetLastTrade\",, \"T\")/100","v":9.7879282218597055E-3},{"$f":"RTD(\"cqg.rtd\", ,\"ContractData\", C62, \"T_CVol\",, \"T\")","v":1426973},62,{"$f":"RANK($J62,$J$1:J$71)+COUNTIF($J$1:J62,J62)-1","v":56},"S.US.UMPQ","S.US.SIVB",{"$f":"RTD(\"cqg.rtd\", ,\"ContractData\",O62, \"PerCentNetLastTrade\",, \"T\")/100","v":6.4739621784314838E-3},"https://finance.yahoo.com/quote/SIVB",null,6.4739621784314838E-3,{"$error":"#N/A"},null,{"$f":"RTD(\"cqg.rtd\", ,\"ContractData\",O62, \"LongDescription\",, \"T\")","v":"SVB Financial Group"},null,null,6.4739621784314838E-3,null,1,1,null,6.4739621784314838E-3,"",""]
["U S Bancorp","USB","S.US.USB",{"$f":"RTD(\"cqg.rtd\", ,\"ContractData\",C63, \"LongDescription\",, \"T\")","v":"U S Bancorp"},{"$f":"RTD(\"cqg.rtd\", ,\"ContractData\",C63, \"Open\",, \"T\")","v":52.86},{"$f":"RTD(\"cqg.rtd\", ,\"ContractData\",C63, \"High\",, \"T\")","v":52.99},{"$f":"RTD(\"cqg.rtd\", ,\"ContractData\",C63, \"Low\",, \"T\")","v":51.620000000000005},{"$f":"RTD(\"cqg.rtd\", ,\"ContractData\",C63, \"LastTradeToday\",, \"T\")","v":51.78},{"$f":"RTD(\"cqg.rtd\", ,\"ContractData\",C63, \"NetLastTradeToday\",, \"T\")","v":-0.2},{"$f":"RTD(\"cqg.rtd\", ,\"ContractData\",C63, \"PerCentNetLastTrade\",, \"T\")/100","v":-3.8476337052712585E-3},{"$f":"RTD(\"cqg.rtd\", ,\"ContractData\", C63, \"T_CVol\",, \"T\")","v":9967619},63,{"$f":"RANK($J63,$J$1:J$71)+COUNTIF($J$1:J63,J63)-1","v":70},"S.US.USB","S.US.MTG",{"$f":"RTD(\"cqg.rtd\", ,\"ContractData\",O63, \"PerCentNetLastTrade\",, \"T\")/100","v":4.4722719141323791E-3},"https://finance.yahoo.com/quote/MTG",null,4.4722719141323791E-3,{"$error":"#N/A"},null,{"$f":"RTD(\"cqg.rtd\", ,\"ContractData\",O63, \"LongDescription\",, \"T\")","v":"MGIC Investment Corp"},null,null,4.4722719141323791E-3,null,1,1,null,4.4722719141323791E-3,"",""]
["Valley National Bancorp","VLY","S.US.VLY",{"$f":"RTD(\"cqg.rtd\", ,\"ContractData\",C64, \"LongDescription\",, \"T\")","v":"Valley National Bancorp"},{"$f":"RTD(\"cqg.rtd\", ,\"ContractData\",C64, \"Open\",, \"T\")","v":12.01},{"$f":"RTD(\"cqg.rtd\", ,\"ContractData\",C64, \"High\",, \"T\")","v":12.08},{"$f":"RTD(\"cqg.rtd\", ,\"ContractData\",C64, \"Low\",, \"T\")","v":11.72},{"$f":"RTD(\"cqg.rtd\", ,\"ContractData\",C64, \"LastTradeToday\",, \"T\")","v":11.92},{"$f":"RTD(\"cqg.rtd\", ,\"ContractData\",C64, \"NetLastTradeToday\",, \"T\")","v":0.22},{"$f":"RTD(\"cqg.rtd\", ,\"ContractData\",C64, \"PerCentNetLastTrade\",, \"T\")/100","v":1.8803418803418803E-2},{"$f":"RTD(\"cqg.rtd\", ,\"ContractData\", C64, \"T_CVol\",, \"T\")","v":1728738},64,{"$f":"RANK($J64,$J$1:J$71)+COUNTIF($J$1:J64,J64)-1","v":26},"S.US.VLY","S.US.EWBC",{"$f":"RTD(\"cqg.rtd\", ,\"ContractData\",O64, \"PerCentNetLastTrade\",, \"T\")/100","v":3.6051502145922746E-3},"https://finance.yahoo.com/quote/EWBC",null,3.6051502145922746E-3,{"$error":"#N/A"},null,{"$f":"RTD(\"cqg.rtd\", ,\"ContractData\",O64, \"LongDescription\",, \"T\")","v":"East West Bancorp"},null,null,3.6051502145922746E-3,null,1,1,null,3.6051502145922746E-3,"",""]
["VOYA Financial, Inc.","VOYA",{"$f":"\"S.US.\"&B65","v":"S.US.VOYA"},{"$f":"RTD(\"cqg.rtd\", ,\"ContractData\",C65, \"LongDescription\",, \"T\")","v":"VOYA Financial, Inc."},{"$f":"RTD(\"cqg.rtd\", ,\"ContractData\",C65, \"Open\",, \"T\")","v":37.74},{"$f":"RTD(\"cqg.rtd\", ,\"ContractData\",C65, \"High\",, \"T\")","v":37.93},{"$f":"RTD(\"cqg.rtd\", ,\"ContractData\",C65, \"Low\",, \"T\")","v":36.869999999999997},{"$f":"RTD(\"cqg.rtd\", ,\"ContractData\",C65, \"LastTradeToday\",, \"T\")","v":37.340000000000003},{"$f":"RTD(\"cqg.rtd\", ,\"ContractData\",C65, \"NetLastTradeToday\",, \"T\")","v":0.38},{"$f":"RTD(\"cqg.rtd\", ,\"ContractData\",C65, \"PerCentNetLastTrade\",, \"T\")/100","v":1.0281385281385282E-2},{"$f":"RTD(\"cqg.rtd\", ,\"ContractData\", C65, \"T_CVol\",, \"T\")","v":1315498},65,{"$f":"RANK($J65,$J$1:J$71)+COUNTIF($J$1:J65,J65)-1","v":54},{"$f":"C65","v":"S.US.VOYA"},{"$f":"VLOOKUP($L65,$M$1:$N$71,2,FALSE)","v":"S.US.NTRS"},{"$f":"RTD(\"cqg.rtd\", ,\"ContractData\",O65, \"PerCentNetLastTrade\",, \"T\")/100","v":3.5174839644113386E-3},{"$f":"\"https://finance.yahoo.com/quote/\"&RIGHT(O65,(LEN(O65)-5))","v":"https://finance.yahoo.com/quote/NTRS"},null,{"$f":"IF(P65>=0,P65,NA())","v":3.5174839644113386E-3},{"$f":"IF(P65>=0,NA(),-1*P65)","v":{"$error":"#N/A"}},null,{"$f":"RTD(\"cqg.rtd\", ,\"ContractData\",O65, \"LongDescription\",, \"T\")","v":"Northern Trust Corp"},null,null,{"$f":"IFERROR(S65,P65)","v":3.5174839644113386E-3},null,{"$f":"IF(S65=\"NA()\",0,1)","v":1},{"$f":"IFERROR(AA65,0)","v":1},null,3.5174839644113386E-3,"",""]
["Washington Federal, Inc.","WAFD","S.US.WAFD",{"$f":"RTD(\"cqg.rtd\", ,\"ContractData\",C66, \"LongDescription\",, \"T\")","v":"Washington Federal, Inc."},{"$f":"RTD(\"cqg.rtd\", ,\"ContractData\",C66, \"Open\",, \"T\")","v":34.15},{"$f":"RTD(\"cqg.rtd\", ,\"ContractData\",C66, \"High\",, \"T\")","v":34.5},{"$f":"RTD(\"cqg.rtd\", ,\"ContractData\",C66, \"Low\",, \"T\")","v":33.200000000000003},{"$f":"RTD(\"cqg.rtd\", ,\"ContractData\",C66, \"LastTradeToday\",, \"T\")","v":33.450000000000003},{"$f":"RTD(\"cqg.rtd\", ,\"ContractData\",C66, \"NetLastTradeToday\",, \"T\")","v":-0.05},{"$f":"RTD(\"cqg.rtd\", ,\"ContractData\",C66, \"PerCentNetLastTrade\",, \"T\")/100","v":-1.4925373134328356E-3},{"$f":"RTD(\"cqg.rtd\", ,\"ContractData\", C66, \"T_CVol\",, \"T\")","v":844469},66,{"$f":"RANK($J66,$J$1:J$71)+COUNTIF($J$1:J66,J66)-1","v":67},"S.US.WAFD","S.US.FRC",{"$f":"RTD(\"cqg.rtd\", ,\"ContractData\",O66, \"PerCentNetLastTrade\",, \"T\")/100","v":-1.4894250819183796E-3},"https://finance.yahoo.com/quote/FRC",null,{"$error":"#N/A"},1.4894250819183796E-3,null,{"$f":"RTD(\"cqg.rtd\", ,\"ContractData\",O66, \"LongDescription\",, \"T\")","v":"First Republic Bank"},null,null,-1.4894250819183796E-3,null,{"$error":"#N/A"},0,null,"",1.4894250819183796E-3,-1.4894250819183796E-3]
["Western Alliance Bancorporation","WAL","S.US.WAL",{"$f":"RTD(\"cqg.rtd\", ,\"ContractData\",C67, \"LongDescription\",, \"T\")","v":"Western Alliance Bancorporation"},{"$f":"RTD(\"cqg.rtd\", ,\"ContractData\",C67, \"Open\",, \"T\")","v":49.63},{"$f":"RTD(\"cqg.rtd\", ,\"ContractData\",C67, \"High\",, \"T\")","v":50.21},{"$f":"RTD(\"cqg.rtd\", ,\"ContractData\",C67, \"Low\",, \"T\")","v":48.97},{"$f":"RTD(\"cqg.rtd\", ,\"ContractData\",C67, \"LastTradeToday\",, \"T\")","v":49.410000000000004},{"$f":"RTD(\"cqg.rtd\", ,\"ContractData\",C67, \"NetLastTradeToday\",, \"T\")","v":0.91},{"$f":"RTD(\"cqg.rtd\", ,\"ContractData\",C67, \"PerCentNetLastTrade\",, \"T\")/100","v":1.8762886597938143E-2},{"$f":"RTD(\"cqg.rtd\", ,\"ContractData\", C67, \"T_CVol\",, \"T\")","v":1063893},{"$f":"L66+1","v":67},{"$f":"RANK($J67,$J$1:J$71)+COUNTIF($J$1:J67,J67)-1","v":27},"S.US.WAL","S.US.WAFD",{"$f":"RTD(\"cqg.rtd\", ,\"ContractData\",O67, \"PerCentNetLastTrade\",, \"T\")/100","v":-1.4925373134328356E-3},"https://finance.yahoo.com/quote/WAFD",null,{"$error":"#N/A"},1.4925373134328356E-3,null,{"$f":"RTD(\"cqg.rtd\", ,\"ContractData\",O67, \"LongDescription\",, \"T\")","v":"Washington Federal, Inc."},null,null,-1.4925373134328356E-3,null,{"$error":"#N/A"},0,null,"",1.4925373134328356E-3,-1.4925373134328356E-3]
["Webster Financial Corp","WBS",{"$f":"\"S.US.\"&B68","v":"S.US.WBS"},{"$f":"RTD(\"cqg.rtd\", ,\"ContractData\",C68, \"LongDescription\",, \"T\")","v":"Webster Financial Corp"},{"$f":"RTD(\"cqg.rtd\", ,\"ContractData\",C68, \"Open\",, \"T\")","v":52.89},{"$f":"RTD(\"cqg.rtd\", ,\"ContractData\",C68, \"High\",, \"T\")","v":53.18},{"$f":"RTD(\"cqg.rtd\", ,\"ContractData\",C68, \"Low\",, \"T\")","v":51.480000000000004},{"$f":"RTD(\"cqg.rtd\", ,\"ContractData\",C68, \"LastTradeToday\",, \"T\")","v":52.370000000000005},{"$f":"RTD(\"cqg.rtd\", ,\"ContractData\",C68, \"NetLastTradeToday\",, \"T\")","v":1.06},{"$f":"RTD(\"cqg.rtd\", ,\"ContractData\",C68, \"PerCentNetLastTrade\",, \"T\")/100","v":2.0658740986162542E-2},{"$f":"RTD(\"cqg.rtd\", ,\"ContractData\", C68, \"T_CVol\",, \"T\")","v":1072491},68,{"$f":"RANK($J68,$J$1:J$71)+COUNTIF($J$1:J68,J68)-1","v":20},"S.US.WBS","S.US.CIT",{"$f":"RTD(\"cqg.rtd\", ,\"ContractData\",O68, \"PerCentNetLastTrade\",, \"T\")/100","v":-2.0571898786257972E-3},"https://finance.yahoo.com/quote/CIT",null,{"$f":"IF(P68>=0,P68,NA())","v":{"$error":"#N/A"}},{"$f":"IF(P68>=0,NA(),-1*P68)","v":2.0571898786257972E-3},null,{"$f":"RTD(\"cqg.rtd\", ,\"ContractData\",O68, \"LongDescription\",, \"T\")","v":"CIT Group Inc."},null,null,{"$f":"IFERROR(S68,P68)","v":-2.0571898786257972E-3},null,{"$f":"IF(S68=\"NA()\",0,1)","v":{"$error":"#N/A"}},{"$f":"IFERROR(AA68,0)","v":0},null,{"$f":"IFERROR(S68,\"\")","v":""},{"$f":"IFERROR(T68,\"\")","v":2.0571898786257972E-3},{"$f":"IF(AE68=\"\",\"\",Y68)","v":-2.0571898786257972E-3}]
["Wells Fargo & Co New","WFC","S.US.WFC",{"$f":"RTD(\"cqg.rtd\", ,\"ContractData\",C69, \"LongDescription\",, \"T\")","v":"Wells Fargo & Co New"},{"$f":"RTD(\"cqg.rtd\", ,\"ContractData\",C69, \"Open\",, \"T\")","v":55.65},{"$f":"RTD(\"cqg.rtd\", ,\"ContractData\",C69, \"High\",, \"T\")","v":56.6},{"$f":"RTD(\"cqg.rtd\", ,\"ContractData\",C69, \"Low\",, \"T\")","v":55.21},{"$f":"RTD(\"cqg.rtd\", ,\"ContractData\",C69, \"LastTradeToday\",, \"T\")","v":55.78},{"$f":"RTD(\"cqg.rtd\", ,\"ContractData\",C69, \"NetLastTradeToday\",, \"T\")","v":1.45},{"$f":"RTD(\"cqg.rtd\", ,\"ContractData\",C69, \"PerCentNetLastTrade\",, \"T\")/100","v":2.6688753911282902E-2},{"$f":"RTD(\"cqg.rtd\", ,\"ContractData\", C69, \"T_CVol\",, \"T\")","v":32339538},69,{"$f":"RANK($J69,$J$1:J$71)+COUNTIF($J$1:J69,J69)-1","v":8},"S.US.WFC","S.US.MTB",{"$f":"RTD(\"cqg.rtd\", ,\"ContractData\",O69, \"PerCentNetLastTrade\",, \"T\")/100","v":-2.9075162387875038E-3},"https://finance.yahoo.com/quote/MTB",null,{"$error":"#N/A"},2.9075162387875038E-3,null,{"$f":"RTD(\"cqg.rtd\", ,\"ContractData\",O69, \"LongDescription\",, \"T\")","v":"M&T Bank Corp"},null,null,{"$f":"IFERROR(S69,P69)","v":-2.9075162387875038E-3},null,{"$f":"IF(S69=\"NA()\",0,1)","v":{"$error":"#N/A"}},{"$f":"IFERROR(AA69,0)","v":0},null,{"$f":"IFERROR(S69,\"\")","v":""},{"$f":"IFERROR(T69,\"\")","v":2.9075162387875038E-3},{"$f":"IF(AE69=\"\",\"\",Y69)","v":-2.9075162387875038E-3}]
["Wintrust Financial Corp","WTFC","S.US.WTFC",{"$f":"RTD(\"cqg.rtd\", ,\"ContractData\",C70, \"LongDescription\",, \"T\")","v":"Wintrust Financial Corp"},{"$f":"RTD(\"cqg.rtd\", ,\"ContractData\",C70, \"Open\",, \"T\")","v":76.150000000000006},{"$f":"RTD(\"cqg.rtd\", ,\"ContractData\",C70, \"High\",, \"T\")","v":77.12},{"$f":"RTD(\"cqg.rtd\", ,\"ContractData\",C70, \"Low\",, \"T\")","v":75.37},{"$f":"RTD(\"cqg.rtd\", ,\"ContractData\",C70, \"LastTradeToday\",, \"T\")","v":77.03},{"$f":"RTD(\"cqg.rtd\", ,\"ContractData\",C70, \"NetLastTradeToday\",, \"T\")","v":2.17},{"$f":"RTD(\"cqg.rtd\", ,\"ContractData\",C70, \"PerCentNetLastTrade\",, \"T\")/100","v":2.8987443227357735E-2},{"$f":"RTD(\"cqg.rtd\", ,\"ContractData\", C70, \"T_CVol\",, \"T\")","v":519129},70,{"$f":"RANK($J70,$J$1:J$71)+COUNTIF($J$1:J70,J70)-1","v":3},"S.US.WTFC","S.US.USB",{"$f":"RTD(\"cqg.rtd\", ,\"ContractData\",O70, \"PerCentNetLastTrade\",, \"T\")/100","v":-3.8476337052712585E-3},"https://finance.yahoo.com/quote/USB",null,{"$error":"#N/A"},3.8476337052712585E-3,null,{"$f":"RTD(\"cqg.rtd\", ,\"ContractData\",O70, \"LongDescription\",, \"T\")","v":"U S Bancorp"},null,null,{"$f":"IFERROR(S70,P70)","v":-3.8476337052712585E-3},null,{"$f":"IF(S70=\"NA()\",0,1)","v":{"$error":"#N/A"}},{"$f":"IFERROR(AA70,0)","v":0},null,{"$f":"IFERROR(S70,\"\")","v":""},{"$f":"IFERROR(T70,\"\")","v":3.8476337052712585E-3},{"$f":"IF(AE70=\"\",\"\",Y70)","v":-3.8476337052712585E-3}]
["Zions Bancorp","ZION","S.US.ZION",{"$f":"RTD(\"cqg.rtd\", ,\"ContractData\",C71, \"LongDescription\",, \"T\")","v":"Zions Bancorp"},{"$f":"RTD(\"cqg.rtd\", ,\"ContractData\",C71, \"Open\",, \"T\")","v":44.410000000000004},{"$f":"RTD(\"cqg.rtd\", ,\"ContractData\",C71, \"High\",, \"T\")","v":44.85},{"$f":"RTD(\"cqg.rtd\", ,\"ContractData\",C71, \"Low\",, \"T\")","v":43.38},{"$f":"RTD(\"cqg.rtd\", ,\"ContractData\",C71, \"LastTradeToday\",, \"T\")","v":43.99},{"$f":"RTD(\"cqg.rtd\", ,\"ContractData\",C71, \"NetLastTradeToday\",, \"T\")","v":1.02},{"$f":"RTD(\"cqg.rtd\", ,\"ContractData\",C71, \"PerCentNetLastTrade\",, \"T\")/100","v":2.3737491272981148E-2},{"$f":"RTD(\"cqg.rtd\", ,\"ContractData\", C71, \"T_CVol\",, \"T\")","v":4442441},71,{"$f":"RANK($J71,$J$1:J$71)+COUNTIF($J$1:J71,J71)-1","v":12},"S.US.ZION","S.US.RDN",{"$f":"RTD(\"cqg.rtd\", ,\"ContractData\",O71, \"PerCentNetLastTrade\",, \"T\")/100","v":-8.5106382978723406E-3},"https://finance.yahoo.com/quote/RDN",null,{"$error":"#N/A"},8.5106382978723406E-3,null,{"$f":"RTD(\"cqg.rtd\", ,\"ContractData\",O71, \"LongDescription\",, \"T\")","v":"Radian Group"},null,null,{"$f":"IFERROR(S71,P71)","v":-8.5106382978723406E-3},null,{"$f":"IF(S71=\"NA()\",0,1)","v":{"$error":"#N/A"}},{"$f":"IFERROR(AA71,0)","v":0},null,{"$f":"IFERROR(S71,\"\")","v":""},{"$f":"IFERROR(T71,\"\")","v":8.5106382978723406E-3},{"$f":"IF(AE71=\"\",\"\",Y71)","v":-8.5106382978723406E-3}]
[null,null,null,null,null,null,null,null,null,null,null,null,null,null,null,null,null,null,null,null,null,null,null,null,null,null,null,{"$f":"SUM(AB1:AB71)/71","v":0.91549295774647887}]