{"text_format":"1","workbook":"xlsx","n_sheets":2,"sheets":["Display","IWF"],"not_rendered":{"charts":2,"images":3,"macros":1,"external_links":0,"defined_names":0,"comments":0,"pivot_tables":0},"unopened":[],"bounds":{"document_bytes":16777216,"sheet_cells":100000,"rows_first":2000,"rows_last":500,"rows_between":2000,"halvings":0,"cell_chars":16384,"cell_head_chars":4096},"cells_cut":0,"cells_raw":0,"read":"whole","date_system":"1900"}

{"sheet":"Display","index":0,"n_rows":52,"n_cols":28,"rows_kept":52,"cut":false,"hidden":false,"merged":[[48,25,48,30],[35,2,35,6],[35,14,35,15],[36,2,36,6],[36,14,36,15],[48,9,48,24],[46,2,46,6],[46,14,46,15],[47,2,47,6],[47,14,47,15],[37,2,37,6],[37,14,37,15],[38,2,38,6],[38,14,38,15],[39,2,39,6],[39,14,39,15],[44,2,44,6],[44,14,44,15],[45,2,45,6],[45,14,45,15],[40,2,40,6],[40,14,40,15],[42,2,42,6],[42,14,42,15],[41,2,41,6],[41,14,41,15],[43,2,43,6],[43,14,43,15],[31,2,31,6],[31,14,31,15],[33,2,33,6],[33,14,33,15],[34,2,34,6],[34,14,34,15],[32,2,32,6],[32,14,32,15],[28,2,28,6],[28,14,28,15],[29,2,29,6],[29,14,29,15],[30,2,30,6],[30,14,30,15],[25,2,25,6],[25,14,25,15],[26,2,26,6],[26,14,26,15],[27,2,27,6],[27,14,27,15],[22,2,22,6],[22,14,22,15],[23,2,23,6],[23,14,23,15],[24,2,24,6],[24,14,24,15],[5,14,5,15],[4,1,4,16],[18,2,18,6],[18,14,18,15],[19,2,19,6],[19,14,19,15],[16,2,16,6],[16,14,16,15],[1,1,2,4],[1,27,2,30],[1,5,2,26],[4,18,4,30],[17,2,17,6],[17,14,17,15],[15,2,15,6],[5,2,5,6],[15,14,15,15],[14,14,14,15],[13,14,13,15],[12,14,12,15],[11,14,11,15],[10,14,10,15],[9,14,9,15],[9,2,9,6],[26,18,26,30],[6,2,6,6],[7,2,7,6],[8,2,8,6],[14,2,14,6],[10,2,10,6],[11,2,11,6],[12,2,12,6],[13,2,13,6],[8,14,8,15],[7,14,7,15],[6,14,6,15],[20,2,20,6],[20,14,20,15],[21,2,21,6],[21,14,21,15]]}
[]
[null,null,null,null,null,"CQG iShares Russell 1000® Growth ETF Performance",null,null,null,null,null,null,null,null,null,null,null,null,null,null,null,null,null,null,null,null,null,{"$f":"RTD(\"cqg.rtd\", ,\"SystemInfo\", \"Linetime\")","v":42879.55944444445}]
[]
[]
[null,"Exchange Traded Funds Performance",null,null,null,null,null,null,null,null,null,null,null,null,null,null,null,null,"Top 15 Performing Companies "]
[null,"Symbol","Description",null,null,null,null,"Last","NC","%NC","NC/ATR","Open","High","Low","Volume",null,"Ratio"]
[null,"IWF",{"$f":"RTD(\"cqg.rtd\", ,\"ContractData\",B7, \"LongDescription\",, \"T\")","v":"iShares Russell 1000 Growth ETF"},null,null,null,null,{"$f":"RTD(\"cqg.rtd\", ,\"ContractData\",B7, \"LastTradeToday\",, \"T\")","v":118.19},{"$f":"RTD(\"cqg.rtd\", ,\"ContractData\",B7, \"NetLastTradeToday\",, \"T\")","v":0.39},{"$f":"RTD(\"cqg.rtd\", ,\"ContractData\",B7, \"PerCentNetLastTrade\",, \"T\")/100","v":3.3106960950764009E-3},{"$f":" I7/RTD(\"cqg.rtd\",,\"StudyData\",B7, \"ATR\", \"MaType=Sim,Period=10\", \"ATR\",\"D\",\"-1\",\"ALL\",,,\"FALSE\",\"T\")/100","v":4.7619047619047623E-3},{"$f":"RTD(\"cqg.rtd\", ,\"ContractData\",B7, \"OPen\",, \"T\")","v":117.98},{"$f":"RTD(\"cqg.rtd\", ,\"ContractData\", B7, \"HIgh\",, \"T\")","v":118.23},{"$f":"RTD(\"cqg.rtd\", ,\"ContractData\",B7, \"LOw\",, \"T\")","v":117.8},{"$f":"RTD(\"cqg.rtd\", ,\"ContractData\",B7, \"T_CVol\",, \"T\")","v":470038},null,{"$f":" IFERROR(O7/RTD(\"cqg.rtd\",,\"StudyData\",B7, \"MA\", \"InputChoice=Vol,MAType=Sim,Period=21\", \"MA\",\"D\",\"-1\",\"all\",,,,\"T\"),\"\")","v":0.3449984528751851}]
[null,"SPY",{"$f":"RTD(\"cqg.rtd\", ,\"ContractData\",B8, \"LongDescription\",, \"T\")","v":"SPDR S&P 500"},null,null,null,null,{"$f":"RTD(\"cqg.rtd\", ,\"ContractData\",B8, \"LastTradeToday\",, \"T\")","v":240.38},{"$f":"RTD(\"cqg.rtd\", ,\"ContractData\",B8, \"NetLastTradeToday\",, \"T\")","v":0.33},{"$f":"RTD(\"cqg.rtd\", ,\"ContractData\",B8, \"PerCentNetLastTrade\",, \"T\")/100","v":1.3747136013330555E-3},{"$f":" I8/RTD(\"cqg.rtd\",,\"StudyData\",B8, \"ATR\", \"MaType=Sim,Period=10\", \"ATR\",\"D\",\"-1\",\"ALL\",,,\"FALSE\",\"T\")/100","v":1.9666269368295592E-3},{"$f":"RTD(\"cqg.rtd\", ,\"ContractData\",B8, \"OPen\",, \"T\")","v":240.32},{"$f":"RTD(\"cqg.rtd\", ,\"ContractData\", B8, \"HIgh\",, \"T\")","v":240.53},{"$f":"RTD(\"cqg.rtd\", ,\"ContractData\",B8, \"LOw\",, \"T\")","v":239.93},{"$f":"RTD(\"cqg.rtd\", ,\"ContractData\",B8, \"T_CVol\",, \"T\")","v":22799374},null,{"$f":" IFERROR(O8/RTD(\"cqg.rtd\",,\"StudyData\",B8, \"MA\", \"InputChoice=Vol,MAType=Sim,Period=21\", \"MA\",\"D\",\"-1\",\"all\",,,,\"T\"),\"\")","v":0.32187447669801678}]
[null,"XLF",{"$f":"RTD(\"cqg.rtd\", ,\"ContractData\",B9, \"LongDescription\",, \"T\")","v":"Financial Select Sector SPDR"},null,null,null,null,{"$f":"RTD(\"cqg.rtd\", ,\"ContractData\",B9, \"LastTradeToday\",, \"T\")","v":23.53},{"$f":"RTD(\"cqg.rtd\", ,\"ContractData\",B9, \"NetLastTradeToday\",, \"T\")","v":-0.06},{"$f":"RTD(\"cqg.rtd\", ,\"ContractData\",B9, \"PerCentNetLastTrade\",, \"T\")/100","v":-2.5434506146672321E-3},{"$f":" I9/RTD(\"cqg.rtd\",,\"StudyData\",B9, \"ATR\", \"MaType=Sim,Period=10\", \"ATR\",\"D\",\"-1\",\"ALL\",,,\"FALSE\",\"T\")/100","v":-1.8987341772151898E-3},{"$f":"RTD(\"cqg.rtd\", ,\"ContractData\",B9, \"OPen\",, \"T\")","v":23.62},{"$f":"RTD(\"cqg.rtd\", ,\"ContractData\", B9, \"HIgh\",, \"T\")","v":23.64},{"$f":"RTD(\"cqg.rtd\", ,\"ContractData\",B9, \"LOw\",, \"T\")","v":23.47},{"$f":"RTD(\"cqg.rtd\", ,\"ContractData\",B9, \"T_CVol\",, \"T\")","v":38548921},null,{"$f":" IFERROR(O9/RTD(\"cqg.rtd\",,\"StudyData\",B9, \"MA\", \"InputChoice=Vol,MAType=Sim,Period=21\", \"MA\",\"D\",\"-1\",\"all\",,,,\"T\"),\"\")","v":0.55158488109739456}]
[null,"GDX",{"$f":"RTD(\"cqg.rtd\", ,\"ContractData\",B10, \"LongDescription\",, \"T\")","v":"Market Vectors Gold Miners ETF"},null,null,null,null,{"$f":"RTD(\"cqg.rtd\", ,\"ContractData\",B10, \"LastTradeToday\",, \"T\")","v":22.71},{"$f":"RTD(\"cqg.rtd\", ,\"ContractData\",B10, \"NetLastTradeToday\",, \"T\")","v":7.0000000000000007E-2},{"$f":"RTD(\"cqg.rtd\", ,\"ContractData\",B10, \"PerCentNetLastTrade\",, \"T\")/100","v":3.0918727915194345E-3},{"$f":" I10/RTD(\"cqg.rtd\",,\"StudyData\",B10, \"ATR\", \"MaType=Sim,Period=10\", \"ATR\",\"D\",\"-1\",\"ALL\",,,\"FALSE\",\"T\")/100","v":1.2237762237762239E-3},{"$f":"RTD(\"cqg.rtd\", ,\"ContractData\",B10, \"OPen\",, \"T\")","v":22.57},{"$f":"RTD(\"cqg.rtd\", ,\"ContractData\", B10, \"HIgh\",, \"T\")","v":22.85},{"$f":"RTD(\"cqg.rtd\", ,\"ContractData\",B10, \"LOw\",, \"T\")","v":22.2},{"$f":"RTD(\"cqg.rtd\", ,\"ContractData\",B10, \"T_CVol\",, \"T\")","v":31417797},null,{"$f":" IFERROR(O10/RTD(\"cqg.rtd\",,\"StudyData\",B10, \"MA\", \"InputChoice=Vol,MAType=Sim,Period=21\", \"MA\",\"D\",\"-1\",\"all\",,,,\"T\"),\"\")","v":0.53367378638215313}]
[null,"FXI",{"$f":"RTD(\"cqg.rtd\", ,\"ContractData\",B11, \"LongDescription\",, \"T\")","v":"iShares China Large-Cap ETF"},null,null,null,null,{"$f":"RTD(\"cqg.rtd\", ,\"ContractData\",B11, \"LastTradeToday\",, \"T\")","v":39.64},{"$f":"RTD(\"cqg.rtd\", ,\"ContractData\",B11, \"NetLastTradeToday\",, \"T\")","v":0.06},{"$f":"RTD(\"cqg.rtd\", ,\"ContractData\",B11, \"PerCentNetLastTrade\",, \"T\")/100","v":1.5159171298635673E-3},{"$f":" I11/RTD(\"cqg.rtd\",,\"StudyData\",B11, \"ATR\", \"MaType=Sim,Period=10\", \"ATR\",\"D\",\"-1\",\"ALL\",,,\"FALSE\",\"T\")/100","v":1.4925373134328356E-3},{"$f":"RTD(\"cqg.rtd\", ,\"ContractData\",B11, \"OPen\",, \"T\")","v":39.58},{"$f":"RTD(\"cqg.rtd\", ,\"ContractData\", B11, \"HIgh\",, \"T\")","v":39.68},{"$f":"RTD(\"cqg.rtd\", ,\"ContractData\",B11, \"LOw\",, \"T\")","v":39.550000000000004},{"$f":"RTD(\"cqg.rtd\", ,\"ContractData\",B11, \"T_CVol\",, \"T\")","v":5238463},null,{"$f":" IFERROR(O11/RTD(\"cqg.rtd\",,\"StudyData\",B11, \"MA\", \"InputChoice=Vol,MAType=Sim,Period=21\", \"MA\",\"D\",\"-1\",\"all\",,,,\"T\"),\"\")","v":0.31753369736997344}]
[null,"IWF",{"$f":"RTD(\"cqg.rtd\", ,\"ContractData\",B12, \"LongDescription\",, \"T\")","v":"iShares Russell 1000 Growth ETF"},null,null,null,null,{"$f":"RTD(\"cqg.rtd\", ,\"ContractData\",B12, \"LastTradeToday\",, \"T\")","v":118.19},{"$f":"RTD(\"cqg.rtd\", ,\"ContractData\",B12, \"NetLastTradeToday\",, \"T\")","v":0.39},{"$f":"RTD(\"cqg.rtd\", ,\"ContractData\",B12, \"PerCentNetLastTrade\",, \"T\")/100","v":3.3106960950764009E-3},{"$f":" I12/RTD(\"cqg.rtd\",,\"StudyData\",B12, \"ATR\", \"MaType=Sim,Period=10\", \"ATR\",\"D\",\"-1\",\"ALL\",,,\"FALSE\",\"T\")/100","v":4.7619047619047623E-3},{"$f":"RTD(\"cqg.rtd\", ,\"ContractData\",B12, \"OPen\",, \"T\")","v":117.98},{"$f":"RTD(\"cqg.rtd\", ,\"ContractData\", B12, \"HIgh\",, \"T\")","v":118.23},{"$f":"RTD(\"cqg.rtd\", ,\"ContractData\",B12, \"LOw\",, \"T\")","v":117.8},{"$f":"RTD(\"cqg.rtd\", ,\"ContractData\",B12, \"T_CVol\",, \"T\")","v":470038},null,{"$f":" IFERROR(O12/RTD(\"cqg.rtd\",,\"StudyData\",B12, \"MA\", \"InputChoice=Vol,MAType=Sim,Period=21\", \"MA\",\"D\",\"-1\",\"all\",,,,\"T\"),\"\")","v":0.3449984528751851}]
[null,"IWO",{"$f":"RTD(\"cqg.rtd\", ,\"ContractData\",B13, \"LongDescription\",, \"T\")","v":"iShares Russell 2000 Growth ETF"},null,null,null,null,{"$f":"RTD(\"cqg.rtd\", ,\"ContractData\",B13, \"LastTradeToday\",, \"T\")","v":164},{"$f":"RTD(\"cqg.rtd\", ,\"ContractData\",B13, \"NetLastTradeToday\",, \"T\")","v":0.42},{"$f":"RTD(\"cqg.rtd\", ,\"ContractData\",B13, \"PerCentNetLastTrade\",, \"T\")/100","v":2.5675510453600685E-3},{"$f":" I13/RTD(\"cqg.rtd\",,\"StudyData\",B13, \"ATR\", \"MaType=Sim,Period=10\", \"ATR\",\"D\",\"-1\",\"ALL\",,,\"FALSE\",\"T\")/100","v":2.0527859237536657E-3},{"$f":"RTD(\"cqg.rtd\", ,\"ContractData\",B13, \"OPen\",, \"T\")","v":163.68},{"$f":"RTD(\"cqg.rtd\", ,\"ContractData\", B13, \"HIgh\",, \"T\")","v":164.43},{"$f":"RTD(\"cqg.rtd\", ,\"ContractData\",B13, \"LOw\",, \"T\")","v":163.32},{"$f":"RTD(\"cqg.rtd\", ,\"ContractData\",B13, \"T_CVol\",, \"T\")","v":348318},null,{"$f":" IFERROR(O13/RTD(\"cqg.rtd\",,\"StudyData\",B13, \"MA\", \"InputChoice=Vol,MAType=Sim,Period=21\", \"MA\",\"D\",\"-1\",\"all\",,,,\"T\"),\"\")","v":0.70995419987211661}]
[null,"EP",{"$f":"RTD(\"cqg.rtd\", ,\"ContractData\",B14, \"LongDescription\",, \"T\")","v":"E-Mini S&P 500, Jun 17"},null,null,null,null,{"$f":"RTD(\"cqg.rtd\", ,\"ContractData\",B14, \"LastTradeToday\",, \"T\")","v":2400.5},{"$f":"RTD(\"cqg.rtd\", ,\"ContractData\",B14, \"NetLastTradeToday\",, \"T\")","v":2.5},{"$f":"RTD(\"cqg.rtd\", ,\"ContractData\",B14, \"PerCentNetLastTrade\",, \"T\")/100","v":1.0425354462051709E-3},{"$f":" I14/RTD(\"cqg.rtd\",,\"StudyData\",B14, \"ATR\", \"MaType=Sim,Period=10\", \"ATR\",\"D\",\"-1\",\"ALL\",,,\"FALSE\",\"T\")/100","v":1.3368983957219253E-3},{"$f":"RTD(\"cqg.rtd\", ,\"ContractData\",B14, \"OPen\",, \"T\")","v":2397},{"$f":"RTD(\"cqg.rtd\", ,\"ContractData\", B14, \"HIgh\",, \"T\")","v":2402},{"$f":"RTD(\"cqg.rtd\", ,\"ContractData\",B14, \"LOw\",, \"T\")","v":2394.75},{"$f":"RTD(\"cqg.rtd\", ,\"ContractData\",B14, \"T_CVol\",, \"T\")","v":649561},null,{"$f":" IFERROR(O14/RTD(\"cqg.rtd\",,\"StudyData\",B14, \"MA\", \"InputChoice=Vol,MAType=Sim,Period=21\", \"MA\",\"D\",\"-1\",\"all\",,,,\"T\"),\"\")","v":0.50116341143417498}]
[null,"XLE",{"$f":"RTD(\"cqg.rtd\", ,\"ContractData\",B15, \"LongDescription\",, \"T\")","v":"Energy Select Sector SPDR"},null,null,null,null,{"$f":"RTD(\"cqg.rtd\", ,\"ContractData\",B15, \"LastTradeToday\",, \"T\")","v":67.61},{"$f":"RTD(\"cqg.rtd\", ,\"ContractData\",B15, \"NetLastTradeToday\",, \"T\")","v":-0.48},{"$f":"RTD(\"cqg.rtd\", ,\"ContractData\",B15, \"PerCentNetLastTrade\",, \"T\")/100","v":-7.0494933176677918E-3},{"$f":" I15/RTD(\"cqg.rtd\",,\"StudyData\",B15, \"ATR\", \"MaType=Sim,Period=10\", \"ATR\",\"D\",\"-1\",\"ALL\",,,\"FALSE\",\"T\")/100","v":-5.8536585365853658E-3},{"$f":"RTD(\"cqg.rtd\", ,\"ContractData\",B15, \"OPen\",, \"T\")","v":68.010000000000005},{"$f":"RTD(\"cqg.rtd\", ,\"ContractData\", B15, \"HIgh\",, \"T\")","v":68.22},{"$f":"RTD(\"cqg.rtd\", ,\"ContractData\",B15, \"LOw\",, \"T\")","v":67.5},{"$f":"RTD(\"cqg.rtd\", ,\"ContractData\",B15, \"T_CVol\",, \"T\")","v":8030765},null,{"$f":" IFERROR(O15/RTD(\"cqg.rtd\",,\"StudyData\",B15, \"MA\", \"InputChoice=Vol,MAType=Sim,Period=21\", \"MA\",\"D\",\"-1\",\"all\",,,,\"T\"),\"\")","v":0.51928341207627127}]
[null,"USO",{"$f":"RTD(\"cqg.rtd\", ,\"ContractData\",B16, \"LongDescription\",, \"T\")","v":"United States Oil Fund"},null,null,null,null,{"$f":"RTD(\"cqg.rtd\", ,\"ContractData\",B16, \"LastTradeToday\",, \"T\")","v":10.6},{"$f":"RTD(\"cqg.rtd\", ,\"ContractData\",B16, \"NetLastTradeToday\",, \"T\")","v":-0.05},{"$f":"RTD(\"cqg.rtd\", ,\"ContractData\",B16, \"PerCentNetLastTrade\",, \"T\")/100","v":-4.6948356807511738E-3},{"$f":" I16/RTD(\"cqg.rtd\",,\"StudyData\",B16, \"ATR\", \"MaType=Sim,Period=10\", \"ATR\",\"D\",\"-1\",\"ALL\",,,\"FALSE\",\"T\")/100","v":-2.3148148148148151E-3},{"$f":"RTD(\"cqg.rtd\", ,\"ContractData\",B16, \"OPen\",, \"T\")","v":10.620000000000001},{"$f":"RTD(\"cqg.rtd\", ,\"ContractData\", B16, \"HIgh\",, \"T\")","v":10.700000000000001},{"$f":"RTD(\"cqg.rtd\", ,\"ContractData\",B16, \"LOw\",, \"T\")","v":10.540000000000001},{"$f":"RTD(\"cqg.rtd\", ,\"ContractData\",B16, \"T_CVol\",, \"T\")","v":22444185},null,{"$f":" IFERROR(O16/RTD(\"cqg.rtd\",,\"StudyData\",B16, \"MA\", \"InputChoice=Vol,MAType=Sim,Period=21\", \"MA\",\"D\",\"-1\",\"all\",,,,\"T\"),\"\")","v":0.7810730768243348}]
[null,null,"Top 15 Description",null,null,null,null,"Last","NC","%NC","NC/ATR","Open","High","Low","Volume",null,"Ratio"]
[{"$f":"TRIM(IWF!O1)","v":"S.US.INTU"},"News",{"$f":"RTD(\"cqg.rtd\", ,\"ContractData\",A18, \"LongDescription\",, \"T\")&\" (\"&RIGHT(A18,LEN(A18)-5)&\")\"","v":"Intuit Corp (INTU)"},null,null,null,null,{"$f":"RTD(\"cqg.rtd\", ,\"ContractData\",A18, \"LastTradeToday\",, \"T\")","v":138.18},{"$f":"RTD(\"cqg.rtd\", ,\"ContractData\",A18, \"NetLastTradeToday\",, \"T\")","v":9.0299999999999994},{"$f":"RTD(\"cqg.rtd\", ,\"ContractData\",A18, \"PerCentNetLastTrade\",, \"T\")/100","v":6.9918699186991867E-2},{"$f":" I18/RTD(\"cqg.rtd\",,\"StudyData\",A18, \"ATR\", \"MaType=Sim,Period=10\", \"ATR\",\"D\",\"-1\",\"ALL\",,,\"FALSE\",\"T\")/100","v":5.6935687263556113E-2},{"$f":"RTD(\"cqg.rtd\", ,\"ContractData\",A18, \"OPen\",, \"T\")","v":139.71},{"$f":"RTD(\"cqg.rtd\", ,\"ContractData\", A18, \"HIgh\",, \"T\")","v":140.25},{"$f":"RTD(\"cqg.rtd\", ,\"ContractData\",A18, \"LOw\",, \"T\")","v":136.41},{"$f":"RTD(\"cqg.rtd\", ,\"ContractData\",A18, \"T_CVol\",, \"T\")","v":4085719},null,{"$f":" IFERROR(O18/RTD(\"cqg.rtd\",,\"StudyData\",A18, \"MA\", \"InputChoice=Vol,MAType=Sim,Period=21\", \"MA\",\"D\",\"-1\",\"all\",,,,\"T\"),\"\")","v":2.372672830280997},{"$f":"IWF!Q1","v":"https://finance.yahoo.com/quote/INTU"}]
[{"$f":"TRIM(IWF!O2)","v":"S.US.RAD"},"News",{"$f":"RTD(\"cqg.rtd\", ,\"ContractData\",A19, \"LongDescription\",, \"T\")&\" (\"&RIGHT(A19,LEN(A19)-5)&\")\"","v":"Rite Aid Corp (RAD)"},null,null,null,null,{"$f":"RTD(\"cqg.rtd\", ,\"ContractData\",A19, \"LastTradeToday\",, \"T\")","v":3.75},{"$f":"RTD(\"cqg.rtd\", ,\"ContractData\",A19, \"NetLastTradeToday\",, \"T\")","v":0.21},{"$f":"RTD(\"cqg.rtd\", ,\"ContractData\",A19, \"PerCentNetLastTrade\",, \"T\")/100","v":5.9322033898305086E-2},{"$f":" I19/RTD(\"cqg.rtd\",,\"StudyData\",A19, \"ATR\", \"MaType=Sim,Period=10\", \"ATR\",\"D\",\"-1\",\"ALL\",,,\"FALSE\",\"T\")/100","v":8.677685950413223E-3},{"$f":"RTD(\"cqg.rtd\", ,\"ContractData\",A19, \"OPen\",, \"T\")","v":3.54},{"$f":"RTD(\"cqg.rtd\", ,\"ContractData\", A19, \"HIgh\",, \"T\")","v":3.77},{"$f":"RTD(\"cqg.rtd\", ,\"ContractData\",A19, \"LOw\",, \"T\")","v":3.54},{"$f":"RTD(\"cqg.rtd\", ,\"ContractData\",A19, \"T_CVol\",, \"T\")","v":13488559},null,{"$f":" IFERROR(O19/RTD(\"cqg.rtd\",,\"StudyData\",A19, \"MA\", \"InputChoice=Vol,MAType=Sim,Period=21\", \"MA\",\"D\",\"-1\",\"all\",,,,\"T\"),\"\")","v":0.82773216277259554},{"$f":"IWF!Q2","v":"https://finance.yahoo.com/quote/RAD"}]
[{"$f":"TRIM(IWF!O3)","v":"S.US.ATHN"},"News",{"$f":"RTD(\"cqg.rtd\", ,\"ContractData\",A20, \"LongDescription\",, \"T\")&\" (\"&RIGHT(A20,LEN(A20)-5)&\")\"","v":"Athenahelth Inc (ATHN)"},null,null,null,null,{"$f":"RTD(\"cqg.rtd\", ,\"ContractData\",A20, \"LastTradeToday\",, \"T\")","v":138},{"$f":"RTD(\"cqg.rtd\", ,\"ContractData\",A20, \"NetLastTradeToday\",, \"T\")","v":5.94},{"$f":"RTD(\"cqg.rtd\", ,\"ContractData\",A20, \"PerCentNetLastTrade\",, \"T\")/100","v":4.4979554747841891E-2},{"$f":" I20/RTD(\"cqg.rtd\",,\"StudyData\",A20, \"ATR\", \"MaType=Sim,Period=10\", \"ATR\",\"D\",\"-1\",\"ALL\",,,\"FALSE\",\"T\")/100","v":1.1692913385826773E-2},{"$f":"RTD(\"cqg.rtd\", ,\"ContractData\",A20, \"OPen\",, \"T\")","v":131.75},{"$f":"RTD(\"cqg.rtd\", ,\"ContractData\", A20, \"HIgh\",, \"T\")","v":138.42000000000002},{"$f":"RTD(\"cqg.rtd\", ,\"ContractData\",A20, \"LOw\",, \"T\")","v":131.68},{"$f":"RTD(\"cqg.rtd\", ,\"ContractData\",A20, \"T_CVol\",, \"T\")","v":629381},null,{"$f":" IFERROR(O20/RTD(\"cqg.rtd\",,\"StudyData\",A20, \"MA\", \"InputChoice=Vol,MAType=Sim,Period=21\", \"MA\",\"D\",\"-1\",\"all\",,,,\"T\"),\"\")","v":0.50971456025350359},{"$f":"IWF!Q3","v":"https://finance.yahoo.com/quote/ATHN"}]
[{"$f":"TRIM(IWF!O4)","v":"S.US.IONS"},"News",{"$f":"RTD(\"cqg.rtd\", ,\"ContractData\",A21, \"LongDescription\",, \"T\")&\" (\"&RIGHT(A21,LEN(A21)-5)&\")\"","v":"Ionis Pharmaceuticals, Inc.  (IONS)"},null,null,null,null,{"$f":"RTD(\"cqg.rtd\", ,\"ContractData\",A21, \"LastTradeToday\",, \"T\")","v":47},{"$f":"RTD(\"cqg.rtd\", ,\"ContractData\",A21, \"NetLastTradeToday\",, \"T\")","v":1.86},{"$f":"RTD(\"cqg.rtd\", ,\"ContractData\",A21, \"PerCentNetLastTrade\",, \"T\")/100","v":4.1205139565795301E-2},{"$f":" I21/RTD(\"cqg.rtd\",,\"StudyData\",A21, \"ATR\", \"MaType=Sim,Period=10\", \"ATR\",\"D\",\"-1\",\"ALL\",,,\"FALSE\",\"T\")/100","v":6.7099567099567102E-3},{"$f":"RTD(\"cqg.rtd\", ,\"ContractData\",A21, \"OPen\",, \"T\")","v":45.35},{"$f":"RTD(\"cqg.rtd\", ,\"ContractData\", A21, \"HIgh\",, \"T\")","v":47.230000000000004},{"$f":"RTD(\"cqg.rtd\", ,\"ContractData\",A21, \"LOw\",, \"T\")","v":44.71},{"$f":"RTD(\"cqg.rtd\", ,\"ContractData\",A21, \"T_CVol\",, \"T\")","v":900883},null,{"$f":" IFERROR(O21/RTD(\"cqg.rtd\",,\"StudyData\",A21, \"MA\", \"InputChoice=Vol,MAType=Sim,Period=21\", \"MA\",\"D\",\"-1\",\"all\",,,,\"T\"),\"\")","v":0.47987773741934242},{"$f":"IWF!Q4","v":"https://finance.yahoo.com/quote/IONS"}]
[{"$f":"TRIM(IWF!O5)","v":"S.US.ICPT"},"News",{"$f":"RTD(\"cqg.rtd\", ,\"ContractData\",A22, \"LongDescription\",, \"T\")&\" (\"&RIGHT(A22,LEN(A22)-5)&\")\"","v":"Intercept Pharmaceuticals, Inc. (ICPT)"},null,null,null,null,{"$f":"RTD(\"cqg.rtd\", ,\"ContractData\",A22, \"LastTradeToday\",, \"T\")","v":117.42},{"$f":"RTD(\"cqg.rtd\", ,\"ContractData\",A22, \"NetLastTradeToday\",, \"T\")","v":4.43},{"$f":"RTD(\"cqg.rtd\", ,\"ContractData\",A22, \"PerCentNetLastTrade\",, \"T\")/100","v":3.9207009469864593E-2},{"$f":" I22/RTD(\"cqg.rtd\",,\"StudyData\",A22, \"ATR\", \"MaType=Sim,Period=10\", \"ATR\",\"D\",\"-1\",\"ALL\",,,\"FALSE\",\"T\")/100","v":1.24020156774916E-2},{"$f":"RTD(\"cqg.rtd\", ,\"ContractData\",A22, \"OPen\",, \"T\")","v":113.41},{"$f":"RTD(\"cqg.rtd\", ,\"ContractData\", A22, \"HIgh\",, \"T\")","v":118.60000000000001},{"$f":"RTD(\"cqg.rtd\", ,\"ContractData\",A22, \"LOw\",, \"T\")","v":112.5},{"$f":"RTD(\"cqg.rtd\", ,\"ContractData\",A22, \"T_CVol\",, \"T\")","v":304784},null,{"$f":" IFERROR(O22/RTD(\"cqg.rtd\",,\"StudyData\",A22, \"MA\", \"InputChoice=Vol,MAType=Sim,Period=21\", \"MA\",\"D\",\"-1\",\"all\",,,,\"T\"),\"\")","v":0.89866301274311189},{"$f":"IWF!Q5","v":"https://finance.yahoo.com/quote/ICPT"}]
[{"$f":"TRIM(IWF!O6)","v":"S.US.NTNX"},"News",{"$f":"RTD(\"cqg.rtd\", ,\"ContractData\",A23, \"LongDescription\",, \"T\")&\" (\"&RIGHT(A23,LEN(A23)-5)&\")\"","v":"Nutanix, Inc. Class A (NTNX)"},null,null,null,null,{"$f":"RTD(\"cqg.rtd\", ,\"ContractData\",A23, \"LastTradeToday\",, \"T\")","v":17.66},{"$f":"RTD(\"cqg.rtd\", ,\"ContractData\",A23, \"NetLastTradeToday\",, \"T\")","v":0.64},{"$f":"RTD(\"cqg.rtd\", ,\"ContractData\",A23, \"PerCentNetLastTrade\",, \"T\")/100","v":3.7602820211515862E-2},{"$f":" I23/RTD(\"cqg.rtd\",,\"StudyData\",A23, \"ATR\", \"MaType=Sim,Period=10\", \"ATR\",\"D\",\"-1\",\"ALL\",,,\"FALSE\",\"T\")/100","v":7.1588366890380315E-3},{"$f":"RTD(\"cqg.rtd\", ,\"ContractData\",A23, \"OPen\",, \"T\")","v":17.150000000000002},{"$f":"RTD(\"cqg.rtd\", ,\"ContractData\", A23, \"HIgh\",, \"T\")","v":17.86},{"$f":"RTD(\"cqg.rtd\", ,\"ContractData\",A23, \"LOw\",, \"T\")","v":17.03},{"$f":"RTD(\"cqg.rtd\", ,\"ContractData\",A23, \"T_CVol\",, \"T\")","v":2201421},null,{"$f":" IFERROR(O23/RTD(\"cqg.rtd\",,\"StudyData\",A23, \"MA\", \"InputChoice=Vol,MAType=Sim,Period=21\", \"MA\",\"D\",\"-1\",\"all\",,,,\"T\"),\"\")","v":0.91926758678980725},{"$f":"IWF!Q6","v":"https://finance.yahoo.com/quote/NTNX"}]
[{"$f":"TRIM(IWF!O7)","v":"S.US.TCO"},"News",{"$f":"RTD(\"cqg.rtd\", ,\"ContractData\",A24, \"LongDescription\",, \"T\")&\" (\"&RIGHT(A24,LEN(A24)-5)&\")\"","v":"Taubman Centers Inc (TCO)"},null,null,null,null,{"$f":"RTD(\"cqg.rtd\", ,\"ContractData\",A24, \"LastTradeToday\",, \"T\")","v":63.27},{"$f":"RTD(\"cqg.rtd\", ,\"ContractData\",A24, \"NetLastTradeToday\",, \"T\")","v":2.25},{"$f":"RTD(\"cqg.rtd\", ,\"ContractData\",A24, \"PerCentNetLastTrade\",, \"T\")/100","v":3.687315634218289E-2},{"$f":" I24/RTD(\"cqg.rtd\",,\"StudyData\",A24, \"ATR\", \"MaType=Sim,Period=10\", \"ATR\",\"D\",\"-1\",\"ALL\",,,\"FALSE\",\"T\")/100","v":1.6828721017202692E-2},{"$f":"RTD(\"cqg.rtd\", ,\"ContractData\",A24, \"OPen\",, \"T\")","v":61.4},{"$f":"RTD(\"cqg.rtd\", ,\"ContractData\", A24, \"HIgh\",, \"T\")","v":63.56},{"$f":"RTD(\"cqg.rtd\", ,\"ContractData\",A24, \"LOw\",, \"T\")","v":61.31},{"$f":"RTD(\"cqg.rtd\", ,\"ContractData\",A24, \"T_CVol\",, \"T\")","v":639695},null,{"$f":" IFERROR(O24/RTD(\"cqg.rtd\",,\"StudyData\",A24, \"MA\", \"InputChoice=Vol,MAType=Sim,Period=21\", \"MA\",\"D\",\"-1\",\"all\",,,,\"T\"),\"\")","v":1.3185991096390088},{"$f":"IWF!Q7","v":"https://finance.yahoo.com/quote/TCO"}]
[{"$f":"TRIM(IWF!O8)","v":"S.US.MAT"},"News",{"$f":"RTD(\"cqg.rtd\", ,\"ContractData\",A25, \"LongDescription\",, \"T\")&\" (\"&RIGHT(A25,LEN(A25)-5)&\")\"","v":"Mattel Inc (MAT)"},null,null,null,null,{"$f":"RTD(\"cqg.rtd\", ,\"ContractData\",A25, \"LastTradeToday\",, \"T\")","v":22.490000000000002},{"$f":"RTD(\"cqg.rtd\", ,\"ContractData\",A25, \"NetLastTradeToday\",, \"T\")","v":0.74},{"$f":"RTD(\"cqg.rtd\", ,\"ContractData\",A25, \"PerCentNetLastTrade\",, \"T\")/100","v":3.4022988505747122E-2},{"$f":" I25/RTD(\"cqg.rtd\",,\"StudyData\",A25, \"ATR\", \"MaType=Sim,Period=10\", \"ATR\",\"D\",\"-1\",\"ALL\",,,\"FALSE\",\"T\")/100","v":1.5546218487394958E-2},{"$f":"RTD(\"cqg.rtd\", ,\"ContractData\",A25, \"OPen\",, \"T\")","v":21.91},{"$f":"RTD(\"cqg.rtd\", ,\"ContractData\", A25, \"HIgh\",, \"T\")","v":22.490000000000002},{"$f":"RTD(\"cqg.rtd\", ,\"ContractData\",A25, \"LOw\",, \"T\")","v":21.86},{"$f":"RTD(\"cqg.rtd\", ,\"ContractData\",A25, \"T_CVol\",, \"T\")","v":3888795},null,{"$f":" IFERROR(O25/RTD(\"cqg.rtd\",,\"StudyData\",A25, \"MA\", \"InputChoice=Vol,MAType=Sim,Period=21\", \"MA\",\"D\",\"-1\",\"all\",,,,\"T\"),\"\")","v":0.64951472403641541},{"$f":"IWF!Q8","v":"https://finance.yahoo.com/quote/MAT"}]
[{"$f":"TRIM(IWF!O9)","v":"S.US.CHTR"},"News",{"$f":"RTD(\"cqg.rtd\", ,\"ContractData\",A26, \"LongDescription\",, \"T\")&\" (\"&RIGHT(A26,LEN(A26)-5)&\")\"","v":"Charter Communications, Inc. Class A (CHTR)"},null,null,null,null,{"$f":"RTD(\"cqg.rtd\", ,\"ContractData\",A26, \"LastTradeToday\",, \"T\")","v":329.49},{"$f":"RTD(\"cqg.rtd\", ,\"ContractData\",A26, \"NetLastTradeToday\",, \"T\")","v":10.700000000000001},{"$f":"RTD(\"cqg.rtd\", ,\"ContractData\",A26, \"PerCentNetLastTrade\",, \"T\")/100","v":3.3564415445904827E-2},{"$f":" I26/RTD(\"cqg.rtd\",,\"StudyData\",A26, \"ATR\", \"MaType=Sim,Period=10\", \"ATR\",\"D\",\"-1\",\"ALL\",,,\"FALSE\",\"T\")/100","v":2.231491136600626E-2},{"$f":"RTD(\"cqg.rtd\", ,\"ContractData\",A26, \"OPen\",, \"T\")","v":320.2},{"$f":"RTD(\"cqg.rtd\", ,\"ContractData\", A26, \"HIgh\",, \"T\")","v":332.28000000000003},{"$f":"RTD(\"cqg.rtd\", ,\"ContractData\",A26, \"LOw\",, \"T\")","v":318.3},{"$f":"RTD(\"cqg.rtd\", ,\"ContractData\",A26, \"T_CVol\",, \"T\")","v":1223021},null,{"$f":" IFERROR(O26/RTD(\"cqg.rtd\",,\"StudyData\",A26, \"MA\", \"InputChoice=Vol,MAType=Sim,Period=21\", \"MA\",\"D\",\"-1\",\"all\",,,,\"T\"),\"\")","v":0.67651903414980852},{"$f":"IWF!Q9","v":"https://finance.yahoo.com/quote/CHTR"}]
[{"$f":"TRIM(IWF!O10)","v":"S.US.EV"},"News",{"$f":"RTD(\"cqg.rtd\", ,\"ContractData\",A27, \"LongDescription\",, \"T\")&\" (\"&RIGHT(A27,LEN(A27)-5)&\")\"","v":"Eaton Vance Corp (EV)"},null,null,null,null,{"$f":"RTD(\"cqg.rtd\", ,\"ContractData\",A27, \"LastTradeToday\",, \"T\")","v":46.6},{"$f":"RTD(\"cqg.rtd\", ,\"ContractData\",A27, \"NetLastTradeToday\",, \"T\")","v":1.42},{"$f":"RTD(\"cqg.rtd\", ,\"ContractData\",A27, \"PerCentNetLastTrade\",, \"T\")/100","v":3.1429836210712707E-2},{"$f":" I27/RTD(\"cqg.rtd\",,\"StudyData\",A27, \"ATR\", \"MaType=Sim,Period=10\", \"ATR\",\"D\",\"-1\",\"ALL\",,,\"FALSE\",\"T\")/100","v":1.7423312883435581E-2},{"$f":"RTD(\"cqg.rtd\", ,\"ContractData\",A27, \"OPen\",, \"T\")","v":45.18},{"$f":"RTD(\"cqg.rtd\", ,\"ContractData\", A27, \"HIgh\",, \"T\")","v":46.96},{"$f":"RTD(\"cqg.rtd\", ,\"ContractData\",A27, \"LOw\",, \"T\")","v":45.11},{"$f":"RTD(\"cqg.rtd\", ,\"ContractData\",A27, \"T_CVol\",, \"T\")","v":503627},null,{"$f":" IFERROR(O27/RTD(\"cqg.rtd\",,\"StudyData\",A27, \"MA\", \"InputChoice=Vol,MAType=Sim,Period=21\", \"MA\",\"D\",\"-1\",\"all\",,,,\"T\"),\"\")","v":0.81594743147261317},{"$f":"IWF!Q10","v":"https://finance.yahoo.com/quote/EV"},"Bottom 15 Performing Companies "]
[{"$f":"TRIM(IWF!O11)","v":"S.US.DPZ"},"News",{"$f":"RTD(\"cqg.rtd\", ,\"ContractData\",A28, \"LongDescription\",, \"T\")&\" (\"&RIGHT(A28,LEN(A28)-5)&\")\"","v":"Dominos Pizza, Inc. (DPZ)"},null,null,null,null,{"$f":"RTD(\"cqg.rtd\", ,\"ContractData\",A28, \"LastTradeToday\",, \"T\")","v":205.16},{"$f":"RTD(\"cqg.rtd\", ,\"ContractData\",A28, \"NetLastTradeToday\",, \"T\")","v":5.91},{"$f":"RTD(\"cqg.rtd\", ,\"ContractData\",A28, \"PerCentNetLastTrade\",, \"T\")/100","v":2.9661229611041406E-2},{"$f":" I28/RTD(\"cqg.rtd\",,\"StudyData\",A28, \"ATR\", \"MaType=Sim,Period=10\", \"ATR\",\"D\",\"-1\",\"ALL\",,,\"FALSE\",\"T\")/100","v":1.962151394422311E-2},{"$f":"RTD(\"cqg.rtd\", ,\"ContractData\",A28, \"OPen\",, \"T\")","v":199.48000000000002},{"$f":"RTD(\"cqg.rtd\", ,\"ContractData\", A28, \"HIgh\",, \"T\")","v":205.31},{"$f":"RTD(\"cqg.rtd\", ,\"ContractData\",A28, \"LOw\",, \"T\")","v":199.48000000000002},{"$f":"RTD(\"cqg.rtd\", ,\"ContractData\",A28, \"T_CVol\",, \"T\")","v":554107},null,{"$f":" IFERROR(O28/RTD(\"cqg.rtd\",,\"StudyData\",A28, \"MA\", \"InputChoice=Vol,MAType=Sim,Period=21\", \"MA\",\"D\",\"-1\",\"all\",,,,\"T\"),\"\")","v":0.67496892923405916},{"$f":"IWF!Q11","v":"https://finance.yahoo.com/quote/DPZ"}]
[{"$f":"TRIM(IWF!O12)","v":"S.US.BIVV"},"News",{"$f":"RTD(\"cqg.rtd\", ,\"ContractData\",A29, \"LongDescription\",, \"T\")&\" (\"&RIGHT(A29,LEN(A29)-5)&\")\"","v":"Bioverativ Inc. (BIVV)"},null,null,null,null,{"$f":"RTD(\"cqg.rtd\", ,\"ContractData\",A29, \"LastTradeToday\",, \"T\")","v":54.03},{"$f":"RTD(\"cqg.rtd\", ,\"ContractData\",A29, \"NetLastTradeToday\",, \"T\")","v":1.53},{"$f":"RTD(\"cqg.rtd\", ,\"ContractData\",A29, \"PerCentNetLastTrade\",, \"T\")/100","v":2.914285714285714E-2},{"$f":" I29/RTD(\"cqg.rtd\",,\"StudyData\",A29, \"ATR\", \"MaType=Sim,Period=10\", \"ATR\",\"D\",\"-1\",\"ALL\",,,\"FALSE\",\"T\")/100","v":6.9577080491132334E-3},{"$f":"RTD(\"cqg.rtd\", ,\"ContractData\",A29, \"OPen\",, \"T\")","v":53.35},{"$f":"RTD(\"cqg.rtd\", ,\"ContractData\", A29, \"HIgh\",, \"T\")","v":54.9},{"$f":"RTD(\"cqg.rtd\", ,\"ContractData\",A29, \"LOw\",, \"T\")","v":52.82},{"$f":"RTD(\"cqg.rtd\", ,\"ContractData\",A29, \"T_CVol\",, \"T\")","v":744993},null,{"$f":" IFERROR(O29/RTD(\"cqg.rtd\",,\"StudyData\",A29, \"MA\", \"InputChoice=Vol,MAType=Sim,Period=21\", \"MA\",\"D\",\"-1\",\"all\",,,,\"T\"),\"\")","v":0.64189276486715507},{"$f":"IWF!Q12","v":"https://finance.yahoo.com/quote/BIVV"}]
[{"$f":"TRIM(IWF!O13)","v":"S.US.GPK"},"News",{"$f":"RTD(\"cqg.rtd\", ,\"ContractData\",A30, \"LongDescription\",, \"T\")&\" (\"&RIGHT(A30,LEN(A30)-5)&\")\"","v":"Graphic Packaging Holding Company (GPK)"},null,null,null,null,{"$f":"RTD(\"cqg.rtd\", ,\"ContractData\",A30, \"LastTradeToday\",, \"T\")","v":13.450000000000001},{"$f":"RTD(\"cqg.rtd\", ,\"ContractData\",A30, \"NetLastTradeToday\",, \"T\")","v":0.38},{"$f":"RTD(\"cqg.rtd\", ,\"ContractData\",A30, \"PerCentNetLastTrade\",, \"T\")/100","v":2.9074215761285386E-2},{"$f":" I30/RTD(\"cqg.rtd\",,\"StudyData\",A30, \"ATR\", \"MaType=Sim,Period=10\", \"ATR\",\"D\",\"-1\",\"ALL\",,,\"FALSE\",\"T\")/100","v":1.3919413919413919E-2},{"$f":"RTD(\"cqg.rtd\", ,\"ContractData\",A30, \"OPen\",, \"T\")","v":13.08},{"$f":"RTD(\"cqg.rtd\", ,\"ContractData\", A30, \"HIgh\",, \"T\")","v":13.48},{"$f":"RTD(\"cqg.rtd\", ,\"ContractData\",A30, \"LOw\",, \"T\")","v":13.01},{"$f":"RTD(\"cqg.rtd\", ,\"ContractData\",A30, \"T_CVol\",, \"T\")","v":3285890},null,{"$f":" IFERROR(O30/RTD(\"cqg.rtd\",,\"StudyData\",A30, \"MA\", \"InputChoice=Vol,MAType=Sim,Period=21\", \"MA\",\"D\",\"-1\",\"all\",,,,\"T\"),\"\")","v":0.6813372050175015},{"$f":"IWF!Q13","v":"https://finance.yahoo.com/quote/GPK"}]
[{"$f":"TRIM(IWF!O14)","v":"S.US.SIRI"},"News",{"$f":"RTD(\"cqg.rtd\", ,\"ContractData\",A31, \"LongDescription\",, \"T\")&\" (\"&RIGHT(A31,LEN(A31)-5)&\")\"","v":"Sirius XM Holdings Inc. (SIRI)"},null,null,null,null,{"$f":"RTD(\"cqg.rtd\", ,\"ContractData\",A31, \"LastTradeToday\",, \"T\")","v":5.1100000000000003},{"$f":"RTD(\"cqg.rtd\", ,\"ContractData\",A31, \"NetLastTradeToday\",, \"T\")","v":0.14000000000000001},{"$f":"RTD(\"cqg.rtd\", ,\"ContractData\",A31, \"PerCentNetLastTrade\",, \"T\")/100","v":2.8169014084507039E-2},{"$f":" I31/RTD(\"cqg.rtd\",,\"StudyData\",A31, \"ATR\", \"MaType=Sim,Period=10\", \"ATR\",\"D\",\"-1\",\"ALL\",,,\"FALSE\",\"T\")/100","v":1.5555555555555559E-2},{"$f":"RTD(\"cqg.rtd\", ,\"ContractData\",A31, \"OPen\",, \"T\")","v":5},{"$f":"RTD(\"cqg.rtd\", ,\"ContractData\", A31, \"HIgh\",, \"T\")","v":5.12},{"$f":"RTD(\"cqg.rtd\", ,\"ContractData\",A31, \"LOw\",, \"T\")","v":4.99},{"$f":"RTD(\"cqg.rtd\", ,\"ContractData\",A31, \"T_CVol\",, \"T\")","v":16334676},null,{"$f":" IFERROR(O31/RTD(\"cqg.rtd\",,\"StudyData\",A31, \"MA\", \"InputChoice=Vol,MAType=Sim,Period=21\", \"MA\",\"D\",\"-1\",\"all\",,,,\"T\"),\"\")","v":0.61413931374312491},{"$f":"IWF!Q14","v":"https://finance.yahoo.com/quote/SIRI"}]
[{"$f":"TRIM(IWF!O15)","v":"S.US.SPB"},"News",{"$f":"RTD(\"cqg.rtd\", ,\"ContractData\",A32, \"LongDescription\",, \"T\")&\" (\"&RIGHT(A32,LEN(A32)-5)&\")\"","v":"Spectrum Brands Inc (SPB)"},null,null,null,null,{"$f":"RTD(\"cqg.rtd\", ,\"ContractData\",A32, \"LastTradeToday\",, \"T\")","v":133.19},{"$f":"RTD(\"cqg.rtd\", ,\"ContractData\",A32, \"NetLastTradeToday\",, \"T\")","v":3.4},{"$f":"RTD(\"cqg.rtd\", ,\"ContractData\",A32, \"PerCentNetLastTrade\",, \"T\")/100","v":2.6196163032591108E-2},{"$f":" I32/RTD(\"cqg.rtd\",,\"StudyData\",A32, \"ATR\", \"MaType=Sim,Period=10\", \"ATR\",\"D\",\"-1\",\"ALL\",,,\"FALSE\",\"T\")/100","v":1.3056835637480797E-2},{"$f":"RTD(\"cqg.rtd\", ,\"ContractData\",A32, \"OPen\",, \"T\")","v":130.6},{"$f":"RTD(\"cqg.rtd\", ,\"ContractData\", A32, \"HIgh\",, \"T\")","v":133.4},{"$f":"RTD(\"cqg.rtd\", ,\"ContractData\",A32, \"LOw\",, \"T\")","v":129.79},{"$f":"RTD(\"cqg.rtd\", ,\"ContractData\",A32, \"T_CVol\",, \"T\")","v":265568},null,{"$f":" IFERROR(O32/RTD(\"cqg.rtd\",,\"StudyData\",A32, \"MA\", \"InputChoice=Vol,MAType=Sim,Period=21\", \"MA\",\"D\",\"-1\",\"all\",,,,\"T\"),\"\")","v":0.48418020383233967},{"$f":"IWF!Q15","v":"https://finance.yahoo.com/quote/SPB"}]
[null,null,"Bottom 15 Description",null,null,null,null,"Last","NC","%NC","NC/ATR","Open","High","Low","Volume",null,"Ratio"]
[{"$f":"TRIM(IWF!O593)","v":"S.US.EXP"},"News",{"$f":"RTD(\"cqg.rtd\", ,\"ContractData\",A34, \"LongDescription\",, \"T\")&\" (\"&RIGHT(A34,LEN(A34)-5)&\")\"","v":"Eagle Materials Inc (EXP)"},null,null,null,null,{"$f":"RTD(\"cqg.rtd\", ,\"ContractData\",A34, \"LastTradeToday\",, \"T\")","v":96.33},{"$f":"RTD(\"cqg.rtd\", ,\"ContractData\",A34, \"NetLastTradeToday\",, \"T\")","v":-2.5300000000000002},{"$f":"RTD(\"cqg.rtd\", ,\"ContractData\",A34, \"PerCentNetLastTrade\",, \"T\")/100","v":-2.5591745903297592E-2},{"$f":" I34/RTD(\"cqg.rtd\",,\"StudyData\",A34, \"ATR\", \"MaType=Sim,Period=10\", \"ATR\",\"D\",\"-1\",\"ALL\",,,\"FALSE\",\"T\")/100","v":-8.7301587301587304E-3},{"$f":"RTD(\"cqg.rtd\", ,\"ContractData\",A34, \"OPen\",, \"T\")","v":98.65},{"$f":"RTD(\"cqg.rtd\", ,\"ContractData\", A34, \"HIgh\",, \"T\")","v":98.95},{"$f":"RTD(\"cqg.rtd\", ,\"ContractData\",A34, \"LOw\",, \"T\")","v":96.3},{"$f":"RTD(\"cqg.rtd\", ,\"ContractData\",A34, \"T_CVol\",, \"T\")","v":319823},null,{"$f":" IFERROR(O34/RTD(\"cqg.rtd\",,\"StudyData\",A34, \"MA\", \"InputChoice=Vol,MAType=Sim,Period=21\", \"MA\",\"D\",\"-1\",\"all\",,,,\"T\"),\"\")","v":0.54341708206061423},{"$f":"IWF!Q593","v":"https://finance.yahoo.com/quote/EXP"}]
[{"$f":"TRIM(IWF!O594)","v":"S.US.LKSD"},"News",{"$f":"RTD(\"cqg.rtd\", ,\"ContractData\",A35, \"LongDescription\",, \"T\")&\" (\"&RIGHT(A35,LEN(A35)-5)&\")\"","v":"LSC Communications, Inc. (LKSD)"},null,null,null,null,{"$f":"RTD(\"cqg.rtd\", ,\"ContractData\",A35, \"LastTradeToday\",, \"T\")","v":21.22},{"$f":"RTD(\"cqg.rtd\", ,\"ContractData\",A35, \"NetLastTradeToday\",, \"T\")","v":-0.56000000000000005},{"$f":"RTD(\"cqg.rtd\", ,\"ContractData\",A35, \"PerCentNetLastTrade\",, \"T\")/100","v":-2.5711662075298437E-2},{"$f":" I35/RTD(\"cqg.rtd\",,\"StudyData\",A35, \"ATR\", \"MaType=Sim,Period=10\", \"ATR\",\"D\",\"-1\",\"ALL\",,,\"FALSE\",\"T\")/100","v":-7.6712328767123295E-3},{"$f":"RTD(\"cqg.rtd\", ,\"ContractData\",A35, \"OPen\",, \"T\")","v":21.45},{"$f":"RTD(\"cqg.rtd\", ,\"ContractData\", A35, \"HIgh\",, \"T\")","v":21.900000000000002},{"$f":"RTD(\"cqg.rtd\", ,\"ContractData\",A35, \"LOw\",, \"T\")","v":21.13},{"$f":"RTD(\"cqg.rtd\", ,\"ContractData\",A35, \"T_CVol\",, \"T\")","v":103257},null,{"$f":" IFERROR(O35/RTD(\"cqg.rtd\",,\"StudyData\",A35, \"MA\", \"InputChoice=Vol,MAType=Sim,Period=21\", \"MA\",\"D\",\"-1\",\"all\",,,,\"T\"),\"\")","v":0.27197621396395116},{"$f":"IWF!Q594","v":"https://finance.yahoo.com/quote/LKSD"}]
[{"$f":"TRIM(IWF!O595)","v":"S.US.LOW"},"News",{"$f":"RTD(\"cqg.rtd\", ,\"ContractData\",A36, \"LongDescription\",, \"T\")&\" (\"&RIGHT(A36,LEN(A36)-5)&\")\"","v":"Lowes Companies Inc (LOW)"},null,null,null,null,{"$f":"RTD(\"cqg.rtd\", ,\"ContractData\",A36, \"LastTradeToday\",, \"T\")","v":80.150000000000006},{"$f":"RTD(\"cqg.rtd\", ,\"ContractData\",A36, \"NetLastTradeToday\",, \"T\")","v":-2.19},{"$f":"RTD(\"cqg.rtd\", ,\"ContractData\",A36, \"PerCentNetLastTrade\",, \"T\")/100","v":-2.6597036677192133E-2},{"$f":" I36/RTD(\"cqg.rtd\",,\"StudyData\",A36, \"ATR\", \"MaType=Sim,Period=10\", \"ATR\",\"D\",\"-1\",\"ALL\",,,\"FALSE\",\"T\")/100","v":-1.7921440261865793E-2},{"$f":"RTD(\"cqg.rtd\", ,\"ContractData\",A36, \"OPen\",, \"T\")","v":79.33},{"$f":"RTD(\"cqg.rtd\", ,\"ContractData\", A36, \"HIgh\",, \"T\")","v":80.260000000000005},{"$f":"RTD(\"cqg.rtd\", ,\"ContractData\",A36, \"LOw\",, \"T\")","v":78.400000000000006},{"$f":"RTD(\"cqg.rtd\", ,\"ContractData\",A36, \"T_CVol\",, \"T\")","v":12528439},null,{"$f":" IFERROR(O36/RTD(\"cqg.rtd\",,\"StudyData\",A36, \"MA\", \"InputChoice=Vol,MAType=Sim,Period=21\", \"MA\",\"D\",\"-1\",\"all\",,,,\"T\"),\"\")","v":2.433766454911944},{"$f":"IWF!Q595","v":"https://finance.yahoo.com/quote/LOW"}]
[{"$f":"TRIM(IWF!O596)","v":"S.US.COG"},"News",{"$f":"RTD(\"cqg.rtd\", ,\"ContractData\",A37, \"LongDescription\",, \"T\")&\" (\"&RIGHT(A37,LEN(A37)-5)&\")\"","v":"Cabot Oil/Gas Corp (COG)"},null,null,null,null,{"$f":"RTD(\"cqg.rtd\", ,\"ContractData\",A37, \"LastTradeToday\",, \"T\")","v":22.92},{"$f":"RTD(\"cqg.rtd\", ,\"ContractData\",A37, \"NetLastTradeToday\",, \"T\")","v":-0.63},{"$f":"RTD(\"cqg.rtd\", ,\"ContractData\",A37, \"PerCentNetLastTrade\",, \"T\")/100","v":-2.6751592356687896E-2},{"$f":" I37/RTD(\"cqg.rtd\",,\"StudyData\",A37, \"ATR\", \"MaType=Sim,Period=10\", \"ATR\",\"D\",\"-1\",\"ALL\",,,\"FALSE\",\"T\")/100","v":-9.1569767441860468E-3},{"$f":"RTD(\"cqg.rtd\", ,\"ContractData\",A37, \"OPen\",, \"T\")","v":23.5},{"$f":"RTD(\"cqg.rtd\", ,\"ContractData\", A37, \"HIgh\",, \"T\")","v":23.56},{"$f":"RTD(\"cqg.rtd\", ,\"ContractData\",A37, \"LOw\",, \"T\")","v":22.900000000000002},{"$f":"RTD(\"cqg.rtd\", ,\"ContractData\",A37, \"T_CVol\",, \"T\")","v":2496927},null,{"$f":" IFERROR(O37/RTD(\"cqg.rtd\",,\"StudyData\",A37, \"MA\", \"InputChoice=Vol,MAType=Sim,Period=21\", \"MA\",\"D\",\"-1\",\"all\",,,,\"T\"),\"\")","v":0.34992496316894894},{"$f":"IWF!Q596","v":"https://finance.yahoo.com/quote/COG"}]
[{"$f":"TRIM(IWF!O597)","v":"S.US.ALXN"},"News",{"$f":"RTD(\"cqg.rtd\", ,\"ContractData\",A38, \"LongDescription\",, \"T\")&\" (\"&RIGHT(A38,LEN(A38)-5)&\")\"","v":"Alexion Pharmaceuticals (ALXN)"},null,null,null,null,{"$f":"RTD(\"cqg.rtd\", ,\"ContractData\",A38, \"LastTradeToday\",, \"T\")","v":101.8},{"$f":"RTD(\"cqg.rtd\", ,\"ContractData\",A38, \"NetLastTradeToday\",, \"T\")","v":-2.84},{"$f":"RTD(\"cqg.rtd\", ,\"ContractData\",A38, \"PerCentNetLastTrade\",, \"T\")/100","v":-2.714067278287462E-2},{"$f":" I38/RTD(\"cqg.rtd\",,\"StudyData\",A38, \"ATR\", \"MaType=Sim,Period=10\", \"ATR\",\"D\",\"-1\",\"ALL\",,,\"FALSE\",\"T\")/100","v":-7.282051282051282E-3},{"$f":"RTD(\"cqg.rtd\", ,\"ContractData\",A38, \"OPen\",, \"T\")","v":104.5},{"$f":"RTD(\"cqg.rtd\", ,\"ContractData\", A38, \"HIgh\",, \"T\")","v":105},{"$f":"RTD(\"cqg.rtd\", ,\"ContractData\",A38, \"LOw\",, \"T\")","v":98.63},{"$f":"RTD(\"cqg.rtd\", ,\"ContractData\",A38, \"T_CVol\",, \"T\")","v":7769377},null,{"$f":" IFERROR(O38/RTD(\"cqg.rtd\",,\"StudyData\",A38, \"MA\", \"InputChoice=Vol,MAType=Sim,Period=21\", \"MA\",\"D\",\"-1\",\"all\",,,,\"T\"),\"\")","v":2.6147426224755095},{"$f":"IWF!Q597","v":"https://finance.yahoo.com/quote/ALXN"}]
[{"$f":"TRIM(IWF!O598)","v":"S.US.SWN"},"News",{"$f":"RTD(\"cqg.rtd\", ,\"ContractData\",A39, \"LongDescription\",, \"T\")&\" (\"&RIGHT(A39,LEN(A39)-5)&\")\"","v":"SOUTHWESTERN ENERGY CO (SWN)"},null,null,null,null,{"$f":"RTD(\"cqg.rtd\", ,\"ContractData\",A39, \"LastTradeToday\",, \"T\")","v":6.8},{"$f":"RTD(\"cqg.rtd\", ,\"ContractData\",A39, \"NetLastTradeToday\",, \"T\")","v":-0.19},{"$f":"RTD(\"cqg.rtd\", ,\"ContractData\",A39, \"PerCentNetLastTrade\",, \"T\")/100","v":-2.7181688125894134E-2},{"$f":" I39/RTD(\"cqg.rtd\",,\"StudyData\",A39, \"ATR\", \"MaType=Sim,Period=10\", \"ATR\",\"D\",\"-1\",\"ALL\",,,\"FALSE\",\"T\")/100","v":-6.0897435897435907E-3},{"$f":"RTD(\"cqg.rtd\", ,\"ContractData\",A39, \"OPen\",, \"T\")","v":7},{"$f":"RTD(\"cqg.rtd\", ,\"ContractData\", A39, \"HIgh\",, \"T\")","v":7},{"$f":"RTD(\"cqg.rtd\", ,\"ContractData\",A39, \"LOw\",, \"T\")","v":6.73},{"$f":"RTD(\"cqg.rtd\", ,\"ContractData\",A39, \"T_CVol\",, \"T\")","v":13467409},null,{"$f":" IFERROR(O39/RTD(\"cqg.rtd\",,\"StudyData\",A39, \"MA\", \"InputChoice=Vol,MAType=Sim,Period=21\", \"MA\",\"D\",\"-1\",\"all\",,,,\"T\"),\"\")","v":0.62164128669523411},{"$f":"IWF!Q598","v":"https://finance.yahoo.com/quote/SWN"}]
[{"$f":"TRIM(IWF!O599)","v":"S.US.AGIO"},"News",{"$f":"RTD(\"cqg.rtd\", ,\"ContractData\",A40, \"LongDescription\",, \"T\")&\" (\"&RIGHT(A40,LEN(A40)-5)&\")\"","v":"Agios Pharmaceuticals, Inc. (AGIO)"},null,null,null,null,{"$f":"RTD(\"cqg.rtd\", ,\"ContractData\",A40, \"LastTradeToday\",, \"T\")","v":47.050000000000004},{"$f":"RTD(\"cqg.rtd\", ,\"ContractData\",A40, \"NetLastTradeToday\",, \"T\")","v":-1.51},{"$f":"RTD(\"cqg.rtd\", ,\"ContractData\",A40, \"PerCentNetLastTrade\",, \"T\")/100","v":-3.1095551894563426E-2},{"$f":" I40/RTD(\"cqg.rtd\",,\"StudyData\",A40, \"ATR\", \"MaType=Sim,Period=10\", \"ATR\",\"D\",\"-1\",\"ALL\",,,\"FALSE\",\"T\")/100","v":-6.533967979229771E-3},{"$f":"RTD(\"cqg.rtd\", ,\"ContractData\",A40, \"OPen\",, \"T\")","v":48.77},{"$f":"RTD(\"cqg.rtd\", ,\"ContractData\", A40, \"HIgh\",, \"T\")","v":49.2},{"$f":"RTD(\"cqg.rtd\", ,\"ContractData\",A40, \"LOw\",, \"T\")","v":46.85},{"$f":"RTD(\"cqg.rtd\", ,\"ContractData\",A40, \"T_CVol\",, \"T\")","v":344950},null,{"$f":" IFERROR(O40/RTD(\"cqg.rtd\",,\"StudyData\",A40, \"MA\", \"InputChoice=Vol,MAType=Sim,Period=21\", \"MA\",\"D\",\"-1\",\"all\",,,,\"T\"),\"\")","v":0.56663604537249823},{"$f":"IWF!Q599","v":"https://finance.yahoo.com/quote/AGIO"}]
[{"$f":"TRIM(IWF!O600)","v":"S.US.HEI"},"News",{"$f":"RTD(\"cqg.rtd\", ,\"ContractData\",A41, \"LongDescription\",, \"T\")&\" (\"&RIGHT(A41,LEN(A41)-5)&\")\"","v":"HEICO CORP (HEI)"},null,null,null,null,{"$f":"RTD(\"cqg.rtd\", ,\"ContractData\",A41, \"LastTradeToday\",, \"T\")","v":72.040000000000006},{"$f":"RTD(\"cqg.rtd\", ,\"ContractData\",A41, \"NetLastTradeToday\",, \"T\")","v":-2.73},{"$f":"RTD(\"cqg.rtd\", ,\"ContractData\",A41, \"PerCentNetLastTrade\",, \"T\")/100","v":-3.6511970041460479E-2},{"$f":" I41/RTD(\"cqg.rtd\",,\"StudyData\",A41, \"ATR\", \"MaType=Sim,Period=10\", \"ATR\",\"D\",\"-1\",\"ALL\",,,\"FALSE\",\"T\")/100","v":-2.4374999999999994E-2},{"$f":"RTD(\"cqg.rtd\", ,\"ContractData\",A41, \"OPen\",, \"T\")","v":73.95},{"$f":"RTD(\"cqg.rtd\", ,\"ContractData\", A41, \"HIgh\",, \"T\")","v":73.95},{"$f":"RTD(\"cqg.rtd\", ,\"ContractData\",A41, \"LOw\",, \"T\")","v":71.010000000000005},{"$f":"RTD(\"cqg.rtd\", ,\"ContractData\",A41, \"T_CVol\",, \"T\")","v":326449},null,{"$f":" IFERROR(O41/RTD(\"cqg.rtd\",,\"StudyData\",A41, \"MA\", \"InputChoice=Vol,MAType=Sim,Period=21\", \"MA\",\"D\",\"-1\",\"all\",,,,\"T\"),\"\")","v":2.1081089309035903},{"$f":"IWF!Q600","v":"https://finance.yahoo.com/quote/HEI"}]
[{"$f":"TRIM(IWF!O601)","v":"S.US.XOG"},"News",{"$f":"RTD(\"cqg.rtd\", ,\"ContractData\",A42, \"LongDescription\",, \"T\")&\" (\"&RIGHT(A42,LEN(A42)-5)&\")\"","v":"Extraction Oil & Gas, Inc. (XOG)"},null,null,null,null,{"$f":"RTD(\"cqg.rtd\", ,\"ContractData\",A42, \"LastTradeToday\",, \"T\")","v":15.83},{"$f":"RTD(\"cqg.rtd\", ,\"ContractData\",A42, \"NetLastTradeToday\",, \"T\")","v":-0.6},{"$f":"RTD(\"cqg.rtd\", ,\"ContractData\",A42, \"PerCentNetLastTrade\",, \"T\")/100","v":-3.6518563603164945E-2},{"$f":" I42/RTD(\"cqg.rtd\",,\"StudyData\",A42, \"ATR\", \"MaType=Sim,Period=10\", \"ATR\",\"D\",\"-1\",\"ALL\",,,\"FALSE\",\"T\")/100","v":-8.1411126187245584E-3},{"$f":"RTD(\"cqg.rtd\", ,\"ContractData\",A42, \"OPen\",, \"T\")","v":16.43},{"$f":"RTD(\"cqg.rtd\", ,\"ContractData\", A42, \"HIgh\",, \"T\")","v":16.46},{"$f":"RTD(\"cqg.rtd\", ,\"ContractData\",A42, \"LOw\",, \"T\")","v":15.780000000000001},{"$f":"RTD(\"cqg.rtd\", ,\"ContractData\",A42, \"T_CVol\",, \"T\")","v":685927},null,{"$f":" IFERROR(O42/RTD(\"cqg.rtd\",,\"StudyData\",A42, \"MA\", \"InputChoice=Vol,MAType=Sim,Period=21\", \"MA\",\"D\",\"-1\",\"all\",,,,\"T\"),\"\")","v":0.45807829094126384},{"$f":"IWF!Q601","v":"https://finance.yahoo.com/quote/XOG"}]
[{"$f":"TRIM(IWF!O602)","v":"S.US.ULTA"},"News",{"$f":"RTD(\"cqg.rtd\", ,\"ContractData\",A43, \"LongDescription\",, \"T\")&\" (\"&RIGHT(A43,LEN(A43)-5)&\")\"","v":"Ulta Salon Cosmetics & Fragrance Inc (ULTA)"},null,null,null,null,{"$f":"RTD(\"cqg.rtd\", ,\"ContractData\",A43, \"LastTradeToday\",, \"T\")","v":279.39},{"$f":"RTD(\"cqg.rtd\", ,\"ContractData\",A43, \"NetLastTradeToday\",, \"T\")","v":-11.16},{"$f":"RTD(\"cqg.rtd\", ,\"ContractData\",A43, \"PerCentNetLastTrade\",, \"T\")/100","v":-3.8409912235415594E-2},{"$f":" I43/RTD(\"cqg.rtd\",,\"StudyData\",A43, \"ATR\", \"MaType=Sim,Period=10\", \"ATR\",\"D\",\"-1\",\"ALL\",,,\"FALSE\",\"T\")/100","v":-2.366914103923648E-2},{"$f":"RTD(\"cqg.rtd\", ,\"ContractData\",A43, \"OPen\",, \"T\")","v":290.5},{"$f":"RTD(\"cqg.rtd\", ,\"ContractData\", A43, \"HIgh\",, \"T\")","v":290.98},{"$f":"RTD(\"cqg.rtd\", ,\"ContractData\",A43, \"LOw\",, \"T\")","v":277.68},{"$f":"RTD(\"cqg.rtd\", ,\"ContractData\",A43, \"T_CVol\",, \"T\")","v":1470702},null,{"$f":" IFERROR(O43/RTD(\"cqg.rtd\",,\"StudyData\",A43, \"MA\", \"InputChoice=Vol,MAType=Sim,Period=21\", \"MA\",\"D\",\"-1\",\"all\",,,,\"T\"),\"\")","v":2.5734081106902384},{"$f":"IWF!Q602","v":"https://finance.yahoo.com/quote/ULTA"}]
[{"$f":"TRIM(IWF!O603)","v":"S.US.TROW"},"News",{"$f":"RTD(\"cqg.rtd\", ,\"ContractData\",A44, \"LongDescription\",, \"T\")&\" (\"&RIGHT(A44,LEN(A44)-5)&\")\"","v":"T Rowe Price Group Inc (TROW)"},null,null,null,null,{"$f":"RTD(\"cqg.rtd\", ,\"ContractData\",A44, \"LastTradeToday\",, \"T\")","v":67.989999999999995},{"$f":"RTD(\"cqg.rtd\", ,\"ContractData\",A44, \"NetLastTradeToday\",, \"T\")","v":-3.0700000000000003},{"$f":"RTD(\"cqg.rtd\", ,\"ContractData\",A44, \"PerCentNetLastTrade\",, \"T\")/100","v":-4.3202927103855898E-2},{"$f":" I44/RTD(\"cqg.rtd\",,\"StudyData\",A44, \"ATR\", \"MaType=Sim,Period=10\", \"ATR\",\"D\",\"-1\",\"ALL\",,,\"FALSE\",\"T\")/100","v":-2.6859142607174105E-2},{"$f":"RTD(\"cqg.rtd\", ,\"ContractData\",A44, \"OPen\",, \"T\")","v":69.070000000000007},{"$f":"RTD(\"cqg.rtd\", ,\"ContractData\", A44, \"HIgh\",, \"T\")","v":69.510000000000005},{"$f":"RTD(\"cqg.rtd\", ,\"ContractData\",A44, \"LOw\",, \"T\")","v":67.62},{"$f":"RTD(\"cqg.rtd\", ,\"ContractData\",A44, \"T_CVol\",, \"T\")","v":3794599},null,{"$f":" IFERROR(O44/RTD(\"cqg.rtd\",,\"StudyData\",A44, \"MA\", \"InputChoice=Vol,MAType=Sim,Period=21\", \"MA\",\"D\",\"-1\",\"all\",,,,\"T\"),\"\")","v":2.0981919912557299},{"$f":"IWF!Q603","v":"https://finance.yahoo.com/quote/TROW"}]
[{"$f":"TRIM(IWF!O604)","v":"S.US.AAP"},"News",{"$f":"RTD(\"cqg.rtd\", ,\"ContractData\",A45, \"LongDescription\",, \"T\")&\" (\"&RIGHT(A45,LEN(A45)-5)&\")\"","v":"Advance Auto Parts Inc (AAP)"},null,null,null,null,{"$f":"RTD(\"cqg.rtd\", ,\"ContractData\",A45, \"LastTradeToday\",, \"T\")","v":133.74},{"$f":"RTD(\"cqg.rtd\", ,\"ContractData\",A45, \"NetLastTradeToday\",, \"T\")","v":-6.92},{"$f":"RTD(\"cqg.rtd\", ,\"ContractData\",A45, \"PerCentNetLastTrade\",, \"T\")/100","v":-4.9196644390729419E-2},{"$f":" I45/RTD(\"cqg.rtd\",,\"StudyData\",A45, \"ATR\", \"MaType=Sim,Period=10\", \"ATR\",\"D\",\"-1\",\"ALL\",,,\"FALSE\",\"T\")/100","v":-1.9052863436123346E-2},{"$f":"RTD(\"cqg.rtd\", ,\"ContractData\",A45, \"OPen\",, \"T\")","v":131.65},{"$f":"RTD(\"cqg.rtd\", ,\"ContractData\", A45, \"HIgh\",, \"T\")","v":135.9},{"$f":"RTD(\"cqg.rtd\", ,\"ContractData\",A45, \"LOw\",, \"T\")","v":131.30000000000001},{"$f":"RTD(\"cqg.rtd\", ,\"ContractData\",A45, \"T_CVol\",, \"T\")","v":3815754},null,{"$f":" IFERROR(O45/RTD(\"cqg.rtd\",,\"StudyData\",A45, \"MA\", \"InputChoice=Vol,MAType=Sim,Period=21\", \"MA\",\"D\",\"-1\",\"all\",,,,\"T\"),\"\")","v":3.0582825180154658},{"$f":"IWF!Q604","v":"https://finance.yahoo.com/quote/AAP"}]
[{"$f":"TRIM(IWF!O605)","v":"S.US.ALNY"},"News",{"$f":"RTD(\"cqg.rtd\", ,\"ContractData\",A46, \"LongDescription\",, \"T\")&\" (\"&RIGHT(A46,LEN(A46)-5)&\")\"","v":"Alnylam Pharmaceuticals, Inc. (ALNY)"},null,null,null,null,{"$f":"RTD(\"cqg.rtd\", ,\"ContractData\",A46, \"LastTradeToday\",, \"T\")","v":71.02},{"$f":"RTD(\"cqg.rtd\", ,\"ContractData\",A46, \"NetLastTradeToday\",, \"T\")","v":-3.85},{"$f":"RTD(\"cqg.rtd\", ,\"ContractData\",A46, \"PerCentNetLastTrade\",, \"T\")/100","v":-5.1422465607052228E-2},{"$f":" I46/RTD(\"cqg.rtd\",,\"StudyData\",A46, \"ATR\", \"MaType=Sim,Period=10\", \"ATR\",\"D\",\"-1\",\"ALL\",,,\"FALSE\",\"T\")/100","v":-9.2659446450060173E-3},{"$f":"RTD(\"cqg.rtd\", ,\"ContractData\",A46, \"OPen\",, \"T\")","v":71.44},{"$f":"RTD(\"cqg.rtd\", ,\"ContractData\", A46, \"HIgh\",, \"T\")","v":71.48},{"$f":"RTD(\"cqg.rtd\", ,\"ContractData\",A46, \"LOw\",, \"T\")","v":67.34},{"$f":"RTD(\"cqg.rtd\", ,\"ContractData\",A46, \"T_CVol\",, \"T\")","v":3162400},null,{"$f":" IFERROR(O46/RTD(\"cqg.rtd\",,\"StudyData\",A46, \"MA\", \"InputChoice=Vol,MAType=Sim,Period=21\", \"MA\",\"D\",\"-1\",\"all\",,,,\"T\"),\"\")","v":2.7399502892422887},{"$f":"IWF!Q605","v":"https://finance.yahoo.com/quote/ALNY"}]
[{"$f":"TRIM(IWF!O606)","v":"S.US.SIG"},"News",{"$f":"RTD(\"cqg.rtd\", ,\"ContractData\",A47, \"LongDescription\",, \"T\")&\" (\"&RIGHT(A47,LEN(A47)-5)&\")\"","v":"Signet Jewelers Limited (SIG)"},null,null,null,null,{"$f":"RTD(\"cqg.rtd\", ,\"ContractData\",A47, \"LastTradeToday\",, \"T\")","v":54.300000000000004},{"$f":"RTD(\"cqg.rtd\", ,\"ContractData\",A47, \"NetLastTradeToday\",, \"T\")","v":-4.08},{"$f":"RTD(\"cqg.rtd\", ,\"ContractData\",A47, \"PerCentNetLastTrade\",, \"T\")/100","v":-6.9886947584789305E-2},{"$f":" I47/RTD(\"cqg.rtd\",,\"StudyData\",A47, \"ATR\", \"MaType=Sim,Period=10\", \"ATR\",\"D\",\"-1\",\"ALL\",,,\"FALSE\",\"T\")/100","v":-2.2541436464088398E-2},{"$f":"RTD(\"cqg.rtd\", ,\"ContractData\",A47, \"OPen\",, \"T\")","v":55.42},{"$f":"RTD(\"cqg.rtd\", ,\"ContractData\", A47, \"HIgh\",, \"T\")","v":55.96},{"$f":"RTD(\"cqg.rtd\", ,\"ContractData\",A47, \"LOw\",, \"T\")","v":52.86},{"$f":"RTD(\"cqg.rtd\", ,\"ContractData\",A47, \"T_CVol\",, \"T\")","v":2794111},null,{"$f":" IFERROR(O47/RTD(\"cqg.rtd\",,\"StudyData\",A47, \"MA\", \"InputChoice=Vol,MAType=Sim,Period=21\", \"MA\",\"D\",\"-1\",\"all\",,,,\"T\"),\"\")","v":2.637929613676941},{"$f":"IWF!Q606","v":"https://finance.yahoo.com/quote/SIG"}]
[{"$f":"TRIM(IWF!O607)","v":"S.US.NBIX"},"News",{"$f":"RTD(\"cqg.rtd\", ,\"ContractData\",A48, \"LongDescription\",, \"T\")&\" (\"&RIGHT(A48,LEN(A48)-5)&\")\"","v":"Neurocrine Biosciences Inc (NBIX)"},null,null,null,null,{"$f":"RTD(\"cqg.rtd\", ,\"ContractData\",A48, \"LastTradeToday\",, \"T\")","v":48.74},{"$f":"RTD(\"cqg.rtd\", ,\"ContractData\",A48, \"NetLastTradeToday\",, \"T\")","v":-4.79},{"$f":"RTD(\"cqg.rtd\", ,\"ContractData\",A48, \"PerCentNetLastTrade\",, \"T\")/100","v":-8.948253315897628E-2},{"$f":" I48/RTD(\"cqg.rtd\",,\"StudyData\",A48, \"ATR\", \"MaType=Sim,Period=10\", \"ATR\",\"D\",\"-1\",\"ALL\",,,\"FALSE\",\"T\")/100","v":-2.7592165898617512E-2},{"$f":"RTD(\"cqg.rtd\", ,\"ContractData\",A48, \"OPen\",, \"T\")","v":50.5},{"$f":"RTD(\"cqg.rtd\", ,\"ContractData\", A48, \"HIgh\",, \"T\")","v":50.74},{"$f":"RTD(\"cqg.rtd\", ,\"ContractData\",A48, \"LOw\",, \"T\")","v":48},{"$f":"RTD(\"cqg.rtd\", ,\"ContractData\",A48, \"T_CVol\",, \"T\")","v":4705026},null,{"$f":" IFERROR(O48/RTD(\"cqg.rtd\",,\"StudyData\",A48, \"MA\", \"InputChoice=Vol,MAType=Sim,Period=21\", \"MA\",\"D\",\"-1\",\"all\",,,,\"T\"),\"\")","v":4.2901610895459488},{"$f":"IWF!Q607","v":"https://finance.yahoo.com/quote/NBIX"}]
[null,null,"CQG Inc.,   Copyright © 2017",null,null,null,"Designed by Thom Hartle",null,null,"iShares is a registered trademark of BlackRock, Inc. S&P® is a registered trademark of Standard & Poor’s Financial Services LLC. Russell indexes are trademarks of the London Stock Exchange Group companies.",null,null,null,null,null,null,null,null,null,null,null,null,null,null,null,{"$f":"Z52","v":"64% of the stocks in the ETF are higher today"}]
[]
[null,null,null,null,null,null,null,null,null,null,null,null,null,null,null,null,null,null,null,null,null,null,null,null,null,{"$f":"IWF!AB608","v":0.63756177924217461},"of the stocks in the ETF are higher today"]
[null,null,null,null,null,null,null,null,null,null,null,null,null,null,null,null,null,null,null,null,null,null,null,null,null,{"$f":"IF(IWF!K610=1,\"Not all stocks have opened.\",TEXT(Display!Z51,\"0%\")&\" \"&Display!AA51)","v":"64% of the stocks in the ETF are higher today"}]

{"sheet":"IWF","index":1,"n_rows":610,"n_cols":34,"rows_kept":610,"cut":false,"hidden":true,"merged":[]}
[null,null,"S.US.A",{"$f":"RTD(\"cqg.rtd\", ,\"ContractData\",C1, \"LongDescription\",, \"T\")","v":"Agilent Technologies"},{"$f":"RTD(\"cqg.rtd\", ,\"ContractData\",C1, \"Open\",, \"T\")","v":58.5},{"$f":"RTD(\"cqg.rtd\", ,\"ContractData\",C1, \"High\",, \"T\")","v":59.27},{"$f":"RTD(\"cqg.rtd\", ,\"ContractData\",C1, \"Low\",, \"T\")","v":58.07},{"$f":"RTD(\"cqg.rtd\", ,\"ContractData\",C1, \"LastTradeToday\",, \"T\")","v":59.230000000000004},{"$f":"RTD(\"cqg.rtd\", ,\"ContractData\",C1, \"NetLastTradeToday\",, \"T\")","v":0.57000000000000006},{"$f":"IFERROR(RTD(\"cqg.rtd\", ,\"ContractData\",C1, \"PerCentNetLastTrade\",, \"T\")/100,\"\")","v":9.717013296965565E-3},{"$f":"RTD(\"cqg.rtd\", ,\"ContractData\", C1, \"T_CVol\",, \"T\")","v":2044110},1,{"$f":"IFERROR(RANK($J1,$J$1:J$607)+COUNTIF($J$1:J1,J1)-1,\"\")","v":108},{"$f":"C1","v":"S.US.A"},{"$f":"VLOOKUP($L1,$M$1:$N$607,2,FALSE)","v":"S.US.INTU"},{"$f":"RTD(\"cqg.rtd\", ,\"ContractData\",O1, \"PerCentNetLastTrade\",, \"T\")/100","v":6.9918699186991867E-2},{"$f":"\"https://finance.yahoo.com/quote/\"&RIGHT(O1,(LEN(O1)-5))","v":"https://finance.yahoo.com/quote/INTU"},null,{"$f":"IF(P1>=0,P1,NA())","v":6.9918699186991867E-2},{"$f":"IF(P1>=0,NA(),-1*P1)","v":{"$error":"#N/A"}},null,{"$f":"RTD(\"cqg.rtd\", ,\"ContractData\",O1, \"LongDescription\",, \"T\")","v":"Intuit Corp"},null,null,{"$f":"IFERROR(S1,P1)","v":6.9918699186991867E-2},null,{"$f":"IF(S1=\"NA()\",0,1)","v":1},{"$f":"IFERROR(AA1,0)","v":1},null,{"$f":"IFERROR(S1,\"\")","v":6.9918699186991867E-2},{"$f":"IFERROR(T1,\"\")","v":""},{"$f":"IF(AE1=\"\",\"\",Y1)","v":""}]
[null,null,"S.US.AAP",{"$f":"RTD(\"cqg.rtd\", ,\"ContractData\",C2, \"LongDescription\",, \"T\")","v":"Advance Auto Parts Inc"},{"$f":"RTD(\"cqg.rtd\", ,\"ContractData\",C2, \"Open\",, \"T\")","v":131.65},{"$f":"RTD(\"cqg.rtd\", ,\"ContractData\",C2, \"High\",, \"T\")","v":135.9},{"$f":"RTD(\"cqg.rtd\", ,\"ContractData\",C2, \"Low\",, \"T\")","v":131.30000000000001},{"$f":"RTD(\"cqg.rtd\", ,\"ContractData\",C2, \"LastTradeToday\",, \"T\")","v":133.74},{"$f":"RTD(\"cqg.rtd\", ,\"ContractData\",C2, \"NetLastTradeToday\",, \"T\")","v":-6.92},{"$f":"IFERROR(RTD(\"cqg.rtd\", ,\"ContractData\",C2, \"PerCentNetLastTrade\",, \"T\")/100,\"\")","v":-4.9196644390729419E-2},{"$f":"RTD(\"cqg.rtd\", ,\"ContractData\", C2, \"T_CVol\",, \"T\")","v":3815754},{"$f":"L1+1","v":2},{"$f":"IFERROR(RANK($J2,$J$1:J$607)+COUNTIF($J$1:J2,J2)-1,\"\")","v":604},{"$f":"C2","v":"S.US.AAP"},{"$f":"VLOOKUP($L2,$M$1:$N$607,2,FALSE)","v":"S.US.RAD"},{"$f":"RTD(\"cqg.rtd\", ,\"ContractData\",O2, \"PerCentNetLastTrade\",, \"T\")/100","v":5.9322033898305086E-2},{"$f":"\"https://finance.yahoo.com/quote/\"&RIGHT(O2,(LEN(O2)-5))","v":"https://finance.yahoo.com/quote/RAD"},null,{"$f":"IF(P2>=0,P2,NA())","v":5.9322033898305086E-2},{"$f":"IF(P2>=0,NA(),-1*P2)","v":{"$error":"#N/A"}},null,{"$f":"RTD(\"cqg.rtd\", ,\"ContractData\",O2, \"LongDescription\",, \"T\")","v":"Rite Aid Corp"},null,null,{"$f":"IFERROR(S2,P2)","v":5.9322033898305086E-2},null,{"$f":"IF(S2=\"NA()\",0,1)","v":1},{"$f":"IFERROR(AA2,0)","v":1},null,{"$f":"IFERROR(S2,\"\")","v":5.9322033898305086E-2},{"$f":"IFERROR(T2,\"\")","v":""},{"$f":"IF(AE2=\"\",\"\",Y2)","v":""}]
[null,null,"S.US.AAPL",{"$f":"RTD(\"cqg.rtd\", ,\"ContractData\",C3, \"LongDescription\",, \"T\")","v":"Apple Inc"},{"$f":"RTD(\"cqg.rtd\", ,\"ContractData\",C3, \"Open\",, \"T\")","v":153.84},{"$f":"RTD(\"cqg.rtd\", ,\"ContractData\",C3, \"High\",, \"T\")","v":154.17000000000002},{"$f":"RTD(\"cqg.rtd\", ,\"ContractData\",C3, \"Low\",, \"T\")","v":152.67000000000002},{"$f":"RTD(\"cqg.rtd\", ,\"ContractData\",C3, \"LastTradeToday\",, \"T\")","v":153.24},{"$f":"RTD(\"cqg.rtd\", ,\"ContractData\",C3, \"NetLastTradeToday\",, \"T\")","v":-0.56000000000000005},{"$f":"IFERROR(RTD(\"cqg.rtd\", ,\"ContractData\",C3, \"PerCentNetLastTrade\",, \"T\")/100,\"\")","v":-3.6410923276983093E-3},{"$f":"RTD(\"cqg.rtd\", ,\"ContractData\", C3, \"T_CVol\",, \"T\")","v":13047951},{"$f":"L2+1","v":3},{"$f":"IFERROR(RANK($J3,$J$1:J$607)+COUNTIF($J$1:J3,J3)-1,\"\")","v":464},"S.US.AAPL","S.US.ATHN",{"$f":"RTD(\"cqg.rtd\", ,\"ContractData\",O3, \"PerCentNetLastTrade\",, \"T\")/100","v":4.4979554747841891E-2},"https://finance.yahoo.com/quote/ATHN",null,4.4979554747841891E-2,{"$error":"#N/A"},null,{"$f":"RTD(\"cqg.rtd\", ,\"ContractData\",O3, \"LongDescription\",, \"T\")","v":"Athenahelth Inc"},null,null,4.4979554747841891E-2,null,1,1,null,4.4979554747841891E-2,"",""]
[null,null,"S.US.ABBV",{"$f":"RTD(\"cqg.rtd\", ,\"ContractData\",C4, \"LongDescription\",, \"T\")","v":"AbbVie Inc."},{"$f":"RTD(\"cqg.rtd\", ,\"ContractData\",C4, \"Open\",, \"T\")","v":65.790000000000006},{"$f":"RTD(\"cqg.rtd\", ,\"ContractData\",C4, \"High\",, \"T\")","v":66.070000000000007},{"$f":"RTD(\"cqg.rtd\", ,\"ContractData\",C4, \"Low\",, \"T\")","v":63.76},{"$f":"RTD(\"cqg.rtd\", ,\"ContractData\",C4, \"LastTradeToday\",, \"T\")","v":66},{"$f":"RTD(\"cqg.rtd\", ,\"ContractData\",C4, \"NetLastTradeToday\",, \"T\")","v":0.16},{"$f":"IFERROR(RTD(\"cqg.rtd\", ,\"ContractData\",C4, \"PerCentNetLastTrade\",, \"T\")/100,\"\")","v":2.4301336573511541E-3},{"$f":"RTD(\"cqg.rtd\", ,\"ContractData\", C4, \"T_CVol\",, \"T\")","v":1671204},4,{"$f":"IFERROR(RANK($J4,$J$1:J$607)+COUNTIF($J$1:J4,J4)-1,\"\")","v":300},"S.US.ABBV","S.US.IONS",{"$f":"RTD(\"cqg.rtd\", ,\"ContractData\",O4, \"PerCentNetLastTrade\",, \"T\")/100","v":4.1205139565795301E-2},"https://finance.yahoo.com/quote/IONS",null,4.1205139565795301E-2,{"$error":"#N/A"},null,{"$f":"RTD(\"cqg.rtd\", ,\"ContractData\",O4, \"LongDescription\",, \"T\")","v":"Ionis Pharmaceuticals, Inc. "},null,null,4.1205139565795301E-2,null,1,1,null,4.1205139565795301E-2,"",""]
[null,null,"S.US.ABC",{"$f":"RTD(\"cqg.rtd\", ,\"ContractData\",C5, \"LongDescription\",, \"T\")","v":"AmerisourceBergen Corp"},{"$f":"RTD(\"cqg.rtd\", ,\"ContractData\",C5, \"Open\",, \"T\")","v":89.38},{"$f":"RTD(\"cqg.rtd\", ,\"ContractData\",C5, \"High\",, \"T\")","v":90.320000000000007},{"$f":"RTD(\"cqg.rtd\", ,\"ContractData\",C5, \"Low\",, \"T\")","v":88.55},{"$f":"RTD(\"cqg.rtd\", ,\"ContractData\",C5, \"LastTradeToday\",, \"T\")","v":90.25},{"$f":"RTD(\"cqg.rtd\", ,\"ContractData\",C5, \"NetLastTradeToday\",, \"T\")","v":1.06},{"$f":"IFERROR(RTD(\"cqg.rtd\", ,\"ContractData\",C5, \"PerCentNetLastTrade\",, \"T\")/100,\"\")","v":1.188474044175356E-2},{"$f":"RTD(\"cqg.rtd\", ,\"ContractData\", C5, \"T_CVol\",, \"T\")","v":483365},5,{"$f":"IFERROR(RANK($J5,$J$1:J$607)+COUNTIF($J$1:J5,J5)-1,\"\")","v":79},"S.US.ABC","S.US.ICPT",{"$f":"RTD(\"cqg.rtd\", ,\"ContractData\",O5, \"PerCentNetLastTrade\",, \"T\")/100","v":3.9207009469864593E-2},"https://finance.yahoo.com/quote/ICPT",null,3.9207009469864593E-2,{"$error":"#N/A"},null,{"$f":"RTD(\"cqg.rtd\", ,\"ContractData\",O5, \"LongDescription\",, \"T\")","v":"Intercept Pharmaceuticals, Inc."},null,null,3.9207009469864593E-2,null,1,1,null,3.9207009469864593E-2,"",""]
[null,null,"S.US.ABMD",{"$f":"RTD(\"cqg.rtd\", ,\"ContractData\",C6, \"LongDescription\",, \"T\")","v":"ABIOMED Inc"},{"$f":"RTD(\"cqg.rtd\", ,\"ContractData\",C6, \"Open\",, \"T\")","v":135},{"$f":"RTD(\"cqg.rtd\", ,\"ContractData\",C6, \"High\",, \"T\")","v":135.44},{"$f":"RTD(\"cqg.rtd\", ,\"ContractData\",C6, \"Low\",, \"T\")","v":134.31},{"$f":"RTD(\"cqg.rtd\", ,\"ContractData\",C6, \"LastTradeToday\",, \"T\")","v":134.97999999999999},{"$f":"RTD(\"cqg.rtd\", ,\"ContractData\",C6, \"NetLastTradeToday\",, \"T\")","v":0.24},{"$f":"IFERROR(RTD(\"cqg.rtd\", ,\"ContractData\",C6, \"PerCentNetLastTrade\",, \"T\")/100,\"\")","v":1.781208252931572E-3},{"$f":"RTD(\"cqg.rtd\", ,\"ContractData\", C6, \"T_CVol\",, \"T\")","v":264931},6,{"$f":"IFERROR(RANK($J6,$J$1:J$607)+COUNTIF($J$1:J6,J6)-1,\"\")","v":328},"S.US.ABMD","S.US.NTNX",{"$f":"RTD(\"cqg.rtd\", ,\"ContractData\",O6, \"PerCentNetLastTrade\",, \"T\")/100","v":3.7602820211515862E-2},"https://finance.yahoo.com/quote/NTNX",null,3.7602820211515862E-2,{"$error":"#N/A"},null,{"$f":"RTD(\"cqg.rtd\", ,\"ContractData\",O6, \"LongDescription\",, \"T\")","v":"Nutanix, Inc. Class A"},null,null,3.7602820211515862E-2,null,1,1,null,3.7602820211515862E-2,"","",null,"https://finance.yahoo.com/quote/LRCX      "]
[null,null,"S.US.ABT",{"$f":"RTD(\"cqg.rtd\", ,\"ContractData\",C7, \"LongDescription\",, \"T\")","v":"Abbott Laboratories"},{"$f":"RTD(\"cqg.rtd\", ,\"ContractData\",C7, \"Open\",, \"T\")","v":43.79},{"$f":"RTD(\"cqg.rtd\", ,\"ContractData\",C7, \"High\",, \"T\")","v":43.79},{"$f":"RTD(\"cqg.rtd\", ,\"ContractData\",C7, \"Low\",, \"T\")","v":43.39},{"$f":"RTD(\"cqg.rtd\", ,\"ContractData\",C7, \"LastTradeToday\",, \"T\")","v":43.54},{"$f":"RTD(\"cqg.rtd\", ,\"ContractData\",C7, \"NetLastTradeToday\",, \"T\")","v":-0.14000000000000001},{"$f":"IFERROR(RTD(\"cqg.rtd\", ,\"ContractData\",C7, \"PerCentNetLastTrade\",, \"T\")/100,\"\")","v":-3.2051282051282055E-3},{"$f":"RTD(\"cqg.rtd\", ,\"ContractData\", C7, \"T_CVol\",, \"T\")","v":2758465},7,{"$f":"IFERROR(RANK($J7,$J$1:J$607)+COUNTIF($J$1:J7,J7)-1,\"\")","v":456},"S.US.ABT","S.US.TCO",{"$f":"RTD(\"cqg.rtd\", ,\"ContractData\",O7, \"PerCentNetLastTrade\",, \"T\")/100","v":3.687315634218289E-2},"https://finance.yahoo.com/quote/TCO",null,3.687315634218289E-2,{"$error":"#N/A"},null,{"$f":"RTD(\"cqg.rtd\", ,\"ContractData\",O7, \"LongDescription\",, \"T\")","v":"Taubman Centers Inc"},null,null,3.687315634218289E-2,null,1,1,null,3.687315634218289E-2,"",""]
[null,null,"S.US.ACAD",{"$f":"RTD(\"cqg.rtd\", ,\"ContractData\",C8, \"LongDescription\",, \"T\")","v":"ACADIA Pharmaceuticals, Inc."},{"$f":"RTD(\"cqg.rtd\", ,\"ContractData\",C8, \"Open\",, \"T\")","v":27.35},{"$f":"RTD(\"cqg.rtd\", ,\"ContractData\",C8, \"High\",, \"T\")","v":27.6},{"$f":"RTD(\"cqg.rtd\", ,\"ContractData\",C8, \"Low\",, \"T\")","v":26.93},{"$f":"RTD(\"cqg.rtd\", ,\"ContractData\",C8, \"LastTradeToday\",, \"T\")","v":27.51},{"$f":"RTD(\"cqg.rtd\", ,\"ContractData\",C8, \"NetLastTradeToday\",, \"T\")","v":-0.04},{"$f":"IFERROR(RTD(\"cqg.rtd\", ,\"ContractData\",C8, \"PerCentNetLastTrade\",, \"T\")/100,\"\")","v":-1.4519056261343014E-3},{"$f":"RTD(\"cqg.rtd\", ,\"ContractData\", C8, \"T_CVol\",, \"T\")","v":1005005},8,{"$f":"IFERROR(RANK($J8,$J$1:J$607)+COUNTIF($J$1:J8,J8)-1,\"\")","v":425},"S.US.ACAD","S.US.MAT",{"$f":"RTD(\"cqg.rtd\", ,\"ContractData\",O8, \"PerCentNetLastTrade\",, \"T\")/100","v":3.4022988505747122E-2},"https://finance.yahoo.com/quote/MAT",null,3.4022988505747122E-2,{"$error":"#N/A"},null,{"$f":"RTD(\"cqg.rtd\", ,\"ContractData\",O8, \"LongDescription\",, \"T\")","v":"Mattel Inc"},null,null,3.4022988505747122E-2,null,1,1,null,3.4022988505747122E-2,"",""]
[null,null,"S.US.ACHC",{"$f":"RTD(\"cqg.rtd\", ,\"ContractData\",C9, \"LongDescription\",, \"T\")","v":"Acadia Healthcare Company, Inc."},{"$f":"RTD(\"cqg.rtd\", ,\"ContractData\",C9, \"Open\",, \"T\")","v":43.29},{"$f":"RTD(\"cqg.rtd\", ,\"ContractData\",C9, \"High\",, \"T\")","v":43.33},{"$f":"RTD(\"cqg.rtd\", ,\"ContractData\",C9, \"Low\",, \"T\")","v":42.050000000000004},{"$f":"RTD(\"cqg.rtd\", ,\"ContractData\",C9, \"LastTradeToday\",, \"T\")","v":42.78},{"$f":"RTD(\"cqg.rtd\", ,\"ContractData\",C9, \"NetLastTradeToday\",, \"T\")","v":-0.38},{"$f":"IFERROR(RTD(\"cqg.rtd\", ,\"ContractData\",C9, \"PerCentNetLastTrade\",, \"T\")/100,\"\")","v":-8.804448563484708E-3},{"$f":"RTD(\"cqg.rtd\", ,\"ContractData\", C9, \"T_CVol\",, \"T\")","v":701629},9,{"$f":"IFERROR(RANK($J9,$J$1:J$607)+COUNTIF($J$1:J9,J9)-1,\"\")","v":531},"S.US.ACHC","S.US.CHTR",{"$f":"RTD(\"cqg.rtd\", ,\"ContractData\",O9, \"PerCentNetLastTrade\",, \"T\")/100","v":3.3564415445904827E-2},"https://finance.yahoo.com/quote/CHTR",null,3.3564415445904827E-2,{"$error":"#N/A"},null,{"$f":"RTD(\"cqg.rtd\", ,\"ContractData\",O9, \"LongDescription\",, \"T\")","v":"Charter Communications, Inc. Class A"},null,null,3.3564415445904827E-2,null,1,1,null,3.3564415445904827E-2,"",""]
[null,null,"S.US.ACN",{"$f":"RTD(\"cqg.rtd\", ,\"ContractData\",C10, \"LongDescription\",, \"T\")","v":"Accenture PLC Ireland"},{"$f":"RTD(\"cqg.rtd\", ,\"ContractData\",C10, \"Open\",, \"T\")","v":120.43},{"$f":"RTD(\"cqg.rtd\", ,\"ContractData\",C10, \"High\",, \"T\")","v":121.97},{"$f":"RTD(\"cqg.rtd\", ,\"ContractData\",C10, \"Low\",, \"T\")","v":120.3},{"$f":"RTD(\"cqg.rtd\", ,\"ContractData\",C10, \"LastTradeToday\",, \"T\")","v":121.9},{"$f":"RTD(\"cqg.rtd\", ,\"ContractData\",C10, \"NetLastTradeToday\",, \"T\")","v":-0.25},{"$f":"IFERROR(RTD(\"cqg.rtd\", ,\"ContractData\",C10, \"PerCentNetLastTrade\",, \"T\")/100,\"\")","v":-2.0466639377814165E-3},{"$f":"RTD(\"cqg.rtd\", ,\"ContractData\", C10, \"T_CVol\",, \"T\")","v":1045834},10,{"$f":"IFERROR(RANK($J10,$J$1:J$607)+COUNTIF($J$1:J10,J10)-1,\"\")","v":432},"S.US.ACN","S.US.EV",{"$f":"RTD(\"cqg.rtd\", ,\"ContractData\",O10, \"PerCentNetLastTrade\",, \"T\")/100","v":3.1429836210712707E-2},"https://finance.yahoo.com/quote/EV",null,3.1429836210712707E-2,{"$error":"#N/A"},null,{"$f":"RTD(\"cqg.rtd\", ,\"ContractData\",O10, \"LongDescription\",, \"T\")","v":"Eaton Vance Corp"},null,null,3.1429836210712707E-2,null,1,1,null,3.1429836210712707E-2,"",""]
[null,null,"S.US.ADBE",{"$f":"RTD(\"cqg.rtd\", ,\"ContractData\",C11, \"LongDescription\",, \"T\")","v":"Adobe Systems Inc"},{"$f":"RTD(\"cqg.rtd\", ,\"ContractData\",C11, \"Open\",, \"T\")","v":140.18},{"$f":"RTD(\"cqg.rtd\", ,\"ContractData\",C11, \"High\",, \"T\")","v":141.11000000000001},{"$f":"RTD(\"cqg.rtd\", ,\"ContractData\",C11, \"Low\",, \"T\")","v":139.81},{"$f":"RTD(\"cqg.rtd\", ,\"ContractData\",C11, \"LastTradeToday\",, \"T\")","v":140.97999999999999},{"$f":"RTD(\"cqg.rtd\", ,\"ContractData\",C11, \"NetLastTradeToday\",, \"T\")","v":1.46},{"$f":"IFERROR(RTD(\"cqg.rtd\", ,\"ContractData\",C11, \"PerCentNetLastTrade\",, \"T\")/100,\"\")","v":1.0464449541284403E-2},{"$f":"RTD(\"cqg.rtd\", ,\"ContractData\", C11, \"T_CVol\",, \"T\")","v":1099037},11,{"$f":"IFERROR(RANK($J11,$J$1:J$607)+COUNTIF($J$1:J11,J11)-1,\"\")","v":100},"S.US.ADBE","S.US.DPZ",{"$f":"RTD(\"cqg.rtd\", ,\"ContractData\",O11, \"PerCentNetLastTrade\",, \"T\")/100","v":2.9661229611041406E-2},"https://finance.yahoo.com/quote/DPZ",null,2.9661229611041406E-2,{"$error":"#N/A"},null,{"$f":"RTD(\"cqg.rtd\", ,\"ContractData\",O11, \"LongDescription\",, \"T\")","v":"Dominos Pizza, Inc."},null,null,2.9661229611041406E-2,null,1,1,null,2.9661229611041406E-2,"",""]
[null,null,"S.US.ADI",{"$f":"RTD(\"cqg.rtd\", ,\"ContractData\",C12, \"LongDescription\",, \"T\")","v":"Analog Devices Inc"},{"$f":"RTD(\"cqg.rtd\", ,\"ContractData\",C12, \"Open\",, \"T\")","v":82.460000000000008},{"$f":"RTD(\"cqg.rtd\", ,\"ContractData\",C12, \"High\",, \"T\")","v":82.58},{"$f":"RTD(\"cqg.rtd\", ,\"ContractData\",C12, \"Low\",, \"T\")","v":81.67},{"$f":"RTD(\"cqg.rtd\", ,\"ContractData\",C12, \"LastTradeToday\",, \"T\")","v":81.92},{"$f":"RTD(\"cqg.rtd\", ,\"ContractData\",C12, \"NetLastTradeToday\",, \"T\")","v":-0.04},{"$f":"IFERROR(RTD(\"cqg.rtd\", ,\"ContractData\",C12, \"PerCentNetLastTrade\",, \"T\")/100,\"\")","v":-4.880429477794046E-4},{"$f":"RTD(\"cqg.rtd\", ,\"ContractData\", C12, \"T_CVol\",, \"T\")","v":1101990},12,{"$f":"IFERROR(RANK($J12,$J$1:J$607)+COUNTIF($J$1:J12,J12)-1,\"\")","v":400},"S.US.ADI","S.US.BIVV",{"$f":"RTD(\"cqg.rtd\", ,\"ContractData\",O12, \"PerCentNetLastTrade\",, \"T\")/100","v":2.914285714285714E-2},"https://finance.yahoo.com/quote/BIVV",null,2.914285714285714E-2,{"$error":"#N/A"},null,{"$f":"RTD(\"cqg.rtd\", ,\"ContractData\",O12, \"LongDescription\",, \"T\")","v":"Bioverativ Inc."},null,null,2.914285714285714E-2,null,1,1,null,2.914285714285714E-2,"",""]
[null,null,"S.US.ADNT",{"$f":"RTD(\"cqg.rtd\", ,\"ContractData\",C13, \"LongDescription\",, \"T\")","v":"Adient PLC"},{"$f":"RTD(\"cqg.rtd\", ,\"ContractData\",C13, \"Open\",, \"T\")","v":68.48},{"$f":"RTD(\"cqg.rtd\", ,\"ContractData\",C13, \"High\",, \"T\")","v":68.58},{"$f":"RTD(\"cqg.rtd\", ,\"ContractData\",C13, \"Low\",, \"T\")","v":67.5},{"$f":"RTD(\"cqg.rtd\", ,\"ContractData\",C13, \"LastTradeToday\",, \"T\")","v":67.58},{"$f":"RTD(\"cqg.rtd\", ,\"ContractData\",C13, \"NetLastTradeToday\",, \"T\")","v":-0.97},{"$f":"IFERROR(RTD(\"cqg.rtd\", ,\"ContractData\",C13, \"PerCentNetLastTrade\",, \"T\")/100,\"\")","v":-1.4150255288110869E-2},{"$f":"RTD(\"cqg.rtd\", ,\"ContractData\", C13, \"T_CVol\",, \"T\")","v":313842},13,{"$f":"IFERROR(RANK($J13,$J$1:J$607)+COUNTIF($J$1:J13,J13)-1,\"\")","v":570},"S.US.ADNT","S.US.GPK",{"$f":"RTD(\"cqg.rtd\", ,\"ContractData\",O13, \"PerCentNetLastTrade\",, \"T\")/100","v":2.9074215761285386E-2},"https://finance.yahoo.com/quote/GPK",null,2.9074215761285386E-2,{"$error":"#N/A"},null,{"$f":"RTD(\"cqg.rtd\", ,\"ContractData\",O13, \"LongDescription\",, \"T\")","v":"Graphic Packaging Holding Company"},null,null,2.9074215761285386E-2,null,1,1,null,2.9074215761285386E-2,"",""]
[null,null,"S.US.ADP",{"$f":"RTD(\"cqg.rtd\", ,\"ContractData\",C14, \"LongDescription\",, \"T\")","v":"Auto Data Processing Inc"},{"$f":"RTD(\"cqg.rtd\", ,\"ContractData\",C14, \"Open\",, \"T\")","v":99.490000000000009},{"$f":"RTD(\"cqg.rtd\", ,\"ContractData\",C14, \"High\",, \"T\")","v":99.98},{"$f":"RTD(\"cqg.rtd\", ,\"ContractData\",C14, \"Low\",, \"T\")","v":99.43},{"$f":"RTD(\"cqg.rtd\", ,\"ContractData\",C14, \"LastTradeToday\",, \"T\")","v":99.9},{"$f":"RTD(\"cqg.rtd\", ,\"ContractData\",C14, \"NetLastTradeToday\",, \"T\")","v":0.37},{"$f":"IFERROR(RTD(\"cqg.rtd\", ,\"ContractData\",C14, \"PerCentNetLastTrade\",, \"T\")/100,\"\")","v":3.7174721189591076E-3},{"$f":"RTD(\"cqg.rtd\", ,\"ContractData\", C14, \"T_CVol\",, \"T\")","v":1273669},14,{"$f":"IFERROR(RANK($J14,$J$1:J$607)+COUNTIF($J$1:J14,J14)-1,\"\")","v":249},"S.US.ADP","S.US.SIRI",{"$f":"RTD(\"cqg.rtd\", ,\"ContractData\",O14, \"PerCentNetLastTrade\",, \"T\")/100","v":2.8169014084507039E-2},"https://finance.yahoo.com/quote/SIRI",null,2.8169014084507039E-2,{"$error":"#N/A"},null,{"$f":"RTD(\"cqg.rtd\", ,\"ContractData\",O14, \"LongDescription\",, \"T\")","v":"Sirius XM Holdings Inc."},null,null,2.8169014084507039E-2,null,1,1,null,2.8169014084507039E-2,"",""]
[null,null,"S.US.ADS",{"$f":"RTD(\"cqg.rtd\", ,\"ContractData\",C15, \"LongDescription\",, \"T\")","v":"Alliance Data Systems Corp"},{"$f":"RTD(\"cqg.rtd\", ,\"ContractData\",C15, \"Open\",, \"T\")","v":236.21},{"$f":"RTD(\"cqg.rtd\", ,\"ContractData\",C15, \"High\",, \"T\")","v":238.43},{"$f":"RTD(\"cqg.rtd\", ,\"ContractData\",C15, \"Low\",, \"T\")","v":234.01},{"$f":"RTD(\"cqg.rtd\", ,\"ContractData\",C15, \"LastTradeToday\",, \"T\")","v":237.81},{"$f":"RTD(\"cqg.rtd\", ,\"ContractData\",C15, \"NetLastTradeToday\",, \"T\")","v":1.6},{"$f":"IFERROR(RTD(\"cqg.rtd\", ,\"ContractData\",C15, \"PerCentNetLastTrade\",, \"T\")/100,\"\")","v":6.7736336310909783E-3},{"$f":"RTD(\"cqg.rtd\", ,\"ContractData\", C15, \"T_CVol\",, \"T\")","v":227427},15,{"$f":"IFERROR(RANK($J15,$J$1:J$607)+COUNTIF($J$1:J15,J15)-1,\"\")","v":176},"S.US.ADS","S.US.SPB",{"$f":"RTD(\"cqg.rtd\", ,\"ContractData\",O15, \"PerCentNetLastTrade\",, \"T\")/100","v":2.6196163032591108E-2},"https://finance.yahoo.com/quote/SPB",null,2.6196163032591108E-2,{"$error":"#N/A"},null,{"$f":"RTD(\"cqg.rtd\", ,\"ContractData\",O15, \"LongDescription\",, \"T\")","v":"Spectrum Brands Inc"},null,null,2.6196163032591108E-2,null,1,1,null,2.6196163032591108E-2,"",""]
[null,null,"S.US.ADSK",{"$f":"RTD(\"cqg.rtd\", ,\"ContractData\",C16, \"LongDescription\",, \"T\")","v":"Autodesk Inc"},{"$f":"RTD(\"cqg.rtd\", ,\"ContractData\",C16, \"Open\",, \"T\")","v":113.86},{"$f":"RTD(\"cqg.rtd\", ,\"ContractData\",C16, \"High\",, \"T\")","v":114.06},{"$f":"RTD(\"cqg.rtd\", ,\"ContractData\",C16, \"Low\",, \"T\")","v":111.95},{"$f":"RTD(\"cqg.rtd\", ,\"ContractData\",C16, \"LastTradeToday\",, \"T\")","v":112.11},{"$f":"RTD(\"cqg.rtd\", ,\"ContractData\",C16, \"NetLastTradeToday\",, \"T\")","v":-0.86},{"$f":"IFERROR(RTD(\"cqg.rtd\", ,\"ContractData\",C16, \"PerCentNetLastTrade\",, \"T\")/100,\"\")","v":-7.6126405240329285E-3},{"$f":"RTD(\"cqg.rtd\", ,\"ContractData\", C16, \"T_CVol\",, \"T\")","v":1990814},16,{"$f":"IFERROR(RANK($J16,$J$1:J$607)+COUNTIF($J$1:J16,J16)-1,\"\")","v":519},"S.US.ADSK","S.US.AZO",{"$f":"RTD(\"cqg.rtd\", ,\"ContractData\",O16, \"PerCentNetLastTrade\",, \"T\")/100","v":2.6023391812865494E-2},"https://finance.yahoo.com/quote/AZO",null,2.6023391812865494E-2,{"$error":"#N/A"},null,{"$f":"RTD(\"cqg.rtd\", ,\"ContractData\",O16, \"LongDescription\",, \"T\")","v":"Autozone Inc"},null,null,2.6023391812865494E-2,null,1,1,null,2.6023391812865494E-2,"",""]
[null,null,"S.US.AET",{"$f":"RTD(\"cqg.rtd\", ,\"ContractData\",C17, \"LongDescription\",, \"T\")","v":"Aetna Inc"},{"$f":"RTD(\"cqg.rtd\", ,\"ContractData\",C17, \"Open\",, \"T\")","v":141.88},{"$f":"RTD(\"cqg.rtd\", ,\"ContractData\",C17, \"High\",, \"T\")","v":144.39000000000001},{"$f":"RTD(\"cqg.rtd\", ,\"ContractData\",C17, \"Low\",, \"T\")","v":141.6},{"$f":"RTD(\"cqg.rtd\", ,\"ContractData\",C17, \"LastTradeToday\",, \"T\")","v":144.31},{"$f":"RTD(\"cqg.rtd\", ,\"ContractData\",C17, \"NetLastTradeToday\",, \"T\")","v":2.42},{"$f":"IFERROR(RTD(\"cqg.rtd\", ,\"ContractData\",C17, \"PerCentNetLastTrade\",, \"T\")/100,\"\")","v":1.705546550144478E-2},{"$f":"RTD(\"cqg.rtd\", ,\"ContractData\", C17, \"T_CVol\",, \"T\")","v":947168},17,{"$f":"IFERROR(RANK($J17,$J$1:J$607)+COUNTIF($J$1:J17,J17)-1,\"\")","v":41},"S.US.AET","S.US.HAS",{"$f":"RTD(\"cqg.rtd\", ,\"ContractData\",O17, \"PerCentNetLastTrade\",, \"T\")/100","v":2.5648643295702121E-2},"https://finance.yahoo.com/quote/HAS",null,2.5648643295702121E-2,{"$error":"#N/A"},null,{"$f":"RTD(\"cqg.rtd\", ,\"ContractData\",O17, \"LongDescription\",, \"T\")","v":"Hasbro Inc"},null,null,2.5648643295702121E-2,null,1,1,null,2.5648643295702121E-2,"",""]
[null,null,"S.US.AFSI",{"$f":"RTD(\"cqg.rtd\", ,\"ContractData\",C18, \"LongDescription\",, \"T\")","v":"AmTrust Financial Services"},{"$f":"RTD(\"cqg.rtd\", ,\"ContractData\",C18, \"Open\",, \"T\")","v":12.200000000000001},{"$f":"RTD(\"cqg.rtd\", ,\"ContractData\",C18, \"High\",, \"T\")","v":12.46},{"$f":"RTD(\"cqg.rtd\", ,\"ContractData\",C18, \"Low\",, \"T\")","v":12.19},{"$f":"RTD(\"cqg.rtd\", ,\"ContractData\",C18, \"LastTradeToday\",, \"T\")","v":12.38},{"$f":"RTD(\"cqg.rtd\", ,\"ContractData\",C18, \"NetLastTradeToday\",, \"T\")","v":0.2},{"$f":"IFERROR(RTD(\"cqg.rtd\", ,\"ContractData\",C18, \"PerCentNetLastTrade\",, \"T\")/100,\"\")","v":1.6420361247947456E-2},{"$f":"RTD(\"cqg.rtd\", ,\"ContractData\", C18, \"T_CVol\",, \"T\")","v":601751},18,{"$f":"IFERROR(RANK($J18,$J$1:J$607)+COUNTIF($J$1:J18,J18)-1,\"\")","v":47},"S.US.AFSI","S.US.LW",{"$f":"RTD(\"cqg.rtd\", ,\"ContractData\",O18, \"PerCentNetLastTrade\",, \"T\")/100","v":2.4875621890547261E-2},"https://finance.yahoo.com/quote/LW",null,2.4875621890547261E-2,{"$error":"#N/A"},null,{"$f":"RTD(\"cqg.rtd\", ,\"ContractData\",O18, \"LongDescription\",, \"T\")","v":"Lamb Weston Holdings, Inc."},null,null,2.4875621890547261E-2,null,1,1,null,2.4875621890547261E-2,"",""]
[null,null,"S.US.AGIO",{"$f":"RTD(\"cqg.rtd\", ,\"ContractData\",C19, \"LongDescription\",, \"T\")","v":"Agios Pharmaceuticals, Inc."},{"$f":"RTD(\"cqg.rtd\", ,\"ContractData\",C19, \"Open\",, \"T\")","v":48.77},{"$f":"RTD(\"cqg.rtd\", ,\"ContractData\",C19, \"High\",, \"T\")","v":49.2},{"$f":"RTD(\"cqg.rtd\", ,\"ContractData\",C19, \"Low\",, \"T\")","v":46.85},{"$f":"RTD(\"cqg.rtd\", ,\"ContractData\",C19, \"LastTradeToday\",, \"T\")","v":47.050000000000004},{"$f":"RTD(\"cqg.rtd\", ,\"ContractData\",C19, \"NetLastTradeToday\",, \"T\")","v":-1.51},{"$f":"IFERROR(RTD(\"cqg.rtd\", ,\"ContractData\",C19, \"PerCentNetLastTrade\",, \"T\")/100,\"\")","v":-3.1095551894563426E-2},{"$f":"RTD(\"cqg.rtd\", ,\"ContractData\", C19, \"T_CVol\",, \"T\")","v":344950},19,{"$f":"IFERROR(RANK($J19,$J$1:J$607)+COUNTIF($J$1:J19,J19)-1,\"\")","v":599},"S.US.AGIO","S.US.HLF",{"$f":"RTD(\"cqg.rtd\", ,\"ContractData\",O19, \"PerCentNetLastTrade\",, \"T\")/100","v":2.4047515572939302E-2},"https://finance.yahoo.com/quote/HLF",null,2.4047515572939302E-2,{"$error":"#N/A"},null,{"$f":"RTD(\"cqg.rtd\", ,\"ContractData\",O19, \"LongDescription\",, \"T\")","v":"Herbal Life LTD"},null,null,2.4047515572939302E-2,null,1,1,null,2.4047515572939302E-2,"",""]
[null,null,"S.US.AGN",{"$f":"RTD(\"cqg.rtd\", ,\"ContractData\",C20, \"LongDescription\",, \"T\")","v":"Allergan plc"},{"$f":"RTD(\"cqg.rtd\", ,\"ContractData\",C20, \"Open\",, \"T\")","v":221.37},{"$f":"RTD(\"cqg.rtd\", ,\"ContractData\",C20, \"High\",, \"T\")","v":225.35},{"$f":"RTD(\"cqg.rtd\", ,\"ContractData\",C20, \"Low\",, \"T\")","v":221.26},{"$f":"RTD(\"cqg.rtd\", ,\"ContractData\",C20, \"LastTradeToday\",, \"T\")","v":224.69},{"$f":"RTD(\"cqg.rtd\", ,\"ContractData\",C20, \"NetLastTradeToday\",, \"T\")","v":4.03},{"$f":"IFERROR(RTD(\"cqg.rtd\", ,\"ContractData\",C20, \"PerCentNetLastTrade\",, \"T\")/100,\"\")","v":1.8263391643252063E-2},{"$f":"RTD(\"cqg.rtd\", ,\"ContractData\", C20, \"T_CVol\",, \"T\")","v":1667787},20,{"$f":"IFERROR(RANK($J20,$J$1:J$607)+COUNTIF($J$1:J20,J20)-1,\"\")","v":33},"S.US.AGN","S.US.WU",{"$f":"RTD(\"cqg.rtd\", ,\"ContractData\",O20, \"PerCentNetLastTrade\",, \"T\")/100","v":2.3379383634431455E-2},"https://finance.yahoo.com/quote/WU",null,2.3379383634431455E-2,{"$error":"#N/A"},null,{"$f":"RTD(\"cqg.rtd\", ,\"ContractData\",O20, \"LongDescription\",, \"T\")","v":"The Western Union Company"},null,null,2.3379383634431455E-2,null,1,1,null,2.3379383634431455E-2,"",""]
[null,null,"S.US.AJG",{"$f":"RTD(\"cqg.rtd\", ,\"ContractData\",C21, \"LongDescription\",, \"T\")","v":"Arthur J Gallagher Co"},{"$f":"RTD(\"cqg.rtd\", ,\"ContractData\",C21, \"Open\",, \"T\")","v":56.72},{"$f":"RTD(\"cqg.rtd\", ,\"ContractData\",C21, \"High\",, \"T\")","v":56.74},{"$f":"RTD(\"cqg.rtd\", ,\"ContractData\",C21, \"Low\",, \"T\")","v":56.52},{"$f":"RTD(\"cqg.rtd\", ,\"ContractData\",C21, \"LastTradeToday\",, \"T\")","v":56.660000000000004},{"$f":"RTD(\"cqg.rtd\", ,\"ContractData\",C21, \"NetLastTradeToday\",, \"T\")","v":-0.03},{"$f":"IFERROR(RTD(\"cqg.rtd\", ,\"ContractData\",C21, \"PerCentNetLastTrade\",, \"T\")/100,\"\")","v":-5.2919386135120831E-4},{"$f":"RTD(\"cqg.rtd\", ,\"ContractData\", C21, \"T_CVol\",, \"T\")","v":203591},21,{"$f":"IFERROR(RANK($J21,$J$1:J$607)+COUNTIF($J$1:J21,J21)-1,\"\")","v":402},"S.US.AJG","S.US.EA",{"$f":"RTD(\"cqg.rtd\", ,\"ContractData\",O21, \"PerCentNetLastTrade\",, \"T\")/100","v":2.3117145216035223E-2},"https://finance.yahoo.com/quote/EA",null,2.3117145216035223E-2,{"$error":"#N/A"},null,{"$f":"RTD(\"cqg.rtd\", ,\"ContractData\",O21, \"LongDescription\",, \"T\")","v":"Electronic Arts"},null,null,2.3117145216035223E-2,null,1,1,null,2.3117145216035223E-2,"",""]
[null,null,"S.US.AKAM",{"$f":"RTD(\"cqg.rtd\", ,\"ContractData\",C22, \"LongDescription\",, \"T\")","v":"Akamai Tech Inc"},{"$f":"RTD(\"cqg.rtd\", ,\"ContractData\",C22, \"Open\",, \"T\")","v":47.54},{"$f":"RTD(\"cqg.rtd\", ,\"ContractData\",C22, \"High\",, \"T\")","v":47.92},{"$f":"RTD(\"cqg.rtd\", ,\"ContractData\",C22, \"Low\",, \"T\")","v":47.160000000000004},{"$f":"RTD(\"cqg.rtd\", ,\"ContractData\",C22, \"LastTradeToday\",, \"T\")","v":47.77},{"$f":"RTD(\"cqg.rtd\", ,\"ContractData\",C22, \"NetLastTradeToday\",, \"T\")","v":0.36},{"$f":"IFERROR(RTD(\"cqg.rtd\", ,\"ContractData\",C22, \"PerCentNetLastTrade\",, \"T\")/100,\"\")","v":7.5933347395064328E-3},{"$f":"RTD(\"cqg.rtd\", ,\"ContractData\", C22, \"T_CVol\",, \"T\")","v":1214194},22,{"$f":"IFERROR(RANK($J22,$J$1:J$607)+COUNTIF($J$1:J22,J22)-1,\"\")","v":150},"S.US.AKAM","S.US.REG",{"$f":"RTD(\"cqg.rtd\", ,\"ContractData\",O22, \"PerCentNetLastTrade\",, \"T\")/100","v":2.1231073074391045E-2},"https://finance.yahoo.com/quote/REG",null,2.1231073074391045E-2,{"$error":"#N/A"},null,{"$f":"RTD(\"cqg.rtd\", ,\"ContractData\",O22, \"LongDescription\",, \"T\")","v":"Regency Realty Corp"},null,null,2.1231073074391045E-2,null,1,1,null,2.1231073074391045E-2,"",""]
[null,null,"S.US.AKRX",{"$f":"RTD(\"cqg.rtd\", ,\"ContractData\",C23, \"LongDescription\",, \"T\")","v":"Akorn Inc"},{"$f":"RTD(\"cqg.rtd\", ,\"ContractData\",C23, \"Open\",, \"T\")","v":33.160000000000004},{"$f":"RTD(\"cqg.rtd\", ,\"ContractData\",C23, \"High\",, \"T\")","v":33.230000000000004},{"$f":"RTD(\"cqg.rtd\", ,\"ContractData\",C23, \"Low\",, \"T\")","v":33.119999999999997},{"$f":"RTD(\"cqg.rtd\", ,\"ContractData\",C23, \"LastTradeToday\",, \"T\")","v":33.160000000000004},{"$f":"RTD(\"cqg.rtd\", ,\"ContractData\",C23, \"NetLastTradeToday\",, \"T\")","v":-0.02},{"$f":"IFERROR(RTD(\"cqg.rtd\", ,\"ContractData\",C23, \"PerCentNetLastTrade\",, \"T\")/100,\"\")","v":-6.0277275467148883E-4},{"$f":"RTD(\"cqg.rtd\", ,\"ContractData\", C23, \"T_CVol\",, \"T\")","v":2068907},23,{"$f":"IFERROR(RANK($J23,$J$1:J$607)+COUNTIF($J$1:J23,J23)-1,\"\")","v":407},"S.US.AKRX","S.US.DATA",{"$f":"RTD(\"cqg.rtd\", ,\"ContractData\",O23, \"PerCentNetLastTrade\",, \"T\")/100","v":2.0923281301893058E-2},"https://finance.yahoo.com/quote/DATA",null,2.0923281301893058E-2,{"$error":"#N/A"},null,{"$f":"RTD(\"cqg.rtd\", ,\"ContractData\",O23, \"LongDescription\",, \"T\")","v":"Tableau Software Inc"},null,null,2.0923281301893058E-2,null,1,1,null,2.0923281301893058E-2,{"$f":"IFERROR(T23,\"\")","v":""},""]
[null,null,"S.US.AL",{"$f":"RTD(\"cqg.rtd\", ,\"ContractData\",C24, \"LongDescription\",, \"T\")","v":"Air Lease Corporation"},{"$f":"RTD(\"cqg.rtd\", ,\"ContractData\",C24, \"Open\",, \"T\")","v":38.5},{"$f":"RTD(\"cqg.rtd\", ,\"ContractData\",C24, \"High\",, \"T\")","v":38.770000000000003},{"$f":"RTD(\"cqg.rtd\", ,\"ContractData\",C24, \"Low\",, \"T\")","v":37.81},{"$f":"RTD(\"cqg.rtd\", ,\"ContractData\",C24, \"LastTradeToday\",, \"T\")","v":37.910000000000004},{"$f":"RTD(\"cqg.rtd\", ,\"ContractData\",C24, \"NetLastTradeToday\",, \"T\")","v":-0.6},{"$f":"IFERROR(RTD(\"cqg.rtd\", ,\"ContractData\",C24, \"PerCentNetLastTrade\",, \"T\")/100,\"\")","v":-1.5580368735393403E-2},{"$f":"RTD(\"cqg.rtd\", ,\"ContractData\", C24, \"T_CVol\",, \"T\")","v":347352},24,{"$f":"IFERROR(RANK($J24,$J$1:J$607)+COUNTIF($J$1:J24,J24)-1,\"\")","v":574},"S.US.AL","S.US.JUNO",{"$f":"RTD(\"cqg.rtd\", ,\"ContractData\",O24, \"PerCentNetLastTrade\",, \"T\")/100","v":2.0564516129032259E-2},"https://finance.yahoo.com/quote/JUNO",null,2.0564516129032259E-2,{"$error":"#N/A"},null,{"$f":"RTD(\"cqg.rtd\", ,\"ContractData\",O24, \"LongDescription\",, \"T\")","v":"Juno Therapeutics, Inc."},null,null,2.0564516129032259E-2,null,1,1,null,2.0564516129032259E-2,"",""]
[null,null,"S.US.ALGN",{"$f":"RTD(\"cqg.rtd\", ,\"ContractData\",C25, \"LongDescription\",, \"T\")","v":"Align Technology Inc"},{"$f":"RTD(\"cqg.rtd\", ,\"ContractData\",C25, \"Open\",, \"T\")","v":138.78},{"$f":"RTD(\"cqg.rtd\", ,\"ContractData\",C25, \"High\",, \"T\")","v":139.26},{"$f":"RTD(\"cqg.rtd\", ,\"ContractData\",C25, \"Low\",, \"T\")","v":137.78},{"$f":"RTD(\"cqg.rtd\", ,\"ContractData\",C25, \"LastTradeToday\",, \"T\")","v":138.20000000000002},{"$f":"RTD(\"cqg.rtd\", ,\"ContractData\",C25, \"NetLastTradeToday\",, \"T\")","v":-0.02},{"$f":"IFERROR(RTD(\"cqg.rtd\", ,\"ContractData\",C25, \"PerCentNetLastTrade\",, \"T\")/100,\"\")","v":-1.446968600781363E-4},{"$f":"RTD(\"cqg.rtd\", ,\"ContractData\", C25, \"T_CVol\",, \"T\")","v":645621},25,{"$f":"IFERROR(RANK($J25,$J$1:J$607)+COUNTIF($J$1:J25,J25)-1,\"\")","v":390},"S.US.ALGN","S.US.TWLO",{"$f":"RTD(\"cqg.rtd\", ,\"ContractData\",O25, \"PerCentNetLastTrade\",, \"T\")/100","v":2.0344287949921755E-2},"https://finance.yahoo.com/quote/TWLO",null,2.0344287949921755E-2,{"$error":"#N/A"},null,{"$f":"RTD(\"cqg.rtd\", ,\"ContractData\",O25, \"LongDescription\",, \"T\")","v":"Twilio Inc."},null,null,2.0344287949921755E-2,null,1,1,null,{"$f":"IFERROR(S25,\"\")","v":2.0344287949921755E-2},{"$f":"IFERROR(T25,\"\")","v":""},""]
[null,null,"S.US.ALK",{"$f":"RTD(\"cqg.rtd\", ,\"ContractData\",C26, \"LongDescription\",, \"T\")","v":"Alaska Air Group Inc"},{"$f":"RTD(\"cqg.rtd\", ,\"ContractData\",C26, \"Open\",, \"T\")","v":85.850000000000009},{"$f":"RTD(\"cqg.rtd\", ,\"ContractData\",C26, \"High\",, \"T\")","v":86.53},{"$f":"RTD(\"cqg.rtd\", ,\"ContractData\",C26, \"Low\",, \"T\")","v":84.56},{"$f":"RTD(\"cqg.rtd\", ,\"ContractData\",C26, \"LastTradeToday\",, \"T\")","v":84.63},{"$f":"RTD(\"cqg.rtd\", ,\"ContractData\",C26, \"NetLastTradeToday\",, \"T\")","v":-1.1500000000000001},{"$f":"IFERROR(RTD(\"cqg.rtd\", ,\"ContractData\",C26, \"PerCentNetLastTrade\",, \"T\")/100,\"\")","v":-1.3406388435532759E-2},{"$f":"RTD(\"cqg.rtd\", ,\"ContractData\", C26, \"T_CVol\",, \"T\")","v":693654},26,{"$f":"IFERROR(RANK($J26,$J$1:J$607)+COUNTIF($J$1:J26,J26)-1,\"\")","v":566},"S.US.ALK","S.US.GDDY",{"$f":"RTD(\"cqg.rtd\", ,\"ContractData\",O26, \"PerCentNetLastTrade\",, \"T\")/100","v":2.0231926967678265E-2},"https://finance.yahoo.com/quote/GDDY",null,2.0231926967678265E-2,{"$error":"#N/A"},null,{"$f":"RTD(\"cqg.rtd\", ,\"ContractData\",O26, \"LongDescription\",, \"T\")","v":"GoDaddy Inc."},null,null,2.0231926967678265E-2,null,1,1]
[null,null,"S.US.ALKS",{"$f":"RTD(\"cqg.rtd\", ,\"ContractData\",C27, \"LongDescription\",, \"T\")","v":"Alkermes plc"},{"$f":"RTD(\"cqg.rtd\", ,\"ContractData\",C27, \"Open\",, \"T\")","v":57.72},{"$f":"RTD(\"cqg.rtd\", ,\"ContractData\",C27, \"High\",, \"T\")","v":58.22},{"$f":"RTD(\"cqg.rtd\", ,\"ContractData\",C27, \"Low\",, \"T\")","v":57.120000000000005},{"$f":"RTD(\"cqg.rtd\", ,\"ContractData\",C27, \"LastTradeToday\",, \"T\")","v":58.21},{"$f":"RTD(\"cqg.rtd\", ,\"ContractData\",C27, \"NetLastTradeToday\",, \"T\")","v":0.5},{"$f":"IFERROR(RTD(\"cqg.rtd\", ,\"ContractData\",C27, \"PerCentNetLastTrade\",, \"T\")/100,\"\")","v":8.664009703690868E-3},{"$f":"RTD(\"cqg.rtd\", ,\"ContractData\", C27, \"T_CVol\",, \"T\")","v":576155},27,{"$f":"IFERROR(RANK($J27,$J$1:J$607)+COUNTIF($J$1:J27,J27)-1,\"\")","v":128},"S.US.ALKS","S.US.PTC",{"$f":"RTD(\"cqg.rtd\", ,\"ContractData\",O27, \"PerCentNetLastTrade\",, \"T\")/100","v":1.9499105545617172E-2},"https://finance.yahoo.com/quote/PTC",null,1.9499105545617172E-2,{"$error":"#N/A"},null,{"$f":"RTD(\"cqg.rtd\", ,\"ContractData\",O27, \"LongDescription\",, \"T\")","v":"PTC Inc"},null,null,1.9499105545617172E-2,null,1,1]
[null,null,"S.US.ALLE",{"$f":"RTD(\"cqg.rtd\", ,\"ContractData\",C28, \"LongDescription\",, \"T\")","v":"Allegion plc"},{"$f":"RTD(\"cqg.rtd\", ,\"ContractData\",C28, \"Open\",, \"T\")","v":79},{"$f":"RTD(\"cqg.rtd\", ,\"ContractData\",C28, \"High\",, \"T\")","v":79.239999999999995},{"$f":"RTD(\"cqg.rtd\", ,\"ContractData\",C28, \"Low\",, \"T\")","v":78.650000000000006},{"$f":"RTD(\"cqg.rtd\", ,\"ContractData\",C28, \"LastTradeToday\",, \"T\")","v":79.150000000000006},{"$f":"RTD(\"cqg.rtd\", ,\"ContractData\",C28, \"NetLastTradeToday\",, \"T\")","v":0.25},{"$f":"IFERROR(RTD(\"cqg.rtd\", ,\"ContractData\",C28, \"PerCentNetLastTrade\",, \"T\")/100,\"\")","v":3.1685678073510777E-3},{"$f":"RTD(\"cqg.rtd\", ,\"ContractData\", C28, \"T_CVol\",, \"T\")","v":371865},28,{"$f":"IFERROR(RANK($J28,$J$1:J$607)+COUNTIF($J$1:J28,J28)-1,\"\")","v":272},"S.US.ALLE","S.US.SKT",{"$f":"RTD(\"cqg.rtd\", ,\"ContractData\",O28, \"PerCentNetLastTrade\",, \"T\")/100","v":1.9230769230769232E-2},"https://finance.yahoo.com/quote/SKT",null,1.9230769230769232E-2,{"$error":"#N/A"},null,{"$f":"RTD(\"cqg.rtd\", ,\"ContractData\",O28, \"LongDescription\",, \"T\")","v":"Tanger Factory Outlet Centers, Inc."},null,null,1.9230769230769232E-2,null,1,1]
[null,null,"S.US.ALNY",{"$f":"RTD(\"cqg.rtd\", ,\"ContractData\",C29, \"LongDescription\",, \"T\")","v":"Alnylam Pharmaceuticals, Inc."},{"$f":"RTD(\"cqg.rtd\", ,\"ContractData\",C29, \"Open\",, \"T\")","v":71.44},{"$f":"RTD(\"cqg.rtd\", ,\"ContractData\",C29, \"High\",, \"T\")","v":71.48},{"$f":"RTD(\"cqg.rtd\", ,\"ContractData\",C29, \"Low\",, \"T\")","v":67.34},{"$f":"RTD(\"cqg.rtd\", ,\"ContractData\",C29, \"LastTradeToday\",, \"T\")","v":71.02},{"$f":"RTD(\"cqg.rtd\", ,\"ContractData\",C29, \"NetLastTradeToday\",, \"T\")","v":-3.85},{"$f":"IFERROR(RTD(\"cqg.rtd\", ,\"ContractData\",C29, \"PerCentNetLastTrade\",, \"T\")/100,\"\")","v":-5.1422465607052228E-2},{"$f":"RTD(\"cqg.rtd\", ,\"ContractData\", C29, \"T_CVol\",, \"T\")","v":3162400},29,{"$f":"IFERROR(RANK($J29,$J$1:J$607)+COUNTIF($J$1:J29,J29)-1,\"\")","v":605},"S.US.ALNY","S.US.MKTX",{"$f":"RTD(\"cqg.rtd\", ,\"ContractData\",O29, \"PerCentNetLastTrade\",, \"T\")/100","v":1.9095744680851064E-2},"https://finance.yahoo.com/quote/MKTX",null,1.9095744680851064E-2,{"$error":"#N/A"},null,{"$f":"RTD(\"cqg.rtd\", ,\"ContractData\",O29, \"LongDescription\",, \"T\")","v":"MarketAxcess Inc"},null,null,1.9095744680851064E-2,null,1,1]
[null,null,"S.US.ALR",{"$f":"RTD(\"cqg.rtd\", ,\"ContractData\",C30, \"LongDescription\",, \"T\")","v":"Alere Inc"},{"$f":"RTD(\"cqg.rtd\", ,\"ContractData\",C30, \"Open\",, \"T\")","v":48.910000000000004},{"$f":"RTD(\"cqg.rtd\", ,\"ContractData\",C30, \"High\",, \"T\")","v":48.910000000000004},{"$f":"RTD(\"cqg.rtd\", ,\"ContractData\",C30, \"Low\",, \"T\")","v":48.7},{"$f":"RTD(\"cqg.rtd\", ,\"ContractData\",C30, \"LastTradeToday\",, \"T\")","v":48.800000000000004},{"$f":"RTD(\"cqg.rtd\", ,\"ContractData\",C30, \"NetLastTradeToday\",, \"T\")","v":-0.05},{"$f":"IFERROR(RTD(\"cqg.rtd\", ,\"ContractData\",C30, \"PerCentNetLastTrade\",, \"T\")/100,\"\")","v":-1.0235414534288639E-3},{"$f":"RTD(\"cqg.rtd\", ,\"ContractData\", C30, \"T_CVol\",, \"T\")","v":380254},30,{"$f":"IFERROR(RANK($J30,$J$1:J$607)+COUNTIF($J$1:J30,J30)-1,\"\")","v":416},"S.US.ALR","S.US.BIIB",{"$f":"RTD(\"cqg.rtd\", ,\"ContractData\",O30, \"PerCentNetLastTrade\",, \"T\")/100","v":1.898428053204353E-2},"https://finance.yahoo.com/quote/BIIB",null,1.898428053204353E-2,{"$error":"#N/A"},null,{"$f":"RTD(\"cqg.rtd\", ,\"ContractData\",O30, \"LongDescription\",, \"T\")","v":"Biogen Inc."},null,null,1.898428053204353E-2,null,1,1]
[null,null,"S.US.ALXN",{"$f":"RTD(\"cqg.rtd\", ,\"ContractData\",C31, \"LongDescription\",, \"T\")","v":"Alexion Pharmaceuticals"},{"$f":"RTD(\"cqg.rtd\", ,\"ContractData\",C31, \"Open\",, \"T\")","v":104.5},{"$f":"RTD(\"cqg.rtd\", ,\"ContractData\",C31, \"High\",, \"T\")","v":105},{"$f":"RTD(\"cqg.rtd\", ,\"ContractData\",C31, \"Low\",, \"T\")","v":98.63},{"$f":"RTD(\"cqg.rtd\", ,\"ContractData\",C31, \"LastTradeToday\",, \"T\")","v":101.8},{"$f":"RTD(\"cqg.rtd\", ,\"ContractData\",C31, \"NetLastTradeToday\",, \"T\")","v":-2.84},{"$f":"IFERROR(RTD(\"cqg.rtd\", ,\"ContractData\",C31, \"PerCentNetLastTrade\",, \"T\")/100,\"\")","v":-2.714067278287462E-2},{"$f":"RTD(\"cqg.rtd\", ,\"ContractData\", C31, \"T_CVol\",, \"T\")","v":7769377},31,{"$f":"IFERROR(RANK($J31,$J$1:J$607)+COUNTIF($J$1:J31,J31)-1,\"\")","v":597},"S.US.ALXN","S.US.LVNTA",{"$f":"RTD(\"cqg.rtd\", ,\"ContractData\",O31, \"PerCentNetLastTrade\",, \"T\")/100","v":1.8532969176746003E-2},"https://finance.yahoo.com/quote/LVNTA",null,1.8532969176746003E-2,{"$error":"#N/A"},null,{"$f":"RTD(\"cqg.rtd\", ,\"ContractData\",O31, \"LongDescription\",, \"T\")","v":"Liberty Interactive Corporation Series A"},null,null,1.8532969176746003E-2,null,1,1]
[null,null,"S.US.AMAT",{"$f":"RTD(\"cqg.rtd\", ,\"ContractData\",C32, \"LongDescription\",, \"T\")","v":"Applied Materials Inc"},{"$f":"RTD(\"cqg.rtd\", ,\"ContractData\",C32, \"Open\",, \"T\")","v":45},{"$f":"RTD(\"cqg.rtd\", ,\"ContractData\",C32, \"High\",, \"T\")","v":45.13},{"$f":"RTD(\"cqg.rtd\", ,\"ContractData\",C32, \"Low\",, \"T\")","v":44.47},{"$f":"RTD(\"cqg.rtd\", ,\"ContractData\",C32, \"LastTradeToday\",, \"T\")","v":44.61},{"$f":"RTD(\"cqg.rtd\", ,\"ContractData\",C32, \"NetLastTradeToday\",, \"T\")","v":-0.3},{"$f":"IFERROR(RTD(\"cqg.rtd\", ,\"ContractData\",C32, \"PerCentNetLastTrade\",, \"T\")/100,\"\")","v":-6.6800267201068807E-3},{"$f":"RTD(\"cqg.rtd\", ,\"ContractData\", C32, \"T_CVol\",, \"T\")","v":4931247},32,{"$f":"IFERROR(RANK($J32,$J$1:J$607)+COUNTIF($J$1:J32,J32)-1,\"\")","v":505},"S.US.AMAT","S.US.ESS",{"$f":"RTD(\"cqg.rtd\", ,\"ContractData\",O32, \"PerCentNetLastTrade\",, \"T\")/100","v":1.8298733775255031E-2},"https://finance.yahoo.com/quote/ESS",null,1.8298733775255031E-2,{"$error":"#N/A"},null,{"$f":"RTD(\"cqg.rtd\", ,\"ContractData\",O32, \"LongDescription\",, \"T\")","v":"Essex Property Trust Inc"},null,null,1.8298733775255031E-2,null,1,1]
[null,null,"S.US.AMCX",{"$f":"RTD(\"cqg.rtd\", ,\"ContractData\",C33, \"LongDescription\",, \"T\")","v":"AMC Networks Inc. Class A"},{"$f":"RTD(\"cqg.rtd\", ,\"ContractData\",C33, \"Open\",, \"T\")","v":52.68},{"$f":"RTD(\"cqg.rtd\", ,\"ContractData\",C33, \"High\",, \"T\")","v":52.78},{"$f":"RTD(\"cqg.rtd\", ,\"ContractData\",C33, \"Low\",, \"T\")","v":52.27},{"$f":"RTD(\"cqg.rtd\", ,\"ContractData\",C33, \"LastTradeToday\",, \"T\")","v":52.4},{"$f":"RTD(\"cqg.rtd\", ,\"ContractData\",C33, \"NetLastTradeToday\",, \"T\")","v":-0.32},{"$f":"IFERROR(RTD(\"cqg.rtd\", ,\"ContractData\",C33, \"PerCentNetLastTrade\",, \"T\")/100,\"\")","v":-6.0698027314112293E-3},{"$f":"RTD(\"cqg.rtd\", ,\"ContractData\", C33, \"T_CVol\",, \"T\")","v":306674},33,{"$f":"IFERROR(RANK($J33,$J$1:J$607)+COUNTIF($J$1:J33,J33)-1,\"\")","v":497},"S.US.AMCX","S.US.AGN",{"$f":"RTD(\"cqg.rtd\", ,\"ContractData\",O33, \"PerCentNetLastTrade\",, \"T\")/100","v":1.8263391643252063E-2},"https://finance.yahoo.com/quote/AGN",null,1.8263391643252063E-2,{"$error":"#N/A"},null,{"$f":"RTD(\"cqg.rtd\", ,\"ContractData\",O33, \"LongDescription\",, \"T\")","v":"Allergan plc"},null,null,1.8263391643252063E-2,null,1,1]
[null,null,"S.US.AME",{"$f":"RTD(\"cqg.rtd\", ,\"ContractData\",C34, \"LongDescription\",, \"T\")","v":"Ametek Inc New"},{"$f":"RTD(\"cqg.rtd\", ,\"ContractData\",C34, \"Open\",, \"T\")","v":60.83},{"$f":"RTD(\"cqg.rtd\", ,\"ContractData\",C34, \"High\",, \"T\")","v":61.300000000000004},{"$f":"RTD(\"cqg.rtd\", ,\"ContractData\",C34, \"Low\",, \"T\")","v":60.63},{"$f":"RTD(\"cqg.rtd\", ,\"ContractData\",C34, \"LastTradeToday\",, \"T\")","v":60.86},{"$f":"RTD(\"cqg.rtd\", ,\"ContractData\",C34, \"NetLastTradeToday\",, \"T\")","v":0.3},{"$f":"IFERROR(RTD(\"cqg.rtd\", ,\"ContractData\",C34, \"PerCentNetLastTrade\",, \"T\")/100,\"\")","v":4.9537648612945837E-3},{"$f":"RTD(\"cqg.rtd\", ,\"ContractData\", C34, \"T_CVol\",, \"T\")","v":656851},34,{"$f":"IFERROR(RANK($J34,$J$1:J$607)+COUNTIF($J$1:J34,J34)-1,\"\")","v":216},"S.US.AME","S.US.ZG",{"$f":"RTD(\"cqg.rtd\", ,\"ContractData\",O34, \"PerCentNetLastTrade\",, \"T\")/100","v":1.7957089552238806E-2},"https://finance.yahoo.com/quote/ZG",null,1.7957089552238806E-2,{"$error":"#N/A"},null,{"$f":"RTD(\"cqg.rtd\", ,\"ContractData\",O34, \"LongDescription\",, \"T\")","v":"Zillow Group, Inc. Class A"},null,null,1.7957089552238806E-2,null,1,1]
[null,null,"S.US.AMG",{"$f":"RTD(\"cqg.rtd\", ,\"ContractData\",C35, \"LongDescription\",, \"T\")","v":"Affiliated Managers Grp Inc"},{"$f":"RTD(\"cqg.rtd\", ,\"ContractData\",C35, \"Open\",, \"T\")","v":152.68},{"$f":"RTD(\"cqg.rtd\", ,\"ContractData\",C35, \"High\",, \"T\")","v":153.1},{"$f":"RTD(\"cqg.rtd\", ,\"ContractData\",C35, \"Low\",, \"T\")","v":151.39000000000001},{"$f":"RTD(\"cqg.rtd\", ,\"ContractData\",C35, \"LastTradeToday\",, \"T\")","v":152.06},{"$f":"RTD(\"cqg.rtd\", ,\"ContractData\",C35, \"NetLastTradeToday\",, \"T\")","v":-0.6},{"$f":"IFERROR(RTD(\"cqg.rtd\", ,\"ContractData\",C35, \"PerCentNetLastTrade\",, \"T\")/100,\"\")","v":-3.9303026333027645E-3},{"$f":"RTD(\"cqg.rtd\", ,\"ContractData\", C35, \"T_CVol\",, \"T\")","v":191547},35,{"$f":"IFERROR(RANK($J35,$J$1:J$607)+COUNTIF($J$1:J35,J35)-1,\"\")","v":467},"S.US.AMG","S.US.IT",{"$f":"RTD(\"cqg.rtd\", ,\"ContractData\",O35, \"PerCentNetLastTrade\",, \"T\")/100","v":1.7865000440024641E-2},"https://finance.yahoo.com/quote/IT",null,1.7865000440024641E-2,{"$error":"#N/A"},null,{"$f":"RTD(\"cqg.rtd\", ,\"ContractData\",O35, \"LongDescription\",, \"T\")","v":"Gartner Group"},null,null,1.7865000440024641E-2,null,1,1]
[null,null,"S.US.AMGN",{"$f":"RTD(\"cqg.rtd\", ,\"ContractData\",C36, \"LongDescription\",, \"T\")","v":"Amgen Inc"},{"$f":"RTD(\"cqg.rtd\", ,\"ContractData\",C36, \"Open\",, \"T\")","v":154.77000000000001},{"$f":"RTD(\"cqg.rtd\", ,\"ContractData\",C36, \"High\",, \"T\")","v":154.77000000000001},{"$f":"RTD(\"cqg.rtd\", ,\"ContractData\",C36, \"Low\",, \"T\")","v":153.79},{"$f":"RTD(\"cqg.rtd\", ,\"ContractData\",C36, \"LastTradeToday\",, \"T\")","v":154.55000000000001},{"$f":"RTD(\"cqg.rtd\", ,\"ContractData\",C36, \"NetLastTradeToday\",, \"T\")","v":0.48},{"$f":"IFERROR(RTD(\"cqg.rtd\", ,\"ContractData\",C36, \"PerCentNetLastTrade\",, \"T\")/100,\"\")","v":3.1154669955215162E-3},{"$f":"RTD(\"cqg.rtd\", ,\"ContractData\", C36, \"T_CVol\",, \"T\")","v":1878238},36,{"$f":"IFERROR(RANK($J36,$J$1:J$607)+COUNTIF($J$1:J36,J36)-1,\"\")","v":275},"S.US.AMGN","S.US.PX",{"$f":"RTD(\"cqg.rtd\", ,\"ContractData\",O36, \"PerCentNetLastTrade\",, \"T\")/100","v":1.7850273139955374E-2},"https://finance.yahoo.com/quote/PX",null,1.7850273139955374E-2,{"$error":"#N/A"},null,{"$f":"RTD(\"cqg.rtd\", ,\"ContractData\",O36, \"LongDescription\",, \"T\")","v":"Praxair Inc"},null,null,1.7850273139955374E-2,null,1,1]
[null,null,"S.US.AMP",{"$f":"RTD(\"cqg.rtd\", ,\"ContractData\",C37, \"LongDescription\",, \"T\")","v":"Ameriprise Financial Inc"},{"$f":"RTD(\"cqg.rtd\", ,\"ContractData\",C37, \"Open\",, \"T\")","v":123},{"$f":"RTD(\"cqg.rtd\", ,\"ContractData\",C37, \"High\",, \"T\")","v":123.64},{"$f":"RTD(\"cqg.rtd\", ,\"ContractData\",C37, \"Low\",, \"T\")","v":121.06},{"$f":"RTD(\"cqg.rtd\", ,\"ContractData\",C37, \"LastTradeToday\",, \"T\")","v":121.41},{"$f":"RTD(\"cqg.rtd\", ,\"ContractData\",C37, \"NetLastTradeToday\",, \"T\")","v":-1.57},{"$f":"IFERROR(RTD(\"cqg.rtd\", ,\"ContractData\",C37, \"PerCentNetLastTrade\",, \"T\")/100,\"\")","v":-1.2766303463977882E-2},{"$f":"RTD(\"cqg.rtd\", ,\"ContractData\", C37, \"T_CVol\",, \"T\")","v":600253},37,{"$f":"IFERROR(RANK($J37,$J$1:J$607)+COUNTIF($J$1:J37,J37)-1,\"\")","v":564},"S.US.AMP","S.US.ANTM",{"$f":"RTD(\"cqg.rtd\", ,\"ContractData\",O37, \"PerCentNetLastTrade\",, \"T\")/100","v":1.7838050756851048E-2},"https://finance.yahoo.com/quote/ANTM",null,1.7838050756851048E-2,{"$error":"#N/A"},null,{"$f":"RTD(\"cqg.rtd\", ,\"ContractData\",O37, \"LongDescription\",, \"T\")","v":"Anthem, Inc."},null,null,1.7838050756851048E-2,null,1,1]
[null,null,"S.US.AMT",{"$f":"RTD(\"cqg.rtd\", ,\"ContractData\",C38, \"LongDescription\",, \"T\")","v":"American Tower Corp ClA"},{"$f":"RTD(\"cqg.rtd\", ,\"ContractData\",C38, \"Open\",, \"T\")","v":128.66},{"$f":"RTD(\"cqg.rtd\", ,\"ContractData\",C38, \"High\",, \"T\")","v":129.72},{"$f":"RTD(\"cqg.rtd\", ,\"ContractData\",C38, \"Low\",, \"T\")","v":128.66},{"$f":"RTD(\"cqg.rtd\", ,\"ContractData\",C38, \"LastTradeToday\",, \"T\")","v":129.57},{"$f":"RTD(\"cqg.rtd\", ,\"ContractData\",C38, \"NetLastTradeToday\",, \"T\")","v":0.84},{"$f":"IFERROR(RTD(\"cqg.rtd\", ,\"ContractData\",C38, \"PerCentNetLastTrade\",, \"T\")/100,\"\")","v":6.5252854812398045E-3},{"$f":"RTD(\"cqg.rtd\", ,\"ContractData\", C38, \"T_CVol\",, \"T\")","v":743143},38,{"$f":"IFERROR(RANK($J38,$J$1:J$607)+COUNTIF($J$1:J38,J38)-1,\"\")","v":181},"S.US.AMT","S.US.Z",{"$f":"RTD(\"cqg.rtd\", ,\"ContractData\",O38, \"PerCentNetLastTrade\",, \"T\")/100","v":1.7593244194229415E-2},"https://finance.yahoo.com/quote/Z",null,1.7593244194229415E-2,{"$error":"#N/A"},null,{"$f":"RTD(\"cqg.rtd\", ,\"ContractData\",O38, \"LongDescription\",, \"T\")","v":"Zillow Group, Inc. Class A"},null,null,1.7593244194229415E-2,null,1,1]
[null,null,"S.US.AMTD",{"$f":"RTD(\"cqg.rtd\", ,\"ContractData\",C39, \"LongDescription\",, \"T\")","v":"TD Ameritrade Holding Corp"},{"$f":"RTD(\"cqg.rtd\", ,\"ContractData\",C39, \"Open\",, \"T\")","v":37.47},{"$f":"RTD(\"cqg.rtd\", ,\"ContractData\",C39, \"High\",, \"T\")","v":37.58},{"$f":"RTD(\"cqg.rtd\", ,\"ContractData\",C39, \"Low\",, \"T\")","v":37.14},{"$f":"RTD(\"cqg.rtd\", ,\"ContractData\",C39, \"LastTradeToday\",, \"T\")","v":37.25},{"$f":"RTD(\"cqg.rtd\", ,\"ContractData\",C39, \"NetLastTradeToday\",, \"T\")","v":-0.18},{"$f":"IFERROR(RTD(\"cqg.rtd\", ,\"ContractData\",C39, \"PerCentNetLastTrade\",, \"T\")/100,\"\")","v":-4.8089767566123435E-3},{"$f":"RTD(\"cqg.rtd\", ,\"ContractData\", C39, \"T_CVol\",, \"T\")","v":1052895},39,{"$f":"IFERROR(RANK($J39,$J$1:J$607)+COUNTIF($J$1:J39,J39)-1,\"\")","v":477},"S.US.AMTD","S.US.PPC",{"$f":"RTD(\"cqg.rtd\", ,\"ContractData\",O39, \"PerCentNetLastTrade\",, \"T\")/100","v":1.7491467576791809E-2},"https://finance.yahoo.com/quote/PPC",null,1.7491467576791809E-2,{"$error":"#N/A"},null,{"$f":"RTD(\"cqg.rtd\", ,\"ContractData\",O39, \"LongDescription\",, \"T\")","v":"Pilgrim's Pride Corporation"},null,null,1.7491467576791809E-2,null,1,1]
[null,null,"S.US.AMZN",{"$f":"RTD(\"cqg.rtd\", ,\"ContractData\",C40, \"LongDescription\",, \"T\")","v":"Amazon.com Inc"},{"$f":"RTD(\"cqg.rtd\", ,\"ContractData\",C40, \"Open\",, \"T\")","v":976},{"$f":"RTD(\"cqg.rtd\", ,\"ContractData\",C40, \"High\",, \"T\")","v":977.08},{"$f":"RTD(\"cqg.rtd\", ,\"ContractData\",C40, \"Low\",, \"T\")","v":970.23},{"$f":"RTD(\"cqg.rtd\", ,\"ContractData\",C40, \"LastTradeToday\",, \"T\")","v":976.66},{"$f":"RTD(\"cqg.rtd\", ,\"ContractData\",C40, \"NetLastTradeToday\",, \"T\")","v":5.12},{"$f":"IFERROR(RTD(\"cqg.rtd\", ,\"ContractData\",C40, \"PerCentNetLastTrade\",, \"T\")/100,\"\")","v":5.2699837371595615E-3},{"$f":"RTD(\"cqg.rtd\", ,\"ContractData\", C40, \"T_CVol\",, \"T\")","v":1384105},40,{"$f":"IFERROR(RANK($J40,$J$1:J$607)+COUNTIF($J$1:J40,J40)-1,\"\")","v":207},"S.US.AMZN","S.US.CTAS",{"$f":"RTD(\"cqg.rtd\", ,\"ContractData\",O40, \"PerCentNetLastTrade\",, \"T\")/100","v":1.7076558542364572E-2},"https://finance.yahoo.com/quote/CTAS",null,1.7076558542364572E-2,{"$error":"#N/A"},null,{"$f":"RTD(\"cqg.rtd\", ,\"ContractData\",O40, \"LongDescription\",, \"T\")","v":"Cintas Corp"},null,null,1.7076558542364572E-2,null,1,1]
[null,null,"S.US.AN",{"$f":"RTD(\"cqg.rtd\", ,\"ContractData\",C41, \"LongDescription\",, \"T\")","v":"AutoNation Inc"},{"$f":"RTD(\"cqg.rtd\", ,\"ContractData\",C41, \"Open\",, \"T\")","v":38.99},{"$f":"RTD(\"cqg.rtd\", ,\"ContractData\",C41, \"High\",, \"T\")","v":39.56},{"$f":"RTD(\"cqg.rtd\", ,\"ContractData\",C41, \"Low\",, \"T\")","v":38.79},{"$f":"RTD(\"cqg.rtd\", ,\"ContractData\",C41, \"LastTradeToday\",, \"T\")","v":39.47},{"$f":"RTD(\"cqg.rtd\", ,\"ContractData\",C41, \"NetLastTradeToday\",, \"T\")","v":0.48},{"$f":"IFERROR(RTD(\"cqg.rtd\", ,\"ContractData\",C41, \"PerCentNetLastTrade\",, \"T\")/100,\"\")","v":1.2310848935624518E-2},{"$f":"RTD(\"cqg.rtd\", ,\"ContractData\", C41, \"T_CVol\",, \"T\")","v":459295},41,{"$f":"IFERROR(RANK($J41,$J$1:J$607)+COUNTIF($J$1:J41,J41)-1,\"\")","v":76},"S.US.AN","S.US.AET",{"$f":"RTD(\"cqg.rtd\", ,\"ContractData\",O41, \"PerCentNetLastTrade\",, \"T\")/100","v":1.705546550144478E-2},"https://finance.yahoo.com/quote/AET",null,1.705546550144478E-2,{"$error":"#N/A"},null,{"$f":"RTD(\"cqg.rtd\", ,\"ContractData\",O41, \"LongDescription\",, \"T\")","v":"Aetna Inc"},null,null,1.705546550144478E-2,null,1,1]
[null,null,"S.US.ANET",{"$f":"RTD(\"cqg.rtd\", ,\"ContractData\",C42, \"LongDescription\",, \"T\")","v":"Arista Networks, Inc."},{"$f":"RTD(\"cqg.rtd\", ,\"ContractData\",C42, \"Open\",, \"T\")","v":143.59},{"$f":"RTD(\"cqg.rtd\", ,\"ContractData\",C42, \"High\",, \"T\")","v":144.33000000000001},{"$f":"RTD(\"cqg.rtd\", ,\"ContractData\",C42, \"Low\",, \"T\")","v":143.21},{"$f":"RTD(\"cqg.rtd\", ,\"ContractData\",C42, \"LastTradeToday\",, \"T\")","v":143.85},{"$f":"RTD(\"cqg.rtd\", ,\"ContractData\",C42, \"NetLastTradeToday\",, \"T\")","v":0.65},{"$f":"IFERROR(RTD(\"cqg.rtd\", ,\"ContractData\",C42, \"PerCentNetLastTrade\",, \"T\")/100,\"\")","v":4.5391061452513962E-3},{"$f":"RTD(\"cqg.rtd\", ,\"ContractData\", C42, \"T_CVol\",, \"T\")","v":186056},42,{"$f":"IFERROR(RANK($J42,$J$1:J$607)+COUNTIF($J$1:J42,J42)-1,\"\")","v":227},"S.US.ANET","S.US.FRT",{"$f":"RTD(\"cqg.rtd\", ,\"ContractData\",O42, \"PerCentNetLastTrade\",, \"T\")/100","v":1.6864211279929996E-2},"https://finance.yahoo.com/quote/FRT",null,1.6864211279929996E-2,{"$error":"#N/A"},null,{"$f":"RTD(\"cqg.rtd\", ,\"ContractData\",O42, \"LongDescription\",, \"T\")","v":"Federal Realty Invstmt Trst"},null,null,1.6864211279929996E-2,null,1,1]
[null,null,"S.US.ANSS",{"$f":"RTD(\"cqg.rtd\", ,\"ContractData\",C43, \"LongDescription\",, \"T\")","v":"ANSYS Inc"},{"$f":"RTD(\"cqg.rtd\", ,\"ContractData\",C43, \"Open\",, \"T\")","v":125.08},{"$f":"RTD(\"cqg.rtd\", ,\"ContractData\",C43, \"High\",, \"T\")","v":125.65},{"$f":"RTD(\"cqg.rtd\", ,\"ContractData\",C43, \"Low\",, \"T\")","v":123.89},{"$f":"RTD(\"cqg.rtd\", ,\"ContractData\",C43, \"LastTradeToday\",, \"T\")","v":124.03},{"$f":"RTD(\"cqg.rtd\", ,\"ContractData\",C43, \"NetLastTradeToday\",, \"T\")","v":-0.63},{"$f":"IFERROR(RTD(\"cqg.rtd\", ,\"ContractData\",C43, \"PerCentNetLastTrade\",, \"T\")/100,\"\")","v":-5.0537461896358092E-3},{"$f":"RTD(\"cqg.rtd\", ,\"ContractData\", C43, \"T_CVol\",, \"T\")","v":846877},43,{"$f":"IFERROR(RANK($J43,$J$1:J$607)+COUNTIF($J$1:J43,J43)-1,\"\")","v":482},"S.US.ANSS","S.US.DNKN",{"$f":"RTD(\"cqg.rtd\", ,\"ContractData\",O43, \"PerCentNetLastTrade\",, \"T\")/100","v":1.6693591814754983E-2},"https://finance.yahoo.com/quote/DNKN",null,1.6693591814754983E-2,{"$error":"#N/A"},null,{"$f":"RTD(\"cqg.rtd\", ,\"ContractData\",O43, \"LongDescription\",, \"T\")","v":"Dunkin' Brands Group, Inc."},null,null,1.6693591814754983E-2,null,1,1]
[null,null,"S.US.ANTM",{"$f":"RTD(\"cqg.rtd\", ,\"ContractData\",C44, \"LongDescription\",, \"T\")","v":"Anthem, Inc."},{"$f":"RTD(\"cqg.rtd\", ,\"ContractData\",C44, \"Open\",, \"T\")","v":178.23},{"$f":"RTD(\"cqg.rtd\", ,\"ContractData\",C44, \"High\",, \"T\")","v":181.20000000000002},{"$f":"RTD(\"cqg.rtd\", ,\"ContractData\",C44, \"Low\",, \"T\")","v":177.21},{"$f":"RTD(\"cqg.rtd\", ,\"ContractData\",C44, \"LastTradeToday\",, \"T\")","v":180.88},{"$f":"RTD(\"cqg.rtd\", ,\"ContractData\",C44, \"NetLastTradeToday\",, \"T\")","v":3.17},{"$f":"IFERROR(RTD(\"cqg.rtd\", ,\"ContractData\",C44, \"PerCentNetLastTrade\",, \"T\")/100,\"\")","v":1.7838050756851048E-2},{"$f":"RTD(\"cqg.rtd\", ,\"ContractData\", C44, \"T_CVol\",, \"T\")","v":587113},44,{"$f":"IFERROR(RANK($J44,$J$1:J$607)+COUNTIF($J$1:J44,J44)-1,\"\")","v":37},"S.US.ANTM","S.US.YUM",{"$f":"RTD(\"cqg.rtd\", ,\"ContractData\",O44, \"PerCentNetLastTrade\",, \"T\")/100","v":1.6638465877044557E-2},"https://finance.yahoo.com/quote/YUM",null,1.6638465877044557E-2,{"$error":"#N/A"},null,{"$f":"RTD(\"cqg.rtd\", ,\"ContractData\",O44, \"LongDescription\",, \"T\")","v":"Yum Brands Inc"},null,null,1.6638465877044557E-2,null,1,1]
[null,null,"S.US.AON",{"$f":"RTD(\"cqg.rtd\", ,\"ContractData\",C45, \"LongDescription\",, \"T\")","v":"AON Corporation"},{"$f":"RTD(\"cqg.rtd\", ,\"ContractData\",C45, \"Open\",, \"T\")","v":128.96},{"$f":"RTD(\"cqg.rtd\", ,\"ContractData\",C45, \"High\",, \"T\")","v":129.13},{"$f":"RTD(\"cqg.rtd\", ,\"ContractData\",C45, \"Low\",, \"T\")","v":128.62},{"$f":"RTD(\"cqg.rtd\", ,\"ContractData\",C45, \"LastTradeToday\",, \"T\")","v":128.99},{"$f":"RTD(\"cqg.rtd\", ,\"ContractData\",C45, \"NetLastTradeToday\",, \"T\")","v":0.43},{"$f":"IFERROR(RTD(\"cqg.rtd\", ,\"ContractData\",C45, \"PerCentNetLastTrade\",, \"T\")/100,\"\")","v":3.344741754822651E-3},{"$f":"RTD(\"cqg.rtd\", ,\"ContractData\", C45, \"T_CVol\",, \"T\")","v":376457},45,{"$f":"IFERROR(RANK($J45,$J$1:J$607)+COUNTIF($J$1:J45,J45)-1,\"\")","v":262},"S.US.AON","S.US.TSLA",{"$f":"RTD(\"cqg.rtd\", ,\"ContractData\",O45, \"PerCentNetLastTrade\",, \"T\")/100","v":1.6586585927729876E-2},"https://finance.yahoo.com/quote/TSLA",null,1.6586585927729876E-2,{"$error":"#N/A"},null,{"$f":"RTD(\"cqg.rtd\", ,\"ContractData\",O45, \"LongDescription\",, \"T\")","v":"Tesla, Inc."},null,null,1.6586585927729876E-2,null,1,1,null,{"$f":"IFERROR(S45,\"\")","v":1.6586585927729876E-2},{"$f":"IFERROR(T45,\"\")","v":""},{"$f":"IF(AE45=\"\",\"\",Y45)","v":""}]
[null,null,"S.US.AOS",{"$f":"RTD(\"cqg.rtd\", ,\"ContractData\",C46, \"LongDescription\",, \"T\")","v":"AO Smith Corp"},{"$f":"RTD(\"cqg.rtd\", ,\"ContractData\",C46, \"Open\",, \"T\")","v":54.13},{"$f":"RTD(\"cqg.rtd\", ,\"ContractData\",C46, \"High\",, \"T\")","v":54.45},{"$f":"RTD(\"cqg.rtd\", ,\"ContractData\",C46, \"Low\",, \"T\")","v":54.07},{"$f":"RTD(\"cqg.rtd\", ,\"ContractData\",C46, \"LastTradeToday\",, \"T\")","v":54.2},{"$f":"RTD(\"cqg.rtd\", ,\"ContractData\",C46, \"NetLastTradeToday\",, \"T\")","v":7.0000000000000007E-2},{"$f":"IFERROR(RTD(\"cqg.rtd\", ,\"ContractData\",C46, \"PerCentNetLastTrade\",, \"T\")/100,\"\")","v":1.2931830777757249E-3},{"$f":"RTD(\"cqg.rtd\", ,\"ContractData\", C46, \"T_CVol\",, \"T\")","v":231216},46,{"$f":"IFERROR(RANK($J46,$J$1:J$607)+COUNTIF($J$1:J46,J46)-1,\"\")","v":344},"S.US.AOS","S.US.DPS",{"$f":"RTD(\"cqg.rtd\", ,\"ContractData\",O46, \"PerCentNetLastTrade\",, \"T\")/100","v":1.6430903155603919E-2},"https://finance.yahoo.com/quote/DPS",null,1.6430903155603919E-2,{"$error":"#N/A"},null,{"$f":"RTD(\"cqg.rtd\", ,\"ContractData\",O46, \"LongDescription\",, \"T\")","v":"Dr Pepper Snapple Group, Inc"},null,null,1.6430903155603919E-2,null,1,1,null,{"$f":"IFERROR(S46,\"\")","v":1.6430903155603919E-2},{"$f":"IFERROR(T46,\"\")","v":""},{"$f":"IF(AE46=\"\",\"\",Y46)","v":""}]
[null,null,"S.US.APA",{"$f":"RTD(\"cqg.rtd\", ,\"ContractData\",C47, \"LongDescription\",, \"T\")","v":"Apache Corporation"},{"$f":"RTD(\"cqg.rtd\", ,\"ContractData\",C47, \"Open\",, \"T\")","v":49.77},{"$f":"RTD(\"cqg.rtd\", ,\"ContractData\",C47, \"High\",, \"T\")","v":50.550000000000004},{"$f":"RTD(\"cqg.rtd\", ,\"ContractData\",C47, \"Low\",, \"T\")","v":49.61},{"$f":"RTD(\"cqg.rtd\", ,\"ContractData\",C47, \"LastTradeToday\",, \"T\")","v":49.910000000000004},{"$f":"RTD(\"cqg.rtd\", ,\"ContractData\",C47, \"NetLastTradeToday\",, \"T\")","v":-0.09},{"$f":"IFERROR(RTD(\"cqg.rtd\", ,\"ContractData\",C47, \"PerCentNetLastTrade\",, \"T\")/100,\"\")","v":-1.8E-3},{"$f":"RTD(\"cqg.rtd\", ,\"ContractData\", C47, \"T_CVol\",, \"T\")","v":1352805},47,{"$f":"IFERROR(RANK($J47,$J$1:J$607)+COUNTIF($J$1:J47,J47)-1,\"\")","v":428},"S.US.APA","S.US.AFSI",{"$f":"RTD(\"cqg.rtd\", ,\"ContractData\",O47, \"PerCentNetLastTrade\",, \"T\")/100","v":1.6420361247947456E-2},"https://finance.yahoo.com/quote/AFSI",null,1.6420361247947456E-2,{"$error":"#N/A"},null,{"$f":"RTD(\"cqg.rtd\", ,\"ContractData\",O47, \"LongDescription\",, \"T\")","v":"AmTrust Financial Services"},null,null,1.6420361247947456E-2,null,1,1,null,1.6420361247947456E-2,"",""]
[null,null,"S.US.APAM",{"$f":"RTD(\"cqg.rtd\", ,\"ContractData\",C48, \"LongDescription\",, \"T\")","v":"Artisan Partners Asset Management Inc"},{"$f":"RTD(\"cqg.rtd\", ,\"ContractData\",C48, \"Open\",, \"T\")","v":27.650000000000002},{"$f":"RTD(\"cqg.rtd\", ,\"ContractData\",C48, \"High\",, \"T\")","v":28},{"$f":"RTD(\"cqg.rtd\", ,\"ContractData\",C48, \"Low\",, \"T\")","v":27.6},{"$f":"RTD(\"cqg.rtd\", ,\"ContractData\",C48, \"LastTradeToday\",, \"T\")","v":27.75},{"$f":"RTD(\"cqg.rtd\", ,\"ContractData\",C48, \"NetLastTradeToday\",, \"T\")","v":0.15},{"$f":"IFERROR(RTD(\"cqg.rtd\", ,\"ContractData\",C48, \"PerCentNetLastTrade\",, \"T\")/100,\"\")","v":5.434782608695652E-3},{"$f":"RTD(\"cqg.rtd\", ,\"ContractData\", C48, \"T_CVol\",, \"T\")","v":110164},48,{"$f":"IFERROR(RANK($J48,$J$1:J$607)+COUNTIF($J$1:J48,J48)-1,\"\")","v":201},"S.US.APAM","S.US.ZBRA",{"$f":"RTD(\"cqg.rtd\", ,\"ContractData\",O48, \"PerCentNetLastTrade\",, \"T\")/100","v":1.6229956980836919E-2},"https://finance.yahoo.com/quote/ZBRA",null,1.6229956980836919E-2,{"$error":"#N/A"},null,{"$f":"RTD(\"cqg.rtd\", ,\"ContractData\",O48, \"LongDescription\",, \"T\")","v":"Zebra Technologies Corp"},null,null,1.6229956980836919E-2,null,1,1,null,1.6229956980836919E-2,"",""]
[null,null,"S.US.APD",{"$f":"RTD(\"cqg.rtd\", ,\"ContractData\",C49, \"LongDescription\",, \"T\")","v":"Air Products & Chems Inc"},{"$f":"RTD(\"cqg.rtd\", ,\"ContractData\",C49, \"Open\",, \"T\")","v":143.28},{"$f":"RTD(\"cqg.rtd\", ,\"ContractData\",C49, \"High\",, \"T\")","v":144.92000000000002},{"$f":"RTD(\"cqg.rtd\", ,\"ContractData\",C49, \"Low\",, \"T\")","v":142.88},{"$f":"RTD(\"cqg.rtd\", ,\"ContractData\",C49, \"LastTradeToday\",, \"T\")","v":144.22999999999999},{"$f":"RTD(\"cqg.rtd\", ,\"ContractData\",C49, \"NetLastTradeToday\",, \"T\")","v":1.4000000000000001},{"$f":"IFERROR(RTD(\"cqg.rtd\", ,\"ContractData\",C49, \"PerCentNetLastTrade\",, \"T\")/100,\"\")","v":9.8018623538472308E-3},{"$f":"RTD(\"cqg.rtd\", ,\"ContractData\", C49, \"T_CVol\",, \"T\")","v":434191},49,{"$f":"IFERROR(RANK($J49,$J$1:J$607)+COUNTIF($J$1:J49,J49)-1,\"\")","v":107},"S.US.APD","S.US.VSM",{"$f":"RTD(\"cqg.rtd\", ,\"ContractData\",O49, \"PerCentNetLastTrade\",, \"T\")/100","v":1.618646811265782E-2},"https://finance.yahoo.com/quote/VSM",null,1.618646811265782E-2,{"$error":"#N/A"},null,{"$f":"RTD(\"cqg.rtd\", ,\"ContractData\",O49, \"LongDescription\",, \"T\")","v":"Versum Materials Inc."},null,null,1.618646811265782E-2,null,1,1,null,1.618646811265782E-2,"",""]
[null,null,"S.US.APH",{"$f":"RTD(\"cqg.rtd\", ,\"ContractData\",C50, \"LongDescription\",, \"T\")","v":"Amphenol"},{"$f":"RTD(\"cqg.rtd\", ,\"ContractData\",C50, \"Open\",, \"T\")","v":73.58},{"$f":"RTD(\"cqg.rtd\", ,\"ContractData\",C50, \"High\",, \"T\")","v":74.180000000000007},{"$f":"RTD(\"cqg.rtd\", ,\"ContractData\",C50, \"Low\",, \"T\")","v":73.400000000000006},{"$f":"RTD(\"cqg.rtd\", ,\"ContractData\",C50, \"LastTradeToday\",, \"T\")","v":73.960000000000008},{"$f":"RTD(\"cqg.rtd\", ,\"ContractData\",C50, \"NetLastTradeToday\",, \"T\")","v":0.59},{"$f":"IFERROR(RTD(\"cqg.rtd\", ,\"ContractData\",C50, \"PerCentNetLastTrade\",, \"T\")/100,\"\")","v":8.0414338285402752E-3},{"$f":"RTD(\"cqg.rtd\", ,\"ContractData\", C50, \"T_CVol\",, \"T\")","v":427359},50,{"$f":"IFERROR(RANK($J50,$J$1:J$607)+COUNTIF($J$1:J50,J50)-1,\"\")","v":138},"S.US.APH","S.US.INCY",{"$f":"RTD(\"cqg.rtd\", ,\"ContractData\",O50, \"PerCentNetLastTrade\",, \"T\")/100","v":1.6084018801410103E-2},"https://finance.yahoo.com/quote/INCY",null,1.6084018801410103E-2,{"$error":"#N/A"},null,{"$f":"RTD(\"cqg.rtd\", ,\"ContractData\",O50, \"LongDescription\",, \"T\")","v":"Incyte Corporation"},null,null,1.6084018801410103E-2,null,1,1,null,1.6084018801410103E-2,"",""]
[null,null,"S.US.AQB",{"$f":"RTD(\"cqg.rtd\", ,\"ContractData\",C51, \"LongDescription\",, \"T\")","v":"AquaBounty Technologies, Inc."},{"$f":"RTD(\"cqg.rtd\", ,\"ContractData\",C51, \"Open\",, \"T\")","v":7.99},{"$f":"RTD(\"cqg.rtd\", ,\"ContractData\",C51, \"High\",, \"T\")","v":8},{"$f":"RTD(\"cqg.rtd\", ,\"ContractData\",C51, \"Low\",, \"T\")","v":7.9},{"$f":"RTD(\"cqg.rtd\", ,\"ContractData\",C51, \"LastTradeToday\",, \"T\")","v":7.9},{"$f":"RTD(\"cqg.rtd\", ,\"ContractData\",C51, \"NetLastTradeToday\",, \"T\")","v":-0.03},{"$f":"IFERROR(RTD(\"cqg.rtd\", ,\"ContractData\",C51, \"PerCentNetLastTrade\",, \"T\")/100,\"\")","v":-3.7831021437578815E-3},{"$f":"RTD(\"cqg.rtd\", ,\"ContractData\", C51, \"T_CVol\",, \"T\")","v":8621},51,{"$f":"IFERROR(RANK($J51,$J$1:J$607)+COUNTIF($J$1:J51,J51)-1,\"\")","v":465},"S.US.AQB","S.US.MANH",{"$f":"RTD(\"cqg.rtd\", ,\"ContractData\",O51, \"PerCentNetLastTrade\",, \"T\")/100","v":1.5893470790378006E-2},"https://finance.yahoo.com/quote/MANH",null,1.5893470790378006E-2,{"$error":"#N/A"},null,{"$f":"RTD(\"cqg.rtd\", ,\"ContractData\",O51, \"LongDescription\",, \"T\")","v":"Manhattan Assoc"},null,null,1.5893470790378006E-2,null,1,1,null,1.5893470790378006E-2,"",""]
[null,null,"S.US.ARE",{"$f":"RTD(\"cqg.rtd\", ,\"ContractData\",C52, \"LongDescription\",, \"T\")","v":"Alexandria Real Estate Equities Inc"},{"$f":"RTD(\"cqg.rtd\", ,\"ContractData\",C52, \"Open\",, \"T\")","v":118.56},{"$f":"RTD(\"cqg.rtd\", ,\"ContractData\",C52, \"High\",, \"T\")","v":119.10000000000001},{"$f":"RTD(\"cqg.rtd\", ,\"ContractData\",C52, \"Low\",, \"T\")","v":118.31},{"$f":"RTD(\"cqg.rtd\", ,\"ContractData\",C52, \"LastTradeToday\",, \"T\")","v":118.60000000000001},{"$f":"RTD(\"cqg.rtd\", ,\"ContractData\",C52, \"NetLastTradeToday\",, \"T\")","v":-0.01},{"$f":"IFERROR(RTD(\"cqg.rtd\", ,\"ContractData\",C52, \"PerCentNetLastTrade\",, \"T\")/100,\"\")","v":-8.430992327796982E-5},{"$f":"RTD(\"cqg.rtd\", ,\"ContractData\", C52, \"T_CVol\",, \"T\")","v":210707},52,{"$f":"IFERROR(RANK($J52,$J$1:J$607)+COUNTIF($J$1:J52,J52)-1,\"\")","v":389},"S.US.ARE","S.US.PYPL",{"$f":"RTD(\"cqg.rtd\", ,\"ContractData\",O52, \"PerCentNetLastTrade\",, \"T\")/100","v":1.5559545182525433E-2},"https://finance.yahoo.com/quote/PYPL",null,1.5559545182525433E-2,{"$error":"#N/A"},null,{"$f":"RTD(\"cqg.rtd\", ,\"ContractData\",O52, \"LongDescription\",, \"T\")","v":"PayPal Holdings, Inc."},null,null,1.5559545182525433E-2,null,1,1,null,1.5559545182525433E-2,"",""]
[null,null,"S.US.ARMK",{"$f":"RTD(\"cqg.rtd\", ,\"ContractData\",C53, \"LongDescription\",, \"T\")","v":"Aramark"},{"$f":"RTD(\"cqg.rtd\", ,\"ContractData\",C53, \"Open\",, \"T\")","v":36.700000000000003},{"$f":"RTD(\"cqg.rtd\", ,\"ContractData\",C53, \"High\",, \"T\")","v":37.119999999999997},{"$f":"RTD(\"cqg.rtd\", ,\"ContractData\",C53, \"Low\",, \"T\")","v":36.619999999999997},{"$f":"RTD(\"cqg.rtd\", ,\"ContractData\",C53, \"LastTradeToday\",, \"T\")","v":37.07},{"$f":"RTD(\"cqg.rtd\", ,\"ContractData\",C53, \"NetLastTradeToday\",, \"T\")","v":0.35000000000000003},{"$f":"IFERROR(RTD(\"cqg.rtd\", ,\"ContractData\",C53, \"PerCentNetLastTrade\",, \"T\")/100,\"\")","v":9.5315904139433548E-3},{"$f":"RTD(\"cqg.rtd\", ,\"ContractData\", C53, \"T_CVol\",, \"T\")","v":299653},53,{"$f":"IFERROR(RANK($J53,$J$1:J$607)+COUNTIF($J$1:J53,J53)-1,\"\")","v":114},"S.US.ARMK","S.US.MCK",{"$f":"RTD(\"cqg.rtd\", ,\"ContractData\",O53, \"PerCentNetLastTrade\",, \"T\")/100","v":1.5471698113207548E-2},"https://finance.yahoo.com/quote/MCK",null,1.5471698113207548E-2,{"$error":"#N/A"},null,{"$f":"RTD(\"cqg.rtd\", ,\"ContractData\",O53, \"LongDescription\",, \"T\")","v":"McKesson Corporation"},null,null,1.5471698113207548E-2,null,1,1,null,1.5471698113207548E-2,"",""]
[null,null,"S.US.ARRS",{"$f":"RTD(\"cqg.rtd\", ,\"ContractData\",C54, \"LongDescription\",, \"T\")","v":"ARRIS International plc"},{"$f":"RTD(\"cqg.rtd\", ,\"ContractData\",C54, \"Open\",, \"T\")","v":27.41},{"$f":"RTD(\"cqg.rtd\", ,\"ContractData\",C54, \"High\",, \"T\")","v":27.6},{"$f":"RTD(\"cqg.rtd\", ,\"ContractData\",C54, \"Low\",, \"T\")","v":27.26},{"$f":"RTD(\"cqg.rtd\", ,\"ContractData\",C54, \"LastTradeToday\",, \"T\")","v":27.55},{"$f":"RTD(\"cqg.rtd\", ,\"ContractData\",C54, \"NetLastTradeToday\",, \"T\")","v":0.16},{"$f":"IFERROR(RTD(\"cqg.rtd\", ,\"ContractData\",C54, \"PerCentNetLastTrade\",, \"T\")/100,\"\")","v":5.8415480102227092E-3},{"$f":"RTD(\"cqg.rtd\", ,\"ContractData\", C54, \"T_CVol\",, \"T\")","v":459608},54,{"$f":"IFERROR(RANK($J54,$J$1:J$607)+COUNTIF($J$1:J54,J54)-1,\"\")","v":197},"S.US.ARRS","S.US.FLT",{"$f":"RTD(\"cqg.rtd\", ,\"ContractData\",O54, \"PerCentNetLastTrade\",, \"T\")/100","v":1.544458336397735E-2},"https://finance.yahoo.com/quote/FLT",null,1.544458336397735E-2,{"$error":"#N/A"},null,{"$f":"RTD(\"cqg.rtd\", ,\"ContractData\",O54, \"LongDescription\",, \"T\")","v":"Fleetcor Technologies, Inc."},null,null,1.544458336397735E-2,null,1,1,null,1.544458336397735E-2,"",""]
[null,null,"S.US.ASIX",{"$f":"RTD(\"cqg.rtd\", ,\"ContractData\",C55, \"LongDescription\",, \"T\")","v":"AdvanSix Inc"},{"$f":"RTD(\"cqg.rtd\", ,\"ContractData\",C55, \"Open\",, \"T\")","v":30.34},{"$f":"RTD(\"cqg.rtd\", ,\"ContractData\",C55, \"High\",, \"T\")","v":30.88},{"$f":"RTD(\"cqg.rtd\", ,\"ContractData\",C55, \"Low\",, \"T\")","v":30.060000000000002},{"$f":"RTD(\"cqg.rtd\", ,\"ContractData\",C55, \"LastTradeToday\",, \"T\")","v":30.2},{"$f":"RTD(\"cqg.rtd\", ,\"ContractData\",C55, \"NetLastTradeToday\",, \"T\")","v":-0.1},{"$f":"IFERROR(RTD(\"cqg.rtd\", ,\"ContractData\",C55, \"PerCentNetLastTrade\",, \"T\")/100,\"\")","v":-3.3003300330033004E-3},{"$f":"RTD(\"cqg.rtd\", ,\"ContractData\", C55, \"T_CVol\",, \"T\")","v":127638},55,{"$f":"IFERROR(RANK($J55,$J$1:J$607)+COUNTIF($J$1:J55,J55)-1,\"\")","v":459},"S.US.ASIX","S.US.CLNS",{"$f":"RTD(\"cqg.rtd\", ,\"ContractData\",O55, \"PerCentNetLastTrade\",, \"T\")/100","v":1.5151515151515152E-2},"https://finance.yahoo.com/quote/CLNS",null,1.5151515151515152E-2,{"$error":"#N/A"},null,{"$f":"RTD(\"cqg.rtd\", ,\"ContractData\",O55, \"LongDescription\",, \"T\")","v":"Colony NorthStar, Inc."},null,null,1.5151515151515152E-2,null,1,1,null,1.5151515151515152E-2,"",""]
[null,null,"S.US.ATHN",{"$f":"RTD(\"cqg.rtd\", ,\"ContractData\",C56, \"LongDescription\",, \"T\")","v":"Athenahelth Inc"},{"$f":"RTD(\"cqg.rtd\", ,\"ContractData\",C56, \"Open\",, \"T\")","v":131.75},{"$f":"RTD(\"cqg.rtd\", ,\"ContractData\",C56, \"High\",, \"T\")","v":138.42000000000002},{"$f":"RTD(\"cqg.rtd\", ,\"ContractData\",C56, \"Low\",, \"T\")","v":131.68},{"$f":"RTD(\"cqg.rtd\", ,\"ContractData\",C56, \"LastTradeToday\",, \"T\")","v":138},{"$f":"RTD(\"cqg.rtd\", ,\"ContractData\",C56, \"NetLastTradeToday\",, \"T\")","v":5.94},{"$f":"IFERROR(RTD(\"cqg.rtd\", ,\"ContractData\",C56, \"PerCentNetLastTrade\",, \"T\")/100,\"\")","v":4.4979554747841891E-2},{"$f":"RTD(\"cqg.rtd\", ,\"ContractData\", C56, \"T_CVol\",, \"T\")","v":629381},56,{"$f":"IFERROR(RANK($J56,$J$1:J$607)+COUNTIF($J$1:J56,J56)-1,\"\")","v":3},"S.US.ATHN","S.US.XON",{"$f":"RTD(\"cqg.rtd\", ,\"ContractData\",O56, \"PerCentNetLastTrade\",, \"T\")/100","v":1.4827736589620584E-2},"https://finance.yahoo.com/quote/XON",null,1.4827736589620584E-2,{"$error":"#N/A"},null,{"$f":"RTD(\"cqg.rtd\", ,\"ContractData\",O56, \"LongDescription\",, \"T\")","v":"Intrexon Corporation"},null,null,1.4827736589620584E-2,null,1,1,null,1.4827736589620584E-2,"",""]
[null,null,"S.US.ATR",{"$f":"RTD(\"cqg.rtd\", ,\"ContractData\",C57, \"LongDescription\",, \"T\")","v":"AptarGroup Inc"},{"$f":"RTD(\"cqg.rtd\", ,\"ContractData\",C57, \"Open\",, \"T\")","v":83.19},{"$f":"RTD(\"cqg.rtd\", ,\"ContractData\",C57, \"High\",, \"T\")","v":83.52},{"$f":"RTD(\"cqg.rtd\", ,\"ContractData\",C57, \"Low\",, \"T\")","v":82.8},{"$f":"RTD(\"cqg.rtd\", ,\"ContractData\",C57, \"LastTradeToday\",, \"T\")","v":83.39},{"$f":"RTD(\"cqg.rtd\", ,\"ContractData\",C57, \"NetLastTradeToday\",, \"T\")","v":0.2},{"$f":"IFERROR(RTD(\"cqg.rtd\", ,\"ContractData\",C57, \"PerCentNetLastTrade\",, \"T\")/100,\"\")","v":2.4041351123933168E-3},{"$f":"RTD(\"cqg.rtd\", ,\"ContractData\", C57, \"T_CVol\",, \"T\")","v":76002},57,{"$f":"IFERROR(RANK($J57,$J$1:J$607)+COUNTIF($J$1:J57,J57)-1,\"\")","v":302},"S.US.ATR","S.US.ZTS",{"$f":"RTD(\"cqg.rtd\", ,\"ContractData\",O57, \"PerCentNetLastTrade\",, \"T\")/100","v":1.4488035161972977E-2},"https://finance.yahoo.com/quote/ZTS",null,1.4488035161972977E-2,{"$error":"#N/A"},null,{"$f":"RTD(\"cqg.rtd\", ,\"ContractData\",O57, \"LongDescription\",, \"T\")","v":"Zoetis Inc"},null,null,1.4488035161972977E-2,null,1,1,null,1.4488035161972977E-2,"",""]
[null,null,"S.US.ATVI",{"$f":"RTD(\"cqg.rtd\", ,\"ContractData\",C58, \"LongDescription\",, \"T\")","v":"Activision Blizzard Inc"},{"$f":"RTD(\"cqg.rtd\", ,\"ContractData\",C58, \"Open\",, \"T\")","v":57.94},{"$f":"RTD(\"cqg.rtd\", ,\"ContractData\",C58, \"High\",, \"T\")","v":58.160000000000004},{"$f":"RTD(\"cqg.rtd\", ,\"ContractData\",C58, \"Low\",, \"T\")","v":56.88},{"$f":"RTD(\"cqg.rtd\", ,\"ContractData\",C58, \"LastTradeToday\",, \"T\")","v":58.07},{"$f":"RTD(\"cqg.rtd\", ,\"ContractData\",C58, \"NetLastTradeToday\",, \"T\")","v":0.27},{"$f":"IFERROR(RTD(\"cqg.rtd\", ,\"ContractData\",C58, \"PerCentNetLastTrade\",, \"T\")/100,\"\")","v":4.6712802768166086E-3},{"$f":"RTD(\"cqg.rtd\", ,\"ContractData\", C58, \"T_CVol\",, \"T\")","v":5359115},58,{"$f":"IFERROR(RANK($J58,$J$1:J$607)+COUNTIF($J$1:J58,J58)-1,\"\")","v":225},"S.US.ATVI","S.US.ENR",{"$f":"RTD(\"cqg.rtd\", ,\"ContractData\",O58, \"PerCentNetLastTrade\",, \"T\")/100","v":1.4424878231547396E-2},"https://finance.yahoo.com/quote/ENR",null,1.4424878231547396E-2,{"$error":"#N/A"},null,{"$f":"RTD(\"cqg.rtd\", ,\"ContractData\",O58, \"LongDescription\",, \"T\")","v":"Energizer Holdings, Inc."},null,null,1.4424878231547396E-2,null,1,1,null,1.4424878231547396E-2,"",""]
[null,null,"S.US.AVGO",{"$f":"RTD(\"cqg.rtd\", ,\"ContractData\",C59, \"LongDescription\",, \"T\")","v":"Broadcom Limited"},{"$f":"RTD(\"cqg.rtd\", ,\"ContractData\",C59, \"Open\",, \"T\")","v":238.46},{"$f":"RTD(\"cqg.rtd\", ,\"ContractData\",C59, \"High\",, \"T\")","v":239.04},{"$f":"RTD(\"cqg.rtd\", ,\"ContractData\",C59, \"Low\",, \"T\")","v":236.97},{"$f":"RTD(\"cqg.rtd\", ,\"ContractData\",C59, \"LastTradeToday\",, \"T\")","v":238.92000000000002},{"$f":"RTD(\"cqg.rtd\", ,\"ContractData\",C59, \"NetLastTradeToday\",, \"T\")","v":2.38},{"$f":"IFERROR(RTD(\"cqg.rtd\", ,\"ContractData\",C59, \"PerCentNetLastTrade\",, \"T\")/100,\"\")","v":1.0061723175784222E-2},{"$f":"RTD(\"cqg.rtd\", ,\"ContractData\", C59, \"T_CVol\",, \"T\")","v":903485},59,{"$f":"IFERROR(RANK($J59,$J$1:J$607)+COUNTIF($J$1:J59,J59)-1,\"\")","v":103},"S.US.AVGO","S.US.WEN",{"$f":"RTD(\"cqg.rtd\", ,\"ContractData\",O59, \"PerCentNetLastTrade\",, \"T\")/100","v":1.4223871366728509E-2},"https://finance.yahoo.com/quote/WEN",null,1.4223871366728509E-2,{"$error":"#N/A"},null,{"$f":"RTD(\"cqg.rtd\", ,\"ContractData\",O59, \"LongDescription\",, \"T\")","v":"The Wendy's Company"},null,null,1.4223871366728509E-2,null,1,1,null,1.4223871366728509E-2,"",""]
[null,null,"S.US.AVY",{"$f":"RTD(\"cqg.rtd\", ,\"ContractData\",C60, \"LongDescription\",, \"T\")","v":"Avery Dennison Corp"},{"$f":"RTD(\"cqg.rtd\", ,\"ContractData\",C60, \"Open\",, \"T\")","v":82.92},{"$f":"RTD(\"cqg.rtd\", ,\"ContractData\",C60, \"High\",, \"T\")","v":83.25},{"$f":"RTD(\"cqg.rtd\", ,\"ContractData\",C60, \"Low\",, \"T\")","v":82.77},{"$f":"RTD(\"cqg.rtd\", ,\"ContractData\",C60, \"LastTradeToday\",, \"T\")","v":82.99},{"$f":"RTD(\"cqg.rtd\", ,\"ContractData\",C60, \"NetLastTradeToday\",, \"T\")","v":0.19},{"$f":"IFERROR(RTD(\"cqg.rtd\", ,\"ContractData\",C60, \"PerCentNetLastTrade\",, \"T\")/100,\"\")","v":2.2946859903381642E-3},{"$f":"RTD(\"cqg.rtd\", ,\"ContractData\", C60, \"T_CVol\",, \"T\")","v":144832},60,{"$f":"IFERROR(RANK($J60,$J$1:J$607)+COUNTIF($J$1:J60,J60)-1,\"\")","v":308},"S.US.AVY","S.US.MCD",{"$f":"RTD(\"cqg.rtd\", ,\"ContractData\",O60, \"PerCentNetLastTrade\",, \"T\")/100","v":1.4206467325125151E-2},"https://finance.yahoo.com/quote/MCD",null,1.4206467325125151E-2,{"$error":"#N/A"},null,{"$f":"RTD(\"cqg.rtd\", ,\"ContractData\",O60, \"LongDescription\",, \"T\")","v":"McDonald's Corporation"},null,null,1.4206467325125151E-2,null,1,1,null,1.4206467325125151E-2,"",""]
[null,null,"S.US.AXTA",{"$f":"RTD(\"cqg.rtd\", ,\"ContractData\",C61, \"LongDescription\",, \"T\")","v":"Axalta Coating Systems Ltd."},{"$f":"RTD(\"cqg.rtd\", ,\"ContractData\",C61, \"Open\",, \"T\")","v":31.48},{"$f":"RTD(\"cqg.rtd\", ,\"ContractData\",C61, \"High\",, \"T\")","v":31.650000000000002},{"$f":"RTD(\"cqg.rtd\", ,\"ContractData\",C61, \"Low\",, \"T\")","v":31.36},{"$f":"RTD(\"cqg.rtd\", ,\"ContractData\",C61, \"LastTradeToday\",, \"T\")","v":31.37},{"$f":"RTD(\"cqg.rtd\", ,\"ContractData\",C61, \"NetLastTradeToday\",, \"T\")","v":-0.06},{"$f":"IFERROR(RTD(\"cqg.rtd\", ,\"ContractData\",C61, \"PerCentNetLastTrade\",, \"T\")/100,\"\")","v":-1.9090041361756282E-3},{"$f":"RTD(\"cqg.rtd\", ,\"ContractData\", C61, \"T_CVol\",, \"T\")","v":258245},61,{"$f":"IFERROR(RANK($J61,$J$1:J$607)+COUNTIF($J$1:J61,J61)-1,\"\")","v":430},"S.US.AXTA","S.US.NVDA",{"$f":"RTD(\"cqg.rtd\", ,\"ContractData\",O61, \"PerCentNetLastTrade\",, \"T\")/100","v":1.408450704225352E-2},"https://finance.yahoo.com/quote/NVDA",null,1.408450704225352E-2,{"$error":"#N/A"},null,{"$f":"RTD(\"cqg.rtd\", ,\"ContractData\",O61, \"LongDescription\",, \"T\")","v":"NVIDIA Corp"},null,null,1.408450704225352E-2,null,1,1,null,1.408450704225352E-2,"",""]
[null,null,"S.US.AYI",{"$f":"RTD(\"cqg.rtd\", ,\"ContractData\",C62, \"LongDescription\",, \"T\")","v":"Acuity Brands Inc"},{"$f":"RTD(\"cqg.rtd\", ,\"ContractData\",C62, \"Open\",, \"T\")","v":169.88},{"$f":"RTD(\"cqg.rtd\", ,\"ContractData\",C62, \"High\",, \"T\")","v":170.20000000000002},{"$f":"RTD(\"cqg.rtd\", ,\"ContractData\",C62, \"Low\",, \"T\")","v":167.61},{"$f":"RTD(\"cqg.rtd\", ,\"ContractData\",C62, \"LastTradeToday\",, \"T\")","v":167.65},{"$f":"RTD(\"cqg.rtd\", ,\"ContractData\",C62, \"NetLastTradeToday\",, \"T\")","v":-2.08},{"$f":"IFERROR(RTD(\"cqg.rtd\", ,\"ContractData\",C62, \"PerCentNetLastTrade\",, \"T\")/100,\"\")","v":-1.225475755611854E-2},{"$f":"RTD(\"cqg.rtd\", ,\"ContractData\", C62, \"T_CVol\",, \"T\")","v":401014},62,{"$f":"IFERROR(RANK($J62,$J$1:J$607)+COUNTIF($J$1:J62,J62)-1,\"\")","v":562},"S.US.AYI","S.US.SBNY",{"$f":"RTD(\"cqg.rtd\", ,\"ContractData\",O62, \"PerCentNetLastTrade\",, \"T\")/100","v":1.40625E-2},"https://finance.yahoo.com/quote/SBNY",null,1.40625E-2,{"$error":"#N/A"},null,{"$f":"RTD(\"cqg.rtd\", ,\"ContractData\",O62, \"LongDescription\",, \"T\")","v":"Signature Bank"},null,null,1.40625E-2,null,1,1,null,1.40625E-2,"",""]
[null,null,"S.US.AZO",{"$f":"RTD(\"cqg.rtd\", ,\"ContractData\",C63, \"LongDescription\",, \"T\")","v":"Autozone Inc"},{"$f":"RTD(\"cqg.rtd\", ,\"ContractData\",C63, \"Open\",, \"T\")","v":581.18000000000006},{"$f":"RTD(\"cqg.rtd\", ,\"ContractData\",C63, \"High\",, \"T\")","v":598.75},{"$f":"RTD(\"cqg.rtd\", ,\"ContractData\",C63, \"Low\",, \"T\")","v":573.80000000000007},{"$f":"RTD(\"cqg.rtd\", ,\"ContractData\",C63, \"LastTradeToday\",, \"T\")","v":596.53},{"$f":"RTD(\"cqg.rtd\", ,\"ContractData\",C63, \"NetLastTradeToday\",, \"T\")","v":15.13},{"$f":"IFERROR(RTD(\"cqg.rtd\", ,\"ContractData\",C63, \"PerCentNetLastTrade\",, \"T\")/100,\"\")","v":2.6023391812865494E-2},{"$f":"RTD(\"cqg.rtd\", ,\"ContractData\", C63, \"T_CVol\",, \"T\")","v":794312},63,{"$f":"IFERROR(RANK($J63,$J$1:J$607)+COUNTIF($J$1:J63,J63)-1,\"\")","v":16},"S.US.AZO","S.US.GWRE",{"$f":"RTD(\"cqg.rtd\", ,\"ContractData\",O63, \"PerCentNetLastTrade\",, \"T\")/100","v":1.3978325742107743E-2},{"$f":"\"https://finance.yahoo.com/quote/\"&RIGHT(O63,(LEN(O63)-5))","v":"https://finance.yahoo.com/quote/GWRE"},null,1.3978325742107743E-2,{"$error":"#N/A"},null,{"$f":"RTD(\"cqg.rtd\", ,\"ContractData\",O63, \"LongDescription\",, \"T\")","v":"Guidewire Software, Inc."},null,null,1.3978325742107743E-2,null,1,1,null,1.3978325742107743E-2,"",""]
[null,null,"S.US.BA",{"$f":"RTD(\"cqg.rtd\", ,\"ContractData\",C64, \"LongDescription\",, \"T\")","v":"Boeing Company"},{"$f":"RTD(\"cqg.rtd\", ,\"ContractData\",C64, \"Open\",, \"T\")","v":183.46},{"$f":"RTD(\"cqg.rtd\", ,\"ContractData\",C64, \"High\",, \"T\")","v":185.22},{"$f":"RTD(\"cqg.rtd\", ,\"ContractData\",C64, \"Low\",, \"T\")","v":183.46},{"$f":"RTD(\"cqg.rtd\", ,\"ContractData\",C64, \"LastTradeToday\",, \"T\")","v":184.8},{"$f":"RTD(\"cqg.rtd\", ,\"ContractData\",C64, \"NetLastTradeToday\",, \"T\")","v":1.31},{"$f":"IFERROR(RTD(\"cqg.rtd\", ,\"ContractData\",C64, \"PerCentNetLastTrade\",, \"T\")/100,\"\")","v":7.1393536432503134E-3},{"$f":"RTD(\"cqg.rtd\", ,\"ContractData\", C64, \"T_CVol\",, \"T\")","v":1231783},64,{"$f":"IFERROR(RANK($J64,$J$1:J$607)+COUNTIF($J$1:J64,J64)-1,\"\")","v":164},"S.US.BA","S.US.CCO",{"$f":"RTD(\"cqg.rtd\", ,\"ContractData\",O64, \"PerCentNetLastTrade\",, \"T\")/100","v":1.3698630136986301E-2},"https://finance.yahoo.com/quote/CCO",null,1.3698630136986301E-2,{"$error":"#N/A"},null,{"$f":"RTD(\"cqg.rtd\", ,\"ContractData\",O64, \"LongDescription\",, \"T\")","v":"Clear Channel Outdoor Hldgs"},null,null,1.3698630136986301E-2,null,1,1,null,1.3698630136986301E-2,"",""]
[null,null,"S.US.BAH",{"$f":"RTD(\"cqg.rtd\", ,\"ContractData\",C65, \"LongDescription\",, \"T\")","v":"Booz Allen Hamilton Holding Corporation"},{"$f":"RTD(\"cqg.rtd\", ,\"ContractData\",C65, \"Open\",, \"T\")","v":38.5},{"$f":"RTD(\"cqg.rtd\", ,\"ContractData\",C65, \"High\",, \"T\")","v":38.69},{"$f":"RTD(\"cqg.rtd\", ,\"ContractData\",C65, \"Low\",, \"T\")","v":38.17},{"$f":"RTD(\"cqg.rtd\", ,\"ContractData\",C65, \"LastTradeToday\",, \"T\")","v":38.46},{"$f":"RTD(\"cqg.rtd\", ,\"ContractData\",C65, \"NetLastTradeToday\",, \"T\")","v":0.13},{"$f":"IFERROR(RTD(\"cqg.rtd\", ,\"ContractData\",C65, \"PerCentNetLastTrade\",, \"T\")/100,\"\")","v":3.3915992695016956E-3},{"$f":"RTD(\"cqg.rtd\", ,\"ContractData\", C65, \"T_CVol\",, \"T\")","v":715494},65,{"$f":"IFERROR(RANK($J65,$J$1:J$607)+COUNTIF($J$1:J65,J65)-1,\"\")","v":259},"S.US.BAH","S.US.VREX",{"$f":"RTD(\"cqg.rtd\", ,\"ContractData\",O65, \"PerCentNetLastTrade\",, \"T\")/100","v":1.3636363636363636E-2},"https://finance.yahoo.com/quote/VREX",null,1.3636363636363636E-2,{"$error":"#N/A"},null,{"$f":"RTD(\"cqg.rtd\", ,\"ContractData\",O65, \"LongDescription\",, \"T\")","v":"Varex Imaging Corporation"},null,null,1.3636363636363636E-2,null,1,1,null,1.3636363636363636E-2,"",""]
[null,null,"S.US.BAX",{"$f":"RTD(\"cqg.rtd\", ,\"ContractData\",C66, \"LongDescription\",, \"T\")","v":"Baxter International Inc"},{"$f":"RTD(\"cqg.rtd\", ,\"ContractData\",C66, \"Open\",, \"T\")","v":58.02},{"$f":"RTD(\"cqg.rtd\", ,\"ContractData\",C66, \"High\",, \"T\")","v":58.39},{"$f":"RTD(\"cqg.rtd\", ,\"ContractData\",C66, \"Low\",, \"T\")","v":57.85},{"$f":"RTD(\"cqg.rtd\", ,\"ContractData\",C66, \"LastTradeToday\",, \"T\")","v":58.300000000000004},{"$f":"RTD(\"cqg.rtd\", ,\"ContractData\",C66, \"NetLastTradeToday\",, \"T\")","v":0.38},{"$f":"IFERROR(RTD(\"cqg.rtd\", ,\"ContractData\",C66, \"PerCentNetLastTrade\",, \"T\")/100,\"\")","v":6.560773480662984E-3},{"$f":"RTD(\"cqg.rtd\", ,\"ContractData\", C66, \"T_CVol\",, \"T\")","v":1029596},66,{"$f":"IFERROR(RANK($J66,$J$1:J$607)+COUNTIF($J$1:J66,J66)-1,\"\")","v":180},{"$f":"C66","v":"S.US.BAX"},{"$f":"VLOOKUP($L66,$M$1:$N$607,2,FALSE)","v":"S.US.PKG"},{"$f":"RTD(\"cqg.rtd\", ,\"ContractData\",O66, \"PerCentNetLastTrade\",, \"T\")/100","v":1.3600000000000001E-2},{"$f":"\"https://finance.yahoo.com/quote/\"&RIGHT(O66,(LEN(O66)-5))","v":"https://finance.yahoo.com/quote/PKG"},null,{"$f":"IF(P66>=0,P66,NA())","v":1.3600000000000001E-2},{"$f":"IF(P66>=0,NA(),-1*P66)","v":{"$error":"#N/A"}},null,{"$f":"RTD(\"cqg.rtd\", ,\"ContractData\",O66, \"LongDescription\",, \"T\")","v":"Packaging Corp of America"},null,null,{"$f":"IFERROR(S66,P66)","v":1.3600000000000001E-2},null,{"$f":"IF(S66=\"NA()\",0,1)","v":1},{"$f":"IFERROR(AA66,0)","v":1},null,1.3600000000000001E-2,"",""]
[null,null,"S.US.BBBY",{"$f":"RTD(\"cqg.rtd\", ,\"ContractData\",C67, \"LongDescription\",, \"T\")","v":"Bed Bath & Beyond Inc"},{"$f":"RTD(\"cqg.rtd\", ,\"ContractData\",C67, \"Open\",, \"T\")","v":34.61},{"$f":"RTD(\"cqg.rtd\", ,\"ContractData\",C67, \"High\",, \"T\")","v":34.85},{"$f":"RTD(\"cqg.rtd\", ,\"ContractData\",C67, \"Low\",, \"T\")","v":34.36},{"$f":"RTD(\"cqg.rtd\", ,\"ContractData\",C67, \"LastTradeToday\",, \"T\")","v":34.76},{"$f":"RTD(\"cqg.rtd\", ,\"ContractData\",C67, \"NetLastTradeToday\",, \"T\")","v":0.06},{"$f":"IFERROR(RTD(\"cqg.rtd\", ,\"ContractData\",C67, \"PerCentNetLastTrade\",, \"T\")/100,\"\")","v":1.7291066282420749E-3},{"$f":"RTD(\"cqg.rtd\", ,\"ContractData\", C67, \"T_CVol\",, \"T\")","v":938559},{"$f":"L66+1","v":67},{"$f":"IFERROR(RANK($J67,$J$1:J$607)+COUNTIF($J$1:J67,J67)-1,\"\")","v":331},"S.US.BBBY","S.US.SGEN",{"$f":"RTD(\"cqg.rtd\", ,\"ContractData\",O67, \"PerCentNetLastTrade\",, \"T\")/100","v":1.334933253337333E-2},"https://finance.yahoo.com/quote/SGEN",null,1.334933253337333E-2,{"$error":"#N/A"},null,{"$f":"RTD(\"cqg.rtd\", ,\"ContractData\",O67, \"LongDescription\",, \"T\")","v":"Seattle Genetics Inc"},null,null,1.334933253337333E-2,null,1,1,null,1.334933253337333E-2,"",""]
[null,null,"S.US.BC",{"$f":"RTD(\"cqg.rtd\", ,\"ContractData\",C68, \"LongDescription\",, \"T\")","v":"Brunswick Corporation"},{"$f":"RTD(\"cqg.rtd\", ,\"ContractData\",C68, \"Open\",, \"T\")","v":54.42},{"$f":"RTD(\"cqg.rtd\", ,\"ContractData\",C68, \"High\",, \"T\")","v":54.77},{"$f":"RTD(\"cqg.rtd\", ,\"ContractData\",C68, \"Low\",, \"T\")","v":54.2},{"$f":"RTD(\"cqg.rtd\", ,\"ContractData\",C68, \"LastTradeToday\",, \"T\")","v":54.480000000000004},{"$f":"RTD(\"cqg.rtd\", ,\"ContractData\",C68, \"NetLastTradeToday\",, \"T\")","v":0.17},{"$f":"IFERROR(RTD(\"cqg.rtd\", ,\"ContractData\",C68, \"PerCentNetLastTrade\",, \"T\")/100,\"\")","v":3.1301786043085988E-3},{"$f":"RTD(\"cqg.rtd\", ,\"ContractData\", C68, \"T_CVol\",, \"T\")","v":237110},68,{"$f":"IFERROR(RANK($J68,$J$1:J$607)+COUNTIF($J$1:J68,J68)-1,\"\")","v":274},"S.US.BC","S.US.JBLU",{"$f":"RTD(\"cqg.rtd\", ,\"ContractData\",O68, \"PerCentNetLastTrade\",, \"T\")/100","v":1.3134057971014492E-2},"https://finance.yahoo.com/quote/JBLU",null,1.3134057971014492E-2,{"$error":"#N/A"},null,{"$f":"RTD(\"cqg.rtd\", ,\"ContractData\",O68, \"LongDescription\",, \"T\")","v":"JetBlue Airways Corporation"},null,null,1.3134057971014492E-2,null,1,1,null,1.3134057971014492E-2,"",""]
[null,null,"S.US.BCR",{"$f":"RTD(\"cqg.rtd\", ,\"ContractData\",C69, \"LongDescription\",, \"T\")","v":"Bard (CR) Inc"},{"$f":"RTD(\"cqg.rtd\", ,\"ContractData\",C69, \"Open\",, \"T\")","v":308.32},{"$f":"RTD(\"cqg.rtd\", ,\"ContractData\",C69, \"High\",, \"T\")","v":308.74},{"$f":"RTD(\"cqg.rtd\", ,\"ContractData\",C69, \"Low\",, \"T\")","v":307.86},{"$f":"RTD(\"cqg.rtd\", ,\"ContractData\",C69, \"LastTradeToday\",, \"T\")","v":308.58},{"$f":"RTD(\"cqg.rtd\", ,\"ContractData\",C69, \"NetLastTradeToday\",, \"T\")","v":0.24},{"$f":"IFERROR(RTD(\"cqg.rtd\", ,\"ContractData\",C69, \"PerCentNetLastTrade\",, \"T\")/100,\"\")","v":7.7836154893948239E-4},{"$f":"RTD(\"cqg.rtd\", ,\"ContractData\", C69, \"T_CVol\",, \"T\")","v":259161},69,{"$f":"IFERROR(RANK($J69,$J$1:J$607)+COUNTIF($J$1:J69,J69)-1,\"\")","v":357},"S.US.BCR","S.US.CSRA",{"$f":"RTD(\"cqg.rtd\", ,\"ContractData\",O69, \"PerCentNetLastTrade\",, \"T\")/100","v":1.2987012987012986E-2},"https://finance.yahoo.com/quote/CSRA",null,1.2987012987012986E-2,{"$error":"#N/A"},null,{"$f":"RTD(\"cqg.rtd\", ,\"ContractData\",O69, \"LongDescription\",, \"T\")","v":"CSRA Inc."},null,null,1.2987012987012986E-2,null,1,1,null,1.2987012987012986E-2,"",""]
[null,null,"S.US.BDX",{"$f":"RTD(\"cqg.rtd\", ,\"ContractData\",C70, \"LongDescription\",, \"T\")","v":"Becton Dickinson & Co"},{"$f":"RTD(\"cqg.rtd\", ,\"ContractData\",C70, \"Open\",, \"T\")","v":186.56},{"$f":"RTD(\"cqg.rtd\", ,\"ContractData\",C70, \"High\",, \"T\")","v":187.25},{"$f":"RTD(\"cqg.rtd\", ,\"ContractData\",C70, \"Low\",, \"T\")","v":185.71},{"$f":"RTD(\"cqg.rtd\", ,\"ContractData\",C70, \"LastTradeToday\",, \"T\")","v":186.97},{"$f":"RTD(\"cqg.rtd\", ,\"ContractData\",C70, \"NetLastTradeToday\",, \"T\")","v":0.35000000000000003},{"$f":"IFERROR(RTD(\"cqg.rtd\", ,\"ContractData\",C70, \"PerCentNetLastTrade\",, \"T\")/100,\"\")","v":1.8754688672168044E-3},{"$f":"RTD(\"cqg.rtd\", ,\"ContractData\", C70, \"T_CVol\",, \"T\")","v":630857},70,{"$f":"IFERROR(RANK($J70,$J$1:J$607)+COUNTIF($J$1:J70,J70)-1,\"\")","v":324},"S.US.BDX","S.US.K",{"$f":"RTD(\"cqg.rtd\", ,\"ContractData\",O70, \"PerCentNetLastTrade\",, \"T\")/100","v":1.2847367686077365E-2},"https://finance.yahoo.com/quote/K",null,1.2847367686077365E-2,{"$error":"#N/A"},null,{"$f":"RTD(\"cqg.rtd\", ,\"ContractData\",O70, \"LongDescription\",, \"T\")","v":"Kellogg Company"},null,null,1.2847367686077365E-2,null,1,1,null,1.2847367686077365E-2,"",""]
[null,null,"S.US.BERY",{"$f":"RTD(\"cqg.rtd\", ,\"ContractData\",C71, \"LongDescription\",, \"T\")","v":"Berry Plastics Group, Inc."},{"$f":"RTD(\"cqg.rtd\", ,\"ContractData\",C71, \"Open\",, \"T\")","v":56.56},{"$f":"RTD(\"cqg.rtd\", ,\"ContractData\",C71, \"High\",, \"T\")","v":57.050000000000004},{"$f":"RTD(\"cqg.rtd\", ,\"ContractData\",C71, \"Low\",, \"T\")","v":56.02},{"$f":"RTD(\"cqg.rtd\", ,\"ContractData\",C71, \"LastTradeToday\",, \"T\")","v":56.92},{"$f":"RTD(\"cqg.rtd\", ,\"ContractData\",C71, \"NetLastTradeToday\",, \"T\")","v":0.53},{"$f":"IFERROR(RTD(\"cqg.rtd\", ,\"ContractData\",C71, \"PerCentNetLastTrade\",, \"T\")/100,\"\")","v":9.3988295797127145E-3},{"$f":"RTD(\"cqg.rtd\", ,\"ContractData\", C71, \"T_CVol\",, \"T\")","v":271469},71,{"$f":"IFERROR(RANK($J71,$J$1:J$607)+COUNTIF($J$1:J71,J71)-1,\"\")","v":116},"S.US.BERY","S.US.BUFF",{"$f":"RTD(\"cqg.rtd\", ,\"ContractData\",O71, \"PerCentNetLastTrade\",, \"T\")/100","v":1.2842465753424657E-2},"https://finance.yahoo.com/quote/BUFF",null,1.2842465753424657E-2,{"$error":"#N/A"},null,{"$f":"RTD(\"cqg.rtd\", ,\"ContractData\",O71, \"LongDescription\",, \"T\")","v":"Blue Buffalo Pet Products, Inc."},null,null,1.2842465753424657E-2,null,1,1,null,1.2842465753424657E-2,"",""]
[null,null,"S.US.BFA",{"$f":"RTD(\"cqg.rtd\", ,\"ContractData\",C72, \"LongDescription\",, \"T\")","v":"Brown-Forman Corporation ClsA"},{"$f":"RTD(\"cqg.rtd\", ,\"ContractData\",C72, \"Open\",, \"T\")","v":54.300000000000004},{"$f":"RTD(\"cqg.rtd\", ,\"ContractData\",C72, \"High\",, \"T\")","v":54.85},{"$f":"RTD(\"cqg.rtd\", ,\"ContractData\",C72, \"Low\",, \"T\")","v":53.94},{"$f":"RTD(\"cqg.rtd\", ,\"ContractData\",C72, \"LastTradeToday\",, \"T\")","v":54.85},{"$f":"RTD(\"cqg.rtd\", ,\"ContractData\",C72, \"NetLastTradeToday\",, \"T\")","v":0.54},{"$f":"IFERROR(RTD(\"cqg.rtd\", ,\"ContractData\",C72, \"PerCentNetLastTrade\",, \"T\")/100,\"\")","v":9.9429202725096668E-3},{"$f":"RTD(\"cqg.rtd\", ,\"ContractData\", C72, \"T_CVol\",, \"T\")","v":19291},72,{"$f":"IFERROR(RANK($J72,$J$1:J$607)+COUNTIF($J$1:J72,J72)-1,\"\")","v":105},"S.US.BFA","S.US.CNC",{"$f":"RTD(\"cqg.rtd\", ,\"ContractData\",O72, \"PerCentNetLastTrade\",, \"T\")/100","v":1.2839572915258819E-2},"https://finance.yahoo.com/quote/CNC",null,1.2839572915258819E-2,{"$error":"#N/A"},null,{"$f":"RTD(\"cqg.rtd\", ,\"ContractData\",O72, \"LongDescription\",, \"T\")","v":"Cenetene Corporation"},null,null,1.2839572915258819E-2,null,1,1,null,1.2839572915258819E-2,"",""]
[null,null,"S.US.BFB",{"$f":"RTD(\"cqg.rtd\", ,\"ContractData\",C73, \"LongDescription\",, \"T\")","v":"Brown-Forman Corporation ClsB"},{"$f":"RTD(\"cqg.rtd\", ,\"ContractData\",C73, \"Open\",, \"T\")","v":53},{"$f":"RTD(\"cqg.rtd\", ,\"ContractData\",C73, \"High\",, \"T\")","v":54.07},{"$f":"RTD(\"cqg.rtd\", ,\"ContractData\",C73, \"Low\",, \"T\")","v":52.550000000000004},{"$f":"RTD(\"cqg.rtd\", ,\"ContractData\",C73, \"LastTradeToday\",, \"T\")","v":53.980000000000004},{"$f":"RTD(\"cqg.rtd\", ,\"ContractData\",C73, \"NetLastTradeToday\",, \"T\")","v":0.6},{"$f":"IFERROR(RTD(\"cqg.rtd\", ,\"ContractData\",C73, \"PerCentNetLastTrade\",, \"T\")/100,\"\")","v":1.1240164855751219E-2},{"$f":"RTD(\"cqg.rtd\", ,\"ContractData\", C73, \"T_CVol\",, \"T\")","v":1584350},73,{"$f":"IFERROR(RANK($J73,$J$1:J$607)+COUNTIF($J$1:J73,J73)-1,\"\")","v":88},"S.US.BFB","S.US.WSM",{"$f":"RTD(\"cqg.rtd\", ,\"ContractData\",O73, \"PerCentNetLastTrade\",, \"T\")/100","v":1.2635011208477685E-2},"https://finance.yahoo.com/quote/WSM",null,1.2635011208477685E-2,{"$error":"#N/A"},null,{"$f":"RTD(\"cqg.rtd\", ,\"ContractData\",O73, \"LongDescription\",, \"T\")","v":"Williams-Sonoma Inc"},null,null,1.2635011208477685E-2,null,1,1,null,1.2635011208477685E-2,"",""]
[null,null,"S.US.BIIB",{"$f":"RTD(\"cqg.rtd\", ,\"ContractData\",C74, \"LongDescription\",, \"T\")","v":"Biogen Inc."},{"$f":"RTD(\"cqg.rtd\", ,\"ContractData\",C74, \"Open\",, \"T\")","v":249.3},{"$f":"RTD(\"cqg.rtd\", ,\"ContractData\",C74, \"High\",, \"T\")","v":254.36},{"$f":"RTD(\"cqg.rtd\", ,\"ContractData\",C74, \"Low\",, \"T\")","v":246.12},{"$f":"RTD(\"cqg.rtd\", ,\"ContractData\",C74, \"LastTradeToday\",, \"T\")","v":252.81},{"$f":"RTD(\"cqg.rtd\", ,\"ContractData\",C74, \"NetLastTradeToday\",, \"T\")","v":4.71},{"$f":"IFERROR(RTD(\"cqg.rtd\", ,\"ContractData\",C74, \"PerCentNetLastTrade\",, \"T\")/100,\"\")","v":1.898428053204353E-2},{"$f":"RTD(\"cqg.rtd\", ,\"ContractData\", C74, \"T_CVol\",, \"T\")","v":1593283},74,{"$f":"IFERROR(RANK($J74,$J$1:J$607)+COUNTIF($J$1:J74,J74)-1,\"\")","v":30},"S.US.BIIB","S.US.ULTI",{"$f":"RTD(\"cqg.rtd\", ,\"ContractData\",O74, \"PerCentNetLastTrade\",, \"T\")/100","v":1.2502315243563622E-2},"https://finance.yahoo.com/quote/ULTI",null,1.2502315243563622E-2,{"$error":"#N/A"},null,{"$f":"RTD(\"cqg.rtd\", ,\"ContractData\",O74, \"LongDescription\",, \"T\")","v":"The Ultimate Software Grp"},null,null,1.2502315243563622E-2,null,1,1,null,1.2502315243563622E-2,"",""]
[null,null,"S.US.BIVV",{"$f":"RTD(\"cqg.rtd\", ,\"ContractData\",C75, \"LongDescription\",, \"T\")","v":"Bioverativ Inc."},{"$f":"RTD(\"cqg.rtd\", ,\"ContractData\",C75, \"Open\",, \"T\")","v":53.35},{"$f":"RTD(\"cqg.rtd\", ,\"ContractData\",C75, \"High\",, \"T\")","v":54.9},{"$f":"RTD(\"cqg.rtd\", ,\"ContractData\",C75, \"Low\",, \"T\")","v":52.82},{"$f":"RTD(\"cqg.rtd\", ,\"ContractData\",C75, \"LastTradeToday\",, \"T\")","v":54.03},{"$f":"RTD(\"cqg.rtd\", ,\"ContractData\",C75, \"NetLastTradeToday\",, \"T\")","v":1.53},{"$f":"IFERROR(RTD(\"cqg.rtd\", ,\"ContractData\",C75, \"PerCentNetLastTrade\",, \"T\")/100,\"\")","v":2.914285714285714E-2},{"$f":"RTD(\"cqg.rtd\", ,\"ContractData\", C75, \"T_CVol\",, \"T\")","v":744993},75,{"$f":"IFERROR(RANK($J75,$J$1:J$607)+COUNTIF($J$1:J75,J75)-1,\"\")","v":12},"S.US.BIVV","S.US.CONE",{"$f":"RTD(\"cqg.rtd\", ,\"ContractData\",O75, \"PerCentNetLastTrade\",, \"T\")/100","v":1.2363375739114855E-2},"https://finance.yahoo.com/quote/CONE",null,1.2363375739114855E-2,{"$error":"#N/A"},null,{"$f":"RTD(\"cqg.rtd\", ,\"ContractData\",O75, \"LongDescription\",, \"T\")","v":"CyrusOne Inc"},null,null,1.2363375739114855E-2,null,1,1,null,1.2363375739114855E-2,"",""]
[null,null,"S.US.BKFS",{"$f":"RTD(\"cqg.rtd\", ,\"ContractData\",C76, \"LongDescription\",, \"T\")","v":"Black Knight Financial Services, Inc."},{"$f":"RTD(\"cqg.rtd\", ,\"ContractData\",C76, \"Open\",, \"T\")","v":39.1},{"$f":"RTD(\"cqg.rtd\", ,\"ContractData\",C76, \"High\",, \"T\")","v":39.25},{"$f":"RTD(\"cqg.rtd\", ,\"ContractData\",C76, \"Low\",, \"T\")","v":39},{"$f":"RTD(\"cqg.rtd\", ,\"ContractData\",C76, \"LastTradeToday\",, \"T\")","v":39.119999999999997},{"$f":"RTD(\"cqg.rtd\", ,\"ContractData\",C76, \"NetLastTradeToday\",, \"T\")","v":0.12},{"$f":"IFERROR(RTD(\"cqg.rtd\", ,\"ContractData\",C76, \"PerCentNetLastTrade\",, \"T\")/100,\"\")","v":3.0769230769230769E-3},{"$f":"RTD(\"cqg.rtd\", ,\"ContractData\", C76, \"T_CVol\",, \"T\")","v":75260},76,{"$f":"IFERROR(RANK($J76,$J$1:J$607)+COUNTIF($J$1:J76,J76)-1,\"\")","v":277},"S.US.BKFS","S.US.AN",{"$f":"RTD(\"cqg.rtd\", ,\"ContractData\",O76, \"PerCentNetLastTrade\",, \"T\")/100","v":1.2310848935624518E-2},"https://finance.yahoo.com/quote/AN",null,1.2310848935624518E-2,{"$error":"#N/A"},null,{"$f":"RTD(\"cqg.rtd\", ,\"ContractData\",O76, \"LongDescription\",, \"T\")","v":"AutoNation Inc"},null,null,1.2310848935624518E-2,null,1,1,null,1.2310848935624518E-2,"",""]
[null,null,"S.US.BLL",{"$f":"RTD(\"cqg.rtd\", ,\"ContractData\",C77, \"LongDescription\",, \"T\")","v":"Ball Corp"},{"$f":"RTD(\"cqg.rtd\", ,\"ContractData\",C77, \"Open\",, \"T\")","v":40.08},{"$f":"RTD(\"cqg.rtd\", ,\"ContractData\",C77, \"High\",, \"T\")","v":40.380000000000003},{"$f":"RTD(\"cqg.rtd\", ,\"ContractData\",C77, \"Low\",, \"T\")","v":40.08},{"$f":"RTD(\"cqg.rtd\", ,\"ContractData\",C77, \"LastTradeToday\",, \"T\")","v":40.270000000000003},{"$f":"RTD(\"cqg.rtd\", ,\"ContractData\",C77, \"NetLastTradeToday\",, \"T\")","v":0.14000000000000001},{"$f":"IFERROR(RTD(\"cqg.rtd\", ,\"ContractData\",C77, \"PerCentNetLastTrade\",, \"T\")/100,\"\")","v":3.4886618489907801E-3},{"$f":"RTD(\"cqg.rtd\", ,\"ContractData\", C77, \"T_CVol\",, \"T\")","v":529960},77,{"$f":"IFERROR(RANK($J77,$J$1:J$607)+COUNTIF($J$1:J77,J77)-1,\"\")","v":255},"S.US.BLL","S.US.CRL",{"$f":"RTD(\"cqg.rtd\", ,\"ContractData\",O77, \"PerCentNetLastTrade\",, \"T\")/100","v":1.2138600750386228E-2},"https://finance.yahoo.com/quote/CRL",null,1.2138600750386228E-2,{"$error":"#N/A"},null,{"$f":"RTD(\"cqg.rtd\", ,\"ContractData\",O77, \"LongDescription\",, \"T\")","v":"Charles River Labs Hldgs Inc"},null,null,1.2138600750386228E-2,null,1,1,null,1.2138600750386228E-2,"",""]
[null,null,"S.US.BMRN",{"$f":"RTD(\"cqg.rtd\", ,\"ContractData\",C78, \"LongDescription\",, \"T\")","v":"BioMarin Pharmaceutical Inc"},{"$f":"RTD(\"cqg.rtd\", ,\"ContractData\",C78, \"Open\",, \"T\")","v":88.38},{"$f":"RTD(\"cqg.rtd\", ,\"ContractData\",C78, \"High\",, \"T\")","v":88.54},{"$f":"RTD(\"cqg.rtd\", ,\"ContractData\",C78, \"Low\",, \"T\")","v":87.15},{"$f":"RTD(\"cqg.rtd\", ,\"ContractData\",C78, \"LastTradeToday\",, \"T\")","v":87.92},{"$f":"RTD(\"cqg.rtd\", ,\"ContractData\",C78, \"NetLastTradeToday\",, \"T\")","v":-0.44},{"$f":"IFERROR(RTD(\"cqg.rtd\", ,\"ContractData\",C78, \"PerCentNetLastTrade\",, \"T\")/100,\"\")","v":-4.9796287913082844E-3},{"$f":"RTD(\"cqg.rtd\", ,\"ContractData\", C78, \"T_CVol\",, \"T\")","v":901130},78,{"$f":"IFERROR(RANK($J78,$J$1:J$607)+COUNTIF($J$1:J78,J78)-1,\"\")","v":480},"S.US.BMRN","S.US.UHAL",{"$f":"RTD(\"cqg.rtd\", ,\"ContractData\",O78, \"PerCentNetLastTrade\",, \"T\")/100","v":1.1951162850726621E-2},"https://finance.yahoo.com/quote/UHAL",null,1.1951162850726621E-2,{"$error":"#N/A"},null,{"$f":"RTD(\"cqg.rtd\", ,\"ContractData\",O78, \"LongDescription\",, \"T\")","v":"Amerco"},null,null,1.1951162850726621E-2,null,1,1,null,1.1951162850726621E-2,"",""]
[null,null,"S.US.BMS",{"$f":"RTD(\"cqg.rtd\", ,\"ContractData\",C79, \"LongDescription\",, \"T\")","v":"Bemis Inc"},{"$f":"RTD(\"cqg.rtd\", ,\"ContractData\",C79, \"Open\",, \"T\")","v":44.1},{"$f":"RTD(\"cqg.rtd\", ,\"ContractData\",C79, \"High\",, \"T\")","v":44.49},{"$f":"RTD(\"cqg.rtd\", ,\"ContractData\",C79, \"Low\",, \"T\")","v":43.94},{"$f":"RTD(\"cqg.rtd\", ,\"ContractData\",C79, \"LastTradeToday\",, \"T\")","v":44.38},{"$f":"RTD(\"cqg.rtd\", ,\"ContractData\",C79, \"NetLastTradeToday\",, \"T\")","v":0.2},{"$f":"IFERROR(RTD(\"cqg.rtd\", ,\"ContractData\",C79, \"PerCentNetLastTrade\",, \"T\")/100,\"\")","v":4.5269352648257127E-3},{"$f":"RTD(\"cqg.rtd\", ,\"ContractData\", C79, \"T_CVol\",, \"T\")","v":329999},79,{"$f":"IFERROR(RANK($J79,$J$1:J$607)+COUNTIF($J$1:J79,J79)-1,\"\")","v":228},"S.US.BMS","S.US.ABC",{"$f":"RTD(\"cqg.rtd\", ,\"ContractData\",O79, \"PerCentNetLastTrade\",, \"T\")/100","v":1.188474044175356E-2},"https://finance.yahoo.com/quote/ABC",null,1.188474044175356E-2,{"$error":"#N/A"},null,{"$f":"RTD(\"cqg.rtd\", ,\"ContractData\",O79, \"LongDescription\",, \"T\")","v":"AmerisourceBergen Corp"},null,null,1.188474044175356E-2,null,1,1,null,1.188474044175356E-2,"",""]
[null,null,"S.US.BMY",{"$f":"RTD(\"cqg.rtd\", ,\"ContractData\",C80, \"LongDescription\",, \"T\")","v":"Bristol-Myers Squibb Co"},{"$f":"RTD(\"cqg.rtd\", ,\"ContractData\",C80, \"Open\",, \"T\")","v":54.45},{"$f":"RTD(\"cqg.rtd\", ,\"ContractData\",C80, \"High\",, \"T\")","v":54.45},{"$f":"RTD(\"cqg.rtd\", ,\"ContractData\",C80, \"Low\",, \"T\")","v":53.47},{"$f":"RTD(\"cqg.rtd\", ,\"ContractData\",C80, \"LastTradeToday\",, \"T\")","v":53.68},{"$f":"RTD(\"cqg.rtd\", ,\"ContractData\",C80, \"NetLastTradeToday\",, \"T\")","v":-0.53},{"$f":"IFERROR(RTD(\"cqg.rtd\", ,\"ContractData\",C80, \"PerCentNetLastTrade\",, \"T\")/100,\"\")","v":-9.7767939494558202E-3},{"$f":"RTD(\"cqg.rtd\", ,\"ContractData\", C80, \"T_CVol\",, \"T\")","v":3553615},80,{"$f":"IFERROR(RANK($J80,$J$1:J$607)+COUNTIF($J$1:J80,J80)-1,\"\")","v":542},"S.US.BMY","S.US.ON",{"$f":"RTD(\"cqg.rtd\", ,\"ContractData\",O80, \"PerCentNetLastTrade\",, \"T\")/100","v":1.1772400261608895E-2},"https://finance.yahoo.com/quote/ON",null,1.1772400261608895E-2,{"$error":"#N/A"},null,{"$f":"RTD(\"cqg.rtd\", ,\"ContractData\",O80, \"LongDescription\",, \"T\")","v":"ON Semiconductor Corp"},null,null,1.1772400261608895E-2,null,1,1,null,1.1772400261608895E-2,"",""]
[null,null,"S.US.BR",{"$f":"RTD(\"cqg.rtd\", ,\"ContractData\",C81, \"LongDescription\",, \"T\")","v":"Broadridge Financial Solutions"},{"$f":"RTD(\"cqg.rtd\", ,\"ContractData\",C81, \"Open\",, \"T\")","v":73.900000000000006},{"$f":"RTD(\"cqg.rtd\", ,\"ContractData\",C81, \"High\",, \"T\")","v":74.89},{"$f":"RTD(\"cqg.rtd\", ,\"ContractData\",C81, \"Low\",, \"T\")","v":73.900000000000006},{"$f":"RTD(\"cqg.rtd\", ,\"ContractData\",C81, \"LastTradeToday\",, \"T\")","v":74.89},{"$f":"RTD(\"cqg.rtd\", ,\"ContractData\",C81, \"NetLastTradeToday\",, \"T\")","v":0.78},{"$f":"IFERROR(RTD(\"cqg.rtd\", ,\"ContractData\",C81, \"PerCentNetLastTrade\",, \"T\")/100,\"\")","v":1.0524895425718526E-2},{"$f":"RTD(\"cqg.rtd\", ,\"ContractData\", C81, \"T_CVol\",, \"T\")","v":195332},81,{"$f":"IFERROR(RANK($J81,$J$1:J$607)+COUNTIF($J$1:J81,J81)-1,\"\")","v":99},"S.US.BR","S.US.V",{"$f":"RTD(\"cqg.rtd\", ,\"ContractData\",O81, \"PerCentNetLastTrade\",, \"T\")/100","v":1.171958235670147E-2},"https://finance.yahoo.com/quote/V",null,1.171958235670147E-2,{"$error":"#N/A"},null,{"$f":"RTD(\"cqg.rtd\", ,\"ContractData\",O81, \"LongDescription\",, \"T\")","v":"Visa Inc."},null,null,1.171958235670147E-2,null,1,1,null,1.171958235670147E-2,"",""]
[null,null,"S.US.BRKR",{"$f":"RTD(\"cqg.rtd\", ,\"ContractData\",C82, \"LongDescription\",, \"T\")","v":"Bruker Corp"},{"$f":"RTD(\"cqg.rtd\", ,\"ContractData\",C82, \"Open\",, \"T\")","v":26.900000000000002},{"$f":"RTD(\"cqg.rtd\", ,\"ContractData\",C82, \"High\",, \"T\")","v":27.17},{"$f":"RTD(\"cqg.rtd\", ,\"ContractData\",C82, \"Low\",, \"T\")","v":26.82},{"$f":"RTD(\"cqg.rtd\", ,\"ContractData\",C82, \"LastTradeToday\",, \"T\")","v":27.060000000000002},{"$f":"RTD(\"cqg.rtd\", ,\"ContractData\",C82, \"NetLastTradeToday\",, \"T\")","v":0.14000000000000001},{"$f":"IFERROR(RTD(\"cqg.rtd\", ,\"ContractData\",C82, \"PerCentNetLastTrade\",, \"T\")/100,\"\")","v":5.2005943536404167E-3},{"$f":"RTD(\"cqg.rtd\", ,\"ContractData\", C82, \"T_CVol\",, \"T\")","v":416731},82,{"$f":"IFERROR(RANK($J82,$J$1:J$607)+COUNTIF($J$1:J82,J82)-1,\"\")","v":209},"S.US.BRKR","S.US.EQIX",{"$f":"RTD(\"cqg.rtd\", ,\"ContractData\",O82, \"PerCentNetLastTrade\",, \"T\")/100","v":1.170288441680626E-2},"https://finance.yahoo.com/quote/EQIX",null,1.170288441680626E-2,{"$error":"#N/A"},null,{"$f":"RTD(\"cqg.rtd\", ,\"ContractData\",O82, \"LongDescription\",, \"T\")","v":"Equinix Inc"},null,null,1.170288441680626E-2,null,1,1,null,1.170288441680626E-2,"",""]
[null,null,"S.US.BRO",{"$f":"RTD(\"cqg.rtd\", ,\"ContractData\",C83, \"LongDescription\",, \"T\")","v":"BROWN AND BROWN INC"},{"$f":"RTD(\"cqg.rtd\", ,\"ContractData\",C83, \"Open\",, \"T\")","v":42.5},{"$f":"RTD(\"cqg.rtd\", ,\"ContractData\",C83, \"High\",, \"T\")","v":42.67},{"$f":"RTD(\"cqg.rtd\", ,\"ContractData\",C83, \"Low\",, \"T\")","v":42.39},{"$f":"RTD(\"cqg.rtd\", ,\"ContractData\",C83, \"LastTradeToday\",, \"T\")","v":42.53},{"$f":"RTD(\"cqg.rtd\", ,\"ContractData\",C83, \"NetLastTradeToday\",, \"T\")","v":0.06},{"$f":"IFERROR(RTD(\"cqg.rtd\", ,\"ContractData\",C83, \"PerCentNetLastTrade\",, \"T\")/100,\"\")","v":1.4127619496114904E-3},{"$f":"RTD(\"cqg.rtd\", ,\"ContractData\", C83, \"T_CVol\",, \"T\")","v":128564},83,{"$f":"IFERROR(RANK($J83,$J$1:J$607)+COUNTIF($J$1:J83,J83)-1,\"\")","v":341},"S.US.BRO","S.US.SPG",{"$f":"RTD(\"cqg.rtd\", ,\"ContractData\",O83, \"PerCentNetLastTrade\",, \"T\")/100","v":1.1701112877583466E-2},"https://finance.yahoo.com/quote/SPG",null,1.1701112877583466E-2,{"$error":"#N/A"},null,{"$f":"RTD(\"cqg.rtd\", ,\"ContractData\",O83, \"LongDescription\",, \"T\")","v":"Simon Property Grp"},null,null,1.1701112877583466E-2,null,1,1,null,1.1701112877583466E-2,"",""]
[null,null,"S.US.BSX",{"$f":"RTD(\"cqg.rtd\", ,\"ContractData\",C84, \"LongDescription\",, \"T\")","v":"Boston Scientific Corp"},{"$f":"RTD(\"cqg.rtd\", ,\"ContractData\",C84, \"Open\",, \"T\")","v":26.75},{"$f":"RTD(\"cqg.rtd\", ,\"ContractData\",C84, \"High\",, \"T\")","v":27.01},{"$f":"RTD(\"cqg.rtd\", ,\"ContractData\",C84, \"Low\",, \"T\")","v":26.69},{"$f":"RTD(\"cqg.rtd\", ,\"ContractData\",C84, \"LastTradeToday\",, \"T\")","v":26.98},{"$f":"RTD(\"cqg.rtd\", ,\"ContractData\",C84, \"NetLastTradeToday\",, \"T\")","v":0.31},{"$f":"IFERROR(RTD(\"cqg.rtd\", ,\"ContractData\",C84, \"PerCentNetLastTrade\",, \"T\")/100,\"\")","v":1.1623547056617922E-2},{"$f":"RTD(\"cqg.rtd\", ,\"ContractData\", C84, \"T_CVol\",, \"T\")","v":2758718},84,{"$f":"IFERROR(RANK($J84,$J$1:J$607)+COUNTIF($J$1:J84,J84)-1,\"\")","v":86},"S.US.BSX","S.US.VRTX",{"$f":"RTD(\"cqg.rtd\", ,\"ContractData\",O84, \"PerCentNetLastTrade\",, \"T\")/100","v":1.1664808302598851E-2},"https://finance.yahoo.com/quote/VRTX",null,1.1664808302598851E-2,{"$error":"#N/A"},null,{"$f":"RTD(\"cqg.rtd\", ,\"ContractData\",O84, \"LongDescription\",, \"T\")","v":"Vertex Pharmaceuticals Incorporated"},null,null,1.1664808302598851E-2,null,1,1,null,1.1664808302598851E-2,"",""]
[null,null,"S.US.BUFF",{"$f":"RTD(\"cqg.rtd\", ,\"ContractData\",C85, \"LongDescription\",, \"T\")","v":"Blue Buffalo Pet Products, Inc."},{"$f":"RTD(\"cqg.rtd\", ,\"ContractData\",C85, \"Open\",, \"T\")","v":23.330000000000002},{"$f":"RTD(\"cqg.rtd\", ,\"ContractData\",C85, \"High\",, \"T\")","v":23.7},{"$f":"RTD(\"cqg.rtd\", ,\"ContractData\",C85, \"Low\",, \"T\")","v":23.16},{"$f":"RTD(\"cqg.rtd\", ,\"ContractData\",C85, \"LastTradeToday\",, \"T\")","v":23.66},{"$f":"RTD(\"cqg.rtd\", ,\"ContractData\",C85, \"NetLastTradeToday\",, \"T\")","v":0.3},{"$f":"IFERROR(RTD(\"cqg.rtd\", ,\"ContractData\",C85, \"PerCentNetLastTrade\",, \"T\")/100,\"\")","v":1.2842465753424657E-2},{"$f":"RTD(\"cqg.rtd\", ,\"ContractData\", C85, \"T_CVol\",, \"T\")","v":429787},85,{"$f":"IFERROR(RANK($J85,$J$1:J$607)+COUNTIF($J$1:J85,J85)-1,\"\")","v":71},"S.US.BUFF","S.US.DD",{"$f":"RTD(\"cqg.rtd\", ,\"ContractData\",O85, \"PerCentNetLastTrade\",, \"T\")/100","v":1.1636927851047323E-2},"https://finance.yahoo.com/quote/DD",null,1.1636927851047323E-2,{"$error":"#N/A"},null,{"$f":"RTD(\"cqg.rtd\", ,\"ContractData\",O85, \"LongDescription\",, \"T\")","v":"E.I. du Pont de Nemours and Co. (DuPont)"},null,null,1.1636927851047323E-2,null,1,1,null,1.1636927851047323E-2,"",""]
[null,null,"S.US.BURL",{"$f":"RTD(\"cqg.rtd\", ,\"ContractData\",C86, \"LongDescription\",, \"T\")","v":"Burlington Stores, Inc."},{"$f":"RTD(\"cqg.rtd\", ,\"ContractData\",C86, \"Open\",, \"T\")","v":96},{"$f":"RTD(\"cqg.rtd\", ,\"ContractData\",C86, \"High\",, \"T\")","v":96.01},{"$f":"RTD(\"cqg.rtd\", ,\"ContractData\",C86, \"Low\",, \"T\")","v":93.960000000000008},{"$f":"RTD(\"cqg.rtd\", ,\"ContractData\",C86, \"LastTradeToday\",, \"T\")","v":94.23},{"$f":"RTD(\"cqg.rtd\", ,\"ContractData\",C86, \"NetLastTradeToday\",, \"T\")","v":-1.67},{"$f":"IFERROR(RTD(\"cqg.rtd\", ,\"ContractData\",C86, \"PerCentNetLastTrade\",, \"T\")/100,\"\")","v":-1.7413972888425444E-2},{"$f":"RTD(\"cqg.rtd\", ,\"ContractData\", C86, \"T_CVol\",, \"T\")","v":555484},86,{"$f":"IFERROR(RANK($J86,$J$1:J$607)+COUNTIF($J$1:J86,J86)-1,\"\")","v":581},"S.US.BURL","S.US.BSX",{"$f":"RTD(\"cqg.rtd\", ,\"ContractData\",O86, \"PerCentNetLastTrade\",, \"T\")/100","v":1.1623547056617922E-2},"https://finance.yahoo.com/quote/BSX",null,1.1623547056617922E-2,{"$error":"#N/A"},null,{"$f":"RTD(\"cqg.rtd\", ,\"ContractData\",O86, \"LongDescription\",, \"T\")","v":"Boston Scientific Corp"},null,null,1.1623547056617922E-2,null,1,1,null,1.1623547056617922E-2,"",""]
[null,null,"S.US.BWA",{"$f":"RTD(\"cqg.rtd\", ,\"ContractData\",C87, \"LongDescription\",, \"T\")","v":"Borg Warner Inc"},{"$f":"RTD(\"cqg.rtd\", ,\"ContractData\",C87, \"Open\",, \"T\")","v":40.950000000000003},{"$f":"RTD(\"cqg.rtd\", ,\"ContractData\",C87, \"High\",, \"T\")","v":41.09},{"$f":"RTD(\"cqg.rtd\", ,\"ContractData\",C87, \"Low\",, \"T\")","v":40.69},{"$f":"RTD(\"cqg.rtd\", ,\"ContractData\",C87, \"LastTradeToday\",, \"T\")","v":40.950000000000003},{"$f":"RTD(\"cqg.rtd\", ,\"ContractData\",C87, \"NetLastTradeToday\",, \"T\")","v":0.13},{"$f":"IFERROR(RTD(\"cqg.rtd\", ,\"ContractData\",C87, \"PerCentNetLastTrade\",, \"T\")/100,\"\")","v":3.1847133757961781E-3},{"$f":"RTD(\"cqg.rtd\", ,\"ContractData\", C87, \"T_CVol\",, \"T\")","v":423677},87,{"$f":"IFERROR(RANK($J87,$J$1:J$607)+COUNTIF($J$1:J87,J87)-1,\"\")","v":269},"S.US.BWA","S.US.VMW",{"$f":"RTD(\"cqg.rtd\", ,\"ContractData\",O87, \"PerCentNetLastTrade\",, \"T\")/100","v":1.1278591757141352E-2},"https://finance.yahoo.com/quote/VMW",null,1.1278591757141352E-2,{"$error":"#N/A"},null,{"$f":"RTD(\"cqg.rtd\", ,\"ContractData\",O87, \"LongDescription\",, \"T\")","v":"Vmware Inc"},null,null,1.1278591757141352E-2,null,1,1,null,1.1278591757141352E-2,"",""]
[null,null,"S.US.BWXT",{"$f":"RTD(\"cqg.rtd\", ,\"ContractData\",C88, \"LongDescription\",, \"T\")","v":"BWX Technologies, Inc."},{"$f":"RTD(\"cqg.rtd\", ,\"ContractData\",C88, \"Open\",, \"T\")","v":48.36},{"$f":"RTD(\"cqg.rtd\", ,\"ContractData\",C88, \"High\",, \"T\")","v":48.550000000000004},{"$f":"RTD(\"cqg.rtd\", ,\"ContractData\",C88, \"Low\",, \"T\")","v":47.94},{"$f":"RTD(\"cqg.rtd\", ,\"ContractData\",C88, \"LastTradeToday\",, \"T\")","v":48.04},{"$f":"RTD(\"cqg.rtd\", ,\"ContractData\",C88, \"NetLastTradeToday\",, \"T\")","v":-0.22},{"$f":"IFERROR(RTD(\"cqg.rtd\", ,\"ContractData\",C88, \"PerCentNetLastTrade\",, \"T\")/100,\"\")","v":-4.5586406962287605E-3},{"$f":"RTD(\"cqg.rtd\", ,\"ContractData\", C88, \"T_CVol\",, \"T\")","v":165560},88,{"$f":"IFERROR(RANK($J88,$J$1:J$607)+COUNTIF($J$1:J88,J88)-1,\"\")","v":474},"S.US.BWXT","S.US.BFB",{"$f":"RTD(\"cqg.rtd\", ,\"ContractData\",O88, \"PerCentNetLastTrade\",, \"T\")/100","v":1.1240164855751219E-2},"https://finance.yahoo.com/quote/BFB",null,1.1240164855751219E-2,{"$error":"#N/A"},null,{"$f":"RTD(\"cqg.rtd\", ,\"ContractData\",O88, \"LongDescription\",, \"T\")","v":"Brown-Forman Corporation ClsB"},null,null,1.1240164855751219E-2,null,1,1,null,1.1240164855751219E-2,"",""]
[null,null,"S.US.BXP",{"$f":"RTD(\"cqg.rtd\", ,\"ContractData\",C89, \"LongDescription\",, \"T\")","v":"Boston Properties Inc"},{"$f":"RTD(\"cqg.rtd\", ,\"ContractData\",C89, \"Open\",, \"T\")","v":121.91},{"$f":"RTD(\"cqg.rtd\", ,\"ContractData\",C89, \"High\",, \"T\")","v":122.33},{"$f":"RTD(\"cqg.rtd\", ,\"ContractData\",C89, \"Low\",, \"T\")","v":121.43},{"$f":"RTD(\"cqg.rtd\", ,\"ContractData\",C89, \"LastTradeToday\",, \"T\")","v":122.07000000000001},{"$f":"RTD(\"cqg.rtd\", ,\"ContractData\",C89, \"NetLastTradeToday\",, \"T\")","v":0.23},{"$f":"IFERROR(RTD(\"cqg.rtd\", ,\"ContractData\",C89, \"PerCentNetLastTrade\",, \"T\")/100,\"\")","v":1.8877216021011161E-3},{"$f":"RTD(\"cqg.rtd\", ,\"ContractData\", C89, \"T_CVol\",, \"T\")","v":243256},89,{"$f":"IFERROR(RANK($J89,$J$1:J$607)+COUNTIF($J$1:J89,J89)-1,\"\")","v":323},"S.US.BXP","S.US.HUBB",{"$f":"RTD(\"cqg.rtd\", ,\"ContractData\",O89, \"PerCentNetLastTrade\",, \"T\")/100","v":1.1122697254084116E-2},"https://finance.yahoo.com/quote/HUBB",null,1.1122697254084116E-2,{"$error":"#N/A"},null,{"$f":"RTD(\"cqg.rtd\", ,\"ContractData\",O89, \"LongDescription\",, \"T\")","v":"Hubbell Inc Cls B"},null,null,1.1122697254084116E-2,null,1,1,null,1.1122697254084116E-2,"",""]
[null,null,"S.US.CAA",{"$f":"RTD(\"cqg.rtd\", ,\"ContractData\",C90, \"LongDescription\",, \"T\")","v":"CalAtlantic Group, Inc."},{"$f":"RTD(\"cqg.rtd\", ,\"ContractData\",C90, \"Open\",, \"T\")","v":36.79},{"$f":"RTD(\"cqg.rtd\", ,\"ContractData\",C90, \"High\",, \"T\")","v":37.11},{"$f":"RTD(\"cqg.rtd\", ,\"ContractData\",C90, \"Low\",, \"T\")","v":36.590000000000003},{"$f":"RTD(\"cqg.rtd\", ,\"ContractData\",C90, \"LastTradeToday\",, \"T\")","v":37.050000000000004},{"$f":"RTD(\"cqg.rtd\", ,\"ContractData\",C90, \"NetLastTradeToday\",, \"T\")","v":0.13},{"$f":"IFERROR(RTD(\"cqg.rtd\", ,\"ContractData\",C90, \"PerCentNetLastTrade\",, \"T\")/100,\"\")","v":3.5211267605633799E-3},{"$f":"RTD(\"cqg.rtd\", ,\"ContractData\", C90, \"T_CVol\",, \"T\")","v":363339},90,{"$f":"IFERROR(RANK($J90,$J$1:J$607)+COUNTIF($J$1:J90,J90)-1,\"\")","v":253},"S.US.CAA","S.US.KO",{"$f":"RTD(\"cqg.rtd\", ,\"ContractData\",O90, \"PerCentNetLastTrade\",, \"T\")/100","v":1.103852218968236E-2},"https://finance.yahoo.com/quote/KO",null,1.103852218968236E-2,{"$error":"#N/A"},null,{"$f":"RTD(\"cqg.rtd\", ,\"ContractData\",O90, \"LongDescription\",, \"T\")","v":"Coca-Cola Company"},null,null,1.103852218968236E-2,null,1,1,null,1.103852218968236E-2,"",""]
[null,null,"S.US.CAB",{"$f":"RTD(\"cqg.rtd\", ,\"ContractData\",C91, \"LongDescription\",, \"T\")","v":"Cabelas Inc"},{"$f":"RTD(\"cqg.rtd\", ,\"ContractData\",C91, \"Open\",, \"T\")","v":53.29},{"$f":"RTD(\"cqg.rtd\", ,\"ContractData\",C91, \"High\",, \"T\")","v":53.49},{"$f":"RTD(\"cqg.rtd\", ,\"ContractData\",C91, \"Low\",, \"T\")","v":52.92},{"$f":"RTD(\"cqg.rtd\", ,\"ContractData\",C91, \"LastTradeToday\",, \"T\")","v":53.44},{"$f":"RTD(\"cqg.rtd\", ,\"ContractData\",C91, \"NetLastTradeToday\",, \"T\")","v":0.17},{"$f":"IFERROR(RTD(\"cqg.rtd\", ,\"ContractData\",C91, \"PerCentNetLastTrade\",, \"T\")/100,\"\")","v":3.1912896564670547E-3},{"$f":"RTD(\"cqg.rtd\", ,\"ContractData\", C91, \"T_CVol\",, \"T\")","v":226530},91,{"$f":"IFERROR(RANK($J91,$J$1:J$607)+COUNTIF($J$1:J91,J91)-1,\"\")","v":268},"S.US.CAB","S.US.SERV",{"$f":"RTD(\"cqg.rtd\", ,\"ContractData\",O91, \"PerCentNetLastTrade\",, \"T\")/100","v":1.0968432316746924E-2},"https://finance.yahoo.com/quote/SERV",null,1.0968432316746924E-2,{"$error":"#N/A"},null,{"$f":"RTD(\"cqg.rtd\", ,\"ContractData\",O91, \"LongDescription\",, \"T\")","v":"Servicemaster Global Holdings, Inc."},null,null,1.0968432316746924E-2,null,1,1,null,1.0968432316746924E-2,"",""]
[null,null,"S.US.CABO",{"$f":"RTD(\"cqg.rtd\", ,\"ContractData\",C92, \"LongDescription\",, \"T\")","v":"Cable ONE, Inc."},{"$f":"RTD(\"cqg.rtd\", ,\"ContractData\",C92, \"Open\",, \"T\")","v":695.32},{"$f":"RTD(\"cqg.rtd\", ,\"ContractData\",C92, \"High\",, \"T\")","v":699.65},{"$f":"RTD(\"cqg.rtd\", ,\"ContractData\",C92, \"Low\",, \"T\")","v":691.9},{"$f":"RTD(\"cqg.rtd\", ,\"ContractData\",C92, \"LastTradeToday\",, \"T\")","v":693},{"$f":"RTD(\"cqg.rtd\", ,\"ContractData\",C92, \"NetLastTradeToday\",, \"T\")","v":-0.5},{"$f":"IFERROR(RTD(\"cqg.rtd\", ,\"ContractData\",C92, \"PerCentNetLastTrade\",, \"T\")/100,\"\")","v":-7.2098053352559477E-4},{"$f":"RTD(\"cqg.rtd\", ,\"ContractData\", C92, \"T_CVol\",, \"T\")","v":13598},92,{"$f":"IFERROR(RANK($J92,$J$1:J$607)+COUNTIF($J$1:J92,J92)-1,\"\")","v":409},"S.US.CABO","S.US.HUM",{"$f":"RTD(\"cqg.rtd\", ,\"ContractData\",O92, \"PerCentNetLastTrade\",, \"T\")/100","v":1.0903698534542917E-2},"https://finance.yahoo.com/quote/HUM",null,1.0903698534542917E-2,{"$error":"#N/A"},null,{"$f":"RTD(\"cqg.rtd\", ,\"ContractData\",O92, \"LongDescription\",, \"T\")","v":"Humana Inc"},null,null,1.0903698534542917E-2,null,1,1,null,1.0903698534542917E-2,"",""]
[null,null,"S.US.CACC",{"$f":"RTD(\"cqg.rtd\", ,\"ContractData\",C93, \"LongDescription\",, \"T\")","v":"Credit Acceptence Corp"},{"$f":"RTD(\"cqg.rtd\", ,\"ContractData\",C93, \"Open\",, \"T\")","v":226.33},{"$f":"RTD(\"cqg.rtd\", ,\"ContractData\",C93, \"High\",, \"T\")","v":228.86},{"$f":"RTD(\"cqg.rtd\", ,\"ContractData\",C93, \"Low\",, \"T\")","v":222.97},{"$f":"RTD(\"cqg.rtd\", ,\"ContractData\",C93, \"LastTradeToday\",, \"T\")","v":224.23000000000002},{"$f":"RTD(\"cqg.rtd\", ,\"ContractData\",C93, \"NetLastTradeToday\",, \"T\")","v":-2.5},{"$f":"IFERROR(RTD(\"cqg.rtd\", ,\"ContractData\",C93, \"PerCentNetLastTrade\",, \"T\")/100,\"\")","v":-1.1026330878136991E-2},{"$f":"RTD(\"cqg.rtd\", ,\"ContractData\", C93, \"T_CVol\",, \"T\")","v":89553},93,{"$f":"IFERROR(RANK($J93,$J$1:J$607)+COUNTIF($J$1:J93,J93)-1,\"\")","v":554},"S.US.CACC","S.US.CMCSA",{"$f":"RTD(\"cqg.rtd\", ,\"ContractData\",O93, \"PerCentNetLastTrade\",, \"T\")/100","v":1.0809451985922574E-2},"https://finance.yahoo.com/quote/CMCSA",null,1.0809451985922574E-2,{"$error":"#N/A"},null,{"$f":"RTD(\"cqg.rtd\", ,\"ContractData\",O93, \"LongDescription\",, \"T\")","v":"Comcast Corp ClsA"},null,null,1.0809451985922574E-2,null,1,1,null,1.0809451985922574E-2,"",""]
[null,null,"S.US.CAG",{"$f":"RTD(\"cqg.rtd\", ,\"ContractData\",C94, \"LongDescription\",, \"T\")","v":"Conagra Brands, Inc."},{"$f":"RTD(\"cqg.rtd\", ,\"ContractData\",C94, \"Open\",, \"T\")","v":38.56},{"$f":"RTD(\"cqg.rtd\", ,\"ContractData\",C94, \"High\",, \"T\")","v":38.71},{"$f":"RTD(\"cqg.rtd\", ,\"ContractData\",C94, \"Low\",, \"T\")","v":38.5},{"$f":"RTD(\"cqg.rtd\", ,\"ContractData\",C94, \"LastTradeToday\",, \"T\")","v":38.69},{"$f":"RTD(\"cqg.rtd\", ,\"ContractData\",C94, \"NetLastTradeToday\",, \"T\")","v":0.31},{"$f":"IFERROR(RTD(\"cqg.rtd\", ,\"ContractData\",C94, \"PerCentNetLastTrade\",, \"T\")/100,\"\")","v":8.0771235018238657E-3},{"$f":"RTD(\"cqg.rtd\", ,\"ContractData\", C94, \"T_CVol\",, \"T\")","v":779425},94,{"$f":"IFERROR(RANK($J94,$J$1:J$607)+COUNTIF($J$1:J94,J94)-1,\"\")","v":137},"S.US.CAG","S.US.DLR",{"$f":"RTD(\"cqg.rtd\", ,\"ContractData\",O94, \"PerCentNetLastTrade\",, \"T\")/100","v":1.0672174885962647E-2},"https://finance.yahoo.com/quote/DLR",null,1.0672174885962647E-2,{"$error":"#N/A"},null,{"$f":"RTD(\"cqg.rtd\", ,\"ContractData\",O94, \"LongDescription\",, \"T\")","v":"Digital Realty"},null,null,1.0672174885962647E-2,null,1,1,null,1.0672174885962647E-2,"",""]
[null,null,"S.US.CAH",{"$f":"RTD(\"cqg.rtd\", ,\"ContractData\",C95, \"LongDescription\",, \"T\")","v":"Cardinal Health Inc"},{"$f":"RTD(\"cqg.rtd\", ,\"ContractData\",C95, \"Open\",, \"T\")","v":73.100000000000009},{"$f":"RTD(\"cqg.rtd\", ,\"ContractData\",C95, \"High\",, \"T\")","v":73.320000000000007},{"$f":"RTD(\"cqg.rtd\", ,\"ContractData\",C95, \"Low\",, \"T\")","v":72.83},{"$f":"RTD(\"cqg.rtd\", ,\"ContractData\",C95, \"LastTradeToday\",, \"T\")","v":73.25},{"$f":"RTD(\"cqg.rtd\", ,\"ContractData\",C95, \"NetLastTradeToday\",, \"T\")","v":0.28999999999999998},{"$f":"IFERROR(RTD(\"cqg.rtd\", ,\"ContractData\",C95, \"PerCentNetLastTrade\",, \"T\")/100,\"\")","v":3.9747807017543853E-3},{"$f":"RTD(\"cqg.rtd\", ,\"ContractData\", C95, \"T_CVol\",, \"T\")","v":514428},95,{"$f":"IFERROR(RANK($J95,$J$1:J$607)+COUNTIF($J$1:J95,J95)-1,\"\")","v":244},"S.US.CAH","S.US.SBUX",{"$f":"RTD(\"cqg.rtd\", ,\"ContractData\",O95, \"PerCentNetLastTrade\",, \"T\")/100","v":1.0629599345870811E-2},"https://finance.yahoo.com/quote/SBUX",null,1.0629599345870811E-2,{"$error":"#N/A"},null,{"$f":"RTD(\"cqg.rtd\", ,\"ContractData\",O95, \"LongDescription\",, \"T\")","v":"Starbucks Corp"},null,null,1.0629599345870811E-2,null,1,1,null,1.0629599345870811E-2,"",""]
[null,null,"S.US.CAR",{"$f":"RTD(\"cqg.rtd\", ,\"ContractData\",C96, \"LongDescription\",, \"T\")","v":"AVIS Budget Group Inc"},{"$f":"RTD(\"cqg.rtd\", ,\"ContractData\",C96, \"Open\",, \"T\")","v":22.42},{"$f":"RTD(\"cqg.rtd\", ,\"ContractData\",C96, \"High\",, \"T\")","v":22.51},{"$f":"RTD(\"cqg.rtd\", ,\"ContractData\",C96, \"Low\",, \"T\")","v":21.94},{"$f":"RTD(\"cqg.rtd\", ,\"ContractData\",C96, \"LastTradeToday\",, \"T\")","v":22.150000000000002},{"$f":"RTD(\"cqg.rtd\", ,\"ContractData\",C96, \"NetLastTradeToday\",, \"T\")","v":-0.23},{"$f":"IFERROR(RTD(\"cqg.rtd\", ,\"ContractData\",C96, \"PerCentNetLastTrade\",, \"T\")/100,\"\")","v":-1.0277033065236817E-2},{"$f":"RTD(\"cqg.rtd\", ,\"ContractData\", C96, \"T_CVol\",, \"T\")","v":1313190},96,{"$f":"IFERROR(RANK($J96,$J$1:J$607)+COUNTIF($J$1:J96,J96)-1,\"\")","v":547},"S.US.CAR","S.US.FB",{"$f":"RTD(\"cqg.rtd\", ,\"ContractData\",O96, \"PerCentNetLastTrade\",, \"T\")/100","v":1.0535557506584723E-2},"https://finance.yahoo.com/quote/FB",null,1.0535557506584723E-2,{"$error":"#N/A"},null,{"$f":"RTD(\"cqg.rtd\", ,\"ContractData\",O96, \"LongDescription\",, \"T\")","v":"Facebook, Inc."},null,null,1.0535557506584723E-2,null,1,1,null,1.0535557506584723E-2,"",""]
[null,null,"S.US.CASY",{"$f":"RTD(\"cqg.rtd\", ,\"ContractData\",C97, \"LongDescription\",, \"T\")","v":"Caseys General Stores Inc"},{"$f":"RTD(\"cqg.rtd\", ,\"ContractData\",C97, \"Open\",, \"T\")","v":112.9},{"$f":"RTD(\"cqg.rtd\", ,\"ContractData\",C97, \"High\",, \"T\")","v":113.63},{"$f":"RTD(\"cqg.rtd\", ,\"ContractData\",C97, \"Low\",, \"T\")","v":112.24000000000001},{"$f":"RTD(\"cqg.rtd\", ,\"ContractData\",C97, \"LastTradeToday\",, \"T\")","v":113.59},{"$f":"RTD(\"cqg.rtd\", ,\"ContractData\",C97, \"NetLastTradeToday\",, \"T\")","v":0.98},{"$f":"IFERROR(RTD(\"cqg.rtd\", ,\"ContractData\",C97, \"PerCentNetLastTrade\",, \"T\")/100,\"\")","v":8.7026019003640879E-3},{"$f":"RTD(\"cqg.rtd\", ,\"ContractData\", C97, \"T_CVol\",, \"T\")","v":148483},97,{"$f":"IFERROR(RANK($J97,$J$1:J$607)+COUNTIF($J$1:J97,J97)-1,\"\")","v":127},"S.US.CASY","S.US.CHD",{"$f":"RTD(\"cqg.rtd\", ,\"ContractData\",O97, \"PerCentNetLastTrade\",, \"T\")/100","v":1.0534684953289604E-2},"https://finance.yahoo.com/quote/CHD",null,1.0534684953289604E-2,{"$error":"#N/A"},null,{"$f":"RTD(\"cqg.rtd\", ,\"ContractData\",O97, \"LongDescription\",, \"T\")","v":"Church/Dwight Co Inc"},null,null,1.0534684953289604E-2,null,1,1,null,1.0534684953289604E-2,"",""]
[null,null,"S.US.CBG",{"$f":"RTD(\"cqg.rtd\", ,\"ContractData\",C98, \"LongDescription\",, \"T\")","v":"CBRE Group, Inc."},{"$f":"RTD(\"cqg.rtd\", ,\"ContractData\",C98, \"Open\",, \"T\")","v":34.119999999999997},{"$f":"RTD(\"cqg.rtd\", ,\"ContractData\",C98, \"High\",, \"T\")","v":34.42},{"$f":"RTD(\"cqg.rtd\", ,\"ContractData\",C98, \"Low\",, \"T\")","v":34},{"$f":"RTD(\"cqg.rtd\", ,\"ContractData\",C98, \"LastTradeToday\",, \"T\")","v":34.18},{"$f":"RTD(\"cqg.rtd\", ,\"ContractData\",C98, \"NetLastTradeToday\",, \"T\")","v":0.03},{"$f":"IFERROR(RTD(\"cqg.rtd\", ,\"ContractData\",C98, \"PerCentNetLastTrade\",, \"T\")/100,\"\")","v":8.784773060029283E-4},{"$f":"RTD(\"cqg.rtd\", ,\"ContractData\", C98, \"T_CVol\",, \"T\")","v":857948},98,{"$f":"IFERROR(RANK($J98,$J$1:J$607)+COUNTIF($J$1:J98,J98)-1,\"\")","v":354},"S.US.CBG","S.US.GPN",{"$f":"RTD(\"cqg.rtd\", ,\"ContractData\",O98, \"PerCentNetLastTrade\",, \"T\")/100","v":1.0525161714724262E-2},"https://finance.yahoo.com/quote/GPN",null,1.0525161714724262E-2,{"$error":"#N/A"},null,{"$f":"RTD(\"cqg.rtd\", ,\"ContractData\",O98, \"LongDescription\",, \"T\")","v":"Global Payments"},null,null,1.0525161714724262E-2,null,1,1,null,1.0525161714724262E-2,"",""]
[null,null,"S.US.CBOE",{"$f":"RTD(\"cqg.rtd\", ,\"ContractData\",C99, \"LongDescription\",, \"T\")","v":"CBOE Holdings, Inc."},{"$f":"RTD(\"cqg.rtd\", ,\"ContractData\",C99, \"Open\",, \"T\")","v":85.84},{"$f":"RTD(\"cqg.rtd\", ,\"ContractData\",C99, \"High\",, \"T\")","v":86.13},{"$f":"RTD(\"cqg.rtd\", ,\"ContractData\",C99, \"Low\",, \"T\")","v":85.37},{"$f":"RTD(\"cqg.rtd\", ,\"ContractData\",C99, \"LastTradeToday\",, \"T\")","v":86.01},{"$f":"RTD(\"cqg.rtd\", ,\"ContractData\",C99, \"NetLastTradeToday\",, \"T\")","v":0.28000000000000003},{"$f":"IFERROR(RTD(\"cqg.rtd\", ,\"ContractData\",C99, \"PerCentNetLastTrade\",, \"T\")/100,\"\")","v":3.2660678875539484E-3},{"$f":"RTD(\"cqg.rtd\", ,\"ContractData\", C99, \"T_CVol\",, \"T\")","v":363883},99,{"$f":"IFERROR(RANK($J99,$J$1:J$607)+COUNTIF($J$1:J99,J99)-1,\"\")","v":265},"S.US.CBOE","S.US.BR",{"$f":"RTD(\"cqg.rtd\", ,\"ContractData\",O99, \"PerCentNetLastTrade\",, \"T\")/100","v":1.0524895425718526E-2},"https://finance.yahoo.com/quote/BR",null,1.0524895425718526E-2,{"$error":"#N/A"},null,{"$f":"RTD(\"cqg.rtd\", ,\"ContractData\",O99, \"LongDescription\",, \"T\")","v":"Broadridge Financial Solutions"},null,null,1.0524895425718526E-2,null,1,1,null,1.0524895425718526E-2,"",""]
[null,null,"S.US.CBS",{"$f":"RTD(\"cqg.rtd\", ,\"ContractData\",C100, \"LongDescription\",, \"T\")","v":"CBS Corporation"},{"$f":"RTD(\"cqg.rtd\", ,\"ContractData\",C100, \"Open\",, \"T\")","v":61.64},{"$f":"RTD(\"cqg.rtd\", ,\"ContractData\",C100, \"High\",, \"T\")","v":61.95},{"$f":"RTD(\"cqg.rtd\", ,\"ContractData\",C100, \"Low\",, \"T\")","v":61.300000000000004},{"$f":"RTD(\"cqg.rtd\", ,\"ContractData\",C100, \"LastTradeToday\",, \"T\")","v":61.86},{"$f":"RTD(\"cqg.rtd\", ,\"ContractData\",C100, \"NetLastTradeToday\",, \"T\")","v":0.39},{"$f":"IFERROR(RTD(\"cqg.rtd\", ,\"ContractData\",C100, \"PerCentNetLastTrade\",, \"T\")/100,\"\")","v":6.3445583211322598E-3},{"$f":"RTD(\"cqg.rtd\", ,\"ContractData\", C100, \"T_CVol\",, \"T\")","v":709666},100,{"$f":"IFERROR(RANK($J100,$J$1:J$607)+COUNTIF($J$1:J100,J100)-1,\"\")","v":188},"S.US.CBS","S.US.ADBE",{"$f":"RTD(\"cqg.rtd\", ,\"ContractData\",O100, \"PerCentNetLastTrade\",, \"T\")/100","v":1.0464449541284403E-2},"https://finance.yahoo.com/quote/ADBE",null,1.0464449541284403E-2,{"$error":"#N/A"},null,{"$f":"RTD(\"cqg.rtd\", ,\"ContractData\",O100, \"LongDescription\",, \"T\")","v":"Adobe Systems Inc"},null,null,1.0464449541284403E-2,null,1,1,null,1.0464449541284403E-2,"",""]
[null,null,"S.US.CCI",{"$f":"RTD(\"cqg.rtd\", ,\"ContractData\",C101, \"LongDescription\",, \"T\")","v":"Crown Castle Intl"},{"$f":"RTD(\"cqg.rtd\", ,\"ContractData\",C101, \"Open\",, \"T\")","v":100.98},{"$f":"RTD(\"cqg.rtd\", ,\"ContractData\",C101, \"High\",, \"T\")","v":102.13},{"$f":"RTD(\"cqg.rtd\", ,\"ContractData\",C101, \"Low\",, \"T\")","v":100.71000000000001},{"$f":"RTD(\"cqg.rtd\", ,\"ContractData\",C101, \"LastTradeToday\",, \"T\")","v":101.59},{"$f":"RTD(\"cqg.rtd\", ,\"ContractData\",C101, \"NetLastTradeToday\",, \"T\")","v":0.81},{"$f":"IFERROR(RTD(\"cqg.rtd\", ,\"ContractData\",C101, \"PerCentNetLastTrade\",, \"T\")/100,\"\")","v":8.0373089898789444E-3},{"$f":"RTD(\"cqg.rtd\", ,\"ContractData\", C101, \"T_CVol\",, \"T\")","v":1089087},101,{"$f":"IFERROR(RANK($J101,$J$1:J$607)+COUNTIF($J$1:J101,J101)-1,\"\")","v":139},"S.US.CCI","S.US.VRSN",{"$f":"RTD(\"cqg.rtd\", ,\"ContractData\",O101, \"PerCentNetLastTrade\",, \"T\")/100","v":1.0443571027512633E-2},"https://finance.yahoo.com/quote/VRSN",null,1.0443571027512633E-2,{"$error":"#N/A"},null,{"$f":"RTD(\"cqg.rtd\", ,\"ContractData\",O101, \"LongDescription\",, \"T\")","v":"Verisign Inc"},null,null,1.0443571027512633E-2,null,1,1,null,1.0443571027512633E-2,"",""]
[null,null,"S.US.CCK",{"$f":"RTD(\"cqg.rtd\", ,\"ContractData\",C102, \"LongDescription\",, \"T\")","v":"Crown Holdings Inc"},{"$f":"RTD(\"cqg.rtd\", ,\"ContractData\",C102, \"Open\",, \"T\")","v":56.51},{"$f":"RTD(\"cqg.rtd\", ,\"ContractData\",C102, \"High\",, \"T\")","v":56.78},{"$f":"RTD(\"cqg.rtd\", ,\"ContractData\",C102, \"Low\",, \"T\")","v":56.31},{"$f":"RTD(\"cqg.rtd\", ,\"ContractData\",C102, \"LastTradeToday\",, \"T\")","v":56.71},{"$f":"RTD(\"cqg.rtd\", ,\"ContractData\",C102, \"NetLastTradeToday\",, \"T\")","v":0.18},{"$f":"IFERROR(RTD(\"cqg.rtd\", ,\"ContractData\",C102, \"PerCentNetLastTrade\",, \"T\")/100,\"\")","v":3.1841500088448608E-3},{"$f":"RTD(\"cqg.rtd\", ,\"ContractData\", C102, \"T_CVol\",, \"T\")","v":296686},102,{"$f":"IFERROR(RANK($J102,$J$1:J$607)+COUNTIF($J$1:J102,J102)-1,\"\")","v":270},"S.US.CCK","S.US.IFF",{"$f":"RTD(\"cqg.rtd\", ,\"ContractData\",O102, \"PerCentNetLastTrade\",, \"T\")/100","v":1.0181658365074715E-2},"https://finance.yahoo.com/quote/IFF",null,1.0181658365074715E-2,{"$error":"#N/A"},null,{"$f":"RTD(\"cqg.rtd\", ,\"ContractData\",O102, \"LongDescription\",, \"T\")","v":"Intl Flvrs & Fragrances"},null,null,1.0181658365074715E-2,null,1,1,null,1.0181658365074715E-2,"",""]
[null,null,"S.US.CCO",{"$f":"RTD(\"cqg.rtd\", ,\"ContractData\",C103, \"LongDescription\",, \"T\")","v":"Clear Channel Outdoor Hldgs"},{"$f":"RTD(\"cqg.rtd\", ,\"ContractData\",C103, \"Open\",, \"T\")","v":3.7},{"$f":"RTD(\"cqg.rtd\", ,\"ContractData\",C103, \"High\",, \"T\")","v":3.75},{"$f":"RTD(\"cqg.rtd\", ,\"ContractData\",C103, \"Low\",, \"T\")","v":3.5500000000000003},{"$f":"RTD(\"cqg.rtd\", ,\"ContractData\",C103, \"LastTradeToday\",, \"T\")","v":3.7},{"$f":"RTD(\"cqg.rtd\", ,\"ContractData\",C103, \"NetLastTradeToday\",, \"T\")","v":0.05},{"$f":"IFERROR(RTD(\"cqg.rtd\", ,\"ContractData\",C103, \"PerCentNetLastTrade\",, \"T\")/100,\"\")","v":1.3698630136986301E-2},{"$f":"RTD(\"cqg.rtd\", ,\"ContractData\", C103, \"T_CVol\",, \"T\")","v":91081},103,{"$f":"IFERROR(RANK($J103,$J$1:J$607)+COUNTIF($J$1:J103,J103)-1,\"\")","v":64},{"$f":"C103","v":"S.US.CCO"},"S.US.AVGO",{"$f":"RTD(\"cqg.rtd\", ,\"ContractData\",O103, \"PerCentNetLastTrade\",, \"T\")/100","v":1.0061723175784222E-2},"https://finance.yahoo.com/quote/AVGO",null,{"$f":"IF(P103>=0,P103,NA())","v":1.0061723175784222E-2},{"$f":"IF(P103>=0,NA(),-1*P103)","v":{"$error":"#N/A"}},null,{"$f":"RTD(\"cqg.rtd\", ,\"ContractData\",O103, \"LongDescription\",, \"T\")","v":"Broadcom Limited"},null,null,{"$f":"IFERROR(S103,P103)","v":1.0061723175784222E-2},null,{"$f":"IF(S103=\"NA()\",0,1)","v":1},{"$f":"IFERROR(AA103,0)","v":1},null,{"$f":"IFERROR(S103,\"\")","v":1.0061723175784222E-2},{"$f":"IFERROR(T103,\"\")","v":""},{"$f":"IF(AE103=\"\",\"\",Y103)","v":""}]
[null,null,"S.US.CCP",{"$f":"RTD(\"cqg.rtd\", ,\"ContractData\",C104, \"LongDescription\",, \"T\")","v":"Care Capital Properties, Inc."},{"$f":"RTD(\"cqg.rtd\", ,\"ContractData\",C104, \"Open\",, \"T\")","v":27.94},{"$f":"RTD(\"cqg.rtd\", ,\"ContractData\",C104, \"High\",, \"T\")","v":28.42},{"$f":"RTD(\"cqg.rtd\", ,\"ContractData\",C104, \"Low\",, \"T\")","v":27.91},{"$f":"RTD(\"cqg.rtd\", ,\"ContractData\",C104, \"LastTradeToday\",, \"T\")","v":28},{"$f":"RTD(\"cqg.rtd\", ,\"ContractData\",C104, \"NetLastTradeToday\",, \"T\")","v":0.04},{"$f":"IFERROR(RTD(\"cqg.rtd\", ,\"ContractData\",C104, \"PerCentNetLastTrade\",, \"T\")/100,\"\")","v":1.4306151645207441E-3},{"$f":"RTD(\"cqg.rtd\", ,\"ContractData\", C104, \"T_CVol\",, \"T\")","v":262340},104,{"$f":"IFERROR(RANK($J104,$J$1:J$607)+COUNTIF($J$1:J104,J104)-1,\"\")","v":340},"S.US.CCP","S.US.CRM",{"$f":"RTD(\"cqg.rtd\", ,\"ContractData\",O104, \"PerCentNetLastTrade\",, \"T\")/100","v":9.9446265114702219E-3},"https://finance.yahoo.com/quote/CRM",null,9.9446265114702219E-3,{"$error":"#N/A"},null,{"$f":"RTD(\"cqg.rtd\", ,\"ContractData\",O104, \"LongDescription\",, \"T\")","v":"Salesforce.com Inc"},null,null,9.9446265114702219E-3,null,1,1,null,9.9446265114702219E-3,"",""]
[null,null,"S.US.CDK",{"$f":"RTD(\"cqg.rtd\", ,\"ContractData\",C105, \"LongDescription\",, \"T\")","v":"CDK Global, Inc."},{"$f":"RTD(\"cqg.rtd\", ,\"ContractData\",C105, \"Open\",, \"T\")","v":61.160000000000004},{"$f":"RTD(\"cqg.rtd\", ,\"ContractData\",C105, \"High\",, \"T\")","v":61.43},{"$f":"RTD(\"cqg.rtd\", ,\"ContractData\",C105, \"Low\",, \"T\")","v":61},{"$f":"RTD(\"cqg.rtd\", ,\"ContractData\",C105, \"LastTradeToday\",, \"T\")","v":61.160000000000004},{"$f":"RTD(\"cqg.rtd\", ,\"ContractData\",C105, \"NetLastTradeToday\",, \"T\")","v":7.0000000000000007E-2},{"$f":"IFERROR(RTD(\"cqg.rtd\", ,\"ContractData\",C105, \"PerCentNetLastTrade\",, \"T\")/100,\"\")","v":1.1458503846783433E-3},{"$f":"RTD(\"cqg.rtd\", ,\"ContractData\", C105, \"T_CVol\",, \"T\")","v":229377},105,{"$f":"IFERROR(RANK($J105,$J$1:J$607)+COUNTIF($J$1:J105,J105)-1,\"\")","v":347},"S.US.CDK","S.US.BFA",{"$f":"RTD(\"cqg.rtd\", ,\"ContractData\",O105, \"PerCentNetLastTrade\",, \"T\")/100","v":9.9429202725096668E-3},"https://finance.yahoo.com/quote/BFA",null,9.9429202725096668E-3,{"$error":"#N/A"},null,{"$f":"RTD(\"cqg.rtd\", ,\"ContractData\",O105, \"LongDescription\",, \"T\")","v":"Brown-Forman Corporation ClsA"},null,null,9.9429202725096668E-3,null,1,1,null,9.9429202725096668E-3,"",""]
[null,null,"S.US.CDNS",{"$f":"RTD(\"cqg.rtd\", ,\"ContractData\",C106, \"LongDescription\",, \"T\")","v":"Cadence Design Systems, Inc"},{"$f":"RTD(\"cqg.rtd\", ,\"ContractData\",C106, \"Open\",, \"T\")","v":34.06},{"$f":"RTD(\"cqg.rtd\", ,\"ContractData\",C106, \"High\",, \"T\")","v":34.160000000000004},{"$f":"RTD(\"cqg.rtd\", ,\"ContractData\",C106, \"Low\",, \"T\")","v":33.799999999999997},{"$f":"RTD(\"cqg.rtd\", ,\"ContractData\",C106, \"LastTradeToday\",, \"T\")","v":34.130000000000003},{"$f":"RTD(\"cqg.rtd\", ,\"ContractData\",C106, \"NetLastTradeToday\",, \"T\")","v":0.11},{"$f":"IFERROR(RTD(\"cqg.rtd\", ,\"ContractData\",C106, \"PerCentNetLastTrade\",, \"T\")/100,\"\")","v":3.2333921222810116E-3},{"$f":"RTD(\"cqg.rtd\", ,\"ContractData\", C106, \"T_CVol\",, \"T\")","v":1404244},106,{"$f":"IFERROR(RANK($J106,$J$1:J$607)+COUNTIF($J$1:J106,J106)-1,\"\")","v":266},"S.US.CDNS","S.US.ODFL",{"$f":"RTD(\"cqg.rtd\", ,\"ContractData\",O106, \"PerCentNetLastTrade\",, \"T\")/100","v":9.9077553809361115E-3},"https://finance.yahoo.com/quote/ODFL",null,9.9077553809361115E-3,{"$error":"#N/A"},null,{"$f":"RTD(\"cqg.rtd\", ,\"ContractData\",O106, \"LongDescription\",, \"T\")","v":"Old Dominion Freight Line Inc"},null,null,9.9077553809361115E-3,null,1,1,null,9.9077553809361115E-3,"",""]
[null,null,"S.US.CDW",{"$f":"RTD(\"cqg.rtd\", ,\"ContractData\",C107, \"LongDescription\",, \"T\")","v":"CDW Corporation"},{"$f":"RTD(\"cqg.rtd\", ,\"ContractData\",C107, \"Open\",, \"T\")","v":57.92},{"$f":"RTD(\"cqg.rtd\", ,\"ContractData\",C107, \"High\",, \"T\")","v":58.24},{"$f":"RTD(\"cqg.rtd\", ,\"ContractData\",C107, \"Low\",, \"T\")","v":57.660000000000004},{"$f":"RTD(\"cqg.rtd\", ,\"ContractData\",C107, \"LastTradeToday\",, \"T\")","v":58.07},{"$f":"RTD(\"cqg.rtd\", ,\"ContractData\",C107, \"NetLastTradeToday\",, \"T\")","v":0.4},{"$f":"IFERROR(RTD(\"cqg.rtd\", ,\"ContractData\",C107, \"PerCentNetLastTrade\",, \"T\")/100,\"\")","v":6.9360152592335697E-3},{"$f":"RTD(\"cqg.rtd\", ,\"ContractData\", C107, \"T_CVol\",, \"T\")","v":555724},107,{"$f":"IFERROR(RANK($J107,$J$1:J$607)+COUNTIF($J$1:J107,J107)-1,\"\")","v":169},"S.US.CDW","S.US.APD",{"$f":"RTD(\"cqg.rtd\", ,\"ContractData\",O107, \"PerCentNetLastTrade\",, \"T\")/100","v":9.8018623538472308E-3},"https://finance.yahoo.com/quote/APD",null,9.8018623538472308E-3,{"$error":"#N/A"},null,{"$f":"RTD(\"cqg.rtd\", ,\"ContractData\",O107, \"LongDescription\",, \"T\")","v":"Air Products & Chems Inc"},null,null,9.8018623538472308E-3,null,1,1,null,9.8018623538472308E-3,"",""]
[null,null,"S.US.CE",{"$f":"RTD(\"cqg.rtd\", ,\"ContractData\",C108, \"LongDescription\",, \"T\")","v":"Celanese Corp"},{"$f":"RTD(\"cqg.rtd\", ,\"ContractData\",C108, \"Open\",, \"T\")","v":87.54},{"$f":"RTD(\"cqg.rtd\", ,\"ContractData\",C108, \"High\",, \"T\")","v":88.460000000000008},{"$f":"RTD(\"cqg.rtd\", ,\"ContractData\",C108, \"Low\",, \"T\")","v":87.25},{"$f":"RTD(\"cqg.rtd\", ,\"ContractData\",C108, \"LastTradeToday\",, \"T\")","v":87.45},{"$f":"RTD(\"cqg.rtd\", ,\"ContractData\",C108, \"NetLastTradeToday\",, \"T\")","v":0.25},{"$f":"IFERROR(RTD(\"cqg.rtd\", ,\"ContractData\",C108, \"PerCentNetLastTrade\",, \"T\")/100,\"\")","v":2.8669724770642203E-3},{"$f":"RTD(\"cqg.rtd\", ,\"ContractData\", C108, \"T_CVol\",, \"T\")","v":633761},108,{"$f":"IFERROR(RANK($J108,$J$1:J$607)+COUNTIF($J$1:J108,J108)-1,\"\")","v":286},"S.US.CE","S.US.A",{"$f":"RTD(\"cqg.rtd\", ,\"ContractData\",O108, \"PerCentNetLastTrade\",, \"T\")/100","v":9.717013296965565E-3},"https://finance.yahoo.com/quote/A",null,9.717013296965565E-3,{"$error":"#N/A"},null,{"$f":"RTD(\"cqg.rtd\", ,\"ContractData\",O108, \"LongDescription\",, \"T\")","v":"Agilent Technologies"},null,null,9.717013296965565E-3,null,1,1,null,9.717013296965565E-3,"",""]
[null,null,"S.US.CELG",{"$f":"RTD(\"cqg.rtd\", ,\"ContractData\",C109, \"LongDescription\",, \"T\")","v":"Celgene Corporation"},{"$f":"RTD(\"cqg.rtd\", ,\"ContractData\",C109, \"Open\",, \"T\")","v":117.73},{"$f":"RTD(\"cqg.rtd\", ,\"ContractData\",C109, \"High\",, \"T\")","v":117.93},{"$f":"RTD(\"cqg.rtd\", ,\"ContractData\",C109, \"Low\",, \"T\")","v":116.97},{"$f":"RTD(\"cqg.rtd\", ,\"ContractData\",C109, \"LastTradeToday\",, \"T\")","v":117.44},{"$f":"RTD(\"cqg.rtd\", ,\"ContractData\",C109, \"NetLastTradeToday\",, \"T\")","v":0.13},{"$f":"IFERROR(RTD(\"cqg.rtd\", ,\"ContractData\",C109, \"PerCentNetLastTrade\",, \"T\")/100,\"\")","v":1.1081749211490921E-3},{"$f":"RTD(\"cqg.rtd\", ,\"ContractData\", C109, \"T_CVol\",, \"T\")","v":1702116},109,{"$f":"IFERROR(RANK($J109,$J$1:J$607)+COUNTIF($J$1:J109,J109)-1,\"\")","v":348},"S.US.CELG","S.US.MO",{"$f":"RTD(\"cqg.rtd\", ,\"ContractData\",O109, \"PerCentNetLastTrade\",, \"T\")/100","v":9.7046998474975745E-3},"https://finance.yahoo.com/quote/MO",null,9.7046998474975745E-3,{"$error":"#N/A"},null,{"$f":"RTD(\"cqg.rtd\", ,\"ContractData\",O109, \"LongDescription\",, \"T\")","v":"Altria Group Inc"},null,null,9.7046998474975745E-3,null,1,1,null,9.7046998474975745E-3,"",""]
[null,null,"S.US.CERN",{"$f":"RTD(\"cqg.rtd\", ,\"ContractData\",C110, \"LongDescription\",, \"T\")","v":"Cerner Corporation"},{"$f":"RTD(\"cqg.rtd\", ,\"ContractData\",C110, \"Open\",, \"T\")","v":64.820000000000007},{"$f":"RTD(\"cqg.rtd\", ,\"ContractData\",C110, \"High\",, \"T\")","v":64.89},{"$f":"RTD(\"cqg.rtd\", ,\"ContractData\",C110, \"Low\",, \"T\")","v":64.3},{"$f":"RTD(\"cqg.rtd\", ,\"ContractData\",C110, \"LastTradeToday\",, \"T\")","v":64.540000000000006},{"$f":"RTD(\"cqg.rtd\", ,\"ContractData\",C110, \"NetLastTradeToday\",, \"T\")","v":-0.13},{"$f":"IFERROR(RTD(\"cqg.rtd\", ,\"ContractData\",C110, \"PerCentNetLastTrade\",, \"T\")/100,\"\")","v":-2.0102056595020876E-3},{"$f":"RTD(\"cqg.rtd\", ,\"ContractData\", C110, \"T_CVol\",, \"T\")","v":539291},110,{"$f":"IFERROR(RANK($J110,$J$1:J$607)+COUNTIF($J$1:J110,J110)-1,\"\")","v":431},"S.US.CERN","S.US.EL",{"$f":"RTD(\"cqg.rtd\", ,\"ContractData\",O110, \"PerCentNetLastTrade\",, \"T\")/100","v":9.6749646700728335E-3},"https://finance.yahoo.com/quote/EL",null,9.6749646700728335E-3,{"$error":"#N/A"},null,{"$f":"RTD(\"cqg.rtd\", ,\"ContractData\",O110, \"LongDescription\",, \"T\")","v":"Estee Lauder Companies"},null,null,9.6749646700728335E-3,null,1,1,null,9.6749646700728335E-3,"",""]
[null,null,"S.US.CFG",{"$f":"RTD(\"cqg.rtd\", ,\"ContractData\",C111, \"LongDescription\",, \"T\")","v":"Citizens Financial Group, Inc."},{"$f":"RTD(\"cqg.rtd\", ,\"ContractData\",C111, \"Open\",, \"T\")","v":35.19},{"$f":"RTD(\"cqg.rtd\", ,\"ContractData\",C111, \"High\",, \"T\")","v":35.19},{"$f":"RTD(\"cqg.rtd\", ,\"ContractData\",C111, \"Low\",, \"T\")","v":34.450000000000003},{"$f":"RTD(\"cqg.rtd\", ,\"ContractData\",C111, \"LastTradeToday\",, \"T\")","v":34.61},{"$f":"RTD(\"cqg.rtd\", ,\"ContractData\",C111, \"NetLastTradeToday\",, \"T\")","v":-0.48},{"$f":"IFERROR(RTD(\"cqg.rtd\", ,\"ContractData\",C111, \"PerCentNetLastTrade\",, \"T\")/100,\"\")","v":-1.3679110857794243E-2},{"$f":"RTD(\"cqg.rtd\", ,\"ContractData\", C111, \"T_CVol\",, \"T\")","v":1962995},111,{"$f":"IFERROR(RANK($J111,$J$1:J$607)+COUNTIF($J$1:J111,J111)-1,\"\")","v":567},"S.US.CFG","S.US.ESRT",{"$f":"RTD(\"cqg.rtd\", ,\"ContractData\",O111, \"PerCentNetLastTrade\",, \"T\")/100","v":9.6339113680154135E-3},"https://finance.yahoo.com/quote/ESRT",null,9.6339113680154135E-3,{"$error":"#N/A"},null,{"$f":"RTD(\"cqg.rtd\", ,\"ContractData\",O111, \"LongDescription\",, \"T\")","v":"Empire State Realty Trust, Inc."},null,null,9.6339113680154135E-3,null,1,1,null,9.6339113680154135E-3,"",""]
[null,null,"S.US.CGNX",{"$f":"RTD(\"cqg.rtd\", ,\"ContractData\",C112, \"LongDescription\",, \"T\")","v":"Cognex Corp"},{"$f":"RTD(\"cqg.rtd\", ,\"ContractData\",C112, \"Open\",, \"T\")","v":93.100000000000009},{"$f":"RTD(\"cqg.rtd\", ,\"ContractData\",C112, \"High\",, \"T\")","v":93.42},{"$f":"RTD(\"cqg.rtd\", ,\"ContractData\",C112, \"Low\",, \"T\")","v":92.12},{"$f":"RTD(\"cqg.rtd\", ,\"ContractData\",C112, \"LastTradeToday\",, \"T\")","v":92.26},{"$f":"RTD(\"cqg.rtd\", ,\"ContractData\",C112, \"NetLastTradeToday\",, \"T\")","v":-0.67},{"$f":"IFERROR(RTD(\"cqg.rtd\", ,\"ContractData\",C112, \"PerCentNetLastTrade\",, \"T\")/100,\"\")","v":-7.209727752071452E-3},{"$f":"RTD(\"cqg.rtd\", ,\"ContractData\", C112, \"T_CVol\",, \"T\")","v":253980},112,{"$f":"IFERROR(RANK($J112,$J$1:J$607)+COUNTIF($J$1:J112,J112)-1,\"\")","v":513},"S.US.CGNX","S.US.FDC",{"$f":"RTD(\"cqg.rtd\", ,\"ContractData\",O112, \"PerCentNetLastTrade\",, \"T\")/100","v":9.6327513546056592E-3},"https://finance.yahoo.com/quote/FDC",null,9.6327513546056592E-3,{"$error":"#N/A"},null,{"$f":"RTD(\"cqg.rtd\", ,\"ContractData\",O112, \"LongDescription\",, \"T\")","v":"First Data Corp."},null,null,9.6327513546056592E-3,null,1,1,null,9.6327513546056592E-3,"",""]
[null,null,"S.US.CHD",{"$f":"RTD(\"cqg.rtd\", ,\"ContractData\",C113, \"LongDescription\",, \"T\")","v":"Church/Dwight Co Inc"},{"$f":"RTD(\"cqg.rtd\", ,\"ContractData\",C113, \"Open\",, \"T\")","v":50.480000000000004},{"$f":"RTD(\"cqg.rtd\", ,\"ContractData\",C113, \"High\",, \"T\")","v":50.85},{"$f":"RTD(\"cqg.rtd\", ,\"ContractData\",C113, \"Low\",, \"T\")","v":50.42},{"$f":"RTD(\"cqg.rtd\", ,\"ContractData\",C113, \"LastTradeToday\",, \"T\")","v":50.84},{"$f":"RTD(\"cqg.rtd\", ,\"ContractData\",C113, \"NetLastTradeToday\",, \"T\")","v":0.53},{"$f":"IFERROR(RTD(\"cqg.rtd\", ,\"ContractData\",C113, \"PerCentNetLastTrade\",, \"T\")/100,\"\")","v":1.0534684953289604E-2},{"$f":"RTD(\"cqg.rtd\", ,\"ContractData\", C113, \"T_CVol\",, \"T\")","v":547117},113,{"$f":"IFERROR(RANK($J113,$J$1:J$607)+COUNTIF($J$1:J113,J113)-1,\"\")","v":97},"S.US.CHD","S.US.NOC",{"$f":"RTD(\"cqg.rtd\", ,\"ContractData\",O113, \"PerCentNetLastTrade\",, \"T\")/100","v":9.5751047277079591E-3},"https://finance.yahoo.com/quote/NOC",null,9.5751047277079591E-3,{"$error":"#N/A"},null,{"$f":"RTD(\"cqg.rtd\", ,\"ContractData\",O113, \"LongDescription\",, \"T\")","v":"Northrop Grumman Corporation"},null,null,9.5751047277079591E-3,null,1,1,null,9.5751047277079591E-3,"",""]
[null,null,"S.US.CHH",{"$f":"RTD(\"cqg.rtd\", ,\"ContractData\",C114, \"LongDescription\",, \"T\")","v":"Choice Hotels Internatl Inc"},{"$f":"RTD(\"cqg.rtd\", ,\"ContractData\",C114, \"Open\",, \"T\")","v":65.05},{"$f":"RTD(\"cqg.rtd\", ,\"ContractData\",C114, \"High\",, \"T\")","v":65.349999999999994},{"$f":"RTD(\"cqg.rtd\", ,\"ContractData\",C114, \"Low\",, \"T\")","v":64.25},{"$f":"RTD(\"cqg.rtd\", ,\"ContractData\",C114, \"LastTradeToday\",, \"T\")","v":65},{"$f":"RTD(\"cqg.rtd\", ,\"ContractData\",C114, \"NetLastTradeToday\",, \"T\")","v":0.05},{"$f":"IFERROR(RTD(\"cqg.rtd\", ,\"ContractData\",C114, \"PerCentNetLastTrade\",, \"T\")/100,\"\")","v":7.6982294072363362E-4},{"$f":"RTD(\"cqg.rtd\", ,\"ContractData\", C114, \"T_CVol\",, \"T\")","v":41223},114,{"$f":"IFERROR(RANK($J114,$J$1:J$607)+COUNTIF($J$1:J114,J114)-1,\"\")","v":358},"S.US.CHH","S.US.ARMK",{"$f":"RTD(\"cqg.rtd\", ,\"ContractData\",O114, \"PerCentNetLastTrade\",, \"T\")/100","v":9.5315904139433548E-3},"https://finance.yahoo.com/quote/ARMK",null,9.5315904139433548E-3,{"$error":"#N/A"},null,{"$f":"RTD(\"cqg.rtd\", ,\"ContractData\",O114, \"LongDescription\",, \"T\")","v":"Aramark"},null,null,9.5315904139433548E-3,null,1,1,null,9.5315904139433548E-3,"",""]
[null,null,"S.US.CHK",{"$f":"RTD(\"cqg.rtd\", ,\"ContractData\",C115, \"LongDescription\",, \"T\")","v":"Chesapeake Energy Corp"},{"$f":"RTD(\"cqg.rtd\", ,\"ContractData\",C115, \"Open\",, \"T\")","v":5.67},{"$f":"RTD(\"cqg.rtd\", ,\"ContractData\",C115, \"High\",, \"T\")","v":5.8100000000000005},{"$f":"RTD(\"cqg.rtd\", ,\"ContractData\",C115, \"Low\",, \"T\")","v":5.58},{"$f":"RTD(\"cqg.rtd\", ,\"ContractData\",C115, \"LastTradeToday\",, \"T\")","v":5.58},{"$f":"RTD(\"cqg.rtd\", ,\"ContractData\",C115, \"NetLastTradeToday\",, \"T\")","v":-0.09},{"$f":"IFERROR(RTD(\"cqg.rtd\", ,\"ContractData\",C115, \"PerCentNetLastTrade\",, \"T\")/100,\"\")","v":-1.5873015873015872E-2},{"$f":"RTD(\"cqg.rtd\", ,\"ContractData\", C115, \"T_CVol\",, \"T\")","v":16711582},115,{"$f":"IFERROR(RANK($J115,$J$1:J$607)+COUNTIF($J$1:J115,J115)-1,\"\")","v":576},"S.US.CHK","S.US.SPGI",{"$f":"RTD(\"cqg.rtd\", ,\"ContractData\",O115, \"PerCentNetLastTrade\",, \"T\")/100","v":9.4066570188133143E-3},"https://finance.yahoo.com/quote/SPGI",null,9.4066570188133143E-3,{"$error":"#N/A"},null,{"$f":"RTD(\"cqg.rtd\", ,\"ContractData\",O115, \"LongDescription\",, \"T\")","v":"S&P Global Inc."},null,null,9.4066570188133143E-3,null,1,1,null,9.4066570188133143E-3,"",""]
[null,null,"S.US.CHRW",{"$f":"RTD(\"cqg.rtd\", ,\"ContractData\",C116, \"LongDescription\",, \"T\")","v":"CH Robinson Worldwide Inc"},{"$f":"RTD(\"cqg.rtd\", ,\"ContractData\",C116, \"Open\",, \"T\")","v":68.430000000000007},{"$f":"RTD(\"cqg.rtd\", ,\"ContractData\",C116, \"High\",, \"T\")","v":68.61},{"$f":"RTD(\"cqg.rtd\", ,\"ContractData\",C116, \"Low\",, \"T\")","v":68.010000000000005},{"$f":"RTD(\"cqg.rtd\", ,\"ContractData\",C116, \"LastTradeToday\",, \"T\")","v":68.17},{"$f":"RTD(\"cqg.rtd\", ,\"ContractData\",C116, \"NetLastTradeToday\",, \"T\")","v":-0.17},{"$f":"IFERROR(RTD(\"cqg.rtd\", ,\"ContractData\",C116, \"PerCentNetLastTrade\",, \"T\")/100,\"\")","v":-2.4875621890547263E-3},{"$f":"RTD(\"cqg.rtd\", ,\"ContractData\", C116, \"T_CVol\",, \"T\")","v":515358},116,{"$f":"IFERROR(RANK($J116,$J$1:J$607)+COUNTIF($J$1:J116,J116)-1,\"\")","v":441},"S.US.CHRW","S.US.BERY",{"$f":"RTD(\"cqg.rtd\", ,\"ContractData\",O116, \"PerCentNetLastTrade\",, \"T\")/100","v":9.3988295797127145E-3},"https://finance.yahoo.com/quote/BERY",null,9.3988295797127145E-3,{"$error":"#N/A"},null,{"$f":"RTD(\"cqg.rtd\", ,\"ContractData\",O116, \"LongDescription\",, \"T\")","v":"Berry Plastics Group, Inc."},null,null,9.3988295797127145E-3,null,1,1,null,9.3988295797127145E-3,"",""]
[null,null,"S.US.CHTR",{"$f":"RTD(\"cqg.rtd\", ,\"ContractData\",C117, \"LongDescription\",, \"T\")","v":"Charter Communications, Inc. Class A"},{"$f":"RTD(\"cqg.rtd\", ,\"ContractData\",C117, \"Open\",, \"T\")","v":320.2},{"$f":"RTD(\"cqg.rtd\", ,\"ContractData\",C117, \"High\",, \"T\")","v":332.28000000000003},{"$f":"RTD(\"cqg.rtd\", ,\"ContractData\",C117, \"Low\",, \"T\")","v":318.3},{"$f":"RTD(\"cqg.rtd\", ,\"ContractData\",C117, \"LastTradeToday\",, \"T\")","v":329.49},{"$f":"RTD(\"cqg.rtd\", ,\"ContractData\",C117, \"NetLastTradeToday\",, \"T\")","v":10.700000000000001},{"$f":"IFERROR(RTD(\"cqg.rtd\", ,\"ContractData\",C117, \"PerCentNetLastTrade\",, \"T\")/100,\"\")","v":3.3564415445904827E-2},{"$f":"RTD(\"cqg.rtd\", ,\"ContractData\", C117, \"T_CVol\",, \"T\")","v":1223021},117,{"$f":"IFERROR(RANK($J117,$J$1:J$607)+COUNTIF($J$1:J117,J117)-1,\"\")","v":9},"S.US.CHTR","S.US.KMB",{"$f":"RTD(\"cqg.rtd\", ,\"ContractData\",O117, \"PerCentNetLastTrade\",, \"T\")/100","v":9.3059936908517354E-3},"https://finance.yahoo.com/quote/KMB",null,9.3059936908517354E-3,{"$error":"#N/A"},null,{"$f":"RTD(\"cqg.rtd\", ,\"ContractData\",O117, \"LongDescription\",, \"T\")","v":"Kimberly-Clark Corp"},null,null,9.3059936908517354E-3,null,1,1,null,9.3059936908517354E-3,"",""]
[null,null,"S.US.CHUBA",{"$f":"RTD(\"cqg.rtd\", ,\"ContractData\",C118, \"LongDescription\",, \"T\")","v":"CommerceHub, Inc. Series A"},{"$f":"RTD(\"cqg.rtd\", ,\"ContractData\",C118, \"Open\",, \"T\")","v":17.18},{"$f":"RTD(\"cqg.rtd\", ,\"ContractData\",C118, \"High\",, \"T\")","v":17.18},{"$f":"RTD(\"cqg.rtd\", ,\"ContractData\",C118, \"Low\",, \"T\")","v":16.940000000000001},{"$f":"RTD(\"cqg.rtd\", ,\"ContractData\",C118, \"LastTradeToday\",, \"T\")","v":17},{"$f":"RTD(\"cqg.rtd\", ,\"ContractData\",C118, \"NetLastTradeToday\",, \"T\")","v":-0.14000000000000001},{"$f":"IFERROR(RTD(\"cqg.rtd\", ,\"ContractData\",C118, \"PerCentNetLastTrade\",, \"T\")/100,\"\")","v":-8.1680280046674443E-3},{"$f":"RTD(\"cqg.rtd\", ,\"ContractData\", C118, \"T_CVol\",, \"T\")","v":29766},118,{"$f":"IFERROR(RANK($J118,$J$1:J$607)+COUNTIF($J$1:J118,J118)-1,\"\")","v":525},"S.US.CHUBA","S.US.SKX",{"$f":"RTD(\"cqg.rtd\", ,\"ContractData\",O118, \"PerCentNetLastTrade\",, \"T\")/100","v":9.3023255813953487E-3},"https://finance.yahoo.com/quote/SKX",null,9.3023255813953487E-3,{"$error":"#N/A"},null,{"$f":"RTD(\"cqg.rtd\", ,\"ContractData\",O118, \"LongDescription\",, \"T\")","v":"Skechers USA Inc"},null,null,9.3023255813953487E-3,null,1,1,null,9.3023255813953487E-3,"",""]
[null,null,"S.US.CHUBK",{"$f":"RTD(\"cqg.rtd\", ,\"ContractData\",C119, \"LongDescription\",, \"T\")","v":"CommerceHub, Inc. Series C"},{"$f":"RTD(\"cqg.rtd\", ,\"ContractData\",C119, \"Open\",, \"T\")","v":17.43},{"$f":"RTD(\"cqg.rtd\", ,\"ContractData\",C119, \"High\",, \"T\")","v":17.43},{"$f":"RTD(\"cqg.rtd\", ,\"ContractData\",C119, \"Low\",, \"T\")","v":17.05},{"$f":"RTD(\"cqg.rtd\", ,\"ContractData\",C119, \"LastTradeToday\",, \"T\")","v":17.11},{"$f":"RTD(\"cqg.rtd\", ,\"ContractData\",C119, \"NetLastTradeToday\",, \"T\")","v":-0.21},{"$f":"IFERROR(RTD(\"cqg.rtd\", ,\"ContractData\",C119, \"PerCentNetLastTrade\",, \"T\")/100,\"\")","v":-1.2124711316397228E-2},{"$f":"RTD(\"cqg.rtd\", ,\"ContractData\", C119, \"T_CVol\",, \"T\")","v":36153},119,{"$f":"IFERROR(RANK($J119,$J$1:J$607)+COUNTIF($J$1:J119,J119)-1,\"\")","v":560},"S.US.CHUBK","S.US.CSL",{"$f":"RTD(\"cqg.rtd\", ,\"ContractData\",O119, \"PerCentNetLastTrade\",, \"T\")/100","v":9.095452273863068E-3},"https://finance.yahoo.com/quote/CSL",null,9.095452273863068E-3,{"$error":"#N/A"},null,{"$f":"RTD(\"cqg.rtd\", ,\"ContractData\",O119, \"LongDescription\",, \"T\")","v":"Carlisle Cos Inc"},null,null,9.095452273863068E-3,null,1,1,null,9.095452273863068E-3,"",""]
[null,null,"S.US.CI",{"$f":"RTD(\"cqg.rtd\", ,\"ContractData\",C120, \"LongDescription\",, \"T\")","v":"CIGNA Corporation"},{"$f":"RTD(\"cqg.rtd\", ,\"ContractData\",C120, \"Open\",, \"T\")","v":160.58000000000001},{"$f":"RTD(\"cqg.rtd\", ,\"ContractData\",C120, \"High\",, \"T\")","v":162.09},{"$f":"RTD(\"cqg.rtd\", ,\"ContractData\",C120, \"Low\",, \"T\")","v":160.09},{"$f":"RTD(\"cqg.rtd\", ,\"ContractData\",C120, \"LastTradeToday\",, \"T\")","v":161.97},{"$f":"RTD(\"cqg.rtd\", ,\"ContractData\",C120, \"NetLastTradeToday\",, \"T\")","v":1.45},{"$f":"IFERROR(RTD(\"cqg.rtd\", ,\"ContractData\",C120, \"PerCentNetLastTrade\",, \"T\")/100,\"\")","v":9.0331422875654117E-3},{"$f":"RTD(\"cqg.rtd\", ,\"ContractData\", C120, \"T_CVol\",, \"T\")","v":403271},120,{"$f":"IFERROR(RANK($J120,$J$1:J$607)+COUNTIF($J$1:J120,J120)-1,\"\")","v":120},"S.US.CI","S.US.CI",{"$f":"RTD(\"cqg.rtd\", ,\"ContractData\",O120, \"PerCentNetLastTrade\",, \"T\")/100","v":9.0331422875654117E-3},"https://finance.yahoo.com/quote/CI",null,9.0331422875654117E-3,{"$error":"#N/A"},null,{"$f":"RTD(\"cqg.rtd\", ,\"ContractData\",O120, \"LongDescription\",, \"T\")","v":"CIGNA Corporation"},null,null,9.0331422875654117E-3,null,1,1,null,9.0331422875654117E-3,"",""]
[null,null,"S.US.CL",{"$f":"RTD(\"cqg.rtd\", ,\"ContractData\",C121, \"LongDescription\",, \"T\")","v":"Colgate-Palmolive Co"},{"$f":"RTD(\"cqg.rtd\", ,\"ContractData\",C121, \"Open\",, \"T\")","v":74.05},{"$f":"RTD(\"cqg.rtd\", ,\"ContractData\",C121, \"High\",, \"T\")","v":74.430000000000007},{"$f":"RTD(\"cqg.rtd\", ,\"ContractData\",C121, \"Low\",, \"T\")","v":73.930000000000007},{"$f":"RTD(\"cqg.rtd\", ,\"ContractData\",C121, \"LastTradeToday\",, \"T\")","v":74.42},{"$f":"RTD(\"cqg.rtd\", ,\"ContractData\",C121, \"NetLastTradeToday\",, \"T\")","v":0.57999999999999996},{"$f":"IFERROR(RTD(\"cqg.rtd\", ,\"ContractData\",C121, \"PerCentNetLastTrade\",, \"T\")/100,\"\")","v":7.8548212351029264E-3},{"$f":"RTD(\"cqg.rtd\", ,\"ContractData\", C121, \"T_CVol\",, \"T\")","v":1211915},121,{"$f":"IFERROR(RANK($J121,$J$1:J$607)+COUNTIF($J$1:J121,J121)-1,\"\")","v":146},"S.US.CL","S.US.OKE",{"$f":"RTD(\"cqg.rtd\", ,\"ContractData\",O121, \"PerCentNetLastTrade\",, \"T\")/100","v":8.9986597740762016E-3},"https://finance.yahoo.com/quote/OKE",null,8.9986597740762016E-3,{"$error":"#N/A"},null,{"$f":"RTD(\"cqg.rtd\", ,\"ContractData\",O121, \"LongDescription\",, \"T\")","v":"ONEOK Inc New"},null,null,8.9986597740762016E-3,null,1,1,null,8.9986597740762016E-3,"",""]
[null,null,"S.US.CLGX",{"$f":"RTD(\"cqg.rtd\", ,\"ContractData\",C122, \"LongDescription\",, \"T\")","v":"Corelogic, Inc."},{"$f":"RTD(\"cqg.rtd\", ,\"ContractData\",C122, \"Open\",, \"T\")","v":42.47},{"$f":"RTD(\"cqg.rtd\", ,\"ContractData\",C122, \"High\",, \"T\")","v":42.83},{"$f":"RTD(\"cqg.rtd\", ,\"ContractData\",C122, \"Low\",, \"T\")","v":42.19},{"$f":"RTD(\"cqg.rtd\", ,\"ContractData\",C122, \"LastTradeToday\",, \"T\")","v":42.81},{"$f":"RTD(\"cqg.rtd\", ,\"ContractData\",C122, \"NetLastTradeToday\",, \"T\")","v":0.34},{"$f":"IFERROR(RTD(\"cqg.rtd\", ,\"ContractData\",C122, \"PerCentNetLastTrade\",, \"T\")/100,\"\")","v":8.0056510477984448E-3},{"$f":"RTD(\"cqg.rtd\", ,\"ContractData\", C122, \"T_CVol\",, \"T\")","v":197930},122,{"$f":"IFERROR(RANK($J122,$J$1:J$607)+COUNTIF($J$1:J122,J122)-1,\"\")","v":142},"S.US.CLGX","S.US.LH",{"$f":"RTD(\"cqg.rtd\", ,\"ContractData\",O122, \"PerCentNetLastTrade\",, \"T\")/100","v":8.9477451682176082E-3},"https://finance.yahoo.com/quote/LH",null,8.9477451682176082E-3,{"$error":"#N/A"},null,{"$f":"RTD(\"cqg.rtd\", ,\"ContractData\",O122, \"LongDescription\",, \"T\")","v":"Laboratory Corp of Amer"},null,null,8.9477451682176082E-3,null,1,1,null,8.9477451682176082E-3,"",""]
[null,null,"S.US.CLH",{"$f":"RTD(\"cqg.rtd\", ,\"ContractData\",C123, \"LongDescription\",, \"T\")","v":"Clean Harbors, Inc."},{"$f":"RTD(\"cqg.rtd\", ,\"ContractData\",C123, \"Open\",, \"T\")","v":58.28},{"$f":"RTD(\"cqg.rtd\", ,\"ContractData\",C123, \"High\",, \"T\")","v":58.67},{"$f":"RTD(\"cqg.rtd\", ,\"ContractData\",C123, \"Low\",, \"T\")","v":58.08},{"$f":"RTD(\"cqg.rtd\", ,\"ContractData\",C123, \"LastTradeToday\",, \"T\")","v":58.2},{"$f":"RTD(\"cqg.rtd\", ,\"ContractData\",C123, \"NetLastTradeToday\",, \"T\")","v":0.04},{"$f":"IFERROR(RTD(\"cqg.rtd\", ,\"ContractData\",C123, \"PerCentNetLastTrade\",, \"T\")/100,\"\")","v":6.8775790921595599E-4},{"$f":"RTD(\"cqg.rtd\", ,\"ContractData\", C123, \"T_CVol\",, \"T\")","v":58450},123,{"$f":"IFERROR(RANK($J123,$J$1:J$607)+COUNTIF($J$1:J123,J123)-1,\"\")","v":364},"S.US.CLH","S.US.VRSK",{"$f":"RTD(\"cqg.rtd\", ,\"ContractData\",O123, \"PerCentNetLastTrade\",, \"T\")/100","v":8.9285714285714298E-3},"https://finance.yahoo.com/quote/VRSK",null,8.9285714285714298E-3,{"$error":"#N/A"},null,{"$f":"RTD(\"cqg.rtd\", ,\"ContractData\",O123, \"LongDescription\",, \"T\")","v":"Verisk Analytics, Inc."},null,null,8.9285714285714298E-3,null,1,1,null,8.9285714285714298E-3,"",""]
[null,null,"S.US.CLNS",{"$f":"RTD(\"cqg.rtd\", ,\"ContractData\",C124, \"LongDescription\",, \"T\")","v":"Colony NorthStar, Inc."},{"$f":"RTD(\"cqg.rtd\", ,\"ContractData\",C124, \"Open\",, \"T\")","v":13.88},{"$f":"RTD(\"cqg.rtd\", ,\"ContractData\",C124, \"High\",, \"T\")","v":14.09},{"$f":"RTD(\"cqg.rtd\", ,\"ContractData\",C124, \"Low\",, \"T\")","v":13.82},{"$f":"RTD(\"cqg.rtd\", ,\"ContractData\",C124, \"LastTradeToday\",, \"T\")","v":14.07},{"$f":"RTD(\"cqg.rtd\", ,\"ContractData\",C124, \"NetLastTradeToday\",, \"T\")","v":0.21},{"$f":"IFERROR(RTD(\"cqg.rtd\", ,\"ContractData\",C124, \"PerCentNetLastTrade\",, \"T\")/100,\"\")","v":1.5151515151515152E-2},{"$f":"RTD(\"cqg.rtd\", ,\"ContractData\", C124, \"T_CVol\",, \"T\")","v":1978137},124,{"$f":"IFERROR(RANK($J124,$J$1:J$607)+COUNTIF($J$1:J124,J124)-1,\"\")","v":55},"S.US.CLNS","S.US.CMG",{"$f":"RTD(\"cqg.rtd\", ,\"ContractData\",O124, \"PerCentNetLastTrade\",, \"T\")/100","v":8.8842105263157896E-3},"https://finance.yahoo.com/quote/CMG",null,8.8842105263157896E-3,{"$error":"#N/A"},null,{"$f":"RTD(\"cqg.rtd\", ,\"ContractData\",O124, \"LongDescription\",, \"T\")","v":"Chipotle Mexican Grill"},null,null,8.8842105263157896E-3,null,1,1,null,8.8842105263157896E-3,"",""]
[null,null,"S.US.CLR",{"$f":"RTD(\"cqg.rtd\", ,\"ContractData\",C125, \"LongDescription\",, \"T\")","v":"Continental Resources"},{"$f":"RTD(\"cqg.rtd\", ,\"ContractData\",C125, \"Open\",, \"T\")","v":41.77},{"$f":"RTD(\"cqg.rtd\", ,\"ContractData\",C125, \"High\",, \"T\")","v":42.61},{"$f":"RTD(\"cqg.rtd\", ,\"ContractData\",C125, \"Low\",, \"T\")","v":41.63},{"$f":"RTD(\"cqg.rtd\", ,\"ContractData\",C125, \"LastTradeToday\",, \"T\")","v":41.72},{"$f":"RTD(\"cqg.rtd\", ,\"ContractData\",C125, \"NetLastTradeToday\",, \"T\")","v":-0.28999999999999998},{"$f":"IFERROR(RTD(\"cqg.rtd\", ,\"ContractData\",C125, \"PerCentNetLastTrade\",, \"T\")/100,\"\")","v":-6.9031183051654369E-3},{"$f":"RTD(\"cqg.rtd\", ,\"ContractData\", C125, \"T_CVol\",, \"T\")","v":1636032},125,{"$f":"IFERROR(RANK($J125,$J$1:J$607)+COUNTIF($J$1:J125,J125)-1,\"\")","v":510},"S.US.CLR","S.US.TRU",{"$f":"RTD(\"cqg.rtd\", ,\"ContractData\",O125, \"PerCentNetLastTrade\",, \"T\")/100","v":8.8495575221238937E-3},"https://finance.yahoo.com/quote/TRU",null,8.8495575221238937E-3,{"$error":"#N/A"},null,{"$f":"RTD(\"cqg.rtd\", ,\"ContractData\",O125, \"LongDescription\",, \"T\")","v":"TransUnion"},null,null,8.8495575221238937E-3,null,1,1,null,8.8495575221238937E-3,"",""]
[null,null,"S.US.CLX",{"$f":"RTD(\"cqg.rtd\", ,\"ContractData\",C126, \"LongDescription\",, \"T\")","v":"Clorox Company"},{"$f":"RTD(\"cqg.rtd\", ,\"ContractData\",C126, \"Open\",, \"T\")","v":132.4},{"$f":"RTD(\"cqg.rtd\", ,\"ContractData\",C126, \"High\",, \"T\")","v":132.72},{"$f":"RTD(\"cqg.rtd\", ,\"ContractData\",C126, \"Low\",, \"T\")","v":131.94999999999999},{"$f":"RTD(\"cqg.rtd\", ,\"ContractData\",C126, \"LastTradeToday\",, \"T\")","v":132.6},{"$f":"RTD(\"cqg.rtd\", ,\"ContractData\",C126, \"NetLastTradeToday\",, \"T\")","v":0.92},{"$f":"IFERROR(RTD(\"cqg.rtd\", ,\"ContractData\",C126, \"PerCentNetLastTrade\",, \"T\")/100,\"\")","v":6.9866342648845694E-3},{"$f":"RTD(\"cqg.rtd\", ,\"ContractData\", C126, \"T_CVol\",, \"T\")","v":169231},126,{"$f":"IFERROR(RANK($J126,$J$1:J$607)+COUNTIF($J$1:J126,J126)-1,\"\")","v":167},"S.US.CLX","S.US.ELS",{"$f":"RTD(\"cqg.rtd\", ,\"ContractData\",O126, \"PerCentNetLastTrade\",, \"T\")/100","v":8.8090204369274134E-3},"https://finance.yahoo.com/quote/ELS",null,8.8090204369274134E-3,{"$error":"#N/A"},null,{"$f":"RTD(\"cqg.rtd\", ,\"ContractData\",O126, \"LongDescription\",, \"T\")","v":"Equity Lifestyle Property Inc"},null,null,8.8090204369274134E-3,null,1,1,null,8.8090204369274134E-3,"",""]
[null,null,"S.US.CMCSA",{"$f":"RTD(\"cqg.rtd\", ,\"ContractData\",C127, \"LongDescription\",, \"T\")","v":"Comcast Corp ClsA"},{"$f":"RTD(\"cqg.rtd\", ,\"ContractData\",C127, \"Open\",, \"T\")","v":39.85},{"$f":"RTD(\"cqg.rtd\", ,\"ContractData\",C127, \"High\",, \"T\")","v":40.270000000000003},{"$f":"RTD(\"cqg.rtd\", ,\"ContractData\",C127, \"Low\",, \"T\")","v":39.68},{"$f":"RTD(\"cqg.rtd\", ,\"ContractData\",C127, \"LastTradeToday\",, \"T\")","v":40.21},{"$f":"RTD(\"cqg.rtd\", ,\"ContractData\",C127, \"NetLastTradeToday\",, \"T\")","v":0.43},{"$f":"IFERROR(RTD(\"cqg.rtd\", ,\"ContractData\",C127, \"PerCentNetLastTrade\",, \"T\")/100,\"\")","v":1.0809451985922574E-2},{"$f":"RTD(\"cqg.rtd\", ,\"ContractData\", C127, \"T_CVol\",, \"T\")","v":9047142},127,{"$f":"IFERROR(RANK($J127,$J$1:J$607)+COUNTIF($J$1:J127,J127)-1,\"\")","v":93},"S.US.CMCSA","S.US.CASY",{"$f":"RTD(\"cqg.rtd\", ,\"ContractData\",O127, \"PerCentNetLastTrade\",, \"T\")/100","v":8.7026019003640879E-3},"https://finance.yahoo.com/quote/CASY",null,8.7026019003640879E-3,{"$error":"#N/A"},null,{"$f":"RTD(\"cqg.rtd\", ,\"ContractData\",O127, \"LongDescription\",, \"T\")","v":"Caseys General Stores Inc"},null,null,8.7026019003640879E-3,null,1,1,null,8.7026019003640879E-3,"",""]
[null,null,"S.US.CMG",{"$f":"RTD(\"cqg.rtd\", ,\"ContractData\",C128, \"LongDescription\",, \"T\")","v":"Chipotle Mexican Grill"},{"$f":"RTD(\"cqg.rtd\", ,\"ContractData\",C128, \"Open\",, \"T\")","v":476.43},{"$f":"RTD(\"cqg.rtd\", ,\"ContractData\",C128, \"High\",, \"T\")","v":480},{"$f":"RTD(\"cqg.rtd\", ,\"ContractData\",C128, \"Low\",, \"T\")","v":474.29},{"$f":"RTD(\"cqg.rtd\", ,\"ContractData\",C128, \"LastTradeToday\",, \"T\")","v":479.22},{"$f":"RTD(\"cqg.rtd\", ,\"ContractData\",C128, \"NetLastTradeToday\",, \"T\")","v":4.22},{"$f":"IFERROR(RTD(\"cqg.rtd\", ,\"ContractData\",C128, \"PerCentNetLastTrade\",, \"T\")/100,\"\")","v":8.8842105263157896E-3},{"$f":"RTD(\"cqg.rtd\", ,\"ContractData\", C128, \"T_CVol\",, \"T\")","v":228112},128,{"$f":"IFERROR(RANK($J128,$J$1:J$607)+COUNTIF($J$1:J128,J128)-1,\"\")","v":124},"S.US.CMG","S.US.ALKS",{"$f":"RTD(\"cqg.rtd\", ,\"ContractData\",O128, \"PerCentNetLastTrade\",, \"T\")/100","v":8.664009703690868E-3},"https://finance.yahoo.com/quote/ALKS",null,8.664009703690868E-3,{"$error":"#N/A"},null,{"$f":"RTD(\"cqg.rtd\", ,\"ContractData\",O128, \"LongDescription\",, \"T\")","v":"Alkermes plc"},null,null,8.664009703690868E-3,null,1,1,null,8.664009703690868E-3,"",""]
[null,null,"S.US.CNC",{"$f":"RTD(\"cqg.rtd\", ,\"ContractData\",C129, \"LongDescription\",, \"T\")","v":"Cenetene Corporation"},{"$f":"RTD(\"cqg.rtd\", ,\"ContractData\",C129, \"Open\",, \"T\")","v":74.239999999999995},{"$f":"RTD(\"cqg.rtd\", ,\"ContractData\",C129, \"High\",, \"T\")","v":75.06},{"$f":"RTD(\"cqg.rtd\", ,\"ContractData\",C129, \"Low\",, \"T\")","v":73.89},{"$f":"RTD(\"cqg.rtd\", ,\"ContractData\",C129, \"LastTradeToday\",, \"T\")","v":74.94},{"$f":"RTD(\"cqg.rtd\", ,\"ContractData\",C129, \"NetLastTradeToday\",, \"T\")","v":0.95000000000000007},{"$f":"IFERROR(RTD(\"cqg.rtd\", ,\"ContractData\",C129, \"PerCentNetLastTrade\",, \"T\")/100,\"\")","v":1.2839572915258819E-2},{"$f":"RTD(\"cqg.rtd\", ,\"ContractData\", C129, \"T_CVol\",, \"T\")","v":757088},129,{"$f":"IFERROR(RANK($J129,$J$1:J$607)+COUNTIF($J$1:J129,J129)-1,\"\")","v":72},"S.US.CNC","S.US.MHK",{"$f":"RTD(\"cqg.rtd\", ,\"ContractData\",O129, \"PerCentNetLastTrade\",, \"T\")/100","v":8.6314252587280458E-3},"https://finance.yahoo.com/quote/MHK",null,8.6314252587280458E-3,{"$error":"#N/A"},null,{"$f":"RTD(\"cqg.rtd\", ,\"ContractData\",O129, \"LongDescription\",, \"T\")","v":"Mohawk Industries Inc"},null,null,8.6314252587280458E-3,null,1,1,null,8.6314252587280458E-3,"",""]
[null,null,"S.US.CNK",{"$f":"RTD(\"cqg.rtd\", ,\"ContractData\",C130, \"LongDescription\",, \"T\")","v":"Cinemark Holdings, Inc"},{"$f":"RTD(\"cqg.rtd\", ,\"ContractData\",C130, \"Open\",, \"T\")","v":40.79},{"$f":"RTD(\"cqg.rtd\", ,\"ContractData\",C130, \"High\",, \"T\")","v":40.880000000000003},{"$f":"RTD(\"cqg.rtd\", ,\"ContractData\",C130, \"Low\",, \"T\")","v":39.78},{"$f":"RTD(\"cqg.rtd\", ,\"ContractData\",C130, \"LastTradeToday\",, \"T\")","v":39.79},{"$f":"RTD(\"cqg.rtd\", ,\"ContractData\",C130, \"NetLastTradeToday\",, \"T\")","v":-0.98},{"$f":"IFERROR(RTD(\"cqg.rtd\", ,\"ContractData\",C130, \"PerCentNetLastTrade\",, \"T\")/100,\"\")","v":-2.403728231542801E-2},{"$f":"RTD(\"cqg.rtd\", ,\"ContractData\", C130, \"T_CVol\",, \"T\")","v":381630},130,{"$f":"IFERROR(RANK($J130,$J$1:J$607)+COUNTIF($J$1:J130,J130)-1,\"\")","v":590},"S.US.CNK",{"$f":"VLOOKUP($L130,$M$1:$N$607,2,FALSE)","v":"S.US.LEG"},{"$f":"RTD(\"cqg.rtd\", ,\"ContractData\",O130, \"PerCentNetLastTrade\",, \"T\")/100","v":8.5954287946864629E-3},{"$f":"\"https://finance.yahoo.com/quote/\"&RIGHT(O130,(LEN(O130)-5))","v":"https://finance.yahoo.com/quote/LEG"},null,8.5954287946864629E-3,{"$error":"#N/A"},null,{"$f":"RTD(\"cqg.rtd\", ,\"ContractData\",O130, \"LongDescription\",, \"T\")","v":"Leggett & Platt Inc"},null,null,8.5954287946864629E-3,null,1,1,null,8.5954287946864629E-3,"",""]
[null,null,"S.US.COG",{"$f":"RTD(\"cqg.rtd\", ,\"ContractData\",C131, \"LongDescription\",, \"T\")","v":"Cabot Oil/Gas Corp"},{"$f":"RTD(\"cqg.rtd\", ,\"ContractData\",C131, \"Open\",, \"T\")","v":23.5},{"$f":"RTD(\"cqg.rtd\", ,\"ContractData\",C131, \"High\",, \"T\")","v":23.56},{"$f":"RTD(\"cqg.rtd\", ,\"ContractData\",C131, \"Low\",, \"T\")","v":22.900000000000002},{"$f":"RTD(\"cqg.rtd\", ,\"ContractData\",C131, \"LastTradeToday\",, \"T\")","v":22.92},{"$f":"RTD(\"cqg.rtd\", ,\"ContractData\",C131, \"NetLastTradeToday\",, \"T\")","v":-0.63},{"$f":"IFERROR(RTD(\"cqg.rtd\", ,\"ContractData\",C131, \"PerCentNetLastTrade\",, \"T\")/100,\"\")","v":-2.6751592356687896E-2},{"$f":"RTD(\"cqg.rtd\", ,\"ContractData\", C131, \"T_CVol\",, \"T\")","v":2496927},{"$f":"L130+1","v":131},{"$f":"IFERROR(RANK($J131,$J$1:J$607)+COUNTIF($J$1:J131,J131)-1,\"\")","v":596},"S.US.COG","S.US.ECL",{"$f":"RTD(\"cqg.rtd\", ,\"ContractData\",O131, \"PerCentNetLastTrade\",, \"T\")/100","v":8.356110894181961E-3},"https://finance.yahoo.com/quote/ECL",null,8.356110894181961E-3,{"$error":"#N/A"},null,{"$f":"RTD(\"cqg.rtd\", ,\"ContractData\",O131, \"LongDescription\",, \"T\")","v":"Ecolab Inc"},null,null,8.356110894181961E-3,null,1,1,null,8.356110894181961E-3,"",""]
[null,null,"S.US.COH",{"$f":"RTD(\"cqg.rtd\", ,\"ContractData\",C132, \"LongDescription\",, \"T\")","v":"COACH INC"},{"$f":"RTD(\"cqg.rtd\", ,\"ContractData\",C132, \"Open\",, \"T\")","v":45.77},{"$f":"RTD(\"cqg.rtd\", ,\"ContractData\",C132, \"High\",, \"T\")","v":46.24},{"$f":"RTD(\"cqg.rtd\", ,\"ContractData\",C132, \"Low\",, \"T\")","v":45.56},{"$f":"RTD(\"cqg.rtd\", ,\"ContractData\",C132, \"LastTradeToday\",, \"T\")","v":46.02},{"$f":"RTD(\"cqg.rtd\", ,\"ContractData\",C132, \"NetLastTradeToday\",, \"T\")","v":0.01},{"$f":"IFERROR(RTD(\"cqg.rtd\", ,\"ContractData\",C132, \"PerCentNetLastTrade\",, \"T\")/100,\"\")","v":2.1734405564007825E-4},{"$f":"RTD(\"cqg.rtd\", ,\"ContractData\", C132, \"T_CVol\",, \"T\")","v":1719983},132,{"$f":"IFERROR(RANK($J132,$J$1:J$607)+COUNTIF($J$1:J132,J132)-1,\"\")","v":378},"S.US.COH","S.US.SQ",{"$f":"RTD(\"cqg.rtd\", ,\"ContractData\",O132, \"PerCentNetLastTrade\",, \"T\")/100","v":8.3179297597042508E-3},"https://finance.yahoo.com/quote/SQ",null,8.3179297597042508E-3,{"$error":"#N/A"},null,{"$f":"RTD(\"cqg.rtd\", ,\"ContractData\",O132, \"LongDescription\",, \"T\")","v":"Square, Inc"},null,null,8.3179297597042508E-3,null,1,1,null,8.3179297597042508E-3,"",""]
[null,null,"S.US.COL",{"$f":"RTD(\"cqg.rtd\", ,\"ContractData\",C133, \"LongDescription\",, \"T\")","v":"Rockwell Collins"},{"$f":"RTD(\"cqg.rtd\", ,\"ContractData\",C133, \"Open\",, \"T\")","v":104.13},{"$f":"RTD(\"cqg.rtd\", ,\"ContractData\",C133, \"High\",, \"T\")","v":104.39},{"$f":"RTD(\"cqg.rtd\", ,\"ContractData\",C133, \"Low\",, \"T\")","v":103.21000000000001},{"$f":"RTD(\"cqg.rtd\", ,\"ContractData\",C133, \"LastTradeToday\",, \"T\")","v":104.07000000000001},{"$f":"RTD(\"cqg.rtd\", ,\"ContractData\",C133, \"NetLastTradeToday\",, \"T\")","v":0.39},{"$f":"IFERROR(RTD(\"cqg.rtd\", ,\"ContractData\",C133, \"PerCentNetLastTrade\",, \"T\")/100,\"\")","v":3.7615740740740739E-3},{"$f":"RTD(\"cqg.rtd\", ,\"ContractData\", C133, \"T_CVol\",, \"T\")","v":1261973},133,{"$f":"IFERROR(RANK($J133,$J$1:J$607)+COUNTIF($J$1:J133,J133)-1,\"\")","v":248},"S.US.COL","S.US.VSTO",{"$f":"RTD(\"cqg.rtd\", ,\"ContractData\",O133, \"PerCentNetLastTrade\",, \"T\")/100","v":8.2606700321248283E-3},"https://finance.yahoo.com/quote/VSTO",null,8.2606700321248283E-3,{"$error":"#N/A"},null,{"$f":"RTD(\"cqg.rtd\", ,\"ContractData\",O133, \"LongDescription\",, \"T\")","v":"Vista Outdoor Inc."},null,null,8.2606700321248283E-3,null,1,1,null,8.2606700321248283E-3,"",""]
[null,null,"S.US.COMM",{"$f":"RTD(\"cqg.rtd\", ,\"ContractData\",C134, \"LongDescription\",, \"T\")","v":"CommScope Holding Company, Inc."},{"$f":"RTD(\"cqg.rtd\", ,\"ContractData\",C134, \"Open\",, \"T\")","v":37.15},{"$f":"RTD(\"cqg.rtd\", ,\"ContractData\",C134, \"High\",, \"T\")","v":37.15},{"$f":"RTD(\"cqg.rtd\", ,\"ContractData\",C134, \"Low\",, \"T\")","v":35.26},{"$f":"RTD(\"cqg.rtd\", ,\"ContractData\",C134, \"LastTradeToday\",, \"T\")","v":36.86},{"$f":"RTD(\"cqg.rtd\", ,\"ContractData\",C134, \"NetLastTradeToday\",, \"T\")","v":-0.25},{"$f":"IFERROR(RTD(\"cqg.rtd\", ,\"ContractData\",C134, \"PerCentNetLastTrade\",, \"T\")/100,\"\")","v":-6.7367286445701967E-3},{"$f":"RTD(\"cqg.rtd\", ,\"ContractData\", C134, \"T_CVol\",, \"T\")","v":2086894},134,{"$f":"IFERROR(RANK($J134,$J$1:J$607)+COUNTIF($J$1:J134,J134)-1,\"\")","v":509},"S.US.COMM","S.US.LYB",{"$f":"RTD(\"cqg.rtd\", ,\"ContractData\",O134, \"PerCentNetLastTrade\",, \"T\")/100","v":8.1916346034504161E-3},"https://finance.yahoo.com/quote/LYB",null,8.1916346034504161E-3,{"$error":"#N/A"},null,{"$f":"RTD(\"cqg.rtd\", ,\"ContractData\",O134, \"LongDescription\",, \"T\")","v":"LyondellBasell Industries NV Class A"},null,null,8.1916346034504161E-3,null,1,1,null,8.1916346034504161E-3,"",""]
[null,null,"S.US.CONE",{"$f":"RTD(\"cqg.rtd\", ,\"ContractData\",C135, \"LongDescription\",, \"T\")","v":"CyrusOne Inc"},{"$f":"RTD(\"cqg.rtd\", ,\"ContractData\",C135, \"Open\",, \"T\")","v":56.04},{"$f":"RTD(\"cqg.rtd\", ,\"ContractData\",C135, \"High\",, \"T\")","v":56.800000000000004},{"$f":"RTD(\"cqg.rtd\", ,\"ContractData\",C135, \"Low\",, \"T\")","v":56.04},{"$f":"RTD(\"cqg.rtd\", ,\"ContractData\",C135, \"LastTradeToday\",, \"T\")","v":56.5},{"$f":"RTD(\"cqg.rtd\", ,\"ContractData\",C135, \"NetLastTradeToday\",, \"T\")","v":0.69000000000000006},{"$f":"IFERROR(RTD(\"cqg.rtd\", ,\"ContractData\",C135, \"PerCentNetLastTrade\",, \"T\")/100,\"\")","v":1.2363375739114855E-2},{"$f":"RTD(\"cqg.rtd\", ,\"ContractData\", C135, \"T_CVol\",, \"T\")","v":593758},135,{"$f":"IFERROR(RANK($J135,$J$1:J$607)+COUNTIF($J$1:J135,J135)-1,\"\")","v":75},"S.US.CONE","S.US.VIAB",{"$f":"RTD(\"cqg.rtd\", ,\"ContractData\",O135, \"PerCentNetLastTrade\",, \"T\")/100","v":8.1585081585081581E-3},"https://finance.yahoo.com/quote/VIAB",null,8.1585081585081581E-3,{"$error":"#N/A"},null,{"$f":"RTD(\"cqg.rtd\", ,\"ContractData\",O135, \"LongDescription\",, \"T\")","v":"Viacom Inc ClsB"},null,null,8.1585081585081581E-3,null,1,1,null,8.1585081585081581E-3,"",""]
[null,null,"S.US.COO",{"$f":"RTD(\"cqg.rtd\", ,\"ContractData\",C136, \"LongDescription\",, \"T\")","v":"Cooper Companies Inc (The)"},{"$f":"RTD(\"cqg.rtd\", ,\"ContractData\",C136, \"Open\",, \"T\")","v":217.79},{"$f":"RTD(\"cqg.rtd\", ,\"ContractData\",C136, \"High\",, \"T\")","v":218.13},{"$f":"RTD(\"cqg.rtd\", ,\"ContractData\",C136, \"Low\",, \"T\")","v":215.55},{"$f":"RTD(\"cqg.rtd\", ,\"ContractData\",C136, \"LastTradeToday\",, \"T\")","v":218.13},{"$f":"RTD(\"cqg.rtd\", ,\"ContractData\",C136, \"NetLastTradeToday\",, \"T\")","v":1.05},{"$f":"IFERROR(RTD(\"cqg.rtd\", ,\"ContractData\",C136, \"PerCentNetLastTrade\",, \"T\")/100,\"\")","v":4.836926478717524E-3},{"$f":"RTD(\"cqg.rtd\", ,\"ContractData\", C136, \"T_CVol\",, \"T\")","v":83023},136,{"$f":"IFERROR(RANK($J136,$J$1:J$607)+COUNTIF($J$1:J136,J136)-1,\"\")","v":220},"S.US.COO","S.US.EMR",{"$f":"RTD(\"cqg.rtd\", ,\"ContractData\",O136, \"PerCentNetLastTrade\",, \"T\")/100","v":8.1026333558406483E-3},"https://finance.yahoo.com/quote/EMR",null,8.1026333558406483E-3,{"$error":"#N/A"},null,{"$f":"RTD(\"cqg.rtd\", ,\"ContractData\",O136, \"LongDescription\",, \"T\")","v":"Emerson Electric Co"},null,null,8.1026333558406483E-3,null,1,1,null,8.1026333558406483E-3,"",""]
[null,null,"S.US.COST",{"$f":"RTD(\"cqg.rtd\", ,\"ContractData\",C137, \"LongDescription\",, \"T\")","v":"Costco Wholesale Corp"},{"$f":"RTD(\"cqg.rtd\", ,\"ContractData\",C137, \"Open\",, \"T\")","v":172.95000000000002},{"$f":"RTD(\"cqg.rtd\", ,\"ContractData\",C137, \"High\",, \"T\")","v":172.95000000000002},{"$f":"RTD(\"cqg.rtd\", ,\"ContractData\",C137, \"Low\",, \"T\")","v":171.8},{"$f":"RTD(\"cqg.rtd\", ,\"ContractData\",C137, \"LastTradeToday\",, \"T\")","v":172.66},{"$f":"RTD(\"cqg.rtd\", ,\"ContractData\",C137, \"NetLastTradeToday\",, \"T\")","v":0.19},{"$f":"IFERROR(RTD(\"cqg.rtd\", ,\"ContractData\",C137, \"PerCentNetLastTrade\",, \"T\")/100,\"\")","v":1.1016408650779846E-3},{"$f":"RTD(\"cqg.rtd\", ,\"ContractData\", C137, \"T_CVol\",, \"T\")","v":804994},137,{"$f":"IFERROR(RANK($J137,$J$1:J$607)+COUNTIF($J$1:J137,J137)-1,\"\")","v":349},"S.US.COST","S.US.CAG",{"$f":"RTD(\"cqg.rtd\", ,\"ContractData\",O137, \"PerCentNetLastTrade\",, \"T\")/100","v":8.0771235018238657E-3},"https://finance.yahoo.com/quote/CAG",null,8.0771235018238657E-3,{"$error":"#N/A"},null,{"$f":"RTD(\"cqg.rtd\", ,\"ContractData\",O137, \"LongDescription\",, \"T\")","v":"Conagra Brands, Inc."},null,null,8.0771235018238657E-3,null,1,1,null,8.0771235018238657E-3,"",""]
[null,null,"S.US.COTY",{"$f":"RTD(\"cqg.rtd\", ,\"ContractData\",C138, \"LongDescription\",, \"T\")","v":"COTY Inc"},{"$f":"RTD(\"cqg.rtd\", ,\"ContractData\",C138, \"Open\",, \"T\")","v":18.990000000000002},{"$f":"RTD(\"cqg.rtd\", ,\"ContractData\",C138, \"High\",, \"T\")","v":19},{"$f":"RTD(\"cqg.rtd\", ,\"ContractData\",C138, \"Low\",, \"T\")","v":18.760000000000002},{"$f":"RTD(\"cqg.rtd\", ,\"ContractData\",C138, \"LastTradeToday\",, \"T\")","v":18.93},{"$f":"RTD(\"cqg.rtd\", ,\"ContractData\",C138, \"NetLastTradeToday\",, \"T\")","v":-0.05},{"$f":"IFERROR(RTD(\"cqg.rtd\", ,\"ContractData\",C138, \"PerCentNetLastTrade\",, \"T\")/100,\"\")","v":-2.6343519494204425E-3},{"$f":"RTD(\"cqg.rtd\", ,\"ContractData\", C138, \"T_CVol\",, \"T\")","v":1259003},138,{"$f":"IFERROR(RANK($J138,$J$1:J$607)+COUNTIF($J$1:J138,J138)-1,\"\")","v":445},"S.US.COTY","S.US.APH",{"$f":"RTD(\"cqg.rtd\", ,\"ContractData\",O138, \"PerCentNetLastTrade\",, \"T\")/100","v":8.0414338285402752E-3},"https://finance.yahoo.com/quote/APH",null,8.0414338285402752E-3,{"$error":"#N/A"},null,{"$f":"RTD(\"cqg.rtd\", ,\"ContractData\",O138, \"LongDescription\",, \"T\")","v":"Amphenol"},null,null,8.0414338285402752E-3,null,1,1,null,8.0414338285402752E-3,"",""]
[null,null,"S.US.CPB",{"$f":"RTD(\"cqg.rtd\", ,\"ContractData\",C139, \"LongDescription\",, \"T\")","v":"Campbell Soup Company"},{"$f":"RTD(\"cqg.rtd\", ,\"ContractData\",C139, \"Open\",, \"T\")","v":58.160000000000004},{"$f":"RTD(\"cqg.rtd\", ,\"ContractData\",C139, \"High\",, \"T\")","v":58.43},{"$f":"RTD(\"cqg.rtd\", ,\"ContractData\",C139, \"Low\",, \"T\")","v":57.93},{"$f":"RTD(\"cqg.rtd\", ,\"ContractData\",C139, \"LastTradeToday\",, \"T\")","v":58.42},{"$f":"RTD(\"cqg.rtd\", ,\"ContractData\",C139, \"NetLastTradeToday\",, \"T\")","v":0.3},{"$f":"IFERROR(RTD(\"cqg.rtd\", ,\"ContractData\",C139, \"PerCentNetLastTrade\",, \"T\")/100,\"\")","v":5.1617343427391603E-3},{"$f":"RTD(\"cqg.rtd\", ,\"ContractData\", C139, \"T_CVol\",, \"T\")","v":1119831},139,{"$f":"IFERROR(RANK($J139,$J$1:J$607)+COUNTIF($J$1:J139,J139)-1,\"\")","v":211},"S.US.CPB","S.US.CCI",{"$f":"RTD(\"cqg.rtd\", ,\"ContractData\",O139, \"PerCentNetLastTrade\",, \"T\")/100","v":8.0373089898789444E-3},"https://finance.yahoo.com/quote/CCI",null,8.0373089898789444E-3,{"$error":"#N/A"},null,{"$f":"RTD(\"cqg.rtd\", ,\"ContractData\",O139, \"LongDescription\",, \"T\")","v":"Crown Castle Intl"},null,null,8.0373089898789444E-3,null,1,1,null,8.0373089898789444E-3,"",""]
[null,null,"S.US.CPRT",{"$f":"RTD(\"cqg.rtd\", ,\"ContractData\",C140, \"LongDescription\",, \"T\")","v":"Copart Inc"},{"$f":"RTD(\"cqg.rtd\", ,\"ContractData\",C140, \"Open\",, \"T\")","v":29.98},{"$f":"RTD(\"cqg.rtd\", ,\"ContractData\",C140, \"High\",, \"T\")","v":30.080000000000002},{"$f":"RTD(\"cqg.rtd\", ,\"ContractData\",C140, \"Low\",, \"T\")","v":29.810000000000002},{"$f":"RTD(\"cqg.rtd\", ,\"ContractData\",C140, \"LastTradeToday\",, \"T\")","v":30.02},{"$f":"RTD(\"cqg.rtd\", ,\"ContractData\",C140, \"NetLastTradeToday\",, \"T\")","v":0},{"$f":"IFERROR(RTD(\"cqg.rtd\", ,\"ContractData\",C140, \"PerCentNetLastTrade\",, \"T\")/100,\"\")","v":0},{"$f":"RTD(\"cqg.rtd\", ,\"ContractData\", C140, \"T_CVol\",, \"T\")","v":542830},140,{"$f":"IFERROR(RANK($J140,$J$1:J$607)+COUNTIF($J$1:J140,J140)-1,\"\")","v":382},"S.US.CPRT","S.US.MA",{"$f":"RTD(\"cqg.rtd\", ,\"ContractData\",O140, \"PerCentNetLastTrade\",, \"T\")/100","v":8.0267558528428103E-3},"https://finance.yahoo.com/quote/MA",null,8.0267558528428103E-3,{"$error":"#N/A"},null,{"$f":"RTD(\"cqg.rtd\", ,\"ContractData\",O140, \"LongDescription\",, \"T\")","v":"Mastercard Inc."},null,null,8.0267558528428103E-3,null,1,1,null,8.0267558528428103E-3,"",""]
[null,null,"S.US.CREE",{"$f":"RTD(\"cqg.rtd\", ,\"ContractData\",C141, \"LongDescription\",, \"T\")","v":"Cree Inc"},{"$f":"RTD(\"cqg.rtd\", ,\"ContractData\",C141, \"Open\",, \"T\")","v":23.990000000000002},{"$f":"RTD(\"cqg.rtd\", ,\"ContractData\",C141, \"High\",, \"T\")","v":24.32},{"$f":"RTD(\"cqg.rtd\", ,\"ContractData\",C141, \"Low\",, \"T\")","v":23.87},{"$f":"RTD(\"cqg.rtd\", ,\"ContractData\",C141, \"LastTradeToday\",, \"T\")","v":24.23},{"$f":"RTD(\"cqg.rtd\", ,\"ContractData\",C141, \"NetLastTradeToday\",, \"T\")","v":0},{"$f":"IFERROR(RTD(\"cqg.rtd\", ,\"ContractData\",C141, \"PerCentNetLastTrade\",, \"T\")/100,\"\")","v":0},{"$f":"RTD(\"cqg.rtd\", ,\"ContractData\", C141, \"T_CVol\",, \"T\")","v":541131},141,{"$f":"IFERROR(RANK($J141,$J$1:J$607)+COUNTIF($J$1:J141,J141)-1,\"\")","v":383},"S.US.CREE","S.US.VIA",{"$f":"RTD(\"cqg.rtd\", ,\"ContractData\",O141, \"PerCentNetLastTrade\",, \"T\")/100","v":8.0106809078771685E-3},"https://finance.yahoo.com/quote/VIA",null,8.0106809078771685E-3,{"$error":"#N/A"},null,{"$f":"RTD(\"cqg.rtd\", ,\"ContractData\",O141, \"LongDescription\",, \"T\")","v":"Viacom Inc ClsA"},null,null,8.0106809078771685E-3,null,1,1,null,8.0106809078771685E-3,"",""]
[null,null,"S.US.CRI",{"$f":"RTD(\"cqg.rtd\", ,\"ContractData\",C142, \"LongDescription\",, \"T\")","v":"Carters Inc"},{"$f":"RTD(\"cqg.rtd\", ,\"ContractData\",C142, \"Open\",, \"T\")","v":80.23},{"$f":"RTD(\"cqg.rtd\", ,\"ContractData\",C142, \"High\",, \"T\")","v":80.61},{"$f":"RTD(\"cqg.rtd\", ,\"ContractData\",C142, \"Low\",, \"T\")","v":79.760000000000005},{"$f":"RTD(\"cqg.rtd\", ,\"ContractData\",C142, \"LastTradeToday\",, \"T\")","v":80.41},{"$f":"RTD(\"cqg.rtd\", ,\"ContractData\",C142, \"NetLastTradeToday\",, \"T\")","v":0.06},{"$f":"IFERROR(RTD(\"cqg.rtd\", ,\"ContractData\",C142, \"PerCentNetLastTrade\",, \"T\")/100,\"\")","v":7.467330429371499E-4},{"$f":"RTD(\"cqg.rtd\", ,\"ContractData\", C142, \"T_CVol\",, \"T\")","v":398330},142,{"$f":"IFERROR(RANK($J142,$J$1:J$607)+COUNTIF($J$1:J142,J142)-1,\"\")","v":360},"S.US.CRI","S.US.CLGX",{"$f":"RTD(\"cqg.rtd\", ,\"ContractData\",O142, \"PerCentNetLastTrade\",, \"T\")/100","v":8.0056510477984448E-3},"https://finance.yahoo.com/quote/CLGX",null,8.0056510477984448E-3,{"$error":"#N/A"},null,{"$f":"RTD(\"cqg.rtd\", ,\"ContractData\",O142, \"LongDescription\",, \"T\")","v":"Corelogic, Inc."},null,null,8.0056510477984448E-3,null,1,1,null,8.0056510477984448E-3,"",""]
[null,null,"S.US.CRL",{"$f":"RTD(\"cqg.rtd\", ,\"ContractData\",C143, \"LongDescription\",, \"T\")","v":"Charles River Labs Hldgs Inc"},{"$f":"RTD(\"cqg.rtd\", ,\"ContractData\",C143, \"Open\",, \"T\")","v":90.600000000000009},{"$f":"RTD(\"cqg.rtd\", ,\"ContractData\",C143, \"High\",, \"T\")","v":91.77},{"$f":"RTD(\"cqg.rtd\", ,\"ContractData\",C143, \"Low\",, \"T\")","v":90.29},{"$f":"RTD(\"cqg.rtd\", ,\"ContractData\",C143, \"LastTradeToday\",, \"T\")","v":91.72},{"$f":"RTD(\"cqg.rtd\", ,\"ContractData\",C143, \"NetLastTradeToday\",, \"T\")","v":1.1000000000000001},{"$f":"IFERROR(RTD(\"cqg.rtd\", ,\"ContractData\",C143, \"PerCentNetLastTrade\",, \"T\")/100,\"\")","v":1.2138600750386228E-2},{"$f":"RTD(\"cqg.rtd\", ,\"ContractData\", C143, \"T_CVol\",, \"T\")","v":83974},143,{"$f":"IFERROR(RANK($J143,$J$1:J$607)+COUNTIF($J$1:J143,J143)-1,\"\")","v":77},"S.US.CRL","S.US.ROL",{"$f":"RTD(\"cqg.rtd\", ,\"ContractData\",O143, \"PerCentNetLastTrade\",, \"T\")/100","v":7.998118089861209E-3},"https://finance.yahoo.com/quote/ROL",null,7.998118089861209E-3,{"$error":"#N/A"},null,{"$f":"RTD(\"cqg.rtd\", ,\"ContractData\",O143, \"LongDescription\",, \"T\")","v":"Rollins Inc"},null,null,7.998118089861209E-3,null,1,1,null,7.998118089861209E-3,"",""]
[null,null,"S.US.CRM",{"$f":"RTD(\"cqg.rtd\", ,\"ContractData\",C144, \"LongDescription\",, \"T\")","v":"Salesforce.com Inc"},{"$f":"RTD(\"cqg.rtd\", ,\"ContractData\",C144, \"Open\",, \"T\")","v":88.43},{"$f":"RTD(\"cqg.rtd\", ,\"ContractData\",C144, \"High\",, \"T\")","v":89.600000000000009},{"$f":"RTD(\"cqg.rtd\", ,\"ContractData\",C144, \"Low\",, \"T\")","v":88.33},{"$f":"RTD(\"cqg.rtd\", ,\"ContractData\",C144, \"LastTradeToday\",, \"T\")","v":89.37},{"$f":"RTD(\"cqg.rtd\", ,\"ContractData\",C144, \"NetLastTradeToday\",, \"T\")","v":0.88},{"$f":"IFERROR(RTD(\"cqg.rtd\", ,\"ContractData\",C144, \"PerCentNetLastTrade\",, \"T\")/100,\"\")","v":9.9446265114702219E-3},{"$f":"RTD(\"cqg.rtd\", ,\"ContractData\", C144, \"T_CVol\",, \"T\")","v":2519836},144,{"$f":"IFERROR(RANK($J144,$J$1:J$607)+COUNTIF($J$1:J144,J144)-1,\"\")","v":104},"S.US.CRM","S.US.LAMR",{"$f":"RTD(\"cqg.rtd\", ,\"ContractData\",O144, \"PerCentNetLastTrade\",, \"T\")/100","v":7.9726651480637803E-3},"https://finance.yahoo.com/quote/LAMR",null,7.9726651480637803E-3,{"$error":"#N/A"},null,{"$f":"RTD(\"cqg.rtd\", ,\"ContractData\",O144, \"LongDescription\",, \"T\")","v":"Lamar Advertising Co"},null,null,7.9726651480637803E-3,null,1,1,null,7.9726651480637803E-3,"",""]
[null,null,"S.US.CSGP",{"$f":"RTD(\"cqg.rtd\", ,\"ContractData\",C145, \"LongDescription\",, \"T\")","v":"CoStar Group"},{"$f":"RTD(\"cqg.rtd\", ,\"ContractData\",C145, \"Open\",, \"T\")","v":256.83},{"$f":"RTD(\"cqg.rtd\", ,\"ContractData\",C145, \"High\",, \"T\")","v":257.88},{"$f":"RTD(\"cqg.rtd\", ,\"ContractData\",C145, \"Low\",, \"T\")","v":254.43},{"$f":"RTD(\"cqg.rtd\", ,\"ContractData\",C145, \"LastTradeToday\",, \"T\")","v":257.87},{"$f":"RTD(\"cqg.rtd\", ,\"ContractData\",C145, \"NetLastTradeToday\",, \"T\")","v":1.87},{"$f":"IFERROR(RTD(\"cqg.rtd\", ,\"ContractData\",C145, \"PerCentNetLastTrade\",, \"T\")/100,\"\")","v":7.3046875000000004E-3},{"$f":"RTD(\"cqg.rtd\", ,\"ContractData\", C145, \"T_CVol\",, \"T\")","v":90293},145,{"$f":"IFERROR(RANK($J145,$J$1:J$607)+COUNTIF($J$1:J145,J145)-1,\"\")","v":157},"S.US.CSGP","S.US.MNST",{"$f":"RTD(\"cqg.rtd\", ,\"ContractData\",O145, \"PerCentNetLastTrade\",, \"T\")/100","v":7.8899453773012343E-3},"https://finance.yahoo.com/quote/MNST",null,7.8899453773012343E-3,{"$error":"#N/A"},null,{"$f":"RTD(\"cqg.rtd\", ,\"ContractData\",O145, \"LongDescription\",, \"T\")","v":"Monster Beverage Corporation"},null,null,7.8899453773012343E-3,null,1,1,null,7.8899453773012343E-3,"",""]
[null,null,"S.US.CSL",{"$f":"RTD(\"cqg.rtd\", ,\"ContractData\",C146, \"LongDescription\",, \"T\")","v":"Carlisle Cos Inc"},{"$f":"RTD(\"cqg.rtd\", ,\"ContractData\",C146, \"Open\",, \"T\")","v":100.28},{"$f":"RTD(\"cqg.rtd\", ,\"ContractData\",C146, \"High\",, \"T\")","v":101.13},{"$f":"RTD(\"cqg.rtd\", ,\"ContractData\",C146, \"Low\",, \"T\")","v":100.09},{"$f":"RTD(\"cqg.rtd\", ,\"ContractData\",C146, \"LastTradeToday\",, \"T\")","v":100.96000000000001},{"$f":"RTD(\"cqg.rtd\", ,\"ContractData\",C146, \"NetLastTradeToday\",, \"T\")","v":0.91},{"$f":"IFERROR(RTD(\"cqg.rtd\", ,\"ContractData\",C146, \"PerCentNetLastTrade\",, \"T\")/100,\"\")","v":9.095452273863068E-3},{"$f":"RTD(\"cqg.rtd\", ,\"ContractData\", C146, \"T_CVol\",, \"T\")","v":307741},146,{"$f":"IFERROR(RANK($J146,$J$1:J$607)+COUNTIF($J$1:J146,J146)-1,\"\")","v":119},"S.US.CSL","S.US.CL",{"$f":"RTD(\"cqg.rtd\", ,\"ContractData\",O146, \"PerCentNetLastTrade\",, \"T\")/100","v":7.8548212351029264E-3},"https://finance.yahoo.com/quote/CL",null,7.8548212351029264E-3,{"$error":"#N/A"},null,{"$f":"RTD(\"cqg.rtd\", ,\"ContractData\",O146, \"LongDescription\",, \"T\")","v":"Colgate-Palmolive Co"},null,null,7.8548212351029264E-3,null,1,1,null,7.8548212351029264E-3,"",""]
[null,null,"S.US.CSRA",{"$f":"RTD(\"cqg.rtd\", ,\"ContractData\",C147, \"LongDescription\",, \"T\")","v":"CSRA Inc."},{"$f":"RTD(\"cqg.rtd\", ,\"ContractData\",C147, \"Open\",, \"T\")","v":29.36},{"$f":"RTD(\"cqg.rtd\", ,\"ContractData\",C147, \"High\",, \"T\")","v":29.68},{"$f":"RTD(\"cqg.rtd\", ,\"ContractData\",C147, \"Low\",, \"T\")","v":29.2},{"$f":"RTD(\"cqg.rtd\", ,\"ContractData\",C147, \"LastTradeToday\",, \"T\")","v":29.64},{"$f":"RTD(\"cqg.rtd\", ,\"ContractData\",C147, \"NetLastTradeToday\",, \"T\")","v":0.38},{"$f":"IFERROR(RTD(\"cqg.rtd\", ,\"ContractData\",C147, \"PerCentNetLastTrade\",, \"T\")/100,\"\")","v":1.2987012987012986E-2},{"$f":"RTD(\"cqg.rtd\", ,\"ContractData\", C147, \"T_CVol\",, \"T\")","v":978894},147,{"$f":"IFERROR(RANK($J147,$J$1:J$607)+COUNTIF($J$1:J147,J147)-1,\"\")","v":69},"S.US.CSRA","S.US.EXR",{"$f":"RTD(\"cqg.rtd\", ,\"ContractData\",O147, \"PerCentNetLastTrade\",, \"T\")/100","v":7.8325629173086799E-3},"https://finance.yahoo.com/quote/EXR",null,7.8325629173086799E-3,{"$error":"#N/A"},null,{"$f":"RTD(\"cqg.rtd\", ,\"ContractData\",O147, \"LongDescription\",, \"T\")","v":"Extra Space Storage Inc"},null,null,7.8325629173086799E-3,null,1,1,null,7.8325629173086799E-3,"",""]
[null,null,"S.US.CTAS",{"$f":"RTD(\"cqg.rtd\", ,\"ContractData\",C148, \"LongDescription\",, \"T\")","v":"Cintas Corp"},{"$f":"RTD(\"cqg.rtd\", ,\"ContractData\",C148, \"Open\",, \"T\")","v":122.75},{"$f":"RTD(\"cqg.rtd\", ,\"ContractData\",C148, \"High\",, \"T\")","v":124.53},{"$f":"RTD(\"cqg.rtd\", ,\"ContractData\",C148, \"Low\",, \"T\")","v":122.4},{"$f":"RTD(\"cqg.rtd\", ,\"ContractData\",C148, \"LastTradeToday\",, \"T\")","v":124.48},{"$f":"RTD(\"cqg.rtd\", ,\"ContractData\",C148, \"NetLastTradeToday\",, \"T\")","v":2.09},{"$f":"IFERROR(RTD(\"cqg.rtd\", ,\"ContractData\",C148, \"PerCentNetLastTrade\",, \"T\")/100,\"\")","v":1.7076558542364572E-2},{"$f":"RTD(\"cqg.rtd\", ,\"ContractData\", C148, \"T_CVol\",, \"T\")","v":252717},148,{"$f":"IFERROR(RANK($J148,$J$1:J$607)+COUNTIF($J$1:J148,J148)-1,\"\")","v":40},"S.US.CTAS","S.US.MD",{"$f":"RTD(\"cqg.rtd\", ,\"ContractData\",O148, \"PerCentNetLastTrade\",, \"T\")/100","v":7.710666421883605E-3},"https://finance.yahoo.com/quote/MD",null,7.710666421883605E-3,{"$error":"#N/A"},null,{"$f":"RTD(\"cqg.rtd\", ,\"ContractData\",O148, \"LongDescription\",, \"T\")","v":"Mednax Inc"},null,null,7.710666421883605E-3,null,1,1,null,7.710666421883605E-3,"",""]
[null,null,"S.US.CTSH",{"$f":"RTD(\"cqg.rtd\", ,\"ContractData\",C149, \"LongDescription\",, \"T\")","v":"Cognizant Tech Solutions Corp"},{"$f":"RTD(\"cqg.rtd\", ,\"ContractData\",C149, \"Open\",, \"T\")","v":66.17},{"$f":"RTD(\"cqg.rtd\", ,\"ContractData\",C149, \"High\",, \"T\")","v":66.53},{"$f":"RTD(\"cqg.rtd\", ,\"ContractData\",C149, \"Low\",, \"T\")","v":65.849999999999994},{"$f":"RTD(\"cqg.rtd\", ,\"ContractData\",C149, \"LastTradeToday\",, \"T\")","v":66.45},{"$f":"RTD(\"cqg.rtd\", ,\"ContractData\",C149, \"NetLastTradeToday\",, \"T\")","v":0.44},{"$f":"IFERROR(RTD(\"cqg.rtd\", ,\"ContractData\",C149, \"PerCentNetLastTrade\",, \"T\")/100,\"\")","v":6.6656567186789886E-3},{"$f":"RTD(\"cqg.rtd\", ,\"ContractData\", C149, \"T_CVol\",, \"T\")","v":1585621},149,{"$f":"IFERROR(RANK($J149,$J$1:J$607)+COUNTIF($J$1:J149,J149)-1,\"\")","v":177},"S.US.CTSH","S.US.TUP",{"$f":"RTD(\"cqg.rtd\", ,\"ContractData\",O149, \"PerCentNetLastTrade\",, \"T\")/100","v":7.6029264094104147E-3},"https://finance.yahoo.com/quote/TUP",null,7.6029264094104147E-3,{"$error":"#N/A"},null,{"$f":"RTD(\"cqg.rtd\", ,\"ContractData\",O149, \"LongDescription\",, \"T\")","v":"Tupperware Brands Corp"},null,null,7.6029264094104147E-3,null,1,1,null,7.6029264094104147E-3,"",""]
[null,null,"S.US.CTXS",{"$f":"RTD(\"cqg.rtd\", ,\"ContractData\",C150, \"LongDescription\",, \"T\")","v":"Citrix Systems Inc"},{"$f":"RTD(\"cqg.rtd\", ,\"ContractData\",C150, \"Open\",, \"T\")","v":82.44},{"$f":"RTD(\"cqg.rtd\", ,\"ContractData\",C150, \"High\",, \"T\")","v":82.44},{"$f":"RTD(\"cqg.rtd\", ,\"ContractData\",C150, \"Low\",, \"T\")","v":81.55},{"$f":"RTD(\"cqg.rtd\", ,\"ContractData\",C150, \"LastTradeToday\",, \"T\")","v":82.3},{"$f":"RTD(\"cqg.rtd\", ,\"ContractData\",C150, \"NetLastTradeToday\",, \"T\")","v":0.24},{"$f":"IFERROR(RTD(\"cqg.rtd\", ,\"ContractData\",C150, \"PerCentNetLastTrade\",, \"T\")/100,\"\")","v":2.9246892517669999E-3},{"$f":"RTD(\"cqg.rtd\", ,\"ContractData\", C150, \"T_CVol\",, \"T\")","v":473827},150,{"$f":"IFERROR(RANK($J150,$J$1:J$607)+COUNTIF($J$1:J150,J150)-1,\"\")","v":284},"S.US.CTXS","S.US.AKAM",{"$f":"RTD(\"cqg.rtd\", ,\"ContractData\",O150, \"PerCentNetLastTrade\",, \"T\")/100","v":7.5933347395064328E-3},"https://finance.yahoo.com/quote/AKAM",null,7.5933347395064328E-3,{"$error":"#N/A"},null,{"$f":"RTD(\"cqg.rtd\", ,\"ContractData\",O150, \"LongDescription\",, \"T\")","v":"Akamai Tech Inc"},null,null,7.5933347395064328E-3,null,1,1,null,7.5933347395064328E-3,"",""]
[null,null,"S.US.CUBE",{"$f":"RTD(\"cqg.rtd\", ,\"ContractData\",C151, \"LongDescription\",, \"T\")","v":"Cubesmart"},{"$f":"RTD(\"cqg.rtd\", ,\"ContractData\",C151, \"Open\",, \"T\")","v":25.29},{"$f":"RTD(\"cqg.rtd\", ,\"ContractData\",C151, \"High\",, \"T\")","v":25.38},{"$f":"RTD(\"cqg.rtd\", ,\"ContractData\",C151, \"Low\",, \"T\")","v":25.17},{"$f":"RTD(\"cqg.rtd\", ,\"ContractData\",C151, \"LastTradeToday\",, \"T\")","v":25.28},{"$f":"RTD(\"cqg.rtd\", ,\"ContractData\",C151, \"NetLastTradeToday\",, \"T\")","v":7.0000000000000007E-2},{"$f":"IFERROR(RTD(\"cqg.rtd\", ,\"ContractData\",C151, \"PerCentNetLastTrade\",, \"T\")/100,\"\")","v":2.776675922253074E-3},{"$f":"RTD(\"cqg.rtd\", ,\"ContractData\", C151, \"T_CVol\",, \"T\")","v":999338},151,{"$f":"IFERROR(RANK($J151,$J$1:J$607)+COUNTIF($J$1:J151,J151)-1,\"\")","v":291},"S.US.CUBE","S.US.SIX",{"$f":"RTD(\"cqg.rtd\", ,\"ContractData\",O151, \"PerCentNetLastTrade\",, \"T\")/100","v":7.5040783034257749E-3},"https://finance.yahoo.com/quote/SIX",null,7.5040783034257749E-3,{"$error":"#N/A"},null,{"$f":"RTD(\"cqg.rtd\", ,\"ContractData\",O151, \"LongDescription\",, \"T\")","v":"Six Flags Entertainment Corporation"},null,null,7.5040783034257749E-3,null,1,1,null,7.5040783034257749E-3,"",""]
[null,null,"S.US.CVA",{"$f":"RTD(\"cqg.rtd\", ,\"ContractData\",C152, \"LongDescription\",, \"T\")","v":"Covanta Holding Corp"},{"$f":"RTD(\"cqg.rtd\", ,\"ContractData\",C152, \"Open\",, \"T\")","v":14.55},{"$f":"RTD(\"cqg.rtd\", ,\"ContractData\",C152, \"High\",, \"T\")","v":14.65},{"$f":"RTD(\"cqg.rtd\", ,\"ContractData\",C152, \"Low\",, \"T\")","v":14.370000000000001},{"$f":"RTD(\"cqg.rtd\", ,\"ContractData\",C152, \"LastTradeToday\",, \"T\")","v":14.5},{"$f":"RTD(\"cqg.rtd\", ,\"ContractData\",C152, \"NetLastTradeToday\",, \"T\")","v":0},{"$f":"IFERROR(RTD(\"cqg.rtd\", ,\"ContractData\",C152, \"PerCentNetLastTrade\",, \"T\")/100,\"\")","v":0},{"$f":"RTD(\"cqg.rtd\", ,\"ContractData\", C152, \"T_CVol\",, \"T\")","v":350235},152,{"$f":"IFERROR(RANK($J152,$J$1:J$607)+COUNTIF($J$1:J152,J152)-1,\"\")","v":384},"S.US.CVA","S.US.DKS",{"$f":"RTD(\"cqg.rtd\", ,\"ContractData\",O152, \"PerCentNetLastTrade\",, \"T\")/100","v":7.4825006034274673E-3},"https://finance.yahoo.com/quote/DKS",null,7.4825006034274673E-3,{"$error":"#N/A"},null,{"$f":"RTD(\"cqg.rtd\", ,\"ContractData\",O152, \"LongDescription\",, \"T\")","v":"Dicks Sporting Goods Inc."},null,null,7.4825006034274673E-3,null,1,1,null,7.4825006034274673E-3,"",""]
[null,null,"S.US.CVS",{"$f":"RTD(\"cqg.rtd\", ,\"ContractData\",C153, \"LongDescription\",, \"T\")","v":"CVS Health Corporation"},{"$f":"RTD(\"cqg.rtd\", ,\"ContractData\",C153, \"Open\",, \"T\")","v":77.31},{"$f":"RTD(\"cqg.rtd\", ,\"ContractData\",C153, \"High\",, \"T\")","v":77.540000000000006},{"$f":"RTD(\"cqg.rtd\", ,\"ContractData\",C153, \"Low\",, \"T\")","v":76.39},{"$f":"RTD(\"cqg.rtd\", ,\"ContractData\",C153, \"LastTradeToday\",, \"T\")","v":76.56},{"$f":"RTD(\"cqg.rtd\", ,\"ContractData\",C153, \"NetLastTradeToday\",, \"T\")","v":-0.71},{"$f":"IFERROR(RTD(\"cqg.rtd\", ,\"ContractData\",C153, \"PerCentNetLastTrade\",, \"T\")/100,\"\")","v":-9.1885595962210437E-3},{"$f":"RTD(\"cqg.rtd\", ,\"ContractData\", C153, \"T_CVol\",, \"T\")","v":2551015},153,{"$f":"IFERROR(RANK($J153,$J$1:J$607)+COUNTIF($J$1:J153,J153)-1,\"\")","v":533},"S.US.CVS","S.US.PEP",{"$f":"RTD(\"cqg.rtd\", ,\"ContractData\",O153, \"PerCentNetLastTrade\",, \"T\")/100","v":7.4750108648413737E-3},"https://finance.yahoo.com/quote/PEP",null,7.4750108648413737E-3,{"$error":"#N/A"},null,{"$f":"RTD(\"cqg.rtd\", ,\"ContractData\",O153, \"LongDescription\",, \"T\")","v":"PepsiCo Inc"},null,null,7.4750108648413737E-3,null,1,1,null,7.4750108648413737E-3,"",""]
[null,null,"S.US.D",{"$f":"RTD(\"cqg.rtd\", ,\"ContractData\",C154, \"LongDescription\",, \"T\")","v":"Dominion Energy, Inc."},{"$f":"RTD(\"cqg.rtd\", ,\"ContractData\",C154, \"Open\",, \"T\")","v":79.820000000000007},{"$f":"RTD(\"cqg.rtd\", ,\"ContractData\",C154, \"High\",, \"T\")","v":80.28},{"$f":"RTD(\"cqg.rtd\", ,\"ContractData\",C154, \"Low\",, \"T\")","v":79.7},{"$f":"RTD(\"cqg.rtd\", ,\"ContractData\",C154, \"LastTradeToday\",, \"T\")","v":80.2},{"$f":"RTD(\"cqg.rtd\", ,\"ContractData\",C154, \"NetLastTradeToday\",, \"T\")","v":0.49},{"$f":"IFERROR(RTD(\"cqg.rtd\", ,\"ContractData\",C154, \"PerCentNetLastTrade\",, \"T\")/100,\"\")","v":6.1472839041525531E-3},{"$f":"RTD(\"cqg.rtd\", ,\"ContractData\", C154, \"T_CVol\",, \"T\")","v":589267},154,{"$f":"IFERROR(RANK($J154,$J$1:J$607)+COUNTIF($J$1:J154,J154)-1,\"\")","v":189},"S.US.D","S.US.PM",{"$f":"RTD(\"cqg.rtd\", ,\"ContractData\",O154, \"PerCentNetLastTrade\",, \"T\")/100","v":7.470376094796497E-3},"https://finance.yahoo.com/quote/PM",null,7.470376094796497E-3,{"$error":"#N/A"},null,{"$f":"RTD(\"cqg.rtd\", ,\"ContractData\",O154, \"LongDescription\",, \"T\")","v":"Philip Morris International"},null,null,7.470376094796497E-3,null,1,1,null,7.470376094796497E-3,"",""]
[null,null,"S.US.DAL",{"$f":"RTD(\"cqg.rtd\", ,\"ContractData\",C155, \"LongDescription\",, \"T\")","v":"Delta Airlines, Inc."},{"$f":"RTD(\"cqg.rtd\", ,\"ContractData\",C155, \"Open\",, \"T\")","v":48.67},{"$f":"RTD(\"cqg.rtd\", ,\"ContractData\",C155, \"High\",, \"T\")","v":48.97},{"$f":"RTD(\"cqg.rtd\", ,\"ContractData\",C155, \"Low\",, \"T\")","v":48.480000000000004},{"$f":"RTD(\"cqg.rtd\", ,\"ContractData\",C155, \"LastTradeToday\",, \"T\")","v":48.75},{"$f":"RTD(\"cqg.rtd\", ,\"ContractData\",C155, \"NetLastTradeToday\",, \"T\")","v":0.16},{"$f":"IFERROR(RTD(\"cqg.rtd\", ,\"ContractData\",C155, \"PerCentNetLastTrade\",, \"T\")/100,\"\")","v":3.2928586128833093E-3},{"$f":"RTD(\"cqg.rtd\", ,\"ContractData\", C155, \"T_CVol\",, \"T\")","v":2828019},155,{"$f":"IFERROR(RANK($J155,$J$1:J$607)+COUNTIF($J$1:J155,J155)-1,\"\")","v":264},"S.US.DAL","S.US.TXT",{"$f":"RTD(\"cqg.rtd\", ,\"ContractData\",O155, \"PerCentNetLastTrade\",, \"T\")/100","v":7.427843803056027E-3},"https://finance.yahoo.com/quote/TXT",null,7.427843803056027E-3,{"$error":"#N/A"},null,{"$f":"RTD(\"cqg.rtd\", ,\"ContractData\",O155, \"LongDescription\",, \"T\")","v":"Textron Inc"},null,null,7.427843803056027E-3,null,1,1,null,7.427843803056027E-3,"",""]
[null,null,"S.US.DATA",{"$f":"RTD(\"cqg.rtd\", ,\"ContractData\",C156, \"LongDescription\",, \"T\")","v":"Tableau Software Inc"},{"$f":"RTD(\"cqg.rtd\", ,\"ContractData\",C156, \"Open\",, \"T\")","v":60.97},{"$f":"RTD(\"cqg.rtd\", ,\"ContractData\",C156, \"High\",, \"T\")","v":61.7},{"$f":"RTD(\"cqg.rtd\", ,\"ContractData\",C156, \"Low\",, \"T\")","v":60.85},{"$f":"RTD(\"cqg.rtd\", ,\"ContractData\",C156, \"LastTradeToday\",, \"T\")","v":61.480000000000004},{"$f":"RTD(\"cqg.rtd\", ,\"ContractData\",C156, \"NetLastTradeToday\",, \"T\")","v":1.26},{"$f":"IFERROR(RTD(\"cqg.rtd\", ,\"ContractData\",C156, \"PerCentNetLastTrade\",, \"T\")/100,\"\")","v":2.0923281301893058E-2},{"$f":"RTD(\"cqg.rtd\", ,\"ContractData\", C156, \"T_CVol\",, \"T\")","v":1359101},156,{"$f":"IFERROR(RANK($J156,$J$1:J$607)+COUNTIF($J$1:J156,J156)-1,\"\")","v":23},"S.US.DATA","S.US.PK",{"$f":"RTD(\"cqg.rtd\", ,\"ContractData\",O156, \"PerCentNetLastTrade\",, \"T\")/100","v":7.3958738808875043E-3},"https://finance.yahoo.com/quote/PK",null,7.3958738808875043E-3,{"$error":"#N/A"},null,{"$f":"RTD(\"cqg.rtd\", ,\"ContractData\",O156, \"LongDescription\",, \"T\")","v":"Park Hotels & Resorts Inc."},null,null,7.3958738808875043E-3,null,1,1,null,7.3958738808875043E-3,"",""]
[null,null,"S.US.DCI",{"$f":"RTD(\"cqg.rtd\", ,\"ContractData\",C157, \"LongDescription\",, \"T\")","v":"Donaldson Company Inc"},{"$f":"RTD(\"cqg.rtd\", ,\"ContractData\",C157, \"Open\",, \"T\")","v":46.97},{"$f":"RTD(\"cqg.rtd\", ,\"ContractData\",C157, \"High\",, \"T\")","v":47.14},{"$f":"RTD(\"cqg.rtd\", ,\"ContractData\",C157, \"Low\",, \"T\")","v":46.800000000000004},{"$f":"RTD(\"cqg.rtd\", ,\"ContractData\",C157, \"LastTradeToday\",, \"T\")","v":46.910000000000004},{"$f":"RTD(\"cqg.rtd\", ,\"ContractData\",C157, \"NetLastTradeToday\",, \"T\")","v":0},{"$f":"IFERROR(RTD(\"cqg.rtd\", ,\"ContractData\",C157, \"PerCentNetLastTrade\",, \"T\")/100,\"\")","v":0},{"$f":"RTD(\"cqg.rtd\", ,\"ContractData\", C157, \"T_CVol\",, \"T\")","v":223667},157,{"$f":"IFERROR(RANK($J157,$J$1:J$607)+COUNTIF($J$1:J157,J157)-1,\"\")","v":385},"S.US.DCI","S.US.CSGP",{"$f":"RTD(\"cqg.rtd\", ,\"ContractData\",O157, \"PerCentNetLastTrade\",, \"T\")/100","v":7.3046875000000004E-3},"https://finance.yahoo.com/quote/CSGP",null,7.3046875000000004E-3,{"$error":"#N/A"},null,{"$f":"RTD(\"cqg.rtd\", ,\"ContractData\",O157, \"LongDescription\",, \"T\")","v":"CoStar Group"},null,null,7.3046875000000004E-3,null,1,1,null,7.3046875000000004E-3,"",""]
[null,null,"S.US.DD",{"$f":"RTD(\"cqg.rtd\", ,\"ContractData\",C158, \"LongDescription\",, \"T\")","v":"E.I. du Pont de Nemours and Co. (DuPont)"},{"$f":"RTD(\"cqg.rtd\", ,\"ContractData\",C158, \"Open\",, \"T\")","v":77.5},{"$f":"RTD(\"cqg.rtd\", ,\"ContractData\",C158, \"High\",, \"T\")","v":78.540000000000006},{"$f":"RTD(\"cqg.rtd\", ,\"ContractData\",C158, \"Low\",, \"T\")","v":77.48},{"$f":"RTD(\"cqg.rtd\", ,\"ContractData\",C158, \"LastTradeToday\",, \"T\")","v":78.239999999999995},{"$f":"RTD(\"cqg.rtd\", ,\"ContractData\",C158, \"NetLastTradeToday\",, \"T\")","v":0.9},{"$f":"IFERROR(RTD(\"cqg.rtd\", ,\"ContractData\",C158, \"PerCentNetLastTrade\",, \"T\")/100,\"\")","v":1.1636927851047323E-2},{"$f":"RTD(\"cqg.rtd\", ,\"ContractData\", C158, \"T_CVol\",, \"T\")","v":1149683},158,{"$f":"IFERROR(RANK($J158,$J$1:J$607)+COUNTIF($J$1:J158,J158)-1,\"\")","v":85},"S.US.DD","S.US.VAR",{"$f":"RTD(\"cqg.rtd\", ,\"ContractData\",O158, \"PerCentNetLastTrade\",, \"T\")/100","v":7.2954663887441372E-3},"https://finance.yahoo.com/quote/VAR",null,7.2954663887441372E-3,{"$error":"#N/A"},null,{"$f":"RTD(\"cqg.rtd\", ,\"ContractData\",O158, \"LongDescription\",, \"T\")","v":"Varian Medical Systems Inc"},null,null,7.2954663887441372E-3,null,1,1,null,7.2954663887441372E-3,"",""]
[null,null,"S.US.DE",{"$f":"RTD(\"cqg.rtd\", ,\"ContractData\",C159, \"LongDescription\",, \"T\")","v":"Deere & Company"},{"$f":"RTD(\"cqg.rtd\", ,\"ContractData\",C159, \"Open\",, \"T\")","v":121.96000000000001},{"$f":"RTD(\"cqg.rtd\", ,\"ContractData\",C159, \"High\",, \"T\")","v":122.61},{"$f":"RTD(\"cqg.rtd\", ,\"ContractData\",C159, \"Low\",, \"T\")","v":121.79},{"$f":"RTD(\"cqg.rtd\", ,\"ContractData\",C159, \"LastTradeToday\",, \"T\")","v":122.47},{"$f":"RTD(\"cqg.rtd\", ,\"ContractData\",C159, \"NetLastTradeToday\",, \"T\")","v":0.34},{"$f":"IFERROR(RTD(\"cqg.rtd\", ,\"ContractData\",C159, \"PerCentNetLastTrade\",, \"T\")/100,\"\")","v":2.7839187750757386E-3},{"$f":"RTD(\"cqg.rtd\", ,\"ContractData\", C159, \"T_CVol\",, \"T\")","v":886560},159,{"$f":"IFERROR(RANK($J159,$J$1:J$607)+COUNTIF($J$1:J159,J159)-1,\"\")","v":290},"S.US.DE","S.US.LMT",{"$f":"RTD(\"cqg.rtd\", ,\"ContractData\",O159, \"PerCentNetLastTrade\",, \"T\")/100","v":7.2927144704698953E-3},"https://finance.yahoo.com/quote/LMT",null,7.2927144704698953E-3,{"$error":"#N/A"},null,{"$f":"RTD(\"cqg.rtd\", ,\"ContractData\",O159, \"LongDescription\",, \"T\")","v":"Lockheed Martin Corp"},null,null,7.2927144704698953E-3,null,1,1,null,7.2927144704698953E-3,"",""]
[null,null,"S.US.DFIN",{"$f":"RTD(\"cqg.rtd\", ,\"ContractData\",C160, \"LongDescription\",, \"T\")","v":"Donnelley Financial Solutions, Inc."},{"$f":"RTD(\"cqg.rtd\", ,\"ContractData\",C160, \"Open\",, \"T\")","v":23.43},{"$f":"RTD(\"cqg.rtd\", ,\"ContractData\",C160, \"High\",, \"T\")","v":23.66},{"$f":"RTD(\"cqg.rtd\", ,\"ContractData\",C160, \"Low\",, \"T\")","v":23},{"$f":"RTD(\"cqg.rtd\", ,\"ContractData\",C160, \"LastTradeToday\",, \"T\")","v":23.05},{"$f":"RTD(\"cqg.rtd\", ,\"ContractData\",C160, \"NetLastTradeToday\",, \"T\")","v":-0.39},{"$f":"IFERROR(RTD(\"cqg.rtd\", ,\"ContractData\",C160, \"PerCentNetLastTrade\",, \"T\")/100,\"\")","v":-1.6638225255972697E-2},{"$f":"RTD(\"cqg.rtd\", ,\"ContractData\", C160, \"T_CVol\",, \"T\")","v":45192},160,{"$f":"IFERROR(RANK($J160,$J$1:J$607)+COUNTIF($J$1:J160,J160)-1,\"\")","v":580},"S.US.DFIN","S.US.WAT",{"$f":"RTD(\"cqg.rtd\", ,\"ContractData\",O160, \"PerCentNetLastTrade\",, \"T\")/100","v":7.2685973878478137E-3},"https://finance.yahoo.com/quote/WAT",null,7.2685973878478137E-3,{"$error":"#N/A"},null,{"$f":"RTD(\"cqg.rtd\", ,\"ContractData\",O160, \"LongDescription\",, \"T\")","v":"Waters Corporation"},null,null,7.2685973878478137E-3,null,1,1,null,7.2685973878478137E-3,"",""]
[null,null,"S.US.DFS",{"$f":"RTD(\"cqg.rtd\", ,\"ContractData\",C161, \"LongDescription\",, \"T\")","v":"Discover Financial Services"},{"$f":"RTD(\"cqg.rtd\", ,\"ContractData\",C161, \"Open\",, \"T\")","v":59.74},{"$f":"RTD(\"cqg.rtd\", ,\"ContractData\",C161, \"High\",, \"T\")","v":59.910000000000004},{"$f":"RTD(\"cqg.rtd\", ,\"ContractData\",C161, \"Low\",, \"T\")","v":59.230000000000004},{"$f":"RTD(\"cqg.rtd\", ,\"ContractData\",C161, \"LastTradeToday\",, \"T\")","v":59.34},{"$f":"RTD(\"cqg.rtd\", ,\"ContractData\",C161, \"NetLastTradeToday\",, \"T\")","v":-0.4},{"$f":"IFERROR(RTD(\"cqg.rtd\", ,\"ContractData\",C161, \"PerCentNetLastTrade\",, \"T\")/100,\"\")","v":-6.6956812855708068E-3},{"$f":"RTD(\"cqg.rtd\", ,\"ContractData\", C161, \"T_CVol\",, \"T\")","v":889168},161,{"$f":"IFERROR(RANK($J161,$J$1:J$607)+COUNTIF($J$1:J161,J161)-1,\"\")","v":507},"S.US.DFS","S.US.DXCM",{"$f":"RTD(\"cqg.rtd\", ,\"ContractData\",O161, \"PerCentNetLastTrade\",, \"T\")/100","v":7.2506658774785437E-3},"https://finance.yahoo.com/quote/DXCM",null,7.2506658774785437E-3,{"$error":"#N/A"},null,{"$f":"RTD(\"cqg.rtd\", ,\"ContractData\",O161, \"LongDescription\",, \"T\")","v":"DexCom Inc"},null,null,7.2506658774785437E-3,null,1,1,null,7.2506658774785437E-3,"",""]
[null,null,"S.US.DG",{"$f":"RTD(\"cqg.rtd\", ,\"ContractData\",C162, \"LongDescription\",, \"T\")","v":"Dollar General Corporation"},{"$f":"RTD(\"cqg.rtd\", ,\"ContractData\",C162, \"Open\",, \"T\")","v":70.66},{"$f":"RTD(\"cqg.rtd\", ,\"ContractData\",C162, \"High\",, \"T\")","v":70.680000000000007},{"$f":"RTD(\"cqg.rtd\", ,\"ContractData\",C162, \"Low\",, \"T\")","v":69.14},{"$f":"RTD(\"cqg.rtd\", ,\"ContractData\",C162, \"LastTradeToday\",, \"T\")","v":70.320000000000007},{"$f":"RTD(\"cqg.rtd\", ,\"ContractData\",C162, \"NetLastTradeToday\",, \"T\")","v":-0.39},{"$f":"IFERROR(RTD(\"cqg.rtd\", ,\"ContractData\",C162, \"PerCentNetLastTrade\",, \"T\")/100,\"\")","v":-5.5154857870173945E-3},{"$f":"RTD(\"cqg.rtd\", ,\"ContractData\", C162, \"T_CVol\",, \"T\")","v":2352174},162,{"$f":"IFERROR(RANK($J162,$J$1:J$607)+COUNTIF($J$1:J162,J162)-1,\"\")","v":488},"S.US.DG","S.US.THS",{"$f":"RTD(\"cqg.rtd\", ,\"ContractData\",O162, \"PerCentNetLastTrade\",, \"T\")/100","v":7.2276716572018587E-3},"https://finance.yahoo.com/quote/THS",null,7.2276716572018587E-3,{"$error":"#N/A"},null,{"$f":"RTD(\"cqg.rtd\", ,\"ContractData\",O162, \"LongDescription\",, \"T\")","v":"TreeHouse Foods"},null,null,7.2276716572018587E-3,null,1,1,null,7.2276716572018587E-3,"",""]
[null,null,"S.US.DHI",{"$f":"RTD(\"cqg.rtd\", ,\"ContractData\",C163, \"LongDescription\",, \"T\")","v":"DR Horton Inc"},{"$f":"RTD(\"cqg.rtd\", ,\"ContractData\",C163, \"Open\",, \"T\")","v":33.270000000000003},{"$f":"RTD(\"cqg.rtd\", ,\"ContractData\",C163, \"High\",, \"T\")","v":33.42},{"$f":"RTD(\"cqg.rtd\", ,\"ContractData\",C163, \"Low\",, \"T\")","v":32.99},{"$f":"RTD(\"cqg.rtd\", ,\"ContractData\",C163, \"LastTradeToday\",, \"T\")","v":33.340000000000003},{"$f":"RTD(\"cqg.rtd\", ,\"ContractData\",C163, \"NetLastTradeToday\",, \"T\")","v":-0.03},{"$f":"IFERROR(RTD(\"cqg.rtd\", ,\"ContractData\",C163, \"PerCentNetLastTrade\",, \"T\")/100,\"\")","v":-8.9901108780341614E-4},{"$f":"RTD(\"cqg.rtd\", ,\"ContractData\", C163, \"T_CVol\",, \"T\")","v":1725679},163,{"$f":"IFERROR(RANK($J163,$J$1:J$607)+COUNTIF($J$1:J163,J163)-1,\"\")","v":412},"S.US.DHI","S.US.FBHS",{"$f":"RTD(\"cqg.rtd\", ,\"ContractData\",O163, \"PerCentNetLastTrade\",, \"T\")/100","v":7.1873502635361767E-3},"https://finance.yahoo.com/quote/FBHS",null,7.1873502635361767E-3,{"$error":"#N/A"},null,{"$f":"RTD(\"cqg.rtd\", ,\"ContractData\",O163, \"LongDescription\",, \"T\")","v":"Fortune Brands Home & Security, Inc."},null,null,7.1873502635361767E-3,null,1,1,null,7.1873502635361767E-3,"",""]
[null,null,"S.US.DHR",{"$f":"RTD(\"cqg.rtd\", ,\"ContractData\",C164, \"LongDescription\",, \"T\")","v":"Danaher Corporation"},{"$f":"RTD(\"cqg.rtd\", ,\"ContractData\",C164, \"Open\",, \"T\")","v":84.4},{"$f":"RTD(\"cqg.rtd\", ,\"ContractData\",C164, \"High\",, \"T\")","v":84.4},{"$f":"RTD(\"cqg.rtd\", ,\"ContractData\",C164, \"Low\",, \"T\")","v":83.81},{"$f":"RTD(\"cqg.rtd\", ,\"ContractData\",C164, \"LastTradeToday\",, \"T\")","v":84.01},{"$f":"RTD(\"cqg.rtd\", ,\"ContractData\",C164, \"NetLastTradeToday\",, \"T\")","v":0.06},{"$f":"IFERROR(RTD(\"cqg.rtd\", ,\"ContractData\",C164, \"PerCentNetLastTrade\",, \"T\")/100,\"\")","v":7.1471113758189405E-4},{"$f":"RTD(\"cqg.rtd\", ,\"ContractData\", C164, \"T_CVol\",, \"T\")","v":1149739},164,{"$f":"IFERROR(RANK($J164,$J$1:J$607)+COUNTIF($J$1:J164,J164)-1,\"\")","v":363},"S.US.DHR","S.US.BA",{"$f":"RTD(\"cqg.rtd\", ,\"ContractData\",O164, \"PerCentNetLastTrade\",, \"T\")/100","v":7.1393536432503134E-3},"https://finance.yahoo.com/quote/BA",null,7.1393536432503134E-3,{"$error":"#N/A"},null,{"$f":"RTD(\"cqg.rtd\", ,\"ContractData\",O164, \"LongDescription\",, \"T\")","v":"Boeing Company"},null,null,7.1393536432503134E-3,null,1,1,null,7.1393536432503134E-3,"",""]
[null,null,"S.US.DIS",{"$f":"RTD(\"cqg.rtd\", ,\"ContractData\",C165, \"LongDescription\",, \"T\")","v":"Disney (Walt) Company"},{"$f":"RTD(\"cqg.rtd\", ,\"ContractData\",C165, \"Open\",, \"T\")","v":107.15},{"$f":"RTD(\"cqg.rtd\", ,\"ContractData\",C165, \"High\",, \"T\")","v":107.77},{"$f":"RTD(\"cqg.rtd\", ,\"ContractData\",C165, \"Low\",, \"T\")","v":106.93},{"$f":"RTD(\"cqg.rtd\", ,\"ContractData\",C165, \"LastTradeToday\",, \"T\")","v":107.76},{"$f":"RTD(\"cqg.rtd\", ,\"ContractData\",C165, \"NetLastTradeToday\",, \"T\")","v":0.74},{"$f":"IFERROR(RTD(\"cqg.rtd\", ,\"ContractData\",C165, \"PerCentNetLastTrade\",, \"T\")/100,\"\")","v":6.9145954027284616E-3},{"$f":"RTD(\"cqg.rtd\", ,\"ContractData\", C165, \"T_CVol\",, \"T\")","v":2368156},165,{"$f":"IFERROR(RANK($J165,$J$1:J$607)+COUNTIF($J$1:J165,J165)-1,\"\")","v":172},"S.US.DIS","S.US.DVMT",{"$f":"RTD(\"cqg.rtd\", ,\"ContractData\",O165, \"PerCentNetLastTrade\",, \"T\")/100","v":7.1237756010685662E-3},"https://finance.yahoo.com/quote/DVMT",null,7.1237756010685662E-3,{"$error":"#N/A"},null,{"$f":"RTD(\"cqg.rtd\", ,\"ContractData\",O165, \"LongDescription\",, \"T\")","v":"Dell Technologies Inc."},null,null,7.1237756010685662E-3,null,1,1,null,7.1237756010685662E-3,"",""]
[null,null,"S.US.DISCA",{"$f":"RTD(\"cqg.rtd\", ,\"ContractData\",C166, \"LongDescription\",, \"T\")","v":"Discovery Holding Channel Common A"},{"$f":"RTD(\"cqg.rtd\", ,\"ContractData\",C166, \"Open\",, \"T\")","v":25.73},{"$f":"RTD(\"cqg.rtd\", ,\"ContractData\",C166, \"High\",, \"T\")","v":25.8},{"$f":"RTD(\"cqg.rtd\", ,\"ContractData\",C166, \"Low\",, \"T\")","v":25.330000000000002},{"$f":"RTD(\"cqg.rtd\", ,\"ContractData\",C166, \"LastTradeToday\",, \"T\")","v":25.35},{"$f":"RTD(\"cqg.rtd\", ,\"ContractData\",C166, \"NetLastTradeToday\",, \"T\")","v":-0.28000000000000003},{"$f":"IFERROR(RTD(\"cqg.rtd\", ,\"ContractData\",C166, \"PerCentNetLastTrade\",, \"T\")/100,\"\")","v":-1.0924697619976588E-2},{"$f":"RTD(\"cqg.rtd\", ,\"ContractData\", C166, \"T_CVol\",, \"T\")","v":1113504},166,{"$f":"IFERROR(RANK($J166,$J$1:J$607)+COUNTIF($J$1:J166,J166)-1,\"\")","v":552},"S.US.DISCA","S.US.MKC",{"$f":"RTD(\"cqg.rtd\", ,\"ContractData\",O166, \"PerCentNetLastTrade\",, \"T\")/100","v":7.1198673558958356E-3},"https://finance.yahoo.com/quote/MKC",null,7.1198673558958356E-3,{"$error":"#N/A"},null,{"$f":"RTD(\"cqg.rtd\", ,\"ContractData\",O166, \"LongDescription\",, \"T\")","v":"McCormick & Company Inc"},null,null,7.1198673558958356E-3,null,1,1,null,7.1198673558958356E-3,"",""]
[null,null,"S.US.DISCK",{"$f":"RTD(\"cqg.rtd\", ,\"ContractData\",C167, \"LongDescription\",, \"T\")","v":"Discovery Communications Inc."},{"$f":"RTD(\"cqg.rtd\", ,\"ContractData\",C167, \"Open\",, \"T\")","v":25.060000000000002},{"$f":"RTD(\"cqg.rtd\", ,\"ContractData\",C167, \"High\",, \"T\")","v":25.13},{"$f":"RTD(\"cqg.rtd\", ,\"ContractData\",C167, \"Low\",, \"T\")","v":24.75},{"$f":"RTD(\"cqg.rtd\", ,\"ContractData\",C167, \"LastTradeToday\",, \"T\")","v":24.77},{"$f":"RTD(\"cqg.rtd\", ,\"ContractData\",C167, \"NetLastTradeToday\",, \"T\")","v":-0.2},{"$f":"IFERROR(RTD(\"cqg.rtd\", ,\"ContractData\",C167, \"PerCentNetLastTrade\",, \"T\")/100,\"\")","v":-8.0096115338406087E-3},{"$f":"RTD(\"cqg.rtd\", ,\"ContractData\", C167, \"T_CVol\",, \"T\")","v":753386},167,{"$f":"IFERROR(RANK($J167,$J$1:J$607)+COUNTIF($J$1:J167,J167)-1,\"\")","v":522},{"$f":"C167","v":"S.US.DISCK"},"S.US.CLX",{"$f":"RTD(\"cqg.rtd\", ,\"ContractData\",O167, \"PerCentNetLastTrade\",, \"T\")/100","v":6.9866342648845694E-3},"https://finance.yahoo.com/quote/CLX",null,{"$f":"IF(P167>=0,P167,NA())","v":6.9866342648845694E-3},{"$f":"IF(P167>=0,NA(),-1*P167)","v":{"$error":"#N/A"}},null,{"$f":"RTD(\"cqg.rtd\", ,\"ContractData\",O167, \"LongDescription\",, \"T\")","v":"Clorox Company"},null,null,{"$f":"IFERROR(S167,P167)","v":6.9866342648845694E-3},null,{"$f":"IF(S167=\"NA()\",0,1)","v":1},{"$f":"IFERROR(AA167,0)","v":1},null,{"$f":"IFERROR(S167,\"\")","v":6.9866342648845694E-3},{"$f":"IFERROR(T167,\"\")","v":""},{"$f":"IF(AE167=\"\",\"\",Y167)","v":""}]
[null,null,"S.US.DISH",{"$f":"RTD(\"cqg.rtd\", ,\"ContractData\",C168, \"LongDescription\",, \"T\")","v":"DISH Network Corp."},{"$f":"RTD(\"cqg.rtd\", ,\"ContractData\",C168, \"Open\",, \"T\")","v":63.53},{"$f":"RTD(\"cqg.rtd\", ,\"ContractData\",C168, \"High\",, \"T\")","v":63.83},{"$f":"RTD(\"cqg.rtd\", ,\"ContractData\",C168, \"Low\",, \"T\")","v":61.620000000000005},{"$f":"RTD(\"cqg.rtd\", ,\"ContractData\",C168, \"LastTradeToday\",, \"T\")","v":63.43},{"$f":"RTD(\"cqg.rtd\", ,\"ContractData\",C168, \"NetLastTradeToday\",, \"T\")","v":-0.43},{"$f":"IFERROR(RTD(\"cqg.rtd\", ,\"ContractData\",C168, \"PerCentNetLastTrade\",, \"T\")/100,\"\")","v":-6.7334794863764483E-3},{"$f":"RTD(\"cqg.rtd\", ,\"ContractData\", C168, \"T_CVol\",, \"T\")","v":2332062},168,{"$f":"IFERROR(RANK($J168,$J$1:J$607)+COUNTIF($J$1:J168,J168)-1,\"\")","v":508},"S.US.DISH","S.US.HRI",{"$f":"RTD(\"cqg.rtd\", ,\"ContractData\",O168, \"PerCentNetLastTrade\",, \"T\")/100","v":6.9463739927757709E-3},"https://finance.yahoo.com/quote/HRI",null,6.9463739927757709E-3,{"$error":"#N/A"},null,{"$f":"RTD(\"cqg.rtd\", ,\"ContractData\",O168, \"LongDescription\",, \"T\")","v":"Herc Holdings Inc."},null,null,6.9463739927757709E-3,null,1,1,null,6.9463739927757709E-3,"",""]
[null,null,"S.US.DKS",{"$f":"RTD(\"cqg.rtd\", ,\"ContractData\",C169, \"LongDescription\",, \"T\")","v":"Dicks Sporting Goods Inc."},{"$f":"RTD(\"cqg.rtd\", ,\"ContractData\",C169, \"Open\",, \"T\")","v":41.44},{"$f":"RTD(\"cqg.rtd\", ,\"ContractData\",C169, \"High\",, \"T\")","v":41.84},{"$f":"RTD(\"cqg.rtd\", ,\"ContractData\",C169, \"Low\",, \"T\")","v":41.27},{"$f":"RTD(\"cqg.rtd\", ,\"ContractData\",C169, \"LastTradeToday\",, \"T\")","v":41.74},{"$f":"RTD(\"cqg.rtd\", ,\"ContractData\",C169, \"NetLastTradeToday\",, \"T\")","v":0.31},{"$f":"IFERROR(RTD(\"cqg.rtd\", ,\"ContractData\",C169, \"PerCentNetLastTrade\",, \"T\")/100,\"\")","v":7.4825006034274673E-3},{"$f":"RTD(\"cqg.rtd\", ,\"ContractData\", C169, \"T_CVol\",, \"T\")","v":1026530},169,{"$f":"IFERROR(RANK($J169,$J$1:J$607)+COUNTIF($J$1:J169,J169)-1,\"\")","v":152},"S.US.DKS","S.US.CDW",{"$f":"RTD(\"cqg.rtd\", ,\"ContractData\",O169, \"PerCentNetLastTrade\",, \"T\")/100","v":6.9360152592335697E-3},"https://finance.yahoo.com/quote/CDW",null,6.9360152592335697E-3,{"$error":"#N/A"},null,{"$f":"RTD(\"cqg.rtd\", ,\"ContractData\",O169, \"LongDescription\",, \"T\")","v":"CDW Corporation"},null,null,6.9360152592335697E-3,null,1,1,null,6.9360152592335697E-3,"",""]
[null,null,"S.US.DLPH",{"$f":"RTD(\"cqg.rtd\", ,\"ContractData\",C170, \"LongDescription\",, \"T\")","v":"Delphi Automotive PLC"},{"$f":"RTD(\"cqg.rtd\", ,\"ContractData\",C170, \"Open\",, \"T\")","v":86.43},{"$f":"RTD(\"cqg.rtd\", ,\"ContractData\",C170, \"High\",, \"T\")","v":86.570000000000007},{"$f":"RTD(\"cqg.rtd\", ,\"ContractData\",C170, \"Low\",, \"T\")","v":85.820000000000007},{"$f":"RTD(\"cqg.rtd\", ,\"ContractData\",C170, \"LastTradeToday\",, \"T\")","v":86.29},{"$f":"RTD(\"cqg.rtd\", ,\"ContractData\",C170, \"NetLastTradeToday\",, \"T\")","v":-0.11},{"$f":"IFERROR(RTD(\"cqg.rtd\", ,\"ContractData\",C170, \"PerCentNetLastTrade\",, \"T\")/100,\"\")","v":-1.2731481481481483E-3},{"$f":"RTD(\"cqg.rtd\", ,\"ContractData\", C170, \"T_CVol\",, \"T\")","v":670676},170,{"$f":"IFERROR(RANK($J170,$J$1:J$607)+COUNTIF($J$1:J170,J170)-1,\"\")","v":421},"S.US.DLPH","S.US.KLAC",{"$f":"RTD(\"cqg.rtd\", ,\"ContractData\",O170, \"PerCentNetLastTrade\",, \"T\")/100","v":6.9275051224509708E-3},"https://finance.yahoo.com/quote/KLAC",null,6.9275051224509708E-3,{"$error":"#N/A"},null,{"$f":"RTD(\"cqg.rtd\", ,\"ContractData\",O170, \"LongDescription\",, \"T\")","v":"KLA-Tencor"},null,null,6.9275051224509708E-3,null,1,1,null,6.9275051224509708E-3,"",""]
[null,null,"S.US.DLR",{"$f":"RTD(\"cqg.rtd\", ,\"ContractData\",C171, \"LongDescription\",, \"T\")","v":"Digital Realty"},{"$f":"RTD(\"cqg.rtd\", ,\"ContractData\",C171, \"Open\",, \"T\")","v":116.32000000000001},{"$f":"RTD(\"cqg.rtd\", ,\"ContractData\",C171, \"High\",, \"T\")","v":117.76},{"$f":"RTD(\"cqg.rtd\", ,\"ContractData\",C171, \"Low\",, \"T\")","v":116.32000000000001},{"$f":"RTD(\"cqg.rtd\", ,\"ContractData\",C171, \"LastTradeToday\",, \"T\")","v":117.43},{"$f":"RTD(\"cqg.rtd\", ,\"ContractData\",C171, \"NetLastTradeToday\",, \"T\")","v":1.24},{"$f":"IFERROR(RTD(\"cqg.rtd\", ,\"ContractData\",C171, \"PerCentNetLastTrade\",, \"T\")/100,\"\")","v":1.0672174885962647E-2},{"$f":"RTD(\"cqg.rtd\", ,\"ContractData\", C171, \"T_CVol\",, \"T\")","v":299254},171,{"$f":"IFERROR(RANK($J171,$J$1:J$607)+COUNTIF($J$1:J171,J171)-1,\"\")","v":94},"S.US.DLR","S.US.GNTX",{"$f":"RTD(\"cqg.rtd\", ,\"ContractData\",O171, \"PerCentNetLastTrade\",, \"T\")/100","v":6.9222577209797657E-3},"https://finance.yahoo.com/quote/GNTX",null,6.9222577209797657E-3,{"$error":"#N/A"},null,{"$f":"RTD(\"cqg.rtd\", ,\"ContractData\",O171, \"LongDescription\",, \"T\")","v":"Gentex Corporation"},null,null,6.9222577209797657E-3,null,1,1,null,6.9222577209797657E-3,"",""]
[null,null,"S.US.DLTR",{"$f":"RTD(\"cqg.rtd\", ,\"ContractData\",C172, \"LongDescription\",, \"T\")","v":"Dollar Tree Stores"},{"$f":"RTD(\"cqg.rtd\", ,\"ContractData\",C172, \"Open\",, \"T\")","v":78.86},{"$f":"RTD(\"cqg.rtd\", ,\"ContractData\",C172, \"High\",, \"T\")","v":79.14},{"$f":"RTD(\"cqg.rtd\", ,\"ContractData\",C172, \"Low\",, \"T\")","v":76.72},{"$f":"RTD(\"cqg.rtd\", ,\"ContractData\",C172, \"LastTradeToday\",, \"T\")","v":78.210000000000008},{"$f":"RTD(\"cqg.rtd\", ,\"ContractData\",C172, \"NetLastTradeToday\",, \"T\")","v":-0.64},{"$f":"IFERROR(RTD(\"cqg.rtd\", ,\"ContractData\",C172, \"PerCentNetLastTrade\",, \"T\")/100,\"\")","v":-8.1166772352568167E-3},{"$f":"RTD(\"cqg.rtd\", ,\"ContractData\", C172, \"T_CVol\",, \"T\")","v":2952993},172,{"$f":"IFERROR(RANK($J172,$J$1:J$607)+COUNTIF($J$1:J172,J172)-1,\"\")","v":524},"S.US.DLTR","S.US.DIS",{"$f":"RTD(\"cqg.rtd\", ,\"ContractData\",O172, \"PerCentNetLastTrade\",, \"T\")/100","v":6.9145954027284616E-3},"https://finance.yahoo.com/quote/DIS",null,6.9145954027284616E-3,{"$error":"#N/A"},null,{"$f":"RTD(\"cqg.rtd\", ,\"ContractData\",O172, \"LongDescription\",, \"T\")","v":"Disney (Walt) Company"},null,null,6.9145954027284616E-3,null,1,1,null,6.9145954027284616E-3,"",""]
[null,null,"S.US.DNB",{"$f":"RTD(\"cqg.rtd\", ,\"ContractData\",C173, \"LongDescription\",, \"T\")","v":"Dun & Bradstreet Corp"},{"$f":"RTD(\"cqg.rtd\", ,\"ContractData\",C173, \"Open\",, \"T\")","v":105.61},{"$f":"RTD(\"cqg.rtd\", ,\"ContractData\",C173, \"High\",, \"T\")","v":106.01},{"$f":"RTD(\"cqg.rtd\", ,\"ContractData\",C173, \"Low\",, \"T\")","v":105.12},{"$f":"RTD(\"cqg.rtd\", ,\"ContractData\",C173, \"LastTradeToday\",, \"T\")","v":105.3},{"$f":"RTD(\"cqg.rtd\", ,\"ContractData\",C173, \"NetLastTradeToday\",, \"T\")","v":-0.43},{"$f":"IFERROR(RTD(\"cqg.rtd\", ,\"ContractData\",C173, \"PerCentNetLastTrade\",, \"T\")/100,\"\")","v":-4.0669630190106878E-3},{"$f":"RTD(\"cqg.rtd\", ,\"ContractData\", C173, \"T_CVol\",, \"T\")","v":127800},173,{"$f":"IFERROR(RANK($J173,$J$1:J$607)+COUNTIF($J$1:J173,J173)-1,\"\")","v":470},"S.US.DNB","S.US.DRI",{"$f":"RTD(\"cqg.rtd\", ,\"ContractData\",O173, \"PerCentNetLastTrade\",, \"T\")/100","v":6.8097876269621431E-3},"https://finance.yahoo.com/quote/DRI",null,6.8097876269621431E-3,{"$error":"#N/A"},null,{"$f":"RTD(\"cqg.rtd\", ,\"ContractData\",O173, \"LongDescription\",, \"T\")","v":"Darden Restaurants Inc"},null,null,6.8097876269621431E-3,null,1,1,null,6.8097876269621431E-3,"",""]
[null,null,"S.US.DNKN",{"$f":"RTD(\"cqg.rtd\", ,\"ContractData\",C174, \"LongDescription\",, \"T\")","v":"Dunkin' Brands Group, Inc."},{"$f":"RTD(\"cqg.rtd\", ,\"ContractData\",C174, \"Open\",, \"T\")","v":55.72},{"$f":"RTD(\"cqg.rtd\", ,\"ContractData\",C174, \"High\",, \"T\")","v":56.65},{"$f":"RTD(\"cqg.rtd\", ,\"ContractData\",C174, \"Low\",, \"T\")","v":55.46},{"$f":"RTD(\"cqg.rtd\", ,\"ContractData\",C174, \"LastTradeToday\",, \"T\")","v":56.64},{"$f":"RTD(\"cqg.rtd\", ,\"ContractData\",C174, \"NetLastTradeToday\",, \"T\")","v":0.93},{"$f":"IFERROR(RTD(\"cqg.rtd\", ,\"ContractData\",C174, \"PerCentNetLastTrade\",, \"T\")/100,\"\")","v":1.6693591814754983E-2},{"$f":"RTD(\"cqg.rtd\", ,\"ContractData\", C174, \"T_CVol\",, \"T\")","v":480870},174,{"$f":"IFERROR(RANK($J174,$J$1:J$607)+COUNTIF($J$1:J174,J174)-1,\"\")","v":43},"S.US.DNKN","S.US.EEFT",{"$f":"RTD(\"cqg.rtd\", ,\"ContractData\",O174, \"PerCentNetLastTrade\",, \"T\")/100","v":6.7994751282357147E-3},"https://finance.yahoo.com/quote/EEFT",null,6.7994751282357147E-3,{"$error":"#N/A"},null,{"$f":"RTD(\"cqg.rtd\", ,\"ContractData\",O174, \"LongDescription\",, \"T\")","v":"Euronet Worldwide Inc"},null,null,6.7994751282357147E-3,null,1,1,null,6.7994751282357147E-3,"",""]
[null,null,"S.US.DPS",{"$f":"RTD(\"cqg.rtd\", ,\"ContractData\",C175, \"LongDescription\",, \"T\")","v":"Dr Pepper Snapple Group, Inc"},{"$f":"RTD(\"cqg.rtd\", ,\"ContractData\",C175, \"Open\",, \"T\")","v":92.27},{"$f":"RTD(\"cqg.rtd\", ,\"ContractData\",C175, \"High\",, \"T\")","v":93.460000000000008},{"$f":"RTD(\"cqg.rtd\", ,\"ContractData\",C175, \"Low\",, \"T\")","v":91.98},{"$f":"RTD(\"cqg.rtd\", ,\"ContractData\",C175, \"LastTradeToday\",, \"T\")","v":93.41},{"$f":"RTD(\"cqg.rtd\", ,\"ContractData\",C175, \"NetLastTradeToday\",, \"T\")","v":1.51},{"$f":"IFERROR(RTD(\"cqg.rtd\", ,\"ContractData\",C175, \"PerCentNetLastTrade\",, \"T\")/100,\"\")","v":1.6430903155603919E-2},{"$f":"RTD(\"cqg.rtd\", ,\"ContractData\", C175, \"T_CVol\",, \"T\")","v":506602},175,{"$f":"IFERROR(RANK($J175,$J$1:J$607)+COUNTIF($J$1:J175,J175)-1,\"\")","v":46},"S.US.DPS","S.US.MSCI",{"$f":"RTD(\"cqg.rtd\", ,\"ContractData\",O175, \"PerCentNetLastTrade\",, \"T\")/100","v":6.7738347993125062E-3},"https://finance.yahoo.com/quote/MSCI",null,6.7738347993125062E-3,{"$error":"#N/A"},null,{"$f":"RTD(\"cqg.rtd\", ,\"ContractData\",O175, \"LongDescription\",, \"T\")","v":"MSCI, Inc."},null,null,6.7738347993125062E-3,null,1,1,null,6.7738347993125062E-3,"",""]
[null,null,"S.US.DPZ",{"$f":"RTD(\"cqg.rtd\", ,\"ContractData\",C176, \"LongDescription\",, \"T\")","v":"Dominos Pizza, Inc."},{"$f":"RTD(\"cqg.rtd\", ,\"ContractData\",C176, \"Open\",, \"T\")","v":199.48000000000002},{"$f":"RTD(\"cqg.rtd\", ,\"ContractData\",C176, \"High\",, \"T\")","v":205.31},{"$f":"RTD(\"cqg.rtd\", ,\"ContractData\",C176, \"Low\",, \"T\")","v":199.48000000000002},{"$f":"RTD(\"cqg.rtd\", ,\"ContractData\",C176, \"LastTradeToday\",, \"T\")","v":205.16},{"$f":"RTD(\"cqg.rtd\", ,\"ContractData\",C176, \"NetLastTradeToday\",, \"T\")","v":5.91},{"$f":"IFERROR(RTD(\"cqg.rtd\", ,\"ContractData\",C176, \"PerCentNetLastTrade\",, \"T\")/100,\"\")","v":2.9661229611041406E-2},{"$f":"RTD(\"cqg.rtd\", ,\"ContractData\", C176, \"T_CVol\",, \"T\")","v":554107},176,{"$f":"IFERROR(RANK($J176,$J$1:J$607)+COUNTIF($J$1:J176,J176)-1,\"\")","v":11},"S.US.DPZ","S.US.ADS",{"$f":"RTD(\"cqg.rtd\", ,\"ContractData\",O176, \"PerCentNetLastTrade\",, \"T\")/100","v":6.7736336310909783E-3},"https://finance.yahoo.com/quote/ADS",null,6.7736336310909783E-3,{"$error":"#N/A"},null,{"$f":"RTD(\"cqg.rtd\", ,\"ContractData\",O176, \"LongDescription\",, \"T\")","v":"Alliance Data Systems Corp"},null,null,6.7736336310909783E-3,null,1,1,null,6.7736336310909783E-3,"",""]
[null,null,"S.US.DRI",{"$f":"RTD(\"cqg.rtd\", ,\"ContractData\",C177, \"LongDescription\",, \"T\")","v":"Darden Restaurants Inc"},{"$f":"RTD(\"cqg.rtd\", ,\"ContractData\",C177, \"Open\",, \"T\")","v":86.9},{"$f":"RTD(\"cqg.rtd\", ,\"ContractData\",C177, \"High\",, \"T\")","v":87.36},{"$f":"RTD(\"cqg.rtd\", ,\"ContractData\",C177, \"Low\",, \"T\")","v":86.52},{"$f":"RTD(\"cqg.rtd\", ,\"ContractData\",C177, \"LastTradeToday\",, \"T\")","v":87.23},{"$f":"RTD(\"cqg.rtd\", ,\"ContractData\",C177, \"NetLastTradeToday\",, \"T\")","v":0.59},{"$f":"IFERROR(RTD(\"cqg.rtd\", ,\"ContractData\",C177, \"PerCentNetLastTrade\",, \"T\")/100,\"\")","v":6.8097876269621431E-3},{"$f":"RTD(\"cqg.rtd\", ,\"ContractData\", C177, \"T_CVol\",, \"T\")","v":329005},177,{"$f":"IFERROR(RANK($J177,$J$1:J$607)+COUNTIF($J$1:J177,J177)-1,\"\")","v":173},"S.US.DRI","S.US.CTSH",{"$f":"RTD(\"cqg.rtd\", ,\"ContractData\",O177, \"PerCentNetLastTrade\",, \"T\")/100","v":6.6656567186789886E-3},"https://finance.yahoo.com/quote/CTSH",null,6.6656567186789886E-3,{"$error":"#N/A"},null,{"$f":"RTD(\"cqg.rtd\", ,\"ContractData\",O177, \"LongDescription\",, \"T\")","v":"Cognizant Tech Solutions Corp"},null,null,6.6656567186789886E-3,null,1,1,null,6.6656567186789886E-3,"",""]
[null,null,"S.US.DST",{"$f":"RTD(\"cqg.rtd\", ,\"ContractData\",C178, \"LongDescription\",, \"T\")","v":"DST Systems"},{"$f":"RTD(\"cqg.rtd\", ,\"ContractData\",C178, \"Open\",, \"T\")","v":118.02},{"$f":"RTD(\"cqg.rtd\", ,\"ContractData\",C178, \"High\",, \"T\")","v":118.83},{"$f":"RTD(\"cqg.rtd\", ,\"ContractData\",C178, \"Low\",, \"T\")","v":117.44},{"$f":"RTD(\"cqg.rtd\", ,\"ContractData\",C178, \"LastTradeToday\",, \"T\")","v":118.72},{"$f":"RTD(\"cqg.rtd\", ,\"ContractData\",C178, \"NetLastTradeToday\",, \"T\")","v":0.23},{"$f":"IFERROR(RTD(\"cqg.rtd\", ,\"ContractData\",C178, \"PerCentNetLastTrade\",, \"T\")/100,\"\")","v":1.9410920752806144E-3},{"$f":"RTD(\"cqg.rtd\", ,\"ContractData\", C178, \"T_CVol\",, \"T\")","v":60611},178,{"$f":"IFERROR(RANK($J178,$J$1:J$607)+COUNTIF($J$1:J178,J178)-1,\"\")","v":321},"S.US.DST","S.US.TSS",{"$f":"RTD(\"cqg.rtd\", ,\"ContractData\",O178, \"PerCentNetLastTrade\",, \"T\")/100","v":6.636038795303726E-3},"https://finance.yahoo.com/quote/TSS",null,6.636038795303726E-3,{"$error":"#N/A"},null,{"$f":"RTD(\"cqg.rtd\", ,\"ContractData\",O178, \"LongDescription\",, \"T\")","v":"Total Systems Services Inc"},null,null,6.636038795303726E-3,null,1,1,null,6.636038795303726E-3,"",""]
[null,null,"S.US.DVA",{"$f":"RTD(\"cqg.rtd\", ,\"ContractData\",C179, \"LongDescription\",, \"T\")","v":"DaVita Inc."},{"$f":"RTD(\"cqg.rtd\", ,\"ContractData\",C179, \"Open\",, \"T\")","v":64.989999999999995},{"$f":"RTD(\"cqg.rtd\", ,\"ContractData\",C179, \"High\",, \"T\")","v":65.05},{"$f":"RTD(\"cqg.rtd\", ,\"ContractData\",C179, \"Low\",, \"T\")","v":64.53},{"$f":"RTD(\"cqg.rtd\", ,\"ContractData\",C179, \"LastTradeToday\",, \"T\")","v":64.710000000000008},{"$f":"RTD(\"cqg.rtd\", ,\"ContractData\",C179, \"NetLastTradeToday\",, \"T\")","v":-0.17},{"$f":"IFERROR(RTD(\"cqg.rtd\", ,\"ContractData\",C179, \"PerCentNetLastTrade\",, \"T\")/100,\"\")","v":-2.6202219482120838E-3},{"$f":"RTD(\"cqg.rtd\", ,\"ContractData\", C179, \"T_CVol\",, \"T\")","v":644618},179,{"$f":"IFERROR(RANK($J179,$J$1:J$607)+COUNTIF($J$1:J179,J179)-1,\"\")","v":443},"S.US.DVA","S.US.P",{"$f":"RTD(\"cqg.rtd\", ,\"ContractData\",O179, \"PerCentNetLastTrade\",, \"T\")/100","v":6.5645514223194746E-3},"https://finance.yahoo.com/quote/P",null,6.5645514223194746E-3,{"$error":"#N/A"},null,{"$f":"RTD(\"cqg.rtd\", ,\"ContractData\",O179, \"LongDescription\",, \"T\")","v":"Pandora Media, Inc."},null,null,6.5645514223194746E-3,null,1,1,null,6.5645514223194746E-3,"",""]
[null,null,"S.US.DVMT",{"$f":"RTD(\"cqg.rtd\", ,\"ContractData\",C180, \"LongDescription\",, \"T\")","v":"Dell Technologies Inc."},{"$f":"RTD(\"cqg.rtd\", ,\"ContractData\",C180, \"Open\",, \"T\")","v":67.59},{"$f":"RTD(\"cqg.rtd\", ,\"ContractData\",C180, \"High\",, \"T\")","v":67.92},{"$f":"RTD(\"cqg.rtd\", ,\"ContractData\",C180, \"Low\",, \"T\")","v":67.37},{"$f":"RTD(\"cqg.rtd\", ,\"ContractData\",C180, \"LastTradeToday\",, \"T\")","v":67.86},{"$f":"RTD(\"cqg.rtd\", ,\"ContractData\",C180, \"NetLastTradeToday\",, \"T\")","v":0.48},{"$f":"IFERROR(RTD(\"cqg.rtd\", ,\"ContractData\",C180, \"PerCentNetLastTrade\",, \"T\")/100,\"\")","v":7.1237756010685662E-3},{"$f":"RTD(\"cqg.rtd\", ,\"ContractData\", C180, \"T_CVol\",, \"T\")","v":710335},180,{"$f":"IFERROR(RANK($J180,$J$1:J$607)+COUNTIF($J$1:J180,J180)-1,\"\")","v":165},"S.US.DVMT","S.US.BAX",{"$f":"RTD(\"cqg.rtd\", ,\"ContractData\",O180, \"PerCentNetLastTrade\",, \"T\")/100","v":6.560773480662984E-3},"https://finance.yahoo.com/quote/BAX",null,6.560773480662984E-3,{"$error":"#N/A"},null,{"$f":"RTD(\"cqg.rtd\", ,\"ContractData\",O180, \"LongDescription\",, \"T\")","v":"Baxter International Inc"},null,null,6.560773480662984E-3,null,1,1,null,6.560773480662984E-3,"",""]
[null,null,"S.US.DVN",{"$f":"RTD(\"cqg.rtd\", ,\"ContractData\",C181, \"LongDescription\",, \"T\")","v":"Devon Energy Corp"},{"$f":"RTD(\"cqg.rtd\", ,\"ContractData\",C181, \"Open\",, \"T\")","v":37.630000000000003},{"$f":"RTD(\"cqg.rtd\", ,\"ContractData\",C181, \"High\",, \"T\")","v":37.880000000000003},{"$f":"RTD(\"cqg.rtd\", ,\"ContractData\",C181, \"Low\",, \"T\")","v":36.75},{"$f":"RTD(\"cqg.rtd\", ,\"ContractData\",C181, \"LastTradeToday\",, \"T\")","v":36.950000000000003},{"$f":"RTD(\"cqg.rtd\", ,\"ContractData\",C181, \"NetLastTradeToday\",, \"T\")","v":-0.87},{"$f":"IFERROR(RTD(\"cqg.rtd\", ,\"ContractData\",C181, \"PerCentNetLastTrade\",, \"T\")/100,\"\")","v":-2.300370174510841E-2},{"$f":"RTD(\"cqg.rtd\", ,\"ContractData\", C181, \"T_CVol\",, \"T\")","v":3128091},181,{"$f":"IFERROR(RANK($J181,$J$1:J$607)+COUNTIF($J$1:J181,J181)-1,\"\")","v":588},"S.US.DVN","S.US.AMT",{"$f":"RTD(\"cqg.rtd\", ,\"ContractData\",O181, \"PerCentNetLastTrade\",, \"T\")/100","v":6.5252854812398045E-3},"https://finance.yahoo.com/quote/AMT",null,6.5252854812398045E-3,{"$error":"#N/A"},null,{"$f":"RTD(\"cqg.rtd\", ,\"ContractData\",O181, \"LongDescription\",, \"T\")","v":"American Tower Corp ClA"},null,null,6.5252854812398045E-3,null,1,1,null,6.5252854812398045E-3,"",""]
[null,null,"S.US.DXCM",{"$f":"RTD(\"cqg.rtd\", ,\"ContractData\",C182, \"LongDescription\",, \"T\")","v":"DexCom Inc"},{"$f":"RTD(\"cqg.rtd\", ,\"ContractData\",C182, \"Open\",, \"T\")","v":67.78},{"$f":"RTD(\"cqg.rtd\", ,\"ContractData\",C182, \"High\",, \"T\")","v":68.290000000000006},{"$f":"RTD(\"cqg.rtd\", ,\"ContractData\",C182, \"Low\",, \"T\")","v":67.11},{"$f":"RTD(\"cqg.rtd\", ,\"ContractData\",C182, \"LastTradeToday\",, \"T\")","v":68.070000000000007},{"$f":"RTD(\"cqg.rtd\", ,\"ContractData\",C182, \"NetLastTradeToday\",, \"T\")","v":0.49},{"$f":"IFERROR(RTD(\"cqg.rtd\", ,\"ContractData\",C182, \"PerCentNetLastTrade\",, \"T\")/100,\"\")","v":7.2506658774785437E-3},{"$f":"RTD(\"cqg.rtd\", ,\"ContractData\", C182, \"T_CVol\",, \"T\")","v":518262},182,{"$f":"IFERROR(RANK($J182,$J$1:J$607)+COUNTIF($J$1:J182,J182)-1,\"\")","v":161},"S.US.DXCM","S.US.MAS",{"$f":"RTD(\"cqg.rtd\", ,\"ContractData\",O182, \"PerCentNetLastTrade\",, \"T\")/100","v":6.5164268259571001E-3},"https://finance.yahoo.com/quote/MAS",null,6.5164268259571001E-3,{"$error":"#N/A"},null,{"$f":"RTD(\"cqg.rtd\", ,\"ContractData\",O182, \"LongDescription\",, \"T\")","v":"Masco Corporation"},null,null,6.5164268259571001E-3,null,1,1,null,6.5164268259571001E-3,"",""]
[null,null,"S.US.EA",{"$f":"RTD(\"cqg.rtd\", ,\"ContractData\",C183, \"LongDescription\",, \"T\")","v":"Electronic Arts"},{"$f":"RTD(\"cqg.rtd\", ,\"ContractData\",C183, \"Open\",, \"T\")","v":108.78},{"$f":"RTD(\"cqg.rtd\", ,\"ContractData\",C183, \"High\",, \"T\")","v":111.62},{"$f":"RTD(\"cqg.rtd\", ,\"ContractData\",C183, \"Low\",, \"T\")","v":108.39},{"$f":"RTD(\"cqg.rtd\", ,\"ContractData\",C183, \"LastTradeToday\",, \"T\")","v":111.53},{"$f":"RTD(\"cqg.rtd\", ,\"ContractData\",C183, \"NetLastTradeToday\",, \"T\")","v":2.52},{"$f":"IFERROR(RTD(\"cqg.rtd\", ,\"ContractData\",C183, \"PerCentNetLastTrade\",, \"T\")/100,\"\")","v":2.3117145216035223E-2},{"$f":"RTD(\"cqg.rtd\", ,\"ContractData\", C183, \"T_CVol\",, \"T\")","v":2339944},183,{"$f":"IFERROR(RANK($J183,$J$1:J$607)+COUNTIF($J$1:J183,J183)-1,\"\")","v":21},"S.US.EA","S.US.PCLN",{"$f":"RTD(\"cqg.rtd\", ,\"ContractData\",O183, \"PerCentNetLastTrade\",, \"T\")/100","v":6.4881779489479961E-3},"https://finance.yahoo.com/quote/PCLN",null,6.4881779489479961E-3,{"$error":"#N/A"},null,{"$f":"RTD(\"cqg.rtd\", ,\"ContractData\",O183, \"LongDescription\",, \"T\")","v":"The Priceline Group Inc."},null,null,6.4881779489479961E-3,null,1,1,null,6.4881779489479961E-3,"",""]
[null,null,"S.US.EAT",{"$f":"RTD(\"cqg.rtd\", ,\"ContractData\",C184, \"LongDescription\",, \"T\")","v":"Brinker Internatl Inc"},{"$f":"RTD(\"cqg.rtd\", ,\"ContractData\",C184, \"Open\",, \"T\")","v":40.07},{"$f":"RTD(\"cqg.rtd\", ,\"ContractData\",C184, \"High\",, \"T\")","v":40.21},{"$f":"RTD(\"cqg.rtd\", ,\"ContractData\",C184, \"Low\",, \"T\")","v":39.82},{"$f":"RTD(\"cqg.rtd\", ,\"ContractData\",C184, \"LastTradeToday\",, \"T\")","v":40.08},{"$f":"RTD(\"cqg.rtd\", ,\"ContractData\",C184, \"NetLastTradeToday\",, \"T\")","v":0.01},{"$f":"IFERROR(RTD(\"cqg.rtd\", ,\"ContractData\",C184, \"PerCentNetLastTrade\",, \"T\")/100,\"\")","v":2.495632642874969E-4},{"$f":"RTD(\"cqg.rtd\", ,\"ContractData\", C184, \"T_CVol\",, \"T\")","v":880380},184,{"$f":"IFERROR(RANK($J184,$J$1:J$607)+COUNTIF($J$1:J184,J184)-1,\"\")","v":376},"S.US.EAT","S.US.ZBH",{"$f":"RTD(\"cqg.rtd\", ,\"ContractData\",O184, \"PerCentNetLastTrade\",, \"T\")/100","v":6.4510652745946861E-3},"https://finance.yahoo.com/quote/ZBH",null,6.4510652745946861E-3,{"$error":"#N/A"},null,{"$f":"RTD(\"cqg.rtd\", ,\"ContractData\",O184, \"LongDescription\",, \"T\")","v":"Zimmer Biomet Holdings, Inc"},null,null,6.4510652745946861E-3,null,1,1,null,6.4510652745946861E-3,"",""]
[null,null,"S.US.EBAY",{"$f":"RTD(\"cqg.rtd\", ,\"ContractData\",C185, \"LongDescription\",, \"T\")","v":"eBay Inc"},{"$f":"RTD(\"cqg.rtd\", ,\"ContractData\",C185, \"Open\",, \"T\")","v":34.619999999999997},{"$f":"RTD(\"cqg.rtd\", ,\"ContractData\",C185, \"High\",, \"T\")","v":34.99},{"$f":"RTD(\"cqg.rtd\", ,\"ContractData\",C185, \"Low\",, \"T\")","v":34.44},{"$f":"RTD(\"cqg.rtd\", ,\"ContractData\",C185, \"LastTradeToday\",, \"T\")","v":34.71},{"$f":"RTD(\"cqg.rtd\", ,\"ContractData\",C185, \"NetLastTradeToday\",, \"T\")","v":0.1},{"$f":"IFERROR(RTD(\"cqg.rtd\", ,\"ContractData\",C185, \"PerCentNetLastTrade\",, \"T\")/100,\"\")","v":2.889338341519792E-3},{"$f":"RTD(\"cqg.rtd\", ,\"ContractData\", C185, \"T_CVol\",, \"T\")","v":5198175},185,{"$f":"IFERROR(RANK($J185,$J$1:J$607)+COUNTIF($J$1:J185,J185)-1,\"\")","v":285},"S.US.EBAY","S.US.SLGN",{"$f":"RTD(\"cqg.rtd\", ,\"ContractData\",O185, \"PerCentNetLastTrade\",, \"T\")/100","v":6.3938618925831201E-3},"https://finance.yahoo.com/quote/SLGN",null,6.3938618925831201E-3,{"$error":"#N/A"},null,{"$f":"RTD(\"cqg.rtd\", ,\"ContractData\",O185, \"LongDescription\",, \"T\")","v":"Silgan Holdings"},null,null,6.3938618925831201E-3,null,1,1,null,6.3938618925831201E-3,"",""]
[null,null,"S.US.ECL",{"$f":"RTD(\"cqg.rtd\", ,\"ContractData\",C186, \"LongDescription\",, \"T\")","v":"Ecolab Inc"},{"$f":"RTD(\"cqg.rtd\", ,\"ContractData\",C186, \"Open\",, \"T\")","v":128.30000000000001},{"$f":"RTD(\"cqg.rtd\", ,\"ContractData\",C186, \"High\",, \"T\")","v":129.78},{"$f":"RTD(\"cqg.rtd\", ,\"ContractData\",C186, \"Low\",, \"T\")","v":128.07},{"$f":"RTD(\"cqg.rtd\", ,\"ContractData\",C186, \"LastTradeToday\",, \"T\")","v":129.12},{"$f":"RTD(\"cqg.rtd\", ,\"ContractData\",C186, \"NetLastTradeToday\",, \"T\")","v":1.07},{"$f":"IFERROR(RTD(\"cqg.rtd\", ,\"ContractData\",C186, \"PerCentNetLastTrade\",, \"T\")/100,\"\")","v":8.356110894181961E-3},{"$f":"RTD(\"cqg.rtd\", ,\"ContractData\", C186, \"T_CVol\",, \"T\")","v":404551},186,{"$f":"IFERROR(RANK($J186,$J$1:J$607)+COUNTIF($J$1:J186,J186)-1,\"\")","v":131},"S.US.ECL","S.US.URBN",{"$f":"RTD(\"cqg.rtd\", ,\"ContractData\",O186, \"PerCentNetLastTrade\",, \"T\")/100","v":6.379585326953748E-3},"https://finance.yahoo.com/quote/URBN",null,6.379585326953748E-3,{"$error":"#N/A"},null,{"$f":"RTD(\"cqg.rtd\", ,\"ContractData\",O186, \"LongDescription\",, \"T\")","v":"Urban Outfitters Inc"},null,null,6.379585326953748E-3,null,1,1,null,6.379585326953748E-3,"",""]
[null,null,"S.US.EEFT",{"$f":"RTD(\"cqg.rtd\", ,\"ContractData\",C187, \"LongDescription\",, \"T\")","v":"Euronet Worldwide Inc"},{"$f":"RTD(\"cqg.rtd\", ,\"ContractData\",C187, \"Open\",, \"T\")","v":83.94},{"$f":"RTD(\"cqg.rtd\", ,\"ContractData\",C187, \"High\",, \"T\")","v":84.56},{"$f":"RTD(\"cqg.rtd\", ,\"ContractData\",C187, \"Low\",, \"T\")","v":83.62},{"$f":"RTD(\"cqg.rtd\", ,\"ContractData\",C187, \"LastTradeToday\",, \"T\")","v":84.4},{"$f":"RTD(\"cqg.rtd\", ,\"ContractData\",C187, \"NetLastTradeToday\",, \"T\")","v":0.57000000000000006},{"$f":"IFERROR(RTD(\"cqg.rtd\", ,\"ContractData\",C187, \"PerCentNetLastTrade\",, \"T\")/100,\"\")","v":6.7994751282357147E-3},{"$f":"RTD(\"cqg.rtd\", ,\"ContractData\", C187, \"T_CVol\",, \"T\")","v":76902},187,{"$f":"IFERROR(RANK($J187,$J$1:J$607)+COUNTIF($J$1:J187,J187)-1,\"\")","v":174},"S.US.EEFT","S.US.HXL",{"$f":"RTD(\"cqg.rtd\", ,\"ContractData\",O187, \"PerCentNetLastTrade\",, \"T\")/100","v":6.3605645000993838E-3},"https://finance.yahoo.com/quote/HXL",null,6.3605645000993838E-3,{"$error":"#N/A"},null,{"$f":"RTD(\"cqg.rtd\", ,\"ContractData\",O187, \"LongDescription\",, \"T\")","v":"Hexcel Corp"},null,null,6.3605645000993838E-3,null,1,1,null,6.3605645000993838E-3,"",""]
[null,null,"S.US.EFX",{"$f":"RTD(\"cqg.rtd\", ,\"ContractData\",C188, \"LongDescription\",, \"T\")","v":"Equifax Inc"},{"$f":"RTD(\"cqg.rtd\", ,\"ContractData\",C188, \"Open\",, \"T\")","v":136.75},{"$f":"RTD(\"cqg.rtd\", ,\"ContractData\",C188, \"High\",, \"T\")","v":137.32},{"$f":"RTD(\"cqg.rtd\", ,\"ContractData\",C188, \"Low\",, \"T\")","v":135.76},{"$f":"RTD(\"cqg.rtd\", ,\"ContractData\",C188, \"LastTradeToday\",, \"T\")","v":136.1},{"$f":"RTD(\"cqg.rtd\", ,\"ContractData\",C188, \"NetLastTradeToday\",, \"T\")","v":-0.66},{"$f":"IFERROR(RTD(\"cqg.rtd\", ,\"ContractData\",C188, \"PerCentNetLastTrade\",, \"T\")/100,\"\")","v":-4.8259725065808714E-3},{"$f":"RTD(\"cqg.rtd\", ,\"ContractData\", C188, \"T_CVol\",, \"T\")","v":225037},188,{"$f":"IFERROR(RANK($J188,$J$1:J$607)+COUNTIF($J$1:J188,J188)-1,\"\")","v":478},"S.US.EFX","S.US.CBS",{"$f":"RTD(\"cqg.rtd\", ,\"ContractData\",O188, \"PerCentNetLastTrade\",, \"T\")/100","v":6.3445583211322598E-3},"https://finance.yahoo.com/quote/CBS",null,6.3445583211322598E-3,{"$error":"#N/A"},null,{"$f":"RTD(\"cqg.rtd\", ,\"ContractData\",O188, \"LongDescription\",, \"T\")","v":"CBS Corporation"},null,null,6.3445583211322598E-3,null,1,1,null,6.3445583211322598E-3,"",""]
[null,null,"S.US.EL",{"$f":"RTD(\"cqg.rtd\", ,\"ContractData\",C189, \"LongDescription\",, \"T\")","v":"Estee Lauder Companies"},{"$f":"RTD(\"cqg.rtd\", ,\"ContractData\",C189, \"Open\",, \"T\")","v":92.34},{"$f":"RTD(\"cqg.rtd\", ,\"ContractData\",C189, \"High\",, \"T\")","v":92.960000000000008},{"$f":"RTD(\"cqg.rtd\", ,\"ContractData\",C189, \"Low\",, \"T\")","v":92.13},{"$f":"RTD(\"cqg.rtd\", ,\"ContractData\",C189, \"LastTradeToday\",, \"T\")","v":92.88},{"$f":"RTD(\"cqg.rtd\", ,\"ContractData\",C189, \"NetLastTradeToday\",, \"T\")","v":0.89},{"$f":"IFERROR(RTD(\"cqg.rtd\", ,\"ContractData\",C189, \"PerCentNetLastTrade\",, \"T\")/100,\"\")","v":9.6749646700728335E-3},{"$f":"RTD(\"cqg.rtd\", ,\"ContractData\", C189, \"T_CVol\",, \"T\")","v":618574},189,{"$f":"IFERROR(RANK($J189,$J$1:J$607)+COUNTIF($J$1:J189,J189)-1,\"\")","v":110},"S.US.EL","S.US.D",{"$f":"RTD(\"cqg.rtd\", ,\"ContractData\",O189, \"PerCentNetLastTrade\",, \"T\")/100","v":6.1472839041525531E-3},"https://finance.yahoo.com/quote/D",null,6.1472839041525531E-3,{"$error":"#N/A"},null,{"$f":"RTD(\"cqg.rtd\", ,\"ContractData\",O189, \"LongDescription\",, \"T\")","v":"Dominion Energy, Inc."},null,null,6.1472839041525531E-3,null,1,1,null,6.1472839041525531E-3,"",""]
[null,null,"S.US.ELS",{"$f":"RTD(\"cqg.rtd\", ,\"ContractData\",C190, \"LongDescription\",, \"T\")","v":"Equity Lifestyle Property Inc"},{"$f":"RTD(\"cqg.rtd\", ,\"ContractData\",C190, \"Open\",, \"T\")","v":85.38},{"$f":"RTD(\"cqg.rtd\", ,\"ContractData\",C190, \"High\",, \"T\")","v":85.94},{"$f":"RTD(\"cqg.rtd\", ,\"ContractData\",C190, \"Low\",, \"T\")","v":85.14},{"$f":"RTD(\"cqg.rtd\", ,\"ContractData\",C190, \"LastTradeToday\",, \"T\")","v":85.89},{"$f":"RTD(\"cqg.rtd\", ,\"ContractData\",C190, \"NetLastTradeToday\",, \"T\")","v":0.75},{"$f":"IFERROR(RTD(\"cqg.rtd\", ,\"ContractData\",C190, \"PerCentNetLastTrade\",, \"T\")/100,\"\")","v":8.8090204369274134E-3},{"$f":"RTD(\"cqg.rtd\", ,\"ContractData\", C190, \"T_CVol\",, \"T\")","v":89676},190,{"$f":"IFERROR(RANK($J190,$J$1:J$607)+COUNTIF($J$1:J190,J190)-1,\"\")","v":126},"S.US.ELS","S.US.HSY",{"$f":"RTD(\"cqg.rtd\", ,\"ContractData\",O190, \"PerCentNetLastTrade\",, \"T\")/100","v":6.0986388545165278E-3},"https://finance.yahoo.com/quote/HSY",null,6.0986388545165278E-3,{"$error":"#N/A"},null,{"$f":"RTD(\"cqg.rtd\", ,\"ContractData\",O190, \"LongDescription\",, \"T\")","v":"Hershey Foods Corp"},null,null,6.0986388545165278E-3,null,1,1,null,6.0986388545165278E-3,"",""]
[null,null,"S.US.EMR",{"$f":"RTD(\"cqg.rtd\", ,\"ContractData\",C191, \"LongDescription\",, \"T\")","v":"Emerson Electric Co"},{"$f":"RTD(\"cqg.rtd\", ,\"ContractData\",C191, \"Open\",, \"T\")","v":59.49},{"$f":"RTD(\"cqg.rtd\", ,\"ContractData\",C191, \"High\",, \"T\")","v":60.45},{"$f":"RTD(\"cqg.rtd\", ,\"ContractData\",C191, \"Low\",, \"T\")","v":59.34},{"$f":"RTD(\"cqg.rtd\", ,\"ContractData\",C191, \"LastTradeToday\",, \"T\")","v":59.72},{"$f":"RTD(\"cqg.rtd\", ,\"ContractData\",C191, \"NetLastTradeToday\",, \"T\")","v":0.48},{"$f":"IFERROR(RTD(\"cqg.rtd\", ,\"ContractData\",C191, \"PerCentNetLastTrade\",, \"T\")/100,\"\")","v":8.1026333558406483E-3},{"$f":"RTD(\"cqg.rtd\", ,\"ContractData\", C191, \"T_CVol\",, \"T\")","v":2128089},191,{"$f":"IFERROR(RANK($J191,$J$1:J$607)+COUNTIF($J$1:J191,J191)-1,\"\")","v":136},"S.US.EMR","S.US.GRPN",{"$f":"RTD(\"cqg.rtd\", ,\"ContractData\",O191, \"PerCentNetLastTrade\",, \"T\")/100","v":6.0975609756097563E-3},"https://finance.yahoo.com/quote/GRPN",null,6.0975609756097563E-3,{"$error":"#N/A"},null,{"$f":"RTD(\"cqg.rtd\", ,\"ContractData\",O191, \"LongDescription\",, \"T\")","v":"Groupon, Inc."},null,null,6.0975609756097563E-3,null,1,1,null,6.0975609756097563E-3,"",""]
[null,null,"S.US.ENR",{"$f":"RTD(\"cqg.rtd\", ,\"ContractData\",C192, \"LongDescription\",, \"T\")","v":"Energizer Holdings, Inc."},{"$f":"RTD(\"cqg.rtd\", ,\"ContractData\",C192, \"Open\",, \"T\")","v":53.56},{"$f":"RTD(\"cqg.rtd\", ,\"ContractData\",C192, \"High\",, \"T\")","v":54.230000000000004},{"$f":"RTD(\"cqg.rtd\", ,\"ContractData\",C192, \"Low\",, \"T\")","v":53.29},{"$f":"RTD(\"cqg.rtd\", ,\"ContractData\",C192, \"LastTradeToday\",, \"T\")","v":54.15},{"$f":"RTD(\"cqg.rtd\", ,\"ContractData\",C192, \"NetLastTradeToday\",, \"T\")","v":0.77},{"$f":"IFERROR(RTD(\"cqg.rtd\", ,\"ContractData\",C192, \"PerCentNetLastTrade\",, \"T\")/100,\"\")","v":1.4424878231547396E-2},{"$f":"RTD(\"cqg.rtd\", ,\"ContractData\", C192, \"T_CVol\",, \"T\")","v":165878},192,{"$f":"IFERROR(RANK($J192,$J$1:J$607)+COUNTIF($J$1:J192,J192)-1,\"\")","v":58},"S.US.ENR","S.US.KHC",{"$f":"RTD(\"cqg.rtd\", ,\"ContractData\",O192, \"PerCentNetLastTrade\",, \"T\")/100","v":6.0955698269293569E-3},"https://finance.yahoo.com/quote/KHC",null,6.0955698269293569E-3,{"$error":"#N/A"},null,{"$f":"RTD(\"cqg.rtd\", ,\"ContractData\",O192, \"LongDescription\",, \"T\")","v":"The Kraft Heinz Company"},null,null,6.0955698269293569E-3,null,1,1,null,6.0955698269293569E-3,"",""]
[null,null,"S.US.EOG",{"$f":"RTD(\"cqg.rtd\", ,\"ContractData\",C193, \"LongDescription\",, \"T\")","v":"EOG Resources"},{"$f":"RTD(\"cqg.rtd\", ,\"ContractData\",C193, \"Open\",, \"T\")","v":92.37},{"$f":"RTD(\"cqg.rtd\", ,\"ContractData\",C193, \"High\",, \"T\")","v":93.39},{"$f":"RTD(\"cqg.rtd\", ,\"ContractData\",C193, \"Low\",, \"T\")","v":92.31},{"$f":"RTD(\"cqg.rtd\", ,\"ContractData\",C193, \"LastTradeToday\",, \"T\")","v":92.54},{"$f":"RTD(\"cqg.rtd\", ,\"ContractData\",C193, \"NetLastTradeToday\",, \"T\")","v":0.01},{"$f":"IFERROR(RTD(\"cqg.rtd\", ,\"ContractData\",C193, \"PerCentNetLastTrade\",, \"T\")/100,\"\")","v":1.0807305738679347E-4},{"$f":"RTD(\"cqg.rtd\", ,\"ContractData\", C193, \"T_CVol\",, \"T\")","v":1610564},193,{"$f":"IFERROR(RANK($J193,$J$1:J$607)+COUNTIF($J$1:J193,J193)-1,\"\")","v":381},"S.US.EOG","S.US.NUS",{"$f":"RTD(\"cqg.rtd\", ,\"ContractData\",O193, \"PerCentNetLastTrade\",, \"T\")/100","v":5.9793440840732017E-3},"https://finance.yahoo.com/quote/NUS",null,5.9793440840732017E-3,{"$error":"#N/A"},null,{"$f":"RTD(\"cqg.rtd\", ,\"ContractData\",O193, \"LongDescription\",, \"T\")","v":"Nu Skin Asia Pacific Inc"},null,null,5.9793440840732017E-3,null,1,1,null,5.9793440840732017E-3,"",""]
[null,null,"S.US.EQIX",{"$f":"RTD(\"cqg.rtd\", ,\"ContractData\",C194, \"LongDescription\",, \"T\")","v":"Equinix Inc"},{"$f":"RTD(\"cqg.rtd\", ,\"ContractData\",C194, \"Open\",, \"T\")","v":434.94},{"$f":"RTD(\"cqg.rtd\", ,\"ContractData\",C194, \"High\",, \"T\")","v":441.72},{"$f":"RTD(\"cqg.rtd\", ,\"ContractData\",C194, \"Low\",, \"T\")","v":434.94},{"$f":"RTD(\"cqg.rtd\", ,\"ContractData\",C194, \"LastTradeToday\",, \"T\")","v":440.89},{"$f":"RTD(\"cqg.rtd\", ,\"ContractData\",C194, \"NetLastTradeToday\",, \"T\")","v":5.1000000000000005},{"$f":"IFERROR(RTD(\"cqg.rtd\", ,\"ContractData\",C194, \"PerCentNetLastTrade\",, \"T\")/100,\"\")","v":1.170288441680626E-2},{"$f":"RTD(\"cqg.rtd\", ,\"ContractData\", C194, \"T_CVol\",, \"T\")","v":244977},194,{"$f":"IFERROR(RANK($J194,$J$1:J$607)+COUNTIF($J$1:J194,J194)-1,\"\")","v":82},"S.US.EQIX",{"$f":"VLOOKUP($L194,$M$1:$N$607,2,FALSE)","v":"S.US.FLO"},{"$f":"RTD(\"cqg.rtd\", ,\"ContractData\",O194, \"PerCentNetLastTrade\",, \"T\")/100","v":5.9267241379310342E-3},{"$f":"\"https://finance.yahoo.com/quote/\"&RIGHT(O194,(LEN(O194)-5))","v":"https://finance.yahoo.com/quote/FLO"},null,5.9267241379310342E-3,{"$error":"#N/A"},null,{"$f":"RTD(\"cqg.rtd\", ,\"ContractData\",O194, \"LongDescription\",, \"T\")","v":"Flowers Industries Inc"},null,null,5.9267241379310342E-3,null,1,1,null,5.9267241379310342E-3,"",""]
[null,null,"S.US.ERIE",{"$f":"RTD(\"cqg.rtd\", ,\"ContractData\",C195, \"LongDescription\",, \"T\")","v":"Erie Indemnity Co"},{"$f":"RTD(\"cqg.rtd\", ,\"ContractData\",C195, \"Open\",, \"T\")","v":116.79},{"$f":"RTD(\"cqg.rtd\", ,\"ContractData\",C195, \"High\",, \"T\")","v":116.98},{"$f":"RTD(\"cqg.rtd\", ,\"ContractData\",C195, \"Low\",, \"T\")","v":115.43},{"$f":"RTD(\"cqg.rtd\", ,\"ContractData\",C195, \"LastTradeToday\",, \"T\")","v":116.29},{"$f":"RTD(\"cqg.rtd\", ,\"ContractData\",C195, \"NetLastTradeToday\",, \"T\")","v":-0.92},{"$f":"IFERROR(RTD(\"cqg.rtd\", ,\"ContractData\",C195, \"PerCentNetLastTrade\",, \"T\")/100,\"\")","v":-7.8491596280180868E-3},{"$f":"RTD(\"cqg.rtd\", ,\"ContractData\", C195, \"T_CVol\",, \"T\")","v":10491},{"$f":"L194+1","v":195},{"$f":"IFERROR(RANK($J195,$J$1:J$607)+COUNTIF($J$1:J195,J195)-1,\"\")","v":521},"S.US.ERIE","S.US.TDG",{"$f":"RTD(\"cqg.rtd\", ,\"ContractData\",O195, \"PerCentNetLastTrade\",, \"T\")/100","v":5.9252506836827709E-3},"https://finance.yahoo.com/quote/TDG",null,5.9252506836827709E-3,{"$error":"#N/A"},null,{"$f":"RTD(\"cqg.rtd\", ,\"ContractData\",O195, \"LongDescription\",, \"T\")","v":"TransDigm Group"},null,null,5.9252506836827709E-3,null,1,1,null,5.9252506836827709E-3,"",""]
[null,null,"S.US.ESRT",{"$f":"RTD(\"cqg.rtd\", ,\"ContractData\",C196, \"LongDescription\",, \"T\")","v":"Empire State Realty Trust, Inc."},{"$f":"RTD(\"cqg.rtd\", ,\"ContractData\",C196, \"Open\",, \"T\")","v":20.77},{"$f":"RTD(\"cqg.rtd\", ,\"ContractData\",C196, \"High\",, \"T\")","v":21.01},{"$f":"RTD(\"cqg.rtd\", ,\"ContractData\",C196, \"Low\",, \"T\")","v":20.75},{"$f":"RTD(\"cqg.rtd\", ,\"ContractData\",C196, \"LastTradeToday\",, \"T\")","v":20.96},{"$f":"RTD(\"cqg.rtd\", ,\"ContractData\",C196, \"NetLastTradeToday\",, \"T\")","v":0.2},{"$f":"IFERROR(RTD(\"cqg.rtd\", ,\"ContractData\",C196, \"PerCentNetLastTrade\",, \"T\")/100,\"\")","v":9.6339113680154135E-3},{"$f":"RTD(\"cqg.rtd\", ,\"ContractData\", C196, \"T_CVol\",, \"T\")","v":347802},196,{"$f":"IFERROR(RANK($J196,$J$1:J$607)+COUNTIF($J$1:J196,J196)-1,\"\")","v":111},"S.US.ESRT","S.US.GRA",{"$f":"RTD(\"cqg.rtd\", ,\"ContractData\",O196, \"PerCentNetLastTrade\",, \"T\")/100","v":5.8856502242152463E-3},"https://finance.yahoo.com/quote/GRA",null,5.8856502242152463E-3,{"$error":"#N/A"},null,{"$f":"RTD(\"cqg.rtd\", ,\"ContractData\",O196, \"LongDescription\",, \"T\")","v":"Grace (WR) & Co New"},null,null,5.8856502242152463E-3,null,1,1,null,5.8856502242152463E-3,"",""]
[null,null,"S.US.ESRX",{"$f":"RTD(\"cqg.rtd\", ,\"ContractData\",C197, \"LongDescription\",, \"T\")","v":"Express Scripts Holding Company"},{"$f":"RTD(\"cqg.rtd\", ,\"ContractData\",C197, \"Open\",, \"T\")","v":59.97},{"$f":"RTD(\"cqg.rtd\", ,\"ContractData\",C197, \"High\",, \"T\")","v":60.33},{"$f":"RTD(\"cqg.rtd\", ,\"ContractData\",C197, \"Low\",, \"T\")","v":59.6},{"$f":"RTD(\"cqg.rtd\", ,\"ContractData\",C197, \"LastTradeToday\",, \"T\")","v":59.79},{"$f":"RTD(\"cqg.rtd\", ,\"ContractData\",C197, \"NetLastTradeToday\",, \"T\")","v":-0.36},{"$f":"IFERROR(RTD(\"cqg.rtd\", ,\"ContractData\",C197, \"PerCentNetLastTrade\",, \"T\")/100,\"\")","v":-5.9850374064837905E-3},{"$f":"RTD(\"cqg.rtd\", ,\"ContractData\", C197, \"T_CVol\",, \"T\")","v":1720339},197,{"$f":"IFERROR(RANK($J197,$J$1:J$607)+COUNTIF($J$1:J197,J197)-1,\"\")","v":496},"S.US.ESRX","S.US.ARRS",{"$f":"RTD(\"cqg.rtd\", ,\"ContractData\",O197, \"PerCentNetLastTrade\",, \"T\")/100","v":5.8415480102227092E-3},"https://finance.yahoo.com/quote/ARRS",null,5.8415480102227092E-3,{"$error":"#N/A"},null,{"$f":"RTD(\"cqg.rtd\", ,\"ContractData\",O197, \"LongDescription\",, \"T\")","v":"ARRIS International plc"},null,null,5.8415480102227092E-3,null,1,1,null,5.8415480102227092E-3,"",""]
[null,null,"S.US.ESS",{"$f":"RTD(\"cqg.rtd\", ,\"ContractData\",C198, \"LongDescription\",, \"T\")","v":"Essex Property Trust Inc"},{"$f":"RTD(\"cqg.rtd\", ,\"ContractData\",C198, \"Open\",, \"T\")","v":252.56},{"$f":"RTD(\"cqg.rtd\", ,\"ContractData\",C198, \"High\",, \"T\")","v":257.22000000000003},{"$f":"RTD(\"cqg.rtd\", ,\"ContractData\",C198, \"Low\",, \"T\")","v":252.18},{"$f":"RTD(\"cqg.rtd\", ,\"ContractData\",C198, \"LastTradeToday\",, \"T\")","v":256.54000000000002},{"$f":"RTD(\"cqg.rtd\", ,\"ContractData\",C198, \"NetLastTradeToday\",, \"T\")","v":4.6100000000000003},{"$f":"IFERROR(RTD(\"cqg.rtd\", ,\"ContractData\",C198, \"PerCentNetLastTrade\",, \"T\")/100,\"\")","v":1.8298733775255031E-2},{"$f":"RTD(\"cqg.rtd\", ,\"ContractData\", C198, \"T_CVol\",, \"T\")","v":236143},198,{"$f":"IFERROR(RANK($J198,$J$1:J$607)+COUNTIF($J$1:J198,J198)-1,\"\")","v":32},"S.US.ESS","S.US.VTR",{"$f":"RTD(\"cqg.rtd\", ,\"ContractData\",O198, \"PerCentNetLastTrade\",, \"T\")/100","v":5.7777777777777775E-3},"https://finance.yahoo.com/quote/VTR",null,5.7777777777777775E-3,{"$error":"#N/A"},null,{"$f":"RTD(\"cqg.rtd\", ,\"ContractData\",O198, \"LongDescription\",, \"T\")","v":"Ventas Inc"},null,null,5.7777777777777775E-3,null,1,1,null,5.7777777777777775E-3,"",""]
[null,null,"S.US.EV",{"$f":"RTD(\"cqg.rtd\", ,\"ContractData\",C199, \"LongDescription\",, \"T\")","v":"Eaton Vance Corp"},{"$f":"RTD(\"cqg.rtd\", ,\"ContractData\",C199, \"Open\",, \"T\")","v":45.18},{"$f":"RTD(\"cqg.rtd\", ,\"ContractData\",C199, \"High\",, \"T\")","v":46.96},{"$f":"RTD(\"cqg.rtd\", ,\"ContractData\",C199, \"Low\",, \"T\")","v":45.11},{"$f":"RTD(\"cqg.rtd\", ,\"ContractData\",C199, \"LastTradeToday\",, \"T\")","v":46.6},{"$f":"RTD(\"cqg.rtd\", ,\"ContractData\",C199, \"NetLastTradeToday\",, \"T\")","v":1.42},{"$f":"IFERROR(RTD(\"cqg.rtd\", ,\"ContractData\",C199, \"PerCentNetLastTrade\",, \"T\")/100,\"\")","v":3.1429836210712707E-2},{"$f":"RTD(\"cqg.rtd\", ,\"ContractData\", C199, \"T_CVol\",, \"T\")","v":503627},199,{"$f":"IFERROR(RANK($J199,$J$1:J$607)+COUNTIF($J$1:J199,J199)-1,\"\")","v":10},"S.US.EV","S.US.WM",{"$f":"RTD(\"cqg.rtd\", ,\"ContractData\",O199, \"PerCentNetLastTrade\",, \"T\")/100","v":5.632216277105041E-3},"https://finance.yahoo.com/quote/WM",null,5.632216277105041E-3,{"$error":"#N/A"},null,{"$f":"RTD(\"cqg.rtd\", ,\"ContractData\",O199, \"LongDescription\",, \"T\")","v":"Waste Mgmt Inc New"},null,null,5.632216277105041E-3,null,1,1,null,5.632216277105041E-3,"",""]
[null,null,"S.US.EVHC",{"$f":"RTD(\"cqg.rtd\", ,\"ContractData\",C200, \"LongDescription\",, \"T\")","v":"Envision Healthcare Corporation"},{"$f":"RTD(\"cqg.rtd\", ,\"ContractData\",C200, \"Open\",, \"T\")","v":55.43},{"$f":"RTD(\"cqg.rtd\", ,\"ContractData\",C200, \"High\",, \"T\")","v":55.74},{"$f":"RTD(\"cqg.rtd\", ,\"ContractData\",C200, \"Low\",, \"T\")","v":55.13},{"$f":"RTD(\"cqg.rtd\", ,\"ContractData\",C200, \"LastTradeToday\",, \"T\")","v":55.550000000000004},{"$f":"RTD(\"cqg.rtd\", ,\"ContractData\",C200, \"NetLastTradeToday\",, \"T\")","v":-0.01},{"$f":"IFERROR(RTD(\"cqg.rtd\", ,\"ContractData\",C200, \"PerCentNetLastTrade\",, \"T\")/100,\"\")","v":-1.7998560115190784E-4},{"$f":"RTD(\"cqg.rtd\", ,\"ContractData\", C200, \"T_CVol\",, \"T\")","v":218577},200,{"$f":"IFERROR(RANK($J200,$J$1:J$607)+COUNTIF($J$1:J200,J200)-1,\"\")","v":393},"S.US.EVHC","S.US.HCA",{"$f":"RTD(\"cqg.rtd\", ,\"ContractData\",O200, \"PerCentNetLastTrade\",, \"T\")/100","v":5.6145490052483824E-3},"https://finance.yahoo.com/quote/HCA",null,5.6145490052483824E-3,{"$error":"#N/A"},null,{"$f":"RTD(\"cqg.rtd\", ,\"ContractData\",O200, \"LongDescription\",, \"T\")","v":"HCA Holdings Inc."},null,null,5.6145490052483824E-3,null,1,1,null,5.6145490052483824E-3,"",""]
[null,null,"S.US.EW",{"$f":"RTD(\"cqg.rtd\", ,\"ContractData\",C201, \"LongDescription\",, \"T\")","v":"Edwards LifeSciences"},{"$f":"RTD(\"cqg.rtd\", ,\"ContractData\",C201, \"Open\",, \"T\")","v":113.77},{"$f":"RTD(\"cqg.rtd\", ,\"ContractData\",C201, \"High\",, \"T\")","v":114.15},{"$f":"RTD(\"cqg.rtd\", ,\"ContractData\",C201, \"Low\",, \"T\")","v":113.05},{"$f":"RTD(\"cqg.rtd\", ,\"ContractData\",C201, \"LastTradeToday\",, \"T\")","v":113.85000000000001},{"$f":"RTD(\"cqg.rtd\", ,\"ContractData\",C201, \"NetLastTradeToday\",, \"T\")","v":0.31},{"$f":"IFERROR(RTD(\"cqg.rtd\", ,\"ContractData\",C201, \"PerCentNetLastTrade\",, \"T\")/100,\"\")","v":2.7303153073806583E-3},{"$f":"RTD(\"cqg.rtd\", ,\"ContractData\", C201, \"T_CVol\",, \"T\")","v":476574},201,{"$f":"IFERROR(RANK($J201,$J$1:J$607)+COUNTIF($J$1:J201,J201)-1,\"\")","v":293},"S.US.EW","S.US.APAM",{"$f":"RTD(\"cqg.rtd\", ,\"ContractData\",O201, \"PerCentNetLastTrade\",, \"T\")/100","v":5.434782608695652E-3},"https://finance.yahoo.com/quote/APAM",null,5.434782608695652E-3,{"$error":"#N/A"},null,{"$f":"RTD(\"cqg.rtd\", ,\"ContractData\",O201, \"LongDescription\",, \"T\")","v":"Artisan Partners Asset Management Inc"},null,null,5.434782608695652E-3,null,1,1,null,5.434782608695652E-3,"",""]
[null,null,"S.US.EXP",{"$f":"RTD(\"cqg.rtd\", ,\"ContractData\",C202, \"LongDescription\",, \"T\")","v":"Eagle Materials Inc"},{"$f":"RTD(\"cqg.rtd\", ,\"ContractData\",C202, \"Open\",, \"T\")","v":98.65},{"$f":"RTD(\"cqg.rtd\", ,\"ContractData\",C202, \"High\",, \"T\")","v":98.95},{"$f":"RTD(\"cqg.rtd\", ,\"ContractData\",C202, \"Low\",, \"T\")","v":96.3},{"$f":"RTD(\"cqg.rtd\", ,\"ContractData\",C202, \"LastTradeToday\",, \"T\")","v":96.33},{"$f":"RTD(\"cqg.rtd\", ,\"ContractData\",C202, \"NetLastTradeToday\",, \"T\")","v":-2.5300000000000002},{"$f":"IFERROR(RTD(\"cqg.rtd\", ,\"ContractData\",C202, \"PerCentNetLastTrade\",, \"T\")/100,\"\")","v":-2.5591745903297592E-2},{"$f":"RTD(\"cqg.rtd\", ,\"ContractData\", C202, \"T_CVol\",, \"T\")","v":319823},202,{"$f":"IFERROR(RANK($J202,$J$1:J$607)+COUNTIF($J$1:J202,J202)-1,\"\")","v":593},"S.US.EXP","S.US.Q",{"$f":"RTD(\"cqg.rtd\", ,\"ContractData\",O202, \"PerCentNetLastTrade\",, \"T\")/100","v":5.3699284009546544E-3},"https://finance.yahoo.com/quote/Q",null,5.3699284009546544E-3,{"$error":"#N/A"},null,{"$f":"RTD(\"cqg.rtd\", ,\"ContractData\",O202, \"LongDescription\",, \"T\")","v":"Quintiles IMS Holdings, Inc."},null,null,5.3699284009546544E-3,null,1,1,null,5.3699284009546544E-3,"",""]
[null,null,"S.US.EXPD",{"$f":"RTD(\"cqg.rtd\", ,\"ContractData\",C203, \"LongDescription\",, \"T\")","v":"Expeditors Intl of WA Inc"},{"$f":"RTD(\"cqg.rtd\", ,\"ContractData\",C203, \"Open\",, \"T\")","v":53.84},{"$f":"RTD(\"cqg.rtd\", ,\"ContractData\",C203, \"High\",, \"T\")","v":53.84},{"$f":"RTD(\"cqg.rtd\", ,\"ContractData\",C203, \"Low\",, \"T\")","v":53.25},{"$f":"RTD(\"cqg.rtd\", ,\"ContractData\",C203, \"LastTradeToday\",, \"T\")","v":53.4},{"$f":"RTD(\"cqg.rtd\", ,\"ContractData\",C203, \"NetLastTradeToday\",, \"T\")","v":-0.18},{"$f":"IFERROR(RTD(\"cqg.rtd\", ,\"ContractData\",C203, \"PerCentNetLastTrade\",, \"T\")/100,\"\")","v":-3.3594624860022399E-3},{"$f":"RTD(\"cqg.rtd\", ,\"ContractData\", C203, \"T_CVol\",, \"T\")","v":520308},203,{"$f":"IFERROR(RANK($J203,$J$1:J$607)+COUNTIF($J$1:J203,J203)-1,\"\")","v":460},"S.US.EXPD","S.US.TEAM",{"$f":"RTD(\"cqg.rtd\", ,\"ContractData\",O203, \"PerCentNetLastTrade\",, \"T\")/100","v":5.3626869884278857E-3},"https://finance.yahoo.com/quote/TEAM",null,5.3626869884278857E-3,{"$error":"#N/A"},null,{"$f":"RTD(\"cqg.rtd\", ,\"ContractData\",O203, \"LongDescription\",, \"T\")","v":"Atlassian Corporation Plc"},null,null,5.3626869884278857E-3,null,1,1,null,5.3626869884278857E-3,"",""]
[null,null,"S.US.EXPE",{"$f":"RTD(\"cqg.rtd\", ,\"ContractData\",C204, \"LongDescription\",, \"T\")","v":"Expedia Inc"},{"$f":"RTD(\"cqg.rtd\", ,\"ContractData\",C204, \"Open\",, \"T\")","v":142.78},{"$f":"RTD(\"cqg.rtd\", ,\"ContractData\",C204, \"High\",, \"T\")","v":143.25},{"$f":"RTD(\"cqg.rtd\", ,\"ContractData\",C204, \"Low\",, \"T\")","v":141.67000000000002},{"$f":"RTD(\"cqg.rtd\", ,\"ContractData\",C204, \"LastTradeToday\",, \"T\")","v":143.07},{"$f":"RTD(\"cqg.rtd\", ,\"ContractData\",C204, \"NetLastTradeToday\",, \"T\")","v":0.5},{"$f":"IFERROR(RTD(\"cqg.rtd\", ,\"ContractData\",C204, \"PerCentNetLastTrade\",, \"T\")/100,\"\")","v":3.5070491688293471E-3},{"$f":"RTD(\"cqg.rtd\", ,\"ContractData\", C204, \"T_CVol\",, \"T\")","v":721232},204,{"$f":"IFERROR(RANK($J204,$J$1:J$607)+COUNTIF($J$1:J204,J204)-1,\"\")","v":254},"S.US.EXPE","S.US.IPG",{"$f":"RTD(\"cqg.rtd\", ,\"ContractData\",O204, \"PerCentNetLastTrade\",, \"T\")/100","v":5.3475935828877011E-3},"https://finance.yahoo.com/quote/IPG",null,5.3475935828877011E-3,{"$error":"#N/A"},null,{"$f":"RTD(\"cqg.rtd\", ,\"ContractData\",O204, \"LongDescription\",, \"T\")","v":"Interpublic Grp of Cos"},null,null,5.3475935828877011E-3,null,1,1,null,5.3475935828877011E-3,"",""]
[null,null,"S.US.EXR",{"$f":"RTD(\"cqg.rtd\", ,\"ContractData\",C205, \"LongDescription\",, \"T\")","v":"Extra Space Storage Inc"},{"$f":"RTD(\"cqg.rtd\", ,\"ContractData\",C205, \"Open\",, \"T\")","v":77.92},{"$f":"RTD(\"cqg.rtd\", ,\"ContractData\",C205, \"High\",, \"T\")","v":78.59},{"$f":"RTD(\"cqg.rtd\", ,\"ContractData\",C205, \"Low\",, \"T\")","v":77.91},{"$f":"RTD(\"cqg.rtd\", ,\"ContractData\",C205, \"LastTradeToday\",, \"T\")","v":78.489999999999995},{"$f":"RTD(\"cqg.rtd\", ,\"ContractData\",C205, \"NetLastTradeToday\",, \"T\")","v":0.61},{"$f":"IFERROR(RTD(\"cqg.rtd\", ,\"ContractData\",C205, \"PerCentNetLastTrade\",, \"T\")/100,\"\")","v":7.8325629173086799E-3},{"$f":"RTD(\"cqg.rtd\", ,\"ContractData\", C205, \"T_CVol\",, \"T\")","v":454195},205,{"$f":"IFERROR(RANK($J205,$J$1:J$607)+COUNTIF($J$1:J205,J205)-1,\"\")","v":147},"S.US.EXR","S.US.PAYX",{"$f":"RTD(\"cqg.rtd\", ,\"ContractData\",O205, \"PerCentNetLastTrade\",, \"T\")/100","v":5.3402239448751077E-3},"https://finance.yahoo.com/quote/PAYX",null,5.3402239448751077E-3,{"$error":"#N/A"},null,{"$f":"RTD(\"cqg.rtd\", ,\"ContractData\",O205, \"LongDescription\",, \"T\")","v":"Paychex Inc"},null,null,5.3402239448751077E-3,null,1,1,null,5.3402239448751077E-3,"",""]
[null,null,"S.US.FANG",{"$f":"RTD(\"cqg.rtd\", ,\"ContractData\",C206, \"LongDescription\",, \"T\")","v":"Diamondback Energy, Inc."},{"$f":"RTD(\"cqg.rtd\", ,\"ContractData\",C206, \"Open\",, \"T\")","v":100.65},{"$f":"RTD(\"cqg.rtd\", ,\"ContractData\",C206, \"High\",, \"T\")","v":100.97},{"$f":"RTD(\"cqg.rtd\", ,\"ContractData\",C206, \"Low\",, \"T\")","v":98.88},{"$f":"RTD(\"cqg.rtd\", ,\"ContractData\",C206, \"LastTradeToday\",, \"T\")","v":98.88},{"$f":"RTD(\"cqg.rtd\", ,\"ContractData\",C206, \"NetLastTradeToday\",, \"T\")","v":-1.77},{"$f":"IFERROR(RTD(\"cqg.rtd\", ,\"ContractData\",C206, \"PerCentNetLastTrade\",, \"T\")/100,\"\")","v":-1.7585692995529062E-2},{"$f":"RTD(\"cqg.rtd\", ,\"ContractData\", C206, \"T_CVol\",, \"T\")","v":708680},206,{"$f":"IFERROR(RANK($J206,$J$1:J$607)+COUNTIF($J$1:J206,J206)-1,\"\")","v":582},"S.US.FANG","S.US.HRC",{"$f":"RTD(\"cqg.rtd\", ,\"ContractData\",O206, \"PerCentNetLastTrade\",, \"T\")/100","v":5.3156146179401996E-3},"https://finance.yahoo.com/quote/HRC",null,5.3156146179401996E-3,{"$error":"#N/A"},null,{"$f":"RTD(\"cqg.rtd\", ,\"ContractData\",O206, \"LongDescription\",, \"T\")","v":"Hill Rom Holdings Inc"},null,null,5.3156146179401996E-3,null,1,1,null,5.3156146179401996E-3,"",""]
[null,null,"S.US.FAST",{"$f":"RTD(\"cqg.rtd\", ,\"ContractData\",C207, \"LongDescription\",, \"T\")","v":"Fastenal Co"},{"$f":"RTD(\"cqg.rtd\", ,\"ContractData\",C207, \"Open\",, \"T\")","v":42.910000000000004},{"$f":"RTD(\"cqg.rtd\", ,\"ContractData\",C207, \"High\",, \"T\")","v":44.38},{"$f":"RTD(\"cqg.rtd\", ,\"ContractData\",C207, \"Low\",, \"T\")","v":42.910000000000004},{"$f":"RTD(\"cqg.rtd\", ,\"ContractData\",C207, \"LastTradeToday\",, \"T\")","v":43.51},{"$f":"RTD(\"cqg.rtd\", ,\"ContractData\",C207, \"NetLastTradeToday\",, \"T\")","v":-0.73},{"$f":"IFERROR(RTD(\"cqg.rtd\", ,\"ContractData\",C207, \"PerCentNetLastTrade\",, \"T\")/100,\"\")","v":-1.650090415913201E-2},{"$f":"RTD(\"cqg.rtd\", ,\"ContractData\", C207, \"T_CVol\",, \"T\")","v":1199171},207,{"$f":"IFERROR(RANK($J207,$J$1:J$607)+COUNTIF($J$1:J207,J207)-1,\"\")","v":579},"S.US.FAST","S.US.AMZN",{"$f":"RTD(\"cqg.rtd\", ,\"ContractData\",O207, \"PerCentNetLastTrade\",, \"T\")/100","v":5.2699837371595615E-3},"https://finance.yahoo.com/quote/AMZN",null,5.2699837371595615E-3,{"$error":"#N/A"},null,{"$f":"RTD(\"cqg.rtd\", ,\"ContractData\",O207, \"LongDescription\",, \"T\")","v":"Amazon.com Inc"},null,null,5.2699837371595615E-3,null,1,1,null,5.2699837371595615E-3,"",""]
[null,null,"S.US.FB",{"$f":"RTD(\"cqg.rtd\", ,\"ContractData\",C208, \"LongDescription\",, \"T\")","v":"Facebook, Inc."},{"$f":"RTD(\"cqg.rtd\", ,\"ContractData\",C208, \"Open\",, \"T\")","v":148.51},{"$f":"RTD(\"cqg.rtd\", ,\"ContractData\",C208, \"High\",, \"T\")","v":150.18},{"$f":"RTD(\"cqg.rtd\", ,\"ContractData\",C208, \"Low\",, \"T\")","v":148.42000000000002},{"$f":"RTD(\"cqg.rtd\", ,\"ContractData\",C208, \"LastTradeToday\",, \"T\")","v":149.63},{"$f":"RTD(\"cqg.rtd\", ,\"ContractData\",C208, \"NetLastTradeToday\",, \"T\")","v":1.56},{"$f":"IFERROR(RTD(\"cqg.rtd\", ,\"ContractData\",C208, \"PerCentNetLastTrade\",, \"T\")/100,\"\")","v":1.0535557506584723E-2},{"$f":"RTD(\"cqg.rtd\", ,\"ContractData\", C208, \"T_CVol\",, \"T\")","v":12176845},208,{"$f":"IFERROR(RANK($J208,$J$1:J$607)+COUNTIF($J$1:J208,J208)-1,\"\")","v":96},"S.US.FB","S.US.G",{"$f":"RTD(\"cqg.rtd\", ,\"ContractData\",O208, \"PerCentNetLastTrade\",, \"T\")/100","v":5.2199850857568971E-3},"https://finance.yahoo.com/quote/G",null,5.2199850857568971E-3,{"$error":"#N/A"},null,{"$f":"RTD(\"cqg.rtd\", ,\"ContractData\",O208, \"LongDescription\",, \"T\")","v":"Genpact Limited"},null,null,5.2199850857568971E-3,null,1,1,null,5.2199850857568971E-3,"",""]
[null,null,"S.US.FBHS",{"$f":"RTD(\"cqg.rtd\", ,\"ContractData\",C209, \"LongDescription\",, \"T\")","v":"Fortune Brands Home & Security, Inc."},{"$f":"RTD(\"cqg.rtd\", ,\"ContractData\",C209, \"Open\",, \"T\")","v":62.480000000000004},{"$f":"RTD(\"cqg.rtd\", ,\"ContractData\",C209, \"High\",, \"T\")","v":63.13},{"$f":"RTD(\"cqg.rtd\", ,\"ContractData\",C209, \"Low\",, \"T\")","v":62.33},{"$f":"RTD(\"cqg.rtd\", ,\"ContractData\",C209, \"LastTradeToday\",, \"T\")","v":63.06},{"$f":"RTD(\"cqg.rtd\", ,\"ContractData\",C209, \"NetLastTradeToday\",, \"T\")","v":0.45},{"$f":"IFERROR(RTD(\"cqg.rtd\", ,\"ContractData\",C209, \"PerCentNetLastTrade\",, \"T\")/100,\"\")","v":7.1873502635361767E-3},{"$f":"RTD(\"cqg.rtd\", ,\"ContractData\", C209, \"T_CVol\",, \"T\")","v":278624},209,{"$f":"IFERROR(RANK($J209,$J$1:J$607)+COUNTIF($J$1:J209,J209)-1,\"\")","v":163},"S.US.FBHS","S.US.BRKR",{"$f":"RTD(\"cqg.rtd\", ,\"ContractData\",O209, \"PerCentNetLastTrade\",, \"T\")/100","v":5.2005943536404167E-3},"https://finance.yahoo.com/quote/BRKR",null,5.2005943536404167E-3,{"$error":"#N/A"},null,{"$f":"RTD(\"cqg.rtd\", ,\"ContractData\",O209, \"LongDescription\",, \"T\")","v":"Bruker Corp"},null,null,5.2005943536404167E-3,null,1,1,null,5.2005943536404167E-3,"",""]
[null,null,"S.US.FCX",{"$f":"RTD(\"cqg.rtd\", ,\"ContractData\",C210, \"LongDescription\",, \"T\")","v":"Freeport-McMoRan Inc."},{"$f":"RTD(\"cqg.rtd\", ,\"ContractData\",C210, \"Open\",, \"T\")","v":11.950000000000001},{"$f":"RTD(\"cqg.rtd\", ,\"ContractData\",C210, \"High\",, \"T\")","v":12.05},{"$f":"RTD(\"cqg.rtd\", ,\"ContractData\",C210, \"Low\",, \"T\")","v":11.78},{"$f":"RTD(\"cqg.rtd\", ,\"ContractData\",C210, \"LastTradeToday\",, \"T\")","v":11.870000000000001},{"$f":"RTD(\"cqg.rtd\", ,\"ContractData\",C210, \"NetLastTradeToday\",, \"T\")","v":-0.01},{"$f":"IFERROR(RTD(\"cqg.rtd\", ,\"ContractData\",C210, \"PerCentNetLastTrade\",, \"T\")/100,\"\")","v":-8.4175084175084182E-4},{"$f":"RTD(\"cqg.rtd\", ,\"ContractData\", C210, \"T_CVol\",, \"T\")","v":8452122},210,{"$f":"IFERROR(RANK($J210,$J$1:J$607)+COUNTIF($J$1:J210,J210)-1,\"\")","v":411},"S.US.FCX","S.US.WCG",{"$f":"RTD(\"cqg.rtd\", ,\"ContractData\",O210, \"PerCentNetLastTrade\",, \"T\")/100","v":5.1970802919708023E-3},"https://finance.yahoo.com/quote/WCG",null,5.1970802919708023E-3,{"$error":"#N/A"},null,{"$f":"RTD(\"cqg.rtd\", ,\"ContractData\",O210, \"LongDescription\",, \"T\")","v":"Wellcare Group Inc"},null,null,5.1970802919708023E-3,null,1,1,null,5.1970802919708023E-3,"",""]
[null,null,"S.US.FDC",{"$f":"RTD(\"cqg.rtd\", ,\"ContractData\",C211, \"LongDescription\",, \"T\")","v":"First Data Corp."},{"$f":"RTD(\"cqg.rtd\", ,\"ContractData\",C211, \"Open\",, \"T\")","v":16.600000000000001},{"$f":"RTD(\"cqg.rtd\", ,\"ContractData\",C211, \"High\",, \"T\")","v":16.89},{"$f":"RTD(\"cqg.rtd\", ,\"ContractData\",C211, \"Low\",, \"T\")","v":16.559999999999999},{"$f":"RTD(\"cqg.rtd\", ,\"ContractData\",C211, \"LastTradeToday\",, \"T\")","v":16.77},{"$f":"RTD(\"cqg.rtd\", ,\"ContractData\",C211, \"NetLastTradeToday\",, \"T\")","v":0.16},{"$f":"IFERROR(RTD(\"cqg.rtd\", ,\"ContractData\",C211, \"PerCentNetLastTrade\",, \"T\")/100,\"\")","v":9.6327513546056592E-3},{"$f":"RTD(\"cqg.rtd\", ,\"ContractData\", C211, \"T_CVol\",, \"T\")","v":3272077},211,{"$f":"IFERROR(RANK($J211,$J$1:J$607)+COUNTIF($J$1:J211,J211)-1,\"\")","v":112},"S.US.FDC","S.US.CPB",{"$f":"RTD(\"cqg.rtd\", ,\"ContractData\",O211, \"PerCentNetLastTrade\",, \"T\")/100","v":5.1617343427391603E-3},"https://finance.yahoo.com/quote/CPB",null,5.1617343427391603E-3,{"$error":"#N/A"},null,{"$f":"RTD(\"cqg.rtd\", ,\"ContractData\",O211, \"LongDescription\",, \"T\")","v":"Campbell Soup Company"},null,null,5.1617343427391603E-3,null,1,1,null,5.1617343427391603E-3,"",""]
[null,null,"S.US.FDS",{"$f":"RTD(\"cqg.rtd\", ,\"ContractData\",C212, \"LongDescription\",, \"T\")","v":"Factet Research"},{"$f":"RTD(\"cqg.rtd\", ,\"ContractData\",C212, \"Open\",, \"T\")","v":161.06},{"$f":"RTD(\"cqg.rtd\", ,\"ContractData\",C212, \"High\",, \"T\")","v":161.72},{"$f":"RTD(\"cqg.rtd\", ,\"ContractData\",C212, \"Low\",, \"T\")","v":160.49},{"$f":"RTD(\"cqg.rtd\", ,\"ContractData\",C212, \"LastTradeToday\",, \"T\")","v":161.52000000000001},{"$f":"RTD(\"cqg.rtd\", ,\"ContractData\",C212, \"NetLastTradeToday\",, \"T\")","v":0.64},{"$f":"IFERROR(RTD(\"cqg.rtd\", ,\"ContractData\",C212, \"PerCentNetLastTrade\",, \"T\")/100,\"\")","v":3.9781203381402284E-3},{"$f":"RTD(\"cqg.rtd\", ,\"ContractData\", C212, \"T_CVol\",, \"T\")","v":61883},212,{"$f":"IFERROR(RANK($J212,$J$1:J$607)+COUNTIF($J$1:J212,J212)-1,\"\")","v":243},"S.US.FDS","S.US.GOOG",{"$f":"RTD(\"cqg.rtd\", ,\"ContractData\",O212, \"PerCentNetLastTrade\",, \"T\")/100","v":5.1116123184587166E-3},"https://finance.yahoo.com/quote/GOOG",null,5.1116123184587166E-3,{"$error":"#N/A"},null,{"$f":"RTD(\"cqg.rtd\", ,\"ContractData\",O212, \"LongDescription\",, \"T\")","v":"Google, Inc. Class C"},null,null,5.1116123184587166E-3,null,1,1,null,5.1116123184587166E-3,"",""]
[null,null,"S.US.FDX",{"$f":"RTD(\"cqg.rtd\", ,\"ContractData\",C213, \"LongDescription\",, \"T\")","v":"FedEx Corp"},{"$f":"RTD(\"cqg.rtd\", ,\"ContractData\",C213, \"Open\",, \"T\")","v":193.43},{"$f":"RTD(\"cqg.rtd\", ,\"ContractData\",C213, \"High\",, \"T\")","v":193.9},{"$f":"RTD(\"cqg.rtd\", ,\"ContractData\",C213, \"Low\",, \"T\")","v":192.6},{"$f":"RTD(\"cqg.rtd\", ,\"ContractData\",C213, \"LastTradeToday\",, \"T\")","v":193.25},{"$f":"RTD(\"cqg.rtd\", ,\"ContractData\",C213, \"NetLastTradeToday\",, \"T\")","v":0.19},{"$f":"IFERROR(RTD(\"cqg.rtd\", ,\"ContractData\",C213, \"PerCentNetLastTrade\",, \"T\")/100,\"\")","v":9.8415000517973689E-4},{"$f":"RTD(\"cqg.rtd\", ,\"ContractData\", C213, \"T_CVol\",, \"T\")","v":300716},213,{"$f":"IFERROR(RANK($J213,$J$1:J$607)+COUNTIF($J$1:J213,J213)-1,\"\")","v":350},"S.US.FDX","S.US.LEXEA",{"$f":"RTD(\"cqg.rtd\", ,\"ContractData\",O213, \"PerCentNetLastTrade\",, \"T\")/100","v":5.0791170150420008E-3},"https://finance.yahoo.com/quote/LEXEA",null,5.0791170150420008E-3,{"$error":"#N/A"},null,{"$f":"RTD(\"cqg.rtd\", ,\"ContractData\",O213, \"LongDescription\",, \"T\")","v":"Liberty Expedia Holdings, Inc. Series A"},null,null,5.0791170150420008E-3,null,1,1,null,5.0791170150420008E-3,"",""]
[null,null,"S.US.FEYE",{"$f":"RTD(\"cqg.rtd\", ,\"ContractData\",C214, \"LongDescription\",, \"T\")","v":"FireEye, Inc."},{"$f":"RTD(\"cqg.rtd\", ,\"ContractData\",C214, \"Open\",, \"T\")","v":15.35},{"$f":"RTD(\"cqg.rtd\", ,\"ContractData\",C214, \"High\",, \"T\")","v":15.4},{"$f":"RTD(\"cqg.rtd\", ,\"ContractData\",C214, \"Low\",, \"T\")","v":14.92},{"$f":"RTD(\"cqg.rtd\", ,\"ContractData\",C214, \"LastTradeToday\",, \"T\")","v":15.08},{"$f":"RTD(\"cqg.rtd\", ,\"ContractData\",C214, \"NetLastTradeToday\",, \"T\")","v":-0.17},{"$f":"IFERROR(RTD(\"cqg.rtd\", ,\"ContractData\",C214, \"PerCentNetLastTrade\",, \"T\")/100,\"\")","v":-1.1147540983606557E-2},{"$f":"RTD(\"cqg.rtd\", ,\"ContractData\", C214, \"T_CVol\",, \"T\")","v":2642772},214,{"$f":"IFERROR(RANK($J214,$J$1:J$607)+COUNTIF($J$1:J214,J214)-1,\"\")","v":555},"S.US.FEYE","S.US.GOOGL",{"$f":"RTD(\"cqg.rtd\", ,\"ContractData\",O214, \"PerCentNetLastTrade\",, \"T\")/100","v":5.0280768636340222E-3},"https://finance.yahoo.com/quote/GOOGL",null,5.0280768636340222E-3,{"$error":"#N/A"},null,{"$f":"RTD(\"cqg.rtd\", ,\"ContractData\",O214, \"LongDescription\",, \"T\")","v":"Alphabet Inc. Class A"},null,null,5.0280768636340222E-3,null,1,1,null,5.0280768636340222E-3,"",""]
[null,null,"S.US.FFIV",{"$f":"RTD(\"cqg.rtd\", ,\"ContractData\",C215, \"LongDescription\",, \"T\")","v":"F5 Networks Inc"},{"$f":"RTD(\"cqg.rtd\", ,\"ContractData\",C215, \"Open\",, \"T\")","v":126.27},{"$f":"RTD(\"cqg.rtd\", ,\"ContractData\",C215, \"High\",, \"T\")","v":126.68},{"$f":"RTD(\"cqg.rtd\", ,\"ContractData\",C215, \"Low\",, \"T\")","v":125.53},{"$f":"RTD(\"cqg.rtd\", ,\"ContractData\",C215, \"LastTradeToday\",, \"T\")","v":126.28},{"$f":"RTD(\"cqg.rtd\", ,\"ContractData\",C215, \"NetLastTradeToday\",, \"T\")","v":0.28999999999999998},{"$f":"IFERROR(RTD(\"cqg.rtd\", ,\"ContractData\",C215, \"PerCentNetLastTrade\",, \"T\")/100,\"\")","v":2.3017699817445831E-3},{"$f":"RTD(\"cqg.rtd\", ,\"ContractData\", C215, \"T_CVol\",, \"T\")","v":368077},215,{"$f":"IFERROR(RANK($J215,$J$1:J$607)+COUNTIF($J$1:J215,J215)-1,\"\")","v":307},"S.US.FFIV","S.US.INTC",{"$f":"RTD(\"cqg.rtd\", ,\"ContractData\",O215, \"PerCentNetLastTrade\",, \"T\")/100","v":5.0195203569436695E-3},"https://finance.yahoo.com/quote/INTC",null,5.0195203569436695E-3,{"$error":"#N/A"},null,{"$f":"RTD(\"cqg.rtd\", ,\"ContractData\",O215, \"LongDescription\",, \"T\")","v":"Intel Corporation"},null,null,5.0195203569436695E-3,null,1,1,null,5.0195203569436695E-3,"",""]
[null,null,"S.US.FHB",{"$f":"RTD(\"cqg.rtd\", ,\"ContractData\",C216, \"LongDescription\",, \"T\")","v":"First Hawaiian, Inc."},{"$f":"RTD(\"cqg.rtd\", ,\"ContractData\",C216, \"Open\",, \"T\")","v":28.900000000000002},{"$f":"RTD(\"cqg.rtd\", ,\"ContractData\",C216, \"High\",, \"T\")","v":28.900000000000002},{"$f":"RTD(\"cqg.rtd\", ,\"ContractData\",C216, \"Low\",, \"T\")","v":28.330000000000002},{"$f":"RTD(\"cqg.rtd\", ,\"ContractData\",C216, \"LastTradeToday\",, \"T\")","v":28.45},{"$f":"RTD(\"cqg.rtd\", ,\"ContractData\",C216, \"NetLastTradeToday\",, \"T\")","v":-0.45},{"$f":"IFERROR(RTD(\"cqg.rtd\", ,\"ContractData\",C216, \"PerCentNetLastTrade\",, \"T\")/100,\"\")","v":-1.5570934256055364E-2},{"$f":"RTD(\"cqg.rtd\", ,\"ContractData\", C216, \"T_CVol\",, \"T\")","v":150580},216,{"$f":"IFERROR(RANK($J216,$J$1:J$607)+COUNTIF($J$1:J216,J216)-1,\"\")","v":573},"S.US.FHB","S.US.AME",{"$f":"RTD(\"cqg.rtd\", ,\"ContractData\",O216, \"PerCentNetLastTrade\",, \"T\")/100","v":4.9537648612945837E-3},"https://finance.yahoo.com/quote/AME",null,4.9537648612945837E-3,{"$error":"#N/A"},null,{"$f":"RTD(\"cqg.rtd\", ,\"ContractData\",O216, \"LongDescription\",, \"T\")","v":"Ametek Inc New"},null,null,4.9537648612945837E-3,null,1,1,null,4.9537648612945837E-3,"",""]
[null,null,"S.US.FII",{"$f":"RTD(\"cqg.rtd\", ,\"ContractData\",C217, \"LongDescription\",, \"T\")","v":"Federated Investors Inc ClB"},{"$f":"RTD(\"cqg.rtd\", ,\"ContractData\",C217, \"Open\",, \"T\")","v":25.63},{"$f":"RTD(\"cqg.rtd\", ,\"ContractData\",C217, \"High\",, \"T\")","v":25.740000000000002},{"$f":"RTD(\"cqg.rtd\", ,\"ContractData\",C217, \"Low\",, \"T\")","v":25.45},{"$f":"RTD(\"cqg.rtd\", ,\"ContractData\",C217, \"LastTradeToday\",, \"T\")","v":25.59},{"$f":"RTD(\"cqg.rtd\", ,\"ContractData\",C217, \"NetLastTradeToday\",, \"T\")","v":-0.04},{"$f":"IFERROR(RTD(\"cqg.rtd\", ,\"ContractData\",C217, \"PerCentNetLastTrade\",, \"T\")/100,\"\")","v":-1.5606710885680843E-3},{"$f":"RTD(\"cqg.rtd\", ,\"ContractData\", C217, \"T_CVol\",, \"T\")","v":231141},217,{"$f":"IFERROR(RANK($J217,$J$1:J$607)+COUNTIF($J$1:J217,J217)-1,\"\")","v":427},"S.US.FII","S.US.TPX",{"$f":"RTD(\"cqg.rtd\", ,\"ContractData\",O217, \"PerCentNetLastTrade\",, \"T\")/100","v":4.8492515285684171E-3},"https://finance.yahoo.com/quote/TPX",null,4.8492515285684171E-3,{"$error":"#N/A"},null,{"$f":"RTD(\"cqg.rtd\", ,\"ContractData\",O217, \"LongDescription\",, \"T\")","v":"Tempur Pedic International, Inc."},null,null,4.8492515285684171E-3,null,1,1,null,4.8492515285684171E-3,"",""]
[null,null,"S.US.FIS",{"$f":"RTD(\"cqg.rtd\", ,\"ContractData\",C218, \"LongDescription\",, \"T\")","v":"Fidelity National Info Services"},{"$f":"RTD(\"cqg.rtd\", ,\"ContractData\",C218, \"Open\",, \"T\")","v":83.61},{"$f":"RTD(\"cqg.rtd\", ,\"ContractData\",C218, \"High\",, \"T\")","v":83.98},{"$f":"RTD(\"cqg.rtd\", ,\"ContractData\",C218, \"Low\",, \"T\")","v":83.48},{"$f":"RTD(\"cqg.rtd\", ,\"ContractData\",C218, \"LastTradeToday\",, \"T\")","v":83.79},{"$f":"RTD(\"cqg.rtd\", ,\"ContractData\",C218, \"NetLastTradeToday\",, \"T\")","v":0.13},{"$f":"IFERROR(RTD(\"cqg.rtd\", ,\"ContractData\",C218, \"PerCentNetLastTrade\",, \"T\")/100,\"\")","v":1.5539086779823095E-3},{"$f":"RTD(\"cqg.rtd\", ,\"ContractData\", C218, \"T_CVol\",, \"T\")","v":667579},218,{"$f":"IFERROR(RANK($J218,$J$1:J$607)+COUNTIF($J$1:J218,J218)-1,\"\")","v":334},"S.US.FIS","S.US.RPM",{"$f":"RTD(\"cqg.rtd\", ,\"ContractData\",O218, \"PerCentNetLastTrade\",, \"T\")/100","v":4.8435171385991065E-3},"https://finance.yahoo.com/quote/RPM",null,4.8435171385991065E-3,{"$error":"#N/A"},null,{"$f":"RTD(\"cqg.rtd\", ,\"ContractData\",O218, \"LongDescription\",, \"T\")","v":"RPM Inc"},null,null,4.8435171385991065E-3,null,1,1,null,4.8435171385991065E-3,"",""]
[null,null,"S.US.FISV",{"$f":"RTD(\"cqg.rtd\", ,\"ContractData\",C219, \"LongDescription\",, \"T\")","v":"FISERV Inc"},{"$f":"RTD(\"cqg.rtd\", ,\"ContractData\",C219, \"Open\",, \"T\")","v":122.27},{"$f":"RTD(\"cqg.rtd\", ,\"ContractData\",C219, \"High\",, \"T\")","v":122.78},{"$f":"RTD(\"cqg.rtd\", ,\"ContractData\",C219, \"Low\",, \"T\")","v":122},{"$f":"RTD(\"cqg.rtd\", ,\"ContractData\",C219, \"LastTradeToday\",, \"T\")","v":122.44},{"$f":"RTD(\"cqg.rtd\", ,\"ContractData\",C219, \"NetLastTradeToday\",, \"T\")","v":0.1},{"$f":"IFERROR(RTD(\"cqg.rtd\", ,\"ContractData\",C219, \"PerCentNetLastTrade\",, \"T\")/100,\"\")","v":8.1739414745790422E-4},{"$f":"RTD(\"cqg.rtd\", ,\"ContractData\", C219, \"T_CVol\",, \"T\")","v":275224},219,{"$f":"IFERROR(RANK($J219,$J$1:J$607)+COUNTIF($J$1:J219,J219)-1,\"\")","v":355},"S.US.FISV","S.US.RAI",{"$f":"RTD(\"cqg.rtd\", ,\"ContractData\",O219, \"PerCentNetLastTrade\",, \"T\")/100","v":4.8389535762891275E-3},"https://finance.yahoo.com/quote/RAI",null,4.8389535762891275E-3,{"$error":"#N/A"},null,{"$f":"RTD(\"cqg.rtd\", ,\"ContractData\",O219, \"LongDescription\",, \"T\")","v":"Reynolds American Inc."},null,null,4.8389535762891275E-3,null,1,1,null,4.8389535762891275E-3,"",""]
[null,null,"S.US.FIT",{"$f":"RTD(\"cqg.rtd\", ,\"ContractData\",C220, \"LongDescription\",, \"T\")","v":"Fitbit, Inc."},{"$f":"RTD(\"cqg.rtd\", ,\"ContractData\",C220, \"Open\",, \"T\")","v":5.58},{"$f":"RTD(\"cqg.rtd\", ,\"ContractData\",C220, \"High\",, \"T\")","v":5.63},{"$f":"RTD(\"cqg.rtd\", ,\"ContractData\",C220, \"Low\",, \"T\")","v":5.45},{"$f":"RTD(\"cqg.rtd\", ,\"ContractData\",C220, \"LastTradeToday\",, \"T\")","v":5.5},{"$f":"RTD(\"cqg.rtd\", ,\"ContractData\",C220, \"NetLastTradeToday\",, \"T\")","v":-0.06},{"$f":"IFERROR(RTD(\"cqg.rtd\", ,\"ContractData\",C220, \"PerCentNetLastTrade\",, \"T\")/100,\"\")","v":-1.0791366906474819E-2},{"$f":"RTD(\"cqg.rtd\", ,\"ContractData\", C220, \"T_CVol\",, \"T\")","v":4115630},220,{"$f":"IFERROR(RANK($J220,$J$1:J$607)+COUNTIF($J$1:J220,J220)-1,\"\")","v":551},"S.US.FIT","S.US.COO",{"$f":"RTD(\"cqg.rtd\", ,\"ContractData\",O220, \"PerCentNetLastTrade\",, \"T\")/100","v":4.836926478717524E-3},"https://finance.yahoo.com/quote/COO",null,4.836926478717524E-3,{"$error":"#N/A"},null,{"$f":"RTD(\"cqg.rtd\", ,\"ContractData\",O220, \"LongDescription\",, \"T\")","v":"Cooper Companies Inc (The)"},null,null,4.836926478717524E-3,null,1,1,null,4.836926478717524E-3,"",""]
[null,null,"S.US.FL",{"$f":"RTD(\"cqg.rtd\", ,\"ContractData\",C221, \"LongDescription\",, \"T\")","v":"Foot Locker Inc"},{"$f":"RTD(\"cqg.rtd\", ,\"ContractData\",C221, \"Open\",, \"T\")","v":59.78},{"$f":"RTD(\"cqg.rtd\", ,\"ContractData\",C221, \"High\",, \"T\")","v":59.96},{"$f":"RTD(\"cqg.rtd\", ,\"ContractData\",C221, \"Low\",, \"T\")","v":58.65},{"$f":"RTD(\"cqg.rtd\", ,\"ContractData\",C221, \"LastTradeToday\",, \"T\")","v":59.39},{"$f":"RTD(\"cqg.rtd\", ,\"ContractData\",C221, \"NetLastTradeToday\",, \"T\")","v":-0.48},{"$f":"IFERROR(RTD(\"cqg.rtd\", ,\"ContractData\",C221, \"PerCentNetLastTrade\",, \"T\")/100,\"\")","v":-8.0173709704359445E-3},{"$f":"RTD(\"cqg.rtd\", ,\"ContractData\", C221, \"T_CVol\",, \"T\")","v":2384065},221,{"$f":"IFERROR(RANK($J221,$J$1:J$607)+COUNTIF($J$1:J221,J221)-1,\"\")","v":523},"S.US.FL","S.US.HRL",{"$f":"RTD(\"cqg.rtd\", ,\"ContractData\",O221, \"PerCentNetLastTrade\",, \"T\")/100","v":4.8281738142573133E-3},"https://finance.yahoo.com/quote/HRL",null,4.8281738142573133E-3,{"$error":"#N/A"},null,{"$f":"RTD(\"cqg.rtd\", ,\"ContractData\",O221, \"LongDescription\",, \"T\")","v":"Hormel Foods Corp"},null,null,4.8281738142573133E-3,null,1,1,null,4.8281738142573133E-3,"",""]
[null,null,"S.US.FLO",{"$f":"RTD(\"cqg.rtd\", ,\"ContractData\",C222, \"LongDescription\",, \"T\")","v":"Flowers Industries Inc"},{"$f":"RTD(\"cqg.rtd\", ,\"ContractData\",C222, \"Open\",, \"T\")","v":18.600000000000001},{"$f":"RTD(\"cqg.rtd\", ,\"ContractData\",C222, \"High\",, \"T\")","v":18.740000000000002},{"$f":"RTD(\"cqg.rtd\", ,\"ContractData\",C222, \"Low\",, \"T\")","v":18.55},{"$f":"RTD(\"cqg.rtd\", ,\"ContractData\",C222, \"LastTradeToday\",, \"T\")","v":18.670000000000002},{"$f":"RTD(\"cqg.rtd\", ,\"ContractData\",C222, \"NetLastTradeToday\",, \"T\")","v":0.11},{"$f":"IFERROR(RTD(\"cqg.rtd\", ,\"ContractData\",C222, \"PerCentNetLastTrade\",, \"T\")/100,\"\")","v":5.9267241379310342E-3},{"$f":"RTD(\"cqg.rtd\", ,\"ContractData\", C222, \"T_CVol\",, \"T\")","v":798870},222,{"$f":"IFERROR(RANK($J222,$J$1:J$607)+COUNTIF($J$1:J222,J222)-1,\"\")","v":194},"S.US.FLO","S.US.FTV",{"$f":"RTD(\"cqg.rtd\", ,\"ContractData\",O222, \"PerCentNetLastTrade\",, \"T\")/100","v":4.7915668423574509E-3},"https://finance.yahoo.com/quote/FTV",null,4.7915668423574509E-3,{"$error":"#N/A"},null,{"$f":"RTD(\"cqg.rtd\", ,\"ContractData\",O222, \"LongDescription\",, \"T\")","v":"Fortive Corporation"},null,null,4.7915668423574509E-3,null,1,1,null,4.7915668423574509E-3,"",""]
[null,null,"S.US.FLS",{"$f":"RTD(\"cqg.rtd\", ,\"ContractData\",C223, \"LongDescription\",, \"T\")","v":"Flowserve Corp"},{"$f":"RTD(\"cqg.rtd\", ,\"ContractData\",C223, \"Open\",, \"T\")","v":49.42},{"$f":"RTD(\"cqg.rtd\", ,\"ContractData\",C223, \"High\",, \"T\")","v":49.77},{"$f":"RTD(\"cqg.rtd\", ,\"ContractData\",C223, \"Low\",, \"T\")","v":48.97},{"$f":"RTD(\"cqg.rtd\", ,\"ContractData\",C223, \"LastTradeToday\",, \"T\")","v":49.120000000000005},{"$f":"RTD(\"cqg.rtd\", ,\"ContractData\",C223, \"NetLastTradeToday\",, \"T\")","v":-0.35000000000000003},{"$f":"IFERROR(RTD(\"cqg.rtd\", ,\"ContractData\",C223, \"PerCentNetLastTrade\",, \"T\")/100,\"\")","v":-7.0749949464321811E-3},{"$f":"RTD(\"cqg.rtd\", ,\"ContractData\", C223, \"T_CVol\",, \"T\")","v":330036},223,{"$f":"IFERROR(RANK($J223,$J$1:J$607)+COUNTIF($J$1:J223,J223)-1,\"\")","v":511},"S.US.FLS","S.US.VC",{"$f":"RTD(\"cqg.rtd\", ,\"ContractData\",O223, \"PerCentNetLastTrade\",, \"T\")/100","v":4.7479543388221036E-3},"https://finance.yahoo.com/quote/VC",null,4.7479543388221036E-3,{"$error":"#N/A"},null,{"$f":"RTD(\"cqg.rtd\", ,\"ContractData\",O223, \"LongDescription\",, \"T\")","v":"Visteon Corporation"},null,null,4.7479543388221036E-3,null,1,1,null,4.7479543388221036E-3,"",""]
[null,null,"S.US.FLT",{"$f":"RTD(\"cqg.rtd\", ,\"ContractData\",C224, \"LongDescription\",, \"T\")","v":"Fleetcor Technologies, Inc."},{"$f":"RTD(\"cqg.rtd\", ,\"ContractData\",C224, \"Open\",, \"T\")","v":135.82},{"$f":"RTD(\"cqg.rtd\", ,\"ContractData\",C224, \"High\",, \"T\")","v":138.21},{"$f":"RTD(\"cqg.rtd\", ,\"ContractData\",C224, \"Low\",, \"T\")","v":135.28},{"$f":"RTD(\"cqg.rtd\", ,\"ContractData\",C224, \"LastTradeToday\",, \"T\")","v":138.07},{"$f":"RTD(\"cqg.rtd\", ,\"ContractData\",C224, \"NetLastTradeToday\",, \"T\")","v":2.1},{"$f":"IFERROR(RTD(\"cqg.rtd\", ,\"ContractData\",C224, \"PerCentNetLastTrade\",, \"T\")/100,\"\")","v":1.544458336397735E-2},{"$f":"RTD(\"cqg.rtd\", ,\"ContractData\", C224, \"T_CVol\",, \"T\")","v":308859},224,{"$f":"IFERROR(RANK($J224,$J$1:J$607)+COUNTIF($J$1:J224,J224)-1,\"\")","v":54},"S.US.FLT","S.US.RMD",{"$f":"RTD(\"cqg.rtd\", ,\"ContractData\",O224, \"PerCentNetLastTrade\",, \"T\")/100","v":4.7413793103448275E-3},"https://finance.yahoo.com/quote/RMD",null,4.7413793103448275E-3,{"$error":"#N/A"},null,{"$f":"RTD(\"cqg.rtd\", ,\"ContractData\",O224, \"LongDescription\",, \"T\")","v":"Resmed Inc"},null,null,4.7413793103448275E-3,null,1,1,null,4.7413793103448275E-3,"",""]
[null,null,"S.US.FMC",{"$f":"RTD(\"cqg.rtd\", ,\"ContractData\",C225, \"LongDescription\",, \"T\")","v":"FMC Corporation"},{"$f":"RTD(\"cqg.rtd\", ,\"ContractData\",C225, \"Open\",, \"T\")","v":74.84},{"$f":"RTD(\"cqg.rtd\", ,\"ContractData\",C225, \"High\",, \"T\")","v":75.31},{"$f":"RTD(\"cqg.rtd\", ,\"ContractData\",C225, \"Low\",, \"T\")","v":74.22},{"$f":"RTD(\"cqg.rtd\", ,\"ContractData\",C225, \"LastTradeToday\",, \"T\")","v":74.69},{"$f":"RTD(\"cqg.rtd\", ,\"ContractData\",C225, \"NetLastTradeToday\",, \"T\")","v":0.17},{"$f":"IFERROR(RTD(\"cqg.rtd\", ,\"ContractData\",C225, \"PerCentNetLastTrade\",, \"T\")/100,\"\")","v":2.2812667740203969E-3},{"$f":"RTD(\"cqg.rtd\", ,\"ContractData\", C225, \"T_CVol\",, \"T\")","v":256448},225,{"$f":"IFERROR(RANK($J225,$J$1:J$607)+COUNTIF($J$1:J225,J225)-1,\"\")","v":310},"S.US.FMC","S.US.ATVI",{"$f":"RTD(\"cqg.rtd\", ,\"ContractData\",O225, \"PerCentNetLastTrade\",, \"T\")/100","v":4.6712802768166086E-3},"https://finance.yahoo.com/quote/ATVI",null,4.6712802768166086E-3,{"$error":"#N/A"},null,{"$f":"RTD(\"cqg.rtd\", ,\"ContractData\",O225, \"LongDescription\",, \"T\")","v":"Activision Blizzard Inc"},null,null,4.6712802768166086E-3,null,1,1,null,4.6712802768166086E-3,"",""]
[null,null,"S.US.FOX",{"$f":"RTD(\"cqg.rtd\", ,\"ContractData\",C226, \"LongDescription\",, \"T\")","v":"Twenty-First Century Fox, Inc. Class B"},{"$f":"RTD(\"cqg.rtd\", ,\"ContractData\",C226, \"Open\",, \"T\")","v":26.62},{"$f":"RTD(\"cqg.rtd\", ,\"ContractData\",C226, \"High\",, \"T\")","v":26.72},{"$f":"RTD(\"cqg.rtd\", ,\"ContractData\",C226, \"Low\",, \"T\")","v":26.47},{"$f":"RTD(\"cqg.rtd\", ,\"ContractData\",C226, \"LastTradeToday\",, \"T\")","v":26.61},{"$f":"RTD(\"cqg.rtd\", ,\"ContractData\",C226, \"NetLastTradeToday\",, \"T\")","v":0.08},{"$f":"IFERROR(RTD(\"cqg.rtd\", ,\"ContractData\",C226, \"PerCentNetLastTrade\",, \"T\")/100,\"\")","v":3.0154542027892948E-3},{"$f":"RTD(\"cqg.rtd\", ,\"ContractData\", C226, \"T_CVol\",, \"T\")","v":488222},226,{"$f":"IFERROR(RANK($J226,$J$1:J$607)+COUNTIF($J$1:J226,J226)-1,\"\")","v":279},"S.US.FOX","S.US.LEA",{"$f":"RTD(\"cqg.rtd\", ,\"ContractData\",O226, \"PerCentNetLastTrade\",, \"T\")/100","v":4.667688449212763E-3},"https://finance.yahoo.com/quote/LEA",null,4.667688449212763E-3,{"$error":"#N/A"},null,{"$f":"RTD(\"cqg.rtd\", ,\"ContractData\",O226, \"LongDescription\",, \"T\")","v":"Lear Corporation"},null,null,4.667688449212763E-3,null,1,1,null,4.667688449212763E-3,"",""]
[null,null,"S.US.FOXA",{"$f":"RTD(\"cqg.rtd\", ,\"ContractData\",C227, \"LongDescription\",, \"T\")","v":"Twenty-First Century Fox, Inc. Class A"},{"$f":"RTD(\"cqg.rtd\", ,\"ContractData\",C227, \"Open\",, \"T\")","v":26.87},{"$f":"RTD(\"cqg.rtd\", ,\"ContractData\",C227, \"High\",, \"T\")","v":26.92},{"$f":"RTD(\"cqg.rtd\", ,\"ContractData\",C227, \"Low\",, \"T\")","v":26.64},{"$f":"RTD(\"cqg.rtd\", ,\"ContractData\",C227, \"LastTradeToday\",, \"T\")","v":26.78},{"$f":"RTD(\"cqg.rtd\", ,\"ContractData\",C227, \"NetLastTradeToday\",, \"T\")","v":0.04},{"$f":"IFERROR(RTD(\"cqg.rtd\", ,\"ContractData\",C227, \"PerCentNetLastTrade\",, \"T\")/100,\"\")","v":1.4958863126402393E-3},{"$f":"RTD(\"cqg.rtd\", ,\"ContractData\", C227, \"T_CVol\",, \"T\")","v":1916244},227,{"$f":"IFERROR(RANK($J227,$J$1:J$607)+COUNTIF($J$1:J227,J227)-1,\"\")","v":338},"S.US.FOXA","S.US.ANET",{"$f":"RTD(\"cqg.rtd\", ,\"ContractData\",O227, \"PerCentNetLastTrade\",, \"T\")/100","v":4.5391061452513962E-3},"https://finance.yahoo.com/quote/ANET",null,4.5391061452513962E-3,{"$error":"#N/A"},null,{"$f":"RTD(\"cqg.rtd\", ,\"ContractData\",O227, \"LongDescription\",, \"T\")","v":"Arista Networks, Inc."},null,null,4.5391061452513962E-3,null,1,1,null,4.5391061452513962E-3,"",""]
[null,null,"S.US.FRC",{"$f":"RTD(\"cqg.rtd\", ,\"ContractData\",C228, \"LongDescription\",, \"T\")","v":"First Republic Bank"},{"$f":"RTD(\"cqg.rtd\", ,\"ContractData\",C228, \"Open\",, \"T\")","v":92.820000000000007},{"$f":"RTD(\"cqg.rtd\", ,\"ContractData\",C228, \"High\",, \"T\")","v":93.11},{"$f":"RTD(\"cqg.rtd\", ,\"ContractData\",C228, \"Low\",, \"T\")","v":92.460000000000008},{"$f":"RTD(\"cqg.rtd\", ,\"ContractData\",C228, \"LastTradeToday\",, \"T\")","v":92.97},{"$f":"RTD(\"cqg.rtd\", ,\"ContractData\",C228, \"NetLastTradeToday\",, \"T\")","v":0.23},{"$f":"IFERROR(RTD(\"cqg.rtd\", ,\"ContractData\",C228, \"PerCentNetLastTrade\",, \"T\")/100,\"\")","v":2.4800517576018975E-3},{"$f":"RTD(\"cqg.rtd\", ,\"ContractData\", C228, \"T_CVol\",, \"T\")","v":267020},228,{"$f":"IFERROR(RANK($J228,$J$1:J$607)+COUNTIF($J$1:J228,J228)-1,\"\")","v":299},"S.US.FRC","S.US.BMS",{"$f":"RTD(\"cqg.rtd\", ,\"ContractData\",O228, \"PerCentNetLastTrade\",, \"T\")/100","v":4.5269352648257127E-3},"https://finance.yahoo.com/quote/BMS",null,4.5269352648257127E-3,{"$error":"#N/A"},null,{"$f":"RTD(\"cqg.rtd\", ,\"ContractData\",O228, \"LongDescription\",, \"T\")","v":"Bemis Inc"},null,null,4.5269352648257127E-3,null,1,1,null,4.5269352648257127E-3,"",""]
[null,null,"S.US.FRT",{"$f":"RTD(\"cqg.rtd\", ,\"ContractData\",C229, \"LongDescription\",, \"T\")","v":"Federal Realty Invstmt Trst"},{"$f":"RTD(\"cqg.rtd\", ,\"ContractData\",C229, \"Open\",, \"T\")","v":125.78},{"$f":"RTD(\"cqg.rtd\", ,\"ContractData\",C229, \"High\",, \"T\")","v":127.9},{"$f":"RTD(\"cqg.rtd\", ,\"ContractData\",C229, \"Low\",, \"T\")","v":125.72},{"$f":"RTD(\"cqg.rtd\", ,\"ContractData\",C229, \"LastTradeToday\",, \"T\")","v":127.83},{"$f":"RTD(\"cqg.rtd\", ,\"ContractData\",C229, \"NetLastTradeToday\",, \"T\")","v":2.12},{"$f":"IFERROR(RTD(\"cqg.rtd\", ,\"ContractData\",C229, \"PerCentNetLastTrade\",, \"T\")/100,\"\")","v":1.6864211279929996E-2},{"$f":"RTD(\"cqg.rtd\", ,\"ContractData\", C229, \"T_CVol\",, \"T\")","v":165403},229,{"$f":"IFERROR(RANK($J229,$J$1:J$607)+COUNTIF($J$1:J229,J229)-1,\"\")","v":42},"S.US.FRT","S.US.UPS",{"$f":"RTD(\"cqg.rtd\", ,\"ContractData\",O229, \"PerCentNetLastTrade\",, \"T\")/100","v":4.5105566218809979E-3},"https://finance.yahoo.com/quote/UPS",null,4.5105566218809979E-3,{"$error":"#N/A"},null,{"$f":"RTD(\"cqg.rtd\", ,\"ContractData\",O229, \"LongDescription\",, \"T\")","v":"United Parcel Svc"},null,null,4.5105566218809979E-3,null,1,1,null,4.5105566218809979E-3,"",""]
[null,null,"S.US.FTNT",{"$f":"RTD(\"cqg.rtd\", ,\"ContractData\",C230, \"LongDescription\",, \"T\")","v":"Fortinet, Inc."},{"$f":"RTD(\"cqg.rtd\", ,\"ContractData\",C230, \"Open\",, \"T\")","v":40.230000000000004},{"$f":"RTD(\"cqg.rtd\", ,\"ContractData\",C230, \"High\",, \"T\")","v":40.44},{"$f":"RTD(\"cqg.rtd\", ,\"ContractData\",C230, \"Low\",, \"T\")","v":39.72},{"$f":"RTD(\"cqg.rtd\", ,\"ContractData\",C230, \"LastTradeToday\",, \"T\")","v":39.81},{"$f":"RTD(\"cqg.rtd\", ,\"ContractData\",C230, \"NetLastTradeToday\",, \"T\")","v":-0.26},{"$f":"IFERROR(RTD(\"cqg.rtd\", ,\"ContractData\",C230, \"PerCentNetLastTrade\",, \"T\")/100,\"\")","v":-6.4886448714749191E-3},{"$f":"RTD(\"cqg.rtd\", ,\"ContractData\", C230, \"T_CVol\",, \"T\")","v":422588},230,{"$f":"IFERROR(RANK($J230,$J$1:J$607)+COUNTIF($J$1:J230,J230)-1,\"\")","v":501},"S.US.FTNT","S.US.H",{"$f":"RTD(\"cqg.rtd\", ,\"ContractData\",O230, \"PerCentNetLastTrade\",, \"T\")/100","v":4.4843049327354259E-3},"https://finance.yahoo.com/quote/H",null,4.4843049327354259E-3,{"$error":"#N/A"},null,{"$f":"RTD(\"cqg.rtd\", ,\"ContractData\",O230, \"LongDescription\",, \"T\")","v":"Hyatt Hotels"},null,null,4.4843049327354259E-3,null,1,1,null,4.4843049327354259E-3,"",""]
[null,null,"S.US.FTV",{"$f":"RTD(\"cqg.rtd\", ,\"ContractData\",C231, \"LongDescription\",, \"T\")","v":"Fortive Corporation"},{"$f":"RTD(\"cqg.rtd\", ,\"ContractData\",C231, \"Open\",, \"T\")","v":62.74},{"$f":"RTD(\"cqg.rtd\", ,\"ContractData\",C231, \"High\",, \"T\")","v":63.22},{"$f":"RTD(\"cqg.rtd\", ,\"ContractData\",C231, \"Low\",, \"T\")","v":62.63},{"$f":"RTD(\"cqg.rtd\", ,\"ContractData\",C231, \"LastTradeToday\",, \"T\")","v":62.910000000000004},{"$f":"RTD(\"cqg.rtd\", ,\"ContractData\",C231, \"NetLastTradeToday\",, \"T\")","v":0.3},{"$f":"IFERROR(RTD(\"cqg.rtd\", ,\"ContractData\",C231, \"PerCentNetLastTrade\",, \"T\")/100,\"\")","v":4.7915668423574509E-3},{"$f":"RTD(\"cqg.rtd\", ,\"ContractData\", C231, \"T_CVol\",, \"T\")","v":786417},231,{"$f":"IFERROR(RANK($J231,$J$1:J$607)+COUNTIF($J$1:J231,J231)-1,\"\")","v":222},{"$f":"C231","v":"S.US.FTV"},"S.US.PGR",{"$f":"RTD(\"cqg.rtd\", ,\"ContractData\",O231, \"PerCentNetLastTrade\",, \"T\")/100","v":4.3321299638989169E-3},"https://finance.yahoo.com/quote/PGR",null,{"$f":"IF(P231>=0,P231,NA())","v":4.3321299638989169E-3},{"$f":"IF(P231>=0,NA(),-1*P231)","v":{"$error":"#N/A"}},null,{"$f":"RTD(\"cqg.rtd\", ,\"ContractData\",O231, \"LongDescription\",, \"T\")","v":"Progressive Corp"},null,null,{"$f":"IFERROR(S231,P231)","v":4.3321299638989169E-3},null,{"$f":"IF(S231=\"NA()\",0,1)","v":1},{"$f":"IFERROR(AA231,0)","v":1},null,{"$f":"IFERROR(S231,\"\")","v":4.3321299638989169E-3},{"$f":"IFERROR(T231,\"\")","v":""},{"$f":"IF(AE231=\"\",\"\",Y231)","v":""}]
[null,null,"S.US.G",{"$f":"RTD(\"cqg.rtd\", ,\"ContractData\",C232, \"LongDescription\",, \"T\")","v":"Genpact Limited"},{"$f":"RTD(\"cqg.rtd\", ,\"ContractData\",C232, \"Open\",, \"T\")","v":26.830000000000002},{"$f":"RTD(\"cqg.rtd\", ,\"ContractData\",C232, \"High\",, \"T\")","v":27.1},{"$f":"RTD(\"cqg.rtd\", ,\"ContractData\",C232, \"Low\",, \"T\")","v":26.76},{"$f":"RTD(\"cqg.rtd\", ,\"ContractData\",C232, \"LastTradeToday\",, \"T\")","v":26.96},{"$f":"RTD(\"cqg.rtd\", ,\"ContractData\",C232, \"NetLastTradeToday\",, \"T\")","v":0.14000000000000001},{"$f":"IFERROR(RTD(\"cqg.rtd\", ,\"ContractData\",C232, \"PerCentNetLastTrade\",, \"T\")/100,\"\")","v":5.2199850857568971E-3},{"$f":"RTD(\"cqg.rtd\", ,\"ContractData\", C232, \"T_CVol\",, \"T\")","v":561559},232,{"$f":"IFERROR(RANK($J232,$J$1:J$607)+COUNTIF($J$1:J232,J232)-1,\"\")","v":208},"S.US.G","S.US.ISRG",{"$f":"RTD(\"cqg.rtd\", ,\"ContractData\",O232, \"PerCentNetLastTrade\",, \"T\")/100","v":4.2584500133773301E-3},"https://finance.yahoo.com/quote/ISRG",null,4.2584500133773301E-3,{"$error":"#N/A"},null,{"$f":"RTD(\"cqg.rtd\", ,\"ContractData\",O232, \"LongDescription\",, \"T\")","v":"Intuitive Surgical Inc"},null,null,4.2584500133773301E-3,null,1,1,null,4.2584500133773301E-3,"",""]
[null,null,"S.US.GD",{"$f":"RTD(\"cqg.rtd\", ,\"ContractData\",C233, \"LongDescription\",, \"T\")","v":"General Dynamics Corp"},{"$f":"RTD(\"cqg.rtd\", ,\"ContractData\",C233, \"Open\",, \"T\")","v":199.6},{"$f":"RTD(\"cqg.rtd\", ,\"ContractData\",C233, \"High\",, \"T\")","v":200.6},{"$f":"RTD(\"cqg.rtd\", ,\"ContractData\",C233, \"Low\",, \"T\")","v":199.08},{"$f":"RTD(\"cqg.rtd\", ,\"ContractData\",C233, \"LastTradeToday\",, \"T\")","v":199.95000000000002},{"$f":"RTD(\"cqg.rtd\", ,\"ContractData\",C233, \"NetLastTradeToday\",, \"T\")","v":0.63},{"$f":"IFERROR(RTD(\"cqg.rtd\", ,\"ContractData\",C233, \"PerCentNetLastTrade\",, \"T\")/100,\"\")","v":3.1607465382299822E-3},{"$f":"RTD(\"cqg.rtd\", ,\"ContractData\", C233, \"T_CVol\",, \"T\")","v":345408},233,{"$f":"IFERROR(RANK($J233,$J$1:J$607)+COUNTIF($J$1:J233,J233)-1,\"\")","v":273},"S.US.GD","S.US.XL",{"$f":"RTD(\"cqg.rtd\", ,\"ContractData\",O233, \"PerCentNetLastTrade\",, \"T\")/100","v":4.24929178470255E-3},"https://finance.yahoo.com/quote/XL",null,4.24929178470255E-3,{"$error":"#N/A"},null,{"$f":"RTD(\"cqg.rtd\", ,\"ContractData\",O233, \"LongDescription\",, \"T\")","v":"XL Group plc"},null,null,4.24929178470255E-3,null,1,1,null,4.24929178470255E-3,"",""]
[null,null,"S.US.GDDY",{"$f":"RTD(\"cqg.rtd\", ,\"ContractData\",C234, \"LongDescription\",, \"T\")","v":"GoDaddy Inc."},{"$f":"RTD(\"cqg.rtd\", ,\"ContractData\",C234, \"Open\",, \"T\")","v":40.450000000000003},{"$f":"RTD(\"cqg.rtd\", ,\"ContractData\",C234, \"High\",, \"T\")","v":41.57},{"$f":"RTD(\"cqg.rtd\", ,\"ContractData\",C234, \"Low\",, \"T\")","v":40.39},{"$f":"RTD(\"cqg.rtd\", ,\"ContractData\",C234, \"LastTradeToday\",, \"T\")","v":41.35},{"$f":"RTD(\"cqg.rtd\", ,\"ContractData\",C234, \"NetLastTradeToday\",, \"T\")","v":0.82000000000000006},{"$f":"IFERROR(RTD(\"cqg.rtd\", ,\"ContractData\",C234, \"PerCentNetLastTrade\",, \"T\")/100,\"\")","v":2.0231926967678265E-2},{"$f":"RTD(\"cqg.rtd\", ,\"ContractData\", C234, \"T_CVol\",, \"T\")","v":828777},234,{"$f":"IFERROR(RANK($J234,$J$1:J$607)+COUNTIF($J$1:J234,J234)-1,\"\")","v":26},"S.US.GDDY","S.US.VNTV",{"$f":"RTD(\"cqg.rtd\", ,\"ContractData\",O234, \"PerCentNetLastTrade\",, \"T\")/100","v":4.244205027750571E-3},"https://finance.yahoo.com/quote/VNTV",null,4.244205027750571E-3,{"$error":"#N/A"},null,{"$f":"RTD(\"cqg.rtd\", ,\"ContractData\",O234, \"LongDescription\",, \"T\")","v":"Vantiv, Inc."},null,null,4.244205027750571E-3,null,1,1,null,4.244205027750571E-3,"",""]
[null,null,"S.US.GE",{"$f":"RTD(\"cqg.rtd\", ,\"ContractData\",C235, \"LongDescription\",, \"T\")","v":"General Electric Co"},{"$f":"RTD(\"cqg.rtd\", ,\"ContractData\",C235, \"Open\",, \"T\")","v":28.32},{"$f":"RTD(\"cqg.rtd\", ,\"ContractData\",C235, \"High\",, \"T\")","v":28.5},{"$f":"RTD(\"cqg.rtd\", ,\"ContractData\",C235, \"Low\",, \"T\")","v":27.62},{"$f":"RTD(\"cqg.rtd\", ,\"ContractData\",C235, \"LastTradeToday\",, \"T\")","v":27.78},{"$f":"RTD(\"cqg.rtd\", ,\"ContractData\",C235, \"NetLastTradeToday\",, \"T\")","v":-0.5},{"$f":"IFERROR(RTD(\"cqg.rtd\", ,\"ContractData\",C235, \"PerCentNetLastTrade\",, \"T\")/100,\"\")","v":-1.768033946251768E-2},{"$f":"RTD(\"cqg.rtd\", ,\"ContractData\", C235, \"T_CVol\",, \"T\")","v":37241840},235,{"$f":"IFERROR(RANK($J235,$J$1:J$607)+COUNTIF($J$1:J235,J235)-1,\"\")","v":583},"S.US.GE","S.US.RRD",{"$f":"RTD(\"cqg.rtd\", ,\"ContractData\",O235, \"PerCentNetLastTrade\",, \"T\")/100","v":4.1493775933609959E-3},"https://finance.yahoo.com/quote/RRD",null,4.1493775933609959E-3,{"$error":"#N/A"},null,{"$f":"RTD(\"cqg.rtd\", ,\"ContractData\",O235, \"LongDescription\",, \"T\")","v":"Donnelly (RR) & Sons Co"},null,null,4.1493775933609959E-3,null,1,1,null,4.1493775933609959E-3,"",""]
[null,null,"S.US.GGG",{"$f":"RTD(\"cqg.rtd\", ,\"ContractData\",C236, \"LongDescription\",, \"T\")","v":"Graco Inc"},{"$f":"RTD(\"cqg.rtd\", ,\"ContractData\",C236, \"Open\",, \"T\")","v":110.25},{"$f":"RTD(\"cqg.rtd\", ,\"ContractData\",C236, \"High\",, \"T\")","v":110.81},{"$f":"RTD(\"cqg.rtd\", ,\"ContractData\",C236, \"Low\",, \"T\")","v":109.26},{"$f":"RTD(\"cqg.rtd\", ,\"ContractData\",C236, \"LastTradeToday\",, \"T\")","v":109.47},{"$f":"RTD(\"cqg.rtd\", ,\"ContractData\",C236, \"NetLastTradeToday\",, \"T\")","v":-0.72},{"$f":"IFERROR(RTD(\"cqg.rtd\", ,\"ContractData\",C236, \"PerCentNetLastTrade\",, \"T\")/100,\"\")","v":-6.5341682548325621E-3},{"$f":"RTD(\"cqg.rtd\", ,\"ContractData\", C236, \"T_CVol\",, \"T\")","v":76483},236,{"$f":"IFERROR(RANK($J236,$J$1:J$607)+COUNTIF($J$1:J236,J236)-1,\"\")","v":503},"S.US.GGG","S.US.TXN",{"$f":"RTD(\"cqg.rtd\", ,\"ContractData\",O236, \"PerCentNetLastTrade\",, \"T\")/100","v":4.1410465554021832E-3},"https://finance.yahoo.com/quote/TXN",null,4.1410465554021832E-3,{"$error":"#N/A"},null,{"$f":"RTD(\"cqg.rtd\", ,\"ContractData\",O236, \"LongDescription\",, \"T\")","v":"Texas Instruments Inc"},null,null,4.1410465554021832E-3,null,1,1,null,4.1410465554021832E-3,"",""]
[null,null,"S.US.GILD",{"$f":"RTD(\"cqg.rtd\", ,\"ContractData\",C237, \"LongDescription\",, \"T\")","v":"Gilead Sciences Inc"},{"$f":"RTD(\"cqg.rtd\", ,\"ContractData\",C237, \"Open\",, \"T\")","v":64.73},{"$f":"RTD(\"cqg.rtd\", ,\"ContractData\",C237, \"High\",, \"T\")","v":64.790000000000006},{"$f":"RTD(\"cqg.rtd\", ,\"ContractData\",C237, \"Low\",, \"T\")","v":64.23},{"$f":"RTD(\"cqg.rtd\", ,\"ContractData\",C237, \"LastTradeToday\",, \"T\")","v":64.34},{"$f":"RTD(\"cqg.rtd\", ,\"ContractData\",C237, \"NetLastTradeToday\",, \"T\")","v":-0.35000000000000003},{"$f":"IFERROR(RTD(\"cqg.rtd\", ,\"ContractData\",C237, \"PerCentNetLastTrade\",, \"T\")/100,\"\")","v":-5.4104189210078838E-3},{"$f":"RTD(\"cqg.rtd\", ,\"ContractData\", C237, \"T_CVol\",, \"T\")","v":3656721},237,{"$f":"IFERROR(RANK($J237,$J$1:J$607)+COUNTIF($J$1:J237,J237)-1,\"\")","v":486},"S.US.GILD","S.US.WYN",{"$f":"RTD(\"cqg.rtd\", ,\"ContractData\",O237, \"PerCentNetLastTrade\",, \"T\")/100","v":4.1288191577208916E-3},"https://finance.yahoo.com/quote/WYN",null,4.1288191577208916E-3,{"$error":"#N/A"},null,{"$f":"RTD(\"cqg.rtd\", ,\"ContractData\",O237, \"LongDescription\",, \"T\")","v":"Wyndham Worldwide Corp"},null,null,4.1288191577208916E-3,null,1,1,null,4.1288191577208916E-3,"",""]
[null,null,"S.US.GIS",{"$f":"RTD(\"cqg.rtd\", ,\"ContractData\",C238, \"LongDescription\",, \"T\")","v":"General Mills Inc"},{"$f":"RTD(\"cqg.rtd\", ,\"ContractData\",C238, \"Open\",, \"T\")","v":56.68},{"$f":"RTD(\"cqg.rtd\", ,\"ContractData\",C238, \"High\",, \"T\")","v":56.93},{"$f":"RTD(\"cqg.rtd\", ,\"ContractData\",C238, \"Low\",, \"T\")","v":56.56},{"$f":"RTD(\"cqg.rtd\", ,\"ContractData\",C238, \"LastTradeToday\",, \"T\")","v":56.88},{"$f":"RTD(\"cqg.rtd\", ,\"ContractData\",C238, \"NetLastTradeToday\",, \"T\")","v":0.19},{"$f":"IFERROR(RTD(\"cqg.rtd\", ,\"ContractData\",C238, \"PerCentNetLastTrade\",, \"T\")/100,\"\")","v":3.3515611218909863E-3},{"$f":"RTD(\"cqg.rtd\", ,\"ContractData\", C238, \"T_CVol\",, \"T\")","v":1300601},238,{"$f":"IFERROR(RANK($J238,$J$1:J$607)+COUNTIF($J$1:J238,J238)-1,\"\")","v":261},"S.US.GIS","S.US.GLPI",{"$f":"RTD(\"cqg.rtd\", ,\"ContractData\",O238, \"PerCentNetLastTrade\",, \"T\")/100","v":4.1174855888004395E-3},"https://finance.yahoo.com/quote/GLPI",null,4.1174855888004395E-3,{"$error":"#N/A"},null,{"$f":"RTD(\"cqg.rtd\", ,\"ContractData\",O238, \"LongDescription\",, \"T\")","v":"Gaming and Leisure Properties, Inc."},null,null,4.1174855888004395E-3,null,1,1,null,4.1174855888004395E-3,"",""]
[null,null,"S.US.GLPI",{"$f":"RTD(\"cqg.rtd\", ,\"ContractData\",C239, \"LongDescription\",, \"T\")","v":"Gaming and Leisure Properties, Inc."},{"$f":"RTD(\"cqg.rtd\", ,\"ContractData\",C239, \"Open\",, \"T\")","v":36.51},{"$f":"RTD(\"cqg.rtd\", ,\"ContractData\",C239, \"High\",, \"T\")","v":36.76},{"$f":"RTD(\"cqg.rtd\", ,\"ContractData\",C239, \"Low\",, \"T\")","v":36.44},{"$f":"RTD(\"cqg.rtd\", ,\"ContractData\",C239, \"LastTradeToday\",, \"T\")","v":36.58},{"$f":"RTD(\"cqg.rtd\", ,\"ContractData\",C239, \"NetLastTradeToday\",, \"T\")","v":0.15},{"$f":"IFERROR(RTD(\"cqg.rtd\", ,\"ContractData\",C239, \"PerCentNetLastTrade\",, \"T\")/100,\"\")","v":4.1174855888004395E-3},{"$f":"RTD(\"cqg.rtd\", ,\"ContractData\", C239, \"T_CVol\",, \"T\")","v":530346},239,{"$f":"IFERROR(RANK($J239,$J$1:J$607)+COUNTIF($J$1:J239,J239)-1,\"\")","v":238},"S.US.GLPI","S.US.LEN",{"$f":"RTD(\"cqg.rtd\", ,\"ContractData\",O239, \"PerCentNetLastTrade\",, \"T\")/100","v":4.0674026728646133E-3},"https://finance.yahoo.com/quote/LEN",null,4.0674026728646133E-3,{"$error":"#N/A"},null,{"$f":"RTD(\"cqg.rtd\", ,\"ContractData\",O239, \"LongDescription\",, \"T\")","v":"Lennar Corp"},null,null,4.0674026728646133E-3,null,1,1,null,4.0674026728646133E-3,"",""]
[null,null,"S.US.GNTX",{"$f":"RTD(\"cqg.rtd\", ,\"ContractData\",C240, \"LongDescription\",, \"T\")","v":"Gentex Corporation"},{"$f":"RTD(\"cqg.rtd\", ,\"ContractData\",C240, \"Open\",, \"T\")","v":18.760000000000002},{"$f":"RTD(\"cqg.rtd\", ,\"ContractData\",C240, \"High\",, \"T\")","v":18.920000000000002},{"$f":"RTD(\"cqg.rtd\", ,\"ContractData\",C240, \"Low\",, \"T\")","v":18.71},{"$f":"RTD(\"cqg.rtd\", ,\"ContractData\",C240, \"LastTradeToday\",, \"T\")","v":18.91},{"$f":"RTD(\"cqg.rtd\", ,\"ContractData\",C240, \"NetLastTradeToday\",, \"T\")","v":0.13},{"$f":"IFERROR(RTD(\"cqg.rtd\", ,\"ContractData\",C240, \"PerCentNetLastTrade\",, \"T\")/100,\"\")","v":6.9222577209797657E-3},{"$f":"RTD(\"cqg.rtd\", ,\"ContractData\", C240, \"T_CVol\",, \"T\")","v":596592},240,{"$f":"IFERROR(RANK($J240,$J$1:J$607)+COUNTIF($J$1:J240,J240)-1,\"\")","v":171},"S.US.GNTX","S.US.MXIM",{"$f":"RTD(\"cqg.rtd\", ,\"ContractData\",O240, \"PerCentNetLastTrade\",, \"T\")/100","v":4.0563620836891546E-3},"https://finance.yahoo.com/quote/MXIM",null,4.0563620836891546E-3,{"$error":"#N/A"},null,{"$f":"RTD(\"cqg.rtd\", ,\"ContractData\",O240, \"LongDescription\",, \"T\")","v":"Maxim Integrated Products Inc"},null,null,4.0563620836891546E-3,null,1,1,null,4.0563620836891546E-3,"",""]
[null,null,"S.US.GOOG",{"$f":"RTD(\"cqg.rtd\", ,\"ContractData\",C241, \"LongDescription\",, \"T\")","v":"Google, Inc. Class C"},{"$f":"RTD(\"cqg.rtd\", ,\"ContractData\",C241, \"Open\",, \"T\")","v":952.98},{"$f":"RTD(\"cqg.rtd\", ,\"ContractData\",C241, \"High\",, \"T\")","v":954.06000000000006},{"$f":"RTD(\"cqg.rtd\", ,\"ContractData\",C241, \"Low\",, \"T\")","v":949.5},{"$f":"RTD(\"cqg.rtd\", ,\"ContractData\",C241, \"LastTradeToday\",, \"T\")","v":953.67000000000007},{"$f":"RTD(\"cqg.rtd\", ,\"ContractData\",C241, \"NetLastTradeToday\",, \"T\")","v":4.8500000000000005},{"$f":"IFERROR(RTD(\"cqg.rtd\", ,\"ContractData\",C241, \"PerCentNetLastTrade\",, \"T\")/100,\"\")","v":5.1116123184587166E-3},{"$f":"RTD(\"cqg.rtd\", ,\"ContractData\", C241, \"T_CVol\",, \"T\")","v":682447},241,{"$f":"IFERROR(RANK($J241,$J$1:J$607)+COUNTIF($J$1:J241,J241)-1,\"\")","v":212},"S.US.GOOG","S.US.SNPS",{"$f":"RTD(\"cqg.rtd\", ,\"ContractData\",O241, \"PerCentNetLastTrade\",, \"T\")/100","v":3.9944903581267217E-3},"https://finance.yahoo.com/quote/SNPS",null,3.9944903581267217E-3,{"$error":"#N/A"},null,{"$f":"RTD(\"cqg.rtd\", ,\"ContractData\",O241, \"LongDescription\",, \"T\")","v":"Synopsis"},null,null,3.9944903581267217E-3,null,1,1,null,3.9944903581267217E-3,"",""]
[null,null,"S.US.GOOGL",{"$f":"RTD(\"cqg.rtd\", ,\"ContractData\",C242, \"LongDescription\",, \"T\")","v":"Alphabet Inc. Class A"},{"$f":"RTD(\"cqg.rtd\", ,\"ContractData\",C242, \"Open\",, \"T\")","v":975.26},{"$f":"RTD(\"cqg.rtd\", ,\"ContractData\",C242, \"High\",, \"T\")","v":976.48},{"$f":"RTD(\"cqg.rtd\", ,\"ContractData\",C242, \"Low\",, \"T\")","v":971.62},{"$f":"RTD(\"cqg.rtd\", ,\"ContractData\",C242, \"LastTradeToday\",, \"T\")","v":975.43000000000006},{"$f":"RTD(\"cqg.rtd\", ,\"ContractData\",C242, \"NetLastTradeToday\",, \"T\")","v":4.88},{"$f":"IFERROR(RTD(\"cqg.rtd\", ,\"ContractData\",C242, \"PerCentNetLastTrade\",, \"T\")/100,\"\")","v":5.0280768636340222E-3},{"$f":"RTD(\"cqg.rtd\", ,\"ContractData\", C242, \"T_CVol\",, \"T\")","v":650638},242,{"$f":"IFERROR(RANK($J242,$J$1:J$607)+COUNTIF($J$1:J242,J242)-1,\"\")","v":214},"S.US.GOOGL","S.US.RHT",{"$f":"RTD(\"cqg.rtd\", ,\"ContractData\",O242, \"PerCentNetLastTrade\",, \"T\")/100","v":3.9940659591464114E-3},"https://finance.yahoo.com/quote/RHT",null,3.9940659591464114E-3,{"$error":"#N/A"},null,{"$f":"RTD(\"cqg.rtd\", ,\"ContractData\",O242, \"LongDescription\",, \"T\")","v":"Red Hat Inc"},null,null,3.9940659591464114E-3,null,1,1,null,3.9940659591464114E-3,"",""]
[null,null,"S.US.GPC",{"$f":"RTD(\"cqg.rtd\", ,\"ContractData\",C243, \"LongDescription\",, \"T\")","v":"Genuine Parts Company"},{"$f":"RTD(\"cqg.rtd\", ,\"ContractData\",C243, \"Open\",, \"T\")","v":90.27},{"$f":"RTD(\"cqg.rtd\", ,\"ContractData\",C243, \"High\",, \"T\")","v":90.84},{"$f":"RTD(\"cqg.rtd\", ,\"ContractData\",C243, \"Low\",, \"T\")","v":89.83},{"$f":"RTD(\"cqg.rtd\", ,\"ContractData\",C243, \"LastTradeToday\",, \"T\")","v":90.320000000000007},{"$f":"RTD(\"cqg.rtd\", ,\"ContractData\",C243, \"NetLastTradeToday\",, \"T\")","v":-0.33},{"$f":"IFERROR(RTD(\"cqg.rtd\", ,\"ContractData\",C243, \"PerCentNetLastTrade\",, \"T\")/100,\"\")","v":-3.6403750689464973E-3},{"$f":"RTD(\"cqg.rtd\", ,\"ContractData\", C243, \"T_CVol\",, \"T\")","v":404677},243,{"$f":"IFERROR(RANK($J243,$J$1:J$607)+COUNTIF($J$1:J243,J243)-1,\"\")","v":463},"S.US.GPC","S.US.FDS",{"$f":"RTD(\"cqg.rtd\", ,\"ContractData\",O243, \"PerCentNetLastTrade\",, \"T\")/100","v":3.9781203381402284E-3},"https://finance.yahoo.com/quote/FDS",null,3.9781203381402284E-3,{"$error":"#N/A"},null,{"$f":"RTD(\"cqg.rtd\", ,\"ContractData\",O243, \"LongDescription\",, \"T\")","v":"Factet Research"},null,null,3.9781203381402284E-3,null,1,1,null,3.9781203381402284E-3,"",""]
[null,null,"S.US.GPK",{"$f":"RTD(\"cqg.rtd\", ,\"ContractData\",C244, \"LongDescription\",, \"T\")","v":"Graphic Packaging Holding Company"},{"$f":"RTD(\"cqg.rtd\", ,\"ContractData\",C244, \"Open\",, \"T\")","v":13.08},{"$f":"RTD(\"cqg.rtd\", ,\"ContractData\",C244, \"High\",, \"T\")","v":13.48},{"$f":"RTD(\"cqg.rtd\", ,\"ContractData\",C244, \"Low\",, \"T\")","v":13.01},{"$f":"RTD(\"cqg.rtd\", ,\"ContractData\",C244, \"LastTradeToday\",, \"T\")","v":13.450000000000001},{"$f":"RTD(\"cqg.rtd\", ,\"ContractData\",C244, \"NetLastTradeToday\",, \"T\")","v":0.38},{"$f":"IFERROR(RTD(\"cqg.rtd\", ,\"ContractData\",C244, \"PerCentNetLastTrade\",, \"T\")/100,\"\")","v":2.9074215761285386E-2},{"$f":"RTD(\"cqg.rtd\", ,\"ContractData\", C244, \"T_CVol\",, \"T\")","v":3285890},244,{"$f":"IFERROR(RANK($J244,$J$1:J$607)+COUNTIF($J$1:J244,J244)-1,\"\")","v":13},"S.US.GPK","S.US.CAH",{"$f":"RTD(\"cqg.rtd\", ,\"ContractData\",O244, \"PerCentNetLastTrade\",, \"T\")/100","v":3.9747807017543853E-3},"https://finance.yahoo.com/quote/CAH",null,3.9747807017543853E-3,{"$error":"#N/A"},null,{"$f":"RTD(\"cqg.rtd\", ,\"ContractData\",O244, \"LongDescription\",, \"T\")","v":"Cardinal Health Inc"},null,null,3.9747807017543853E-3,null,1,1,null,3.9747807017543853E-3,"",""]
[null,null,"S.US.GPN",{"$f":"RTD(\"cqg.rtd\", ,\"ContractData\",C245, \"LongDescription\",, \"T\")","v":"Global Payments"},{"$f":"RTD(\"cqg.rtd\", ,\"ContractData\",C245, \"Open\",, \"T\")","v":91.23},{"$f":"RTD(\"cqg.rtd\", ,\"ContractData\",C245, \"High\",, \"T\")","v":92.26},{"$f":"RTD(\"cqg.rtd\", ,\"ContractData\",C245, \"Low\",, \"T\")","v":90.95},{"$f":"RTD(\"cqg.rtd\", ,\"ContractData\",C245, \"LastTradeToday\",, \"T\")","v":92.17},{"$f":"RTD(\"cqg.rtd\", ,\"ContractData\",C245, \"NetLastTradeToday\",, \"T\")","v":0.96},{"$f":"IFERROR(RTD(\"cqg.rtd\", ,\"ContractData\",C245, \"PerCentNetLastTrade\",, \"T\")/100,\"\")","v":1.0525161714724262E-2},{"$f":"RTD(\"cqg.rtd\", ,\"ContractData\", C245, \"T_CVol\",, \"T\")","v":462413},245,{"$f":"IFERROR(RANK($J245,$J$1:J$607)+COUNTIF($J$1:J245,J245)-1,\"\")","v":98},"S.US.GPN","S.US.XLNX",{"$f":"RTD(\"cqg.rtd\", ,\"ContractData\",O245, \"PerCentNetLastTrade\",, \"T\")/100","v":3.9080819133969049E-3},"https://finance.yahoo.com/quote/XLNX",null,3.9080819133969049E-3,{"$error":"#N/A"},null,{"$f":"RTD(\"cqg.rtd\", ,\"ContractData\",O245, \"LongDescription\",, \"T\")","v":"Xilinx Inc"},null,null,3.9080819133969049E-3,null,1,1,null,3.9080819133969049E-3,"",""]
[null,null,"S.US.GPS",{"$f":"RTD(\"cqg.rtd\", ,\"ContractData\",C246, \"LongDescription\",, \"T\")","v":"Gap Inc"},{"$f":"RTD(\"cqg.rtd\", ,\"ContractData\",C246, \"Open\",, \"T\")","v":22.3},{"$f":"RTD(\"cqg.rtd\", ,\"ContractData\",C246, \"High\",, \"T\")","v":22.38},{"$f":"RTD(\"cqg.rtd\", ,\"ContractData\",C246, \"Low\",, \"T\")","v":21.97},{"$f":"RTD(\"cqg.rtd\", ,\"ContractData\",C246, \"LastTradeToday\",, \"T\")","v":22.25},{"$f":"RTD(\"cqg.rtd\", ,\"ContractData\",C246, \"NetLastTradeToday\",, \"T\")","v":-7.0000000000000007E-2},{"$f":"IFERROR(RTD(\"cqg.rtd\", ,\"ContractData\",C246, \"PerCentNetLastTrade\",, \"T\")/100,\"\")","v":-3.1362007168458782E-3},{"$f":"RTD(\"cqg.rtd\", ,\"ContractData\", C246, \"T_CVol\",, \"T\")","v":4187700},246,{"$f":"IFERROR(RANK($J246,$J$1:J$607)+COUNTIF($J$1:J246,J246)-1,\"\")","v":455},"S.US.GPS","S.US.PKI",{"$f":"RTD(\"cqg.rtd\", ,\"ContractData\",O246, \"PerCentNetLastTrade\",, \"T\")/100","v":3.8672252658717371E-3},"https://finance.yahoo.com/quote/PKI",null,3.8672252658717371E-3,{"$error":"#N/A"},null,{"$f":"RTD(\"cqg.rtd\", ,\"ContractData\",O246, \"LongDescription\",, \"T\")","v":"PerkinElmer Inc"},null,null,3.8672252658717371E-3,null,1,1,null,3.8672252658717371E-3,"",""]
[null,null,"S.US.GRA",{"$f":"RTD(\"cqg.rtd\", ,\"ContractData\",C247, \"LongDescription\",, \"T\")","v":"Grace (WR) & Co New"},{"$f":"RTD(\"cqg.rtd\", ,\"ContractData\",C247, \"Open\",, \"T\")","v":71.37},{"$f":"RTD(\"cqg.rtd\", ,\"ContractData\",C247, \"High\",, \"T\")","v":71.83},{"$f":"RTD(\"cqg.rtd\", ,\"ContractData\",C247, \"Low\",, \"T\")","v":71.290000000000006},{"$f":"RTD(\"cqg.rtd\", ,\"ContractData\",C247, \"LastTradeToday\",, \"T\")","v":71.78},{"$f":"RTD(\"cqg.rtd\", ,\"ContractData\",C247, \"NetLastTradeToday\",, \"T\")","v":0.42},{"$f":"IFERROR(RTD(\"cqg.rtd\", ,\"ContractData\",C247, \"PerCentNetLastTrade\",, \"T\")/100,\"\")","v":5.8856502242152463E-3},{"$f":"RTD(\"cqg.rtd\", ,\"ContractData\", C247, \"T_CVol\",, \"T\")","v":134452},247,{"$f":"IFERROR(RANK($J247,$J$1:J$607)+COUNTIF($J$1:J247,J247)-1,\"\")","v":196},"S.US.GRA","S.US.VEEV",{"$f":"RTD(\"cqg.rtd\", ,\"ContractData\",O247, \"PerCentNetLastTrade\",, \"T\")/100","v":3.8022813688212923E-3},"https://finance.yahoo.com/quote/VEEV",null,3.8022813688212923E-3,{"$error":"#N/A"},null,{"$f":"RTD(\"cqg.rtd\", ,\"ContractData\",O247, \"LongDescription\",, \"T\")","v":"VEEVA Systems, Inc."},null,null,3.8022813688212923E-3,null,1,1,null,3.8022813688212923E-3,"",""]
[null,null,"S.US.GRPN",{"$f":"RTD(\"cqg.rtd\", ,\"ContractData\",C248, \"LongDescription\",, \"T\")","v":"Groupon, Inc."},{"$f":"RTD(\"cqg.rtd\", ,\"ContractData\",C248, \"Open\",, \"T\")","v":3.27},{"$f":"RTD(\"cqg.rtd\", ,\"ContractData\",C248, \"High\",, \"T\")","v":3.3200000000000003},{"$f":"RTD(\"cqg.rtd\", ,\"ContractData\",C248, \"Low\",, \"T\")","v":3.22},{"$f":"RTD(\"cqg.rtd\", ,\"ContractData\",C248, \"LastTradeToday\",, \"T\")","v":3.3000000000000003},{"$f":"RTD(\"cqg.rtd\", ,\"ContractData\",C248, \"NetLastTradeToday\",, \"T\")","v":0.02},{"$f":"IFERROR(RTD(\"cqg.rtd\", ,\"ContractData\",C248, \"PerCentNetLastTrade\",, \"T\")/100,\"\")","v":6.0975609756097563E-3},{"$f":"RTD(\"cqg.rtd\", ,\"ContractData\", C248, \"T_CVol\",, \"T\")","v":3110096},248,{"$f":"IFERROR(RANK($J248,$J$1:J$607)+COUNTIF($J$1:J248,J248)-1,\"\")","v":191},"S.US.GRPN","S.US.COL",{"$f":"RTD(\"cqg.rtd\", ,\"ContractData\",O248, \"PerCentNetLastTrade\",, \"T\")/100","v":3.7615740740740739E-3},"https://finance.yahoo.com/quote/COL",null,3.7615740740740739E-3,{"$error":"#N/A"},null,{"$f":"RTD(\"cqg.rtd\", ,\"ContractData\",O248, \"LongDescription\",, \"T\")","v":"Rockwell Collins"},null,null,3.7615740740740739E-3,null,1,1,null,3.7615740740740739E-3,"",""]
[null,null,"S.US.GWRE",{"$f":"RTD(\"cqg.rtd\", ,\"ContractData\",C249, \"LongDescription\",, \"T\")","v":"Guidewire Software, Inc."},{"$f":"RTD(\"cqg.rtd\", ,\"ContractData\",C249, \"Open\",, \"T\")","v":63.82},{"$f":"RTD(\"cqg.rtd\", ,\"ContractData\",C249, \"High\",, \"T\")","v":64.849999999999994},{"$f":"RTD(\"cqg.rtd\", ,\"ContractData\",C249, \"Low\",, \"T\")","v":63.79},{"$f":"RTD(\"cqg.rtd\", ,\"ContractData\",C249, \"LastTradeToday\",, \"T\")","v":64.56},{"$f":"RTD(\"cqg.rtd\", ,\"ContractData\",C249, \"NetLastTradeToday\",, \"T\")","v":0.89},{"$f":"IFERROR(RTD(\"cqg.rtd\", ,\"ContractData\",C249, \"PerCentNetLastTrade\",, \"T\")/100,\"\")","v":1.3978325742107743E-2},{"$f":"RTD(\"cqg.rtd\", ,\"ContractData\", C249, \"T_CVol\",, \"T\")","v":149234},249,{"$f":"IFERROR(RANK($J249,$J$1:J$607)+COUNTIF($J$1:J249,J249)-1,\"\")","v":63},"S.US.GWRE","S.US.ADP",{"$f":"RTD(\"cqg.rtd\", ,\"ContractData\",O249, \"PerCentNetLastTrade\",, \"T\")/100","v":3.7174721189591076E-3},"https://finance.yahoo.com/quote/ADP",null,3.7174721189591076E-3,{"$error":"#N/A"},null,{"$f":"RTD(\"cqg.rtd\", ,\"ContractData\",O249, \"LongDescription\",, \"T\")","v":"Auto Data Processing Inc"},null,null,3.7174721189591076E-3,null,1,1,null,3.7174721189591076E-3,"",""]
[null,null,"S.US.GWW",{"$f":"RTD(\"cqg.rtd\", ,\"ContractData\",C250, \"LongDescription\",, \"T\")","v":"Grainger (WW) Inc"},{"$f":"RTD(\"cqg.rtd\", ,\"ContractData\",C250, \"Open\",, \"T\")","v":177.13},{"$f":"RTD(\"cqg.rtd\", ,\"ContractData\",C250, \"High\",, \"T\")","v":179.05},{"$f":"RTD(\"cqg.rtd\", ,\"ContractData\",C250, \"Low\",, \"T\")","v":175.77},{"$f":"RTD(\"cqg.rtd\", ,\"ContractData\",C250, \"LastTradeToday\",, \"T\")","v":176.09},{"$f":"RTD(\"cqg.rtd\", ,\"ContractData\",C250, \"NetLastTradeToday\",, \"T\")","v":-0.53},{"$f":"IFERROR(RTD(\"cqg.rtd\", ,\"ContractData\",C250, \"PerCentNetLastTrade\",, \"T\")/100,\"\")","v":-3.0007926622126601E-3},{"$f":"RTD(\"cqg.rtd\", ,\"ContractData\", C250, \"T_CVol\",, \"T\")","v":661773},250,{"$f":"IFERROR(RANK($J250,$J$1:J$607)+COUNTIF($J$1:J250,J250)-1,\"\")","v":452},"S.US.GWW","S.US.UNH",{"$f":"RTD(\"cqg.rtd\", ,\"ContractData\",O250, \"PerCentNetLastTrade\",, \"T\")/100","v":3.7096221892478024E-3},"https://finance.yahoo.com/quote/UNH",null,3.7096221892478024E-3,{"$error":"#N/A"},null,{"$f":"RTD(\"cqg.rtd\", ,\"ContractData\",O250, \"LongDescription\",, \"T\")","v":"United Health Group Inc"},null,null,3.7096221892478024E-3,null,1,1,null,3.7096221892478024E-3,"",""]
[null,null,"S.US.H",{"$f":"RTD(\"cqg.rtd\", ,\"ContractData\",C251, \"LongDescription\",, \"T\")","v":"Hyatt Hotels"},{"$f":"RTD(\"cqg.rtd\", ,\"ContractData\",C251, \"Open\",, \"T\")","v":58.07},{"$f":"RTD(\"cqg.rtd\", ,\"ContractData\",C251, \"High\",, \"T\")","v":58.480000000000004},{"$f":"RTD(\"cqg.rtd\", ,\"ContractData\",C251, \"Low\",, \"T\")","v":58},{"$f":"RTD(\"cqg.rtd\", ,\"ContractData\",C251, \"LastTradeToday\",, \"T\")","v":58.24},{"$f":"RTD(\"cqg.rtd\", ,\"ContractData\",C251, \"NetLastTradeToday\",, \"T\")","v":0.26},{"$f":"IFERROR(RTD(\"cqg.rtd\", ,\"ContractData\",C251, \"PerCentNetLastTrade\",, \"T\")/100,\"\")","v":4.4843049327354259E-3},{"$f":"RTD(\"cqg.rtd\", ,\"ContractData\", C251, \"T_CVol\",, \"T\")","v":439690},251,{"$f":"IFERROR(RANK($J251,$J$1:J$607)+COUNTIF($J$1:J251,J251)-1,\"\")","v":230},"S.US.H","S.US.SPR",{"$f":"RTD(\"cqg.rtd\", ,\"ContractData\",O251, \"PerCentNetLastTrade\",, \"T\")/100","v":3.7009622501850479E-3},"https://finance.yahoo.com/quote/SPR",null,3.7009622501850479E-3,{"$error":"#N/A"},null,{"$f":"RTD(\"cqg.rtd\", ,\"ContractData\",O251, \"LongDescription\",, \"T\")","v":"Spirit Aerosysstems Holding Inc"},null,null,3.7009622501850479E-3,null,1,1,null,3.7009622501850479E-3,"",""]
[null,null,"S.US.HAIN",{"$f":"RTD(\"cqg.rtd\", ,\"ContractData\",C252, \"LongDescription\",, \"T\")","v":"Hain Celestial Group Inc"},{"$f":"RTD(\"cqg.rtd\", ,\"ContractData\",C252, \"Open\",, \"T\")","v":36.520000000000003},{"$f":"RTD(\"cqg.rtd\", ,\"ContractData\",C252, \"High\",, \"T\")","v":36.64},{"$f":"RTD(\"cqg.rtd\", ,\"ContractData\",C252, \"Low\",, \"T\")","v":36.160000000000004},{"$f":"RTD(\"cqg.rtd\", ,\"ContractData\",C252, \"LastTradeToday\",, \"T\")","v":36.46},{"$f":"RTD(\"cqg.rtd\", ,\"ContractData\",C252, \"NetLastTradeToday\",, \"T\")","v":7.0000000000000007E-2},{"$f":"IFERROR(RTD(\"cqg.rtd\", ,\"ContractData\",C252, \"PerCentNetLastTrade\",, \"T\")/100,\"\")","v":1.9236053860950811E-3},{"$f":"RTD(\"cqg.rtd\", ,\"ContractData\", C252, \"T_CVol\",, \"T\")","v":706384},252,{"$f":"IFERROR(RANK($J252,$J$1:J$607)+COUNTIF($J$1:J252,J252)-1,\"\")","v":322},"S.US.HAIN","S.US.WDAY",{"$f":"RTD(\"cqg.rtd\", ,\"ContractData\",O252, \"PerCentNetLastTrade\",, \"T\")/100","v":3.6570499796830559E-3},"https://finance.yahoo.com/quote/WDAY",null,3.6570499796830559E-3,{"$error":"#N/A"},null,{"$f":"RTD(\"cqg.rtd\", ,\"ContractData\",O252, \"LongDescription\",, \"T\")","v":"Workday, Inc."},null,null,3.6570499796830559E-3,null,1,1,null,3.6570499796830559E-3,"",""]
[null,null,"S.US.HAS",{"$f":"RTD(\"cqg.rtd\", ,\"ContractData\",C253, \"LongDescription\",, \"T\")","v":"Hasbro Inc"},{"$f":"RTD(\"cqg.rtd\", ,\"ContractData\",C253, \"Open\",, \"T\")","v":101.73},{"$f":"RTD(\"cqg.rtd\", ,\"ContractData\",C253, \"High\",, \"T\")","v":103.71000000000001},{"$f":"RTD(\"cqg.rtd\", ,\"ContractData\",C253, \"Low\",, \"T\")","v":101.53},{"$f":"RTD(\"cqg.rtd\", ,\"ContractData\",C253, \"LastTradeToday\",, \"T\")","v":103.57000000000001},{"$f":"RTD(\"cqg.rtd\", ,\"ContractData\",C253, \"NetLastTradeToday\",, \"T\")","v":2.59},{"$f":"IFERROR(RTD(\"cqg.rtd\", ,\"ContractData\",C253, \"PerCentNetLastTrade\",, \"T\")/100,\"\")","v":2.5648643295702121E-2},{"$f":"RTD(\"cqg.rtd\", ,\"ContractData\", C253, \"T_CVol\",, \"T\")","v":707376},253,{"$f":"IFERROR(RANK($J253,$J$1:J$607)+COUNTIF($J$1:J253,J253)-1,\"\")","v":17},"S.US.HAS","S.US.CAA",{"$f":"RTD(\"cqg.rtd\", ,\"ContractData\",O253, \"PerCentNetLastTrade\",, \"T\")/100","v":3.5211267605633799E-3},"https://finance.yahoo.com/quote/CAA",null,3.5211267605633799E-3,{"$error":"#N/A"},null,{"$f":"RTD(\"cqg.rtd\", ,\"ContractData\",O253, \"LongDescription\",, \"T\")","v":"CalAtlantic Group, Inc."},null,null,3.5211267605633799E-3,null,1,1,null,3.5211267605633799E-3,"",""]
[null,null,"S.US.HBI",{"$f":"RTD(\"cqg.rtd\", ,\"ContractData\",C254, \"LongDescription\",, \"T\")","v":"Hanesbrands, Inc"},{"$f":"RTD(\"cqg.rtd\", ,\"ContractData\",C254, \"Open\",, \"T\")","v":20.54},{"$f":"RTD(\"cqg.rtd\", ,\"ContractData\",C254, \"High\",, \"T\")","v":20.54},{"$f":"RTD(\"cqg.rtd\", ,\"ContractData\",C254, \"Low\",, \"T\")","v":20.3},{"$f":"RTD(\"cqg.rtd\", ,\"ContractData\",C254, \"LastTradeToday\",, \"T\")","v":20.39},{"$f":"RTD(\"cqg.rtd\", ,\"ContractData\",C254, \"NetLastTradeToday\",, \"T\")","v":-0.15},{"$f":"IFERROR(RTD(\"cqg.rtd\", ,\"ContractData\",C254, \"PerCentNetLastTrade\",, \"T\")/100,\"\")","v":-7.3028237585199603E-3},{"$f":"RTD(\"cqg.rtd\", ,\"ContractData\", C254, \"T_CVol\",, \"T\")","v":2019961},254,{"$f":"IFERROR(RANK($J254,$J$1:J$607)+COUNTIF($J$1:J254,J254)-1,\"\")","v":514},"S.US.HBI","S.US.EXPE",{"$f":"RTD(\"cqg.rtd\", ,\"ContractData\",O254, \"PerCentNetLastTrade\",, \"T\")/100","v":3.5070491688293471E-3},"https://finance.yahoo.com/quote/EXPE",null,3.5070491688293471E-3,{"$error":"#N/A"},null,{"$f":"RTD(\"cqg.rtd\", ,\"ContractData\",O254, \"LongDescription\",, \"T\")","v":"Expedia Inc"},null,null,3.5070491688293471E-3,null,1,1,null,3.5070491688293471E-3,"",""]
[null,null,"S.US.HCA",{"$f":"RTD(\"cqg.rtd\", ,\"ContractData\",C255, \"LongDescription\",, \"T\")","v":"HCA Holdings Inc."},{"$f":"RTD(\"cqg.rtd\", ,\"ContractData\",C255, \"Open\",, \"T\")","v":81.86},{"$f":"RTD(\"cqg.rtd\", ,\"ContractData\",C255, \"High\",, \"T\")","v":82.52},{"$f":"RTD(\"cqg.rtd\", ,\"ContractData\",C255, \"Low\",, \"T\")","v":81.290000000000006},{"$f":"RTD(\"cqg.rtd\", ,\"ContractData\",C255, \"LastTradeToday\",, \"T\")","v":82.39},{"$f":"RTD(\"cqg.rtd\", ,\"ContractData\",C255, \"NetLastTradeToday\",, \"T\")","v":0.46},{"$f":"IFERROR(RTD(\"cqg.rtd\", ,\"ContractData\",C255, \"PerCentNetLastTrade\",, \"T\")/100,\"\")","v":5.6145490052483824E-3},{"$f":"RTD(\"cqg.rtd\", ,\"ContractData\", C255, \"T_CVol\",, \"T\")","v":470875},255,{"$f":"IFERROR(RANK($J255,$J$1:J$607)+COUNTIF($J$1:J255,J255)-1,\"\")","v":200},"S.US.HCA","S.US.BLL",{"$f":"RTD(\"cqg.rtd\", ,\"ContractData\",O255, \"PerCentNetLastTrade\",, \"T\")/100","v":3.4886618489907801E-3},"https://finance.yahoo.com/quote/BLL",null,3.4886618489907801E-3,{"$error":"#N/A"},null,{"$f":"RTD(\"cqg.rtd\", ,\"ContractData\",O255, \"LongDescription\",, \"T\")","v":"Ball Corp"},null,null,3.4886618489907801E-3,null,1,1,null,3.4886618489907801E-3,"",""]
[null,null,"S.US.HD",{"$f":"RTD(\"cqg.rtd\", ,\"ContractData\",C256, \"LongDescription\",, \"T\")","v":"Home Depot, Inc."},{"$f":"RTD(\"cqg.rtd\", ,\"ContractData\",C256, \"Open\",, \"T\")","v":154.70000000000002},{"$f":"RTD(\"cqg.rtd\", ,\"ContractData\",C256, \"High\",, \"T\")","v":155.30000000000001},{"$f":"RTD(\"cqg.rtd\", ,\"ContractData\",C256, \"Low\",, \"T\")","v":153.29},{"$f":"RTD(\"cqg.rtd\", ,\"ContractData\",C256, \"LastTradeToday\",, \"T\")","v":155.27000000000001},{"$f":"RTD(\"cqg.rtd\", ,\"ContractData\",C256, \"NetLastTradeToday\",, \"T\")","v":0.44},{"$f":"IFERROR(RTD(\"cqg.rtd\", ,\"ContractData\",C256, \"PerCentNetLastTrade\",, \"T\")/100,\"\")","v":2.8418265194083835E-3},{"$f":"RTD(\"cqg.rtd\", ,\"ContractData\", C256, \"T_CVol\",, \"T\")","v":2804511},256,{"$f":"IFERROR(RANK($J256,$J$1:J$607)+COUNTIF($J$1:J256,J256)-1,\"\")","v":288},"S.US.HD","S.US.LENB",{"$f":"RTD(\"cqg.rtd\", ,\"ContractData\",O256, \"PerCentNetLastTrade\",, \"T\")/100","v":3.4843205574912896E-3},"https://finance.yahoo.com/quote/LENB",null,3.4843205574912896E-3,{"$error":"#N/A"},null,{"$f":"RTD(\"cqg.rtd\", ,\"ContractData\",O256, \"LongDescription\",, \"T\")","v":"Lennar Corporation"},null,null,3.4843205574912896E-3,null,1,1,null,3.4843205574912896E-3,"",""]
[null,null,"S.US.HDS",{"$f":"RTD(\"cqg.rtd\", ,\"ContractData\",C257, \"LongDescription\",, \"T\")","v":"HD Supply Holdings, Inc."},{"$f":"RTD(\"cqg.rtd\", ,\"ContractData\",C257, \"Open\",, \"T\")","v":41.65},{"$f":"RTD(\"cqg.rtd\", ,\"ContractData\",C257, \"High\",, \"T\")","v":41.84},{"$f":"RTD(\"cqg.rtd\", ,\"ContractData\",C257, \"Low\",, \"T\")","v":41.050000000000004},{"$f":"RTD(\"cqg.rtd\", ,\"ContractData\",C257, \"LastTradeToday\",, \"T\")","v":41.19},{"$f":"RTD(\"cqg.rtd\", ,\"ContractData\",C257, \"NetLastTradeToday\",, \"T\")","v":-0.35000000000000003},{"$f":"IFERROR(RTD(\"cqg.rtd\", ,\"ContractData\",C257, \"PerCentNetLastTrade\",, \"T\")/100,\"\")","v":-8.425613866153106E-3},{"$f":"RTD(\"cqg.rtd\", ,\"ContractData\", C257, \"T_CVol\",, \"T\")","v":569860},257,{"$f":"IFERROR(RANK($J257,$J$1:J$607)+COUNTIF($J$1:J257,J257)-1,\"\")","v":528},"S.US.HDS","S.US.NCR",{"$f":"RTD(\"cqg.rtd\", ,\"ContractData\",O257, \"PerCentNetLastTrade\",, \"T\")/100","v":3.4808552958727002E-3},"https://finance.yahoo.com/quote/NCR",null,3.4808552958727002E-3,{"$error":"#N/A"},null,{"$f":"RTD(\"cqg.rtd\", ,\"ContractData\",O257, \"LongDescription\",, \"T\")","v":"NCR Corp"},null,null,3.4808552958727002E-3,null,1,1,null,3.4808552958727002E-3,"",""]
[null,null,"S.US.HEI",{"$f":"RTD(\"cqg.rtd\", ,\"ContractData\",C258, \"LongDescription\",, \"T\")","v":"HEICO CORP"},{"$f":"RTD(\"cqg.rtd\", ,\"ContractData\",C258, \"Open\",, \"T\")","v":73.95},{"$f":"RTD(\"cqg.rtd\", ,\"ContractData\",C258, \"High\",, \"T\")","v":73.95},{"$f":"RTD(\"cqg.rtd\", ,\"ContractData\",C258, \"Low\",, \"T\")","v":71.010000000000005},{"$f":"RTD(\"cqg.rtd\", ,\"ContractData\",C258, \"LastTradeToday\",, \"T\")","v":72.040000000000006},{"$f":"RTD(\"cqg.rtd\", ,\"ContractData\",C258, \"NetLastTradeToday\",, \"T\")","v":-2.73},{"$f":"IFERROR(RTD(\"cqg.rtd\", ,\"ContractData\",C258, \"PerCentNetLastTrade\",, \"T\")/100,\"\")","v":-3.6511970041460479E-2},{"$f":"RTD(\"cqg.rtd\", ,\"ContractData\", C258, \"T_CVol\",, \"T\")","v":326449},258,{"$f":"IFERROR(RANK($J258,$J$1:J$607)+COUNTIF($J$1:J258,J258)-1,\"\")","v":600},"S.US.HEI",{"$f":"VLOOKUP($L258,$M$1:$N$607,2,FALSE)","v":"S.US.RTN"},{"$f":"RTD(\"cqg.rtd\", ,\"ContractData\",O258, \"PerCentNetLastTrade\",, \"T\")/100","v":3.4059945504087193E-3},{"$f":"\"https://finance.yahoo.com/quote/\"&RIGHT(O258,(LEN(O258)-5))","v":"https://finance.yahoo.com/quote/RTN"},null,3.4059945504087193E-3,{"$error":"#N/A"},null,{"$f":"RTD(\"cqg.rtd\", ,\"ContractData\",O258, \"LongDescription\",, \"T\")","v":"Raytheon Company"},null,null,3.4059945504087193E-3,null,1,1,null,3.4059945504087193E-3,"",""]
[null,null,"S.US.HEIA",{"$f":"RTD(\"cqg.rtd\", ,\"ContractData\",C259, \"LongDescription\",, \"T\")","v":"HEICO Corp ClA"},{"$f":"RTD(\"cqg.rtd\", ,\"ContractData\",C259, \"Open\",, \"T\")","v":61.65},{"$f":"RTD(\"cqg.rtd\", ,\"ContractData\",C259, \"High\",, \"T\")","v":61.65},{"$f":"RTD(\"cqg.rtd\", ,\"ContractData\",C259, \"Low\",, \"T\")","v":58.75},{"$f":"RTD(\"cqg.rtd\", ,\"ContractData\",C259, \"LastTradeToday\",, \"T\")","v":59.9},{"$f":"RTD(\"cqg.rtd\", ,\"ContractData\",C259, \"NetLastTradeToday\",, \"T\")","v":-1.55},{"$f":"IFERROR(RTD(\"cqg.rtd\", ,\"ContractData\",C259, \"PerCentNetLastTrade\",, \"T\")/100,\"\")","v":-2.5223759153783564E-2},{"$f":"RTD(\"cqg.rtd\", ,\"ContractData\", C259, \"T_CVol\",, \"T\")","v":150554},{"$f":"L258+1","v":259},{"$f":"IFERROR(RANK($J259,$J$1:J$607)+COUNTIF($J$1:J259,J259)-1,\"\")","v":592},"S.US.HEIA","S.US.BAH",{"$f":"RTD(\"cqg.rtd\", ,\"ContractData\",O259, \"PerCentNetLastTrade\",, \"T\")/100","v":3.3915992695016956E-3},"https://finance.yahoo.com/quote/BAH",null,3.3915992695016956E-3,{"$error":"#N/A"},null,{"$f":"RTD(\"cqg.rtd\", ,\"ContractData\",O259, \"LongDescription\",, \"T\")","v":"Booz Allen Hamilton Holding Corporation"},null,null,3.3915992695016956E-3,null,1,1,null,3.3915992695016956E-3,"",""]
[null,null,"S.US.HGV",{"$f":"RTD(\"cqg.rtd\", ,\"ContractData\",C260, \"LongDescription\",, \"T\")","v":"Hilton Grand Vacations Inc."},{"$f":"RTD(\"cqg.rtd\", ,\"ContractData\",C260, \"Open\",, \"T\")","v":36.300000000000004},{"$f":"RTD(\"cqg.rtd\", ,\"ContractData\",C260, \"High\",, \"T\")","v":36.72},{"$f":"RTD(\"cqg.rtd\", ,\"ContractData\",C260, \"Low\",, \"T\")","v":35.97},{"$f":"RTD(\"cqg.rtd\", ,\"ContractData\",C260, \"LastTradeToday\",, \"T\")","v":36.130000000000003},{"$f":"RTD(\"cqg.rtd\", ,\"ContractData\",C260, \"NetLastTradeToday\",, \"T\")","v":-0.1},{"$f":"IFERROR(RTD(\"cqg.rtd\", ,\"ContractData\",C260, \"PerCentNetLastTrade\",, \"T\")/100,\"\")","v":-2.760143527463428E-3},{"$f":"RTD(\"cqg.rtd\", ,\"ContractData\", C260, \"T_CVol\",, \"T\")","v":113511},260,{"$f":"IFERROR(RANK($J260,$J$1:J$607)+COUNTIF($J$1:J260,J260)-1,\"\")","v":450},"S.US.HGV","S.US.ORCL",{"$f":"RTD(\"cqg.rtd\", ,\"ContractData\",O260, \"PerCentNetLastTrade\",, \"T\")/100","v":3.3662477558348298E-3},"https://finance.yahoo.com/quote/ORCL",null,3.3662477558348298E-3,{"$error":"#N/A"},null,{"$f":"RTD(\"cqg.rtd\", ,\"ContractData\",O260, \"LongDescription\",, \"T\")","v":"Oracle Corporation"},null,null,3.3662477558348298E-3,null,1,1,null,3.3662477558348298E-3,"",""]
[null,null,"S.US.HII",{"$f":"RTD(\"cqg.rtd\", ,\"ContractData\",C261, \"LongDescription\",, \"T\")","v":"Huntington Ingalls Industries"},{"$f":"RTD(\"cqg.rtd\", ,\"ContractData\",C261, \"Open\",, \"T\")","v":196.04},{"$f":"RTD(\"cqg.rtd\", ,\"ContractData\",C261, \"High\",, \"T\")","v":197.25},{"$f":"RTD(\"cqg.rtd\", ,\"ContractData\",C261, \"Low\",, \"T\")","v":195.3},{"$f":"RTD(\"cqg.rtd\", ,\"ContractData\",C261, \"LastTradeToday\",, \"T\")","v":195.67000000000002},{"$f":"RTD(\"cqg.rtd\", ,\"ContractData\",C261, \"NetLastTradeToday\",, \"T\")","v":-0.36},{"$f":"IFERROR(RTD(\"cqg.rtd\", ,\"ContractData\",C261, \"PerCentNetLastTrade\",, \"T\")/100,\"\")","v":-1.8364536040401979E-3},{"$f":"RTD(\"cqg.rtd\", ,\"ContractData\", C261, \"T_CVol\",, \"T\")","v":66564},261,{"$f":"IFERROR(RANK($J261,$J$1:J$607)+COUNTIF($J$1:J261,J261)-1,\"\")","v":429},"S.US.HII","S.US.GIS",{"$f":"RTD(\"cqg.rtd\", ,\"ContractData\",O261, \"PerCentNetLastTrade\",, \"T\")/100","v":3.3515611218909863E-3},"https://finance.yahoo.com/quote/GIS",null,3.3515611218909863E-3,{"$error":"#N/A"},null,{"$f":"RTD(\"cqg.rtd\", ,\"ContractData\",O261, \"LongDescription\",, \"T\")","v":"General Mills Inc"},null,null,3.3515611218909863E-3,null,1,1,null,3.3515611218909863E-3,"",""]
[null,null,"S.US.HLF",{"$f":"RTD(\"cqg.rtd\", ,\"ContractData\",C262, \"LongDescription\",, \"T\")","v":"Herbal Life LTD"},{"$f":"RTD(\"cqg.rtd\", ,\"ContractData\",C262, \"Open\",, \"T\")","v":69.02},{"$f":"RTD(\"cqg.rtd\", ,\"ContractData\",C262, \"High\",, \"T\")","v":72.45},{"$f":"RTD(\"cqg.rtd\", ,\"ContractData\",C262, \"Low\",, \"T\")","v":68.08},{"$f":"RTD(\"cqg.rtd\", ,\"ContractData\",C262, \"LastTradeToday\",, \"T\")","v":70.69},{"$f":"RTD(\"cqg.rtd\", ,\"ContractData\",C262, \"NetLastTradeToday\",, \"T\")","v":1.6600000000000001},{"$f":"IFERROR(RTD(\"cqg.rtd\", ,\"ContractData\",C262, \"PerCentNetLastTrade\",, \"T\")/100,\"\")","v":2.4047515572939302E-2},{"$f":"RTD(\"cqg.rtd\", ,\"ContractData\", C262, \"T_CVol\",, \"T\")","v":955694},262,{"$f":"IFERROR(RANK($J262,$J$1:J$607)+COUNTIF($J$1:J262,J262)-1,\"\")","v":19},"S.US.HLF","S.US.AON",{"$f":"RTD(\"cqg.rtd\", ,\"ContractData\",O262, \"PerCentNetLastTrade\",, \"T\")/100","v":3.344741754822651E-3},"https://finance.yahoo.com/quote/AON",null,3.344741754822651E-3,{"$error":"#N/A"},null,{"$f":"RTD(\"cqg.rtd\", ,\"ContractData\",O262, \"LongDescription\",, \"T\")","v":"AON Corporation"},null,null,3.344741754822651E-3,null,1,1,null,3.344741754822651E-3,"",""]
[null,null,"S.US.HLT",{"$f":"RTD(\"cqg.rtd\", ,\"ContractData\",C263, \"LongDescription\",, \"T\")","v":"Hilton Inc."},{"$f":"RTD(\"cqg.rtd\", ,\"ContractData\",C263, \"Open\",, \"T\")","v":65.77},{"$f":"RTD(\"cqg.rtd\", ,\"ContractData\",C263, \"High\",, \"T\")","v":66.290000000000006},{"$f":"RTD(\"cqg.rtd\", ,\"ContractData\",C263, \"Low\",, \"T\")","v":65.099999999999994},{"$f":"RTD(\"cqg.rtd\", ,\"ContractData\",C263, \"LastTradeToday\",, \"T\")","v":65.5},{"$f":"RTD(\"cqg.rtd\", ,\"ContractData\",C263, \"NetLastTradeToday\",, \"T\")","v":0.01},{"$f":"IFERROR(RTD(\"cqg.rtd\", ,\"ContractData\",C263, \"PerCentNetLastTrade\",, \"T\")/100,\"\")","v":1.5269506794930525E-4},{"$f":"RTD(\"cqg.rtd\", ,\"ContractData\", C263, \"T_CVol\",, \"T\")","v":2049221},263,{"$f":"IFERROR(RANK($J263,$J$1:J$607)+COUNTIF($J$1:J263,J263)-1,\"\")","v":379},"S.US.HLT","S.US.NOW",{"$f":"RTD(\"cqg.rtd\", ,\"ContractData\",O263, \"PerCentNetLastTrade\",, \"T\")/100","v":3.3431661750245823E-3},"https://finance.yahoo.com/quote/NOW",null,3.3431661750245823E-3,{"$error":"#N/A"},null,{"$f":"RTD(\"cqg.rtd\", ,\"ContractData\",O263, \"LongDescription\",, \"T\")","v":"ServiceNow, Inc."},null,null,3.3431661750245823E-3,null,1,1,null,3.3431661750245823E-3,"",""]
[null,null,"S.US.HOG",{"$f":"RTD(\"cqg.rtd\", ,\"ContractData\",C264, \"LongDescription\",, \"T\")","v":"Harley-Davidson Inc"},{"$f":"RTD(\"cqg.rtd\", ,\"ContractData\",C264, \"Open\",, \"T\")","v":52.9},{"$f":"RTD(\"cqg.rtd\", ,\"ContractData\",C264, \"High\",, \"T\")","v":53.11},{"$f":"RTD(\"cqg.rtd\", ,\"ContractData\",C264, \"Low\",, \"T\")","v":52.04},{"$f":"RTD(\"cqg.rtd\", ,\"ContractData\",C264, \"LastTradeToday\",, \"T\")","v":52.1},{"$f":"RTD(\"cqg.rtd\", ,\"ContractData\",C264, \"NetLastTradeToday\",, \"T\")","v":-0.74},{"$f":"IFERROR(RTD(\"cqg.rtd\", ,\"ContractData\",C264, \"PerCentNetLastTrade\",, \"T\")/100,\"\")","v":-1.400454201362604E-2},{"$f":"RTD(\"cqg.rtd\", ,\"ContractData\", C264, \"T_CVol\",, \"T\")","v":1068060},264,{"$f":"IFERROR(RANK($J264,$J$1:J$607)+COUNTIF($J$1:J264,J264)-1,\"\")","v":569},"S.US.HOG","S.US.DAL",{"$f":"RTD(\"cqg.rtd\", ,\"ContractData\",O264, \"PerCentNetLastTrade\",, \"T\")/100","v":3.2928586128833093E-3},"https://finance.yahoo.com/quote/DAL",null,3.2928586128833093E-3,{"$error":"#N/A"},null,{"$f":"RTD(\"cqg.rtd\", ,\"ContractData\",O264, \"LongDescription\",, \"T\")","v":"Delta Airlines, Inc."},null,null,3.2928586128833093E-3,null,1,1,null,3.2928586128833093E-3,"",""]
[null,null,"S.US.HOLX",{"$f":"RTD(\"cqg.rtd\", ,\"ContractData\",C265, \"LongDescription\",, \"T\")","v":"Hologic Inc"},{"$f":"RTD(\"cqg.rtd\", ,\"ContractData\",C265, \"Open\",, \"T\")","v":42.93},{"$f":"RTD(\"cqg.rtd\", ,\"ContractData\",C265, \"High\",, \"T\")","v":43.17},{"$f":"RTD(\"cqg.rtd\", ,\"ContractData\",C265, \"Low\",, \"T\")","v":42.800000000000004},{"$f":"RTD(\"cqg.rtd\", ,\"ContractData\",C265, \"LastTradeToday\",, \"T\")","v":42.99},{"$f":"RTD(\"cqg.rtd\", ,\"ContractData\",C265, \"NetLastTradeToday\",, \"T\")","v":0.1},{"$f":"IFERROR(RTD(\"cqg.rtd\", ,\"ContractData\",C265, \"PerCentNetLastTrade\",, \"T\")/100,\"\")","v":2.3315458148752623E-3},{"$f":"RTD(\"cqg.rtd\", ,\"ContractData\", C265, \"T_CVol\",, \"T\")","v":1422974},265,{"$f":"IFERROR(RANK($J265,$J$1:J$607)+COUNTIF($J$1:J265,J265)-1,\"\")","v":304},"S.US.HOLX","S.US.CBOE",{"$f":"RTD(\"cqg.rtd\", ,\"ContractData\",O265, \"PerCentNetLastTrade\",, \"T\")/100","v":3.2660678875539484E-3},"https://finance.yahoo.com/quote/CBOE",null,3.2660678875539484E-3,{"$error":"#N/A"},null,{"$f":"RTD(\"cqg.rtd\", ,\"ContractData\",O265, \"LongDescription\",, \"T\")","v":"CBOE Holdings, Inc."},null,null,3.2660678875539484E-3,null,1,1,null,3.2660678875539484E-3,"",""]
[null,null,"S.US.HON",{"$f":"RTD(\"cqg.rtd\", ,\"ContractData\",C266, \"LongDescription\",, \"T\")","v":"Honeywell Intl"},{"$f":"RTD(\"cqg.rtd\", ,\"ContractData\",C266, \"Open\",, \"T\")","v":132.26},{"$f":"RTD(\"cqg.rtd\", ,\"ContractData\",C266, \"High\",, \"T\")","v":132.67000000000002},{"$f":"RTD(\"cqg.rtd\", ,\"ContractData\",C266, \"Low\",, \"T\")","v":131.72999999999999},{"$f":"RTD(\"cqg.rtd\", ,\"ContractData\",C266, \"LastTradeToday\",, \"T\")","v":132.24},{"$f":"RTD(\"cqg.rtd\", ,\"ContractData\",C266, \"NetLastTradeToday\",, \"T\")","v":0.39},{"$f":"IFERROR(RTD(\"cqg.rtd\", ,\"ContractData\",C266, \"PerCentNetLastTrade\",, \"T\")/100,\"\")","v":2.9579067121729237E-3},{"$f":"RTD(\"cqg.rtd\", ,\"ContractData\", C266, \"T_CVol\",, \"T\")","v":994455},266,{"$f":"IFERROR(RANK($J266,$J$1:J$607)+COUNTIF($J$1:J266,J266)-1,\"\")","v":283},"S.US.HON","S.US.CDNS",{"$f":"RTD(\"cqg.rtd\", ,\"ContractData\",O266, \"PerCentNetLastTrade\",, \"T\")/100","v":3.2333921222810116E-3},"https://finance.yahoo.com/quote/CDNS",null,3.2333921222810116E-3,{"$error":"#N/A"},null,{"$f":"RTD(\"cqg.rtd\", ,\"ContractData\",O266, \"LongDescription\",, \"T\")","v":"Cadence Design Systems, Inc"},null,null,3.2333921222810116E-3,null,1,1,null,3.2333921222810116E-3,"",""]
[null,null,"S.US.HRC",{"$f":"RTD(\"cqg.rtd\", ,\"ContractData\",C267, \"LongDescription\",, \"T\")","v":"Hill Rom Holdings Inc"},{"$f":"RTD(\"cqg.rtd\", ,\"ContractData\",C267, \"Open\",, \"T\")","v":75.180000000000007},{"$f":"RTD(\"cqg.rtd\", ,\"ContractData\",C267, \"High\",, \"T\")","v":75.8},{"$f":"RTD(\"cqg.rtd\", ,\"ContractData\",C267, \"Low\",, \"T\")","v":75.12},{"$f":"RTD(\"cqg.rtd\", ,\"ContractData\",C267, \"LastTradeToday\",, \"T\")","v":75.650000000000006},{"$f":"RTD(\"cqg.rtd\", ,\"ContractData\",C267, \"NetLastTradeToday\",, \"T\")","v":0.4},{"$f":"IFERROR(RTD(\"cqg.rtd\", ,\"ContractData\",C267, \"PerCentNetLastTrade\",, \"T\")/100,\"\")","v":5.3156146179401996E-3},{"$f":"RTD(\"cqg.rtd\", ,\"ContractData\", C267, \"T_CVol\",, \"T\")","v":118225},267,{"$f":"IFERROR(RANK($J267,$J$1:J$607)+COUNTIF($J$1:J267,J267)-1,\"\")","v":206},"S.US.HRC","S.US.MTD",{"$f":"RTD(\"cqg.rtd\", ,\"ContractData\",O267, \"PerCentNetLastTrade\",, \"T\")/100","v":3.2063074901445467E-3},"https://finance.yahoo.com/quote/MTD",null,3.2063074901445467E-3,{"$error":"#N/A"},null,{"$f":"RTD(\"cqg.rtd\", ,\"ContractData\",O267, \"LongDescription\",, \"T\")","v":"Mettler-Toledo Internatl Inc"},null,null,3.2063074901445467E-3,null,1,1,null,3.2063074901445467E-3,"",""]
[null,null,"S.US.HRI",{"$f":"RTD(\"cqg.rtd\", ,\"ContractData\",C268, \"LongDescription\",, \"T\")","v":"Herc Holdings Inc."},{"$f":"RTD(\"cqg.rtd\", ,\"ContractData\",C268, \"Open\",, \"T\")","v":36.49},{"$f":"RTD(\"cqg.rtd\", ,\"ContractData\",C268, \"High\",, \"T\")","v":37.28},{"$f":"RTD(\"cqg.rtd\", ,\"ContractData\",C268, \"Low\",, \"T\")","v":36.17},{"$f":"RTD(\"cqg.rtd\", ,\"ContractData\",C268, \"LastTradeToday\",, \"T\")","v":36.24},{"$f":"RTD(\"cqg.rtd\", ,\"ContractData\",C268, \"NetLastTradeToday\",, \"T\")","v":0.25},{"$f":"IFERROR(RTD(\"cqg.rtd\", ,\"ContractData\",C268, \"PerCentNetLastTrade\",, \"T\")/100,\"\")","v":6.9463739927757709E-3},{"$f":"RTD(\"cqg.rtd\", ,\"ContractData\", C268, \"T_CVol\",, \"T\")","v":140550},268,{"$f":"IFERROR(RANK($J268,$J$1:J$607)+COUNTIF($J$1:J268,J268)-1,\"\")","v":168},"S.US.HRI","S.US.CAB",{"$f":"RTD(\"cqg.rtd\", ,\"ContractData\",O268, \"PerCentNetLastTrade\",, \"T\")/100","v":3.1912896564670547E-3},"https://finance.yahoo.com/quote/CAB",null,3.1912896564670547E-3,{"$error":"#N/A"},null,{"$f":"RTD(\"cqg.rtd\", ,\"ContractData\",O268, \"LongDescription\",, \"T\")","v":"Cabelas Inc"},null,null,3.1912896564670547E-3,null,1,1,null,3.1912896564670547E-3,"",""]
[null,null,"S.US.HRL",{"$f":"RTD(\"cqg.rtd\", ,\"ContractData\",C269, \"LongDescription\",, \"T\")","v":"Hormel Foods Corp"},{"$f":"RTD(\"cqg.rtd\", ,\"ContractData\",C269, \"Open\",, \"T\")","v":35.230000000000004},{"$f":"RTD(\"cqg.rtd\", ,\"ContractData\",C269, \"High\",, \"T\")","v":35.42},{"$f":"RTD(\"cqg.rtd\", ,\"ContractData\",C269, \"Low\",, \"T\")","v":35.119999999999997},{"$f":"RTD(\"cqg.rtd\", ,\"ContractData\",C269, \"LastTradeToday\",, \"T\")","v":35.380000000000003},{"$f":"RTD(\"cqg.rtd\", ,\"ContractData\",C269, \"NetLastTradeToday\",, \"T\")","v":0.17},{"$f":"IFERROR(RTD(\"cqg.rtd\", ,\"ContractData\",C269, \"PerCentNetLastTrade\",, \"T\")/100,\"\")","v":4.8281738142573133E-3},{"$f":"RTD(\"cqg.rtd\", ,\"ContractData\", C269, \"T_CVol\",, \"T\")","v":928304},269,{"$f":"IFERROR(RANK($J269,$J$1:J$607)+COUNTIF($J$1:J269,J269)-1,\"\")","v":221},"S.US.HRL","S.US.BWA",{"$f":"RTD(\"cqg.rtd\", ,\"ContractData\",O269, \"PerCentNetLastTrade\",, \"T\")/100","v":3.1847133757961781E-3},"https://finance.yahoo.com/quote/BWA",null,3.1847133757961781E-3,{"$error":"#N/A"},null,{"$f":"RTD(\"cqg.rtd\", ,\"ContractData\",O269, \"LongDescription\",, \"T\")","v":"Borg Warner Inc"},null,null,3.1847133757961781E-3,null,1,1,null,3.1847133757961781E-3,"",""]
[null,null,"S.US.HSIC",{"$f":"RTD(\"cqg.rtd\", ,\"ContractData\",C270, \"LongDescription\",, \"T\")","v":"Henry Schein Inc"},{"$f":"RTD(\"cqg.rtd\", ,\"ContractData\",C270, \"Open\",, \"T\")","v":182.6},{"$f":"RTD(\"cqg.rtd\", ,\"ContractData\",C270, \"High\",, \"T\")","v":182.86},{"$f":"RTD(\"cqg.rtd\", ,\"ContractData\",C270, \"Low\",, \"T\")","v":181.53},{"$f":"RTD(\"cqg.rtd\", ,\"ContractData\",C270, \"LastTradeToday\",, \"T\")","v":181.86},{"$f":"RTD(\"cqg.rtd\", ,\"ContractData\",C270, \"NetLastTradeToday\",, \"T\")","v":-0.24},{"$f":"IFERROR(RTD(\"cqg.rtd\", ,\"ContractData\",C270, \"PerCentNetLastTrade\",, \"T\")/100,\"\")","v":-1.3179571663920922E-3},{"$f":"RTD(\"cqg.rtd\", ,\"ContractData\", C270, \"T_CVol\",, \"T\")","v":150146},270,{"$f":"IFERROR(RANK($J270,$J$1:J$607)+COUNTIF($J$1:J270,J270)-1,\"\")","v":422},"S.US.HSIC","S.US.CCK",{"$f":"RTD(\"cqg.rtd\", ,\"ContractData\",O270, \"PerCentNetLastTrade\",, \"T\")/100","v":3.1841500088448608E-3},"https://finance.yahoo.com/quote/CCK",null,3.1841500088448608E-3,{"$error":"#N/A"},null,{"$f":"RTD(\"cqg.rtd\", ,\"ContractData\",O270, \"LongDescription\",, \"T\")","v":"Crown Holdings Inc"},null,null,3.1841500088448608E-3,null,1,1,null,3.1841500088448608E-3,"",""]
[null,null,"S.US.HSY",{"$f":"RTD(\"cqg.rtd\", ,\"ContractData\",C271, \"LongDescription\",, \"T\")","v":"Hershey Foods Corp"},{"$f":"RTD(\"cqg.rtd\", ,\"ContractData\",C271, \"Open\",, \"T\")","v":113.10000000000001},{"$f":"RTD(\"cqg.rtd\", ,\"ContractData\",C271, \"High\",, \"T\")","v":113.83},{"$f":"RTD(\"cqg.rtd\", ,\"ContractData\",C271, \"Low\",, \"T\")","v":113.04},{"$f":"RTD(\"cqg.rtd\", ,\"ContractData\",C271, \"LastTradeToday\",, \"T\")","v":113.83},{"$f":"RTD(\"cqg.rtd\", ,\"ContractData\",C271, \"NetLastTradeToday\",, \"T\")","v":0.69000000000000006},{"$f":"IFERROR(RTD(\"cqg.rtd\", ,\"ContractData\",C271, \"PerCentNetLastTrade\",, \"T\")/100,\"\")","v":6.0986388545165278E-3},{"$f":"RTD(\"cqg.rtd\", ,\"ContractData\", C271, \"T_CVol\",, \"T\")","v":495808},271,{"$f":"IFERROR(RANK($J271,$J$1:J$607)+COUNTIF($J$1:J271,J271)-1,\"\")","v":190},"S.US.HSY","S.US.OI",{"$f":"RTD(\"cqg.rtd\", ,\"ContractData\",O271, \"PerCentNetLastTrade\",, \"T\")/100","v":3.1717263253285E-3},"https://finance.yahoo.com/quote/OI",null,3.1717263253285E-3,{"$error":"#N/A"},null,{"$f":"RTD(\"cqg.rtd\", ,\"ContractData\",O271, \"LongDescription\",, \"T\")","v":"Owens-Illinois Inc"},null,null,3.1717263253285E-3,null,1,1,null,3.1717263253285E-3,"",""]
[null,null,"S.US.HTA",{"$f":"RTD(\"cqg.rtd\", ,\"ContractData\",C272, \"LongDescription\",, \"T\")","v":"Healthcare Trust of America, Inc."},{"$f":"RTD(\"cqg.rtd\", ,\"ContractData\",C272, \"Open\",, \"T\")","v":31.580000000000002},{"$f":"RTD(\"cqg.rtd\", ,\"ContractData\",C272, \"High\",, \"T\")","v":31.73},{"$f":"RTD(\"cqg.rtd\", ,\"ContractData\",C272, \"Low\",, \"T\")","v":31.38},{"$f":"RTD(\"cqg.rtd\", ,\"ContractData\",C272, \"LastTradeToday\",, \"T\")","v":31.580000000000002},{"$f":"RTD(\"cqg.rtd\", ,\"ContractData\",C272, \"NetLastTradeToday\",, \"T\")","v":-7.0000000000000007E-2},{"$f":"IFERROR(RTD(\"cqg.rtd\", ,\"ContractData\",C272, \"PerCentNetLastTrade\",, \"T\")/100,\"\")","v":-2.2116903633491313E-3},{"$f":"RTD(\"cqg.rtd\", ,\"ContractData\", C272, \"T_CVol\",, \"T\")","v":876481},272,{"$f":"IFERROR(RANK($J272,$J$1:J$607)+COUNTIF($J$1:J272,J272)-1,\"\")","v":436},"S.US.HTA","S.US.ALLE",{"$f":"RTD(\"cqg.rtd\", ,\"ContractData\",O272, \"PerCentNetLastTrade\",, \"T\")/100","v":3.1685678073510777E-3},"https://finance.yahoo.com/quote/ALLE",null,3.1685678073510777E-3,{"$error":"#N/A"},null,{"$f":"RTD(\"cqg.rtd\", ,\"ContractData\",O272, \"LongDescription\",, \"T\")","v":"Allegion plc"},null,null,3.1685678073510777E-3,null,1,1,null,3.1685678073510777E-3,"",""]
[null,null,"S.US.HTZ",{"$f":"RTD(\"cqg.rtd\", ,\"ContractData\",C273, \"LongDescription\",, \"T\")","v":"Hertz Global Holdings, Inc."},{"$f":"RTD(\"cqg.rtd\", ,\"ContractData\",C273, \"Open\",, \"T\")","v":9.77},{"$f":"RTD(\"cqg.rtd\", ,\"ContractData\",C273, \"High\",, \"T\")","v":9.89},{"$f":"RTD(\"cqg.rtd\", ,\"ContractData\",C273, \"Low\",, \"T\")","v":9.59},{"$f":"RTD(\"cqg.rtd\", ,\"ContractData\",C273, \"LastTradeToday\",, \"T\")","v":9.83},{"$f":"RTD(\"cqg.rtd\", ,\"ContractData\",C273, \"NetLastTradeToday\",, \"T\")","v":0.02},{"$f":"IFERROR(RTD(\"cqg.rtd\", ,\"ContractData\",C273, \"PerCentNetLastTrade\",, \"T\")/100,\"\")","v":2.0387359836901119E-3},{"$f":"RTD(\"cqg.rtd\", ,\"ContractData\", C273, \"T_CVol\",, \"T\")","v":2043408},273,{"$f":"IFERROR(RANK($J273,$J$1:J$607)+COUNTIF($J$1:J273,J273)-1,\"\")","v":320},"S.US.HTZ","S.US.GD",{"$f":"RTD(\"cqg.rtd\", ,\"ContractData\",O273, \"PerCentNetLastTrade\",, \"T\")/100","v":3.1607465382299822E-3},"https://finance.yahoo.com/quote/GD",null,3.1607465382299822E-3,{"$error":"#N/A"},null,{"$f":"RTD(\"cqg.rtd\", ,\"ContractData\",O273, \"LongDescription\",, \"T\")","v":"General Dynamics Corp"},null,null,3.1607465382299822E-3,null,1,1,null,3.1607465382299822E-3,"",""]
[null,null,"S.US.HUBB",{"$f":"RTD(\"cqg.rtd\", ,\"ContractData\",C274, \"LongDescription\",, \"T\")","v":"Hubbell Inc Cls B"},{"$f":"RTD(\"cqg.rtd\", ,\"ContractData\",C274, \"Open\",, \"T\")","v":115.21000000000001},{"$f":"RTD(\"cqg.rtd\", ,\"ContractData\",C274, \"High\",, \"T\")","v":116.67},{"$f":"RTD(\"cqg.rtd\", ,\"ContractData\",C274, \"Low\",, \"T\")","v":115.21000000000001},{"$f":"RTD(\"cqg.rtd\", ,\"ContractData\",C274, \"LastTradeToday\",, \"T\")","v":116.36},{"$f":"RTD(\"cqg.rtd\", ,\"ContractData\",C274, \"NetLastTradeToday\",, \"T\")","v":1.28},{"$f":"IFERROR(RTD(\"cqg.rtd\", ,\"ContractData\",C274, \"PerCentNetLastTrade\",, \"T\")/100,\"\")","v":1.1122697254084116E-2},{"$f":"RTD(\"cqg.rtd\", ,\"ContractData\", C274, \"T_CVol\",, \"T\")","v":168665},274,{"$f":"IFERROR(RANK($J274,$J$1:J$607)+COUNTIF($J$1:J274,J274)-1,\"\")","v":89},"S.US.HUBB","S.US.BC",{"$f":"RTD(\"cqg.rtd\", ,\"ContractData\",O274, \"PerCentNetLastTrade\",, \"T\")/100","v":3.1301786043085988E-3},"https://finance.yahoo.com/quote/BC",null,3.1301786043085988E-3,{"$error":"#N/A"},null,{"$f":"RTD(\"cqg.rtd\", ,\"ContractData\",O274, \"LongDescription\",, \"T\")","v":"Brunswick Corporation"},null,null,3.1301786043085988E-3,null,1,1,null,3.1301786043085988E-3,"",""]
[null,null,"S.US.HUM",{"$f":"RTD(\"cqg.rtd\", ,\"ContractData\",C275, \"LongDescription\",, \"T\")","v":"Humana Inc"},{"$f":"RTD(\"cqg.rtd\", ,\"ContractData\",C275, \"Open\",, \"T\")","v":229.48000000000002},{"$f":"RTD(\"cqg.rtd\", ,\"ContractData\",C275, \"High\",, \"T\")","v":232.07},{"$f":"RTD(\"cqg.rtd\", ,\"ContractData\",C275, \"Low\",, \"T\")","v":229.03},{"$f":"RTD(\"cqg.rtd\", ,\"ContractData\",C275, \"LastTradeToday\",, \"T\")","v":231.78},{"$f":"RTD(\"cqg.rtd\", ,\"ContractData\",C275, \"NetLastTradeToday\",, \"T\")","v":2.5},{"$f":"IFERROR(RTD(\"cqg.rtd\", ,\"ContractData\",C275, \"PerCentNetLastTrade\",, \"T\")/100,\"\")","v":1.0903698534542917E-2},{"$f":"RTD(\"cqg.rtd\", ,\"ContractData\", C275, \"T_CVol\",, \"T\")","v":309412},275,{"$f":"IFERROR(RANK($J275,$J$1:J$607)+COUNTIF($J$1:J275,J275)-1,\"\")","v":92},"S.US.HUM","S.US.AMGN",{"$f":"RTD(\"cqg.rtd\", ,\"ContractData\",O275, \"PerCentNetLastTrade\",, \"T\")/100","v":3.1154669955215162E-3},"https://finance.yahoo.com/quote/AMGN",null,3.1154669955215162E-3,{"$error":"#N/A"},null,{"$f":"RTD(\"cqg.rtd\", ,\"ContractData\",O275, \"LongDescription\",, \"T\")","v":"Amgen Inc"},null,null,3.1154669955215162E-3,null,1,1,null,3.1154669955215162E-3,"",""]
[null,null,"S.US.HXL",{"$f":"RTD(\"cqg.rtd\", ,\"ContractData\",C276, \"LongDescription\",, \"T\")","v":"Hexcel Corp"},{"$f":"RTD(\"cqg.rtd\", ,\"ContractData\",C276, \"Open\",, \"T\")","v":50.33},{"$f":"RTD(\"cqg.rtd\", ,\"ContractData\",C276, \"High\",, \"T\")","v":50.88},{"$f":"RTD(\"cqg.rtd\", ,\"ContractData\",C276, \"Low\",, \"T\")","v":50.2},{"$f":"RTD(\"cqg.rtd\", ,\"ContractData\",C276, \"LastTradeToday\",, \"T\")","v":50.63},{"$f":"RTD(\"cqg.rtd\", ,\"ContractData\",C276, \"NetLastTradeToday\",, \"T\")","v":0.32},{"$f":"IFERROR(RTD(\"cqg.rtd\", ,\"ContractData\",C276, \"PerCentNetLastTrade\",, \"T\")/100,\"\")","v":6.3605645000993838E-3},{"$f":"RTD(\"cqg.rtd\", ,\"ContractData\", C276, \"T_CVol\",, \"T\")","v":289080},276,{"$f":"IFERROR(RANK($J276,$J$1:J$607)+COUNTIF($J$1:J276,J276)-1,\"\")","v":187},"S.US.HXL","S.US.PPG",{"$f":"RTD(\"cqg.rtd\", ,\"ContractData\",O276, \"PerCentNetLastTrade\",, \"T\")/100","v":3.0927835051546395E-3},"https://finance.yahoo.com/quote/PPG",null,3.0927835051546395E-3,{"$error":"#N/A"},null,{"$f":"RTD(\"cqg.rtd\", ,\"ContractData\",O276, \"LongDescription\",, \"T\")","v":"PPG Industries Inc"},null,null,3.0927835051546395E-3,null,1,1,null,3.0927835051546395E-3,"",""]
[null,null,"S.US.IAC",{"$f":"RTD(\"cqg.rtd\", ,\"ContractData\",C277, \"LongDescription\",, \"T\")","v":"IAC/InterActive Corp"},{"$f":"RTD(\"cqg.rtd\", ,\"ContractData\",C277, \"Open\",, \"T\")","v":103.39},{"$f":"RTD(\"cqg.rtd\", ,\"ContractData\",C277, \"High\",, \"T\")","v":103.81},{"$f":"RTD(\"cqg.rtd\", ,\"ContractData\",C277, \"Low\",, \"T\")","v":102.77},{"$f":"RTD(\"cqg.rtd\", ,\"ContractData\",C277, \"LastTradeToday\",, \"T\")","v":103.54},{"$f":"RTD(\"cqg.rtd\", ,\"ContractData\",C277, \"NetLastTradeToday\",, \"T\")","v":0.31},{"$f":"IFERROR(RTD(\"cqg.rtd\", ,\"ContractData\",C277, \"PerCentNetLastTrade\",, \"T\")/100,\"\")","v":3.003003003003003E-3},{"$f":"RTD(\"cqg.rtd\", ,\"ContractData\", C277, \"T_CVol\",, \"T\")","v":480406},277,{"$f":"IFERROR(RANK($J277,$J$1:J$607)+COUNTIF($J$1:J277,J277)-1,\"\")","v":280},"S.US.IAC","S.US.BKFS",{"$f":"RTD(\"cqg.rtd\", ,\"ContractData\",O277, \"PerCentNetLastTrade\",, \"T\")/100","v":3.0769230769230769E-3},"https://finance.yahoo.com/quote/BKFS",null,3.0769230769230769E-3,{"$error":"#N/A"},null,{"$f":"RTD(\"cqg.rtd\", ,\"ContractData\",O277, \"LongDescription\",, \"T\")","v":"Black Knight Financial Services, Inc."},null,null,3.0769230769230769E-3,null,1,1,null,3.0769230769230769E-3,"",""]
[null,null,"S.US.IBKR",{"$f":"RTD(\"cqg.rtd\", ,\"ContractData\",C278, \"LongDescription\",, \"T\")","v":"Interactive Brokers Group"},{"$f":"RTD(\"cqg.rtd\", ,\"ContractData\",C278, \"Open\",, \"T\")","v":35},{"$f":"RTD(\"cqg.rtd\", ,\"ContractData\",C278, \"High\",, \"T\")","v":35.18},{"$f":"RTD(\"cqg.rtd\", ,\"ContractData\",C278, \"Low\",, \"T\")","v":34.71},{"$f":"RTD(\"cqg.rtd\", ,\"ContractData\",C278, \"LastTradeToday\",, \"T\")","v":34.910000000000004},{"$f":"RTD(\"cqg.rtd\", ,\"ContractData\",C278, \"NetLastTradeToday\",, \"T\")","v":0},{"$f":"IFERROR(RTD(\"cqg.rtd\", ,\"ContractData\",C278, \"PerCentNetLastTrade\",, \"T\")/100,\"\")","v":0},{"$f":"RTD(\"cqg.rtd\", ,\"ContractData\", C278, \"T_CVol\",, \"T\")","v":278647},278,{"$f":"IFERROR(RANK($J278,$J$1:J$607)+COUNTIF($J$1:J278,J278)-1,\"\")","v":386},"S.US.IBKR","S.US.TYL",{"$f":"RTD(\"cqg.rtd\", ,\"ContractData\",O278, \"PerCentNetLastTrade\",, \"T\")/100","v":3.0626067495141056E-3},"https://finance.yahoo.com/quote/TYL",null,3.0626067495141056E-3,{"$error":"#N/A"},null,{"$f":"RTD(\"cqg.rtd\", ,\"ContractData\",O278, \"LongDescription\",, \"T\")","v":"TYLER TECHNOLOGIES INC"},null,null,3.0626067495141056E-3,null,1,1,null,3.0626067495141056E-3,"",""]
[null,null,"S.US.IBM",{"$f":"RTD(\"cqg.rtd\", ,\"ContractData\",C279, \"LongDescription\",, \"T\")","v":"International Business Machines"},{"$f":"RTD(\"cqg.rtd\", ,\"ContractData\",C279, \"Open\",, \"T\")","v":152.21},{"$f":"RTD(\"cqg.rtd\", ,\"ContractData\",C279, \"High\",, \"T\")","v":152.45000000000002},{"$f":"RTD(\"cqg.rtd\", ,\"ContractData\",C279, \"Low\",, \"T\")","v":151.22999999999999},{"$f":"RTD(\"cqg.rtd\", ,\"ContractData\",C279, \"LastTradeToday\",, \"T\")","v":152.35},{"$f":"RTD(\"cqg.rtd\", ,\"ContractData\",C279, \"NetLastTradeToday\",, \"T\")","v":0.32},{"$f":"IFERROR(RTD(\"cqg.rtd\", ,\"ContractData\",C279, \"PerCentNetLastTrade\",, \"T\")/100,\"\")","v":2.1048477274222192E-3},{"$f":"RTD(\"cqg.rtd\", ,\"ContractData\", C279, \"T_CVol\",, \"T\")","v":1511406},279,{"$f":"IFERROR(RANK($J279,$J$1:J$607)+COUNTIF($J$1:J279,J279)-1,\"\")","v":317},"S.US.IBM","S.US.FOX",{"$f":"RTD(\"cqg.rtd\", ,\"ContractData\",O279, \"PerCentNetLastTrade\",, \"T\")/100","v":3.0154542027892948E-3},"https://finance.yahoo.com/quote/FOX",null,3.0154542027892948E-3,{"$error":"#N/A"},null,{"$f":"RTD(\"cqg.rtd\", ,\"ContractData\",O279, \"LongDescription\",, \"T\")","v":"Twenty-First Century Fox, Inc. Class B"},null,null,3.0154542027892948E-3,null,1,1,null,3.0154542027892948E-3,"",""]
[null,null,"S.US.ICE",{"$f":"RTD(\"cqg.rtd\", ,\"ContractData\",C280, \"LongDescription\",, \"T\")","v":"Intercontinental, Inc."},{"$f":"RTD(\"cqg.rtd\", ,\"ContractData\",C280, \"Open\",, \"T\")","v":60.04},{"$f":"RTD(\"cqg.rtd\", ,\"ContractData\",C280, \"High\",, \"T\")","v":60.120000000000005},{"$f":"RTD(\"cqg.rtd\", ,\"ContractData\",C280, \"Low\",, \"T\")","v":59.63},{"$f":"RTD(\"cqg.rtd\", ,\"ContractData\",C280, \"LastTradeToday\",, \"T\")","v":59.980000000000004},{"$f":"RTD(\"cqg.rtd\", ,\"ContractData\",C280, \"NetLastTradeToday\",, \"T\")","v":0.11},{"$f":"IFERROR(RTD(\"cqg.rtd\", ,\"ContractData\",C280, \"PerCentNetLastTrade\",, \"T\")/100,\"\")","v":1.8373141807249038E-3},{"$f":"RTD(\"cqg.rtd\", ,\"ContractData\", C280, \"T_CVol\",, \"T\")","v":676363},280,{"$f":"IFERROR(RANK($J280,$J$1:J$607)+COUNTIF($J$1:J280,J280)-1,\"\")","v":327},"S.US.ICE","S.US.IAC",{"$f":"RTD(\"cqg.rtd\", ,\"ContractData\",O280, \"PerCentNetLastTrade\",, \"T\")/100","v":3.003003003003003E-3},"https://finance.yahoo.com/quote/IAC",null,3.003003003003003E-3,{"$error":"#N/A"},null,{"$f":"RTD(\"cqg.rtd\", ,\"ContractData\",O280, \"LongDescription\",, \"T\")","v":"IAC/InterActive Corp"},null,null,3.003003003003003E-3,null,1,1,null,3.003003003003003E-3,"",""]
[null,null,"S.US.ICPT",{"$f":"RTD(\"cqg.rtd\", ,\"ContractData\",C281, \"LongDescription\",, \"T\")","v":"Intercept Pharmaceuticals, Inc."},{"$f":"RTD(\"cqg.rtd\", ,\"ContractData\",C281, \"Open\",, \"T\")","v":113.41},{"$f":"RTD(\"cqg.rtd\", ,\"ContractData\",C281, \"High\",, \"T\")","v":118.60000000000001},{"$f":"RTD(\"cqg.rtd\", ,\"ContractData\",C281, \"Low\",, \"T\")","v":112.5},{"$f":"RTD(\"cqg.rtd\", ,\"ContractData\",C281, \"LastTradeToday\",, \"T\")","v":117.42},{"$f":"RTD(\"cqg.rtd\", ,\"ContractData\",C281, \"NetLastTradeToday\",, \"T\")","v":4.43},{"$f":"IFERROR(RTD(\"cqg.rtd\", ,\"ContractData\",C281, \"PerCentNetLastTrade\",, \"T\")/100,\"\")","v":3.9207009469864593E-2},{"$f":"RTD(\"cqg.rtd\", ,\"ContractData\", C281, \"T_CVol\",, \"T\")","v":304784},281,{"$f":"IFERROR(RANK($J281,$J$1:J$607)+COUNTIF($J$1:J281,J281)-1,\"\")","v":5},"S.US.ICPT","S.US.ORLY",{"$f":"RTD(\"cqg.rtd\", ,\"ContractData\",O281, \"PerCentNetLastTrade\",, \"T\")/100","v":2.9977516862353237E-3},"https://finance.yahoo.com/quote/ORLY",null,2.9977516862353237E-3,{"$error":"#N/A"},null,{"$f":"RTD(\"cqg.rtd\", ,\"ContractData\",O281, \"LongDescription\",, \"T\")","v":"OReilly Automotive Inc"},null,null,2.9977516862353237E-3,null,1,1,null,2.9977516862353237E-3,"",""]
[null,null,"S.US.IDXX",{"$f":"RTD(\"cqg.rtd\", ,\"ContractData\",C282, \"LongDescription\",, \"T\")","v":"IDEXX Laboratories Inc"},{"$f":"RTD(\"cqg.rtd\", ,\"ContractData\",C282, \"Open\",, \"T\")","v":164.57},{"$f":"RTD(\"cqg.rtd\", ,\"ContractData\",C282, \"High\",, \"T\")","v":165},{"$f":"RTD(\"cqg.rtd\", ,\"ContractData\",C282, \"Low\",, \"T\")","v":163.20000000000002},{"$f":"RTD(\"cqg.rtd\", ,\"ContractData\",C282, \"LastTradeToday\",, \"T\")","v":164.11},{"$f":"RTD(\"cqg.rtd\", ,\"ContractData\",C282, \"NetLastTradeToday\",, \"T\")","v":-0.09},{"$f":"IFERROR(RTD(\"cqg.rtd\", ,\"ContractData\",C282, \"PerCentNetLastTrade\",, \"T\")/100,\"\")","v":-5.4811205846528623E-4},{"$f":"RTD(\"cqg.rtd\", ,\"ContractData\", C282, \"T_CVol\",, \"T\")","v":245247},282,{"$f":"IFERROR(RANK($J282,$J$1:J$607)+COUNTIF($J$1:J282,J282)-1,\"\")","v":404},"S.US.IDXX","S.US.TMO",{"$f":"RTD(\"cqg.rtd\", ,\"ContractData\",O282, \"PerCentNetLastTrade\",, \"T\")/100","v":2.9680498166792762E-3},"https://finance.yahoo.com/quote/TMO",null,2.9680498166792762E-3,{"$error":"#N/A"},null,{"$f":"RTD(\"cqg.rtd\", ,\"ContractData\",O282, \"LongDescription\",, \"T\")","v":"Thermo Electron Corp"},null,null,2.9680498166792762E-3,null,1,1,null,2.9680498166792762E-3,"",""]
[null,null,"S.US.IEX",{"$f":"RTD(\"cqg.rtd\", ,\"ContractData\",C283, \"LongDescription\",, \"T\")","v":"Idex Corp"},{"$f":"RTD(\"cqg.rtd\", ,\"ContractData\",C283, \"Open\",, \"T\")","v":108.71000000000001},{"$f":"RTD(\"cqg.rtd\", ,\"ContractData\",C283, \"High\",, \"T\")","v":109.86},{"$f":"RTD(\"cqg.rtd\", ,\"ContractData\",C283, \"Low\",, \"T\")","v":107.85000000000001},{"$f":"RTD(\"cqg.rtd\", ,\"ContractData\",C283, \"LastTradeToday\",, \"T\")","v":108.41},{"$f":"RTD(\"cqg.rtd\", ,\"ContractData\",C283, \"NetLastTradeToday\",, \"T\")","v":-0.24},{"$f":"IFERROR(RTD(\"cqg.rtd\", ,\"ContractData\",C283, \"PerCentNetLastTrade\",, \"T\")/100,\"\")","v":-2.208927749654855E-3},{"$f":"RTD(\"cqg.rtd\", ,\"ContractData\", C283, \"T_CVol\",, \"T\")","v":161201},283,{"$f":"IFERROR(RANK($J283,$J$1:J$607)+COUNTIF($J$1:J283,J283)-1,\"\")","v":435},"S.US.IEX","S.US.HON",{"$f":"RTD(\"cqg.rtd\", ,\"ContractData\",O283, \"PerCentNetLastTrade\",, \"T\")/100","v":2.9579067121729237E-3},"https://finance.yahoo.com/quote/HON",null,2.9579067121729237E-3,{"$error":"#N/A"},null,{"$f":"RTD(\"cqg.rtd\", ,\"ContractData\",O283, \"LongDescription\",, \"T\")","v":"Honeywell Intl"},null,null,2.9579067121729237E-3,null,1,1,null,2.9579067121729237E-3,"",""]
[null,null,"S.US.IFF",{"$f":"RTD(\"cqg.rtd\", ,\"ContractData\",C284, \"LongDescription\",, \"T\")","v":"Intl Flvrs & Fragrances"},{"$f":"RTD(\"cqg.rtd\", ,\"ContractData\",C284, \"Open\",, \"T\")","v":136.12},{"$f":"RTD(\"cqg.rtd\", ,\"ContractData\",C284, \"High\",, \"T\")","v":138},{"$f":"RTD(\"cqg.rtd\", ,\"ContractData\",C284, \"Low\",, \"T\")","v":136.12},{"$f":"RTD(\"cqg.rtd\", ,\"ContractData\",C284, \"LastTradeToday\",, \"T\")","v":137.91},{"$f":"RTD(\"cqg.rtd\", ,\"ContractData\",C284, \"NetLastTradeToday\",, \"T\")","v":1.3900000000000001},{"$f":"IFERROR(RTD(\"cqg.rtd\", ,\"ContractData\",C284, \"PerCentNetLastTrade\",, \"T\")/100,\"\")","v":1.0181658365074715E-2},{"$f":"RTD(\"cqg.rtd\", ,\"ContractData\", C284, \"T_CVol\",, \"T\")","v":128751},284,{"$f":"IFERROR(RANK($J284,$J$1:J$607)+COUNTIF($J$1:J284,J284)-1,\"\")","v":102},"S.US.IFF","S.US.CTXS",{"$f":"RTD(\"cqg.rtd\", ,\"ContractData\",O284, \"PerCentNetLastTrade\",, \"T\")/100","v":2.9246892517669999E-3},"https://finance.yahoo.com/quote/CTXS",null,2.9246892517669999E-3,{"$error":"#N/A"},null,{"$f":"RTD(\"cqg.rtd\", ,\"ContractData\",O284, \"LongDescription\",, \"T\")","v":"Citrix Systems Inc"},null,null,2.9246892517669999E-3,null,1,1,null,2.9246892517669999E-3,"",""]
[null,null,"S.US.ILMN",{"$f":"RTD(\"cqg.rtd\", ,\"ContractData\",C285, \"LongDescription\",, \"T\")","v":"Illumina Inc"},{"$f":"RTD(\"cqg.rtd\", ,\"ContractData\",C285, \"Open\",, \"T\")","v":175.34},{"$f":"RTD(\"cqg.rtd\", ,\"ContractData\",C285, \"High\",, \"T\")","v":175.98},{"$f":"RTD(\"cqg.rtd\", ,\"ContractData\",C285, \"Low\",, \"T\")","v":173.78},{"$f":"RTD(\"cqg.rtd\", ,\"ContractData\",C285, \"LastTradeToday\",, \"T\")","v":174.56},{"$f":"RTD(\"cqg.rtd\", ,\"ContractData\",C285, \"NetLastTradeToday\",, \"T\")","v":-0.16},{"$f":"IFERROR(RTD(\"cqg.rtd\", ,\"ContractData\",C285, \"PerCentNetLastTrade\",, \"T\")/100,\"\")","v":-9.1575091575091564E-4},{"$f":"RTD(\"cqg.rtd\", ,\"ContractData\", C285, \"T_CVol\",, \"T\")","v":813537},285,{"$f":"IFERROR(RANK($J285,$J$1:J$607)+COUNTIF($J$1:J285,J285)-1,\"\")","v":413},"S.US.ILMN","S.US.EBAY",{"$f":"RTD(\"cqg.rtd\", ,\"ContractData\",O285, \"PerCentNetLastTrade\",, \"T\")/100","v":2.889338341519792E-3},"https://finance.yahoo.com/quote/EBAY",null,2.889338341519792E-3,{"$error":"#N/A"},null,{"$f":"RTD(\"cqg.rtd\", ,\"ContractData\",O285, \"LongDescription\",, \"T\")","v":"eBay Inc"},null,null,2.889338341519792E-3,null,1,1,null,2.889338341519792E-3,"",""]
[null,null,"S.US.INCY",{"$f":"RTD(\"cqg.rtd\", ,\"ContractData\",C286, \"LongDescription\",, \"T\")","v":"Incyte Corporation"},{"$f":"RTD(\"cqg.rtd\", ,\"ContractData\",C286, \"Open\",, \"T\")","v":136.4},{"$f":"RTD(\"cqg.rtd\", ,\"ContractData\",C286, \"High\",, \"T\")","v":138.75},{"$f":"RTD(\"cqg.rtd\", ,\"ContractData\",C286, \"Low\",, \"T\")","v":135.01},{"$f":"RTD(\"cqg.rtd\", ,\"ContractData\",C286, \"LastTradeToday\",, \"T\")","v":138.35},{"$f":"RTD(\"cqg.rtd\", ,\"ContractData\",C286, \"NetLastTradeToday\",, \"T\")","v":2.19},{"$f":"IFERROR(RTD(\"cqg.rtd\", ,\"ContractData\",C286, \"PerCentNetLastTrade\",, \"T\")/100,\"\")","v":1.6084018801410103E-2},{"$f":"RTD(\"cqg.rtd\", ,\"ContractData\", C286, \"T_CVol\",, \"T\")","v":800883},286,{"$f":"IFERROR(RANK($J286,$J$1:J$607)+COUNTIF($J$1:J286,J286)-1,\"\")","v":50},"S.US.INCY","S.US.CE",{"$f":"RTD(\"cqg.rtd\", ,\"ContractData\",O286, \"PerCentNetLastTrade\",, \"T\")/100","v":2.8669724770642203E-3},"https://finance.yahoo.com/quote/CE",null,2.8669724770642203E-3,{"$error":"#N/A"},null,{"$f":"RTD(\"cqg.rtd\", ,\"ContractData\",O286, \"LongDescription\",, \"T\")","v":"Celanese Corp"},null,null,2.8669724770642203E-3,null,1,1,null,2.8669724770642203E-3,"",""]
[null,null,"S.US.INGR",{"$f":"RTD(\"cqg.rtd\", ,\"ContractData\",C287, \"LongDescription\",, \"T\")","v":"Ingredion Incorporated"},{"$f":"RTD(\"cqg.rtd\", ,\"ContractData\",C287, \"Open\",, \"T\")","v":116.86},{"$f":"RTD(\"cqg.rtd\", ,\"ContractData\",C287, \"High\",, \"T\")","v":117.59},{"$f":"RTD(\"cqg.rtd\", ,\"ContractData\",C287, \"Low\",, \"T\")","v":116.58},{"$f":"RTD(\"cqg.rtd\", ,\"ContractData\",C287, \"LastTradeToday\",, \"T\")","v":117},{"$f":"RTD(\"cqg.rtd\", ,\"ContractData\",C287, \"NetLastTradeToday\",, \"T\")","v":-0.11},{"$f":"IFERROR(RTD(\"cqg.rtd\", ,\"ContractData\",C287, \"PerCentNetLastTrade\",, \"T\")/100,\"\")","v":-9.392878490308257E-4},{"$f":"RTD(\"cqg.rtd\", ,\"ContractData\", C287, \"T_CVol\",, \"T\")","v":114810},287,{"$f":"IFERROR(RANK($J287,$J$1:J$607)+COUNTIF($J$1:J287,J287)-1,\"\")","v":414},"S.US.INGR","S.US.MAR",{"$f":"RTD(\"cqg.rtd\", ,\"ContractData\",O287, \"PerCentNetLastTrade\",, \"T\")/100","v":2.8438714570101433E-3},"https://finance.yahoo.com/quote/MAR",null,2.8438714570101433E-3,{"$error":"#N/A"},null,{"$f":"RTD(\"cqg.rtd\", ,\"ContractData\",O287, \"LongDescription\",, \"T\")","v":"Marriot International, Inc."},null,null,2.8438714570101433E-3,null,1,1,null,2.8438714570101433E-3,"",""]
[null,null,"S.US.INOV",{"$f":"RTD(\"cqg.rtd\", ,\"ContractData\",C288, \"LongDescription\",, \"T\")","v":"Inovalon Holdings, Inc. Class A"},{"$f":"RTD(\"cqg.rtd\", ,\"ContractData\",C288, \"Open\",, \"T\")","v":13.700000000000001},{"$f":"RTD(\"cqg.rtd\", ,\"ContractData\",C288, \"High\",, \"T\")","v":13.8},{"$f":"RTD(\"cqg.rtd\", ,\"ContractData\",C288, \"Low\",, \"T\")","v":13.35},{"$f":"RTD(\"cqg.rtd\", ,\"ContractData\",C288, \"LastTradeToday\",, \"T\")","v":13.5},{"$f":"RTD(\"cqg.rtd\", ,\"ContractData\",C288, \"NetLastTradeToday\",, \"T\")","v":-0.15},{"$f":"IFERROR(RTD(\"cqg.rtd\", ,\"ContractData\",C288, \"PerCentNetLastTrade\",, \"T\")/100,\"\")","v":-1.098901098901099E-2},{"$f":"RTD(\"cqg.rtd\", ,\"ContractData\", C288, \"T_CVol\",, \"T\")","v":121567},288,{"$f":"IFERROR(RANK($J288,$J$1:J$607)+COUNTIF($J$1:J288,J288)-1,\"\")","v":553},"S.US.INOV","S.US.HD",{"$f":"RTD(\"cqg.rtd\", ,\"ContractData\",O288, \"PerCentNetLastTrade\",, \"T\")/100","v":2.8418265194083835E-3},"https://finance.yahoo.com/quote/HD",null,2.8418265194083835E-3,{"$error":"#N/A"},null,{"$f":"RTD(\"cqg.rtd\", ,\"ContractData\",O288, \"LongDescription\",, \"T\")","v":"Home Depot, Inc."},null,null,2.8418265194083835E-3,null,1,1,null,2.8418265194083835E-3,"",""]
[null,null,"S.US.INTC",{"$f":"RTD(\"cqg.rtd\", ,\"ContractData\",C289, \"LongDescription\",, \"T\")","v":"Intel Corporation"},{"$f":"RTD(\"cqg.rtd\", ,\"ContractData\",C289, \"Open\",, \"T\")","v":35.980000000000004},{"$f":"RTD(\"cqg.rtd\", ,\"ContractData\",C289, \"High\",, \"T\")","v":36.18},{"$f":"RTD(\"cqg.rtd\", ,\"ContractData\",C289, \"Low\",, \"T\")","v":35.89},{"$f":"RTD(\"cqg.rtd\", ,\"ContractData\",C289, \"LastTradeToday\",, \"T\")","v":36.04},{"$f":"RTD(\"cqg.rtd\", ,\"ContractData\",C289, \"NetLastTradeToday\",, \"T\")","v":0.18},{"$f":"IFERROR(RTD(\"cqg.rtd\", ,\"ContractData\",C289, \"PerCentNetLastTrade\",, \"T\")/100,\"\")","v":5.0195203569436695E-3},{"$f":"RTD(\"cqg.rtd\", ,\"ContractData\", C289, \"T_CVol\",, \"T\")","v":9729169},289,{"$f":"IFERROR(RANK($J289,$J$1:J$607)+COUNTIF($J$1:J289,J289)-1,\"\")","v":215},"S.US.INTC","S.US.SCHW",{"$f":"RTD(\"cqg.rtd\", ,\"ContractData\",O289, \"PerCentNetLastTrade\",, \"T\")/100","v":2.829945973758683E-3},"https://finance.yahoo.com/quote/SCHW",null,2.829945973758683E-3,{"$error":"#N/A"},null,{"$f":"RTD(\"cqg.rtd\", ,\"ContractData\",O289, \"LongDescription\",, \"T\")","v":"Charles Schwab Corp"},null,null,2.829945973758683E-3,null,1,1,null,2.829945973758683E-3,"",""]
[null,null,"S.US.INTU",{"$f":"RTD(\"cqg.rtd\", ,\"ContractData\",C290, \"LongDescription\",, \"T\")","v":"Intuit Corp"},{"$f":"RTD(\"cqg.rtd\", ,\"ContractData\",C290, \"Open\",, \"T\")","v":139.71},{"$f":"RTD(\"cqg.rtd\", ,\"ContractData\",C290, \"High\",, \"T\")","v":140.25},{"$f":"RTD(\"cqg.rtd\", ,\"ContractData\",C290, \"Low\",, \"T\")","v":136.41},{"$f":"RTD(\"cqg.rtd\", ,\"ContractData\",C290, \"LastTradeToday\",, \"T\")","v":138.18},{"$f":"RTD(\"cqg.rtd\", ,\"ContractData\",C290, \"NetLastTradeToday\",, \"T\")","v":9.0299999999999994},{"$f":"IFERROR(RTD(\"cqg.rtd\", ,\"ContractData\",C290, \"PerCentNetLastTrade\",, \"T\")/100,\"\")","v":6.9918699186991867E-2},{"$f":"RTD(\"cqg.rtd\", ,\"ContractData\", C290, \"T_CVol\",, \"T\")","v":4085719},290,{"$f":"IFERROR(RANK($J290,$J$1:J$607)+COUNTIF($J$1:J290,J290)-1,\"\")","v":1},"S.US.INTU","S.US.DE",{"$f":"RTD(\"cqg.rtd\", ,\"ContractData\",O290, \"PerCentNetLastTrade\",, \"T\")/100","v":2.7839187750757386E-3},"https://finance.yahoo.com/quote/DE",null,2.7839187750757386E-3,{"$error":"#N/A"},null,{"$f":"RTD(\"cqg.rtd\", ,\"ContractData\",O290, \"LongDescription\",, \"T\")","v":"Deere & Company"},null,null,2.7839187750757386E-3,null,1,1,null,2.7839187750757386E-3,"",""]
[null,null,"S.US.INVH",{"$f":"RTD(\"cqg.rtd\", ,\"ContractData\",C291, \"LongDescription\",, \"T\")","v":"Invitation Homes Inc."},{"$f":"RTD(\"cqg.rtd\", ,\"ContractData\",C291, \"Open\",, \"T\")","v":21.54},{"$f":"RTD(\"cqg.rtd\", ,\"ContractData\",C291, \"High\",, \"T\")","v":21.740000000000002},{"$f":"RTD(\"cqg.rtd\", ,\"ContractData\",C291, \"Low\",, \"T\")","v":21.52},{"$f":"RTD(\"cqg.rtd\", ,\"ContractData\",C291, \"LastTradeToday\",, \"T\")","v":21.6},{"$f":"RTD(\"cqg.rtd\", ,\"ContractData\",C291, \"NetLastTradeToday\",, \"T\")","v":0.04},{"$f":"IFERROR(RTD(\"cqg.rtd\", ,\"ContractData\",C291, \"PerCentNetLastTrade\",, \"T\")/100,\"\")","v":1.8552875695732837E-3},{"$f":"RTD(\"cqg.rtd\", ,\"ContractData\", C291, \"T_CVol\",, \"T\")","v":219235},291,{"$f":"IFERROR(RANK($J291,$J$1:J$607)+COUNTIF($J$1:J291,J291)-1,\"\")","v":326},"S.US.INVH","S.US.CUBE",{"$f":"RTD(\"cqg.rtd\", ,\"ContractData\",O291, \"PerCentNetLastTrade\",, \"T\")/100","v":2.776675922253074E-3},"https://finance.yahoo.com/quote/CUBE",null,2.776675922253074E-3,{"$error":"#N/A"},null,{"$f":"RTD(\"cqg.rtd\", ,\"ContractData\",O291, \"LongDescription\",, \"T\")","v":"Cubesmart"},null,null,2.776675922253074E-3,null,1,1,null,2.776675922253074E-3,"",""]
[null,null,"S.US.IONS",{"$f":"RTD(\"cqg.rtd\", ,\"ContractData\",C292, \"LongDescription\",, \"T\")","v":"Ionis Pharmaceuticals, Inc. "},{"$f":"RTD(\"cqg.rtd\", ,\"ContractData\",C292, \"Open\",, \"T\")","v":45.35},{"$f":"RTD(\"cqg.rtd\", ,\"ContractData\",C292, \"High\",, \"T\")","v":47.230000000000004},{"$f":"RTD(\"cqg.rtd\", ,\"ContractData\",C292, \"Low\",, \"T\")","v":44.71},{"$f":"RTD(\"cqg.rtd\", ,\"ContractData\",C292, \"LastTradeToday\",, \"T\")","v":47},{"$f":"RTD(\"cqg.rtd\", ,\"ContractData\",C292, \"NetLastTradeToday\",, \"T\")","v":1.86},{"$f":"IFERROR(RTD(\"cqg.rtd\", ,\"ContractData\",C292, \"PerCentNetLastTrade\",, \"T\")/100,\"\")","v":4.1205139565795301E-2},{"$f":"RTD(\"cqg.rtd\", ,\"ContractData\", C292, \"T_CVol\",, \"T\")","v":900883},292,{"$f":"IFERROR(RANK($J292,$J$1:J$607)+COUNTIF($J$1:J292,J292)-1,\"\")","v":4},"S.US.IONS","S.US.UA",{"$f":"RTD(\"cqg.rtd\", ,\"ContractData\",O292, \"PerCentNetLastTrade\",, \"T\")/100","v":2.7716186252771616E-3},"https://finance.yahoo.com/quote/UA",null,2.7716186252771616E-3,{"$error":"#N/A"},null,{"$f":"RTD(\"cqg.rtd\", ,\"ContractData\",O292, \"LongDescription\",, \"T\")","v":"Under Armour Inc"},null,null,2.7716186252771616E-3,null,1,1,null,2.7716186252771616E-3,"",""]
[null,null,"S.US.IPG",{"$f":"RTD(\"cqg.rtd\", ,\"ContractData\",C293, \"LongDescription\",, \"T\")","v":"Interpublic Grp of Cos"},{"$f":"RTD(\"cqg.rtd\", ,\"ContractData\",C293, \"Open\",, \"T\")","v":24.3},{"$f":"RTD(\"cqg.rtd\", ,\"ContractData\",C293, \"High\",, \"T\")","v":24.46},{"$f":"RTD(\"cqg.rtd\", ,\"ContractData\",C293, \"Low\",, \"T\")","v":24.26},{"$f":"RTD(\"cqg.rtd\", ,\"ContractData\",C293, \"LastTradeToday\",, \"T\")","v":24.44},{"$f":"RTD(\"cqg.rtd\", ,\"ContractData\",C293, \"NetLastTradeToday\",, \"T\")","v":0.13},{"$f":"IFERROR(RTD(\"cqg.rtd\", ,\"ContractData\",C293, \"PerCentNetLastTrade\",, \"T\")/100,\"\")","v":5.3475935828877011E-3},{"$f":"RTD(\"cqg.rtd\", ,\"ContractData\", C293, \"T_CVol\",, \"T\")","v":1222429},293,{"$f":"IFERROR(RANK($J293,$J$1:J$607)+COUNTIF($J$1:J293,J293)-1,\"\")","v":204},"S.US.IPG","S.US.EW",{"$f":"RTD(\"cqg.rtd\", ,\"ContractData\",O293, \"PerCentNetLastTrade\",, \"T\")/100","v":2.7303153073806583E-3},"https://finance.yahoo.com/quote/EW",null,2.7303153073806583E-3,{"$error":"#N/A"},null,{"$f":"RTD(\"cqg.rtd\", ,\"ContractData\",O293, \"LongDescription\",, \"T\")","v":"Edwards LifeSciences"},null,null,2.7303153073806583E-3,null,1,1,null,2.7303153073806583E-3,"",""]
[null,null,"S.US.IPGP",{"$f":"RTD(\"cqg.rtd\", ,\"ContractData\",C294, \"LongDescription\",, \"T\")","v":"IPG Photonics Corporation"},{"$f":"RTD(\"cqg.rtd\", ,\"ContractData\",C294, \"Open\",, \"T\")","v":138.57},{"$f":"RTD(\"cqg.rtd\", ,\"ContractData\",C294, \"High\",, \"T\")","v":139.86000000000001},{"$f":"RTD(\"cqg.rtd\", ,\"ContractData\",C294, \"Low\",, \"T\")","v":138.15},{"$f":"RTD(\"cqg.rtd\", ,\"ContractData\",C294, \"LastTradeToday\",, \"T\")","v":138.68},{"$f":"RTD(\"cqg.rtd\", ,\"ContractData\",C294, \"NetLastTradeToday\",, \"T\")","v":0.24},{"$f":"IFERROR(RTD(\"cqg.rtd\", ,\"ContractData\",C294, \"PerCentNetLastTrade\",, \"T\")/100,\"\")","v":1.7336030049118754E-3},{"$f":"RTD(\"cqg.rtd\", ,\"ContractData\", C294, \"T_CVol\",, \"T\")","v":68857},294,{"$f":"IFERROR(RANK($J294,$J$1:J$607)+COUNTIF($J$1:J294,J294)-1,\"\")","v":330},"S.US.IPGP","S.US.SYMC",{"$f":"RTD(\"cqg.rtd\", ,\"ContractData\",O294, \"PerCentNetLastTrade\",, \"T\")/100","v":2.6854649211144684E-3},"https://finance.yahoo.com/quote/SYMC",null,2.6854649211144684E-3,{"$error":"#N/A"},null,{"$f":"RTD(\"cqg.rtd\", ,\"ContractData\",O294, \"LongDescription\",, \"T\")","v":"Symantec Corp"},null,null,2.6854649211144684E-3,null,1,1,null,2.6854649211144684E-3,"",""]
[null,null,"S.US.IR",{"$f":"RTD(\"cqg.rtd\", ,\"ContractData\",C295, \"LongDescription\",, \"T\")","v":"Ingersoll-Rand Co"},{"$f":"RTD(\"cqg.rtd\", ,\"ContractData\",C295, \"Open\",, \"T\")","v":89.22},{"$f":"RTD(\"cqg.rtd\", ,\"ContractData\",C295, \"High\",, \"T\")","v":89.66},{"$f":"RTD(\"cqg.rtd\", ,\"ContractData\",C295, \"Low\",, \"T\")","v":88.4},{"$f":"RTD(\"cqg.rtd\", ,\"ContractData\",C295, \"LastTradeToday\",, \"T\")","v":88.67},{"$f":"RTD(\"cqg.rtd\", ,\"ContractData\",C295, \"NetLastTradeToday\",, \"T\")","v":-0.36},{"$f":"IFERROR(RTD(\"cqg.rtd\", ,\"ContractData\",C295, \"PerCentNetLastTrade\",, \"T\")/100,\"\")","v":-4.0435808154554642E-3},{"$f":"RTD(\"cqg.rtd\", ,\"ContractData\", C295, \"T_CVol\",, \"T\")","v":923791},295,{"$f":"IFERROR(RANK($J295,$J$1:J$607)+COUNTIF($J$1:J295,J295)-1,\"\")","v":469},{"$f":"C295","v":"S.US.IR"},"S.US.ROST",{"$f":"RTD(\"cqg.rtd\", ,\"ContractData\",O295, \"PerCentNetLastTrade\",, \"T\")/100","v":2.5798129635601417E-3},"https://finance.yahoo.com/quote/ROST",null,{"$f":"IF(P295>=0,P295,NA())","v":2.5798129635601417E-3},{"$f":"IF(P295>=0,NA(),-1*P295)","v":{"$error":"#N/A"}},null,{"$f":"RTD(\"cqg.rtd\", ,\"ContractData\",O295, \"LongDescription\",, \"T\")","v":"Ross Stores Inc"},null,null,{"$f":"IFERROR(S295,P295)","v":2.5798129635601417E-3},null,{"$f":"IF(S295=\"NA()\",0,1)","v":1},{"$f":"IFERROR(AA295,0)","v":1},null,{"$f":"IFERROR(S295,\"\")","v":2.5798129635601417E-3},{"$f":"IFERROR(T295,\"\")","v":""},{"$f":"IF(AE295=\"\",\"\",Y295)","v":""}]
[null,null,"S.US.IRM",{"$f":"RTD(\"cqg.rtd\", ,\"ContractData\",C296, \"LongDescription\",, \"T\")","v":"Iron Mountain Inc"},{"$f":"RTD(\"cqg.rtd\", ,\"ContractData\",C296, \"Open\",, \"T\")","v":34.81},{"$f":"RTD(\"cqg.rtd\", ,\"ContractData\",C296, \"High\",, \"T\")","v":35.160000000000004},{"$f":"RTD(\"cqg.rtd\", ,\"ContractData\",C296, \"Low\",, \"T\")","v":34.6},{"$f":"RTD(\"cqg.rtd\", ,\"ContractData\",C296, \"LastTradeToday\",, \"T\")","v":34.800000000000004},{"$f":"RTD(\"cqg.rtd\", ,\"ContractData\",C296, \"NetLastTradeToday\",, \"T\")","v":0.08},{"$f":"IFERROR(RTD(\"cqg.rtd\", ,\"ContractData\",C296, \"PerCentNetLastTrade\",, \"T\")/100,\"\")","v":2.304147465437788E-3},{"$f":"RTD(\"cqg.rtd\", ,\"ContractData\", C296, \"T_CVol\",, \"T\")","v":631975},296,{"$f":"IFERROR(RANK($J296,$J$1:J$607)+COUNTIF($J$1:J296,J296)-1,\"\")","v":306},"S.US.IRM","S.US.MIK",{"$f":"RTD(\"cqg.rtd\", ,\"ContractData\",O296, \"PerCentNetLastTrade\",, \"T\")/100","v":2.5523226135783562E-3},"https://finance.yahoo.com/quote/MIK",null,2.5523226135783562E-3,{"$error":"#N/A"},null,{"$f":"RTD(\"cqg.rtd\", ,\"ContractData\",O296, \"LongDescription\",, \"T\")","v":"The Michaels Companies, Inc."},null,null,2.5523226135783562E-3,null,1,1,null,2.5523226135783562E-3,"",""]
[null,null,"S.US.ISRG",{"$f":"RTD(\"cqg.rtd\", ,\"ContractData\",C297, \"LongDescription\",, \"T\")","v":"Intuitive Surgical Inc"},{"$f":"RTD(\"cqg.rtd\", ,\"ContractData\",C297, \"Open\",, \"T\")","v":897.21},{"$f":"RTD(\"cqg.rtd\", ,\"ContractData\",C297, \"High\",, \"T\")","v":902},{"$f":"RTD(\"cqg.rtd\", ,\"ContractData\",C297, \"Low\",, \"T\")","v":892.63},{"$f":"RTD(\"cqg.rtd\", ,\"ContractData\",C297, \"LastTradeToday\",, \"T\")","v":900.86},{"$f":"RTD(\"cqg.rtd\", ,\"ContractData\",C297, \"NetLastTradeToday\",, \"T\")","v":3.8200000000000003},{"$f":"IFERROR(RTD(\"cqg.rtd\", ,\"ContractData\",C297, \"PerCentNetLastTrade\",, \"T\")/100,\"\")","v":4.2584500133773301E-3},{"$f":"RTD(\"cqg.rtd\", ,\"ContractData\", C297, \"T_CVol\",, \"T\")","v":165993},297,{"$f":"IFERROR(RANK($J297,$J$1:J$607)+COUNTIF($J$1:J297,J297)-1,\"\")","v":232},"S.US.ISRG","S.US.RGLD",{"$f":"RTD(\"cqg.rtd\", ,\"ContractData\",O297, \"PerCentNetLastTrade\",, \"T\")/100","v":2.526209422761147E-3},"https://finance.yahoo.com/quote/RGLD",null,2.526209422761147E-3,{"$error":"#N/A"},null,{"$f":"RTD(\"cqg.rtd\", ,\"ContractData\",O297, \"LongDescription\",, \"T\")","v":"Royal Gold Inc"},null,null,2.526209422761147E-3,null,1,1,null,2.526209422761147E-3,"",""]
[null,null,"S.US.IT",{"$f":"RTD(\"cqg.rtd\", ,\"ContractData\",C298, \"LongDescription\",, \"T\")","v":"Gartner Group"},{"$f":"RTD(\"cqg.rtd\", ,\"ContractData\",C298, \"Open\",, \"T\")","v":114},{"$f":"RTD(\"cqg.rtd\", ,\"ContractData\",C298, \"High\",, \"T\")","v":115.8},{"$f":"RTD(\"cqg.rtd\", ,\"ContractData\",C298, \"Low\",, \"T\")","v":113.45},{"$f":"RTD(\"cqg.rtd\", ,\"ContractData\",C298, \"LastTradeToday\",, \"T\")","v":115.66},{"$f":"RTD(\"cqg.rtd\", ,\"ContractData\",C298, \"NetLastTradeToday\",, \"T\")","v":2.0300000000000002},{"$f":"IFERROR(RTD(\"cqg.rtd\", ,\"ContractData\",C298, \"PerCentNetLastTrade\",, \"T\")/100,\"\")","v":1.7865000440024641E-2},{"$f":"RTD(\"cqg.rtd\", ,\"ContractData\", C298, \"T_CVol\",, \"T\")","v":266198},298,{"$f":"IFERROR(RANK($J298,$J$1:J$607)+COUNTIF($J$1:J298,J298)-1,\"\")","v":35},"S.US.IT","S.US.SCI",{"$f":"RTD(\"cqg.rtd\", ,\"ContractData\",O298, \"PerCentNetLastTrade\",, \"T\")/100","v":2.5109855618330196E-3},"https://finance.yahoo.com/quote/SCI",null,2.5109855618330196E-3,{"$error":"#N/A"},null,{"$f":"RTD(\"cqg.rtd\", ,\"ContractData\",O298, \"LongDescription\",, \"T\")","v":"Service Corporation Intl"},null,null,2.5109855618330196E-3,null,1,1,null,2.5109855618330196E-3,"",""]
[null,null,"S.US.ITW",{"$f":"RTD(\"cqg.rtd\", ,\"ContractData\",C299, \"LongDescription\",, \"T\")","v":"Illinois Tools Works Inc"},{"$f":"RTD(\"cqg.rtd\", ,\"ContractData\",C299, \"Open\",, \"T\")","v":139.30000000000001},{"$f":"RTD(\"cqg.rtd\", ,\"ContractData\",C299, \"High\",, \"T\")","v":139.5},{"$f":"RTD(\"cqg.rtd\", ,\"ContractData\",C299, \"Low\",, \"T\")","v":138.49},{"$f":"RTD(\"cqg.rtd\", ,\"ContractData\",C299, \"LastTradeToday\",, \"T\")","v":138.88},{"$f":"RTD(\"cqg.rtd\", ,\"ContractData\",C299, \"NetLastTradeToday\",, \"T\")","v":0.1},{"$f":"IFERROR(RTD(\"cqg.rtd\", ,\"ContractData\",C299, \"PerCentNetLastTrade\",, \"T\")/100,\"\")","v":7.2056492289955326E-4},{"$f":"RTD(\"cqg.rtd\", ,\"ContractData\", C299, \"T_CVol\",, \"T\")","v":275344},299,{"$f":"IFERROR(RANK($J299,$J$1:J$607)+COUNTIF($J$1:J299,J299)-1,\"\")","v":362},"S.US.ITW","S.US.FRC",{"$f":"RTD(\"cqg.rtd\", ,\"ContractData\",O299, \"PerCentNetLastTrade\",, \"T\")/100","v":2.4800517576018975E-3},"https://finance.yahoo.com/quote/FRC",null,2.4800517576018975E-3,{"$error":"#N/A"},null,{"$f":"RTD(\"cqg.rtd\", ,\"ContractData\",O299, \"LongDescription\",, \"T\")","v":"First Republic Bank"},null,null,2.4800517576018975E-3,null,1,1,null,2.4800517576018975E-3,"",""]
[null,null,"S.US.IVZ",{"$f":"RTD(\"cqg.rtd\", ,\"ContractData\",C300, \"LongDescription\",, \"T\")","v":"INVESCO LTD"},{"$f":"RTD(\"cqg.rtd\", ,\"ContractData\",C300, \"Open\",, \"T\")","v":31.28},{"$f":"RTD(\"cqg.rtd\", ,\"ContractData\",C300, \"High\",, \"T\")","v":31.310000000000002},{"$f":"RTD(\"cqg.rtd\", ,\"ContractData\",C300, \"Low\",, \"T\")","v":30.92},{"$f":"RTD(\"cqg.rtd\", ,\"ContractData\",C300, \"LastTradeToday\",, \"T\")","v":31.060000000000002},{"$f":"RTD(\"cqg.rtd\", ,\"ContractData\",C300, \"NetLastTradeToday\",, \"T\")","v":-0.19},{"$f":"IFERROR(RTD(\"cqg.rtd\", ,\"ContractData\",C300, \"PerCentNetLastTrade\",, \"T\")/100,\"\")","v":-6.0799999999999995E-3},{"$f":"RTD(\"cqg.rtd\", ,\"ContractData\", C300, \"T_CVol\",, \"T\")","v":1529761},300,{"$f":"IFERROR(RANK($J300,$J$1:J$607)+COUNTIF($J$1:J300,J300)-1,\"\")","v":498},"S.US.IVZ","S.US.ABBV",{"$f":"RTD(\"cqg.rtd\", ,\"ContractData\",O300, \"PerCentNetLastTrade\",, \"T\")/100","v":2.4301336573511541E-3},"https://finance.yahoo.com/quote/ABBV",null,2.4301336573511541E-3,{"$error":"#N/A"},null,{"$f":"RTD(\"cqg.rtd\", ,\"ContractData\",O300, \"LongDescription\",, \"T\")","v":"AbbVie Inc."},null,null,2.4301336573511541E-3,null,1,1,null,2.4301336573511541E-3,"",""]
[null,null,"S.US.JBHT",{"$f":"RTD(\"cqg.rtd\", ,\"ContractData\",C301, \"LongDescription\",, \"T\")","v":"Hunt (JB) Transport Svcs"},{"$f":"RTD(\"cqg.rtd\", ,\"ContractData\",C301, \"Open\",, \"T\")","v":85.06},{"$f":"RTD(\"cqg.rtd\", ,\"ContractData\",C301, \"High\",, \"T\")","v":85.56},{"$f":"RTD(\"cqg.rtd\", ,\"ContractData\",C301, \"Low\",, \"T\")","v":84.17},{"$f":"RTD(\"cqg.rtd\", ,\"ContractData\",C301, \"LastTradeToday\",, \"T\")","v":84.36},{"$f":"RTD(\"cqg.rtd\", ,\"ContractData\",C301, \"NetLastTradeToday\",, \"T\")","v":-0.71},{"$f":"IFERROR(RTD(\"cqg.rtd\", ,\"ContractData\",C301, \"PerCentNetLastTrade\",, \"T\")/100,\"\")","v":-8.3460679440460796E-3},{"$f":"RTD(\"cqg.rtd\", ,\"ContractData\", C301, \"T_CVol\",, \"T\")","v":294329},301,{"$f":"IFERROR(RANK($J301,$J$1:J$607)+COUNTIF($J$1:J301,J301)-1,\"\")","v":527},"S.US.JBHT","S.US.MMC",{"$f":"RTD(\"cqg.rtd\", ,\"ContractData\",O301, \"PerCentNetLastTrade\",, \"T\")/100","v":2.4083489430024082E-3},"https://finance.yahoo.com/quote/MMC",null,2.4083489430024082E-3,{"$error":"#N/A"},null,{"$f":"RTD(\"cqg.rtd\", ,\"ContractData\",O301, \"LongDescription\",, \"T\")","v":"Marsh & McLennan Cos Inc"},null,null,2.4083489430024082E-3,null,1,1,null,2.4083489430024082E-3,"",""]
[null,null,"S.US.JBLU",{"$f":"RTD(\"cqg.rtd\", ,\"ContractData\",C302, \"LongDescription\",, \"T\")","v":"JetBlue Airways Corporation"},{"$f":"RTD(\"cqg.rtd\", ,\"ContractData\",C302, \"Open\",, \"T\")","v":22.11},{"$f":"RTD(\"cqg.rtd\", ,\"ContractData\",C302, \"High\",, \"T\")","v":22.5},{"$f":"RTD(\"cqg.rtd\", ,\"ContractData\",C302, \"Low\",, \"T\")","v":22.03},{"$f":"RTD(\"cqg.rtd\", ,\"ContractData\",C302, \"LastTradeToday\",, \"T\")","v":22.37},{"$f":"RTD(\"cqg.rtd\", ,\"ContractData\",C302, \"NetLastTradeToday\",, \"T\")","v":0.28999999999999998},{"$f":"IFERROR(RTD(\"cqg.rtd\", ,\"ContractData\",C302, \"PerCentNetLastTrade\",, \"T\")/100,\"\")","v":1.3134057971014492E-2},{"$f":"RTD(\"cqg.rtd\", ,\"ContractData\", C302, \"T_CVol\",, \"T\")","v":3676736},302,{"$f":"IFERROR(RANK($J302,$J$1:J$607)+COUNTIF($J$1:J302,J302)-1,\"\")","v":68},"S.US.JBLU","S.US.ATR",{"$f":"RTD(\"cqg.rtd\", ,\"ContractData\",O302, \"PerCentNetLastTrade\",, \"T\")/100","v":2.4041351123933168E-3},"https://finance.yahoo.com/quote/ATR",null,2.4041351123933168E-3,{"$error":"#N/A"},null,{"$f":"RTD(\"cqg.rtd\", ,\"ContractData\",O302, \"LongDescription\",, \"T\")","v":"AptarGroup Inc"},null,null,2.4041351123933168E-3,null,1,1,null,2.4041351123933168E-3,"",""]
[null,null,"S.US.JCI",{"$f":"RTD(\"cqg.rtd\", ,\"ContractData\",C303, \"LongDescription\",, \"T\")","v":"Johnson Controls International plc"},{"$f":"RTD(\"cqg.rtd\", ,\"ContractData\",C303, \"Open\",, \"T\")","v":41.96},{"$f":"RTD(\"cqg.rtd\", ,\"ContractData\",C303, \"High\",, \"T\")","v":42.09},{"$f":"RTD(\"cqg.rtd\", ,\"ContractData\",C303, \"Low\",, \"T\")","v":41.74},{"$f":"RTD(\"cqg.rtd\", ,\"ContractData\",C303, \"LastTradeToday\",, \"T\")","v":41.97},{"$f":"RTD(\"cqg.rtd\", ,\"ContractData\",C303, \"NetLastTradeToday\",, \"T\")","v":-0.01},{"$f":"IFERROR(RTD(\"cqg.rtd\", ,\"ContractData\",C303, \"PerCentNetLastTrade\",, \"T\")/100,\"\")","v":-2.3820867079561698E-4},{"$f":"RTD(\"cqg.rtd\", ,\"ContractData\", C303, \"T_CVol\",, \"T\")","v":2006220},303,{"$f":"IFERROR(RANK($J303,$J$1:J$607)+COUNTIF($J$1:J303,J303)-1,\"\")","v":394},"S.US.JCI","S.US.LSTR",{"$f":"RTD(\"cqg.rtd\", ,\"ContractData\",O303, \"PerCentNetLastTrade\",, \"T\")/100","v":2.396644697423607E-3},"https://finance.yahoo.com/quote/LSTR",null,2.396644697423607E-3,{"$error":"#N/A"},null,{"$f":"RTD(\"cqg.rtd\", ,\"ContractData\",O303, \"LongDescription\",, \"T\")","v":"Landstar System Inc"},null,null,2.396644697423607E-3,null,1,1,null,2.396644697423607E-3,"",""]
[null,null,"S.US.JKHY",{"$f":"RTD(\"cqg.rtd\", ,\"ContractData\",C304, \"LongDescription\",, \"T\")","v":"Jack Henry/Associates Inc"},{"$f":"RTD(\"cqg.rtd\", ,\"ContractData\",C304, \"Open\",, \"T\")","v":103.34},{"$f":"RTD(\"cqg.rtd\", ,\"ContractData\",C304, \"High\",, \"T\")","v":104.27},{"$f":"RTD(\"cqg.rtd\", ,\"ContractData\",C304, \"Low\",, \"T\")","v":102.31},{"$f":"RTD(\"cqg.rtd\", ,\"ContractData\",C304, \"LastTradeToday\",, \"T\")","v":102.71000000000001},{"$f":"RTD(\"cqg.rtd\", ,\"ContractData\",C304, \"NetLastTradeToday\",, \"T\")","v":-0.47000000000000003},{"$f":"IFERROR(RTD(\"cqg.rtd\", ,\"ContractData\",C304, \"PerCentNetLastTrade\",, \"T\")/100,\"\")","v":-4.5551463461911221E-3},{"$f":"RTD(\"cqg.rtd\", ,\"ContractData\", C304, \"T_CVol\",, \"T\")","v":407360},304,{"$f":"IFERROR(RANK($J304,$J$1:J$607)+COUNTIF($J$1:J304,J304)-1,\"\")","v":473},"S.US.JKHY","S.US.HOLX",{"$f":"RTD(\"cqg.rtd\", ,\"ContractData\",O304, \"PerCentNetLastTrade\",, \"T\")/100","v":2.3315458148752623E-3},"https://finance.yahoo.com/quote/HOLX",null,2.3315458148752623E-3,{"$error":"#N/A"},null,{"$f":"RTD(\"cqg.rtd\", ,\"ContractData\",O304, \"LongDescription\",, \"T\")","v":"Hologic Inc"},null,null,2.3315458148752623E-3,null,1,1,null,2.3315458148752623E-3,"",""]
[null,null,"S.US.JNJ",{"$f":"RTD(\"cqg.rtd\", ,\"ContractData\",C305, \"LongDescription\",, \"T\")","v":"Johnson & Johnson"},{"$f":"RTD(\"cqg.rtd\", ,\"ContractData\",C305, \"Open\",, \"T\")","v":127.79},{"$f":"RTD(\"cqg.rtd\", ,\"ContractData\",C305, \"High\",, \"T\")","v":128},{"$f":"RTD(\"cqg.rtd\", ,\"ContractData\",C305, \"Low\",, \"T\")","v":127.29},{"$f":"RTD(\"cqg.rtd\", ,\"ContractData\",C305, \"LastTradeToday\",, \"T\")","v":127.5},{"$f":"RTD(\"cqg.rtd\", ,\"ContractData\",C305, \"NetLastTradeToday\",, \"T\")","v":-0.02},{"$f":"IFERROR(RTD(\"cqg.rtd\", ,\"ContractData\",C305, \"PerCentNetLastTrade\",, \"T\")/100,\"\")","v":-1.5683814303638646E-4},{"$f":"RTD(\"cqg.rtd\", ,\"ContractData\", C305, \"T_CVol\",, \"T\")","v":1744238},305,{"$f":"IFERROR(RANK($J305,$J$1:J$607)+COUNTIF($J$1:J305,J305)-1,\"\")","v":392},"S.US.JNJ","S.US.MON",{"$f":"RTD(\"cqg.rtd\", ,\"ContractData\",O305, \"PerCentNetLastTrade\",, \"T\")/100","v":2.3267838676318511E-3},"https://finance.yahoo.com/quote/MON",null,2.3267838676318511E-3,{"$error":"#N/A"},null,{"$f":"RTD(\"cqg.rtd\", ,\"ContractData\",O305, \"LongDescription\",, \"T\")","v":"Monsanto Co"},null,null,2.3267838676318511E-3,null,1,1,null,2.3267838676318511E-3,"",""]
[null,null,"S.US.JUNO",{"$f":"RTD(\"cqg.rtd\", ,\"ContractData\",C306, \"LongDescription\",, \"T\")","v":"Juno Therapeutics, Inc."},{"$f":"RTD(\"cqg.rtd\", ,\"ContractData\",C306, \"Open\",, \"T\")","v":24.89},{"$f":"RTD(\"cqg.rtd\", ,\"ContractData\",C306, \"High\",, \"T\")","v":25.34},{"$f":"RTD(\"cqg.rtd\", ,\"ContractData\",C306, \"Low\",, \"T\")","v":24.51},{"$f":"RTD(\"cqg.rtd\", ,\"ContractData\",C306, \"LastTradeToday\",, \"T\")","v":25.310000000000002},{"$f":"RTD(\"cqg.rtd\", ,\"ContractData\",C306, \"NetLastTradeToday\",, \"T\")","v":0.51},{"$f":"IFERROR(RTD(\"cqg.rtd\", ,\"ContractData\",C306, \"PerCentNetLastTrade\",, \"T\")/100,\"\")","v":2.0564516129032259E-2},{"$f":"RTD(\"cqg.rtd\", ,\"ContractData\", C306, \"T_CVol\",, \"T\")","v":497954},306,{"$f":"IFERROR(RANK($J306,$J$1:J$607)+COUNTIF($J$1:J306,J306)-1,\"\")","v":24},"S.US.JUNO","S.US.IRM",{"$f":"RTD(\"cqg.rtd\", ,\"ContractData\",O306, \"PerCentNetLastTrade\",, \"T\")/100","v":2.304147465437788E-3},"https://finance.yahoo.com/quote/IRM",null,2.304147465437788E-3,{"$error":"#N/A"},null,{"$f":"RTD(\"cqg.rtd\", ,\"ContractData\",O306, \"LongDescription\",, \"T\")","v":"Iron Mountain Inc"},null,null,2.304147465437788E-3,null,1,1,null,2.304147465437788E-3,"",""]
[null,null,"S.US.JWN",{"$f":"RTD(\"cqg.rtd\", ,\"ContractData\",C307, \"LongDescription\",, \"T\")","v":"Nordstrom Inc"},{"$f":"RTD(\"cqg.rtd\", ,\"ContractData\",C307, \"Open\",, \"T\")","v":41.36},{"$f":"RTD(\"cqg.rtd\", ,\"ContractData\",C307, \"High\",, \"T\")","v":41.43},{"$f":"RTD(\"cqg.rtd\", ,\"ContractData\",C307, \"Low\",, \"T\")","v":40.68},{"$f":"RTD(\"cqg.rtd\", ,\"ContractData\",C307, \"LastTradeToday\",, \"T\")","v":41.230000000000004},{"$f":"RTD(\"cqg.rtd\", ,\"ContractData\",C307, \"NetLastTradeToday\",, \"T\")","v":-0.32},{"$f":"IFERROR(RTD(\"cqg.rtd\", ,\"ContractData\",C307, \"PerCentNetLastTrade\",, \"T\")/100,\"\")","v":-7.7015643802647417E-3},{"$f":"RTD(\"cqg.rtd\", ,\"ContractData\", C307, \"T_CVol\",, \"T\")","v":885112},307,{"$f":"IFERROR(RANK($J307,$J$1:J$607)+COUNTIF($J$1:J307,J307)-1,\"\")","v":520},"S.US.JWN","S.US.FFIV",{"$f":"RTD(\"cqg.rtd\", ,\"ContractData\",O307, \"PerCentNetLastTrade\",, \"T\")/100","v":2.3017699817445831E-3},"https://finance.yahoo.com/quote/FFIV",null,2.3017699817445831E-3,{"$error":"#N/A"},null,{"$f":"RTD(\"cqg.rtd\", ,\"ContractData\",O307, \"LongDescription\",, \"T\")","v":"F5 Networks Inc"},null,null,2.3017699817445831E-3,null,1,1,null,2.3017699817445831E-3,"",""]
[null,null,"S.US.K",{"$f":"RTD(\"cqg.rtd\", ,\"ContractData\",C308, \"LongDescription\",, \"T\")","v":"Kellogg Company"},{"$f":"RTD(\"cqg.rtd\", ,\"ContractData\",C308, \"Open\",, \"T\")","v":71.61},{"$f":"RTD(\"cqg.rtd\", ,\"ContractData\",C308, \"High\",, \"T\")","v":72.58},{"$f":"RTD(\"cqg.rtd\", ,\"ContractData\",C308, \"Low\",, \"T\")","v":71.56},{"$f":"RTD(\"cqg.rtd\", ,\"ContractData\",C308, \"LastTradeToday\",, \"T\")","v":72.53},{"$f":"RTD(\"cqg.rtd\", ,\"ContractData\",C308, \"NetLastTradeToday\",, \"T\")","v":0.92},{"$f":"IFERROR(RTD(\"cqg.rtd\", ,\"ContractData\",C308, \"PerCentNetLastTrade\",, \"T\")/100,\"\")","v":1.2847367686077365E-2},{"$f":"RTD(\"cqg.rtd\", ,\"ContractData\", C308, \"T_CVol\",, \"T\")","v":1223692},308,{"$f":"IFERROR(RANK($J308,$J$1:J$607)+COUNTIF($J$1:J308,J308)-1,\"\")","v":70},"S.US.K","S.US.AVY",{"$f":"RTD(\"cqg.rtd\", ,\"ContractData\",O308, \"PerCentNetLastTrade\",, \"T\")/100","v":2.2946859903381642E-3},"https://finance.yahoo.com/quote/AVY",null,2.2946859903381642E-3,{"$error":"#N/A"},null,{"$f":"RTD(\"cqg.rtd\", ,\"ContractData\",O308, \"LongDescription\",, \"T\")","v":"Avery Dennison Corp"},null,null,2.2946859903381642E-3,null,1,1,null,2.2946859903381642E-3,"",""]
[null,null,"S.US.KAR",{"$f":"RTD(\"cqg.rtd\", ,\"ContractData\",C309, \"LongDescription\",, \"T\")","v":"KAR Auction Services Inc."},{"$f":"RTD(\"cqg.rtd\", ,\"ContractData\",C309, \"Open\",, \"T\")","v":43.83},{"$f":"RTD(\"cqg.rtd\", ,\"ContractData\",C309, \"High\",, \"T\")","v":43.83},{"$f":"RTD(\"cqg.rtd\", ,\"ContractData\",C309, \"Low\",, \"T\")","v":43.42},{"$f":"RTD(\"cqg.rtd\", ,\"ContractData\",C309, \"LastTradeToday\",, \"T\")","v":43.550000000000004},{"$f":"RTD(\"cqg.rtd\", ,\"ContractData\",C309, \"NetLastTradeToday\",, \"T\")","v":-0.17},{"$f":"IFERROR(RTD(\"cqg.rtd\", ,\"ContractData\",C309, \"PerCentNetLastTrade\",, \"T\")/100,\"\")","v":-3.8883806038426351E-3},{"$f":"RTD(\"cqg.rtd\", ,\"ContractData\", C309, \"T_CVol\",, \"T\")","v":497755},309,{"$f":"IFERROR(RANK($J309,$J$1:J$607)+COUNTIF($J$1:J309,J309)-1,\"\")","v":466},"S.US.KAR","S.US.OMC",{"$f":"RTD(\"cqg.rtd\", ,\"ContractData\",O309, \"PerCentNetLastTrade\",, \"T\")/100","v":2.2913651712493971E-3},"https://finance.yahoo.com/quote/OMC",null,2.2913651712493971E-3,{"$error":"#N/A"},null,{"$f":"RTD(\"cqg.rtd\", ,\"ContractData\",O309, \"LongDescription\",, \"T\")","v":"Omnicom Group Inc"},null,null,2.2913651712493971E-3,null,1,1,null,2.2913651712493971E-3,"",""]
[null,null,"S.US.KATE",{"$f":"RTD(\"cqg.rtd\", ,\"ContractData\",C310, \"LongDescription\",, \"T\")","v":"Kate Spade Company"},{"$f":"RTD(\"cqg.rtd\", ,\"ContractData\",C310, \"Open\",, \"T\")","v":18.43},{"$f":"RTD(\"cqg.rtd\", ,\"ContractData\",C310, \"High\",, \"T\")","v":18.440000000000001},{"$f":"RTD(\"cqg.rtd\", ,\"ContractData\",C310, \"Low\",, \"T\")","v":18.420000000000002},{"$f":"RTD(\"cqg.rtd\", ,\"ContractData\",C310, \"LastTradeToday\",, \"T\")","v":18.43},{"$f":"RTD(\"cqg.rtd\", ,\"ContractData\",C310, \"NetLastTradeToday\",, \"T\")","v":0.01},{"$f":"IFERROR(RTD(\"cqg.rtd\", ,\"ContractData\",C310, \"PerCentNetLastTrade\",, \"T\")/100,\"\")","v":5.428881650380022E-4},{"$f":"RTD(\"cqg.rtd\", ,\"ContractData\", C310, \"T_CVol\",, \"T\")","v":1861286},310,{"$f":"IFERROR(RANK($J310,$J$1:J$607)+COUNTIF($J$1:J310,J310)-1,\"\")","v":369},"S.US.KATE","S.US.FMC",{"$f":"RTD(\"cqg.rtd\", ,\"ContractData\",O310, \"PerCentNetLastTrade\",, \"T\")/100","v":2.2812667740203969E-3},"https://finance.yahoo.com/quote/FMC",null,2.2812667740203969E-3,{"$error":"#N/A"},null,{"$f":"RTD(\"cqg.rtd\", ,\"ContractData\",O310, \"LongDescription\",, \"T\")","v":"FMC Corporation"},null,null,2.2812667740203969E-3,null,1,1,null,2.2812667740203969E-3,"",""]
[null,null,"S.US.KHC",{"$f":"RTD(\"cqg.rtd\", ,\"ContractData\",C311, \"LongDescription\",, \"T\")","v":"The Kraft Heinz Company"},{"$f":"RTD(\"cqg.rtd\", ,\"ContractData\",C311, \"Open\",, \"T\")","v":92},{"$f":"RTD(\"cqg.rtd\", ,\"ContractData\",C311, \"High\",, \"T\")","v":92.570000000000007},{"$f":"RTD(\"cqg.rtd\", ,\"ContractData\",C311, \"Low\",, \"T\")","v":91.78},{"$f":"RTD(\"cqg.rtd\", ,\"ContractData\",C311, \"LastTradeToday\",, \"T\")","v":92.43},{"$f":"RTD(\"cqg.rtd\", ,\"ContractData\",C311, \"NetLastTradeToday\",, \"T\")","v":0.56000000000000005},{"$f":"IFERROR(RTD(\"cqg.rtd\", ,\"ContractData\",C311, \"PerCentNetLastTrade\",, \"T\")/100,\"\")","v":6.0955698269293569E-3},{"$f":"RTD(\"cqg.rtd\", ,\"ContractData\", C311, \"T_CVol\",, \"T\")","v":863964},311,{"$f":"IFERROR(RANK($J311,$J$1:J$607)+COUNTIF($J$1:J311,J311)-1,\"\")","v":192},"S.US.KHC","S.US.MCO",{"$f":"RTD(\"cqg.rtd\", ,\"ContractData\",O311, \"PerCentNetLastTrade\",, \"T\")/100","v":2.2630342066324309E-3},"https://finance.yahoo.com/quote/MCO",null,2.2630342066324309E-3,{"$error":"#N/A"},null,{"$f":"RTD(\"cqg.rtd\", ,\"ContractData\",O311, \"LongDescription\",, \"T\")","v":"Moodys Corp"},null,null,2.2630342066324309E-3,null,1,1,null,2.2630342066324309E-3,"",""]
[null,null,"S.US.KLAC",{"$f":"RTD(\"cqg.rtd\", ,\"ContractData\",C312, \"LongDescription\",, \"T\")","v":"KLA-Tencor"},{"$f":"RTD(\"cqg.rtd\", ,\"ContractData\",C312, \"Open\",, \"T\")","v":103.11},{"$f":"RTD(\"cqg.rtd\", ,\"ContractData\",C312, \"High\",, \"T\")","v":103.64},{"$f":"RTD(\"cqg.rtd\", ,\"ContractData\",C312, \"Low\",, \"T\")","v":102.61},{"$f":"RTD(\"cqg.rtd\", ,\"ContractData\",C312, \"LastTradeToday\",, \"T\")","v":103.2},{"$f":"RTD(\"cqg.rtd\", ,\"ContractData\",C312, \"NetLastTradeToday\",, \"T\")","v":0.71},{"$f":"IFERROR(RTD(\"cqg.rtd\", ,\"ContractData\",C312, \"PerCentNetLastTrade\",, \"T\")/100,\"\")","v":6.9275051224509708E-3},{"$f":"RTD(\"cqg.rtd\", ,\"ContractData\", C312, \"T_CVol\",, \"T\")","v":306322},312,{"$f":"IFERROR(RANK($J312,$J$1:J$607)+COUNTIF($J$1:J312,J312)-1,\"\")","v":170},"S.US.KLAC","S.US.LULU",{"$f":"RTD(\"cqg.rtd\", ,\"ContractData\",O312, \"PerCentNetLastTrade\",, \"T\")/100","v":2.2540983606557379E-3},"https://finance.yahoo.com/quote/LULU",null,2.2540983606557379E-3,{"$error":"#N/A"},null,{"$f":"RTD(\"cqg.rtd\", ,\"ContractData\",O312, \"LongDescription\",, \"T\")","v":"Lululemon Athletica Inc"},null,null,2.2540983606557379E-3,null,1,1,null,2.2540983606557379E-3,"",""]
[null,null,"S.US.KMB",{"$f":"RTD(\"cqg.rtd\", ,\"ContractData\",C313, \"LongDescription\",, \"T\")","v":"Kimberly-Clark Corp"},{"$f":"RTD(\"cqg.rtd\", ,\"ContractData\",C313, \"Open\",, \"T\")","v":127.52},{"$f":"RTD(\"cqg.rtd\", ,\"ContractData\",C313, \"High\",, \"T\")","v":128.15},{"$f":"RTD(\"cqg.rtd\", ,\"ContractData\",C313, \"Low\",, \"T\")","v":127.12},{"$f":"RTD(\"cqg.rtd\", ,\"ContractData\",C313, \"LastTradeToday\",, \"T\")","v":127.98},{"$f":"RTD(\"cqg.rtd\", ,\"ContractData\",C313, \"NetLastTradeToday\",, \"T\")","v":1.18},{"$f":"IFERROR(RTD(\"cqg.rtd\", ,\"ContractData\",C313, \"PerCentNetLastTrade\",, \"T\")/100,\"\")","v":9.3059936908517354E-3},{"$f":"RTD(\"cqg.rtd\", ,\"ContractData\", C313, \"T_CVol\",, \"T\")","v":484346},313,{"$f":"IFERROR(RANK($J313,$J$1:J$607)+COUNTIF($J$1:J313,J313)-1,\"\")","v":117},"S.US.KMB","S.US.SABR",{"$f":"RTD(\"cqg.rtd\", ,\"ContractData\",O313, \"PerCentNetLastTrade\",, \"T\")/100","v":2.181500872600349E-3},"https://finance.yahoo.com/quote/SABR",null,2.181500872600349E-3,{"$error":"#N/A"},null,{"$f":"RTD(\"cqg.rtd\", ,\"ContractData\",O313, \"LongDescription\",, \"T\")","v":"Sabre Corporation"},null,null,2.181500872600349E-3,null,1,1,null,2.181500872600349E-3,"",""]
[null,null,"S.US.KMX",{"$f":"RTD(\"cqg.rtd\", ,\"ContractData\",C314, \"LongDescription\",, \"T\")","v":"Carmax Inc"},{"$f":"RTD(\"cqg.rtd\", ,\"ContractData\",C314, \"Open\",, \"T\")","v":64.28},{"$f":"RTD(\"cqg.rtd\", ,\"ContractData\",C314, \"High\",, \"T\")","v":64.83},{"$f":"RTD(\"cqg.rtd\", ,\"ContractData\",C314, \"Low\",, \"T\")","v":63.97},{"$f":"RTD(\"cqg.rtd\", ,\"ContractData\",C314, \"LastTradeToday\",, \"T\")","v":64.63},{"$f":"RTD(\"cqg.rtd\", ,\"ContractData\",C314, \"NetLastTradeToday\",, \"T\")","v":0.14000000000000001},{"$f":"IFERROR(RTD(\"cqg.rtd\", ,\"ContractData\",C314, \"PerCentNetLastTrade\",, \"T\")/100,\"\")","v":2.1708792060784617E-3},{"$f":"RTD(\"cqg.rtd\", ,\"ContractData\", C314, \"T_CVol\",, \"T\")","v":875399},314,{"$f":"IFERROR(RANK($J314,$J$1:J$607)+COUNTIF($J$1:J314,J314)-1,\"\")","v":314},"S.US.KMX","S.US.KMX",{"$f":"RTD(\"cqg.rtd\", ,\"ContractData\",O314, \"PerCentNetLastTrade\",, \"T\")/100","v":2.1708792060784617E-3},"https://finance.yahoo.com/quote/KMX",null,2.1708792060784617E-3,{"$error":"#N/A"},null,{"$f":"RTD(\"cqg.rtd\", ,\"ContractData\",O314, \"LongDescription\",, \"T\")","v":"Carmax Inc"},null,null,2.1708792060784617E-3,null,1,1,null,2.1708792060784617E-3,"",""]
[null,null,"S.US.KO",{"$f":"RTD(\"cqg.rtd\", ,\"ContractData\",C315, \"LongDescription\",, \"T\")","v":"Coca-Cola Company"},{"$f":"RTD(\"cqg.rtd\", ,\"ContractData\",C315, \"Open\",, \"T\")","v":44.51},{"$f":"RTD(\"cqg.rtd\", ,\"ContractData\",C315, \"High\",, \"T\")","v":44.88},{"$f":"RTD(\"cqg.rtd\", ,\"ContractData\",C315, \"Low\",, \"T\")","v":44.51},{"$f":"RTD(\"cqg.rtd\", ,\"ContractData\",C315, \"LastTradeToday\",, \"T\")","v":44.88},{"$f":"RTD(\"cqg.rtd\", ,\"ContractData\",C315, \"NetLastTradeToday\",, \"T\")","v":0.49},{"$f":"IFERROR(RTD(\"cqg.rtd\", ,\"ContractData\",C315, \"PerCentNetLastTrade\",, \"T\")/100,\"\")","v":1.103852218968236E-2},{"$f":"RTD(\"cqg.rtd\", ,\"ContractData\", C315, \"T_CVol\",, \"T\")","v":5828758},315,{"$f":"IFERROR(RANK($J315,$J$1:J$607)+COUNTIF($J$1:J315,J315)-1,\"\")","v":90},"S.US.KO","S.US.SFM",{"$f":"RTD(\"cqg.rtd\", ,\"ContractData\",O315, \"PerCentNetLastTrade\",, \"T\")/100","v":2.1321961620469083E-3},"https://finance.yahoo.com/quote/SFM",null,2.1321961620469083E-3,{"$error":"#N/A"},null,{"$f":"RTD(\"cqg.rtd\", ,\"ContractData\",O315, \"LongDescription\",, \"T\")","v":"Sprouts Farmers Market, Inc."},null,null,2.1321961620469083E-3,null,1,1,null,2.1321961620469083E-3,"",""]
[null,null,"S.US.KORS",{"$f":"RTD(\"cqg.rtd\", ,\"ContractData\",C316, \"LongDescription\",, \"T\")","v":"Michael Kors Holdings Limited"},{"$f":"RTD(\"cqg.rtd\", ,\"ContractData\",C316, \"Open\",, \"T\")","v":36.700000000000003},{"$f":"RTD(\"cqg.rtd\", ,\"ContractData\",C316, \"High\",, \"T\")","v":36.910000000000004},{"$f":"RTD(\"cqg.rtd\", ,\"ContractData\",C316, \"Low\",, \"T\")","v":36.4},{"$f":"RTD(\"cqg.rtd\", ,\"ContractData\",C316, \"LastTradeToday\",, \"T\")","v":36.65},{"$f":"RTD(\"cqg.rtd\", ,\"ContractData\",C316, \"NetLastTradeToday\",, \"T\")","v":-0.32},{"$f":"IFERROR(RTD(\"cqg.rtd\", ,\"ContractData\",C316, \"PerCentNetLastTrade\",, \"T\")/100,\"\")","v":-8.655666756829862E-3},{"$f":"RTD(\"cqg.rtd\", ,\"ContractData\", C316, \"T_CVol\",, \"T\")","v":680000},316,{"$f":"IFERROR(RANK($J316,$J$1:J$607)+COUNTIF($J$1:J316,J316)-1,\"\")","v":530},"S.US.KORS","S.US.PSA",{"$f":"RTD(\"cqg.rtd\", ,\"ContractData\",O316, \"PerCentNetLastTrade\",, \"T\")/100","v":2.1178637200736645E-3},"https://finance.yahoo.com/quote/PSA",null,2.1178637200736645E-3,{"$error":"#N/A"},null,{"$f":"RTD(\"cqg.rtd\", ,\"ContractData\",O316, \"LongDescription\",, \"T\")","v":"Public Storage Inc"},null,null,2.1178637200736645E-3,null,1,1,null,2.1178637200736645E-3,"",""]
[null,null,"S.US.KR",{"$f":"RTD(\"cqg.rtd\", ,\"ContractData\",C317, \"LongDescription\",, \"T\")","v":"Kroger Co (The)"},{"$f":"RTD(\"cqg.rtd\", ,\"ContractData\",C317, \"Open\",, \"T\")","v":29.1},{"$f":"RTD(\"cqg.rtd\", ,\"ContractData\",C317, \"High\",, \"T\")","v":29.18},{"$f":"RTD(\"cqg.rtd\", ,\"ContractData\",C317, \"Low\",, \"T\")","v":28.86},{"$f":"RTD(\"cqg.rtd\", ,\"ContractData\",C317, \"LastTradeToday\",, \"T\")","v":28.95},{"$f":"RTD(\"cqg.rtd\", ,\"ContractData\",C317, \"NetLastTradeToday\",, \"T\")","v":-0.17},{"$f":"IFERROR(RTD(\"cqg.rtd\", ,\"ContractData\",C317, \"PerCentNetLastTrade\",, \"T\")/100,\"\")","v":-5.837912087912088E-3},{"$f":"RTD(\"cqg.rtd\", ,\"ContractData\", C317, \"T_CVol\",, \"T\")","v":4623507},317,{"$f":"IFERROR(RANK($J317,$J$1:J$607)+COUNTIF($J$1:J317,J317)-1,\"\")","v":491},"S.US.KR","S.US.IBM",{"$f":"RTD(\"cqg.rtd\", ,\"ContractData\",O317, \"PerCentNetLastTrade\",, \"T\")/100","v":2.1048477274222192E-3},"https://finance.yahoo.com/quote/IBM",null,2.1048477274222192E-3,{"$error":"#N/A"},null,{"$f":"RTD(\"cqg.rtd\", ,\"ContractData\",O317, \"LongDescription\",, \"T\")","v":"International Business Machines"},null,null,2.1048477274222192E-3,null,1,1,null,2.1048477274222192E-3,"",""]
[null,null,"S.US.LAMR",{"$f":"RTD(\"cqg.rtd\", ,\"ContractData\",C318, \"LongDescription\",, \"T\")","v":"Lamar Advertising Co"},{"$f":"RTD(\"cqg.rtd\", ,\"ContractData\",C318, \"Open\",, \"T\")","v":70.37},{"$f":"RTD(\"cqg.rtd\", ,\"ContractData\",C318, \"High\",, \"T\")","v":70.8},{"$f":"RTD(\"cqg.rtd\", ,\"ContractData\",C318, \"Low\",, \"T\")","v":70.239999999999995},{"$f":"RTD(\"cqg.rtd\", ,\"ContractData\",C318, \"LastTradeToday\",, \"T\")","v":70.8},{"$f":"RTD(\"cqg.rtd\", ,\"ContractData\",C318, \"NetLastTradeToday\",, \"T\")","v":0.56000000000000005},{"$f":"IFERROR(RTD(\"cqg.rtd\", ,\"ContractData\",C318, \"PerCentNetLastTrade\",, \"T\")/100,\"\")","v":7.9726651480637803E-3},{"$f":"RTD(\"cqg.rtd\", ,\"ContractData\", C318, \"T_CVol\",, \"T\")","v":136425},318,{"$f":"IFERROR(RANK($J318,$J$1:J$607)+COUNTIF($J$1:J318,J318)-1,\"\")","v":144},"S.US.LAMR","S.US.OHI",{"$f":"RTD(\"cqg.rtd\", ,\"ContractData\",O318, \"PerCentNetLastTrade\",, \"T\")/100","v":2.1033653846153845E-3},"https://finance.yahoo.com/quote/OHI",null,2.1033653846153845E-3,{"$error":"#N/A"},null,{"$f":"RTD(\"cqg.rtd\", ,\"ContractData\",O318, \"LongDescription\",, \"T\")","v":"Omega Hlthcare Investors Inc"},null,null,2.1033653846153845E-3,null,1,1,null,2.1033653846153845E-3,"",""]
[null,null,"S.US.LAZ",{"$f":"RTD(\"cqg.rtd\", ,\"ContractData\",C319, \"LongDescription\",, \"T\")","v":"Lazard Ltd"},{"$f":"RTD(\"cqg.rtd\", ,\"ContractData\",C319, \"Open\",, \"T\")","v":44.08},{"$f":"RTD(\"cqg.rtd\", ,\"ContractData\",C319, \"High\",, \"T\")","v":44.17},{"$f":"RTD(\"cqg.rtd\", ,\"ContractData\",C319, \"Low\",, \"T\")","v":43.58},{"$f":"RTD(\"cqg.rtd\", ,\"ContractData\",C319, \"LastTradeToday\",, \"T\")","v":43.79},{"$f":"RTD(\"cqg.rtd\", ,\"ContractData\",C319, \"NetLastTradeToday\",, \"T\")","v":-0.12},{"$f":"IFERROR(RTD(\"cqg.rtd\", ,\"ContractData\",C319, \"PerCentNetLastTrade\",, \"T\")/100,\"\")","v":-2.7328626736506491E-3},{"$f":"RTD(\"cqg.rtd\", ,\"ContractData\", C319, \"T_CVol\",, \"T\")","v":327596},319,{"$f":"IFERROR(RANK($J319,$J$1:J$607)+COUNTIF($J$1:J319,J319)-1,\"\")","v":448},"S.US.LAZ","S.US.UTHR",{"$f":"RTD(\"cqg.rtd\", ,\"ContractData\",O319, \"PerCentNetLastTrade\",, \"T\")/100","v":2.058290795323563E-3},"https://finance.yahoo.com/quote/UTHR",null,2.058290795323563E-3,{"$error":"#N/A"},null,{"$f":"RTD(\"cqg.rtd\", ,\"ContractData\",O319, \"LongDescription\",, \"T\")","v":"United Therapeutics Corp"},null,null,2.058290795323563E-3,null,1,1,null,2.058290795323563E-3,"",""]
[null,null,"S.US.LB",{"$f":"RTD(\"cqg.rtd\", ,\"ContractData\",C320, \"LongDescription\",, \"T\")","v":"L Brands, Inc."},{"$f":"RTD(\"cqg.rtd\", ,\"ContractData\",C320, \"Open\",, \"T\")","v":50.27},{"$f":"RTD(\"cqg.rtd\", ,\"ContractData\",C320, \"High\",, \"T\")","v":50.29},{"$f":"RTD(\"cqg.rtd\", ,\"ContractData\",C320, \"Low\",, \"T\")","v":49.51},{"$f":"RTD(\"cqg.rtd\", ,\"ContractData\",C320, \"LastTradeToday\",, \"T\")","v":49.68},{"$f":"RTD(\"cqg.rtd\", ,\"ContractData\",C320, \"NetLastTradeToday\",, \"T\")","v":-0.47000000000000003},{"$f":"IFERROR(RTD(\"cqg.rtd\", ,\"ContractData\",C320, \"PerCentNetLastTrade\",, \"T\")/100,\"\")","v":-9.3718843469591234E-3},{"$f":"RTD(\"cqg.rtd\", ,\"ContractData\", C320, \"T_CVol\",, \"T\")","v":1183256},320,{"$f":"IFERROR(RANK($J320,$J$1:J$607)+COUNTIF($J$1:J320,J320)-1,\"\")","v":537},"S.US.LB","S.US.HTZ",{"$f":"RTD(\"cqg.rtd\", ,\"ContractData\",O320, \"PerCentNetLastTrade\",, \"T\")/100","v":2.0387359836901119E-3},"https://finance.yahoo.com/quote/HTZ",null,2.0387359836901119E-3,{"$error":"#N/A"},null,{"$f":"RTD(\"cqg.rtd\", ,\"ContractData\",O320, \"LongDescription\",, \"T\")","v":"Hertz Global Holdings, Inc."},null,null,2.0387359836901119E-3,null,1,1,null,2.0387359836901119E-3,"",""]
[null,null,"S.US.LDOS",{"$f":"RTD(\"cqg.rtd\", ,\"ContractData\",C321, \"LongDescription\",, \"T\")","v":"Leidos Holdings, Inc."},{"$f":"RTD(\"cqg.rtd\", ,\"ContractData\",C321, \"Open\",, \"T\")","v":54.67},{"$f":"RTD(\"cqg.rtd\", ,\"ContractData\",C321, \"High\",, \"T\")","v":54.83},{"$f":"RTD(\"cqg.rtd\", ,\"ContractData\",C321, \"Low\",, \"T\")","v":54.42},{"$f":"RTD(\"cqg.rtd\", ,\"ContractData\",C321, \"LastTradeToday\",, \"T\")","v":54.71},{"$f":"RTD(\"cqg.rtd\", ,\"ContractData\",C321, \"NetLastTradeToday\",, \"T\")","v":0.04},{"$f":"IFERROR(RTD(\"cqg.rtd\", ,\"ContractData\",C321, \"PerCentNetLastTrade\",, \"T\")/100,\"\")","v":7.3166270349368941E-4},{"$f":"RTD(\"cqg.rtd\", ,\"ContractData\", C321, \"T_CVol\",, \"T\")","v":402077},321,{"$f":"IFERROR(RANK($J321,$J$1:J$607)+COUNTIF($J$1:J321,J321)-1,\"\")","v":361},"S.US.LDOS","S.US.DST",{"$f":"RTD(\"cqg.rtd\", ,\"ContractData\",O321, \"PerCentNetLastTrade\",, \"T\")/100","v":1.9410920752806144E-3},"https://finance.yahoo.com/quote/DST",null,1.9410920752806144E-3,{"$error":"#N/A"},null,{"$f":"RTD(\"cqg.rtd\", ,\"ContractData\",O321, \"LongDescription\",, \"T\")","v":"DST Systems"},null,null,1.9410920752806144E-3,null,1,1,null,1.9410920752806144E-3,"",""]
[null,null,"S.US.LEA",{"$f":"RTD(\"cqg.rtd\", ,\"ContractData\",C322, \"LongDescription\",, \"T\")","v":"Lear Corporation"},{"$f":"RTD(\"cqg.rtd\", ,\"ContractData\",C322, \"Open\",, \"T\")","v":143.64000000000001},{"$f":"RTD(\"cqg.rtd\", ,\"ContractData\",C322, \"High\",, \"T\")","v":144.82},{"$f":"RTD(\"cqg.rtd\", ,\"ContractData\",C322, \"Low\",, \"T\")","v":143.26},{"$f":"RTD(\"cqg.rtd\", ,\"ContractData\",C322, \"LastTradeToday\",, \"T\")","v":144.21},{"$f":"RTD(\"cqg.rtd\", ,\"ContractData\",C322, \"NetLastTradeToday\",, \"T\")","v":0.67},{"$f":"IFERROR(RTD(\"cqg.rtd\", ,\"ContractData\",C322, \"PerCentNetLastTrade\",, \"T\")/100,\"\")","v":4.667688449212763E-3},{"$f":"RTD(\"cqg.rtd\", ,\"ContractData\", C322, \"T_CVol\",, \"T\")","v":210159},322,{"$f":"IFERROR(RANK($J322,$J$1:J$607)+COUNTIF($J$1:J322,J322)-1,\"\")","v":226},"S.US.LEA",{"$f":"VLOOKUP($L322,$M$1:$N$607,2,FALSE)","v":"S.US.HAIN"},{"$f":"RTD(\"cqg.rtd\", ,\"ContractData\",O322, \"PerCentNetLastTrade\",, \"T\")/100","v":1.9236053860950811E-3},{"$f":"\"https://finance.yahoo.com/quote/\"&RIGHT(O322,(LEN(O322)-5))","v":"https://finance.yahoo.com/quote/HAIN"},null,1.9236053860950811E-3,{"$error":"#N/A"},null,{"$f":"RTD(\"cqg.rtd\", ,\"ContractData\",O322, \"LongDescription\",, \"T\")","v":"Hain Celestial Group Inc"},null,null,1.9236053860950811E-3,null,1,1,null,1.9236053860950811E-3,"",""]
[null,null,"S.US.LECO",{"$f":"RTD(\"cqg.rtd\", ,\"ContractData\",C323, \"LongDescription\",, \"T\")","v":"Lincoln Electric Hldgs Inc"},{"$f":"RTD(\"cqg.rtd\", ,\"ContractData\",C323, \"Open\",, \"T\")","v":88.86},{"$f":"RTD(\"cqg.rtd\", ,\"ContractData\",C323, \"High\",, \"T\")","v":89.350000000000009},{"$f":"RTD(\"cqg.rtd\", ,\"ContractData\",C323, \"Low\",, \"T\")","v":88.27},{"$f":"RTD(\"cqg.rtd\", ,\"ContractData\",C323, \"LastTradeToday\",, \"T\")","v":88.49},{"$f":"RTD(\"cqg.rtd\", ,\"ContractData\",C323, \"NetLastTradeToday\",, \"T\")","v":-0.37},{"$f":"IFERROR(RTD(\"cqg.rtd\", ,\"ContractData\",C323, \"PerCentNetLastTrade\",, \"T\")/100,\"\")","v":-4.1638532523070003E-3},{"$f":"RTD(\"cqg.rtd\", ,\"ContractData\", C323, \"T_CVol\",, \"T\")","v":107940},{"$f":"L322+1","v":323},{"$f":"IFERROR(RANK($J323,$J$1:J$607)+COUNTIF($J$1:J323,J323)-1,\"\")","v":472},"S.US.LECO","S.US.BXP",{"$f":"RTD(\"cqg.rtd\", ,\"ContractData\",O323, \"PerCentNetLastTrade\",, \"T\")/100","v":1.8877216021011161E-3},"https://finance.yahoo.com/quote/BXP",null,1.8877216021011161E-3,{"$error":"#N/A"},null,{"$f":"RTD(\"cqg.rtd\", ,\"ContractData\",O323, \"LongDescription\",, \"T\")","v":"Boston Properties Inc"},null,null,1.8877216021011161E-3,null,1,1,null,1.8877216021011161E-3,"",""]
[null,null,"S.US.LEG",{"$f":"RTD(\"cqg.rtd\", ,\"ContractData\",C324, \"LongDescription\",, \"T\")","v":"Leggett & Platt Inc"},{"$f":"RTD(\"cqg.rtd\", ,\"ContractData\",C324, \"Open\",, \"T\")","v":51.230000000000004},{"$f":"RTD(\"cqg.rtd\", ,\"ContractData\",C324, \"High\",, \"T\")","v":51.67},{"$f":"RTD(\"cqg.rtd\", ,\"ContractData\",C324, \"Low\",, \"T\")","v":51.230000000000004},{"$f":"RTD(\"cqg.rtd\", ,\"ContractData\",C324, \"LastTradeToday\",, \"T\")","v":51.63},{"$f":"RTD(\"cqg.rtd\", ,\"ContractData\",C324, \"NetLastTradeToday\",, \"T\")","v":0.44},{"$f":"IFERROR(RTD(\"cqg.rtd\", ,\"ContractData\",C324, \"PerCentNetLastTrade\",, \"T\")/100,\"\")","v":8.5954287946864629E-3},{"$f":"RTD(\"cqg.rtd\", ,\"ContractData\", C324, \"T_CVol\",, \"T\")","v":342410},324,{"$f":"IFERROR(RANK($J324,$J$1:J$607)+COUNTIF($J$1:J324,J324)-1,\"\")","v":130},"S.US.LEG","S.US.BDX",{"$f":"RTD(\"cqg.rtd\", ,\"ContractData\",O324, \"PerCentNetLastTrade\",, \"T\")/100","v":1.8754688672168044E-3},"https://finance.yahoo.com/quote/BDX",null,1.8754688672168044E-3,{"$error":"#N/A"},null,{"$f":"RTD(\"cqg.rtd\", ,\"ContractData\",O324, \"LongDescription\",, \"T\")","v":"Becton Dickinson & Co"},null,null,1.8754688672168044E-3,null,1,1,null,1.8754688672168044E-3,"",""]
[null,null,"S.US.LEN",{"$f":"RTD(\"cqg.rtd\", ,\"ContractData\",C325, \"LongDescription\",, \"T\")","v":"Lennar Corp"},{"$f":"RTD(\"cqg.rtd\", ,\"ContractData\",C325, \"Open\",, \"T\")","v":51.51},{"$f":"RTD(\"cqg.rtd\", ,\"ContractData\",C325, \"High\",, \"T\")","v":51.89},{"$f":"RTD(\"cqg.rtd\", ,\"ContractData\",C325, \"Low\",, \"T\")","v":51.01},{"$f":"RTD(\"cqg.rtd\", ,\"ContractData\",C325, \"LastTradeToday\",, \"T\")","v":51.84},{"$f":"RTD(\"cqg.rtd\", ,\"ContractData\",C325, \"NetLastTradeToday\",, \"T\")","v":0.21},{"$f":"IFERROR(RTD(\"cqg.rtd\", ,\"ContractData\",C325, \"PerCentNetLastTrade\",, \"T\")/100,\"\")","v":4.0674026728646133E-3},{"$f":"RTD(\"cqg.rtd\", ,\"ContractData\", C325, \"T_CVol\",, \"T\")","v":632533},325,{"$f":"IFERROR(RANK($J325,$J$1:J$607)+COUNTIF($J$1:J325,J325)-1,\"\")","v":239},"S.US.LEN","S.US.SYK",{"$f":"RTD(\"cqg.rtd\", ,\"ContractData\",O325, \"PerCentNetLastTrade\",, \"T\")/100","v":1.8584703359542532E-3},"https://finance.yahoo.com/quote/SYK",null,1.8584703359542532E-3,{"$error":"#N/A"},null,{"$f":"RTD(\"cqg.rtd\", ,\"ContractData\",O325, \"LongDescription\",, \"T\")","v":"Stryker Corp"},null,null,1.8584703359542532E-3,null,1,1,null,1.8584703359542532E-3,"",""]
[null,null,"S.US.LENB",{"$f":"RTD(\"cqg.rtd\", ,\"ContractData\",C326, \"LongDescription\",, \"T\")","v":"Lennar Corporation"},{"$f":"RTD(\"cqg.rtd\", ,\"ContractData\",C326, \"Open\",, \"T\")","v":42.800000000000004},{"$f":"RTD(\"cqg.rtd\", ,\"ContractData\",C326, \"High\",, \"T\")","v":43.2},{"$f":"RTD(\"cqg.rtd\", ,\"ContractData\",C326, \"Low\",, \"T\")","v":42.800000000000004},{"$f":"RTD(\"cqg.rtd\", ,\"ContractData\",C326, \"LastTradeToday\",, \"T\")","v":43.2},{"$f":"RTD(\"cqg.rtd\", ,\"ContractData\",C326, \"NetLastTradeToday\",, \"T\")","v":0.15},{"$f":"IFERROR(RTD(\"cqg.rtd\", ,\"ContractData\",C326, \"PerCentNetLastTrade\",, \"T\")/100,\"\")","v":3.4843205574912896E-3},{"$f":"RTD(\"cqg.rtd\", ,\"ContractData\", C326, \"T_CVol\",, \"T\")","v":2903},326,{"$f":"IFERROR(RANK($J326,$J$1:J$607)+COUNTIF($J$1:J326,J326)-1,\"\")","v":256},"S.US.LENB","S.US.INVH",{"$f":"RTD(\"cqg.rtd\", ,\"ContractData\",O326, \"PerCentNetLastTrade\",, \"T\")/100","v":1.8552875695732837E-3},"https://finance.yahoo.com/quote/INVH",null,1.8552875695732837E-3,{"$error":"#N/A"},null,{"$f":"RTD(\"cqg.rtd\", ,\"ContractData\",O326, \"LongDescription\",, \"T\")","v":"Invitation Homes Inc."},null,null,1.8552875695732837E-3,null,1,1,null,1.8552875695732837E-3,"",""]
[null,null,"S.US.LEXEA",{"$f":"RTD(\"cqg.rtd\", ,\"ContractData\",C327, \"LongDescription\",, \"T\")","v":"Liberty Expedia Holdings, Inc. Series A"},{"$f":"RTD(\"cqg.rtd\", ,\"ContractData\",C327, \"Open\",, \"T\")","v":51.300000000000004},{"$f":"RTD(\"cqg.rtd\", ,\"ContractData\",C327, \"High\",, \"T\")","v":51.49},{"$f":"RTD(\"cqg.rtd\", ,\"ContractData\",C327, \"Low\",, \"T\")","v":50.9},{"$f":"RTD(\"cqg.rtd\", ,\"ContractData\",C327, \"LastTradeToday\",, \"T\")","v":51.45},{"$f":"RTD(\"cqg.rtd\", ,\"ContractData\",C327, \"NetLastTradeToday\",, \"T\")","v":0.26},{"$f":"IFERROR(RTD(\"cqg.rtd\", ,\"ContractData\",C327, \"PerCentNetLastTrade\",, \"T\")/100,\"\")","v":5.0791170150420008E-3},{"$f":"RTD(\"cqg.rtd\", ,\"ContractData\", C327, \"T_CVol\",, \"T\")","v":178530},327,{"$f":"IFERROR(RANK($J327,$J$1:J$607)+COUNTIF($J$1:J327,J327)-1,\"\")","v":213},"S.US.LEXEA","S.US.ICE",{"$f":"RTD(\"cqg.rtd\", ,\"ContractData\",O327, \"PerCentNetLastTrade\",, \"T\")/100","v":1.8373141807249038E-3},"https://finance.yahoo.com/quote/ICE",null,1.8373141807249038E-3,{"$error":"#N/A"},null,{"$f":"RTD(\"cqg.rtd\", ,\"ContractData\",O327, \"LongDescription\",, \"T\")","v":"Intercontinental, Inc."},null,null,1.8373141807249038E-3,null,1,1,null,1.8373141807249038E-3,"",""]
[null,null,"S.US.LGF",{"$f":"RTD(\"cqg.rtd\", ,\"ContractData\",C328, \"LongDescription\",, \"T\")","v":"Lions Gate Entertainment Corp."},{"$f":"RTD(\"cqg.rtd\", ,\"ContractData\",C328, \"Open\",, \"T\")","v":25.72},{"$f":"RTD(\"cqg.rtd\", ,\"ContractData\",C328, \"High\",, \"T\")","v":25.810000000000002},{"$f":"RTD(\"cqg.rtd\", ,\"ContractData\",C328, \"Low\",, \"T\")","v":25.060000000000002},{"$f":"RTD(\"cqg.rtd\", ,\"ContractData\",C328, \"LastTradeToday\",, \"T\")","v":25.150000000000002},{"$f":"RTD(\"cqg.rtd\", ,\"ContractData\",C328, \"NetLastTradeToday\",, \"T\")","v":-0.42},{"$f":"IFERROR(RTD(\"cqg.rtd\", ,\"ContractData\",C328, \"PerCentNetLastTrade\",, \"T\")/100,\"\")","v":-1.6425498631208447E-2},{"$f":"RTD(\"cqg.rtd\", ,\"ContractData\", C328, \"T_CVol\",, \"T\")","v":180691},328,{"$f":"IFERROR(RANK($J328,$J$1:J$607)+COUNTIF($J$1:J328,J328)-1,\"\")","v":578},"S.US.LGF","S.US.ABMD",{"$f":"RTD(\"cqg.rtd\", ,\"ContractData\",O328, \"PerCentNetLastTrade\",, \"T\")/100","v":1.781208252931572E-3},"https://finance.yahoo.com/quote/ABMD",null,1.781208252931572E-3,{"$error":"#N/A"},null,{"$f":"RTD(\"cqg.rtd\", ,\"ContractData\",O328, \"LongDescription\",, \"T\")","v":"ABIOMED Inc"},null,null,1.781208252931572E-3,null,1,1,null,1.781208252931572E-3,"",""]
[null,null,"S.US.LH",{"$f":"RTD(\"cqg.rtd\", ,\"ContractData\",C329, \"LongDescription\",, \"T\")","v":"Laboratory Corp of Amer"},{"$f":"RTD(\"cqg.rtd\", ,\"ContractData\",C329, \"Open\",, \"T\")","v":139.96},{"$f":"RTD(\"cqg.rtd\", ,\"ContractData\",C329, \"High\",, \"T\")","v":140.99},{"$f":"RTD(\"cqg.rtd\", ,\"ContractData\",C329, \"Low\",, \"T\")","v":139.28},{"$f":"RTD(\"cqg.rtd\", ,\"ContractData\",C329, \"LastTradeToday\",, \"T\")","v":140.95000000000002},{"$f":"RTD(\"cqg.rtd\", ,\"ContractData\",C329, \"NetLastTradeToday\",, \"T\")","v":1.25},{"$f":"IFERROR(RTD(\"cqg.rtd\", ,\"ContractData\",C329, \"PerCentNetLastTrade\",, \"T\")/100,\"\")","v":8.9477451682176082E-3},{"$f":"RTD(\"cqg.rtd\", ,\"ContractData\", C329, \"T_CVol\",, \"T\")","v":283626},329,{"$f":"IFERROR(RANK($J329,$J$1:J$607)+COUNTIF($J$1:J329,J329)-1,\"\")","v":122},"S.US.LH","S.US.PINC",{"$f":"RTD(\"cqg.rtd\", ,\"ContractData\",O329, \"PerCentNetLastTrade\",, \"T\")/100","v":1.7657445556209536E-3},"https://finance.yahoo.com/quote/PINC",null,1.7657445556209536E-3,{"$error":"#N/A"},null,{"$f":"RTD(\"cqg.rtd\", ,\"ContractData\",O329, \"LongDescription\",, \"T\")","v":"Premier Inc"},null,null,1.7657445556209536E-3,null,1,1,null,1.7657445556209536E-3,"",""]
[null,null,"S.US.LII",{"$f":"RTD(\"cqg.rtd\", ,\"ContractData\",C330, \"LongDescription\",, \"T\")","v":"Lennox Internatl"},{"$f":"RTD(\"cqg.rtd\", ,\"ContractData\",C330, \"Open\",, \"T\")","v":175.62},{"$f":"RTD(\"cqg.rtd\", ,\"ContractData\",C330, \"High\",, \"T\")","v":177.01},{"$f":"RTD(\"cqg.rtd\", ,\"ContractData\",C330, \"Low\",, \"T\")","v":175.37},{"$f":"RTD(\"cqg.rtd\", ,\"ContractData\",C330, \"LastTradeToday\",, \"T\")","v":175.65},{"$f":"RTD(\"cqg.rtd\", ,\"ContractData\",C330, \"NetLastTradeToday\",, \"T\")","v":0.27},{"$f":"IFERROR(RTD(\"cqg.rtd\", ,\"ContractData\",C330, \"PerCentNetLastTrade\",, \"T\")/100,\"\")","v":1.5395141977420459E-3},{"$f":"RTD(\"cqg.rtd\", ,\"ContractData\", C330, \"T_CVol\",, \"T\")","v":106988},330,{"$f":"IFERROR(RANK($J330,$J$1:J$607)+COUNTIF($J$1:J330,J330)-1,\"\")","v":335},"S.US.LII","S.US.IPGP",{"$f":"RTD(\"cqg.rtd\", ,\"ContractData\",O330, \"PerCentNetLastTrade\",, \"T\")/100","v":1.7336030049118754E-3},"https://finance.yahoo.com/quote/IPGP",null,1.7336030049118754E-3,{"$error":"#N/A"},null,{"$f":"RTD(\"cqg.rtd\", ,\"ContractData\",O330, \"LongDescription\",, \"T\")","v":"IPG Photonics Corporation"},null,null,1.7336030049118754E-3,null,1,1,null,1.7336030049118754E-3,"",""]
[null,null,"S.US.LKQ",{"$f":"RTD(\"cqg.rtd\", ,\"ContractData\",C331, \"LongDescription\",, \"T\")","v":"LKQ Corporation"},{"$f":"RTD(\"cqg.rtd\", ,\"ContractData\",C331, \"Open\",, \"T\")","v":31.310000000000002},{"$f":"RTD(\"cqg.rtd\", ,\"ContractData\",C331, \"High\",, \"T\")","v":31.35},{"$f":"RTD(\"cqg.rtd\", ,\"ContractData\",C331, \"Low\",, \"T\")","v":31.09},{"$f":"RTD(\"cqg.rtd\", ,\"ContractData\",C331, \"LastTradeToday\",, \"T\")","v":31.240000000000002},{"$f":"RTD(\"cqg.rtd\", ,\"ContractData\",C331, \"NetLastTradeToday\",, \"T\")","v":-0.03},{"$f":"IFERROR(RTD(\"cqg.rtd\", ,\"ContractData\",C331, \"PerCentNetLastTrade\",, \"T\")/100,\"\")","v":-9.5938599296450271E-4},{"$f":"RTD(\"cqg.rtd\", ,\"ContractData\", C331, \"T_CVol\",, \"T\")","v":532987},331,{"$f":"IFERROR(RANK($J331,$J$1:J$607)+COUNTIF($J$1:J331,J331)-1,\"\")","v":415},"S.US.LKQ","S.US.BBBY",{"$f":"RTD(\"cqg.rtd\", ,\"ContractData\",O331, \"PerCentNetLastTrade\",, \"T\")/100","v":1.7291066282420749E-3},"https://finance.yahoo.com/quote/BBBY",null,1.7291066282420749E-3,{"$error":"#N/A"},null,{"$f":"RTD(\"cqg.rtd\", ,\"ContractData\",O331, \"LongDescription\",, \"T\")","v":"Bed Bath & Beyond Inc"},null,null,1.7291066282420749E-3,null,1,1,null,1.7291066282420749E-3,"",""]
[null,null,"S.US.LKSD",{"$f":"RTD(\"cqg.rtd\", ,\"ContractData\",C332, \"LongDescription\",, \"T\")","v":"LSC Communications, Inc."},{"$f":"RTD(\"cqg.rtd\", ,\"ContractData\",C332, \"Open\",, \"T\")","v":21.45},{"$f":"RTD(\"cqg.rtd\", ,\"ContractData\",C332, \"High\",, \"T\")","v":21.900000000000002},{"$f":"RTD(\"cqg.rtd\", ,\"ContractData\",C332, \"Low\",, \"T\")","v":21.13},{"$f":"RTD(\"cqg.rtd\", ,\"ContractData\",C332, \"LastTradeToday\",, \"T\")","v":21.22},{"$f":"RTD(\"cqg.rtd\", ,\"ContractData\",C332, \"NetLastTradeToday\",, \"T\")","v":-0.56000000000000005},{"$f":"IFERROR(RTD(\"cqg.rtd\", ,\"ContractData\",C332, \"PerCentNetLastTrade\",, \"T\")/100,\"\")","v":-2.5711662075298437E-2},{"$f":"RTD(\"cqg.rtd\", ,\"ContractData\", C332, \"T_CVol\",, \"T\")","v":103257},332,{"$f":"IFERROR(RANK($J332,$J$1:J$607)+COUNTIF($J$1:J332,J332)-1,\"\")","v":594},"S.US.LKSD","S.US.QVCA",{"$f":"RTD(\"cqg.rtd\", ,\"ContractData\",O332, \"PerCentNetLastTrade\",, \"T\")/100","v":1.6999575010624734E-3},"https://finance.yahoo.com/quote/QVCA",null,1.6999575010624734E-3,{"$error":"#N/A"},null,{"$f":"RTD(\"cqg.rtd\", ,\"ContractData\",O332, \"LongDescription\",, \"T\")","v":"Liberty Interactive Corporation Series A"},null,null,1.6999575010624734E-3,null,1,1,null,1.6999575010624734E-3,"",""]
[null,null,"S.US.LLY",{"$f":"RTD(\"cqg.rtd\", ,\"ContractData\",C333, \"LongDescription\",, \"T\")","v":"Lilly (Eli) & Company"},{"$f":"RTD(\"cqg.rtd\", ,\"ContractData\",C333, \"Open\",, \"T\")","v":77.989999999999995},{"$f":"RTD(\"cqg.rtd\", ,\"ContractData\",C333, \"High\",, \"T\")","v":78.28},{"$f":"RTD(\"cqg.rtd\", ,\"ContractData\",C333, \"Low\",, \"T\")","v":77.8},{"$f":"RTD(\"cqg.rtd\", ,\"ContractData\",C333, \"LastTradeToday\",, \"T\")","v":78.05},{"$f":"RTD(\"cqg.rtd\", ,\"ContractData\",C333, \"NetLastTradeToday\",, \"T\")","v":0.06},{"$f":"IFERROR(RTD(\"cqg.rtd\", ,\"ContractData\",C333, \"PerCentNetLastTrade\",, \"T\")/100,\"\")","v":7.6932940120528277E-4},{"$f":"RTD(\"cqg.rtd\", ,\"ContractData\", C333, \"T_CVol\",, \"T\")","v":1108818},333,{"$f":"IFERROR(RANK($J333,$J$1:J$607)+COUNTIF($J$1:J333,J333)-1,\"\")","v":359},"S.US.LLY","S.US.VAL",{"$f":"RTD(\"cqg.rtd\", ,\"ContractData\",O333, \"PerCentNetLastTrade\",, \"T\")/100","v":1.6027067936960199E-3},"https://finance.yahoo.com/quote/VAL",null,1.6027067936960199E-3,{"$error":"#N/A"},null,{"$f":"RTD(\"cqg.rtd\", ,\"ContractData\",O333, \"LongDescription\",, \"T\")","v":"Valspar Corp (The)"},null,null,1.6027067936960199E-3,null,1,1,null,1.6027067936960199E-3,"",""]
[null,null,"S.US.LMT",{"$f":"RTD(\"cqg.rtd\", ,\"ContractData\",C334, \"LongDescription\",, \"T\")","v":"Lockheed Martin Corp"},{"$f":"RTD(\"cqg.rtd\", ,\"ContractData\",C334, \"Open\",, \"T\")","v":278.22000000000003},{"$f":"RTD(\"cqg.rtd\", ,\"ContractData\",C334, \"High\",, \"T\")","v":280.56},{"$f":"RTD(\"cqg.rtd\", ,\"ContractData\",C334, \"Low\",, \"T\")","v":278.11},{"$f":"RTD(\"cqg.rtd\", ,\"ContractData\",C334, \"LastTradeToday\",, \"T\")","v":280.39},{"$f":"RTD(\"cqg.rtd\", ,\"ContractData\",C334, \"NetLastTradeToday\",, \"T\")","v":2.0300000000000002},{"$f":"IFERROR(RTD(\"cqg.rtd\", ,\"ContractData\",C334, \"PerCentNetLastTrade\",, \"T\")/100,\"\")","v":7.2927144704698953E-3},{"$f":"RTD(\"cqg.rtd\", ,\"ContractData\", C334, \"T_CVol\",, \"T\")","v":445385},334,{"$f":"IFERROR(RANK($J334,$J$1:J$607)+COUNTIF($J$1:J334,J334)-1,\"\")","v":159},"S.US.LMT","S.US.FIS",{"$f":"RTD(\"cqg.rtd\", ,\"ContractData\",O334, \"PerCentNetLastTrade\",, \"T\")/100","v":1.5539086779823095E-3},"https://finance.yahoo.com/quote/FIS",null,1.5539086779823095E-3,{"$error":"#N/A"},null,{"$f":"RTD(\"cqg.rtd\", ,\"ContractData\",O334, \"LongDescription\",, \"T\")","v":"Fidelity National Info Services"},null,null,1.5539086779823095E-3,null,1,1,null,1.5539086779823095E-3,"",""]
[null,null,"S.US.LNC",{"$f":"RTD(\"cqg.rtd\", ,\"ContractData\",C335, \"LongDescription\",, \"T\")","v":"Lincoln National Corp"},{"$f":"RTD(\"cqg.rtd\", ,\"ContractData\",C335, \"Open\",, \"T\")","v":65.760000000000005},{"$f":"RTD(\"cqg.rtd\", ,\"ContractData\",C335, \"High\",, \"T\")","v":65.849999999999994},{"$f":"RTD(\"cqg.rtd\", ,\"ContractData\",C335, \"Low\",, \"T\")","v":64.72},{"$f":"RTD(\"cqg.rtd\", ,\"ContractData\",C335, \"LastTradeToday\",, \"T\")","v":64.86},{"$f":"RTD(\"cqg.rtd\", ,\"ContractData\",C335, \"NetLastTradeToday\",, \"T\")","v":-0.64},{"$f":"IFERROR(RTD(\"cqg.rtd\", ,\"ContractData\",C335, \"PerCentNetLastTrade\",, \"T\")/100,\"\")","v":-9.770992366412214E-3},{"$f":"RTD(\"cqg.rtd\", ,\"ContractData\", C335, \"T_CVol\",, \"T\")","v":509261},335,{"$f":"IFERROR(RANK($J335,$J$1:J$607)+COUNTIF($J$1:J335,J335)-1,\"\")","v":541},"S.US.LNC","S.US.LII",{"$f":"RTD(\"cqg.rtd\", ,\"ContractData\",O335, \"PerCentNetLastTrade\",, \"T\")/100","v":1.5395141977420459E-3},"https://finance.yahoo.com/quote/LII",null,1.5395141977420459E-3,{"$error":"#N/A"},null,{"$f":"RTD(\"cqg.rtd\", ,\"ContractData\",O335, \"LongDescription\",, \"T\")","v":"Lennox Internatl"},null,null,1.5395141977420459E-3,null,1,1,null,1.5395141977420459E-3,"",""]
[null,null,"S.US.LOW",{"$f":"RTD(\"cqg.rtd\", ,\"ContractData\",C336, \"LongDescription\",, \"T\")","v":"Lowes Companies Inc"},{"$f":"RTD(\"cqg.rtd\", ,\"ContractData\",C336, \"Open\",, \"T\")","v":79.33},{"$f":"RTD(\"cqg.rtd\", ,\"ContractData\",C336, \"High\",, \"T\")","v":80.260000000000005},{"$f":"RTD(\"cqg.rtd\", ,\"ContractData\",C336, \"Low\",, \"T\")","v":78.400000000000006},{"$f":"RTD(\"cqg.rtd\", ,\"ContractData\",C336, \"LastTradeToday\",, \"T\")","v":80.150000000000006},{"$f":"RTD(\"cqg.rtd\", ,\"ContractData\",C336, \"NetLastTradeToday\",, \"T\")","v":-2.19},{"$f":"IFERROR(RTD(\"cqg.rtd\", ,\"ContractData\",C336, \"PerCentNetLastTrade\",, \"T\")/100,\"\")","v":-2.6597036677192133E-2},{"$f":"RTD(\"cqg.rtd\", ,\"ContractData\", C336, \"T_CVol\",, \"T\")","v":12528439},336,{"$f":"IFERROR(RANK($J336,$J$1:J$607)+COUNTIF($J$1:J336,J336)-1,\"\")","v":595},"S.US.LOW","S.US.UAA",{"$f":"RTD(\"cqg.rtd\", ,\"ContractData\",O336, \"PerCentNetLastTrade\",, \"T\")/100","v":1.5392508978963571E-3},"https://finance.yahoo.com/quote/UAA",null,1.5392508978963571E-3,{"$error":"#N/A"},null,{"$f":"RTD(\"cqg.rtd\", ,\"ContractData\",O336, \"LongDescription\",, \"T\")","v":"Under Armour Inc Class A"},null,null,1.5392508978963571E-3,null,1,1,null,1.5392508978963571E-3,"",""]
[null,null,"S.US.LPLA",{"$f":"RTD(\"cqg.rtd\", ,\"ContractData\",C337, \"LongDescription\",, \"T\")","v":"LPL Financial Holdings Inc."},{"$f":"RTD(\"cqg.rtd\", ,\"ContractData\",C337, \"Open\",, \"T\")","v":39.270000000000003},{"$f":"RTD(\"cqg.rtd\", ,\"ContractData\",C337, \"High\",, \"T\")","v":39.410000000000004},{"$f":"RTD(\"cqg.rtd\", ,\"ContractData\",C337, \"Low\",, \"T\")","v":38.6},{"$f":"RTD(\"cqg.rtd\", ,\"ContractData\",C337, \"LastTradeToday\",, \"T\")","v":38.71},{"$f":"RTD(\"cqg.rtd\", ,\"ContractData\",C337, \"NetLastTradeToday\",, \"T\")","v":-0.46},{"$f":"IFERROR(RTD(\"cqg.rtd\", ,\"ContractData\",C337, \"PerCentNetLastTrade\",, \"T\")/100,\"\")","v":-1.1743681388817973E-2},{"$f":"RTD(\"cqg.rtd\", ,\"ContractData\", C337, \"T_CVol\",, \"T\")","v":392696},337,{"$f":"IFERROR(RANK($J337,$J$1:J$607)+COUNTIF($J$1:J337,J337)-1,\"\")","v":558},"S.US.LPLA","S.US.MTCH",{"$f":"RTD(\"cqg.rtd\", ,\"ContractData\",O337, \"PerCentNetLastTrade\",, \"T\")/100","v":1.525940996948118E-3},"https://finance.yahoo.com/quote/MTCH",null,1.525940996948118E-3,{"$error":"#N/A"},null,{"$f":"RTD(\"cqg.rtd\", ,\"ContractData\",O337, \"LongDescription\",, \"T\")","v":"Match Group, Inc."},null,null,1.525940996948118E-3,null,1,1,null,1.525940996948118E-3,"",""]
[null,null,"S.US.LRCX",{"$f":"RTD(\"cqg.rtd\", ,\"ContractData\",C338, \"LongDescription\",, \"T\")","v":"LAM Research Corporation"},{"$f":"RTD(\"cqg.rtd\", ,\"ContractData\",C338, \"Open\",, \"T\")","v":154.05000000000001},{"$f":"RTD(\"cqg.rtd\", ,\"ContractData\",C338, \"High\",, \"T\")","v":154.26},{"$f":"RTD(\"cqg.rtd\", ,\"ContractData\",C338, \"Low\",, \"T\")","v":152.29},{"$f":"RTD(\"cqg.rtd\", ,\"ContractData\",C338, \"LastTradeToday\",, \"T\")","v":152.56},{"$f":"RTD(\"cqg.rtd\", ,\"ContractData\",C338, \"NetLastTradeToday\",, \"T\")","v":-0.87},{"$f":"IFERROR(RTD(\"cqg.rtd\", ,\"ContractData\",C338, \"PerCentNetLastTrade\",, \"T\")/100,\"\")","v":-5.6703382650068433E-3},{"$f":"RTD(\"cqg.rtd\", ,\"ContractData\", C338, \"T_CVol\",, \"T\")","v":858838},338,{"$f":"IFERROR(RANK($J338,$J$1:J$607)+COUNTIF($J$1:J338,J338)-1,\"\")","v":490},"S.US.LRCX","S.US.FOXA",{"$f":"RTD(\"cqg.rtd\", ,\"ContractData\",O338, \"PerCentNetLastTrade\",, \"T\")/100","v":1.4958863126402393E-3},"https://finance.yahoo.com/quote/FOXA",null,1.4958863126402393E-3,{"$error":"#N/A"},null,{"$f":"RTD(\"cqg.rtd\", ,\"ContractData\",O338, \"LongDescription\",, \"T\")","v":"Twenty-First Century Fox, Inc. Class A"},null,null,1.4958863126402393E-3,null,1,1,null,1.4958863126402393E-3,"",""]
[null,null,"S.US.LSI",{"$f":"RTD(\"cqg.rtd\", ,\"ContractData\",C339, \"LongDescription\",, \"T\")","v":"Life Storage, Inc."},{"$f":"RTD(\"cqg.rtd\", ,\"ContractData\",C339, \"Open\",, \"T\")","v":76.100000000000009},{"$f":"RTD(\"cqg.rtd\", ,\"ContractData\",C339, \"High\",, \"T\")","v":76.62},{"$f":"RTD(\"cqg.rtd\", ,\"ContractData\",C339, \"Low\",, \"T\")","v":75.62},{"$f":"RTD(\"cqg.rtd\", ,\"ContractData\",C339, \"LastTradeToday\",, \"T\")","v":75.900000000000006},{"$f":"RTD(\"cqg.rtd\", ,\"ContractData\",C339, \"NetLastTradeToday\",, \"T\")","v":-0.21},{"$f":"IFERROR(RTD(\"cqg.rtd\", ,\"ContractData\",C339, \"PerCentNetLastTrade\",, \"T\")/100,\"\")","v":-2.7591643673630273E-3},{"$f":"RTD(\"cqg.rtd\", ,\"ContractData\", C339, \"T_CVol\",, \"T\")","v":265282},339,{"$f":"IFERROR(RANK($J339,$J$1:J$607)+COUNTIF($J$1:J339,J339)-1,\"\")","v":449},"S.US.LSI","S.US.PTHN",{"$f":"RTD(\"cqg.rtd\", ,\"ContractData\",O339, \"PerCentNetLastTrade\",, \"T\")/100","v":1.4450867052023123E-3},"https://finance.yahoo.com/quote/PTHN",null,1.4450867052023123E-3,{"$error":"#N/A"},null,{"$f":"RTD(\"cqg.rtd\", ,\"ContractData\",O339, \"LongDescription\",, \"T\")","v":"Patheon N.V."},null,null,1.4450867052023123E-3,null,1,1,null,1.4450867052023123E-3,"",""]
[null,null,"S.US.LSTR",{"$f":"RTD(\"cqg.rtd\", ,\"ContractData\",C340, \"LongDescription\",, \"T\")","v":"Landstar System Inc"},{"$f":"RTD(\"cqg.rtd\", ,\"ContractData\",C340, \"Open\",, \"T\")","v":83.55},{"$f":"RTD(\"cqg.rtd\", ,\"ContractData\",C340, \"High\",, \"T\")","v":84.100000000000009},{"$f":"RTD(\"cqg.rtd\", ,\"ContractData\",C340, \"Low\",, \"T\")","v":83.25},{"$f":"RTD(\"cqg.rtd\", ,\"ContractData\",C340, \"LastTradeToday\",, \"T\")","v":83.65},{"$f":"RTD(\"cqg.rtd\", ,\"ContractData\",C340, \"NetLastTradeToday\",, \"T\")","v":0.2},{"$f":"IFERROR(RTD(\"cqg.rtd\", ,\"ContractData\",C340, \"PerCentNetLastTrade\",, \"T\")/100,\"\")","v":2.396644697423607E-3},{"$f":"RTD(\"cqg.rtd\", ,\"ContractData\", C340, \"T_CVol\",, \"T\")","v":49417},340,{"$f":"IFERROR(RANK($J340,$J$1:J$607)+COUNTIF($J$1:J340,J340)-1,\"\")","v":303},"S.US.LSTR","S.US.CCP",{"$f":"RTD(\"cqg.rtd\", ,\"ContractData\",O340, \"PerCentNetLastTrade\",, \"T\")/100","v":1.4306151645207441E-3},"https://finance.yahoo.com/quote/CCP",null,1.4306151645207441E-3,{"$error":"#N/A"},null,{"$f":"RTD(\"cqg.rtd\", ,\"ContractData\",O340, \"LongDescription\",, \"T\")","v":"Care Capital Properties, Inc."},null,null,1.4306151645207441E-3,null,1,1,null,1.4306151645207441E-3,"",""]
[null,null,"S.US.LULU",{"$f":"RTD(\"cqg.rtd\", ,\"ContractData\",C341, \"LongDescription\",, \"T\")","v":"Lululemon Athletica Inc"},{"$f":"RTD(\"cqg.rtd\", ,\"ContractData\",C341, \"Open\",, \"T\")","v":48.800000000000004},{"$f":"RTD(\"cqg.rtd\", ,\"ContractData\",C341, \"High\",, \"T\")","v":49.15},{"$f":"RTD(\"cqg.rtd\", ,\"ContractData\",C341, \"Low\",, \"T\")","v":48.43},{"$f":"RTD(\"cqg.rtd\", ,\"ContractData\",C341, \"LastTradeToday\",, \"T\")","v":48.910000000000004},{"$f":"RTD(\"cqg.rtd\", ,\"ContractData\",C341, \"NetLastTradeToday\",, \"T\")","v":0.11},{"$f":"IFERROR(RTD(\"cqg.rtd\", ,\"ContractData\",C341, \"PerCentNetLastTrade\",, \"T\")/100,\"\")","v":2.2540983606557379E-3},{"$f":"RTD(\"cqg.rtd\", ,\"ContractData\", C341, \"T_CVol\",, \"T\")","v":2101488},341,{"$f":"IFERROR(RANK($J341,$J$1:J$607)+COUNTIF($J$1:J341,J341)-1,\"\")","v":312},"S.US.LULU","S.US.BRO",{"$f":"RTD(\"cqg.rtd\", ,\"ContractData\",O341, \"PerCentNetLastTrade\",, \"T\")/100","v":1.4127619496114904E-3},"https://finance.yahoo.com/quote/BRO",null,1.4127619496114904E-3,{"$error":"#N/A"},null,{"$f":"RTD(\"cqg.rtd\", ,\"ContractData\",O341, \"LongDescription\",, \"T\")","v":"BROWN AND BROWN INC"},null,null,1.4127619496114904E-3,null,1,1,null,1.4127619496114904E-3,"",""]
[null,null,"S.US.LUV",{"$f":"RTD(\"cqg.rtd\", ,\"ContractData\",C342, \"LongDescription\",, \"T\")","v":"Southwest Airlines Co"},{"$f":"RTD(\"cqg.rtd\", ,\"ContractData\",C342, \"Open\",, \"T\")","v":59.81},{"$f":"RTD(\"cqg.rtd\", ,\"ContractData\",C342, \"High\",, \"T\")","v":60.01},{"$f":"RTD(\"cqg.rtd\", ,\"ContractData\",C342, \"Low\",, \"T\")","v":59.36},{"$f":"RTD(\"cqg.rtd\", ,\"ContractData\",C342, \"LastTradeToday\",, \"T\")","v":59.43},{"$f":"RTD(\"cqg.rtd\", ,\"ContractData\",C342, \"NetLastTradeToday\",, \"T\")","v":-0.21},{"$f":"IFERROR(RTD(\"cqg.rtd\", ,\"ContractData\",C342, \"PerCentNetLastTrade\",, \"T\")/100,\"\")","v":-3.5211267605633799E-3},{"$f":"RTD(\"cqg.rtd\", ,\"ContractData\", C342, \"T_CVol\",, \"T\")","v":1722865},342,{"$f":"IFERROR(RANK($J342,$J$1:J$607)+COUNTIF($J$1:J342,J342)-1,\"\")","v":462},"S.US.LUV","S.US.TSN",{"$f":"RTD(\"cqg.rtd\", ,\"ContractData\",O342, \"PerCentNetLastTrade\",, \"T\")/100","v":1.3693940431359123E-3},"https://finance.yahoo.com/quote/TSN",null,1.3693940431359123E-3,{"$error":"#N/A"},null,{"$f":"RTD(\"cqg.rtd\", ,\"ContractData\",O342, \"LongDescription\",, \"T\")","v":"Tyson Foods Inc ClsA"},null,null,1.3693940431359123E-3,null,1,1,null,1.3693940431359123E-3,"",""]
[null,null,"S.US.LVNTA",{"$f":"RTD(\"cqg.rtd\", ,\"ContractData\",C343, \"LongDescription\",, \"T\")","v":"Liberty Interactive Corporation Series A"},{"$f":"RTD(\"cqg.rtd\", ,\"ContractData\",C343, \"Open\",, \"T\")","v":51.29},{"$f":"RTD(\"cqg.rtd\", ,\"ContractData\",C343, \"High\",, \"T\")","v":52.33},{"$f":"RTD(\"cqg.rtd\", ,\"ContractData\",C343, \"Low\",, \"T\")","v":51.07},{"$f":"RTD(\"cqg.rtd\", ,\"ContractData\",C343, \"LastTradeToday\",, \"T\")","v":52.21},{"$f":"RTD(\"cqg.rtd\", ,\"ContractData\",C343, \"NetLastTradeToday\",, \"T\")","v":0.95000000000000007},{"$f":"IFERROR(RTD(\"cqg.rtd\", ,\"ContractData\",C343, \"PerCentNetLastTrade\",, \"T\")/100,\"\")","v":1.8532969176746003E-2},{"$f":"RTD(\"cqg.rtd\", ,\"ContractData\", C343, \"T_CVol\",, \"T\")","v":334241},343,{"$f":"IFERROR(RANK($J343,$J$1:J$607)+COUNTIF($J$1:J343,J343)-1,\"\")","v":31},"S.US.LVNTA","S.US.MUSA",{"$f":"RTD(\"cqg.rtd\", ,\"ContractData\",O343, \"PerCentNetLastTrade\",, \"T\")/100","v":1.3295907815039148E-3},"https://finance.yahoo.com/quote/MUSA",null,1.3295907815039148E-3,{"$error":"#N/A"},null,{"$f":"RTD(\"cqg.rtd\", ,\"ContractData\",O343, \"LongDescription\",, \"T\")","v":"Murphy USA, Inc."},null,null,1.3295907815039148E-3,null,1,1,null,1.3295907815039148E-3,"",""]
[null,null,"S.US.LVS",{"$f":"RTD(\"cqg.rtd\", ,\"ContractData\",C344, \"LongDescription\",, \"T\")","v":"Las Vegas Sands Corp"},{"$f":"RTD(\"cqg.rtd\", ,\"ContractData\",C344, \"Open\",, \"T\")","v":57.47},{"$f":"RTD(\"cqg.rtd\", ,\"ContractData\",C344, \"High\",, \"T\")","v":57.75},{"$f":"RTD(\"cqg.rtd\", ,\"ContractData\",C344, \"Low\",, \"T\")","v":57.38},{"$f":"RTD(\"cqg.rtd\", ,\"ContractData\",C344, \"LastTradeToday\",, \"T\")","v":57.5},{"$f":"RTD(\"cqg.rtd\", ,\"ContractData\",C344, \"NetLastTradeToday\",, \"T\")","v":-0.03},{"$f":"IFERROR(RTD(\"cqg.rtd\", ,\"ContractData\",C344, \"PerCentNetLastTrade\",, \"T\")/100,\"\")","v":-5.2146706066400134E-4},{"$f":"RTD(\"cqg.rtd\", ,\"ContractData\", C344, \"T_CVol\",, \"T\")","v":871218},344,{"$f":"IFERROR(RANK($J344,$J$1:J$607)+COUNTIF($J$1:J344,J344)-1,\"\")","v":401},"S.US.LVS","S.US.AOS",{"$f":"RTD(\"cqg.rtd\", ,\"ContractData\",O344, \"PerCentNetLastTrade\",, \"T\")/100","v":1.2931830777757249E-3},"https://finance.yahoo.com/quote/AOS",null,1.2931830777757249E-3,{"$error":"#N/A"},null,{"$f":"RTD(\"cqg.rtd\", ,\"ContractData\",O344, \"LongDescription\",, \"T\")","v":"AO Smith Corp"},null,null,1.2931830777757249E-3,null,1,1,null,1.2931830777757249E-3,"",""]
[null,null,"S.US.LW",{"$f":"RTD(\"cqg.rtd\", ,\"ContractData\",C345, \"LongDescription\",, \"T\")","v":"Lamb Weston Holdings, Inc."},{"$f":"RTD(\"cqg.rtd\", ,\"ContractData\",C345, \"Open\",, \"T\")","v":44.68},{"$f":"RTD(\"cqg.rtd\", ,\"ContractData\",C345, \"High\",, \"T\")","v":45.36},{"$f":"RTD(\"cqg.rtd\", ,\"ContractData\",C345, \"Low\",, \"T\")","v":44.4},{"$f":"RTD(\"cqg.rtd\", ,\"ContractData\",C345, \"LastTradeToday\",, \"T\")","v":45.32},{"$f":"RTD(\"cqg.rtd\", ,\"ContractData\",C345, \"NetLastTradeToday\",, \"T\")","v":1.1000000000000001},{"$f":"IFERROR(RTD(\"cqg.rtd\", ,\"ContractData\",C345, \"PerCentNetLastTrade\",, \"T\")/100,\"\")","v":2.4875621890547261E-2},{"$f":"RTD(\"cqg.rtd\", ,\"ContractData\", C345, \"T_CVol\",, \"T\")","v":538486},345,{"$f":"IFERROR(RANK($J345,$J$1:J$607)+COUNTIF($J$1:J345,J345)-1,\"\")","v":18},"S.US.LW","S.US.TWX",{"$f":"RTD(\"cqg.rtd\", ,\"ContractData\",O345, \"PerCentNetLastTrade\",, \"T\")/100","v":1.2216227221826326E-3},"https://finance.yahoo.com/quote/TWX",null,1.2216227221826326E-3,{"$error":"#N/A"},null,{"$f":"RTD(\"cqg.rtd\", ,\"ContractData\",O345, \"LongDescription\",, \"T\")","v":"Time Warner Inc"},null,null,1.2216227221826326E-3,null,1,1,null,1.2216227221826326E-3,"",""]
[null,null,"S.US.LYB",{"$f":"RTD(\"cqg.rtd\", ,\"ContractData\",C346, \"LongDescription\",, \"T\")","v":"LyondellBasell Industries NV Class A"},{"$f":"RTD(\"cqg.rtd\", ,\"ContractData\",C346, \"Open\",, \"T\")","v":81.56},{"$f":"RTD(\"cqg.rtd\", ,\"ContractData\",C346, \"High\",, \"T\")","v":82.58},{"$f":"RTD(\"cqg.rtd\", ,\"ContractData\",C346, \"Low\",, \"T\")","v":81.13},{"$f":"RTD(\"cqg.rtd\", ,\"ContractData\",C346, \"LastTradeToday\",, \"T\")","v":81.23},{"$f":"RTD(\"cqg.rtd\", ,\"ContractData\",C346, \"NetLastTradeToday\",, \"T\")","v":0.66},{"$f":"IFERROR(RTD(\"cqg.rtd\", ,\"ContractData\",C346, \"PerCentNetLastTrade\",, \"T\")/100,\"\")","v":8.1916346034504161E-3},{"$f":"RTD(\"cqg.rtd\", ,\"ContractData\", C346, \"T_CVol\",, \"T\")","v":1301676},346,{"$f":"IFERROR(RANK($J346,$J$1:J$607)+COUNTIF($J$1:J346,J346)-1,\"\")","v":134},"S.US.LYB","S.US.TFX",{"$f":"RTD(\"cqg.rtd\", ,\"ContractData\",O346, \"PerCentNetLastTrade\",, \"T\")/100","v":1.1519583291595714E-3},"https://finance.yahoo.com/quote/TFX",null,1.1519583291595714E-3,{"$error":"#N/A"},null,{"$f":"RTD(\"cqg.rtd\", ,\"ContractData\",O346, \"LongDescription\",, \"T\")","v":"Teleflex Inc"},null,null,1.1519583291595714E-3,null,1,1,null,1.1519583291595714E-3,"",""]
[null,null,"S.US.LYV",{"$f":"RTD(\"cqg.rtd\", ,\"ContractData\",C347, \"LongDescription\",, \"T\")","v":"Live Nation Entertainment Inc"},{"$f":"RTD(\"cqg.rtd\", ,\"ContractData\",C347, \"Open\",, \"T\")","v":33.5},{"$f":"RTD(\"cqg.rtd\", ,\"ContractData\",C347, \"High\",, \"T\")","v":33.64},{"$f":"RTD(\"cqg.rtd\", ,\"ContractData\",C347, \"Low\",, \"T\")","v":33.450000000000003},{"$f":"RTD(\"cqg.rtd\", ,\"ContractData\",C347, \"LastTradeToday\",, \"T\")","v":33.54},{"$f":"RTD(\"cqg.rtd\", ,\"ContractData\",C347, \"NetLastTradeToday\",, \"T\")","v":-7.0000000000000007E-2},{"$f":"IFERROR(RTD(\"cqg.rtd\", ,\"ContractData\",C347, \"PerCentNetLastTrade\",, \"T\")/100,\"\")","v":-2.0827134781315083E-3},{"$f":"RTD(\"cqg.rtd\", ,\"ContractData\", C347, \"T_CVol\",, \"T\")","v":303763},347,{"$f":"IFERROR(RANK($J347,$J$1:J$607)+COUNTIF($J$1:J347,J347)-1,\"\")","v":433},"S.US.LYV","S.US.CDK",{"$f":"RTD(\"cqg.rtd\", ,\"ContractData\",O347, \"PerCentNetLastTrade\",, \"T\")/100","v":1.1458503846783433E-3},"https://finance.yahoo.com/quote/CDK",null,1.1458503846783433E-3,{"$error":"#N/A"},null,{"$f":"RTD(\"cqg.rtd\", ,\"ContractData\",O347, \"LongDescription\",, \"T\")","v":"CDK Global, Inc."},null,null,1.1458503846783433E-3,null,1,1,null,1.1458503846783433E-3,"",""]
[null,null,"S.US.MA",{"$f":"RTD(\"cqg.rtd\", ,\"ContractData\",C348, \"LongDescription\",, \"T\")","v":"Mastercard Inc."},{"$f":"RTD(\"cqg.rtd\", ,\"ContractData\",C348, \"Open\",, \"T\")","v":119.60000000000001},{"$f":"RTD(\"cqg.rtd\", ,\"ContractData\",C348, \"High\",, \"T\")","v":120.57000000000001},{"$f":"RTD(\"cqg.rtd\", ,\"ContractData\",C348, \"Low\",, \"T\")","v":119.53},{"$f":"RTD(\"cqg.rtd\", ,\"ContractData\",C348, \"LastTradeToday\",, \"T\")","v":120.56},{"$f":"RTD(\"cqg.rtd\", ,\"ContractData\",C348, \"NetLastTradeToday\",, \"T\")","v":0.96},{"$f":"IFERROR(RTD(\"cqg.rtd\", ,\"ContractData\",C348, \"PerCentNetLastTrade\",, \"T\")/100,\"\")","v":8.0267558528428103E-3},{"$f":"RTD(\"cqg.rtd\", ,\"ContractData\", C348, \"T_CVol\",, \"T\")","v":899611},348,{"$f":"IFERROR(RANK($J348,$J$1:J$607)+COUNTIF($J$1:J348,J348)-1,\"\")","v":140},"S.US.MA","S.US.CELG",{"$f":"RTD(\"cqg.rtd\", ,\"ContractData\",O348, \"PerCentNetLastTrade\",, \"T\")/100","v":1.1081749211490921E-3},"https://finance.yahoo.com/quote/CELG",null,1.1081749211490921E-3,{"$error":"#N/A"},null,{"$f":"RTD(\"cqg.rtd\", ,\"ContractData\",O348, \"LongDescription\",, \"T\")","v":"Celgene Corporation"},null,null,1.1081749211490921E-3,null,1,1,null,1.1081749211490921E-3,"",""]
[null,null,"S.US.MANH",{"$f":"RTD(\"cqg.rtd\", ,\"ContractData\",C349, \"LongDescription\",, \"T\")","v":"Manhattan Assoc"},{"$f":"RTD(\"cqg.rtd\", ,\"ContractData\",C349, \"Open\",, \"T\")","v":46.69},{"$f":"RTD(\"cqg.rtd\", ,\"ContractData\",C349, \"High\",, \"T\")","v":47.31},{"$f":"RTD(\"cqg.rtd\", ,\"ContractData\",C349, \"Low\",, \"T\")","v":46.57},{"$f":"RTD(\"cqg.rtd\", ,\"ContractData\",C349, \"LastTradeToday\",, \"T\")","v":47.300000000000004},{"$f":"RTD(\"cqg.rtd\", ,\"ContractData\",C349, \"NetLastTradeToday\",, \"T\")","v":0.74},{"$f":"IFERROR(RTD(\"cqg.rtd\", ,\"ContractData\",C349, \"PerCentNetLastTrade\",, \"T\")/100,\"\")","v":1.5893470790378006E-2},{"$f":"RTD(\"cqg.rtd\", ,\"ContractData\", C349, \"T_CVol\",, \"T\")","v":217148},349,{"$f":"IFERROR(RANK($J349,$J$1:J$607)+COUNTIF($J$1:J349,J349)-1,\"\")","v":51},"S.US.MANH","S.US.COST",{"$f":"RTD(\"cqg.rtd\", ,\"ContractData\",O349, \"PerCentNetLastTrade\",, \"T\")/100","v":1.1016408650779846E-3},"https://finance.yahoo.com/quote/COST",null,1.1016408650779846E-3,{"$error":"#N/A"},null,{"$f":"RTD(\"cqg.rtd\", ,\"ContractData\",O349, \"LongDescription\",, \"T\")","v":"Costco Wholesale Corp"},null,null,1.1016408650779846E-3,null,1,1,null,1.1016408650779846E-3,"",""]
[null,null,"S.US.MAR",{"$f":"RTD(\"cqg.rtd\", ,\"ContractData\",C350, \"LongDescription\",, \"T\")","v":"Marriot International, Inc."},{"$f":"RTD(\"cqg.rtd\", ,\"ContractData\",C350, \"Open\",, \"T\")","v":105.95},{"$f":"RTD(\"cqg.rtd\", ,\"ContractData\",C350, \"High\",, \"T\")","v":106.10000000000001},{"$f":"RTD(\"cqg.rtd\", ,\"ContractData\",C350, \"Low\",, \"T\")","v":105.51},{"$f":"RTD(\"cqg.rtd\", ,\"ContractData\",C350, \"LastTradeToday\",, \"T\")","v":105.79},{"$f":"RTD(\"cqg.rtd\", ,\"ContractData\",C350, \"NetLastTradeToday\",, \"T\")","v":0.3},{"$f":"IFERROR(RTD(\"cqg.rtd\", ,\"ContractData\",C350, \"PerCentNetLastTrade\",, \"T\")/100,\"\")","v":2.8438714570101433E-3},{"$f":"RTD(\"cqg.rtd\", ,\"ContractData\", C350, \"T_CVol\",, \"T\")","v":1035652},350,{"$f":"IFERROR(RANK($J350,$J$1:J$607)+COUNTIF($J$1:J350,J350)-1,\"\")","v":287},"S.US.MAR","S.US.FDX",{"$f":"RTD(\"cqg.rtd\", ,\"ContractData\",O350, \"PerCentNetLastTrade\",, \"T\")/100","v":9.8415000517973689E-4},"https://finance.yahoo.com/quote/FDX",null,9.8415000517973689E-4,{"$error":"#N/A"},null,{"$f":"RTD(\"cqg.rtd\", ,\"ContractData\",O350, \"LongDescription\",, \"T\")","v":"FedEx Corp"},null,null,9.8415000517973689E-4,null,1,1,null,9.8415000517973689E-4,"",""]
[null,null,"S.US.MAS",{"$f":"RTD(\"cqg.rtd\", ,\"ContractData\",C351, \"LongDescription\",, \"T\")","v":"Masco Corporation"},{"$f":"RTD(\"cqg.rtd\", ,\"ContractData\",C351, \"Open\",, \"T\")","v":36.83},{"$f":"RTD(\"cqg.rtd\", ,\"ContractData\",C351, \"High\",, \"T\")","v":37.119999999999997},{"$f":"RTD(\"cqg.rtd\", ,\"ContractData\",C351, \"Low\",, \"T\")","v":36.69},{"$f":"RTD(\"cqg.rtd\", ,\"ContractData\",C351, \"LastTradeToday\",, \"T\")","v":37.07},{"$f":"RTD(\"cqg.rtd\", ,\"ContractData\",C351, \"NetLastTradeToday\",, \"T\")","v":0.24},{"$f":"IFERROR(RTD(\"cqg.rtd\", ,\"ContractData\",C351, \"PerCentNetLastTrade\",, \"T\")/100,\"\")","v":6.5164268259571001E-3},{"$f":"RTD(\"cqg.rtd\", ,\"ContractData\", C351, \"T_CVol\",, \"T\")","v":1038020},351,{"$f":"IFERROR(RANK($J351,$J$1:J$607)+COUNTIF($J$1:J351,J351)-1,\"\")","v":182},"S.US.MAS","S.US.SYY",{"$f":"RTD(\"cqg.rtd\", ,\"ContractData\",O351, \"PerCentNetLastTrade\",, \"T\")/100","v":9.2199889360132764E-4},"https://finance.yahoo.com/quote/SYY",null,9.2199889360132764E-4,{"$error":"#N/A"},null,{"$f":"RTD(\"cqg.rtd\", ,\"ContractData\",O351, \"LongDescription\",, \"T\")","v":"Sysco Corp"},null,null,9.2199889360132764E-4,null,1,1,null,9.2199889360132764E-4,"",""]
[null,null,"S.US.MAT",{"$f":"RTD(\"cqg.rtd\", ,\"ContractData\",C352, \"LongDescription\",, \"T\")","v":"Mattel Inc"},{"$f":"RTD(\"cqg.rtd\", ,\"ContractData\",C352, \"Open\",, \"T\")","v":21.91},{"$f":"RTD(\"cqg.rtd\", ,\"ContractData\",C352, \"High\",, \"T\")","v":22.490000000000002},{"$f":"RTD(\"cqg.rtd\", ,\"ContractData\",C352, \"Low\",, \"T\")","v":21.86},{"$f":"RTD(\"cqg.rtd\", ,\"ContractData\",C352, \"LastTradeToday\",, \"T\")","v":22.490000000000002},{"$f":"RTD(\"cqg.rtd\", ,\"ContractData\",C352, \"NetLastTradeToday\",, \"T\")","v":0.74},{"$f":"IFERROR(RTD(\"cqg.rtd\", ,\"ContractData\",C352, \"PerCentNetLastTrade\",, \"T\")/100,\"\")","v":3.4022988505747122E-2},{"$f":"RTD(\"cqg.rtd\", ,\"ContractData\", C352, \"T_CVol\",, \"T\")","v":3888795},352,{"$f":"IFERROR(RANK($J352,$J$1:J$607)+COUNTIF($J$1:J352,J352)-1,\"\")","v":8},"S.US.MAT","S.US.PNRA",{"$f":"RTD(\"cqg.rtd\", ,\"ContractData\",O352, \"PerCentNetLastTrade\",, \"T\")/100","v":8.9359800855300943E-4},"https://finance.yahoo.com/quote/PNRA",null,8.9359800855300943E-4,{"$error":"#N/A"},null,{"$f":"RTD(\"cqg.rtd\", ,\"ContractData\",O352, \"LongDescription\",, \"T\")","v":"Panera Bread Co ClA"},null,null,8.9359800855300943E-4,null,1,1,null,8.9359800855300943E-4,"",""]
[null,null,"S.US.MCD",{"$f":"RTD(\"cqg.rtd\", ,\"ContractData\",C353, \"LongDescription\",, \"T\")","v":"McDonald's Corporation"},{"$f":"RTD(\"cqg.rtd\", ,\"ContractData\",C353, \"Open\",, \"T\")","v":147.94},{"$f":"RTD(\"cqg.rtd\", ,\"ContractData\",C353, \"High\",, \"T\")","v":149.99},{"$f":"RTD(\"cqg.rtd\", ,\"ContractData\",C353, \"Low\",, \"T\")","v":147},{"$f":"RTD(\"cqg.rtd\", ,\"ContractData\",C353, \"LastTradeToday\",, \"T\")","v":149.92000000000002},{"$f":"RTD(\"cqg.rtd\", ,\"ContractData\",C353, \"NetLastTradeToday\",, \"T\")","v":2.1},{"$f":"IFERROR(RTD(\"cqg.rtd\", ,\"ContractData\",C353, \"PerCentNetLastTrade\",, \"T\")/100,\"\")","v":1.4206467325125151E-2},{"$f":"RTD(\"cqg.rtd\", ,\"ContractData\", C353, \"T_CVol\",, \"T\")","v":1729994},353,{"$f":"IFERROR(RANK($J353,$J$1:J$607)+COUNTIF($J$1:J353,J353)-1,\"\")","v":60},"S.US.MCD","S.US.TMUS",{"$f":"RTD(\"cqg.rtd\", ,\"ContractData\",O353, \"PerCentNetLastTrade\",, \"T\")/100","v":8.8731144631765753E-4},"https://finance.yahoo.com/quote/TMUS",null,8.8731144631765753E-4,{"$error":"#N/A"},null,{"$f":"RTD(\"cqg.rtd\", ,\"ContractData\",O353, \"LongDescription\",, \"T\")","v":"T-Mobile US, Inc."},null,null,8.8731144631765753E-4,null,1,1,null,8.8731144631765753E-4,"",""]
[null,null,"S.US.MCHP",{"$f":"RTD(\"cqg.rtd\", ,\"ContractData\",C354, \"LongDescription\",, \"T\")","v":"Microchip Technology Inc"},{"$f":"RTD(\"cqg.rtd\", ,\"ContractData\",C354, \"Open\",, \"T\")","v":81.53},{"$f":"RTD(\"cqg.rtd\", ,\"ContractData\",C354, \"High\",, \"T\")","v":81.81},{"$f":"RTD(\"cqg.rtd\", ,\"ContractData\",C354, \"Low\",, \"T\")","v":81.08},{"$f":"RTD(\"cqg.rtd\", ,\"ContractData\",C354, \"LastTradeToday\",, \"T\")","v":81.39},{"$f":"RTD(\"cqg.rtd\", ,\"ContractData\",C354, \"NetLastTradeToday\",, \"T\")","v":0.04},{"$f":"IFERROR(RTD(\"cqg.rtd\", ,\"ContractData\",C354, \"PerCentNetLastTrade\",, \"T\")/100,\"\")","v":4.9170251997541483E-4},{"$f":"RTD(\"cqg.rtd\", ,\"ContractData\", C354, \"T_CVol\",, \"T\")","v":990196},354,{"$f":"IFERROR(RANK($J354,$J$1:J$607)+COUNTIF($J$1:J354,J354)-1,\"\")","v":373},"S.US.MCHP","S.US.CBG",{"$f":"RTD(\"cqg.rtd\", ,\"ContractData\",O354, \"PerCentNetLastTrade\",, \"T\")/100","v":8.784773060029283E-4},"https://finance.yahoo.com/quote/CBG",null,8.784773060029283E-4,{"$error":"#N/A"},null,{"$f":"RTD(\"cqg.rtd\", ,\"ContractData\",O354, \"LongDescription\",, \"T\")","v":"CBRE Group, Inc."},null,null,8.784773060029283E-4,null,1,1,null,8.784773060029283E-4,"",""]
[null,null,"S.US.MCK",{"$f":"RTD(\"cqg.rtd\", ,\"ContractData\",C355, \"LongDescription\",, \"T\")","v":"McKesson Corporation"},{"$f":"RTD(\"cqg.rtd\", ,\"ContractData\",C355, \"Open\",, \"T\")","v":158.14000000000001},{"$f":"RTD(\"cqg.rtd\", ,\"ContractData\",C355, \"High\",, \"T\")","v":162},{"$f":"RTD(\"cqg.rtd\", ,\"ContractData\",C355, \"Low\",, \"T\")","v":158.14000000000001},{"$f":"RTD(\"cqg.rtd\", ,\"ContractData\",C355, \"LastTradeToday\",, \"T\")","v":161.46},{"$f":"RTD(\"cqg.rtd\", ,\"ContractData\",C355, \"NetLastTradeToday\",, \"T\")","v":2.46},{"$f":"IFERROR(RTD(\"cqg.rtd\", ,\"ContractData\",C355, \"PerCentNetLastTrade\",, \"T\")/100,\"\")","v":1.5471698113207548E-2},{"$f":"RTD(\"cqg.rtd\", ,\"ContractData\", C355, \"T_CVol\",, \"T\")","v":1888868},355,{"$f":"IFERROR(RANK($J355,$J$1:J$607)+COUNTIF($J$1:J355,J355)-1,\"\")","v":53},"S.US.MCK","S.US.FISV",{"$f":"RTD(\"cqg.rtd\", ,\"ContractData\",O355, \"PerCentNetLastTrade\",, \"T\")/100","v":8.1739414745790422E-4},"https://finance.yahoo.com/quote/FISV",null,8.1739414745790422E-4,{"$error":"#N/A"},null,{"$f":"RTD(\"cqg.rtd\", ,\"ContractData\",O355, \"LongDescription\",, \"T\")","v":"FISERV Inc"},null,null,8.1739414745790422E-4,null,1,1,null,8.1739414745790422E-4,"",""]
[null,null,"S.US.MCO",{"$f":"RTD(\"cqg.rtd\", ,\"ContractData\",C356, \"LongDescription\",, \"T\")","v":"Moodys Corp"},{"$f":"RTD(\"cqg.rtd\", ,\"ContractData\",C356, \"Open\",, \"T\")","v":115.07000000000001},{"$f":"RTD(\"cqg.rtd\", ,\"ContractData\",C356, \"High\",, \"T\")","v":115.76},{"$f":"RTD(\"cqg.rtd\", ,\"ContractData\",C356, \"Low\",, \"T\")","v":114.89},{"$f":"RTD(\"cqg.rtd\", ,\"ContractData\",C356, \"LastTradeToday\",, \"T\")","v":115.15},{"$f":"RTD(\"cqg.rtd\", ,\"ContractData\",C356, \"NetLastTradeToday\",, \"T\")","v":0.26},{"$f":"IFERROR(RTD(\"cqg.rtd\", ,\"ContractData\",C356, \"PerCentNetLastTrade\",, \"T\")/100,\"\")","v":2.2630342066324309E-3},{"$f":"RTD(\"cqg.rtd\", ,\"ContractData\", C356, \"T_CVol\",, \"T\")","v":266584},356,{"$f":"IFERROR(RANK($J356,$J$1:J$607)+COUNTIF($J$1:J356,J356)-1,\"\")","v":311},"S.US.MCO","S.US.MJN",{"$f":"RTD(\"cqg.rtd\", ,\"ContractData\",O356, \"PerCentNetLastTrade\",, \"T\")/100","v":7.8616352201257855E-4},"https://finance.yahoo.com/quote/MJN",null,7.8616352201257855E-4,{"$error":"#N/A"},null,{"$f":"RTD(\"cqg.rtd\", ,\"ContractData\",O356, \"LongDescription\",, \"T\")","v":"Mead Johnson Nutrition Co"},null,null,7.8616352201257855E-4,null,1,1,null,7.8616352201257855E-4,"",""]
[null,null,"S.US.MD",{"$f":"RTD(\"cqg.rtd\", ,\"ContractData\",C357, \"LongDescription\",, \"T\")","v":"Mednax Inc"},{"$f":"RTD(\"cqg.rtd\", ,\"ContractData\",C357, \"Open\",, \"T\")","v":54.34},{"$f":"RTD(\"cqg.rtd\", ,\"ContractData\",C357, \"High\",, \"T\")","v":54.980000000000004},{"$f":"RTD(\"cqg.rtd\", ,\"ContractData\",C357, \"Low\",, \"T\")","v":54.18},{"$f":"RTD(\"cqg.rtd\", ,\"ContractData\",C357, \"LastTradeToday\",, \"T\")","v":54.89},{"$f":"RTD(\"cqg.rtd\", ,\"ContractData\",C357, \"NetLastTradeToday\",, \"T\")","v":0.42},{"$f":"IFERROR(RTD(\"cqg.rtd\", ,\"ContractData\",C357, \"PerCentNetLastTrade\",, \"T\")/100,\"\")","v":7.710666421883605E-3},{"$f":"RTD(\"cqg.rtd\", ,\"ContractData\", C357, \"T_CVol\",, \"T\")","v":162013},357,{"$f":"IFERROR(RANK($J357,$J$1:J$607)+COUNTIF($J$1:J357,J357)-1,\"\")","v":148},"S.US.MD","S.US.BCR",{"$f":"RTD(\"cqg.rtd\", ,\"ContractData\",O357, \"PerCentNetLastTrade\",, \"T\")/100","v":7.7836154893948239E-4},"https://finance.yahoo.com/quote/BCR",null,7.7836154893948239E-4,{"$error":"#N/A"},null,{"$f":"RTD(\"cqg.rtd\", ,\"ContractData\",O357, \"LongDescription\",, \"T\")","v":"Bard (CR) Inc"},null,null,7.7836154893948239E-4,null,1,1,null,7.7836154893948239E-4,"",""]
[null,null,"S.US.MGM",{"$f":"RTD(\"cqg.rtd\", ,\"ContractData\",C358, \"LongDescription\",, \"T\")","v":"MGM Resorts International"},{"$f":"RTD(\"cqg.rtd\", ,\"ContractData\",C358, \"Open\",, \"T\")","v":31.18},{"$f":"RTD(\"cqg.rtd\", ,\"ContractData\",C358, \"High\",, \"T\")","v":31.41},{"$f":"RTD(\"cqg.rtd\", ,\"ContractData\",C358, \"Low\",, \"T\")","v":31.12},{"$f":"RTD(\"cqg.rtd\", ,\"ContractData\",C358, \"LastTradeToday\",, \"T\")","v":31.17},{"$f":"RTD(\"cqg.rtd\", ,\"ContractData\",C358, \"NetLastTradeToday\",, \"T\")","v":-0.13},{"$f":"IFERROR(RTD(\"cqg.rtd\", ,\"ContractData\",C358, \"PerCentNetLastTrade\",, \"T\")/100,\"\")","v":-4.1533546325878594E-3},{"$f":"RTD(\"cqg.rtd\", ,\"ContractData\", C358, \"T_CVol\",, \"T\")","v":2992344},358,{"$f":"IFERROR(RANK($J358,$J$1:J$607)+COUNTIF($J$1:J358,J358)-1,\"\")","v":471},"S.US.MGM","S.US.CHH",{"$f":"RTD(\"cqg.rtd\", ,\"ContractData\",O358, \"PerCentNetLastTrade\",, \"T\")/100","v":7.6982294072363362E-4},"https://finance.yahoo.com/quote/CHH",null,7.6982294072363362E-4,{"$error":"#N/A"},null,{"$f":"RTD(\"cqg.rtd\", ,\"ContractData\",O358, \"LongDescription\",, \"T\")","v":"Choice Hotels Internatl Inc"},null,null,7.6982294072363362E-4,null,1,1,null,7.6982294072363362E-4,"",""]
[null,null,"S.US.MHK",{"$f":"RTD(\"cqg.rtd\", ,\"ContractData\",C359, \"LongDescription\",, \"T\")","v":"Mohawk Industries Inc"},{"$f":"RTD(\"cqg.rtd\", ,\"ContractData\",C359, \"Open\",, \"T\")","v":232.97},{"$f":"RTD(\"cqg.rtd\", ,\"ContractData\",C359, \"High\",, \"T\")","v":235.1},{"$f":"RTD(\"cqg.rtd\", ,\"ContractData\",C359, \"Low\",, \"T\")","v":231.93},{"$f":"RTD(\"cqg.rtd\", ,\"ContractData\",C359, \"LastTradeToday\",, \"T\")","v":234.88},{"$f":"RTD(\"cqg.rtd\", ,\"ContractData\",C359, \"NetLastTradeToday\",, \"T\")","v":2.0100000000000002},{"$f":"IFERROR(RTD(\"cqg.rtd\", ,\"ContractData\",C359, \"PerCentNetLastTrade\",, \"T\")/100,\"\")","v":8.6314252587280458E-3},{"$f":"RTD(\"cqg.rtd\", ,\"ContractData\", C359, \"T_CVol\",, \"T\")","v":193710},359,{"$f":"IFERROR(RANK($J359,$J$1:J$607)+COUNTIF($J$1:J359,J359)-1,\"\")","v":129},{"$f":"C359","v":"S.US.MHK"},"S.US.LLY",{"$f":"RTD(\"cqg.rtd\", ,\"ContractData\",O359, \"PerCentNetLastTrade\",, \"T\")/100","v":7.6932940120528277E-4},"https://finance.yahoo.com/quote/LLY",null,{"$f":"IF(P359>=0,P359,NA())","v":7.6932940120528277E-4},{"$f":"IF(P359>=0,NA(),-1*P359)","v":{"$error":"#N/A"}},null,{"$f":"RTD(\"cqg.rtd\", ,\"ContractData\",O359, \"LongDescription\",, \"T\")","v":"Lilly (Eli) & Company"},null,null,{"$f":"IFERROR(S359,P359)","v":7.6932940120528277E-4},null,{"$f":"IF(S359=\"NA()\",0,1)","v":1},{"$f":"IFERROR(AA359,0)","v":1},null,{"$f":"IFERROR(S359,\"\")","v":7.6932940120528277E-4},{"$f":"IFERROR(T359,\"\")","v":""},{"$f":"IF(AE359=\"\",\"\",Y359)","v":""}]
[null,null,"S.US.MIDD",{"$f":"RTD(\"cqg.rtd\", ,\"ContractData\",C360, \"LongDescription\",, \"T\")","v":"Middleby Corp (The)"},{"$f":"RTD(\"cqg.rtd\", ,\"ContractData\",C360, \"Open\",, \"T\")","v":128.07},{"$f":"RTD(\"cqg.rtd\", ,\"ContractData\",C360, \"High\",, \"T\")","v":128.44},{"$f":"RTD(\"cqg.rtd\", ,\"ContractData\",C360, \"Low\",, \"T\")","v":125.9},{"$f":"RTD(\"cqg.rtd\", ,\"ContractData\",C360, \"LastTradeToday\",, \"T\")","v":127.19},{"$f":"RTD(\"cqg.rtd\", ,\"ContractData\",C360, \"NetLastTradeToday\",, \"T\")","v":-0.78},{"$f":"IFERROR(RTD(\"cqg.rtd\", ,\"ContractData\",C360, \"PerCentNetLastTrade\",, \"T\")/100,\"\")","v":-6.0951785574744075E-3},{"$f":"RTD(\"cqg.rtd\", ,\"ContractData\", C360, \"T_CVol\",, \"T\")","v":182325},360,{"$f":"IFERROR(RANK($J360,$J$1:J$607)+COUNTIF($J$1:J360,J360)-1,\"\")","v":499},"S.US.MIDD","S.US.CRI",{"$f":"RTD(\"cqg.rtd\", ,\"ContractData\",O360, \"PerCentNetLastTrade\",, \"T\")/100","v":7.467330429371499E-4},"https://finance.yahoo.com/quote/CRI",null,7.467330429371499E-4,{"$error":"#N/A"},null,{"$f":"RTD(\"cqg.rtd\", ,\"ContractData\",O360, \"LongDescription\",, \"T\")","v":"Carters Inc"},null,null,7.467330429371499E-4,null,1,1,null,7.467330429371499E-4,"",""]
[null,null,"S.US.MIK",{"$f":"RTD(\"cqg.rtd\", ,\"ContractData\",C361, \"LongDescription\",, \"T\")","v":"The Michaels Companies, Inc."},{"$f":"RTD(\"cqg.rtd\", ,\"ContractData\",C361, \"Open\",, \"T\")","v":19.900000000000002},{"$f":"RTD(\"cqg.rtd\", ,\"ContractData\",C361, \"High\",, \"T\")","v":19.900000000000002},{"$f":"RTD(\"cqg.rtd\", ,\"ContractData\",C361, \"Low\",, \"T\")","v":19.34},{"$f":"RTD(\"cqg.rtd\", ,\"ContractData\",C361, \"LastTradeToday\",, \"T\")","v":19.64},{"$f":"RTD(\"cqg.rtd\", ,\"ContractData\",C361, \"NetLastTradeToday\",, \"T\")","v":0.05},{"$f":"IFERROR(RTD(\"cqg.rtd\", ,\"ContractData\",C361, \"PerCentNetLastTrade\",, \"T\")/100,\"\")","v":2.5523226135783562E-3},{"$f":"RTD(\"cqg.rtd\", ,\"ContractData\", C361, \"T_CVol\",, \"T\")","v":618261},361,{"$f":"IFERROR(RANK($J361,$J$1:J$607)+COUNTIF($J$1:J361,J361)-1,\"\")","v":296},"S.US.MIK","S.US.LDOS",{"$f":"RTD(\"cqg.rtd\", ,\"ContractData\",O361, \"PerCentNetLastTrade\",, \"T\")/100","v":7.3166270349368941E-4},"https://finance.yahoo.com/quote/LDOS",null,7.3166270349368941E-4,{"$error":"#N/A"},null,{"$f":"RTD(\"cqg.rtd\", ,\"ContractData\",O361, \"LongDescription\",, \"T\")","v":"Leidos Holdings, Inc."},null,null,7.3166270349368941E-4,null,1,1,null,7.3166270349368941E-4,"",""]
[null,null,"S.US.MJN",{"$f":"RTD(\"cqg.rtd\", ,\"ContractData\",C362, \"LongDescription\",, \"T\")","v":"Mead Johnson Nutrition Co"},{"$f":"RTD(\"cqg.rtd\", ,\"ContractData\",C362, \"Open\",, \"T\")","v":89.11},{"$f":"RTD(\"cqg.rtd\", ,\"ContractData\",C362, \"High\",, \"T\")","v":89.14},{"$f":"RTD(\"cqg.rtd\", ,\"ContractData\",C362, \"Low\",, \"T\")","v":89.02},{"$f":"RTD(\"cqg.rtd\", ,\"ContractData\",C362, \"LastTradeToday\",, \"T\")","v":89.11},{"$f":"RTD(\"cqg.rtd\", ,\"ContractData\",C362, \"NetLastTradeToday\",, \"T\")","v":7.0000000000000007E-2},{"$f":"IFERROR(RTD(\"cqg.rtd\", ,\"ContractData\",C362, \"PerCentNetLastTrade\",, \"T\")/100,\"\")","v":7.8616352201257855E-4},{"$f":"RTD(\"cqg.rtd\", ,\"ContractData\", C362, \"T_CVol\",, \"T\")","v":1821785},362,{"$f":"IFERROR(RANK($J362,$J$1:J$607)+COUNTIF($J$1:J362,J362)-1,\"\")","v":356},"S.US.MJN","S.US.ITW",{"$f":"RTD(\"cqg.rtd\", ,\"ContractData\",O362, \"PerCentNetLastTrade\",, \"T\")/100","v":7.2056492289955326E-4},"https://finance.yahoo.com/quote/ITW",null,7.2056492289955326E-4,{"$error":"#N/A"},null,{"$f":"RTD(\"cqg.rtd\", ,\"ContractData\",O362, \"LongDescription\",, \"T\")","v":"Illinois Tools Works Inc"},null,null,7.2056492289955326E-4,null,1,1,null,7.2056492289955326E-4,"",""]
[null,null,"S.US.MKC",{"$f":"RTD(\"cqg.rtd\", ,\"ContractData\",C363, \"LongDescription\",, \"T\")","v":"McCormick & Company Inc"},{"$f":"RTD(\"cqg.rtd\", ,\"ContractData\",C363, \"Open\",, \"T\")","v":102.74000000000001},{"$f":"RTD(\"cqg.rtd\", ,\"ContractData\",C363, \"High\",, \"T\")","v":103.3},{"$f":"RTD(\"cqg.rtd\", ,\"ContractData\",C363, \"Low\",, \"T\")","v":102.44},{"$f":"RTD(\"cqg.rtd\", ,\"ContractData\",C363, \"LastTradeToday\",, \"T\")","v":103.26},{"$f":"RTD(\"cqg.rtd\", ,\"ContractData\",C363, \"NetLastTradeToday\",, \"T\")","v":0.73},{"$f":"IFERROR(RTD(\"cqg.rtd\", ,\"ContractData\",C363, \"PerCentNetLastTrade\",, \"T\")/100,\"\")","v":7.1198673558958356E-3},{"$f":"RTD(\"cqg.rtd\", ,\"ContractData\", C363, \"T_CVol\",, \"T\")","v":115960},363,{"$f":"IFERROR(RANK($J363,$J$1:J$607)+COUNTIF($J$1:J363,J363)-1,\"\")","v":166},"S.US.MKC","S.US.DHR",{"$f":"RTD(\"cqg.rtd\", ,\"ContractData\",O363, \"PerCentNetLastTrade\",, \"T\")/100","v":7.1471113758189405E-4},"https://finance.yahoo.com/quote/DHR",null,7.1471113758189405E-4,{"$error":"#N/A"},null,{"$f":"RTD(\"cqg.rtd\", ,\"ContractData\",O363, \"LongDescription\",, \"T\")","v":"Danaher Corporation"},null,null,7.1471113758189405E-4,null,1,1,null,7.1471113758189405E-4,"",""]
[null,null,"S.US.MKTX",{"$f":"RTD(\"cqg.rtd\", ,\"ContractData\",C364, \"LongDescription\",, \"T\")","v":"MarketAxcess Inc"},{"$f":"RTD(\"cqg.rtd\", ,\"ContractData\",C364, \"Open\",, \"T\")","v":188.20000000000002},{"$f":"RTD(\"cqg.rtd\", ,\"ContractData\",C364, \"High\",, \"T\")","v":192.3},{"$f":"RTD(\"cqg.rtd\", ,\"ContractData\",C364, \"Low\",, \"T\")","v":188.20000000000002},{"$f":"RTD(\"cqg.rtd\", ,\"ContractData\",C364, \"LastTradeToday\",, \"T\")","v":191.59},{"$f":"RTD(\"cqg.rtd\", ,\"ContractData\",C364, \"NetLastTradeToday\",, \"T\")","v":3.59},{"$f":"IFERROR(RTD(\"cqg.rtd\", ,\"ContractData\",C364, \"PerCentNetLastTrade\",, \"T\")/100,\"\")","v":1.9095744680851064E-2},{"$f":"RTD(\"cqg.rtd\", ,\"ContractData\", C364, \"T_CVol\",, \"T\")","v":104119},364,{"$f":"IFERROR(RANK($J364,$J$1:J$607)+COUNTIF($J$1:J364,J364)-1,\"\")","v":29},"S.US.MKTX","S.US.CLH",{"$f":"RTD(\"cqg.rtd\", ,\"ContractData\",O364, \"PerCentNetLastTrade\",, \"T\")/100","v":6.8775790921595599E-4},"https://finance.yahoo.com/quote/CLH",null,6.8775790921595599E-4,{"$error":"#N/A"},null,{"$f":"RTD(\"cqg.rtd\", ,\"ContractData\",O364, \"LongDescription\",, \"T\")","v":"Clean Harbors, Inc."},null,null,6.8775790921595599E-4,null,1,1,null,6.8775790921595599E-4,"",""]
[null,null,"S.US.MLM",{"$f":"RTD(\"cqg.rtd\", ,\"ContractData\",C365, \"LongDescription\",, \"T\")","v":"Martin Marietta Materials Inc"},{"$f":"RTD(\"cqg.rtd\", ,\"ContractData\",C365, \"Open\",, \"T\")","v":230.86},{"$f":"RTD(\"cqg.rtd\", ,\"ContractData\",C365, \"High\",, \"T\")","v":232.18},{"$f":"RTD(\"cqg.rtd\", ,\"ContractData\",C365, \"Low\",, \"T\")","v":226.32},{"$f":"RTD(\"cqg.rtd\", ,\"ContractData\",C365, \"LastTradeToday\",, \"T\")","v":226.49},{"$f":"RTD(\"cqg.rtd\", ,\"ContractData\",C365, \"NetLastTradeToday\",, \"T\")","v":-4.57},{"$f":"IFERROR(RTD(\"cqg.rtd\", ,\"ContractData\",C365, \"PerCentNetLastTrade\",, \"T\")/100,\"\")","v":-1.9778412533541071E-2},{"$f":"RTD(\"cqg.rtd\", ,\"ContractData\", C365, \"T_CVol\",, \"T\")","v":257157},365,{"$f":"IFERROR(RANK($J365,$J$1:J$607)+COUNTIF($J$1:J365,J365)-1,\"\")","v":584},"S.US.MLM","S.US.WSO",{"$f":"RTD(\"cqg.rtd\", ,\"ContractData\",O365, \"PerCentNetLastTrade\",, \"T\")/100","v":6.3644721023972835E-4},"https://finance.yahoo.com/quote/WSO",null,6.3644721023972835E-4,{"$error":"#N/A"},null,{"$f":"RTD(\"cqg.rtd\", ,\"ContractData\",O365, \"LongDescription\",, \"T\")","v":"Watsco Inc"},null,null,6.3644721023972835E-4,null,1,1,null,6.3644721023972835E-4,"",""]
[null,null,"S.US.MMC",{"$f":"RTD(\"cqg.rtd\", ,\"ContractData\",C366, \"LongDescription\",, \"T\")","v":"Marsh & McLennan Cos Inc"},{"$f":"RTD(\"cqg.rtd\", ,\"ContractData\",C366, \"Open\",, \"T\")","v":74.850000000000009},{"$f":"RTD(\"cqg.rtd\", ,\"ContractData\",C366, \"High\",, \"T\")","v":74.94},{"$f":"RTD(\"cqg.rtd\", ,\"ContractData\",C366, \"Low\",, \"T\")","v":74.72},{"$f":"RTD(\"cqg.rtd\", ,\"ContractData\",C366, \"LastTradeToday\",, \"T\")","v":74.92},{"$f":"RTD(\"cqg.rtd\", ,\"ContractData\",C366, \"NetLastTradeToday\",, \"T\")","v":0.18},{"$f":"IFERROR(RTD(\"cqg.rtd\", ,\"ContractData\",C366, \"PerCentNetLastTrade\",, \"T\")/100,\"\")","v":2.4083489430024082E-3},{"$f":"RTD(\"cqg.rtd\", ,\"ContractData\", C366, \"T_CVol\",, \"T\")","v":383286},366,{"$f":"IFERROR(RANK($J366,$J$1:J$607)+COUNTIF($J$1:J366,J366)-1,\"\")","v":301},"S.US.MMC","S.US.ROP",{"$f":"RTD(\"cqg.rtd\", ,\"ContractData\",O366, \"PerCentNetLastTrade\",, \"T\")/100","v":6.2274809839419959E-4},"https://finance.yahoo.com/quote/ROP",null,6.2274809839419959E-4,{"$error":"#N/A"},null,{"$f":"RTD(\"cqg.rtd\", ,\"ContractData\",O366, \"LongDescription\",, \"T\")","v":"Roper Technologies, Inc."},null,null,6.2274809839419959E-4,null,1,1,null,6.2274809839419959E-4,"",""]
[null,null,"S.US.MMM",{"$f":"RTD(\"cqg.rtd\", ,\"ContractData\",C367, \"LongDescription\",, \"T\")","v":"3M Company"},{"$f":"RTD(\"cqg.rtd\", ,\"ContractData\",C367, \"Open\",, \"T\")","v":198.49},{"$f":"RTD(\"cqg.rtd\", ,\"ContractData\",C367, \"High\",, \"T\")","v":198.53},{"$f":"RTD(\"cqg.rtd\", ,\"ContractData\",C367, \"Low\",, \"T\")","v":197.28},{"$f":"RTD(\"cqg.rtd\", ,\"ContractData\",C367, \"LastTradeToday\",, \"T\")","v":197.70000000000002},{"$f":"RTD(\"cqg.rtd\", ,\"ContractData\",C367, \"NetLastTradeToday\",, \"T\")","v":-0.03},{"$f":"IFERROR(RTD(\"cqg.rtd\", ,\"ContractData\",C367, \"PerCentNetLastTrade\",, \"T\")/100,\"\")","v":-1.5172204521316947E-4},{"$f":"RTD(\"cqg.rtd\", ,\"ContractData\", C367, \"T_CVol\",, \"T\")","v":549782},367,{"$f":"IFERROR(RANK($J367,$J$1:J$607)+COUNTIF($J$1:J367,J367)-1,\"\")","v":391},"S.US.MMM","S.US.NCLH",{"$f":"RTD(\"cqg.rtd\", ,\"ContractData\",O367, \"PerCentNetLastTrade\",, \"T\")/100","v":6.050826946349334E-4},"https://finance.yahoo.com/quote/NCLH",null,6.050826946349334E-4,{"$error":"#N/A"},null,{"$f":"RTD(\"cqg.rtd\", ,\"ContractData\",O367, \"LongDescription\",, \"T\")","v":"Norwegian Cruise Line"},null,null,6.050826946349334E-4,null,1,1,null,6.050826946349334E-4,"",""]
[null,null,"S.US.MNST",{"$f":"RTD(\"cqg.rtd\", ,\"ContractData\",C368, \"LongDescription\",, \"T\")","v":"Monster Beverage Corporation"},{"$f":"RTD(\"cqg.rtd\", ,\"ContractData\",C368, \"Open\",, \"T\")","v":49.6},{"$f":"RTD(\"cqg.rtd\", ,\"ContractData\",C368, \"High\",, \"T\")","v":49.88},{"$f":"RTD(\"cqg.rtd\", ,\"ContractData\",C368, \"Low\",, \"T\")","v":49.24},{"$f":"RTD(\"cqg.rtd\", ,\"ContractData\",C368, \"LastTradeToday\",, \"T\")","v":49.82},{"$f":"RTD(\"cqg.rtd\", ,\"ContractData\",C368, \"NetLastTradeToday\",, \"T\")","v":0.39},{"$f":"IFERROR(RTD(\"cqg.rtd\", ,\"ContractData\",C368, \"PerCentNetLastTrade\",, \"T\")/100,\"\")","v":7.8899453773012343E-3},{"$f":"RTD(\"cqg.rtd\", ,\"ContractData\", C368, \"T_CVol\",, \"T\")","v":1343682},368,{"$f":"IFERROR(RANK($J368,$J$1:J$607)+COUNTIF($J$1:J368,J368)-1,\"\")","v":145},"S.US.MNST","S.US.NEU",{"$f":"RTD(\"cqg.rtd\", ,\"ContractData\",O368, \"PerCentNetLastTrade\",, \"T\")/100","v":5.7689842314431012E-4},"https://finance.yahoo.com/quote/NEU",null,5.7689842314431012E-4,{"$error":"#N/A"},null,{"$f":"RTD(\"cqg.rtd\", ,\"ContractData\",O368, \"LongDescription\",, \"T\")","v":"Newmarket Corporation Holding Company"},null,null,5.7689842314431012E-4,null,1,1,null,5.7689842314431012E-4,"",""]
[null,null,"S.US.MO",{"$f":"RTD(\"cqg.rtd\", ,\"ContractData\",C369, \"LongDescription\",, \"T\")","v":"Altria Group Inc"},{"$f":"RTD(\"cqg.rtd\", ,\"ContractData\",C369, \"Open\",, \"T\")","v":72.41},{"$f":"RTD(\"cqg.rtd\", ,\"ContractData\",C369, \"High\",, \"T\")","v":72.83},{"$f":"RTD(\"cqg.rtd\", ,\"ContractData\",C369, \"Low\",, \"T\")","v":72.08},{"$f":"RTD(\"cqg.rtd\", ,\"ContractData\",C369, \"LastTradeToday\",, \"T\")","v":72.83},{"$f":"RTD(\"cqg.rtd\", ,\"ContractData\",C369, \"NetLastTradeToday\",, \"T\")","v":0.70000000000000007},{"$f":"IFERROR(RTD(\"cqg.rtd\", ,\"ContractData\",C369, \"PerCentNetLastTrade\",, \"T\")/100,\"\")","v":9.7046998474975745E-3},{"$f":"RTD(\"cqg.rtd\", ,\"ContractData\", C369, \"T_CVol\",, \"T\")","v":2535962},369,{"$f":"IFERROR(RANK($J369,$J$1:J$607)+COUNTIF($J$1:J369,J369)-1,\"\")","v":109},"S.US.MO","S.US.KATE",{"$f":"RTD(\"cqg.rtd\", ,\"ContractData\",O369, \"PerCentNetLastTrade\",, \"T\")/100","v":5.428881650380022E-4},"https://finance.yahoo.com/quote/KATE",null,5.428881650380022E-4,{"$error":"#N/A"},null,{"$f":"RTD(\"cqg.rtd\", ,\"ContractData\",O369, \"LongDescription\",, \"T\")","v":"Kate Spade Company"},null,null,5.428881650380022E-4,null,1,1,null,5.428881650380022E-4,"",""]
[null,null,"S.US.MON",{"$f":"RTD(\"cqg.rtd\", ,\"ContractData\",C370, \"LongDescription\",, \"T\")","v":"Monsanto Co"},{"$f":"RTD(\"cqg.rtd\", ,\"ContractData\",C370, \"Open\",, \"T\")","v":116.05},{"$f":"RTD(\"cqg.rtd\", ,\"ContractData\",C370, \"High\",, \"T\")","v":116.53},{"$f":"RTD(\"cqg.rtd\", ,\"ContractData\",C370, \"Low\",, \"T\")","v":115.91},{"$f":"RTD(\"cqg.rtd\", ,\"ContractData\",C370, \"LastTradeToday\",, \"T\")","v":116.31},{"$f":"RTD(\"cqg.rtd\", ,\"ContractData\",C370, \"NetLastTradeToday\",, \"T\")","v":0.27},{"$f":"IFERROR(RTD(\"cqg.rtd\", ,\"ContractData\",C370, \"PerCentNetLastTrade\",, \"T\")/100,\"\")","v":2.3267838676318511E-3},{"$f":"RTD(\"cqg.rtd\", ,\"ContractData\", C370, \"T_CVol\",, \"T\")","v":498715},370,{"$f":"IFERROR(RANK($J370,$J$1:J$607)+COUNTIF($J$1:J370,J370)-1,\"\")","v":305},"S.US.MON","S.US.THO",{"$f":"RTD(\"cqg.rtd\", ,\"ContractData\",O370, \"PerCentNetLastTrade\",, \"T\")/100","v":5.4048211004215758E-4},"https://finance.yahoo.com/quote/THO",null,5.4048211004215758E-4,{"$error":"#N/A"},null,{"$f":"RTD(\"cqg.rtd\", ,\"ContractData\",O370, \"LongDescription\",, \"T\")","v":"THOR INDUSTRIES INC"},null,null,5.4048211004215758E-4,null,1,1,null,5.4048211004215758E-4,"",""]
[null,null,"S.US.MORN",{"$f":"RTD(\"cqg.rtd\", ,\"ContractData\",C371, \"LongDescription\",, \"T\")","v":"Morningstar Inc"},{"$f":"RTD(\"cqg.rtd\", ,\"ContractData\",C371, \"Open\",, \"T\")","v":73.05},{"$f":"RTD(\"cqg.rtd\", ,\"ContractData\",C371, \"High\",, \"T\")","v":73.72},{"$f":"RTD(\"cqg.rtd\", ,\"ContractData\",C371, \"Low\",, \"T\")","v":72.430000000000007},{"$f":"RTD(\"cqg.rtd\", ,\"ContractData\",C371, \"LastTradeToday\",, \"T\")","v":72.739999999999995},{"$f":"RTD(\"cqg.rtd\", ,\"ContractData\",C371, \"NetLastTradeToday\",, \"T\")","v":-0.24},{"$f":"IFERROR(RTD(\"cqg.rtd\", ,\"ContractData\",C371, \"PerCentNetLastTrade\",, \"T\")/100,\"\")","v":-3.2885722115648126E-3},{"$f":"RTD(\"cqg.rtd\", ,\"ContractData\", C371, \"T_CVol\",, \"T\")","v":32325},371,{"$f":"IFERROR(RANK($J371,$J$1:J$607)+COUNTIF($J$1:J371,J371)-1,\"\")","v":458},"S.US.MORN","S.US.WBT",{"$f":"RTD(\"cqg.rtd\", ,\"ContractData\",O371, \"PerCentNetLastTrade\",, \"T\")/100","v":5.0428643469490675E-4},"https://finance.yahoo.com/quote/WBT",null,5.0428643469490675E-4,{"$error":"#N/A"},null,{"$f":"RTD(\"cqg.rtd\", ,\"ContractData\",O371, \"LongDescription\",, \"T\")","v":"Welbilt, Inc."},null,null,5.0428643469490675E-4,null,1,1,null,5.0428643469490675E-4,"",""]
[null,null,"S.US.MSCI",{"$f":"RTD(\"cqg.rtd\", ,\"ContractData\",C372, \"LongDescription\",, \"T\")","v":"MSCI, Inc."},{"$f":"RTD(\"cqg.rtd\", ,\"ContractData\",C372, \"Open\",, \"T\")","v":99},{"$f":"RTD(\"cqg.rtd\", ,\"ContractData\",C372, \"High\",, \"T\")","v":99.89},{"$f":"RTD(\"cqg.rtd\", ,\"ContractData\",C372, \"Low\",, \"T\")","v":98.53},{"$f":"RTD(\"cqg.rtd\", ,\"ContractData\",C372, \"LastTradeToday\",, \"T\")","v":99.58},{"$f":"RTD(\"cqg.rtd\", ,\"ContractData\",C372, \"NetLastTradeToday\",, \"T\")","v":0.67},{"$f":"IFERROR(RTD(\"cqg.rtd\", ,\"ContractData\",C372, \"PerCentNetLastTrade\",, \"T\")/100,\"\")","v":6.7738347993125062E-3},{"$f":"RTD(\"cqg.rtd\", ,\"ContractData\", C372, \"T_CVol\",, \"T\")","v":81704},372,{"$f":"IFERROR(RANK($J372,$J$1:J$607)+COUNTIF($J$1:J372,J372)-1,\"\")","v":175},"S.US.MSCI","S.US.NVR",{"$f":"RTD(\"cqg.rtd\", ,\"ContractData\",O372, \"PerCentNetLastTrade\",, \"T\")/100","v":4.9651567944250876E-4},"https://finance.yahoo.com/quote/NVR",null,4.9651567944250876E-4,{"$error":"#N/A"},null,{"$f":"RTD(\"cqg.rtd\", ,\"ContractData\",O372, \"LongDescription\",, \"T\")","v":"NVR Inc"},null,null,4.9651567944250876E-4,null,1,1,null,4.9651567944250876E-4,"",""]
[null,null,"S.US.MSFT",{"$f":"RTD(\"cqg.rtd\", ,\"ContractData\",C373, \"LongDescription\",, \"T\")","v":"Microsoft Corporation"},{"$f":"RTD(\"cqg.rtd\", ,\"ContractData\",C373, \"Open\",, \"T\")","v":68.87},{"$f":"RTD(\"cqg.rtd\", ,\"ContractData\",C373, \"High\",, \"T\")","v":68.88},{"$f":"RTD(\"cqg.rtd\", ,\"ContractData\",C373, \"Low\",, \"T\")","v":68.45},{"$f":"RTD(\"cqg.rtd\", ,\"ContractData\",C373, \"LastTradeToday\",, \"T\")","v":68.650000000000006},{"$f":"RTD(\"cqg.rtd\", ,\"ContractData\",C373, \"NetLastTradeToday\",, \"T\")","v":-0.03},{"$f":"IFERROR(RTD(\"cqg.rtd\", ,\"ContractData\",C373, \"PerCentNetLastTrade\",, \"T\")/100,\"\")","v":-4.3680838672102506E-4},{"$f":"RTD(\"cqg.rtd\", ,\"ContractData\", C373, \"T_CVol\",, \"T\")","v":7726454},373,{"$f":"IFERROR(RANK($J373,$J$1:J$607)+COUNTIF($J$1:J373,J373)-1,\"\")","v":399},"S.US.MSFT","S.US.MCHP",{"$f":"RTD(\"cqg.rtd\", ,\"ContractData\",O373, \"PerCentNetLastTrade\",, \"T\")/100","v":4.9170251997541483E-4},"https://finance.yahoo.com/quote/MCHP",null,4.9170251997541483E-4,{"$error":"#N/A"},null,{"$f":"RTD(\"cqg.rtd\", ,\"ContractData\",O373, \"LongDescription\",, \"T\")","v":"Microchip Technology Inc"},null,null,4.9170251997541483E-4,null,1,1,null,4.9170251997541483E-4,"",""]
[null,null,"S.US.MSG",{"$f":"RTD(\"cqg.rtd\", ,\"ContractData\",C374, \"LongDescription\",, \"T\")","v":"The Madison Square Garden Company"},{"$f":"RTD(\"cqg.rtd\", ,\"ContractData\",C374, \"Open\",, \"T\")","v":196.55},{"$f":"RTD(\"cqg.rtd\", ,\"ContractData\",C374, \"High\",, \"T\")","v":197.02},{"$f":"RTD(\"cqg.rtd\", ,\"ContractData\",C374, \"Low\",, \"T\")","v":194.3},{"$f":"RTD(\"cqg.rtd\", ,\"ContractData\",C374, \"LastTradeToday\",, \"T\")","v":195.23000000000002},{"$f":"RTD(\"cqg.rtd\", ,\"ContractData\",C374, \"NetLastTradeToday\",, \"T\")","v":-1.28},{"$f":"IFERROR(RTD(\"cqg.rtd\", ,\"ContractData\",C374, \"PerCentNetLastTrade\",, \"T\")/100,\"\")","v":-6.5136634267976175E-3},{"$f":"RTD(\"cqg.rtd\", ,\"ContractData\", C374, \"T_CVol\",, \"T\")","v":49859},374,{"$f":"IFERROR(RANK($J374,$J$1:J$607)+COUNTIF($J$1:J374,J374)-1,\"\")","v":502},"S.US.MSG","S.US.SRCL",{"$f":"RTD(\"cqg.rtd\", ,\"ContractData\",O374, \"PerCentNetLastTrade\",, \"T\")/100","v":4.8163756773028296E-4},"https://finance.yahoo.com/quote/SRCL",null,4.8163756773028296E-4,{"$error":"#N/A"},null,{"$f":"RTD(\"cqg.rtd\", ,\"ContractData\",O374, \"LongDescription\",, \"T\")","v":"Stericycle Inc"},null,null,4.8163756773028296E-4,null,1,1,null,4.8163756773028296E-4,"",""]
[null,null,"S.US.MSI",{"$f":"RTD(\"cqg.rtd\", ,\"ContractData\",C375, \"LongDescription\",, \"T\")","v":"Motorola Solutions, Inc."},{"$f":"RTD(\"cqg.rtd\", ,\"ContractData\",C375, \"Open\",, \"T\")","v":82.05},{"$f":"RTD(\"cqg.rtd\", ,\"ContractData\",C375, \"High\",, \"T\")","v":82.13},{"$f":"RTD(\"cqg.rtd\", ,\"ContractData\",C375, \"Low\",, \"T\")","v":80.97},{"$f":"RTD(\"cqg.rtd\", ,\"ContractData\",C375, \"LastTradeToday\",, \"T\")","v":81.84},{"$f":"RTD(\"cqg.rtd\", ,\"ContractData\",C375, \"NetLastTradeToday\",, \"T\")","v":-0.27},{"$f":"IFERROR(RTD(\"cqg.rtd\", ,\"ContractData\",C375, \"PerCentNetLastTrade\",, \"T\")/100,\"\")","v":-3.2882718304713186E-3},{"$f":"RTD(\"cqg.rtd\", ,\"ContractData\", C375, \"T_CVol\",, \"T\")","v":412547},375,{"$f":"IFERROR(RANK($J375,$J$1:J$607)+COUNTIF($J$1:J375,J375)-1,\"\")","v":457},"S.US.MSI","S.US.SNH",{"$f":"RTD(\"cqg.rtd\", ,\"ContractData\",O375, \"PerCentNetLastTrade\",, \"T\")/100","v":4.6794571829667756E-4},"https://finance.yahoo.com/quote/SNH",null,4.6794571829667756E-4,{"$error":"#N/A"},null,{"$f":"RTD(\"cqg.rtd\", ,\"ContractData\",O375, \"LongDescription\",, \"T\")","v":"Senior Housing"},null,null,4.6794571829667756E-4,null,1,1,null,4.6794571829667756E-4,"",""]
[null,null,"S.US.MSM",{"$f":"RTD(\"cqg.rtd\", ,\"ContractData\",C376, \"LongDescription\",, \"T\")","v":"MSC Industrial Direct Co Inc"},{"$f":"RTD(\"cqg.rtd\", ,\"ContractData\",C376, \"Open\",, \"T\")","v":85.72},{"$f":"RTD(\"cqg.rtd\", ,\"ContractData\",C376, \"High\",, \"T\")","v":85.960000000000008},{"$f":"RTD(\"cqg.rtd\", ,\"ContractData\",C376, \"Low\",, \"T\")","v":84.97},{"$f":"RTD(\"cqg.rtd\", ,\"ContractData\",C376, \"LastTradeToday\",, \"T\")","v":85.19},{"$f":"RTD(\"cqg.rtd\", ,\"ContractData\",C376, \"NetLastTradeToday\",, \"T\")","v":-0.53},{"$f":"IFERROR(RTD(\"cqg.rtd\", ,\"ContractData\",C376, \"PerCentNetLastTrade\",, \"T\")/100,\"\")","v":-6.1829211385907605E-3},{"$f":"RTD(\"cqg.rtd\", ,\"ContractData\", C376, \"T_CVol\",, \"T\")","v":181380},376,{"$f":"IFERROR(RANK($J376,$J$1:J$607)+COUNTIF($J$1:J376,J376)-1,\"\")","v":500},"S.US.MSM","S.US.EAT",{"$f":"RTD(\"cqg.rtd\", ,\"ContractData\",O376, \"PerCentNetLastTrade\",, \"T\")/100","v":2.495632642874969E-4},"https://finance.yahoo.com/quote/EAT",null,2.495632642874969E-4,{"$error":"#N/A"},null,{"$f":"RTD(\"cqg.rtd\", ,\"ContractData\",O376, \"LongDescription\",, \"T\")","v":"Brinker Internatl Inc"},null,null,2.495632642874969E-4,null,1,1,null,2.495632642874969E-4,"",""]
[null,null,"S.US.MTCH",{"$f":"RTD(\"cqg.rtd\", ,\"ContractData\",C377, \"LongDescription\",, \"T\")","v":"Match Group, Inc."},{"$f":"RTD(\"cqg.rtd\", ,\"ContractData\",C377, \"Open\",, \"T\")","v":19.75},{"$f":"RTD(\"cqg.rtd\", ,\"ContractData\",C377, \"High\",, \"T\")","v":19.830000000000002},{"$f":"RTD(\"cqg.rtd\", ,\"ContractData\",C377, \"Low\",, \"T\")","v":19.64},{"$f":"RTD(\"cqg.rtd\", ,\"ContractData\",C377, \"LastTradeToday\",, \"T\")","v":19.690000000000001},{"$f":"RTD(\"cqg.rtd\", ,\"ContractData\",C377, \"NetLastTradeToday\",, \"T\")","v":0.03},{"$f":"IFERROR(RTD(\"cqg.rtd\", ,\"ContractData\",C377, \"PerCentNetLastTrade\",, \"T\")/100,\"\")","v":1.525940996948118E-3},{"$f":"RTD(\"cqg.rtd\", ,\"ContractData\", C377, \"T_CVol\",, \"T\")","v":316397},377,{"$f":"IFERROR(RANK($J377,$J$1:J$607)+COUNTIF($J$1:J377,J377)-1,\"\")","v":337},"S.US.MTCH","S.US.SEE",{"$f":"RTD(\"cqg.rtd\", ,\"ContractData\",O377, \"PerCentNetLastTrade\",, \"T\")/100","v":2.2779043280182233E-4},"https://finance.yahoo.com/quote/SEE",null,2.2779043280182233E-4,{"$error":"#N/A"},null,{"$f":"RTD(\"cqg.rtd\", ,\"ContractData\",O377, \"LongDescription\",, \"T\")","v":"Sealed Air Corp New"},null,null,2.2779043280182233E-4,null,1,1,null,2.2779043280182233E-4,"",""]
[null,null,"S.US.MTD",{"$f":"RTD(\"cqg.rtd\", ,\"ContractData\",C378, \"LongDescription\",, \"T\")","v":"Mettler-Toledo Internatl Inc"},{"$f":"RTD(\"cqg.rtd\", ,\"ContractData\",C378, \"Open\",, \"T\")","v":571.41},{"$f":"RTD(\"cqg.rtd\", ,\"ContractData\",C378, \"High\",, \"T\")","v":574.49},{"$f":"RTD(\"cqg.rtd\", ,\"ContractData\",C378, \"Low\",, \"T\")","v":569.08000000000004},{"$f":"RTD(\"cqg.rtd\", ,\"ContractData\",C378, \"LastTradeToday\",, \"T\")","v":572.58000000000004},{"$f":"RTD(\"cqg.rtd\", ,\"ContractData\",C378, \"NetLastTradeToday\",, \"T\")","v":1.83},{"$f":"IFERROR(RTD(\"cqg.rtd\", ,\"ContractData\",C378, \"PerCentNetLastTrade\",, \"T\")/100,\"\")","v":3.2063074901445467E-3},{"$f":"RTD(\"cqg.rtd\", ,\"ContractData\", C378, \"T_CVol\",, \"T\")","v":39671},378,{"$f":"IFERROR(RANK($J378,$J$1:J$607)+COUNTIF($J$1:J378,J378)-1,\"\")","v":267},"S.US.MTD","S.US.COH",{"$f":"RTD(\"cqg.rtd\", ,\"ContractData\",O378, \"PerCentNetLastTrade\",, \"T\")/100","v":2.1734405564007825E-4},"https://finance.yahoo.com/quote/COH",null,2.1734405564007825E-4,{"$error":"#N/A"},null,{"$f":"RTD(\"cqg.rtd\", ,\"ContractData\",O378, \"LongDescription\",, \"T\")","v":"COACH INC"},null,null,2.1734405564007825E-4,null,1,1,null,2.1734405564007825E-4,"",""]
[null,null,"S.US.MTN",{"$f":"RTD(\"cqg.rtd\", ,\"ContractData\",C379, \"LongDescription\",, \"T\")","v":"Vail Resorts Inc"},{"$f":"RTD(\"cqg.rtd\", ,\"ContractData\",C379, \"Open\",, \"T\")","v":206.44},{"$f":"RTD(\"cqg.rtd\", ,\"ContractData\",C379, \"High\",, \"T\")","v":207.12},{"$f":"RTD(\"cqg.rtd\", ,\"ContractData\",C379, \"Low\",, \"T\")","v":204.97},{"$f":"RTD(\"cqg.rtd\", ,\"ContractData\",C379, \"LastTradeToday\",, \"T\")","v":205.39000000000001},{"$f":"RTD(\"cqg.rtd\", ,\"ContractData\",C379, \"NetLastTradeToday\",, \"T\")","v":-0.54},{"$f":"IFERROR(RTD(\"cqg.rtd\", ,\"ContractData\",C379, \"PerCentNetLastTrade\",, \"T\")/100,\"\")","v":-2.6222502792210946E-3},{"$f":"RTD(\"cqg.rtd\", ,\"ContractData\", C379, \"T_CVol\",, \"T\")","v":89214},379,{"$f":"IFERROR(RANK($J379,$J$1:J$607)+COUNTIF($J$1:J379,J379)-1,\"\")","v":444},"S.US.MTN","S.US.HLT",{"$f":"RTD(\"cqg.rtd\", ,\"ContractData\",O379, \"PerCentNetLastTrade\",, \"T\")/100","v":1.5269506794930525E-4},"https://finance.yahoo.com/quote/HLT",null,1.5269506794930525E-4,{"$error":"#N/A"},null,{"$f":"RTD(\"cqg.rtd\", ,\"ContractData\",O379, \"LongDescription\",, \"T\")","v":"Hilton Inc."},null,null,1.5269506794930525E-4,null,1,1,null,1.5269506794930525E-4,"",""]
[null,null,"S.US.MUSA",{"$f":"RTD(\"cqg.rtd\", ,\"ContractData\",C380, \"LongDescription\",, \"T\")","v":"Murphy USA, Inc."},{"$f":"RTD(\"cqg.rtd\", ,\"ContractData\",C380, \"Open\",, \"T\")","v":67.960000000000008},{"$f":"RTD(\"cqg.rtd\", ,\"ContractData\",C380, \"High\",, \"T\")","v":68},{"$f":"RTD(\"cqg.rtd\", ,\"ContractData\",C380, \"Low\",, \"T\")","v":66.73},{"$f":"RTD(\"cqg.rtd\", ,\"ContractData\",C380, \"LastTradeToday\",, \"T\")","v":67.78},{"$f":"RTD(\"cqg.rtd\", ,\"ContractData\",C380, \"NetLastTradeToday\",, \"T\")","v":0.09},{"$f":"IFERROR(RTD(\"cqg.rtd\", ,\"ContractData\",C380, \"PerCentNetLastTrade\",, \"T\")/100,\"\")","v":1.3295907815039148E-3},{"$f":"RTD(\"cqg.rtd\", ,\"ContractData\", C380, \"T_CVol\",, \"T\")","v":113739},380,{"$f":"IFERROR(RANK($J380,$J$1:J$607)+COUNTIF($J$1:J380,J380)-1,\"\")","v":343},"S.US.MUSA","S.US.SHW",{"$f":"RTD(\"cqg.rtd\", ,\"ContractData\",O380, \"PerCentNetLastTrade\",, \"T\")/100","v":1.5064324666325208E-4},"https://finance.yahoo.com/quote/SHW",null,1.5064324666325208E-4,{"$error":"#N/A"},null,{"$f":"RTD(\"cqg.rtd\", ,\"ContractData\",O380, \"LongDescription\",, \"T\")","v":"Sherwin-Williams Co"},null,null,1.5064324666325208E-4,null,1,1,null,1.5064324666325208E-4,"",""]
[null,null,"S.US.MXIM",{"$f":"RTD(\"cqg.rtd\", ,\"ContractData\",C381, \"LongDescription\",, \"T\")","v":"Maxim Integrated Products Inc"},{"$f":"RTD(\"cqg.rtd\", ,\"ContractData\",C381, \"Open\",, \"T\")","v":46.88},{"$f":"RTD(\"cqg.rtd\", ,\"ContractData\",C381, \"High\",, \"T\")","v":47.08},{"$f":"RTD(\"cqg.rtd\", ,\"ContractData\",C381, \"Low\",, \"T\")","v":46.51},{"$f":"RTD(\"cqg.rtd\", ,\"ContractData\",C381, \"LastTradeToday\",, \"T\")","v":47.03},{"$f":"RTD(\"cqg.rtd\", ,\"ContractData\",C381, \"NetLastTradeToday\",, \"T\")","v":0.19},{"$f":"IFERROR(RTD(\"cqg.rtd\", ,\"ContractData\",C381, \"PerCentNetLastTrade\",, \"T\")/100,\"\")","v":4.0563620836891546E-3},{"$f":"RTD(\"cqg.rtd\", ,\"ContractData\", C381, \"T_CVol\",, \"T\")","v":1135849},381,{"$f":"IFERROR(RANK($J381,$J$1:J$607)+COUNTIF($J$1:J381,J381)-1,\"\")","v":240},"S.US.MXIM","S.US.EOG",{"$f":"RTD(\"cqg.rtd\", ,\"ContractData\",O381, \"PerCentNetLastTrade\",, \"T\")/100","v":1.0807305738679347E-4},"https://finance.yahoo.com/quote/EOG",null,1.0807305738679347E-4,{"$error":"#N/A"},null,{"$f":"RTD(\"cqg.rtd\", ,\"ContractData\",O381, \"LongDescription\",, \"T\")","v":"EOG Resources"},null,null,1.0807305738679347E-4,null,1,1,null,1.0807305738679347E-4,"",""]
[null,null,"S.US.MYL",{"$f":"RTD(\"cqg.rtd\", ,\"ContractData\",C382, \"LongDescription\",, \"T\")","v":"Mylan N.V."},{"$f":"RTD(\"cqg.rtd\", ,\"ContractData\",C382, \"Open\",, \"T\")","v":39.82},{"$f":"RTD(\"cqg.rtd\", ,\"ContractData\",C382, \"High\",, \"T\")","v":39.83},{"$f":"RTD(\"cqg.rtd\", ,\"ContractData\",C382, \"Low\",, \"T\")","v":39.18},{"$f":"RTD(\"cqg.rtd\", ,\"ContractData\",C382, \"LastTradeToday\",, \"T\")","v":39.200000000000003},{"$f":"RTD(\"cqg.rtd\", ,\"ContractData\",C382, \"NetLastTradeToday\",, \"T\")","v":-0.39},{"$f":"IFERROR(RTD(\"cqg.rtd\", ,\"ContractData\",C382, \"PerCentNetLastTrade\",, \"T\")/100,\"\")","v":-9.8509724677948978E-3},{"$f":"RTD(\"cqg.rtd\", ,\"ContractData\", C382, \"T_CVol\",, \"T\")","v":2077080},382,{"$f":"IFERROR(RANK($J382,$J$1:J$607)+COUNTIF($J$1:J382,J382)-1,\"\")","v":544},"S.US.MYL","S.US.CPRT",{"$f":"RTD(\"cqg.rtd\", ,\"ContractData\",O382, \"PerCentNetLastTrade\",, \"T\")/100","v":0},"https://finance.yahoo.com/quote/CPRT",null,0,{"$error":"#N/A"},null,{"$f":"RTD(\"cqg.rtd\", ,\"ContractData\",O382, \"LongDescription\",, \"T\")","v":"Copart Inc"},null,null,0,null,1,1,null,0,"",""]
[null,null,"S.US.NATI",{"$f":"RTD(\"cqg.rtd\", ,\"ContractData\",C383, \"LongDescription\",, \"T\")","v":"Natl Instruments Corp"},{"$f":"RTD(\"cqg.rtd\", ,\"ContractData\",C383, \"Open\",, \"T\")","v":37.78},{"$f":"RTD(\"cqg.rtd\", ,\"ContractData\",C383, \"High\",, \"T\")","v":37.9},{"$f":"RTD(\"cqg.rtd\", ,\"ContractData\",C383, \"Low\",, \"T\")","v":37.17},{"$f":"RTD(\"cqg.rtd\", ,\"ContractData\",C383, \"LastTradeToday\",, \"T\")","v":37.19},{"$f":"RTD(\"cqg.rtd\", ,\"ContractData\",C383, \"NetLastTradeToday\",, \"T\")","v":-0.59},{"$f":"IFERROR(RTD(\"cqg.rtd\", ,\"ContractData\",C383, \"PerCentNetLastTrade\",, \"T\")/100,\"\")","v":-1.5616728427739545E-2},{"$f":"RTD(\"cqg.rtd\", ,\"ContractData\", C383, \"T_CVol\",, \"T\")","v":413743},383,{"$f":"IFERROR(RANK($J383,$J$1:J$607)+COUNTIF($J$1:J383,J383)-1,\"\")","v":575},"S.US.NATI","S.US.CREE",{"$f":"RTD(\"cqg.rtd\", ,\"ContractData\",O383, \"PerCentNetLastTrade\",, \"T\")/100","v":0},"https://finance.yahoo.com/quote/CREE",null,0,{"$error":"#N/A"},null,{"$f":"RTD(\"cqg.rtd\", ,\"ContractData\",O383, \"LongDescription\",, \"T\")","v":"Cree Inc"},null,null,0,null,1,1,null,0,"",""]
[null,null,"S.US.NBIX",{"$f":"RTD(\"cqg.rtd\", ,\"ContractData\",C384, \"LongDescription\",, \"T\")","v":"Neurocrine Biosciences Inc"},{"$f":"RTD(\"cqg.rtd\", ,\"ContractData\",C384, \"Open\",, \"T\")","v":50.5},{"$f":"RTD(\"cqg.rtd\", ,\"ContractData\",C384, \"High\",, \"T\")","v":50.74},{"$f":"RTD(\"cqg.rtd\", ,\"ContractData\",C384, \"Low\",, \"T\")","v":48},{"$f":"RTD(\"cqg.rtd\", ,\"ContractData\",C384, \"LastTradeToday\",, \"T\")","v":48.74},{"$f":"RTD(\"cqg.rtd\", ,\"ContractData\",C384, \"NetLastTradeToday\",, \"T\")","v":-4.79},{"$f":"IFERROR(RTD(\"cqg.rtd\", ,\"ContractData\",C384, \"PerCentNetLastTrade\",, \"T\")/100,\"\")","v":-8.948253315897628E-2},{"$f":"RTD(\"cqg.rtd\", ,\"ContractData\", C384, \"T_CVol\",, \"T\")","v":4705026},384,{"$f":"IFERROR(RANK($J384,$J$1:J$607)+COUNTIF($J$1:J384,J384)-1,\"\")","v":607},"S.US.NBIX","S.US.CVA",{"$f":"RTD(\"cqg.rtd\", ,\"ContractData\",O384, \"PerCentNetLastTrade\",, \"T\")/100","v":0},"https://finance.yahoo.com/quote/CVA",null,0,{"$error":"#N/A"},null,{"$f":"RTD(\"cqg.rtd\", ,\"ContractData\",O384, \"LongDescription\",, \"T\")","v":"Covanta Holding Corp"},null,null,0,null,1,1,null,0,"",""]
[null,null,"S.US.NCLH",{"$f":"RTD(\"cqg.rtd\", ,\"ContractData\",C385, \"LongDescription\",, \"T\")","v":"Norwegian Cruise Line"},{"$f":"RTD(\"cqg.rtd\", ,\"ContractData\",C385, \"Open\",, \"T\")","v":49.800000000000004},{"$f":"RTD(\"cqg.rtd\", ,\"ContractData\",C385, \"High\",, \"T\")","v":49.800000000000004},{"$f":"RTD(\"cqg.rtd\", ,\"ContractData\",C385, \"Low\",, \"T\")","v":49.2},{"$f":"RTD(\"cqg.rtd\", ,\"ContractData\",C385, \"LastTradeToday\",, \"T\")","v":49.61},{"$f":"RTD(\"cqg.rtd\", ,\"ContractData\",C385, \"NetLastTradeToday\",, \"T\")","v":0.03},{"$f":"IFERROR(RTD(\"cqg.rtd\", ,\"ContractData\",C385, \"PerCentNetLastTrade\",, \"T\")/100,\"\")","v":6.050826946349334E-4},{"$f":"RTD(\"cqg.rtd\", ,\"ContractData\", C385, \"T_CVol\",, \"T\")","v":566829},385,{"$f":"IFERROR(RANK($J385,$J$1:J$607)+COUNTIF($J$1:J385,J385)-1,\"\")","v":367},"S.US.NCLH","S.US.DCI",{"$f":"RTD(\"cqg.rtd\", ,\"ContractData\",O385, \"PerCentNetLastTrade\",, \"T\")/100","v":0},"https://finance.yahoo.com/quote/DCI",null,0,{"$error":"#N/A"},null,{"$f":"RTD(\"cqg.rtd\", ,\"ContractData\",O385, \"LongDescription\",, \"T\")","v":"Donaldson Company Inc"},null,null,0,null,1,1,null,0,"",""]
[null,null,"S.US.NCR",{"$f":"RTD(\"cqg.rtd\", ,\"ContractData\",C386, \"LongDescription\",, \"T\")","v":"NCR Corp"},{"$f":"RTD(\"cqg.rtd\", ,\"ContractData\",C386, \"Open\",, \"T\")","v":40.44},{"$f":"RTD(\"cqg.rtd\", ,\"ContractData\",C386, \"High\",, \"T\")","v":40.69},{"$f":"RTD(\"cqg.rtd\", ,\"ContractData\",C386, \"Low\",, \"T\")","v":40.07},{"$f":"RTD(\"cqg.rtd\", ,\"ContractData\",C386, \"LastTradeToday\",, \"T\")","v":40.36},{"$f":"RTD(\"cqg.rtd\", ,\"ContractData\",C386, \"NetLastTradeToday\",, \"T\")","v":0.14000000000000001},{"$f":"IFERROR(RTD(\"cqg.rtd\", ,\"ContractData\",C386, \"PerCentNetLastTrade\",, \"T\")/100,\"\")","v":3.4808552958727002E-3},{"$f":"RTD(\"cqg.rtd\", ,\"ContractData\", C386, \"T_CVol\",, \"T\")","v":348748},386,{"$f":"IFERROR(RANK($J386,$J$1:J$607)+COUNTIF($J$1:J386,J386)-1,\"\")","v":257},"S.US.NCR",{"$f":"VLOOKUP($L386,$M$1:$N$607,2,FALSE)","v":"S.US.IBKR"},{"$f":"RTD(\"cqg.rtd\", ,\"ContractData\",O386, \"PerCentNetLastTrade\",, \"T\")/100","v":0},{"$f":"\"https://finance.yahoo.com/quote/\"&RIGHT(O386,(LEN(O386)-5))","v":"https://finance.yahoo.com/quote/IBKR"},null,0,{"$error":"#N/A"},null,{"$f":"RTD(\"cqg.rtd\", ,\"ContractData\",O386, \"LongDescription\",, \"T\")","v":"Interactive Brokers Group"},null,null,0,null,1,1,null,0,"",""]
[null,null,"S.US.NDSN",{"$f":"RTD(\"cqg.rtd\", ,\"ContractData\",C387, \"LongDescription\",, \"T\")","v":"Nordson Corporation"},{"$f":"RTD(\"cqg.rtd\", ,\"ContractData\",C387, \"Open\",, \"T\")","v":122.02},{"$f":"RTD(\"cqg.rtd\", ,\"ContractData\",C387, \"High\",, \"T\")","v":123.42},{"$f":"RTD(\"cqg.rtd\", ,\"ContractData\",C387, \"Low\",, \"T\")","v":121.16},{"$f":"RTD(\"cqg.rtd\", ,\"ContractData\",C387, \"LastTradeToday\",, \"T\")","v":121.53},{"$f":"RTD(\"cqg.rtd\", ,\"ContractData\",C387, \"NetLastTradeToday\",, \"T\")","v":-0.18},{"$f":"IFERROR(RTD(\"cqg.rtd\", ,\"ContractData\",C387, \"PerCentNetLastTrade\",, \"T\")/100,\"\")","v":-1.4789253142716294E-3},{"$f":"RTD(\"cqg.rtd\", ,\"ContractData\", C387, \"T_CVol\",, \"T\")","v":369875},{"$f":"L386+1","v":387},{"$f":"IFERROR(RANK($J387,$J$1:J$607)+COUNTIF($J$1:J387,J387)-1,\"\")","v":426},"S.US.NDSN","S.US.OUT",{"$f":"RTD(\"cqg.rtd\", ,\"ContractData\",O387, \"PerCentNetLastTrade\",, \"T\")/100","v":0},"https://finance.yahoo.com/quote/OUT",null,0,{"$error":"#N/A"},null,{"$f":"RTD(\"cqg.rtd\", ,\"ContractData\",O387, \"LongDescription\",, \"T\")","v":"Outfront Media Inc."},null,null,0,null,1,1,null,0,"",""]
[null,null,"S.US.NEU",{"$f":"RTD(\"cqg.rtd\", ,\"ContractData\",C388, \"LongDescription\",, \"T\")","v":"Newmarket Corporation Holding Company"},{"$f":"RTD(\"cqg.rtd\", ,\"ContractData\",C388, \"Open\",, \"T\")","v":468.3},{"$f":"RTD(\"cqg.rtd\", ,\"ContractData\",C388, \"High\",, \"T\")","v":473},{"$f":"RTD(\"cqg.rtd\", ,\"ContractData\",C388, \"Low\",, \"T\")","v":468.28000000000003},{"$f":"RTD(\"cqg.rtd\", ,\"ContractData\",C388, \"LastTradeToday\",, \"T\")","v":468.29},{"$f":"RTD(\"cqg.rtd\", ,\"ContractData\",C388, \"NetLastTradeToday\",, \"T\")","v":0.27},{"$f":"IFERROR(RTD(\"cqg.rtd\", ,\"ContractData\",C388, \"PerCentNetLastTrade\",, \"T\")/100,\"\")","v":5.7689842314431012E-4},{"$f":"RTD(\"cqg.rtd\", ,\"ContractData\", C388, \"T_CVol\",, \"T\")","v":11247},388,{"$f":"IFERROR(RANK($J388,$J$1:J$607)+COUNTIF($J$1:J388,J388)-1,\"\")","v":368},"S.US.NEU","S.US.SWK",{"$f":"RTD(\"cqg.rtd\", ,\"ContractData\",O388, \"PerCentNetLastTrade\",, \"T\")/100","v":-7.3866154527995272E-5},"https://finance.yahoo.com/quote/SWK",null,{"$error":"#N/A"},7.3866154527995272E-5,null,{"$f":"RTD(\"cqg.rtd\", ,\"ContractData\",O388, \"LongDescription\",, \"T\")","v":"Stanley Black and Decker Inc"},null,null,-7.3866154527995272E-5,null,{"$error":"#N/A"},0,null,"",7.3866154527995272E-5,-7.3866154527995272E-5]
[null,null,"S.US.NFLX",{"$f":"RTD(\"cqg.rtd\", ,\"ContractData\",C389, \"LongDescription\",, \"T\")","v":"Netflix Inc"},{"$f":"RTD(\"cqg.rtd\", ,\"ContractData\",C389, \"Open\",, \"T\")","v":158.35},{"$f":"RTD(\"cqg.rtd\", ,\"ContractData\",C389, \"High\",, \"T\")","v":158.47999999999999},{"$f":"RTD(\"cqg.rtd\", ,\"ContractData\",C389, \"Low\",, \"T\")","v":157.21},{"$f":"RTD(\"cqg.rtd\", ,\"ContractData\",C389, \"LastTradeToday\",, \"T\")","v":157.53},{"$f":"RTD(\"cqg.rtd\", ,\"ContractData\",C389, \"NetLastTradeToday\",, \"T\")","v":-0.42},{"$f":"IFERROR(RTD(\"cqg.rtd\", ,\"ContractData\",C389, \"PerCentNetLastTrade\",, \"T\")/100,\"\")","v":-2.6590693257359924E-3},{"$f":"RTD(\"cqg.rtd\", ,\"ContractData\", C389, \"T_CVol\",, \"T\")","v":1902433},389,{"$f":"IFERROR(RANK($J389,$J$1:J$607)+COUNTIF($J$1:J389,J389)-1,\"\")","v":447},"S.US.NFLX","S.US.ARE",{"$f":"RTD(\"cqg.rtd\", ,\"ContractData\",O389, \"PerCentNetLastTrade\",, \"T\")/100","v":-8.430992327796982E-5},"https://finance.yahoo.com/quote/ARE",null,{"$error":"#N/A"},8.430992327796982E-5,null,{"$f":"RTD(\"cqg.rtd\", ,\"ContractData\",O389, \"LongDescription\",, \"T\")","v":"Alexandria Real Estate Equities Inc"},null,null,-8.430992327796982E-5,null,{"$error":"#N/A"},0,null,"",8.430992327796982E-5,-8.430992327796982E-5]
[null,null,"S.US.NFX",{"$f":"RTD(\"cqg.rtd\", ,\"ContractData\",C390, \"LongDescription\",, \"T\")","v":"Newfield Exploration Co"},{"$f":"RTD(\"cqg.rtd\", ,\"ContractData\",C390, \"Open\",, \"T\")","v":33.78},{"$f":"RTD(\"cqg.rtd\", ,\"ContractData\",C390, \"High\",, \"T\")","v":34.410000000000004},{"$f":"RTD(\"cqg.rtd\", ,\"ContractData\",C390, \"Low\",, \"T\")","v":33.590000000000003},{"$f":"RTD(\"cqg.rtd\", ,\"ContractData\",C390, \"LastTradeToday\",, \"T\")","v":33.76},{"$f":"RTD(\"cqg.rtd\", ,\"ContractData\",C390, \"NetLastTradeToday\",, \"T\")","v":-0.02},{"$f":"IFERROR(RTD(\"cqg.rtd\", ,\"ContractData\",C390, \"PerCentNetLastTrade\",, \"T\")/100,\"\")","v":-5.9206631142687987E-4},{"$f":"RTD(\"cqg.rtd\", ,\"ContractData\", C390, \"T_CVol\",, \"T\")","v":1365751},390,{"$f":"IFERROR(RANK($J390,$J$1:J$607)+COUNTIF($J$1:J390,J390)-1,\"\")","v":406},"S.US.NFX","S.US.ALGN",{"$f":"RTD(\"cqg.rtd\", ,\"ContractData\",O390, \"PerCentNetLastTrade\",, \"T\")/100","v":-1.446968600781363E-4},"https://finance.yahoo.com/quote/ALGN",null,{"$error":"#N/A"},1.446968600781363E-4,null,{"$f":"RTD(\"cqg.rtd\", ,\"ContractData\",O390, \"LongDescription\",, \"T\")","v":"Align Technology Inc"},null,null,-1.446968600781363E-4,null,{"$error":"#N/A"},0,null,"",1.446968600781363E-4,-1.446968600781363E-4]
[null,null,"S.US.NKE",{"$f":"RTD(\"cqg.rtd\", ,\"ContractData\",C391, \"LongDescription\",, \"T\")","v":"NIKE Inc ClsB"},{"$f":"RTD(\"cqg.rtd\", ,\"ContractData\",C391, \"Open\",, \"T\")","v":52.25},{"$f":"RTD(\"cqg.rtd\", ,\"ContractData\",C391, \"High\",, \"T\")","v":52.300000000000004},{"$f":"RTD(\"cqg.rtd\", ,\"ContractData\",C391, \"Low\",, \"T\")","v":51.74},{"$f":"RTD(\"cqg.rtd\", ,\"ContractData\",C391, \"LastTradeToday\",, \"T\")","v":52.04},{"$f":"RTD(\"cqg.rtd\", ,\"ContractData\",C391, \"NetLastTradeToday\",, \"T\")","v":-0.16},{"$f":"IFERROR(RTD(\"cqg.rtd\", ,\"ContractData\",C391, \"PerCentNetLastTrade\",, \"T\")/100,\"\")","v":-3.0651340996168579E-3},{"$f":"RTD(\"cqg.rtd\", ,\"ContractData\", C391, \"T_CVol\",, \"T\")","v":5628136},391,{"$f":"IFERROR(RANK($J391,$J$1:J$607)+COUNTIF($J$1:J391,J391)-1,\"\")","v":454},"S.US.NKE","S.US.MMM",{"$f":"RTD(\"cqg.rtd\", ,\"ContractData\",O391, \"PerCentNetLastTrade\",, \"T\")/100","v":-1.5172204521316947E-4},"https://finance.yahoo.com/quote/MMM",null,{"$error":"#N/A"},1.5172204521316947E-4,null,{"$f":"RTD(\"cqg.rtd\", ,\"ContractData\",O391, \"LongDescription\",, \"T\")","v":"3M Company"},null,null,-1.5172204521316947E-4,null,{"$error":"#N/A"},0,null,"",1.5172204521316947E-4,-1.5172204521316947E-4]
[null,null,"S.US.NLSN",{"$f":"RTD(\"cqg.rtd\", ,\"ContractData\",C392, \"LongDescription\",, \"T\")","v":"Nielsen N.V."},{"$f":"RTD(\"cqg.rtd\", ,\"ContractData\",C392, \"Open\",, \"T\")","v":39.17},{"$f":"RTD(\"cqg.rtd\", ,\"ContractData\",C392, \"High\",, \"T\")","v":39.21},{"$f":"RTD(\"cqg.rtd\", ,\"ContractData\",C392, \"Low\",, \"T\")","v":38.57},{"$f":"RTD(\"cqg.rtd\", ,\"ContractData\",C392, \"LastTradeToday\",, \"T\")","v":38.67},{"$f":"RTD(\"cqg.rtd\", ,\"ContractData\",C392, \"NetLastTradeToday\",, \"T\")","v":-0.44},{"$f":"IFERROR(RTD(\"cqg.rtd\", ,\"ContractData\",C392, \"PerCentNetLastTrade\",, \"T\")/100,\"\")","v":-1.1250319611352595E-2},{"$f":"RTD(\"cqg.rtd\", ,\"ContractData\", C392, \"T_CVol\",, \"T\")","v":1964874},392,{"$f":"IFERROR(RANK($J392,$J$1:J$607)+COUNTIF($J$1:J392,J392)-1,\"\")","v":556},"S.US.NLSN","S.US.JNJ",{"$f":"RTD(\"cqg.rtd\", ,\"ContractData\",O392, \"PerCentNetLastTrade\",, \"T\")/100","v":-1.5683814303638646E-4},"https://finance.yahoo.com/quote/JNJ",null,{"$error":"#N/A"},1.5683814303638646E-4,null,{"$f":"RTD(\"cqg.rtd\", ,\"ContractData\",O392, \"LongDescription\",, \"T\")","v":"Johnson & Johnson"},null,null,-1.5683814303638646E-4,null,{"$error":"#N/A"},0,null,"",1.5683814303638646E-4,-1.5683814303638646E-4]
[null,null,"S.US.NOC",{"$f":"RTD(\"cqg.rtd\", ,\"ContractData\",C393, \"LongDescription\",, \"T\")","v":"Northrop Grumman Corporation"},{"$f":"RTD(\"cqg.rtd\", ,\"ContractData\",C393, \"Open\",, \"T\")","v":251.25},{"$f":"RTD(\"cqg.rtd\", ,\"ContractData\",C393, \"High\",, \"T\")","v":253.22},{"$f":"RTD(\"cqg.rtd\", ,\"ContractData\",C393, \"Low\",, \"T\")","v":251},{"$f":"RTD(\"cqg.rtd\", ,\"ContractData\",C393, \"LastTradeToday\",, \"T\")","v":253.05},{"$f":"RTD(\"cqg.rtd\", ,\"ContractData\",C393, \"NetLastTradeToday\",, \"T\")","v":2.4},{"$f":"IFERROR(RTD(\"cqg.rtd\", ,\"ContractData\",C393, \"PerCentNetLastTrade\",, \"T\")/100,\"\")","v":9.5751047277079591E-3},{"$f":"RTD(\"cqg.rtd\", ,\"ContractData\", C393, \"T_CVol\",, \"T\")","v":292278},393,{"$f":"IFERROR(RANK($J393,$J$1:J$607)+COUNTIF($J$1:J393,J393)-1,\"\")","v":113},"S.US.NOC","S.US.EVHC",{"$f":"RTD(\"cqg.rtd\", ,\"ContractData\",O393, \"PerCentNetLastTrade\",, \"T\")/100","v":-1.7998560115190784E-4},"https://finance.yahoo.com/quote/EVHC",null,{"$error":"#N/A"},1.7998560115190784E-4,null,{"$f":"RTD(\"cqg.rtd\", ,\"ContractData\",O393, \"LongDescription\",, \"T\")","v":"Envision Healthcare Corporation"},null,null,-1.7998560115190784E-4,null,{"$error":"#N/A"},0,null,"",1.7998560115190784E-4,-1.7998560115190784E-4]
[null,null,"S.US.NOW",{"$f":"RTD(\"cqg.rtd\", ,\"ContractData\",C394, \"LongDescription\",, \"T\")","v":"ServiceNow, Inc."},{"$f":"RTD(\"cqg.rtd\", ,\"ContractData\",C394, \"Open\",, \"T\")","v":102.53},{"$f":"RTD(\"cqg.rtd\", ,\"ContractData\",C394, \"High\",, \"T\")","v":103.92},{"$f":"RTD(\"cqg.rtd\", ,\"ContractData\",C394, \"Low\",, \"T\")","v":101.83},{"$f":"RTD(\"cqg.rtd\", ,\"ContractData\",C394, \"LastTradeToday\",, \"T\")","v":102.04},{"$f":"RTD(\"cqg.rtd\", ,\"ContractData\",C394, \"NetLastTradeToday\",, \"T\")","v":0.34},{"$f":"IFERROR(RTD(\"cqg.rtd\", ,\"ContractData\",C394, \"PerCentNetLastTrade\",, \"T\")/100,\"\")","v":3.3431661750245823E-3},{"$f":"RTD(\"cqg.rtd\", ,\"ContractData\", C394, \"T_CVol\",, \"T\")","v":1293209},394,{"$f":"IFERROR(RANK($J394,$J$1:J$607)+COUNTIF($J$1:J394,J394)-1,\"\")","v":263},"S.US.NOW","S.US.JCI",{"$f":"RTD(\"cqg.rtd\", ,\"ContractData\",O394, \"PerCentNetLastTrade\",, \"T\")/100","v":-2.3820867079561698E-4},"https://finance.yahoo.com/quote/JCI",null,{"$error":"#N/A"},2.3820867079561698E-4,null,{"$f":"RTD(\"cqg.rtd\", ,\"ContractData\",O394, \"LongDescription\",, \"T\")","v":"Johnson Controls International plc"},null,null,-2.3820867079561698E-4,null,{"$error":"#N/A"},0,null,"",2.3820867079561698E-4,-2.3820867079561698E-4]
[null,null,"S.US.NTNX",{"$f":"RTD(\"cqg.rtd\", ,\"ContractData\",C395, \"LongDescription\",, \"T\")","v":"Nutanix, Inc. Class A"},{"$f":"RTD(\"cqg.rtd\", ,\"ContractData\",C395, \"Open\",, \"T\")","v":17.150000000000002},{"$f":"RTD(\"cqg.rtd\", ,\"ContractData\",C395, \"High\",, \"T\")","v":17.86},{"$f":"RTD(\"cqg.rtd\", ,\"ContractData\",C395, \"Low\",, \"T\")","v":17.03},{"$f":"RTD(\"cqg.rtd\", ,\"ContractData\",C395, \"LastTradeToday\",, \"T\")","v":17.66},{"$f":"RTD(\"cqg.rtd\", ,\"ContractData\",C395, \"NetLastTradeToday\",, \"T\")","v":0.64},{"$f":"IFERROR(RTD(\"cqg.rtd\", ,\"ContractData\",C395, \"PerCentNetLastTrade\",, \"T\")/100,\"\")","v":3.7602820211515862E-2},{"$f":"RTD(\"cqg.rtd\", ,\"ContractData\", C395, \"T_CVol\",, \"T\")","v":2201421},395,{"$f":"IFERROR(RANK($J395,$J$1:J$607)+COUNTIF($J$1:J395,J395)-1,\"\")","v":6},"S.US.NTNX","S.US.WST",{"$f":"RTD(\"cqg.rtd\", ,\"ContractData\",O395, \"PerCentNetLastTrade\",, \"T\")/100","v":-3.1479538300104926E-4},"https://finance.yahoo.com/quote/WST",null,{"$error":"#N/A"},3.1479538300104926E-4,null,{"$f":"RTD(\"cqg.rtd\", ,\"ContractData\",O395, \"LongDescription\",, \"T\")","v":"West Pharmaceuticals Svcs Inc"},null,null,-3.1479538300104926E-4,null,{"$error":"#N/A"},0,null,"",3.1479538300104926E-4,-3.1479538300104926E-4]
[null,null,"S.US.NUAN",{"$f":"RTD(\"cqg.rtd\", ,\"ContractData\",C396, \"LongDescription\",, \"T\")","v":"Nuance Communications"},{"$f":"RTD(\"cqg.rtd\", ,\"ContractData\",C396, \"Open\",, \"T\")","v":18.809999999999999},{"$f":"RTD(\"cqg.rtd\", ,\"ContractData\",C396, \"High\",, \"T\")","v":18.91},{"$f":"RTD(\"cqg.rtd\", ,\"ContractData\",C396, \"Low\",, \"T\")","v":18.72},{"$f":"RTD(\"cqg.rtd\", ,\"ContractData\",C396, \"LastTradeToday\",, \"T\")","v":18.77},{"$f":"RTD(\"cqg.rtd\", ,\"ContractData\",C396, \"NetLastTradeToday\",, \"T\")","v":-0.05},{"$f":"IFERROR(RTD(\"cqg.rtd\", ,\"ContractData\",C396, \"PerCentNetLastTrade\",, \"T\")/100,\"\")","v":-2.6567481402763014E-3},{"$f":"RTD(\"cqg.rtd\", ,\"ContractData\", C396, \"T_CVol\",, \"T\")","v":1135776},396,{"$f":"IFERROR(RANK($J396,$J$1:J$607)+COUNTIF($J$1:J396,J396)-1,\"\")","v":446},"S.US.NUAN","S.US.POOL",{"$f":"RTD(\"cqg.rtd\", ,\"ContractData\",O396, \"PerCentNetLastTrade\",, \"T\")/100","v":-3.3481208671633044E-4},"https://finance.yahoo.com/quote/POOL",null,{"$error":"#N/A"},3.3481208671633044E-4,null,{"$f":"RTD(\"cqg.rtd\", ,\"ContractData\",O396, \"LongDescription\",, \"T\")","v":"Pool Corporation"},null,null,-3.3481208671633044E-4,null,{"$error":"#N/A"},0,null,"",3.3481208671633044E-4,-3.3481208671633044E-4]
[null,null,"S.US.NUS",{"$f":"RTD(\"cqg.rtd\", ,\"ContractData\",C397, \"LongDescription\",, \"T\")","v":"Nu Skin Asia Pacific Inc"},{"$f":"RTD(\"cqg.rtd\", ,\"ContractData\",C397, \"Open\",, \"T\")","v":55.24},{"$f":"RTD(\"cqg.rtd\", ,\"ContractData\",C397, \"High\",, \"T\")","v":55.7},{"$f":"RTD(\"cqg.rtd\", ,\"ContractData\",C397, \"Low\",, \"T\")","v":54.77},{"$f":"RTD(\"cqg.rtd\", ,\"ContractData\",C397, \"LastTradeToday\",, \"T\")","v":55.52},{"$f":"RTD(\"cqg.rtd\", ,\"ContractData\",C397, \"NetLastTradeToday\",, \"T\")","v":0.33},{"$f":"IFERROR(RTD(\"cqg.rtd\", ,\"ContractData\",C397, \"PerCentNetLastTrade\",, \"T\")/100,\"\")","v":5.9793440840732017E-3},{"$f":"RTD(\"cqg.rtd\", ,\"ContractData\", C397, \"T_CVol\",, \"T\")","v":124548},397,{"$f":"IFERROR(RANK($J397,$J$1:J$607)+COUNTIF($J$1:J397,J397)-1,\"\")","v":193},"S.US.NUS","S.US.NWL",{"$f":"RTD(\"cqg.rtd\", ,\"ContractData\",O397, \"PerCentNetLastTrade\",, \"T\")/100","v":-3.7850113550340651E-4},"https://finance.yahoo.com/quote/NWL",null,{"$error":"#N/A"},3.7850113550340651E-4,null,{"$f":"RTD(\"cqg.rtd\", ,\"ContractData\",O397, \"LongDescription\",, \"T\")","v":"Newell Brands Inc."},null,null,-3.7850113550340651E-4,null,{"$error":"#N/A"},0,null,"",3.7850113550340651E-4,-3.7850113550340651E-4]
[null,null,"S.US.NVDA",{"$f":"RTD(\"cqg.rtd\", ,\"ContractData\",C398, \"LongDescription\",, \"T\")","v":"NVIDIA Corp"},{"$f":"RTD(\"cqg.rtd\", ,\"ContractData\",C398, \"Open\",, \"T\")","v":140.96},{"$f":"RTD(\"cqg.rtd\", ,\"ContractData\",C398, \"High\",, \"T\")","v":141.07},{"$f":"RTD(\"cqg.rtd\", ,\"ContractData\",C398, \"Low\",, \"T\")","v":138.08000000000001},{"$f":"RTD(\"cqg.rtd\", ,\"ContractData\",C398, \"LastTradeToday\",, \"T\")","v":138.96},{"$f":"RTD(\"cqg.rtd\", ,\"ContractData\",C398, \"NetLastTradeToday\",, \"T\")","v":1.93},{"$f":"IFERROR(RTD(\"cqg.rtd\", ,\"ContractData\",C398, \"PerCentNetLastTrade\",, \"T\")/100,\"\")","v":1.408450704225352E-2},{"$f":"RTD(\"cqg.rtd\", ,\"ContractData\", C398, \"T_CVol\",, \"T\")","v":16841078},398,{"$f":"IFERROR(RANK($J398,$J$1:J$607)+COUNTIF($J$1:J398,J398)-1,\"\")","v":61},"S.US.NVDA","S.US.PHM",{"$f":"RTD(\"cqg.rtd\", ,\"ContractData\",O398, \"PerCentNetLastTrade\",, \"T\")/100","v":-4.3630017452006982E-4},"https://finance.yahoo.com/quote/PHM",null,{"$error":"#N/A"},4.3630017452006982E-4,null,{"$f":"RTD(\"cqg.rtd\", ,\"ContractData\",O398, \"LongDescription\",, \"T\")","v":"PulteGroup Inc"},null,null,-4.3630017452006982E-4,null,{"$error":"#N/A"},0,null,"",4.3630017452006982E-4,-4.3630017452006982E-4]
[null,null,"S.US.NVR",{"$f":"RTD(\"cqg.rtd\", ,\"ContractData\",C399, \"LongDescription\",, \"T\")","v":"NVR Inc"},{"$f":"RTD(\"cqg.rtd\", ,\"ContractData\",C399, \"Open\",, \"T\")","v":2291.9900000000002},{"$f":"RTD(\"cqg.rtd\", ,\"ContractData\",C399, \"High\",, \"T\")","v":2304.36},{"$f":"RTD(\"cqg.rtd\", ,\"ContractData\",C399, \"Low\",, \"T\")","v":2280.9900000000002},{"$f":"RTD(\"cqg.rtd\", ,\"ContractData\",C399, \"LastTradeToday\",, \"T\")","v":2297.14},{"$f":"RTD(\"cqg.rtd\", ,\"ContractData\",C399, \"NetLastTradeToday\",, \"T\")","v":1.1400000000000001},{"$f":"IFERROR(RTD(\"cqg.rtd\", ,\"ContractData\",C399, \"PerCentNetLastTrade\",, \"T\")/100,\"\")","v":4.9651567944250876E-4},{"$f":"RTD(\"cqg.rtd\", ,\"ContractData\", C399, \"T_CVol\",, \"T\")","v":12718},399,{"$f":"IFERROR(RANK($J399,$J$1:J$607)+COUNTIF($J$1:J399,J399)-1,\"\")","v":372},"S.US.NVR","S.US.MSFT",{"$f":"RTD(\"cqg.rtd\", ,\"ContractData\",O399, \"PerCentNetLastTrade\",, \"T\")/100","v":-4.3680838672102506E-4},"https://finance.yahoo.com/quote/MSFT",null,{"$error":"#N/A"},4.3680838672102506E-4,null,{"$f":"RTD(\"cqg.rtd\", ,\"ContractData\",O399, \"LongDescription\",, \"T\")","v":"Microsoft Corporation"},null,null,-4.3680838672102506E-4,null,{"$error":"#N/A"},0,null,"",4.3680838672102506E-4,-4.3680838672102506E-4]
[null,null,"S.US.NWL",{"$f":"RTD(\"cqg.rtd\", ,\"ContractData\",C400, \"LongDescription\",, \"T\")","v":"Newell Brands Inc."},{"$f":"RTD(\"cqg.rtd\", ,\"ContractData\",C400, \"Open\",, \"T\")","v":52.81},{"$f":"RTD(\"cqg.rtd\", ,\"ContractData\",C400, \"High\",, \"T\")","v":52.910000000000004},{"$f":"RTD(\"cqg.rtd\", ,\"ContractData\",C400, \"Low\",, \"T\")","v":52.32},{"$f":"RTD(\"cqg.rtd\", ,\"ContractData\",C400, \"LastTradeToday\",, \"T\")","v":52.82},{"$f":"RTD(\"cqg.rtd\", ,\"ContractData\",C400, \"NetLastTradeToday\",, \"T\")","v":-0.02},{"$f":"IFERROR(RTD(\"cqg.rtd\", ,\"ContractData\",C400, \"PerCentNetLastTrade\",, \"T\")/100,\"\")","v":-3.7850113550340651E-4},{"$f":"RTD(\"cqg.rtd\", ,\"ContractData\", C400, \"T_CVol\",, \"T\")","v":1355553},400,{"$f":"IFERROR(RANK($J400,$J$1:J$607)+COUNTIF($J$1:J400,J400)-1,\"\")","v":397},"S.US.NWL","S.US.ADI",{"$f":"RTD(\"cqg.rtd\", ,\"ContractData\",O400, \"PerCentNetLastTrade\",, \"T\")/100","v":-4.880429477794046E-4},"https://finance.yahoo.com/quote/ADI",null,{"$error":"#N/A"},4.880429477794046E-4,null,{"$f":"RTD(\"cqg.rtd\", ,\"ContractData\",O400, \"LongDescription\",, \"T\")","v":"Analog Devices Inc"},null,null,-4.880429477794046E-4,null,{"$error":"#N/A"},0,null,"",4.880429477794046E-4,-4.880429477794046E-4]
[null,null,"S.US.ODFL",{"$f":"RTD(\"cqg.rtd\", ,\"ContractData\",C401, \"LongDescription\",, \"T\")","v":"Old Dominion Freight Line Inc"},{"$f":"RTD(\"cqg.rtd\", ,\"ContractData\",C401, \"Open\",, \"T\")","v":88.18},{"$f":"RTD(\"cqg.rtd\", ,\"ContractData\",C401, \"High\",, \"T\")","v":89.460000000000008},{"$f":"RTD(\"cqg.rtd\", ,\"ContractData\",C401, \"Low\",, \"T\")","v":87.74},{"$f":"RTD(\"cqg.rtd\", ,\"ContractData\",C401, \"LastTradeToday\",, \"T\")","v":88.68},{"$f":"RTD(\"cqg.rtd\", ,\"ContractData\",C401, \"NetLastTradeToday\",, \"T\")","v":0.87},{"$f":"IFERROR(RTD(\"cqg.rtd\", ,\"ContractData\",C401, \"PerCentNetLastTrade\",, \"T\")/100,\"\")","v":9.9077553809361115E-3},{"$f":"RTD(\"cqg.rtd\", ,\"ContractData\", C401, \"T_CVol\",, \"T\")","v":353626},401,{"$f":"IFERROR(RANK($J401,$J$1:J$607)+COUNTIF($J$1:J401,J401)-1,\"\")","v":106},"S.US.ODFL","S.US.LVS",{"$f":"RTD(\"cqg.rtd\", ,\"ContractData\",O401, \"PerCentNetLastTrade\",, \"T\")/100","v":-5.2146706066400134E-4},"https://finance.yahoo.com/quote/LVS",null,{"$error":"#N/A"},5.2146706066400134E-4,null,{"$f":"RTD(\"cqg.rtd\", ,\"ContractData\",O401, \"LongDescription\",, \"T\")","v":"Las Vegas Sands Corp"},null,null,-5.2146706066400134E-4,null,{"$error":"#N/A"},0,null,"",5.2146706066400134E-4,-5.2146706066400134E-4]
[null,null,"S.US.OHI",{"$f":"RTD(\"cqg.rtd\", ,\"ContractData\",C402, \"LongDescription\",, \"T\")","v":"Omega Hlthcare Investors Inc"},{"$f":"RTD(\"cqg.rtd\", ,\"ContractData\",C402, \"Open\",, \"T\")","v":33.380000000000003},{"$f":"RTD(\"cqg.rtd\", ,\"ContractData\",C402, \"High\",, \"T\")","v":33.69},{"$f":"RTD(\"cqg.rtd\", ,\"ContractData\",C402, \"Low\",, \"T\")","v":33.130000000000003},{"$f":"RTD(\"cqg.rtd\", ,\"ContractData\",C402, \"LastTradeToday\",, \"T\")","v":33.35},{"$f":"RTD(\"cqg.rtd\", ,\"ContractData\",C402, \"NetLastTradeToday\",, \"T\")","v":7.0000000000000007E-2},{"$f":"IFERROR(RTD(\"cqg.rtd\", ,\"ContractData\",C402, \"PerCentNetLastTrade\",, \"T\")/100,\"\")","v":2.1033653846153845E-3},{"$f":"RTD(\"cqg.rtd\", ,\"ContractData\", C402, \"T_CVol\",, \"T\")","v":1705975},402,{"$f":"IFERROR(RANK($J402,$J$1:J$607)+COUNTIF($J$1:J402,J402)-1,\"\")","v":318},"S.US.OHI","S.US.AJG",{"$f":"RTD(\"cqg.rtd\", ,\"ContractData\",O402, \"PerCentNetLastTrade\",, \"T\")/100","v":-5.2919386135120831E-4},"https://finance.yahoo.com/quote/AJG",null,{"$error":"#N/A"},5.2919386135120831E-4,null,{"$f":"RTD(\"cqg.rtd\", ,\"ContractData\",O402, \"LongDescription\",, \"T\")","v":"Arthur J Gallagher Co"},null,null,-5.2919386135120831E-4,null,{"$error":"#N/A"},0,null,"",5.2919386135120831E-4,-5.2919386135120831E-4]
[null,null,"S.US.OI",{"$f":"RTD(\"cqg.rtd\", ,\"ContractData\",C403, \"LongDescription\",, \"T\")","v":"Owens-Illinois Inc"},{"$f":"RTD(\"cqg.rtd\", ,\"ContractData\",C403, \"Open\",, \"T\")","v":22.04},{"$f":"RTD(\"cqg.rtd\", ,\"ContractData\",C403, \"High\",, \"T\")","v":22.21},{"$f":"RTD(\"cqg.rtd\", ,\"ContractData\",C403, \"Low\",, \"T\")","v":22.02},{"$f":"RTD(\"cqg.rtd\", ,\"ContractData\",C403, \"LastTradeToday\",, \"T\")","v":22.14},{"$f":"RTD(\"cqg.rtd\", ,\"ContractData\",C403, \"NetLastTradeToday\",, \"T\")","v":7.0000000000000007E-2},{"$f":"IFERROR(RTD(\"cqg.rtd\", ,\"ContractData\",C403, \"PerCentNetLastTrade\",, \"T\")/100,\"\")","v":3.1717263253285E-3},{"$f":"RTD(\"cqg.rtd\", ,\"ContractData\", C403, \"T_CVol\",, \"T\")","v":233175},403,{"$f":"IFERROR(RANK($J403,$J$1:J$607)+COUNTIF($J$1:J403,J403)-1,\"\")","v":271},"S.US.OI","S.US.TOL",{"$f":"RTD(\"cqg.rtd\", ,\"ContractData\",O403, \"PerCentNetLastTrade\",, \"T\")/100","v":-5.2938062466913714E-4},"https://finance.yahoo.com/quote/TOL",null,{"$error":"#N/A"},5.2938062466913714E-4,null,{"$f":"RTD(\"cqg.rtd\", ,\"ContractData\",O403, \"LongDescription\",, \"T\")","v":"Toll Brothers Inc"},null,null,-5.2938062466913714E-4,null,{"$error":"#N/A"},0,null,"",5.2938062466913714E-4,-5.2938062466913714E-4]
[null,null,"S.US.OKE",{"$f":"RTD(\"cqg.rtd\", ,\"ContractData\",C404, \"LongDescription\",, \"T\")","v":"ONEOK Inc New"},{"$f":"RTD(\"cqg.rtd\", ,\"ContractData\",C404, \"Open\",, \"T\")","v":52.120000000000005},{"$f":"RTD(\"cqg.rtd\", ,\"ContractData\",C404, \"High\",, \"T\")","v":53.01},{"$f":"RTD(\"cqg.rtd\", ,\"ContractData\",C404, \"Low\",, \"T\")","v":52.11},{"$f":"RTD(\"cqg.rtd\", ,\"ContractData\",C404, \"LastTradeToday\",, \"T\")","v":52.7},{"$f":"RTD(\"cqg.rtd\", ,\"ContractData\",C404, \"NetLastTradeToday\",, \"T\")","v":0.47000000000000003},{"$f":"IFERROR(RTD(\"cqg.rtd\", ,\"ContractData\",C404, \"PerCentNetLastTrade\",, \"T\")/100,\"\")","v":8.9986597740762016E-3},{"$f":"RTD(\"cqg.rtd\", ,\"ContractData\", C404, \"T_CVol\",, \"T\")","v":1746304},404,{"$f":"IFERROR(RANK($J404,$J$1:J$607)+COUNTIF($J$1:J404,J404)-1,\"\")","v":121},"S.US.OKE","S.US.IDXX",{"$f":"RTD(\"cqg.rtd\", ,\"ContractData\",O404, \"PerCentNetLastTrade\",, \"T\")/100","v":-5.4811205846528623E-4},"https://finance.yahoo.com/quote/IDXX",null,{"$error":"#N/A"},5.4811205846528623E-4,null,{"$f":"RTD(\"cqg.rtd\", ,\"ContractData\",O404, \"LongDescription\",, \"T\")","v":"IDEXX Laboratories Inc"},null,null,-5.4811205846528623E-4,null,{"$error":"#N/A"},0,null,"",5.4811205846528623E-4,-5.4811205846528623E-4]
[null,null,"S.US.OMC",{"$f":"RTD(\"cqg.rtd\", ,\"ContractData\",C405, \"LongDescription\",, \"T\")","v":"Omnicom Group Inc"},{"$f":"RTD(\"cqg.rtd\", ,\"ContractData\",C405, \"Open\",, \"T\")","v":82.98},{"$f":"RTD(\"cqg.rtd\", ,\"ContractData\",C405, \"High\",, \"T\")","v":83.27},{"$f":"RTD(\"cqg.rtd\", ,\"ContractData\",C405, \"Low\",, \"T\")","v":82.81},{"$f":"RTD(\"cqg.rtd\", ,\"ContractData\",C405, \"LastTradeToday\",, \"T\")","v":83.11},{"$f":"RTD(\"cqg.rtd\", ,\"ContractData\",C405, \"NetLastTradeToday\",, \"T\")","v":0.19},{"$f":"IFERROR(RTD(\"cqg.rtd\", ,\"ContractData\",C405, \"PerCentNetLastTrade\",, \"T\")/100,\"\")","v":2.2913651712493971E-3},{"$f":"RTD(\"cqg.rtd\", ,\"ContractData\", C405, \"T_CVol\",, \"T\")","v":372460},405,{"$f":"IFERROR(RANK($J405,$J$1:J$607)+COUNTIF($J$1:J405,J405)-1,\"\")","v":309},"S.US.OMC","S.US.WYNN",{"$f":"RTD(\"cqg.rtd\", ,\"ContractData\",O405, \"PerCentNetLastTrade\",, \"T\")/100","v":-5.6383407168747489E-4},"https://finance.yahoo.com/quote/WYNN",null,{"$error":"#N/A"},5.6383407168747489E-4,null,{"$f":"RTD(\"cqg.rtd\", ,\"ContractData\",O405, \"LongDescription\",, \"T\")","v":"Wynn Resorts Ltd"},null,null,-5.6383407168747489E-4,null,{"$error":"#N/A"},0,null,"",5.6383407168747489E-4,-5.6383407168747489E-4]
[null,null,"S.US.ON",{"$f":"RTD(\"cqg.rtd\", ,\"ContractData\",C406, \"LongDescription\",, \"T\")","v":"ON Semiconductor Corp"},{"$f":"RTD(\"cqg.rtd\", ,\"ContractData\",C406, \"Open\",, \"T\")","v":15.38},{"$f":"RTD(\"cqg.rtd\", ,\"ContractData\",C406, \"High\",, \"T\")","v":15.55},{"$f":"RTD(\"cqg.rtd\", ,\"ContractData\",C406, \"Low\",, \"T\")","v":15.36},{"$f":"RTD(\"cqg.rtd\", ,\"ContractData\",C406, \"LastTradeToday\",, \"T\")","v":15.47},{"$f":"RTD(\"cqg.rtd\", ,\"ContractData\",C406, \"NetLastTradeToday\",, \"T\")","v":0.18},{"$f":"IFERROR(RTD(\"cqg.rtd\", ,\"ContractData\",C406, \"PerCentNetLastTrade\",, \"T\")/100,\"\")","v":1.1772400261608895E-2},{"$f":"RTD(\"cqg.rtd\", ,\"ContractData\", C406, \"T_CVol\",, \"T\")","v":2072687},406,{"$f":"IFERROR(RANK($J406,$J$1:J$607)+COUNTIF($J$1:J406,J406)-1,\"\")","v":80},"S.US.ON","S.US.NFX",{"$f":"RTD(\"cqg.rtd\", ,\"ContractData\",O406, \"PerCentNetLastTrade\",, \"T\")/100","v":-5.9206631142687987E-4},"https://finance.yahoo.com/quote/NFX",null,{"$error":"#N/A"},5.9206631142687987E-4,null,{"$f":"RTD(\"cqg.rtd\", ,\"ContractData\",O406, \"LongDescription\",, \"T\")","v":"Newfield Exploration Co"},null,null,-5.9206631142687987E-4,null,{"$error":"#N/A"},0,null,"",5.9206631142687987E-4,-5.9206631142687987E-4]
[null,null,"S.US.OPK",{"$f":"RTD(\"cqg.rtd\", ,\"ContractData\",C407, \"LongDescription\",, \"T\")","v":"Opko Health, Inc."},{"$f":"RTD(\"cqg.rtd\", ,\"ContractData\",C407, \"Open\",, \"T\")","v":6.48},{"$f":"RTD(\"cqg.rtd\", ,\"ContractData\",C407, \"High\",, \"T\")","v":6.49},{"$f":"RTD(\"cqg.rtd\", ,\"ContractData\",C407, \"Low\",, \"T\")","v":6.37},{"$f":"RTD(\"cqg.rtd\", ,\"ContractData\",C407, \"LastTradeToday\",, \"T\")","v":6.4},{"$f":"RTD(\"cqg.rtd\", ,\"ContractData\",C407, \"NetLastTradeToday\",, \"T\")","v":-0.14000000000000001},{"$f":"IFERROR(RTD(\"cqg.rtd\", ,\"ContractData\",C407, \"PerCentNetLastTrade\",, \"T\")/100,\"\")","v":-2.140672782874618E-2},{"$f":"RTD(\"cqg.rtd\", ,\"ContractData\", C407, \"T_CVol\",, \"T\")","v":2340306},407,{"$f":"IFERROR(RANK($J407,$J$1:J$607)+COUNTIF($J$1:J407,J407)-1,\"\")","v":586},"S.US.OPK","S.US.AKRX",{"$f":"RTD(\"cqg.rtd\", ,\"ContractData\",O407, \"PerCentNetLastTrade\",, \"T\")/100","v":-6.0277275467148883E-4},"https://finance.yahoo.com/quote/AKRX",null,{"$error":"#N/A"},6.0277275467148883E-4,null,{"$f":"RTD(\"cqg.rtd\", ,\"ContractData\",O407, \"LongDescription\",, \"T\")","v":"Akorn Inc"},null,null,-6.0277275467148883E-4,null,{"$error":"#N/A"},0,null,"",6.0277275467148883E-4,-6.0277275467148883E-4]
[null,null,"S.US.ORCL",{"$f":"RTD(\"cqg.rtd\", ,\"ContractData\",C408, \"LongDescription\",, \"T\")","v":"Oracle Corporation"},{"$f":"RTD(\"cqg.rtd\", ,\"ContractData\",C408, \"Open\",, \"T\")","v":44.65},{"$f":"RTD(\"cqg.rtd\", ,\"ContractData\",C408, \"High\",, \"T\")","v":44.75},{"$f":"RTD(\"cqg.rtd\", ,\"ContractData\",C408, \"Low\",, \"T\")","v":44.5},{"$f":"RTD(\"cqg.rtd\", ,\"ContractData\",C408, \"LastTradeToday\",, \"T\")","v":44.71},{"$f":"RTD(\"cqg.rtd\", ,\"ContractData\",C408, \"NetLastTradeToday\",, \"T\")","v":0.15},{"$f":"IFERROR(RTD(\"cqg.rtd\", ,\"ContractData\",C408, \"PerCentNetLastTrade\",, \"T\")/100,\"\")","v":3.3662477558348298E-3},{"$f":"RTD(\"cqg.rtd\", ,\"ContractData\", C408, \"T_CVol\",, \"T\")","v":3770967},408,{"$f":"IFERROR(RANK($J408,$J$1:J$607)+COUNTIF($J$1:J408,J408)-1,\"\")","v":260},"S.US.ORCL","S.US.SBAC",{"$f":"RTD(\"cqg.rtd\", ,\"ContractData\",O408, \"PerCentNetLastTrade\",, \"T\")/100","v":-6.7009157918248826E-4},"https://finance.yahoo.com/quote/SBAC",null,{"$error":"#N/A"},6.7009157918248826E-4,null,{"$f":"RTD(\"cqg.rtd\", ,\"ContractData\",O408, \"LongDescription\",, \"T\")","v":"SBA Comms Corp"},null,null,-6.7009157918248826E-4,null,{"$error":"#N/A"},0,null,"",6.7009157918248826E-4,-6.7009157918248826E-4]
[null,null,"S.US.ORLY",{"$f":"RTD(\"cqg.rtd\", ,\"ContractData\",C409, \"LongDescription\",, \"T\")","v":"OReilly Automotive Inc"},{"$f":"RTD(\"cqg.rtd\", ,\"ContractData\",C409, \"Open\",, \"T\")","v":239.53},{"$f":"RTD(\"cqg.rtd\", ,\"ContractData\",C409, \"High\",, \"T\")","v":241.38},{"$f":"RTD(\"cqg.rtd\", ,\"ContractData\",C409, \"Low\",, \"T\")","v":234.5},{"$f":"RTD(\"cqg.rtd\", ,\"ContractData\",C409, \"LastTradeToday\",, \"T\")","v":240.9},{"$f":"RTD(\"cqg.rtd\", ,\"ContractData\",C409, \"NetLastTradeToday\",, \"T\")","v":0.72},{"$f":"IFERROR(RTD(\"cqg.rtd\", ,\"ContractData\",C409, \"PerCentNetLastTrade\",, \"T\")/100,\"\")","v":2.9977516862353237E-3},{"$f":"RTD(\"cqg.rtd\", ,\"ContractData\", C409, \"T_CVol\",, \"T\")","v":1778707},409,{"$f":"IFERROR(RANK($J409,$J$1:J$607)+COUNTIF($J$1:J409,J409)-1,\"\")","v":281},"S.US.ORLY","S.US.CABO",{"$f":"RTD(\"cqg.rtd\", ,\"ContractData\",O409, \"PerCentNetLastTrade\",, \"T\")/100","v":-7.2098053352559477E-4},"https://finance.yahoo.com/quote/CABO",null,{"$error":"#N/A"},7.2098053352559477E-4,null,{"$f":"RTD(\"cqg.rtd\", ,\"ContractData\",O409, \"LongDescription\",, \"T\")","v":"Cable ONE, Inc."},null,null,-7.2098053352559477E-4,null,{"$error":"#N/A"},0,null,"",7.2098053352559477E-4,-7.2098053352559477E-4]
[null,null,"S.US.OUT",{"$f":"RTD(\"cqg.rtd\", ,\"ContractData\",C410, \"LongDescription\",, \"T\")","v":"Outfront Media Inc."},{"$f":"RTD(\"cqg.rtd\", ,\"ContractData\",C410, \"Open\",, \"T\")","v":22.990000000000002},{"$f":"RTD(\"cqg.rtd\", ,\"ContractData\",C410, \"High\",, \"T\")","v":23.080000000000002},{"$f":"RTD(\"cqg.rtd\", ,\"ContractData\",C410, \"Low\",, \"T\")","v":22.88},{"$f":"RTD(\"cqg.rtd\", ,\"ContractData\",C410, \"LastTradeToday\",, \"T\")","v":23},{"$f":"RTD(\"cqg.rtd\", ,\"ContractData\",C410, \"NetLastTradeToday\",, \"T\")","v":0},{"$f":"IFERROR(RTD(\"cqg.rtd\", ,\"ContractData\",C410, \"PerCentNetLastTrade\",, \"T\")/100,\"\")","v":0},{"$f":"RTD(\"cqg.rtd\", ,\"ContractData\", C410, \"T_CVol\",, \"T\")","v":246826},410,{"$f":"IFERROR(RANK($J410,$J$1:J$607)+COUNTIF($J$1:J410,J410)-1,\"\")","v":387},"S.US.OUT","S.US.WOOF",{"$f":"RTD(\"cqg.rtd\", ,\"ContractData\",O410, \"PerCentNetLastTrade\",, \"T\")/100","v":-7.6169749727965179E-4},"https://finance.yahoo.com/quote/WOOF",null,{"$error":"#N/A"},7.6169749727965179E-4,null,{"$f":"RTD(\"cqg.rtd\", ,\"ContractData\",O410, \"LongDescription\",, \"T\")","v":"VCA Inc."},null,null,-7.6169749727965179E-4,null,{"$error":"#N/A"},0,null,"",7.6169749727965179E-4,-7.6169749727965179E-4]
[null,null,"S.US.P",{"$f":"RTD(\"cqg.rtd\", ,\"ContractData\",C411, \"LongDescription\",, \"T\")","v":"Pandora Media, Inc."},{"$f":"RTD(\"cqg.rtd\", ,\"ContractData\",C411, \"Open\",, \"T\")","v":9.15},{"$f":"RTD(\"cqg.rtd\", ,\"ContractData\",C411, \"High\",, \"T\")","v":9.31},{"$f":"RTD(\"cqg.rtd\", ,\"ContractData\",C411, \"Low\",, \"T\")","v":9.1300000000000008},{"$f":"RTD(\"cqg.rtd\", ,\"ContractData\",C411, \"LastTradeToday\",, \"T\")","v":9.2000000000000011},{"$f":"RTD(\"cqg.rtd\", ,\"ContractData\",C411, \"NetLastTradeToday\",, \"T\")","v":0.06},{"$f":"IFERROR(RTD(\"cqg.rtd\", ,\"ContractData\",C411, \"PerCentNetLastTrade\",, \"T\")/100,\"\")","v":6.5645514223194746E-3},{"$f":"RTD(\"cqg.rtd\", ,\"ContractData\", C411, \"T_CVol\",, \"T\")","v":5944881},411,{"$f":"IFERROR(RANK($J411,$J$1:J$607)+COUNTIF($J$1:J411,J411)-1,\"\")","v":179},"S.US.P","S.US.FCX",{"$f":"RTD(\"cqg.rtd\", ,\"ContractData\",O411, \"PerCentNetLastTrade\",, \"T\")/100","v":-8.4175084175084182E-4},"https://finance.yahoo.com/quote/FCX",null,{"$error":"#N/A"},8.4175084175084182E-4,null,{"$f":"RTD(\"cqg.rtd\", ,\"ContractData\",O411, \"LongDescription\",, \"T\")","v":"Freeport-McMoRan Inc."},null,null,-8.4175084175084182E-4,null,{"$error":"#N/A"},0,null,"",8.4175084175084182E-4,-8.4175084175084182E-4]
[null,null,"S.US.PANW",{"$f":"RTD(\"cqg.rtd\", ,\"ContractData\",C412, \"LongDescription\",, \"T\")","v":"Palo Alto Networks, Inc."},{"$f":"RTD(\"cqg.rtd\", ,\"ContractData\",C412, \"Open\",, \"T\")","v":118.51},{"$f":"RTD(\"cqg.rtd\", ,\"ContractData\",C412, \"High\",, \"T\")","v":118.51},{"$f":"RTD(\"cqg.rtd\", ,\"ContractData\",C412, \"Low\",, \"T\")","v":116.74000000000001},{"$f":"RTD(\"cqg.rtd\", ,\"ContractData\",C412, \"LastTradeToday\",, \"T\")","v":117.99000000000001},{"$f":"RTD(\"cqg.rtd\", ,\"ContractData\",C412, \"NetLastTradeToday\",, \"T\")","v":-0.13},{"$f":"IFERROR(RTD(\"cqg.rtd\", ,\"ContractData\",C412, \"PerCentNetLastTrade\",, \"T\")/100,\"\")","v":-1.1005756857433119E-3},{"$f":"RTD(\"cqg.rtd\", ,\"ContractData\", C412, \"T_CVol\",, \"T\")","v":626914},412,{"$f":"IFERROR(RANK($J412,$J$1:J$607)+COUNTIF($J$1:J412,J412)-1,\"\")","v":418},"S.US.PANW","S.US.DHI",{"$f":"RTD(\"cqg.rtd\", ,\"ContractData\",O412, \"PerCentNetLastTrade\",, \"T\")/100","v":-8.9901108780341614E-4},"https://finance.yahoo.com/quote/DHI",null,{"$error":"#N/A"},8.9901108780341614E-4,null,{"$f":"RTD(\"cqg.rtd\", ,\"ContractData\",O412, \"LongDescription\",, \"T\")","v":"DR Horton Inc"},null,null,-8.9901108780341614E-4,null,{"$error":"#N/A"},0,null,"",8.9901108780341614E-4,-8.9901108780341614E-4]
[null,null,"S.US.PAY",{"$f":"RTD(\"cqg.rtd\", ,\"ContractData\",C413, \"LongDescription\",, \"T\")","v":"Verifone Systems, Inc."},{"$f":"RTD(\"cqg.rtd\", ,\"ContractData\",C413, \"Open\",, \"T\")","v":17.82},{"$f":"RTD(\"cqg.rtd\", ,\"ContractData\",C413, \"High\",, \"T\")","v":17.91},{"$f":"RTD(\"cqg.rtd\", ,\"ContractData\",C413, \"Low\",, \"T\")","v":17.66},{"$f":"RTD(\"cqg.rtd\", ,\"ContractData\",C413, \"LastTradeToday\",, \"T\")","v":17.78},{"$f":"RTD(\"cqg.rtd\", ,\"ContractData\",C413, \"NetLastTradeToday\",, \"T\")","v":-0.04},{"$f":"IFERROR(RTD(\"cqg.rtd\", ,\"ContractData\",C413, \"PerCentNetLastTrade\",, \"T\")/100,\"\")","v":-2.2446689113355782E-3},{"$f":"RTD(\"cqg.rtd\", ,\"ContractData\", C413, \"T_CVol\",, \"T\")","v":253711},413,{"$f":"IFERROR(RANK($J413,$J$1:J$607)+COUNTIF($J$1:J413,J413)-1,\"\")","v":437},"S.US.PAY","S.US.ILMN",{"$f":"RTD(\"cqg.rtd\", ,\"ContractData\",O413, \"PerCentNetLastTrade\",, \"T\")/100","v":-9.1575091575091564E-4},"https://finance.yahoo.com/quote/ILMN",null,{"$error":"#N/A"},9.1575091575091564E-4,null,{"$f":"RTD(\"cqg.rtd\", ,\"ContractData\",O413, \"LongDescription\",, \"T\")","v":"Illumina Inc"},null,null,-9.1575091575091564E-4,null,{"$error":"#N/A"},0,null,"",9.1575091575091564E-4,-9.1575091575091564E-4]
[null,null,"S.US.PAYX",{"$f":"RTD(\"cqg.rtd\", ,\"ContractData\",C414, \"LongDescription\",, \"T\")","v":"Paychex Inc"},{"$f":"RTD(\"cqg.rtd\", ,\"ContractData\",C414, \"Open\",, \"T\")","v":58.230000000000004},{"$f":"RTD(\"cqg.rtd\", ,\"ContractData\",C414, \"High\",, \"T\")","v":58.59},{"$f":"RTD(\"cqg.rtd\", ,\"ContractData\",C414, \"Low\",, \"T\")","v":58.01},{"$f":"RTD(\"cqg.rtd\", ,\"ContractData\",C414, \"LastTradeToday\",, \"T\")","v":58.36},{"$f":"RTD(\"cqg.rtd\", ,\"ContractData\",C414, \"NetLastTradeToday\",, \"T\")","v":0.31},{"$f":"IFERROR(RTD(\"cqg.rtd\", ,\"ContractData\",C414, \"PerCentNetLastTrade\",, \"T\")/100,\"\")","v":5.3402239448751077E-3},{"$f":"RTD(\"cqg.rtd\", ,\"ContractData\", C414, \"T_CVol\",, \"T\")","v":804198},414,{"$f":"IFERROR(RANK($J414,$J$1:J$607)+COUNTIF($J$1:J414,J414)-1,\"\")","v":205},"S.US.PAYX","S.US.INGR",{"$f":"RTD(\"cqg.rtd\", ,\"ContractData\",O414, \"PerCentNetLastTrade\",, \"T\")/100","v":-9.392878490308257E-4},"https://finance.yahoo.com/quote/INGR",null,{"$error":"#N/A"},9.392878490308257E-4,null,{"$f":"RTD(\"cqg.rtd\", ,\"ContractData\",O414, \"LongDescription\",, \"T\")","v":"Ingredion Incorporated"},null,null,-9.392878490308257E-4,null,{"$error":"#N/A"},0,null,"",9.392878490308257E-4,-9.392878490308257E-4]
[null,null,"S.US.PBI",{"$f":"RTD(\"cqg.rtd\", ,\"ContractData\",C415, \"LongDescription\",, \"T\")","v":"Pitney Bowes Inc"},{"$f":"RTD(\"cqg.rtd\", ,\"ContractData\",C415, \"Open\",, \"T\")","v":15.11},{"$f":"RTD(\"cqg.rtd\", ,\"ContractData\",C415, \"High\",, \"T\")","v":15.14},{"$f":"RTD(\"cqg.rtd\", ,\"ContractData\",C415, \"Low\",, \"T\")","v":14.94},{"$f":"RTD(\"cqg.rtd\", ,\"ContractData\",C415, \"LastTradeToday\",, \"T\")","v":15.01},{"$f":"RTD(\"cqg.rtd\", ,\"ContractData\",C415, \"NetLastTradeToday\",, \"T\")","v":-0.23},{"$f":"IFERROR(RTD(\"cqg.rtd\", ,\"ContractData\",C415, \"PerCentNetLastTrade\",, \"T\")/100,\"\")","v":-1.5091863517060367E-2},{"$f":"RTD(\"cqg.rtd\", ,\"ContractData\", C415, \"T_CVol\",, \"T\")","v":633224},415,{"$f":"IFERROR(RANK($J415,$J$1:J$607)+COUNTIF($J$1:J415,J415)-1,\"\")","v":572},"S.US.PBI","S.US.LKQ",{"$f":"RTD(\"cqg.rtd\", ,\"ContractData\",O415, \"PerCentNetLastTrade\",, \"T\")/100","v":-9.5938599296450271E-4},"https://finance.yahoo.com/quote/LKQ",null,{"$error":"#N/A"},9.5938599296450271E-4,null,{"$f":"RTD(\"cqg.rtd\", ,\"ContractData\",O415, \"LongDescription\",, \"T\")","v":"LKQ Corporation"},null,null,-9.5938599296450271E-4,null,{"$error":"#N/A"},0,null,"",9.5938599296450271E-4,-9.5938599296450271E-4]
[null,null,"S.US.PCAR",{"$f":"RTD(\"cqg.rtd\", ,\"ContractData\",C416, \"LongDescription\",, \"T\")","v":"PACCAR Inc"},{"$f":"RTD(\"cqg.rtd\", ,\"ContractData\",C416, \"Open\",, \"T\")","v":62.95},{"$f":"RTD(\"cqg.rtd\", ,\"ContractData\",C416, \"High\",, \"T\")","v":63.01},{"$f":"RTD(\"cqg.rtd\", ,\"ContractData\",C416, \"Low\",, \"T\")","v":62.230000000000004},{"$f":"RTD(\"cqg.rtd\", ,\"ContractData\",C416, \"LastTradeToday\",, \"T\")","v":62.39},{"$f":"RTD(\"cqg.rtd\", ,\"ContractData\",C416, \"NetLastTradeToday\",, \"T\")","v":-0.42},{"$f":"IFERROR(RTD(\"cqg.rtd\", ,\"ContractData\",C416, \"PerCentNetLastTrade\",, \"T\")/100,\"\")","v":-6.6868333067982809E-3},{"$f":"RTD(\"cqg.rtd\", ,\"ContractData\", C416, \"T_CVol\",, \"T\")","v":730243},416,{"$f":"IFERROR(RANK($J416,$J$1:J$607)+COUNTIF($J$1:J416,J416)-1,\"\")","v":506},"S.US.PCAR","S.US.ALR",{"$f":"RTD(\"cqg.rtd\", ,\"ContractData\",O416, \"PerCentNetLastTrade\",, \"T\")/100","v":-1.0235414534288639E-3},"https://finance.yahoo.com/quote/ALR",null,{"$error":"#N/A"},1.0235414534288639E-3,null,{"$f":"RTD(\"cqg.rtd\", ,\"ContractData\",O416, \"LongDescription\",, \"T\")","v":"Alere Inc"},null,null,-1.0235414534288639E-3,null,{"$error":"#N/A"},0,null,"",1.0235414534288639E-3,-1.0235414534288639E-3]
[null,null,"S.US.PCLN",{"$f":"RTD(\"cqg.rtd\", ,\"ContractData\",C417, \"LongDescription\",, \"T\")","v":"The Priceline Group Inc."},{"$f":"RTD(\"cqg.rtd\", ,\"ContractData\",C417, \"Open\",, \"T\")","v":1829.13},{"$f":"RTD(\"cqg.rtd\", ,\"ContractData\",C417, \"High\",, \"T\")","v":1841.73},{"$f":"RTD(\"cqg.rtd\", ,\"ContractData\",C417, \"Low\",, \"T\")","v":1829.13},{"$f":"RTD(\"cqg.rtd\", ,\"ContractData\",C417, \"LastTradeToday\",, \"T\")","v":1839.8},{"$f":"RTD(\"cqg.rtd\", ,\"ContractData\",C417, \"NetLastTradeToday\",, \"T\")","v":11.86},{"$f":"IFERROR(RTD(\"cqg.rtd\", ,\"ContractData\",C417, \"PerCentNetLastTrade\",, \"T\")/100,\"\")","v":6.4881779489479961E-3},{"$f":"RTD(\"cqg.rtd\", ,\"ContractData\", C417, \"T_CVol\",, \"T\")","v":220131},417,{"$f":"IFERROR(RANK($J417,$J$1:J$607)+COUNTIF($J$1:J417,J417)-1,\"\")","v":183},"S.US.PCLN","S.US.WEX",{"$f":"RTD(\"cqg.rtd\", ,\"ContractData\",O417, \"PerCentNetLastTrade\",, \"T\")/100","v":-1.0728567248610163E-3},"https://finance.yahoo.com/quote/WEX",null,{"$error":"#N/A"},1.0728567248610163E-3,null,{"$f":"RTD(\"cqg.rtd\", ,\"ContractData\",O417, \"LongDescription\",, \"T\")","v":"WEX Inc"},null,null,-1.0728567248610163E-3,null,{"$error":"#N/A"},0,null,"",1.0728567248610163E-3,-1.0728567248610163E-3]
[null,null,"S.US.PDCO",{"$f":"RTD(\"cqg.rtd\", ,\"ContractData\",C418, \"LongDescription\",, \"T\")","v":"Patterson Companies Inc"},{"$f":"RTD(\"cqg.rtd\", ,\"ContractData\",C418, \"Open\",, \"T\")","v":43.5},{"$f":"RTD(\"cqg.rtd\", ,\"ContractData\",C418, \"High\",, \"T\")","v":43.7},{"$f":"RTD(\"cqg.rtd\", ,\"ContractData\",C418, \"Low\",, \"T\")","v":43.04},{"$f":"RTD(\"cqg.rtd\", ,\"ContractData\",C418, \"LastTradeToday\",, \"T\")","v":43.19},{"$f":"RTD(\"cqg.rtd\", ,\"ContractData\",C418, \"NetLastTradeToday\",, \"T\")","v":-0.37},{"$f":"IFERROR(RTD(\"cqg.rtd\", ,\"ContractData\",C418, \"PerCentNetLastTrade\",, \"T\")/100,\"\")","v":-8.4940312213039482E-3},{"$f":"RTD(\"cqg.rtd\", ,\"ContractData\", C418, \"T_CVol\",, \"T\")","v":583654},418,{"$f":"IFERROR(RANK($J418,$J$1:J$607)+COUNTIF($J$1:J418,J418)-1,\"\")","v":529},"S.US.PDCO","S.US.PANW",{"$f":"RTD(\"cqg.rtd\", ,\"ContractData\",O418, \"PerCentNetLastTrade\",, \"T\")/100","v":-1.1005756857433119E-3},"https://finance.yahoo.com/quote/PANW",null,{"$error":"#N/A"},1.1005756857433119E-3,null,{"$f":"RTD(\"cqg.rtd\", ,\"ContractData\",O418, \"LongDescription\",, \"T\")","v":"Palo Alto Networks, Inc."},null,null,-1.1005756857433119E-3,null,{"$error":"#N/A"},0,null,"",1.1005756857433119E-3,-1.1005756857433119E-3]
[null,null,"S.US.PE",{"$f":"RTD(\"cqg.rtd\", ,\"ContractData\",C419, \"LongDescription\",, \"T\")","v":"Parsley Energy, Inc."},{"$f":"RTD(\"cqg.rtd\", ,\"ContractData\",C419, \"Open\",, \"T\")","v":31.09},{"$f":"RTD(\"cqg.rtd\", ,\"ContractData\",C419, \"High\",, \"T\")","v":31.48},{"$f":"RTD(\"cqg.rtd\", ,\"ContractData\",C419, \"Low\",, \"T\")","v":30.89},{"$f":"RTD(\"cqg.rtd\", ,\"ContractData\",C419, \"LastTradeToday\",, \"T\")","v":30.91},{"$f":"RTD(\"cqg.rtd\", ,\"ContractData\",C419, \"NetLastTradeToday\",, \"T\")","v":-0.37},{"$f":"IFERROR(RTD(\"cqg.rtd\", ,\"ContractData\",C419, \"PerCentNetLastTrade\",, \"T\")/100,\"\")","v":-1.1828644501278773E-2},{"$f":"RTD(\"cqg.rtd\", ,\"ContractData\", C419, \"T_CVol\",, \"T\")","v":1790112},419,{"$f":"IFERROR(RANK($J419,$J$1:J$607)+COUNTIF($J$1:J419,J419)-1,\"\")","v":559},"S.US.PE","S.US.UNP",{"$f":"RTD(\"cqg.rtd\", ,\"ContractData\",O419, \"PerCentNetLastTrade\",, \"T\")/100","v":-1.2037037037037036E-3},"https://finance.yahoo.com/quote/UNP",null,{"$error":"#N/A"},1.2037037037037036E-3,null,{"$f":"RTD(\"cqg.rtd\", ,\"ContractData\",O419, \"LongDescription\",, \"T\")","v":"Union Pacific Corp"},null,null,-1.2037037037037036E-3,null,{"$error":"#N/A"},0,null,"",1.2037037037037036E-3,-1.2037037037037036E-3]
[null,null,"S.US.PEP",{"$f":"RTD(\"cqg.rtd\", ,\"ContractData\",C420, \"LongDescription\",, \"T\")","v":"PepsiCo Inc"},{"$f":"RTD(\"cqg.rtd\", ,\"ContractData\",C420, \"Open\",, \"T\")","v":115.31},{"$f":"RTD(\"cqg.rtd\", ,\"ContractData\",C420, \"High\",, \"T\")","v":115.91},{"$f":"RTD(\"cqg.rtd\", ,\"ContractData\",C420, \"Low\",, \"T\")","v":115.12},{"$f":"RTD(\"cqg.rtd\", ,\"ContractData\",C420, \"LastTradeToday\",, \"T\")","v":115.91},{"$f":"RTD(\"cqg.rtd\", ,\"ContractData\",C420, \"NetLastTradeToday\",, \"T\")","v":0.86},{"$f":"IFERROR(RTD(\"cqg.rtd\", ,\"ContractData\",C420, \"PerCentNetLastTrade\",, \"T\")/100,\"\")","v":7.4750108648413737E-3},{"$f":"RTD(\"cqg.rtd\", ,\"ContractData\", C420, \"T_CVol\",, \"T\")","v":1150051},420,{"$f":"IFERROR(RANK($J420,$J$1:J$607)+COUNTIF($J$1:J420,J420)-1,\"\")","v":153},"S.US.PEP","S.US.VWR",{"$f":"RTD(\"cqg.rtd\", ,\"ContractData\",O420, \"PerCentNetLastTrade\",, \"T\")/100","v":-1.2158054711246201E-3},"https://finance.yahoo.com/quote/VWR",null,{"$error":"#N/A"},1.2158054711246201E-3,null,{"$f":"RTD(\"cqg.rtd\", ,\"ContractData\",O420, \"LongDescription\",, \"T\")","v":"VWR Corporation"},null,null,-1.2158054711246201E-3,null,{"$error":"#N/A"},0,null,"",1.2158054711246201E-3,-1.2158054711246201E-3]
[null,null,"S.US.PFE",{"$f":"RTD(\"cqg.rtd\", ,\"ContractData\",C421, \"LongDescription\",, \"T\")","v":"Pfizer Inc"},{"$f":"RTD(\"cqg.rtd\", ,\"ContractData\",C421, \"Open\",, \"T\")","v":32.17},{"$f":"RTD(\"cqg.rtd\", ,\"ContractData\",C421, \"High\",, \"T\")","v":32.270000000000003},{"$f":"RTD(\"cqg.rtd\", ,\"ContractData\",C421, \"Low\",, \"T\")","v":31.970000000000002},{"$f":"RTD(\"cqg.rtd\", ,\"ContractData\",C421, \"LastTradeToday\",, \"T\")","v":32.07},{"$f":"RTD(\"cqg.rtd\", ,\"ContractData\",C421, \"NetLastTradeToday\",, \"T\")","v":-7.0000000000000007E-2},{"$f":"IFERROR(RTD(\"cqg.rtd\", ,\"ContractData\",C421, \"PerCentNetLastTrade\",, \"T\")/100,\"\")","v":-2.1779713752333538E-3},{"$f":"RTD(\"cqg.rtd\", ,\"ContractData\", C421, \"T_CVol\",, \"T\")","v":10854079},421,{"$f":"IFERROR(RANK($J421,$J$1:J$607)+COUNTIF($J$1:J421,J421)-1,\"\")","v":434},"S.US.PFE","S.US.DLPH",{"$f":"RTD(\"cqg.rtd\", ,\"ContractData\",O421, \"PerCentNetLastTrade\",, \"T\")/100","v":-1.2731481481481483E-3},"https://finance.yahoo.com/quote/DLPH",null,{"$error":"#N/A"},1.2731481481481483E-3,null,{"$f":"RTD(\"cqg.rtd\", ,\"ContractData\",O421, \"LongDescription\",, \"T\")","v":"Delphi Automotive PLC"},null,null,-1.2731481481481483E-3,null,{"$error":"#N/A"},0,null,"",1.2731481481481483E-3,-1.2731481481481483E-3]
[null,null,"S.US.PGR",{"$f":"RTD(\"cqg.rtd\", ,\"ContractData\",C422, \"LongDescription\",, \"T\")","v":"Progressive Corp"},{"$f":"RTD(\"cqg.rtd\", ,\"ContractData\",C422, \"Open\",, \"T\")","v":41.57},{"$f":"RTD(\"cqg.rtd\", ,\"ContractData\",C422, \"High\",, \"T\")","v":41.800000000000004},{"$f":"RTD(\"cqg.rtd\", ,\"ContractData\",C422, \"Low\",, \"T\")","v":41.53},{"$f":"RTD(\"cqg.rtd\", ,\"ContractData\",C422, \"LastTradeToday\",, \"T\")","v":41.730000000000004},{"$f":"RTD(\"cqg.rtd\", ,\"ContractData\",C422, \"NetLastTradeToday\",, \"T\")","v":0.18},{"$f":"IFERROR(RTD(\"cqg.rtd\", ,\"ContractData\",C422, \"PerCentNetLastTrade\",, \"T\")/100,\"\")","v":4.3321299638989169E-3},{"$f":"RTD(\"cqg.rtd\", ,\"ContractData\", C422, \"T_CVol\",, \"T\")","v":1320885},422,{"$f":"IFERROR(RANK($J422,$J$1:J$607)+COUNTIF($J$1:J422,J422)-1,\"\")","v":231},"S.US.PGR","S.US.HSIC",{"$f":"RTD(\"cqg.rtd\", ,\"ContractData\",O422, \"PerCentNetLastTrade\",, \"T\")/100","v":-1.3179571663920922E-3},"https://finance.yahoo.com/quote/HSIC",null,{"$error":"#N/A"},1.3179571663920922E-3,null,{"$f":"RTD(\"cqg.rtd\", ,\"ContractData\",O422, \"LongDescription\",, \"T\")","v":"Henry Schein Inc"},null,null,-1.3179571663920922E-3,null,{"$error":"#N/A"},0,null,"",1.3179571663920922E-3,-1.3179571663920922E-3]
[null,null,"S.US.PHM",{"$f":"RTD(\"cqg.rtd\", ,\"ContractData\",C423, \"LongDescription\",, \"T\")","v":"PulteGroup Inc"},{"$f":"RTD(\"cqg.rtd\", ,\"ContractData\",C423, \"Open\",, \"T\")","v":22.87},{"$f":"RTD(\"cqg.rtd\", ,\"ContractData\",C423, \"High\",, \"T\")","v":22.97},{"$f":"RTD(\"cqg.rtd\", ,\"ContractData\",C423, \"Low\",, \"T\")","v":22.740000000000002},{"$f":"RTD(\"cqg.rtd\", ,\"ContractData\",C423, \"LastTradeToday\",, \"T\")","v":22.91},{"$f":"RTD(\"cqg.rtd\", ,\"ContractData\",C423, \"NetLastTradeToday\",, \"T\")","v":-0.01},{"$f":"IFERROR(RTD(\"cqg.rtd\", ,\"ContractData\",C423, \"PerCentNetLastTrade\",, \"T\")/100,\"\")","v":-4.3630017452006982E-4},{"$f":"RTD(\"cqg.rtd\", ,\"ContractData\", C423, \"T_CVol\",, \"T\")","v":2365165},423,{"$f":"IFERROR(RANK($J423,$J$1:J$607)+COUNTIF($J$1:J423,J423)-1,\"\")","v":398},{"$f":"C423","v":"S.US.PHM"},"S.US.TECH",{"$f":"RTD(\"cqg.rtd\", ,\"ContractData\",O423, \"PerCentNetLastTrade\",, \"T\")/100","v":-1.3533020570191269E-3},"https://finance.yahoo.com/quote/TECH",null,{"$f":"IF(P423>=0,P423,NA())","v":{"$error":"#N/A"}},{"$f":"IF(P423>=0,NA(),-1*P423)","v":1.3533020570191269E-3},null,{"$f":"RTD(\"cqg.rtd\", ,\"ContractData\",O423, \"LongDescription\",, \"T\")","v":"Bio-Techne Corp"},null,null,{"$f":"IFERROR(S423,P423)","v":-1.3533020570191269E-3},null,{"$f":"IF(S423=\"NA()\",0,1)","v":{"$error":"#N/A"}},{"$f":"IFERROR(AA423,0)","v":0},null,{"$f":"IFERROR(S423,\"\")","v":""},{"$f":"IFERROR(T423,\"\")","v":1.3533020570191269E-3},{"$f":"IF(AE423=\"\",\"\",Y423)","v":-1.3533020570191269E-3}]
[null,null,"S.US.PII",{"$f":"RTD(\"cqg.rtd\", ,\"ContractData\",C424, \"LongDescription\",, \"T\")","v":"Polaris Indutries Inc."},{"$f":"RTD(\"cqg.rtd\", ,\"ContractData\",C424, \"Open\",, \"T\")","v":86.48},{"$f":"RTD(\"cqg.rtd\", ,\"ContractData\",C424, \"High\",, \"T\")","v":87.31},{"$f":"RTD(\"cqg.rtd\", ,\"ContractData\",C424, \"Low\",, \"T\")","v":85.65},{"$f":"RTD(\"cqg.rtd\", ,\"ContractData\",C424, \"LastTradeToday\",, \"T\")","v":85.73},{"$f":"RTD(\"cqg.rtd\", ,\"ContractData\",C424, \"NetLastTradeToday\",, \"T\")","v":-0.83000000000000007},{"$f":"IFERROR(RTD(\"cqg.rtd\", ,\"ContractData\",C424, \"PerCentNetLastTrade\",, \"T\")/100,\"\")","v":-9.5887245841035119E-3},{"$f":"RTD(\"cqg.rtd\", ,\"ContractData\", C424, \"T_CVol\",, \"T\")","v":162223},424,{"$f":"IFERROR(RANK($J424,$J$1:J$607)+COUNTIF($J$1:J424,J424)-1,\"\")","v":538},"S.US.PII","S.US.SWKS",{"$f":"RTD(\"cqg.rtd\", ,\"ContractData\",O424, \"PerCentNetLastTrade\",, \"T\")/100","v":-1.4262622420842448E-3},"https://finance.yahoo.com/quote/SWKS",null,{"$error":"#N/A"},1.4262622420842448E-3,null,{"$f":"RTD(\"cqg.rtd\", ,\"ContractData\",O424, \"LongDescription\",, \"T\")","v":"Skyworks Solutions Inc"},null,null,-1.4262622420842448E-3,null,{"$error":"#N/A"},0,null,"",1.4262622420842448E-3,-1.4262622420842448E-3]
[null,null,"S.US.PINC",{"$f":"RTD(\"cqg.rtd\", ,\"ContractData\",C425, \"LongDescription\",, \"T\")","v":"Premier Inc"},{"$f":"RTD(\"cqg.rtd\", ,\"ContractData\",C425, \"Open\",, \"T\")","v":34.08},{"$f":"RTD(\"cqg.rtd\", ,\"ContractData\",C425, \"High\",, \"T\")","v":34.270000000000003},{"$f":"RTD(\"cqg.rtd\", ,\"ContractData\",C425, \"Low\",, \"T\")","v":33.83},{"$f":"RTD(\"cqg.rtd\", ,\"ContractData\",C425, \"LastTradeToday\",, \"T\")","v":34.04},{"$f":"RTD(\"cqg.rtd\", ,\"ContractData\",C425, \"NetLastTradeToday\",, \"T\")","v":0.06},{"$f":"IFERROR(RTD(\"cqg.rtd\", ,\"ContractData\",C425, \"PerCentNetLastTrade\",, \"T\")/100,\"\")","v":1.7657445556209536E-3},{"$f":"RTD(\"cqg.rtd\", ,\"ContractData\", C425, \"T_CVol\",, \"T\")","v":237645},425,{"$f":"IFERROR(RANK($J425,$J$1:J$607)+COUNTIF($J$1:J425,J425)-1,\"\")","v":329},"S.US.PINC","S.US.ACAD",{"$f":"RTD(\"cqg.rtd\", ,\"ContractData\",O425, \"PerCentNetLastTrade\",, \"T\")/100","v":-1.4519056261343014E-3},"https://finance.yahoo.com/quote/ACAD",null,{"$error":"#N/A"},1.4519056261343014E-3,null,{"$f":"RTD(\"cqg.rtd\", ,\"ContractData\",O425, \"LongDescription\",, \"T\")","v":"ACADIA Pharmaceuticals, Inc."},null,null,-1.4519056261343014E-3,null,{"$error":"#N/A"},0,null,"",1.4519056261343014E-3,-1.4519056261343014E-3]
[null,null,"S.US.PK",{"$f":"RTD(\"cqg.rtd\", ,\"ContractData\",C426, \"LongDescription\",, \"T\")","v":"Park Hotels & Resorts Inc."},{"$f":"RTD(\"cqg.rtd\", ,\"ContractData\",C426, \"Open\",, \"T\")","v":25.77},{"$f":"RTD(\"cqg.rtd\", ,\"ContractData\",C426, \"High\",, \"T\")","v":26.01},{"$f":"RTD(\"cqg.rtd\", ,\"ContractData\",C426, \"Low\",, \"T\")","v":25.68},{"$f":"RTD(\"cqg.rtd\", ,\"ContractData\",C426, \"LastTradeToday\",, \"T\")","v":25.88},{"$f":"RTD(\"cqg.rtd\", ,\"ContractData\",C426, \"NetLastTradeToday\",, \"T\")","v":0.19},{"$f":"IFERROR(RTD(\"cqg.rtd\", ,\"ContractData\",C426, \"PerCentNetLastTrade\",, \"T\")/100,\"\")","v":7.3958738808875043E-3},{"$f":"RTD(\"cqg.rtd\", ,\"ContractData\", C426, \"T_CVol\",, \"T\")","v":459362},426,{"$f":"IFERROR(RANK($J426,$J$1:J$607)+COUNTIF($J$1:J426,J426)-1,\"\")","v":156},"S.US.PK","S.US.NDSN",{"$f":"RTD(\"cqg.rtd\", ,\"ContractData\",O426, \"PerCentNetLastTrade\",, \"T\")/100","v":-1.4789253142716294E-3},"https://finance.yahoo.com/quote/NDSN",null,{"$error":"#N/A"},1.4789253142716294E-3,null,{"$f":"RTD(\"cqg.rtd\", ,\"ContractData\",O426, \"LongDescription\",, \"T\")","v":"Nordson Corporation"},null,null,-1.4789253142716294E-3,null,{"$error":"#N/A"},0,null,"",1.4789253142716294E-3,-1.4789253142716294E-3]
[null,null,"S.US.PKG",{"$f":"RTD(\"cqg.rtd\", ,\"ContractData\",C427, \"LongDescription\",, \"T\")","v":"Packaging Corp of America"},{"$f":"RTD(\"cqg.rtd\", ,\"ContractData\",C427, \"Open\",, \"T\")","v":100.19},{"$f":"RTD(\"cqg.rtd\", ,\"ContractData\",C427, \"High\",, \"T\")","v":101.60000000000001},{"$f":"RTD(\"cqg.rtd\", ,\"ContractData\",C427, \"Low\",, \"T\")","v":100.15},{"$f":"RTD(\"cqg.rtd\", ,\"ContractData\",C427, \"LastTradeToday\",, \"T\")","v":101.36},{"$f":"RTD(\"cqg.rtd\", ,\"ContractData\",C427, \"NetLastTradeToday\",, \"T\")","v":1.36},{"$f":"IFERROR(RTD(\"cqg.rtd\", ,\"ContractData\",C427, \"PerCentNetLastTrade\",, \"T\")/100,\"\")","v":1.3600000000000001E-2},{"$f":"RTD(\"cqg.rtd\", ,\"ContractData\", C427, \"T_CVol\",, \"T\")","v":249400},427,{"$f":"IFERROR(RANK($J427,$J$1:J$607)+COUNTIF($J$1:J427,J427)-1,\"\")","v":66},"S.US.PKG","S.US.FII",{"$f":"RTD(\"cqg.rtd\", ,\"ContractData\",O427, \"PerCentNetLastTrade\",, \"T\")/100","v":-1.5606710885680843E-3},"https://finance.yahoo.com/quote/FII",null,{"$error":"#N/A"},1.5606710885680843E-3,null,{"$f":"RTD(\"cqg.rtd\", ,\"ContractData\",O427, \"LongDescription\",, \"T\")","v":"Federated Investors Inc ClB"},null,null,-1.5606710885680843E-3,null,{"$error":"#N/A"},0,null,"",1.5606710885680843E-3,-1.5606710885680843E-3]
[null,null,"S.US.PKI",{"$f":"RTD(\"cqg.rtd\", ,\"ContractData\",C428, \"LongDescription\",, \"T\")","v":"PerkinElmer Inc"},{"$f":"RTD(\"cqg.rtd\", ,\"ContractData\",C428, \"Open\",, \"T\")","v":62.14},{"$f":"RTD(\"cqg.rtd\", ,\"ContractData\",C428, \"High\",, \"T\")","v":62.43},{"$f":"RTD(\"cqg.rtd\", ,\"ContractData\",C428, \"Low\",, \"T\")","v":61.89},{"$f":"RTD(\"cqg.rtd\", ,\"ContractData\",C428, \"LastTradeToday\",, \"T\")","v":62.300000000000004},{"$f":"RTD(\"cqg.rtd\", ,\"ContractData\",C428, \"NetLastTradeToday\",, \"T\")","v":0.24},{"$f":"IFERROR(RTD(\"cqg.rtd\", ,\"ContractData\",C428, \"PerCentNetLastTrade\",, \"T\")/100,\"\")","v":3.8672252658717371E-3},{"$f":"RTD(\"cqg.rtd\", ,\"ContractData\", C428, \"T_CVol\",, \"T\")","v":102646},428,{"$f":"IFERROR(RANK($J428,$J$1:J$607)+COUNTIF($J$1:J428,J428)-1,\"\")","v":246},"S.US.PKI","S.US.APA",{"$f":"RTD(\"cqg.rtd\", ,\"ContractData\",O428, \"PerCentNetLastTrade\",, \"T\")/100","v":-1.8E-3},"https://finance.yahoo.com/quote/APA",null,{"$error":"#N/A"},1.8E-3,null,{"$f":"RTD(\"cqg.rtd\", ,\"ContractData\",O428, \"LongDescription\",, \"T\")","v":"Apache Corporation"},null,null,-1.8E-3,null,{"$error":"#N/A"},0,null,"",1.8E-3,-1.8E-3]
[null,null,"S.US.PM",{"$f":"RTD(\"cqg.rtd\", ,\"ContractData\",C429, \"LongDescription\",, \"T\")","v":"Philip Morris International"},{"$f":"RTD(\"cqg.rtd\", ,\"ContractData\",C429, \"Open\",, \"T\")","v":116.86},{"$f":"RTD(\"cqg.rtd\", ,\"ContractData\",C429, \"High\",, \"T\")","v":117.36},{"$f":"RTD(\"cqg.rtd\", ,\"ContractData\",C429, \"Low\",, \"T\")","v":116.25},{"$f":"RTD(\"cqg.rtd\", ,\"ContractData\",C429, \"LastTradeToday\",, \"T\")","v":117.33},{"$f":"RTD(\"cqg.rtd\", ,\"ContractData\",C429, \"NetLastTradeToday\",, \"T\")","v":0.87},{"$f":"IFERROR(RTD(\"cqg.rtd\", ,\"ContractData\",C429, \"PerCentNetLastTrade\",, \"T\")/100,\"\")","v":7.470376094796497E-3},{"$f":"RTD(\"cqg.rtd\", ,\"ContractData\", C429, \"T_CVol\",, \"T\")","v":1094031},429,{"$f":"IFERROR(RANK($J429,$J$1:J$607)+COUNTIF($J$1:J429,J429)-1,\"\")","v":154},"S.US.PM","S.US.HII",{"$f":"RTD(\"cqg.rtd\", ,\"ContractData\",O429, \"PerCentNetLastTrade\",, \"T\")/100","v":-1.8364536040401979E-3},"https://finance.yahoo.com/quote/HII",null,{"$error":"#N/A"},1.8364536040401979E-3,null,{"$f":"RTD(\"cqg.rtd\", ,\"ContractData\",O429, \"LongDescription\",, \"T\")","v":"Huntington Ingalls Industries"},null,null,-1.8364536040401979E-3,null,{"$error":"#N/A"},0,null,"",1.8364536040401979E-3,-1.8364536040401979E-3]
[null,null,"S.US.PNRA",{"$f":"RTD(\"cqg.rtd\", ,\"ContractData\",C430, \"LongDescription\",, \"T\")","v":"Panera Bread Co ClA"},{"$f":"RTD(\"cqg.rtd\", ,\"ContractData\",C430, \"Open\",, \"T\")","v":313.40000000000003},{"$f":"RTD(\"cqg.rtd\", ,\"ContractData\",C430, \"High\",, \"T\")","v":313.75},{"$f":"RTD(\"cqg.rtd\", ,\"ContractData\",C430, \"Low\",, \"T\")","v":313.3},{"$f":"RTD(\"cqg.rtd\", ,\"ContractData\",C430, \"LastTradeToday\",, \"T\")","v":313.62},{"$f":"RTD(\"cqg.rtd\", ,\"ContractData\",C430, \"NetLastTradeToday\",, \"T\")","v":0.28000000000000003},{"$f":"IFERROR(RTD(\"cqg.rtd\", ,\"ContractData\",C430, \"PerCentNetLastTrade\",, \"T\")/100,\"\")","v":8.9359800855300943E-4},{"$f":"RTD(\"cqg.rtd\", ,\"ContractData\", C430, \"T_CVol\",, \"T\")","v":242280},430,{"$f":"IFERROR(RANK($J430,$J$1:J$607)+COUNTIF($J$1:J430,J430)-1,\"\")","v":352},"S.US.PNRA","S.US.AXTA",{"$f":"RTD(\"cqg.rtd\", ,\"ContractData\",O430, \"PerCentNetLastTrade\",, \"T\")/100","v":-1.9090041361756282E-3},"https://finance.yahoo.com/quote/AXTA",null,{"$error":"#N/A"},1.9090041361756282E-3,null,{"$f":"RTD(\"cqg.rtd\", ,\"ContractData\",O430, \"LongDescription\",, \"T\")","v":"Axalta Coating Systems Ltd."},null,null,-1.9090041361756282E-3,null,{"$error":"#N/A"},0,null,"",1.9090041361756282E-3,-1.9090041361756282E-3]
[null,null,"S.US.POOL",{"$f":"RTD(\"cqg.rtd\", ,\"ContractData\",C431, \"LongDescription\",, \"T\")","v":"Pool Corporation"},{"$f":"RTD(\"cqg.rtd\", ,\"ContractData\",C431, \"Open\",, \"T\")","v":119.29},{"$f":"RTD(\"cqg.rtd\", ,\"ContractData\",C431, \"High\",, \"T\")","v":119.99000000000001},{"$f":"RTD(\"cqg.rtd\", ,\"ContractData\",C431, \"Low\",, \"T\")","v":118.49000000000001},{"$f":"RTD(\"cqg.rtd\", ,\"ContractData\",C431, \"LastTradeToday\",, \"T\")","v":119.43},{"$f":"RTD(\"cqg.rtd\", ,\"ContractData\",C431, \"NetLastTradeToday\",, \"T\")","v":-0.04},{"$f":"IFERROR(RTD(\"cqg.rtd\", ,\"ContractData\",C431, \"PerCentNetLastTrade\",, \"T\")/100,\"\")","v":-3.3481208671633044E-4},{"$f":"RTD(\"cqg.rtd\", ,\"ContractData\", C431, \"T_CVol\",, \"T\")","v":49399},431,{"$f":"IFERROR(RANK($J431,$J$1:J$607)+COUNTIF($J$1:J431,J431)-1,\"\")","v":396},"S.US.POOL","S.US.CERN",{"$f":"RTD(\"cqg.rtd\", ,\"ContractData\",O431, \"PerCentNetLastTrade\",, \"T\")/100","v":-2.0102056595020876E-3},"https://finance.yahoo.com/quote/CERN",null,{"$error":"#N/A"},2.0102056595020876E-3,null,{"$f":"RTD(\"cqg.rtd\", ,\"ContractData\",O431, \"LongDescription\",, \"T\")","v":"Cerner Corporation"},null,null,-2.0102056595020876E-3,null,{"$error":"#N/A"},0,null,"",2.0102056595020876E-3,-2.0102056595020876E-3]
[null,null,"S.US.POST",{"$f":"RTD(\"cqg.rtd\", ,\"ContractData\",C432, \"LongDescription\",, \"T\")","v":"Post Holdings, Inc."},{"$f":"RTD(\"cqg.rtd\", ,\"ContractData\",C432, \"Open\",, \"T\")","v":82.210000000000008},{"$f":"RTD(\"cqg.rtd\", ,\"ContractData\",C432, \"High\",, \"T\")","v":82.28},{"$f":"RTD(\"cqg.rtd\", ,\"ContractData\",C432, \"Low\",, \"T\")","v":81.489999999999995},{"$f":"RTD(\"cqg.rtd\", ,\"ContractData\",C432, \"LastTradeToday\",, \"T\")","v":81.69},{"$f":"RTD(\"cqg.rtd\", ,\"ContractData\",C432, \"NetLastTradeToday\",, \"T\")","v":-0.43},{"$f":"IFERROR(RTD(\"cqg.rtd\", ,\"ContractData\",C432, \"PerCentNetLastTrade\",, \"T\")/100,\"\")","v":-5.2362396492937171E-3},{"$f":"RTD(\"cqg.rtd\", ,\"ContractData\", C432, \"T_CVol\",, \"T\")","v":167757},432,{"$f":"IFERROR(RANK($J432,$J$1:J$607)+COUNTIF($J$1:J432,J432)-1,\"\")","v":485},"S.US.POST","S.US.ACN",{"$f":"RTD(\"cqg.rtd\", ,\"ContractData\",O432, \"PerCentNetLastTrade\",, \"T\")/100","v":-2.0466639377814165E-3},"https://finance.yahoo.com/quote/ACN",null,{"$error":"#N/A"},2.0466639377814165E-3,null,{"$f":"RTD(\"cqg.rtd\", ,\"ContractData\",O432, \"LongDescription\",, \"T\")","v":"Accenture PLC Ireland"},null,null,-2.0466639377814165E-3,null,{"$error":"#N/A"},0,null,"",2.0466639377814165E-3,-2.0466639377814165E-3]
[null,null,"S.US.PPC",{"$f":"RTD(\"cqg.rtd\", ,\"ContractData\",C433, \"LongDescription\",, \"T\")","v":"Pilgrim's Pride Corporation"},{"$f":"RTD(\"cqg.rtd\", ,\"ContractData\",C433, \"Open\",, \"T\")","v":23.490000000000002},{"$f":"RTD(\"cqg.rtd\", ,\"ContractData\",C433, \"High\",, \"T\")","v":24.03},{"$f":"RTD(\"cqg.rtd\", ,\"ContractData\",C433, \"Low\",, \"T\")","v":23},{"$f":"RTD(\"cqg.rtd\", ,\"ContractData\",C433, \"LastTradeToday\",, \"T\")","v":23.85},{"$f":"RTD(\"cqg.rtd\", ,\"ContractData\",C433, \"NetLastTradeToday\",, \"T\")","v":0.41000000000000003},{"$f":"IFERROR(RTD(\"cqg.rtd\", ,\"ContractData\",C433, \"PerCentNetLastTrade\",, \"T\")/100,\"\")","v":1.7491467576791809E-2},{"$f":"RTD(\"cqg.rtd\", ,\"ContractData\", C433, \"T_CVol\",, \"T\")","v":973319},433,{"$f":"IFERROR(RANK($J433,$J$1:J$607)+COUNTIF($J$1:J433,J433)-1,\"\")","v":39},"S.US.PPC","S.US.LYV",{"$f":"RTD(\"cqg.rtd\", ,\"ContractData\",O433, \"PerCentNetLastTrade\",, \"T\")/100","v":-2.0827134781315083E-3},"https://finance.yahoo.com/quote/LYV",null,{"$error":"#N/A"},2.0827134781315083E-3,null,{"$f":"RTD(\"cqg.rtd\", ,\"ContractData\",O433, \"LongDescription\",, \"T\")","v":"Live Nation Entertainment Inc"},null,null,-2.0827134781315083E-3,null,{"$error":"#N/A"},0,null,"",2.0827134781315083E-3,-2.0827134781315083E-3]
[null,null,"S.US.PPG",{"$f":"RTD(\"cqg.rtd\", ,\"ContractData\",C434, \"LongDescription\",, \"T\")","v":"PPG Industries Inc"},{"$f":"RTD(\"cqg.rtd\", ,\"ContractData\",C434, \"Open\",, \"T\")","v":106.8},{"$f":"RTD(\"cqg.rtd\", ,\"ContractData\",C434, \"High\",, \"T\")","v":107.44},{"$f":"RTD(\"cqg.rtd\", ,\"ContractData\",C434, \"Low\",, \"T\")","v":106.18},{"$f":"RTD(\"cqg.rtd\", ,\"ContractData\",C434, \"LastTradeToday\",, \"T\")","v":107.03},{"$f":"RTD(\"cqg.rtd\", ,\"ContractData\",C434, \"NetLastTradeToday\",, \"T\")","v":0.33},{"$f":"IFERROR(RTD(\"cqg.rtd\", ,\"ContractData\",C434, \"PerCentNetLastTrade\",, \"T\")/100,\"\")","v":3.0927835051546395E-3},{"$f":"RTD(\"cqg.rtd\", ,\"ContractData\", C434, \"T_CVol\",, \"T\")","v":214565},434,{"$f":"IFERROR(RANK($J434,$J$1:J$607)+COUNTIF($J$1:J434,J434)-1,\"\")","v":276},"S.US.PPG","S.US.PFE",{"$f":"RTD(\"cqg.rtd\", ,\"ContractData\",O434, \"PerCentNetLastTrade\",, \"T\")/100","v":-2.1779713752333538E-3},"https://finance.yahoo.com/quote/PFE",null,{"$error":"#N/A"},2.1779713752333538E-3,null,{"$f":"RTD(\"cqg.rtd\", ,\"ContractData\",O434, \"LongDescription\",, \"T\")","v":"Pfizer Inc"},null,null,-2.1779713752333538E-3,null,{"$error":"#N/A"},0,null,"",2.1779713752333538E-3,-2.1779713752333538E-3]
[null,null,"S.US.PSA",{"$f":"RTD(\"cqg.rtd\", ,\"ContractData\",C435, \"LongDescription\",, \"T\")","v":"Public Storage Inc"},{"$f":"RTD(\"cqg.rtd\", ,\"ContractData\",C435, \"Open\",, \"T\")","v":217},{"$f":"RTD(\"cqg.rtd\", ,\"ContractData\",C435, \"High\",, \"T\")","v":218.99},{"$f":"RTD(\"cqg.rtd\", ,\"ContractData\",C435, \"Low\",, \"T\")","v":216.6},{"$f":"RTD(\"cqg.rtd\", ,\"ContractData\",C435, \"LastTradeToday\",, \"T\")","v":217.66},{"$f":"RTD(\"cqg.rtd\", ,\"ContractData\",C435, \"NetLastTradeToday\",, \"T\")","v":0.46},{"$f":"IFERROR(RTD(\"cqg.rtd\", ,\"ContractData\",C435, \"PerCentNetLastTrade\",, \"T\")/100,\"\")","v":2.1178637200736645E-3},{"$f":"RTD(\"cqg.rtd\", ,\"ContractData\", C435, \"T_CVol\",, \"T\")","v":445749},435,{"$f":"IFERROR(RANK($J435,$J$1:J$607)+COUNTIF($J$1:J435,J435)-1,\"\")","v":316},"S.US.PSA","S.US.IEX",{"$f":"RTD(\"cqg.rtd\", ,\"ContractData\",O435, \"PerCentNetLastTrade\",, \"T\")/100","v":-2.208927749654855E-3},"https://finance.yahoo.com/quote/IEX",null,{"$error":"#N/A"},2.208927749654855E-3,null,{"$f":"RTD(\"cqg.rtd\", ,\"ContractData\",O435, \"LongDescription\",, \"T\")","v":"Idex Corp"},null,null,-2.208927749654855E-3,null,{"$error":"#N/A"},0,null,"",2.208927749654855E-3,-2.208927749654855E-3]
[null,null,"S.US.PTC",{"$f":"RTD(\"cqg.rtd\", ,\"ContractData\",C436, \"LongDescription\",, \"T\")","v":"PTC Inc"},{"$f":"RTD(\"cqg.rtd\", ,\"ContractData\",C436, \"Open\",, \"T\")","v":56.11},{"$f":"RTD(\"cqg.rtd\", ,\"ContractData\",C436, \"High\",, \"T\")","v":57.44},{"$f":"RTD(\"cqg.rtd\", ,\"ContractData\",C436, \"Low\",, \"T\")","v":56.11},{"$f":"RTD(\"cqg.rtd\", ,\"ContractData\",C436, \"LastTradeToday\",, \"T\")","v":56.99},{"$f":"RTD(\"cqg.rtd\", ,\"ContractData\",C436, \"NetLastTradeToday\",, \"T\")","v":1.0900000000000001},{"$f":"IFERROR(RTD(\"cqg.rtd\", ,\"ContractData\",C436, \"PerCentNetLastTrade\",, \"T\")/100,\"\")","v":1.9499105545617172E-2},{"$f":"RTD(\"cqg.rtd\", ,\"ContractData\", C436, \"T_CVol\",, \"T\")","v":1031219},436,{"$f":"IFERROR(RANK($J436,$J$1:J$607)+COUNTIF($J$1:J436,J436)-1,\"\")","v":27},"S.US.PTC","S.US.HTA",{"$f":"RTD(\"cqg.rtd\", ,\"ContractData\",O436, \"PerCentNetLastTrade\",, \"T\")/100","v":-2.2116903633491313E-3},"https://finance.yahoo.com/quote/HTA",null,{"$error":"#N/A"},2.2116903633491313E-3,null,{"$f":"RTD(\"cqg.rtd\", ,\"ContractData\",O436, \"LongDescription\",, \"T\")","v":"Healthcare Trust of America, Inc."},null,null,-2.2116903633491313E-3,null,{"$error":"#N/A"},0,null,"",2.2116903633491313E-3,-2.2116903633491313E-3]
[null,null,"S.US.PTHN",{"$f":"RTD(\"cqg.rtd\", ,\"ContractData\",C437, \"LongDescription\",, \"T\")","v":"Patheon N.V."},{"$f":"RTD(\"cqg.rtd\", ,\"ContractData\",C437, \"Open\",, \"T\")","v":34.61},{"$f":"RTD(\"cqg.rtd\", ,\"ContractData\",C437, \"High\",, \"T\")","v":34.65},{"$f":"RTD(\"cqg.rtd\", ,\"ContractData\",C437, \"Low\",, \"T\")","v":34.6},{"$f":"RTD(\"cqg.rtd\", ,\"ContractData\",C437, \"LastTradeToday\",, \"T\")","v":34.65},{"$f":"RTD(\"cqg.rtd\", ,\"ContractData\",C437, \"NetLastTradeToday\",, \"T\")","v":0.05},{"$f":"IFERROR(RTD(\"cqg.rtd\", ,\"ContractData\",C437, \"PerCentNetLastTrade\",, \"T\")/100,\"\")","v":1.4450867052023123E-3},{"$f":"RTD(\"cqg.rtd\", ,\"ContractData\", C437, \"T_CVol\",, \"T\")","v":593695},437,{"$f":"IFERROR(RANK($J437,$J$1:J$607)+COUNTIF($J$1:J437,J437)-1,\"\")","v":339},"S.US.PTHN","S.US.PAY",{"$f":"RTD(\"cqg.rtd\", ,\"ContractData\",O437, \"PerCentNetLastTrade\",, \"T\")/100","v":-2.2446689113355782E-3},"https://finance.yahoo.com/quote/PAY",null,{"$error":"#N/A"},2.2446689113355782E-3,null,{"$f":"RTD(\"cqg.rtd\", ,\"ContractData\",O437, \"LongDescription\",, \"T\")","v":"Verifone Systems, Inc."},null,null,-2.2446689113355782E-3,null,{"$error":"#N/A"},0,null,"",2.2446689113355782E-3,-2.2446689113355782E-3]
[null,null,"S.US.PWR",{"$f":"RTD(\"cqg.rtd\", ,\"ContractData\",C438, \"LongDescription\",, \"T\")","v":"Quanta Services Inc"},{"$f":"RTD(\"cqg.rtd\", ,\"ContractData\",C438, \"Open\",, \"T\")","v":31.39},{"$f":"RTD(\"cqg.rtd\", ,\"ContractData\",C438, \"High\",, \"T\")","v":31.53},{"$f":"RTD(\"cqg.rtd\", ,\"ContractData\",C438, \"Low\",, \"T\")","v":31.16},{"$f":"RTD(\"cqg.rtd\", ,\"ContractData\",C438, \"LastTradeToday\",, \"T\")","v":31.26},{"$f":"RTD(\"cqg.rtd\", ,\"ContractData\",C438, \"NetLastTradeToday\",, \"T\")","v":-0.44},{"$f":"IFERROR(RTD(\"cqg.rtd\", ,\"ContractData\",C438, \"PerCentNetLastTrade\",, \"T\")/100,\"\")","v":-1.38801261829653E-2},{"$f":"RTD(\"cqg.rtd\", ,\"ContractData\", C438, \"T_CVol\",, \"T\")","v":696802},438,{"$f":"IFERROR(RANK($J438,$J$1:J$607)+COUNTIF($J$1:J438,J438)-1,\"\")","v":568},"S.US.PWR","S.US.USFD",{"$f":"RTD(\"cqg.rtd\", ,\"ContractData\",O438, \"PerCentNetLastTrade\",, \"T\")/100","v":-2.3769100169779285E-3},"https://finance.yahoo.com/quote/USFD",null,{"$error":"#N/A"},2.3769100169779285E-3,null,{"$f":"RTD(\"cqg.rtd\", ,\"ContractData\",O438, \"LongDescription\",, \"T\")","v":"US Foods Holding Corp."},null,null,-2.3769100169779285E-3,null,{"$error":"#N/A"},0,null,"",2.3769100169779285E-3,-2.3769100169779285E-3]
[null,null,"S.US.PX",{"$f":"RTD(\"cqg.rtd\", ,\"ContractData\",C439, \"LongDescription\",, \"T\")","v":"Praxair Inc"},{"$f":"RTD(\"cqg.rtd\", ,\"ContractData\",C439, \"Open\",, \"T\")","v":130.02000000000001},{"$f":"RTD(\"cqg.rtd\", ,\"ContractData\",C439, \"High\",, \"T\")","v":133.68},{"$f":"RTD(\"cqg.rtd\", ,\"ContractData\",C439, \"Low\",, \"T\")","v":129.41},{"$f":"RTD(\"cqg.rtd\", ,\"ContractData\",C439, \"LastTradeToday\",, \"T\")","v":132.29},{"$f":"RTD(\"cqg.rtd\", ,\"ContractData\",C439, \"NetLastTradeToday\",, \"T\")","v":2.3199999999999998},{"$f":"IFERROR(RTD(\"cqg.rtd\", ,\"ContractData\",C439, \"PerCentNetLastTrade\",, \"T\")/100,\"\")","v":1.7850273139955374E-2},{"$f":"RTD(\"cqg.rtd\", ,\"ContractData\", C439, \"T_CVol\",, \"T\")","v":1346018},439,{"$f":"IFERROR(RANK($J439,$J$1:J$607)+COUNTIF($J$1:J439,J439)-1,\"\")","v":36},"S.US.PX","S.US.SEIC",{"$f":"RTD(\"cqg.rtd\", ,\"ContractData\",O439, \"PerCentNetLastTrade\",, \"T\")/100","v":-2.4033647105948328E-3},"https://finance.yahoo.com/quote/SEIC",null,{"$error":"#N/A"},2.4033647105948328E-3,null,{"$f":"RTD(\"cqg.rtd\", ,\"ContractData\",O439, \"LongDescription\",, \"T\")","v":"SEI Investments Co"},null,null,-2.4033647105948328E-3,null,{"$error":"#N/A"},0,null,"",2.4033647105948328E-3,-2.4033647105948328E-3]
[null,null,"S.US.PYPL",{"$f":"RTD(\"cqg.rtd\", ,\"ContractData\",C440, \"LongDescription\",, \"T\")","v":"PayPal Holdings, Inc."},{"$f":"RTD(\"cqg.rtd\", ,\"ContractData\",C440, \"Open\",, \"T\")","v":50.230000000000004},{"$f":"RTD(\"cqg.rtd\", ,\"ContractData\",C440, \"High\",, \"T\")","v":51.06},{"$f":"RTD(\"cqg.rtd\", ,\"ContractData\",C440, \"Low\",, \"T\")","v":50.14},{"$f":"RTD(\"cqg.rtd\", ,\"ContractData\",C440, \"LastTradeToday\",, \"T\")","v":50.910000000000004},{"$f":"RTD(\"cqg.rtd\", ,\"ContractData\",C440, \"NetLastTradeToday\",, \"T\")","v":0.78},{"$f":"IFERROR(RTD(\"cqg.rtd\", ,\"ContractData\",C440, \"PerCentNetLastTrade\",, \"T\")/100,\"\")","v":1.5559545182525433E-2},{"$f":"RTD(\"cqg.rtd\", ,\"ContractData\", C440, \"T_CVol\",, \"T\")","v":4096347},440,{"$f":"IFERROR(RANK($J440,$J$1:J$607)+COUNTIF($J$1:J440,J440)-1,\"\")","v":52},"S.US.PYPL","S.US.SSNC",{"$f":"RTD(\"cqg.rtd\", ,\"ContractData\",O440, \"PerCentNetLastTrade\",, \"T\")/100","v":-2.4258760107816711E-3},"https://finance.yahoo.com/quote/SSNC",null,{"$error":"#N/A"},2.4258760107816711E-3,null,{"$f":"RTD(\"cqg.rtd\", ,\"ContractData\",O440, \"LongDescription\",, \"T\")","v":"SS&C Technologies Holdings, Inc."},null,null,-2.4258760107816711E-3,null,{"$error":"#N/A"},0,null,"",2.4258760107816711E-3,-2.4258760107816711E-3]
[null,null,"S.US.Q",{"$f":"RTD(\"cqg.rtd\", ,\"ContractData\",C441, \"LongDescription\",, \"T\")","v":"Quintiles IMS Holdings, Inc."},{"$f":"RTD(\"cqg.rtd\", ,\"ContractData\",C441, \"Open\",, \"T\")","v":83.98},{"$f":"RTD(\"cqg.rtd\", ,\"ContractData\",C441, \"High\",, \"T\")","v":84.26},{"$f":"RTD(\"cqg.rtd\", ,\"ContractData\",C441, \"Low\",, \"T\")","v":83.24},{"$f":"RTD(\"cqg.rtd\", ,\"ContractData\",C441, \"LastTradeToday\",, \"T\")","v":84.25},{"$f":"RTD(\"cqg.rtd\", ,\"ContractData\",C441, \"NetLastTradeToday\",, \"T\")","v":0.45},{"$f":"IFERROR(RTD(\"cqg.rtd\", ,\"ContractData\",C441, \"PerCentNetLastTrade\",, \"T\")/100,\"\")","v":5.3699284009546544E-3},{"$f":"RTD(\"cqg.rtd\", ,\"ContractData\", C441, \"T_CVol\",, \"T\")","v":191998},441,{"$f":"IFERROR(RANK($J441,$J$1:J$607)+COUNTIF($J$1:J441,J441)-1,\"\")","v":202},"S.US.Q","S.US.CHRW",{"$f":"RTD(\"cqg.rtd\", ,\"ContractData\",O441, \"PerCentNetLastTrade\",, \"T\")/100","v":-2.4875621890547263E-3},"https://finance.yahoo.com/quote/CHRW",null,{"$error":"#N/A"},2.4875621890547263E-3,null,{"$f":"RTD(\"cqg.rtd\", ,\"ContractData\",O441, \"LongDescription\",, \"T\")","v":"CH Robinson Worldwide Inc"},null,null,-2.4875621890547263E-3,null,{"$error":"#N/A"},0,null,"",2.4875621890547263E-3,-2.4875621890547263E-3]
[null,null,"S.US.QCOM",{"$f":"RTD(\"cqg.rtd\", ,\"ContractData\",C442, \"LongDescription\",, \"T\")","v":"QUALCOMM Inc"},{"$f":"RTD(\"cqg.rtd\", ,\"ContractData\",C442, \"Open\",, \"T\")","v":59.28},{"$f":"RTD(\"cqg.rtd\", ,\"ContractData\",C442, \"High\",, \"T\")","v":59.620000000000005},{"$f":"RTD(\"cqg.rtd\", ,\"ContractData\",C442, \"Low\",, \"T\")","v":58.620000000000005},{"$f":"RTD(\"cqg.rtd\", ,\"ContractData\",C442, \"LastTradeToday\",, \"T\")","v":58.78},{"$f":"RTD(\"cqg.rtd\", ,\"ContractData\",C442, \"NetLastTradeToday\",, \"T\")","v":-0.44},{"$f":"IFERROR(RTD(\"cqg.rtd\", ,\"ContractData\",C442, \"PerCentNetLastTrade\",, \"T\")/100,\"\")","v":-7.4299223235393449E-3},{"$f":"RTD(\"cqg.rtd\", ,\"ContractData\", C442, \"T_CVol\",, \"T\")","v":5103872},442,{"$f":"IFERROR(RANK($J442,$J$1:J$607)+COUNTIF($J$1:J442,J442)-1,\"\")","v":516},"S.US.QCOM","S.US.WBC",{"$f":"RTD(\"cqg.rtd\", ,\"ContractData\",O442, \"PerCentNetLastTrade\",, \"T\")/100","v":-2.6105263157894737E-3},"https://finance.yahoo.com/quote/WBC",null,{"$error":"#N/A"},2.6105263157894737E-3,null,{"$f":"RTD(\"cqg.rtd\", ,\"ContractData\",O442, \"LongDescription\",, \"T\")","v":"WABCO Holdings Inc."},null,null,-2.6105263157894737E-3,null,{"$error":"#N/A"},0,null,"",2.6105263157894737E-3,-2.6105263157894737E-3]
[null,null,"S.US.QRVO",{"$f":"RTD(\"cqg.rtd\", ,\"ContractData\",C443, \"LongDescription\",, \"T\")","v":"Qorvo"},{"$f":"RTD(\"cqg.rtd\", ,\"ContractData\",C443, \"Open\",, \"T\")","v":78.81},{"$f":"RTD(\"cqg.rtd\", ,\"ContractData\",C443, \"High\",, \"T\")","v":79.2},{"$f":"RTD(\"cqg.rtd\", ,\"ContractData\",C443, \"Low\",, \"T\")","v":77.37},{"$f":"RTD(\"cqg.rtd\", ,\"ContractData\",C443, \"LastTradeToday\",, \"T\")","v":78.08},{"$f":"RTD(\"cqg.rtd\", ,\"ContractData\",C443, \"NetLastTradeToday\",, \"T\")","v":-0.47000000000000003},{"$f":"IFERROR(RTD(\"cqg.rtd\", ,\"ContractData\",C443, \"PerCentNetLastTrade\",, \"T\")/100,\"\")","v":-5.9834500318268627E-3},{"$f":"RTD(\"cqg.rtd\", ,\"ContractData\", C443, \"T_CVol\",, \"T\")","v":1167079},443,{"$f":"IFERROR(RANK($J443,$J$1:J$607)+COUNTIF($J$1:J443,J443)-1,\"\")","v":495},"S.US.QRVO","S.US.DVA",{"$f":"RTD(\"cqg.rtd\", ,\"ContractData\",O443, \"PerCentNetLastTrade\",, \"T\")/100","v":-2.6202219482120838E-3},"https://finance.yahoo.com/quote/DVA",null,{"$error":"#N/A"},2.6202219482120838E-3,null,{"$f":"RTD(\"cqg.rtd\", ,\"ContractData\",O443, \"LongDescription\",, \"T\")","v":"DaVita Inc."},null,null,-2.6202219482120838E-3,null,{"$error":"#N/A"},0,null,"",2.6202219482120838E-3,-2.6202219482120838E-3]
[null,null,"S.US.QVCA",{"$f":"RTD(\"cqg.rtd\", ,\"ContractData\",C444, \"LongDescription\",, \"T\")","v":"Liberty Interactive Corporation Series A"},{"$f":"RTD(\"cqg.rtd\", ,\"ContractData\",C444, \"Open\",, \"T\")","v":23.57},{"$f":"RTD(\"cqg.rtd\", ,\"ContractData\",C444, \"High\",, \"T\")","v":23.71},{"$f":"RTD(\"cqg.rtd\", ,\"ContractData\",C444, \"Low\",, \"T\")","v":23.45},{"$f":"RTD(\"cqg.rtd\", ,\"ContractData\",C444, \"LastTradeToday\",, \"T\")","v":23.57},{"$f":"RTD(\"cqg.rtd\", ,\"ContractData\",C444, \"NetLastTradeToday\",, \"T\")","v":0.04},{"$f":"IFERROR(RTD(\"cqg.rtd\", ,\"ContractData\",C444, \"PerCentNetLastTrade\",, \"T\")/100,\"\")","v":1.6999575010624734E-3},{"$f":"RTD(\"cqg.rtd\", ,\"ContractData\", C444, \"T_CVol\",, \"T\")","v":608628},444,{"$f":"IFERROR(RANK($J444,$J$1:J$607)+COUNTIF($J$1:J444,J444)-1,\"\")","v":332},"S.US.QVCA","S.US.MTN",{"$f":"RTD(\"cqg.rtd\", ,\"ContractData\",O444, \"PerCentNetLastTrade\",, \"T\")/100","v":-2.6222502792210946E-3},"https://finance.yahoo.com/quote/MTN",null,{"$error":"#N/A"},2.6222502792210946E-3,null,{"$f":"RTD(\"cqg.rtd\", ,\"ContractData\",O444, \"LongDescription\",, \"T\")","v":"Vail Resorts Inc"},null,null,-2.6222502792210946E-3,null,{"$error":"#N/A"},0,null,"",2.6222502792210946E-3,-2.6222502792210946E-3]
[null,null,"S.US.RAD",{"$f":"RTD(\"cqg.rtd\", ,\"ContractData\",C445, \"LongDescription\",, \"T\")","v":"Rite Aid Corp"},{"$f":"RTD(\"cqg.rtd\", ,\"ContractData\",C445, \"Open\",, \"T\")","v":3.54},{"$f":"RTD(\"cqg.rtd\", ,\"ContractData\",C445, \"High\",, \"T\")","v":3.77},{"$f":"RTD(\"cqg.rtd\", ,\"ContractData\",C445, \"Low\",, \"T\")","v":3.54},{"$f":"RTD(\"cqg.rtd\", ,\"ContractData\",C445, \"LastTradeToday\",, \"T\")","v":3.75},{"$f":"RTD(\"cqg.rtd\", ,\"ContractData\",C445, \"NetLastTradeToday\",, \"T\")","v":0.21},{"$f":"IFERROR(RTD(\"cqg.rtd\", ,\"ContractData\",C445, \"PerCentNetLastTrade\",, \"T\")/100,\"\")","v":5.9322033898305086E-2},{"$f":"RTD(\"cqg.rtd\", ,\"ContractData\", C445, \"T_CVol\",, \"T\")","v":13488559},445,{"$f":"IFERROR(RANK($J445,$J$1:J$607)+COUNTIF($J$1:J445,J445)-1,\"\")","v":2},"S.US.RAD","S.US.COTY",{"$f":"RTD(\"cqg.rtd\", ,\"ContractData\",O445, \"PerCentNetLastTrade\",, \"T\")/100","v":-2.6343519494204425E-3},"https://finance.yahoo.com/quote/COTY",null,{"$error":"#N/A"},2.6343519494204425E-3,null,{"$f":"RTD(\"cqg.rtd\", ,\"ContractData\",O445, \"LongDescription\",, \"T\")","v":"COTY Inc"},null,null,-2.6343519494204425E-3,null,{"$error":"#N/A"},0,null,"",2.6343519494204425E-3,-2.6343519494204425E-3]
[null,null,"S.US.RAI",{"$f":"RTD(\"cqg.rtd\", ,\"ContractData\",C446, \"LongDescription\",, \"T\")","v":"Reynolds American Inc."},{"$f":"RTD(\"cqg.rtd\", ,\"ContractData\",C446, \"Open\",, \"T\")","v":66.19},{"$f":"RTD(\"cqg.rtd\", ,\"ContractData\",C446, \"High\",, \"T\")","v":66.48},{"$f":"RTD(\"cqg.rtd\", ,\"ContractData\",C446, \"Low\",, \"T\")","v":66.17},{"$f":"RTD(\"cqg.rtd\", ,\"ContractData\",C446, \"LastTradeToday\",, \"T\")","v":66.45},{"$f":"RTD(\"cqg.rtd\", ,\"ContractData\",C446, \"NetLastTradeToday\",, \"T\")","v":0.32},{"$f":"IFERROR(RTD(\"cqg.rtd\", ,\"ContractData\",C446, \"PerCentNetLastTrade\",, \"T\")/100,\"\")","v":4.8389535762891275E-3},{"$f":"RTD(\"cqg.rtd\", ,\"ContractData\", C446, \"T_CVol\",, \"T\")","v":1166336},446,{"$f":"IFERROR(RANK($J446,$J$1:J$607)+COUNTIF($J$1:J446,J446)-1,\"\")","v":219},"S.US.RAI","S.US.NUAN",{"$f":"RTD(\"cqg.rtd\", ,\"ContractData\",O446, \"PerCentNetLastTrade\",, \"T\")/100","v":-2.6567481402763014E-3},"https://finance.yahoo.com/quote/NUAN",null,{"$error":"#N/A"},2.6567481402763014E-3,null,{"$f":"RTD(\"cqg.rtd\", ,\"ContractData\",O446, \"LongDescription\",, \"T\")","v":"Nuance Communications"},null,null,-2.6567481402763014E-3,null,{"$error":"#N/A"},0,null,"",2.6567481402763014E-3,-2.6567481402763014E-3]
[null,null,"S.US.REG",{"$f":"RTD(\"cqg.rtd\", ,\"ContractData\",C447, \"LongDescription\",, \"T\")","v":"Regency Realty Corp"},{"$f":"RTD(\"cqg.rtd\", ,\"ContractData\",C447, \"Open\",, \"T\")","v":60.88},{"$f":"RTD(\"cqg.rtd\", ,\"ContractData\",C447, \"High\",, \"T\")","v":62.13},{"$f":"RTD(\"cqg.rtd\", ,\"ContractData\",C447, \"Low\",, \"T\")","v":60.74},{"$f":"RTD(\"cqg.rtd\", ,\"ContractData\",C447, \"LastTradeToday\",, \"T\")","v":62.050000000000004},{"$f":"RTD(\"cqg.rtd\", ,\"ContractData\",C447, \"NetLastTradeToday\",, \"T\")","v":1.29},{"$f":"IFERROR(RTD(\"cqg.rtd\", ,\"ContractData\",C447, \"PerCentNetLastTrade\",, \"T\")/100,\"\")","v":2.1231073074391045E-2},{"$f":"RTD(\"cqg.rtd\", ,\"ContractData\", C447, \"T_CVol\",, \"T\")","v":773903},447,{"$f":"IFERROR(RANK($J447,$J$1:J$607)+COUNTIF($J$1:J447,J447)-1,\"\")","v":22},"S.US.REG","S.US.NFLX",{"$f":"RTD(\"cqg.rtd\", ,\"ContractData\",O447, \"PerCentNetLastTrade\",, \"T\")/100","v":-2.6590693257359924E-3},"https://finance.yahoo.com/quote/NFLX",null,{"$error":"#N/A"},2.6590693257359924E-3,null,{"$f":"RTD(\"cqg.rtd\", ,\"ContractData\",O447, \"LongDescription\",, \"T\")","v":"Netflix Inc"},null,null,-2.6590693257359924E-3,null,{"$error":"#N/A"},0,null,"",2.6590693257359924E-3,-2.6590693257359924E-3]
[null,null,"S.US.REGN",{"$f":"RTD(\"cqg.rtd\", ,\"ContractData\",C448, \"LongDescription\",, \"T\")","v":"Regeneron Pharm Inc"},{"$f":"RTD(\"cqg.rtd\", ,\"ContractData\",C448, \"Open\",, \"T\")","v":461.37},{"$f":"RTD(\"cqg.rtd\", ,\"ContractData\",C448, \"High\",, \"T\")","v":461.93},{"$f":"RTD(\"cqg.rtd\", ,\"ContractData\",C448, \"Low\",, \"T\")","v":452.11},{"$f":"RTD(\"cqg.rtd\", ,\"ContractData\",C448, \"LastTradeToday\",, \"T\")","v":457.59000000000003},{"$f":"RTD(\"cqg.rtd\", ,\"ContractData\",C448, \"NetLastTradeToday\",, \"T\")","v":-3.7800000000000002},{"$f":"IFERROR(RTD(\"cqg.rtd\", ,\"ContractData\",C448, \"PerCentNetLastTrade\",, \"T\")/100,\"\")","v":-8.1929904415111512E-3},{"$f":"RTD(\"cqg.rtd\", ,\"ContractData\", C448, \"T_CVol\",, \"T\")","v":344145},448,{"$f":"IFERROR(RANK($J448,$J$1:J$607)+COUNTIF($J$1:J448,J448)-1,\"\")","v":526},"S.US.REGN","S.US.LAZ",{"$f":"RTD(\"cqg.rtd\", ,\"ContractData\",O448, \"PerCentNetLastTrade\",, \"T\")/100","v":-2.7328626736506491E-3},"https://finance.yahoo.com/quote/LAZ",null,{"$error":"#N/A"},2.7328626736506491E-3,null,{"$f":"RTD(\"cqg.rtd\", ,\"ContractData\",O448, \"LongDescription\",, \"T\")","v":"Lazard Ltd"},null,null,-2.7328626736506491E-3,null,{"$error":"#N/A"},0,null,"",2.7328626736506491E-3,-2.7328626736506491E-3]
[null,null,"S.US.RGC",{"$f":"RTD(\"cqg.rtd\", ,\"ContractData\",C449, \"LongDescription\",, \"T\")","v":"Regal Entertainment Group"},{"$f":"RTD(\"cqg.rtd\", ,\"ContractData\",C449, \"Open\",, \"T\")","v":20.53},{"$f":"RTD(\"cqg.rtd\", ,\"ContractData\",C449, \"High\",, \"T\")","v":20.580000000000002},{"$f":"RTD(\"cqg.rtd\", ,\"ContractData\",C449, \"Low\",, \"T\")","v":20.25},{"$f":"RTD(\"cqg.rtd\", ,\"ContractData\",C449, \"LastTradeToday\",, \"T\")","v":20.260000000000002},{"$f":"RTD(\"cqg.rtd\", ,\"ContractData\",C449, \"NetLastTradeToday\",, \"T\")","v":-0.25},{"$f":"IFERROR(RTD(\"cqg.rtd\", ,\"ContractData\",C449, \"PerCentNetLastTrade\",, \"T\")/100,\"\")","v":-1.2189176011701608E-2},{"$f":"RTD(\"cqg.rtd\", ,\"ContractData\", C449, \"T_CVol\",, \"T\")","v":1502743},449,{"$f":"IFERROR(RANK($J449,$J$1:J$607)+COUNTIF($J$1:J449,J449)-1,\"\")","v":561},"S.US.RGC","S.US.LSI",{"$f":"RTD(\"cqg.rtd\", ,\"ContractData\",O449, \"PerCentNetLastTrade\",, \"T\")/100","v":-2.7591643673630273E-3},"https://finance.yahoo.com/quote/LSI",null,{"$error":"#N/A"},2.7591643673630273E-3,null,{"$f":"RTD(\"cqg.rtd\", ,\"ContractData\",O449, \"LongDescription\",, \"T\")","v":"Life Storage, Inc."},null,null,-2.7591643673630273E-3,null,{"$error":"#N/A"},0,null,"",2.7591643673630273E-3,-2.7591643673630273E-3]
[null,null,"S.US.RGLD",{"$f":"RTD(\"cqg.rtd\", ,\"ContractData\",C450, \"LongDescription\",, \"T\")","v":"Royal Gold Inc"},{"$f":"RTD(\"cqg.rtd\", ,\"ContractData\",C450, \"Open\",, \"T\")","v":79.03},{"$f":"RTD(\"cqg.rtd\", ,\"ContractData\",C450, \"High\",, \"T\")","v":79.86},{"$f":"RTD(\"cqg.rtd\", ,\"ContractData\",C450, \"Low\",, \"T\")","v":78.22},{"$f":"RTD(\"cqg.rtd\", ,\"ContractData\",C450, \"LastTradeToday\",, \"T\")","v":79.37},{"$f":"RTD(\"cqg.rtd\", ,\"ContractData\",C450, \"NetLastTradeToday\",, \"T\")","v":0.2},{"$f":"IFERROR(RTD(\"cqg.rtd\", ,\"ContractData\",C450, \"PerCentNetLastTrade\",, \"T\")/100,\"\")","v":2.526209422761147E-3},{"$f":"RTD(\"cqg.rtd\", ,\"ContractData\", C450, \"T_CVol\",, \"T\")","v":266637},450,{"$f":"IFERROR(RANK($J450,$J$1:J$607)+COUNTIF($J$1:J450,J450)-1,\"\")","v":297},"S.US.RGLD",{"$f":"VLOOKUP($L450,$M$1:$N$607,2,FALSE)","v":"S.US.HGV"},{"$f":"RTD(\"cqg.rtd\", ,\"ContractData\",O450, \"PerCentNetLastTrade\",, \"T\")/100","v":-2.760143527463428E-3},{"$f":"\"https://finance.yahoo.com/quote/\"&RIGHT(O450,(LEN(O450)-5))","v":"https://finance.yahoo.com/quote/HGV"},null,{"$error":"#N/A"},2.760143527463428E-3,null,{"$f":"RTD(\"cqg.rtd\", ,\"ContractData\",O450, \"LongDescription\",, \"T\")","v":"Hilton Grand Vacations Inc."},null,null,-2.760143527463428E-3,null,{"$error":"#N/A"},0,null,"",2.760143527463428E-3,-2.760143527463428E-3]
[null,null,"S.US.RHI",{"$f":"RTD(\"cqg.rtd\", ,\"ContractData\",C451, \"LongDescription\",, \"T\")","v":"Robert Half Intl Inc"},{"$f":"RTD(\"cqg.rtd\", ,\"ContractData\",C451, \"Open\",, \"T\")","v":46.49},{"$f":"RTD(\"cqg.rtd\", ,\"ContractData\",C451, \"High\",, \"T\")","v":46.49},{"$f":"RTD(\"cqg.rtd\", ,\"ContractData\",C451, \"Low\",, \"T\")","v":45.65},{"$f":"RTD(\"cqg.rtd\", ,\"ContractData\",C451, \"LastTradeToday\",, \"T\")","v":45.800000000000004},{"$f":"RTD(\"cqg.rtd\", ,\"ContractData\",C451, \"NetLastTradeToday\",, \"T\")","v":-0.43},{"$f":"IFERROR(RTD(\"cqg.rtd\", ,\"ContractData\",C451, \"PerCentNetLastTrade\",, \"T\")/100,\"\")","v":-9.3013194895089774E-3},{"$f":"RTD(\"cqg.rtd\", ,\"ContractData\", C451, \"T_CVol\",, \"T\")","v":312519},{"$f":"L450+1","v":451},{"$f":"IFERROR(RANK($J451,$J$1:J$607)+COUNTIF($J$1:J451,J451)-1,\"\")","v":535},"S.US.RHI","S.US.WFM",{"$f":"RTD(\"cqg.rtd\", ,\"ContractData\",O451, \"PerCentNetLastTrade\",, \"T\")/100","v":-2.8304557033682421E-3},"https://finance.yahoo.com/quote/WFM",null,{"$error":"#N/A"},2.8304557033682421E-3,null,{"$f":"RTD(\"cqg.rtd\", ,\"ContractData\",O451, \"LongDescription\",, \"T\")","v":"Whole Foods Market, Inc."},null,null,-2.8304557033682421E-3,null,{"$error":"#N/A"},0,null,"",2.8304557033682421E-3,-2.8304557033682421E-3]
[null,null,"S.US.RHT",{"$f":"RTD(\"cqg.rtd\", ,\"ContractData\",C452, \"LongDescription\",, \"T\")","v":"Red Hat Inc"},{"$f":"RTD(\"cqg.rtd\", ,\"ContractData\",C452, \"Open\",, \"T\")","v":87.61},{"$f":"RTD(\"cqg.rtd\", ,\"ContractData\",C452, \"High\",, \"T\")","v":88.28},{"$f":"RTD(\"cqg.rtd\", ,\"ContractData\",C452, \"Low\",, \"T\")","v":87.3},{"$f":"RTD(\"cqg.rtd\", ,\"ContractData\",C452, \"LastTradeToday\",, \"T\")","v":87.98},{"$f":"RTD(\"cqg.rtd\", ,\"ContractData\",C452, \"NetLastTradeToday\",, \"T\")","v":0.35000000000000003},{"$f":"IFERROR(RTD(\"cqg.rtd\", ,\"ContractData\",C452, \"PerCentNetLastTrade\",, \"T\")/100,\"\")","v":3.9940659591464114E-3},{"$f":"RTD(\"cqg.rtd\", ,\"ContractData\", C452, \"T_CVol\",, \"T\")","v":346458},452,{"$f":"IFERROR(RANK($J452,$J$1:J$607)+COUNTIF($J$1:J452,J452)-1,\"\")","v":242},"S.US.RHT","S.US.GWW",{"$f":"RTD(\"cqg.rtd\", ,\"ContractData\",O452, \"PerCentNetLastTrade\",, \"T\")/100","v":-3.0007926622126601E-3},"https://finance.yahoo.com/quote/GWW",null,{"$error":"#N/A"},3.0007926622126601E-3,null,{"$f":"RTD(\"cqg.rtd\", ,\"ContractData\",O452, \"LongDescription\",, \"T\")","v":"Grainger (WW) Inc"},null,null,-3.0007926622126601E-3,null,{"$error":"#N/A"},0,null,"",3.0007926622126601E-3,-3.0007926622126601E-3]
[null,null,"S.US.RL",{"$f":"RTD(\"cqg.rtd\", ,\"ContractData\",C453, \"LongDescription\",, \"T\")","v":"Ralph Lauren Corporation"},{"$f":"RTD(\"cqg.rtd\", ,\"ContractData\",C453, \"Open\",, \"T\")","v":67.64},{"$f":"RTD(\"cqg.rtd\", ,\"ContractData\",C453, \"High\",, \"T\")","v":67.7},{"$f":"RTD(\"cqg.rtd\", ,\"ContractData\",C453, \"Low\",, \"T\")","v":66.25},{"$f":"RTD(\"cqg.rtd\", ,\"ContractData\",C453, \"LastTradeToday\",, \"T\")","v":66.59},{"$f":"RTD(\"cqg.rtd\", ,\"ContractData\",C453, \"NetLastTradeToday\",, \"T\")","v":-1.1100000000000001},{"$f":"IFERROR(RTD(\"cqg.rtd\", ,\"ContractData\",C453, \"PerCentNetLastTrade\",, \"T\")/100,\"\")","v":-1.6395864106351552E-2},{"$f":"RTD(\"cqg.rtd\", ,\"ContractData\", C453, \"T_CVol\",, \"T\")","v":1032902},453,{"$f":"IFERROR(RANK($J453,$J$1:J$607)+COUNTIF($J$1:J453,J453)-1,\"\")","v":577},"S.US.RL","S.US.WAB",{"$f":"RTD(\"cqg.rtd\", ,\"ContractData\",O453, \"PerCentNetLastTrade\",, \"T\")/100","v":-3.0484087306426044E-3},"https://finance.yahoo.com/quote/WAB",null,{"$error":"#N/A"},3.0484087306426044E-3,null,{"$f":"RTD(\"cqg.rtd\", ,\"ContractData\",O453, \"LongDescription\",, \"T\")","v":"Westinghouse Air Brake Co"},null,null,-3.0484087306426044E-3,null,{"$error":"#N/A"},0,null,"",3.0484087306426044E-3,-3.0484087306426044E-3]
[null,null,"S.US.RMD",{"$f":"RTD(\"cqg.rtd\", ,\"ContractData\",C454, \"LongDescription\",, \"T\")","v":"Resmed Inc"},{"$f":"RTD(\"cqg.rtd\", ,\"ContractData\",C454, \"Open\",, \"T\")","v":69.81},{"$f":"RTD(\"cqg.rtd\", ,\"ContractData\",C454, \"High\",, \"T\")","v":70.150000000000006},{"$f":"RTD(\"cqg.rtd\", ,\"ContractData\",C454, \"Low\",, \"T\")","v":69.7},{"$f":"RTD(\"cqg.rtd\", ,\"ContractData\",C454, \"LastTradeToday\",, \"T\")","v":69.930000000000007},{"$f":"RTD(\"cqg.rtd\", ,\"ContractData\",C454, \"NetLastTradeToday\",, \"T\")","v":0.33},{"$f":"IFERROR(RTD(\"cqg.rtd\", ,\"ContractData\",C454, \"PerCentNetLastTrade\",, \"T\")/100,\"\")","v":4.7413793103448275E-3},{"$f":"RTD(\"cqg.rtd\", ,\"ContractData\", C454, \"T_CVol\",, \"T\")","v":123739},454,{"$f":"IFERROR(RANK($J454,$J$1:J$607)+COUNTIF($J$1:J454,J454)-1,\"\")","v":224},"S.US.RMD","S.US.NKE",{"$f":"RTD(\"cqg.rtd\", ,\"ContractData\",O454, \"PerCentNetLastTrade\",, \"T\")/100","v":-3.0651340996168579E-3},"https://finance.yahoo.com/quote/NKE",null,{"$error":"#N/A"},3.0651340996168579E-3,null,{"$f":"RTD(\"cqg.rtd\", ,\"ContractData\",O454, \"LongDescription\",, \"T\")","v":"NIKE Inc ClsB"},null,null,-3.0651340996168579E-3,null,{"$error":"#N/A"},0,null,"",3.0651340996168579E-3,-3.0651340996168579E-3]
[null,null,"S.US.ROK",{"$f":"RTD(\"cqg.rtd\", ,\"ContractData\",C455, \"LongDescription\",, \"T\")","v":"Rockwell Automation Inc"},{"$f":"RTD(\"cqg.rtd\", ,\"ContractData\",C455, \"Open\",, \"T\")","v":158.95000000000002},{"$f":"RTD(\"cqg.rtd\", ,\"ContractData\",C455, \"High\",, \"T\")","v":159.42000000000002},{"$f":"RTD(\"cqg.rtd\", ,\"ContractData\",C455, \"Low\",, \"T\")","v":157.33000000000001},{"$f":"RTD(\"cqg.rtd\", ,\"ContractData\",C455, \"LastTradeToday\",, \"T\")","v":157.86000000000001},{"$f":"RTD(\"cqg.rtd\", ,\"ContractData\",C455, \"NetLastTradeToday\",, \"T\")","v":-0.73},{"$f":"IFERROR(RTD(\"cqg.rtd\", ,\"ContractData\",C455, \"PerCentNetLastTrade\",, \"T\")/100,\"\")","v":-4.6030645059587615E-3},{"$f":"RTD(\"cqg.rtd\", ,\"ContractData\", C455, \"T_CVol\",, \"T\")","v":376861},455,{"$f":"IFERROR(RANK($J455,$J$1:J$607)+COUNTIF($J$1:J455,J455)-1,\"\")","v":475},"S.US.ROK","S.US.GPS",{"$f":"RTD(\"cqg.rtd\", ,\"ContractData\",O455, \"PerCentNetLastTrade\",, \"T\")/100","v":-3.1362007168458782E-3},"https://finance.yahoo.com/quote/GPS",null,{"$error":"#N/A"},3.1362007168458782E-3,null,{"$f":"RTD(\"cqg.rtd\", ,\"ContractData\",O455, \"LongDescription\",, \"T\")","v":"Gap Inc"},null,null,-3.1362007168458782E-3,null,{"$error":"#N/A"},0,null,"",3.1362007168458782E-3,-3.1362007168458782E-3]
[null,null,"S.US.ROL",{"$f":"RTD(\"cqg.rtd\", ,\"ContractData\",C456, \"LongDescription\",, \"T\")","v":"Rollins Inc"},{"$f":"RTD(\"cqg.rtd\", ,\"ContractData\",C456, \"Open\",, \"T\")","v":42.77},{"$f":"RTD(\"cqg.rtd\", ,\"ContractData\",C456, \"High\",, \"T\")","v":43.04},{"$f":"RTD(\"cqg.rtd\", ,\"ContractData\",C456, \"Low\",, \"T\")","v":42.69},{"$f":"RTD(\"cqg.rtd\", ,\"ContractData\",C456, \"LastTradeToday\",, \"T\")","v":42.85},{"$f":"RTD(\"cqg.rtd\", ,\"ContractData\",C456, \"NetLastTradeToday\",, \"T\")","v":0.34},{"$f":"IFERROR(RTD(\"cqg.rtd\", ,\"ContractData\",C456, \"PerCentNetLastTrade\",, \"T\")/100,\"\")","v":7.998118089861209E-3},{"$f":"RTD(\"cqg.rtd\", ,\"ContractData\", C456, \"T_CVol\",, \"T\")","v":289790},456,{"$f":"IFERROR(RANK($J456,$J$1:J$607)+COUNTIF($J$1:J456,J456)-1,\"\")","v":143},"S.US.ROL","S.US.ABT",{"$f":"RTD(\"cqg.rtd\", ,\"ContractData\",O456, \"PerCentNetLastTrade\",, \"T\")/100","v":-3.2051282051282055E-3},"https://finance.yahoo.com/quote/ABT",null,{"$error":"#N/A"},3.2051282051282055E-3,null,{"$f":"RTD(\"cqg.rtd\", ,\"ContractData\",O456, \"LongDescription\",, \"T\")","v":"Abbott Laboratories"},null,null,-3.2051282051282055E-3,null,{"$error":"#N/A"},0,null,"",3.2051282051282055E-3,-3.2051282051282055E-3]
[null,null,"S.US.ROP",{"$f":"RTD(\"cqg.rtd\", ,\"ContractData\",C457, \"LongDescription\",, \"T\")","v":"Roper Technologies, Inc."},{"$f":"RTD(\"cqg.rtd\", ,\"ContractData\",C457, \"Open\",, \"T\")","v":224.8},{"$f":"RTD(\"cqg.rtd\", ,\"ContractData\",C457, \"High\",, \"T\")","v":225.79},{"$f":"RTD(\"cqg.rtd\", ,\"ContractData\",C457, \"Low\",, \"T\")","v":224.12},{"$f":"RTD(\"cqg.rtd\", ,\"ContractData\",C457, \"LastTradeToday\",, \"T\")","v":224.95000000000002},{"$f":"RTD(\"cqg.rtd\", ,\"ContractData\",C457, \"NetLastTradeToday\",, \"T\")","v":0.14000000000000001},{"$f":"IFERROR(RTD(\"cqg.rtd\", ,\"ContractData\",C457, \"PerCentNetLastTrade\",, \"T\")/100,\"\")","v":6.2274809839419959E-4},{"$f":"RTD(\"cqg.rtd\", ,\"ContractData\", C457, \"T_CVol\",, \"T\")","v":64905},457,{"$f":"IFERROR(RANK($J457,$J$1:J$607)+COUNTIF($J$1:J457,J457)-1,\"\")","v":366},"S.US.ROP","S.US.MSI",{"$f":"RTD(\"cqg.rtd\", ,\"ContractData\",O457, \"PerCentNetLastTrade\",, \"T\")/100","v":-3.2882718304713186E-3},"https://finance.yahoo.com/quote/MSI",null,{"$error":"#N/A"},3.2882718304713186E-3,null,{"$f":"RTD(\"cqg.rtd\", ,\"ContractData\",O457, \"LongDescription\",, \"T\")","v":"Motorola Solutions, Inc."},null,null,-3.2882718304713186E-3,null,{"$error":"#N/A"},0,null,"",3.2882718304713186E-3,-3.2882718304713186E-3]
[null,null,"S.US.ROST",{"$f":"RTD(\"cqg.rtd\", ,\"ContractData\",C458, \"LongDescription\",, \"T\")","v":"Ross Stores Inc"},{"$f":"RTD(\"cqg.rtd\", ,\"ContractData\",C458, \"Open\",, \"T\")","v":62.03},{"$f":"RTD(\"cqg.rtd\", ,\"ContractData\",C458, \"High\",, \"T\")","v":62.51},{"$f":"RTD(\"cqg.rtd\", ,\"ContractData\",C458, \"Low\",, \"T\")","v":61.68},{"$f":"RTD(\"cqg.rtd\", ,\"ContractData\",C458, \"LastTradeToday\",, \"T\")","v":62.18},{"$f":"RTD(\"cqg.rtd\", ,\"ContractData\",C458, \"NetLastTradeToday\",, \"T\")","v":0.16},{"$f":"IFERROR(RTD(\"cqg.rtd\", ,\"ContractData\",C458, \"PerCentNetLastTrade\",, \"T\")/100,\"\")","v":2.5798129635601417E-3},{"$f":"RTD(\"cqg.rtd\", ,\"ContractData\", C458, \"T_CVol\",, \"T\")","v":1766298},458,{"$f":"IFERROR(RANK($J458,$J$1:J$607)+COUNTIF($J$1:J458,J458)-1,\"\")","v":295},"S.US.ROST","S.US.MORN",{"$f":"RTD(\"cqg.rtd\", ,\"ContractData\",O458, \"PerCentNetLastTrade\",, \"T\")/100","v":-3.2885722115648126E-3},"https://finance.yahoo.com/quote/MORN",null,{"$error":"#N/A"},3.2885722115648126E-3,null,{"$f":"RTD(\"cqg.rtd\", ,\"ContractData\",O458, \"LongDescription\",, \"T\")","v":"Morningstar Inc"},null,null,-3.2885722115648126E-3,null,{"$error":"#N/A"},0,null,"",3.2885722115648126E-3,-3.2885722115648126E-3]
[null,null,"S.US.RPM",{"$f":"RTD(\"cqg.rtd\", ,\"ContractData\",C459, \"LongDescription\",, \"T\")","v":"RPM Inc"},{"$f":"RTD(\"cqg.rtd\", ,\"ContractData\",C459, \"Open\",, \"T\")","v":53.61},{"$f":"RTD(\"cqg.rtd\", ,\"ContractData\",C459, \"High\",, \"T\")","v":54.370000000000005},{"$f":"RTD(\"cqg.rtd\", ,\"ContractData\",C459, \"Low\",, \"T\")","v":53.61},{"$f":"RTD(\"cqg.rtd\", ,\"ContractData\",C459, \"LastTradeToday\",, \"T\")","v":53.94},{"$f":"RTD(\"cqg.rtd\", ,\"ContractData\",C459, \"NetLastTradeToday\",, \"T\")","v":0.26},{"$f":"IFERROR(RTD(\"cqg.rtd\", ,\"ContractData\",C459, \"PerCentNetLastTrade\",, \"T\")/100,\"\")","v":4.8435171385991065E-3},{"$f":"RTD(\"cqg.rtd\", ,\"ContractData\", C459, \"T_CVol\",, \"T\")","v":180072},459,{"$f":"IFERROR(RANK($J459,$J$1:J$607)+COUNTIF($J$1:J459,J459)-1,\"\")","v":218},"S.US.RPM","S.US.ASIX",{"$f":"RTD(\"cqg.rtd\", ,\"ContractData\",O459, \"PerCentNetLastTrade\",, \"T\")/100","v":-3.3003300330033004E-3},"https://finance.yahoo.com/quote/ASIX",null,{"$error":"#N/A"},3.3003300330033004E-3,null,{"$f":"RTD(\"cqg.rtd\", ,\"ContractData\",O459, \"LongDescription\",, \"T\")","v":"AdvanSix Inc"},null,null,-3.3003300330033004E-3,null,{"$error":"#N/A"},0,null,"",3.3003300330033004E-3,-3.3003300330033004E-3]
[null,null,"S.US.RRD",{"$f":"RTD(\"cqg.rtd\", ,\"ContractData\",C460, \"LongDescription\",, \"T\")","v":"Donnelly (RR) & Sons Co"},{"$f":"RTD(\"cqg.rtd\", ,\"ContractData\",C460, \"Open\",, \"T\")","v":12.07},{"$f":"RTD(\"cqg.rtd\", ,\"ContractData\",C460, \"High\",, \"T\")","v":12.27},{"$f":"RTD(\"cqg.rtd\", ,\"ContractData\",C460, \"Low\",, \"T\")","v":12},{"$f":"RTD(\"cqg.rtd\", ,\"ContractData\",C460, \"LastTradeToday\",, \"T\")","v":12.1},{"$f":"RTD(\"cqg.rtd\", ,\"ContractData\",C460, \"NetLastTradeToday\",, \"T\")","v":0.05},{"$f":"IFERROR(RTD(\"cqg.rtd\", ,\"ContractData\",C460, \"PerCentNetLastTrade\",, \"T\")/100,\"\")","v":4.1493775933609959E-3},{"$f":"RTD(\"cqg.rtd\", ,\"ContractData\", C460, \"T_CVol\",, \"T\")","v":321100},460,{"$f":"IFERROR(RANK($J460,$J$1:J$607)+COUNTIF($J$1:J460,J460)-1,\"\")","v":235},"S.US.RRD","S.US.EXPD",{"$f":"RTD(\"cqg.rtd\", ,\"ContractData\",O460, \"PerCentNetLastTrade\",, \"T\")/100","v":-3.3594624860022399E-3},"https://finance.yahoo.com/quote/EXPD",null,{"$error":"#N/A"},3.3594624860022399E-3,null,{"$f":"RTD(\"cqg.rtd\", ,\"ContractData\",O460, \"LongDescription\",, \"T\")","v":"Expeditors Intl of WA Inc"},null,null,-3.3594624860022399E-3,null,{"$error":"#N/A"},0,null,"",3.3594624860022399E-3,-3.3594624860022399E-3]
[null,null,"S.US.RTN",{"$f":"RTD(\"cqg.rtd\", ,\"ContractData\",C461, \"LongDescription\",, \"T\")","v":"Raytheon Company"},{"$f":"RTD(\"cqg.rtd\", ,\"ContractData\",C461, \"Open\",, \"T\")","v":161.57},{"$f":"RTD(\"cqg.rtd\", ,\"ContractData\",C461, \"High\",, \"T\")","v":162.39000000000001},{"$f":"RTD(\"cqg.rtd\", ,\"ContractData\",C461, \"Low\",, \"T\")","v":161.26},{"$f":"RTD(\"cqg.rtd\", ,\"ContractData\",C461, \"LastTradeToday\",, \"T\")","v":162.03},{"$f":"RTD(\"cqg.rtd\", ,\"ContractData\",C461, \"NetLastTradeToday\",, \"T\")","v":0.55000000000000004},{"$f":"IFERROR(RTD(\"cqg.rtd\", ,\"ContractData\",C461, \"PerCentNetLastTrade\",, \"T\")/100,\"\")","v":3.4059945504087193E-3},{"$f":"RTD(\"cqg.rtd\", ,\"ContractData\", C461, \"T_CVol\",, \"T\")","v":461425},461,{"$f":"IFERROR(RANK($J461,$J$1:J$607)+COUNTIF($J$1:J461,J461)-1,\"\")","v":258},"S.US.RTN","S.US.URI",{"$f":"RTD(\"cqg.rtd\", ,\"ContractData\",O461, \"PerCentNetLastTrade\",, \"T\")/100","v":-3.504043126684636E-3},"https://finance.yahoo.com/quote/URI",null,{"$error":"#N/A"},3.504043126684636E-3,null,{"$f":"RTD(\"cqg.rtd\", ,\"ContractData\",O461, \"LongDescription\",, \"T\")","v":"United Rentals Inc"},null,null,-3.504043126684636E-3,null,{"$error":"#N/A"},0,null,"",3.504043126684636E-3,-3.504043126684636E-3]
[null,null,"S.US.SABR",{"$f":"RTD(\"cqg.rtd\", ,\"ContractData\",C462, \"LongDescription\",, \"T\")","v":"Sabre Corporation"},{"$f":"RTD(\"cqg.rtd\", ,\"ContractData\",C462, \"Open\",, \"T\")","v":22.95},{"$f":"RTD(\"cqg.rtd\", ,\"ContractData\",C462, \"High\",, \"T\")","v":23.01},{"$f":"RTD(\"cqg.rtd\", ,\"ContractData\",C462, \"Low\",, \"T\")","v":22.87},{"$f":"RTD(\"cqg.rtd\", ,\"ContractData\",C462, \"LastTradeToday\",, \"T\")","v":22.97},{"$f":"RTD(\"cqg.rtd\", ,\"ContractData\",C462, \"NetLastTradeToday\",, \"T\")","v":0.05},{"$f":"IFERROR(RTD(\"cqg.rtd\", ,\"ContractData\",C462, \"PerCentNetLastTrade\",, \"T\")/100,\"\")","v":2.181500872600349E-3},{"$f":"RTD(\"cqg.rtd\", ,\"ContractData\", C462, \"T_CVol\",, \"T\")","v":601074},462,{"$f":"IFERROR(RANK($J462,$J$1:J$607)+COUNTIF($J$1:J462,J462)-1,\"\")","v":313},"S.US.SABR","S.US.LUV",{"$f":"RTD(\"cqg.rtd\", ,\"ContractData\",O462, \"PerCentNetLastTrade\",, \"T\")/100","v":-3.5211267605633799E-3},"https://finance.yahoo.com/quote/LUV",null,{"$error":"#N/A"},3.5211267605633799E-3,null,{"$f":"RTD(\"cqg.rtd\", ,\"ContractData\",O462, \"LongDescription\",, \"T\")","v":"Southwest Airlines Co"},null,null,-3.5211267605633799E-3,null,{"$error":"#N/A"},0,null,"",3.5211267605633799E-3,-3.5211267605633799E-3]
[null,null,"S.US.SBAC",{"$f":"RTD(\"cqg.rtd\", ,\"ContractData\",C463, \"LongDescription\",, \"T\")","v":"SBA Comms Corp"},{"$f":"RTD(\"cqg.rtd\", ,\"ContractData\",C463, \"Open\",, \"T\")","v":134.52000000000001},{"$f":"RTD(\"cqg.rtd\", ,\"ContractData\",C463, \"High\",, \"T\")","v":134.88},{"$f":"RTD(\"cqg.rtd\", ,\"ContractData\",C463, \"Low\",, \"T\")","v":134.07},{"$f":"RTD(\"cqg.rtd\", ,\"ContractData\",C463, \"LastTradeToday\",, \"T\")","v":134.22},{"$f":"RTD(\"cqg.rtd\", ,\"ContractData\",C463, \"NetLastTradeToday\",, \"T\")","v":-0.09},{"$f":"IFERROR(RTD(\"cqg.rtd\", ,\"ContractData\",C463, \"PerCentNetLastTrade\",, \"T\")/100,\"\")","v":-6.7009157918248826E-4},{"$f":"RTD(\"cqg.rtd\", ,\"ContractData\", C463, \"T_CVol\",, \"T\")","v":317367},463,{"$f":"IFERROR(RANK($J463,$J$1:J$607)+COUNTIF($J$1:J463,J463)-1,\"\")","v":408},"S.US.SBAC","S.US.GPC",{"$f":"RTD(\"cqg.rtd\", ,\"ContractData\",O463, \"PerCentNetLastTrade\",, \"T\")/100","v":-3.6403750689464973E-3},"https://finance.yahoo.com/quote/GPC",null,{"$error":"#N/A"},3.6403750689464973E-3,null,{"$f":"RTD(\"cqg.rtd\", ,\"ContractData\",O463, \"LongDescription\",, \"T\")","v":"Genuine Parts Company"},null,null,-3.6403750689464973E-3,null,{"$error":"#N/A"},0,null,"",3.6403750689464973E-3,-3.6403750689464973E-3]
[null,null,"S.US.SBH",{"$f":"RTD(\"cqg.rtd\", ,\"ContractData\",C464, \"LongDescription\",, \"T\")","v":"Sally Beauty Holdings, Inc"},{"$f":"RTD(\"cqg.rtd\", ,\"ContractData\",C464, \"Open\",, \"T\")","v":17.75},{"$f":"RTD(\"cqg.rtd\", ,\"ContractData\",C464, \"High\",, \"T\")","v":17.84},{"$f":"RTD(\"cqg.rtd\", ,\"ContractData\",C464, \"Low\",, \"T\")","v":17.36},{"$f":"RTD(\"cqg.rtd\", ,\"ContractData\",C464, \"LastTradeToday\",, \"T\")","v":17.39},{"$f":"RTD(\"cqg.rtd\", ,\"ContractData\",C464, \"NetLastTradeToday\",, \"T\")","v":-0.17},{"$f":"IFERROR(RTD(\"cqg.rtd\", ,\"ContractData\",C464, \"PerCentNetLastTrade\",, \"T\")/100,\"\")","v":-9.6810933940774495E-3},{"$f":"RTD(\"cqg.rtd\", ,\"ContractData\", C464, \"T_CVol\",, \"T\")","v":1321232},464,{"$f":"IFERROR(RANK($J464,$J$1:J$607)+COUNTIF($J$1:J464,J464)-1,\"\")","v":539},"S.US.SBH","S.US.AAPL",{"$f":"RTD(\"cqg.rtd\", ,\"ContractData\",O464, \"PerCentNetLastTrade\",, \"T\")/100","v":-3.6410923276983093E-3},"https://finance.yahoo.com/quote/AAPL",null,{"$error":"#N/A"},3.6410923276983093E-3,null,{"$f":"RTD(\"cqg.rtd\", ,\"ContractData\",O464, \"LongDescription\",, \"T\")","v":"Apple Inc"},null,null,-3.6410923276983093E-3,null,{"$error":"#N/A"},0,null,"",3.6410923276983093E-3,-3.6410923276983093E-3]
[null,null,"S.US.SBNY",{"$f":"RTD(\"cqg.rtd\", ,\"ContractData\",C465, \"LongDescription\",, \"T\")","v":"Signature Bank"},{"$f":"RTD(\"cqg.rtd\", ,\"ContractData\",C465, \"Open\",, \"T\")","v":142.76},{"$f":"RTD(\"cqg.rtd\", ,\"ContractData\",C465, \"High\",, \"T\")","v":143.70000000000002},{"$f":"RTD(\"cqg.rtd\", ,\"ContractData\",C465, \"Low\",, \"T\")","v":140.1},{"$f":"RTD(\"cqg.rtd\", ,\"ContractData\",C465, \"LastTradeToday\",, \"T\")","v":142.78},{"$f":"RTD(\"cqg.rtd\", ,\"ContractData\",C465, \"NetLastTradeToday\",, \"T\")","v":1.98},{"$f":"IFERROR(RTD(\"cqg.rtd\", ,\"ContractData\",C465, \"PerCentNetLastTrade\",, \"T\")/100,\"\")","v":1.40625E-2},{"$f":"RTD(\"cqg.rtd\", ,\"ContractData\", C465, \"T_CVol\",, \"T\")","v":377872},465,{"$f":"IFERROR(RANK($J465,$J$1:J$607)+COUNTIF($J$1:J465,J465)-1,\"\")","v":62},"S.US.SBNY","S.US.AQB",{"$f":"RTD(\"cqg.rtd\", ,\"ContractData\",O465, \"PerCentNetLastTrade\",, \"T\")/100","v":-3.7831021437578815E-3},"https://finance.yahoo.com/quote/AQB",null,{"$error":"#N/A"},3.7831021437578815E-3,null,{"$f":"RTD(\"cqg.rtd\", ,\"ContractData\",O465, \"LongDescription\",, \"T\")","v":"AquaBounty Technologies, Inc."},null,null,-3.7831021437578815E-3,null,{"$error":"#N/A"},0,null,"",3.7831021437578815E-3,-3.7831021437578815E-3]
[null,null,"S.US.SBUX",{"$f":"RTD(\"cqg.rtd\", ,\"ContractData\",C466, \"LongDescription\",, \"T\")","v":"Starbucks Corp"},{"$f":"RTD(\"cqg.rtd\", ,\"ContractData\",C466, \"Open\",, \"T\")","v":61.4},{"$f":"RTD(\"cqg.rtd\", ,\"ContractData\",C466, \"High\",, \"T\")","v":61.980000000000004},{"$f":"RTD(\"cqg.rtd\", ,\"ContractData\",C466, \"Low\",, \"T\")","v":60.94},{"$f":"RTD(\"cqg.rtd\", ,\"ContractData\",C466, \"LastTradeToday\",, \"T\")","v":61.800000000000004},{"$f":"RTD(\"cqg.rtd\", ,\"ContractData\",C466, \"NetLastTradeToday\",, \"T\")","v":0.65},{"$f":"IFERROR(RTD(\"cqg.rtd\", ,\"ContractData\",C466, \"PerCentNetLastTrade\",, \"T\")/100,\"\")","v":1.0629599345870811E-2},{"$f":"RTD(\"cqg.rtd\", ,\"ContractData\", C466, \"T_CVol\",, \"T\")","v":4347279},466,{"$f":"IFERROR(RANK($J466,$J$1:J$607)+COUNTIF($J$1:J466,J466)-1,\"\")","v":95},"S.US.SBUX","S.US.KAR",{"$f":"RTD(\"cqg.rtd\", ,\"ContractData\",O466, \"PerCentNetLastTrade\",, \"T\")/100","v":-3.8883806038426351E-3},"https://finance.yahoo.com/quote/KAR",null,{"$error":"#N/A"},3.8883806038426351E-3,null,{"$f":"RTD(\"cqg.rtd\", ,\"ContractData\",O466, \"LongDescription\",, \"T\")","v":"KAR Auction Services Inc."},null,null,-3.8883806038426351E-3,null,{"$error":"#N/A"},0,null,"",3.8883806038426351E-3,-3.8883806038426351E-3]
[null,null,"S.US.SCCO",{"$f":"RTD(\"cqg.rtd\", ,\"ContractData\",C467, \"LongDescription\",, \"T\")","v":"Southern Copper Corp"},{"$f":"RTD(\"cqg.rtd\", ,\"ContractData\",C467, \"Open\",, \"T\")","v":34.78},{"$f":"RTD(\"cqg.rtd\", ,\"ContractData\",C467, \"High\",, \"T\")","v":35.200000000000003},{"$f":"RTD(\"cqg.rtd\", ,\"ContractData\",C467, \"Low\",, \"T\")","v":34.51},{"$f":"RTD(\"cqg.rtd\", ,\"ContractData\",C467, \"LastTradeToday\",, \"T\")","v":34.75},{"$f":"RTD(\"cqg.rtd\", ,\"ContractData\",C467, \"NetLastTradeToday\",, \"T\")","v":-0.26},{"$f":"IFERROR(RTD(\"cqg.rtd\", ,\"ContractData\",C467, \"PerCentNetLastTrade\",, \"T\")/100,\"\")","v":-7.4264495858326193E-3},{"$f":"RTD(\"cqg.rtd\", ,\"ContractData\", C467, \"T_CVol\",, \"T\")","v":219599},467,{"$f":"IFERROR(RANK($J467,$J$1:J$607)+COUNTIF($J$1:J467,J467)-1,\"\")","v":515},"S.US.SCCO","S.US.AMG",{"$f":"RTD(\"cqg.rtd\", ,\"ContractData\",O467, \"PerCentNetLastTrade\",, \"T\")/100","v":-3.9303026333027645E-3},"https://finance.yahoo.com/quote/AMG",null,{"$error":"#N/A"},3.9303026333027645E-3,null,{"$f":"RTD(\"cqg.rtd\", ,\"ContractData\",O467, \"LongDescription\",, \"T\")","v":"Affiliated Managers Grp Inc"},null,null,-3.9303026333027645E-3,null,{"$error":"#N/A"},0,null,"",3.9303026333027645E-3,-3.9303026333027645E-3]
[null,null,"S.US.SCHW",{"$f":"RTD(\"cqg.rtd\", ,\"ContractData\",C468, \"LongDescription\",, \"T\")","v":"Charles Schwab Corp"},{"$f":"RTD(\"cqg.rtd\", ,\"ContractData\",C468, \"Open\",, \"T\")","v":39.03},{"$f":"RTD(\"cqg.rtd\", ,\"ContractData\",C468, \"High\",, \"T\")","v":39.22},{"$f":"RTD(\"cqg.rtd\", ,\"ContractData\",C468, \"Low\",, \"T\")","v":38.81},{"$f":"RTD(\"cqg.rtd\", ,\"ContractData\",C468, \"LastTradeToday\",, \"T\")","v":38.980000000000004},{"$f":"RTD(\"cqg.rtd\", ,\"ContractData\",C468, \"NetLastTradeToday\",, \"T\")","v":0.11},{"$f":"IFERROR(RTD(\"cqg.rtd\", ,\"ContractData\",C468, \"PerCentNetLastTrade\",, \"T\")/100,\"\")","v":2.829945973758683E-3},{"$f":"RTD(\"cqg.rtd\", ,\"ContractData\", C468, \"T_CVol\",, \"T\")","v":3393262},468,{"$f":"IFERROR(RANK($J468,$J$1:J$607)+COUNTIF($J$1:J468,J468)-1,\"\")","v":289},"S.US.SCHW","S.US.TJX",{"$f":"RTD(\"cqg.rtd\", ,\"ContractData\",O468, \"PerCentNetLastTrade\",, \"T\")/100","v":-4.0322580645161289E-3},"https://finance.yahoo.com/quote/TJX",null,{"$error":"#N/A"},4.0322580645161289E-3,null,{"$f":"RTD(\"cqg.rtd\", ,\"ContractData\",O468, \"LongDescription\",, \"T\")","v":"TJX Companies Inc"},null,null,-4.0322580645161289E-3,null,{"$error":"#N/A"},0,null,"",4.0322580645161289E-3,-4.0322580645161289E-3]
[null,null,"S.US.SCI",{"$f":"RTD(\"cqg.rtd\", ,\"ContractData\",C469, \"LongDescription\",, \"T\")","v":"Service Corporation Intl"},{"$f":"RTD(\"cqg.rtd\", ,\"ContractData\",C469, \"Open\",, \"T\")","v":31.92},{"$f":"RTD(\"cqg.rtd\", ,\"ContractData\",C469, \"High\",, \"T\")","v":31.990000000000002},{"$f":"RTD(\"cqg.rtd\", ,\"ContractData\",C469, \"Low\",, \"T\")","v":31.810000000000002},{"$f":"RTD(\"cqg.rtd\", ,\"ContractData\",C469, \"LastTradeToday\",, \"T\")","v":31.94},{"$f":"RTD(\"cqg.rtd\", ,\"ContractData\",C469, \"NetLastTradeToday\",, \"T\")","v":0.08},{"$f":"IFERROR(RTD(\"cqg.rtd\", ,\"ContractData\",C469, \"PerCentNetLastTrade\",, \"T\")/100,\"\")","v":2.5109855618330196E-3},{"$f":"RTD(\"cqg.rtd\", ,\"ContractData\", C469, \"T_CVol\",, \"T\")","v":174202},469,{"$f":"IFERROR(RANK($J469,$J$1:J$607)+COUNTIF($J$1:J469,J469)-1,\"\")","v":298},"S.US.SCI","S.US.IR",{"$f":"RTD(\"cqg.rtd\", ,\"ContractData\",O469, \"PerCentNetLastTrade\",, \"T\")/100","v":-4.0435808154554642E-3},"https://finance.yahoo.com/quote/IR",null,{"$error":"#N/A"},4.0435808154554642E-3,null,{"$f":"RTD(\"cqg.rtd\", ,\"ContractData\",O469, \"LongDescription\",, \"T\")","v":"Ingersoll-Rand Co"},null,null,-4.0435808154554642E-3,null,{"$error":"#N/A"},0,null,"",4.0435808154554642E-3,-4.0435808154554642E-3]
[null,null,"S.US.SEE",{"$f":"RTD(\"cqg.rtd\", ,\"ContractData\",C470, \"LongDescription\",, \"T\")","v":"Sealed Air Corp New"},{"$f":"RTD(\"cqg.rtd\", ,\"ContractData\",C470, \"Open\",, \"T\")","v":43.85},{"$f":"RTD(\"cqg.rtd\", ,\"ContractData\",C470, \"High\",, \"T\")","v":44.300000000000004},{"$f":"RTD(\"cqg.rtd\", ,\"ContractData\",C470, \"Low\",, \"T\")","v":43.84},{"$f":"RTD(\"cqg.rtd\", ,\"ContractData\",C470, \"LastTradeToday\",, \"T\")","v":43.910000000000004},{"$f":"RTD(\"cqg.rtd\", ,\"ContractData\",C470, \"NetLastTradeToday\",, \"T\")","v":0.01},{"$f":"IFERROR(RTD(\"cqg.rtd\", ,\"ContractData\",C470, \"PerCentNetLastTrade\",, \"T\")/100,\"\")","v":2.2779043280182233E-4},{"$f":"RTD(\"cqg.rtd\", ,\"ContractData\", C470, \"T_CVol\",, \"T\")","v":2296911},470,{"$f":"IFERROR(RANK($J470,$J$1:J$607)+COUNTIF($J$1:J470,J470)-1,\"\")","v":377},"S.US.SEE","S.US.DNB",{"$f":"RTD(\"cqg.rtd\", ,\"ContractData\",O470, \"PerCentNetLastTrade\",, \"T\")/100","v":-4.0669630190106878E-3},"https://finance.yahoo.com/quote/DNB",null,{"$error":"#N/A"},4.0669630190106878E-3,null,{"$f":"RTD(\"cqg.rtd\", ,\"ContractData\",O470, \"LongDescription\",, \"T\")","v":"Dun & Bradstreet Corp"},null,null,-4.0669630190106878E-3,null,{"$error":"#N/A"},0,null,"",4.0669630190106878E-3,-4.0669630190106878E-3]
[null,null,"S.US.SEIC",{"$f":"RTD(\"cqg.rtd\", ,\"ContractData\",C471, \"LongDescription\",, \"T\")","v":"SEI Investments Co"},{"$f":"RTD(\"cqg.rtd\", ,\"ContractData\",C471, \"Open\",, \"T\")","v":49.92},{"$f":"RTD(\"cqg.rtd\", ,\"ContractData\",C471, \"High\",, \"T\")","v":50.02},{"$f":"RTD(\"cqg.rtd\", ,\"ContractData\",C471, \"Low\",, \"T\")","v":49.71},{"$f":"RTD(\"cqg.rtd\", ,\"ContractData\",C471, \"LastTradeToday\",, \"T\")","v":49.81},{"$f":"RTD(\"cqg.rtd\", ,\"ContractData\",C471, \"NetLastTradeToday\",, \"T\")","v":-0.12},{"$f":"IFERROR(RTD(\"cqg.rtd\", ,\"ContractData\",C471, \"PerCentNetLastTrade\",, \"T\")/100,\"\")","v":-2.4033647105948328E-3},{"$f":"RTD(\"cqg.rtd\", ,\"ContractData\", C471, \"T_CVol\",, \"T\")","v":172578},471,{"$f":"IFERROR(RANK($J471,$J$1:J$607)+COUNTIF($J$1:J471,J471)-1,\"\")","v":439},"S.US.SEIC","S.US.MGM",{"$f":"RTD(\"cqg.rtd\", ,\"ContractData\",O471, \"PerCentNetLastTrade\",, \"T\")/100","v":-4.1533546325878594E-3},"https://finance.yahoo.com/quote/MGM",null,{"$error":"#N/A"},4.1533546325878594E-3,null,{"$f":"RTD(\"cqg.rtd\", ,\"ContractData\",O471, \"LongDescription\",, \"T\")","v":"MGM Resorts International"},null,null,-4.1533546325878594E-3,null,{"$error":"#N/A"},0,null,"",4.1533546325878594E-3,-4.1533546325878594E-3]
[null,null,"S.US.SERV",{"$f":"RTD(\"cqg.rtd\", ,\"ContractData\",C472, \"LongDescription\",, \"T\")","v":"Servicemaster Global Holdings, Inc."},{"$f":"RTD(\"cqg.rtd\", ,\"ContractData\",C472, \"Open\",, \"T\")","v":37.369999999999997},{"$f":"RTD(\"cqg.rtd\", ,\"ContractData\",C472, \"High\",, \"T\")","v":37.910000000000004},{"$f":"RTD(\"cqg.rtd\", ,\"ContractData\",C472, \"Low\",, \"T\")","v":37.22},{"$f":"RTD(\"cqg.rtd\", ,\"ContractData\",C472, \"LastTradeToday\",, \"T\")","v":37.79},{"$f":"RTD(\"cqg.rtd\", ,\"ContractData\",C472, \"NetLastTradeToday\",, \"T\")","v":0.41000000000000003},{"$f":"IFERROR(RTD(\"cqg.rtd\", ,\"ContractData\",C472, \"PerCentNetLastTrade\",, \"T\")/100,\"\")","v":1.0968432316746924E-2},{"$f":"RTD(\"cqg.rtd\", ,\"ContractData\", C472, \"T_CVol\",, \"T\")","v":646232},472,{"$f":"IFERROR(RANK($J472,$J$1:J$607)+COUNTIF($J$1:J472,J472)-1,\"\")","v":91},"S.US.SERV","S.US.LECO",{"$f":"RTD(\"cqg.rtd\", ,\"ContractData\",O472, \"PerCentNetLastTrade\",, \"T\")/100","v":-4.1638532523070003E-3},"https://finance.yahoo.com/quote/LECO",null,{"$error":"#N/A"},4.1638532523070003E-3,null,{"$f":"RTD(\"cqg.rtd\", ,\"ContractData\",O472, \"LongDescription\",, \"T\")","v":"Lincoln Electric Hldgs Inc"},null,null,-4.1638532523070003E-3,null,{"$error":"#N/A"},0,null,"",4.1638532523070003E-3,-4.1638532523070003E-3]
[null,null,"S.US.SFM",{"$f":"RTD(\"cqg.rtd\", ,\"ContractData\",C473, \"LongDescription\",, \"T\")","v":"Sprouts Farmers Market, Inc."},{"$f":"RTD(\"cqg.rtd\", ,\"ContractData\",C473, \"Open\",, \"T\")","v":23.45},{"$f":"RTD(\"cqg.rtd\", ,\"ContractData\",C473, \"High\",, \"T\")","v":23.61},{"$f":"RTD(\"cqg.rtd\", ,\"ContractData\",C473, \"Low\",, \"T\")","v":23.32},{"$f":"RTD(\"cqg.rtd\", ,\"ContractData\",C473, \"LastTradeToday\",, \"T\")","v":23.5},{"$f":"RTD(\"cqg.rtd\", ,\"ContractData\",C473, \"NetLastTradeToday\",, \"T\")","v":0.05},{"$f":"IFERROR(RTD(\"cqg.rtd\", ,\"ContractData\",C473, \"PerCentNetLastTrade\",, \"T\")/100,\"\")","v":2.1321961620469083E-3},{"$f":"RTD(\"cqg.rtd\", ,\"ContractData\", C473, \"T_CVol\",, \"T\")","v":573353},473,{"$f":"IFERROR(RANK($J473,$J$1:J$607)+COUNTIF($J$1:J473,J473)-1,\"\")","v":315},"S.US.SFM","S.US.JKHY",{"$f":"RTD(\"cqg.rtd\", ,\"ContractData\",O473, \"PerCentNetLastTrade\",, \"T\")/100","v":-4.5551463461911221E-3},"https://finance.yahoo.com/quote/JKHY",null,{"$error":"#N/A"},4.5551463461911221E-3,null,{"$f":"RTD(\"cqg.rtd\", ,\"ContractData\",O473, \"LongDescription\",, \"T\")","v":"Jack Henry/Associates Inc"},null,null,-4.5551463461911221E-3,null,{"$error":"#N/A"},0,null,"",4.5551463461911221E-3,-4.5551463461911221E-3]
[null,null,"S.US.SGEN",{"$f":"RTD(\"cqg.rtd\", ,\"ContractData\",C474, \"LongDescription\",, \"T\")","v":"Seattle Genetics Inc"},{"$f":"RTD(\"cqg.rtd\", ,\"ContractData\",C474, \"Open\",, \"T\")","v":66.62},{"$f":"RTD(\"cqg.rtd\", ,\"ContractData\",C474, \"High\",, \"T\")","v":68.59},{"$f":"RTD(\"cqg.rtd\", ,\"ContractData\",C474, \"Low\",, \"T\")","v":66.62},{"$f":"RTD(\"cqg.rtd\", ,\"ContractData\",C474, \"LastTradeToday\",, \"T\")","v":67.56},{"$f":"RTD(\"cqg.rtd\", ,\"ContractData\",C474, \"NetLastTradeToday\",, \"T\")","v":0.89},{"$f":"IFERROR(RTD(\"cqg.rtd\", ,\"ContractData\",C474, \"PerCentNetLastTrade\",, \"T\")/100,\"\")","v":1.334933253337333E-2},{"$f":"RTD(\"cqg.rtd\", ,\"ContractData\", C474, \"T_CVol\",, \"T\")","v":295749},474,{"$f":"IFERROR(RANK($J474,$J$1:J$607)+COUNTIF($J$1:J474,J474)-1,\"\")","v":67},"S.US.SGEN","S.US.BWXT",{"$f":"RTD(\"cqg.rtd\", ,\"ContractData\",O474, \"PerCentNetLastTrade\",, \"T\")/100","v":-4.5586406962287605E-3},"https://finance.yahoo.com/quote/BWXT",null,{"$error":"#N/A"},4.5586406962287605E-3,null,{"$f":"RTD(\"cqg.rtd\", ,\"ContractData\",O474, \"LongDescription\",, \"T\")","v":"BWX Technologies, Inc."},null,null,-4.5586406962287605E-3,null,{"$error":"#N/A"},0,null,"",4.5586406962287605E-3,-4.5586406962287605E-3]
[null,null,"S.US.SHW",{"$f":"RTD(\"cqg.rtd\", ,\"ContractData\",C475, \"LongDescription\",, \"T\")","v":"Sherwin-Williams Co"},{"$f":"RTD(\"cqg.rtd\", ,\"ContractData\",C475, \"Open\",, \"T\")","v":331.91},{"$f":"RTD(\"cqg.rtd\", ,\"ContractData\",C475, \"High\",, \"T\")","v":334.49},{"$f":"RTD(\"cqg.rtd\", ,\"ContractData\",C475, \"Low\",, \"T\")","v":330.63},{"$f":"RTD(\"cqg.rtd\", ,\"ContractData\",C475, \"LastTradeToday\",, \"T\")","v":331.96},{"$f":"RTD(\"cqg.rtd\", ,\"ContractData\",C475, \"NetLastTradeToday\",, \"T\")","v":0.05},{"$f":"IFERROR(RTD(\"cqg.rtd\", ,\"ContractData\",C475, \"PerCentNetLastTrade\",, \"T\")/100,\"\")","v":1.5064324666325208E-4},{"$f":"RTD(\"cqg.rtd\", ,\"ContractData\", C475, \"T_CVol\",, \"T\")","v":186911},475,{"$f":"IFERROR(RANK($J475,$J$1:J$607)+COUNTIF($J$1:J475,J475)-1,\"\")","v":380},"S.US.SHW","S.US.ROK",{"$f":"RTD(\"cqg.rtd\", ,\"ContractData\",O475, \"PerCentNetLastTrade\",, \"T\")/100","v":-4.6030645059587615E-3},"https://finance.yahoo.com/quote/ROK",null,{"$error":"#N/A"},4.6030645059587615E-3,null,{"$f":"RTD(\"cqg.rtd\", ,\"ContractData\",O475, \"LongDescription\",, \"T\")","v":"Rockwell Automation Inc"},null,null,-4.6030645059587615E-3,null,{"$error":"#N/A"},0,null,"",4.6030645059587615E-3,-4.6030645059587615E-3]
[null,null,"S.US.SIG",{"$f":"RTD(\"cqg.rtd\", ,\"ContractData\",C476, \"LongDescription\",, \"T\")","v":"Signet Jewelers Limited"},{"$f":"RTD(\"cqg.rtd\", ,\"ContractData\",C476, \"Open\",, \"T\")","v":55.42},{"$f":"RTD(\"cqg.rtd\", ,\"ContractData\",C476, \"High\",, \"T\")","v":55.96},{"$f":"RTD(\"cqg.rtd\", ,\"ContractData\",C476, \"Low\",, \"T\")","v":52.86},{"$f":"RTD(\"cqg.rtd\", ,\"ContractData\",C476, \"LastTradeToday\",, \"T\")","v":54.300000000000004},{"$f":"RTD(\"cqg.rtd\", ,\"ContractData\",C476, \"NetLastTradeToday\",, \"T\")","v":-4.08},{"$f":"IFERROR(RTD(\"cqg.rtd\", ,\"ContractData\",C476, \"PerCentNetLastTrade\",, \"T\")/100,\"\")","v":-6.9886947584789305E-2},{"$f":"RTD(\"cqg.rtd\", ,\"ContractData\", C476, \"T_CVol\",, \"T\")","v":2794111},476,{"$f":"IFERROR(RANK($J476,$J$1:J$607)+COUNTIF($J$1:J476,J476)-1,\"\")","v":606},"S.US.SIG","S.US.TRMB",{"$f":"RTD(\"cqg.rtd\", ,\"ContractData\",O476, \"PerCentNetLastTrade\",, \"T\")/100","v":-4.7406581148912432E-3},"https://finance.yahoo.com/quote/TRMB",null,{"$error":"#N/A"},4.7406581148912432E-3,null,{"$f":"RTD(\"cqg.rtd\", ,\"ContractData\",O476, \"LongDescription\",, \"T\")","v":"Trimble Inc."},null,null,-4.7406581148912432E-3,null,{"$error":"#N/A"},0,null,"",4.7406581148912432E-3,-4.7406581148912432E-3]
[null,null,"S.US.SIRI",{"$f":"RTD(\"cqg.rtd\", ,\"ContractData\",C477, \"LongDescription\",, \"T\")","v":"Sirius XM Holdings Inc."},{"$f":"RTD(\"cqg.rtd\", ,\"ContractData\",C477, \"Open\",, \"T\")","v":5},{"$f":"RTD(\"cqg.rtd\", ,\"ContractData\",C477, \"High\",, \"T\")","v":5.12},{"$f":"RTD(\"cqg.rtd\", ,\"ContractData\",C477, \"Low\",, \"T\")","v":4.99},{"$f":"RTD(\"cqg.rtd\", ,\"ContractData\",C477, \"LastTradeToday\",, \"T\")","v":5.1100000000000003},{"$f":"RTD(\"cqg.rtd\", ,\"ContractData\",C477, \"NetLastTradeToday\",, \"T\")","v":0.14000000000000001},{"$f":"IFERROR(RTD(\"cqg.rtd\", ,\"ContractData\",C477, \"PerCentNetLastTrade\",, \"T\")/100,\"\")","v":2.8169014084507039E-2},{"$f":"RTD(\"cqg.rtd\", ,\"ContractData\", C477, \"T_CVol\",, \"T\")","v":16334676},477,{"$f":"IFERROR(RANK($J477,$J$1:J$607)+COUNTIF($J$1:J477,J477)-1,\"\")","v":14},"S.US.SIRI","S.US.AMTD",{"$f":"RTD(\"cqg.rtd\", ,\"ContractData\",O477, \"PerCentNetLastTrade\",, \"T\")/100","v":-4.8089767566123435E-3},"https://finance.yahoo.com/quote/AMTD",null,{"$error":"#N/A"},4.8089767566123435E-3,null,{"$f":"RTD(\"cqg.rtd\", ,\"ContractData\",O477, \"LongDescription\",, \"T\")","v":"TD Ameritrade Holding Corp"},null,null,-4.8089767566123435E-3,null,{"$error":"#N/A"},0,null,"",4.8089767566123435E-3,-4.8089767566123435E-3]
[null,null,"S.US.SIVB",{"$f":"RTD(\"cqg.rtd\", ,\"ContractData\",C478, \"LongDescription\",, \"T\")","v":"SVB Financial Group"},{"$f":"RTD(\"cqg.rtd\", ,\"ContractData\",C478, \"Open\",, \"T\")","v":180.44},{"$f":"RTD(\"cqg.rtd\", ,\"ContractData\",C478, \"High\",, \"T\")","v":180.64000000000001},{"$f":"RTD(\"cqg.rtd\", ,\"ContractData\",C478, \"Low\",, \"T\")","v":177.27},{"$f":"RTD(\"cqg.rtd\", ,\"ContractData\",C478, \"LastTradeToday\",, \"T\")","v":178.08},{"$f":"RTD(\"cqg.rtd\", ,\"ContractData\",C478, \"NetLastTradeToday\",, \"T\")","v":-1.8900000000000001},{"$f":"IFERROR(RTD(\"cqg.rtd\", ,\"ContractData\",C478, \"PerCentNetLastTrade\",, \"T\")/100,\"\")","v":-1.0501750291715286E-2},{"$f":"RTD(\"cqg.rtd\", ,\"ContractData\", C478, \"T_CVol\",, \"T\")","v":171303},478,{"$f":"IFERROR(RANK($J478,$J$1:J$607)+COUNTIF($J$1:J478,J478)-1,\"\")","v":548},"S.US.SIVB","S.US.EFX",{"$f":"RTD(\"cqg.rtd\", ,\"ContractData\",O478, \"PerCentNetLastTrade\",, \"T\")/100","v":-4.8259725065808714E-3},"https://finance.yahoo.com/quote/EFX",null,{"$error":"#N/A"},4.8259725065808714E-3,null,{"$f":"RTD(\"cqg.rtd\", ,\"ContractData\",O478, \"LongDescription\",, \"T\")","v":"Equifax Inc"},null,null,-4.8259725065808714E-3,null,{"$error":"#N/A"},0,null,"",4.8259725065808714E-3,-4.8259725065808714E-3]
[null,null,"S.US.SIX",{"$f":"RTD(\"cqg.rtd\", ,\"ContractData\",C479, \"LongDescription\",, \"T\")","v":"Six Flags Entertainment Corporation"},{"$f":"RTD(\"cqg.rtd\", ,\"ContractData\",C479, \"Open\",, \"T\")","v":61.43},{"$f":"RTD(\"cqg.rtd\", ,\"ContractData\",C479, \"High\",, \"T\")","v":61.77},{"$f":"RTD(\"cqg.rtd\", ,\"ContractData\",C479, \"Low\",, \"T\")","v":60.96},{"$f":"RTD(\"cqg.rtd\", ,\"ContractData\",C479, \"LastTradeToday\",, \"T\")","v":61.76},{"$f":"RTD(\"cqg.rtd\", ,\"ContractData\",C479, \"NetLastTradeToday\",, \"T\")","v":0.46},{"$f":"IFERROR(RTD(\"cqg.rtd\", ,\"ContractData\",C479, \"PerCentNetLastTrade\",, \"T\")/100,\"\")","v":7.5040783034257749E-3},{"$f":"RTD(\"cqg.rtd\", ,\"ContractData\", C479, \"T_CVol\",, \"T\")","v":169653},479,{"$f":"IFERROR(RANK($J479,$J$1:J$607)+COUNTIF($J$1:J479,J479)-1,\"\")","v":151},"S.US.SIX","S.US.WHR",{"$f":"RTD(\"cqg.rtd\", ,\"ContractData\",O479, \"PerCentNetLastTrade\",, \"T\")/100","v":-4.9784268171257882E-3},"https://finance.yahoo.com/quote/WHR",null,{"$error":"#N/A"},4.9784268171257882E-3,null,{"$f":"RTD(\"cqg.rtd\", ,\"ContractData\",O479, \"LongDescription\",, \"T\")","v":"Whirlpool Corp"},null,null,-4.9784268171257882E-3,null,{"$error":"#N/A"},0,null,"",4.9784268171257882E-3,-4.9784268171257882E-3]
[null,null,"S.US.SKT",{"$f":"RTD(\"cqg.rtd\", ,\"ContractData\",C480, \"LongDescription\",, \"T\")","v":"Tanger Factory Outlet Centers, Inc."},{"$f":"RTD(\"cqg.rtd\", ,\"ContractData\",C480, \"Open\",, \"T\")","v":26.09},{"$f":"RTD(\"cqg.rtd\", ,\"ContractData\",C480, \"High\",, \"T\")","v":26.53},{"$f":"RTD(\"cqg.rtd\", ,\"ContractData\",C480, \"Low\",, \"T\")","v":25.990000000000002},{"$f":"RTD(\"cqg.rtd\", ,\"ContractData\",C480, \"LastTradeToday\",, \"T\")","v":26.5},{"$f":"RTD(\"cqg.rtd\", ,\"ContractData\",C480, \"NetLastTradeToday\",, \"T\")","v":0.5},{"$f":"IFERROR(RTD(\"cqg.rtd\", ,\"ContractData\",C480, \"PerCentNetLastTrade\",, \"T\")/100,\"\")","v":1.9230769230769232E-2},{"$f":"RTD(\"cqg.rtd\", ,\"ContractData\", C480, \"T_CVol\",, \"T\")","v":1221237},480,{"$f":"IFERROR(RANK($J480,$J$1:J$607)+COUNTIF($J$1:J480,J480)-1,\"\")","v":28},"S.US.SKT","S.US.BMRN",{"$f":"RTD(\"cqg.rtd\", ,\"ContractData\",O480, \"PerCentNetLastTrade\",, \"T\")/100","v":-4.9796287913082844E-3},"https://finance.yahoo.com/quote/BMRN",null,{"$error":"#N/A"},4.9796287913082844E-3,null,{"$f":"RTD(\"cqg.rtd\", ,\"ContractData\",O480, \"LongDescription\",, \"T\")","v":"BioMarin Pharmaceutical Inc"},null,null,-4.9796287913082844E-3,null,{"$error":"#N/A"},0,null,"",4.9796287913082844E-3,-4.9796287913082844E-3]
[null,null,"S.US.SKX",{"$f":"RTD(\"cqg.rtd\", ,\"ContractData\",C481, \"LongDescription\",, \"T\")","v":"Skechers USA Inc"},{"$f":"RTD(\"cqg.rtd\", ,\"ContractData\",C481, \"Open\",, \"T\")","v":23.580000000000002},{"$f":"RTD(\"cqg.rtd\", ,\"ContractData\",C481, \"High\",, \"T\")","v":23.88},{"$f":"RTD(\"cqg.rtd\", ,\"ContractData\",C481, \"Low\",, \"T\")","v":23.21},{"$f":"RTD(\"cqg.rtd\", ,\"ContractData\",C481, \"LastTradeToday\",, \"T\")","v":23.87},{"$f":"RTD(\"cqg.rtd\", ,\"ContractData\",C481, \"NetLastTradeToday\",, \"T\")","v":0.22},{"$f":"IFERROR(RTD(\"cqg.rtd\", ,\"ContractData\",C481, \"PerCentNetLastTrade\",, \"T\")/100,\"\")","v":9.3023255813953487E-3},{"$f":"RTD(\"cqg.rtd\", ,\"ContractData\", C481, \"T_CVol\",, \"T\")","v":1506321},481,{"$f":"IFERROR(RANK($J481,$J$1:J$607)+COUNTIF($J$1:J481,J481)-1,\"\")","v":118},"S.US.SKX","S.US.YUMC",{"$f":"RTD(\"cqg.rtd\", ,\"ContractData\",O481, \"PerCentNetLastTrade\",, \"T\")/100","v":-5.0438014335014601E-3},"https://finance.yahoo.com/quote/YUMC",null,{"$error":"#N/A"},5.0438014335014601E-3,null,{"$f":"RTD(\"cqg.rtd\", ,\"ContractData\",O481, \"LongDescription\",, \"T\")","v":"Yum China Holdings"},null,null,-5.0438014335014601E-3,null,{"$error":"#N/A"},0,null,"",5.0438014335014601E-3,-5.0438014335014601E-3]
[null,null,"S.US.SLGN",{"$f":"RTD(\"cqg.rtd\", ,\"ContractData\",C482, \"LongDescription\",, \"T\")","v":"Silgan Holdings"},{"$f":"RTD(\"cqg.rtd\", ,\"ContractData\",C482, \"Open\",, \"T\")","v":62.56},{"$f":"RTD(\"cqg.rtd\", ,\"ContractData\",C482, \"High\",, \"T\")","v":63.050000000000004},{"$f":"RTD(\"cqg.rtd\", ,\"ContractData\",C482, \"Low\",, \"T\")","v":61.92},{"$f":"RTD(\"cqg.rtd\", ,\"ContractData\",C482, \"LastTradeToday\",, \"T\")","v":62.96},{"$f":"RTD(\"cqg.rtd\", ,\"ContractData\",C482, \"NetLastTradeToday\",, \"T\")","v":0.4},{"$f":"IFERROR(RTD(\"cqg.rtd\", ,\"ContractData\",C482, \"PerCentNetLastTrade\",, \"T\")/100,\"\")","v":6.3938618925831201E-3},{"$f":"RTD(\"cqg.rtd\", ,\"ContractData\", C482, \"T_CVol\",, \"T\")","v":104292},482,{"$f":"IFERROR(RANK($J482,$J$1:J$607)+COUNTIF($J$1:J482,J482)-1,\"\")","v":185},"S.US.SLGN","S.US.ANSS",{"$f":"RTD(\"cqg.rtd\", ,\"ContractData\",O482, \"PerCentNetLastTrade\",, \"T\")/100","v":-5.0537461896358092E-3},"https://finance.yahoo.com/quote/ANSS",null,{"$error":"#N/A"},5.0537461896358092E-3,null,{"$f":"RTD(\"cqg.rtd\", ,\"ContractData\",O482, \"LongDescription\",, \"T\")","v":"ANSYS Inc"},null,null,-5.0537461896358092E-3,null,{"$error":"#N/A"},0,null,"",5.0537461896358092E-3,-5.0537461896358092E-3]
[null,null,"S.US.SMG",{"$f":"RTD(\"cqg.rtd\", ,\"ContractData\",C483, \"LongDescription\",, \"T\")","v":"Scotts Co (The)"},{"$f":"RTD(\"cqg.rtd\", ,\"ContractData\",C483, \"Open\",, \"T\")","v":87.960000000000008},{"$f":"RTD(\"cqg.rtd\", ,\"ContractData\",C483, \"High\",, \"T\")","v":88.39},{"$f":"RTD(\"cqg.rtd\", ,\"ContractData\",C483, \"Low\",, \"T\")","v":87.02},{"$f":"RTD(\"cqg.rtd\", ,\"ContractData\",C483, \"LastTradeToday\",, \"T\")","v":87.53},{"$f":"RTD(\"cqg.rtd\", ,\"ContractData\",C483, \"NetLastTradeToday\",, \"T\")","v":-0.87},{"$f":"IFERROR(RTD(\"cqg.rtd\", ,\"ContractData\",C483, \"PerCentNetLastTrade\",, \"T\")/100,\"\")","v":-9.8416289592760178E-3},{"$f":"RTD(\"cqg.rtd\", ,\"ContractData\", C483, \"T_CVol\",, \"T\")","v":142690},483,{"$f":"IFERROR(RANK($J483,$J$1:J$607)+COUNTIF($J$1:J483,J483)-1,\"\")","v":543},"S.US.SMG","S.US.STAY",{"$f":"RTD(\"cqg.rtd\", ,\"ContractData\",O483, \"PerCentNetLastTrade\",, \"T\")/100","v":-5.064715813168261E-3},"https://finance.yahoo.com/quote/STAY",null,{"$error":"#N/A"},5.064715813168261E-3,null,{"$f":"RTD(\"cqg.rtd\", ,\"ContractData\",O483, \"LongDescription\",, \"T\")","v":"Extended Stay America, Inc."},null,null,-5.064715813168261E-3,null,{"$error":"#N/A"},0,null,"",5.064715813168261E-3,-5.064715813168261E-3]
[null,null,"S.US.SNA",{"$f":"RTD(\"cqg.rtd\", ,\"ContractData\",C484, \"LongDescription\",, \"T\")","v":"Snap-On Tools Corp"},{"$f":"RTD(\"cqg.rtd\", ,\"ContractData\",C484, \"Open\",, \"T\")","v":163.59},{"$f":"RTD(\"cqg.rtd\", ,\"ContractData\",C484, \"High\",, \"T\")","v":163.59},{"$f":"RTD(\"cqg.rtd\", ,\"ContractData\",C484, \"Low\",, \"T\")","v":161.33000000000001},{"$f":"RTD(\"cqg.rtd\", ,\"ContractData\",C484, \"LastTradeToday\",, \"T\")","v":161.76},{"$f":"RTD(\"cqg.rtd\", ,\"ContractData\",C484, \"NetLastTradeToday\",, \"T\")","v":-1.45},{"$f":"IFERROR(RTD(\"cqg.rtd\", ,\"ContractData\",C484, \"PerCentNetLastTrade\",, \"T\")/100,\"\")","v":-8.8842595429201639E-3},{"$f":"RTD(\"cqg.rtd\", ,\"ContractData\", C484, \"T_CVol\",, \"T\")","v":174940},484,{"$f":"IFERROR(RANK($J484,$J$1:J$607)+COUNTIF($J$1:J484,J484)-1,\"\")","v":532},"S.US.SNA","S.US.TGT",{"$f":"RTD(\"cqg.rtd\", ,\"ContractData\",O484, \"PerCentNetLastTrade\",, \"T\")/100","v":-5.1385575334923841E-3},"https://finance.yahoo.com/quote/TGT",null,{"$error":"#N/A"},5.1385575334923841E-3,null,{"$f":"RTD(\"cqg.rtd\", ,\"ContractData\",O484, \"LongDescription\",, \"T\")","v":"Target Corp"},null,null,-5.1385575334923841E-3,null,{"$error":"#N/A"},0,null,"",5.1385575334923841E-3,-5.1385575334923841E-3]
[null,null,"S.US.SNH",{"$f":"RTD(\"cqg.rtd\", ,\"ContractData\",C485, \"LongDescription\",, \"T\")","v":"Senior Housing"},{"$f":"RTD(\"cqg.rtd\", ,\"ContractData\",C485, \"Open\",, \"T\")","v":21.34},{"$f":"RTD(\"cqg.rtd\", ,\"ContractData\",C485, \"High\",, \"T\")","v":21.57},{"$f":"RTD(\"cqg.rtd\", ,\"ContractData\",C485, \"Low\",, \"T\")","v":21.28},{"$f":"RTD(\"cqg.rtd\", ,\"ContractData\",C485, \"LastTradeToday\",, \"T\")","v":21.38},{"$f":"RTD(\"cqg.rtd\", ,\"ContractData\",C485, \"NetLastTradeToday\",, \"T\")","v":0.01},{"$f":"IFERROR(RTD(\"cqg.rtd\", ,\"ContractData\",C485, \"PerCentNetLastTrade\",, \"T\")/100,\"\")","v":4.6794571829667756E-4},{"$f":"RTD(\"cqg.rtd\", ,\"ContractData\", C485, \"T_CVol\",, \"T\")","v":631535},485,{"$f":"IFERROR(RANK($J485,$J$1:J$607)+COUNTIF($J$1:J485,J485)-1,\"\")","v":375},"S.US.SNH","S.US.POST",{"$f":"RTD(\"cqg.rtd\", ,\"ContractData\",O485, \"PerCentNetLastTrade\",, \"T\")/100","v":-5.2362396492937171E-3},"https://finance.yahoo.com/quote/POST",null,{"$error":"#N/A"},5.2362396492937171E-3,null,{"$f":"RTD(\"cqg.rtd\", ,\"ContractData\",O485, \"LongDescription\",, \"T\")","v":"Post Holdings, Inc."},null,null,-5.2362396492937171E-3,null,{"$error":"#N/A"},0,null,"",5.2362396492937171E-3,-5.2362396492937171E-3]
[null,null,"S.US.SNI",{"$f":"RTD(\"cqg.rtd\", ,\"ContractData\",C486, \"LongDescription\",, \"T\")","v":"Scripps Network Interactive Inc"},{"$f":"RTD(\"cqg.rtd\", ,\"ContractData\",C486, \"Open\",, \"T\")","v":67.540000000000006},{"$f":"RTD(\"cqg.rtd\", ,\"ContractData\",C486, \"High\",, \"T\")","v":68.03},{"$f":"RTD(\"cqg.rtd\", ,\"ContractData\",C486, \"Low\",, \"T\")","v":66.930000000000007},{"$f":"RTD(\"cqg.rtd\", ,\"ContractData\",C486, \"LastTradeToday\",, \"T\")","v":67.03},{"$f":"RTD(\"cqg.rtd\", ,\"ContractData\",C486, \"NetLastTradeToday\",, \"T\")","v":-0.45},{"$f":"IFERROR(RTD(\"cqg.rtd\", ,\"ContractData\",C486, \"PerCentNetLastTrade\",, \"T\")/100,\"\")","v":-6.6686425607587431E-3},{"$f":"RTD(\"cqg.rtd\", ,\"ContractData\", C486, \"T_CVol\",, \"T\")","v":443822},486,{"$f":"IFERROR(RANK($J486,$J$1:J$607)+COUNTIF($J$1:J486,J486)-1,\"\")","v":504},"S.US.SNI","S.US.GILD",{"$f":"RTD(\"cqg.rtd\", ,\"ContractData\",O486, \"PerCentNetLastTrade\",, \"T\")/100","v":-5.4104189210078838E-3},"https://finance.yahoo.com/quote/GILD",null,{"$error":"#N/A"},5.4104189210078838E-3,null,{"$f":"RTD(\"cqg.rtd\", ,\"ContractData\",O486, \"LongDescription\",, \"T\")","v":"Gilead Sciences Inc"},null,null,-5.4104189210078838E-3,null,{"$error":"#N/A"},0,null,"",5.4104189210078838E-3,-5.4104189210078838E-3]
[null,null,"S.US.SNPS",{"$f":"RTD(\"cqg.rtd\", ,\"ContractData\",C487, \"LongDescription\",, \"T\")","v":"Synopsis"},{"$f":"RTD(\"cqg.rtd\", ,\"ContractData\",C487, \"Open\",, \"T\")","v":72.960000000000008},{"$f":"RTD(\"cqg.rtd\", ,\"ContractData\",C487, \"High\",, \"T\")","v":73.22},{"$f":"RTD(\"cqg.rtd\", ,\"ContractData\",C487, \"Low\",, \"T\")","v":72.36},{"$f":"RTD(\"cqg.rtd\", ,\"ContractData\",C487, \"LastTradeToday\",, \"T\")","v":72.89},{"$f":"RTD(\"cqg.rtd\", ,\"ContractData\",C487, \"NetLastTradeToday\",, \"T\")","v":0.28999999999999998},{"$f":"IFERROR(RTD(\"cqg.rtd\", ,\"ContractData\",C487, \"PerCentNetLastTrade\",, \"T\")/100,\"\")","v":3.9944903581267217E-3},{"$f":"RTD(\"cqg.rtd\", ,\"ContractData\", C487, \"T_CVol\",, \"T\")","v":792621},487,{"$f":"IFERROR(RANK($J487,$J$1:J$607)+COUNTIF($J$1:J487,J487)-1,\"\")","v":241},{"$f":"C487","v":"S.US.SNPS"},"S.US.XYL",{"$f":"RTD(\"cqg.rtd\", ,\"ContractData\",O487, \"PerCentNetLastTrade\",, \"T\")/100","v":-5.4924242424242422E-3},"https://finance.yahoo.com/quote/XYL",null,{"$f":"IF(P487>=0,P487,NA())","v":{"$error":"#N/A"}},{"$f":"IF(P487>=0,NA(),-1*P487)","v":5.4924242424242422E-3},null,{"$f":"RTD(\"cqg.rtd\", ,\"ContractData\",O487, \"LongDescription\",, \"T\")","v":"Xylem, Inc."},null,null,{"$f":"IFERROR(S487,P487)","v":-5.4924242424242422E-3},null,{"$f":"IF(S487=\"NA()\",0,1)","v":{"$error":"#N/A"}},{"$f":"IFERROR(AA487,0)","v":0},null,{"$f":"IFERROR(S487,\"\")","v":""},{"$f":"IFERROR(T487,\"\")","v":5.4924242424242422E-3},{"$f":"IF(AE487=\"\",\"\",Y487)","v":-5.4924242424242422E-3}]
[null,null,"S.US.SPB",{"$f":"RTD(\"cqg.rtd\", ,\"ContractData\",C488, \"LongDescription\",, \"T\")","v":"Spectrum Brands Inc"},{"$f":"RTD(\"cqg.rtd\", ,\"ContractData\",C488, \"Open\",, \"T\")","v":130.6},{"$f":"RTD(\"cqg.rtd\", ,\"ContractData\",C488, \"High\",, \"T\")","v":133.4},{"$f":"RTD(\"cqg.rtd\", ,\"ContractData\",C488, \"Low\",, \"T\")","v":129.79},{"$f":"RTD(\"cqg.rtd\", ,\"ContractData\",C488, \"LastTradeToday\",, \"T\")","v":133.19},{"$f":"RTD(\"cqg.rtd\", ,\"ContractData\",C488, \"NetLastTradeToday\",, \"T\")","v":3.4},{"$f":"IFERROR(RTD(\"cqg.rtd\", ,\"ContractData\",C488, \"PerCentNetLastTrade\",, \"T\")/100,\"\")","v":2.6196163032591108E-2},{"$f":"RTD(\"cqg.rtd\", ,\"ContractData\", C488, \"T_CVol\",, \"T\")","v":265568},488,{"$f":"IFERROR(RANK($J488,$J$1:J$607)+COUNTIF($J$1:J488,J488)-1,\"\")","v":15},"S.US.SPB","S.US.DG",{"$f":"RTD(\"cqg.rtd\", ,\"ContractData\",O488, \"PerCentNetLastTrade\",, \"T\")/100","v":-5.5154857870173945E-3},"https://finance.yahoo.com/quote/DG",null,{"$error":"#N/A"},5.5154857870173945E-3,null,{"$f":"RTD(\"cqg.rtd\", ,\"ContractData\",O488, \"LongDescription\",, \"T\")","v":"Dollar General Corporation"},null,null,-5.5154857870173945E-3,null,{"$error":"#N/A"},0,null,"",5.5154857870173945E-3,-5.5154857870173945E-3]
[null,null,"S.US.SPG",{"$f":"RTD(\"cqg.rtd\", ,\"ContractData\",C489, \"LongDescription\",, \"T\")","v":"Simon Property Grp"},{"$f":"RTD(\"cqg.rtd\", ,\"ContractData\",C489, \"Open\",, \"T\")","v":157.37},{"$f":"RTD(\"cqg.rtd\", ,\"ContractData\",C489, \"High\",, \"T\")","v":159.14000000000001},{"$f":"RTD(\"cqg.rtd\", ,\"ContractData\",C489, \"Low\",, \"T\")","v":156.83000000000001},{"$f":"RTD(\"cqg.rtd\", ,\"ContractData\",C489, \"LastTradeToday\",, \"T\")","v":159.09},{"$f":"RTD(\"cqg.rtd\", ,\"ContractData\",C489, \"NetLastTradeToday\",, \"T\")","v":1.84},{"$f":"IFERROR(RTD(\"cqg.rtd\", ,\"ContractData\",C489, \"PerCentNetLastTrade\",, \"T\")/100,\"\")","v":1.1701112877583466E-2},{"$f":"RTD(\"cqg.rtd\", ,\"ContractData\", C489, \"T_CVol\",, \"T\")","v":740061},489,{"$f":"IFERROR(RANK($J489,$J$1:J$607)+COUNTIF($J$1:J489,J489)-1,\"\")","v":83},"S.US.SPG","S.US.TRCO",{"$f":"RTD(\"cqg.rtd\", ,\"ContractData\",O489, \"PerCentNetLastTrade\",, \"T\")/100","v":-5.552751135790005E-3},"https://finance.yahoo.com/quote/TRCO",null,{"$error":"#N/A"},5.552751135790005E-3,null,{"$f":"RTD(\"cqg.rtd\", ,\"ContractData\",O489, \"LongDescription\",, \"T\")","v":"Tribune Media Company"},null,null,-5.552751135790005E-3,null,{"$error":"#N/A"},0,null,"",5.552751135790005E-3,-5.552751135790005E-3]
[null,null,"S.US.SPGI",{"$f":"RTD(\"cqg.rtd\", ,\"ContractData\",C490, \"LongDescription\",, \"T\")","v":"S&P Global Inc."},{"$f":"RTD(\"cqg.rtd\", ,\"ContractData\",C490, \"Open\",, \"T\")","v":138.27000000000001},{"$f":"RTD(\"cqg.rtd\", ,\"ContractData\",C490, \"High\",, \"T\")","v":139.58000000000001},{"$f":"RTD(\"cqg.rtd\", ,\"ContractData\",C490, \"Low\",, \"T\")","v":137.76},{"$f":"RTD(\"cqg.rtd\", ,\"ContractData\",C490, \"LastTradeToday\",, \"T\")","v":139.5},{"$f":"RTD(\"cqg.rtd\", ,\"ContractData\",C490, \"NetLastTradeToday\",, \"T\")","v":1.3},{"$f":"IFERROR(RTD(\"cqg.rtd\", ,\"ContractData\",C490, \"PerCentNetLastTrade\",, \"T\")/100,\"\")","v":9.4066570188133143E-3},{"$f":"RTD(\"cqg.rtd\", ,\"ContractData\", C490, \"T_CVol\",, \"T\")","v":373310},490,{"$f":"IFERROR(RANK($J490,$J$1:J$607)+COUNTIF($J$1:J490,J490)-1,\"\")","v":115},"S.US.SPGI","S.US.LRCX",{"$f":"RTD(\"cqg.rtd\", ,\"ContractData\",O490, \"PerCentNetLastTrade\",, \"T\")/100","v":-5.6703382650068433E-3},"https://finance.yahoo.com/quote/LRCX",null,{"$error":"#N/A"},5.6703382650068433E-3,null,{"$f":"RTD(\"cqg.rtd\", ,\"ContractData\",O490, \"LongDescription\",, \"T\")","v":"LAM Research Corporation"},null,null,-5.6703382650068433E-3,null,{"$error":"#N/A"},0,null,"",5.6703382650068433E-3,-5.6703382650068433E-3]
[null,null,"S.US.SPLK",{"$f":"RTD(\"cqg.rtd\", ,\"ContractData\",C491, \"LongDescription\",, \"T\")","v":"Splunk, Inc."},{"$f":"RTD(\"cqg.rtd\", ,\"ContractData\",C491, \"Open\",, \"T\")","v":66.91},{"$f":"RTD(\"cqg.rtd\", ,\"ContractData\",C491, \"High\",, \"T\")","v":67.09},{"$f":"RTD(\"cqg.rtd\", ,\"ContractData\",C491, \"Low\",, \"T\")","v":65.69},{"$f":"RTD(\"cqg.rtd\", ,\"ContractData\",C491, \"LastTradeToday\",, \"T\")","v":66.040000000000006},{"$f":"RTD(\"cqg.rtd\", ,\"ContractData\",C491, \"NetLastTradeToday\",, \"T\")","v":-0.39},{"$f":"IFERROR(RTD(\"cqg.rtd\", ,\"ContractData\",C491, \"PerCentNetLastTrade\",, \"T\")/100,\"\")","v":-5.8708414872798431E-3},{"$f":"RTD(\"cqg.rtd\", ,\"ContractData\", C491, \"T_CVol\",, \"T\")","v":1039282},491,{"$f":"IFERROR(RANK($J491,$J$1:J$607)+COUNTIF($J$1:J491,J491)-1,\"\")","v":493},"S.US.SPLK","S.US.KR",{"$f":"RTD(\"cqg.rtd\", ,\"ContractData\",O491, \"PerCentNetLastTrade\",, \"T\")/100","v":-5.837912087912088E-3},"https://finance.yahoo.com/quote/KR",null,{"$error":"#N/A"},5.837912087912088E-3,null,{"$f":"RTD(\"cqg.rtd\", ,\"ContractData\",O491, \"LongDescription\",, \"T\")","v":"Kroger Co (The)"},null,null,-5.837912087912088E-3,null,{"$error":"#N/A"},0,null,"",5.837912087912088E-3,-5.837912087912088E-3]
[null,null,"S.US.SPR",{"$f":"RTD(\"cqg.rtd\", ,\"ContractData\",C492, \"LongDescription\",, \"T\")","v":"Spirit Aerosysstems Holding Inc"},{"$f":"RTD(\"cqg.rtd\", ,\"ContractData\",C492, \"Open\",, \"T\")","v":54.09},{"$f":"RTD(\"cqg.rtd\", ,\"ContractData\",C492, \"High\",, \"T\")","v":54.44},{"$f":"RTD(\"cqg.rtd\", ,\"ContractData\",C492, \"Low\",, \"T\")","v":53.93},{"$f":"RTD(\"cqg.rtd\", ,\"ContractData\",C492, \"LastTradeToday\",, \"T\")","v":54.24},{"$f":"RTD(\"cqg.rtd\", ,\"ContractData\",C492, \"NetLastTradeToday\",, \"T\")","v":0.2},{"$f":"IFERROR(RTD(\"cqg.rtd\", ,\"ContractData\",C492, \"PerCentNetLastTrade\",, \"T\")/100,\"\")","v":3.7009622501850479E-3},{"$f":"RTD(\"cqg.rtd\", ,\"ContractData\", C492, \"T_CVol\",, \"T\")","v":512605},492,{"$f":"IFERROR(RANK($J492,$J$1:J$607)+COUNTIF($J$1:J492,J492)-1,\"\")","v":251},"S.US.SPR","S.US.VFC",{"$f":"RTD(\"cqg.rtd\", ,\"ContractData\",O492, \"PerCentNetLastTrade\",, \"T\")/100","v":-5.8501604076240795E-3},"https://finance.yahoo.com/quote/VFC",null,{"$error":"#N/A"},5.8501604076240795E-3,null,{"$f":"RTD(\"cqg.rtd\", ,\"ContractData\",O492, \"LongDescription\",, \"T\")","v":"VF Corp"},null,null,-5.8501604076240795E-3,null,{"$error":"#N/A"},0,null,"",5.8501604076240795E-3,-5.8501604076240795E-3]
[null,null,"S.US.SQ",{"$f":"RTD(\"cqg.rtd\", ,\"ContractData\",C493, \"LongDescription\",, \"T\")","v":"Square, Inc"},{"$f":"RTD(\"cqg.rtd\", ,\"ContractData\",C493, \"Open\",, \"T\")","v":21.64},{"$f":"RTD(\"cqg.rtd\", ,\"ContractData\",C493, \"High\",, \"T\")","v":21.88},{"$f":"RTD(\"cqg.rtd\", ,\"ContractData\",C493, \"Low\",, \"T\")","v":21.42},{"$f":"RTD(\"cqg.rtd\", ,\"ContractData\",C493, \"LastTradeToday\",, \"T\")","v":21.82},{"$f":"RTD(\"cqg.rtd\", ,\"ContractData\",C493, \"NetLastTradeToday\",, \"T\")","v":0.18},{"$f":"IFERROR(RTD(\"cqg.rtd\", ,\"ContractData\",C493, \"PerCentNetLastTrade\",, \"T\")/100,\"\")","v":8.3179297597042508E-3},{"$f":"RTD(\"cqg.rtd\", ,\"ContractData\", C493, \"T_CVol\",, \"T\")","v":4683323},493,{"$f":"IFERROR(RANK($J493,$J$1:J$607)+COUNTIF($J$1:J493,J493)-1,\"\")","v":132},"S.US.SQ","S.US.SPLK",{"$f":"RTD(\"cqg.rtd\", ,\"ContractData\",O493, \"PerCentNetLastTrade\",, \"T\")/100","v":-5.8708414872798431E-3},"https://finance.yahoo.com/quote/SPLK",null,{"$error":"#N/A"},5.8708414872798431E-3,null,{"$f":"RTD(\"cqg.rtd\", ,\"ContractData\",O493, \"LongDescription\",, \"T\")","v":"Splunk, Inc."},null,null,-5.8708414872798431E-3,null,{"$error":"#N/A"},0,null,"",5.8708414872798431E-3,-5.8708414872798431E-3]
[null,null,"S.US.SRCL",{"$f":"RTD(\"cqg.rtd\", ,\"ContractData\",C494, \"LongDescription\",, \"T\")","v":"Stericycle Inc"},{"$f":"RTD(\"cqg.rtd\", ,\"ContractData\",C494, \"Open\",, \"T\")","v":83.04},{"$f":"RTD(\"cqg.rtd\", ,\"ContractData\",C494, \"High\",, \"T\")","v":83.72},{"$f":"RTD(\"cqg.rtd\", ,\"ContractData\",C494, \"Low\",, \"T\")","v":82.87},{"$f":"RTD(\"cqg.rtd\", ,\"ContractData\",C494, \"LastTradeToday\",, \"T\")","v":83.09},{"$f":"RTD(\"cqg.rtd\", ,\"ContractData\",C494, \"NetLastTradeToday\",, \"T\")","v":0.04},{"$f":"IFERROR(RTD(\"cqg.rtd\", ,\"ContractData\",C494, \"PerCentNetLastTrade\",, \"T\")/100,\"\")","v":4.8163756773028296E-4},{"$f":"RTD(\"cqg.rtd\", ,\"ContractData\", C494, \"T_CVol\",, \"T\")","v":186963},494,{"$f":"IFERROR(RANK($J494,$J$1:J$607)+COUNTIF($J$1:J494,J494)-1,\"\")","v":374},"S.US.SRCL","S.US.ZAYO",{"$f":"RTD(\"cqg.rtd\", ,\"ContractData\",O494, \"PerCentNetLastTrade\",, \"T\")/100","v":-5.974842767295597E-3},"https://finance.yahoo.com/quote/ZAYO",null,{"$error":"#N/A"},5.974842767295597E-3,null,{"$f":"RTD(\"cqg.rtd\", ,\"ContractData\",O494, \"LongDescription\",, \"T\")","v":"Zayo Group Holdings, Inc."},null,null,-5.974842767295597E-3,null,{"$error":"#N/A"},0,null,"",5.974842767295597E-3,-5.974842767295597E-3]
[null,null,"S.US.SSNC",{"$f":"RTD(\"cqg.rtd\", ,\"ContractData\",C495, \"LongDescription\",, \"T\")","v":"SS&C Technologies Holdings, Inc."},{"$f":"RTD(\"cqg.rtd\", ,\"ContractData\",C495, \"Open\",, \"T\")","v":37.22},{"$f":"RTD(\"cqg.rtd\", ,\"ContractData\",C495, \"High\",, \"T\")","v":37.300000000000004},{"$f":"RTD(\"cqg.rtd\", ,\"ContractData\",C495, \"Low\",, \"T\")","v":36.93},{"$f":"RTD(\"cqg.rtd\", ,\"ContractData\",C495, \"LastTradeToday\",, \"T\")","v":37.01},{"$f":"RTD(\"cqg.rtd\", ,\"ContractData\",C495, \"NetLastTradeToday\",, \"T\")","v":-0.09},{"$f":"IFERROR(RTD(\"cqg.rtd\", ,\"ContractData\",C495, \"PerCentNetLastTrade\",, \"T\")/100,\"\")","v":-2.4258760107816711E-3},{"$f":"RTD(\"cqg.rtd\", ,\"ContractData\", C495, \"T_CVol\",, \"T\")","v":534539},495,{"$f":"IFERROR(RANK($J495,$J$1:J$607)+COUNTIF($J$1:J495,J495)-1,\"\")","v":440},"S.US.SSNC","S.US.QRVO",{"$f":"RTD(\"cqg.rtd\", ,\"ContractData\",O495, \"PerCentNetLastTrade\",, \"T\")/100","v":-5.9834500318268627E-3},"https://finance.yahoo.com/quote/QRVO",null,{"$error":"#N/A"},5.9834500318268627E-3,null,{"$f":"RTD(\"cqg.rtd\", ,\"ContractData\",O495, \"LongDescription\",, \"T\")","v":"Qorvo"},null,null,-5.9834500318268627E-3,null,{"$error":"#N/A"},0,null,"",5.9834500318268627E-3,-5.9834500318268627E-3]
[null,null,"S.US.STAY",{"$f":"RTD(\"cqg.rtd\", ,\"ContractData\",C496, \"LongDescription\",, \"T\")","v":"Extended Stay America, Inc."},{"$f":"RTD(\"cqg.rtd\", ,\"ContractData\",C496, \"Open\",, \"T\")","v":17.84},{"$f":"RTD(\"cqg.rtd\", ,\"ContractData\",C496, \"High\",, \"T\")","v":17.84},{"$f":"RTD(\"cqg.rtd\", ,\"ContractData\",C496, \"Low\",, \"T\")","v":17.59},{"$f":"RTD(\"cqg.rtd\", ,\"ContractData\",C496, \"LastTradeToday\",, \"T\")","v":17.68},{"$f":"RTD(\"cqg.rtd\", ,\"ContractData\",C496, \"NetLastTradeToday\",, \"T\")","v":-0.09},{"$f":"IFERROR(RTD(\"cqg.rtd\", ,\"ContractData\",C496, \"PerCentNetLastTrade\",, \"T\")/100,\"\")","v":-5.064715813168261E-3},{"$f":"RTD(\"cqg.rtd\", ,\"ContractData\", C496, \"T_CVol\",, \"T\")","v":646248},496,{"$f":"IFERROR(RANK($J496,$J$1:J$607)+COUNTIF($J$1:J496,J496)-1,\"\")","v":483},"S.US.STAY","S.US.ESRX",{"$f":"RTD(\"cqg.rtd\", ,\"ContractData\",O496, \"PerCentNetLastTrade\",, \"T\")/100","v":-5.9850374064837905E-3},"https://finance.yahoo.com/quote/ESRX",null,{"$error":"#N/A"},5.9850374064837905E-3,null,{"$f":"RTD(\"cqg.rtd\", ,\"ContractData\",O496, \"LongDescription\",, \"T\")","v":"Express Scripts Holding Company"},null,null,-5.9850374064837905E-3,null,{"$error":"#N/A"},0,null,"",5.9850374064837905E-3,-5.9850374064837905E-3]
[null,null,"S.US.STLD",{"$f":"RTD(\"cqg.rtd\", ,\"ContractData\",C497, \"LongDescription\",, \"T\")","v":"Steel Dynamics Inc"},{"$f":"RTD(\"cqg.rtd\", ,\"ContractData\",C497, \"Open\",, \"T\")","v":35.86},{"$f":"RTD(\"cqg.rtd\", ,\"ContractData\",C497, \"High\",, \"T\")","v":36.770000000000003},{"$f":"RTD(\"cqg.rtd\", ,\"ContractData\",C497, \"Low\",, \"T\")","v":34.83},{"$f":"RTD(\"cqg.rtd\", ,\"ContractData\",C497, \"LastTradeToday\",, \"T\")","v":34.880000000000003},{"$f":"RTD(\"cqg.rtd\", ,\"ContractData\",C497, \"NetLastTradeToday\",, \"T\")","v":-0.4},{"$f":"IFERROR(RTD(\"cqg.rtd\", ,\"ContractData\",C497, \"PerCentNetLastTrade\",, \"T\")/100,\"\")","v":-1.1337868480725623E-2},{"$f":"RTD(\"cqg.rtd\", ,\"ContractData\", C497, \"T_CVol\",, \"T\")","v":2404793},497,{"$f":"IFERROR(RANK($J497,$J$1:J$607)+COUNTIF($J$1:J497,J497)-1,\"\")","v":557},"S.US.STLD","S.US.AMCX",{"$f":"RTD(\"cqg.rtd\", ,\"ContractData\",O497, \"PerCentNetLastTrade\",, \"T\")/100","v":-6.0698027314112293E-3},"https://finance.yahoo.com/quote/AMCX",null,{"$error":"#N/A"},6.0698027314112293E-3,null,{"$f":"RTD(\"cqg.rtd\", ,\"ContractData\",O497, \"LongDescription\",, \"T\")","v":"AMC Networks Inc. Class A"},null,null,-6.0698027314112293E-3,null,{"$error":"#N/A"},0,null,"",6.0698027314112293E-3,-6.0698027314112293E-3]
[null,null,"S.US.STZ",{"$f":"RTD(\"cqg.rtd\", ,\"ContractData\",C498, \"LongDescription\",, \"T\")","v":"Constellation Brands Inc"},{"$f":"RTD(\"cqg.rtd\", ,\"ContractData\",C498, \"Open\",, \"T\")","v":180.81},{"$f":"RTD(\"cqg.rtd\", ,\"ContractData\",C498, \"High\",, \"T\")","v":180.81},{"$f":"RTD(\"cqg.rtd\", ,\"ContractData\",C498, \"Low\",, \"T\")","v":177.26},{"$f":"RTD(\"cqg.rtd\", ,\"ContractData\",C498, \"LastTradeToday\",, \"T\")","v":178.6},{"$f":"RTD(\"cqg.rtd\", ,\"ContractData\",C498, \"NetLastTradeToday\",, \"T\")","v":-2.2600000000000002},{"$f":"IFERROR(RTD(\"cqg.rtd\", ,\"ContractData\",C498, \"PerCentNetLastTrade\",, \"T\")/100,\"\")","v":-1.249585314607984E-2},{"$f":"RTD(\"cqg.rtd\", ,\"ContractData\", C498, \"T_CVol\",, \"T\")","v":1602415},498,{"$f":"IFERROR(RANK($J498,$J$1:J$607)+COUNTIF($J$1:J498,J498)-1,\"\")","v":563},"S.US.STZ","S.US.IVZ",{"$f":"RTD(\"cqg.rtd\", ,\"ContractData\",O498, \"PerCentNetLastTrade\",, \"T\")/100","v":-6.0799999999999995E-3},"https://finance.yahoo.com/quote/IVZ",null,{"$error":"#N/A"},6.0799999999999995E-3,null,{"$f":"RTD(\"cqg.rtd\", ,\"ContractData\",O498, \"LongDescription\",, \"T\")","v":"INVESCO LTD"},null,null,-6.0799999999999995E-3,null,{"$error":"#N/A"},0,null,"",6.0799999999999995E-3,-6.0799999999999995E-3]
[null,null,"S.US.SWK",{"$f":"RTD(\"cqg.rtd\", ,\"ContractData\",C499, \"LongDescription\",, \"T\")","v":"Stanley Black and Decker Inc"},{"$f":"RTD(\"cqg.rtd\", ,\"ContractData\",C499, \"Open\",, \"T\")","v":135.35},{"$f":"RTD(\"cqg.rtd\", ,\"ContractData\",C499, \"High\",, \"T\")","v":136.22999999999999},{"$f":"RTD(\"cqg.rtd\", ,\"ContractData\",C499, \"Low\",, \"T\")","v":135.07},{"$f":"RTD(\"cqg.rtd\", ,\"ContractData\",C499, \"LastTradeToday\",, \"T\")","v":135.37},{"$f":"RTD(\"cqg.rtd\", ,\"ContractData\",C499, \"NetLastTradeToday\",, \"T\")","v":-0.01},{"$f":"IFERROR(RTD(\"cqg.rtd\", ,\"ContractData\",C499, \"PerCentNetLastTrade\",, \"T\")/100,\"\")","v":-7.3866154527995272E-5},{"$f":"RTD(\"cqg.rtd\", ,\"ContractData\", C499, \"T_CVol\",, \"T\")","v":481345},499,{"$f":"IFERROR(RANK($J499,$J$1:J$607)+COUNTIF($J$1:J499,J499)-1,\"\")","v":388},"S.US.SWK","S.US.MIDD",{"$f":"RTD(\"cqg.rtd\", ,\"ContractData\",O499, \"PerCentNetLastTrade\",, \"T\")/100","v":-6.0951785574744075E-3},"https://finance.yahoo.com/quote/MIDD",null,{"$error":"#N/A"},6.0951785574744075E-3,null,{"$f":"RTD(\"cqg.rtd\", ,\"ContractData\",O499, \"LongDescription\",, \"T\")","v":"Middleby Corp (The)"},null,null,-6.0951785574744075E-3,null,{"$error":"#N/A"},0,null,"",6.0951785574744075E-3,-6.0951785574744075E-3]
[null,null,"S.US.SWKS",{"$f":"RTD(\"cqg.rtd\", ,\"ContractData\",C500, \"LongDescription\",, \"T\")","v":"Skyworks Solutions Inc"},{"$f":"RTD(\"cqg.rtd\", ,\"ContractData\",C500, \"Open\",, \"T\")","v":105.49000000000001},{"$f":"RTD(\"cqg.rtd\", ,\"ContractData\",C500, \"High\",, \"T\")","v":105.98},{"$f":"RTD(\"cqg.rtd\", ,\"ContractData\",C500, \"Low\",, \"T\")","v":104.7},{"$f":"RTD(\"cqg.rtd\", ,\"ContractData\",C500, \"LastTradeToday\",, \"T\")","v":105.02},{"$f":"RTD(\"cqg.rtd\", ,\"ContractData\",C500, \"NetLastTradeToday\",, \"T\")","v":-0.15},{"$f":"IFERROR(RTD(\"cqg.rtd\", ,\"ContractData\",C500, \"PerCentNetLastTrade\",, \"T\")/100,\"\")","v":-1.4262622420842448E-3},{"$f":"RTD(\"cqg.rtd\", ,\"ContractData\", C500, \"T_CVol\",, \"T\")","v":578682},500,{"$f":"IFERROR(RANK($J500,$J$1:J$607)+COUNTIF($J$1:J500,J500)-1,\"\")","v":424},"S.US.SWKS","S.US.MSM",{"$f":"RTD(\"cqg.rtd\", ,\"ContractData\",O500, \"PerCentNetLastTrade\",, \"T\")/100","v":-6.1829211385907605E-3},"https://finance.yahoo.com/quote/MSM",null,{"$error":"#N/A"},6.1829211385907605E-3,null,{"$f":"RTD(\"cqg.rtd\", ,\"ContractData\",O500, \"LongDescription\",, \"T\")","v":"MSC Industrial Direct Co Inc"},null,null,-6.1829211385907605E-3,null,{"$error":"#N/A"},0,null,"",6.1829211385907605E-3,-6.1829211385907605E-3]
[null,null,"S.US.SWN",{"$f":"RTD(\"cqg.rtd\", ,\"ContractData\",C501, \"LongDescription\",, \"T\")","v":"SOUTHWESTERN ENERGY CO"},{"$f":"RTD(\"cqg.rtd\", ,\"ContractData\",C501, \"Open\",, \"T\")","v":7},{"$f":"RTD(\"cqg.rtd\", ,\"ContractData\",C501, \"High\",, \"T\")","v":7},{"$f":"RTD(\"cqg.rtd\", ,\"ContractData\",C501, \"Low\",, \"T\")","v":6.73},{"$f":"RTD(\"cqg.rtd\", ,\"ContractData\",C501, \"LastTradeToday\",, \"T\")","v":6.8},{"$f":"RTD(\"cqg.rtd\", ,\"ContractData\",C501, \"NetLastTradeToday\",, \"T\")","v":-0.19},{"$f":"IFERROR(RTD(\"cqg.rtd\", ,\"ContractData\",C501, \"PerCentNetLastTrade\",, \"T\")/100,\"\")","v":-2.7181688125894134E-2},{"$f":"RTD(\"cqg.rtd\", ,\"ContractData\", C501, \"T_CVol\",, \"T\")","v":13467409},501,{"$f":"IFERROR(RANK($J501,$J$1:J$607)+COUNTIF($J$1:J501,J501)-1,\"\")","v":598},"S.US.SWN","S.US.FTNT",{"$f":"RTD(\"cqg.rtd\", ,\"ContractData\",O501, \"PerCentNetLastTrade\",, \"T\")/100","v":-6.4886448714749191E-3},"https://finance.yahoo.com/quote/FTNT",null,{"$error":"#N/A"},6.4886448714749191E-3,null,{"$f":"RTD(\"cqg.rtd\", ,\"ContractData\",O501, \"LongDescription\",, \"T\")","v":"Fortinet, Inc."},null,null,-6.4886448714749191E-3,null,{"$error":"#N/A"},0,null,"",6.4886448714749191E-3,-6.4886448714749191E-3]
[null,null,"S.US.SYK",{"$f":"RTD(\"cqg.rtd\", ,\"ContractData\",C502, \"LongDescription\",, \"T\")","v":"Stryker Corp"},{"$f":"RTD(\"cqg.rtd\", ,\"ContractData\",C502, \"Open\",, \"T\")","v":139.96},{"$f":"RTD(\"cqg.rtd\", ,\"ContractData\",C502, \"High\",, \"T\")","v":140.34},{"$f":"RTD(\"cqg.rtd\", ,\"ContractData\",C502, \"Low\",, \"T\")","v":139.83000000000001},{"$f":"RTD(\"cqg.rtd\", ,\"ContractData\",C502, \"LastTradeToday\",, \"T\")","v":140.16},{"$f":"RTD(\"cqg.rtd\", ,\"ContractData\",C502, \"NetLastTradeToday\",, \"T\")","v":0.26},{"$f":"IFERROR(RTD(\"cqg.rtd\", ,\"ContractData\",C502, \"PerCentNetLastTrade\",, \"T\")/100,\"\")","v":1.8584703359542532E-3},{"$f":"RTD(\"cqg.rtd\", ,\"ContractData\", C502, \"T_CVol\",, \"T\")","v":665874},502,{"$f":"IFERROR(RANK($J502,$J$1:J$607)+COUNTIF($J$1:J502,J502)-1,\"\")","v":325},"S.US.SYK","S.US.MSG",{"$f":"RTD(\"cqg.rtd\", ,\"ContractData\",O502, \"PerCentNetLastTrade\",, \"T\")/100","v":-6.5136634267976175E-3},"https://finance.yahoo.com/quote/MSG",null,{"$error":"#N/A"},6.5136634267976175E-3,null,{"$f":"RTD(\"cqg.rtd\", ,\"ContractData\",O502, \"LongDescription\",, \"T\")","v":"The Madison Square Garden Company"},null,null,-6.5136634267976175E-3,null,{"$error":"#N/A"},0,null,"",6.5136634267976175E-3,-6.5136634267976175E-3]
[null,null,"S.US.SYMC",{"$f":"RTD(\"cqg.rtd\", ,\"ContractData\",C503, \"LongDescription\",, \"T\")","v":"Symantec Corp"},{"$f":"RTD(\"cqg.rtd\", ,\"ContractData\",C503, \"Open\",, \"T\")","v":29.93},{"$f":"RTD(\"cqg.rtd\", ,\"ContractData\",C503, \"High\",, \"T\")","v":30.07},{"$f":"RTD(\"cqg.rtd\", ,\"ContractData\",C503, \"Low\",, \"T\")","v":29.73},{"$f":"RTD(\"cqg.rtd\", ,\"ContractData\",C503, \"LastTradeToday\",, \"T\")","v":29.87},{"$f":"RTD(\"cqg.rtd\", ,\"ContractData\",C503, \"NetLastTradeToday\",, \"T\")","v":0.08},{"$f":"IFERROR(RTD(\"cqg.rtd\", ,\"ContractData\",C503, \"PerCentNetLastTrade\",, \"T\")/100,\"\")","v":2.6854649211144684E-3},{"$f":"RTD(\"cqg.rtd\", ,\"ContractData\", C503, \"T_CVol\",, \"T\")","v":4399865},503,{"$f":"IFERROR(RANK($J503,$J$1:J$607)+COUNTIF($J$1:J503,J503)-1,\"\")","v":294},"S.US.SYMC","S.US.GGG",{"$f":"RTD(\"cqg.rtd\", ,\"ContractData\",O503, \"PerCentNetLastTrade\",, \"T\")/100","v":-6.5341682548325621E-3},"https://finance.yahoo.com/quote/GGG",null,{"$error":"#N/A"},6.5341682548325621E-3,null,{"$f":"RTD(\"cqg.rtd\", ,\"ContractData\",O503, \"LongDescription\",, \"T\")","v":"Graco Inc"},null,null,-6.5341682548325621E-3,null,{"$error":"#N/A"},0,null,"",6.5341682548325621E-3,-6.5341682548325621E-3]
[null,null,"S.US.SYY",{"$f":"RTD(\"cqg.rtd\", ,\"ContractData\",C504, \"LongDescription\",, \"T\")","v":"Sysco Corp"},{"$f":"RTD(\"cqg.rtd\", ,\"ContractData\",C504, \"Open\",, \"T\")","v":54.160000000000004},{"$f":"RTD(\"cqg.rtd\", ,\"ContractData\",C504, \"High\",, \"T\")","v":54.45},{"$f":"RTD(\"cqg.rtd\", ,\"ContractData\",C504, \"Low\",, \"T\")","v":54.03},{"$f":"RTD(\"cqg.rtd\", ,\"ContractData\",C504, \"LastTradeToday\",, \"T\")","v":54.28},{"$f":"RTD(\"cqg.rtd\", ,\"ContractData\",C504, \"NetLastTradeToday\",, \"T\")","v":0.05},{"$f":"IFERROR(RTD(\"cqg.rtd\", ,\"ContractData\",C504, \"PerCentNetLastTrade\",, \"T\")/100,\"\")","v":9.2199889360132764E-4},{"$f":"RTD(\"cqg.rtd\", ,\"ContractData\", C504, \"T_CVol\",, \"T\")","v":1168041},504,{"$f":"IFERROR(RANK($J504,$J$1:J$607)+COUNTIF($J$1:J504,J504)-1,\"\")","v":351},"S.US.SYY","S.US.SNI",{"$f":"RTD(\"cqg.rtd\", ,\"ContractData\",O504, \"PerCentNetLastTrade\",, \"T\")/100","v":-6.6686425607587431E-3},"https://finance.yahoo.com/quote/SNI",null,{"$error":"#N/A"},6.6686425607587431E-3,null,{"$f":"RTD(\"cqg.rtd\", ,\"ContractData\",O504, \"LongDescription\",, \"T\")","v":"Scripps Network Interactive Inc"},null,null,-6.6686425607587431E-3,null,{"$error":"#N/A"},0,null,"",6.6686425607587431E-3,-6.6686425607587431E-3]
[null,null,"S.US.TCO",{"$f":"RTD(\"cqg.rtd\", ,\"ContractData\",C505, \"LongDescription\",, \"T\")","v":"Taubman Centers Inc"},{"$f":"RTD(\"cqg.rtd\", ,\"ContractData\",C505, \"Open\",, \"T\")","v":61.4},{"$f":"RTD(\"cqg.rtd\", ,\"ContractData\",C505, \"High\",, \"T\")","v":63.56},{"$f":"RTD(\"cqg.rtd\", ,\"ContractData\",C505, \"Low\",, \"T\")","v":61.31},{"$f":"RTD(\"cqg.rtd\", ,\"ContractData\",C505, \"LastTradeToday\",, \"T\")","v":63.27},{"$f":"RTD(\"cqg.rtd\", ,\"ContractData\",C505, \"NetLastTradeToday\",, \"T\")","v":2.25},{"$f":"IFERROR(RTD(\"cqg.rtd\", ,\"ContractData\",C505, \"PerCentNetLastTrade\",, \"T\")/100,\"\")","v":3.687315634218289E-2},{"$f":"RTD(\"cqg.rtd\", ,\"ContractData\", C505, \"T_CVol\",, \"T\")","v":639695},505,{"$f":"IFERROR(RANK($J505,$J$1:J$607)+COUNTIF($J$1:J505,J505)-1,\"\")","v":7},"S.US.TCO","S.US.AMAT",{"$f":"RTD(\"cqg.rtd\", ,\"ContractData\",O505, \"PerCentNetLastTrade\",, \"T\")/100","v":-6.6800267201068807E-3},"https://finance.yahoo.com/quote/AMAT",null,{"$error":"#N/A"},6.6800267201068807E-3,null,{"$f":"RTD(\"cqg.rtd\", ,\"ContractData\",O505, \"LongDescription\",, \"T\")","v":"Applied Materials Inc"},null,null,-6.6800267201068807E-3,null,{"$error":"#N/A"},0,null,"",6.6800267201068807E-3,-6.6800267201068807E-3]
[null,null,"S.US.TDC",{"$f":"RTD(\"cqg.rtd\", ,\"ContractData\",C506, \"LongDescription\",, \"T\")","v":"Teradata Corporation"},{"$f":"RTD(\"cqg.rtd\", ,\"ContractData\",C506, \"Open\",, \"T\")","v":28.39},{"$f":"RTD(\"cqg.rtd\", ,\"ContractData\",C506, \"High\",, \"T\")","v":28.79},{"$f":"RTD(\"cqg.rtd\", ,\"ContractData\",C506, \"Low\",, \"T\")","v":27.95},{"$f":"RTD(\"cqg.rtd\", ,\"ContractData\",C506, \"LastTradeToday\",, \"T\")","v":28.16},{"$f":"RTD(\"cqg.rtd\", ,\"ContractData\",C506, \"NetLastTradeToday\",, \"T\")","v":-0.61},{"$f":"IFERROR(RTD(\"cqg.rtd\", ,\"ContractData\",C506, \"PerCentNetLastTrade\",, \"T\")/100,\"\")","v":-2.1202641640597847E-2},{"$f":"RTD(\"cqg.rtd\", ,\"ContractData\", C506, \"T_CVol\",, \"T\")","v":1121574},506,{"$f":"IFERROR(RANK($J506,$J$1:J$607)+COUNTIF($J$1:J506,J506)-1,\"\")","v":585},"S.US.TDC","S.US.PCAR",{"$f":"RTD(\"cqg.rtd\", ,\"ContractData\",O506, \"PerCentNetLastTrade\",, \"T\")/100","v":-6.6868333067982809E-3},"https://finance.yahoo.com/quote/PCAR",null,{"$error":"#N/A"},6.6868333067982809E-3,null,{"$f":"RTD(\"cqg.rtd\", ,\"ContractData\",O506, \"LongDescription\",, \"T\")","v":"PACCAR Inc"},null,null,-6.6868333067982809E-3,null,{"$error":"#N/A"},0,null,"",6.6868333067982809E-3,-6.6868333067982809E-3]
[null,null,"S.US.TDG",{"$f":"RTD(\"cqg.rtd\", ,\"ContractData\",C507, \"LongDescription\",, \"T\")","v":"TransDigm Group"},{"$f":"RTD(\"cqg.rtd\", ,\"ContractData\",C507, \"Open\",, \"T\")","v":263.28000000000003},{"$f":"RTD(\"cqg.rtd\", ,\"ContractData\",C507, \"High\",, \"T\")","v":265.59000000000003},{"$f":"RTD(\"cqg.rtd\", ,\"ContractData\",C507, \"Low\",, \"T\")","v":262.22000000000003},{"$f":"RTD(\"cqg.rtd\", ,\"ContractData\",C507, \"LastTradeToday\",, \"T\")","v":264.84000000000003},{"$f":"RTD(\"cqg.rtd\", ,\"ContractData\",C507, \"NetLastTradeToday\",, \"T\")","v":1.56},{"$f":"IFERROR(RTD(\"cqg.rtd\", ,\"ContractData\",C507, \"PerCentNetLastTrade\",, \"T\")/100,\"\")","v":5.9252506836827709E-3},{"$f":"RTD(\"cqg.rtd\", ,\"ContractData\", C507, \"T_CVol\",, \"T\")","v":473126},507,{"$f":"IFERROR(RANK($J507,$J$1:J$607)+COUNTIF($J$1:J507,J507)-1,\"\")","v":195},"S.US.TDG","S.US.DFS",{"$f":"RTD(\"cqg.rtd\", ,\"ContractData\",O507, \"PerCentNetLastTrade\",, \"T\")/100","v":-6.6956812855708068E-3},"https://finance.yahoo.com/quote/DFS",null,{"$error":"#N/A"},6.6956812855708068E-3,null,{"$f":"RTD(\"cqg.rtd\", ,\"ContractData\",O507, \"LongDescription\",, \"T\")","v":"Discover Financial Services"},null,null,-6.6956812855708068E-3,null,{"$error":"#N/A"},0,null,"",6.6956812855708068E-3,-6.6956812855708068E-3]
[null,null,"S.US.TEAM",{"$f":"RTD(\"cqg.rtd\", ,\"ContractData\",C508, \"LongDescription\",, \"T\")","v":"Atlassian Corporation Plc"},{"$f":"RTD(\"cqg.rtd\", ,\"ContractData\",C508, \"Open\",, \"T\")","v":35.410000000000004},{"$f":"RTD(\"cqg.rtd\", ,\"ContractData\",C508, \"High\",, \"T\")","v":35.86},{"$f":"RTD(\"cqg.rtd\", ,\"ContractData\",C508, \"Low\",, \"T\")","v":35.300000000000004},{"$f":"RTD(\"cqg.rtd\", ,\"ContractData\",C508, \"LastTradeToday\",, \"T\")","v":35.619999999999997},{"$f":"RTD(\"cqg.rtd\", ,\"ContractData\",C508, \"NetLastTradeToday\",, \"T\")","v":0.19},{"$f":"IFERROR(RTD(\"cqg.rtd\", ,\"ContractData\",C508, \"PerCentNetLastTrade\",, \"T\")/100,\"\")","v":5.3626869884278857E-3},{"$f":"RTD(\"cqg.rtd\", ,\"ContractData\", C508, \"T_CVol\",, \"T\")","v":310258},508,{"$f":"IFERROR(RANK($J508,$J$1:J$607)+COUNTIF($J$1:J508,J508)-1,\"\")","v":203},"S.US.TEAM","S.US.DISH",{"$f":"RTD(\"cqg.rtd\", ,\"ContractData\",O508, \"PerCentNetLastTrade\",, \"T\")/100","v":-6.7334794863764483E-3},"https://finance.yahoo.com/quote/DISH",null,{"$error":"#N/A"},6.7334794863764483E-3,null,{"$f":"RTD(\"cqg.rtd\", ,\"ContractData\",O508, \"LongDescription\",, \"T\")","v":"DISH Network Corp."},null,null,-6.7334794863764483E-3,null,{"$error":"#N/A"},0,null,"",6.7334794863764483E-3,-6.7334794863764483E-3]
[null,null,"S.US.TECH",{"$f":"RTD(\"cqg.rtd\", ,\"ContractData\",C509, \"LongDescription\",, \"T\")","v":"Bio-Techne Corp"},{"$f":"RTD(\"cqg.rtd\", ,\"ContractData\",C509, \"Open\",, \"T\")","v":110.89},{"$f":"RTD(\"cqg.rtd\", ,\"ContractData\",C509, \"High\",, \"T\")","v":111.2},{"$f":"RTD(\"cqg.rtd\", ,\"ContractData\",C509, \"Low\",, \"T\")","v":109.63},{"$f":"RTD(\"cqg.rtd\", ,\"ContractData\",C509, \"LastTradeToday\",, \"T\")","v":110.69},{"$f":"RTD(\"cqg.rtd\", ,\"ContractData\",C509, \"NetLastTradeToday\",, \"T\")","v":-0.15},{"$f":"IFERROR(RTD(\"cqg.rtd\", ,\"ContractData\",C509, \"PerCentNetLastTrade\",, \"T\")/100,\"\")","v":-1.3533020570191269E-3},{"$f":"RTD(\"cqg.rtd\", ,\"ContractData\", C509, \"T_CVol\",, \"T\")","v":34780},509,{"$f":"IFERROR(RANK($J509,$J$1:J$607)+COUNTIF($J$1:J509,J509)-1,\"\")","v":423},"S.US.TECH","S.US.COMM",{"$f":"RTD(\"cqg.rtd\", ,\"ContractData\",O509, \"PerCentNetLastTrade\",, \"T\")/100","v":-6.7367286445701967E-3},"https://finance.yahoo.com/quote/COMM",null,{"$error":"#N/A"},6.7367286445701967E-3,null,{"$f":"RTD(\"cqg.rtd\", ,\"ContractData\",O509, \"LongDescription\",, \"T\")","v":"CommScope Holding Company, Inc."},null,null,-6.7367286445701967E-3,null,{"$error":"#N/A"},0,null,"",6.7367286445701967E-3,-6.7367286445701967E-3]
[null,null,"S.US.TFX",{"$f":"RTD(\"cqg.rtd\", ,\"ContractData\",C510, \"LongDescription\",, \"T\")","v":"Teleflex Inc"},{"$f":"RTD(\"cqg.rtd\", ,\"ContractData\",C510, \"Open\",, \"T\")","v":200.29},{"$f":"RTD(\"cqg.rtd\", ,\"ContractData\",C510, \"High\",, \"T\")","v":200.97},{"$f":"RTD(\"cqg.rtd\", ,\"ContractData\",C510, \"Low\",, \"T\")","v":198.74},{"$f":"RTD(\"cqg.rtd\", ,\"ContractData\",C510, \"LastTradeToday\",, \"T\")","v":199.89000000000001},{"$f":"RTD(\"cqg.rtd\", ,\"ContractData\",C510, \"NetLastTradeToday\",, \"T\")","v":0.23},{"$f":"IFERROR(RTD(\"cqg.rtd\", ,\"ContractData\",C510, \"PerCentNetLastTrade\",, \"T\")/100,\"\")","v":1.1519583291595714E-3},{"$f":"RTD(\"cqg.rtd\", ,\"ContractData\", C510, \"T_CVol\",, \"T\")","v":41790},510,{"$f":"IFERROR(RANK($J510,$J$1:J$607)+COUNTIF($J$1:J510,J510)-1,\"\")","v":346},"S.US.TFX","S.US.CLR",{"$f":"RTD(\"cqg.rtd\", ,\"ContractData\",O510, \"PerCentNetLastTrade\",, \"T\")/100","v":-6.9031183051654369E-3},"https://finance.yahoo.com/quote/CLR",null,{"$error":"#N/A"},6.9031183051654369E-3,null,{"$f":"RTD(\"cqg.rtd\", ,\"ContractData\",O510, \"LongDescription\",, \"T\")","v":"Continental Resources"},null,null,-6.9031183051654369E-3,null,{"$error":"#N/A"},0,null,"",6.9031183051654369E-3,-6.9031183051654369E-3]
[null,null,"S.US.TGT",{"$f":"RTD(\"cqg.rtd\", ,\"ContractData\",C511, \"LongDescription\",, \"T\")","v":"Target Corp"},{"$f":"RTD(\"cqg.rtd\", ,\"ContractData\",C511, \"Open\",, \"T\")","v":54.51},{"$f":"RTD(\"cqg.rtd\", ,\"ContractData\",C511, \"High\",, \"T\")","v":54.54},{"$f":"RTD(\"cqg.rtd\", ,\"ContractData\",C511, \"Low\",, \"T\")","v":53.75},{"$f":"RTD(\"cqg.rtd\", ,\"ContractData\",C511, \"LastTradeToday\",, \"T\")","v":54.21},{"$f":"RTD(\"cqg.rtd\", ,\"ContractData\",C511, \"NetLastTradeToday\",, \"T\")","v":-0.28000000000000003},{"$f":"IFERROR(RTD(\"cqg.rtd\", ,\"ContractData\",C511, \"PerCentNetLastTrade\",, \"T\")/100,\"\")","v":-5.1385575334923841E-3},{"$f":"RTD(\"cqg.rtd\", ,\"ContractData\", C511, \"T_CVol\",, \"T\")","v":3896316},511,{"$f":"IFERROR(RANK($J511,$J$1:J$607)+COUNTIF($J$1:J511,J511)-1,\"\")","v":484},"S.US.TGT","S.US.FLS",{"$f":"RTD(\"cqg.rtd\", ,\"ContractData\",O511, \"PerCentNetLastTrade\",, \"T\")/100","v":-7.0749949464321811E-3},"https://finance.yahoo.com/quote/FLS",null,{"$error":"#N/A"},7.0749949464321811E-3,null,{"$f":"RTD(\"cqg.rtd\", ,\"ContractData\",O511, \"LongDescription\",, \"T\")","v":"Flowserve Corp"},null,null,-7.0749949464321811E-3,null,{"$error":"#N/A"},0,null,"",7.0749949464321811E-3,-7.0749949464321811E-3]
[null,null,"S.US.THC",{"$f":"RTD(\"cqg.rtd\", ,\"ContractData\",C512, \"LongDescription\",, \"T\")","v":"Tenet Healthcare Corp"},{"$f":"RTD(\"cqg.rtd\", ,\"ContractData\",C512, \"Open\",, \"T\")","v":17.43},{"$f":"RTD(\"cqg.rtd\", ,\"ContractData\",C512, \"High\",, \"T\")","v":17.53},{"$f":"RTD(\"cqg.rtd\", ,\"ContractData\",C512, \"Low\",, \"T\")","v":17.16},{"$f":"RTD(\"cqg.rtd\", ,\"ContractData\",C512, \"LastTradeToday\",, \"T\")","v":17.34},{"$f":"RTD(\"cqg.rtd\", ,\"ContractData\",C512, \"NetLastTradeToday\",, \"T\")","v":-0.17},{"$f":"IFERROR(RTD(\"cqg.rtd\", ,\"ContractData\",C512, \"PerCentNetLastTrade\",, \"T\")/100,\"\")","v":-9.7087378640776708E-3},{"$f":"RTD(\"cqg.rtd\", ,\"ContractData\", C512, \"T_CVol\",, \"T\")","v":643101},512,{"$f":"IFERROR(RANK($J512,$J$1:J$607)+COUNTIF($J$1:J512,J512)-1,\"\")","v":540},"S.US.THC","S.US.YELP",{"$f":"RTD(\"cqg.rtd\", ,\"ContractData\",O512, \"PerCentNetLastTrade\",, \"T\")/100","v":-7.199424046076314E-3},"https://finance.yahoo.com/quote/YELP",null,{"$error":"#N/A"},7.199424046076314E-3,null,{"$f":"RTD(\"cqg.rtd\", ,\"ContractData\",O512, \"LongDescription\",, \"T\")","v":"YELP, Inc."},null,null,-7.199424046076314E-3,null,{"$error":"#N/A"},0,null,"",7.199424046076314E-3,-7.199424046076314E-3]
[null,null,"S.US.THO",{"$f":"RTD(\"cqg.rtd\", ,\"ContractData\",C513, \"LongDescription\",, \"T\")","v":"THOR INDUSTRIES INC"},{"$f":"RTD(\"cqg.rtd\", ,\"ContractData\",C513, \"Open\",, \"T\")","v":92.83},{"$f":"RTD(\"cqg.rtd\", ,\"ContractData\",C513, \"High\",, \"T\")","v":93.95},{"$f":"RTD(\"cqg.rtd\", ,\"ContractData\",C513, \"Low\",, \"T\")","v":91.95},{"$f":"RTD(\"cqg.rtd\", ,\"ContractData\",C513, \"LastTradeToday\",, \"T\")","v":92.56},{"$f":"RTD(\"cqg.rtd\", ,\"ContractData\",C513, \"NetLastTradeToday\",, \"T\")","v":0.05},{"$f":"IFERROR(RTD(\"cqg.rtd\", ,\"ContractData\",C513, \"PerCentNetLastTrade\",, \"T\")/100,\"\")","v":5.4048211004215758E-4},{"$f":"RTD(\"cqg.rtd\", ,\"ContractData\", C513, \"T_CVol\",, \"T\")","v":261849},513,{"$f":"IFERROR(RANK($J513,$J$1:J$607)+COUNTIF($J$1:J513,J513)-1,\"\")","v":370},"S.US.THO","S.US.CGNX",{"$f":"RTD(\"cqg.rtd\", ,\"ContractData\",O513, \"PerCentNetLastTrade\",, \"T\")/100","v":-7.209727752071452E-3},"https://finance.yahoo.com/quote/CGNX",null,{"$error":"#N/A"},7.209727752071452E-3,null,{"$f":"RTD(\"cqg.rtd\", ,\"ContractData\",O513, \"LongDescription\",, \"T\")","v":"Cognex Corp"},null,null,-7.209727752071452E-3,null,{"$error":"#N/A"},0,null,"",7.209727752071452E-3,-7.209727752071452E-3]
[null,null,"S.US.THS",{"$f":"RTD(\"cqg.rtd\", ,\"ContractData\",C514, \"LongDescription\",, \"T\")","v":"TreeHouse Foods"},{"$f":"RTD(\"cqg.rtd\", ,\"ContractData\",C514, \"Open\",, \"T\")","v":77.48},{"$f":"RTD(\"cqg.rtd\", ,\"ContractData\",C514, \"High\",, \"T\")","v":78.100000000000009},{"$f":"RTD(\"cqg.rtd\", ,\"ContractData\",C514, \"Low\",, \"T\")","v":77.460000000000008},{"$f":"RTD(\"cqg.rtd\", ,\"ContractData\",C514, \"LastTradeToday\",, \"T\")","v":78.040000000000006},{"$f":"RTD(\"cqg.rtd\", ,\"ContractData\",C514, \"NetLastTradeToday\",, \"T\")","v":0.56000000000000005},{"$f":"IFERROR(RTD(\"cqg.rtd\", ,\"ContractData\",C514, \"PerCentNetLastTrade\",, \"T\")/100,\"\")","v":7.2276716572018587E-3},{"$f":"RTD(\"cqg.rtd\", ,\"ContractData\", C514, \"T_CVol\",, \"T\")","v":54371},514,{"$f":"IFERROR(RANK($J514,$J$1:J$607)+COUNTIF($J$1:J514,J514)-1,\"\")","v":162},"S.US.THS",{"$f":"VLOOKUP($L514,$M$1:$N$607,2,FALSE)","v":"S.US.HBI"},{"$f":"RTD(\"cqg.rtd\", ,\"ContractData\",O514, \"PerCentNetLastTrade\",, \"T\")/100","v":-7.3028237585199603E-3},{"$f":"\"https://finance.yahoo.com/quote/\"&RIGHT(O514,(LEN(O514)-5))","v":"https://finance.yahoo.com/quote/HBI"},null,{"$error":"#N/A"},7.3028237585199603E-3,null,{"$f":"RTD(\"cqg.rtd\", ,\"ContractData\",O514, \"LongDescription\",, \"T\")","v":"Hanesbrands, Inc"},null,null,-7.3028237585199603E-3,null,{"$error":"#N/A"},0,null,"",7.3028237585199603E-3,-7.3028237585199603E-3]
[null,null,"S.US.TJX",{"$f":"RTD(\"cqg.rtd\", ,\"ContractData\",C515, \"LongDescription\",, \"T\")","v":"TJX Companies Inc"},{"$f":"RTD(\"cqg.rtd\", ,\"ContractData\",C515, \"Open\",, \"T\")","v":74.540000000000006},{"$f":"RTD(\"cqg.rtd\", ,\"ContractData\",C515, \"High\",, \"T\")","v":74.7},{"$f":"RTD(\"cqg.rtd\", ,\"ContractData\",C515, \"Low\",, \"T\")","v":74},{"$f":"RTD(\"cqg.rtd\", ,\"ContractData\",C515, \"LastTradeToday\",, \"T\")","v":74.100000000000009},{"$f":"RTD(\"cqg.rtd\", ,\"ContractData\",C515, \"NetLastTradeToday\",, \"T\")","v":-0.3},{"$f":"IFERROR(RTD(\"cqg.rtd\", ,\"ContractData\",C515, \"PerCentNetLastTrade\",, \"T\")/100,\"\")","v":-4.0322580645161289E-3},{"$f":"RTD(\"cqg.rtd\", ,\"ContractData\", C515, \"T_CVol\",, \"T\")","v":2972894},{"$f":"L514+1","v":515},{"$f":"IFERROR(RANK($J515,$J$1:J$607)+COUNTIF($J$1:J515,J515)-1,\"\")","v":468},"S.US.TJX","S.US.SCCO",{"$f":"RTD(\"cqg.rtd\", ,\"ContractData\",O515, \"PerCentNetLastTrade\",, \"T\")/100","v":-7.4264495858326193E-3},"https://finance.yahoo.com/quote/SCCO",null,{"$error":"#N/A"},7.4264495858326193E-3,null,{"$f":"RTD(\"cqg.rtd\", ,\"ContractData\",O515, \"LongDescription\",, \"T\")","v":"Southern Copper Corp"},null,null,-7.4264495858326193E-3,null,{"$error":"#N/A"},0,null,"",7.4264495858326193E-3,-7.4264495858326193E-3]
[null,null,"S.US.TMO",{"$f":"RTD(\"cqg.rtd\", ,\"ContractData\",C516, \"LongDescription\",, \"T\")","v":"Thermo Electron Corp"},{"$f":"RTD(\"cqg.rtd\", ,\"ContractData\",C516, \"Open\",, \"T\")","v":171.81},{"$f":"RTD(\"cqg.rtd\", ,\"ContractData\",C516, \"High\",, \"T\")","v":172.42000000000002},{"$f":"RTD(\"cqg.rtd\", ,\"ContractData\",C516, \"Low\",, \"T\")","v":171.28},{"$f":"RTD(\"cqg.rtd\", ,\"ContractData\",C516, \"LastTradeToday\",, \"T\")","v":172.34},{"$f":"RTD(\"cqg.rtd\", ,\"ContractData\",C516, \"NetLastTradeToday\",, \"T\")","v":0.51},{"$f":"IFERROR(RTD(\"cqg.rtd\", ,\"ContractData\",C516, \"PerCentNetLastTrade\",, \"T\")/100,\"\")","v":2.9680498166792762E-3},{"$f":"RTD(\"cqg.rtd\", ,\"ContractData\", C516, \"T_CVol\",, \"T\")","v":444524},516,{"$f":"IFERROR(RANK($J516,$J$1:J$607)+COUNTIF($J$1:J516,J516)-1,\"\")","v":282},"S.US.TMO","S.US.QCOM",{"$f":"RTD(\"cqg.rtd\", ,\"ContractData\",O516, \"PerCentNetLastTrade\",, \"T\")/100","v":-7.4299223235393449E-3},"https://finance.yahoo.com/quote/QCOM",null,{"$error":"#N/A"},7.4299223235393449E-3,null,{"$f":"RTD(\"cqg.rtd\", ,\"ContractData\",O516, \"LongDescription\",, \"T\")","v":"QUALCOMM Inc"},null,null,-7.4299223235393449E-3,null,{"$error":"#N/A"},0,null,"",7.4299223235393449E-3,-7.4299223235393449E-3]
[null,null,"S.US.TMUS",{"$f":"RTD(\"cqg.rtd\", ,\"ContractData\",C517, \"LongDescription\",, \"T\")","v":"T-Mobile US, Inc."},{"$f":"RTD(\"cqg.rtd\", ,\"ContractData\",C517, \"Open\",, \"T\")","v":67.820000000000007},{"$f":"RTD(\"cqg.rtd\", ,\"ContractData\",C517, \"High\",, \"T\")","v":67.86},{"$f":"RTD(\"cqg.rtd\", ,\"ContractData\",C517, \"Low\",, \"T\")","v":67.05},{"$f":"RTD(\"cqg.rtd\", ,\"ContractData\",C517, \"LastTradeToday\",, \"T\")","v":67.680000000000007},{"$f":"RTD(\"cqg.rtd\", ,\"ContractData\",C517, \"NetLastTradeToday\",, \"T\")","v":0.06},{"$f":"IFERROR(RTD(\"cqg.rtd\", ,\"ContractData\",C517, \"PerCentNetLastTrade\",, \"T\")/100,\"\")","v":8.8731144631765753E-4},{"$f":"RTD(\"cqg.rtd\", ,\"ContractData\", C517, \"T_CVol\",, \"T\")","v":1473663},517,{"$f":"IFERROR(RANK($J517,$J$1:J$607)+COUNTIF($J$1:J517,J517)-1,\"\")","v":353},"S.US.TMUS","S.US.WBA",{"$f":"RTD(\"cqg.rtd\", ,\"ContractData\",O517, \"PerCentNetLastTrade\",, \"T\")/100","v":-7.5086164451009354E-3},"https://finance.yahoo.com/quote/WBA",null,{"$error":"#N/A"},7.5086164451009354E-3,null,{"$f":"RTD(\"cqg.rtd\", ,\"ContractData\",O517, \"LongDescription\",, \"T\")","v":"Walgreens Boots Alliance, Inc."},null,null,-7.5086164451009354E-3,null,{"$error":"#N/A"},0,null,"",7.5086164451009354E-3,-7.5086164451009354E-3]
[null,null,"S.US.TOL",{"$f":"RTD(\"cqg.rtd\", ,\"ContractData\",C518, \"LongDescription\",, \"T\")","v":"Toll Brothers Inc"},{"$f":"RTD(\"cqg.rtd\", ,\"ContractData\",C518, \"Open\",, \"T\")","v":37.450000000000003},{"$f":"RTD(\"cqg.rtd\", ,\"ContractData\",C518, \"High\",, \"T\")","v":37.86},{"$f":"RTD(\"cqg.rtd\", ,\"ContractData\",C518, \"Low\",, \"T\")","v":37.119999999999997},{"$f":"RTD(\"cqg.rtd\", ,\"ContractData\",C518, \"LastTradeToday\",, \"T\")","v":37.76},{"$f":"RTD(\"cqg.rtd\", ,\"ContractData\",C518, \"NetLastTradeToday\",, \"T\")","v":-0.02},{"$f":"IFERROR(RTD(\"cqg.rtd\", ,\"ContractData\",C518, \"PerCentNetLastTrade\",, \"T\")/100,\"\")","v":-5.2938062466913714E-4},{"$f":"RTD(\"cqg.rtd\", ,\"ContractData\", C518, \"T_CVol\",, \"T\")","v":1648148},518,{"$f":"IFERROR(RANK($J518,$J$1:J$607)+COUNTIF($J$1:J518,J518)-1,\"\")","v":403},"S.US.TOL","S.US.VVV",{"$f":"RTD(\"cqg.rtd\", ,\"ContractData\",O518, \"PerCentNetLastTrade\",, \"T\")/100","v":-7.5791350869371379E-3},"https://finance.yahoo.com/quote/VVV",null,{"$error":"#N/A"},7.5791350869371379E-3,null,{"$f":"RTD(\"cqg.rtd\", ,\"ContractData\",O518, \"LongDescription\",, \"T\")","v":"Valvoline Inc."},null,null,-7.5791350869371379E-3,null,{"$error":"#N/A"},0,null,"",7.5791350869371379E-3,-7.5791350869371379E-3]
[null,null,"S.US.TPX",{"$f":"RTD(\"cqg.rtd\", ,\"ContractData\",C519, \"LongDescription\",, \"T\")","v":"Tempur Pedic International, Inc."},{"$f":"RTD(\"cqg.rtd\", ,\"ContractData\",C519, \"Open\",, \"T\")","v":47.32},{"$f":"RTD(\"cqg.rtd\", ,\"ContractData\",C519, \"High\",, \"T\")","v":47.71},{"$f":"RTD(\"cqg.rtd\", ,\"ContractData\",C519, \"Low\",, \"T\")","v":46.9},{"$f":"RTD(\"cqg.rtd\", ,\"ContractData\",C519, \"LastTradeToday\",, \"T\")","v":47.660000000000004},{"$f":"RTD(\"cqg.rtd\", ,\"ContractData\",C519, \"NetLastTradeToday\",, \"T\")","v":0.23},{"$f":"IFERROR(RTD(\"cqg.rtd\", ,\"ContractData\",C519, \"PerCentNetLastTrade\",, \"T\")/100,\"\")","v":4.8492515285684171E-3},{"$f":"RTD(\"cqg.rtd\", ,\"ContractData\", C519, \"T_CVol\",, \"T\")","v":320562},519,{"$f":"IFERROR(RANK($J519,$J$1:J$607)+COUNTIF($J$1:J519,J519)-1,\"\")","v":217},"S.US.TPX","S.US.ADSK",{"$f":"RTD(\"cqg.rtd\", ,\"ContractData\",O519, \"PerCentNetLastTrade\",, \"T\")/100","v":-7.6126405240329285E-3},"https://finance.yahoo.com/quote/ADSK",null,{"$error":"#N/A"},7.6126405240329285E-3,null,{"$f":"RTD(\"cqg.rtd\", ,\"ContractData\",O519, \"LongDescription\",, \"T\")","v":"Autodesk Inc"},null,null,-7.6126405240329285E-3,null,{"$error":"#N/A"},0,null,"",7.6126405240329285E-3,-7.6126405240329285E-3]
[null,null,"S.US.TRCO",{"$f":"RTD(\"cqg.rtd\", ,\"ContractData\",C520, \"LongDescription\",, \"T\")","v":"Tribune Media Company"},{"$f":"RTD(\"cqg.rtd\", ,\"ContractData\",C520, \"Open\",, \"T\")","v":39.660000000000004},{"$f":"RTD(\"cqg.rtd\", ,\"ContractData\",C520, \"High\",, \"T\")","v":40.21},{"$f":"RTD(\"cqg.rtd\", ,\"ContractData\",C520, \"Low\",, \"T\")","v":39.200000000000003},{"$f":"RTD(\"cqg.rtd\", ,\"ContractData\",C520, \"LastTradeToday\",, \"T\")","v":39.4},{"$f":"RTD(\"cqg.rtd\", ,\"ContractData\",C520, \"NetLastTradeToday\",, \"T\")","v":-0.22},{"$f":"IFERROR(RTD(\"cqg.rtd\", ,\"ContractData\",C520, \"PerCentNetLastTrade\",, \"T\")/100,\"\")","v":-5.552751135790005E-3},{"$f":"RTD(\"cqg.rtd\", ,\"ContractData\", C520, \"T_CVol\",, \"T\")","v":750735},520,{"$f":"IFERROR(RANK($J520,$J$1:J$607)+COUNTIF($J$1:J520,J520)-1,\"\")","v":489},"S.US.TRCO","S.US.JWN",{"$f":"RTD(\"cqg.rtd\", ,\"ContractData\",O520, \"PerCentNetLastTrade\",, \"T\")/100","v":-7.7015643802647417E-3},"https://finance.yahoo.com/quote/JWN",null,{"$error":"#N/A"},7.7015643802647417E-3,null,{"$f":"RTD(\"cqg.rtd\", ,\"ContractData\",O520, \"LongDescription\",, \"T\")","v":"Nordstrom Inc"},null,null,-7.7015643802647417E-3,null,{"$error":"#N/A"},0,null,"",7.7015643802647417E-3,-7.7015643802647417E-3]
[null,null,"S.US.TRIP",{"$f":"RTD(\"cqg.rtd\", ,\"ContractData\",C521, \"LongDescription\",, \"T\")","v":"TripAdvisor, Inc."},{"$f":"RTD(\"cqg.rtd\", ,\"ContractData\",C521, \"Open\",, \"T\")","v":40.770000000000003},{"$f":"RTD(\"cqg.rtd\", ,\"ContractData\",C521, \"High\",, \"T\")","v":40.800000000000004},{"$f":"RTD(\"cqg.rtd\", ,\"ContractData\",C521, \"Low\",, \"T\")","v":39.93},{"$f":"RTD(\"cqg.rtd\", ,\"ContractData\",C521, \"LastTradeToday\",, \"T\")","v":40.450000000000003},{"$f":"RTD(\"cqg.rtd\", ,\"ContractData\",C521, \"NetLastTradeToday\",, \"T\")","v":-0.42},{"$f":"IFERROR(RTD(\"cqg.rtd\", ,\"ContractData\",C521, \"PerCentNetLastTrade\",, \"T\")/100,\"\")","v":-1.027648642035723E-2},{"$f":"RTD(\"cqg.rtd\", ,\"ContractData\", C521, \"T_CVol\",, \"T\")","v":2487613},521,{"$f":"IFERROR(RANK($J521,$J$1:J$607)+COUNTIF($J$1:J521,J521)-1,\"\")","v":546},"S.US.TRIP","S.US.ERIE",{"$f":"RTD(\"cqg.rtd\", ,\"ContractData\",O521, \"PerCentNetLastTrade\",, \"T\")/100","v":-7.8491596280180868E-3},"https://finance.yahoo.com/quote/ERIE",null,{"$error":"#N/A"},7.8491596280180868E-3,null,{"$f":"RTD(\"cqg.rtd\", ,\"ContractData\",O521, \"LongDescription\",, \"T\")","v":"Erie Indemnity Co"},null,null,-7.8491596280180868E-3,null,{"$error":"#N/A"},0,null,"",7.8491596280180868E-3,-7.8491596280180868E-3]
[null,null,"S.US.TRMB",{"$f":"RTD(\"cqg.rtd\", ,\"ContractData\",C522, \"LongDescription\",, \"T\")","v":"Trimble Inc."},{"$f":"RTD(\"cqg.rtd\", ,\"ContractData\",C522, \"Open\",, \"T\")","v":35.980000000000004},{"$f":"RTD(\"cqg.rtd\", ,\"ContractData\",C522, \"High\",, \"T\")","v":36.020000000000003},{"$f":"RTD(\"cqg.rtd\", ,\"ContractData\",C522, \"Low\",, \"T\")","v":35.590000000000003},{"$f":"RTD(\"cqg.rtd\", ,\"ContractData\",C522, \"LastTradeToday\",, \"T\")","v":35.69},{"$f":"RTD(\"cqg.rtd\", ,\"ContractData\",C522, \"NetLastTradeToday\",, \"T\")","v":-0.17},{"$f":"IFERROR(RTD(\"cqg.rtd\", ,\"ContractData\",C522, \"PerCentNetLastTrade\",, \"T\")/100,\"\")","v":-4.7406581148912432E-3},{"$f":"RTD(\"cqg.rtd\", ,\"ContractData\", C522, \"T_CVol\",, \"T\")","v":266766},522,{"$f":"IFERROR(RANK($J522,$J$1:J$607)+COUNTIF($J$1:J522,J522)-1,\"\")","v":476},"S.US.TRMB","S.US.DISCK",{"$f":"RTD(\"cqg.rtd\", ,\"ContractData\",O522, \"PerCentNetLastTrade\",, \"T\")/100","v":-8.0096115338406087E-3},"https://finance.yahoo.com/quote/DISCK",null,{"$error":"#N/A"},8.0096115338406087E-3,null,{"$f":"RTD(\"cqg.rtd\", ,\"ContractData\",O522, \"LongDescription\",, \"T\")","v":"Discovery Communications Inc."},null,null,-8.0096115338406087E-3,null,{"$error":"#N/A"},0,null,"",8.0096115338406087E-3,-8.0096115338406087E-3]
[null,null,"S.US.TROW",{"$f":"RTD(\"cqg.rtd\", ,\"ContractData\",C523, \"LongDescription\",, \"T\")","v":"T Rowe Price Group Inc"},{"$f":"RTD(\"cqg.rtd\", ,\"ContractData\",C523, \"Open\",, \"T\")","v":69.070000000000007},{"$f":"RTD(\"cqg.rtd\", ,\"ContractData\",C523, \"High\",, \"T\")","v":69.510000000000005},{"$f":"RTD(\"cqg.rtd\", ,\"ContractData\",C523, \"Low\",, \"T\")","v":67.62},{"$f":"RTD(\"cqg.rtd\", ,\"ContractData\",C523, \"LastTradeToday\",, \"T\")","v":67.989999999999995},{"$f":"RTD(\"cqg.rtd\", ,\"ContractData\",C523, \"NetLastTradeToday\",, \"T\")","v":-3.0700000000000003},{"$f":"IFERROR(RTD(\"cqg.rtd\", ,\"ContractData\",C523, \"PerCentNetLastTrade\",, \"T\")/100,\"\")","v":-4.3202927103855898E-2},{"$f":"RTD(\"cqg.rtd\", ,\"ContractData\", C523, \"T_CVol\",, \"T\")","v":3794599},523,{"$f":"IFERROR(RANK($J523,$J$1:J$607)+COUNTIF($J$1:J523,J523)-1,\"\")","v":603},"S.US.TROW","S.US.FL",{"$f":"RTD(\"cqg.rtd\", ,\"ContractData\",O523, \"PerCentNetLastTrade\",, \"T\")/100","v":-8.0173709704359445E-3},"https://finance.yahoo.com/quote/FL",null,{"$error":"#N/A"},8.0173709704359445E-3,null,{"$f":"RTD(\"cqg.rtd\", ,\"ContractData\",O523, \"LongDescription\",, \"T\")","v":"Foot Locker Inc"},null,null,-8.0173709704359445E-3,null,{"$error":"#N/A"},0,null,"",8.0173709704359445E-3,-8.0173709704359445E-3]
[null,null,"S.US.TRU",{"$f":"RTD(\"cqg.rtd\", ,\"ContractData\",C524, \"LongDescription\",, \"T\")","v":"TransUnion"},{"$f":"RTD(\"cqg.rtd\", ,\"ContractData\",C524, \"Open\",, \"T\")","v":41.84},{"$f":"RTD(\"cqg.rtd\", ,\"ContractData\",C524, \"High\",, \"T\")","v":42.230000000000004},{"$f":"RTD(\"cqg.rtd\", ,\"ContractData\",C524, \"Low\",, \"T\")","v":41.53},{"$f":"RTD(\"cqg.rtd\", ,\"ContractData\",C524, \"LastTradeToday\",, \"T\")","v":42.18},{"$f":"RTD(\"cqg.rtd\", ,\"ContractData\",C524, \"NetLastTradeToday\",, \"T\")","v":0.37},{"$f":"IFERROR(RTD(\"cqg.rtd\", ,\"ContractData\",C524, \"PerCentNetLastTrade\",, \"T\")/100,\"\")","v":8.8495575221238937E-3},{"$f":"RTD(\"cqg.rtd\", ,\"ContractData\", C524, \"T_CVol\",, \"T\")","v":616743},524,{"$f":"IFERROR(RANK($J524,$J$1:J$607)+COUNTIF($J$1:J524,J524)-1,\"\")","v":125},"S.US.TRU","S.US.DLTR",{"$f":"RTD(\"cqg.rtd\", ,\"ContractData\",O524, \"PerCentNetLastTrade\",, \"T\")/100","v":-8.1166772352568167E-3},"https://finance.yahoo.com/quote/DLTR",null,{"$error":"#N/A"},8.1166772352568167E-3,null,{"$f":"RTD(\"cqg.rtd\", ,\"ContractData\",O524, \"LongDescription\",, \"T\")","v":"Dollar Tree Stores"},null,null,-8.1166772352568167E-3,null,{"$error":"#N/A"},0,null,"",8.1166772352568167E-3,-8.1166772352568167E-3]
[null,null,"S.US.TSCO",{"$f":"RTD(\"cqg.rtd\", ,\"ContractData\",C525, \"LongDescription\",, \"T\")","v":"Tractor Supply Co"},{"$f":"RTD(\"cqg.rtd\", ,\"ContractData\",C525, \"Open\",, \"T\")","v":54.5},{"$f":"RTD(\"cqg.rtd\", ,\"ContractData\",C525, \"High\",, \"T\")","v":54.550000000000004},{"$f":"RTD(\"cqg.rtd\", ,\"ContractData\",C525, \"Low\",, \"T\")","v":53},{"$f":"RTD(\"cqg.rtd\", ,\"ContractData\",C525, \"LastTradeToday\",, \"T\")","v":53.02},{"$f":"RTD(\"cqg.rtd\", ,\"ContractData\",C525, \"NetLastTradeToday\",, \"T\")","v":-1.27},{"$f":"IFERROR(RTD(\"cqg.rtd\", ,\"ContractData\",C525, \"PerCentNetLastTrade\",, \"T\")/100,\"\")","v":-2.3392890034997237E-2},{"$f":"RTD(\"cqg.rtd\", ,\"ContractData\", C525, \"T_CVol\",, \"T\")","v":1900937},525,{"$f":"IFERROR(RANK($J525,$J$1:J$607)+COUNTIF($J$1:J525,J525)-1,\"\")","v":589},"S.US.TSCO","S.US.CHUBA",{"$f":"RTD(\"cqg.rtd\", ,\"ContractData\",O525, \"PerCentNetLastTrade\",, \"T\")/100","v":-8.1680280046674443E-3},"https://finance.yahoo.com/quote/CHUBA",null,{"$error":"#N/A"},8.1680280046674443E-3,null,{"$f":"RTD(\"cqg.rtd\", ,\"ContractData\",O525, \"LongDescription\",, \"T\")","v":"CommerceHub, Inc. Series A"},null,null,-8.1680280046674443E-3,null,{"$error":"#N/A"},0,null,"",8.1680280046674443E-3,-8.1680280046674443E-3]
[null,null,"S.US.TSLA",{"$f":"RTD(\"cqg.rtd\", ,\"ContractData\",C526, \"LongDescription\",, \"T\")","v":"Tesla, Inc."},{"$f":"RTD(\"cqg.rtd\", ,\"ContractData\",C526, \"Open\",, \"T\")","v":306.51},{"$f":"RTD(\"cqg.rtd\", ,\"ContractData\",C526, \"High\",, \"T\")","v":309.95999999999998},{"$f":"RTD(\"cqg.rtd\", ,\"ContractData\",C526, \"Low\",, \"T\")","v":305.40000000000003},{"$f":"RTD(\"cqg.rtd\", ,\"ContractData\",C526, \"LastTradeToday\",, \"T\")","v":308.90000000000003},{"$f":"RTD(\"cqg.rtd\", ,\"ContractData\",C526, \"NetLastTradeToday\",, \"T\")","v":5.04},{"$f":"IFERROR(RTD(\"cqg.rtd\", ,\"ContractData\",C526, \"PerCentNetLastTrade\",, \"T\")/100,\"\")","v":1.6586585927729876E-2},{"$f":"RTD(\"cqg.rtd\", ,\"ContractData\", C526, \"T_CVol\",, \"T\")","v":3864900},526,{"$f":"IFERROR(RANK($J526,$J$1:J$607)+COUNTIF($J$1:J526,J526)-1,\"\")","v":45},"S.US.TSLA","S.US.REGN",{"$f":"RTD(\"cqg.rtd\", ,\"ContractData\",O526, \"PerCentNetLastTrade\",, \"T\")/100","v":-8.1929904415111512E-3},"https://finance.yahoo.com/quote/REGN",null,{"$error":"#N/A"},8.1929904415111512E-3,null,{"$f":"RTD(\"cqg.rtd\", ,\"ContractData\",O526, \"LongDescription\",, \"T\")","v":"Regeneron Pharm Inc"},null,null,-8.1929904415111512E-3,null,{"$error":"#N/A"},0,null,"",8.1929904415111512E-3,-8.1929904415111512E-3]
[null,null,"S.US.TSN",{"$f":"RTD(\"cqg.rtd\", ,\"ContractData\",C527, \"LongDescription\",, \"T\")","v":"Tyson Foods Inc ClsA"},{"$f":"RTD(\"cqg.rtd\", ,\"ContractData\",C527, \"Open\",, \"T\")","v":58.230000000000004},{"$f":"RTD(\"cqg.rtd\", ,\"ContractData\",C527, \"High\",, \"T\")","v":58.660000000000004},{"$f":"RTD(\"cqg.rtd\", ,\"ContractData\",C527, \"Low\",, \"T\")","v":58.18},{"$f":"RTD(\"cqg.rtd\", ,\"ContractData\",C527, \"LastTradeToday\",, \"T\")","v":58.5},{"$f":"RTD(\"cqg.rtd\", ,\"ContractData\",C527, \"NetLastTradeToday\",, \"T\")","v":0.08},{"$f":"IFERROR(RTD(\"cqg.rtd\", ,\"ContractData\",C527, \"PerCentNetLastTrade\",, \"T\")/100,\"\")","v":1.3693940431359123E-3},{"$f":"RTD(\"cqg.rtd\", ,\"ContractData\", C527, \"T_CVol\",, \"T\")","v":743616},527,{"$f":"IFERROR(RANK($J527,$J$1:J$607)+COUNTIF($J$1:J527,J527)-1,\"\")","v":342},"S.US.TSN","S.US.JBHT",{"$f":"RTD(\"cqg.rtd\", ,\"ContractData\",O527, \"PerCentNetLastTrade\",, \"T\")/100","v":-8.3460679440460796E-3},"https://finance.yahoo.com/quote/JBHT",null,{"$error":"#N/A"},8.3460679440460796E-3,null,{"$f":"RTD(\"cqg.rtd\", ,\"ContractData\",O527, \"LongDescription\",, \"T\")","v":"Hunt (JB) Transport Svcs"},null,null,-8.3460679440460796E-3,null,{"$error":"#N/A"},0,null,"",8.3460679440460796E-3,-8.3460679440460796E-3]
[null,null,"S.US.TSS",{"$f":"RTD(\"cqg.rtd\", ,\"ContractData\",C528, \"LongDescription\",, \"T\")","v":"Total Systems Services Inc"},{"$f":"RTD(\"cqg.rtd\", ,\"ContractData\",C528, \"Open\",, \"T\")","v":58.75},{"$f":"RTD(\"cqg.rtd\", ,\"ContractData\",C528, \"High\",, \"T\")","v":59.27},{"$f":"RTD(\"cqg.rtd\", ,\"ContractData\",C528, \"Low\",, \"T\")","v":58.64},{"$f":"RTD(\"cqg.rtd\", ,\"ContractData\",C528, \"LastTradeToday\",, \"T\")","v":59.160000000000004},{"$f":"RTD(\"cqg.rtd\", ,\"ContractData\",C528, \"NetLastTradeToday\",, \"T\")","v":0.39},{"$f":"IFERROR(RTD(\"cqg.rtd\", ,\"ContractData\",C528, \"PerCentNetLastTrade\",, \"T\")/100,\"\")","v":6.636038795303726E-3},{"$f":"RTD(\"cqg.rtd\", ,\"ContractData\", C528, \"T_CVol\",, \"T\")","v":280322},528,{"$f":"IFERROR(RANK($J528,$J$1:J$607)+COUNTIF($J$1:J528,J528)-1,\"\")","v":178},"S.US.TSS","S.US.HDS",{"$f":"RTD(\"cqg.rtd\", ,\"ContractData\",O528, \"PerCentNetLastTrade\",, \"T\")/100","v":-8.425613866153106E-3},"https://finance.yahoo.com/quote/HDS",null,{"$error":"#N/A"},8.425613866153106E-3,null,{"$f":"RTD(\"cqg.rtd\", ,\"ContractData\",O528, \"LongDescription\",, \"T\")","v":"HD Supply Holdings, Inc."},null,null,-8.425613866153106E-3,null,{"$error":"#N/A"},0,null,"",8.425613866153106E-3,-8.425613866153106E-3]
[null,null,"S.US.TTC",{"$f":"RTD(\"cqg.rtd\", ,\"ContractData\",C529, \"LongDescription\",, \"T\")","v":"The Toro Company"},{"$f":"RTD(\"cqg.rtd\", ,\"ContractData\",C529, \"Open\",, \"T\")","v":67.42},{"$f":"RTD(\"cqg.rtd\", ,\"ContractData\",C529, \"High\",, \"T\")","v":67.55},{"$f":"RTD(\"cqg.rtd\", ,\"ContractData\",C529, \"Low\",, \"T\")","v":66.63},{"$f":"RTD(\"cqg.rtd\", ,\"ContractData\",C529, \"LastTradeToday\",, \"T\")","v":66.8},{"$f":"RTD(\"cqg.rtd\", ,\"ContractData\",C529, \"NetLastTradeToday\",, \"T\")","v":-0.62},{"$f":"IFERROR(RTD(\"cqg.rtd\", ,\"ContractData\",C529, \"PerCentNetLastTrade\",, \"T\")/100,\"\")","v":-9.1960842479976261E-3},{"$f":"RTD(\"cqg.rtd\", ,\"ContractData\", C529, \"T_CVol\",, \"T\")","v":147915},529,{"$f":"IFERROR(RANK($J529,$J$1:J$607)+COUNTIF($J$1:J529,J529)-1,\"\")","v":534},"S.US.TTC","S.US.PDCO",{"$f":"RTD(\"cqg.rtd\", ,\"ContractData\",O529, \"PerCentNetLastTrade\",, \"T\")/100","v":-8.4940312213039482E-3},"https://finance.yahoo.com/quote/PDCO",null,{"$error":"#N/A"},8.4940312213039482E-3,null,{"$f":"RTD(\"cqg.rtd\", ,\"ContractData\",O529, \"LongDescription\",, \"T\")","v":"Patterson Companies Inc"},null,null,-8.4940312213039482E-3,null,{"$error":"#N/A"},0,null,"",8.4940312213039482E-3,-8.4940312213039482E-3]
[null,null,"S.US.TUP",{"$f":"RTD(\"cqg.rtd\", ,\"ContractData\",C530, \"LongDescription\",, \"T\")","v":"Tupperware Brands Corp"},{"$f":"RTD(\"cqg.rtd\", ,\"ContractData\",C530, \"Open\",, \"T\")","v":70},{"$f":"RTD(\"cqg.rtd\", ,\"ContractData\",C530, \"High\",, \"T\")","v":70.3},{"$f":"RTD(\"cqg.rtd\", ,\"ContractData\",C530, \"Low\",, \"T\")","v":69.38},{"$f":"RTD(\"cqg.rtd\", ,\"ContractData\",C530, \"LastTradeToday\",, \"T\")","v":70.239999999999995},{"$f":"RTD(\"cqg.rtd\", ,\"ContractData\",C530, \"NetLastTradeToday\",, \"T\")","v":0.53},{"$f":"IFERROR(RTD(\"cqg.rtd\", ,\"ContractData\",C530, \"PerCentNetLastTrade\",, \"T\")/100,\"\")","v":7.6029264094104147E-3},{"$f":"RTD(\"cqg.rtd\", ,\"ContractData\", C530, \"T_CVol\",, \"T\")","v":144460},530,{"$f":"IFERROR(RANK($J530,$J$1:J$607)+COUNTIF($J$1:J530,J530)-1,\"\")","v":149},"S.US.TUP","S.US.KORS",{"$f":"RTD(\"cqg.rtd\", ,\"ContractData\",O530, \"PerCentNetLastTrade\",, \"T\")/100","v":-8.655666756829862E-3},"https://finance.yahoo.com/quote/KORS",null,{"$error":"#N/A"},8.655666756829862E-3,null,{"$f":"RTD(\"cqg.rtd\", ,\"ContractData\",O530, \"LongDescription\",, \"T\")","v":"Michael Kors Holdings Limited"},null,null,-8.655666756829862E-3,null,{"$error":"#N/A"},0,null,"",8.655666756829862E-3,-8.655666756829862E-3]
[null,null,"S.US.TWLO",{"$f":"RTD(\"cqg.rtd\", ,\"ContractData\",C531, \"LongDescription\",, \"T\")","v":"Twilio Inc."},{"$f":"RTD(\"cqg.rtd\", ,\"ContractData\",C531, \"Open\",, \"T\")","v":25.44},{"$f":"RTD(\"cqg.rtd\", ,\"ContractData\",C531, \"High\",, \"T\")","v":26.66},{"$f":"RTD(\"cqg.rtd\", ,\"ContractData\",C531, \"Low\",, \"T\")","v":25.42},{"$f":"RTD(\"cqg.rtd\", ,\"ContractData\",C531, \"LastTradeToday\",, \"T\")","v":26.080000000000002},{"$f":"RTD(\"cqg.rtd\", ,\"ContractData\",C531, \"NetLastTradeToday\",, \"T\")","v":0.52},{"$f":"IFERROR(RTD(\"cqg.rtd\", ,\"ContractData\",C531, \"PerCentNetLastTrade\",, \"T\")/100,\"\")","v":2.0344287949921755E-2},{"$f":"RTD(\"cqg.rtd\", ,\"ContractData\", C531, \"T_CVol\",, \"T\")","v":2348718},531,{"$f":"IFERROR(RANK($J531,$J$1:J$607)+COUNTIF($J$1:J531,J531)-1,\"\")","v":25},"S.US.TWLO","S.US.ACHC",{"$f":"RTD(\"cqg.rtd\", ,\"ContractData\",O531, \"PerCentNetLastTrade\",, \"T\")/100","v":-8.804448563484708E-3},"https://finance.yahoo.com/quote/ACHC",null,{"$error":"#N/A"},8.804448563484708E-3,null,{"$f":"RTD(\"cqg.rtd\", ,\"ContractData\",O531, \"LongDescription\",, \"T\")","v":"Acadia Healthcare Company, Inc."},null,null,-8.804448563484708E-3,null,{"$error":"#N/A"},0,null,"",8.804448563484708E-3,-8.804448563484708E-3]
[null,null,"S.US.TWTR",{"$f":"RTD(\"cqg.rtd\", ,\"ContractData\",C532, \"LongDescription\",, \"T\")","v":"Twitter, Inc."},{"$f":"RTD(\"cqg.rtd\", ,\"ContractData\",C532, \"Open\",, \"T\")","v":18.100000000000001},{"$f":"RTD(\"cqg.rtd\", ,\"ContractData\",C532, \"High\",, \"T\")","v":18.34},{"$f":"RTD(\"cqg.rtd\", ,\"ContractData\",C532, \"Low\",, \"T\")","v":17.830000000000002},{"$f":"RTD(\"cqg.rtd\", ,\"ContractData\",C532, \"LastTradeToday\",, \"T\")","v":17.98},{"$f":"RTD(\"cqg.rtd\", ,\"ContractData\",C532, \"NetLastTradeToday\",, \"T\")","v":-0.17},{"$f":"IFERROR(RTD(\"cqg.rtd\", ,\"ContractData\",C532, \"PerCentNetLastTrade\",, \"T\")/100,\"\")","v":-9.3663911845730027E-3},{"$f":"RTD(\"cqg.rtd\", ,\"ContractData\", C532, \"T_CVol\",, \"T\")","v":11838089},532,{"$f":"IFERROR(RANK($J532,$J$1:J$607)+COUNTIF($J$1:J532,J532)-1,\"\")","v":536},"S.US.TWTR","S.US.SNA",{"$f":"RTD(\"cqg.rtd\", ,\"ContractData\",O532, \"PerCentNetLastTrade\",, \"T\")/100","v":-8.8842595429201639E-3},"https://finance.yahoo.com/quote/SNA",null,{"$error":"#N/A"},8.8842595429201639E-3,null,{"$f":"RTD(\"cqg.rtd\", ,\"ContractData\",O532, \"LongDescription\",, \"T\")","v":"Snap-On Tools Corp"},null,null,-8.8842595429201639E-3,null,{"$error":"#N/A"},0,null,"",8.8842595429201639E-3,-8.8842595429201639E-3]
[null,null,"S.US.TWX",{"$f":"RTD(\"cqg.rtd\", ,\"ContractData\",C533, \"LongDescription\",, \"T\")","v":"Time Warner Inc"},{"$f":"RTD(\"cqg.rtd\", ,\"ContractData\",C533, \"Open\",, \"T\")","v":98.3},{"$f":"RTD(\"cqg.rtd\", ,\"ContractData\",C533, \"High\",, \"T\")","v":98.43},{"$f":"RTD(\"cqg.rtd\", ,\"ContractData\",C533, \"Low\",, \"T\")","v":98.01},{"$f":"RTD(\"cqg.rtd\", ,\"ContractData\",C533, \"LastTradeToday\",, \"T\")","v":98.350000000000009},{"$f":"RTD(\"cqg.rtd\", ,\"ContractData\",C533, \"NetLastTradeToday\",, \"T\")","v":0.12},{"$f":"IFERROR(RTD(\"cqg.rtd\", ,\"ContractData\",C533, \"PerCentNetLastTrade\",, \"T\")/100,\"\")","v":1.2216227221826326E-3},{"$f":"RTD(\"cqg.rtd\", ,\"ContractData\", C533, \"T_CVol\",, \"T\")","v":857071},533,{"$f":"IFERROR(RANK($J533,$J$1:J$607)+COUNTIF($J$1:J533,J533)-1,\"\")","v":345},"S.US.TWX","S.US.CVS",{"$f":"RTD(\"cqg.rtd\", ,\"ContractData\",O533, \"PerCentNetLastTrade\",, \"T\")/100","v":-9.1885595962210437E-3},"https://finance.yahoo.com/quote/CVS",null,{"$error":"#N/A"},9.1885595962210437E-3,null,{"$f":"RTD(\"cqg.rtd\", ,\"ContractData\",O533, \"LongDescription\",, \"T\")","v":"CVS Health Corporation"},null,null,-9.1885595962210437E-3,null,{"$error":"#N/A"},0,null,"",9.1885595962210437E-3,-9.1885595962210437E-3]
[null,null,"S.US.TXN",{"$f":"RTD(\"cqg.rtd\", ,\"ContractData\",C534, \"LongDescription\",, \"T\")","v":"Texas Instruments Inc"},{"$f":"RTD(\"cqg.rtd\", ,\"ContractData\",C534, \"Open\",, \"T\")","v":80.3},{"$f":"RTD(\"cqg.rtd\", ,\"ContractData\",C534, \"High\",, \"T\")","v":80.3},{"$f":"RTD(\"cqg.rtd\", ,\"ContractData\",C534, \"Low\",, \"T\")","v":79.739999999999995},{"$f":"RTD(\"cqg.rtd\", ,\"ContractData\",C534, \"LastTradeToday\",, \"T\")","v":80.02},{"$f":"RTD(\"cqg.rtd\", ,\"ContractData\",C534, \"NetLastTradeToday\",, \"T\")","v":0.33},{"$f":"IFERROR(RTD(\"cqg.rtd\", ,\"ContractData\",C534, \"PerCentNetLastTrade\",, \"T\")/100,\"\")","v":4.1410465554021832E-3},{"$f":"RTD(\"cqg.rtd\", ,\"ContractData\", C534, \"T_CVol\",, \"T\")","v":1931327},534,{"$f":"IFERROR(RANK($J534,$J$1:J$607)+COUNTIF($J$1:J534,J534)-1,\"\")","v":236},"S.US.TXN","S.US.TTC",{"$f":"RTD(\"cqg.rtd\", ,\"ContractData\",O534, \"PerCentNetLastTrade\",, \"T\")/100","v":-9.1960842479976261E-3},"https://finance.yahoo.com/quote/TTC",null,{"$error":"#N/A"},9.1960842479976261E-3,null,{"$f":"RTD(\"cqg.rtd\", ,\"ContractData\",O534, \"LongDescription\",, \"T\")","v":"The Toro Company"},null,null,-9.1960842479976261E-3,null,{"$error":"#N/A"},0,null,"",9.1960842479976261E-3,-9.1960842479976261E-3]
[null,null,"S.US.TXT",{"$f":"RTD(\"cqg.rtd\", ,\"ContractData\",C535, \"LongDescription\",, \"T\")","v":"Textron Inc"},{"$f":"RTD(\"cqg.rtd\", ,\"ContractData\",C535, \"Open\",, \"T\")","v":47.18},{"$f":"RTD(\"cqg.rtd\", ,\"ContractData\",C535, \"High\",, \"T\")","v":47.7},{"$f":"RTD(\"cqg.rtd\", ,\"ContractData\",C535, \"Low\",, \"T\")","v":47.18},{"$f":"RTD(\"cqg.rtd\", ,\"ContractData\",C535, \"LastTradeToday\",, \"T\")","v":47.47},{"$f":"RTD(\"cqg.rtd\", ,\"ContractData\",C535, \"NetLastTradeToday\",, \"T\")","v":0.35000000000000003},{"$f":"IFERROR(RTD(\"cqg.rtd\", ,\"ContractData\",C535, \"PerCentNetLastTrade\",, \"T\")/100,\"\")","v":7.427843803056027E-3},{"$f":"RTD(\"cqg.rtd\", ,\"ContractData\", C535, \"T_CVol\",, \"T\")","v":326290},535,{"$f":"IFERROR(RANK($J535,$J$1:J$607)+COUNTIF($J$1:J535,J535)-1,\"\")","v":155},"S.US.TXT","S.US.RHI",{"$f":"RTD(\"cqg.rtd\", ,\"ContractData\",O535, \"PerCentNetLastTrade\",, \"T\")/100","v":-9.3013194895089774E-3},"https://finance.yahoo.com/quote/RHI",null,{"$error":"#N/A"},9.3013194895089774E-3,null,{"$f":"RTD(\"cqg.rtd\", ,\"ContractData\",O535, \"LongDescription\",, \"T\")","v":"Robert Half Intl Inc"},null,null,-9.3013194895089774E-3,null,{"$error":"#N/A"},0,null,"",9.3013194895089774E-3,-9.3013194895089774E-3]
[null,null,"S.US.TYL",{"$f":"RTD(\"cqg.rtd\", ,\"ContractData\",C536, \"LongDescription\",, \"T\")","v":"TYLER TECHNOLOGIES INC"},{"$f":"RTD(\"cqg.rtd\", ,\"ContractData\",C536, \"Open\",, \"T\")","v":169.79},{"$f":"RTD(\"cqg.rtd\", ,\"ContractData\",C536, \"High\",, \"T\")","v":170.70000000000002},{"$f":"RTD(\"cqg.rtd\", ,\"ContractData\",C536, \"Low\",, \"T\")","v":168.66},{"$f":"RTD(\"cqg.rtd\", ,\"ContractData\",C536, \"LastTradeToday\",, \"T\")","v":170.31},{"$f":"RTD(\"cqg.rtd\", ,\"ContractData\",C536, \"NetLastTradeToday\",, \"T\")","v":0.52},{"$f":"IFERROR(RTD(\"cqg.rtd\", ,\"ContractData\",C536, \"PerCentNetLastTrade\",, \"T\")/100,\"\")","v":3.0626067495141056E-3},{"$f":"RTD(\"cqg.rtd\", ,\"ContractData\", C536, \"T_CVol\",, \"T\")","v":67739},536,{"$f":"IFERROR(RANK($J536,$J$1:J$607)+COUNTIF($J$1:J536,J536)-1,\"\")","v":278},"S.US.TYL","S.US.TWTR",{"$f":"RTD(\"cqg.rtd\", ,\"ContractData\",O536, \"PerCentNetLastTrade\",, \"T\")/100","v":-9.3663911845730027E-3},"https://finance.yahoo.com/quote/TWTR",null,{"$error":"#N/A"},9.3663911845730027E-3,null,{"$f":"RTD(\"cqg.rtd\", ,\"ContractData\",O536, \"LongDescription\",, \"T\")","v":"Twitter, Inc."},null,null,-9.3663911845730027E-3,null,{"$error":"#N/A"},0,null,"",9.3663911845730027E-3,-9.3663911845730027E-3]
[null,null,"S.US.UA",{"$f":"RTD(\"cqg.rtd\", ,\"ContractData\",C537, \"LongDescription\",, \"T\")","v":"Under Armour Inc"},{"$f":"RTD(\"cqg.rtd\", ,\"ContractData\",C537, \"Open\",, \"T\")","v":18.04},{"$f":"RTD(\"cqg.rtd\", ,\"ContractData\",C537, \"High\",, \"T\")","v":18.18},{"$f":"RTD(\"cqg.rtd\", ,\"ContractData\",C537, \"Low\",, \"T\")","v":17.98},{"$f":"RTD(\"cqg.rtd\", ,\"ContractData\",C537, \"LastTradeToday\",, \"T\")","v":18.09},{"$f":"RTD(\"cqg.rtd\", ,\"ContractData\",C537, \"NetLastTradeToday\",, \"T\")","v":0.05},{"$f":"IFERROR(RTD(\"cqg.rtd\", ,\"ContractData\",C537, \"PerCentNetLastTrade\",, \"T\")/100,\"\")","v":2.7716186252771616E-3},{"$f":"RTD(\"cqg.rtd\", ,\"ContractData\", C537, \"T_CVol\",, \"T\")","v":1586636},537,{"$f":"IFERROR(RANK($J537,$J$1:J$607)+COUNTIF($J$1:J537,J537)-1,\"\")","v":292},"S.US.UA","S.US.LB",{"$f":"RTD(\"cqg.rtd\", ,\"ContractData\",O537, \"PerCentNetLastTrade\",, \"T\")/100","v":-9.3718843469591234E-3},"https://finance.yahoo.com/quote/LB",null,{"$error":"#N/A"},9.3718843469591234E-3,null,{"$f":"RTD(\"cqg.rtd\", ,\"ContractData\",O537, \"LongDescription\",, \"T\")","v":"L Brands, Inc."},null,null,-9.3718843469591234E-3,null,{"$error":"#N/A"},0,null,"",9.3718843469591234E-3,-9.3718843469591234E-3]
[null,null,"S.US.UAA",{"$f":"RTD(\"cqg.rtd\", ,\"ContractData\",C538, \"LongDescription\",, \"T\")","v":"Under Armour Inc Class A"},{"$f":"RTD(\"cqg.rtd\", ,\"ContractData\",C538, \"Open\",, \"T\")","v":19.490000000000002},{"$f":"RTD(\"cqg.rtd\", ,\"ContractData\",C538, \"High\",, \"T\")","v":19.59},{"$f":"RTD(\"cqg.rtd\", ,\"ContractData\",C538, \"Low\",, \"T\")","v":19.400000000000002},{"$f":"RTD(\"cqg.rtd\", ,\"ContractData\",C538, \"LastTradeToday\",, \"T\")","v":19.52},{"$f":"RTD(\"cqg.rtd\", ,\"ContractData\",C538, \"NetLastTradeToday\",, \"T\")","v":0.03},{"$f":"IFERROR(RTD(\"cqg.rtd\", ,\"ContractData\",C538, \"PerCentNetLastTrade\",, \"T\")/100,\"\")","v":1.5392508978963571E-3},{"$f":"RTD(\"cqg.rtd\", ,\"ContractData\", C538, \"T_CVol\",, \"T\")","v":1429313},538,{"$f":"IFERROR(RANK($J538,$J$1:J$607)+COUNTIF($J$1:J538,J538)-1,\"\")","v":336},"S.US.UAA","S.US.PII",{"$f":"RTD(\"cqg.rtd\", ,\"ContractData\",O538, \"PerCentNetLastTrade\",, \"T\")/100","v":-9.5887245841035119E-3},"https://finance.yahoo.com/quote/PII",null,{"$error":"#N/A"},9.5887245841035119E-3,null,{"$f":"RTD(\"cqg.rtd\", ,\"ContractData\",O538, \"LongDescription\",, \"T\")","v":"Polaris Indutries Inc."},null,null,-9.5887245841035119E-3,null,{"$error":"#N/A"},0,null,"",9.5887245841035119E-3,-9.5887245841035119E-3]
[null,null,"S.US.UHAL",{"$f":"RTD(\"cqg.rtd\", ,\"ContractData\",C539, \"LongDescription\",, \"T\")","v":"Amerco"},{"$f":"RTD(\"cqg.rtd\", ,\"ContractData\",C539, \"Open\",, \"T\")","v":388.66},{"$f":"RTD(\"cqg.rtd\", ,\"ContractData\",C539, \"High\",, \"T\")","v":394.49},{"$f":"RTD(\"cqg.rtd\", ,\"ContractData\",C539, \"Low\",, \"T\")","v":388.54},{"$f":"RTD(\"cqg.rtd\", ,\"ContractData\",C539, \"LastTradeToday\",, \"T\")","v":392.04},{"$f":"RTD(\"cqg.rtd\", ,\"ContractData\",C539, \"NetLastTradeToday\",, \"T\")","v":4.63},{"$f":"IFERROR(RTD(\"cqg.rtd\", ,\"ContractData\",C539, \"PerCentNetLastTrade\",, \"T\")/100,\"\")","v":1.1951162850726621E-2},{"$f":"RTD(\"cqg.rtd\", ,\"ContractData\", C539, \"T_CVol\",, \"T\")","v":31219},539,{"$f":"IFERROR(RANK($J539,$J$1:J$607)+COUNTIF($J$1:J539,J539)-1,\"\")","v":78},"S.US.UHAL","S.US.SBH",{"$f":"RTD(\"cqg.rtd\", ,\"ContractData\",O539, \"PerCentNetLastTrade\",, \"T\")/100","v":-9.6810933940774495E-3},"https://finance.yahoo.com/quote/SBH",null,{"$error":"#N/A"},9.6810933940774495E-3,null,{"$f":"RTD(\"cqg.rtd\", ,\"ContractData\",O539, \"LongDescription\",, \"T\")","v":"Sally Beauty Holdings, Inc"},null,null,-9.6810933940774495E-3,null,{"$error":"#N/A"},0,null,"",9.6810933940774495E-3,-9.6810933940774495E-3]
[null,null,"S.US.UHS",{"$f":"RTD(\"cqg.rtd\", ,\"ContractData\",C540, \"LongDescription\",, \"T\")","v":"Universal Health Svcs ClsB"},{"$f":"RTD(\"cqg.rtd\", ,\"ContractData\",C540, \"Open\",, \"T\")","v":117.15},{"$f":"RTD(\"cqg.rtd\", ,\"ContractData\",C540, \"High\",, \"T\")","v":117.64},{"$f":"RTD(\"cqg.rtd\", ,\"ContractData\",C540, \"Low\",, \"T\")","v":115},{"$f":"RTD(\"cqg.rtd\", ,\"ContractData\",C540, \"LastTradeToday\",, \"T\")","v":115.93},{"$f":"RTD(\"cqg.rtd\", ,\"ContractData\",C540, \"NetLastTradeToday\",, \"T\")","v":-2.91},{"$f":"IFERROR(RTD(\"cqg.rtd\", ,\"ContractData\",C540, \"PerCentNetLastTrade\",, \"T\")/100,\"\")","v":-2.4486704813194211E-2},{"$f":"RTD(\"cqg.rtd\", ,\"ContractData\", C540, \"T_CVol\",, \"T\")","v":956022},540,{"$f":"IFERROR(RANK($J540,$J$1:J$607)+COUNTIF($J$1:J540,J540)-1,\"\")","v":591},"S.US.UHS","S.US.THC",{"$f":"RTD(\"cqg.rtd\", ,\"ContractData\",O540, \"PerCentNetLastTrade\",, \"T\")/100","v":-9.7087378640776708E-3},"https://finance.yahoo.com/quote/THC",null,{"$error":"#N/A"},9.7087378640776708E-3,null,{"$f":"RTD(\"cqg.rtd\", ,\"ContractData\",O540, \"LongDescription\",, \"T\")","v":"Tenet Healthcare Corp"},null,null,-9.7087378640776708E-3,null,{"$error":"#N/A"},0,null,"",9.7087378640776708E-3,-9.7087378640776708E-3]
[null,null,"S.US.ULTA",{"$f":"RTD(\"cqg.rtd\", ,\"ContractData\",C541, \"LongDescription\",, \"T\")","v":"Ulta Salon Cosmetics & Fragrance Inc"},{"$f":"RTD(\"cqg.rtd\", ,\"ContractData\",C541, \"Open\",, \"T\")","v":290.5},{"$f":"RTD(\"cqg.rtd\", ,\"ContractData\",C541, \"High\",, \"T\")","v":290.98},{"$f":"RTD(\"cqg.rtd\", ,\"ContractData\",C541, \"Low\",, \"T\")","v":277.68},{"$f":"RTD(\"cqg.rtd\", ,\"ContractData\",C541, \"LastTradeToday\",, \"T\")","v":279.39},{"$f":"RTD(\"cqg.rtd\", ,\"ContractData\",C541, \"NetLastTradeToday\",, \"T\")","v":-11.16},{"$f":"IFERROR(RTD(\"cqg.rtd\", ,\"ContractData\",C541, \"PerCentNetLastTrade\",, \"T\")/100,\"\")","v":-3.8409912235415594E-2},{"$f":"RTD(\"cqg.rtd\", ,\"ContractData\", C541, \"T_CVol\",, \"T\")","v":1470702},541,{"$f":"IFERROR(RANK($J541,$J$1:J$607)+COUNTIF($J$1:J541,J541)-1,\"\")","v":602},"S.US.ULTA","S.US.LNC",{"$f":"RTD(\"cqg.rtd\", ,\"ContractData\",O541, \"PerCentNetLastTrade\",, \"T\")/100","v":-9.770992366412214E-3},"https://finance.yahoo.com/quote/LNC",null,{"$error":"#N/A"},9.770992366412214E-3,null,{"$f":"RTD(\"cqg.rtd\", ,\"ContractData\",O541, \"LongDescription\",, \"T\")","v":"Lincoln National Corp"},null,null,-9.770992366412214E-3,null,{"$error":"#N/A"},0,null,"",9.770992366412214E-3,-9.770992366412214E-3]
[null,null,"S.US.ULTI",{"$f":"RTD(\"cqg.rtd\", ,\"ContractData\",C542, \"LongDescription\",, \"T\")","v":"The Ultimate Software Grp"},{"$f":"RTD(\"cqg.rtd\", ,\"ContractData\",C542, \"Open\",, \"T\")","v":216.5},{"$f":"RTD(\"cqg.rtd\", ,\"ContractData\",C542, \"High\",, \"T\")","v":218.93},{"$f":"RTD(\"cqg.rtd\", ,\"ContractData\",C542, \"Low\",, \"T\")","v":216.20000000000002},{"$f":"RTD(\"cqg.rtd\", ,\"ContractData\",C542, \"LastTradeToday\",, \"T\")","v":218.66},{"$f":"RTD(\"cqg.rtd\", ,\"ContractData\",C542, \"NetLastTradeToday\",, \"T\")","v":2.7},{"$f":"IFERROR(RTD(\"cqg.rtd\", ,\"ContractData\",C542, \"PerCentNetLastTrade\",, \"T\")/100,\"\")","v":1.2502315243563622E-2},{"$f":"RTD(\"cqg.rtd\", ,\"ContractData\", C542, \"T_CVol\",, \"T\")","v":89841},542,{"$f":"IFERROR(RANK($J542,$J$1:J$607)+COUNTIF($J$1:J542,J542)-1,\"\")","v":74},"S.US.ULTI","S.US.BMY",{"$f":"RTD(\"cqg.rtd\", ,\"ContractData\",O542, \"PerCentNetLastTrade\",, \"T\")/100","v":-9.7767939494558202E-3},"https://finance.yahoo.com/quote/BMY",null,{"$error":"#N/A"},9.7767939494558202E-3,null,{"$f":"RTD(\"cqg.rtd\", ,\"ContractData\",O542, \"LongDescription\",, \"T\")","v":"Bristol-Myers Squibb Co"},null,null,-9.7767939494558202E-3,null,{"$error":"#N/A"},0,null,"",9.7767939494558202E-3,-9.7767939494558202E-3]
[null,null,"S.US.UNH",{"$f":"RTD(\"cqg.rtd\", ,\"ContractData\",C543, \"LongDescription\",, \"T\")","v":"United Health Group Inc"},{"$f":"RTD(\"cqg.rtd\", ,\"ContractData\",C543, \"Open\",, \"T\")","v":175.45000000000002},{"$f":"RTD(\"cqg.rtd\", ,\"ContractData\",C543, \"High\",, \"T\")","v":175.96},{"$f":"RTD(\"cqg.rtd\", ,\"ContractData\",C543, \"Low\",, \"T\")","v":174.52},{"$f":"RTD(\"cqg.rtd\", ,\"ContractData\",C543, \"LastTradeToday\",, \"T\")","v":175.87},{"$f":"RTD(\"cqg.rtd\", ,\"ContractData\",C543, \"NetLastTradeToday\",, \"T\")","v":0.65},{"$f":"IFERROR(RTD(\"cqg.rtd\", ,\"ContractData\",C543, \"PerCentNetLastTrade\",, \"T\")/100,\"\")","v":3.7096221892478024E-3},{"$f":"RTD(\"cqg.rtd\", ,\"ContractData\", C543, \"T_CVol\",, \"T\")","v":772461},543,{"$f":"IFERROR(RANK($J543,$J$1:J$607)+COUNTIF($J$1:J543,J543)-1,\"\")","v":250},"S.US.UNH","S.US.SMG",{"$f":"RTD(\"cqg.rtd\", ,\"ContractData\",O543, \"PerCentNetLastTrade\",, \"T\")/100","v":-9.8416289592760178E-3},"https://finance.yahoo.com/quote/SMG",null,{"$error":"#N/A"},9.8416289592760178E-3,null,{"$f":"RTD(\"cqg.rtd\", ,\"ContractData\",O543, \"LongDescription\",, \"T\")","v":"Scotts Co (The)"},null,null,-9.8416289592760178E-3,null,{"$error":"#N/A"},0,null,"",9.8416289592760178E-3,-9.8416289592760178E-3]
[null,null,"S.US.UNP",{"$f":"RTD(\"cqg.rtd\", ,\"ContractData\",C544, \"LongDescription\",, \"T\")","v":"Union Pacific Corp"},{"$f":"RTD(\"cqg.rtd\", ,\"ContractData\",C544, \"Open\",, \"T\")","v":107.9},{"$f":"RTD(\"cqg.rtd\", ,\"ContractData\",C544, \"High\",, \"T\")","v":108.64},{"$f":"RTD(\"cqg.rtd\", ,\"ContractData\",C544, \"Low\",, \"T\")","v":107.44},{"$f":"RTD(\"cqg.rtd\", ,\"ContractData\",C544, \"LastTradeToday\",, \"T\")","v":107.87},{"$f":"RTD(\"cqg.rtd\", ,\"ContractData\",C544, \"NetLastTradeToday\",, \"T\")","v":-0.13},{"$f":"IFERROR(RTD(\"cqg.rtd\", ,\"ContractData\",C544, \"PerCentNetLastTrade\",, \"T\")/100,\"\")","v":-1.2037037037037036E-3},{"$f":"RTD(\"cqg.rtd\", ,\"ContractData\", C544, \"T_CVol\",, \"T\")","v":1589819},544,{"$f":"IFERROR(RANK($J544,$J$1:J$607)+COUNTIF($J$1:J544,J544)-1,\"\")","v":419},"S.US.UNP","S.US.MYL",{"$f":"RTD(\"cqg.rtd\", ,\"ContractData\",O544, \"PerCentNetLastTrade\",, \"T\")/100","v":-9.8509724677948978E-3},"https://finance.yahoo.com/quote/MYL",null,{"$error":"#N/A"},9.8509724677948978E-3,null,{"$f":"RTD(\"cqg.rtd\", ,\"ContractData\",O544, \"LongDescription\",, \"T\")","v":"Mylan N.V."},null,null,-9.8509724677948978E-3,null,{"$error":"#N/A"},0,null,"",9.8509724677948978E-3,-9.8509724677948978E-3]
[null,null,"S.US.UPS",{"$f":"RTD(\"cqg.rtd\", ,\"ContractData\",C545, \"LongDescription\",, \"T\")","v":"United Parcel Svc"},{"$f":"RTD(\"cqg.rtd\", ,\"ContractData\",C545, \"Open\",, \"T\")","v":103.82000000000001},{"$f":"RTD(\"cqg.rtd\", ,\"ContractData\",C545, \"High\",, \"T\")","v":104.81},{"$f":"RTD(\"cqg.rtd\", ,\"ContractData\",C545, \"Low\",, \"T\")","v":103.73},{"$f":"RTD(\"cqg.rtd\", ,\"ContractData\",C545, \"LastTradeToday\",, \"T\")","v":104.67},{"$f":"RTD(\"cqg.rtd\", ,\"ContractData\",C545, \"NetLastTradeToday\",, \"T\")","v":0.47000000000000003},{"$f":"IFERROR(RTD(\"cqg.rtd\", ,\"ContractData\",C545, \"PerCentNetLastTrade\",, \"T\")/100,\"\")","v":4.5105566218809979E-3},{"$f":"RTD(\"cqg.rtd\", ,\"ContractData\", C545, \"T_CVol\",, \"T\")","v":915478},545,{"$f":"IFERROR(RANK($J545,$J$1:J$607)+COUNTIF($J$1:J545,J545)-1,\"\")","v":229},"S.US.UPS","S.US.WMB",{"$f":"RTD(\"cqg.rtd\", ,\"ContractData\",O545, \"PerCentNetLastTrade\",, \"T\")/100","v":-1.0167267956707117E-2},"https://finance.yahoo.com/quote/WMB",null,{"$error":"#N/A"},1.0167267956707117E-2,null,{"$f":"RTD(\"cqg.rtd\", ,\"ContractData\",O545, \"LongDescription\",, \"T\")","v":"Williams Companies Inc"},null,null,-1.0167267956707117E-2,null,{"$error":"#N/A"},0,null,"",1.0167267956707117E-2,-1.0167267956707117E-2]
[null,null,"S.US.URBN",{"$f":"RTD(\"cqg.rtd\", ,\"ContractData\",C546, \"LongDescription\",, \"T\")","v":"Urban Outfitters Inc"},{"$f":"RTD(\"cqg.rtd\", ,\"ContractData\",C546, \"Open\",, \"T\")","v":18.78},{"$f":"RTD(\"cqg.rtd\", ,\"ContractData\",C546, \"High\",, \"T\")","v":19.16},{"$f":"RTD(\"cqg.rtd\", ,\"ContractData\",C546, \"Low\",, \"T\")","v":18.55},{"$f":"RTD(\"cqg.rtd\", ,\"ContractData\",C546, \"LastTradeToday\",, \"T\")","v":18.93},{"$f":"RTD(\"cqg.rtd\", ,\"ContractData\",C546, \"NetLastTradeToday\",, \"T\")","v":0.12},{"$f":"IFERROR(RTD(\"cqg.rtd\", ,\"ContractData\",C546, \"PerCentNetLastTrade\",, \"T\")/100,\"\")","v":6.379585326953748E-3},{"$f":"RTD(\"cqg.rtd\", ,\"ContractData\", C546, \"T_CVol\",, \"T\")","v":2195638},546,{"$f":"IFERROR(RANK($J546,$J$1:J$607)+COUNTIF($J$1:J546,J546)-1,\"\")","v":186},"S.US.URBN","S.US.TRIP",{"$f":"RTD(\"cqg.rtd\", ,\"ContractData\",O546, \"PerCentNetLastTrade\",, \"T\")/100","v":-1.027648642035723E-2},"https://finance.yahoo.com/quote/TRIP",null,{"$error":"#N/A"},1.027648642035723E-2,null,{"$f":"RTD(\"cqg.rtd\", ,\"ContractData\",O546, \"LongDescription\",, \"T\")","v":"TripAdvisor, Inc."},null,null,-1.027648642035723E-2,null,{"$error":"#N/A"},0,null,"",1.027648642035723E-2,-1.027648642035723E-2]
[null,null,"S.US.URI",{"$f":"RTD(\"cqg.rtd\", ,\"ContractData\",C547, \"LongDescription\",, \"T\")","v":"United Rentals Inc"},{"$f":"RTD(\"cqg.rtd\", ,\"ContractData\",C547, \"Open\",, \"T\")","v":111.21000000000001},{"$f":"RTD(\"cqg.rtd\", ,\"ContractData\",C547, \"High\",, \"T\")","v":113.35000000000001},{"$f":"RTD(\"cqg.rtd\", ,\"ContractData\",C547, \"Low\",, \"T\")","v":110.31},{"$f":"RTD(\"cqg.rtd\", ,\"ContractData\",C547, \"LastTradeToday\",, \"T\")","v":110.91},{"$f":"RTD(\"cqg.rtd\", ,\"ContractData\",C547, \"NetLastTradeToday\",, \"T\")","v":-0.39},{"$f":"IFERROR(RTD(\"cqg.rtd\", ,\"ContractData\",C547, \"PerCentNetLastTrade\",, \"T\")/100,\"\")","v":-3.504043126684636E-3},{"$f":"RTD(\"cqg.rtd\", ,\"ContractData\", C547, \"T_CVol\",, \"T\")","v":771109},547,{"$f":"IFERROR(RANK($J547,$J$1:J$607)+COUNTIF($J$1:J547,J547)-1,\"\")","v":461},"S.US.URI","S.US.CAR",{"$f":"RTD(\"cqg.rtd\", ,\"ContractData\",O547, \"PerCentNetLastTrade\",, \"T\")/100","v":-1.0277033065236817E-2},"https://finance.yahoo.com/quote/CAR",null,{"$error":"#N/A"},1.0277033065236817E-2,null,{"$f":"RTD(\"cqg.rtd\", ,\"ContractData\",O547, \"LongDescription\",, \"T\")","v":"AVIS Budget Group Inc"},null,null,-1.0277033065236817E-2,null,{"$error":"#N/A"},0,null,"",1.0277033065236817E-2,-1.0277033065236817E-2]
[null,null,"S.US.USFD",{"$f":"RTD(\"cqg.rtd\", ,\"ContractData\",C548, \"LongDescription\",, \"T\")","v":"US Foods Holding Corp."},{"$f":"RTD(\"cqg.rtd\", ,\"ContractData\",C548, \"Open\",, \"T\")","v":29.43},{"$f":"RTD(\"cqg.rtd\", ,\"ContractData\",C548, \"High\",, \"T\")","v":29.6},{"$f":"RTD(\"cqg.rtd\", ,\"ContractData\",C548, \"Low\",, \"T\")","v":29.3},{"$f":"RTD(\"cqg.rtd\", ,\"ContractData\",C548, \"LastTradeToday\",, \"T\")","v":29.38},{"$f":"RTD(\"cqg.rtd\", ,\"ContractData\",C548, \"NetLastTradeToday\",, \"T\")","v":-7.0000000000000007E-2},{"$f":"IFERROR(RTD(\"cqg.rtd\", ,\"ContractData\",C548, \"PerCentNetLastTrade\",, \"T\")/100,\"\")","v":-2.3769100169779285E-3},{"$f":"RTD(\"cqg.rtd\", ,\"ContractData\", C548, \"T_CVol\",, \"T\")","v":521062},548,{"$f":"IFERROR(RANK($J548,$J$1:J$607)+COUNTIF($J$1:J548,J548)-1,\"\")","v":438},"S.US.USFD","S.US.SIVB",{"$f":"RTD(\"cqg.rtd\", ,\"ContractData\",O548, \"PerCentNetLastTrade\",, \"T\")/100","v":-1.0501750291715286E-2},"https://finance.yahoo.com/quote/SIVB",null,{"$error":"#N/A"},1.0501750291715286E-2,null,{"$f":"RTD(\"cqg.rtd\", ,\"ContractData\",O548, \"LongDescription\",, \"T\")","v":"SVB Financial Group"},null,null,-1.0501750291715286E-2,null,{"$error":"#N/A"},0,null,"",1.0501750291715286E-2,-1.0501750291715286E-2]
[null,null,"S.US.UTHR",{"$f":"RTD(\"cqg.rtd\", ,\"ContractData\",C549, \"LongDescription\",, \"T\")","v":"United Therapeutics Corp"},{"$f":"RTD(\"cqg.rtd\", ,\"ContractData\",C549, \"Open\",, \"T\")","v":121.35000000000001},{"$f":"RTD(\"cqg.rtd\", ,\"ContractData\",C549, \"High\",, \"T\")","v":121.94},{"$f":"RTD(\"cqg.rtd\", ,\"ContractData\",C549, \"Low\",, \"T\")","v":120.46000000000001},{"$f":"RTD(\"cqg.rtd\", ,\"ContractData\",C549, \"LastTradeToday\",, \"T\")","v":121.71000000000001},{"$f":"RTD(\"cqg.rtd\", ,\"ContractData\",C549, \"NetLastTradeToday\",, \"T\")","v":0.25},{"$f":"IFERROR(RTD(\"cqg.rtd\", ,\"ContractData\",C549, \"PerCentNetLastTrade\",, \"T\")/100,\"\")","v":2.058290795323563E-3},{"$f":"RTD(\"cqg.rtd\", ,\"ContractData\", C549, \"T_CVol\",, \"T\")","v":189254},549,{"$f":"IFERROR(RANK($J549,$J$1:J$607)+COUNTIF($J$1:J549,J549)-1,\"\")","v":319},"S.US.UTHR","S.US.VZ",{"$f":"RTD(\"cqg.rtd\", ,\"ContractData\",O549, \"PerCentNetLastTrade\",, \"T\")/100","v":-1.0554089709762533E-2},"https://finance.yahoo.com/quote/VZ",null,{"$error":"#N/A"},1.0554089709762533E-2,null,{"$f":"RTD(\"cqg.rtd\", ,\"ContractData\",O549, \"LongDescription\",, \"T\")","v":"Verizon Communications"},null,null,-1.0554089709762533E-2,null,{"$error":"#N/A"},0,null,"",1.0554089709762533E-2,-1.0554089709762533E-2]
[null,null,"S.US.V",{"$f":"RTD(\"cqg.rtd\", ,\"ContractData\",C550, \"LongDescription\",, \"T\")","v":"Visa Inc."},{"$f":"RTD(\"cqg.rtd\", ,\"ContractData\",C550, \"Open\",, \"T\")","v":94.02},{"$f":"RTD(\"cqg.rtd\", ,\"ContractData\",C550, \"High\",, \"T\")","v":94.97},{"$f":"RTD(\"cqg.rtd\", ,\"ContractData\",C550, \"Low\",, \"T\")","v":94.02},{"$f":"RTD(\"cqg.rtd\", ,\"ContractData\",C550, \"LastTradeToday\",, \"T\")","v":94.960000000000008},{"$f":"RTD(\"cqg.rtd\", ,\"ContractData\",C550, \"NetLastTradeToday\",, \"T\")","v":1.1000000000000001},{"$f":"IFERROR(RTD(\"cqg.rtd\", ,\"ContractData\",C550, \"PerCentNetLastTrade\",, \"T\")/100,\"\")","v":1.171958235670147E-2},{"$f":"RTD(\"cqg.rtd\", ,\"ContractData\", C550, \"T_CVol\",, \"T\")","v":3869713},550,{"$f":"IFERROR(RANK($J550,$J$1:J$607)+COUNTIF($J$1:J550,J550)-1,\"\")","v":81},"S.US.V","S.US.WAL",{"$f":"RTD(\"cqg.rtd\", ,\"ContractData\",O550, \"PerCentNetLastTrade\",, \"T\")/100","v":-1.0631373399869819E-2},"https://finance.yahoo.com/quote/WAL",null,{"$error":"#N/A"},1.0631373399869819E-2,null,{"$f":"RTD(\"cqg.rtd\", ,\"ContractData\",O550, \"LongDescription\",, \"T\")","v":"Western Alliance Bancorporation"},null,null,-1.0631373399869819E-2,null,{"$error":"#N/A"},0,null,"",1.0631373399869819E-2,-1.0631373399869819E-2]
[null,null,"S.US.VAL",{"$f":"RTD(\"cqg.rtd\", ,\"ContractData\",C551, \"LongDescription\",, \"T\")","v":"Valspar Corp (The)"},{"$f":"RTD(\"cqg.rtd\", ,\"ContractData\",C551, \"Open\",, \"T\")","v":112.25},{"$f":"RTD(\"cqg.rtd\", ,\"ContractData\",C551, \"High\",, \"T\")","v":112.59},{"$f":"RTD(\"cqg.rtd\", ,\"ContractData\",C551, \"Low\",, \"T\")","v":112.25},{"$f":"RTD(\"cqg.rtd\", ,\"ContractData\",C551, \"LastTradeToday\",, \"T\")","v":112.49000000000001},{"$f":"RTD(\"cqg.rtd\", ,\"ContractData\",C551, \"NetLastTradeToday\",, \"T\")","v":0.18},{"$f":"IFERROR(RTD(\"cqg.rtd\", ,\"ContractData\",C551, \"PerCentNetLastTrade\",, \"T\")/100,\"\")","v":1.6027067936960199E-3},{"$f":"RTD(\"cqg.rtd\", ,\"ContractData\", C551, \"T_CVol\",, \"T\")","v":396067},551,{"$f":"IFERROR(RANK($J551,$J$1:J$607)+COUNTIF($J$1:J551,J551)-1,\"\")","v":333},{"$f":"C551","v":"S.US.VAL"},"S.US.FIT",{"$f":"RTD(\"cqg.rtd\", ,\"ContractData\",O551, \"PerCentNetLastTrade\",, \"T\")/100","v":-1.0791366906474819E-2},"https://finance.yahoo.com/quote/FIT",null,{"$f":"IF(P551>=0,P551,NA())","v":{"$error":"#N/A"}},{"$f":"IF(P551>=0,NA(),-1*P551)","v":1.0791366906474819E-2},null,{"$f":"RTD(\"cqg.rtd\", ,\"ContractData\",O551, \"LongDescription\",, \"T\")","v":"Fitbit, Inc."},null,null,{"$f":"IFERROR(S551,P551)","v":-1.0791366906474819E-2},null,{"$f":"IF(S551=\"NA()\",0,1)","v":{"$error":"#N/A"}},{"$f":"IFERROR(AA551,0)","v":0},null,{"$f":"IFERROR(S551,\"\")","v":""},{"$f":"IFERROR(T551,\"\")","v":1.0791366906474819E-2},{"$f":"IF(AE551=\"\",\"\",Y551)","v":-1.0791366906474819E-2}]
[null,null,"S.US.VAR",{"$f":"RTD(\"cqg.rtd\", ,\"ContractData\",C552, \"LongDescription\",, \"T\")","v":"Varian Medical Systems Inc"},{"$f":"RTD(\"cqg.rtd\", ,\"ContractData\",C552, \"Open\",, \"T\")","v":96.240000000000009},{"$f":"RTD(\"cqg.rtd\", ,\"ContractData\",C552, \"High\",, \"T\")","v":96.68},{"$f":"RTD(\"cqg.rtd\", ,\"ContractData\",C552, \"Low\",, \"T\")","v":95.81},{"$f":"RTD(\"cqg.rtd\", ,\"ContractData\",C552, \"LastTradeToday\",, \"T\")","v":96.65},{"$f":"RTD(\"cqg.rtd\", ,\"ContractData\",C552, \"NetLastTradeToday\",, \"T\")","v":0.70000000000000007},{"$f":"IFERROR(RTD(\"cqg.rtd\", ,\"ContractData\",C552, \"PerCentNetLastTrade\",, \"T\")/100,\"\")","v":7.2954663887441372E-3},{"$f":"RTD(\"cqg.rtd\", ,\"ContractData\", C552, \"T_CVol\",, \"T\")","v":161572},552,{"$f":"IFERROR(RANK($J552,$J$1:J$607)+COUNTIF($J$1:J552,J552)-1,\"\")","v":158},"S.US.VAR","S.US.DISCA",{"$f":"RTD(\"cqg.rtd\", ,\"ContractData\",O552, \"PerCentNetLastTrade\",, \"T\")/100","v":-1.0924697619976588E-2},"https://finance.yahoo.com/quote/DISCA",null,{"$error":"#N/A"},1.0924697619976588E-2,null,{"$f":"RTD(\"cqg.rtd\", ,\"ContractData\",O552, \"LongDescription\",, \"T\")","v":"Discovery Holding Channel Common A"},null,null,-1.0924697619976588E-2,null,{"$error":"#N/A"},0,null,"",1.0924697619976588E-2,-1.0924697619976588E-2]
[null,null,"S.US.VC",{"$f":"RTD(\"cqg.rtd\", ,\"ContractData\",C553, \"LongDescription\",, \"T\")","v":"Visteon Corporation"},{"$f":"RTD(\"cqg.rtd\", ,\"ContractData\",C553, \"Open\",, \"T\")","v":99.08},{"$f":"RTD(\"cqg.rtd\", ,\"ContractData\",C553, \"High\",, \"T\")","v":99.820000000000007},{"$f":"RTD(\"cqg.rtd\", ,\"ContractData\",C553, \"Low\",, \"T\")","v":98.54},{"$f":"RTD(\"cqg.rtd\", ,\"ContractData\",C553, \"LastTradeToday\",, \"T\")","v":99.460000000000008},{"$f":"RTD(\"cqg.rtd\", ,\"ContractData\",C553, \"NetLastTradeToday\",, \"T\")","v":0.47000000000000003},{"$f":"IFERROR(RTD(\"cqg.rtd\", ,\"ContractData\",C553, \"PerCentNetLastTrade\",, \"T\")/100,\"\")","v":4.7479543388221036E-3},{"$f":"RTD(\"cqg.rtd\", ,\"ContractData\", C553, \"T_CVol\",, \"T\")","v":72491},553,{"$f":"IFERROR(RANK($J553,$J$1:J$607)+COUNTIF($J$1:J553,J553)-1,\"\")","v":223},"S.US.VC","S.US.INOV",{"$f":"RTD(\"cqg.rtd\", ,\"ContractData\",O553, \"PerCentNetLastTrade\",, \"T\")/100","v":-1.098901098901099E-2},"https://finance.yahoo.com/quote/INOV",null,{"$error":"#N/A"},1.098901098901099E-2,null,{"$f":"RTD(\"cqg.rtd\", ,\"ContractData\",O553, \"LongDescription\",, \"T\")","v":"Inovalon Holdings, Inc. Class A"},null,null,-1.098901098901099E-2,null,{"$error":"#N/A"},0,null,"",1.098901098901099E-2,-1.098901098901099E-2]
[null,null,"S.US.VEEV",{"$f":"RTD(\"cqg.rtd\", ,\"ContractData\",C554, \"LongDescription\",, \"T\")","v":"VEEVA Systems, Inc."},{"$f":"RTD(\"cqg.rtd\", ,\"ContractData\",C554, \"Open\",, \"T\")","v":60.870000000000005},{"$f":"RTD(\"cqg.rtd\", ,\"ContractData\",C554, \"High\",, \"T\")","v":61.42},{"$f":"RTD(\"cqg.rtd\", ,\"ContractData\",C554, \"Low\",, \"T\")","v":60.71},{"$f":"RTD(\"cqg.rtd\", ,\"ContractData\",C554, \"LastTradeToday\",, \"T\")","v":60.72},{"$f":"RTD(\"cqg.rtd\", ,\"ContractData\",C554, \"NetLastTradeToday\",, \"T\")","v":0.23},{"$f":"IFERROR(RTD(\"cqg.rtd\", ,\"ContractData\",C554, \"PerCentNetLastTrade\",, \"T\")/100,\"\")","v":3.8022813688212923E-3},{"$f":"RTD(\"cqg.rtd\", ,\"ContractData\", C554, \"T_CVol\",, \"T\")","v":1026754},554,{"$f":"IFERROR(RANK($J554,$J$1:J$607)+COUNTIF($J$1:J554,J554)-1,\"\")","v":247},"S.US.VEEV","S.US.CACC",{"$f":"RTD(\"cqg.rtd\", ,\"ContractData\",O554, \"PerCentNetLastTrade\",, \"T\")/100","v":-1.1026330878136991E-2},"https://finance.yahoo.com/quote/CACC",null,{"$error":"#N/A"},1.1026330878136991E-2,null,{"$f":"RTD(\"cqg.rtd\", ,\"ContractData\",O554, \"LongDescription\",, \"T\")","v":"Credit Acceptence Corp"},null,null,-1.1026330878136991E-2,null,{"$error":"#N/A"},0,null,"",1.1026330878136991E-2,-1.1026330878136991E-2]
[null,null,"S.US.VFC",{"$f":"RTD(\"cqg.rtd\", ,\"ContractData\",C555, \"LongDescription\",, \"T\")","v":"VF Corp"},{"$f":"RTD(\"cqg.rtd\", ,\"ContractData\",C555, \"Open\",, \"T\")","v":52.92},{"$f":"RTD(\"cqg.rtd\", ,\"ContractData\",C555, \"High\",, \"T\")","v":52.980000000000004},{"$f":"RTD(\"cqg.rtd\", ,\"ContractData\",C555, \"Low\",, \"T\")","v":52.47},{"$f":"RTD(\"cqg.rtd\", ,\"ContractData\",C555, \"LastTradeToday\",, \"T\")","v":52.68},{"$f":"RTD(\"cqg.rtd\", ,\"ContractData\",C555, \"NetLastTradeToday\",, \"T\")","v":-0.31},{"$f":"IFERROR(RTD(\"cqg.rtd\", ,\"ContractData\",C555, \"PerCentNetLastTrade\",, \"T\")/100,\"\")","v":-5.8501604076240795E-3},{"$f":"RTD(\"cqg.rtd\", ,\"ContractData\", C555, \"T_CVol\",, \"T\")","v":1288390},555,{"$f":"IFERROR(RANK($J555,$J$1:J$607)+COUNTIF($J$1:J555,J555)-1,\"\")","v":492},"S.US.VFC","S.US.FEYE",{"$f":"RTD(\"cqg.rtd\", ,\"ContractData\",O555, \"PerCentNetLastTrade\",, \"T\")/100","v":-1.1147540983606557E-2},"https://finance.yahoo.com/quote/FEYE",null,{"$error":"#N/A"},1.1147540983606557E-2,null,{"$f":"RTD(\"cqg.rtd\", ,\"ContractData\",O555, \"LongDescription\",, \"T\")","v":"FireEye, Inc."},null,null,-1.1147540983606557E-2,null,{"$error":"#N/A"},0,null,"",1.1147540983606557E-2,-1.1147540983606557E-2]
[null,null,"S.US.VIA",{"$f":"RTD(\"cqg.rtd\", ,\"ContractData\",C556, \"LongDescription\",, \"T\")","v":"Viacom Inc ClsA"},{"$f":"RTD(\"cqg.rtd\", ,\"ContractData\",C556, \"Open\",, \"T\")","v":37.6},{"$f":"RTD(\"cqg.rtd\", ,\"ContractData\",C556, \"High\",, \"T\")","v":37.800000000000004},{"$f":"RTD(\"cqg.rtd\", ,\"ContractData\",C556, \"Low\",, \"T\")","v":37.4},{"$f":"RTD(\"cqg.rtd\", ,\"ContractData\",C556, \"LastTradeToday\",, \"T\")","v":37.75},{"$f":"RTD(\"cqg.rtd\", ,\"ContractData\",C556, \"NetLastTradeToday\",, \"T\")","v":0.3},{"$f":"IFERROR(RTD(\"cqg.rtd\", ,\"ContractData\",C556, \"PerCentNetLastTrade\",, \"T\")/100,\"\")","v":8.0106809078771685E-3},{"$f":"RTD(\"cqg.rtd\", ,\"ContractData\", C556, \"T_CVol\",, \"T\")","v":60887},556,{"$f":"IFERROR(RANK($J556,$J$1:J$607)+COUNTIF($J$1:J556,J556)-1,\"\")","v":141},"S.US.VIA","S.US.NLSN",{"$f":"RTD(\"cqg.rtd\", ,\"ContractData\",O556, \"PerCentNetLastTrade\",, \"T\")/100","v":-1.1250319611352595E-2},"https://finance.yahoo.com/quote/NLSN",null,{"$error":"#N/A"},1.1250319611352595E-2,null,{"$f":"RTD(\"cqg.rtd\", ,\"ContractData\",O556, \"LongDescription\",, \"T\")","v":"Nielsen N.V."},null,null,-1.1250319611352595E-2,null,{"$error":"#N/A"},0,null,"",1.1250319611352595E-2,-1.1250319611352595E-2]
[null,null,"S.US.VIAB",{"$f":"RTD(\"cqg.rtd\", ,\"ContractData\",C557, \"LongDescription\",, \"T\")","v":"Viacom Inc ClsB"},{"$f":"RTD(\"cqg.rtd\", ,\"ContractData\",C557, \"Open\",, \"T\")","v":34.450000000000003},{"$f":"RTD(\"cqg.rtd\", ,\"ContractData\",C557, \"High\",, \"T\")","v":34.72},{"$f":"RTD(\"cqg.rtd\", ,\"ContractData\",C557, \"Low\",, \"T\")","v":34.270000000000003},{"$f":"RTD(\"cqg.rtd\", ,\"ContractData\",C557, \"LastTradeToday\",, \"T\")","v":34.6},{"$f":"RTD(\"cqg.rtd\", ,\"ContractData\",C557, \"NetLastTradeToday\",, \"T\")","v":0.28000000000000003},{"$f":"IFERROR(RTD(\"cqg.rtd\", ,\"ContractData\",C557, \"PerCentNetLastTrade\",, \"T\")/100,\"\")","v":8.1585081585081581E-3},{"$f":"RTD(\"cqg.rtd\", ,\"ContractData\", C557, \"T_CVol\",, \"T\")","v":1275229},557,{"$f":"IFERROR(RANK($J557,$J$1:J$607)+COUNTIF($J$1:J557,J557)-1,\"\")","v":135},"S.US.VIAB","S.US.STLD",{"$f":"RTD(\"cqg.rtd\", ,\"ContractData\",O557, \"PerCentNetLastTrade\",, \"T\")/100","v":-1.1337868480725623E-2},"https://finance.yahoo.com/quote/STLD",null,{"$error":"#N/A"},1.1337868480725623E-2,null,{"$f":"RTD(\"cqg.rtd\", ,\"ContractData\",O557, \"LongDescription\",, \"T\")","v":"Steel Dynamics Inc"},null,null,-1.1337868480725623E-2,null,{"$error":"#N/A"},0,null,"",1.1337868480725623E-2,-1.1337868480725623E-2]
[null,null,"S.US.VMC",{"$f":"RTD(\"cqg.rtd\", ,\"ContractData\",C558, \"LongDescription\",, \"T\")","v":"Vulcan Material Co"},{"$f":"RTD(\"cqg.rtd\", ,\"ContractData\",C558, \"Open\",, \"T\")","v":126.2},{"$f":"RTD(\"cqg.rtd\", ,\"ContractData\",C558, \"High\",, \"T\")","v":126.42},{"$f":"RTD(\"cqg.rtd\", ,\"ContractData\",C558, \"Low\",, \"T\")","v":123.69},{"$f":"RTD(\"cqg.rtd\", ,\"ContractData\",C558, \"LastTradeToday\",, \"T\")","v":123.86},{"$f":"RTD(\"cqg.rtd\", ,\"ContractData\",C558, \"NetLastTradeToday\",, \"T\")","v":-2.79},{"$f":"IFERROR(RTD(\"cqg.rtd\", ,\"ContractData\",C558, \"PerCentNetLastTrade\",, \"T\")/100,\"\")","v":-2.2029214370311884E-2},{"$f":"RTD(\"cqg.rtd\", ,\"ContractData\", C558, \"T_CVol\",, \"T\")","v":586392},558,{"$f":"IFERROR(RANK($J558,$J$1:J$607)+COUNTIF($J$1:J558,J558)-1,\"\")","v":587},"S.US.VMC","S.US.LPLA",{"$f":"RTD(\"cqg.rtd\", ,\"ContractData\",O558, \"PerCentNetLastTrade\",, \"T\")/100","v":-1.1743681388817973E-2},"https://finance.yahoo.com/quote/LPLA",null,{"$error":"#N/A"},1.1743681388817973E-2,null,{"$f":"RTD(\"cqg.rtd\", ,\"ContractData\",O558, \"LongDescription\",, \"T\")","v":"LPL Financial Holdings Inc."},null,null,-1.1743681388817973E-2,null,{"$error":"#N/A"},0,null,"",1.1743681388817973E-2,-1.1743681388817973E-2]
[null,null,"S.US.VMI",{"$f":"RTD(\"cqg.rtd\", ,\"ContractData\",C559, \"LongDescription\",, \"T\")","v":"Valmont Industries Inc"},{"$f":"RTD(\"cqg.rtd\", ,\"ContractData\",C559, \"Open\",, \"T\")","v":148.25},{"$f":"RTD(\"cqg.rtd\", ,\"ContractData\",C559, \"High\",, \"T\")","v":149.02000000000001},{"$f":"RTD(\"cqg.rtd\", ,\"ContractData\",C559, \"Low\",, \"T\")","v":145.30000000000001},{"$f":"RTD(\"cqg.rtd\", ,\"ContractData\",C559, \"LastTradeToday\",, \"T\")","v":145.94},{"$f":"RTD(\"cqg.rtd\", ,\"ContractData\",C559, \"NetLastTradeToday\",, \"T\")","v":-2.11},{"$f":"IFERROR(RTD(\"cqg.rtd\", ,\"ContractData\",C559, \"PerCentNetLastTrade\",, \"T\")/100,\"\")","v":-1.4251941911516379E-2},{"$f":"RTD(\"cqg.rtd\", ,\"ContractData\", C559, \"T_CVol\",, \"T\")","v":25072},559,{"$f":"IFERROR(RANK($J559,$J$1:J$607)+COUNTIF($J$1:J559,J559)-1,\"\")","v":571},"S.US.VMI","S.US.PE",{"$f":"RTD(\"cqg.rtd\", ,\"ContractData\",O559, \"PerCentNetLastTrade\",, \"T\")/100","v":-1.1828644501278773E-2},"https://finance.yahoo.com/quote/PE",null,{"$error":"#N/A"},1.1828644501278773E-2,null,{"$f":"RTD(\"cqg.rtd\", ,\"ContractData\",O559, \"LongDescription\",, \"T\")","v":"Parsley Energy, Inc."},null,null,-1.1828644501278773E-2,null,{"$error":"#N/A"},0,null,"",1.1828644501278773E-2,-1.1828644501278773E-2]
[null,null,"S.US.VMW",{"$f":"RTD(\"cqg.rtd\", ,\"ContractData\",C560, \"LongDescription\",, \"T\")","v":"Vmware Inc"},{"$f":"RTD(\"cqg.rtd\", ,\"ContractData\",C560, \"Open\",, \"T\")","v":95.29},{"$f":"RTD(\"cqg.rtd\", ,\"ContractData\",C560, \"High\",, \"T\")","v":96.13},{"$f":"RTD(\"cqg.rtd\", ,\"ContractData\",C560, \"Low\",, \"T\")","v":94.93},{"$f":"RTD(\"cqg.rtd\", ,\"ContractData\",C560, \"LastTradeToday\",, \"T\")","v":95.94},{"$f":"RTD(\"cqg.rtd\", ,\"ContractData\",C560, \"NetLastTradeToday\",, \"T\")","v":1.07},{"$f":"IFERROR(RTD(\"cqg.rtd\", ,\"ContractData\",C560, \"PerCentNetLastTrade\",, \"T\")/100,\"\")","v":1.1278591757141352E-2},{"$f":"RTD(\"cqg.rtd\", ,\"ContractData\", C560, \"T_CVol\",, \"T\")","v":638050},560,{"$f":"IFERROR(RANK($J560,$J$1:J$607)+COUNTIF($J$1:J560,J560)-1,\"\")","v":87},"S.US.VMW","S.US.CHUBK",{"$f":"RTD(\"cqg.rtd\", ,\"ContractData\",O560, \"PerCentNetLastTrade\",, \"T\")/100","v":-1.2124711316397228E-2},"https://finance.yahoo.com/quote/CHUBK",null,{"$error":"#N/A"},1.2124711316397228E-2,null,{"$f":"RTD(\"cqg.rtd\", ,\"ContractData\",O560, \"LongDescription\",, \"T\")","v":"CommerceHub, Inc. Series C"},null,null,-1.2124711316397228E-2,null,{"$error":"#N/A"},0,null,"",1.2124711316397228E-2,-1.2124711316397228E-2]
[null,null,"S.US.VNTV",{"$f":"RTD(\"cqg.rtd\", ,\"ContractData\",C561, \"LongDescription\",, \"T\")","v":"Vantiv, Inc."},{"$f":"RTD(\"cqg.rtd\", ,\"ContractData\",C561, \"Open\",, \"T\")","v":61.26},{"$f":"RTD(\"cqg.rtd\", ,\"ContractData\",C561, \"High\",, \"T\")","v":61.64},{"$f":"RTD(\"cqg.rtd\", ,\"ContractData\",C561, \"Low\",, \"T\")","v":60.45},{"$f":"RTD(\"cqg.rtd\", ,\"ContractData\",C561, \"LastTradeToday\",, \"T\")","v":61.52},{"$f":"RTD(\"cqg.rtd\", ,\"ContractData\",C561, \"NetLastTradeToday\",, \"T\")","v":0.26},{"$f":"IFERROR(RTD(\"cqg.rtd\", ,\"ContractData\",C561, \"PerCentNetLastTrade\",, \"T\")/100,\"\")","v":4.244205027750571E-3},{"$f":"RTD(\"cqg.rtd\", ,\"ContractData\", C561, \"T_CVol\",, \"T\")","v":1382468},561,{"$f":"IFERROR(RANK($J561,$J$1:J$607)+COUNTIF($J$1:J561,J561)-1,\"\")","v":234},"S.US.VNTV","S.US.RGC",{"$f":"RTD(\"cqg.rtd\", ,\"ContractData\",O561, \"PerCentNetLastTrade\",, \"T\")/100","v":-1.2189176011701608E-2},"https://finance.yahoo.com/quote/RGC",null,{"$error":"#N/A"},1.2189176011701608E-2,null,{"$f":"RTD(\"cqg.rtd\", ,\"ContractData\",O561, \"LongDescription\",, \"T\")","v":"Regal Entertainment Group"},null,null,-1.2189176011701608E-2,null,{"$error":"#N/A"},0,null,"",1.2189176011701608E-2,-1.2189176011701608E-2]
[null,null,"S.US.VREX",{"$f":"RTD(\"cqg.rtd\", ,\"ContractData\",C562, \"LongDescription\",, \"T\")","v":"Varex Imaging Corporation"},{"$f":"RTD(\"cqg.rtd\", ,\"ContractData\",C562, \"Open\",, \"T\")","v":33},{"$f":"RTD(\"cqg.rtd\", ,\"ContractData\",C562, \"High\",, \"T\")","v":33.67},{"$f":"RTD(\"cqg.rtd\", ,\"ContractData\",C562, \"Low\",, \"T\")","v":33},{"$f":"RTD(\"cqg.rtd\", ,\"ContractData\",C562, \"LastTradeToday\",, \"T\")","v":33.450000000000003},{"$f":"RTD(\"cqg.rtd\", ,\"ContractData\",C562, \"NetLastTradeToday\",, \"T\")","v":0.45},{"$f":"IFERROR(RTD(\"cqg.rtd\", ,\"ContractData\",C562, \"PerCentNetLastTrade\",, \"T\")/100,\"\")","v":1.3636363636363636E-2},{"$f":"RTD(\"cqg.rtd\", ,\"ContractData\", C562, \"T_CVol\",, \"T\")","v":122067},562,{"$f":"IFERROR(RANK($J562,$J$1:J$607)+COUNTIF($J$1:J562,J562)-1,\"\")","v":65},"S.US.VREX","S.US.AYI",{"$f":"RTD(\"cqg.rtd\", ,\"ContractData\",O562, \"PerCentNetLastTrade\",, \"T\")/100","v":-1.225475755611854E-2},"https://finance.yahoo.com/quote/AYI",null,{"$error":"#N/A"},1.225475755611854E-2,null,{"$f":"RTD(\"cqg.rtd\", ,\"ContractData\",O562, \"LongDescription\",, \"T\")","v":"Acuity Brands Inc"},null,null,-1.225475755611854E-2,null,{"$error":"#N/A"},0,null,"",1.225475755611854E-2,-1.225475755611854E-2]
[null,null,"S.US.VRSK",{"$f":"RTD(\"cqg.rtd\", ,\"ContractData\",C563, \"LongDescription\",, \"T\")","v":"Verisk Analytics, Inc."},{"$f":"RTD(\"cqg.rtd\", ,\"ContractData\",C563, \"Open\",, \"T\")","v":79.77},{"$f":"RTD(\"cqg.rtd\", ,\"ContractData\",C563, \"High\",, \"T\")","v":80.290000000000006},{"$f":"RTD(\"cqg.rtd\", ,\"ContractData\",C563, \"Low\",, \"T\")","v":79.69},{"$f":"RTD(\"cqg.rtd\", ,\"ContractData\",C563, \"LastTradeToday\",, \"T\")","v":80.23},{"$f":"RTD(\"cqg.rtd\", ,\"ContractData\",C563, \"NetLastTradeToday\",, \"T\")","v":0.71},{"$f":"IFERROR(RTD(\"cqg.rtd\", ,\"ContractData\",C563, \"PerCentNetLastTrade\",, \"T\")/100,\"\")","v":8.9285714285714298E-3},{"$f":"RTD(\"cqg.rtd\", ,\"ContractData\", C563, \"T_CVol\",, \"T\")","v":523126},563,{"$f":"IFERROR(RANK($J563,$J$1:J$607)+COUNTIF($J$1:J563,J563)-1,\"\")","v":123},"S.US.VRSK","S.US.STZ",{"$f":"RTD(\"cqg.rtd\", ,\"ContractData\",O563, \"PerCentNetLastTrade\",, \"T\")/100","v":-1.249585314607984E-2},"https://finance.yahoo.com/quote/STZ",null,{"$error":"#N/A"},1.249585314607984E-2,null,{"$f":"RTD(\"cqg.rtd\", ,\"ContractData\",O563, \"LongDescription\",, \"T\")","v":"Constellation Brands Inc"},null,null,-1.249585314607984E-2,null,{"$error":"#N/A"},0,null,"",1.249585314607984E-2,-1.249585314607984E-2]
[null,null,"S.US.VRSN",{"$f":"RTD(\"cqg.rtd\", ,\"ContractData\",C564, \"LongDescription\",, \"T\")","v":"Verisign Inc"},{"$f":"RTD(\"cqg.rtd\", ,\"ContractData\",C564, \"Open\",, \"T\")","v":89.39},{"$f":"RTD(\"cqg.rtd\", ,\"ContractData\",C564, \"High\",, \"T\")","v":90.44},{"$f":"RTD(\"cqg.rtd\", ,\"ContractData\",C564, \"Low\",, \"T\")","v":89.14},{"$f":"RTD(\"cqg.rtd\", ,\"ContractData\",C564, \"LastTradeToday\",, \"T\")","v":89.98},{"$f":"RTD(\"cqg.rtd\", ,\"ContractData\",C564, \"NetLastTradeToday\",, \"T\")","v":0.93},{"$f":"IFERROR(RTD(\"cqg.rtd\", ,\"ContractData\",C564, \"PerCentNetLastTrade\",, \"T\")/100,\"\")","v":1.0443571027512633E-2},{"$f":"RTD(\"cqg.rtd\", ,\"ContractData\", C564, \"T_CVol\",, \"T\")","v":173418},564,{"$f":"IFERROR(RANK($J564,$J$1:J$607)+COUNTIF($J$1:J564,J564)-1,\"\")","v":101},"S.US.VRSN","S.US.AMP",{"$f":"RTD(\"cqg.rtd\", ,\"ContractData\",O564, \"PerCentNetLastTrade\",, \"T\")/100","v":-1.2766303463977882E-2},"https://finance.yahoo.com/quote/AMP",null,{"$error":"#N/A"},1.2766303463977882E-2,null,{"$f":"RTD(\"cqg.rtd\", ,\"ContractData\",O564, \"LongDescription\",, \"T\")","v":"Ameriprise Financial Inc"},null,null,-1.2766303463977882E-2,null,{"$error":"#N/A"},0,null,"",1.2766303463977882E-2,-1.2766303463977882E-2]
[null,null,"S.US.VRTX",{"$f":"RTD(\"cqg.rtd\", ,\"ContractData\",C565, \"LongDescription\",, \"T\")","v":"Vertex Pharmaceuticals Incorporated"},{"$f":"RTD(\"cqg.rtd\", ,\"ContractData\",C565, \"Open\",, \"T\")","v":116.86},{"$f":"RTD(\"cqg.rtd\", ,\"ContractData\",C565, \"High\",, \"T\")","v":118.44},{"$f":"RTD(\"cqg.rtd\", ,\"ContractData\",C565, \"Low\",, \"T\")","v":115.10000000000001},{"$f":"RTD(\"cqg.rtd\", ,\"ContractData\",C565, \"LastTradeToday\",, \"T\")","v":117.95},{"$f":"RTD(\"cqg.rtd\", ,\"ContractData\",C565, \"NetLastTradeToday\",, \"T\")","v":1.36},{"$f":"IFERROR(RTD(\"cqg.rtd\", ,\"ContractData\",C565, \"PerCentNetLastTrade\",, \"T\")/100,\"\")","v":1.1664808302598851E-2},{"$f":"RTD(\"cqg.rtd\", ,\"ContractData\", C565, \"T_CVol\",, \"T\")","v":1147158},565,{"$f":"IFERROR(RANK($J565,$J$1:J$607)+COUNTIF($J$1:J565,J565)-1,\"\")","v":84},"S.US.VRTX","S.US.XEC",{"$f":"RTD(\"cqg.rtd\", ,\"ContractData\",O565, \"PerCentNetLastTrade\",, \"T\")/100","v":-1.3044612575006522E-2},"https://finance.yahoo.com/quote/XEC",null,{"$error":"#N/A"},1.3044612575006522E-2,null,{"$f":"RTD(\"cqg.rtd\", ,\"ContractData\",O565, \"LongDescription\",, \"T\")","v":"Cimarex Energy Co"},null,null,-1.3044612575006522E-2,null,{"$error":"#N/A"},0,null,"",1.3044612575006522E-2,-1.3044612575006522E-2]
[null,null,"S.US.VSM",{"$f":"RTD(\"cqg.rtd\", ,\"ContractData\",C566, \"LongDescription\",, \"T\")","v":"Versum Materials Inc."},{"$f":"RTD(\"cqg.rtd\", ,\"ContractData\",C566, \"Open\",, \"T\")","v":31.080000000000002},{"$f":"RTD(\"cqg.rtd\", ,\"ContractData\",C566, \"High\",, \"T\")","v":31.560000000000002},{"$f":"RTD(\"cqg.rtd\", ,\"ContractData\",C566, \"Low\",, \"T\")","v":30.95},{"$f":"RTD(\"cqg.rtd\", ,\"ContractData\",C566, \"LastTradeToday\",, \"T\")","v":31.39},{"$f":"RTD(\"cqg.rtd\", ,\"ContractData\",C566, \"NetLastTradeToday\",, \"T\")","v":0.5},{"$f":"IFERROR(RTD(\"cqg.rtd\", ,\"ContractData\",C566, \"PerCentNetLastTrade\",, \"T\")/100,\"\")","v":1.618646811265782E-2},{"$f":"RTD(\"cqg.rtd\", ,\"ContractData\", C566, \"T_CVol\",, \"T\")","v":322989},566,{"$f":"IFERROR(RANK($J566,$J$1:J$607)+COUNTIF($J$1:J566,J566)-1,\"\")","v":49},"S.US.VSM","S.US.ALK",{"$f":"RTD(\"cqg.rtd\", ,\"ContractData\",O566, \"PerCentNetLastTrade\",, \"T\")/100","v":-1.3406388435532759E-2},"https://finance.yahoo.com/quote/ALK",null,{"$error":"#N/A"},1.3406388435532759E-2,null,{"$f":"RTD(\"cqg.rtd\", ,\"ContractData\",O566, \"LongDescription\",, \"T\")","v":"Alaska Air Group Inc"},null,null,-1.3406388435532759E-2,null,{"$error":"#N/A"},0,null,"",1.3406388435532759E-2,-1.3406388435532759E-2]
[null,null,"S.US.VSTO",{"$f":"RTD(\"cqg.rtd\", ,\"ContractData\",C567, \"LongDescription\",, \"T\")","v":"Vista Outdoor Inc."},{"$f":"RTD(\"cqg.rtd\", ,\"ContractData\",C567, \"Open\",, \"T\")","v":21.740000000000002},{"$f":"RTD(\"cqg.rtd\", ,\"ContractData\",C567, \"High\",, \"T\")","v":22.17},{"$f":"RTD(\"cqg.rtd\", ,\"ContractData\",C567, \"Low\",, \"T\")","v":21.73},{"$f":"RTD(\"cqg.rtd\", ,\"ContractData\",C567, \"LastTradeToday\",, \"T\")","v":21.97},{"$f":"RTD(\"cqg.rtd\", ,\"ContractData\",C567, \"NetLastTradeToday\",, \"T\")","v":0.18},{"$f":"IFERROR(RTD(\"cqg.rtd\", ,\"ContractData\",C567, \"PerCentNetLastTrade\",, \"T\")/100,\"\")","v":8.2606700321248283E-3},{"$f":"RTD(\"cqg.rtd\", ,\"ContractData\", C567, \"T_CVol\",, \"T\")","v":419951},567,{"$f":"IFERROR(RANK($J567,$J$1:J$607)+COUNTIF($J$1:J567,J567)-1,\"\")","v":133},"S.US.VSTO","S.US.CFG",{"$f":"RTD(\"cqg.rtd\", ,\"ContractData\",O567, \"PerCentNetLastTrade\",, \"T\")/100","v":-1.3679110857794243E-2},"https://finance.yahoo.com/quote/CFG",null,{"$error":"#N/A"},1.3679110857794243E-2,null,{"$f":"RTD(\"cqg.rtd\", ,\"ContractData\",O567, \"LongDescription\",, \"T\")","v":"Citizens Financial Group, Inc."},null,null,-1.3679110857794243E-2,null,{"$error":"#N/A"},0,null,"",1.3679110857794243E-2,-1.3679110857794243E-2]
[null,null,"S.US.VTR",{"$f":"RTD(\"cqg.rtd\", ,\"ContractData\",C568, \"LongDescription\",, \"T\")","v":"Ventas Inc"},{"$f":"RTD(\"cqg.rtd\", ,\"ContractData\",C568, \"Open\",, \"T\")","v":67.52},{"$f":"RTD(\"cqg.rtd\", ,\"ContractData\",C568, \"High\",, \"T\")","v":68},{"$f":"RTD(\"cqg.rtd\", ,\"ContractData\",C568, \"Low\",, \"T\")","v":67.52},{"$f":"RTD(\"cqg.rtd\", ,\"ContractData\",C568, \"LastTradeToday\",, \"T\")","v":67.89},{"$f":"RTD(\"cqg.rtd\", ,\"ContractData\",C568, \"NetLastTradeToday\",, \"T\")","v":0.39},{"$f":"IFERROR(RTD(\"cqg.rtd\", ,\"ContractData\",C568, \"PerCentNetLastTrade\",, \"T\")/100,\"\")","v":5.7777777777777775E-3},{"$f":"RTD(\"cqg.rtd\", ,\"ContractData\", C568, \"T_CVol\",, \"T\")","v":460642},568,{"$f":"IFERROR(RANK($J568,$J$1:J$607)+COUNTIF($J$1:J568,J568)-1,\"\")","v":198},"S.US.VTR","S.US.PWR",{"$f":"RTD(\"cqg.rtd\", ,\"ContractData\",O568, \"PerCentNetLastTrade\",, \"T\")/100","v":-1.38801261829653E-2},"https://finance.yahoo.com/quote/PWR",null,{"$error":"#N/A"},1.38801261829653E-2,null,{"$f":"RTD(\"cqg.rtd\", ,\"ContractData\",O568, \"LongDescription\",, \"T\")","v":"Quanta Services Inc"},null,null,-1.38801261829653E-2,null,{"$error":"#N/A"},0,null,"",1.38801261829653E-2,-1.38801261829653E-2]
[null,null,"S.US.VVV",{"$f":"RTD(\"cqg.rtd\", ,\"ContractData\",C569, \"LongDescription\",, \"T\")","v":"Valvoline Inc."},{"$f":"RTD(\"cqg.rtd\", ,\"ContractData\",C569, \"Open\",, \"T\")","v":22.44},{"$f":"RTD(\"cqg.rtd\", ,\"ContractData\",C569, \"High\",, \"T\")","v":22.5},{"$f":"RTD(\"cqg.rtd\", ,\"ContractData\",C569, \"Low\",, \"T\")","v":22.18},{"$f":"RTD(\"cqg.rtd\", ,\"ContractData\",C569, \"LastTradeToday\",, \"T\")","v":22.26},{"$f":"RTD(\"cqg.rtd\", ,\"ContractData\",C569, \"NetLastTradeToday\",, \"T\")","v":-0.17},{"$f":"IFERROR(RTD(\"cqg.rtd\", ,\"ContractData\",C569, \"PerCentNetLastTrade\",, \"T\")/100,\"\")","v":-7.5791350869371379E-3},{"$f":"RTD(\"cqg.rtd\", ,\"ContractData\", C569, \"T_CVol\",, \"T\")","v":1459846},569,{"$f":"IFERROR(RANK($J569,$J$1:J$607)+COUNTIF($J$1:J569,J569)-1,\"\")","v":518},"S.US.VVV","S.US.HOG",{"$f":"RTD(\"cqg.rtd\", ,\"ContractData\",O569, \"PerCentNetLastTrade\",, \"T\")/100","v":-1.400454201362604E-2},"https://finance.yahoo.com/quote/HOG",null,{"$error":"#N/A"},1.400454201362604E-2,null,{"$f":"RTD(\"cqg.rtd\", ,\"ContractData\",O569, \"LongDescription\",, \"T\")","v":"Harley-Davidson Inc"},null,null,-1.400454201362604E-2,null,{"$error":"#N/A"},0,null,"",1.400454201362604E-2,-1.400454201362604E-2]
[null,null,"S.US.VWR",{"$f":"RTD(\"cqg.rtd\", ,\"ContractData\",C570, \"LongDescription\",, \"T\")","v":"VWR Corporation"},{"$f":"RTD(\"cqg.rtd\", ,\"ContractData\",C570, \"Open\",, \"T\")","v":32.9},{"$f":"RTD(\"cqg.rtd\", ,\"ContractData\",C570, \"High\",, \"T\")","v":32.93},{"$f":"RTD(\"cqg.rtd\", ,\"ContractData\",C570, \"Low\",, \"T\")","v":32.85},{"$f":"RTD(\"cqg.rtd\", ,\"ContractData\",C570, \"LastTradeToday\",, \"T\")","v":32.86},{"$f":"RTD(\"cqg.rtd\", ,\"ContractData\",C570, \"NetLastTradeToday\",, \"T\")","v":-0.04},{"$f":"IFERROR(RTD(\"cqg.rtd\", ,\"ContractData\",C570, \"PerCentNetLastTrade\",, \"T\")/100,\"\")","v":-1.2158054711246201E-3},{"$f":"RTD(\"cqg.rtd\", ,\"ContractData\", C570, \"T_CVol\",, \"T\")","v":235088},570,{"$f":"IFERROR(RANK($J570,$J$1:J$607)+COUNTIF($J$1:J570,J570)-1,\"\")","v":420},"S.US.VWR","S.US.ADNT",{"$f":"RTD(\"cqg.rtd\", ,\"ContractData\",O570, \"PerCentNetLastTrade\",, \"T\")/100","v":-1.4150255288110869E-2},"https://finance.yahoo.com/quote/ADNT",null,{"$error":"#N/A"},1.4150255288110869E-2,null,{"$f":"RTD(\"cqg.rtd\", ,\"ContractData\",O570, \"LongDescription\",, \"T\")","v":"Adient PLC"},null,null,-1.4150255288110869E-2,null,{"$error":"#N/A"},0,null,"",1.4150255288110869E-2,-1.4150255288110869E-2]
[null,null,"S.US.VZ",{"$f":"RTD(\"cqg.rtd\", ,\"ContractData\",C571, \"LongDescription\",, \"T\")","v":"Verizon Communications"},{"$f":"RTD(\"cqg.rtd\", ,\"ContractData\",C571, \"Open\",, \"T\")","v":45.45},{"$f":"RTD(\"cqg.rtd\", ,\"ContractData\",C571, \"High\",, \"T\")","v":45.49},{"$f":"RTD(\"cqg.rtd\", ,\"ContractData\",C571, \"Low\",, \"T\")","v":44.96},{"$f":"RTD(\"cqg.rtd\", ,\"ContractData\",C571, \"LastTradeToday\",, \"T\")","v":45},{"$f":"RTD(\"cqg.rtd\", ,\"ContractData\",C571, \"NetLastTradeToday\",, \"T\")","v":-0.48},{"$f":"IFERROR(RTD(\"cqg.rtd\", ,\"ContractData\",C571, \"PerCentNetLastTrade\",, \"T\")/100,\"\")","v":-1.0554089709762533E-2},{"$f":"RTD(\"cqg.rtd\", ,\"ContractData\", C571, \"T_CVol\",, \"T\")","v":8668987},571,{"$f":"IFERROR(RANK($J571,$J$1:J$607)+COUNTIF($J$1:J571,J571)-1,\"\")","v":549},"S.US.VZ","S.US.VMI",{"$f":"RTD(\"cqg.rtd\", ,\"ContractData\",O571, \"PerCentNetLastTrade\",, \"T\")/100","v":-1.4251941911516379E-2},"https://finance.yahoo.com/quote/VMI",null,{"$error":"#N/A"},1.4251941911516379E-2,null,{"$f":"RTD(\"cqg.rtd\", ,\"ContractData\",O571, \"LongDescription\",, \"T\")","v":"Valmont Industries Inc"},null,null,-1.4251941911516379E-2,null,{"$error":"#N/A"},0,null,"",1.4251941911516379E-2,-1.4251941911516379E-2]
[null,null,"S.US.WAB",{"$f":"RTD(\"cqg.rtd\", ,\"ContractData\",C572, \"LongDescription\",, \"T\")","v":"Westinghouse Air Brake Co"},{"$f":"RTD(\"cqg.rtd\", ,\"ContractData\",C572, \"Open\",, \"T\")","v":82},{"$f":"RTD(\"cqg.rtd\", ,\"ContractData\",C572, \"High\",, \"T\")","v":82.15},{"$f":"RTD(\"cqg.rtd\", ,\"ContractData\",C572, \"Low\",, \"T\")","v":81.400000000000006},{"$f":"RTD(\"cqg.rtd\", ,\"ContractData\",C572, \"LastTradeToday\",, \"T\")","v":81.760000000000005},{"$f":"RTD(\"cqg.rtd\", ,\"ContractData\",C572, \"NetLastTradeToday\",, \"T\")","v":-0.25},{"$f":"IFERROR(RTD(\"cqg.rtd\", ,\"ContractData\",C572, \"PerCentNetLastTrade\",, \"T\")/100,\"\")","v":-3.0484087306426044E-3},{"$f":"RTD(\"cqg.rtd\", ,\"ContractData\", C572, \"T_CVol\",, \"T\")","v":189195},572,{"$f":"IFERROR(RANK($J572,$J$1:J$607)+COUNTIF($J$1:J572,J572)-1,\"\")","v":453},"S.US.WAB","S.US.PBI",{"$f":"RTD(\"cqg.rtd\", ,\"ContractData\",O572, \"PerCentNetLastTrade\",, \"T\")/100","v":-1.5091863517060367E-2},"https://finance.yahoo.com/quote/PBI",null,{"$error":"#N/A"},1.5091863517060367E-2,null,{"$f":"RTD(\"cqg.rtd\", ,\"ContractData\",O572, \"LongDescription\",, \"T\")","v":"Pitney Bowes Inc"},null,null,-1.5091863517060367E-2,null,{"$error":"#N/A"},0,null,"",1.5091863517060367E-2,-1.5091863517060367E-2]
[null,null,"S.US.WAL",{"$f":"RTD(\"cqg.rtd\", ,\"ContractData\",C573, \"LongDescription\",, \"T\")","v":"Western Alliance Bancorporation"},{"$f":"RTD(\"cqg.rtd\", ,\"ContractData\",C573, \"Open\",, \"T\")","v":46.31},{"$f":"RTD(\"cqg.rtd\", ,\"ContractData\",C573, \"High\",, \"T\")","v":46.31},{"$f":"RTD(\"cqg.rtd\", ,\"ContractData\",C573, \"Low\",, \"T\")","v":45.4},{"$f":"RTD(\"cqg.rtd\", ,\"ContractData\",C573, \"LastTradeToday\",, \"T\")","v":45.6},{"$f":"RTD(\"cqg.rtd\", ,\"ContractData\",C573, \"NetLastTradeToday\",, \"T\")","v":-0.49},{"$f":"IFERROR(RTD(\"cqg.rtd\", ,\"ContractData\",C573, \"PerCentNetLastTrade\",, \"T\")/100,\"\")","v":-1.0631373399869819E-2},{"$f":"RTD(\"cqg.rtd\", ,\"ContractData\", C573, \"T_CVol\",, \"T\")","v":131960},573,{"$f":"IFERROR(RANK($J573,$J$1:J$607)+COUNTIF($J$1:J573,J573)-1,\"\")","v":550},"S.US.WAL","S.US.FHB",{"$f":"RTD(\"cqg.rtd\", ,\"ContractData\",O573, \"PerCentNetLastTrade\",, \"T\")/100","v":-1.5570934256055364E-2},"https://finance.yahoo.com/quote/FHB",null,{"$error":"#N/A"},1.5570934256055364E-2,null,{"$f":"RTD(\"cqg.rtd\", ,\"ContractData\",O573, \"LongDescription\",, \"T\")","v":"First Hawaiian, Inc."},null,null,-1.5570934256055364E-2,null,{"$error":"#N/A"},0,null,"",1.5570934256055364E-2,-1.5570934256055364E-2]
[null,null,"S.US.WAT",{"$f":"RTD(\"cqg.rtd\", ,\"ContractData\",C574, \"LongDescription\",, \"T\")","v":"Waters Corporation"},{"$f":"RTD(\"cqg.rtd\", ,\"ContractData\",C574, \"Open\",, \"T\")","v":176.12},{"$f":"RTD(\"cqg.rtd\", ,\"ContractData\",C574, \"High\",, \"T\")","v":177.43},{"$f":"RTD(\"cqg.rtd\", ,\"ContractData\",C574, \"Low\",, \"T\")","v":175.21},{"$f":"RTD(\"cqg.rtd\", ,\"ContractData\",C574, \"LastTradeToday\",, \"T\")","v":177.38},{"$f":"RTD(\"cqg.rtd\", ,\"ContractData\",C574, \"NetLastTradeToday\",, \"T\")","v":1.28},{"$f":"IFERROR(RTD(\"cqg.rtd\", ,\"ContractData\",C574, \"PerCentNetLastTrade\",, \"T\")/100,\"\")","v":7.2685973878478137E-3},{"$f":"RTD(\"cqg.rtd\", ,\"ContractData\", C574, \"T_CVol\",, \"T\")","v":187527},574,{"$f":"IFERROR(RANK($J574,$J$1:J$607)+COUNTIF($J$1:J574,J574)-1,\"\")","v":160},"S.US.WAT","S.US.AL",{"$f":"RTD(\"cqg.rtd\", ,\"ContractData\",O574, \"PerCentNetLastTrade\",, \"T\")/100","v":-1.5580368735393403E-2},"https://finance.yahoo.com/quote/AL",null,{"$error":"#N/A"},1.5580368735393403E-2,null,{"$f":"RTD(\"cqg.rtd\", ,\"ContractData\",O574, \"LongDescription\",, \"T\")","v":"Air Lease Corporation"},null,null,-1.5580368735393403E-2,null,{"$error":"#N/A"},0,null,"",1.5580368735393403E-2,-1.5580368735393403E-2]
[null,null,"S.US.WBA",{"$f":"RTD(\"cqg.rtd\", ,\"ContractData\",C575, \"LongDescription\",, \"T\")","v":"Walgreens Boots Alliance, Inc."},{"$f":"RTD(\"cqg.rtd\", ,\"ContractData\",C575, \"Open\",, \"T\")","v":81.400000000000006},{"$f":"RTD(\"cqg.rtd\", ,\"ContractData\",C575, \"High\",, \"T\")","v":81.41},{"$f":"RTD(\"cqg.rtd\", ,\"ContractData\",C575, \"Low\",, \"T\")","v":80.48},{"$f":"RTD(\"cqg.rtd\", ,\"ContractData\",C575, \"LastTradeToday\",, \"T\")","v":80.63},{"$f":"RTD(\"cqg.rtd\", ,\"ContractData\",C575, \"NetLastTradeToday\",, \"T\")","v":-0.61},{"$f":"IFERROR(RTD(\"cqg.rtd\", ,\"ContractData\",C575, \"PerCentNetLastTrade\",, \"T\")/100,\"\")","v":-7.5086164451009354E-3},{"$f":"RTD(\"cqg.rtd\", ,\"ContractData\", C575, \"T_CVol\",, \"T\")","v":1671740},575,{"$f":"IFERROR(RANK($J575,$J$1:J$607)+COUNTIF($J$1:J575,J575)-1,\"\")","v":517},"S.US.WBA","S.US.NATI",{"$f":"RTD(\"cqg.rtd\", ,\"ContractData\",O575, \"PerCentNetLastTrade\",, \"T\")/100","v":-1.5616728427739545E-2},"https://finance.yahoo.com/quote/NATI",null,{"$error":"#N/A"},1.5616728427739545E-2,null,{"$f":"RTD(\"cqg.rtd\", ,\"ContractData\",O575, \"LongDescription\",, \"T\")","v":"Natl Instruments Corp"},null,null,-1.5616728427739545E-2,null,{"$error":"#N/A"},0,null,"",1.5616728427739545E-2,-1.5616728427739545E-2]
[null,null,"S.US.WBC",{"$f":"RTD(\"cqg.rtd\", ,\"ContractData\",C576, \"LongDescription\",, \"T\")","v":"WABCO Holdings Inc."},{"$f":"RTD(\"cqg.rtd\", ,\"ContractData\",C576, \"Open\",, \"T\")","v":118.48},{"$f":"RTD(\"cqg.rtd\", ,\"ContractData\",C576, \"High\",, \"T\")","v":118.91},{"$f":"RTD(\"cqg.rtd\", ,\"ContractData\",C576, \"Low\",, \"T\")","v":118.2},{"$f":"RTD(\"cqg.rtd\", ,\"ContractData\",C576, \"LastTradeToday\",, \"T\")","v":118.44},{"$f":"RTD(\"cqg.rtd\", ,\"ContractData\",C576, \"NetLastTradeToday\",, \"T\")","v":-0.31},{"$f":"IFERROR(RTD(\"cqg.rtd\", ,\"ContractData\",C576, \"PerCentNetLastTrade\",, \"T\")/100,\"\")","v":-2.6105263157894737E-3},{"$f":"RTD(\"cqg.rtd\", ,\"ContractData\", C576, \"T_CVol\",, \"T\")","v":92276},576,{"$f":"IFERROR(RANK($J576,$J$1:J$607)+COUNTIF($J$1:J576,J576)-1,\"\")","v":442},"S.US.WBC","S.US.CHK",{"$f":"RTD(\"cqg.rtd\", ,\"ContractData\",O576, \"PerCentNetLastTrade\",, \"T\")/100","v":-1.5873015873015872E-2},"https://finance.yahoo.com/quote/CHK",null,{"$error":"#N/A"},1.5873015873015872E-2,null,{"$f":"RTD(\"cqg.rtd\", ,\"ContractData\",O576, \"LongDescription\",, \"T\")","v":"Chesapeake Energy Corp"},null,null,-1.5873015873015872E-2,null,{"$error":"#N/A"},0,null,"",1.5873015873015872E-2,-1.5873015873015872E-2]
[null,null,"S.US.WBT",{"$f":"RTD(\"cqg.rtd\", ,\"ContractData\",C577, \"LongDescription\",, \"T\")","v":"Welbilt, Inc."},{"$f":"RTD(\"cqg.rtd\", ,\"ContractData\",C577, \"Open\",, \"T\")","v":19.920000000000002},{"$f":"RTD(\"cqg.rtd\", ,\"ContractData\",C577, \"High\",, \"T\")","v":19.98},{"$f":"RTD(\"cqg.rtd\", ,\"ContractData\",C577, \"Low\",, \"T\")","v":19.72},{"$f":"RTD(\"cqg.rtd\", ,\"ContractData\",C577, \"LastTradeToday\",, \"T\")","v":19.84},{"$f":"RTD(\"cqg.rtd\", ,\"ContractData\",C577, \"NetLastTradeToday\",, \"T\")","v":0.01},{"$f":"IFERROR(RTD(\"cqg.rtd\", ,\"ContractData\",C577, \"PerCentNetLastTrade\",, \"T\")/100,\"\")","v":5.0428643469490675E-4},{"$f":"RTD(\"cqg.rtd\", ,\"ContractData\", C577, \"T_CVol\",, \"T\")","v":230286},577,{"$f":"IFERROR(RANK($J577,$J$1:J$607)+COUNTIF($J$1:J577,J577)-1,\"\")","v":371},"S.US.WBT","S.US.RL",{"$f":"RTD(\"cqg.rtd\", ,\"ContractData\",O577, \"PerCentNetLastTrade\",, \"T\")/100","v":-1.6395864106351552E-2},"https://finance.yahoo.com/quote/RL",null,{"$error":"#N/A"},1.6395864106351552E-2,null,{"$f":"RTD(\"cqg.rtd\", ,\"ContractData\",O577, \"LongDescription\",, \"T\")","v":"Ralph Lauren Corporation"},null,null,-1.6395864106351552E-2,null,{"$error":"#N/A"},0,null,"",1.6395864106351552E-2,-1.6395864106351552E-2]
[null,null,"S.US.WCG",{"$f":"RTD(\"cqg.rtd\", ,\"ContractData\",C578, \"LongDescription\",, \"T\")","v":"Wellcare Group Inc"},{"$f":"RTD(\"cqg.rtd\", ,\"ContractData\",C578, \"Open\",, \"T\")","v":171.21},{"$f":"RTD(\"cqg.rtd\", ,\"ContractData\",C578, \"High\",, \"T\")","v":172.59},{"$f":"RTD(\"cqg.rtd\", ,\"ContractData\",C578, \"Low\",, \"T\")","v":170.28},{"$f":"RTD(\"cqg.rtd\", ,\"ContractData\",C578, \"LastTradeToday\",, \"T\")","v":172.14000000000001},{"$f":"RTD(\"cqg.rtd\", ,\"ContractData\",C578, \"NetLastTradeToday\",, \"T\")","v":0.89},{"$f":"IFERROR(RTD(\"cqg.rtd\", ,\"ContractData\",C578, \"PerCentNetLastTrade\",, \"T\")/100,\"\")","v":5.1970802919708023E-3},{"$f":"RTD(\"cqg.rtd\", ,\"ContractData\", C578, \"T_CVol\",, \"T\")","v":143461},578,{"$f":"IFERROR(RANK($J578,$J$1:J$607)+COUNTIF($J$1:J578,J578)-1,\"\")","v":210},"S.US.WCG",{"$f":"VLOOKUP($L578,$M$1:$N$607,2,FALSE)","v":"S.US.LGF"},{"$f":"RTD(\"cqg.rtd\", ,\"ContractData\",O578, \"PerCentNetLastTrade\",, \"T\")/100","v":-1.6425498631208447E-2},{"$f":"\"https://finance.yahoo.com/quote/\"&RIGHT(O578,(LEN(O578)-5))","v":"https://finance.yahoo.com/quote/LGF"},null,{"$error":"#N/A"},1.6425498631208447E-2,null,{"$f":"RTD(\"cqg.rtd\", ,\"ContractData\",O578, \"LongDescription\",, \"T\")","v":"Lions Gate Entertainment Corp."},null,null,-1.6425498631208447E-2,null,{"$error":"#N/A"},0,null,"",1.6425498631208447E-2,-1.6425498631208447E-2]
[null,null,"S.US.WDAY",{"$f":"RTD(\"cqg.rtd\", ,\"ContractData\",C579, \"LongDescription\",, \"T\")","v":"Workday, Inc."},{"$f":"RTD(\"cqg.rtd\", ,\"ContractData\",C579, \"Open\",, \"T\")","v":99},{"$f":"RTD(\"cqg.rtd\", ,\"ContractData\",C579, \"High\",, \"T\")","v":99.05},{"$f":"RTD(\"cqg.rtd\", ,\"ContractData\",C579, \"Low\",, \"T\")","v":98.05},{"$f":"RTD(\"cqg.rtd\", ,\"ContractData\",C579, \"LastTradeToday\",, \"T\")","v":98.8},{"$f":"RTD(\"cqg.rtd\", ,\"ContractData\",C579, \"NetLastTradeToday\",, \"T\")","v":0.36},{"$f":"IFERROR(RTD(\"cqg.rtd\", ,\"ContractData\",C579, \"PerCentNetLastTrade\",, \"T\")/100,\"\")","v":3.6570499796830559E-3},{"$f":"RTD(\"cqg.rtd\", ,\"ContractData\", C579, \"T_CVol\",, \"T\")","v":377234},{"$f":"L578+1","v":579},{"$f":"IFERROR(RANK($J579,$J$1:J$607)+COUNTIF($J$1:J579,J579)-1,\"\")","v":252},"S.US.WDAY","S.US.FAST",{"$f":"RTD(\"cqg.rtd\", ,\"ContractData\",O579, \"PerCentNetLastTrade\",, \"T\")/100","v":-1.650090415913201E-2},"https://finance.yahoo.com/quote/FAST",null,{"$error":"#N/A"},1.650090415913201E-2,null,{"$f":"RTD(\"cqg.rtd\", ,\"ContractData\",O579, \"LongDescription\",, \"T\")","v":"Fastenal Co"},null,null,-1.650090415913201E-2,null,{"$error":"#N/A"},0,null,"",1.650090415913201E-2,-1.650090415913201E-2]
[null,null,"S.US.WEN",{"$f":"RTD(\"cqg.rtd\", ,\"ContractData\",C580, \"LongDescription\",, \"T\")","v":"The Wendy's Company"},{"$f":"RTD(\"cqg.rtd\", ,\"ContractData\",C580, \"Open\",, \"T\")","v":16.18},{"$f":"RTD(\"cqg.rtd\", ,\"ContractData\",C580, \"High\",, \"T\")","v":16.440000000000001},{"$f":"RTD(\"cqg.rtd\", ,\"ContractData\",C580, \"Low\",, \"T\")","v":16.13},{"$f":"RTD(\"cqg.rtd\", ,\"ContractData\",C580, \"LastTradeToday\",, \"T\")","v":16.399999999999999},{"$f":"RTD(\"cqg.rtd\", ,\"ContractData\",C580, \"NetLastTradeToday\",, \"T\")","v":0.23},{"$f":"IFERROR(RTD(\"cqg.rtd\", ,\"ContractData\",C580, \"PerCentNetLastTrade\",, \"T\")/100,\"\")","v":1.4223871366728509E-2},{"$f":"RTD(\"cqg.rtd\", ,\"ContractData\", C580, \"T_CVol\",, \"T\")","v":1084331},580,{"$f":"IFERROR(RANK($J580,$J$1:J$607)+COUNTIF($J$1:J580,J580)-1,\"\")","v":59},"S.US.WEN","S.US.DFIN",{"$f":"RTD(\"cqg.rtd\", ,\"ContractData\",O580, \"PerCentNetLastTrade\",, \"T\")/100","v":-1.6638225255972697E-2},"https://finance.yahoo.com/quote/DFIN",null,{"$error":"#N/A"},1.6638225255972697E-2,null,{"$f":"RTD(\"cqg.rtd\", ,\"ContractData\",O580, \"LongDescription\",, \"T\")","v":"Donnelley Financial Solutions, Inc."},null,null,-1.6638225255972697E-2,null,{"$error":"#N/A"},0,null,"",1.6638225255972697E-2,-1.6638225255972697E-2]
[null,null,"S.US.WEX",{"$f":"RTD(\"cqg.rtd\", ,\"ContractData\",C581, \"LongDescription\",, \"T\")","v":"WEX Inc"},{"$f":"RTD(\"cqg.rtd\", ,\"ContractData\",C581, \"Open\",, \"T\")","v":102.95},{"$f":"RTD(\"cqg.rtd\", ,\"ContractData\",C581, \"High\",, \"T\")","v":103.05},{"$f":"RTD(\"cqg.rtd\", ,\"ContractData\",C581, \"Low\",, \"T\")","v":102.15},{"$f":"RTD(\"cqg.rtd\", ,\"ContractData\",C581, \"LastTradeToday\",, \"T\")","v":102.42},{"$f":"RTD(\"cqg.rtd\", ,\"ContractData\",C581, \"NetLastTradeToday\",, \"T\")","v":-0.11},{"$f":"IFERROR(RTD(\"cqg.rtd\", ,\"ContractData\",C581, \"PerCentNetLastTrade\",, \"T\")/100,\"\")","v":-1.0728567248610163E-3},{"$f":"RTD(\"cqg.rtd\", ,\"ContractData\", C581, \"T_CVol\",, \"T\")","v":134812},581,{"$f":"IFERROR(RANK($J581,$J$1:J$607)+COUNTIF($J$1:J581,J581)-1,\"\")","v":417},"S.US.WEX","S.US.BURL",{"$f":"RTD(\"cqg.rtd\", ,\"ContractData\",O581, \"PerCentNetLastTrade\",, \"T\")/100","v":-1.7413972888425444E-2},"https://finance.yahoo.com/quote/BURL",null,{"$error":"#N/A"},1.7413972888425444E-2,null,{"$f":"RTD(\"cqg.rtd\", ,\"ContractData\",O581, \"LongDescription\",, \"T\")","v":"Burlington Stores, Inc."},null,null,-1.7413972888425444E-2,null,{"$error":"#N/A"},0,null,"",1.7413972888425444E-2,-1.7413972888425444E-2]
[null,null,"S.US.WFM",{"$f":"RTD(\"cqg.rtd\", ,\"ContractData\",C582, \"LongDescription\",, \"T\")","v":"Whole Foods Market, Inc."},{"$f":"RTD(\"cqg.rtd\", ,\"ContractData\",C582, \"Open\",, \"T\")","v":35.5},{"$f":"RTD(\"cqg.rtd\", ,\"ContractData\",C582, \"High\",, \"T\")","v":35.54},{"$f":"RTD(\"cqg.rtd\", ,\"ContractData\",C582, \"Low\",, \"T\")","v":35.14},{"$f":"RTD(\"cqg.rtd\", ,\"ContractData\",C582, \"LastTradeToday\",, \"T\")","v":35.230000000000004},{"$f":"RTD(\"cqg.rtd\", ,\"ContractData\",C582, \"NetLastTradeToday\",, \"T\")","v":-0.1},{"$f":"IFERROR(RTD(\"cqg.rtd\", ,\"ContractData\",C582, \"PerCentNetLastTrade\",, \"T\")/100,\"\")","v":-2.8304557033682421E-3},{"$f":"RTD(\"cqg.rtd\", ,\"ContractData\", C582, \"T_CVol\",, \"T\")","v":1920850},582,{"$f":"IFERROR(RANK($J582,$J$1:J$607)+COUNTIF($J$1:J582,J582)-1,\"\")","v":451},"S.US.WFM","S.US.FANG",{"$f":"RTD(\"cqg.rtd\", ,\"ContractData\",O582, \"PerCentNetLastTrade\",, \"T\")/100","v":-1.7585692995529062E-2},"https://finance.yahoo.com/quote/FANG",null,{"$error":"#N/A"},1.7585692995529062E-2,null,{"$f":"RTD(\"cqg.rtd\", ,\"ContractData\",O582, \"LongDescription\",, \"T\")","v":"Diamondback Energy, Inc."},null,null,-1.7585692995529062E-2,null,{"$error":"#N/A"},0,null,"",1.7585692995529062E-2,-1.7585692995529062E-2]
[null,null,"S.US.WHR",{"$f":"RTD(\"cqg.rtd\", ,\"ContractData\",C583, \"LongDescription\",, \"T\")","v":"Whirlpool Corp"},{"$f":"RTD(\"cqg.rtd\", ,\"ContractData\",C583, \"Open\",, \"T\")","v":180.70000000000002},{"$f":"RTD(\"cqg.rtd\", ,\"ContractData\",C583, \"High\",, \"T\")","v":181},{"$f":"RTD(\"cqg.rtd\", ,\"ContractData\",C583, \"Low\",, \"T\")","v":179.49},{"$f":"RTD(\"cqg.rtd\", ,\"ContractData\",C583, \"LastTradeToday\",, \"T\")","v":179.88},{"$f":"RTD(\"cqg.rtd\", ,\"ContractData\",C583, \"NetLastTradeToday\",, \"T\")","v":-0.9},{"$f":"IFERROR(RTD(\"cqg.rtd\", ,\"ContractData\",C583, \"PerCentNetLastTrade\",, \"T\")/100,\"\")","v":-4.9784268171257882E-3},{"$f":"RTD(\"cqg.rtd\", ,\"ContractData\", C583, \"T_CVol\",, \"T\")","v":211098},583,{"$f":"IFERROR(RANK($J583,$J$1:J$607)+COUNTIF($J$1:J583,J583)-1,\"\")","v":479},"S.US.WHR","S.US.GE",{"$f":"RTD(\"cqg.rtd\", ,\"ContractData\",O583, \"PerCentNetLastTrade\",, \"T\")/100","v":-1.768033946251768E-2},"https://finance.yahoo.com/quote/GE",null,{"$error":"#N/A"},1.768033946251768E-2,null,{"$f":"RTD(\"cqg.rtd\", ,\"ContractData\",O583, \"LongDescription\",, \"T\")","v":"General Electric Co"},null,null,-1.768033946251768E-2,null,{"$error":"#N/A"},0,null,"",1.768033946251768E-2,-1.768033946251768E-2]
[null,null,"S.US.WM",{"$f":"RTD(\"cqg.rtd\", ,\"ContractData\",C584, \"LongDescription\",, \"T\")","v":"Waste Mgmt Inc New"},{"$f":"RTD(\"cqg.rtd\", ,\"ContractData\",C584, \"Open\",, \"T\")","v":71.3},{"$f":"RTD(\"cqg.rtd\", ,\"ContractData\",C584, \"High\",, \"T\")","v":71.47},{"$f":"RTD(\"cqg.rtd\", ,\"ContractData\",C584, \"Low\",, \"T\")","v":71.100000000000009},{"$f":"RTD(\"cqg.rtd\", ,\"ContractData\",C584, \"LastTradeToday\",, \"T\")","v":71.42},{"$f":"RTD(\"cqg.rtd\", ,\"ContractData\",C584, \"NetLastTradeToday\",, \"T\")","v":0.4},{"$f":"IFERROR(RTD(\"cqg.rtd\", ,\"ContractData\",C584, \"PerCentNetLastTrade\",, \"T\")/100,\"\")","v":5.632216277105041E-3},{"$f":"RTD(\"cqg.rtd\", ,\"ContractData\", C584, \"T_CVol\",, \"T\")","v":800205},584,{"$f":"IFERROR(RANK($J584,$J$1:J$607)+COUNTIF($J$1:J584,J584)-1,\"\")","v":199},"S.US.WM","S.US.MLM",{"$f":"RTD(\"cqg.rtd\", ,\"ContractData\",O584, \"PerCentNetLastTrade\",, \"T\")/100","v":-1.9778412533541071E-2},"https://finance.yahoo.com/quote/MLM",null,{"$error":"#N/A"},1.9778412533541071E-2,null,{"$f":"RTD(\"cqg.rtd\", ,\"ContractData\",O584, \"LongDescription\",, \"T\")","v":"Martin Marietta Materials Inc"},null,null,-1.9778412533541071E-2,null,{"$error":"#N/A"},0,null,"",1.9778412533541071E-2,-1.9778412533541071E-2]
[null,null,"S.US.WMB",{"$f":"RTD(\"cqg.rtd\", ,\"ContractData\",C585, \"LongDescription\",, \"T\")","v":"Williams Companies Inc"},{"$f":"RTD(\"cqg.rtd\", ,\"ContractData\",C585, \"Open\",, \"T\")","v":30.400000000000002},{"$f":"RTD(\"cqg.rtd\", ,\"ContractData\",C585, \"High\",, \"T\")","v":30.69},{"$f":"RTD(\"cqg.rtd\", ,\"ContractData\",C585, \"Low\",, \"T\")","v":30.04},{"$f":"RTD(\"cqg.rtd\", ,\"ContractData\",C585, \"LastTradeToday\",, \"T\")","v":30.18},{"$f":"RTD(\"cqg.rtd\", ,\"ContractData\",C585, \"NetLastTradeToday\",, \"T\")","v":-0.31},{"$f":"IFERROR(RTD(\"cqg.rtd\", ,\"ContractData\",C585, \"PerCentNetLastTrade\",, \"T\")/100,\"\")","v":-1.0167267956707117E-2},{"$f":"RTD(\"cqg.rtd\", ,\"ContractData\", C585, \"T_CVol\",, \"T\")","v":2081222},585,{"$f":"IFERROR(RANK($J585,$J$1:J$607)+COUNTIF($J$1:J585,J585)-1,\"\")","v":545},"S.US.WMB","S.US.TDC",{"$f":"RTD(\"cqg.rtd\", ,\"ContractData\",O585, \"PerCentNetLastTrade\",, \"T\")/100","v":-2.1202641640597847E-2},"https://finance.yahoo.com/quote/TDC",null,{"$error":"#N/A"},2.1202641640597847E-2,null,{"$f":"RTD(\"cqg.rtd\", ,\"ContractData\",O585, \"LongDescription\",, \"T\")","v":"Teradata Corporation"},null,null,-2.1202641640597847E-2,null,{"$error":"#N/A"},0,null,"",2.1202641640597847E-2,-2.1202641640597847E-2]
[null,null,"S.US.WOOF",{"$f":"RTD(\"cqg.rtd\", ,\"ContractData\",C586, \"LongDescription\",, \"T\")","v":"VCA Inc."},{"$f":"RTD(\"cqg.rtd\", ,\"ContractData\",C586, \"Open\",, \"T\")","v":91.9},{"$f":"RTD(\"cqg.rtd\", ,\"ContractData\",C586, \"High\",, \"T\")","v":91.960000000000008},{"$f":"RTD(\"cqg.rtd\", ,\"ContractData\",C586, \"Low\",, \"T\")","v":91.83},{"$f":"RTD(\"cqg.rtd\", ,\"ContractData\",C586, \"LastTradeToday\",, \"T\")","v":91.83},{"$f":"RTD(\"cqg.rtd\", ,\"ContractData\",C586, \"NetLastTradeToday\",, \"T\")","v":-7.0000000000000007E-2},{"$f":"IFERROR(RTD(\"cqg.rtd\", ,\"ContractData\",C586, \"PerCentNetLastTrade\",, \"T\")/100,\"\")","v":-7.6169749727965179E-4},{"$f":"RTD(\"cqg.rtd\", ,\"ContractData\", C586, \"T_CVol\",, \"T\")","v":2760778},586,{"$f":"IFERROR(RANK($J586,$J$1:J$607)+COUNTIF($J$1:J586,J586)-1,\"\")","v":410},"S.US.WOOF","S.US.OPK",{"$f":"RTD(\"cqg.rtd\", ,\"ContractData\",O586, \"PerCentNetLastTrade\",, \"T\")/100","v":-2.140672782874618E-2},"https://finance.yahoo.com/quote/OPK",null,{"$error":"#N/A"},2.140672782874618E-2,null,{"$f":"RTD(\"cqg.rtd\", ,\"ContractData\",O586, \"LongDescription\",, \"T\")","v":"Opko Health, Inc."},null,null,-2.140672782874618E-2,null,{"$error":"#N/A"},0,null,"",2.140672782874618E-2,-2.140672782874618E-2]
[null,null,"S.US.WSM",{"$f":"RTD(\"cqg.rtd\", ,\"ContractData\",C587, \"LongDescription\",, \"T\")","v":"Williams-Sonoma Inc"},{"$f":"RTD(\"cqg.rtd\", ,\"ContractData\",C587, \"Open\",, \"T\")","v":48.95},{"$f":"RTD(\"cqg.rtd\", ,\"ContractData\",C587, \"High\",, \"T\")","v":49.910000000000004},{"$f":"RTD(\"cqg.rtd\", ,\"ContractData\",C587, \"Low\",, \"T\")","v":48.2},{"$f":"RTD(\"cqg.rtd\", ,\"ContractData\",C587, \"LastTradeToday\",, \"T\")","v":49.69},{"$f":"RTD(\"cqg.rtd\", ,\"ContractData\",C587, \"NetLastTradeToday\",, \"T\")","v":0.62},{"$f":"IFERROR(RTD(\"cqg.rtd\", ,\"ContractData\",C587, \"PerCentNetLastTrade\",, \"T\")/100,\"\")","v":1.2635011208477685E-2},{"$f":"RTD(\"cqg.rtd\", ,\"ContractData\", C587, \"T_CVol\",, \"T\")","v":1588296},587,{"$f":"IFERROR(RANK($J587,$J$1:J$607)+COUNTIF($J$1:J587,J587)-1,\"\")","v":73},"S.US.WSM","S.US.VMC",{"$f":"RTD(\"cqg.rtd\", ,\"ContractData\",O587, \"PerCentNetLastTrade\",, \"T\")/100","v":-2.2029214370311884E-2},"https://finance.yahoo.com/quote/VMC",null,{"$error":"#N/A"},2.2029214370311884E-2,null,{"$f":"RTD(\"cqg.rtd\", ,\"ContractData\",O587, \"LongDescription\",, \"T\")","v":"Vulcan Material Co"},null,null,-2.2029214370311884E-2,null,{"$error":"#N/A"},0,null,"",2.2029214370311884E-2,-2.2029214370311884E-2]
[null,null,"S.US.WSO",{"$f":"RTD(\"cqg.rtd\", ,\"ContractData\",C588, \"LongDescription\",, \"T\")","v":"Watsco Inc"},{"$f":"RTD(\"cqg.rtd\", ,\"ContractData\",C588, \"Open\",, \"T\")","v":141.52000000000001},{"$f":"RTD(\"cqg.rtd\", ,\"ContractData\",C588, \"High\",, \"T\")","v":142.58000000000001},{"$f":"RTD(\"cqg.rtd\", ,\"ContractData\",C588, \"Low\",, \"T\")","v":141.25},{"$f":"RTD(\"cqg.rtd\", ,\"ContractData\",C588, \"LastTradeToday\",, \"T\")","v":141.5},{"$f":"RTD(\"cqg.rtd\", ,\"ContractData\",C588, \"NetLastTradeToday\",, \"T\")","v":0.09},{"$f":"IFERROR(RTD(\"cqg.rtd\", ,\"ContractData\",C588, \"PerCentNetLastTrade\",, \"T\")/100,\"\")","v":6.3644721023972835E-4},{"$f":"RTD(\"cqg.rtd\", ,\"ContractData\", C588, \"T_CVol\",, \"T\")","v":162391},588,{"$f":"IFERROR(RANK($J588,$J$1:J$607)+COUNTIF($J$1:J588,J588)-1,\"\")","v":365},"S.US.WSO","S.US.DVN",{"$f":"RTD(\"cqg.rtd\", ,\"ContractData\",O588, \"PerCentNetLastTrade\",, \"T\")/100","v":-2.300370174510841E-2},"https://finance.yahoo.com/quote/DVN",null,{"$error":"#N/A"},2.300370174510841E-2,null,{"$f":"RTD(\"cqg.rtd\", ,\"ContractData\",O588, \"LongDescription\",, \"T\")","v":"Devon Energy Corp"},null,null,-2.300370174510841E-2,null,{"$error":"#N/A"},0,null,"",2.300370174510841E-2,-2.300370174510841E-2]
[null,null,"S.US.WST",{"$f":"RTD(\"cqg.rtd\", ,\"ContractData\",C589, \"LongDescription\",, \"T\")","v":"West Pharmaceuticals Svcs Inc"},{"$f":"RTD(\"cqg.rtd\", ,\"ContractData\",C589, \"Open\",, \"T\")","v":95.49},{"$f":"RTD(\"cqg.rtd\", ,\"ContractData\",C589, \"High\",, \"T\")","v":95.83},{"$f":"RTD(\"cqg.rtd\", ,\"ContractData\",C589, \"Low\",, \"T\")","v":94.42},{"$f":"RTD(\"cqg.rtd\", ,\"ContractData\",C589, \"LastTradeToday\",, \"T\")","v":95.27},{"$f":"RTD(\"cqg.rtd\", ,\"ContractData\",C589, \"NetLastTradeToday\",, \"T\")","v":-0.03},{"$f":"IFERROR(RTD(\"cqg.rtd\", ,\"ContractData\",C589, \"PerCentNetLastTrade\",, \"T\")/100,\"\")","v":-3.1479538300104926E-4},{"$f":"RTD(\"cqg.rtd\", ,\"ContractData\", C589, \"T_CVol\",, \"T\")","v":80068},589,{"$f":"IFERROR(RANK($J589,$J$1:J$607)+COUNTIF($J$1:J589,J589)-1,\"\")","v":395},"S.US.WST","S.US.TSCO",{"$f":"RTD(\"cqg.rtd\", ,\"ContractData\",O589, \"PerCentNetLastTrade\",, \"T\")/100","v":-2.3392890034997237E-2},"https://finance.yahoo.com/quote/TSCO",null,{"$error":"#N/A"},2.3392890034997237E-2,null,{"$f":"RTD(\"cqg.rtd\", ,\"ContractData\",O589, \"LongDescription\",, \"T\")","v":"Tractor Supply Co"},null,null,-2.3392890034997237E-2,null,{"$error":"#N/A"},0,null,"",2.3392890034997237E-2,-2.3392890034997237E-2]
[null,null,"S.US.WU",{"$f":"RTD(\"cqg.rtd\", ,\"ContractData\",C590, \"LongDescription\",, \"T\")","v":"The Western Union Company"},{"$f":"RTD(\"cqg.rtd\", ,\"ContractData\",C590, \"Open\",, \"T\")","v":18.82},{"$f":"RTD(\"cqg.rtd\", ,\"ContractData\",C590, \"High\",, \"T\")","v":19.46},{"$f":"RTD(\"cqg.rtd\", ,\"ContractData\",C590, \"Low\",, \"T\")","v":18.809999999999999},{"$f":"RTD(\"cqg.rtd\", ,\"ContractData\",C590, \"LastTradeToday\",, \"T\")","v":19.260000000000002},{"$f":"RTD(\"cqg.rtd\", ,\"ContractData\",C590, \"NetLastTradeToday\",, \"T\")","v":0.44},{"$f":"IFERROR(RTD(\"cqg.rtd\", ,\"ContractData\",C590, \"PerCentNetLastTrade\",, \"T\")/100,\"\")","v":2.3379383634431455E-2},{"$f":"RTD(\"cqg.rtd\", ,\"ContractData\", C590, \"T_CVol\",, \"T\")","v":2948902},590,{"$f":"IFERROR(RANK($J590,$J$1:J$607)+COUNTIF($J$1:J590,J590)-1,\"\")","v":20},"S.US.WU","S.US.CNK",{"$f":"RTD(\"cqg.rtd\", ,\"ContractData\",O590, \"PerCentNetLastTrade\",, \"T\")/100","v":-2.403728231542801E-2},"https://finance.yahoo.com/quote/CNK",null,{"$error":"#N/A"},2.403728231542801E-2,null,{"$f":"RTD(\"cqg.rtd\", ,\"ContractData\",O590, \"LongDescription\",, \"T\")","v":"Cinemark Holdings, Inc"},null,null,-2.403728231542801E-2,null,{"$error":"#N/A"},0,null,"",2.403728231542801E-2,-2.403728231542801E-2]
[null,null,"S.US.WYN",{"$f":"RTD(\"cqg.rtd\", ,\"ContractData\",C591, \"LongDescription\",, \"T\")","v":"Wyndham Worldwide Corp"},{"$f":"RTD(\"cqg.rtd\", ,\"ContractData\",C591, \"Open\",, \"T\")","v":96.89},{"$f":"RTD(\"cqg.rtd\", ,\"ContractData\",C591, \"High\",, \"T\")","v":97.44},{"$f":"RTD(\"cqg.rtd\", ,\"ContractData\",C591, \"Low\",, \"T\")","v":96.43},{"$f":"RTD(\"cqg.rtd\", ,\"ContractData\",C591, \"LastTradeToday\",, \"T\")","v":97.28},{"$f":"RTD(\"cqg.rtd\", ,\"ContractData\",C591, \"NetLastTradeToday\",, \"T\")","v":0.4},{"$f":"IFERROR(RTD(\"cqg.rtd\", ,\"ContractData\",C591, \"PerCentNetLastTrade\",, \"T\")/100,\"\")","v":4.1288191577208916E-3},{"$f":"RTD(\"cqg.rtd\", ,\"ContractData\", C591, \"T_CVol\",, \"T\")","v":605416},591,{"$f":"IFERROR(RANK($J591,$J$1:J$607)+COUNTIF($J$1:J591,J591)-1,\"\")","v":237},"S.US.WYN","S.US.UHS",{"$f":"RTD(\"cqg.rtd\", ,\"ContractData\",O591, \"PerCentNetLastTrade\",, \"T\")/100","v":-2.4486704813194211E-2},"https://finance.yahoo.com/quote/UHS",null,{"$error":"#N/A"},2.4486704813194211E-2,null,{"$f":"RTD(\"cqg.rtd\", ,\"ContractData\",O591, \"LongDescription\",, \"T\")","v":"Universal Health Svcs ClsB"},null,null,-2.4486704813194211E-2,null,{"$error":"#N/A"},0,null,"",2.4486704813194211E-2,-2.4486704813194211E-2]
[null,null,"S.US.WYNN",{"$f":"RTD(\"cqg.rtd\", ,\"ContractData\",C592, \"LongDescription\",, \"T\")","v":"Wynn Resorts Ltd"},{"$f":"RTD(\"cqg.rtd\", ,\"ContractData\",C592, \"Open\",, \"T\")","v":124.19},{"$f":"RTD(\"cqg.rtd\", ,\"ContractData\",C592, \"High\",, \"T\")","v":124.67},{"$f":"RTD(\"cqg.rtd\", ,\"ContractData\",C592, \"Low\",, \"T\")","v":123.32000000000001},{"$f":"RTD(\"cqg.rtd\", ,\"ContractData\",C592, \"LastTradeToday\",, \"T\")","v":124.08},{"$f":"RTD(\"cqg.rtd\", ,\"ContractData\",C592, \"NetLastTradeToday\",, \"T\")","v":-7.0000000000000007E-2},{"$f":"IFERROR(RTD(\"cqg.rtd\", ,\"ContractData\",C592, \"PerCentNetLastTrade\",, \"T\")/100,\"\")","v":-5.6383407168747489E-4},{"$f":"RTD(\"cqg.rtd\", ,\"ContractData\", C592, \"T_CVol\",, \"T\")","v":634110},592,{"$f":"IFERROR(RANK($J592,$J$1:J$607)+COUNTIF($J$1:J592,J592)-1,\"\")","v":405},"S.US.WYNN","S.US.HEIA",{"$f":"RTD(\"cqg.rtd\", ,\"ContractData\",O592, \"PerCentNetLastTrade\",, \"T\")/100","v":-2.5223759153783564E-2},"https://finance.yahoo.com/quote/HEIA",null,{"$error":"#N/A"},2.5223759153783564E-2,null,{"$f":"RTD(\"cqg.rtd\", ,\"ContractData\",O592, \"LongDescription\",, \"T\")","v":"HEICO Corp ClA"},null,null,-2.5223759153783564E-2,null,{"$error":"#N/A"},0,null,"",2.5223759153783564E-2,-2.5223759153783564E-2]
[null,null,"S.US.XEC",{"$f":"RTD(\"cqg.rtd\", ,\"ContractData\",C593, \"LongDescription\",, \"T\")","v":"Cimarex Energy Co"},{"$f":"RTD(\"cqg.rtd\", ,\"ContractData\",C593, \"Open\",, \"T\")","v":115.27},{"$f":"RTD(\"cqg.rtd\", ,\"ContractData\",C593, \"High\",, \"T\")","v":115.27},{"$f":"RTD(\"cqg.rtd\", ,\"ContractData\",C593, \"Low\",, \"T\")","v":113.25},{"$f":"RTD(\"cqg.rtd\", ,\"ContractData\",C593, \"LastTradeToday\",, \"T\")","v":113.49000000000001},{"$f":"RTD(\"cqg.rtd\", ,\"ContractData\",C593, \"NetLastTradeToday\",, \"T\")","v":-1.5},{"$f":"IFERROR(RTD(\"cqg.rtd\", ,\"ContractData\",C593, \"PerCentNetLastTrade\",, \"T\")/100,\"\")","v":-1.3044612575006522E-2},{"$f":"RTD(\"cqg.rtd\", ,\"ContractData\", C593, \"T_CVol\",, \"T\")","v":658929},593,{"$f":"IFERROR(RANK($J593,$J$1:J$607)+COUNTIF($J$1:J593,J593)-1,\"\")","v":565},"S.US.XEC","S.US.EXP",{"$f":"RTD(\"cqg.rtd\", ,\"ContractData\",O593, \"PerCentNetLastTrade\",, \"T\")/100","v":-2.5591745903297592E-2},"https://finance.yahoo.com/quote/EXP",null,{"$error":"#N/A"},2.5591745903297592E-2,null,{"$f":"RTD(\"cqg.rtd\", ,\"ContractData\",O593, \"LongDescription\",, \"T\")","v":"Eagle Materials Inc"},null,null,-2.5591745903297592E-2,null,{"$error":"#N/A"},0,null,"",2.5591745903297592E-2,-2.5591745903297592E-2]
[null,null,"S.US.XL",{"$f":"RTD(\"cqg.rtd\", ,\"ContractData\",C594, \"LongDescription\",, \"T\")","v":"XL Group plc"},{"$f":"RTD(\"cqg.rtd\", ,\"ContractData\",C594, \"Open\",, \"T\")","v":42.4},{"$f":"RTD(\"cqg.rtd\", ,\"ContractData\",C594, \"High\",, \"T\")","v":42.7},{"$f":"RTD(\"cqg.rtd\", ,\"ContractData\",C594, \"Low\",, \"T\")","v":42.35},{"$f":"RTD(\"cqg.rtd\", ,\"ContractData\",C594, \"LastTradeToday\",, \"T\")","v":42.54},{"$f":"RTD(\"cqg.rtd\", ,\"ContractData\",C594, \"NetLastTradeToday\",, \"T\")","v":0.18},{"$f":"IFERROR(RTD(\"cqg.rtd\", ,\"ContractData\",C594, \"PerCentNetLastTrade\",, \"T\")/100,\"\")","v":4.24929178470255E-3},{"$f":"RTD(\"cqg.rtd\", ,\"ContractData\", C594, \"T_CVol\",, \"T\")","v":504848},594,{"$f":"IFERROR(RANK($J594,$J$1:J$607)+COUNTIF($J$1:J594,J594)-1,\"\")","v":233},"S.US.XL","S.US.LKSD",{"$f":"RTD(\"cqg.rtd\", ,\"ContractData\",O594, \"PerCentNetLastTrade\",, \"T\")/100","v":-2.5711662075298437E-2},"https://finance.yahoo.com/quote/LKSD",null,{"$error":"#N/A"},2.5711662075298437E-2,null,{"$f":"RTD(\"cqg.rtd\", ,\"ContractData\",O594, \"LongDescription\",, \"T\")","v":"LSC Communications, Inc."},null,null,-2.5711662075298437E-2,null,{"$error":"#N/A"},0,null,"",2.5711662075298437E-2,-2.5711662075298437E-2]
[null,null,"S.US.XLNX",{"$f":"RTD(\"cqg.rtd\", ,\"ContractData\",C595, \"LongDescription\",, \"T\")","v":"Xilinx Inc"},{"$f":"RTD(\"cqg.rtd\", ,\"ContractData\",C595, \"Open\",, \"T\")","v":64.38},{"$f":"RTD(\"cqg.rtd\", ,\"ContractData\",C595, \"High\",, \"T\")","v":64.83},{"$f":"RTD(\"cqg.rtd\", ,\"ContractData\",C595, \"Low\",, \"T\")","v":63.93},{"$f":"RTD(\"cqg.rtd\", ,\"ContractData\",C595, \"LastTradeToday\",, \"T\")","v":64.22},{"$f":"RTD(\"cqg.rtd\", ,\"ContractData\",C595, \"NetLastTradeToday\",, \"T\")","v":0.25},{"$f":"IFERROR(RTD(\"cqg.rtd\", ,\"ContractData\",C595, \"PerCentNetLastTrade\",, \"T\")/100,\"\")","v":3.9080819133969049E-3},{"$f":"RTD(\"cqg.rtd\", ,\"ContractData\", C595, \"T_CVol\",, \"T\")","v":1803520},595,{"$f":"IFERROR(RANK($J595,$J$1:J$607)+COUNTIF($J$1:J595,J595)-1,\"\")","v":245},"S.US.XLNX","S.US.LOW",{"$f":"RTD(\"cqg.rtd\", ,\"ContractData\",O595, \"PerCentNetLastTrade\",, \"T\")/100","v":-2.6597036677192133E-2},"https://finance.yahoo.com/quote/LOW",null,{"$error":"#N/A"},2.6597036677192133E-2,null,{"$f":"RTD(\"cqg.rtd\", ,\"ContractData\",O595, \"LongDescription\",, \"T\")","v":"Lowes Companies Inc"},null,null,-2.6597036677192133E-2,null,{"$error":"#N/A"},0,null,"",2.6597036677192133E-2,-2.6597036677192133E-2]
[null,null,"S.US.XOG",{"$f":"RTD(\"cqg.rtd\", ,\"ContractData\",C596, \"LongDescription\",, \"T\")","v":"Extraction Oil & Gas, Inc."},{"$f":"RTD(\"cqg.rtd\", ,\"ContractData\",C596, \"Open\",, \"T\")","v":16.43},{"$f":"RTD(\"cqg.rtd\", ,\"ContractData\",C596, \"High\",, \"T\")","v":16.46},{"$f":"RTD(\"cqg.rtd\", ,\"ContractData\",C596, \"Low\",, \"T\")","v":15.780000000000001},{"$f":"RTD(\"cqg.rtd\", ,\"ContractData\",C596, \"LastTradeToday\",, \"T\")","v":15.83},{"$f":"RTD(\"cqg.rtd\", ,\"ContractData\",C596, \"NetLastTradeToday\",, \"T\")","v":-0.6},{"$f":"IFERROR(RTD(\"cqg.rtd\", ,\"ContractData\",C596, \"PerCentNetLastTrade\",, \"T\")/100,\"\")","v":-3.6518563603164945E-2},{"$f":"RTD(\"cqg.rtd\", ,\"ContractData\", C596, \"T_CVol\",, \"T\")","v":685927},596,{"$f":"IFERROR(RANK($J596,$J$1:J$607)+COUNTIF($J$1:J596,J596)-1,\"\")","v":601},"S.US.XOG","S.US.COG",{"$f":"RTD(\"cqg.rtd\", ,\"ContractData\",O596, \"PerCentNetLastTrade\",, \"T\")/100","v":-2.6751592356687896E-2},"https://finance.yahoo.com/quote/COG",null,{"$error":"#N/A"},2.6751592356687896E-2,null,{"$f":"RTD(\"cqg.rtd\", ,\"ContractData\",O596, \"LongDescription\",, \"T\")","v":"Cabot Oil/Gas Corp"},null,null,-2.6751592356687896E-2,null,{"$error":"#N/A"},0,null,"",2.6751592356687896E-2,-2.6751592356687896E-2]
[null,null,"S.US.XON",{"$f":"RTD(\"cqg.rtd\", ,\"ContractData\",C597, \"LongDescription\",, \"T\")","v":"Intrexon Corporation"},{"$f":"RTD(\"cqg.rtd\", ,\"ContractData\",C597, \"Open\",, \"T\")","v":23},{"$f":"RTD(\"cqg.rtd\", ,\"ContractData\",C597, \"High\",, \"T\")","v":23.64},{"$f":"RTD(\"cqg.rtd\", ,\"ContractData\",C597, \"Low\",, \"T\")","v":22.95},{"$f":"RTD(\"cqg.rtd\", ,\"ContractData\",C597, \"LastTradeToday\",, \"T\")","v":23.27},{"$f":"RTD(\"cqg.rtd\", ,\"ContractData\",C597, \"NetLastTradeToday\",, \"T\")","v":0.34},{"$f":"IFERROR(RTD(\"cqg.rtd\", ,\"ContractData\",C597, \"PerCentNetLastTrade\",, \"T\")/100,\"\")","v":1.4827736589620584E-2},{"$f":"RTD(\"cqg.rtd\", ,\"ContractData\", C597, \"T_CVol\",, \"T\")","v":537514},597,{"$f":"IFERROR(RANK($J597,$J$1:J$607)+COUNTIF($J$1:J597,J597)-1,\"\")","v":56},"S.US.XON","S.US.ALXN",{"$f":"RTD(\"cqg.rtd\", ,\"ContractData\",O597, \"PerCentNetLastTrade\",, \"T\")/100","v":-2.714067278287462E-2},"https://finance.yahoo.com/quote/ALXN",null,{"$error":"#N/A"},2.714067278287462E-2,null,{"$f":"RTD(\"cqg.rtd\", ,\"ContractData\",O597, \"LongDescription\",, \"T\")","v":"Alexion Pharmaceuticals"},null,null,-2.714067278287462E-2,null,{"$error":"#N/A"},0,null,"",2.714067278287462E-2,-2.714067278287462E-2]
[null,null,"S.US.XYL",{"$f":"RTD(\"cqg.rtd\", ,\"ContractData\",C598, \"LongDescription\",, \"T\")","v":"Xylem, Inc."},{"$f":"RTD(\"cqg.rtd\", ,\"ContractData\",C598, \"Open\",, \"T\")","v":52.69},{"$f":"RTD(\"cqg.rtd\", ,\"ContractData\",C598, \"High\",, \"T\")","v":52.97},{"$f":"RTD(\"cqg.rtd\", ,\"ContractData\",C598, \"Low\",, \"T\")","v":52.29},{"$f":"RTD(\"cqg.rtd\", ,\"ContractData\",C598, \"LastTradeToday\",, \"T\")","v":52.51},{"$f":"RTD(\"cqg.rtd\", ,\"ContractData\",C598, \"NetLastTradeToday\",, \"T\")","v":-0.28999999999999998},{"$f":"IFERROR(RTD(\"cqg.rtd\", ,\"ContractData\",C598, \"PerCentNetLastTrade\",, \"T\")/100,\"\")","v":-5.4924242424242422E-3},{"$f":"RTD(\"cqg.rtd\", ,\"ContractData\", C598, \"T_CVol\",, \"T\")","v":210118},598,{"$f":"IFERROR(RANK($J598,$J$1:J$607)+COUNTIF($J$1:J598,J598)-1,\"\")","v":487},"S.US.XYL","S.US.SWN",{"$f":"RTD(\"cqg.rtd\", ,\"ContractData\",O598, \"PerCentNetLastTrade\",, \"T\")/100","v":-2.7181688125894134E-2},"https://finance.yahoo.com/quote/SWN",null,{"$error":"#N/A"},2.7181688125894134E-2,null,{"$f":"RTD(\"cqg.rtd\", ,\"ContractData\",O598, \"LongDescription\",, \"T\")","v":"SOUTHWESTERN ENERGY CO"},null,null,-2.7181688125894134E-2,null,{"$error":"#N/A"},0,null,"",2.7181688125894134E-2,-2.7181688125894134E-2]
[null,null,"S.US.YELP",{"$f":"RTD(\"cqg.rtd\", ,\"ContractData\",C599, \"LongDescription\",, \"T\")","v":"YELP, Inc."},{"$f":"RTD(\"cqg.rtd\", ,\"ContractData\",C599, \"Open\",, \"T\")","v":27.75},{"$f":"RTD(\"cqg.rtd\", ,\"ContractData\",C599, \"High\",, \"T\")","v":27.85},{"$f":"RTD(\"cqg.rtd\", ,\"ContractData\",C599, \"Low\",, \"T\")","v":27.21},{"$f":"RTD(\"cqg.rtd\", ,\"ContractData\",C599, \"LastTradeToday\",, \"T\")","v":27.580000000000002},{"$f":"RTD(\"cqg.rtd\", ,\"ContractData\",C599, \"NetLastTradeToday\",, \"T\")","v":-0.2},{"$f":"IFERROR(RTD(\"cqg.rtd\", ,\"ContractData\",C599, \"PerCentNetLastTrade\",, \"T\")/100,\"\")","v":-7.199424046076314E-3},{"$f":"RTD(\"cqg.rtd\", ,\"ContractData\", C599, \"T_CVol\",, \"T\")","v":2072112},599,{"$f":"IFERROR(RANK($J599,$J$1:J$607)+COUNTIF($J$1:J599,J599)-1,\"\")","v":512},"S.US.YELP","S.US.AGIO",{"$f":"RTD(\"cqg.rtd\", ,\"ContractData\",O599, \"PerCentNetLastTrade\",, \"T\")/100","v":-3.1095551894563426E-2},"https://finance.yahoo.com/quote/AGIO",null,{"$error":"#N/A"},3.1095551894563426E-2,null,{"$f":"RTD(\"cqg.rtd\", ,\"ContractData\",O599, \"LongDescription\",, \"T\")","v":"Agios Pharmaceuticals, Inc."},null,null,-3.1095551894563426E-2,null,{"$error":"#N/A"},0,null,"",3.1095551894563426E-2,-3.1095551894563426E-2]
[null,null,"S.US.YUM",{"$f":"RTD(\"cqg.rtd\", ,\"ContractData\",C600, \"LongDescription\",, \"T\")","v":"Yum Brands Inc"},{"$f":"RTD(\"cqg.rtd\", ,\"ContractData\",C600, \"Open\",, \"T\")","v":70.960000000000008},{"$f":"RTD(\"cqg.rtd\", ,\"ContractData\",C600, \"High\",, \"T\")","v":72.150000000000006},{"$f":"RTD(\"cqg.rtd\", ,\"ContractData\",C600, \"Low\",, \"T\")","v":70.8},{"$f":"RTD(\"cqg.rtd\", ,\"ContractData\",C600, \"LastTradeToday\",, \"T\")","v":72.100000000000009},{"$f":"RTD(\"cqg.rtd\", ,\"ContractData\",C600, \"NetLastTradeToday\",, \"T\")","v":1.18},{"$f":"IFERROR(RTD(\"cqg.rtd\", ,\"ContractData\",C600, \"PerCentNetLastTrade\",, \"T\")/100,\"\")","v":1.6638465877044557E-2},{"$f":"RTD(\"cqg.rtd\", ,\"ContractData\", C600, \"T_CVol\",, \"T\")","v":957174},600,{"$f":"IFERROR(RANK($J600,$J$1:J$607)+COUNTIF($J$1:J600,J600)-1,\"\")","v":44},"S.US.YUM","S.US.HEI",{"$f":"RTD(\"cqg.rtd\", ,\"ContractData\",O600, \"PerCentNetLastTrade\",, \"T\")/100","v":-3.6511970041460479E-2},"https://finance.yahoo.com/quote/HEI",null,{"$error":"#N/A"},3.6511970041460479E-2,null,{"$f":"RTD(\"cqg.rtd\", ,\"ContractData\",O600, \"LongDescription\",, \"T\")","v":"HEICO CORP"},null,null,-3.6511970041460479E-2,null,{"$error":"#N/A"},0,null,"",3.6511970041460479E-2,-3.6511970041460479E-2]
[null,null,"S.US.YUMC",{"$f":"RTD(\"cqg.rtd\", ,\"ContractData\",C601, \"LongDescription\",, \"T\")","v":"Yum China Holdings"},{"$f":"RTD(\"cqg.rtd\", ,\"ContractData\",C601, \"Open\",, \"T\")","v":37.700000000000003},{"$f":"RTD(\"cqg.rtd\", ,\"ContractData\",C601, \"High\",, \"T\")","v":37.910000000000004},{"$f":"RTD(\"cqg.rtd\", ,\"ContractData\",C601, \"Low\",, \"T\")","v":37.29},{"$f":"RTD(\"cqg.rtd\", ,\"ContractData\",C601, \"LastTradeToday\",, \"T\")","v":37.480000000000004},{"$f":"RTD(\"cqg.rtd\", ,\"ContractData\",C601, \"NetLastTradeToday\",, \"T\")","v":-0.19},{"$f":"IFERROR(RTD(\"cqg.rtd\", ,\"ContractData\",C601, \"PerCentNetLastTrade\",, \"T\")/100,\"\")","v":-5.0438014335014601E-3},{"$f":"RTD(\"cqg.rtd\", ,\"ContractData\", C601, \"T_CVol\",, \"T\")","v":1276480},601,{"$f":"IFERROR(RANK($J601,$J$1:J$607)+COUNTIF($J$1:J601,J601)-1,\"\")","v":481},"S.US.YUMC","S.US.XOG",{"$f":"RTD(\"cqg.rtd\", ,\"ContractData\",O601, \"PerCentNetLastTrade\",, \"T\")/100","v":-3.6518563603164945E-2},"https://finance.yahoo.com/quote/XOG",null,{"$error":"#N/A"},3.6518563603164945E-2,null,{"$f":"RTD(\"cqg.rtd\", ,\"ContractData\",O601, \"LongDescription\",, \"T\")","v":"Extraction Oil & Gas, Inc."},null,null,-3.6518563603164945E-2,null,{"$error":"#N/A"},0,null,"",3.6518563603164945E-2,-3.6518563603164945E-2]
[null,null,"S.US.Z",{"$f":"RTD(\"cqg.rtd\", ,\"ContractData\",C602, \"LongDescription\",, \"T\")","v":"Zillow Group, Inc. Class A"},{"$f":"RTD(\"cqg.rtd\", ,\"ContractData\",C602, \"Open\",, \"T\")","v":42.57},{"$f":"RTD(\"cqg.rtd\", ,\"ContractData\",C602, \"High\",, \"T\")","v":43.4},{"$f":"RTD(\"cqg.rtd\", ,\"ContractData\",C602, \"Low\",, \"T\")","v":42.42},{"$f":"RTD(\"cqg.rtd\", ,\"ContractData\",C602, \"LastTradeToday\",, \"T\")","v":43.38},{"$f":"RTD(\"cqg.rtd\", ,\"ContractData\",C602, \"NetLastTradeToday\",, \"T\")","v":0.75},{"$f":"IFERROR(RTD(\"cqg.rtd\", ,\"ContractData\",C602, \"PerCentNetLastTrade\",, \"T\")/100,\"\")","v":1.7593244194229415E-2},{"$f":"RTD(\"cqg.rtd\", ,\"ContractData\", C602, \"T_CVol\",, \"T\")","v":1237431},602,{"$f":"IFERROR(RANK($J602,$J$1:J$607)+COUNTIF($J$1:J602,J602)-1,\"\")","v":38},"S.US.Z","S.US.ULTA",{"$f":"RTD(\"cqg.rtd\", ,\"ContractData\",O602, \"PerCentNetLastTrade\",, \"T\")/100","v":-3.8409912235415594E-2},"https://finance.yahoo.com/quote/ULTA",null,{"$error":"#N/A"},3.8409912235415594E-2,null,{"$f":"RTD(\"cqg.rtd\", ,\"ContractData\",O602, \"LongDescription\",, \"T\")","v":"Ulta Salon Cosmetics & Fragrance Inc"},null,null,-3.8409912235415594E-2,null,{"$error":"#N/A"},0,null,"",3.8409912235415594E-2,-3.8409912235415594E-2]
[null,null,"S.US.ZAYO",{"$f":"RTD(\"cqg.rtd\", ,\"ContractData\",C603, \"LongDescription\",, \"T\")","v":"Zayo Group Holdings, Inc."},{"$f":"RTD(\"cqg.rtd\", ,\"ContractData\",C603, \"Open\",, \"T\")","v":31.69},{"$f":"RTD(\"cqg.rtd\", ,\"ContractData\",C603, \"High\",, \"T\")","v":31.79},{"$f":"RTD(\"cqg.rtd\", ,\"ContractData\",C603, \"Low\",, \"T\")","v":31.52},{"$f":"RTD(\"cqg.rtd\", ,\"ContractData\",C603, \"LastTradeToday\",, \"T\")","v":31.61},{"$f":"RTD(\"cqg.rtd\", ,\"ContractData\",C603, \"NetLastTradeToday\",, \"T\")","v":-0.19},{"$f":"IFERROR(RTD(\"cqg.rtd\", ,\"ContractData\",C603, \"PerCentNetLastTrade\",, \"T\")/100,\"\")","v":-5.974842767295597E-3},{"$f":"RTD(\"cqg.rtd\", ,\"ContractData\", C603, \"T_CVol\",, \"T\")","v":1027508},603,{"$f":"IFERROR(RANK($J603,$J$1:J$607)+COUNTIF($J$1:J603,J603)-1,\"\")","v":494},"S.US.ZAYO","S.US.TROW",{"$f":"RTD(\"cqg.rtd\", ,\"ContractData\",O603, \"PerCentNetLastTrade\",, \"T\")/100","v":-4.3202927103855898E-2},"https://finance.yahoo.com/quote/TROW",null,{"$error":"#N/A"},4.3202927103855898E-2,null,{"$f":"RTD(\"cqg.rtd\", ,\"ContractData\",O603, \"LongDescription\",, \"T\")","v":"T Rowe Price Group Inc"},null,null,-4.3202927103855898E-2,null,{"$error":"#N/A"},0,null,"",4.3202927103855898E-2,-4.3202927103855898E-2]
[null,null,"S.US.ZBH",{"$f":"RTD(\"cqg.rtd\", ,\"ContractData\",C604, \"LongDescription\",, \"T\")","v":"Zimmer Biomet Holdings, Inc"},{"$f":"RTD(\"cqg.rtd\", ,\"ContractData\",C604, \"Open\",, \"T\")","v":117.9},{"$f":"RTD(\"cqg.rtd\", ,\"ContractData\",C604, \"High\",, \"T\")","v":118.66},{"$f":"RTD(\"cqg.rtd\", ,\"ContractData\",C604, \"Low\",, \"T\")","v":117.4},{"$f":"RTD(\"cqg.rtd\", ,\"ContractData\",C604, \"LastTradeToday\",, \"T\")","v":118.57000000000001},{"$f":"RTD(\"cqg.rtd\", ,\"ContractData\",C604, \"NetLastTradeToday\",, \"T\")","v":0.76},{"$f":"IFERROR(RTD(\"cqg.rtd\", ,\"ContractData\",C604, \"PerCentNetLastTrade\",, \"T\")/100,\"\")","v":6.4510652745946861E-3},{"$f":"RTD(\"cqg.rtd\", ,\"ContractData\", C604, \"T_CVol\",, \"T\")","v":487151},604,{"$f":"IFERROR(RANK($J604,$J$1:J$607)+COUNTIF($J$1:J604,J604)-1,\"\")","v":184},"S.US.ZBH","S.US.AAP",{"$f":"RTD(\"cqg.rtd\", ,\"ContractData\",O604, \"PerCentNetLastTrade\",, \"T\")/100","v":-4.9196644390729419E-2},"https://finance.yahoo.com/quote/AAP",null,{"$error":"#N/A"},4.9196644390729419E-2,null,{"$f":"RTD(\"cqg.rtd\", ,\"ContractData\",O604, \"LongDescription\",, \"T\")","v":"Advance Auto Parts Inc"},null,null,-4.9196644390729419E-2,null,{"$error":"#N/A"},0,null,"",4.9196644390729419E-2,-4.9196644390729419E-2]
[null,null,"S.US.ZBRA",{"$f":"RTD(\"cqg.rtd\", ,\"ContractData\",C605, \"LongDescription\",, \"T\")","v":"Zebra Technologies Corp"},{"$f":"RTD(\"cqg.rtd\", ,\"ContractData\",C605, \"Open\",, \"T\")","v":102.05},{"$f":"RTD(\"cqg.rtd\", ,\"ContractData\",C605, \"High\",, \"T\")","v":104.01},{"$f":"RTD(\"cqg.rtd\", ,\"ContractData\",C605, \"Low\",, \"T\")","v":101.99000000000001},{"$f":"RTD(\"cqg.rtd\", ,\"ContractData\",C605, \"LastTradeToday\",, \"T\")","v":103.94},{"$f":"RTD(\"cqg.rtd\", ,\"ContractData\",C605, \"NetLastTradeToday\",, \"T\")","v":1.6600000000000001},{"$f":"IFERROR(RTD(\"cqg.rtd\", ,\"ContractData\",C605, \"PerCentNetLastTrade\",, \"T\")/100,\"\")","v":1.6229956980836919E-2},{"$f":"RTD(\"cqg.rtd\", ,\"ContractData\", C605, \"T_CVol\",, \"T\")","v":190071},605,{"$f":"IFERROR(RANK($J605,$J$1:J$607)+COUNTIF($J$1:J605,J605)-1,\"\")","v":48},"S.US.ZBRA","S.US.ALNY",{"$f":"RTD(\"cqg.rtd\", ,\"ContractData\",O605, \"PerCentNetLastTrade\",, \"T\")/100","v":-5.1422465607052228E-2},"https://finance.yahoo.com/quote/ALNY",null,{"$error":"#N/A"},5.1422465607052228E-2,null,{"$f":"RTD(\"cqg.rtd\", ,\"ContractData\",O605, \"LongDescription\",, \"T\")","v":"Alnylam Pharmaceuticals, Inc."},null,null,-5.1422465607052228E-2,null,{"$error":"#N/A"},0,null,"",5.1422465607052228E-2,-5.1422465607052228E-2]
[null,null,"S.US.ZG",{"$f":"RTD(\"cqg.rtd\", ,\"ContractData\",C606, \"LongDescription\",, \"T\")","v":"Zillow Group, Inc. Class A"},{"$f":"RTD(\"cqg.rtd\", ,\"ContractData\",C606, \"Open\",, \"T\")","v":42.92},{"$f":"RTD(\"cqg.rtd\", ,\"ContractData\",C606, \"High\",, \"T\")","v":43.67},{"$f":"RTD(\"cqg.rtd\", ,\"ContractData\",C606, \"Low\",, \"T\")","v":42.74},{"$f":"RTD(\"cqg.rtd\", ,\"ContractData\",C606, \"LastTradeToday\",, \"T\")","v":43.65},{"$f":"RTD(\"cqg.rtd\", ,\"ContractData\",C606, \"NetLastTradeToday\",, \"T\")","v":0.77},{"$f":"IFERROR(RTD(\"cqg.rtd\", ,\"ContractData\",C606, \"PerCentNetLastTrade\",, \"T\")/100,\"\")","v":1.7957089552238806E-2},{"$f":"RTD(\"cqg.rtd\", ,\"ContractData\", C606, \"T_CVol\",, \"T\")","v":345597},606,{"$f":"IFERROR(RANK($J606,$J$1:J$607)+COUNTIF($J$1:J606,J606)-1,\"\")","v":34},"S.US.ZG",{"$f":"VLOOKUP($L606,$M$1:$N$607,2,FALSE)","v":"S.US.SIG"},{"$f":"RTD(\"cqg.rtd\", ,\"ContractData\",O606, \"PerCentNetLastTrade\",, \"T\")/100","v":-6.9886947584789305E-2},"https://finance.yahoo.com/quote/SIG",null,{"$error":"#N/A"},6.9886947584789305E-2,null,{"$f":"RTD(\"cqg.rtd\", ,\"ContractData\",O606, \"LongDescription\",, \"T\")","v":"Signet Jewelers Limited"},null,null,-6.9886947584789305E-2,null,{"$error":"#N/A"},0,null,"",6.9886947584789305E-2,-6.9886947584789305E-2]
[null,null,"S.US.ZTS",{"$f":"RTD(\"cqg.rtd\", ,\"ContractData\",C607, \"LongDescription\",, \"T\")","v":"Zoetis Inc"},{"$f":"RTD(\"cqg.rtd\", ,\"ContractData\",C607, \"Open\",, \"T\")","v":61.43},{"$f":"RTD(\"cqg.rtd\", ,\"ContractData\",C607, \"High\",, \"T\")","v":62.39},{"$f":"RTD(\"cqg.rtd\", ,\"ContractData\",C607, \"Low\",, \"T\")","v":61.39},{"$f":"RTD(\"cqg.rtd\", ,\"ContractData\",C607, \"LastTradeToday\",, \"T\")","v":62.32},{"$f":"RTD(\"cqg.rtd\", ,\"ContractData\",C607, \"NetLastTradeToday\",, \"T\")","v":0.89},{"$f":"IFERROR(RTD(\"cqg.rtd\", ,\"ContractData\",C607, \"PerCentNetLastTrade\",, \"T\")/100,\"\")","v":1.4488035161972977E-2},{"$f":"RTD(\"cqg.rtd\", ,\"ContractData\", C607, \"T_CVol\",, \"T\")","v":1951731},607,{"$f":"IFERROR(RANK($J607,$J$1:J$607)+COUNTIF($J$1:J607,J607)-1,\"\")","v":57},"S.US.ZTS","S.US.NBIX",{"$f":"RTD(\"cqg.rtd\", ,\"ContractData\",O607, \"PerCentNetLastTrade\",, \"T\")/100","v":-8.948253315897628E-2},"https://finance.yahoo.com/quote/NBIX",null,{"$error":"#N/A"},8.948253315897628E-2,null,{"$f":"RTD(\"cqg.rtd\", ,\"ContractData\",O607, \"LongDescription\",, \"T\")","v":"Neurocrine Biosciences Inc"},null,null,-8.948253315897628E-2,null,{"$error":"#N/A"},0,null,"",8.948253315897628E-2,-8.948253315897628E-2]
[null,null,null,null,null,null,null,null,null,null,null,null,null,null,null,null,null,null,null,null,null,null,null,null,null,null,null,{"$f":"SUM(AB1:AB607)/607","v":0.63756177924217461}]
[]
[null,null,null,null,null,null,null,null,null,null,{"$f":"IFERROR(O607,1)","v":"S.US.NBIX"}]