{"text_format":"1","workbook":"xlsx","n_sheets":2,"sheets":["Display","XME"],"not_rendered":{"charts":1,"images":3,"macros":1,"external_links":0,"defined_names":0,"comments":0,"pivot_tables":0},"unopened":[],"bounds":{"document_bytes":16777216,"sheet_cells":100000,"rows_first":2000,"rows_last":500,"rows_between":2000,"halvings":0,"cell_chars":16384,"cell_head_chars":4096},"cells_cut":0,"cells_raw":0,"read":"whole","date_system":"1900"}

{"sheet":"Display","index":0,"n_rows":52,"n_cols":28,"rows_kept":52,"cut":false,"hidden":false,"merged":[[20,2,20,6],[20,14,20,15],[9,14,9,15],[9,2,9,6],[6,2,6,6],[7,2,7,6],[8,2,8,6],[14,2,14,6],[10,2,10,6],[11,2,11,6],[12,2,12,6],[13,2,13,6],[21,2,21,6],[21,14,21,15],[1,1,2,4],[1,27,2,30],[1,5,2,26],[4,18,4,30],[17,2,17,6],[17,14,17,15],[15,2,15,6],[5,2,5,6],[15,14,15,15],[14,14,14,15],[13,14,13,15],[12,14,12,15],[11,14,11,15],[10,14,10,15],[5,14,5,15],[4,1,4,16],[18,2,18,6],[18,14,18,15],[19,2,19,6],[19,14,19,15],[16,2,16,6],[16,14,16,15],[8,14,8,15],[7,14,7,15],[6,14,6,15],[22,2,22,6],[22,14,22,15],[23,2,23,6],[23,14,23,15],[24,2,24,6],[24,14,24,15],[25,2,25,6],[25,14,25,15],[26,2,26,6],[26,14,26,15],[27,2,27,6],[27,14,27,15],[28,2,28,6],[28,14,28,15],[29,2,29,6],[29,14,29,15],[30,2,30,6],[30,14,30,15],[31,2,31,6],[31,14,31,15],[33,2,33,6],[33,14,33,15],[34,2,34,6],[34,14,34,15],[32,2,32,6],[32,14,32,15],[44,2,44,6],[44,14,44,15],[45,2,45,6],[45,14,45,15],[40,2,40,6],[40,14,40,15],[42,2,42,6],[42,14,42,15],[41,2,41,6],[41,14,41,15],[43,2,43,6],[43,14,43,15],[48,25,48,30],[35,2,35,6],[35,14,35,15],[36,2,36,6],[36,14,36,15],[48,9,48,24],[46,2,46,6],[46,14,46,15],[47,2,47,6],[47,14,47,15],[37,2,37,6],[37,14,37,15],[38,2,38,6],[38,14,38,15],[39,2,39,6],[39,14,39,15]]}
[]
[null,null,null,null,null,"CQG SPDR S&P Metals & Mining ETF",null,null,null,null,null,null,null,null,null,null,null,null,null,null,null,null,null,null,null,null,null,{"$f":"RTD(\"cqg.rtd\", ,\"SystemInfo\", \"Linetime\")","v":45884.357152777775}]
[]
[]
[null,"Exchange Traded Funds Performance",null,null,null,null,null,null,null,null,null,null,null,null,null,null,null,null,"Today's Ranked Performance"]
[null,"Symbol","Description",null,null,null,null,"Last","NC","%NC","NC/ATR","Open","High","Low","Volume",null,"Ratio"]
[null,"S.XME",{"$f":"RTD(\"cqg.rtd\", ,\"ContractData\",B7, \"LongDescription\",, \"T\")","v":"SPDR S&P Metals & Mining ETF"},null,null,null,null,{"$f":"RTD(\"cqg.rtd\", ,\"ContractData\",B7, \"LastTradeToday\",, \"T\")","v":80.7},{"$f":"RTD(\"cqg.rtd\", ,\"ContractData\",B7, \"NetLastTradeToday\",, \"T\")","v":0.09},{"$f":"IFERROR(RTD(\"cqg.rtd\", ,\"ContractData\",B7, \"PerCentNetLastTrade\",, \"T\")/100,\"\")","v":1.1164867882396724E-3},{"$f":"IFERROR(I7/RTD(\"cqg.rtd\",,\"StudyData\",B7, \"ATR\", \"MaType=Sim,Period=10\", \"ATR\",\"D\",\"-1\",\"ALL\",,,\"FALSE\",\"T\")/100,\"\")","v":4.4798407167745148E-4},{"$f":"RTD(\"cqg.rtd\", ,\"ContractData\",B7, \"OPen\",, \"T\")","v":81.02},{"$f":"RTD(\"cqg.rtd\", ,\"ContractData\", B7, \"HIgh\",, \"T\")","v":81.02},{"$f":"RTD(\"cqg.rtd\", ,\"ContractData\",B7, \"LOw\",, \"T\")","v":80.540000000000006},{"$f":"RTD(\"cqg.rtd\", ,\"ContractData\",B7, \"T_CVol\",, \"T\")","v":79735},null,{"$f":" IFERROR(O7/RTD(\"cqg.rtd\",,\"StudyData\",B7, \"MA\", \"InputChoice=Vol,MAType=Sim,Period=21\", \"MA\",\"D\",\"-1\",\"all\",,,,\"T\"),\"\")","v":3.784680757979042E-2}]
[null,"SPY",{"$f":"RTD(\"cqg.rtd\", ,\"ContractData\",B8, \"LongDescription\",, \"T\")","v":"SPDR S&P 500"},null,null,null,null,{"$f":"RTD(\"cqg.rtd\", ,\"ContractData\",B8, \"LastTradeToday\",, \"T\")","v":645.41999999999996},{"$f":"RTD(\"cqg.rtd\", ,\"ContractData\",B8, \"NetLastTradeToday\",, \"T\")","v":1.19},{"$f":"IFERROR(RTD(\"cqg.rtd\", ,\"ContractData\",B8, \"PerCentNetLastTrade\",, \"T\")/100,\"\")","v":1.8471663846762801E-3},{"$f":"IFERROR(I8/RTD(\"cqg.rtd\",,\"StudyData\",B8, \"ATR\", \"MaType=Sim,Period=10\", \"ATR\",\"D\",\"-1\",\"ALL\",,,\"FALSE\",\"T\")/100,\"\")","v":1.8466790813159528E-3},{"$f":"RTD(\"cqg.rtd\", ,\"ContractData\",B8, \"OPen\",, \"T\")","v":645.99},{"$f":"RTD(\"cqg.rtd\", ,\"ContractData\", B8, \"HIgh\",, \"T\")","v":646.09},{"$f":"RTD(\"cqg.rtd\", ,\"ContractData\",B8, \"LOw\",, \"T\")","v":645.20000000000005},{"$f":"RTD(\"cqg.rtd\", ,\"ContractData\",B8, \"T_CVol\",, \"T\")","v":2476884},null,{"$f":" IFERROR(O8/RTD(\"cqg.rtd\",,\"StudyData\",B8, \"MA\", \"InputChoice=Vol,MAType=Sim,Period=21\", \"MA\",\"D\",\"-1\",\"all\",,,,\"T\"),\"\")","v":3.5077976716445899E-2}]
[null,"XLF",{"$f":"RTD(\"cqg.rtd\", ,\"ContractData\",B9, \"LongDescription\",, \"T\")","v":"Financial Select Sector SPDR"},null,null,null,null,{"$f":"RTD(\"cqg.rtd\", ,\"ContractData\",B9, \"LastTradeToday\",, \"T\")","v":53.02},{"$f":"RTD(\"cqg.rtd\", ,\"ContractData\",B9, \"NetLastTradeToday\",, \"T\")","v":0.02},{"$f":"IFERROR(RTD(\"cqg.rtd\", ,\"ContractData\",B9, \"PerCentNetLastTrade\",, \"T\")/100,\"\")","v":3.7728730428221094E-4},{"$f":"IFERROR(I9/RTD(\"cqg.rtd\",,\"StudyData\",B9, \"ATR\", \"MaType=Sim,Period=10\", \"ATR\",\"D\",\"-1\",\"ALL\",,,\"FALSE\",\"T\")/100,\"\")","v":3.0534351145038169E-4},{"$f":"RTD(\"cqg.rtd\", ,\"ContractData\",B9, \"OPen\",, \"T\")","v":53.13},{"$f":"RTD(\"cqg.rtd\", ,\"ContractData\", B9, \"HIgh\",, \"T\")","v":53.15},{"$f":"RTD(\"cqg.rtd\", ,\"ContractData\",B9, \"LOw\",, \"T\")","v":53.02},{"$f":"RTD(\"cqg.rtd\", ,\"ContractData\",B9, \"T_CVol\",, \"T\")","v":1230426},null,{"$f":" IFERROR(O9/RTD(\"cqg.rtd\",,\"StudyData\",B9, \"MA\", \"InputChoice=Vol,MAType=Sim,Period=21\", \"MA\",\"D\",\"-1\",\"all\",,,,\"T\"),\"\")","v":3.277439439524038E-2}]
[null,"S.XLY",{"$f":"RTD(\"cqg.rtd\", ,\"ContractData\",B10, \"LongDescription\",, \"T\")","v":"Consumer Discretionary Select SectorSPDR"},null,null,null,null,{"$f":"RTD(\"cqg.rtd\", ,\"ContractData\",B10, \"LastTradeToday\",, \"T\")","v":230.65},{"$f":"RTD(\"cqg.rtd\", ,\"ContractData\",B10, \"NetLastTradeToday\",, \"T\")","v":1.06},{"$f":"IFERROR(RTD(\"cqg.rtd\", ,\"ContractData\",B10, \"PerCentNetLastTrade\",, \"T\")/100,\"\")","v":4.6169258242954835E-3},{"$f":"IFERROR(I10/RTD(\"cqg.rtd\",,\"StudyData\",B10, \"ATR\", \"MaType=Sim,Period=10\", \"ATR\",\"D\",\"-1\",\"ALL\",,,\"FALSE\",\"T\")/100,\"\")","v":3.4527687296416944E-3},{"$f":"RTD(\"cqg.rtd\", ,\"ContractData\",B10, \"OPen\",, \"T\")","v":230.79},{"$f":"RTD(\"cqg.rtd\", ,\"ContractData\", B10, \"HIgh\",, \"T\")","v":231.03},{"$f":"RTD(\"cqg.rtd\", ,\"ContractData\",B10, \"LOw\",, \"T\")","v":230.38},{"$f":"RTD(\"cqg.rtd\", ,\"ContractData\",B10, \"T_CVol\",, \"T\")","v":63660},null,{"$f":" IFERROR(O10/RTD(\"cqg.rtd\",,\"StudyData\",B10, \"MA\", \"InputChoice=Vol,MAType=Sim,Period=21\", \"MA\",\"D\",\"-1\",\"all\",,,,\"T\"),\"\")","v":1.066655892074587E-2}]
[null,"S.FXI",{"$f":"RTD(\"cqg.rtd\", ,\"ContractData\",B11, \"LongDescription\",, \"T\")","v":"iShares China Large-Cap ETF"},null,null,null,null,{"$f":"RTD(\"cqg.rtd\", ,\"ContractData\",B11, \"LastTradeToday\",, \"T\")","v":38.380000000000003},{"$f":"RTD(\"cqg.rtd\", ,\"ContractData\",B11, \"NetLastTradeToday\",, \"T\")","v":0.04},{"$f":"IFERROR(RTD(\"cqg.rtd\", ,\"ContractData\",B11, \"PerCentNetLastTrade\",, \"T\")/100,\"\")","v":1.0432968179447052E-3},{"$f":"IFERROR(I11/RTD(\"cqg.rtd\",,\"StudyData\",B11, \"ATR\", \"MaType=Sim,Period=10\", \"ATR\",\"D\",\"-1\",\"ALL\",,,\"FALSE\",\"T\")/100,\"\")","v":6.6666666666666664E-4},{"$f":"RTD(\"cqg.rtd\", ,\"ContractData\",B11, \"OPen\",, \"T\")","v":38.380000000000003},{"$f":"RTD(\"cqg.rtd\", ,\"ContractData\", B11, \"HIgh\",, \"T\")","v":38.46},{"$f":"RTD(\"cqg.rtd\", ,\"ContractData\",B11, \"LOw\",, \"T\")","v":38.36},{"$f":"RTD(\"cqg.rtd\", ,\"ContractData\",B11, \"T_CVol\",, \"T\")","v":1447021},null,{"$f":" IFERROR(O11/RTD(\"cqg.rtd\",,\"StudyData\",B11, \"MA\", \"InputChoice=Vol,MAType=Sim,Period=21\", \"MA\",\"D\",\"-1\",\"all\",,,,\"T\"),\"\")","v":5.044812188710928E-2}]
[null,"IWF",{"$f":"RTD(\"cqg.rtd\", ,\"ContractData\",B12, \"LongDescription\",, \"T\")","v":"iShares Russell 1000 Growth ETF"},null,null,null,null,{"$f":"RTD(\"cqg.rtd\", ,\"ContractData\",B12, \"LastTradeToday\",, \"T\")","v":450.34000000000003},{"$f":"RTD(\"cqg.rtd\", ,\"ContractData\",B12, \"NetLastTradeToday\",, \"T\")","v":-0.09},{"$f":"IFERROR(RTD(\"cqg.rtd\", ,\"ContractData\",B12, \"PerCentNetLastTrade\",, \"T\")/100,\"\")","v":-1.9980907133183845E-4},{"$f":"IFERROR(I12/RTD(\"cqg.rtd\",,\"StudyData\",B12, \"ATR\", \"MaType=Sim,Period=10\", \"ATR\",\"D\",\"-1\",\"ALL\",,,\"FALSE\",\"T\")/100,\"\")","v":-1.5123508654007729E-4},{"$f":"RTD(\"cqg.rtd\", ,\"ContractData\",B12, \"OPen\",, \"T\")","v":451.18},{"$f":"RTD(\"cqg.rtd\", ,\"ContractData\", B12, \"HIgh\",, \"T\")","v":451.18},{"$f":"RTD(\"cqg.rtd\", ,\"ContractData\",B12, \"LOw\",, \"T\")","v":450.01},{"$f":"RTD(\"cqg.rtd\", ,\"ContractData\",B12, \"T_CVol\",, \"T\")","v":25288},null,{"$f":" IFERROR(O12/RTD(\"cqg.rtd\",,\"StudyData\",B12, \"MA\", \"InputChoice=Vol,MAType=Sim,Period=21\", \"MA\",\"D\",\"-1\",\"all\",,,,\"T\"),\"\")","v":2.485778512906717E-2}]
[null,"IWO",{"$f":"RTD(\"cqg.rtd\", ,\"ContractData\",B13, \"LongDescription\",, \"T\")","v":"iShares Russell 2000 Growth ETF"},null,null,null,null,{"$f":"RTD(\"cqg.rtd\", ,\"ContractData\",B13, \"LastTradeToday\",, \"T\")","v":300.93},{"$f":"RTD(\"cqg.rtd\", ,\"ContractData\",B13, \"NetLastTradeToday\",, \"T\")","v":0.48},{"$f":"IFERROR(RTD(\"cqg.rtd\", ,\"ContractData\",B13, \"PerCentNetLastTrade\",, \"T\")/100,\"\")","v":1.597603594608088E-3},{"$f":"IFERROR(I13/RTD(\"cqg.rtd\",,\"StudyData\",B13, \"ATR\", \"MaType=Sim,Period=10\", \"ATR\",\"D\",\"-1\",\"ALL\",,,\"FALSE\",\"T\")/100,\"\")","v":8.4417868448821666E-4},{"$f":"RTD(\"cqg.rtd\", ,\"ContractData\",B13, \"OPen\",, \"T\")","v":301.60000000000002},{"$f":"RTD(\"cqg.rtd\", ,\"ContractData\", B13, \"HIgh\",, \"T\")","v":301.60000000000002},{"$f":"RTD(\"cqg.rtd\", ,\"ContractData\",B13, \"LOw\",, \"T\")","v":300.78000000000003},{"$f":"RTD(\"cqg.rtd\", ,\"ContractData\",B13, \"T_CVol\",, \"T\")","v":9341},null,{"$f":" IFERROR(O13/RTD(\"cqg.rtd\",,\"StudyData\",B13, \"MA\", \"InputChoice=Vol,MAType=Sim,Period=21\", \"MA\",\"D\",\"-1\",\"all\",,,,\"T\"),\"\")","v":2.6597351559440759E-2}]
[null,"EP",{"$f":"RTD(\"cqg.rtd\", ,\"ContractData\",B14, \"LongDescription\",, \"T\")","v":"E-Mini S&P 500, Sep 25"},null,null,null,null,{"$f":"RTD(\"cqg.rtd\", ,\"ContractData\",B14, \"LastTradeToday\",, \"T\")","v":6490.75},{"$f":"RTD(\"cqg.rtd\", ,\"ContractData\",B14, \"NetLastTradeToday\",, \"T\")","v":0.25},{"$f":"IFERROR(RTD(\"cqg.rtd\", ,\"ContractData\",B14, \"PerCentNetLastTrade\",, \"T\")/100,\"\")","v":3.8517833757029506E-5},{"$f":"IFERROR(I14/RTD(\"cqg.rtd\",,\"StudyData\",B14, \"ATR\", \"MaType=Sim,Period=10\", \"ATR\",\"D\",\"-1\",\"ALL\",,,\"FALSE\",\"T\")/100,\"\")","v":3.3772374197906108E-5},{"$f":"RTD(\"cqg.rtd\", ,\"ContractData\",B14, \"OPen\",, \"T\")","v":6489.25},{"$f":"RTD(\"cqg.rtd\", ,\"ContractData\", B14, \"HIgh\",, \"T\")","v":6508.75},{"$f":"RTD(\"cqg.rtd\", ,\"ContractData\",B14, \"LOw\",, \"T\")","v":6486.75},{"$f":"RTD(\"cqg.rtd\", ,\"ContractData\",B14, \"T_CVol\",, \"T\")","v":187380},null,{"$f":" IFERROR(O14/RTD(\"cqg.rtd\",,\"StudyData\",B14, \"MA\", \"InputChoice=Vol,MAType=Sim,Period=21\", \"MA\",\"D\",\"-1\",\"all\",,,,\"T\"),\"\")","v":0.15074233988467597}]
[null,"XLE",{"$f":"RTD(\"cqg.rtd\", ,\"ContractData\",B15, \"LongDescription\",, \"T\")","v":"Energy Select Sector SPDR"},null,null,null,null,{"$f":"RTD(\"cqg.rtd\", ,\"ContractData\",B15, \"LastTradeToday\",, \"T\")","v":85.710000000000008},{"$f":"RTD(\"cqg.rtd\", ,\"ContractData\",B15, \"NetLastTradeToday\",, \"T\")","v":0.15},{"$f":"IFERROR(RTD(\"cqg.rtd\", ,\"ContractData\",B15, \"PerCentNetLastTrade\",, \"T\")/100,\"\")","v":1.7531556802244039E-3},{"$f":"IFERROR(I15/RTD(\"cqg.rtd\",,\"StudyData\",B15, \"ATR\", \"MaType=Sim,Period=10\", \"ATR\",\"D\",\"-1\",\"ALL\",,,\"FALSE\",\"T\")/100,\"\")","v":1.0231923601637107E-3},{"$f":"RTD(\"cqg.rtd\", ,\"ContractData\",B15, \"OPen\",, \"T\")","v":85.600000000000009},{"$f":"RTD(\"cqg.rtd\", ,\"ContractData\", B15, \"HIgh\",, \"T\")","v":85.8},{"$f":"RTD(\"cqg.rtd\", ,\"ContractData\",B15, \"LOw\",, \"T\")","v":85.41},{"$f":"RTD(\"cqg.rtd\", ,\"ContractData\",B15, \"T_CVol\",, \"T\")","v":902461},null,{"$f":" IFERROR(O15/RTD(\"cqg.rtd\",,\"StudyData\",B15, \"MA\", \"InputChoice=Vol,MAType=Sim,Period=21\", \"MA\",\"D\",\"-1\",\"all\",,,,\"T\"),\"\")","v":5.7420265875636867E-2}]
[null,"USO",{"$f":"RTD(\"cqg.rtd\", ,\"ContractData\",B16, \"LongDescription\",, \"T\")","v":"United States Oil Fund"},null,null,null,null,{"$f":"RTD(\"cqg.rtd\", ,\"ContractData\",B16, \"LastTradeToday\",, \"T\")","v":72.790000000000006},{"$f":"RTD(\"cqg.rtd\", ,\"ContractData\",B16, \"NetLastTradeToday\",, \"T\")","v":-0.88},{"$f":"IFERROR(RTD(\"cqg.rtd\", ,\"ContractData\",B16, \"PerCentNetLastTrade\",, \"T\")/100,\"\")","v":-1.1945160852450116E-2},{"$f":"IFERROR(I16/RTD(\"cqg.rtd\",,\"StudyData\",B16, \"ATR\", \"MaType=Sim,Period=10\", \"ATR\",\"D\",\"-1\",\"ALL\",,,\"FALSE\",\"T\")/100,\"\")","v":-5.0199657729606394E-3},{"$f":"RTD(\"cqg.rtd\", ,\"ContractData\",B16, \"OPen\",, \"T\")","v":73},{"$f":"RTD(\"cqg.rtd\", ,\"ContractData\", B16, \"HIgh\",, \"T\")","v":73},{"$f":"RTD(\"cqg.rtd\", ,\"ContractData\",B16, \"LOw\",, \"T\")","v":72.489999999999995},{"$f":"RTD(\"cqg.rtd\", ,\"ContractData\",B16, \"T_CVol\",, \"T\")","v":295495},null,{"$f":" IFERROR(O16/RTD(\"cqg.rtd\",,\"StudyData\",B16, \"MA\", \"InputChoice=Vol,MAType=Sim,Period=21\", \"MA\",\"D\",\"-1\",\"all\",,,,\"T\"),\"\")","v":5.8353236742508967E-2}]
[null,null,"Ranked Performance",null,null,null,null,"Last","NC","%NC","NC/ATR","Open","High","Low","Volume",null,"Ratio"]
[{"$f":"TRIM(XME!O1)","v":"S.US.NUE"},"News",{"$f":"IFERROR(RTD(\"cqg.rtd\", ,\"ContractData\",A18, \"LongDescription\",, \"T\")&\" (\"&RIGHT(A18,LEN(A18)-5)&\")\",\"\")","v":"Nucor Corp (NUE)"},null,null,null,null,{"$f":"IFERROR(RTD(\"cqg.rtd\", ,\"ContractData\",A18, \"LastTradeToday\",, \"T\"),\"\")","v":148.52000000000001},{"$f":"IFERROR(RTD(\"cqg.rtd\", ,\"ContractData\",A18, \"NetLastTradeToday\",, \"T\"),\"\")","v":4.17},{"$f":"IFERROR(RTD(\"cqg.rtd\", ,\"ContractData\",A18, \"PerCentNetLastTrade\",, \"T\")/100,\"\")","v":2.8888119154832005E-2},{"$f":"IFERROR(I18/RTD(\"cqg.rtd\",,\"StudyData\",A18, \"ATR\", \"MaType=Sim,Period=10\", \"ATR\",\"D\",\"-1\",\"ALL\",,,\"FALSE\",\"T\")/100,\"\")","v":1.1031746031746033E-2},{"$f":"IFERROR(RTD(\"cqg.rtd\", ,\"ContractData\",A18, \"OPen\",, \"T\"),\"\")","v":151},{"$f":"IFERROR(RTD(\"cqg.rtd\", ,\"ContractData\", A18, \"HIgh\",, \"T\"),\"\")","v":151.31},{"$f":"IFERROR(RTD(\"cqg.rtd\", ,\"ContractData\",A18, \"LOw\",, \"T\"),\"\")","v":148.19},{"$f":"IFERROR(RTD(\"cqg.rtd\", ,\"ContractData\",A18, \"T_CVol\",, \"T\"),\"\")","v":328590},null,{"$f":" IFERROR(O18/RTD(\"cqg.rtd\",,\"StudyData\",A18, \"MA\", \"InputChoice=Vol,MAType=Sim,Period=21\", \"MA\",\"D\",\"-1\",\"all\",,,,\"T\"),\"\")","v":0.19538119477342369},{"$f":"XME!R1","v":"https://finance.yahoo.com/quote/NUE"}]
[{"$f":"TRIM(XME!O2)","v":"S.US.STLD"},"News",{"$f":"IFERROR(RTD(\"cqg.rtd\", ,\"ContractData\",A19, \"LongDescription\",, \"T\")&\" (\"&RIGHT(A19,LEN(A19)-5)&\")\",\"\")","v":"Steel Dynamics Inc (STLD)"},null,null,null,null,{"$f":"IFERROR(RTD(\"cqg.rtd\", ,\"ContractData\",A19, \"LastTradeToday\",, \"T\"),\"\")","v":129.36000000000001},{"$f":"IFERROR(RTD(\"cqg.rtd\", ,\"ContractData\",A19, \"NetLastTradeToday\",, \"T\"),\"\")","v":1.8800000000000001},{"$f":"IFERROR(RTD(\"cqg.rtd\", ,\"ContractData\",A19, \"PerCentNetLastTrade\",, \"T\")/100,\"\")","v":1.4747411358644493E-2},{"$f":"IFERROR(I19/RTD(\"cqg.rtd\",,\"StudyData\",A19, \"ATR\", \"MaType=Sim,Period=10\", \"ATR\",\"D\",\"-1\",\"ALL\",,,\"FALSE\",\"T\")/100,\"\")","v":5.4209919261822385E-3},{"$f":"IFERROR(RTD(\"cqg.rtd\", ,\"ContractData\",A19, \"OPen\",, \"T\"),\"\")","v":130.44999999999999},{"$f":"IFERROR(RTD(\"cqg.rtd\", ,\"ContractData\", A19, \"HIgh\",, \"T\"),\"\")","v":131.01},{"$f":"IFERROR(RTD(\"cqg.rtd\", ,\"ContractData\",A19, \"LOw\",, \"T\"),\"\")","v":129.11000000000001},{"$f":"IFERROR(RTD(\"cqg.rtd\", ,\"ContractData\",A19, \"T_CVol\",, \"T\"),\"\")","v":107439},null,{"$f":" IFERROR(O19/RTD(\"cqg.rtd\",,\"StudyData\",A19, \"MA\", \"InputChoice=Vol,MAType=Sim,Period=21\", \"MA\",\"D\",\"-1\",\"all\",,,,\"T\"),\"\")","v":7.98066334310433E-2},{"$f":"XME!R2","v":"https://finance.yahoo.com/quote/STLD"}]
[{"$f":"TRIM(XME!O3)","v":"S.US.CLF"},"News",{"$f":"IFERROR(RTD(\"cqg.rtd\", ,\"ContractData\",A20, \"LongDescription\",, \"T\")&\" (\"&RIGHT(A20,LEN(A20)-5)&\")\",\"\")","v":"Cleveland-Cliffs Inc. (CLF)"},null,null,null,null,{"$f":"IFERROR(RTD(\"cqg.rtd\", ,\"ContractData\",A20, \"LastTradeToday\",, \"T\"),\"\")","v":10.65},{"$f":"IFERROR(RTD(\"cqg.rtd\", ,\"ContractData\",A20, \"NetLastTradeToday\",, \"T\"),\"\")","v":0.09},{"$f":"IFERROR(RTD(\"cqg.rtd\", ,\"ContractData\",A20, \"PerCentNetLastTrade\",, \"T\")/100,\"\")","v":8.5227272727272721E-3},{"$f":"IFERROR(I20/RTD(\"cqg.rtd\",,\"StudyData\",A20, \"ATR\", \"MaType=Sim,Period=10\", \"ATR\",\"D\",\"-1\",\"ALL\",,,\"FALSE\",\"T\")/100,\"\")","v":1.7612524461839529E-3},{"$f":"IFERROR(RTD(\"cqg.rtd\", ,\"ContractData\",A20, \"OPen\",, \"T\"),\"\")","v":10.700000000000001},{"$f":"IFERROR(RTD(\"cqg.rtd\", ,\"ContractData\", A20, \"HIgh\",, \"T\"),\"\")","v":10.73},{"$f":"IFERROR(RTD(\"cqg.rtd\", ,\"ContractData\",A20, \"LOw\",, \"T\"),\"\")","v":10.57},{"$f":"IFERROR(RTD(\"cqg.rtd\", ,\"ContractData\",A20, \"T_CVol\",, \"T\"),\"\")","v":699099},null,{"$f":" IFERROR(O20/RTD(\"cqg.rtd\",,\"StudyData\",A20, \"MA\", \"InputChoice=Vol,MAType=Sim,Period=21\", \"MA\",\"D\",\"-1\",\"all\",,,,\"T\"),\"\")","v":2.7193221840032023E-2},{"$f":"XME!R3","v":"https://finance.yahoo.com/quote/CLF"}]
[{"$f":"TRIM(XME!O4)","v":"S.US.FCX"},"News",{"$f":"IFERROR(RTD(\"cqg.rtd\", ,\"ContractData\",A21, \"LongDescription\",, \"T\")&\" (\"&RIGHT(A21,LEN(A21)-5)&\")\",\"\")","v":"Freeport-McMoRan Inc. (FCX)"},null,null,null,null,{"$f":"IFERROR(RTD(\"cqg.rtd\", ,\"ContractData\",A21, \"LastTradeToday\",, \"T\"),\"\")","v":42.58},{"$f":"IFERROR(RTD(\"cqg.rtd\", ,\"ContractData\",A21, \"NetLastTradeToday\",, \"T\"),\"\")","v":0.3},{"$f":"IFERROR(RTD(\"cqg.rtd\", ,\"ContractData\",A21, \"PerCentNetLastTrade\",, \"T\")/100,\"\")","v":7.0955534531693476E-3},{"$f":"IFERROR(I21/RTD(\"cqg.rtd\",,\"StudyData\",A21, \"ATR\", \"MaType=Sim,Period=10\", \"ATR\",\"D\",\"-1\",\"ALL\",,,\"FALSE\",\"T\")/100,\"\")","v":2.7958993476234857E-3},{"$f":"IFERROR(RTD(\"cqg.rtd\", ,\"ContractData\",A21, \"OPen\",, \"T\"),\"\")","v":42.7},{"$f":"IFERROR(RTD(\"cqg.rtd\", ,\"ContractData\", A21, \"HIgh\",, \"T\"),\"\")","v":42.800000000000004},{"$f":"IFERROR(RTD(\"cqg.rtd\", ,\"ContractData\",A21, \"LOw\",, \"T\"),\"\")","v":42.53},{"$f":"IFERROR(RTD(\"cqg.rtd\", ,\"ContractData\",A21, \"T_CVol\",, \"T\"),\"\")","v":797156},null,{"$f":" IFERROR(O21/RTD(\"cqg.rtd\",,\"StudyData\",A21, \"MA\", \"InputChoice=Vol,MAType=Sim,Period=21\", \"MA\",\"D\",\"-1\",\"all\",,,,\"T\"),\"\")","v":4.6930577887356412E-2},{"$f":"XME!R4","v":"https://finance.yahoo.com/quote/FCX"}]
[{"$f":"TRIM(XME!O5)","v":"S.US.MP"},"News",{"$f":"IFERROR(RTD(\"cqg.rtd\", ,\"ContractData\",A22, \"LongDescription\",, \"T\")&\" (\"&RIGHT(A22,LEN(A22)-5)&\")\",\"\")","v":"MP Materials Corp. (MP)"},null,null,null,null,{"$f":"IFERROR(RTD(\"cqg.rtd\", ,\"ContractData\",A22, \"LastTradeToday\",, \"T\"),\"\")","v":77.100000000000009},{"$f":"IFERROR(RTD(\"cqg.rtd\", ,\"ContractData\",A22, \"NetLastTradeToday\",, \"T\"),\"\")","v":0.52},{"$f":"IFERROR(RTD(\"cqg.rtd\", ,\"ContractData\",A22, \"PerCentNetLastTrade\",, \"T\")/100,\"\")","v":6.7902846696265336E-3},{"$f":"IFERROR(I22/RTD(\"cqg.rtd\",,\"StudyData\",A22, \"ATR\", \"MaType=Sim,Period=10\", \"ATR\",\"D\",\"-1\",\"ALL\",,,\"FALSE\",\"T\")/100,\"\")","v":9.950248756218907E-4},{"$f":"IFERROR(RTD(\"cqg.rtd\", ,\"ContractData\",A22, \"OPen\",, \"T\"),\"\")","v":76.850000000000009},{"$f":"IFERROR(RTD(\"cqg.rtd\", ,\"ContractData\", A22, \"HIgh\",, \"T\"),\"\")","v":77.7},{"$f":"IFERROR(RTD(\"cqg.rtd\", ,\"ContractData\",A22, \"LOw\",, \"T\"),\"\")","v":76.260000000000005},{"$f":"IFERROR(RTD(\"cqg.rtd\", ,\"ContractData\",A22, \"T_CVol\",, \"T\"),\"\")","v":617314},null,{"$f":" IFERROR(O22/RTD(\"cqg.rtd\",,\"StudyData\",A22, \"MA\", \"InputChoice=Vol,MAType=Sim,Period=21\", \"MA\",\"D\",\"-1\",\"all\",,,,\"T\"),\"\")","v":3.8309988287929343E-2},{"$f":"XME!R5","v":"https://finance.yahoo.com/quote/MP"}]
[{"$f":"TRIM(XME!O6)","v":"S.US.MTUS"},"News",{"$f":"IFERROR(RTD(\"cqg.rtd\", ,\"ContractData\",A23, \"LongDescription\",, \"T\")&\" (\"&RIGHT(A23,LEN(A23)-5)&\")\",\"\")","v":"Metallus Inc. (MTUS)"},null,null,null,null,{"$f":"IFERROR(RTD(\"cqg.rtd\", ,\"ContractData\",A23, \"LastTradeToday\",, \"T\"),\"\")","v":16.04},{"$f":"IFERROR(RTD(\"cqg.rtd\", ,\"ContractData\",A23, \"NetLastTradeToday\",, \"T\"),\"\")","v":0.1},{"$f":"IFERROR(RTD(\"cqg.rtd\", ,\"ContractData\",A23, \"PerCentNetLastTrade\",, \"T\")/100,\"\")","v":6.2735257214554582E-3},{"$f":"IFERROR(I23/RTD(\"cqg.rtd\",,\"StudyData\",A23, \"ATR\", \"MaType=Sim,Period=10\", \"ATR\",\"D\",\"-1\",\"ALL\",,,\"FALSE\",\"T\")/100,\"\")","v":1.4598540145985401E-3},{"$f":"IFERROR(RTD(\"cqg.rtd\", ,\"ContractData\",A23, \"OPen\",, \"T\"),\"\")","v":16.010000000000002},{"$f":"IFERROR(RTD(\"cqg.rtd\", ,\"ContractData\", A23, \"HIgh\",, \"T\"),\"\")","v":16.04},{"$f":"IFERROR(RTD(\"cqg.rtd\", ,\"ContractData\",A23, \"LOw\",, \"T\"),\"\")","v":16},{"$f":"IFERROR(RTD(\"cqg.rtd\", ,\"ContractData\",A23, \"T_CVol\",, \"T\"),\"\")","v":27989},null,{"$f":" IFERROR(O23/RTD(\"cqg.rtd\",,\"StudyData\",A23, \"MA\", \"InputChoice=Vol,MAType=Sim,Period=21\", \"MA\",\"D\",\"-1\",\"all\",,,,\"T\"),\"\")","v":7.4896021815030939E-2},{"$f":"XME!R6","v":"https://finance.yahoo.com/quote/MTUS"}]
[{"$f":"TRIM(XME!O7)","v":"S.US.KALU"},"News",{"$f":"IFERROR(RTD(\"cqg.rtd\", ,\"ContractData\",A24, \"LongDescription\",, \"T\")&\" (\"&RIGHT(A24,LEN(A24)-5)&\")\",\"\")","v":"Daiser Aluminum Corporation (KALU)"},null,null,null,null,{"$f":"IFERROR(RTD(\"cqg.rtd\", ,\"ContractData\",A24, \"LastTradeToday\",, \"T\"),\"\")","v":75.960000000000008},{"$f":"IFERROR(RTD(\"cqg.rtd\", ,\"ContractData\",A24, \"NetLastTradeToday\",, \"T\"),\"\")","v":0.42},{"$f":"IFERROR(RTD(\"cqg.rtd\", ,\"ContractData\",A24, \"PerCentNetLastTrade\",, \"T\")/100,\"\")","v":5.5599682287529786E-3},{"$f":"IFERROR(I24/RTD(\"cqg.rtd\",,\"StudyData\",A24, \"ATR\", \"MaType=Sim,Period=10\", \"ATR\",\"D\",\"-1\",\"ALL\",,,\"FALSE\",\"T\")/100,\"\")","v":1.7463617463617464E-3},{"$f":"IFERROR(RTD(\"cqg.rtd\", ,\"ContractData\",A24, \"OPen\",, \"T\"),\"\")","v":75.960000000000008},{"$f":"IFERROR(RTD(\"cqg.rtd\", ,\"ContractData\", A24, \"HIgh\",, \"T\"),\"\")","v":75.960000000000008},{"$f":"IFERROR(RTD(\"cqg.rtd\", ,\"ContractData\",A24, \"LOw\",, \"T\"),\"\")","v":75.960000000000008},{"$f":"IFERROR(RTD(\"cqg.rtd\", ,\"ContractData\",A24, \"T_CVol\",, \"T\"),\"\")","v":13692},null,{"$f":" IFERROR(O24/RTD(\"cqg.rtd\",,\"StudyData\",A24, \"MA\", \"InputChoice=Vol,MAType=Sim,Period=21\", \"MA\",\"D\",\"-1\",\"all\",,,,\"T\"),\"\")","v":9.8319857888050949E-2},{"$f":"XME!R7","v":"https://finance.yahoo.com/quote/KALU"}]
[{"$f":"TRIM(XME!O8)","v":"S.US.IE"},"News",{"$f":"IFERROR(RTD(\"cqg.rtd\", ,\"ContractData\",A25, \"LongDescription\",, \"T\")&\" (\"&RIGHT(A25,LEN(A25)-5)&\")\",\"\")","v":"Ivanhoe Electric Inc. (IE)"},null,null,null,null,{"$f":"IFERROR(RTD(\"cqg.rtd\", ,\"ContractData\",A25, \"LastTradeToday\",, \"T\"),\"\")","v":9.92},{"$f":"IFERROR(RTD(\"cqg.rtd\", ,\"ContractData\",A25, \"NetLastTradeToday\",, \"T\"),\"\")","v":0.04},{"$f":"IFERROR(RTD(\"cqg.rtd\", ,\"ContractData\",A25, \"PerCentNetLastTrade\",, \"T\")/100,\"\")","v":4.048582995951417E-3},{"$f":"IFERROR(I25/RTD(\"cqg.rtd\",,\"StudyData\",A25, \"ATR\", \"MaType=Sim,Period=10\", \"ATR\",\"D\",\"-1\",\"ALL\",,,\"FALSE\",\"T\")/100,\"\")","v":9.0909090909090909E-4},{"$f":"IFERROR(RTD(\"cqg.rtd\", ,\"ContractData\",A25, \"OPen\",, \"T\"),\"\")","v":9.91},{"$f":"IFERROR(RTD(\"cqg.rtd\", ,\"ContractData\", A25, \"HIgh\",, \"T\"),\"\")","v":9.92},{"$f":"IFERROR(RTD(\"cqg.rtd\", ,\"ContractData\",A25, \"LOw\",, \"T\"),\"\")","v":9.91},{"$f":"IFERROR(RTD(\"cqg.rtd\", ,\"ContractData\",A25, \"T_CVol\",, \"T\"),\"\")","v":53917},null,{"$f":" IFERROR(O25/RTD(\"cqg.rtd\",,\"StudyData\",A25, \"MA\", \"InputChoice=Vol,MAType=Sim,Period=21\", \"MA\",\"D\",\"-1\",\"all\",,,,\"T\"),\"\")","v":3.7213781855260454E-2},{"$f":"XME!R8","v":"https://finance.yahoo.com/quote/IE"}]
[{"$f":"TRIM(XME!O9)","v":"S.US.RS"},"News",{"$f":"IFERROR(RTD(\"cqg.rtd\", ,\"ContractData\",A26, \"LongDescription\",, \"T\")&\" (\"&RIGHT(A26,LEN(A26)-5)&\")\",\"\")","v":"Reliance, Inc. (RS)"},null,null,null,null,{"$f":"IFERROR(RTD(\"cqg.rtd\", ,\"ContractData\",A26, \"LastTradeToday\",, \"T\"),\"\")","v":291.40000000000003},{"$f":"IFERROR(RTD(\"cqg.rtd\", ,\"ContractData\",A26, \"NetLastTradeToday\",, \"T\"),\"\")","v":1.1300000000000001},{"$f":"IFERROR(RTD(\"cqg.rtd\", ,\"ContractData\",A26, \"PerCentNetLastTrade\",, \"T\")/100,\"\")","v":3.892927274606401E-3},{"$f":"IFERROR(I26/RTD(\"cqg.rtd\",,\"StudyData\",A26, \"ATR\", \"MaType=Sim,Period=10\", \"ATR\",\"D\",\"-1\",\"ALL\",,,\"FALSE\",\"T\")/100,\"\")","v":2E-3},{"$f":"IFERROR(RTD(\"cqg.rtd\", ,\"ContractData\",A26, \"OPen\",, \"T\"),\"\")","v":291.40000000000003},{"$f":"IFERROR(RTD(\"cqg.rtd\", ,\"ContractData\", A26, \"HIgh\",, \"T\"),\"\")","v":291.40000000000003},{"$f":"IFERROR(RTD(\"cqg.rtd\", ,\"ContractData\",A26, \"LOw\",, \"T\"),\"\")","v":291.40000000000003},{"$f":"IFERROR(RTD(\"cqg.rtd\", ,\"ContractData\",A26, \"T_CVol\",, \"T\"),\"\")","v":3912},null,{"$f":" IFERROR(O26/RTD(\"cqg.rtd\",,\"StudyData\",A26, \"MA\", \"InputChoice=Vol,MAType=Sim,Period=21\", \"MA\",\"D\",\"-1\",\"all\",,,,\"T\"),\"\")","v":8.1263481347641098E-3},{"$f":"XME!R9","v":"https://finance.yahoo.com/quote/RS"}]
[{"$f":"TRIM(XME!O10)","v":"S.US.CNR"},"News",{"$f":"IFERROR(RTD(\"cqg.rtd\", ,\"ContractData\",A27, \"LongDescription\",, \"T\")&\" (\"&RIGHT(A27,LEN(A27)-5)&\")\",\"\")","v":"Core Natural Resources, Inc. (CNR)"},null,null,null,null,{"$f":"IFERROR(RTD(\"cqg.rtd\", ,\"ContractData\",A27, \"LastTradeToday\",, \"T\"),\"\")","v":75},{"$f":"IFERROR(RTD(\"cqg.rtd\", ,\"ContractData\",A27, \"NetLastTradeToday\",, \"T\"),\"\")","v":0.23},{"$f":"IFERROR(RTD(\"cqg.rtd\", ,\"ContractData\",A27, \"PerCentNetLastTrade\",, \"T\")/100,\"\")","v":3.0761000401230442E-3},{"$f":"IFERROR(I27/RTD(\"cqg.rtd\",,\"StudyData\",A27, \"ATR\", \"MaType=Sim,Period=10\", \"ATR\",\"D\",\"-1\",\"ALL\",,,\"FALSE\",\"T\")/100,\"\")","v":5.8598726114649684E-4},{"$f":"IFERROR(RTD(\"cqg.rtd\", ,\"ContractData\",A27, \"OPen\",, \"T\"),\"\")","v":75},{"$f":"IFERROR(RTD(\"cqg.rtd\", ,\"ContractData\", A27, \"HIgh\",, \"T\"),\"\")","v":75.400000000000006},{"$f":"IFERROR(RTD(\"cqg.rtd\", ,\"ContractData\",A27, \"LOw\",, \"T\"),\"\")","v":74.95},{"$f":"IFERROR(RTD(\"cqg.rtd\", ,\"ContractData\",A27, \"T_CVol\",, \"T\"),\"\")","v":31040},null,{"$f":" IFERROR(O27/RTD(\"cqg.rtd\",,\"StudyData\",A27, \"MA\", \"InputChoice=Vol,MAType=Sim,Period=21\", \"MA\",\"D\",\"-1\",\"all\",,,,\"T\"),\"\")","v":3.6929980114103117E-2},{"$f":"XME!R10","v":"https://finance.yahoo.com/quote/CNR"}]
[{"$f":"TRIM(XME!O11)","v":"S.US.WS"},"News",{"$f":"IFERROR(RTD(\"cqg.rtd\", ,\"ContractData\",A28, \"LongDescription\",, \"T\")&\" (\"&RIGHT(A28,LEN(A28)-5)&\")\",\"\")","v":"Worthington Steel, Inc. (WS)"},null,null,null,null,{"$f":"IFERROR(RTD(\"cqg.rtd\", ,\"ContractData\",A28, \"LastTradeToday\",, \"T\"),\"\")","v":32.369999999999997},{"$f":"IFERROR(RTD(\"cqg.rtd\", ,\"ContractData\",A28, \"NetLastTradeToday\",, \"T\"),\"\")","v":0.08},{"$f":"IFERROR(RTD(\"cqg.rtd\", ,\"ContractData\",A28, \"PerCentNetLastTrade\",, \"T\")/100,\"\")","v":2.4775472282440383E-3},{"$f":"IFERROR(I28/RTD(\"cqg.rtd\",,\"StudyData\",A28, \"ATR\", \"MaType=Sim,Period=10\", \"ATR\",\"D\",\"-1\",\"ALL\",,,\"FALSE\",\"T\")/100,\"\")","v":7.874015748031496E-4},{"$f":"IFERROR(RTD(\"cqg.rtd\", ,\"ContractData\",A28, \"OPen\",, \"T\"),\"\")","v":32.47},{"$f":"IFERROR(RTD(\"cqg.rtd\", ,\"ContractData\", A28, \"HIgh\",, \"T\"),\"\")","v":32.47},{"$f":"IFERROR(RTD(\"cqg.rtd\", ,\"ContractData\",A28, \"LOw\",, \"T\"),\"\")","v":32.369999999999997},{"$f":"IFERROR(RTD(\"cqg.rtd\", ,\"ContractData\",A28, \"T_CVol\",, \"T\"),\"\")","v":32794},null,{"$f":" IFERROR(O28/RTD(\"cqg.rtd\",,\"StudyData\",A28, \"MA\", \"InputChoice=Vol,MAType=Sim,Period=21\", \"MA\",\"D\",\"-1\",\"all\",,,,\"T\"),\"\")","v":0.15254192237101663},{"$f":"XME!R11","v":"https://finance.yahoo.com/quote/WS"}]
[{"$f":"TRIM(XME!O12)","v":"S.US.CMC"},"News",{"$f":"IFERROR(RTD(\"cqg.rtd\", ,\"ContractData\",A29, \"LongDescription\",, \"T\")&\" (\"&RIGHT(A29,LEN(A29)-5)&\")\",\"\")","v":"Commercial Metals Co (CMC)"},null,null,null,null,{"$f":"IFERROR(RTD(\"cqg.rtd\", ,\"ContractData\",A29, \"LastTradeToday\",, \"T\"),\"\")","v":57.27},{"$f":"IFERROR(RTD(\"cqg.rtd\", ,\"ContractData\",A29, \"NetLastTradeToday\",, \"T\"),\"\")","v":0.14000000000000001},{"$f":"IFERROR(RTD(\"cqg.rtd\", ,\"ContractData\",A29, \"PerCentNetLastTrade\",, \"T\")/100,\"\")","v":2.4505513740591634E-3},{"$f":"IFERROR(I29/RTD(\"cqg.rtd\",,\"StudyData\",A29, \"ATR\", \"MaType=Sim,Period=10\", \"ATR\",\"D\",\"-1\",\"ALL\",,,\"FALSE\",\"T\")/100,\"\")","v":7.7648363838047707E-4},{"$f":"IFERROR(RTD(\"cqg.rtd\", ,\"ContractData\",A29, \"OPen\",, \"T\"),\"\")","v":57.800000000000004},{"$f":"IFERROR(RTD(\"cqg.rtd\", ,\"ContractData\", A29, \"HIgh\",, \"T\"),\"\")","v":57.800000000000004},{"$f":"IFERROR(RTD(\"cqg.rtd\", ,\"ContractData\",A29, \"LOw\",, \"T\"),\"\")","v":57.27},{"$f":"IFERROR(RTD(\"cqg.rtd\", ,\"ContractData\",A29, \"T_CVol\",, \"T\"),\"\")","v":67602},null,{"$f":" IFERROR(O29/RTD(\"cqg.rtd\",,\"StudyData\",A29, \"MA\", \"InputChoice=Vol,MAType=Sim,Period=21\", \"MA\",\"D\",\"-1\",\"all\",,,,\"T\"),\"\")","v":7.5746602988615533E-2},{"$f":"XME!R12","v":"https://finance.yahoo.com/quote/CMC"}]
[{"$f":"TRIM(XME!O13)","v":"S.US.SPY"},"News",{"$f":"IFERROR(RTD(\"cqg.rtd\", ,\"ContractData\",A30, \"LongDescription\",, \"T\")&\" (\"&RIGHT(A30,LEN(A30)-5)&\")\",\"\")","v":"SPDR S&P 500 (SPY)"},null,null,null,null,{"$f":"IFERROR(RTD(\"cqg.rtd\", ,\"ContractData\",A30, \"LastTradeToday\",, \"T\"),\"\")","v":645.41999999999996},{"$f":"IFERROR(RTD(\"cqg.rtd\", ,\"ContractData\",A30, \"NetLastTradeToday\",, \"T\"),\"\")","v":1.19},{"$f":"IFERROR(RTD(\"cqg.rtd\", ,\"ContractData\",A30, \"PerCentNetLastTrade\",, \"T\")/100,\"\")","v":1.8471663846762801E-3},{"$f":"IFERROR(I30/RTD(\"cqg.rtd\",,\"StudyData\",A30, \"ATR\", \"MaType=Sim,Period=10\", \"ATR\",\"D\",\"-1\",\"ALL\",,,\"FALSE\",\"T\")/100,\"\")","v":1.8466790813159528E-3},{"$f":"IFERROR(RTD(\"cqg.rtd\", ,\"ContractData\",A30, \"OPen\",, \"T\"),\"\")","v":645.99},{"$f":"IFERROR(RTD(\"cqg.rtd\", ,\"ContractData\", A30, \"HIgh\",, \"T\"),\"\")","v":646.09},{"$f":"IFERROR(RTD(\"cqg.rtd\", ,\"ContractData\",A30, \"LOw\",, \"T\"),\"\")","v":645.20000000000005},{"$f":"IFERROR(RTD(\"cqg.rtd\", ,\"ContractData\",A30, \"T_CVol\",, \"T\"),\"\")","v":2476884},null,{"$f":" IFERROR(O30/RTD(\"cqg.rtd\",,\"StudyData\",A30, \"MA\", \"InputChoice=Vol,MAType=Sim,Period=21\", \"MA\",\"D\",\"-1\",\"all\",,,,\"T\"),\"\")","v":3.5077976716445899E-2},{"$f":"XME!R13","v":"https://finance.yahoo.com/quote/SPY"}]
[{"$f":"TRIM(XME!O14)","v":"S.US.MTRN"},"News",{"$f":"IFERROR(RTD(\"cqg.rtd\", ,\"ContractData\",A31, \"LongDescription\",, \"T\")&\" (\"&RIGHT(A31,LEN(A31)-5)&\")\",\"\")","v":"Materion Corporation (MTRN)"},null,null,null,null,{"$f":"IFERROR(RTD(\"cqg.rtd\", ,\"ContractData\",A31, \"LastTradeToday\",, \"T\"),\"\")","v":112.89},{"$f":"IFERROR(RTD(\"cqg.rtd\", ,\"ContractData\",A31, \"NetLastTradeToday\",, \"T\"),\"\")","v":0.2},{"$f":"IFERROR(RTD(\"cqg.rtd\", ,\"ContractData\",A31, \"PerCentNetLastTrade\",, \"T\")/100,\"\")","v":1.7747803709290974E-3},{"$f":"IFERROR(I31/RTD(\"cqg.rtd\",,\"StudyData\",A31, \"ATR\", \"MaType=Sim,Period=10\", \"ATR\",\"D\",\"-1\",\"ALL\",,,\"FALSE\",\"T\")/100,\"\")","v":5.6274620146314026E-4},{"$f":"IFERROR(RTD(\"cqg.rtd\", ,\"ContractData\",A31, \"OPen\",, \"T\"),\"\")","v":112.89},{"$f":"IFERROR(RTD(\"cqg.rtd\", ,\"ContractData\", A31, \"HIgh\",, \"T\"),\"\")","v":112.89},{"$f":"IFERROR(RTD(\"cqg.rtd\", ,\"ContractData\",A31, \"LOw\",, \"T\"),\"\")","v":112.89},{"$f":"IFERROR(RTD(\"cqg.rtd\", ,\"ContractData\",A31, \"T_CVol\",, \"T\"),\"\")","v":11883},null,{"$f":" IFERROR(O31/RTD(\"cqg.rtd\",,\"StudyData\",A31, \"MA\", \"InputChoice=Vol,MAType=Sim,Period=21\", \"MA\",\"D\",\"-1\",\"all\",,,,\"T\"),\"\")","v":4.2357301284707327E-2},{"$f":"XME!R14","v":"https://finance.yahoo.com/quote/MTRN"}]
[{"$f":"TRIM(XME!O15)","v":"S.US.AA"},"News",{"$f":"IFERROR(RTD(\"cqg.rtd\", ,\"ContractData\",A32, \"LongDescription\",, \"T\")&\" (\"&RIGHT(A32,LEN(A32)-5)&\")\",\"\")","v":"ALCOA Inc. (AA)"},null,null,null,null,{"$f":"IFERROR(RTD(\"cqg.rtd\", ,\"ContractData\",A32, \"LastTradeToday\",, \"T\"),\"\")","v":31.34},{"$f":"IFERROR(RTD(\"cqg.rtd\", ,\"ContractData\",A32, \"NetLastTradeToday\",, \"T\"),\"\")","v":0.01},{"$f":"IFERROR(RTD(\"cqg.rtd\", ,\"ContractData\",A32, \"PerCentNetLastTrade\",, \"T\")/100,\"\")","v":3.1918289179699963E-4},{"$f":"IFERROR(I32/RTD(\"cqg.rtd\",,\"StudyData\",A32, \"ATR\", \"MaType=Sim,Period=10\", \"ATR\",\"D\",\"-1\",\"ALL\",,,\"FALSE\",\"T\")/100,\"\")","v":8.2987551867219915E-5},{"$f":"IFERROR(RTD(\"cqg.rtd\", ,\"ContractData\",A32, \"OPen\",, \"T\"),\"\")","v":31.39},{"$f":"IFERROR(RTD(\"cqg.rtd\", ,\"ContractData\", A32, \"HIgh\",, \"T\"),\"\")","v":31.54},{"$f":"IFERROR(RTD(\"cqg.rtd\", ,\"ContractData\",A32, \"LOw\",, \"T\"),\"\")","v":31.330000000000002},{"$f":"IFERROR(RTD(\"cqg.rtd\", ,\"ContractData\",A32, \"T_CVol\",, \"T\"),\"\")","v":158878},null,{"$f":" IFERROR(O32/RTD(\"cqg.rtd\",,\"StudyData\",A32, \"MA\", \"InputChoice=Vol,MAType=Sim,Period=21\", \"MA\",\"D\",\"-1\",\"all\",,,,\"T\"),\"\")","v":2.6086619365647778E-2},{"$f":"XME!R15","v":"https://finance.yahoo.com/quote/AA"}]
[{"$f":"TRIM(XME!O16)","v":"S.US.HCC"},"News",{"$f":"IFERROR(RTD(\"cqg.rtd\", ,\"ContractData\",A33, \"LongDescription\",, \"T\")&\" (\"&RIGHT(A33,LEN(A33)-5)&\")\",\"\")","v":"Warrior Met Coal, Inc. (HCC)"},null,null,null,null,{"$f":"IFERROR(RTD(\"cqg.rtd\", ,\"ContractData\",A33, \"LastTradeToday\",, \"T\"),\"\")","v":61.53},{"$f":"IFERROR(RTD(\"cqg.rtd\", ,\"ContractData\",A33, \"NetLastTradeToday\",, \"T\"),\"\")","v":-0.06},{"$f":"IFERROR(RTD(\"cqg.rtd\", ,\"ContractData\",A33, \"PerCentNetLastTrade\",, \"T\")/100,\"\")","v":-9.7418412079883091E-4},{"$f":"IFERROR(I33/RTD(\"cqg.rtd\",,\"StudyData\",A33, \"ATR\", \"MaType=Sim,Period=10\", \"ATR\",\"D\",\"-1\",\"ALL\",,,\"FALSE\",\"T\")/100,\"\")","v":-1.9607843137254901E-4},{"$f":"IFERROR(RTD(\"cqg.rtd\", ,\"ContractData\",A33, \"OPen\",, \"T\"),\"\")","v":61.59},{"$f":"IFERROR(RTD(\"cqg.rtd\", ,\"ContractData\", A33, \"HIgh\",, \"T\"),\"\")","v":61.59},{"$f":"IFERROR(RTD(\"cqg.rtd\", ,\"ContractData\",A33, \"LOw\",, \"T\"),\"\")","v":61.53},{"$f":"IFERROR(RTD(\"cqg.rtd\", ,\"ContractData\",A33, \"T_CVol\",, \"T\"),\"\")","v":45848},null,{"$f":" IFERROR(O33/RTD(\"cqg.rtd\",,\"StudyData\",A33, \"MA\", \"InputChoice=Vol,MAType=Sim,Period=21\", \"MA\",\"D\",\"-1\",\"all\",,,,\"T\"),\"\")","v":3.5236865858340849E-2},{"$f":"XME!AH1","v":"https://finance.yahoo.com/quote/HCC"}]
[{"$f":"TRIM(XME!O17)","v":"S.US.CMP"},"News",{"$f":"IFERROR(RTD(\"cqg.rtd\", ,\"ContractData\",A34, \"LongDescription\",, \"T\")&\" (\"&RIGHT(A34,LEN(A34)-5)&\")\",\"\")","v":"Compass Minerals Intl (CMP)"},null,null,null,null,{"$f":"IFERROR(RTD(\"cqg.rtd\", ,\"ContractData\",A34, \"LastTradeToday\",, \"T\"),\"\")","v":18.71},{"$f":"IFERROR(RTD(\"cqg.rtd\", ,\"ContractData\",A34, \"NetLastTradeToday\",, \"T\"),\"\")","v":-0.03},{"$f":"IFERROR(RTD(\"cqg.rtd\", ,\"ContractData\",A34, \"PerCentNetLastTrade\",, \"T\")/100,\"\")","v":-1.6008537886872997E-3},{"$f":"IFERROR(I34/RTD(\"cqg.rtd\",,\"StudyData\",A34, \"ATR\", \"MaType=Sim,Period=10\", \"ATR\",\"D\",\"-1\",\"ALL\",,,\"FALSE\",\"T\")/100,\"\")","v":-3.0991735537190085E-4},{"$f":"IFERROR(RTD(\"cqg.rtd\", ,\"ContractData\",A34, \"OPen\",, \"T\"),\"\")","v":18.670000000000002},{"$f":"IFERROR(RTD(\"cqg.rtd\", ,\"ContractData\", A34, \"HIgh\",, \"T\"),\"\")","v":18.71},{"$f":"IFERROR(RTD(\"cqg.rtd\", ,\"ContractData\",A34, \"LOw\",, \"T\"),\"\")","v":18.55},{"$f":"IFERROR(RTD(\"cqg.rtd\", ,\"ContractData\",A34, \"T_CVol\",, \"T\"),\"\")","v":36702},null,{"$f":" IFERROR(O34/RTD(\"cqg.rtd\",,\"StudyData\",A34, \"MA\", \"InputChoice=Vol,MAType=Sim,Period=21\", \"MA\",\"D\",\"-1\",\"all\",,,,\"T\"),\"\")","v":7.5229974783177736E-2},{"$f":"XME!AH2","v":"https://finance.yahoo.com/quote/CMP"}]
[{"$f":"TRIM(XME!O18)","v":"S.US.CDE"},"News",{"$f":"IFERROR(RTD(\"cqg.rtd\", ,\"ContractData\",A35, \"LongDescription\",, \"T\")&\" (\"&RIGHT(A35,LEN(A35)-5)&\")\",\"\")","v":"Coeur Mining Inc Delaware (CDE)"},null,null,null,null,{"$f":"IFERROR(RTD(\"cqg.rtd\", ,\"ContractData\",A35, \"LastTradeToday\",, \"T\"),\"\")","v":11.57},{"$f":"IFERROR(RTD(\"cqg.rtd\", ,\"ContractData\",A35, \"NetLastTradeToday\",, \"T\"),\"\")","v":-0.02},{"$f":"IFERROR(RTD(\"cqg.rtd\", ,\"ContractData\",A35, \"PerCentNetLastTrade\",, \"T\")/100,\"\")","v":-1.7256255392579811E-3},{"$f":"IFERROR(I35/RTD(\"cqg.rtd\",,\"StudyData\",A35, \"ATR\", \"MaType=Sim,Period=10\", \"ATR\",\"D\",\"-1\",\"ALL\",,,\"FALSE\",\"T\")/100,\"\")","v":-3.4722222222222224E-4},{"$f":"IFERROR(RTD(\"cqg.rtd\", ,\"ContractData\",A35, \"OPen\",, \"T\"),\"\")","v":11.66},{"$f":"IFERROR(RTD(\"cqg.rtd\", ,\"ContractData\", A35, \"HIgh\",, \"T\"),\"\")","v":11.66},{"$f":"IFERROR(RTD(\"cqg.rtd\", ,\"ContractData\",A35, \"LOw\",, \"T\"),\"\")","v":11.51},{"$f":"IFERROR(RTD(\"cqg.rtd\", ,\"ContractData\",A35, \"T_CVol\",, \"T\"),\"\")","v":441260},null,{"$f":" IFERROR(O35/RTD(\"cqg.rtd\",,\"StudyData\",A35, \"MA\", \"InputChoice=Vol,MAType=Sim,Period=21\", \"MA\",\"D\",\"-1\",\"all\",,,,\"T\"),\"\")","v":3.5433318315771803E-2},{"$f":"XME!AH3","v":"https://finance.yahoo.com/quote/CDE"}]
[{"$f":"TRIM(XME!O19)","v":"S.US.AMR"},"News",{"$f":"IFERROR(RTD(\"cqg.rtd\", ,\"ContractData\",A36, \"LongDescription\",, \"T\")&\" (\"&RIGHT(A36,LEN(A36)-5)&\")\",\"\")","v":"Alpha Metallurgical Resources, Inc. (AMR)"},null,null,null,null,{"$f":"IFERROR(RTD(\"cqg.rtd\", ,\"ContractData\",A36, \"LastTradeToday\",, \"T\"),\"\")","v":159.17000000000002},{"$f":"IFERROR(RTD(\"cqg.rtd\", ,\"ContractData\",A36, \"NetLastTradeToday\",, \"T\"),\"\")","v":-0.59},{"$f":"IFERROR(RTD(\"cqg.rtd\", ,\"ContractData\",A36, \"PerCentNetLastTrade\",, \"T\")/100,\"\")","v":-3.6930395593390087E-3},{"$f":"IFERROR(I36/RTD(\"cqg.rtd\",,\"StudyData\",A36, \"ATR\", \"MaType=Sim,Period=10\", \"ATR\",\"D\",\"-1\",\"ALL\",,,\"FALSE\",\"T\")/100,\"\")","v":-5.9638127969271202E-4},{"$f":"IFERROR(RTD(\"cqg.rtd\", ,\"ContractData\",A36, \"OPen\",, \"T\"),\"\")","v":159.33000000000001},{"$f":"IFERROR(RTD(\"cqg.rtd\", ,\"ContractData\", A36, \"HIgh\",, \"T\"),\"\")","v":159.33000000000001},{"$f":"IFERROR(RTD(\"cqg.rtd\", ,\"ContractData\",A36, \"LOw\",, \"T\"),\"\")","v":159.17000000000002},{"$f":"IFERROR(RTD(\"cqg.rtd\", ,\"ContractData\",A36, \"T_CVol\",, \"T\"),\"\")","v":12450},null,{"$f":" IFERROR(O36/RTD(\"cqg.rtd\",,\"StudyData\",A36, \"MA\", \"InputChoice=Vol,MAType=Sim,Period=21\", \"MA\",\"D\",\"-1\",\"all\",,,,\"T\"),\"\")","v":2.7868570775617097E-2},{"$f":"XME!AH4","v":"https://finance.yahoo.com/quote/AMR"}]
[{"$f":"TRIM(XME!O20)","v":"S.US.NEM"},"News",{"$f":"IFERROR(RTD(\"cqg.rtd\", ,\"ContractData\",A37, \"LongDescription\",, \"T\")&\" (\"&RIGHT(A37,LEN(A37)-5)&\")\",\"\")","v":"Newmont Goldcorp Corporation (NEM)"},null,null,null,null,{"$f":"IFERROR(RTD(\"cqg.rtd\", ,\"ContractData\",A37, \"LastTradeToday\",, \"T\"),\"\")","v":68.210000000000008},{"$f":"IFERROR(RTD(\"cqg.rtd\", ,\"ContractData\",A37, \"NetLastTradeToday\",, \"T\"),\"\")","v":-0.27},{"$f":"IFERROR(RTD(\"cqg.rtd\", ,\"ContractData\",A37, \"PerCentNetLastTrade\",, \"T\")/100,\"\")","v":-3.942757009345794E-3},{"$f":"IFERROR(I37/RTD(\"cqg.rtd\",,\"StudyData\",A37, \"ATR\", \"MaType=Sim,Period=10\", \"ATR\",\"D\",\"-1\",\"ALL\",,,\"FALSE\",\"T\")/100,\"\")","v":-1.5143017386427371E-3},{"$f":"IFERROR(RTD(\"cqg.rtd\", ,\"ContractData\",A37, \"OPen\",, \"T\"),\"\")","v":68.77},{"$f":"IFERROR(RTD(\"cqg.rtd\", ,\"ContractData\", A37, \"HIgh\",, \"T\"),\"\")","v":68.77},{"$f":"IFERROR(RTD(\"cqg.rtd\", ,\"ContractData\",A37, \"LOw\",, \"T\"),\"\")","v":68.09},{"$f":"IFERROR(RTD(\"cqg.rtd\", ,\"ContractData\",A37, \"T_CVol\",, \"T\"),\"\")","v":554099},null,{"$f":" IFERROR(O37/RTD(\"cqg.rtd\",,\"StudyData\",A37, \"MA\", \"InputChoice=Vol,MAType=Sim,Period=21\", \"MA\",\"D\",\"-1\",\"all\",,,,\"T\"),\"\")","v":4.9995657419397571E-2},{"$f":"XME!AH5","v":"https://finance.yahoo.com/quote/NEM"}]
[{"$f":"TRIM(XME!O21)","v":"S.US.BTU"},"News",{"$f":"IFERROR(RTD(\"cqg.rtd\", ,\"ContractData\",A38, \"LongDescription\",, \"T\")&\" (\"&RIGHT(A38,LEN(A38)-5)&\")\",\"\")","v":"Peabody Energy (BTU)"},null,null,null,null,{"$f":"IFERROR(RTD(\"cqg.rtd\", ,\"ContractData\",A38, \"LastTradeToday\",, \"T\"),\"\")","v":17.89},{"$f":"IFERROR(RTD(\"cqg.rtd\", ,\"ContractData\",A38, \"NetLastTradeToday\",, \"T\"),\"\")","v":-0.08},{"$f":"IFERROR(RTD(\"cqg.rtd\", ,\"ContractData\",A38, \"PerCentNetLastTrade\",, \"T\")/100,\"\")","v":-4.4518642181413468E-3},{"$f":"IFERROR(I38/RTD(\"cqg.rtd\",,\"StudyData\",A38, \"ATR\", \"MaType=Sim,Period=10\", \"ATR\",\"D\",\"-1\",\"ALL\",,,\"FALSE\",\"T\")/100,\"\")","v":-9.1324200913242006E-4},{"$f":"IFERROR(RTD(\"cqg.rtd\", ,\"ContractData\",A38, \"OPen\",, \"T\"),\"\")","v":17.98},{"$f":"IFERROR(RTD(\"cqg.rtd\", ,\"ContractData\", A38, \"HIgh\",, \"T\"),\"\")","v":17.98},{"$f":"IFERROR(RTD(\"cqg.rtd\", ,\"ContractData\",A38, \"LOw\",, \"T\"),\"\")","v":17.850000000000001},{"$f":"IFERROR(RTD(\"cqg.rtd\", ,\"ContractData\",A38, \"T_CVol\",, \"T\"),\"\")","v":80626},null,{"$f":" IFERROR(O38/RTD(\"cqg.rtd\",,\"StudyData\",A38, \"MA\", \"InputChoice=Vol,MAType=Sim,Period=21\", \"MA\",\"D\",\"-1\",\"all\",,,,\"T\"),\"\")","v":1.3931652319838082E-2},{"$f":"XME!AH6","v":"https://finance.yahoo.com/quote/BTU"}]
[{"$f":"TRIM(XME!O22)","v":"S.US.CRS"},"News",{"$f":"IFERROR(RTD(\"cqg.rtd\", ,\"ContractData\",A39, \"LongDescription\",, \"T\")&\" (\"&RIGHT(A39,LEN(A39)-5)&\")\",\"\")","v":"Carpenter Technology Corp (CRS)"},null,null,null,null,{"$f":"IFERROR(RTD(\"cqg.rtd\", ,\"ContractData\",A39, \"LastTradeToday\",, \"T\"),\"\")","v":245.27},{"$f":"IFERROR(RTD(\"cqg.rtd\", ,\"ContractData\",A39, \"NetLastTradeToday\",, \"T\"),\"\")","v":-1.2},{"$f":"IFERROR(RTD(\"cqg.rtd\", ,\"ContractData\",A39, \"PerCentNetLastTrade\",, \"T\")/100,\"\")","v":-4.8687467034527528E-3},{"$f":"IFERROR(I39/RTD(\"cqg.rtd\",,\"StudyData\",A39, \"ATR\", \"MaType=Sim,Period=10\", \"ATR\",\"D\",\"-1\",\"ALL\",,,\"FALSE\",\"T\")/100,\"\")","v":-1.211876388608362E-3},{"$f":"IFERROR(RTD(\"cqg.rtd\", ,\"ContractData\",A39, \"OPen\",, \"T\"),\"\")","v":246.47},{"$f":"IFERROR(RTD(\"cqg.rtd\", ,\"ContractData\", A39, \"HIgh\",, \"T\"),\"\")","v":246.72},{"$f":"IFERROR(RTD(\"cqg.rtd\", ,\"ContractData\",A39, \"LOw\",, \"T\"),\"\")","v":245.27},{"$f":"IFERROR(RTD(\"cqg.rtd\", ,\"ContractData\",A39, \"T_CVol\",, \"T\"),\"\")","v":13568},null,{"$f":" IFERROR(O39/RTD(\"cqg.rtd\",,\"StudyData\",A39, \"MA\", \"InputChoice=Vol,MAType=Sim,Period=21\", \"MA\",\"D\",\"-1\",\"all\",,,,\"T\"),\"\")","v":1.447787222107047E-2},{"$f":"XME!AH7","v":"https://finance.yahoo.com/quote/CRS"}]
[{"$f":"TRIM(XME!O23)","v":"S.US.UEC"},"News",{"$f":"IFERROR(RTD(\"cqg.rtd\", ,\"ContractData\",A40, \"LongDescription\",, \"T\")&\" (\"&RIGHT(A40,LEN(A40)-5)&\")\",\"\")","v":"Uranium Energy Corp (UEC)"},null,null,null,null,{"$f":"IFERROR(RTD(\"cqg.rtd\", ,\"ContractData\",A40, \"LastTradeToday\",, \"T\"),\"\")","v":10.210000000000001},{"$f":"IFERROR(RTD(\"cqg.rtd\", ,\"ContractData\",A40, \"NetLastTradeToday\",, \"T\"),\"\")","v":-0.05},{"$f":"IFERROR(RTD(\"cqg.rtd\", ,\"ContractData\",A40, \"PerCentNetLastTrade\",, \"T\")/100,\"\")","v":-4.8732943469785572E-3},{"$f":"IFERROR(I40/RTD(\"cqg.rtd\",,\"StudyData\",A40, \"ATR\", \"MaType=Sim,Period=10\", \"ATR\",\"D\",\"-1\",\"ALL\",,,\"FALSE\",\"T\")/100,\"\")","v":-8.2781456953642395E-4},{"$f":"IFERROR(RTD(\"cqg.rtd\", ,\"ContractData\",A40, \"OPen\",, \"T\"),\"\")","v":10.25},{"$f":"IFERROR(RTD(\"cqg.rtd\", ,\"ContractData\", A40, \"HIgh\",, \"T\"),\"\")","v":10.33},{"$f":"IFERROR(RTD(\"cqg.rtd\", ,\"ContractData\",A40, \"LOw\",, \"T\"),\"\")","v":10.08},{"$f":"IFERROR(RTD(\"cqg.rtd\", ,\"ContractData\",A40, \"T_CVol\",, \"T\"),\"\")","v":507631},null,{"$f":" IFERROR(O40/RTD(\"cqg.rtd\",,\"StudyData\",A40, \"MA\", \"InputChoice=Vol,MAType=Sim,Period=21\", \"MA\",\"D\",\"-1\",\"all\",,,,\"T\"),\"\")","v":3.5714091641340463E-2},{"$f":"XME!AH8","v":"https://finance.yahoo.com/quote/UEC"}]
[{"$f":"TRIM(XME!O24)","v":"S.US.CENX"},"News",{"$f":"IFERROR(RTD(\"cqg.rtd\", ,\"ContractData\",A41, \"LongDescription\",, \"T\")&\" (\"&RIGHT(A41,LEN(A41)-5)&\")\",\"\")","v":"Century Aluminum Co (CENX)"},null,null,null,null,{"$f":"IFERROR(RTD(\"cqg.rtd\", ,\"ContractData\",A41, \"LastTradeToday\",, \"T\"),\"\")","v":23.43},{"$f":"IFERROR(RTD(\"cqg.rtd\", ,\"ContractData\",A41, \"NetLastTradeToday\",, \"T\"),\"\")","v":-0.13},{"$f":"IFERROR(RTD(\"cqg.rtd\", ,\"ContractData\",A41, \"PerCentNetLastTrade\",, \"T\")/100,\"\")","v":-5.5178268251273345E-3},{"$f":"IFERROR(I41/RTD(\"cqg.rtd\",,\"StudyData\",A41, \"ATR\", \"MaType=Sim,Period=10\", \"ATR\",\"D\",\"-1\",\"ALL\",,,\"FALSE\",\"T\")/100,\"\")","v":-1.157613535173642E-3},{"$f":"IFERROR(RTD(\"cqg.rtd\", ,\"ContractData\",A41, \"OPen\",, \"T\"),\"\")","v":23.650000000000002},{"$f":"IFERROR(RTD(\"cqg.rtd\", ,\"ContractData\", A41, \"HIgh\",, \"T\"),\"\")","v":23.77},{"$f":"IFERROR(RTD(\"cqg.rtd\", ,\"ContractData\",A41, \"LOw\",, \"T\"),\"\")","v":23.41},{"$f":"IFERROR(RTD(\"cqg.rtd\", ,\"ContractData\",A41, \"T_CVol\",, \"T\"),\"\")","v":69094},null,{"$f":" IFERROR(O41/RTD(\"cqg.rtd\",,\"StudyData\",A41, \"MA\", \"InputChoice=Vol,MAType=Sim,Period=21\", \"MA\",\"D\",\"-1\",\"all\",,,,\"T\"),\"\")","v":4.1163953631705948E-2},{"$f":"XME!AH9","v":"https://finance.yahoo.com/quote/CENX"}]
[{"$f":"TRIM(XME!O25)","v":"S.US.RGLD"},"News",{"$f":"IFERROR(RTD(\"cqg.rtd\", ,\"ContractData\",A42, \"LongDescription\",, \"T\")&\" (\"&RIGHT(A42,LEN(A42)-5)&\")\",\"\")","v":"Royal Gold Inc (RGLD)"},null,null,null,null,{"$f":"IFERROR(RTD(\"cqg.rtd\", ,\"ContractData\",A42, \"LastTradeToday\",, \"T\"),\"\")","v":168.64000000000001},{"$f":"IFERROR(RTD(\"cqg.rtd\", ,\"ContractData\",A42, \"NetLastTradeToday\",, \"T\"),\"\")","v":-0.97},{"$f":"IFERROR(RTD(\"cqg.rtd\", ,\"ContractData\",A42, \"PerCentNetLastTrade\",, \"T\")/100,\"\")","v":-5.7190024173103008E-3},{"$f":"IFERROR(I42/RTD(\"cqg.rtd\",,\"StudyData\",A42, \"ATR\", \"MaType=Sim,Period=10\", \"ATR\",\"D\",\"-1\",\"ALL\",,,\"FALSE\",\"T\")/100,\"\")","v":-2.1460176991150441E-3},{"$f":"IFERROR(RTD(\"cqg.rtd\", ,\"ContractData\",A42, \"OPen\",, \"T\"),\"\")","v":169.18},{"$f":"IFERROR(RTD(\"cqg.rtd\", ,\"ContractData\", A42, \"HIgh\",, \"T\"),\"\")","v":170.1},{"$f":"IFERROR(RTD(\"cqg.rtd\", ,\"ContractData\",A42, \"LOw\",, \"T\"),\"\")","v":168.23},{"$f":"IFERROR(RTD(\"cqg.rtd\", ,\"ContractData\",A42, \"T_CVol\",, \"T\"),\"\")","v":55572},null,{"$f":" IFERROR(O42/RTD(\"cqg.rtd\",,\"StudyData\",A42, \"MA\", \"InputChoice=Vol,MAType=Sim,Period=21\", \"MA\",\"D\",\"-1\",\"all\",,,,\"T\"),\"\")","v":6.2066631646625653E-2},{"$f":"XME!AH10","v":"https://finance.yahoo.com/quote/RGLD"}]
[{"$f":"TRIM(XME!O26)","v":"S.US.MUX"},"News",{"$f":"IFERROR(RTD(\"cqg.rtd\", ,\"ContractData\",A43, \"LongDescription\",, \"T\")&\" (\"&RIGHT(A43,LEN(A43)-5)&\")\",\"\")","v":"McEwen Inc. (MUX)"},null,null,null,null,{"$f":"IFERROR(RTD(\"cqg.rtd\", ,\"ContractData\",A43, \"LastTradeToday\",, \"T\"),\"\")","v":10.3},{"$f":"IFERROR(RTD(\"cqg.rtd\", ,\"ContractData\",A43, \"NetLastTradeToday\",, \"T\"),\"\")","v":-0.09},{"$f":"IFERROR(RTD(\"cqg.rtd\", ,\"ContractData\",A43, \"PerCentNetLastTrade\",, \"T\")/100,\"\")","v":-8.6621751684311851E-3},{"$f":"IFERROR(I43/RTD(\"cqg.rtd\",,\"StudyData\",A43, \"ATR\", \"MaType=Sim,Period=10\", \"ATR\",\"D\",\"-1\",\"ALL\",,,\"FALSE\",\"T\")/100,\"\")","v":-2.0501138952164007E-3},{"$f":"IFERROR(RTD(\"cqg.rtd\", ,\"ContractData\",A43, \"OPen\",, \"T\"),\"\")","v":10.26},{"$f":"IFERROR(RTD(\"cqg.rtd\", ,\"ContractData\", A43, \"HIgh\",, \"T\"),\"\")","v":10.33},{"$f":"IFERROR(RTD(\"cqg.rtd\", ,\"ContractData\",A43, \"LOw\",, \"T\"),\"\")","v":10.26},{"$f":"IFERROR(RTD(\"cqg.rtd\", ,\"ContractData\",A43, \"T_CVol\",, \"T\"),\"\")","v":22999},null,{"$f":" IFERROR(O43/RTD(\"cqg.rtd\",,\"StudyData\",A43, \"MA\", \"InputChoice=Vol,MAType=Sim,Period=21\", \"MA\",\"D\",\"-1\",\"all\",,,,\"T\"),\"\")","v":2.6215991820689129E-2},{"$f":"XME!AH11","v":"https://finance.yahoo.com/quote/MUX"}]
[{"$f":"TRIM(XME!O27)","v":"S.US.RYI"},"News",{"$f":"IFERROR(RTD(\"cqg.rtd\", ,\"ContractData\",A44, \"LongDescription\",, \"T\")&\" (\"&RIGHT(A44,LEN(A44)-5)&\")\",\"\")","v":"Ryerson Holding Corporation (RYI)"},null,null,null,null,{"$f":"IFERROR(RTD(\"cqg.rtd\", ,\"ContractData\",A44, \"LastTradeToday\",, \"T\"),\"\")","v":21.71},{"$f":"IFERROR(RTD(\"cqg.rtd\", ,\"ContractData\",A44, \"NetLastTradeToday\",, \"T\"),\"\")","v":-0.2},{"$f":"IFERROR(RTD(\"cqg.rtd\", ,\"ContractData\",A44, \"PerCentNetLastTrade\",, \"T\")/100,\"\")","v":-9.1282519397535358E-3},{"$f":"IFERROR(I44/RTD(\"cqg.rtd\",,\"StudyData\",A44, \"ATR\", \"MaType=Sim,Period=10\", \"ATR\",\"D\",\"-1\",\"ALL\",,,\"FALSE\",\"T\")/100,\"\")","v":-2.3148148148148151E-3},{"$f":"IFERROR(RTD(\"cqg.rtd\", ,\"ContractData\",A44, \"OPen\",, \"T\"),\"\")","v":22.09},{"$f":"IFERROR(RTD(\"cqg.rtd\", ,\"ContractData\", A44, \"HIgh\",, \"T\"),\"\")","v":22.09},{"$f":"IFERROR(RTD(\"cqg.rtd\", ,\"ContractData\",A44, \"LOw\",, \"T\"),\"\")","v":21.71},{"$f":"IFERROR(RTD(\"cqg.rtd\", ,\"ContractData\",A44, \"T_CVol\",, \"T\"),\"\")","v":20426},null,{"$f":" IFERROR(O44/RTD(\"cqg.rtd\",,\"StudyData\",A44, \"MA\", \"InputChoice=Vol,MAType=Sim,Period=21\", \"MA\",\"D\",\"-1\",\"all\",,,,\"T\"),\"\")","v":7.9809593874316964E-2},{"$f":"XME!AH12","v":"https://finance.yahoo.com/quote/RYI"}]
[{"$f":"TRIM(XME!O28)","v":"S.US.HL"},"News",{"$f":"IFERROR(RTD(\"cqg.rtd\", ,\"ContractData\",A45, \"LongDescription\",, \"T\")&\" (\"&RIGHT(A45,LEN(A45)-5)&\")\",\"\")","v":"Hecla Mining Co (HL)"},null,null,null,null,{"$f":"IFERROR(RTD(\"cqg.rtd\", ,\"ContractData\",A45, \"LastTradeToday\",, \"T\"),\"\")","v":7.58},{"$f":"IFERROR(RTD(\"cqg.rtd\", ,\"ContractData\",A45, \"NetLastTradeToday\",, \"T\"),\"\")","v":-0.08},{"$f":"IFERROR(RTD(\"cqg.rtd\", ,\"ContractData\",A45, \"PerCentNetLastTrade\",, \"T\")/100,\"\")","v":-1.0443864229765015E-2},{"$f":"IFERROR(I45/RTD(\"cqg.rtd\",,\"StudyData\",A45, \"ATR\", \"MaType=Sim,Period=10\", \"ATR\",\"D\",\"-1\",\"ALL\",,,\"FALSE\",\"T\")/100,\"\")","v":-2.0671834625322996E-3},{"$f":"IFERROR(RTD(\"cqg.rtd\", ,\"ContractData\",A45, \"OPen\",, \"T\"),\"\")","v":7.67},{"$f":"IFERROR(RTD(\"cqg.rtd\", ,\"ContractData\", A45, \"HIgh\",, \"T\"),\"\")","v":7.71},{"$f":"IFERROR(RTD(\"cqg.rtd\", ,\"ContractData\",A45, \"LOw\",, \"T\"),\"\")","v":7.55},{"$f":"IFERROR(RTD(\"cqg.rtd\", ,\"ContractData\",A45, \"T_CVol\",, \"T\"),\"\")","v":830845},null,{"$f":" IFERROR(O45/RTD(\"cqg.rtd\",,\"StudyData\",A45, \"MA\", \"InputChoice=Vol,MAType=Sim,Period=21\", \"MA\",\"D\",\"-1\",\"all\",,,,\"T\"),\"\")","v":3.8902547293439685E-2},{"$f":"XME!AH13","v":"https://finance.yahoo.com/quote/HL"}]
[{"$f":"TRIM(XME!O29)","v":"S.US.SXC"},"News",{"$f":"IFERROR(RTD(\"cqg.rtd\", ,\"ContractData\",A46, \"LongDescription\",, \"T\")&\" (\"&RIGHT(A46,LEN(A46)-5)&\")\",\"\")","v":"Suncoke Energy, Inc. (SXC)"},null,null,null,null,{"$f":"IFERROR(RTD(\"cqg.rtd\", ,\"ContractData\",A46, \"LastTradeToday\",, \"T\"),\"\")","v":7.72},{"$f":"IFERROR(RTD(\"cqg.rtd\", ,\"ContractData\",A46, \"NetLastTradeToday\",, \"T\"),\"\")","v":-0.11},{"$f":"IFERROR(RTD(\"cqg.rtd\", ,\"ContractData\",A46, \"PerCentNetLastTrade\",, \"T\")/100,\"\")","v":-1.40485312899106E-2},{"$f":"IFERROR(I46/RTD(\"cqg.rtd\",,\"StudyData\",A46, \"ATR\", \"MaType=Sim,Period=10\", \"ATR\",\"D\",\"-1\",\"ALL\",,,\"FALSE\",\"T\")/100,\"\")","v":-3.7414965986394561E-3},{"$f":"IFERROR(RTD(\"cqg.rtd\", ,\"ContractData\",A46, \"OPen\",, \"T\"),\"\")","v":7.75},{"$f":"IFERROR(RTD(\"cqg.rtd\", ,\"ContractData\", A46, \"HIgh\",, \"T\"),\"\")","v":7.75},{"$f":"IFERROR(RTD(\"cqg.rtd\", ,\"ContractData\",A46, \"LOw\",, \"T\"),\"\")","v":7.72},{"$f":"IFERROR(RTD(\"cqg.rtd\", ,\"ContractData\",A46, \"T_CVol\",, \"T\"),\"\")","v":40988},null,{"$f":" IFERROR(O46/RTD(\"cqg.rtd\",,\"StudyData\",A46, \"MA\", \"InputChoice=Vol,MAType=Sim,Period=21\", \"MA\",\"D\",\"-1\",\"all\",,,,\"T\"),\"\")","v":3.6471538363105252E-2},{"$f":"XME!AH14","v":"https://finance.yahoo.com/quote/SXC"}]
[{"$f":"TRIM(XME!O30)","v":"S.US.LEU"},"News",{"$f":"IFERROR(RTD(\"cqg.rtd\", ,\"ContractData\",A47, \"LongDescription\",, \"T\")&\" (\"&RIGHT(A47,LEN(A47)-5)&\")\",\"\")","v":"Centrus Energy Corp. (LEU)"},null,null,null,null,{"$f":"IFERROR(RTD(\"cqg.rtd\", ,\"ContractData\",A47, \"LastTradeToday\",, \"T\"),\"\")","v":184.5},{"$f":"IFERROR(RTD(\"cqg.rtd\", ,\"ContractData\",A47, \"NetLastTradeToday\",, \"T\"),\"\")","v":-4.58},{"$f":"IFERROR(RTD(\"cqg.rtd\", ,\"ContractData\",A47, \"PerCentNetLastTrade\",, \"T\")/100,\"\")","v":-2.4222551301036597E-2},{"$f":"IFERROR(I47/RTD(\"cqg.rtd\",,\"StudyData\",A47, \"ATR\", \"MaType=Sim,Period=10\", \"ATR\",\"D\",\"-1\",\"ALL\",,,\"FALSE\",\"T\")/100,\"\")","v":-2.1052631578947368E-3},{"$f":"IFERROR(RTD(\"cqg.rtd\", ,\"ContractData\",A47, \"OPen\",, \"T\"),\"\")","v":187},{"$f":"IFERROR(RTD(\"cqg.rtd\", ,\"ContractData\", A47, \"HIgh\",, \"T\"),\"\")","v":187.55},{"$f":"IFERROR(RTD(\"cqg.rtd\", ,\"ContractData\",A47, \"LOw\",, \"T\"),\"\")","v":183.68},{"$f":"IFERROR(RTD(\"cqg.rtd\", ,\"ContractData\",A47, \"T_CVol\",, \"T\"),\"\")","v":76031},null,{"$f":" IFERROR(O47/RTD(\"cqg.rtd\",,\"StudyData\",A47, \"MA\", \"InputChoice=Vol,MAType=Sim,Period=21\", \"MA\",\"D\",\"-1\",\"all\",,,,\"T\"),\"\")","v":5.0288130191388294E-2},{"$f":"XME!AH15","v":"https://finance.yahoo.com/quote/LEU"}]
[]
[null,null,"CQG Inc.,   Copyright © 2025",null,null,null,"Designed by Thom Hartle",null,null,"The SPDR® S&P® Metals & Mining ETF seeks to provide investment results that correspond to the  S&P® Metals and Mining Select Industry®.",null,null,null,null,null,null,null,null,null,null,null,null,null,null,null,{"$f":"Z52","v":"50% of the stocks in the ETF are higher today"}]
[]
[null,null,null,null,null,null,null,null,null,null,null,null,null,null,null,null,null,null,null,null,null,null,null,null,null,{"$f":"XME!B99","v":0.5},"of the stocks in the ETF are higher today"]
[null,null,null,null,null,null,null,null,null,null,null,null,null,null,null,null,null,null,null,null,null,null,null,null,null,{"$f":"TEXT(Display!Z51,\"0%\")&\" \"&Display!AA51","v":"50% of the stocks in the ETF are higher today"}]

{"sheet":"XME","index":1,"n_rows":99,"n_cols":34,"rows_kept":99,"cut":false,"hidden":true,"merged":[]}
["S.US.AA",{"$f":"IF(J1>0,1,0)","v":1},"S.US.AA",{"$f":"RTD(\"cqg.rtd\", ,\"ContractData\",C1, \"LongDescription\",, \"T\")","v":"ALCOA Inc."},null,null,null,{"$f":"RTD(\"cqg.rtd\", ,\"ContractData\",C1, \"LastTradeToday\",, \"T\")","v":31.34},{"$f":"RTD(\"cqg.rtd\", ,\"ContractData\",C1, \"NetLastTradeToday\",, \"T\")","v":0.01},{"$f":"IFERROR(RTD(\"cqg.rtd\", ,\"ContractData\",C1, \"PerCentNetLastTrade\",, \"T\")/100,\"\")","v":3.1918289179699963E-4},{"$f":"RTD(\"cqg.rtd\", ,\"ContractData\", C1, \"T_CVol\",, \"T\")","v":158878},1,{"$f":"IFERROR(RANK($J1,$J$1:J$30)+COUNTIF($J$1:J1,J1)-1,\"\")","v":15},{"$f":"C1","v":"S.US.AA"},{"$f":"VLOOKUP($L1,$M$1:$N$30,2,FALSE)","v":"S.US.NUE"},{"$f":"RTD(\"cqg.rtd\", ,\"ContractData\",O1, \"LongDescription\",, \"T\")","v":"Nucor Corp"},{"$f":"IFERROR(RTD(\"cqg.rtd\", ,\"ContractData\",O1, \"PerCentNetLastTrade\",, \"T\")/100,\"\")","v":2.8888119154832005E-2},{"$f":"\"https://finance.yahoo.com/quote/\"&RIGHT(O1,(LEN(O1)-5))","v":"https://finance.yahoo.com/quote/NUE"},null,{"$f":"IF(Q1>=0,Q1,NA())","v":2.8888119154832005E-2},{"$f":"IF(Q1>=0,NA(),-1*Q1)","v":{"$error":"#N/A"}},null,{"$f":"IFERROR(RTD(\"cqg.rtd\", ,\"ContractData\",O1, \"LongDescription\",, \"T\"),\"\")","v":"Nucor Corp"},null,null,{"$f":"IFERROR(T1,Q1)","v":2.8888119154832005E-2},{"$f":"MIN(J1:J30)","v":-2.4222551301036597E-2},16,{"$f":"VLOOKUP($AB1,$M$1:$N$30,2,FALSE)","v":"S.US.HCC"},{"$f":"IFERROR(RTD(\"cqg.rtd\", ,\"ContractData\",AC1, \"PerCentNetLastTrade\",, \"T\")/100,\"\")","v":-9.7418412079883091E-4},{"$f":"IFERROR(RTD(\"cqg.rtd\", ,\"ContractData\",AC1, \"LongDescription\",, \"T\"),\"\")","v":"Warrior Met Coal, Inc."},{"$f":"IFERROR(U1,\"\")","v":""},{"$f":"IFERROR(AD1*-1,\"\")","v":9.7418412079883091E-4},{"$f":"\"https://finance.yahoo.com/quote/\"&RIGHT(AC1,(LEN(AC1)-5))","v":"https://finance.yahoo.com/quote/HCC"}]
["S.US.AMR",{"$f":"IF(J2>0,1,0)","v":0},"S.US.AMR",{"$f":"RTD(\"cqg.rtd\", ,\"ContractData\",C2, \"LongDescription\",, \"T\")","v":"Alpha Metallurgical Resources, Inc."},null,null,null,{"$f":"RTD(\"cqg.rtd\", ,\"ContractData\",C2, \"LastTradeToday\",, \"T\")","v":159.17000000000002},{"$f":"RTD(\"cqg.rtd\", ,\"ContractData\",C2, \"NetLastTradeToday\",, \"T\")","v":-0.59},{"$f":"IFERROR(RTD(\"cqg.rtd\", ,\"ContractData\",C2, \"PerCentNetLastTrade\",, \"T\")/100,\"\")","v":-3.6930395593390087E-3},{"$f":"RTD(\"cqg.rtd\", ,\"ContractData\", C2, \"T_CVol\",, \"T\")","v":12450},{"$f":"L1+1","v":2},{"$f":"IFERROR(RANK($J2,$J$1:J$30)+COUNTIF($J$1:J2,J2)-1,\"\")","v":19},{"$f":"C2","v":"S.US.AMR"},{"$f":"VLOOKUP($L2,$M$1:$N$30,2,FALSE)","v":"S.US.STLD"},{"$f":"RTD(\"cqg.rtd\", ,\"ContractData\",O2, \"LongDescription\",, \"T\")","v":"Steel Dynamics Inc"},{"$f":"IFERROR(RTD(\"cqg.rtd\", ,\"ContractData\",O2, \"PerCentNetLastTrade\",, \"T\")/100,\"\")","v":1.4747411358644493E-2},{"$f":"\"https://finance.yahoo.com/quote/\"&RIGHT(O2,(LEN(O2)-5))","v":"https://finance.yahoo.com/quote/STLD"},null,{"$f":"IF(Q2>=0,Q2,NA())","v":1.4747411358644493E-2},{"$f":"IF(Q2>=0,NA(),-1*Q2)","v":{"$error":"#N/A"}},null,{"$f":"IFERROR(RTD(\"cqg.rtd\", ,\"ContractData\",O2, \"LongDescription\",, \"T\"),\"\")","v":"Steel Dynamics Inc"},null,null,{"$f":"IFERROR(T2,Q2)","v":1.4747411358644493E-2},null,{"$f":"AB1+1","v":17},{"$f":"VLOOKUP($AB2,$M$1:$N$30,2,FALSE)","v":"S.US.CMP"},{"$f":"IFERROR(RTD(\"cqg.rtd\", ,\"ContractData\",AC2, \"PerCentNetLastTrade\",, \"T\")/100,\"\")","v":-1.6008537886872997E-3},{"$f":"IFERROR(RTD(\"cqg.rtd\", ,\"ContractData\",AC2, \"LongDescription\",, \"T\"),\"\")","v":"Compass Minerals Intl"},{"$f":"IFERROR(U2,\"\")","v":""},{"$f":"IFERROR(AD2*-1,\"\")","v":1.6008537886872997E-3},{"$f":"\"https://finance.yahoo.com/quote/\"&RIGHT(AC2,(LEN(AC2)-5))","v":"https://finance.yahoo.com/quote/CMP"}]
["S.US.BTU",0,"S.US.BTU",{"$f":"RTD(\"cqg.rtd\", ,\"ContractData\",C3, \"LongDescription\",, \"T\")","v":"Peabody Energy"},null,null,null,{"$f":"RTD(\"cqg.rtd\", ,\"ContractData\",C3, \"LastTradeToday\",, \"T\")","v":17.89},{"$f":"RTD(\"cqg.rtd\", ,\"ContractData\",C3, \"NetLastTradeToday\",, \"T\")","v":-0.08},{"$f":"IFERROR(RTD(\"cqg.rtd\", ,\"ContractData\",C3, \"PerCentNetLastTrade\",, \"T\")/100,\"\")","v":-4.4518642181413468E-3},{"$f":"RTD(\"cqg.rtd\", ,\"ContractData\", C3, \"T_CVol\",, \"T\")","v":80626},{"$f":"L2+1","v":3},{"$f":"IFERROR(RANK($J3,$J$1:J$30)+COUNTIF($J$1:J3,J3)-1,\"\")","v":21},"S.US.BTU","S.US.CLF",{"$f":"RTD(\"cqg.rtd\", ,\"ContractData\",O3, \"LongDescription\",, \"T\")","v":"Cleveland-Cliffs Inc."},{"$f":"IFERROR(RTD(\"cqg.rtd\", ,\"ContractData\",O3, \"PerCentNetLastTrade\",, \"T\")/100,\"\")","v":8.5227272727272721E-3},"https://finance.yahoo.com/quote/CLF",null,8.5227272727272721E-3,{"$error":"#N/A"},null,{"$f":"IFERROR(RTD(\"cqg.rtd\", ,\"ContractData\",O3, \"LongDescription\",, \"T\"),\"\")","v":"Cleveland-Cliffs Inc."},null,null,8.5227272727272721E-3,null,{"$f":"AB2+1","v":18},"S.US.CDE",{"$f":"IFERROR(RTD(\"cqg.rtd\", ,\"ContractData\",AC3, \"PerCentNetLastTrade\",, \"T\")/100,\"\")","v":-1.7256255392579811E-3},{"$f":"IFERROR(RTD(\"cqg.rtd\", ,\"ContractData\",AC3, \"LongDescription\",, \"T\"),\"\")","v":"Coeur Mining Inc Delaware"},"",1.7256255392579811E-3,"https://finance.yahoo.com/quote/CDE"]
["S.US.CDE",0,"S.US.CDE",{"$f":"RTD(\"cqg.rtd\", ,\"ContractData\",C4, \"LongDescription\",, \"T\")","v":"Coeur Mining Inc Delaware"},null,null,null,{"$f":"RTD(\"cqg.rtd\", ,\"ContractData\",C4, \"LastTradeToday\",, \"T\")","v":11.57},{"$f":"RTD(\"cqg.rtd\", ,\"ContractData\",C4, \"NetLastTradeToday\",, \"T\")","v":-0.02},{"$f":"IFERROR(RTD(\"cqg.rtd\", ,\"ContractData\",C4, \"PerCentNetLastTrade\",, \"T\")/100,\"\")","v":-1.7256255392579811E-3},{"$f":"RTD(\"cqg.rtd\", ,\"ContractData\", C4, \"T_CVol\",, \"T\")","v":441260},4,{"$f":"IFERROR(RANK($J4,$J$1:J$30)+COUNTIF($J$1:J4,J4)-1,\"\")","v":18},"S.US.CDE","S.US.FCX",{"$f":"RTD(\"cqg.rtd\", ,\"ContractData\",O4, \"LongDescription\",, \"T\")","v":"Freeport-McMoRan Inc."},{"$f":"IFERROR(RTD(\"cqg.rtd\", ,\"ContractData\",O4, \"PerCentNetLastTrade\",, \"T\")/100,\"\")","v":7.0955534531693476E-3},"https://finance.yahoo.com/quote/FCX",null,7.0955534531693476E-3,{"$error":"#N/A"},null,{"$f":"IFERROR(RTD(\"cqg.rtd\", ,\"ContractData\",O4, \"LongDescription\",, \"T\"),\"\")","v":"Freeport-McMoRan Inc."},null,null,7.0955534531693476E-3,null,19,"S.US.AMR",{"$f":"IFERROR(RTD(\"cqg.rtd\", ,\"ContractData\",AC4, \"PerCentNetLastTrade\",, \"T\")/100,\"\")","v":-3.6930395593390087E-3},{"$f":"IFERROR(RTD(\"cqg.rtd\", ,\"ContractData\",AC4, \"LongDescription\",, \"T\"),\"\")","v":"Alpha Metallurgical Resources, Inc."},"",3.6930395593390087E-3,"https://finance.yahoo.com/quote/AMR"]
["S.US.CENX",0,"S.US.CENX",{"$f":"RTD(\"cqg.rtd\", ,\"ContractData\",C5, \"LongDescription\",, \"T\")","v":"Century Aluminum Co"},null,null,null,{"$f":"RTD(\"cqg.rtd\", ,\"ContractData\",C5, \"LastTradeToday\",, \"T\")","v":23.43},{"$f":"RTD(\"cqg.rtd\", ,\"ContractData\",C5, \"NetLastTradeToday\",, \"T\")","v":-0.13},{"$f":"IFERROR(RTD(\"cqg.rtd\", ,\"ContractData\",C5, \"PerCentNetLastTrade\",, \"T\")/100,\"\")","v":-5.5178268251273345E-3},{"$f":"RTD(\"cqg.rtd\", ,\"ContractData\", C5, \"T_CVol\",, \"T\")","v":69094},5,{"$f":"IFERROR(RANK($J5,$J$1:J$30)+COUNTIF($J$1:J5,J5)-1,\"\")","v":24},"S.US.CENX","S.US.MP",{"$f":"RTD(\"cqg.rtd\", ,\"ContractData\",O5, \"LongDescription\",, \"T\")","v":"MP Materials Corp."},{"$f":"IFERROR(RTD(\"cqg.rtd\", ,\"ContractData\",O5, \"PerCentNetLastTrade\",, \"T\")/100,\"\")","v":6.7902846696265336E-3},"https://finance.yahoo.com/quote/MP",null,6.7902846696265336E-3,{"$error":"#N/A"},null,{"$f":"IFERROR(RTD(\"cqg.rtd\", ,\"ContractData\",O5, \"LongDescription\",, \"T\"),\"\")","v":"MP Materials Corp."},null,null,6.7902846696265336E-3,null,20,"S.US.NEM",{"$f":"IFERROR(RTD(\"cqg.rtd\", ,\"ContractData\",AC5, \"PerCentNetLastTrade\",, \"T\")/100,\"\")","v":-3.942757009345794E-3},{"$f":"IFERROR(RTD(\"cqg.rtd\", ,\"ContractData\",AC5, \"LongDescription\",, \"T\"),\"\")","v":"Newmont Goldcorp Corporation"},"",3.942757009345794E-3,"https://finance.yahoo.com/quote/NEM"]
["S.US.CLF",1,"S.US.CLF",{"$f":"RTD(\"cqg.rtd\", ,\"ContractData\",C6, \"LongDescription\",, \"T\")","v":"Cleveland-Cliffs Inc."},null,null,null,{"$f":"RTD(\"cqg.rtd\", ,\"ContractData\",C6, \"LastTradeToday\",, \"T\")","v":10.65},{"$f":"RTD(\"cqg.rtd\", ,\"ContractData\",C6, \"NetLastTradeToday\",, \"T\")","v":0.09},{"$f":"IFERROR(RTD(\"cqg.rtd\", ,\"ContractData\",C6, \"PerCentNetLastTrade\",, \"T\")/100,\"\")","v":8.5227272727272721E-3},{"$f":"RTD(\"cqg.rtd\", ,\"ContractData\", C6, \"T_CVol\",, \"T\")","v":699099},6,{"$f":"IFERROR(RANK($J6,$J$1:J$30)+COUNTIF($J$1:J6,J6)-1,\"\")","v":3},"S.US.CLF","S.US.MTUS",{"$f":"RTD(\"cqg.rtd\", ,\"ContractData\",O6, \"LongDescription\",, \"T\")","v":"Metallus Inc."},{"$f":"IFERROR(RTD(\"cqg.rtd\", ,\"ContractData\",O6, \"PerCentNetLastTrade\",, \"T\")/100,\"\")","v":6.2735257214554582E-3},"https://finance.yahoo.com/quote/MTUS",null,6.2735257214554582E-3,{"$error":"#N/A"},null,{"$f":"IFERROR(RTD(\"cqg.rtd\", ,\"ContractData\",O6, \"LongDescription\",, \"T\"),\"\")","v":"Metallus Inc."},null,null,6.2735257214554582E-3,null,21,"S.US.BTU",{"$f":"IFERROR(RTD(\"cqg.rtd\", ,\"ContractData\",AC6, \"PerCentNetLastTrade\",, \"T\")/100,\"\")","v":-4.4518642181413468E-3},{"$f":"IFERROR(RTD(\"cqg.rtd\", ,\"ContractData\",AC6, \"LongDescription\",, \"T\"),\"\")","v":"Peabody Energy"},"",4.4518642181413468E-3,"https://finance.yahoo.com/quote/BTU"]
["S.US.CMC",1,"S.US.CMC",{"$f":"RTD(\"cqg.rtd\", ,\"ContractData\",C7, \"LongDescription\",, \"T\")","v":"Commercial Metals Co"},null,null,null,{"$f":"RTD(\"cqg.rtd\", ,\"ContractData\",C7, \"LastTradeToday\",, \"T\")","v":57.27},{"$f":"RTD(\"cqg.rtd\", ,\"ContractData\",C7, \"NetLastTradeToday\",, \"T\")","v":0.14000000000000001},{"$f":"IFERROR(RTD(\"cqg.rtd\", ,\"ContractData\",C7, \"PerCentNetLastTrade\",, \"T\")/100,\"\")","v":2.4505513740591634E-3},{"$f":"RTD(\"cqg.rtd\", ,\"ContractData\", C7, \"T_CVol\",, \"T\")","v":67602},7,{"$f":"IFERROR(RANK($J7,$J$1:J$30)+COUNTIF($J$1:J7,J7)-1,\"\")","v":12},"S.US.CMC","S.US.KALU",{"$f":"RTD(\"cqg.rtd\", ,\"ContractData\",O7, \"LongDescription\",, \"T\")","v":"Daiser Aluminum Corporation"},{"$f":"IFERROR(RTD(\"cqg.rtd\", ,\"ContractData\",O7, \"PerCentNetLastTrade\",, \"T\")/100,\"\")","v":5.5599682287529786E-3},"https://finance.yahoo.com/quote/KALU",null,5.5599682287529786E-3,{"$error":"#N/A"},null,{"$f":"IFERROR(RTD(\"cqg.rtd\", ,\"ContractData\",O7, \"LongDescription\",, \"T\"),\"\")","v":"Daiser Aluminum Corporation"},null,null,5.5599682287529786E-3,null,22,"S.US.CRS",{"$f":"IFERROR(RTD(\"cqg.rtd\", ,\"ContractData\",AC7, \"PerCentNetLastTrade\",, \"T\")/100,\"\")","v":-4.8687467034527528E-3},{"$f":"IFERROR(RTD(\"cqg.rtd\", ,\"ContractData\",AC7, \"LongDescription\",, \"T\"),\"\")","v":"Carpenter Technology Corp"},"",4.8687467034527528E-3,"https://finance.yahoo.com/quote/CRS"]
["S.US.CMP",0,"S.US.CMP",{"$f":"RTD(\"cqg.rtd\", ,\"ContractData\",C8, \"LongDescription\",, \"T\")","v":"Compass Minerals Intl"},null,null,null,{"$f":"RTD(\"cqg.rtd\", ,\"ContractData\",C8, \"LastTradeToday\",, \"T\")","v":18.71},{"$f":"RTD(\"cqg.rtd\", ,\"ContractData\",C8, \"NetLastTradeToday\",, \"T\")","v":-0.03},{"$f":"IFERROR(RTD(\"cqg.rtd\", ,\"ContractData\",C8, \"PerCentNetLastTrade\",, \"T\")/100,\"\")","v":-1.6008537886872997E-3},{"$f":"RTD(\"cqg.rtd\", ,\"ContractData\", C8, \"T_CVol\",, \"T\")","v":36702},8,{"$f":"IFERROR(RANK($J8,$J$1:J$30)+COUNTIF($J$1:J8,J8)-1,\"\")","v":17},"S.US.CMP","S.US.IE",{"$f":"RTD(\"cqg.rtd\", ,\"ContractData\",O8, \"LongDescription\",, \"T\")","v":"Ivanhoe Electric Inc."},{"$f":"IFERROR(RTD(\"cqg.rtd\", ,\"ContractData\",O8, \"PerCentNetLastTrade\",, \"T\")/100,\"\")","v":4.048582995951417E-3},"https://finance.yahoo.com/quote/IE",null,4.048582995951417E-3,{"$error":"#N/A"},null,{"$f":"IFERROR(RTD(\"cqg.rtd\", ,\"ContractData\",O8, \"LongDescription\",, \"T\"),\"\")","v":"Ivanhoe Electric Inc."},null,null,4.048582995951417E-3,null,23,"S.US.UEC",{"$f":"IFERROR(RTD(\"cqg.rtd\", ,\"ContractData\",AC8, \"PerCentNetLastTrade\",, \"T\")/100,\"\")","v":-4.8732943469785572E-3},{"$f":"IFERROR(RTD(\"cqg.rtd\", ,\"ContractData\",AC8, \"LongDescription\",, \"T\"),\"\")","v":"Uranium Energy Corp"},"",4.8732943469785572E-3,"https://finance.yahoo.com/quote/UEC"]
["S.US.CNR",1,"S.US.CNR",{"$f":"RTD(\"cqg.rtd\", ,\"ContractData\",C9, \"LongDescription\",, \"T\")","v":"Core Natural Resources, Inc."},null,null,null,{"$f":"RTD(\"cqg.rtd\", ,\"ContractData\",C9, \"LastTradeToday\",, \"T\")","v":75},{"$f":"RTD(\"cqg.rtd\", ,\"ContractData\",C9, \"NetLastTradeToday\",, \"T\")","v":0.23},{"$f":"IFERROR(RTD(\"cqg.rtd\", ,\"ContractData\",C9, \"PerCentNetLastTrade\",, \"T\")/100,\"\")","v":3.0761000401230442E-3},{"$f":"RTD(\"cqg.rtd\", ,\"ContractData\", C9, \"T_CVol\",, \"T\")","v":31040},9,{"$f":"IFERROR(RANK($J9,$J$1:J$30)+COUNTIF($J$1:J9,J9)-1,\"\")","v":10},"S.US.CNR","S.US.RS",{"$f":"RTD(\"cqg.rtd\", ,\"ContractData\",O9, \"LongDescription\",, \"T\")","v":"Reliance, Inc."},{"$f":"IFERROR(RTD(\"cqg.rtd\", ,\"ContractData\",O9, \"PerCentNetLastTrade\",, \"T\")/100,\"\")","v":3.892927274606401E-3},"https://finance.yahoo.com/quote/RS",null,3.892927274606401E-3,{"$error":"#N/A"},null,{"$f":"IFERROR(RTD(\"cqg.rtd\", ,\"ContractData\",O9, \"LongDescription\",, \"T\"),\"\")","v":"Reliance, Inc."},null,null,3.892927274606401E-3,null,24,"S.US.CENX",{"$f":"IFERROR(RTD(\"cqg.rtd\", ,\"ContractData\",AC9, \"PerCentNetLastTrade\",, \"T\")/100,\"\")","v":-5.5178268251273345E-3},{"$f":"IFERROR(RTD(\"cqg.rtd\", ,\"ContractData\",AC9, \"LongDescription\",, \"T\"),\"\")","v":"Century Aluminum Co"},"",5.5178268251273345E-3,"https://finance.yahoo.com/quote/CENX"]
["S.US.CRS",0,"S.US.CRS",{"$f":"RTD(\"cqg.rtd\", ,\"ContractData\",C10, \"LongDescription\",, \"T\")","v":"Carpenter Technology Corp"},null,null,null,{"$f":"RTD(\"cqg.rtd\", ,\"ContractData\",C10, \"LastTradeToday\",, \"T\")","v":245.27},{"$f":"RTD(\"cqg.rtd\", ,\"ContractData\",C10, \"NetLastTradeToday\",, \"T\")","v":-1.2},{"$f":"IFERROR(RTD(\"cqg.rtd\", ,\"ContractData\",C10, \"PerCentNetLastTrade\",, \"T\")/100,\"\")","v":-4.8687467034527528E-3},{"$f":"RTD(\"cqg.rtd\", ,\"ContractData\", C10, \"T_CVol\",, \"T\")","v":13568},10,{"$f":"IFERROR(RANK($J10,$J$1:J$30)+COUNTIF($J$1:J10,J10)-1,\"\")","v":22},"S.US.CRS","S.US.CNR",{"$f":"RTD(\"cqg.rtd\", ,\"ContractData\",O10, \"LongDescription\",, \"T\")","v":"Core Natural Resources, Inc."},{"$f":"IFERROR(RTD(\"cqg.rtd\", ,\"ContractData\",O10, \"PerCentNetLastTrade\",, \"T\")/100,\"\")","v":3.0761000401230442E-3},"https://finance.yahoo.com/quote/CNR",null,3.0761000401230442E-3,{"$error":"#N/A"},null,{"$f":"IFERROR(RTD(\"cqg.rtd\", ,\"ContractData\",O10, \"LongDescription\",, \"T\"),\"\")","v":"Core Natural Resources, Inc."},null,null,3.0761000401230442E-3,null,25,"S.US.RGLD",{"$f":"IFERROR(RTD(\"cqg.rtd\", ,\"ContractData\",AC10, \"PerCentNetLastTrade\",, \"T\")/100,\"\")","v":-5.7190024173103008E-3},{"$f":"IFERROR(RTD(\"cqg.rtd\", ,\"ContractData\",AC10, \"LongDescription\",, \"T\"),\"\")","v":"Royal Gold Inc"},"",5.7190024173103008E-3,"https://finance.yahoo.com/quote/RGLD"]
["S.US.FCX",1,"S.US.FCX",{"$f":"RTD(\"cqg.rtd\", ,\"ContractData\",C11, \"LongDescription\",, \"T\")","v":"Freeport-McMoRan Inc."},null,null,null,{"$f":"RTD(\"cqg.rtd\", ,\"ContractData\",C11, \"LastTradeToday\",, \"T\")","v":42.58},{"$f":"RTD(\"cqg.rtd\", ,\"ContractData\",C11, \"NetLastTradeToday\",, \"T\")","v":0.3},{"$f":"IFERROR(RTD(\"cqg.rtd\", ,\"ContractData\",C11, \"PerCentNetLastTrade\",, \"T\")/100,\"\")","v":7.0955534531693476E-3},{"$f":"RTD(\"cqg.rtd\", ,\"ContractData\", C11, \"T_CVol\",, \"T\")","v":797156},11,{"$f":"IFERROR(RANK($J11,$J$1:J$30)+COUNTIF($J$1:J11,J11)-1,\"\")","v":4},"S.US.FCX","S.US.WS",{"$f":"RTD(\"cqg.rtd\", ,\"ContractData\",O11, \"LongDescription\",, \"T\")","v":"Worthington Steel, Inc."},{"$f":"IFERROR(RTD(\"cqg.rtd\", ,\"ContractData\",O11, \"PerCentNetLastTrade\",, \"T\")/100,\"\")","v":2.4775472282440383E-3},"https://finance.yahoo.com/quote/WS",null,2.4775472282440383E-3,{"$error":"#N/A"},null,{"$f":"IFERROR(RTD(\"cqg.rtd\", ,\"ContractData\",O11, \"LongDescription\",, \"T\"),\"\")","v":"Worthington Steel, Inc."},null,null,2.4775472282440383E-3,null,26,"S.US.MUX",{"$f":"IFERROR(RTD(\"cqg.rtd\", ,\"ContractData\",AC11, \"PerCentNetLastTrade\",, \"T\")/100,\"\")","v":-8.6621751684311851E-3},{"$f":"IFERROR(RTD(\"cqg.rtd\", ,\"ContractData\",AC11, \"LongDescription\",, \"T\"),\"\")","v":"McEwen Inc."},"",8.6621751684311851E-3,"https://finance.yahoo.com/quote/MUX"]
["S.US.HCC",0,"S.US.HCC",{"$f":"RTD(\"cqg.rtd\", ,\"ContractData\",C12, \"LongDescription\",, \"T\")","v":"Warrior Met Coal, Inc."},null,null,null,{"$f":"RTD(\"cqg.rtd\", ,\"ContractData\",C12, \"LastTradeToday\",, \"T\")","v":61.53},{"$f":"RTD(\"cqg.rtd\", ,\"ContractData\",C12, \"NetLastTradeToday\",, \"T\")","v":-0.06},{"$f":"IFERROR(RTD(\"cqg.rtd\", ,\"ContractData\",C12, \"PerCentNetLastTrade\",, \"T\")/100,\"\")","v":-9.7418412079883091E-4},{"$f":"RTD(\"cqg.rtd\", ,\"ContractData\", C12, \"T_CVol\",, \"T\")","v":45848},12,{"$f":"IFERROR(RANK($J12,$J$1:J$30)+COUNTIF($J$1:J12,J12)-1,\"\")","v":16},"S.US.HCC","S.US.CMC",{"$f":"RTD(\"cqg.rtd\", ,\"ContractData\",O12, \"LongDescription\",, \"T\")","v":"Commercial Metals Co"},{"$f":"IFERROR(RTD(\"cqg.rtd\", ,\"ContractData\",O12, \"PerCentNetLastTrade\",, \"T\")/100,\"\")","v":2.4505513740591634E-3},"https://finance.yahoo.com/quote/CMC",null,2.4505513740591634E-3,{"$error":"#N/A"},null,{"$f":"IFERROR(RTD(\"cqg.rtd\", ,\"ContractData\",O12, \"LongDescription\",, \"T\"),\"\")","v":"Commercial Metals Co"},null,null,2.4505513740591634E-3,null,27,"S.US.RYI",{"$f":"IFERROR(RTD(\"cqg.rtd\", ,\"ContractData\",AC12, \"PerCentNetLastTrade\",, \"T\")/100,\"\")","v":-9.1282519397535358E-3},{"$f":"IFERROR(RTD(\"cqg.rtd\", ,\"ContractData\",AC12, \"LongDescription\",, \"T\"),\"\")","v":"Ryerson Holding Corporation"},"",9.1282519397535358E-3,"https://finance.yahoo.com/quote/RYI"]
["S.US.HL",0,"S.US.HL",{"$f":"RTD(\"cqg.rtd\", ,\"ContractData\",C13, \"LongDescription\",, \"T\")","v":"Hecla Mining Co"},null,null,null,{"$f":"RTD(\"cqg.rtd\", ,\"ContractData\",C13, \"LastTradeToday\",, \"T\")","v":7.58},{"$f":"RTD(\"cqg.rtd\", ,\"ContractData\",C13, \"NetLastTradeToday\",, \"T\")","v":-0.08},{"$f":"IFERROR(RTD(\"cqg.rtd\", ,\"ContractData\",C13, \"PerCentNetLastTrade\",, \"T\")/100,\"\")","v":-1.0443864229765015E-2},{"$f":"RTD(\"cqg.rtd\", ,\"ContractData\", C13, \"T_CVol\",, \"T\")","v":830845},13,{"$f":"IFERROR(RANK($J13,$J$1:J$30)+COUNTIF($J$1:J13,J13)-1,\"\")","v":28},"S.US.HL","S.US.SPY",{"$f":"RTD(\"cqg.rtd\", ,\"ContractData\",O13, \"LongDescription\",, \"T\")","v":"SPDR S&P 500"},{"$f":"IFERROR(RTD(\"cqg.rtd\", ,\"ContractData\",O13, \"PerCentNetLastTrade\",, \"T\")/100,\"\")","v":1.8471663846762801E-3},"https://finance.yahoo.com/quote/SPY",null,1.8471663846762801E-3,{"$error":"#N/A"},null,{"$f":"IFERROR(RTD(\"cqg.rtd\", ,\"ContractData\",O13, \"LongDescription\",, \"T\"),\"\")","v":"SPDR S&P 500"},null,null,1.8471663846762801E-3,null,28,"S.US.HL",{"$f":"IFERROR(RTD(\"cqg.rtd\", ,\"ContractData\",AC13, \"PerCentNetLastTrade\",, \"T\")/100,\"\")","v":-1.0443864229765015E-2},{"$f":"IFERROR(RTD(\"cqg.rtd\", ,\"ContractData\",AC13, \"LongDescription\",, \"T\"),\"\")","v":"Hecla Mining Co"},"",1.0443864229765015E-2,"https://finance.yahoo.com/quote/HL"]
["S.US.IE",1,"S.US.IE",{"$f":"RTD(\"cqg.rtd\", ,\"ContractData\",C14, \"LongDescription\",, \"T\")","v":"Ivanhoe Electric Inc."},null,null,null,{"$f":"RTD(\"cqg.rtd\", ,\"ContractData\",C14, \"LastTradeToday\",, \"T\")","v":9.92},{"$f":"RTD(\"cqg.rtd\", ,\"ContractData\",C14, \"NetLastTradeToday\",, \"T\")","v":0.04},{"$f":"IFERROR(RTD(\"cqg.rtd\", ,\"ContractData\",C14, \"PerCentNetLastTrade\",, \"T\")/100,\"\")","v":4.048582995951417E-3},{"$f":"RTD(\"cqg.rtd\", ,\"ContractData\", C14, \"T_CVol\",, \"T\")","v":53917},14,{"$f":"IFERROR(RANK($J14,$J$1:J$30)+COUNTIF($J$1:J14,J14)-1,\"\")","v":8},"S.US.IE","S.US.MTRN",{"$f":"RTD(\"cqg.rtd\", ,\"ContractData\",O14, \"LongDescription\",, \"T\")","v":"Materion Corporation"},{"$f":"IFERROR(RTD(\"cqg.rtd\", ,\"ContractData\",O14, \"PerCentNetLastTrade\",, \"T\")/100,\"\")","v":1.7747803709290974E-3},"https://finance.yahoo.com/quote/MTRN",null,1.7747803709290974E-3,{"$error":"#N/A"},null,{"$f":"IFERROR(RTD(\"cqg.rtd\", ,\"ContractData\",O14, \"LongDescription\",, \"T\"),\"\")","v":"Materion Corporation"},null,null,1.7747803709290974E-3,null,29,"S.US.SXC",{"$f":"IFERROR(RTD(\"cqg.rtd\", ,\"ContractData\",AC14, \"PerCentNetLastTrade\",, \"T\")/100,\"\")","v":-1.40485312899106E-2},{"$f":"IFERROR(RTD(\"cqg.rtd\", ,\"ContractData\",AC14, \"LongDescription\",, \"T\"),\"\")","v":"Suncoke Energy, Inc."},"",1.40485312899106E-2,"https://finance.yahoo.com/quote/SXC"]
["S.US.KALU",1,"S.US.KALU",{"$f":"RTD(\"cqg.rtd\", ,\"ContractData\",C15, \"LongDescription\",, \"T\")","v":"Daiser Aluminum Corporation"},null,null,null,{"$f":"RTD(\"cqg.rtd\", ,\"ContractData\",C15, \"LastTradeToday\",, \"T\")","v":75.960000000000008},{"$f":"RTD(\"cqg.rtd\", ,\"ContractData\",C15, \"NetLastTradeToday\",, \"T\")","v":0.42},{"$f":"IFERROR(RTD(\"cqg.rtd\", ,\"ContractData\",C15, \"PerCentNetLastTrade\",, \"T\")/100,\"\")","v":5.5599682287529786E-3},{"$f":"RTD(\"cqg.rtd\", ,\"ContractData\", C15, \"T_CVol\",, \"T\")","v":13692},15,{"$f":"IFERROR(RANK($J15,$J$1:J$30)+COUNTIF($J$1:J15,J15)-1,\"\")","v":7},"S.US.KALU","S.US.AA",{"$f":"RTD(\"cqg.rtd\", ,\"ContractData\",O15, \"LongDescription\",, \"T\")","v":"ALCOA Inc."},{"$f":"IFERROR(RTD(\"cqg.rtd\", ,\"ContractData\",O15, \"PerCentNetLastTrade\",, \"T\")/100,\"\")","v":3.1918289179699963E-4},"https://finance.yahoo.com/quote/AA",null,3.1918289179699963E-4,{"$error":"#N/A"},null,{"$f":"IFERROR(RTD(\"cqg.rtd\", ,\"ContractData\",O15, \"LongDescription\",, \"T\"),\"\")","v":"ALCOA Inc."},null,null,3.1918289179699963E-4,null,30,"S.US.LEU",{"$f":"IFERROR(RTD(\"cqg.rtd\", ,\"ContractData\",AC15, \"PerCentNetLastTrade\",, \"T\")/100,\"\")","v":-2.4222551301036597E-2},{"$f":"IFERROR(RTD(\"cqg.rtd\", ,\"ContractData\",AC15, \"LongDescription\",, \"T\"),\"\")","v":"Centrus Energy Corp."},"",2.4222551301036597E-2,"https://finance.yahoo.com/quote/LEU"]
["S.US.LEU",0,"S.US.LEU",{"$f":"RTD(\"cqg.rtd\", ,\"ContractData\",C16, \"LongDescription\",, \"T\")","v":"Centrus Energy Corp."},null,null,null,{"$f":"RTD(\"cqg.rtd\", ,\"ContractData\",C16, \"LastTradeToday\",, \"T\")","v":184.5},{"$f":"RTD(\"cqg.rtd\", ,\"ContractData\",C16, \"NetLastTradeToday\",, \"T\")","v":-4.58},{"$f":"IFERROR(RTD(\"cqg.rtd\", ,\"ContractData\",C16, \"PerCentNetLastTrade\",, \"T\")/100,\"\")","v":-2.4222551301036597E-2},{"$f":"RTD(\"cqg.rtd\", ,\"ContractData\", C16, \"T_CVol\",, \"T\")","v":76031},16,{"$f":"IFERROR(RANK($J16,$J$1:J$30)+COUNTIF($J$1:J16,J16)-1,\"\")","v":30},"S.US.LEU","S.US.HCC",{"$f":"RTD(\"cqg.rtd\", ,\"ContractData\",O16, \"LongDescription\",, \"T\")","v":"Warrior Met Coal, Inc."},{"$f":"IFERROR(RTD(\"cqg.rtd\", ,\"ContractData\",O16, \"PerCentNetLastTrade\",, \"T\")/100,\"\")","v":-9.7418412079883091E-4},"https://finance.yahoo.com/quote/HCC",null,{"$error":"#N/A"},9.7418412079883091E-4,null,{"$f":"IFERROR(RTD(\"cqg.rtd\", ,\"ContractData\",O16, \"LongDescription\",, \"T\"),\"\")","v":"Warrior Met Coal, Inc."},null,null,{"$f":"IFERROR(T16,Q16)","v":-9.7418412079883091E-4}]
["S.US.MP",1,"S.US.MP",{"$f":"RTD(\"cqg.rtd\", ,\"ContractData\",C17, \"LongDescription\",, \"T\")","v":"MP Materials Corp."},null,null,null,{"$f":"RTD(\"cqg.rtd\", ,\"ContractData\",C17, \"LastTradeToday\",, \"T\")","v":77.100000000000009},{"$f":"RTD(\"cqg.rtd\", ,\"ContractData\",C17, \"NetLastTradeToday\",, \"T\")","v":0.52},{"$f":"IFERROR(RTD(\"cqg.rtd\", ,\"ContractData\",C17, \"PerCentNetLastTrade\",, \"T\")/100,\"\")","v":6.7902846696265336E-3},{"$f":"RTD(\"cqg.rtd\", ,\"ContractData\", C17, \"T_CVol\",, \"T\")","v":617314},17,{"$f":"IFERROR(RANK($J17,$J$1:J$30)+COUNTIF($J$1:J17,J17)-1,\"\")","v":5},"S.US.MP","S.US.CMP",{"$f":"RTD(\"cqg.rtd\", ,\"ContractData\",O17, \"LongDescription\",, \"T\")","v":"Compass Minerals Intl"},{"$f":"IFERROR(RTD(\"cqg.rtd\", ,\"ContractData\",O17, \"PerCentNetLastTrade\",, \"T\")/100,\"\")","v":-1.6008537886872997E-3},"https://finance.yahoo.com/quote/CMP",null,{"$error":"#N/A"},1.6008537886872997E-3,null,{"$f":"IFERROR(RTD(\"cqg.rtd\", ,\"ContractData\",O17, \"LongDescription\",, \"T\"),\"\")","v":"Compass Minerals Intl"},null,null,-1.6008537886872997E-3]
["S.US.MTRN",1,"S.US.MTRN",{"$f":"RTD(\"cqg.rtd\", ,\"ContractData\",C18, \"LongDescription\",, \"T\")","v":"Materion Corporation"},null,null,null,{"$f":"RTD(\"cqg.rtd\", ,\"ContractData\",C18, \"LastTradeToday\",, \"T\")","v":112.89},{"$f":"RTD(\"cqg.rtd\", ,\"ContractData\",C18, \"NetLastTradeToday\",, \"T\")","v":0.2},{"$f":"IFERROR(RTD(\"cqg.rtd\", ,\"ContractData\",C18, \"PerCentNetLastTrade\",, \"T\")/100,\"\")","v":1.7747803709290974E-3},{"$f":"RTD(\"cqg.rtd\", ,\"ContractData\", C18, \"T_CVol\",, \"T\")","v":11883},18,{"$f":"IFERROR(RANK($J18,$J$1:J$30)+COUNTIF($J$1:J18,J18)-1,\"\")","v":14},"S.US.MTRN","S.US.CDE",{"$f":"RTD(\"cqg.rtd\", ,\"ContractData\",O18, \"LongDescription\",, \"T\")","v":"Coeur Mining Inc Delaware"},{"$f":"IFERROR(RTD(\"cqg.rtd\", ,\"ContractData\",O18, \"PerCentNetLastTrade\",, \"T\")/100,\"\")","v":-1.7256255392579811E-3},"https://finance.yahoo.com/quote/CDE",null,{"$error":"#N/A"},1.7256255392579811E-3,null,{"$f":"IFERROR(RTD(\"cqg.rtd\", ,\"ContractData\",O18, \"LongDescription\",, \"T\"),\"\")","v":"Coeur Mining Inc Delaware"},null,null,-1.7256255392579811E-3]
["S.US.MTUS",1,"S.US.MTUS",{"$f":"RTD(\"cqg.rtd\", ,\"ContractData\",C19, \"LongDescription\",, \"T\")","v":"Metallus Inc."},null,null,null,{"$f":"RTD(\"cqg.rtd\", ,\"ContractData\",C19, \"LastTradeToday\",, \"T\")","v":16.04},{"$f":"RTD(\"cqg.rtd\", ,\"ContractData\",C19, \"NetLastTradeToday\",, \"T\")","v":0.1},{"$f":"IFERROR(RTD(\"cqg.rtd\", ,\"ContractData\",C19, \"PerCentNetLastTrade\",, \"T\")/100,\"\")","v":6.2735257214554582E-3},{"$f":"RTD(\"cqg.rtd\", ,\"ContractData\", C19, \"T_CVol\",, \"T\")","v":27989},19,{"$f":"IFERROR(RANK($J19,$J$1:J$30)+COUNTIF($J$1:J19,J19)-1,\"\")","v":6},"S.US.MTUS","S.US.AMR",{"$f":"RTD(\"cqg.rtd\", ,\"ContractData\",O19, \"LongDescription\",, \"T\")","v":"Alpha Metallurgical Resources, Inc."},{"$f":"IFERROR(RTD(\"cqg.rtd\", ,\"ContractData\",O19, \"PerCentNetLastTrade\",, \"T\")/100,\"\")","v":-3.6930395593390087E-3},"https://finance.yahoo.com/quote/AMR",null,{"$error":"#N/A"},3.6930395593390087E-3,null,{"$f":"IFERROR(RTD(\"cqg.rtd\", ,\"ContractData\",O19, \"LongDescription\",, \"T\"),\"\")","v":"Alpha Metallurgical Resources, Inc."},null,null,-3.6930395593390087E-3]
["S.US.MUX",0,"S.US.MUX",{"$f":"RTD(\"cqg.rtd\", ,\"ContractData\",C20, \"LongDescription\",, \"T\")","v":"McEwen Inc."},null,null,null,{"$f":"RTD(\"cqg.rtd\", ,\"ContractData\",C20, \"LastTradeToday\",, \"T\")","v":10.3},{"$f":"RTD(\"cqg.rtd\", ,\"ContractData\",C20, \"NetLastTradeToday\",, \"T\")","v":-0.09},{"$f":"IFERROR(RTD(\"cqg.rtd\", ,\"ContractData\",C20, \"PerCentNetLastTrade\",, \"T\")/100,\"\")","v":-8.6621751684311851E-3},{"$f":"RTD(\"cqg.rtd\", ,\"ContractData\", C20, \"T_CVol\",, \"T\")","v":22999},20,{"$f":"IFERROR(RANK($J20,$J$1:J$30)+COUNTIF($J$1:J20,J20)-1,\"\")","v":26},"S.US.MUX","S.US.NEM",{"$f":"RTD(\"cqg.rtd\", ,\"ContractData\",O20, \"LongDescription\",, \"T\")","v":"Newmont Goldcorp Corporation"},{"$f":"IFERROR(RTD(\"cqg.rtd\", ,\"ContractData\",O20, \"PerCentNetLastTrade\",, \"T\")/100,\"\")","v":-3.942757009345794E-3},"https://finance.yahoo.com/quote/NEM",null,{"$error":"#N/A"},3.942757009345794E-3,null,{"$f":"IFERROR(RTD(\"cqg.rtd\", ,\"ContractData\",O20, \"LongDescription\",, \"T\"),\"\")","v":"Newmont Goldcorp Corporation"},null,null,-3.942757009345794E-3]
["S.US.NEM",0,"S.US.NEM",{"$f":"RTD(\"cqg.rtd\", ,\"ContractData\",C21, \"LongDescription\",, \"T\")","v":"Newmont Goldcorp Corporation"},null,null,null,{"$f":"RTD(\"cqg.rtd\", ,\"ContractData\",C21, \"LastTradeToday\",, \"T\")","v":68.210000000000008},{"$f":"RTD(\"cqg.rtd\", ,\"ContractData\",C21, \"NetLastTradeToday\",, \"T\")","v":-0.27},{"$f":"IFERROR(RTD(\"cqg.rtd\", ,\"ContractData\",C21, \"PerCentNetLastTrade\",, \"T\")/100,\"\")","v":-3.942757009345794E-3},{"$f":"RTD(\"cqg.rtd\", ,\"ContractData\", C21, \"T_CVol\",, \"T\")","v":554099},21,{"$f":"IFERROR(RANK($J21,$J$1:J$30)+COUNTIF($J$1:J21,J21)-1,\"\")","v":20},"S.US.NEM","S.US.BTU",{"$f":"RTD(\"cqg.rtd\", ,\"ContractData\",O21, \"LongDescription\",, \"T\")","v":"Peabody Energy"},{"$f":"IFERROR(RTD(\"cqg.rtd\", ,\"ContractData\",O21, \"PerCentNetLastTrade\",, \"T\")/100,\"\")","v":-4.4518642181413468E-3},"https://finance.yahoo.com/quote/BTU",null,{"$error":"#N/A"},4.4518642181413468E-3,null,{"$f":"IFERROR(RTD(\"cqg.rtd\", ,\"ContractData\",O21, \"LongDescription\",, \"T\"),\"\")","v":"Peabody Energy"},null,null,-4.4518642181413468E-3]
["S.US.NUE",1,"S.US.NUE",{"$f":"RTD(\"cqg.rtd\", ,\"ContractData\",C22, \"LongDescription\",, \"T\")","v":"Nucor Corp"},null,null,null,{"$f":"RTD(\"cqg.rtd\", ,\"ContractData\",C22, \"LastTradeToday\",, \"T\")","v":148.52000000000001},{"$f":"RTD(\"cqg.rtd\", ,\"ContractData\",C22, \"NetLastTradeToday\",, \"T\")","v":4.17},{"$f":"IFERROR(RTD(\"cqg.rtd\", ,\"ContractData\",C22, \"PerCentNetLastTrade\",, \"T\")/100,\"\")","v":2.8888119154832005E-2},{"$f":"RTD(\"cqg.rtd\", ,\"ContractData\", C22, \"T_CVol\",, \"T\")","v":328590},22,{"$f":"IFERROR(RANK($J22,$J$1:J$30)+COUNTIF($J$1:J22,J22)-1,\"\")","v":1},"S.US.NUE","S.US.CRS",{"$f":"RTD(\"cqg.rtd\", ,\"ContractData\",O22, \"LongDescription\",, \"T\")","v":"Carpenter Technology Corp"},{"$f":"IFERROR(RTD(\"cqg.rtd\", ,\"ContractData\",O22, \"PerCentNetLastTrade\",, \"T\")/100,\"\")","v":-4.8687467034527528E-3},"https://finance.yahoo.com/quote/CRS",null,{"$error":"#N/A"},4.8687467034527528E-3,null,{"$f":"IFERROR(RTD(\"cqg.rtd\", ,\"ContractData\",O22, \"LongDescription\",, \"T\"),\"\")","v":"Carpenter Technology Corp"},null,null,-4.8687467034527528E-3]
["S.US.RGLD",0,"S.US.RGLD",{"$f":"RTD(\"cqg.rtd\", ,\"ContractData\",C23, \"LongDescription\",, \"T\")","v":"Royal Gold Inc"},null,null,null,{"$f":"RTD(\"cqg.rtd\", ,\"ContractData\",C23, \"LastTradeToday\",, \"T\")","v":168.64000000000001},{"$f":"RTD(\"cqg.rtd\", ,\"ContractData\",C23, \"NetLastTradeToday\",, \"T\")","v":-0.97},{"$f":"IFERROR(RTD(\"cqg.rtd\", ,\"ContractData\",C23, \"PerCentNetLastTrade\",, \"T\")/100,\"\")","v":-5.7190024173103008E-3},{"$f":"RTD(\"cqg.rtd\", ,\"ContractData\", C23, \"T_CVol\",, \"T\")","v":55572},23,{"$f":"IFERROR(RANK($J23,$J$1:J$30)+COUNTIF($J$1:J23,J23)-1,\"\")","v":25},"S.US.RGLD","S.US.UEC",{"$f":"RTD(\"cqg.rtd\", ,\"ContractData\",O23, \"LongDescription\",, \"T\")","v":"Uranium Energy Corp"},{"$f":"IFERROR(RTD(\"cqg.rtd\", ,\"ContractData\",O23, \"PerCentNetLastTrade\",, \"T\")/100,\"\")","v":-4.8732943469785572E-3},"https://finance.yahoo.com/quote/UEC",null,{"$error":"#N/A"},4.8732943469785572E-3,null,{"$f":"IFERROR(RTD(\"cqg.rtd\", ,\"ContractData\",O23, \"LongDescription\",, \"T\"),\"\")","v":"Uranium Energy Corp"},null,null,-4.8732943469785572E-3]
["S.US.RS",1,"S.US.RS",{"$f":"RTD(\"cqg.rtd\", ,\"ContractData\",C24, \"LongDescription\",, \"T\")","v":"Reliance, Inc."},null,null,null,{"$f":"RTD(\"cqg.rtd\", ,\"ContractData\",C24, \"LastTradeToday\",, \"T\")","v":291.40000000000003},{"$f":"RTD(\"cqg.rtd\", ,\"ContractData\",C24, \"NetLastTradeToday\",, \"T\")","v":1.1300000000000001},{"$f":"IFERROR(RTD(\"cqg.rtd\", ,\"ContractData\",C24, \"PerCentNetLastTrade\",, \"T\")/100,\"\")","v":3.892927274606401E-3},{"$f":"RTD(\"cqg.rtd\", ,\"ContractData\", C24, \"T_CVol\",, \"T\")","v":3912},24,{"$f":"IFERROR(RANK($J24,$J$1:J$30)+COUNTIF($J$1:J24,J24)-1,\"\")","v":9},"S.US.RS","S.US.CENX",{"$f":"RTD(\"cqg.rtd\", ,\"ContractData\",O24, \"LongDescription\",, \"T\")","v":"Century Aluminum Co"},{"$f":"IFERROR(RTD(\"cqg.rtd\", ,\"ContractData\",O24, \"PerCentNetLastTrade\",, \"T\")/100,\"\")","v":-5.5178268251273345E-3},"https://finance.yahoo.com/quote/CENX",null,{"$error":"#N/A"},5.5178268251273345E-3,null,{"$f":"IFERROR(RTD(\"cqg.rtd\", ,\"ContractData\",O24, \"LongDescription\",, \"T\"),\"\")","v":"Century Aluminum Co"},null,null,-5.5178268251273345E-3]
["S.US.RYI",0,"S.US.RYI",{"$f":"RTD(\"cqg.rtd\", ,\"ContractData\",C25, \"LongDescription\",, \"T\")","v":"Ryerson Holding Corporation"},null,null,null,{"$f":"RTD(\"cqg.rtd\", ,\"ContractData\",C25, \"LastTradeToday\",, \"T\")","v":21.71},{"$f":"RTD(\"cqg.rtd\", ,\"ContractData\",C25, \"NetLastTradeToday\",, \"T\")","v":-0.2},{"$f":"IFERROR(RTD(\"cqg.rtd\", ,\"ContractData\",C25, \"PerCentNetLastTrade\",, \"T\")/100,\"\")","v":-9.1282519397535358E-3},{"$f":"RTD(\"cqg.rtd\", ,\"ContractData\", C25, \"T_CVol\",, \"T\")","v":20426},25,{"$f":"IFERROR(RANK($J25,$J$1:J$30)+COUNTIF($J$1:J25,J25)-1,\"\")","v":27},"S.US.RYI","S.US.RGLD",{"$f":"RTD(\"cqg.rtd\", ,\"ContractData\",O25, \"LongDescription\",, \"T\")","v":"Royal Gold Inc"},{"$f":"IFERROR(RTD(\"cqg.rtd\", ,\"ContractData\",O25, \"PerCentNetLastTrade\",, \"T\")/100,\"\")","v":-5.7190024173103008E-3},"https://finance.yahoo.com/quote/RGLD",null,{"$error":"#N/A"},5.7190024173103008E-3,null,{"$f":"IFERROR(RTD(\"cqg.rtd\", ,\"ContractData\",O25, \"LongDescription\",, \"T\"),\"\")","v":"Royal Gold Inc"},null,null,-5.7190024173103008E-3]
["S.US.STLD",1,"S.US.STLD",{"$f":"RTD(\"cqg.rtd\", ,\"ContractData\",C26, \"LongDescription\",, \"T\")","v":"Steel Dynamics Inc"},null,null,null,{"$f":"RTD(\"cqg.rtd\", ,\"ContractData\",C26, \"LastTradeToday\",, \"T\")","v":129.36000000000001},{"$f":"RTD(\"cqg.rtd\", ,\"ContractData\",C26, \"NetLastTradeToday\",, \"T\")","v":1.8800000000000001},{"$f":"IFERROR(RTD(\"cqg.rtd\", ,\"ContractData\",C26, \"PerCentNetLastTrade\",, \"T\")/100,\"\")","v":1.4747411358644493E-2},{"$f":"RTD(\"cqg.rtd\", ,\"ContractData\", C26, \"T_CVol\",, \"T\")","v":107439},26,{"$f":"IFERROR(RANK($J26,$J$1:J$30)+COUNTIF($J$1:J26,J26)-1,\"\")","v":2},"S.US.STLD","S.US.MUX",{"$f":"RTD(\"cqg.rtd\", ,\"ContractData\",O26, \"LongDescription\",, \"T\")","v":"McEwen Inc."},{"$f":"IFERROR(RTD(\"cqg.rtd\", ,\"ContractData\",O26, \"PerCentNetLastTrade\",, \"T\")/100,\"\")","v":-8.6621751684311851E-3},"https://finance.yahoo.com/quote/MUX",null,{"$error":"#N/A"},8.6621751684311851E-3,null,{"$f":"IFERROR(RTD(\"cqg.rtd\", ,\"ContractData\",O26, \"LongDescription\",, \"T\"),\"\")","v":"McEwen Inc."},null,null,-8.6621751684311851E-3]
["S.US.SXC",0,"S.US.SXC",{"$f":"RTD(\"cqg.rtd\", ,\"ContractData\",C27, \"LongDescription\",, \"T\")","v":"Suncoke Energy, Inc."},null,null,null,{"$f":"RTD(\"cqg.rtd\", ,\"ContractData\",C27, \"LastTradeToday\",, \"T\")","v":7.72},{"$f":"RTD(\"cqg.rtd\", ,\"ContractData\",C27, \"NetLastTradeToday\",, \"T\")","v":-0.11},{"$f":"IFERROR(RTD(\"cqg.rtd\", ,\"ContractData\",C27, \"PerCentNetLastTrade\",, \"T\")/100,\"\")","v":-1.40485312899106E-2},{"$f":"RTD(\"cqg.rtd\", ,\"ContractData\", C27, \"T_CVol\",, \"T\")","v":40988},27,{"$f":"IFERROR(RANK($J27,$J$1:J$30)+COUNTIF($J$1:J27,J27)-1,\"\")","v":29},"S.US.SXC","S.US.RYI",{"$f":"RTD(\"cqg.rtd\", ,\"ContractData\",O27, \"LongDescription\",, \"T\")","v":"Ryerson Holding Corporation"},{"$f":"IFERROR(RTD(\"cqg.rtd\", ,\"ContractData\",O27, \"PerCentNetLastTrade\",, \"T\")/100,\"\")","v":-9.1282519397535358E-3},"https://finance.yahoo.com/quote/RYI",null,{"$error":"#N/A"},9.1282519397535358E-3,null,{"$f":"IFERROR(RTD(\"cqg.rtd\", ,\"ContractData\",O27, \"LongDescription\",, \"T\"),\"\")","v":"Ryerson Holding Corporation"},null,null,-9.1282519397535358E-3]
["S.US.UEC",0,"S.US.UEC",{"$f":"RTD(\"cqg.rtd\", ,\"ContractData\",C28, \"LongDescription\",, \"T\")","v":"Uranium Energy Corp"},null,null,null,{"$f":"RTD(\"cqg.rtd\", ,\"ContractData\",C28, \"LastTradeToday\",, \"T\")","v":10.210000000000001},{"$f":"RTD(\"cqg.rtd\", ,\"ContractData\",C28, \"NetLastTradeToday\",, \"T\")","v":-0.05},{"$f":"IFERROR(RTD(\"cqg.rtd\", ,\"ContractData\",C28, \"PerCentNetLastTrade\",, \"T\")/100,\"\")","v":-4.8732943469785572E-3},{"$f":"RTD(\"cqg.rtd\", ,\"ContractData\", C28, \"T_CVol\",, \"T\")","v":507631},28,{"$f":"IFERROR(RANK($J28,$J$1:J$30)+COUNTIF($J$1:J28,J28)-1,\"\")","v":23},"S.US.UEC","S.US.HL",{"$f":"RTD(\"cqg.rtd\", ,\"ContractData\",O28, \"LongDescription\",, \"T\")","v":"Hecla Mining Co"},{"$f":"IFERROR(RTD(\"cqg.rtd\", ,\"ContractData\",O28, \"PerCentNetLastTrade\",, \"T\")/100,\"\")","v":-1.0443864229765015E-2},"https://finance.yahoo.com/quote/HL",null,{"$error":"#N/A"},1.0443864229765015E-2,null,{"$f":"IFERROR(RTD(\"cqg.rtd\", ,\"ContractData\",O28, \"LongDescription\",, \"T\"),\"\")","v":"Hecla Mining Co"},null,null,-1.0443864229765015E-2]
["S.US.WS",1,"S.US.WS",{"$f":"RTD(\"cqg.rtd\", ,\"ContractData\",C29, \"LongDescription\",, \"T\")","v":"Worthington Steel, Inc."},null,null,null,{"$f":"RTD(\"cqg.rtd\", ,\"ContractData\",C29, \"LastTradeToday\",, \"T\")","v":32.369999999999997},{"$f":"RTD(\"cqg.rtd\", ,\"ContractData\",C29, \"NetLastTradeToday\",, \"T\")","v":0.08},{"$f":"IFERROR(RTD(\"cqg.rtd\", ,\"ContractData\",C29, \"PerCentNetLastTrade\",, \"T\")/100,\"\")","v":2.4775472282440383E-3},{"$f":"RTD(\"cqg.rtd\", ,\"ContractData\", C29, \"T_CVol\",, \"T\")","v":32794},29,{"$f":"IFERROR(RANK($J29,$J$1:J$30)+COUNTIF($J$1:J29,J29)-1,\"\")","v":11},"S.US.WS","S.US.SXC",{"$f":"RTD(\"cqg.rtd\", ,\"ContractData\",O29, \"LongDescription\",, \"T\")","v":"Suncoke Energy, Inc."},{"$f":"IFERROR(RTD(\"cqg.rtd\", ,\"ContractData\",O29, \"PerCentNetLastTrade\",, \"T\")/100,\"\")","v":-1.40485312899106E-2},"https://finance.yahoo.com/quote/SXC",null,{"$error":"#N/A"},1.40485312899106E-2,null,{"$f":"IFERROR(RTD(\"cqg.rtd\", ,\"ContractData\",O29, \"LongDescription\",, \"T\"),\"\")","v":"Suncoke Energy, Inc."},null,null,-1.40485312899106E-2]
["S.US.SPY",1,"S.US.SPY",{"$f":"RTD(\"cqg.rtd\", ,\"ContractData\",C30, \"LongDescription\",, \"T\")","v":"SPDR S&P 500"},null,null,null,{"$f":"RTD(\"cqg.rtd\", ,\"ContractData\",C30, \"LastTradeToday\",, \"T\")","v":645.41999999999996},{"$f":"RTD(\"cqg.rtd\", ,\"ContractData\",C30, \"NetLastTradeToday\",, \"T\")","v":1.19},{"$f":"IFERROR(RTD(\"cqg.rtd\", ,\"ContractData\",C30, \"PerCentNetLastTrade\",, \"T\")/100,\"\")","v":1.8471663846762801E-3},{"$f":"RTD(\"cqg.rtd\", ,\"ContractData\", C30, \"T_CVol\",, \"T\")","v":2476884},30,{"$f":"IFERROR(RANK($J30,$J$1:J$30)+COUNTIF($J$1:J30,J30)-1,\"\")","v":13},"S.US.SPY","S.US.LEU",{"$f":"RTD(\"cqg.rtd\", ,\"ContractData\",O30, \"LongDescription\",, \"T\")","v":"Centrus Energy Corp."},{"$f":"IFERROR(RTD(\"cqg.rtd\", ,\"ContractData\",O30, \"PerCentNetLastTrade\",, \"T\")/100,\"\")","v":-2.4222551301036597E-2},"https://finance.yahoo.com/quote/LEU",null,{"$error":"#N/A"},2.4222551301036597E-2,null,{"$f":"IFERROR(RTD(\"cqg.rtd\", ,\"ContractData\",O30, \"LongDescription\",, \"T\"),\"\")","v":"Centrus Energy Corp."},null,null,-2.4222551301036597E-2]
[]
[]
[]
[]
[]
[]
[]
[]
[]
[]
[]
[]
[]
[]
[]
[]
[]
[]
[]
[]
[]
[]
[]
[]
[]
[]
[]
[]
[]
[]
[]
[]
[]
[]
[]
[]
[]
[]
[]
[]
[]
[]
[]
[]
[]
[]
[]
[]
[]
[]
[]
[]
[]
[]
[]
[]
[]
[]
[]
[]
[]
[]
[]
[]
[]
[]
[]
[]
[null,{"$f":"SUM(B1:B30)/30","v":0.5}]