{"text_format":"1","workbook":"xlsx","n_sheets":2,"sheets":["Display","Data"],"not_rendered":{"charts":4,"images":0,"macros":1,"external_links":0,"defined_names":0,"comments":0,"pivot_tables":0},"unopened":[],"bounds":{"document_bytes":16777216,"sheet_cells":100000,"rows_first":2000,"rows_last":500,"rows_between":2000,"halvings":0,"cell_chars":16384,"cell_head_chars":4096},"cells_cut":0,"cells_raw":0,"read":"whole","date_system":"1900"}

{"sheet":"Display","index":0,"n_rows":40,"n_cols":13,"rows_kept":40,"cut":false,"hidden":false,"merged":[[0,0,1,4],[0,7,1,9]]}
["Crude Light (Globex) Dashboard",null,null,null,null,"Symbol","Month",{"$f":"MOD(RTD(\"cqg.rtd\", ,\"SystemInfo\", \"Linetime\"),1)","v":"14:30:57"}]
[null,null,null,null,null,"CLE","Dec"]
["Symbol","Month","Last","NC Last","NC Settle","Trade or Set","Open","High","Low","Volume","Vol NC","Open Interest","NC OI"]
[{"$f":"Data!B1","v":"CLE?1"},{"$f":"Data!F1","v":"Jun 26"},{"$f":"RTD(\"cqg.rtd\", ,\"ContractData\",A4, \"LastTrade\",, \"T\")","v":105.13},{"$f":"RTD(\"cqg.rtd\", ,\"ContractData\",A4, \"NetLastTrade\",, \"T\")","v":3.1899999999999977},{"$f":"RTD(\"cqg.rtd\", ,\"ContractData\",A4, \"NetSettlement\",, \"T\")","v":4.4800000000000004},{"$f":"RTD(\"cqg.rtd\", ,\"ContractData\",A4, \"TradeorTodaySettlement\",, \"T\")","v":105.13},{"$f":"RTD(\"cqg.rtd\", ,\"ContractData\",A4, \"Open\",, \"T\")","v":99.73},{"$f":"RTD(\"cqg.rtd\", ,\"ContractData\",A4, \"High\",, \"T\")","v":107.46000000000001},{"$f":"RTD(\"cqg.rtd\", ,\"ContractData\",A4, \"Low\",, \"T\")","v":99.11},{"$f":"RTD(\"cqg.rtd\", ,\"ContractData\",A4, \"T_CVol\",, \"T\")","v":311790},{"$f":"J4-RTD(\"cqg.rtd\", ,\"ContractData\",A4, \"Y_CVol\",, \"T\")","v":43083},{"$f":"RTD(\"cqg.rtd\",,\"StudyData\",A4,  \"Bar\",,  \"ContractOI\", \"D\", \"-1\",,,,,\"T\")","v":271096},{"$f":"L4-RTD(\"cqg.rtd\",,\"StudyData\",A4,  \"Bar\",,  \"ContractOI\", \"D\", \"-2\",,,,,\"T\")","v":-8206}]
[{"$f":"Data!B2","v":"CLE?2"},{"$f":"Data!F2","v":"Jul 26"},{"$f":"RTD(\"cqg.rtd\", ,\"ContractData\",A5, \"LastTrade\",, \"T\")","v":100.56},{"$f":"RTD(\"cqg.rtd\", ,\"ContractData\",A5, \"NetLastTrade\",, \"T\")","v":4.019999999999996},{"$f":"RTD(\"cqg.rtd\", ,\"ContractData\",A5, \"NetSettlement\",, \"T\")","v":4.97},{"$f":"RTD(\"cqg.rtd\", ,\"ContractData\",A5, \"TradeorTodaySettlement\",, \"T\")","v":100.56},{"$f":"RTD(\"cqg.rtd\", ,\"ContractData\",A5, \"Open\",, \"T\")","v":94.78},{"$f":"RTD(\"cqg.rtd\", ,\"ContractData\",A5, \"High\",, \"T\")","v":101.8},{"$f":"RTD(\"cqg.rtd\", ,\"ContractData\",A5, \"Low\",, \"T\")","v":94.34},{"$f":"RTD(\"cqg.rtd\", ,\"ContractData\",A5, \"T_CVol\",, \"T\")","v":176466},{"$f":"J5-RTD(\"cqg.rtd\", ,\"ContractData\",A5, \"Y_CVol\",, \"T\")","v":39065},{"$f":"RTD(\"cqg.rtd\",,\"StudyData\",A5,  \"Bar\",,  \"ContractOI\", \"D\", \"-1\",,,,,\"T\")","v":178786},{"$f":"L5-RTD(\"cqg.rtd\",,\"StudyData\",A5,  \"Bar\",,  \"ContractOI\", \"D\", \"-2\",,,,,\"T\")","v":4534}]
[{"$f":"Data!B3","v":"CLE?3"},{"$f":"Data!F3","v":"Aug 26"},{"$f":"RTD(\"cqg.rtd\", ,\"ContractData\",A6, \"LastTrade\",, \"T\")","v":95.72},{"$f":"RTD(\"cqg.rtd\", ,\"ContractData\",A6, \"NetLastTrade\",, \"T\")","v":4.1599999999999966},{"$f":"RTD(\"cqg.rtd\", ,\"ContractData\",A6, \"NetSettlement\",, \"T\")","v":4.96},{"$f":"RTD(\"cqg.rtd\", ,\"ContractData\",A6, \"TradeorTodaySettlement\",, \"T\")","v":95.72},{"$f":"RTD(\"cqg.rtd\", ,\"ContractData\",A6, \"Open\",, \"T\")","v":90},{"$f":"RTD(\"cqg.rtd\", ,\"ContractData\",A6, \"High\",, \"T\")","v":96.77},{"$f":"RTD(\"cqg.rtd\", ,\"ContractData\",A6, \"Low\",, \"T\")","v":89.89},{"$f":"RTD(\"cqg.rtd\", ,\"ContractData\",A6, \"T_CVol\",, \"T\")","v":108323},{"$f":"J6-RTD(\"cqg.rtd\", ,\"ContractData\",A6, \"Y_CVol\",, \"T\")","v":19090},{"$f":"RTD(\"cqg.rtd\",,\"StudyData\",A6,  \"Bar\",,  \"ContractOI\", \"D\", \"-1\",,,,,\"T\")","v":101678},{"$f":"L6-RTD(\"cqg.rtd\",,\"StudyData\",A6,  \"Bar\",,  \"ContractOI\", \"D\", \"-2\",,,,,\"T\")","v":-1212}]
[{"$f":"Data!B4","v":"CLE?4"},{"$f":"Data!F4","v":"Sep 26"},{"$f":"RTD(\"cqg.rtd\", ,\"ContractData\",A7, \"LastTrade\",, \"T\")","v":91.62},{"$f":"RTD(\"cqg.rtd\", ,\"ContractData\",A7, \"NetLastTrade\",, \"T\")","v":4.230000000000004},{"$f":"RTD(\"cqg.rtd\", ,\"ContractData\",A7, \"NetSettlement\",, \"T\")","v":4.87},{"$f":"RTD(\"cqg.rtd\", ,\"ContractData\",A7, \"TradeorTodaySettlement\",, \"T\")","v":91.62},{"$f":"RTD(\"cqg.rtd\", ,\"ContractData\",A7, \"Open\",, \"T\")","v":86.78},{"$f":"RTD(\"cqg.rtd\", ,\"ContractData\",A7, \"High\",, \"T\")","v":92.51},{"$f":"RTD(\"cqg.rtd\", ,\"ContractData\",A7, \"Low\",, \"T\")","v":85.93},{"$f":"RTD(\"cqg.rtd\", ,\"ContractData\",A7, \"T_CVol\",, \"T\")","v":100532},{"$f":"J7-RTD(\"cqg.rtd\", ,\"ContractData\",A7, \"Y_CVol\",, \"T\")","v":16459},{"$f":"RTD(\"cqg.rtd\",,\"StudyData\",A7,  \"Bar\",,  \"ContractOI\", \"D\", \"-1\",,,,,\"T\")","v":132360},{"$f":"L7-RTD(\"cqg.rtd\",,\"StudyData\",A7,  \"Bar\",,  \"ContractOI\", \"D\", \"-2\",,,,,\"T\")","v":1118}]
[{"$f":"Data!B5","v":"CLE?5"},{"$f":"Data!F5","v":"Oct 26"},{"$f":"RTD(\"cqg.rtd\", ,\"ContractData\",A8, \"LastTrade\",, \"T\")","v":88.13},{"$f":"RTD(\"cqg.rtd\", ,\"ContractData\",A8, \"NetLastTrade\",, \"T\")","v":4.2099999999999937},{"$f":"RTD(\"cqg.rtd\", ,\"ContractData\",A8, \"NetSettlement\",, \"T\")","v":4.74},{"$f":"RTD(\"cqg.rtd\", ,\"ContractData\",A8, \"TradeorTodaySettlement\",, \"T\")","v":88.13},{"$f":"RTD(\"cqg.rtd\", ,\"ContractData\",A8, \"Open\",, \"T\")","v":82.89},{"$f":"RTD(\"cqg.rtd\", ,\"ContractData\",A8, \"High\",, \"T\")","v":88.850000000000009},{"$f":"RTD(\"cqg.rtd\", ,\"ContractData\",A8, \"Low\",, \"T\")","v":82.64},{"$f":"RTD(\"cqg.rtd\", ,\"ContractData\",A8, \"T_CVol\",, \"T\")","v":63690},{"$f":"J8-RTD(\"cqg.rtd\", ,\"ContractData\",A8, \"Y_CVol\",, \"T\")","v":18436},{"$f":"RTD(\"cqg.rtd\",,\"StudyData\",A8,  \"Bar\",,  \"ContractOI\", \"D\", \"-1\",,,,,\"T\")","v":85644},{"$f":"L8-RTD(\"cqg.rtd\",,\"StudyData\",A8,  \"Bar\",,  \"ContractOI\", \"D\", \"-2\",,,,,\"T\")","v":-700}]
[{"$f":"Data!B6","v":"CLE?6"},{"$f":"Data!F6","v":"Nov 26"},{"$f":"RTD(\"cqg.rtd\", ,\"ContractData\",A9, \"LastTrade\",, \"T\")","v":85.51},{"$f":"RTD(\"cqg.rtd\", ,\"ContractData\",A9, \"NetLastTrade\",, \"T\")","v":4.0900000000000034},{"$f":"RTD(\"cqg.rtd\", ,\"ContractData\",A9, \"NetSettlement\",, \"T\")","v":4.5200000000000005},{"$f":"RTD(\"cqg.rtd\", ,\"ContractData\",A9, \"TradeorTodaySettlement\",, \"T\")","v":85.51},{"$f":"RTD(\"cqg.rtd\", ,\"ContractData\",A9, \"Open\",, \"T\")","v":81},{"$f":"RTD(\"cqg.rtd\", ,\"ContractData\",A9, \"High\",, \"T\")","v":86.12},{"$f":"RTD(\"cqg.rtd\", ,\"ContractData\",A9, \"Low\",, \"T\")","v":80.260000000000005},{"$f":"RTD(\"cqg.rtd\", ,\"ContractData\",A9, \"T_CVol\",, \"T\")","v":52765},{"$f":"J9-RTD(\"cqg.rtd\", ,\"ContractData\",A9, \"Y_CVol\",, \"T\")","v":16467},{"$f":"RTD(\"cqg.rtd\",,\"StudyData\",A9,  \"Bar\",,  \"ContractOI\", \"D\", \"-1\",,,,,\"T\")","v":72203},{"$f":"L9-RTD(\"cqg.rtd\",,\"StudyData\",A9,  \"Bar\",,  \"ContractOI\", \"D\", \"-2\",,,,,\"T\")","v":-563}]
[{"$f":"Data!B7","v":"CLE?7"},{"$f":"Data!F7","v":"Dec 26"},{"$f":"RTD(\"cqg.rtd\", ,\"ContractData\",A10, \"LastTrade\",, \"T\")","v":83.37},{"$f":"RTD(\"cqg.rtd\", ,\"ContractData\",A10, \"NetLastTrade\",, \"T\")","v":3.8400000000000034},{"$f":"RTD(\"cqg.rtd\", ,\"ContractData\",A10, \"NetSettlement\",, \"T\")","v":4.1900000000000004},{"$f":"RTD(\"cqg.rtd\", ,\"ContractData\",A10, \"TradeorTodaySettlement\",, \"T\")","v":83.37},{"$f":"RTD(\"cqg.rtd\", ,\"ContractData\",A10, \"Open\",, \"T\")","v":79.19},{"$f":"RTD(\"cqg.rtd\", ,\"ContractData\",A10, \"High\",, \"T\")","v":83.89},{"$f":"RTD(\"cqg.rtd\", ,\"ContractData\",A10, \"Low\",, \"T\")","v":78.290000000000006},{"$f":"RTD(\"cqg.rtd\", ,\"ContractData\",A10, \"T_CVol\",, \"T\")","v":158152},{"$f":"J10-RTD(\"cqg.rtd\", ,\"ContractData\",A10, \"Y_CVol\",, \"T\")","v":61268},{"$f":"RTD(\"cqg.rtd\",,\"StudyData\",A10,  \"Bar\",,  \"ContractOI\", \"D\", \"-1\",,,,,\"T\")","v":257106},{"$f":"L10-RTD(\"cqg.rtd\",,\"StudyData\",A10,  \"Bar\",,  \"ContractOI\", \"D\", \"-2\",,,,,\"T\")","v":1071}]
[{"$f":"Data!B8","v":"CLE?8"},{"$f":"Data!F8","v":"Jan 27"},{"$f":"RTD(\"cqg.rtd\", ,\"ContractData\",A11, \"LastTrade\",, \"T\")","v":81.58},{"$f":"RTD(\"cqg.rtd\", ,\"ContractData\",A11, \"NetLastTrade\",, \"T\")","v":3.5900000000000034},{"$f":"RTD(\"cqg.rtd\", ,\"ContractData\",A11, \"NetSettlement\",, \"T\")","v":3.89},{"$f":"RTD(\"cqg.rtd\", ,\"ContractData\",A11, \"TradeorTodaySettlement\",, \"T\")","v":81.58},{"$f":"RTD(\"cqg.rtd\", ,\"ContractData\",A11, \"Open\",, \"T\")","v":77.59},{"$f":"RTD(\"cqg.rtd\", ,\"ContractData\",A11, \"High\",, \"T\")","v":82.04},{"$f":"RTD(\"cqg.rtd\", ,\"ContractData\",A11, \"Low\",, \"T\")","v":77.59},{"$f":"RTD(\"cqg.rtd\", ,\"ContractData\",A11, \"T_CVol\",, \"T\")","v":26701},{"$f":"J11-RTD(\"cqg.rtd\", ,\"ContractData\",A11, \"Y_CVol\",, \"T\")","v":12675},{"$f":"RTD(\"cqg.rtd\",,\"StudyData\",A11,  \"Bar\",,  \"ContractOI\", \"D\", \"-1\",,,,,\"T\")","v":57971},{"$f":"L11-RTD(\"cqg.rtd\",,\"StudyData\",A11,  \"Bar\",,  \"ContractOI\", \"D\", \"-2\",,,,,\"T\")","v":77}]
[{"$f":"Data!B9","v":"CLE?9"},{"$f":"Data!F9","v":"Feb 27"},{"$f":"RTD(\"cqg.rtd\", ,\"ContractData\",A12, \"LastTrade\",, \"T\")","v":80.03},{"$f":"RTD(\"cqg.rtd\", ,\"ContractData\",A12, \"NetLastTrade\",, \"T\")","v":3.2800000000000011},{"$f":"RTD(\"cqg.rtd\", ,\"ContractData\",A12, \"NetSettlement\",, \"T\")","v":3.61},{"$f":"RTD(\"cqg.rtd\", ,\"ContractData\",A12, \"TradeorTodaySettlement\",, \"T\")","v":80.03},{"$f":"RTD(\"cqg.rtd\", ,\"ContractData\",A12, \"Open\",, \"T\")","v":77.06},{"$f":"RTD(\"cqg.rtd\", ,\"ContractData\",A12, \"High\",, \"T\")","v":80.460000000000008},{"$f":"RTD(\"cqg.rtd\", ,\"ContractData\",A12, \"Low\",, \"T\")","v":77.06},{"$f":"RTD(\"cqg.rtd\", ,\"ContractData\",A12, \"T_CVol\",, \"T\")","v":15862},{"$f":"J12-RTD(\"cqg.rtd\", ,\"ContractData\",A12, \"Y_CVol\",, \"T\")","v":8552},{"$f":"RTD(\"cqg.rtd\",,\"StudyData\",A12,  \"Bar\",,  \"ContractOI\", \"D\", \"-1\",,,,,\"T\")","v":42669},{"$f":"L12-RTD(\"cqg.rtd\",,\"StudyData\",A12,  \"Bar\",,  \"ContractOI\", \"D\", \"-2\",,,,,\"T\")","v":362}]
[{"$f":"Data!B10","v":"CLE?10"},{"$f":"Data!F10","v":"Mar 27"},{"$f":"RTD(\"cqg.rtd\", ,\"ContractData\",A13, \"LastTrade\",, \"T\")","v":78.95},{"$f":"RTD(\"cqg.rtd\", ,\"ContractData\",A13, \"NetLastTrade\",, \"T\")","v":3.1700000000000017},{"$f":"RTD(\"cqg.rtd\", ,\"ContractData\",A13, \"NetSettlement\",, \"T\")","v":3.33},{"$f":"RTD(\"cqg.rtd\", ,\"ContractData\",A13, \"TradeorTodaySettlement\",, \"T\")","v":78.95},{"$f":"RTD(\"cqg.rtd\", ,\"ContractData\",A13, \"Open\",, \"T\")","v":75},{"$f":"RTD(\"cqg.rtd\", ,\"ContractData\",A13, \"High\",, \"T\")","v":79.260000000000005},{"$f":"RTD(\"cqg.rtd\", ,\"ContractData\",A13, \"Low\",, \"T\")","v":74.72},{"$f":"RTD(\"cqg.rtd\", ,\"ContractData\",A13, \"T_CVol\",, \"T\")","v":23379},{"$f":"J13-RTD(\"cqg.rtd\", ,\"ContractData\",A13, \"Y_CVol\",, \"T\")","v":12394},{"$f":"RTD(\"cqg.rtd\",,\"StudyData\",A13,  \"Bar\",,  \"ContractOI\", \"D\", \"-1\",,,,,\"T\")","v":57398},{"$f":"L13-RTD(\"cqg.rtd\",,\"StudyData\",A13,  \"Bar\",,  \"ContractOI\", \"D\", \"-2\",,,,,\"T\")","v":104}]
[{"$f":"Data!B11","v":"CLE?11"},{"$f":"Data!F11","v":"Apr 27"},{"$f":"RTD(\"cqg.rtd\", ,\"ContractData\",A14, \"LastTrade\",, \"T\")","v":78.09},{"$f":"RTD(\"cqg.rtd\", ,\"ContractData\",A14, \"NetLastTrade\",, \"T\")","v":3.0900000000000034},{"$f":"RTD(\"cqg.rtd\", ,\"ContractData\",A14, \"NetSettlement\",, \"T\")","v":3.12},{"$f":"RTD(\"cqg.rtd\", ,\"ContractData\",A14, \"TradeorTodaySettlement\",, \"T\")","v":78.09},{"$f":"RTD(\"cqg.rtd\", ,\"ContractData\",A14, \"Open\",, \"T\")","v":75.989999999999995},{"$f":"RTD(\"cqg.rtd\", ,\"ContractData\",A14, \"High\",, \"T\")","v":78.260000000000005},{"$f":"RTD(\"cqg.rtd\", ,\"ContractData\",A14, \"Low\",, \"T\")","v":75.989999999999995},{"$f":"RTD(\"cqg.rtd\", ,\"ContractData\",A14, \"T_CVol\",, \"T\")","v":5767},{"$f":"J14-RTD(\"cqg.rtd\", ,\"ContractData\",A14, \"Y_CVol\",, \"T\")","v":2525},{"$f":"RTD(\"cqg.rtd\",,\"StudyData\",A14,  \"Bar\",,  \"ContractOI\", \"D\", \"-1\",,,,,\"T\")","v":43506},{"$f":"L14-RTD(\"cqg.rtd\",,\"StudyData\",A14,  \"Bar\",,  \"ContractOI\", \"D\", \"-2\",,,,,\"T\")","v":-274}]
[{"$f":"Data!B12","v":"CLE?12"},{"$f":"Data!F12","v":"May 27"},{"$f":"RTD(\"cqg.rtd\", ,\"ContractData\",A15, \"LastTrade\",, \"T\")","v":77.23},{"$f":"RTD(\"cqg.rtd\", ,\"ContractData\",A15, \"NetLastTrade\",, \"T\")","v":2.8500000000000085},{"$f":"RTD(\"cqg.rtd\", ,\"ContractData\",A15, \"NetSettlement\",, \"T\")","v":2.94},{"$f":"RTD(\"cqg.rtd\", ,\"ContractData\",A15, \"TradeorTodaySettlement\",, \"T\")","v":77.23},{"$f":"RTD(\"cqg.rtd\", ,\"ContractData\",A15, \"Open\",, \"T\")","v":74.320000000000007},{"$f":"RTD(\"cqg.rtd\", ,\"ContractData\",A15, \"High\",, \"T\")","v":77.460000000000008},{"$f":"RTD(\"cqg.rtd\", ,\"ContractData\",A15, \"Low\",, \"T\")","v":74.320000000000007},{"$f":"RTD(\"cqg.rtd\", ,\"ContractData\",A15, \"T_CVol\",, \"T\")","v":3355},{"$f":"J15-RTD(\"cqg.rtd\", ,\"ContractData\",A15, \"Y_CVol\",, \"T\")","v":1127},{"$f":"RTD(\"cqg.rtd\",,\"StudyData\",A15,  \"Bar\",,  \"ContractOI\", \"D\", \"-1\",,,,,\"T\")","v":27352},{"$f":"L15-RTD(\"cqg.rtd\",,\"StudyData\",A15,  \"Bar\",,  \"ContractOI\", \"D\", \"-2\",,,,,\"T\")","v":-24}]
[{"$f":"Data!B13","v":"CLE?13"},{"$f":"Data!F13","v":"Jun 27"},{"$f":"RTD(\"cqg.rtd\", ,\"ContractData\",A16, \"LastTrade\",, \"T\")","v":76.62},{"$f":"RTD(\"cqg.rtd\", ,\"ContractData\",A16, \"NetLastTrade\",, \"T\")","v":2.7600000000000051},{"$f":"RTD(\"cqg.rtd\", ,\"ContractData\",A16, \"NetSettlement\",, \"T\")","v":2.8000000000000003},{"$f":"RTD(\"cqg.rtd\", ,\"ContractData\",A16, \"TradeorTodaySettlement\",, \"T\")","v":76.62},{"$f":"RTD(\"cqg.rtd\", ,\"ContractData\",A16, \"Open\",, \"T\")","v":73.5},{"$f":"RTD(\"cqg.rtd\", ,\"ContractData\",A16, \"High\",, \"T\")","v":76.86},{"$f":"RTD(\"cqg.rtd\", ,\"ContractData\",A16, \"Low\",, \"T\")","v":72.930000000000007},{"$f":"RTD(\"cqg.rtd\", ,\"ContractData\",A16, \"T_CVol\",, \"T\")","v":40595},{"$f":"J16-RTD(\"cqg.rtd\", ,\"ContractData\",A16, \"Y_CVol\",, \"T\")","v":19112},{"$f":"RTD(\"cqg.rtd\",,\"StudyData\",A16,  \"Bar\",,  \"ContractOI\", \"D\", \"-1\",,,,,\"T\")","v":128041},{"$f":"L16-RTD(\"cqg.rtd\",,\"StudyData\",A16,  \"Bar\",,  \"ContractOI\", \"D\", \"-2\",,,,,\"T\")","v":340}]
[{"$f":"Data!B14","v":"CLE?14"},{"$f":"Data!F14","v":"Jul 27"},{"$f":"RTD(\"cqg.rtd\", ,\"ContractData\",A17, \"LastTrade\",, \"T\")","v":76.09},{"$f":"RTD(\"cqg.rtd\", ,\"ContractData\",A17, \"NetLastTrade\",, \"T\")","v":2.7199999999999989},{"$f":"RTD(\"cqg.rtd\", ,\"ContractData\",A17, \"NetSettlement\",, \"T\")","v":2.69},{"$f":"RTD(\"cqg.rtd\", ,\"ContractData\",A17, \"TradeorTodaySettlement\",, \"T\")","v":76.09},{"$f":"RTD(\"cqg.rtd\", ,\"ContractData\",A17, \"Open\",, \"T\")","v":74.63},{"$f":"RTD(\"cqg.rtd\", ,\"ContractData\",A17, \"High\",, \"T\")","v":76.09},{"$f":"RTD(\"cqg.rtd\", ,\"ContractData\",A17, \"Low\",, \"T\")","v":74.63},{"$f":"RTD(\"cqg.rtd\", ,\"ContractData\",A17, \"T_CVol\",, \"T\")","v":2797},{"$f":"J17-RTD(\"cqg.rtd\", ,\"ContractData\",A17, \"Y_CVol\",, \"T\")","v":1721},{"$f":"RTD(\"cqg.rtd\",,\"StudyData\",A17,  \"Bar\",,  \"ContractOI\", \"D\", \"-1\",,,,,\"T\")","v":29075},{"$f":"L17-RTD(\"cqg.rtd\",,\"StudyData\",A17,  \"Bar\",,  \"ContractOI\", \"D\", \"-2\",,,,,\"T\")","v":-145}]
[{"$f":"Data!B15","v":"CLE?15"},{"$f":"Data!F15","v":"Aug 27"},{"$f":"RTD(\"cqg.rtd\", ,\"ContractData\",A18, \"LastTrade\",, \"T\")","v":75.48},{"$f":"RTD(\"cqg.rtd\", ,\"ContractData\",A18, \"NetLastTrade\",, \"T\")","v":2.5700000000000074},{"$f":"RTD(\"cqg.rtd\", ,\"ContractData\",A18, \"NetSettlement\",, \"T\")","v":2.6},{"$f":"RTD(\"cqg.rtd\", ,\"ContractData\",A18, \"TradeorTodaySettlement\",, \"T\")","v":75.48},{"$f":"RTD(\"cqg.rtd\", ,\"ContractData\",A18, \"Open\",, \"T\")","v":74.850000000000009},{"$f":"RTD(\"cqg.rtd\", ,\"ContractData\",A18, \"High\",, \"T\")","v":75.52},{"$f":"RTD(\"cqg.rtd\", ,\"ContractData\",A18, \"Low\",, \"T\")","v":74.850000000000009},{"$f":"RTD(\"cqg.rtd\", ,\"ContractData\",A18, \"T_CVol\",, \"T\")","v":1974},{"$f":"J18-RTD(\"cqg.rtd\", ,\"ContractData\",A18, \"Y_CVol\",, \"T\")","v":819},{"$f":"RTD(\"cqg.rtd\",,\"StudyData\",A18,  \"Bar\",,  \"ContractOI\", \"D\", \"-1\",,,,,\"T\")","v":20665},{"$f":"L18-RTD(\"cqg.rtd\",,\"StudyData\",A18,  \"Bar\",,  \"ContractOI\", \"D\", \"-2\",,,,,\"T\")","v":61}]
[{"$f":"Data!B16","v":"CLE?16"},{"$f":"Data!F16","v":"Sep 27"},{"$f":"RTD(\"cqg.rtd\", ,\"ContractData\",A19, \"LastTrade\",, \"T\")","v":75.040000000000006},{"$f":"RTD(\"cqg.rtd\", ,\"ContractData\",A19, \"NetLastTrade\",, \"T\")","v":2.5400000000000063},{"$f":"RTD(\"cqg.rtd\", ,\"ContractData\",A19, \"NetSettlement\",, \"T\")","v":2.5100000000000002},{"$f":"RTD(\"cqg.rtd\", ,\"ContractData\",A19, \"TradeorTodaySettlement\",, \"T\")","v":75.040000000000006},{"$f":"RTD(\"cqg.rtd\", ,\"ContractData\",A19, \"Open\",, \"T\")","v":74.06},{"$f":"RTD(\"cqg.rtd\", ,\"ContractData\",A19, \"High\",, \"T\")","v":75.05},{"$f":"RTD(\"cqg.rtd\", ,\"ContractData\",A19, \"Low\",, \"T\")","v":73.930000000000007},{"$f":"RTD(\"cqg.rtd\", ,\"ContractData\",A19, \"T_CVol\",, \"T\")","v":3332},{"$f":"J19-RTD(\"cqg.rtd\", ,\"ContractData\",A19, \"Y_CVol\",, \"T\")","v":1757},{"$f":"RTD(\"cqg.rtd\",,\"StudyData\",A19,  \"Bar\",,  \"ContractOI\", \"D\", \"-1\",,,,,\"T\")","v":35254},{"$f":"L19-RTD(\"cqg.rtd\",,\"StudyData\",A19,  \"Bar\",,  \"ContractOI\", \"D\", \"-2\",,,,,\"T\")","v":-6}]
[{"$f":"Data!B17","v":"CLE?17"},{"$f":"Data!F17","v":"Oct 27"},{"$f":"RTD(\"cqg.rtd\", ,\"ContractData\",A20, \"LastTrade\",, \"T\")","v":74.45},{"$f":"RTD(\"cqg.rtd\", ,\"ContractData\",A20, \"NetLastTrade\",, \"T\")","v":2.3100000000000023},{"$f":"RTD(\"cqg.rtd\", ,\"ContractData\",A20, \"NetSettlement\",, \"T\")","v":2.4300000000000002},{"$f":"RTD(\"cqg.rtd\", ,\"ContractData\",A20, \"TradeorTodaySettlement\",, \"T\")","v":74.45},{"$f":"RTD(\"cqg.rtd\", ,\"ContractData\",A20, \"Open\",, \"T\")","v":73.820000000000007},{"$f":"RTD(\"cqg.rtd\", ,\"ContractData\",A20, \"High\",, \"T\")","v":74.570000000000007},{"$f":"RTD(\"cqg.rtd\", ,\"ContractData\",A20, \"Low\",, \"T\")","v":73.820000000000007},{"$f":"RTD(\"cqg.rtd\", ,\"ContractData\",A20, \"T_CVol\",, \"T\")","v":1522},{"$f":"J20-RTD(\"cqg.rtd\", ,\"ContractData\",A20, \"Y_CVol\",, \"T\")","v":1126},{"$f":"RTD(\"cqg.rtd\",,\"StudyData\",A20,  \"Bar\",,  \"ContractOI\", \"D\", \"-1\",,,,,\"T\")","v":24352},{"$f":"L20-RTD(\"cqg.rtd\",,\"StudyData\",A20,  \"Bar\",,  \"ContractOI\", \"D\", \"-2\",,,,,\"T\")","v":103}]
[{"$f":"Data!B18","v":"CLE?18"},{"$f":"Data!F18","v":"Nov 27"},{"$f":"RTD(\"cqg.rtd\", ,\"ContractData\",A21, \"LastTrade\",, \"T\")","v":74.27},{"$f":"RTD(\"cqg.rtd\", ,\"ContractData\",A21, \"NetLastTrade\",, \"T\")","v":2.4599999999999937},{"$f":"RTD(\"cqg.rtd\", ,\"ContractData\",A21, \"NetSettlement\",, \"T\")","v":2.37},{"$f":"RTD(\"cqg.rtd\", ,\"ContractData\",A21, \"TradeorTodaySettlement\",, \"T\")","v":74.27},{"$f":"RTD(\"cqg.rtd\", ,\"ContractData\",A21, \"Open\",, \"T\")","v":73.58},{"$f":"RTD(\"cqg.rtd\", ,\"ContractData\",A21, \"High\",, \"T\")","v":74.27},{"$f":"RTD(\"cqg.rtd\", ,\"ContractData\",A21, \"Low\",, \"T\")","v":73.58},{"$f":"RTD(\"cqg.rtd\", ,\"ContractData\",A21, \"T_CVol\",, \"T\")","v":1694},{"$f":"J21-RTD(\"cqg.rtd\", ,\"ContractData\",A21, \"Y_CVol\",, \"T\")","v":1055},{"$f":"RTD(\"cqg.rtd\",,\"StudyData\",A21,  \"Bar\",,  \"ContractOI\", \"D\", \"-1\",,,,,\"T\")","v":34562},{"$f":"L21-RTD(\"cqg.rtd\",,\"StudyData\",A21,  \"Bar\",,  \"ContractOI\", \"D\", \"-2\",,,,,\"T\")","v":-7}]
[{"$f":"Data!B19","v":"CLE?19"},{"$f":"Data!F19","v":"Dec 27"},{"$f":"RTD(\"cqg.rtd\", ,\"ContractData\",A22, \"LastTrade\",, \"T\")","v":73.97},{"$f":"RTD(\"cqg.rtd\", ,\"ContractData\",A22, \"NetLastTrade\",, \"T\")","v":2.480000000000004},{"$f":"RTD(\"cqg.rtd\", ,\"ContractData\",A22, \"NetSettlement\",, \"T\")","v":2.31},{"$f":"RTD(\"cqg.rtd\", ,\"ContractData\",A22, \"TradeorTodaySettlement\",, \"T\")","v":73.97},{"$f":"RTD(\"cqg.rtd\", ,\"ContractData\",A22, \"Open\",, \"T\")","v":71.489999999999995},{"$f":"RTD(\"cqg.rtd\", ,\"ContractData\",A22, \"High\",, \"T\")","v":74.16},{"$f":"RTD(\"cqg.rtd\", ,\"ContractData\",A22, \"Low\",, \"T\")","v":70.790000000000006},{"$f":"RTD(\"cqg.rtd\", ,\"ContractData\",A22, \"T_CVol\",, \"T\")","v":71691},{"$f":"J22-RTD(\"cqg.rtd\", ,\"ContractData\",A22, \"Y_CVol\",, \"T\")","v":44195},{"$f":"RTD(\"cqg.rtd\",,\"StudyData\",A22,  \"Bar\",,  \"ContractOI\", \"D\", \"-1\",,,,,\"T\")","v":153896},{"$f":"L22-RTD(\"cqg.rtd\",,\"StudyData\",A22,  \"Bar\",,  \"ContractOI\", \"D\", \"-2\",,,,,\"T\")","v":2509}]
[{"$f":"Data!B20","v":"CLE?20"},{"$f":"Data!F20","v":"Jan 28"},{"$f":"RTD(\"cqg.rtd\", ,\"ContractData\",A23, \"LastTrade\",, \"T\")","v":73.37},{"$f":"RTD(\"cqg.rtd\", ,\"ContractData\",A23, \"NetLastTrade\",, \"T\")","v":2.25},{"$f":"RTD(\"cqg.rtd\", ,\"ContractData\",A23, \"NetSettlement\",, \"T\")","v":2.25},{"$f":"RTD(\"cqg.rtd\", ,\"ContractData\",A23, \"TradeorTodaySettlement\",, \"T\")","v":73.37},{"$f":"RTD(\"cqg.rtd\", ,\"ContractData\",A23, \"Open\",, \"T\")","v":72.88},{"$f":"RTD(\"cqg.rtd\", ,\"ContractData\",A23, \"High\",, \"T\")","v":73.37},{"$f":"RTD(\"cqg.rtd\", ,\"ContractData\",A23, \"Low\",, \"T\")","v":72.88},{"$f":"RTD(\"cqg.rtd\", ,\"ContractData\",A23, \"T_CVol\",, \"T\")","v":764},{"$f":"J23-RTD(\"cqg.rtd\", ,\"ContractData\",A23, \"Y_CVol\",, \"T\")","v":-60},{"$f":"RTD(\"cqg.rtd\",,\"StudyData\",A23,  \"Bar\",,  \"ContractOI\", \"D\", \"-1\",,,,,\"T\")","v":25135},{"$f":"L23-RTD(\"cqg.rtd\",,\"StudyData\",A23,  \"Bar\",,  \"ContractOI\", \"D\", \"-2\",,,,,\"T\")","v":116}]
[{"$f":"Data!B21","v":"CLE?21"},{"$f":"Data!F21","v":"Feb 28"},{"$f":"RTD(\"cqg.rtd\", ,\"ContractData\",A24, \"LastTrade\",, \"T\")","v":70.53},{"$f":"RTD(\"cqg.rtd\", ,\"ContractData\",A24, \"NetLastTrade\",, \"T\")","v":-0.23000000000000398},{"$f":"RTD(\"cqg.rtd\", ,\"ContractData\",A24, \"NetSettlement\",, \"T\")","v":2.21},{"$f":"RTD(\"cqg.rtd\", ,\"ContractData\",A24, \"TradeorTodaySettlement\",, \"T\")","v":72.97},{"$f":"RTD(\"cqg.rtd\", ,\"ContractData\",A24, \"Open\",, \"T\")","v":72.97},{"$f":"RTD(\"cqg.rtd\", ,\"ContractData\",A24, \"High\",, \"T\")","v":72.97},{"$f":"RTD(\"cqg.rtd\", ,\"ContractData\",A24, \"Low\",, \"T\")","v":72.97},{"$f":"RTD(\"cqg.rtd\", ,\"ContractData\",A24, \"T_CVol\",, \"T\")","v":848},{"$f":"J24-RTD(\"cqg.rtd\", ,\"ContractData\",A24, \"Y_CVol\",, \"T\")","v":84},{"$f":"RTD(\"cqg.rtd\",,\"StudyData\",A24,  \"Bar\",,  \"ContractOI\", \"D\", \"-1\",,,,,\"T\")","v":9634},{"$f":"L24-RTD(\"cqg.rtd\",,\"StudyData\",A24,  \"Bar\",,  \"ContractOI\", \"D\", \"-2\",,,,,\"T\")","v":454}]
[{"$f":"Data!B22","v":"CLE?22"},{"$f":"Data!F22","v":"Mar 28"},{"$f":"RTD(\"cqg.rtd\", ,\"ContractData\",A25, \"LastTrade\",, \"T\")","v":72.59},{"$f":"RTD(\"cqg.rtd\", ,\"ContractData\",A25, \"NetLastTrade\",, \"T\")","v":2.1400000000000006},{"$f":"RTD(\"cqg.rtd\", ,\"ContractData\",A25, \"NetSettlement\",, \"T\")","v":2.17},{"$f":"RTD(\"cqg.rtd\", ,\"ContractData\",A25, \"TradeorTodaySettlement\",, \"T\")","v":72.59},{"$f":"RTD(\"cqg.rtd\", ,\"ContractData\",A25, \"Open\",, \"T\")","v":72.25},{"$f":"RTD(\"cqg.rtd\", ,\"ContractData\",A25, \"High\",, \"T\")","v":72.66},{"$f":"RTD(\"cqg.rtd\", ,\"ContractData\",A25, \"Low\",, \"T\")","v":72.25},{"$f":"RTD(\"cqg.rtd\", ,\"ContractData\",A25, \"T_CVol\",, \"T\")","v":2670},{"$f":"J25-RTD(\"cqg.rtd\", ,\"ContractData\",A25, \"Y_CVol\",, \"T\")","v":951},{"$f":"RTD(\"cqg.rtd\",,\"StudyData\",A25,  \"Bar\",,  \"ContractOI\", \"D\", \"-1\",,,,,\"T\")","v":12105},{"$f":"L25-RTD(\"cqg.rtd\",,\"StudyData\",A25,  \"Bar\",,  \"ContractOI\", \"D\", \"-2\",,,,,\"T\")","v":-87}]
[{"$f":"Data!B23","v":"CLE?23"},{"$f":"Data!F23","v":"Apr 28"},{"$f":"RTD(\"cqg.rtd\", ,\"ContractData\",A26, \"LastTrade\",, \"T\")","v":""},{"$f":"RTD(\"cqg.rtd\", ,\"ContractData\",A26, \"NetLastTrade\",, \"T\")","v":""},{"$f":"RTD(\"cqg.rtd\", ,\"ContractData\",A26, \"NetSettlement\",, \"T\")","v":2.11},{"$f":"RTD(\"cqg.rtd\", ,\"ContractData\",A26, \"TradeorTodaySettlement\",, \"T\")","v":72.3},{"$f":"RTD(\"cqg.rtd\", ,\"ContractData\",A26, \"Open\",, \"T\")","v":72.3},{"$f":"RTD(\"cqg.rtd\", ,\"ContractData\",A26, \"High\",, \"T\")","v":72.3},{"$f":"RTD(\"cqg.rtd\", ,\"ContractData\",A26, \"Low\",, \"T\")","v":72.3},{"$f":"RTD(\"cqg.rtd\", ,\"ContractData\",A26, \"T_CVol\",, \"T\")","v":169},{"$f":"J26-RTD(\"cqg.rtd\", ,\"ContractData\",A26, \"Y_CVol\",, \"T\")","v":-690},{"$f":"RTD(\"cqg.rtd\",,\"StudyData\",A26,  \"Bar\",,  \"ContractOI\", \"D\", \"-1\",,,,,\"T\")","v":7145},{"$f":"L26-RTD(\"cqg.rtd\",,\"StudyData\",A26,  \"Bar\",,  \"ContractOI\", \"D\", \"-2\",,,,,\"T\")","v":564}]
[{"$f":"Data!B24","v":"CLE?24"},{"$f":"Data!F24","v":"May 28"},{"$f":"RTD(\"cqg.rtd\", ,\"ContractData\",A27, \"LastTrade\",, \"T\")","v":""},{"$f":"RTD(\"cqg.rtd\", ,\"ContractData\",A27, \"NetLastTrade\",, \"T\")","v":""},{"$f":"RTD(\"cqg.rtd\", ,\"ContractData\",A27, \"NetSettlement\",, \"T\")","v":2.06},{"$f":"RTD(\"cqg.rtd\", ,\"ContractData\",A27, \"TradeorTodaySettlement\",, \"T\")","v":72.02},{"$f":"RTD(\"cqg.rtd\", ,\"ContractData\",A27, \"Open\",, \"T\")","v":72.02},{"$f":"RTD(\"cqg.rtd\", ,\"ContractData\",A27, \"High\",, \"T\")","v":72.02},{"$f":"RTD(\"cqg.rtd\", ,\"ContractData\",A27, \"Low\",, \"T\")","v":72.02},{"$f":"RTD(\"cqg.rtd\", ,\"ContractData\",A27, \"T_CVol\",, \"T\")","v":115},{"$f":"J27-RTD(\"cqg.rtd\", ,\"ContractData\",A27, \"Y_CVol\",, \"T\")","v":35},{"$f":"RTD(\"cqg.rtd\",,\"StudyData\",A27,  \"Bar\",,  \"ContractOI\", \"D\", \"-1\",,,,,\"T\")","v":4866},{"$f":"L27-RTD(\"cqg.rtd\",,\"StudyData\",A27,  \"Bar\",,  \"ContractOI\", \"D\", \"-2\",,,,,\"T\")","v":53}]
[{"$f":"Data!B25","v":"CLE?25"},{"$f":"Data!F25","v":"Jun 28"},{"$f":"RTD(\"cqg.rtd\", ,\"ContractData\",A28, \"LastTrade\",, \"T\")","v":71.960000000000008},{"$f":"RTD(\"cqg.rtd\", ,\"ContractData\",A28, \"NetLastTrade\",, \"T\")","v":2.230000000000004},{"$f":"RTD(\"cqg.rtd\", ,\"ContractData\",A28, \"NetSettlement\",, \"T\")","v":2.04},{"$f":"RTD(\"cqg.rtd\", ,\"ContractData\",A28, \"TradeorTodaySettlement\",, \"T\")","v":71.960000000000008},{"$f":"RTD(\"cqg.rtd\", ,\"ContractData\",A28, \"Open\",, \"T\")","v":69.739999999999995},{"$f":"RTD(\"cqg.rtd\", ,\"ContractData\",A28, \"High\",, \"T\")","v":72.16},{"$f":"RTD(\"cqg.rtd\", ,\"ContractData\",A28, \"Low\",, \"T\")","v":69.739999999999995},{"$f":"RTD(\"cqg.rtd\", ,\"ContractData\",A28, \"T_CVol\",, \"T\")","v":14393},{"$f":"J28-RTD(\"cqg.rtd\", ,\"ContractData\",A28, \"Y_CVol\",, \"T\")","v":11559},{"$f":"RTD(\"cqg.rtd\",,\"StudyData\",A28,  \"Bar\",,  \"ContractOI\", \"D\", \"-1\",,,,,\"T\")","v":37282},{"$f":"L28-RTD(\"cqg.rtd\",,\"StudyData\",A28,  \"Bar\",,  \"ContractOI\", \"D\", \"-2\",,,,,\"T\")","v":40}]
[{"$f":"Data!B26","v":"CLE?26"},{"$f":"Data!F26","v":"Jul 28"},{"$f":"RTD(\"cqg.rtd\", ,\"ContractData\",A29, \"LastTrade\",, \"T\")","v":""},{"$f":"RTD(\"cqg.rtd\", ,\"ContractData\",A29, \"NetLastTrade\",, \"T\")","v":""},{"$f":"RTD(\"cqg.rtd\", ,\"ContractData\",A29, \"NetSettlement\",, \"T\")","v":2},{"$f":"RTD(\"cqg.rtd\", ,\"ContractData\",A29, \"TradeorTodaySettlement\",, \"T\")","v":71.47},{"$f":"RTD(\"cqg.rtd\", ,\"ContractData\",A29, \"Open\",, \"T\")","v":71.47},{"$f":"RTD(\"cqg.rtd\", ,\"ContractData\",A29, \"High\",, \"T\")","v":71.47},{"$f":"RTD(\"cqg.rtd\", ,\"ContractData\",A29, \"Low\",, \"T\")","v":71.47},{"$f":"RTD(\"cqg.rtd\", ,\"ContractData\",A29, \"T_CVol\",, \"T\")","v":43},{"$f":"J29-RTD(\"cqg.rtd\", ,\"ContractData\",A29, \"Y_CVol\",, \"T\")","v":10},{"$f":"RTD(\"cqg.rtd\",,\"StudyData\",A29,  \"Bar\",,  \"ContractOI\", \"D\", \"-1\",,,,,\"T\")","v":3846},{"$f":"L29-RTD(\"cqg.rtd\",,\"StudyData\",A29,  \"Bar\",,  \"ContractOI\", \"D\", \"-2\",,,,,\"T\")","v":33}]
[{"$f":"Data!B27","v":"CLE?27"},{"$f":"Data!F27","v":"Aug 28"},{"$f":"RTD(\"cqg.rtd\", ,\"ContractData\",A30, \"LastTrade\",, \"T\")","v":""},{"$f":"RTD(\"cqg.rtd\", ,\"ContractData\",A30, \"NetLastTrade\",, \"T\")","v":""},{"$f":"RTD(\"cqg.rtd\", ,\"ContractData\",A30, \"NetSettlement\",, \"T\")","v":1.96},{"$f":"RTD(\"cqg.rtd\", ,\"ContractData\",A30, \"TradeorTodaySettlement\",, \"T\")","v":71.16},{"$f":"RTD(\"cqg.rtd\", ,\"ContractData\",A30, \"Open\",, \"T\")","v":71.16},{"$f":"RTD(\"cqg.rtd\", ,\"ContractData\",A30, \"High\",, \"T\")","v":71.16},{"$f":"RTD(\"cqg.rtd\", ,\"ContractData\",A30, \"Low\",, \"T\")","v":71.16},{"$f":"RTD(\"cqg.rtd\", ,\"ContractData\",A30, \"T_CVol\",, \"T\")","v":62},{"$f":"J30-RTD(\"cqg.rtd\", ,\"ContractData\",A30, \"Y_CVol\",, \"T\")","v":-6},{"$f":"RTD(\"cqg.rtd\",,\"StudyData\",A30,  \"Bar\",,  \"ContractOI\", \"D\", \"-1\",,,,,\"T\")","v":3365},{"$f":"L30-RTD(\"cqg.rtd\",,\"StudyData\",A30,  \"Bar\",,  \"ContractOI\", \"D\", \"-2\",,,,,\"T\")","v":35}]
[{"$f":"Data!B28","v":"CLE?28"},{"$f":"Data!F28","v":"Sep 28"},{"$f":"RTD(\"cqg.rtd\", ,\"ContractData\",A31, \"LastTrade\",, \"T\")","v":70.05},{"$f":"RTD(\"cqg.rtd\", ,\"ContractData\",A31, \"NetLastTrade\",, \"T\")","v":1.0999999999999943},{"$f":"RTD(\"cqg.rtd\", ,\"ContractData\",A31, \"NetSettlement\",, \"T\")","v":1.92},{"$f":"RTD(\"cqg.rtd\", ,\"ContractData\",A31, \"TradeorTodaySettlement\",, \"T\")","v":70.05},{"$f":"RTD(\"cqg.rtd\", ,\"ContractData\",A31, \"Open\",, \"T\")","v":70.05},{"$f":"RTD(\"cqg.rtd\", ,\"ContractData\",A31, \"High\",, \"T\")","v":70.87},{"$f":"RTD(\"cqg.rtd\", ,\"ContractData\",A31, \"Low\",, \"T\")","v":70.05},{"$f":"RTD(\"cqg.rtd\", ,\"ContractData\",A31, \"T_CVol\",, \"T\")","v":106},{"$f":"J31-RTD(\"cqg.rtd\", ,\"ContractData\",A31, \"Y_CVol\",, \"T\")","v":106},{"$f":"RTD(\"cqg.rtd\",,\"StudyData\",A31,  \"Bar\",,  \"ContractOI\", \"D\", \"-1\",,,,,\"T\")","v":8030},{"$f":"L31-RTD(\"cqg.rtd\",,\"StudyData\",A31,  \"Bar\",,  \"ContractOI\", \"D\", \"-2\",,,,,\"T\")","v":0}]
[{"$f":"Data!B29","v":"CLE?29"},{"$f":"Data!F29","v":"Oct 28"},{"$f":"RTD(\"cqg.rtd\", ,\"ContractData\",A32, \"LastTrade\",, \"T\")","v":""},{"$f":"RTD(\"cqg.rtd\", ,\"ContractData\",A32, \"NetLastTrade\",, \"T\")","v":""},{"$f":"RTD(\"cqg.rtd\", ,\"ContractData\",A32, \"NetSettlement\",, \"T\")","v":1.8900000000000001},{"$f":"RTD(\"cqg.rtd\", ,\"ContractData\",A32, \"TradeorTodaySettlement\",, \"T\")","v":70.61},{"$f":"RTD(\"cqg.rtd\", ,\"ContractData\",A32, \"Open\",, \"T\")","v":70.61},{"$f":"RTD(\"cqg.rtd\", ,\"ContractData\",A32, \"High\",, \"T\")","v":70.61},{"$f":"RTD(\"cqg.rtd\", ,\"ContractData\",A32, \"Low\",, \"T\")","v":70.61},{"$f":"RTD(\"cqg.rtd\", ,\"ContractData\",A32, \"T_CVol\",, \"T\")","v":51},{"$f":"J32-RTD(\"cqg.rtd\", ,\"ContractData\",A32, \"Y_CVol\",, \"T\")","v":51},{"$f":"RTD(\"cqg.rtd\",,\"StudyData\",A32,  \"Bar\",,  \"ContractOI\", \"D\", \"-1\",,,,,\"T\")","v":2355},{"$f":"L32-RTD(\"cqg.rtd\",,\"StudyData\",A32,  \"Bar\",,  \"ContractOI\", \"D\", \"-2\",,,,,\"T\")","v":0}]
[{"$f":"Data!B30","v":"CLE?30"},{"$f":"Data!F30","v":"Nov 28"},{"$f":"RTD(\"cqg.rtd\", ,\"ContractData\",A33, \"LastTrade\",, \"T\")","v":""},{"$f":"RTD(\"cqg.rtd\", ,\"ContractData\",A33, \"NetLastTrade\",, \"T\")","v":""},{"$f":"RTD(\"cqg.rtd\", ,\"ContractData\",A33, \"NetSettlement\",, \"T\")","v":1.85},{"$f":"RTD(\"cqg.rtd\", ,\"ContractData\",A33, \"TradeorTodaySettlement\",, \"T\")","v":70.37},{"$f":"RTD(\"cqg.rtd\", ,\"ContractData\",A33, \"Open\",, \"T\")","v":70.37},{"$f":"RTD(\"cqg.rtd\", ,\"ContractData\",A33, \"High\",, \"T\")","v":70.37},{"$f":"RTD(\"cqg.rtd\", ,\"ContractData\",A33, \"Low\",, \"T\")","v":70.37},{"$f":"RTD(\"cqg.rtd\", ,\"ContractData\",A33, \"T_CVol\",, \"T\")","v":17},{"$f":"J33-RTD(\"cqg.rtd\", ,\"ContractData\",A33, \"Y_CVol\",, \"T\")","v":1},{"$f":"RTD(\"cqg.rtd\",,\"StudyData\",A33,  \"Bar\",,  \"ContractOI\", \"D\", \"-1\",,,,,\"T\")","v":5094},{"$f":"L33-RTD(\"cqg.rtd\",,\"StudyData\",A33,  \"Bar\",,  \"ContractOI\", \"D\", \"-2\",,,,,\"T\")","v":1}]
[{"$f":"Data!B31","v":"CLE?31"},{"$f":"Data!F31","v":"Dec 28"},{"$f":"RTD(\"cqg.rtd\", ,\"ContractData\",A34, \"LastTrade\",, \"T\")","v":70.41},{"$f":"RTD(\"cqg.rtd\", ,\"ContractData\",A34, \"NetLastTrade\",, \"T\")","v":2.1099999999999994},{"$f":"RTD(\"cqg.rtd\", ,\"ContractData\",A34, \"NetSettlement\",, \"T\")","v":1.82},{"$f":"RTD(\"cqg.rtd\", ,\"ContractData\",A34, \"TradeorTodaySettlement\",, \"T\")","v":70.41},{"$f":"RTD(\"cqg.rtd\", ,\"ContractData\",A34, \"Open\",, \"T\")","v":68.460000000000008},{"$f":"RTD(\"cqg.rtd\", ,\"ContractData\",A34, \"High\",, \"T\")","v":70.680000000000007},{"$f":"RTD(\"cqg.rtd\", ,\"ContractData\",A34, \"Low\",, \"T\")","v":68},{"$f":"RTD(\"cqg.rtd\", ,\"ContractData\",A34, \"T_CVol\",, \"T\")","v":25662},{"$f":"J34-RTD(\"cqg.rtd\", ,\"ContractData\",A34, \"Y_CVol\",, \"T\")","v":18366},{"$f":"RTD(\"cqg.rtd\",,\"StudyData\",A34,  \"Bar\",,  \"ContractOI\", \"D\", \"-1\",,,,,\"T\")","v":64016},{"$f":"L34-RTD(\"cqg.rtd\",,\"StudyData\",A34,  \"Bar\",,  \"ContractOI\", \"D\", \"-2\",,,,,\"T\")","v":428}]
[{"$f":"Data!B32","v":"CLE?32"},{"$f":"Data!F32","v":"Jan 29"},{"$f":"RTD(\"cqg.rtd\", ,\"ContractData\",A35, \"LastTrade\",, \"T\")","v":""},{"$f":"RTD(\"cqg.rtd\", ,\"ContractData\",A35, \"NetLastTrade\",, \"T\")","v":""},{"$f":"RTD(\"cqg.rtd\", ,\"ContractData\",A35, \"NetSettlement\",, \"T\")","v":1.8},{"$f":"RTD(\"cqg.rtd\", ,\"ContractData\",A35, \"TradeorTodaySettlement\",, \"T\")","v":69.83},{"$f":"RTD(\"cqg.rtd\", ,\"ContractData\",A35, \"Open\",, \"T\")","v":69.83},{"$f":"RTD(\"cqg.rtd\", ,\"ContractData\",A35, \"High\",, \"T\")","v":69.83},{"$f":"RTD(\"cqg.rtd\", ,\"ContractData\",A35, \"Low\",, \"T\")","v":69.83},{"$f":"RTD(\"cqg.rtd\", ,\"ContractData\",A35, \"T_CVol\",, \"T\")","v":14},{"$f":"J35-RTD(\"cqg.rtd\", ,\"ContractData\",A35, \"Y_CVol\",, \"T\")","v":-2},{"$f":"RTD(\"cqg.rtd\",,\"StudyData\",A35,  \"Bar\",,  \"ContractOI\", \"D\", \"-1\",,,,,\"T\")","v":2610},{"$f":"L35-RTD(\"cqg.rtd\",,\"StudyData\",A35,  \"Bar\",,  \"ContractOI\", \"D\", \"-2\",,,,,\"T\")","v":0}]
[{"$f":"Data!B33","v":"CLE?33"},{"$f":"Data!F33","v":"Feb 29"},{"$f":"RTD(\"cqg.rtd\", ,\"ContractData\",A36, \"LastTrade\",, \"T\")","v":""},{"$f":"RTD(\"cqg.rtd\", ,\"ContractData\",A36, \"NetLastTrade\",, \"T\")","v":""},{"$f":"RTD(\"cqg.rtd\", ,\"ContractData\",A36, \"NetSettlement\",, \"T\")","v":1.76},{"$f":"RTD(\"cqg.rtd\", ,\"ContractData\",A36, \"TradeorTodaySettlement\",, \"T\")","v":69.540000000000006},{"$f":"RTD(\"cqg.rtd\", ,\"ContractData\",A36, \"Open\",, \"T\")","v":69.540000000000006},{"$f":"RTD(\"cqg.rtd\", ,\"ContractData\",A36, \"High\",, \"T\")","v":69.540000000000006},{"$f":"RTD(\"cqg.rtd\", ,\"ContractData\",A36, \"Low\",, \"T\")","v":69.540000000000006},{"$f":"RTD(\"cqg.rtd\", ,\"ContractData\",A36, \"T_CVol\",, \"T\")","v":3},{"$f":"J36-RTD(\"cqg.rtd\", ,\"ContractData\",A36, \"Y_CVol\",, \"T\")","v":-9},{"$f":"RTD(\"cqg.rtd\",,\"StudyData\",A36,  \"Bar\",,  \"ContractOI\", \"D\", \"-1\",,,,,\"T\")","v":1572},{"$f":"L36-RTD(\"cqg.rtd\",,\"StudyData\",A36,  \"Bar\",,  \"ContractOI\", \"D\", \"-2\",,,,,\"T\")","v":12}]
[{"$f":"Data!B34","v":"CLE?34"},{"$f":"Data!F34","v":"Mar 29"},{"$f":"RTD(\"cqg.rtd\", ,\"ContractData\",A37, \"LastTrade\",, \"T\")","v":""},{"$f":"RTD(\"cqg.rtd\", ,\"ContractData\",A37, \"NetLastTrade\",, \"T\")","v":""},{"$f":"RTD(\"cqg.rtd\", ,\"ContractData\",A37, \"NetSettlement\",, \"T\")","v":1.72},{"$f":"RTD(\"cqg.rtd\", ,\"ContractData\",A37, \"TradeorTodaySettlement\",, \"T\")","v":69.28},{"$f":"RTD(\"cqg.rtd\", ,\"ContractData\",A37, \"Open\",, \"T\")","v":69.28},{"$f":"RTD(\"cqg.rtd\", ,\"ContractData\",A37, \"High\",, \"T\")","v":69.28},{"$f":"RTD(\"cqg.rtd\", ,\"ContractData\",A37, \"Low\",, \"T\")","v":69.28},{"$f":"RTD(\"cqg.rtd\", ,\"ContractData\",A37, \"T_CVol\",, \"T\")","v":5},{"$f":"J37-RTD(\"cqg.rtd\", ,\"ContractData\",A37, \"Y_CVol\",, \"T\")","v":-15},{"$f":"RTD(\"cqg.rtd\",,\"StudyData\",A37,  \"Bar\",,  \"ContractOI\", \"D\", \"-1\",,,,,\"T\")","v":2469},{"$f":"L37-RTD(\"cqg.rtd\",,\"StudyData\",A37,  \"Bar\",,  \"ContractOI\", \"D\", \"-2\",,,,,\"T\")","v":12}]
[{"$f":"Data!B35","v":"CLE?35"},{"$f":"Data!F35","v":"Apr 29"},{"$f":"RTD(\"cqg.rtd\", ,\"ContractData\",A38, \"LastTrade\",, \"T\")","v":""},{"$f":"RTD(\"cqg.rtd\", ,\"ContractData\",A38, \"NetLastTrade\",, \"T\")","v":""},{"$f":"RTD(\"cqg.rtd\", ,\"ContractData\",A38, \"NetSettlement\",, \"T\")","v":1.7},{"$f":"RTD(\"cqg.rtd\", ,\"ContractData\",A38, \"TradeorTodaySettlement\",, \"T\")","v":69.040000000000006},{"$f":"RTD(\"cqg.rtd\", ,\"ContractData\",A38, \"Open\",, \"T\")","v":69.040000000000006},{"$f":"RTD(\"cqg.rtd\", ,\"ContractData\",A38, \"High\",, \"T\")","v":69.040000000000006},{"$f":"RTD(\"cqg.rtd\", ,\"ContractData\",A38, \"Low\",, \"T\")","v":69.040000000000006},{"$f":"RTD(\"cqg.rtd\", ,\"ContractData\",A38, \"T_CVol\",, \"T\")","v":0},{"$f":"J38-RTD(\"cqg.rtd\", ,\"ContractData\",A38, \"Y_CVol\",, \"T\")","v":0},{"$f":"RTD(\"cqg.rtd\",,\"StudyData\",A38,  \"Bar\",,  \"ContractOI\", \"D\", \"-1\",,,,,\"T\")","v":263},{"$f":"L38-RTD(\"cqg.rtd\",,\"StudyData\",A38,  \"Bar\",,  \"ContractOI\", \"D\", \"-2\",,,,,\"T\")","v":0}]
[{"$f":"Data!B36","v":"CLE?36"},{"$f":"Data!F36","v":"May 29"},{"$f":"RTD(\"cqg.rtd\", ,\"ContractData\",A39, \"LastTrade\",, \"T\")","v":""},{"$f":"RTD(\"cqg.rtd\", ,\"ContractData\",A39, \"NetLastTrade\",, \"T\")","v":""},{"$f":"RTD(\"cqg.rtd\", ,\"ContractData\",A39, \"NetSettlement\",, \"T\")","v":1.6600000000000001},{"$f":"RTD(\"cqg.rtd\", ,\"ContractData\",A39, \"TradeorTodaySettlement\",, \"T\")","v":68.820000000000007},{"$f":"RTD(\"cqg.rtd\", ,\"ContractData\",A39, \"Open\",, \"T\")","v":68.820000000000007},{"$f":"RTD(\"cqg.rtd\", ,\"ContractData\",A39, \"High\",, \"T\")","v":68.820000000000007},{"$f":"RTD(\"cqg.rtd\", ,\"ContractData\",A39, \"Low\",, \"T\")","v":68.820000000000007},{"$f":"RTD(\"cqg.rtd\", ,\"ContractData\",A39, \"T_CVol\",, \"T\")","v":0},{"$f":"J39-RTD(\"cqg.rtd\", ,\"ContractData\",A39, \"Y_CVol\",, \"T\")","v":0},{"$f":"RTD(\"cqg.rtd\",,\"StudyData\",A39,  \"Bar\",,  \"ContractOI\", \"D\", \"-1\",,,,,\"T\")","v":424},{"$f":"L39-RTD(\"cqg.rtd\",,\"StudyData\",A39,  \"Bar\",,  \"ContractOI\", \"D\", \"-2\",,,,,\"T\")","v":0}]
[{"$f":"Data!B37","v":"CLE?37"},{"$f":"Data!F37","v":"Jun 29"},{"$f":"RTD(\"cqg.rtd\", ,\"ContractData\",A40, \"LastTrade\",, \"T\")","v":""},{"$f":"RTD(\"cqg.rtd\", ,\"ContractData\",A40, \"NetLastTrade\",, \"T\")","v":""},{"$f":"RTD(\"cqg.rtd\", ,\"ContractData\",A40, \"NetSettlement\",, \"T\")","v":1.62},{"$f":"RTD(\"cqg.rtd\", ,\"ContractData\",A40, \"TradeorTodaySettlement\",, \"T\")","v":68.59},{"$f":"RTD(\"cqg.rtd\", ,\"ContractData\",A40, \"Open\",, \"T\")","v":68.59},{"$f":"RTD(\"cqg.rtd\", ,\"ContractData\",A40, \"High\",, \"T\")","v":68.59},{"$f":"RTD(\"cqg.rtd\", ,\"ContractData\",A40, \"Low\",, \"T\")","v":68.59},{"$f":"RTD(\"cqg.rtd\", ,\"ContractData\",A40, \"T_CVol\",, \"T\")","v":349},{"$f":"J40-RTD(\"cqg.rtd\", ,\"ContractData\",A40, \"Y_CVol\",, \"T\")","v":282},{"$f":"RTD(\"cqg.rtd\",,\"StudyData\",A40,  \"Bar\",,  \"ContractOI\", \"D\", \"-1\",,,,,\"T\")","v":8812},{"$f":"L40-RTD(\"cqg.rtd\",,\"StudyData\",A40,  \"Bar\",,  \"ContractOI\", \"D\", \"-2\",,,,,\"T\")","v":-8}]

{"sheet":"Data","index":1,"n_rows":129,"n_cols":25,"rows_kept":129,"cut":false,"hidden":false,"merged":[]}
[1,{"$f":"$N$1&\"?\"&A1","v":"CLE?1"},{"$f":"LEFT(B1,FIND(\"?\",B1)-1)","v":"CLE"},{"$f":"RTD(\"cqg.rtd\", ,\"ContractData\",B1, \"ContractMonth\",, \"T\")","v":"JUN"},{"$f":"RTD(\"cqg.rtd\", ,\"ContractData\",B1, \"LongDescription\",, \"T\")","v":"Crude Light (Globex), Jun 26"},{"$f":"_xlfn.REGEXEXTRACT(RTD(\"cqg.rtd\", ,\"ContractData\",B1, \"LongDescription\",, \"T\"), \"[A-Z][a-z]{2}\\s\\d{2}\")","v":"Jun 26"},{"$f":"RTD(\"cqg.rtd\", ,\"ContractData\",B1, \"LastTrade\",, \"T\")","v":105.13},{"$f":"IF(RTD(\"cqg.rtd\", ,\"ContractData\",B1, \"NetLastTrade\",, \"T\")=\"\",NA(),RTD(\"cqg.rtd\", ,\"ContractData\",B1, \"NetLastTrade\",, \"T\"))","v":3.1899999999999977},{"$f":"RTD(\"cqg.rtd\", ,\"ContractData\",B1, \"Bid\",, \"T\")","v":105.12},{"$f":"RTD(\"cqg.rtd\", ,\"ContractData\",B1, \"Ask\",, \"T\")","v":105.15},{"$f":"RTD(\"cqg.rtd\", ,\"ContractData\",B1, \"T_CVol\",, \"T\")","v":311790},{"$f":"RTD(\"cqg.rtd\", ,\"ContractData\",B1, \"TradeorTodaySettlement\",, \"T\")","v":105.13},{"$f":"RTD(\"cqg.rtd\", ,\"ContractData\",B1, \"NetSettlement\",, \"T\")","v":4.4800000000000004},{"$f":"Display!F2","v":"CLE"},{"$f":"ROUNDUP(MAX(G1:G12)+1,0)","v":107},{"$f":"ROUNDUP(MAX(S1:S11)+1,0)","v":85},{"$f":"_xlfn._xlws.FILTER(Data!$B$1:$B$130,((Data!$C$1:$C$130=Display!F2)*(Data!$D$1:$D$130=Display!G2)))","v":"CLE?7"},{"$f":"IF(RTD(\"cqg.rtd\", ,\"ContractData\",Q1, \"TradeorTodaySettlement\",, \"T\")=\"\",NA(),RTD(\"cqg.rtd\", ,\"ContractData\",Q1, \"TradeorTodaySettlement\",, \"T\"))","v":83.37},{"$f":"IFERROR(R1,\"\")","v":83.37},{"$f":"RTD(\"cqg.rtd\", ,\"ContractData\",Q1, \"LongDescription\",, \"T\")","v":"Crude Light (Globex), Dec 26"},null,null,{"$f":"_xlfn.REGEXEXTRACT(RTD(\"cqg.rtd\", ,\"ContractData\",Q1, \"LongDescription\",, \"T\"), \"[A-Z][a-z]{2}\\s\\d{2}\")","v":"Dec 26"},{"$f":"IF(Q1=\"\",NA(),RTD(\"cqg.rtd\", ,\"ContractData\",Q1, \"NetSettlement\",, \"T\"))","v":4.1900000000000004},{"$f":"IFERROR(X1,\"\")","v":4.1900000000000004}]
[{"$f":"A1+1","v":2},{"$f":"$N$1&\"?\"&A2","v":"CLE?2"},{"$f":"LEFT(B2,FIND(\"?\",B2)-1)","v":"CLE"},{"$f":"RTD(\"cqg.rtd\", ,\"ContractData\",B2, \"ContractMonth\",, \"T\")","v":"JUL"},{"$f":"RTD(\"cqg.rtd\", ,\"ContractData\",B2, \"LongDescription\",, \"T\")","v":"Crude Light (Globex), Jul 26"},{"$f":"_xlfn.REGEXEXTRACT(RTD(\"cqg.rtd\", ,\"ContractData\",B2, \"LongDescription\",, \"T\"), \"[A-Z][a-z]{2}\\s\\d{2}\")","v":"Jul 26"},{"$f":"RTD(\"cqg.rtd\", ,\"ContractData\",B2, \"LastTrade\",, \"T\")","v":100.56},{"$f":"IF(RTD(\"cqg.rtd\", ,\"ContractData\",B2, \"NetLastTrade\",, \"T\")=\"\",NA(),RTD(\"cqg.rtd\", ,\"ContractData\",B2, \"NetLastTrade\",, \"T\"))","v":4.019999999999996},{"$f":"RTD(\"cqg.rtd\", ,\"ContractData\",B2, \"Bid\",, \"T\")","v":100.53},{"$f":"RTD(\"cqg.rtd\", ,\"ContractData\",B2, \"Ask\",, \"T\")","v":100.56},{"$f":"RTD(\"cqg.rtd\", ,\"ContractData\",B2, \"T_CVol\",, \"T\")","v":176466},{"$f":"RTD(\"cqg.rtd\", ,\"ContractData\",B2, \"TradeorTodaySettlement\",, \"T\")","v":100.56},{"$f":"RTD(\"cqg.rtd\", ,\"ContractData\",B2, \"NetSettlement\",, \"T\")","v":4.97},null,{"$f":"ROUNDDOWN(MIN(G1:G12)-1,0)","v":76},{"$f":"ROUNDDOWN(MIN(S1:S11),0)","v":53},"CLE?19",{"$f":"IF(RTD(\"cqg.rtd\", ,\"ContractData\",Q2, \"TradeorTodaySettlement\",, \"T\")=\"\",NA(),RTD(\"cqg.rtd\", ,\"ContractData\",Q2, \"TradeorTodaySettlement\",, \"T\"))","v":73.97},{"$f":"IFERROR(R2,\"\")","v":73.97},{"$f":"RTD(\"cqg.rtd\", ,\"ContractData\",Q2, \"LongDescription\",, \"T\")","v":"Crude Light (Globex), Dec 27"},null,null,{"$f":"_xlfn.REGEXEXTRACT(RTD(\"cqg.rtd\", ,\"ContractData\",Q2, \"LongDescription\",, \"T\"), \"[A-Z][a-z]{2}\\s\\d{2}\")","v":"Dec 27"},{"$f":"IF(Q2=\"\",NA(),RTD(\"cqg.rtd\", ,\"ContractData\",Q2, \"NetSettlement\",, \"T\"))","v":2.31},{"$f":"IFERROR(X2,\"\")","v":2.31}]
[{"$f":"A2+1","v":3},{"$f":"$N$1&\"?\"&A3","v":"CLE?3"},"CLE",{"$f":"RTD(\"cqg.rtd\", ,\"ContractData\",B3, \"ContractMonth\",, \"T\")","v":"AUG"},{"$f":"RTD(\"cqg.rtd\", ,\"ContractData\",B3, \"LongDescription\",, \"T\")","v":"Crude Light (Globex), Aug 26"},{"$f":"_xlfn.REGEXEXTRACT(RTD(\"cqg.rtd\", ,\"ContractData\",B3, \"LongDescription\",, \"T\"), \"[A-Z][a-z]{2}\\s\\d{2}\")","v":"Aug 26"},{"$f":"RTD(\"cqg.rtd\", ,\"ContractData\",B3, \"LastTrade\",, \"T\")","v":95.72},{"$f":"IF(RTD(\"cqg.rtd\", ,\"ContractData\",B3, \"NetLastTrade\",, \"T\")=\"\",NA(),RTD(\"cqg.rtd\", ,\"ContractData\",B3, \"NetLastTrade\",, \"T\"))","v":4.1599999999999966},{"$f":"RTD(\"cqg.rtd\", ,\"ContractData\",B3, \"Bid\",, \"T\")","v":95.7},{"$f":"RTD(\"cqg.rtd\", ,\"ContractData\",B3, \"Ask\",, \"T\")","v":95.73},{"$f":"RTD(\"cqg.rtd\", ,\"ContractData\",B3, \"T_CVol\",, \"T\")","v":108323},{"$f":"RTD(\"cqg.rtd\", ,\"ContractData\",B3, \"TradeorTodaySettlement\",, \"T\")","v":95.72},{"$f":"RTD(\"cqg.rtd\", ,\"ContractData\",B3, \"NetSettlement\",, \"T\")","v":4.96},null,null,null,"CLE?31",{"$f":"IF(RTD(\"cqg.rtd\", ,\"ContractData\",Q3, \"TradeorTodaySettlement\",, \"T\")=\"\",NA(),RTD(\"cqg.rtd\", ,\"ContractData\",Q3, \"TradeorTodaySettlement\",, \"T\"))","v":70.41},70.41,{"$f":"RTD(\"cqg.rtd\", ,\"ContractData\",Q3, \"LongDescription\",, \"T\")","v":"Crude Light (Globex), Dec 28"},null,null,{"$f":"_xlfn.REGEXEXTRACT(RTD(\"cqg.rtd\", ,\"ContractData\",Q3, \"LongDescription\",, \"T\"), \"[A-Z][a-z]{2}\\s\\d{2}\")","v":"Dec 28"},{"$f":"IF(Q3=\"\",NA(),RTD(\"cqg.rtd\", ,\"ContractData\",Q3, \"NetSettlement\",, \"T\"))","v":1.82},1.82]
[4,"CLE?4","CLE",{"$f":"RTD(\"cqg.rtd\", ,\"ContractData\",B4, \"ContractMonth\",, \"T\")","v":"SEP"},{"$f":"RTD(\"cqg.rtd\", ,\"ContractData\",B4, \"LongDescription\",, \"T\")","v":"Crude Light (Globex), Sep 26"},{"$f":"_xlfn.REGEXEXTRACT(RTD(\"cqg.rtd\", ,\"ContractData\",B4, \"LongDescription\",, \"T\"), \"[A-Z][a-z]{2}\\s\\d{2}\")","v":"Sep 26"},{"$f":"RTD(\"cqg.rtd\", ,\"ContractData\",B4, \"LastTrade\",, \"T\")","v":91.62},{"$f":"IF(RTD(\"cqg.rtd\", ,\"ContractData\",B4, \"NetLastTrade\",, \"T\")=\"\",NA(),RTD(\"cqg.rtd\", ,\"ContractData\",B4, \"NetLastTrade\",, \"T\"))","v":4.230000000000004},{"$f":"RTD(\"cqg.rtd\", ,\"ContractData\",B4, \"Bid\",, \"T\")","v":91.58},{"$f":"RTD(\"cqg.rtd\", ,\"ContractData\",B4, \"Ask\",, \"T\")","v":91.62},{"$f":"RTD(\"cqg.rtd\", ,\"ContractData\",B4, \"T_CVol\",, \"T\")","v":100532},{"$f":"RTD(\"cqg.rtd\", ,\"ContractData\",B4, \"TradeorTodaySettlement\",, \"T\")","v":91.62},{"$f":"RTD(\"cqg.rtd\", ,\"ContractData\",B4, \"NetSettlement\",, \"T\")","v":4.87},null,{"$f":"ROUNDUP(MAX(H1:H12)+1,0)","v":6},{"$f":"ROUNDUP(MAX(Y1:Y11)+1,0)","v":6},"CLE?43",{"$f":"IF(RTD(\"cqg.rtd\", ,\"ContractData\",Q4, \"TradeorTodaySettlement\",, \"T\")=\"\",NA(),RTD(\"cqg.rtd\", ,\"ContractData\",Q4, \"TradeorTodaySettlement\",, \"T\"))","v":67.570000000000007},67.570000000000007,{"$f":"RTD(\"cqg.rtd\", ,\"ContractData\",Q4, \"LongDescription\",, \"T\")","v":"Crude Light (Globex), Dec 29"},null,null,{"$f":"_xlfn.REGEXEXTRACT(RTD(\"cqg.rtd\", ,\"ContractData\",Q4, \"LongDescription\",, \"T\"), \"[A-Z][a-z]{2}\\s\\d{2}\")","v":"Dec 29"},{"$f":"IF(Q4=\"\",NA(),RTD(\"cqg.rtd\", ,\"ContractData\",Q4, \"NetSettlement\",, \"T\"))","v":1.4000000000000001},1.4000000000000001]
[5,"CLE?5","CLE",{"$f":"RTD(\"cqg.rtd\", ,\"ContractData\",B5, \"ContractMonth\",, \"T\")","v":"OCT"},{"$f":"RTD(\"cqg.rtd\", ,\"ContractData\",B5, \"LongDescription\",, \"T\")","v":"Crude Light (Globex), Oct 26"},{"$f":"_xlfn.REGEXEXTRACT(RTD(\"cqg.rtd\", ,\"ContractData\",B5, \"LongDescription\",, \"T\"), \"[A-Z][a-z]{2}\\s\\d{2}\")","v":"Oct 26"},{"$f":"RTD(\"cqg.rtd\", ,\"ContractData\",B5, \"LastTrade\",, \"T\")","v":88.13},{"$f":"IF(RTD(\"cqg.rtd\", ,\"ContractData\",B5, \"NetLastTrade\",, \"T\")=\"\",NA(),RTD(\"cqg.rtd\", ,\"ContractData\",B5, \"NetLastTrade\",, \"T\"))","v":4.2099999999999937},{"$f":"RTD(\"cqg.rtd\", ,\"ContractData\",B5, \"Bid\",, \"T\")","v":88.09},{"$f":"RTD(\"cqg.rtd\", ,\"ContractData\",B5, \"Ask\",, \"T\")","v":88.13},{"$f":"RTD(\"cqg.rtd\", ,\"ContractData\",B5, \"T_CVol\",, \"T\")","v":63690},{"$f":"RTD(\"cqg.rtd\", ,\"ContractData\",B5, \"TradeorTodaySettlement\",, \"T\")","v":88.13},{"$f":"RTD(\"cqg.rtd\", ,\"ContractData\",B5, \"NetSettlement\",, \"T\")","v":4.74},null,{"$f":"ROUNDDOWN(MIN(H1:H12)-1,0)","v":1},{"$f":"ROUNDDOWN(MIN(Y1:Y11)-1,0)","v":0},"CLE?55",{"$f":"IF(RTD(\"cqg.rtd\", ,\"ContractData\",Q5, \"TradeorTodaySettlement\",, \"T\")=\"\",NA(),RTD(\"cqg.rtd\", ,\"ContractData\",Q5, \"TradeorTodaySettlement\",, \"T\"))","v":64.97},64.97,{"$f":"RTD(\"cqg.rtd\", ,\"ContractData\",Q5, \"LongDescription\",, \"T\")","v":"Crude Light (Globex), Dec 30"},null,null,{"$f":"_xlfn.REGEXEXTRACT(RTD(\"cqg.rtd\", ,\"ContractData\",Q5, \"LongDescription\",, \"T\"), \"[A-Z][a-z]{2}\\s\\d{2}\")","v":"Dec 30"},{"$f":"IF(Q5=\"\",NA(),RTD(\"cqg.rtd\", ,\"ContractData\",Q5, \"NetSettlement\",, \"T\"))","v":1.1200000000000001},1.1200000000000001]
[6,"CLE?6","CLE",{"$f":"RTD(\"cqg.rtd\", ,\"ContractData\",B6, \"ContractMonth\",, \"T\")","v":"NOV"},{"$f":"RTD(\"cqg.rtd\", ,\"ContractData\",B6, \"LongDescription\",, \"T\")","v":"Crude Light (Globex), Nov 26"},{"$f":"_xlfn.REGEXEXTRACT(RTD(\"cqg.rtd\", ,\"ContractData\",B6, \"LongDescription\",, \"T\"), \"[A-Z][a-z]{2}\\s\\d{2}\")","v":"Nov 26"},{"$f":"RTD(\"cqg.rtd\", ,\"ContractData\",B6, \"LastTrade\",, \"T\")","v":85.51},{"$f":"IF(RTD(\"cqg.rtd\", ,\"ContractData\",B6, \"NetLastTrade\",, \"T\")=\"\",NA(),RTD(\"cqg.rtd\", ,\"ContractData\",B6, \"NetLastTrade\",, \"T\"))","v":4.0900000000000034},{"$f":"RTD(\"cqg.rtd\", ,\"ContractData\",B6, \"Bid\",, \"T\")","v":85.48},{"$f":"RTD(\"cqg.rtd\", ,\"ContractData\",B6, \"Ask\",, \"T\")","v":85.51},{"$f":"RTD(\"cqg.rtd\", ,\"ContractData\",B6, \"T_CVol\",, \"T\")","v":52765},{"$f":"RTD(\"cqg.rtd\", ,\"ContractData\",B6, \"TradeorTodaySettlement\",, \"T\")","v":85.51},{"$f":"RTD(\"cqg.rtd\", ,\"ContractData\",B6, \"NetSettlement\",, \"T\")","v":4.5200000000000005},null,null,null,"CLE?67",{"$f":"IF(RTD(\"cqg.rtd\", ,\"ContractData\",Q6, \"TradeorTodaySettlement\",, \"T\")=\"\",NA(),RTD(\"cqg.rtd\", ,\"ContractData\",Q6, \"TradeorTodaySettlement\",, \"T\"))","v":62.58},62.58,{"$f":"RTD(\"cqg.rtd\", ,\"ContractData\",Q6, \"LongDescription\",, \"T\")","v":"Crude Light (Globex), Dec 31"},null,null,{"$f":"_xlfn.REGEXEXTRACT(RTD(\"cqg.rtd\", ,\"ContractData\",Q6, \"LongDescription\",, \"T\"), \"[A-Z][a-z]{2}\\s\\d{2}\")","v":"Dec 31"},{"$f":"IF(Q6=\"\",NA(),RTD(\"cqg.rtd\", ,\"ContractData\",Q6, \"NetSettlement\",, \"T\"))","v":0.99},0.99]
[7,"CLE?7","CLE",{"$f":"RTD(\"cqg.rtd\", ,\"ContractData\",B7, \"ContractMonth\",, \"T\")","v":"DEC"},{"$f":"RTD(\"cqg.rtd\", ,\"ContractData\",B7, \"LongDescription\",, \"T\")","v":"Crude Light (Globex), Dec 26"},{"$f":"_xlfn.REGEXEXTRACT(RTD(\"cqg.rtd\", ,\"ContractData\",B7, \"LongDescription\",, \"T\"), \"[A-Z][a-z]{2}\\s\\d{2}\")","v":"Dec 26"},{"$f":"RTD(\"cqg.rtd\", ,\"ContractData\",B7, \"LastTrade\",, \"T\")","v":83.37},{"$f":"IF(RTD(\"cqg.rtd\", ,\"ContractData\",B7, \"NetLastTrade\",, \"T\")=\"\",NA(),RTD(\"cqg.rtd\", ,\"ContractData\",B7, \"NetLastTrade\",, \"T\"))","v":3.8400000000000034},{"$f":"RTD(\"cqg.rtd\", ,\"ContractData\",B7, \"Bid\",, \"T\")","v":83.36},{"$f":"RTD(\"cqg.rtd\", ,\"ContractData\",B7, \"Ask\",, \"T\")","v":83.38},{"$f":"RTD(\"cqg.rtd\", ,\"ContractData\",B7, \"T_CVol\",, \"T\")","v":158152},{"$f":"RTD(\"cqg.rtd\", ,\"ContractData\",B7, \"TradeorTodaySettlement\",, \"T\")","v":83.37},{"$f":"RTD(\"cqg.rtd\", ,\"ContractData\",B7, \"NetSettlement\",, \"T\")","v":4.1900000000000004},null,null,null,"CLE?79",{"$f":"IF(RTD(\"cqg.rtd\", ,\"ContractData\",Q7, \"TradeorTodaySettlement\",, \"T\")=\"\",NA(),RTD(\"cqg.rtd\", ,\"ContractData\",Q7, \"TradeorTodaySettlement\",, \"T\"))","v":60.75},60.75,{"$f":"RTD(\"cqg.rtd\", ,\"ContractData\",Q7, \"LongDescription\",, \"T\")","v":"Crude Light (Globex), Dec 32"},null,null,{"$f":"_xlfn.REGEXEXTRACT(RTD(\"cqg.rtd\", ,\"ContractData\",Q7, \"LongDescription\",, \"T\"), \"[A-Z][a-z]{2}\\s\\d{2}\")","v":"Dec 32"},{"$f":"IF(Q7=\"\",NA(),RTD(\"cqg.rtd\", ,\"ContractData\",Q7, \"NetSettlement\",, \"T\"))","v":0.88},0.88]
[8,"CLE?8","CLE",{"$f":"RTD(\"cqg.rtd\", ,\"ContractData\",B8, \"ContractMonth\",, \"T\")","v":"JAN"},{"$f":"RTD(\"cqg.rtd\", ,\"ContractData\",B8, \"LongDescription\",, \"T\")","v":"Crude Light (Globex), Jan 27"},{"$f":"_xlfn.REGEXEXTRACT(RTD(\"cqg.rtd\", ,\"ContractData\",B8, \"LongDescription\",, \"T\"), \"[A-Z][a-z]{2}\\s\\d{2}\")","v":"Jan 27"},{"$f":"RTD(\"cqg.rtd\", ,\"ContractData\",B8, \"LastTrade\",, \"T\")","v":81.58},{"$f":"IF(RTD(\"cqg.rtd\", ,\"ContractData\",B8, \"NetLastTrade\",, \"T\")=\"\",NA(),RTD(\"cqg.rtd\", ,\"ContractData\",B8, \"NetLastTrade\",, \"T\"))","v":3.5900000000000034},{"$f":"RTD(\"cqg.rtd\", ,\"ContractData\",B8, \"Bid\",, \"T\")","v":81.58},{"$f":"RTD(\"cqg.rtd\", ,\"ContractData\",B8, \"Ask\",, \"T\")","v":81.62},{"$f":"RTD(\"cqg.rtd\", ,\"ContractData\",B8, \"T_CVol\",, \"T\")","v":26701},{"$f":"RTD(\"cqg.rtd\", ,\"ContractData\",B8, \"TradeorTodaySettlement\",, \"T\")","v":81.58},{"$f":"RTD(\"cqg.rtd\", ,\"ContractData\",B8, \"NetSettlement\",, \"T\")","v":3.89},null,null,null,"CLE?91",{"$f":"IF(RTD(\"cqg.rtd\", ,\"ContractData\",Q8, \"TradeorTodaySettlement\",, \"T\")=\"\",NA(),RTD(\"cqg.rtd\", ,\"ContractData\",Q8, \"TradeorTodaySettlement\",, \"T\"))","v":59.050000000000004},59.050000000000004,{"$f":"RTD(\"cqg.rtd\", ,\"ContractData\",Q8, \"LongDescription\",, \"T\")","v":"Crude Light (Globex), Dec 33"},null,null,{"$f":"_xlfn.REGEXEXTRACT(RTD(\"cqg.rtd\", ,\"ContractData\",Q8, \"LongDescription\",, \"T\"), \"[A-Z][a-z]{2}\\s\\d{2}\")","v":"Dec 33"},{"$f":"IF(Q8=\"\",NA(),RTD(\"cqg.rtd\", ,\"ContractData\",Q8, \"NetSettlement\",, \"T\"))","v":0.76},0.76]
[9,"CLE?9","CLE",{"$f":"RTD(\"cqg.rtd\", ,\"ContractData\",B9, \"ContractMonth\",, \"T\")","v":"FEB"},{"$f":"RTD(\"cqg.rtd\", ,\"ContractData\",B9, \"LongDescription\",, \"T\")","v":"Crude Light (Globex), Feb 27"},{"$f":"_xlfn.REGEXEXTRACT(RTD(\"cqg.rtd\", ,\"ContractData\",B9, \"LongDescription\",, \"T\"), \"[A-Z][a-z]{2}\\s\\d{2}\")","v":"Feb 27"},{"$f":"RTD(\"cqg.rtd\", ,\"ContractData\",B9, \"LastTrade\",, \"T\")","v":80.03},{"$f":"IF(RTD(\"cqg.rtd\", ,\"ContractData\",B9, \"NetLastTrade\",, \"T\")=\"\",NA(),RTD(\"cqg.rtd\", ,\"ContractData\",B9, \"NetLastTrade\",, \"T\"))","v":3.2800000000000011},{"$f":"RTD(\"cqg.rtd\", ,\"ContractData\",B9, \"Bid\",, \"T\")","v":80.12},{"$f":"RTD(\"cqg.rtd\", ,\"ContractData\",B9, \"Ask\",, \"T\")","v":80.16},{"$f":"RTD(\"cqg.rtd\", ,\"ContractData\",B9, \"T_CVol\",, \"T\")","v":15862},{"$f":"RTD(\"cqg.rtd\", ,\"ContractData\",B9, \"TradeorTodaySettlement\",, \"T\")","v":80.03},{"$f":"RTD(\"cqg.rtd\", ,\"ContractData\",B9, \"NetSettlement\",, \"T\")","v":3.61},null,null,null,"CLE?103",{"$f":"IF(RTD(\"cqg.rtd\", ,\"ContractData\",Q9, \"TradeorTodaySettlement\",, \"T\")=\"\",NA(),RTD(\"cqg.rtd\", ,\"ContractData\",Q9, \"TradeorTodaySettlement\",, \"T\"))","v":56.96},56.96,{"$f":"RTD(\"cqg.rtd\", ,\"ContractData\",Q9, \"LongDescription\",, \"T\")","v":"Crude Light (Globex), Dec 34"},null,null,{"$f":"_xlfn.REGEXEXTRACT(RTD(\"cqg.rtd\", ,\"ContractData\",Q9, \"LongDescription\",, \"T\"), \"[A-Z][a-z]{2}\\s\\d{2}\")","v":"Dec 34"},{"$f":"IF(Q9=\"\",NA(),RTD(\"cqg.rtd\", ,\"ContractData\",Q9, \"NetSettlement\",, \"T\"))","v":0.70000000000000007},0.70000000000000007]
[10,"CLE?10","CLE",{"$f":"RTD(\"cqg.rtd\", ,\"ContractData\",B10, \"ContractMonth\",, \"T\")","v":"MAR"},{"$f":"RTD(\"cqg.rtd\", ,\"ContractData\",B10, \"LongDescription\",, \"T\")","v":"Crude Light (Globex), Mar 27"},{"$f":"_xlfn.REGEXEXTRACT(RTD(\"cqg.rtd\", ,\"ContractData\",B10, \"LongDescription\",, \"T\"), \"[A-Z][a-z]{2}\\s\\d{2}\")","v":"Mar 27"},{"$f":"RTD(\"cqg.rtd\", ,\"ContractData\",B10, \"LastTrade\",, \"T\")","v":78.95},{"$f":"IF(RTD(\"cqg.rtd\", ,\"ContractData\",B10, \"NetLastTrade\",, \"T\")=\"\",NA(),RTD(\"cqg.rtd\", ,\"ContractData\",B10, \"NetLastTrade\",, \"T\"))","v":3.1700000000000017},{"$f":"RTD(\"cqg.rtd\", ,\"ContractData\",B10, \"Bid\",, \"T\")","v":78.94},{"$f":"RTD(\"cqg.rtd\", ,\"ContractData\",B10, \"Ask\",, \"T\")","v":78.98},{"$f":"RTD(\"cqg.rtd\", ,\"ContractData\",B10, \"T_CVol\",, \"T\")","v":23379},{"$f":"RTD(\"cqg.rtd\", ,\"ContractData\",B10, \"TradeorTodaySettlement\",, \"T\")","v":78.95},{"$f":"RTD(\"cqg.rtd\", ,\"ContractData\",B10, \"NetSettlement\",, \"T\")","v":3.33},null,null,null,"CLE?115",{"$f":"IF(RTD(\"cqg.rtd\", ,\"ContractData\",Q10, \"TradeorTodaySettlement\",, \"T\")=\"\",NA(),RTD(\"cqg.rtd\", ,\"ContractData\",Q10, \"TradeorTodaySettlement\",, \"T\"))","v":55.120000000000005},55.120000000000005,{"$f":"RTD(\"cqg.rtd\", ,\"ContractData\",Q10, \"LongDescription\",, \"T\")","v":"Crude Light (Globex), Dec 35"},null,null,{"$f":"_xlfn.REGEXEXTRACT(RTD(\"cqg.rtd\", ,\"ContractData\",Q10, \"LongDescription\",, \"T\"), \"[A-Z][a-z]{2}\\s\\d{2}\")","v":"Dec 35"},{"$f":"IF(Q10=\"\",NA(),RTD(\"cqg.rtd\", ,\"ContractData\",Q10, \"NetSettlement\",, \"T\"))","v":0.70000000000000007},0.70000000000000007]
[11,"CLE?11","CLE",{"$f":"RTD(\"cqg.rtd\", ,\"ContractData\",B11, \"ContractMonth\",, \"T\")","v":"APR"},{"$f":"RTD(\"cqg.rtd\", ,\"ContractData\",B11, \"LongDescription\",, \"T\")","v":"Crude Light (Globex), Apr 27"},{"$f":"_xlfn.REGEXEXTRACT(RTD(\"cqg.rtd\", ,\"ContractData\",B11, \"LongDescription\",, \"T\"), \"[A-Z][a-z]{2}\\s\\d{2}\")","v":"Apr 27"},{"$f":"RTD(\"cqg.rtd\", ,\"ContractData\",B11, \"LastTrade\",, \"T\")","v":78.09},{"$f":"IF(RTD(\"cqg.rtd\", ,\"ContractData\",B11, \"NetLastTrade\",, \"T\")=\"\",NA(),RTD(\"cqg.rtd\", ,\"ContractData\",B11, \"NetLastTrade\",, \"T\"))","v":3.0900000000000034},{"$f":"RTD(\"cqg.rtd\", ,\"ContractData\",B11, \"Bid\",, \"T\")","v":77.989999999999995},{"$f":"RTD(\"cqg.rtd\", ,\"ContractData\",B11, \"Ask\",, \"T\")","v":78.040000000000006},{"$f":"RTD(\"cqg.rtd\", ,\"ContractData\",B11, \"T_CVol\",, \"T\")","v":5767},{"$f":"RTD(\"cqg.rtd\", ,\"ContractData\",B11, \"TradeorTodaySettlement\",, \"T\")","v":78.09},{"$f":"RTD(\"cqg.rtd\", ,\"ContractData\",B11, \"NetSettlement\",, \"T\")","v":3.12},null,null,null,"CLE?127",{"$f":"IF(RTD(\"cqg.rtd\", ,\"ContractData\",Q11, \"TradeorTodaySettlement\",, \"T\")=\"\",NA(),RTD(\"cqg.rtd\", ,\"ContractData\",Q11, \"TradeorTodaySettlement\",, \"T\"))","v":53.22},53.22,{"$f":"IF(Q11=\"\",\"\",RTD(\"cqg.rtd\", ,\"ContractData\",Q11, \"LongDescription\",, \"T\"))","v":"Crude Light (Globex), Dec 36"},null,null,{"$f":"IF(Q11=\"\",\"\",_xlfn.REGEXEXTRACT(RTD(\"cqg.rtd\", ,\"ContractData\",Q11, \"LongDescription\",, \"T\"), \"[A-Z][a-z]{2}\\s\\d{2}\"))","v":"Dec 36"},{"$f":"IF(Q11=\"\",NA(),RTD(\"cqg.rtd\", ,\"ContractData\",Q11, \"NetSettlement\",, \"T\"))","v":0.70000000000000007},0.70000000000000007]
[12,"CLE?12","CLE",{"$f":"RTD(\"cqg.rtd\", ,\"ContractData\",B12, \"ContractMonth\",, \"T\")","v":"MAY"},{"$f":"RTD(\"cqg.rtd\", ,\"ContractData\",B12, \"LongDescription\",, \"T\")","v":"Crude Light (Globex), May 27"},{"$f":"_xlfn.REGEXEXTRACT(RTD(\"cqg.rtd\", ,\"ContractData\",B12, \"LongDescription\",, \"T\"), \"[A-Z][a-z]{2}\\s\\d{2}\")","v":"May 27"},{"$f":"RTD(\"cqg.rtd\", ,\"ContractData\",B12, \"LastTrade\",, \"T\")","v":77.23},{"$f":"IF(RTD(\"cqg.rtd\", ,\"ContractData\",B12, \"NetLastTrade\",, \"T\")=\"\",NA(),RTD(\"cqg.rtd\", ,\"ContractData\",B12, \"NetLastTrade\",, \"T\"))","v":2.8500000000000085},{"$f":"RTD(\"cqg.rtd\", ,\"ContractData\",B12, \"Bid\",, \"T\")","v":77.239999999999995},{"$f":"RTD(\"cqg.rtd\", ,\"ContractData\",B12, \"Ask\",, \"T\")","v":77.290000000000006},{"$f":"RTD(\"cqg.rtd\", ,\"ContractData\",B12, \"T_CVol\",, \"T\")","v":3355},{"$f":"RTD(\"cqg.rtd\", ,\"ContractData\",B12, \"TradeorTodaySettlement\",, \"T\")","v":77.23},{"$f":"RTD(\"cqg.rtd\", ,\"ContractData\",B12, \"NetSettlement\",, \"T\")","v":2.94}]
[13,"CLE?13","CLE",{"$f":"RTD(\"cqg.rtd\", ,\"ContractData\",B13, \"ContractMonth\",, \"T\")","v":"JUN"},{"$f":"RTD(\"cqg.rtd\", ,\"ContractData\",B13, \"LongDescription\",, \"T\")","v":"Crude Light (Globex), Jun 27"},{"$f":"_xlfn.REGEXEXTRACT(RTD(\"cqg.rtd\", ,\"ContractData\",B13, \"LongDescription\",, \"T\"), \"[A-Z][a-z]{2}\\s\\d{2}\")","v":"Jun 27"},{"$f":"RTD(\"cqg.rtd\", ,\"ContractData\",B13, \"LastTrade\",, \"T\")","v":76.62},{"$f":"IF(RTD(\"cqg.rtd\", ,\"ContractData\",B13, \"NetLastTrade\",, \"T\")=\"\",NA(),RTD(\"cqg.rtd\", ,\"ContractData\",B13, \"NetLastTrade\",, \"T\"))","v":2.7600000000000051},{"$f":"RTD(\"cqg.rtd\", ,\"ContractData\",B13, \"Bid\",, \"T\")","v":76.62},{"$f":"RTD(\"cqg.rtd\", ,\"ContractData\",B13, \"Ask\",, \"T\")","v":76.650000000000006},{"$f":"RTD(\"cqg.rtd\", ,\"ContractData\",B13, \"T_CVol\",, \"T\")","v":40595},{"$f":"RTD(\"cqg.rtd\", ,\"ContractData\",B13, \"TradeorTodaySettlement\",, \"T\")","v":76.62},null,null,null,null,{"$f":"Display!A1&\" \"&Display!G2&\" \"&\"Contracts (available after the close.)\"","v":"Crude Light (Globex) Dashboard Dec Contracts (available after the close.)"}]
[14,"CLE?14","CLE",{"$f":"RTD(\"cqg.rtd\", ,\"ContractData\",B14, \"ContractMonth\",, \"T\")","v":"JUL"},{"$f":"RTD(\"cqg.rtd\", ,\"ContractData\",B14, \"LongDescription\",, \"T\")","v":"Crude Light (Globex), Jul 27"},{"$f":"_xlfn.REGEXEXTRACT(RTD(\"cqg.rtd\", ,\"ContractData\",B14, \"LongDescription\",, \"T\"), \"[A-Z][a-z]{2}\\s\\d{2}\")","v":"Jul 27"},{"$f":"RTD(\"cqg.rtd\", ,\"ContractData\",B14, \"LastTrade\",, \"T\")","v":76.09},{"$f":"IF(RTD(\"cqg.rtd\", ,\"ContractData\",B14, \"NetLastTrade\",, \"T\")=\"\",NA(),RTD(\"cqg.rtd\", ,\"ContractData\",B14, \"NetLastTrade\",, \"T\"))","v":2.7199999999999989},{"$f":"RTD(\"cqg.rtd\", ,\"ContractData\",B14, \"Bid\",, \"T\")","v":76.03},{"$f":"RTD(\"cqg.rtd\", ,\"ContractData\",B14, \"Ask\",, \"T\")","v":76.100000000000009},{"$f":"RTD(\"cqg.rtd\", ,\"ContractData\",B14, \"T_CVol\",, \"T\")","v":2797},{"$f":"RTD(\"cqg.rtd\", ,\"ContractData\",B14, \"TradeorTodaySettlement\",, \"T\")","v":76.09}]
[15,"CLE?15","CLE",{"$f":"RTD(\"cqg.rtd\", ,\"ContractData\",B15, \"ContractMonth\",, \"T\")","v":"AUG"},{"$f":"RTD(\"cqg.rtd\", ,\"ContractData\",B15, \"LongDescription\",, \"T\")","v":"Crude Light (Globex), Aug 27"},{"$f":"_xlfn.REGEXEXTRACT(RTD(\"cqg.rtd\", ,\"ContractData\",B15, \"LongDescription\",, \"T\"), \"[A-Z][a-z]{2}\\s\\d{2}\")","v":"Aug 27"},{"$f":"RTD(\"cqg.rtd\", ,\"ContractData\",B15, \"LastTrade\",, \"T\")","v":75.48},{"$f":"IF(RTD(\"cqg.rtd\", ,\"ContractData\",B15, \"NetLastTrade\",, \"T\")=\"\",NA(),RTD(\"cqg.rtd\", ,\"ContractData\",B15, \"NetLastTrade\",, \"T\"))","v":2.5700000000000074},{"$f":"RTD(\"cqg.rtd\", ,\"ContractData\",B15, \"Bid\",, \"T\")","v":75.510000000000005},{"$f":"RTD(\"cqg.rtd\", ,\"ContractData\",B15, \"Ask\",, \"T\")","v":75.59},{"$f":"RTD(\"cqg.rtd\", ,\"ContractData\",B15, \"T_CVol\",, \"T\")","v":1974},{"$f":"RTD(\"cqg.rtd\", ,\"ContractData\",B15, \"TradeorTodaySettlement\",, \"T\")","v":75.48}]
[16,"CLE?16","CLE",{"$f":"RTD(\"cqg.rtd\", ,\"ContractData\",B16, \"ContractMonth\",, \"T\")","v":"SEP"},{"$f":"RTD(\"cqg.rtd\", ,\"ContractData\",B16, \"LongDescription\",, \"T\")","v":"Crude Light (Globex), Sep 27"},{"$f":"_xlfn.REGEXEXTRACT(RTD(\"cqg.rtd\", ,\"ContractData\",B16, \"LongDescription\",, \"T\"), \"[A-Z][a-z]{2}\\s\\d{2}\")","v":"Sep 27"},{"$f":"RTD(\"cqg.rtd\", ,\"ContractData\",B16, \"LastTrade\",, \"T\")","v":75.040000000000006},{"$f":"IF(RTD(\"cqg.rtd\", ,\"ContractData\",B16, \"NetLastTrade\",, \"T\")=\"\",NA(),RTD(\"cqg.rtd\", ,\"ContractData\",B16, \"NetLastTrade\",, \"T\"))","v":2.5400000000000063},{"$f":"RTD(\"cqg.rtd\", ,\"ContractData\",B16, \"Bid\",, \"T\")","v":75.040000000000006},{"$f":"RTD(\"cqg.rtd\", ,\"ContractData\",B16, \"Ask\",, \"T\")","v":75.14},{"$f":"RTD(\"cqg.rtd\", ,\"ContractData\",B16, \"T_CVol\",, \"T\")","v":3332},{"$f":"RTD(\"cqg.rtd\", ,\"ContractData\",B16, \"TradeorTodaySettlement\",, \"T\")","v":75.040000000000006}]
[17,"CLE?17","CLE",{"$f":"RTD(\"cqg.rtd\", ,\"ContractData\",B17, \"ContractMonth\",, \"T\")","v":"OCT"},{"$f":"RTD(\"cqg.rtd\", ,\"ContractData\",B17, \"LongDescription\",, \"T\")","v":"Crude Light (Globex), Oct 27"},{"$f":"_xlfn.REGEXEXTRACT(RTD(\"cqg.rtd\", ,\"ContractData\",B17, \"LongDescription\",, \"T\"), \"[A-Z][a-z]{2}\\s\\d{2}\")","v":"Oct 27"},{"$f":"RTD(\"cqg.rtd\", ,\"ContractData\",B17, \"LastTrade\",, \"T\")","v":74.45},{"$f":"IF(RTD(\"cqg.rtd\", ,\"ContractData\",B17, \"NetLastTrade\",, \"T\")=\"\",NA(),RTD(\"cqg.rtd\", ,\"ContractData\",B17, \"NetLastTrade\",, \"T\"))","v":2.3100000000000023},{"$f":"RTD(\"cqg.rtd\", ,\"ContractData\",B17, \"Bid\",, \"T\")","v":74.62},{"$f":"RTD(\"cqg.rtd\", ,\"ContractData\",B17, \"Ask\",, \"T\")","v":74.739999999999995},{"$f":"RTD(\"cqg.rtd\", ,\"ContractData\",B17, \"T_CVol\",, \"T\")","v":1522},{"$f":"RTD(\"cqg.rtd\", ,\"ContractData\",B17, \"TradeorTodaySettlement\",, \"T\")","v":74.45}]
[18,"CLE?18","CLE",{"$f":"RTD(\"cqg.rtd\", ,\"ContractData\",B18, \"ContractMonth\",, \"T\")","v":"NOV"},{"$f":"RTD(\"cqg.rtd\", ,\"ContractData\",B18, \"LongDescription\",, \"T\")","v":"Crude Light (Globex), Nov 27"},{"$f":"_xlfn.REGEXEXTRACT(RTD(\"cqg.rtd\", ,\"ContractData\",B18, \"LongDescription\",, \"T\"), \"[A-Z][a-z]{2}\\s\\d{2}\")","v":"Nov 27"},{"$f":"RTD(\"cqg.rtd\", ,\"ContractData\",B18, \"LastTrade\",, \"T\")","v":74.27},{"$f":"IF(RTD(\"cqg.rtd\", ,\"ContractData\",B18, \"NetLastTrade\",, \"T\")=\"\",NA(),RTD(\"cqg.rtd\", ,\"ContractData\",B18, \"NetLastTrade\",, \"T\"))","v":2.4599999999999937},{"$f":"RTD(\"cqg.rtd\", ,\"ContractData\",B18, \"Bid\",, \"T\")","v":74.25},{"$f":"RTD(\"cqg.rtd\", ,\"ContractData\",B18, \"Ask\",, \"T\")","v":74.36},{"$f":"RTD(\"cqg.rtd\", ,\"ContractData\",B18, \"T_CVol\",, \"T\")","v":1694},{"$f":"RTD(\"cqg.rtd\", ,\"ContractData\",B18, \"TradeorTodaySettlement\",, \"T\")","v":74.27}]
[19,"CLE?19","CLE",{"$f":"RTD(\"cqg.rtd\", ,\"ContractData\",B19, \"ContractMonth\",, \"T\")","v":"DEC"},{"$f":"RTD(\"cqg.rtd\", ,\"ContractData\",B19, \"LongDescription\",, \"T\")","v":"Crude Light (Globex), Dec 27"},{"$f":"_xlfn.REGEXEXTRACT(RTD(\"cqg.rtd\", ,\"ContractData\",B19, \"LongDescription\",, \"T\"), \"[A-Z][a-z]{2}\\s\\d{2}\")","v":"Dec 27"},{"$f":"RTD(\"cqg.rtd\", ,\"ContractData\",B19, \"LastTrade\",, \"T\")","v":73.97},{"$f":"IF(RTD(\"cqg.rtd\", ,\"ContractData\",B19, \"NetLastTrade\",, \"T\")=\"\",NA(),RTD(\"cqg.rtd\", ,\"ContractData\",B19, \"NetLastTrade\",, \"T\"))","v":2.480000000000004},{"$f":"RTD(\"cqg.rtd\", ,\"ContractData\",B19, \"Bid\",, \"T\")","v":73.930000000000007},{"$f":"RTD(\"cqg.rtd\", ,\"ContractData\",B19, \"Ask\",, \"T\")","v":73.960000000000008},{"$f":"RTD(\"cqg.rtd\", ,\"ContractData\",B19, \"T_CVol\",, \"T\")","v":71691},{"$f":"RTD(\"cqg.rtd\", ,\"ContractData\",B19, \"TradeorTodaySettlement\",, \"T\")","v":73.97}]
[20,"CLE?20","CLE",{"$f":"RTD(\"cqg.rtd\", ,\"ContractData\",B20, \"ContractMonth\",, \"T\")","v":"JAN"},{"$f":"RTD(\"cqg.rtd\", ,\"ContractData\",B20, \"LongDescription\",, \"T\")","v":"Crude Light (Globex), Jan 28"},{"$f":"_xlfn.REGEXEXTRACT(RTD(\"cqg.rtd\", ,\"ContractData\",B20, \"LongDescription\",, \"T\"), \"[A-Z][a-z]{2}\\s\\d{2}\")","v":"Jan 28"},{"$f":"RTD(\"cqg.rtd\", ,\"ContractData\",B20, \"LastTrade\",, \"T\")","v":73.37},{"$f":"IF(RTD(\"cqg.rtd\", ,\"ContractData\",B20, \"NetLastTrade\",, \"T\")=\"\",NA(),RTD(\"cqg.rtd\", ,\"ContractData\",B20, \"NetLastTrade\",, \"T\"))","v":2.25},{"$f":"RTD(\"cqg.rtd\", ,\"ContractData\",B20, \"Bid\",, \"T\")","v":73.489999999999995},{"$f":"RTD(\"cqg.rtd\", ,\"ContractData\",B20, \"Ask\",, \"T\")","v":73.58},{"$f":"RTD(\"cqg.rtd\", ,\"ContractData\",B20, \"T_CVol\",, \"T\")","v":764},{"$f":"RTD(\"cqg.rtd\", ,\"ContractData\",B20, \"TradeorTodaySettlement\",, \"T\")","v":73.37}]
[21,"CLE?21","CLE",{"$f":"RTD(\"cqg.rtd\", ,\"ContractData\",B21, \"ContractMonth\",, \"T\")","v":"FEB"},{"$f":"RTD(\"cqg.rtd\", ,\"ContractData\",B21, \"LongDescription\",, \"T\")","v":"Crude Light (Globex), Feb 28"},{"$f":"_xlfn.REGEXEXTRACT(RTD(\"cqg.rtd\", ,\"ContractData\",B21, \"LongDescription\",, \"T\"), \"[A-Z][a-z]{2}\\s\\d{2}\")","v":"Feb 28"},{"$f":"RTD(\"cqg.rtd\", ,\"ContractData\",B21, \"LastTrade\",, \"T\")","v":70.53},{"$f":"IF(RTD(\"cqg.rtd\", ,\"ContractData\",B21, \"NetLastTrade\",, \"T\")=\"\",NA(),RTD(\"cqg.rtd\", ,\"ContractData\",B21, \"NetLastTrade\",, \"T\"))","v":-0.23000000000000398},{"$f":"RTD(\"cqg.rtd\", ,\"ContractData\",B21, \"Bid\",, \"T\")","v":73.100000000000009},{"$f":"RTD(\"cqg.rtd\", ,\"ContractData\",B21, \"Ask\",, \"T\")","v":73.210000000000008},{"$f":"RTD(\"cqg.rtd\", ,\"ContractData\",B21, \"T_CVol\",, \"T\")","v":848},{"$f":"RTD(\"cqg.rtd\", ,\"ContractData\",B21, \"TradeorTodaySettlement\",, \"T\")","v":72.97}]
[22,"CLE?22",{"$f":"LEFT(B22,FIND(\"?\",B22)-1)","v":"CLE"},{"$f":"RTD(\"cqg.rtd\", ,\"ContractData\",B22, \"ContractMonth\",, \"T\")","v":"MAR"},{"$f":"RTD(\"cqg.rtd\", ,\"ContractData\",B22, \"LongDescription\",, \"T\")","v":"Crude Light (Globex), Mar 28"},{"$f":"_xlfn.REGEXEXTRACT(RTD(\"cqg.rtd\", ,\"ContractData\",B22, \"LongDescription\",, \"T\"), \"[A-Z][a-z]{2}\\s\\d{2}\")","v":"Mar 28"},{"$f":"RTD(\"cqg.rtd\", ,\"ContractData\",B22, \"LastTrade\",, \"T\")","v":72.59},{"$f":"IF(RTD(\"cqg.rtd\", ,\"ContractData\",B22, \"NetLastTrade\",, \"T\")=\"\",NA(),RTD(\"cqg.rtd\", ,\"ContractData\",B22, \"NetLastTrade\",, \"T\"))","v":2.1400000000000006},{"$f":"RTD(\"cqg.rtd\", ,\"ContractData\",B22, \"Bid\",, \"T\")","v":72.790000000000006},{"$f":"RTD(\"cqg.rtd\", ,\"ContractData\",B22, \"Ask\",, \"T\")","v":72.88},{"$f":"RTD(\"cqg.rtd\", ,\"ContractData\",B22, \"T_CVol\",, \"T\")","v":2670},{"$f":"RTD(\"cqg.rtd\", ,\"ContractData\",B22, \"TradeorTodaySettlement\",, \"T\")","v":72.59}]
[23,"CLE?23","CLE",{"$f":"RTD(\"cqg.rtd\", ,\"ContractData\",B23, \"ContractMonth\",, \"T\")","v":"APR"},{"$f":"RTD(\"cqg.rtd\", ,\"ContractData\",B23, \"LongDescription\",, \"T\")","v":"Crude Light (Globex), Apr 28"},{"$f":"_xlfn.REGEXEXTRACT(RTD(\"cqg.rtd\", ,\"ContractData\",B23, \"LongDescription\",, \"T\"), \"[A-Z][a-z]{2}\\s\\d{2}\")","v":"Apr 28"},{"$f":"RTD(\"cqg.rtd\", ,\"ContractData\",B23, \"LastTrade\",, \"T\")","v":""},{"$f":"IF(RTD(\"cqg.rtd\", ,\"ContractData\",B23, \"NetLastTrade\",, \"T\")=\"\",NA(),RTD(\"cqg.rtd\", ,\"ContractData\",B23, \"NetLastTrade\",, \"T\"))","v":{"$error":"#N/A"}},{"$f":"RTD(\"cqg.rtd\", ,\"ContractData\",B23, \"Bid\",, \"T\")","v":72.100000000000009},{"$f":"RTD(\"cqg.rtd\", ,\"ContractData\",B23, \"Ask\",, \"T\")","v":72.900000000000006},{"$f":"RTD(\"cqg.rtd\", ,\"ContractData\",B23, \"T_CVol\",, \"T\")","v":169},{"$f":"RTD(\"cqg.rtd\", ,\"ContractData\",B23, \"TradeorTodaySettlement\",, \"T\")","v":72.3}]
[24,"CLE?24","CLE",{"$f":"RTD(\"cqg.rtd\", ,\"ContractData\",B24, \"ContractMonth\",, \"T\")","v":"MAY"},{"$f":"RTD(\"cqg.rtd\", ,\"ContractData\",B24, \"LongDescription\",, \"T\")","v":"Crude Light (Globex), May 28"},{"$f":"_xlfn.REGEXEXTRACT(RTD(\"cqg.rtd\", ,\"ContractData\",B24, \"LongDescription\",, \"T\"), \"[A-Z][a-z]{2}\\s\\d{2}\")","v":"May 28"},{"$f":"RTD(\"cqg.rtd\", ,\"ContractData\",B24, \"LastTrade\",, \"T\")","v":""},{"$f":"IF(RTD(\"cqg.rtd\", ,\"ContractData\",B24, \"NetLastTrade\",, \"T\")=\"\",NA(),RTD(\"cqg.rtd\", ,\"ContractData\",B24, \"NetLastTrade\",, \"T\"))","v":{"$error":"#N/A"}},{"$f":"RTD(\"cqg.rtd\", ,\"ContractData\",B24, \"Bid\",, \"T\")","v":71.820000000000007},{"$f":"RTD(\"cqg.rtd\", ,\"ContractData\",B24, \"Ask\",, \"T\")","v":72.72},{"$f":"RTD(\"cqg.rtd\", ,\"ContractData\",B24, \"T_CVol\",, \"T\")","v":115},{"$f":"RTD(\"cqg.rtd\", ,\"ContractData\",B24, \"TradeorTodaySettlement\",, \"T\")","v":72.02}]
[25,"CLE?25","CLE",{"$f":"RTD(\"cqg.rtd\", ,\"ContractData\",B25, \"ContractMonth\",, \"T\")","v":"JUN"},{"$f":"RTD(\"cqg.rtd\", ,\"ContractData\",B25, \"LongDescription\",, \"T\")","v":"Crude Light (Globex), Jun 28"},{"$f":"_xlfn.REGEXEXTRACT(RTD(\"cqg.rtd\", ,\"ContractData\",B25, \"LongDescription\",, \"T\"), \"[A-Z][a-z]{2}\\s\\d{2}\")","v":"Jun 28"},{"$f":"RTD(\"cqg.rtd\", ,\"ContractData\",B25, \"LastTrade\",, \"T\")","v":71.960000000000008},{"$f":"IF(RTD(\"cqg.rtd\", ,\"ContractData\",B25, \"NetLastTrade\",, \"T\")=\"\",NA(),RTD(\"cqg.rtd\", ,\"ContractData\",B25, \"NetLastTrade\",, \"T\"))","v":2.230000000000004},{"$f":"RTD(\"cqg.rtd\", ,\"ContractData\",B25, \"Bid\",, \"T\")","v":72.02},{"$f":"RTD(\"cqg.rtd\", ,\"ContractData\",B25, \"Ask\",, \"T\")","v":72.070000000000007},{"$f":"RTD(\"cqg.rtd\", ,\"ContractData\",B25, \"T_CVol\",, \"T\")","v":14393},{"$f":"RTD(\"cqg.rtd\", ,\"ContractData\",B25, \"TradeorTodaySettlement\",, \"T\")","v":71.960000000000008}]
[26,"CLE?26","CLE",{"$f":"RTD(\"cqg.rtd\", ,\"ContractData\",B26, \"ContractMonth\",, \"T\")","v":"JUL"},{"$f":"RTD(\"cqg.rtd\", ,\"ContractData\",B26, \"LongDescription\",, \"T\")","v":"Crude Light (Globex), Jul 28"},{"$f":"_xlfn.REGEXEXTRACT(RTD(\"cqg.rtd\", ,\"ContractData\",B26, \"LongDescription\",, \"T\"), \"[A-Z][a-z]{2}\\s\\d{2}\")","v":"Jul 28"},{"$f":"RTD(\"cqg.rtd\", ,\"ContractData\",B26, \"LastTrade\",, \"T\")","v":""},{"$f":"IF(RTD(\"cqg.rtd\", ,\"ContractData\",B26, \"NetLastTrade\",, \"T\")=\"\",NA(),RTD(\"cqg.rtd\", ,\"ContractData\",B26, \"NetLastTrade\",, \"T\"))","v":{"$error":"#N/A"}},{"$f":"RTD(\"cqg.rtd\", ,\"ContractData\",B26, \"Bid\",, \"T\")","v":71.25},{"$f":"RTD(\"cqg.rtd\", ,\"ContractData\",B26, \"Ask\",, \"T\")","v":72.28},{"$f":"RTD(\"cqg.rtd\", ,\"ContractData\",B26, \"T_CVol\",, \"T\")","v":43},{"$f":"RTD(\"cqg.rtd\", ,\"ContractData\",B26, \"TradeorTodaySettlement\",, \"T\")","v":71.47}]
[27,"CLE?27","CLE",{"$f":"RTD(\"cqg.rtd\", ,\"ContractData\",B27, \"ContractMonth\",, \"T\")","v":"AUG"},{"$f":"RTD(\"cqg.rtd\", ,\"ContractData\",B27, \"LongDescription\",, \"T\")","v":"Crude Light (Globex), Aug 28"},{"$f":"_xlfn.REGEXEXTRACT(RTD(\"cqg.rtd\", ,\"ContractData\",B27, \"LongDescription\",, \"T\"), \"[A-Z][a-z]{2}\\s\\d{2}\")","v":"Aug 28"},{"$f":"RTD(\"cqg.rtd\", ,\"ContractData\",B27, \"LastTrade\",, \"T\")","v":""},{"$f":"IF(RTD(\"cqg.rtd\", ,\"ContractData\",B27, \"NetLastTrade\",, \"T\")=\"\",NA(),RTD(\"cqg.rtd\", ,\"ContractData\",B27, \"NetLastTrade\",, \"T\"))","v":{"$error":"#N/A"}},{"$f":"RTD(\"cqg.rtd\", ,\"ContractData\",B27, \"Bid\",, \"T\")","v":70.91},{"$f":"RTD(\"cqg.rtd\", ,\"ContractData\",B27, \"Ask\",, \"T\")","v":72.02},{"$f":"RTD(\"cqg.rtd\", ,\"ContractData\",B27, \"T_CVol\",, \"T\")","v":62},{"$f":"RTD(\"cqg.rtd\", ,\"ContractData\",B27, \"TradeorTodaySettlement\",, \"T\")","v":71.16}]
[28,"CLE?28","CLE",{"$f":"RTD(\"cqg.rtd\", ,\"ContractData\",B28, \"ContractMonth\",, \"T\")","v":"SEP"},{"$f":"RTD(\"cqg.rtd\", ,\"ContractData\",B28, \"LongDescription\",, \"T\")","v":"Crude Light (Globex), Sep 28"},{"$f":"_xlfn.REGEXEXTRACT(RTD(\"cqg.rtd\", ,\"ContractData\",B28, \"LongDescription\",, \"T\"), \"[A-Z][a-z]{2}\\s\\d{2}\")","v":"Sep 28"},{"$f":"RTD(\"cqg.rtd\", ,\"ContractData\",B28, \"LastTrade\",, \"T\")","v":70.05},{"$f":"IF(RTD(\"cqg.rtd\", ,\"ContractData\",B28, \"NetLastTrade\",, \"T\")=\"\",NA(),RTD(\"cqg.rtd\", ,\"ContractData\",B28, \"NetLastTrade\",, \"T\"))","v":1.0999999999999943},{"$f":"RTD(\"cqg.rtd\", ,\"ContractData\",B28, \"Bid\",, \"T\")","v":70.91},{"$f":"RTD(\"cqg.rtd\", ,\"ContractData\",B28, \"Ask\",, \"T\")","v":71.489999999999995},{"$f":"RTD(\"cqg.rtd\", ,\"ContractData\",B28, \"T_CVol\",, \"T\")","v":106},{"$f":"RTD(\"cqg.rtd\", ,\"ContractData\",B28, \"TradeorTodaySettlement\",, \"T\")","v":70.05}]
[29,"CLE?29","CLE",{"$f":"RTD(\"cqg.rtd\", ,\"ContractData\",B29, \"ContractMonth\",, \"T\")","v":"OCT"},{"$f":"RTD(\"cqg.rtd\", ,\"ContractData\",B29, \"LongDescription\",, \"T\")","v":"Crude Light (Globex), Oct 28"},{"$f":"_xlfn.REGEXEXTRACT(RTD(\"cqg.rtd\", ,\"ContractData\",B29, \"LongDescription\",, \"T\"), \"[A-Z][a-z]{2}\\s\\d{2}\")","v":"Oct 28"},{"$f":"RTD(\"cqg.rtd\", ,\"ContractData\",B29, \"LastTrade\",, \"T\")","v":""},{"$f":"IF(RTD(\"cqg.rtd\", ,\"ContractData\",B29, \"NetLastTrade\",, \"T\")=\"\",NA(),RTD(\"cqg.rtd\", ,\"ContractData\",B29, \"NetLastTrade\",, \"T\"))","v":{"$error":"#N/A"}},{"$f":"RTD(\"cqg.rtd\", ,\"ContractData\",B29, \"Bid\",, \"T\")","v":70.41},{"$f":"RTD(\"cqg.rtd\", ,\"ContractData\",B29, \"Ask\",, \"T\")","v":71.430000000000007},{"$f":"RTD(\"cqg.rtd\", ,\"ContractData\",B29, \"T_CVol\",, \"T\")","v":51},{"$f":"RTD(\"cqg.rtd\", ,\"ContractData\",B29, \"TradeorTodaySettlement\",, \"T\")","v":70.61}]
[30,"CLE?30","CLE",{"$f":"RTD(\"cqg.rtd\", ,\"ContractData\",B30, \"ContractMonth\",, \"T\")","v":"NOV"},{"$f":"RTD(\"cqg.rtd\", ,\"ContractData\",B30, \"LongDescription\",, \"T\")","v":"Crude Light (Globex), Nov 28"},{"$f":"_xlfn.REGEXEXTRACT(RTD(\"cqg.rtd\", ,\"ContractData\",B30, \"LongDescription\",, \"T\"), \"[A-Z][a-z]{2}\\s\\d{2}\")","v":"Nov 28"},{"$f":"RTD(\"cqg.rtd\", ,\"ContractData\",B30, \"LastTrade\",, \"T\")","v":""},{"$f":"IF(RTD(\"cqg.rtd\", ,\"ContractData\",B30, \"NetLastTrade\",, \"T\")=\"\",NA(),RTD(\"cqg.rtd\", ,\"ContractData\",B30, \"NetLastTrade\",, \"T\"))","v":{"$error":"#N/A"}},{"$f":"RTD(\"cqg.rtd\", ,\"ContractData\",B30, \"Bid\",, \"T\")","v":70.19},{"$f":"RTD(\"cqg.rtd\", ,\"ContractData\",B30, \"Ask\",, \"T\")","v":71.2},{"$f":"RTD(\"cqg.rtd\", ,\"ContractData\",B30, \"T_CVol\",, \"T\")","v":17},{"$f":"RTD(\"cqg.rtd\", ,\"ContractData\",B30, \"TradeorTodaySettlement\",, \"T\")","v":70.37}]
[31,"CLE?31","CLE",{"$f":"RTD(\"cqg.rtd\", ,\"ContractData\",B31, \"ContractMonth\",, \"T\")","v":"DEC"},{"$f":"RTD(\"cqg.rtd\", ,\"ContractData\",B31, \"LongDescription\",, \"T\")","v":"Crude Light (Globex), Dec 28"},{"$f":"_xlfn.REGEXEXTRACT(RTD(\"cqg.rtd\", ,\"ContractData\",B31, \"LongDescription\",, \"T\"), \"[A-Z][a-z]{2}\\s\\d{2}\")","v":"Dec 28"},{"$f":"RTD(\"cqg.rtd\", ,\"ContractData\",B31, \"LastTrade\",, \"T\")","v":70.41},{"$f":"IF(RTD(\"cqg.rtd\", ,\"ContractData\",B31, \"NetLastTrade\",, \"T\")=\"\",NA(),RTD(\"cqg.rtd\", ,\"ContractData\",B31, \"NetLastTrade\",, \"T\"))","v":2.1099999999999994},{"$f":"RTD(\"cqg.rtd\", ,\"ContractData\",B31, \"Bid\",, \"T\")","v":70.45},{"$f":"RTD(\"cqg.rtd\", ,\"ContractData\",B31, \"Ask\",, \"T\")","v":70.5},{"$f":"RTD(\"cqg.rtd\", ,\"ContractData\",B31, \"T_CVol\",, \"T\")","v":25662},{"$f":"RTD(\"cqg.rtd\", ,\"ContractData\",B31, \"TradeorTodaySettlement\",, \"T\")","v":70.41}]
[32,"CLE?32","CLE",{"$f":"RTD(\"cqg.rtd\", ,\"ContractData\",B32, \"ContractMonth\",, \"T\")","v":"JAN"},{"$f":"RTD(\"cqg.rtd\", ,\"ContractData\",B32, \"LongDescription\",, \"T\")","v":"Crude Light (Globex), Jan 29"},{"$f":"_xlfn.REGEXEXTRACT(RTD(\"cqg.rtd\", ,\"ContractData\",B32, \"LongDescription\",, \"T\"), \"[A-Z][a-z]{2}\\s\\d{2}\")","v":"Jan 29"},{"$f":"RTD(\"cqg.rtd\", ,\"ContractData\",B32, \"LastTrade\",, \"T\")","v":""},{"$f":"IF(RTD(\"cqg.rtd\", ,\"ContractData\",B32, \"NetLastTrade\",, \"T\")=\"\",NA(),RTD(\"cqg.rtd\", ,\"ContractData\",B32, \"NetLastTrade\",, \"T\"))","v":{"$error":"#N/A"}},{"$f":"RTD(\"cqg.rtd\", ,\"ContractData\",B32, \"Bid\",, \"T\")","v":69.64},{"$f":"RTD(\"cqg.rtd\", ,\"ContractData\",B32, \"Ask\",, \"T\")","v":70.73},{"$f":"RTD(\"cqg.rtd\", ,\"ContractData\",B32, \"T_CVol\",, \"T\")","v":14},{"$f":"RTD(\"cqg.rtd\", ,\"ContractData\",B32, \"TradeorTodaySettlement\",, \"T\")","v":69.83}]
[33,"CLE?33","CLE",{"$f":"RTD(\"cqg.rtd\", ,\"ContractData\",B33, \"ContractMonth\",, \"T\")","v":"FEB"},{"$f":"RTD(\"cqg.rtd\", ,\"ContractData\",B33, \"LongDescription\",, \"T\")","v":"Crude Light (Globex), Feb 29"},{"$f":"_xlfn.REGEXEXTRACT(RTD(\"cqg.rtd\", ,\"ContractData\",B33, \"LongDescription\",, \"T\"), \"[A-Z][a-z]{2}\\s\\d{2}\")","v":"Feb 29"},{"$f":"RTD(\"cqg.rtd\", ,\"ContractData\",B33, \"LastTrade\",, \"T\")","v":""},{"$f":"IF(RTD(\"cqg.rtd\", ,\"ContractData\",B33, \"NetLastTrade\",, \"T\")=\"\",NA(),RTD(\"cqg.rtd\", ,\"ContractData\",B33, \"NetLastTrade\",, \"T\"))","v":{"$error":"#N/A"}},{"$f":"RTD(\"cqg.rtd\", ,\"ContractData\",B33, \"Bid\",, \"T\")","v":69.320000000000007},{"$f":"RTD(\"cqg.rtd\", ,\"ContractData\",B33, \"Ask\",, \"T\")","v":70.45},{"$f":"RTD(\"cqg.rtd\", ,\"ContractData\",B33, \"T_CVol\",, \"T\")","v":3},{"$f":"RTD(\"cqg.rtd\", ,\"ContractData\",B33, \"TradeorTodaySettlement\",, \"T\")","v":69.540000000000006}]
[34,"CLE?34","CLE",{"$f":"RTD(\"cqg.rtd\", ,\"ContractData\",B34, \"ContractMonth\",, \"T\")","v":"MAR"},{"$f":"RTD(\"cqg.rtd\", ,\"ContractData\",B34, \"LongDescription\",, \"T\")","v":"Crude Light (Globex), Mar 29"},{"$f":"_xlfn.REGEXEXTRACT(RTD(\"cqg.rtd\", ,\"ContractData\",B34, \"LongDescription\",, \"T\"), \"[A-Z][a-z]{2}\\s\\d{2}\")","v":"Mar 29"},{"$f":"RTD(\"cqg.rtd\", ,\"ContractData\",B34, \"LastTrade\",, \"T\")","v":""},{"$f":"IF(RTD(\"cqg.rtd\", ,\"ContractData\",B34, \"NetLastTrade\",, \"T\")=\"\",NA(),RTD(\"cqg.rtd\", ,\"ContractData\",B34, \"NetLastTrade\",, \"T\"))","v":{"$error":"#N/A"}},{"$f":"RTD(\"cqg.rtd\", ,\"ContractData\",B34, \"Bid\",, \"T\")","v":69.41},{"$f":"RTD(\"cqg.rtd\", ,\"ContractData\",B34, \"Ask\",, \"T\")","v":69.89},{"$f":"RTD(\"cqg.rtd\", ,\"ContractData\",B34, \"T_CVol\",, \"T\")","v":5},{"$f":"RTD(\"cqg.rtd\", ,\"ContractData\",B34, \"TradeorTodaySettlement\",, \"T\")","v":69.28}]
[35,"CLE?35","CLE",{"$f":"RTD(\"cqg.rtd\", ,\"ContractData\",B35, \"ContractMonth\",, \"T\")","v":"APR"},{"$f":"RTD(\"cqg.rtd\", ,\"ContractData\",B35, \"LongDescription\",, \"T\")","v":"Crude Light (Globex), Apr 29"},{"$f":"_xlfn.REGEXEXTRACT(RTD(\"cqg.rtd\", ,\"ContractData\",B35, \"LongDescription\",, \"T\"), \"[A-Z][a-z]{2}\\s\\d{2}\")","v":"Apr 29"},{"$f":"RTD(\"cqg.rtd\", ,\"ContractData\",B35, \"LastTrade\",, \"T\")","v":""},{"$f":"IF(RTD(\"cqg.rtd\", ,\"ContractData\",B35, \"NetLastTrade\",, \"T\")=\"\",NA(),RTD(\"cqg.rtd\", ,\"ContractData\",B35, \"NetLastTrade\",, \"T\"))","v":{"$error":"#N/A"}},{"$f":"RTD(\"cqg.rtd\", ,\"ContractData\",B35, \"Bid\",, \"T\")","v":68.73},{"$f":"RTD(\"cqg.rtd\", ,\"ContractData\",B35, \"Ask\",, \"T\")","v":70.03},{"$f":"RTD(\"cqg.rtd\", ,\"ContractData\",B35, \"T_CVol\",, \"T\")","v":0},{"$f":"RTD(\"cqg.rtd\", ,\"ContractData\",B35, \"TradeorTodaySettlement\",, \"T\")","v":69.040000000000006}]
[36,"CLE?36","CLE",{"$f":"RTD(\"cqg.rtd\", ,\"ContractData\",B36, \"ContractMonth\",, \"T\")","v":"MAY"},{"$f":"RTD(\"cqg.rtd\", ,\"ContractData\",B36, \"LongDescription\",, \"T\")","v":"Crude Light (Globex), May 29"},{"$f":"_xlfn.REGEXEXTRACT(RTD(\"cqg.rtd\", ,\"ContractData\",B36, \"LongDescription\",, \"T\"), \"[A-Z][a-z]{2}\\s\\d{2}\")","v":"May 29"},{"$f":"RTD(\"cqg.rtd\", ,\"ContractData\",B36, \"LastTrade\",, \"T\")","v":""},{"$f":"IF(RTD(\"cqg.rtd\", ,\"ContractData\",B36, \"NetLastTrade\",, \"T\")=\"\",NA(),RTD(\"cqg.rtd\", ,\"ContractData\",B36, \"NetLastTrade\",, \"T\"))","v":{"$error":"#N/A"}},{"$f":"RTD(\"cqg.rtd\", ,\"ContractData\",B36, \"Bid\",, \"T\")","v":68.47},{"$f":"RTD(\"cqg.rtd\", ,\"ContractData\",B36, \"Ask\",, \"T\")","v":69.92},{"$f":"RTD(\"cqg.rtd\", ,\"ContractData\",B36, \"T_CVol\",, \"T\")","v":0},{"$f":"RTD(\"cqg.rtd\", ,\"ContractData\",B36, \"TradeorTodaySettlement\",, \"T\")","v":68.820000000000007}]
[37,"CLE?37","CLE",{"$f":"RTD(\"cqg.rtd\", ,\"ContractData\",B37, \"ContractMonth\",, \"T\")","v":"JUN"},{"$f":"RTD(\"cqg.rtd\", ,\"ContractData\",B37, \"LongDescription\",, \"T\")","v":"Crude Light (Globex), Jun 29"},{"$f":"_xlfn.REGEXEXTRACT(RTD(\"cqg.rtd\", ,\"ContractData\",B37, \"LongDescription\",, \"T\"), \"[A-Z][a-z]{2}\\s\\d{2}\")","v":"Jun 29"},{"$f":"RTD(\"cqg.rtd\", ,\"ContractData\",B37, \"LastTrade\",, \"T\")","v":""},{"$f":"IF(RTD(\"cqg.rtd\", ,\"ContractData\",B37, \"NetLastTrade\",, \"T\")=\"\",NA(),RTD(\"cqg.rtd\", ,\"ContractData\",B37, \"NetLastTrade\",, \"T\"))","v":{"$error":"#N/A"}},{"$f":"RTD(\"cqg.rtd\", ,\"ContractData\",B37, \"Bid\",, \"T\")","v":""},{"$f":"RTD(\"cqg.rtd\", ,\"ContractData\",B37, \"Ask\",, \"T\")","v":""},{"$f":"RTD(\"cqg.rtd\", ,\"ContractData\",B37, \"T_CVol\",, \"T\")","v":349},{"$f":"RTD(\"cqg.rtd\", ,\"ContractData\",B37, \"TradeorTodaySettlement\",, \"T\")","v":68.59}]
[38,"CLE?38","CLE",{"$f":"RTD(\"cqg.rtd\", ,\"ContractData\",B38, \"ContractMonth\",, \"T\")","v":"JUL"},{"$f":"RTD(\"cqg.rtd\", ,\"ContractData\",B38, \"LongDescription\",, \"T\")","v":"Crude Light (Globex), Jul 29"},{"$f":"_xlfn.REGEXEXTRACT(RTD(\"cqg.rtd\", ,\"ContractData\",B38, \"LongDescription\",, \"T\"), \"[A-Z][a-z]{2}\\s\\d{2}\")","v":"Jul 29"},{"$f":"RTD(\"cqg.rtd\", ,\"ContractData\",B38, \"LastTrade\",, \"T\")","v":""},{"$f":"IF(RTD(\"cqg.rtd\", ,\"ContractData\",B38, \"NetLastTrade\",, \"T\")=\"\",NA(),RTD(\"cqg.rtd\", ,\"ContractData\",B38, \"NetLastTrade\",, \"T\"))","v":{"$error":"#N/A"}},{"$f":"RTD(\"cqg.rtd\", ,\"ContractData\",B38, \"Bid\",, \"T\")","v":""},{"$f":"RTD(\"cqg.rtd\", ,\"ContractData\",B38, \"Ask\",, \"T\")","v":""},{"$f":"RTD(\"cqg.rtd\", ,\"ContractData\",B38, \"T_CVol\",, \"T\")","v":0},{"$f":"RTD(\"cqg.rtd\", ,\"ContractData\",B38, \"TradeorTodaySettlement\",, \"T\")","v":68.320000000000007}]
[39,"CLE?39","CLE",{"$f":"RTD(\"cqg.rtd\", ,\"ContractData\",B39, \"ContractMonth\",, \"T\")","v":"AUG"},{"$f":"RTD(\"cqg.rtd\", ,\"ContractData\",B39, \"LongDescription\",, \"T\")","v":"Crude Light (Globex), Aug 29"},{"$f":"_xlfn.REGEXEXTRACT(RTD(\"cqg.rtd\", ,\"ContractData\",B39, \"LongDescription\",, \"T\"), \"[A-Z][a-z]{2}\\s\\d{2}\")","v":"Aug 29"},{"$f":"RTD(\"cqg.rtd\", ,\"ContractData\",B39, \"LastTrade\",, \"T\")","v":""},{"$f":"IF(RTD(\"cqg.rtd\", ,\"ContractData\",B39, \"NetLastTrade\",, \"T\")=\"\",NA(),RTD(\"cqg.rtd\", ,\"ContractData\",B39, \"NetLastTrade\",, \"T\"))","v":{"$error":"#N/A"}},{"$f":"RTD(\"cqg.rtd\", ,\"ContractData\",B39, \"Bid\",, \"T\")","v":""},{"$f":"RTD(\"cqg.rtd\", ,\"ContractData\",B39, \"Ask\",, \"T\")","v":""},{"$f":"RTD(\"cqg.rtd\", ,\"ContractData\",B39, \"T_CVol\",, \"T\")","v":0},{"$f":"RTD(\"cqg.rtd\", ,\"ContractData\",B39, \"TradeorTodaySettlement\",, \"T\")","v":68.09}]
[40,"CLE?40","CLE",{"$f":"RTD(\"cqg.rtd\", ,\"ContractData\",B40, \"ContractMonth\",, \"T\")","v":"SEP"},{"$f":"RTD(\"cqg.rtd\", ,\"ContractData\",B40, \"LongDescription\",, \"T\")","v":"Crude Light (Globex), Sep 29"},{"$f":"_xlfn.REGEXEXTRACT(RTD(\"cqg.rtd\", ,\"ContractData\",B40, \"LongDescription\",, \"T\"), \"[A-Z][a-z]{2}\\s\\d{2}\")","v":"Sep 29"},{"$f":"RTD(\"cqg.rtd\", ,\"ContractData\",B40, \"LastTrade\",, \"T\")","v":""},{"$f":"IF(RTD(\"cqg.rtd\", ,\"ContractData\",B40, \"NetLastTrade\",, \"T\")=\"\",NA(),RTD(\"cqg.rtd\", ,\"ContractData\",B40, \"NetLastTrade\",, \"T\"))","v":{"$error":"#N/A"}},{"$f":"RTD(\"cqg.rtd\", ,\"ContractData\",B40, \"Bid\",, \"T\")","v":""},{"$f":"RTD(\"cqg.rtd\", ,\"ContractData\",B40, \"Ask\",, \"T\")","v":""},{"$f":"RTD(\"cqg.rtd\", ,\"ContractData\",B40, \"T_CVol\",, \"T\")","v":0},{"$f":"RTD(\"cqg.rtd\", ,\"ContractData\",B40, \"TradeorTodaySettlement\",, \"T\")","v":67.84}]
[41,"CLE?41","CLE",{"$f":"RTD(\"cqg.rtd\", ,\"ContractData\",B41, \"ContractMonth\",, \"T\")","v":"OCT"},{"$f":"RTD(\"cqg.rtd\", ,\"ContractData\",B41, \"LongDescription\",, \"T\")","v":"Crude Light (Globex), Oct 29"},{"$f":"_xlfn.REGEXEXTRACT(RTD(\"cqg.rtd\", ,\"ContractData\",B41, \"LongDescription\",, \"T\"), \"[A-Z][a-z]{2}\\s\\d{2}\")","v":"Oct 29"},{"$f":"RTD(\"cqg.rtd\", ,\"ContractData\",B41, \"LastTrade\",, \"T\")","v":""},{"$f":"IF(RTD(\"cqg.rtd\", ,\"ContractData\",B41, \"NetLastTrade\",, \"T\")=\"\",NA(),RTD(\"cqg.rtd\", ,\"ContractData\",B41, \"NetLastTrade\",, \"T\"))","v":{"$error":"#N/A"}},{"$f":"RTD(\"cqg.rtd\", ,\"ContractData\",B41, \"Bid\",, \"T\")","v":""},{"$f":"RTD(\"cqg.rtd\", ,\"ContractData\",B41, \"Ask\",, \"T\")","v":""},{"$f":"RTD(\"cqg.rtd\", ,\"ContractData\",B41, \"T_CVol\",, \"T\")","v":0},{"$f":"RTD(\"cqg.rtd\", ,\"ContractData\",B41, \"TradeorTodaySettlement\",, \"T\")","v":67.59}]
[42,"CLE?42","CLE",{"$f":"RTD(\"cqg.rtd\", ,\"ContractData\",B42, \"ContractMonth\",, \"T\")","v":"NOV"},{"$f":"RTD(\"cqg.rtd\", ,\"ContractData\",B42, \"LongDescription\",, \"T\")","v":"Crude Light (Globex), Nov 29"},{"$f":"_xlfn.REGEXEXTRACT(RTD(\"cqg.rtd\", ,\"ContractData\",B42, \"LongDescription\",, \"T\"), \"[A-Z][a-z]{2}\\s\\d{2}\")","v":"Nov 29"},{"$f":"RTD(\"cqg.rtd\", ,\"ContractData\",B42, \"LastTrade\",, \"T\")","v":""},{"$f":"IF(RTD(\"cqg.rtd\", ,\"ContractData\",B42, \"NetLastTrade\",, \"T\")=\"\",NA(),RTD(\"cqg.rtd\", ,\"ContractData\",B42, \"NetLastTrade\",, \"T\"))","v":{"$error":"#N/A"}},{"$f":"RTD(\"cqg.rtd\", ,\"ContractData\",B42, \"Bid\",, \"T\")","v":""},{"$f":"RTD(\"cqg.rtd\", ,\"ContractData\",B42, \"Ask\",, \"T\")","v":""},{"$f":"RTD(\"cqg.rtd\", ,\"ContractData\",B42, \"T_CVol\",, \"T\")","v":50},{"$f":"RTD(\"cqg.rtd\", ,\"ContractData\",B42, \"TradeorTodaySettlement\",, \"T\")","v":67.36}]
[43,"CLE?43","CLE",{"$f":"RTD(\"cqg.rtd\", ,\"ContractData\",B43, \"ContractMonth\",, \"T\")","v":"DEC"},{"$f":"RTD(\"cqg.rtd\", ,\"ContractData\",B43, \"LongDescription\",, \"T\")","v":"Crude Light (Globex), Dec 29"},{"$f":"_xlfn.REGEXEXTRACT(RTD(\"cqg.rtd\", ,\"ContractData\",B43, \"LongDescription\",, \"T\"), \"[A-Z][a-z]{2}\\s\\d{2}\")","v":"Dec 29"},{"$f":"RTD(\"cqg.rtd\", ,\"ContractData\",B43, \"LastTrade\",, \"T\")","v":67.570000000000007},{"$f":"IF(RTD(\"cqg.rtd\", ,\"ContractData\",B43, \"NetLastTrade\",, \"T\")=\"\",NA(),RTD(\"cqg.rtd\", ,\"ContractData\",B43, \"NetLastTrade\",, \"T\"))","v":1.8100000000000023},{"$f":"RTD(\"cqg.rtd\", ,\"ContractData\",B43, \"Bid\",, \"T\")","v":67.3},{"$f":"RTD(\"cqg.rtd\", ,\"ContractData\",B43, \"Ask\",, \"T\")","v":67.63},{"$f":"RTD(\"cqg.rtd\", ,\"ContractData\",B43, \"T_CVol\",, \"T\")","v":5954},{"$f":"RTD(\"cqg.rtd\", ,\"ContractData\",B43, \"TradeorTodaySettlement\",, \"T\")","v":67.570000000000007}]
[44,"CLE?44","CLE",{"$f":"RTD(\"cqg.rtd\", ,\"ContractData\",B44, \"ContractMonth\",, \"T\")","v":"JAN"},{"$f":"RTD(\"cqg.rtd\", ,\"ContractData\",B44, \"LongDescription\",, \"T\")","v":"Crude Light (Globex), Jan 30"},{"$f":"_xlfn.REGEXEXTRACT(RTD(\"cqg.rtd\", ,\"ContractData\",B44, \"LongDescription\",, \"T\"), \"[A-Z][a-z]{2}\\s\\d{2}\")","v":"Jan 30"},{"$f":"RTD(\"cqg.rtd\", ,\"ContractData\",B44, \"LastTrade\",, \"T\")","v":""},{"$f":"IF(RTD(\"cqg.rtd\", ,\"ContractData\",B44, \"NetLastTrade\",, \"T\")=\"\",NA(),RTD(\"cqg.rtd\", ,\"ContractData\",B44, \"NetLastTrade\",, \"T\"))","v":{"$error":"#N/A"}},{"$f":"RTD(\"cqg.rtd\", ,\"ContractData\",B44, \"Bid\",, \"T\")","v":""},{"$f":"RTD(\"cqg.rtd\", ,\"ContractData\",B44, \"Ask\",, \"T\")","v":""},{"$f":"RTD(\"cqg.rtd\", ,\"ContractData\",B44, \"T_CVol\",, \"T\")","v":50},{"$f":"RTD(\"cqg.rtd\", ,\"ContractData\",B44, \"TradeorTodaySettlement\",, \"T\")","v":66.91}]
[45,"CLE?45","CLE",{"$f":"RTD(\"cqg.rtd\", ,\"ContractData\",B45, \"ContractMonth\",, \"T\")","v":"FEB"},{"$f":"RTD(\"cqg.rtd\", ,\"ContractData\",B45, \"LongDescription\",, \"T\")","v":"Crude Light (Globex), Feb 30"},{"$f":"_xlfn.REGEXEXTRACT(RTD(\"cqg.rtd\", ,\"ContractData\",B45, \"LongDescription\",, \"T\"), \"[A-Z][a-z]{2}\\s\\d{2}\")","v":"Feb 30"},{"$f":"RTD(\"cqg.rtd\", ,\"ContractData\",B45, \"LastTrade\",, \"T\")","v":""},{"$f":"IF(RTD(\"cqg.rtd\", ,\"ContractData\",B45, \"NetLastTrade\",, \"T\")=\"\",NA(),RTD(\"cqg.rtd\", ,\"ContractData\",B45, \"NetLastTrade\",, \"T\"))","v":{"$error":"#N/A"}},{"$f":"RTD(\"cqg.rtd\", ,\"ContractData\",B45, \"Bid\",, \"T\")","v":""},{"$f":"RTD(\"cqg.rtd\", ,\"ContractData\",B45, \"Ask\",, \"T\")","v":""},{"$f":"RTD(\"cqg.rtd\", ,\"ContractData\",B45, \"T_CVol\",, \"T\")","v":0},{"$f":"RTD(\"cqg.rtd\", ,\"ContractData\",B45, \"TradeorTodaySettlement\",, \"T\")","v":66.69}]
[46,"CLE?46","CLE",{"$f":"RTD(\"cqg.rtd\", ,\"ContractData\",B46, \"ContractMonth\",, \"T\")","v":"MAR"},{"$f":"RTD(\"cqg.rtd\", ,\"ContractData\",B46, \"LongDescription\",, \"T\")","v":"Crude Light (Globex), Mar 30"},{"$f":"_xlfn.REGEXEXTRACT(RTD(\"cqg.rtd\", ,\"ContractData\",B46, \"LongDescription\",, \"T\"), \"[A-Z][a-z]{2}\\s\\d{2}\")","v":"Mar 30"},{"$f":"RTD(\"cqg.rtd\", ,\"ContractData\",B46, \"LastTrade\",, \"T\")","v":""},{"$f":"IF(RTD(\"cqg.rtd\", ,\"ContractData\",B46, \"NetLastTrade\",, \"T\")=\"\",NA(),RTD(\"cqg.rtd\", ,\"ContractData\",B46, \"NetLastTrade\",, \"T\"))","v":{"$error":"#N/A"}},{"$f":"RTD(\"cqg.rtd\", ,\"ContractData\",B46, \"Bid\",, \"T\")","v":""},{"$f":"RTD(\"cqg.rtd\", ,\"ContractData\",B46, \"Ask\",, \"T\")","v":""},{"$f":"RTD(\"cqg.rtd\", ,\"ContractData\",B46, \"T_CVol\",, \"T\")","v":0},{"$f":"RTD(\"cqg.rtd\", ,\"ContractData\",B46, \"TradeorTodaySettlement\",, \"T\")","v":66.47}]
[47,"CLE?47","CLE",{"$f":"RTD(\"cqg.rtd\", ,\"ContractData\",B47, \"ContractMonth\",, \"T\")","v":"APR"},{"$f":"RTD(\"cqg.rtd\", ,\"ContractData\",B47, \"LongDescription\",, \"T\")","v":"Crude Light (Globex), Apr 30"},{"$f":"_xlfn.REGEXEXTRACT(RTD(\"cqg.rtd\", ,\"ContractData\",B47, \"LongDescription\",, \"T\"), \"[A-Z][a-z]{2}\\s\\d{2}\")","v":"Apr 30"},{"$f":"RTD(\"cqg.rtd\", ,\"ContractData\",B47, \"LastTrade\",, \"T\")","v":""},{"$f":"IF(RTD(\"cqg.rtd\", ,\"ContractData\",B47, \"NetLastTrade\",, \"T\")=\"\",NA(),RTD(\"cqg.rtd\", ,\"ContractData\",B47, \"NetLastTrade\",, \"T\"))","v":{"$error":"#N/A"}},{"$f":"RTD(\"cqg.rtd\", ,\"ContractData\",B47, \"Bid\",, \"T\")","v":""},{"$f":"RTD(\"cqg.rtd\", ,\"ContractData\",B47, \"Ask\",, \"T\")","v":""},{"$f":"RTD(\"cqg.rtd\", ,\"ContractData\",B47, \"T_CVol\",, \"T\")","v":0},{"$f":"RTD(\"cqg.rtd\", ,\"ContractData\",B47, \"TradeorTodaySettlement\",, \"T\")","v":66.260000000000005}]
[48,"CLE?48","CLE",{"$f":"RTD(\"cqg.rtd\", ,\"ContractData\",B48, \"ContractMonth\",, \"T\")","v":"MAY"},{"$f":"RTD(\"cqg.rtd\", ,\"ContractData\",B48, \"LongDescription\",, \"T\")","v":"Crude Light (Globex), May 30"},{"$f":"_xlfn.REGEXEXTRACT(RTD(\"cqg.rtd\", ,\"ContractData\",B48, \"LongDescription\",, \"T\"), \"[A-Z][a-z]{2}\\s\\d{2}\")","v":"May 30"},{"$f":"RTD(\"cqg.rtd\", ,\"ContractData\",B48, \"LastTrade\",, \"T\")","v":""},{"$f":"IF(RTD(\"cqg.rtd\", ,\"ContractData\",B48, \"NetLastTrade\",, \"T\")=\"\",NA(),RTD(\"cqg.rtd\", ,\"ContractData\",B48, \"NetLastTrade\",, \"T\"))","v":{"$error":"#N/A"}},{"$f":"RTD(\"cqg.rtd\", ,\"ContractData\",B48, \"Bid\",, \"T\")","v":""},{"$f":"RTD(\"cqg.rtd\", ,\"ContractData\",B48, \"Ask\",, \"T\")","v":""},{"$f":"RTD(\"cqg.rtd\", ,\"ContractData\",B48, \"T_CVol\",, \"T\")","v":25},{"$f":"RTD(\"cqg.rtd\", ,\"ContractData\",B48, \"TradeorTodaySettlement\",, \"T\")","v":66.03}]
[49,"CLE?49","CLE",{"$f":"RTD(\"cqg.rtd\", ,\"ContractData\",B49, \"ContractMonth\",, \"T\")","v":"JUN"},{"$f":"RTD(\"cqg.rtd\", ,\"ContractData\",B49, \"LongDescription\",, \"T\")","v":"Crude Light (Globex), Jun 30"},{"$f":"_xlfn.REGEXEXTRACT(RTD(\"cqg.rtd\", ,\"ContractData\",B49, \"LongDescription\",, \"T\"), \"[A-Z][a-z]{2}\\s\\d{2}\")","v":"Jun 30"},{"$f":"RTD(\"cqg.rtd\", ,\"ContractData\",B49, \"LastTrade\",, \"T\")","v":""},{"$f":"IF(RTD(\"cqg.rtd\", ,\"ContractData\",B49, \"NetLastTrade\",, \"T\")=\"\",NA(),RTD(\"cqg.rtd\", ,\"ContractData\",B49, \"NetLastTrade\",, \"T\"))","v":{"$error":"#N/A"}},{"$f":"RTD(\"cqg.rtd\", ,\"ContractData\",B49, \"Bid\",, \"T\")","v":""},{"$f":"RTD(\"cqg.rtd\", ,\"ContractData\",B49, \"Ask\",, \"T\")","v":""},{"$f":"RTD(\"cqg.rtd\", ,\"ContractData\",B49, \"T_CVol\",, \"T\")","v":52},{"$f":"RTD(\"cqg.rtd\", ,\"ContractData\",B49, \"TradeorTodaySettlement\",, \"T\")","v":65.83}]
[50,"CLE?50","CLE",{"$f":"RTD(\"cqg.rtd\", ,\"ContractData\",B50, \"ContractMonth\",, \"T\")","v":"JUL"},{"$f":"RTD(\"cqg.rtd\", ,\"ContractData\",B50, \"LongDescription\",, \"T\")","v":"Crude Light (Globex), Jul 30"},{"$f":"_xlfn.REGEXEXTRACT(RTD(\"cqg.rtd\", ,\"ContractData\",B50, \"LongDescription\",, \"T\"), \"[A-Z][a-z]{2}\\s\\d{2}\")","v":"Jul 30"},{"$f":"RTD(\"cqg.rtd\", ,\"ContractData\",B50, \"LastTrade\",, \"T\")","v":""},{"$f":"IF(RTD(\"cqg.rtd\", ,\"ContractData\",B50, \"NetLastTrade\",, \"T\")=\"\",NA(),RTD(\"cqg.rtd\", ,\"ContractData\",B50, \"NetLastTrade\",, \"T\"))","v":{"$error":"#N/A"}},{"$f":"RTD(\"cqg.rtd\", ,\"ContractData\",B50, \"Bid\",, \"T\")","v":""},{"$f":"RTD(\"cqg.rtd\", ,\"ContractData\",B50, \"Ask\",, \"T\")","v":""},{"$f":"RTD(\"cqg.rtd\", ,\"ContractData\",B50, \"T_CVol\",, \"T\")","v":25},{"$f":"RTD(\"cqg.rtd\", ,\"ContractData\",B50, \"TradeorTodaySettlement\",, \"T\")","v":65.599999999999994}]
[51,"CLE?51","CLE",{"$f":"RTD(\"cqg.rtd\", ,\"ContractData\",B51, \"ContractMonth\",, \"T\")","v":"AUG"},{"$f":"RTD(\"cqg.rtd\", ,\"ContractData\",B51, \"LongDescription\",, \"T\")","v":"Crude Light (Globex), Aug 30"},{"$f":"_xlfn.REGEXEXTRACT(RTD(\"cqg.rtd\", ,\"ContractData\",B51, \"LongDescription\",, \"T\"), \"[A-Z][a-z]{2}\\s\\d{2}\")","v":"Aug 30"},{"$f":"RTD(\"cqg.rtd\", ,\"ContractData\",B51, \"LastTrade\",, \"T\")","v":""},{"$f":"IF(RTD(\"cqg.rtd\", ,\"ContractData\",B51, \"NetLastTrade\",, \"T\")=\"\",NA(),RTD(\"cqg.rtd\", ,\"ContractData\",B51, \"NetLastTrade\",, \"T\"))","v":{"$error":"#N/A"}},{"$f":"RTD(\"cqg.rtd\", ,\"ContractData\",B51, \"Bid\",, \"T\")","v":""},{"$f":"RTD(\"cqg.rtd\", ,\"ContractData\",B51, \"Ask\",, \"T\")","v":""},{"$f":"RTD(\"cqg.rtd\", ,\"ContractData\",B51, \"T_CVol\",, \"T\")","v":0},{"$f":"RTD(\"cqg.rtd\", ,\"ContractData\",B51, \"TradeorTodaySettlement\",, \"T\")","v":65.42}]
[52,"CLE?52","CLE",{"$f":"RTD(\"cqg.rtd\", ,\"ContractData\",B52, \"ContractMonth\",, \"T\")","v":"SEP"},{"$f":"RTD(\"cqg.rtd\", ,\"ContractData\",B52, \"LongDescription\",, \"T\")","v":"Crude Light (Globex), Sep 30"},{"$f":"_xlfn.REGEXEXTRACT(RTD(\"cqg.rtd\", ,\"ContractData\",B52, \"LongDescription\",, \"T\"), \"[A-Z][a-z]{2}\\s\\d{2}\")","v":"Sep 30"},{"$f":"RTD(\"cqg.rtd\", ,\"ContractData\",B52, \"LastTrade\",, \"T\")","v":""},{"$f":"IF(RTD(\"cqg.rtd\", ,\"ContractData\",B52, \"NetLastTrade\",, \"T\")=\"\",NA(),RTD(\"cqg.rtd\", ,\"ContractData\",B52, \"NetLastTrade\",, \"T\"))","v":{"$error":"#N/A"}},{"$f":"RTD(\"cqg.rtd\", ,\"ContractData\",B52, \"Bid\",, \"T\")","v":""},{"$f":"RTD(\"cqg.rtd\", ,\"ContractData\",B52, \"Ask\",, \"T\")","v":""},{"$f":"RTD(\"cqg.rtd\", ,\"ContractData\",B52, \"T_CVol\",, \"T\")","v":0},{"$f":"RTD(\"cqg.rtd\", ,\"ContractData\",B52, \"TradeorTodaySettlement\",, \"T\")","v":65.239999999999995}]
[53,"CLE?53","CLE",{"$f":"RTD(\"cqg.rtd\", ,\"ContractData\",B53, \"ContractMonth\",, \"T\")","v":"OCT"},{"$f":"RTD(\"cqg.rtd\", ,\"ContractData\",B53, \"LongDescription\",, \"T\")","v":"Crude Light (Globex), Oct 30"},{"$f":"_xlfn.REGEXEXTRACT(RTD(\"cqg.rtd\", ,\"ContractData\",B53, \"LongDescription\",, \"T\"), \"[A-Z][a-z]{2}\\s\\d{2}\")","v":"Oct 30"},{"$f":"RTD(\"cqg.rtd\", ,\"ContractData\",B53, \"LastTrade\",, \"T\")","v":""},{"$f":"IF(RTD(\"cqg.rtd\", ,\"ContractData\",B53, \"NetLastTrade\",, \"T\")=\"\",NA(),RTD(\"cqg.rtd\", ,\"ContractData\",B53, \"NetLastTrade\",, \"T\"))","v":{"$error":"#N/A"}},{"$f":"RTD(\"cqg.rtd\", ,\"ContractData\",B53, \"Bid\",, \"T\")","v":""},{"$f":"RTD(\"cqg.rtd\", ,\"ContractData\",B53, \"Ask\",, \"T\")","v":""},{"$f":"RTD(\"cqg.rtd\", ,\"ContractData\",B53, \"T_CVol\",, \"T\")","v":0},{"$f":"RTD(\"cqg.rtd\", ,\"ContractData\",B53, \"TradeorTodaySettlement\",, \"T\")","v":65.06}]
[54,"CLE?54","CLE",{"$f":"RTD(\"cqg.rtd\", ,\"ContractData\",B54, \"ContractMonth\",, \"T\")","v":"NOV"},{"$f":"RTD(\"cqg.rtd\", ,\"ContractData\",B54, \"LongDescription\",, \"T\")","v":"Crude Light (Globex), Nov 30"},{"$f":"_xlfn.REGEXEXTRACT(RTD(\"cqg.rtd\", ,\"ContractData\",B54, \"LongDescription\",, \"T\"), \"[A-Z][a-z]{2}\\s\\d{2}\")","v":"Nov 30"},{"$f":"RTD(\"cqg.rtd\", ,\"ContractData\",B54, \"LastTrade\",, \"T\")","v":""},{"$f":"IF(RTD(\"cqg.rtd\", ,\"ContractData\",B54, \"NetLastTrade\",, \"T\")=\"\",NA(),RTD(\"cqg.rtd\", ,\"ContractData\",B54, \"NetLastTrade\",, \"T\"))","v":{"$error":"#N/A"}},{"$f":"RTD(\"cqg.rtd\", ,\"ContractData\",B54, \"Bid\",, \"T\")","v":""},{"$f":"RTD(\"cqg.rtd\", ,\"ContractData\",B54, \"Ask\",, \"T\")","v":""},{"$f":"RTD(\"cqg.rtd\", ,\"ContractData\",B54, \"T_CVol\",, \"T\")","v":0},{"$f":"RTD(\"cqg.rtd\", ,\"ContractData\",B54, \"TradeorTodaySettlement\",, \"T\")","v":64.849999999999994}]
[55,"CLE?55","CLE",{"$f":"RTD(\"cqg.rtd\", ,\"ContractData\",B55, \"ContractMonth\",, \"T\")","v":"DEC"},{"$f":"RTD(\"cqg.rtd\", ,\"ContractData\",B55, \"LongDescription\",, \"T\")","v":"Crude Light (Globex), Dec 30"},{"$f":"_xlfn.REGEXEXTRACT(RTD(\"cqg.rtd\", ,\"ContractData\",B55, \"LongDescription\",, \"T\"), \"[A-Z][a-z]{2}\\s\\d{2}\")","v":"Dec 30"},{"$f":"RTD(\"cqg.rtd\", ,\"ContractData\",B55, \"LastTrade\",, \"T\")","v":64.97},{"$f":"IF(RTD(\"cqg.rtd\", ,\"ContractData\",B55, \"NetLastTrade\",, \"T\")=\"\",NA(),RTD(\"cqg.rtd\", ,\"ContractData\",B55, \"NetLastTrade\",, \"T\"))","v":1.4399999999999977},{"$f":"RTD(\"cqg.rtd\", ,\"ContractData\",B55, \"Bid\",, \"T\")","v":64.7},{"$f":"RTD(\"cqg.rtd\", ,\"ContractData\",B55, \"Ask\",, \"T\")","v":65.08},{"$f":"RTD(\"cqg.rtd\", ,\"ContractData\",B55, \"T_CVol\",, \"T\")","v":1971},{"$f":"RTD(\"cqg.rtd\", ,\"ContractData\",B55, \"TradeorTodaySettlement\",, \"T\")","v":64.97}]
[56,"CLE?56","CLE",{"$f":"RTD(\"cqg.rtd\", ,\"ContractData\",B56, \"ContractMonth\",, \"T\")","v":"JAN"},{"$f":"RTD(\"cqg.rtd\", ,\"ContractData\",B56, \"LongDescription\",, \"T\")","v":"Crude Light (Globex), Jan 31"},{"$f":"_xlfn.REGEXEXTRACT(RTD(\"cqg.rtd\", ,\"ContractData\",B56, \"LongDescription\",, \"T\"), \"[A-Z][a-z]{2}\\s\\d{2}\")","v":"Jan 31"},{"$f":"RTD(\"cqg.rtd\", ,\"ContractData\",B56, \"LastTrade\",, \"T\")","v":""},{"$f":"IF(RTD(\"cqg.rtd\", ,\"ContractData\",B56, \"NetLastTrade\",, \"T\")=\"\",NA(),RTD(\"cqg.rtd\", ,\"ContractData\",B56, \"NetLastTrade\",, \"T\"))","v":{"$error":"#N/A"}},{"$f":"RTD(\"cqg.rtd\", ,\"ContractData\",B56, \"Bid\",, \"T\")","v":""},{"$f":"RTD(\"cqg.rtd\", ,\"ContractData\",B56, \"Ask\",, \"T\")","v":""},{"$f":"RTD(\"cqg.rtd\", ,\"ContractData\",B56, \"T_CVol\",, \"T\")","v":0},{"$f":"RTD(\"cqg.rtd\", ,\"ContractData\",B56, \"TradeorTodaySettlement\",, \"T\")","v":64.39}]
[57,"CLE?57","CLE",{"$f":"RTD(\"cqg.rtd\", ,\"ContractData\",B57, \"ContractMonth\",, \"T\")","v":"FEB"},{"$f":"RTD(\"cqg.rtd\", ,\"ContractData\",B57, \"LongDescription\",, \"T\")","v":"Crude Light (Globex), Feb 31"},{"$f":"_xlfn.REGEXEXTRACT(RTD(\"cqg.rtd\", ,\"ContractData\",B57, \"LongDescription\",, \"T\"), \"[A-Z][a-z]{2}\\s\\d{2}\")","v":"Feb 31"},{"$f":"RTD(\"cqg.rtd\", ,\"ContractData\",B57, \"LastTrade\",, \"T\")","v":""},{"$f":"IF(RTD(\"cqg.rtd\", ,\"ContractData\",B57, \"NetLastTrade\",, \"T\")=\"\",NA(),RTD(\"cqg.rtd\", ,\"ContractData\",B57, \"NetLastTrade\",, \"T\"))","v":{"$error":"#N/A"}},{"$f":"RTD(\"cqg.rtd\", ,\"ContractData\",B57, \"Bid\",, \"T\")","v":""},{"$f":"RTD(\"cqg.rtd\", ,\"ContractData\",B57, \"Ask\",, \"T\")","v":""},{"$f":"RTD(\"cqg.rtd\", ,\"ContractData\",B57, \"T_CVol\",, \"T\")","v":0},{"$f":"RTD(\"cqg.rtd\", ,\"ContractData\",B57, \"TradeorTodaySettlement\",, \"T\")","v":64.210000000000008}]
[58,"CLE?58","CLE",{"$f":"RTD(\"cqg.rtd\", ,\"ContractData\",B58, \"ContractMonth\",, \"T\")","v":"MAR"},{"$f":"RTD(\"cqg.rtd\", ,\"ContractData\",B58, \"LongDescription\",, \"T\")","v":"Crude Light (Globex), Mar 31"},{"$f":"_xlfn.REGEXEXTRACT(RTD(\"cqg.rtd\", ,\"ContractData\",B58, \"LongDescription\",, \"T\"), \"[A-Z][a-z]{2}\\s\\d{2}\")","v":"Mar 31"},{"$f":"RTD(\"cqg.rtd\", ,\"ContractData\",B58, \"LastTrade\",, \"T\")","v":""},{"$f":"IF(RTD(\"cqg.rtd\", ,\"ContractData\",B58, \"NetLastTrade\",, \"T\")=\"\",NA(),RTD(\"cqg.rtd\", ,\"ContractData\",B58, \"NetLastTrade\",, \"T\"))","v":{"$error":"#N/A"}},{"$f":"RTD(\"cqg.rtd\", ,\"ContractData\",B58, \"Bid\",, \"T\")","v":""},{"$f":"RTD(\"cqg.rtd\", ,\"ContractData\",B58, \"Ask\",, \"T\")","v":""},{"$f":"RTD(\"cqg.rtd\", ,\"ContractData\",B58, \"T_CVol\",, \"T\")","v":0},{"$f":"RTD(\"cqg.rtd\", ,\"ContractData\",B58, \"TradeorTodaySettlement\",, \"T\")","v":64.070000000000007}]
[59,"CLE?59","CLE",{"$f":"RTD(\"cqg.rtd\", ,\"ContractData\",B59, \"ContractMonth\",, \"T\")","v":"APR"},{"$f":"RTD(\"cqg.rtd\", ,\"ContractData\",B59, \"LongDescription\",, \"T\")","v":"Crude Light (Globex), Apr 31"},{"$f":"_xlfn.REGEXEXTRACT(RTD(\"cqg.rtd\", ,\"ContractData\",B59, \"LongDescription\",, \"T\"), \"[A-Z][a-z]{2}\\s\\d{2}\")","v":"Apr 31"},{"$f":"RTD(\"cqg.rtd\", ,\"ContractData\",B59, \"LastTrade\",, \"T\")","v":""},{"$f":"IF(RTD(\"cqg.rtd\", ,\"ContractData\",B59, \"NetLastTrade\",, \"T\")=\"\",NA(),RTD(\"cqg.rtd\", ,\"ContractData\",B59, \"NetLastTrade\",, \"T\"))","v":{"$error":"#N/A"}},{"$f":"RTD(\"cqg.rtd\", ,\"ContractData\",B59, \"Bid\",, \"T\")","v":""},{"$f":"RTD(\"cqg.rtd\", ,\"ContractData\",B59, \"Ask\",, \"T\")","v":""},{"$f":"RTD(\"cqg.rtd\", ,\"ContractData\",B59, \"T_CVol\",, \"T\")","v":0},{"$f":"RTD(\"cqg.rtd\", ,\"ContractData\",B59, \"TradeorTodaySettlement\",, \"T\")","v":63.88}]
[60,"CLE?60","CLE",{"$f":"RTD(\"cqg.rtd\", ,\"ContractData\",B60, \"ContractMonth\",, \"T\")","v":"MAY"},{"$f":"RTD(\"cqg.rtd\", ,\"ContractData\",B60, \"LongDescription\",, \"T\")","v":"Crude Light (Globex), May 31"},{"$f":"_xlfn.REGEXEXTRACT(RTD(\"cqg.rtd\", ,\"ContractData\",B60, \"LongDescription\",, \"T\"), \"[A-Z][a-z]{2}\\s\\d{2}\")","v":"May 31"},{"$f":"RTD(\"cqg.rtd\", ,\"ContractData\",B60, \"LastTrade\",, \"T\")","v":""},{"$f":"IF(RTD(\"cqg.rtd\", ,\"ContractData\",B60, \"NetLastTrade\",, \"T\")=\"\",NA(),RTD(\"cqg.rtd\", ,\"ContractData\",B60, \"NetLastTrade\",, \"T\"))","v":{"$error":"#N/A"}},{"$f":"RTD(\"cqg.rtd\", ,\"ContractData\",B60, \"Bid\",, \"T\")","v":""},{"$f":"RTD(\"cqg.rtd\", ,\"ContractData\",B60, \"Ask\",, \"T\")","v":""},{"$f":"RTD(\"cqg.rtd\", ,\"ContractData\",B60, \"T_CVol\",, \"T\")","v":0},{"$f":"RTD(\"cqg.rtd\", ,\"ContractData\",B60, \"TradeorTodaySettlement\",, \"T\")","v":63.690000000000005}]
[61,"CLE?61","CLE",{"$f":"RTD(\"cqg.rtd\", ,\"ContractData\",B61, \"ContractMonth\",, \"T\")","v":"JUN"},{"$f":"RTD(\"cqg.rtd\", ,\"ContractData\",B61, \"LongDescription\",, \"T\")","v":"Crude Light (Globex), Jun 31"},{"$f":"_xlfn.REGEXEXTRACT(RTD(\"cqg.rtd\", ,\"ContractData\",B61, \"LongDescription\",, \"T\"), \"[A-Z][a-z]{2}\\s\\d{2}\")","v":"Jun 31"},{"$f":"RTD(\"cqg.rtd\", ,\"ContractData\",B61, \"LastTrade\",, \"T\")","v":""},{"$f":"IF(RTD(\"cqg.rtd\", ,\"ContractData\",B61, \"NetLastTrade\",, \"T\")=\"\",NA(),RTD(\"cqg.rtd\", ,\"ContractData\",B61, \"NetLastTrade\",, \"T\"))","v":{"$error":"#N/A"}},{"$f":"RTD(\"cqg.rtd\", ,\"ContractData\",B61, \"Bid\",, \"T\")","v":""},{"$f":"RTD(\"cqg.rtd\", ,\"ContractData\",B61, \"Ask\",, \"T\")","v":""},{"$f":"RTD(\"cqg.rtd\", ,\"ContractData\",B61, \"T_CVol\",, \"T\")","v":0},{"$f":"RTD(\"cqg.rtd\", ,\"ContractData\",B61, \"TradeorTodaySettlement\",, \"T\")","v":63.52}]
[62,"CLE?62","CLE",{"$f":"RTD(\"cqg.rtd\", ,\"ContractData\",B62, \"ContractMonth\",, \"T\")","v":"JUL"},{"$f":"RTD(\"cqg.rtd\", ,\"ContractData\",B62, \"LongDescription\",, \"T\")","v":"Crude Light (Globex), Jul 31"},{"$f":"_xlfn.REGEXEXTRACT(RTD(\"cqg.rtd\", ,\"ContractData\",B62, \"LongDescription\",, \"T\"), \"[A-Z][a-z]{2}\\s\\d{2}\")","v":"Jul 31"},{"$f":"RTD(\"cqg.rtd\", ,\"ContractData\",B62, \"LastTrade\",, \"T\")","v":""},{"$f":"IF(RTD(\"cqg.rtd\", ,\"ContractData\",B62, \"NetLastTrade\",, \"T\")=\"\",NA(),RTD(\"cqg.rtd\", ,\"ContractData\",B62, \"NetLastTrade\",, \"T\"))","v":{"$error":"#N/A"}},{"$f":"RTD(\"cqg.rtd\", ,\"ContractData\",B62, \"Bid\",, \"T\")","v":""},{"$f":"RTD(\"cqg.rtd\", ,\"ContractData\",B62, \"Ask\",, \"T\")","v":""},{"$f":"RTD(\"cqg.rtd\", ,\"ContractData\",B62, \"T_CVol\",, \"T\")","v":0},{"$f":"RTD(\"cqg.rtd\", ,\"ContractData\",B62, \"TradeorTodaySettlement\",, \"T\")","v":63.35}]
[63,"CLE?63","CLE",{"$f":"RTD(\"cqg.rtd\", ,\"ContractData\",B63, \"ContractMonth\",, \"T\")","v":"AUG"},{"$f":"RTD(\"cqg.rtd\", ,\"ContractData\",B63, \"LongDescription\",, \"T\")","v":"Crude Light (Globex), Aug 31"},{"$f":"_xlfn.REGEXEXTRACT(RTD(\"cqg.rtd\", ,\"ContractData\",B63, \"LongDescription\",, \"T\"), \"[A-Z][a-z]{2}\\s\\d{2}\")","v":"Aug 31"},{"$f":"RTD(\"cqg.rtd\", ,\"ContractData\",B63, \"LastTrade\",, \"T\")","v":""},{"$f":"IF(RTD(\"cqg.rtd\", ,\"ContractData\",B63, \"NetLastTrade\",, \"T\")=\"\",NA(),RTD(\"cqg.rtd\", ,\"ContractData\",B63, \"NetLastTrade\",, \"T\"))","v":{"$error":"#N/A"}},{"$f":"RTD(\"cqg.rtd\", ,\"ContractData\",B63, \"Bid\",, \"T\")","v":""},{"$f":"RTD(\"cqg.rtd\", ,\"ContractData\",B63, \"Ask\",, \"T\")","v":""},{"$f":"RTD(\"cqg.rtd\", ,\"ContractData\",B63, \"T_CVol\",, \"T\")","v":0},{"$f":"RTD(\"cqg.rtd\", ,\"ContractData\",B63, \"TradeorTodaySettlement\",, \"T\")","v":63.2}]
[64,"CLE?64","CLE",{"$f":"RTD(\"cqg.rtd\", ,\"ContractData\",B64, \"ContractMonth\",, \"T\")","v":"SEP"},{"$f":"RTD(\"cqg.rtd\", ,\"ContractData\",B64, \"LongDescription\",, \"T\")","v":"Crude Light (Globex), Sep 31"},{"$f":"_xlfn.REGEXEXTRACT(RTD(\"cqg.rtd\", ,\"ContractData\",B64, \"LongDescription\",, \"T\"), \"[A-Z][a-z]{2}\\s\\d{2}\")","v":"Sep 31"},{"$f":"RTD(\"cqg.rtd\", ,\"ContractData\",B64, \"LastTrade\",, \"T\")","v":""},{"$f":"IF(RTD(\"cqg.rtd\", ,\"ContractData\",B64, \"NetLastTrade\",, \"T\")=\"\",NA(),RTD(\"cqg.rtd\", ,\"ContractData\",B64, \"NetLastTrade\",, \"T\"))","v":{"$error":"#N/A"}},{"$f":"RTD(\"cqg.rtd\", ,\"ContractData\",B64, \"Bid\",, \"T\")","v":""},{"$f":"RTD(\"cqg.rtd\", ,\"ContractData\",B64, \"Ask\",, \"T\")","v":65},{"$f":"RTD(\"cqg.rtd\", ,\"ContractData\",B64, \"T_CVol\",, \"T\")","v":0},{"$f":"RTD(\"cqg.rtd\", ,\"ContractData\",B64, \"TradeorTodaySettlement\",, \"T\")","v":63.050000000000004}]
[65,"CLE?65","CLE",{"$f":"RTD(\"cqg.rtd\", ,\"ContractData\",B65, \"ContractMonth\",, \"T\")","v":"OCT"},{"$f":"RTD(\"cqg.rtd\", ,\"ContractData\",B65, \"LongDescription\",, \"T\")","v":"Crude Light (Globex), Oct 31"},{"$f":"_xlfn.REGEXEXTRACT(RTD(\"cqg.rtd\", ,\"ContractData\",B65, \"LongDescription\",, \"T\"), \"[A-Z][a-z]{2}\\s\\d{2}\")","v":"Oct 31"},{"$f":"RTD(\"cqg.rtd\", ,\"ContractData\",B65, \"LastTrade\",, \"T\")","v":""},{"$f":"IF(RTD(\"cqg.rtd\", ,\"ContractData\",B65, \"NetLastTrade\",, \"T\")=\"\",NA(),RTD(\"cqg.rtd\", ,\"ContractData\",B65, \"NetLastTrade\",, \"T\"))","v":{"$error":"#N/A"}},{"$f":"RTD(\"cqg.rtd\", ,\"ContractData\",B65, \"Bid\",, \"T\")","v":""},{"$f":"RTD(\"cqg.rtd\", ,\"ContractData\",B65, \"Ask\",, \"T\")","v":""},{"$f":"RTD(\"cqg.rtd\", ,\"ContractData\",B65, \"T_CVol\",, \"T\")","v":0},{"$f":"RTD(\"cqg.rtd\", ,\"ContractData\",B65, \"TradeorTodaySettlement\",, \"T\")","v":62.86}]
[66,"CLE?66","CLE",{"$f":"RTD(\"cqg.rtd\", ,\"ContractData\",B66, \"ContractMonth\",, \"T\")","v":"NOV"},{"$f":"RTD(\"cqg.rtd\", ,\"ContractData\",B66, \"LongDescription\",, \"T\")","v":"Crude Light (Globex), Nov 31"},{"$f":"_xlfn.REGEXEXTRACT(RTD(\"cqg.rtd\", ,\"ContractData\",B66, \"LongDescription\",, \"T\"), \"[A-Z][a-z]{2}\\s\\d{2}\")","v":"Nov 31"},{"$f":"RTD(\"cqg.rtd\", ,\"ContractData\",B66, \"LastTrade\",, \"T\")","v":""},{"$f":"IF(RTD(\"cqg.rtd\", ,\"ContractData\",B66, \"NetLastTrade\",, \"T\")=\"\",NA(),RTD(\"cqg.rtd\", ,\"ContractData\",B66, \"NetLastTrade\",, \"T\"))","v":{"$error":"#N/A"}},{"$f":"RTD(\"cqg.rtd\", ,\"ContractData\",B66, \"Bid\",, \"T\")","v":""},{"$f":"RTD(\"cqg.rtd\", ,\"ContractData\",B66, \"Ask\",, \"T\")","v":""},{"$f":"RTD(\"cqg.rtd\", ,\"ContractData\",B66, \"T_CVol\",, \"T\")","v":0},{"$f":"RTD(\"cqg.rtd\", ,\"ContractData\",B66, \"TradeorTodaySettlement\",, \"T\")","v":62.67}]
[{"$f":"A66+1","v":67},{"$f":"$N$1&\"?\"&A67","v":"CLE?67"},"CLE",{"$f":"RTD(\"cqg.rtd\", ,\"ContractData\",B67, \"ContractMonth\",, \"T\")","v":"DEC"},{"$f":"RTD(\"cqg.rtd\", ,\"ContractData\",B67, \"LongDescription\",, \"T\")","v":"Crude Light (Globex), Dec 31"},{"$f":"_xlfn.REGEXEXTRACT(RTD(\"cqg.rtd\", ,\"ContractData\",B67, \"LongDescription\",, \"T\"), \"[A-Z][a-z]{2}\\s\\d{2}\")","v":"Dec 31"},{"$f":"RTD(\"cqg.rtd\", ,\"ContractData\",B67, \"LastTrade\",, \"T\")","v":62.58},{"$f":"IF(RTD(\"cqg.rtd\", ,\"ContractData\",B67, \"NetLastTrade\",, \"T\")=\"\",NA(),RTD(\"cqg.rtd\", ,\"ContractData\",B67, \"NetLastTrade\",, \"T\"))","v":1.0999999999999943},{"$f":"RTD(\"cqg.rtd\", ,\"ContractData\",B67, \"Bid\",, \"T\")","v":62.54},{"$f":"RTD(\"cqg.rtd\", ,\"ContractData\",B67, \"Ask\",, \"T\")","v":62.92},{"$f":"RTD(\"cqg.rtd\", ,\"ContractData\",B67, \"T_CVol\",, \"T\")","v":359},{"$f":"RTD(\"cqg.rtd\", ,\"ContractData\",B67, \"TradeorTodaySettlement\",, \"T\")","v":62.58}]
[68,"CLE?68","CLE",{"$f":"RTD(\"cqg.rtd\", ,\"ContractData\",B68, \"ContractMonth\",, \"T\")","v":"JAN"},{"$f":"RTD(\"cqg.rtd\", ,\"ContractData\",B68, \"LongDescription\",, \"T\")","v":"Crude Light (Globex), Jan 32"},{"$f":"_xlfn.REGEXEXTRACT(RTD(\"cqg.rtd\", ,\"ContractData\",B68, \"LongDescription\",, \"T\"), \"[A-Z][a-z]{2}\\s\\d{2}\")","v":"Jan 32"},{"$f":"RTD(\"cqg.rtd\", ,\"ContractData\",B68, \"LastTrade\",, \"T\")","v":""},{"$f":"IF(RTD(\"cqg.rtd\", ,\"ContractData\",B68, \"NetLastTrade\",, \"T\")=\"\",NA(),RTD(\"cqg.rtd\", ,\"ContractData\",B68, \"NetLastTrade\",, \"T\"))","v":{"$error":"#N/A"}},{"$f":"RTD(\"cqg.rtd\", ,\"ContractData\",B68, \"Bid\",, \"T\")","v":""},{"$f":"RTD(\"cqg.rtd\", ,\"ContractData\",B68, \"Ask\",, \"T\")","v":""},{"$f":"RTD(\"cqg.rtd\", ,\"ContractData\",B68, \"T_CVol\",, \"T\")","v":0},{"$f":"RTD(\"cqg.rtd\", ,\"ContractData\",B68, \"TradeorTodaySettlement\",, \"T\")","v":62.26}]
[69,"CLE?69","CLE",{"$f":"RTD(\"cqg.rtd\", ,\"ContractData\",B69, \"ContractMonth\",, \"T\")","v":"FEB"},{"$f":"RTD(\"cqg.rtd\", ,\"ContractData\",B69, \"LongDescription\",, \"T\")","v":"Crude Light (Globex), Feb 32"},{"$f":"_xlfn.REGEXEXTRACT(RTD(\"cqg.rtd\", ,\"ContractData\",B69, \"LongDescription\",, \"T\"), \"[A-Z][a-z]{2}\\s\\d{2}\")","v":"Feb 32"},{"$f":"RTD(\"cqg.rtd\", ,\"ContractData\",B69, \"LastTrade\",, \"T\")","v":""},{"$f":"IF(RTD(\"cqg.rtd\", ,\"ContractData\",B69, \"NetLastTrade\",, \"T\")=\"\",NA(),RTD(\"cqg.rtd\", ,\"ContractData\",B69, \"NetLastTrade\",, \"T\"))","v":{"$error":"#N/A"}},{"$f":"RTD(\"cqg.rtd\", ,\"ContractData\",B69, \"Bid\",, \"T\")","v":""},{"$f":"RTD(\"cqg.rtd\", ,\"ContractData\",B69, \"Ask\",, \"T\")","v":""},{"$f":"RTD(\"cqg.rtd\", ,\"ContractData\",B69, \"T_CVol\",, \"T\")","v":0},{"$f":"RTD(\"cqg.rtd\", ,\"ContractData\",B69, \"TradeorTodaySettlement\",, \"T\")","v":62.09}]
[70,"CLE?70","CLE",{"$f":"RTD(\"cqg.rtd\", ,\"ContractData\",B70, \"ContractMonth\",, \"T\")","v":"MAR"},{"$f":"RTD(\"cqg.rtd\", ,\"ContractData\",B70, \"LongDescription\",, \"T\")","v":"Crude Light (Globex), Mar 32"},{"$f":"_xlfn.REGEXEXTRACT(RTD(\"cqg.rtd\", ,\"ContractData\",B70, \"LongDescription\",, \"T\"), \"[A-Z][a-z]{2}\\s\\d{2}\")","v":"Mar 32"},{"$f":"RTD(\"cqg.rtd\", ,\"ContractData\",B70, \"LastTrade\",, \"T\")","v":""},{"$f":"IF(RTD(\"cqg.rtd\", ,\"ContractData\",B70, \"NetLastTrade\",, \"T\")=\"\",NA(),RTD(\"cqg.rtd\", ,\"ContractData\",B70, \"NetLastTrade\",, \"T\"))","v":{"$error":"#N/A"}},{"$f":"RTD(\"cqg.rtd\", ,\"ContractData\",B70, \"Bid\",, \"T\")","v":""},{"$f":"RTD(\"cqg.rtd\", ,\"ContractData\",B70, \"Ask\",, \"T\")","v":""},{"$f":"RTD(\"cqg.rtd\", ,\"ContractData\",B70, \"T_CVol\",, \"T\")","v":0},{"$f":"RTD(\"cqg.rtd\", ,\"ContractData\",B70, \"TradeorTodaySettlement\",, \"T\")","v":61.910000000000004}]
[71,"CLE?71","CLE",{"$f":"RTD(\"cqg.rtd\", ,\"ContractData\",B71, \"ContractMonth\",, \"T\")","v":"APR"},{"$f":"RTD(\"cqg.rtd\", ,\"ContractData\",B71, \"LongDescription\",, \"T\")","v":"Crude Light (Globex), Apr 32"},{"$f":"_xlfn.REGEXEXTRACT(RTD(\"cqg.rtd\", ,\"ContractData\",B71, \"LongDescription\",, \"T\"), \"[A-Z][a-z]{2}\\s\\d{2}\")","v":"Apr 32"},{"$f":"RTD(\"cqg.rtd\", ,\"ContractData\",B71, \"LastTrade\",, \"T\")","v":""},{"$f":"IF(RTD(\"cqg.rtd\", ,\"ContractData\",B71, \"NetLastTrade\",, \"T\")=\"\",NA(),RTD(\"cqg.rtd\", ,\"ContractData\",B71, \"NetLastTrade\",, \"T\"))","v":{"$error":"#N/A"}},{"$f":"RTD(\"cqg.rtd\", ,\"ContractData\",B71, \"Bid\",, \"T\")","v":""},{"$f":"RTD(\"cqg.rtd\", ,\"ContractData\",B71, \"Ask\",, \"T\")","v":""},{"$f":"RTD(\"cqg.rtd\", ,\"ContractData\",B71, \"T_CVol\",, \"T\")","v":0},{"$f":"RTD(\"cqg.rtd\", ,\"ContractData\",B71, \"TradeorTodaySettlement\",, \"T\")","v":61.76}]
[72,"CLE?72","CLE",{"$f":"RTD(\"cqg.rtd\", ,\"ContractData\",B72, \"ContractMonth\",, \"T\")","v":"MAY"},{"$f":"RTD(\"cqg.rtd\", ,\"ContractData\",B72, \"LongDescription\",, \"T\")","v":"Crude Light (Globex), May 32"},{"$f":"_xlfn.REGEXEXTRACT(RTD(\"cqg.rtd\", ,\"ContractData\",B72, \"LongDescription\",, \"T\"), \"[A-Z][a-z]{2}\\s\\d{2}\")","v":"May 32"},{"$f":"RTD(\"cqg.rtd\", ,\"ContractData\",B72, \"LastTrade\",, \"T\")","v":""},{"$f":"IF(RTD(\"cqg.rtd\", ,\"ContractData\",B72, \"NetLastTrade\",, \"T\")=\"\",NA(),RTD(\"cqg.rtd\", ,\"ContractData\",B72, \"NetLastTrade\",, \"T\"))","v":{"$error":"#N/A"}},{"$f":"RTD(\"cqg.rtd\", ,\"ContractData\",B72, \"Bid\",, \"T\")","v":""},{"$f":"RTD(\"cqg.rtd\", ,\"ContractData\",B72, \"Ask\",, \"T\")","v":""},{"$f":"RTD(\"cqg.rtd\", ,\"ContractData\",B72, \"T_CVol\",, \"T\")","v":0},{"$f":"RTD(\"cqg.rtd\", ,\"ContractData\",B72, \"TradeorTodaySettlement\",, \"T\")","v":61.6}]
[73,"CLE?73","CLE",{"$f":"RTD(\"cqg.rtd\", ,\"ContractData\",B73, \"ContractMonth\",, \"T\")","v":"JUN"},{"$f":"RTD(\"cqg.rtd\", ,\"ContractData\",B73, \"LongDescription\",, \"T\")","v":"Crude Light (Globex), Jun 32"},{"$f":"_xlfn.REGEXEXTRACT(RTD(\"cqg.rtd\", ,\"ContractData\",B73, \"LongDescription\",, \"T\"), \"[A-Z][a-z]{2}\\s\\d{2}\")","v":"Jun 32"},{"$f":"RTD(\"cqg.rtd\", ,\"ContractData\",B73, \"LastTrade\",, \"T\")","v":""},{"$f":"IF(RTD(\"cqg.rtd\", ,\"ContractData\",B73, \"NetLastTrade\",, \"T\")=\"\",NA(),RTD(\"cqg.rtd\", ,\"ContractData\",B73, \"NetLastTrade\",, \"T\"))","v":{"$error":"#N/A"}},{"$f":"RTD(\"cqg.rtd\", ,\"ContractData\",B73, \"Bid\",, \"T\")","v":""},{"$f":"RTD(\"cqg.rtd\", ,\"ContractData\",B73, \"Ask\",, \"T\")","v":""},{"$f":"RTD(\"cqg.rtd\", ,\"ContractData\",B73, \"T_CVol\",, \"T\")","v":0},{"$f":"RTD(\"cqg.rtd\", ,\"ContractData\",B73, \"TradeorTodaySettlement\",, \"T\")","v":61.44}]
[74,"CLE?74","CLE",{"$f":"RTD(\"cqg.rtd\", ,\"ContractData\",B74, \"ContractMonth\",, \"T\")","v":"JUL"},{"$f":"RTD(\"cqg.rtd\", ,\"ContractData\",B74, \"LongDescription\",, \"T\")","v":"Crude Light (Globex), Jul 32"},{"$f":"_xlfn.REGEXEXTRACT(RTD(\"cqg.rtd\", ,\"ContractData\",B74, \"LongDescription\",, \"T\"), \"[A-Z][a-z]{2}\\s\\d{2}\")","v":"Jul 32"},{"$f":"RTD(\"cqg.rtd\", ,\"ContractData\",B74, \"LastTrade\",, \"T\")","v":""},{"$f":"IF(RTD(\"cqg.rtd\", ,\"ContractData\",B74, \"NetLastTrade\",, \"T\")=\"\",NA(),RTD(\"cqg.rtd\", ,\"ContractData\",B74, \"NetLastTrade\",, \"T\"))","v":{"$error":"#N/A"}},{"$f":"RTD(\"cqg.rtd\", ,\"ContractData\",B74, \"Bid\",, \"T\")","v":""},{"$f":"RTD(\"cqg.rtd\", ,\"ContractData\",B74, \"Ask\",, \"T\")","v":""},{"$f":"RTD(\"cqg.rtd\", ,\"ContractData\",B74, \"T_CVol\",, \"T\")","v":0},{"$f":"RTD(\"cqg.rtd\", ,\"ContractData\",B74, \"TradeorTodaySettlement\",, \"T\")","v":61.27}]
[75,"CLE?75","CLE",{"$f":"RTD(\"cqg.rtd\", ,\"ContractData\",B75, \"ContractMonth\",, \"T\")","v":"AUG"},{"$f":"RTD(\"cqg.rtd\", ,\"ContractData\",B75, \"LongDescription\",, \"T\")","v":"Crude Light (Globex), Aug 32"},{"$f":"_xlfn.REGEXEXTRACT(RTD(\"cqg.rtd\", ,\"ContractData\",B75, \"LongDescription\",, \"T\"), \"[A-Z][a-z]{2}\\s\\d{2}\")","v":"Aug 32"},{"$f":"RTD(\"cqg.rtd\", ,\"ContractData\",B75, \"LastTrade\",, \"T\")","v":""},{"$f":"IF(RTD(\"cqg.rtd\", ,\"ContractData\",B75, \"NetLastTrade\",, \"T\")=\"\",NA(),RTD(\"cqg.rtd\", ,\"ContractData\",B75, \"NetLastTrade\",, \"T\"))","v":{"$error":"#N/A"}},{"$f":"RTD(\"cqg.rtd\", ,\"ContractData\",B75, \"Bid\",, \"T\")","v":""},{"$f":"RTD(\"cqg.rtd\", ,\"ContractData\",B75, \"Ask\",, \"T\")","v":80},{"$f":"RTD(\"cqg.rtd\", ,\"ContractData\",B75, \"T_CVol\",, \"T\")","v":0},{"$f":"RTD(\"cqg.rtd\", ,\"ContractData\",B75, \"TradeorTodaySettlement\",, \"T\")","v":61.120000000000005}]
[76,"CLE?76","CLE",{"$f":"RTD(\"cqg.rtd\", ,\"ContractData\",B76, \"ContractMonth\",, \"T\")","v":"SEP"},{"$f":"RTD(\"cqg.rtd\", ,\"ContractData\",B76, \"LongDescription\",, \"T\")","v":"Crude Light (Globex), Sep 32"},{"$f":"_xlfn.REGEXEXTRACT(RTD(\"cqg.rtd\", ,\"ContractData\",B76, \"LongDescription\",, \"T\"), \"[A-Z][a-z]{2}\\s\\d{2}\")","v":"Sep 32"},{"$f":"RTD(\"cqg.rtd\", ,\"ContractData\",B76, \"LastTrade\",, \"T\")","v":""},{"$f":"IF(RTD(\"cqg.rtd\", ,\"ContractData\",B76, \"NetLastTrade\",, \"T\")=\"\",NA(),RTD(\"cqg.rtd\", ,\"ContractData\",B76, \"NetLastTrade\",, \"T\"))","v":{"$error":"#N/A"}},{"$f":"RTD(\"cqg.rtd\", ,\"ContractData\",B76, \"Bid\",, \"T\")","v":""},{"$f":"RTD(\"cqg.rtd\", ,\"ContractData\",B76, \"Ask\",, \"T\")","v":""},{"$f":"RTD(\"cqg.rtd\", ,\"ContractData\",B76, \"T_CVol\",, \"T\")","v":0},{"$f":"RTD(\"cqg.rtd\", ,\"ContractData\",B76, \"TradeorTodaySettlement\",, \"T\")","v":60.96}]
[77,"CLE?77","CLE",{"$f":"RTD(\"cqg.rtd\", ,\"ContractData\",B77, \"ContractMonth\",, \"T\")","v":"OCT"},{"$f":"RTD(\"cqg.rtd\", ,\"ContractData\",B77, \"LongDescription\",, \"T\")","v":"Crude Light (Globex), Oct 32"},{"$f":"_xlfn.REGEXEXTRACT(RTD(\"cqg.rtd\", ,\"ContractData\",B77, \"LongDescription\",, \"T\"), \"[A-Z][a-z]{2}\\s\\d{2}\")","v":"Oct 32"},{"$f":"RTD(\"cqg.rtd\", ,\"ContractData\",B77, \"LastTrade\",, \"T\")","v":""},{"$f":"IF(RTD(\"cqg.rtd\", ,\"ContractData\",B77, \"NetLastTrade\",, \"T\")=\"\",NA(),RTD(\"cqg.rtd\", ,\"ContractData\",B77, \"NetLastTrade\",, \"T\"))","v":{"$error":"#N/A"}},{"$f":"RTD(\"cqg.rtd\", ,\"ContractData\",B77, \"Bid\",, \"T\")","v":""},{"$f":"RTD(\"cqg.rtd\", ,\"ContractData\",B77, \"Ask\",, \"T\")","v":""},{"$f":"RTD(\"cqg.rtd\", ,\"ContractData\",B77, \"T_CVol\",, \"T\")","v":0},{"$f":"RTD(\"cqg.rtd\", ,\"ContractData\",B77, \"TradeorTodaySettlement\",, \"T\")","v":60.78}]
[78,"CLE?78","CLE",{"$f":"RTD(\"cqg.rtd\", ,\"ContractData\",B78, \"ContractMonth\",, \"T\")","v":"NOV"},{"$f":"RTD(\"cqg.rtd\", ,\"ContractData\",B78, \"LongDescription\",, \"T\")","v":"Crude Light (Globex), Nov 32"},{"$f":"_xlfn.REGEXEXTRACT(RTD(\"cqg.rtd\", ,\"ContractData\",B78, \"LongDescription\",, \"T\"), \"[A-Z][a-z]{2}\\s\\d{2}\")","v":"Nov 32"},{"$f":"RTD(\"cqg.rtd\", ,\"ContractData\",B78, \"LastTrade\",, \"T\")","v":""},{"$f":"IF(RTD(\"cqg.rtd\", ,\"ContractData\",B78, \"NetLastTrade\",, \"T\")=\"\",NA(),RTD(\"cqg.rtd\", ,\"ContractData\",B78, \"NetLastTrade\",, \"T\"))","v":{"$error":"#N/A"}},{"$f":"RTD(\"cqg.rtd\", ,\"ContractData\",B78, \"Bid\",, \"T\")","v":""},{"$f":"RTD(\"cqg.rtd\", ,\"ContractData\",B78, \"Ask\",, \"T\")","v":""},{"$f":"RTD(\"cqg.rtd\", ,\"ContractData\",B78, \"T_CVol\",, \"T\")","v":0},{"$f":"RTD(\"cqg.rtd\", ,\"ContractData\",B78, \"TradeorTodaySettlement\",, \"T\")","v":60.660000000000004}]
[79,"CLE?79","CLE",{"$f":"RTD(\"cqg.rtd\", ,\"ContractData\",B79, \"ContractMonth\",, \"T\")","v":"DEC"},{"$f":"RTD(\"cqg.rtd\", ,\"ContractData\",B79, \"LongDescription\",, \"T\")","v":"Crude Light (Globex), Dec 32"},{"$f":"_xlfn.REGEXEXTRACT(RTD(\"cqg.rtd\", ,\"ContractData\",B79, \"LongDescription\",, \"T\"), \"[A-Z][a-z]{2}\\s\\d{2}\")","v":"Dec 32"},{"$f":"RTD(\"cqg.rtd\", ,\"ContractData\",B79, \"LastTrade\",, \"T\")","v":60.75},{"$f":"IF(RTD(\"cqg.rtd\", ,\"ContractData\",B79, \"NetLastTrade\",, \"T\")=\"\",NA(),RTD(\"cqg.rtd\", ,\"ContractData\",B79, \"NetLastTrade\",, \"T\"))","v":1.1099999999999994},{"$f":"RTD(\"cqg.rtd\", ,\"ContractData\",B79, \"Bid\",, \"T\")","v":59.9},{"$f":"RTD(\"cqg.rtd\", ,\"ContractData\",B79, \"Ask\",, \"T\")","v":60.800000000000004},{"$f":"RTD(\"cqg.rtd\", ,\"ContractData\",B79, \"T_CVol\",, \"T\")","v":40},{"$f":"RTD(\"cqg.rtd\", ,\"ContractData\",B79, \"TradeorTodaySettlement\",, \"T\")","v":60.75}]
[80,"CLE?80","CLE",{"$f":"RTD(\"cqg.rtd\", ,\"ContractData\",B80, \"ContractMonth\",, \"T\")","v":"JAN"},{"$f":"RTD(\"cqg.rtd\", ,\"ContractData\",B80, \"LongDescription\",, \"T\")","v":"Crude Light (Globex), Jan 33"},{"$f":"_xlfn.REGEXEXTRACT(RTD(\"cqg.rtd\", ,\"ContractData\",B80, \"LongDescription\",, \"T\"), \"[A-Z][a-z]{2}\\s\\d{2}\")","v":"Jan 33"},{"$f":"RTD(\"cqg.rtd\", ,\"ContractData\",B80, \"LastTrade\",, \"T\")","v":""},{"$f":"IF(RTD(\"cqg.rtd\", ,\"ContractData\",B80, \"NetLastTrade\",, \"T\")=\"\",NA(),RTD(\"cqg.rtd\", ,\"ContractData\",B80, \"NetLastTrade\",, \"T\"))","v":{"$error":"#N/A"}},{"$f":"RTD(\"cqg.rtd\", ,\"ContractData\",B80, \"Bid\",, \"T\")","v":""},{"$f":"RTD(\"cqg.rtd\", ,\"ContractData\",B80, \"Ask\",, \"T\")","v":""},{"$f":"RTD(\"cqg.rtd\", ,\"ContractData\",B80, \"T_CVol\",, \"T\")","v":0},{"$f":"RTD(\"cqg.rtd\", ,\"ContractData\",B80, \"TradeorTodaySettlement\",, \"T\")","v":60.36}]
[81,"CLE?81","CLE",{"$f":"RTD(\"cqg.rtd\", ,\"ContractData\",B81, \"ContractMonth\",, \"T\")","v":"FEB"},{"$f":"RTD(\"cqg.rtd\", ,\"ContractData\",B81, \"LongDescription\",, \"T\")","v":"Crude Light (Globex), Feb 33"},{"$f":"_xlfn.REGEXEXTRACT(RTD(\"cqg.rtd\", ,\"ContractData\",B81, \"LongDescription\",, \"T\"), \"[A-Z][a-z]{2}\\s\\d{2}\")","v":"Feb 33"},{"$f":"RTD(\"cqg.rtd\", ,\"ContractData\",B81, \"LastTrade\",, \"T\")","v":""},{"$f":"IF(RTD(\"cqg.rtd\", ,\"ContractData\",B81, \"NetLastTrade\",, \"T\")=\"\",NA(),RTD(\"cqg.rtd\", ,\"ContractData\",B81, \"NetLastTrade\",, \"T\"))","v":{"$error":"#N/A"}},{"$f":"RTD(\"cqg.rtd\", ,\"ContractData\",B81, \"Bid\",, \"T\")","v":""},{"$f":"RTD(\"cqg.rtd\", ,\"ContractData\",B81, \"Ask\",, \"T\")","v":""},{"$f":"RTD(\"cqg.rtd\", ,\"ContractData\",B81, \"T_CVol\",, \"T\")","v":0},{"$f":"RTD(\"cqg.rtd\", ,\"ContractData\",B81, \"TradeorTodaySettlement\",, \"T\")","v":60.230000000000004}]
[82,"CLE?82","CLE",{"$f":"RTD(\"cqg.rtd\", ,\"ContractData\",B82, \"ContractMonth\",, \"T\")","v":"MAR"},{"$f":"RTD(\"cqg.rtd\", ,\"ContractData\",B82, \"LongDescription\",, \"T\")","v":"Crude Light (Globex), Mar 33"},{"$f":"_xlfn.REGEXEXTRACT(RTD(\"cqg.rtd\", ,\"ContractData\",B82, \"LongDescription\",, \"T\"), \"[A-Z][a-z]{2}\\s\\d{2}\")","v":"Mar 33"},{"$f":"RTD(\"cqg.rtd\", ,\"ContractData\",B82, \"LastTrade\",, \"T\")","v":""},{"$f":"IF(RTD(\"cqg.rtd\", ,\"ContractData\",B82, \"NetLastTrade\",, \"T\")=\"\",NA(),RTD(\"cqg.rtd\", ,\"ContractData\",B82, \"NetLastTrade\",, \"T\"))","v":{"$error":"#N/A"}},{"$f":"RTD(\"cqg.rtd\", ,\"ContractData\",B82, \"Bid\",, \"T\")","v":""},{"$f":"RTD(\"cqg.rtd\", ,\"ContractData\",B82, \"Ask\",, \"T\")","v":""},{"$f":"RTD(\"cqg.rtd\", ,\"ContractData\",B82, \"T_CVol\",, \"T\")","v":0},{"$f":"RTD(\"cqg.rtd\", ,\"ContractData\",B82, \"TradeorTodaySettlement\",, \"T\")","v":60.11}]
[83,"CLE?83","CLE",{"$f":"RTD(\"cqg.rtd\", ,\"ContractData\",B83, \"ContractMonth\",, \"T\")","v":"APR"},{"$f":"RTD(\"cqg.rtd\", ,\"ContractData\",B83, \"LongDescription\",, \"T\")","v":"Crude Light (Globex), Apr 33"},{"$f":"_xlfn.REGEXEXTRACT(RTD(\"cqg.rtd\", ,\"ContractData\",B83, \"LongDescription\",, \"T\"), \"[A-Z][a-z]{2}\\s\\d{2}\")","v":"Apr 33"},{"$f":"RTD(\"cqg.rtd\", ,\"ContractData\",B83, \"LastTrade\",, \"T\")","v":""},{"$f":"IF(RTD(\"cqg.rtd\", ,\"ContractData\",B83, \"NetLastTrade\",, \"T\")=\"\",NA(),RTD(\"cqg.rtd\", ,\"ContractData\",B83, \"NetLastTrade\",, \"T\"))","v":{"$error":"#N/A"}},{"$f":"RTD(\"cqg.rtd\", ,\"ContractData\",B83, \"Bid\",, \"T\")","v":""},{"$f":"RTD(\"cqg.rtd\", ,\"ContractData\",B83, \"Ask\",, \"T\")","v":""},{"$f":"RTD(\"cqg.rtd\", ,\"ContractData\",B83, \"T_CVol\",, \"T\")","v":0},{"$f":"RTD(\"cqg.rtd\", ,\"ContractData\",B83, \"TradeorTodaySettlement\",, \"T\")","v":59.93}]
[84,"CLE?84","CLE",{"$f":"RTD(\"cqg.rtd\", ,\"ContractData\",B84, \"ContractMonth\",, \"T\")","v":"MAY"},{"$f":"RTD(\"cqg.rtd\", ,\"ContractData\",B84, \"LongDescription\",, \"T\")","v":"Crude Light (Globex), May 33"},{"$f":"_xlfn.REGEXEXTRACT(RTD(\"cqg.rtd\", ,\"ContractData\",B84, \"LongDescription\",, \"T\"), \"[A-Z][a-z]{2}\\s\\d{2}\")","v":"May 33"},{"$f":"RTD(\"cqg.rtd\", ,\"ContractData\",B84, \"LastTrade\",, \"T\")","v":""},{"$f":"IF(RTD(\"cqg.rtd\", ,\"ContractData\",B84, \"NetLastTrade\",, \"T\")=\"\",NA(),RTD(\"cqg.rtd\", ,\"ContractData\",B84, \"NetLastTrade\",, \"T\"))","v":{"$error":"#N/A"}},{"$f":"RTD(\"cqg.rtd\", ,\"ContractData\",B84, \"Bid\",, \"T\")","v":56.2},{"$f":"RTD(\"cqg.rtd\", ,\"ContractData\",B84, \"Ask\",, \"T\")","v":""},{"$f":"RTD(\"cqg.rtd\", ,\"ContractData\",B84, \"T_CVol\",, \"T\")","v":0},{"$f":"RTD(\"cqg.rtd\", ,\"ContractData\",B84, \"TradeorTodaySettlement\",, \"T\")","v":59.79}]
[85,"CLE?85","CLE",{"$f":"RTD(\"cqg.rtd\", ,\"ContractData\",B85, \"ContractMonth\",, \"T\")","v":"JUN"},{"$f":"RTD(\"cqg.rtd\", ,\"ContractData\",B85, \"LongDescription\",, \"T\")","v":"Crude Light (Globex), Jun 33"},{"$f":"_xlfn.REGEXEXTRACT(RTD(\"cqg.rtd\", ,\"ContractData\",B85, \"LongDescription\",, \"T\"), \"[A-Z][a-z]{2}\\s\\d{2}\")","v":"Jun 33"},{"$f":"RTD(\"cqg.rtd\", ,\"ContractData\",B85, \"LastTrade\",, \"T\")","v":""},{"$f":"IF(RTD(\"cqg.rtd\", ,\"ContractData\",B85, \"NetLastTrade\",, \"T\")=\"\",NA(),RTD(\"cqg.rtd\", ,\"ContractData\",B85, \"NetLastTrade\",, \"T\"))","v":{"$error":"#N/A"}},{"$f":"RTD(\"cqg.rtd\", ,\"ContractData\",B85, \"Bid\",, \"T\")","v":""},{"$f":"RTD(\"cqg.rtd\", ,\"ContractData\",B85, \"Ask\",, \"T\")","v":""},{"$f":"RTD(\"cqg.rtd\", ,\"ContractData\",B85, \"T_CVol\",, \"T\")","v":0},{"$f":"RTD(\"cqg.rtd\", ,\"ContractData\",B85, \"TradeorTodaySettlement\",, \"T\")","v":59.63}]
[86,"CLE?86",{"$f":"LEFT(B86,FIND(\"?\",B86)-1)","v":"CLE"},{"$f":"RTD(\"cqg.rtd\", ,\"ContractData\",B86, \"ContractMonth\",, \"T\")","v":"JUL"},{"$f":"RTD(\"cqg.rtd\", ,\"ContractData\",B86, \"LongDescription\",, \"T\")","v":"Crude Light (Globex), Jul 33"},{"$f":"_xlfn.REGEXEXTRACT(RTD(\"cqg.rtd\", ,\"ContractData\",B86, \"LongDescription\",, \"T\"), \"[A-Z][a-z]{2}\\s\\d{2}\")","v":"Jul 33"},{"$f":"RTD(\"cqg.rtd\", ,\"ContractData\",B86, \"LastTrade\",, \"T\")","v":""},{"$f":"IF(RTD(\"cqg.rtd\", ,\"ContractData\",B86, \"NetLastTrade\",, \"T\")=\"\",NA(),RTD(\"cqg.rtd\", ,\"ContractData\",B86, \"NetLastTrade\",, \"T\"))","v":{"$error":"#N/A"}},{"$f":"RTD(\"cqg.rtd\", ,\"ContractData\",B86, \"Bid\",, \"T\")","v":56},{"$f":"RTD(\"cqg.rtd\", ,\"ContractData\",B86, \"Ask\",, \"T\")","v":""},{"$f":"RTD(\"cqg.rtd\", ,\"ContractData\",B86, \"T_CVol\",, \"T\")","v":0},{"$f":"RTD(\"cqg.rtd\", ,\"ContractData\",B86, \"TradeorTodaySettlement\",, \"T\")","v":59.46}]
[87,"CLE?87","CLE",{"$f":"RTD(\"cqg.rtd\", ,\"ContractData\",B87, \"ContractMonth\",, \"T\")","v":"AUG"},{"$f":"RTD(\"cqg.rtd\", ,\"ContractData\",B87, \"LongDescription\",, \"T\")","v":"Crude Light (Globex), Aug 33"},{"$f":"_xlfn.REGEXEXTRACT(RTD(\"cqg.rtd\", ,\"ContractData\",B87, \"LongDescription\",, \"T\"), \"[A-Z][a-z]{2}\\s\\d{2}\")","v":"Aug 33"},{"$f":"RTD(\"cqg.rtd\", ,\"ContractData\",B87, \"LastTrade\",, \"T\")","v":""},{"$f":"IF(RTD(\"cqg.rtd\", ,\"ContractData\",B87, \"NetLastTrade\",, \"T\")=\"\",NA(),RTD(\"cqg.rtd\", ,\"ContractData\",B87, \"NetLastTrade\",, \"T\"))","v":{"$error":"#N/A"}},{"$f":"RTD(\"cqg.rtd\", ,\"ContractData\",B87, \"Bid\",, \"T\")","v":""},{"$f":"RTD(\"cqg.rtd\", ,\"ContractData\",B87, \"Ask\",, \"T\")","v":""},{"$f":"RTD(\"cqg.rtd\", ,\"ContractData\",B87, \"T_CVol\",, \"T\")","v":0},{"$f":"RTD(\"cqg.rtd\", ,\"ContractData\",B87, \"TradeorTodaySettlement\",, \"T\")","v":59.22}]
[88,"CLE?88","CLE",{"$f":"RTD(\"cqg.rtd\", ,\"ContractData\",B88, \"ContractMonth\",, \"T\")","v":"SEP"},{"$f":"RTD(\"cqg.rtd\", ,\"ContractData\",B88, \"LongDescription\",, \"T\")","v":"Crude Light (Globex), Sep 33"},{"$f":"_xlfn.REGEXEXTRACT(RTD(\"cqg.rtd\", ,\"ContractData\",B88, \"LongDescription\",, \"T\"), \"[A-Z][a-z]{2}\\s\\d{2}\")","v":"Sep 33"},{"$f":"RTD(\"cqg.rtd\", ,\"ContractData\",B88, \"LastTrade\",, \"T\")","v":""},{"$f":"IF(RTD(\"cqg.rtd\", ,\"ContractData\",B88, \"NetLastTrade\",, \"T\")=\"\",NA(),RTD(\"cqg.rtd\", ,\"ContractData\",B88, \"NetLastTrade\",, \"T\"))","v":{"$error":"#N/A"}},{"$f":"RTD(\"cqg.rtd\", ,\"ContractData\",B88, \"Bid\",, \"T\")","v":""},{"$f":"RTD(\"cqg.rtd\", ,\"ContractData\",B88, \"Ask\",, \"T\")","v":""},{"$f":"RTD(\"cqg.rtd\", ,\"ContractData\",B88, \"T_CVol\",, \"T\")","v":0},{"$f":"RTD(\"cqg.rtd\", ,\"ContractData\",B88, \"TradeorTodaySettlement\",, \"T\")","v":59.04}]
[89,"CLE?89","CLE",{"$f":"RTD(\"cqg.rtd\", ,\"ContractData\",B89, \"ContractMonth\",, \"T\")","v":"OCT"},{"$f":"RTD(\"cqg.rtd\", ,\"ContractData\",B89, \"LongDescription\",, \"T\")","v":"Crude Light (Globex), Oct 33"},{"$f":"_xlfn.REGEXEXTRACT(RTD(\"cqg.rtd\", ,\"ContractData\",B89, \"LongDescription\",, \"T\"), \"[A-Z][a-z]{2}\\s\\d{2}\")","v":"Oct 33"},{"$f":"RTD(\"cqg.rtd\", ,\"ContractData\",B89, \"LastTrade\",, \"T\")","v":""},{"$f":"IF(RTD(\"cqg.rtd\", ,\"ContractData\",B89, \"NetLastTrade\",, \"T\")=\"\",NA(),RTD(\"cqg.rtd\", ,\"ContractData\",B89, \"NetLastTrade\",, \"T\"))","v":{"$error":"#N/A"}},{"$f":"RTD(\"cqg.rtd\", ,\"ContractData\",B89, \"Bid\",, \"T\")","v":""},{"$f":"RTD(\"cqg.rtd\", ,\"ContractData\",B89, \"Ask\",, \"T\")","v":""},{"$f":"RTD(\"cqg.rtd\", ,\"ContractData\",B89, \"T_CVol\",, \"T\")","v":0},{"$f":"RTD(\"cqg.rtd\", ,\"ContractData\",B89, \"TradeorTodaySettlement\",, \"T\")","v":58.910000000000004}]
[90,"CLE?90","CLE",{"$f":"RTD(\"cqg.rtd\", ,\"ContractData\",B90, \"ContractMonth\",, \"T\")","v":"NOV"},{"$f":"RTD(\"cqg.rtd\", ,\"ContractData\",B90, \"LongDescription\",, \"T\")","v":"Crude Light (Globex), Nov 33"},{"$f":"_xlfn.REGEXEXTRACT(RTD(\"cqg.rtd\", ,\"ContractData\",B90, \"LongDescription\",, \"T\"), \"[A-Z][a-z]{2}\\s\\d{2}\")","v":"Nov 33"},{"$f":"RTD(\"cqg.rtd\", ,\"ContractData\",B90, \"LastTrade\",, \"T\")","v":""},{"$f":"IF(RTD(\"cqg.rtd\", ,\"ContractData\",B90, \"NetLastTrade\",, \"T\")=\"\",NA(),RTD(\"cqg.rtd\", ,\"ContractData\",B90, \"NetLastTrade\",, \"T\"))","v":{"$error":"#N/A"}},{"$f":"RTD(\"cqg.rtd\", ,\"ContractData\",B90, \"Bid\",, \"T\")","v":""},{"$f":"RTD(\"cqg.rtd\", ,\"ContractData\",B90, \"Ask\",, \"T\")","v":""},{"$f":"RTD(\"cqg.rtd\", ,\"ContractData\",B90, \"T_CVol\",, \"T\")","v":0},{"$f":"RTD(\"cqg.rtd\", ,\"ContractData\",B90, \"TradeorTodaySettlement\",, \"T\")","v":58.74}]
[91,"CLE?91","CLE",{"$f":"RTD(\"cqg.rtd\", ,\"ContractData\",B91, \"ContractMonth\",, \"T\")","v":"DEC"},{"$f":"RTD(\"cqg.rtd\", ,\"ContractData\",B91, \"LongDescription\",, \"T\")","v":"Crude Light (Globex), Dec 33"},{"$f":"_xlfn.REGEXEXTRACT(RTD(\"cqg.rtd\", ,\"ContractData\",B91, \"LongDescription\",, \"T\"), \"[A-Z][a-z]{2}\\s\\d{2}\")","v":"Dec 33"},{"$f":"RTD(\"cqg.rtd\", ,\"ContractData\",B91, \"LastTrade\",, \"T\")","v":59.050000000000004},{"$f":"IF(RTD(\"cqg.rtd\", ,\"ContractData\",B91, \"NetLastTrade\",, \"T\")=\"\",NA(),RTD(\"cqg.rtd\", ,\"ContractData\",B91, \"NetLastTrade\",, \"T\"))","v":1.0500000000000043},{"$f":"RTD(\"cqg.rtd\", ,\"ContractData\",B91, \"Bid\",, \"T\")","v":57},{"$f":"RTD(\"cqg.rtd\", ,\"ContractData\",B91, \"Ask\",, \"T\")","v":""},{"$f":"RTD(\"cqg.rtd\", ,\"ContractData\",B91, \"T_CVol\",, \"T\")","v":6},{"$f":"RTD(\"cqg.rtd\", ,\"ContractData\",B91, \"TradeorTodaySettlement\",, \"T\")","v":59.050000000000004}]
[92,"CLE?92","CLE",{"$f":"RTD(\"cqg.rtd\", ,\"ContractData\",B92, \"ContractMonth\",, \"T\")","v":"JAN"},{"$f":"RTD(\"cqg.rtd\", ,\"ContractData\",B92, \"LongDescription\",, \"T\")","v":"Crude Light (Globex), Jan 34"},{"$f":"_xlfn.REGEXEXTRACT(RTD(\"cqg.rtd\", ,\"ContractData\",B92, \"LongDescription\",, \"T\"), \"[A-Z][a-z]{2}\\s\\d{2}\")","v":"Jan 34"},{"$f":"RTD(\"cqg.rtd\", ,\"ContractData\",B92, \"LastTrade\",, \"T\")","v":""},{"$f":"IF(RTD(\"cqg.rtd\", ,\"ContractData\",B92, \"NetLastTrade\",, \"T\")=\"\",NA(),RTD(\"cqg.rtd\", ,\"ContractData\",B92, \"NetLastTrade\",, \"T\"))","v":{"$error":"#N/A"}},{"$f":"RTD(\"cqg.rtd\", ,\"ContractData\",B92, \"Bid\",, \"T\")","v":""},{"$f":"RTD(\"cqg.rtd\", ,\"ContractData\",B92, \"Ask\",, \"T\")","v":""},{"$f":"RTD(\"cqg.rtd\", ,\"ContractData\",B92, \"T_CVol\",, \"T\")","v":0},{"$f":"RTD(\"cqg.rtd\", ,\"ContractData\",B92, \"TradeorTodaySettlement\",, \"T\")","v":58.58}]
[93,"CLE?93","CLE",{"$f":"RTD(\"cqg.rtd\", ,\"ContractData\",B93, \"ContractMonth\",, \"T\")","v":"FEB"},{"$f":"RTD(\"cqg.rtd\", ,\"ContractData\",B93, \"LongDescription\",, \"T\")","v":"Crude Light (Globex), Feb 34"},{"$f":"_xlfn.REGEXEXTRACT(RTD(\"cqg.rtd\", ,\"ContractData\",B93, \"LongDescription\",, \"T\"), \"[A-Z][a-z]{2}\\s\\d{2}\")","v":"Feb 34"},{"$f":"RTD(\"cqg.rtd\", ,\"ContractData\",B93, \"LastTrade\",, \"T\")","v":""},{"$f":"IF(RTD(\"cqg.rtd\", ,\"ContractData\",B93, \"NetLastTrade\",, \"T\")=\"\",NA(),RTD(\"cqg.rtd\", ,\"ContractData\",B93, \"NetLastTrade\",, \"T\"))","v":{"$error":"#N/A"}},{"$f":"RTD(\"cqg.rtd\", ,\"ContractData\",B93, \"Bid\",, \"T\")","v":""},{"$f":"RTD(\"cqg.rtd\", ,\"ContractData\",B93, \"Ask\",, \"T\")","v":""},{"$f":"RTD(\"cqg.rtd\", ,\"ContractData\",B93, \"T_CVol\",, \"T\")","v":0},{"$f":"RTD(\"cqg.rtd\", ,\"ContractData\",B93, \"TradeorTodaySettlement\",, \"T\")","v":58.410000000000004}]
[94,"CLE?94","CLE",{"$f":"RTD(\"cqg.rtd\", ,\"ContractData\",B94, \"ContractMonth\",, \"T\")","v":"MAR"},{"$f":"RTD(\"cqg.rtd\", ,\"ContractData\",B94, \"LongDescription\",, \"T\")","v":"Crude Light (Globex), Mar 34"},{"$f":"_xlfn.REGEXEXTRACT(RTD(\"cqg.rtd\", ,\"ContractData\",B94, \"LongDescription\",, \"T\"), \"[A-Z][a-z]{2}\\s\\d{2}\")","v":"Mar 34"},{"$f":"RTD(\"cqg.rtd\", ,\"ContractData\",B94, \"LastTrade\",, \"T\")","v":""},{"$f":"IF(RTD(\"cqg.rtd\", ,\"ContractData\",B94, \"NetLastTrade\",, \"T\")=\"\",NA(),RTD(\"cqg.rtd\", ,\"ContractData\",B94, \"NetLastTrade\",, \"T\"))","v":{"$error":"#N/A"}},{"$f":"RTD(\"cqg.rtd\", ,\"ContractData\",B94, \"Bid\",, \"T\")","v":""},{"$f":"RTD(\"cqg.rtd\", ,\"ContractData\",B94, \"Ask\",, \"T\")","v":""},{"$f":"RTD(\"cqg.rtd\", ,\"ContractData\",B94, \"T_CVol\",, \"T\")","v":0},{"$f":"RTD(\"cqg.rtd\", ,\"ContractData\",B94, \"TradeorTodaySettlement\",, \"T\")","v":58.22}]
[95,"CLE?95","CLE",{"$f":"RTD(\"cqg.rtd\", ,\"ContractData\",B95, \"ContractMonth\",, \"T\")","v":"APR"},{"$f":"RTD(\"cqg.rtd\", ,\"ContractData\",B95, \"LongDescription\",, \"T\")","v":"Crude Light (Globex), Apr 34"},{"$f":"_xlfn.REGEXEXTRACT(RTD(\"cqg.rtd\", ,\"ContractData\",B95, \"LongDescription\",, \"T\"), \"[A-Z][a-z]{2}\\s\\d{2}\")","v":"Apr 34"},{"$f":"RTD(\"cqg.rtd\", ,\"ContractData\",B95, \"LastTrade\",, \"T\")","v":""},{"$f":"IF(RTD(\"cqg.rtd\", ,\"ContractData\",B95, \"NetLastTrade\",, \"T\")=\"\",NA(),RTD(\"cqg.rtd\", ,\"ContractData\",B95, \"NetLastTrade\",, \"T\"))","v":{"$error":"#N/A"}},{"$f":"RTD(\"cqg.rtd\", ,\"ContractData\",B95, \"Bid\",, \"T\")","v":56},{"$f":"RTD(\"cqg.rtd\", ,\"ContractData\",B95, \"Ask\",, \"T\")","v":""},{"$f":"RTD(\"cqg.rtd\", ,\"ContractData\",B95, \"T_CVol\",, \"T\")","v":0},{"$f":"RTD(\"cqg.rtd\", ,\"ContractData\",B95, \"TradeorTodaySettlement\",, \"T\")","v":58.07}]
[{"$f":"A95+1","v":96},"CLE?96",{"$f":"LEFT(B96,FIND(\"?\",B96)-1)","v":"CLE"},{"$f":"RTD(\"cqg.rtd\", ,\"ContractData\",B96, \"ContractMonth\",, \"T\")","v":"MAY"},{"$f":"RTD(\"cqg.rtd\", ,\"ContractData\",B96, \"LongDescription\",, \"T\")","v":"Crude Light (Globex), May 34"},{"$f":"_xlfn.REGEXEXTRACT(RTD(\"cqg.rtd\", ,\"ContractData\",B96, \"LongDescription\",, \"T\"), \"[A-Z][a-z]{2}\\s\\d{2}\")","v":"May 34"},{"$f":"RTD(\"cqg.rtd\", ,\"ContractData\",B96, \"LastTrade\",, \"T\")","v":""},{"$f":"IF(RTD(\"cqg.rtd\", ,\"ContractData\",B96, \"NetLastTrade\",, \"T\")=\"\",NA(),RTD(\"cqg.rtd\", ,\"ContractData\",B96, \"NetLastTrade\",, \"T\"))","v":{"$error":"#N/A"}},{"$f":"RTD(\"cqg.rtd\", ,\"ContractData\",B96, \"Bid\",, \"T\")","v":""},{"$f":"RTD(\"cqg.rtd\", ,\"ContractData\",B96, \"Ask\",, \"T\")","v":""},{"$f":"RTD(\"cqg.rtd\", ,\"ContractData\",B96, \"T_CVol\",, \"T\")","v":0},{"$f":"RTD(\"cqg.rtd\", ,\"ContractData\",B96, \"TradeorTodaySettlement\",, \"T\")","v":57.94}]
[97,"CLE?97","CLE",{"$f":"RTD(\"cqg.rtd\", ,\"ContractData\",B97, \"ContractMonth\",, \"T\")","v":"JUN"},{"$f":"RTD(\"cqg.rtd\", ,\"ContractData\",B97, \"LongDescription\",, \"T\")","v":"Crude Light (Globex), Jun 34"},{"$f":"_xlfn.REGEXEXTRACT(RTD(\"cqg.rtd\", ,\"ContractData\",B97, \"LongDescription\",, \"T\"), \"[A-Z][a-z]{2}\\s\\d{2}\")","v":"Jun 34"},{"$f":"RTD(\"cqg.rtd\", ,\"ContractData\",B97, \"LastTrade\",, \"T\")","v":""},{"$f":"IF(RTD(\"cqg.rtd\", ,\"ContractData\",B97, \"NetLastTrade\",, \"T\")=\"\",NA(),RTD(\"cqg.rtd\", ,\"ContractData\",B97, \"NetLastTrade\",, \"T\"))","v":{"$error":"#N/A"}},{"$f":"RTD(\"cqg.rtd\", ,\"ContractData\",B97, \"Bid\",, \"T\")","v":56.2},{"$f":"RTD(\"cqg.rtd\", ,\"ContractData\",B97, \"Ask\",, \"T\")","v":""},{"$f":"RTD(\"cqg.rtd\", ,\"ContractData\",B97, \"T_CVol\",, \"T\")","v":0},{"$f":"RTD(\"cqg.rtd\", ,\"ContractData\",B97, \"TradeorTodaySettlement\",, \"T\")","v":57.81}]
[98,"CLE?98","CLE",{"$f":"RTD(\"cqg.rtd\", ,\"ContractData\",B98, \"ContractMonth\",, \"T\")","v":"JUL"},{"$f":"RTD(\"cqg.rtd\", ,\"ContractData\",B98, \"LongDescription\",, \"T\")","v":"Crude Light (Globex), Jul 34"},{"$f":"_xlfn.REGEXEXTRACT(RTD(\"cqg.rtd\", ,\"ContractData\",B98, \"LongDescription\",, \"T\"), \"[A-Z][a-z]{2}\\s\\d{2}\")","v":"Jul 34"},{"$f":"RTD(\"cqg.rtd\", ,\"ContractData\",B98, \"LastTrade\",, \"T\")","v":""},{"$f":"IF(RTD(\"cqg.rtd\", ,\"ContractData\",B98, \"NetLastTrade\",, \"T\")=\"\",NA(),RTD(\"cqg.rtd\", ,\"ContractData\",B98, \"NetLastTrade\",, \"T\"))","v":{"$error":"#N/A"}},{"$f":"RTD(\"cqg.rtd\", ,\"ContractData\",B98, \"Bid\",, \"T\")","v":56},{"$f":"RTD(\"cqg.rtd\", ,\"ContractData\",B98, \"Ask\",, \"T\")","v":""},{"$f":"RTD(\"cqg.rtd\", ,\"ContractData\",B98, \"T_CVol\",, \"T\")","v":0},{"$f":"RTD(\"cqg.rtd\", ,\"ContractData\",B98, \"TradeorTodaySettlement\",, \"T\")","v":57.7}]
[99,{"$f":"$N$1&\"?\"&A99","v":"CLE?99"},"CLE",{"$f":"RTD(\"cqg.rtd\", ,\"ContractData\",B99, \"ContractMonth\",, \"T\")","v":"AUG"},{"$f":"RTD(\"cqg.rtd\", ,\"ContractData\",B99, \"LongDescription\",, \"T\")","v":"Crude Light (Globex), Aug 34"},{"$f":"_xlfn.REGEXEXTRACT(RTD(\"cqg.rtd\", ,\"ContractData\",B99, \"LongDescription\",, \"T\"), \"[A-Z][a-z]{2}\\s\\d{2}\")","v":"Aug 34"},{"$f":"RTD(\"cqg.rtd\", ,\"ContractData\",B99, \"LastTrade\",, \"T\")","v":""},{"$f":"IF(RTD(\"cqg.rtd\", ,\"ContractData\",B99, \"NetLastTrade\",, \"T\")=\"\",NA(),RTD(\"cqg.rtd\", ,\"ContractData\",B99, \"NetLastTrade\",, \"T\"))","v":{"$error":"#N/A"}},{"$f":"RTD(\"cqg.rtd\", ,\"ContractData\",B99, \"Bid\",, \"T\")","v":56},{"$f":"RTD(\"cqg.rtd\", ,\"ContractData\",B99, \"Ask\",, \"T\")","v":""},{"$f":"RTD(\"cqg.rtd\", ,\"ContractData\",B99, \"T_CVol\",, \"T\")","v":0},{"$f":"RTD(\"cqg.rtd\", ,\"ContractData\",B99, \"TradeorTodaySettlement\",, \"T\")","v":57.57}]
[100,"CLE?100","CLE",{"$f":"RTD(\"cqg.rtd\", ,\"ContractData\",B100, \"ContractMonth\",, \"T\")","v":"SEP"},{"$f":"RTD(\"cqg.rtd\", ,\"ContractData\",B100, \"LongDescription\",, \"T\")","v":"Crude Light (Globex), Sep 34"},{"$f":"_xlfn.REGEXEXTRACT(RTD(\"cqg.rtd\", ,\"ContractData\",B100, \"LongDescription\",, \"T\"), \"[A-Z][a-z]{2}\\s\\d{2}\")","v":"Sep 34"},{"$f":"RTD(\"cqg.rtd\", ,\"ContractData\",B100, \"LastTrade\",, \"T\")","v":""},{"$f":"IF(RTD(\"cqg.rtd\", ,\"ContractData\",B100, \"NetLastTrade\",, \"T\")=\"\",NA(),RTD(\"cqg.rtd\", ,\"ContractData\",B100, \"NetLastTrade\",, \"T\"))","v":{"$error":"#N/A"}},{"$f":"RTD(\"cqg.rtd\", ,\"ContractData\",B100, \"Bid\",, \"T\")","v":""},{"$f":"RTD(\"cqg.rtd\", ,\"ContractData\",B100, \"Ask\",, \"T\")","v":""},{"$f":"RTD(\"cqg.rtd\", ,\"ContractData\",B100, \"T_CVol\",, \"T\")","v":0},{"$f":"RTD(\"cqg.rtd\", ,\"ContractData\",B100, \"TradeorTodaySettlement\",, \"T\")","v":57.42}]
[101,"CLE?101","CLE",{"$f":"RTD(\"cqg.rtd\", ,\"ContractData\",B101, \"ContractMonth\",, \"T\")","v":"OCT"},{"$f":"RTD(\"cqg.rtd\", ,\"ContractData\",B101, \"LongDescription\",, \"T\")","v":"Crude Light (Globex), Oct 34"},{"$f":"_xlfn.REGEXEXTRACT(RTD(\"cqg.rtd\", ,\"ContractData\",B101, \"LongDescription\",, \"T\"), \"[A-Z][a-z]{2}\\s\\d{2}\")","v":"Oct 34"},{"$f":"RTD(\"cqg.rtd\", ,\"ContractData\",B101, \"LastTrade\",, \"T\")","v":""},{"$f":"IF(RTD(\"cqg.rtd\", ,\"ContractData\",B101, \"NetLastTrade\",, \"T\")=\"\",NA(),RTD(\"cqg.rtd\", ,\"ContractData\",B101, \"NetLastTrade\",, \"T\"))","v":{"$error":"#N/A"}},{"$f":"RTD(\"cqg.rtd\", ,\"ContractData\",B101, \"Bid\",, \"T\")","v":55.9},{"$f":"RTD(\"cqg.rtd\", ,\"ContractData\",B101, \"Ask\",, \"T\")","v":""},{"$f":"RTD(\"cqg.rtd\", ,\"ContractData\",B101, \"T_CVol\",, \"T\")","v":0},{"$f":"RTD(\"cqg.rtd\", ,\"ContractData\",B101, \"TradeorTodaySettlement\",, \"T\")","v":57.27}]
[102,"CLE?102","CLE",{"$f":"RTD(\"cqg.rtd\", ,\"ContractData\",B102, \"ContractMonth\",, \"T\")","v":"NOV"},{"$f":"RTD(\"cqg.rtd\", ,\"ContractData\",B102, \"LongDescription\",, \"T\")","v":"Crude Light (Globex), Nov 34"},{"$f":"_xlfn.REGEXEXTRACT(RTD(\"cqg.rtd\", ,\"ContractData\",B102, \"LongDescription\",, \"T\"), \"[A-Z][a-z]{2}\\s\\d{2}\")","v":"Nov 34"},{"$f":"RTD(\"cqg.rtd\", ,\"ContractData\",B102, \"LastTrade\",, \"T\")","v":""},{"$f":"IF(RTD(\"cqg.rtd\", ,\"ContractData\",B102, \"NetLastTrade\",, \"T\")=\"\",NA(),RTD(\"cqg.rtd\", ,\"ContractData\",B102, \"NetLastTrade\",, \"T\"))","v":{"$error":"#N/A"}},{"$f":"RTD(\"cqg.rtd\", ,\"ContractData\",B102, \"Bid\",, \"T\")","v":""},{"$f":"RTD(\"cqg.rtd\", ,\"ContractData\",B102, \"Ask\",, \"T\")","v":""},{"$f":"RTD(\"cqg.rtd\", ,\"ContractData\",B102, \"T_CVol\",, \"T\")","v":0},{"$f":"RTD(\"cqg.rtd\", ,\"ContractData\",B102, \"TradeorTodaySettlement\",, \"T\")","v":57.11}]
[103,"CLE?103","CLE",{"$f":"RTD(\"cqg.rtd\", ,\"ContractData\",B103, \"ContractMonth\",, \"T\")","v":"DEC"},{"$f":"RTD(\"cqg.rtd\", ,\"ContractData\",B103, \"LongDescription\",, \"T\")","v":"Crude Light (Globex), Dec 34"},{"$f":"_xlfn.REGEXEXTRACT(RTD(\"cqg.rtd\", ,\"ContractData\",B103, \"LongDescription\",, \"T\"), \"[A-Z][a-z]{2}\\s\\d{2}\")","v":"Dec 34"},{"$f":"RTD(\"cqg.rtd\", ,\"ContractData\",B103, \"LastTrade\",, \"T\")","v":56.2},{"$f":"IF(RTD(\"cqg.rtd\", ,\"ContractData\",B103, \"NetLastTrade\",, \"T\")=\"\",NA(),RTD(\"cqg.rtd\", ,\"ContractData\",B103, \"NetLastTrade\",, \"T\"))","v":-5.9999999999995168E-2},{"$f":"RTD(\"cqg.rtd\", ,\"ContractData\",B103, \"Bid\",, \"T\")","v":56.2},{"$f":"RTD(\"cqg.rtd\", ,\"ContractData\",B103, \"Ask\",, \"T\")","v":""},{"$f":"RTD(\"cqg.rtd\", ,\"ContractData\",B103, \"T_CVol\",, \"T\")","v":0},{"$f":"RTD(\"cqg.rtd\", ,\"ContractData\",B103, \"TradeorTodaySettlement\",, \"T\")","v":56.96}]
[104,"CLE?104","CLE",{"$f":"RTD(\"cqg.rtd\", ,\"ContractData\",B104, \"ContractMonth\",, \"T\")","v":"JAN"},{"$f":"RTD(\"cqg.rtd\", ,\"ContractData\",B104, \"LongDescription\",, \"T\")","v":"Crude Light (Globex), Jan 35"},{"$f":"_xlfn.REGEXEXTRACT(RTD(\"cqg.rtd\", ,\"ContractData\",B104, \"LongDescription\",, \"T\"), \"[A-Z][a-z]{2}\\s\\d{2}\")","v":"Jan 35"},{"$f":"RTD(\"cqg.rtd\", ,\"ContractData\",B104, \"LastTrade\",, \"T\")","v":""},{"$f":"IF(RTD(\"cqg.rtd\", ,\"ContractData\",B104, \"NetLastTrade\",, \"T\")=\"\",NA(),RTD(\"cqg.rtd\", ,\"ContractData\",B104, \"NetLastTrade\",, \"T\"))","v":{"$error":"#N/A"}},{"$f":"RTD(\"cqg.rtd\", ,\"ContractData\",B104, \"Bid\",, \"T\")","v":""},{"$f":"RTD(\"cqg.rtd\", ,\"ContractData\",B104, \"Ask\",, \"T\")","v":""},{"$f":"RTD(\"cqg.rtd\", ,\"ContractData\",B104, \"T_CVol\",, \"T\")","v":0},{"$f":"RTD(\"cqg.rtd\", ,\"ContractData\",B104, \"TradeorTodaySettlement\",, \"T\")","v":56.800000000000004}]
[105,"CLE?105","CLE",{"$f":"RTD(\"cqg.rtd\", ,\"ContractData\",B105, \"ContractMonth\",, \"T\")","v":"FEB"},{"$f":"RTD(\"cqg.rtd\", ,\"ContractData\",B105, \"LongDescription\",, \"T\")","v":"Crude Light (Globex), Feb 35"},{"$f":"_xlfn.REGEXEXTRACT(RTD(\"cqg.rtd\", ,\"ContractData\",B105, \"LongDescription\",, \"T\"), \"[A-Z][a-z]{2}\\s\\d{2}\")","v":"Feb 35"},{"$f":"RTD(\"cqg.rtd\", ,\"ContractData\",B105, \"LastTrade\",, \"T\")","v":""},{"$f":"IF(RTD(\"cqg.rtd\", ,\"ContractData\",B105, \"NetLastTrade\",, \"T\")=\"\",NA(),RTD(\"cqg.rtd\", ,\"ContractData\",B105, \"NetLastTrade\",, \"T\"))","v":{"$error":"#N/A"}},{"$f":"RTD(\"cqg.rtd\", ,\"ContractData\",B105, \"Bid\",, \"T\")","v":""},{"$f":"RTD(\"cqg.rtd\", ,\"ContractData\",B105, \"Ask\",, \"T\")","v":""},{"$f":"RTD(\"cqg.rtd\", ,\"ContractData\",B105, \"T_CVol\",, \"T\")","v":0},{"$f":"RTD(\"cqg.rtd\", ,\"ContractData\",B105, \"TradeorTodaySettlement\",, \"T\")","v":56.64}]
[106,"CLE?106","CLE",{"$f":"RTD(\"cqg.rtd\", ,\"ContractData\",B106, \"ContractMonth\",, \"T\")","v":"MAR"},{"$f":"RTD(\"cqg.rtd\", ,\"ContractData\",B106, \"LongDescription\",, \"T\")","v":"Crude Light (Globex), Mar 35"},{"$f":"_xlfn.REGEXEXTRACT(RTD(\"cqg.rtd\", ,\"ContractData\",B106, \"LongDescription\",, \"T\"), \"[A-Z][a-z]{2}\\s\\d{2}\")","v":"Mar 35"},{"$f":"RTD(\"cqg.rtd\", ,\"ContractData\",B106, \"LastTrade\",, \"T\")","v":""},{"$f":"IF(RTD(\"cqg.rtd\", ,\"ContractData\",B106, \"NetLastTrade\",, \"T\")=\"\",NA(),RTD(\"cqg.rtd\", ,\"ContractData\",B106, \"NetLastTrade\",, \"T\"))","v":{"$error":"#N/A"}},{"$f":"RTD(\"cqg.rtd\", ,\"ContractData\",B106, \"Bid\",, \"T\")","v":""},{"$f":"RTD(\"cqg.rtd\", ,\"ContractData\",B106, \"Ask\",, \"T\")","v":""},{"$f":"RTD(\"cqg.rtd\", ,\"ContractData\",B106, \"T_CVol\",, \"T\")","v":0},{"$f":"RTD(\"cqg.rtd\", ,\"ContractData\",B106, \"TradeorTodaySettlement\",, \"T\")","v":56.49}]
[107,"CLE?107","CLE",{"$f":"RTD(\"cqg.rtd\", ,\"ContractData\",B107, \"ContractMonth\",, \"T\")","v":"APR"},{"$f":"RTD(\"cqg.rtd\", ,\"ContractData\",B107, \"LongDescription\",, \"T\")","v":"Crude Light (Globex), Apr 35"},{"$f":"_xlfn.REGEXEXTRACT(RTD(\"cqg.rtd\", ,\"ContractData\",B107, \"LongDescription\",, \"T\"), \"[A-Z][a-z]{2}\\s\\d{2}\")","v":"Apr 35"},{"$f":"RTD(\"cqg.rtd\", ,\"ContractData\",B107, \"LastTrade\",, \"T\")","v":""},{"$f":"IF(RTD(\"cqg.rtd\", ,\"ContractData\",B107, \"NetLastTrade\",, \"T\")=\"\",NA(),RTD(\"cqg.rtd\", ,\"ContractData\",B107, \"NetLastTrade\",, \"T\"))","v":{"$error":"#N/A"}},{"$f":"RTD(\"cqg.rtd\", ,\"ContractData\",B107, \"Bid\",, \"T\")","v":""},{"$f":"RTD(\"cqg.rtd\", ,\"ContractData\",B107, \"Ask\",, \"T\")","v":""},{"$f":"RTD(\"cqg.rtd\", ,\"ContractData\",B107, \"T_CVol\",, \"T\")","v":0},{"$f":"RTD(\"cqg.rtd\", ,\"ContractData\",B107, \"TradeorTodaySettlement\",, \"T\")","v":56.39}]
[108,"CLE?108","CLE",{"$f":"RTD(\"cqg.rtd\", ,\"ContractData\",B108, \"ContractMonth\",, \"T\")","v":"MAY"},{"$f":"RTD(\"cqg.rtd\", ,\"ContractData\",B108, \"LongDescription\",, \"T\")","v":"Crude Light (Globex), May 35"},{"$f":"_xlfn.REGEXEXTRACT(RTD(\"cqg.rtd\", ,\"ContractData\",B108, \"LongDescription\",, \"T\"), \"[A-Z][a-z]{2}\\s\\d{2}\")","v":"May 35"},{"$f":"RTD(\"cqg.rtd\", ,\"ContractData\",B108, \"LastTrade\",, \"T\")","v":""},{"$f":"IF(RTD(\"cqg.rtd\", ,\"ContractData\",B108, \"NetLastTrade\",, \"T\")=\"\",NA(),RTD(\"cqg.rtd\", ,\"ContractData\",B108, \"NetLastTrade\",, \"T\"))","v":{"$error":"#N/A"}},{"$f":"RTD(\"cqg.rtd\", ,\"ContractData\",B108, \"Bid\",, \"T\")","v":""},{"$f":"RTD(\"cqg.rtd\", ,\"ContractData\",B108, \"Ask\",, \"T\")","v":""},{"$f":"RTD(\"cqg.rtd\", ,\"ContractData\",B108, \"T_CVol\",, \"T\")","v":0},{"$f":"RTD(\"cqg.rtd\", ,\"ContractData\",B108, \"TradeorTodaySettlement\",, \"T\")","v":56.230000000000004}]
[109,"CLE?109","CLE",{"$f":"RTD(\"cqg.rtd\", ,\"ContractData\",B109, \"ContractMonth\",, \"T\")","v":"JUN"},{"$f":"RTD(\"cqg.rtd\", ,\"ContractData\",B109, \"LongDescription\",, \"T\")","v":"Crude Light (Globex), Jun 35"},{"$f":"_xlfn.REGEXEXTRACT(RTD(\"cqg.rtd\", ,\"ContractData\",B109, \"LongDescription\",, \"T\"), \"[A-Z][a-z]{2}\\s\\d{2}\")","v":"Jun 35"},{"$f":"RTD(\"cqg.rtd\", ,\"ContractData\",B109, \"LastTrade\",, \"T\")","v":""},{"$f":"IF(RTD(\"cqg.rtd\", ,\"ContractData\",B109, \"NetLastTrade\",, \"T\")=\"\",NA(),RTD(\"cqg.rtd\", ,\"ContractData\",B109, \"NetLastTrade\",, \"T\"))","v":{"$error":"#N/A"}},{"$f":"RTD(\"cqg.rtd\", ,\"ContractData\",B109, \"Bid\",, \"T\")","v":""},{"$f":"RTD(\"cqg.rtd\", ,\"ContractData\",B109, \"Ask\",, \"T\")","v":""},{"$f":"RTD(\"cqg.rtd\", ,\"ContractData\",B109, \"T_CVol\",, \"T\")","v":0},{"$f":"RTD(\"cqg.rtd\", ,\"ContractData\",B109, \"TradeorTodaySettlement\",, \"T\")","v":56.02}]
[110,"CLE?110","CLE",{"$f":"RTD(\"cqg.rtd\", ,\"ContractData\",B110, \"ContractMonth\",, \"T\")","v":"JUL"},{"$f":"RTD(\"cqg.rtd\", ,\"ContractData\",B110, \"LongDescription\",, \"T\")","v":"Crude Light (Globex), Jul 35"},{"$f":"_xlfn.REGEXEXTRACT(RTD(\"cqg.rtd\", ,\"ContractData\",B110, \"LongDescription\",, \"T\"), \"[A-Z][a-z]{2}\\s\\d{2}\")","v":"Jul 35"},{"$f":"RTD(\"cqg.rtd\", ,\"ContractData\",B110, \"LastTrade\",, \"T\")","v":""},{"$f":"IF(RTD(\"cqg.rtd\", ,\"ContractData\",B110, \"NetLastTrade\",, \"T\")=\"\",NA(),RTD(\"cqg.rtd\", ,\"ContractData\",B110, \"NetLastTrade\",, \"T\"))","v":{"$error":"#N/A"}},{"$f":"RTD(\"cqg.rtd\", ,\"ContractData\",B110, \"Bid\",, \"T\")","v":54.800000000000004},{"$f":"RTD(\"cqg.rtd\", ,\"ContractData\",B110, \"Ask\",, \"T\")","v":""},{"$f":"RTD(\"cqg.rtd\", ,\"ContractData\",B110, \"T_CVol\",, \"T\")","v":0},{"$f":"RTD(\"cqg.rtd\", ,\"ContractData\",B110, \"TradeorTodaySettlement\",, \"T\")","v":55.870000000000005}]
[111,"CLE?111","CLE",{"$f":"RTD(\"cqg.rtd\", ,\"ContractData\",B111, \"ContractMonth\",, \"T\")","v":"AUG"},{"$f":"RTD(\"cqg.rtd\", ,\"ContractData\",B111, \"LongDescription\",, \"T\")","v":"Crude Light (Globex), Aug 35"},{"$f":"_xlfn.REGEXEXTRACT(RTD(\"cqg.rtd\", ,\"ContractData\",B111, \"LongDescription\",, \"T\"), \"[A-Z][a-z]{2}\\s\\d{2}\")","v":"Aug 35"},{"$f":"RTD(\"cqg.rtd\", ,\"ContractData\",B111, \"LastTrade\",, \"T\")","v":""},{"$f":"IF(RTD(\"cqg.rtd\", ,\"ContractData\",B111, \"NetLastTrade\",, \"T\")=\"\",NA(),RTD(\"cqg.rtd\", ,\"ContractData\",B111, \"NetLastTrade\",, \"T\"))","v":{"$error":"#N/A"}},{"$f":"RTD(\"cqg.rtd\", ,\"ContractData\",B111, \"Bid\",, \"T\")","v":53.800000000000004},{"$f":"RTD(\"cqg.rtd\", ,\"ContractData\",B111, \"Ask\",, \"T\")","v":""},{"$f":"RTD(\"cqg.rtd\", ,\"ContractData\",B111, \"T_CVol\",, \"T\")","v":0},{"$f":"RTD(\"cqg.rtd\", ,\"ContractData\",B111, \"TradeorTodaySettlement\",, \"T\")","v":55.69}]
[112,"CLE?112","CLE",{"$f":"RTD(\"cqg.rtd\", ,\"ContractData\",B112, \"ContractMonth\",, \"T\")","v":"SEP"},{"$f":"RTD(\"cqg.rtd\", ,\"ContractData\",B112, \"LongDescription\",, \"T\")","v":"Crude Light (Globex), Sep 35"},{"$f":"_xlfn.REGEXEXTRACT(RTD(\"cqg.rtd\", ,\"ContractData\",B112, \"LongDescription\",, \"T\"), \"[A-Z][a-z]{2}\\s\\d{2}\")","v":"Sep 35"},{"$f":"RTD(\"cqg.rtd\", ,\"ContractData\",B112, \"LastTrade\",, \"T\")","v":""},{"$f":"IF(RTD(\"cqg.rtd\", ,\"ContractData\",B112, \"NetLastTrade\",, \"T\")=\"\",NA(),RTD(\"cqg.rtd\", ,\"ContractData\",B112, \"NetLastTrade\",, \"T\"))","v":{"$error":"#N/A"}},{"$f":"RTD(\"cqg.rtd\", ,\"ContractData\",B112, \"Bid\",, \"T\")","v":""},{"$f":"RTD(\"cqg.rtd\", ,\"ContractData\",B112, \"Ask\",, \"T\")","v":""},{"$f":"RTD(\"cqg.rtd\", ,\"ContractData\",B112, \"T_CVol\",, \"T\")","v":0},{"$f":"RTD(\"cqg.rtd\", ,\"ContractData\",B112, \"TradeorTodaySettlement\",, \"T\")","v":55.550000000000004}]
[113,"CLE?113","CLE",{"$f":"RTD(\"cqg.rtd\", ,\"ContractData\",B113, \"ContractMonth\",, \"T\")","v":"OCT"},{"$f":"RTD(\"cqg.rtd\", ,\"ContractData\",B113, \"LongDescription\",, \"T\")","v":"Crude Light (Globex), Oct 35"},{"$f":"_xlfn.REGEXEXTRACT(RTD(\"cqg.rtd\", ,\"ContractData\",B113, \"LongDescription\",, \"T\"), \"[A-Z][a-z]{2}\\s\\d{2}\")","v":"Oct 35"},{"$f":"RTD(\"cqg.rtd\", ,\"ContractData\",B113, \"LastTrade\",, \"T\")","v":""},{"$f":"IF(RTD(\"cqg.rtd\", ,\"ContractData\",B113, \"NetLastTrade\",, \"T\")=\"\",NA(),RTD(\"cqg.rtd\", ,\"ContractData\",B113, \"NetLastTrade\",, \"T\"))","v":{"$error":"#N/A"}},{"$f":"RTD(\"cqg.rtd\", ,\"ContractData\",B113, \"Bid\",, \"T\")","v":""},{"$f":"RTD(\"cqg.rtd\", ,\"ContractData\",B113, \"Ask\",, \"T\")","v":""},{"$f":"RTD(\"cqg.rtd\", ,\"ContractData\",B113, \"T_CVol\",, \"T\")","v":0},{"$f":"RTD(\"cqg.rtd\", ,\"ContractData\",B113, \"TradeorTodaySettlement\",, \"T\")","v":55.410000000000004}]
[114,"CLE?114","CLE",{"$f":"RTD(\"cqg.rtd\", ,\"ContractData\",B114, \"ContractMonth\",, \"T\")","v":"NOV"},{"$f":"RTD(\"cqg.rtd\", ,\"ContractData\",B114, \"LongDescription\",, \"T\")","v":"Crude Light (Globex), Nov 35"},{"$f":"_xlfn.REGEXEXTRACT(RTD(\"cqg.rtd\", ,\"ContractData\",B114, \"LongDescription\",, \"T\"), \"[A-Z][a-z]{2}\\s\\d{2}\")","v":"Nov 35"},{"$f":"RTD(\"cqg.rtd\", ,\"ContractData\",B114, \"LastTrade\",, \"T\")","v":""},{"$f":"IF(RTD(\"cqg.rtd\", ,\"ContractData\",B114, \"NetLastTrade\",, \"T\")=\"\",NA(),RTD(\"cqg.rtd\", ,\"ContractData\",B114, \"NetLastTrade\",, \"T\"))","v":{"$error":"#N/A"}},{"$f":"RTD(\"cqg.rtd\", ,\"ContractData\",B114, \"Bid\",, \"T\")","v":""},{"$f":"RTD(\"cqg.rtd\", ,\"ContractData\",B114, \"Ask\",, \"T\")","v":""},{"$f":"RTD(\"cqg.rtd\", ,\"ContractData\",B114, \"T_CVol\",, \"T\")","v":0},{"$f":"RTD(\"cqg.rtd\", ,\"ContractData\",B114, \"TradeorTodaySettlement\",, \"T\")","v":55.31}]
[115,"CLE?115","CLE",{"$f":"RTD(\"cqg.rtd\", ,\"ContractData\",B115, \"ContractMonth\",, \"T\")","v":"DEC"},{"$f":"RTD(\"cqg.rtd\", ,\"ContractData\",B115, \"LongDescription\",, \"T\")","v":"Crude Light (Globex), Dec 35"},{"$f":"_xlfn.REGEXEXTRACT(RTD(\"cqg.rtd\", ,\"ContractData\",B115, \"LongDescription\",, \"T\"), \"[A-Z][a-z]{2}\\s\\d{2}\")","v":"Dec 35"},{"$f":"RTD(\"cqg.rtd\", ,\"ContractData\",B115, \"LastTrade\",, \"T\")","v":55.050000000000004},{"$f":"IF(RTD(\"cqg.rtd\", ,\"ContractData\",B115, \"NetLastTrade\",, \"T\")=\"\",NA(),RTD(\"cqg.rtd\", ,\"ContractData\",B115, \"NetLastTrade\",, \"T\"))","v":0.63000000000000256},{"$f":"RTD(\"cqg.rtd\", ,\"ContractData\",B115, \"Bid\",, \"T\")","v":55.050000000000004},{"$f":"RTD(\"cqg.rtd\", ,\"ContractData\",B115, \"Ask\",, \"T\")","v":""},{"$f":"RTD(\"cqg.rtd\", ,\"ContractData\",B115, \"T_CVol\",, \"T\")","v":0},{"$f":"RTD(\"cqg.rtd\", ,\"ContractData\",B115, \"TradeorTodaySettlement\",, \"T\")","v":55.120000000000005}]
[116,"CLE?116","CLE",{"$f":"RTD(\"cqg.rtd\", ,\"ContractData\",B116, \"ContractMonth\",, \"T\")","v":"JAN"},{"$f":"RTD(\"cqg.rtd\", ,\"ContractData\",B116, \"LongDescription\",, \"T\")","v":"Crude Light (Globex), Jan 36"},{"$f":"_xlfn.REGEXEXTRACT(RTD(\"cqg.rtd\", ,\"ContractData\",B116, \"LongDescription\",, \"T\"), \"[A-Z][a-z]{2}\\s\\d{2}\")","v":"Jan 36"},{"$f":"RTD(\"cqg.rtd\", ,\"ContractData\",B116, \"LastTrade\",, \"T\")","v":""},{"$f":"IF(RTD(\"cqg.rtd\", ,\"ContractData\",B116, \"NetLastTrade\",, \"T\")=\"\",NA(),RTD(\"cqg.rtd\", ,\"ContractData\",B116, \"NetLastTrade\",, \"T\"))","v":{"$error":"#N/A"}},{"$f":"RTD(\"cqg.rtd\", ,\"ContractData\",B116, \"Bid\",, \"T\")","v":""},{"$f":"RTD(\"cqg.rtd\", ,\"ContractData\",B116, \"Ask\",, \"T\")","v":""},{"$f":"RTD(\"cqg.rtd\", ,\"ContractData\",B116, \"T_CVol\",, \"T\")","v":0},{"$f":"RTD(\"cqg.rtd\", ,\"ContractData\",B116, \"TradeorTodaySettlement\",, \"T\")","v":54.980000000000004}]
[117,"CLE?117","CLE",{"$f":"RTD(\"cqg.rtd\", ,\"ContractData\",B117, \"ContractMonth\",, \"T\")","v":"FEB"},{"$f":"RTD(\"cqg.rtd\", ,\"ContractData\",B117, \"LongDescription\",, \"T\")","v":"Crude Light (Globex), Feb 36"},{"$f":"_xlfn.REGEXEXTRACT(RTD(\"cqg.rtd\", ,\"ContractData\",B117, \"LongDescription\",, \"T\"), \"[A-Z][a-z]{2}\\s\\d{2}\")","v":"Feb 36"},{"$f":"RTD(\"cqg.rtd\", ,\"ContractData\",B117, \"LastTrade\",, \"T\")","v":""},{"$f":"IF(RTD(\"cqg.rtd\", ,\"ContractData\",B117, \"NetLastTrade\",, \"T\")=\"\",NA(),RTD(\"cqg.rtd\", ,\"ContractData\",B117, \"NetLastTrade\",, \"T\"))","v":{"$error":"#N/A"}},{"$f":"RTD(\"cqg.rtd\", ,\"ContractData\",B117, \"Bid\",, \"T\")","v":""},{"$f":"RTD(\"cqg.rtd\", ,\"ContractData\",B117, \"Ask\",, \"T\")","v":""},{"$f":"RTD(\"cqg.rtd\", ,\"ContractData\",B117, \"T_CVol\",, \"T\")","v":0},{"$f":"RTD(\"cqg.rtd\", ,\"ContractData\",B117, \"TradeorTodaySettlement\",, \"T\")","v":54.81}]
[118,"CLE?118","CLE",{"$f":"RTD(\"cqg.rtd\", ,\"ContractData\",B118, \"ContractMonth\",, \"T\")","v":"MAR"},{"$f":"RTD(\"cqg.rtd\", ,\"ContractData\",B118, \"LongDescription\",, \"T\")","v":"Crude Light (Globex), Mar 36"},{"$f":"_xlfn.REGEXEXTRACT(RTD(\"cqg.rtd\", ,\"ContractData\",B118, \"LongDescription\",, \"T\"), \"[A-Z][a-z]{2}\\s\\d{2}\")","v":"Mar 36"},{"$f":"RTD(\"cqg.rtd\", ,\"ContractData\",B118, \"LastTrade\",, \"T\")","v":""},{"$f":"IF(RTD(\"cqg.rtd\", ,\"ContractData\",B118, \"NetLastTrade\",, \"T\")=\"\",NA(),RTD(\"cqg.rtd\", ,\"ContractData\",B118, \"NetLastTrade\",, \"T\"))","v":{"$error":"#N/A"}},{"$f":"RTD(\"cqg.rtd\", ,\"ContractData\",B118, \"Bid\",, \"T\")","v":""},{"$f":"RTD(\"cqg.rtd\", ,\"ContractData\",B118, \"Ask\",, \"T\")","v":""},{"$f":"RTD(\"cqg.rtd\", ,\"ContractData\",B118, \"T_CVol\",, \"T\")","v":0},{"$f":"RTD(\"cqg.rtd\", ,\"ContractData\",B118, \"TradeorTodaySettlement\",, \"T\")","v":54.65}]
[119,"CLE?119","CLE",{"$f":"RTD(\"cqg.rtd\", ,\"ContractData\",B119, \"ContractMonth\",, \"T\")","v":"APR"},{"$f":"RTD(\"cqg.rtd\", ,\"ContractData\",B119, \"LongDescription\",, \"T\")","v":"Crude Light (Globex), Apr 36"},{"$f":"_xlfn.REGEXEXTRACT(RTD(\"cqg.rtd\", ,\"ContractData\",B119, \"LongDescription\",, \"T\"), \"[A-Z][a-z]{2}\\s\\d{2}\")","v":"Apr 36"},{"$f":"RTD(\"cqg.rtd\", ,\"ContractData\",B119, \"LastTrade\",, \"T\")","v":""},{"$f":"IF(RTD(\"cqg.rtd\", ,\"ContractData\",B119, \"NetLastTrade\",, \"T\")=\"\",NA(),RTD(\"cqg.rtd\", ,\"ContractData\",B119, \"NetLastTrade\",, \"T\"))","v":{"$error":"#N/A"}},{"$f":"RTD(\"cqg.rtd\", ,\"ContractData\",B119, \"Bid\",, \"T\")","v":""},{"$f":"RTD(\"cqg.rtd\", ,\"ContractData\",B119, \"Ask\",, \"T\")","v":""},{"$f":"RTD(\"cqg.rtd\", ,\"ContractData\",B119, \"T_CVol\",, \"T\")","v":0},{"$f":"RTD(\"cqg.rtd\", ,\"ContractData\",B119, \"TradeorTodaySettlement\",, \"T\")","v":54.54}]
[120,"CLE?120","CLE",{"$f":"RTD(\"cqg.rtd\", ,\"ContractData\",B120, \"ContractMonth\",, \"T\")","v":"MAY"},{"$f":"RTD(\"cqg.rtd\", ,\"ContractData\",B120, \"LongDescription\",, \"T\")","v":"Crude Light (Globex), May 36"},{"$f":"_xlfn.REGEXEXTRACT(RTD(\"cqg.rtd\", ,\"ContractData\",B120, \"LongDescription\",, \"T\"), \"[A-Z][a-z]{2}\\s\\d{2}\")","v":"May 36"},{"$f":"RTD(\"cqg.rtd\", ,\"ContractData\",B120, \"LastTrade\",, \"T\")","v":""},{"$f":"IF(RTD(\"cqg.rtd\", ,\"ContractData\",B120, \"NetLastTrade\",, \"T\")=\"\",NA(),RTD(\"cqg.rtd\", ,\"ContractData\",B120, \"NetLastTrade\",, \"T\"))","v":{"$error":"#N/A"}},{"$f":"RTD(\"cqg.rtd\", ,\"ContractData\",B120, \"Bid\",, \"T\")","v":""},{"$f":"RTD(\"cqg.rtd\", ,\"ContractData\",B120, \"Ask\",, \"T\")","v":""},{"$f":"RTD(\"cqg.rtd\", ,\"ContractData\",B120, \"T_CVol\",, \"T\")","v":0},{"$f":"RTD(\"cqg.rtd\", ,\"ContractData\",B120, \"TradeorTodaySettlement\",, \"T\")","v":54.39}]
[121,"CLE?121","CLE",{"$f":"RTD(\"cqg.rtd\", ,\"ContractData\",B121, \"ContractMonth\",, \"T\")","v":"JUN"},{"$f":"RTD(\"cqg.rtd\", ,\"ContractData\",B121, \"LongDescription\",, \"T\")","v":"Crude Light (Globex), Jun 36"},{"$f":"_xlfn.REGEXEXTRACT(RTD(\"cqg.rtd\", ,\"ContractData\",B121, \"LongDescription\",, \"T\"), \"[A-Z][a-z]{2}\\s\\d{2}\")","v":"Jun 36"},{"$f":"RTD(\"cqg.rtd\", ,\"ContractData\",B121, \"LastTrade\",, \"T\")","v":""},{"$f":"IF(RTD(\"cqg.rtd\", ,\"ContractData\",B121, \"NetLastTrade\",, \"T\")=\"\",NA(),RTD(\"cqg.rtd\", ,\"ContractData\",B121, \"NetLastTrade\",, \"T\"))","v":{"$error":"#N/A"}},{"$f":"RTD(\"cqg.rtd\", ,\"ContractData\",B121, \"Bid\",, \"T\")","v":""},{"$f":"RTD(\"cqg.rtd\", ,\"ContractData\",B121, \"Ask\",, \"T\")","v":""},{"$f":"RTD(\"cqg.rtd\", ,\"ContractData\",B121, \"T_CVol\",, \"T\")","v":0},{"$f":"RTD(\"cqg.rtd\", ,\"ContractData\",B121, \"TradeorTodaySettlement\",, \"T\")","v":54.19}]
[122,"CLE?122","CLE",{"$f":"RTD(\"cqg.rtd\", ,\"ContractData\",B122, \"ContractMonth\",, \"T\")","v":"JUL"},{"$f":"RTD(\"cqg.rtd\", ,\"ContractData\",B122, \"LongDescription\",, \"T\")","v":"Crude Light (Globex), Jul 36"},{"$f":"_xlfn.REGEXEXTRACT(RTD(\"cqg.rtd\", ,\"ContractData\",B122, \"LongDescription\",, \"T\"), \"[A-Z][a-z]{2}\\s\\d{2}\")","v":"Jul 36"},{"$f":"RTD(\"cqg.rtd\", ,\"ContractData\",B122, \"LastTrade\",, \"T\")","v":""},{"$f":"IF(RTD(\"cqg.rtd\", ,\"ContractData\",B122, \"NetLastTrade\",, \"T\")=\"\",NA(),RTD(\"cqg.rtd\", ,\"ContractData\",B122, \"NetLastTrade\",, \"T\"))","v":{"$error":"#N/A"}},{"$f":"RTD(\"cqg.rtd\", ,\"ContractData\",B122, \"Bid\",, \"T\")","v":""},{"$f":"RTD(\"cqg.rtd\", ,\"ContractData\",B122, \"Ask\",, \"T\")","v":""},{"$f":"RTD(\"cqg.rtd\", ,\"ContractData\",B122, \"T_CVol\",, \"T\")","v":0},{"$f":"RTD(\"cqg.rtd\", ,\"ContractData\",B122, \"TradeorTodaySettlement\",, \"T\")","v":54}]
[123,"CLE?123","CLE",{"$f":"RTD(\"cqg.rtd\", ,\"ContractData\",B123, \"ContractMonth\",, \"T\")","v":"AUG"},{"$f":"RTD(\"cqg.rtd\", ,\"ContractData\",B123, \"LongDescription\",, \"T\")","v":"Crude Light (Globex), Aug 36"},{"$f":"_xlfn.REGEXEXTRACT(RTD(\"cqg.rtd\", ,\"ContractData\",B123, \"LongDescription\",, \"T\"), \"[A-Z][a-z]{2}\\s\\d{2}\")","v":"Aug 36"},{"$f":"RTD(\"cqg.rtd\", ,\"ContractData\",B123, \"LastTrade\",, \"T\")","v":""},{"$f":"IF(RTD(\"cqg.rtd\", ,\"ContractData\",B123, \"NetLastTrade\",, \"T\")=\"\",NA(),RTD(\"cqg.rtd\", ,\"ContractData\",B123, \"NetLastTrade\",, \"T\"))","v":{"$error":"#N/A"}},{"$f":"RTD(\"cqg.rtd\", ,\"ContractData\",B123, \"Bid\",, \"T\")","v":""},{"$f":"RTD(\"cqg.rtd\", ,\"ContractData\",B123, \"Ask\",, \"T\")","v":""},{"$f":"RTD(\"cqg.rtd\", ,\"ContractData\",B123, \"T_CVol\",, \"T\")","v":0},{"$f":"RTD(\"cqg.rtd\", ,\"ContractData\",B123, \"TradeorTodaySettlement\",, \"T\")","v":53.82}]
[124,"CLE?124","CLE",{"$f":"RTD(\"cqg.rtd\", ,\"ContractData\",B124, \"ContractMonth\",, \"T\")","v":"SEP"},{"$f":"RTD(\"cqg.rtd\", ,\"ContractData\",B124, \"LongDescription\",, \"T\")","v":"Crude Light (Globex), Sep 36"},{"$f":"_xlfn.REGEXEXTRACT(RTD(\"cqg.rtd\", ,\"ContractData\",B124, \"LongDescription\",, \"T\"), \"[A-Z][a-z]{2}\\s\\d{2}\")","v":"Sep 36"},{"$f":"RTD(\"cqg.rtd\", ,\"ContractData\",B124, \"LastTrade\",, \"T\")","v":""},{"$f":"IF(RTD(\"cqg.rtd\", ,\"ContractData\",B124, \"NetLastTrade\",, \"T\")=\"\",NA(),RTD(\"cqg.rtd\", ,\"ContractData\",B124, \"NetLastTrade\",, \"T\"))","v":{"$error":"#N/A"}},{"$f":"RTD(\"cqg.rtd\", ,\"ContractData\",B124, \"Bid\",, \"T\")","v":""},{"$f":"RTD(\"cqg.rtd\", ,\"ContractData\",B124, \"Ask\",, \"T\")","v":""},{"$f":"RTD(\"cqg.rtd\", ,\"ContractData\",B124, \"T_CVol\",, \"T\")","v":0},{"$f":"RTD(\"cqg.rtd\", ,\"ContractData\",B124, \"TradeorTodaySettlement\",, \"T\")","v":53.68}]
[125,"CLE?125","CLE",{"$f":"RTD(\"cqg.rtd\", ,\"ContractData\",B125, \"ContractMonth\",, \"T\")","v":"OCT"},{"$f":"RTD(\"cqg.rtd\", ,\"ContractData\",B125, \"LongDescription\",, \"T\")","v":"Crude Light (Globex), Oct 36"},{"$f":"_xlfn.REGEXEXTRACT(RTD(\"cqg.rtd\", ,\"ContractData\",B125, \"LongDescription\",, \"T\"), \"[A-Z][a-z]{2}\\s\\d{2}\")","v":"Oct 36"},{"$f":"RTD(\"cqg.rtd\", ,\"ContractData\",B125, \"LastTrade\",, \"T\")","v":""},{"$f":"IF(RTD(\"cqg.rtd\", ,\"ContractData\",B125, \"NetLastTrade\",, \"T\")=\"\",NA(),RTD(\"cqg.rtd\", ,\"ContractData\",B125, \"NetLastTrade\",, \"T\"))","v":{"$error":"#N/A"}},{"$f":"RTD(\"cqg.rtd\", ,\"ContractData\",B125, \"Bid\",, \"T\")","v":""},{"$f":"RTD(\"cqg.rtd\", ,\"ContractData\",B125, \"Ask\",, \"T\")","v":""},{"$f":"RTD(\"cqg.rtd\", ,\"ContractData\",B125, \"T_CVol\",, \"T\")","v":0},{"$f":"RTD(\"cqg.rtd\", ,\"ContractData\",B125, \"TradeorTodaySettlement\",, \"T\")","v":53.550000000000004}]
[126,"CLE?126","CLE",{"$f":"RTD(\"cqg.rtd\", ,\"ContractData\",B126, \"ContractMonth\",, \"T\")","v":"NOV"},{"$f":"RTD(\"cqg.rtd\", ,\"ContractData\",B126, \"LongDescription\",, \"T\")","v":"Crude Light (Globex), Nov 36"},{"$f":"_xlfn.REGEXEXTRACT(RTD(\"cqg.rtd\", ,\"ContractData\",B126, \"LongDescription\",, \"T\"), \"[A-Z][a-z]{2}\\s\\d{2}\")","v":"Nov 36"},{"$f":"RTD(\"cqg.rtd\", ,\"ContractData\",B126, \"LastTrade\",, \"T\")","v":""},{"$f":"IF(RTD(\"cqg.rtd\", ,\"ContractData\",B126, \"NetLastTrade\",, \"T\")=\"\",NA(),RTD(\"cqg.rtd\", ,\"ContractData\",B126, \"NetLastTrade\",, \"T\"))","v":{"$error":"#N/A"}},{"$f":"RTD(\"cqg.rtd\", ,\"ContractData\",B126, \"Bid\",, \"T\")","v":""},{"$f":"RTD(\"cqg.rtd\", ,\"ContractData\",B126, \"Ask\",, \"T\")","v":""},{"$f":"RTD(\"cqg.rtd\", ,\"ContractData\",B126, \"T_CVol\",, \"T\")","v":0},{"$f":"RTD(\"cqg.rtd\", ,\"ContractData\",B126, \"TradeorTodaySettlement\",, \"T\")","v":53.46}]
[127,"CLE?127","CLE",{"$f":"RTD(\"cqg.rtd\", ,\"ContractData\",B127, \"ContractMonth\",, \"T\")","v":"DEC"},{"$f":"RTD(\"cqg.rtd\", ,\"ContractData\",B127, \"LongDescription\",, \"T\")","v":"Crude Light (Globex), Dec 36"},{"$f":"_xlfn.REGEXEXTRACT(RTD(\"cqg.rtd\", ,\"ContractData\",B127, \"LongDescription\",, \"T\"), \"[A-Z][a-z]{2}\\s\\d{2}\")","v":"Dec 36"},{"$f":"RTD(\"cqg.rtd\", ,\"ContractData\",B127, \"LastTrade\",, \"T\")","v":""},{"$f":"IF(RTD(\"cqg.rtd\", ,\"ContractData\",B127, \"NetLastTrade\",, \"T\")=\"\",NA(),RTD(\"cqg.rtd\", ,\"ContractData\",B127, \"NetLastTrade\",, \"T\"))","v":{"$error":"#N/A"}},{"$f":"RTD(\"cqg.rtd\", ,\"ContractData\",B127, \"Bid\",, \"T\")","v":53.050000000000004},{"$f":"RTD(\"cqg.rtd\", ,\"ContractData\",B127, \"Ask\",, \"T\")","v":""},{"$f":"RTD(\"cqg.rtd\", ,\"ContractData\",B127, \"T_CVol\",, \"T\")","v":0},{"$f":"RTD(\"cqg.rtd\", ,\"ContractData\",B127, \"TradeorTodaySettlement\",, \"T\")","v":53.22}]
[128,"CLE?128","CLE",{"$f":"RTD(\"cqg.rtd\", ,\"ContractData\",B128, \"ContractMonth\",, \"T\")","v":"JAN"},{"$f":"RTD(\"cqg.rtd\", ,\"ContractData\",B128, \"LongDescription\",, \"T\")","v":"Crude Light (Globex), Jan 37"},{"$f":"_xlfn.REGEXEXTRACT(RTD(\"cqg.rtd\", ,\"ContractData\",B128, \"LongDescription\",, \"T\"), \"[A-Z][a-z]{2}\\s\\d{2}\")","v":"Jan 37"},{"$f":"RTD(\"cqg.rtd\", ,\"ContractData\",B128, \"LastTrade\",, \"T\")","v":""},{"$f":"IF(RTD(\"cqg.rtd\", ,\"ContractData\",B128, \"NetLastTrade\",, \"T\")=\"\",NA(),RTD(\"cqg.rtd\", ,\"ContractData\",B128, \"NetLastTrade\",, \"T\"))","v":{"$error":"#N/A"}},{"$f":"RTD(\"cqg.rtd\", ,\"ContractData\",B128, \"Bid\",, \"T\")","v":""},{"$f":"RTD(\"cqg.rtd\", ,\"ContractData\",B128, \"Ask\",, \"T\")","v":""},{"$f":"RTD(\"cqg.rtd\", ,\"ContractData\",B128, \"T_CVol\",, \"T\")","v":0},{"$f":"RTD(\"cqg.rtd\", ,\"ContractData\",B128, \"TradeorTodaySettlement\",, \"T\")","v":53.15}]
[129,"CLE?129","CLE",{"$f":"RTD(\"cqg.rtd\", ,\"ContractData\",B129, \"ContractMonth\",, \"T\")","v":"FEB"},{"$f":"RTD(\"cqg.rtd\", ,\"ContractData\",B129, \"LongDescription\",, \"T\")","v":"Crude Light (Globex), Feb 37"},{"$f":"_xlfn.REGEXEXTRACT(RTD(\"cqg.rtd\", ,\"ContractData\",B129, \"LongDescription\",, \"T\"), \"[A-Z][a-z]{2}\\s\\d{2}\")","v":"Feb 37"},{"$f":"RTD(\"cqg.rtd\", ,\"ContractData\",B129, \"LastTrade\",, \"T\")","v":""},{"$f":"IF(RTD(\"cqg.rtd\", ,\"ContractData\",B129, \"NetLastTrade\",, \"T\")=\"\",NA(),RTD(\"cqg.rtd\", ,\"ContractData\",B129, \"NetLastTrade\",, \"T\"))","v":{"$error":"#N/A"}},{"$f":"RTD(\"cqg.rtd\", ,\"ContractData\",B129, \"Bid\",, \"T\")","v":""},{"$f":"RTD(\"cqg.rtd\", ,\"ContractData\",B129, \"Ask\",, \"T\")","v":""},{"$f":"RTD(\"cqg.rtd\", ,\"ContractData\",B129, \"T_CVol\",, \"T\")","v":0},{"$f":"RTD(\"cqg.rtd\", ,\"ContractData\",B129, \"TradeorTodaySettlement\",, \"T\")","v":53.09}]