Workbook

Sheet Display
C2: Symbol | D2: Description | G2: Last | H2: NC | I2: %NC | J2: Open | K2: High | L2: Low | M2: Weekly | Q2: Symbol | R2: Description | U2: Last | V2: NC | W2: %NC | X2: Open | Y2: High | Z2: Low | AA2: Qrtly
B3: Top Ten | C3: =Data!G2 -> S.PANW | D3: =PROPER(RTD("cqg.rtd", ,"ContractData",C3, "LongDescription",, "T")) -> Palo Alto Ntwks Cm | G3: =RTD("cqg.rtd", ,"ContractData",$C3,$G$2,, "T") -> 363.58 | H3: =RTD("cqg.rtd", ,"ContractData",$C3,$H$2,, "T") -> -11.48 | I3: =IFERROR(RTD("cqg.rtd", ,"ContractData",$C3,"PerCentNetLastTrade",, "T")/100,"") -> -0.030608436 | J3: =RTD("cqg.rtd", ,"ContractData",$C3,$J$2,, "T") -> 375.07 | K3: =RTD("cqg.rtd", ,"ContractData",$C3,$K$2,, "T") -> 376.01 | L3: =RTD("cqg.rtd", ,"ContractData",$C3,$L$2,, "T") -> 356 | M3: =Data!H2 -> 0.099591713 | N3: Top Ten | P3: Top Ten | Q3: =Data!S2 -> S.PLTR | R3: =PROPER(RTD("cqg.rtd", ,"ContractData",Q3, "LongDescription",, "T")) -> Palantir Tech Cl A | U3: =RTD("cqg.rtd", ,"ContractData",$C3,$G$2,, "T") -> 363.58 | V3: =RTD("cqg.rtd", ,"ContractData",$C3,$H$2,, "T") -> -11.48 | W3: =IFERROR(RTD("cqg.rtd", ,"ContractData",$C3,"PerCentNetLastTrade",, "T")/100,"") -> -0.030608436 | X3: =RTD("cqg.rtd", ,"ContractData",$C3,$J$2,, "T") -> 375.07 | Y3: =RTD("cqg.rtd", ,"ContractData",$C3,$K$2,, "T") -> 376.01 | Z3: =RTD("cqg.rtd", ,"ContractData",$C3,$L$2,, "T") -> 356 | AA3: =Data!T2 -> 0.52258507 | AB3: Top Ten
C4: =Data!G3 -> S.AMD | D4: =PROPER(RTD("cqg.rtd", ,"ContractData",C4, "LongDescription",, "T")) -> Adv Micro Devices | G4: =RTD("cqg.rtd", ,"ContractData",$C4,$G$2,, "T") -> 559.82 | H4: =RTD("cqg.rtd", ,"ContractData",$C4,$H$2,, "T") -> 14.73 | I4: =IFERROR(RTD("cqg.rtd", ,"ContractData",$C4,"PerCentNetLastTrade",, "T")/100,"") -> 0.02702306 | J4: =RTD("cqg.rtd", ,"ContractData",$C4,$J$2,, "T") -> 547.37 | K4: =RTD("cqg.rtd", ,"ContractData",$C4,$K$2,, "T") -> 559.91 | L4: =RTD("cqg.rtd", ,"ContractData",$C4,$L$2,, "T") -> 541.53 | M4: =Data!H3 -> 0.084649216 | Q4: =Data!S3 -> S.CRM | R4: =PROPER(RTD("cqg.rtd", ,"ContractData",Q4, "LongDescription",, "T")) -> Salesforce, Inc. | U4: =RTD("cqg.rtd", ,"ContractData",$C4,$G$2,, "T") -> 559.82 | V4: =RTD("cqg.rtd", ,"ContractData",$C4,$H$2,, "T") -> 14.73 | W4: =IFERROR(RTD("cqg.rtd", ,"ContractData",$C4,"PerCentNetLastTrade",, "T")/100,"") -> 0.02702306 | X4: =RTD("cqg.rtd", ,"ContractData",$C4,$J$2,, "T") -> 547.37 | Y4: =RTD("cqg.rtd", ,"ContractData",$C4,$K$2,, "T") -> 559.91 | Z4: =RTD("cqg.rtd", ,"ContractData",$C4,$L$2,, "T") -> 541.53 | AA4: =Data!T3 -> 0.51870292
C5: =Data!G4 -> S.TMO | D5: =PROPER(RTD("cqg.rtd", ,"ContractData",C5, "LongDescription",, "T")) -> Thermo Electron Corp | G5: =RTD("cqg.rtd", ,"ContractData",$C5,$G$2,, "T") -> 651.45 | H5: =RTD("cqg.rtd", ,"ContractData",$C5,$H$2,, "T") -> -6.87 | I5: =IFERROR(RTD("cqg.rtd", ,"ContractData",$C5,"PerCentNetLastTrade",, "T")/100,"") -> -0.010435654 | J5: =RTD("cqg.rtd", ,"ContractData",$C5,$J$2,, "T") -> 656.61 | K5: =RTD("cqg.rtd", ,"ContractData",$C5,$K$2,, "T") -> 660.1 | L5: =RTD("cqg.rtd", ,"ContractData",$C5,$L$2,, "T") -> 646.8 | M5: =Data!H4 -> 0.068266046 | Q5: =Data!S4 -> S.ACN | R5: =PROPER(RTD("cqg.rtd", ,"ContractData",Q5, "LongDescription",, "T")) -> Accenture Plc Ireland | U5: =RTD("cqg.rtd", ,"ContractData",$C5,$G$2,, "T") -> 651.45 | V5: =RTD("cqg.rtd", ,"ContractData",$C5,$H$2,, "T") -> -6.87 | W5: =IFERROR(RTD("cqg.rtd", ,"ContractData",$C5,"PerCentNetLastTrade",, "T")/100,"") -> -0.010435654 | X5: =RTD("cqg.rtd", ,"ContractData",$C5,$J$2,, "T") -> 656.61 | Y5: =RTD("cqg.rtd", ,"ContractData",$C5,$K$2,, "T") -> 660.1 | Z5: =RTD("cqg.rtd", ,"ContractData",$C5,$L$2,, "T") -> 646.8 | AA5: =Data!T4 -> 0.45684667
C6: =Data!G5 -> S.ISRG | D6: =PROPER(RTD("cqg.rtd", ,"ContractData",C6, "LongDescription",, "T")) -> Intuitive Surg, Inc. | G6: =RTD("cqg.rtd", ,"ContractData",$C6,$G$2,, "T") -> 393.33 | H6: =RTD("cqg.rtd", ,"ContractData",$C6,$H$2,, "T") -> 9.79 | I6: =IFERROR(RTD("cqg.rtd", ,"ContractData",$C6,"PerCentNetLastTrade",, "T")/100,"") -> 0.025525369 | J6: =RTD("cqg.rtd", ,"ContractData",$C6,$J$2,, "T") -> 381.51 | K6: =RTD("cqg.rtd", ,"ContractData",$C6,$K$2,, "T") -> 394.91 | L6: =RTD("cqg.rtd", ,"ContractData",$C6,$L$2,, "T") -> 379.5 | M6: =Data!H5 -> 0.065501829 | Q6: =Data!S5 -> S.NOW | R6: =PROPER(RTD("cqg.rtd", ,"ContractData",Q6, "LongDescription",, "T")) -> Servicenow, Inc. | U6: =RTD("cqg.rtd", ,"ContractData",$C6,$G$2,, "T") -> 393.33 | V6: =RTD("cqg.rtd", ,"ContractData",$C6,$H$2,, "T") -> 9.79 | W6: =IFERROR(RTD("cqg.rtd", ,"ContractData",$C6,"PerCentNetLastTrade",, "T")/100,"") -> 0.025525369 | X6: =RTD("cqg.rtd", ,"ContractData",$C6,$J$2,, "T") -> 381.51 | Y6: =RTD("cqg.rtd", ,"ContractData",$C6,$K$2,, "T") -> 394.91 | Z6: =RTD("cqg.rtd", ,"ContractData",$C6,$L$2,, "T") -> 379.5 | AA6: =Data!T5 -> 0.36452458
C7: =Data!G6 -> S.PLTR | D7: =PROPER(RTD("cqg.rtd", ,"ContractData",C7, "LongDescription",, "T")) -> Palantir Tech Cl A | G7: =RTD("cqg.rtd", ,"ContractData",$C7,$G$2,, "T") -> 177.64 | H7: =RTD("cqg.rtd", ,"ContractData",$C7,$H$2,, "T") -> 1.4 | I7: =IFERROR(RTD("cqg.rtd", ,"ContractData",$C7,"PerCentNetLastTrade",, "T")/100,"") -> 0.0079437131 | J7: =RTD("cqg.rtd", ,"ContractData",$C7,$J$2,, "T") -> 177.18 | K7: =RTD("cqg.rtd", ,"ContractData",$C7,$K$2,, "T") -> 177.75 | L7: =RTD("cqg.rtd", ,"ContractData",$C7,$L$2,, "T") -> 172 | M7: =Data!H6 -> 0.062249596 | Q7: =Data!S6 -> S.MSFT | R7: =PROPER(RTD("cqg.rtd", ,"ContractData",Q7, "LongDescription",, "T")) -> Microsoft Corp | U7: =RTD("cqg.rtd", ,"ContractData",$C7,$G$2,, "T") -> 177.64 | V7: =RTD("cqg.rtd", ,"ContractData",$C7,$H$2,, "T") -> 1.4 | W7: =IFERROR(RTD("cqg.rtd", ,"ContractData",$C7,"PerCentNetLastTrade",, "T")/100,"") -> 0.0079437131 | X7: =RTD("cqg.rtd", ,"ContractData",$C7,$J$2,, "T") -> 177.18 | Y7: =RTD("cqg.rtd", ,"ContractData",$C7,$K$2,, "T") -> 177.75 | Z7: =RTD("cqg.rtd", ,"ContractData",$C7,$L$2,, "T") -> 172 | AA7: =Data!T6 -> 0.32373599
C8: =Data!G7 -> S.DHR | D8: =PROPER(RTD("cqg.rtd", ,"ContractData",C8, "LongDescription",, "T")) -> Danaher Corporation | G8: =RTD("cqg.rtd", ,"ContractData",$C8,$G$2,, "T") -> 211.81 | H8: =RTD("cqg.rtd", ,"ContractData",$C8,$H$2,, "T") -> -0.69 | I8: =IFERROR(RTD("cqg.rtd", ,"ContractData",$C8,"PerCentNetLastTrade",, "T")/100,"") -> -0.0032470588 | J8: =RTD("cqg.rtd", ,"ContractData",$C8,$J$2,, "T") -> 212.64 | K8: =RTD("cqg.rtd", ,"ContractData",$C8,$K$2,, "T") -> 214.98 | L8: =RTD("cqg.rtd", ,"ContractData",$C8,$L$2,, "T") -> 210.1 | M8: =Data!H7 -> 0.058309184 | Q8: =Data!S7 -> S.TMO | R8: =PROPER(RTD("cqg.rtd", ,"ContractData",Q8, "LongDescription",, "T")) -> Thermo Electron Corp | U8: =RTD("cqg.rtd", ,"ContractData",$C8,$G$2,, "T") -> 211.81 | V8: =RTD("cqg.rtd", ,"ContractData",$C8,$H$2,, "T") -> -0.69 | W8: =IFERROR(RTD("cqg.rtd", ,"ContractData",$C8,"PerCentNetLastTrade",, "T")/100,"") -> -0.0032470588 | X8: =RTD("cqg.rtd", ,"ContractData",$C8,$J$2,, "T") -> 212.64 | Y8: =RTD("cqg.rtd", ,"ContractData",$C8,$K$2,, "T") -> 214.98 | Z8: =RTD("cqg.rtd", ,"ContractData",$C8,$L$2,, "T") -> 210.1 | AA8: =Data!T7 -> 0.29936573
C9: =Data!G8 -> S.INTC | D9: =PROPER(RTD("cqg.rtd", ,"ContractData",C9, "LongDescription",, "T")) -> Intel Corp | G9: =RTD("cqg.rtd", ,"ContractData",$C9,$G$2,, "T") -> 108.6 | H9: =RTD("cqg.rtd", ,"ContractData",$C9,$H$2,, "T") -> -0.2 | I9: =IFERROR(RTD("cqg.rtd", ,"ContractData",$C9,"PerCentNetLastTrade",, "T")/100,"") -> -0.0018382353 | J9: =RTD("cqg.rtd", ,"ContractData",$C9,$J$2,, "T") -> 109.79 | K9: =RTD("cqg.rtd", ,"ContractData",$C9,$K$2,, "T") -> 110.49 | L9: =RTD("cqg.rtd", ,"ContractData",$C9,$L$2,, "T") -> 106.4 | M9: =Data!H8 -> 0.054983486 | Q9: =Data!S8 -> S.COP | R9: =PROPER(RTD("cqg.rtd", ,"ContractData",Q9, "LongDescription",, "T")) -> Conocophillips | U9: =RTD("cqg.rtd", ,"ContractData",$C9,$G$2,, "T") -> 108.6 | V9: =RTD("cqg.rtd", ,"ContractData",$C9,$H$2,, "T") -> -0.2 | W9: =IFERROR(RTD("cqg.rtd", ,"ContractData",$C9,"PerCentNetLastTrade",, "T")/100,"") -> -0.0018382353 | X9: =RTD("cqg.rtd", ,"ContractData",$C9,$J$2,, "T") -> 109.79 | Y9: =RTD("cqg.rtd", ,"ContractData",$C9,$K$2,, "T") -> 110.49 | Z9: =RTD("cqg.rtd", ,"ContractData",$C9,$L$2,, "T") -> 106.4 | AA9: =Data!T8 -> 0.26808388
C10: =Data!G9 -> S.GILD | D10: =PROPER(RTD("cqg.rtd", ,"ContractData",C10, "LongDescription",, "T")) -> Gilead Sciences, Inc | G10: =RTD("cqg.rtd", ,"ContractData",$C10,$G$2,, "T") -> 150.11 | H10: =RTD("cqg.rtd", ,"ContractData",$C10,$H$2,, "T") -> -0.78 | I10: =IFERROR(RTD("cqg.rtd", ,"ContractData",$C10,"PerCentNetLastTrade",, "T")/100,"") -> -0.0051693287 | J10: =RTD("cqg.rtd", ,"ContractData",$C10,$J$2,, "T") -> 150.56 | K10: =RTD("cqg.rtd", ,"ContractData",$C10,$K$2,, "T") -> 153.23 | L10: =RTD("cqg.rtd", ,"ContractData",$C10,$L$2,, "T") -> 149.57 | M10: =Data!H9 -> 0.044461453 | Q10: =Data!S9 -> S.CVX | R10: =PROPER(RTD("cqg.rtd", ,"ContractData",Q10, "LongDescription",, "T")) -> Chevron Corp | U10: =RTD("cqg.rtd", ,"ContractData",$C10,$G$2,, "T") -> 150.11 | V10: =RTD("cqg.rtd", ,"ContractData",$C10,$H$2,, "T") -> -0.78 | W10: =IFERROR(RTD("cqg.rtd", ,"ContractData",$C10,"PerCentNetLastTrade",, "T")/100,"") -> -0.0051693287 | X10: =RTD("cqg.rtd", ,"ContractData",$C10,$J$2,, "T") -> 150.56 | Y10: =RTD("cqg.rtd", ,"ContractData",$C10,$K$2,, "T") -> 153.23 | Z10: =RTD("cqg.rtd", ,"ContractData",$C10,$L$2,, "T") -> 149.57 | AA10: =Data!T9 -> 0.26393581
C11: =Data!G10 -> S.MU | D11: =PROPER(RTD("cqg.rtd", ,"ContractData",C11, "LongDescription",, "T")) -> Micron Technology | G11: =RTD("cqg.rtd", ,"ContractData",$C11,$G$2,, "T") -> 1015.8 | H11: =RTD("cqg.rtd", ,"ContractData",$C11,$H$2,, "T") -> 38.3 | I11: =IFERROR(RTD("cqg.rtd", ,"ContractData",$C11,"PerCentNetLastTrade",, "T")/100,"") -> 0.039181586 | J11: =RTD("cqg.rtd", ,"ContractData",$C11,$J$2,, "T") -> 984.71 | K11: =RTD("cqg.rtd", ,"ContractData",$C11,$K$2,, "T") -> 1016.44 | L11: =RTD("cqg.rtd", ,"ContractData",$C11,$L$2,, "T") -> 977.83 | M11: =Data!H10 -> 0.041568402 | Q11: =Data!S10 -> S.T | R11: =PROPER(RTD("cqg.rtd", ,"ContractData",Q11, "LongDescription",, "T")) -> At&T Inc | U11: =RTD("cqg.rtd", ,"ContractData",$C11,$G$2,, "T") -> 1015.8 | V11: =RTD("cqg.rtd", ,"ContractData",$C11,$H$2,, "T") -> 38.3 | W11: =IFERROR(RTD("cqg.rtd", ,"ContractData",$C11,"PerCentNetLastTrade",, "T")/100,"") -> 0.039181586 | X11: =RTD("cqg.rtd", ,"ContractData",$C11,$J$2,, "T") -> 984.71 | Y11: =RTD("cqg.rtd", ,"ContractData",$C11,$K$2,, "T") -> 1016.44 | Z11: =RTD("cqg.rtd", ,"ContractData",$C11,$L$2,, "T") -> 977.83 | AA11: =Data!T10 -> 0.22705314
C12: =Data!G11 -> S.HONA | D12: =PROPER(RTD("cqg.rtd", ,"ContractData",C12, "LongDescription",, "T")) -> Honeywell Aerospace Inc | G12: =RTD("cqg.rtd", ,"ContractData",$C12,$G$2,, "T") -> 163.6 | H12: =RTD("cqg.rtd", ,"ContractData",$C12,$H$2,, "T") -> -3.53 | I12: =IFERROR(RTD("cqg.rtd", ,"ContractData",$C12,"PerCentNetLastTrade",, "T")/100,"") -> -0.021121283 | J12: =RTD("cqg.rtd", ,"ContractData",$C12,$J$2,, "T") -> 166.99 | K12: =RTD("cqg.rtd", ,"ContractData",$C12,$K$2,, "T") -> 167.15 | L12: =RTD("cqg.rtd", ,"ContractData",$C12,$L$2,, "T") -> 162 | M12: =Data!H11 -> 0.033741944 | Q12: =Data!S11 -> S.ADBE | R12: =PROPER(RTD("cqg.rtd", ,"ContractData",Q12, "LongDescription",, "T")) -> Adobe Inc. | U12: =RTD("cqg.rtd", ,"ContractData",$C12,$G$2,, "T") -> 163.6 | V12: =RTD("cqg.rtd", ,"ContractData",$C12,$H$2,, "T") -> -3.53 | W12: =IFERROR(RTD("cqg.rtd", ,"ContractData",$C12,"PerCentNetLastTrade",, "T")/100,"") -> -0.021121283 | X12: =RTD("cqg.rtd", ,"ContractData",$C12,$J$2,, "T") -> 166.99 | Y12: =RTD("cqg.rtd", ,"ContractData",$C12,$K$2,, "T") -> 167.15 | Z12: =RTD("cqg.rtd", ,"ContractData",$C12,$L$2,, "T") -> 162 | AA12: =Data!T11 -> 0.21412545
C15: Symbol | D15: Description | G15: Last | H15: NC | I15: %NC | J15: Open | K15: High | L15: Low | M15: Weekly | Q15: Symbol | R15: Description | U15: Last | V15: NC | W15: %NC | X15: Open | Y15: High | Z15: Low | AA15: Qrtly
B16: Bottom Ten | C16: =Data!J2 -> S.MS | D16: =PROPER(RTD("cqg.rtd", ,"ContractData",C16, "LongDescription",, "T")) -> Morgan Stanley | G16: =RTD("cqg.rtd", ,"ContractData",$C16,$G$2,, "T") -> 202.58 | H16: =RTD("cqg.rtd", ,"ContractData",$C16,$H$2,, "T") -> -0.94 | I16: =IFERROR(RTD("cqg.rtd", ,"ContractData",$C16,"PerCentNetLastTrade",, "T")/100,"") -> -0.0046187107 | J16: =RTD("cqg.rtd", ,"ContractData",$C16,$J$2,, "T") -> 202.1 | K16: =RTD("cqg.rtd", ,"ContractData",$C16,$K$2,, "T") -> 203.04 | L16: =RTD("cqg.rtd", ,"ContractData",$C16,$L$2,, "T") -> 200.85 | M16: =Data!K2 -> -0.055042448 | N16: Bottom Ten | P16: Bottom Ten | Q16: =Data!V2 -> S.CVS | R16: =PROPER(RTD("cqg.rtd", ,"ContractData",Q16, "LongDescription",, "T")) -> Cvs Health Corporation | U16: =RTD("cqg.rtd", ,"ContractData",$C16,$G$2,, "T") -> 202.58 | V16: =RTD("cqg.rtd", ,"ContractData",$C16,$H$2,, "T") -> -0.94 | W16: =IFERROR(RTD("cqg.rtd", ,"ContractData",$C16,"PerCentNetLastTrade",, "T")/100,"") -> -0.0046187107 | X16: =RTD("cqg.rtd", ,"ContractData",$C16,$J$2,, "T") -> 202.1 | Y16: =RTD("cqg.rtd", ,"ContractData",$C16,$K$2,, "T") -> 203.04 | Z16: =RTD("cqg.rtd", ,"ContractData",$C16,$L$2,, "T") -> 200.85 | AA16: =Data!W2 -> -0.14122765 | AB16: Bottom Ten
C17: =Data!J3 -> S.IBM | D17: =PROPER(RTD("cqg.rtd", ,"ContractData",C17, "LongDescription",, "T")) -> International Business Machines | G17: =RTD("cqg.rtd", ,"ContractData",$C17,$G$2,, "T") -> 229.55 | H17: =RTD("cqg.rtd", ,"ContractData",$C17,$H$2,, "T") -> -8.2 | I17: =IFERROR(RTD("cqg.rtd", ,"ContractData",$C17,"PerCentNetLastTrade",, "T")/100,"") -> -0.034490011 | J17: =RTD("cqg.rtd", ,"ContractData",$C17,$J$2,, "T") -> 237.85 | K17: =RTD("cqg.rtd", ,"ContractData",$C17,$K$2,, "T") -> 237.89 | L17: =RTD("cqg.rtd", ,"ContractData",$C17,$L$2,, "T") -> 229.38 | M17: =Data!K3 -> -0.056475811 | Q17: =Data!V3 -> S.HD | R17: =PROPER(RTD("cqg.rtd", ,"ContractData",Q17, "LongDescription",, "T")) -> Home Depot, Inc. | U17: =RTD("cqg.rtd", ,"ContractData",$C17,$G$2,, "T") -> 229.55 | V17: =RTD("cqg.rtd", ,"ContractData",$C17,$H$2,, "T") -> -8.2 | W17: =IFERROR(RTD("cqg.rtd", ,"ContractData",$C17,"PerCentNetLastTrade",, "T")/100,"") -> -0.034490011 | X17: =RTD("cqg.rtd", ,"ContractData",$C17,$J$2,, "T") -> 237.85 | Y17: =RTD("cqg.rtd", ,"ContractData",$C17,$K$2,, "T") -> 237.89 | Z17: =RTD("cqg.rtd", ,"ContractData",$C17,$L$2,, "T") -> 229.38 | AA17: =Data!W3 -> -0.14942724
C18: =Data!J4 -> S.INTU | D18: =PROPER(RTD("cqg.rtd", ,"ContractData",C18, "LongDescription",, "T")) -> Intuit Inc | G18: =RTD("cqg.rtd", ,"ContractData",$C18,$G$2,, "T") -> 303.19 | H18: =RTD("cqg.rtd", ,"ContractData",$C18,$H$2,, "T") -> -9.94 | I18: =IFERROR(RTD("cqg.rtd", ,"ContractData",$C18,"PerCentNetLastTrade",, "T")/100,"") -> -0.031744004 | J18: =RTD("cqg.rtd", ,"ContractData",$C18,$J$2,, "T") -> 312.9 | K18: =RTD("cqg.rtd", ,"ContractData",$C18,$K$2,, "T") -> 313.37 | L18: =RTD("cqg.rtd", ,"ContractData",$C18,$L$2,, "T") -> 300.67 | M18: =Data!K4 -> -0.057157073 | Q18: =Data!V4 -> S.GE | R18: =PROPER(RTD("cqg.rtd", ,"ContractData",Q18, "LongDescription",, "T")) -> General Electric Co | U18: =RTD("cqg.rtd", ,"ContractData",$C18,$G$2,, "T") -> 303.19 | V18: =RTD("cqg.rtd", ,"ContractData",$C18,$H$2,, "T") -> -9.94 | W18: =IFERROR(RTD("cqg.rtd", ,"ContractData",$C18,"PerCentNetLastTrade",, "T")/100,"") -> -0.031744004 | X18: =RTD("cqg.rtd", ,"ContractData",$C18,$J$2,, "T") -> 312.9 | Y18: =RTD("cqg.rtd", ,"ContractData",$C18,$K$2,, "T") -> 313.37 | Z18: =RTD("cqg.rtd", ,"ContractData",$C18,$L$2,, "T") -> 300.67 | AA18: =Data!W4 -> -0.15909881
C19: =Data!J5 -> S.BA | D19: =PROPER(RTD("cqg.rtd", ,"ContractData",C19, "LongDescription",, "T")) -> Boeing Company | G19: =RTD("cqg.rtd", ,"ContractData",$C19,$G$2,, "T") -> 198.2 | H19: =RTD("cqg.rtd", ,"ContractData",$C19,$H$2,, "T") -> 1.2 | I19: =IFERROR(RTD("cqg.rtd", ,"ContractData",$C19,"PerCentNetLastTrade",, "T")/100,"") -> 0.0060913706 | J19: =RTD("cqg.rtd", ,"ContractData",$C19,$J$2,, "T") -> 196.83 | K19: =RTD("cqg.rtd", ,"ContractData",$C19,$K$2,, "T") -> 199.63 | L19: =RTD("cqg.rtd", ,"ContractData",$C19,$L$2,, "T") -> 195.46 | M19: =Data!K5 -> -0.058208601 | Q19: =Data!V5 -> S.IBM | R19: =PROPER(RTD("cqg.rtd", ,"ContractData",Q19, "LongDescription",, "T")) -> International Business Machines | U19: =RTD("cqg.rtd", ,"ContractData",$C19,$G$2,, "T") -> 198.2 | V19: =RTD("cqg.rtd", ,"ContractData",$C19,$H$2,, "T") -> 1.2 | W19: =IFERROR(RTD("cqg.rtd", ,"ContractData",$C19,"PerCentNetLastTrade",, "T")/100,"") -> 0.0060913706 | X19: =RTD("cqg.rtd", ,"ContractData",$C19,$J$2,, "T") -> 196.83 | Y19: =RTD("cqg.rtd", ,"ContractData",$C19,$K$2,, "T") -> 199.63 | Z19: =RTD("cqg.rtd", ,"ContractData",$C19,$L$2,, "T") -> 195.46 | AA19: =Data!W5 -> -0.18370613
C20: =Data!J6 -> S.CVS | D20: =PROPER(RTD("cqg.rtd", ,"ContractData",C20, "LongDescription",, "T")) -> Cvs Health Corporation | G20: =RTD("cqg.rtd", ,"ContractData",$C20,$G$2,, "T") -> 88.84 | H20: =RTD("cqg.rtd", ,"ContractData",$C20,$H$2,, "T") -> -1.43 | I20: =IFERROR(RTD("cqg.rtd", ,"ContractData",$C20,"PerCentNetLastTrade",, "T")/100,"") -> -0.015841365 | J20: =RTD("cqg.rtd", ,"ContractData",$C20,$J$2,, "T") -> 90.09 | K20: =RTD("cqg.rtd", ,"ContractData",$C20,$K$2,, "T") -> 90.48 | L20: =RTD("cqg.rtd", ,"ContractData",$C20,$L$2,, "T") -> 88.15 | M20: =Data!K6 -> -0.061483203 | Q20: =Data!V6 -> S.GEV | R20: =PROPER(RTD("cqg.rtd", ,"ContractData",Q20, "LongDescription",, "T")) -> Ge Vernova Inc. | U20: =RTD("cqg.rtd", ,"ContractData",$C20,$G$2,, "T") -> 88.84 | V20: =RTD("cqg.rtd", ,"ContractData",$C20,$H$2,, "T") -> -1.43 | W20: =IFERROR(RTD("cqg.rtd", ,"ContractData",$C20,"PerCentNetLastTrade",, "T")/100,"") -> -0.015841365 | X20: =RTD("cqg.rtd", ,"ContractData",$C20,$J$2,, "T") -> 90.09 | Y20: =RTD("cqg.rtd", ,"ContractData",$C20,$K$2,, "T") -> 90.48 | Z20: =RTD("cqg.rtd", ,"ContractData",$C20,$L$2,, "T") -> 88.15 | AA20: =Data!W6 -> -0.19962378
C21: =Data!J7 -> S.NFLX | D21: =PROPER(RTD("cqg.rtd", ,"ContractData",C21, "LongDescription",, "T")) -> Netflix, Inc. | G21: =RTD("cqg.rtd", ,"ContractData",$C21,$G$2,, "T") -> 71.79 | H21: =RTD("cqg.rtd", ,"ContractData",$C21,$H$2,, "T") -> -3.52 | I21: =IFERROR(RTD("cqg.rtd", ,"ContractData",$C21,"PerCentNetLastTrade",, "T")/100,"") -> -0.046740141 | J21: =RTD("cqg.rtd", ,"ContractData",$C21,$J$2,, "T") -> 71.27 | K21: =RTD("cqg.rtd", ,"ContractData",$C21,$K$2,, "T") -> 72.38 | L21: =RTD("cqg.rtd", ,"ContractData",$C21,$L$2,, "T") -> 70.11 | M21: =Data!K7 -> -0.07248062 | Q21: =Data!V7 -> S.INTC | R21: =PROPER(RTD("cqg.rtd", ,"ContractData",Q21, "LongDescription",, "T")) -> Intel Corp | U21: =RTD("cqg.rtd", ,"ContractData",$C21,$G$2,, "T") -> 71.79 | V21: =RTD("cqg.rtd", ,"ContractData",$C21,$H$2,, "T") -> -3.52 | W21: =IFERROR(RTD("cqg.rtd", ,"ContractData",$C21,"PerCentNetLastTrade",, "T")/100,"") -> -0.046740141 | X21: =RTD("cqg.rtd", ,"ContractData",$C21,$J$2,, "T") -> 71.27 | Y21: =RTD("cqg.rtd", ,"ContractData",$C21,$K$2,, "T") -> 72.38 | Z21: =RTD("cqg.rtd", ,"ContractData",$C21,$L$2,, "T") -> 70.11 | AA21: =Data!W7 -> -0.22223018
C22: =Data!J8 -> S.TMUS | D22: =PROPER(RTD("cqg.rtd", ,"ContractData",C22, "LongDescription",, "T")) -> T-Mobile Us Cmn | G22: =RTD("cqg.rtd", ,"ContractData",$C22,$G$2,, "T") -> 168.18 | H22: =RTD("cqg.rtd", ,"ContractData",$C22,$H$2,, "T") -> 1.73 | I22: =IFERROR(RTD("cqg.rtd", ,"ContractData",$C22,"PerCentNetLastTrade",, "T")/100,"") -> 0.010393512 | J22: =RTD("cqg.rtd", ,"ContractData",$C22,$J$2,, "T") -> 164.75 | K22: =RTD("cqg.rtd", ,"ContractData",$C22,$K$2,, "T") -> 169.49 | L22: =RTD("cqg.rtd", ,"ContractData",$C22,$L$2,, "T") -> 164.02 | M22: =Data!K8 -> -0.077606538 | Q22: =Data!V8 -> S.CAT | R22: =PROPER(RTD("cqg.rtd", ,"ContractData",Q22, "LongDescription",, "T")) -> Caterpillar Inc | U22: =RTD("cqg.rtd", ,"ContractData",$C22,$G$2,, "T") -> 168.18 | V22: =RTD("cqg.rtd", ,"ContractData",$C22,$H$2,, "T") -> 1.73 | W22: =IFERROR(RTD("cqg.rtd", ,"ContractData",$C22,"PerCentNetLastTrade",, "T")/100,"") -> 0.010393512 | X22: =RTD("cqg.rtd", ,"ContractData",$C22,$J$2,, "T") -> 164.75 | Y22: =RTD("cqg.rtd", ,"ContractData",$C22,$K$2,, "T") -> 169.49 | Z22: =RTD("cqg.rtd", ,"ContractData",$C22,$L$2,, "T") -> 164.02 | AA22: =Data!W8 -> -0.24031364
C23: =Data!J9 -> S.BAC | D23: =PROPER(RTD("cqg.rtd", ,"ContractData",C23, "LongDescription",, "T")) -> Bank Of America Corp | G23: =RTD("cqg.rtd", ,"ContractData",$C23,$G$2,, "T") -> 57.73 | H23: =RTD("cqg.rtd", ,"ContractData",$C23,$H$2,, "T") -> -0.45 | I23: =IFERROR(RTD("cqg.rtd", ,"ContractData",$C23,"PerCentNetLastTrade",, "T")/100,"") -> -0.0077346167 | J23: =RTD("cqg.rtd", ,"ContractData",$C23,$J$2,, "T") -> 57.52 | K23: =RTD("cqg.rtd", ,"ContractData",$C23,$K$2,, "T") -> 58.23 | L23: =RTD("cqg.rtd", ,"ContractData",$C23,$L$2,, "T") -> 57.52 | M23: =Data!K9 -> -0.079119477 | Q23: =Data!V9 -> S.HONA | R23: =PROPER(RTD("cqg.rtd", ,"ContractData",Q23, "LongDescription",, "T")) -> Honeywell Aerospace Inc | U23: =RTD("cqg.rtd", ,"ContractData",$C23,$G$2,, "T") -> 57.73 | V23: =RTD("cqg.rtd", ,"ContractData",$C23,$H$2,, "T") -> -0.45 | W23: =IFERROR(RTD("cqg.rtd", ,"ContractData",$C23,"PerCentNetLastTrade",, "T")/100,"") -> -0.0077346167 | X23: =RTD("cqg.rtd", ,"ContractData",$C23,$J$2,, "T") -> 57.52 | Y23: =RTD("cqg.rtd", ,"ContractData",$C23,$K$2,, "T") -> 58.23 | Z23: =RTD("cqg.rtd", ,"ContractData",$C23,$L$2,, "T") -> 57.52 | AA23: =Data!W9 -> -0.25999638
C24: =Data!J10 -> S.GS | D24: =PROPER(RTD("cqg.rtd", ,"ContractData",C24, "LongDescription",, "T")) -> Goldman Sachs Group | G24: =RTD("cqg.rtd", ,"ContractData",$C24,$G$2,, "T") -> 942 | H24: =RTD("cqg.rtd", ,"ContractData",$C24,$H$2,, "T") -> -9.47 | I24: =IFERROR(RTD("cqg.rtd", ,"ContractData",$C24,"PerCentNetLastTrade",, "T")/100,"") -> -0.0099530201 | J24: =RTD("cqg.rtd", ,"ContractData",$C24,$J$2,, "T") -> 948.96 | K24: =RTD("cqg.rtd", ,"ContractData",$C24,$K$2,, "T") -> 952.99 | L24: =RTD("cqg.rtd", ,"ContractData",$C24,$L$2,, "T") -> 939.55 | M24: =Data!K10 -> -0.084708214 | Q24: =Data!V10 -> S.LRCX | R24: =PROPER(RTD("cqg.rtd", ,"ContractData",Q24, "LongDescription",, "T")) -> Lam Research Corp | U24: =RTD("cqg.rtd", ,"ContractData",$C24,$G$2,, "T") -> 942 | V24: =RTD("cqg.rtd", ,"ContractData",$C24,$H$2,, "T") -> -9.47 | W24: =IFERROR(RTD("cqg.rtd", ,"ContractData",$C24,"PerCentNetLastTrade",, "T")/100,"") -> -0.0099530201 | X24: =RTD("cqg.rtd", ,"ContractData",$C24,$J$2,, "T") -> 948.96 | Y24: =RTD("cqg.rtd", ,"ContractData",$C24,$K$2,, "T") -> 952.99 | Z24: =RTD("cqg.rtd", ,"ContractData",$C24,$L$2,, "T") -> 939.55 | AA24: =Data!W10 -> -0.33512565
C25: =Data!J11 -> S.CMCSA | D25: =PROPER(RTD("cqg.rtd", ,"ContractData",C25, "LongDescription",, "T")) -> Comcast Corp A | G25: =RTD("cqg.rtd", ,"ContractData",$C25,$G$2,, "T") -> 22.74 | H25: =RTD("cqg.rtd", ,"ContractData",$C25,$H$2,, "T") -> -0.17 | I25: =IFERROR(RTD("cqg.rtd", ,"ContractData",$C25,"PerCentNetLastTrade",, "T")/100,"") -> -0.0074203405 | J25: =RTD("cqg.rtd", ,"ContractData",$C25,$J$2,, "T") -> 22.66 | K25: =RTD("cqg.rtd", ,"ContractData",$C25,$K$2,, "T") -> 22.9 | L25: =RTD("cqg.rtd", ,"ContractData",$C25,$L$2,, "T") -> 22.36 | M25: =Data!K11 -> -0.097619048 | Q25: =Data!V11 -> S.AMAT | R25: =PROPER(RTD("cqg.rtd", ,"ContractData",Q25, "LongDescription",, "T")) -> Applied Materials | U25: =RTD("cqg.rtd", ,"ContractData",$C25,$G$2,, "T") -> 22.74 | V25: =RTD("cqg.rtd", ,"ContractData",$C25,$H$2,, "T") -> -0.17 | W25: =IFERROR(RTD("cqg.rtd", ,"ContractData",$C25,"PerCentNetLastTrade",, "T")/100,"") -> -0.0074203405 | X25: =RTD("cqg.rtd", ,"ContractData",$C25,$J$2,, "T") -> 22.66 | Y25: =RTD("cqg.rtd", ,"ContractData",$C25,$K$2,, "T") -> 22.9 | Z25: =RTD("cqg.rtd", ,"ContractData",$C25,$L$2,, "T") -> 22.36 | AA25: =Data!W11 -> -0.38510373
C28: Symbol | D28: Description | G28: Last | H28: NC | I28: %NC | J28: Open | K28: High | L28: Low | M28: Monthly | Q28: Symbol | R28: Description | U28: Last | V28: NC | W28: %NC | X28: Open | Y28: High | Z28: Low | AA28: Annual
B29: Top Ten | C29: =Data!M2 -> S.INTC | D29: =PROPER(RTD("cqg.rtd", ,"ContractData",C29, "LongDescription",, "T")) -> Intel Corp | G29: =RTD("cqg.rtd", ,"ContractData",$C29,$G$2,, "T") -> 108.6 | H29: =RTD("cqg.rtd", ,"ContractData",$C29,$H$2,, "T") -> -0.2 | I29: =IFERROR(RTD("cqg.rtd", ,"ContractData",$C29,"PerCentNetLastTrade",, "T")/100,"") -> -0.0018382353 | J29: =RTD("cqg.rtd", ,"ContractData",$C29,$J$2,, "T") -> 109.79 | K29: =RTD("cqg.rtd", ,"ContractData",$C29,$K$2,, "T") -> 110.49 | L29: =RTD("cqg.rtd", ,"ContractData",$C29,$L$2,, "T") -> 106.4 | M29: =Data!N2 -> 0.21327226 | N29: Top Ten | P29: Top Ten | Q29: =Data!Y2 -> S.MU | R29: =PROPER(RTD("cqg.rtd", ,"ContractData",Q29, "LongDescription",, "T")) -> Micron Technology | U29: =RTD("cqg.rtd", ,"ContractData",$C29,$G$2,, "T") -> 108.6 | V29: =RTD("cqg.rtd", ,"ContractData",$C29,$H$2,, "T") -> -0.2 | W29: =IFERROR(RTD("cqg.rtd", ,"ContractData",$C29,"PerCentNetLastTrade",, "T")/100,"") -> -0.0018382353 | X29: =RTD("cqg.rtd", ,"ContractData",$C29,$J$2,, "T") -> 109.79 | Y29: =RTD("cqg.rtd", ,"ContractData",$C29,$K$2,, "T") -> 110.49 | Z29: =RTD("cqg.rtd", ,"ContractData",$C29,$L$2,, "T") -> 106.4 | AA29: =Data!Z2 -> 2.5590904 | AB29: Top Ten
C30: =Data!M3 -> S.AMD | D30: =PROPER(RTD("cqg.rtd", ,"ContractData",C30, "LongDescription",, "T")) -> Adv Micro Devices | G30: =RTD("cqg.rtd", ,"ContractData",$C30,$G$2,, "T") -> 559.82 | H30: =RTD("cqg.rtd", ,"ContractData",$C30,$H$2,, "T") -> 14.73 | I30: =IFERROR(RTD("cqg.rtd", ,"ContractData",$C30,"PerCentNetLastTrade",, "T")/100,"") -> 0.02702306 | J30: =RTD("cqg.rtd", ,"ContractData",$C30,$J$2,, "T") -> 547.37 | K30: =RTD("cqg.rtd", ,"ContractData",$C30,$K$2,, "T") -> 559.91 | L30: =RTD("cqg.rtd", ,"ContractData",$C30,$L$2,, "T") -> 541.53 | M30: =Data!N3 -> 0.1892845 | Q30: =Data!Y3 -> S.INTC | R30: =PROPER(RTD("cqg.rtd", ,"ContractData",Q30, "LongDescription",, "T")) -> Intel Corp | U30: =RTD("cqg.rtd", ,"ContractData",$C30,$G$2,, "T") -> 559.82 | V30: =RTD("cqg.rtd", ,"ContractData",$C30,$H$2,, "T") -> 14.73 | W30: =IFERROR(RTD("cqg.rtd", ,"ContractData",$C30,"PerCentNetLastTrade",, "T")/100,"") -> 0.02702306 | X30: =RTD("cqg.rtd", ,"ContractData",$C30,$J$2,, "T") -> 547.37 | Y30: =RTD("cqg.rtd", ,"ContractData",$C30,$K$2,, "T") -> 559.91 | Z30: =RTD("cqg.rtd", ,"ContractData",$C30,$L$2,, "T") -> 541.53 | AA30: =Data!Z3 -> 1.9430894
C31: =Data!M4 -> S.META | D31: =PROPER(RTD("cqg.rtd", ,"ContractData",C31, "LongDescription",, "T")) -> Meta Platforms, Inc. | G31: =RTD("cqg.rtd", ,"ContractData",$C31,$G$2,, "T") -> 665.75 | H31: =RTD("cqg.rtd", ,"ContractData",$C31,$H$2,, "T") -> -16.56 | I31: =IFERROR(RTD("cqg.rtd", ,"ContractData",$C31,"PerCentNetLastTrade",, "T")/100,"") -> -0.024270493 | J31: =RTD("cqg.rtd", ,"ContractData",$C31,$J$2,, "T") -> 688.62 | K31: =RTD("cqg.rtd", ,"ContractData",$C31,$K$2,, "T") -> 690.15 | L31: =RTD("cqg.rtd", ,"ContractData",$C31,$L$2,, "T") -> 660.8 | M31: =Data!N4 -> 0.16320718 | Q31: =Data!Y4 -> S.HONA | R31: =PROPER(RTD("cqg.rtd", ,"ContractData",Q31, "LongDescription",, "T")) -> Honeywell Aerospace Inc | U31: =RTD("cqg.rtd", ,"ContractData",$C31,$G$2,, "T") -> 665.75 | V31: =RTD("cqg.rtd", ,"ContractData",$C31,$H$2,, "T") -> -16.56 | W31: =IFERROR(RTD("cqg.rtd", ,"ContractData",$C31,"PerCentNetLastTrade",, "T")/100,"") -> -0.024270493 | X31: =RTD("cqg.rtd", ,"ContractData",$C31,$J$2,, "T") -> 688.62 | Y31: =RTD("cqg.rtd", ,"ContractData",$C31,$K$2,, "T") -> 690.15 | Z31: =RTD("cqg.rtd", ,"ContractData",$C31,$L$2,, "T") -> 660.8 | AA31: =Data!Z4 -> 1.636
C32: =Data!M5 -> S.AAPL | D32: =PROPER(RTD("cqg.rtd", ,"ContractData",C32, "LongDescription",, "T")) -> Apple Inc. | G32: =RTD("cqg.rtd", ,"ContractData",$C32,$G$2,, "T") -> 336.13 | H32: =RTD("cqg.rtd", ,"ContractData",$C32,$H$2,, "T") -> -0.87 | I32: =IFERROR(RTD("cqg.rtd", ,"ContractData",$C32,"PerCentNetLastTrade",, "T")/100,"") -> -0.0025816024 | J32: =RTD("cqg.rtd", ,"ContractData",$C32,$J$2,, "T") -> 337.9 | K32: =RTD("cqg.rtd", ,"ContractData",$C32,$K$2,, "T") -> 338.49 | L32: =RTD("cqg.rtd", ,"ContractData",$C32,$L$2,, "T") -> 332.53 | M32: =Data!N5 -> 0.060848982 | Q32: =Data!Y5 -> S.AMD | R32: =PROPER(RTD("cqg.rtd", ,"ContractData",Q32, "LongDescription",, "T")) -> Adv Micro Devices | U32: =RTD("cqg.rtd", ,"ContractData",$C32,$G$2,, "T") -> 336.13 | V32: =RTD("cqg.rtd", ,"ContractData",$C32,$H$2,, "T") -> -0.87 | W32: =IFERROR(RTD("cqg.rtd", ,"ContractData",$C32,"PerCentNetLastTrade",, "T")/100,"") -> -0.0025816024 | X32: =RTD("cqg.rtd", ,"ContractData",$C32,$J$2,, "T") -> 337.9 | Y32: =RTD("cqg.rtd", ,"ContractData",$C32,$K$2,, "T") -> 338.49 | Z32: =RTD("cqg.rtd", ,"ContractData",$C32,$L$2,, "T") -> 332.53 | AA32: =Data!Z5 -> 1.6140269
C33: =Data!M6 -> S.MU | D33: =PROPER(RTD("cqg.rtd", ,"ContractData",C33, "LongDescription",, "T")) -> Micron Technology | G33: =RTD("cqg.rtd", ,"ContractData",$C33,$G$2,, "T") -> 1015.8 | H33: =RTD("cqg.rtd", ,"ContractData",$C33,$H$2,, "T") -> 38.3 | I33: =IFERROR(RTD("cqg.rtd", ,"ContractData",$C33,"PerCentNetLastTrade",, "T")/100,"") -> 0.039181586 | J33: =RTD("cqg.rtd", ,"ContractData",$C33,$J$2,, "T") -> 984.71 | K33: =RTD("cqg.rtd", ,"ContractData",$C33,$K$2,, "T") -> 1016.44 | L33: =RTD("cqg.rtd", ,"ContractData",$C33,$L$2,, "T") -> 977.83 | M33: =Data!N6 -> 0.059526665 | Q33: =Data!Y6 -> S.PANW | R33: =PROPER(RTD("cqg.rtd", ,"ContractData",Q33, "LongDescription",, "T")) -> Palo Alto Ntwks Cm | U33: =RTD("cqg.rtd", ,"ContractData",$C33,$G$2,, "T") -> 1015.8 | V33: =RTD("cqg.rtd", ,"ContractData",$C33,$H$2,, "T") -> 38.3 | W33: =IFERROR(RTD("cqg.rtd", ,"ContractData",$C33,"PerCentNetLastTrade",, "T")/100,"") -> 0.039181586 | X33: =RTD("cqg.rtd", ,"ContractData",$C33,$J$2,, "T") -> 984.71 | Y33: =RTD("cqg.rtd", ,"ContractData",$C33,$K$2,, "T") -> 1016.44 | Z33: =RTD("cqg.rtd", ,"ContractData",$C33,$L$2,, "T") -> 977.83 | AA33: =Data!Z6 -> 0.97383279
C34: =Data!M7 -> S.TMO | D34: =PROPER(RTD("cqg.rtd", ,"ContractData",C34, "LongDescription",, "T")) -> Thermo Electron Corp | G34: =RTD("cqg.rtd", ,"ContractData",$C34,$G$2,, "T") -> 651.45 | H34: =RTD("cqg.rtd", ,"ContractData",$C34,$H$2,, "T") -> -6.87 | I34: =IFERROR(RTD("cqg.rtd", ,"ContractData",$C34,"PerCentNetLastTrade",, "T")/100,"") -> -0.010435654 | J34: =RTD("cqg.rtd", ,"ContractData",$C34,$J$2,, "T") -> 656.61 | K34: =RTD("cqg.rtd", ,"ContractData",$C34,$K$2,, "T") -> 660.1 | L34: =RTD("cqg.rtd", ,"ContractData",$C34,$L$2,, "T") -> 646.8 | M34: =Data!N7 -> 0.055663588 | Q34: =Data!Y7 -> S.AMAT | R34: =PROPER(RTD("cqg.rtd", ,"ContractData",Q34, "LongDescription",, "T")) -> Applied Materials | U34: =RTD("cqg.rtd", ,"ContractData",$C34,$G$2,, "T") -> 651.45 | V34: =RTD("cqg.rtd", ,"ContractData",$C34,$H$2,, "T") -> -6.87 | W34: =IFERROR(RTD("cqg.rtd", ,"ContractData",$C34,"PerCentNetLastTrade",, "T")/100,"") -> -0.010435654 | X34: =RTD("cqg.rtd", ,"ContractData",$C34,$J$2,, "T") -> 656.61 | Y34: =RTD("cqg.rtd", ,"ContractData",$C34,$K$2,, "T") -> 660.1 | Z34: =RTD("cqg.rtd", ,"ContractData",$C34,$L$2,, "T") -> 646.8 | AA34: =Data!Z7 -> 0.72991167
C35: =Data!M8 -> S.GEV | D35: =PROPER(RTD("cqg.rtd", ,"ContractData",C35, "LongDescription",, "T")) -> Ge Vernova Inc. | G35: =RTD("cqg.rtd", ,"ContractData",$C35,$G$2,, "T") -> 940.33 | H35: =RTD("cqg.rtd", ,"ContractData",$C35,$H$2,, "T") -> 15.4 | I35: =IFERROR(RTD("cqg.rtd", ,"ContractData",$C35,"PerCentNetLastTrade",, "T")/100,"") -> 0.016649909 | J35: =RTD("cqg.rtd", ,"ContractData",$C35,$J$2,, "T") -> 934.97 | K35: =RTD("cqg.rtd", ,"ContractData",$C35,$K$2,, "T") -> 949.51 | L35: =RTD("cqg.rtd", ,"ContractData",$C35,$L$2,, "T") -> 926.2 | M35: =Data!N8 -> 0.046520428 | Q35: =Data!Y8 -> S.LRCX | R35: =PROPER(RTD("cqg.rtd", ,"ContractData",Q35, "LongDescription",, "T")) -> Lam Research Corp | U35: =RTD("cqg.rtd", ,"ContractData",$C35,$G$2,, "T") -> 940.33 | V35: =RTD("cqg.rtd", ,"ContractData",$C35,$H$2,, "T") -> 15.4 | W35: =IFERROR(RTD("cqg.rtd", ,"ContractData",$C35,"PerCentNetLastTrade",, "T")/100,"") -> 0.016649909 | X35: =RTD("cqg.rtd", ,"ContractData",$C35,$J$2,, "T") -> 934.97 | Y35: =RTD("cqg.rtd", ,"ContractData",$C35,$K$2,, "T") -> 949.51 | Z35: =RTD("cqg.rtd", ,"ContractData",$C35,$L$2,, "T") -> 926.2 | AA35: =Data!Z8 -> 0.68308214
C36: =Data!M9 -> S.DE | D36: =PROPER(RTD("cqg.rtd", ,"ContractData",C36, "LongDescription",, "T")) -> Deere & Company | G36: =RTD("cqg.rtd", ,"ContractData",$C36,$G$2,, "T") -> 683.99 | H36: =RTD("cqg.rtd", ,"ContractData",$C36,$H$2,, "T") -> -1.64 | I36: =IFERROR(RTD("cqg.rtd", ,"ContractData",$C36,"PerCentNetLastTrade",, "T")/100,"") -> -0.0023919607 | J36: =RTD("cqg.rtd", ,"ContractData",$C36,$J$2,, "T") -> 684.76 | K36: =RTD("cqg.rtd", ,"ContractData",$C36,$K$2,, "T") -> 688 | L36: =RTD("cqg.rtd", ,"ContractData",$C36,$L$2,, "T") -> 679.63 | M36: =Data!N9 -> 0.044403048 | Q36: =Data!Y9 -> S.TXN | R36: =PROPER(RTD("cqg.rtd", ,"ContractData",Q36, "LongDescription",, "T")) -> Texas Instruments | U36: =RTD("cqg.rtd", ,"ContractData",$C36,$G$2,, "T") -> 683.99 | V36: =RTD("cqg.rtd", ,"ContractData",$C36,$H$2,, "T") -> -1.64 | W36: =IFERROR(RTD("cqg.rtd", ,"ContractData",$C36,"PerCentNetLastTrade",, "T")/100,"") -> -0.0023919607 | X36: =RTD("cqg.rtd", ,"ContractData",$C36,$J$2,, "T") -> 684.76 | Y36: =RTD("cqg.rtd", ,"ContractData",$C36,$K$2,, "T") -> 688 | Z36: =RTD("cqg.rtd", ,"ContractData",$C36,$L$2,, "T") -> 679.63 | AA36: =Data!Z9 -> 0.53691855
C37: =Data!M10 -> S.ISRG | D37: =PROPER(RTD("cqg.rtd", ,"ContractData",C37, "LongDescription",, "T")) -> Intuitive Surg, Inc. | G37: =RTD("cqg.rtd", ,"ContractData",$C37,$G$2,, "T") -> 393.33 | H37: =RTD("cqg.rtd", ,"ContractData",$C37,$H$2,, "T") -> 9.79 | I37: =IFERROR(RTD("cqg.rtd", ,"ContractData",$C37,"PerCentNetLastTrade",, "T")/100,"") -> 0.025525369 | J37: =RTD("cqg.rtd", ,"ContractData",$C37,$J$2,, "T") -> 381.51 | K37: =RTD("cqg.rtd", ,"ContractData",$C37,$K$2,, "T") -> 394.91 | L37: =RTD("cqg.rtd", ,"ContractData",$C37,$L$2,, "T") -> 379.5 | M37: =Data!N10 -> 0.043703232 | Q37: =Data!Y10 -> S.DE | R37: =PROPER(RTD("cqg.rtd", ,"ContractData",Q37, "LongDescription",, "T")) -> Deere & Company | U37: =RTD("cqg.rtd", ,"ContractData",$C37,$G$2,, "T") -> 393.33 | V37: =RTD("cqg.rtd", ,"ContractData",$C37,$H$2,, "T") -> 9.79 | W37: =IFERROR(RTD("cqg.rtd", ,"ContractData",$C37,"PerCentNetLastTrade",, "T")/100,"") -> 0.025525369 | X37: =RTD("cqg.rtd", ,"ContractData",$C37,$J$2,, "T") -> 381.51 | Y37: =RTD("cqg.rtd", ,"ContractData",$C37,$K$2,, "T") -> 394.91 | Z37: =RTD("cqg.rtd", ,"ContractData",$C37,$L$2,, "T") -> 379.5 | AA37: =Data!Z10 -> 0.46914535
C38: =Data!M11 -> S.QCOM | D38: =PROPER(RTD("cqg.rtd", ,"ContractData",C38, "LongDescription",, "T")) -> Qualcomm Inc | G38: =RTD("cqg.rtd", ,"ContractData",$C38,$G$2,, "T") -> 177.72 | H38: =RTD("cqg.rtd", ,"ContractData",$C38,$H$2,, "T") -> -10.99 | I38: =IFERROR(RTD("cqg.rtd", ,"ContractData",$C38,"PerCentNetLastTrade",, "T")/100,"") -> -0.058237507 | J38: =RTD("cqg.rtd", ,"ContractData",$C38,$J$2,, "T") -> 191.34 | K38: =RTD("cqg.rtd", ,"ContractData",$C38,$K$2,, "T") -> 192.12 | L38: =RTD("cqg.rtd", ,"ContractData",$C38,$L$2,, "T") -> 175.97 | M38: =Data!N11 -> 0.042468325 | Q38: =Data!Y11 -> S.GEV | R38: =PROPER(RTD("cqg.rtd", ,"ContractData",Q38, "LongDescription",, "T")) -> Ge Vernova Inc. | U38: =RTD("cqg.rtd", ,"ContractData",$C38,$G$2,, "T") -> 177.72 | V38: =RTD("cqg.rtd", ,"ContractData",$C38,$H$2,, "T") -> -10.99 | W38: =IFERROR(RTD("cqg.rtd", ,"ContractData",$C38,"PerCentNetLastTrade",, "T")/100,"") -> -0.058237507 | X38: =RTD("cqg.rtd", ,"ContractData",$C38,$J$2,, "T") -> 191.34 | Y38: =RTD("cqg.rtd", ,"ContractData",$C38,$K$2,, "T") -> 192.12 | Z38: =RTD("cqg.rtd", ,"ContractData",$C38,$L$2,, "T") -> 175.97 | AA38: =Data!Z11 -> 0.43875943
C41: Symbol | D41: Description | G41: Last | H41: NC | I41: %NC | J41: Open | K41: High | L41: Low | M41: Monthly | Q41: Symbol | R41: Description | U41: Last | V41: NC | W41: %NC | X41: Open | Y41: High | Z41: Low | AA41: Annual
B42: Bottom Ten | C42: =Data!P2 -> S.GS | D42: =PROPER(RTD("cqg.rtd", ,"ContractData",C42, "LongDescription",, "T")) -> Goldman Sachs Group | G42: =RTD("cqg.rtd", ,"ContractData",$C42,$G$2,, "T") -> 942 | H42: =RTD("cqg.rtd", ,"ContractData",$C42,$H$2,, "T") -> -9.47 | I42: =IFERROR(RTD("cqg.rtd", ,"ContractData",$C42,"PerCentNetLastTrade",, "T")/100,"") -> -0.0099530201 | J42: =RTD("cqg.rtd", ,"ContractData",$C42,$J$2,, "T") -> 948.96 | K42: =RTD("cqg.rtd", ,"ContractData",$C42,$K$2,, "T") -> 952.99 | L42: =RTD("cqg.rtd", ,"ContractData",$C42,$L$2,, "T") -> 939.55 | M42: =Data!Q2 -> -0.08178185 | N42: Bottom Ten | P42: Bottom Ten | Q42: =Data!AB2 -> S.LOW | R42: =PROPER(RTD("cqg.rtd", ,"ContractData",Q42, "LongDescription",, "T")) -> Lowes Companies Inc | U42: =RTD("cqg.rtd", ,"ContractData",$C42,$G$2,, "T") -> 942 | V42: =RTD("cqg.rtd", ,"ContractData",$C42,$H$2,, "T") -> -9.47 | W42: =IFERROR(RTD("cqg.rtd", ,"ContractData",$C42,"PerCentNetLastTrade",, "T")/100,"") -> -0.0099530201 | X42: =RTD("cqg.rtd", ,"ContractData",$C42,$J$2,, "T") -> 948.96 | Y42: =RTD("cqg.rtd", ,"ContractData",$C42,$K$2,, "T") -> 952.99 | Z42: =RTD("cqg.rtd", ,"ContractData",$C42,$L$2,, "T") -> 939.55 | AA42: =Data!AC2 -> -0.20181622 | AB42: Bottom Ten
C43: =Data!P3 -> S.NOW | D43: =PROPER(RTD("cqg.rtd", ,"ContractData",C43, "LongDescription",, "T")) -> Servicenow, Inc. | G43: =RTD("cqg.rtd", ,"ContractData",$C43,$G$2,, "T") -> 135.47 | H43: =RTD("cqg.rtd", ,"ContractData",$C43,$H$2,, "T") -> -3 | I43: =IFERROR(RTD("cqg.rtd", ,"ContractData",$C43,"PerCentNetLastTrade",, "T")/100,"") -> -0.021665343 | J43: =RTD("cqg.rtd", ,"ContractData",$C43,$J$2,, "T") -> 139.71 | K43: =RTD("cqg.rtd", ,"ContractData",$C43,$K$2,, "T") -> 139.94 | L43: =RTD("cqg.rtd", ,"ContractData",$C43,$L$2,, "T") -> 135.07 | M43: =Data!Q3 -> -0.084600311 | Q43: =Data!AB3 -> S.BKNG | R43: =PROPER(RTD("cqg.rtd", ,"ContractData",Q43, "LongDescription",, "T")) -> Booking Holdings Inc | U43: =RTD("cqg.rtd", ,"ContractData",$C43,$G$2,, "T") -> 135.47 | V43: =RTD("cqg.rtd", ,"ContractData",$C43,$H$2,, "T") -> -3 | W43: =IFERROR(RTD("cqg.rtd", ,"ContractData",$C43,"PerCentNetLastTrade",, "T")/100,"") -> -0.021665343 | X43: =RTD("cqg.rtd", ,"ContractData",$C43,$J$2,, "T") -> 139.71 | Y43: =RTD("cqg.rtd", ,"ContractData",$C43,$K$2,, "T") -> 139.94 | Z43: =RTD("cqg.rtd", ,"ContractData",$C43,$L$2,, "T") -> 135.07 | AA43: =Data!AC3 -> -0.21618972
C44: =Data!P4 -> S.HD | D44: =PROPER(RTD("cqg.rtd", ,"ContractData",C44, "LongDescription",, "T")) -> Home Depot, Inc. | G44: =RTD("cqg.rtd", ,"ContractData",$C44,$G$2,, "T") -> 299.98 | H44: =RTD("cqg.rtd", ,"ContractData",$C44,$H$2,, "T") -> -2.53 | I44: =IFERROR(RTD("cqg.rtd", ,"ContractData",$C44,"PerCentNetLastTrade",, "T")/100,"") -> -0.0083633599 | J44: =RTD("cqg.rtd", ,"ContractData",$C44,$J$2,, "T") -> 298.68 | K44: =RTD("cqg.rtd", ,"ContractData",$C44,$K$2,, "T") -> 302.24 | L44: =RTD("cqg.rtd", ,"ContractData",$C44,$L$2,, "T") -> 298.25 | M44: =Data!Q4 -> -0.084952567 | Q44: =Data!AB4 -> S.IBM | R44: =PROPER(RTD("cqg.rtd", ,"ContractData",Q44, "LongDescription",, "T")) -> International Business Machines | U44: =RTD("cqg.rtd", ,"ContractData",$C44,$G$2,, "T") -> 299.98 | V44: =RTD("cqg.rtd", ,"ContractData",$C44,$H$2,, "T") -> -2.53 | W44: =IFERROR(RTD("cqg.rtd", ,"ContractData",$C44,"PerCentNetLastTrade",, "T")/100,"") -> -0.0083633599 | X44: =RTD("cqg.rtd", ,"ContractData",$C44,$J$2,, "T") -> 298.68 | Y44: =RTD("cqg.rtd", ,"ContractData",$C44,$K$2,, "T") -> 302.24 | Z44: =RTD("cqg.rtd", ,"ContractData",$C44,$L$2,, "T") -> 298.25 | AA44: =Data!AC4 -> -0.22504304
C45: =Data!P5 -> S.SBUX | D45: =PROPER(RTD("cqg.rtd", ,"ContractData",C45, "LongDescription",, "T")) -> Starbucks Corp | G45: =RTD("cqg.rtd", ,"ContractData",$C45,$G$2,, "T") -> 95.83 | H45: =RTD("cqg.rtd", ,"ContractData",$C45,$H$2,, "T") -> -0.84 | I45: =IFERROR(RTD("cqg.rtd", ,"ContractData",$C45,"PerCentNetLastTrade",, "T")/100,"") -> -0.0086893555 | J45: =RTD("cqg.rtd", ,"ContractData",$C45,$J$2,, "T") -> 96.4 | K45: =RTD("cqg.rtd", ,"ContractData",$C45,$K$2,, "T") -> 96.56 | L45: =RTD("cqg.rtd", ,"ContractData",$C45,$L$2,, "T") -> 95.11 | M45: =Data!Q5 -> -0.098070588 | Q45: =Data!AB5 -> S.NFLX | R45: =PROPER(RTD("cqg.rtd", ,"ContractData",Q45, "LongDescription",, "T")) -> Netflix, Inc. | U45: =RTD("cqg.rtd", ,"ContractData",$C45,$G$2,, "T") -> 95.83 | V45: =RTD("cqg.rtd", ,"ContractData",$C45,$H$2,, "T") -> -0.84 | W45: =IFERROR(RTD("cqg.rtd", ,"ContractData",$C45,"PerCentNetLastTrade",, "T")/100,"") -> -0.0086893555 | X45: =RTD("cqg.rtd", ,"ContractData",$C45,$J$2,, "T") -> 96.4 | Y45: =RTD("cqg.rtd", ,"ContractData",$C45,$K$2,, "T") -> 96.56 | Z45: =RTD("cqg.rtd", ,"ContractData",$C45,$L$2,, "T") -> 95.11 | AA45: =Data!AC5 -> -0.23432167
C46: =Data!P6 -> S.AMGN | D46: =PROPER(RTD("cqg.rtd", ,"ContractData",C46, "LongDescription",, "T")) -> Amgen | G46: =RTD("cqg.rtd", ,"ContractData",$C46,$G$2,, "T") -> 385.65 | H46: =RTD("cqg.rtd", ,"ContractData",$C46,$H$2,, "T") -> 5.87 | I46: =IFERROR(RTD("cqg.rtd", ,"ContractData",$C46,"PerCentNetLastTrade",, "T")/100,"") -> 0.015456317 | J46: =RTD("cqg.rtd", ,"ContractData",$C46,$J$2,, "T") -> 378.51 | K46: =RTD("cqg.rtd", ,"ContractData",$C46,$K$2,, "T") -> 386.5 | L46: =RTD("cqg.rtd", ,"ContractData",$C46,$L$2,, "T") -> 378.51 | M46: =Data!Q6 -> -0.10288918 | Q46: =Data!AB6 -> S.CMCSA | R46: =PROPER(RTD("cqg.rtd", ,"ContractData",Q46, "LongDescription",, "T")) -> Comcast Corp A | U46: =RTD("cqg.rtd", ,"ContractData",$C46,$G$2,, "T") -> 385.65 | V46: =RTD("cqg.rtd", ,"ContractData",$C46,$H$2,, "T") -> 5.87 | W46: =IFERROR(RTD("cqg.rtd", ,"ContractData",$C46,"PerCentNetLastTrade",, "T")/100,"") -> 0.015456317 | X46: =RTD("cqg.rtd", ,"ContractData",$C46,$J$2,, "T") -> 378.51 | Y46: =RTD("cqg.rtd", ,"ContractData",$C46,$K$2,, "T") -> 386.5 | Z46: =RTD("cqg.rtd", ,"ContractData",$C46,$L$2,, "T") -> 378.51 | AA46: =Data!AC6 -> -0.23921044
C47: =Data!P7 -> S.NFLX | D47: =PROPER(RTD("cqg.rtd", ,"ContractData",C47, "LongDescription",, "T")) -> Netflix, Inc. | G47: =RTD("cqg.rtd", ,"ContractData",$C47,$G$2,, "T") -> 71.79 | H47: =RTD("cqg.rtd", ,"ContractData",$C47,$H$2,, "T") -> -3.52 | I47: =IFERROR(RTD("cqg.rtd", ,"ContractData",$C47,"PerCentNetLastTrade",, "T")/100,"") -> -0.046740141 | J47: =RTD("cqg.rtd", ,"ContractData",$C47,$J$2,, "T") -> 71.27 | K47: =RTD("cqg.rtd", ,"ContractData",$C47,$K$2,, "T") -> 72.38 | L47: =RTD("cqg.rtd", ,"ContractData",$C47,$L$2,, "T") -> 70.11 | M47: =Data!Q7 -> -0.11425046 | Q47: =Data!AB7 -> S.ORCL | R47: =PROPER(RTD("cqg.rtd", ,"ContractData",Q47, "LongDescription",, "T")) -> Oracle Corporation | U47: =RTD("cqg.rtd", ,"ContractData",$C47,$G$2,, "T") -> 71.79 | V47: =RTD("cqg.rtd", ,"ContractData",$C47,$H$2,, "T") -> -3.52 | W47: =IFERROR(RTD("cqg.rtd", ,"ContractData",$C47,"PerCentNetLastTrade",, "T")/100,"") -> -0.046740141 | X47: =RTD("cqg.rtd", ,"ContractData",$C47,$J$2,, "T") -> 71.27 | Y47: =RTD("cqg.rtd", ,"ContractData",$C47,$K$2,, "T") -> 72.38 | Z47: =RTD("cqg.rtd", ,"ContractData",$C47,$L$2,, "T") -> 70.11 | AA47: =Data!AC7 -> -0.24267611
...

Sheet Data
A1: Symbol | B1: Weekly | C1: Monthly | D1: Qtrly | E1: Annual | G1: Weekly top and bottom Ten | M1: Monthly Top and Bottom Ten | S1: Quarterly Top and Bottom Ten | Y1: Annual Top and Bottom Ten
A2: S.AAPL | B2: =IFERROR(RTD("cqg.rtd",,"StudyData",$A2, "PCB","BaseType=Index,Index=1", "Close", "W","0","all",,,,"T")/100,"") -> 0.011617058 | C2: =IFERROR(RTD("cqg.rtd",,"StudyData",$A2, "PCB","BaseType=Index,Index=1", "Close", "M","0","all",,,,"T")/100,"") -> 0.060848982 | D2: =IFERROR(RTD("cqg.rtd",,"StudyData",$A2, "PCB","BaseType=Index,Index=1", "Close", "Q","0","all",,,,"T")/100,"") -> 0.16163257 | E2: =IFERROR(RTD("cqg.rtd",,"StudyData",$A2, "PCB","BaseType=Index,Index=1", "Close", "A","0","all",,,,"T")/100,"") -> 0.23640845 | G2: {=_xlfn.CHOOSECOLS(_xlfn.TAKE(_xlfn.SORTBY(A2:B102,B2:B102,-1),10),1)} -> S.PANW | H2: {=_xlfn.CHOOSECOLS(_xlfn.TAKE(_xlfn.SORTBY(A2:B102,B2:B102,-1),10),2)} -> 0.099591713 | J2: {=_xlfn.CHOOSECOLS(_xlfn.DROP(_xlfn.SORTBY(A2:B102,B2:B102,-1),91),1)} -> S.MS | K2: {=_xlfn.CHOOSECOLS(_xlfn.DROP(_xlfn.SORTBY(A2:B102,B2:B102,-1),91),2)} -> -0.055042448 | M2: {=_xlfn.CHOOSECOLS(_xlfn.TAKE(_xlfn.SORTBY(A2:C102,C2:C102,-1),10),1)} -> S.INTC | N2: {=_xlfn.CHOOSECOLS(_xlfn.TAKE(_xlfn.SORTBY(A2:C102,C2:C102,-1),10),3)} -> 0.21327226 | P2: {=_xlfn.CHOOSECOLS(_xlfn.DROP(_xlfn.SORTBY(A2:C102,C2:C102,-1),91),1)} -> S.GS | Q2: {=_xlfn.CHOOSECOLS(_xlfn.DROP(_xlfn.SORTBY(A2:C102,C2:C102,-1),91),3)} -> -0.08178185 | S2: {=_xlfn.CHOOSECOLS(_xlfn.TAKE(_xlfn.SORTBY(A2:D102,D2:D102,-1),10),1)} -> S.PLTR | T2: {=_xlfn.CHOOSECOLS(_xlfn.TAKE(_xlfn.SORTBY(A2:D102,D2:D102,-1),10),4)} -> 0.52258507 | V2: {=_xlfn.CHOOSECOLS(_xlfn.DROP(_xlfn.SORTBY(A2:D102,D2:D102,-1),91),1)} -> S.CVS | W2: {=_xlfn.CHOOSECOLS(_xlfn.DROP(_xlfn.SORTBY(A2:D102,D2:D102,-1),91),4)} -> -0.14122765 | Y2: {=_xlfn.CHOOSECOLS(_xlfn.TAKE(_xlfn.SORTBY(A2:E102,E2:E102,-1),10),1)} -> S.MU | Z2: {=_xlfn.CHOOSECOLS(_xlfn.TAKE(_xlfn.SORTBY(A2:E102,E2:E102,-1),10),5)} -> 2.5590904 | AB2: {=_xlfn.CHOOSECOLS(_xlfn.DROP(_xlfn.SORTBY(A2:E102,E2:E102,-1),91),1)} -> S.LOW | AC2: {=_xlfn.CHOOSECOLS(_xlfn.DROP(_xlfn.SORTBY(A2:E102,E2:E102,-1),91),5)} -> -0.20181622
A3: S.ABBV | B3: =IFERROR(RTD("cqg.rtd",,"StudyData",$A3, "PCB","BaseType=Index,Index=1", "Close", "W","0","all",,,,"T")/100,"") -> 0.026602365 | C3: =IFERROR(RTD("cqg.rtd",,"StudyData",$A3, "PCB","BaseType=Index,Index=1", "Close", "M","0","all",,,,"T")/100,"") -> 0.029404883 | D3: =IFERROR(RTD("cqg.rtd",,"StudyData",$A3, "PCB","BaseType=Index,Index=1", "Close", "Q","0","all",,,,"T")/100,"") -> 0.04895883 | E3: =IFERROR(RTD("cqg.rtd",,"StudyData",$A3, "PCB","BaseType=Index,Index=1", "Close", "A","0","all",,,,"T")/100,"") -> 0.15523655 | G3: S.AMD | H3: 0.084649216 | J3: S.IBM | K3: -0.056475811 | M3: S.AMD | N3: 0.1892845 | P3: S.NOW | Q3: -0.084600311 | S3: S.CRM | T3: 0.51870292 | V3: S.HD | W3: -0.14942724 | Y3: S.INTC | Z3: 1.9430894 | AB3: S.BKNG | AC3: -0.21618972
A4: S.ABT | B4: =IFERROR(RTD("cqg.rtd",,"StudyData",$A4, "PCB","BaseType=Index,Index=1", "Close", "W","0","all",,,,"T")/100,"") -> 0.0064737616 | C4: =IFERROR(RTD("cqg.rtd",,"StudyData",$A4, "PCB","BaseType=Index,Index=1", "Close", "M","0","all",,,,"T")/100,"") -> -0.070224719 | D4: =IFERROR(RTD("cqg.rtd",,"StudyData",$A4, "PCB","BaseType=Index,Index=1", "Close", "Q","0","all",,,,"T")/100,"") -> 0.13081331 | E4: =IFERROR(RTD("cqg.rtd",,"StudyData",$A4, "PCB","BaseType=Index,Index=1", "Close", "A","0","all",,,,"T")/100,"") -> -0.18102003 | G4: S.TMO | H4: 0.068266046 | J4: S.INTU | K4: -0.057157073 | M4: S.META | N4: 0.16320718 | P4: S.HD | Q4: -0.084952567 | S4: S.ACN | T4: 0.45684667 | V4: S.GE | W4: -0.15909881 | Y4: S.HONA | Z4: 1.636 | AB4: S.IBM | AC4: -0.22504304
A5: S.ACN | B5: =IFERROR(RTD("cqg.rtd",,"StudyData",$A5, "PCB","BaseType=Index,Index=1", "Close", "W","0","all",,,,"T")/100,"") -> -0.014192496 | C5: =IFERROR(RTD("cqg.rtd",,"StudyData",$A5, "PCB","BaseType=Index,Index=1", "Close", "M","0","all",,,,"T")/100,"") -> -0.044635329 | D5: =IFERROR(RTD("cqg.rtd",,"StudyData",$A5, "PCB","BaseType=Index,Index=1", "Close", "Q","0","all",,,,"T")/100,"") -> 0.45684667 | E5: =IFERROR(RTD("cqg.rtd",,"StudyData",$A5, "PCB","BaseType=Index,Index=1", "Close", "A","0","all",,,,"T")/100,"") -> -0.32430116 | G5: S.ISRG | H5: 0.065501829 | J5: S.BA | K5: -0.058208601 | M5: S.AAPL | N5: 0.060848982 | P5: S.SBUX | Q5: -0.098070588 | S5: S.NOW | T5: 0.36452458 | V5: S.IBM | W5: -0.18370613 | Y5: S.AMD | Z5: 1.6140269 | AB5: S.NFLX | AC5: -0.23432167
A6: S.ADBE | B6: =IFERROR(RTD("cqg.rtd",,"StudyData",$A6, "PCB","BaseType=Index,Index=1", "Close", "W","0","all",,,,"T")/100,"") -> -0.013122943 | C6: =IFERROR(RTD("cqg.rtd",,"StudyData",$A6, "PCB","BaseType=Index,Index=1", "Close", "M","0","all",,,,"T")/100,"") -> -0.14983435 | D6: =IFERROR(RTD("cqg.rtd",,"StudyData",$A6, "PCB","BaseType=Index,Index=1", "Close", "Q","0","all",,,,"T")/100,"") -> 0.21412545 | E6: =IFERROR(RTD("cqg.rtd",,"StudyData",$A6, "PCB","BaseType=Index,Index=1", "Close", "A","0","all",,,,"T")/100,"") -> -0.28877968 | G6: S.PLTR | H6: 0.062249596 | J6: S.CVS | K6: -0.061483203 | M6: S.MU | N6: 0.059526665 | P6: S.AMGN | Q6: -0.10288918 | S6: S.MSFT | T6: 0.32373599 | V6: S.GEV | W6: -0.19962378 | Y6: S.PANW | Z6: 0.97383279 | AB6: S.CMCSA | AC6: -0.23921044
A7: S.AMAT | B7: =IFERROR(RTD("cqg.rtd",,"StudyData",$A7, "PCB","BaseType=Index,Index=1", "Close", "W","0","all",,,,"T")/100,"") -> -0.026112292 | C7: =IFERROR(RTD("cqg.rtd",,"StudyData",$A7, "PCB","BaseType=Index,Index=1", "Close", "M","0","all",,,,"T")/100,"") -> -0.030149 | D7: =IFERROR(RTD("cqg.rtd",,"StudyData",$A7, "PCB","BaseType=Index,Index=1", "Close", "Q","0","all",,,,"T")/100,"") -> -0.38510373 | E7: =IFERROR(RTD("cqg.rtd",,"StudyData",$A7, "PCB","BaseType=Index,Index=1", "Close", "A","0","all",,,,"T")/100,"") -> 0.72991167 | G7: S.DHR | H7: 0.058309184 | J7: S.NFLX | K7: -0.07248062 | M7: S.TMO | N7: 0.055663588 | P7: S.NFLX | Q7: -0.11425046 | S7: S.TMO | T7: 0.29936573 | V7: S.INTC | W7: -0.22223018 | Y7: S.AMAT | Z7: 0.72991167 | AB7: S.ORCL | AC7: -0.24267611
A8: S.AMD | B8: =IFERROR(RTD("cqg.rtd",,"StudyData",$A8, "PCB","BaseType=Index,Index=1", "Close", "W","0","all",,,,"T")/100,"") -> 0.084649216 | C8: =IFERROR(RTD("cqg.rtd",,"StudyData",$A8, "PCB","BaseType=Index,Index=1", "Close", "M","0","all",,,,"T")/100,"") -> 0.1892845 | D8: =IFERROR(RTD("cqg.rtd",,"StudyData",$A8, "PCB","BaseType=Index,Index=1", "Close", "Q","0","all",,,,"T")/100,"") -> -0.036305108 | E8: =IFERROR(RTD("cqg.rtd",,"StudyData",$A8, "PCB","BaseType=Index,Index=1", "Close", "A","0","all",,,,"T")/100,"") -> 1.6140269 | G8: S.INTC | H8: 0.054983486 | J8: S.TMUS | K8: -0.077606538 | M8: S.GEV | N8: 0.046520428 | P8: S.CMCSA | Q8: -0.14575507 | S8: S.COP | T8: 0.26808388 | V8: S.CAT | W8: -0.24031364 | Y8: S.LRCX | Z8: 0.68308214 | AB8: S.ADBE | AC8: -0.28877968
A9: S.AMGN | B9: =IFERROR(RTD("cqg.rtd",,"StudyData",$A9, "PCB","BaseType=Index,Index=1", "Close", "W","0","all",,,,"T")/100,"") -> 0.021995495 | C9: =IFERROR(RTD("cqg.rtd",,"StudyData",$A9, "PCB","BaseType=Index,Index=1", "Close", "M","0","all",,,,"T")/100,"") -> -0.10288918 | D9: =IFERROR(RTD("cqg.rtd",,"StudyData",$A9, "PCB","BaseType=Index,Index=1", "Close", "Q","0","all",,,,"T")/100,"") -> 0.06497846 | E9: =IFERROR(RTD("cqg.rtd",,"StudyData",$A9, "PCB","BaseType=Index,Index=1", "Close", "A","0","all",,,,"T")/100,"") -> 0.17824081 | G9: S.GILD | H9: 0.044461453 | J9: S.BAC | K9: -0.079119477 | M9: S.DE | N9: 0.044403048 | P9: S.ADBE | Q9: -0.14983435 | S9: S.CVX | T9: 0.26393581 | V9: S.HONA | W9: -0.25999638 | Y9: S.TXN | Z9: 0.53691855 | AB9: S.ISRG | AC9: -0.30551239
A10: S.AMT | B10: =IFERROR(RTD("cqg.rtd",,"StudyData",$A10, "PCB","BaseType=Index,Index=1", "Close", "W","0","all",,,,"T")/100,"") -> -0.02175991 | C10: =IFERROR(RTD("cqg.rtd",,"StudyData",$A10, "PCB","BaseType=Index,Index=1", "Close", "M","0","all",,,,"T")/100,"") -> -0.0097894138 | D10: =IFERROR(RTD("cqg.rtd",,"StudyData",$A10, "PCB","BaseType=Index,Index=1", "Close", "Q","0","all",,,,"T")/100,"") -> 0.063642477 | E10: =IFERROR(RTD("cqg.rtd",,"StudyData",$A10, "PCB","BaseType=Index,Index=1", "Close", "A","0","all",,,,"T")/100,"") -> -0.0090562169 | G10: S.MU | H10: 0.041568402 | J10: S.GS | K10: -0.084708214 | M10: S.ISRG | N10: 0.043703232 | P10: S.INTU | Q10: -0.15616476 | S10: S.T | T10: 0.22705314 | V10: S.LRCX | W10: -0.33512565 | Y10: S.DE | Z10: 0.46914535 | AB10: S.ACN | AC10: -0.32430116
A11: S.AMZN | B11: =IFERROR(RTD("cqg.rtd",,"StudyData",$A11, "PCB","BaseType=Index,Index=1", "Close", "W","0","all",,,,"T")/100,"") -> -0.01195576 | C11: =IFERROR(RTD("cqg.rtd",,"StudyData",$A11, "PCB","BaseType=Index,Index=1", "Close", "M","0","all",,,,"T")/100,"") -> -0.023328329 | D11: =IFERROR(RTD("cqg.rtd",,"StudyData",$A11, "PCB","BaseType=Index,Index=1", "Close", "Q","0","all",,,,"T")/100,"") -> 0.064487707 | E11: =IFERROR(RTD("cqg.rtd",,"StudyData",$A11, "PCB","BaseType=Index,Index=1", "Close", "A","0","all",,,,"T")/100,"") -> 0.099168183 | G11: S.HONA | H11: 0.033741944 | J11: S.CMCSA | K11: -0.097619048 | M11: S.QCOM | N11: 0.042468325 | P11: S.BKNG | Q11: -0.15666282 | S11: S.ADBE | T11: 0.21412545 | V11: S.AMAT | W11: -0.38510373 | Y11: S.GEV | Z11: 0.43875943 | AB11: S.INTU | AC11: -0.54229945
A12: S.AVGO | B12: =IFERROR(RTD("cqg.rtd",,"StudyData",$A12, "PCB","BaseType=Index,Index=1", "Close", "W","0","all",,,,"T")/100,"") -> -0.012099782 | C12: =IFERROR(RTD("cqg.rtd",,"StudyData",$A12, "PCB","BaseType=Index,Index=1", "Close", "M","0","all",,,,"T")/100,"") -> -0.034373819 | D12: =IFERROR(RTD("cqg.rtd",,"StudyData",$A12, "PCB","BaseType=Index,Index=1", "Close", "Q","0","all",,,,"T")/100,"") -> -0.053315685 | E12: =IFERROR(RTD("cqg.rtd",,"StudyData",$A12, "PCB","BaseType=Index,Index=1", "Close", "A","0","all",,,,"T")/100,"") -> 0.033256284
A13: S.AXP | B13: =IFERROR(RTD("cqg.rtd",,"StudyData",$A13, "PCB","BaseType=Index,Index=1", "Close", "W","0","all",,,,"T")/100,"") -> -0.040438572 | C13: =IFERROR(RTD("cqg.rtd",,"StudyData",$A13, "PCB","BaseType=Index,Index=1", "Close", "M","0","all",,,,"T")/100,"") -> -0.056364903 | D13: =IFERROR(RTD("cqg.rtd",,"StudyData",$A13, "PCB","BaseType=Index,Index=1", "Close", "Q","0","all",,,,"T")/100,"") -> -0.078906135 | E13: =IFERROR(RTD("cqg.rtd",,"StudyData",$A13, "PCB","BaseType=Index,Index=1", "Close", "A","0","all",,,,"T")/100,"") -> -0.15783214
A14: S.BA | B14: =IFERROR(RTD("cqg.rtd",,"StudyData",$A14, "PCB","BaseType=Index,Index=1", "Close", "W","0","all",,,,"T")/100,"") -> -0.058208601 | C14: =IFERROR(RTD("cqg.rtd",,"StudyData",$A14, "PCB","BaseType=Index,Index=1", "Close", "M","0","all",,,,"T")/100,"") -> -0.046106459 | D14: =IFERROR(RTD("cqg.rtd",,"StudyData",$A14, "PCB","BaseType=Index,Index=1", "Close", "Q","0","all",,,,"T")/100,"") -> -0.084399686 | E14: =IFERROR(RTD("cqg.rtd",,"StudyData",$A14, "PCB","BaseType=Index,Index=1", "Close", "A","0","all",,,,"T")/100,"") -> -0.087140752 | H14: Symbols can be found here:
A15: S.BAC | B15: =IFERROR(RTD("cqg.rtd",,"StudyData",$A15, "PCB","BaseType=Index,Index=1", "Close", "W","0","all",,,,"T")/100,"") -> -0.079119477 | C15: =IFERROR(RTD("cqg.rtd",,"StudyData",$A15, "PCB","BaseType=Index,Index=1", "Close", "M","0","all",,,,"T")/100,"") -> -0.067969002 | D15: =IFERROR(RTD("cqg.rtd",,"StudyData",$A15, "PCB","BaseType=Index,Index=1", "Close", "Q","0","all",,,,"T")/100,"") -> 0.013162513 | E15: =IFERROR(RTD("cqg.rtd",,"StudyData",$A15, "PCB","BaseType=Index,Index=1", "Close", "A","0","all",,,,"T")/100,"") -> 0.049636364
A16: S.BKNG | B16: =IFERROR(RTD("cqg.rtd",,"StudyData",$A16, "PCB","BaseType=Index,Index=1", "Close", "W","0","all",,,,"T")/100,"") -> -0.034613615 | C16: =IFERROR(RTD("cqg.rtd",,"StudyData",$A16, "PCB","BaseType=Index,Index=1", "Close", "M","0","all",,,,"T")/100,"") -> -0.15666282 | D16: =IFERROR(RTD("cqg.rtd",,"StudyData",$A16, "PCB","BaseType=Index,Index=1", "Close", "Q","0","all",,,,"T")/100,"") -> -0.05801167 | E16: =IFERROR(RTD("cqg.rtd",,"StudyData",$A16, "PCB","BaseType=Index,Index=1", "Close", "A","0","all",,,,"T")/100,"") -> -0.21618972 | H16: https://en.wikipedia.org/wiki/S%26P_100
A17: S.BLK | B17: =IFERROR(RTD("cqg.rtd",,"StudyData",$A17, "PCB","BaseType=Index,Index=1", "Close", "W","0","all",,,,"T")/100,"") -> -0.0091418515 | C17: =IFERROR(RTD("cqg.rtd",,"StudyData",$A17, "PCB","BaseType=Index,Index=1", "Close", "M","0","all",,,,"T")/100,"") -> -0.074272462 | D17: =IFERROR(RTD("cqg.rtd",,"StudyData",$A17, "PCB","BaseType=Index,Index=1", "Close", "Q","0","all",,,,"T")/100,"") -> 0.11254628 | E17: =IFERROR(RTD("cqg.rtd",,"StudyData",$A17, "PCB","BaseType=Index,Index=1", "Close", "A","0","all",,,,"T")/100,"") -> -0.00052319824
A18: S.BMY | B18: =IFERROR(RTD("cqg.rtd",,"StudyData",$A18, "PCB","BaseType=Index,Index=1", "Close", "W","0","all",,,,"T")/100,"") -> -0.0091137649 | C18: =IFERROR(RTD("cqg.rtd",,"StudyData",$A18, "PCB","BaseType=Index,Index=1", "Close", "M","0","all",,,,"T")/100,"") -> -0.056129322 | D18: =IFERROR(RTD("cqg.rtd",,"StudyData",$A18, "PCB","BaseType=Index,Index=1", "Close", "Q","0","all",,,,"T")/100,"") -> 0.094411663 | E18: =IFERROR(RTD("cqg.rtd",,"StudyData",$A18, "PCB","BaseType=Index,Index=1", "Close", "A","0","all",,,,"T")/100,"") -> 0.16907675
A19: S.BNY | B19: =IFERROR(RTD("cqg.rtd",,"StudyData",$A19, "PCB","BaseType=Index,Index=1", "Close", "W","0","all",,,,"T")/100,"") -> -0.054530923 | C19: =IFERROR(RTD("cqg.rtd",,"StudyData",$A19, "PCB","BaseType=Index,Index=1", "Close", "M","0","all",,,,"T")/100,"") -> -0.046440972 | D19: =IFERROR(RTD("cqg.rtd",,"StudyData",$A19, "PCB","BaseType=Index,Index=1", "Close", "Q","0","all",,,,"T")/100,"") -> 0.063481087 | E19: =IFERROR(RTD("cqg.rtd",,"StudyData",$A19, "PCB","BaseType=Index,Index=1", "Close", "A","0","all",,,,"T")/100,"") -> 0.32474804
A20: S.BRKB | B20: =IFERROR(RTD("cqg.rtd",,"StudyData",$A20, "PCB","BaseType=Index,Index=1", "Close", "W","0","all",,,,"T")/100,"") -> -0.0011756177 | C20: =IFERROR(RTD("cqg.rtd",,"StudyData",$A20, "PCB","BaseType=Index,Index=1", "Close", "M","0","all",,,,"T")/100,"") -> 0.011388211 | D20: =IFERROR(RTD("cqg.rtd",,"StudyData",$A20, "PCB","BaseType=Index,Index=1", "Close", "Q","0","all",,,,"T")/100,"") -> 0.018745379 | E20: =IFERROR(RTD("cqg.rtd",,"StudyData",$A20, "PCB","BaseType=Index,Index=1", "Close", "A","0","all",,,,"T")/100,"") -> 0.014164926
A21: S.C | B21: =IFERROR(RTD("cqg.rtd",,"StudyData",$A21, "PCB","BaseType=Index,Index=1", "Close", "W","0","all",,,,"T")/100,"") -> -0.050785189 | C21: =IFERROR(RTD("cqg.rtd",,"StudyData",$A21, "PCB","BaseType=Index,Index=1", "Close", "M","0","all",,,,"T")/100,"") -> 0.0011396444 | D21: =IFERROR(RTD("cqg.rtd",,"StudyData",$A21, "PCB","BaseType=Index,Index=1", "Close", "Q","0","all",,,,"T")/100,"") -> -0.058516719 | E21: =IFERROR(RTD("cqg.rtd",,"StudyData",$A21, "PCB","BaseType=Index,Index=1", "Close", "A","0","all",,,,"T")/100,"") -> 0.1292313
A22: S.CAT | B22: =IFERROR(RTD("cqg.rtd",,"StudyData",$A22, "PCB","BaseType=Index,Index=1", "Close", "W","0","all",,,,"T")/100,"") -> -0.011703336 | C22: =IFERROR(RTD("cqg.rtd",,"StudyData",$A22, "PCB","BaseType=Index,Index=1", "Close", "M","0","all",,,,"T")/100,"") -> 0.014445684 | D22: =IFERROR(RTD("cqg.rtd",,"StudyData",$A22, "PCB","BaseType=Index,Index=1", "Close", "Q","0","all",,,,"T")/100,"") -> -0.24031364 | E22: =IFERROR(RTD("cqg.rtd",,"StudyData",$A22, "PCB","BaseType=Index,Index=1", "Close", "A","0","all",,,,"T")/100,"") -> 0.4121703
A23: S.CL | B23: =IFERROR(RTD("cqg.rtd",,"StudyData",$A23, "PCB","BaseType=Index,Index=1", "Close", "W","0","all",,,,"T")/100,"") -> 0.007718894 | C23: =IFERROR(RTD("cqg.rtd",,"StudyData",$A23, "PCB","BaseType=Index,Index=1", "Close", "M","0","all",,,,"T")/100,"") -> -0.026163438 | D23: =IFERROR(RTD("cqg.rtd",,"StudyData",$A23, "PCB","BaseType=Index,Index=1", "Close", "Q","0","all",,,,"T")/100,"") -> -0.045920593 | E23: =IFERROR(RTD("cqg.rtd",,"StudyData",$A23, "PCB","BaseType=Index,Index=1", "Close", "A","0","all",,,,"T")/100,"") -> 0.10693495
A24: S.CMCSA | B24: =IFERROR(RTD("cqg.rtd",,"StudyData",$A24, "PCB","BaseType=Index,Index=1", "Close", "W","0","all",,,,"T")/100,"") -> -0.097619048 | C24: =IFERROR(RTD("cqg.rtd",,"StudyData",$A24, "PCB","BaseType=Index,Index=1", "Close", "M","0","all",,,,"T")/100,"") -> -0.14575507 | D24: =IFERROR(RTD("cqg.rtd",,"StudyData",$A24, "PCB","BaseType=Index,Index=1", "Close", "Q","0","all",,,,"T")/100,"") -> -0.073727088 | E24: =IFERROR(RTD("cqg.rtd",,"StudyData",$A24, "PCB","BaseType=Index,Index=1", "Close", "A","0","all",,,,"T")/100,"") -> -0.23921044
