Workbook

Sheet Main Display
B2: Top Ten Weekly Percentage Changes | G2: Top Ten Monthly Percentage Changes | L2: Top Ten Quarterly Percentage Changes | Q2: Top Ten Annual Percentage Changes | X2: =MOD(RTD("cqg.rtd", ,"SystemInfo", "Linetime"),1) -> 0.71108796
B3: Symbol | C3: Company | F3: Weekly | G3: Symbol | H3: Company | K3: Monthly | L3: Symbol | M3: Company | P3: Quarterly | Q3: Symbol | R3: Company | U3: Annual
B4: {=_xlfn.CHOOSECOLS(_xlfn.TAKE(_xlfn.SORTBY(Data!A2:I102,Data!I2:I102,-1),10),1)} -> S.ACN | C4: =PROPER(RTD("cqg.rtd", ,"ContractData",B4, "LongDescription",, "T")) -> Accenture Plc Ireland | F4: {=_xlfn.CHOOSECOLS(_xlfn.TAKE(_xlfn.SORTBY(Data!A2:I102,Data!I2:I102,-1),10),9)} -> 0.12940776 | G4: {=_xlfn.CHOOSECOLS(_xlfn.TAKE(_xlfn.SORTBY(Data!A2:J102,Data!J2:J102,-1),10),1)} -> S.ACN | H4: =PROPER(RTD("cqg.rtd", ,"ContractData",G4, "LongDescription",, "T")) -> Accenture Plc Ireland | K4: {=_xlfn.CHOOSECOLS(_xlfn.TAKE(_xlfn.SORTBY(Data!A2:J102,Data!J2:J102,-1),10),10)} -> 0.084692152 | L4: {=_xlfn.CHOOSECOLS(_xlfn.TAKE(_xlfn.SORTBY(Data!A2:K102,Data!K2:K102,-1),10),1)} -> S.ACN | M4: =PROPER(RTD("cqg.rtd", ,"ContractData",L4, "LongDescription",, "T")) -> Accenture Plc Ireland | P4: {=_xlfn.CHOOSECOLS(_xlfn.TAKE(_xlfn.SORTBY(Data!A2:K102,Data!K2:K102,-1),10),11)} -> 0.084692152 | Q4: {=_xlfn.CHOOSECOLS(_xlfn.TAKE(_xlfn.SORTBY(Data!A2:L102,Data!L2:L102,-1),10),1)} -> S.MU | R4: =PROPER(RTD("cqg.rtd", ,"ContractData",Q4, "LongDescription",, "T")) -> Micron Technology | U4: {=_xlfn.CHOOSECOLS(_xlfn.TAKE(_xlfn.SORTBY(Data!A2:L102,Data!L2:L102,-1),10),12)} -> 2.7661259 | X4: S.OEF
B5: S.AMAT | C5: =PROPER(RTD("cqg.rtd", ,"ContractData",B5, "LongDescription",, "T")) -> Applied Materials | F5: 0.11348454 | G5: S.LRCX | H5: =PROPER(RTD("cqg.rtd", ,"ContractData",G5, "LongDescription",, "T")) -> Lam Research Corp | K5: 0.057776019 | L5: S.LRCX | M5: =PROPER(RTD("cqg.rtd", ,"ContractData",L5, "LongDescription",, "T")) -> Lam Research Corp | P5: 0.057776019 | Q5: S.INTC | R5: =PROPER(RTD("cqg.rtd", ,"ContractData",Q5, "LongDescription",, "T")) -> Intel Corp | U5: 2.2338753 | X5: =PROPER(LEFT(RTD("cqg.rtd", ,"ContractData",X4, "LongDescription",, "T"),8)) -> Ishares
B6: S.LRCX | C6: =PROPER(RTD("cqg.rtd", ,"ContractData",B6, "LongDescription",, "T")) -> Lam Research Corp | F6: 0.10240792 | G6: S.AMAT | H6: =PROPER(RTD("cqg.rtd", ,"ContractData",G6, "LongDescription",, "T")) -> Applied Materials | K6: 0.056044429 | L6: S.AMAT | M6: =PROPER(RTD("cqg.rtd", ,"ContractData",L6, "LongDescription",, "T")) -> Applied Materials | P6: 0.056044429 | Q6: S.AMD | R6: =PROPER(RTD("cqg.rtd", ,"ContractData",Q6, "LongDescription",, "T")) -> Adv Micro Devices | U6: 1.9599832 | X6: =RIGHT(RTD("cqg.rtd", ,"ContractData",X4, "LongDescription",, "T"),12) -> S&P 100 ETF
B7: S.PANW | C7: =PROPER(RTD("cqg.rtd", ,"ContractData",B7, "LongDescription",, "T")) -> Palo Alto Ntwks Cm | F7: 0.07605273 | G7: S.TXN | H7: =PROPER(RTD("cqg.rtd", ,"ContractData",G7, "LongDescription",, "T")) -> Texas Instruments | K7: 0.048948552 | L7: S.TXN | M7: =PROPER(RTD("cqg.rtd", ,"ContractData",L7, "LongDescription",, "T")) -> Texas Instruments | P7: 0.048948552 | Q7: S.HONA | R7: =PROPER(RTD("cqg.rtd", ,"ContractData",Q7, "LongDescription",, "T")) -> Honeywell Aerospace Inc | U7: 1.5463 | X7: Open: | Y7: =RTD("cqg.rtd", ,"ContractData",$X$4, "Open",, "T") -> 385.53
B8: S.TXN | C8: =PROPER(RTD("cqg.rtd", ,"ContractData",B8, "LongDescription",, "T")) -> Texas Instruments | F8: 0.05656849 | G8: S.TSLA | H8: =PROPER(RTD("cqg.rtd", ,"ContractData",G8, "LongDescription",, "T")) -> Tesla, Inc. | K8: 0.044474507 | L8: S.TSLA | M8: =PROPER(RTD("cqg.rtd", ,"ContractData",L8, "LongDescription",, "T")) -> Tesla, Inc. | P8: 0.044474507 | Q8: S.PANW | R8: =PROPER(RTD("cqg.rtd", ,"ContractData",Q8, "LongDescription",, "T")) -> Palo Alto Ntwks Cm | U8: 1.1891422 | X8: High: | Y8: =RTD("cqg.rtd", ,"ContractData",$X$4, "High",, "T") -> 386.66
B9: S.CSCO | C9: =PROPER(RTD("cqg.rtd", ,"ContractData",B9, "LongDescription",, "T")) -> Cisco Systems Inc. | F9: 0.051546392 | G9: S.CAT | H9: =PROPER(RTD("cqg.rtd", ,"ContractData",G9, "LongDescription",, "T")) -> Caterpillar Inc | K9: 0.04271143 | L9: S.CAT | M9: =PROPER(RTD("cqg.rtd", ,"ContractData",L9, "LongDescription",, "T")) -> Caterpillar Inc | P9: 0.04271143 | Q9: S.AMAT | R9: =PROPER(RTD("cqg.rtd", ,"ContractData",Q9, "LongDescription",, "T")) -> Applied Materials | U9: 1.1014047 | X9: Low: | Y9: =RTD("cqg.rtd", ,"ContractData",$X$4, "Low",, "T") -> 383.83
A10: A large amount of data is pulled and may take a minute to populate. | B10: S.NVDA | C10: =PROPER(RTD("cqg.rtd", ,"ContractData",B10, "LongDescription",, "T")) -> Nvidia Corporation | F10: 0.039454392 | G10: S.CSCO | H10: =PROPER(RTD("cqg.rtd", ,"ContractData",G10, "LongDescription",, "T")) -> Cisco Systems Inc. | K10: 0.042460281 | L10: S.CSCO | M10: =PROPER(RTD("cqg.rtd", ,"ContractData",L10, "LongDescription",, "T")) -> Cisco Systems Inc. | P10: 0.042460281 | Q10: S.LRCX | R10: =PROPER(RTD("cqg.rtd", ,"ContractData",Q10, "LongDescription",, "T")) -> Lam Research Corp | U10: 1.0299685 | X10: Last: | Y10: =RTD("cqg.rtd", ,"ContractData",$X$4, "LastTrade",, "T") -> 384.83
B11: S.ORCL | C11: =PROPER(RTD("cqg.rtd", ,"ContractData",B11, "LongDescription",, "T")) -> Oracle Corporation | F11: 0.037928519 | G11: S.EMR | H11: =PROPER(RTD("cqg.rtd", ,"ContractData",G11, "LongDescription",, "T")) -> Emerson Electric Co | K11: 0.041972921 | L11: S.EMR | M11: =PROPER(RTD("cqg.rtd", ,"ContractData",L11, "LongDescription",, "T")) -> Emerson Electric Co | P11: 0.041972921 | Q11: S.TXN | R11: =PROPER(RTD("cqg.rtd", ,"ContractData",Q11, "LongDescription",, "T")) -> Texas Instruments | U11: 0.69346936 | X11: NC: | Y11: =RTD("cqg.rtd", ,"ContractData",X4, "NetLastTradeToday",, "T") -> 3.28
B12: S.GEV | C12: =PROPER(RTD("cqg.rtd", ,"ContractData",B12, "LongDescription",, "T")) -> Ge Vernova Inc. | F12: 0.032444681 | G12: S.BA | H12: =PROPER(RTD("cqg.rtd", ,"ContractData",G12, "LongDescription",, "T")) -> Boeing Company | K12: 0.040365493 | L12: S.BA | M12: =PROPER(RTD("cqg.rtd", ,"ContractData",L12, "LongDescription",, "T")) -> Boeing Company | P12: 0.040365493 | Q12: S.GEV | R12: =PROPER(RTD("cqg.rtd", ,"ContractData",Q12, "LongDescription",, "T")) -> Ge Vernova Inc. | U12: 0.51276833 | X12: %NC: | Y12: =IFERROR(RTD("cqg.rtd", ,"ContractData",$X$4, "PercentNetLastTrade",, "T")/100,"") -> 0.0085965142
B13: S.CAT | C13: =PROPER(RTD("cqg.rtd", ,"ContractData",B13, "LongDescription",, "T")) -> Caterpillar Inc | F13: 0.029017259 | G13: S.GEV | H13: =PROPER(RTD("cqg.rtd", ,"ContractData",G13, "LongDescription",, "T")) -> Ge Vernova Inc. | K13: 0.040200318 | L13: S.GEV | M13: =PROPER(RTD("cqg.rtd", ,"ContractData",L13, "LongDescription",, "T")) -> Ge Vernova Inc. | P13: 0.040200318 | Q13: S.CAT | R13: =PROPER(RTD("cqg.rtd", ,"ContractData",Q13, "LongDescription",, "T")) -> Caterpillar Inc | U13: 0.47576239 | X13: Volume: | Y13: =RTD("cqg.rtd", ,"ContractData",X4, "T_CVol",, "T") -> 269056.35
X14: Ratio: | Y14: =IFERROR(Y13/RTD("cqg.rtd",,"StudyData", $X4, "MA", "InputChoice=Vol,MAType=Sim,Period=21", "MA","D","-1","all",,,,"T"),"") -> 1.2638207
B15: Bottom Ten Weekly Percentage Changes | G15: Bottom Ten Monthly Percentage Changes | L15: Bottom Quarterly Ten Percentage Changes | Q15: Bottom Ten Annual Percentage Changes | X15: ATR: | Y15: =RTD("cqg.rtd",,"StudyData","ATR("&X4&",MAType:=Sim,Period:=21)","Bar",, "Close", "D",,,,,,"T") -> 3.8066667
B16: Symbol | C16: Company | F16: Weekly | G16: Symbol | H16: Company | K16: Monthly | L16: Symbol | M16: Company | P16: Quarterly | Q16: Symbol | R16: Company | U16: Annual | X16: NC/21 ATR: | Y16: =IFERROR(Y11/Y15,"") -> 0.86164623
B17: {=_xlfn.CHOOSECOLS(_xlfn.TAKE(_xlfn.SORTBY(Data!A2:I102,Data!I2:I102,1),10),1)} -> S.QCOM | C17: =PROPER(RTD("cqg.rtd", ,"ContractData",B17, "LongDescription",, "T")) -> Qualcomm Inc | F17: {=_xlfn.CHOOSECOLS(_xlfn.TAKE(_xlfn.SORTBY(Data!A2:I102,Data!I2:I102,1),10),9)} -> -0.08466604 | G17: {=_xlfn.CHOOSECOLS(_xlfn.TAKE(_xlfn.SORTBY(Data!A2:J102,Data!J2:J102,1),10),1)} -> S.AMGN | H17: =PROPER(RTD("cqg.rtd", ,"ContractData",G17, "LongDescription",, "T")) -> Amgen | K17: {=_xlfn.CHOOSECOLS(_xlfn.TAKE(_xlfn.SORTBY(Data!A2:J102,Data!J2:J102,1),10),10)} -> -0.043818652 | L17: {=_xlfn.CHOOSECOLS(_xlfn.TAKE(_xlfn.SORTBY(Data!A2:K102,Data!K2:K102,1),10),1)} -> S.AMGN | M17: =PROPER(RTD("cqg.rtd", ,"ContractData",L17, "LongDescription",, "T")) -> Amgen | P17: {=_xlfn.CHOOSECOLS(_xlfn.TAKE(_xlfn.SORTBY(Data!A2:K102,Data!K2:K102,1),10),11)} -> -0.043818652 | Q17: {=_xlfn.CHOOSECOLS(_xlfn.TAKE(_xlfn.SORTBY(Data!A2:L102,Data!L2:L102,1),10),1)} -> S.INTU | R17: =PROPER(RTD("cqg.rtd", ,"ContractData",Q17, "LongDescription",, "T")) -> Intuit Inc | U17: {=_xlfn.CHOOSECOLS(_xlfn.TAKE(_xlfn.SORTBY(Data!A2:L102,Data!L2:L102,1),10),12)} -> -0.57567706 | X17: MA: | Y17: =RTD("cqg.rtd",,"StudyData", $X4, "MA", "InputChoice=Close,MAType=Sim,Period=21", "MA","D",,"all",,,,"T") -> 381.63762
B18: S.NFLX | C18: =PROPER(RTD("cqg.rtd", ,"ContractData",B18, "LongDescription",, "T")) -> Netflix, Inc. | F18: -0.057351701 | G18: S.NFLX | H18: =PROPER(RTD("cqg.rtd", ,"ContractData",G18, "LongDescription",, "T")) -> Netflix, Inc. | K18: -0.036217304 | L18: S.NFLX | M18: =PROPER(RTD("cqg.rtd", ,"ContractData",L18, "LongDescription",, "T")) -> Netflix, Inc. | P18: -0.036217304 | Q18: S.ADBE | R18: =PROPER(RTD("cqg.rtd", ,"ContractData",Q18, "LongDescription",, "T")) -> Adobe Inc. | U18: -0.32086631 | X18: STDV: | Y18: =RTD("cqg.rtd",,"StudyData",$X4, "StdDev", "InputChoice=Close,Period1=21", "STDDEV","D",,"all",,,,"T") -> 3.2898486
B19: S.JNJ | C19: =PROPER(RTD("cqg.rtd", ,"ContractData",B19, "LongDescription",, "T")) -> Johnson & Johnson | F19: -0.056006194 | G19: S.ISRG | H19: =PROPER(RTD("cqg.rtd", ,"ContractData",G19, "LongDescription",, "T")) -> Intuitive Surg, Inc. | K19: -0.036101616 | L19: S.ISRG | M19: =PROPER(RTD("cqg.rtd", ,"ContractData",L19, "LongDescription",, "T")) -> Intuitive Surg, Inc. | P19: -0.036101616 | Q19: S.ISRG | R19: =PROPER(RTD("cqg.rtd", ,"ContractData",Q19, "LongDescription",, "T")) -> Intuitive Surg, Inc. | U19: -0.30794901 | X19: Z-Score: | Y19: =IFERROR(STANDARDIZE(Y10,Y17,Y18),"") -> 0.97037321
B20: S.GE | C20: =PROPER(RTD("cqg.rtd", ,"ContractData",B20, "LongDescription",, "T")) -> General Electric Co | F20: -0.053593812 | G20: S.DHR | H20: =PROPER(RTD("cqg.rtd", ,"ContractData",G20, "LongDescription",, "T")) -> Danaher Corporation | K20: -0.033807267 | L20: S.DHR | M20: =PROPER(RTD("cqg.rtd", ,"ContractData",L20, "LongDescription",, "T")) -> Danaher Corporation | P20: -0.033807267 | Q20: S.NFLX | R20: =PROPER(RTD("cqg.rtd", ,"ContractData",Q20, "LongDescription",, "T")) -> Netflix, Inc. | U20: -0.28476962 | X20: Up %: | Y20: {=IFERROR(SUMPRODUCT(--((Data!E2:E103)>0))/COUNT(Data!E2:E103),"")} -> 0.6039604
B21: S.GM | C21: =PROPER(RTD("cqg.rtd", ,"ContractData",B21, "LongDescription",, "T")) -> General Motors Company | F21: -0.052765339 | G21: S.JNJ | H21: =PROPER(RTD("cqg.rtd", ,"ContractData",G21, "LongDescription",, "T")) -> Johnson & Johnson | K21: -0.032900204 | L21: S.JNJ | M21: =PROPER(RTD("cqg.rtd", ,"ContractData",L21, "LongDescription",, "T")) -> Johnson & Johnson | P21: -0.032900204 | Q21: S.CMCSA | R21: =PROPER(RTD("cqg.rtd", ,"ContractData",Q21, "LongDescription",, "T")) -> Comcast Corp A | U21: -0.27835396
B22: S.BAC | C22: =PROPER(RTD("cqg.rtd", ,"ContractData",B22, "LongDescription",, "T")) -> Bank Of America Corp | F22: -0.052028219 | G22: S.TMO | H22: =PROPER(RTD("cqg.rtd", ,"ContractData",G22, "LongDescription",, "T")) -> Thermo Electron Corp | K22: -0.029997778 | L22: S.TMO | M22: =PROPER(RTD("cqg.rtd", ,"ContractData",L22, "LongDescription",, "T")) -> Thermo Electron Corp | P22: -0.029997778 | Q22: S.ORCL | R22: =PROPER(RTD("cqg.rtd", ,"ContractData",Q22, "LongDescription",, "T")) -> Oracle Corporation | U22: -0.26991945
B23: S.DHR | C23: =PROPER(RTD("cqg.rtd", ,"ContractData",B23, "LongDescription",, "T")) -> Danaher Corporation | F23: -0.046460867 | G23: S.GILD | H23: =PROPER(RTD("cqg.rtd", ,"ContractData",G23, "LongDescription",, "T")) -> Gilead Sciences, Inc | K23: -0.028916471 | L23: S.GILD | M23: =PROPER(RTD("cqg.rtd", ,"ContractData",L23, "LongDescription",, "T")) -> Gilead Sciences, Inc | P23: -0.028916471 | Q23: S.ACN | R23: =PROPER(RTD("cqg.rtd", ,"ContractData",Q23, "LongDescription",, "T")) -> Accenture Plc Ireland | U23: -0.25866567
B24: S.MMM | C24: =PROPER(RTD("cqg.rtd", ,"ContractData",B24, "LongDescription",, "T")) -> 3M Company | F24: -0.045178413 | G24: S.DIS | H24: =PROPER(RTD("cqg.rtd", ,"ContractData",G24, "LongDescription",, "T")) -> The Walt Disney Company | K24: -0.025834128 | L24: S.DIS | M24: =PROPER(RTD("cqg.rtd", ,"ContractData",L24, "LongDescription",, "T")) -> The Walt Disney Company | P24: -0.025834128 | Q24: S.BKNG | R24: =PROPER(RTD("cqg.rtd", ,"ContractData",Q24, "LongDescription",, "T")) -> Booking Holdings Inc | U24: -0.25764437
B25: S.LOW | C25: =PROPER(RTD("cqg.rtd", ,"ContractData",B25, "LongDescription",, "T")) -> Lowes Companies Inc | F25: -0.044801352 | G25: S.PFE | H25: =PROPER(RTD("cqg.rtd", ,"ContractData",G25, "LongDescription",, "T")) -> Pfizer Inc | K25: -0.025245442 | L25: S.PFE | M25: =PROPER(RTD("cqg.rtd", ,"ContractData",L25, "LongDescription",, "T")) -> Pfizer Inc | P25: -0.025245442 | Q25: S.LOW | R25: =PROPER(RTD("cqg.rtd", ,"ContractData",Q25, "LongDescription",, "T")) -> Lowes Companies Inc | U25: -0.25029026
B26: S.C | C26: =PROPER(RTD("cqg.rtd", ,"ContractData",B26, "LongDescription",, "T")) -> Citigroup Inc | F26: -0.043044385 | G26: S.BKNG | H26: =PROPER(RTD("cqg.rtd", ,"ContractData",G26, "LongDescription",, "T")) -> Booking Holdings Inc | K26: -0.023878215 | L26: S.BKNG | M26: =PROPER(RTD("cqg.rtd", ,"ContractData",L26, "LongDescription",, "T")) -> Booking Holdings Inc | P26: -0.023878215 | Q26: S.IBM | R26: =PROPER(RTD("cqg.rtd", ,"ContractData",Q26, "LongDescription",, "T")) -> International Business Machines | U26: -0.24837109
B28: Today's Top Ten Volume Percentage Ratios | H28: Today's Top Ten NC/21-day ATR Percentage Ratios | N28: Today's Ten Top Z-Scores
B29: Symbol | C29: Company | F29: Volume | G29: Vol/21 MA | H29: Symbol | I29: Company | L29: ATR | M29: NC/21 MA | N29: Symbol | O29: Company | R29: Close | S29: MA (21) | T29: STDV (21) | U29: Z-Score
B30: {=_xlfn.CHOOSECOLS(_xlfn.TAKE(_xlfn.SORTBY(_xlfn._xlws.FILTER(Data!A2:N102,Data!N2:N102<>""),_xlfn._xlws.FILTER(Data!N2:N102,Data!N2:N102<>""),-1),10),1)} -> S.MDT | C30: =PROPER(RTD("cqg.rtd", ,"ContractData",B30, "LongDescription",, "T")) -> Medtronic Inc | F30: =RTD("cqg.rtd", ,"ContractData",B30, "T_CVol",, "T") -> 35366014 | G30: =VLOOKUP(B30,Data!$A$2:$N$102,14,FALSE) -> 2.8662793 | H30: {=_xlfn.CHOOSECOLS(_xlfn.TAKE(_xlfn.SORTBY(_xlfn._xlws.FILTER(Data!A2:O102,Data!O2:O102<>""),_xlfn._xlws.FILTER(Data!O2:O102,Data!O2:O102<>""),-1),10),1)} -> S.TXN | I30: =IF(H30="","",PROPER(RTD("cqg.rtd", ,"ContractData",H30, "LongDescription",, "T"))) -> Texas Instruments | L30: =IF(H30="","",RTD("cqg.rtd",,"StudyData","ATR("&H30&",MAType:=Sim,Period:=21)","Bar",, "Close", "D",,,,,,"T")) -> 7.8733333 | M30: =VLOOKUP(H30,Data!$A$2:$O$102,15,FALSE) -> 1.5863675 | N30: {=_xlfn.CHOOSECOLS(_xlfn.TAKE(_xlfn.SORTBY(_xlfn._xlws.FILTER(Data!A2:R102,Data!R2:R102<>""),_xlfn._xlws.FILTER(Data!R2:R102,Data!R2:R102<>""),-1),10),1)} -> S.TXN | O30: =PROPER(RTD("cqg.rtd", ,"ContractData",N30, "LongDescription",, "T")) -> Texas Instruments | R30: =RTD("cqg.rtd", ,"ContractData",N30, "LastTrade",, "T") -> 293.8 | S30: =VLOOKUP(N30,Data!$A$2:$P$102,16,FALSE) -> 269.11524 | T30: =VLOOKUP(N30,Data!$A$2:$Q$102,17,FALSE) -> 10.003174 | U30: =VLOOKUP(N30,Data!$A$2:$R$102,18,FALSE) -> 2.467693
B31: S.JNJ | C31: =PROPER(RTD("cqg.rtd", ,"ContractData",B31, "LongDescription",, "T")) -> Johnson & Johnson | F31: =RTD("cqg.rtd", ,"ContractData",B31, "T_CVol",, "T") -> 10942147 | G31: =VLOOKUP(B31,Data!$A$2:$N$102,14,FALSE) -> 1.7071105 | H31: S.CSCO | I31: =IF(H31="","",PROPER(RTD("cqg.rtd", ,"ContractData",H31, "LongDescription",, "T"))) -> Cisco Systems Inc. | L31: =IF(H31="","",RTD("cqg.rtd",,"StudyData","ATR("&H31&",MAType:=Sim,Period:=21)","Bar",, "Close", "D",,,,,,"T")) -> 2.5466667 | M31: =VLOOKUP(H31,Data!$A$2:$O$102,15,FALSE) -> 1.3507853 | N31: S.CAT | O31: =PROPER(RTD("cqg.rtd", ,"ContractData",N31, "LongDescription",, "T")) -> Caterpillar Inc | R31: =RTD("cqg.rtd", ,"ContractData",N31, "LastTrade",, "T") -> 845.42 | S31: =VLOOKUP(N31,Data!$A$2:$P$102,16,FALSE) -> 810.76286 | T31: =VLOOKUP(N31,Data!$A$2:$Q$102,17,FALSE) -> 15.028529 | U31: =VLOOKUP(N31,Data!$A$2:$R$102,18,FALSE) -> 2.3060901
B32: S.BA | C32: =PROPER(RTD("cqg.rtd", ,"ContractData",B32, "LongDescription",, "T")) -> Boeing Company | F32: =RTD("cqg.rtd", ,"ContractData",B32, "T_CVol",, "T") -> 12642456 | G32: =VLOOKUP(B32,Data!$A$2:$N$102,14,FALSE) -> 1.5686552 | H32: S.TSLA | I32: =IF(H32="","",PROPER(RTD("cqg.rtd", ,"ContractData",H32, "LongDescription",, "T"))) -> Tesla, Inc. | L32: =IF(H32="","",RTD("cqg.rtd",,"StudyData","ATR("&H32&",MAType:=Sim,Period:=21)","Bar",, "Close", "D",,,,,,"T")) -> 12.723333 | M32: =VLOOKUP(H32,Data!$A$2:$O$102,15,FALSE) -> 1.2952581 | N32: S.AMAT | O32: =PROPER(RTD("cqg.rtd", ,"ContractData",N32, "LongDescription",, "T")) -> Applied Materials | R32: =RTD("cqg.rtd", ,"ContractData",N32, "LastTrade",, "T") -> 540.04 | S32: =VLOOKUP(N32,Data!$A$2:$P$102,16,FALSE) -> 467.39571 | T32: =VLOOKUP(N32,Data!$A$2:$Q$102,17,FALSE) -> 34.544852 | U32: =VLOOKUP(N32,Data!$A$2:$R$102,18,FALSE) -> 2.1028976
B33: S.ACN | C33: =PROPER(RTD("cqg.rtd", ,"ContractData",B33, "LongDescription",, "T")) -> Accenture Plc Ireland | F33: =RTD("cqg.rtd", ,"ContractData",B33, "T_CVol",, "T") -> 10035768 | G33: =VLOOKUP(B33,Data!$A$2:$N$102,14,FALSE) -> 1.5538242 | H33: S.LIN | I33: =IF(H33="","",PROPER(RTD("cqg.rtd", ,"ContractData",H33, "LongDescription",, "T"))) -> Linde Plc | L33: =IF(H33="","",RTD("cqg.rtd",,"StudyData","ATR("&H33&",MAType:=Sim,Period:=21)","Bar",, "Close", "D",,,,,,"T")) -> 7.9014286 | M33: =VLOOKUP(H33,Data!$A$2:$O$102,15,FALSE) -> 1.2693907 | N33: S.EMR | O33: =PROPER(RTD("cqg.rtd", ,"ContractData",N33, "LongDescription",, "T")) -> Emerson Electric Co | R33: =RTD("cqg.rtd", ,"ContractData",N33, "LastTrade",, "T") -> 161.61 | S33: =VLOOKUP(N33,Data!$A$2:$P$102,16,FALSE) -> 152.91952 | T33: =VLOOKUP(N33,Data!$A$2:$Q$102,17,FALSE) -> 4.3593834 | U33: =VLOOKUP(N33,Data!$A$2:$R$102,18,FALSE) -> 1.9935104
B34: S.NEE | C34: =PROPER(RTD("cqg.rtd", ,"ContractData",B34, "LongDescription",, "T")) -> Nextera Energy, Inc. | F34: =RTD("cqg.rtd", ,"ContractData",B34, "T_CVol",, "T") -> 18187304 | G34: =VLOOKUP(B34,Data!$A$2:$N$102,14,FALSE) -> 1.4643851 | H34: S.DE | I34: =IF(H34="","",PROPER(RTD("cqg.rtd", ,"ContractData",H34, "LongDescription",, "T"))) -> Deere & Company | L34: =IF(H34="","",RTD("cqg.rtd",,"StudyData","ATR("&H34&",MAType:=Sim,Period:=21)","Bar",, "Close", "D",,,,,,"T")) -> 16.182857 | M34: =VLOOKUP(H34,Data!$A$2:$O$102,15,FALSE) -> 1.2198093 | N34: S.LRCX | O34: =PROPER(RTD("cqg.rtd", ,"ContractData",N34, "LongDescription",, "T")) -> Lam Research Corp | R34: =RTD("cqg.rtd", ,"ContractData",N34, "LastTrade",, "T") -> 347.49 | S34: =VLOOKUP(N34,Data!$A$2:$P$102,16,FALSE) -> 304.81571 | T34: =VLOOKUP(N34,Data!$A$2:$Q$102,17,FALSE) -> 21.599727 | U34: =VLOOKUP(N34,Data!$A$2:$R$102,18,FALSE) -> 1.9756863
B35: S.TSLA | C35: =PROPER(RTD("cqg.rtd", ,"ContractData",B35, "LongDescription",, "T")) -> Tesla, Inc. | F35: =RTD("cqg.rtd", ,"ContractData",B35, "T_CVol",, "T") -> 55330141 | G35: =VLOOKUP(B35,Data!$A$2:$N$102,14,FALSE) -> 1.4440547 | H35: S.UNP | I35: =IF(H35="","",PROPER(RTD("cqg.rtd", ,"ContractData",H35, "LongDescription",, "T"))) -> Union Pacific Corp | L35: =IF(H35="","",RTD("cqg.rtd",,"StudyData","ATR("&H35&",MAType:=Sim,Period:=21)","Bar",, "Close", "D",,,,,,"T")) -> 4.8161905 | M35: =VLOOKUP(H35,Data!$A$2:$O$102,15,FALSE) -> 1.2167293 | N35: S.CSCO | O35: =PROPER(RTD("cqg.rtd", ,"ContractData",N35, "LongDescription",, "T")) -> Cisco Systems Inc. | R35: =RTD("cqg.rtd", ,"ContractData",N35, "LastTrade",, "T") -> 112.2 | S35: =VLOOKUP(N35,Data!$A$2:$P$102,16,FALSE) -> 108.75571 | T35: =VLOOKUP(N35,Data!$A$2:$Q$102,17,FALSE) -> 1.7886376 | U35: =VLOOKUP(N35,Data!$A$2:$R$102,18,FALSE) -> 1.9256476
B36: S.ABBV | C36: =PROPER(RTD("cqg.rtd", ,"ContractData",B36, "LongDescription",, "T")) -> Abbvie Inc. | F36: =RTD("cqg.rtd", ,"ContractData",B36, "T_CVol",, "T") -> 5863069 | G36: =VLOOKUP(B36,Data!$A$2:$N$102,14,FALSE) -> 1.4183901 | H36: S.AVGO | I36: =IF(H36="","",PROPER(RTD("cqg.rtd", ,"ContractData",H36, "LongDescription",, "T"))) -> Broadcom Inc. | L36: =IF(H36="","",RTD("cqg.rtd",,"StudyData","ATR("&H36&",MAType:=Sim,Period:=21)","Bar",, "Close", "D",,,,,,"T")) -> 10.780952 | M36: =VLOOKUP(H36,Data!$A$2:$O$102,15,FALSE) -> 1.0666961 | N36: S.MSFT | O36: =PROPER(RTD("cqg.rtd", ,"ContractData",N36, "LongDescription",, "T")) -> Microsoft Corp | R36: =RTD("cqg.rtd", ,"ContractData",N36, "LastTrade",, "T") -> 517.53 | S36: =VLOOKUP(N36,Data!$A$2:$P$102,16,FALSE) -> 502.07429 | T36: =VLOOKUP(N36,Data!$A$2:$Q$102,17,FALSE) -> 8.2970514 | U36: =VLOOKUP(N36,Data!$A$2:$R$102,18,FALSE) -> 1.862796
B37: S.CVS | C37: =PROPER(RTD("cqg.rtd", ,"ContractData",B37, "LongDescription",, "T")) -> Cvs Health Corporation | F37: =RTD("cqg.rtd", ,"ContractData",B37, "T_CVol",, "T") -> 10463758 | G37: =VLOOKUP(B37,Data!$A$2:$N$102,14,FALSE) -> 1.3857561 | H37: S.CAT | I37: =IF(H37="","",PROPER(RTD("cqg.rtd", ,"ContractData",H37, "LongDescription",, "T"))) -> Caterpillar Inc | L37: =IF(H37="","",RTD("cqg.rtd",,"StudyData","ATR("&H37&",MAType:=Sim,Period:=21)","Bar",, "Close", "D",,,,,,"T")) -> 21.394762 | M37: =VLOOKUP(H37,Data!$A$2:$O$102,15,FALSE) -> 0.89133967 | N37: S.LIN | O37: =PROPER(RTD("cqg.rtd", ,"ContractData",N37, "LongDescription",, "T")) -> Linde Plc | R37: =RTD("cqg.rtd", ,"ContractData",N37, "LastTrade",, "T") -> 479.48 | S37: =VLOOKUP(N37,Data!$A$2:$P$102,16,FALSE) -> 468.10095 | T37: =VLOOKUP(N37,Data!$A$2:$Q$102,17,FALSE) -> 6.5820715 | U37: =VLOOKUP(N37,Data!$A$2:$R$102,18,FALSE) -> 1.7287943
B38: S.IBM | C38: =PROPER(RTD("cqg.rtd", ,"ContractData",B38, "LongDescription",, "T")) -> International Business Machines | F38: =RTD("cqg.rtd", ,"ContractData",B38, "T_CVol",, "T") -> 7756783 | G38: =VLOOKUP(B38,Data!$A$2:$N$102,14,FALSE) -> 1.3588001 | H38: S.EMR | I38: =IF(H38="","",PROPER(RTD("cqg.rtd", ,"ContractData",H38, "LongDescription",, "T"))) -> Emerson Electric Co | L38: =IF(H38="","",RTD("cqg.rtd",,"StudyData","ATR("&H38&",MAType:=Sim,Period:=21)","Bar",, "Close", "D",,,,,,"T")) -> 3.7666667 | M38: =VLOOKUP(H38,Data!$A$2:$O$102,15,FALSE) -> 0.80707965 | N38: S.GEV | O38: =PROPER(RTD("cqg.rtd", ,"ContractData",N38, "LongDescription",, "T")) -> Ge Vernova Inc. | R38: =RTD("cqg.rtd", ,"ContractData",N38, "LastTrade",, "T") -> 988.7 | S38: =VLOOKUP(N38,Data!$A$2:$P$102,16,FALSE) -> 944.53 | T38: =VLOOKUP(N38,Data!$A$2:$Q$102,17,FALSE) -> 27.051667 | U38: =VLOOKUP(N38,Data!$A$2:$R$102,18,FALSE) -> 1.6328014
B39: S.KO | C39: =PROPER(RTD("cqg.rtd", ,"ContractData",B39, "LongDescription",, "T")) -> Coca-Cola Company | F39: =RTD("cqg.rtd", ,"ContractData",B39, "T_CVol",, "T") -> 20289525 | G39: =VLOOKUP(B39,Data!$A$2:$N$102,14,FALSE) -> 1.2961566 | H39: S.AMD | I39: =IF(H39="","",PROPER(RTD("cqg.rtd", ,"ContractData",H39, "LongDescription",, "T"))) -> Adv Micro Devices | L39: =IF(H39="","",RTD("cqg.rtd",,"StudyData","ATR("&H39&",MAType:=Sim,Period:=21)","Bar",, "Close", "D",,,,,,"T")) -> 24.99619 | M39: =VLOOKUP(H39,Data!$A$2:$O$102,15,FALSE) -> 0.72731083 | N39: S.NVDA | O39: =PROPER(RTD("cqg.rtd", ,"ContractData",N39, "LongDescription",, "T")) -> Nvidia Corporation | R39: =RTD("cqg.rtd", ,"ContractData",N39, "LastTrade",, "T") -> 233.95 | S39: =VLOOKUP(N39,Data!$A$2:$P$102,16,FALSE) -> 224.0081 | T39: =VLOOKUP(N39,Data!$A$2:$Q$102,17,FALSE) -> 6.1819558 | U39: =VLOOKUP(N39,Data!$A$2:$R$102,18,FALSE) -> 1.6082135
B41: S.TSLA
B42: Symbol | C42: Company | F42: Last Trade | G42: NC | H42: %NC | I42: Open | J42: High | K42: Low | L42: Weekly | M42: Monthly | N42: Qtrly | O42: Annual | P42: Volume | Q42: Vol/MA | R42: NC/21 ATR | S42: MA | T42: STDV | U42: Z-Score
B43: =B46 -> S.TSLA | C43: =C46 -> Tesla, Inc. | F43: =D46 -> 370.59 | G43: =E46 -> 16.48 | H43: =F46 -> 0.046539211 | I43: =G46 -> 360.08 | J43: =H46 -> 374.6 | K43: =I46 -> 359.41 | L43: =J46 -> -0.0040848136 | M43: =K46 -> 0.044474507 | ... U43: =S46 -> 0.58822353
B46: {=_xlfn._xlws.FILTER(Data!A2:R103,Data!A2:A103=B41,"Not Found")} -> S.TSLA | C46: Tesla, Inc. | D46: 370.59 | E46: 16.48 | F46: 0.046539211 | G46: 360.08 | H46: 374.6 | I46: 359.41 | J46: -0.0040848136 | K46: 0.044474507 | L46: 0.044474507 | M46: -0.17595393 | N46: 55330141 | O46: 1.4440547 | P46: 1.2952581 | Q46: 365.41333 | R46: 8.8005094 | S46: 0.58822353

Sheet Data
A1: Symbol | B1: Company | C1: Last Trade | D1: NC | E1: %NC | F1: Open | G1: High | H1: Low | I1: Weekly | J1: Monthly | K1: Qtrly | L1: Annual | M1: Volume | N1: Vol/MA | O1: NC/21 ATR | P1: MA | Q1: STDV | R1: Z-Score
A2: S.AAPL | B2: =PROPER(RTD("cqg.rtd", ,"ContractData",A2, "LongDescription",, "T")) -> Apple Inc. | C2: =RTD("cqg.rtd", ,"ContractData",A2, "LastTrade",, "T") -> 333.69 | D2: =RTD("cqg.rtd", ,"ContractData",A2, "NetLastTrade",, "T") -> 3.37 | E2: =IFERROR(RTD("cqg.rtd", ,"ContractData",A2, "PerCentNetLastTrade",, "T")/100,"") -> 0.010202228 | F2: =RTD("cqg.rtd", ,"ContractData",A2, "Open",, "T") -> 333.26 | G2: =RTD("cqg.rtd", ,"ContractData",A2, "High",, "T") -> 334.54 | H2: =RTD("cqg.rtd", ,"ContractData",A2, "Low",, "T") -> 330.61 | I2: =IFERROR(RTD("cqg.rtd",,"StudyData",A2, "PCB","BaseType=Index,Index=1", "Close", "W","0","all",,,,"T")/100,"") -> -0.021637787 | J2: =IFERROR(RTD("cqg.rtd",,"StudyData",A2, "PCB","BaseType=Index,Index=1", "Close", "M","0","all",,,,"T")/100,"") -> 0.0020118912 | K2: =IFERROR(RTD("cqg.rtd",,"StudyData",A2, "PCB","BaseType=Index,Index=1", "Close", "Q","0","all",,,,"T")/100,"") -> 0.0020118912 | L2: =IFERROR(RTD("cqg.rtd",,"StudyData",A2, "PCB","BaseType=Index,Index=1", "Close", "A","0","all",,,,"T")/100,"") -> 0.22743324 | M2: =RTD("cqg.rtd", ,"ContractData",A2, "T_CVol",, "T") -> 33278552 | N2: =IFERROR(M2/RTD("cqg.rtd",,"StudyData", $A2, "MA", "InputChoice=Vol,MAType=Sim,Period=21", "MA","D","-1","all",,,,"T"),"") -> 0.79195058 | O2: =IFERROR(D2/RTD("cqg.rtd",,"StudyData","ATR("&A2&",MAType:=Sim,Period:=21)","Bar",, "Close", "D",,,,,,"T"),"") -> 0.47391683 | P2: =RTD("cqg.rtd",,"StudyData", $A2, "MA", "InputChoice=Close,MAType=Sim,Period=21", "MA","D",,"all",,,,"T") -> 331.71952 | Q2: =RTD("cqg.rtd",,"StudyData",$A2, "StdDev", "InputChoice=Close,Period1=21", "STDDEV","D",,"all",,,,"T") -> 7.0489286 | R2: =IFERROR(STANDARDIZE(C2,P2,Q2),"") -> 0.27954265 | T2: https://en.wikipedia.org/wiki/S%26P_100
A3: S.ABBV | B3: =PROPER(RTD("cqg.rtd", ,"ContractData",A3, "LongDescription",, "T")) -> Abbvie Inc. | C3: =RTD("cqg.rtd", ,"ContractData",A3, "LastTrade",, "T") -> 262.82 | D3: =RTD("cqg.rtd", ,"ContractData",A3, "NetLastTrade",, "T") -> 2.89 | E3: =IFERROR(RTD("cqg.rtd", ,"ContractData",A3, "PerCentNetLastTrade",, "T")/100,"") -> 0.011118378 | F3: =RTD("cqg.rtd", ,"ContractData",A3, "Open",, "T") -> 259.74 | G3: =RTD("cqg.rtd", ,"ContractData",A3, "High",, "T") -> 264.06 | H3: =RTD("cqg.rtd", ,"ContractData",A3, "Low",, "T") -> 257.87 | I3: =IFERROR(RTD("cqg.rtd",,"StudyData",A3, "PCB","BaseType=Index,Index=1", "Close", "W","0","all",,,,"T")/100,"") -> -0.0057501702 | J3: =IFERROR(RTD("cqg.rtd",,"StudyData",A3, "PCB","BaseType=Index,Index=1", "Close", "M","0","all",,,,"T")/100,"") -> 0.0047020146 | K3: =IFERROR(RTD("cqg.rtd",,"StudyData",A3, "PCB","BaseType=Index,Index=1", "Close", "Q","0","all",,,,"T")/100,"") -> 0.0047020146 | L3: =IFERROR(RTD("cqg.rtd",,"StudyData",A3, "PCB","BaseType=Index,Index=1", "Close", "A","0","all",,,,"T")/100,"") -> 0.15024728 | M3: =RTD("cqg.rtd", ,"ContractData",A3, "T_CVol",, "T") -> 5863069 | N3: =IFERROR(M3/RTD("cqg.rtd",,"StudyData", $A3, "MA", "InputChoice=Vol,MAType=Sim,Period=21", "MA","D","-1","all",,,,"T"),"") -> 1.4183901 | O3: =IFERROR(D3/RTD("cqg.rtd",,"StudyData","ATR("&A3&",MAType:=Sim,Period:=21)","Bar",, "Close", "D",,,,,,"T"),"") -> 0.55531156 | P3: =RTD("cqg.rtd",,"StudyData", $A3, "MA", "InputChoice=Close,MAType=Sim,Period=21", "MA","D",,"all",,,,"T") -> 261.04381 | Q3: =RTD("cqg.rtd",,"StudyData",$A3, "StdDev", "InputChoice=Close,Period1=21", "STDDEV","D",,"all",,,,"T") -> 4.6845323 | R3: =IFERROR(STANDARDIZE(C3,P3,Q3),"") -> 0.37916069
A4: S.ABT | B4: =PROPER(RTD("cqg.rtd", ,"ContractData",A4, "LongDescription",, "T")) -> Abbott Laboratories | C4: =RTD("cqg.rtd", ,"ContractData",A4, "LastTrade",, "T") -> 97.5 | D4: =RTD("cqg.rtd", ,"ContractData",A4, "NetLastTrade",, "T") -> 0.81 | E4: =IFERROR(RTD("cqg.rtd", ,"ContractData",A4, "PerCentNetLastTrade",, "T")/100,"") -> 0.0083772882 | F4: =RTD("cqg.rtd", ,"ContractData",A4, "Open",, "T") -> 97.25 | G4: =RTD("cqg.rtd", ,"ContractData",A4, "High",, "T") -> 97.59 | H4: =RTD("cqg.rtd", ,"ContractData",A4, "Low",, "T") -> 95.06 | I4: =IFERROR(RTD("cqg.rtd",,"StudyData",A4, "PCB","BaseType=Index,Index=1", "Close", "W","0","all",,,,"T")/100,"") -> -0.037417317 | J4: =IFERROR(RTD("cqg.rtd",,"StudyData",A4, "PCB","BaseType=Index,Index=1", "Close", "M","0","all",,,,"T")/100,"") -> -0.013457452 | K4: =IFERROR(RTD("cqg.rtd",,"StudyData",A4, "PCB","BaseType=Index,Index=1", "Close", "Q","0","all",,,,"T")/100,"") -> -0.013457452 | L4: =IFERROR(RTD("cqg.rtd",,"StudyData",A4, "PCB","BaseType=Index,Index=1", "Close", "A","0","all",,,,"T")/100,"") -> -0.22180541 | M4: =RTD("cqg.rtd", ,"ContractData",A4, "T_CVol",, "T") -> 8709933.5 | N4: =IFERROR(M4/RTD("cqg.rtd",,"StudyData", $A4, "MA", "InputChoice=Vol,MAType=Sim,Period=21", "MA","D","-1","all",,,,"T"),"") -> 1.006571 | O4: =IFERROR(D4/RTD("cqg.rtd",,"StudyData","ATR("&A4&",MAType:=Sim,Period:=21)","Bar",, "Close", "D",,,,,,"T"),"") -> 0.36053412 | P4: =RTD("cqg.rtd",,"StudyData", $A4, "MA", "InputChoice=Close,MAType=Sim,Period=21", "MA","D",,"all",,,,"T") -> 102.52238 | Q4: =RTD("cqg.rtd",,"StudyData",$A4, "StdDev", "InputChoice=Close,Period1=21", "STDDEV","D",,"all",,,,"T") -> 2.8859675 | R4: =IFERROR(STANDARDIZE(C4,P4,Q4),"") -> -1.7402763 | T4: This link takes you to a list of symbols
A5: S.ACN | B5: =PROPER(RTD("cqg.rtd", ,"ContractData",A5, "LongDescription",, "T")) -> Accenture Plc Ireland | C5: =RTD("cqg.rtd", ,"ContractData",A5, "LastTrade",, "T") -> 198.9 | D5: =RTD("cqg.rtd", ,"ContractData",A5, "NetLastTrade",, "T") -> -13.4 | E5: =IFERROR(RTD("cqg.rtd", ,"ContractData",A5, "PerCentNetLastTrade",, "T")/100,"") -> -0.063118229 | F5: =RTD("cqg.rtd", ,"ContractData",A5, "Open",, "T") -> 211.02 | G5: =RTD("cqg.rtd", ,"ContractData",A5, "High",, "T") -> 213.31 | H5: =RTD("cqg.rtd", ,"ContractData",A5, "Low",, "T") -> 198.36 | I5: =IFERROR(RTD("cqg.rtd",,"StudyData",A5, "PCB","BaseType=Index,Index=1", "Close", "W","0","all",,,,"T")/100,"") -> 0.12940776 | J5: =IFERROR(RTD("cqg.rtd",,"StudyData",A5, "PCB","BaseType=Index,Index=1", "Close", "M","0","all",,,,"T")/100,"") -> 0.084692152 | K5: =IFERROR(RTD("cqg.rtd",,"StudyData",A5, "PCB","BaseType=Index,Index=1", "Close", "Q","0","all",,,,"T")/100,"") -> 0.084692152 | L5: =IFERROR(RTD("cqg.rtd",,"StudyData",A5, "PCB","BaseType=Index,Index=1", "Close", "A","0","all",,,,"T")/100,"") -> -0.25866567 | M5: =RTD("cqg.rtd", ,"ContractData",A5, "T_CVol",, "T") -> 10035768 | N5: =IFERROR(M5/RTD("cqg.rtd",,"StudyData", $A5, "MA", "InputChoice=Vol,MAType=Sim,Period=21", "MA","D","-1","all",,,,"T"),"") -> 1.5538242 | O5: =IFERROR(D5/RTD("cqg.rtd",,"StudyData","ATR("&A5&",MAType:=Sim,Period:=21)","Bar",, "Close", "D",,,,,,"T"),"") -> -1.4512635 | P5: =RTD("cqg.rtd",,"StudyData", $A5, "MA", "InputChoice=Close,MAType=Sim,Period=21", "MA","D",,"all",,,,"T") -> 185.67286 | Q5: =RTD("cqg.rtd",,"StudyData",$A5, "StdDev", "InputChoice=Close,Period1=21", "STDDEV","D",,"all",,,,"T") -> 9.05227 | R5: =IFERROR(STANDARDIZE(C5,P5,Q5),"") -> 1.4611962
A6: S.ADBE | B6: =PROPER(RTD("cqg.rtd", ,"ContractData",A6, "LongDescription",, "T")) -> Adobe Inc. | C6: =RTD("cqg.rtd", ,"ContractData",A6, "LastTrade",, "T") -> 237.69 | D6: =RTD("cqg.rtd", ,"ContractData",A6, "NetLastTrade",, "T") -> -3.59 | E6: =IFERROR(RTD("cqg.rtd", ,"ContractData",A6, "PerCentNetLastTrade",, "T")/100,"") -> -0.014878979 | F6: =RTD("cqg.rtd", ,"ContractData",A6, "Open",, "T") -> 243.05 | G6: =RTD("cqg.rtd", ,"ContractData",A6, "High",, "T") -> 243.92 | H6: =RTD("cqg.rtd", ,"ContractData",A6, "Low",, "T") -> 236.88 | I6: =IFERROR(RTD("cqg.rtd",,"StudyData",A6, "PCB","BaseType=Index,Index=1", "Close", "W","0","all",,,,"T")/100,"") -> 0.0094279526 | J6: =IFERROR(RTD("cqg.rtd",,"StudyData",A6, "PCB","BaseType=Index,Index=1", "Close", "M","0","all",,,,"T")/100,"") -> -0.0093773443 | K6: =IFERROR(RTD("cqg.rtd",,"StudyData",A6, "PCB","BaseType=Index,Index=1", "Close", "Q","0","all",,,,"T")/100,"") -> -0.0093773443 | L6: =IFERROR(RTD("cqg.rtd",,"StudyData",A6, "PCB","BaseType=Index,Index=1", "Close", "A","0","all",,,,"T")/100,"") -> -0.32086631 | M6: =RTD("cqg.rtd", ,"ContractData",A6, "T_CVol",, "T") -> 3115208.1 | N6: =IFERROR(M6/RTD("cqg.rtd",,"StudyData", $A6, "MA", "InputChoice=Vol,MAType=Sim,Period=21", "MA","D","-1","all",,,,"T"),"") -> 0.55856207 | O6: =IFERROR(D6/RTD("cqg.rtd",,"StudyData","ATR("&A6&",MAType:=Sim,Period:=21)","Bar",, "Close", "D",,,,,,"T"),"") -> -0.37444124 | P6: =RTD("cqg.rtd",,"StudyData", $A6, "MA", "InputChoice=Close,MAType=Sim,Period=21", "MA","D",,"all",,,,"T") -> 248.89714 | Q6: =RTD("cqg.rtd",,"StudyData",$A6, "StdDev", "InputChoice=Close,Period1=21", "STDDEV","D",,"all",,,,"T") -> 12.81958 | R6: =IFERROR(STANDARDIZE(C6,P6,Q6),"") -> -0.87422075
A7: S.AMAT | B7: =PROPER(RTD("cqg.rtd", ,"ContractData",A7, "LongDescription",, "T")) -> Applied Materials | C7: =RTD("cqg.rtd", ,"ContractData",A7, "LastTrade",, "T") -> 540.04 | D7: =RTD("cqg.rtd", ,"ContractData",A7, "NetLastTrade",, "T") -> 10.74 | E7: =IFERROR(RTD("cqg.rtd", ,"ContractData",A7, "PerCentNetLastTrade",, "T")/100,"") -> 0.02029095 | F7: =RTD("cqg.rtd", ,"ContractData",A7, "Open",, "T") -> 543.2 | G7: =RTD("cqg.rtd", ,"ContractData",A7, "High",, "T") -> 547.25 | H7: =RTD("cqg.rtd", ,"ContractData",A7, "Low",, "T") -> 535.1 | I7: =IFERROR(RTD("cqg.rtd",,"StudyData",A7, "PCB","BaseType=Index,Index=1", "Close", "W","0","all",,,,"T")/100,"") -> 0.11348454 | J7: =IFERROR(RTD("cqg.rtd",,"StudyData",A7, "PCB","BaseType=Index,Index=1", "Close", "M","0","all",,,,"T")/100,"") -> 0.056044429 | K7: =IFERROR(RTD("cqg.rtd",,"StudyData",A7, "PCB","BaseType=Index,Index=1", "Close", "Q","0","all",,,,"T")/100,"") -> 0.056044429 | L7: =IFERROR(RTD("cqg.rtd",,"StudyData",A7, "PCB","BaseType=Index,Index=1", "Close", "A","0","all",,,,"T")/100,"") -> 1.1014047 | M7: =RTD("cqg.rtd", ,"ContractData",A7, "T_CVol",, "T") -> 6080420.5 | N7: =IFERROR(M7/RTD("cqg.rtd",,"StudyData", $A7, "MA", "InputChoice=Vol,MAType=Sim,Period=21", "MA","D","-1","all",,,,"T"),"") -> 0.95803532 | O7: =IFERROR(D7/RTD("cqg.rtd",,"StudyData","ATR("&A7&",MAType:=Sim,Period:=21)","Bar",, "Close", "D",,,,,,"T"),"") -> 0.58810952 | P7: =RTD("cqg.rtd",,"StudyData", $A7, "MA", "InputChoice=Close,MAType=Sim,Period=21", "MA","D",,"all",,,,"T") -> 467.39571 | Q7: =RTD("cqg.rtd",,"StudyData",$A7, "StdDev", "InputChoice=Close,Period1=21", "STDDEV","D",,"all",,,,"T") -> 34.544852 | R7: =IFERROR(STANDARDIZE(C7,P7,Q7),"") -> 2.1028976
A8: S.AMD | B8: =PROPER(RTD("cqg.rtd", ,"ContractData",A8, "LongDescription",, "T")) -> Adv Micro Devices | C8: =RTD("cqg.rtd", ,"ContractData",A8, "LastTrade",, "T") -> 633.91 | D8: =RTD("cqg.rtd", ,"ContractData",A8, "NetLastTrade",, "T") -> 18.18 | E8: =IFERROR(RTD("cqg.rtd", ,"ContractData",A8, "PerCentNetLastTrade",, "T")/100,"") -> 0.029525929 | F8: =RTD("cqg.rtd", ,"ContractData",A8, "Open",, "T") -> 635.95 | G8: =RTD("cqg.rtd", ,"ContractData",A8, "High",, "T") -> 645.46 | H8: =RTD("cqg.rtd", ,"ContractData",A8, "Low",, "T") -> 628.55 | I8: =IFERROR(RTD("cqg.rtd",,"StudyData",A8, "PCB","BaseType=Index,Index=1", "Close", "W","0","all",,,,"T")/100,"") -> 0.0052011481 | J8: =IFERROR(RTD("cqg.rtd",,"StudyData",A8, "PCB","BaseType=Index,Index=1", "Close", "M","0","all",,,,"T")/100,"") -> 0.036207009 | K8: =IFERROR(RTD("cqg.rtd",,"StudyData",A8, "PCB","BaseType=Index,Index=1", "Close", "Q","0","all",,,,"T")/100,"") -> 0.036207009 | L8: =IFERROR(RTD("cqg.rtd",,"StudyData",A8, "PCB","BaseType=Index,Index=1", "Close", "A","0","all",,,,"T")/100,"") -> 1.9599832 | M8: =RTD("cqg.rtd", ,"ContractData",A8, "T_CVol",, "T") -> 19865309 | N8: =IFERROR(M8/RTD("cqg.rtd",,"StudyData", $A8, "MA", "InputChoice=Vol,MAType=Sim,Period=21", "MA","D","-1","all",,,,"T"),"") -> 0.90489238 | O8: =IFERROR(D8/RTD("cqg.rtd",,"StudyData","ATR("&A8&",MAType:=Sim,Period:=21)","Bar",, "Close", "D",,,,,,"T"),"") -> 0.72731083 | P8: =RTD("cqg.rtd",,"StudyData", $A8, "MA", "InputChoice=Close,MAType=Sim,Period=21", "MA","D",,"all",,,,"T") -> 561.23524 | Q8: =RTD("cqg.rtd",,"StudyData",$A8, "StdDev", "InputChoice=Close,Period1=21", "STDDEV","D",,"all",,,,"T") -> 58.900433 | R8: =IFERROR(STANDARDIZE(C8,P8,Q8),"") -> 1.2338579
A9: S.AMGN | B9: =PROPER(RTD("cqg.rtd", ,"ContractData",A9, "LongDescription",, "T")) -> Amgen | C9: =RTD("cqg.rtd", ,"ContractData",A9, "LastTrade",, "T") -> 403.04 | D9: =RTD("cqg.rtd", ,"ContractData",A9, "NetLastTrade",, "T") -> -4.23 | E9: =IFERROR(RTD("cqg.rtd", ,"ContractData",A9, "PerCentNetLastTrade",, "T")/100,"") -> -0.01038623 | F9: =RTD("cqg.rtd", ,"ContractData",A9, "Open",, "T") -> 410.16 | G9: =RTD("cqg.rtd", ,"ContractData",A9, "High",, "T") -> 410.16 | H9: =RTD("cqg.rtd", ,"ContractData",A9, "Low",, "T") -> 401.96 | I9: =IFERROR(RTD("cqg.rtd",,"StudyData",A9, "PCB","BaseType=Index,Index=1", "Close", "W","0","all",,,,"T")/100,"") -> -0.027905743 | J9: =IFERROR(RTD("cqg.rtd",,"StudyData",A9, "PCB","BaseType=Index,Index=1", "Close", "M","0","all",,,,"T")/100,"") -> -0.043818652 | K9: =IFERROR(RTD("cqg.rtd",,"StudyData",A9, "PCB","BaseType=Index,Index=1", "Close", "Q","0","all",,,,"T")/100,"") -> -0.043818652 | L9: =IFERROR(RTD("cqg.rtd",,"StudyData",A9, "PCB","BaseType=Index,Index=1", "Close", "A","0","all",,,,"T")/100,"") -> 0.23137087 | M9: =RTD("cqg.rtd", ,"ContractData",A9, "T_CVol",, "T") -> 3510312.5 | N9: =IFERROR(M9/RTD("cqg.rtd",,"StudyData", $A9, "MA", "InputChoice=Vol,MAType=Sim,Period=21", "MA","D","-1","all",,,,"T"),"") -> 1.0970779 | O9: =IFERROR(D9/RTD("cqg.rtd",,"StudyData","ATR("&A9&",MAType:=Sim,Period:=21)","Bar",, "Close", "D",,,,,,"T"),"") -> -0.38341678 | P9: =RTD("cqg.rtd",,"StudyData", $A9, "MA", "InputChoice=Close,MAType=Sim,Period=21", "MA","D",,"all",,,,"T") -> 401.34619 | Q9: =RTD("cqg.rtd",,"StudyData",$A9, "StdDev", "InputChoice=Close,Period1=21", "STDDEV","D",,"all",,,,"T") -> 19.758094 | R9: =IFERROR(STANDARDIZE(C9,P9,Q9),"") -> 0.085727375
A10: S.AMT | B10: =PROPER(RTD("cqg.rtd", ,"ContractData",A10, "LongDescription",, "T")) -> American Tower Corp Cla | C10: =RTD("cqg.rtd", ,"ContractData",A10, "LastTrade",, "T") -> 162.2 | D10: =RTD("cqg.rtd", ,"ContractData",A10, "NetLastTrade",, "T") -> 1.14 | E10: =IFERROR(RTD("cqg.rtd", ,"ContractData",A10, "PerCentNetLastTrade",, "T")/100,"") -> 0.0070781075 | F10: =RTD("cqg.rtd", ,"ContractData",A10, "Open",, "T") -> 162.22 | G10: =RTD("cqg.rtd", ,"ContractData",A10, "High",, "T") -> 165.23 | H10: =RTD("cqg.rtd", ,"ContractData",A10, "Low",, "T") -> 160.85 | I10: =IFERROR(RTD("cqg.rtd",,"StudyData",A10, "PCB","BaseType=Index,Index=1", "Close", "W","0","all",,,,"T")/100,"") -> -0.040407028 | J10: =IFERROR(RTD("cqg.rtd",,"StudyData",A10, "PCB","BaseType=Index,Index=1", "Close", "M","0","all",,,,"T")/100,"") -> -0.0091025719 | K10: =IFERROR(RTD("cqg.rtd",,"StudyData",A10, "PCB","BaseType=Index,Index=1", "Close", "Q","0","all",,,,"T")/100,"") -> -0.0091025719 | L10: =IFERROR(RTD("cqg.rtd",,"StudyData",A10, "PCB","BaseType=Index,Index=1", "Close", "A","0","all",,,,"T")/100,"") -> -0.076151962 | M10: =RTD("cqg.rtd", ,"ContractData",A10, "T_CVol",, "T") -> 2908530.8 | N10: =IFERROR(M10/RTD("cqg.rtd",,"StudyData", $A10, "MA", "InputChoice=Vol,MAType=Sim,Period=21", "MA","D","-1","all",,,,"T"),"") -> 1.1017965 | O10: =IFERROR(D10/RTD("cqg.rtd",,"StudyData","ATR("&A10&",MAType:=Sim,Period:=21)","Bar",, "Close", "D",,,,,,"T"),"") -> 0.28753303 | P10: =RTD("cqg.rtd",,"StudyData", $A10, "MA", "InputChoice=Close,MAType=Sim,Period=21", "MA","D",,"all",,,,"T") -> 172.16238 | Q10: =RTD("cqg.rtd",,"StudyData",$A10, "StdDev", "InputChoice=Close,Period1=21", "STDDEV","D",,"all",,,,"T") -> 5.226809 | R10: =IFERROR(STANDARDIZE(C10,P10,Q10),"") -> -1.9060159
A11: S.AMZN | B11: =PROPER(RTD("cqg.rtd", ,"ContractData",A11, "LongDescription",, "T")) -> Amazon.Com Inc | C11: =RTD("cqg.rtd", ,"ContractData",A11, "LastTrade",, "T") -> 251.52 | D11: =RTD("cqg.rtd", ,"ContractData",A11, "NetLastTrade",, "T") -> 3.29 | E11: =IFERROR(RTD("cqg.rtd", ,"ContractData",A11, "PerCentNetLastTrade",, "T")/100,"") -> 0.013253837 | F11: =RTD("cqg.rtd", ,"ContractData",A11, "Open",, "T") -> 251.5 | G11: =RTD("cqg.rtd", ,"ContractData",A11, "High",, "T") -> 253.55 | H11: =RTD("cqg.rtd", ,"ContractData",A11, "Low",, "T") -> 250.02 | I11: =IFERROR(RTD("cqg.rtd",,"StudyData",A11, "PCB","BaseType=Index,Index=1", "Close", "W","0","all",,,,"T")/100,"") -> 0.0074097809 | J11: =IFERROR(RTD("cqg.rtd",,"StudyData",A11, "PCB","BaseType=Index,Index=1", "Close", "M","0","all",,,,"T")/100,"") -> 0.009512342 | K11: =IFERROR(RTD("cqg.rtd",,"StudyData",A11, "PCB","BaseType=Index,Index=1", "Close", "Q","0","all",,,,"T")/100,"") -> 0.009512342 | L11: =IFERROR(RTD("cqg.rtd",,"StudyData",A11, "PCB","BaseType=Index,Index=1", "Close", "A","0","all",,,,"T")/100,"") -> 0.08968027 | M11: =RTD("cqg.rtd", ,"ContractData",A11, "T_CVol",, "T") -> 33433392 | N11: =IFERROR(M11/RTD("cqg.rtd",,"StudyData", $A11, "MA", "InputChoice=Vol,MAType=Sim,Period=21", "MA","D","-1","all",,,,"T"),"") -> 0.97364413 | O11: =IFERROR(D11/RTD("cqg.rtd",,"StudyData","ATR("&A11&",MAType:=Sim,Period:=21)","Bar",, "Close", "D",,,,,,"T"),"") -> 0.62288136 | P11: =RTD("cqg.rtd",,"StudyData", $A11, "MA", "InputChoice=Close,MAType=Sim,Period=21", "MA","D",,"all",,,,"T") -> 251.98762 | Q11: =RTD("cqg.rtd",,"StudyData",$A11, "StdDev", "InputChoice=Close,Period1=21", "STDDEV","D",,"all",,,,"T") -> 4.0730495 | R11: =IFERROR(STANDARDIZE(C11,P11,Q11),"") -> -0.11480809
A12: S.AVGO | B12: =PROPER(RTD("cqg.rtd", ,"ContractData",A12, "LongDescription",, "T")) -> Broadcom Inc. | C12: =RTD("cqg.rtd", ,"ContractData",A12, "LastTrade",, "T") -> 355.14 | D12: =RTD("cqg.rtd", ,"ContractData",A12, "NetLastTrade",, "T") -> 11.5 | E12: =IFERROR(RTD("cqg.rtd", ,"ContractData",A12, "PerCentNetLastTrade",, "T")/100,"") -> 0.033465254 | F12: =RTD("cqg.rtd", ,"ContractData",A12, "Open",, "T") -> 349.85 | G12: =RTD("cqg.rtd", ,"ContractData",A12, "High",, "T") -> 357.35 | H12: =RTD("cqg.rtd", ,"ContractData",A12, "Low",, "T") -> 347.41 | I12: =IFERROR(RTD("cqg.rtd",,"StudyData",A12, "PCB","BaseType=Index,Index=1", "Close", "W","0","all",,,,"T")/100,"") -> 0.0066041212 | J12: =IFERROR(RTD("cqg.rtd",,"StudyData",A12, "PCB","BaseType=Index,Index=1", "Close", "M","0","all",,,,"T")/100,"") -> 0.011247473 | K12: =IFERROR(RTD("cqg.rtd",,"StudyData",A12, "PCB","BaseType=Index,Index=1", "Close", "Q","0","all",,,,"T")/100,"") -> 0.011247473 | L12: =IFERROR(RTD("cqg.rtd",,"StudyData",A12, "PCB","BaseType=Index,Index=1", "Close", "A","0","all",,,,"T")/100,"") -> 0.026119619 | M12: =RTD("cqg.rtd", ,"ContractData",A12, "T_CVol",, "T") -> 24639562 | N12: =IFERROR(M12/RTD("cqg.rtd",,"StudyData", $A12, "MA", "InputChoice=Vol,MAType=Sim,Period=21", "MA","D","-1","all",,,,"T"),"") -> 0.89950496 | O12: =IFERROR(D12/RTD("cqg.rtd",,"StudyData","ATR("&A12&",MAType:=Sim,Period:=21)","Bar",, "Close", "D",,,,,,"T"),"") -> 1.0666961 | P12: =RTD("cqg.rtd",,"StudyData", $A12, "MA", "InputChoice=Close,MAType=Sim,Period=21", "MA","D",,"all",,,,"T") -> 354.24857 | Q12: =RTD("cqg.rtd",,"StudyData",$A12, "StdDev", "InputChoice=Close,Period1=21", "STDDEV","D",,"all",,,,"T") -> 8.0596404 | R12: =IFERROR(STANDARDIZE(C12,P12,Q12),"") -> 0.11060401
A13: S.AXP | B13: =PROPER(RTD("cqg.rtd", ,"ContractData",A13, "LongDescription",, "T")) -> American Express Co | C13: =RTD("cqg.rtd", ,"ContractData",A13, "LastTrade",, "T") -> 302.78 | D13: =RTD("cqg.rtd", ,"ContractData",A13, "NetLastTrade",, "T") -> 0.69 | E13: =IFERROR(RTD("cqg.rtd", ,"ContractData",A13, "PerCentNetLastTrade",, "T")/100,"") -> 0.0022840875 | F13: =RTD("cqg.rtd", ,"ContractData",A13, "Open",, "T") -> 304 | G13: =RTD("cqg.rtd", ,"ContractData",A13, "High",, "T") -> 304 | H13: =RTD("cqg.rtd", ,"ContractData",A13, "Low",, "T") -> 299.83 | I13: =IFERROR(RTD("cqg.rtd",,"StudyData",A13, "PCB","BaseType=Index,Index=1", "Close", "W","0","all",,,,"T")/100,"") -> -0.019780504 | J13: =IFERROR(RTD("cqg.rtd",,"StudyData",A13, "PCB","BaseType=Index,Index=1", "Close", "M","0","all",,,,"T")/100,"") -> -0.0043406774 | K13: =IFERROR(RTD("cqg.rtd",,"StudyData",A13, "PCB","BaseType=Index,Index=1", "Close", "Q","0","all",,,,"T")/100,"") -> -0.0043406774 | L13: =IFERROR(RTD("cqg.rtd",,"StudyData",A13, "PCB","BaseType=Index,Index=1", "Close", "A","0","all",,,,"T")/100,"") -> -0.18156508 | M13: =RTD("cqg.rtd", ,"ContractData",A13, "T_CVol",, "T") -> 2779015.7 | N13: =IFERROR(M13/RTD("cqg.rtd",,"StudyData", $A13, "MA", "InputChoice=Vol,MAType=Sim,Period=21", "MA","D","-1","all",,,,"T"),"") -> 0.85046605 | O13: =IFERROR(D13/RTD("cqg.rtd",,"StudyData","ATR("&A13&",MAType:=Sim,Period:=21)","Bar",, "Close", "D",,,,,,"T"),"") -> 0.11877049 | P13: =RTD("cqg.rtd",,"StudyData", $A13, "MA", "InputChoice=Close,MAType=Sim,Period=21", "MA","D",,"all",,,,"T") -> 313.92952 | Q13: =RTD("cqg.rtd",,"StudyData",$A13, "StdDev", "InputChoice=Close,Period1=21", "STDDEV","D",,"all",,,,"T") -> 9.5087987 | R13: =IFERROR(STANDARDIZE(C13,P13,Q13),"") -> -1.1725481
A14: S.BA | B14: =PROPER(RTD("cqg.rtd", ,"ContractData",A14, "LongDescription",, "T")) -> Boeing Company | C14: =RTD("cqg.rtd", ,"ContractData",A14, "LastTrade",, "T") -> 193.56 | D14: =RTD("cqg.rtd", ,"ContractData",A14, "NetLastTrade",, "T") -> 1.28 | E14: =IFERROR(RTD("cqg.rtd", ,"ContractData",A14, "PerCentNetLastTrade",, "T")/100,"") -> 0.0066569586 | F14: =RTD("cqg.rtd", ,"ContractData",A14, "Open",, "T") -> 193.87 | G14: =RTD("cqg.rtd", ,"ContractData",A14, "High",, "T") -> 196.93 | H14: =RTD("cqg.rtd", ,"ContractData",A14, "Low",, "T") -> 190.27 | I14: =IFERROR(RTD("cqg.rtd",,"StudyData",A14, "PCB","BaseType=Index,Index=1", "Close", "W","0","all",,,,"T")/100,"") -> -0.022769728 | J14: =IFERROR(RTD("cqg.rtd",,"StudyData",A14, "PCB","BaseType=Index,Index=1", "Close", "M","0","all",,,,"T")/100,"") -> 0.040365493 | K14: =IFERROR(RTD("cqg.rtd",,"StudyData",A14, "PCB","BaseType=Index,Index=1", "Close", "Q","0","all",,,,"T")/100,"") -> 0.040365493 | L14: =IFERROR(RTD("cqg.rtd",,"StudyData",A14, "PCB","BaseType=Index,Index=1", "Close", "A","0","all",,,,"T")/100,"") -> -0.10851142 | M14: =RTD("cqg.rtd", ,"ContractData",A14, "T_CVol",, "T") -> 12642456 | N14: =IFERROR(M14/RTD("cqg.rtd",,"StudyData", $A14, "MA", "InputChoice=Vol,MAType=Sim,Period=21", "MA","D","-1","all",,,,"T"),"") -> 1.5686552 | O14: =IFERROR(D14/RTD("cqg.rtd",,"StudyData","ATR("&A14&",MAType:=Sim,Period:=21)","Bar",, "Close", "D",,,,,,"T"),"") -> 0.19980673 | P14: =RTD("cqg.rtd",,"StudyData", $A14, "MA", "InputChoice=Close,MAType=Sim,Period=21", "MA","D",,"all",,,,"T") -> 200.4719 | Q14: =RTD("cqg.rtd",,"StudyData",$A14, "StdDev", "InputChoice=Close,Period1=21", "STDDEV","D",,"all",,,,"T") -> 8.370891 | R14: =IFERROR(STANDARDIZE(C14,P14,Q14),"") -> -0.82570718
A15: S.BAC | B15: =PROPER(RTD("cqg.rtd", ,"ContractData",A15, "LongDescription",, "T")) -> Bank Of America Corp | C15: =RTD("cqg.rtd", ,"ContractData",A15, "LastTrade",, "T") -> 53.75 | D15: =RTD("cqg.rtd", ,"ContractData",A15, "NetLastTrade",, "T") -> 0.02 | E15: =IFERROR(RTD("cqg.rtd", ,"ContractData",A15, "PerCentNetLastTrade",, "T")/100,"") -> 0.00037223153 | F15: =RTD("cqg.rtd", ,"ContractData",A15, "Open",, "T") -> 53.89 | G15: =RTD("cqg.rtd", ,"ContractData",A15, "High",, "T") -> 54 | H15: =RTD("cqg.rtd", ,"ContractData",A15, "Low",, "T") -> 53.3 | I15: =IFERROR(RTD("cqg.rtd",,"StudyData",A15, "PCB","BaseType=Index,Index=1", "Close", "W","0","all",,,,"T")/100,"") -> -0.052028219 | J15: =IFERROR(RTD("cqg.rtd",,"StudyData",A15, "PCB","BaseType=Index,Index=1", "Close", "M","0","all",,,,"T")/100,"") -> -0.01249311 | K15: =IFERROR(RTD("cqg.rtd",,"StudyData",A15, "PCB","BaseType=Index,Index=1", "Close", "Q","0","all",,,,"T")/100,"") -> -0.01249311 | L15: =IFERROR(RTD("cqg.rtd",,"StudyData",A15, "PCB","BaseType=Index,Index=1", "Close", "A","0","all",,,,"T")/100,"") -> -0.022727273 | M15: =RTD("cqg.rtd", ,"ContractData",A15, "T_CVol",, "T") -> 35089448 | N15: =IFERROR(M15/RTD("cqg.rtd",,"StudyData", $A15, "MA", "InputChoice=Vol,MAType=Sim,Period=21", "MA","D","-1","all",,,,"T"),"") -> 0.9186001 | O15: =IFERROR(D15/RTD("cqg.rtd",,"StudyData","ATR("&A15&",MAType:=Sim,Period:=21)","Bar",, "Close", "D",,,,,,"T"),"") -> 0.016079632 | P15: =RTD("cqg.rtd",,"StudyData", $A15, "MA", "InputChoice=Close,MAType=Sim,Period=21", "MA","D",,"all",,,,"T") -> 58.288571 | Q15: =RTD("cqg.rtd",,"StudyData",$A15, "StdDev", "InputChoice=Close,Period1=21", "STDDEV","D",,"all",,,,"T") -> 3.1736104 | R15: =IFERROR(STANDARDIZE(C15,P15,Q15),"") -> -1.4300972
A16: S.BKNG | B16: =PROPER(RTD("cqg.rtd", ,"ContractData",A16, "LongDescription",, "T")) -> Booking Holdings Inc | C16: =RTD("cqg.rtd", ,"ContractData",A16, "LastTrade",, "T") -> 159.02 | D16: =RTD("cqg.rtd", ,"ContractData",A16, "NetLastTrade",, "T") -> -1.26 | E16: =IFERROR(RTD("cqg.rtd", ,"ContractData",A16, "PerCentNetLastTrade",, "T")/100,"") -> -0.0078612428 | F16: =RTD("cqg.rtd", ,"ContractData",A16, "Open",, "T") -> 161.23 | G16: =RTD("cqg.rtd", ,"ContractData",A16, "High",, "T") -> 162.24 | H16: =RTD("cqg.rtd", ,"ContractData",A16, "Low",, "T") -> 158.38 | I16: =IFERROR(RTD("cqg.rtd",,"StudyData",A16, "PCB","BaseType=Index,Index=1", "Close", "W","0","all",,,,"T")/100,"") -> -0.030070143 | J16: =IFERROR(RTD("cqg.rtd",,"StudyData",A16, "PCB","BaseType=Index,Index=1", "Close", "M","0","all",,,,"T")/100,"") -> -0.023878215 | K16: =IFERROR(RTD("cqg.rtd",,"StudyData",A16, "PCB","BaseType=Index,Index=1", "Close", "Q","0","all",,,,"T")/100,"") -> -0.023878215 | L16: =IFERROR(RTD("cqg.rtd",,"StudyData",A16, "PCB","BaseType=Index,Index=1", "Close", "A","0","all",,,,"T")/100,"") -> -0.25764437 | M16: =RTD("cqg.rtd", ,"ContractData",A16, "T_CVol",, "T") -> 7693144.2 | N16: =IFERROR(M16/RTD("cqg.rtd",,"StudyData", $A16, "MA", "InputChoice=Vol,MAType=Sim,Period=21", "MA","D","-1","all",,,,"T"),"") -> 0.86734656 | O16: =IFERROR(D16/RTD("cqg.rtd",,"StudyData","ATR("&A16&",MAType:=Sim,Period:=21)","Bar",, "Close", "D",,,,,,"T"),"") -> -0.1994723 | P16: =RTD("cqg.rtd",,"StudyData", $A16, "MA", "InputChoice=Close,MAType=Sim,Period=21", "MA","D",,"all",,,,"T") -> 169.77667 | Q16: =RTD("cqg.rtd",,"StudyData",$A16, "StdDev", "InputChoice=Close,Period1=21", "STDDEV","D",,"all",,,,"T") -> 10.125282 | R16: =IFERROR(STANDARDIZE(C16,P16,Q16),"") -> -1.0623573
... A102: S.XOM | B102: =PROPER(RTD("cqg.rtd", ,"ContractData",A102, "LongDescription",, "T")) -> Exxonmobil Holdings Corporation | C102: =RTD("cqg.rtd", ,"ContractData",A102, "LastTrade",, "T") -> 164.01 | D102: =RTD("cqg.rtd", ,"ContractData",A102, "NetLastTrade",, "T") -> 0.19 | E102: =IFERROR(RTD("cqg.rtd", ,"ContractData",A102, "PerCentNetLastTrade",, "T")/100,"") -> 0.0011598095 | F102: =RTD("cqg.rtd", ,"ContractData",A102, "Open",, "T") -> 161.55 | G102: =RTD("cqg.rtd", ,"ContractData",A102, "High",, "T") -> 164.61 | H102: =RTD("cqg.rtd", ,"ContractData",A102, "Low",, "T") -> 161.55 | I102: =IFERROR(RTD("cqg.rtd",,"StudyData",A102, "PCB","BaseType=Index,Index=1", "Close", "W","0","all",,,,"T")/100,"") -> 0.021296469 | J102: =IFERROR(RTD("cqg.rtd",,"StudyData",A102, "PCB","BaseType=Index,Index=1", "Close", "M","0","all",,,,"T")/100,"") -> 0.0077419355 | K102: =IFERROR(RTD("cqg.rtd",,"StudyData",A102, "PCB","BaseType=Index,Index=1", "Close", "Q","0","all",,,,"T")/100,"") -> 0.0077419355 | L102: =IFERROR(RTD("cqg.rtd",,"StudyData",A102, "PCB","BaseType=Index,Index=1", "Close", "A","0","all",,,,"T")/100,"") -> 0.36288848 | M102: =RTD("cqg.rtd", ,"ContractData",A102, "T_CVol",, "T") -> 11292312 | N102: =IFERROR(M102/RTD("cqg.rtd",,"StudyData", $A102, "MA", "InputChoice=Vol,MAType=Sim,Period=21", "MA","D","-1","all",,,,"T"),"") -> 0.80078847 | O102: =IFERROR(D102/RTD("cqg.rtd",,"StudyData","ATR("&A102&",MAType:=Sim,Period:=21)","Bar",, "Close", "D",,,,,,"T"),"") -> 0.050951347 | P102: =RTD("cqg.rtd",,"StudyData", $A102, "MA", "InputChoice=Close,MAType=Sim,Period=21", "MA","D",,"all",,,,"T") -> 162.74952 | Q102: =RTD("cqg.rtd",,"StudyData",$A102, "StdDev", "InputChoice=Close,Period1=21", "STDDEV","D",,"all",,,,"T") -> 2.5098596 | R102: =IFERROR(STANDARDIZE(C102,P102,Q102),"") -> 0.50220985
