{"text_format":"1","workbook":"xlsx","n_sheets":2,"sheets":["SONIA_3_Mo_Master","SO3"],"not_rendered":{"charts":6,"images":2,"macros":1,"external_links":0,"defined_names":0,"comments":0,"pivot_tables":0},"unopened":[],"bounds":{"document_bytes":16777216,"sheet_cells":100000,"rows_first":2000,"rows_last":500,"rows_between":2000,"halvings":0,"cell_chars":16384,"cell_head_chars":4096},"cells_cut":0,"cells_raw":0,"read":"whole","date_system":"1900"}

{"sheet":"SONIA_3_Mo_Master","index":0,"n_rows":57,"n_cols":54,"rows_kept":57,"cut":false,"hidden":false,"merged":[[56,17,56,18],[56,26,56,27],[56,4,56,7],[3,27,4,29],[8,8,9,9],[3,1,4,9],[6,6,7,9],[8,6,9,7],[6,4,7,5],[8,4,9,5],[6,2,7,3],[8,2,9,3],[6,1,7,1],[41,1,42,8],[56,1,56,2],[3,26,4,26],[121,20,121,21],[2,18,2,20],[121,17,121,18],[121,8,121,10],[106,10,108,10],[12,10,14,10],[2,7,2,10],[2,11,2,13],[121,15,121,16],[121,13,121,14],[2,14,2,17],[3,10,4,11],[73,1,74,8],[72,1,72,2],[74,10,76,10],[89,1,90,8],[114,1,114,2],[113,1,113,2],[2,1,2,3],[2,4,2,6],[8,1,9,1],[24,1,24,2],[40,1,40,2],[25,1,26,8],[10,1,10,3],[24,3,24,4],[40,3,40,4],[3,12,4,25],[56,9,56,10],[123,2,123,3],[118,1,118,2],[119,1,119,2],[90,10,92,10],[88,1,88,2],[112,1,112,2],[111,1,111,2],[110,1,110,2],[109,1,109,2],[108,1,108,2],[105,1,106,8],[117,1,117,2],[116,1,116,2],[115,1,115,2]]}
[]
[]
[]
[null,{"$f":"\"CQG \"&RTD(\"cqg.rtd\",,\"ContractData\",K6,\"LongDescription\")","v":"CQG Three Month SONIA, Jun 23"},null,null,null,null,null,null,null,null,null,null,"CQG 3 Month SONIA Forward Curves",null,null,null,null,null,null,null,null,null,null,null,null,null,null,{"$f":"RTD(\"cqg.rtd\", ,\"SystemInfo\", \"Linetime\")","v":45019.375752314816}]
[]
[null,null,null,null,null,null,null,null,null,null,{"$f":"RTD(\"cqg.rtd\", ,\"ContractData\",'SO3'!Q2, \"Symbol\")","v":"SO3M23"},{"$f":"RTD(\"cqg.rtd\", ,\"ContractData\",'SO3'!Q3, \"Symbol\")","v":"SO3U23"},{"$f":"RTD(\"cqg.rtd\", ,\"ContractData\",'SO3'!Q4, \"Symbol\")","v":"SO3Z23"},{"$f":"RTD(\"cqg.rtd\", ,\"ContractData\",'SO3'!Q5, \"Symbol\")","v":"SO3H24"},{"$f":"RTD(\"cqg.rtd\", ,\"ContractData\",'SO3'!Q6, \"Symbol\")","v":"SO3M24"},{"$f":"RTD(\"cqg.rtd\", ,\"ContractData\",'SO3'!Q7, \"Symbol\")","v":"SO3U24"},{"$f":"RTD(\"cqg.rtd\", ,\"ContractData\",'SO3'!Q8, \"Symbol\")","v":"SO3Z24"},{"$f":"RTD(\"cqg.rtd\", ,\"ContractData\",'SO3'!Q9, \"Symbol\")","v":"SO3H25"},{"$f":"RTD(\"cqg.rtd\", ,\"ContractData\",'SO3'!Q10, \"Symbol\")","v":"SO3M25"},{"$f":"RTD(\"cqg.rtd\", ,\"ContractData\",'SO3'!Q11, \"Symbol\")","v":"SO3U25"},{"$f":"RTD(\"cqg.rtd\", ,\"ContractData\",'SO3'!Q12, \"Symbol\")","v":"SO3Z25"},{"$f":"RTD(\"cqg.rtd\", ,\"ContractData\",'SO3'!Q13, \"Symbol\")","v":"SO3H26"},{"$f":"RTD(\"cqg.rtd\", ,\"ContractData\",'SO3'!Q14, \"Symbol\")","v":"SO3M26"},{"$f":"RTD(\"cqg.rtd\", ,\"ContractData\",'SO3'!Q15, \"Symbol\")","v":"SO3U26"},{"$f":"RTD(\"cqg.rtd\", ,\"ContractData\",'SO3'!Q16, \"Symbol\")","v":"SO3Z26"},{"$f":"RTD(\"cqg.rtd\", ,\"ContractData\",'SO3'!Q17, \"Symbol\")","v":"SO3H27"},{"$f":"RTD(\"cqg.rtd\", ,\"ContractData\",'SO3'!Q18, \"Symbol\")","v":"SO3M27"},{"$f":"RTD(\"cqg.rtd\", ,\"ContractData\",'SO3'!Q18, \"Symbol\")","v":"SO3M27"},{"$f":"RTD(\"cqg.rtd\", ,\"ContractData\",'SO3'!Q20, \"Symbol\")","v":"SO3Z27"},{"$f":"RTD(\"cqg.rtd\", ,\"ContractData\",'SO3'!Q21, \"Symbol\")","v":"SO3H28"},null,null,null,null,{"$f":"LEFT(RIGHT(K6,3),1)","v":"M"},{"$f":"LEFT(RIGHT(L6,3),1)","v":"U"},{"$f":"LEFT(RIGHT(M6,3),1)","v":"Z"},"H","M","U","Z","H","M","U","Z","H","M","U",{"$f":"LEFT(RIGHT(Y6,3),1)","v":"Z"},{"$f":"LEFT(RIGHT(Z6,3),1)","v":"H"},{"$f":"LEFT(RIGHT(AA6,3),1)","v":"M"},{"$f":"LEFT(RIGHT(AB6,3),1)","v":"M"},{"$f":"LEFT(RIGHT(AC6,3),1)","v":"Z"},{"$f":"LEFT(RIGHT(AD6,3),1)","v":"H"}]
[null,"Ask",{"$f":"RTD(\"cqg.rtd\", ,\"ContractData\",K6, \"MT_LastAskVolume\")","v":206},null,{"$f":"RTD(\"cqg.rtd\", ,\"ContractData\",K6, \"Ask\",,\"T\")","v":95.465000000000003},null,"Last Trade",null,null,null,{"$f":"IF(AI6=\"F\",\"JAN\",IF(AI6=\"G\",\"FEB\",IF(AI6=\"H\",\"MAR\",IF(AI6=\"J\",\"APR\",IF(AI6=\"K\",\"MAY\",IF(AI6=\"M\",\"JUN\",IF(AI6=\"N\",\"JUL\",IF(AI6=\"Q\",\"AUG\",IF(AI6=\"U\",\"SEP\",IF(AI6=\"V\",\"OCT\",IF(AI6=\"X\",\"NOV\",IF(AI6=\"Z\",\"DEC\",))))))))))))&\" \"&RIGHT(K6,2)","v":"JUN 23"},"SEP 23","DEC 23","MAR 24","JUN 24","SEP 24","DEC 24","MAR 25","JUN 25","SEP 25","DEC 25","MAR 26","JUN 26","SEP 26",{"$f":"IF(AW6=\"F\",\"JAN\",IF(AW6=\"G\",\"FEB\",IF(AW6=\"H\",\"MAR\",IF(AW6=\"J\",\"APR\",IF(AW6=\"K\",\"MAY\",IF(AW6=\"M\",\"JUN\",IF(AW6=\"N\",\"JUL\",IF(AW6=\"Q\",\"AUG\",IF(AW6=\"U\",\"SEP\",IF(AW6=\"V\",\"OCT\",IF(AW6=\"X\",\"NOV\",IF(AW6=\"Z\",\"DEC\",))))))))))))&\" \"&RIGHT(Y6,2)","v":"DEC 26"},"MAR 27","JUN 27","JUN 27","DEC 27","MAR 28"]
[null,null,null,null,null,null,null,null,null,null,{"$f":"IF(RTD(\"cqg.rtd\",,\"ContractData\",K6,\"Ask\",,\"T\")=\"\",\"\",TEXT(RTD(\"cqg.rtd\",,\"ContractData\",K6,\"Ask\",,\"T\"),\"#.0000\")&\" \"&\"A\")","v":"95.4650 A"},{"$f":"IF(RTD(\"cqg.rtd\",,\"ContractData\",L6,\"Ask\",,\"T\")=\"\",\"\",TEXT(RTD(\"cqg.rtd\",,\"ContractData\",L6,\"Ask\",,\"T\"),\"#.000\")&\" \"&\"A\")","v":"95.440 A"},{"$f":"IF(RTD(\"cqg.rtd\",,\"ContractData\",M6,\"Ask\",,\"T\")=\"\",\"\",TEXT(RTD(\"cqg.rtd\",,\"ContractData\",M6,\"Ask\",,\"T\"),\"#.000\")&\" \"&\"A\")","v":"95.570 A"},{"$f":"IF(RTD(\"cqg.rtd\",,\"ContractData\",N6,\"Ask\",,\"T\")=\"\",\"\",TEXT(RTD(\"cqg.rtd\",,\"ContractData\",N6,\"Ask\",,\"T\"),\"#.000\")&\" \"&\"A\")","v":"95.795 A"},{"$f":"IF(RTD(\"cqg.rtd\",,\"ContractData\",O6,\"Ask\",,\"T\")=\"\",\"\",TEXT(RTD(\"cqg.rtd\",,\"ContractData\",O6,\"Ask\",,\"T\"),\"#.000\")&\" \"&\"A\")","v":"96.025 A"},{"$f":"IF(RTD(\"cqg.rtd\",,\"ContractData\",P6,\"Ask\",,\"T\")=\"\",\"\",TEXT(RTD(\"cqg.rtd\",,\"ContractData\",P6,\"Ask\",,\"T\"),\"#.000\")&\" \"&\"A\")","v":"96.185 A"},{"$f":"IF(RTD(\"cqg.rtd\",,\"ContractData\",Q6,\"Ask\",,\"T\")=\"\",\"\",TEXT(RTD(\"cqg.rtd\",,\"ContractData\",Q6,\"Ask\",,\"T\"),\"#.000\")&\" \"&\"A\")","v":"96.270 A"},{"$f":"IF(RTD(\"cqg.rtd\",,\"ContractData\",R6,\"Ask\",,\"T\")=\"\",\"\",TEXT(RTD(\"cqg.rtd\",,\"ContractData\",R6,\"Ask\",,\"T\"),\"#.000\")&\" \"&\"A\")","v":"96.325 A"},{"$f":"IF(RTD(\"cqg.rtd\",,\"ContractData\",S6,\"Ask\",,\"T\")=\"\",\"\",TEXT(RTD(\"cqg.rtd\",,\"ContractData\",S6,\"Ask\",,\"T\"),\"#.000\")&\" \"&\"A\")","v":"96.375 A"},{"$f":"IF(RTD(\"cqg.rtd\",,\"ContractData\",T6,\"Ask\",,\"T\")=\"\",\"\",TEXT(RTD(\"cqg.rtd\",,\"ContractData\",T6,\"Ask\",,\"T\"),\"#.000\")&\" \"&\"A\")","v":"96.430 A"},{"$f":"IF(RTD(\"cqg.rtd\",,\"ContractData\",U6,\"Ask\",,\"T\")=\"\",\"\",TEXT(RTD(\"cqg.rtd\",,\"ContractData\",U6,\"Ask\",,\"T\"),\"#.000\")&\" \"&\"A\")","v":"96.490 A"},{"$f":"IF(RTD(\"cqg.rtd\",,\"ContractData\",V6,\"Ask\",,\"T\")=\"\",\"\",TEXT(RTD(\"cqg.rtd\",,\"ContractData\",V6,\"Ask\",,\"T\"),\"#.000\")&\" \"&\"A\")","v":"96.535 A"},{"$f":"IF(RTD(\"cqg.rtd\",,\"ContractData\",W6,\"Ask\",,\"T\")=\"\",\"\",TEXT(RTD(\"cqg.rtd\",,\"ContractData\",W6,\"Ask\",,\"T\"),\"#.000\")&\" \"&\"A\")","v":"96.575 A"},{"$f":"IF(RTD(\"cqg.rtd\",,\"ContractData\",X6,\"Ask\",,\"T\")=\"\",\"\",TEXT(RTD(\"cqg.rtd\",,\"ContractData\",X6,\"Ask\",,\"T\"),\"#.000\")&\" \"&\"A\")","v":"96.615 A"},{"$f":"IF(RTD(\"cqg.rtd\",,\"ContractData\",Y6,\"Ask\",,\"T\")=\"\",\"\",TEXT(RTD(\"cqg.rtd\",,\"ContractData\",Y6,\"Ask\",,\"T\"),\"#.000\")&\" \"&\"A\")","v":"96.665 A"},{"$f":"IF(RTD(\"cqg.rtd\",,\"ContractData\",Z6,\"Ask\",,\"T\")=\"\",\"\",TEXT(RTD(\"cqg.rtd\",,\"ContractData\",Z6,\"Ask\",,\"T\"),\"#.000\")&\" \"&\"A\")","v":"96.715 A"},{"$f":"IF(RTD(\"cqg.rtd\",,\"ContractData\",AA6,\"Ask\",,\"T\")=\"\",\"\",TEXT(RTD(\"cqg.rtd\",,\"ContractData\",AA6,\"Ask\",,\"T\"),\"#.000\")&\" \"&\"A\")","v":"96.760 A"},{"$f":"IF(RTD(\"cqg.rtd\",,\"ContractData\",AB6,\"Ask\",,\"T\")=\"\",\"\",TEXT(RTD(\"cqg.rtd\",,\"ContractData\",AB6,\"Ask\",,\"T\"),\"#.000\")&\" \"&\"A\")","v":"96.760 A"},{"$f":"IF(RTD(\"cqg.rtd\",,\"ContractData\",AC6,\"Ask\",,\"T\")=\"\",\"\",TEXT(RTD(\"cqg.rtd\",,\"ContractData\",AC6,\"Ask\",,\"T\"),\"#.000\")&\" \"&\"A\")","v":"96.815 A"},{"$f":"IF(RTD(\"cqg.rtd\",,\"ContractData\",AD6,\"Ask\",,\"T\")=\"\",\"\",TEXT(RTD(\"cqg.rtd\",,\"ContractData\",AD6,\"Ask\",,\"T\"),\"#.000\")&\" \"&\"A\")","v":"96.835 A"}]
[null,"Bid",{"$f":"RTD(\"cqg.rtd\", ,\"ContractData\",K6, \"MT_LastBidVolume\")","v":469},null,{"$f":"RTD(\"cqg.rtd\", ,\"ContractData\",K6, \"Bid\",,\"T\")","v":95.454999999999998},null,{"$f":"RTD(\"cqg.rtd\", ,\"ContractData\",K6,\"LastTradeorSettle\",,\"T\")","v":95.460000000000008},null,{"$f":"IF(G13>0,\"+\"&TEXT(RTD(\"cqg.rtd\",,\"ContractData\",K6,\"NetLastTradeToday\",,\"T\"),\"#.0000\"),TEXT(G13,\"#.0000\"))","v":"+.0100"},null,{"$f":"IF(RTD(\"cqg.rtd\",,\"ContractData\",K6,\"Bid\",,\"T\")=\"\",\"\",TEXT(RTD(\"cqg.rtd\",,\"ContractData\",K6,\"Bid\",,\"T\"),\"#.0000\")&\" \"&\"B\")","v":"95.4550 B"},{"$f":"IF(RTD(\"cqg.rtd\",,\"ContractData\",L6,\"Bid\",,\"T\")=\"\",\"\",TEXT(RTD(\"cqg.rtd\",,\"ContractData\",L6,\"Bid\",,\"T\"),\"#.000\")&\" \"&\"B\")","v":"95.430 B"},{"$f":"IF(RTD(\"cqg.rtd\",,\"ContractData\",M6,\"Bid\",,\"T\")=\"\",\"\",TEXT(RTD(\"cqg.rtd\",,\"ContractData\",M6,\"Bid\",,\"T\"),\"#.000\")&\" \"&\"B\")","v":"95.560 B"},{"$f":"IF(RTD(\"cqg.rtd\",,\"ContractData\",N6,\"Bid\",,\"T\")=\"\",\"\",TEXT(RTD(\"cqg.rtd\",,\"ContractData\",N6,\"Bid\",,\"T\"),\"#.000\")&\" \"&\"B\")","v":"95.790 B"},{"$f":"IF(RTD(\"cqg.rtd\",,\"ContractData\",O6,\"Bid\",,\"T\")=\"\",\"\",TEXT(RTD(\"cqg.rtd\",,\"ContractData\",O6,\"Bid\",,\"T\"),\"#.000\")&\" \"&\"B\")","v":"96.015 B"},{"$f":"IF(RTD(\"cqg.rtd\",,\"ContractData\",P6,\"Bid\",,\"T\")=\"\",\"\",TEXT(RTD(\"cqg.rtd\",,\"ContractData\",P6,\"Bid\",,\"T\"),\"#.000\")&\" \"&\"B\")","v":"96.175 B"},{"$f":"IF(RTD(\"cqg.rtd\",,\"ContractData\",Q6,\"Bid\",,\"T\")=\"\",\"\",TEXT(RTD(\"cqg.rtd\",,\"ContractData\",Q6,\"Bid\",,\"T\"),\"#.000\")&\" \"&\"B\")","v":"96.260 B"},{"$f":"IF(RTD(\"cqg.rtd\",,\"ContractData\",R6,\"Bid\",,\"T\")=\"\",\"\",TEXT(RTD(\"cqg.rtd\",,\"ContractData\",R6,\"Bid\",,\"T\"),\"#.000\")&\" \"&\"B\")","v":"96.315 B"},{"$f":"IF(RTD(\"cqg.rtd\",,\"ContractData\",S6,\"Bid\",,\"T\")=\"\",\"\",TEXT(RTD(\"cqg.rtd\",,\"ContractData\",S6,\"Bid\",,\"T\"),\"#.000\")&\" \"&\"B\")","v":"96.365 B"},{"$f":"IF(RTD(\"cqg.rtd\",,\"ContractData\",T6,\"Bid\",,\"T\")=\"\",\"\",TEXT(RTD(\"cqg.rtd\",,\"ContractData\",T6,\"Bid\",,\"T\"),\"#.000\")&\" \"&\"B\")","v":"96.425 B"},{"$f":"IF(RTD(\"cqg.rtd\",,\"ContractData\",U6,\"Bid\",,\"T\")=\"\",\"\",TEXT(RTD(\"cqg.rtd\",,\"ContractData\",U6,\"Bid\",,\"T\"),\"#.000\")&\" \"&\"B\")","v":"96.480 B"},{"$f":"IF(RTD(\"cqg.rtd\",,\"ContractData\",V6,\"Bid\",,\"T\")=\"\",\"\",TEXT(RTD(\"cqg.rtd\",,\"ContractData\",V6,\"Bid\",,\"T\"),\"#.000\")&\" \"&\"B\")","v":"96.530 B"},{"$f":"IF(RTD(\"cqg.rtd\",,\"ContractData\",W6,\"Bid\",,\"T\")=\"\",\"\",TEXT(RTD(\"cqg.rtd\",,\"ContractData\",W6,\"Bid\",,\"T\"),\"#.000\")&\" \"&\"B\")","v":"96.565 B"},{"$f":"IF(RTD(\"cqg.rtd\",,\"ContractData\",X6,\"Bid\",,\"T\")=\"\",\"\",TEXT(RTD(\"cqg.rtd\",,\"ContractData\",X6,\"Bid\",,\"T\"),\"#.000\")&\" \"&\"B\")","v":"96.605 B"},{"$f":"IF(RTD(\"cqg.rtd\",,\"ContractData\",Y6,\"Bid\",,\"T\")=\"\",\"\",TEXT(RTD(\"cqg.rtd\",,\"ContractData\",Y6,\"Bid\",,\"T\"),\"#.000\")&\" \"&\"B\")","v":"96.655 B"},{"$f":"IF(RTD(\"cqg.rtd\",,\"ContractData\",Z6,\"Bid\",,\"T\")=\"\",\"\",TEXT(RTD(\"cqg.rtd\",,\"ContractData\",Z6,\"Bid\",,\"T\"),\"#.000\")&\" \"&\"B\")","v":"96.710 B"},{"$f":"IF(RTD(\"cqg.rtd\",,\"ContractData\",AA6,\"Bid\",,\"T\")=\"\",\"\",TEXT(RTD(\"cqg.rtd\",,\"ContractData\",AA6,\"Bid\",,\"T\"),\"#.000\")&\" \"&\"B\")","v":"96.750 B"},{"$f":"IF(RTD(\"cqg.rtd\",,\"ContractData\",AB6,\"Bid\",,\"T\")=\"\",\"\",TEXT(RTD(\"cqg.rtd\",,\"ContractData\",AB6,\"Bid\",,\"T\"),\"#.000\")&\" \"&\"B\")","v":"96.750 B"},{"$f":"IF(RTD(\"cqg.rtd\",,\"ContractData\",AC6,\"Bid\",,\"T\")=\"\",\"\",TEXT(RTD(\"cqg.rtd\",,\"ContractData\",AC6,\"Bid\",,\"T\"),\"#.000\")&\" \"&\"B\")","v":"96.795 B"},{"$f":"IF(RTD(\"cqg.rtd\",,\"ContractData\",AD6,\"Bid\",,\"T\")=\"\",\"\",TEXT(RTD(\"cqg.rtd\",,\"ContractData\",AD6,\"Bid\",,\"T\"),\"#.000\")&\" \"&\"B\")","v":"96.800 B"}]
[null,null,null,null,null,null,null,null,null,null,{"$f":"TEXT(RTD(\"cqg.rtd\", ,\"ContractData\",K6,\"LastTradeorSettle\",,\"T\"),\"#.0000\")&\" \"&\"L\"","v":"95.4600 L"},{"$f":"TEXT(RTD(\"cqg.rtd\", ,\"ContractData\",L6,\"LastTradeorSettle\",,\"T\"),\"#.000\")&\" \"&\"L\"","v":"95.435 L"},{"$f":"TEXT(RTD(\"cqg.rtd\", ,\"ContractData\",M6,\"LastTradeorSettle\",,\"T\"),\"#.000\")&\" \"&\"L\"","v":"95.570 L"},{"$f":"TEXT(RTD(\"cqg.rtd\", ,\"ContractData\",N6,\"LastTradeorSettle\",,\"T\"),\"#.000\")&\" \"&\"L\"","v":"95.795 L"},{"$f":"TEXT(RTD(\"cqg.rtd\", ,\"ContractData\",O6,\"LastTradeorSettle\",,\"T\"),\"#.000\")&\" \"&\"L\"","v":"96.025 L"},{"$f":"TEXT(RTD(\"cqg.rtd\", ,\"ContractData\",P6,\"LastTradeorSettle\",,\"T\"),\"#.000\")&\" \"&\"L\"","v":"96.185 L"},{"$f":"TEXT(RTD(\"cqg.rtd\", ,\"ContractData\",Q6,\"LastTradeorSettle\",,\"T\"),\"#.000\")&\" \"&\"L\"","v":"96.265 L"},{"$f":"TEXT(RTD(\"cqg.rtd\", ,\"ContractData\",R6,\"LastTradeorSettle\",,\"T\"),\"#.000\")&\" \"&\"L\"","v":"96.320 L"},{"$f":"TEXT(RTD(\"cqg.rtd\", ,\"ContractData\",S6,\"LastTradeorSettle\",,\"T\"),\"#.000\")&\" \"&\"L\"","v":"96.375 L"},{"$f":"TEXT(RTD(\"cqg.rtd\", ,\"ContractData\",T6,\"LastTradeorSettle\",,\"T\"),\"#.000\")&\" \"&\"L\"","v":"96.430 L"},{"$f":"TEXT(RTD(\"cqg.rtd\", ,\"ContractData\",U6,\"LastTradeorSettle\",,\"T\"),\"#.000\")&\" \"&\"L\"","v":"96.485 L"},{"$f":"TEXT(RTD(\"cqg.rtd\", ,\"ContractData\",V6,\"LastTradeorSettle\",,\"T\"),\"#.000\")&\" \"&\"L\"","v":"96.525 L"},{"$f":"TEXT(RTD(\"cqg.rtd\", ,\"ContractData\",W6,\"LastTradeorSettle\",,\"T\"),\"#.000\")&\" \"&\"L\"","v":"96.570 L"},{"$f":"TEXT(RTD(\"cqg.rtd\", ,\"ContractData\",X6,\"LastTradeorSettle\",,\"T\"),\"#.000\")&\" \"&\"L\"","v":"96.615 L"},{"$f":"TEXT(RTD(\"cqg.rtd\", ,\"ContractData\",Y6,\"LastTradeorSettle\",,\"T\"),\"#.000\")&\" \"&\"L\"","v":"96.650 L"},{"$f":"TEXT(RTD(\"cqg.rtd\", ,\"ContractData\",Z6,\"LastTradeorSettle\",,\"T\"),\"#.000\")&\" \"&\"L\"","v":"96.715 L"},{"$f":"TEXT(RTD(\"cqg.rtd\", ,\"ContractData\",AA6,\"LastTradeorSettle\",,\"T\"),\"#.000\")&\" \"&\"L\"","v":"96.755 L"},{"$f":"TEXT(RTD(\"cqg.rtd\", ,\"ContractData\",AB6,\"LastTradeorSettle\",,\"T\"),\"#.000\")&\" \"&\"L\"","v":"96.755 L"},{"$f":"TEXT(RTD(\"cqg.rtd\", ,\"ContractData\",AC6,\"LastTradeorSettle\",,\"T\"),\"#.000\")&\" \"&\"L\"","v":"96.755 L"},{"$f":"TEXT(RTD(\"cqg.rtd\", ,\"ContractData\",AD6,\"LastTradeorSettle\",,\"T\"),\"#.000\")&\" \"&\"L\"","v":"96.765 L"}]
[null,"Enter First Contract Symbol: ",null,null,"SO3M23",null,{"$f":"'SO3'!C18","v":97},{"$f":"'SO3'!D18","v":95}]
[null,"Symbols","Open","High","Low","Last","Net","Net","Volume"]
[{"$f":"RTD(\"cqg.rtd\",,\"ContractData\",K6, \"Symbol\")","v":"SO3M23"},{"$f":"RIGHT(RTD(\"cqg.rtd\",,\"ContractData\",A13, \"LongDescription\"),7)","v":" Jun 23"},{"$f":"RTD(\"cqg.rtd\", ,\"ContractData\",A13, \"Open\",,\"T\")","v":95.424999999999997},{"$f":"RTD(\"cqg.rtd\", ,\"ContractData\",A13, \"High\",,\"T\")","v":95.465000000000003},{"$f":"RTD(\"cqg.rtd\", ,\"ContractData\",A13, \"Low\",,\"T\")","v":95.39},{"$f":"RTD(\"cqg.rtd\", ,\"ContractData\",A13, \"LastTradeorSettle\",,\"T\")","v":95.460000000000008},{"$f":"RTD(\"cqg.rtd\",,\"ContractData\",A13,\"NetLastTradeToday\",,\"T\")","v":0.01},{"$f":"RTD(\"cqg.rtd\",,\"ContractData\",A13,\"NetLastTradeToday\",,\"T\")","v":0.01},{"$f":"RTD(\"cqg.rtd\", ,\"ContractData\",A13, \"T_CVol\")","v":16241}]
[{"$f":"RTD(\"cqg.rtd\",,\"ContractData\",L6, \"Symbol\")","v":"SO3U23"},{"$f":"RIGHT(RTD(\"cqg.rtd\",,\"ContractData\",A14, \"LongDescription\"),7)","v":" Sep 23"},{"$f":"RTD(\"cqg.rtd\", ,\"ContractData\",A14, \"Open\",,\"T\")","v":95.355000000000004},{"$f":"RTD(\"cqg.rtd\", ,\"ContractData\",A14, \"High\",,\"T\")","v":95.445000000000007},{"$f":"RTD(\"cqg.rtd\", ,\"ContractData\",A14, \"Low\",,\"T\")","v":95.335000000000008},{"$f":"RTD(\"cqg.rtd\", ,\"ContractData\",A14, \"LastTradeorSettle\",,\"T\")","v":95.435000000000002},{"$f":"RTD(\"cqg.rtd\",,\"ContractData\",A14,\"NetLastTradeToday\",,\"T\")","v":1.4999999999999999E-2},{"$f":"RTD(\"cqg.rtd\",,\"ContractData\",A14,\"NetLastTradeToday\",,\"T\")","v":1.4999999999999999E-2},{"$f":"RTD(\"cqg.rtd\", ,\"ContractData\",A14, \"T_CVol\")","v":14553}]
[{"$f":"RTD(\"cqg.rtd\",,\"ContractData\",M6, \"Symbol\")","v":"SO3Z23"},{"$f":"RIGHT(RTD(\"cqg.rtd\",,\"ContractData\",A15, \"LongDescription\"),7)","v":"~ð¶b~\u0001\u0001"},{"$f":"RTD(\"cqg.rtd\", ,\"ContractData\",A15, \"Open\",,\"T\")","v":95.51},{"$f":"RTD(\"cqg.rtd\", ,\"ContractData\",A15, \"High\",,\"T\")","v":95.575000000000003},{"$f":"RTD(\"cqg.rtd\", ,\"ContractData\",A15, \"Low\",,\"T\")","v":95.454999999999998},{"$f":"RTD(\"cqg.rtd\", ,\"ContractData\",A15, \"LastTradeorSettle\",,\"T\")","v":95.570000000000007},{"$f":"RTD(\"cqg.rtd\",,\"ContractData\",A15,\"NetLastTradeToday\",,\"T\")","v":2.5000000000000001E-2},{"$f":"RTD(\"cqg.rtd\",,\"ContractData\",A15,\"NetLastTradeToday\",,\"T\")","v":2.5000000000000001E-2},{"$f":"RTD(\"cqg.rtd\", ,\"ContractData\",A15, \"T_CVol\")","v":13153}]
[{"$f":"RTD(\"cqg.rtd\",,\"ContractData\",N6, \"Symbol\")","v":"SO3H24"},{"$f":"RIGHT(RTD(\"cqg.rtd\",,\"ContractData\",A16, \"LongDescription\"),7)","v":" Mar 24"},{"$f":"RTD(\"cqg.rtd\", ,\"ContractData\",A16, \"Open\",,\"T\")","v":95.745000000000005},{"$f":"RTD(\"cqg.rtd\", ,\"ContractData\",A16, \"High\",,\"T\")","v":95.8},{"$f":"RTD(\"cqg.rtd\", ,\"ContractData\",A16, \"Low\",,\"T\")","v":95.66},{"$f":"RTD(\"cqg.rtd\", ,\"ContractData\",A16, \"LastTradeorSettle\",,\"T\")","v":95.795000000000002},{"$f":"RTD(\"cqg.rtd\",,\"ContractData\",A16,\"NetLastTradeToday\",,\"T\")","v":0.03},{"$f":"RTD(\"cqg.rtd\",,\"ContractData\",A16,\"NetLastTradeToday\",,\"T\")","v":0.03},{"$f":"RTD(\"cqg.rtd\", ,\"ContractData\",A16, \"T_CVol\")","v":12401}]
[{"$f":"RTD(\"cqg.rtd\",,\"ContractData\",O6, \"Symbol\")","v":"SO3M24"},{"$f":"RIGHT(RTD(\"cqg.rtd\",,\"ContractData\",A17, \"LongDescription\"),7)","v":"Œ"},{"$f":"RTD(\"cqg.rtd\", ,\"ContractData\",A17, \"Open\",,\"T\")","v":95.97},{"$f":"RTD(\"cqg.rtd\", ,\"ContractData\",A17, \"High\",,\"T\")","v":96.025000000000006},{"$f":"RTD(\"cqg.rtd\", ,\"ContractData\",A17, \"Low\",,\"T\")","v":95.885000000000005},{"$f":"RTD(\"cqg.rtd\", ,\"ContractData\",A17, \"LastTradeorSettle\",,\"T\")","v":96.025000000000006},{"$f":"RTD(\"cqg.rtd\",,\"ContractData\",A17,\"NetLastTradeToday\",,\"T\")","v":0.03},{"$f":"RTD(\"cqg.rtd\",,\"ContractData\",A17,\"NetLastTradeToday\",,\"T\")","v":0.03},{"$f":"RTD(\"cqg.rtd\", ,\"ContractData\",A17, \"T_CVol\")","v":13748}]
[{"$f":"RTD(\"cqg.rtd\",,\"ContractData\",P6, \"Symbol\")","v":"SO3U24"},{"$f":"RIGHT(RTD(\"cqg.rtd\",,\"ContractData\",A18, \"LongDescription\"),7)","v":" Sep 24"},{"$f":"RTD(\"cqg.rtd\", ,\"ContractData\",A18, \"Open\",,\"T\")","v":96.064999999999998},{"$f":"RTD(\"cqg.rtd\", ,\"ContractData\",A18, \"High\",,\"T\")","v":96.185000000000002},{"$f":"RTD(\"cqg.rtd\", ,\"ContractData\",A18, \"Low\",,\"T\")","v":96.05},{"$f":"RTD(\"cqg.rtd\", ,\"ContractData\",A18, \"LastTradeorSettle\",,\"T\")","v":96.185000000000002},{"$f":"RTD(\"cqg.rtd\",,\"ContractData\",A18,\"NetLastTradeToday\",,\"T\")","v":0.03},{"$f":"RTD(\"cqg.rtd\",,\"ContractData\",A18,\"NetLastTradeToday\",,\"T\")","v":0.03},{"$f":"RTD(\"cqg.rtd\", ,\"ContractData\",A18, \"T_CVol\")","v":9760}]
[{"$f":"RTD(\"cqg.rtd\",,\"ContractData\",Q6, \"Symbol\")","v":"SO3Z24"},{"$f":"RIGHT(RTD(\"cqg.rtd\",,\"ContractData\",A19, \"LongDescription\"),7)","v":" Dec 24"},{"$f":"RTD(\"cqg.rtd\", ,\"ContractData\",A19, \"Open\",,\"T\")","v":96.144999999999996},{"$f":"RTD(\"cqg.rtd\", ,\"ContractData\",A19, \"High\",,\"T\")","v":96.27},{"$f":"RTD(\"cqg.rtd\", ,\"ContractData\",A19, \"Low\",,\"T\")","v":96.13},{"$f":"RTD(\"cqg.rtd\", ,\"ContractData\",A19, \"LastTradeorSettle\",,\"T\")","v":96.265000000000001},{"$f":"RTD(\"cqg.rtd\",,\"ContractData\",A19,\"NetLastTradeToday\",,\"T\")","v":3.5000000000000003E-2},{"$f":"RTD(\"cqg.rtd\",,\"ContractData\",A19,\"NetLastTradeToday\",,\"T\")","v":3.5000000000000003E-2},{"$f":"RTD(\"cqg.rtd\", ,\"ContractData\",A19, \"T_CVol\")","v":10930}]
[{"$f":"RTD(\"cqg.rtd\",,\"ContractData\",R6, \"Symbol\")","v":"SO3H25"},{"$f":"RIGHT(RTD(\"cqg.rtd\",,\"ContractData\",A20, \"LongDescription\"),7)","v":" Mar 25"},{"$f":"RTD(\"cqg.rtd\", ,\"ContractData\",A20, \"Open\",,\"T\")","v":96.2},{"$f":"RTD(\"cqg.rtd\", ,\"ContractData\",A20, \"High\",,\"T\")","v":96.320000000000007},{"$f":"RTD(\"cqg.rtd\", ,\"ContractData\",A20, \"Low\",,\"T\")","v":96.19},{"$f":"RTD(\"cqg.rtd\", ,\"ContractData\",A20, \"LastTradeorSettle\",,\"T\")","v":96.320000000000007},{"$f":"RTD(\"cqg.rtd\",,\"ContractData\",A20,\"NetLastTradeToday\",,\"T\")","v":3.5000000000000003E-2},{"$f":"RTD(\"cqg.rtd\",,\"ContractData\",A20,\"NetLastTradeToday\",,\"T\")","v":3.5000000000000003E-2},{"$f":"RTD(\"cqg.rtd\", ,\"ContractData\",A20, \"T_CVol\")","v":8134}]
[{"$f":"RTD(\"cqg.rtd\",,\"ContractData\",S6, \"Symbol\")","v":"SO3M25"},{"$f":"RIGHT(RTD(\"cqg.rtd\",,\"ContractData\",A21, \"LongDescription\"),7)","v":" Jun 25"},{"$f":"RTD(\"cqg.rtd\", ,\"ContractData\",A21, \"Open\",,\"T\")","v":96.254999999999995},{"$f":"RTD(\"cqg.rtd\", ,\"ContractData\",A21, \"High\",,\"T\")","v":96.375},{"$f":"RTD(\"cqg.rtd\", ,\"ContractData\",A21, \"Low\",,\"T\")","v":96.245000000000005},{"$f":"RTD(\"cqg.rtd\", ,\"ContractData\",A21, \"LastTradeorSettle\",,\"T\")","v":96.375},{"$f":"RTD(\"cqg.rtd\",,\"ContractData\",A21,\"NetLastTradeToday\",,\"T\")","v":3.5000000000000003E-2},{"$f":"RTD(\"cqg.rtd\",,\"ContractData\",A21,\"NetLastTradeToday\",,\"T\")","v":3.5000000000000003E-2},{"$f":"RTD(\"cqg.rtd\", ,\"ContractData\",A21, \"T_CVol\")","v":4840}]
[{"$f":"RTD(\"cqg.rtd\",,\"ContractData\",T6, \"Symbol\")","v":"SO3U25"},{"$f":"RIGHT(RTD(\"cqg.rtd\",,\"ContractData\",A22, \"LongDescription\"),7)","v":" Sep 25"},{"$f":"RTD(\"cqg.rtd\", ,\"ContractData\",A22, \"Open\",,\"T\")","v":96.3},{"$f":"RTD(\"cqg.rtd\", ,\"ContractData\",A22, \"High\",,\"T\")","v":96.43},{"$f":"RTD(\"cqg.rtd\", ,\"ContractData\",A22, \"Low\",,\"T\")","v":96.3},{"$f":"RTD(\"cqg.rtd\", ,\"ContractData\",A22, \"LastTradeorSettle\",,\"T\")","v":96.43},{"$f":"RTD(\"cqg.rtd\",,\"ContractData\",A22,\"NetLastTradeToday\",,\"T\")","v":3.5000000000000003E-2},{"$f":"RTD(\"cqg.rtd\",,\"ContractData\",A22,\"NetLastTradeToday\",,\"T\")","v":3.5000000000000003E-2},{"$f":"RTD(\"cqg.rtd\", ,\"ContractData\",A22, \"T_CVol\")","v":5708}]
[{"$f":"RTD(\"cqg.rtd\",,\"ContractData\",U6, \"Symbol\")","v":"SO3Z25"},{"$f":"RIGHT(RTD(\"cqg.rtd\",,\"ContractData\",A23, \"LongDescription\"),7)","v":" Dec 25"},{"$f":"RTD(\"cqg.rtd\", ,\"ContractData\",A23, \"Open\",,\"T\")","v":96.365000000000009},{"$f":"RTD(\"cqg.rtd\", ,\"ContractData\",A23, \"High\",,\"T\")","v":96.490000000000009},{"$f":"RTD(\"cqg.rtd\", ,\"ContractData\",A23, \"Low\",,\"T\")","v":96.365000000000009},{"$f":"RTD(\"cqg.rtd\", ,\"ContractData\",A23, \"LastTradeorSettle\",,\"T\")","v":96.484999999999999},{"$f":"RTD(\"cqg.rtd\",,\"ContractData\",A23,\"NetLastTradeToday\",,\"T\")","v":0.03},{"$f":"RTD(\"cqg.rtd\",,\"ContractData\",A23,\"NetLastTradeToday\",,\"T\")","v":0.03},{"$f":"RTD(\"cqg.rtd\", ,\"ContractData\",A23, \"T_CVol\")","v":5156}]
[{"$f":"RTD(\"cqg.rtd\",,\"ContractData\",V6, \"Symbol\")","v":"SO3H26"},{"$f":"RIGHT(RTD(\"cqg.rtd\",,\"ContractData\",A24, \"LongDescription\"),7)","v":" Mar 26"},{"$f":"RTD(\"cqg.rtd\", ,\"ContractData\",A24, \"Open\",,\"T\")","v":96.415000000000006},{"$f":"RTD(\"cqg.rtd\", ,\"ContractData\",A24, \"High\",,\"T\")","v":96.525000000000006},{"$f":"RTD(\"cqg.rtd\", ,\"ContractData\",A24, \"Low\",,\"T\")","v":96.415000000000006},{"$f":"RTD(\"cqg.rtd\", ,\"ContractData\",A24, \"LastTradeorSettle\",,\"T\")","v":96.525000000000006},{"$f":"RTD(\"cqg.rtd\",,\"ContractData\",A24,\"NetLastTradeToday\",,\"T\")","v":0.02},{"$f":"RTD(\"cqg.rtd\",,\"ContractData\",A24,\"NetLastTradeToday\",,\"T\")","v":0.02},{"$f":"RTD(\"cqg.rtd\", ,\"ContractData\",A24, \"T_CVol\")","v":3992}]
[null,"Calendar Spread:",null,"1-Qtr",null,null,{"$f":"'SO3'!Y24","v":0.2},{"$f":"'SO3'!Z24","v":-0.30000000000000004}]
[null,{"$f":"D25&\" Calendar Spreads\"","v":"1-Qtr Calendar Spreads"},null,null,null,null,null,null,null,null,{"$f":"RIGHT(RTD(\"cqg.rtd\",,\"ContractData\",'SO3'!U35, \"LongDescription\"),15)","v":" Jun 23, Sep 23"},{"$f":"RIGHT(RTD(\"cqg.rtd\",,\"ContractData\",'SO3'!U36, \"LongDescription\"),15)","v":" Sep 23, Dec 23"},{"$f":"RIGHT(RTD(\"cqg.rtd\",,\"ContractData\",'SO3'!U37, \"LongDescription\"),15)","v":" Dec 23, Mar 24"},{"$f":"RIGHT(RTD(\"cqg.rtd\",,\"ContractData\",'SO3'!U38, \"LongDescription\"),15)","v":" Mar 24, Jun 24"},{"$f":"RIGHT(RTD(\"cqg.rtd\",,\"ContractData\",'SO3'!U39, \"LongDescription\"),15)","v":" Jun 24, Sep 24"},{"$f":"RIGHT(RTD(\"cqg.rtd\",,\"ContractData\",'SO3'!U40, \"LongDescription\"),15)","v":" Sep 24, Dec 24"},{"$f":"RIGHT(RTD(\"cqg.rtd\",,\"ContractData\",'SO3'!U41, \"LongDescription\"),15)","v":" Dec 24, Mar 25"},{"$f":"RIGHT(RTD(\"cqg.rtd\",,\"ContractData\",'SO3'!U42, \"LongDescription\"),15)","v":" Mar 25, Jun 25"},{"$f":"RIGHT(RTD(\"cqg.rtd\",,\"ContractData\",'SO3'!U43, \"LongDescription\"),15)","v":" Jun 25, Sep 25"},{"$f":"RIGHT(RTD(\"cqg.rtd\",,\"ContractData\",'SO3'!U44, \"LongDescription\"),15)","v":" Sep 25, Dec 25"},{"$f":"RIGHT(RTD(\"cqg.rtd\",,\"ContractData\",'SO3'!U45, \"LongDescription\"),15)","v":" Dec 25, Mar 26"},{"$f":"RIGHT(RTD(\"cqg.rtd\",,\"ContractData\",'SO3'!U46, \"LongDescription\"),15)","v":" Mar 26, Jun 26"},{"$f":"RIGHT(RTD(\"cqg.rtd\",,\"ContractData\",'SO3'!U47, \"LongDescription\"),15)","v":" Jun 26, Sep 26"},{"$f":"RIGHT(RTD(\"cqg.rtd\",,\"ContractData\",'SO3'!U48, \"LongDescription\"),15)","v":" Sep 26, Dec 26"},{"$f":"RIGHT(RTD(\"cqg.rtd\",,\"ContractData\",'SO3'!U49, \"LongDescription\"),15)","v":" Dec 26, Mar 27"},{"$f":"RIGHT(RTD(\"cqg.rtd\",,\"ContractData\",'SO3'!U50, \"LongDescription\"),15)","v":" Mar 27, Jun 27"},{"$f":"RIGHT(RTD(\"cqg.rtd\",,\"ContractData\",'SO3'!U51, \"LongDescription\"),15)","v":" Jun 27, Sep 27"},{"$f":"IF(LEFT(RTD(\"cqg.rtd\", ,\"ContractData\", 'SO3'!U52,\"LongDescription\",,\"T\"),3)=\"768\",\"\",RIGHT(RTD(\"cqg.rtd\",,\"ContractData\",'SO3'!U52, \"LongDescription\"),15))","v":" Sep 27, Dec 27"},{"$f":"IF(LEFT(RTD(\"cqg.rtd\", ,\"ContractData\", 'SO3'!U53,\"LongDescription\",,\"T\"),3)=\"768\",\"\",RIGHT(RTD(\"cqg.rtd\",,\"ContractData\",'SO3'!U53, \"LongDescription\"),15))","v":" Dec 27, Mar 28"},{"$f":"IF(LEFT(RTD(\"cqg.rtd\", ,\"ContractData\", 'SO3'!U54,\"LongDescription\",,\"T\"),3)=\"768\",\"\",RIGHT(RTD(\"cqg.rtd\",,\"ContractData\",'SO3'!U54, \"LongDescription\"),15))","v":" Mar 28, Jun 28"}]
[null,null,null,null,null,null,null,null,null,null,{"$f":"IF(RTD(\"cqg.rtd\",,\"ContractData\",'SO3'!U35, \"Ask\")=\"\",\"\",TEXT(RTD(\"cqg.rtd\",,\"ContractData\",'SO3'!U35, \"Ask\"),\"#.000\")&\" \"&\"A\")","v":".030 A"},{"$f":"IF(RTD(\"cqg.rtd\",,\"ContractData\",'SO3'!U36,\"Ask\")=\"\",\"\",TEXT(RTD(\"cqg.rtd\",,\"ContractData\",'SO3'!U36,\"Ask\"),\"#.000\")&\" \"&\"A\")","v":"-.130 A"},{"$f":"IF(RTD(\"cqg.rtd\",,\"ContractData\",'SO3'!U37,\"Ask\")=\"\",\"\",TEXT(RTD(\"cqg.rtd\",,\"ContractData\",'SO3'!U37,\"Ask\"),\"#.000\")&\" \"&\"A\")","v":"-.225 A"},{"$f":"IF(RTD(\"cqg.rtd\",,\"ContractData\",'SO3'!U38,\"Ask\")=\"\",\"\",TEXT(RTD(\"cqg.rtd\",,\"ContractData\",'SO3'!U38,\"Ask\"),\"#.000\")&\" \"&\"A\")","v":"-.225 A"},{"$f":"IF(RTD(\"cqg.rtd\",,\"ContractData\",'SO3'!U39,\"Ask\")=\"\",\"\",TEXT(RTD(\"cqg.rtd\",,\"ContractData\",'SO3'!U39,\"Ask\"),\"#.000\")&\" \"&\"A\")","v":"-.155 A"},{"$f":"IF(RTD(\"cqg.rtd\",,\"ContractData\",'SO3'!U40,\"Ask\")=\"\",\"\",TEXT(RTD(\"cqg.rtd\",,\"ContractData\",'SO3'!U40,\"Ask\"),\"#.000\")&\" \"&\"A\")","v":"-.080 A"},{"$f":"IF(RTD(\"cqg.rtd\",,\"ContractData\",'SO3'!U41,\"Ask\")=\"\",\"\",TEXT(RTD(\"cqg.rtd\",,\"ContractData\",'SO3'!U41,\"Ask\"),\"#.000\")&\" \"&\"A\")","v":"-.050 A"},{"$f":"IF(RTD(\"cqg.rtd\",,\"ContractData\",'SO3'!U42,\"Ask\")=\"\",\"\",TEXT(RTD(\"cqg.rtd\",,\"ContractData\",'SO3'!U42,\"Ask\"),\"#.000\")&\" \"&\"A\")","v":"-.050 A"},{"$f":"IF(RTD(\"cqg.rtd\",,\"ContractData\",'SO3'!U43,\"Ask\")=\"\",\"\",TEXT(RTD(\"cqg.rtd\",,\"ContractData\",'SO3'!U43,\"Ask\"),\"#.000\")&\" \"&\"A\")","v":"-.055 A"},{"$f":"IF(RTD(\"cqg.rtd\",,\"ContractData\",'SO3'!U44,\"Ask\")=\"\",\"\",TEXT(RTD(\"cqg.rtd\",,\"ContractData\",'SO3'!U44,\"Ask\"),\"#.000\")&\" \"&\"A\")","v":"-.055 A"},{"$f":"IF(RTD(\"cqg.rtd\",,\"ContractData\",'SO3'!U45,\"Ask\")=\"\",\"\",TEXT(RTD(\"cqg.rtd\",,\"ContractData\",'SO3'!U45,\"Ask\"),\"#.000\")&\" \"&\"A\")","v":"-.045 A"},{"$f":"IF(RTD(\"cqg.rtd\",,\"ContractData\",'SO3'!U46,\"Ask\")=\"\",\"\",TEXT(RTD(\"cqg.rtd\",,\"ContractData\",'SO3'!U46,\"Ask\"),\"#.000\")&\" \"&\"A\")","v":"-.035 A"},{"$f":"IF(RTD(\"cqg.rtd\",,\"ContractData\",'SO3'!U47,\"Ask\")=\"\",\"\",TEXT(RTD(\"cqg.rtd\",,\"ContractData\",'SO3'!U47,\"Ask\"),\"#.000\")&\" \"&\"A\")","v":"-.040 A"},{"$f":"IF(RTD(\"cqg.rtd\",,\"ContractData\",'SO3'!U48,\"Ask\")=\"\",\"\",TEXT(RTD(\"cqg.rtd\",,\"ContractData\",'SO3'!U48,\"Ask\"),\"#.000\")&\" \"&\"A\")","v":"-.050 A"},{"$f":"IF(RTD(\"cqg.rtd\",,\"ContractData\",'SO3'!U49,\"Ask\")=\"\",\"\",TEXT(RTD(\"cqg.rtd\",,\"ContractData\",'SO3'!U49,\"Ask\"),\"#.000\")&\" \"&\"A\")","v":"-.050 A"},{"$f":"IF(RTD(\"cqg.rtd\",,\"ContractData\",'SO3'!U50,\"Ask\")=\"\",\"\",TEXT(RTD(\"cqg.rtd\",,\"ContractData\",'SO3'!U50,\"Ask\"),\"#.000\")&\" \"&\"A\")","v":"-.035 A"},{"$f":"IF(RTD(\"cqg.rtd\",,\"ContractData\",'SO3'!U51,\"Ask\")=\"\",\"\",TEXT(RTD(\"cqg.rtd\",,\"ContractData\",'SO3'!U51,\"Ask\"),\"#.000\")&\" \"&\"A\")","v":"-.030 A"},{"$f":"IF(RTD(\"cqg.rtd\",,\"ContractData\",'SO3'!U52,\"Ask\")=\"\",\"\",TEXT(RTD(\"cqg.rtd\",,\"ContractData\",'SO3'!U52,\"Ask\"),\"#.000\")&\" \"&\"A\")","v":"-.015 A"},{"$f":"IF(LEFT(RTD(\"cqg.rtd\",,\"ContractData\",'SO3'!U53,\"Ask\"),3)=\"768\",\"\",IF(RTD(\"cqg.rtd\",,\"ContractData\",'SO3'!U53,\"Ask\")=\"\",\"\",TEXT(RTD(\"cqg.rtd\",,\"ContractData\",'SO3'!U53,\"Ask\"),\"#.000\")&\" \"&\"A\"))","v":"-.005 A"},{"$f":"IF(LEFT(RTD(\"cqg.rtd\",,\"ContractData\",'SO3'!U54,\"Ask\"),3)=\"768\",\"\",IF(RTD(\"cqg.rtd\",,\"ContractData\",'SO3'!U54,\"Ask\")=\"\",\"\",TEXT(RTD(\"cqg.rtd\",,\"ContractData\",'SO3'!U54,\"Ask\"),\"#.000\")&\" \"&\"A\"))","v":".005 A"}]
[null,"Symbols","Open","High","Low","Last","Net","Net","Volume",null,{"$f":"IF(RTD(\"cqg.rtd\",,\"ContractData\",'SO3'!U35, \"Bid\")=\"\",\"\",TEXT(RTD(\"cqg.rtd\",,\"ContractData\",'SO3'!U35, \"Bid\"),\"#.000\")&\" \"&\"B\")","v":".025 B"},{"$f":"IF(RTD(\"cqg.rtd\",,\"ContractData\",'SO3'!U36,\"Bid\")=\"\",\"\",TEXT(RTD(\"cqg.rtd\",,\"ContractData\",'SO3'!U36,\"Bid\"),\"#.000\")&\" \"&\"B\")","v":"-.135 B"},{"$f":"IF(RTD(\"cqg.rtd\",,\"ContractData\",'SO3'!U37,\"Bid\")=\"\",\"\",TEXT(RTD(\"cqg.rtd\",,\"ContractData\",'SO3'!U37,\"Bid\"),\"#.000\")&\" \"&\"B\")","v":"-.230 B"},{"$f":"IF(RTD(\"cqg.rtd\",,\"ContractData\",'SO3'!U38,\"Bid\")=\"\",\"\",TEXT(RTD(\"cqg.rtd\",,\"ContractData\",'SO3'!U38,\"Bid\"),\"#.000\")&\" \"&\"B\")","v":"-.230 B"},{"$f":"IF(RTD(\"cqg.rtd\",,\"ContractData\",'SO3'!U39,\"Bid\")=\"\",\"\",TEXT(RTD(\"cqg.rtd\",,\"ContractData\",'SO3'!U39,\"Bid\"),\"#.000\")&\" \"&\"B\")","v":"-.165 B"},{"$f":"IF(RTD(\"cqg.rtd\",,\"ContractData\",'SO3'!U40,\"Bid\")=\"\",\"\",TEXT(RTD(\"cqg.rtd\",,\"ContractData\",'SO3'!U40,\"Bid\"),\"#.000\")&\" \"&\"B\")","v":"-.085 B"},{"$f":"IF(RTD(\"cqg.rtd\",,\"ContractData\",'SO3'!U41,\"Bid\")=\"\",\"\",TEXT(RTD(\"cqg.rtd\",,\"ContractData\",'SO3'!U41,\"Bid\"),\"#.000\")&\" \"&\"B\")","v":"-.060 B"},{"$f":"IF(RTD(\"cqg.rtd\",,\"ContractData\",'SO3'!U42,\"Bid\")=\"\",\"\",TEXT(RTD(\"cqg.rtd\",,\"ContractData\",'SO3'!U42,\"Bid\"),\"#.000\")&\" \"&\"B\")","v":"-.055 B"},{"$f":"IF(RTD(\"cqg.rtd\",,\"ContractData\",'SO3'!U43,\"Bid\")=\"\",\"\",TEXT(RTD(\"cqg.rtd\",,\"ContractData\",'SO3'!U43,\"Bid\"),\"#.000\")&\" \"&\"B\")","v":"-.060 B"},{"$f":"IF(RTD(\"cqg.rtd\",,\"ContractData\",'SO3'!U44,\"Bid\")=\"\",\"\",TEXT(RTD(\"cqg.rtd\",,\"ContractData\",'SO3'!U44,\"Bid\"),\"#.000\")&\" \"&\"B\")","v":"-.060 B"},{"$f":"IF(RTD(\"cqg.rtd\",,\"ContractData\",'SO3'!U45,\"Bid\")=\"\",\"\",TEXT(RTD(\"cqg.rtd\",,\"ContractData\",'SO3'!U45,\"Bid\"),\"#.000\")&\" \"&\"B\")","v":"-.050 B"},{"$f":"IF(RTD(\"cqg.rtd\",,\"ContractData\",'SO3'!U46,\"Bid\")=\"\",\"\",TEXT(RTD(\"cqg.rtd\",,\"ContractData\",'SO3'!U46,\"Bid\"),\"#.000\")&\" \"&\"B\")","v":"-.040 B"},{"$f":"IF(RTD(\"cqg.rtd\",,\"ContractData\",'SO3'!U47,\"Bid\")=\"\",\"\",TEXT(RTD(\"cqg.rtd\",,\"ContractData\",'SO3'!U47,\"Bid\"),\"#.000\")&\" \"&\"B\")","v":"-.045 B"},{"$f":"IF(RTD(\"cqg.rtd\",,\"ContractData\",'SO3'!U48,\"Bid\")=\"\",\"\",TEXT(RTD(\"cqg.rtd\",,\"ContractData\",'SO3'!U48,\"Bid\"),\"#.000\")&\" \"&\"B\")","v":"-.055 B"},{"$f":"IF(RTD(\"cqg.rtd\",,\"ContractData\",'SO3'!U49,\"Bid\")=\"\",\"\",TEXT(RTD(\"cqg.rtd\",,\"ContractData\",'SO3'!U49,\"Bid\"),\"#.000\")&\" \"&\"B\")","v":"-.055 B"},{"$f":"IF(RTD(\"cqg.rtd\",,\"ContractData\",'SO3'!U50,\"Bid\")=\"\",\"\",TEXT(RTD(\"cqg.rtd\",,\"ContractData\",'SO3'!U50,\"Bid\"),\"#.000\")&\" \"&\"B\")","v":"-.045 B"},{"$f":"IF(RTD(\"cqg.rtd\",,\"ContractData\",'SO3'!U51,\"Bid\")=\"\",\"\",TEXT(RTD(\"cqg.rtd\",,\"ContractData\",'SO3'!U51,\"Bid\"),\"#.000\")&\" \"&\"B\")","v":"-.035 B"},{"$f":"IF(RTD(\"cqg.rtd\",,\"ContractData\",'SO3'!U52,\"Bid\")=\"\",\"\",TEXT(RTD(\"cqg.rtd\",,\"ContractData\",'SO3'!U52,\"Bid\"),\"#.000\")&\" \"&\"B\")","v":"-.025 B"},{"$f":"IF(LEFT(RTD(\"cqg.rtd\",,\"ContractData\",'SO3'!U53,\"Bid\"),3)=\"768\",\"\",IF(RTD(\"cqg.rtd\",,\"ContractData\",'SO3'!U53,\"Bid\")=\"\",\"\",TEXT(RTD(\"cqg.rtd\",,\"ContractData\",'SO3'!U53,\"Bid\"),\"#.000\")&\" \"&\"B\"))","v":"-.020 B"},{"$f":"IF(LEFT(RTD(\"cqg.rtd\",,\"ContractData\",'SO3'!U54,\"Bid\"),3)=\"768\",\"\",IF(RTD(\"cqg.rtd\",,\"ContractData\",'SO3'!U54,\"Bid\")=\"\",\"\",TEXT(RTD(\"cqg.rtd\",,\"ContractData\",'SO3'!U54,\"Bid\"),\"#.000\")&\" \"&\"B\"))","v":"-.020 B"}]
[{"$f":"'SO3'!U35","v":"SO3S1?2"},{"$f":"RIGHT(RTD(\"cqg.rtd\",,\"ContractData\",A29, \"LongDescription\"),15)","v":" Jun 23, Sep 23"},{"$f":"RTD(\"cqg.rtd\", ,\"ContractData\",A29, \"Open\",,\"T\")","v":3.5000000000000003E-2},{"$f":"RTD(\"cqg.rtd\", ,\"ContractData\",A29, \"High\",,\"T\")","v":6.5000000000000002E-2},{"$f":"RTD(\"cqg.rtd\", ,\"ContractData\",A29, \"Low\",,\"T\")","v":2.5000000000000001E-2},{"$f":"RTD(\"cqg.rtd\", ,\"ContractData\",A29, \"LastTradeorSettle\",,\"T\")","v":2.5000000000000001E-2},{"$f":"RTD(\"cqg.rtd\",,\"ContractData\",A29,\"NetLastTradeToday\",,\"T\")","v":0},{"$f":"RTD(\"cqg.rtd\",,\"ContractData\",A29,\"NetLastTradeToday\",,\"T\")","v":0},{"$f":"RTD(\"cqg.rtd\", ,\"ContractData\",A29, \"T_CVol\")","v":2945},null,{"$f":"IF(RTD(\"cqg.rtd\", ,\"ContractData\",'SO3'!U35,\"LastTradeorSettle\",,\"T\")=\"\",\"\",TEXT(RTD(\"cqg.rtd\", ,\"ContractData\",'SO3'!U35,\"LastTradeorSettle\",,\"T\"),\"#.000\")&\" \"&\"L\")","v":".025 L"},{"$f":"IF(RTD(\"cqg.rtd\", ,\"ContractData\",'SO3'!U36,\"LastTradeorSettle\",,\"T\")=\"\",\"\",TEXT(RTD(\"cqg.rtd\", ,\"ContractData\",'SO3'!U36,\"LastTradeorSettle\",,\"T\"),\"#.000\")&\" \"&\"L\")","v":"-.130 L"},{"$f":"IF(RTD(\"cqg.rtd\", ,\"ContractData\",'SO3'!U37,\"LastTradeorSettle\",,\"T\")=\"\",\"\",TEXT(RTD(\"cqg.rtd\", ,\"ContractData\",'SO3'!U37,\"LastTradeorSettle\",,\"T\"),\"#.000\")&\" \"&\"L\")","v":"-.230 L"},{"$f":"IF(RTD(\"cqg.rtd\", ,\"ContractData\",'SO3'!U38,\"LastTradeorSettle\",,\"T\")=\"\",\"\",TEXT(RTD(\"cqg.rtd\", ,\"ContractData\",'SO3'!U38,\"LastTradeorSettle\",,\"T\"),\"#.000\")&\" \"&\"L\")","v":"-.225 L"},{"$f":"IF(RTD(\"cqg.rtd\", ,\"ContractData\",'SO3'!U39,\"LastTradeorSettle\",,\"T\")=\"\",\"\",TEXT(RTD(\"cqg.rtd\", ,\"ContractData\",'SO3'!U39,\"LastTradeorSettle\",,\"T\"),\"#.000\")&\" \"&\"L\")","v":"-.160 L"},{"$f":"IF(RTD(\"cqg.rtd\", ,\"ContractData\",'SO3'!U40,\"LastTradeorSettle\",,\"T\")=\"\",\"\",TEXT(RTD(\"cqg.rtd\", ,\"ContractData\",'SO3'!U40,\"LastTradeorSettle\",,\"T\"),\"#.000\")&\" \"&\"L\")","v":"-.080 L"},{"$f":"IF(RTD(\"cqg.rtd\", ,\"ContractData\",'SO3'!U41,\"LastTradeorSettle\",,\"T\")=\"\",\"\",TEXT(RTD(\"cqg.rtd\", ,\"ContractData\",'SO3'!U41,\"LastTradeorSettle\",,\"T\"),\"#.000\")&\" \"&\"L\")","v":"-.055 L"},{"$f":"IF(RTD(\"cqg.rtd\", ,\"ContractData\",'SO3'!U42,\"LastTradeorSettle\",,\"T\")=\"\",\"\",TEXT(RTD(\"cqg.rtd\", ,\"ContractData\",'SO3'!U42,\"LastTradeorSettle\",,\"T\"),\"#.000\")&\" \"&\"L\")","v":"-.055 L"},{"$f":"IF(RTD(\"cqg.rtd\", ,\"ContractData\",'SO3'!U43,\"LastTradeorSettle\",,\"T\")=\"\",\"\",TEXT(RTD(\"cqg.rtd\", ,\"ContractData\",'SO3'!U43,\"LastTradeorSettle\",,\"T\"),\"#.000\")&\" \"&\"L\")","v":"-.055 L"},{"$f":"IF(RTD(\"cqg.rtd\", ,\"ContractData\",'SO3'!U44,\"LastTradeorSettle\",,\"T\")=\"\",\"\",TEXT(RTD(\"cqg.rtd\", ,\"ContractData\",'SO3'!U44,\"LastTradeorSettle\",,\"T\"),\"#.000\")&\" \"&\"L\")","v":"-.055 L"},{"$f":"IF(RTD(\"cqg.rtd\", ,\"ContractData\",'SO3'!U45,\"LastTradeorSettle\",,\"T\")=\"\",\"\",TEXT(RTD(\"cqg.rtd\", ,\"ContractData\",'SO3'!U45,\"LastTradeorSettle\",,\"T\"),\"#.000\")&\" \"&\"L\")","v":"-.050 L"},{"$f":"IF(RTD(\"cqg.rtd\", ,\"ContractData\",'SO3'!U46,\"LastTradeorSettle\",,\"T\")=\"\",\"\",TEXT(RTD(\"cqg.rtd\", ,\"ContractData\",'SO3'!U46,\"LastTradeorSettle\",,\"T\"),\"#.000\")&\" \"&\"L\")","v":"-.040 L"},{"$f":"IF(RTD(\"cqg.rtd\", ,\"ContractData\",'SO3'!U47,\"LastTradeorSettle\",,\"T\")=\"\",\"\",TEXT(RTD(\"cqg.rtd\", ,\"ContractData\",'SO3'!U47,\"LastTradeorSettle\",,\"T\"),\"#.000\")&\" \"&\"L\")","v":"-.040 L"},{"$f":"IF(RTD(\"cqg.rtd\", ,\"ContractData\",'SO3'!U48,\"LastTradeorSettle\",,\"T\")=\"\",\"\",TEXT(RTD(\"cqg.rtd\", ,\"ContractData\",'SO3'!U48,\"LastTradeorSettle\",,\"T\"),\"#.000\")&\" \"&\"L\")","v":"-.050 L"},{"$f":"IF(RTD(\"cqg.rtd\", ,\"ContractData\",'SO3'!U49,\"LastTradeorSettle\",,\"T\")=\"\",\"\",TEXT(RTD(\"cqg.rtd\", ,\"ContractData\",'SO3'!U49,\"LastTradeorSettle\",,\"T\"),\"#.000\")&\" \"&\"L\")","v":"-.055 L"},{"$f":"IF(RTD(\"cqg.rtd\", ,\"ContractData\",'SO3'!U50,\"LastTradeorSettle\",,\"T\")=\"\",\"\",TEXT(RTD(\"cqg.rtd\", ,\"ContractData\",'SO3'!U50,\"LastTradeorSettle\",,\"T\"),\"#.000\")&\" \"&\"L\")","v":"-.040 L"},{"$f":"IF(RTD(\"cqg.rtd\", ,\"ContractData\",'SO3'!U51,\"LastTradeorSettle\",,\"T\")=\"\",\"\",TEXT(RTD(\"cqg.rtd\", ,\"ContractData\",'SO3'!U51,\"LastTradeorSettle\",,\"T\"),\"#.000\")&\" \"&\"L\")","v":"-.035 L"},{"$f":"IF(LEFT(RTD(\"cqg.rtd\",,\"ContractData\",'SO3'!U52,\"LastTradeorSettle\"),3)=\"768\",\"\",IF(RTD(\"cqg.rtd\",,\"ContractData\",'SO3'!U52,\"LastTradeorSettle\")=\"\",\"\",TEXT(RTD(\"cqg.rtd\",,\"ContractData\",'SO3'!U52,\"LastTradeorSettle\"),\"#.000\")&\" \"&\"L\"))","v":"-.020 L"},{"$f":"IF(LEFT(RTD(\"cqg.rtd\",,\"ContractData\",'SO3'!U53,\"LastTradeorSettle\"),3)=\"768\",\"\",IF(RTD(\"cqg.rtd\",,\"ContractData\",'SO3'!U53,\"LastTradeorSettle\")=\"\",\"\",TEXT(RTD(\"cqg.rtd\",,\"ContractData\",'SO3'!U53,\"LastTradeorSettle\"),\"#.000\")&\" \"&\"L\"))","v":"-.005 L"},{"$f":"IF(LEFT(RTD(\"cqg.rtd\",,\"ContractData\",'SO3'!U54,\"LastTradeorSettle\"),3)=\"768\",\"\",IF(RTD(\"cqg.rtd\",,\"ContractData\",'SO3'!U54,\"LastTradeorSettle\")=\"\",\"\",TEXT(RTD(\"cqg.rtd\",,\"ContractData\",'SO3'!U54,\"LastTradeorSettle\"),\"#.000\")&\" \"&\"L\"))","v":""}]
[{"$f":"'SO3'!U36","v":"SO3S1?3"},{"$f":"RIGHT(RTD(\"cqg.rtd\",,\"ContractData\",A30, \"LongDescription\"),15)","v":" Sep 23, Dec 23"},{"$f":"RTD(\"cqg.rtd\", ,\"ContractData\",A30, \"Open\",,\"T\")","v":-0.13},{"$f":"RTD(\"cqg.rtd\", ,\"ContractData\",A30, \"High\",,\"T\")","v":-0.105},{"$f":"RTD(\"cqg.rtd\", ,\"ContractData\",A30, \"Low\",,\"T\")","v":-0.13},{"$f":"RTD(\"cqg.rtd\", ,\"ContractData\",A30, \"LastTradeorSettle\",,\"T\")","v":-0.13},{"$f":"RTD(\"cqg.rtd\",,\"ContractData\",A30,\"NetLastTradeToday\",,\"T\")","v":0},{"$f":"RTD(\"cqg.rtd\",,\"ContractData\",A30,\"NetLastTradeToday\",,\"T\")","v":0},{"$f":"RTD(\"cqg.rtd\", ,\"ContractData\",A30, \"T_CVol\")","v":1921}]
[{"$f":"'SO3'!U37","v":"SO3S1?4"},{"$f":"RIGHT(RTD(\"cqg.rtd\",,\"ContractData\",A31, \"LongDescription\"),15)","v":" Dec 23, Mar 24"},{"$f":"RTD(\"cqg.rtd\", ,\"ContractData\",A31, \"Open\",,\"T\")","v":-0.22500000000000001},{"$f":"RTD(\"cqg.rtd\", ,\"ContractData\",A31, \"High\",,\"T\")","v":-0.21},{"$f":"RTD(\"cqg.rtd\", ,\"ContractData\",A31, \"Low\",,\"T\")","v":-0.23},{"$f":"RTD(\"cqg.rtd\", ,\"ContractData\",A31, \"LastTradeorSettle\",,\"T\")","v":-0.23},{"$f":"RTD(\"cqg.rtd\",,\"ContractData\",A31,\"NetLastTradeToday\",,\"T\")","v":-5.0000000000000001E-3},{"$f":"RTD(\"cqg.rtd\",,\"ContractData\",A31,\"NetLastTradeToday\",,\"T\")","v":-5.0000000000000001E-3},{"$f":"RTD(\"cqg.rtd\", ,\"ContractData\",A31, \"T_CVol\")","v":1646}]
[{"$f":"'SO3'!U38","v":"SO3S1?5"},{"$f":"RIGHT(RTD(\"cqg.rtd\",,\"ContractData\",A32, \"LongDescription\"),15)","v":" Mar 24, Jun 24"},{"$f":"RTD(\"cqg.rtd\", ,\"ContractData\",A32, \"Open\",,\"T\")","v":-0.23},{"$f":"RTD(\"cqg.rtd\", ,\"ContractData\",A32, \"High\",,\"T\")","v":-0.22500000000000001},{"$f":"RTD(\"cqg.rtd\", ,\"ContractData\",A32, \"Low\",,\"T\")","v":-0.23},{"$f":"RTD(\"cqg.rtd\", ,\"ContractData\",A32, \"LastTradeorSettle\",,\"T\")","v":-0.22500000000000001},{"$f":"RTD(\"cqg.rtd\",,\"ContractData\",A32,\"NetLastTradeToday\",,\"T\")","v":5.0000000000000001E-3},{"$f":"RTD(\"cqg.rtd\",,\"ContractData\",A32,\"NetLastTradeToday\",,\"T\")","v":5.0000000000000001E-3},{"$f":"RTD(\"cqg.rtd\", ,\"ContractData\",A32, \"T_CVol\")","v":2456}]
[{"$f":"'SO3'!U39","v":"SO3S1?6"},{"$f":"RIGHT(RTD(\"cqg.rtd\",,\"ContractData\",A33, \"LongDescription\"),15)","v":" Jun 24, Sep 24"},{"$f":"RTD(\"cqg.rtd\", ,\"ContractData\",A33, \"Open\",,\"T\")","v":-0.16},{"$f":"RTD(\"cqg.rtd\", ,\"ContractData\",A33, \"High\",,\"T\")","v":-0.155},{"$f":"RTD(\"cqg.rtd\", ,\"ContractData\",A33, \"Low\",,\"T\")","v":-0.17},{"$f":"RTD(\"cqg.rtd\", ,\"ContractData\",A33, \"LastTradeorSettle\",,\"T\")","v":-0.16},{"$f":"RTD(\"cqg.rtd\",,\"ContractData\",A33,\"NetLastTradeToday\",,\"T\")","v":0},{"$f":"RTD(\"cqg.rtd\",,\"ContractData\",A33,\"NetLastTradeToday\",,\"T\")","v":0},{"$f":"RTD(\"cqg.rtd\", ,\"ContractData\",A33, \"T_CVol\")","v":1542}]
[{"$f":"'SO3'!U40","v":"SO3S1?7"},{"$f":"RIGHT(RTD(\"cqg.rtd\",,\"ContractData\",A34, \"LongDescription\"),15)","v":" Sep 24, Dec 24"},{"$f":"RTD(\"cqg.rtd\", ,\"ContractData\",A34, \"Open\",,\"T\")","v":-0.08},{"$f":"RTD(\"cqg.rtd\", ,\"ContractData\",A34, \"High\",,\"T\")","v":-7.4999999999999997E-2},{"$f":"RTD(\"cqg.rtd\", ,\"ContractData\",A34, \"Low\",,\"T\")","v":-8.5000000000000006E-2},{"$f":"RTD(\"cqg.rtd\", ,\"ContractData\",A34, \"LastTradeorSettle\",,\"T\")","v":-0.08},{"$f":"RTD(\"cqg.rtd\",,\"ContractData\",A34,\"NetLastTradeToday\",,\"T\")","v":-5.0000000000000001E-3},{"$f":"RTD(\"cqg.rtd\",,\"ContractData\",A34,\"NetLastTradeToday\",,\"T\")","v":-5.0000000000000001E-3},{"$f":"RTD(\"cqg.rtd\", ,\"ContractData\",A34, \"T_CVol\")","v":1489}]
[{"$f":"'SO3'!U41","v":"SO3S1?8"},{"$f":"RIGHT(RTD(\"cqg.rtd\",,\"ContractData\",A35, \"LongDescription\"),15)","v":" Dec 24, Mar 25"},{"$f":"RTD(\"cqg.rtd\", ,\"ContractData\",A35, \"Open\",,\"T\")","v":-5.5E-2},{"$f":"RTD(\"cqg.rtd\", ,\"ContractData\",A35, \"High\",,\"T\")","v":-0.05},{"$f":"RTD(\"cqg.rtd\", ,\"ContractData\",A35, \"Low\",,\"T\")","v":-0.06},{"$f":"RTD(\"cqg.rtd\", ,\"ContractData\",A35, \"LastTradeorSettle\",,\"T\")","v":-5.5E-2},{"$f":"RTD(\"cqg.rtd\",,\"ContractData\",A35,\"NetLastTradeToday\",,\"T\")","v":-5.0000000000000001E-3},{"$f":"RTD(\"cqg.rtd\",,\"ContractData\",A35,\"NetLastTradeToday\",,\"T\")","v":-5.0000000000000001E-3},{"$f":"RTD(\"cqg.rtd\", ,\"ContractData\",A35, \"T_CVol\")","v":1121}]
[{"$f":"'SO3'!U42","v":"SO3S1?9"},{"$f":"RIGHT(RTD(\"cqg.rtd\",,\"ContractData\",A36, \"LongDescription\"),15)","v":" Mar 25, Jun 25"},{"$f":"RTD(\"cqg.rtd\", ,\"ContractData\",A36, \"Open\",,\"T\")","v":-0.05},{"$f":"RTD(\"cqg.rtd\", ,\"ContractData\",A36, \"High\",,\"T\")","v":-0.05},{"$f":"RTD(\"cqg.rtd\", ,\"ContractData\",A36, \"Low\",,\"T\")","v":-6.5000000000000002E-2},{"$f":"RTD(\"cqg.rtd\", ,\"ContractData\",A36, \"LastTradeorSettle\",,\"T\")","v":-5.5E-2},{"$f":"RTD(\"cqg.rtd\",,\"ContractData\",A36,\"NetLastTradeToday\",,\"T\")","v":-5.0000000000000001E-3},{"$f":"RTD(\"cqg.rtd\",,\"ContractData\",A36,\"NetLastTradeToday\",,\"T\")","v":-5.0000000000000001E-3},{"$f":"RTD(\"cqg.rtd\", ,\"ContractData\",A36, \"T_CVol\")","v":1088}]
[{"$f":"'SO3'!U43","v":"SO3S1?10"},{"$f":"RIGHT(RTD(\"cqg.rtd\",,\"ContractData\",A37, \"LongDescription\"),15)","v":" Jun 25, Sep 25"},{"$f":"RTD(\"cqg.rtd\", ,\"ContractData\",A37, \"Open\",,\"T\")","v":-0.06},{"$f":"RTD(\"cqg.rtd\", ,\"ContractData\",A37, \"High\",,\"T\")","v":-5.5E-2},{"$f":"RTD(\"cqg.rtd\", ,\"ContractData\",A37, \"Low\",,\"T\")","v":-6.5000000000000002E-2},{"$f":"RTD(\"cqg.rtd\", ,\"ContractData\",A37, \"LastTradeorSettle\",,\"T\")","v":-5.5E-2},{"$f":"RTD(\"cqg.rtd\",,\"ContractData\",A37,\"NetLastTradeToday\",,\"T\")","v":0},{"$f":"RTD(\"cqg.rtd\",,\"ContractData\",A37,\"NetLastTradeToday\",,\"T\")","v":0},{"$f":"RTD(\"cqg.rtd\", ,\"ContractData\",A37, \"T_CVol\")","v":718}]
[{"$f":"'SO3'!U44","v":"SO3S1?11"},{"$f":"RIGHT(RTD(\"cqg.rtd\",,\"ContractData\",A38, \"LongDescription\"),15)","v":" Sep 25, Dec 25"},{"$f":"RTD(\"cqg.rtd\", ,\"ContractData\",A38, \"Open\",,\"T\")","v":-6.5000000000000002E-2},{"$f":"RTD(\"cqg.rtd\", ,\"ContractData\",A38, \"High\",,\"T\")","v":-5.5E-2},{"$f":"RTD(\"cqg.rtd\", ,\"ContractData\",A38, \"Low\",,\"T\")","v":-6.5000000000000002E-2},{"$f":"RTD(\"cqg.rtd\", ,\"ContractData\",A38, \"LastTradeorSettle\",,\"T\")","v":-5.5E-2},{"$f":"RTD(\"cqg.rtd\",,\"ContractData\",A38,\"NetLastTradeToday\",,\"T\")","v":5.0000000000000001E-3},{"$f":"RTD(\"cqg.rtd\",,\"ContractData\",A38,\"NetLastTradeToday\",,\"T\")","v":5.0000000000000001E-3},{"$f":"RTD(\"cqg.rtd\", ,\"ContractData\",A38, \"T_CVol\")","v":1629}]
[{"$f":"'SO3'!U45","v":"SO3S1?12"},{"$f":"RIGHT(RTD(\"cqg.rtd\",,\"ContractData\",A39, \"LongDescription\"),15)","v":" Dec 25, Mar 26"},{"$f":"RTD(\"cqg.rtd\", ,\"ContractData\",A39, \"Open\",,\"T\")","v":-0.05},{"$f":"RTD(\"cqg.rtd\", ,\"ContractData\",A39, \"High\",,\"T\")","v":-0.05},{"$f":"RTD(\"cqg.rtd\", ,\"ContractData\",A39, \"Low\",,\"T\")","v":-5.5E-2},{"$f":"RTD(\"cqg.rtd\", ,\"ContractData\",A39, \"LastTradeorSettle\",,\"T\")","v":-0.05},{"$f":"RTD(\"cqg.rtd\",,\"ContractData\",A39,\"NetLastTradeToday\",,\"T\")","v":0},{"$f":"RTD(\"cqg.rtd\",,\"ContractData\",A39,\"NetLastTradeToday\",,\"T\")","v":0},{"$f":"RTD(\"cqg.rtd\", ,\"ContractData\",A39, \"T_CVol\")","v":877}]
[{"$f":"'SO3'!U46","v":"SO3S1?13"},{"$f":"RIGHT(RTD(\"cqg.rtd\",,\"ContractData\",A40, \"LongDescription\"),15)","v":" Mar 26, Jun 26"},{"$f":"RTD(\"cqg.rtd\", ,\"ContractData\",A40, \"Open\",,\"T\")","v":-4.4999999999999998E-2},{"$f":"RTD(\"cqg.rtd\", ,\"ContractData\",A40, \"High\",,\"T\")","v":-0.04},{"$f":"RTD(\"cqg.rtd\", ,\"ContractData\",A40, \"Low\",,\"T\")","v":-4.4999999999999998E-2},{"$f":"RTD(\"cqg.rtd\", ,\"ContractData\",A40, \"LastTradeorSettle\",,\"T\")","v":-0.04},{"$f":"RTD(\"cqg.rtd\",,\"ContractData\",A40,\"NetLastTradeToday\",,\"T\")","v":0},{"$f":"RTD(\"cqg.rtd\",,\"ContractData\",A40,\"NetLastTradeToday\",,\"T\")","v":0},{"$f":"RTD(\"cqg.rtd\", ,\"ContractData\",A40, \"T_CVol\")","v":565}]
[null,"Calendar Spread:",null,"2-Qtr",null,null,{"$f":"'SO3'!AH24","v":0.2},{"$f":"'SO3'!AI24","v":-0.5}]
[null,{"$f":"D41&\" Calendar Spreads\"","v":"2-Qtr Calendar Spreads"},null,null,null,null,null,null,null,null,{"$f":"RIGHT(RTD(\"cqg.rtd\",,\"ContractData\",'SO3'!AF35, \"LongDescription\"),15)","v":" Jun 23, Dec 23"},{"$f":"RIGHT(RTD(\"cqg.rtd\",,\"ContractData\",'SO3'!AF36, \"LongDescription\"),15)","v":" Sep 23, Mar 24"},{"$f":"RIGHT(RTD(\"cqg.rtd\",,\"ContractData\",'SO3'!AF37, \"LongDescription\"),15)","v":" Dec 23, Jun 24"},{"$f":"RIGHT(RTD(\"cqg.rtd\",,\"ContractData\",'SO3'!AF38, \"LongDescription\"),15)","v":" Mar 24, Sep 24"},{"$f":"RIGHT(RTD(\"cqg.rtd\",,\"ContractData\",'SO3'!AF39, \"LongDescription\"),15)","v":" Jun 24, Dec 24"},{"$f":"RIGHT(RTD(\"cqg.rtd\",,\"ContractData\",'SO3'!AF40, \"LongDescription\"),15)","v":" Sep 24, Mar 25"},{"$f":"RIGHT(RTD(\"cqg.rtd\",,\"ContractData\",'SO3'!AF41, \"LongDescription\"),15)","v":" Dec 24, Jun 25"},{"$f":"RIGHT(RTD(\"cqg.rtd\",,\"ContractData\",'SO3'!AF42, \"LongDescription\"),15)","v":" Mar 25, Sep 25"},{"$f":"RIGHT(RTD(\"cqg.rtd\",,\"ContractData\",'SO3'!AF43, \"LongDescription\"),15)","v":" Jun 25, Dec 25"},{"$f":"RIGHT(RTD(\"cqg.rtd\",,\"ContractData\",'SO3'!AF44, \"LongDescription\"),15)","v":" Sep 25, Mar 26"},{"$f":"RIGHT(RTD(\"cqg.rtd\",,\"ContractData\",'SO3'!AF45, \"LongDescription\"),15)","v":" Dec 25, Jun 26"},{"$f":"RIGHT(RTD(\"cqg.rtd\",,\"ContractData\",'SO3'!AF46, \"LongDescription\"),15)","v":" Mar 26, Sep 26"},{"$f":"RIGHT(RTD(\"cqg.rtd\",,\"ContractData\",'SO3'!AF47, \"LongDescription\"),15)","v":" Jun 26, Dec 26"},{"$f":"RIGHT(RTD(\"cqg.rtd\",,\"ContractData\",'SO3'!AF48, \"LongDescription\"),15)","v":" Sep 26, Mar 27"},{"$f":"RIGHT(RTD(\"cqg.rtd\",,\"ContractData\",'SO3'!AF49, \"LongDescription\"),15)","v":" Dec 26, Jun 27"},{"$f":"RIGHT(RTD(\"cqg.rtd\",,\"ContractData\",'SO3'!AF50, \"LongDescription\"),15)","v":" Mar 27, Sep 27"},{"$f":"RIGHT(RTD(\"cqg.rtd\",,\"ContractData\",'SO3'!AF51, \"LongDescription\"),15)","v":" Jun 27, Dec 27"},{"$f":"RIGHT(RTD(\"cqg.rtd\",,\"ContractData\",'SO3'!AF52, \"LongDescription\"),15)","v":" Sep 27, Mar 28"},{"$f":"IF(LEFT(RTD(\"cqg.rtd\", ,\"ContractData\", 'SO3'!AF53,\"LongDescription\",,\"T\"),3)=\"768\",\"\",RIGHT(RTD(\"cqg.rtd\",,\"ContractData\",'SO3'!AF53, \"LongDescription\"),15))","v":" Dec 27, Jun 28"},{"$f":"IF(LEFT(RTD(\"cqg.rtd\", ,\"ContractData\", 'SO3'!AF54,\"LongDescription\",,\"T\"),3)=\"768\",\"\",RIGHT(RTD(\"cqg.rtd\",,\"ContractData\",'SO3'!AF54, \"LongDescription\"),15))","v":" Mar 28, Sep 28"}]
[null,null,null,null,null,null,null,null,null,null,{"$f":"IF(RTD(\"cqg.rtd\",,\"ContractData\",'SO3'!AF35, \"Ask\")=\"\",\"\",TEXT(RTD(\"cqg.rtd\",,\"ContractData\",'SO3'!AF35, \"Ask\"),\"#.000\")&\" \"&\"A\")","v":"-.100 A"},{"$f":"IF(RTD(\"cqg.rtd\",,\"ContractData\",'SO3'!AF36, \"Ask\")=\"\",\"\",TEXT(RTD(\"cqg.rtd\",,\"ContractData\",'SO3'!AF36, \"Ask\"),\"#.000\")&\" \"&\"A\")","v":"-.355 A"},{"$f":"IF(RTD(\"cqg.rtd\",,\"ContractData\",'SO3'!AF37, \"Ask\")=\"\",\"\",TEXT(RTD(\"cqg.rtd\",,\"ContractData\",'SO3'!AF37, \"Ask\"),\"#.000\")&\" \"&\"A\")","v":"-.450 A"},{"$f":"IF(RTD(\"cqg.rtd\",,\"ContractData\",'SO3'!AF38, \"Ask\")=\"\",\"\",TEXT(RTD(\"cqg.rtd\",,\"ContractData\",'SO3'!AF38, \"Ask\"),\"#.000\")&\" \"&\"A\")","v":"-.385 A"},{"$f":"IF(RTD(\"cqg.rtd\",,\"ContractData\",'SO3'!AF39, \"Ask\")=\"\",\"\",TEXT(RTD(\"cqg.rtd\",,\"ContractData\",'SO3'!AF39, \"Ask\"),\"#.000\")&\" \"&\"A\")","v":"-.240 A"},{"$f":"IF(RTD(\"cqg.rtd\",,\"ContractData\",'SO3'!AF40, \"Ask\")=\"\",\"\",TEXT(RTD(\"cqg.rtd\",,\"ContractData\",'SO3'!AF40, \"Ask\"),\"#.000\")&\" \"&\"A\")","v":"-.135 A"},{"$f":"IF(RTD(\"cqg.rtd\",,\"ContractData\",'SO3'!AF41, \"Ask\")=\"\",\"\",TEXT(RTD(\"cqg.rtd\",,\"ContractData\",'SO3'!AF41, \"Ask\"),\"#.000\")&\" \"&\"A\")","v":"-.105 A"},{"$f":"IF(RTD(\"cqg.rtd\",,\"ContractData\",'SO3'!AF42, \"Ask\")=\"\",\"\",TEXT(RTD(\"cqg.rtd\",,\"ContractData\",'SO3'!AF42, \"Ask\"),\"#.000\")&\" \"&\"A\")","v":"-.105 A"},{"$f":"IF(RTD(\"cqg.rtd\",,\"ContractData\",'SO3'!AF43, \"Ask\")=\"\",\"\",TEXT(RTD(\"cqg.rtd\",,\"ContractData\",'SO3'!AF43, \"Ask\"),\"#.000\")&\" \"&\"A\")","v":"-.110 A"},{"$f":"IF(RTD(\"cqg.rtd\",,\"ContractData\",'SO3'!AF44, \"Ask\")=\"\",\"\",TEXT(RTD(\"cqg.rtd\",,\"ContractData\",'SO3'!AF44, \"Ask\"),\"#.000\")&\" \"&\"A\")","v":"-.100 A"},{"$f":"IF(RTD(\"cqg.rtd\",,\"ContractData\",'SO3'!AF45, \"Ask\")=\"\",\"\",TEXT(RTD(\"cqg.rtd\",,\"ContractData\",'SO3'!AF45, \"Ask\"),\"#.000\")&\" \"&\"A\")","v":"-.080 A"},{"$f":"IF(RTD(\"cqg.rtd\",,\"ContractData\",'SO3'!AF46, \"Ask\")=\"\",\"\",TEXT(RTD(\"cqg.rtd\",,\"ContractData\",'SO3'!AF46, \"Ask\"),\"#.000\")&\" \"&\"A\")","v":"-.075 A"},{"$f":"IF(RTD(\"cqg.rtd\",,\"ContractData\",'SO3'!AF47, \"Ask\")=\"\",\"\",TEXT(RTD(\"cqg.rtd\",,\"ContractData\",'SO3'!AF47, \"Ask\"),\"#.000\")&\" \"&\"A\")","v":"-.090 A"},{"$f":"IF(RTD(\"cqg.rtd\",,\"ContractData\",'SO3'!AF48, \"Ask\")=\"\",\"\",TEXT(RTD(\"cqg.rtd\",,\"ContractData\",'SO3'!AF48, \"Ask\"),\"#.000\")&\" \"&\"A\")","v":"-.100 A"},{"$f":"IF(RTD(\"cqg.rtd\",,\"ContractData\",'SO3'!AF49, \"Ask\")=\"\",\"\",TEXT(RTD(\"cqg.rtd\",,\"ContractData\",'SO3'!AF49, \"Ask\"),\"#.000\")&\" \"&\"A\")","v":"-.090 A"},{"$f":"IF(RTD(\"cqg.rtd\",,\"ContractData\",'SO3'!AF50, \"Ask\")=\"\",\"\",TEXT(RTD(\"cqg.rtd\",,\"ContractData\",'SO3'!AF50, \"Ask\"),\"#.000\")&\" \"&\"A\")","v":"-.070 A"},{"$f":"IF(RTD(\"cqg.rtd\",,\"ContractData\",'SO3'!AF51, \"Ask\")=\"\",\"\",TEXT(RTD(\"cqg.rtd\",,\"ContractData\",'SO3'!AF51, \"Ask\"),\"#.000\")&\" \"&\"A\")","v":"-.045 A"},{"$f":"IF(RTD(\"cqg.rtd\",,\"ContractData\",'SO3'!AF52, \"Ask\")=\"\",\"\",TEXT(RTD(\"cqg.rtd\",,\"ContractData\",'SO3'!AF52, \"Ask\"),\"#.000\")&\" \"&\"A\")","v":"-.020 A"},{"$f":"IF(LEFT(RTD(\"cqg.rtd\",,\"ContractData\",'SO3'!AF53,\"Ask\"),3)=\"768\",\"\",IF(RTD(\"cqg.rtd\",,\"ContractData\",'SO3'!AF53,\"Ask\")=\"\",\"\",TEXT(RTD(\"cqg.rtd\",,\"ContractData\",'SO3'!AF53,\"Ask\"),\"#.000\")&\" \"&\"A\"))","v":".000 A"},{"$f":"IF(LEFT(RTD(\"cqg.rtd\",,\"ContractData\",'SO3'!AF54,\"Ask\"),3)=\"768\",\"\",IF(RTD(\"cqg.rtd\",,\"ContractData\",'SO3'!AF54,\"Ask\")=\"\",\"\",TEXT(RTD(\"cqg.rtd\",,\"ContractData\",'SO3'!AF54,\"Ask\"),\"#.000\")&\" \"&\"A\"))","v":".005 A"}]
[null,"Symbols","Open","High","Low","Last","Net","Net","Volume",null,{"$f":"IF(RTD(\"cqg.rtd\",,\"ContractData\",'SO3'!AF35, \"Bid\")=\"\",\"\",TEXT(RTD(\"cqg.rtd\",,\"ContractData\",'SO3'!AF35, \"Bid\"),\"#.000\")&\" \"&\"B\")","v":"-.110 B"},{"$f":"IF(RTD(\"cqg.rtd\",,\"ContractData\",'SO3'!AF36, \"Bid\")=\"\",\"\",TEXT(RTD(\"cqg.rtd\",,\"ContractData\",'SO3'!AF36, \"Bid\"),\"#.000\")&\" \"&\"B\")","v":"-.360 B"},{"$f":"IF(RTD(\"cqg.rtd\",,\"ContractData\",'SO3'!AF37, \"Bid\")=\"\",\"\",TEXT(RTD(\"cqg.rtd\",,\"ContractData\",'SO3'!AF37, \"Bid\"),\"#.000\")&\" \"&\"B\")","v":"-.460 B"},{"$f":"IF(RTD(\"cqg.rtd\",,\"ContractData\",'SO3'!AF38, \"Bid\")=\"\",\"\",TEXT(RTD(\"cqg.rtd\",,\"ContractData\",'SO3'!AF38, \"Bid\"),\"#.000\")&\" \"&\"B\")","v":"-.390 B"},{"$f":"IF(RTD(\"cqg.rtd\",,\"ContractData\",'SO3'!AF39, \"Bid\")=\"\",\"\",TEXT(RTD(\"cqg.rtd\",,\"ContractData\",'SO3'!AF39, \"Bid\"),\"#.000\")&\" \"&\"B\")","v":"-.245 B"},{"$f":"IF(RTD(\"cqg.rtd\",,\"ContractData\",'SO3'!AF40, \"Bid\")=\"\",\"\",TEXT(RTD(\"cqg.rtd\",,\"ContractData\",'SO3'!AF40, \"Bid\"),\"#.000\")&\" \"&\"B\")","v":"-.140 B"},{"$f":"IF(RTD(\"cqg.rtd\",,\"ContractData\",'SO3'!AF41, \"Bid\")=\"\",\"\",TEXT(RTD(\"cqg.rtd\",,\"ContractData\",'SO3'!AF41, \"Bid\"),\"#.000\")&\" \"&\"B\")","v":"-.110 B"},{"$f":"IF(RTD(\"cqg.rtd\",,\"ContractData\",'SO3'!AF42, \"Bid\")=\"\",\"\",TEXT(RTD(\"cqg.rtd\",,\"ContractData\",'SO3'!AF42, \"Bid\"),\"#.000\")&\" \"&\"B\")","v":"-.115 B"},{"$f":"IF(RTD(\"cqg.rtd\",,\"ContractData\",'SO3'!AF43, \"Bid\")=\"\",\"\",TEXT(RTD(\"cqg.rtd\",,\"ContractData\",'SO3'!AF43, \"Bid\"),\"#.000\")&\" \"&\"B\")","v":"-.115 B"},{"$f":"IF(RTD(\"cqg.rtd\",,\"ContractData\",'SO3'!AF44, \"Bid\")=\"\",\"\",TEXT(RTD(\"cqg.rtd\",,\"ContractData\",'SO3'!AF44, \"Bid\"),\"#.000\")&\" \"&\"B\")","v":"-.105 B"},{"$f":"IF(RTD(\"cqg.rtd\",,\"ContractData\",'SO3'!AF45, \"Bid\")=\"\",\"\",TEXT(RTD(\"cqg.rtd\",,\"ContractData\",'SO3'!AF45, \"Bid\"),\"#.000\")&\" \"&\"B\")","v":"-.090 B"},{"$f":"IF(RTD(\"cqg.rtd\",,\"ContractData\",'SO3'!AF46, \"Bid\")=\"\",\"\",TEXT(RTD(\"cqg.rtd\",,\"ContractData\",'SO3'!AF46, \"Bid\"),\"#.000\")&\" \"&\"B\")","v":"-.080 B"},{"$f":"IF(RTD(\"cqg.rtd\",,\"ContractData\",'SO3'!AF47, \"Bid\")=\"\",\"\",TEXT(RTD(\"cqg.rtd\",,\"ContractData\",'SO3'!AF47, \"Bid\"),\"#.000\")&\" \"&\"B\")","v":"-.095 B"},{"$f":"IF(RTD(\"cqg.rtd\",,\"ContractData\",'SO3'!AF48, \"Bid\")=\"\",\"\",TEXT(RTD(\"cqg.rtd\",,\"ContractData\",'SO3'!AF48, \"Bid\"),\"#.000\")&\" \"&\"B\")","v":"-.110 B"},{"$f":"IF(RTD(\"cqg.rtd\",,\"ContractData\",'SO3'!AF49, \"Bid\")=\"\",\"\",TEXT(RTD(\"cqg.rtd\",,\"ContractData\",'SO3'!AF49, \"Bid\"),\"#.000\")&\" \"&\"B\")","v":"-.095 B"},{"$f":"IF(RTD(\"cqg.rtd\",,\"ContractData\",'SO3'!AF50, \"Bid\")=\"\",\"\",TEXT(RTD(\"cqg.rtd\",,\"ContractData\",'SO3'!AF50, \"Bid\"),\"#.000\")&\" \"&\"B\")","v":"-.080 B"},{"$f":"IF(RTD(\"cqg.rtd\",,\"ContractData\",'SO3'!AF51, \"Bid\")=\"\",\"\",TEXT(RTD(\"cqg.rtd\",,\"ContractData\",'SO3'!AF51, \"Bid\"),\"#.000\")&\" \"&\"B\")","v":"-.055 B"},{"$f":"IF(RTD(\"cqg.rtd\",,\"ContractData\",'SO3'!AF52, \"Bid\")=\"\",\"\",TEXT(RTD(\"cqg.rtd\",,\"ContractData\",'SO3'!AF52, \"Bid\"),\"#.000\")&\" \"&\"B\")","v":"-.045 B"},{"$f":"IF(LEFT(RTD(\"cqg.rtd\",,\"ContractData\",'SO3'!AF53,\"Bid\"),3)=\"768\",\"\",IF(RTD(\"cqg.rtd\",,\"ContractData\",'SO3'!AF53,\"Bid\")=\"\",\"\",TEXT(RTD(\"cqg.rtd\",,\"ContractData\",'SO3'!AF53,\"Bid\"),\"#.000\")&\" \"&\"B\"))","v":"-.040 B"},{"$f":"IF(LEFT(RTD(\"cqg.rtd\",,\"ContractData\",'SO3'!AF54,\"Bid\"),3)=\"768\",\"\",IF(RTD(\"cqg.rtd\",,\"ContractData\",'SO3'!AF54,\"Bid\")=\"\",\"\",TEXT(RTD(\"cqg.rtd\",,\"ContractData\",'SO3'!AF54,\"Bid\"),\"#.000\")&\" \"&\"B\"))","v":"-.035 B"}]
[{"$f":"RTD(\"cqg.rtd\",,\"ContractData\",'SO3'!AF35, \"Symbol\")","v":"SO3S2M23"},{"$f":"RIGHT(RTD(\"cqg.rtd\",,\"ContractData\",A45, \"LongDescription\"),15)","v":" Jun 23, Dec 23"},{"$f":"RTD(\"cqg.rtd\", ,\"ContractData\",A45, \"Open\",,\"T\")","v":-5.5E-2},{"$f":"RTD(\"cqg.rtd\", ,\"ContractData\",A45, \"High\",,\"T\")","v":-0.04},{"$f":"RTD(\"cqg.rtd\", ,\"ContractData\",A45, \"Low\",,\"T\")","v":-0.105},{"$f":"RTD(\"cqg.rtd\", ,\"ContractData\",A45, \"LastTradeorSettle\",,\"T\")","v":-0.105},{"$f":"RTD(\"cqg.rtd\",,\"ContractData\",A45,\"NetLastTradeToday\",,\"T\")","v":-5.0000000000000001E-3},{"$f":"RTD(\"cqg.rtd\",,\"ContractData\",A45,\"NetLastTradeToday\",,\"T\")","v":-5.0000000000000001E-3},{"$f":"RTD(\"cqg.rtd\", ,\"ContractData\",A45, \"T_CVol\")","v":1068},null,{"$f":"IF(RTD(\"cqg.rtd\", ,\"ContractData\",'SO3'!AF35,\"LastTradeorSettle\",,\"T\")=\"\",\"\",TEXT(RTD(\"cqg.rtd\", ,\"ContractData\",'SO3'!AF35,\"LastTradeorSettle\",,\"T\"),\"#.000\")&\" \"&\"L\")","v":"-.105 L"},{"$f":"IF(RTD(\"cqg.rtd\", ,\"ContractData\",'SO3'!AF36,\"LastTradeorSettle\",,\"T\")=\"\",\"\",TEXT(RTD(\"cqg.rtd\", ,\"ContractData\",'SO3'!AF36,\"LastTradeorSettle\",,\"T\"),\"#.000\")&\" \"&\"L\")","v":"-.360 L"},{"$f":"IF(RTD(\"cqg.rtd\", ,\"ContractData\",'SO3'!AF37,\"LastTradeorSettle\",,\"T\")=\"\",\"\",TEXT(RTD(\"cqg.rtd\", ,\"ContractData\",'SO3'!AF37,\"LastTradeorSettle\",,\"T\"),\"#.000\")&\" \"&\"L\")","v":"-.455 L"},{"$f":"IF(RTD(\"cqg.rtd\", ,\"ContractData\",'SO3'!AF38,\"LastTradeorSettle\",,\"T\")=\"\",\"\",TEXT(RTD(\"cqg.rtd\", ,\"ContractData\",'SO3'!AF38,\"LastTradeorSettle\",,\"T\"),\"#.000\")&\" \"&\"L\")","v":"-.390 L"},{"$f":"IF(RTD(\"cqg.rtd\", ,\"ContractData\",'SO3'!AF39,\"LastTradeorSettle\",,\"T\")=\"\",\"\",TEXT(RTD(\"cqg.rtd\", ,\"ContractData\",'SO3'!AF39,\"LastTradeorSettle\",,\"T\"),\"#.000\")&\" \"&\"L\")","v":"-.245 L"},{"$f":"IF(RTD(\"cqg.rtd\", ,\"ContractData\",'SO3'!AF40,\"LastTradeorSettle\",,\"T\")=\"\",\"\",TEXT(RTD(\"cqg.rtd\", ,\"ContractData\",'SO3'!AF40,\"LastTradeorSettle\",,\"T\"),\"#.000\")&\" \"&\"L\")","v":"-.140 L"},{"$f":"IF(RTD(\"cqg.rtd\", ,\"ContractData\",'SO3'!AF41,\"LastTradeorSettle\",,\"T\")=\"\",\"\",TEXT(RTD(\"cqg.rtd\", ,\"ContractData\",'SO3'!AF41,\"LastTradeorSettle\",,\"T\"),\"#.000\")&\" \"&\"L\")","v":"-.110 L"},{"$f":"IF(RTD(\"cqg.rtd\", ,\"ContractData\",'SO3'!AF42,\"LastTradeorSettle\",,\"T\")=\"\",\"\",TEXT(RTD(\"cqg.rtd\", ,\"ContractData\",'SO3'!AF42,\"LastTradeorSettle\",,\"T\"),\"#.000\")&\" \"&\"L\")","v":"-.110 L"},{"$f":"IF(RTD(\"cqg.rtd\", ,\"ContractData\",'SO3'!AF43,\"LastTradeorSettle\",,\"T\")=\"\",\"\",TEXT(RTD(\"cqg.rtd\", ,\"ContractData\",'SO3'!AF43,\"LastTradeorSettle\",,\"T\"),\"#.000\")&\" \"&\"L\")","v":"-.115 L"},{"$f":"IF(RTD(\"cqg.rtd\", ,\"ContractData\",'SO3'!AF44,\"LastTradeorSettle\",,\"T\")=\"\",\"\",TEXT(RTD(\"cqg.rtd\", ,\"ContractData\",'SO3'!AF44,\"LastTradeorSettle\",,\"T\"),\"#.000\")&\" \"&\"L\")","v":"-.105 L"},{"$f":"IF(RTD(\"cqg.rtd\", ,\"ContractData\",'SO3'!AF45,\"LastTradeorSettle\",,\"T\")=\"\",\"\",TEXT(RTD(\"cqg.rtd\", ,\"ContractData\",'SO3'!AF45,\"LastTradeorSettle\",,\"T\"),\"#.000\")&\" \"&\"L\")","v":"-.085 L"},{"$f":"IF(RTD(\"cqg.rtd\", ,\"ContractData\",'SO3'!AF46,\"LastTradeorSettle\",,\"T\")=\"\",\"\",TEXT(RTD(\"cqg.rtd\", ,\"ContractData\",'SO3'!AF46,\"LastTradeorSettle\",,\"T\"),\"#.000\")&\" \"&\"L\")","v":"-.080 L"},{"$f":"IF(RTD(\"cqg.rtd\", ,\"ContractData\",'SO3'!AF47,\"LastTradeorSettle\",,\"T\")=\"\",\"\",TEXT(RTD(\"cqg.rtd\", ,\"ContractData\",'SO3'!AF47,\"LastTradeorSettle\",,\"T\"),\"#.000\")&\" \"&\"L\")","v":"-.095 L"},{"$f":"IF(RTD(\"cqg.rtd\", ,\"ContractData\",'SO3'!AF48,\"LastTradeorSettle\",,\"T\")=\"\",\"\",TEXT(RTD(\"cqg.rtd\", ,\"ContractData\",'SO3'!AF48,\"LastTradeorSettle\",,\"T\"),\"#.000\")&\" \"&\"L\")","v":"-.105 L"},{"$f":"IF(RTD(\"cqg.rtd\", ,\"ContractData\",'SO3'!AF49,\"LastTradeorSettle\",,\"T\")=\"\",\"\",TEXT(RTD(\"cqg.rtd\", ,\"ContractData\",'SO3'!AF49,\"LastTradeorSettle\",,\"T\"),\"#.000\")&\" \"&\"L\")","v":"-.095 L"},{"$f":"IF(RTD(\"cqg.rtd\", ,\"ContractData\",'SO3'!AF50,\"LastTradeorSettle\",,\"T\")=\"\",\"\",TEXT(RTD(\"cqg.rtd\", ,\"ContractData\",'SO3'!AF50,\"LastTradeorSettle\",,\"T\"),\"#.000\")&\" \"&\"L\")","v":"-.075 L"},{"$f":"IF(RTD(\"cqg.rtd\", ,\"ContractData\",'SO3'!AF51,\"LastTradeorSettle\",,\"T\")=\"\",\"\",TEXT(RTD(\"cqg.rtd\", ,\"ContractData\",'SO3'!AF51,\"LastTradeorSettle\",,\"T\"),\"#.000\")&\" \"&\"L\")","v":"-.055 L"},{"$f":"IF(LEFT(RTD(\"cqg.rtd\",,\"ContractData\",'SO3'!AF52,\"LastTradeorSettle\"),3)=\"768\",\"\",IF(RTD(\"cqg.rtd\",,\"ContractData\",'SO3'!AF52,\"LastTradeorSettle\")=\"\",\"\",TEXT(RTD(\"cqg.rtd\",,\"ContractData\",'SO3'!AF52,\"LastTradeorSettle\"),\"#.000\")&\" \"&\"L\"))","v":""},{"$f":"IF(LEFT(RTD(\"cqg.rtd\",,\"ContractData\",'SO3'!AF53,\"LastTradeorSettle\"),3)=\"768\",\"\",IF(RTD(\"cqg.rtd\",,\"ContractData\",'SO3'!AF53,\"LastTradeorSettle\")=\"\",\"\",TEXT(RTD(\"cqg.rtd\",,\"ContractData\",'SO3'!AF53,\"LastTradeorSettle\"),\"#.000\")&\" \"&\"L\"))","v":""},{"$f":"IF(LEFT(RTD(\"cqg.rtd\",,\"ContractData\",'SO3'!AF53,\"LastTradeorSettle\"),3)=\"768\",\"\",IF(RTD(\"cqg.rtd\",,\"ContractData\",'SO3'!AF53,\"LastTradeorSettle\")=\"\",\"\",TEXT(RTD(\"cqg.rtd\",,\"ContractData\",'SO3'!AF53,\"LastTradeorSettle\"),\"#.000\")&\" \"&\"L\"))","v":""}]
[{"$f":"RTD(\"cqg.rtd\",,\"ContractData\",'SO3'!AF36, \"Symbol\")","v":"SO3S2U23"},{"$f":"RIGHT(RTD(\"cqg.rtd\",,\"ContractData\",A46, \"LongDescription\"),15)","v":" Sep 23, Mar 24"},{"$f":"RTD(\"cqg.rtd\", ,\"ContractData\",A46, \"Open\",,\"T\")","v":-0.34500000000000003},{"$f":"RTD(\"cqg.rtd\", ,\"ContractData\",A46, \"High\",,\"T\")","v":-0.31},{"$f":"RTD(\"cqg.rtd\", ,\"ContractData\",A46, \"Low\",,\"T\")","v":-0.36},{"$f":"RTD(\"cqg.rtd\", ,\"ContractData\",A46, \"LastTradeorSettle\",,\"T\")","v":-0.36},{"$f":"RTD(\"cqg.rtd\",,\"ContractData\",A46,\"NetLastTradeToday\",,\"T\")","v":-0.01},{"$f":"RTD(\"cqg.rtd\",,\"ContractData\",A46,\"NetLastTradeToday\",,\"T\")","v":-0.01},{"$f":"RTD(\"cqg.rtd\", ,\"ContractData\",A46, \"T_CVol\")","v":396}]
[{"$f":"RTD(\"cqg.rtd\",,\"ContractData\",'SO3'!AF37, \"Symbol\")","v":"SO3S2Z23"},{"$f":"RIGHT(RTD(\"cqg.rtd\",,\"ContractData\",A47, \"LongDescription\"),15)","v":" Dec 23, Jun 24"},{"$f":"RTD(\"cqg.rtd\", ,\"ContractData\",A47, \"Open\",,\"T\")","v":-0.45},{"$f":"RTD(\"cqg.rtd\", ,\"ContractData\",A47, \"High\",,\"T\")","v":-0.43},{"$f":"RTD(\"cqg.rtd\", ,\"ContractData\",A47, \"Low\",,\"T\")","v":-0.45500000000000002},{"$f":"RTD(\"cqg.rtd\", ,\"ContractData\",A47, \"LastTradeorSettle\",,\"T\")","v":-0.45500000000000002},{"$f":"RTD(\"cqg.rtd\",,\"ContractData\",A47,\"NetLastTradeToday\",,\"T\")","v":-5.0000000000000001E-3},{"$f":"RTD(\"cqg.rtd\",,\"ContractData\",A47,\"NetLastTradeToday\",,\"T\")","v":-5.0000000000000001E-3},{"$f":"RTD(\"cqg.rtd\", ,\"ContractData\",A47, \"T_CVol\")","v":971}]
[{"$f":"RTD(\"cqg.rtd\",,\"ContractData\",'SO3'!AF38, \"Symbol\")","v":"SO3S2H24"},{"$f":"RIGHT(RTD(\"cqg.rtd\",,\"ContractData\",A48, \"LongDescription\"),15)","v":" Mar 24, Sep 24"},{"$f":"RTD(\"cqg.rtd\", ,\"ContractData\",A48, \"Open\",,\"T\")","v":-0.38500000000000001},{"$f":"RTD(\"cqg.rtd\", ,\"ContractData\",A48, \"High\",,\"T\")","v":-0.38500000000000001},{"$f":"RTD(\"cqg.rtd\", ,\"ContractData\",A48, \"Low\",,\"T\")","v":-0.4},{"$f":"RTD(\"cqg.rtd\", ,\"ContractData\",A48, \"LastTradeorSettle\",,\"T\")","v":-0.39},{"$f":"RTD(\"cqg.rtd\",,\"ContractData\",A48,\"NetLastTradeToday\",,\"T\")","v":-5.0000000000000001E-3},{"$f":"RTD(\"cqg.rtd\",,\"ContractData\",A48,\"NetLastTradeToday\",,\"T\")","v":-5.0000000000000001E-3},{"$f":"RTD(\"cqg.rtd\", ,\"ContractData\",A48, \"T_CVol\")","v":978}]
[{"$f":"RTD(\"cqg.rtd\",,\"ContractData\",'SO3'!AF39, \"Symbol\")","v":"SO3S2M24"},{"$f":"RIGHT(RTD(\"cqg.rtd\",,\"ContractData\",A49, \"LongDescription\"),15)","v":" Jun 24, Dec 24"},{"$f":"RTD(\"cqg.rtd\", ,\"ContractData\",A49, \"Open\",,\"T\")","v":-0.23500000000000001},{"$f":"RTD(\"cqg.rtd\", ,\"ContractData\",A49, \"High\",,\"T\")","v":-0.23500000000000001},{"$f":"RTD(\"cqg.rtd\", ,\"ContractData\",A49, \"Low\",,\"T\")","v":-0.25},{"$f":"RTD(\"cqg.rtd\", ,\"ContractData\",A49, \"LastTradeorSettle\",,\"T\")","v":-0.245},{"$f":"RTD(\"cqg.rtd\",,\"ContractData\",A49,\"NetLastTradeToday\",,\"T\")","v":-0.01},{"$f":"RTD(\"cqg.rtd\",,\"ContractData\",A49,\"NetLastTradeToday\",,\"T\")","v":-0.01},{"$f":"RTD(\"cqg.rtd\", ,\"ContractData\",A49, \"T_CVol\")","v":656}]
[{"$f":"RTD(\"cqg.rtd\",,\"ContractData\",'SO3'!AF40, \"Symbol\")","v":"SO3S2U24"},{"$f":"RIGHT(RTD(\"cqg.rtd\",,\"ContractData\",A50, \"LongDescription\"),15)","v":" Sep 24, Mar 25"},{"$f":"RTD(\"cqg.rtd\", ,\"ContractData\",A50, \"Open\",,\"T\")","v":-0.13},{"$f":"RTD(\"cqg.rtd\", ,\"ContractData\",A50, \"High\",,\"T\")","v":-0.13},{"$f":"RTD(\"cqg.rtd\", ,\"ContractData\",A50, \"Low\",,\"T\")","v":-0.14499999999999999},{"$f":"RTD(\"cqg.rtd\", ,\"ContractData\",A50, \"LastTradeorSettle\",,\"T\")","v":-0.14000000000000001},{"$f":"RTD(\"cqg.rtd\",,\"ContractData\",A50,\"NetLastTradeToday\",,\"T\")","v":-0.01},{"$f":"RTD(\"cqg.rtd\",,\"ContractData\",A50,\"NetLastTradeToday\",,\"T\")","v":-0.01},{"$f":"RTD(\"cqg.rtd\", ,\"ContractData\",A50, \"T_CVol\")","v":1166}]
[{"$f":"RTD(\"cqg.rtd\",,\"ContractData\",'SO3'!AF41, \"Symbol\")","v":"SO3S2Z24"},{"$f":"RIGHT(RTD(\"cqg.rtd\",,\"ContractData\",A51, \"LongDescription\"),15)","v":" Dec 24, Jun 25"},{"$f":"RTD(\"cqg.rtd\", ,\"ContractData\",A51, \"Open\",,\"T\")","v":-0.1},{"$f":"RTD(\"cqg.rtd\", ,\"ContractData\",A51, \"High\",,\"T\")","v":-0.1},{"$f":"RTD(\"cqg.rtd\", ,\"ContractData\",A51, \"Low\",,\"T\")","v":-0.12},{"$f":"RTD(\"cqg.rtd\", ,\"ContractData\",A51, \"LastTradeorSettle\",,\"T\")","v":-0.11},{"$f":"RTD(\"cqg.rtd\",,\"ContractData\",A51,\"NetLastTradeToday\",,\"T\")","v":-5.0000000000000001E-3},{"$f":"RTD(\"cqg.rtd\",,\"ContractData\",A51,\"NetLastTradeToday\",,\"T\")","v":-5.0000000000000001E-3},{"$f":"RTD(\"cqg.rtd\", ,\"ContractData\",A51, \"T_CVol\")","v":507}]
[{"$f":"RTD(\"cqg.rtd\",,\"ContractData\",'SO3'!AF42, \"Symbol\")","v":"SO3S2H25"},{"$f":"RIGHT(RTD(\"cqg.rtd\",,\"ContractData\",A52, \"LongDescription\"),15)","v":" Mar 25, Sep 25"},{"$f":"RTD(\"cqg.rtd\", ,\"ContractData\",A52, \"Open\",,\"T\")","v":-0.11},{"$f":"RTD(\"cqg.rtd\", ,\"ContractData\",A52, \"High\",,\"T\")","v":-0.11},{"$f":"RTD(\"cqg.rtd\", ,\"ContractData\",A52, \"Low\",,\"T\")","v":-0.125},{"$f":"RTD(\"cqg.rtd\", ,\"ContractData\",A52, \"LastTradeorSettle\",,\"T\")","v":-0.11},{"$f":"RTD(\"cqg.rtd\",,\"ContractData\",A52,\"NetLastTradeToday\",,\"T\")","v":-5.0000000000000001E-3},{"$f":"RTD(\"cqg.rtd\",,\"ContractData\",A52,\"NetLastTradeToday\",,\"T\")","v":-5.0000000000000001E-3},{"$f":"RTD(\"cqg.rtd\", ,\"ContractData\",A52, \"T_CVol\")","v":647}]
[{"$f":"RTD(\"cqg.rtd\",,\"ContractData\",'SO3'!AF43, \"Symbol\")","v":"SO3S2M25"},{"$f":"RIGHT(RTD(\"cqg.rtd\",,\"ContractData\",A53, \"LongDescription\"),15)","v":" Jun 25, Dec 25"},{"$f":"RTD(\"cqg.rtd\", ,\"ContractData\",A53, \"Open\",,\"T\")","v":-0.12},{"$f":"RTD(\"cqg.rtd\", ,\"ContractData\",A53, \"High\",,\"T\")","v":-0.115},{"$f":"RTD(\"cqg.rtd\", ,\"ContractData\",A53, \"Low\",,\"T\")","v":-0.13},{"$f":"RTD(\"cqg.rtd\", ,\"ContractData\",A53, \"LastTradeorSettle\",,\"T\")","v":-0.115},{"$f":"RTD(\"cqg.rtd\",,\"ContractData\",A53,\"NetLastTradeToday\",,\"T\")","v":0},{"$f":"RTD(\"cqg.rtd\",,\"ContractData\",A53,\"NetLastTradeToday\",,\"T\")","v":0},{"$f":"RTD(\"cqg.rtd\", ,\"ContractData\",A53, \"T_CVol\")","v":503}]
[{"$f":"RTD(\"cqg.rtd\",,\"ContractData\",'SO3'!AF44, \"Symbol\")","v":"SO3S2U25"},{"$f":"RIGHT(RTD(\"cqg.rtd\",,\"ContractData\",A54, \"LongDescription\"),15)","v":" Sep 25, Mar 26"},{"$f":"RTD(\"cqg.rtd\", ,\"ContractData\",A54, \"Open\",,\"T\")","v":-0.115},{"$f":"RTD(\"cqg.rtd\", ,\"ContractData\",A54, \"High\",,\"T\")","v":-0.105},{"$f":"RTD(\"cqg.rtd\", ,\"ContractData\",A54, \"Low\",,\"T\")","v":-0.12},{"$f":"RTD(\"cqg.rtd\", ,\"ContractData\",A54, \"LastTradeorSettle\",,\"T\")","v":-0.105},{"$f":"RTD(\"cqg.rtd\",,\"ContractData\",A54,\"NetLastTradeToday\",,\"T\")","v":5.0000000000000001E-3},{"$f":"RTD(\"cqg.rtd\",,\"ContractData\",A54,\"NetLastTradeToday\",,\"T\")","v":5.0000000000000001E-3},{"$f":"RTD(\"cqg.rtd\", ,\"ContractData\",A54, \"T_CVol\")","v":631}]
[{"$f":"RTD(\"cqg.rtd\",,\"ContractData\",'SO3'!AF45, \"Symbol\")","v":"SO3S2Z25"},{"$f":"RIGHT(RTD(\"cqg.rtd\",,\"ContractData\",A55, \"LongDescription\"),15)","v":" Dec 25, Jun 26"},{"$f":"RTD(\"cqg.rtd\", ,\"ContractData\",A55, \"Open\",,\"T\")","v":-9.5000000000000001E-2},{"$f":"RTD(\"cqg.rtd\", ,\"ContractData\",A55, \"High\",,\"T\")","v":-8.5000000000000006E-2},{"$f":"RTD(\"cqg.rtd\", ,\"ContractData\",A55, \"Low\",,\"T\")","v":-9.5000000000000001E-2},{"$f":"RTD(\"cqg.rtd\", ,\"ContractData\",A55, \"LastTradeorSettle\",,\"T\")","v":-8.5000000000000006E-2},{"$f":"RTD(\"cqg.rtd\",,\"ContractData\",A55,\"NetLastTradeToday\",,\"T\")","v":0.01},{"$f":"RTD(\"cqg.rtd\",,\"ContractData\",A55,\"NetLastTradeToday\",,\"T\")","v":0.01},{"$f":"RTD(\"cqg.rtd\", ,\"ContractData\",A55, \"T_CVol\")","v":357}]
[{"$f":"RTD(\"cqg.rtd\",,\"ContractData\",'SO3'!AF46, \"Symbol\")","v":"SO3S2H26"},{"$f":"RIGHT(RTD(\"cqg.rtd\",,\"ContractData\",A56, \"LongDescription\"),15)","v":" Mar 26, Sep 26"},{"$f":"RTD(\"cqg.rtd\", ,\"ContractData\",A56, \"Open\",,\"T\")","v":-8.5000000000000006E-2},{"$f":"RTD(\"cqg.rtd\", ,\"ContractData\",A56, \"High\",,\"T\")","v":-0.08},{"$f":"RTD(\"cqg.rtd\", ,\"ContractData\",A56, \"Low\",,\"T\")","v":-8.5000000000000006E-2},{"$f":"RTD(\"cqg.rtd\", ,\"ContractData\",A56, \"LastTradeorSettle\",,\"T\")","v":-0.08},{"$f":"RTD(\"cqg.rtd\",,\"ContractData\",A56,\"NetLastTradeToday\",,\"T\")","v":5.0000000000000001E-3},{"$f":"RTD(\"cqg.rtd\",,\"ContractData\",A56,\"NetLastTradeToday\",,\"T\")","v":5.0000000000000001E-3},{"$f":"RTD(\"cqg.rtd\", ,\"ContractData\",A56, \"T_CVol\")","v":253}]
[null,"CQG, Inc. Copyright © 2023",null,null,"Designed by Thom Hartle"]

{"sheet":"SO3","index":1,"n_rows":59,"n_cols":40,"rows_kept":59,"cut":false,"hidden":true,"merged":[]}
[null,null,"S",1,null,null,null,null,null,null,null,null,null,{"$f":"UPPER(SONIA_3_Mo_Master!E11)","v":"SO3M23"},null,null,"SO3","LastTradeorSettle","Bid","Ask","NetLastQuoteToday"]
[{"$f":"Q2","v":"SO3M23"},{"$f":"RTD(\"cqg.rtd\", ,\"ContractData\",A2, \"ContractMonth\")","v":"JUN"},{"$f":"IF(B2=\"Jan\",\"F\",IF(B2=\"Feb\",\"G\",IF(B2=\"Mar\",\"H\",IF(B2=\"Apr\",\"J\",IF(B2=\"May\",\"K\",IF(B2=\"JUN\",\"M\",IF(B2=\"Jul\",\"N\",IF(B2=\"Aug\",\"Q\",IF(B2=\"Sep\",\"U\",IF(B2=\"Oct\",\"V\",IF(B2=\"Nov\",\"X\",IF(B2=\"Dec\",\"Z\"))))))))))))","v":"M"},{"$f":"$Q$1&$C$1&$D$1&$C2","v":"SO3S1M"},null,null,null,null,null,null,null,null,null,{"$f":"VLOOKUP(N1,Q35:R38,2,FALSE)","v":2},null,{"$f":"LEFT(RIGHT(Q2,2),1)","v":"2"},{"$f":"N1","v":"SO3M23"},{"$f":"RTD(\"cqg.rtd\", ,\"ContractData\", Q2, $R$1,,\"T\")","v":95.460000000000008},{"$f":"RTD(\"cqg.rtd\", ,\"ContractData\", Q2,$S$1,,\"T\")","v":95.454999999999998},{"$f":"RTD(\"cqg.rtd\", ,\"ContractData\", Q2,$T$1,,\"T\")","v":95.465000000000003},{"$f":"RTD(\"cqg.rtd\", ,\"ContractData\", \"F.\"&$Q$1&\"?1\", $U$1,,\"T\")","v":5.0000000000000001E-3}]
[{"$f":"Q3","v":"SO3U23"},{"$f":"RTD(\"cqg.rtd\", ,\"ContractData\",A3, \"ContractMonth\")","v":"SEP"},{"$f":"IF(B3=\"Jan\",\"F\",IF(B3=\"Feb\",\"G\",IF(B3=\"Mar\",\"H\",IF(B3=\"Apr\",\"J\",IF(B3=\"May\",\"K\",IF(B3=\"JUN\",\"M\",IF(B3=\"Jul\",\"N\",IF(B3=\"Aug\",\"Q\",IF(B3=\"Sep\",\"U\",IF(B3=\"Oct\",\"V\",IF(B3=\"Nov\",\"X\",IF(B3=\"Dec\",\"Z\"))))))))))))","v":"U"},{"$f":"$Q$1&$C$1&$D$1&$C3","v":"SO3S1U"},null,null,null,null,null,null,null,null,null,{"$f":"N2+1","v":3},null,{"$f":"LEFT(RIGHT(Q3,2),1)","v":"2"},{"$f":"RTD(\"cqg.rtd\", ,\"ContractData\", $Q$1&\"?\"&N3, \"Symbol\")","v":"SO3U23"},{"$f":"RTD(\"cqg.rtd\", ,\"ContractData\", Q3, $R$1,,\"T\")","v":95.435000000000002},{"$f":"RTD(\"cqg.rtd\", ,\"ContractData\", Q3,$S$1,,\"T\")","v":95.43},{"$f":"RTD(\"cqg.rtd\", ,\"ContractData\", Q3,$T$1,,\"T\")","v":95.44},{"$f":"RTD(\"cqg.rtd\", ,\"ContractData\", \"F.\"&$Q$1&\"?2\",  $U$1,,\"T\")","v":1.4999999999999999E-2}]
["SO3Z23",{"$f":"RTD(\"cqg.rtd\", ,\"ContractData\",A4, \"ContractMonth\")","v":"DEC"},"Z","SO3S1Z",null,null,null,null,null,null,null,null,null,{"$f":"N3+1","v":4},null,"2",{"$f":"RTD(\"cqg.rtd\", ,\"ContractData\", $Q$1&\"?\"&N4, \"Symbol\")","v":"SO3Z23"},{"$f":"RTD(\"cqg.rtd\", ,\"ContractData\", Q4, $R$1,,\"T\")","v":95.570000000000007},{"$f":"RTD(\"cqg.rtd\", ,\"ContractData\", Q4,$S$1,,\"T\")","v":95.56},{"$f":"RTD(\"cqg.rtd\", ,\"ContractData\", Q4,$T$1,,\"T\")","v":95.570000000000007},{"$f":"RTD(\"cqg.rtd\", ,\"ContractData\", \"F.\"&$Q$1&\"?3\",  $U$1,,\"T\")","v":0.02}]
["SO3H24",{"$f":"RTD(\"cqg.rtd\", ,\"ContractData\",A5, \"ContractMonth\")","v":"MAR"},"H","SO3S1H",null,null,null,null,null,null,null,null,null,5,null,"2",{"$f":"RTD(\"cqg.rtd\", ,\"ContractData\", $Q$1&\"?\"&N5, \"Symbol\")","v":"SO3H24"},{"$f":"RTD(\"cqg.rtd\", ,\"ContractData\", Q5, $R$1,,\"T\")","v":95.795000000000002},{"$f":"RTD(\"cqg.rtd\", ,\"ContractData\", Q5,$S$1,,\"T\")","v":95.79},{"$f":"RTD(\"cqg.rtd\", ,\"ContractData\", Q5,$T$1,,\"T\")","v":95.795000000000002},{"$f":"RTD(\"cqg.rtd\", ,\"ContractData\", \"F.\"&$Q$1&\"?4\",  $U$1,,\"T\")","v":2.5000000000000001E-2}]
["SO3M24",{"$f":"RTD(\"cqg.rtd\", ,\"ContractData\",A6, \"ContractMonth\")","v":"JUN"},"M","SO3S1M",null,null,null,null,null,null,null,null,null,6,null,"2",{"$f":"RTD(\"cqg.rtd\", ,\"ContractData\", $Q$1&\"?\"&N6, \"Symbol\")","v":"SO3M24"},{"$f":"RTD(\"cqg.rtd\", ,\"ContractData\", Q6, $R$1,,\"T\")","v":96.025000000000006},{"$f":"RTD(\"cqg.rtd\", ,\"ContractData\", Q6,$S$1,,\"T\")","v":96.015000000000001},{"$f":"RTD(\"cqg.rtd\", ,\"ContractData\", Q6,$T$1,,\"T\")","v":96.025000000000006},{"$f":"RTD(\"cqg.rtd\", ,\"ContractData\", \"F.\"&$Q$1&\"?5\",  $U$1,,\"T\")","v":0.03}]
["SO3U24",{"$f":"RTD(\"cqg.rtd\", ,\"ContractData\",A7, \"ContractMonth\")","v":"SEP"},"U","SO3S1U",null,null,null,null,null,null,null,null,null,7,null,"2",{"$f":"RTD(\"cqg.rtd\", ,\"ContractData\", $Q$1&\"?\"&N7, \"Symbol\")","v":"SO3U24"},{"$f":"RTD(\"cqg.rtd\", ,\"ContractData\", Q7, $R$1,,\"T\")","v":96.185000000000002},{"$f":"RTD(\"cqg.rtd\", ,\"ContractData\", Q7,$S$1,,\"T\")","v":96.174999999999997},{"$f":"RTD(\"cqg.rtd\", ,\"ContractData\", Q7,$T$1,,\"T\")","v":96.185000000000002},{"$f":"RTD(\"cqg.rtd\", ,\"ContractData\", \"F.\"&$Q$1&\"?6\", $U$1,,\"T\")","v":0.03}]
["SO3Z24",{"$f":"RTD(\"cqg.rtd\", ,\"ContractData\",A8, \"ContractMonth\")","v":"DEC"},"Z","SO3S1Z",null,null,null,null,null,null,null,null,null,8,null,"2",{"$f":"RTD(\"cqg.rtd\", ,\"ContractData\", $Q$1&\"?\"&N8, \"Symbol\")","v":"SO3Z24"},{"$f":"RTD(\"cqg.rtd\", ,\"ContractData\", Q8, $R$1,,\"T\")","v":96.265000000000001},{"$f":"RTD(\"cqg.rtd\", ,\"ContractData\", Q8,$S$1,,\"T\")","v":96.26},{"$f":"RTD(\"cqg.rtd\", ,\"ContractData\", Q8,$T$1,,\"T\")","v":96.27},{"$f":"RTD(\"cqg.rtd\", ,\"ContractData\", \"F.\"&$Q$1&\"?7\", $U$1,,\"T\")","v":0.03}]
["SO3H25",{"$f":"RTD(\"cqg.rtd\", ,\"ContractData\",A9, \"ContractMonth\")","v":"MAR"},"H","SO3S1H",null,null,null,null,null,null,null,null,null,9,null,"2",{"$f":"RTD(\"cqg.rtd\", ,\"ContractData\", $Q$1&\"?\"&N9, \"Symbol\")","v":"SO3H25"},{"$f":"RTD(\"cqg.rtd\", ,\"ContractData\", Q9, $R$1,,\"T\")","v":96.320000000000007},{"$f":"RTD(\"cqg.rtd\", ,\"ContractData\", Q9,$S$1,,\"T\")","v":96.314999999999998},{"$f":"RTD(\"cqg.rtd\", ,\"ContractData\", Q9,$T$1,,\"T\")","v":96.325000000000003},{"$f":"RTD(\"cqg.rtd\", ,\"ContractData\", \"F.\"&$Q$1&\"?8\", $U$1,,\"T\")","v":0.04}]
["SO3M25",{"$f":"RTD(\"cqg.rtd\", ,\"ContractData\",A10, \"ContractMonth\")","v":"JUN"},"M","SO3S1M",null,null,null,null,null,null,null,null,null,10,null,"2",{"$f":"RTD(\"cqg.rtd\", ,\"ContractData\", $Q$1&\"?\"&N10, \"Symbol\")","v":"SO3M25"},{"$f":"RTD(\"cqg.rtd\", ,\"ContractData\", Q10, $R$1,,\"T\")","v":96.375},{"$f":"RTD(\"cqg.rtd\", ,\"ContractData\", Q10,$S$1,,\"T\")","v":96.365000000000009},{"$f":"RTD(\"cqg.rtd\", ,\"ContractData\", Q10,$T$1,,\"T\")","v":96.375},{"$f":"RTD(\"cqg.rtd\", ,\"ContractData\", \"F.\"&$Q$1&\"?9\", $U$1,,\"T\")","v":0.04}]
["SO3U25",{"$f":"RTD(\"cqg.rtd\", ,\"ContractData\",A11, \"ContractMonth\")","v":"SEP"},"U","SO3S1U",null,null,null,null,null,null,null,null,null,11,null,"2",{"$f":"RTD(\"cqg.rtd\", ,\"ContractData\", $Q$1&\"?\"&N11, \"Symbol\")","v":"SO3U25"},{"$f":"RTD(\"cqg.rtd\", ,\"ContractData\", Q11, $R$1,,\"T\")","v":96.43},{"$f":"RTD(\"cqg.rtd\", ,\"ContractData\", Q11,$S$1,,\"T\")","v":96.424999999999997},{"$f":"RTD(\"cqg.rtd\", ,\"ContractData\", Q11,$T$1,,\"T\")","v":96.43},{"$f":"RTD(\"cqg.rtd\", ,\"ContractData\", \"F.\"&$Q$1&\"?10\", $U$1,,\"T\")","v":3.5000000000000003E-2}]
["SO3Z25",{"$f":"RTD(\"cqg.rtd\", ,\"ContractData\",A12, \"ContractMonth\")","v":"DEC"},"Z","SO3S1Z",null,null,null,null,null,null,null,null,null,12,null,"2",{"$f":"RTD(\"cqg.rtd\", ,\"ContractData\", $Q$1&\"?\"&N12, \"Symbol\")","v":"SO3Z25"},{"$f":"RTD(\"cqg.rtd\", ,\"ContractData\", Q12, $R$1,,\"T\")","v":96.484999999999999},{"$f":"RTD(\"cqg.rtd\", ,\"ContractData\", Q12,$S$1,,\"T\")","v":96.48},{"$f":"RTD(\"cqg.rtd\", ,\"ContractData\", Q12,$T$1,,\"T\")","v":96.490000000000009},{"$f":"RTD(\"cqg.rtd\", ,\"ContractData\", \"F.\"&$Q$1&\"?11\",$U$1,,\"T\")","v":3.5000000000000003E-2}]
["SO3H26",{"$f":"RTD(\"cqg.rtd\", ,\"ContractData\",A13, \"ContractMonth\")","v":"MAR"},"H","SO3S1H",null,null,null,null,null,null,null,null,null,13,null,"2",{"$f":"RTD(\"cqg.rtd\", ,\"ContractData\", $Q$1&\"?\"&N13, \"Symbol\")","v":"SO3H26"},{"$f":"RTD(\"cqg.rtd\", ,\"ContractData\", Q13, $R$1,,\"T\")","v":96.525000000000006},{"$f":"RTD(\"cqg.rtd\", ,\"ContractData\", Q13,$S$1,,\"T\")","v":96.53},{"$f":"RTD(\"cqg.rtd\", ,\"ContractData\", Q13,$T$1,,\"T\")","v":96.534999999999997},{"$f":"RTD(\"cqg.rtd\", ,\"ContractData\", \"F.\"&$Q$1&\"?12\",$U$1,,\"T\")","v":3.5000000000000003E-2}]
[null,null,null,null,null,null,null,null,null,null,null,null,null,14,null,"2",{"$f":"RTD(\"cqg.rtd\", ,\"ContractData\", $Q$1&\"?\"&N14, \"Symbol\")","v":"SO3M26"},{"$f":"RTD(\"cqg.rtd\", ,\"ContractData\", Q14, $R$1,,\"T\")","v":96.570000000000007},{"$f":"RTD(\"cqg.rtd\", ,\"ContractData\", Q14,$S$1,,\"T\")","v":96.564999999999998},{"$f":"RTD(\"cqg.rtd\", ,\"ContractData\", Q14,$T$1,,\"T\")","v":96.575000000000003},{"$f":"RTD(\"cqg.rtd\", ,\"ContractData\", \"F.\"&$Q$1&\"?12\",$U$1,,\"T\")","v":3.5000000000000003E-2}]
[null,null,null,null,null,null,null,null,null,null,null,null,null,15,null,"2",{"$f":"RTD(\"cqg.rtd\", ,\"ContractData\", $Q$1&\"?\"&N15, \"Symbol\")","v":"SO3U26"},{"$f":"RTD(\"cqg.rtd\", ,\"ContractData\", Q15, $R$1,,\"T\")","v":96.615000000000009},{"$f":"RTD(\"cqg.rtd\", ,\"ContractData\", Q15,$S$1,,\"T\")","v":96.605000000000004},{"$f":"RTD(\"cqg.rtd\", ,\"ContractData\", Q15,$T$1,,\"T\")","v":96.615000000000009},{"$f":"RTD(\"cqg.rtd\", ,\"ContractData\", \"F.\"&$Q$1&\"?12\",$U$1,,\"T\")","v":3.5000000000000003E-2}]
[null,null,null,null,null,null,null,null,null,null,null,null,null,16,null,"2",{"$f":"RTD(\"cqg.rtd\", ,\"ContractData\", $Q$1&\"?\"&N16, \"Symbol\")","v":"SO3Z26"},{"$f":"RTD(\"cqg.rtd\", ,\"ContractData\", Q16, $R$1,,\"T\")","v":96.65},{"$f":"RTD(\"cqg.rtd\", ,\"ContractData\", Q16,$S$1,,\"T\")","v":96.655000000000001},{"$f":"RTD(\"cqg.rtd\", ,\"ContractData\", Q16,$T$1,,\"T\")","v":96.665000000000006},{"$f":"RTD(\"cqg.rtd\", ,\"ContractData\", \"F.\"&$Q$1&\"?12\",$U$1,,\"T\")","v":3.5000000000000003E-2}]
[null,null,"Max","Min",null,null,null,null,null,null,null,null,null,17,null,"2",{"$f":"RTD(\"cqg.rtd\", ,\"ContractData\", $Q$1&\"?\"&N17, \"Symbol\")","v":"SO3H27"},{"$f":"RTD(\"cqg.rtd\", ,\"ContractData\", Q17, $R$1,,\"T\")","v":96.715000000000003},{"$f":"RTD(\"cqg.rtd\", ,\"ContractData\", Q17,$S$1,,\"T\")","v":96.710000000000008},{"$f":"RTD(\"cqg.rtd\", ,\"ContractData\", Q17,$T$1,,\"T\")","v":96.715000000000003},{"$f":"RTD(\"cqg.rtd\", ,\"ContractData\", \"F.\"&$Q$1&\"?12\",$U$1,,\"T\")","v":3.5000000000000003E-2}]
[null,null,{"$f":"ROUNDUP(MAX(C19:C20),0)","v":97},{"$f":"ROUNDDOWN(MIN(D19:D20),0)","v":95},null,null,null,null,null,null,null,null,null,18,null,"2",{"$f":"RTD(\"cqg.rtd\", ,\"ContractData\", $Q$1&\"?\"&N18, \"Symbol\")","v":"SO3M27"},{"$f":"IF(RTD(\"cqg.rtd\", ,\"ContractData\", Q18, $R$1,,\"T\")=\"\",NA(),RTD(\"cqg.rtd\", ,\"ContractData\", Q18, $R$1,,\"T\"))","v":96.754999999999995},{"$f":"RTD(\"cqg.rtd\", ,\"ContractData\", Q18,$S$1,,\"T\")","v":96.75},{"$f":"RTD(\"cqg.rtd\", ,\"ContractData\", Q18,$T$1,,\"T\")","v":96.76},{"$f":"RTD(\"cqg.rtd\", ,\"ContractData\", \"F.\"&$Q$1&\"?12\",$U$1,,\"T\")","v":3.5000000000000003E-2}]
[null,null,{"$f":"_xlfn.AGGREGATE(4,6,R2:R21)","v":96.765000000000001},{"$f":"_xlfn.AGGREGATE(5,6,R2:R21)","v":95.435000000000002},null,null,null,null,null,null,null,null,null,19,null,"2",{"$f":"RTD(\"cqg.rtd\", ,\"ContractData\", $Q$1&\"?\"&N19, \"Symbol\")","v":"SO3U27"},{"$f":"IF(RTD(\"cqg.rtd\", ,\"ContractData\", Q19, $R$1,,\"T\")=\"\",NA(),RTD(\"cqg.rtd\", ,\"ContractData\", Q19, $R$1,,\"T\"))","v":96.740000000000009},{"$f":"RTD(\"cqg.rtd\", ,\"ContractData\", Q19,$S$1,,\"T\")","v":96.78},{"$f":"RTD(\"cqg.rtd\", ,\"ContractData\", Q19,$T$1,,\"T\")","v":96.795000000000002},{"$f":"RTD(\"cqg.rtd\", ,\"ContractData\", \"F.\"&$Q$1&\"?12\",$U$1,,\"T\")","v":3.5000000000000003E-2}]
[null,null,{"$f":"_xlfn.AGGREGATE(4,6,B26:D45)","v":96.834999999999994},{"$f":"_xlfn.AGGREGATE(5,6,B26:D45)","v":95.215000000000003},null,null,null,null,null,null,null,null,null,20,null,"2",{"$f":"RTD(\"cqg.rtd\", ,\"ContractData\", $Q$1&\"?\"&N20, \"Symbol\")","v":"SO3Z27"},{"$f":"IF(RTD(\"cqg.rtd\", ,\"ContractData\", Q20, $R$1,,\"T\")=\"\",NA(),RTD(\"cqg.rtd\", ,\"ContractData\", Q20, $R$1,,\"T\"))","v":96.754999999999995},{"$f":"RTD(\"cqg.rtd\", ,\"ContractData\", Q20,$S$1,,\"T\")","v":96.795000000000002},{"$f":"RTD(\"cqg.rtd\", ,\"ContractData\", Q20,$T$1,,\"T\")","v":96.814999999999998},{"$f":"RTD(\"cqg.rtd\", ,\"ContractData\", \"F.\"&$Q$1&\"?12\",$U$1,,\"T\")","v":3.5000000000000003E-2}]
[null,null,null,null,null,null,null,null,null,null,null,null,null,21,null,"2",{"$f":"RTD(\"cqg.rtd\", ,\"ContractData\", $Q$1&\"?\"&N21, \"Symbol\")","v":"SO3H28"},{"$f":"IF(RTD(\"cqg.rtd\", ,\"ContractData\", Q21, $R$1,,\"T\")=\"\",NA(),RTD(\"cqg.rtd\", ,\"ContractData\", Q21, $R$1,,\"T\"))","v":96.765000000000001},{"$f":"RTD(\"cqg.rtd\", ,\"ContractData\", Q21,$S$1,,\"T\")","v":96.8},{"$f":"RTD(\"cqg.rtd\", ,\"ContractData\", Q21,$T$1,,\"T\")","v":96.835000000000008},{"$f":"RTD(\"cqg.rtd\", ,\"ContractData\", \"F.\"&$Q$1&\"?12\",$U$1,,\"T\")","v":3.5000000000000003E-2}]
[null,null,null,null,null,null,null,null,null,null,null,null,null,22,null,"2",{"$f":"RTD(\"cqg.rtd\", ,\"ContractData\", $Q$1&\"?\"&N22, \"Symbol\")","v":"SO3M28"},{"$f":"IF(RTD(\"cqg.rtd\", ,\"ContractData\", Q22, $R$1,,\"T\")=\"\",NA(),RTD(\"cqg.rtd\", ,\"ContractData\", Q22, $R$1,,\"T\"))","v":{"$error":"#N/A"}},{"$f":"RTD(\"cqg.rtd\", ,\"ContractData\", Q22,$S$1,,\"T\")","v":96.795000000000002},{"$f":"RTD(\"cqg.rtd\", ,\"ContractData\", Q22,$T$1,,\"T\")","v":96.855000000000004},{"$f":"RTD(\"cqg.rtd\", ,\"ContractData\", \"F.\"&$Q$1&\"?12\",$U$1,,\"T\")","v":3.5000000000000003E-2}]
[null,null,null,null,null,null,null,null,null,null,null,null,null,23,null,"2",{"$f":"RTD(\"cqg.rtd\", ,\"ContractData\", $Q$1&\"?\"&N23, \"Symbol\")","v":"SO3U28"},{"$f":"IF(RTD(\"cqg.rtd\", ,\"ContractData\", Q23, $R$1,,\"T\")=\"\",NA(),RTD(\"cqg.rtd\", ,\"ContractData\", Q23, $R$1,,\"T\"))","v":{"$error":"#N/A"}},{"$f":"RTD(\"cqg.rtd\", ,\"ContractData\", Q23,$S$1,,\"T\")","v":96.795000000000002},{"$f":"RTD(\"cqg.rtd\", ,\"ContractData\", Q23,$T$1,,\"T\")","v":96.87},{"$f":"RTD(\"cqg.rtd\", ,\"ContractData\", \"F.\"&$Q$1&\"?12\",$U$1,,\"T\")","v":3.5000000000000003E-2},null,null,null,"Max",null,null,null,null,null,null,null,null,"Max"]
[null,null,null,null,null,null,null,null,null,null,null,null,null,null,null,null,null,null,null,null,null,null,null,null,{"$f":"ROUNDUP(MAX(Y25:Y26),1)","v":0.2},{"$f":"ROUNDUP(MAX(Z25:Z26),1)*-1","v":-0.30000000000000004},null,null,null,null,null,null,null,{"$f":"ROUNDUP(MAX(AH25:AH26),1)","v":0.2},{"$f":"ROUNDUP(MAX(AI25:AI26),1)*-1","v":-0.5}]
[null,"Yesterday","5-days","20-days","Yesterday","5-days","20-days",null,null,null,null,null,null,null,null,null,null,null,null,null,null,null,null,null,{"$f":"_xlfn.AGGREGATE(4,6,V35:V54)","v":2.5000000000000001E-2},{"$f":"ABS(_xlfn.AGGREGATE(5,6,V35:V54))","v":0.23},null,null,null,null,null,null,null,{"$f":"_xlfn.AGGREGATE(4,6,AG35:AG54)","v":-5.5E-2},{"$f":"ABS(_xlfn.AGGREGATE(5,6,AG35:AG54))","v":0.45500000000000002}]
[null,{"$f":" RTD(\"cqg.rtd\",,\"StudyData\",Q2,  \"Bar\",, \"Close\",\"D\",\"-1\",\"All\",,,,\"T\")","v":95.45},{"$f":" RTD(\"cqg.rtd\",,\"StudyData\",Q2,  \"Bar\",, \"Close\",\"D\",\"-5\",\"All\",,,,\"T\")","v":95.504999999999995},{"$f":" RTD(\"cqg.rtd\",,\"StudyData\",Q2,  \"Bar\",, \"Close\",\"D\",\"-20\",\"All\",,,,\"T\")","v":95.37},{"$f":"R2-B26","v":1.0000000000005116E-2},{"$f":"R2-C26","v":-4.4999999999987494E-2},{"$f":"R2-D26","v":9.0000000000003411E-2},null,null,null,null,null,null,null,null,null,null,null,null,null,"1-Qtr",null,null,null,{"$f":"_xlfn.AGGREGATE(4,6,X35:Z54)","v":0.155},{"$f":"ABS(_xlfn.AGGREGATE(5,6,X35:Z54))","v":0.23499999999999999},null,null,null,null,null,"1-Qtr",null,{"$f":"_xlfn.AGGREGATE(4,6,AI35:AK54)","v":0.14000000000000001},{"$f":"ABS(_xlfn.AGGREGATE(5,6,AI35:AK54))","v":0.45}]
[null,{"$f":" RTD(\"cqg.rtd\",,\"StudyData\",Q3,  \"Bar\",, \"Close\",\"D\",\"-1\",\"All\",,,,\"T\")","v":95.42},{"$f":" RTD(\"cqg.rtd\",,\"StudyData\",Q3,  \"Bar\",, \"Close\",\"D\",\"-5\",\"All\",,,,\"T\")","v":95.525000000000006},{"$f":" RTD(\"cqg.rtd\",,\"StudyData\",Q3,  \"Bar\",, \"Close\",\"D\",\"-20\",\"All\",,,,\"T\")","v":95.215000000000003},{"$f":"R3-B27","v":1.5000000000000568E-2},{"$f":"R3-C27","v":-9.0000000000003411E-2},{"$f":"R3-D27","v":0.21999999999999886},null,null,null,null,null,null,null,null,null,null,null,null,null,"2-Qtr",null,null,null,null,null,null,null,null,null,null,"2-Qtr"]
[null,{"$f":" RTD(\"cqg.rtd\",,\"StudyData\",Q4,  \"Bar\",, \"Close\",\"D\",\"-1\",\"All\",,,,\"T\")","v":95.545000000000002},{"$f":" RTD(\"cqg.rtd\",,\"StudyData\",Q4,  \"Bar\",, \"Close\",\"D\",\"-5\",\"All\",,,,\"T\")","v":95.694999999999993},{"$f":" RTD(\"cqg.rtd\",,\"StudyData\",Q4,  \"Bar\",, \"Close\",\"D\",\"-20\",\"All\",,,,\"T\")","v":95.23},2.5000000000005684E-2,-0.12499999999998579,0.34000000000000341,null,null,null,null,null,null,null,null,null,null,null,null,null,"3-Qtr",null,null,null,null,null,null,null,null,null,null,"3-Qtr"]
[null,{"$f":" RTD(\"cqg.rtd\",,\"StudyData\",Q5,  \"Bar\",, \"Close\",\"D\",\"-1\",\"All\",,,,\"T\")","v":95.765000000000001},{"$f":" RTD(\"cqg.rtd\",,\"StudyData\",Q5,  \"Bar\",, \"Close\",\"D\",\"-5\",\"All\",,,,\"T\")","v":95.93},{"$f":" RTD(\"cqg.rtd\",,\"StudyData\",Q5,  \"Bar\",, \"Close\",\"D\",\"-20\",\"All\",,,,\"T\")","v":95.37},3.0000000000001137E-2,-0.13500000000000512,0.42499999999999716,null,null,null,null,null,null,null,null,null,null,null,null,null,"4-Qtr",null,null,null,null,null,null,null,null,null,null,"4-Qtr"]
[null,{"$f":" RTD(\"cqg.rtd\",,\"StudyData\",Q6,  \"Bar\",, \"Close\",\"D\",\"-1\",\"All\",,,,\"T\")","v":95.995000000000005},{"$f":" RTD(\"cqg.rtd\",,\"StudyData\",Q6,  \"Bar\",, \"Close\",\"D\",\"-5\",\"All\",,,,\"T\")","v":96.144999999999996},{"$f":" RTD(\"cqg.rtd\",,\"StudyData\",Q6,  \"Bar\",, \"Close\",\"D\",\"-20\",\"All\",,,,\"T\")","v":95.55},3.0000000000001137E-2,-0.11999999999999034,0.47500000000000853,null,null,null,null,null,null,null,null,null,null,null,null,null,"5-Qtr",null,null,null,null,null,null,null,null,null,null,"5-Qtr",null,{"$f":"RTD(\"cqg.rtd\",,\"ContractData\",AF35,\"LongDescription\",, \"T\")","v":"Three Month SONIA Cal Spr, Jun 23, Dec 23"}]
[null,{"$f":" RTD(\"cqg.rtd\",,\"StudyData\",Q7,  \"Bar\",, \"Close\",\"D\",\"-1\",\"All\",,,,\"T\")","v":96.155000000000001},{"$f":" RTD(\"cqg.rtd\",,\"StudyData\",Q7,  \"Bar\",, \"Close\",\"D\",\"-5\",\"All\",,,,\"T\")","v":96.3},{"$f":" RTD(\"cqg.rtd\",,\"StudyData\",Q7,  \"Bar\",, \"Close\",\"D\",\"-20\",\"All\",,,,\"T\")","v":95.7},3.0000000000001137E-2,-0.11499999999999488,0.48499999999999943,null,null,null,null,null,null,null,null,null,null,null,null,null,"6-Qtr",null,{"$f":"RTD(\"cqg.rtd\",,\"ContractData\",U35,\"LongDescription\",, \"T\")","v":"Three Month SONIA Cal Spr, Jun 23, Sep 23"},null,null,null,null,null,null,null,null,"6-Qtr",null,{"$f":"RTD(\"cqg.rtd\",,\"ContractData\",AF36,\"LongDescription\",, \"T\")","v":"Three Month SONIA Cal Spr, Sep 23, Mar 24"}]
[null,{"$f":" RTD(\"cqg.rtd\",,\"StudyData\",Q8,  \"Bar\",, \"Close\",\"D\",\"-1\",\"All\",,,,\"T\")","v":96.23},{"$f":" RTD(\"cqg.rtd\",,\"StudyData\",Q8,  \"Bar\",, \"Close\",\"D\",\"-5\",\"All\",,,,\"T\")","v":96.375},{"$f":" RTD(\"cqg.rtd\",,\"StudyData\",Q8,  \"Bar\",, \"Close\",\"D\",\"-20\",\"All\",,,,\"T\")","v":95.814999999999998},3.4999999999996589E-2,-0.10999999999999943,0.45000000000000284,null,null,null,null,null,null,null,null,null,null,null,null,null,{"$f":"SONIA_3_Mo_Master!D25","v":"1-Qtr"},null,{"$f":"RTD(\"cqg.rtd\",,\"ContractData\",U54,\"LongDescription\",, \"T\")","v":"Three Month SONIA Cal Spr, Mar 28, Jun 28"},{"$f":"IF(LEFT(RTD(\"cqg.rtd\",,\"StudyData\",U35,  \"Bar\",, \"Close\",\"D\",\"-1\",\"All\",,,,\"T\"),3)=\"768\",NA(),IF(RTD(\"cqg.rtd\",,\"StudyData\",U35,  \"Bar\",, \"Close\",\"D\",\"-1\",\"All\",,,,\"T\")=\"\",NA(),RTD(\"cqg.rtd\",,\"StudyData\",U35,  \"Bar\",, \"Close\",\"D\",\"-1\",\"All\",,,,\"T\")))","v":2.5000000000000001E-2},null,null,null,null,null,null,null,{"$f":"SONIA_3_Mo_Master!D41","v":"2-Qtr"},null,{"$f":"AG35","v":-0.105}]
[null,{"$f":" RTD(\"cqg.rtd\",,\"StudyData\",Q9,  \"Bar\",, \"Close\",\"D\",\"-1\",\"All\",,,,\"T\")","v":96.284999999999997},{"$f":" RTD(\"cqg.rtd\",,\"StudyData\",Q9,  \"Bar\",, \"Close\",\"D\",\"-5\",\"All\",,,,\"T\")","v":96.42},{"$f":" RTD(\"cqg.rtd\",,\"StudyData\",Q9,  \"Bar\",, \"Close\",\"D\",\"-20\",\"All\",,,,\"T\")","v":95.91},3.50000000000108E-2,-9.9999999999994316E-2,0.4100000000000108,null,null,null,null,null,null,null,null,null,null,null,null,null,{"$f":"LEFT(U32,1)","v":"1"},null,null,null,null,null,null,null,null,null,null,{"$f":"LEFT(AF32,1)","v":"2"}]
[null,{"$f":" RTD(\"cqg.rtd\",,\"StudyData\",Q10,  \"Bar\",, \"Close\",\"D\",\"-1\",\"All\",,,,\"T\")","v":96.34},{"$f":" RTD(\"cqg.rtd\",,\"StudyData\",Q10,  \"Bar\",, \"Close\",\"D\",\"-5\",\"All\",,,,\"T\")","v":96.46},{"$f":" RTD(\"cqg.rtd\",,\"StudyData\",Q10,  \"Bar\",, \"Close\",\"D\",\"-20\",\"All\",,,,\"T\")","v":95.995000000000005},3.4999999999996589E-2,-8.4999999999993747E-2,0.37999999999999545,null,null,null,null,null,null,null,null,null,null,"Symbol Check",null,null,null,null,null,"Yesterday","5-days","20-days","Yesterday","5-days","20-days",null,null,null,null,null,"Yesterday","5-days","20-days","Yesterday","5-days","20-days"]
[null,{"$f":" RTD(\"cqg.rtd\",,\"StudyData\",Q11,  \"Bar\",, \"Close\",\"D\",\"-1\",\"All\",,,,\"T\")","v":96.394999999999996},{"$f":" RTD(\"cqg.rtd\",,\"StudyData\",Q11,  \"Bar\",, \"Close\",\"D\",\"-5\",\"All\",,,,\"T\")","v":96.51},{"$f":" RTD(\"cqg.rtd\",,\"StudyData\",Q11,  \"Bar\",, \"Close\",\"D\",\"-20\",\"All\",,,,\"T\")","v":96.064999999999998},3.50000000000108E-2,-7.9999999999998295E-2,0.36500000000000909,null,null,null,null,null,null,null,null,null,{"$f":"RTD(\"cqg.rtd\",,\"ContractData\",Q1&\"?1\", \"Symbol\")","v":"SO3H23"},1,{"$f":"RTD(\"cqg.rtd\",,\"ContractData\",Q1&\"?1\", \"Symbol\")","v":"SO3H23"},{"$f":"N2","v":2},{"$f":"\"SO3S\"&$U$33&\"?\"&\"\"&T35","v":"SO3S1?2"},{"$f":"IF(LEFT(RTD(\"cqg.rtd\", ,\"ContractData\", U35,\"LastTradeorSettle\",,\"T\"),3)=\"768\",NA(),IF(RTD(\"cqg.rtd\", ,\"ContractData\", U35,\"LastTradeorSettle\",,\"T\")=\"\",NA(),RTD(\"cqg.rtd\", ,\"ContractData\", U35,\"LastTradeorSettle\",,\"T\")))","v":2.5000000000000001E-2},null,{"$f":"IF(LEFT(RTD(\"cqg.rtd\",,\"StudyData\",U35,  \"Bar\",, \"Close\",\"D\",\"-1\",\"All\",,,,\"T\"),3)=\"777\",NA(),IF(RTD(\"cqg.rtd\",,\"StudyData\",U35,  \"Bar\",, \"Close\",\"D\",\"-1\",\"All\",,,,\"T\")=\"\",NA(),RTD(\"cqg.rtd\",,\"StudyData\",U35,  \"Bar\",, \"Close\",\"D\",\"-1\",\"All\",,,,\"T\")))","v":2.5000000000000001E-2},{"$f":"IF(LEFT(RTD(\"cqg.rtd\",,\"StudyData\",U35,  \"Bar\",, \"Close\",\"D\",\"-5\",\"All\",,,,\"T\"),3)=\"777\",NA(),IF(RTD(\"cqg.rtd\",,\"StudyData\",U35,  \"Bar\",, \"Close\",\"D\",\"-5\",\"All\",,,,\"T\")=\"\",NA(),RTD(\"cqg.rtd\",,\"StudyData\",U35,  \"Bar\",, \"Close\",\"D\",\"-5\",\"All\",,,,\"T\")))","v":-0.02},{"$f":"IF(LEFT(RTD(\"cqg.rtd\",,\"StudyData\",U35,  \"Bar\",, \"Close\",\"D\",\"-20\",\"All\",,,,\"T\"),3)=\"777\",NA(),IF(RTD(\"cqg.rtd\",,\"StudyData\",U35,  \"Bar\",, \"Close\",\"D\",\"-20\",\"All\",,,,\"T\")=\"\",NA(),RTD(\"cqg.rtd\",,\"StudyData\",U35,  \"Bar\",, \"Close\",\"D\",\"-20\",\"All\",,,,\"T\")))","v":0.155},{"$f":"IFERROR($V35-X35,NA())","v":0},{"$f":"IFERROR($V35-Y35,NA())","v":4.4999999999999998E-2},{"$f":"IFERROR($V35-Z35,NA())","v":-0.13},null,{"$f":"N2","v":2},{"$f":"\"SO3S\"&$AF$33&\"?\"&\"\"&AE35","v":"SO3S2?2"},{"$f":"IF(LEFT(RTD(\"cqg.rtd\", ,\"ContractData\", AF35,\"LastTradeorSettle\",,\"T\"),3)=\"768\",NA(),IF(RTD(\"cqg.rtd\", ,\"ContractData\", AF35,\"LastTradeorSettle\",,\"T\")=\"\",NA(),RTD(\"cqg.rtd\", ,\"ContractData\", AF35,\"LastTradeorSettle\",,\"T\")))","v":-0.105},null,{"$f":"IF(LEFT(RTD(\"cqg.rtd\",,\"StudyData\",AF35,  \"Bar\",, \"Close\",\"D\",\"-1\",\"All\",,,,\"T\"),3)=\"777\",NA(),IF(RTD(\"cqg.rtd\",,\"StudyData\",AF35,  \"Bar\",, \"Close\",\"D\",\"-1\",\"All\",,,,\"T\")=\"\",NA(),RTD(\"cqg.rtd\",,\"StudyData\",AF35,  \"Bar\",, \"Close\",\"D\",\"-1\",\"All\",,,,\"T\")))","v":-0.1},{"$f":"IF(LEFT(RTD(\"cqg.rtd\",,\"StudyData\",AF35,  \"Bar\",, \"Close\",\"D\",\"-5\",\"All\",,,,\"T\"),3)=\"777\",NA(),IF(RTD(\"cqg.rtd\",,\"StudyData\",AF35,  \"Bar\",, \"Close\",\"D\",\"-5\",\"All\",,,,\"T\")=\"\",NA(),RTD(\"cqg.rtd\",,\"StudyData\",AF35,  \"Bar\",, \"Close\",\"D\",\"-5\",\"All\",,,,\"T\")))","v":-0.19},{"$f":"IF(LEFT(RTD(\"cqg.rtd\",,\"StudyData\",AF35,  \"Bar\",, \"Close\",\"D\",\"-20\",\"All\",,,,\"T\"),3)=\"777\",NA(),IF(RTD(\"cqg.rtd\",,\"StudyData\",AF35,  \"Bar\",, \"Close\",\"D\",\"-20\",\"All\",,,,\"T\")=\"\",NA(),RTD(\"cqg.rtd\",,\"StudyData\",AF35,  \"Bar\",, \"Close\",\"D\",\"-20\",\"All\",,,,\"T\")))","v":0.14000000000000001},{"$f":"$AG35-$AI35","v":-4.9999999999999906E-3},{"$f":"$AG35-$AJ35","v":8.5000000000000006E-2},{"$f":"$AG35-$AK35","v":-0.245}]
[null,{"$f":" RTD(\"cqg.rtd\",,\"StudyData\",Q12,  \"Bar\",, \"Close\",\"D\",\"-1\",\"All\",,,,\"T\")","v":96.454999999999998},{"$f":" RTD(\"cqg.rtd\",,\"StudyData\",Q12,  \"Bar\",, \"Close\",\"D\",\"-5\",\"All\",,,,\"T\")","v":96.564999999999998},{"$f":" RTD(\"cqg.rtd\",,\"StudyData\",Q12,  \"Bar\",, \"Close\",\"D\",\"-20\",\"All\",,,,\"T\")","v":96.13},3.0000000000001137E-2,-7.9999999999998295E-2,0.35500000000000398,null,null,null,null,null,null,null,null,null,{"$f":"RTD(\"cqg.rtd\",,\"ContractData\",Q1&\"?2\", \"Symbol\")","v":"SO3M23"},{"$f":"R35+1","v":2},{"$f":"RTD(\"cqg.rtd\",,\"ContractData\",Q1&\"?2\", \"Symbol\")","v":"SO3M23"},{"$f":"N3","v":3},{"$f":"\"SO3S\"&$U$33&\"?\"&\"\"&T36","v":"SO3S1?3"},{"$f":"IF(LEFT(RTD(\"cqg.rtd\", ,\"ContractData\", U36,\"LastTradeorSettle\",,\"T\"),3)=\"768\",NA(),IF(RTD(\"cqg.rtd\", ,\"ContractData\", U36,\"LastTradeorSettle\",,\"T\")=\"\",NA(),RTD(\"cqg.rtd\", ,\"ContractData\", U36,\"LastTradeorSettle\",,\"T\")))","v":-0.13},null,{"$f":"IF(LEFT(RTD(\"cqg.rtd\",,\"StudyData\",U36,  \"Bar\",, \"Close\",\"D\",\"-1\",\"All\",,,,\"T\"),3)=\"777\",NA(),IF(RTD(\"cqg.rtd\",,\"StudyData\",U36,  \"Bar\",, \"Close\",\"D\",\"-1\",\"All\",,,,\"T\")=\"\",NA(),RTD(\"cqg.rtd\",,\"StudyData\",U36,  \"Bar\",, \"Close\",\"D\",\"-1\",\"All\",,,,\"T\")))","v":-0.13},{"$f":"IF(LEFT(RTD(\"cqg.rtd\",,\"StudyData\",U36,  \"Bar\",, \"Close\",\"D\",\"-5\",\"All\",,,,\"T\"),3)=\"777\",NA(),IF(RTD(\"cqg.rtd\",,\"StudyData\",U36,  \"Bar\",, \"Close\",\"D\",\"-5\",\"All\",,,,\"T\")=\"\",NA(),RTD(\"cqg.rtd\",,\"StudyData\",U36,  \"Bar\",, \"Close\",\"D\",\"-5\",\"All\",,,,\"T\")))","v":-0.17499999999999999},{"$f":"IF(LEFT(RTD(\"cqg.rtd\",,\"StudyData\",U36,  \"Bar\",, \"Close\",\"D\",\"-20\",\"All\",,,,\"T\"),3)=\"777\",NA(),IF(RTD(\"cqg.rtd\",,\"StudyData\",U36,  \"Bar\",, \"Close\",\"D\",\"-20\",\"All\",,,,\"T\")=\"\",NA(),RTD(\"cqg.rtd\",,\"StudyData\",U36,  \"Bar\",, \"Close\",\"D\",\"-20\",\"All\",,,,\"T\")))","v":-1.4999999999999999E-2},{"$f":"IFERROR($V36-X36,NA())","v":0},{"$f":"IFERROR($V36-Y36,NA())","v":4.4999999999999984E-2},{"$f":"IFERROR($V36-Z36,NA())","v":-0.115},null,{"$f":"AE35+1","v":3},{"$f":"\"SO3S\"&$AF$33&\"?\"&\"\"&AE36","v":"SO3S2?3"},{"$f":"IF(LEFT(RTD(\"cqg.rtd\", ,\"ContractData\", AF36,\"LastTradeorSettle\",,\"T\"),3)=\"768\",NA(),IF(RTD(\"cqg.rtd\", ,\"ContractData\", AF36,\"LastTradeorSettle\",,\"T\")=\"\",NA(),RTD(\"cqg.rtd\", ,\"ContractData\", AF36,\"LastTradeorSettle\",,\"T\")))","v":-0.36},null,{"$f":"IF(LEFT(RTD(\"cqg.rtd\",,\"StudyData\",AF36,  \"Bar\",, \"Close\",\"D\",\"-1\",\"All\",,,,\"T\"),3)=\"777\",NA(),IF(RTD(\"cqg.rtd\",,\"StudyData\",AF36,  \"Bar\",, \"Close\",\"D\",\"-1\",\"All\",,,,\"T\")=\"\",NA(),RTD(\"cqg.rtd\",,\"StudyData\",AF36,  \"Bar\",, \"Close\",\"D\",\"-1\",\"All\",,,,\"T\")))","v":-0.35},{"$f":"IF(LEFT(RTD(\"cqg.rtd\",,\"StudyData\",AF36,  \"Bar\",, \"Close\",\"D\",\"-5\",\"All\",,,,\"T\"),3)=\"777\",NA(),IF(RTD(\"cqg.rtd\",,\"StudyData\",AF36,  \"Bar\",, \"Close\",\"D\",\"-5\",\"All\",,,,\"T\")=\"\",NA(),RTD(\"cqg.rtd\",,\"StudyData\",AF36,  \"Bar\",, \"Close\",\"D\",\"-5\",\"All\",,,,\"T\")))","v":-0.40500000000000003},{"$f":"IF(LEFT(RTD(\"cqg.rtd\",,\"StudyData\",AF36,  \"Bar\",, \"Close\",\"D\",\"-20\",\"All\",,,,\"T\"),3)=\"777\",NA(),IF(RTD(\"cqg.rtd\",,\"StudyData\",AF36,  \"Bar\",, \"Close\",\"D\",\"-20\",\"All\",,,,\"T\")=\"\",NA(),RTD(\"cqg.rtd\",,\"StudyData\",AF36,  \"Bar\",, \"Close\",\"D\",\"-20\",\"All\",,,,\"T\")))","v":-0.15},{"$f":"$AG36-$AI36","v":-1.0000000000000009E-2},{"$f":"$AG36-$AJ36","v":4.500000000000004E-2},{"$f":"$AG36-$AK36","v":-0.21}]
[null,{"$f":" RTD(\"cqg.rtd\",,\"StudyData\",Q13,  \"Bar\",, \"Close\",\"D\",\"-1\",\"All\",,,,\"T\")","v":96.504999999999995},{"$f":" RTD(\"cqg.rtd\",,\"StudyData\",Q13,  \"Bar\",, \"Close\",\"D\",\"-5\",\"All\",,,,\"T\")","v":96.605000000000004},{"$f":" RTD(\"cqg.rtd\",,\"StudyData\",Q13,  \"Bar\",, \"Close\",\"D\",\"-20\",\"All\",,,,\"T\")","v":96.18},2.0000000000010232E-2,-7.9999999999998295E-2,0.34499999999999886,null,null,null,null,null,null,null,null,null,{"$f":"RTD(\"cqg.rtd\",,\"ContractData\",Q1&\"?3\", \"Symbol\")","v":"SO3U23"},{"$f":"R36+1","v":3},{"$f":"RTD(\"cqg.rtd\",,\"ContractData\",Q1&\"?3\", \"Symbol\")","v":"SO3U23"},4,"SO3S1?4",{"$f":"IF(LEFT(RTD(\"cqg.rtd\", ,\"ContractData\", U37,\"LastTradeorSettle\",,\"T\"),3)=\"768\",NA(),IF(RTD(\"cqg.rtd\", ,\"ContractData\", U37,\"LastTradeorSettle\",,\"T\")=\"\",NA(),RTD(\"cqg.rtd\", ,\"ContractData\", U37,\"LastTradeorSettle\",,\"T\")))","v":-0.23},null,{"$f":"IF(LEFT(RTD(\"cqg.rtd\",,\"StudyData\",U37,  \"Bar\",, \"Close\",\"D\",\"-1\",\"All\",,,,\"T\"),3)=\"777\",NA(),IF(RTD(\"cqg.rtd\",,\"StudyData\",U37,  \"Bar\",, \"Close\",\"D\",\"-1\",\"All\",,,,\"T\")=\"\",NA(),RTD(\"cqg.rtd\",,\"StudyData\",U37,  \"Bar\",, \"Close\",\"D\",\"-1\",\"All\",,,,\"T\")))","v":-0.22500000000000001},{"$f":"IF(LEFT(RTD(\"cqg.rtd\",,\"StudyData\",U37,  \"Bar\",, \"Close\",\"D\",\"-5\",\"All\",,,,\"T\"),3)=\"777\",NA(),IF(RTD(\"cqg.rtd\",,\"StudyData\",U37,  \"Bar\",, \"Close\",\"D\",\"-5\",\"All\",,,,\"T\")=\"\",NA(),RTD(\"cqg.rtd\",,\"StudyData\",U37,  \"Bar\",, \"Close\",\"D\",\"-5\",\"All\",,,,\"T\")))","v":-0.23499999999999999},{"$f":"IF(LEFT(RTD(\"cqg.rtd\",,\"StudyData\",U37,  \"Bar\",, \"Close\",\"D\",\"-20\",\"All\",,,,\"T\"),3)=\"777\",NA(),IF(RTD(\"cqg.rtd\",,\"StudyData\",U37,  \"Bar\",, \"Close\",\"D\",\"-20\",\"All\",,,,\"T\")=\"\",NA(),RTD(\"cqg.rtd\",,\"StudyData\",U37,  \"Bar\",, \"Close\",\"D\",\"-20\",\"All\",,,,\"T\")))","v":-0.14000000000000001},-5.0000000000000044E-3,4.9999999999999767E-3,-0.09,null,{"$f":"AE36+1","v":4},"SO3S2?4",{"$f":"IF(LEFT(RTD(\"cqg.rtd\", ,\"ContractData\", AF37,\"LastTradeorSettle\",,\"T\"),3)=\"768\",NA(),IF(RTD(\"cqg.rtd\", ,\"ContractData\", AF37,\"LastTradeorSettle\",,\"T\")=\"\",NA(),RTD(\"cqg.rtd\", ,\"ContractData\", AF37,\"LastTradeorSettle\",,\"T\")))","v":-0.45500000000000002},null,{"$f":"IF(LEFT(RTD(\"cqg.rtd\",,\"StudyData\",AF37,  \"Bar\",, \"Close\",\"D\",\"-1\",\"All\",,,,\"T\"),3)=\"777\",NA(),IF(RTD(\"cqg.rtd\",,\"StudyData\",AF37,  \"Bar\",, \"Close\",\"D\",\"-1\",\"All\",,,,\"T\")=\"\",NA(),RTD(\"cqg.rtd\",,\"StudyData\",AF37,  \"Bar\",, \"Close\",\"D\",\"-1\",\"All\",,,,\"T\")))","v":-0.45},{"$f":"IF(LEFT(RTD(\"cqg.rtd\",,\"StudyData\",AF37,  \"Bar\",, \"Close\",\"D\",\"-5\",\"All\",,,,\"T\"),3)=\"777\",NA(),IF(RTD(\"cqg.rtd\",,\"StudyData\",AF37,  \"Bar\",, \"Close\",\"D\",\"-5\",\"All\",,,,\"T\")=\"\",NA(),RTD(\"cqg.rtd\",,\"StudyData\",AF37,  \"Bar\",, \"Close\",\"D\",\"-5\",\"All\",,,,\"T\")))","v":-0.45},{"$f":"IF(LEFT(RTD(\"cqg.rtd\",,\"StudyData\",AF37,  \"Bar\",, \"Close\",\"D\",\"-20\",\"All\",,,,\"T\"),3)=\"777\",NA(),IF(RTD(\"cqg.rtd\",,\"StudyData\",AF37,  \"Bar\",, \"Close\",\"D\",\"-20\",\"All\",,,,\"T\")=\"\",NA(),RTD(\"cqg.rtd\",,\"StudyData\",AF37,  \"Bar\",, \"Close\",\"D\",\"-20\",\"All\",,,,\"T\")))","v":-0.315},-5.0000000000000044E-3,-5.0000000000000044E-3,-0.14000000000000001]
[null,{"$f":" RTD(\"cqg.rtd\",,\"StudyData\",Q14,  \"Bar\",, \"Close\",\"D\",\"-1\",\"All\",,,,\"T\")","v":96.545000000000002},{"$f":" RTD(\"cqg.rtd\",,\"StudyData\",Q14,  \"Bar\",, \"Close\",\"D\",\"-5\",\"All\",,,,\"T\")","v":96.635000000000005},{"$f":" RTD(\"cqg.rtd\",,\"StudyData\",Q14,  \"Bar\",, \"Close\",\"D\",\"-20\",\"All\",,,,\"T\")","v":96.234999999999999},2.5000000000005684E-2,-6.4999999999997726E-2,0.33500000000000796,null,null,null,null,null,null,null,null,null,{"$f":"RTD(\"cqg.rtd\",,\"ContractData\",Q1&\"?4\", \"Symbol\")","v":"SO3Z23"},4,{"$f":"RTD(\"cqg.rtd\",,\"ContractData\",Q1&\"?4\", \"Symbol\")","v":"SO3Z23"},5,"SO3S1?5",{"$f":"IF(LEFT(RTD(\"cqg.rtd\", ,\"ContractData\", U38,\"LastTradeorSettle\",,\"T\"),3)=\"768\",NA(),IF(RTD(\"cqg.rtd\", ,\"ContractData\", U38,\"LastTradeorSettle\",,\"T\")=\"\",NA(),RTD(\"cqg.rtd\", ,\"ContractData\", U38,\"LastTradeorSettle\",,\"T\")))","v":-0.22500000000000001},null,{"$f":"IF(LEFT(RTD(\"cqg.rtd\",,\"StudyData\",U38,  \"Bar\",, \"Close\",\"D\",\"-1\",\"All\",,,,\"T\"),3)=\"777\",NA(),IF(RTD(\"cqg.rtd\",,\"StudyData\",U38,  \"Bar\",, \"Close\",\"D\",\"-1\",\"All\",,,,\"T\")=\"\",NA(),RTD(\"cqg.rtd\",,\"StudyData\",U38,  \"Bar\",, \"Close\",\"D\",\"-1\",\"All\",,,,\"T\")))","v":-0.23},{"$f":"IF(LEFT(RTD(\"cqg.rtd\",,\"StudyData\",U38,  \"Bar\",, \"Close\",\"D\",\"-5\",\"All\",,,,\"T\"),3)=\"777\",NA(),IF(RTD(\"cqg.rtd\",,\"StudyData\",U38,  \"Bar\",, \"Close\",\"D\",\"-5\",\"All\",,,,\"T\")=\"\",NA(),RTD(\"cqg.rtd\",,\"StudyData\",U38,  \"Bar\",, \"Close\",\"D\",\"-5\",\"All\",,,,\"T\")))","v":-0.215},{"$f":"IF(LEFT(RTD(\"cqg.rtd\",,\"StudyData\",U38,  \"Bar\",, \"Close\",\"D\",\"-20\",\"All\",,,,\"T\"),3)=\"777\",NA(),IF(RTD(\"cqg.rtd\",,\"StudyData\",U38,  \"Bar\",, \"Close\",\"D\",\"-20\",\"All\",,,,\"T\")=\"\",NA(),RTD(\"cqg.rtd\",,\"StudyData\",U38,  \"Bar\",, \"Close\",\"D\",\"-20\",\"All\",,,,\"T\")))","v":-0.17499999999999999},5.0000000000000044E-3,-1.0000000000000009E-2,-5.0000000000000017E-2,null,5,"SO3S2?5",{"$f":"IF(LEFT(RTD(\"cqg.rtd\", ,\"ContractData\", AF38,\"LastTradeorSettle\",,\"T\"),3)=\"768\",NA(),IF(RTD(\"cqg.rtd\", ,\"ContractData\", AF38,\"LastTradeorSettle\",,\"T\")=\"\",NA(),RTD(\"cqg.rtd\", ,\"ContractData\", AF38,\"LastTradeorSettle\",,\"T\")))","v":-0.39},null,{"$f":"IF(LEFT(RTD(\"cqg.rtd\",,\"StudyData\",AF38,  \"Bar\",, \"Close\",\"D\",\"-1\",\"All\",,,,\"T\"),3)=\"777\",NA(),IF(RTD(\"cqg.rtd\",,\"StudyData\",AF38,  \"Bar\",, \"Close\",\"D\",\"-1\",\"All\",,,,\"T\")=\"\",NA(),RTD(\"cqg.rtd\",,\"StudyData\",AF38,  \"Bar\",, \"Close\",\"D\",\"-1\",\"All\",,,,\"T\")))","v":-0.38500000000000001},{"$f":"IF(LEFT(RTD(\"cqg.rtd\",,\"StudyData\",AF38,  \"Bar\",, \"Close\",\"D\",\"-5\",\"All\",,,,\"T\"),3)=\"777\",NA(),IF(RTD(\"cqg.rtd\",,\"StudyData\",AF38,  \"Bar\",, \"Close\",\"D\",\"-5\",\"All\",,,,\"T\")=\"\",NA(),RTD(\"cqg.rtd\",,\"StudyData\",AF38,  \"Bar\",, \"Close\",\"D\",\"-5\",\"All\",,,,\"T\")))","v":-0.37},{"$f":"IF(LEFT(RTD(\"cqg.rtd\",,\"StudyData\",AF38,  \"Bar\",, \"Close\",\"D\",\"-20\",\"All\",,,,\"T\"),3)=\"777\",NA(),IF(RTD(\"cqg.rtd\",,\"StudyData\",AF38,  \"Bar\",, \"Close\",\"D\",\"-20\",\"All\",,,,\"T\")=\"\",NA(),RTD(\"cqg.rtd\",,\"StudyData\",AF38,  \"Bar\",, \"Close\",\"D\",\"-20\",\"All\",,,,\"T\")))","v":-0.33},-5.0000000000000044E-3,-2.0000000000000018E-2,-0.06]
[null,{"$f":" RTD(\"cqg.rtd\",,\"StudyData\",Q15,  \"Bar\",, \"Close\",\"D\",\"-1\",\"All\",,,,\"T\")","v":96.59},{"$f":" RTD(\"cqg.rtd\",,\"StudyData\",Q15,  \"Bar\",, \"Close\",\"D\",\"-5\",\"All\",,,,\"T\")","v":96.665000000000006},{"$f":" RTD(\"cqg.rtd\",,\"StudyData\",Q15,  \"Bar\",, \"Close\",\"D\",\"-20\",\"All\",,,,\"T\")","v":96.29},2.5000000000005684E-2,-4.9999999999997158E-2,0.32500000000000284,null,null,null,null,null,null,null,null,null,null,5,null,6,"SO3S1?6",{"$f":"IF(LEFT(RTD(\"cqg.rtd\", ,\"ContractData\", U39,\"LastTradeorSettle\",,\"T\"),3)=\"768\",NA(),IF(RTD(\"cqg.rtd\", ,\"ContractData\", U39,\"LastTradeorSettle\",,\"T\")=\"\",NA(),RTD(\"cqg.rtd\", ,\"ContractData\", U39,\"LastTradeorSettle\",,\"T\")))","v":-0.16},null,{"$f":"IF(LEFT(RTD(\"cqg.rtd\",,\"StudyData\",U39,  \"Bar\",, \"Close\",\"D\",\"-1\",\"All\",,,,\"T\"),3)=\"777\",NA(),IF(RTD(\"cqg.rtd\",,\"StudyData\",U39,  \"Bar\",, \"Close\",\"D\",\"-1\",\"All\",,,,\"T\")=\"\",NA(),RTD(\"cqg.rtd\",,\"StudyData\",U39,  \"Bar\",, \"Close\",\"D\",\"-1\",\"All\",,,,\"T\")))","v":-0.16},{"$f":"IF(LEFT(RTD(\"cqg.rtd\",,\"StudyData\",U39,  \"Bar\",, \"Close\",\"D\",\"-5\",\"All\",,,,\"T\"),3)=\"777\",NA(),IF(RTD(\"cqg.rtd\",,\"StudyData\",U39,  \"Bar\",, \"Close\",\"D\",\"-5\",\"All\",,,,\"T\")=\"\",NA(),RTD(\"cqg.rtd\",,\"StudyData\",U39,  \"Bar\",, \"Close\",\"D\",\"-5\",\"All\",,,,\"T\")))","v":-0.155},{"$f":"IF(LEFT(RTD(\"cqg.rtd\",,\"StudyData\",U39,  \"Bar\",, \"Close\",\"D\",\"-20\",\"All\",,,,\"T\"),3)=\"777\",NA(),IF(RTD(\"cqg.rtd\",,\"StudyData\",U39,  \"Bar\",, \"Close\",\"D\",\"-20\",\"All\",,,,\"T\")=\"\",NA(),RTD(\"cqg.rtd\",,\"StudyData\",U39,  \"Bar\",, \"Close\",\"D\",\"-20\",\"All\",,,,\"T\")))","v":-0.15},0,-5.0000000000000044E-3,-1.0000000000000009E-2,null,6,"SO3S2?6",{"$f":"IF(LEFT(RTD(\"cqg.rtd\", ,\"ContractData\", AF39,\"LastTradeorSettle\",,\"T\"),3)=\"768\",NA(),IF(RTD(\"cqg.rtd\", ,\"ContractData\", AF39,\"LastTradeorSettle\",,\"T\")=\"\",NA(),RTD(\"cqg.rtd\", ,\"ContractData\", AF39,\"LastTradeorSettle\",,\"T\")))","v":-0.245},null,{"$f":"IF(LEFT(RTD(\"cqg.rtd\",,\"StudyData\",AF39,  \"Bar\",, \"Close\",\"D\",\"-1\",\"All\",,,,\"T\"),3)=\"777\",NA(),IF(RTD(\"cqg.rtd\",,\"StudyData\",AF39,  \"Bar\",, \"Close\",\"D\",\"-1\",\"All\",,,,\"T\")=\"\",NA(),RTD(\"cqg.rtd\",,\"StudyData\",AF39,  \"Bar\",, \"Close\",\"D\",\"-1\",\"All\",,,,\"T\")))","v":-0.23499999999999999},{"$f":"IF(LEFT(RTD(\"cqg.rtd\",,\"StudyData\",AF39,  \"Bar\",, \"Close\",\"D\",\"-5\",\"All\",,,,\"T\"),3)=\"777\",NA(),IF(RTD(\"cqg.rtd\",,\"StudyData\",AF39,  \"Bar\",, \"Close\",\"D\",\"-5\",\"All\",,,,\"T\")=\"\",NA(),RTD(\"cqg.rtd\",,\"StudyData\",AF39,  \"Bar\",, \"Close\",\"D\",\"-5\",\"All\",,,,\"T\")))","v":-0.23},{"$f":"IF(LEFT(RTD(\"cqg.rtd\",,\"StudyData\",AF39,  \"Bar\",, \"Close\",\"D\",\"-20\",\"All\",,,,\"T\"),3)=\"777\",NA(),IF(RTD(\"cqg.rtd\",,\"StudyData\",AF39,  \"Bar\",, \"Close\",\"D\",\"-20\",\"All\",,,,\"T\")=\"\",NA(),RTD(\"cqg.rtd\",,\"StudyData\",AF39,  \"Bar\",, \"Close\",\"D\",\"-20\",\"All\",,,,\"T\")))","v":-0.27},-1.0000000000000009E-2,-1.4999999999999986E-2,2.5000000000000022E-2]
[null,{"$f":" RTD(\"cqg.rtd\",,\"StudyData\",Q16,  \"Bar\",, \"Close\",\"D\",\"-1\",\"All\",,,,\"T\")","v":96.64},{"$f":" RTD(\"cqg.rtd\",,\"StudyData\",Q16,  \"Bar\",, \"Close\",\"D\",\"-5\",\"All\",,,,\"T\")","v":96.704999999999998},{"$f":" RTD(\"cqg.rtd\",,\"StudyData\",Q16,  \"Bar\",, \"Close\",\"D\",\"-20\",\"All\",,,,\"T\")","v":96.334999999999994},1.0000000000005116E-2,-5.499999999999261E-2,0.31500000000001194,null,null,null,null,null,null,null,null,null,null,6,null,7,"SO3S1?7",{"$f":"IF(LEFT(RTD(\"cqg.rtd\", ,\"ContractData\", U40,\"LastTradeorSettle\",,\"T\"),3)=\"768\",NA(),IF(RTD(\"cqg.rtd\", ,\"ContractData\", U40,\"LastTradeorSettle\",,\"T\")=\"\",NA(),RTD(\"cqg.rtd\", ,\"ContractData\", U40,\"LastTradeorSettle\",,\"T\")))","v":-0.08},null,{"$f":"IF(LEFT(RTD(\"cqg.rtd\",,\"StudyData\",U40,  \"Bar\",, \"Close\",\"D\",\"-1\",\"All\",,,,\"T\"),3)=\"777\",NA(),IF(RTD(\"cqg.rtd\",,\"StudyData\",U40,  \"Bar\",, \"Close\",\"D\",\"-1\",\"All\",,,,\"T\")=\"\",NA(),RTD(\"cqg.rtd\",,\"StudyData\",U40,  \"Bar\",, \"Close\",\"D\",\"-1\",\"All\",,,,\"T\")))","v":-7.4999999999999997E-2},{"$f":"IF(LEFT(RTD(\"cqg.rtd\",,\"StudyData\",U40,  \"Bar\",, \"Close\",\"D\",\"-5\",\"All\",,,,\"T\"),3)=\"777\",NA(),IF(RTD(\"cqg.rtd\",,\"StudyData\",U40,  \"Bar\",, \"Close\",\"D\",\"-5\",\"All\",,,,\"T\")=\"\",NA(),RTD(\"cqg.rtd\",,\"StudyData\",U40,  \"Bar\",, \"Close\",\"D\",\"-5\",\"All\",,,,\"T\")))","v":-7.4999999999999997E-2},{"$f":"IF(LEFT(RTD(\"cqg.rtd\",,\"StudyData\",U40,  \"Bar\",, \"Close\",\"D\",\"-20\",\"All\",,,,\"T\"),3)=\"777\",NA(),IF(RTD(\"cqg.rtd\",,\"StudyData\",U40,  \"Bar\",, \"Close\",\"D\",\"-20\",\"All\",,,,\"T\")=\"\",NA(),RTD(\"cqg.rtd\",,\"StudyData\",U40,  \"Bar\",, \"Close\",\"D\",\"-20\",\"All\",,,,\"T\")))","v":-0.115},-5.0000000000000044E-3,-5.0000000000000044E-3,3.5000000000000003E-2,null,7,"SO3S2?7",{"$f":"IF(LEFT(RTD(\"cqg.rtd\", ,\"ContractData\", AF40,\"LastTradeorSettle\",,\"T\"),3)=\"768\",NA(),IF(RTD(\"cqg.rtd\", ,\"ContractData\", AF40,\"LastTradeorSettle\",,\"T\")=\"\",NA(),RTD(\"cqg.rtd\", ,\"ContractData\", AF40,\"LastTradeorSettle\",,\"T\")))","v":-0.14000000000000001},null,{"$f":"IF(LEFT(RTD(\"cqg.rtd\",,\"StudyData\",AF40,  \"Bar\",, \"Close\",\"D\",\"-1\",\"All\",,,,\"T\"),3)=\"777\",NA(),IF(RTD(\"cqg.rtd\",,\"StudyData\",AF40,  \"Bar\",, \"Close\",\"D\",\"-1\",\"All\",,,,\"T\")=\"\",NA(),RTD(\"cqg.rtd\",,\"StudyData\",AF40,  \"Bar\",, \"Close\",\"D\",\"-1\",\"All\",,,,\"T\")))","v":-0.13},{"$f":"IF(LEFT(RTD(\"cqg.rtd\",,\"StudyData\",AF40,  \"Bar\",, \"Close\",\"D\",\"-5\",\"All\",,,,\"T\"),3)=\"777\",NA(),IF(RTD(\"cqg.rtd\",,\"StudyData\",AF40,  \"Bar\",, \"Close\",\"D\",\"-5\",\"All\",,,,\"T\")=\"\",NA(),RTD(\"cqg.rtd\",,\"StudyData\",AF40,  \"Bar\",, \"Close\",\"D\",\"-5\",\"All\",,,,\"T\")))","v":-0.12},{"$f":"IF(LEFT(RTD(\"cqg.rtd\",,\"StudyData\",AF40,  \"Bar\",, \"Close\",\"D\",\"-20\",\"All\",,,,\"T\"),3)=\"777\",NA(),IF(RTD(\"cqg.rtd\",,\"StudyData\",AF40,  \"Bar\",, \"Close\",\"D\",\"-20\",\"All\",,,,\"T\")=\"\",NA(),RTD(\"cqg.rtd\",,\"StudyData\",AF40,  \"Bar\",, \"Close\",\"D\",\"-20\",\"All\",,,,\"T\")))","v":-0.215},-1.0000000000000009E-2,-2.0000000000000018E-2,7.4999999999999983E-2]
[null,{"$f":" RTD(\"cqg.rtd\",,\"StudyData\",Q17,  \"Bar\",, \"Close\",\"D\",\"-1\",\"All\",,,,\"T\")","v":96.694999999999993},{"$f":" RTD(\"cqg.rtd\",,\"StudyData\",Q17,  \"Bar\",, \"Close\",\"D\",\"-5\",\"All\",,,,\"T\")","v":96.75},{"$f":" RTD(\"cqg.rtd\",,\"StudyData\",Q17,  \"Bar\",, \"Close\",\"D\",\"-20\",\"All\",,,,\"T\")","v":96.375},2.0000000000010232E-2,-3.4999999999996589E-2,0.34000000000000341,null,null,null,null,null,null,null,null,null,null,7,null,8,"SO3S1?8",{"$f":"IF(LEFT(RTD(\"cqg.rtd\", ,\"ContractData\", U41,\"LastTradeorSettle\",,\"T\"),3)=\"768\",NA(),IF(RTD(\"cqg.rtd\", ,\"ContractData\", U41,\"LastTradeorSettle\",,\"T\")=\"\",NA(),RTD(\"cqg.rtd\", ,\"ContractData\", U41,\"LastTradeorSettle\",,\"T\")))","v":-5.5E-2},null,{"$f":"IF(LEFT(RTD(\"cqg.rtd\",,\"StudyData\",U41,  \"Bar\",, \"Close\",\"D\",\"-1\",\"All\",,,,\"T\"),3)=\"777\",NA(),IF(RTD(\"cqg.rtd\",,\"StudyData\",U41,  \"Bar\",, \"Close\",\"D\",\"-1\",\"All\",,,,\"T\")=\"\",NA(),RTD(\"cqg.rtd\",,\"StudyData\",U41,  \"Bar\",, \"Close\",\"D\",\"-1\",\"All\",,,,\"T\")))","v":-0.05},{"$f":"IF(LEFT(RTD(\"cqg.rtd\",,\"StudyData\",U41,  \"Bar\",, \"Close\",\"D\",\"-5\",\"All\",,,,\"T\"),3)=\"777\",NA(),IF(RTD(\"cqg.rtd\",,\"StudyData\",U41,  \"Bar\",, \"Close\",\"D\",\"-5\",\"All\",,,,\"T\")=\"\",NA(),RTD(\"cqg.rtd\",,\"StudyData\",U41,  \"Bar\",, \"Close\",\"D\",\"-5\",\"All\",,,,\"T\")))","v":-0.05},{"$f":"IF(LEFT(RTD(\"cqg.rtd\",,\"StudyData\",U41,  \"Bar\",, \"Close\",\"D\",\"-20\",\"All\",,,,\"T\"),3)=\"777\",NA(),IF(RTD(\"cqg.rtd\",,\"StudyData\",U41,  \"Bar\",, \"Close\",\"D\",\"-20\",\"All\",,,,\"T\")=\"\",NA(),RTD(\"cqg.rtd\",,\"StudyData\",U41,  \"Bar\",, \"Close\",\"D\",\"-20\",\"All\",,,,\"T\")))","v":-0.1},-4.9999999999999975E-3,-4.9999999999999975E-3,4.5000000000000005E-2,null,8,"SO3S2?8",{"$f":"IF(LEFT(RTD(\"cqg.rtd\", ,\"ContractData\", AF41,\"LastTradeorSettle\",,\"T\"),3)=\"768\",NA(),IF(RTD(\"cqg.rtd\", ,\"ContractData\", AF41,\"LastTradeorSettle\",,\"T\")=\"\",NA(),RTD(\"cqg.rtd\", ,\"ContractData\", AF41,\"LastTradeorSettle\",,\"T\")))","v":-0.11},null,{"$f":"IF(LEFT(RTD(\"cqg.rtd\",,\"StudyData\",AF41,  \"Bar\",, \"Close\",\"D\",\"-1\",\"All\",,,,\"T\"),3)=\"777\",NA(),IF(RTD(\"cqg.rtd\",,\"StudyData\",AF41,  \"Bar\",, \"Close\",\"D\",\"-1\",\"All\",,,,\"T\")=\"\",NA(),RTD(\"cqg.rtd\",,\"StudyData\",AF41,  \"Bar\",, \"Close\",\"D\",\"-1\",\"All\",,,,\"T\")))","v":-0.105},{"$f":"IF(LEFT(RTD(\"cqg.rtd\",,\"StudyData\",AF41,  \"Bar\",, \"Close\",\"D\",\"-5\",\"All\",,,,\"T\"),3)=\"777\",NA(),IF(RTD(\"cqg.rtd\",,\"StudyData\",AF41,  \"Bar\",, \"Close\",\"D\",\"-5\",\"All\",,,,\"T\")=\"\",NA(),RTD(\"cqg.rtd\",,\"StudyData\",AF41,  \"Bar\",, \"Close\",\"D\",\"-5\",\"All\",,,,\"T\")))","v":-0.09},{"$f":"IF(LEFT(RTD(\"cqg.rtd\",,\"StudyData\",AF41,  \"Bar\",, \"Close\",\"D\",\"-20\",\"All\",,,,\"T\"),3)=\"777\",NA(),IF(RTD(\"cqg.rtd\",,\"StudyData\",AF41,  \"Bar\",, \"Close\",\"D\",\"-20\",\"All\",,,,\"T\")=\"\",NA(),RTD(\"cqg.rtd\",,\"StudyData\",AF41,  \"Bar\",, \"Close\",\"D\",\"-20\",\"All\",,,,\"T\")))","v":-0.185},-5.0000000000000044E-3,-2.0000000000000004E-2,7.4999999999999997E-2]
[null,{"$f":" RTD(\"cqg.rtd\",,\"StudyData\",Q18,  \"Bar\",, \"Close\",\"D\",\"-1\",\"All\",,,,\"T\")","v":96.734999999999999},{"$f":" RTD(\"cqg.rtd\",,\"StudyData\",Q18,  \"Bar\",, \"Close\",\"D\",\"-5\",\"All\",,,,\"T\")","v":96.784999999999997},{"$f":" RTD(\"cqg.rtd\",,\"StudyData\",Q18,  \"Bar\",, \"Close\",\"D\",\"-20\",\"All\",,,,\"T\")","v":96.405000000000001},1.9999999999996021E-2,-3.0000000000001137E-2,0.34999999999999432,null,null,null,null,null,null,null,null,null,null,8,null,9,"SO3S1?9",{"$f":"IF(LEFT(RTD(\"cqg.rtd\", ,\"ContractData\", U42,\"LastTradeorSettle\",,\"T\"),3)=\"768\",NA(),IF(RTD(\"cqg.rtd\", ,\"ContractData\", U42,\"LastTradeorSettle\",,\"T\")=\"\",NA(),RTD(\"cqg.rtd\", ,\"ContractData\", U42,\"LastTradeorSettle\",,\"T\")))","v":-5.5E-2},null,{"$f":"IF(LEFT(RTD(\"cqg.rtd\",,\"StudyData\",U42,  \"Bar\",, \"Close\",\"D\",\"-1\",\"All\",,,,\"T\"),3)=\"777\",NA(),IF(RTD(\"cqg.rtd\",,\"StudyData\",U42,  \"Bar\",, \"Close\",\"D\",\"-1\",\"All\",,,,\"T\")=\"\",NA(),RTD(\"cqg.rtd\",,\"StudyData\",U42,  \"Bar\",, \"Close\",\"D\",\"-1\",\"All\",,,,\"T\")))","v":-0.05},{"$f":"IF(LEFT(RTD(\"cqg.rtd\",,\"StudyData\",U42,  \"Bar\",, \"Close\",\"D\",\"-5\",\"All\",,,,\"T\"),3)=\"777\",NA(),IF(RTD(\"cqg.rtd\",,\"StudyData\",U42,  \"Bar\",, \"Close\",\"D\",\"-5\",\"All\",,,,\"T\")=\"\",NA(),RTD(\"cqg.rtd\",,\"StudyData\",U42,  \"Bar\",, \"Close\",\"D\",\"-5\",\"All\",,,,\"T\")))","v":-0.04},{"$f":"IF(LEFT(RTD(\"cqg.rtd\",,\"StudyData\",U42,  \"Bar\",, \"Close\",\"D\",\"-20\",\"All\",,,,\"T\"),3)=\"777\",NA(),IF(RTD(\"cqg.rtd\",,\"StudyData\",U42,  \"Bar\",, \"Close\",\"D\",\"-20\",\"All\",,,,\"T\")=\"\",NA(),RTD(\"cqg.rtd\",,\"StudyData\",U42,  \"Bar\",, \"Close\",\"D\",\"-20\",\"All\",,,,\"T\")))","v":-8.5000000000000006E-2},-4.9999999999999975E-3,-1.4999999999999999E-2,3.0000000000000006E-2,null,9,"SO3S2?9",{"$f":"IF(LEFT(RTD(\"cqg.rtd\", ,\"ContractData\", AF42,\"LastTradeorSettle\",,\"T\"),3)=\"768\",NA(),IF(RTD(\"cqg.rtd\", ,\"ContractData\", AF42,\"LastTradeorSettle\",,\"T\")=\"\",NA(),RTD(\"cqg.rtd\", ,\"ContractData\", AF42,\"LastTradeorSettle\",,\"T\")))","v":-0.11},null,{"$f":"IF(LEFT(RTD(\"cqg.rtd\",,\"StudyData\",AF42,  \"Bar\",, \"Close\",\"D\",\"-1\",\"All\",,,,\"T\"),3)=\"777\",NA(),IF(RTD(\"cqg.rtd\",,\"StudyData\",AF42,  \"Bar\",, \"Close\",\"D\",\"-1\",\"All\",,,,\"T\")=\"\",NA(),RTD(\"cqg.rtd\",,\"StudyData\",AF42,  \"Bar\",, \"Close\",\"D\",\"-1\",\"All\",,,,\"T\")))","v":-0.105},{"$f":"IF(LEFT(RTD(\"cqg.rtd\",,\"StudyData\",AF42,  \"Bar\",, \"Close\",\"D\",\"-5\",\"All\",,,,\"T\"),3)=\"777\",NA(),IF(RTD(\"cqg.rtd\",,\"StudyData\",AF42,  \"Bar\",, \"Close\",\"D\",\"-5\",\"All\",,,,\"T\")=\"\",NA(),RTD(\"cqg.rtd\",,\"StudyData\",AF42,  \"Bar\",, \"Close\",\"D\",\"-5\",\"All\",,,,\"T\")))","v":-0.09},{"$f":"IF(LEFT(RTD(\"cqg.rtd\",,\"StudyData\",AF42,  \"Bar\",, \"Close\",\"D\",\"-20\",\"All\",,,,\"T\"),3)=\"777\",NA(),IF(RTD(\"cqg.rtd\",,\"StudyData\",AF42,  \"Bar\",, \"Close\",\"D\",\"-20\",\"All\",,,,\"T\")=\"\",NA(),RTD(\"cqg.rtd\",,\"StudyData\",AF42,  \"Bar\",, \"Close\",\"D\",\"-20\",\"All\",,,,\"T\")))","v":-0.155},-5.0000000000000044E-3,-2.0000000000000004E-2,4.4999999999999998E-2]
[null,{"$f":" RTD(\"cqg.rtd\",,\"StudyData\",Q19,  \"Bar\",, \"Close\",\"D\",\"-1\",\"All\",,,,\"T\")","v":96.765000000000001},{"$f":" RTD(\"cqg.rtd\",,\"StudyData\",Q19,  \"Bar\",, \"Close\",\"D\",\"-5\",\"All\",,,,\"T\")","v":96.814999999999998},{"$f":" RTD(\"cqg.rtd\",,\"StudyData\",Q19,  \"Bar\",, \"Close\",\"D\",\"-20\",\"All\",,,,\"T\")","v":96.435000000000002},-2.4999999999991473E-2,-7.4999999999988631E-2,0.30500000000000682,null,null,null,null,null,null,null,null,null,null,9,null,10,"SO3S1?10",{"$f":"IF(LEFT(RTD(\"cqg.rtd\", ,\"ContractData\", U43,\"LastTradeorSettle\",,\"T\"),3)=\"768\",NA(),IF(RTD(\"cqg.rtd\", ,\"ContractData\", U43,\"LastTradeorSettle\",,\"T\")=\"\",NA(),RTD(\"cqg.rtd\", ,\"ContractData\", U43,\"LastTradeorSettle\",,\"T\")))","v":-5.5E-2},null,{"$f":"IF(LEFT(RTD(\"cqg.rtd\",,\"StudyData\",U43,  \"Bar\",, \"Close\",\"D\",\"-1\",\"All\",,,,\"T\"),3)=\"777\",NA(),IF(RTD(\"cqg.rtd\",,\"StudyData\",U43,  \"Bar\",, \"Close\",\"D\",\"-1\",\"All\",,,,\"T\")=\"\",NA(),RTD(\"cqg.rtd\",,\"StudyData\",U43,  \"Bar\",, \"Close\",\"D\",\"-1\",\"All\",,,,\"T\")))","v":-5.5E-2},{"$f":"IF(LEFT(RTD(\"cqg.rtd\",,\"StudyData\",U43,  \"Bar\",, \"Close\",\"D\",\"-5\",\"All\",,,,\"T\"),3)=\"777\",NA(),IF(RTD(\"cqg.rtd\",,\"StudyData\",U43,  \"Bar\",, \"Close\",\"D\",\"-5\",\"All\",,,,\"T\")=\"\",NA(),RTD(\"cqg.rtd\",,\"StudyData\",U43,  \"Bar\",, \"Close\",\"D\",\"-5\",\"All\",,,,\"T\")))","v":-0.05},{"$f":"IF(LEFT(RTD(\"cqg.rtd\",,\"StudyData\",U43,  \"Bar\",, \"Close\",\"D\",\"-20\",\"All\",,,,\"T\"),3)=\"777\",NA(),IF(RTD(\"cqg.rtd\",,\"StudyData\",U43,  \"Bar\",, \"Close\",\"D\",\"-20\",\"All\",,,,\"T\")=\"\",NA(),RTD(\"cqg.rtd\",,\"StudyData\",U43,  \"Bar\",, \"Close\",\"D\",\"-20\",\"All\",,,,\"T\")))","v":-7.0000000000000007E-2},0,-4.9999999999999975E-3,1.5000000000000006E-2,null,10,"SO3S2?10",{"$f":"IF(LEFT(RTD(\"cqg.rtd\", ,\"ContractData\", AF43,\"LastTradeorSettle\",,\"T\"),3)=\"768\",NA(),IF(RTD(\"cqg.rtd\", ,\"ContractData\", AF43,\"LastTradeorSettle\",,\"T\")=\"\",NA(),RTD(\"cqg.rtd\", ,\"ContractData\", AF43,\"LastTradeorSettle\",,\"T\")))","v":-0.115},null,{"$f":"IF(LEFT(RTD(\"cqg.rtd\",,\"StudyData\",AF43,  \"Bar\",, \"Close\",\"D\",\"-1\",\"All\",,,,\"T\"),3)=\"777\",NA(),IF(RTD(\"cqg.rtd\",,\"StudyData\",AF43,  \"Bar\",, \"Close\",\"D\",\"-1\",\"All\",,,,\"T\")=\"\",NA(),RTD(\"cqg.rtd\",,\"StudyData\",AF43,  \"Bar\",, \"Close\",\"D\",\"-1\",\"All\",,,,\"T\")))","v":-0.115},{"$f":"IF(LEFT(RTD(\"cqg.rtd\",,\"StudyData\",AF43,  \"Bar\",, \"Close\",\"D\",\"-5\",\"All\",,,,\"T\"),3)=\"777\",NA(),IF(RTD(\"cqg.rtd\",,\"StudyData\",AF43,  \"Bar\",, \"Close\",\"D\",\"-5\",\"All\",,,,\"T\")=\"\",NA(),RTD(\"cqg.rtd\",,\"StudyData\",AF43,  \"Bar\",, \"Close\",\"D\",\"-5\",\"All\",,,,\"T\")))","v":-0.1},{"$f":"IF(LEFT(RTD(\"cqg.rtd\",,\"StudyData\",AF43,  \"Bar\",, \"Close\",\"D\",\"-20\",\"All\",,,,\"T\"),3)=\"777\",NA(),IF(RTD(\"cqg.rtd\",,\"StudyData\",AF43,  \"Bar\",, \"Close\",\"D\",\"-20\",\"All\",,,,\"T\")=\"\",NA(),RTD(\"cqg.rtd\",,\"StudyData\",AF43,  \"Bar\",, \"Close\",\"D\",\"-20\",\"All\",,,,\"T\")))","v":-0.13500000000000001},0,-1.4999999999999999E-2,2.0000000000000004E-2]
[null,{"$f":"IFERROR( RTD(\"cqg.rtd\",,\"StudyData\",Q20,  \"Bar\",, \"Close\",\"D\",\"-1\",\"All\",,,,\"T\"),NA())","v":96.784999999999997},{"$f":" IF(RTD(\"cqg.rtd\",,\"StudyData\",Q20,  \"Bar\",, \"Close\",\"D\",\"-5\",\"All\",,,,\"T\")=\"\",NA(),RTD(\"cqg.rtd\",,\"StudyData\",Q20,  \"Bar\",, \"Close\",\"D\",\"-5\",\"All\",,,,\"T\"))","v":96.83},{"$f":" IF(RTD(\"cqg.rtd\",,\"StudyData\",Q20,  \"Bar\",, \"Close\",\"D\",\"-20\",\"All\",,,,\"T\")=\"\",NA(),RTD(\"cqg.rtd\",,\"StudyData\",Q20,  \"Bar\",, \"Close\",\"D\",\"-20\",\"All\",,,,\"T\"))","v":96.46},{"$f":"IFERROR( R20-B44,NA())","v":-3.0000000000001137E-2},{"$f":"IFERROR( R20-C44,NA())","v":-7.5000000000002842E-2},{"$f":"IFERROR( R20-D44,NA())","v":0.29500000000000171},null,null,null,null,null,null,null,null,null,null,10,null,11,"SO3S1?11",{"$f":"IF(LEFT(RTD(\"cqg.rtd\", ,\"ContractData\", U44,\"LastTradeorSettle\",,\"T\"),3)=\"768\",NA(),IF(RTD(\"cqg.rtd\", ,\"ContractData\", U44,\"LastTradeorSettle\",,\"T\")=\"\",NA(),RTD(\"cqg.rtd\", ,\"ContractData\", U44,\"LastTradeorSettle\",,\"T\")))","v":-5.5E-2},null,{"$f":"IF(LEFT(RTD(\"cqg.rtd\",,\"StudyData\",U44,  \"Bar\",, \"Close\",\"D\",\"-1\",\"All\",,,,\"T\"),3)=\"777\",NA(),IF(RTD(\"cqg.rtd\",,\"StudyData\",U44,  \"Bar\",, \"Close\",\"D\",\"-1\",\"All\",,,,\"T\")=\"\",NA(),RTD(\"cqg.rtd\",,\"StudyData\",U44,  \"Bar\",, \"Close\",\"D\",\"-1\",\"All\",,,,\"T\")))","v":-0.06},{"$f":"IF(LEFT(RTD(\"cqg.rtd\",,\"StudyData\",U44,  \"Bar\",, \"Close\",\"D\",\"-5\",\"All\",,,,\"T\"),3)=\"777\",NA(),IF(RTD(\"cqg.rtd\",,\"StudyData\",U44,  \"Bar\",, \"Close\",\"D\",\"-5\",\"All\",,,,\"T\")=\"\",NA(),RTD(\"cqg.rtd\",,\"StudyData\",U44,  \"Bar\",, \"Close\",\"D\",\"-5\",\"All\",,,,\"T\")))","v":-5.5E-2},{"$f":"IF(LEFT(RTD(\"cqg.rtd\",,\"StudyData\",U44,  \"Bar\",, \"Close\",\"D\",\"-20\",\"All\",,,,\"T\"),3)=\"777\",NA(),IF(RTD(\"cqg.rtd\",,\"StudyData\",U44,  \"Bar\",, \"Close\",\"D\",\"-20\",\"All\",,,,\"T\")=\"\",NA(),RTD(\"cqg.rtd\",,\"StudyData\",U44,  \"Bar\",, \"Close\",\"D\",\"-20\",\"All\",,,,\"T\")))","v":-6.5000000000000002E-2},4.9999999999999975E-3,0,1.0000000000000002E-2,null,11,"SO3S2?11",{"$f":"IF(LEFT(RTD(\"cqg.rtd\", ,\"ContractData\", AF44,\"LastTradeorSettle\",,\"T\"),3)=\"768\",NA(),IF(RTD(\"cqg.rtd\", ,\"ContractData\", AF44,\"LastTradeorSettle\",,\"T\")=\"\",NA(),RTD(\"cqg.rtd\", ,\"ContractData\", AF44,\"LastTradeorSettle\",,\"T\")))","v":-0.105},null,{"$f":"IF(LEFT(RTD(\"cqg.rtd\",,\"StudyData\",AF44,  \"Bar\",, \"Close\",\"D\",\"-1\",\"All\",,,,\"T\"),3)=\"777\",NA(),IF(RTD(\"cqg.rtd\",,\"StudyData\",AF44,  \"Bar\",, \"Close\",\"D\",\"-1\",\"All\",,,,\"T\")=\"\",NA(),RTD(\"cqg.rtd\",,\"StudyData\",AF44,  \"Bar\",, \"Close\",\"D\",\"-1\",\"All\",,,,\"T\")))","v":-0.11},{"$f":"IF(LEFT(RTD(\"cqg.rtd\",,\"StudyData\",AF44,  \"Bar\",, \"Close\",\"D\",\"-5\",\"All\",,,,\"T\"),3)=\"777\",NA(),IF(RTD(\"cqg.rtd\",,\"StudyData\",AF44,  \"Bar\",, \"Close\",\"D\",\"-5\",\"All\",,,,\"T\")=\"\",NA(),RTD(\"cqg.rtd\",,\"StudyData\",AF44,  \"Bar\",, \"Close\",\"D\",\"-5\",\"All\",,,,\"T\")))","v":-9.5000000000000001E-2},{"$f":"IF(LEFT(RTD(\"cqg.rtd\",,\"StudyData\",AF44,  \"Bar\",, \"Close\",\"D\",\"-20\",\"All\",,,,\"T\"),3)=\"777\",NA(),IF(RTD(\"cqg.rtd\",,\"StudyData\",AF44,  \"Bar\",, \"Close\",\"D\",\"-20\",\"All\",,,,\"T\")=\"\",NA(),RTD(\"cqg.rtd\",,\"StudyData\",AF44,  \"Bar\",, \"Close\",\"D\",\"-20\",\"All\",,,,\"T\")))","v":-0.12},5.0000000000000044E-3,-9.999999999999995E-3,1.4999999999999999E-2]
[null,{"$f":"IFERROR( RTD(\"cqg.rtd\",,\"StudyData\",Q21,  \"Bar\",, \"Close\",\"D\",\"-1\",\"All\",,,,\"T\"),\"\")","v":96.795000000000002},{"$f":" IF(RTD(\"cqg.rtd\",,\"StudyData\",Q21,  \"Bar\",, \"Close\",\"D\",\"-5\",\"All\",,,,\"T\")=\"\",NA(),RTD(\"cqg.rtd\",,\"StudyData\",Q21,  \"Bar\",, \"Close\",\"D\",\"-5\",\"All\",,,,\"T\"))","v":96.834999999999994},{"$f":" IF(RTD(\"cqg.rtd\",,\"StudyData\",Q21,  \"Bar\",, \"Close\",\"D\",\"-20\",\"All\",,,,\"T\")=\"\",NA(),RTD(\"cqg.rtd\",,\"StudyData\",Q21,  \"Bar\",, \"Close\",\"D\",\"-20\",\"All\",,,,\"T\"))","v":96.484999999999999},{"$f":"IFERROR( R21-B45,NA())","v":-3.0000000000001137E-2},{"$f":"IFERROR( R21-C45,NA())","v":-6.9999999999993179E-2},{"$f":"IFERROR( R21-D45,NA())","v":0.28000000000000114},null,null,null,null,null,null,null,null,null,null,11,null,12,"SO3S1?12",{"$f":"IF(LEFT(RTD(\"cqg.rtd\", ,\"ContractData\", U45,\"LastTradeorSettle\",,\"T\"),3)=\"768\",NA(),IF(RTD(\"cqg.rtd\", ,\"ContractData\", U45,\"LastTradeorSettle\",,\"T\")=\"\",NA(),RTD(\"cqg.rtd\", ,\"ContractData\", U45,\"LastTradeorSettle\",,\"T\")))","v":-0.05},null,{"$f":"IF(LEFT(RTD(\"cqg.rtd\",,\"StudyData\",U45,  \"Bar\",, \"Close\",\"D\",\"-1\",\"All\",,,,\"T\"),3)=\"777\",NA(),IF(RTD(\"cqg.rtd\",,\"StudyData\",U45,  \"Bar\",, \"Close\",\"D\",\"-1\",\"All\",,,,\"T\")=\"\",NA(),RTD(\"cqg.rtd\",,\"StudyData\",U45,  \"Bar\",, \"Close\",\"D\",\"-1\",\"All\",,,,\"T\")))","v":-0.05},{"$f":"IF(LEFT(RTD(\"cqg.rtd\",,\"StudyData\",U45,  \"Bar\",, \"Close\",\"D\",\"-5\",\"All\",,,,\"T\"),3)=\"777\",NA(),IF(RTD(\"cqg.rtd\",,\"StudyData\",U45,  \"Bar\",, \"Close\",\"D\",\"-5\",\"All\",,,,\"T\")=\"\",NA(),RTD(\"cqg.rtd\",,\"StudyData\",U45,  \"Bar\",, \"Close\",\"D\",\"-5\",\"All\",,,,\"T\")))","v":-0.04},{"$f":"IF(LEFT(RTD(\"cqg.rtd\",,\"StudyData\",U45,  \"Bar\",, \"Close\",\"D\",\"-20\",\"All\",,,,\"T\"),3)=\"777\",NA(),IF(RTD(\"cqg.rtd\",,\"StudyData\",U45,  \"Bar\",, \"Close\",\"D\",\"-20\",\"All\",,,,\"T\")=\"\",NA(),RTD(\"cqg.rtd\",,\"StudyData\",U45,  \"Bar\",, \"Close\",\"D\",\"-20\",\"All\",,,,\"T\")))","v":-5.5E-2},0,-1.0000000000000002E-2,4.9999999999999975E-3,null,12,"SO3S2?12",{"$f":"IF(LEFT(RTD(\"cqg.rtd\", ,\"ContractData\", AF45,\"LastTradeorSettle\",,\"T\"),3)=\"768\",NA(),IF(RTD(\"cqg.rtd\", ,\"ContractData\", AF45,\"LastTradeorSettle\",,\"T\")=\"\",NA(),RTD(\"cqg.rtd\", ,\"ContractData\", AF45,\"LastTradeorSettle\",,\"T\")))","v":-8.5000000000000006E-2},null,{"$f":"IF(LEFT(RTD(\"cqg.rtd\",,\"StudyData\",AF45,  \"Bar\",, \"Close\",\"D\",\"-1\",\"All\",,,,\"T\"),3)=\"777\",NA(),IF(RTD(\"cqg.rtd\",,\"StudyData\",AF45,  \"Bar\",, \"Close\",\"D\",\"-1\",\"All\",,,,\"T\")=\"\",NA(),RTD(\"cqg.rtd\",,\"StudyData\",AF45,  \"Bar\",, \"Close\",\"D\",\"-1\",\"All\",,,,\"T\")))","v":-9.5000000000000001E-2},{"$f":"IF(LEFT(RTD(\"cqg.rtd\",,\"StudyData\",AF45,  \"Bar\",, \"Close\",\"D\",\"-5\",\"All\",,,,\"T\"),3)=\"777\",NA(),IF(RTD(\"cqg.rtd\",,\"StudyData\",AF45,  \"Bar\",, \"Close\",\"D\",\"-5\",\"All\",,,,\"T\")=\"\",NA(),RTD(\"cqg.rtd\",,\"StudyData\",AF45,  \"Bar\",, \"Close\",\"D\",\"-5\",\"All\",,,,\"T\")))","v":-7.4999999999999997E-2},{"$f":"IF(LEFT(RTD(\"cqg.rtd\",,\"StudyData\",AF45,  \"Bar\",, \"Close\",\"D\",\"-20\",\"All\",,,,\"T\"),3)=\"777\",NA(),IF(RTD(\"cqg.rtd\",,\"StudyData\",AF45,  \"Bar\",, \"Close\",\"D\",\"-20\",\"All\",,,,\"T\")=\"\",NA(),RTD(\"cqg.rtd\",,\"StudyData\",AF45,  \"Bar\",, \"Close\",\"D\",\"-20\",\"All\",,,,\"T\")))","v":-0.11},9.999999999999995E-3,-1.0000000000000009E-2,2.4999999999999994E-2]
[null,null,null,null,null,null,null,null,null,null,null,null,null,null,null,null,null,12,null,13,"SO3S1?13",{"$f":"IF(LEFT(RTD(\"cqg.rtd\", ,\"ContractData\", U46,\"LastTradeorSettle\",,\"T\"),3)=\"768\",NA(),IF(RTD(\"cqg.rtd\", ,\"ContractData\", U46,\"LastTradeorSettle\",,\"T\")=\"\",NA(),RTD(\"cqg.rtd\", ,\"ContractData\", U46,\"LastTradeorSettle\",,\"T\")))","v":-0.04},null,{"$f":"IF(LEFT(RTD(\"cqg.rtd\",,\"StudyData\",U46,  \"Bar\",, \"Close\",\"D\",\"-1\",\"All\",,,,\"T\"),3)=\"777\",NA(),IF(RTD(\"cqg.rtd\",,\"StudyData\",U46,  \"Bar\",, \"Close\",\"D\",\"-1\",\"All\",,,,\"T\")=\"\",NA(),RTD(\"cqg.rtd\",,\"StudyData\",U46,  \"Bar\",, \"Close\",\"D\",\"-1\",\"All\",,,,\"T\")))","v":-0.04},{"$f":"IF(LEFT(RTD(\"cqg.rtd\",,\"StudyData\",U46,  \"Bar\",, \"Close\",\"D\",\"-5\",\"All\",,,,\"T\"),3)=\"777\",NA(),IF(RTD(\"cqg.rtd\",,\"StudyData\",U46,  \"Bar\",, \"Close\",\"D\",\"-5\",\"All\",,,,\"T\")=\"\",NA(),RTD(\"cqg.rtd\",,\"StudyData\",U46,  \"Bar\",, \"Close\",\"D\",\"-5\",\"All\",,,,\"T\")))","v":-0.03},{"$f":"IF(LEFT(RTD(\"cqg.rtd\",,\"StudyData\",U46,  \"Bar\",, \"Close\",\"D\",\"-20\",\"All\",,,,\"T\"),3)=\"777\",NA(),IF(RTD(\"cqg.rtd\",,\"StudyData\",U46,  \"Bar\",, \"Close\",\"D\",\"-20\",\"All\",,,,\"T\")=\"\",NA(),RTD(\"cqg.rtd\",,\"StudyData\",U46,  \"Bar\",, \"Close\",\"D\",\"-20\",\"All\",,,,\"T\")))","v":-5.5E-2},0,-1.0000000000000002E-2,1.4999999999999999E-2,null,13,"SO3S2?13",{"$f":"IF(LEFT(RTD(\"cqg.rtd\", ,\"ContractData\", AF46,\"LastTradeorSettle\",,\"T\"),3)=\"768\",NA(),IF(RTD(\"cqg.rtd\", ,\"ContractData\", AF46,\"LastTradeorSettle\",,\"T\")=\"\",NA(),RTD(\"cqg.rtd\", ,\"ContractData\", AF46,\"LastTradeorSettle\",,\"T\")))","v":-0.08},null,{"$f":"IF(LEFT(RTD(\"cqg.rtd\",,\"StudyData\",AF46,  \"Bar\",, \"Close\",\"D\",\"-1\",\"All\",,,,\"T\"),3)=\"777\",NA(),IF(RTD(\"cqg.rtd\",,\"StudyData\",AF46,  \"Bar\",, \"Close\",\"D\",\"-1\",\"All\",,,,\"T\")=\"\",NA(),RTD(\"cqg.rtd\",,\"StudyData\",AF46,  \"Bar\",, \"Close\",\"D\",\"-1\",\"All\",,,,\"T\")))","v":-8.5000000000000006E-2},{"$f":"IF(LEFT(RTD(\"cqg.rtd\",,\"StudyData\",AF46,  \"Bar\",, \"Close\",\"D\",\"-5\",\"All\",,,,\"T\"),3)=\"777\",NA(),IF(RTD(\"cqg.rtd\",,\"StudyData\",AF46,  \"Bar\",, \"Close\",\"D\",\"-5\",\"All\",,,,\"T\")=\"\",NA(),RTD(\"cqg.rtd\",,\"StudyData\",AF46,  \"Bar\",, \"Close\",\"D\",\"-5\",\"All\",,,,\"T\")))","v":-6.5000000000000002E-2},{"$f":"IF(LEFT(RTD(\"cqg.rtd\",,\"StudyData\",AF46,  \"Bar\",, \"Close\",\"D\",\"-20\",\"All\",,,,\"T\"),3)=\"777\",NA(),IF(RTD(\"cqg.rtd\",,\"StudyData\",AF46,  \"Bar\",, \"Close\",\"D\",\"-20\",\"All\",,,,\"T\")=\"\",NA(),RTD(\"cqg.rtd\",,\"StudyData\",AF46,  \"Bar\",, \"Close\",\"D\",\"-20\",\"All\",,,,\"T\")))","v":-0.11},5.0000000000000044E-3,-1.4999999999999999E-2,0.03]
[null,null,null,null,null,null,null,null,null,null,null,null,null,null,null,null,null,13,null,14,"SO3S1?14",{"$f":"IF(LEFT(RTD(\"cqg.rtd\", ,\"ContractData\", U47,\"LastTradeorSettle\",,\"T\"),3)=\"768\",NA(),IF(RTD(\"cqg.rtd\", ,\"ContractData\", U47,\"LastTradeorSettle\",,\"T\")=\"\",NA(),RTD(\"cqg.rtd\", ,\"ContractData\", U47,\"LastTradeorSettle\",,\"T\")))","v":-0.04},null,{"$f":"IF(LEFT(RTD(\"cqg.rtd\",,\"StudyData\",U47,  \"Bar\",, \"Close\",\"D\",\"-1\",\"All\",,,,\"T\"),3)=\"777\",NA(),IF(RTD(\"cqg.rtd\",,\"StudyData\",U47,  \"Bar\",, \"Close\",\"D\",\"-1\",\"All\",,,,\"T\")=\"\",NA(),RTD(\"cqg.rtd\",,\"StudyData\",U47,  \"Bar\",, \"Close\",\"D\",\"-1\",\"All\",,,,\"T\")))","v":-4.4999999999999998E-2},{"$f":"IF(LEFT(RTD(\"cqg.rtd\",,\"StudyData\",U47,  \"Bar\",, \"Close\",\"D\",\"-5\",\"All\",,,,\"T\"),3)=\"777\",NA(),IF(RTD(\"cqg.rtd\",,\"StudyData\",U47,  \"Bar\",, \"Close\",\"D\",\"-5\",\"All\",,,,\"T\")=\"\",NA(),RTD(\"cqg.rtd\",,\"StudyData\",U47,  \"Bar\",, \"Close\",\"D\",\"-5\",\"All\",,,,\"T\")))","v":-3.5000000000000003E-2},{"$f":"IF(LEFT(RTD(\"cqg.rtd\",,\"StudyData\",U47,  \"Bar\",, \"Close\",\"D\",\"-20\",\"All\",,,,\"T\"),3)=\"777\",NA(),IF(RTD(\"cqg.rtd\",,\"StudyData\",U47,  \"Bar\",, \"Close\",\"D\",\"-20\",\"All\",,,,\"T\")=\"\",NA(),RTD(\"cqg.rtd\",,\"StudyData\",U47,  \"Bar\",, \"Close\",\"D\",\"-20\",\"All\",,,,\"T\")))","v":-0.05},4.9999999999999975E-3,-4.9999999999999975E-3,1.0000000000000002E-2,null,14,"SO3S2?14",{"$f":"IF(LEFT(RTD(\"cqg.rtd\", ,\"ContractData\", AF47,\"LastTradeorSettle\",,\"T\"),3)=\"768\",NA(),IF(RTD(\"cqg.rtd\", ,\"ContractData\", AF47,\"LastTradeorSettle\",,\"T\")=\"\",NA(),RTD(\"cqg.rtd\", ,\"ContractData\", AF47,\"LastTradeorSettle\",,\"T\")))","v":-9.5000000000000001E-2},null,{"$f":"IF(LEFT(RTD(\"cqg.rtd\",,\"StudyData\",AF47,  \"Bar\",, \"Close\",\"D\",\"-1\",\"All\",,,,\"T\"),3)=\"777\",NA(),IF(RTD(\"cqg.rtd\",,\"StudyData\",AF47,  \"Bar\",, \"Close\",\"D\",\"-1\",\"All\",,,,\"T\")=\"\",NA(),RTD(\"cqg.rtd\",,\"StudyData\",AF47,  \"Bar\",, \"Close\",\"D\",\"-1\",\"All\",,,,\"T\")))","v":-9.5000000000000001E-2},{"$f":"IF(LEFT(RTD(\"cqg.rtd\",,\"StudyData\",AF47,  \"Bar\",, \"Close\",\"D\",\"-5\",\"All\",,,,\"T\"),3)=\"777\",NA(),IF(RTD(\"cqg.rtd\",,\"StudyData\",AF47,  \"Bar\",, \"Close\",\"D\",\"-5\",\"All\",,,,\"T\")=\"\",NA(),RTD(\"cqg.rtd\",,\"StudyData\",AF47,  \"Bar\",, \"Close\",\"D\",\"-5\",\"All\",,,,\"T\")))","v":-7.4999999999999997E-2},{"$f":"IF(LEFT(RTD(\"cqg.rtd\",,\"StudyData\",AF47,  \"Bar\",, \"Close\",\"D\",\"-20\",\"All\",,,,\"T\"),3)=\"777\",NA(),IF(RTD(\"cqg.rtd\",,\"StudyData\",AF47,  \"Bar\",, \"Close\",\"D\",\"-20\",\"All\",,,,\"T\")=\"\",NA(),RTD(\"cqg.rtd\",,\"StudyData\",AF47,  \"Bar\",, \"Close\",\"D\",\"-20\",\"All\",,,,\"T\")))","v":-0.1},0,-2.0000000000000004E-2,5.0000000000000044E-3]
[null,null,null,null,null,null,null,null,null,null,null,null,null,null,null,null,null,14,null,15,"SO3S1?15",{"$f":"IF(LEFT(RTD(\"cqg.rtd\", ,\"ContractData\", U48,\"LastTradeorSettle\",,\"T\"),3)=\"768\",NA(),IF(RTD(\"cqg.rtd\", ,\"ContractData\", U48,\"LastTradeorSettle\",,\"T\")=\"\",NA(),RTD(\"cqg.rtd\", ,\"ContractData\", U48,\"LastTradeorSettle\",,\"T\")))","v":-0.05},null,{"$f":"IF(LEFT(RTD(\"cqg.rtd\",,\"StudyData\",U48,  \"Bar\",, \"Close\",\"D\",\"-1\",\"All\",,,,\"T\"),3)=\"777\",NA(),IF(RTD(\"cqg.rtd\",,\"StudyData\",U48,  \"Bar\",, \"Close\",\"D\",\"-1\",\"All\",,,,\"T\")=\"\",NA(),RTD(\"cqg.rtd\",,\"StudyData\",U48,  \"Bar\",, \"Close\",\"D\",\"-1\",\"All\",,,,\"T\")))","v":-0.05},{"$f":"IF(LEFT(RTD(\"cqg.rtd\",,\"StudyData\",U48,  \"Bar\",, \"Close\",\"D\",\"-5\",\"All\",,,,\"T\"),3)=\"777\",NA(),IF(RTD(\"cqg.rtd\",,\"StudyData\",U48,  \"Bar\",, \"Close\",\"D\",\"-5\",\"All\",,,,\"T\")=\"\",NA(),RTD(\"cqg.rtd\",,\"StudyData\",U48,  \"Bar\",, \"Close\",\"D\",\"-5\",\"All\",,,,\"T\")))","v":-0.04},{"$f":"IF(LEFT(RTD(\"cqg.rtd\",,\"StudyData\",U48,  \"Bar\",, \"Close\",\"D\",\"-20\",\"All\",,,,\"T\"),3)=\"777\",NA(),IF(RTD(\"cqg.rtd\",,\"StudyData\",U48,  \"Bar\",, \"Close\",\"D\",\"-20\",\"All\",,,,\"T\")=\"\",NA(),RTD(\"cqg.rtd\",,\"StudyData\",U48,  \"Bar\",, \"Close\",\"D\",\"-20\",\"All\",,,,\"T\")))","v":-0.05},0,-1.0000000000000002E-2,0,null,15,"SO3S2?15",{"$f":"IF(LEFT(RTD(\"cqg.rtd\", ,\"ContractData\", AF48,\"LastTradeorSettle\",,\"T\"),3)=\"768\",NA(),IF(RTD(\"cqg.rtd\", ,\"ContractData\", AF48,\"LastTradeorSettle\",,\"T\")=\"\",NA(),RTD(\"cqg.rtd\", ,\"ContractData\", AF48,\"LastTradeorSettle\",,\"T\")))","v":-0.105},null,{"$f":"IF(LEFT(RTD(\"cqg.rtd\",,\"StudyData\",AF48,  \"Bar\",, \"Close\",\"D\",\"-1\",\"All\",,,,\"T\"),3)=\"777\",NA(),IF(RTD(\"cqg.rtd\",,\"StudyData\",AF48,  \"Bar\",, \"Close\",\"D\",\"-1\",\"All\",,,,\"T\")=\"\",NA(),RTD(\"cqg.rtd\",,\"StudyData\",AF48,  \"Bar\",, \"Close\",\"D\",\"-1\",\"All\",,,,\"T\")))","v":-0.105},{"$f":"IF(LEFT(RTD(\"cqg.rtd\",,\"StudyData\",AF48,  \"Bar\",, \"Close\",\"D\",\"-5\",\"All\",,,,\"T\"),3)=\"777\",NA(),IF(RTD(\"cqg.rtd\",,\"StudyData\",AF48,  \"Bar\",, \"Close\",\"D\",\"-5\",\"All\",,,,\"T\")=\"\",NA(),RTD(\"cqg.rtd\",,\"StudyData\",AF48,  \"Bar\",, \"Close\",\"D\",\"-5\",\"All\",,,,\"T\")))","v":-0.09},{"$f":"IF(LEFT(RTD(\"cqg.rtd\",,\"StudyData\",AF48,  \"Bar\",, \"Close\",\"D\",\"-20\",\"All\",,,,\"T\"),3)=\"777\",NA(),IF(RTD(\"cqg.rtd\",,\"StudyData\",AF48,  \"Bar\",, \"Close\",\"D\",\"-20\",\"All\",,,,\"T\")=\"\",NA(),RTD(\"cqg.rtd\",,\"StudyData\",AF48,  \"Bar\",, \"Close\",\"D\",\"-20\",\"All\",,,,\"T\")))","v":-0.09},0,-1.4999999999999999E-2,-1.4999999999999999E-2]
[null,null,null,null,null,null,null,null,null,null,null,null,null,null,null,null,null,15,null,16,"SO3S1?16",{"$f":"IF(LEFT(RTD(\"cqg.rtd\", ,\"ContractData\", U49,\"LastTradeorSettle\",,\"T\"),3)=\"768\",NA(),IF(RTD(\"cqg.rtd\", ,\"ContractData\", U49,\"LastTradeorSettle\",,\"T\")=\"\",NA(),RTD(\"cqg.rtd\", ,\"ContractData\", U49,\"LastTradeorSettle\",,\"T\")))","v":-5.5E-2},null,{"$f":"IF(LEFT(RTD(\"cqg.rtd\",,\"StudyData\",U49,  \"Bar\",, \"Close\",\"D\",\"-1\",\"All\",,,,\"T\"),3)=\"777\",NA(),IF(RTD(\"cqg.rtd\",,\"StudyData\",U49,  \"Bar\",, \"Close\",\"D\",\"-1\",\"All\",,,,\"T\")=\"\",NA(),RTD(\"cqg.rtd\",,\"StudyData\",U49,  \"Bar\",, \"Close\",\"D\",\"-1\",\"All\",,,,\"T\")))","v":-0.05},{"$f":"IF(LEFT(RTD(\"cqg.rtd\",,\"StudyData\",U49,  \"Bar\",, \"Close\",\"D\",\"-5\",\"All\",,,,\"T\"),3)=\"777\",NA(),IF(RTD(\"cqg.rtd\",,\"StudyData\",U49,  \"Bar\",, \"Close\",\"D\",\"-5\",\"All\",,,,\"T\")=\"\",NA(),RTD(\"cqg.rtd\",,\"StudyData\",U49,  \"Bar\",, \"Close\",\"D\",\"-5\",\"All\",,,,\"T\")))","v":-0.05},{"$f":"IF(LEFT(RTD(\"cqg.rtd\",,\"StudyData\",U49,  \"Bar\",, \"Close\",\"D\",\"-20\",\"All\",,,,\"T\"),3)=\"777\",NA(),IF(RTD(\"cqg.rtd\",,\"StudyData\",U49,  \"Bar\",, \"Close\",\"D\",\"-20\",\"All\",,,,\"T\")=\"\",NA(),RTD(\"cqg.rtd\",,\"StudyData\",U49,  \"Bar\",, \"Close\",\"D\",\"-20\",\"All\",,,,\"T\")))","v":-0.04},-4.9999999999999975E-3,-4.9999999999999975E-3,-1.4999999999999999E-2,null,16,"SO3S2?16",{"$f":"IF(LEFT(RTD(\"cqg.rtd\", ,\"ContractData\", AF49,\"LastTradeorSettle\",,\"T\"),3)=\"768\",NA(),IF(RTD(\"cqg.rtd\", ,\"ContractData\", AF49,\"LastTradeorSettle\",,\"T\")=\"\",NA(),RTD(\"cqg.rtd\", ,\"ContractData\", AF49,\"LastTradeorSettle\",,\"T\")))","v":-9.5000000000000001E-2},null,{"$f":"IF(LEFT(RTD(\"cqg.rtd\",,\"StudyData\",AF49,  \"Bar\",, \"Close\",\"D\",\"-1\",\"All\",,,,\"T\"),3)=\"777\",NA(),IF(RTD(\"cqg.rtd\",,\"StudyData\",AF49,  \"Bar\",, \"Close\",\"D\",\"-1\",\"All\",,,,\"T\")=\"\",NA(),RTD(\"cqg.rtd\",,\"StudyData\",AF49,  \"Bar\",, \"Close\",\"D\",\"-1\",\"All\",,,,\"T\")))","v":-0.09},{"$f":"IF(LEFT(RTD(\"cqg.rtd\",,\"StudyData\",AF49,  \"Bar\",, \"Close\",\"D\",\"-5\",\"All\",,,,\"T\"),3)=\"777\",NA(),IF(RTD(\"cqg.rtd\",,\"StudyData\",AF49,  \"Bar\",, \"Close\",\"D\",\"-5\",\"All\",,,,\"T\")=\"\",NA(),RTD(\"cqg.rtd\",,\"StudyData\",AF49,  \"Bar\",, \"Close\",\"D\",\"-5\",\"All\",,,,\"T\")))","v":-8.5000000000000006E-2},{"$f":"IF(LEFT(RTD(\"cqg.rtd\",,\"StudyData\",AF49,  \"Bar\",, \"Close\",\"D\",\"-20\",\"All\",,,,\"T\"),3)=\"777\",NA(),IF(RTD(\"cqg.rtd\",,\"StudyData\",AF49,  \"Bar\",, \"Close\",\"D\",\"-20\",\"All\",,,,\"T\")=\"\",NA(),RTD(\"cqg.rtd\",,\"StudyData\",AF49,  \"Bar\",, \"Close\",\"D\",\"-20\",\"All\",,,,\"T\")))","v":-7.4999999999999997E-2},-5.0000000000000044E-3,-9.999999999999995E-3,-2.0000000000000004E-2]
[null,null,null,null,null,null,null,null,null,null,null,null,null,null,null,null,null,16,null,17,"SO3S1?17",{"$f":"IF(LEFT(RTD(\"cqg.rtd\", ,\"ContractData\", U50,\"LastTradeorSettle\",,\"T\"),3)=\"768\",NA(),IF(RTD(\"cqg.rtd\", ,\"ContractData\", U50,\"LastTradeorSettle\",,\"T\")=\"\",NA(),RTD(\"cqg.rtd\", ,\"ContractData\", U50,\"LastTradeorSettle\",,\"T\")))","v":-0.04},null,{"$f":"IF(LEFT(RTD(\"cqg.rtd\",,\"StudyData\",U50,  \"Bar\",, \"Close\",\"D\",\"-1\",\"All\",,,,\"T\"),3)=\"777\",NA(),IF(RTD(\"cqg.rtd\",,\"StudyData\",U50,  \"Bar\",, \"Close\",\"D\",\"-1\",\"All\",,,,\"T\")=\"\",NA(),RTD(\"cqg.rtd\",,\"StudyData\",U50,  \"Bar\",, \"Close\",\"D\",\"-1\",\"All\",,,,\"T\")))","v":-0.04},{"$f":"IF(LEFT(RTD(\"cqg.rtd\",,\"StudyData\",U50,  \"Bar\",, \"Close\",\"D\",\"-5\",\"All\",,,,\"T\"),3)=\"777\",NA(),IF(RTD(\"cqg.rtd\",,\"StudyData\",U50,  \"Bar\",, \"Close\",\"D\",\"-5\",\"All\",,,,\"T\")=\"\",NA(),RTD(\"cqg.rtd\",,\"StudyData\",U50,  \"Bar\",, \"Close\",\"D\",\"-5\",\"All\",,,,\"T\")))","v":-3.5000000000000003E-2},{"$f":"IF(LEFT(RTD(\"cqg.rtd\",,\"StudyData\",U50,  \"Bar\",, \"Close\",\"D\",\"-20\",\"All\",,,,\"T\"),3)=\"777\",NA(),IF(RTD(\"cqg.rtd\",,\"StudyData\",U50,  \"Bar\",, \"Close\",\"D\",\"-20\",\"All\",,,,\"T\")=\"\",NA(),RTD(\"cqg.rtd\",,\"StudyData\",U50,  \"Bar\",, \"Close\",\"D\",\"-20\",\"All\",,,,\"T\")))","v":-3.5000000000000003E-2},0,-4.9999999999999975E-3,-4.9999999999999975E-3,null,17,"SO3S2?17",{"$f":"IF(LEFT(RTD(\"cqg.rtd\", ,\"ContractData\", AF50,\"LastTradeorSettle\",,\"T\"),3)=\"768\",NA(),IF(RTD(\"cqg.rtd\", ,\"ContractData\", AF50,\"LastTradeorSettle\",,\"T\")=\"\",NA(),RTD(\"cqg.rtd\", ,\"ContractData\", AF50,\"LastTradeorSettle\",,\"T\")))","v":-7.4999999999999997E-2},null,{"$f":"IF(LEFT(RTD(\"cqg.rtd\",,\"StudyData\",AF50,  \"Bar\",, \"Close\",\"D\",\"-1\",\"All\",,,,\"T\"),3)=\"777\",NA(),IF(RTD(\"cqg.rtd\",,\"StudyData\",AF50,  \"Bar\",, \"Close\",\"D\",\"-1\",\"All\",,,,\"T\")=\"\",NA(),RTD(\"cqg.rtd\",,\"StudyData\",AF50,  \"Bar\",, \"Close\",\"D\",\"-1\",\"All\",,,,\"T\")))","v":-7.4999999999999997E-2},{"$f":"IF(LEFT(RTD(\"cqg.rtd\",,\"StudyData\",AF50,  \"Bar\",, \"Close\",\"D\",\"-5\",\"All\",,,,\"T\"),3)=\"777\",NA(),IF(RTD(\"cqg.rtd\",,\"StudyData\",AF50,  \"Bar\",, \"Close\",\"D\",\"-5\",\"All\",,,,\"T\")=\"\",NA(),RTD(\"cqg.rtd\",,\"StudyData\",AF50,  \"Bar\",, \"Close\",\"D\",\"-5\",\"All\",,,,\"T\")))","v":-0.06},{"$f":"IF(LEFT(RTD(\"cqg.rtd\",,\"StudyData\",AF50,  \"Bar\",, \"Close\",\"D\",\"-20\",\"All\",,,,\"T\"),3)=\"777\",NA(),IF(RTD(\"cqg.rtd\",,\"StudyData\",AF50,  \"Bar\",, \"Close\",\"D\",\"-20\",\"All\",,,,\"T\")=\"\",NA(),RTD(\"cqg.rtd\",,\"StudyData\",AF50,  \"Bar\",, \"Close\",\"D\",\"-20\",\"All\",,,,\"T\")))","v":-0.06},0,-1.4999999999999999E-2,-1.4999999999999999E-2]
[null,null,null,null,null,null,null,null,null,null,null,null,null,null,null,null,null,17,null,18,"SO3S1?18",{"$f":"IF(LEFT(RTD(\"cqg.rtd\", ,\"ContractData\", U51,\"LastTradeorSettle\",,\"T\"),3)=\"768\",NA(),IF(RTD(\"cqg.rtd\", ,\"ContractData\", U51,\"LastTradeorSettle\",,\"T\")=\"\",NA(),RTD(\"cqg.rtd\", ,\"ContractData\", U51,\"LastTradeorSettle\",,\"T\")))","v":-3.5000000000000003E-2},null,{"$f":"IF(LEFT(RTD(\"cqg.rtd\",,\"StudyData\",U51,  \"Bar\",, \"Close\",\"D\",\"-1\",\"All\",,,,\"T\"),3)=\"777\",NA(),IF(RTD(\"cqg.rtd\",,\"StudyData\",U51,  \"Bar\",, \"Close\",\"D\",\"-1\",\"All\",,,,\"T\")=\"\",NA(),RTD(\"cqg.rtd\",,\"StudyData\",U51,  \"Bar\",, \"Close\",\"D\",\"-1\",\"All\",,,,\"T\")))","v":-3.5000000000000003E-2},{"$f":"IF(LEFT(RTD(\"cqg.rtd\",,\"StudyData\",U51,  \"Bar\",, \"Close\",\"D\",\"-5\",\"All\",,,,\"T\"),3)=\"777\",NA(),IF(RTD(\"cqg.rtd\",,\"StudyData\",U51,  \"Bar\",, \"Close\",\"D\",\"-5\",\"All\",,,,\"T\")=\"\",NA(),RTD(\"cqg.rtd\",,\"StudyData\",U51,  \"Bar\",, \"Close\",\"D\",\"-5\",\"All\",,,,\"T\")))","v":-0.03},{"$f":"IF(LEFT(RTD(\"cqg.rtd\",,\"StudyData\",U51,  \"Bar\",, \"Close\",\"D\",\"-20\",\"All\",,,,\"T\"),3)=\"777\",NA(),IF(RTD(\"cqg.rtd\",,\"StudyData\",U51,  \"Bar\",, \"Close\",\"D\",\"-20\",\"All\",,,,\"T\")=\"\",NA(),RTD(\"cqg.rtd\",,\"StudyData\",U51,  \"Bar\",, \"Close\",\"D\",\"-20\",\"All\",,,,\"T\")))","v":-0.03},0,-5.0000000000000044E-3,-5.0000000000000044E-3,null,18,"SO3S2?18",{"$f":"IF(LEFT(RTD(\"cqg.rtd\", ,\"ContractData\", AF51,\"LastTradeorSettle\",,\"T\"),3)=\"768\",NA(),IF(RTD(\"cqg.rtd\", ,\"ContractData\", AF51,\"LastTradeorSettle\",,\"T\")=\"\",NA(),RTD(\"cqg.rtd\", ,\"ContractData\", AF51,\"LastTradeorSettle\",,\"T\")))","v":-5.5E-2},null,{"$f":"IF(LEFT(RTD(\"cqg.rtd\",,\"StudyData\",AF51,  \"Bar\",, \"Close\",\"D\",\"-1\",\"All\",,,,\"T\"),3)=\"777\",NA(),IF(RTD(\"cqg.rtd\",,\"StudyData\",AF51,  \"Bar\",, \"Close\",\"D\",\"-1\",\"All\",,,,\"T\")=\"\",NA(),RTD(\"cqg.rtd\",,\"StudyData\",AF51,  \"Bar\",, \"Close\",\"D\",\"-1\",\"All\",,,,\"T\")))","v":-4.4999999999999998E-2},{"$f":"IF(LEFT(RTD(\"cqg.rtd\",,\"StudyData\",AF51,  \"Bar\",, \"Close\",\"D\",\"-5\",\"All\",,,,\"T\"),3)=\"777\",NA(),IF(RTD(\"cqg.rtd\",,\"StudyData\",AF51,  \"Bar\",, \"Close\",\"D\",\"-5\",\"All\",,,,\"T\")=\"\",NA(),RTD(\"cqg.rtd\",,\"StudyData\",AF51,  \"Bar\",, \"Close\",\"D\",\"-5\",\"All\",,,,\"T\")))","v":{"$error":"#N/A"}},{"$f":"IF(LEFT(RTD(\"cqg.rtd\",,\"StudyData\",AF51,  \"Bar\",, \"Close\",\"D\",\"-20\",\"All\",,,,\"T\"),3)=\"777\",NA(),IF(RTD(\"cqg.rtd\",,\"StudyData\",AF51,  \"Bar\",, \"Close\",\"D\",\"-20\",\"All\",,,,\"T\")=\"\",NA(),RTD(\"cqg.rtd\",,\"StudyData\",AF51,  \"Bar\",, \"Close\",\"D\",\"-20\",\"All\",,,,\"T\")))","v":-5.5E-2},-1.0000000000000002E-2,{"$error":"#N/A"},0]
[null,null,null,null,null,null,null,null,null,null,null,null,null,null,null,null,null,18,null,19,"SO3S1?19",{"$f":"IF(LEFT(RTD(\"cqg.rtd\", ,\"ContractData\", U52,\"LastTradeorSettle\",,\"T\"),3)=\"768\",NA(),IF(RTD(\"cqg.rtd\", ,\"ContractData\", U52,\"LastTradeorSettle\",,\"T\")=\"\",NA(),RTD(\"cqg.rtd\", ,\"ContractData\", U52,\"LastTradeorSettle\",,\"T\")))","v":-0.02},null,{"$f":"IF(LEFT(RTD(\"cqg.rtd\",,\"StudyData\",U52,  \"Bar\",, \"Close\",\"D\",\"-1\",\"All\",,,,\"T\"),3)=\"777\",NA(),IF(RTD(\"cqg.rtd\",,\"StudyData\",U52,  \"Bar\",, \"Close\",\"D\",\"-1\",\"All\",,,,\"T\")=\"\",NA(),RTD(\"cqg.rtd\",,\"StudyData\",U52,  \"Bar\",, \"Close\",\"D\",\"-1\",\"All\",,,,\"T\")))","v":-1.4999999999999999E-2},{"$f":"IF(LEFT(RTD(\"cqg.rtd\",,\"StudyData\",U52,  \"Bar\",, \"Close\",\"D\",\"-5\",\"All\",,,,\"T\"),3)=\"777\",NA(),IF(RTD(\"cqg.rtd\",,\"StudyData\",U52,  \"Bar\",, \"Close\",\"D\",\"-5\",\"All\",,,,\"T\")=\"\",NA(),RTD(\"cqg.rtd\",,\"StudyData\",U52,  \"Bar\",, \"Close\",\"D\",\"-5\",\"All\",,,,\"T\")))","v":-1.4999999999999999E-2},{"$f":"IF(LEFT(RTD(\"cqg.rtd\",,\"StudyData\",U52,  \"Bar\",, \"Close\",\"D\",\"-20\",\"All\",,,,\"T\"),3)=\"777\",NA(),IF(RTD(\"cqg.rtd\",,\"StudyData\",U52,  \"Bar\",, \"Close\",\"D\",\"-20\",\"All\",,,,\"T\")=\"\",NA(),RTD(\"cqg.rtd\",,\"StudyData\",U52,  \"Bar\",, \"Close\",\"D\",\"-20\",\"All\",,,,\"T\")))","v":-2.5000000000000001E-2},-5.000000000000001E-3,-5.000000000000001E-3,5.000000000000001E-3,null,19,"SO3S2?19",{"$f":"IF(LEFT(RTD(\"cqg.rtd\", ,\"ContractData\", AF52,\"LastTradeorSettle\",,\"T\"),3)=\"768\",NA(),IF(RTD(\"cqg.rtd\", ,\"ContractData\", AF52,\"LastTradeorSettle\",,\"T\")=\"\",NA(),RTD(\"cqg.rtd\", ,\"ContractData\", AF52,\"LastTradeorSettle\",,\"T\")))","v":{"$error":"#N/A"}},null,{"$f":"IF(LEFT(RTD(\"cqg.rtd\",,\"StudyData\",AF52,  \"Bar\",, \"Close\",\"D\",\"-1\",\"All\",,,,\"T\"),3)=\"777\",NA(),IF(RTD(\"cqg.rtd\",,\"StudyData\",AF52,  \"Bar\",, \"Close\",\"D\",\"-1\",\"All\",,,,\"T\")=\"\",NA(),RTD(\"cqg.rtd\",,\"StudyData\",AF52,  \"Bar\",, \"Close\",\"D\",\"-1\",\"All\",,,,\"T\")))","v":{"$error":"#N/A"}},{"$f":"IF(LEFT(RTD(\"cqg.rtd\",,\"StudyData\",AF52,  \"Bar\",, \"Close\",\"D\",\"-5\",\"All\",,,,\"T\"),3)=\"777\",NA(),IF(RTD(\"cqg.rtd\",,\"StudyData\",AF52,  \"Bar\",, \"Close\",\"D\",\"-5\",\"All\",,,,\"T\")=\"\",NA(),RTD(\"cqg.rtd\",,\"StudyData\",AF52,  \"Bar\",, \"Close\",\"D\",\"-5\",\"All\",,,,\"T\")))","v":{"$error":"#N/A"}},{"$f":"IF(LEFT(RTD(\"cqg.rtd\",,\"StudyData\",AF52,  \"Bar\",, \"Close\",\"D\",\"-20\",\"All\",,,,\"T\"),3)=\"777\",NA(),IF(RTD(\"cqg.rtd\",,\"StudyData\",AF52,  \"Bar\",, \"Close\",\"D\",\"-20\",\"All\",,,,\"T\")=\"\",NA(),RTD(\"cqg.rtd\",,\"StudyData\",AF52,  \"Bar\",, \"Close\",\"D\",\"-20\",\"All\",,,,\"T\")))","v":{"$error":"#N/A"}},{"$error":"#N/A"},{"$error":"#N/A"},{"$error":"#N/A"}]
[null,null,null,null,null,null,null,null,null,null,null,null,null,null,null,null,null,19,null,20,"SO3S1?20",{"$f":"IF(LEFT(RTD(\"cqg.rtd\", ,\"ContractData\", U53,\"LastTradeorSettle\",,\"T\"),3)=\"768\",NA(),IF(RTD(\"cqg.rtd\", ,\"ContractData\", U53,\"LastTradeorSettle\",,\"T\")=\"\",NA(),RTD(\"cqg.rtd\", ,\"ContractData\", U53,\"LastTradeorSettle\",,\"T\")))","v":-5.0000000000000001E-3},null,{"$f":"IF(LEFT(RTD(\"cqg.rtd\",,\"StudyData\",U53,  \"Bar\",, \"Close\",\"D\",\"-1\",\"All\",,,,\"T\"),3)=\"777\",NA(),IF(RTD(\"cqg.rtd\",,\"StudyData\",U53,  \"Bar\",, \"Close\",\"D\",\"-1\",\"All\",,,,\"T\")=\"\",NA(),RTD(\"cqg.rtd\",,\"StudyData\",U53,  \"Bar\",, \"Close\",\"D\",\"-1\",\"All\",,,,\"T\")))","v":{"$error":"#N/A"}},{"$f":"IF(LEFT(RTD(\"cqg.rtd\",,\"StudyData\",U53,  \"Bar\",, \"Close\",\"D\",\"-5\",\"All\",,,,\"T\"),3)=\"777\",NA(),IF(RTD(\"cqg.rtd\",,\"StudyData\",U53,  \"Bar\",, \"Close\",\"D\",\"-5\",\"All\",,,,\"T\")=\"\",NA(),RTD(\"cqg.rtd\",,\"StudyData\",U53,  \"Bar\",, \"Close\",\"D\",\"-5\",\"All\",,,,\"T\")))","v":{"$error":"#N/A"}},{"$f":"IF(LEFT(RTD(\"cqg.rtd\",,\"StudyData\",U53,  \"Bar\",, \"Close\",\"D\",\"-20\",\"All\",,,,\"T\"),3)=\"777\",NA(),IF(RTD(\"cqg.rtd\",,\"StudyData\",U53,  \"Bar\",, \"Close\",\"D\",\"-20\",\"All\",,,,\"T\")=\"\",NA(),RTD(\"cqg.rtd\",,\"StudyData\",U53,  \"Bar\",, \"Close\",\"D\",\"-20\",\"All\",,,,\"T\")))","v":-0.02},{"$error":"#N/A"},{"$error":"#N/A"},1.4999999999999999E-2,null,20,"SO3S2?20",{"$f":"IF(LEFT(RTD(\"cqg.rtd\", ,\"ContractData\", AF53,\"LastTradeorSettle\",,\"T\"),3)=\"768\",NA(),IF(RTD(\"cqg.rtd\", ,\"ContractData\", AF53,\"LastTradeorSettle\",,\"T\")=\"\",NA(),RTD(\"cqg.rtd\", ,\"ContractData\", AF53,\"LastTradeorSettle\",,\"T\")))","v":{"$error":"#N/A"}},null,{"$f":"IF(LEFT(RTD(\"cqg.rtd\",,\"StudyData\",AF53,  \"Bar\",, \"Close\",\"D\",\"-1\",\"All\",,,,\"T\"),3)=\"777\",NA(),IF(RTD(\"cqg.rtd\",,\"StudyData\",AF53,  \"Bar\",, \"Close\",\"D\",\"-1\",\"All\",,,,\"T\")=\"\",NA(),RTD(\"cqg.rtd\",,\"StudyData\",AF53,  \"Bar\",, \"Close\",\"D\",\"-1\",\"All\",,,,\"T\")))","v":{"$error":"#N/A"}},{"$f":"IF(LEFT(RTD(\"cqg.rtd\",,\"StudyData\",AF53,  \"Bar\",, \"Close\",\"D\",\"-5\",\"All\",,,,\"T\"),3)=\"777\",NA(),IF(RTD(\"cqg.rtd\",,\"StudyData\",AF53,  \"Bar\",, \"Close\",\"D\",\"-5\",\"All\",,,,\"T\")=\"\",NA(),RTD(\"cqg.rtd\",,\"StudyData\",AF53,  \"Bar\",, \"Close\",\"D\",\"-5\",\"All\",,,,\"T\")))","v":{"$error":"#N/A"}},{"$f":"IF(LEFT(RTD(\"cqg.rtd\",,\"StudyData\",AF53,  \"Bar\",, \"Close\",\"D\",\"-20\",\"All\",,,,\"T\"),3)=\"777\",NA(),IF(RTD(\"cqg.rtd\",,\"StudyData\",AF53,  \"Bar\",, \"Close\",\"D\",\"-20\",\"All\",,,,\"T\")=\"\",NA(),RTD(\"cqg.rtd\",,\"StudyData\",AF53,  \"Bar\",, \"Close\",\"D\",\"-20\",\"All\",,,,\"T\")))","v":{"$error":"#N/A"}},{"$error":"#N/A"},{"$error":"#N/A"},{"$error":"#N/A"}]
[null,null,null,null,null,null,null,null,null,null,null,null,null,null,null,null,null,20,null,21,"SO3S1?21",{"$f":"IF(LEFT(RTD(\"cqg.rtd\", ,\"ContractData\", U54,\"LastTradeorSettle\",,\"T\"),3)=\"768\",NA(),IF(RTD(\"cqg.rtd\", ,\"ContractData\", U54,\"LastTradeorSettle\",,\"T\")=\"\",NA(),RTD(\"cqg.rtd\", ,\"ContractData\", U54,\"LastTradeorSettle\",,\"T\")))","v":{"$error":"#N/A"}},null,{"$f":"IF(LEFT(RTD(\"cqg.rtd\",,\"StudyData\",U54,  \"Bar\",, \"Close\",\"D\",\"-1\",\"All\",,,,\"T\"),3)=\"777\",NA(),IF(RTD(\"cqg.rtd\",,\"StudyData\",U54,  \"Bar\",, \"Close\",\"D\",\"-1\",\"All\",,,,\"T\")=\"\",NA(),RTD(\"cqg.rtd\",,\"StudyData\",U54,  \"Bar\",, \"Close\",\"D\",\"-1\",\"All\",,,,\"T\")))","v":{"$error":"#N/A"}},{"$f":"IF(LEFT(RTD(\"cqg.rtd\",,\"StudyData\",U54,  \"Bar\",, \"Close\",\"D\",\"-5\",\"All\",,,,\"T\"),3)=\"777\",NA(),IF(RTD(\"cqg.rtd\",,\"StudyData\",U54,  \"Bar\",, \"Close\",\"D\",\"-5\",\"All\",,,,\"T\")=\"\",NA(),RTD(\"cqg.rtd\",,\"StudyData\",U54,  \"Bar\",, \"Close\",\"D\",\"-5\",\"All\",,,,\"T\")))","v":{"$error":"#N/A"}},{"$f":"IF(LEFT(RTD(\"cqg.rtd\",,\"StudyData\",U54,  \"Bar\",, \"Close\",\"D\",\"-20\",\"All\",,,,\"T\"),3)=\"777\",NA(),IF(RTD(\"cqg.rtd\",,\"StudyData\",U54,  \"Bar\",, \"Close\",\"D\",\"-20\",\"All\",,,,\"T\")=\"\",NA(),RTD(\"cqg.rtd\",,\"StudyData\",U54,  \"Bar\",, \"Close\",\"D\",\"-20\",\"All\",,,,\"T\")))","v":{"$error":"#N/A"}},{"$error":"#N/A"},{"$error":"#N/A"},{"$error":"#N/A"},null,21,"SO3S2?21",{"$f":"IF(LEFT(RTD(\"cqg.rtd\", ,\"ContractData\", AF54,\"LastTradeorSettle\",,\"T\"),3)=\"768\",NA(),IF(RTD(\"cqg.rtd\", ,\"ContractData\", AF54,\"LastTradeorSettle\",,\"T\")=\"\",NA(),RTD(\"cqg.rtd\", ,\"ContractData\", AF54,\"LastTradeorSettle\",,\"T\")))","v":{"$error":"#N/A"}},null,{"$f":"IF(LEFT(RTD(\"cqg.rtd\",,\"StudyData\",AF54,  \"Bar\",, \"Close\",\"D\",\"-1\",\"All\",,,,\"T\"),3)=\"777\",NA(),IF(RTD(\"cqg.rtd\",,\"StudyData\",AF54,  \"Bar\",, \"Close\",\"D\",\"-1\",\"All\",,,,\"T\")=\"\",NA(),RTD(\"cqg.rtd\",,\"StudyData\",AF54,  \"Bar\",, \"Close\",\"D\",\"-1\",\"All\",,,,\"T\")))","v":{"$error":"#N/A"}},{"$f":"IF(LEFT(RTD(\"cqg.rtd\",,\"StudyData\",AF54,  \"Bar\",, \"Close\",\"D\",\"-5\",\"All\",,,,\"T\"),3)=\"777\",NA(),IF(RTD(\"cqg.rtd\",,\"StudyData\",AF54,  \"Bar\",, \"Close\",\"D\",\"-5\",\"All\",,,,\"T\")=\"\",NA(),RTD(\"cqg.rtd\",,\"StudyData\",AF54,  \"Bar\",, \"Close\",\"D\",\"-5\",\"All\",,,,\"T\")))","v":{"$error":"#N/A"}},{"$f":"IF(LEFT(RTD(\"cqg.rtd\",,\"StudyData\",AF54,  \"Bar\",, \"Close\",\"D\",\"-20\",\"All\",,,,\"T\"),3)=\"777\",NA(),IF(RTD(\"cqg.rtd\",,\"StudyData\",AF54,  \"Bar\",, \"Close\",\"D\",\"-20\",\"All\",,,,\"T\")=\"\",NA(),RTD(\"cqg.rtd\",,\"StudyData\",AF54,  \"Bar\",, \"Close\",\"D\",\"-20\",\"All\",,,,\"T\")))","v":{"$error":"#N/A"}},{"$error":"#N/A"},{"$error":"#N/A"},{"$error":"#N/A"}]
[null,null,null,null,null,null,null,null,null,null,null,null,null,null,null,null,null,21]
[null,null,null,null,null,null,null,null,null,null,null,null,null,null,null,null,null,22]
[null,null,null,null,null,null,null,null,null,null,null,null,null,null,null,null,null,23]
[null,null,null,null,null,null,null,null,null,null,null,null,null,null,null,null,null,24]
[null,null,null,null,null,null,null,null,null,null,null,null,null,null,null,null,null,25]