{"text_format":"1","workbook":"xlsx","n_sheets":2,"sheets":["FedFunds_Master","ZQE"],"not_rendered":{"charts":6,"images":2,"macros":1,"external_links":0,"defined_names":0,"comments":0,"pivot_tables":0},"unopened":[],"bounds":{"document_bytes":16777216,"sheet_cells":100000,"rows_first":2000,"rows_last":500,"rows_between":2000,"halvings":0,"cell_chars":16384,"cell_head_chars":4096},"cells_cut":0,"cells_raw":0,"read":"whole","date_system":"1900"}

{"sheet":"FedFunds_Master","index":0,"n_rows":57,"n_cols":54,"rows_kept":57,"cut":false,"hidden":false,"merged":[[56,9,56,10],[123,2,123,3],[118,1,118,2],[119,1,119,2],[90,10,92,10],[88,1,88,2],[112,1,112,2],[111,1,111,2],[110,1,110,2],[109,1,109,2],[108,1,108,2],[105,1,106,8],[117,1,117,2],[116,1,116,2],[115,1,115,2],[114,1,114,2],[113,1,113,2],[2,1,2,3],[2,4,2,6],[8,1,9,1],[24,1,24,2],[40,1,40,2],[25,1,26,8],[10,1,10,3],[24,3,24,4],[40,3,40,4],[121,20,121,21],[2,18,2,20],[121,17,121,18],[121,8,121,10],[106,10,108,10],[12,10,14,10],[2,7,2,10],[2,11,2,13],[121,15,121,16],[121,13,121,14],[2,14,2,17],[3,10,4,11],[73,1,74,8],[72,1,72,2],[74,10,76,10],[89,1,90,8],[56,17,56,18],[56,26,56,27],[56,4,56,7],[3,27,4,29],[8,8,9,9],[3,1,4,9],[6,6,7,9],[8,6,9,7],[6,4,7,5],[8,4,9,5],[6,2,7,3],[8,2,9,3],[6,1,7,1],[41,1,42,8],[56,1,56,2],[3,12,4,25]]}
[]
[]
[]
[null,{"$f":"\"CQG \"&RTD(\"cqg.rtd\",,\"ContractData\",K6,\"LongDescription\")","v":"CQG Fed Funds 30 Day (Globex), Apr 23"},null,null,null,null,null,null,null,null,null,null,"CQG Fed Funds Forward Curves",null,null,null,null,null,null,null,null,null,null,null,null,null,null,{"$f":"RTD(\"cqg.rtd\", ,\"SystemInfo\", \"Linetime\")","v":45002.518078703702}]
[]
[null,null,null,null,null,null,null,null,null,null,{"$f":"RTD(\"cqg.rtd\", ,\"ContractData\",ZQE!Q2, \"Symbol\")","v":"ZQEJ23"},{"$f":"RTD(\"cqg.rtd\", ,\"ContractData\",ZQE!Q3, \"Symbol\")","v":"ZQEK23"},{"$f":"RTD(\"cqg.rtd\", ,\"ContractData\",ZQE!Q4, \"Symbol\")","v":"ZQEM23"},{"$f":"RTD(\"cqg.rtd\", ,\"ContractData\",ZQE!Q5, \"Symbol\")","v":"ZQEN23"},{"$f":"RTD(\"cqg.rtd\", ,\"ContractData\",ZQE!Q6, \"Symbol\")","v":"ZQEQ23"},{"$f":"RTD(\"cqg.rtd\", ,\"ContractData\",ZQE!Q7, \"Symbol\")","v":"ZQEU23"},{"$f":"RTD(\"cqg.rtd\", ,\"ContractData\",ZQE!Q8, \"Symbol\")","v":"ZQEV23"},{"$f":"RTD(\"cqg.rtd\", ,\"ContractData\",ZQE!Q9, \"Symbol\")","v":"ZQEX23"},{"$f":"RTD(\"cqg.rtd\", ,\"ContractData\",ZQE!Q10, \"Symbol\")","v":"ZQEZ23"},{"$f":"RTD(\"cqg.rtd\", ,\"ContractData\",ZQE!Q11, \"Symbol\")","v":"ZQEF24"},{"$f":"RTD(\"cqg.rtd\", ,\"ContractData\",ZQE!Q12, \"Symbol\")","v":"ZQEG24"},{"$f":"RTD(\"cqg.rtd\", ,\"ContractData\",ZQE!Q13, \"Symbol\")","v":"ZQEH24"},{"$f":"RTD(\"cqg.rtd\", ,\"ContractData\",ZQE!Q14, \"Symbol\")","v":"ZQEJ24"},{"$f":"RTD(\"cqg.rtd\", ,\"ContractData\",ZQE!Q15, \"Symbol\")","v":"ZQEK24"},{"$f":"RTD(\"cqg.rtd\", ,\"ContractData\",ZQE!Q16, \"Symbol\")","v":"ZQEM24"},{"$f":"RTD(\"cqg.rtd\", ,\"ContractData\",ZQE!Q17, \"Symbol\")","v":"ZQEN24"},{"$f":"RTD(\"cqg.rtd\", ,\"ContractData\",ZQE!Q18, \"Symbol\")","v":"ZQEQ24"},{"$f":"RTD(\"cqg.rtd\", ,\"ContractData\",ZQE!Q18, \"Symbol\")","v":"ZQEQ24"},{"$f":"RTD(\"cqg.rtd\", ,\"ContractData\",ZQE!Q20, \"Symbol\")","v":"ZQEV24"},{"$f":"RTD(\"cqg.rtd\", ,\"ContractData\",ZQE!Q21, \"Symbol\")","v":"ZQEX24"},null,null,null,null,{"$f":"LEFT(RIGHT(K6,3),1)","v":"J"},{"$f":"LEFT(RIGHT(L6,3),1)","v":"K"},{"$f":"LEFT(RIGHT(M6,3),1)","v":"M"},"N","Q","U","V","X","Z","F","G","H","J","K",{"$f":"LEFT(RIGHT(Y6,3),1)","v":"M"},{"$f":"LEFT(RIGHT(Z6,3),1)","v":"N"},{"$f":"LEFT(RIGHT(AA6,3),1)","v":"Q"},{"$f":"LEFT(RIGHT(AB6,3),1)","v":"Q"},{"$f":"LEFT(RIGHT(AC6,3),1)","v":"V"},{"$f":"LEFT(RIGHT(AD6,3),1)","v":"X"}]
[null,"Ask",{"$f":"RTD(\"cqg.rtd\", ,\"ContractData\",K6, \"MT_LastAskVolume\")","v":1575},null,{"$f":"RTD(\"cqg.rtd\", ,\"ContractData\",K6, \"Ask\",,\"T\")","v":95.25},null,"Last Trade",null,null,null,{"$f":"IF(AI6=\"F\",\"JAN\",IF(AI6=\"G\",\"FEB\",IF(AI6=\"H\",\"MAR\",IF(AI6=\"J\",\"APR\",IF(AI6=\"K\",\"MAY\",IF(AI6=\"M\",\"JUN\",IF(AI6=\"N\",\"JUL\",IF(AI6=\"Q\",\"AUG\",IF(AI6=\"U\",\"SEP\",IF(AI6=\"V\",\"OCT\",IF(AI6=\"X\",\"NOV\",IF(AI6=\"Z\",\"DEC\",))))))))))))&\" \"&RIGHT(K6,2)","v":"APR 23"},"MAY 23","JUN 23","JUL 23","AUG 23","SEP 23","OCT 23","NOV 23","DEC 23","JAN 24","FEB 24","MAR 24","APR 24","MAY 24",{"$f":"IF(AW6=\"F\",\"JAN\",IF(AW6=\"G\",\"FEB\",IF(AW6=\"H\",\"MAR\",IF(AW6=\"J\",\"APR\",IF(AW6=\"K\",\"MAY\",IF(AW6=\"M\",\"JUN\",IF(AW6=\"N\",\"JUL\",IF(AW6=\"Q\",\"AUG\",IF(AW6=\"U\",\"SEP\",IF(AW6=\"V\",\"OCT\",IF(AW6=\"X\",\"NOV\",IF(AW6=\"Z\",\"DEC\",))))))))))))&\" \"&RIGHT(Y6,2)","v":"JUN 24"},"JUL 24","AUG 24","AUG 24","OCT 24","NOV 24"]
[null,null,null,null,null,null,null,null,null,null,{"$f":"IF(RTD(\"cqg.rtd\",,\"ContractData\",K6,\"Ask\",,\"T\")=\"\",\"\",TEXT(RTD(\"cqg.rtd\",,\"ContractData\",K6,\"Ask\",,\"T\"),\"#.0000\")&\" \"&\"A\")","v":"95.2500 A"},{"$f":"IF(RTD(\"cqg.rtd\",,\"ContractData\",L6,\"Ask\",,\"T\")=\"\",\"\",TEXT(RTD(\"cqg.rtd\",,\"ContractData\",L6,\"Ask\",,\"T\"),\"#.000\")&\" \"&\"A\")","v":"95.165 A"},{"$f":"IF(RTD(\"cqg.rtd\",,\"ContractData\",M6,\"Ask\",,\"T\")=\"\",\"\",TEXT(RTD(\"cqg.rtd\",,\"ContractData\",M6,\"Ask\",,\"T\"),\"#.000\")&\" \"&\"A\")","v":"95.240 A"},{"$f":"IF(RTD(\"cqg.rtd\",,\"ContractData\",N6,\"Ask\",,\"T\")=\"\",\"\",TEXT(RTD(\"cqg.rtd\",,\"ContractData\",N6,\"Ask\",,\"T\"),\"#.000\")&\" \"&\"A\")","v":"95.370 A"},{"$f":"IF(RTD(\"cqg.rtd\",,\"ContractData\",O6,\"Ask\",,\"T\")=\"\",\"\",TEXT(RTD(\"cqg.rtd\",,\"ContractData\",O6,\"Ask\",,\"T\"),\"#.000\")&\" \"&\"A\")","v":"95.605 A"},{"$f":"IF(RTD(\"cqg.rtd\",,\"ContractData\",P6,\"Ask\",,\"T\")=\"\",\"\",TEXT(RTD(\"cqg.rtd\",,\"ContractData\",P6,\"Ask\",,\"T\"),\"#.000\")&\" \"&\"A\")","v":"95.670 A"},{"$f":"IF(RTD(\"cqg.rtd\",,\"ContractData\",Q6,\"Ask\",,\"T\")=\"\",\"\",TEXT(RTD(\"cqg.rtd\",,\"ContractData\",Q6,\"Ask\",,\"T\"),\"#.000\")&\" \"&\"A\")","v":"95.790 A"},{"$f":"IF(RTD(\"cqg.rtd\",,\"ContractData\",R6,\"Ask\",,\"T\")=\"\",\"\",TEXT(RTD(\"cqg.rtd\",,\"ContractData\",R6,\"Ask\",,\"T\"),\"#.000\")&\" \"&\"A\")","v":"95.930 A"},{"$f":"IF(RTD(\"cqg.rtd\",,\"ContractData\",S6,\"Ask\",,\"T\")=\"\",\"\",TEXT(RTD(\"cqg.rtd\",,\"ContractData\",S6,\"Ask\",,\"T\"),\"#.000\")&\" \"&\"A\")","v":"95.985 A"},{"$f":"IF(RTD(\"cqg.rtd\",,\"ContractData\",T6,\"Ask\",,\"T\")=\"\",\"\",TEXT(RTD(\"cqg.rtd\",,\"ContractData\",T6,\"Ask\",,\"T\"),\"#.000\")&\" \"&\"A\")","v":"96.040 A"},{"$f":"IF(RTD(\"cqg.rtd\",,\"ContractData\",U6,\"Ask\",,\"T\")=\"\",\"\",TEXT(RTD(\"cqg.rtd\",,\"ContractData\",U6,\"Ask\",,\"T\"),\"#.000\")&\" \"&\"A\")","v":"96.135 A"},{"$f":"IF(RTD(\"cqg.rtd\",,\"ContractData\",V6,\"Ask\",,\"T\")=\"\",\"\",TEXT(RTD(\"cqg.rtd\",,\"ContractData\",V6,\"Ask\",,\"T\"),\"#.000\")&\" \"&\"A\")","v":"96.175 A"},{"$f":"IF(RTD(\"cqg.rtd\",,\"ContractData\",W6,\"Ask\",,\"T\")=\"\",\"\",TEXT(RTD(\"cqg.rtd\",,\"ContractData\",W6,\"Ask\",,\"T\"),\"#.000\")&\" \"&\"A\")","v":"96.260 A"},{"$f":"IF(RTD(\"cqg.rtd\",,\"ContractData\",X6,\"Ask\",,\"T\")=\"\",\"\",TEXT(RTD(\"cqg.rtd\",,\"ContractData\",X6,\"Ask\",,\"T\"),\"#.000\")&\" \"&\"A\")","v":"96.410 A"},{"$f":"IF(RTD(\"cqg.rtd\",,\"ContractData\",Y6,\"Ask\",,\"T\")=\"\",\"\",TEXT(RTD(\"cqg.rtd\",,\"ContractData\",Y6,\"Ask\",,\"T\"),\"#.000\")&\" \"&\"A\")","v":"96.500 A"},{"$f":"IF(RTD(\"cqg.rtd\",,\"ContractData\",Z6,\"Ask\",,\"T\")=\"\",\"\",TEXT(RTD(\"cqg.rtd\",,\"ContractData\",Z6,\"Ask\",,\"T\"),\"#.000\")&\" \"&\"A\")","v":"96.560 A"},{"$f":"IF(RTD(\"cqg.rtd\",,\"ContractData\",AA6,\"Ask\",,\"T\")=\"\",\"\",TEXT(RTD(\"cqg.rtd\",,\"ContractData\",AA6,\"Ask\",,\"T\"),\"#.000\")&\" \"&\"A\")","v":"96.905 A"},{"$f":"IF(RTD(\"cqg.rtd\",,\"ContractData\",AB6,\"Ask\",,\"T\")=\"\",\"\",TEXT(RTD(\"cqg.rtd\",,\"ContractData\",AB6,\"Ask\",,\"T\"),\"#.000\")&\" \"&\"A\")","v":"96.905 A"},{"$f":"IF(RTD(\"cqg.rtd\",,\"ContractData\",AC6,\"Ask\",,\"T\")=\"\",\"\",TEXT(RTD(\"cqg.rtd\",,\"ContractData\",AC6,\"Ask\",,\"T\"),\"#.000\")&\" \"&\"A\")","v":"97.075 A"},{"$f":"IF(RTD(\"cqg.rtd\",,\"ContractData\",AD6,\"Ask\",,\"T\")=\"\",\"\",TEXT(RTD(\"cqg.rtd\",,\"ContractData\",AD6,\"Ask\",,\"T\"),\"#.000\")&\" \"&\"A\")","v":"97.240 A"}]
[null,"Bid",{"$f":"RTD(\"cqg.rtd\", ,\"ContractData\",K6, \"MT_LastBidVolume\")","v":94},null,{"$f":"RTD(\"cqg.rtd\", ,\"ContractData\",K6, \"Bid\",,\"T\")","v":95.245000000000005},null,{"$f":"RTD(\"cqg.rtd\", ,\"ContractData\",K6,\"LastTradeorSettle\",,\"T\")","v":95.245000000000005},null,{"$f":"IF(G13>0,\"+\"&TEXT(RTD(\"cqg.rtd\",,\"ContractData\",K6,\"NetLastTradeToday\",,\"T\"),\"#.0000\"),TEXT(G13,\"#.0000\"))","v":"+.0150"},null,{"$f":"IF(RTD(\"cqg.rtd\",,\"ContractData\",K6,\"Bid\",,\"T\")=\"\",\"\",TEXT(RTD(\"cqg.rtd\",,\"ContractData\",K6,\"Bid\",,\"T\"),\"#.0000\")&\" \"&\"B\")","v":"95.2450 B"},{"$f":"IF(RTD(\"cqg.rtd\",,\"ContractData\",L6,\"Bid\",,\"T\")=\"\",\"\",TEXT(RTD(\"cqg.rtd\",,\"ContractData\",L6,\"Bid\",,\"T\"),\"#.000\")&\" \"&\"B\")","v":"95.160 B"},{"$f":"IF(RTD(\"cqg.rtd\",,\"ContractData\",M6,\"Bid\",,\"T\")=\"\",\"\",TEXT(RTD(\"cqg.rtd\",,\"ContractData\",M6,\"Bid\",,\"T\"),\"#.000\")&\" \"&\"B\")","v":"95.235 B"},{"$f":"IF(RTD(\"cqg.rtd\",,\"ContractData\",N6,\"Bid\",,\"T\")=\"\",\"\",TEXT(RTD(\"cqg.rtd\",,\"ContractData\",N6,\"Bid\",,\"T\"),\"#.000\")&\" \"&\"B\")","v":"95.360 B"},{"$f":"IF(RTD(\"cqg.rtd\",,\"ContractData\",O6,\"Bid\",,\"T\")=\"\",\"\",TEXT(RTD(\"cqg.rtd\",,\"ContractData\",O6,\"Bid\",,\"T\"),\"#.000\")&\" \"&\"B\")","v":"95.600 B"},{"$f":"IF(RTD(\"cqg.rtd\",,\"ContractData\",P6,\"Bid\",,\"T\")=\"\",\"\",TEXT(RTD(\"cqg.rtd\",,\"ContractData\",P6,\"Bid\",,\"T\"),\"#.000\")&\" \"&\"B\")","v":"95.665 B"},{"$f":"IF(RTD(\"cqg.rtd\",,\"ContractData\",Q6,\"Bid\",,\"T\")=\"\",\"\",TEXT(RTD(\"cqg.rtd\",,\"ContractData\",Q6,\"Bid\",,\"T\"),\"#.000\")&\" \"&\"B\")","v":"95.785 B"},{"$f":"IF(RTD(\"cqg.rtd\",,\"ContractData\",R6,\"Bid\",,\"T\")=\"\",\"\",TEXT(RTD(\"cqg.rtd\",,\"ContractData\",R6,\"Bid\",,\"T\"),\"#.000\")&\" \"&\"B\")","v":"95.925 B"},{"$f":"IF(RTD(\"cqg.rtd\",,\"ContractData\",S6,\"Bid\",,\"T\")=\"\",\"\",TEXT(RTD(\"cqg.rtd\",,\"ContractData\",S6,\"Bid\",,\"T\"),\"#.000\")&\" \"&\"B\")","v":"95.980 B"},{"$f":"IF(RTD(\"cqg.rtd\",,\"ContractData\",T6,\"Bid\",,\"T\")=\"\",\"\",TEXT(RTD(\"cqg.rtd\",,\"ContractData\",T6,\"Bid\",,\"T\"),\"#.000\")&\" \"&\"B\")","v":"96.035 B"},{"$f":"IF(RTD(\"cqg.rtd\",,\"ContractData\",U6,\"Bid\",,\"T\")=\"\",\"\",TEXT(RTD(\"cqg.rtd\",,\"ContractData\",U6,\"Bid\",,\"T\"),\"#.000\")&\" \"&\"B\")","v":"96.125 B"},{"$f":"IF(RTD(\"cqg.rtd\",,\"ContractData\",V6,\"Bid\",,\"T\")=\"\",\"\",TEXT(RTD(\"cqg.rtd\",,\"ContractData\",V6,\"Bid\",,\"T\"),\"#.000\")&\" \"&\"B\")","v":"96.165 B"},{"$f":"IF(RTD(\"cqg.rtd\",,\"ContractData\",W6,\"Bid\",,\"T\")=\"\",\"\",TEXT(RTD(\"cqg.rtd\",,\"ContractData\",W6,\"Bid\",,\"T\"),\"#.000\")&\" \"&\"B\")","v":"96.250 B"},{"$f":"IF(RTD(\"cqg.rtd\",,\"ContractData\",X6,\"Bid\",,\"T\")=\"\",\"\",TEXT(RTD(\"cqg.rtd\",,\"ContractData\",X6,\"Bid\",,\"T\"),\"#.000\")&\" \"&\"B\")","v":"96.400 B"},{"$f":"IF(RTD(\"cqg.rtd\",,\"ContractData\",Y6,\"Bid\",,\"T\")=\"\",\"\",TEXT(RTD(\"cqg.rtd\",,\"ContractData\",Y6,\"Bid\",,\"T\"),\"#.000\")&\" \"&\"B\")","v":"96.480 B"},{"$f":"IF(RTD(\"cqg.rtd\",,\"ContractData\",Z6,\"Bid\",,\"T\")=\"\",\"\",TEXT(RTD(\"cqg.rtd\",,\"ContractData\",Z6,\"Bid\",,\"T\"),\"#.000\")&\" \"&\"B\")","v":"96.535 B"},{"$f":"IF(RTD(\"cqg.rtd\",,\"ContractData\",AA6,\"Bid\",,\"T\")=\"\",\"\",TEXT(RTD(\"cqg.rtd\",,\"ContractData\",AA6,\"Bid\",,\"T\"),\"#.000\")&\" \"&\"B\")","v":"96.510 B"},{"$f":"IF(RTD(\"cqg.rtd\",,\"ContractData\",AB6,\"Bid\",,\"T\")=\"\",\"\",TEXT(RTD(\"cqg.rtd\",,\"ContractData\",AB6,\"Bid\",,\"T\"),\"#.000\")&\" \"&\"B\")","v":"96.510 B"},{"$f":"IF(RTD(\"cqg.rtd\",,\"ContractData\",AC6,\"Bid\",,\"T\")=\"\",\"\",TEXT(RTD(\"cqg.rtd\",,\"ContractData\",AC6,\"Bid\",,\"T\"),\"#.000\")&\" \"&\"B\")","v":"96.495 B"},{"$f":"IF(RTD(\"cqg.rtd\",,\"ContractData\",AD6,\"Bid\",,\"T\")=\"\",\"\",TEXT(RTD(\"cqg.rtd\",,\"ContractData\",AD6,\"Bid\",,\"T\"),\"#.000\")&\" \"&\"B\")","v":"96.515 B"}]
[null,null,null,null,null,null,null,null,null,null,{"$f":"IF(RTD(\"cqg.rtd\", ,\"ContractData\",K6,\"LastTradeorSettle\",,\"T\")=\"\",\"\",TEXT(RTD(\"cqg.rtd\", ,\"ContractData\",K6,\"LastTradeorSettle\",,\"T\"),\"#.0000\")&\" \"&\"L\")","v":"95.2450 L"},{"$f":"IF(RTD(\"cqg.rtd\", ,\"ContractData\",L6,\"LastTradeorSettle\",,\"T\")=\"\",\"\",TEXT(RTD(\"cqg.rtd\", ,\"ContractData\",L6,\"LastTradeorSettle\",,\"T\"),\"#.000\")&\" \"&\"L\")","v":"95.165 L"},{"$f":"IF(RTD(\"cqg.rtd\", ,\"ContractData\",M6,\"LastTradeorSettle\",,\"T\")=\"\",\"\",TEXT(RTD(\"cqg.rtd\", ,\"ContractData\",M6,\"LastTradeorSettle\",,\"T\"),\"#.000\")&\" \"&\"L\")","v":"95.240 L"},{"$f":"IF(RTD(\"cqg.rtd\", ,\"ContractData\",N6,\"LastTradeorSettle\",,\"T\")=\"\",\"\",TEXT(RTD(\"cqg.rtd\", ,\"ContractData\",N6,\"LastTradeorSettle\",,\"T\"),\"#.000\")&\" \"&\"L\")","v":"95.365 L"},{"$f":"IF(RTD(\"cqg.rtd\", ,\"ContractData\",O6,\"LastTradeorSettle\",,\"T\")=\"\",\"\",TEXT(RTD(\"cqg.rtd\", ,\"ContractData\",O6,\"LastTradeorSettle\",,\"T\"),\"#.000\")&\" \"&\"L\")","v":"95.600 L"},{"$f":"IF(RTD(\"cqg.rtd\", ,\"ContractData\",P6,\"LastTradeorSettle\",,\"T\")=\"\",\"\",TEXT(RTD(\"cqg.rtd\", ,\"ContractData\",P6,\"LastTradeorSettle\",,\"T\"),\"#.000\")&\" \"&\"L\")","v":"95.665 L"},{"$f":"IF(RTD(\"cqg.rtd\", ,\"ContractData\",Q6,\"LastTradeorSettle\",,\"T\")=\"\",\"\",TEXT(RTD(\"cqg.rtd\", ,\"ContractData\",Q6,\"LastTradeorSettle\",,\"T\"),\"#.000\")&\" \"&\"L\")","v":"95.785 L"},{"$f":"IF(RTD(\"cqg.rtd\", ,\"ContractData\",R6,\"LastTradeorSettle\",,\"T\")=\"\",\"\",TEXT(RTD(\"cqg.rtd\", ,\"ContractData\",R6,\"LastTradeorSettle\",,\"T\"),\"#.000\")&\" \"&\"L\")","v":"95.925 L"},{"$f":"IF(RTD(\"cqg.rtd\", ,\"ContractData\",S6,\"LastTradeorSettle\",,\"T\")=\"\",\"\",TEXT(RTD(\"cqg.rtd\", ,\"ContractData\",S6,\"LastTradeorSettle\",,\"T\"),\"#.000\")&\" \"&\"L\")","v":"95.980 L"},{"$f":"IF(RTD(\"cqg.rtd\", ,\"ContractData\",T6,\"LastTradeorSettle\",,\"T\")=\"\",\"\",TEXT(RTD(\"cqg.rtd\", ,\"ContractData\",T6,\"LastTradeorSettle\",,\"T\"),\"#.000\")&\" \"&\"L\")","v":"96.035 L"},{"$f":"IF(RTD(\"cqg.rtd\", ,\"ContractData\",U6,\"LastTradeorSettle\",,\"T\")=\"\",\"\",TEXT(RTD(\"cqg.rtd\", ,\"ContractData\",U6,\"LastTradeorSettle\",,\"T\"),\"#.000\")&\" \"&\"L\")","v":"96.130 L"},{"$f":"IF(RTD(\"cqg.rtd\", ,\"ContractData\",V6,\"LastTradeorSettle\",,\"T\")=\"\",\"\",TEXT(RTD(\"cqg.rtd\", ,\"ContractData\",V6,\"LastTradeorSettle\",,\"T\"),\"#.000\")&\" \"&\"L\")","v":"96.180 L"},{"$f":"IF(RTD(\"cqg.rtd\", ,\"ContractData\",W6,\"LastTradeorSettle\",,\"T\")=\"\",\"\",TEXT(RTD(\"cqg.rtd\", ,\"ContractData\",W6,\"LastTradeorSettle\",,\"T\"),\"#.000\")&\" \"&\"L\")","v":"96.250 L"},{"$f":"IF(RTD(\"cqg.rtd\", ,\"ContractData\",X6,\"LastTradeorSettle\",,\"T\")=\"\",\"\",TEXT(RTD(\"cqg.rtd\", ,\"ContractData\",X6,\"LastTradeorSettle\",,\"T\"),\"#.000\")&\" \"&\"L\")","v":"96.430 L"},{"$f":"IF(RTD(\"cqg.rtd\", ,\"ContractData\",Y6,\"LastTradeorSettle\",,\"T\")=\"\",\"\",TEXT(RTD(\"cqg.rtd\", ,\"ContractData\",Y6,\"LastTradeorSettle\",,\"T\"),\"#.000\")&\" \"&\"L\")","v":"96.480 L"},{"$f":"IF(RTD(\"cqg.rtd\", ,\"ContractData\",Z6,\"LastTradeorSettle\",,\"T\")=\"\",\"\",TEXT(RTD(\"cqg.rtd\", ,\"ContractData\",Z6,\"LastTradeorSettle\",,\"T\"),\"#.000\")&\" \"&\"L\")","v":"96.425 L"},{"$f":"IF(RTD(\"cqg.rtd\", ,\"ContractData\",AA6,\"LastTradeorSettle\",,\"T\")=\"\",\"\",TEXT(RTD(\"cqg.rtd\", ,\"ContractData\",AA6,\"LastTradeorSettle\",,\"T\"),\"#.000\")&\" \"&\"L\")","v":""},{"$f":"IF(RTD(\"cqg.rtd\", ,\"ContractData\",AB6,\"LastTradeorSettle\",,\"T\")=\"\",\"\",TEXT(RTD(\"cqg.rtd\", ,\"ContractData\",AB6,\"LastTradeorSettle\",,\"T\"),\"#.000\")&\" \"&\"L\")","v":""},{"$f":"IF(RTD(\"cqg.rtd\", ,\"ContractData\",AC6,\"LastTradeorSettle\",,\"T\")=\"\",\"\",TEXT(RTD(\"cqg.rtd\", ,\"ContractData\",AC6,\"LastTradeorSettle\",,\"T\"),\"#.000\")&\" \"&\"L\")","v":""},{"$f":"IF(RTD(\"cqg.rtd\", ,\"ContractData\",AD6,\"LastTradeorSettle\",,\"T\")=\"\",\"\",TEXT(RTD(\"cqg.rtd\", ,\"ContractData\",AD6,\"LastTradeorSettle\",,\"T\"),\"#.000\")&\" \"&\"L\")","v":""}]
[null,"Enter First Contract Symbol: ",null,null,"ZQEJ23",null,{"$f":"ZQE!D21","v":97},{"$f":"ZQE!E21","v":94}]
[null,"Symbols","Open","High","Low","Last","Net","Net","Volume"]
[{"$f":"RTD(\"cqg.rtd\",,\"ContractData\",K6, \"Symbol\")","v":"ZQEJ23"},{"$f":"RIGHT(RTD(\"cqg.rtd\",,\"ContractData\",A13, \"LongDescription\"),7)","v":" Apr 23"},{"$f":"RTD(\"cqg.rtd\", ,\"ContractData\",A13, \"Open\",,\"T\")","v":95.23},{"$f":"RTD(\"cqg.rtd\", ,\"ContractData\",A13, \"High\",,\"T\")","v":95.265000000000001},{"$f":"RTD(\"cqg.rtd\", ,\"ContractData\",A13, \"Low\",,\"T\")","v":95.2},{"$f":"RTD(\"cqg.rtd\", ,\"ContractData\",A13, \"LastTradeorSettle\",,\"T\")","v":95.245000000000005},{"$f":"RTD(\"cqg.rtd\",,\"ContractData\",A13,\"NetLastTradeToday\",,\"T\")","v":1.4999999999999999E-2},{"$f":"RTD(\"cqg.rtd\",,\"ContractData\",A13,\"NetLastTradeToday\",,\"T\")","v":1.4999999999999999E-2},{"$f":"RTD(\"cqg.rtd\", ,\"ContractData\",A13, \"T_CVol\")","v":127995}]
[{"$f":"RTD(\"cqg.rtd\",,\"ContractData\",L6, \"Symbol\")","v":"ZQEK23"},{"$f":"RIGHT(RTD(\"cqg.rtd\",,\"ContractData\",A14, \"LongDescription\"),7)","v":" May 23"},{"$f":"RTD(\"cqg.rtd\", ,\"ContractData\",A14, \"Open\",,\"T\")","v":95.094999999999999},{"$f":"RTD(\"cqg.rtd\", ,\"ContractData\",A14, \"High\",,\"T\")","v":95.19},{"$f":"RTD(\"cqg.rtd\", ,\"ContractData\",A14, \"Low\",,\"T\")","v":95.04},{"$f":"RTD(\"cqg.rtd\", ,\"ContractData\",A14, \"LastTradeorSettle\",,\"T\")","v":95.165000000000006},{"$f":"RTD(\"cqg.rtd\",,\"ContractData\",A14,\"NetLastTradeToday\",,\"T\")","v":0.08},{"$f":"RTD(\"cqg.rtd\",,\"ContractData\",A14,\"NetLastTradeToday\",,\"T\")","v":0.08},{"$f":"RTD(\"cqg.rtd\", ,\"ContractData\",A14, \"T_CVol\")","v":123759}]
[{"$f":"RTD(\"cqg.rtd\",,\"ContractData\",M6, \"Symbol\")","v":"ZQEM23"},{"$f":"RIGHT(RTD(\"cqg.rtd\",,\"ContractData\",A15, \"LongDescription\"),7)","v":" Jun 23"},{"$f":"RTD(\"cqg.rtd\", ,\"ContractData\",A15, \"Open\",,\"T\")","v":95.12},{"$f":"RTD(\"cqg.rtd\", ,\"ContractData\",A15, \"High\",,\"T\")","v":95.27},{"$f":"RTD(\"cqg.rtd\", ,\"ContractData\",A15, \"Low\",,\"T\")","v":95.06},{"$f":"RTD(\"cqg.rtd\", ,\"ContractData\",A15, \"LastTradeorSettle\",,\"T\")","v":95.24},{"$f":"RTD(\"cqg.rtd\",,\"ContractData\",A15,\"NetLastTradeToday\",,\"T\")","v":0.125},{"$f":"RTD(\"cqg.rtd\",,\"ContractData\",A15,\"NetLastTradeToday\",,\"T\")","v":0.125},{"$f":"RTD(\"cqg.rtd\", ,\"ContractData\",A15, \"T_CVol\")","v":27098}]
[{"$f":"RTD(\"cqg.rtd\",,\"ContractData\",N6, \"Symbol\")","v":"ZQEN23"},{"$f":"RIGHT(RTD(\"cqg.rtd\",,\"ContractData\",A16, \"LongDescription\"),7)","v":" Jul 23"},{"$f":"RTD(\"cqg.rtd\", ,\"ContractData\",A16, \"Open\",,\"T\")","v":95.210000000000008},{"$f":"RTD(\"cqg.rtd\", ,\"ContractData\",A16, \"High\",,\"T\")","v":95.41},{"$f":"RTD(\"cqg.rtd\", ,\"ContractData\",A16, \"Low\",,\"T\")","v":95.14},{"$f":"RTD(\"cqg.rtd\", ,\"ContractData\",A16, \"LastTradeorSettle\",,\"T\")","v":95.364999999999995},{"$f":"RTD(\"cqg.rtd\",,\"ContractData\",A16,\"NetLastTradeToday\",,\"T\")","v":0.16},{"$f":"RTD(\"cqg.rtd\",,\"ContractData\",A16,\"NetLastTradeToday\",,\"T\")","v":0.16},{"$f":"RTD(\"cqg.rtd\", ,\"ContractData\",A16, \"T_CVol\")","v":55763}]
[{"$f":"RTD(\"cqg.rtd\",,\"ContractData\",O6, \"Symbol\")","v":"ZQEQ23"},{"$f":"RIGHT(RTD(\"cqg.rtd\",,\"ContractData\",A17, \"LongDescription\"),7)","v":" Aug 23"},{"$f":"RTD(\"cqg.rtd\", ,\"ContractData\",A17, \"Open\",,\"T\")","v":95.435000000000002},{"$f":"RTD(\"cqg.rtd\", ,\"ContractData\",A17, \"High\",,\"T\")","v":95.67},{"$f":"RTD(\"cqg.rtd\", ,\"ContractData\",A17, \"Low\",,\"T\")","v":95.325000000000003},{"$f":"RTD(\"cqg.rtd\", ,\"ContractData\",A17, \"LastTradeorSettle\",,\"T\")","v":95.600000000000009},{"$f":"RTD(\"cqg.rtd\",,\"ContractData\",A17,\"NetLastTradeToday\",,\"T\")","v":0.19},{"$f":"RTD(\"cqg.rtd\",,\"ContractData\",A17,\"NetLastTradeToday\",,\"T\")","v":0.19},{"$f":"RTD(\"cqg.rtd\", ,\"ContractData\",A17, \"T_CVol\")","v":56690}]
[{"$f":"RTD(\"cqg.rtd\",,\"ContractData\",P6, \"Symbol\")","v":"ZQEU23"},{"$f":"RIGHT(RTD(\"cqg.rtd\",,\"ContractData\",A18, \"LongDescription\"),7)","v":" Sep 23"},{"$f":"RTD(\"cqg.rtd\", ,\"ContractData\",A18, \"Open\",,\"T\")","v":95.484999999999999},{"$f":"RTD(\"cqg.rtd\", ,\"ContractData\",A18, \"High\",,\"T\")","v":95.734999999999999},{"$f":"RTD(\"cqg.rtd\", ,\"ContractData\",A18, \"Low\",,\"T\")","v":95.375},{"$f":"RTD(\"cqg.rtd\", ,\"ContractData\",A18, \"LastTradeorSettle\",,\"T\")","v":95.665000000000006},{"$f":"RTD(\"cqg.rtd\",,\"ContractData\",A18,\"NetLastTradeToday\",,\"T\")","v":0.185},{"$f":"RTD(\"cqg.rtd\",,\"ContractData\",A18,\"NetLastTradeToday\",,\"T\")","v":0.185},{"$f":"RTD(\"cqg.rtd\", ,\"ContractData\",A18, \"T_CVol\")","v":9398}]
[{"$f":"RTD(\"cqg.rtd\",,\"ContractData\",Q6, \"Symbol\")","v":"ZQEV23"},{"$f":"RIGHT(RTD(\"cqg.rtd\",,\"ContractData\",A19, \"LongDescription\"),7)","v":" Oct 23"},{"$f":"RTD(\"cqg.rtd\", ,\"ContractData\",A19, \"Open\",,\"T\")","v":95.58},{"$f":"RTD(\"cqg.rtd\", ,\"ContractData\",A19, \"High\",,\"T\")","v":95.87},{"$f":"RTD(\"cqg.rtd\", ,\"ContractData\",A19, \"Low\",,\"T\")","v":95.475000000000009},{"$f":"RTD(\"cqg.rtd\", ,\"ContractData\",A19, \"LastTradeorSettle\",,\"T\")","v":95.784999999999997},{"$f":"RTD(\"cqg.rtd\",,\"ContractData\",A19,\"NetLastTradeToday\",,\"T\")","v":0.185},{"$f":"RTD(\"cqg.rtd\",,\"ContractData\",A19,\"NetLastTradeToday\",,\"T\")","v":0.185},{"$f":"RTD(\"cqg.rtd\", ,\"ContractData\",A19, \"T_CVol\")","v":15500}]
[{"$f":"RTD(\"cqg.rtd\",,\"ContractData\",R6, \"Symbol\")","v":"ZQEX23"},{"$f":"RIGHT(RTD(\"cqg.rtd\",,\"ContractData\",A20, \"LongDescription\"),7)","v":" Nov 23"},{"$f":"RTD(\"cqg.rtd\", ,\"ContractData\",A20, \"Open\",,\"T\")","v":95.704999999999998},{"$f":"RTD(\"cqg.rtd\", ,\"ContractData\",A20, \"High\",,\"T\")","v":96.015000000000001},{"$f":"RTD(\"cqg.rtd\", ,\"ContractData\",A20, \"Low\",,\"T\")","v":95.585000000000008},{"$f":"RTD(\"cqg.rtd\", ,\"ContractData\",A20, \"LastTradeorSettle\",,\"T\")","v":95.924999999999997},{"$f":"RTD(\"cqg.rtd\",,\"ContractData\",A20,\"NetLastTradeToday\",,\"T\")","v":0.19},{"$f":"RTD(\"cqg.rtd\",,\"ContractData\",A20,\"NetLastTradeToday\",,\"T\")","v":0.19},{"$f":"RTD(\"cqg.rtd\", ,\"ContractData\",A20, \"T_CVol\")","v":9291}]
[{"$f":"RTD(\"cqg.rtd\",,\"ContractData\",S6, \"Symbol\")","v":"ZQEZ23"},{"$f":"RIGHT(RTD(\"cqg.rtd\",,\"ContractData\",A21, \"LongDescription\"),7)","v":" Dec 23"},{"$f":"RTD(\"cqg.rtd\", ,\"ContractData\",A21, \"Open\",,\"T\")","v":95.73},{"$f":"RTD(\"cqg.rtd\", ,\"ContractData\",A21, \"High\",,\"T\")","v":96.064999999999998},{"$f":"RTD(\"cqg.rtd\", ,\"ContractData\",A21, \"Low\",,\"T\")","v":95.63},{"$f":"RTD(\"cqg.rtd\", ,\"ContractData\",A21, \"LastTradeorSettle\",,\"T\")","v":95.98},{"$f":"RTD(\"cqg.rtd\",,\"ContractData\",A21,\"NetLastTradeToday\",,\"T\")","v":0.19500000000000001},{"$f":"RTD(\"cqg.rtd\",,\"ContractData\",A21,\"NetLastTradeToday\",,\"T\")","v":0.19500000000000001},{"$f":"RTD(\"cqg.rtd\", ,\"ContractData\",A21, \"T_CVol\")","v":5556}]
[{"$f":"RTD(\"cqg.rtd\",,\"ContractData\",T6, \"Symbol\")","v":"ZQEF24"},{"$f":"RIGHT(RTD(\"cqg.rtd\",,\"ContractData\",A22, \"LongDescription\"),7)","v":" Jan 24"},{"$f":"RTD(\"cqg.rtd\", ,\"ContractData\",A22, \"Open\",,\"T\")","v":95.775000000000006},{"$f":"RTD(\"cqg.rtd\", ,\"ContractData\",A22, \"High\",,\"T\")","v":96.115000000000009},{"$f":"RTD(\"cqg.rtd\", ,\"ContractData\",A22, \"Low\",,\"T\")","v":95.674999999999997},{"$f":"RTD(\"cqg.rtd\", ,\"ContractData\",A22, \"LastTradeorSettle\",,\"T\")","v":96.034999999999997},{"$f":"RTD(\"cqg.rtd\",,\"ContractData\",A22,\"NetLastTradeToday\",,\"T\")","v":0.19500000000000001},{"$f":"RTD(\"cqg.rtd\",,\"ContractData\",A22,\"NetLastTradeToday\",,\"T\")","v":0.19500000000000001},{"$f":"RTD(\"cqg.rtd\", ,\"ContractData\",A22, \"T_CVol\")","v":16917}]
[{"$f":"RTD(\"cqg.rtd\",,\"ContractData\",U6, \"Symbol\")","v":"ZQEG24"},{"$f":"RIGHT(RTD(\"cqg.rtd\",,\"ContractData\",A23, \"LongDescription\"),7)","v":" Feb 24"},{"$f":"RTD(\"cqg.rtd\", ,\"ContractData\",A23, \"Open\",,\"T\")","v":95.88},{"$f":"RTD(\"cqg.rtd\", ,\"ContractData\",A23, \"High\",,\"T\")","v":96.195000000000007},{"$f":"RTD(\"cqg.rtd\", ,\"ContractData\",A23, \"Low\",,\"T\")","v":95.835000000000008},{"$f":"RTD(\"cqg.rtd\", ,\"ContractData\",A23, \"LastTradeorSettle\",,\"T\")","v":96.13},{"$f":"RTD(\"cqg.rtd\",,\"ContractData\",A23,\"NetLastTradeToday\",,\"T\")","v":0.185},{"$f":"RTD(\"cqg.rtd\",,\"ContractData\",A23,\"NetLastTradeToday\",,\"T\")","v":0.185},{"$f":"RTD(\"cqg.rtd\", ,\"ContractData\",A23, \"T_CVol\")","v":4608}]
[{"$f":"RTD(\"cqg.rtd\",,\"ContractData\",V6, \"Symbol\")","v":"ZQEH24"},{"$f":"RIGHT(RTD(\"cqg.rtd\",,\"ContractData\",A24, \"LongDescription\"),7)","v":" Mar 24"},{"$f":"RTD(\"cqg.rtd\", ,\"ContractData\",A24, \"Open\",,\"T\")","v":95.93},{"$f":"RTD(\"cqg.rtd\", ,\"ContractData\",A24, \"High\",,\"T\")","v":96.225000000000009},{"$f":"RTD(\"cqg.rtd\", ,\"ContractData\",A24, \"Low\",,\"T\")","v":95.93},{"$f":"RTD(\"cqg.rtd\", ,\"ContractData\",A24, \"LastTradeorSettle\",,\"T\")","v":96.18},{"$f":"RTD(\"cqg.rtd\",,\"ContractData\",A24,\"NetLastTradeToday\",,\"T\")","v":0.19500000000000001},{"$f":"RTD(\"cqg.rtd\",,\"ContractData\",A24,\"NetLastTradeToday\",,\"T\")","v":0.19500000000000001},{"$f":"RTD(\"cqg.rtd\", ,\"ContractData\",A24, \"T_CVol\")","v":424}]
[null,"Calendar Spread:",null,"1-Month",null,null,{"$f":"ZQE!U28","v":0.30000000000000004},{"$f":"ZQE!V28","v":-0.30000000000000004}]
[null,{"$f":"D25&\" Calendar Spreads\"","v":"1-Month Calendar Spreads"},null,null,null,null,null,null,null,null,{"$f":"RIGHT(RTD(\"cqg.rtd\",,\"ContractData\",ZQE!U35, \"LongDescription\"),15)","v":" Apr 23, May 23"},{"$f":"RIGHT(RTD(\"cqg.rtd\",,\"ContractData\",ZQE!U36, \"LongDescription\"),15)","v":" May 23, Jun 23"},{"$f":"RIGHT(RTD(\"cqg.rtd\",,\"ContractData\",ZQE!U37, \"LongDescription\"),15)","v":" Jun 23, Jul 23"},{"$f":"RIGHT(RTD(\"cqg.rtd\",,\"ContractData\",ZQE!U38, \"LongDescription\"),15)","v":" Jul 23, Aug 23"},{"$f":"RIGHT(RTD(\"cqg.rtd\",,\"ContractData\",ZQE!U39, \"LongDescription\"),15)","v":" Aug 23, Sep 23"},{"$f":"RIGHT(RTD(\"cqg.rtd\",,\"ContractData\",ZQE!U40, \"LongDescription\"),15)","v":" Sep 23, Oct 23"},{"$f":"RIGHT(RTD(\"cqg.rtd\",,\"ContractData\",ZQE!U41, \"LongDescription\"),15)","v":" Oct 23, Nov 23"},{"$f":"RIGHT(RTD(\"cqg.rtd\",,\"ContractData\",ZQE!U42, \"LongDescription\"),15)","v":" Nov 23, Dec 23"},{"$f":"RIGHT(RTD(\"cqg.rtd\",,\"ContractData\",ZQE!U43, \"LongDescription\"),15)","v":" Dec 23, Jan 24"},{"$f":"RIGHT(RTD(\"cqg.rtd\",,\"ContractData\",ZQE!U44, \"LongDescription\"),15)","v":" Jan 24, Feb 24"},{"$f":"RIGHT(RTD(\"cqg.rtd\",,\"ContractData\",ZQE!U45, \"LongDescription\"),15)","v":" Feb 24, Mar 24"},{"$f":"RIGHT(RTD(\"cqg.rtd\",,\"ContractData\",ZQE!U46, \"LongDescription\"),15)","v":" Mar 24, Apr 24"},{"$f":"RIGHT(RTD(\"cqg.rtd\",,\"ContractData\",ZQE!U47, \"LongDescription\"),15)","v":" Apr 24, May 24"},{"$f":"RIGHT(RTD(\"cqg.rtd\",,\"ContractData\",ZQE!U48, \"LongDescription\"),15)","v":" May 24, Jun 24"},{"$f":"RIGHT(RTD(\"cqg.rtd\",,\"ContractData\",ZQE!U49, \"LongDescription\"),15)","v":" Jun 24, Jul 24"},{"$f":"RIGHT(RTD(\"cqg.rtd\",,\"ContractData\",ZQE!U50, \"LongDescription\"),15)","v":" Jul 24, Aug 24"},{"$f":"RIGHT(RTD(\"cqg.rtd\",,\"ContractData\",ZQE!U51, \"LongDescription\"),15)","v":" Aug 24, Sep 24"},{"$f":"IF(LEFT(RTD(\"cqg.rtd\", ,\"ContractData\", ZQE!U52,\"LongDescription\",,\"T\"),3)=\"768\",\"\",RIGHT(RTD(\"cqg.rtd\",,\"ContractData\",ZQE!U52, \"LongDescription\"),15))","v":" Sep 24, Oct 24"},{"$f":"IF(LEFT(RTD(\"cqg.rtd\", ,\"ContractData\", ZQE!U53,\"LongDescription\",,\"T\"),3)=\"768\",\"\",RIGHT(RTD(\"cqg.rtd\",,\"ContractData\",ZQE!U53, \"LongDescription\"),15))","v":" Oct 24, Nov 24"},{"$f":"IF(LEFT(RTD(\"cqg.rtd\", ,\"ContractData\", ZQE!U54,\"LongDescription\",,\"T\"),3)=\"768\",\"\",RIGHT(RTD(\"cqg.rtd\",,\"ContractData\",ZQE!U54, \"LongDescription\"),15))","v":" Nov 24, Dec 24"}]
[null,null,null,null,null,null,null,null,null,null,{"$f":"IF(RTD(\"cqg.rtd\",,\"ContractData\",ZQE!U35, \"Ask\")=\"\",\"\",TEXT(RTD(\"cqg.rtd\",,\"ContractData\",ZQE!U35, \"Ask\"),\"#.000\")&\" \"&\"A\")","v":".085 A"},{"$f":"IF(RTD(\"cqg.rtd\",,\"ContractData\",ZQE!U36,\"Ask\")=\"\",\"\",TEXT(RTD(\"cqg.rtd\",,\"ContractData\",ZQE!U36,\"Ask\"),\"#.000\")&\" \"&\"A\")","v":"-.070 A"},{"$f":"IF(RTD(\"cqg.rtd\",,\"ContractData\",ZQE!U37,\"Ask\")=\"\",\"\",TEXT(RTD(\"cqg.rtd\",,\"ContractData\",ZQE!U37,\"Ask\"),\"#.000\")&\" \"&\"A\")","v":"-.120 A"},{"$f":"IF(RTD(\"cqg.rtd\",,\"ContractData\",ZQE!U38,\"Ask\")=\"\",\"\",TEXT(RTD(\"cqg.rtd\",,\"ContractData\",ZQE!U38,\"Ask\"),\"#.000\")&\" \"&\"A\")","v":"-.230 A"},{"$f":"IF(RTD(\"cqg.rtd\",,\"ContractData\",ZQE!U39,\"Ask\")=\"\",\"\",TEXT(RTD(\"cqg.rtd\",,\"ContractData\",ZQE!U39,\"Ask\"),\"#.000\")&\" \"&\"A\")","v":"-.065 A"},{"$f":"IF(RTD(\"cqg.rtd\",,\"ContractData\",ZQE!U40,\"Ask\")=\"\",\"\",TEXT(RTD(\"cqg.rtd\",,\"ContractData\",ZQE!U40,\"Ask\"),\"#.000\")&\" \"&\"A\")","v":"-.115 A"},{"$f":"IF(RTD(\"cqg.rtd\",,\"ContractData\",ZQE!U41,\"Ask\")=\"\",\"\",TEXT(RTD(\"cqg.rtd\",,\"ContractData\",ZQE!U41,\"Ask\"),\"#.000\")&\" \"&\"A\")","v":"-.135 A"},{"$f":"IF(RTD(\"cqg.rtd\",,\"ContractData\",ZQE!U42,\"Ask\")=\"\",\"\",TEXT(RTD(\"cqg.rtd\",,\"ContractData\",ZQE!U42,\"Ask\"),\"#.000\")&\" \"&\"A\")","v":"-.050 A"},{"$f":"IF(RTD(\"cqg.rtd\",,\"ContractData\",ZQE!U43,\"Ask\")=\"\",\"\",TEXT(RTD(\"cqg.rtd\",,\"ContractData\",ZQE!U43,\"Ask\"),\"#.000\")&\" \"&\"A\")","v":"-.050 A"},{"$f":"IF(RTD(\"cqg.rtd\",,\"ContractData\",ZQE!U44,\"Ask\")=\"\",\"\",TEXT(RTD(\"cqg.rtd\",,\"ContractData\",ZQE!U44,\"Ask\"),\"#.000\")&\" \"&\"A\")","v":"-.090 A"},{"$f":"IF(RTD(\"cqg.rtd\",,\"ContractData\",ZQE!U45,\"Ask\")=\"\",\"\",TEXT(RTD(\"cqg.rtd\",,\"ContractData\",ZQE!U45,\"Ask\"),\"#.000\")&\" \"&\"A\")","v":"-.040 A"},{"$f":"IF(RTD(\"cqg.rtd\",,\"ContractData\",ZQE!U46,\"Ask\")=\"\",\"\",TEXT(RTD(\"cqg.rtd\",,\"ContractData\",ZQE!U46,\"Ask\"),\"#.000\")&\" \"&\"A\")","v":"-.080 A"},{"$f":"IF(RTD(\"cqg.rtd\",,\"ContractData\",ZQE!U47,\"Ask\")=\"\",\"\",TEXT(RTD(\"cqg.rtd\",,\"ContractData\",ZQE!U47,\"Ask\"),\"#.000\")&\" \"&\"A\")","v":"-.145 A"},{"$f":"IF(RTD(\"cqg.rtd\",,\"ContractData\",ZQE!U48,\"Ask\")=\"\",\"\",TEXT(RTD(\"cqg.rtd\",,\"ContractData\",ZQE!U48,\"Ask\"),\"#.000\")&\" \"&\"A\")","v":"-.075 A"},{"$f":"IF(RTD(\"cqg.rtd\",,\"ContractData\",ZQE!U49,\"Ask\")=\"\",\"\",TEXT(RTD(\"cqg.rtd\",,\"ContractData\",ZQE!U49,\"Ask\"),\"#.000\")&\" \"&\"A\")","v":"-.055 A"},{"$f":"IF(RTD(\"cqg.rtd\",,\"ContractData\",ZQE!U50,\"Ask\")=\"\",\"\",TEXT(RTD(\"cqg.rtd\",,\"ContractData\",ZQE!U50,\"Ask\"),\"#.000\")&\" \"&\"A\")","v":"-.165 A"},{"$f":"IF(RTD(\"cqg.rtd\",,\"ContractData\",ZQE!U51,\"Ask\")=\"\",\"\",TEXT(RTD(\"cqg.rtd\",,\"ContractData\",ZQE!U51,\"Ask\"),\"#.000\")&\" \"&\"A\")","v":""},{"$f":"IF(RTD(\"cqg.rtd\",,\"ContractData\",ZQE!U52,\"Ask\")=\"\",\"\",TEXT(RTD(\"cqg.rtd\",,\"ContractData\",ZQE!U52,\"Ask\"),\"#.000\")&\" \"&\"A\")","v":""},{"$f":"IF(LEFT(RTD(\"cqg.rtd\",,\"ContractData\",ZQE!U53,\"Ask\"),3)=\"768\",\"\",IF(RTD(\"cqg.rtd\",,\"ContractData\",ZQE!U53,\"Ask\")=\"\",\"\",TEXT(RTD(\"cqg.rtd\",,\"ContractData\",ZQE!U53,\"Ask\"),\"#.000\")&\" \"&\"A\"))","v":""},{"$f":"IF(LEFT(RTD(\"cqg.rtd\",,\"ContractData\",ZQE!U54,\"Ask\"),3)=\"768\",\"\",IF(RTD(\"cqg.rtd\",,\"ContractData\",ZQE!U54,\"Ask\")=\"\",\"\",TEXT(RTD(\"cqg.rtd\",,\"ContractData\",ZQE!U54,\"Ask\"),\"#.000\")&\" \"&\"A\"))","v":"-.010 A"}]
[null,"Symbols","Open","High","Low","Last","Net","Net","Volume",null,{"$f":"IF(RTD(\"cqg.rtd\",,\"ContractData\",ZQE!U35, \"Bid\")=\"\",\"\",TEXT(RTD(\"cqg.rtd\",,\"ContractData\",ZQE!U35, \"Bid\"),\"#.000\")&\" \"&\"B\")","v":".080 B"},{"$f":"IF(RTD(\"cqg.rtd\",,\"ContractData\",ZQE!U36,\"Bid\")=\"\",\"\",TEXT(RTD(\"cqg.rtd\",,\"ContractData\",ZQE!U36,\"Bid\"),\"#.000\")&\" \"&\"B\")","v":"-.075 B"},{"$f":"IF(RTD(\"cqg.rtd\",,\"ContractData\",ZQE!U37,\"Bid\")=\"\",\"\",TEXT(RTD(\"cqg.rtd\",,\"ContractData\",ZQE!U37,\"Bid\"),\"#.000\")&\" \"&\"B\")","v":"-.130 B"},{"$f":"IF(RTD(\"cqg.rtd\",,\"ContractData\",ZQE!U38,\"Bid\")=\"\",\"\",TEXT(RTD(\"cqg.rtd\",,\"ContractData\",ZQE!U38,\"Bid\"),\"#.000\")&\" \"&\"B\")","v":"-.240 B"},{"$f":"IF(RTD(\"cqg.rtd\",,\"ContractData\",ZQE!U39,\"Bid\")=\"\",\"\",TEXT(RTD(\"cqg.rtd\",,\"ContractData\",ZQE!U39,\"Bid\"),\"#.000\")&\" \"&\"B\")","v":"-.070 B"},{"$f":"IF(RTD(\"cqg.rtd\",,\"ContractData\",ZQE!U40,\"Bid\")=\"\",\"\",TEXT(RTD(\"cqg.rtd\",,\"ContractData\",ZQE!U40,\"Bid\"),\"#.000\")&\" \"&\"B\")","v":"-.125 B"},{"$f":"IF(RTD(\"cqg.rtd\",,\"ContractData\",ZQE!U41,\"Bid\")=\"\",\"\",TEXT(RTD(\"cqg.rtd\",,\"ContractData\",ZQE!U41,\"Bid\"),\"#.000\")&\" \"&\"B\")","v":"-.145 B"},{"$f":"IF(RTD(\"cqg.rtd\",,\"ContractData\",ZQE!U42,\"Bid\")=\"\",\"\",TEXT(RTD(\"cqg.rtd\",,\"ContractData\",ZQE!U42,\"Bid\"),\"#.000\")&\" \"&\"B\")","v":"-.060 B"},{"$f":"IF(RTD(\"cqg.rtd\",,\"ContractData\",ZQE!U43,\"Bid\")=\"\",\"\",TEXT(RTD(\"cqg.rtd\",,\"ContractData\",ZQE!U43,\"Bid\"),\"#.000\")&\" \"&\"B\")","v":"-.055 B"},{"$f":"IF(RTD(\"cqg.rtd\",,\"ContractData\",ZQE!U44,\"Bid\")=\"\",\"\",TEXT(RTD(\"cqg.rtd\",,\"ContractData\",ZQE!U44,\"Bid\"),\"#.000\")&\" \"&\"B\")","v":"-.095 B"},{"$f":"IF(RTD(\"cqg.rtd\",,\"ContractData\",ZQE!U45,\"Bid\")=\"\",\"\",TEXT(RTD(\"cqg.rtd\",,\"ContractData\",ZQE!U45,\"Bid\"),\"#.000\")&\" \"&\"B\")","v":"-.045 B"},{"$f":"IF(RTD(\"cqg.rtd\",,\"ContractData\",ZQE!U46,\"Bid\")=\"\",\"\",TEXT(RTD(\"cqg.rtd\",,\"ContractData\",ZQE!U46,\"Bid\"),\"#.000\")&\" \"&\"B\")","v":"-.090 B"},{"$f":"IF(RTD(\"cqg.rtd\",,\"ContractData\",ZQE!U47,\"Bid\")=\"\",\"\",TEXT(RTD(\"cqg.rtd\",,\"ContractData\",ZQE!U47,\"Bid\"),\"#.000\")&\" \"&\"B\")","v":"-.150 B"},{"$f":"IF(RTD(\"cqg.rtd\",,\"ContractData\",ZQE!U48,\"Bid\")=\"\",\"\",TEXT(RTD(\"cqg.rtd\",,\"ContractData\",ZQE!U48,\"Bid\"),\"#.000\")&\" \"&\"B\")","v":"-.090 B"},{"$f":"IF(RTD(\"cqg.rtd\",,\"ContractData\",ZQE!U49,\"Bid\")=\"\",\"\",TEXT(RTD(\"cqg.rtd\",,\"ContractData\",ZQE!U49,\"Bid\"),\"#.000\")&\" \"&\"B\")","v":"-.065 B"},{"$f":"IF(RTD(\"cqg.rtd\",,\"ContractData\",ZQE!U50,\"Bid\")=\"\",\"\",TEXT(RTD(\"cqg.rtd\",,\"ContractData\",ZQE!U50,\"Bid\"),\"#.000\")&\" \"&\"B\")","v":"-.175 B"},{"$f":"IF(RTD(\"cqg.rtd\",,\"ContractData\",ZQE!U51,\"Bid\")=\"\",\"\",TEXT(RTD(\"cqg.rtd\",,\"ContractData\",ZQE!U51,\"Bid\"),\"#.000\")&\" \"&\"B\")","v":"-.100 B"},{"$f":"IF(RTD(\"cqg.rtd\",,\"ContractData\",ZQE!U52,\"Bid\")=\"\",\"\",TEXT(RTD(\"cqg.rtd\",,\"ContractData\",ZQE!U52,\"Bid\"),\"#.000\")&\" \"&\"B\")","v":""},{"$f":"IF(LEFT(RTD(\"cqg.rtd\",,\"ContractData\",ZQE!U53,\"Bid\"),3)=\"768\",\"\",IF(RTD(\"cqg.rtd\",,\"ContractData\",ZQE!U53,\"Bid\")=\"\",\"\",TEXT(RTD(\"cqg.rtd\",,\"ContractData\",ZQE!U53,\"Bid\"),\"#.000\")&\" \"&\"B\"))","v":"-.330 B"},{"$f":"IF(LEFT(RTD(\"cqg.rtd\",,\"ContractData\",ZQE!U54,\"Bid\"),3)=\"768\",\"\",IF(RTD(\"cqg.rtd\",,\"ContractData\",ZQE!U54,\"Bid\")=\"\",\"\",TEXT(RTD(\"cqg.rtd\",,\"ContractData\",ZQE!U54,\"Bid\"),\"#.000\")&\" \"&\"B\"))","v":"-.340 B"}]
[{"$f":"ZQE!U35","v":"ZQES1?2"},{"$f":"RIGHT(RTD(\"cqg.rtd\",,\"ContractData\",A29, \"LongDescription\"),15)","v":" Apr 23, May 23"},{"$f":"RTD(\"cqg.rtd\", ,\"ContractData\",A29, \"Open\",,\"T\")","v":0.13500000000000001},{"$f":"RTD(\"cqg.rtd\", ,\"ContractData\",A29, \"High\",,\"T\")","v":0.16500000000000001},{"$f":"RTD(\"cqg.rtd\", ,\"ContractData\",A29, \"Low\",,\"T\")","v":7.0000000000000007E-2},{"$f":"RTD(\"cqg.rtd\", ,\"ContractData\",A29, \"LastTradeorSettle\",,\"T\")","v":0.08},{"$f":"RTD(\"cqg.rtd\",,\"ContractData\",A29,\"NetLastTradeToday\",,\"T\")","v":-6.5000000000000002E-2},{"$f":"RTD(\"cqg.rtd\",,\"ContractData\",A29,\"NetLastTradeToday\",,\"T\")","v":-6.5000000000000002E-2},{"$f":"RTD(\"cqg.rtd\", ,\"ContractData\",A29, \"T_CVol\")","v":26283},null,{"$f":"IF(RTD(\"cqg.rtd\", ,\"ContractData\",ZQE!U35,\"LastTradeorSettle\",,\"T\")=\"\",\"\",TEXT(RTD(\"cqg.rtd\", ,\"ContractData\",ZQE!U35,\"LastTradeorSettle\",,\"T\"),\"#.000\")&\" \"&\"L\")","v":".080 L"},{"$f":"IF(RTD(\"cqg.rtd\", ,\"ContractData\",ZQE!U36,\"LastTradeorSettle\",,\"T\")=\"\",\"\",TEXT(RTD(\"cqg.rtd\", ,\"ContractData\",ZQE!U36,\"LastTradeorSettle\",,\"T\"),\"#.000\")&\" \"&\"L\")","v":"-.075 L"},{"$f":"IF(RTD(\"cqg.rtd\", ,\"ContractData\",ZQE!U37,\"LastTradeorSettle\",,\"T\")=\"\",\"\",TEXT(RTD(\"cqg.rtd\", ,\"ContractData\",ZQE!U37,\"LastTradeorSettle\",,\"T\"),\"#.000\")&\" \"&\"L\")","v":"-.125 L"},{"$f":"IF(RTD(\"cqg.rtd\", ,\"ContractData\",ZQE!U38,\"LastTradeorSettle\",,\"T\")=\"\",\"\",TEXT(RTD(\"cqg.rtd\", ,\"ContractData\",ZQE!U38,\"LastTradeorSettle\",,\"T\"),\"#.000\")&\" \"&\"L\")","v":"-.235 L"},{"$f":"IF(RTD(\"cqg.rtd\", ,\"ContractData\",ZQE!U39,\"LastTradeorSettle\",,\"T\")=\"\",\"\",TEXT(RTD(\"cqg.rtd\", ,\"ContractData\",ZQE!U39,\"LastTradeorSettle\",,\"T\"),\"#.000\")&\" \"&\"L\")","v":"-.070 L"},{"$f":"IF(RTD(\"cqg.rtd\", ,\"ContractData\",ZQE!U40,\"LastTradeorSettle\",,\"T\")=\"\",\"\",TEXT(RTD(\"cqg.rtd\", ,\"ContractData\",ZQE!U40,\"LastTradeorSettle\",,\"T\"),\"#.000\")&\" \"&\"L\")","v":"-.120 L"},{"$f":"IF(RTD(\"cqg.rtd\", ,\"ContractData\",ZQE!U41,\"LastTradeorSettle\",,\"T\")=\"\",\"\",TEXT(RTD(\"cqg.rtd\", ,\"ContractData\",ZQE!U41,\"LastTradeorSettle\",,\"T\"),\"#.000\")&\" \"&\"L\")","v":"-.140 L"},{"$f":"IF(RTD(\"cqg.rtd\", ,\"ContractData\",ZQE!U42,\"LastTradeorSettle\",,\"T\")=\"\",\"\",TEXT(RTD(\"cqg.rtd\", ,\"ContractData\",ZQE!U42,\"LastTradeorSettle\",,\"T\"),\"#.000\")&\" \"&\"L\")","v":"-.055 L"},{"$f":"IF(RTD(\"cqg.rtd\", ,\"ContractData\",ZQE!U43,\"LastTradeorSettle\",,\"T\")=\"\",\"\",TEXT(RTD(\"cqg.rtd\", ,\"ContractData\",ZQE!U43,\"LastTradeorSettle\",,\"T\"),\"#.000\")&\" \"&\"L\")","v":"-.055 L"},{"$f":"IF(RTD(\"cqg.rtd\", ,\"ContractData\",ZQE!U44,\"LastTradeorSettle\",,\"T\")=\"\",\"\",TEXT(RTD(\"cqg.rtd\", ,\"ContractData\",ZQE!U44,\"LastTradeorSettle\",,\"T\"),\"#.000\")&\" \"&\"L\")","v":"-.090 L"},{"$f":"IF(RTD(\"cqg.rtd\", ,\"ContractData\",ZQE!U45,\"LastTradeorSettle\",,\"T\")=\"\",\"\",TEXT(RTD(\"cqg.rtd\", ,\"ContractData\",ZQE!U45,\"LastTradeorSettle\",,\"T\"),\"#.000\")&\" \"&\"L\")","v":"-.035 L"},{"$f":"IF(RTD(\"cqg.rtd\", ,\"ContractData\",ZQE!U46,\"LastTradeorSettle\",,\"T\")=\"\",\"\",TEXT(RTD(\"cqg.rtd\", ,\"ContractData\",ZQE!U46,\"LastTradeorSettle\",,\"T\"),\"#.000\")&\" \"&\"L\")","v":"-.080 L"},{"$f":"IF(RTD(\"cqg.rtd\", ,\"ContractData\",ZQE!U47,\"LastTradeorSettle\",,\"T\")=\"\",\"\",TEXT(RTD(\"cqg.rtd\", ,\"ContractData\",ZQE!U47,\"LastTradeorSettle\",,\"T\"),\"#.000\")&\" \"&\"L\")","v":"-.145 L"},{"$f":"IF(RTD(\"cqg.rtd\", ,\"ContractData\",ZQE!U48,\"LastTradeorSettle\",,\"T\")=\"\",\"\",TEXT(RTD(\"cqg.rtd\", ,\"ContractData\",ZQE!U48,\"LastTradeorSettle\",,\"T\"),\"#.000\")&\" \"&\"L\")","v":""},{"$f":"IF(RTD(\"cqg.rtd\", ,\"ContractData\",ZQE!U49,\"LastTradeorSettle\",,\"T\")=\"\",\"\",TEXT(RTD(\"cqg.rtd\", ,\"ContractData\",ZQE!U49,\"LastTradeorSettle\",,\"T\"),\"#.000\")&\" \"&\"L\")","v":""},{"$f":"IF(RTD(\"cqg.rtd\", ,\"ContractData\",ZQE!U50,\"LastTradeorSettle\",,\"T\")=\"\",\"\",TEXT(RTD(\"cqg.rtd\", ,\"ContractData\",ZQE!U50,\"LastTradeorSettle\",,\"T\"),\"#.000\")&\" \"&\"L\")","v":"-.165 L"},{"$f":"IF(RTD(\"cqg.rtd\", ,\"ContractData\",ZQE!U51,\"LastTradeorSettle\",,\"T\")=\"\",\"\",TEXT(RTD(\"cqg.rtd\", ,\"ContractData\",ZQE!U51,\"LastTradeorSettle\",,\"T\"),\"#.000\")&\" \"&\"L\")","v":""},{"$f":"IF(LEFT(RTD(\"cqg.rtd\",,\"ContractData\",ZQE!U52,\"LastTradeorSettle\"),3)=\"768\",\"\",IF(RTD(\"cqg.rtd\",,\"ContractData\",ZQE!U52,\"LastTradeorSettle\")=\"\",\"\",TEXT(RTD(\"cqg.rtd\",,\"ContractData\",ZQE!U52,\"LastTradeorSettle\"),\"#.000\")&\" \"&\"L\"))","v":""},{"$f":"IF(LEFT(RTD(\"cqg.rtd\",,\"ContractData\",ZQE!U53,\"LastTradeorSettle\"),3)=\"768\",\"\",IF(RTD(\"cqg.rtd\",,\"ContractData\",ZQE!U53,\"LastTradeorSettle\")=\"\",\"\",TEXT(RTD(\"cqg.rtd\",,\"ContractData\",ZQE!U53,\"LastTradeorSettle\"),\"#.000\")&\" \"&\"L\"))","v":""},{"$f":"IF(LEFT(RTD(\"cqg.rtd\",,\"ContractData\",ZQE!U54,\"LastTradeorSettle\"),3)=\"768\",\"\",IF(RTD(\"cqg.rtd\",,\"ContractData\",ZQE!U54,\"LastTradeorSettle\")=\"\",\"\",TEXT(RTD(\"cqg.rtd\",,\"ContractData\",ZQE!U54,\"LastTradeorSettle\"),\"#.000\")&\" \"&\"L\"))","v":""}]
[{"$f":"ZQE!U36","v":"ZQES1?3"},{"$f":"RIGHT(RTD(\"cqg.rtd\",,\"ContractData\",A30, \"LongDescription\"),15)","v":" May 23, Jun 23"},{"$f":"RTD(\"cqg.rtd\", ,\"ContractData\",A30, \"Open\",,\"T\")","v":-2.5000000000000001E-2},{"$f":"RTD(\"cqg.rtd\", ,\"ContractData\",A30, \"High\",,\"T\")","v":-1.4999999999999999E-2},{"$f":"RTD(\"cqg.rtd\", ,\"ContractData\",A30, \"Low\",,\"T\")","v":-0.08},{"$f":"RTD(\"cqg.rtd\", ,\"ContractData\",A30, \"LastTradeorSettle\",,\"T\")","v":-7.4999999999999997E-2},{"$f":"RTD(\"cqg.rtd\",,\"ContractData\",A30,\"NetLastTradeToday\",,\"T\")","v":-4.4999999999999998E-2},{"$f":"RTD(\"cqg.rtd\",,\"ContractData\",A30,\"NetLastTradeToday\",,\"T\")","v":-4.4999999999999998E-2},{"$f":"RTD(\"cqg.rtd\", ,\"ContractData\",A30, \"T_CVol\")","v":3372}]
[{"$f":"ZQE!U37","v":"ZQES1?4"},{"$f":"RIGHT(RTD(\"cqg.rtd\",,\"ContractData\",A31, \"LongDescription\"),15)","v":" Jun 23, Jul 23"},{"$f":"RTD(\"cqg.rtd\", ,\"ContractData\",A31, \"Open\",,\"T\")","v":-0.1},{"$f":"RTD(\"cqg.rtd\", ,\"ContractData\",A31, \"High\",,\"T\")","v":-0.08},{"$f":"RTD(\"cqg.rtd\", ,\"ContractData\",A31, \"Low\",,\"T\")","v":-0.14000000000000001},{"$f":"RTD(\"cqg.rtd\", ,\"ContractData\",A31, \"LastTradeorSettle\",,\"T\")","v":-0.125},{"$f":"RTD(\"cqg.rtd\",,\"ContractData\",A31,\"NetLastTradeToday\",,\"T\")","v":-3.5000000000000003E-2},{"$f":"RTD(\"cqg.rtd\",,\"ContractData\",A31,\"NetLastTradeToday\",,\"T\")","v":-3.5000000000000003E-2},{"$f":"RTD(\"cqg.rtd\", ,\"ContractData\",A31, \"T_CVol\")","v":2207}]
[{"$f":"ZQE!U38","v":"ZQES1?5"},{"$f":"RIGHT(RTD(\"cqg.rtd\",,\"ContractData\",A32, \"LongDescription\"),15)","v":" Jul 23, Aug 23"},{"$f":"RTD(\"cqg.rtd\", ,\"ContractData\",A32, \"Open\",,\"T\")","v":-0.20500000000000002},{"$f":"RTD(\"cqg.rtd\", ,\"ContractData\",A32, \"High\",,\"T\")","v":-0.17500000000000002},{"$f":"RTD(\"cqg.rtd\", ,\"ContractData\",A32, \"Low\",,\"T\")","v":-0.255},{"$f":"RTD(\"cqg.rtd\", ,\"ContractData\",A32, \"LastTradeorSettle\",,\"T\")","v":-0.23500000000000001},{"$f":"RTD(\"cqg.rtd\",,\"ContractData\",A32,\"NetLastTradeToday\",,\"T\")","v":-0.03},{"$f":"RTD(\"cqg.rtd\",,\"ContractData\",A32,\"NetLastTradeToday\",,\"T\")","v":-0.03},{"$f":"RTD(\"cqg.rtd\", ,\"ContractData\",A32, \"T_CVol\")","v":14229}]
[{"$f":"ZQE!U39","v":"ZQES1?6"},{"$f":"RIGHT(RTD(\"cqg.rtd\",,\"ContractData\",A33, \"LongDescription\"),15)","v":" Aug 23, Sep 23"},{"$f":"RTD(\"cqg.rtd\", ,\"ContractData\",A33, \"Open\",,\"T\")","v":-5.5E-2},{"$f":"RTD(\"cqg.rtd\", ,\"ContractData\",A33, \"High\",,\"T\")","v":-0.05},{"$f":"RTD(\"cqg.rtd\", ,\"ContractData\",A33, \"Low\",,\"T\")","v":-7.0000000000000007E-2},{"$f":"RTD(\"cqg.rtd\", ,\"ContractData\",A33, \"LastTradeorSettle\",,\"T\")","v":-7.0000000000000007E-2},{"$f":"RTD(\"cqg.rtd\",,\"ContractData\",A33,\"NetLastTradeToday\",,\"T\")","v":0},{"$f":"RTD(\"cqg.rtd\",,\"ContractData\",A33,\"NetLastTradeToday\",,\"T\")","v":0},{"$f":"RTD(\"cqg.rtd\", ,\"ContractData\",A33, \"T_CVol\")","v":962}]
[{"$f":"ZQE!U40","v":"ZQES1?7"},{"$f":"RIGHT(RTD(\"cqg.rtd\",,\"ContractData\",A34, \"LongDescription\"),15)","v":" Sep 23, Oct 23"},{"$f":"RTD(\"cqg.rtd\", ,\"ContractData\",A34, \"Open\",,\"T\")","v":-9.5000000000000001E-2},{"$f":"RTD(\"cqg.rtd\", ,\"ContractData\",A34, \"High\",,\"T\")","v":-9.5000000000000001E-2},{"$f":"RTD(\"cqg.rtd\", ,\"ContractData\",A34, \"Low\",,\"T\")","v":-0.13},{"$f":"RTD(\"cqg.rtd\", ,\"ContractData\",A34, \"LastTradeorSettle\",,\"T\")","v":-0.12},{"$f":"RTD(\"cqg.rtd\",,\"ContractData\",A34,\"NetLastTradeToday\",,\"T\")","v":0},{"$f":"RTD(\"cqg.rtd\",,\"ContractData\",A34,\"NetLastTradeToday\",,\"T\")","v":0},{"$f":"RTD(\"cqg.rtd\", ,\"ContractData\",A34, \"T_CVol\")","v":937}]
[{"$f":"ZQE!U41","v":"ZQES1?8"},{"$f":"RIGHT(RTD(\"cqg.rtd\",,\"ContractData\",A35, \"LongDescription\"),15)","v":" Oct 23, Nov 23"},{"$f":"RTD(\"cqg.rtd\", ,\"ContractData\",A35, \"Open\",,\"T\")","v":-0.125},{"$f":"RTD(\"cqg.rtd\", ,\"ContractData\",A35, \"High\",,\"T\")","v":-0.115},{"$f":"RTD(\"cqg.rtd\", ,\"ContractData\",A35, \"Low\",,\"T\")","v":-0.15},{"$f":"RTD(\"cqg.rtd\", ,\"ContractData\",A35, \"LastTradeorSettle\",,\"T\")","v":-0.14000000000000001},{"$f":"RTD(\"cqg.rtd\",,\"ContractData\",A35,\"NetLastTradeToday\",,\"T\")","v":-5.0000000000000001E-3},{"$f":"RTD(\"cqg.rtd\",,\"ContractData\",A35,\"NetLastTradeToday\",,\"T\")","v":-5.0000000000000001E-3},{"$f":"RTD(\"cqg.rtd\", ,\"ContractData\",A35, \"T_CVol\")","v":1096}]
[{"$f":"ZQE!U42","v":"ZQES1?9"},{"$f":"RIGHT(RTD(\"cqg.rtd\",,\"ContractData\",A36, \"LongDescription\"),15)","v":" Nov 23, Dec 23"},{"$f":"RTD(\"cqg.rtd\", ,\"ContractData\",A36, \"Open\",,\"T\")","v":-0.05},{"$f":"RTD(\"cqg.rtd\", ,\"ContractData\",A36, \"High\",,\"T\")","v":-0.05},{"$f":"RTD(\"cqg.rtd\", ,\"ContractData\",A36, \"Low\",,\"T\")","v":-0.06},{"$f":"RTD(\"cqg.rtd\", ,\"ContractData\",A36, \"LastTradeorSettle\",,\"T\")","v":-5.5E-2},{"$f":"RTD(\"cqg.rtd\",,\"ContractData\",A36,\"NetLastTradeToday\",,\"T\")","v":-5.0000000000000001E-3},{"$f":"RTD(\"cqg.rtd\",,\"ContractData\",A36,\"NetLastTradeToday\",,\"T\")","v":-5.0000000000000001E-3},{"$f":"RTD(\"cqg.rtd\", ,\"ContractData\",A36, \"T_CVol\")","v":84}]
[{"$f":"ZQE!U43","v":"ZQES1?10"},{"$f":"RIGHT(RTD(\"cqg.rtd\",,\"ContractData\",A37, \"LongDescription\"),15)","v":" Dec 23, Jan 24"},{"$f":"RTD(\"cqg.rtd\", ,\"ContractData\",A37, \"Open\",,\"T\")","v":-0.05},{"$f":"RTD(\"cqg.rtd\", ,\"ContractData\",A37, \"High\",,\"T\")","v":-0.04},{"$f":"RTD(\"cqg.rtd\", ,\"ContractData\",A37, \"Low\",,\"T\")","v":-0.06},{"$f":"RTD(\"cqg.rtd\", ,\"ContractData\",A37, \"LastTradeorSettle\",,\"T\")","v":-5.5E-2},{"$f":"RTD(\"cqg.rtd\",,\"ContractData\",A37,\"NetLastTradeToday\",,\"T\")","v":0},{"$f":"RTD(\"cqg.rtd\",,\"ContractData\",A37,\"NetLastTradeToday\",,\"T\")","v":0},{"$f":"RTD(\"cqg.rtd\", ,\"ContractData\",A37, \"T_CVol\")","v":627}]
[{"$f":"ZQE!U44","v":"ZQES1?11"},{"$f":"RIGHT(RTD(\"cqg.rtd\",,\"ContractData\",A38, \"LongDescription\"),15)","v":" Jan 24, Feb 24"},{"$f":"RTD(\"cqg.rtd\", ,\"ContractData\",A38, \"Open\",,\"T\")","v":-9.5000000000000001E-2},{"$f":"RTD(\"cqg.rtd\", ,\"ContractData\",A38, \"High\",,\"T\")","v":-7.4999999999999997E-2},{"$f":"RTD(\"cqg.rtd\", ,\"ContractData\",A38, \"Low\",,\"T\")","v":-0.11},{"$f":"RTD(\"cqg.rtd\", ,\"ContractData\",A38, \"LastTradeorSettle\",,\"T\")","v":-0.09},{"$f":"RTD(\"cqg.rtd\",,\"ContractData\",A38,\"NetLastTradeToday\",,\"T\")","v":1.4999999999999999E-2},{"$f":"RTD(\"cqg.rtd\",,\"ContractData\",A38,\"NetLastTradeToday\",,\"T\")","v":1.4999999999999999E-2},{"$f":"RTD(\"cqg.rtd\", ,\"ContractData\",A38, \"T_CVol\")","v":1403}]
[{"$f":"ZQE!U45","v":"ZQES1?12"},{"$f":"RIGHT(RTD(\"cqg.rtd\",,\"ContractData\",A39, \"LongDescription\"),15)","v":" Feb 24, Mar 24"},{"$f":"RTD(\"cqg.rtd\", ,\"ContractData\",A39, \"Open\",,\"T\")","v":-3.5000000000000003E-2},{"$f":"RTD(\"cqg.rtd\", ,\"ContractData\",A39, \"High\",,\"T\")","v":-3.5000000000000003E-2},{"$f":"RTD(\"cqg.rtd\", ,\"ContractData\",A39, \"Low\",,\"T\")","v":-0.05},{"$f":"RTD(\"cqg.rtd\", ,\"ContractData\",A39, \"LastTradeorSettle\",,\"T\")","v":-3.5000000000000003E-2},{"$f":"RTD(\"cqg.rtd\",,\"ContractData\",A39,\"NetLastTradeToday\",,\"T\")","v":5.0000000000000001E-3},{"$f":"RTD(\"cqg.rtd\",,\"ContractData\",A39,\"NetLastTradeToday\",,\"T\")","v":5.0000000000000001E-3},{"$f":"RTD(\"cqg.rtd\", ,\"ContractData\",A39, \"T_CVol\")","v":22}]
[{"$f":"ZQE!U46","v":"ZQES1?13"},{"$f":"RIGHT(RTD(\"cqg.rtd\",,\"ContractData\",A40, \"LongDescription\"),15)","v":" Mar 24, Apr 24"},{"$f":"RTD(\"cqg.rtd\", ,\"ContractData\",A40, \"Open\",,\"T\")","v":-7.4999999999999997E-2},{"$f":"RTD(\"cqg.rtd\", ,\"ContractData\",A40, \"High\",,\"T\")","v":-7.0000000000000007E-2},{"$f":"RTD(\"cqg.rtd\", ,\"ContractData\",A40, \"Low\",,\"T\")","v":-0.08},{"$f":"RTD(\"cqg.rtd\", ,\"ContractData\",A40, \"LastTradeorSettle\",,\"T\")","v":-0.08},{"$f":"RTD(\"cqg.rtd\",,\"ContractData\",A40,\"NetLastTradeToday\",,\"T\")","v":0.01},{"$f":"RTD(\"cqg.rtd\",,\"ContractData\",A40,\"NetLastTradeToday\",,\"T\")","v":0.01},{"$f":"RTD(\"cqg.rtd\", ,\"ContractData\",A40, \"T_CVol\")","v":7}]
[null,"Calendar Spread:",null,"2-Month",null,null,{"$f":"ZQE!AF28","v":0.4},{"$f":"ZQE!AG28","v":-0.5}]
[null,{"$f":"D41&\" Calendar Spreads\"","v":"2-Month Calendar Spreads"},null,null,null,null,null,null,null,null,{"$f":"RIGHT(RTD(\"cqg.rtd\",,\"ContractData\",ZQE!AF35, \"LongDescription\"),15)","v":" Apr 23, Jun 23"},{"$f":"RIGHT(RTD(\"cqg.rtd\",,\"ContractData\",ZQE!AF36, \"LongDescription\"),15)","v":" May 23, Jul 23"},{"$f":"RIGHT(RTD(\"cqg.rtd\",,\"ContractData\",ZQE!AF37, \"LongDescription\"),15)","v":" Jun 23, Aug 23"},{"$f":"RIGHT(RTD(\"cqg.rtd\",,\"ContractData\",ZQE!AF38, \"LongDescription\"),15)","v":" Jul 23, Sep 23"},{"$f":"RIGHT(RTD(\"cqg.rtd\",,\"ContractData\",ZQE!AF39, \"LongDescription\"),15)","v":" Aug 23, Oct 23"},{"$f":"RIGHT(RTD(\"cqg.rtd\",,\"ContractData\",ZQE!AF40, \"LongDescription\"),15)","v":" Sep 23, Nov 23"},{"$f":"RIGHT(RTD(\"cqg.rtd\",,\"ContractData\",ZQE!AF41, \"LongDescription\"),15)","v":" Oct 23, Dec 23"},{"$f":"RIGHT(RTD(\"cqg.rtd\",,\"ContractData\",ZQE!AF42, \"LongDescription\"),15)","v":" Nov 23, Jan 24"},{"$f":"RIGHT(RTD(\"cqg.rtd\",,\"ContractData\",ZQE!AF43, \"LongDescription\"),15)","v":" Dec 23, Feb 24"},{"$f":"RIGHT(RTD(\"cqg.rtd\",,\"ContractData\",ZQE!AF44, \"LongDescription\"),15)","v":" Jan 24, Mar 24"},{"$f":"RIGHT(RTD(\"cqg.rtd\",,\"ContractData\",ZQE!AF45, \"LongDescription\"),15)","v":" Feb 24, Apr 24"},{"$f":"RIGHT(RTD(\"cqg.rtd\",,\"ContractData\",ZQE!AF46, \"LongDescription\"),15)","v":" Mar 24, May 24"},{"$f":"RIGHT(RTD(\"cqg.rtd\",,\"ContractData\",ZQE!AF47, \"LongDescription\"),15)","v":" Apr 24, Jun 24"},{"$f":"RIGHT(RTD(\"cqg.rtd\",,\"ContractData\",ZQE!AF48, \"LongDescription\"),15)","v":" May 24, Jul 24"},{"$f":"RIGHT(RTD(\"cqg.rtd\",,\"ContractData\",ZQE!AF49, \"LongDescription\"),15)","v":" Jun 24, Aug 24"},{"$f":"RIGHT(RTD(\"cqg.rtd\",,\"ContractData\",ZQE!AF50, \"LongDescription\"),15)","v":" Jul 24, Sep 24"},{"$f":"RIGHT(RTD(\"cqg.rtd\",,\"ContractData\",ZQE!AF51, \"LongDescription\"),15)","v":" Aug 24, Oct 24"},{"$f":"RIGHT(RTD(\"cqg.rtd\",,\"ContractData\",ZQE!AF52, \"LongDescription\"),15)","v":" Sep 24, Nov 24"},{"$f":"IF(LEFT(RTD(\"cqg.rtd\", ,\"ContractData\", ZQE!AF53,\"LongDescription\",,\"T\"),3)=\"768\",\"\",RIGHT(RTD(\"cqg.rtd\",,\"ContractData\",ZQE!AF53, \"LongDescription\"),15))","v":" Oct 24, Dec 24"},{"$f":"IF(LEFT(RTD(\"cqg.rtd\", ,\"ContractData\", ZQE!AF54,\"LongDescription\",,\"T\"),3)=\"768\",\"\",RIGHT(RTD(\"cqg.rtd\",,\"ContractData\",ZQE!AF54, \"LongDescription\"),15))","v":" Nov 24, Jan 25"}]
[null,null,null,null,null,null,null,null,null,null,{"$f":"IF(RTD(\"cqg.rtd\",,\"ContractData\",ZQE!AF35, \"Ask\")=\"\",\"\",TEXT(RTD(\"cqg.rtd\",,\"ContractData\",ZQE!AF35, \"Ask\"),\"#.000\")&\" \"&\"A\")","v":".010 A"},{"$f":"IF(RTD(\"cqg.rtd\",,\"ContractData\",ZQE!AF36, \"Ask\")=\"\",\"\",TEXT(RTD(\"cqg.rtd\",,\"ContractData\",ZQE!AF36, \"Ask\"),\"#.000\")&\" \"&\"A\")","v":"-.195 A"},{"$f":"IF(RTD(\"cqg.rtd\",,\"ContractData\",ZQE!AF37, \"Ask\")=\"\",\"\",TEXT(RTD(\"cqg.rtd\",,\"ContractData\",ZQE!AF37, \"Ask\"),\"#.000\")&\" \"&\"A\")","v":"-.360 A"},{"$f":"IF(RTD(\"cqg.rtd\",,\"ContractData\",ZQE!AF38, \"Ask\")=\"\",\"\",TEXT(RTD(\"cqg.rtd\",,\"ContractData\",ZQE!AF38, \"Ask\"),\"#.000\")&\" \"&\"A\")","v":"-.295 A"},{"$f":"IF(RTD(\"cqg.rtd\",,\"ContractData\",ZQE!AF39, \"Ask\")=\"\",\"\",TEXT(RTD(\"cqg.rtd\",,\"ContractData\",ZQE!AF39, \"Ask\"),\"#.000\")&\" \"&\"A\")","v":"-.185 A"},{"$f":"IF(RTD(\"cqg.rtd\",,\"ContractData\",ZQE!AF40, \"Ask\")=\"\",\"\",TEXT(RTD(\"cqg.rtd\",,\"ContractData\",ZQE!AF40, \"Ask\"),\"#.000\")&\" \"&\"A\")","v":"-.255 A"},{"$f":"IF(RTD(\"cqg.rtd\",,\"ContractData\",ZQE!AF41, \"Ask\")=\"\",\"\",TEXT(RTD(\"cqg.rtd\",,\"ContractData\",ZQE!AF41, \"Ask\"),\"#.000\")&\" \"&\"A\")","v":"-.190 A"},{"$f":"IF(RTD(\"cqg.rtd\",,\"ContractData\",ZQE!AF42, \"Ask\")=\"\",\"\",TEXT(RTD(\"cqg.rtd\",,\"ContractData\",ZQE!AF42, \"Ask\"),\"#.000\")&\" \"&\"A\")","v":"-.105 A"},{"$f":"IF(RTD(\"cqg.rtd\",,\"ContractData\",ZQE!AF43, \"Ask\")=\"\",\"\",TEXT(RTD(\"cqg.rtd\",,\"ContractData\",ZQE!AF43, \"Ask\"),\"#.000\")&\" \"&\"A\")","v":"-.140 A"},{"$f":"IF(RTD(\"cqg.rtd\",,\"ContractData\",ZQE!AF44, \"Ask\")=\"\",\"\",TEXT(RTD(\"cqg.rtd\",,\"ContractData\",ZQE!AF44, \"Ask\"),\"#.000\")&\" \"&\"A\")","v":"-.130 A"},{"$f":"IF(RTD(\"cqg.rtd\",,\"ContractData\",ZQE!AF45, \"Ask\")=\"\",\"\",TEXT(RTD(\"cqg.rtd\",,\"ContractData\",ZQE!AF45, \"Ask\"),\"#.000\")&\" \"&\"A\")","v":"-.120 A"},{"$f":"IF(RTD(\"cqg.rtd\",,\"ContractData\",ZQE!AF46, \"Ask\")=\"\",\"\",TEXT(RTD(\"cqg.rtd\",,\"ContractData\",ZQE!AF46, \"Ask\"),\"#.000\")&\" \"&\"A\")","v":"-.225 A"},{"$f":"IF(RTD(\"cqg.rtd\",,\"ContractData\",ZQE!AF47, \"Ask\")=\"\",\"\",TEXT(RTD(\"cqg.rtd\",,\"ContractData\",ZQE!AF47, \"Ask\"),\"#.000\")&\" \"&\"A\")","v":"-.225 A"},{"$f":"IF(RTD(\"cqg.rtd\",,\"ContractData\",ZQE!AF48, \"Ask\")=\"\",\"\",TEXT(RTD(\"cqg.rtd\",,\"ContractData\",ZQE!AF48, \"Ask\"),\"#.000\")&\" \"&\"A\")","v":"-.135 A"},{"$f":"IF(RTD(\"cqg.rtd\",,\"ContractData\",ZQE!AF49, \"Ask\")=\"\",\"\",TEXT(RTD(\"cqg.rtd\",,\"ContractData\",ZQE!AF49, \"Ask\"),\"#.000\")&\" \"&\"A\")","v":""},{"$f":"IF(RTD(\"cqg.rtd\",,\"ContractData\",ZQE!AF50, \"Ask\")=\"\",\"\",TEXT(RTD(\"cqg.rtd\",,\"ContractData\",ZQE!AF50, \"Ask\"),\"#.000\")&\" \"&\"A\")","v":".400 A"},{"$f":"IF(RTD(\"cqg.rtd\",,\"ContractData\",ZQE!AF51, \"Ask\")=\"\",\"\",TEXT(RTD(\"cqg.rtd\",,\"ContractData\",ZQE!AF51, \"Ask\"),\"#.000\")&\" \"&\"A\")","v":".200 A"},{"$f":"IF(RTD(\"cqg.rtd\",,\"ContractData\",ZQE!AF52, \"Ask\")=\"\",\"\",TEXT(RTD(\"cqg.rtd\",,\"ContractData\",ZQE!AF52, \"Ask\"),\"#.000\")&\" \"&\"A\")","v":".400 A"},{"$f":"IF(LEFT(RTD(\"cqg.rtd\",,\"ContractData\",ZQE!AF53,\"Ask\"),3)=\"768\",\"\",IF(RTD(\"cqg.rtd\",,\"ContractData\",ZQE!AF53,\"Ask\")=\"\",\"\",TEXT(RTD(\"cqg.rtd\",,\"ContractData\",ZQE!AF53,\"Ask\"),\"#.000\")&\" \"&\"A\"))","v":""},{"$f":"IF(LEFT(RTD(\"cqg.rtd\",,\"ContractData\",ZQE!AF54,\"Ask\"),3)=\"768\",\"\",IF(RTD(\"cqg.rtd\",,\"ContractData\",ZQE!AF54,\"Ask\")=\"\",\"\",TEXT(RTD(\"cqg.rtd\",,\"ContractData\",ZQE!AF54,\"Ask\"),\"#.000\")&\" \"&\"A\"))","v":""}]
[null,"Symbols","Open","High","Low","Last","Net","Net","Volume",null,{"$f":"IF(RTD(\"cqg.rtd\",,\"ContractData\",ZQE!AF35, \"Bid\")=\"\",\"\",TEXT(RTD(\"cqg.rtd\",,\"ContractData\",ZQE!AF35, \"Bid\"),\"#.000\")&\" \"&\"B\")","v":".005 B"},{"$f":"IF(RTD(\"cqg.rtd\",,\"ContractData\",ZQE!AF36, \"Bid\")=\"\",\"\",TEXT(RTD(\"cqg.rtd\",,\"ContractData\",ZQE!AF36, \"Bid\"),\"#.000\")&\" \"&\"B\")","v":"-.205 B"},{"$f":"IF(RTD(\"cqg.rtd\",,\"ContractData\",ZQE!AF37, \"Bid\")=\"\",\"\",TEXT(RTD(\"cqg.rtd\",,\"ContractData\",ZQE!AF37, \"Bid\"),\"#.000\")&\" \"&\"B\")","v":"-.365 B"},{"$f":"IF(RTD(\"cqg.rtd\",,\"ContractData\",ZQE!AF38, \"Bid\")=\"\",\"\",TEXT(RTD(\"cqg.rtd\",,\"ContractData\",ZQE!AF38, \"Bid\"),\"#.000\")&\" \"&\"B\")","v":"-.305 B"},{"$f":"IF(RTD(\"cqg.rtd\",,\"ContractData\",ZQE!AF39, \"Bid\")=\"\",\"\",TEXT(RTD(\"cqg.rtd\",,\"ContractData\",ZQE!AF39, \"Bid\"),\"#.000\")&\" \"&\"B\")","v":"-.190 B"},{"$f":"IF(RTD(\"cqg.rtd\",,\"ContractData\",ZQE!AF40, \"Bid\")=\"\",\"\",TEXT(RTD(\"cqg.rtd\",,\"ContractData\",ZQE!AF40, \"Bid\"),\"#.000\")&\" \"&\"B\")","v":"-.265 B"},{"$f":"IF(RTD(\"cqg.rtd\",,\"ContractData\",ZQE!AF41, \"Bid\")=\"\",\"\",TEXT(RTD(\"cqg.rtd\",,\"ContractData\",ZQE!AF41, \"Bid\"),\"#.000\")&\" \"&\"B\")","v":"-.200 B"},{"$f":"IF(RTD(\"cqg.rtd\",,\"ContractData\",ZQE!AF42, \"Bid\")=\"\",\"\",TEXT(RTD(\"cqg.rtd\",,\"ContractData\",ZQE!AF42, \"Bid\"),\"#.000\")&\" \"&\"B\")","v":"-.115 B"},{"$f":"IF(RTD(\"cqg.rtd\",,\"ContractData\",ZQE!AF43, \"Bid\")=\"\",\"\",TEXT(RTD(\"cqg.rtd\",,\"ContractData\",ZQE!AF43, \"Bid\"),\"#.000\")&\" \"&\"B\")","v":"-.150 B"},{"$f":"IF(RTD(\"cqg.rtd\",,\"ContractData\",ZQE!AF44, \"Bid\")=\"\",\"\",TEXT(RTD(\"cqg.rtd\",,\"ContractData\",ZQE!AF44, \"Bid\"),\"#.000\")&\" \"&\"B\")","v":"-.140 B"},{"$f":"IF(RTD(\"cqg.rtd\",,\"ContractData\",ZQE!AF45, \"Bid\")=\"\",\"\",TEXT(RTD(\"cqg.rtd\",,\"ContractData\",ZQE!AF45, \"Bid\"),\"#.000\")&\" \"&\"B\")","v":"-.130 B"},{"$f":"IF(RTD(\"cqg.rtd\",,\"ContractData\",ZQE!AF46, \"Bid\")=\"\",\"\",TEXT(RTD(\"cqg.rtd\",,\"ContractData\",ZQE!AF46, \"Bid\"),\"#.000\")&\" \"&\"B\")","v":"-.245 B"},{"$f":"IF(RTD(\"cqg.rtd\",,\"ContractData\",ZQE!AF47, \"Bid\")=\"\",\"\",TEXT(RTD(\"cqg.rtd\",,\"ContractData\",ZQE!AF47, \"Bid\"),\"#.000\")&\" \"&\"B\")","v":"-.245 B"},{"$f":"IF(RTD(\"cqg.rtd\",,\"ContractData\",ZQE!AF48, \"Bid\")=\"\",\"\",TEXT(RTD(\"cqg.rtd\",,\"ContractData\",ZQE!AF48, \"Bid\"),\"#.000\")&\" \"&\"B\")","v":"-.145 B"},{"$f":"IF(RTD(\"cqg.rtd\",,\"ContractData\",ZQE!AF49, \"Bid\")=\"\",\"\",TEXT(RTD(\"cqg.rtd\",,\"ContractData\",ZQE!AF49, \"Bid\"),\"#.000\")&\" \"&\"B\")","v":""},{"$f":"IF(RTD(\"cqg.rtd\",,\"ContractData\",ZQE!AF50, \"Bid\")=\"\",\"\",TEXT(RTD(\"cqg.rtd\",,\"ContractData\",ZQE!AF50, \"Bid\"),\"#.000\")&\" \"&\"B\")","v":"-.405 B"},{"$f":"IF(RTD(\"cqg.rtd\",,\"ContractData\",ZQE!AF51, \"Bid\")=\"\",\"\",TEXT(RTD(\"cqg.rtd\",,\"ContractData\",ZQE!AF51, \"Bid\"),\"#.000\")&\" \"&\"B\")","v":"-.550 B"},{"$f":"IF(RTD(\"cqg.rtd\",,\"ContractData\",ZQE!AF52, \"Bid\")=\"\",\"\",TEXT(RTD(\"cqg.rtd\",,\"ContractData\",ZQE!AF52, \"Bid\"),\"#.000\")&\" \"&\"B\")","v":""},{"$f":"IF(LEFT(RTD(\"cqg.rtd\",,\"ContractData\",ZQE!AF53,\"Bid\"),3)=\"768\",\"\",IF(RTD(\"cqg.rtd\",,\"ContractData\",ZQE!AF53,\"Bid\")=\"\",\"\",TEXT(RTD(\"cqg.rtd\",,\"ContractData\",ZQE!AF53,\"Bid\"),\"#.000\")&\" \"&\"B\"))","v":"-.655 B"},{"$f":"IF(LEFT(RTD(\"cqg.rtd\",,\"ContractData\",ZQE!AF54,\"Bid\"),3)=\"768\",\"\",IF(RTD(\"cqg.rtd\",,\"ContractData\",ZQE!AF54,\"Bid\")=\"\",\"\",TEXT(RTD(\"cqg.rtd\",,\"ContractData\",ZQE!AF54,\"Bid\"),\"#.000\")&\" \"&\"B\"))","v":"-.900 B"}]
[{"$f":"RTD(\"cqg.rtd\",,\"ContractData\",ZQE!AF35, \"Symbol\")","v":"ZQES2J23"},{"$f":"RIGHT(RTD(\"cqg.rtd\",,\"ContractData\",A45, \"LongDescription\"),15)","v":" Apr 23, Jun 23"},{"$f":"RTD(\"cqg.rtd\", ,\"ContractData\",A45, \"Open\",,\"T\")","v":0.115},{"$f":"RTD(\"cqg.rtd\", ,\"ContractData\",A45, \"High\",,\"T\")","v":0.14000000000000001},{"$f":"RTD(\"cqg.rtd\", ,\"ContractData\",A45, \"Low\",,\"T\")","v":-5.0000000000000001E-3},{"$f":"RTD(\"cqg.rtd\", ,\"ContractData\",A45, \"LastTradeorSettle\",,\"T\")","v":5.0000000000000001E-3},{"$f":"RTD(\"cqg.rtd\",,\"ContractData\",A45,\"NetLastTradeToday\",,\"T\")","v":-0.11},{"$f":"RTD(\"cqg.rtd\",,\"ContractData\",A45,\"NetLastTradeToday\",,\"T\")","v":-0.11},{"$f":"RTD(\"cqg.rtd\", ,\"ContractData\",A45, \"T_CVol\")","v":968},null,{"$f":"IF(RTD(\"cqg.rtd\", ,\"ContractData\",ZQE!AF35,\"LastTradeorSettle\",,\"T\")=\"\",\"\",TEXT(RTD(\"cqg.rtd\", ,\"ContractData\",ZQE!AF35,\"LastTradeorSettle\",,\"T\"),\"#.000\")&\" \"&\"L\")","v":".005 L"},{"$f":"IF(RTD(\"cqg.rtd\", ,\"ContractData\",ZQE!AF36,\"LastTradeorSettle\",,\"T\")=\"\",\"\",TEXT(RTD(\"cqg.rtd\", ,\"ContractData\",ZQE!AF36,\"LastTradeorSettle\",,\"T\"),\"#.000\")&\" \"&\"L\")","v":"-.200 L"},{"$f":"IF(RTD(\"cqg.rtd\", ,\"ContractData\",ZQE!AF37,\"LastTradeorSettle\",,\"T\")=\"\",\"\",TEXT(RTD(\"cqg.rtd\", ,\"ContractData\",ZQE!AF37,\"LastTradeorSettle\",,\"T\"),\"#.000\")&\" \"&\"L\")","v":"-.360 L"},{"$f":"IF(RTD(\"cqg.rtd\", ,\"ContractData\",ZQE!AF38,\"LastTradeorSettle\",,\"T\")=\"\",\"\",TEXT(RTD(\"cqg.rtd\", ,\"ContractData\",ZQE!AF38,\"LastTradeorSettle\",,\"T\"),\"#.000\")&\" \"&\"L\")","v":"-.305 L"},{"$f":"IF(RTD(\"cqg.rtd\", ,\"ContractData\",ZQE!AF39,\"LastTradeorSettle\",,\"T\")=\"\",\"\",TEXT(RTD(\"cqg.rtd\", ,\"ContractData\",ZQE!AF39,\"LastTradeorSettle\",,\"T\"),\"#.000\")&\" \"&\"L\")","v":"-.190 L"},{"$f":"IF(RTD(\"cqg.rtd\", ,\"ContractData\",ZQE!AF40,\"LastTradeorSettle\",,\"T\")=\"\",\"\",TEXT(RTD(\"cqg.rtd\", ,\"ContractData\",ZQE!AF40,\"LastTradeorSettle\",,\"T\"),\"#.000\")&\" \"&\"L\")","v":"-.270 L"},{"$f":"IF(RTD(\"cqg.rtd\", ,\"ContractData\",ZQE!AF41,\"LastTradeorSettle\",,\"T\")=\"\",\"\",TEXT(RTD(\"cqg.rtd\", ,\"ContractData\",ZQE!AF41,\"LastTradeorSettle\",,\"T\"),\"#.000\")&\" \"&\"L\")","v":"-.195 L"},{"$f":"IF(RTD(\"cqg.rtd\", ,\"ContractData\",ZQE!AF42,\"LastTradeorSettle\",,\"T\")=\"\",\"\",TEXT(RTD(\"cqg.rtd\", ,\"ContractData\",ZQE!AF42,\"LastTradeorSettle\",,\"T\"),\"#.000\")&\" \"&\"L\")","v":"-.110 L"},{"$f":"IF(RTD(\"cqg.rtd\", ,\"ContractData\",ZQE!AF43,\"LastTradeorSettle\",,\"T\")=\"\",\"\",TEXT(RTD(\"cqg.rtd\", ,\"ContractData\",ZQE!AF43,\"LastTradeorSettle\",,\"T\"),\"#.000\")&\" \"&\"L\")","v":"-.135 L"},{"$f":"IF(RTD(\"cqg.rtd\", ,\"ContractData\",ZQE!AF44,\"LastTradeorSettle\",,\"T\")=\"\",\"\",TEXT(RTD(\"cqg.rtd\", ,\"ContractData\",ZQE!AF44,\"LastTradeorSettle\",,\"T\"),\"#.000\")&\" \"&\"L\")","v":"-.115 L"},{"$f":"IF(RTD(\"cqg.rtd\", ,\"ContractData\",ZQE!AF45,\"LastTradeorSettle\",,\"T\")=\"\",\"\",TEXT(RTD(\"cqg.rtd\", ,\"ContractData\",ZQE!AF45,\"LastTradeorSettle\",,\"T\"),\"#.000\")&\" \"&\"L\")","v":"-.125 L"},{"$f":"IF(RTD(\"cqg.rtd\", ,\"ContractData\",ZQE!AF46,\"LastTradeorSettle\",,\"T\")=\"\",\"\",TEXT(RTD(\"cqg.rtd\", ,\"ContractData\",ZQE!AF46,\"LastTradeorSettle\",,\"T\"),\"#.000\")&\" \"&\"L\")","v":"-.215 L"},{"$f":"IF(RTD(\"cqg.rtd\", ,\"ContractData\",ZQE!AF47,\"LastTradeorSettle\",,\"T\")=\"\",\"\",TEXT(RTD(\"cqg.rtd\", ,\"ContractData\",ZQE!AF47,\"LastTradeorSettle\",,\"T\"),\"#.000\")&\" \"&\"L\")","v":""},{"$f":"IF(RTD(\"cqg.rtd\", ,\"ContractData\",ZQE!AF48,\"LastTradeorSettle\",,\"T\")=\"\",\"\",TEXT(RTD(\"cqg.rtd\", ,\"ContractData\",ZQE!AF48,\"LastTradeorSettle\",,\"T\"),\"#.000\")&\" \"&\"L\")","v":"-.140 L"},{"$f":"IF(RTD(\"cqg.rtd\", ,\"ContractData\",ZQE!AF49,\"LastTradeorSettle\",,\"T\")=\"\",\"\",TEXT(RTD(\"cqg.rtd\", ,\"ContractData\",ZQE!AF49,\"LastTradeorSettle\",,\"T\"),\"#.000\")&\" \"&\"L\")","v":""},{"$f":"IF(RTD(\"cqg.rtd\", ,\"ContractData\",ZQE!AF50,\"LastTradeorSettle\",,\"T\")=\"\",\"\",TEXT(RTD(\"cqg.rtd\", ,\"ContractData\",ZQE!AF50,\"LastTradeorSettle\",,\"T\"),\"#.000\")&\" \"&\"L\")","v":""},{"$f":"IF(RTD(\"cqg.rtd\", ,\"ContractData\",ZQE!AF51,\"LastTradeorSettle\",,\"T\")=\"\",\"\",TEXT(RTD(\"cqg.rtd\", ,\"ContractData\",ZQE!AF51,\"LastTradeorSettle\",,\"T\"),\"#.000\")&\" \"&\"L\")","v":""},{"$f":"IF(LEFT(RTD(\"cqg.rtd\",,\"ContractData\",ZQE!AF52,\"LastTradeorSettle\"),3)=\"768\",\"\",IF(RTD(\"cqg.rtd\",,\"ContractData\",ZQE!AF52,\"LastTradeorSettle\")=\"\",\"\",TEXT(RTD(\"cqg.rtd\",,\"ContractData\",ZQE!AF52,\"LastTradeorSettle\"),\"#.000\")&\" \"&\"L\"))","v":""},{"$f":"IF(LEFT(RTD(\"cqg.rtd\",,\"ContractData\",ZQE!AF53,\"LastTradeorSettle\"),3)=\"768\",\"\",IF(RTD(\"cqg.rtd\",,\"ContractData\",ZQE!AF53,\"LastTradeorSettle\")=\"\",\"\",TEXT(RTD(\"cqg.rtd\",,\"ContractData\",ZQE!AF53,\"LastTradeorSettle\"),\"#.000\")&\" \"&\"L\"))","v":""},{"$f":"IF(LEFT(RTD(\"cqg.rtd\",,\"ContractData\",ZQE!AF53,\"LastTradeorSettle\"),3)=\"768\",\"\",IF(RTD(\"cqg.rtd\",,\"ContractData\",ZQE!AF53,\"LastTradeorSettle\")=\"\",\"\",TEXT(RTD(\"cqg.rtd\",,\"ContractData\",ZQE!AF53,\"LastTradeorSettle\"),\"#.000\")&\" \"&\"L\"))","v":""}]
[{"$f":"RTD(\"cqg.rtd\",,\"ContractData\",ZQE!AF36, \"Symbol\")","v":"ZQES2K23"},{"$f":"RIGHT(RTD(\"cqg.rtd\",,\"ContractData\",A46, \"LongDescription\"),15)","v":" May 23, Jul 23"},{"$f":"RTD(\"cqg.rtd\", ,\"ContractData\",A46, \"Open\",,\"T\")","v":-0.13},{"$f":"RTD(\"cqg.rtd\", ,\"ContractData\",A46, \"High\",,\"T\")","v":-9.5000000000000001E-2},{"$f":"RTD(\"cqg.rtd\", ,\"ContractData\",A46, \"Low\",,\"T\")","v":-0.22},{"$f":"RTD(\"cqg.rtd\", ,\"ContractData\",A46, \"LastTradeorSettle\",,\"T\")","v":-0.2},{"$f":"RTD(\"cqg.rtd\",,\"ContractData\",A46,\"NetLastTradeToday\",,\"T\")","v":-0.08},{"$f":"RTD(\"cqg.rtd\",,\"ContractData\",A46,\"NetLastTradeToday\",,\"T\")","v":-0.08},{"$f":"RTD(\"cqg.rtd\", ,\"ContractData\",A46, \"T_CVol\")","v":15060}]
[{"$f":"RTD(\"cqg.rtd\",,\"ContractData\",ZQE!AF37, \"Symbol\")","v":"ZQES2M23"},{"$f":"RIGHT(RTD(\"cqg.rtd\",,\"ContractData\",A47, \"LongDescription\"),15)","v":" Jun 23, Aug 23"},{"$f":"RTD(\"cqg.rtd\", ,\"ContractData\",A47, \"Open\",,\"T\")","v":-0.28999999999999998},{"$f":"RTD(\"cqg.rtd\", ,\"ContractData\",A47, \"High\",,\"T\")","v":-0.28000000000000003},{"$f":"RTD(\"cqg.rtd\", ,\"ContractData\",A47, \"Low\",,\"T\")","v":-0.39},{"$f":"RTD(\"cqg.rtd\", ,\"ContractData\",A47, \"LastTradeorSettle\",,\"T\")","v":-0.36},{"$f":"RTD(\"cqg.rtd\",,\"ContractData\",A47,\"NetLastTradeToday\",,\"T\")","v":-6.5000000000000002E-2},{"$f":"RTD(\"cqg.rtd\",,\"ContractData\",A47,\"NetLastTradeToday\",,\"T\")","v":-6.5000000000000002E-2},{"$f":"RTD(\"cqg.rtd\", ,\"ContractData\",A47, \"T_CVol\")","v":1012}]
[{"$f":"RTD(\"cqg.rtd\",,\"ContractData\",ZQE!AF38, \"Symbol\")","v":"ZQES2N23"},{"$f":"RIGHT(RTD(\"cqg.rtd\",,\"ContractData\",A48, \"LongDescription\"),15)","v":" Jul 23, Sep 23"},{"$f":"RTD(\"cqg.rtd\", ,\"ContractData\",A48, \"Open\",,\"T\")","v":-0.23500000000000001},{"$f":"RTD(\"cqg.rtd\", ,\"ContractData\",A48, \"High\",,\"T\")","v":-0.23500000000000001},{"$f":"RTD(\"cqg.rtd\", ,\"ContractData\",A48, \"Low\",,\"T\")","v":-0.32},{"$f":"RTD(\"cqg.rtd\", ,\"ContractData\",A48, \"LastTradeorSettle\",,\"T\")","v":-0.30499999999999999},{"$f":"RTD(\"cqg.rtd\",,\"ContractData\",A48,\"NetLastTradeToday\",,\"T\")","v":-0.03},{"$f":"RTD(\"cqg.rtd\",,\"ContractData\",A48,\"NetLastTradeToday\",,\"T\")","v":-0.03},{"$f":"RTD(\"cqg.rtd\", ,\"ContractData\",A48, \"T_CVol\")","v":78}]
[{"$f":"RTD(\"cqg.rtd\",,\"ContractData\",ZQE!AF39, \"Symbol\")","v":"ZQES2Q23"},{"$f":"RIGHT(RTD(\"cqg.rtd\",,\"ContractData\",A49, \"LongDescription\"),15)","v":" Aug 23, Oct 23"},{"$f":"RTD(\"cqg.rtd\", ,\"ContractData\",A49, \"Open\",,\"T\")","v":-0.155},{"$f":"RTD(\"cqg.rtd\", ,\"ContractData\",A49, \"High\",,\"T\")","v":-0.15},{"$f":"RTD(\"cqg.rtd\", ,\"ContractData\",A49, \"Low\",,\"T\")","v":-0.20500000000000002},{"$f":"RTD(\"cqg.rtd\", ,\"ContractData\",A49, \"LastTradeorSettle\",,\"T\")","v":-0.19},{"$f":"RTD(\"cqg.rtd\",,\"ContractData\",A49,\"NetLastTradeToday\",,\"T\")","v":0},{"$f":"RTD(\"cqg.rtd\",,\"ContractData\",A49,\"NetLastTradeToday\",,\"T\")","v":0},{"$f":"RTD(\"cqg.rtd\", ,\"ContractData\",A49, \"T_CVol\")","v":4727}]
[{"$f":"RTD(\"cqg.rtd\",,\"ContractData\",ZQE!AF40, \"Symbol\")","v":"ZQES2U23"},{"$f":"RIGHT(RTD(\"cqg.rtd\",,\"ContractData\",A50, \"LongDescription\"),15)","v":" Sep 23, Nov 23"},{"$f":"RTD(\"cqg.rtd\", ,\"ContractData\",A50, \"Open\",,\"T\")","v":-0.26},{"$f":"RTD(\"cqg.rtd\", ,\"ContractData\",A50, \"High\",,\"T\")","v":-0.26},{"$f":"RTD(\"cqg.rtd\", ,\"ContractData\",A50, \"Low\",,\"T\")","v":-0.27500000000000002},{"$f":"RTD(\"cqg.rtd\", ,\"ContractData\",A50, \"LastTradeorSettle\",,\"T\")","v":-0.27},{"$f":"RTD(\"cqg.rtd\",,\"ContractData\",A50,\"NetLastTradeToday\",,\"T\")","v":-1.4999999999999999E-2},{"$f":"RTD(\"cqg.rtd\",,\"ContractData\",A50,\"NetLastTradeToday\",,\"T\")","v":-1.4999999999999999E-2},{"$f":"RTD(\"cqg.rtd\", ,\"ContractData\",A50, \"T_CVol\")","v":10}]
[{"$f":"RTD(\"cqg.rtd\",,\"ContractData\",ZQE!AF41, \"Symbol\")","v":"ZQES2V23"},{"$f":"RIGHT(RTD(\"cqg.rtd\",,\"ContractData\",A51, \"LongDescription\"),15)","v":" Oct 23, Dec 23"},{"$f":"RTD(\"cqg.rtd\", ,\"ContractData\",A51, \"Open\",,\"T\")","v":-0.18},{"$f":"RTD(\"cqg.rtd\", ,\"ContractData\",A51, \"High\",,\"T\")","v":-0.18},{"$f":"RTD(\"cqg.rtd\", ,\"ContractData\",A51, \"Low\",,\"T\")","v":-0.19500000000000001},{"$f":"RTD(\"cqg.rtd\", ,\"ContractData\",A51, \"LastTradeorSettle\",,\"T\")","v":-0.19500000000000001},{"$f":"RTD(\"cqg.rtd\",,\"ContractData\",A51,\"NetLastTradeToday\",,\"T\")","v":-0.01},{"$f":"RTD(\"cqg.rtd\",,\"ContractData\",A51,\"NetLastTradeToday\",,\"T\")","v":-0.01},{"$f":"RTD(\"cqg.rtd\", ,\"ContractData\",A51, \"T_CVol\")","v":22}]
[{"$f":"RTD(\"cqg.rtd\",,\"ContractData\",ZQE!AF42, \"Symbol\")","v":"ZQES2X23"},{"$f":"RIGHT(RTD(\"cqg.rtd\",,\"ContractData\",A52, \"LongDescription\"),15)","v":" Nov 23, Jan 24"},{"$f":"RTD(\"cqg.rtd\", ,\"ContractData\",A52, \"Open\",,\"T\")","v":-9.5000000000000001E-2},{"$f":"RTD(\"cqg.rtd\", ,\"ContractData\",A52, \"High\",,\"T\")","v":-8.5000000000000006E-2},{"$f":"RTD(\"cqg.rtd\", ,\"ContractData\",A52, \"Low\",,\"T\")","v":-0.115},{"$f":"RTD(\"cqg.rtd\", ,\"ContractData\",A52, \"LastTradeorSettle\",,\"T\")","v":-0.11},{"$f":"RTD(\"cqg.rtd\",,\"ContractData\",A52,\"NetLastTradeToday\",,\"T\")","v":-5.0000000000000001E-3},{"$f":"RTD(\"cqg.rtd\",,\"ContractData\",A52,\"NetLastTradeToday\",,\"T\")","v":-5.0000000000000001E-3},{"$f":"RTD(\"cqg.rtd\", ,\"ContractData\",A52, \"T_CVol\")","v":1286}]
[{"$f":"RTD(\"cqg.rtd\",,\"ContractData\",ZQE!AF43, \"Symbol\")","v":"ZQES2Z23"},{"$f":"RIGHT(RTD(\"cqg.rtd\",,\"ContractData\",A53, \"LongDescription\"),15)","v":" Dec 23, Feb 24"},{"$f":"RTD(\"cqg.rtd\", ,\"ContractData\",A53, \"Open\",,\"T\")","v":-0.155},{"$f":"RTD(\"cqg.rtd\", ,\"ContractData\",A53, \"High\",,\"T\")","v":-0.13500000000000001},{"$f":"RTD(\"cqg.rtd\", ,\"ContractData\",A53, \"Low\",,\"T\")","v":-0.16},{"$f":"RTD(\"cqg.rtd\", ,\"ContractData\",A53, \"LastTradeorSettle\",,\"T\")","v":-0.13500000000000001},{"$f":"RTD(\"cqg.rtd\",,\"ContractData\",A53,\"NetLastTradeToday\",,\"T\")","v":2.5000000000000001E-2},{"$f":"RTD(\"cqg.rtd\",,\"ContractData\",A53,\"NetLastTradeToday\",,\"T\")","v":2.5000000000000001E-2},{"$f":"RTD(\"cqg.rtd\", ,\"ContractData\",A53, \"T_CVol\")","v":20}]
[{"$f":"RTD(\"cqg.rtd\",,\"ContractData\",ZQE!AF44, \"Symbol\")","v":"ZQES2F24"},{"$f":"RIGHT(RTD(\"cqg.rtd\",,\"ContractData\",A54, \"LongDescription\"),15)","v":" Jan 24, Mar 24"},{"$f":"RTD(\"cqg.rtd\", ,\"ContractData\",A54, \"Open\",,\"T\")","v":-0.115},{"$f":"RTD(\"cqg.rtd\", ,\"ContractData\",A54, \"High\",,\"T\")","v":-0.115},{"$f":"RTD(\"cqg.rtd\", ,\"ContractData\",A54, \"Low\",,\"T\")","v":-0.12},{"$f":"RTD(\"cqg.rtd\", ,\"ContractData\",A54, \"LastTradeorSettle\",,\"T\")","v":-0.115},{"$f":"RTD(\"cqg.rtd\",,\"ContractData\",A54,\"NetLastTradeToday\",,\"T\")","v":0.03},{"$f":"RTD(\"cqg.rtd\",,\"ContractData\",A54,\"NetLastTradeToday\",,\"T\")","v":0.03},{"$f":"RTD(\"cqg.rtd\", ,\"ContractData\",A54, \"T_CVol\")","v":17}]
[{"$f":"RTD(\"cqg.rtd\",,\"ContractData\",ZQE!AF45, \"Symbol\")","v":"ZQES2G24"},{"$f":"RIGHT(RTD(\"cqg.rtd\",,\"ContractData\",A55, \"LongDescription\"),15)","v":" Feb 24, Apr 24"},{"$f":"RTD(\"cqg.rtd\", ,\"ContractData\",A55, \"Open\",,\"T\")","v":-0.11},{"$f":"RTD(\"cqg.rtd\", ,\"ContractData\",A55, \"High\",,\"T\")","v":-0.105},{"$f":"RTD(\"cqg.rtd\", ,\"ContractData\",A55, \"Low\",,\"T\")","v":-0.13500000000000001},{"$f":"RTD(\"cqg.rtd\", ,\"ContractData\",A55, \"LastTradeorSettle\",,\"T\")","v":-0.125},{"$f":"RTD(\"cqg.rtd\",,\"ContractData\",A55,\"NetLastTradeToday\",,\"T\")","v":5.0000000000000001E-3},{"$f":"RTD(\"cqg.rtd\",,\"ContractData\",A55,\"NetLastTradeToday\",,\"T\")","v":5.0000000000000001E-3},{"$f":"RTD(\"cqg.rtd\", ,\"ContractData\",A55, \"T_CVol\")","v":350}]
[{"$f":"RTD(\"cqg.rtd\",,\"ContractData\",ZQE!AF46, \"Symbol\")","v":"ZQES2H24"},{"$f":"RIGHT(RTD(\"cqg.rtd\",,\"ContractData\",A56, \"LongDescription\"),15)","v":" Mar 24, May 24"},{"$f":"RTD(\"cqg.rtd\", ,\"ContractData\",A56, \"Open\",,\"T\")","v":-0.215},{"$f":"RTD(\"cqg.rtd\", ,\"ContractData\",A56, \"High\",,\"T\")","v":-0.215},{"$f":"RTD(\"cqg.rtd\", ,\"ContractData\",A56, \"Low\",,\"T\")","v":-0.215},{"$f":"RTD(\"cqg.rtd\", ,\"ContractData\",A56, \"LastTradeorSettle\",,\"T\")","v":-0.215},{"$f":"RTD(\"cqg.rtd\",,\"ContractData\",A56,\"NetLastTradeToday\",,\"T\")","v":0.02},{"$f":"RTD(\"cqg.rtd\",,\"ContractData\",A56,\"NetLastTradeToday\",,\"T\")","v":0.02},{"$f":"RTD(\"cqg.rtd\", ,\"ContractData\",A56, \"T_CVol\")","v":2}]
[null,"CQG, Inc. Copyright © 2023",null,null,"Designed by Thom Hartle"]

{"sheet":"ZQE","index":1,"n_rows":59,"n_cols":40,"rows_kept":59,"cut":false,"hidden":true,"merged":[]}
[null,null,"S",1,null,null,null,null,null,null,null,null,null,{"$f":"UPPER(FedFunds_Master!E11)","v":"ZQEJ23"},null,null,"ZQEH23","LastTradeorSettle","Bid","Ask","NetLastQuoteToday"]
[{"$f":"Q2","v":"ZQEJ23"},{"$f":"RTD(\"cqg.rtd\", ,\"ContractData\",A2, \"ContractMonth\")","v":"APR"},{"$f":"IF(B2=\"Jan\",\"F\",IF(B2=\"Feb\",\"G\",IF(B2=\"Mar\",\"H\",IF(B2=\"Apr\",\"J\",IF(B2=\"May\",\"K\",IF(B2=\"JUN\",\"M\",IF(B2=\"Jul\",\"N\",IF(B2=\"Aug\",\"Q\",IF(B2=\"Sep\",\"U\",IF(B2=\"Oct\",\"V\",IF(B2=\"Nov\",\"X\",IF(B2=\"Dec\",\"Z\"))))))))))))","v":"J"},{"$f":"$Q$1&$C$1&$D$1&$C2","v":"ZQEH23S1J"},null,null,null,null,null,null,null,null,null,{"$f":"VLOOKUP(N1,Q35:R38,2,FALSE)","v":2},null,{"$f":"LEFT(RIGHT(Q2,2),1)","v":"2"},{"$f":"N1","v":"ZQEJ23"},{"$f":"IF(RTD(\"cqg.rtd\", ,\"ContractData\", Q2, $R$1,,\"T\")=\"\",NA(),RTD(\"cqg.rtd\", ,\"ContractData\", Q2, $R$1,,\"T\"))","v":95.245000000000005},{"$f":"RTD(\"cqg.rtd\", ,\"ContractData\", Q2,$S$1,,\"T\")","v":95.245000000000005},{"$f":"RTD(\"cqg.rtd\", ,\"ContractData\", Q2,$T$1,,\"T\")","v":95.25},{"$f":"RTD(\"cqg.rtd\", ,\"ContractData\", \"F.\"&$Q$1&\"?1\", $U$1,,\"T\")","v":2.5000000000000001E-3},null,null,null,"1-Month",null,null,"1-Month",null,null,{"$f":"LEN(Y2)","v":7}]
[{"$f":"Q3","v":"ZQEK23"},{"$f":"RTD(\"cqg.rtd\", ,\"ContractData\",A3, \"ContractMonth\")","v":"MAY"},{"$f":"IF(B3=\"Jan\",\"F\",IF(B3=\"Feb\",\"G\",IF(B3=\"Mar\",\"H\",IF(B3=\"Apr\",\"J\",IF(B3=\"May\",\"K\",IF(B3=\"JUN\",\"M\",IF(B3=\"Jul\",\"N\",IF(B3=\"Aug\",\"Q\",IF(B3=\"Sep\",\"U\",IF(B3=\"Oct\",\"V\",IF(B3=\"Nov\",\"X\",IF(B3=\"Dec\",\"Z\"))))))))))))","v":"K"},{"$f":"$Q$1&$C$1&$D$1&$C3","v":"ZQEH23S1K"},null,null,null,null,null,null,null,null,null,{"$f":"N2+1","v":3},null,{"$f":"LEFT(RIGHT(Q3,2),1)","v":"2"},{"$f":"RTD(\"cqg.rtd\", ,\"ContractData\", $Q$1&\"?\"&N3, \"Symbol\")","v":"ZQEK23"},{"$f":"IF(RTD(\"cqg.rtd\", ,\"ContractData\", Q3, $R$1,,\"T\")=\"\",NA(),RTD(\"cqg.rtd\", ,\"ContractData\", Q3, $R$1,,\"T\"))","v":95.165000000000006},{"$f":"RTD(\"cqg.rtd\", ,\"ContractData\", Q3,$S$1,,\"T\")","v":95.16},{"$f":"RTD(\"cqg.rtd\", ,\"ContractData\", Q3,$T$1,,\"T\")","v":95.165000000000006},{"$f":"RTD(\"cqg.rtd\", ,\"ContractData\", \"F.\"&$Q$1&\"?2\",  $U$1,,\"T\")","v":0.02},null,null,null,"2-Month",null,null,"2-Month",null,null,{"$f":"LEN(Y3)","v":7}]
["ZQEM23",{"$f":"RTD(\"cqg.rtd\", ,\"ContractData\",A4, \"ContractMonth\")","v":"JUN"},"M","ZQEH23S1M",null,null,null,null,null,null,null,null,null,{"$f":"N3+1","v":4},null,"2",{"$f":"RTD(\"cqg.rtd\", ,\"ContractData\", $Q$1&\"?\"&N4, \"Symbol\")","v":"ZQEM23"},{"$f":"IF(RTD(\"cqg.rtd\", ,\"ContractData\", Q4, $R$1,,\"T\")=\"\",NA(),RTD(\"cqg.rtd\", ,\"ContractData\", Q4, $R$1,,\"T\"))","v":95.24},{"$f":"RTD(\"cqg.rtd\", ,\"ContractData\", Q4,$S$1,,\"T\")","v":95.234999999999999},{"$f":"RTD(\"cqg.rtd\", ,\"ContractData\", Q4,$T$1,,\"T\")","v":95.24},{"$f":"RTD(\"cqg.rtd\", ,\"ContractData\", \"F.\"&$Q$1&\"?3\",  $U$1,,\"T\")","v":0.08},null,null,null,"3-Month",null,null,"3-Month",null,null,7]
["ZQEN23",{"$f":"RTD(\"cqg.rtd\", ,\"ContractData\",A5, \"ContractMonth\")","v":"JUL"},"N","ZQEH23S1N",null,null,null,null,null,null,null,null,null,5,null,"2",{"$f":"RTD(\"cqg.rtd\", ,\"ContractData\", $Q$1&\"?\"&N5, \"Symbol\")","v":"ZQEN23"},{"$f":"IF(RTD(\"cqg.rtd\", ,\"ContractData\", Q5, $R$1,,\"T\")=\"\",NA(),RTD(\"cqg.rtd\", ,\"ContractData\", Q5, $R$1,,\"T\"))","v":95.364999999999995},{"$f":"RTD(\"cqg.rtd\", ,\"ContractData\", Q5,$S$1,,\"T\")","v":95.36},{"$f":"RTD(\"cqg.rtd\", ,\"ContractData\", Q5,$T$1,,\"T\")","v":95.37},{"$f":"RTD(\"cqg.rtd\", ,\"ContractData\", \"F.\"&$Q$1&\"?4\",  $U$1,,\"T\")","v":0.125},null,null,null,"4-Month",null,null,"4-Month",null,null,7]
["ZQEQ23",{"$f":"RTD(\"cqg.rtd\", ,\"ContractData\",A6, \"ContractMonth\")","v":"AUG"},"Q","ZQEH23S1Q",null,null,null,null,null,null,null,null,null,6,null,"2",{"$f":"RTD(\"cqg.rtd\", ,\"ContractData\", $Q$1&\"?\"&N6, \"Symbol\")","v":"ZQEQ23"},{"$f":"IF(RTD(\"cqg.rtd\", ,\"ContractData\", Q6, $R$1,,\"T\")=\"\",NA(),RTD(\"cqg.rtd\", ,\"ContractData\", Q6, $R$1,,\"T\"))","v":95.600000000000009},{"$f":"RTD(\"cqg.rtd\", ,\"ContractData\", Q6,$S$1,,\"T\")","v":95.600000000000009},{"$f":"RTD(\"cqg.rtd\", ,\"ContractData\", Q6,$T$1,,\"T\")","v":95.605000000000004},{"$f":"RTD(\"cqg.rtd\", ,\"ContractData\", \"F.\"&$Q$1&\"?5\",  $U$1,,\"T\")","v":0.155},null,null,null,"5-Month",null,null,"5-Month",null,null,7]
["ZQEU23",{"$f":"RTD(\"cqg.rtd\", ,\"ContractData\",A7, \"ContractMonth\")","v":"SEP"},"U","ZQEH23S1U",null,null,null,null,null,null,null,null,null,7,null,"2",{"$f":"RTD(\"cqg.rtd\", ,\"ContractData\", $Q$1&\"?\"&N7, \"Symbol\")","v":"ZQEU23"},{"$f":"IF(RTD(\"cqg.rtd\", ,\"ContractData\", Q7, $R$1,,\"T\")=\"\",NA(),RTD(\"cqg.rtd\", ,\"ContractData\", Q7, $R$1,,\"T\"))","v":95.665000000000006},{"$f":"RTD(\"cqg.rtd\", ,\"ContractData\", Q7,$S$1,,\"T\")","v":95.665000000000006},{"$f":"RTD(\"cqg.rtd\", ,\"ContractData\", Q7,$T$1,,\"T\")","v":95.67},{"$f":"RTD(\"cqg.rtd\", ,\"ContractData\", \"F.\"&$Q$1&\"?6\", $U$1,,\"T\")","v":0.19},null,null,null,"6-Month",null,null,"6-Month",null,null,7]
["ZQEV23",{"$f":"RTD(\"cqg.rtd\", ,\"ContractData\",A8, \"ContractMonth\")","v":"OCT"},"V","ZQEH23S1V",null,null,null,null,null,null,null,null,null,8,null,"2",{"$f":"RTD(\"cqg.rtd\", ,\"ContractData\", $Q$1&\"?\"&N8, \"Symbol\")","v":"ZQEV23"},{"$f":"IF(RTD(\"cqg.rtd\", ,\"ContractData\", Q8, $R$1,,\"T\")=\"\",NA(),RTD(\"cqg.rtd\", ,\"ContractData\", Q8, $R$1,,\"T\"))","v":95.784999999999997},{"$f":"RTD(\"cqg.rtd\", ,\"ContractData\", Q8,$S$1,,\"T\")","v":95.784999999999997},{"$f":"RTD(\"cqg.rtd\", ,\"ContractData\", Q8,$T$1,,\"T\")","v":95.79},{"$f":"RTD(\"cqg.rtd\", ,\"ContractData\", \"F.\"&$Q$1&\"?7\", $U$1,,\"T\")","v":0.185},null,null,null,"7-Month",null,null,"7-Month",null,null,7]
["ZQEX23",{"$f":"RTD(\"cqg.rtd\", ,\"ContractData\",A9, \"ContractMonth\")","v":"NOV"},"X","ZQEH23S1X",null,null,null,null,null,null,null,null,null,9,null,"2",{"$f":"RTD(\"cqg.rtd\", ,\"ContractData\", $Q$1&\"?\"&N9, \"Symbol\")","v":"ZQEX23"},{"$f":"IF(RTD(\"cqg.rtd\", ,\"ContractData\", Q9, $R$1,,\"T\")=\"\",NA(),RTD(\"cqg.rtd\", ,\"ContractData\", Q9, $R$1,,\"T\"))","v":95.924999999999997},{"$f":"RTD(\"cqg.rtd\", ,\"ContractData\", Q9,$S$1,,\"T\")","v":95.924999999999997},{"$f":"RTD(\"cqg.rtd\", ,\"ContractData\", Q9,$T$1,,\"T\")","v":95.93},{"$f":"RTD(\"cqg.rtd\", ,\"ContractData\", \"F.\"&$Q$1&\"?8\", $U$1,,\"T\")","v":0.185},null,null,null,"8-Month",null,null,"8-Month",null,null,7]
["ZQEZ23",{"$f":"RTD(\"cqg.rtd\", ,\"ContractData\",A10, \"ContractMonth\")","v":"DEC"},"Z","ZQEH23S1Z",null,null,null,null,null,null,null,null,null,10,null,"2",{"$f":"RTD(\"cqg.rtd\", ,\"ContractData\", $Q$1&\"?\"&N10, \"Symbol\")","v":"ZQEZ23"},{"$f":"IF(RTD(\"cqg.rtd\", ,\"ContractData\", Q10, $R$1,,\"T\")=\"\",NA(),RTD(\"cqg.rtd\", ,\"ContractData\", Q10, $R$1,,\"T\"))","v":95.98},{"$f":"RTD(\"cqg.rtd\", ,\"ContractData\", Q10,$S$1,,\"T\")","v":95.98},{"$f":"RTD(\"cqg.rtd\", ,\"ContractData\", Q10,$T$1,,\"T\")","v":95.984999999999999},{"$f":"RTD(\"cqg.rtd\", ,\"ContractData\", \"F.\"&$Q$1&\"?9\", $U$1,,\"T\")","v":0.19},null,null,null,"9-Month",null,null,"9-Month",null,null,7]
["ZQEF24",{"$f":"RTD(\"cqg.rtd\", ,\"ContractData\",A11, \"ContractMonth\")","v":"JAN"},"F","ZQEH23S1F",null,null,null,null,null,null,null,null,null,11,null,"2",{"$f":"RTD(\"cqg.rtd\", ,\"ContractData\", $Q$1&\"?\"&N11, \"Symbol\")","v":"ZQEF24"},{"$f":"IF(RTD(\"cqg.rtd\", ,\"ContractData\", Q11, $R$1,,\"T\")=\"\",NA(),RTD(\"cqg.rtd\", ,\"ContractData\", Q11, $R$1,,\"T\"))","v":96.034999999999997},{"$f":"RTD(\"cqg.rtd\", ,\"ContractData\", Q11,$S$1,,\"T\")","v":96.034999999999997},{"$f":"RTD(\"cqg.rtd\", ,\"ContractData\", Q11,$T$1,,\"T\")","v":96.04},{"$f":"RTD(\"cqg.rtd\", ,\"ContractData\", \"F.\"&$Q$1&\"?10\", $U$1,,\"T\")","v":0.19500000000000001},null,null,null,"10-Month",null,null,"10-Month",null,null,8]
["ZQEG24",{"$f":"RTD(\"cqg.rtd\", ,\"ContractData\",A12, \"ContractMonth\")","v":"FEB"},"G","ZQEH23S1G",null,null,null,null,null,null,null,null,null,12,null,"2",{"$f":"RTD(\"cqg.rtd\", ,\"ContractData\", $Q$1&\"?\"&N12, \"Symbol\")","v":"ZQEG24"},{"$f":"IF(RTD(\"cqg.rtd\", ,\"ContractData\", Q12, $R$1,,\"T\")=\"\",NA(),RTD(\"cqg.rtd\", ,\"ContractData\", Q12, $R$1,,\"T\"))","v":96.13},{"$f":"RTD(\"cqg.rtd\", ,\"ContractData\", Q12,$S$1,,\"T\")","v":96.125},{"$f":"RTD(\"cqg.rtd\", ,\"ContractData\", Q12,$T$1,,\"T\")","v":96.135000000000005},{"$f":"RTD(\"cqg.rtd\", ,\"ContractData\", \"F.\"&$Q$1&\"?11\",$U$1,,\"T\")","v":0.19500000000000001},null,null,null,"11-Month",null,null,"11-Month",null,null,8]
["ZQEH24",{"$f":"RTD(\"cqg.rtd\", ,\"ContractData\",A13, \"ContractMonth\")","v":"MAR"},"H","ZQEH23S1H",null,null,null,null,null,null,null,null,null,13,null,"2",{"$f":"RTD(\"cqg.rtd\", ,\"ContractData\", $Q$1&\"?\"&N13, \"Symbol\")","v":"ZQEH24"},{"$f":"IF(RTD(\"cqg.rtd\", ,\"ContractData\", Q13, $R$1,,\"T\")=\"\",NA(),RTD(\"cqg.rtd\", ,\"ContractData\", Q13, $R$1,,\"T\"))","v":96.18},{"$f":"RTD(\"cqg.rtd\", ,\"ContractData\", Q13,$S$1,,\"T\")","v":96.165000000000006},{"$f":"RTD(\"cqg.rtd\", ,\"ContractData\", Q13,$T$1,,\"T\")","v":96.174999999999997},{"$f":"RTD(\"cqg.rtd\", ,\"ContractData\", \"F.\"&$Q$1&\"?12\",$U$1,,\"T\")","v":0.19},null,null,null,"12-Month",null,null,"12-Month",null,null,8]
[null,null,null,null,null,null,null,null,null,null,null,null,null,14,null,"2",{"$f":"RTD(\"cqg.rtd\", ,\"ContractData\", $Q$1&\"?\"&N14, \"Symbol\")","v":"ZQEJ24"},{"$f":"IF(RTD(\"cqg.rtd\", ,\"ContractData\", Q14, $R$1,,\"T\")=\"\",NA(),RTD(\"cqg.rtd\", ,\"ContractData\", Q14, $R$1,,\"T\"))","v":96.25},{"$f":"RTD(\"cqg.rtd\", ,\"ContractData\", Q14,$S$1,,\"T\")","v":96.25},{"$f":"RTD(\"cqg.rtd\", ,\"ContractData\", Q14,$T$1,,\"T\")","v":96.26},{"$f":"RTD(\"cqg.rtd\", ,\"ContractData\", \"F.\"&$Q$1&\"?12\",$U$1,,\"T\")","v":0.19},null,null,null,{"$f":"FedFunds_Master!D25","v":"1-Month"},null,null,{"$f":"FedFunds_Master!D41","v":"2-Month"},null,null,7]
[null,null,null,null,null,null,null,null,null,null,null,null,null,15,null,"2",{"$f":"RTD(\"cqg.rtd\", ,\"ContractData\", $Q$1&\"?\"&N15, \"Symbol\")","v":"ZQEK24"},{"$f":"IF(RTD(\"cqg.rtd\", ,\"ContractData\", Q15, $R$1,,\"T\")=\"\",NA(),RTD(\"cqg.rtd\", ,\"ContractData\", Q15, $R$1,,\"T\"))","v":96.43},{"$f":"RTD(\"cqg.rtd\", ,\"ContractData\", Q15,$S$1,,\"T\")","v":96.4},{"$f":"RTD(\"cqg.rtd\", ,\"ContractData\", Q15,$T$1,,\"T\")","v":96.41},{"$f":"RTD(\"cqg.rtd\", ,\"ContractData\", \"F.\"&$Q$1&\"?12\",$U$1,,\"T\")","v":0.19},null,null,null,{"$f":"IF(LEN(Y14)=7,LEFT(Y14,1),LEFT(Y14,2))","v":"1"},null,null,{"$f":"IF(LEN(AB14)=7,LEFT(AB14,1),LEFT(AB14,2))","v":"2"},null,null,1]
[null,null,null,null,null,null,null,null,null,null,null,null,null,16,null,"2",{"$f":"RTD(\"cqg.rtd\", ,\"ContractData\", $Q$1&\"?\"&N16, \"Symbol\")","v":"ZQEM24"},{"$f":"IF(RTD(\"cqg.rtd\", ,\"ContractData\", Q16, $R$1,,\"T\")=\"\",NA(),RTD(\"cqg.rtd\", ,\"ContractData\", Q16, $R$1,,\"T\"))","v":96.48},{"$f":"RTD(\"cqg.rtd\", ,\"ContractData\", Q16,$S$1,,\"T\")","v":96.48},{"$f":"RTD(\"cqg.rtd\", ,\"ContractData\", Q16,$T$1,,\"T\")","v":96.5},{"$f":"RTD(\"cqg.rtd\", ,\"ContractData\", \"F.\"&$Q$1&\"?12\",$U$1,,\"T\")","v":0.19}]
[null,null,null,null,null,null,null,null,null,null,null,null,null,17,null,"2",{"$f":"RTD(\"cqg.rtd\", ,\"ContractData\", $Q$1&\"?\"&N17, \"Symbol\")","v":"ZQEN24"},{"$f":"IF(RTD(\"cqg.rtd\", ,\"ContractData\", Q17, $R$1,,\"T\")=\"\",NA(),RTD(\"cqg.rtd\", ,\"ContractData\", Q17, $R$1,,\"T\"))","v":96.424999999999997},{"$f":"RTD(\"cqg.rtd\", ,\"ContractData\", Q17,$S$1,,\"T\")","v":96.534999999999997},{"$f":"RTD(\"cqg.rtd\", ,\"ContractData\", Q17,$T$1,,\"T\")","v":96.56},{"$f":"RTD(\"cqg.rtd\", ,\"ContractData\", \"F.\"&$Q$1&\"?12\",$U$1,,\"T\")","v":0.19}]
[null,null,null,{"$f":"ROUNDUP(D21,0)","v":97},null,null,null,null,null,null,null,null,null,18,null,"2",{"$f":"RTD(\"cqg.rtd\", ,\"ContractData\", $Q$1&\"?\"&N18, \"Symbol\")","v":"ZQEQ24"},{"$f":"IF(RTD(\"cqg.rtd\", ,\"ContractData\", Q18, $R$1,,\"T\")=\"\",NA(),RTD(\"cqg.rtd\", ,\"ContractData\", Q18, $R$1,,\"T\"))","v":{"$error":"#N/A"}},{"$f":"RTD(\"cqg.rtd\", ,\"ContractData\", Q18,$S$1,,\"T\")","v":96.51},{"$f":"RTD(\"cqg.rtd\", ,\"ContractData\", Q18,$T$1,,\"T\")","v":96.905000000000001},{"$f":"RTD(\"cqg.rtd\", ,\"ContractData\", \"F.\"&$Q$1&\"?12\",$U$1,,\"T\")","v":0.19}]
[null,null,null,null,null,null,null,null,null,null,null,null,null,19,null,"2",{"$f":"RTD(\"cqg.rtd\", ,\"ContractData\", $Q$1&\"?\"&N19, \"Symbol\")","v":"ZQEU24"},{"$f":"IF(RTD(\"cqg.rtd\", ,\"ContractData\", Q19, $R$1,,\"T\")=\"\",NA(),RTD(\"cqg.rtd\", ,\"ContractData\", Q19, $R$1,,\"T\"))","v":{"$error":"#N/A"}},{"$f":"RTD(\"cqg.rtd\", ,\"ContractData\", Q19,$S$1,,\"T\")","v":96.33},{"$f":"RTD(\"cqg.rtd\", ,\"ContractData\", Q19,$T$1,,\"T\")","v":96.75},{"$f":"RTD(\"cqg.rtd\", ,\"ContractData\", \"F.\"&$Q$1&\"?12\",$U$1,,\"T\")","v":0.19}]
[null,null,null,null,null,null,null,null,null,null,null,null,null,20,null,"2",{"$f":"RTD(\"cqg.rtd\", ,\"ContractData\", $Q$1&\"?\"&N20, \"Symbol\")","v":"ZQEV24"},{"$f":"IF(RTD(\"cqg.rtd\", ,\"ContractData\", Q20, $R$1,,\"T\")=\"\",NA(),RTD(\"cqg.rtd\", ,\"ContractData\", Q20, $R$1,,\"T\"))","v":{"$error":"#N/A"}},{"$f":"RTD(\"cqg.rtd\", ,\"ContractData\", Q20,$S$1,,\"T\")","v":96.495000000000005},{"$f":"RTD(\"cqg.rtd\", ,\"ContractData\", Q20,$T$1,,\"T\")","v":97.075000000000003},{"$f":"RTD(\"cqg.rtd\", ,\"ContractData\", \"F.\"&$Q$1&\"?12\",$U$1,,\"T\")","v":0.19}]
[null,null,"MAX",{"$f":"ROUNDUP(MAX(C22:C23),0)","v":97},{"$f":"ROUNDDOWN(MIN(E22:E23),0)","v":94},null,null,null,null,null,null,null,null,21,null,"2",{"$f":"RTD(\"cqg.rtd\", ,\"ContractData\", $Q$1&\"?\"&N21, \"Symbol\")","v":"ZQEX24"},{"$f":"IF(RTD(\"cqg.rtd\", ,\"ContractData\", Q21, $R$1,,\"T\")=\"\",NA(),RTD(\"cqg.rtd\", ,\"ContractData\", Q21, $R$1,,\"T\"))","v":{"$error":"#N/A"}},{"$f":"RTD(\"cqg.rtd\", ,\"ContractData\", Q21,$S$1,,\"T\")","v":96.515000000000001},{"$f":"RTD(\"cqg.rtd\", ,\"ContractData\", Q21,$T$1,,\"T\")","v":97.240000000000009},{"$f":"RTD(\"cqg.rtd\", ,\"ContractData\", \"F.\"&$Q$1&\"?12\",$U$1,,\"T\")","v":0.19}]
[null,null,{"$f":"_xlfn.AGGREGATE(4,6,B26:D45)","v":96.715000000000003},null,{"$f":"_xlfn.AGGREGATE(5,6,B26:D45)","v":94.73},null,null,null,null,null,null,null,null,22,null,"2",{"$f":"RTD(\"cqg.rtd\", ,\"ContractData\", $Q$1&\"?\"&N22, \"Symbol\")","v":"ZQEZ24"},{"$f":"IF(RTD(\"cqg.rtd\", ,\"ContractData\", Q22, $R$1,,\"T\")=\"\",NA(),RTD(\"cqg.rtd\", ,\"ContractData\", Q22, $R$1,,\"T\"))","v":97.375},{"$f":"RTD(\"cqg.rtd\", ,\"ContractData\", Q22,$S$1,,\"T\")","v":96.855000000000004},{"$f":"RTD(\"cqg.rtd\", ,\"ContractData\", Q22,$T$1,,\"T\")","v":97.240000000000009},{"$f":"RTD(\"cqg.rtd\", ,\"ContractData\", \"F.\"&$Q$1&\"?12\",$U$1,,\"T\")","v":0.19},null,{"$f":"RTD(\"cqg.rtd\", ,\"ContractData\", U35,\"LastTradeorSettle\",,\"T\")","v":0.08}]
[null,null,{"$f":"_xlfn.AGGREGATE(4,6,R2:R21)","v":96.48},null,{"$f":"_xlfn.AGGREGATE(5,6,R2:R21)","v":95.165000000000006},null,null,null,null,null,null,null,null,23,null,"2",{"$f":"RTD(\"cqg.rtd\", ,\"ContractData\", $Q$1&\"?\"&N23, \"Symbol\")","v":"ZQEF25"},{"$f":"IF(RTD(\"cqg.rtd\", ,\"ContractData\", Q23, $R$1,,\"T\")=\"\",NA(),RTD(\"cqg.rtd\", ,\"ContractData\", Q23, $R$1,,\"T\"))","v":97.25},{"$f":"RTD(\"cqg.rtd\", ,\"ContractData\", Q23,$S$1,,\"T\")","v":96.865000000000009},{"$f":"RTD(\"cqg.rtd\", ,\"ContractData\", Q23,$T$1,,\"T\")","v":97.25},{"$f":"RTD(\"cqg.rtd\", ,\"ContractData\", \"F.\"&$Q$1&\"?12\",$U$1,,\"T\")","v":0.19}]
[]
[null,"Yesterday","5-days","20-days","Yesterday","5-days","20-days"]
[null,{"$f":" RTD(\"cqg.rtd\",,\"StudyData\",Q2,  \"Bar\",, \"Close\",\"D\",\"-1\",\"All\",,,,\"T\")","v":95.23},{"$f":" RTD(\"cqg.rtd\",,\"StudyData\",Q2,  \"Bar\",, \"Close\",\"D\",\"-5\",\"All\",,,,\"T\")","v":95.1},{"$f":" RTD(\"cqg.rtd\",,\"StudyData\",Q2,  \"Bar\",, \"Close\",\"D\",\"-20\",\"All\",,,,\"T\")","v":95.144999999999996},{"$f":"R2-B26","v":1.5000000000000568E-2},{"$f":"R2-C26","v":0.14500000000001023},{"$f":"R2-D26","v":0.10000000000000853},null,null,null,null,null,null,null,null,null,null,null,null,null,null,null,{"$f":"RTD(\"cqg.rtd\",,\"ContractData\",U36,\"Last\",, \"T\")","v":-7.4999999999999997E-2}]
[null,{"$f":" RTD(\"cqg.rtd\",,\"StudyData\",Q3,  \"Bar\",, \"Close\",\"D\",\"-1\",\"All\",,,,\"T\")","v":95.084999999999994},{"$f":" RTD(\"cqg.rtd\",,\"StudyData\",Q3,  \"Bar\",, \"Close\",\"D\",\"-5\",\"All\",,,,\"T\")","v":94.855000000000004},{"$f":" RTD(\"cqg.rtd\",,\"StudyData\",Q3,  \"Bar\",, \"Close\",\"D\",\"-20\",\"All\",,,,\"T\")","v":94.96},{"$f":"R3-B27","v":8.0000000000012506E-2},{"$f":"R3-C27","v":0.31000000000000227},{"$f":"R3-D27","v":0.20500000000001251}]
[null,{"$f":" RTD(\"cqg.rtd\",,\"StudyData\",Q4,  \"Bar\",, \"Close\",\"D\",\"-1\",\"All\",,,,\"T\")","v":95.114999999999995},{"$f":" RTD(\"cqg.rtd\",,\"StudyData\",Q4,  \"Bar\",, \"Close\",\"D\",\"-5\",\"All\",,,,\"T\")","v":94.775000000000006},{"$f":" RTD(\"cqg.rtd\",,\"StudyData\",Q4,  \"Bar\",, \"Close\",\"D\",\"-20\",\"All\",,,,\"T\")","v":94.87},0.125,0.4649999999999892,0.36999999999999034,null,null,null,null,null,null,null,null,null,null,null,null,null,{"$f":"ROUNDUP(U30,1)","v":0.30000000000000004},{"$f":"ROUNDUP(ABS(V30),1)*-1","v":-0.30000000000000004},null,null,null,null,null,null,null,null,null,{"$f":"ROUNDUP(AF30,1)","v":0.4},{"$f":"ROUNDUP(ABS(AG30),1)*-1","v":-0.5}]
[null,{"$f":" RTD(\"cqg.rtd\",,\"StudyData\",Q5,  \"Bar\",, \"Close\",\"D\",\"-1\",\"All\",,,,\"T\")","v":95.204999999999998},{"$f":" RTD(\"cqg.rtd\",,\"StudyData\",Q5,  \"Bar\",, \"Close\",\"D\",\"-5\",\"All\",,,,\"T\")","v":94.73},{"$f":" RTD(\"cqg.rtd\",,\"StudyData\",Q5,  \"Bar\",, \"Close\",\"D\",\"-20\",\"All\",,,,\"T\")","v":94.8},0.15999999999999659,0.63499999999999091,0.56499999999999773,null,null,null,null,null,null,null,null,null,null,null,null,null,"MAX","MIN",null,null,null,null,null,null,null,null,null,"MAX","MIN"]
[null,{"$f":" RTD(\"cqg.rtd\",,\"StudyData\",Q6,  \"Bar\",, \"Close\",\"D\",\"-1\",\"All\",,,,\"T\")","v":95.41},{"$f":" RTD(\"cqg.rtd\",,\"StudyData\",Q6,  \"Bar\",, \"Close\",\"D\",\"-5\",\"All\",,,,\"T\")","v":94.75},{"$f":" RTD(\"cqg.rtd\",,\"StudyData\",Q6,  \"Bar\",, \"Close\",\"D\",\"-20\",\"All\",,,,\"T\")","v":94.77},0.19000000000001194,0.85000000000000853,0.83000000000001251,null,null,null,null,null,null,null,null,null,null,null,null,null,{"$f":"MAX(U31:U32)","v":0.245},{"$f":"MAX(V31:V32)","v":0.255},null,null,null,null,null,null,null,null,null,{"$f":"MAX(AF31:AF32)","v":0.32500000000000001},{"$f":"MAX(AG31:AG32)","v":0.45500000000000002},{"$f":"RTD(\"cqg.rtd\",,\"ContractData\",AF35,\"LongDescription\",, \"T\")","v":"Fed Funds 30 Day Calendar Spread 2, Apr 23, Jun 23"}]
[null,{"$f":" RTD(\"cqg.rtd\",,\"StudyData\",Q7,  \"Bar\",, \"Close\",\"D\",\"-1\",\"All\",,,,\"T\")","v":95.48},{"$f":" RTD(\"cqg.rtd\",,\"StudyData\",Q7,  \"Bar\",, \"Close\",\"D\",\"-5\",\"All\",,,,\"T\")","v":94.78},{"$f":" RTD(\"cqg.rtd\",,\"StudyData\",Q7,  \"Bar\",, \"Close\",\"D\",\"-20\",\"All\",,,,\"T\")","v":94.78},0.18500000000000227,0.88500000000000512,0.88500000000000512,null,null,null,null,null,null,null,null,null,null,null,null,null,{"$f":"_xlfn.AGGREGATE(4,6,V35:V54)","v":0.08},{"$f":"ABS(_xlfn.AGGREGATE(5,6,V35:V54))","v":0.23500000000000001},{"$f":"RTD(\"cqg.rtd\",,\"ContractData\",U35,\"LongDescription\",, \"T\")","v":"Fed Funds 30 Day Calendar Spread 1, Apr 23, May 23"},null,null,null,null,null,null,null,null,{"$f":"_xlfn.AGGREGATE(4,6,AG35:AG54)","v":5.0000000000000001E-3},{"$f":"ABS(_xlfn.AGGREGATE(5,6,AG35:AG54))","v":0.36},{"$f":"RTD(\"cqg.rtd\",,\"ContractData\",AF54,\"LongDescription\",, \"T\")","v":"Fed Funds 30 Day Calendar Spread 2, Nov 24, Jan 25"}]
[null,{"$f":" RTD(\"cqg.rtd\",,\"StudyData\",Q8,  \"Bar\",, \"Close\",\"D\",\"-1\",\"All\",,,,\"T\")","v":95.6},{"$f":" RTD(\"cqg.rtd\",,\"StudyData\",Q8,  \"Bar\",, \"Close\",\"D\",\"-5\",\"All\",,,,\"T\")","v":94.834999999999994},{"$f":" RTD(\"cqg.rtd\",,\"StudyData\",Q8,  \"Bar\",, \"Close\",\"D\",\"-20\",\"All\",,,,\"T\")","v":94.795000000000002},0.18500000000000227,0.95000000000000284,0.98999999999999488,null,null,null,null,null,null,null,null,null,null,null,null,null,{"$f":"_xlfn.AGGREGATE(4,6,X35:Z54)","v":0.245},{"$f":"ABS(_xlfn.AGGREGATE(5,6,X35:Z54))","v":0.255},{"$f":"RTD(\"cqg.rtd\",,\"ContractData\",U36,\"LongDescription\",, \"T\")","v":"Fed Funds 30 Day Calendar Spread 1, May 23, Jun 23"},{"$f":"IF(LEFT(RTD(\"cqg.rtd\",,\"StudyData\",U35,  \"Bar\",, \"Close\",\"D\",\"-1\",\"All\",,,,\"T\"),3)=\"768\",NA(),IF(RTD(\"cqg.rtd\",,\"StudyData\",U35,  \"Bar\",, \"Close\",\"D\",\"-1\",\"All\",,,,\"T\")=\"\",NA(),RTD(\"cqg.rtd\",,\"StudyData\",U35,  \"Bar\",, \"Close\",\"D\",\"-1\",\"All\",,,,\"T\")))","v":0.14499999999999999},null,null,null,null,null,null,null,{"$f":"_xlfn.AGGREGATE(4,6,AI35:AK54)","v":0.32500000000000001},{"$f":"ABS(_xlfn.AGGREGATE(5,6,AI35:AK54))","v":0.45500000000000002}]
[null,{"$f":" RTD(\"cqg.rtd\",,\"StudyData\",Q9,  \"Bar\",, \"Close\",\"D\",\"-1\",\"All\",,,,\"T\")","v":95.734999999999999},{"$f":" RTD(\"cqg.rtd\",,\"StudyData\",Q9,  \"Bar\",, \"Close\",\"D\",\"-5\",\"All\",,,,\"T\")","v":94.97},{"$f":" RTD(\"cqg.rtd\",,\"StudyData\",Q9,  \"Bar\",, \"Close\",\"D\",\"-20\",\"All\",,,,\"T\")","v":94.86},0.18999999999999773,0.95499999999999829,1.0649999999999977]
[null,{"$f":" RTD(\"cqg.rtd\",,\"StudyData\",Q10,  \"Bar\",, \"Close\",\"D\",\"-1\",\"All\",,,,\"T\")","v":95.784999999999997},{"$f":" RTD(\"cqg.rtd\",,\"StudyData\",Q10,  \"Bar\",, \"Close\",\"D\",\"-5\",\"All\",,,,\"T\")","v":95.06},{"$f":" RTD(\"cqg.rtd\",,\"StudyData\",Q10,  \"Bar\",, \"Close\",\"D\",\"-20\",\"All\",,,,\"T\")","v":94.93},0.19500000000000739,0.92000000000000171,1.0499999999999972,null,null,null,null,null,null,null,null,null,null,"Symbol Check",null,null,null,null,null,"Yesterday","5-days","20-days","Yesterday","5-days","20-days",null,null,null,null,null,"Yesterday","5-days","20-days","Yesterday","5-days","20-days"]
[null,{"$f":" RTD(\"cqg.rtd\",,\"StudyData\",Q11,  \"Bar\",, \"Close\",\"D\",\"-1\",\"All\",,,,\"T\")","v":95.84},{"$f":" RTD(\"cqg.rtd\",,\"StudyData\",Q11,  \"Bar\",, \"Close\",\"D\",\"-5\",\"All\",,,,\"T\")","v":95.13},{"$f":" RTD(\"cqg.rtd\",,\"StudyData\",Q11,  \"Bar\",, \"Close\",\"D\",\"-20\",\"All\",,,,\"T\")","v":94.98},0.19499999999999318,0.90500000000000114,1.0549999999999926,null,null,null,null,null,null,null,null,null,{"$f":"RTD(\"cqg.rtd\",,\"ContractData\",Q1&\"?1\", \"Symbol\")","v":"ZQEH23"},1,{"$f":"RTD(\"cqg.rtd\",,\"ContractData\",Q1&\"?1\", \"Symbol\")","v":"ZQEH23"},{"$f":"N2","v":2},{"$f":"\"ZQES\"&$Y$15&\"?\"&\"\"&T35","v":"ZQES1?2"},{"$f":"IF(LEFT(RTD(\"cqg.rtd\", ,\"ContractData\", U35,\"LastTradeorSettle\",,\"T\"),3)=\"768\",NA(),IF(RTD(\"cqg.rtd\", ,\"ContractData\", U35,\"LastTradeorSettle\",,\"T\")=\"\",NA(),RTD(\"cqg.rtd\", ,\"ContractData\", U35,\"LastTradeorSettle\",,\"T\")))","v":0.08},null,{"$f":"IF(LEFT(RTD(\"cqg.rtd\",,\"StudyData\",U35,  \"Bar\",, \"Close\",\"D\",\"-1\",\"All\",,,,\"T\"),3)=\"777\",NA(),IF(RTD(\"cqg.rtd\",,\"StudyData\",U35,  \"Bar\",, \"Close\",\"D\",\"-1\",\"All\",,,,\"T\")=\"\",NA(),RTD(\"cqg.rtd\",,\"StudyData\",U35,  \"Bar\",, \"Close\",\"D\",\"-1\",\"All\",,,,\"T\")))","v":0.14499999999999999},{"$f":"IF(LEFT(RTD(\"cqg.rtd\",,\"StudyData\",U35,  \"Bar\",, \"Close\",\"D\",\"-5\",\"All\",,,,\"T\"),3)=\"777\",NA(),IF(RTD(\"cqg.rtd\",,\"StudyData\",U35,  \"Bar\",, \"Close\",\"D\",\"-5\",\"All\",,,,\"T\")=\"\",NA(),RTD(\"cqg.rtd\",,\"StudyData\",U35,  \"Bar\",, \"Close\",\"D\",\"-5\",\"All\",,,,\"T\")))","v":0.245},{"$f":"IF(LEFT(RTD(\"cqg.rtd\",,\"StudyData\",U35,  \"Bar\",, \"Close\",\"D\",\"-20\",\"All\",,,,\"T\"),3)=\"777\",NA(),IF(RTD(\"cqg.rtd\",,\"StudyData\",U35,  \"Bar\",, \"Close\",\"D\",\"-20\",\"All\",,,,\"T\")=\"\",NA(),RTD(\"cqg.rtd\",,\"StudyData\",U35,  \"Bar\",, \"Close\",\"D\",\"-20\",\"All\",,,,\"T\")))","v":0.185},{"$f":"IFERROR($V35-X35,NA())","v":-6.4999999999999988E-2},{"$f":"IFERROR($V35-Y35,NA())","v":-0.16499999999999998},{"$f":"IFERROR($V35-Z35,NA())","v":-0.105},null,{"$f":"N2","v":2},{"$f":"\"ZQES\"&$AB$15&\"?\"&\"\"&AE35","v":"ZQES2?2"},{"$f":"IF(LEFT(RTD(\"cqg.rtd\", ,\"ContractData\", AF35,\"LastTradeorSettle\",,\"T\"),3)=\"768\",NA(),IF(RTD(\"cqg.rtd\", ,\"ContractData\", AF35,\"LastTradeorSettle\",,\"T\")=\"\",NA(),RTD(\"cqg.rtd\", ,\"ContractData\", AF35,\"LastTradeorSettle\",,\"T\")))","v":5.0000000000000001E-3},null,{"$f":"IF(LEFT(RTD(\"cqg.rtd\",,\"StudyData\",AF35,  \"Bar\",, \"Close\",\"D\",\"-1\",\"All\",,,,\"T\"),3)=\"777\",NA(),IF(RTD(\"cqg.rtd\",,\"StudyData\",AF35,  \"Bar\",, \"Close\",\"D\",\"-1\",\"All\",,,,\"T\")=\"\",NA(),RTD(\"cqg.rtd\",,\"StudyData\",AF35,  \"Bar\",, \"Close\",\"D\",\"-1\",\"All\",,,,\"T\")))","v":0.115},{"$f":"IF(LEFT(RTD(\"cqg.rtd\",,\"StudyData\",AF35,  \"Bar\",, \"Close\",\"D\",\"-5\",\"All\",,,,\"T\"),3)=\"777\",NA(),IF(RTD(\"cqg.rtd\",,\"StudyData\",AF35,  \"Bar\",, \"Close\",\"D\",\"-5\",\"All\",,,,\"T\")=\"\",NA(),RTD(\"cqg.rtd\",,\"StudyData\",AF35,  \"Bar\",, \"Close\",\"D\",\"-5\",\"All\",,,,\"T\")))","v":0.32500000000000001},{"$f":"IF(LEFT(RTD(\"cqg.rtd\",,\"StudyData\",AF35,  \"Bar\",, \"Close\",\"D\",\"-20\",\"All\",,,,\"T\"),3)=\"777\",NA(),IF(RTD(\"cqg.rtd\",,\"StudyData\",AF35,  \"Bar\",, \"Close\",\"D\",\"-20\",\"All\",,,,\"T\")=\"\",NA(),RTD(\"cqg.rtd\",,\"StudyData\",AF35,  \"Bar\",, \"Close\",\"D\",\"-20\",\"All\",,,,\"T\")))","v":0.27500000000000002},{"$f":"$AG35-$AI35","v":-0.11},{"$f":"$AG35-$AJ35","v":-0.32},{"$f":"$AG35-$AK35","v":-0.27}]
[null,{"$f":" RTD(\"cqg.rtd\",,\"StudyData\",Q12,  \"Bar\",, \"Close\",\"D\",\"-1\",\"All\",,,,\"T\")","v":95.944999999999993},{"$f":" RTD(\"cqg.rtd\",,\"StudyData\",Q12,  \"Bar\",, \"Close\",\"D\",\"-5\",\"All\",,,,\"T\")","v":95.3},{"$f":" RTD(\"cqg.rtd\",,\"StudyData\",Q12,  \"Bar\",, \"Close\",\"D\",\"-20\",\"All\",,,,\"T\")","v":95.135000000000005},0.18500000000000227,0.82999999999999829,0.99499999999999034,null,null,null,null,null,null,null,null,null,{"$f":"RTD(\"cqg.rtd\",,\"ContractData\",Q1&\"?2\", \"Symbol\")","v":"ZQEJ23"},{"$f":"R35+1","v":2},{"$f":"RTD(\"cqg.rtd\",,\"ContractData\",Q1&\"?2\", \"Symbol\")","v":"ZQEJ23"},{"$f":"N3","v":3},{"$f":"\"ZQES\"&$Y$15&\"?\"&\"\"&T36","v":"ZQES1?3"},{"$f":"IF(LEFT(RTD(\"cqg.rtd\", ,\"ContractData\", U36,\"LastTradeorSettle\",,\"T\"),3)=\"768\",NA(),IF(RTD(\"cqg.rtd\", ,\"ContractData\", U36,\"LastTradeorSettle\",,\"T\")=\"\",NA(),RTD(\"cqg.rtd\", ,\"ContractData\", U36,\"LastTradeorSettle\",,\"T\")))","v":-7.4999999999999997E-2},null,{"$f":"IF(LEFT(RTD(\"cqg.rtd\",,\"StudyData\",U36,  \"Bar\",, \"Close\",\"D\",\"-1\",\"All\",,,,\"T\"),3)=\"777\",NA(),IF(RTD(\"cqg.rtd\",,\"StudyData\",U36,  \"Bar\",, \"Close\",\"D\",\"-1\",\"All\",,,,\"T\")=\"\",NA(),RTD(\"cqg.rtd\",,\"StudyData\",U36,  \"Bar\",, \"Close\",\"D\",\"-1\",\"All\",,,,\"T\")))","v":-0.03},{"$f":"IF(LEFT(RTD(\"cqg.rtd\",,\"StudyData\",U36,  \"Bar\",, \"Close\",\"D\",\"-5\",\"All\",,,,\"T\"),3)=\"777\",NA(),IF(RTD(\"cqg.rtd\",,\"StudyData\",U36,  \"Bar\",, \"Close\",\"D\",\"-5\",\"All\",,,,\"T\")=\"\",NA(),RTD(\"cqg.rtd\",,\"StudyData\",U36,  \"Bar\",, \"Close\",\"D\",\"-5\",\"All\",,,,\"T\")))","v":0.08},{"$f":"IF(LEFT(RTD(\"cqg.rtd\",,\"StudyData\",U36,  \"Bar\",, \"Close\",\"D\",\"-20\",\"All\",,,,\"T\"),3)=\"777\",NA(),IF(RTD(\"cqg.rtd\",,\"StudyData\",U36,  \"Bar\",, \"Close\",\"D\",\"-20\",\"All\",,,,\"T\")=\"\",NA(),RTD(\"cqg.rtd\",,\"StudyData\",U36,  \"Bar\",, \"Close\",\"D\",\"-20\",\"All\",,,,\"T\")))","v":0.09},{"$f":"IFERROR($V36-X36,NA())","v":-4.4999999999999998E-2},{"$f":"IFERROR($V36-Y36,NA())","v":-0.155},{"$f":"IFERROR($V36-Z36,NA())","v":-0.16499999999999998},null,{"$f":"AE35+1","v":3},{"$f":"\"ZQES\"&$AB$15&\"?\"&\"\"&AE36","v":"ZQES2?3"},{"$f":"IF(LEFT(RTD(\"cqg.rtd\", ,\"ContractData\", AF36,\"LastTradeorSettle\",,\"T\"),3)=\"768\",NA(),IF(RTD(\"cqg.rtd\", ,\"ContractData\", AF36,\"LastTradeorSettle\",,\"T\")=\"\",NA(),RTD(\"cqg.rtd\", ,\"ContractData\", AF36,\"LastTradeorSettle\",,\"T\")))","v":-0.2},null,{"$f":"IF(LEFT(RTD(\"cqg.rtd\",,\"StudyData\",AF36,  \"Bar\",, \"Close\",\"D\",\"-1\",\"All\",,,,\"T\"),3)=\"777\",NA(),IF(RTD(\"cqg.rtd\",,\"StudyData\",AF36,  \"Bar\",, \"Close\",\"D\",\"-1\",\"All\",,,,\"T\")=\"\",NA(),RTD(\"cqg.rtd\",,\"StudyData\",AF36,  \"Bar\",, \"Close\",\"D\",\"-1\",\"All\",,,,\"T\")))","v":-0.12},{"$f":"IF(LEFT(RTD(\"cqg.rtd\",,\"StudyData\",AF36,  \"Bar\",, \"Close\",\"D\",\"-5\",\"All\",,,,\"T\"),3)=\"777\",NA(),IF(RTD(\"cqg.rtd\",,\"StudyData\",AF36,  \"Bar\",, \"Close\",\"D\",\"-5\",\"All\",,,,\"T\")=\"\",NA(),RTD(\"cqg.rtd\",,\"StudyData\",AF36,  \"Bar\",, \"Close\",\"D\",\"-5\",\"All\",,,,\"T\")))","v":0.125},{"$f":"IF(LEFT(RTD(\"cqg.rtd\",,\"StudyData\",AF36,  \"Bar\",, \"Close\",\"D\",\"-20\",\"All\",,,,\"T\"),3)=\"777\",NA(),IF(RTD(\"cqg.rtd\",,\"StudyData\",AF36,  \"Bar\",, \"Close\",\"D\",\"-20\",\"All\",,,,\"T\")=\"\",NA(),RTD(\"cqg.rtd\",,\"StudyData\",AF36,  \"Bar\",, \"Close\",\"D\",\"-20\",\"All\",,,,\"T\")))","v":0.16},{"$f":"$AG36-$AI36","v":-8.0000000000000016E-2},{"$f":"$AG36-$AJ36","v":-0.32500000000000001},{"$f":"$AG36-$AK36","v":-0.36}]
[null,{"$f":" RTD(\"cqg.rtd\",,\"StudyData\",Q13,  \"Bar\",, \"Close\",\"D\",\"-1\",\"All\",,,,\"T\")","v":95.984999999999999},{"$f":" RTD(\"cqg.rtd\",,\"StudyData\",Q13,  \"Bar\",, \"Close\",\"D\",\"-5\",\"All\",,,,\"T\")","v":95.364999999999995},{"$f":" RTD(\"cqg.rtd\",,\"StudyData\",Q13,  \"Bar\",, \"Close\",\"D\",\"-20\",\"All\",,,,\"T\")","v":95.204999999999998},0.19500000000000739,0.81500000000001194,0.97500000000000853,null,null,null,null,null,null,null,null,null,{"$f":"RTD(\"cqg.rtd\",,\"ContractData\",Q1&\"?3\", \"Symbol\")","v":"ZQEK23"},{"$f":"R36+1","v":3},{"$f":"RTD(\"cqg.rtd\",,\"ContractData\",Q1&\"?3\", \"Symbol\")","v":"ZQEK23"},4,"ZQES1?4",{"$f":"IF(LEFT(RTD(\"cqg.rtd\", ,\"ContractData\", U37,\"LastTradeorSettle\",,\"T\"),3)=\"768\",NA(),IF(RTD(\"cqg.rtd\", ,\"ContractData\", U37,\"LastTradeorSettle\",,\"T\")=\"\",NA(),RTD(\"cqg.rtd\", ,\"ContractData\", U37,\"LastTradeorSettle\",,\"T\")))","v":-0.125},null,{"$f":"IF(LEFT(RTD(\"cqg.rtd\",,\"StudyData\",U37,  \"Bar\",, \"Close\",\"D\",\"-1\",\"All\",,,,\"T\"),3)=\"777\",NA(),IF(RTD(\"cqg.rtd\",,\"StudyData\",U37,  \"Bar\",, \"Close\",\"D\",\"-1\",\"All\",,,,\"T\")=\"\",NA(),RTD(\"cqg.rtd\",,\"StudyData\",U37,  \"Bar\",, \"Close\",\"D\",\"-1\",\"All\",,,,\"T\")))","v":-0.09},{"$f":"IF(LEFT(RTD(\"cqg.rtd\",,\"StudyData\",U37,  \"Bar\",, \"Close\",\"D\",\"-5\",\"All\",,,,\"T\"),3)=\"777\",NA(),IF(RTD(\"cqg.rtd\",,\"StudyData\",U37,  \"Bar\",, \"Close\",\"D\",\"-5\",\"All\",,,,\"T\")=\"\",NA(),RTD(\"cqg.rtd\",,\"StudyData\",U37,  \"Bar\",, \"Close\",\"D\",\"-5\",\"All\",,,,\"T\")))","v":4.4999999999999998E-2},{"$f":"IF(LEFT(RTD(\"cqg.rtd\",,\"StudyData\",U37,  \"Bar\",, \"Close\",\"D\",\"-20\",\"All\",,,,\"T\"),3)=\"777\",NA(),IF(RTD(\"cqg.rtd\",,\"StudyData\",U37,  \"Bar\",, \"Close\",\"D\",\"-20\",\"All\",,,,\"T\")=\"\",NA(),RTD(\"cqg.rtd\",,\"StudyData\",U37,  \"Bar\",, \"Close\",\"D\",\"-20\",\"All\",,,,\"T\")))","v":7.0000000000000007E-2},-3.5000000000000003E-2,-0.16999999999999998,-0.19500000000000001,null,{"$f":"AE36+1","v":4},"ZQES2?4",{"$f":"IF(LEFT(RTD(\"cqg.rtd\", ,\"ContractData\", AF37,\"LastTradeorSettle\",,\"T\"),3)=\"768\",NA(),IF(RTD(\"cqg.rtd\", ,\"ContractData\", AF37,\"LastTradeorSettle\",,\"T\")=\"\",NA(),RTD(\"cqg.rtd\", ,\"ContractData\", AF37,\"LastTradeorSettle\",,\"T\")))","v":-0.36},null,{"$f":"IF(LEFT(RTD(\"cqg.rtd\",,\"StudyData\",AF37,  \"Bar\",, \"Close\",\"D\",\"-1\",\"All\",,,,\"T\"),3)=\"777\",NA(),IF(RTD(\"cqg.rtd\",,\"StudyData\",AF37,  \"Bar\",, \"Close\",\"D\",\"-1\",\"All\",,,,\"T\")=\"\",NA(),RTD(\"cqg.rtd\",,\"StudyData\",AF37,  \"Bar\",, \"Close\",\"D\",\"-1\",\"All\",,,,\"T\")))","v":-0.29499999999999998},{"$f":"IF(LEFT(RTD(\"cqg.rtd\",,\"StudyData\",AF37,  \"Bar\",, \"Close\",\"D\",\"-5\",\"All\",,,,\"T\"),3)=\"777\",NA(),IF(RTD(\"cqg.rtd\",,\"StudyData\",AF37,  \"Bar\",, \"Close\",\"D\",\"-5\",\"All\",,,,\"T\")=\"\",NA(),RTD(\"cqg.rtd\",,\"StudyData\",AF37,  \"Bar\",, \"Close\",\"D\",\"-5\",\"All\",,,,\"T\")))","v":2.5000000000000001E-2},{"$f":"IF(LEFT(RTD(\"cqg.rtd\",,\"StudyData\",AF37,  \"Bar\",, \"Close\",\"D\",\"-20\",\"All\",,,,\"T\"),3)=\"777\",NA(),IF(RTD(\"cqg.rtd\",,\"StudyData\",AF37,  \"Bar\",, \"Close\",\"D\",\"-20\",\"All\",,,,\"T\")=\"\",NA(),RTD(\"cqg.rtd\",,\"StudyData\",AF37,  \"Bar\",, \"Close\",\"D\",\"-20\",\"All\",,,,\"T\")))","v":0.1},-6.5000000000000002E-2,-0.38500000000000001,-0.45999999999999996]
[null,{"$f":" RTD(\"cqg.rtd\",,\"StudyData\",Q14,  \"Bar\",, \"Close\",\"D\",\"-1\",\"All\",,,,\"T\")","v":96.075000000000003},{"$f":" RTD(\"cqg.rtd\",,\"StudyData\",Q14,  \"Bar\",, \"Close\",\"D\",\"-5\",\"All\",,,,\"T\")","v":95.484999999999999},{"$f":" RTD(\"cqg.rtd\",,\"StudyData\",Q14,  \"Bar\",, \"Close\",\"D\",\"-20\",\"All\",,,,\"T\")","v":95.33},0.17499999999999716,0.76500000000000057,0.92000000000000171,null,null,null,null,null,null,null,null,null,{"$f":"RTD(\"cqg.rtd\",,\"ContractData\",Q1&\"?4\", \"Symbol\")","v":"ZQEM23"},4,{"$f":"RTD(\"cqg.rtd\",,\"ContractData\",Q1&\"?4\", \"Symbol\")","v":"ZQEM23"},5,"ZQES1?5",{"$f":"IF(LEFT(RTD(\"cqg.rtd\", ,\"ContractData\", U38,\"LastTradeorSettle\",,\"T\"),3)=\"768\",NA(),IF(RTD(\"cqg.rtd\", ,\"ContractData\", U38,\"LastTradeorSettle\",,\"T\")=\"\",NA(),RTD(\"cqg.rtd\", ,\"ContractData\", U38,\"LastTradeorSettle\",,\"T\")))","v":-0.23500000000000001},null,{"$f":"IF(LEFT(RTD(\"cqg.rtd\",,\"StudyData\",U38,  \"Bar\",, \"Close\",\"D\",\"-1\",\"All\",,,,\"T\"),3)=\"777\",NA(),IF(RTD(\"cqg.rtd\",,\"StudyData\",U38,  \"Bar\",, \"Close\",\"D\",\"-1\",\"All\",,,,\"T\")=\"\",NA(),RTD(\"cqg.rtd\",,\"StudyData\",U38,  \"Bar\",, \"Close\",\"D\",\"-1\",\"All\",,,,\"T\")))","v":-0.20499999999999999},{"$f":"IF(LEFT(RTD(\"cqg.rtd\",,\"StudyData\",U38,  \"Bar\",, \"Close\",\"D\",\"-5\",\"All\",,,,\"T\"),3)=\"777\",NA(),IF(RTD(\"cqg.rtd\",,\"StudyData\",U38,  \"Bar\",, \"Close\",\"D\",\"-5\",\"All\",,,,\"T\")=\"\",NA(),RTD(\"cqg.rtd\",,\"StudyData\",U38,  \"Bar\",, \"Close\",\"D\",\"-5\",\"All\",,,,\"T\")))","v":-0.02},{"$f":"IF(LEFT(RTD(\"cqg.rtd\",,\"StudyData\",U38,  \"Bar\",, \"Close\",\"D\",\"-20\",\"All\",,,,\"T\"),3)=\"777\",NA(),IF(RTD(\"cqg.rtd\",,\"StudyData\",U38,  \"Bar\",, \"Close\",\"D\",\"-20\",\"All\",,,,\"T\")=\"\",NA(),RTD(\"cqg.rtd\",,\"StudyData\",U38,  \"Bar\",, \"Close\",\"D\",\"-20\",\"All\",,,,\"T\")))","v":0.03},-3.0000000000000027E-2,-0.21500000000000002,-0.26500000000000001,null,5,"ZQES2?5",{"$f":"IF(LEFT(RTD(\"cqg.rtd\", ,\"ContractData\", AF38,\"LastTradeorSettle\",,\"T\"),3)=\"768\",NA(),IF(RTD(\"cqg.rtd\", ,\"ContractData\", AF38,\"LastTradeorSettle\",,\"T\")=\"\",NA(),RTD(\"cqg.rtd\", ,\"ContractData\", AF38,\"LastTradeorSettle\",,\"T\")))","v":-0.30499999999999999},null,{"$f":"IF(LEFT(RTD(\"cqg.rtd\",,\"StudyData\",AF38,  \"Bar\",, \"Close\",\"D\",\"-1\",\"All\",,,,\"T\"),3)=\"777\",NA(),IF(RTD(\"cqg.rtd\",,\"StudyData\",AF38,  \"Bar\",, \"Close\",\"D\",\"-1\",\"All\",,,,\"T\")=\"\",NA(),RTD(\"cqg.rtd\",,\"StudyData\",AF38,  \"Bar\",, \"Close\",\"D\",\"-1\",\"All\",,,,\"T\")))","v":-0.27500000000000002},{"$f":"IF(LEFT(RTD(\"cqg.rtd\",,\"StudyData\",AF38,  \"Bar\",, \"Close\",\"D\",\"-5\",\"All\",,,,\"T\"),3)=\"777\",NA(),IF(RTD(\"cqg.rtd\",,\"StudyData\",AF38,  \"Bar\",, \"Close\",\"D\",\"-5\",\"All\",,,,\"T\")=\"\",NA(),RTD(\"cqg.rtd\",,\"StudyData\",AF38,  \"Bar\",, \"Close\",\"D\",\"-5\",\"All\",,,,\"T\")))","v":-0.05},{"$f":"IF(LEFT(RTD(\"cqg.rtd\",,\"StudyData\",AF38,  \"Bar\",, \"Close\",\"D\",\"-20\",\"All\",,,,\"T\"),3)=\"777\",NA(),IF(RTD(\"cqg.rtd\",,\"StudyData\",AF38,  \"Bar\",, \"Close\",\"D\",\"-20\",\"All\",,,,\"T\")=\"\",NA(),RTD(\"cqg.rtd\",,\"StudyData\",AF38,  \"Bar\",, \"Close\",\"D\",\"-20\",\"All\",,,,\"T\")))","v":0.02},-2.9999999999999971E-2,-0.255,-0.32500000000000001]
[null,{"$f":" RTD(\"cqg.rtd\",,\"StudyData\",Q15,  \"Bar\",, \"Close\",\"D\",\"-1\",\"All\",,,,\"T\")","v":96.22},{"$f":" RTD(\"cqg.rtd\",,\"StudyData\",Q15,  \"Bar\",, \"Close\",\"D\",\"-5\",\"All\",,,,\"T\")","v":95.68},{"$f":" RTD(\"cqg.rtd\",,\"StudyData\",Q15,  \"Bar\",, \"Close\",\"D\",\"-20\",\"All\",,,,\"T\")","v":95.53},0.21000000000000796,0.75,0.90000000000000568,null,null,null,null,null,null,null,null,null,null,5,null,6,"ZQES1?6",{"$f":"IF(LEFT(RTD(\"cqg.rtd\", ,\"ContractData\", U39,\"LastTradeorSettle\",,\"T\"),3)=\"768\",NA(),IF(RTD(\"cqg.rtd\", ,\"ContractData\", U39,\"LastTradeorSettle\",,\"T\")=\"\",NA(),RTD(\"cqg.rtd\", ,\"ContractData\", U39,\"LastTradeorSettle\",,\"T\")))","v":-7.0000000000000007E-2},null,{"$f":"IF(LEFT(RTD(\"cqg.rtd\",,\"StudyData\",U39,  \"Bar\",, \"Close\",\"D\",\"-1\",\"All\",,,,\"T\"),3)=\"777\",NA(),IF(RTD(\"cqg.rtd\",,\"StudyData\",U39,  \"Bar\",, \"Close\",\"D\",\"-1\",\"All\",,,,\"T\")=\"\",NA(),RTD(\"cqg.rtd\",,\"StudyData\",U39,  \"Bar\",, \"Close\",\"D\",\"-1\",\"All\",,,,\"T\")))","v":-7.0000000000000007E-2},{"$f":"IF(LEFT(RTD(\"cqg.rtd\",,\"StudyData\",U39,  \"Bar\",, \"Close\",\"D\",\"-5\",\"All\",,,,\"T\"),3)=\"777\",NA(),IF(RTD(\"cqg.rtd\",,\"StudyData\",U39,  \"Bar\",, \"Close\",\"D\",\"-5\",\"All\",,,,\"T\")=\"\",NA(),RTD(\"cqg.rtd\",,\"StudyData\",U39,  \"Bar\",, \"Close\",\"D\",\"-5\",\"All\",,,,\"T\")))","v":-0.03},{"$f":"IF(LEFT(RTD(\"cqg.rtd\",,\"StudyData\",U39,  \"Bar\",, \"Close\",\"D\",\"-20\",\"All\",,,,\"T\"),3)=\"777\",NA(),IF(RTD(\"cqg.rtd\",,\"StudyData\",U39,  \"Bar\",, \"Close\",\"D\",\"-20\",\"All\",,,,\"T\")=\"\",NA(),RTD(\"cqg.rtd\",,\"StudyData\",U39,  \"Bar\",, \"Close\",\"D\",\"-20\",\"All\",,,,\"T\")))","v":-0.01},0,-4.0000000000000008E-2,-6.0000000000000005E-2,null,6,"ZQES2?6",{"$f":"IF(LEFT(RTD(\"cqg.rtd\", ,\"ContractData\", AF39,\"LastTradeorSettle\",,\"T\"),3)=\"768\",NA(),IF(RTD(\"cqg.rtd\", ,\"ContractData\", AF39,\"LastTradeorSettle\",,\"T\")=\"\",NA(),RTD(\"cqg.rtd\", ,\"ContractData\", AF39,\"LastTradeorSettle\",,\"T\")))","v":-0.19},null,{"$f":"IF(LEFT(RTD(\"cqg.rtd\",,\"StudyData\",AF39,  \"Bar\",, \"Close\",\"D\",\"-1\",\"All\",,,,\"T\"),3)=\"777\",NA(),IF(RTD(\"cqg.rtd\",,\"StudyData\",AF39,  \"Bar\",, \"Close\",\"D\",\"-1\",\"All\",,,,\"T\")=\"\",NA(),RTD(\"cqg.rtd\",,\"StudyData\",AF39,  \"Bar\",, \"Close\",\"D\",\"-1\",\"All\",,,,\"T\")))","v":-0.19},{"$f":"IF(LEFT(RTD(\"cqg.rtd\",,\"StudyData\",AF39,  \"Bar\",, \"Close\",\"D\",\"-5\",\"All\",,,,\"T\"),3)=\"777\",NA(),IF(RTD(\"cqg.rtd\",,\"StudyData\",AF39,  \"Bar\",, \"Close\",\"D\",\"-5\",\"All\",,,,\"T\")=\"\",NA(),RTD(\"cqg.rtd\",,\"StudyData\",AF39,  \"Bar\",, \"Close\",\"D\",\"-5\",\"All\",,,,\"T\")))","v":-8.5000000000000006E-2},{"$f":"IF(LEFT(RTD(\"cqg.rtd\",,\"StudyData\",AF39,  \"Bar\",, \"Close\",\"D\",\"-20\",\"All\",,,,\"T\"),3)=\"777\",NA(),IF(RTD(\"cqg.rtd\",,\"StudyData\",AF39,  \"Bar\",, \"Close\",\"D\",\"-20\",\"All\",,,,\"T\")=\"\",NA(),RTD(\"cqg.rtd\",,\"StudyData\",AF39,  \"Bar\",, \"Close\",\"D\",\"-20\",\"All\",,,,\"T\")))","v":-2.5000000000000001E-2},0,-0.105,-0.16500000000000001]
[null,{"$f":" RTD(\"cqg.rtd\",,\"StudyData\",Q16,  \"Bar\",, \"Close\",\"D\",\"-1\",\"All\",,,,\"T\")","v":96.284999999999997},{"$f":" RTD(\"cqg.rtd\",,\"StudyData\",Q16,  \"Bar\",, \"Close\",\"D\",\"-5\",\"All\",,,,\"T\")","v":95.8},{"$f":" RTD(\"cqg.rtd\",,\"StudyData\",Q16,  \"Bar\",, \"Close\",\"D\",\"-20\",\"All\",,,,\"T\")","v":95.665000000000006},0.19500000000000739,0.68000000000000682,0.81499999999999773,null,null,null,null,null,null,null,null,null,null,6,null,7,"ZQES1?7",{"$f":"IF(LEFT(RTD(\"cqg.rtd\", ,\"ContractData\", U40,\"LastTradeorSettle\",,\"T\"),3)=\"768\",NA(),IF(RTD(\"cqg.rtd\", ,\"ContractData\", U40,\"LastTradeorSettle\",,\"T\")=\"\",NA(),RTD(\"cqg.rtd\", ,\"ContractData\", U40,\"LastTradeorSettle\",,\"T\")))","v":-0.12},null,{"$f":"IF(LEFT(RTD(\"cqg.rtd\",,\"StudyData\",U40,  \"Bar\",, \"Close\",\"D\",\"-1\",\"All\",,,,\"T\"),3)=\"777\",NA(),IF(RTD(\"cqg.rtd\",,\"StudyData\",U40,  \"Bar\",, \"Close\",\"D\",\"-1\",\"All\",,,,\"T\")=\"\",NA(),RTD(\"cqg.rtd\",,\"StudyData\",U40,  \"Bar\",, \"Close\",\"D\",\"-1\",\"All\",,,,\"T\")))","v":-0.12},{"$f":"IF(LEFT(RTD(\"cqg.rtd\",,\"StudyData\",U40,  \"Bar\",, \"Close\",\"D\",\"-5\",\"All\",,,,\"T\"),3)=\"777\",NA(),IF(RTD(\"cqg.rtd\",,\"StudyData\",U40,  \"Bar\",, \"Close\",\"D\",\"-5\",\"All\",,,,\"T\")=\"\",NA(),RTD(\"cqg.rtd\",,\"StudyData\",U40,  \"Bar\",, \"Close\",\"D\",\"-5\",\"All\",,,,\"T\")))","v":-5.5E-2},{"$f":"IF(LEFT(RTD(\"cqg.rtd\",,\"StudyData\",U40,  \"Bar\",, \"Close\",\"D\",\"-20\",\"All\",,,,\"T\"),3)=\"777\",NA(),IF(RTD(\"cqg.rtd\",,\"StudyData\",U40,  \"Bar\",, \"Close\",\"D\",\"-20\",\"All\",,,,\"T\")=\"\",NA(),RTD(\"cqg.rtd\",,\"StudyData\",U40,  \"Bar\",, \"Close\",\"D\",\"-20\",\"All\",,,,\"T\")))","v":-1.4999999999999999E-2},0,-6.5000000000000002E-2,-0.105,null,7,"ZQES2?7",{"$f":"IF(LEFT(RTD(\"cqg.rtd\", ,\"ContractData\", AF40,\"LastTradeorSettle\",,\"T\"),3)=\"768\",NA(),IF(RTD(\"cqg.rtd\", ,\"ContractData\", AF40,\"LastTradeorSettle\",,\"T\")=\"\",NA(),RTD(\"cqg.rtd\", ,\"ContractData\", AF40,\"LastTradeorSettle\",,\"T\")))","v":-0.27},null,{"$f":"IF(LEFT(RTD(\"cqg.rtd\",,\"StudyData\",AF40,  \"Bar\",, \"Close\",\"D\",\"-1\",\"All\",,,,\"T\"),3)=\"777\",NA(),IF(RTD(\"cqg.rtd\",,\"StudyData\",AF40,  \"Bar\",, \"Close\",\"D\",\"-1\",\"All\",,,,\"T\")=\"\",NA(),RTD(\"cqg.rtd\",,\"StudyData\",AF40,  \"Bar\",, \"Close\",\"D\",\"-1\",\"All\",,,,\"T\")))","v":-0.255},{"$f":"IF(LEFT(RTD(\"cqg.rtd\",,\"StudyData\",AF40,  \"Bar\",, \"Close\",\"D\",\"-5\",\"All\",,,,\"T\"),3)=\"777\",NA(),IF(RTD(\"cqg.rtd\",,\"StudyData\",AF40,  \"Bar\",, \"Close\",\"D\",\"-5\",\"All\",,,,\"T\")=\"\",NA(),RTD(\"cqg.rtd\",,\"StudyData\",AF40,  \"Bar\",, \"Close\",\"D\",\"-5\",\"All\",,,,\"T\")))","v":-0.19},{"$f":"IF(LEFT(RTD(\"cqg.rtd\",,\"StudyData\",AF40,  \"Bar\",, \"Close\",\"D\",\"-20\",\"All\",,,,\"T\"),3)=\"777\",NA(),IF(RTD(\"cqg.rtd\",,\"StudyData\",AF40,  \"Bar\",, \"Close\",\"D\",\"-20\",\"All\",,,,\"T\")=\"\",NA(),RTD(\"cqg.rtd\",,\"StudyData\",AF40,  \"Bar\",, \"Close\",\"D\",\"-20\",\"All\",,,,\"T\")))","v":-0.08},-1.5000000000000013E-2,-8.0000000000000016E-2,-0.19]
[null,{"$f":" RTD(\"cqg.rtd\",,\"StudyData\",Q17,  \"Bar\",, \"Close\",\"D\",\"-1\",\"All\",,,,\"T\")","v":96.33},{"$f":" RTD(\"cqg.rtd\",,\"StudyData\",Q17,  \"Bar\",, \"Close\",\"D\",\"-5\",\"All\",,,,\"T\")","v":95.885000000000005},{"$f":" RTD(\"cqg.rtd\",,\"StudyData\",Q17,  \"Bar\",, \"Close\",\"D\",\"-20\",\"All\",,,,\"T\")","v":95.76},9.4999999999998863E-2,0.53999999999999204,0.66499999999999204,null,null,null,null,null,null,null,null,null,null,7,null,8,"ZQES1?8",{"$f":"IF(LEFT(RTD(\"cqg.rtd\", ,\"ContractData\", U41,\"LastTradeorSettle\",,\"T\"),3)=\"768\",NA(),IF(RTD(\"cqg.rtd\", ,\"ContractData\", U41,\"LastTradeorSettle\",,\"T\")=\"\",NA(),RTD(\"cqg.rtd\", ,\"ContractData\", U41,\"LastTradeorSettle\",,\"T\")))","v":-0.14000000000000001},null,{"$f":"IF(LEFT(RTD(\"cqg.rtd\",,\"StudyData\",U41,  \"Bar\",, \"Close\",\"D\",\"-1\",\"All\",,,,\"T\"),3)=\"777\",NA(),IF(RTD(\"cqg.rtd\",,\"StudyData\",U41,  \"Bar\",, \"Close\",\"D\",\"-1\",\"All\",,,,\"T\")=\"\",NA(),RTD(\"cqg.rtd\",,\"StudyData\",U41,  \"Bar\",, \"Close\",\"D\",\"-1\",\"All\",,,,\"T\")))","v":-0.13500000000000001},{"$f":"IF(LEFT(RTD(\"cqg.rtd\",,\"StudyData\",U41,  \"Bar\",, \"Close\",\"D\",\"-5\",\"All\",,,,\"T\"),3)=\"777\",NA(),IF(RTD(\"cqg.rtd\",,\"StudyData\",U41,  \"Bar\",, \"Close\",\"D\",\"-5\",\"All\",,,,\"T\")=\"\",NA(),RTD(\"cqg.rtd\",,\"StudyData\",U41,  \"Bar\",, \"Close\",\"D\",\"-5\",\"All\",,,,\"T\")))","v":-0.13500000000000001},{"$f":"IF(LEFT(RTD(\"cqg.rtd\",,\"StudyData\",U41,  \"Bar\",, \"Close\",\"D\",\"-20\",\"All\",,,,\"T\"),3)=\"777\",NA(),IF(RTD(\"cqg.rtd\",,\"StudyData\",U41,  \"Bar\",, \"Close\",\"D\",\"-20\",\"All\",,,,\"T\")=\"\",NA(),RTD(\"cqg.rtd\",,\"StudyData\",U41,  \"Bar\",, \"Close\",\"D\",\"-20\",\"All\",,,,\"T\")))","v":-6.5000000000000002E-2},-5.0000000000000044E-3,-5.0000000000000044E-3,-7.5000000000000011E-2,null,8,"ZQES2?8",{"$f":"IF(LEFT(RTD(\"cqg.rtd\", ,\"ContractData\", AF41,\"LastTradeorSettle\",,\"T\"),3)=\"768\",NA(),IF(RTD(\"cqg.rtd\", ,\"ContractData\", AF41,\"LastTradeorSettle\",,\"T\")=\"\",NA(),RTD(\"cqg.rtd\", ,\"ContractData\", AF41,\"LastTradeorSettle\",,\"T\")))","v":-0.19500000000000001},null,{"$f":"IF(LEFT(RTD(\"cqg.rtd\",,\"StudyData\",AF41,  \"Bar\",, \"Close\",\"D\",\"-1\",\"All\",,,,\"T\"),3)=\"777\",NA(),IF(RTD(\"cqg.rtd\",,\"StudyData\",AF41,  \"Bar\",, \"Close\",\"D\",\"-1\",\"All\",,,,\"T\")=\"\",NA(),RTD(\"cqg.rtd\",,\"StudyData\",AF41,  \"Bar\",, \"Close\",\"D\",\"-1\",\"All\",,,,\"T\")))","v":-0.185},{"$f":"IF(LEFT(RTD(\"cqg.rtd\",,\"StudyData\",AF41,  \"Bar\",, \"Close\",\"D\",\"-5\",\"All\",,,,\"T\"),3)=\"777\",NA(),IF(RTD(\"cqg.rtd\",,\"StudyData\",AF41,  \"Bar\",, \"Close\",\"D\",\"-5\",\"All\",,,,\"T\")=\"\",NA(),RTD(\"cqg.rtd\",,\"StudyData\",AF41,  \"Bar\",, \"Close\",\"D\",\"-5\",\"All\",,,,\"T\")))","v":-0.22500000000000001},{"$f":"IF(LEFT(RTD(\"cqg.rtd\",,\"StudyData\",AF41,  \"Bar\",, \"Close\",\"D\",\"-20\",\"All\",,,,\"T\"),3)=\"777\",NA(),IF(RTD(\"cqg.rtd\",,\"StudyData\",AF41,  \"Bar\",, \"Close\",\"D\",\"-20\",\"All\",,,,\"T\")=\"\",NA(),RTD(\"cqg.rtd\",,\"StudyData\",AF41,  \"Bar\",, \"Close\",\"D\",\"-20\",\"All\",,,,\"T\")))","v":-0.13500000000000001},-1.0000000000000009E-2,0.03,-0.06]
[null,{"$f":" RTD(\"cqg.rtd\",,\"StudyData\",Q18,  \"Bar\",, \"Close\",\"D\",\"-1\",\"All\",,,,\"T\")","v":96.48},{"$f":" RTD(\"cqg.rtd\",,\"StudyData\",Q18,  \"Bar\",, \"Close\",\"D\",\"-5\",\"All\",,,,\"T\")","v":96.094999999999999},{"$f":" RTD(\"cqg.rtd\",,\"StudyData\",Q18,  \"Bar\",, \"Close\",\"D\",\"-20\",\"All\",,,,\"T\")","v":95.97},{"$error":"#N/A"},{"$error":"#N/A"},{"$error":"#N/A"},null,null,null,null,null,null,null,null,null,null,8,null,9,"ZQES1?9",{"$f":"IF(LEFT(RTD(\"cqg.rtd\", ,\"ContractData\", U42,\"LastTradeorSettle\",,\"T\"),3)=\"768\",NA(),IF(RTD(\"cqg.rtd\", ,\"ContractData\", U42,\"LastTradeorSettle\",,\"T\")=\"\",NA(),RTD(\"cqg.rtd\", ,\"ContractData\", U42,\"LastTradeorSettle\",,\"T\")))","v":-5.5E-2},null,{"$f":"IF(LEFT(RTD(\"cqg.rtd\",,\"StudyData\",U42,  \"Bar\",, \"Close\",\"D\",\"-1\",\"All\",,,,\"T\"),3)=\"777\",NA(),IF(RTD(\"cqg.rtd\",,\"StudyData\",U42,  \"Bar\",, \"Close\",\"D\",\"-1\",\"All\",,,,\"T\")=\"\",NA(),RTD(\"cqg.rtd\",,\"StudyData\",U42,  \"Bar\",, \"Close\",\"D\",\"-1\",\"All\",,,,\"T\")))","v":-0.05},{"$f":"IF(LEFT(RTD(\"cqg.rtd\",,\"StudyData\",U42,  \"Bar\",, \"Close\",\"D\",\"-5\",\"All\",,,,\"T\"),3)=\"777\",NA(),IF(RTD(\"cqg.rtd\",,\"StudyData\",U42,  \"Bar\",, \"Close\",\"D\",\"-5\",\"All\",,,,\"T\")=\"\",NA(),RTD(\"cqg.rtd\",,\"StudyData\",U42,  \"Bar\",, \"Close\",\"D\",\"-5\",\"All\",,,,\"T\")))","v":-0.09},{"$f":"IF(LEFT(RTD(\"cqg.rtd\",,\"StudyData\",U42,  \"Bar\",, \"Close\",\"D\",\"-20\",\"All\",,,,\"T\"),3)=\"777\",NA(),IF(RTD(\"cqg.rtd\",,\"StudyData\",U42,  \"Bar\",, \"Close\",\"D\",\"-20\",\"All\",,,,\"T\")=\"\",NA(),RTD(\"cqg.rtd\",,\"StudyData\",U42,  \"Bar\",, \"Close\",\"D\",\"-20\",\"All\",,,,\"T\")))","v":-7.0000000000000007E-2},-4.9999999999999975E-3,3.4999999999999996E-2,1.5000000000000006E-2,null,9,"ZQES2?9",{"$f":"IF(LEFT(RTD(\"cqg.rtd\", ,\"ContractData\", AF42,\"LastTradeorSettle\",,\"T\"),3)=\"768\",NA(),IF(RTD(\"cqg.rtd\", ,\"ContractData\", AF42,\"LastTradeorSettle\",,\"T\")=\"\",NA(),RTD(\"cqg.rtd\", ,\"ContractData\", AF42,\"LastTradeorSettle\",,\"T\")))","v":-0.11},null,{"$f":"IF(LEFT(RTD(\"cqg.rtd\",,\"StudyData\",AF42,  \"Bar\",, \"Close\",\"D\",\"-1\",\"All\",,,,\"T\"),3)=\"777\",NA(),IF(RTD(\"cqg.rtd\",,\"StudyData\",AF42,  \"Bar\",, \"Close\",\"D\",\"-1\",\"All\",,,,\"T\")=\"\",NA(),RTD(\"cqg.rtd\",,\"StudyData\",AF42,  \"Bar\",, \"Close\",\"D\",\"-1\",\"All\",,,,\"T\")))","v":-0.105},{"$f":"IF(LEFT(RTD(\"cqg.rtd\",,\"StudyData\",AF42,  \"Bar\",, \"Close\",\"D\",\"-5\",\"All\",,,,\"T\"),3)=\"777\",NA(),IF(RTD(\"cqg.rtd\",,\"StudyData\",AF42,  \"Bar\",, \"Close\",\"D\",\"-5\",\"All\",,,,\"T\")=\"\",NA(),RTD(\"cqg.rtd\",,\"StudyData\",AF42,  \"Bar\",, \"Close\",\"D\",\"-5\",\"All\",,,,\"T\")))","v":-0.16},{"$f":"IF(LEFT(RTD(\"cqg.rtd\",,\"StudyData\",AF42,  \"Bar\",, \"Close\",\"D\",\"-20\",\"All\",,,,\"T\"),3)=\"777\",NA(),IF(RTD(\"cqg.rtd\",,\"StudyData\",AF42,  \"Bar\",, \"Close\",\"D\",\"-20\",\"All\",,,,\"T\")=\"\",NA(),RTD(\"cqg.rtd\",,\"StudyData\",AF42,  \"Bar\",, \"Close\",\"D\",\"-20\",\"All\",,,,\"T\")))","v":-0.12},-5.0000000000000044E-3,0.05,9.999999999999995E-3]
[null,{"$f":" RTD(\"cqg.rtd\",,\"StudyData\",Q19,  \"Bar\",, \"Close\",\"D\",\"-1\",\"All\",,,,\"T\")","v":96.504999999999995},{"$f":" RTD(\"cqg.rtd\",,\"StudyData\",Q19,  \"Bar\",, \"Close\",\"D\",\"-5\",\"All\",,,,\"T\")","v":96.14},{"$f":" RTD(\"cqg.rtd\",,\"StudyData\",Q19,  \"Bar\",, \"Close\",\"D\",\"-20\",\"All\",,,,\"T\")","v":96.004999999999995},{"$error":"#N/A"},{"$error":"#N/A"},{"$error":"#N/A"},null,null,null,null,null,null,null,null,null,null,9,null,10,"ZQES1?10",{"$f":"IF(LEFT(RTD(\"cqg.rtd\", ,\"ContractData\", U43,\"LastTradeorSettle\",,\"T\"),3)=\"768\",NA(),IF(RTD(\"cqg.rtd\", ,\"ContractData\", U43,\"LastTradeorSettle\",,\"T\")=\"\",NA(),RTD(\"cqg.rtd\", ,\"ContractData\", U43,\"LastTradeorSettle\",,\"T\")))","v":-5.5E-2},null,{"$f":"IF(LEFT(RTD(\"cqg.rtd\",,\"StudyData\",U43,  \"Bar\",, \"Close\",\"D\",\"-1\",\"All\",,,,\"T\"),3)=\"777\",NA(),IF(RTD(\"cqg.rtd\",,\"StudyData\",U43,  \"Bar\",, \"Close\",\"D\",\"-1\",\"All\",,,,\"T\")=\"\",NA(),RTD(\"cqg.rtd\",,\"StudyData\",U43,  \"Bar\",, \"Close\",\"D\",\"-1\",\"All\",,,,\"T\")))","v":-5.5E-2},{"$f":"IF(LEFT(RTD(\"cqg.rtd\",,\"StudyData\",U43,  \"Bar\",, \"Close\",\"D\",\"-5\",\"All\",,,,\"T\"),3)=\"777\",NA(),IF(RTD(\"cqg.rtd\",,\"StudyData\",U43,  \"Bar\",, \"Close\",\"D\",\"-5\",\"All\",,,,\"T\")=\"\",NA(),RTD(\"cqg.rtd\",,\"StudyData\",U43,  \"Bar\",, \"Close\",\"D\",\"-5\",\"All\",,,,\"T\")))","v":-7.0000000000000007E-2},{"$f":"IF(LEFT(RTD(\"cqg.rtd\",,\"StudyData\",U43,  \"Bar\",, \"Close\",\"D\",\"-20\",\"All\",,,,\"T\"),3)=\"777\",NA(),IF(RTD(\"cqg.rtd\",,\"StudyData\",U43,  \"Bar\",, \"Close\",\"D\",\"-20\",\"All\",,,,\"T\")=\"\",NA(),RTD(\"cqg.rtd\",,\"StudyData\",U43,  \"Bar\",, \"Close\",\"D\",\"-20\",\"All\",,,,\"T\")))","v":-0.05},0,1.5000000000000006E-2,-4.9999999999999975E-3,null,10,"ZQES2?10",{"$f":"IF(LEFT(RTD(\"cqg.rtd\", ,\"ContractData\", AF43,\"LastTradeorSettle\",,\"T\"),3)=\"768\",NA(),IF(RTD(\"cqg.rtd\", ,\"ContractData\", AF43,\"LastTradeorSettle\",,\"T\")=\"\",NA(),RTD(\"cqg.rtd\", ,\"ContractData\", AF43,\"LastTradeorSettle\",,\"T\")))","v":-0.13500000000000001},null,{"$f":"IF(LEFT(RTD(\"cqg.rtd\",,\"StudyData\",AF43,  \"Bar\",, \"Close\",\"D\",\"-1\",\"All\",,,,\"T\"),3)=\"777\",NA(),IF(RTD(\"cqg.rtd\",,\"StudyData\",AF43,  \"Bar\",, \"Close\",\"D\",\"-1\",\"All\",,,,\"T\")=\"\",NA(),RTD(\"cqg.rtd\",,\"StudyData\",AF43,  \"Bar\",, \"Close\",\"D\",\"-1\",\"All\",,,,\"T\")))","v":-0.16},{"$f":"IF(LEFT(RTD(\"cqg.rtd\",,\"StudyData\",AF43,  \"Bar\",, \"Close\",\"D\",\"-5\",\"All\",,,,\"T\"),3)=\"777\",NA(),IF(RTD(\"cqg.rtd\",,\"StudyData\",AF43,  \"Bar\",, \"Close\",\"D\",\"-5\",\"All\",,,,\"T\")=\"\",NA(),RTD(\"cqg.rtd\",,\"StudyData\",AF43,  \"Bar\",, \"Close\",\"D\",\"-5\",\"All\",,,,\"T\")))","v":-0.24},{"$f":"IF(LEFT(RTD(\"cqg.rtd\",,\"StudyData\",AF43,  \"Bar\",, \"Close\",\"D\",\"-20\",\"All\",,,,\"T\"),3)=\"777\",NA(),IF(RTD(\"cqg.rtd\",,\"StudyData\",AF43,  \"Bar\",, \"Close\",\"D\",\"-20\",\"All\",,,,\"T\")=\"\",NA(),RTD(\"cqg.rtd\",,\"StudyData\",AF43,  \"Bar\",, \"Close\",\"D\",\"-20\",\"All\",,,,\"T\")))","v":-0.20499999999999999},2.4999999999999994E-2,0.10499999999999998,6.9999999999999979E-2]
[null,{"$f":"IFERROR( RTD(\"cqg.rtd\",,\"StudyData\",Q20,  \"Bar\",, \"Close\",\"D\",\"-1\",\"All\",,,,\"T\"),NA())","v":96.61},{"$f":" IF(RTD(\"cqg.rtd\",,\"StudyData\",Q20,  \"Bar\",, \"Close\",\"D\",\"-5\",\"All\",,,,\"T\")=\"\",NA(),RTD(\"cqg.rtd\",,\"StudyData\",Q20,  \"Bar\",, \"Close\",\"D\",\"-5\",\"All\",,,,\"T\"))","v":96.26},{"$f":" IF(RTD(\"cqg.rtd\",,\"StudyData\",Q20,  \"Bar\",, \"Close\",\"D\",\"-20\",\"All\",,,,\"T\")=\"\",NA(),RTD(\"cqg.rtd\",,\"StudyData\",Q20,  \"Bar\",, \"Close\",\"D\",\"-20\",\"All\",,,,\"T\"))","v":96.11},{"$f":"IFERROR( R20-B44,NA())","v":{"$error":"#N/A"}},{"$f":"IFERROR( R20-C44,NA())","v":{"$error":"#N/A"}},{"$f":"IFERROR( R20-D44,NA())","v":{"$error":"#N/A"}},null,null,null,null,null,null,null,null,null,null,10,null,11,"ZQES1?11",{"$f":"IF(LEFT(RTD(\"cqg.rtd\", ,\"ContractData\", U44,\"LastTradeorSettle\",,\"T\"),3)=\"768\",NA(),IF(RTD(\"cqg.rtd\", ,\"ContractData\", U44,\"LastTradeorSettle\",,\"T\")=\"\",NA(),RTD(\"cqg.rtd\", ,\"ContractData\", U44,\"LastTradeorSettle\",,\"T\")))","v":-0.09},null,{"$f":"IF(LEFT(RTD(\"cqg.rtd\",,\"StudyData\",U44,  \"Bar\",, \"Close\",\"D\",\"-1\",\"All\",,,,\"T\"),3)=\"777\",NA(),IF(RTD(\"cqg.rtd\",,\"StudyData\",U44,  \"Bar\",, \"Close\",\"D\",\"-1\",\"All\",,,,\"T\")=\"\",NA(),RTD(\"cqg.rtd\",,\"StudyData\",U44,  \"Bar\",, \"Close\",\"D\",\"-1\",\"All\",,,,\"T\")))","v":-0.105},{"$f":"IF(LEFT(RTD(\"cqg.rtd\",,\"StudyData\",U44,  \"Bar\",, \"Close\",\"D\",\"-5\",\"All\",,,,\"T\"),3)=\"777\",NA(),IF(RTD(\"cqg.rtd\",,\"StudyData\",U44,  \"Bar\",, \"Close\",\"D\",\"-5\",\"All\",,,,\"T\")=\"\",NA(),RTD(\"cqg.rtd\",,\"StudyData\",U44,  \"Bar\",, \"Close\",\"D\",\"-5\",\"All\",,,,\"T\")))","v":-0.17},{"$f":"IF(LEFT(RTD(\"cqg.rtd\",,\"StudyData\",U44,  \"Bar\",, \"Close\",\"D\",\"-20\",\"All\",,,,\"T\"),3)=\"777\",NA(),IF(RTD(\"cqg.rtd\",,\"StudyData\",U44,  \"Bar\",, \"Close\",\"D\",\"-20\",\"All\",,,,\"T\")=\"\",NA(),RTD(\"cqg.rtd\",,\"StudyData\",U44,  \"Bar\",, \"Close\",\"D\",\"-20\",\"All\",,,,\"T\")))","v":-0.155},1.4999999999999999E-2,8.0000000000000016E-2,6.5000000000000002E-2,null,11,"ZQES2?11",{"$f":"IF(LEFT(RTD(\"cqg.rtd\", ,\"ContractData\", AF44,\"LastTradeorSettle\",,\"T\"),3)=\"768\",NA(),IF(RTD(\"cqg.rtd\", ,\"ContractData\", AF44,\"LastTradeorSettle\",,\"T\")=\"\",NA(),RTD(\"cqg.rtd\", ,\"ContractData\", AF44,\"LastTradeorSettle\",,\"T\")))","v":-0.115},null,{"$f":"IF(LEFT(RTD(\"cqg.rtd\",,\"StudyData\",AF44,  \"Bar\",, \"Close\",\"D\",\"-1\",\"All\",,,,\"T\"),3)=\"777\",NA(),IF(RTD(\"cqg.rtd\",,\"StudyData\",AF44,  \"Bar\",, \"Close\",\"D\",\"-1\",\"All\",,,,\"T\")=\"\",NA(),RTD(\"cqg.rtd\",,\"StudyData\",AF44,  \"Bar\",, \"Close\",\"D\",\"-1\",\"All\",,,,\"T\")))","v":-0.14499999999999999},{"$f":"IF(LEFT(RTD(\"cqg.rtd\",,\"StudyData\",AF44,  \"Bar\",, \"Close\",\"D\",\"-5\",\"All\",,,,\"T\"),3)=\"777\",NA(),IF(RTD(\"cqg.rtd\",,\"StudyData\",AF44,  \"Bar\",, \"Close\",\"D\",\"-5\",\"All\",,,,\"T\")=\"\",NA(),RTD(\"cqg.rtd\",,\"StudyData\",AF44,  \"Bar\",, \"Close\",\"D\",\"-5\",\"All\",,,,\"T\")))","v":-0.23499999999999999},{"$f":"IF(LEFT(RTD(\"cqg.rtd\",,\"StudyData\",AF44,  \"Bar\",, \"Close\",\"D\",\"-20\",\"All\",,,,\"T\"),3)=\"777\",NA(),IF(RTD(\"cqg.rtd\",,\"StudyData\",AF44,  \"Bar\",, \"Close\",\"D\",\"-20\",\"All\",,,,\"T\")=\"\",NA(),RTD(\"cqg.rtd\",,\"StudyData\",AF44,  \"Bar\",, \"Close\",\"D\",\"-20\",\"All\",,,,\"T\")))","v":-0.22500000000000001},2.9999999999999985E-2,0.11999999999999998,0.11]
[null,{"$f":"IFERROR( RTD(\"cqg.rtd\",,\"StudyData\",Q21,  \"Bar\",, \"Close\",\"D\",\"-1\",\"All\",,,,\"T\"),\"\")","v":96.715000000000003},{"$f":" IF(RTD(\"cqg.rtd\",,\"StudyData\",Q21,  \"Bar\",, \"Close\",\"D\",\"-5\",\"All\",,,,\"T\")=\"\",NA(),RTD(\"cqg.rtd\",,\"StudyData\",Q21,  \"Bar\",, \"Close\",\"D\",\"-5\",\"All\",,,,\"T\"))","v":96.364999999999995},{"$f":" IF(RTD(\"cqg.rtd\",,\"StudyData\",Q21,  \"Bar\",, \"Close\",\"D\",\"-20\",\"All\",,,,\"T\")=\"\",NA(),RTD(\"cqg.rtd\",,\"StudyData\",Q21,  \"Bar\",, \"Close\",\"D\",\"-20\",\"All\",,,,\"T\"))","v":96.215000000000003},{"$f":"IFERROR( R21-B45,NA())","v":{"$error":"#N/A"}},{"$f":"IFERROR( R21-C45,NA())","v":{"$error":"#N/A"}},{"$f":"IFERROR( R21-D45,NA())","v":{"$error":"#N/A"}},null,null,null,null,null,null,null,null,null,null,11,null,12,"ZQES1?12",{"$f":"IF(LEFT(RTD(\"cqg.rtd\", ,\"ContractData\", U45,\"LastTradeorSettle\",,\"T\"),3)=\"768\",NA(),IF(RTD(\"cqg.rtd\", ,\"ContractData\", U45,\"LastTradeorSettle\",,\"T\")=\"\",NA(),RTD(\"cqg.rtd\", ,\"ContractData\", U45,\"LastTradeorSettle\",,\"T\")))","v":-3.5000000000000003E-2},null,{"$f":"IF(LEFT(RTD(\"cqg.rtd\",,\"StudyData\",U45,  \"Bar\",, \"Close\",\"D\",\"-1\",\"All\",,,,\"T\"),3)=\"777\",NA(),IF(RTD(\"cqg.rtd\",,\"StudyData\",U45,  \"Bar\",, \"Close\",\"D\",\"-1\",\"All\",,,,\"T\")=\"\",NA(),RTD(\"cqg.rtd\",,\"StudyData\",U45,  \"Bar\",, \"Close\",\"D\",\"-1\",\"All\",,,,\"T\")))","v":-0.04},{"$f":"IF(LEFT(RTD(\"cqg.rtd\",,\"StudyData\",U45,  \"Bar\",, \"Close\",\"D\",\"-5\",\"All\",,,,\"T\"),3)=\"777\",NA(),IF(RTD(\"cqg.rtd\",,\"StudyData\",U45,  \"Bar\",, \"Close\",\"D\",\"-5\",\"All\",,,,\"T\")=\"\",NA(),RTD(\"cqg.rtd\",,\"StudyData\",U45,  \"Bar\",, \"Close\",\"D\",\"-5\",\"All\",,,,\"T\")))","v":-6.5000000000000002E-2},{"$f":"IF(LEFT(RTD(\"cqg.rtd\",,\"StudyData\",U45,  \"Bar\",, \"Close\",\"D\",\"-20\",\"All\",,,,\"T\"),3)=\"777\",NA(),IF(RTD(\"cqg.rtd\",,\"StudyData\",U45,  \"Bar\",, \"Close\",\"D\",\"-20\",\"All\",,,,\"T\")=\"\",NA(),RTD(\"cqg.rtd\",,\"StudyData\",U45,  \"Bar\",, \"Close\",\"D\",\"-20\",\"All\",,,,\"T\")))","v":-7.0000000000000007E-2},4.9999999999999975E-3,0.03,3.5000000000000003E-2,null,12,"ZQES2?12",{"$f":"IF(LEFT(RTD(\"cqg.rtd\", ,\"ContractData\", AF45,\"LastTradeorSettle\",,\"T\"),3)=\"768\",NA(),IF(RTD(\"cqg.rtd\", ,\"ContractData\", AF45,\"LastTradeorSettle\",,\"T\")=\"\",NA(),RTD(\"cqg.rtd\", ,\"ContractData\", AF45,\"LastTradeorSettle\",,\"T\")))","v":-0.125},null,{"$f":"IF(LEFT(RTD(\"cqg.rtd\",,\"StudyData\",AF45,  \"Bar\",, \"Close\",\"D\",\"-1\",\"All\",,,,\"T\"),3)=\"777\",NA(),IF(RTD(\"cqg.rtd\",,\"StudyData\",AF45,  \"Bar\",, \"Close\",\"D\",\"-1\",\"All\",,,,\"T\")=\"\",NA(),RTD(\"cqg.rtd\",,\"StudyData\",AF45,  \"Bar\",, \"Close\",\"D\",\"-1\",\"All\",,,,\"T\")))","v":-0.13},{"$f":"IF(LEFT(RTD(\"cqg.rtd\",,\"StudyData\",AF45,  \"Bar\",, \"Close\",\"D\",\"-5\",\"All\",,,,\"T\"),3)=\"777\",NA(),IF(RTD(\"cqg.rtd\",,\"StudyData\",AF45,  \"Bar\",, \"Close\",\"D\",\"-5\",\"All\",,,,\"T\")=\"\",NA(),RTD(\"cqg.rtd\",,\"StudyData\",AF45,  \"Bar\",, \"Close\",\"D\",\"-5\",\"All\",,,,\"T\")))","v":-0.185},{"$f":"IF(LEFT(RTD(\"cqg.rtd\",,\"StudyData\",AF45,  \"Bar\",, \"Close\",\"D\",\"-20\",\"All\",,,,\"T\"),3)=\"777\",NA(),IF(RTD(\"cqg.rtd\",,\"StudyData\",AF45,  \"Bar\",, \"Close\",\"D\",\"-20\",\"All\",,,,\"T\")=\"\",NA(),RTD(\"cqg.rtd\",,\"StudyData\",AF45,  \"Bar\",, \"Close\",\"D\",\"-20\",\"All\",,,,\"T\")))","v":-0.19500000000000001},5.0000000000000044E-3,0.06,7.0000000000000007E-2]
[null,null,null,null,null,null,null,null,null,null,null,null,null,null,null,null,null,12,null,13,"ZQES1?13",{"$f":"IF(LEFT(RTD(\"cqg.rtd\", ,\"ContractData\", U46,\"LastTradeorSettle\",,\"T\"),3)=\"768\",NA(),IF(RTD(\"cqg.rtd\", ,\"ContractData\", U46,\"LastTradeorSettle\",,\"T\")=\"\",NA(),RTD(\"cqg.rtd\", ,\"ContractData\", U46,\"LastTradeorSettle\",,\"T\")))","v":-0.08},null,{"$f":"IF(LEFT(RTD(\"cqg.rtd\",,\"StudyData\",U46,  \"Bar\",, \"Close\",\"D\",\"-1\",\"All\",,,,\"T\"),3)=\"777\",NA(),IF(RTD(\"cqg.rtd\",,\"StudyData\",U46,  \"Bar\",, \"Close\",\"D\",\"-1\",\"All\",,,,\"T\")=\"\",NA(),RTD(\"cqg.rtd\",,\"StudyData\",U46,  \"Bar\",, \"Close\",\"D\",\"-1\",\"All\",,,,\"T\")))","v":-0.09},{"$f":"IF(LEFT(RTD(\"cqg.rtd\",,\"StudyData\",U46,  \"Bar\",, \"Close\",\"D\",\"-5\",\"All\",,,,\"T\"),3)=\"777\",NA(),IF(RTD(\"cqg.rtd\",,\"StudyData\",U46,  \"Bar\",, \"Close\",\"D\",\"-5\",\"All\",,,,\"T\")=\"\",NA(),RTD(\"cqg.rtd\",,\"StudyData\",U46,  \"Bar\",, \"Close\",\"D\",\"-5\",\"All\",,,,\"T\")))","v":-0.12},{"$f":"IF(LEFT(RTD(\"cqg.rtd\",,\"StudyData\",U46,  \"Bar\",, \"Close\",\"D\",\"-20\",\"All\",,,,\"T\"),3)=\"777\",NA(),IF(RTD(\"cqg.rtd\",,\"StudyData\",U46,  \"Bar\",, \"Close\",\"D\",\"-20\",\"All\",,,,\"T\")=\"\",NA(),RTD(\"cqg.rtd\",,\"StudyData\",U46,  \"Bar\",, \"Close\",\"D\",\"-20\",\"All\",,,,\"T\")))","v":-0.125},9.999999999999995E-3,3.9999999999999994E-2,4.4999999999999998E-2,null,13,"ZQES2?13",{"$f":"IF(LEFT(RTD(\"cqg.rtd\", ,\"ContractData\", AF46,\"LastTradeorSettle\",,\"T\"),3)=\"768\",NA(),IF(RTD(\"cqg.rtd\", ,\"ContractData\", AF46,\"LastTradeorSettle\",,\"T\")=\"\",NA(),RTD(\"cqg.rtd\", ,\"ContractData\", AF46,\"LastTradeorSettle\",,\"T\")))","v":-0.215},null,{"$f":"IF(LEFT(RTD(\"cqg.rtd\",,\"StudyData\",AF46,  \"Bar\",, \"Close\",\"D\",\"-1\",\"All\",,,,\"T\"),3)=\"777\",NA(),IF(RTD(\"cqg.rtd\",,\"StudyData\",AF46,  \"Bar\",, \"Close\",\"D\",\"-1\",\"All\",,,,\"T\")=\"\",NA(),RTD(\"cqg.rtd\",,\"StudyData\",AF46,  \"Bar\",, \"Close\",\"D\",\"-1\",\"All\",,,,\"T\")))","v":-0.23499999999999999},{"$f":"IF(LEFT(RTD(\"cqg.rtd\",,\"StudyData\",AF46,  \"Bar\",, \"Close\",\"D\",\"-5\",\"All\",,,,\"T\"),3)=\"777\",NA(),IF(RTD(\"cqg.rtd\",,\"StudyData\",AF46,  \"Bar\",, \"Close\",\"D\",\"-5\",\"All\",,,,\"T\")=\"\",NA(),RTD(\"cqg.rtd\",,\"StudyData\",AF46,  \"Bar\",, \"Close\",\"D\",\"-5\",\"All\",,,,\"T\")))","v":-0.315},{"$f":"IF(LEFT(RTD(\"cqg.rtd\",,\"StudyData\",AF46,  \"Bar\",, \"Close\",\"D\",\"-20\",\"All\",,,,\"T\"),3)=\"777\",NA(),IF(RTD(\"cqg.rtd\",,\"StudyData\",AF46,  \"Bar\",, \"Close\",\"D\",\"-20\",\"All\",,,,\"T\")=\"\",NA(),RTD(\"cqg.rtd\",,\"StudyData\",AF46,  \"Bar\",, \"Close\",\"D\",\"-20\",\"All\",,,,\"T\")))","v":-0.32500000000000001},1.999999999999999E-2,0.1,0.11000000000000001]
[null,null,null,null,null,null,null,null,null,null,null,null,null,null,null,null,null,13,null,14,"ZQES1?14",{"$f":"IF(LEFT(RTD(\"cqg.rtd\", ,\"ContractData\", U47,\"LastTradeorSettle\",,\"T\"),3)=\"768\",NA(),IF(RTD(\"cqg.rtd\", ,\"ContractData\", U47,\"LastTradeorSettle\",,\"T\")=\"\",NA(),RTD(\"cqg.rtd\", ,\"ContractData\", U47,\"LastTradeorSettle\",,\"T\")))","v":-0.14499999999999999},null,{"$f":"IF(LEFT(RTD(\"cqg.rtd\",,\"StudyData\",U47,  \"Bar\",, \"Close\",\"D\",\"-1\",\"All\",,,,\"T\"),3)=\"777\",NA(),IF(RTD(\"cqg.rtd\",,\"StudyData\",U47,  \"Bar\",, \"Close\",\"D\",\"-1\",\"All\",,,,\"T\")=\"\",NA(),RTD(\"cqg.rtd\",,\"StudyData\",U47,  \"Bar\",, \"Close\",\"D\",\"-1\",\"All\",,,,\"T\")))","v":-0.14499999999999999},{"$f":"IF(LEFT(RTD(\"cqg.rtd\",,\"StudyData\",U47,  \"Bar\",, \"Close\",\"D\",\"-5\",\"All\",,,,\"T\"),3)=\"777\",NA(),IF(RTD(\"cqg.rtd\",,\"StudyData\",U47,  \"Bar\",, \"Close\",\"D\",\"-5\",\"All\",,,,\"T\")=\"\",NA(),RTD(\"cqg.rtd\",,\"StudyData\",U47,  \"Bar\",, \"Close\",\"D\",\"-5\",\"All\",,,,\"T\")))","v":-0.19500000000000001},{"$f":"IF(LEFT(RTD(\"cqg.rtd\",,\"StudyData\",U47,  \"Bar\",, \"Close\",\"D\",\"-20\",\"All\",,,,\"T\"),3)=\"777\",NA(),IF(RTD(\"cqg.rtd\",,\"StudyData\",U47,  \"Bar\",, \"Close\",\"D\",\"-20\",\"All\",,,,\"T\")=\"\",NA(),RTD(\"cqg.rtd\",,\"StudyData\",U47,  \"Bar\",, \"Close\",\"D\",\"-20\",\"All\",,,,\"T\")))","v":-0.2},0,5.0000000000000017E-2,5.5000000000000021E-2,null,14,"ZQES2?14",{"$f":"IF(LEFT(RTD(\"cqg.rtd\", ,\"ContractData\", AF47,\"LastTradeorSettle\",,\"T\"),3)=\"768\",NA(),IF(RTD(\"cqg.rtd\", ,\"ContractData\", AF47,\"LastTradeorSettle\",,\"T\")=\"\",NA(),RTD(\"cqg.rtd\", ,\"ContractData\", AF47,\"LastTradeorSettle\",,\"T\")))","v":{"$error":"#N/A"}},null,{"$f":"IF(LEFT(RTD(\"cqg.rtd\",,\"StudyData\",AF47,  \"Bar\",, \"Close\",\"D\",\"-1\",\"All\",,,,\"T\"),3)=\"777\",NA(),IF(RTD(\"cqg.rtd\",,\"StudyData\",AF47,  \"Bar\",, \"Close\",\"D\",\"-1\",\"All\",,,,\"T\")=\"\",NA(),RTD(\"cqg.rtd\",,\"StudyData\",AF47,  \"Bar\",, \"Close\",\"D\",\"-1\",\"All\",,,,\"T\")))","v":-0.21},{"$f":"IF(LEFT(RTD(\"cqg.rtd\",,\"StudyData\",AF47,  \"Bar\",, \"Close\",\"D\",\"-5\",\"All\",,,,\"T\"),3)=\"777\",NA(),IF(RTD(\"cqg.rtd\",,\"StudyData\",AF47,  \"Bar\",, \"Close\",\"D\",\"-5\",\"All\",,,,\"T\")=\"\",NA(),RTD(\"cqg.rtd\",,\"StudyData\",AF47,  \"Bar\",, \"Close\",\"D\",\"-5\",\"All\",,,,\"T\")))","v":-0.315},{"$f":"IF(LEFT(RTD(\"cqg.rtd\",,\"StudyData\",AF47,  \"Bar\",, \"Close\",\"D\",\"-20\",\"All\",,,,\"T\"),3)=\"777\",NA(),IF(RTD(\"cqg.rtd\",,\"StudyData\",AF47,  \"Bar\",, \"Close\",\"D\",\"-20\",\"All\",,,,\"T\")=\"\",NA(),RTD(\"cqg.rtd\",,\"StudyData\",AF47,  \"Bar\",, \"Close\",\"D\",\"-20\",\"All\",,,,\"T\")))","v":-0.33500000000000002},{"$error":"#N/A"},{"$error":"#N/A"},{"$error":"#N/A"}]
[null,null,null,null,null,null,null,null,null,null,null,null,null,null,null,null,null,14,null,15,"ZQES1?15",{"$f":"IF(LEFT(RTD(\"cqg.rtd\", ,\"ContractData\", U48,\"LastTradeorSettle\",,\"T\"),3)=\"768\",NA(),IF(RTD(\"cqg.rtd\", ,\"ContractData\", U48,\"LastTradeorSettle\",,\"T\")=\"\",NA(),RTD(\"cqg.rtd\", ,\"ContractData\", U48,\"LastTradeorSettle\",,\"T\")))","v":{"$error":"#N/A"}},null,{"$f":"IF(LEFT(RTD(\"cqg.rtd\",,\"StudyData\",U48,  \"Bar\",, \"Close\",\"D\",\"-1\",\"All\",,,,\"T\"),3)=\"777\",NA(),IF(RTD(\"cqg.rtd\",,\"StudyData\",U48,  \"Bar\",, \"Close\",\"D\",\"-1\",\"All\",,,,\"T\")=\"\",NA(),RTD(\"cqg.rtd\",,\"StudyData\",U48,  \"Bar\",, \"Close\",\"D\",\"-1\",\"All\",,,,\"T\")))","v":-6.5000000000000002E-2},{"$f":"IF(LEFT(RTD(\"cqg.rtd\",,\"StudyData\",U48,  \"Bar\",, \"Close\",\"D\",\"-5\",\"All\",,,,\"T\"),3)=\"777\",NA(),IF(RTD(\"cqg.rtd\",,\"StudyData\",U48,  \"Bar\",, \"Close\",\"D\",\"-5\",\"All\",,,,\"T\")=\"\",NA(),RTD(\"cqg.rtd\",,\"StudyData\",U48,  \"Bar\",, \"Close\",\"D\",\"-5\",\"All\",,,,\"T\")))","v":-0.12},{"$f":"IF(LEFT(RTD(\"cqg.rtd\",,\"StudyData\",U48,  \"Bar\",, \"Close\",\"D\",\"-20\",\"All\",,,,\"T\"),3)=\"777\",NA(),IF(RTD(\"cqg.rtd\",,\"StudyData\",U48,  \"Bar\",, \"Close\",\"D\",\"-20\",\"All\",,,,\"T\")=\"\",NA(),RTD(\"cqg.rtd\",,\"StudyData\",U48,  \"Bar\",, \"Close\",\"D\",\"-20\",\"All\",,,,\"T\")))","v":-0.13500000000000001},{"$error":"#N/A"},{"$error":"#N/A"},{"$error":"#N/A"},null,15,"ZQES2?15",{"$f":"IF(LEFT(RTD(\"cqg.rtd\", ,\"ContractData\", AF48,\"LastTradeorSettle\",,\"T\"),3)=\"768\",NA(),IF(RTD(\"cqg.rtd\", ,\"ContractData\", AF48,\"LastTradeorSettle\",,\"T\")=\"\",NA(),RTD(\"cqg.rtd\", ,\"ContractData\", AF48,\"LastTradeorSettle\",,\"T\")))","v":-0.14000000000000001},null,{"$f":"IF(LEFT(RTD(\"cqg.rtd\",,\"StudyData\",AF48,  \"Bar\",, \"Close\",\"D\",\"-1\",\"All\",,,,\"T\"),3)=\"777\",NA(),IF(RTD(\"cqg.rtd\",,\"StudyData\",AF48,  \"Bar\",, \"Close\",\"D\",\"-1\",\"All\",,,,\"T\")=\"\",NA(),RTD(\"cqg.rtd\",,\"StudyData\",AF48,  \"Bar\",, \"Close\",\"D\",\"-1\",\"All\",,,,\"T\")))","v":-0.11},{"$f":"IF(LEFT(RTD(\"cqg.rtd\",,\"StudyData\",AF48,  \"Bar\",, \"Close\",\"D\",\"-5\",\"All\",,,,\"T\"),3)=\"777\",NA(),IF(RTD(\"cqg.rtd\",,\"StudyData\",AF48,  \"Bar\",, \"Close\",\"D\",\"-5\",\"All\",,,,\"T\")=\"\",NA(),RTD(\"cqg.rtd\",,\"StudyData\",AF48,  \"Bar\",, \"Close\",\"D\",\"-5\",\"All\",,,,\"T\")))","v":-0.20499999999999999},{"$f":"IF(LEFT(RTD(\"cqg.rtd\",,\"StudyData\",AF48,  \"Bar\",, \"Close\",\"D\",\"-20\",\"All\",,,,\"T\"),3)=\"777\",NA(),IF(RTD(\"cqg.rtd\",,\"StudyData\",AF48,  \"Bar\",, \"Close\",\"D\",\"-20\",\"All\",,,,\"T\")=\"\",NA(),RTD(\"cqg.rtd\",,\"StudyData\",AF48,  \"Bar\",, \"Close\",\"D\",\"-20\",\"All\",,,,\"T\")))","v":-0.23},-3.0000000000000013E-2,6.4999999999999974E-2,0.09]
[null,null,null,null,null,null,null,null,null,null,null,null,null,null,null,null,null,15,null,16,"ZQES1?16",{"$f":"IF(LEFT(RTD(\"cqg.rtd\", ,\"ContractData\", U49,\"LastTradeorSettle\",,\"T\"),3)=\"768\",NA(),IF(RTD(\"cqg.rtd\", ,\"ContractData\", U49,\"LastTradeorSettle\",,\"T\")=\"\",NA(),RTD(\"cqg.rtd\", ,\"ContractData\", U49,\"LastTradeorSettle\",,\"T\")))","v":{"$error":"#N/A"}},null,{"$f":"IF(LEFT(RTD(\"cqg.rtd\",,\"StudyData\",U49,  \"Bar\",, \"Close\",\"D\",\"-1\",\"All\",,,,\"T\"),3)=\"777\",NA(),IF(RTD(\"cqg.rtd\",,\"StudyData\",U49,  \"Bar\",, \"Close\",\"D\",\"-1\",\"All\",,,,\"T\")=\"\",NA(),RTD(\"cqg.rtd\",,\"StudyData\",U49,  \"Bar\",, \"Close\",\"D\",\"-1\",\"All\",,,,\"T\")))","v":-4.4999999999999998E-2},{"$f":"IF(LEFT(RTD(\"cqg.rtd\",,\"StudyData\",U49,  \"Bar\",, \"Close\",\"D\",\"-5\",\"All\",,,,\"T\"),3)=\"777\",NA(),IF(RTD(\"cqg.rtd\",,\"StudyData\",U49,  \"Bar\",, \"Close\",\"D\",\"-5\",\"All\",,,,\"T\")=\"\",NA(),RTD(\"cqg.rtd\",,\"StudyData\",U49,  \"Bar\",, \"Close\",\"D\",\"-5\",\"All\",,,,\"T\")))","v":-8.5000000000000006E-2},{"$f":"IF(LEFT(RTD(\"cqg.rtd\",,\"StudyData\",U49,  \"Bar\",, \"Close\",\"D\",\"-20\",\"All\",,,,\"T\"),3)=\"777\",NA(),IF(RTD(\"cqg.rtd\",,\"StudyData\",U49,  \"Bar\",, \"Close\",\"D\",\"-20\",\"All\",,,,\"T\")=\"\",NA(),RTD(\"cqg.rtd\",,\"StudyData\",U49,  \"Bar\",, \"Close\",\"D\",\"-20\",\"All\",,,,\"T\")))","v":-9.5000000000000001E-2},{"$error":"#N/A"},{"$error":"#N/A"},{"$error":"#N/A"},null,16,"ZQES2?16",{"$f":"IF(LEFT(RTD(\"cqg.rtd\", ,\"ContractData\", AF49,\"LastTradeorSettle\",,\"T\"),3)=\"768\",NA(),IF(RTD(\"cqg.rtd\", ,\"ContractData\", AF49,\"LastTradeorSettle\",,\"T\")=\"\",NA(),RTD(\"cqg.rtd\", ,\"ContractData\", AF49,\"LastTradeorSettle\",,\"T\")))","v":{"$error":"#N/A"}},null,{"$f":"IF(LEFT(RTD(\"cqg.rtd\",,\"StudyData\",AF49,  \"Bar\",, \"Close\",\"D\",\"-1\",\"All\",,,,\"T\"),3)=\"777\",NA(),IF(RTD(\"cqg.rtd\",,\"StudyData\",AF49,  \"Bar\",, \"Close\",\"D\",\"-1\",\"All\",,,,\"T\")=\"\",NA(),RTD(\"cqg.rtd\",,\"StudyData\",AF49,  \"Bar\",, \"Close\",\"D\",\"-1\",\"All\",,,,\"T\")))","v":-0.19500000000000001},{"$f":"IF(LEFT(RTD(\"cqg.rtd\",,\"StudyData\",AF49,  \"Bar\",, \"Close\",\"D\",\"-5\",\"All\",,,,\"T\"),3)=\"777\",NA(),IF(RTD(\"cqg.rtd\",,\"StudyData\",AF49,  \"Bar\",, \"Close\",\"D\",\"-5\",\"All\",,,,\"T\")=\"\",NA(),RTD(\"cqg.rtd\",,\"StudyData\",AF49,  \"Bar\",, \"Close\",\"D\",\"-5\",\"All\",,,,\"T\")))","v":-0.29499999999999998},{"$f":"IF(LEFT(RTD(\"cqg.rtd\",,\"StudyData\",AF49,  \"Bar\",, \"Close\",\"D\",\"-20\",\"All\",,,,\"T\"),3)=\"777\",NA(),IF(RTD(\"cqg.rtd\",,\"StudyData\",AF49,  \"Bar\",, \"Close\",\"D\",\"-20\",\"All\",,,,\"T\")=\"\",NA(),RTD(\"cqg.rtd\",,\"StudyData\",AF49,  \"Bar\",, \"Close\",\"D\",\"-20\",\"All\",,,,\"T\")))","v":-0.30499999999999999},{"$error":"#N/A"},{"$error":"#N/A"},{"$error":"#N/A"}]
[null,null,null,null,null,null,null,null,null,null,null,null,null,null,null,null,null,16,null,17,"ZQES1?17",{"$f":"IF(LEFT(RTD(\"cqg.rtd\", ,\"ContractData\", U50,\"LastTradeorSettle\",,\"T\"),3)=\"768\",NA(),IF(RTD(\"cqg.rtd\", ,\"ContractData\", U50,\"LastTradeorSettle\",,\"T\")=\"\",NA(),RTD(\"cqg.rtd\", ,\"ContractData\", U50,\"LastTradeorSettle\",,\"T\")))","v":-0.16500000000000001},null,{"$f":"IF(LEFT(RTD(\"cqg.rtd\",,\"StudyData\",U50,  \"Bar\",, \"Close\",\"D\",\"-1\",\"All\",,,,\"T\"),3)=\"777\",NA(),IF(RTD(\"cqg.rtd\",,\"StudyData\",U50,  \"Bar\",, \"Close\",\"D\",\"-1\",\"All\",,,,\"T\")=\"\",NA(),RTD(\"cqg.rtd\",,\"StudyData\",U50,  \"Bar\",, \"Close\",\"D\",\"-1\",\"All\",,,,\"T\")))","v":-0.15},{"$f":"IF(LEFT(RTD(\"cqg.rtd\",,\"StudyData\",U50,  \"Bar\",, \"Close\",\"D\",\"-5\",\"All\",,,,\"T\"),3)=\"777\",NA(),IF(RTD(\"cqg.rtd\",,\"StudyData\",U50,  \"Bar\",, \"Close\",\"D\",\"-5\",\"All\",,,,\"T\")=\"\",NA(),RTD(\"cqg.rtd\",,\"StudyData\",U50,  \"Bar\",, \"Close\",\"D\",\"-5\",\"All\",,,,\"T\")))","v":-0.21},{"$f":"IF(LEFT(RTD(\"cqg.rtd\",,\"StudyData\",U50,  \"Bar\",, \"Close\",\"D\",\"-20\",\"All\",,,,\"T\"),3)=\"777\",NA(),IF(RTD(\"cqg.rtd\",,\"StudyData\",U50,  \"Bar\",, \"Close\",\"D\",\"-20\",\"All\",,,,\"T\")=\"\",NA(),RTD(\"cqg.rtd\",,\"StudyData\",U50,  \"Bar\",, \"Close\",\"D\",\"-20\",\"All\",,,,\"T\")))","v":-0.21},-1.5000000000000013E-2,4.4999999999999984E-2,4.4999999999999984E-2,null,17,"ZQES2?17",{"$f":"IF(LEFT(RTD(\"cqg.rtd\", ,\"ContractData\", AF50,\"LastTradeorSettle\",,\"T\"),3)=\"768\",NA(),IF(RTD(\"cqg.rtd\", ,\"ContractData\", AF50,\"LastTradeorSettle\",,\"T\")=\"\",NA(),RTD(\"cqg.rtd\", ,\"ContractData\", AF50,\"LastTradeorSettle\",,\"T\")))","v":{"$error":"#N/A"}},null,{"$f":"IF(LEFT(RTD(\"cqg.rtd\",,\"StudyData\",AF50,  \"Bar\",, \"Close\",\"D\",\"-1\",\"All\",,,,\"T\"),3)=\"777\",NA(),IF(RTD(\"cqg.rtd\",,\"StudyData\",AF50,  \"Bar\",, \"Close\",\"D\",\"-1\",\"All\",,,,\"T\")=\"\",NA(),RTD(\"cqg.rtd\",,\"StudyData\",AF50,  \"Bar\",, \"Close\",\"D\",\"-1\",\"All\",,,,\"T\")))","v":-0.17499999999999999},{"$f":"IF(LEFT(RTD(\"cqg.rtd\",,\"StudyData\",AF50,  \"Bar\",, \"Close\",\"D\",\"-5\",\"All\",,,,\"T\"),3)=\"777\",NA(),IF(RTD(\"cqg.rtd\",,\"StudyData\",AF50,  \"Bar\",, \"Close\",\"D\",\"-5\",\"All\",,,,\"T\")=\"\",NA(),RTD(\"cqg.rtd\",,\"StudyData\",AF50,  \"Bar\",, \"Close\",\"D\",\"-5\",\"All\",,,,\"T\")))","v":-0.255},{"$f":"IF(LEFT(RTD(\"cqg.rtd\",,\"StudyData\",AF50,  \"Bar\",, \"Close\",\"D\",\"-20\",\"All\",,,,\"T\"),3)=\"777\",NA(),IF(RTD(\"cqg.rtd\",,\"StudyData\",AF50,  \"Bar\",, \"Close\",\"D\",\"-20\",\"All\",,,,\"T\")=\"\",NA(),RTD(\"cqg.rtd\",,\"StudyData\",AF50,  \"Bar\",, \"Close\",\"D\",\"-20\",\"All\",,,,\"T\")))","v":-0.245},{"$error":"#N/A"},{"$error":"#N/A"},{"$error":"#N/A"}]
[null,null,null,null,null,null,null,null,null,null,null,null,null,null,null,null,null,17,null,18,"ZQES1?18",{"$f":"IF(LEFT(RTD(\"cqg.rtd\", ,\"ContractData\", U51,\"LastTradeorSettle\",,\"T\"),3)=\"768\",NA(),IF(RTD(\"cqg.rtd\", ,\"ContractData\", U51,\"LastTradeorSettle\",,\"T\")=\"\",NA(),RTD(\"cqg.rtd\", ,\"ContractData\", U51,\"LastTradeorSettle\",,\"T\")))","v":{"$error":"#N/A"}},null,{"$f":"IF(LEFT(RTD(\"cqg.rtd\",,\"StudyData\",U51,  \"Bar\",, \"Close\",\"D\",\"-1\",\"All\",,,,\"T\"),3)=\"777\",NA(),IF(RTD(\"cqg.rtd\",,\"StudyData\",U51,  \"Bar\",, \"Close\",\"D\",\"-1\",\"All\",,,,\"T\")=\"\",NA(),RTD(\"cqg.rtd\",,\"StudyData\",U51,  \"Bar\",, \"Close\",\"D\",\"-1\",\"All\",,,,\"T\")))","v":-2.5000000000000001E-2},{"$f":"IF(LEFT(RTD(\"cqg.rtd\",,\"StudyData\",U51,  \"Bar\",, \"Close\",\"D\",\"-5\",\"All\",,,,\"T\"),3)=\"777\",NA(),IF(RTD(\"cqg.rtd\",,\"StudyData\",U51,  \"Bar\",, \"Close\",\"D\",\"-5\",\"All\",,,,\"T\")=\"\",NA(),RTD(\"cqg.rtd\",,\"StudyData\",U51,  \"Bar\",, \"Close\",\"D\",\"-5\",\"All\",,,,\"T\")))","v":-4.4999999999999998E-2},{"$f":"IF(LEFT(RTD(\"cqg.rtd\",,\"StudyData\",U51,  \"Bar\",, \"Close\",\"D\",\"-20\",\"All\",,,,\"T\"),3)=\"777\",NA(),IF(RTD(\"cqg.rtd\",,\"StudyData\",U51,  \"Bar\",, \"Close\",\"D\",\"-20\",\"All\",,,,\"T\")=\"\",NA(),RTD(\"cqg.rtd\",,\"StudyData\",U51,  \"Bar\",, \"Close\",\"D\",\"-20\",\"All\",,,,\"T\")))","v":-3.5000000000000003E-2},{"$error":"#N/A"},{"$error":"#N/A"},{"$error":"#N/A"},null,18,"ZQES2?18",{"$f":"IF(LEFT(RTD(\"cqg.rtd\", ,\"ContractData\", AF51,\"LastTradeorSettle\",,\"T\"),3)=\"768\",NA(),IF(RTD(\"cqg.rtd\", ,\"ContractData\", AF51,\"LastTradeorSettle\",,\"T\")=\"\",NA(),RTD(\"cqg.rtd\", ,\"ContractData\", AF51,\"LastTradeorSettle\",,\"T\")))","v":{"$error":"#N/A"}},null,{"$f":"IF(LEFT(RTD(\"cqg.rtd\",,\"StudyData\",AF51,  \"Bar\",, \"Close\",\"D\",\"-1\",\"All\",,,,\"T\"),3)=\"777\",NA(),IF(RTD(\"cqg.rtd\",,\"StudyData\",AF51,  \"Bar\",, \"Close\",\"D\",\"-1\",\"All\",,,,\"T\")=\"\",NA(),RTD(\"cqg.rtd\",,\"StudyData\",AF51,  \"Bar\",, \"Close\",\"D\",\"-1\",\"All\",,,,\"T\")))","v":-0.13},{"$f":"IF(LEFT(RTD(\"cqg.rtd\",,\"StudyData\",AF51,  \"Bar\",, \"Close\",\"D\",\"-5\",\"All\",,,,\"T\"),3)=\"777\",NA(),IF(RTD(\"cqg.rtd\",,\"StudyData\",AF51,  \"Bar\",, \"Close\",\"D\",\"-5\",\"All\",,,,\"T\")=\"\",NA(),RTD(\"cqg.rtd\",,\"StudyData\",AF51,  \"Bar\",, \"Close\",\"D\",\"-5\",\"All\",,,,\"T\")))","v":-0.16500000000000001},{"$f":"IF(LEFT(RTD(\"cqg.rtd\",,\"StudyData\",AF51,  \"Bar\",, \"Close\",\"D\",\"-20\",\"All\",,,,\"T\"),3)=\"777\",NA(),IF(RTD(\"cqg.rtd\",,\"StudyData\",AF51,  \"Bar\",, \"Close\",\"D\",\"-20\",\"All\",,,,\"T\")=\"\",NA(),RTD(\"cqg.rtd\",,\"StudyData\",AF51,  \"Bar\",, \"Close\",\"D\",\"-20\",\"All\",,,,\"T\")))","v":-0.14000000000000001},{"$error":"#N/A"},{"$error":"#N/A"},{"$error":"#N/A"}]
[null,null,null,null,null,null,null,null,null,null,null,null,null,null,null,null,null,18,null,19,"ZQES1?19",{"$f":"IF(LEFT(RTD(\"cqg.rtd\", ,\"ContractData\", U52,\"LastTradeorSettle\",,\"T\"),3)=\"768\",NA(),IF(RTD(\"cqg.rtd\", ,\"ContractData\", U52,\"LastTradeorSettle\",,\"T\")=\"\",NA(),RTD(\"cqg.rtd\", ,\"ContractData\", U52,\"LastTradeorSettle\",,\"T\")))","v":{"$error":"#N/A"}},null,{"$f":"IF(LEFT(RTD(\"cqg.rtd\",,\"StudyData\",U52,  \"Bar\",, \"Close\",\"D\",\"-1\",\"All\",,,,\"T\"),3)=\"777\",NA(),IF(RTD(\"cqg.rtd\",,\"StudyData\",U52,  \"Bar\",, \"Close\",\"D\",\"-1\",\"All\",,,,\"T\")=\"\",NA(),RTD(\"cqg.rtd\",,\"StudyData\",U52,  \"Bar\",, \"Close\",\"D\",\"-1\",\"All\",,,,\"T\")))","v":-0.105},{"$f":"IF(LEFT(RTD(\"cqg.rtd\",,\"StudyData\",U52,  \"Bar\",, \"Close\",\"D\",\"-5\",\"All\",,,,\"T\"),3)=\"777\",NA(),IF(RTD(\"cqg.rtd\",,\"StudyData\",U52,  \"Bar\",, \"Close\",\"D\",\"-5\",\"All\",,,,\"T\")=\"\",NA(),RTD(\"cqg.rtd\",,\"StudyData\",U52,  \"Bar\",, \"Close\",\"D\",\"-5\",\"All\",,,,\"T\")))","v":-0.12},{"$f":"IF(LEFT(RTD(\"cqg.rtd\",,\"StudyData\",U52,  \"Bar\",, \"Close\",\"D\",\"-20\",\"All\",,,,\"T\"),3)=\"777\",NA(),IF(RTD(\"cqg.rtd\",,\"StudyData\",U52,  \"Bar\",, \"Close\",\"D\",\"-20\",\"All\",,,,\"T\")=\"\",NA(),RTD(\"cqg.rtd\",,\"StudyData\",U52,  \"Bar\",, \"Close\",\"D\",\"-20\",\"All\",,,,\"T\")))","v":-0.105},{"$error":"#N/A"},{"$error":"#N/A"},{"$error":"#N/A"},null,19,"ZQES2?19",{"$f":"IF(LEFT(RTD(\"cqg.rtd\", ,\"ContractData\", AF52,\"LastTradeorSettle\",,\"T\"),3)=\"768\",NA(),IF(RTD(\"cqg.rtd\", ,\"ContractData\", AF52,\"LastTradeorSettle\",,\"T\")=\"\",NA(),RTD(\"cqg.rtd\", ,\"ContractData\", AF52,\"LastTradeorSettle\",,\"T\")))","v":{"$error":"#N/A"}},null,{"$f":"IF(LEFT(RTD(\"cqg.rtd\",,\"StudyData\",AF52,  \"Bar\",, \"Close\",\"D\",\"-1\",\"All\",,,,\"T\"),3)=\"777\",NA(),IF(RTD(\"cqg.rtd\",,\"StudyData\",AF52,  \"Bar\",, \"Close\",\"D\",\"-1\",\"All\",,,,\"T\")=\"\",NA(),RTD(\"cqg.rtd\",,\"StudyData\",AF52,  \"Bar\",, \"Close\",\"D\",\"-1\",\"All\",,,,\"T\")))","v":-0.21},{"$f":"IF(LEFT(RTD(\"cqg.rtd\",,\"StudyData\",AF52,  \"Bar\",, \"Close\",\"D\",\"-5\",\"All\",,,,\"T\"),3)=\"777\",NA(),IF(RTD(\"cqg.rtd\",,\"StudyData\",AF52,  \"Bar\",, \"Close\",\"D\",\"-5\",\"All\",,,,\"T\")=\"\",NA(),RTD(\"cqg.rtd\",,\"StudyData\",AF52,  \"Bar\",, \"Close\",\"D\",\"-5\",\"All\",,,,\"T\")))","v":-0.22500000000000001},{"$f":"IF(LEFT(RTD(\"cqg.rtd\",,\"StudyData\",AF52,  \"Bar\",, \"Close\",\"D\",\"-20\",\"All\",,,,\"T\"),3)=\"777\",NA(),IF(RTD(\"cqg.rtd\",,\"StudyData\",AF52,  \"Bar\",, \"Close\",\"D\",\"-20\",\"All\",,,,\"T\")=\"\",NA(),RTD(\"cqg.rtd\",,\"StudyData\",AF52,  \"Bar\",, \"Close\",\"D\",\"-20\",\"All\",,,,\"T\")))","v":-0.21},{"$error":"#N/A"},{"$error":"#N/A"},{"$error":"#N/A"}]
[null,null,null,null,null,null,null,null,null,null,null,null,null,null,null,null,null,19,null,20,"ZQES1?20",{"$f":"IF(LEFT(RTD(\"cqg.rtd\", ,\"ContractData\", U53,\"LastTradeorSettle\",,\"T\"),3)=\"768\",NA(),IF(RTD(\"cqg.rtd\", ,\"ContractData\", U53,\"LastTradeorSettle\",,\"T\")=\"\",NA(),RTD(\"cqg.rtd\", ,\"ContractData\", U53,\"LastTradeorSettle\",,\"T\")))","v":{"$error":"#N/A"}},null,{"$f":"IF(LEFT(RTD(\"cqg.rtd\",,\"StudyData\",U53,  \"Bar\",, \"Close\",\"D\",\"-1\",\"All\",,,,\"T\"),3)=\"777\",NA(),IF(RTD(\"cqg.rtd\",,\"StudyData\",U53,  \"Bar\",, \"Close\",\"D\",\"-1\",\"All\",,,,\"T\")=\"\",NA(),RTD(\"cqg.rtd\",,\"StudyData\",U53,  \"Bar\",, \"Close\",\"D\",\"-1\",\"All\",,,,\"T\")))","v":-0.105},{"$f":"IF(LEFT(RTD(\"cqg.rtd\",,\"StudyData\",U53,  \"Bar\",, \"Close\",\"D\",\"-5\",\"All\",,,,\"T\"),3)=\"777\",NA(),IF(RTD(\"cqg.rtd\",,\"StudyData\",U53,  \"Bar\",, \"Close\",\"D\",\"-5\",\"All\",,,,\"T\")=\"\",NA(),RTD(\"cqg.rtd\",,\"StudyData\",U53,  \"Bar\",, \"Close\",\"D\",\"-5\",\"All\",,,,\"T\")))","v":-0.105},{"$f":"IF(LEFT(RTD(\"cqg.rtd\",,\"StudyData\",U53,  \"Bar\",, \"Close\",\"D\",\"-20\",\"All\",,,,\"T\"),3)=\"777\",NA(),IF(RTD(\"cqg.rtd\",,\"StudyData\",U53,  \"Bar\",, \"Close\",\"D\",\"-20\",\"All\",,,,\"T\")=\"\",NA(),RTD(\"cqg.rtd\",,\"StudyData\",U53,  \"Bar\",, \"Close\",\"D\",\"-20\",\"All\",,,,\"T\")))","v":-0.105},{"$error":"#N/A"},{"$error":"#N/A"},{"$error":"#N/A"},null,20,"ZQES2?20",{"$f":"IF(LEFT(RTD(\"cqg.rtd\", ,\"ContractData\", AF53,\"LastTradeorSettle\",,\"T\"),3)=\"768\",NA(),IF(RTD(\"cqg.rtd\", ,\"ContractData\", AF53,\"LastTradeorSettle\",,\"T\")=\"\",NA(),RTD(\"cqg.rtd\", ,\"ContractData\", AF53,\"LastTradeorSettle\",,\"T\")))","v":{"$error":"#N/A"}},null,{"$f":"IF(LEFT(RTD(\"cqg.rtd\",,\"StudyData\",AF53,  \"Bar\",, \"Close\",\"D\",\"-1\",\"All\",,,,\"T\"),3)=\"777\",NA(),IF(RTD(\"cqg.rtd\",,\"StudyData\",AF53,  \"Bar\",, \"Close\",\"D\",\"-1\",\"All\",,,,\"T\")=\"\",NA(),RTD(\"cqg.rtd\",,\"StudyData\",AF53,  \"Bar\",, \"Close\",\"D\",\"-1\",\"All\",,,,\"T\")))","v":-0.36},{"$f":"IF(LEFT(RTD(\"cqg.rtd\",,\"StudyData\",AF53,  \"Bar\",, \"Close\",\"D\",\"-5\",\"All\",,,,\"T\"),3)=\"777\",NA(),IF(RTD(\"cqg.rtd\",,\"StudyData\",AF53,  \"Bar\",, \"Close\",\"D\",\"-5\",\"All\",,,,\"T\")=\"\",NA(),RTD(\"cqg.rtd\",,\"StudyData\",AF53,  \"Bar\",, \"Close\",\"D\",\"-5\",\"All\",,,,\"T\")))","v":-0.18},{"$f":"IF(LEFT(RTD(\"cqg.rtd\",,\"StudyData\",AF53,  \"Bar\",, \"Close\",\"D\",\"-20\",\"All\",,,,\"T\"),3)=\"777\",NA(),IF(RTD(\"cqg.rtd\",,\"StudyData\",AF53,  \"Bar\",, \"Close\",\"D\",\"-20\",\"All\",,,,\"T\")=\"\",NA(),RTD(\"cqg.rtd\",,\"StudyData\",AF53,  \"Bar\",, \"Close\",\"D\",\"-20\",\"All\",,,,\"T\")))","v":-0.20499999999999999},{"$error":"#N/A"},{"$error":"#N/A"},{"$error":"#N/A"}]
[null,null,null,null,null,null,null,null,null,null,null,null,null,null,null,null,null,20,null,21,"ZQES1?21",{"$f":"IF(LEFT(RTD(\"cqg.rtd\", ,\"ContractData\", U54,\"LastTradeorSettle\",,\"T\"),3)=\"768\",NA(),IF(RTD(\"cqg.rtd\", ,\"ContractData\", U54,\"LastTradeorSettle\",,\"T\")=\"\",NA(),RTD(\"cqg.rtd\", ,\"ContractData\", U54,\"LastTradeorSettle\",,\"T\")))","v":{"$error":"#N/A"}},null,{"$f":"IF(LEFT(RTD(\"cqg.rtd\",,\"StudyData\",U54,  \"Bar\",, \"Close\",\"D\",\"-1\",\"All\",,,,\"T\"),3)=\"777\",NA(),IF(RTD(\"cqg.rtd\",,\"StudyData\",U54,  \"Bar\",, \"Close\",\"D\",\"-1\",\"All\",,,,\"T\")=\"\",NA(),RTD(\"cqg.rtd\",,\"StudyData\",U54,  \"Bar\",, \"Close\",\"D\",\"-1\",\"All\",,,,\"T\")))","v":-0.255},{"$f":"IF(LEFT(RTD(\"cqg.rtd\",,\"StudyData\",U54,  \"Bar\",, \"Close\",\"D\",\"-5\",\"All\",,,,\"T\"),3)=\"777\",NA(),IF(RTD(\"cqg.rtd\",,\"StudyData\",U54,  \"Bar\",, \"Close\",\"D\",\"-5\",\"All\",,,,\"T\")=\"\",NA(),RTD(\"cqg.rtd\",,\"StudyData\",U54,  \"Bar\",, \"Close\",\"D\",\"-5\",\"All\",,,,\"T\")))","v":-7.4999999999999997E-2},{"$f":"IF(LEFT(RTD(\"cqg.rtd\",,\"StudyData\",U54,  \"Bar\",, \"Close\",\"D\",\"-20\",\"All\",,,,\"T\"),3)=\"777\",NA(),IF(RTD(\"cqg.rtd\",,\"StudyData\",U54,  \"Bar\",, \"Close\",\"D\",\"-20\",\"All\",,,,\"T\")=\"\",NA(),RTD(\"cqg.rtd\",,\"StudyData\",U54,  \"Bar\",, \"Close\",\"D\",\"-20\",\"All\",,,,\"T\")))","v":-0.1},{"$error":"#N/A"},{"$error":"#N/A"},{"$error":"#N/A"},null,21,"ZQES2?21",{"$f":"IF(LEFT(RTD(\"cqg.rtd\", ,\"ContractData\", AF54,\"LastTradeorSettle\",,\"T\"),3)=\"768\",NA(),IF(RTD(\"cqg.rtd\", ,\"ContractData\", AF54,\"LastTradeorSettle\",,\"T\")=\"\",NA(),RTD(\"cqg.rtd\", ,\"ContractData\", AF54,\"LastTradeorSettle\",,\"T\")))","v":{"$error":"#N/A"}},null,{"$f":"IF(LEFT(RTD(\"cqg.rtd\",,\"StudyData\",AF54,  \"Bar\",, \"Close\",\"D\",\"-1\",\"All\",,,,\"T\"),3)=\"777\",NA(),IF(RTD(\"cqg.rtd\",,\"StudyData\",AF54,  \"Bar\",, \"Close\",\"D\",\"-1\",\"All\",,,,\"T\")=\"\",NA(),RTD(\"cqg.rtd\",,\"StudyData\",AF54,  \"Bar\",, \"Close\",\"D\",\"-1\",\"All\",,,,\"T\")))","v":-0.45500000000000002},{"$f":"IF(LEFT(RTD(\"cqg.rtd\",,\"StudyData\",AF54,  \"Bar\",, \"Close\",\"D\",\"-5\",\"All\",,,,\"T\"),3)=\"777\",NA(),IF(RTD(\"cqg.rtd\",,\"StudyData\",AF54,  \"Bar\",, \"Close\",\"D\",\"-5\",\"All\",,,,\"T\")=\"\",NA(),RTD(\"cqg.rtd\",,\"StudyData\",AF54,  \"Bar\",, \"Close\",\"D\",\"-5\",\"All\",,,,\"T\")))","v":-8.5000000000000006E-2},{"$f":"IF(LEFT(RTD(\"cqg.rtd\",,\"StudyData\",AF54,  \"Bar\",, \"Close\",\"D\",\"-20\",\"All\",,,,\"T\"),3)=\"777\",NA(),IF(RTD(\"cqg.rtd\",,\"StudyData\",AF54,  \"Bar\",, \"Close\",\"D\",\"-20\",\"All\",,,,\"T\")=\"\",NA(),RTD(\"cqg.rtd\",,\"StudyData\",AF54,  \"Bar\",, \"Close\",\"D\",\"-20\",\"All\",,,,\"T\")))","v":-0.13},{"$error":"#N/A"},{"$error":"#N/A"},{"$error":"#N/A"}]
[null,null,null,null,null,null,null,null,null,null,null,null,null,null,null,null,null,21]
[null,null,null,null,null,null,null,null,null,null,null,null,null,null,null,null,null,22]
[null,null,null,null,null,null,null,null,null,null,null,null,null,null,null,null,null,23]
[null,null,null,null,null,null,null,null,null,null,null,null,null,null,null,null,null,24]
[null,null,null,null,null,null,null,null,null,null,null,null,null,null,null,null,null,25]