{"text_format":"1","workbook":"xlsx","n_sheets":2,"sheets":["SOFR_3_Mo_Master","SR3"],"not_rendered":{"charts":6,"images":2,"macros":1,"external_links":0,"defined_names":0,"comments":0,"pivot_tables":0},"unopened":[],"bounds":{"document_bytes":16777216,"sheet_cells":100000,"rows_first":2000,"rows_last":500,"rows_between":2000,"halvings":0,"cell_chars":16384,"cell_head_chars":4096},"cells_cut":0,"cells_raw":0,"read":"whole","date_system":"1900"}

{"sheet":"SOFR_3_Mo_Master","index":0,"n_rows":57,"n_cols":54,"rows_kept":57,"cut":false,"hidden":false,"merged":[[3,12,4,25],[56,9,56,10],[123,2,123,3],[118,1,118,2],[119,1,119,2],[90,10,92,10],[88,1,88,2],[112,1,112,2],[111,1,111,2],[110,1,110,2],[109,1,109,2],[108,1,108,2],[105,1,106,8],[117,1,117,2],[116,1,116,2],[115,1,115,2],[114,1,114,2],[113,1,113,2],[2,1,2,3],[2,4,2,6],[8,1,9,1],[24,1,24,2],[40,1,40,2],[25,1,26,8],[10,1,10,3],[24,4,24,7],[40,4,40,7],[121,20,121,21],[2,18,2,20],[121,17,121,18],[121,8,121,10],[106,10,108,10],[12,10,14,10],[2,7,2,10],[2,11,2,13],[121,15,121,16],[121,13,121,14],[2,14,2,17],[3,10,4,11],[73,1,74,8],[72,1,72,2],[74,10,76,10],[89,1,90,8],[56,17,56,18],[56,26,56,27],[56,4,56,7],[3,27,4,29],[8,8,9,9],[3,1,4,9],[6,6,7,9],[8,6,9,7],[6,4,7,5],[8,4,9,5],[6,2,7,3],[8,2,9,3],[6,1,7,1],[41,1,42,8],[56,1,56,2],[3,26,4,26]]}
[]
[]
[]
[null,{"$f":"\"CQG \"&RTD(\"cqg.rtd\",,\"ContractData\",K6,\"LongDescription\")","v":"CQG 3 Month SOFR, Jun 23"},null,null,null,null,null,null,null,null,null,null,"CQG 3 Month SOFR Forward Curves",null,null,null,null,null,null,null,null,null,null,null,null,null,null,{"$f":"RTD(\"cqg.rtd\", ,\"SystemInfo\", \"Linetime\")","v":45020.561770833338}]
[]
[null,null,null,null,null,null,null,null,null,null,{"$f":"RTD(\"cqg.rtd\", ,\"ContractData\",'SR3'!Q2, \"Symbol\")","v":"SR3M23"},{"$f":"RTD(\"cqg.rtd\", ,\"ContractData\",'SR3'!Q3, \"Symbol\")","v":"SR3U23"},{"$f":"RTD(\"cqg.rtd\", ,\"ContractData\",'SR3'!Q4, \"Symbol\")","v":"SR3Z23"},{"$f":"RTD(\"cqg.rtd\", ,\"ContractData\",'SR3'!Q5, \"Symbol\")","v":"SR3H24"},{"$f":"RTD(\"cqg.rtd\", ,\"ContractData\",'SR3'!Q6, \"Symbol\")","v":"SR3M24"},{"$f":"RTD(\"cqg.rtd\", ,\"ContractData\",'SR3'!Q7, \"Symbol\")","v":"SR3U24"},{"$f":"RTD(\"cqg.rtd\", ,\"ContractData\",'SR3'!Q8, \"Symbol\")","v":"SR3Z24"},{"$f":"RTD(\"cqg.rtd\", ,\"ContractData\",'SR3'!Q9, \"Symbol\")","v":"SR3H25"},{"$f":"RTD(\"cqg.rtd\", ,\"ContractData\",'SR3'!Q10, \"Symbol\")","v":"SR3M25"},{"$f":"RTD(\"cqg.rtd\", ,\"ContractData\",'SR3'!Q11, \"Symbol\")","v":"SR3U25"},{"$f":"RTD(\"cqg.rtd\", ,\"ContractData\",'SR3'!Q12, \"Symbol\")","v":"SR3Z25"},{"$f":"RTD(\"cqg.rtd\", ,\"ContractData\",'SR3'!Q13, \"Symbol\")","v":"SR3H26"},{"$f":"RTD(\"cqg.rtd\", ,\"ContractData\",'SR3'!Q14, \"Symbol\")","v":"SR3M26"},{"$f":"RTD(\"cqg.rtd\", ,\"ContractData\",'SR3'!Q15, \"Symbol\")","v":"SR3U26"},{"$f":"RTD(\"cqg.rtd\", ,\"ContractData\",'SR3'!Q16, \"Symbol\")","v":"SR3Z26"},{"$f":"RTD(\"cqg.rtd\", ,\"ContractData\",'SR3'!Q17, \"Symbol\")","v":"SR3H27"},{"$f":"RTD(\"cqg.rtd\", ,\"ContractData\",'SR3'!Q18, \"Symbol\")","v":"SR3M27"},{"$f":"RTD(\"cqg.rtd\", ,\"ContractData\",'SR3'!Q18, \"Symbol\")","v":"SR3M27"},{"$f":"RTD(\"cqg.rtd\", ,\"ContractData\",'SR3'!Q20, \"Symbol\")","v":"SR3Z27"},{"$f":"RTD(\"cqg.rtd\", ,\"ContractData\",'SR3'!Q21, \"Symbol\")","v":"SR3H28"},null,null,null,null,{"$f":"LEFT(RIGHT(K6,3),1)","v":"M"},{"$f":"LEFT(RIGHT(L6,3),1)","v":"U"},{"$f":"LEFT(RIGHT(M6,3),1)","v":"Z"},"H","M","U","Z","H","M","U","Z","H","M","U",{"$f":"LEFT(RIGHT(Y6,3),1)","v":"Z"},{"$f":"LEFT(RIGHT(Z6,3),1)","v":"H"},{"$f":"LEFT(RIGHT(AA6,3),1)","v":"M"},{"$f":"LEFT(RIGHT(AB6,3),1)","v":"M"},{"$f":"LEFT(RIGHT(AC6,3),1)","v":"Z"},{"$f":"LEFT(RIGHT(AD6,3),1)","v":"H"}]
[null,"Ask",{"$f":"RTD(\"cqg.rtd\", ,\"ContractData\",K6, \"MT_LastAskVolume\")","v":1142},null,{"$f":"RTD(\"cqg.rtd\", ,\"ContractData\",K6, \"Ask\",,\"T\")","v":95.174999999999997},null,"Last Trade",null,null,null,{"$f":"IF(AI6=\"F\",\"JAN\",IF(AI6=\"G\",\"FEB\",IF(AI6=\"H\",\"MAR\",IF(AI6=\"J\",\"APR\",IF(AI6=\"K\",\"MAY\",IF(AI6=\"M\",\"JUN\",IF(AI6=\"N\",\"JUL\",IF(AI6=\"Q\",\"AUG\",IF(AI6=\"U\",\"SEP\",IF(AI6=\"V\",\"OCT\",IF(AI6=\"X\",\"NOV\",IF(AI6=\"Z\",\"DEC\",))))))))))))&\" \"&RIGHT(K6,2)","v":"JUN 23"},"SEP 23","DEC 23","MAR 24","JUN 24","SEP 24","DEC 24","MAR 25","JUN 25","SEP 25","DEC 25","MAR 26","JUN 26","SEP 26",{"$f":"IF(AW6=\"F\",\"JAN\",IF(AW6=\"G\",\"FEB\",IF(AW6=\"H\",\"MAR\",IF(AW6=\"J\",\"APR\",IF(AW6=\"K\",\"MAY\",IF(AW6=\"M\",\"JUN\",IF(AW6=\"N\",\"JUL\",IF(AW6=\"Q\",\"AUG\",IF(AW6=\"U\",\"SEP\",IF(AW6=\"V\",\"OCT\",IF(AW6=\"X\",\"NOV\",IF(AW6=\"Z\",\"DEC\",))))))))))))&\" \"&RIGHT(Y6,2)","v":"DEC 26"},"MAR 27","JUN 27","JUN 27","DEC 27","MAR 28"]
[null,null,null,null,null,null,null,null,null,null,{"$f":"IF(RTD(\"cqg.rtd\",,\"ContractData\",K6,\"Ask\",,\"T\")=\"\",\"\",TEXT(RTD(\"cqg.rtd\",,\"ContractData\",K6,\"Ask\",,\"T\"),\"#.0000\")&\" \"&\"A\")","v":"95.1750 A"},{"$f":"IF(RTD(\"cqg.rtd\",,\"ContractData\",L6,\"Ask\",,\"T\")=\"\",\"\",TEXT(RTD(\"cqg.rtd\",,\"ContractData\",L6,\"Ask\",,\"T\"),\"#.000\")&\" \"&\"A\")","v":"95.520 A"},{"$f":"IF(RTD(\"cqg.rtd\",,\"ContractData\",M6,\"Ask\",,\"T\")=\"\",\"\",TEXT(RTD(\"cqg.rtd\",,\"ContractData\",M6,\"Ask\",,\"T\"),\"#.000\")&\" \"&\"A\")","v":"95.890 A"},{"$f":"IF(RTD(\"cqg.rtd\",,\"ContractData\",N6,\"Ask\",,\"T\")=\"\",\"\",TEXT(RTD(\"cqg.rtd\",,\"ContractData\",N6,\"Ask\",,\"T\"),\"#.000\")&\" \"&\"A\")","v":"96.345 A"},{"$f":"IF(RTD(\"cqg.rtd\",,\"ContractData\",O6,\"Ask\",,\"T\")=\"\",\"\",TEXT(RTD(\"cqg.rtd\",,\"ContractData\",O6,\"Ask\",,\"T\"),\"#.000\")&\" \"&\"A\")","v":"96.725 A"},{"$f":"IF(RTD(\"cqg.rtd\",,\"ContractData\",P6,\"Ask\",,\"T\")=\"\",\"\",TEXT(RTD(\"cqg.rtd\",,\"ContractData\",P6,\"Ask\",,\"T\"),\"#.000\")&\" \"&\"A\")","v":"97.005 A"},{"$f":"IF(RTD(\"cqg.rtd\",,\"ContractData\",Q6,\"Ask\",,\"T\")=\"\",\"\",TEXT(RTD(\"cqg.rtd\",,\"ContractData\",Q6,\"Ask\",,\"T\"),\"#.000\")&\" \"&\"A\")","v":"97.150 A"},{"$f":"IF(RTD(\"cqg.rtd\",,\"ContractData\",R6,\"Ask\",,\"T\")=\"\",\"\",TEXT(RTD(\"cqg.rtd\",,\"ContractData\",R6,\"Ask\",,\"T\"),\"#.000\")&\" \"&\"A\")","v":"97.220 A"},{"$f":"IF(RTD(\"cqg.rtd\",,\"ContractData\",S6,\"Ask\",,\"T\")=\"\",\"\",TEXT(RTD(\"cqg.rtd\",,\"ContractData\",S6,\"Ask\",,\"T\"),\"#.000\")&\" \"&\"A\")","v":"97.245 A"},{"$f":"IF(RTD(\"cqg.rtd\",,\"ContractData\",T6,\"Ask\",,\"T\")=\"\",\"\",TEXT(RTD(\"cqg.rtd\",,\"ContractData\",T6,\"Ask\",,\"T\"),\"#.000\")&\" \"&\"A\")","v":"97.255 A"},{"$f":"IF(RTD(\"cqg.rtd\",,\"ContractData\",U6,\"Ask\",,\"T\")=\"\",\"\",TEXT(RTD(\"cqg.rtd\",,\"ContractData\",U6,\"Ask\",,\"T\"),\"#.000\")&\" \"&\"A\")","v":"97.265 A"},{"$f":"IF(RTD(\"cqg.rtd\",,\"ContractData\",V6,\"Ask\",,\"T\")=\"\",\"\",TEXT(RTD(\"cqg.rtd\",,\"ContractData\",V6,\"Ask\",,\"T\"),\"#.000\")&\" \"&\"A\")","v":"97.255 A"},{"$f":"IF(RTD(\"cqg.rtd\",,\"ContractData\",W6,\"Ask\",,\"T\")=\"\",\"\",TEXT(RTD(\"cqg.rtd\",,\"ContractData\",W6,\"Ask\",,\"T\"),\"#.000\")&\" \"&\"A\")","v":"97.240 A"},{"$f":"IF(RTD(\"cqg.rtd\",,\"ContractData\",X6,\"Ask\",,\"T\")=\"\",\"\",TEXT(RTD(\"cqg.rtd\",,\"ContractData\",X6,\"Ask\",,\"T\"),\"#.000\")&\" \"&\"A\")","v":"97.215 A"},{"$f":"IF(RTD(\"cqg.rtd\",,\"ContractData\",Y6,\"Ask\",,\"T\")=\"\",\"\",TEXT(RTD(\"cqg.rtd\",,\"ContractData\",Y6,\"Ask\",,\"T\"),\"#.000\")&\" \"&\"A\")","v":"97.200 A"},{"$f":"IF(RTD(\"cqg.rtd\",,\"ContractData\",Z6,\"Ask\",,\"T\")=\"\",\"\",TEXT(RTD(\"cqg.rtd\",,\"ContractData\",Z6,\"Ask\",,\"T\"),\"#.000\")&\" \"&\"A\")","v":"97.175 A"},{"$f":"IF(RTD(\"cqg.rtd\",,\"ContractData\",AA6,\"Ask\",,\"T\")=\"\",\"\",TEXT(RTD(\"cqg.rtd\",,\"ContractData\",AA6,\"Ask\",,\"T\"),\"#.000\")&\" \"&\"A\")","v":"97.150 A"},{"$f":"IF(RTD(\"cqg.rtd\",,\"ContractData\",AB6,\"Ask\",,\"T\")=\"\",\"\",TEXT(RTD(\"cqg.rtd\",,\"ContractData\",AB6,\"Ask\",,\"T\"),\"#.000\")&\" \"&\"A\")","v":"97.150 A"},{"$f":"IF(RTD(\"cqg.rtd\",,\"ContractData\",AC6,\"Ask\",,\"T\")=\"\",\"\",TEXT(RTD(\"cqg.rtd\",,\"ContractData\",AC6,\"Ask\",,\"T\"),\"#.000\")&\" \"&\"A\")","v":"97.080 A"},{"$f":"IF(RTD(\"cqg.rtd\",,\"ContractData\",AD6,\"Ask\",,\"T\")=\"\",\"\",TEXT(RTD(\"cqg.rtd\",,\"ContractData\",AD6,\"Ask\",,\"T\"),\"#.000\")&\" \"&\"A\")","v":"97.050 A"}]
[null,"Bid",{"$f":"RTD(\"cqg.rtd\", ,\"ContractData\",K6, \"MT_LastBidVolume\")","v":1334},null,{"$f":"RTD(\"cqg.rtd\", ,\"ContractData\",K6, \"Bid\",,\"T\")","v":95.17},null,{"$f":"RTD(\"cqg.rtd\", ,\"ContractData\",K6,\"LastTradeorSettle\",,\"T\")","v":95.174999999999997},null,{"$f":"IF(G13>0,\"+\"&TEXT(RTD(\"cqg.rtd\",,\"ContractData\",K6,\"NetLastTradeToday\",,\"T\"),\"#.0000\"),TEXT(G13,\"#.0000\"))","v":"+.1050"},null,{"$f":"IF(RTD(\"cqg.rtd\",,\"ContractData\",K6,\"Bid\",,\"T\")=\"\",\"\",TEXT(RTD(\"cqg.rtd\",,\"ContractData\",K6,\"Bid\",,\"T\"),\"#.0000\")&\" \"&\"B\")","v":"95.1700 B"},{"$f":"IF(RTD(\"cqg.rtd\",,\"ContractData\",L6,\"Bid\",,\"T\")=\"\",\"\",TEXT(RTD(\"cqg.rtd\",,\"ContractData\",L6,\"Bid\",,\"T\"),\"#.000\")&\" \"&\"B\")","v":"95.515 B"},{"$f":"IF(RTD(\"cqg.rtd\",,\"ContractData\",M6,\"Bid\",,\"T\")=\"\",\"\",TEXT(RTD(\"cqg.rtd\",,\"ContractData\",M6,\"Bid\",,\"T\"),\"#.000\")&\" \"&\"B\")","v":"95.885 B"},{"$f":"IF(RTD(\"cqg.rtd\",,\"ContractData\",N6,\"Bid\",,\"T\")=\"\",\"\",TEXT(RTD(\"cqg.rtd\",,\"ContractData\",N6,\"Bid\",,\"T\"),\"#.000\")&\" \"&\"B\")","v":"96.340 B"},{"$f":"IF(RTD(\"cqg.rtd\",,\"ContractData\",O6,\"Bid\",,\"T\")=\"\",\"\",TEXT(RTD(\"cqg.rtd\",,\"ContractData\",O6,\"Bid\",,\"T\"),\"#.000\")&\" \"&\"B\")","v":"96.720 B"},{"$f":"IF(RTD(\"cqg.rtd\",,\"ContractData\",P6,\"Bid\",,\"T\")=\"\",\"\",TEXT(RTD(\"cqg.rtd\",,\"ContractData\",P6,\"Bid\",,\"T\"),\"#.000\")&\" \"&\"B\")","v":"96.995 B"},{"$f":"IF(RTD(\"cqg.rtd\",,\"ContractData\",Q6,\"Bid\",,\"T\")=\"\",\"\",TEXT(RTD(\"cqg.rtd\",,\"ContractData\",Q6,\"Bid\",,\"T\"),\"#.000\")&\" \"&\"B\")","v":"97.145 B"},{"$f":"IF(RTD(\"cqg.rtd\",,\"ContractData\",R6,\"Bid\",,\"T\")=\"\",\"\",TEXT(RTD(\"cqg.rtd\",,\"ContractData\",R6,\"Bid\",,\"T\"),\"#.000\")&\" \"&\"B\")","v":"97.215 B"},{"$f":"IF(RTD(\"cqg.rtd\",,\"ContractData\",S6,\"Bid\",,\"T\")=\"\",\"\",TEXT(RTD(\"cqg.rtd\",,\"ContractData\",S6,\"Bid\",,\"T\"),\"#.000\")&\" \"&\"B\")","v":"97.240 B"},{"$f":"IF(RTD(\"cqg.rtd\",,\"ContractData\",T6,\"Bid\",,\"T\")=\"\",\"\",TEXT(RTD(\"cqg.rtd\",,\"ContractData\",T6,\"Bid\",,\"T\"),\"#.000\")&\" \"&\"B\")","v":"97.250 B"},{"$f":"IF(RTD(\"cqg.rtd\",,\"ContractData\",U6,\"Bid\",,\"T\")=\"\",\"\",TEXT(RTD(\"cqg.rtd\",,\"ContractData\",U6,\"Bid\",,\"T\"),\"#.000\")&\" \"&\"B\")","v":"97.260 B"},{"$f":"IF(RTD(\"cqg.rtd\",,\"ContractData\",V6,\"Bid\",,\"T\")=\"\",\"\",TEXT(RTD(\"cqg.rtd\",,\"ContractData\",V6,\"Bid\",,\"T\"),\"#.000\")&\" \"&\"B\")","v":"97.245 B"},{"$f":"IF(RTD(\"cqg.rtd\",,\"ContractData\",W6,\"Bid\",,\"T\")=\"\",\"\",TEXT(RTD(\"cqg.rtd\",,\"ContractData\",W6,\"Bid\",,\"T\"),\"#.000\")&\" \"&\"B\")","v":"97.235 B"},{"$f":"IF(RTD(\"cqg.rtd\",,\"ContractData\",X6,\"Bid\",,\"T\")=\"\",\"\",TEXT(RTD(\"cqg.rtd\",,\"ContractData\",X6,\"Bid\",,\"T\"),\"#.000\")&\" \"&\"B\")","v":"97.210 B"},{"$f":"IF(RTD(\"cqg.rtd\",,\"ContractData\",Y6,\"Bid\",,\"T\")=\"\",\"\",TEXT(RTD(\"cqg.rtd\",,\"ContractData\",Y6,\"Bid\",,\"T\"),\"#.000\")&\" \"&\"B\")","v":"97.195 B"},{"$f":"IF(RTD(\"cqg.rtd\",,\"ContractData\",Z6,\"Bid\",,\"T\")=\"\",\"\",TEXT(RTD(\"cqg.rtd\",,\"ContractData\",Z6,\"Bid\",,\"T\"),\"#.000\")&\" \"&\"B\")","v":"97.170 B"},{"$f":"IF(RTD(\"cqg.rtd\",,\"ContractData\",AA6,\"Bid\",,\"T\")=\"\",\"\",TEXT(RTD(\"cqg.rtd\",,\"ContractData\",AA6,\"Bid\",,\"T\"),\"#.000\")&\" \"&\"B\")","v":"97.140 B"},{"$f":"IF(RTD(\"cqg.rtd\",,\"ContractData\",AB6,\"Bid\",,\"T\")=\"\",\"\",TEXT(RTD(\"cqg.rtd\",,\"ContractData\",AB6,\"Bid\",,\"T\"),\"#.000\")&\" \"&\"B\")","v":"97.140 B"},{"$f":"IF(RTD(\"cqg.rtd\",,\"ContractData\",AC6,\"Bid\",,\"T\")=\"\",\"\",TEXT(RTD(\"cqg.rtd\",,\"ContractData\",AC6,\"Bid\",,\"T\"),\"#.000\")&\" \"&\"B\")","v":"97.070 B"},{"$f":"IF(RTD(\"cqg.rtd\",,\"ContractData\",AD6,\"Bid\",,\"T\")=\"\",\"\",TEXT(RTD(\"cqg.rtd\",,\"ContractData\",AD6,\"Bid\",,\"T\"),\"#.000\")&\" \"&\"B\")","v":"97.040 B"}]
[null,null,null,null,null,null,null,null,null,null,{"$f":"TEXT(RTD(\"cqg.rtd\", ,\"ContractData\",K6,\"LastTradeorSettle\",,\"T\"),\"#.0000\")&\" \"&\"L\"","v":"95.1750 L"},{"$f":"TEXT(RTD(\"cqg.rtd\", ,\"ContractData\",L6,\"LastTradeorSettle\",,\"T\"),\"#.000\")&\" \"&\"L\"","v":"95.515 L"},{"$f":"TEXT(RTD(\"cqg.rtd\", ,\"ContractData\",M6,\"LastTradeorSettle\",,\"T\"),\"#.000\")&\" \"&\"L\"","v":"95.890 L"},{"$f":"TEXT(RTD(\"cqg.rtd\", ,\"ContractData\",N6,\"LastTradeorSettle\",,\"T\"),\"#.000\")&\" \"&\"L\"","v":"96.340 L"},{"$f":"TEXT(RTD(\"cqg.rtd\", ,\"ContractData\",O6,\"LastTradeorSettle\",,\"T\"),\"#.000\")&\" \"&\"L\"","v":"96.725 L"},{"$f":"TEXT(RTD(\"cqg.rtd\", ,\"ContractData\",P6,\"LastTradeorSettle\",,\"T\"),\"#.000\")&\" \"&\"L\"","v":"97.000 L"},{"$f":"TEXT(RTD(\"cqg.rtd\", ,\"ContractData\",Q6,\"LastTradeorSettle\",,\"T\"),\"#.000\")&\" \"&\"L\"","v":"97.145 L"},{"$f":"TEXT(RTD(\"cqg.rtd\", ,\"ContractData\",R6,\"LastTradeorSettle\",,\"T\"),\"#.000\")&\" \"&\"L\"","v":"97.220 L"},{"$f":"TEXT(RTD(\"cqg.rtd\", ,\"ContractData\",S6,\"LastTradeorSettle\",,\"T\"),\"#.000\")&\" \"&\"L\"","v":"97.245 L"},{"$f":"TEXT(RTD(\"cqg.rtd\", ,\"ContractData\",T6,\"LastTradeorSettle\",,\"T\"),\"#.000\")&\" \"&\"L\"","v":"97.255 L"},{"$f":"TEXT(RTD(\"cqg.rtd\", ,\"ContractData\",U6,\"LastTradeorSettle\",,\"T\"),\"#.000\")&\" \"&\"L\"","v":"97.265 L"},{"$f":"TEXT(RTD(\"cqg.rtd\", ,\"ContractData\",V6,\"LastTradeorSettle\",,\"T\"),\"#.000\")&\" \"&\"L\"","v":"97.250 L"},{"$f":"TEXT(RTD(\"cqg.rtd\", ,\"ContractData\",W6,\"LastTradeorSettle\",,\"T\"),\"#.000\")&\" \"&\"L\"","v":"97.240 L"},{"$f":"TEXT(RTD(\"cqg.rtd\", ,\"ContractData\",X6,\"LastTradeorSettle\",,\"T\"),\"#.000\")&\" \"&\"L\"","v":"97.215 L"},{"$f":"TEXT(RTD(\"cqg.rtd\", ,\"ContractData\",Y6,\"LastTradeorSettle\",,\"T\"),\"#.000\")&\" \"&\"L\"","v":"97.200 L"},{"$f":"TEXT(RTD(\"cqg.rtd\", ,\"ContractData\",Z6,\"LastTradeorSettle\",,\"T\"),\"#.000\")&\" \"&\"L\"","v":"97.175 L"},{"$f":"TEXT(RTD(\"cqg.rtd\", ,\"ContractData\",AA6,\"LastTradeorSettle\",,\"T\"),\"#.000\")&\" \"&\"L\"","v":"97.145 L"},{"$f":"TEXT(RTD(\"cqg.rtd\", ,\"ContractData\",AB6,\"LastTradeorSettle\",,\"T\"),\"#.000\")&\" \"&\"L\"","v":"97.145 L"},{"$f":"TEXT(RTD(\"cqg.rtd\", ,\"ContractData\",AC6,\"LastTradeorSettle\",,\"T\"),\"#.000\")&\" \"&\"L\"","v":"97.075 L"},{"$f":"TEXT(RTD(\"cqg.rtd\", ,\"ContractData\",AD6,\"LastTradeorSettle\",,\"T\"),\"#.000\")&\" \"&\"L\"","v":"97.045 L"}]
[null,"Enter First Contract Symbol: ",null,null,"SR3M23",null,{"$f":"'SR3'!C18","v":98},{"$f":"'SR3'!D18","v":94}]
[null,"Symbols","Open","High","Low","Last","Net","Net","Volume"]
[{"$f":"RTD(\"cqg.rtd\",,\"ContractData\",K6, \"Symbol\")","v":"SR3M23"},{"$f":"RIGHT(RTD(\"cqg.rtd\",,\"ContractData\",A13, \"LongDescription\"),7)","v":" Jun 23"},{"$f":"RTD(\"cqg.rtd\", ,\"ContractData\",A13, \"Open\",,\"T\")","v":95.085000000000008},{"$f":"RTD(\"cqg.rtd\", ,\"ContractData\",A13, \"High\",,\"T\")","v":95.234999999999999},{"$f":"RTD(\"cqg.rtd\", ,\"ContractData\",A13, \"Low\",,\"T\")","v":95.025000000000006},{"$f":"RTD(\"cqg.rtd\", ,\"ContractData\",A13, \"LastTradeorSettle\",,\"T\")","v":95.174999999999997},{"$f":"RTD(\"cqg.rtd\",,\"ContractData\",A13,\"NetLastTradeToday\",,\"T\")","v":0.105},{"$f":"RTD(\"cqg.rtd\",,\"ContractData\",A13,\"NetLastTradeToday\",,\"T\")","v":0.105},{"$f":"RTD(\"cqg.rtd\", ,\"ContractData\",A13, \"T_CVol\")","v":364640}]
[{"$f":"RTD(\"cqg.rtd\",,\"ContractData\",L6, \"Symbol\")","v":"SR3U23"},{"$f":"RIGHT(RTD(\"cqg.rtd\",,\"ContractData\",A14, \"LongDescription\"),7)","v":" Sep 23"},{"$f":"RTD(\"cqg.rtd\", ,\"ContractData\",A14, \"Open\",,\"T\")","v":95.405000000000001},{"$f":"RTD(\"cqg.rtd\", ,\"ContractData\",A14, \"High\",,\"T\")","v":95.600000000000009},{"$f":"RTD(\"cqg.rtd\", ,\"ContractData\",A14, \"Low\",,\"T\")","v":95.314999999999998},{"$f":"RTD(\"cqg.rtd\", ,\"ContractData\",A14, \"LastTradeorSettle\",,\"T\")","v":95.515000000000001},{"$f":"RTD(\"cqg.rtd\",,\"ContractData\",A14,\"NetLastTradeToday\",,\"T\")","v":0.13500000000000001},{"$f":"RTD(\"cqg.rtd\",,\"ContractData\",A14,\"NetLastTradeToday\",,\"T\")","v":0.13500000000000001},{"$f":"RTD(\"cqg.rtd\", ,\"ContractData\",A14, \"T_CVol\")","v":325168}]
[{"$f":"RTD(\"cqg.rtd\",,\"ContractData\",M6, \"Symbol\")","v":"SR3Z23"},{"$f":"RIGHT(RTD(\"cqg.rtd\",,\"ContractData\",A15, \"LongDescription\"),7)","v":" Dec 23"},{"$f":"RTD(\"cqg.rtd\", ,\"ContractData\",A15, \"Open\",,\"T\")","v":95.77},{"$f":"RTD(\"cqg.rtd\", ,\"ContractData\",A15, \"High\",,\"T\")","v":95.965000000000003},{"$f":"RTD(\"cqg.rtd\", ,\"ContractData\",A15, \"Low\",,\"T\")","v":95.66},{"$f":"RTD(\"cqg.rtd\", ,\"ContractData\",A15, \"LastTradeorSettle\",,\"T\")","v":95.89},{"$f":"RTD(\"cqg.rtd\",,\"ContractData\",A15,\"NetLastTradeToday\",,\"T\")","v":0.15},{"$f":"RTD(\"cqg.rtd\",,\"ContractData\",A15,\"NetLastTradeToday\",,\"T\")","v":0.15},{"$f":"RTD(\"cqg.rtd\", ,\"ContractData\",A15, \"T_CVol\")","v":324645}]
[{"$f":"RTD(\"cqg.rtd\",,\"ContractData\",N6, \"Symbol\")","v":"SR3H24"},{"$f":"RIGHT(RTD(\"cqg.rtd\",,\"ContractData\",A16, \"LongDescription\"),7)","v":" Mar 24"},{"$f":"RTD(\"cqg.rtd\", ,\"ContractData\",A16, \"Open\",,\"T\")","v":96.215000000000003},{"$f":"RTD(\"cqg.rtd\", ,\"ContractData\",A16, \"High\",,\"T\")","v":96.4},{"$f":"RTD(\"cqg.rtd\", ,\"ContractData\",A16, \"Low\",,\"T\")","v":96.100000000000009},{"$f":"RTD(\"cqg.rtd\", ,\"ContractData\",A16, \"LastTradeorSettle\",,\"T\")","v":96.34},{"$f":"RTD(\"cqg.rtd\",,\"ContractData\",A16,\"NetLastTradeToday\",,\"T\")","v":0.16},{"$f":"RTD(\"cqg.rtd\",,\"ContractData\",A16,\"NetLastTradeToday\",,\"T\")","v":0.16},{"$f":"RTD(\"cqg.rtd\", ,\"ContractData\",A16, \"T_CVol\")","v":204189}]
[{"$f":"RTD(\"cqg.rtd\",,\"ContractData\",O6, \"Symbol\")","v":"SR3M24"},{"$f":"RIGHT(RTD(\"cqg.rtd\",,\"ContractData\",A17, \"LongDescription\"),7)","v":" Jun 24"},{"$f":"RTD(\"cqg.rtd\", ,\"ContractData\",A17, \"Open\",,\"T\")","v":96.600000000000009},{"$f":"RTD(\"cqg.rtd\", ,\"ContractData\",A17, \"High\",,\"T\")","v":96.76},{"$f":"RTD(\"cqg.rtd\", ,\"ContractData\",A17, \"Low\",,\"T\")","v":96.490000000000009},{"$f":"RTD(\"cqg.rtd\", ,\"ContractData\",A17, \"LastTradeorSettle\",,\"T\")","v":96.725000000000009},{"$f":"RTD(\"cqg.rtd\",,\"ContractData\",A17,\"NetLastTradeToday\",,\"T\")","v":0.16},{"$f":"RTD(\"cqg.rtd\",,\"ContractData\",A17,\"NetLastTradeToday\",,\"T\")","v":0.16},{"$f":"RTD(\"cqg.rtd\", ,\"ContractData\",A17, \"T_CVol\")","v":195686}]
[{"$f":"RTD(\"cqg.rtd\",,\"ContractData\",P6, \"Symbol\")","v":"SR3U24"},{"$f":"RIGHT(RTD(\"cqg.rtd\",,\"ContractData\",A18, \"LongDescription\"),7)","v":" Sep 24"},{"$f":"RTD(\"cqg.rtd\", ,\"ContractData\",A18, \"Open\",,\"T\")","v":96.89},{"$f":"RTD(\"cqg.rtd\", ,\"ContractData\",A18, \"High\",,\"T\")","v":97.03},{"$f":"RTD(\"cqg.rtd\", ,\"ContractData\",A18, \"Low\",,\"T\")","v":96.795000000000002},{"$f":"RTD(\"cqg.rtd\", ,\"ContractData\",A18, \"LastTradeorSettle\",,\"T\")","v":97},{"$f":"RTD(\"cqg.rtd\",,\"ContractData\",A18,\"NetLastTradeToday\",,\"T\")","v":0.14000000000000001},{"$f":"RTD(\"cqg.rtd\",,\"ContractData\",A18,\"NetLastTradeToday\",,\"T\")","v":0.14000000000000001},{"$f":"RTD(\"cqg.rtd\", ,\"ContractData\",A18, \"T_CVol\")","v":133002}]
[{"$f":"RTD(\"cqg.rtd\",,\"ContractData\",Q6, \"Symbol\")","v":"SR3Z24"},{"$f":"RIGHT(RTD(\"cqg.rtd\",,\"ContractData\",A19, \"LongDescription\"),7)","v":" Dec 24"},{"$f":"RTD(\"cqg.rtd\", ,\"ContractData\",A19, \"Open\",,\"T\")","v":97.05},{"$f":"RTD(\"cqg.rtd\", ,\"ContractData\",A19, \"High\",,\"T\")","v":97.174999999999997},{"$f":"RTD(\"cqg.rtd\", ,\"ContractData\",A19, \"Low\",,\"T\")","v":96.960000000000008},{"$f":"RTD(\"cqg.rtd\", ,\"ContractData\",A19, \"LastTradeorSettle\",,\"T\")","v":97.144999999999996},{"$f":"RTD(\"cqg.rtd\",,\"ContractData\",A19,\"NetLastTradeToday\",,\"T\")","v":0.125},{"$f":"RTD(\"cqg.rtd\",,\"ContractData\",A19,\"NetLastTradeToday\",,\"T\")","v":0.125},{"$f":"RTD(\"cqg.rtd\", ,\"ContractData\",A19, \"T_CVol\")","v":130969}]
[{"$f":"RTD(\"cqg.rtd\",,\"ContractData\",R6, \"Symbol\")","v":"SR3H25"},{"$f":"RIGHT(RTD(\"cqg.rtd\",,\"ContractData\",A20, \"LongDescription\"),7)","v":" Mar 25"},{"$f":"RTD(\"cqg.rtd\", ,\"ContractData\",A20, \"Open\",,\"T\")","v":97.12},{"$f":"RTD(\"cqg.rtd\", ,\"ContractData\",A20, \"High\",,\"T\")","v":97.245000000000005},{"$f":"RTD(\"cqg.rtd\", ,\"ContractData\",A20, \"Low\",,\"T\")","v":97.045000000000002},{"$f":"RTD(\"cqg.rtd\", ,\"ContractData\",A20, \"LastTradeorSettle\",,\"T\")","v":97.22},{"$f":"RTD(\"cqg.rtd\",,\"ContractData\",A20,\"NetLastTradeToday\",,\"T\")","v":0.12},{"$f":"RTD(\"cqg.rtd\",,\"ContractData\",A20,\"NetLastTradeToday\",,\"T\")","v":0.12},{"$f":"RTD(\"cqg.rtd\", ,\"ContractData\",A20, \"T_CVol\")","v":88835}]
[{"$f":"RTD(\"cqg.rtd\",,\"ContractData\",S6, \"Symbol\")","v":"SR3M25"},{"$f":"RIGHT(RTD(\"cqg.rtd\",,\"ContractData\",A21, \"LongDescription\"),7)","v":" Jun 25"},{"$f":"RTD(\"cqg.rtd\", ,\"ContractData\",A21, \"Open\",,\"T\")","v":97.15},{"$f":"RTD(\"cqg.rtd\", ,\"ContractData\",A21, \"High\",,\"T\")","v":97.27},{"$f":"RTD(\"cqg.rtd\", ,\"ContractData\",A21, \"Low\",,\"T\")","v":97.075000000000003},{"$f":"RTD(\"cqg.rtd\", ,\"ContractData\",A21, \"LastTradeorSettle\",,\"T\")","v":97.245000000000005},{"$f":"RTD(\"cqg.rtd\",,\"ContractData\",A21,\"NetLastTradeToday\",,\"T\")","v":0.12},{"$f":"RTD(\"cqg.rtd\",,\"ContractData\",A21,\"NetLastTradeToday\",,\"T\")","v":0.12},{"$f":"RTD(\"cqg.rtd\", ,\"ContractData\",A21, \"T_CVol\")","v":70231}]
[{"$f":"RTD(\"cqg.rtd\",,\"ContractData\",T6, \"Symbol\")","v":"SR3U25"},{"$f":"RIGHT(RTD(\"cqg.rtd\",,\"ContractData\",A22, \"LongDescription\"),7)","v":" Sep 25"},{"$f":"RTD(\"cqg.rtd\", ,\"ContractData\",A22, \"Open\",,\"T\")","v":97.17},{"$f":"RTD(\"cqg.rtd\", ,\"ContractData\",A22, \"High\",,\"T\")","v":97.28},{"$f":"RTD(\"cqg.rtd\", ,\"ContractData\",A22, \"Low\",,\"T\")","v":97.094999999999999},{"$f":"RTD(\"cqg.rtd\", ,\"ContractData\",A22, \"LastTradeorSettle\",,\"T\")","v":97.254999999999995},{"$f":"RTD(\"cqg.rtd\",,\"ContractData\",A22,\"NetLastTradeToday\",,\"T\")","v":0.115},{"$f":"RTD(\"cqg.rtd\",,\"ContractData\",A22,\"NetLastTradeToday\",,\"T\")","v":0.115},{"$f":"RTD(\"cqg.rtd\", ,\"ContractData\",A22, \"T_CVol\")","v":56511}]
[{"$f":"RTD(\"cqg.rtd\",,\"ContractData\",U6, \"Symbol\")","v":"SR3Z25"},{"$f":"RIGHT(RTD(\"cqg.rtd\",,\"ContractData\",A23, \"LongDescription\"),7)","v":" Dec 25"},{"$f":"RTD(\"cqg.rtd\", ,\"ContractData\",A23, \"Open\",,\"T\")","v":97.185000000000002},{"$f":"RTD(\"cqg.rtd\", ,\"ContractData\",A23, \"High\",,\"T\")","v":97.284999999999997},{"$f":"RTD(\"cqg.rtd\", ,\"ContractData\",A23, \"Low\",,\"T\")","v":97.11},{"$f":"RTD(\"cqg.rtd\", ,\"ContractData\",A23, \"LastTradeorSettle\",,\"T\")","v":97.265000000000001},{"$f":"RTD(\"cqg.rtd\",,\"ContractData\",A23,\"NetLastTradeToday\",,\"T\")","v":0.11},{"$f":"RTD(\"cqg.rtd\",,\"ContractData\",A23,\"NetLastTradeToday\",,\"T\")","v":0.11},{"$f":"RTD(\"cqg.rtd\", ,\"ContractData\",A23, \"T_CVol\")","v":69476}]
[{"$f":"RTD(\"cqg.rtd\",,\"ContractData\",V6, \"Symbol\")","v":"SR3H26"},{"$f":"RIGHT(RTD(\"cqg.rtd\",,\"ContractData\",A24, \"LongDescription\"),7)","v":" Mar 26"},{"$f":"RTD(\"cqg.rtd\", ,\"ContractData\",A24, \"Open\",,\"T\")","v":97.174999999999997},{"$f":"RTD(\"cqg.rtd\", ,\"ContractData\",A24, \"High\",,\"T\")","v":97.275000000000006},{"$f":"RTD(\"cqg.rtd\", ,\"ContractData\",A24, \"Low\",,\"T\")","v":97.100000000000009},{"$f":"RTD(\"cqg.rtd\", ,\"ContractData\",A24, \"LastTradeorSettle\",,\"T\")","v":97.25},{"$f":"RTD(\"cqg.rtd\",,\"ContractData\",A24,\"NetLastTradeToday\",,\"T\")","v":0.105},{"$f":"RTD(\"cqg.rtd\",,\"ContractData\",A24,\"NetLastTradeToday\",,\"T\")","v":0.105},{"$f":"RTD(\"cqg.rtd\", ,\"ContractData\",A24, \"T_CVol\")","v":57747}]
[null,"Calendar Spread:",null,"3-Mon","Enter First Leg Spread Symbol: ",null,null,null,"M23"]
[{"$f":"'SR3'!Y24","v":4.5},{"$f":"D25&\"th\"&\" Calendar Spreads\"","v":"3-Month Calendar Spreads"},null,null,null,null,null,null,null,null,{"$f":"RIGHT(RTD(\"cqg.rtd\",,\"ContractData\",'SR3'!U35, \"LongDescription\"),15)","v":" Jun 23, Sep 23"},{"$f":"RIGHT(RTD(\"cqg.rtd\",,\"ContractData\",'SR3'!U36, \"LongDescription\"),15)","v":" Sep 23, Dec 23"},{"$f":"RIGHT(RTD(\"cqg.rtd\",,\"ContractData\",'SR3'!U37, \"LongDescription\"),15)","v":" Dec 23, Mar 24"},{"$f":"RIGHT(RTD(\"cqg.rtd\",,\"ContractData\",'SR3'!U38, \"LongDescription\"),15)","v":" Mar 24, Jun 24"},{"$f":"RIGHT(RTD(\"cqg.rtd\",,\"ContractData\",'SR3'!U39, \"LongDescription\"),15)","v":" Jun 24, Sep 24"},{"$f":"RIGHT(RTD(\"cqg.rtd\",,\"ContractData\",'SR3'!U40, \"LongDescription\"),15)","v":" Sep 24, Dec 24"},{"$f":"RIGHT(RTD(\"cqg.rtd\",,\"ContractData\",'SR3'!U41, \"LongDescription\"),15)","v":" Dec 24, Mar 25"},{"$f":"RIGHT(RTD(\"cqg.rtd\",,\"ContractData\",'SR3'!U42, \"LongDescription\"),15)","v":" Mar 25, Jun 25"},{"$f":"RIGHT(RTD(\"cqg.rtd\",,\"ContractData\",'SR3'!U43, \"LongDescription\"),15)","v":" Jun 25, Sep 25"},{"$f":"RIGHT(RTD(\"cqg.rtd\",,\"ContractData\",'SR3'!U44, \"LongDescription\"),15)","v":" Sep 25, Dec 25"},{"$f":"RIGHT(RTD(\"cqg.rtd\",,\"ContractData\",'SR3'!U45, \"LongDescription\"),15)","v":" Dec 25, Mar 26"},{"$f":"RIGHT(RTD(\"cqg.rtd\",,\"ContractData\",'SR3'!U46, \"LongDescription\"),15)","v":" Mar 26, Jun 26"},{"$f":"RIGHT(RTD(\"cqg.rtd\",,\"ContractData\",'SR3'!U47, \"LongDescription\"),15)","v":" Jun 26, Sep 26"},{"$f":"RIGHT(RTD(\"cqg.rtd\",,\"ContractData\",'SR3'!U48, \"LongDescription\"),15)","v":" Sep 26, Dec 26"},{"$f":"RIGHT(RTD(\"cqg.rtd\",,\"ContractData\",'SR3'!U49, \"LongDescription\"),15)","v":" Dec 26, Mar 27"},{"$f":"RIGHT(RTD(\"cqg.rtd\",,\"ContractData\",'SR3'!U50, \"LongDescription\"),15)","v":" Mar 27, Jun 27"},{"$f":"RIGHT(RTD(\"cqg.rtd\",,\"ContractData\",'SR3'!U51, \"LongDescription\"),15)","v":" Jun 27, Sep 27"},{"$f":"IF(LEFT(RTD(\"cqg.rtd\", ,\"ContractData\", 'SR3'!U52,\"LongDescription\",,\"T\"),3)=\"768\",\"\",RIGHT(RTD(\"cqg.rtd\",,\"ContractData\",'SR3'!U52, \"LongDescription\"),15))","v":" Sep 27, Dec 27"},{"$f":"IF(LEFT(RTD(\"cqg.rtd\", ,\"ContractData\", 'SR3'!U53,\"LongDescription\",,\"T\"),3)=\"768\",\"\",RIGHT(RTD(\"cqg.rtd\",,\"ContractData\",'SR3'!U53, \"LongDescription\"),15))","v":" Dec 27, Mar 28"},{"$f":"IF(LEFT(RTD(\"cqg.rtd\", ,\"ContractData\", 'SR3'!U54,\"LongDescription\",,\"T\"),3)=\"768\",\"\",RIGHT(RTD(\"cqg.rtd\",,\"ContractData\",'SR3'!U54, \"LongDescription\"),15))","v":" Mar 28, Jun 28"}]
[{"$f":"'SR3'!Z24","v":-45},null,null,null,null,null,null,null,null,null,{"$f":"IF(RTD(\"cqg.rtd\",,\"ContractData\",'SR3'!U35, \"Ask\")=\"\",\"\",TEXT(RTD(\"cqg.rtd\",,\"ContractData\",'SR3'!U35, \"Ask\"),\"#.000\")&\" \"&\"A\")","v":"-34.000 A"},{"$f":"IF(RTD(\"cqg.rtd\",,\"ContractData\",'SR3'!U36,\"Ask\")=\"\",\"\",TEXT(RTD(\"cqg.rtd\",,\"ContractData\",'SR3'!U36,\"Ask\"),\"#.000\")&\" \"&\"A\")","v":"-37.000 A"},{"$f":"IF(RTD(\"cqg.rtd\",,\"ContractData\",'SR3'!U37,\"Ask\")=\"\",\"\",TEXT(RTD(\"cqg.rtd\",,\"ContractData\",'SR3'!U37,\"Ask\"),\"#.000\")&\" \"&\"A\")","v":"-45.000 A"},{"$f":"IF(RTD(\"cqg.rtd\",,\"ContractData\",'SR3'!U38,\"Ask\")=\"\",\"\",TEXT(RTD(\"cqg.rtd\",,\"ContractData\",'SR3'!U38,\"Ask\"),\"#.000\")&\" \"&\"A\")","v":"-38.000 A"},{"$f":"IF(RTD(\"cqg.rtd\",,\"ContractData\",'SR3'!U39,\"Ask\")=\"\",\"\",TEXT(RTD(\"cqg.rtd\",,\"ContractData\",'SR3'!U39,\"Ask\"),\"#.000\")&\" \"&\"A\")","v":"-27.500 A"},{"$f":"IF(RTD(\"cqg.rtd\",,\"ContractData\",'SR3'!U40,\"Ask\")=\"\",\"\",TEXT(RTD(\"cqg.rtd\",,\"ContractData\",'SR3'!U40,\"Ask\"),\"#.000\")&\" \"&\"A\")","v":"-14.500 A"},{"$f":"IF(RTD(\"cqg.rtd\",,\"ContractData\",'SR3'!U41,\"Ask\")=\"\",\"\",TEXT(RTD(\"cqg.rtd\",,\"ContractData\",'SR3'!U41,\"Ask\"),\"#.000\")&\" \"&\"A\")","v":"-7.000 A"},{"$f":"IF(RTD(\"cqg.rtd\",,\"ContractData\",'SR3'!U42,\"Ask\")=\"\",\"\",TEXT(RTD(\"cqg.rtd\",,\"ContractData\",'SR3'!U42,\"Ask\"),\"#.000\")&\" \"&\"A\")","v":"-2.000 A"},{"$f":"IF(RTD(\"cqg.rtd\",,\"ContractData\",'SR3'!U43,\"Ask\")=\"\",\"\",TEXT(RTD(\"cqg.rtd\",,\"ContractData\",'SR3'!U43,\"Ask\"),\"#.000\")&\" \"&\"A\")","v":"-1.000 A"},{"$f":"IF(RTD(\"cqg.rtd\",,\"ContractData\",'SR3'!U44,\"Ask\")=\"\",\"\",TEXT(RTD(\"cqg.rtd\",,\"ContractData\",'SR3'!U44,\"Ask\"),\"#.000\")&\" \"&\"A\")","v":"-.500 A"},{"$f":"IF(RTD(\"cqg.rtd\",,\"ContractData\",'SR3'!U45,\"Ask\")=\"\",\"\",TEXT(RTD(\"cqg.rtd\",,\"ContractData\",'SR3'!U45,\"Ask\"),\"#.000\")&\" \"&\"A\")","v":"1.500 A"},{"$f":"IF(RTD(\"cqg.rtd\",,\"ContractData\",'SR3'!U46,\"Ask\")=\"\",\"\",TEXT(RTD(\"cqg.rtd\",,\"ContractData\",'SR3'!U46,\"Ask\"),\"#.000\")&\" \"&\"A\")","v":"1.500 A"},{"$f":"IF(RTD(\"cqg.rtd\",,\"ContractData\",'SR3'!U47,\"Ask\")=\"\",\"\",TEXT(RTD(\"cqg.rtd\",,\"ContractData\",'SR3'!U47,\"Ask\"),\"#.000\")&\" \"&\"A\")","v":"2.500 A"},{"$f":"IF(RTD(\"cqg.rtd\",,\"ContractData\",'SR3'!U48,\"Ask\")=\"\",\"\",TEXT(RTD(\"cqg.rtd\",,\"ContractData\",'SR3'!U48,\"Ask\"),\"#.000\")&\" \"&\"A\")","v":"1.500 A"},{"$f":"IF(RTD(\"cqg.rtd\",,\"ContractData\",'SR3'!U49,\"Ask\")=\"\",\"\",TEXT(RTD(\"cqg.rtd\",,\"ContractData\",'SR3'!U49,\"Ask\"),\"#.000\")&\" \"&\"A\")","v":"3.000 A"},{"$f":"IF(RTD(\"cqg.rtd\",,\"ContractData\",'SR3'!U50,\"Ask\")=\"\",\"\",TEXT(RTD(\"cqg.rtd\",,\"ContractData\",'SR3'!U50,\"Ask\"),\"#.000\")&\" \"&\"A\")","v":"3.000 A"},{"$f":"IF(RTD(\"cqg.rtd\",,\"ContractData\",'SR3'!U51,\"Ask\")=\"\",\"\",TEXT(RTD(\"cqg.rtd\",,\"ContractData\",'SR3'!U51,\"Ask\"),\"#.000\")&\" \"&\"A\")","v":"4.500 A"},{"$f":"IF(RTD(\"cqg.rtd\",,\"ContractData\",'SR3'!U52,\"Ask\")=\"\",\"\",TEXT(RTD(\"cqg.rtd\",,\"ContractData\",'SR3'!U52,\"Ask\"),\"#.000\")&\" \"&\"A\")","v":"3.000 A"},{"$f":"IF(LEFT(RTD(\"cqg.rtd\",,\"ContractData\",'SR3'!U53,\"Ask\"),3)=\"768\",\"\",IF(RTD(\"cqg.rtd\",,\"ContractData\",'SR3'!U53,\"Ask\")=\"\",\"\",TEXT(RTD(\"cqg.rtd\",,\"ContractData\",'SR3'!U53,\"Ask\"),\"#.000\")&\" \"&\"A\"))","v":"3.500 A"},{"$f":"IF(LEFT(RTD(\"cqg.rtd\",,\"ContractData\",'SR3'!U54,\"Ask\"),3)=\"768\",\"\",IF(RTD(\"cqg.rtd\",,\"ContractData\",'SR3'!U54,\"Ask\")=\"\",\"\",TEXT(RTD(\"cqg.rtd\",,\"ContractData\",'SR3'!U54,\"Ask\"),\"#.000\")&\" \"&\"A\"))","v":"4.500 A"}]
[null,"Symbols","Open","High","Low","Last","Net","Net","Volume",null,{"$f":"IF(RTD(\"cqg.rtd\",,\"ContractData\",'SR3'!U35, \"Bid\")=\"\",\"\",TEXT(RTD(\"cqg.rtd\",,\"ContractData\",'SR3'!U35, \"Bid\"),\"#.000\")&\" \"&\"B\")","v":"-34.500 B"},{"$f":"IF(RTD(\"cqg.rtd\",,\"ContractData\",'SR3'!U36,\"Bid\")=\"\",\"\",TEXT(RTD(\"cqg.rtd\",,\"ContractData\",'SR3'!U36,\"Bid\"),\"#.000\")&\" \"&\"B\")","v":"-37.500 B"},{"$f":"IF(RTD(\"cqg.rtd\",,\"ContractData\",'SR3'!U37,\"Bid\")=\"\",\"\",TEXT(RTD(\"cqg.rtd\",,\"ContractData\",'SR3'!U37,\"Bid\"),\"#.000\")&\" \"&\"B\")","v":"-45.500 B"},{"$f":"IF(RTD(\"cqg.rtd\",,\"ContractData\",'SR3'!U38,\"Bid\")=\"\",\"\",TEXT(RTD(\"cqg.rtd\",,\"ContractData\",'SR3'!U38,\"Bid\"),\"#.000\")&\" \"&\"B\")","v":"-38.500 B"},{"$f":"IF(RTD(\"cqg.rtd\",,\"ContractData\",'SR3'!U39,\"Bid\")=\"\",\"\",TEXT(RTD(\"cqg.rtd\",,\"ContractData\",'SR3'!U39,\"Bid\"),\"#.000\")&\" \"&\"B\")","v":"-28.000 B"},{"$f":"IF(RTD(\"cqg.rtd\",,\"ContractData\",'SR3'!U40,\"Bid\")=\"\",\"\",TEXT(RTD(\"cqg.rtd\",,\"ContractData\",'SR3'!U40,\"Bid\"),\"#.000\")&\" \"&\"B\")","v":"-15.000 B"},{"$f":"IF(RTD(\"cqg.rtd\",,\"ContractData\",'SR3'!U41,\"Bid\")=\"\",\"\",TEXT(RTD(\"cqg.rtd\",,\"ContractData\",'SR3'!U41,\"Bid\"),\"#.000\")&\" \"&\"B\")","v":"-7.500 B"},{"$f":"IF(RTD(\"cqg.rtd\",,\"ContractData\",'SR3'!U42,\"Bid\")=\"\",\"\",TEXT(RTD(\"cqg.rtd\",,\"ContractData\",'SR3'!U42,\"Bid\"),\"#.000\")&\" \"&\"B\")","v":"-3.000 B"},{"$f":"IF(RTD(\"cqg.rtd\",,\"ContractData\",'SR3'!U43,\"Bid\")=\"\",\"\",TEXT(RTD(\"cqg.rtd\",,\"ContractData\",'SR3'!U43,\"Bid\"),\"#.000\")&\" \"&\"B\")","v":"-1.500 B"},{"$f":"IF(RTD(\"cqg.rtd\",,\"ContractData\",'SR3'!U44,\"Bid\")=\"\",\"\",TEXT(RTD(\"cqg.rtd\",,\"ContractData\",'SR3'!U44,\"Bid\"),\"#.000\")&\" \"&\"B\")","v":"-1.000 B"},{"$f":"IF(RTD(\"cqg.rtd\",,\"ContractData\",'SR3'!U45,\"Bid\")=\"\",\"\",TEXT(RTD(\"cqg.rtd\",,\"ContractData\",'SR3'!U45,\"Bid\"),\"#.000\")&\" \"&\"B\")","v":"1.000 B"},{"$f":"IF(RTD(\"cqg.rtd\",,\"ContractData\",'SR3'!U46,\"Bid\")=\"\",\"\",TEXT(RTD(\"cqg.rtd\",,\"ContractData\",'SR3'!U46,\"Bid\"),\"#.000\")&\" \"&\"B\")","v":"1.000 B"},{"$f":"IF(RTD(\"cqg.rtd\",,\"ContractData\",'SR3'!U47,\"Bid\")=\"\",\"\",TEXT(RTD(\"cqg.rtd\",,\"ContractData\",'SR3'!U47,\"Bid\"),\"#.000\")&\" \"&\"B\")","v":"2.000 B"},{"$f":"IF(RTD(\"cqg.rtd\",,\"ContractData\",'SR3'!U48,\"Bid\")=\"\",\"\",TEXT(RTD(\"cqg.rtd\",,\"ContractData\",'SR3'!U48,\"Bid\"),\"#.000\")&\" \"&\"B\")","v":"1.000 B"},{"$f":"IF(RTD(\"cqg.rtd\",,\"ContractData\",'SR3'!U49,\"Bid\")=\"\",\"\",TEXT(RTD(\"cqg.rtd\",,\"ContractData\",'SR3'!U49,\"Bid\"),\"#.000\")&\" \"&\"B\")","v":"2.500 B"},{"$f":"IF(RTD(\"cqg.rtd\",,\"ContractData\",'SR3'!U50,\"Bid\")=\"\",\"\",TEXT(RTD(\"cqg.rtd\",,\"ContractData\",'SR3'!U50,\"Bid\"),\"#.000\")&\" \"&\"B\")","v":"2.500 B"},{"$f":"IF(RTD(\"cqg.rtd\",,\"ContractData\",'SR3'!U51,\"Bid\")=\"\",\"\",TEXT(RTD(\"cqg.rtd\",,\"ContractData\",'SR3'!U51,\"Bid\"),\"#.000\")&\" \"&\"B\")","v":"4.000 B"},{"$f":"IF(RTD(\"cqg.rtd\",,\"ContractData\",'SR3'!U52,\"Bid\")=\"\",\"\",TEXT(RTD(\"cqg.rtd\",,\"ContractData\",'SR3'!U52,\"Bid\"),\"#.000\")&\" \"&\"B\")","v":"2.500 B"},{"$f":"IF(LEFT(RTD(\"cqg.rtd\",,\"ContractData\",'SR3'!U53,\"Bid\"),3)=\"768\",\"\",IF(RTD(\"cqg.rtd\",,\"ContractData\",'SR3'!U53,\"Bid\")=\"\",\"\",TEXT(RTD(\"cqg.rtd\",,\"ContractData\",'SR3'!U53,\"Bid\"),\"#.000\")&\" \"&\"B\"))","v":"2.500 B"},{"$f":"IF(LEFT(RTD(\"cqg.rtd\",,\"ContractData\",'SR3'!U54,\"Bid\"),3)=\"768\",\"\",IF(RTD(\"cqg.rtd\",,\"ContractData\",'SR3'!U54,\"Bid\")=\"\",\"\",TEXT(RTD(\"cqg.rtd\",,\"ContractData\",'SR3'!U54,\"Bid\"),\"#.000\")&\" \"&\"B\"))","v":"3.000 B"}]
[{"$f":"'SR3'!U35","v":"SR3S3M23"},{"$f":"RIGHT(RTD(\"cqg.rtd\",,\"ContractData\",A29, \"LongDescription\"),15)","v":" Jun 23, Sep 23"},{"$f":"RTD(\"cqg.rtd\", ,\"ContractData\",A29, \"Open\",,\"T\")","v":-32},{"$f":"RTD(\"cqg.rtd\", ,\"ContractData\",A29, \"High\",,\"T\")","v":-29},{"$f":"RTD(\"cqg.rtd\", ,\"ContractData\",A29, \"Low\",,\"T\")","v":-38.5},{"$f":"RTD(\"cqg.rtd\", ,\"ContractData\",A29, \"LastTradeorSettle\",,\"T\")","v":-34.5},{"$f":"RTD(\"cqg.rtd\",,\"ContractData\",A29,\"NetLastTradeToday\",,\"T\")","v":-3.5},{"$f":"RTD(\"cqg.rtd\",,\"ContractData\",A29,\"NetLastTradeToday\",,\"T\")","v":-3.5},{"$f":"RTD(\"cqg.rtd\", ,\"ContractData\",A29, \"T_CVol\")","v":43911},null,{"$f":"IF(RTD(\"cqg.rtd\", ,\"ContractData\",'SR3'!U35,\"LastTradeorSettle\",,\"T\")=\"\",\"\",TEXT(RTD(\"cqg.rtd\", ,\"ContractData\",'SR3'!U35,\"LastTradeorSettle\",,\"T\"),\"#.000\")&\" \"&\"L\")","v":"-34.500 L"},{"$f":"IF(RTD(\"cqg.rtd\", ,\"ContractData\",'SR3'!U36,\"LastTradeorSettle\",,\"T\")=\"\",\"\",TEXT(RTD(\"cqg.rtd\", ,\"ContractData\",'SR3'!U36,\"LastTradeorSettle\",,\"T\"),\"#.000\")&\" \"&\"L\")","v":"-37.000 L"},{"$f":"IF(RTD(\"cqg.rtd\", ,\"ContractData\",'SR3'!U37,\"LastTradeorSettle\",,\"T\")=\"\",\"\",TEXT(RTD(\"cqg.rtd\", ,\"ContractData\",'SR3'!U37,\"LastTradeorSettle\",,\"T\"),\"#.000\")&\" \"&\"L\")","v":"-45.000 L"},{"$f":"IF(RTD(\"cqg.rtd\", ,\"ContractData\",'SR3'!U38,\"LastTradeorSettle\",,\"T\")=\"\",\"\",TEXT(RTD(\"cqg.rtd\", ,\"ContractData\",'SR3'!U38,\"LastTradeorSettle\",,\"T\"),\"#.000\")&\" \"&\"L\")","v":"-38.000 L"},{"$f":"IF(RTD(\"cqg.rtd\", ,\"ContractData\",'SR3'!U39,\"LastTradeorSettle\",,\"T\")=\"\",\"\",TEXT(RTD(\"cqg.rtd\", ,\"ContractData\",'SR3'!U39,\"LastTradeorSettle\",,\"T\"),\"#.000\")&\" \"&\"L\")","v":"-27.500 L"},{"$f":"IF(RTD(\"cqg.rtd\", ,\"ContractData\",'SR3'!U40,\"LastTradeorSettle\",,\"T\")=\"\",\"\",TEXT(RTD(\"cqg.rtd\", ,\"ContractData\",'SR3'!U40,\"LastTradeorSettle\",,\"T\"),\"#.000\")&\" \"&\"L\")","v":"-15.000 L"},{"$f":"IF(RTD(\"cqg.rtd\", ,\"ContractData\",'SR3'!U41,\"LastTradeorSettle\",,\"T\")=\"\",\"\",TEXT(RTD(\"cqg.rtd\", ,\"ContractData\",'SR3'!U41,\"LastTradeorSettle\",,\"T\"),\"#.000\")&\" \"&\"L\")","v":"-7.500 L"},{"$f":"IF(RTD(\"cqg.rtd\", ,\"ContractData\",'SR3'!U42,\"LastTradeorSettle\",,\"T\")=\"\",\"\",TEXT(RTD(\"cqg.rtd\", ,\"ContractData\",'SR3'!U42,\"LastTradeorSettle\",,\"T\"),\"#.000\")&\" \"&\"L\")","v":"-2.500 L"},{"$f":"IF(RTD(\"cqg.rtd\", ,\"ContractData\",'SR3'!U43,\"LastTradeorSettle\",,\"T\")=\"\",\"\",TEXT(RTD(\"cqg.rtd\", ,\"ContractData\",'SR3'!U43,\"LastTradeorSettle\",,\"T\"),\"#.000\")&\" \"&\"L\")","v":"-1.500 L"},{"$f":"IF(RTD(\"cqg.rtd\", ,\"ContractData\",'SR3'!U44,\"LastTradeorSettle\",,\"T\")=\"\",\"\",TEXT(RTD(\"cqg.rtd\", ,\"ContractData\",'SR3'!U44,\"LastTradeorSettle\",,\"T\"),\"#.000\")&\" \"&\"L\")","v":"-1.000 L"},{"$f":"IF(RTD(\"cqg.rtd\", ,\"ContractData\",'SR3'!U45,\"LastTradeorSettle\",,\"T\")=\"\",\"\",TEXT(RTD(\"cqg.rtd\", ,\"ContractData\",'SR3'!U45,\"LastTradeorSettle\",,\"T\"),\"#.000\")&\" \"&\"L\")","v":"1.500 L"},{"$f":"IF(RTD(\"cqg.rtd\", ,\"ContractData\",'SR3'!U46,\"LastTradeorSettle\",,\"T\")=\"\",\"\",TEXT(RTD(\"cqg.rtd\", ,\"ContractData\",'SR3'!U46,\"LastTradeorSettle\",,\"T\"),\"#.000\")&\" \"&\"L\")","v":"1.500 L"},{"$f":"IF(RTD(\"cqg.rtd\", ,\"ContractData\",'SR3'!U47,\"LastTradeorSettle\",,\"T\")=\"\",\"\",TEXT(RTD(\"cqg.rtd\", ,\"ContractData\",'SR3'!U47,\"LastTradeorSettle\",,\"T\"),\"#.000\")&\" \"&\"L\")","v":"2.500 L"},{"$f":"IF(RTD(\"cqg.rtd\", ,\"ContractData\",'SR3'!U48,\"LastTradeorSettle\",,\"T\")=\"\",\"\",TEXT(RTD(\"cqg.rtd\", ,\"ContractData\",'SR3'!U48,\"LastTradeorSettle\",,\"T\"),\"#.000\")&\" \"&\"L\")","v":"1.500 L"},{"$f":"IF(RTD(\"cqg.rtd\", ,\"ContractData\",'SR3'!U49,\"LastTradeorSettle\",,\"T\")=\"\",\"\",TEXT(RTD(\"cqg.rtd\", ,\"ContractData\",'SR3'!U49,\"LastTradeorSettle\",,\"T\"),\"#.000\")&\" \"&\"L\")","v":"2.500 L"},{"$f":"IF(RTD(\"cqg.rtd\", ,\"ContractData\",'SR3'!U50,\"LastTradeorSettle\",,\"T\")=\"\",\"\",TEXT(RTD(\"cqg.rtd\", ,\"ContractData\",'SR3'!U50,\"LastTradeorSettle\",,\"T\"),\"#.000\")&\" \"&\"L\")","v":"2.500 L"},{"$f":"IF(RTD(\"cqg.rtd\", ,\"ContractData\",'SR3'!U51,\"LastTradeorSettle\",,\"T\")=\"\",\"\",TEXT(RTD(\"cqg.rtd\", ,\"ContractData\",'SR3'!U51,\"LastTradeorSettle\",,\"T\"),\"#.000\")&\" \"&\"L\")","v":"4.500 L"},{"$f":"IF(LEFT(RTD(\"cqg.rtd\",,\"ContractData\",'SR3'!U52,\"LastTradeorSettle\"),3)=\"768\",\"\",IF(RTD(\"cqg.rtd\",,\"ContractData\",'SR3'!U52,\"LastTradeorSettle\")=\"\",\"\",TEXT(RTD(\"cqg.rtd\",,\"ContractData\",'SR3'!U52,\"LastTradeorSettle\"),\"#.000\")&\" \"&\"L\"))","v":"2.500 L"},{"$f":"IF(LEFT(RTD(\"cqg.rtd\",,\"ContractData\",'SR3'!U53,\"LastTradeorSettle\"),3)=\"768\",\"\",IF(RTD(\"cqg.rtd\",,\"ContractData\",'SR3'!U53,\"LastTradeorSettle\")=\"\",\"\",TEXT(RTD(\"cqg.rtd\",,\"ContractData\",'SR3'!U53,\"LastTradeorSettle\"),\"#.000\")&\" \"&\"L\"))","v":"3.000 L"},{"$f":"IF(LEFT(RTD(\"cqg.rtd\",,\"ContractData\",'SR3'!U54,\"LastTradeorSettle\"),3)=\"768\",\"\",IF(RTD(\"cqg.rtd\",,\"ContractData\",'SR3'!U54,\"LastTradeorSettle\")=\"\",\"\",TEXT(RTD(\"cqg.rtd\",,\"ContractData\",'SR3'!U54,\"LastTradeorSettle\"),\"#.000\")&\" \"&\"L\"))","v":"3.000 L"}]
[{"$f":"'SR3'!U36","v":"SR3S3U23"},{"$f":"RIGHT(RTD(\"cqg.rtd\",,\"ContractData\",A30, \"LongDescription\"),15)","v":" Sep 23, Dec 23"},{"$f":"RTD(\"cqg.rtd\", ,\"ContractData\",A30, \"Open\",,\"T\")","v":-36.5},{"$f":"RTD(\"cqg.rtd\", ,\"ContractData\",A30, \"High\",,\"T\")","v":-34.5},{"$f":"RTD(\"cqg.rtd\", ,\"ContractData\",A30, \"Low\",,\"T\")","v":-38.5},{"$f":"RTD(\"cqg.rtd\", ,\"ContractData\",A30, \"LastTradeorSettle\",,\"T\")","v":-37},{"$f":"RTD(\"cqg.rtd\",,\"ContractData\",A30,\"NetLastTradeToday\",,\"T\")","v":-1},{"$f":"RTD(\"cqg.rtd\",,\"ContractData\",A30,\"NetLastTradeToday\",,\"T\")","v":-1},{"$f":"RTD(\"cqg.rtd\", ,\"ContractData\",A30, \"T_CVol\")","v":32910}]
[{"$f":"'SR3'!U37","v":"SR3S3Z23"},{"$f":"RIGHT(RTD(\"cqg.rtd\",,\"ContractData\",A31, \"LongDescription\"),15)","v":" Dec 23, Mar 24"},{"$f":"RTD(\"cqg.rtd\", ,\"ContractData\",A31, \"Open\",,\"T\")","v":-44.5},{"$f":"RTD(\"cqg.rtd\", ,\"ContractData\",A31, \"High\",,\"T\")","v":-42},{"$f":"RTD(\"cqg.rtd\", ,\"ContractData\",A31, \"Low\",,\"T\")","v":-46},{"$f":"RTD(\"cqg.rtd\", ,\"ContractData\",A31, \"LastTradeorSettle\",,\"T\")","v":-45},{"$f":"RTD(\"cqg.rtd\",,\"ContractData\",A31,\"NetLastTradeToday\",,\"T\")","v":-1},{"$f":"RTD(\"cqg.rtd\",,\"ContractData\",A31,\"NetLastTradeToday\",,\"T\")","v":-1},{"$f":"RTD(\"cqg.rtd\", ,\"ContractData\",A31, \"T_CVol\")","v":19465}]
[{"$f":"'SR3'!U38","v":"SR3S3H24"},{"$f":"RIGHT(RTD(\"cqg.rtd\",,\"ContractData\",A32, \"LongDescription\"),15)","v":" Mar 24, Jun 24"},{"$f":"RTD(\"cqg.rtd\", ,\"ContractData\",A32, \"Open\",,\"T\")","v":-38.5},{"$f":"RTD(\"cqg.rtd\", ,\"ContractData\",A32, \"High\",,\"T\")","v":-35},{"$f":"RTD(\"cqg.rtd\", ,\"ContractData\",A32, \"Low\",,\"T\")","v":-39.5},{"$f":"RTD(\"cqg.rtd\", ,\"ContractData\",A32, \"LastTradeorSettle\",,\"T\")","v":-38},{"$f":"RTD(\"cqg.rtd\",,\"ContractData\",A32,\"NetLastTradeToday\",,\"T\")","v":0.5},{"$f":"RTD(\"cqg.rtd\",,\"ContractData\",A32,\"NetLastTradeToday\",,\"T\")","v":0.5},{"$f":"RTD(\"cqg.rtd\", ,\"ContractData\",A32, \"T_CVol\")","v":12005}]
[{"$f":"'SR3'!U39","v":"SR3S3M24"},{"$f":"RIGHT(RTD(\"cqg.rtd\",,\"ContractData\",A33, \"LongDescription\"),15)","v":" Jun 24, Sep 24"},{"$f":"RTD(\"cqg.rtd\", ,\"ContractData\",A33, \"Open\",,\"T\")","v":-29},{"$f":"RTD(\"cqg.rtd\", ,\"ContractData\",A33, \"High\",,\"T\")","v":-25.5},{"$f":"RTD(\"cqg.rtd\", ,\"ContractData\",A33, \"Low\",,\"T\")","v":-30.5},{"$f":"RTD(\"cqg.rtd\", ,\"ContractData\",A33, \"LastTradeorSettle\",,\"T\")","v":-27.5},{"$f":"RTD(\"cqg.rtd\",,\"ContractData\",A33,\"NetLastTradeToday\",,\"T\")","v":2},{"$f":"RTD(\"cqg.rtd\",,\"ContractData\",A33,\"NetLastTradeToday\",,\"T\")","v":2},{"$f":"RTD(\"cqg.rtd\", ,\"ContractData\",A33, \"T_CVol\")","v":9061}]
[{"$f":"'SR3'!U40","v":"SR3S3U24"},{"$f":"RIGHT(RTD(\"cqg.rtd\",,\"ContractData\",A34, \"LongDescription\"),15)","v":" Sep 24, Dec 24"},{"$f":"RTD(\"cqg.rtd\", ,\"ContractData\",A34, \"Open\",,\"T\")","v":-16},{"$f":"RTD(\"cqg.rtd\", ,\"ContractData\",A34, \"High\",,\"T\")","v":-13},{"$f":"RTD(\"cqg.rtd\", ,\"ContractData\",A34, \"Low\",,\"T\")","v":-17},{"$f":"RTD(\"cqg.rtd\", ,\"ContractData\",A34, \"LastTradeorSettle\",,\"T\")","v":-15},{"$f":"RTD(\"cqg.rtd\",,\"ContractData\",A34,\"NetLastTradeToday\",,\"T\")","v":1},{"$f":"RTD(\"cqg.rtd\",,\"ContractData\",A34,\"NetLastTradeToday\",,\"T\")","v":1},{"$f":"RTD(\"cqg.rtd\", ,\"ContractData\",A34, \"T_CVol\")","v":7158}]
[{"$f":"'SR3'!U41","v":"SR3S3Z24"},{"$f":"RIGHT(RTD(\"cqg.rtd\",,\"ContractData\",A35, \"LongDescription\"),15)","v":" Dec 24, Mar 25"},{"$f":"RTD(\"cqg.rtd\", ,\"ContractData\",A35, \"Open\",,\"T\")","v":-7.5},{"$f":"RTD(\"cqg.rtd\", ,\"ContractData\",A35, \"High\",,\"T\")","v":-5.5},{"$f":"RTD(\"cqg.rtd\", ,\"ContractData\",A35, \"Low\",,\"T\")","v":-8.5},{"$f":"RTD(\"cqg.rtd\", ,\"ContractData\",A35, \"LastTradeorSettle\",,\"T\")","v":-7.5},{"$f":"RTD(\"cqg.rtd\",,\"ContractData\",A35,\"NetLastTradeToday\",,\"T\")","v":0.5},{"$f":"RTD(\"cqg.rtd\",,\"ContractData\",A35,\"NetLastTradeToday\",,\"T\")","v":0.5},{"$f":"RTD(\"cqg.rtd\", ,\"ContractData\",A35, \"T_CVol\")","v":3308}]
[{"$f":"'SR3'!U42","v":"SR3S3H25"},{"$f":"RIGHT(RTD(\"cqg.rtd\",,\"ContractData\",A36, \"LongDescription\"),15)","v":" Mar 25, Jun 25"},{"$f":"RTD(\"cqg.rtd\", ,\"ContractData\",A36, \"Open\",,\"T\")","v":-2.5},{"$f":"RTD(\"cqg.rtd\", ,\"ContractData\",A36, \"High\",,\"T\")","v":-1.5},{"$f":"RTD(\"cqg.rtd\", ,\"ContractData\",A36, \"Low\",,\"T\")","v":-3.5},{"$f":"RTD(\"cqg.rtd\", ,\"ContractData\",A36, \"LastTradeorSettle\",,\"T\")","v":-2.5},{"$f":"RTD(\"cqg.rtd\",,\"ContractData\",A36,\"NetLastTradeToday\",,\"T\")","v":0},{"$f":"RTD(\"cqg.rtd\",,\"ContractData\",A36,\"NetLastTradeToday\",,\"T\")","v":0},{"$f":"RTD(\"cqg.rtd\", ,\"ContractData\",A36, \"T_CVol\")","v":1970}]
[{"$f":"'SR3'!U43","v":"SR3S3M25"},{"$f":"RIGHT(RTD(\"cqg.rtd\",,\"ContractData\",A37, \"LongDescription\"),15)","v":" Jun 25, Sep 25"},{"$f":"RTD(\"cqg.rtd\", ,\"ContractData\",A37, \"Open\",,\"T\")","v":-1.5},{"$f":"RTD(\"cqg.rtd\", ,\"ContractData\",A37, \"High\",,\"T\")","v":-1},{"$f":"RTD(\"cqg.rtd\", ,\"ContractData\",A37, \"Low\",,\"T\")","v":-2.5},{"$f":"RTD(\"cqg.rtd\", ,\"ContractData\",A37, \"LastTradeorSettle\",,\"T\")","v":-1.5},{"$f":"RTD(\"cqg.rtd\",,\"ContractData\",A37,\"NetLastTradeToday\",,\"T\")","v":0},{"$f":"RTD(\"cqg.rtd\",,\"ContractData\",A37,\"NetLastTradeToday\",,\"T\")","v":0},{"$f":"RTD(\"cqg.rtd\", ,\"ContractData\",A37, \"T_CVol\")","v":3150}]
[{"$f":"'SR3'!U44","v":"SR3S3U25"},{"$f":"RIGHT(RTD(\"cqg.rtd\",,\"ContractData\",A38, \"LongDescription\"),15)","v":" Sep 25, Dec 25"},{"$f":"RTD(\"cqg.rtd\", ,\"ContractData\",A38, \"Open\",,\"T\")","v":-1.5},{"$f":"RTD(\"cqg.rtd\", ,\"ContractData\",A38, \"High\",,\"T\")","v":0},{"$f":"RTD(\"cqg.rtd\", ,\"ContractData\",A38, \"Low\",,\"T\")","v":-1.5},{"$f":"RTD(\"cqg.rtd\", ,\"ContractData\",A38, \"LastTradeorSettle\",,\"T\")","v":-1},{"$f":"RTD(\"cqg.rtd\",,\"ContractData\",A38,\"NetLastTradeToday\",,\"T\")","v":0.5},{"$f":"RTD(\"cqg.rtd\",,\"ContractData\",A38,\"NetLastTradeToday\",,\"T\")","v":0.5},{"$f":"RTD(\"cqg.rtd\", ,\"ContractData\",A38, \"T_CVol\")","v":1346}]
[{"$f":"'SR3'!U45","v":"SR3S3Z25"},{"$f":"RIGHT(RTD(\"cqg.rtd\",,\"ContractData\",A39, \"LongDescription\"),15)","v":" Dec 25, Mar 26"},{"$f":"RTD(\"cqg.rtd\", ,\"ContractData\",A39, \"Open\",,\"T\")","v":1},{"$f":"RTD(\"cqg.rtd\", ,\"ContractData\",A39, \"High\",,\"T\")","v":1.5},{"$f":"RTD(\"cqg.rtd\", ,\"ContractData\",A39, \"Low\",,\"T\")","v":1},{"$f":"RTD(\"cqg.rtd\", ,\"ContractData\",A39, \"LastTradeorSettle\",,\"T\")","v":1.5},{"$f":"RTD(\"cqg.rtd\",,\"ContractData\",A39,\"NetLastTradeToday\",,\"T\")","v":0.5},{"$f":"RTD(\"cqg.rtd\",,\"ContractData\",A39,\"NetLastTradeToday\",,\"T\")","v":0.5},{"$f":"RTD(\"cqg.rtd\", ,\"ContractData\",A39, \"T_CVol\")","v":2372}]
[{"$f":"'SR3'!U46","v":"SR3S3H26"},{"$f":"RIGHT(RTD(\"cqg.rtd\",,\"ContractData\",A40, \"LongDescription\"),15)","v":" Mar 26, Jun 26"},{"$f":"RTD(\"cqg.rtd\", ,\"ContractData\",A40, \"Open\",,\"T\")","v":1.5},{"$f":"RTD(\"cqg.rtd\", ,\"ContractData\",A40, \"High\",,\"T\")","v":1.5},{"$f":"RTD(\"cqg.rtd\", ,\"ContractData\",A40, \"Low\",,\"T\")","v":0.5},{"$f":"RTD(\"cqg.rtd\", ,\"ContractData\",A40, \"LastTradeorSettle\",,\"T\")","v":1.5},{"$f":"RTD(\"cqg.rtd\",,\"ContractData\",A40,\"NetLastTradeToday\",,\"T\")","v":0.5},{"$f":"RTD(\"cqg.rtd\",,\"ContractData\",A40,\"NetLastTradeToday\",,\"T\")","v":0.5},{"$f":"RTD(\"cqg.rtd\", ,\"ContractData\",A40, \"T_CVol\")","v":1406}]
[null,"Calendar Spread:",null,"12-Mon","Enter First Contract Spread Symbol: ",null,null,null,"M23"]
[{"$f":"'SR3'!AH24","v":14},{"$f":"D41&\" Calendar Spreads\"","v":"12-Mon Calendar Spreads"},null,null,null,null,null,null,null,null,{"$f":"RIGHT(RTD(\"cqg.rtd\",,\"ContractData\",'SR3'!AF35, \"LongDescription\"),15)","v":" Jun 23, Jun 24"},{"$f":"RIGHT(RTD(\"cqg.rtd\",,\"ContractData\",'SR3'!AF36, \"LongDescription\"),15)","v":" Sep 23, Sep 24"},{"$f":"RIGHT(RTD(\"cqg.rtd\",,\"ContractData\",'SR3'!AF37, \"LongDescription\"),15)","v":" Dec 23, Dec 24"},{"$f":"RIGHT(RTD(\"cqg.rtd\",,\"ContractData\",'SR3'!AF38, \"LongDescription\"),15)","v":" Mar 24, Mar 25"},{"$f":"RIGHT(RTD(\"cqg.rtd\",,\"ContractData\",'SR3'!AF39, \"LongDescription\"),15)","v":" Jun 24, Jun 25"},{"$f":"RIGHT(RTD(\"cqg.rtd\",,\"ContractData\",'SR3'!AF40, \"LongDescription\"),15)","v":" Sep 24, Sep 25"},{"$f":"RIGHT(RTD(\"cqg.rtd\",,\"ContractData\",'SR3'!AF41, \"LongDescription\"),15)","v":" Dec 24, Dec 25"},{"$f":"RIGHT(RTD(\"cqg.rtd\",,\"ContractData\",'SR3'!AF42, \"LongDescription\"),15)","v":" Mar 25, Mar 26"},{"$f":"RIGHT(RTD(\"cqg.rtd\",,\"ContractData\",'SR3'!AF43, \"LongDescription\"),15)","v":" Jun 25, Jun 26"},{"$f":"RIGHT(RTD(\"cqg.rtd\",,\"ContractData\",'SR3'!AF44, \"LongDescription\"),15)","v":" Sep 25, Sep 26"},{"$f":"RIGHT(RTD(\"cqg.rtd\",,\"ContractData\",'SR3'!AF45, \"LongDescription\"),15)","v":" Dec 25, Dec 26"},{"$f":"RIGHT(RTD(\"cqg.rtd\",,\"ContractData\",'SR3'!AF46, \"LongDescription\"),15)","v":" Mar 26, Mar 27"},{"$f":"RIGHT(RTD(\"cqg.rtd\",,\"ContractData\",'SR3'!AF47, \"LongDescription\"),15)","v":" Jun 26, Jun 27"},{"$f":"RIGHT(RTD(\"cqg.rtd\",,\"ContractData\",'SR3'!AF48, \"LongDescription\"),15)","v":" Sep 26, Sep 27"},{"$f":"RIGHT(RTD(\"cqg.rtd\",,\"ContractData\",'SR3'!AF49, \"LongDescription\"),15)","v":" Dec 26, Dec 27"},{"$f":"RIGHT(RTD(\"cqg.rtd\",,\"ContractData\",'SR3'!AF50, \"LongDescription\"),15)","v":" Mar 27, Mar 28"},{"$f":"RIGHT(RTD(\"cqg.rtd\",,\"ContractData\",'SR3'!AF51, \"LongDescription\"),15)","v":" Jun 27, Jun 28"},{"$f":"RIGHT(RTD(\"cqg.rtd\",,\"ContractData\",'SR3'!AF52, \"LongDescription\"),15)","v":" Sep 27, Sep 28"},{"$f":"IF(LEFT(RTD(\"cqg.rtd\", ,\"ContractData\", 'SR3'!AF53,\"LongDescription\",,\"T\"),3)=\"768\",\"\",RIGHT(RTD(\"cqg.rtd\",,\"ContractData\",'SR3'!AF53, \"LongDescription\"),15))","v":" Dec 27, Dec 28"},{"$f":"IF(LEFT(RTD(\"cqg.rtd\", ,\"ContractData\", 'SR3'!AF54,\"LongDescription\",,\"T\"),3)=\"768\",\"\",RIGHT(RTD(\"cqg.rtd\",,\"ContractData\",'SR3'!AF54, \"LongDescription\"),15))","v":" Mar 28, Mar 29"}]
[{"$f":"'SR3'!AI24","v":-154.5},null,null,null,null,null,null,null,null,null,{"$f":"IF(RTD(\"cqg.rtd\",,\"ContractData\",'SR3'!AF35, \"Ask\")=\"\",\"\",TEXT(RTD(\"cqg.rtd\",,\"ContractData\",'SR3'!AF35, \"Ask\"),\"#.000\")&\" \"&\"A\")","v":"-154.500 A"},{"$f":"IF(RTD(\"cqg.rtd\",,\"ContractData\",'SR3'!AF36, \"Ask\")=\"\",\"\",TEXT(RTD(\"cqg.rtd\",,\"ContractData\",'SR3'!AF36, \"Ask\"),\"#.000\")&\" \"&\"A\")","v":"-148.000 A"},{"$f":"IF(RTD(\"cqg.rtd\",,\"ContractData\",'SR3'!AF37, \"Ask\")=\"\",\"\",TEXT(RTD(\"cqg.rtd\",,\"ContractData\",'SR3'!AF37, \"Ask\"),\"#.000\")&\" \"&\"A\")","v":"-125.500 A"},{"$f":"IF(RTD(\"cqg.rtd\",,\"ContractData\",'SR3'!AF38, \"Ask\")=\"\",\"\",TEXT(RTD(\"cqg.rtd\",,\"ContractData\",'SR3'!AF38, \"Ask\"),\"#.000\")&\" \"&\"A\")","v":"-87.500 A"},{"$f":"IF(RTD(\"cqg.rtd\",,\"ContractData\",'SR3'!AF39, \"Ask\")=\"\",\"\",TEXT(RTD(\"cqg.rtd\",,\"ContractData\",'SR3'!AF39, \"Ask\"),\"#.000\")&\" \"&\"A\")","v":"-51.500 A"},{"$f":"IF(RTD(\"cqg.rtd\",,\"ContractData\",'SR3'!AF40, \"Ask\")=\"\",\"\",TEXT(RTD(\"cqg.rtd\",,\"ContractData\",'SR3'!AF40, \"Ask\"),\"#.000\")&\" \"&\"A\")","v":"-25.000 A"},{"$f":"IF(RTD(\"cqg.rtd\",,\"ContractData\",'SR3'!AF41, \"Ask\")=\"\",\"\",TEXT(RTD(\"cqg.rtd\",,\"ContractData\",'SR3'!AF41, \"Ask\"),\"#.000\")&\" \"&\"A\")","v":"-11.500 A"},{"$f":"IF(RTD(\"cqg.rtd\",,\"ContractData\",'SR3'!AF42, \"Ask\")=\"\",\"\",TEXT(RTD(\"cqg.rtd\",,\"ContractData\",'SR3'!AF42, \"Ask\"),\"#.000\")&\" \"&\"A\")","v":"-3.000 A"},{"$f":"IF(RTD(\"cqg.rtd\",,\"ContractData\",'SR3'!AF43, \"Ask\")=\"\",\"\",TEXT(RTD(\"cqg.rtd\",,\"ContractData\",'SR3'!AF43, \"Ask\"),\"#.000\")&\" \"&\"A\")","v":"1.000 A"},{"$f":"IF(RTD(\"cqg.rtd\",,\"ContractData\",'SR3'!AF44, \"Ask\")=\"\",\"\",TEXT(RTD(\"cqg.rtd\",,\"ContractData\",'SR3'!AF44, \"Ask\"),\"#.000\")&\" \"&\"A\")","v":"4.500 A"},{"$f":"IF(RTD(\"cqg.rtd\",,\"ContractData\",'SR3'!AF45, \"Ask\")=\"\",\"\",TEXT(RTD(\"cqg.rtd\",,\"ContractData\",'SR3'!AF45, \"Ask\"),\"#.000\")&\" \"&\"A\")","v":"6.500 A"},{"$f":"IF(RTD(\"cqg.rtd\",,\"ContractData\",'SR3'!AF46, \"Ask\")=\"\",\"\",TEXT(RTD(\"cqg.rtd\",,\"ContractData\",'SR3'!AF46, \"Ask\"),\"#.000\")&\" \"&\"A\")","v":"8.000 A"},{"$f":"IF(RTD(\"cqg.rtd\",,\"ContractData\",'SR3'!AF47, \"Ask\")=\"\",\"\",TEXT(RTD(\"cqg.rtd\",,\"ContractData\",'SR3'!AF47, \"Ask\"),\"#.000\")&\" \"&\"A\")","v":"9.500 A"},{"$f":"IF(RTD(\"cqg.rtd\",,\"ContractData\",'SR3'!AF48, \"Ask\")=\"\",\"\",TEXT(RTD(\"cqg.rtd\",,\"ContractData\",'SR3'!AF48, \"Ask\"),\"#.000\")&\" \"&\"A\")","v":"11.500 A"},{"$f":"IF(RTD(\"cqg.rtd\",,\"ContractData\",'SR3'!AF49, \"Ask\")=\"\",\"\",TEXT(RTD(\"cqg.rtd\",,\"ContractData\",'SR3'!AF49, \"Ask\"),\"#.000\")&\" \"&\"A\")","v":"13.000 A"},{"$f":"IF(RTD(\"cqg.rtd\",,\"ContractData\",'SR3'!AF50, \"Ask\")=\"\",\"\",TEXT(RTD(\"cqg.rtd\",,\"ContractData\",'SR3'!AF50, \"Ask\"),\"#.000\")&\" \"&\"A\")","v":"13.500 A"},{"$f":"IF(RTD(\"cqg.rtd\",,\"ContractData\",'SR3'!AF51, \"Ask\")=\"\",\"\",TEXT(RTD(\"cqg.rtd\",,\"ContractData\",'SR3'!AF51, \"Ask\"),\"#.000\")&\" \"&\"A\")","v":"15.000 A"},{"$f":"IF(RTD(\"cqg.rtd\",,\"ContractData\",'SR3'!AF52, \"Ask\")=\"\",\"\",TEXT(RTD(\"cqg.rtd\",,\"ContractData\",'SR3'!AF52, \"Ask\"),\"#.000\")&\" \"&\"A\")","v":"21.500 A"},{"$f":"IF(LEFT(RTD(\"cqg.rtd\",,\"ContractData\",'SR3'!AF53,\"Ask\"),3)=\"768\",\"\",IF(RTD(\"cqg.rtd\",,\"ContractData\",'SR3'!AF53,\"Ask\")=\"\",\"\",TEXT(RTD(\"cqg.rtd\",,\"ContractData\",'SR3'!AF53,\"Ask\"),\"#.000\")&\" \"&\"A\"))","v":"15.000 A"},{"$f":"IF(LEFT(RTD(\"cqg.rtd\",,\"ContractData\",'SR3'!AF54,\"Ask\"),3)=\"768\",\"\",IF(RTD(\"cqg.rtd\",,\"ContractData\",'SR3'!AF54,\"Ask\")=\"\",\"\",TEXT(RTD(\"cqg.rtd\",,\"ContractData\",'SR3'!AF54,\"Ask\"),\"#.000\")&\" \"&\"A\"))","v":"18.500 A"}]
[null,"Symbols","Open","High","Low","Last","Net","Net","Volume",null,{"$f":"IF(RTD(\"cqg.rtd\",,\"ContractData\",'SR3'!AF35, \"Bid\")=\"\",\"\",TEXT(RTD(\"cqg.rtd\",,\"ContractData\",'SR3'!AF35, \"Bid\"),\"#.000\")&\" \"&\"B\")","v":"-155.500 B"},{"$f":"IF(RTD(\"cqg.rtd\",,\"ContractData\",'SR3'!AF36, \"Bid\")=\"\",\"\",TEXT(RTD(\"cqg.rtd\",,\"ContractData\",'SR3'!AF36, \"Bid\"),\"#.000\")&\" \"&\"B\")","v":"-148.500 B"},{"$f":"IF(RTD(\"cqg.rtd\",,\"ContractData\",'SR3'!AF37, \"Bid\")=\"\",\"\",TEXT(RTD(\"cqg.rtd\",,\"ContractData\",'SR3'!AF37, \"Bid\"),\"#.000\")&\" \"&\"B\")","v":"-126.000 B"},{"$f":"IF(RTD(\"cqg.rtd\",,\"ContractData\",'SR3'!AF38, \"Bid\")=\"\",\"\",TEXT(RTD(\"cqg.rtd\",,\"ContractData\",'SR3'!AF38, \"Bid\"),\"#.000\")&\" \"&\"B\")","v":"-88.000 B"},{"$f":"IF(RTD(\"cqg.rtd\",,\"ContractData\",'SR3'!AF39, \"Bid\")=\"\",\"\",TEXT(RTD(\"cqg.rtd\",,\"ContractData\",'SR3'!AF39, \"Bid\"),\"#.000\")&\" \"&\"B\")","v":"-52.500 B"},{"$f":"IF(RTD(\"cqg.rtd\",,\"ContractData\",'SR3'!AF40, \"Bid\")=\"\",\"\",TEXT(RTD(\"cqg.rtd\",,\"ContractData\",'SR3'!AF40, \"Bid\"),\"#.000\")&\" \"&\"B\")","v":"-26.000 B"},{"$f":"IF(RTD(\"cqg.rtd\",,\"ContractData\",'SR3'!AF41, \"Bid\")=\"\",\"\",TEXT(RTD(\"cqg.rtd\",,\"ContractData\",'SR3'!AF41, \"Bid\"),\"#.000\")&\" \"&\"B\")","v":"-12.000 B"},{"$f":"IF(RTD(\"cqg.rtd\",,\"ContractData\",'SR3'!AF42, \"Bid\")=\"\",\"\",TEXT(RTD(\"cqg.rtd\",,\"ContractData\",'SR3'!AF42, \"Bid\"),\"#.000\")&\" \"&\"B\")","v":"-3.500 B"},{"$f":"IF(RTD(\"cqg.rtd\",,\"ContractData\",'SR3'!AF43, \"Bid\")=\"\",\"\",TEXT(RTD(\"cqg.rtd\",,\"ContractData\",'SR3'!AF43, \"Bid\"),\"#.000\")&\" \"&\"B\")","v":".500 B"},{"$f":"IF(RTD(\"cqg.rtd\",,\"ContractData\",'SR3'!AF44, \"Bid\")=\"\",\"\",TEXT(RTD(\"cqg.rtd\",,\"ContractData\",'SR3'!AF44, \"Bid\"),\"#.000\")&\" \"&\"B\")","v":"4.000 B"},{"$f":"IF(RTD(\"cqg.rtd\",,\"ContractData\",'SR3'!AF45, \"Bid\")=\"\",\"\",TEXT(RTD(\"cqg.rtd\",,\"ContractData\",'SR3'!AF45, \"Bid\"),\"#.000\")&\" \"&\"B\")","v":"6.000 B"},{"$f":"IF(RTD(\"cqg.rtd\",,\"ContractData\",'SR3'!AF46, \"Bid\")=\"\",\"\",TEXT(RTD(\"cqg.rtd\",,\"ContractData\",'SR3'!AF46, \"Bid\"),\"#.000\")&\" \"&\"B\")","v":"7.500 B"},{"$f":"IF(RTD(\"cqg.rtd\",,\"ContractData\",'SR3'!AF47, \"Bid\")=\"\",\"\",TEXT(RTD(\"cqg.rtd\",,\"ContractData\",'SR3'!AF47, \"Bid\"),\"#.000\")&\" \"&\"B\")","v":"8.500 B"},{"$f":"IF(RTD(\"cqg.rtd\",,\"ContractData\",'SR3'!AF48, \"Bid\")=\"\",\"\",TEXT(RTD(\"cqg.rtd\",,\"ContractData\",'SR3'!AF48, \"Bid\"),\"#.000\")&\" \"&\"B\")","v":"10.500 B"},{"$f":"IF(RTD(\"cqg.rtd\",,\"ContractData\",'SR3'!AF49, \"Bid\")=\"\",\"\",TEXT(RTD(\"cqg.rtd\",,\"ContractData\",'SR3'!AF49, \"Bid\"),\"#.000\")&\" \"&\"B\")","v":"12.000 B"},{"$f":"IF(RTD(\"cqg.rtd\",,\"ContractData\",'SR3'!AF50, \"Bid\")=\"\",\"\",TEXT(RTD(\"cqg.rtd\",,\"ContractData\",'SR3'!AF50, \"Bid\"),\"#.000\")&\" \"&\"B\")","v":"12.000 B"},{"$f":"IF(RTD(\"cqg.rtd\",,\"ContractData\",'SR3'!AF51, \"Bid\")=\"\",\"\",TEXT(RTD(\"cqg.rtd\",,\"ContractData\",'SR3'!AF51, \"Bid\"),\"#.000\")&\" \"&\"B\")","v":"12.000 B"},{"$f":"IF(RTD(\"cqg.rtd\",,\"ContractData\",'SR3'!AF52, \"Bid\")=\"\",\"\",TEXT(RTD(\"cqg.rtd\",,\"ContractData\",'SR3'!AF52, \"Bid\"),\"#.000\")&\" \"&\"B\")","v":"7.000 B"},{"$f":"IF(LEFT(RTD(\"cqg.rtd\",,\"ContractData\",'SR3'!AF53,\"Bid\"),3)=\"768\",\"\",IF(RTD(\"cqg.rtd\",,\"ContractData\",'SR3'!AF53,\"Bid\")=\"\",\"\",TEXT(RTD(\"cqg.rtd\",,\"ContractData\",'SR3'!AF53,\"Bid\"),\"#.000\")&\" \"&\"B\"))","v":"10.000 B"},{"$f":"IF(LEFT(RTD(\"cqg.rtd\",,\"ContractData\",'SR3'!AF54,\"Bid\"),3)=\"768\",\"\",IF(RTD(\"cqg.rtd\",,\"ContractData\",'SR3'!AF54,\"Bid\")=\"\",\"\",TEXT(RTD(\"cqg.rtd\",,\"ContractData\",'SR3'!AF54,\"Bid\"),\"#.000\")&\" \"&\"B\"))","v":"6.000 B"}]
[{"$f":"RTD(\"cqg.rtd\",,\"ContractData\",'SR3'!AF35, \"Symbol\")","v":"SR3S12M23"},{"$f":"RIGHT(RTD(\"cqg.rtd\",,\"ContractData\",A45, \"LongDescription\"),15)","v":" Jun 23, Jun 24"},{"$f":"RTD(\"cqg.rtd\", ,\"ContractData\",A45, \"Open\",,\"T\")","v":-151},{"$f":"RTD(\"cqg.rtd\", ,\"ContractData\",A45, \"High\",,\"T\")","v":-146},{"$f":"RTD(\"cqg.rtd\", ,\"ContractData\",A45, \"Low\",,\"T\")","v":-158},{"$f":"RTD(\"cqg.rtd\", ,\"ContractData\",A45, \"LastTradeorSettle\",,\"T\")","v":-154.5},{"$f":"RTD(\"cqg.rtd\",,\"ContractData\",A45,\"NetLastTradeToday\",,\"T\")","v":-5},{"$f":"RTD(\"cqg.rtd\",,\"ContractData\",A45,\"NetLastTradeToday\",,\"T\")","v":-5},{"$f":"RTD(\"cqg.rtd\", ,\"ContractData\",A45, \"T_CVol\")","v":6274},null,{"$f":"IF(RTD(\"cqg.rtd\", ,\"ContractData\",'SR3'!AF35,\"LastTradeorSettle\",,\"T\")=\"\",\"\",TEXT(RTD(\"cqg.rtd\", ,\"ContractData\",'SR3'!AF35,\"LastTradeorSettle\",,\"T\"),\"#.000\")&\" \"&\"L\")","v":"-154.500 L"},{"$f":"IF(RTD(\"cqg.rtd\", ,\"ContractData\",'SR3'!AF36,\"LastTradeorSettle\",,\"T\")=\"\",\"\",TEXT(RTD(\"cqg.rtd\", ,\"ContractData\",'SR3'!AF36,\"LastTradeorSettle\",,\"T\"),\"#.000\")&\" \"&\"L\")","v":"-148.000 L"},{"$f":"IF(RTD(\"cqg.rtd\", ,\"ContractData\",'SR3'!AF37,\"LastTradeorSettle\",,\"T\")=\"\",\"\",TEXT(RTD(\"cqg.rtd\", ,\"ContractData\",'SR3'!AF37,\"LastTradeorSettle\",,\"T\"),\"#.000\")&\" \"&\"L\")","v":"-125.500 L"},{"$f":"IF(RTD(\"cqg.rtd\", ,\"ContractData\",'SR3'!AF38,\"LastTradeorSettle\",,\"T\")=\"\",\"\",TEXT(RTD(\"cqg.rtd\", ,\"ContractData\",'SR3'!AF38,\"LastTradeorSettle\",,\"T\"),\"#.000\")&\" \"&\"L\")","v":"-87.500 L"},{"$f":"IF(RTD(\"cqg.rtd\", ,\"ContractData\",'SR3'!AF39,\"LastTradeorSettle\",,\"T\")=\"\",\"\",TEXT(RTD(\"cqg.rtd\", ,\"ContractData\",'SR3'!AF39,\"LastTradeorSettle\",,\"T\"),\"#.000\")&\" \"&\"L\")","v":"-52.500 L"},{"$f":"IF(RTD(\"cqg.rtd\", ,\"ContractData\",'SR3'!AF40,\"LastTradeorSettle\",,\"T\")=\"\",\"\",TEXT(RTD(\"cqg.rtd\", ,\"ContractData\",'SR3'!AF40,\"LastTradeorSettle\",,\"T\"),\"#.000\")&\" \"&\"L\")","v":"-25.500 L"},{"$f":"IF(RTD(\"cqg.rtd\", ,\"ContractData\",'SR3'!AF41,\"LastTradeorSettle\",,\"T\")=\"\",\"\",TEXT(RTD(\"cqg.rtd\", ,\"ContractData\",'SR3'!AF41,\"LastTradeorSettle\",,\"T\"),\"#.000\")&\" \"&\"L\")","v":"-12.000 L"},{"$f":"IF(RTD(\"cqg.rtd\", ,\"ContractData\",'SR3'!AF42,\"LastTradeorSettle\",,\"T\")=\"\",\"\",TEXT(RTD(\"cqg.rtd\", ,\"ContractData\",'SR3'!AF42,\"LastTradeorSettle\",,\"T\"),\"#.000\")&\" \"&\"L\")","v":"-3.000 L"},{"$f":"IF(RTD(\"cqg.rtd\", ,\"ContractData\",'SR3'!AF43,\"LastTradeorSettle\",,\"T\")=\"\",\"\",TEXT(RTD(\"cqg.rtd\", ,\"ContractData\",'SR3'!AF43,\"LastTradeorSettle\",,\"T\"),\"#.000\")&\" \"&\"L\")","v":".500 L"},{"$f":"IF(RTD(\"cqg.rtd\", ,\"ContractData\",'SR3'!AF44,\"LastTradeorSettle\",,\"T\")=\"\",\"\",TEXT(RTD(\"cqg.rtd\", ,\"ContractData\",'SR3'!AF44,\"LastTradeorSettle\",,\"T\"),\"#.000\")&\" \"&\"L\")","v":"4.000 L"},{"$f":"IF(RTD(\"cqg.rtd\", ,\"ContractData\",'SR3'!AF45,\"LastTradeorSettle\",,\"T\")=\"\",\"\",TEXT(RTD(\"cqg.rtd\", ,\"ContractData\",'SR3'!AF45,\"LastTradeorSettle\",,\"T\"),\"#.000\")&\" \"&\"L\")","v":"6.500 L"},{"$f":"IF(RTD(\"cqg.rtd\", ,\"ContractData\",'SR3'!AF46,\"LastTradeorSettle\",,\"T\")=\"\",\"\",TEXT(RTD(\"cqg.rtd\", ,\"ContractData\",'SR3'!AF46,\"LastTradeorSettle\",,\"T\"),\"#.000\")&\" \"&\"L\")","v":"8.000 L"},{"$f":"IF(RTD(\"cqg.rtd\", ,\"ContractData\",'SR3'!AF47,\"LastTradeorSettle\",,\"T\")=\"\",\"\",TEXT(RTD(\"cqg.rtd\", ,\"ContractData\",'SR3'!AF47,\"LastTradeorSettle\",,\"T\"),\"#.000\")&\" \"&\"L\")","v":"9.000 L"},{"$f":"IF(RTD(\"cqg.rtd\", ,\"ContractData\",'SR3'!AF48,\"LastTradeorSettle\",,\"T\")=\"\",\"\",TEXT(RTD(\"cqg.rtd\", ,\"ContractData\",'SR3'!AF48,\"LastTradeorSettle\",,\"T\"),\"#.000\")&\" \"&\"L\")","v":"11.000 L"},{"$f":"IF(RTD(\"cqg.rtd\", ,\"ContractData\",'SR3'!AF49,\"LastTradeorSettle\",,\"T\")=\"\",\"\",TEXT(RTD(\"cqg.rtd\", ,\"ContractData\",'SR3'!AF49,\"LastTradeorSettle\",,\"T\"),\"#.000\")&\" \"&\"L\")","v":"12.500 L"},{"$f":"IF(RTD(\"cqg.rtd\", ,\"ContractData\",'SR3'!AF50,\"LastTradeorSettle\",,\"T\")=\"\",\"\",TEXT(RTD(\"cqg.rtd\", ,\"ContractData\",'SR3'!AF50,\"LastTradeorSettle\",,\"T\"),\"#.000\")&\" \"&\"L\")","v":"12.500 L"},{"$f":"IF(RTD(\"cqg.rtd\", ,\"ContractData\",'SR3'!AF51,\"LastTradeorSettle\",,\"T\")=\"\",\"\",TEXT(RTD(\"cqg.rtd\", ,\"ContractData\",'SR3'!AF51,\"LastTradeorSettle\",,\"T\"),\"#.000\")&\" \"&\"L\")","v":"14.000 L"},{"$f":"IF(LEFT(RTD(\"cqg.rtd\",,\"ContractData\",'SR3'!AF52,\"LastTradeorSettle\"),3)=\"768\",\"\",IF(RTD(\"cqg.rtd\",,\"ContractData\",'SR3'!AF52,\"LastTradeorSettle\")=\"\",\"\",TEXT(RTD(\"cqg.rtd\",,\"ContractData\",'SR3'!AF52,\"LastTradeorSettle\"),\"#.000\")&\" \"&\"L\"))","v":""},{"$f":"IF(LEFT(RTD(\"cqg.rtd\",,\"ContractData\",'SR3'!AF53,\"LastTradeorSettle\"),3)=\"768\",\"\",IF(RTD(\"cqg.rtd\",,\"ContractData\",'SR3'!AF53,\"LastTradeorSettle\")=\"\",\"\",TEXT(RTD(\"cqg.rtd\",,\"ContractData\",'SR3'!AF53,\"LastTradeorSettle\"),\"#.000\")&\" \"&\"L\"))","v":"13.000 L"},{"$f":"IF(LEFT(RTD(\"cqg.rtd\",,\"ContractData\",'SR3'!AF53,\"LastTradeorSettle\"),3)=\"768\",\"\",IF(RTD(\"cqg.rtd\",,\"ContractData\",'SR3'!AF53,\"LastTradeorSettle\")=\"\",\"\",TEXT(RTD(\"cqg.rtd\",,\"ContractData\",'SR3'!AF53,\"LastTradeorSettle\"),\"#.000\")&\" \"&\"L\"))","v":"13.000 L"}]
[{"$f":"RTD(\"cqg.rtd\",,\"ContractData\",'SR3'!AF36, \"Symbol\")","v":"SR3S12U23"},{"$f":"RIGHT(RTD(\"cqg.rtd\",,\"ContractData\",A46, \"LongDescription\"),15)","v":" Sep 23, Sep 24"},{"$f":"RTD(\"cqg.rtd\", ,\"ContractData\",A46, \"Open\",,\"T\")","v":-148.5},{"$f":"RTD(\"cqg.rtd\", ,\"ContractData\",A46, \"High\",,\"T\")","v":-140},{"$f":"RTD(\"cqg.rtd\", ,\"ContractData\",A46, \"Low\",,\"T\")","v":-150.5},{"$f":"RTD(\"cqg.rtd\", ,\"ContractData\",A46, \"LastTradeorSettle\",,\"T\")","v":-148},{"$f":"RTD(\"cqg.rtd\",,\"ContractData\",A46,\"NetLastTradeToday\",,\"T\")","v":0},{"$f":"RTD(\"cqg.rtd\",,\"ContractData\",A46,\"NetLastTradeToday\",,\"T\")","v":0},{"$f":"RTD(\"cqg.rtd\", ,\"ContractData\",A46, \"T_CVol\")","v":4064}]
[{"$f":"RTD(\"cqg.rtd\",,\"ContractData\",'SR3'!AF37, \"Symbol\")","v":"SR3S12Z23"},{"$f":"RIGHT(RTD(\"cqg.rtd\",,\"ContractData\",A47, \"LongDescription\"),15)","v":" Dec 23, Dec 24"},{"$f":"RTD(\"cqg.rtd\", ,\"ContractData\",A47, \"Open\",,\"T\")","v":-127.5},{"$f":"RTD(\"cqg.rtd\", ,\"ContractData\",A47, \"High\",,\"T\")","v":-116.5},{"$f":"RTD(\"cqg.rtd\", ,\"ContractData\",A47, \"Low\",,\"T\")","v":-131.5},{"$f":"RTD(\"cqg.rtd\", ,\"ContractData\",A47, \"LastTradeorSettle\",,\"T\")","v":-125.5},{"$f":"RTD(\"cqg.rtd\",,\"ContractData\",A47,\"NetLastTradeToday\",,\"T\")","v":2.5},{"$f":"RTD(\"cqg.rtd\",,\"ContractData\",A47,\"NetLastTradeToday\",,\"T\")","v":2.5},{"$f":"RTD(\"cqg.rtd\", ,\"ContractData\",A47, \"T_CVol\")","v":8660}]
[{"$f":"RTD(\"cqg.rtd\",,\"ContractData\",'SR3'!AF38, \"Symbol\")","v":"SR3S12H24"},{"$f":"RIGHT(RTD(\"cqg.rtd\",,\"ContractData\",A48, \"LongDescription\"),15)","v":" Mar 24, Mar 25"},{"$f":"RTD(\"cqg.rtd\", ,\"ContractData\",A48, \"Open\",,\"T\")","v":-92},{"$f":"RTD(\"cqg.rtd\", ,\"ContractData\",A48, \"High\",,\"T\")","v":-80.5},{"$f":"RTD(\"cqg.rtd\", ,\"ContractData\",A48, \"Low\",,\"T\")","v":-95},{"$f":"RTD(\"cqg.rtd\", ,\"ContractData\",A48, \"LastTradeorSettle\",,\"T\")","v":-87.5},{"$f":"RTD(\"cqg.rtd\",,\"ContractData\",A48,\"NetLastTradeToday\",,\"T\")","v":4.5},{"$f":"RTD(\"cqg.rtd\",,\"ContractData\",A48,\"NetLastTradeToday\",,\"T\")","v":4.5},{"$f":"RTD(\"cqg.rtd\", ,\"ContractData\",A48, \"T_CVol\")","v":5805}]
[{"$f":"RTD(\"cqg.rtd\",,\"ContractData\",'SR3'!AF39, \"Symbol\")","v":"SR3S12M24"},{"$f":"RIGHT(RTD(\"cqg.rtd\",,\"ContractData\",A49, \"LongDescription\"),15)","v":" Jun 24, Jun 25"},{"$f":"RTD(\"cqg.rtd\", ,\"ContractData\",A49, \"Open\",,\"T\")","v":-55.5},{"$f":"RTD(\"cqg.rtd\", ,\"ContractData\",A49, \"High\",,\"T\")","v":-46},{"$f":"RTD(\"cqg.rtd\", ,\"ContractData\",A49, \"Low\",,\"T\")","v":-58.5},{"$f":"RTD(\"cqg.rtd\", ,\"ContractData\",A49, \"LastTradeorSettle\",,\"T\")","v":-52.5},{"$f":"RTD(\"cqg.rtd\",,\"ContractData\",A49,\"NetLastTradeToday\",,\"T\")","v":3.5},{"$f":"RTD(\"cqg.rtd\",,\"ContractData\",A49,\"NetLastTradeToday\",,\"T\")","v":3.5},{"$f":"RTD(\"cqg.rtd\", ,\"ContractData\",A49, \"T_CVol\")","v":7569}]
[{"$f":"RTD(\"cqg.rtd\",,\"ContractData\",'SR3'!AF40, \"Symbol\")","v":"SR3S12U24"},{"$f":"RIGHT(RTD(\"cqg.rtd\",,\"ContractData\",A50, \"LongDescription\"),15)","v":" Sep 24, Sep 25"},{"$f":"RTD(\"cqg.rtd\", ,\"ContractData\",A50, \"Open\",,\"T\")","v":-28},{"$f":"RTD(\"cqg.rtd\", ,\"ContractData\",A50, \"High\",,\"T\")","v":-21},{"$f":"RTD(\"cqg.rtd\", ,\"ContractData\",A50, \"Low\",,\"T\")","v":-30.5},{"$f":"RTD(\"cqg.rtd\", ,\"ContractData\",A50, \"LastTradeorSettle\",,\"T\")","v":-25.5},{"$f":"RTD(\"cqg.rtd\",,\"ContractData\",A50,\"NetLastTradeToday\",,\"T\")","v":2.5},{"$f":"RTD(\"cqg.rtd\",,\"ContractData\",A50,\"NetLastTradeToday\",,\"T\")","v":2.5},{"$f":"RTD(\"cqg.rtd\", ,\"ContractData\",A50, \"T_CVol\")","v":4431}]
[{"$f":"RTD(\"cqg.rtd\",,\"ContractData\",'SR3'!AF41, \"Symbol\")","v":"SR3S12Z24"},{"$f":"RIGHT(RTD(\"cqg.rtd\",,\"ContractData\",A51, \"LongDescription\"),15)","v":" Dec 24, Dec 25"},{"$f":"RTD(\"cqg.rtd\", ,\"ContractData\",A51, \"Open\",,\"T\")","v":-13},{"$f":"RTD(\"cqg.rtd\", ,\"ContractData\",A51, \"High\",,\"T\")","v":-8.5},{"$f":"RTD(\"cqg.rtd\", ,\"ContractData\",A51, \"Low\",,\"T\")","v":-15.5},{"$f":"RTD(\"cqg.rtd\", ,\"ContractData\",A51, \"LastTradeorSettle\",,\"T\")","v":-12},{"$f":"RTD(\"cqg.rtd\",,\"ContractData\",A51,\"NetLastTradeToday\",,\"T\")","v":1.5},{"$f":"RTD(\"cqg.rtd\",,\"ContractData\",A51,\"NetLastTradeToday\",,\"T\")","v":1.5},{"$f":"RTD(\"cqg.rtd\", ,\"ContractData\",A51, \"T_CVol\")","v":6565}]
[{"$f":"RTD(\"cqg.rtd\",,\"ContractData\",'SR3'!AF42, \"Symbol\")","v":"SR3S12H25"},{"$f":"RIGHT(RTD(\"cqg.rtd\",,\"ContractData\",A52, \"LongDescription\"),15)","v":" Mar 25, Mar 26"},{"$f":"RTD(\"cqg.rtd\", ,\"ContractData\",A52, \"Open\",,\"T\")","v":-4.5},{"$f":"RTD(\"cqg.rtd\", ,\"ContractData\",A52, \"High\",,\"T\")","v":-1},{"$f":"RTD(\"cqg.rtd\", ,\"ContractData\",A52, \"Low\",,\"T\")","v":-6.5},{"$f":"RTD(\"cqg.rtd\", ,\"ContractData\",A52, \"LastTradeorSettle\",,\"T\")","v":-3},{"$f":"RTD(\"cqg.rtd\",,\"ContractData\",A52,\"NetLastTradeToday\",,\"T\")","v":1.5},{"$f":"RTD(\"cqg.rtd\",,\"ContractData\",A52,\"NetLastTradeToday\",,\"T\")","v":1.5},{"$f":"RTD(\"cqg.rtd\", ,\"ContractData\",A52, \"T_CVol\")","v":3105}]
[{"$f":"RTD(\"cqg.rtd\",,\"ContractData\",'SR3'!AF43, \"Symbol\")","v":"SR3S12M25"},{"$f":"RIGHT(RTD(\"cqg.rtd\",,\"ContractData\",A53, \"LongDescription\"),15)","v":" Jun 25, Jun 26"},{"$f":"RTD(\"cqg.rtd\", ,\"ContractData\",A53, \"Open\",,\"T\")","v":0},{"$f":"RTD(\"cqg.rtd\", ,\"ContractData\",A53, \"High\",,\"T\")","v":2},{"$f":"RTD(\"cqg.rtd\", ,\"ContractData\",A53, \"Low\",,\"T\")","v":-2},{"$f":"RTD(\"cqg.rtd\", ,\"ContractData\",A53, \"LastTradeorSettle\",,\"T\")","v":0.5},{"$f":"RTD(\"cqg.rtd\",,\"ContractData\",A53,\"NetLastTradeToday\",,\"T\")","v":1.5},{"$f":"RTD(\"cqg.rtd\",,\"ContractData\",A53,\"NetLastTradeToday\",,\"T\")","v":1.5},{"$f":"RTD(\"cqg.rtd\", ,\"ContractData\",A53, \"T_CVol\")","v":2421}]
[{"$f":"RTD(\"cqg.rtd\",,\"ContractData\",'SR3'!AF44, \"Symbol\")","v":"SR3S12U25"},{"$f":"RIGHT(RTD(\"cqg.rtd\",,\"ContractData\",A54, \"LongDescription\"),15)","v":" Sep 25, Sep 26"},{"$f":"RTD(\"cqg.rtd\", ,\"ContractData\",A54, \"Open\",,\"T\")","v":3.5},{"$f":"RTD(\"cqg.rtd\", ,\"ContractData\",A54, \"High\",,\"T\")","v":5},{"$f":"RTD(\"cqg.rtd\", ,\"ContractData\",A54, \"Low\",,\"T\")","v":2},{"$f":"RTD(\"cqg.rtd\", ,\"ContractData\",A54, \"LastTradeorSettle\",,\"T\")","v":4},{"$f":"RTD(\"cqg.rtd\",,\"ContractData\",A54,\"NetLastTradeToday\",,\"T\")","v":1.5},{"$f":"RTD(\"cqg.rtd\",,\"ContractData\",A54,\"NetLastTradeToday\",,\"T\")","v":1.5},{"$f":"RTD(\"cqg.rtd\", ,\"ContractData\",A54, \"T_CVol\")","v":918}]
[{"$f":"RTD(\"cqg.rtd\",,\"ContractData\",'SR3'!AF45, \"Symbol\")","v":"SR3S12Z25"},{"$f":"RIGHT(RTD(\"cqg.rtd\",,\"ContractData\",A55, \"LongDescription\"),15)","v":" Dec 25, Dec 26"},{"$f":"RTD(\"cqg.rtd\", ,\"ContractData\",A55, \"Open\",,\"T\")","v":6},{"$f":"RTD(\"cqg.rtd\", ,\"ContractData\",A55, \"High\",,\"T\")","v":7.5},{"$f":"RTD(\"cqg.rtd\", ,\"ContractData\",A55, \"Low\",,\"T\")","v":4.5},{"$f":"RTD(\"cqg.rtd\", ,\"ContractData\",A55, \"LastTradeorSettle\",,\"T\")","v":6.5},{"$f":"RTD(\"cqg.rtd\",,\"ContractData\",A55,\"NetLastTradeToday\",,\"T\")","v":1.5},{"$f":"RTD(\"cqg.rtd\",,\"ContractData\",A55,\"NetLastTradeToday\",,\"T\")","v":1.5},{"$f":"RTD(\"cqg.rtd\", ,\"ContractData\",A55, \"T_CVol\")","v":4676}]
[{"$f":"RTD(\"cqg.rtd\",,\"ContractData\",'SR3'!AF46, \"Symbol\")","v":"SR3S12H26"},{"$f":"RIGHT(RTD(\"cqg.rtd\",,\"ContractData\",A56, \"LongDescription\"),15)","v":" Mar 26, Mar 27"},{"$f":"RTD(\"cqg.rtd\", ,\"ContractData\",A56, \"Open\",,\"T\")","v":7},{"$f":"RTD(\"cqg.rtd\", ,\"ContractData\",A56, \"High\",,\"T\")","v":8.5},{"$f":"RTD(\"cqg.rtd\", ,\"ContractData\",A56, \"Low\",,\"T\")","v":6},{"$f":"RTD(\"cqg.rtd\", ,\"ContractData\",A56, \"LastTradeorSettle\",,\"T\")","v":8},{"$f":"RTD(\"cqg.rtd\",,\"ContractData\",A56,\"NetLastTradeToday\",,\"T\")","v":2.5},{"$f":"RTD(\"cqg.rtd\",,\"ContractData\",A56,\"NetLastTradeToday\",,\"T\")","v":2.5},{"$f":"RTD(\"cqg.rtd\", ,\"ContractData\",A56, \"T_CVol\")","v":2935}]
[null,"CQG, Inc. Copyright © 2023",null,null,"Designed by Thom Hartle"]

{"sheet":"SR3","index":1,"n_rows":59,"n_cols":53,"rows_kept":59,"cut":false,"hidden":true,"merged":[]}
[null,null,"S",1,null,null,null,null,null,null,null,null,null,{"$f":"UPPER(SOFR_3_Mo_Master!E11)","v":"SR3M23"},null,null,"SR3","LastTradeorSettle","Bid","Ask","NetLastQuoteToday",{"$f":"\"SR3S\"&AB25&SOFR_3_Mo_Master!I25","v":"SR3S3M23"},null,null,null,null,{"$f":"LEN(AB1)","v":5},"1-Mon",null,null,null,null,null,null,null,null,null,null,null,null,{"$f":"V1","v":"SR3S3M23"},{"$f":"AB25*1","v":3},null,null,null,{"$f":"LEN(AU1)","v":5},"1-Mon",null,null,{"$f":"\"SR3S\"&AU25&SOFR_3_Mo_Master!I41","v":"SR3S12M23"},{"$f":"AU25*1","v":12}]
[{"$f":"Q2","v":"SR3M23"},{"$f":"RTD(\"cqg.rtd\", ,\"ContractData\",A2, \"ContractMonth\")","v":"JUN"},{"$f":"IF(B2=\"Jan\",\"F\",IF(B2=\"Feb\",\"G\",IF(B2=\"Mar\",\"H\",IF(B2=\"Apr\",\"J\",IF(B2=\"May\",\"K\",IF(B2=\"JUN\",\"M\",IF(B2=\"Jul\",\"N\",IF(B2=\"Aug\",\"Q\",IF(B2=\"Sep\",\"U\",IF(B2=\"Oct\",\"V\",IF(B2=\"Nov\",\"X\",IF(B2=\"Dec\",\"Z\"))))))))))))","v":"M"},{"$f":"$Q$1&$C$1&$D$1&$C2","v":"SR3S1M"},null,null,null,null,null,null,null,null,null,{"$f":"VLOOKUP(N1,Q35:R38,2,FALSE)","v":2},null,{"$f":"LEFT(RIGHT(Q2,2),1)","v":"2"},{"$f":"N1","v":"SR3M23"},{"$f":"RTD(\"cqg.rtd\", ,\"ContractData\", Q2, $R$1,,\"T\")","v":95.174999999999997},{"$f":"RTD(\"cqg.rtd\", ,\"ContractData\", Q2,$S$1,,\"T\")","v":95.17},{"$f":"RTD(\"cqg.rtd\", ,\"ContractData\", Q2,$T$1,,\"T\")","v":95.174999999999997},{"$f":"RTD(\"cqg.rtd\", ,\"ContractData\", \"F.\"&$Q$1&\"?1\", $U$1,,\"T\")","v":1.2500000000000001E-2},1,{"$f":"\"SR3S\"&$AB$25&\"?\"&V2","v":"SR3S3?1"},{"$f":"RTD(\"cqg.rtd\",,\"ContractData\",W2,\"Symbol\",, \"T\")","v":"SR3S3H23"},1,1,{"$f":"LEN(AB2)","v":5},"2-Mon",null,null,null,null,null,null,null,null,{"$f":"V2","v":1},{"$f":"X2","v":"SR3S3H23"},null,1,{"$f":"\"SR3S\"&$AP$1&\"?\"&AN2","v":"SR3S3?1"},{"$f":"RTD(\"cqg.rtd\",,\"ContractData\",AO2,\"Symbol\",, \"T\")","v":"SR3S3H23"},1,null,null,{"$f":"LEN(AU2)","v":5},"2-Mon",1,{"$f":"\"SR3S\"&$AU$25&\"?\"&AV2","v":"SR3S12?1"},{"$f":"RTD(\"cqg.rtd\",,\"ContractData\",AW2,\"Symbol\",, \"T\")","v":"SR3S12H23"},1,1,{"$f":"RTD(\"cqg.rtd\",,\"ContractData\",AW2,\"Symbol\",, \"T\")","v":"SR3S12H23"}]
[{"$f":"Q3","v":"SR3U23"},{"$f":"RTD(\"cqg.rtd\", ,\"ContractData\",A3, \"ContractMonth\")","v":"SEP"},{"$f":"IF(B3=\"Jan\",\"F\",IF(B3=\"Feb\",\"G\",IF(B3=\"Mar\",\"H\",IF(B3=\"Apr\",\"J\",IF(B3=\"May\",\"K\",IF(B3=\"JUN\",\"M\",IF(B3=\"Jul\",\"N\",IF(B3=\"Aug\",\"Q\",IF(B3=\"Sep\",\"U\",IF(B3=\"Oct\",\"V\",IF(B3=\"Nov\",\"X\",IF(B3=\"Dec\",\"Z\"))))))))))))","v":"U"},{"$f":"$Q$1&$C$1&$D$1&$C3","v":"SR3S1U"},null,null,null,null,null,null,null,null,null,{"$f":"N2+1","v":3},null,{"$f":"LEFT(RIGHT(Q3,2),1)","v":"2"},{"$f":"RTD(\"cqg.rtd\", ,\"ContractData\", $Q$1&\"?\"&N3, \"Symbol\")","v":"SR3U23"},{"$f":"RTD(\"cqg.rtd\", ,\"ContractData\", Q3, $R$1,,\"T\")","v":95.515000000000001},{"$f":"RTD(\"cqg.rtd\", ,\"ContractData\", Q3,$S$1,,\"T\")","v":95.515000000000001},{"$f":"RTD(\"cqg.rtd\", ,\"ContractData\", Q3,$T$1,,\"T\")","v":95.52},{"$f":"RTD(\"cqg.rtd\", ,\"ContractData\", \"F.\"&$Q$1&\"?2\",  $U$1,,\"T\")","v":0.105},{"$f":"V2+1","v":2},{"$f":"\"SR3S\"&$AB$25&\"?\"&V3","v":"SR3S3?2"},{"$f":"RTD(\"cqg.rtd\",,\"ContractData\",W3,\"Symbol\",, \"T\")","v":"SR3S3M23"},2,{"$f":"Z2+1","v":2},5,"3-Mon",null,null,null,null,null,null,null,null,{"$f":"V3","v":2},{"$f":"X3","v":"SR3S3M23"},null,{"$f":"AN2+1","v":2},"SR3S3?2",{"$f":"RTD(\"cqg.rtd\",,\"ContractData\",AO3,\"Symbol\",, \"T\")","v":"SR3S3M23"},2,null,null,5,"3-Mon",{"$f":"AV2+1","v":2},{"$f":"\"SR3S\"&$AU$25&\"?\"&AV3","v":"SR3S12?2"},{"$f":"RTD(\"cqg.rtd\",,\"ContractData\",AW3,\"Symbol\",, \"T\")","v":"SR3S12M23"},2,{"$f":"AZ2+1","v":2},{"$f":"RTD(\"cqg.rtd\",,\"ContractData\",AW3,\"Symbol\",, \"T\")","v":"SR3S12M23"}]
["SR3Z23",{"$f":"RTD(\"cqg.rtd\", ,\"ContractData\",A4, \"ContractMonth\")","v":"DEC"},"Z","SR3S1Z",null,null,null,null,null,null,null,null,null,{"$f":"N3+1","v":4},null,"2",{"$f":"RTD(\"cqg.rtd\", ,\"ContractData\", $Q$1&\"?\"&N4, \"Symbol\")","v":"SR3Z23"},{"$f":"RTD(\"cqg.rtd\", ,\"ContractData\", Q4, $R$1,,\"T\")","v":95.89},{"$f":"RTD(\"cqg.rtd\", ,\"ContractData\", Q4,$S$1,,\"T\")","v":95.885000000000005},{"$f":"RTD(\"cqg.rtd\", ,\"ContractData\", Q4,$T$1,,\"T\")","v":95.89},{"$f":"RTD(\"cqg.rtd\", ,\"ContractData\", \"F.\"&$Q$1&\"?3\",  $U$1,,\"T\")","v":0.13500000000000001},{"$f":"V3+1","v":3},"SR3S3?3",{"$f":"RTD(\"cqg.rtd\",,\"ContractData\",W4,\"Symbol\",, \"T\")","v":"SR3S3U23"},3,{"$f":"Z3+1","v":3},5,"4-Mon",null,null,null,null,null,null,null,null,3,"SR3S3U23",null,{"$f":"AN3+1","v":3},"SR3S3?3",{"$f":"RTD(\"cqg.rtd\",,\"ContractData\",AO4,\"Symbol\",, \"T\")","v":"SR3S3U23"},3,null,null,5,"4-Mon",{"$f":"AV3+1","v":3},"SR3S12?3",{"$f":"RTD(\"cqg.rtd\",,\"ContractData\",AW4,\"Symbol\",, \"T\")","v":"SR3S12U23"},3,{"$f":"AZ3+1","v":3},{"$f":"RTD(\"cqg.rtd\",,\"ContractData\",AW4,\"Symbol\",, \"T\")","v":"SR3S12U23"}]
["SR3H24",{"$f":"RTD(\"cqg.rtd\", ,\"ContractData\",A5, \"ContractMonth\")","v":"MAR"},"H","SR3S1H",null,null,null,null,null,null,null,null,null,5,null,"2",{"$f":"RTD(\"cqg.rtd\", ,\"ContractData\", $Q$1&\"?\"&N5, \"Symbol\")","v":"SR3H24"},{"$f":"RTD(\"cqg.rtd\", ,\"ContractData\", Q5, $R$1,,\"T\")","v":96.34},{"$f":"RTD(\"cqg.rtd\", ,\"ContractData\", Q5,$S$1,,\"T\")","v":96.34},{"$f":"RTD(\"cqg.rtd\", ,\"ContractData\", Q5,$T$1,,\"T\")","v":96.344999999999999},{"$f":"RTD(\"cqg.rtd\", ,\"ContractData\", \"F.\"&$Q$1&\"?4\",  $U$1,,\"T\")","v":0.15},4,"SR3S3?4",{"$f":"RTD(\"cqg.rtd\",,\"ContractData\",W5,\"Symbol\",, \"T\")","v":"SR3S3Z23"},4,4,5,"5-Mon",null,null,null,null,null,null,null,null,4,"SR3S3Z23",null,4,"SR3S3?4",{"$f":"RTD(\"cqg.rtd\",,\"ContractData\",AO5,\"Symbol\",, \"T\")","v":"SR3S3Z23"},4,null,null,5,"5-Mon",4,"SR3S12?4",{"$f":"RTD(\"cqg.rtd\",,\"ContractData\",AW5,\"Symbol\",, \"T\")","v":"SR3S12Z23"},4,4,{"$f":"RTD(\"cqg.rtd\",,\"ContractData\",AW5,\"Symbol\",, \"T\")","v":"SR3S12Z23"}]
["SR3M24",{"$f":"RTD(\"cqg.rtd\", ,\"ContractData\",A6, \"ContractMonth\")","v":"JUN"},"M","SR3S1M",null,null,null,null,null,null,null,null,null,6,null,"2",{"$f":"RTD(\"cqg.rtd\", ,\"ContractData\", $Q$1&\"?\"&N6, \"Symbol\")","v":"SR3M24"},{"$f":"RTD(\"cqg.rtd\", ,\"ContractData\", Q6, $R$1,,\"T\")","v":96.725000000000009},{"$f":"RTD(\"cqg.rtd\", ,\"ContractData\", Q6,$S$1,,\"T\")","v":96.72},{"$f":"RTD(\"cqg.rtd\", ,\"ContractData\", Q6,$T$1,,\"T\")","v":96.725000000000009},{"$f":"RTD(\"cqg.rtd\", ,\"ContractData\", \"F.\"&$Q$1&\"?5\",  $U$1,,\"T\")","v":0.16},5,"SR3S3?5",{"$f":"RTD(\"cqg.rtd\",,\"ContractData\",W6,\"Symbol\",, \"T\")","v":"SR3S3H24"},5,5,5,"6-Mon",null,null,null,null,null,null,null,null,5,"SR3S3H24",null,5,"SR3S3?5",{"$f":"RTD(\"cqg.rtd\",,\"ContractData\",AO6,\"Symbol\",, \"T\")","v":"SR3S3H24"},5,null,null,5,"6-Mon",5,"SR3S12?5",{"$f":"RTD(\"cqg.rtd\",,\"ContractData\",AW6,\"Symbol\",, \"T\")","v":"SR3S12H24"},5,5,{"$f":"RTD(\"cqg.rtd\",,\"ContractData\",AW6,\"Symbol\",, \"T\")","v":"SR3S12H24"}]
["SR3U24",{"$f":"RTD(\"cqg.rtd\", ,\"ContractData\",A7, \"ContractMonth\")","v":"SEP"},"U","SR3S1U",null,null,null,null,null,null,null,null,null,7,null,"2",{"$f":"RTD(\"cqg.rtd\", ,\"ContractData\", $Q$1&\"?\"&N7, \"Symbol\")","v":"SR3U24"},{"$f":"RTD(\"cqg.rtd\", ,\"ContractData\", Q7, $R$1,,\"T\")","v":97},{"$f":"RTD(\"cqg.rtd\", ,\"ContractData\", Q7,$S$1,,\"T\")","v":96.995000000000005},{"$f":"RTD(\"cqg.rtd\", ,\"ContractData\", Q7,$T$1,,\"T\")","v":97.004999999999995},{"$f":"RTD(\"cqg.rtd\", ,\"ContractData\", \"F.\"&$Q$1&\"?6\", $U$1,,\"T\")","v":0.16},6,"SR3S3?6",{"$f":"RTD(\"cqg.rtd\",,\"ContractData\",W7,\"Symbol\",, \"T\")","v":"SR3S3M24"},6,6,5,"7-Mon",null,null,null,null,null,null,null,null,6,"SR3S3M24",null,6,"SR3S3?6",{"$f":"RTD(\"cqg.rtd\",,\"ContractData\",AO7,\"Symbol\",, \"T\")","v":"SR3S3M24"},6,null,null,5,"7-Mon",6,"SR3S12?6",{"$f":"RTD(\"cqg.rtd\",,\"ContractData\",AW7,\"Symbol\",, \"T\")","v":"SR3S12M24"},6,6,{"$f":"RTD(\"cqg.rtd\",,\"ContractData\",AW7,\"Symbol\",, \"T\")","v":"SR3S12M24"}]
["SR3Z24",{"$f":"RTD(\"cqg.rtd\", ,\"ContractData\",A8, \"ContractMonth\")","v":"DEC"},"Z","SR3S1Z",null,null,null,null,null,null,null,null,null,8,null,"2",{"$f":"RTD(\"cqg.rtd\", ,\"ContractData\", $Q$1&\"?\"&N8, \"Symbol\")","v":"SR3Z24"},{"$f":"RTD(\"cqg.rtd\", ,\"ContractData\", Q8, $R$1,,\"T\")","v":97.144999999999996},{"$f":"RTD(\"cqg.rtd\", ,\"ContractData\", Q8,$S$1,,\"T\")","v":97.144999999999996},{"$f":"RTD(\"cqg.rtd\", ,\"ContractData\", Q8,$T$1,,\"T\")","v":97.15},{"$f":"RTD(\"cqg.rtd\", ,\"ContractData\", \"F.\"&$Q$1&\"?7\", $U$1,,\"T\")","v":0.14499999999999999},7,"SR3S3?7",{"$f":"RTD(\"cqg.rtd\",,\"ContractData\",W8,\"Symbol\",, \"T\")","v":"SR3S3U24"},8,7,5,"8-Mon",null,null,null,null,null,null,null,null,7,"SR3S3U24",null,7,"SR3S3?7",{"$f":"RTD(\"cqg.rtd\",,\"ContractData\",AO8,\"Symbol\",, \"T\")","v":"SR3S3U24"},8,null,null,5,"8-Mon",7,"SR3S12?7",{"$f":"RTD(\"cqg.rtd\",,\"ContractData\",AW8,\"Symbol\",, \"T\")","v":"SR3S12U24"},8,7,{"$f":"RTD(\"cqg.rtd\",,\"ContractData\",AW8,\"Symbol\",, \"T\")","v":"SR3S12U24"}]
["SR3H25",{"$f":"RTD(\"cqg.rtd\", ,\"ContractData\",A9, \"ContractMonth\")","v":"MAR"},"H","SR3S1H",null,null,null,null,null,null,null,null,null,9,null,"2",{"$f":"RTD(\"cqg.rtd\", ,\"ContractData\", $Q$1&\"?\"&N9, \"Symbol\")","v":"SR3H25"},{"$f":"RTD(\"cqg.rtd\", ,\"ContractData\", Q9, $R$1,,\"T\")","v":97.22},{"$f":"RTD(\"cqg.rtd\", ,\"ContractData\", Q9,$S$1,,\"T\")","v":97.215000000000003},{"$f":"RTD(\"cqg.rtd\", ,\"ContractData\", Q9,$T$1,,\"T\")","v":97.22},{"$f":"RTD(\"cqg.rtd\", ,\"ContractData\", \"F.\"&$Q$1&\"?8\", $U$1,,\"T\")","v":0.125},8,"SR3S3?8",{"$f":"RTD(\"cqg.rtd\",,\"ContractData\",W9,\"Symbol\",, \"T\")","v":"SR3S3Z24"},9,8,5,"9-Mon",null,null,null,null,null,null,null,null,8,"SR3S3Z24",null,8,"SR3S3?8",{"$f":"RTD(\"cqg.rtd\",,\"ContractData\",AO9,\"Symbol\",, \"T\")","v":"SR3S3Z24"},9,null,null,5,"9-Mon",8,"SR3S12?8",{"$f":"RTD(\"cqg.rtd\",,\"ContractData\",AW9,\"Symbol\",, \"T\")","v":"SR3S12Z24"},9,8,{"$f":"RTD(\"cqg.rtd\",,\"ContractData\",AW9,\"Symbol\",, \"T\")","v":"SR3S12Z24"}]
["SR3M25",{"$f":"RTD(\"cqg.rtd\", ,\"ContractData\",A10, \"ContractMonth\")","v":"JUN"},"M","SR3S1M",null,null,null,null,null,null,null,null,null,10,null,"2",{"$f":"RTD(\"cqg.rtd\", ,\"ContractData\", $Q$1&\"?\"&N10, \"Symbol\")","v":"SR3M25"},{"$f":"RTD(\"cqg.rtd\", ,\"ContractData\", Q10, $R$1,,\"T\")","v":97.245000000000005},{"$f":"RTD(\"cqg.rtd\", ,\"ContractData\", Q10,$S$1,,\"T\")","v":97.240000000000009},{"$f":"RTD(\"cqg.rtd\", ,\"ContractData\", Q10,$T$1,,\"T\")","v":97.245000000000005},{"$f":"RTD(\"cqg.rtd\", ,\"ContractData\", \"F.\"&$Q$1&\"?9\", $U$1,,\"T\")","v":0.12},9,"SR3S3?9",{"$f":"RTD(\"cqg.rtd\",,\"ContractData\",W10,\"Symbol\",, \"T\")","v":"SR3S3H25"},{"$f":"VLOOKUP(V1,X2:Y9,2,)","v":2},9,6,"12-Mon",null,null,null,null,null,null,null,null,9,"SR3S3H25",null,9,"SR3S3?9",{"$f":"RTD(\"cqg.rtd\",,\"ContractData\",AO10,\"Symbol\",, \"T\")","v":"SR3S3H25"},{"$f":"VLOOKUP(AO1,AP2:AQ9,2,)","v":2},null,null,6,"12-Mon",9,"SR3S12?9",null,{"$f":"VLOOKUP(AX1,AX2:AY9,2,)","v":2},9,{"$f":"RTD(\"cqg.rtd\",,\"ContractData\",AW10,\"Symbol\",, \"T\")","v":"SR3S12H25"}]
["SR3U25",{"$f":"RTD(\"cqg.rtd\", ,\"ContractData\",A11, \"ContractMonth\")","v":"SEP"},"U","SR3S1U",null,null,null,null,null,null,null,null,null,11,null,"2",{"$f":"RTD(\"cqg.rtd\", ,\"ContractData\", $Q$1&\"?\"&N11, \"Symbol\")","v":"SR3U25"},{"$f":"RTD(\"cqg.rtd\", ,\"ContractData\", Q11, $R$1,,\"T\")","v":97.254999999999995},{"$f":"RTD(\"cqg.rtd\", ,\"ContractData\", Q11,$S$1,,\"T\")","v":97.25},{"$f":"RTD(\"cqg.rtd\", ,\"ContractData\", Q11,$T$1,,\"T\")","v":97.254999999999995},{"$f":"RTD(\"cqg.rtd\", ,\"ContractData\", \"F.\"&$Q$1&\"?10\", $U$1,,\"T\")","v":0.12},10,"SR3S3?10",{"$f":"RTD(\"cqg.rtd\",,\"ContractData\",W11,\"Symbol\",, \"T\")","v":"SR3S3M25"},null,10,6,"15-Mon",null,null,null,null,null,null,null,null,10,"SR3S3M25",null,10,"SR3S3?10",{"$f":"RTD(\"cqg.rtd\",,\"ContractData\",AO11,\"Symbol\",, \"T\")","v":"SR3S3M25"},null,null,null,6,"15-Mon",10,"SR3S12?10",null,null,10,{"$f":"RTD(\"cqg.rtd\",,\"ContractData\",AW11,\"Symbol\",, \"T\")","v":"SR3S12M25"}]
["SR3Z25",{"$f":"RTD(\"cqg.rtd\", ,\"ContractData\",A12, \"ContractMonth\")","v":"DEC"},"Z","SR3S1Z",null,null,null,null,null,null,null,null,null,12,null,"2",{"$f":"RTD(\"cqg.rtd\", ,\"ContractData\", $Q$1&\"?\"&N12, \"Symbol\")","v":"SR3Z25"},{"$f":"RTD(\"cqg.rtd\", ,\"ContractData\", Q12, $R$1,,\"T\")","v":97.265000000000001},{"$f":"RTD(\"cqg.rtd\", ,\"ContractData\", Q12,$S$1,,\"T\")","v":97.26},{"$f":"RTD(\"cqg.rtd\", ,\"ContractData\", Q12,$T$1,,\"T\")","v":97.265000000000001},{"$f":"RTD(\"cqg.rtd\", ,\"ContractData\", \"F.\"&$Q$1&\"?11\",$U$1,,\"T\")","v":0.115},11,"SR3S3?11",{"$f":"RTD(\"cqg.rtd\",,\"ContractData\",W12,\"Symbol\",, \"T\")","v":"SR3S3U25"},null,11,6,"18-Mon",null,null,null,null,null,null,null,null,11,"SR3S3U25",null,11,"SR3S3?11",{"$f":"RTD(\"cqg.rtd\",,\"ContractData\",AO12,\"Symbol\",, \"T\")","v":"SR3S3U25"},null,null,null,6,"18-Mon",11,"SR3S12?11",null,null,11,{"$f":"RTD(\"cqg.rtd\",,\"ContractData\",AW12,\"Symbol\",, \"T\")","v":"SR3S12U25"}]
["SR3H26",{"$f":"RTD(\"cqg.rtd\", ,\"ContractData\",A13, \"ContractMonth\")","v":"MAR"},"H","SR3S1H",null,null,null,null,null,null,null,null,null,13,null,"2",{"$f":"RTD(\"cqg.rtd\", ,\"ContractData\", $Q$1&\"?\"&N13, \"Symbol\")","v":"SR3H26"},{"$f":"RTD(\"cqg.rtd\", ,\"ContractData\", Q13, $R$1,,\"T\")","v":97.25},{"$f":"RTD(\"cqg.rtd\", ,\"ContractData\", Q13,$S$1,,\"T\")","v":97.245000000000005},{"$f":"RTD(\"cqg.rtd\", ,\"ContractData\", Q13,$T$1,,\"T\")","v":97.254999999999995},{"$f":"RTD(\"cqg.rtd\", ,\"ContractData\", \"F.\"&$Q$1&\"?12\",$U$1,,\"T\")","v":0.11},12,"SR3S3?12",{"$f":"RTD(\"cqg.rtd\",,\"ContractData\",W13,\"Symbol\",, \"T\")","v":"SR3S3Z25"},null,12,6,"21-Mon",null,null,null,null,null,null,null,null,12,"SR3S3Z25",null,12,"SR3S3?12",{"$f":"RTD(\"cqg.rtd\",,\"ContractData\",AO13,\"Symbol\",, \"T\")","v":"SR3S3Z25"},null,null,null,6,"21-Mon",12,"SR3S12?12",null,null,12,{"$f":"RTD(\"cqg.rtd\",,\"ContractData\",AW13,\"Symbol\",, \"T\")","v":"SR3S12Z25"}]
[null,null,null,null,null,null,null,null,null,null,null,null,null,14,null,"2",{"$f":"RTD(\"cqg.rtd\", ,\"ContractData\", $Q$1&\"?\"&N14, \"Symbol\")","v":"SR3M26"},{"$f":"RTD(\"cqg.rtd\", ,\"ContractData\", Q14, $R$1,,\"T\")","v":97.240000000000009},{"$f":"RTD(\"cqg.rtd\", ,\"ContractData\", Q14,$S$1,,\"T\")","v":97.234999999999999},{"$f":"RTD(\"cqg.rtd\", ,\"ContractData\", Q14,$T$1,,\"T\")","v":97.240000000000009},{"$f":"RTD(\"cqg.rtd\", ,\"ContractData\", \"F.\"&$Q$1&\"?12\",$U$1,,\"T\")","v":0.11},13,"SR3S3?13",{"$f":"RTD(\"cqg.rtd\",,\"ContractData\",W14,\"Symbol\",, \"T\")","v":"SR3S3H26"},null,13,6,"24-Mon",null,null,null,null,null,null,null,null,13,"SR3S3H26",null,13,"SR3S3?13",{"$f":"RTD(\"cqg.rtd\",,\"ContractData\",AO14,\"Symbol\",, \"T\")","v":"SR3S3H26"},null,null,null,6,"24-Mon",13,"SR3S12?13",null,null,13,{"$f":"RTD(\"cqg.rtd\",,\"ContractData\",AW14,\"Symbol\",, \"T\")","v":"SR3S12H26"}]
[null,null,null,null,null,null,null,null,null,null,null,null,null,15,null,"2",{"$f":"RTD(\"cqg.rtd\", ,\"ContractData\", $Q$1&\"?\"&N15, \"Symbol\")","v":"SR3U26"},{"$f":"RTD(\"cqg.rtd\", ,\"ContractData\", Q15, $R$1,,\"T\")","v":97.215000000000003},{"$f":"RTD(\"cqg.rtd\", ,\"ContractData\", Q15,$S$1,,\"T\")","v":97.210000000000008},{"$f":"RTD(\"cqg.rtd\", ,\"ContractData\", Q15,$T$1,,\"T\")","v":97.215000000000003},{"$f":"RTD(\"cqg.rtd\", ,\"ContractData\", \"F.\"&$Q$1&\"?12\",$U$1,,\"T\")","v":0.11},14,"SR3S3?14",{"$f":"RTD(\"cqg.rtd\",,\"ContractData\",W15,\"Symbol\",, \"T\")","v":"SR3S3M26"},null,14,6,"27-Mon",null,null,null,null,null,null,null,null,14,"SR3S3M26",null,14,"SR3S3?14",{"$f":"RTD(\"cqg.rtd\",,\"ContractData\",AO15,\"Symbol\",, \"T\")","v":"SR3S3M26"},null,null,null,6,"27-Mon",14,"SR3S12?14",null,null,14,{"$f":"RTD(\"cqg.rtd\",,\"ContractData\",AW15,\"Symbol\",, \"T\")","v":"SR3S12M26"}]
[null,null,null,null,null,null,null,null,null,null,null,null,null,16,null,"2",{"$f":"RTD(\"cqg.rtd\", ,\"ContractData\", $Q$1&\"?\"&N16, \"Symbol\")","v":"SR3Z26"},{"$f":"RTD(\"cqg.rtd\", ,\"ContractData\", Q16, $R$1,,\"T\")","v":97.2},{"$f":"RTD(\"cqg.rtd\", ,\"ContractData\", Q16,$S$1,,\"T\")","v":97.195000000000007},{"$f":"RTD(\"cqg.rtd\", ,\"ContractData\", Q16,$T$1,,\"T\")","v":97.2},{"$f":"RTD(\"cqg.rtd\", ,\"ContractData\", \"F.\"&$Q$1&\"?12\",$U$1,,\"T\")","v":0.11},15,"SR3S3?15",{"$f":"RTD(\"cqg.rtd\",,\"ContractData\",W16,\"Symbol\",, \"T\")","v":"SR3S3U26"},null,15,6,"30-Mon",null,null,null,null,null,null,null,null,15,"SR3S3U26",null,15,"SR3S3?15",{"$f":"RTD(\"cqg.rtd\",,\"ContractData\",AO16,\"Symbol\",, \"T\")","v":"SR3S3U26"},null,null,null,6,"30-Mon",15,"SR3S12?15",null,null,15,{"$f":"RTD(\"cqg.rtd\",,\"ContractData\",AW16,\"Symbol\",, \"T\")","v":"SR3S12U26"}]
[null,null,"Max","Min",null,null,null,null,null,null,null,null,null,17,null,"2",{"$f":"RTD(\"cqg.rtd\", ,\"ContractData\", $Q$1&\"?\"&N17, \"Symbol\")","v":"SR3H27"},{"$f":"RTD(\"cqg.rtd\", ,\"ContractData\", Q17, $R$1,,\"T\")","v":97.174999999999997},{"$f":"RTD(\"cqg.rtd\", ,\"ContractData\", Q17,$S$1,,\"T\")","v":97.17},{"$f":"RTD(\"cqg.rtd\", ,\"ContractData\", Q17,$T$1,,\"T\")","v":97.174999999999997},{"$f":"RTD(\"cqg.rtd\", ,\"ContractData\", \"F.\"&$Q$1&\"?12\",$U$1,,\"T\")","v":0.11},16,"SR3S3?16",{"$f":"RTD(\"cqg.rtd\",,\"ContractData\",W17,\"Symbol\",, \"T\")","v":"SR3S3Z26"},null,16,6,"33-Mon",null,null,null,null,null,null,null,null,16,"SR3S3Z26",null,16,"SR3S3?16",{"$f":"RTD(\"cqg.rtd\",,\"ContractData\",AO17,\"Symbol\",, \"T\")","v":"SR3S3Z26"},null,null,null,6,"33-Mon",16,"SR3S12?16",null,null,16,{"$f":"RTD(\"cqg.rtd\",,\"ContractData\",AW17,\"Symbol\",, \"T\")","v":"SR3S12Z26"}]
[null,null,{"$f":"ROUNDUP(MAX(C19:C20),0)","v":98},{"$f":"ROUNDDOWN(MIN(D19:D20),0)","v":94},null,null,null,null,null,null,null,null,null,18,null,"2",{"$f":"RTD(\"cqg.rtd\", ,\"ContractData\", $Q$1&\"?\"&N18, \"Symbol\")","v":"SR3M27"},{"$f":"IF(RTD(\"cqg.rtd\", ,\"ContractData\", Q18, $R$1,,\"T\")=\"\",NA(),RTD(\"cqg.rtd\", ,\"ContractData\", Q18, $R$1,,\"T\"))","v":97.144999999999996},{"$f":"RTD(\"cqg.rtd\", ,\"ContractData\", Q18,$S$1,,\"T\")","v":97.14},{"$f":"RTD(\"cqg.rtd\", ,\"ContractData\", Q18,$T$1,,\"T\")","v":97.15},{"$f":"RTD(\"cqg.rtd\", ,\"ContractData\", \"F.\"&$Q$1&\"?12\",$U$1,,\"T\")","v":0.11},17,"SR3S3?17",{"$f":"RTD(\"cqg.rtd\",,\"ContractData\",W18,\"Symbol\",, \"T\")","v":"SR3S3H27"},null,17,6,"36-Mon",null,null,null,null,null,null,null,null,17,"SR3S3H27",null,17,"SR3S3?17",{"$f":"RTD(\"cqg.rtd\",,\"ContractData\",AO18,\"Symbol\",, \"T\")","v":"SR3S3H27"},null,null,null,6,"36-Mon",17,"SR3S12?17",null,null,17,{"$f":"RTD(\"cqg.rtd\",,\"ContractData\",AW18,\"Symbol\",, \"T\")","v":"SR3S12H27"}]
[null,null,{"$f":"_xlfn.AGGREGATE(4,6,R2:R21)","v":97.265000000000001},{"$f":"_xlfn.AGGREGATE(5,6,R2:R21)","v":95.174999999999997},null,null,null,null,null,null,null,null,null,19,null,"2",{"$f":"RTD(\"cqg.rtd\", ,\"ContractData\", $Q$1&\"?\"&N19, \"Symbol\")","v":"SR3U27"},{"$f":"IF(RTD(\"cqg.rtd\", ,\"ContractData\", Q19, $R$1,,\"T\")=\"\",NA(),RTD(\"cqg.rtd\", ,\"ContractData\", Q19, $R$1,,\"T\"))","v":97.100000000000009},{"$f":"RTD(\"cqg.rtd\", ,\"ContractData\", Q19,$S$1,,\"T\")","v":97.100000000000009},{"$f":"RTD(\"cqg.rtd\", ,\"ContractData\", Q19,$T$1,,\"T\")","v":97.105000000000004},{"$f":"RTD(\"cqg.rtd\", ,\"ContractData\", \"F.\"&$Q$1&\"?12\",$U$1,,\"T\")","v":0.11},18,"SR3S3?18",{"$f":"RTD(\"cqg.rtd\",,\"ContractData\",W19,\"Symbol\",, \"T\")","v":"SR3S3M27"},null,18,6,"39-Mon",null,null,null,null,null,null,null,null,18,"SR3S3M27",null,18,"SR3S3?18",{"$f":"RTD(\"cqg.rtd\",,\"ContractData\",AO19,\"Symbol\",, \"T\")","v":"SR3S3M27"},null,null,null,6,"39-Mon",18,"SR3S12?18",null,null,18,{"$f":"RTD(\"cqg.rtd\",,\"ContractData\",AW19,\"Symbol\",, \"T\")","v":"SR3S12M27"}]
[null,null,{"$f":"_xlfn.AGGREGATE(4,6,B26:D45)","v":97.155000000000001},{"$f":"_xlfn.AGGREGATE(5,6,B26:D45)","v":94.355000000000004},null,null,null,null,null,null,null,null,null,20,null,"2",{"$f":"RTD(\"cqg.rtd\", ,\"ContractData\", $Q$1&\"?\"&N20, \"Symbol\")","v":"SR3Z27"},{"$f":"IF(RTD(\"cqg.rtd\", ,\"ContractData\", Q20, $R$1,,\"T\")=\"\",NA(),RTD(\"cqg.rtd\", ,\"ContractData\", Q20, $R$1,,\"T\"))","v":97.075000000000003},{"$f":"RTD(\"cqg.rtd\", ,\"ContractData\", Q20,$S$1,,\"T\")","v":97.070000000000007},{"$f":"RTD(\"cqg.rtd\", ,\"ContractData\", Q20,$T$1,,\"T\")","v":97.08},{"$f":"RTD(\"cqg.rtd\", ,\"ContractData\", \"F.\"&$Q$1&\"?12\",$U$1,,\"T\")","v":0.11},19,"SR3S3?19",{"$f":"RTD(\"cqg.rtd\",,\"ContractData\",W20,\"Symbol\",, \"T\")","v":"SR3S3U27"},null,19,6,"42-Mon",null,null,null,null,null,null,null,null,19,"SR3S3U27",null,19,"SR3S3?19",{"$f":"RTD(\"cqg.rtd\",,\"ContractData\",AO20,\"Symbol\",, \"T\")","v":"SR3S3U27"},null,null,null,6,"42-Mon",19,"SR3S12?19",null,null,19,{"$f":"RTD(\"cqg.rtd\",,\"ContractData\",AW20,\"Symbol\",, \"T\")","v":"SR3S12U27"}]
[null,null,null,null,null,null,null,null,null,null,null,null,null,21,null,"2",{"$f":"RTD(\"cqg.rtd\", ,\"ContractData\", $Q$1&\"?\"&N21, \"Symbol\")","v":"SR3H28"},{"$f":"IF(RTD(\"cqg.rtd\", ,\"ContractData\", Q21, $R$1,,\"T\")=\"\",NA(),RTD(\"cqg.rtd\", ,\"ContractData\", Q21, $R$1,,\"T\"))","v":97.045000000000002},{"$f":"RTD(\"cqg.rtd\", ,\"ContractData\", Q21,$S$1,,\"T\")","v":97.04},{"$f":"RTD(\"cqg.rtd\", ,\"ContractData\", Q21,$T$1,,\"T\")","v":97.05},{"$f":"RTD(\"cqg.rtd\", ,\"ContractData\", \"F.\"&$Q$1&\"?12\",$U$1,,\"T\")","v":0.11},20,"SR3S3?20",{"$f":"RTD(\"cqg.rtd\",,\"ContractData\",W21,\"Symbol\",, \"T\")","v":"SR3S3Z27"},null,20,6,"45-Mon",null,null,null,null,null,null,null,null,20,"SR3S3Z27",null,20,"SR3S3?20",{"$f":"RTD(\"cqg.rtd\",,\"ContractData\",AO21,\"Symbol\",, \"T\")","v":"SR3S3Z27"},null,null,null,6,"45-Mon",20,"SR3S12?20",null,null,20,{"$f":"RTD(\"cqg.rtd\",,\"ContractData\",AW21,\"Symbol\",, \"T\")","v":"SR3S12Z27"}]
[null,null,null,null,null,null,null,null,null,null,null,null,null,22,null,"2",{"$f":"RTD(\"cqg.rtd\", ,\"ContractData\", $Q$1&\"?\"&N22, \"Symbol\")","v":"SR3M28"},{"$f":"IF(RTD(\"cqg.rtd\", ,\"ContractData\", Q22, $R$1,,\"T\")=\"\",NA(),RTD(\"cqg.rtd\", ,\"ContractData\", Q22, $R$1,,\"T\"))","v":97.02},{"$f":"RTD(\"cqg.rtd\", ,\"ContractData\", Q22,$S$1,,\"T\")","v":96.995000000000005},{"$f":"RTD(\"cqg.rtd\", ,\"ContractData\", Q22,$T$1,,\"T\")","v":97.02},{"$f":"RTD(\"cqg.rtd\", ,\"ContractData\", \"F.\"&$Q$1&\"?12\",$U$1,,\"T\")","v":0.11},{"$f":"V21+1","v":21},"SR3S3?21",{"$f":"RTD(\"cqg.rtd\",,\"ContractData\",W22,\"Symbol\",, \"T\")","v":"SR3S3H28"},null,null,6,"48-Mon",null,null,null,null,null,null,null,null,{"$f":"V22","v":21},{"$f":"X22","v":"SR3S3H28"},null,{"$f":"AN21+1","v":21},"SR3S3?21",{"$f":"RTD(\"cqg.rtd\",,\"ContractData\",AO22,\"Symbol\",, \"T\")","v":"SR3S3H28"},null,null,null,6,"48-Mon",21,"SR3S12?21",null,null,21,{"$f":"RTD(\"cqg.rtd\",,\"ContractData\",AW22,\"Symbol\",, \"T\")","v":"SR3S12H28"}]
[null,null,null,null,null,null,null,null,null,null,null,null,null,23,null,"2",{"$f":"RTD(\"cqg.rtd\", ,\"ContractData\", $Q$1&\"?\"&N23, \"Symbol\")","v":"SR3U28"},{"$f":"IF(RTD(\"cqg.rtd\", ,\"ContractData\", Q23, $R$1,,\"T\")=\"\",NA(),RTD(\"cqg.rtd\", ,\"ContractData\", Q23, $R$1,,\"T\"))","v":{"$error":"#N/A"}},{"$f":"RTD(\"cqg.rtd\", ,\"ContractData\", Q23,$S$1,,\"T\")","v":96.965000000000003},{"$f":"RTD(\"cqg.rtd\", ,\"ContractData\", Q23,$T$1,,\"T\")","v":96.984999999999999},{"$f":"RTD(\"cqg.rtd\", ,\"ContractData\", \"F.\"&$Q$1&\"?12\",$U$1,,\"T\")","v":0.11},22,"SR3S3?22",{"$f":"RTD(\"cqg.rtd\",,\"ContractData\",W23,\"Symbol\",, \"T\")","v":"SR3S3M28"},"Max",null,null,null,null,null,null,null,null,"Max",null,null,22,"SR3S3M28",null,22,"SR3S3?22",{"$f":"RTD(\"cqg.rtd\",,\"ContractData\",AO23,\"Symbol\",, \"T\")","v":"SR3S3M28"},null,null,null,null,null,22,"SR3S12?22",null,null,22,{"$f":"RTD(\"cqg.rtd\",,\"ContractData\",AW23,\"Symbol\",, \"T\")","v":"SR3S12M28"}]
[null,null,null,null,null,null,null,null,null,null,null,null,null,null,null,null,null,null,null,null,null,23,"SR3S3?23",{"$f":"RTD(\"cqg.rtd\",,\"ContractData\",W24,\"Symbol\",, \"T\")","v":"SR3S3U28"},{"$f":"ROUNDUP(MAX(Y25:Y26),1)","v":4.5},{"$f":"ROUNDUP(MAX(Z25:Z26),1)*-1","v":-45},5,{"$f":"SOFR_3_Mo_Master!D25","v":"3-Mon"},null,null,null,null,null,{"$f":"ROUNDUP(MAX(AH25:AH26),1)","v":14},{"$f":"ROUNDUP(MAX(AI25:AI26),1)*-1","v":-154.5},null,23,"SR3S3U28",null,23,"SR3S3?23",{"$f":"RTD(\"cqg.rtd\",,\"ContractData\",AO24,\"Symbol\",, \"T\")","v":"SR3S3U28"},null,null,null,6,{"$f":"SOFR_3_Mo_Master!D41","v":"12-Mon"},23,"SR3S12?23",null,null,23,{"$f":"RTD(\"cqg.rtd\",,\"ContractData\",AW24,\"Symbol\",, \"T\")","v":"SR3S12U28"}]
[null,"Yesterday","5-days","20-days","Yesterday","5-days","20-days",null,null,null,null,null,null,null,null,null,null,null,null,null,null,24,"SR3S3?24",{"$f":"RTD(\"cqg.rtd\",,\"ContractData\",W25,\"Symbol\",, \"T\")","v":"SR3S3Z28"},{"$f":"_xlfn.AGGREGATE(4,6,V35:V54)","v":4.5},{"$f":"ABS(_xlfn.AGGREGATE(5,6,V35:V54))","v":45},null,{"$f":"IF(AA24=5,LEFT(AB24,1),LEFT(AB24,2))","v":"3"},null,null,null,null,null,{"$f":"_xlfn.AGGREGATE(4,6,AG35:AG54)","v":14},{"$f":"ABS(_xlfn.AGGREGATE(5,6,AG35:AG54))","v":154.5},null,24,"SR3S3Z28",null,24,"SR3S3?24",{"$f":"RTD(\"cqg.rtd\",,\"ContractData\",AO25,\"Symbol\",, \"T\")","v":"SR3S3Z28"},null,null,null,null,{"$f":"IF(AT24=5,LEFT(AU24,1),LEFT(AU24,2))","v":"12"},24,"SR3S12?24",null,null,24,{"$f":"RTD(\"cqg.rtd\",,\"ContractData\",AW25,\"Symbol\",, \"T\")","v":"SR3S12Z28"}]
[null,{"$f":" RTD(\"cqg.rtd\",,\"StudyData\",Q2,  \"Bar\",, \"Close\",\"D\",\"-1\",\"All\",,,,\"T\")","v":95.07},{"$f":" RTD(\"cqg.rtd\",,\"StudyData\",Q2,  \"Bar\",, \"Close\",\"D\",\"-5\",\"All\",,,,\"T\")","v":95.21},{"$f":" RTD(\"cqg.rtd\",,\"StudyData\",Q2,  \"Bar\",, \"Close\",\"D\",\"-20\",\"All\",,,,\"T\")","v":94.4},{"$f":"R2-B26","v":0.10500000000000398},{"$f":"R2-C26","v":-3.4999999999996589E-2},{"$f":"R2-D26","v":0.77499999999999147},null,null,null,null,null,null,null,null,null,null,null,null,null,null,25,"SR3S3?25",{"$f":"RTD(\"cqg.rtd\",,\"ContractData\",W26,\"Symbol\",, \"T\")","v":"SR3S3H29"},{"$f":"_xlfn.AGGREGATE(4,6,X35:Z54)","v":4.5},{"$f":"ABS(_xlfn.AGGREGATE(5,6,X35:Z54))","v":44},null,null,null,null,null,null,null,{"$f":"_xlfn.AGGREGATE(4,6,AI35:AK54)","v":13},{"$f":"ABS(_xlfn.AGGREGATE(5,6,AI35:AK54))","v":149.5},null,25,"SR3S3H29",null,25,"SR3S3?25",{"$f":"RTD(\"cqg.rtd\",,\"ContractData\",AO26,\"Symbol\",, \"T\")","v":"SR3S3H29"},null,null,null,null,null,25,"SR3S12?25",null,null,25,{"$f":"RTD(\"cqg.rtd\",,\"ContractData\",AW26,\"Symbol\",, \"T\")","v":"SR3S12H29"}]
[null,{"$f":" RTD(\"cqg.rtd\",,\"StudyData\",Q3,  \"Bar\",, \"Close\",\"D\",\"-1\",\"All\",,,,\"T\")","v":95.38},{"$f":" RTD(\"cqg.rtd\",,\"StudyData\",Q3,  \"Bar\",, \"Close\",\"D\",\"-5\",\"All\",,,,\"T\")","v":95.484999999999999},{"$f":" RTD(\"cqg.rtd\",,\"StudyData\",Q3,  \"Bar\",, \"Close\",\"D\",\"-20\",\"All\",,,,\"T\")","v":94.355000000000004},{"$f":"R3-B27","v":0.13500000000000512},{"$f":"R3-C27","v":3.0000000000001137E-2},{"$f":"R3-D27","v":1.1599999999999966},null,null,null,null,null,null,null,null,null,null,null,null,null,null,null,null,null,null,null,null,null,null,null,null,null,null,null,null,null,0,0,null,26,"SR3S3?26",{"$f":"RTD(\"cqg.rtd\",,\"ContractData\",AO27,\"Symbol\",, \"T\")","v":"SR3S3M29"},null,null,null,null,null,{"$f":"AV26+1","v":26},"SR3S12?26",null,null,26,{"$f":"RTD(\"cqg.rtd\",,\"ContractData\",AW27,\"Symbol\",, \"T\")","v":"SR3S12M29"}]
[null,{"$f":" RTD(\"cqg.rtd\",,\"StudyData\",Q4,  \"Bar\",, \"Close\",\"D\",\"-1\",\"All\",,,,\"T\")","v":95.74},{"$f":" RTD(\"cqg.rtd\",,\"StudyData\",Q4,  \"Bar\",, \"Close\",\"D\",\"-5\",\"All\",,,,\"T\")","v":95.765000000000001},{"$f":" RTD(\"cqg.rtd\",,\"StudyData\",Q4,  \"Bar\",, \"Close\",\"D\",\"-20\",\"All\",,,,\"T\")","v":94.51},0.15000000000000568,0.125,1.3799999999999955,null,null,null,null,null,null,null,null,null,null,null,null,null,null,null,null,null,null,null,null,null,null,null,null,null,null,null,null,null,0,0,null,27,"SR3S3?27",{"$f":"RTD(\"cqg.rtd\",,\"ContractData\",AO28,\"Symbol\",, \"T\")","v":"SR3S3U29"},null,null,null,null,null,27,"SR3S12?27",null,null,27,{"$f":"RTD(\"cqg.rtd\",,\"ContractData\",AW28,\"Symbol\",, \"T\")","v":"SR3S12U29"}]
[null,{"$f":" RTD(\"cqg.rtd\",,\"StudyData\",Q5,  \"Bar\",, \"Close\",\"D\",\"-1\",\"All\",,,,\"T\")","v":96.18},{"$f":" RTD(\"cqg.rtd\",,\"StudyData\",Q5,  \"Bar\",, \"Close\",\"D\",\"-5\",\"All\",,,,\"T\")","v":96.135000000000005},{"$f":" RTD(\"cqg.rtd\",,\"StudyData\",Q5,  \"Bar\",, \"Close\",\"D\",\"-20\",\"All\",,,,\"T\")","v":94.85},0.15999999999999659,0.20499999999999829,1.4900000000000091,null,null,null,null,null,null,null,null,null,null,null,null,null,null,null,null,null,null,null,null,null,null,null,null,null,null,null,null,null,null,null,null,28,"SR3S3?28",{"$f":"RTD(\"cqg.rtd\",,\"ContractData\",AO29,\"Symbol\",, \"T\")","v":"SR3S3Z29"},null,null,null,null,null,28,"SR3S12?28",null,null,28,{"$f":"RTD(\"cqg.rtd\",,\"ContractData\",AW29,\"Symbol\",, \"T\")","v":"SR3S12Z29"}]
[null,{"$f":" RTD(\"cqg.rtd\",,\"StudyData\",Q6,  \"Bar\",, \"Close\",\"D\",\"-1\",\"All\",,,,\"T\")","v":96.564999999999998},{"$f":" RTD(\"cqg.rtd\",,\"StudyData\",Q6,  \"Bar\",, \"Close\",\"D\",\"-5\",\"All\",,,,\"T\")","v":96.46},{"$f":" RTD(\"cqg.rtd\",,\"StudyData\",Q6,  \"Bar\",, \"Close\",\"D\",\"-20\",\"All\",,,,\"T\")","v":95.284999999999997},0.1600000000000108,0.26500000000001478,1.4400000000000119,null,null,null,null,null,null,null,null,null,null,null,null,null,null,null,null,null,null,null,null,null,null,null,null,null,null,{"$f":"RTD(\"cqg.rtd\",,\"ContractData\",AF35,\"LongDescription\",, \"T\")","v":"3 Month SOFR Calendar Spread 12, Jun 23, Jun 24"}]
[null,{"$f":" RTD(\"cqg.rtd\",,\"StudyData\",Q7,  \"Bar\",, \"Close\",\"D\",\"-1\",\"All\",,,,\"T\")","v":96.86},{"$f":" RTD(\"cqg.rtd\",,\"StudyData\",Q7,  \"Bar\",, \"Close\",\"D\",\"-5\",\"All\",,,,\"T\")","v":96.71},{"$f":" RTD(\"cqg.rtd\",,\"StudyData\",Q7,  \"Bar\",, \"Close\",\"D\",\"-20\",\"All\",,,,\"T\")","v":95.694999999999993},0.14000000000000057,0.29000000000000625,1.3050000000000068,null,null,null,null,null,null,null,null,null,null,null,null,null,{"$f":"SOFR_3_Mo_Master!I25","v":"M23"},null,{"$f":"RTD(\"cqg.rtd\",,\"ContractData\",U32,\"LongDescription\",, \"T\")","v":"3 Month SOFR Calendar Spread 6, Jun 23, Dec 23"},null,null,null,null,null,null,null,null,null,null,{"$f":"RTD(\"cqg.rtd\",,\"ContractData\",AF36,\"LongDescription\",, \"T\")","v":"3 Month SOFR Calendar Spread 12, Sep 23, Sep 24"}]
[null,{"$f":" RTD(\"cqg.rtd\",,\"StudyData\",Q8,  \"Bar\",, \"Close\",\"D\",\"-1\",\"All\",,,,\"T\")","v":97.02},{"$f":" RTD(\"cqg.rtd\",,\"StudyData\",Q8,  \"Bar\",, \"Close\",\"D\",\"-5\",\"All\",,,,\"T\")","v":96.844999999999999},{"$f":" RTD(\"cqg.rtd\",,\"StudyData\",Q8,  \"Bar\",, \"Close\",\"D\",\"-20\",\"All\",,,,\"T\")","v":96},0.125,0.29999999999999716,1.144999999999996,null,null,null,null,null,null,null,null,null,null,null,null,null,"SR3S6M23",null,{"$f":"RTD(\"cqg.rtd\",,\"ContractData\",U35,\"LongDescription\",, \"T\")","v":"3 Month SOFR Calendar Spread 3, Jun 23, Sep 23"},{"$f":"IF(LEFT(RTD(\"cqg.rtd\",,\"StudyData\",U35,  \"Bar\",, \"Close\",\"D\",\"-1\",\"All\",,,,\"T\"),3)=\"768\",NA(),IF(RTD(\"cqg.rtd\",,\"StudyData\",U35,  \"Bar\",, \"Close\",\"D\",\"-1\",\"All\",,,,\"T\")=\"\",NA(),RTD(\"cqg.rtd\",,\"StudyData\",U35,  \"Bar\",, \"Close\",\"D\",\"-1\",\"All\",,,,\"T\")))","v":-31},null,null,null,null,null,null,null,null,null,{"$f":"AG35","v":-154.5}]
[null,{"$f":" RTD(\"cqg.rtd\",,\"StudyData\",Q9,  \"Bar\",, \"Close\",\"D\",\"-1\",\"All\",,,,\"T\")","v":97.1},{"$f":" RTD(\"cqg.rtd\",,\"StudyData\",Q9,  \"Bar\",, \"Close\",\"D\",\"-5\",\"All\",,,,\"T\")","v":96.91},{"$f":" RTD(\"cqg.rtd\",,\"StudyData\",Q9,  \"Bar\",, \"Close\",\"D\",\"-20\",\"All\",,,,\"T\")","v":96.194999999999993},0.12000000000000455,0.31000000000000227,1.0250000000000057]
[null,{"$f":" RTD(\"cqg.rtd\",,\"StudyData\",Q10,  \"Bar\",, \"Close\",\"D\",\"-1\",\"All\",,,,\"T\")","v":97.125},{"$f":" RTD(\"cqg.rtd\",,\"StudyData\",Q10,  \"Bar\",, \"Close\",\"D\",\"-5\",\"All\",,,,\"T\")","v":96.935000000000002},{"$f":" RTD(\"cqg.rtd\",,\"StudyData\",Q10,  \"Bar\",, \"Close\",\"D\",\"-20\",\"All\",,,,\"T\")","v":96.314999999999998},0.12000000000000455,0.31000000000000227,0.93000000000000682,null,null,null,null,null,null,null,null,null,null,"Symbol Check",null,null,null,null,null,"Yesterday","5-days","20-days","Yesterday","5-days","20-days",null,null,null,null,null,"Yesterday","5-days","20-days","Yesterday","5-days","20-days"]
[null,{"$f":" RTD(\"cqg.rtd\",,\"StudyData\",Q11,  \"Bar\",, \"Close\",\"D\",\"-1\",\"All\",,,,\"T\")","v":97.14},{"$f":" RTD(\"cqg.rtd\",,\"StudyData\",Q11,  \"Bar\",, \"Close\",\"D\",\"-5\",\"All\",,,,\"T\")","v":96.944999999999993},{"$f":" RTD(\"cqg.rtd\",,\"StudyData\",Q11,  \"Bar\",, \"Close\",\"D\",\"-20\",\"All\",,,,\"T\")","v":96.41},0.11499999999999488,0.31000000000000227,0.84499999999999886,null,null,null,null,null,null,null,null,null,{"$f":"RTD(\"cqg.rtd\",,\"ContractData\",Q1&\"?1\", \"Symbol\")","v":"SR3H23"},1,{"$f":"RTD(\"cqg.rtd\",,\"ContractData\",Q1&\"?1\", \"Symbol\")","v":"SR3H23"},{"$f":"AQ10","v":2},{"$f":"VLOOKUP($Y$10,$AK$2:$AL$26,2,FALSE)","v":"SR3S3M23"},{"$f":"IF(LEFT(RTD(\"cqg.rtd\", ,\"ContractData\", U35,\"LastTradeorSettle\",,\"T\"),3)=\"768\",NA(),IF(RTD(\"cqg.rtd\", ,\"ContractData\", U35,\"LastTradeorSettle\",,\"T\")=\"\",NA(),RTD(\"cqg.rtd\", ,\"ContractData\", U35,\"LastTradeorSettle\",,\"T\")))","v":-34.5},null,{"$f":"IF(LEFT(RTD(\"cqg.rtd\",,\"StudyData\",U35,  \"Bar\",, \"Close\",\"D\",\"-1\",\"All\",,,,\"T\"),3)=\"777\",NA(),IF(RTD(\"cqg.rtd\",,\"StudyData\",U35,  \"Bar\",, \"Close\",\"D\",\"-1\",\"All\",,,,\"T\")=\"\",NA(),RTD(\"cqg.rtd\",,\"StudyData\",U35,  \"Bar\",, \"Close\",\"D\",\"-1\",\"All\",,,,\"T\")))","v":-31},{"$f":"IF(LEFT(RTD(\"cqg.rtd\",,\"StudyData\",U35,  \"Bar\",, \"Close\",\"D\",\"-5\",\"All\",,,,\"T\"),3)=\"777\",NA(),IF(RTD(\"cqg.rtd\",,\"StudyData\",U35,  \"Bar\",, \"Close\",\"D\",\"-5\",\"All\",,,,\"T\")=\"\",NA(),RTD(\"cqg.rtd\",,\"StudyData\",U35,  \"Bar\",, \"Close\",\"D\",\"-5\",\"All\",,,,\"T\")))","v":-27.5},{"$f":"IF(LEFT(RTD(\"cqg.rtd\",,\"StudyData\",U35,  \"Bar\",, \"Close\",\"D\",\"-20\",\"All\",,,,\"T\"),3)=\"777\",NA(),IF(RTD(\"cqg.rtd\",,\"StudyData\",U35,  \"Bar\",, \"Close\",\"D\",\"-20\",\"All\",,,,\"T\")=\"\",NA(),RTD(\"cqg.rtd\",,\"StudyData\",U35,  \"Bar\",, \"Close\",\"D\",\"-20\",\"All\",,,,\"T\")))","v":4.5},{"$f":"IFERROR($V35-X35,NA())","v":-3.5},{"$f":"IFERROR($V35-Y35,NA())","v":-7},{"$f":"IFERROR($V35-Z35,NA())","v":-39},null,{"$f":"AY10","v":2},{"$f":"VLOOKUP(AY10,$AZ$2:$BA$29,2,FALSE)","v":"SR3S12M23"},{"$f":"IF(LEFT(RTD(\"cqg.rtd\", ,\"ContractData\", AF35,\"LastTradeorSettle\",,\"T\"),3)=\"768\",NA(),IF(RTD(\"cqg.rtd\", ,\"ContractData\", AF35,\"LastTradeorSettle\",,\"T\")=\"\",NA(),RTD(\"cqg.rtd\", ,\"ContractData\", AF35,\"LastTradeorSettle\",,\"T\")))","v":-154.5},null,{"$f":"IF(LEFT(RTD(\"cqg.rtd\",,\"StudyData\",AF35,  \"Bar\",, \"Close\",\"D\",\"-1\",\"All\",,,,\"T\"),3)=\"777\",NA(),IF(RTD(\"cqg.rtd\",,\"StudyData\",AF35,  \"Bar\",, \"Close\",\"D\",\"-1\",\"All\",,,,\"T\")=\"\",NA(),RTD(\"cqg.rtd\",,\"StudyData\",AF35,  \"Bar\",, \"Close\",\"D\",\"-1\",\"All\",,,,\"T\")))","v":-149.5},{"$f":"IF(LEFT(RTD(\"cqg.rtd\",,\"StudyData\",AF35,  \"Bar\",, \"Close\",\"D\",\"-5\",\"All\",,,,\"T\"),3)=\"777\",NA(),IF(RTD(\"cqg.rtd\",,\"StudyData\",AF35,  \"Bar\",, \"Close\",\"D\",\"-5\",\"All\",,,,\"T\")=\"\",NA(),RTD(\"cqg.rtd\",,\"StudyData\",AF35,  \"Bar\",, \"Close\",\"D\",\"-5\",\"All\",,,,\"T\")))","v":-125},{"$f":"IF(LEFT(RTD(\"cqg.rtd\",,\"StudyData\",AF35,  \"Bar\",, \"Close\",\"D\",\"-20\",\"All\",,,,\"T\"),3)=\"777\",NA(),IF(RTD(\"cqg.rtd\",,\"StudyData\",AF35,  \"Bar\",, \"Close\",\"D\",\"-20\",\"All\",,,,\"T\")=\"\",NA(),RTD(\"cqg.rtd\",,\"StudyData\",AF35,  \"Bar\",, \"Close\",\"D\",\"-20\",\"All\",,,,\"T\")))","v":-88.5},{"$f":"$AG35-$AI35","v":-5},{"$f":"$AG35-$AJ35","v":-29.5},{"$f":"$AG35-$AK35","v":-66}]
[null,{"$f":" RTD(\"cqg.rtd\",,\"StudyData\",Q12,  \"Bar\",, \"Close\",\"D\",\"-1\",\"All\",,,,\"T\")","v":97.155000000000001},{"$f":" RTD(\"cqg.rtd\",,\"StudyData\",Q12,  \"Bar\",, \"Close\",\"D\",\"-5\",\"All\",,,,\"T\")","v":96.954999999999998},{"$f":" RTD(\"cqg.rtd\",,\"StudyData\",Q12,  \"Bar\",, \"Close\",\"D\",\"-20\",\"All\",,,,\"T\")","v":96.49},0.10999999999999943,0.31000000000000227,0.77500000000000568,null,null,null,null,null,null,null,null,null,{"$f":"RTD(\"cqg.rtd\",,\"ContractData\",Q1&\"?2\", \"Symbol\")","v":"SR3M23"},{"$f":"R35+1","v":2},{"$f":"RTD(\"cqg.rtd\",,\"ContractData\",Q1&\"?2\", \"Symbol\")","v":"SR3M23"},{"$f":"T35+1","v":3},{"$f":"VLOOKUP(T36,$AK$2:$AL$26,2,FALSE)","v":"SR3S3U23"},{"$f":"IF(LEFT(RTD(\"cqg.rtd\", ,\"ContractData\", U36,\"LastTradeorSettle\",,\"T\"),3)=\"768\",NA(),IF(RTD(\"cqg.rtd\", ,\"ContractData\", U36,\"LastTradeorSettle\",,\"T\")=\"\",NA(),RTD(\"cqg.rtd\", ,\"ContractData\", U36,\"LastTradeorSettle\",,\"T\")))","v":-37},null,{"$f":"IF(LEFT(RTD(\"cqg.rtd\",,\"StudyData\",U36,  \"Bar\",, \"Close\",\"D\",\"-1\",\"All\",,,,\"T\"),3)=\"777\",NA(),IF(RTD(\"cqg.rtd\",,\"StudyData\",U36,  \"Bar\",, \"Close\",\"D\",\"-1\",\"All\",,,,\"T\")=\"\",NA(),RTD(\"cqg.rtd\",,\"StudyData\",U36,  \"Bar\",, \"Close\",\"D\",\"-1\",\"All\",,,,\"T\")))","v":-36},{"$f":"IF(LEFT(RTD(\"cqg.rtd\",,\"StudyData\",U36,  \"Bar\",, \"Close\",\"D\",\"-5\",\"All\",,,,\"T\"),3)=\"777\",NA(),IF(RTD(\"cqg.rtd\",,\"StudyData\",U36,  \"Bar\",, \"Close\",\"D\",\"-5\",\"All\",,,,\"T\")=\"\",NA(),RTD(\"cqg.rtd\",,\"StudyData\",U36,  \"Bar\",, \"Close\",\"D\",\"-5\",\"All\",,,,\"T\")))","v":-28},{"$f":"IF(LEFT(RTD(\"cqg.rtd\",,\"StudyData\",U36,  \"Bar\",, \"Close\",\"D\",\"-20\",\"All\",,,,\"T\"),3)=\"777\",NA(),IF(RTD(\"cqg.rtd\",,\"StudyData\",U36,  \"Bar\",, \"Close\",\"D\",\"-20\",\"All\",,,,\"T\")=\"\",NA(),RTD(\"cqg.rtd\",,\"StudyData\",U36,  \"Bar\",, \"Close\",\"D\",\"-20\",\"All\",,,,\"T\")))","v":-15.5},{"$f":"IFERROR($V36-X36,NA())","v":-1},{"$f":"IFERROR($V36-Y36,NA())","v":-9},{"$f":"IFERROR($V36-Z36,NA())","v":-21.5},null,{"$f":"AE35+1","v":3},{"$f":"VLOOKUP(AE36,$AZ$2:$BA$29,2,FALSE)","v":"SR3S12U23"},{"$f":"IF(LEFT(RTD(\"cqg.rtd\", ,\"ContractData\", AF36,\"LastTradeorSettle\",,\"T\"),3)=\"768\",NA(),IF(RTD(\"cqg.rtd\", ,\"ContractData\", AF36,\"LastTradeorSettle\",,\"T\")=\"\",NA(),RTD(\"cqg.rtd\", ,\"ContractData\", AF36,\"LastTradeorSettle\",,\"T\")))","v":-148},null,{"$f":"IF(LEFT(RTD(\"cqg.rtd\",,\"StudyData\",AF36,  \"Bar\",, \"Close\",\"D\",\"-1\",\"All\",,,,\"T\"),3)=\"777\",NA(),IF(RTD(\"cqg.rtd\",,\"StudyData\",AF36,  \"Bar\",, \"Close\",\"D\",\"-1\",\"All\",,,,\"T\")=\"\",NA(),RTD(\"cqg.rtd\",,\"StudyData\",AF36,  \"Bar\",, \"Close\",\"D\",\"-1\",\"All\",,,,\"T\")))","v":-148},{"$f":"IF(LEFT(RTD(\"cqg.rtd\",,\"StudyData\",AF36,  \"Bar\",, \"Close\",\"D\",\"-5\",\"All\",,,,\"T\"),3)=\"777\",NA(),IF(RTD(\"cqg.rtd\",,\"StudyData\",AF36,  \"Bar\",, \"Close\",\"D\",\"-5\",\"All\",,,,\"T\")=\"\",NA(),RTD(\"cqg.rtd\",,\"StudyData\",AF36,  \"Bar\",, \"Close\",\"D\",\"-5\",\"All\",,,,\"T\")))","v":-122.5},{"$f":"IF(LEFT(RTD(\"cqg.rtd\",,\"StudyData\",AF36,  \"Bar\",, \"Close\",\"D\",\"-20\",\"All\",,,,\"T\"),3)=\"777\",NA(),IF(RTD(\"cqg.rtd\",,\"StudyData\",AF36,  \"Bar\",, \"Close\",\"D\",\"-20\",\"All\",,,,\"T\")=\"\",NA(),RTD(\"cqg.rtd\",,\"StudyData\",AF36,  \"Bar\",, \"Close\",\"D\",\"-20\",\"All\",,,,\"T\")))","v":-134},{"$f":"$AG36-$AI36","v":0},{"$f":"$AG36-$AJ36","v":-25.5},{"$f":"$AG36-$AK36","v":-14}]
[null,{"$f":" RTD(\"cqg.rtd\",,\"StudyData\",Q13,  \"Bar\",, \"Close\",\"D\",\"-1\",\"All\",,,,\"T\")","v":97.144999999999996},{"$f":" RTD(\"cqg.rtd\",,\"StudyData\",Q13,  \"Bar\",, \"Close\",\"D\",\"-5\",\"All\",,,,\"T\")","v":96.94},{"$f":" RTD(\"cqg.rtd\",,\"StudyData\",Q13,  \"Bar\",, \"Close\",\"D\",\"-20\",\"All\",,,,\"T\")","v":96.55},0.10500000000000398,0.31000000000000227,0.70000000000000284,null,null,null,null,null,null,null,null,null,{"$f":"RTD(\"cqg.rtd\",,\"ContractData\",Q1&\"?3\", \"Symbol\")","v":"SR3U23"},{"$f":"R36+1","v":3},{"$f":"RTD(\"cqg.rtd\",,\"ContractData\",Q1&\"?3\", \"Symbol\")","v":"SR3U23"},{"$f":"T36+1","v":4},{"$f":"VLOOKUP(T37,$AK$2:$AL$26,2,FALSE)","v":"SR3S3Z23"},{"$f":"IF(LEFT(RTD(\"cqg.rtd\", ,\"ContractData\", U37,\"LastTradeorSettle\",,\"T\"),3)=\"768\",NA(),IF(RTD(\"cqg.rtd\", ,\"ContractData\", U37,\"LastTradeorSettle\",,\"T\")=\"\",NA(),RTD(\"cqg.rtd\", ,\"ContractData\", U37,\"LastTradeorSettle\",,\"T\")))","v":-45},null,{"$f":"IF(LEFT(RTD(\"cqg.rtd\",,\"StudyData\",U37,  \"Bar\",, \"Close\",\"D\",\"-1\",\"All\",,,,\"T\"),3)=\"777\",NA(),IF(RTD(\"cqg.rtd\",,\"StudyData\",U37,  \"Bar\",, \"Close\",\"D\",\"-1\",\"All\",,,,\"T\")=\"\",NA(),RTD(\"cqg.rtd\",,\"StudyData\",U37,  \"Bar\",, \"Close\",\"D\",\"-1\",\"All\",,,,\"T\")))","v":-44},{"$f":"IF(LEFT(RTD(\"cqg.rtd\",,\"StudyData\",U37,  \"Bar\",, \"Close\",\"D\",\"-5\",\"All\",,,,\"T\"),3)=\"777\",NA(),IF(RTD(\"cqg.rtd\",,\"StudyData\",U37,  \"Bar\",, \"Close\",\"D\",\"-5\",\"All\",,,,\"T\")=\"\",NA(),RTD(\"cqg.rtd\",,\"StudyData\",U37,  \"Bar\",, \"Close\",\"D\",\"-5\",\"All\",,,,\"T\")))","v":-37},{"$f":"IF(LEFT(RTD(\"cqg.rtd\",,\"StudyData\",U37,  \"Bar\",, \"Close\",\"D\",\"-20\",\"All\",,,,\"T\"),3)=\"777\",NA(),IF(RTD(\"cqg.rtd\",,\"StudyData\",U37,  \"Bar\",, \"Close\",\"D\",\"-20\",\"All\",,,,\"T\")=\"\",NA(),RTD(\"cqg.rtd\",,\"StudyData\",U37,  \"Bar\",, \"Close\",\"D\",\"-20\",\"All\",,,,\"T\")))","v":-34},-1,-8,-11,null,{"$f":"AE36+1","v":4},{"$f":"VLOOKUP(AE37,$AZ$2:$BA$29,2,FALSE)","v":"SR3S12Z23"},{"$f":"IF(LEFT(RTD(\"cqg.rtd\", ,\"ContractData\", AF37,\"LastTradeorSettle\",,\"T\"),3)=\"768\",NA(),IF(RTD(\"cqg.rtd\", ,\"ContractData\", AF37,\"LastTradeorSettle\",,\"T\")=\"\",NA(),RTD(\"cqg.rtd\", ,\"ContractData\", AF37,\"LastTradeorSettle\",,\"T\")))","v":-125.5},null,{"$f":"IF(LEFT(RTD(\"cqg.rtd\",,\"StudyData\",AF37,  \"Bar\",, \"Close\",\"D\",\"-1\",\"All\",,,,\"T\"),3)=\"777\",NA(),IF(RTD(\"cqg.rtd\",,\"StudyData\",AF37,  \"Bar\",, \"Close\",\"D\",\"-1\",\"All\",,,,\"T\")=\"\",NA(),RTD(\"cqg.rtd\",,\"StudyData\",AF37,  \"Bar\",, \"Close\",\"D\",\"-1\",\"All\",,,,\"T\")))","v":-128},{"$f":"IF(LEFT(RTD(\"cqg.rtd\",,\"StudyData\",AF37,  \"Bar\",, \"Close\",\"D\",\"-5\",\"All\",,,,\"T\"),3)=\"777\",NA(),IF(RTD(\"cqg.rtd\",,\"StudyData\",AF37,  \"Bar\",, \"Close\",\"D\",\"-5\",\"All\",,,,\"T\")=\"\",NA(),RTD(\"cqg.rtd\",,\"StudyData\",AF37,  \"Bar\",, \"Close\",\"D\",\"-5\",\"All\",,,,\"T\")))","v":-108},{"$f":"IF(LEFT(RTD(\"cqg.rtd\",,\"StudyData\",AF37,  \"Bar\",, \"Close\",\"D\",\"-20\",\"All\",,,,\"T\"),3)=\"777\",NA(),IF(RTD(\"cqg.rtd\",,\"StudyData\",AF37,  \"Bar\",, \"Close\",\"D\",\"-20\",\"All\",,,,\"T\")=\"\",NA(),RTD(\"cqg.rtd\",,\"StudyData\",AF37,  \"Bar\",, \"Close\",\"D\",\"-20\",\"All\",,,,\"T\")))","v":-149},2.5,-17.5,23.5]
[null,{"$f":" RTD(\"cqg.rtd\",,\"StudyData\",Q14,  \"Bar\",, \"Close\",\"D\",\"-1\",\"All\",,,,\"T\")","v":97.135000000000005},{"$f":" RTD(\"cqg.rtd\",,\"StudyData\",Q14,  \"Bar\",, \"Close\",\"D\",\"-5\",\"All\",,,,\"T\")","v":96.935000000000002},{"$f":" RTD(\"cqg.rtd\",,\"StudyData\",Q14,  \"Bar\",, \"Close\",\"D\",\"-20\",\"All\",,,,\"T\")","v":96.59},0.10500000000000398,0.30500000000000682,0.65000000000000568,null,null,null,null,null,null,null,null,null,{"$f":"RTD(\"cqg.rtd\",,\"ContractData\",Q1&\"?4\", \"Symbol\")","v":"SR3Z23"},4,{"$f":"RTD(\"cqg.rtd\",,\"ContractData\",Q1&\"?4\", \"Symbol\")","v":"SR3Z23"},5,"SR3S3H24",{"$f":"IF(LEFT(RTD(\"cqg.rtd\", ,\"ContractData\", U38,\"LastTradeorSettle\",,\"T\"),3)=\"768\",NA(),IF(RTD(\"cqg.rtd\", ,\"ContractData\", U38,\"LastTradeorSettle\",,\"T\")=\"\",NA(),RTD(\"cqg.rtd\", ,\"ContractData\", U38,\"LastTradeorSettle\",,\"T\")))","v":-38},null,{"$f":"IF(LEFT(RTD(\"cqg.rtd\",,\"StudyData\",U38,  \"Bar\",, \"Close\",\"D\",\"-1\",\"All\",,,,\"T\"),3)=\"777\",NA(),IF(RTD(\"cqg.rtd\",,\"StudyData\",U38,  \"Bar\",, \"Close\",\"D\",\"-1\",\"All\",,,,\"T\")=\"\",NA(),RTD(\"cqg.rtd\",,\"StudyData\",U38,  \"Bar\",, \"Close\",\"D\",\"-1\",\"All\",,,,\"T\")))","v":-38.5},{"$f":"IF(LEFT(RTD(\"cqg.rtd\",,\"StudyData\",U38,  \"Bar\",, \"Close\",\"D\",\"-5\",\"All\",,,,\"T\"),3)=\"777\",NA(),IF(RTD(\"cqg.rtd\",,\"StudyData\",U38,  \"Bar\",, \"Close\",\"D\",\"-5\",\"All\",,,,\"T\")=\"\",NA(),RTD(\"cqg.rtd\",,\"StudyData\",U38,  \"Bar\",, \"Close\",\"D\",\"-5\",\"All\",,,,\"T\")))","v":-32.5},{"$f":"IF(LEFT(RTD(\"cqg.rtd\",,\"StudyData\",U38,  \"Bar\",, \"Close\",\"D\",\"-20\",\"All\",,,,\"T\"),3)=\"777\",NA(),IF(RTD(\"cqg.rtd\",,\"StudyData\",U38,  \"Bar\",, \"Close\",\"D\",\"-20\",\"All\",,,,\"T\")=\"\",NA(),RTD(\"cqg.rtd\",,\"StudyData\",U38,  \"Bar\",, \"Close\",\"D\",\"-20\",\"All\",,,,\"T\")))","v":-43.5},0.5,-5.5,5.5,null,5,"SR3S12H24",{"$f":"IF(LEFT(RTD(\"cqg.rtd\", ,\"ContractData\", AF38,\"LastTradeorSettle\",,\"T\"),3)=\"768\",NA(),IF(RTD(\"cqg.rtd\", ,\"ContractData\", AF38,\"LastTradeorSettle\",,\"T\")=\"\",NA(),RTD(\"cqg.rtd\", ,\"ContractData\", AF38,\"LastTradeorSettle\",,\"T\")))","v":-87.5},null,{"$f":"IF(LEFT(RTD(\"cqg.rtd\",,\"StudyData\",AF38,  \"Bar\",, \"Close\",\"D\",\"-1\",\"All\",,,,\"T\"),3)=\"777\",NA(),IF(RTD(\"cqg.rtd\",,\"StudyData\",AF38,  \"Bar\",, \"Close\",\"D\",\"-1\",\"All\",,,,\"T\")=\"\",NA(),RTD(\"cqg.rtd\",,\"StudyData\",AF38,  \"Bar\",, \"Close\",\"D\",\"-1\",\"All\",,,,\"T\")))","v":-92},{"$f":"IF(LEFT(RTD(\"cqg.rtd\",,\"StudyData\",AF38,  \"Bar\",, \"Close\",\"D\",\"-5\",\"All\",,,,\"T\"),3)=\"777\",NA(),IF(RTD(\"cqg.rtd\",,\"StudyData\",AF38,  \"Bar\",, \"Close\",\"D\",\"-5\",\"All\",,,,\"T\")=\"\",NA(),RTD(\"cqg.rtd\",,\"StudyData\",AF38,  \"Bar\",, \"Close\",\"D\",\"-5\",\"All\",,,,\"T\")))","v":-77.5},{"$f":"IF(LEFT(RTD(\"cqg.rtd\",,\"StudyData\",AF38,  \"Bar\",, \"Close\",\"D\",\"-20\",\"All\",,,,\"T\"),3)=\"777\",NA(),IF(RTD(\"cqg.rtd\",,\"StudyData\",AF38,  \"Bar\",, \"Close\",\"D\",\"-20\",\"All\",,,,\"T\")=\"\",NA(),RTD(\"cqg.rtd\",,\"StudyData\",AF38,  \"Bar\",, \"Close\",\"D\",\"-20\",\"All\",,,,\"T\")))","v":-134.5},4.5,-10,47]
[null,{"$f":" RTD(\"cqg.rtd\",,\"StudyData\",Q15,  \"Bar\",, \"Close\",\"D\",\"-1\",\"All\",,,,\"T\")","v":97.114999999999995},{"$f":" RTD(\"cqg.rtd\",,\"StudyData\",Q15,  \"Bar\",, \"Close\",\"D\",\"-5\",\"All\",,,,\"T\")","v":96.92},{"$f":" RTD(\"cqg.rtd\",,\"StudyData\",Q15,  \"Bar\",, \"Close\",\"D\",\"-20\",\"All\",,,,\"T\")","v":96.625},0.10000000000000853,0.29500000000000171,0.59000000000000341,null,null,null,null,null,null,null,null,null,null,5,null,6,"SR3S3M24",{"$f":"IF(LEFT(RTD(\"cqg.rtd\", ,\"ContractData\", U39,\"LastTradeorSettle\",,\"T\"),3)=\"768\",NA(),IF(RTD(\"cqg.rtd\", ,\"ContractData\", U39,\"LastTradeorSettle\",,\"T\")=\"\",NA(),RTD(\"cqg.rtd\", ,\"ContractData\", U39,\"LastTradeorSettle\",,\"T\")))","v":-27.5},null,{"$f":"IF(LEFT(RTD(\"cqg.rtd\",,\"StudyData\",U39,  \"Bar\",, \"Close\",\"D\",\"-1\",\"All\",,,,\"T\"),3)=\"777\",NA(),IF(RTD(\"cqg.rtd\",,\"StudyData\",U39,  \"Bar\",, \"Close\",\"D\",\"-1\",\"All\",,,,\"T\")=\"\",NA(),RTD(\"cqg.rtd\",,\"StudyData\",U39,  \"Bar\",, \"Close\",\"D\",\"-1\",\"All\",,,,\"T\")))","v":-29.5},{"$f":"IF(LEFT(RTD(\"cqg.rtd\",,\"StudyData\",U39,  \"Bar\",, \"Close\",\"D\",\"-5\",\"All\",,,,\"T\"),3)=\"777\",NA(),IF(RTD(\"cqg.rtd\",,\"StudyData\",U39,  \"Bar\",, \"Close\",\"D\",\"-5\",\"All\",,,,\"T\")=\"\",NA(),RTD(\"cqg.rtd\",,\"StudyData\",U39,  \"Bar\",, \"Close\",\"D\",\"-5\",\"All\",,,,\"T\")))","v":-25},{"$f":"IF(LEFT(RTD(\"cqg.rtd\",,\"StudyData\",U39,  \"Bar\",, \"Close\",\"D\",\"-20\",\"All\",,,,\"T\"),3)=\"777\",NA(),IF(RTD(\"cqg.rtd\",,\"StudyData\",U39,  \"Bar\",, \"Close\",\"D\",\"-20\",\"All\",,,,\"T\")=\"\",NA(),RTD(\"cqg.rtd\",,\"StudyData\",U39,  \"Bar\",, \"Close\",\"D\",\"-20\",\"All\",,,,\"T\")))","v":-41},2,-2.5,13.5,null,6,"SR3S12M24",{"$f":"IF(LEFT(RTD(\"cqg.rtd\", ,\"ContractData\", AF39,\"LastTradeorSettle\",,\"T\"),3)=\"768\",NA(),IF(RTD(\"cqg.rtd\", ,\"ContractData\", AF39,\"LastTradeorSettle\",,\"T\")=\"\",NA(),RTD(\"cqg.rtd\", ,\"ContractData\", AF39,\"LastTradeorSettle\",,\"T\")))","v":-52.5},null,{"$f":"IF(LEFT(RTD(\"cqg.rtd\",,\"StudyData\",AF39,  \"Bar\",, \"Close\",\"D\",\"-1\",\"All\",,,,\"T\"),3)=\"777\",NA(),IF(RTD(\"cqg.rtd\",,\"StudyData\",AF39,  \"Bar\",, \"Close\",\"D\",\"-1\",\"All\",,,,\"T\")=\"\",NA(),RTD(\"cqg.rtd\",,\"StudyData\",AF39,  \"Bar\",, \"Close\",\"D\",\"-1\",\"All\",,,,\"T\")))","v":-56},{"$f":"IF(LEFT(RTD(\"cqg.rtd\",,\"StudyData\",AF39,  \"Bar\",, \"Close\",\"D\",\"-5\",\"All\",,,,\"T\"),3)=\"777\",NA(),IF(RTD(\"cqg.rtd\",,\"StudyData\",AF39,  \"Bar\",, \"Close\",\"D\",\"-5\",\"All\",,,,\"T\")=\"\",NA(),RTD(\"cqg.rtd\",,\"StudyData\",AF39,  \"Bar\",, \"Close\",\"D\",\"-5\",\"All\",,,,\"T\")))","v":-47.5},{"$f":"IF(LEFT(RTD(\"cqg.rtd\",,\"StudyData\",AF39,  \"Bar\",, \"Close\",\"D\",\"-20\",\"All\",,,,\"T\"),3)=\"777\",NA(),IF(RTD(\"cqg.rtd\",,\"StudyData\",AF39,  \"Bar\",, \"Close\",\"D\",\"-20\",\"All\",,,,\"T\")=\"\",NA(),RTD(\"cqg.rtd\",,\"StudyData\",AF39,  \"Bar\",, \"Close\",\"D\",\"-20\",\"All\",,,,\"T\")))","v":-103},3.5,-5,50.5]
[null,{"$f":" RTD(\"cqg.rtd\",,\"StudyData\",Q16,  \"Bar\",, \"Close\",\"D\",\"-1\",\"All\",,,,\"T\")","v":97.105000000000004},{"$f":" RTD(\"cqg.rtd\",,\"StudyData\",Q16,  \"Bar\",, \"Close\",\"D\",\"-5\",\"All\",,,,\"T\")","v":96.915000000000006},{"$f":" RTD(\"cqg.rtd\",,\"StudyData\",Q16,  \"Bar\",, \"Close\",\"D\",\"-20\",\"All\",,,,\"T\")","v":96.65},9.4999999999998863E-2,0.28499999999999659,0.54999999999999716,null,null,null,null,null,null,null,null,null,null,6,null,7,"SR3S3U24",{"$f":"IF(LEFT(RTD(\"cqg.rtd\", ,\"ContractData\", U40,\"LastTradeorSettle\",,\"T\"),3)=\"768\",NA(),IF(RTD(\"cqg.rtd\", ,\"ContractData\", U40,\"LastTradeorSettle\",,\"T\")=\"\",NA(),RTD(\"cqg.rtd\", ,\"ContractData\", U40,\"LastTradeorSettle\",,\"T\")))","v":-15},null,{"$f":"IF(LEFT(RTD(\"cqg.rtd\",,\"StudyData\",U40,  \"Bar\",, \"Close\",\"D\",\"-1\",\"All\",,,,\"T\"),3)=\"777\",NA(),IF(RTD(\"cqg.rtd\",,\"StudyData\",U40,  \"Bar\",, \"Close\",\"D\",\"-1\",\"All\",,,,\"T\")=\"\",NA(),RTD(\"cqg.rtd\",,\"StudyData\",U40,  \"Bar\",, \"Close\",\"D\",\"-1\",\"All\",,,,\"T\")))","v":-16},{"$f":"IF(LEFT(RTD(\"cqg.rtd\",,\"StudyData\",U40,  \"Bar\",, \"Close\",\"D\",\"-5\",\"All\",,,,\"T\"),3)=\"777\",NA(),IF(RTD(\"cqg.rtd\",,\"StudyData\",U40,  \"Bar\",, \"Close\",\"D\",\"-5\",\"All\",,,,\"T\")=\"\",NA(),RTD(\"cqg.rtd\",,\"StudyData\",U40,  \"Bar\",, \"Close\",\"D\",\"-5\",\"All\",,,,\"T\")))","v":-13.5},{"$f":"IF(LEFT(RTD(\"cqg.rtd\",,\"StudyData\",U40,  \"Bar\",, \"Close\",\"D\",\"-20\",\"All\",,,,\"T\"),3)=\"777\",NA(),IF(RTD(\"cqg.rtd\",,\"StudyData\",U40,  \"Bar\",, \"Close\",\"D\",\"-20\",\"All\",,,,\"T\")=\"\",NA(),RTD(\"cqg.rtd\",,\"StudyData\",U40,  \"Bar\",, \"Close\",\"D\",\"-20\",\"All\",,,,\"T\")))","v":-30.5},1,-1.5,15.5,null,7,"SR3S12U24",{"$f":"IF(LEFT(RTD(\"cqg.rtd\", ,\"ContractData\", AF40,\"LastTradeorSettle\",,\"T\"),3)=\"768\",NA(),IF(RTD(\"cqg.rtd\", ,\"ContractData\", AF40,\"LastTradeorSettle\",,\"T\")=\"\",NA(),RTD(\"cqg.rtd\", ,\"ContractData\", AF40,\"LastTradeorSettle\",,\"T\")))","v":-25.5},null,{"$f":"IF(LEFT(RTD(\"cqg.rtd\",,\"StudyData\",AF40,  \"Bar\",, \"Close\",\"D\",\"-1\",\"All\",,,,\"T\"),3)=\"777\",NA(),IF(RTD(\"cqg.rtd\",,\"StudyData\",AF40,  \"Bar\",, \"Close\",\"D\",\"-1\",\"All\",,,,\"T\")=\"\",NA(),RTD(\"cqg.rtd\",,\"StudyData\",AF40,  \"Bar\",, \"Close\",\"D\",\"-1\",\"All\",,,,\"T\")))","v":-28},{"$f":"IF(LEFT(RTD(\"cqg.rtd\",,\"StudyData\",AF40,  \"Bar\",, \"Close\",\"D\",\"-5\",\"All\",,,,\"T\"),3)=\"777\",NA(),IF(RTD(\"cqg.rtd\",,\"StudyData\",AF40,  \"Bar\",, \"Close\",\"D\",\"-5\",\"All\",,,,\"T\")=\"\",NA(),RTD(\"cqg.rtd\",,\"StudyData\",AF40,  \"Bar\",, \"Close\",\"D\",\"-5\",\"All\",,,,\"T\")))","v":-23.5},{"$f":"IF(LEFT(RTD(\"cqg.rtd\",,\"StudyData\",AF40,  \"Bar\",, \"Close\",\"D\",\"-20\",\"All\",,,,\"T\"),3)=\"777\",NA(),IF(RTD(\"cqg.rtd\",,\"StudyData\",AF40,  \"Bar\",, \"Close\",\"D\",\"-20\",\"All\",,,,\"T\")=\"\",NA(),RTD(\"cqg.rtd\",,\"StudyData\",AF40,  \"Bar\",, \"Close\",\"D\",\"-20\",\"All\",,,,\"T\")))","v":-71.5},2.5,-2,46]
[null,{"$f":" RTD(\"cqg.rtd\",,\"StudyData\",Q17,  \"Bar\",, \"Close\",\"D\",\"-1\",\"All\",,,,\"T\")","v":97.09},{"$f":" RTD(\"cqg.rtd\",,\"StudyData\",Q17,  \"Bar\",, \"Close\",\"D\",\"-5\",\"All\",,,,\"T\")","v":96.9},{"$f":" RTD(\"cqg.rtd\",,\"StudyData\",Q17,  \"Bar\",, \"Close\",\"D\",\"-20\",\"All\",,,,\"T\")","v":96.67},8.4999999999993747E-2,0.27499999999999147,0.50499999999999545,null,null,null,null,null,null,null,null,null,null,7,null,8,"SR3S3Z24",{"$f":"IF(LEFT(RTD(\"cqg.rtd\", ,\"ContractData\", U41,\"LastTradeorSettle\",,\"T\"),3)=\"768\",NA(),IF(RTD(\"cqg.rtd\", ,\"ContractData\", U41,\"LastTradeorSettle\",,\"T\")=\"\",NA(),RTD(\"cqg.rtd\", ,\"ContractData\", U41,\"LastTradeorSettle\",,\"T\")))","v":-7.5},null,{"$f":"IF(LEFT(RTD(\"cqg.rtd\",,\"StudyData\",U41,  \"Bar\",, \"Close\",\"D\",\"-1\",\"All\",,,,\"T\"),3)=\"777\",NA(),IF(RTD(\"cqg.rtd\",,\"StudyData\",U41,  \"Bar\",, \"Close\",\"D\",\"-1\",\"All\",,,,\"T\")=\"\",NA(),RTD(\"cqg.rtd\",,\"StudyData\",U41,  \"Bar\",, \"Close\",\"D\",\"-1\",\"All\",,,,\"T\")))","v":-8},{"$f":"IF(LEFT(RTD(\"cqg.rtd\",,\"StudyData\",U41,  \"Bar\",, \"Close\",\"D\",\"-5\",\"All\",,,,\"T\"),3)=\"777\",NA(),IF(RTD(\"cqg.rtd\",,\"StudyData\",U41,  \"Bar\",, \"Close\",\"D\",\"-5\",\"All\",,,,\"T\")=\"\",NA(),RTD(\"cqg.rtd\",,\"StudyData\",U41,  \"Bar\",, \"Close\",\"D\",\"-5\",\"All\",,,,\"T\")))","v":-6.5},{"$f":"IF(LEFT(RTD(\"cqg.rtd\",,\"StudyData\",U41,  \"Bar\",, \"Close\",\"D\",\"-20\",\"All\",,,,\"T\"),3)=\"777\",NA(),IF(RTD(\"cqg.rtd\",,\"StudyData\",U41,  \"Bar\",, \"Close\",\"D\",\"-20\",\"All\",,,,\"T\")=\"\",NA(),RTD(\"cqg.rtd\",,\"StudyData\",U41,  \"Bar\",, \"Close\",\"D\",\"-20\",\"All\",,,,\"T\")))","v":-19.5},0.5,-1,12,null,8,"SR3S12Z24",{"$f":"IF(LEFT(RTD(\"cqg.rtd\", ,\"ContractData\", AF41,\"LastTradeorSettle\",,\"T\"),3)=\"768\",NA(),IF(RTD(\"cqg.rtd\", ,\"ContractData\", AF41,\"LastTradeorSettle\",,\"T\")=\"\",NA(),RTD(\"cqg.rtd\", ,\"ContractData\", AF41,\"LastTradeorSettle\",,\"T\")))","v":-12},null,{"$f":"IF(LEFT(RTD(\"cqg.rtd\",,\"StudyData\",AF41,  \"Bar\",, \"Close\",\"D\",\"-1\",\"All\",,,,\"T\"),3)=\"777\",NA(),IF(RTD(\"cqg.rtd\",,\"StudyData\",AF41,  \"Bar\",, \"Close\",\"D\",\"-1\",\"All\",,,,\"T\")=\"\",NA(),RTD(\"cqg.rtd\",,\"StudyData\",AF41,  \"Bar\",, \"Close\",\"D\",\"-1\",\"All\",,,,\"T\")))","v":-13.5},{"$f":"IF(LEFT(RTD(\"cqg.rtd\",,\"StudyData\",AF41,  \"Bar\",, \"Close\",\"D\",\"-5\",\"All\",,,,\"T\"),3)=\"777\",NA(),IF(RTD(\"cqg.rtd\",,\"StudyData\",AF41,  \"Bar\",, \"Close\",\"D\",\"-5\",\"All\",,,,\"T\")=\"\",NA(),RTD(\"cqg.rtd\",,\"StudyData\",AF41,  \"Bar\",, \"Close\",\"D\",\"-5\",\"All\",,,,\"T\")))","v":-11},{"$f":"IF(LEFT(RTD(\"cqg.rtd\",,\"StudyData\",AF41,  \"Bar\",, \"Close\",\"D\",\"-20\",\"All\",,,,\"T\"),3)=\"777\",NA(),IF(RTD(\"cqg.rtd\",,\"StudyData\",AF41,  \"Bar\",, \"Close\",\"D\",\"-20\",\"All\",,,,\"T\")=\"\",NA(),RTD(\"cqg.rtd\",,\"StudyData\",AF41,  \"Bar\",, \"Close\",\"D\",\"-20\",\"All\",,,,\"T\")))","v":-49},1.5,-1,37]
[null,{"$f":" RTD(\"cqg.rtd\",,\"StudyData\",Q18,  \"Bar\",, \"Close\",\"D\",\"-1\",\"All\",,,,\"T\")","v":97.06},{"$f":" RTD(\"cqg.rtd\",,\"StudyData\",Q18,  \"Bar\",, \"Close\",\"D\",\"-5\",\"All\",,,,\"T\")","v":96.88},{"$f":" RTD(\"cqg.rtd\",,\"StudyData\",Q18,  \"Bar\",, \"Close\",\"D\",\"-20\",\"All\",,,,\"T\")","v":96.67},8.4999999999993747E-2,0.26500000000000057,0.47499999999999432,null,null,null,null,null,null,null,null,null,null,8,null,9,"SR3S3H25",{"$f":"IF(LEFT(RTD(\"cqg.rtd\", ,\"ContractData\", U42,\"LastTradeorSettle\",,\"T\"),3)=\"768\",NA(),IF(RTD(\"cqg.rtd\", ,\"ContractData\", U42,\"LastTradeorSettle\",,\"T\")=\"\",NA(),RTD(\"cqg.rtd\", ,\"ContractData\", U42,\"LastTradeorSettle\",,\"T\")))","v":-2.5},null,{"$f":"IF(LEFT(RTD(\"cqg.rtd\",,\"StudyData\",U42,  \"Bar\",, \"Close\",\"D\",\"-1\",\"All\",,,,\"T\"),3)=\"777\",NA(),IF(RTD(\"cqg.rtd\",,\"StudyData\",U42,  \"Bar\",, \"Close\",\"D\",\"-1\",\"All\",,,,\"T\")=\"\",NA(),RTD(\"cqg.rtd\",,\"StudyData\",U42,  \"Bar\",, \"Close\",\"D\",\"-1\",\"All\",,,,\"T\")))","v":-2.5},{"$f":"IF(LEFT(RTD(\"cqg.rtd\",,\"StudyData\",U42,  \"Bar\",, \"Close\",\"D\",\"-5\",\"All\",,,,\"T\"),3)=\"777\",NA(),IF(RTD(\"cqg.rtd\",,\"StudyData\",U42,  \"Bar\",, \"Close\",\"D\",\"-5\",\"All\",,,,\"T\")=\"\",NA(),RTD(\"cqg.rtd\",,\"StudyData\",U42,  \"Bar\",, \"Close\",\"D\",\"-5\",\"All\",,,,\"T\")))","v":-2.5},{"$f":"IF(LEFT(RTD(\"cqg.rtd\",,\"StudyData\",U42,  \"Bar\",, \"Close\",\"D\",\"-20\",\"All\",,,,\"T\"),3)=\"777\",NA(),IF(RTD(\"cqg.rtd\",,\"StudyData\",U42,  \"Bar\",, \"Close\",\"D\",\"-20\",\"All\",,,,\"T\")=\"\",NA(),RTD(\"cqg.rtd\",,\"StudyData\",U42,  \"Bar\",, \"Close\",\"D\",\"-20\",\"All\",,,,\"T\")))","v":-12},0,0,9.5,null,9,"SR3S12H25",{"$f":"IF(LEFT(RTD(\"cqg.rtd\", ,\"ContractData\", AF42,\"LastTradeorSettle\",,\"T\"),3)=\"768\",NA(),IF(RTD(\"cqg.rtd\", ,\"ContractData\", AF42,\"LastTradeorSettle\",,\"T\")=\"\",NA(),RTD(\"cqg.rtd\", ,\"ContractData\", AF42,\"LastTradeorSettle\",,\"T\")))","v":-3},null,{"$f":"IF(LEFT(RTD(\"cqg.rtd\",,\"StudyData\",AF42,  \"Bar\",, \"Close\",\"D\",\"-1\",\"All\",,,,\"T\"),3)=\"777\",NA(),IF(RTD(\"cqg.rtd\",,\"StudyData\",AF42,  \"Bar\",, \"Close\",\"D\",\"-1\",\"All\",,,,\"T\")=\"\",NA(),RTD(\"cqg.rtd\",,\"StudyData\",AF42,  \"Bar\",, \"Close\",\"D\",\"-1\",\"All\",,,,\"T\")))","v":-4.5},{"$f":"IF(LEFT(RTD(\"cqg.rtd\",,\"StudyData\",AF42,  \"Bar\",, \"Close\",\"D\",\"-5\",\"All\",,,,\"T\"),3)=\"777\",NA(),IF(RTD(\"cqg.rtd\",,\"StudyData\",AF42,  \"Bar\",, \"Close\",\"D\",\"-5\",\"All\",,,,\"T\")=\"\",NA(),RTD(\"cqg.rtd\",,\"StudyData\",AF42,  \"Bar\",, \"Close\",\"D\",\"-5\",\"All\",,,,\"T\")))","v":-3},{"$f":"IF(LEFT(RTD(\"cqg.rtd\",,\"StudyData\",AF42,  \"Bar\",, \"Close\",\"D\",\"-20\",\"All\",,,,\"T\"),3)=\"777\",NA(),IF(RTD(\"cqg.rtd\",,\"StudyData\",AF42,  \"Bar\",, \"Close\",\"D\",\"-20\",\"All\",,,,\"T\")=\"\",NA(),RTD(\"cqg.rtd\",,\"StudyData\",AF42,  \"Bar\",, \"Close\",\"D\",\"-20\",\"All\",,,,\"T\")))","v":-35.5},1.5,0,32.5]
[null,{"$f":" RTD(\"cqg.rtd\",,\"StudyData\",Q19,  \"Bar\",, \"Close\",\"D\",\"-1\",\"All\",,,,\"T\")","v":97.015000000000001},{"$f":" RTD(\"cqg.rtd\",,\"StudyData\",Q19,  \"Bar\",, \"Close\",\"D\",\"-5\",\"All\",,,,\"T\")","v":96.844999999999999},{"$f":" RTD(\"cqg.rtd\",,\"StudyData\",Q19,  \"Bar\",, \"Close\",\"D\",\"-20\",\"All\",,,,\"T\")","v":96.655000000000001},8.5000000000007958E-2,0.25500000000000966,0.44500000000000739,null,null,null,null,null,null,null,null,null,null,9,null,10,"SR3S3M25",{"$f":"IF(LEFT(RTD(\"cqg.rtd\", ,\"ContractData\", U43,\"LastTradeorSettle\",,\"T\"),3)=\"768\",NA(),IF(RTD(\"cqg.rtd\", ,\"ContractData\", U43,\"LastTradeorSettle\",,\"T\")=\"\",NA(),RTD(\"cqg.rtd\", ,\"ContractData\", U43,\"LastTradeorSettle\",,\"T\")))","v":-1.5},null,{"$f":"IF(LEFT(RTD(\"cqg.rtd\",,\"StudyData\",U43,  \"Bar\",, \"Close\",\"D\",\"-1\",\"All\",,,,\"T\"),3)=\"777\",NA(),IF(RTD(\"cqg.rtd\",,\"StudyData\",U43,  \"Bar\",, \"Close\",\"D\",\"-1\",\"All\",,,,\"T\")=\"\",NA(),RTD(\"cqg.rtd\",,\"StudyData\",U43,  \"Bar\",, \"Close\",\"D\",\"-1\",\"All\",,,,\"T\")))","v":-1.5},{"$f":"IF(LEFT(RTD(\"cqg.rtd\",,\"StudyData\",U43,  \"Bar\",, \"Close\",\"D\",\"-5\",\"All\",,,,\"T\"),3)=\"777\",NA(),IF(RTD(\"cqg.rtd\",,\"StudyData\",U43,  \"Bar\",, \"Close\",\"D\",\"-5\",\"All\",,,,\"T\")=\"\",NA(),RTD(\"cqg.rtd\",,\"StudyData\",U43,  \"Bar\",, \"Close\",\"D\",\"-5\",\"All\",,,,\"T\")))","v":-1},{"$f":"IF(LEFT(RTD(\"cqg.rtd\",,\"StudyData\",U43,  \"Bar\",, \"Close\",\"D\",\"-20\",\"All\",,,,\"T\"),3)=\"777\",NA(),IF(RTD(\"cqg.rtd\",,\"StudyData\",U43,  \"Bar\",, \"Close\",\"D\",\"-20\",\"All\",,,,\"T\")=\"\",NA(),RTD(\"cqg.rtd\",,\"StudyData\",U43,  \"Bar\",, \"Close\",\"D\",\"-20\",\"All\",,,,\"T\")))","v":-9.5},0,-0.5,8,null,10,"SR3S12M25",{"$f":"IF(LEFT(RTD(\"cqg.rtd\", ,\"ContractData\", AF43,\"LastTradeorSettle\",,\"T\"),3)=\"768\",NA(),IF(RTD(\"cqg.rtd\", ,\"ContractData\", AF43,\"LastTradeorSettle\",,\"T\")=\"\",NA(),RTD(\"cqg.rtd\", ,\"ContractData\", AF43,\"LastTradeorSettle\",,\"T\")))","v":0.5},null,{"$f":"IF(LEFT(RTD(\"cqg.rtd\",,\"StudyData\",AF43,  \"Bar\",, \"Close\",\"D\",\"-1\",\"All\",,,,\"T\"),3)=\"777\",NA(),IF(RTD(\"cqg.rtd\",,\"StudyData\",AF43,  \"Bar\",, \"Close\",\"D\",\"-1\",\"All\",,,,\"T\")=\"\",NA(),RTD(\"cqg.rtd\",,\"StudyData\",AF43,  \"Bar\",, \"Close\",\"D\",\"-1\",\"All\",,,,\"T\")))","v":-1},{"$f":"IF(LEFT(RTD(\"cqg.rtd\",,\"StudyData\",AF43,  \"Bar\",, \"Close\",\"D\",\"-5\",\"All\",,,,\"T\"),3)=\"777\",NA(),IF(RTD(\"cqg.rtd\",,\"StudyData\",AF43,  \"Bar\",, \"Close\",\"D\",\"-5\",\"All\",,,,\"T\")=\"\",NA(),RTD(\"cqg.rtd\",,\"StudyData\",AF43,  \"Bar\",, \"Close\",\"D\",\"-5\",\"All\",,,,\"T\")))","v":0},{"$f":"IF(LEFT(RTD(\"cqg.rtd\",,\"StudyData\",AF43,  \"Bar\",, \"Close\",\"D\",\"-20\",\"All\",,,,\"T\"),3)=\"777\",NA(),IF(RTD(\"cqg.rtd\",,\"StudyData\",AF43,  \"Bar\",, \"Close\",\"D\",\"-20\",\"All\",,,,\"T\")=\"\",NA(),RTD(\"cqg.rtd\",,\"StudyData\",AF43,  \"Bar\",, \"Close\",\"D\",\"-20\",\"All\",,,,\"T\")))","v":-27.5},1.5,0.5,28]
[null,{"$f":"IFERROR( RTD(\"cqg.rtd\",,\"StudyData\",Q20,  \"Bar\",, \"Close\",\"D\",\"-1\",\"All\",,,,\"T\"),NA())","v":96.984999999999999},{"$f":" IF(RTD(\"cqg.rtd\",,\"StudyData\",Q20,  \"Bar\",, \"Close\",\"D\",\"-5\",\"All\",,,,\"T\")=\"\",NA(),RTD(\"cqg.rtd\",,\"StudyData\",Q20,  \"Bar\",, \"Close\",\"D\",\"-5\",\"All\",,,,\"T\"))","v":96.825000000000003},{"$f":" IF(RTD(\"cqg.rtd\",,\"StudyData\",Q20,  \"Bar\",, \"Close\",\"D\",\"-20\",\"All\",,,,\"T\")=\"\",NA(),RTD(\"cqg.rtd\",,\"StudyData\",Q20,  \"Bar\",, \"Close\",\"D\",\"-20\",\"All\",,,,\"T\"))","v":96.64},{"$f":"IFERROR( R20-B44,NA())","v":9.0000000000003411E-2},{"$f":"IFERROR( R20-C44,NA())","v":0.25},{"$f":"IFERROR( R20-D44,NA())","v":0.43500000000000227},null,null,null,null,null,null,null,null,null,null,10,null,11,"SR3S3U25",{"$f":"IF(LEFT(RTD(\"cqg.rtd\", ,\"ContractData\", U44,\"LastTradeorSettle\",,\"T\"),3)=\"768\",NA(),IF(RTD(\"cqg.rtd\", ,\"ContractData\", U44,\"LastTradeorSettle\",,\"T\")=\"\",NA(),RTD(\"cqg.rtd\", ,\"ContractData\", U44,\"LastTradeorSettle\",,\"T\")))","v":-1},null,{"$f":"IF(LEFT(RTD(\"cqg.rtd\",,\"StudyData\",U44,  \"Bar\",, \"Close\",\"D\",\"-1\",\"All\",,,,\"T\"),3)=\"777\",NA(),IF(RTD(\"cqg.rtd\",,\"StudyData\",U44,  \"Bar\",, \"Close\",\"D\",\"-1\",\"All\",,,,\"T\")=\"\",NA(),RTD(\"cqg.rtd\",,\"StudyData\",U44,  \"Bar\",, \"Close\",\"D\",\"-1\",\"All\",,,,\"T\")))","v":-1.5},{"$f":"IF(LEFT(RTD(\"cqg.rtd\",,\"StudyData\",U44,  \"Bar\",, \"Close\",\"D\",\"-5\",\"All\",,,,\"T\"),3)=\"777\",NA(),IF(RTD(\"cqg.rtd\",,\"StudyData\",U44,  \"Bar\",, \"Close\",\"D\",\"-5\",\"All\",,,,\"T\")=\"\",NA(),RTD(\"cqg.rtd\",,\"StudyData\",U44,  \"Bar\",, \"Close\",\"D\",\"-5\",\"All\",,,,\"T\")))","v":-1},{"$f":"IF(LEFT(RTD(\"cqg.rtd\",,\"StudyData\",U44,  \"Bar\",, \"Close\",\"D\",\"-20\",\"All\",,,,\"T\"),3)=\"777\",NA(),IF(RTD(\"cqg.rtd\",,\"StudyData\",U44,  \"Bar\",, \"Close\",\"D\",\"-20\",\"All\",,,,\"T\")=\"\",NA(),RTD(\"cqg.rtd\",,\"StudyData\",U44,  \"Bar\",, \"Close\",\"D\",\"-20\",\"All\",,,,\"T\")))","v":-8},0.5,0,7,null,11,"SR3S12U25",{"$f":"IF(LEFT(RTD(\"cqg.rtd\", ,\"ContractData\", AF44,\"LastTradeorSettle\",,\"T\"),3)=\"768\",NA(),IF(RTD(\"cqg.rtd\", ,\"ContractData\", AF44,\"LastTradeorSettle\",,\"T\")=\"\",NA(),RTD(\"cqg.rtd\", ,\"ContractData\", AF44,\"LastTradeorSettle\",,\"T\")))","v":4},null,{"$f":"IF(LEFT(RTD(\"cqg.rtd\",,\"StudyData\",AF44,  \"Bar\",, \"Close\",\"D\",\"-1\",\"All\",,,,\"T\"),3)=\"777\",NA(),IF(RTD(\"cqg.rtd\",,\"StudyData\",AF44,  \"Bar\",, \"Close\",\"D\",\"-1\",\"All\",,,,\"T\")=\"\",NA(),RTD(\"cqg.rtd\",,\"StudyData\",AF44,  \"Bar\",, \"Close\",\"D\",\"-1\",\"All\",,,,\"T\")))","v":2.5},{"$f":"IF(LEFT(RTD(\"cqg.rtd\",,\"StudyData\",AF44,  \"Bar\",, \"Close\",\"D\",\"-5\",\"All\",,,,\"T\"),3)=\"777\",NA(),IF(RTD(\"cqg.rtd\",,\"StudyData\",AF44,  \"Bar\",, \"Close\",\"D\",\"-5\",\"All\",,,,\"T\")=\"\",NA(),RTD(\"cqg.rtd\",,\"StudyData\",AF44,  \"Bar\",, \"Close\",\"D\",\"-5\",\"All\",,,,\"T\")))","v":2.5},{"$f":"IF(LEFT(RTD(\"cqg.rtd\",,\"StudyData\",AF44,  \"Bar\",, \"Close\",\"D\",\"-20\",\"All\",,,,\"T\"),3)=\"777\",NA(),IF(RTD(\"cqg.rtd\",,\"StudyData\",AF44,  \"Bar\",, \"Close\",\"D\",\"-20\",\"All\",,,,\"T\")=\"\",NA(),RTD(\"cqg.rtd\",,\"StudyData\",AF44,  \"Bar\",, \"Close\",\"D\",\"-20\",\"All\",,,,\"T\")))","v":-21.5},1.5,1.5,25.5]
[null,{"$f":"IFERROR( RTD(\"cqg.rtd\",,\"StudyData\",Q21,  \"Bar\",, \"Close\",\"D\",\"-1\",\"All\",,,,\"T\"),\"\")","v":96.96},{"$f":" IF(RTD(\"cqg.rtd\",,\"StudyData\",Q21,  \"Bar\",, \"Close\",\"D\",\"-5\",\"All\",,,,\"T\")=\"\",NA(),RTD(\"cqg.rtd\",,\"StudyData\",Q21,  \"Bar\",, \"Close\",\"D\",\"-5\",\"All\",,,,\"T\"))","v":96.814999999999998},{"$f":" IF(RTD(\"cqg.rtd\",,\"StudyData\",Q21,  \"Bar\",, \"Close\",\"D\",\"-20\",\"All\",,,,\"T\")=\"\",NA(),RTD(\"cqg.rtd\",,\"StudyData\",Q21,  \"Bar\",, \"Close\",\"D\",\"-20\",\"All\",,,,\"T\"))","v":96.62},{"$f":"IFERROR( R21-B45,NA())","v":8.5000000000007958E-2},{"$f":"IFERROR( R21-C45,NA())","v":0.23000000000000398},{"$f":"IFERROR( R21-D45,NA())","v":0.42499999999999716},null,null,null,null,null,null,null,null,null,null,11,null,12,"SR3S3Z25",{"$f":"IF(LEFT(RTD(\"cqg.rtd\", ,\"ContractData\", U45,\"LastTradeorSettle\",,\"T\"),3)=\"768\",NA(),IF(RTD(\"cqg.rtd\", ,\"ContractData\", U45,\"LastTradeorSettle\",,\"T\")=\"\",NA(),RTD(\"cqg.rtd\", ,\"ContractData\", U45,\"LastTradeorSettle\",,\"T\")))","v":1.5},null,{"$f":"IF(LEFT(RTD(\"cqg.rtd\",,\"StudyData\",U45,  \"Bar\",, \"Close\",\"D\",\"-1\",\"All\",,,,\"T\"),3)=\"777\",NA(),IF(RTD(\"cqg.rtd\",,\"StudyData\",U45,  \"Bar\",, \"Close\",\"D\",\"-1\",\"All\",,,,\"T\")=\"\",NA(),RTD(\"cqg.rtd\",,\"StudyData\",U45,  \"Bar\",, \"Close\",\"D\",\"-1\",\"All\",,,,\"T\")))","v":1},{"$f":"IF(LEFT(RTD(\"cqg.rtd\",,\"StudyData\",U45,  \"Bar\",, \"Close\",\"D\",\"-5\",\"All\",,,,\"T\"),3)=\"777\",NA(),IF(RTD(\"cqg.rtd\",,\"StudyData\",U45,  \"Bar\",, \"Close\",\"D\",\"-5\",\"All\",,,,\"T\")=\"\",NA(),RTD(\"cqg.rtd\",,\"StudyData\",U45,  \"Bar\",, \"Close\",\"D\",\"-5\",\"All\",,,,\"T\")))","v":1.5},{"$f":"IF(LEFT(RTD(\"cqg.rtd\",,\"StudyData\",U45,  \"Bar\",, \"Close\",\"D\",\"-20\",\"All\",,,,\"T\"),3)=\"777\",NA(),IF(RTD(\"cqg.rtd\",,\"StudyData\",U45,  \"Bar\",, \"Close\",\"D\",\"-20\",\"All\",,,,\"T\")=\"\",NA(),RTD(\"cqg.rtd\",,\"StudyData\",U45,  \"Bar\",, \"Close\",\"D\",\"-20\",\"All\",,,,\"T\")))","v":-6},0.5,0,7.5,null,12,"SR3S12Z25",{"$f":"IF(LEFT(RTD(\"cqg.rtd\", ,\"ContractData\", AF45,\"LastTradeorSettle\",,\"T\"),3)=\"768\",NA(),IF(RTD(\"cqg.rtd\", ,\"ContractData\", AF45,\"LastTradeorSettle\",,\"T\")=\"\",NA(),RTD(\"cqg.rtd\", ,\"ContractData\", AF45,\"LastTradeorSettle\",,\"T\")))","v":6.5},null,{"$f":"IF(LEFT(RTD(\"cqg.rtd\",,\"StudyData\",AF45,  \"Bar\",, \"Close\",\"D\",\"-1\",\"All\",,,,\"T\"),3)=\"777\",NA(),IF(RTD(\"cqg.rtd\",,\"StudyData\",AF45,  \"Bar\",, \"Close\",\"D\",\"-1\",\"All\",,,,\"T\")=\"\",NA(),RTD(\"cqg.rtd\",,\"StudyData\",AF45,  \"Bar\",, \"Close\",\"D\",\"-1\",\"All\",,,,\"T\")))","v":5},{"$f":"IF(LEFT(RTD(\"cqg.rtd\",,\"StudyData\",AF45,  \"Bar\",, \"Close\",\"D\",\"-5\",\"All\",,,,\"T\"),3)=\"777\",NA(),IF(RTD(\"cqg.rtd\",,\"StudyData\",AF45,  \"Bar\",, \"Close\",\"D\",\"-5\",\"All\",,,,\"T\")=\"\",NA(),RTD(\"cqg.rtd\",,\"StudyData\",AF45,  \"Bar\",, \"Close\",\"D\",\"-5\",\"All\",,,,\"T\")))","v":4},{"$f":"IF(LEFT(RTD(\"cqg.rtd\",,\"StudyData\",AF45,  \"Bar\",, \"Close\",\"D\",\"-20\",\"All\",,,,\"T\"),3)=\"777\",NA(),IF(RTD(\"cqg.rtd\",,\"StudyData\",AF45,  \"Bar\",, \"Close\",\"D\",\"-20\",\"All\",,,,\"T\")=\"\",NA(),RTD(\"cqg.rtd\",,\"StudyData\",AF45,  \"Bar\",, \"Close\",\"D\",\"-20\",\"All\",,,,\"T\")))","v":-16},1.5,2.5,22.5]
[null,null,null,null,null,null,null,null,null,null,null,null,null,null,null,null,null,12,null,13,"SR3S3H26",{"$f":"IF(LEFT(RTD(\"cqg.rtd\", ,\"ContractData\", U46,\"LastTradeorSettle\",,\"T\"),3)=\"768\",NA(),IF(RTD(\"cqg.rtd\", ,\"ContractData\", U46,\"LastTradeorSettle\",,\"T\")=\"\",NA(),RTD(\"cqg.rtd\", ,\"ContractData\", U46,\"LastTradeorSettle\",,\"T\")))","v":1.5},null,{"$f":"IF(LEFT(RTD(\"cqg.rtd\",,\"StudyData\",U46,  \"Bar\",, \"Close\",\"D\",\"-1\",\"All\",,,,\"T\"),3)=\"777\",NA(),IF(RTD(\"cqg.rtd\",,\"StudyData\",U46,  \"Bar\",, \"Close\",\"D\",\"-1\",\"All\",,,,\"T\")=\"\",NA(),RTD(\"cqg.rtd\",,\"StudyData\",U46,  \"Bar\",, \"Close\",\"D\",\"-1\",\"All\",,,,\"T\")))","v":1},{"$f":"IF(LEFT(RTD(\"cqg.rtd\",,\"StudyData\",U46,  \"Bar\",, \"Close\",\"D\",\"-5\",\"All\",,,,\"T\"),3)=\"777\",NA(),IF(RTD(\"cqg.rtd\",,\"StudyData\",U46,  \"Bar\",, \"Close\",\"D\",\"-5\",\"All\",,,,\"T\")=\"\",NA(),RTD(\"cqg.rtd\",,\"StudyData\",U46,  \"Bar\",, \"Close\",\"D\",\"-5\",\"All\",,,,\"T\")))","v":0.5},{"$f":"IF(LEFT(RTD(\"cqg.rtd\",,\"StudyData\",U46,  \"Bar\",, \"Close\",\"D\",\"-20\",\"All\",,,,\"T\"),3)=\"777\",NA(),IF(RTD(\"cqg.rtd\",,\"StudyData\",U46,  \"Bar\",, \"Close\",\"D\",\"-20\",\"All\",,,,\"T\")=\"\",NA(),RTD(\"cqg.rtd\",,\"StudyData\",U46,  \"Bar\",, \"Close\",\"D\",\"-20\",\"All\",,,,\"T\")))","v":-4},0.5,1,5.5,null,13,"SR3S12H26",{"$f":"IF(LEFT(RTD(\"cqg.rtd\", ,\"ContractData\", AF46,\"LastTradeorSettle\",,\"T\"),3)=\"768\",NA(),IF(RTD(\"cqg.rtd\", ,\"ContractData\", AF46,\"LastTradeorSettle\",,\"T\")=\"\",NA(),RTD(\"cqg.rtd\", ,\"ContractData\", AF46,\"LastTradeorSettle\",,\"T\")))","v":8},null,{"$f":"IF(LEFT(RTD(\"cqg.rtd\",,\"StudyData\",AF46,  \"Bar\",, \"Close\",\"D\",\"-1\",\"All\",,,,\"T\"),3)=\"777\",NA(),IF(RTD(\"cqg.rtd\",,\"StudyData\",AF46,  \"Bar\",, \"Close\",\"D\",\"-1\",\"All\",,,,\"T\")=\"\",NA(),RTD(\"cqg.rtd\",,\"StudyData\",AF46,  \"Bar\",, \"Close\",\"D\",\"-1\",\"All\",,,,\"T\")))","v":5.5},{"$f":"IF(LEFT(RTD(\"cqg.rtd\",,\"StudyData\",AF46,  \"Bar\",, \"Close\",\"D\",\"-5\",\"All\",,,,\"T\"),3)=\"777\",NA(),IF(RTD(\"cqg.rtd\",,\"StudyData\",AF46,  \"Bar\",, \"Close\",\"D\",\"-5\",\"All\",,,,\"T\")=\"\",NA(),RTD(\"cqg.rtd\",,\"StudyData\",AF46,  \"Bar\",, \"Close\",\"D\",\"-5\",\"All\",,,,\"T\")))","v":4},{"$f":"IF(LEFT(RTD(\"cqg.rtd\",,\"StudyData\",AF46,  \"Bar\",, \"Close\",\"D\",\"-20\",\"All\",,,,\"T\"),3)=\"777\",NA(),IF(RTD(\"cqg.rtd\",,\"StudyData\",AF46,  \"Bar\",, \"Close\",\"D\",\"-20\",\"All\",,,,\"T\")=\"\",NA(),RTD(\"cqg.rtd\",,\"StudyData\",AF46,  \"Bar\",, \"Close\",\"D\",\"-20\",\"All\",,,,\"T\")))","v":-12},2.5,4,20]
[null,null,null,null,null,null,null,null,null,null,null,null,null,null,null,null,null,13,null,14,"SR3S3M26",{"$f":"IF(LEFT(RTD(\"cqg.rtd\", ,\"ContractData\", U47,\"LastTradeorSettle\",,\"T\"),3)=\"768\",NA(),IF(RTD(\"cqg.rtd\", ,\"ContractData\", U47,\"LastTradeorSettle\",,\"T\")=\"\",NA(),RTD(\"cqg.rtd\", ,\"ContractData\", U47,\"LastTradeorSettle\",,\"T\")))","v":2.5},null,{"$f":"IF(LEFT(RTD(\"cqg.rtd\",,\"StudyData\",U47,  \"Bar\",, \"Close\",\"D\",\"-1\",\"All\",,,,\"T\"),3)=\"777\",NA(),IF(RTD(\"cqg.rtd\",,\"StudyData\",U47,  \"Bar\",, \"Close\",\"D\",\"-1\",\"All\",,,,\"T\")=\"\",NA(),RTD(\"cqg.rtd\",,\"StudyData\",U47,  \"Bar\",, \"Close\",\"D\",\"-1\",\"All\",,,,\"T\")))","v":2},{"$f":"IF(LEFT(RTD(\"cqg.rtd\",,\"StudyData\",U47,  \"Bar\",, \"Close\",\"D\",\"-5\",\"All\",,,,\"T\"),3)=\"777\",NA(),IF(RTD(\"cqg.rtd\",,\"StudyData\",U47,  \"Bar\",, \"Close\",\"D\",\"-5\",\"All\",,,,\"T\")=\"\",NA(),RTD(\"cqg.rtd\",,\"StudyData\",U47,  \"Bar\",, \"Close\",\"D\",\"-5\",\"All\",,,,\"T\")))","v":1.5},{"$f":"IF(LEFT(RTD(\"cqg.rtd\",,\"StudyData\",U47,  \"Bar\",, \"Close\",\"D\",\"-20\",\"All\",,,,\"T\"),3)=\"777\",NA(),IF(RTD(\"cqg.rtd\",,\"StudyData\",U47,  \"Bar\",, \"Close\",\"D\",\"-20\",\"All\",,,,\"T\")=\"\",NA(),RTD(\"cqg.rtd\",,\"StudyData\",U47,  \"Bar\",, \"Close\",\"D\",\"-20\",\"All\",,,,\"T\")))","v":-3.5},0.5,1,6,null,14,"SR3S12M26",{"$f":"IF(LEFT(RTD(\"cqg.rtd\", ,\"ContractData\", AF47,\"LastTradeorSettle\",,\"T\"),3)=\"768\",NA(),IF(RTD(\"cqg.rtd\", ,\"ContractData\", AF47,\"LastTradeorSettle\",,\"T\")=\"\",NA(),RTD(\"cqg.rtd\", ,\"ContractData\", AF47,\"LastTradeorSettle\",,\"T\")))","v":9},null,{"$f":"IF(LEFT(RTD(\"cqg.rtd\",,\"StudyData\",AF47,  \"Bar\",, \"Close\",\"D\",\"-1\",\"All\",,,,\"T\"),3)=\"777\",NA(),IF(RTD(\"cqg.rtd\",,\"StudyData\",AF47,  \"Bar\",, \"Close\",\"D\",\"-1\",\"All\",,,,\"T\")=\"\",NA(),RTD(\"cqg.rtd\",,\"StudyData\",AF47,  \"Bar\",, \"Close\",\"D\",\"-1\",\"All\",,,,\"T\")))","v":7.5},{"$f":"IF(LEFT(RTD(\"cqg.rtd\",,\"StudyData\",AF47,  \"Bar\",, \"Close\",\"D\",\"-5\",\"All\",,,,\"T\"),3)=\"777\",NA(),IF(RTD(\"cqg.rtd\",,\"StudyData\",AF47,  \"Bar\",, \"Close\",\"D\",\"-5\",\"All\",,,,\"T\")=\"\",NA(),RTD(\"cqg.rtd\",,\"StudyData\",AF47,  \"Bar\",, \"Close\",\"D\",\"-5\",\"All\",,,,\"T\")))","v":5.5},{"$f":"IF(LEFT(RTD(\"cqg.rtd\",,\"StudyData\",AF47,  \"Bar\",, \"Close\",\"D\",\"-20\",\"All\",,,,\"T\"),3)=\"777\",NA(),IF(RTD(\"cqg.rtd\",,\"StudyData\",AF47,  \"Bar\",, \"Close\",\"D\",\"-20\",\"All\",,,,\"T\")=\"\",NA(),RTD(\"cqg.rtd\",,\"StudyData\",AF47,  \"Bar\",, \"Close\",\"D\",\"-20\",\"All\",,,,\"T\")))","v":-8},1.5,3.5,17]
[null,null,null,null,null,null,null,null,null,null,null,null,null,null,null,null,null,14,null,15,"SR3S3U26",{"$f":"IF(LEFT(RTD(\"cqg.rtd\", ,\"ContractData\", U48,\"LastTradeorSettle\",,\"T\"),3)=\"768\",NA(),IF(RTD(\"cqg.rtd\", ,\"ContractData\", U48,\"LastTradeorSettle\",,\"T\")=\"\",NA(),RTD(\"cqg.rtd\", ,\"ContractData\", U48,\"LastTradeorSettle\",,\"T\")))","v":1.5},null,{"$f":"IF(LEFT(RTD(\"cqg.rtd\",,\"StudyData\",U48,  \"Bar\",, \"Close\",\"D\",\"-1\",\"All\",,,,\"T\"),3)=\"777\",NA(),IF(RTD(\"cqg.rtd\",,\"StudyData\",U48,  \"Bar\",, \"Close\",\"D\",\"-1\",\"All\",,,,\"T\")=\"\",NA(),RTD(\"cqg.rtd\",,\"StudyData\",U48,  \"Bar\",, \"Close\",\"D\",\"-1\",\"All\",,,,\"T\")))","v":1},{"$f":"IF(LEFT(RTD(\"cqg.rtd\",,\"StudyData\",U48,  \"Bar\",, \"Close\",\"D\",\"-5\",\"All\",,,,\"T\"),3)=\"777\",NA(),IF(RTD(\"cqg.rtd\",,\"StudyData\",U48,  \"Bar\",, \"Close\",\"D\",\"-5\",\"All\",,,,\"T\")=\"\",NA(),RTD(\"cqg.rtd\",,\"StudyData\",U48,  \"Bar\",, \"Close\",\"D\",\"-5\",\"All\",,,,\"T\")))","v":0.5},{"$f":"IF(LEFT(RTD(\"cqg.rtd\",,\"StudyData\",U48,  \"Bar\",, \"Close\",\"D\",\"-20\",\"All\",,,,\"T\"),3)=\"777\",NA(),IF(RTD(\"cqg.rtd\",,\"StudyData\",U48,  \"Bar\",, \"Close\",\"D\",\"-20\",\"All\",,,,\"T\")=\"\",NA(),RTD(\"cqg.rtd\",,\"StudyData\",U48,  \"Bar\",, \"Close\",\"D\",\"-20\",\"All\",,,,\"T\")))","v":-2.5},0.5,1,4,null,15,"SR3S12U26",{"$f":"IF(LEFT(RTD(\"cqg.rtd\", ,\"ContractData\", AF48,\"LastTradeorSettle\",,\"T\"),3)=\"768\",NA(),IF(RTD(\"cqg.rtd\", ,\"ContractData\", AF48,\"LastTradeorSettle\",,\"T\")=\"\",NA(),RTD(\"cqg.rtd\", ,\"ContractData\", AF48,\"LastTradeorSettle\",,\"T\")))","v":11},null,{"$f":"IF(LEFT(RTD(\"cqg.rtd\",,\"StudyData\",AF48,  \"Bar\",, \"Close\",\"D\",\"-1\",\"All\",,,,\"T\"),3)=\"777\",NA(),IF(RTD(\"cqg.rtd\",,\"StudyData\",AF48,  \"Bar\",, \"Close\",\"D\",\"-1\",\"All\",,,,\"T\")=\"\",NA(),RTD(\"cqg.rtd\",,\"StudyData\",AF48,  \"Bar\",, \"Close\",\"D\",\"-1\",\"All\",,,,\"T\")))","v":10},{"$f":"IF(LEFT(RTD(\"cqg.rtd\",,\"StudyData\",AF48,  \"Bar\",, \"Close\",\"D\",\"-5\",\"All\",,,,\"T\"),3)=\"777\",NA(),IF(RTD(\"cqg.rtd\",,\"StudyData\",AF48,  \"Bar\",, \"Close\",\"D\",\"-5\",\"All\",,,,\"T\")=\"\",NA(),RTD(\"cqg.rtd\",,\"StudyData\",AF48,  \"Bar\",, \"Close\",\"D\",\"-5\",\"All\",,,,\"T\")))","v":7.5},{"$f":"IF(LEFT(RTD(\"cqg.rtd\",,\"StudyData\",AF48,  \"Bar\",, \"Close\",\"D\",\"-20\",\"All\",,,,\"T\"),3)=\"777\",NA(),IF(RTD(\"cqg.rtd\",,\"StudyData\",AF48,  \"Bar\",, \"Close\",\"D\",\"-20\",\"All\",,,,\"T\")=\"\",NA(),RTD(\"cqg.rtd\",,\"StudyData\",AF48,  \"Bar\",, \"Close\",\"D\",\"-20\",\"All\",,,,\"T\")))","v":-3},1,3.5,14]
[null,null,null,null,null,null,null,null,null,null,null,null,null,null,null,null,null,15,null,16,"SR3S3Z26",{"$f":"IF(LEFT(RTD(\"cqg.rtd\", ,\"ContractData\", U49,\"LastTradeorSettle\",,\"T\"),3)=\"768\",NA(),IF(RTD(\"cqg.rtd\", ,\"ContractData\", U49,\"LastTradeorSettle\",,\"T\")=\"\",NA(),RTD(\"cqg.rtd\", ,\"ContractData\", U49,\"LastTradeorSettle\",,\"T\")))","v":2.5},null,{"$f":"IF(LEFT(RTD(\"cqg.rtd\",,\"StudyData\",U49,  \"Bar\",, \"Close\",\"D\",\"-1\",\"All\",,,,\"T\"),3)=\"777\",NA(),IF(RTD(\"cqg.rtd\",,\"StudyData\",U49,  \"Bar\",, \"Close\",\"D\",\"-1\",\"All\",,,,\"T\")=\"\",NA(),RTD(\"cqg.rtd\",,\"StudyData\",U49,  \"Bar\",, \"Close\",\"D\",\"-1\",\"All\",,,,\"T\")))","v":1.5},{"$f":"IF(LEFT(RTD(\"cqg.rtd\",,\"StudyData\",U49,  \"Bar\",, \"Close\",\"D\",\"-5\",\"All\",,,,\"T\"),3)=\"777\",NA(),IF(RTD(\"cqg.rtd\",,\"StudyData\",U49,  \"Bar\",, \"Close\",\"D\",\"-5\",\"All\",,,,\"T\")=\"\",NA(),RTD(\"cqg.rtd\",,\"StudyData\",U49,  \"Bar\",, \"Close\",\"D\",\"-5\",\"All\",,,,\"T\")))","v":1.5},{"$f":"IF(LEFT(RTD(\"cqg.rtd\",,\"StudyData\",U49,  \"Bar\",, \"Close\",\"D\",\"-20\",\"All\",,,,\"T\"),3)=\"777\",NA(),IF(RTD(\"cqg.rtd\",,\"StudyData\",U49,  \"Bar\",, \"Close\",\"D\",\"-20\",\"All\",,,,\"T\")=\"\",NA(),RTD(\"cqg.rtd\",,\"StudyData\",U49,  \"Bar\",, \"Close\",\"D\",\"-20\",\"All\",,,,\"T\")))","v":-2},1,1,4.5,null,16,"SR3S12Z26",{"$f":"IF(LEFT(RTD(\"cqg.rtd\", ,\"ContractData\", AF49,\"LastTradeorSettle\",,\"T\"),3)=\"768\",NA(),IF(RTD(\"cqg.rtd\", ,\"ContractData\", AF49,\"LastTradeorSettle\",,\"T\")=\"\",NA(),RTD(\"cqg.rtd\", ,\"ContractData\", AF49,\"LastTradeorSettle\",,\"T\")))","v":12.5},null,{"$f":"IF(LEFT(RTD(\"cqg.rtd\",,\"StudyData\",AF49,  \"Bar\",, \"Close\",\"D\",\"-1\",\"All\",,,,\"T\"),3)=\"777\",NA(),IF(RTD(\"cqg.rtd\",,\"StudyData\",AF49,  \"Bar\",, \"Close\",\"D\",\"-1\",\"All\",,,,\"T\")=\"\",NA(),RTD(\"cqg.rtd\",,\"StudyData\",AF49,  \"Bar\",, \"Close\",\"D\",\"-1\",\"All\",,,,\"T\")))","v":12},{"$f":"IF(LEFT(RTD(\"cqg.rtd\",,\"StudyData\",AF49,  \"Bar\",, \"Close\",\"D\",\"-5\",\"All\",,,,\"T\"),3)=\"777\",NA(),IF(RTD(\"cqg.rtd\",,\"StudyData\",AF49,  \"Bar\",, \"Close\",\"D\",\"-5\",\"All\",,,,\"T\")=\"\",NA(),RTD(\"cqg.rtd\",,\"StudyData\",AF49,  \"Bar\",, \"Close\",\"D\",\"-5\",\"All\",,,,\"T\")))","v":9},{"$f":"IF(LEFT(RTD(\"cqg.rtd\",,\"StudyData\",AF49,  \"Bar\",, \"Close\",\"D\",\"-20\",\"All\",,,,\"T\"),3)=\"777\",NA(),IF(RTD(\"cqg.rtd\",,\"StudyData\",AF49,  \"Bar\",, \"Close\",\"D\",\"-20\",\"All\",,,,\"T\")=\"\",NA(),RTD(\"cqg.rtd\",,\"StudyData\",AF49,  \"Bar\",, \"Close\",\"D\",\"-20\",\"All\",,,,\"T\")))","v":1},0.5,3.5,11.5]
[null,null,null,null,null,null,null,null,null,null,null,null,null,null,null,null,null,16,null,17,"SR3S3H27",{"$f":"IF(LEFT(RTD(\"cqg.rtd\", ,\"ContractData\", U50,\"LastTradeorSettle\",,\"T\"),3)=\"768\",NA(),IF(RTD(\"cqg.rtd\", ,\"ContractData\", U50,\"LastTradeorSettle\",,\"T\")=\"\",NA(),RTD(\"cqg.rtd\", ,\"ContractData\", U50,\"LastTradeorSettle\",,\"T\")))","v":2.5},null,{"$f":"IF(LEFT(RTD(\"cqg.rtd\",,\"StudyData\",U50,  \"Bar\",, \"Close\",\"D\",\"-1\",\"All\",,,,\"T\"),3)=\"777\",NA(),IF(RTD(\"cqg.rtd\",,\"StudyData\",U50,  \"Bar\",, \"Close\",\"D\",\"-1\",\"All\",,,,\"T\")=\"\",NA(),RTD(\"cqg.rtd\",,\"StudyData\",U50,  \"Bar\",, \"Close\",\"D\",\"-1\",\"All\",,,,\"T\")))","v":3},{"$f":"IF(LEFT(RTD(\"cqg.rtd\",,\"StudyData\",U50,  \"Bar\",, \"Close\",\"D\",\"-5\",\"All\",,,,\"T\"),3)=\"777\",NA(),IF(RTD(\"cqg.rtd\",,\"StudyData\",U50,  \"Bar\",, \"Close\",\"D\",\"-5\",\"All\",,,,\"T\")=\"\",NA(),RTD(\"cqg.rtd\",,\"StudyData\",U50,  \"Bar\",, \"Close\",\"D\",\"-5\",\"All\",,,,\"T\")))","v":2},{"$f":"IF(LEFT(RTD(\"cqg.rtd\",,\"StudyData\",U50,  \"Bar\",, \"Close\",\"D\",\"-20\",\"All\",,,,\"T\"),3)=\"777\",NA(),IF(RTD(\"cqg.rtd\",,\"StudyData\",U50,  \"Bar\",, \"Close\",\"D\",\"-20\",\"All\",,,,\"T\")=\"\",NA(),RTD(\"cqg.rtd\",,\"StudyData\",U50,  \"Bar\",, \"Close\",\"D\",\"-20\",\"All\",,,,\"T\")))","v":0},-0.5,0.5,2.5,null,17,"SR3S12H27",{"$f":"IF(LEFT(RTD(\"cqg.rtd\", ,\"ContractData\", AF50,\"LastTradeorSettle\",,\"T\"),3)=\"768\",NA(),IF(RTD(\"cqg.rtd\", ,\"ContractData\", AF50,\"LastTradeorSettle\",,\"T\")=\"\",NA(),RTD(\"cqg.rtd\", ,\"ContractData\", AF50,\"LastTradeorSettle\",,\"T\")))","v":12.5},null,{"$f":"IF(LEFT(RTD(\"cqg.rtd\",,\"StudyData\",AF50,  \"Bar\",, \"Close\",\"D\",\"-1\",\"All\",,,,\"T\"),3)=\"777\",NA(),IF(RTD(\"cqg.rtd\",,\"StudyData\",AF50,  \"Bar\",, \"Close\",\"D\",\"-1\",\"All\",,,,\"T\")=\"\",NA(),RTD(\"cqg.rtd\",,\"StudyData\",AF50,  \"Bar\",, \"Close\",\"D\",\"-1\",\"All\",,,,\"T\")))","v":13},{"$f":"IF(LEFT(RTD(\"cqg.rtd\",,\"StudyData\",AF50,  \"Bar\",, \"Close\",\"D\",\"-5\",\"All\",,,,\"T\"),3)=\"777\",NA(),IF(RTD(\"cqg.rtd\",,\"StudyData\",AF50,  \"Bar\",, \"Close\",\"D\",\"-5\",\"All\",,,,\"T\")=\"\",NA(),RTD(\"cqg.rtd\",,\"StudyData\",AF50,  \"Bar\",, \"Close\",\"D\",\"-5\",\"All\",,,,\"T\")))","v":8.5},{"$f":"IF(LEFT(RTD(\"cqg.rtd\",,\"StudyData\",AF50,  \"Bar\",, \"Close\",\"D\",\"-20\",\"All\",,,,\"T\"),3)=\"777\",NA(),IF(RTD(\"cqg.rtd\",,\"StudyData\",AF50,  \"Bar\",, \"Close\",\"D\",\"-20\",\"All\",,,,\"T\")=\"\",NA(),RTD(\"cqg.rtd\",,\"StudyData\",AF50,  \"Bar\",, \"Close\",\"D\",\"-20\",\"All\",,,,\"T\")))","v":5},-0.5,4,7.5]
[null,null,null,null,null,null,null,null,null,null,null,null,null,null,null,null,null,17,null,18,"SR3S3M27",{"$f":"IF(LEFT(RTD(\"cqg.rtd\", ,\"ContractData\", U51,\"LastTradeorSettle\",,\"T\"),3)=\"768\",NA(),IF(RTD(\"cqg.rtd\", ,\"ContractData\", U51,\"LastTradeorSettle\",,\"T\")=\"\",NA(),RTD(\"cqg.rtd\", ,\"ContractData\", U51,\"LastTradeorSettle\",,\"T\")))","v":4.5},null,{"$f":"IF(LEFT(RTD(\"cqg.rtd\",,\"StudyData\",U51,  \"Bar\",, \"Close\",\"D\",\"-1\",\"All\",,,,\"T\"),3)=\"777\",NA(),IF(RTD(\"cqg.rtd\",,\"StudyData\",U51,  \"Bar\",, \"Close\",\"D\",\"-1\",\"All\",,,,\"T\")=\"\",NA(),RTD(\"cqg.rtd\",,\"StudyData\",U51,  \"Bar\",, \"Close\",\"D\",\"-1\",\"All\",,,,\"T\")))","v":4.5},{"$f":"IF(LEFT(RTD(\"cqg.rtd\",,\"StudyData\",U51,  \"Bar\",, \"Close\",\"D\",\"-5\",\"All\",,,,\"T\"),3)=\"777\",NA(),IF(RTD(\"cqg.rtd\",,\"StudyData\",U51,  \"Bar\",, \"Close\",\"D\",\"-5\",\"All\",,,,\"T\")=\"\",NA(),RTD(\"cqg.rtd\",,\"StudyData\",U51,  \"Bar\",, \"Close\",\"D\",\"-5\",\"All\",,,,\"T\")))","v":3.5},{"$f":"IF(LEFT(RTD(\"cqg.rtd\",,\"StudyData\",U51,  \"Bar\",, \"Close\",\"D\",\"-20\",\"All\",,,,\"T\"),3)=\"777\",NA(),IF(RTD(\"cqg.rtd\",,\"StudyData\",U51,  \"Bar\",, \"Close\",\"D\",\"-20\",\"All\",,,,\"T\")=\"\",NA(),RTD(\"cqg.rtd\",,\"StudyData\",U51,  \"Bar\",, \"Close\",\"D\",\"-20\",\"All\",,,,\"T\")))","v":1.5},0,1,3,null,18,"SR3S12M27",{"$f":"IF(LEFT(RTD(\"cqg.rtd\", ,\"ContractData\", AF51,\"LastTradeorSettle\",,\"T\"),3)=\"768\",NA(),IF(RTD(\"cqg.rtd\", ,\"ContractData\", AF51,\"LastTradeorSettle\",,\"T\")=\"\",NA(),RTD(\"cqg.rtd\", ,\"ContractData\", AF51,\"LastTradeorSettle\",,\"T\")))","v":14},null,{"$f":"IF(LEFT(RTD(\"cqg.rtd\",,\"StudyData\",AF51,  \"Bar\",, \"Close\",\"D\",\"-1\",\"All\",,,,\"T\"),3)=\"777\",NA(),IF(RTD(\"cqg.rtd\",,\"StudyData\",AF51,  \"Bar\",, \"Close\",\"D\",\"-1\",\"All\",,,,\"T\")=\"\",NA(),RTD(\"cqg.rtd\",,\"StudyData\",AF51,  \"Bar\",, \"Close\",\"D\",\"-1\",\"All\",,,,\"T\")))","v":13},{"$f":"IF(LEFT(RTD(\"cqg.rtd\",,\"StudyData\",AF51,  \"Bar\",, \"Close\",\"D\",\"-5\",\"All\",,,,\"T\"),3)=\"777\",NA(),IF(RTD(\"cqg.rtd\",,\"StudyData\",AF51,  \"Bar\",, \"Close\",\"D\",\"-5\",\"All\",,,,\"T\")=\"\",NA(),RTD(\"cqg.rtd\",,\"StudyData\",AF51,  \"Bar\",, \"Close\",\"D\",\"-5\",\"All\",,,,\"T\")))","v":8.5},{"$f":"IF(LEFT(RTD(\"cqg.rtd\",,\"StudyData\",AF51,  \"Bar\",, \"Close\",\"D\",\"-20\",\"All\",,,,\"T\"),3)=\"777\",NA(),IF(RTD(\"cqg.rtd\",,\"StudyData\",AF51,  \"Bar\",, \"Close\",\"D\",\"-20\",\"All\",,,,\"T\")=\"\",NA(),RTD(\"cqg.rtd\",,\"StudyData\",AF51,  \"Bar\",, \"Close\",\"D\",\"-20\",\"All\",,,,\"T\")))","v":6.5},1,5.5,7.5]
[null,null,null,null,null,null,null,null,null,null,null,null,null,null,null,null,null,18,null,19,"SR3S3U27",{"$f":"IF(LEFT(RTD(\"cqg.rtd\", ,\"ContractData\", U52,\"LastTradeorSettle\",,\"T\"),3)=\"768\",NA(),IF(RTD(\"cqg.rtd\", ,\"ContractData\", U52,\"LastTradeorSettle\",,\"T\")=\"\",NA(),RTD(\"cqg.rtd\", ,\"ContractData\", U52,\"LastTradeorSettle\",,\"T\")))","v":2.5},null,{"$f":"IF(LEFT(RTD(\"cqg.rtd\",,\"StudyData\",U52,  \"Bar\",, \"Close\",\"D\",\"-1\",\"All\",,,,\"T\"),3)=\"777\",NA(),IF(RTD(\"cqg.rtd\",,\"StudyData\",U52,  \"Bar\",, \"Close\",\"D\",\"-1\",\"All\",,,,\"T\")=\"\",NA(),RTD(\"cqg.rtd\",,\"StudyData\",U52,  \"Bar\",, \"Close\",\"D\",\"-1\",\"All\",,,,\"T\")))","v":3},{"$f":"IF(LEFT(RTD(\"cqg.rtd\",,\"StudyData\",U52,  \"Bar\",, \"Close\",\"D\",\"-5\",\"All\",,,,\"T\"),3)=\"777\",NA(),IF(RTD(\"cqg.rtd\",,\"StudyData\",U52,  \"Bar\",, \"Close\",\"D\",\"-5\",\"All\",,,,\"T\")=\"\",NA(),RTD(\"cqg.rtd\",,\"StudyData\",U52,  \"Bar\",, \"Close\",\"D\",\"-5\",\"All\",,,,\"T\")))","v":2},{"$f":"IF(LEFT(RTD(\"cqg.rtd\",,\"StudyData\",U52,  \"Bar\",, \"Close\",\"D\",\"-20\",\"All\",,,,\"T\"),3)=\"777\",NA(),IF(RTD(\"cqg.rtd\",,\"StudyData\",U52,  \"Bar\",, \"Close\",\"D\",\"-20\",\"All\",,,,\"T\")=\"\",NA(),RTD(\"cqg.rtd\",,\"StudyData\",U52,  \"Bar\",, \"Close\",\"D\",\"-20\",\"All\",,,,\"T\")))","v":1.5},-0.5,0.5,1,null,19,"SR3S12U27",{"$f":"IF(LEFT(RTD(\"cqg.rtd\", ,\"ContractData\", AF52,\"LastTradeorSettle\",,\"T\"),3)=\"768\",NA(),IF(RTD(\"cqg.rtd\", ,\"ContractData\", AF52,\"LastTradeorSettle\",,\"T\")=\"\",NA(),RTD(\"cqg.rtd\", ,\"ContractData\", AF52,\"LastTradeorSettle\",,\"T\")))","v":{"$error":"#N/A"}},null,{"$f":"IF(LEFT(RTD(\"cqg.rtd\",,\"StudyData\",AF52,  \"Bar\",, \"Close\",\"D\",\"-1\",\"All\",,,,\"T\"),3)=\"777\",NA(),IF(RTD(\"cqg.rtd\",,\"StudyData\",AF52,  \"Bar\",, \"Close\",\"D\",\"-1\",\"All\",,,,\"T\")=\"\",NA(),RTD(\"cqg.rtd\",,\"StudyData\",AF52,  \"Bar\",, \"Close\",\"D\",\"-1\",\"All\",,,,\"T\")))","v":11.5},{"$f":"IF(LEFT(RTD(\"cqg.rtd\",,\"StudyData\",AF52,  \"Bar\",, \"Close\",\"D\",\"-5\",\"All\",,,,\"T\"),3)=\"777\",NA(),IF(RTD(\"cqg.rtd\",,\"StudyData\",AF52,  \"Bar\",, \"Close\",\"D\",\"-5\",\"All\",,,,\"T\")=\"\",NA(),RTD(\"cqg.rtd\",,\"StudyData\",AF52,  \"Bar\",, \"Close\",\"D\",\"-5\",\"All\",,,,\"T\")))","v":8},{"$f":"IF(LEFT(RTD(\"cqg.rtd\",,\"StudyData\",AF52,  \"Bar\",, \"Close\",\"D\",\"-20\",\"All\",,,,\"T\"),3)=\"777\",NA(),IF(RTD(\"cqg.rtd\",,\"StudyData\",AF52,  \"Bar\",, \"Close\",\"D\",\"-20\",\"All\",,,,\"T\")=\"\",NA(),RTD(\"cqg.rtd\",,\"StudyData\",AF52,  \"Bar\",, \"Close\",\"D\",\"-20\",\"All\",,,,\"T\")))","v":7.5},{"$error":"#N/A"},{"$error":"#N/A"},{"$error":"#N/A"}]
[null,null,null,null,null,null,null,null,null,null,null,null,null,null,null,null,null,19,null,20,"SR3S3Z27",{"$f":"IF(LEFT(RTD(\"cqg.rtd\", ,\"ContractData\", U53,\"LastTradeorSettle\",,\"T\"),3)=\"768\",NA(),IF(RTD(\"cqg.rtd\", ,\"ContractData\", U53,\"LastTradeorSettle\",,\"T\")=\"\",NA(),RTD(\"cqg.rtd\", ,\"ContractData\", U53,\"LastTradeorSettle\",,\"T\")))","v":3},null,{"$f":"IF(LEFT(RTD(\"cqg.rtd\",,\"StudyData\",U53,  \"Bar\",, \"Close\",\"D\",\"-1\",\"All\",,,,\"T\"),3)=\"777\",NA(),IF(RTD(\"cqg.rtd\",,\"StudyData\",U53,  \"Bar\",, \"Close\",\"D\",\"-1\",\"All\",,,,\"T\")=\"\",NA(),RTD(\"cqg.rtd\",,\"StudyData\",U53,  \"Bar\",, \"Close\",\"D\",\"-1\",\"All\",,,,\"T\")))","v":2.5},{"$f":"IF(LEFT(RTD(\"cqg.rtd\",,\"StudyData\",U53,  \"Bar\",, \"Close\",\"D\",\"-5\",\"All\",,,,\"T\"),3)=\"777\",NA(),IF(RTD(\"cqg.rtd\",,\"StudyData\",U53,  \"Bar\",, \"Close\",\"D\",\"-5\",\"All\",,,,\"T\")=\"\",NA(),RTD(\"cqg.rtd\",,\"StudyData\",U53,  \"Bar\",, \"Close\",\"D\",\"-5\",\"All\",,,,\"T\")))","v":1},{"$f":"IF(LEFT(RTD(\"cqg.rtd\",,\"StudyData\",U53,  \"Bar\",, \"Close\",\"D\",\"-20\",\"All\",,,,\"T\"),3)=\"777\",NA(),IF(RTD(\"cqg.rtd\",,\"StudyData\",U53,  \"Bar\",, \"Close\",\"D\",\"-20\",\"All\",,,,\"T\")=\"\",NA(),RTD(\"cqg.rtd\",,\"StudyData\",U53,  \"Bar\",, \"Close\",\"D\",\"-20\",\"All\",,,,\"T\")))","v":2},0.5,2,1,null,20,"SR3S12Z27",{"$f":"IF(LEFT(RTD(\"cqg.rtd\", ,\"ContractData\", AF53,\"LastTradeorSettle\",,\"T\"),3)=\"768\",NA(),IF(RTD(\"cqg.rtd\", ,\"ContractData\", AF53,\"LastTradeorSettle\",,\"T\")=\"\",NA(),RTD(\"cqg.rtd\", ,\"ContractData\", AF53,\"LastTradeorSettle\",,\"T\")))","v":13},null,{"$f":"IF(LEFT(RTD(\"cqg.rtd\",,\"StudyData\",AF53,  \"Bar\",, \"Close\",\"D\",\"-1\",\"All\",,,,\"T\"),3)=\"777\",NA(),IF(RTD(\"cqg.rtd\",,\"StudyData\",AF53,  \"Bar\",, \"Close\",\"D\",\"-1\",\"All\",,,,\"T\")=\"\",NA(),RTD(\"cqg.rtd\",,\"StudyData\",AF53,  \"Bar\",, \"Close\",\"D\",\"-1\",\"All\",,,,\"T\")))","v":11},{"$f":"IF(LEFT(RTD(\"cqg.rtd\",,\"StudyData\",AF53,  \"Bar\",, \"Close\",\"D\",\"-5\",\"All\",,,,\"T\"),3)=\"777\",NA(),IF(RTD(\"cqg.rtd\",,\"StudyData\",AF53,  \"Bar\",, \"Close\",\"D\",\"-5\",\"All\",,,,\"T\")=\"\",NA(),RTD(\"cqg.rtd\",,\"StudyData\",AF53,  \"Bar\",, \"Close\",\"D\",\"-5\",\"All\",,,,\"T\")))","v":8},{"$f":"IF(LEFT(RTD(\"cqg.rtd\",,\"StudyData\",AF53,  \"Bar\",, \"Close\",\"D\",\"-20\",\"All\",,,,\"T\"),3)=\"777\",NA(),IF(RTD(\"cqg.rtd\",,\"StudyData\",AF53,  \"Bar\",, \"Close\",\"D\",\"-20\",\"All\",,,,\"T\")=\"\",NA(),RTD(\"cqg.rtd\",,\"StudyData\",AF53,  \"Bar\",, \"Close\",\"D\",\"-20\",\"All\",,,,\"T\")))","v":8.5},2,5,4.5]
[null,null,null,null,null,null,null,null,null,null,null,null,null,null,null,null,null,20,null,21,"SR3S3H28",{"$f":"IF(LEFT(RTD(\"cqg.rtd\", ,\"ContractData\", U54,\"LastTradeorSettle\",,\"T\"),3)=\"768\",NA(),IF(RTD(\"cqg.rtd\", ,\"ContractData\", U54,\"LastTradeorSettle\",,\"T\")=\"\",NA(),RTD(\"cqg.rtd\", ,\"ContractData\", U54,\"LastTradeorSettle\",,\"T\")))","v":3},null,{"$f":"IF(LEFT(RTD(\"cqg.rtd\",,\"StudyData\",U54,  \"Bar\",, \"Close\",\"D\",\"-1\",\"All\",,,,\"T\"),3)=\"777\",NA(),IF(RTD(\"cqg.rtd\",,\"StudyData\",U54,  \"Bar\",, \"Close\",\"D\",\"-1\",\"All\",,,,\"T\")=\"\",NA(),RTD(\"cqg.rtd\",,\"StudyData\",U54,  \"Bar\",, \"Close\",\"D\",\"-1\",\"All\",,,,\"T\")))","v":3},{"$f":"IF(LEFT(RTD(\"cqg.rtd\",,\"StudyData\",U54,  \"Bar\",, \"Close\",\"D\",\"-5\",\"All\",,,,\"T\"),3)=\"777\",NA(),IF(RTD(\"cqg.rtd\",,\"StudyData\",U54,  \"Bar\",, \"Close\",\"D\",\"-5\",\"All\",,,,\"T\")=\"\",NA(),RTD(\"cqg.rtd\",,\"StudyData\",U54,  \"Bar\",, \"Close\",\"D\",\"-5\",\"All\",,,,\"T\")))","v":2},{"$f":"IF(LEFT(RTD(\"cqg.rtd\",,\"StudyData\",U54,  \"Bar\",, \"Close\",\"D\",\"-20\",\"All\",,,,\"T\"),3)=\"777\",NA(),IF(RTD(\"cqg.rtd\",,\"StudyData\",U54,  \"Bar\",, \"Close\",\"D\",\"-20\",\"All\",,,,\"T\")=\"\",NA(),RTD(\"cqg.rtd\",,\"StudyData\",U54,  \"Bar\",, \"Close\",\"D\",\"-20\",\"All\",,,,\"T\")))","v":1.5},0,1,1.5,null,21,"SR3S12H28",{"$f":"IF(LEFT(RTD(\"cqg.rtd\", ,\"ContractData\", AF54,\"LastTradeorSettle\",,\"T\"),3)=\"768\",NA(),IF(RTD(\"cqg.rtd\", ,\"ContractData\", AF54,\"LastTradeorSettle\",,\"T\")=\"\",NA(),RTD(\"cqg.rtd\", ,\"ContractData\", AF54,\"LastTradeorSettle\",,\"T\")))","v":{"$error":"#N/A"}},null,{"$f":"IF(LEFT(RTD(\"cqg.rtd\",,\"StudyData\",AF54,  \"Bar\",, \"Close\",\"D\",\"-1\",\"All\",,,,\"T\"),3)=\"777\",NA(),IF(RTD(\"cqg.rtd\",,\"StudyData\",AF54,  \"Bar\",, \"Close\",\"D\",\"-1\",\"All\",,,,\"T\")=\"\",NA(),RTD(\"cqg.rtd\",,\"StudyData\",AF54,  \"Bar\",, \"Close\",\"D\",\"-1\",\"All\",,,,\"T\")))","v":10},{"$f":"IF(LEFT(RTD(\"cqg.rtd\",,\"StudyData\",AF54,  \"Bar\",, \"Close\",\"D\",\"-5\",\"All\",,,,\"T\"),3)=\"777\",NA(),IF(RTD(\"cqg.rtd\",,\"StudyData\",AF54,  \"Bar\",, \"Close\",\"D\",\"-5\",\"All\",,,,\"T\")=\"\",NA(),RTD(\"cqg.rtd\",,\"StudyData\",AF54,  \"Bar\",, \"Close\",\"D\",\"-5\",\"All\",,,,\"T\")))","v":8},{"$f":"IF(LEFT(RTD(\"cqg.rtd\",,\"StudyData\",AF54,  \"Bar\",, \"Close\",\"D\",\"-20\",\"All\",,,,\"T\"),3)=\"777\",NA(),IF(RTD(\"cqg.rtd\",,\"StudyData\",AF54,  \"Bar\",, \"Close\",\"D\",\"-20\",\"All\",,,,\"T\")=\"\",NA(),RTD(\"cqg.rtd\",,\"StudyData\",AF54,  \"Bar\",, \"Close\",\"D\",\"-20\",\"All\",,,,\"T\")))","v":9},{"$error":"#N/A"},{"$error":"#N/A"},{"$error":"#N/A"}]
[null,null,null,null,null,null,null,null,null,null,null,null,null,null,null,null,null,21]
[null,null,null,null,null,null,null,null,null,null,null,null,null,null,null,null,null,22]
[null,null,null,null,null,null,null,null,null,null,null,null,null,null,null,null,null,23]
[null,null,null,null,null,null,null,null,null,null,null,null,null,null,null,null,null,24]
[null,null,null,null,null,null,null,null,null,null,null,null,null,null,null,null,null,25]