{"text_format":"1","workbook":"xlsx","n_sheets":9,"sheets":["Sheet3","Sheet4","MainDisplay","Vol1","Display","Ranking","Symbols","Data","ChartData"],"not_rendered":{"charts":3,"images":6,"macros":1,"external_links":0,"defined_names":0,"comments":0,"pivot_tables":0},"unopened":[],"bounds":{"document_bytes":16777216,"sheet_cells":100000,"rows_first":2000,"rows_last":500,"rows_between":2000,"halvings":0,"cell_chars":16384,"cell_head_chars":4096},"cells_cut":0,"cells_raw":0,"read":"whole","date_system":"1900"}

{"sheet":"Sheet3","index":0,"n_rows":169,"n_cols":40,"rows_kept":169,"cut":false,"hidden":true,"merged":[[25,3,25,5]]}
[{"$f":"IF(LEFT(F12,2)=\"S.\",0,F36)","v":96},{"$f":"IF(LEFT(D12,2)=\"S.\",F16,F14)","v":"01:00:00"},{"$f":" RTD(\"cqg.rtd\",,\"StudyData\",$D$12, \"Bar\", \"\", \"Time\",\"D\",\"0\",,,,,\"T\")","v":"2021-10-13"},{"$f":"YEAR(C1)","v":2021},{"$f":"MONTH(C1)","v":10},{"$f":"DAY(C1)","v":13},null,{"$f":"IF(A1=\"\",NA(),RTD(\"cqg.rtd\",,\"StudyData\",\"Close(\"&$D$12&\") when LocalYear(\"&$D$12&\")=\"&$D$1&\" and localMonth(\"&$D$12&\") =\"&$E$1&\" and LocalDay(\"&$D$12&\")=\"&$F$1&\" and Barix(\"&$D$12&\",reference:=StartOfDay)=\"&A1&\"\",\"Bar\",\"\",\"Close\",\"5\",\"0\",\"All\",,,\"False\",\"T\",\"EveryTick\"))","v":4336.75},{"$f":"IFERROR((H1-$G$2)/$G$2,NA())","v":-9.2149974082819794E-4},{"$f":"IF(A1=\"\",NA(),RTD(\"cqg.rtd\",,\"StudyData\", \"Close(\"&$D$12&\") when LocalYear(\"&$D$12&\")=\"&$D$2&\" and localMonth(\"&$D$12&\") =\"&$E$2&\" and LocalDay(\"&$D$12&\")=\"&$F$2&\" and Barix(\"&$D$12&\",reference:=StartOfDay)=\"&A1&\"\", \"Bar\", \"\", \"Close\",\"5\",\"0\",\"All\",,,\"False\",\"T\",\"EveryTick\"))","v":4326},{"$f":"IFERROR((J1-$G$3)/$G$3,NA())","v":-5.7458055619397843E-3},{"$f":"IF(A1=\"\",NA(),RTD(\"cqg.rtd\",,\"StudyData\", \"Close(\"&$D$12&\") when LocalYear(\"&$D$12&\")=\"&$D$3&\" and localMonth(\"&$D$12&\") =\"&$E$3&\" and LocalDay(\"&$D$12&\")=\"&$F$3&\" and Barix(\"&$D$12&\",reference:=StartOfDay)=\"&A1&\"\", \"Bar\", \"\", \"Close\",\"5\",\"0\",\"All\",,,\"False\",\"T\",\"EveryTick\"))","v":4380.25},{"$f":"IFERROR((L1-$G$4)/$G$4,NA())","v":-4.5638655941582522E-4},{"$f":"IF(A1=\"\",NA(),RTD(\"cqg.rtd\",,\"StudyData\", \"Close(\"&$D$12&\") when LocalYear(\"&$D$12&\")=\"&$D$4&\" and localMonth(\"&$D$12&\") =\"&$E$4&\" and LocalDay(\"&$D$12&\")=\"&$F$4&\" and Barix(\"&$D$12&\",reference:=StartOfDay)=\"&A1&\"\", \"Bar\", \"\", \"Close\",\"5\",\"0\",\"All\",,,\"False\",\"T\",\"EveryTick\"))","v":4389.25},{"$f":"IFERROR((N1-$G$5)/$G$5,NA())","v":-1.7084282460136675E-4},{"$f":"IF(A1=\"\",NA(),RTD(\"cqg.rtd\",,\"StudyData\", \"Close(\"&$D$12&\") when LocalYear(\"&$D$12&\")=\"&$D$5&\" and localMonth(\"&$D$12&\") =\"&$E$5&\" and LocalDay(\"&$D$12&\")=\"&$F$5&\" and Barix(\"&$D$12&\",reference:=StartOfDay)=\"&A1&\"\", \"Bar\", \"\", \"Close\",\"5\",\"0\",\"All\",,,\"False\",\"T\",\"EveryTick\"))","v":4377.5},{"$f":"IFERROR((P1-$G$6)/$G$6,NA())","v":5.3973357831878736E-3},{"$f":"IF(A1=\"\",NA(),RTD(\"cqg.rtd\",,\"StudyData\", \"Close(\"&$D$12&\") when LocalYear(\"&$D$12&\")=\"&$D$6&\" and localMonth(\"&$D$12&\") =\"&$E$6&\" and LocalDay(\"&$D$12&\")=\"&$F$6&\" and Barix(\"&$D$12&\",reference:=StartOfDay)=\"&A1&\"\", \"Bar\", \"\", \"Close\",\"5\",\"0\",\"All\",,,\"False\",\"T\",\"EveryTick\"))","v":4312},{"$f":"IFERROR((R1-$G$7)/$G$7,NA())","v":-5.076142131979695E-3},{"$f":"IF(A1=\"\",NA(),RTD(\"cqg.rtd\",,\"StudyData\",\"Close(\"&$D$12&\") when LocalYear(\"&$D$12&\")=\"&$D$7&\" and localMonth(\"&$D$12&\") =\"&$E$7&\" and LocalDay(\"&$D$12&\")=\"&$F$7&\" and Barix(\"&$D$12&\",reference:=StartOfDay)=\"&A1&\"\",\"Bar\",\"\",\"Close\",\"5\",\"0\",\"All\",,,\"False\",\"T\",\"EveryTick\"))","v":4293.75},{"$f":"IFERROR((T1-$G$8)/$G$8,NA())","v":5.8258083309059127E-4},{"$f":"IF(A1=\"\",NA(),RTD(\"cqg.rtd\",,\"StudyData\",\"Close(\"&$D$12&\") when LocalYear(\"&$D$12&\")=\"&$D$8&\" and localMonth(\"&$D$12&\") =\"&$E$8&\" and LocalDay(\"&$D$12&\")=\"&$F$8&\" and Barix(\"&$D$12&\",reference:=StartOfDay)=\"&A1&\"\",\"Bar\",\"\",\"Close\",\"5\",\"0\",\"All\",,,\"False\",\"T\",\"EveryTick\"))","v":4332.75},{"$f":"IFERROR((V1-$G$9)/$G$9,NA())","v":-2.5323741007194246E-3},{"$f":"IF(A1=\"\",NA(),RTD(\"cqg.rtd\",,\"StudyData\",\"Close(\"&$D$12&\") when LocalYear(\"&$D$12&\")=\"&$D$9&\" and localMonth(\"&$D$12&\") =\"&$E$9&\" and LocalDay(\"&$D$12&\")=\"&$F$9&\" and Barix(\"&$D$12&\",reference:=StartOfDay)=\"&A1&\"\",\"Bar\",\"\",\"Close\",\"5\",\"0\",\"All\",,,\"False\",\"T\",\"EveryTick\"))","v":4282},{"$f":"IFERROR((X1-$G$10)/$G$10,NA())","v":-3.6647082775871096E-3},{"$f":"IF(A1=\"\",NA(),RTD(\"cqg.rtd\",,\"StudyData\",\"Close(\"&$D$12&\") when LocalYear(\"&$D$12&\")=\"&$D$10&\" and localMonth(\"&$D$12&\") =\"&$E$10&\" and LocalDay(\"&$D$12&\")=\"&$F$10&\" and Barix(\"&$D$12&\",reference:=StartOfDay)=\"&A1&\"\",\"Bar\",\"\",\"Close\",\"5\",\"0\",\"All\",,,\"False\",\"T\",\"EveryTick\"))","v":4381},{"$f":"IFERROR((Z1-$G$11)/$G$11,NA())","v":7.1843209379849416E-3},{"$f":"RANK(AD1,$AD$1:$AD$10)+COUNTIF($AD$1:AD1,AD1)-1","v":8},{"$f":"DATE(D1,E1,F1)","v":"2021-10-13"},{"$f":"IFERROR(VLOOKUP(MAX(AE2:AE168),A1:I168,9,FALSE),\"\")","v":-1.1518746760352473E-3},null,1,{"$f":"VLOOKUP(AF1,$AB$1:$AD$10,2,FALSE)","v":"2021-10-05"},{"$f":"VLOOKUP(AF1,$AB$1:$AD$10,3,FALSE)","v":1.4622778910573841E-2},null,null,{"$f":"AG1","v":"2021-10-05"},{"$f":"AC1","v":"2021-10-13"},0,{"$f":"VLOOKUP(AK1,$AL$1:$AM$10,2,FALSE)","v":6}]
[{"$f":"IF($D$12=\"QGA\",\"\",A1+1)","v":97},{"$f":"B1+5/60/24","v":"01:05:00"},{"$f":" RTD(\"cqg.rtd\",,\"StudyData\",$D$12, \"Bar\", \"\", \"Time\",\"D\",\"-1\",,,,,\"T\")","v":"2021-10-12"},2021,10,12,{"$f":" RTD(\"cqg.rtd\",,\"StudyData\",$D$12, \"Bar\", \"\", \"Close\",\"D\",\"-1\",,,,,\"T\")","v":4340.75},{"$f":"IF(A2=\"\",NA(),RTD(\"cqg.rtd\",,\"StudyData\",\"Close(\"&$D$12&\") when LocalYear(\"&$D$12&\")=\"&$D$1&\" and localMonth(\"&$D$12&\") =\"&$E$1&\" and LocalDay(\"&$D$12&\")=\"&$F$1&\" and Barix(\"&$D$12&\",reference:=StartOfDay)=\"&A2&\"\",\"Bar\",\"\",\"Close\",\"5\",\"0\",\"All\",,,\"False\",\"T\",\"EveryTick\"))","v":4334.5},-1.4398433450440592E-3,{"$f":"IF(A2=\"\",NA(),RTD(\"cqg.rtd\",,\"StudyData\", \"Close(\"&$D$12&\") when LocalYear(\"&$D$12&\")=\"&$D$2&\" and localMonth(\"&$D$12&\") =\"&$E$2&\" and LocalDay(\"&$D$12&\")=\"&$F$2&\" and Barix(\"&$D$12&\",reference:=StartOfDay)=\"&A2&\"\", \"Bar\", \"\", \"Close\",\"5\",\"0\",\"All\",,,\"False\",\"T\",\"EveryTick\"))","v":4329},-5.0563088945070099E-3,{"$f":"IF(A2=\"\",NA(),RTD(\"cqg.rtd\",,\"StudyData\", \"Close(\"&$D$12&\") when LocalYear(\"&$D$12&\")=\"&$D$3&\" and localMonth(\"&$D$12&\") =\"&$E$3&\" and LocalDay(\"&$D$12&\")=\"&$F$3&\" and Barix(\"&$D$12&\",reference:=StartOfDay)=\"&A2&\"\", \"Bar\", \"\", \"Close\",\"5\",\"0\",\"All\",,,\"False\",\"T\",\"EveryTick\"))","v":4374},-1.8825945575902789E-3,{"$f":"IF(A2=\"\",NA(),RTD(\"cqg.rtd\",,\"StudyData\", \"Close(\"&$D$12&\") when LocalYear(\"&$D$12&\")=\"&$D$4&\" and localMonth(\"&$D$12&\") =\"&$E$4&\" and LocalDay(\"&$D$12&\")=\"&$F$4&\" and Barix(\"&$D$12&\",reference:=StartOfDay)=\"&A2&\"\", \"Bar\", \"\", \"Close\",\"5\",\"0\",\"All\",,,\"False\",\"T\",\"EveryTick\"))","v":4390},0,{"$f":"IF(A2=\"\",NA(),RTD(\"cqg.rtd\",,\"StudyData\", \"Close(\"&$D$12&\") when LocalYear(\"&$D$12&\")=\"&$D$5&\" and localMonth(\"&$D$12&\") =\"&$E$5&\" and LocalDay(\"&$D$12&\")=\"&$F$5&\" and Barix(\"&$D$12&\",reference:=StartOfDay)=\"&A2&\"\", \"Bar\", \"\", \"Close\",\"5\",\"0\",\"All\",,,\"False\",\"T\",\"EveryTick\"))","v":4380},5.9715204409738175E-3,{"$f":"IF(A2=\"\",NA(),RTD(\"cqg.rtd\",,\"StudyData\", \"Close(\"&$D$12&\") when LocalYear(\"&$D$12&\")=\"&$D$6&\" and localMonth(\"&$D$12&\") =\"&$E$6&\" and LocalDay(\"&$D$12&\")=\"&$F$6&\" and Barix(\"&$D$12&\",reference:=StartOfDay)=\"&A2&\"\", \"Bar\", \"\", \"Close\",\"5\",\"0\",\"All\",,,\"False\",\"T\",\"EveryTick\"))","v":4310.25},-5.4799261652053533E-3,{"$f":"IF(A2=\"\",NA(),RTD(\"cqg.rtd\",,\"StudyData\",\"Close(\"&$D$12&\") when LocalYear(\"&$D$12&\")=\"&$D$7&\" and localMonth(\"&$D$12&\") =\"&$E$7&\" and LocalDay(\"&$D$12&\")=\"&$F$7&\" and Barix(\"&$D$12&\",reference:=StartOfDay)=\"&A2&\"\",\"Bar\",\"\",\"Close\",\"5\",\"0\",\"All\",,,\"False\",\"T\",\"EveryTick\"))","v":4288.5},-6.4083891639965041E-4,{"$f":"IF(A2=\"\",NA(),RTD(\"cqg.rtd\",,\"StudyData\",\"Close(\"&$D$12&\") when LocalYear(\"&$D$12&\")=\"&$D$8&\" and localMonth(\"&$D$12&\") =\"&$E$8&\" and LocalDay(\"&$D$12&\")=\"&$F$8&\" and Barix(\"&$D$12&\",reference:=StartOfDay)=\"&A2&\"\",\"Bar\",\"\",\"Close\",\"5\",\"0\",\"All\",,,\"False\",\"T\",\"EveryTick\"))","v":4330.25},-3.1079136690647484E-3,{"$f":"IF(A2=\"\",NA(),RTD(\"cqg.rtd\",,\"StudyData\",\"Close(\"&$D$12&\") when LocalYear(\"&$D$12&\")=\"&$D$9&\" and localMonth(\"&$D$12&\") =\"&$E$9&\" and LocalDay(\"&$D$12&\")=\"&$F$9&\" and Barix(\"&$D$12&\",reference:=StartOfDay)=\"&A2&\"\",\"Bar\",\"\",\"Close\",\"5\",\"0\",\"All\",,,\"False\",\"T\",\"EveryTick\"))","v":4281.5},-3.7810482229073353E-3,{"$f":"IF(A2=\"\",NA(),RTD(\"cqg.rtd\",,\"StudyData\",\"Close(\"&$D$12&\") when LocalYear(\"&$D$12&\")=\"&$D$10&\" and localMonth(\"&$D$12&\") =\"&$E$10&\" and LocalDay(\"&$D$12&\")=\"&$F$10&\" and Barix(\"&$D$12&\",reference:=StartOfDay)=\"&A2&\"\",\"Bar\",\"\",\"Close\",\"5\",\"0\",\"All\",,,\"False\",\"T\",\"EveryTick\"))","v":4382.5},7.5291683430082192E-3,{"$f":"RANK(AD2,$AD$1:$AD$10)+COUNTIF($AD$1:AD2,AD2)-1","v":7},"2021-10-12",{"$f":"IFERROR(VLOOKUP(MAX(AE2:AE177),A1:K177,11,FALSE),\"\")","v":-5.7458055619397838E-5},{"$f":"IFERROR(IF(AND(H1<>\"\",H2<>\"\",H3=\"\"),A2,\"\"),\"\")","v":""},2,"2021-10-07",1.3148828663298117E-2,null,null,"2021-10-07","2021-10-12",1,4]
[98,{"$f":"B2+5/60/24","v":"01:10:00"},{"$f":" RTD(\"cqg.rtd\",,\"StudyData\",$D$12, \"Bar\", \"\", \"Time\",\"D\",\"-2\",,,,,\"T\")","v":"2021-10-11"},2021,10,11,{"$f":" RTD(\"cqg.rtd\",,\"StudyData\",$D$12, \"Bar\", \"\", \"Close\",\"D\",\"-2\",,,,,\"T\")","v":4351},{"$f":"IF(A3=\"\",NA(),RTD(\"cqg.rtd\",,\"StudyData\",\"Close(\"&$D$12&\") when LocalYear(\"&$D$12&\")=\"&$D$1&\" and localMonth(\"&$D$12&\") =\"&$E$1&\" and LocalDay(\"&$D$12&\")=\"&$F$1&\" and Barix(\"&$D$12&\",reference:=StartOfDay)=\"&A3&\"\",\"Bar\",\"\",\"Close\",\"5\",\"0\",\"All\",,,\"False\",\"T\",\"EveryTick\"))","v":4333},-1.7854057478546334E-3,{"$f":"IF(A3=\"\",NA(),RTD(\"cqg.rtd\",,\"StudyData\", \"Close(\"&$D$12&\") when LocalYear(\"&$D$12&\")=\"&$D$2&\" and localMonth(\"&$D$12&\") =\"&$E$2&\" and LocalDay(\"&$D$12&\")=\"&$F$2&\" and Barix(\"&$D$12&\",reference:=StartOfDay)=\"&A3&\"\", \"Bar\", \"\", \"Close\",\"5\",\"0\",\"All\",,,\"False\",\"T\",\"EveryTick\"))","v":4328.25},-5.2286830613652033E-3,{"$f":"IF(A3=\"\",NA(),RTD(\"cqg.rtd\",,\"StudyData\", \"Close(\"&$D$12&\") when LocalYear(\"&$D$12&\")=\"&$D$3&\" and localMonth(\"&$D$12&\") =\"&$E$3&\" and LocalDay(\"&$D$12&\")=\"&$F$3&\" and Barix(\"&$D$12&\",reference:=StartOfDay)=\"&A3&\"\", \"Bar\", \"\", \"Close\",\"5\",\"0\",\"All\",,,\"False\",\"T\",\"EveryTick\"))","v":4372.25},-2.2819327970791262E-3,{"$f":"IF(A3=\"\",NA(),RTD(\"cqg.rtd\",,\"StudyData\", \"Close(\"&$D$12&\") when LocalYear(\"&$D$12&\")=\"&$D$4&\" and localMonth(\"&$D$12&\") =\"&$E$4&\" and LocalDay(\"&$D$12&\")=\"&$F$4&\" and Barix(\"&$D$12&\",reference:=StartOfDay)=\"&A3&\"\", \"Bar\", \"\", \"Close\",\"5\",\"0\",\"All\",,,\"False\",\"T\",\"EveryTick\"))","v":4391.25},2.8473804100227789E-4,{"$f":"IF(A3=\"\",NA(),RTD(\"cqg.rtd\",,\"StudyData\", \"Close(\"&$D$12&\") when LocalYear(\"&$D$12&\")=\"&$D$5&\" and localMonth(\"&$D$12&\") =\"&$E$5&\" and LocalDay(\"&$D$12&\")=\"&$F$5&\" and Barix(\"&$D$12&\",reference:=StartOfDay)=\"&A3&\"\", \"Bar\", \"\", \"Close\",\"5\",\"0\",\"All\",,,\"False\",\"T\",\"EveryTick\"))","v":4379.25},5.7992650436380338E-3,{"$f":"IF(A3=\"\",NA(),RTD(\"cqg.rtd\",,\"StudyData\", \"Close(\"&$D$12&\") when LocalYear(\"&$D$12&\")=\"&$D$6&\" and localMonth(\"&$D$12&\") =\"&$E$6&\" and LocalDay(\"&$D$12&\")=\"&$F$6&\" and Barix(\"&$D$12&\",reference:=StartOfDay)=\"&A3&\"\", \"Bar\", \"\", \"Close\",\"5\",\"0\",\"All\",,,\"False\",\"T\",\"EveryTick\"))","v":4309.75},-5.5952930318412548E-3,{"$f":"IF(A3=\"\",NA(),RTD(\"cqg.rtd\",,\"StudyData\",\"Close(\"&$D$12&\") when LocalYear(\"&$D$12&\")=\"&$D$7&\" and localMonth(\"&$D$12&\") =\"&$E$7&\" and LocalDay(\"&$D$12&\")=\"&$F$7&\" and Barix(\"&$D$12&\",reference:=StartOfDay)=\"&A3&\"\",\"Bar\",\"\",\"Close\",\"5\",\"0\",\"All\",,,\"False\",\"T\",\"EveryTick\"))","v":4288.25},-6.9909699970870955E-4,{"$f":"IF(A3=\"\",NA(),RTD(\"cqg.rtd\",,\"StudyData\",\"Close(\"&$D$12&\") when LocalYear(\"&$D$12&\")=\"&$D$8&\" and localMonth(\"&$D$12&\") =\"&$E$8&\" and LocalDay(\"&$D$12&\")=\"&$F$8&\" and Barix(\"&$D$12&\",reference:=StartOfDay)=\"&A3&\"\",\"Bar\",\"\",\"Close\",\"5\",\"0\",\"All\",,,\"False\",\"T\",\"EveryTick\"))","v":4326.75},-3.9136690647482014E-3,{"$f":"IF(A3=\"\",NA(),RTD(\"cqg.rtd\",,\"StudyData\",\"Close(\"&$D$12&\") when LocalYear(\"&$D$12&\")=\"&$D$9&\" and localMonth(\"&$D$12&\") =\"&$E$9&\" and LocalDay(\"&$D$12&\")=\"&$F$9&\" and Barix(\"&$D$12&\",reference:=StartOfDay)=\"&A3&\"\",\"Bar\",\"\",\"Close\",\"5\",\"0\",\"All\",,,\"False\",\"T\",\"EveryTick\"))","v":4275.5},-5.1771275667500437E-3,{"$f":"IF(A3=\"\",NA(),RTD(\"cqg.rtd\",,\"StudyData\",\"Close(\"&$D$12&\") when LocalYear(\"&$D$12&\")=\"&$D$10&\" and localMonth(\"&$D$12&\") =\"&$E$10&\" and LocalDay(\"&$D$12&\")=\"&$F$10&\" and Barix(\"&$D$12&\",reference:=StartOfDay)=\"&A3&\"\",\"Bar\",\"\",\"Close\",\"5\",\"0\",\"All\",,,\"False\",\"T\",\"EveryTick\"))","v":4383.5},7.759066613023737E-3,{"$f":"RANK(AD3,$AD$1:$AD$10)+COUNTIF($AD$1:AD3,AD3)-1","v":3},"2021-10-11",{"$f":"IFERROR(VLOOKUP(MAX(AE2:AE177),A1:M177,13,FALSE),\"\")","v":3.1947059159107764E-3},"",3,"2021-10-11",3.1947059159107764E-3,null,null,"2021-10-11","2021-10-11",2,2]
[99,"01:15:00",{"$f":" RTD(\"cqg.rtd\",,\"StudyData\",$D$12, \"Bar\", \"\", \"Time\",\"D\",\"-3\",,,,,\"T\")","v":"2021-10-08"},2021,10,8,{"$f":" RTD(\"cqg.rtd\",,\"StudyData\",$D$12, \"Bar\", \"\", \"Close\",\"D\",\"-3\",,,,,\"T\")","v":4382.25},{"$f":"IF(A4=\"\",NA(),RTD(\"cqg.rtd\",,\"StudyData\",\"Close(\"&$D$12&\") when LocalYear(\"&$D$12&\")=\"&$D$1&\" and localMonth(\"&$D$12&\") =\"&$E$1&\" and LocalDay(\"&$D$12&\")=\"&$F$1&\" and Barix(\"&$D$12&\",reference:=StartOfDay)=\"&A4&\"\",\"Bar\",\"\",\"Close\",\"5\",\"0\",\"All\",,,\"False\",\"T\",\"EveryTick\"))","v":4332.5},-1.9005932154581582E-3,{"$f":"IF(A4=\"\",NA(),RTD(\"cqg.rtd\",,\"StudyData\", \"Close(\"&$D$12&\") when LocalYear(\"&$D$12&\")=\"&$D$2&\" and localMonth(\"&$D$12&\") =\"&$E$2&\" and LocalDay(\"&$D$12&\")=\"&$F$2&\" and Barix(\"&$D$12&\",reference:=StartOfDay)=\"&A4&\"\", \"Bar\", \"\", \"Close\",\"5\",\"0\",\"All\",,,\"False\",\"T\",\"EveryTick\"))","v":4326},-5.7458055619397843E-3,{"$f":"IF(A4=\"\",NA(),RTD(\"cqg.rtd\",,\"StudyData\", \"Close(\"&$D$12&\") when LocalYear(\"&$D$12&\")=\"&$D$3&\" and localMonth(\"&$D$12&\") =\"&$E$3&\" and LocalDay(\"&$D$12&\")=\"&$F$3&\" and Barix(\"&$D$12&\",reference:=StartOfDay)=\"&A4&\"\", \"Bar\", \"\", \"Close\",\"5\",\"0\",\"All\",,,\"False\",\"T\",\"EveryTick\"))","v":4370},-2.7953676764219293E-3,{"$f":"IF(A4=\"\",NA(),RTD(\"cqg.rtd\",,\"StudyData\", \"Close(\"&$D$12&\") when LocalYear(\"&$D$12&\")=\"&$D$4&\" and localMonth(\"&$D$12&\") =\"&$E$4&\" and LocalDay(\"&$D$12&\")=\"&$F$4&\" and Barix(\"&$D$12&\",reference:=StartOfDay)=\"&A4&\"\", \"Bar\", \"\", \"Close\",\"5\",\"0\",\"All\",,,\"False\",\"T\",\"EveryTick\"))","v":4391.5},3.416856492027335E-4,{"$f":"IF(A4=\"\",NA(),RTD(\"cqg.rtd\",,\"StudyData\", \"Close(\"&$D$12&\") when LocalYear(\"&$D$12&\")=\"&$D$5&\" and localMonth(\"&$D$12&\") =\"&$E$5&\" and LocalDay(\"&$D$12&\")=\"&$F$5&\" and Barix(\"&$D$12&\",reference:=StartOfDay)=\"&A4&\"\", \"Bar\", \"\", \"Close\",\"5\",\"0\",\"All\",,,\"False\",\"T\",\"EveryTick\"))","v":4381.25},6.2586127698667894E-3,{"$f":"IF(A4=\"\",NA(),RTD(\"cqg.rtd\",,\"StudyData\", \"Close(\"&$D$12&\") when LocalYear(\"&$D$12&\")=\"&$D$6&\" and localMonth(\"&$D$12&\") =\"&$E$6&\" and LocalDay(\"&$D$12&\")=\"&$F$6&\" and Barix(\"&$D$12&\",reference:=StartOfDay)=\"&A4&\"\", \"Bar\", \"\", \"Close\",\"5\",\"0\",\"All\",,,\"False\",\"T\",\"EveryTick\"))","v":4313.25},-4.78772496538994E-3,{"$f":"IF(A4=\"\",NA(),RTD(\"cqg.rtd\",,\"StudyData\",\"Close(\"&$D$12&\") when LocalYear(\"&$D$12&\")=\"&$D$7&\" and localMonth(\"&$D$12&\") =\"&$E$7&\" and LocalDay(\"&$D$12&\")=\"&$F$7&\" and Barix(\"&$D$12&\",reference:=StartOfDay)=\"&A4&\"\",\"Bar\",\"\",\"Close\",\"5\",\"0\",\"All\",,,\"False\",\"T\",\"EveryTick\"))","v":4285.5},-1.33993591610836E-3,{"$f":"IF(A4=\"\",NA(),RTD(\"cqg.rtd\",,\"StudyData\",\"Close(\"&$D$12&\") when LocalYear(\"&$D$12&\")=\"&$D$8&\" and localMonth(\"&$D$12&\") =\"&$E$8&\" and LocalDay(\"&$D$12&\")=\"&$F$8&\" and Barix(\"&$D$12&\",reference:=StartOfDay)=\"&A4&\"\",\"Bar\",\"\",\"Close\",\"5\",\"0\",\"All\",,,\"False\",\"T\",\"EveryTick\"))","v":4323},-4.7769784172661872E-3,{"$f":"IF(A4=\"\",NA(),RTD(\"cqg.rtd\",,\"StudyData\",\"Close(\"&$D$12&\") when LocalYear(\"&$D$12&\")=\"&$D$9&\" and localMonth(\"&$D$12&\") =\"&$E$9&\" and LocalDay(\"&$D$12&\")=\"&$F$9&\" and Barix(\"&$D$12&\",reference:=StartOfDay)=\"&A4&\"\",\"Bar\",\"\",\"Close\",\"5\",\"0\",\"All\",,,\"False\",\"T\",\"EveryTick\"))","v":4272.5},-5.8751672386713975E-3,{"$f":"IF(A4=\"\",NA(),RTD(\"cqg.rtd\",,\"StudyData\",\"Close(\"&$D$12&\") when LocalYear(\"&$D$12&\")=\"&$D$10&\" and localMonth(\"&$D$12&\") =\"&$E$10&\" and LocalDay(\"&$D$12&\")=\"&$F$10&\" and Barix(\"&$D$12&\",reference:=StartOfDay)=\"&A4&\"\",\"Bar\",\"\",\"Close\",\"5\",\"0\",\"All\",,,\"False\",\"T\",\"EveryTick\"))","v":4386.5},8.4487614230702914E-3,{"$f":"RANK(AD4,$AD$1:$AD$10)+COUNTIF($AD$1:AD4,AD4)-1","v":5},"2021-10-08",{"$f":"IFERROR(VLOOKUP(MAX(AE2:AE177),A1:O177,15,FALSE),\"\")","v":1.8223234624145787E-3},"",4,"2021-10-01",2.9666686056657554E-3,null,null,"2021-10-01","2021-10-08",3,8]
[100,"01:20:00",{"$f":" RTD(\"cqg.rtd\",,\"StudyData\",$D$12, \"Bar\", \"\", \"Time\",\"D\",\"-4\",,,,,\"T\")","v":"2021-10-07"},2021,10,7,{"$f":" RTD(\"cqg.rtd\",,\"StudyData\",$D$12, \"Bar\", \"\", \"Close\",\"D\",\"-4\",,,,,\"T\")","v":4390},{"$f":"IF(A5=\"\",NA(),RTD(\"cqg.rtd\",,\"StudyData\",\"Close(\"&$D$12&\") when LocalYear(\"&$D$12&\")=\"&$D$1&\" and localMonth(\"&$D$12&\") =\"&$E$1&\" and LocalDay(\"&$D$12&\")=\"&$F$1&\" and Barix(\"&$D$12&\",reference:=StartOfDay)=\"&A5&\"\",\"Bar\",\"\",\"Close\",\"5\",\"0\",\"All\",,,\"False\",\"T\",\"EveryTick\"))","v":4332.25},-1.9581869492599204E-3,{"$f":"IF(A5=\"\",NA(),RTD(\"cqg.rtd\",,\"StudyData\", \"Close(\"&$D$12&\") when LocalYear(\"&$D$12&\")=\"&$D$2&\" and localMonth(\"&$D$12&\") =\"&$E$2&\" and LocalDay(\"&$D$12&\")=\"&$F$2&\" and Barix(\"&$D$12&\",reference:=StartOfDay)=\"&A5&\"\", \"Bar\", \"\", \"Close\",\"5\",\"0\",\"All\",,,\"False\",\"T\",\"EveryTick\"))","v":4329.25},-4.9988508388876121E-3,{"$f":"IF(A5=\"\",NA(),RTD(\"cqg.rtd\",,\"StudyData\", \"Close(\"&$D$12&\") when LocalYear(\"&$D$12&\")=\"&$D$3&\" and localMonth(\"&$D$12&\") =\"&$E$3&\" and LocalDay(\"&$D$12&\")=\"&$F$3&\" and Barix(\"&$D$12&\",reference:=StartOfDay)=\"&A5&\"\", \"Bar\", \"\", \"Close\",\"5\",\"0\",\"All\",,,\"False\",\"T\",\"EveryTick\"))","v":4368.5},-3.1376575959837982E-3,{"$f":"IF(A5=\"\",NA(),RTD(\"cqg.rtd\",,\"StudyData\", \"Close(\"&$D$12&\") when LocalYear(\"&$D$12&\")=\"&$D$4&\" and localMonth(\"&$D$12&\") =\"&$E$4&\" and LocalDay(\"&$D$12&\")=\"&$F$4&\" and Barix(\"&$D$12&\",reference:=StartOfDay)=\"&A5&\"\", \"Bar\", \"\", \"Close\",\"5\",\"0\",\"All\",,,\"False\",\"T\",\"EveryTick\"))","v":4391.5},3.416856492027335E-4,{"$f":"IF(A5=\"\",NA(),RTD(\"cqg.rtd\",,\"StudyData\", \"Close(\"&$D$12&\") when LocalYear(\"&$D$12&\")=\"&$D$5&\" and localMonth(\"&$D$12&\") =\"&$E$5&\" and LocalDay(\"&$D$12&\")=\"&$F$5&\" and Barix(\"&$D$12&\",reference:=StartOfDay)=\"&A5&\"\", \"Bar\", \"\", \"Close\",\"5\",\"0\",\"All\",,,\"False\",\"T\",\"EveryTick\"))","v":4382},6.4308681672025723E-3,{"$f":"IF(A5=\"\",NA(),RTD(\"cqg.rtd\",,\"StudyData\", \"Close(\"&$D$12&\") when LocalYear(\"&$D$12&\")=\"&$D$6&\" and localMonth(\"&$D$12&\") =\"&$E$6&\" and LocalDay(\"&$D$12&\")=\"&$F$6&\" and Barix(\"&$D$12&\",reference:=StartOfDay)=\"&A5&\"\", \"Bar\", \"\", \"Close\",\"5\",\"0\",\"All\",,,\"False\",\"T\",\"EveryTick\"))","v":4314.25},-4.5569912321181353E-3,{"$f":"IF(A5=\"\",NA(),RTD(\"cqg.rtd\",,\"StudyData\",\"Close(\"&$D$12&\") when LocalYear(\"&$D$12&\")=\"&$D$7&\" and localMonth(\"&$D$12&\") =\"&$E$7&\" and LocalDay(\"&$D$12&\")=\"&$F$7&\" and Barix(\"&$D$12&\",reference:=StartOfDay)=\"&A5&\"\",\"Bar\",\"\",\"Close\",\"5\",\"0\",\"All\",,,\"False\",\"T\",\"EveryTick\"))","v":4288.25},-6.9909699970870955E-4,{"$f":"IF(A5=\"\",NA(),RTD(\"cqg.rtd\",,\"StudyData\",\"Close(\"&$D$12&\") when LocalYear(\"&$D$12&\")=\"&$D$8&\" and localMonth(\"&$D$12&\") =\"&$E$8&\" and LocalDay(\"&$D$12&\")=\"&$F$8&\" and Barix(\"&$D$12&\",reference:=StartOfDay)=\"&A5&\"\",\"Bar\",\"\",\"Close\",\"5\",\"0\",\"All\",,,\"False\",\"T\",\"EveryTick\"))","v":4325.25},-4.2589928057553961E-3,{"$f":"IF(A5=\"\",NA(),RTD(\"cqg.rtd\",,\"StudyData\",\"Close(\"&$D$12&\") when LocalYear(\"&$D$12&\")=\"&$D$9&\" and localMonth(\"&$D$12&\") =\"&$E$9&\" and LocalDay(\"&$D$12&\")=\"&$F$9&\" and Barix(\"&$D$12&\",reference:=StartOfDay)=\"&A5&\"\",\"Bar\",\"\",\"Close\",\"5\",\"0\",\"All\",,,\"False\",\"T\",\"EveryTick\"))","v":4266},-7.3875865278343316E-3,{"$f":"IF(A5=\"\",NA(),RTD(\"cqg.rtd\",,\"StudyData\",\"Close(\"&$D$12&\") when LocalYear(\"&$D$12&\")=\"&$D$10&\" and localMonth(\"&$D$12&\") =\"&$E$10&\" and LocalDay(\"&$D$12&\")=\"&$F$10&\" and Barix(\"&$D$12&\",reference:=StartOfDay)=\"&A5&\"\",\"Bar\",\"\",\"Close\",\"5\",\"0\",\"All\",,,\"False\",\"T\",\"EveryTick\"))","v":4385.25},8.1613885855508946E-3,{"$f":"RANK(AD5,$AD$1:$AD$10)+COUNTIF($AD$1:AD5,AD5)-1","v":2},"2021-10-07",{"$f":"IFERROR(VLOOKUP(MAX(AE2:AE177),A1:Q177,17,FALSE),\"\")","v":1.3148828663298117E-2},"",5,"2021-10-08",1.8223234624145787E-3,null,null,"2021-10-08","2021-10-07",4,3]
[101,"01:25:00",{"$f":" RTD(\"cqg.rtd\",,\"StudyData\",$D$12, \"Bar\", \"\", \"Time\",\"D\",\"-5\",,,,,\"T\")","v":"2021-10-06"},2021,10,6,{"$f":" RTD(\"cqg.rtd\",,\"StudyData\",$D$12, \"Bar\", \"\", \"Close\",\"D\",\"-5\",,,,,\"T\")","v":4354},{"$f":"IF(A6=\"\",NA(),RTD(\"cqg.rtd\",,\"StudyData\",\"Close(\"&$D$12&\") when LocalYear(\"&$D$12&\")=\"&$D$1&\" and localMonth(\"&$D$12&\") =\"&$E$1&\" and LocalDay(\"&$D$12&\")=\"&$F$1&\" and Barix(\"&$D$12&\",reference:=StartOfDay)=\"&A6&\"\",\"Bar\",\"\",\"Close\",\"5\",\"0\",\"All\",,,\"False\",\"T\",\"EveryTick\"))","v":4335},-1.3246558774405344E-3,{"$f":"IF(A6=\"\",NA(),RTD(\"cqg.rtd\",,\"StudyData\", \"Close(\"&$D$12&\") when LocalYear(\"&$D$12&\")=\"&$D$2&\" and localMonth(\"&$D$12&\") =\"&$E$2&\" and LocalDay(\"&$D$12&\")=\"&$F$2&\" and Barix(\"&$D$12&\",reference:=StartOfDay)=\"&A6&\"\", \"Bar\", \"\", \"Close\",\"5\",\"0\",\"All\",,,\"False\",\"T\",\"EveryTick\"))","v":4330},-4.8264766720294188E-3,{"$f":"IF(A6=\"\",NA(),RTD(\"cqg.rtd\",,\"StudyData\", \"Close(\"&$D$12&\") when LocalYear(\"&$D$12&\")=\"&$D$3&\" and localMonth(\"&$D$12&\") =\"&$E$3&\" and LocalDay(\"&$D$12&\")=\"&$F$3&\" and Barix(\"&$D$12&\",reference:=StartOfDay)=\"&A6&\"\", \"Bar\", \"\", \"Close\",\"5\",\"0\",\"All\",,,\"False\",\"T\",\"EveryTick\"))","v":4367.5},-3.3658508756917111E-3,{"$f":"IF(A6=\"\",NA(),RTD(\"cqg.rtd\",,\"StudyData\", \"Close(\"&$D$12&\") when LocalYear(\"&$D$12&\")=\"&$D$4&\" and localMonth(\"&$D$12&\") =\"&$E$4&\" and LocalDay(\"&$D$12&\")=\"&$F$4&\" and Barix(\"&$D$12&\",reference:=StartOfDay)=\"&A6&\"\", \"Bar\", \"\", \"Close\",\"5\",\"0\",\"All\",,,\"False\",\"T\",\"EveryTick\"))","v":4392},4.5558086560364467E-4,{"$f":"IF(A6=\"\",NA(),RTD(\"cqg.rtd\",,\"StudyData\", \"Close(\"&$D$12&\") when LocalYear(\"&$D$12&\")=\"&$D$5&\" and localMonth(\"&$D$12&\") =\"&$E$5&\" and LocalDay(\"&$D$12&\")=\"&$F$5&\" and Barix(\"&$D$12&\",reference:=StartOfDay)=\"&A6&\"\", \"Bar\", \"\", \"Close\",\"5\",\"0\",\"All\",,,\"False\",\"T\",\"EveryTick\"))","v":4382.75},6.6031235645383551E-3,{"$f":"IF(A6=\"\",NA(),RTD(\"cqg.rtd\",,\"StudyData\", \"Close(\"&$D$12&\") when LocalYear(\"&$D$12&\")=\"&$D$6&\" and localMonth(\"&$D$12&\") =\"&$E$6&\" and LocalDay(\"&$D$12&\")=\"&$F$6&\" and Barix(\"&$D$12&\",reference:=StartOfDay)=\"&A6&\"\", \"Bar\", \"\", \"Close\",\"5\",\"0\",\"All\",,,\"False\",\"T\",\"EveryTick\"))","v":4312},-5.076142131979695E-3,{"$f":"IF(A6=\"\",NA(),RTD(\"cqg.rtd\",,\"StudyData\",\"Close(\"&$D$12&\") when LocalYear(\"&$D$12&\")=\"&$D$7&\" and localMonth(\"&$D$12&\") =\"&$E$7&\" and LocalDay(\"&$D$12&\")=\"&$F$7&\" and Barix(\"&$D$12&\",reference:=StartOfDay)=\"&A6&\"\",\"Bar\",\"\",\"Close\",\"5\",\"0\",\"All\",,,\"False\",\"T\",\"EveryTick\"))","v":4290.75},-1.1651616661811826E-4,{"$f":"IF(A6=\"\",NA(),RTD(\"cqg.rtd\",,\"StudyData\",\"Close(\"&$D$12&\") when LocalYear(\"&$D$12&\")=\"&$D$8&\" and localMonth(\"&$D$12&\") =\"&$E$8&\" and LocalDay(\"&$D$12&\")=\"&$F$8&\" and Barix(\"&$D$12&\",reference:=StartOfDay)=\"&A6&\"\",\"Bar\",\"\",\"Close\",\"5\",\"0\",\"All\",,,\"False\",\"T\",\"EveryTick\"))","v":4331},-2.9352517985611511E-3,{"$f":"IF(A6=\"\",NA(),RTD(\"cqg.rtd\",,\"StudyData\",\"Close(\"&$D$12&\") when LocalYear(\"&$D$12&\")=\"&$D$9&\" and localMonth(\"&$D$12&\") =\"&$E$9&\" and LocalDay(\"&$D$12&\")=\"&$F$9&\" and Barix(\"&$D$12&\",reference:=StartOfDay)=\"&A6&\"\",\"Bar\",\"\",\"Close\",\"5\",\"0\",\"All\",,,\"False\",\"T\",\"EveryTick\"))","v":4267.25},-7.0967366645337676E-3,{"$f":"IF(A6=\"\",NA(),RTD(\"cqg.rtd\",,\"StudyData\",\"Close(\"&$D$12&\") when LocalYear(\"&$D$12&\")=\"&$D$10&\" and localMonth(\"&$D$12&\") =\"&$E$10&\" and LocalDay(\"&$D$12&\")=\"&$F$10&\" and Barix(\"&$D$12&\",reference:=StartOfDay)=\"&A6&\"\",\"Bar\",\"\",\"Close\",\"5\",\"0\",\"All\",,,\"False\",\"T\",\"EveryTick\"))","v":4382.75},7.5866429105120982E-3,{"$f":"RANK(AD6,$AD$1:$AD$10)+COUNTIF($AD$1:AD6,AD6)-1","v":9},"2021-10-06",{"$f":"IFERROR(VLOOKUP(MAX(AE2:AE177),A1:S177,19,FALSE),\"\")","v":-5.8260267651130595E-3},"",6,"2021-09-30",1.1494913500775907E-3,null,null,"2021-09-30","2021-10-06",5,9]
[102,"01:30:00",{"$f":" RTD(\"cqg.rtd\",,\"StudyData\",$D$12, \"Bar\", \"\", \"Time\",\"D\",\"-6\",,,,,\"T\")","v":"2021-10-05"},2021,10,5,{"$f":" RTD(\"cqg.rtd\",,\"StudyData\",$D$12, \"Bar\", \"\", \"Close\",\"D\",\"-6\",,,,,\"T\")","v":4334},{"$f":"IF(A7=\"\",NA(),RTD(\"cqg.rtd\",,\"StudyData\",\"Close(\"&$D$12&\") when LocalYear(\"&$D$12&\")=\"&$D$1&\" and localMonth(\"&$D$12&\") =\"&$E$1&\" and LocalDay(\"&$D$12&\")=\"&$F$1&\" and Barix(\"&$D$12&\",reference:=StartOfDay)=\"&A7&\"\",\"Bar\",\"\",\"Close\",\"5\",\"0\",\"All\",,,\"False\",\"T\",\"EveryTick\"))","v":4334.5},-1.4398433450440592E-3,{"$f":"IF(A7=\"\",NA(),RTD(\"cqg.rtd\",,\"StudyData\", \"Close(\"&$D$12&\") when LocalYear(\"&$D$12&\")=\"&$D$2&\" and localMonth(\"&$D$12&\") =\"&$E$2&\" and LocalDay(\"&$D$12&\")=\"&$F$2&\" and Barix(\"&$D$12&\",reference:=StartOfDay)=\"&A7&\"\", \"Bar\", \"\", \"Close\",\"5\",\"0\",\"All\",,,\"False\",\"T\",\"EveryTick\"))","v":4327.5},-5.4010572282233967E-3,{"$f":"IF(A7=\"\",NA(),RTD(\"cqg.rtd\",,\"StudyData\", \"Close(\"&$D$12&\") when LocalYear(\"&$D$12&\")=\"&$D$3&\" and localMonth(\"&$D$12&\") =\"&$E$3&\" and LocalDay(\"&$D$12&\")=\"&$F$3&\" and Barix(\"&$D$12&\",reference:=StartOfDay)=\"&A7&\"\", \"Bar\", \"\", \"Close\",\"5\",\"0\",\"All\",,,\"False\",\"T\",\"EveryTick\"))","v":4365.25},-3.8792857550345142E-3,{"$f":"IF(A7=\"\",NA(),RTD(\"cqg.rtd\",,\"StudyData\", \"Close(\"&$D$12&\") when LocalYear(\"&$D$12&\")=\"&$D$4&\" and localMonth(\"&$D$12&\") =\"&$E$4&\" and LocalDay(\"&$D$12&\")=\"&$F$4&\" and Barix(\"&$D$12&\",reference:=StartOfDay)=\"&A7&\"\", \"Bar\", \"\", \"Close\",\"5\",\"0\",\"All\",,,\"False\",\"T\",\"EveryTick\"))","v":4393.25},7.4031890660592251E-4,{"$f":"IF(A7=\"\",NA(),RTD(\"cqg.rtd\",,\"StudyData\", \"Close(\"&$D$12&\") when LocalYear(\"&$D$12&\")=\"&$D$5&\" and localMonth(\"&$D$12&\") =\"&$E$5&\" and LocalDay(\"&$D$12&\")=\"&$F$5&\" and Barix(\"&$D$12&\",reference:=StartOfDay)=\"&A7&\"\", \"Bar\", \"\", \"Close\",\"5\",\"0\",\"All\",,,\"False\",\"T\",\"EveryTick\"))","v":4383.5},6.7753789618741388E-3,{"$f":"IF(A7=\"\",NA(),RTD(\"cqg.rtd\",,\"StudyData\", \"Close(\"&$D$12&\") when LocalYear(\"&$D$12&\")=\"&$D$6&\" and localMonth(\"&$D$12&\") =\"&$E$6&\" and LocalDay(\"&$D$12&\")=\"&$F$6&\" and Barix(\"&$D$12&\",reference:=StartOfDay)=\"&A7&\"\", \"Bar\", \"\", \"Close\",\"5\",\"0\",\"All\",,,\"False\",\"T\",\"EveryTick\"))","v":4313},-4.8454083987078912E-3,{"$f":"IF(A7=\"\",NA(),RTD(\"cqg.rtd\",,\"StudyData\",\"Close(\"&$D$12&\") when LocalYear(\"&$D$12&\")=\"&$D$7&\" and localMonth(\"&$D$12&\") =\"&$E$7&\" and LocalDay(\"&$D$12&\")=\"&$F$7&\" and Barix(\"&$D$12&\",reference:=StartOfDay)=\"&A7&\"\",\"Bar\",\"\",\"Close\",\"5\",\"0\",\"All\",,,\"False\",\"T\",\"EveryTick\"))","v":4288.5},-6.4083891639965041E-4,{"$f":"IF(A7=\"\",NA(),RTD(\"cqg.rtd\",,\"StudyData\",\"Close(\"&$D$12&\") when LocalYear(\"&$D$12&\")=\"&$D$8&\" and localMonth(\"&$D$12&\") =\"&$E$8&\" and LocalDay(\"&$D$12&\")=\"&$F$8&\" and Barix(\"&$D$12&\",reference:=StartOfDay)=\"&A7&\"\",\"Bar\",\"\",\"Close\",\"5\",\"0\",\"All\",,,\"False\",\"T\",\"EveryTick\"))","v":4334},-2.2446043165467626E-3,{"$f":"IF(A7=\"\",NA(),RTD(\"cqg.rtd\",,\"StudyData\",\"Close(\"&$D$12&\") when LocalYear(\"&$D$12&\")=\"&$D$9&\" and localMonth(\"&$D$12&\") =\"&$E$9&\" and LocalDay(\"&$D$12&\")=\"&$F$9&\" and Barix(\"&$D$12&\",reference:=StartOfDay)=\"&A7&\"\",\"Bar\",\"\",\"Close\",\"5\",\"0\",\"All\",,,\"False\",\"T\",\"EveryTick\"))","v":4265},-7.6202664184747831E-3,{"$f":"IF(A7=\"\",NA(),RTD(\"cqg.rtd\",,\"StudyData\",\"Close(\"&$D$12&\") when LocalYear(\"&$D$12&\")=\"&$D$10&\" and localMonth(\"&$D$12&\") =\"&$E$10&\" and LocalDay(\"&$D$12&\")=\"&$F$10&\" and Barix(\"&$D$12&\",reference:=StartOfDay)=\"&A7&\"\",\"Bar\",\"\",\"Close\",\"5\",\"0\",\"All\",,,\"False\",\"T\",\"EveryTick\"))","v":4383},7.6441174780159781E-3,{"$f":"RANK(AD7,$AD$1:$AD$10)+COUNTIF($AD$1:AD7,AD7)-1","v":1},"2021-10-05",{"$f":"IFERROR(VLOOKUP(MAX(AE2:AE177),A1:U177,21,FALSE),\"\")","v":1.4622778910573841E-2},"",7,"2021-10-12",-5.7458055619397838E-5,null,null,"2021-10-12","2021-10-05",6,1]
[103,"01:35:00",{"$f":" RTD(\"cqg.rtd\",,\"StudyData\",$D$12, \"Bar\", \"\", \"Time\",\"D\",\"-7\",,,,,\"T\")","v":"2021-10-04"},2021,10,4,{"$f":" RTD(\"cqg.rtd\",,\"StudyData\",$D$12, \"Bar\", \"\", \"Close\",\"D\",\"-7\",,,,,\"T\")","v":4291.25},{"$f":"IF(A8=\"\",NA(),RTD(\"cqg.rtd\",,\"StudyData\",\"Close(\"&$D$12&\") when LocalYear(\"&$D$12&\")=\"&$D$1&\" and localMonth(\"&$D$12&\") =\"&$E$1&\" and LocalDay(\"&$D$12&\")=\"&$F$1&\" and Barix(\"&$D$12&\",reference:=StartOfDay)=\"&A8&\"\",\"Bar\",\"\",\"Close\",\"5\",\"0\",\"All\",,,\"False\",\"T\",\"EveryTick\"))","v":4333.25},-1.7278120140528711E-3,{"$f":"IF(A8=\"\",NA(),RTD(\"cqg.rtd\",,\"StudyData\", \"Close(\"&$D$12&\") when LocalYear(\"&$D$12&\")=\"&$D$2&\" and localMonth(\"&$D$12&\") =\"&$E$2&\" and LocalDay(\"&$D$12&\")=\"&$F$2&\" and Barix(\"&$D$12&\",reference:=StartOfDay)=\"&A8&\"\", \"Bar\", \"\", \"Close\",\"5\",\"0\",\"All\",,,\"False\",\"T\",\"EveryTick\"))","v":4327},-5.5159733394621923E-3,{"$f":"IF(A8=\"\",NA(),RTD(\"cqg.rtd\",,\"StudyData\", \"Close(\"&$D$12&\") when LocalYear(\"&$D$12&\")=\"&$D$3&\" and localMonth(\"&$D$12&\") =\"&$E$3&\" and LocalDay(\"&$D$12&\")=\"&$F$3&\" and Barix(\"&$D$12&\",reference:=StartOfDay)=\"&A8&\"\", \"Bar\", \"\", \"Close\",\"5\",\"0\",\"All\",,,\"False\",\"T\",\"EveryTick\"))","v":4367.75},-3.3088025557647329E-3,{"$f":"IF(A8=\"\",NA(),RTD(\"cqg.rtd\",,\"StudyData\", \"Close(\"&$D$12&\") when LocalYear(\"&$D$12&\")=\"&$D$4&\" and localMonth(\"&$D$12&\") =\"&$E$4&\" and LocalDay(\"&$D$12&\")=\"&$F$4&\" and Barix(\"&$D$12&\",reference:=StartOfDay)=\"&A8&\"\", \"Bar\", \"\", \"Close\",\"5\",\"0\",\"All\",,,\"False\",\"T\",\"EveryTick\"))","v":4392},4.5558086560364467E-4,{"$f":"IF(A8=\"\",NA(),RTD(\"cqg.rtd\",,\"StudyData\", \"Close(\"&$D$12&\") when LocalYear(\"&$D$12&\")=\"&$D$5&\" and localMonth(\"&$D$12&\") =\"&$E$5&\" and LocalDay(\"&$D$12&\")=\"&$F$5&\" and Barix(\"&$D$12&\",reference:=StartOfDay)=\"&A8&\"\", \"Bar\", \"\", \"Close\",\"5\",\"0\",\"All\",,,\"False\",\"T\",\"EveryTick\"))","v":4382.75},6.6031235645383551E-3,{"$f":"IF(A8=\"\",NA(),RTD(\"cqg.rtd\",,\"StudyData\", \"Close(\"&$D$12&\") when LocalYear(\"&$D$12&\")=\"&$D$6&\" and localMonth(\"&$D$12&\") =\"&$E$6&\" and LocalDay(\"&$D$12&\")=\"&$F$6&\" and Barix(\"&$D$12&\",reference:=StartOfDay)=\"&A8&\"\", \"Bar\", \"\", \"Close\",\"5\",\"0\",\"All\",,,\"False\",\"T\",\"EveryTick\"))","v":4312.5},-4.9607752653437935E-3,{"$f":"IF(A8=\"\",NA(),RTD(\"cqg.rtd\",,\"StudyData\",\"Close(\"&$D$12&\") when LocalYear(\"&$D$12&\")=\"&$D$7&\" and localMonth(\"&$D$12&\") =\"&$E$7&\" and LocalDay(\"&$D$12&\")=\"&$F$7&\" and Barix(\"&$D$12&\",reference:=StartOfDay)=\"&A8&\"\",\"Bar\",\"\",\"Close\",\"5\",\"0\",\"All\",,,\"False\",\"T\",\"EveryTick\"))","v":4289},-5.2432274978153213E-4,{"$f":"IF(A8=\"\",NA(),RTD(\"cqg.rtd\",,\"StudyData\",\"Close(\"&$D$12&\") when LocalYear(\"&$D$12&\")=\"&$D$8&\" and localMonth(\"&$D$12&\") =\"&$E$8&\" and LocalDay(\"&$D$12&\")=\"&$F$8&\" and Barix(\"&$D$12&\",reference:=StartOfDay)=\"&A8&\"\",\"Bar\",\"\",\"Close\",\"5\",\"0\",\"All\",,,\"False\",\"T\",\"EveryTick\"))","v":4332.75},-2.5323741007194246E-3,{"$f":"IF(A8=\"\",NA(),RTD(\"cqg.rtd\",,\"StudyData\",\"Close(\"&$D$12&\") when LocalYear(\"&$D$12&\")=\"&$D$9&\" and localMonth(\"&$D$12&\") =\"&$E$9&\" and LocalDay(\"&$D$12&\")=\"&$F$9&\" and Barix(\"&$D$12&\",reference:=StartOfDay)=\"&A8&\"\",\"Bar\",\"\",\"Close\",\"5\",\"0\",\"All\",,,\"False\",\"T\",\"EveryTick\"))","v":4266.25},-7.3294165551742192E-3,{"$f":"IF(A8=\"\",NA(),RTD(\"cqg.rtd\",,\"StudyData\",\"Close(\"&$D$12&\") when LocalYear(\"&$D$12&\")=\"&$D$10&\" and localMonth(\"&$D$12&\") =\"&$E$10&\" and LocalDay(\"&$D$12&\")=\"&$F$10&\" and Barix(\"&$D$12&\",reference:=StartOfDay)=\"&A8&\"\",\"Bar\",\"\",\"Close\",\"5\",\"0\",\"All\",,,\"False\",\"T\",\"EveryTick\"))","v":4384.25},7.931490315535375E-3,{"$f":"RANK(AD8,$AD$1:$AD$10)+COUNTIF($AD$1:AD8,AD8)-1","v":10},"2021-10-04",{"$f":"IFERROR(VLOOKUP(MAX(AE2:AE177),A1:W177,23,FALSE),\"\")","v":-1.2719424460431655E-2},"",8,"2021-10-13",-1.1518746760352473E-3,null,null,"2021-10-13","2021-10-04",7,0]
[104,"01:40:00",{"$f":" RTD(\"cqg.rtd\",,\"StudyData\",$D$12, \"Bar\", \"\", \"Time\",\"D\",\"-8\",,,,,\"T\")","v":"2021-10-01"},2021,10,1,{"$f":" RTD(\"cqg.rtd\",,\"StudyData\",$D$12, \"Bar\", \"\", \"Close\",\"D\",\"-8\",,,,,\"T\")","v":4343.75},{"$f":"IF(A9=\"\",NA(),RTD(\"cqg.rtd\",,\"StudyData\",\"Close(\"&$D$12&\") when LocalYear(\"&$D$12&\")=\"&$D$1&\" and localMonth(\"&$D$12&\") =\"&$E$1&\" and LocalDay(\"&$D$12&\")=\"&$F$1&\" and Barix(\"&$D$12&\",reference:=StartOfDay)=\"&A9&\"\",\"Bar\",\"\",\"Close\",\"5\",\"0\",\"All\",,,\"False\",\"T\",\"EveryTick\"))","v":4333.25},-1.7278120140528711E-3,{"$f":"IF(A9=\"\",NA(),RTD(\"cqg.rtd\",,\"StudyData\", \"Close(\"&$D$12&\") when LocalYear(\"&$D$12&\")=\"&$D$2&\" and localMonth(\"&$D$12&\") =\"&$E$2&\" and LocalDay(\"&$D$12&\")=\"&$F$2&\" and Barix(\"&$D$12&\",reference:=StartOfDay)=\"&A9&\"\", \"Bar\", \"\", \"Close\",\"5\",\"0\",\"All\",,,\"False\",\"T\",\"EveryTick\"))","v":4328.5},-5.1712250057458055E-3,{"$f":"IF(A9=\"\",NA(),RTD(\"cqg.rtd\",,\"StudyData\", \"Close(\"&$D$12&\") when LocalYear(\"&$D$12&\")=\"&$D$3&\" and localMonth(\"&$D$12&\") =\"&$E$3&\" and LocalDay(\"&$D$12&\")=\"&$F$3&\" and Barix(\"&$D$12&\",reference:=StartOfDay)=\"&A9&\"\", \"Bar\", \"\", \"Close\",\"5\",\"0\",\"All\",,,\"False\",\"T\",\"EveryTick\"))","v":4368.75},-3.08060927605682E-3,{"$f":"IF(A9=\"\",NA(),RTD(\"cqg.rtd\",,\"StudyData\", \"Close(\"&$D$12&\") when LocalYear(\"&$D$12&\")=\"&$D$4&\" and localMonth(\"&$D$12&\") =\"&$E$4&\" and LocalDay(\"&$D$12&\")=\"&$F$4&\" and Barix(\"&$D$12&\",reference:=StartOfDay)=\"&A9&\"\", \"Bar\", \"\", \"Close\",\"5\",\"0\",\"All\",,,\"False\",\"T\",\"EveryTick\"))","v":4393},6.83371298405467E-4,{"$f":"IF(A9=\"\",NA(),RTD(\"cqg.rtd\",,\"StudyData\", \"Close(\"&$D$12&\") when LocalYear(\"&$D$12&\")=\"&$D$5&\" and localMonth(\"&$D$12&\") =\"&$E$5&\" and LocalDay(\"&$D$12&\")=\"&$F$5&\" and Barix(\"&$D$12&\",reference:=StartOfDay)=\"&A9&\"\", \"Bar\", \"\", \"Close\",\"5\",\"0\",\"All\",,,\"False\",\"T\",\"EveryTick\"))","v":4379},5.7418465778594392E-3,{"$f":"IF(A9=\"\",NA(),RTD(\"cqg.rtd\",,\"StudyData\", \"Close(\"&$D$12&\") when LocalYear(\"&$D$12&\")=\"&$D$6&\" and localMonth(\"&$D$12&\") =\"&$E$6&\" and LocalDay(\"&$D$12&\")=\"&$F$6&\" and Barix(\"&$D$12&\",reference:=StartOfDay)=\"&A9&\"\", \"Bar\", \"\", \"Close\",\"5\",\"0\",\"All\",,,\"False\",\"T\",\"EveryTick\"))","v":4311.75},-5.1338255652976462E-3,{"$f":"IF(A9=\"\",NA(),RTD(\"cqg.rtd\",,\"StudyData\",\"Close(\"&$D$12&\") when LocalYear(\"&$D$12&\")=\"&$D$7&\" and localMonth(\"&$D$12&\") =\"&$E$7&\" and LocalDay(\"&$D$12&\")=\"&$F$7&\" and Barix(\"&$D$12&\",reference:=StartOfDay)=\"&A9&\"\",\"Bar\",\"\",\"Close\",\"5\",\"0\",\"All\",,,\"False\",\"T\",\"EveryTick\"))","v":4292},1.7477424992717739E-4,{"$f":"IF(A9=\"\",NA(),RTD(\"cqg.rtd\",,\"StudyData\",\"Close(\"&$D$12&\") when LocalYear(\"&$D$12&\")=\"&$D$8&\" and localMonth(\"&$D$12&\") =\"&$E$8&\" and LocalDay(\"&$D$12&\")=\"&$F$8&\" and Barix(\"&$D$12&\",reference:=StartOfDay)=\"&A9&\"\",\"Bar\",\"\",\"Close\",\"5\",\"0\",\"All\",,,\"False\",\"T\",\"EveryTick\"))","v":4332.25},-2.6474820143884891E-3,{"$f":"IF(A9=\"\",NA(),RTD(\"cqg.rtd\",,\"StudyData\",\"Close(\"&$D$12&\") when LocalYear(\"&$D$12&\")=\"&$D$9&\" and localMonth(\"&$D$12&\") =\"&$E$9&\" and LocalDay(\"&$D$12&\")=\"&$F$9&\" and Barix(\"&$D$12&\",reference:=StartOfDay)=\"&A9&\"\",\"Bar\",\"\",\"Close\",\"5\",\"0\",\"All\",,,\"False\",\"T\",\"EveryTick\"))","v":4264.75},-7.6784363911348965E-3,{"$f":"IF(A9=\"\",NA(),RTD(\"cqg.rtd\",,\"StudyData\",\"Close(\"&$D$12&\") when LocalYear(\"&$D$12&\")=\"&$D$10&\" and localMonth(\"&$D$12&\") =\"&$E$10&\" and LocalDay(\"&$D$12&\")=\"&$F$10&\" and Barix(\"&$D$12&\",reference:=StartOfDay)=\"&A9&\"\",\"Bar\",\"\",\"Close\",\"5\",\"0\",\"All\",,,\"False\",\"T\",\"EveryTick\"))","v":4385.5},8.2188631530547736E-3,{"$f":"RANK(AD9,$AD$1:$AD$10)+COUNTIF($AD$1:AD9,AD9)-1","v":4},"2021-10-01",{"$f":"IFERROR(VLOOKUP(MAX(AE2:AE177),A1:Y177,25,FALSE),\"\")","v":2.9666686056657554E-3},"",9,"2021-10-06",-5.8260267651130595E-3,null,null,"2021-10-06","2021-10-01",8,5]
[105,"01:45:00",{"$f":" RTD(\"cqg.rtd\",,\"StudyData\",$D$12, \"Bar\", \"\", \"Time\",\"D\",\"-9\",,,,,\"T\")","v":"2021-09-30"},2021,9,30,{"$f":" RTD(\"cqg.rtd\",,\"StudyData\",$D$12, \"Bar\", \"\", \"Close\",\"D\",\"-9\",,,,,\"T\")","v":4297.75},{"$f":"IF(A10=\"\",NA(),RTD(\"cqg.rtd\",,\"StudyData\",\"Close(\"&$D$12&\") when LocalYear(\"&$D$12&\")=\"&$D$1&\" and localMonth(\"&$D$12&\") =\"&$E$1&\" and LocalDay(\"&$D$12&\")=\"&$F$1&\" and Barix(\"&$D$12&\",reference:=StartOfDay)=\"&A10&\"\",\"Bar\",\"\",\"Close\",\"5\",\"0\",\"All\",,,\"False\",\"T\",\"EveryTick\"))","v":4334.75},-1.3822496112422969E-3,{"$f":"IF(A10=\"\",NA(),RTD(\"cqg.rtd\",,\"StudyData\", \"Close(\"&$D$12&\") when LocalYear(\"&$D$12&\")=\"&$D$2&\" and localMonth(\"&$D$12&\") =\"&$E$2&\" and LocalDay(\"&$D$12&\")=\"&$F$2&\" and Barix(\"&$D$12&\",reference:=StartOfDay)=\"&A10&\"\", \"Bar\", \"\", \"Close\",\"5\",\"0\",\"All\",,,\"False\",\"T\",\"EveryTick\"))","v":4323.5},-6.3203861181337622E-3,{"$f":"IF(A10=\"\",NA(),RTD(\"cqg.rtd\",,\"StudyData\", \"Close(\"&$D$12&\") when LocalYear(\"&$D$12&\")=\"&$D$3&\" and localMonth(\"&$D$12&\") =\"&$E$3&\" and LocalDay(\"&$D$12&\")=\"&$F$3&\" and Barix(\"&$D$12&\",reference:=StartOfDay)=\"&A10&\"\", \"Bar\", \"\", \"Close\",\"5\",\"0\",\"All\",,,\"False\",\"T\",\"EveryTick\"))","v":4369.5},-2.9094643162758858E-3,{"$f":"IF(A10=\"\",NA(),RTD(\"cqg.rtd\",,\"StudyData\", \"Close(\"&$D$12&\") when LocalYear(\"&$D$12&\")=\"&$D$4&\" and localMonth(\"&$D$12&\") =\"&$E$4&\" and LocalDay(\"&$D$12&\")=\"&$F$4&\" and Barix(\"&$D$12&\",reference:=StartOfDay)=\"&A10&\"\", \"Bar\", \"\", \"Close\",\"5\",\"0\",\"All\",,,\"False\",\"T\",\"EveryTick\"))","v":4392.5},5.6947608200455578E-4,{"$f":"IF(A10=\"\",NA(),RTD(\"cqg.rtd\",,\"StudyData\", \"Close(\"&$D$12&\") when LocalYear(\"&$D$12&\")=\"&$D$5&\" and localMonth(\"&$D$12&\") =\"&$E$5&\" and LocalDay(\"&$D$12&\")=\"&$F$5&\" and Barix(\"&$D$12&\",reference:=StartOfDay)=\"&A10&\"\", \"Bar\", \"\", \"Close\",\"5\",\"0\",\"All\",,,\"False\",\"T\",\"EveryTick\"))","v":4376.5},5.1676619200734953E-3,{"$f":"IF(A10=\"\",NA(),RTD(\"cqg.rtd\",,\"StudyData\", \"Close(\"&$D$12&\") when LocalYear(\"&$D$12&\")=\"&$D$6&\" and localMonth(\"&$D$12&\") =\"&$E$6&\" and LocalDay(\"&$D$12&\")=\"&$F$6&\" and Barix(\"&$D$12&\",reference:=StartOfDay)=\"&A10&\"\", \"Bar\", \"\", \"Close\",\"5\",\"0\",\"All\",,,\"False\",\"T\",\"EveryTick\"))","v":4313.5},-4.7300415320719888E-3,{"$f":"IF(A10=\"\",NA(),RTD(\"cqg.rtd\",,\"StudyData\",\"Close(\"&$D$12&\") when LocalYear(\"&$D$12&\")=\"&$D$7&\" and localMonth(\"&$D$12&\") =\"&$E$7&\" and LocalDay(\"&$D$12&\")=\"&$F$7&\" and Barix(\"&$D$12&\",reference:=StartOfDay)=\"&A10&\"\",\"Bar\",\"\",\"Close\",\"5\",\"0\",\"All\",,,\"False\",\"T\",\"EveryTick\"))","v":4291},-5.8258083309059131E-5,{"$f":"IF(A10=\"\",NA(),RTD(\"cqg.rtd\",,\"StudyData\",\"Close(\"&$D$12&\") when LocalYear(\"&$D$12&\")=\"&$D$8&\" and localMonth(\"&$D$12&\") =\"&$E$8&\" and LocalDay(\"&$D$12&\")=\"&$F$8&\" and Barix(\"&$D$12&\",reference:=StartOfDay)=\"&A10&\"\",\"Bar\",\"\",\"Close\",\"5\",\"0\",\"All\",,,\"False\",\"T\",\"EveryTick\"))","v":4328},-3.6258992805755395E-3,{"$f":"IF(A10=\"\",NA(),RTD(\"cqg.rtd\",,\"StudyData\",\"Close(\"&$D$12&\") when LocalYear(\"&$D$12&\")=\"&$D$9&\" and localMonth(\"&$D$12&\") =\"&$E$9&\" and LocalDay(\"&$D$12&\")=\"&$F$9&\" and Barix(\"&$D$12&\",reference:=StartOfDay)=\"&A10&\"\",\"Bar\",\"\",\"Close\",\"5\",\"0\",\"All\",,,\"False\",\"T\",\"EveryTick\"))","v":4265.25},-7.5620964458146707E-3,{"$f":"IF(A10=\"\",NA(),RTD(\"cqg.rtd\",,\"StudyData\",\"Close(\"&$D$12&\") when LocalYear(\"&$D$12&\")=\"&$D$10&\" and localMonth(\"&$D$12&\") =\"&$E$10&\" and LocalDay(\"&$D$12&\")=\"&$F$10&\" and Barix(\"&$D$12&\",reference:=StartOfDay)=\"&A10&\"\",\"Bar\",\"\",\"Close\",\"5\",\"0\",\"All\",,,\"False\",\"T\",\"EveryTick\"))","v":4387},8.5637105580780512E-3,{"$f":"RANK(AD10,$AD$1:$AD$10)+COUNTIF($AD$1:AD10,AD10)-1","v":6},"2021-09-30",{"$f":"IFERROR(VLOOKUP(MAX(AE2:AE177),A1:AA177,27,FALSE),\"\")","v":1.1494913500775907E-3},"",10,"2021-10-04",-1.2719424460431655E-2,null,null,"2021-10-04","2021-09-30",9,7]
[106,"01:50:00",{"$f":" RTD(\"cqg.rtd\",,\"StudyData\",$D$12, \"Bar\", \"\", \"Time\",\"D\",\"-10\",,,,,\"T\")","v":"2021-09-29"},2021,9,29,{"$f":" RTD(\"cqg.rtd\",,\"StudyData\",$D$12, \"Bar\", \"\", \"Close\",\"D\",\"-10\",,,,,\"T\")","v":4349.75},{"$f":"IF(A11=\"\",NA(),RTD(\"cqg.rtd\",,\"StudyData\",\"Close(\"&$D$12&\") when LocalYear(\"&$D$12&\")=\"&$D$1&\" and localMonth(\"&$D$12&\") =\"&$E$1&\" and LocalDay(\"&$D$12&\")=\"&$F$1&\" and Barix(\"&$D$12&\",reference:=StartOfDay)=\"&A11&\"\",\"Bar\",\"\",\"Close\",\"5\",\"0\",\"All\",,,\"False\",\"T\",\"EveryTick\"))","v":4335.75},-1.1518746760352473E-3,{"$f":"IF(A11=\"\",NA(),RTD(\"cqg.rtd\",,\"StudyData\", \"Close(\"&$D$12&\") when LocalYear(\"&$D$12&\")=\"&$D$2&\" and localMonth(\"&$D$12&\") =\"&$E$2&\" and LocalDay(\"&$D$12&\")=\"&$F$2&\" and Barix(\"&$D$12&\",reference:=StartOfDay)=\"&A11&\"\", \"Bar\", \"\", \"Close\",\"5\",\"0\",\"All\",,,\"False\",\"T\",\"EveryTick\"))","v":4321},-6.894966674327741E-3,{"$f":"IF(A11=\"\",NA(),RTD(\"cqg.rtd\",,\"StudyData\", \"Close(\"&$D$12&\") when LocalYear(\"&$D$12&\")=\"&$D$3&\" and localMonth(\"&$D$12&\") =\"&$E$3&\" and LocalDay(\"&$D$12&\")=\"&$F$3&\" and Barix(\"&$D$12&\",reference:=StartOfDay)=\"&A11&\"\", \"Bar\", \"\", \"Close\",\"5\",\"0\",\"All\",,,\"False\",\"T\",\"EveryTick\"))","v":4370},-2.7953676764219293E-3,{"$f":"IF(A11=\"\",NA(),RTD(\"cqg.rtd\",,\"StudyData\", \"Close(\"&$D$12&\") when LocalYear(\"&$D$12&\")=\"&$D$4&\" and localMonth(\"&$D$12&\") =\"&$E$4&\" and LocalDay(\"&$D$12&\")=\"&$F$4&\" and Barix(\"&$D$12&\",reference:=StartOfDay)=\"&A11&\"\", \"Bar\", \"\", \"Close\",\"5\",\"0\",\"All\",,,\"False\",\"T\",\"EveryTick\"))","v":4392.5},5.6947608200455578E-4,{"$f":"IF(A11=\"\",NA(),RTD(\"cqg.rtd\",,\"StudyData\", \"Close(\"&$D$12&\") when LocalYear(\"&$D$12&\")=\"&$D$5&\" and localMonth(\"&$D$12&\") =\"&$E$5&\" and LocalDay(\"&$D$12&\")=\"&$F$5&\" and Barix(\"&$D$12&\",reference:=StartOfDay)=\"&A11&\"\", \"Bar\", \"\", \"Close\",\"5\",\"0\",\"All\",,,\"False\",\"T\",\"EveryTick\"))","v":4377.25},5.339917317409279E-3,{"$f":"IF(A11=\"\",NA(),RTD(\"cqg.rtd\",,\"StudyData\", \"Close(\"&$D$12&\") when LocalYear(\"&$D$12&\")=\"&$D$6&\" and localMonth(\"&$D$12&\") =\"&$E$6&\" and LocalDay(\"&$D$12&\")=\"&$F$6&\" and Barix(\"&$D$12&\",reference:=StartOfDay)=\"&A11&\"\", \"Bar\", \"\", \"Close\",\"5\",\"0\",\"All\",,,\"False\",\"T\",\"EveryTick\"))","v":4317.75},-3.7494231656668205E-3,{"$f":"IF(A11=\"\",NA(),RTD(\"cqg.rtd\",,\"StudyData\",\"Close(\"&$D$12&\") when LocalYear(\"&$D$12&\")=\"&$D$7&\" and localMonth(\"&$D$12&\") =\"&$E$7&\" and LocalDay(\"&$D$12&\")=\"&$F$7&\" and Barix(\"&$D$12&\",reference:=StartOfDay)=\"&A11&\"\",\"Bar\",\"\",\"Close\",\"5\",\"0\",\"All\",,,\"False\",\"T\",\"EveryTick\"))","v":4294.5},7.5735508301776869E-4,{"$f":"IF(A11=\"\",NA(),RTD(\"cqg.rtd\",,\"StudyData\",\"Close(\"&$D$12&\") when LocalYear(\"&$D$12&\")=\"&$D$8&\" and localMonth(\"&$D$12&\") =\"&$E$8&\" and LocalDay(\"&$D$12&\")=\"&$F$8&\" and Barix(\"&$D$12&\",reference:=StartOfDay)=\"&A11&\"\",\"Bar\",\"\",\"Close\",\"5\",\"0\",\"All\",,,\"False\",\"T\",\"EveryTick\"))","v":4327.5},-3.7410071942446045E-3,{"$f":"IF(A11=\"\",NA(),RTD(\"cqg.rtd\",,\"StudyData\",\"Close(\"&$D$12&\") when LocalYear(\"&$D$12&\")=\"&$D$9&\" and localMonth(\"&$D$12&\") =\"&$E$9&\" and LocalDay(\"&$D$12&\")=\"&$F$9&\" and Barix(\"&$D$12&\",reference:=StartOfDay)=\"&A11&\"\",\"Bar\",\"\",\"Close\",\"5\",\"0\",\"All\",,,\"False\",\"T\",\"EveryTick\"))","v":4261.5},-8.4346460357163627E-3,{"$f":"IF(A11=\"\",NA(),RTD(\"cqg.rtd\",,\"StudyData\",\"Close(\"&$D$12&\") when LocalYear(\"&$D$12&\")=\"&$D$10&\" and localMonth(\"&$D$12&\") =\"&$E$10&\" and LocalDay(\"&$D$12&\")=\"&$F$10&\" and Barix(\"&$D$12&\",reference:=StartOfDay)=\"&A11&\"\",\"Bar\",\"\",\"Close\",\"5\",\"0\",\"All\",,,\"False\",\"T\",\"EveryTick\"))","v":4385},8.1039140180470138E-3,null,null,null,""]
[107,"01:55:00",null,{"$f":"Display!O20","v":"EP"},null,null,null,{"$f":"IF(A12=\"\",NA(),RTD(\"cqg.rtd\",,\"StudyData\",\"Close(\"&$D$12&\") when LocalYear(\"&$D$12&\")=\"&$D$1&\" and localMonth(\"&$D$12&\") =\"&$E$1&\" and LocalDay(\"&$D$12&\")=\"&$F$1&\" and Barix(\"&$D$12&\",reference:=StartOfDay)=\"&A12&\"\",\"Bar\",\"\",\"Close\",\"5\",\"0\",\"All\",,,\"False\",\"T\",\"EveryTick\"))","v":4334.75},-1.3822496112422969E-3,{"$f":"IF(A12=\"\",NA(),RTD(\"cqg.rtd\",,\"StudyData\", \"Close(\"&$D$12&\") when LocalYear(\"&$D$12&\")=\"&$D$2&\" and localMonth(\"&$D$12&\") =\"&$E$2&\" and LocalDay(\"&$D$12&\")=\"&$F$2&\" and Barix(\"&$D$12&\",reference:=StartOfDay)=\"&A12&\"\", \"Bar\", \"\", \"Close\",\"5\",\"0\",\"All\",,,\"False\",\"T\",\"EveryTick\"))","v":4321.5},-6.7800505630889454E-3,{"$f":"IF(A12=\"\",NA(),RTD(\"cqg.rtd\",,\"StudyData\", \"Close(\"&$D$12&\") when LocalYear(\"&$D$12&\")=\"&$D$3&\" and localMonth(\"&$D$12&\") =\"&$E$3&\" and LocalDay(\"&$D$12&\")=\"&$F$3&\" and Barix(\"&$D$12&\",reference:=StartOfDay)=\"&A12&\"\", \"Bar\", \"\", \"Close\",\"5\",\"0\",\"All\",,,\"False\",\"T\",\"EveryTick\"))","v":4369.5},-2.9094643162758858E-3,{"$f":"IF(A12=\"\",NA(),RTD(\"cqg.rtd\",,\"StudyData\", \"Close(\"&$D$12&\") when LocalYear(\"&$D$12&\")=\"&$D$4&\" and localMonth(\"&$D$12&\") =\"&$E$4&\" and LocalDay(\"&$D$12&\")=\"&$F$4&\" and Barix(\"&$D$12&\",reference:=StartOfDay)=\"&A12&\"\", \"Bar\", \"\", \"Close\",\"5\",\"0\",\"All\",,,\"False\",\"T\",\"EveryTick\"))","v":4393.5},7.9726651480637812E-4,{"$f":"IF(A12=\"\",NA(),RTD(\"cqg.rtd\",,\"StudyData\", \"Close(\"&$D$12&\") when LocalYear(\"&$D$12&\")=\"&$D$5&\" and localMonth(\"&$D$12&\") =\"&$E$5&\" and LocalDay(\"&$D$12&\")=\"&$F$5&\" and Barix(\"&$D$12&\",reference:=StartOfDay)=\"&A12&\"\", \"Bar\", \"\", \"Close\",\"5\",\"0\",\"All\",,,\"False\",\"T\",\"EveryTick\"))","v":4379.25},5.7992650436380338E-3,{"$f":"IF(A12=\"\",NA(),RTD(\"cqg.rtd\",,\"StudyData\", \"Close(\"&$D$12&\") when LocalYear(\"&$D$12&\")=\"&$D$6&\" and localMonth(\"&$D$12&\") =\"&$E$6&\" and LocalDay(\"&$D$12&\")=\"&$F$6&\" and Barix(\"&$D$12&\",reference:=StartOfDay)=\"&A12&\"\", \"Bar\", \"\", \"Close\",\"5\",\"0\",\"All\",,,\"False\",\"T\",\"EveryTick\"))","v":4317.25},-3.8647900323027225E-3,{"$f":"IF(A12=\"\",NA(),RTD(\"cqg.rtd\",,\"StudyData\",\"Close(\"&$D$12&\") when LocalYear(\"&$D$12&\")=\"&$D$7&\" and localMonth(\"&$D$12&\") =\"&$E$7&\" and LocalDay(\"&$D$12&\")=\"&$F$7&\" and Barix(\"&$D$12&\",reference:=StartOfDay)=\"&A12&\"\",\"Bar\",\"\",\"Close\",\"5\",\"0\",\"All\",,,\"False\",\"T\",\"EveryTick\"))","v":4293.25},4.6606466647247305E-4,{"$f":"IF(A12=\"\",NA(),RTD(\"cqg.rtd\",,\"StudyData\",\"Close(\"&$D$12&\") when LocalYear(\"&$D$12&\")=\"&$D$8&\" and localMonth(\"&$D$12&\") =\"&$E$8&\" and LocalDay(\"&$D$12&\")=\"&$F$8&\" and Barix(\"&$D$12&\",reference:=StartOfDay)=\"&A12&\"\",\"Bar\",\"\",\"Close\",\"5\",\"0\",\"All\",,,\"False\",\"T\",\"EveryTick\"))","v":4328.5},-3.5107913669064749E-3,{"$f":"IF(A12=\"\",NA(),RTD(\"cqg.rtd\",,\"StudyData\",\"Close(\"&$D$12&\") when LocalYear(\"&$D$12&\")=\"&$D$9&\" and localMonth(\"&$D$12&\") =\"&$E$9&\" and LocalDay(\"&$D$12&\")=\"&$F$9&\" and Barix(\"&$D$12&\",reference:=StartOfDay)=\"&A12&\"\",\"Bar\",\"\",\"Close\",\"5\",\"0\",\"All\",,,\"False\",\"T\",\"EveryTick\"))","v":4267.5},-7.0385666918736552E-3,{"$f":"IF(A12=\"\",NA(),RTD(\"cqg.rtd\",,\"StudyData\",\"Close(\"&$D$12&\") when LocalYear(\"&$D$12&\")=\"&$D$10&\" and localMonth(\"&$D$12&\") =\"&$E$10&\" and LocalDay(\"&$D$12&\")=\"&$F$10&\" and Barix(\"&$D$12&\",reference:=StartOfDay)=\"&A12&\"\",\"Bar\",\"\",\"Close\",\"5\",\"0\",\"All\",,,\"False\",\"T\",\"EveryTick\"))","v":4384},7.874015748031496E-3,null,{"$f":"VLOOKUP(MAX(AE2:AE168),A1:B168,2,FALSE)","v":"10:15:00"},null,""]
[{"$f":"IF($D$12=\"QGA\",0,A12+1)","v":108},"02:00:00",null,{"$f":"RTD(\"cqg.rtd\", ,\"ContractData\",D12, \"LastQuoteToday\",, \"T\")","v":4335.75},null,null,{"$f":"C1","v":"2021-10-13"},{"$f":"IF(A13=\"\",NA(),RTD(\"cqg.rtd\",,\"StudyData\",\"Close(\"&$D$12&\") when LocalYear(\"&$D$12&\")=\"&$D$1&\" and localMonth(\"&$D$12&\") =\"&$E$1&\" and LocalDay(\"&$D$12&\")=\"&$F$1&\" and Barix(\"&$D$12&\",reference:=StartOfDay)=\"&A13&\"\",\"Bar\",\"\",\"Close\",\"5\",\"0\",\"All\",,,\"False\",\"T\",\"EveryTick\"))","v":4329.25},-2.6493117548810688E-3,{"$f":"IF(A13=\"\",NA(),RTD(\"cqg.rtd\",,\"StudyData\", \"Close(\"&$D$12&\") when LocalYear(\"&$D$12&\")=\"&$D$2&\" and localMonth(\"&$D$12&\") =\"&$E$2&\" and LocalDay(\"&$D$12&\")=\"&$F$2&\" and Barix(\"&$D$12&\",reference:=StartOfDay)=\"&A13&\"\", \"Bar\", \"\", \"Close\",\"5\",\"0\",\"All\",,,\"False\",\"T\",\"EveryTick\"))","v":4320.75},-6.9524247299471388E-3,{"$f":"IF(A13=\"\",NA(),RTD(\"cqg.rtd\",,\"StudyData\", \"Close(\"&$D$12&\") when LocalYear(\"&$D$12&\")=\"&$D$3&\" and localMonth(\"&$D$12&\") =\"&$E$3&\" and LocalDay(\"&$D$12&\")=\"&$F$3&\" and Barix(\"&$D$12&\",reference:=StartOfDay)=\"&A13&\"\", \"Bar\", \"\", \"Close\",\"5\",\"0\",\"All\",,,\"False\",\"T\",\"EveryTick\"))","v":4367.25},-3.4228991956186889E-3,{"$f":"IF(A13=\"\",NA(),RTD(\"cqg.rtd\",,\"StudyData\", \"Close(\"&$D$12&\") when LocalYear(\"&$D$12&\")=\"&$D$4&\" and localMonth(\"&$D$12&\") =\"&$E$4&\" and LocalDay(\"&$D$12&\")=\"&$F$4&\" and Barix(\"&$D$12&\",reference:=StartOfDay)=\"&A13&\"\", \"Bar\", \"\", \"Close\",\"5\",\"0\",\"All\",,,\"False\",\"T\",\"EveryTick\"))","v":4396.5},1.480637813211845E-3,{"$f":"IF(A13=\"\",NA(),RTD(\"cqg.rtd\",,\"StudyData\", \"Close(\"&$D$12&\") when LocalYear(\"&$D$12&\")=\"&$D$5&\" and localMonth(\"&$D$12&\") =\"&$E$5&\" and LocalDay(\"&$D$12&\")=\"&$F$5&\" and Barix(\"&$D$12&\",reference:=StartOfDay)=\"&A13&\"\", \"Bar\", \"\", \"Close\",\"5\",\"0\",\"All\",,,\"False\",\"T\",\"EveryTick\"))","v":4378.5},5.627009646302251E-3,{"$f":"IF(A13=\"\",NA(),RTD(\"cqg.rtd\",,\"StudyData\", \"Close(\"&$D$12&\") when LocalYear(\"&$D$12&\")=\"&$D$6&\" and localMonth(\"&$D$12&\") =\"&$E$6&\" and LocalDay(\"&$D$12&\")=\"&$F$6&\" and Barix(\"&$D$12&\",reference:=StartOfDay)=\"&A13&\"\", \"Bar\", \"\", \"Close\",\"5\",\"0\",\"All\",,,\"False\",\"T\",\"EveryTick\"))","v":4306.75},-6.287494231656668E-3,{"$f":"IF(A13=\"\",NA(),RTD(\"cqg.rtd\",,\"StudyData\",\"Close(\"&$D$12&\") when LocalYear(\"&$D$12&\")=\"&$D$7&\" and localMonth(\"&$D$12&\") =\"&$E$7&\" and LocalDay(\"&$D$12&\")=\"&$F$7&\" and Barix(\"&$D$12&\",reference:=StartOfDay)=\"&A13&\"\",\"Bar\",\"\",\"Close\",\"5\",\"0\",\"All\",,,\"False\",\"T\",\"EveryTick\"))","v":4293},4.0780658316341391E-4,{"$f":"IF(A13=\"\",NA(),RTD(\"cqg.rtd\",,\"StudyData\",\"Close(\"&$D$12&\") when LocalYear(\"&$D$12&\")=\"&$D$8&\" and localMonth(\"&$D$12&\") =\"&$E$8&\" and LocalDay(\"&$D$12&\")=\"&$F$8&\" and Barix(\"&$D$12&\",reference:=StartOfDay)=\"&A13&\"\",\"Bar\",\"\",\"Close\",\"5\",\"0\",\"All\",,,\"False\",\"T\",\"EveryTick\"))","v":4321},-5.2374100719424464E-3,{"$f":"IF(A13=\"\",NA(),RTD(\"cqg.rtd\",,\"StudyData\",\"Close(\"&$D$12&\") when LocalYear(\"&$D$12&\")=\"&$D$9&\" and localMonth(\"&$D$12&\") =\"&$E$9&\" and LocalDay(\"&$D$12&\")=\"&$F$9&\" and Barix(\"&$D$12&\",reference:=StartOfDay)=\"&A13&\"\",\"Bar\",\"\",\"Close\",\"5\",\"0\",\"All\",,,\"False\",\"T\",\"EveryTick\"))","v":4264.75},-7.6784363911348965E-3,{"$f":"IF(A13=\"\",NA(),RTD(\"cqg.rtd\",,\"StudyData\",\"Close(\"&$D$12&\") when LocalYear(\"&$D$12&\")=\"&$D$10&\" and localMonth(\"&$D$12&\") =\"&$E$10&\" and LocalDay(\"&$D$12&\")=\"&$F$10&\" and Barix(\"&$D$12&\",reference:=StartOfDay)=\"&A13&\"\",\"Bar\",\"\",\"Close\",\"5\",\"0\",\"All\",,,\"False\",\"T\",\"EveryTick\"))","v":4382.75},7.5866429105120982E-3,null,null,null,""]
[{"$f":"A13+1","v":109},"02:05:00",null,{"$f":"RTD(\"cqg.rtd\", ,\"ContractData\",D12, \"LongDescription\",, \"T\")","v":"E-Mini S&P 500, Dec 21"},null,4.1666666666666664E-2,"2021-10-12",{"$f":"RTD(\"cqg.rtd\",,\"StudyData\", \"Close(\"&$D$12&\") when LocalYear(\"&$D$12&\")=\"&$D$1&\" and localMonth(\"&$D$12&\") =\"&$E$1&\" and LocalDay(\"&$D$12&\")=\"&$F$1&\" and Barix(\"&$D$12&\",reference:=StartOfDay)=\"&A14&\"\", \"Bar\", \"\", \"Close\",\"5\",\"0\",\"All\",,,\"False\",\"T\",\"EveryTick\")","v":4324.25},-3.8011864309163163E-3,{"$f":"RTD(\"cqg.rtd\",,\"StudyData\", \"Close(\"&$D$12&\") when LocalYear(\"&$D$12&\")=\"&$D$2&\" and localMonth(\"&$D$12&\") =\"&$E$2&\" and LocalDay(\"&$D$12&\")=\"&$F$2&\" and Barix(\"&$D$12&\",reference:=StartOfDay)=\"&A14&\"\", \"Bar\", \"\", \"Close\",\"5\",\"0\",\"All\",,,\"False\",\"T\",\"EveryTick\")","v":4326},-5.7458055619397843E-3,{"$f":"RTD(\"cqg.rtd\",,\"StudyData\", \"Close(\"&$D$12&\") when LocalYear(\"&$D$12&\")=\"&$D$3&\" and localMonth(\"&$D$12&\") =\"&$E$3&\" and LocalDay(\"&$D$12&\")=\"&$F$3&\" and Barix(\"&$D$12&\",reference:=StartOfDay)=\"&A14&\"\", \"Bar\", \"\", \"Close\",\"5\",\"0\",\"All\",,,\"False\",\"T\",\"EveryTick\")","v":4375.75},-1.483256318101432E-3,{"$f":"RTD(\"cqg.rtd\",,\"StudyData\", \"Close(\"&$D$12&\") when LocalYear(\"&$D$12&\")=\"&$D$4&\" and localMonth(\"&$D$12&\") =\"&$E$4&\" and LocalDay(\"&$D$12&\")=\"&$F$4&\" and Barix(\"&$D$12&\",reference:=StartOfDay)=\"&A14&\"\", \"Bar\", \"\", \"Close\",\"5\",\"0\",\"All\",,,\"False\",\"T\",\"EveryTick\")","v":4399.75},2.2209567198177675E-3,{"$f":"RTD(\"cqg.rtd\",,\"StudyData\", \"Close(\"&$D$12&\") when LocalYear(\"&$D$12&\")=\"&$D$5&\" and localMonth(\"&$D$12&\") =\"&$E$5&\" and LocalDay(\"&$D$12&\")=\"&$F$5&\" and Barix(\"&$D$12&\",reference:=StartOfDay)=\"&A14&\"\", \"Bar\", \"\", \"Close\",\"5\",\"0\",\"All\",,,\"False\",\"T\",\"EveryTick\")","v":4378},5.5121727147450618E-3,{"$f":"RTD(\"cqg.rtd\",,\"StudyData\", \"Close(\"&$D$12&\") when LocalYear(\"&$D$12&\")=\"&$D$6&\" and localMonth(\"&$D$12&\") =\"&$E$6&\" and LocalDay(\"&$D$12&\")=\"&$F$6&\" and Barix(\"&$D$12&\",reference:=StartOfDay)=\"&A14&\"\", \"Bar\", \"\", \"Close\",\"5\",\"0\",\"All\",,,\"False\",\"T\",\"EveryTick\")","v":4301},-7.6142131979695434E-3,{"$f":"RTD(\"cqg.rtd\",,\"StudyData\", \"Close(\"&$D$12&\") when LocalYear(\"&$D$12&\")=\"&$D$7&\" and localMonth(\"&$D$12&\") =\"&$E$7&\" and LocalDay(\"&$D$12&\")=\"&$F$7&\" and Barix(\"&$D$12&\",reference:=StartOfDay)=\"&A14&\"\", \"Bar\", \"\", \"Close\",\"5\",\"0\",\"All\",,,\"False\",\"T\",\"EveryTick\")","v":4294.25},6.9909699970870955E-4,{"$f":"RTD(\"cqg.rtd\",,\"StudyData\", \"Close(\"&$D$12&\") when LocalYear(\"&$D$12&\")=\"&$D$8&\" and localMonth(\"&$D$12&\") =\"&$E$8&\" and LocalDay(\"&$D$12&\")=\"&$F$8&\" and Barix(\"&$D$12&\",reference:=StartOfDay)=\"&A14&\"\", \"Bar\", \"\", \"Close\",\"5\",\"0\",\"All\",,,\"False\",\"T\",\"EveryTick\")","v":4326.5},-3.9712230215827342E-3,{"$f":"RTD(\"cqg.rtd\",,\"StudyData\", \"Close(\"&$D$12&\") when LocalYear(\"&$D$12&\")=\"&$D$9&\" and localMonth(\"&$D$12&\") =\"&$E$9&\" and LocalDay(\"&$D$12&\")=\"&$F$9&\" and Barix(\"&$D$12&\",reference:=StartOfDay)=\"&A14&\"\", \"Bar\", \"\", \"Close\",\"5\",\"0\",\"All\",,,\"False\",\"T\",\"EveryTick\")","v":4264.75},-7.6784363911348965E-3,{"$f":"RTD(\"cqg.rtd\",,\"StudyData\", \"Close(\"&$D$12&\") when LocalYear(\"&$D$12&\")=\"&$D$10&\" and localMonth(\"&$D$12&\") =\"&$E$10&\" and LocalDay(\"&$D$12&\")=\"&$F$10&\" and Barix(\"&$D$12&\",reference:=StartOfDay)=\"&A14&\"\", \"Bar\", \"\", \"Close\",\"5\",\"0\",\"All\",,,\"False\",\"T\",\"EveryTick\")","v":4378.25},6.5521006954422671E-3,null,null,null,""]
[110,"02:10:00","",null,null,{"$f":"B1+7.5/24","v":"08:30:00"},"2021-10-11",{"$f":"RTD(\"cqg.rtd\",,\"StudyData\", \"Close(\"&$D$12&\") when LocalYear(\"&$D$12&\")=\"&$D$1&\" and localMonth(\"&$D$12&\") =\"&$E$1&\" and LocalDay(\"&$D$12&\")=\"&$F$1&\" and Barix(\"&$D$12&\",reference:=StartOfDay)=\"&A15&\"\", \"Bar\", \"\", \"Close\",\"5\",\"0\",\"All\",,,\"False\",\"T\",\"EveryTick\")","v":4327.25},-3.110061625295168E-3,{"$f":"RTD(\"cqg.rtd\",,\"StudyData\", \"Close(\"&$D$12&\") when LocalYear(\"&$D$12&\")=\"&$D$2&\" and localMonth(\"&$D$12&\") =\"&$E$2&\" and LocalDay(\"&$D$12&\")=\"&$F$2&\" and Barix(\"&$D$12&\",reference:=StartOfDay)=\"&A15&\"\", \"Bar\", \"\", \"Close\",\"5\",\"0\",\"All\",,,\"False\",\"T\",\"EveryTick\")","v":4334.5},-3.7922316708802572E-3,{"$f":"RTD(\"cqg.rtd\",,\"StudyData\", \"Close(\"&$D$12&\") when LocalYear(\"&$D$12&\")=\"&$D$3&\" and localMonth(\"&$D$12&\") =\"&$E$3&\" and LocalDay(\"&$D$12&\")=\"&$F$3&\" and Barix(\"&$D$12&\",reference:=StartOfDay)=\"&A15&\"\", \"Bar\", \"\", \"Close\",\"5\",\"0\",\"All\",,,\"False\",\"T\",\"EveryTick\")","v":4374.5},-1.7684979177363227E-3,{"$f":"RTD(\"cqg.rtd\",,\"StudyData\", \"Close(\"&$D$12&\") when LocalYear(\"&$D$12&\")=\"&$D$4&\" and localMonth(\"&$D$12&\") =\"&$E$4&\" and LocalDay(\"&$D$12&\")=\"&$F$4&\" and Barix(\"&$D$12&\",reference:=StartOfDay)=\"&A15&\"\", \"Bar\", \"\", \"Close\",\"5\",\"0\",\"All\",,,\"False\",\"T\",\"EveryTick\")","v":4397.25},1.6514806378132118E-3,{"$f":"RTD(\"cqg.rtd\",,\"StudyData\", \"Close(\"&$D$12&\") when LocalYear(\"&$D$12&\")=\"&$D$5&\" and localMonth(\"&$D$12&\") =\"&$E$5&\" and LocalDay(\"&$D$12&\")=\"&$F$5&\" and Barix(\"&$D$12&\",reference:=StartOfDay)=\"&A15&\"\", \"Bar\", \"\", \"Close\",\"5\",\"0\",\"All\",,,\"False\",\"T\",\"EveryTick\")","v":4377},5.2824988516306844E-3,{"$f":"RTD(\"cqg.rtd\",,\"StudyData\", \"Close(\"&$D$12&\") when LocalYear(\"&$D$12&\")=\"&$D$6&\" and localMonth(\"&$D$12&\") =\"&$E$6&\" and LocalDay(\"&$D$12&\")=\"&$F$6&\" and Barix(\"&$D$12&\",reference:=StartOfDay)=\"&A15&\"\", \"Bar\", \"\", \"Close\",\"5\",\"0\",\"All\",,,\"False\",\"T\",\"EveryTick\")","v":4301},-7.6142131979695434E-3,{"$f":"RTD(\"cqg.rtd\",,\"StudyData\", \"Close(\"&$D$12&\") when LocalYear(\"&$D$12&\")=\"&$D$7&\" and localMonth(\"&$D$12&\") =\"&$E$7&\" and LocalDay(\"&$D$12&\")=\"&$F$7&\" and Barix(\"&$D$12&\",reference:=StartOfDay)=\"&A15&\"\", \"Bar\", \"\", \"Close\",\"5\",\"0\",\"All\",,,\"False\",\"T\",\"EveryTick\")","v":4299},1.8060005825808331E-3,{"$f":"RTD(\"cqg.rtd\",,\"StudyData\", \"Close(\"&$D$12&\") when LocalYear(\"&$D$12&\")=\"&$D$8&\" and localMonth(\"&$D$12&\") =\"&$E$8&\" and LocalDay(\"&$D$12&\")=\"&$F$8&\" and Barix(\"&$D$12&\",reference:=StartOfDay)=\"&A15&\"\", \"Bar\", \"\", \"Close\",\"5\",\"0\",\"All\",,,\"False\",\"T\",\"EveryTick\")","v":4330.75},-2.9928057553956834E-3,{"$f":"RTD(\"cqg.rtd\",,\"StudyData\", \"Close(\"&$D$12&\") when LocalYear(\"&$D$12&\")=\"&$D$9&\" and localMonth(\"&$D$12&\") =\"&$E$9&\" and LocalDay(\"&$D$12&\")=\"&$F$9&\" and Barix(\"&$D$12&\",reference:=StartOfDay)=\"&A15&\"\", \"Bar\", \"\", \"Close\",\"5\",\"0\",\"All\",,,\"False\",\"T\",\"EveryTick\")","v":4269.75},-6.5150369379326388E-3,{"$f":"RTD(\"cqg.rtd\",,\"StudyData\", \"Close(\"&$D$12&\") when LocalYear(\"&$D$12&\")=\"&$D$10&\" and localMonth(\"&$D$12&\") =\"&$E$10&\" and LocalDay(\"&$D$12&\")=\"&$F$10&\" and Barix(\"&$D$12&\",reference:=StartOfDay)=\"&A15&\"\", \"Bar\", \"\", \"Close\",\"5\",\"0\",\"All\",,,\"False\",\"T\",\"EveryTick\")","v":4376.5},6.1497787229151104E-3,null,null,null,""]
[111,"02:15:00",null,{"$f":"RTD(\"cqg.rtd\", ,\"ContractData\",D12, \"Ticksize\",, \"T\")","v":0.25},null,0.35416666666666669,"2021-10-08",{"$f":"RTD(\"cqg.rtd\",,\"StudyData\", \"Close(\"&$D$12&\") when LocalYear(\"&$D$12&\")=\"&$D$1&\" and localMonth(\"&$D$12&\") =\"&$E$1&\" and LocalDay(\"&$D$12&\")=\"&$F$1&\" and Barix(\"&$D$12&\",reference:=StartOfDay)=\"&A16&\"\", \"Bar\", \"\", \"Close\",\"5\",\"0\",\"All\",,,\"False\",\"T\",\"EveryTick\")","v":4327.75},-2.994874157691643E-3,{"$f":"RTD(\"cqg.rtd\",,\"StudyData\", \"Close(\"&$D$12&\") when LocalYear(\"&$D$12&\")=\"&$D$2&\" and localMonth(\"&$D$12&\") =\"&$E$2&\" and LocalDay(\"&$D$12&\")=\"&$F$2&\" and Barix(\"&$D$12&\",reference:=StartOfDay)=\"&A16&\"\", \"Bar\", \"\", \"Close\",\"5\",\"0\",\"All\",,,\"False\",\"T\",\"EveryTick\")","v":4330.25},-4.769018616410021E-3,{"$f":"RTD(\"cqg.rtd\",,\"StudyData\", \"Close(\"&$D$12&\") when LocalYear(\"&$D$12&\")=\"&$D$3&\" and localMonth(\"&$D$12&\") =\"&$E$3&\" and LocalDay(\"&$D$12&\")=\"&$F$3&\" and Barix(\"&$D$12&\",reference:=StartOfDay)=\"&A16&\"\", \"Bar\", \"\", \"Close\",\"5\",\"0\",\"All\",,,\"False\",\"T\",\"EveryTick\")","v":4374.25},-1.8255462376633009E-3,{"$f":"RTD(\"cqg.rtd\",,\"StudyData\", \"Close(\"&$D$12&\") when LocalYear(\"&$D$12&\")=\"&$D$4&\" and localMonth(\"&$D$12&\") =\"&$E$4&\" and LocalDay(\"&$D$12&\")=\"&$F$4&\" and Barix(\"&$D$12&\",reference:=StartOfDay)=\"&A16&\"\", \"Bar\", \"\", \"Close\",\"5\",\"0\",\"All\",,,\"False\",\"T\",\"EveryTick\")","v":4393.25},7.4031890660592251E-4,{"$f":"RTD(\"cqg.rtd\",,\"StudyData\", \"Close(\"&$D$12&\") when LocalYear(\"&$D$12&\")=\"&$D$5&\" and localMonth(\"&$D$12&\") =\"&$E$5&\" and LocalDay(\"&$D$12&\")=\"&$F$5&\" and Barix(\"&$D$12&\",reference:=StartOfDay)=\"&A16&\"\", \"Bar\", \"\", \"Close\",\"5\",\"0\",\"All\",,,\"False\",\"T\",\"EveryTick\")","v":4372.25},4.1915480018373912E-3,{"$f":"RTD(\"cqg.rtd\",,\"StudyData\", \"Close(\"&$D$12&\") when LocalYear(\"&$D$12&\")=\"&$D$6&\" and localMonth(\"&$D$12&\") =\"&$E$6&\" and LocalDay(\"&$D$12&\")=\"&$F$6&\" and Barix(\"&$D$12&\",reference:=StartOfDay)=\"&A16&\"\", \"Bar\", \"\", \"Close\",\"5\",\"0\",\"All\",,,\"False\",\"T\",\"EveryTick\")","v":4303.25},-7.0950622981079837E-3,{"$f":"RTD(\"cqg.rtd\",,\"StudyData\", \"Close(\"&$D$12&\") when LocalYear(\"&$D$12&\")=\"&$D$7&\" and localMonth(\"&$D$12&\") =\"&$E$7&\" and LocalDay(\"&$D$12&\")=\"&$F$7&\" and Barix(\"&$D$12&\",reference:=StartOfDay)=\"&A16&\"\", \"Bar\", \"\", \"Close\",\"5\",\"0\",\"All\",,,\"False\",\"T\",\"EveryTick\")","v":4295.5},9.9038741625400535E-4,{"$f":"RTD(\"cqg.rtd\",,\"StudyData\", \"Close(\"&$D$12&\") when LocalYear(\"&$D$12&\")=\"&$D$8&\" and localMonth(\"&$D$12&\") =\"&$E$8&\" and LocalDay(\"&$D$12&\")=\"&$F$8&\" and Barix(\"&$D$12&\",reference:=StartOfDay)=\"&A16&\"\", \"Bar\", \"\", \"Close\",\"5\",\"0\",\"All\",,,\"False\",\"T\",\"EveryTick\")","v":4324.75},-4.3741007194244607E-3,{"$f":"RTD(\"cqg.rtd\",,\"StudyData\", \"Close(\"&$D$12&\") when LocalYear(\"&$D$12&\")=\"&$D$9&\" and localMonth(\"&$D$12&\") =\"&$E$9&\" and LocalDay(\"&$D$12&\")=\"&$F$9&\" and Barix(\"&$D$12&\",reference:=StartOfDay)=\"&A16&\"\", \"Bar\", \"\", \"Close\",\"5\",\"0\",\"All\",,,\"False\",\"T\",\"EveryTick\")","v":4274.25},-5.4679774300506077E-3,{"$f":"RTD(\"cqg.rtd\",,\"StudyData\", \"Close(\"&$D$12&\") when LocalYear(\"&$D$12&\")=\"&$D$10&\" and localMonth(\"&$D$12&\") =\"&$E$10&\" and LocalDay(\"&$D$12&\")=\"&$F$10&\" and Barix(\"&$D$12&\",reference:=StartOfDay)=\"&A16&\"\", \"Bar\", \"\", \"Close\",\"5\",\"0\",\"All\",,,\"False\",\"T\",\"EveryTick\")","v":4382.5},7.5291683430082192E-3,null,null,null,""]
[112,"02:20:00",null,{"$f":"IF(D16>=1,0,IF(LEN(D16)-2=1,2,LEN(D16)-2))","v":2},null,{"$f":"IF(OR(D12=\"ULA\",D12=\"USA\",D12=\"TYA\",D12=\"TNA\",D12=\"FVA\",D12=\"TUA\"),\"B\",VLOOKUP(D17,D18:E25,2,FALSE))","v":"#.00"},"2021-10-07",{"$f":"RTD(\"cqg.rtd\",,\"StudyData\", \"Close(\"&$D$12&\") when LocalYear(\"&$D$12&\")=\"&$D$1&\" and localMonth(\"&$D$12&\") =\"&$E$1&\" and LocalDay(\"&$D$12&\")=\"&$F$1&\" and Barix(\"&$D$12&\",reference:=StartOfDay)=\"&A17&\"\", \"Bar\", \"\", \"Close\",\"5\",\"0\",\"All\",,,\"False\",\"T\",\"EveryTick\")","v":4326.75},-3.2252490928986926E-3,{"$f":"RTD(\"cqg.rtd\",,\"StudyData\", \"Close(\"&$D$12&\") when LocalYear(\"&$D$12&\")=\"&$D$2&\" and localMonth(\"&$D$12&\") =\"&$E$2&\" and LocalDay(\"&$D$12&\")=\"&$F$2&\" and Barix(\"&$D$12&\",reference:=StartOfDay)=\"&A17&\"\", \"Bar\", \"\", \"Close\",\"5\",\"0\",\"All\",,,\"False\",\"T\",\"EveryTick\")","v":4332.25},-4.3093541714548378E-3,{"$f":"RTD(\"cqg.rtd\",,\"StudyData\", \"Close(\"&$D$12&\") when LocalYear(\"&$D$12&\")=\"&$D$3&\" and localMonth(\"&$D$12&\") =\"&$E$3&\" and LocalDay(\"&$D$12&\")=\"&$F$3&\" and Barix(\"&$D$12&\",reference:=StartOfDay)=\"&A17&\"\", \"Bar\", \"\", \"Close\",\"5\",\"0\",\"All\",,,\"False\",\"T\",\"EveryTick\")","v":4373.75},-1.9396428775172571E-3,{"$f":"RTD(\"cqg.rtd\",,\"StudyData\", \"Close(\"&$D$12&\") when LocalYear(\"&$D$12&\")=\"&$D$4&\" and localMonth(\"&$D$12&\") =\"&$E$4&\" and LocalDay(\"&$D$12&\")=\"&$F$4&\" and Barix(\"&$D$12&\",reference:=StartOfDay)=\"&A17&\"\", \"Bar\", \"\", \"Close\",\"5\",\"0\",\"All\",,,\"False\",\"T\",\"EveryTick\")","v":4392.75},6.2642369020501139E-4,{"$f":"RTD(\"cqg.rtd\",,\"StudyData\", \"Close(\"&$D$12&\") when LocalYear(\"&$D$12&\")=\"&$D$5&\" and localMonth(\"&$D$12&\") =\"&$E$5&\" and LocalDay(\"&$D$12&\")=\"&$F$5&\" and Barix(\"&$D$12&\",reference:=StartOfDay)=\"&A17&\"\", \"Bar\", \"\", \"Close\",\"5\",\"0\",\"All\",,,\"False\",\"T\",\"EveryTick\")","v":4375.75},4.9954065227377125E-3,{"$f":"RTD(\"cqg.rtd\",,\"StudyData\", \"Close(\"&$D$12&\") when LocalYear(\"&$D$12&\")=\"&$D$6&\" and localMonth(\"&$D$12&\") =\"&$E$6&\" and LocalDay(\"&$D$12&\")=\"&$F$6&\" and Barix(\"&$D$12&\",reference:=StartOfDay)=\"&A17&\"\", \"Bar\", \"\", \"Close\",\"5\",\"0\",\"All\",,,\"False\",\"T\",\"EveryTick\")","v":4300},-7.8449469312413481E-3,{"$f":"RTD(\"cqg.rtd\",,\"StudyData\", \"Close(\"&$D$12&\") when LocalYear(\"&$D$12&\")=\"&$D$7&\" and localMonth(\"&$D$12&\") =\"&$E$7&\" and LocalDay(\"&$D$12&\")=\"&$F$7&\" and Barix(\"&$D$12&\",reference:=StartOfDay)=\"&A17&\"\", \"Bar\", \"\", \"Close\",\"5\",\"0\",\"All\",,,\"False\",\"T\",\"EveryTick\")","v":4298.5},1.6894844159627148E-3,{"$f":"RTD(\"cqg.rtd\",,\"StudyData\", \"Close(\"&$D$12&\") when LocalYear(\"&$D$12&\")=\"&$D$8&\" and localMonth(\"&$D$12&\") =\"&$E$8&\" and LocalDay(\"&$D$12&\")=\"&$F$8&\" and Barix(\"&$D$12&\",reference:=StartOfDay)=\"&A17&\"\", \"Bar\", \"\", \"Close\",\"5\",\"0\",\"All\",,,\"False\",\"T\",\"EveryTick\")","v":4322.25},-4.9496402877697845E-3,{"$f":"RTD(\"cqg.rtd\",,\"StudyData\", \"Close(\"&$D$12&\") when LocalYear(\"&$D$12&\")=\"&$D$9&\" and localMonth(\"&$D$12&\") =\"&$E$9&\" and LocalDay(\"&$D$12&\")=\"&$F$9&\" and Barix(\"&$D$12&\",reference:=StartOfDay)=\"&A17&\"\", \"Bar\", \"\", \"Close\",\"5\",\"0\",\"All\",,,\"False\",\"T\",\"EveryTick\")","v":4275.75},-5.1189575940899304E-3,{"$f":"RTD(\"cqg.rtd\",,\"StudyData\", \"Close(\"&$D$12&\") when LocalYear(\"&$D$12&\")=\"&$D$10&\" and localMonth(\"&$D$12&\") =\"&$E$10&\" and LocalDay(\"&$D$12&\")=\"&$F$10&\" and Barix(\"&$D$12&\",reference:=StartOfDay)=\"&A17&\"\", \"Bar\", \"\", \"Close\",\"5\",\"0\",\"All\",,,\"False\",\"T\",\"EveryTick\")","v":4385.75},8.2763377205586526E-3,null,null,null,""]
[113,"02:25:00",null,0,"#",null,"2021-10-06",{"$f":"RTD(\"cqg.rtd\",,\"StudyData\", \"Close(\"&$D$12&\") when LocalYear(\"&$D$12&\")=\"&$D$1&\" and localMonth(\"&$D$12&\") =\"&$E$1&\" and LocalDay(\"&$D$12&\")=\"&$F$1&\" and Barix(\"&$D$12&\",reference:=StartOfDay)=\"&A18&\"\", \"Bar\", \"\", \"Close\",\"5\",\"0\",\"All\",,,\"False\",\"T\",\"EveryTick\")","v":4331},-2.2461556182687323E-3,{"$f":"RTD(\"cqg.rtd\",,\"StudyData\", \"Close(\"&$D$12&\") when LocalYear(\"&$D$12&\")=\"&$D$2&\" and localMonth(\"&$D$12&\") =\"&$E$2&\" and LocalDay(\"&$D$12&\")=\"&$F$2&\" and Barix(\"&$D$12&\",reference:=StartOfDay)=\"&A18&\"\", \"Bar\", \"\", \"Close\",\"5\",\"0\",\"All\",,,\"False\",\"T\",\"EveryTick\")","v":4331.5},-4.4817283383130312E-3,{"$f":"RTD(\"cqg.rtd\",,\"StudyData\", \"Close(\"&$D$12&\") when LocalYear(\"&$D$12&\")=\"&$D$3&\" and localMonth(\"&$D$12&\") =\"&$E$3&\" and LocalDay(\"&$D$12&\")=\"&$F$3&\" and Barix(\"&$D$12&\",reference:=StartOfDay)=\"&A18&\"\", \"Bar\", \"\", \"Close\",\"5\",\"0\",\"All\",,,\"False\",\"T\",\"EveryTick\")","v":4371},-2.5671743967140169E-3,{"$f":"RTD(\"cqg.rtd\",,\"StudyData\", \"Close(\"&$D$12&\") when LocalYear(\"&$D$12&\")=\"&$D$4&\" and localMonth(\"&$D$12&\") =\"&$E$4&\" and LocalDay(\"&$D$12&\")=\"&$F$4&\" and Barix(\"&$D$12&\",reference:=StartOfDay)=\"&A18&\"\", \"Bar\", \"\", \"Close\",\"5\",\"0\",\"All\",,,\"False\",\"T\",\"EveryTick\")","v":4391},2.2779043280182233E-4,{"$f":"RTD(\"cqg.rtd\",,\"StudyData\", \"Close(\"&$D$12&\") when LocalYear(\"&$D$12&\")=\"&$D$5&\" and localMonth(\"&$D$12&\") =\"&$E$5&\" and LocalDay(\"&$D$12&\")=\"&$F$5&\" and Barix(\"&$D$12&\",reference:=StartOfDay)=\"&A18&\"\", \"Bar\", \"\", \"Close\",\"5\",\"0\",\"All\",,,\"False\",\"T\",\"EveryTick\")","v":4377.25},5.339917317409279E-3,{"$f":"RTD(\"cqg.rtd\",,\"StudyData\", \"Close(\"&$D$12&\") when LocalYear(\"&$D$12&\")=\"&$D$6&\" and localMonth(\"&$D$12&\") =\"&$E$6&\" and LocalDay(\"&$D$12&\")=\"&$F$6&\" and Barix(\"&$D$12&\",reference:=StartOfDay)=\"&A18&\"\", \"Bar\", \"\", \"Close\",\"5\",\"0\",\"All\",,,\"False\",\"T\",\"EveryTick\")","v":4302.5},-7.2681125980618363E-3,{"$f":"RTD(\"cqg.rtd\",,\"StudyData\", \"Close(\"&$D$12&\") when LocalYear(\"&$D$12&\")=\"&$D$7&\" and localMonth(\"&$D$12&\") =\"&$E$7&\" and LocalDay(\"&$D$12&\")=\"&$F$7&\" and Barix(\"&$D$12&\",reference:=StartOfDay)=\"&A18&\"\", \"Bar\", \"\", \"Close\",\"5\",\"0\",\"All\",,,\"False\",\"T\",\"EveryTick\")","v":4298.25},1.6312263326536556E-3,{"$f":"RTD(\"cqg.rtd\",,\"StudyData\", \"Close(\"&$D$12&\") when LocalYear(\"&$D$12&\")=\"&$D$8&\" and localMonth(\"&$D$12&\") =\"&$E$8&\" and LocalDay(\"&$D$12&\")=\"&$F$8&\" and Barix(\"&$D$12&\",reference:=StartOfDay)=\"&A18&\"\", \"Bar\", \"\", \"Close\",\"5\",\"0\",\"All\",,,\"False\",\"T\",\"EveryTick\")","v":4319},-5.6978417266187048E-3,{"$f":"RTD(\"cqg.rtd\",,\"StudyData\", \"Close(\"&$D$12&\") when LocalYear(\"&$D$12&\")=\"&$D$9&\" and localMonth(\"&$D$12&\") =\"&$E$9&\" and LocalDay(\"&$D$12&\")=\"&$F$9&\" and Barix(\"&$D$12&\",reference:=StartOfDay)=\"&A18&\"\", \"Bar\", \"\", \"Close\",\"5\",\"0\",\"All\",,,\"False\",\"T\",\"EveryTick\")","v":4279.75},-4.1882380315281251E-3,{"$f":"RTD(\"cqg.rtd\",,\"StudyData\", \"Close(\"&$D$12&\") when LocalYear(\"&$D$12&\")=\"&$D$10&\" and localMonth(\"&$D$12&\") =\"&$E$10&\" and LocalDay(\"&$D$12&\")=\"&$F$10&\" and Barix(\"&$D$12&\",reference:=StartOfDay)=\"&A18&\"\", \"Bar\", \"\", \"Close\",\"5\",\"0\",\"All\",,,\"False\",\"T\",\"EveryTick\")","v":4385.75},8.2763377205586526E-3,null,null,null,""]
[114,"02:30:00",null,1,"#.0",null,"2021-10-05",{"$f":"RTD(\"cqg.rtd\",,\"StudyData\", \"Close(\"&$D$12&\") when LocalYear(\"&$D$12&\")=\"&$D$1&\" and localMonth(\"&$D$12&\") =\"&$E$1&\" and LocalDay(\"&$D$12&\")=\"&$F$1&\" and Barix(\"&$D$12&\",reference:=StartOfDay)=\"&A19&\"\", \"Bar\", \"\", \"Close\",\"5\",\"0\",\"All\",,,\"False\",\"T\",\"EveryTick\")","v":4337},-8.6390600702643554E-4,{"$f":"RTD(\"cqg.rtd\",,\"StudyData\", \"Close(\"&$D$12&\") when LocalYear(\"&$D$12&\")=\"&$D$2&\" and localMonth(\"&$D$12&\") =\"&$E$2&\" and LocalDay(\"&$D$12&\")=\"&$F$2&\" and Barix(\"&$D$12&\",reference:=StartOfDay)=\"&A19&\"\", \"Bar\", \"\", \"Close\",\"5\",\"0\",\"All\",,,\"False\",\"T\",\"EveryTick\")","v":4334.25},-3.8496897264996555E-3,{"$f":"RTD(\"cqg.rtd\",,\"StudyData\", \"Close(\"&$D$12&\") when LocalYear(\"&$D$12&\")=\"&$D$3&\" and localMonth(\"&$D$12&\") =\"&$E$3&\" and LocalDay(\"&$D$12&\")=\"&$F$3&\" and Barix(\"&$D$12&\",reference:=StartOfDay)=\"&A19&\"\", \"Bar\", \"\", \"Close\",\"5\",\"0\",\"All\",,,\"False\",\"T\",\"EveryTick\")","v":4372.25},-2.2819327970791262E-3,{"$f":"RTD(\"cqg.rtd\",,\"StudyData\", \"Close(\"&$D$12&\") when LocalYear(\"&$D$12&\")=\"&$D$4&\" and localMonth(\"&$D$12&\") =\"&$E$4&\" and LocalDay(\"&$D$12&\")=\"&$F$4&\" and Barix(\"&$D$12&\",reference:=StartOfDay)=\"&A19&\"\", \"Bar\", \"\", \"Close\",\"5\",\"0\",\"All\",,,\"False\",\"T\",\"EveryTick\")","v":4388.5},-3.416856492027335E-4,{"$f":"RTD(\"cqg.rtd\",,\"StudyData\", \"Close(\"&$D$12&\") when LocalYear(\"&$D$12&\")=\"&$D$5&\" and localMonth(\"&$D$12&\") =\"&$E$5&\" and LocalDay(\"&$D$12&\")=\"&$F$5&\" and Barix(\"&$D$12&\",reference:=StartOfDay)=\"&A19&\"\", \"Bar\", \"\", \"Close\",\"5\",\"0\",\"All\",,,\"False\",\"T\",\"EveryTick\")","v":4375},4.8231511254019296E-3,{"$f":"RTD(\"cqg.rtd\",,\"StudyData\", \"Close(\"&$D$12&\") when LocalYear(\"&$D$12&\")=\"&$D$6&\" and localMonth(\"&$D$12&\") =\"&$E$6&\" and LocalDay(\"&$D$12&\")=\"&$F$6&\" and Barix(\"&$D$12&\",reference:=StartOfDay)=\"&A19&\"\", \"Bar\", \"\", \"Close\",\"5\",\"0\",\"All\",,,\"False\",\"T\",\"EveryTick\")","v":4296.25},-8.7101984310106132E-3,{"$f":"RTD(\"cqg.rtd\",,\"StudyData\", \"Close(\"&$D$12&\") when LocalYear(\"&$D$12&\")=\"&$D$7&\" and localMonth(\"&$D$12&\") =\"&$E$7&\" and LocalDay(\"&$D$12&\")=\"&$F$7&\" and Barix(\"&$D$12&\",reference:=StartOfDay)=\"&A19&\"\", \"Bar\", \"\", \"Close\",\"5\",\"0\",\"All\",,,\"False\",\"T\",\"EveryTick\")","v":4295.25},9.321293329449461E-4,{"$f":"RTD(\"cqg.rtd\",,\"StudyData\", \"Close(\"&$D$12&\") when LocalYear(\"&$D$12&\")=\"&$D$8&\" and localMonth(\"&$D$12&\") =\"&$E$8&\" and LocalDay(\"&$D$12&\")=\"&$F$8&\" and Barix(\"&$D$12&\",reference:=StartOfDay)=\"&A19&\"\", \"Bar\", \"\", \"Close\",\"5\",\"0\",\"All\",,,\"False\",\"T\",\"EveryTick\")","v":4316.25},-6.3309352517985614E-3,{"$f":"RTD(\"cqg.rtd\",,\"StudyData\", \"Close(\"&$D$12&\") when LocalYear(\"&$D$12&\")=\"&$D$9&\" and localMonth(\"&$D$12&\") =\"&$E$9&\" and LocalDay(\"&$D$12&\")=\"&$F$9&\" and Barix(\"&$D$12&\",reference:=StartOfDay)=\"&A19&\"\", \"Bar\", \"\", \"Close\",\"5\",\"0\",\"All\",,,\"False\",\"T\",\"EveryTick\")","v":4278.75},-4.4209179221685766E-3,{"$f":"RTD(\"cqg.rtd\",,\"StudyData\", \"Close(\"&$D$12&\") when LocalYear(\"&$D$12&\")=\"&$D$10&\" and localMonth(\"&$D$12&\") =\"&$E$10&\" and LocalDay(\"&$D$12&\")=\"&$F$10&\" and Barix(\"&$D$12&\",reference:=StartOfDay)=\"&A19&\"\", \"Bar\", \"\", \"Close\",\"5\",\"0\",\"All\",,,\"False\",\"T\",\"EveryTick\")","v":4385},8.1039140180470138E-3,null,null,null,""]
[115,"02:35:00",null,2,"#.00",null,"2021-10-04",{"$f":"RTD(\"cqg.rtd\",,\"StudyData\", \"Close(\"&$D$12&\") when LocalYear(\"&$D$12&\")=\"&$D$1&\" and localMonth(\"&$D$12&\") =\"&$E$1&\" and LocalDay(\"&$D$12&\")=\"&$F$1&\" and Barix(\"&$D$12&\",reference:=StartOfDay)=\"&A20&\"\", \"Bar\", \"\", \"Close\",\"5\",\"0\",\"All\",,,\"False\",\"T\",\"EveryTick\")","v":4338.25},-5.7593733801762366E-4,{"$f":"RTD(\"cqg.rtd\",,\"StudyData\", \"Close(\"&$D$12&\") when LocalYear(\"&$D$12&\")=\"&$D$2&\" and localMonth(\"&$D$12&\") =\"&$E$2&\" and LocalDay(\"&$D$12&\")=\"&$F$2&\" and Barix(\"&$D$12&\",reference:=StartOfDay)=\"&A20&\"\", \"Bar\", \"\", \"Close\",\"5\",\"0\",\"All\",,,\"False\",\"T\",\"EveryTick\")","v":4334.5},-3.7922316708802572E-3,{"$f":"RTD(\"cqg.rtd\",,\"StudyData\", \"Close(\"&$D$12&\") when LocalYear(\"&$D$12&\")=\"&$D$3&\" and localMonth(\"&$D$12&\") =\"&$E$3&\" and LocalDay(\"&$D$12&\")=\"&$F$3&\" and Barix(\"&$D$12&\",reference:=StartOfDay)=\"&A20&\"\", \"Bar\", \"\", \"Close\",\"5\",\"0\",\"All\",,,\"False\",\"T\",\"EveryTick\")","v":4367.25},-3.4228991956186889E-3,{"$f":"RTD(\"cqg.rtd\",,\"StudyData\", \"Close(\"&$D$12&\") when LocalYear(\"&$D$12&\")=\"&$D$4&\" and localMonth(\"&$D$12&\") =\"&$E$4&\" and LocalDay(\"&$D$12&\")=\"&$F$4&\" and Barix(\"&$D$12&\",reference:=StartOfDay)=\"&A20&\"\", \"Bar\", \"\", \"Close\",\"5\",\"0\",\"All\",,,\"False\",\"T\",\"EveryTick\")","v":4390.75},1.7084282460136675E-4,{"$f":"RTD(\"cqg.rtd\",,\"StudyData\", \"Close(\"&$D$12&\") when LocalYear(\"&$D$12&\")=\"&$D$5&\" and localMonth(\"&$D$12&\") =\"&$E$5&\" and LocalDay(\"&$D$12&\")=\"&$F$5&\" and Barix(\"&$D$12&\",reference:=StartOfDay)=\"&A20&\"\", \"Bar\", \"\", \"Close\",\"5\",\"0\",\"All\",,,\"False\",\"T\",\"EveryTick\")","v":4377.5},5.3973357831878736E-3,{"$f":"RTD(\"cqg.rtd\",,\"StudyData\", \"Close(\"&$D$12&\") when LocalYear(\"&$D$12&\")=\"&$D$6&\" and localMonth(\"&$D$12&\") =\"&$E$6&\" and LocalDay(\"&$D$12&\")=\"&$F$6&\" and Barix(\"&$D$12&\",reference:=StartOfDay)=\"&A20&\"\", \"Bar\", \"\", \"Close\",\"5\",\"0\",\"All\",,,\"False\",\"T\",\"EveryTick\")","v":4294.25},-9.1716658975542226E-3,{"$f":"RTD(\"cqg.rtd\",,\"StudyData\", \"Close(\"&$D$12&\") when LocalYear(\"&$D$12&\")=\"&$D$7&\" and localMonth(\"&$D$12&\") =\"&$E$7&\" and LocalDay(\"&$D$12&\")=\"&$F$7&\" and Barix(\"&$D$12&\",reference:=StartOfDay)=\"&A20&\"\", \"Bar\", \"\", \"Close\",\"5\",\"0\",\"All\",,,\"False\",\"T\",\"EveryTick\")","v":4292.5},2.9129041654529564E-4,{"$f":"RTD(\"cqg.rtd\",,\"StudyData\", \"Close(\"&$D$12&\") when LocalYear(\"&$D$12&\")=\"&$D$8&\" and localMonth(\"&$D$12&\") =\"&$E$8&\" and LocalDay(\"&$D$12&\")=\"&$F$8&\" and Barix(\"&$D$12&\",reference:=StartOfDay)=\"&A20&\"\", \"Bar\", \"\", \"Close\",\"5\",\"0\",\"All\",,,\"False\",\"T\",\"EveryTick\")","v":4319.5},-5.5827338129496402E-3,{"$f":"RTD(\"cqg.rtd\",,\"StudyData\", \"Close(\"&$D$12&\") when LocalYear(\"&$D$12&\")=\"&$D$9&\" and localMonth(\"&$D$12&\") =\"&$E$9&\" and LocalDay(\"&$D$12&\")=\"&$F$9&\" and Barix(\"&$D$12&\",reference:=StartOfDay)=\"&A20&\"\", \"Bar\", \"\", \"Close\",\"5\",\"0\",\"All\",,,\"False\",\"T\",\"EveryTick\")","v":4274.75},-5.3516374847303819E-3,{"$f":"RTD(\"cqg.rtd\",,\"StudyData\", \"Close(\"&$D$12&\") when LocalYear(\"&$D$12&\")=\"&$D$10&\" and localMonth(\"&$D$12&\") =\"&$E$10&\" and LocalDay(\"&$D$12&\")=\"&$F$10&\" and Barix(\"&$D$12&\",reference:=StartOfDay)=\"&A20&\"\", \"Bar\", \"\", \"Close\",\"5\",\"0\",\"All\",,,\"False\",\"T\",\"EveryTick\")","v":4386},8.3338122880625316E-3,null,null,null,""]
[116,"02:40:00",null,3,"#.000",null,"2021-10-01",{"$f":"RTD(\"cqg.rtd\",,\"StudyData\", \"Close(\"&$D$12&\") when LocalYear(\"&$D$12&\")=\"&$D$1&\" and localMonth(\"&$D$12&\") =\"&$E$1&\" and LocalDay(\"&$D$12&\")=\"&$F$1&\" and Barix(\"&$D$12&\",reference:=StartOfDay)=\"&A21&\"\", \"Bar\", \"\", \"Close\",\"5\",\"0\",\"All\",,,\"False\",\"T\",\"EveryTick\")","v":4337.25},-8.0631227322467314E-4,{"$f":"RTD(\"cqg.rtd\",,\"StudyData\", \"Close(\"&$D$12&\") when LocalYear(\"&$D$12&\")=\"&$D$2&\" and localMonth(\"&$D$12&\") =\"&$E$2&\" and LocalDay(\"&$D$12&\")=\"&$F$2&\" and Barix(\"&$D$12&\",reference:=StartOfDay)=\"&A21&\"\", \"Bar\", \"\", \"Close\",\"5\",\"0\",\"All\",,,\"False\",\"T\",\"EveryTick\")","v":4333.5},-4.0220638933578488E-3,{"$f":"RTD(\"cqg.rtd\",,\"StudyData\", \"Close(\"&$D$12&\") when LocalYear(\"&$D$12&\")=\"&$D$3&\" and localMonth(\"&$D$12&\") =\"&$E$3&\" and LocalDay(\"&$D$12&\")=\"&$F$3&\" and Barix(\"&$D$12&\",reference:=StartOfDay)=\"&A21&\"\", \"Bar\", \"\", \"Close\",\"5\",\"0\",\"All\",,,\"False\",\"T\",\"EveryTick\")","v":4362.25},-4.5638655941582524E-3,{"$f":"RTD(\"cqg.rtd\",,\"StudyData\", \"Close(\"&$D$12&\") when LocalYear(\"&$D$12&\")=\"&$D$4&\" and localMonth(\"&$D$12&\") =\"&$E$4&\" and LocalDay(\"&$D$12&\")=\"&$F$4&\" and Barix(\"&$D$12&\",reference:=StartOfDay)=\"&A21&\"\", \"Bar\", \"\", \"Close\",\"5\",\"0\",\"All\",,,\"False\",\"T\",\"EveryTick\")","v":4392},4.5558086560364467E-4,{"$f":"RTD(\"cqg.rtd\",,\"StudyData\", \"Close(\"&$D$12&\") when LocalYear(\"&$D$12&\")=\"&$D$5&\" and localMonth(\"&$D$12&\") =\"&$E$5&\" and LocalDay(\"&$D$12&\")=\"&$F$5&\" and Barix(\"&$D$12&\",reference:=StartOfDay)=\"&A21&\"\", \"Bar\", \"\", \"Close\",\"5\",\"0\",\"All\",,,\"False\",\"T\",\"EveryTick\")","v":4376.75},5.2250803858520899E-3,{"$f":"RTD(\"cqg.rtd\",,\"StudyData\", \"Close(\"&$D$12&\") when LocalYear(\"&$D$12&\")=\"&$D$6&\" and localMonth(\"&$D$12&\") =\"&$E$6&\" and LocalDay(\"&$D$12&\")=\"&$F$6&\" and Barix(\"&$D$12&\",reference:=StartOfDay)=\"&A21&\"\", \"Bar\", \"\", \"Close\",\"5\",\"0\",\"All\",,,\"False\",\"T\",\"EveryTick\")","v":4296.5},-8.6525149976926629E-3,{"$f":"RTD(\"cqg.rtd\",,\"StudyData\", \"Close(\"&$D$12&\") when LocalYear(\"&$D$12&\")=\"&$D$7&\" and localMonth(\"&$D$12&\") =\"&$E$7&\" and LocalDay(\"&$D$12&\")=\"&$F$7&\" and Barix(\"&$D$12&\",reference:=StartOfDay)=\"&A21&\"\", \"Bar\", \"\", \"Close\",\"5\",\"0\",\"All\",,,\"False\",\"T\",\"EveryTick\")","v":4292},1.7477424992717739E-4,{"$f":"RTD(\"cqg.rtd\",,\"StudyData\", \"Close(\"&$D$12&\") when LocalYear(\"&$D$12&\")=\"&$D$8&\" and localMonth(\"&$D$12&\") =\"&$E$8&\" and LocalDay(\"&$D$12&\")=\"&$F$8&\" and Barix(\"&$D$12&\",reference:=StartOfDay)=\"&A21&\"\", \"Bar\", \"\", \"Close\",\"5\",\"0\",\"All\",,,\"False\",\"T\",\"EveryTick\")","v":4320.75},-5.2949640287769783E-3,{"$f":"RTD(\"cqg.rtd\",,\"StudyData\", \"Close(\"&$D$12&\") when LocalYear(\"&$D$12&\")=\"&$D$9&\" and localMonth(\"&$D$12&\") =\"&$E$9&\" and LocalDay(\"&$D$12&\")=\"&$F$9&\" and Barix(\"&$D$12&\",reference:=StartOfDay)=\"&A21&\"\", \"Bar\", \"\", \"Close\",\"5\",\"0\",\"All\",,,\"False\",\"T\",\"EveryTick\")","v":4273.75},-5.5843173753708335E-3,{"$f":"RTD(\"cqg.rtd\",,\"StudyData\", \"Close(\"&$D$12&\") when LocalYear(\"&$D$12&\")=\"&$D$10&\" and localMonth(\"&$D$12&\") =\"&$E$10&\" and LocalDay(\"&$D$12&\")=\"&$F$10&\" and Barix(\"&$D$12&\",reference:=StartOfDay)=\"&A21&\"\", \"Bar\", \"\", \"Close\",\"5\",\"0\",\"All\",,,\"False\",\"T\",\"EveryTick\")","v":4385.25},8.1613885855508946E-3,null,null,null,""]
[117,"02:45:00",null,4,"#.0000",null,"2021-09-30",{"$f":"RTD(\"cqg.rtd\",,\"StudyData\", \"Close(\"&$D$12&\") when LocalYear(\"&$D$12&\")=\"&$D$1&\" and localMonth(\"&$D$12&\") =\"&$E$1&\" and LocalDay(\"&$D$12&\")=\"&$F$1&\" and Barix(\"&$D$12&\",reference:=StartOfDay)=\"&A22&\"\", \"Bar\", \"\", \"Close\",\"5\",\"0\",\"All\",,,\"False\",\"T\",\"EveryTick\")","v":4338.5},-5.1834360421586137E-4,{"$f":"RTD(\"cqg.rtd\",,\"StudyData\", \"Close(\"&$D$12&\") when LocalYear(\"&$D$12&\")=\"&$D$2&\" and localMonth(\"&$D$12&\") =\"&$E$2&\" and LocalDay(\"&$D$12&\")=\"&$F$2&\" and Barix(\"&$D$12&\",reference:=StartOfDay)=\"&A22&\"\", \"Bar\", \"\", \"Close\",\"5\",\"0\",\"All\",,,\"False\",\"T\",\"EveryTick\")","v":4336.25},-3.3900252815444727E-3,{"$f":"RTD(\"cqg.rtd\",,\"StudyData\", \"Close(\"&$D$12&\") when LocalYear(\"&$D$12&\")=\"&$D$3&\" and localMonth(\"&$D$12&\") =\"&$E$3&\" and LocalDay(\"&$D$12&\")=\"&$F$3&\" and Barix(\"&$D$12&\",reference:=StartOfDay)=\"&A22&\"\", \"Bar\", \"\", \"Close\",\"5\",\"0\",\"All\",,,\"False\",\"T\",\"EveryTick\")","v":4366},-3.70814079525358E-3,{"$f":"RTD(\"cqg.rtd\",,\"StudyData\", \"Close(\"&$D$12&\") when LocalYear(\"&$D$12&\")=\"&$D$4&\" and localMonth(\"&$D$12&\") =\"&$E$4&\" and LocalDay(\"&$D$12&\")=\"&$F$4&\" and Barix(\"&$D$12&\",reference:=StartOfDay)=\"&A22&\"\", \"Bar\", \"\", \"Close\",\"5\",\"0\",\"All\",,,\"False\",\"T\",\"EveryTick\")","v":4392.75},6.2642369020501139E-4,{"$f":"RTD(\"cqg.rtd\",,\"StudyData\", \"Close(\"&$D$12&\") when LocalYear(\"&$D$12&\")=\"&$D$5&\" and localMonth(\"&$D$12&\") =\"&$E$5&\" and LocalDay(\"&$D$12&\")=\"&$F$5&\" and Barix(\"&$D$12&\",reference:=StartOfDay)=\"&A22&\"\", \"Bar\", \"\", \"Close\",\"5\",\"0\",\"All\",,,\"False\",\"T\",\"EveryTick\")","v":4378},5.5121727147450618E-3,{"$f":"RTD(\"cqg.rtd\",,\"StudyData\", \"Close(\"&$D$12&\") when LocalYear(\"&$D$12&\")=\"&$D$6&\" and localMonth(\"&$D$12&\") =\"&$E$6&\" and LocalDay(\"&$D$12&\")=\"&$F$6&\" and Barix(\"&$D$12&\",reference:=StartOfDay)=\"&A22&\"\", \"Bar\", \"\", \"Close\",\"5\",\"0\",\"All\",,,\"False\",\"T\",\"EveryTick\")","v":4293},-9.4600830641439777E-3,{"$f":"RTD(\"cqg.rtd\",,\"StudyData\", \"Close(\"&$D$12&\") when LocalYear(\"&$D$12&\")=\"&$D$7&\" and localMonth(\"&$D$12&\") =\"&$E$7&\" and LocalDay(\"&$D$12&\")=\"&$F$7&\" and Barix(\"&$D$12&\",reference:=StartOfDay)=\"&A22&\"\", \"Bar\", \"\", \"Close\",\"5\",\"0\",\"All\",,,\"False\",\"T\",\"EveryTick\")","v":4296},1.1069035828721234E-3,{"$f":"RTD(\"cqg.rtd\",,\"StudyData\", \"Close(\"&$D$12&\") when LocalYear(\"&$D$12&\")=\"&$D$8&\" and localMonth(\"&$D$12&\") =\"&$E$8&\" and LocalDay(\"&$D$12&\")=\"&$F$8&\" and Barix(\"&$D$12&\",reference:=StartOfDay)=\"&A22&\"\", \"Bar\", \"\", \"Close\",\"5\",\"0\",\"All\",,,\"False\",\"T\",\"EveryTick\")","v":4324.25},-4.4892086330935253E-3,{"$f":"RTD(\"cqg.rtd\",,\"StudyData\", \"Close(\"&$D$12&\") when LocalYear(\"&$D$12&\")=\"&$D$9&\" and localMonth(\"&$D$12&\") =\"&$E$9&\" and LocalDay(\"&$D$12&\")=\"&$F$9&\" and Barix(\"&$D$12&\",reference:=StartOfDay)=\"&A22&\"\", \"Bar\", \"\", \"Close\",\"5\",\"0\",\"All\",,,\"False\",\"T\",\"EveryTick\")","v":4272.5},-5.8751672386713975E-3,{"$f":"RTD(\"cqg.rtd\",,\"StudyData\", \"Close(\"&$D$12&\") when LocalYear(\"&$D$12&\")=\"&$D$10&\" and localMonth(\"&$D$12&\") =\"&$E$10&\" and LocalDay(\"&$D$12&\")=\"&$F$10&\" and Barix(\"&$D$12&\",reference:=StartOfDay)=\"&A22&\"\", \"Bar\", \"\", \"Close\",\"5\",\"0\",\"All\",,,\"False\",\"T\",\"EveryTick\")","v":4386.25},8.3912868555664124E-3,null,null,null,""]
[118,"02:50:00",null,5,"#.00000",null,null,{"$f":"RTD(\"cqg.rtd\",,\"StudyData\", \"Close(\"&$D$12&\") when LocalYear(\"&$D$12&\")=\"&$D$1&\" and localMonth(\"&$D$12&\") =\"&$E$1&\" and LocalDay(\"&$D$12&\")=\"&$F$1&\" and Barix(\"&$D$12&\",reference:=StartOfDay)=\"&A23&\"\", \"Bar\", \"\", \"Close\",\"5\",\"0\",\"All\",,,\"False\",\"T\",\"EveryTick\")","v":4340.25},-1.1518746760352474E-4,{"$f":"RTD(\"cqg.rtd\",,\"StudyData\", \"Close(\"&$D$12&\") when LocalYear(\"&$D$12&\")=\"&$D$2&\" and localMonth(\"&$D$12&\") =\"&$E$2&\" and LocalDay(\"&$D$12&\")=\"&$F$2&\" and Barix(\"&$D$12&\",reference:=StartOfDay)=\"&A23&\"\", \"Bar\", \"\", \"Close\",\"5\",\"0\",\"All\",,,\"False\",\"T\",\"EveryTick\")","v":4336.75},-3.2751091703056767E-3,{"$f":"RTD(\"cqg.rtd\",,\"StudyData\", \"Close(\"&$D$12&\") when LocalYear(\"&$D$12&\")=\"&$D$3&\" and localMonth(\"&$D$12&\") =\"&$E$3&\" and LocalDay(\"&$D$12&\")=\"&$F$3&\" and Barix(\"&$D$12&\",reference:=StartOfDay)=\"&A23&\"\", \"Bar\", \"\", \"Close\",\"5\",\"0\",\"All\",,,\"False\",\"T\",\"EveryTick\")","v":4364.75},-3.9933823948884702E-3,{"$f":"RTD(\"cqg.rtd\",,\"StudyData\", \"Close(\"&$D$12&\") when LocalYear(\"&$D$12&\")=\"&$D$4&\" and localMonth(\"&$D$12&\") =\"&$E$4&\" and LocalDay(\"&$D$12&\")=\"&$F$4&\" and Barix(\"&$D$12&\",reference:=StartOfDay)=\"&A23&\"\", \"Bar\", \"\", \"Close\",\"5\",\"0\",\"All\",,,\"False\",\"T\",\"EveryTick\")","v":4391.5},3.416856492027335E-4,{"$f":"RTD(\"cqg.rtd\",,\"StudyData\", \"Close(\"&$D$12&\") when LocalYear(\"&$D$12&\")=\"&$D$5&\" and localMonth(\"&$D$12&\") =\"&$E$5&\" and LocalDay(\"&$D$12&\")=\"&$F$5&\" and Barix(\"&$D$12&\",reference:=StartOfDay)=\"&A23&\"\", \"Bar\", \"\", \"Close\",\"5\",\"0\",\"All\",,,\"False\",\"T\",\"EveryTick\")","v":4378.75},5.6844281120808455E-3,{"$f":"RTD(\"cqg.rtd\",,\"StudyData\", \"Close(\"&$D$12&\") when LocalYear(\"&$D$12&\")=\"&$D$6&\" and localMonth(\"&$D$12&\") =\"&$E$6&\" and LocalDay(\"&$D$12&\")=\"&$F$6&\" and Barix(\"&$D$12&\",reference:=StartOfDay)=\"&A23&\"\", \"Bar\", \"\", \"Close\",\"5\",\"0\",\"All\",,,\"False\",\"T\",\"EveryTick\")","v":4297.25},-8.4794646977388102E-3,{"$f":"RTD(\"cqg.rtd\",,\"StudyData\", \"Close(\"&$D$12&\") when LocalYear(\"&$D$12&\")=\"&$D$7&\" and localMonth(\"&$D$12&\") =\"&$E$7&\" and LocalDay(\"&$D$12&\")=\"&$F$7&\" and Barix(\"&$D$12&\",reference:=StartOfDay)=\"&A23&\"\", \"Bar\", \"\", \"Close\",\"5\",\"0\",\"All\",,,\"False\",\"T\",\"EveryTick\")","v":4292.75},3.4954849985435477E-4,{"$f":"RTD(\"cqg.rtd\",,\"StudyData\", \"Close(\"&$D$12&\") when LocalYear(\"&$D$12&\")=\"&$D$8&\" and localMonth(\"&$D$12&\") =\"&$E$8&\" and LocalDay(\"&$D$12&\")=\"&$F$8&\" and Barix(\"&$D$12&\",reference:=StartOfDay)=\"&A23&\"\", \"Bar\", \"\", \"Close\",\"5\",\"0\",\"All\",,,\"False\",\"T\",\"EveryTick\")","v":4324},-4.5467625899280571E-3,{"$f":"RTD(\"cqg.rtd\",,\"StudyData\", \"Close(\"&$D$12&\") when LocalYear(\"&$D$12&\")=\"&$D$9&\" and localMonth(\"&$D$12&\") =\"&$E$9&\" and LocalDay(\"&$D$12&\")=\"&$F$9&\" and Barix(\"&$D$12&\",reference:=StartOfDay)=\"&A23&\"\", \"Bar\", \"\", \"Close\",\"5\",\"0\",\"All\",,,\"False\",\"T\",\"EveryTick\")","v":4277.5},-4.7117677854691406E-3,{"$f":"RTD(\"cqg.rtd\",,\"StudyData\", \"Close(\"&$D$12&\") when LocalYear(\"&$D$12&\")=\"&$D$10&\" and localMonth(\"&$D$12&\") =\"&$E$10&\" and LocalDay(\"&$D$12&\")=\"&$F$10&\" and Barix(\"&$D$12&\",reference:=StartOfDay)=\"&A23&\"\", \"Bar\", \"\", \"Close\",\"5\",\"0\",\"All\",,,\"False\",\"T\",\"EveryTick\")","v":4384.25},7.931490315535375E-3,null,null,null,""]
[119,"02:55:00",null,6,"#.000000",null,null,{"$f":"RTD(\"cqg.rtd\",,\"StudyData\", \"Close(\"&$D$12&\") when LocalYear(\"&$D$12&\")=\"&$D$1&\" and localMonth(\"&$D$12&\") =\"&$E$1&\" and LocalDay(\"&$D$12&\")=\"&$F$1&\" and Barix(\"&$D$12&\",reference:=StartOfDay)=\"&A24&\"\", \"Bar\", \"\", \"Close\",\"5\",\"0\",\"All\",,,\"False\",\"T\",\"EveryTick\")","v":4340.5},-5.7593733801762371E-5,{"$f":"RTD(\"cqg.rtd\",,\"StudyData\", \"Close(\"&$D$12&\") when LocalYear(\"&$D$12&\")=\"&$D$2&\" and localMonth(\"&$D$12&\") =\"&$E$2&\" and LocalDay(\"&$D$12&\")=\"&$F$2&\" and Barix(\"&$D$12&\",reference:=StartOfDay)=\"&A24&\"\", \"Bar\", \"\", \"Close\",\"5\",\"0\",\"All\",,,\"False\",\"T\",\"EveryTick\")","v":4334.5},-3.7922316708802572E-3,{"$f":"RTD(\"cqg.rtd\",,\"StudyData\", \"Close(\"&$D$12&\") when LocalYear(\"&$D$12&\")=\"&$D$3&\" and localMonth(\"&$D$12&\") =\"&$E$3&\" and LocalDay(\"&$D$12&\")=\"&$F$3&\" and Barix(\"&$D$12&\",reference:=StartOfDay)=\"&A24&\"\", \"Bar\", \"\", \"Close\",\"5\",\"0\",\"All\",,,\"False\",\"T\",\"EveryTick\")","v":4367.25},-3.4228991956186889E-3,{"$f":"RTD(\"cqg.rtd\",,\"StudyData\", \"Close(\"&$D$12&\") when LocalYear(\"&$D$12&\")=\"&$D$4&\" and localMonth(\"&$D$12&\") =\"&$E$4&\" and LocalDay(\"&$D$12&\")=\"&$F$4&\" and Barix(\"&$D$12&\",reference:=StartOfDay)=\"&A24&\"\", \"Bar\", \"\", \"Close\",\"5\",\"0\",\"All\",,,\"False\",\"T\",\"EveryTick\")","v":4391.5},3.416856492027335E-4,{"$f":"RTD(\"cqg.rtd\",,\"StudyData\", \"Close(\"&$D$12&\") when LocalYear(\"&$D$12&\")=\"&$D$5&\" and localMonth(\"&$D$12&\") =\"&$E$5&\" and LocalDay(\"&$D$12&\")=\"&$F$5&\" and Barix(\"&$D$12&\",reference:=StartOfDay)=\"&A24&\"\", \"Bar\", \"\", \"Close\",\"5\",\"0\",\"All\",,,\"False\",\"T\",\"EveryTick\")","v":4380.5},6.0863573725310057E-3,{"$f":"RTD(\"cqg.rtd\",,\"StudyData\", \"Close(\"&$D$12&\") when LocalYear(\"&$D$12&\")=\"&$D$6&\" and localMonth(\"&$D$12&\") =\"&$E$6&\" and LocalDay(\"&$D$12&\")=\"&$F$6&\" and Barix(\"&$D$12&\",reference:=StartOfDay)=\"&A24&\"\", \"Bar\", \"\", \"Close\",\"5\",\"0\",\"All\",,,\"False\",\"T\",\"EveryTick\")","v":4292.5},-9.57544993077988E-3,{"$f":"RTD(\"cqg.rtd\",,\"StudyData\", \"Close(\"&$D$12&\") when LocalYear(\"&$D$12&\")=\"&$D$7&\" and localMonth(\"&$D$12&\") =\"&$E$7&\" and LocalDay(\"&$D$12&\")=\"&$F$7&\" and Barix(\"&$D$12&\",reference:=StartOfDay)=\"&A24&\"\", \"Bar\", \"\", \"Close\",\"5\",\"0\",\"All\",,,\"False\",\"T\",\"EveryTick\")","v":4287.75},-8.1561316632682782E-4,{"$f":"RTD(\"cqg.rtd\",,\"StudyData\", \"Close(\"&$D$12&\") when LocalYear(\"&$D$12&\")=\"&$D$8&\" and localMonth(\"&$D$12&\") =\"&$E$8&\" and LocalDay(\"&$D$12&\")=\"&$F$8&\" and Barix(\"&$D$12&\",reference:=StartOfDay)=\"&A24&\"\", \"Bar\", \"\", \"Close\",\"5\",\"0\",\"All\",,,\"False\",\"T\",\"EveryTick\")","v":4325.5},-4.2014388489208633E-3,{"$f":"RTD(\"cqg.rtd\",,\"StudyData\", \"Close(\"&$D$12&\") when LocalYear(\"&$D$12&\")=\"&$D$9&\" and localMonth(\"&$D$12&\") =\"&$E$9&\" and LocalDay(\"&$D$12&\")=\"&$F$9&\" and Barix(\"&$D$12&\",reference:=StartOfDay)=\"&A24&\"\", \"Bar\", \"\", \"Close\",\"5\",\"0\",\"All\",,,\"False\",\"T\",\"EveryTick\")","v":4275.5},-5.1771275667500437E-3,{"$f":"RTD(\"cqg.rtd\",,\"StudyData\", \"Close(\"&$D$12&\") when LocalYear(\"&$D$12&\")=\"&$D$10&\" and localMonth(\"&$D$12&\") =\"&$E$10&\" and LocalDay(\"&$D$12&\")=\"&$F$10&\" and Barix(\"&$D$12&\",reference:=StartOfDay)=\"&A24&\"\", \"Bar\", \"\", \"Close\",\"5\",\"0\",\"All\",,,\"False\",\"T\",\"EveryTick\")","v":4382.5},7.5291683430082192E-3,null,null,null,""]
[120,"03:00:00",null,7,"#.0000000",null,null,{"$f":"RTD(\"cqg.rtd\",,\"StudyData\", \"Close(\"&$D$12&\") when LocalYear(\"&$D$12&\")=\"&$D$1&\" and localMonth(\"&$D$12&\") =\"&$E$1&\" and LocalDay(\"&$D$12&\")=\"&$F$1&\" and Barix(\"&$D$12&\",reference:=StartOfDay)=\"&A25&\"\", \"Bar\", \"\", \"Close\",\"5\",\"0\",\"All\",,,\"False\",\"T\",\"EveryTick\")","v":4340.25},-1.1518746760352474E-4,{"$f":"RTD(\"cqg.rtd\",,\"StudyData\", \"Close(\"&$D$12&\") when LocalYear(\"&$D$12&\")=\"&$D$2&\" and localMonth(\"&$D$12&\") =\"&$E$2&\" and LocalDay(\"&$D$12&\")=\"&$F$2&\" and Barix(\"&$D$12&\",reference:=StartOfDay)=\"&A25&\"\", \"Bar\", \"\", \"Close\",\"5\",\"0\",\"All\",,,\"False\",\"T\",\"EveryTick\")","v":4334.25},-3.8496897264996555E-3,{"$f":"RTD(\"cqg.rtd\",,\"StudyData\", \"Close(\"&$D$12&\") when LocalYear(\"&$D$12&\")=\"&$D$3&\" and localMonth(\"&$D$12&\") =\"&$E$3&\" and LocalDay(\"&$D$12&\")=\"&$F$3&\" and Barix(\"&$D$12&\",reference:=StartOfDay)=\"&A25&\"\", \"Bar\", \"\", \"Close\",\"5\",\"0\",\"All\",,,\"False\",\"T\",\"EveryTick\")","v":4371},-2.5671743967140169E-3,{"$f":"RTD(\"cqg.rtd\",,\"StudyData\", \"Close(\"&$D$12&\") when LocalYear(\"&$D$12&\")=\"&$D$4&\" and localMonth(\"&$D$12&\") =\"&$E$4&\" and LocalDay(\"&$D$12&\")=\"&$F$4&\" and Barix(\"&$D$12&\",reference:=StartOfDay)=\"&A25&\"\", \"Bar\", \"\", \"Close\",\"5\",\"0\",\"All\",,,\"False\",\"T\",\"EveryTick\")","v":4390},0,{"$f":"RTD(\"cqg.rtd\",,\"StudyData\", \"Close(\"&$D$12&\") when LocalYear(\"&$D$12&\")=\"&$D$5&\" and localMonth(\"&$D$12&\") =\"&$E$5&\" and LocalDay(\"&$D$12&\")=\"&$F$5&\" and Barix(\"&$D$12&\",reference:=StartOfDay)=\"&A25&\"\", \"Bar\", \"\", \"Close\",\"5\",\"0\",\"All\",,,\"False\",\"T\",\"EveryTick\")","v":4377.75},5.4547542489664673E-3,{"$f":"RTD(\"cqg.rtd\",,\"StudyData\", \"Close(\"&$D$12&\") when LocalYear(\"&$D$12&\")=\"&$D$6&\" and localMonth(\"&$D$12&\") =\"&$E$6&\" and LocalDay(\"&$D$12&\")=\"&$F$6&\" and Barix(\"&$D$12&\",reference:=StartOfDay)=\"&A25&\"\", \"Bar\", \"\", \"Close\",\"5\",\"0\",\"All\",,,\"False\",\"T\",\"EveryTick\")","v":4290.25},-1.009460083064144E-2,{"$f":"RTD(\"cqg.rtd\",,\"StudyData\", \"Close(\"&$D$12&\") when LocalYear(\"&$D$12&\")=\"&$D$7&\" and localMonth(\"&$D$12&\") =\"&$E$7&\" and LocalDay(\"&$D$12&\")=\"&$F$7&\" and Barix(\"&$D$12&\",reference:=StartOfDay)=\"&A25&\"\", \"Bar\", \"\", \"Close\",\"5\",\"0\",\"All\",,,\"False\",\"T\",\"EveryTick\")","v":4292},1.7477424992717739E-4,{"$f":"RTD(\"cqg.rtd\",,\"StudyData\", \"Close(\"&$D$12&\") when LocalYear(\"&$D$12&\")=\"&$D$8&\" and localMonth(\"&$D$12&\") =\"&$E$8&\" and LocalDay(\"&$D$12&\")=\"&$F$8&\" and Barix(\"&$D$12&\",reference:=StartOfDay)=\"&A25&\"\", \"Bar\", \"\", \"Close\",\"5\",\"0\",\"All\",,,\"False\",\"T\",\"EveryTick\")","v":4331},-2.9352517985611511E-3,{"$f":"RTD(\"cqg.rtd\",,\"StudyData\", \"Close(\"&$D$12&\") when LocalYear(\"&$D$12&\")=\"&$D$9&\" and localMonth(\"&$D$12&\") =\"&$E$9&\" and LocalDay(\"&$D$12&\")=\"&$F$9&\" and Barix(\"&$D$12&\",reference:=StartOfDay)=\"&A25&\"\", \"Bar\", \"\", \"Close\",\"5\",\"0\",\"All\",,,\"False\",\"T\",\"EveryTick\")","v":4276.5},-4.9444476761095922E-3,{"$f":"RTD(\"cqg.rtd\",,\"StudyData\", \"Close(\"&$D$12&\") when LocalYear(\"&$D$12&\")=\"&$D$10&\" and localMonth(\"&$D$12&\") =\"&$E$10&\" and LocalDay(\"&$D$12&\")=\"&$F$10&\" and Barix(\"&$D$12&\",reference:=StartOfDay)=\"&A25&\"\", \"Bar\", \"\", \"Close\",\"5\",\"0\",\"All\",,,\"False\",\"T\",\"EveryTick\")","v":4385},8.1039140180470138E-3,null,null,null,""]
[121,"03:05:00",null,{"$f":"RTD(\"cqg.rtd\", ,\"ContractData\",\"TUA\", \"Ticksize\",, \"T\")","v":3.90625E-3},null,null,null,{"$f":"RTD(\"cqg.rtd\",,\"StudyData\", \"Close(\"&$D$12&\") when LocalYear(\"&$D$12&\")=\"&$D$1&\" and localMonth(\"&$D$12&\") =\"&$E$1&\" and LocalDay(\"&$D$12&\")=\"&$F$1&\" and Barix(\"&$D$12&\",reference:=StartOfDay)=\"&A26&\"\", \"Bar\", \"\", \"Close\",\"5\",\"0\",\"All\",,,\"False\",\"T\",\"EveryTick\")","v":4339.25},-3.4556240281057423E-4,{"$f":"RTD(\"cqg.rtd\",,\"StudyData\", \"Close(\"&$D$12&\") when LocalYear(\"&$D$12&\")=\"&$D$2&\" and localMonth(\"&$D$12&\") =\"&$E$2&\" and LocalDay(\"&$D$12&\")=\"&$F$2&\" and Barix(\"&$D$12&\",reference:=StartOfDay)=\"&A26&\"\", \"Bar\", \"\", \"Close\",\"5\",\"0\",\"All\",,,\"False\",\"T\",\"EveryTick\")","v":4334.25},-3.8496897264996555E-3,{"$f":"RTD(\"cqg.rtd\",,\"StudyData\", \"Close(\"&$D$12&\") when LocalYear(\"&$D$12&\")=\"&$D$3&\" and localMonth(\"&$D$12&\") =\"&$E$3&\" and LocalDay(\"&$D$12&\")=\"&$F$3&\" and Barix(\"&$D$12&\",reference:=StartOfDay)=\"&A26&\"\", \"Bar\", \"\", \"Close\",\"5\",\"0\",\"All\",,,\"False\",\"T\",\"EveryTick\")","v":4368},-3.2517542358377546E-3,{"$f":"RTD(\"cqg.rtd\",,\"StudyData\", \"Close(\"&$D$12&\") when LocalYear(\"&$D$12&\")=\"&$D$4&\" and localMonth(\"&$D$12&\") =\"&$E$4&\" and LocalDay(\"&$D$12&\")=\"&$F$4&\" and Barix(\"&$D$12&\",reference:=StartOfDay)=\"&A26&\"\", \"Bar\", \"\", \"Close\",\"5\",\"0\",\"All\",,,\"False\",\"T\",\"EveryTick\")","v":4391.25},2.8473804100227789E-4,{"$f":"RTD(\"cqg.rtd\",,\"StudyData\", \"Close(\"&$D$12&\") when LocalYear(\"&$D$12&\")=\"&$D$5&\" and localMonth(\"&$D$12&\") =\"&$E$5&\" and LocalDay(\"&$D$12&\")=\"&$F$5&\" and Barix(\"&$D$12&\",reference:=StartOfDay)=\"&A26&\"\", \"Bar\", \"\", \"Close\",\"5\",\"0\",\"All\",,,\"False\",\"T\",\"EveryTick\")","v":4378.75},5.6844281120808455E-3,{"$f":"RTD(\"cqg.rtd\",,\"StudyData\", \"Close(\"&$D$12&\") when LocalYear(\"&$D$12&\")=\"&$D$6&\" and localMonth(\"&$D$12&\") =\"&$E$6&\" and LocalDay(\"&$D$12&\")=\"&$F$6&\" and Barix(\"&$D$12&\",reference:=StartOfDay)=\"&A26&\"\", \"Bar\", \"\", \"Close\",\"5\",\"0\",\"All\",,,\"False\",\"T\",\"EveryTick\")","v":4287},-1.0844485463774804E-2,{"$f":"RTD(\"cqg.rtd\",,\"StudyData\", \"Close(\"&$D$12&\") when LocalYear(\"&$D$12&\")=\"&$D$7&\" and localMonth(\"&$D$12&\") =\"&$E$7&\" and LocalDay(\"&$D$12&\")=\"&$F$7&\" and Barix(\"&$D$12&\",reference:=StartOfDay)=\"&A26&\"\", \"Bar\", \"\", \"Close\",\"5\",\"0\",\"All\",,,\"False\",\"T\",\"EveryTick\")","v":4295},8.7387124963588696E-4,{"$f":"RTD(\"cqg.rtd\",,\"StudyData\", \"Close(\"&$D$12&\") when LocalYear(\"&$D$12&\")=\"&$D$8&\" and localMonth(\"&$D$12&\") =\"&$E$8&\" and LocalDay(\"&$D$12&\")=\"&$F$8&\" and Barix(\"&$D$12&\",reference:=StartOfDay)=\"&A26&\"\", \"Bar\", \"\", \"Close\",\"5\",\"0\",\"All\",,,\"False\",\"T\",\"EveryTick\")","v":4329.25},-3.3381294964028776E-3,{"$f":"RTD(\"cqg.rtd\",,\"StudyData\", \"Close(\"&$D$12&\") when LocalYear(\"&$D$12&\")=\"&$D$9&\" and localMonth(\"&$D$12&\") =\"&$E$9&\" and LocalDay(\"&$D$12&\")=\"&$F$9&\" and Barix(\"&$D$12&\",reference:=StartOfDay)=\"&A26&\"\", \"Bar\", \"\", \"Close\",\"5\",\"0\",\"All\",,,\"False\",\"T\",\"EveryTick\")","v":4272.75},-5.816997266011285E-3,{"$f":"RTD(\"cqg.rtd\",,\"StudyData\", \"Close(\"&$D$12&\") when LocalYear(\"&$D$12&\")=\"&$D$10&\" and localMonth(\"&$D$12&\") =\"&$E$10&\" and LocalDay(\"&$D$12&\")=\"&$F$10&\" and Barix(\"&$D$12&\",reference:=StartOfDay)=\"&A26&\"\", \"Bar\", \"\", \"Close\",\"5\",\"0\",\"All\",,,\"False\",\"T\",\"EveryTick\")","v":4383.25},7.7015920455198571E-3,null,null,null,""]
[122,"03:10:00",null,{"$f":"RTD(\"cqg.rtd\", ,\"ContractData\",\"TYA\", \"LastTrade\",, \"B\")","v":"131-09'+"},null,null,null,{"$f":"RTD(\"cqg.rtd\",,\"StudyData\", \"Close(\"&$D$12&\") when LocalYear(\"&$D$12&\")=\"&$D$1&\" and localMonth(\"&$D$12&\") =\"&$E$1&\" and LocalDay(\"&$D$12&\")=\"&$F$1&\" and Barix(\"&$D$12&\",reference:=StartOfDay)=\"&A27&\"\", \"Bar\", \"\", \"Close\",\"5\",\"0\",\"All\",,,\"False\",\"T\",\"EveryTick\")","v":4340},-1.7278120140528711E-4,{"$f":"RTD(\"cqg.rtd\",,\"StudyData\", \"Close(\"&$D$12&\") when LocalYear(\"&$D$12&\")=\"&$D$2&\" and localMonth(\"&$D$12&\") =\"&$E$2&\" and LocalDay(\"&$D$12&\")=\"&$F$2&\" and Barix(\"&$D$12&\",reference:=StartOfDay)=\"&A27&\"\", \"Bar\", \"\", \"Close\",\"5\",\"0\",\"All\",,,\"False\",\"T\",\"EveryTick\")","v":4333.5},-4.0220638933578488E-3,{"$f":"RTD(\"cqg.rtd\",,\"StudyData\", \"Close(\"&$D$12&\") when LocalYear(\"&$D$12&\")=\"&$D$3&\" and localMonth(\"&$D$12&\") =\"&$E$3&\" and LocalDay(\"&$D$12&\")=\"&$F$3&\" and Barix(\"&$D$12&\",reference:=StartOfDay)=\"&A27&\"\", \"Bar\", \"\", \"Close\",\"5\",\"0\",\"All\",,,\"False\",\"T\",\"EveryTick\")","v":4370.5},-2.6812710365679729E-3,{"$f":"RTD(\"cqg.rtd\",,\"StudyData\", \"Close(\"&$D$12&\") when LocalYear(\"&$D$12&\")=\"&$D$4&\" and localMonth(\"&$D$12&\") =\"&$E$4&\" and LocalDay(\"&$D$12&\")=\"&$F$4&\" and Barix(\"&$D$12&\",reference:=StartOfDay)=\"&A27&\"\", \"Bar\", \"\", \"Close\",\"5\",\"0\",\"All\",,,\"False\",\"T\",\"EveryTick\")","v":4388.75},-2.8473804100227789E-4,{"$f":"RTD(\"cqg.rtd\",,\"StudyData\", \"Close(\"&$D$12&\") when LocalYear(\"&$D$12&\")=\"&$D$5&\" and localMonth(\"&$D$12&\") =\"&$E$5&\" and LocalDay(\"&$D$12&\")=\"&$F$5&\" and Barix(\"&$D$12&\",reference:=StartOfDay)=\"&A27&\"\", \"Bar\", \"\", \"Close\",\"5\",\"0\",\"All\",,,\"False\",\"T\",\"EveryTick\")","v":4376.75},5.2250803858520899E-3,{"$f":"RTD(\"cqg.rtd\",,\"StudyData\", \"Close(\"&$D$12&\") when LocalYear(\"&$D$12&\")=\"&$D$6&\" and localMonth(\"&$D$12&\") =\"&$E$6&\" and LocalDay(\"&$D$12&\")=\"&$F$6&\" and Barix(\"&$D$12&\",reference:=StartOfDay)=\"&A27&\"\", \"Bar\", \"\", \"Close\",\"5\",\"0\",\"All\",,,\"False\",\"T\",\"EveryTick\")","v":4293.5},-9.3447161975080753E-3,{"$f":"RTD(\"cqg.rtd\",,\"StudyData\", \"Close(\"&$D$12&\") when LocalYear(\"&$D$12&\")=\"&$D$7&\" and localMonth(\"&$D$12&\") =\"&$E$7&\" and LocalDay(\"&$D$12&\")=\"&$F$7&\" and Barix(\"&$D$12&\",reference:=StartOfDay)=\"&A27&\"\", \"Bar\", \"\", \"Close\",\"5\",\"0\",\"All\",,,\"False\",\"T\",\"EveryTick\")","v":4299},1.8060005825808331E-3,{"$f":"RTD(\"cqg.rtd\",,\"StudyData\", \"Close(\"&$D$12&\") when LocalYear(\"&$D$12&\")=\"&$D$8&\" and localMonth(\"&$D$12&\") =\"&$E$8&\" and LocalDay(\"&$D$12&\")=\"&$F$8&\" and Barix(\"&$D$12&\",reference:=StartOfDay)=\"&A27&\"\", \"Bar\", \"\", \"Close\",\"5\",\"0\",\"All\",,,\"False\",\"T\",\"EveryTick\")","v":4330},-3.1654676258992807E-3,{"$f":"RTD(\"cqg.rtd\",,\"StudyData\", \"Close(\"&$D$12&\") when LocalYear(\"&$D$12&\")=\"&$D$9&\" and localMonth(\"&$D$12&\") =\"&$E$9&\" and LocalDay(\"&$D$12&\")=\"&$F$9&\" and Barix(\"&$D$12&\",reference:=StartOfDay)=\"&A27&\"\", \"Bar\", \"\", \"Close\",\"5\",\"0\",\"All\",,,\"False\",\"T\",\"EveryTick\")","v":4270.25},-6.3986969926124139E-3,{"$f":"RTD(\"cqg.rtd\",,\"StudyData\", \"Close(\"&$D$12&\") when LocalYear(\"&$D$12&\")=\"&$D$10&\" and localMonth(\"&$D$12&\") =\"&$E$10&\" and LocalDay(\"&$D$12&\")=\"&$F$10&\" and Barix(\"&$D$12&\",reference:=StartOfDay)=\"&A27&\"\", \"Bar\", \"\", \"Close\",\"5\",\"0\",\"All\",,,\"False\",\"T\",\"EveryTick\")","v":4381.25},7.2417955054888215E-3,null,null,null,""]
[123,"03:15:00",null,{"$f":"RTD(\"cqg.rtd\", ,\"ContractData\",\"TUA\", \"TickSize\",, \"T\")","v":3.90625E-3},null,{"$f":"1.04166666666667*60*5","v":312.50000000000102},null,{"$f":"RTD(\"cqg.rtd\",,\"StudyData\", \"Close(\"&$D$12&\") when LocalYear(\"&$D$12&\")=\"&$D$1&\" and localMonth(\"&$D$12&\") =\"&$E$1&\" and LocalDay(\"&$D$12&\")=\"&$F$1&\" and Barix(\"&$D$12&\",reference:=StartOfDay)=\"&A28&\"\", \"Bar\", \"\", \"Close\",\"5\",\"0\",\"All\",,,\"False\",\"T\",\"EveryTick\")","v":4345.25},1.0366872084317227E-3,{"$f":"RTD(\"cqg.rtd\",,\"StudyData\", \"Close(\"&$D$12&\") when LocalYear(\"&$D$12&\")=\"&$D$2&\" and localMonth(\"&$D$12&\") =\"&$E$2&\" and LocalDay(\"&$D$12&\")=\"&$F$2&\" and Barix(\"&$D$12&\",reference:=StartOfDay)=\"&A28&\"\", \"Bar\", \"\", \"Close\",\"5\",\"0\",\"All\",,,\"False\",\"T\",\"EveryTick\")","v":4332.25},-4.3093541714548378E-3,{"$f":"RTD(\"cqg.rtd\",,\"StudyData\", \"Close(\"&$D$12&\") when LocalYear(\"&$D$12&\")=\"&$D$3&\" and localMonth(\"&$D$12&\") =\"&$E$3&\" and LocalDay(\"&$D$12&\")=\"&$F$3&\" and Barix(\"&$D$12&\",reference:=StartOfDay)=\"&A28&\"\", \"Bar\", \"\", \"Close\",\"5\",\"0\",\"All\",,,\"False\",\"T\",\"EveryTick\")","v":4370.25},-2.7383193564949511E-3,{"$f":"RTD(\"cqg.rtd\",,\"StudyData\", \"Close(\"&$D$12&\") when LocalYear(\"&$D$12&\")=\"&$D$4&\" and localMonth(\"&$D$12&\") =\"&$E$4&\" and LocalDay(\"&$D$12&\")=\"&$F$4&\" and Barix(\"&$D$12&\",reference:=StartOfDay)=\"&A28&\"\", \"Bar\", \"\", \"Close\",\"5\",\"0\",\"All\",,,\"False\",\"T\",\"EveryTick\")","v":4389.25},-1.7084282460136675E-4,{"$f":"RTD(\"cqg.rtd\",,\"StudyData\", \"Close(\"&$D$12&\") when LocalYear(\"&$D$12&\")=\"&$D$5&\" and localMonth(\"&$D$12&\") =\"&$E$5&\" and LocalDay(\"&$D$12&\")=\"&$F$5&\" and Barix(\"&$D$12&\",reference:=StartOfDay)=\"&A28&\"\", \"Bar\", \"\", \"Close\",\"5\",\"0\",\"All\",,,\"False\",\"T\",\"EveryTick\")","v":4375.5},4.9379880569591179E-3,{"$f":"RTD(\"cqg.rtd\",,\"StudyData\", \"Close(\"&$D$12&\") when LocalYear(\"&$D$12&\")=\"&$D$6&\" and localMonth(\"&$D$12&\") =\"&$E$6&\" and LocalDay(\"&$D$12&\")=\"&$F$6&\" and Barix(\"&$D$12&\",reference:=StartOfDay)=\"&A28&\"\", \"Bar\", \"\", \"Close\",\"5\",\"0\",\"All\",,,\"False\",\"T\",\"EveryTick\")","v":4290.25},-1.009460083064144E-2,{"$f":"RTD(\"cqg.rtd\",,\"StudyData\", \"Close(\"&$D$12&\") when LocalYear(\"&$D$12&\")=\"&$D$7&\" and localMonth(\"&$D$12&\") =\"&$E$7&\" and LocalDay(\"&$D$12&\")=\"&$F$7&\" and Barix(\"&$D$12&\",reference:=StartOfDay)=\"&A28&\"\", \"Bar\", \"\", \"Close\",\"5\",\"0\",\"All\",,,\"False\",\"T\",\"EveryTick\")","v":4299.5},1.9225167491989513E-3,{"$f":"RTD(\"cqg.rtd\",,\"StudyData\", \"Close(\"&$D$12&\") when LocalYear(\"&$D$12&\")=\"&$D$8&\" and localMonth(\"&$D$12&\") =\"&$E$8&\" and LocalDay(\"&$D$12&\")=\"&$F$8&\" and Barix(\"&$D$12&\",reference:=StartOfDay)=\"&A28&\"\", \"Bar\", \"\", \"Close\",\"5\",\"0\",\"All\",,,\"False\",\"T\",\"EveryTick\")","v":4327},-3.8561151079136691E-3,{"$f":"RTD(\"cqg.rtd\",,\"StudyData\", \"Close(\"&$D$12&\") when LocalYear(\"&$D$12&\")=\"&$D$9&\" and localMonth(\"&$D$12&\") =\"&$E$9&\" and LocalDay(\"&$D$12&\")=\"&$F$9&\" and Barix(\"&$D$12&\",reference:=StartOfDay)=\"&A28&\"\", \"Bar\", \"\", \"Close\",\"5\",\"0\",\"All\",,,\"False\",\"T\",\"EveryTick\")","v":4269},-6.6895468559129779E-3,{"$f":"RTD(\"cqg.rtd\",,\"StudyData\", \"Close(\"&$D$12&\") when LocalYear(\"&$D$12&\")=\"&$D$10&\" and localMonth(\"&$D$12&\") =\"&$E$10&\" and LocalDay(\"&$D$12&\")=\"&$F$10&\" and Barix(\"&$D$12&\",reference:=StartOfDay)=\"&A28&\"\", \"Bar\", \"\", \"Close\",\"5\",\"0\",\"All\",,,\"False\",\"T\",\"EveryTick\")","v":4377},6.2647278579228693E-3,null,null,null,""]
[124,"03:20:00",null,{"$f":"RTD(\"cqg.rtd\", ,\"ContractData\",\"JY6\", \"Ticksize\",, \"B\")","v":"+0.0000010"},null,null,null,{"$f":"RTD(\"cqg.rtd\",,\"StudyData\", \"Close(\"&$D$12&\") when LocalYear(\"&$D$12&\")=\"&$D$1&\" and localMonth(\"&$D$12&\") =\"&$E$1&\" and LocalDay(\"&$D$12&\")=\"&$F$1&\" and Barix(\"&$D$12&\",reference:=StartOfDay)=\"&A29&\"\", \"Bar\", \"\", \"Close\",\"5\",\"0\",\"All\",,,\"False\",\"T\",\"EveryTick\")","v":4347},1.4398433450440592E-3,{"$f":"RTD(\"cqg.rtd\",,\"StudyData\", \"Close(\"&$D$12&\") when LocalYear(\"&$D$12&\")=\"&$D$2&\" and localMonth(\"&$D$12&\") =\"&$E$2&\" and LocalDay(\"&$D$12&\")=\"&$F$2&\" and Barix(\"&$D$12&\",reference:=StartOfDay)=\"&A29&\"\", \"Bar\", \"\", \"Close\",\"5\",\"0\",\"All\",,,\"False\",\"T\",\"EveryTick\")","v":4339},-2.7579866697310961E-3,{"$f":"RTD(\"cqg.rtd\",,\"StudyData\", \"Close(\"&$D$12&\") when LocalYear(\"&$D$12&\")=\"&$D$3&\" and localMonth(\"&$D$12&\") =\"&$E$3&\" and LocalDay(\"&$D$12&\")=\"&$F$3&\" and Barix(\"&$D$12&\",reference:=StartOfDay)=\"&A29&\"\", \"Bar\", \"\", \"Close\",\"5\",\"0\",\"All\",,,\"False\",\"T\",\"EveryTick\")","v":4363.25},-4.3356723144503395E-3,{"$f":"RTD(\"cqg.rtd\",,\"StudyData\", \"Close(\"&$D$12&\") when LocalYear(\"&$D$12&\")=\"&$D$4&\" and localMonth(\"&$D$12&\") =\"&$E$4&\" and LocalDay(\"&$D$12&\")=\"&$F$4&\" and Barix(\"&$D$12&\",reference:=StartOfDay)=\"&A29&\"\", \"Bar\", \"\", \"Close\",\"5\",\"0\",\"All\",,,\"False\",\"T\",\"EveryTick\")","v":4390.75},1.7084282460136675E-4,{"$f":"RTD(\"cqg.rtd\",,\"StudyData\", \"Close(\"&$D$12&\") when LocalYear(\"&$D$12&\")=\"&$D$5&\" and localMonth(\"&$D$12&\") =\"&$E$5&\" and LocalDay(\"&$D$12&\")=\"&$F$5&\" and Barix(\"&$D$12&\",reference:=StartOfDay)=\"&A29&\"\", \"Bar\", \"\", \"Close\",\"5\",\"0\",\"All\",,,\"False\",\"T\",\"EveryTick\")","v":4374.25},4.6508957280661459E-3,{"$f":"RTD(\"cqg.rtd\",,\"StudyData\", \"Close(\"&$D$12&\") when LocalYear(\"&$D$12&\")=\"&$D$6&\" and localMonth(\"&$D$12&\") =\"&$E$6&\" and LocalDay(\"&$D$12&\")=\"&$F$6&\" and Barix(\"&$D$12&\",reference:=StartOfDay)=\"&A29&\"\", \"Bar\", \"\", \"Close\",\"5\",\"0\",\"All\",,,\"False\",\"T\",\"EveryTick\")","v":4293},-9.4600830641439777E-3,{"$f":"RTD(\"cqg.rtd\",,\"StudyData\", \"Close(\"&$D$12&\") when LocalYear(\"&$D$12&\")=\"&$D$7&\" and localMonth(\"&$D$12&\") =\"&$E$7&\" and LocalDay(\"&$D$12&\")=\"&$F$7&\" and Barix(\"&$D$12&\",reference:=StartOfDay)=\"&A29&\"\", \"Bar\", \"\", \"Close\",\"5\",\"0\",\"All\",,,\"False\",\"T\",\"EveryTick\")","v":4298.5},1.6894844159627148E-3,{"$f":"RTD(\"cqg.rtd\",,\"StudyData\", \"Close(\"&$D$12&\") when LocalYear(\"&$D$12&\")=\"&$D$8&\" and localMonth(\"&$D$12&\") =\"&$E$8&\" and LocalDay(\"&$D$12&\")=\"&$F$8&\" and Barix(\"&$D$12&\",reference:=StartOfDay)=\"&A29&\"\", \"Bar\", \"\", \"Close\",\"5\",\"0\",\"All\",,,\"False\",\"T\",\"EveryTick\")","v":4327.25},-3.7985611510791368E-3,{"$f":"RTD(\"cqg.rtd\",,\"StudyData\", \"Close(\"&$D$12&\") when LocalYear(\"&$D$12&\")=\"&$D$9&\" and localMonth(\"&$D$12&\") =\"&$E$9&\" and LocalDay(\"&$D$12&\")=\"&$F$9&\" and Barix(\"&$D$12&\",reference:=StartOfDay)=\"&A29&\"\", \"Bar\", \"\", \"Close\",\"5\",\"0\",\"All\",,,\"False\",\"T\",\"EveryTick\")","v":4268.75},-6.7477168285730903E-3,{"$f":"RTD(\"cqg.rtd\",,\"StudyData\", \"Close(\"&$D$12&\") when LocalYear(\"&$D$12&\")=\"&$D$10&\" and localMonth(\"&$D$12&\") =\"&$E$10&\" and LocalDay(\"&$D$12&\")=\"&$F$10&\" and Barix(\"&$D$12&\",reference:=StartOfDay)=\"&A29&\"\", \"Bar\", \"\", \"Close\",\"5\",\"0\",\"All\",,,\"False\",\"T\",\"EveryTick\")","v":4379.75},6.8969481004655438E-3,null,null,null,""]
[125,"03:25:00",null,{"$f":"RTD(\"cqg.rtd\", ,\"ContractData\",\"FVA\", \"TickSize\",, \"B\")","v":"+0-00'+  "},null,{"$f":"8*60/5","v":96},null,{"$f":"RTD(\"cqg.rtd\",,\"StudyData\", \"Close(\"&$D$12&\") when LocalYear(\"&$D$12&\")=\"&$D$1&\" and localMonth(\"&$D$12&\") =\"&$E$1&\" and LocalDay(\"&$D$12&\")=\"&$F$1&\" and Barix(\"&$D$12&\",reference:=StartOfDay)=\"&A30&\"\", \"Bar\", \"\", \"Close\",\"5\",\"0\",\"All\",,,\"False\",\"T\",\"EveryTick\")","v":4346.25},1.2670621436387721E-3,{"$f":"RTD(\"cqg.rtd\",,\"StudyData\", \"Close(\"&$D$12&\") when LocalYear(\"&$D$12&\")=\"&$D$2&\" and localMonth(\"&$D$12&\") =\"&$E$2&\" and LocalDay(\"&$D$12&\")=\"&$F$2&\" and Barix(\"&$D$12&\",reference:=StartOfDay)=\"&A30&\"\", \"Bar\", \"\", \"Close\",\"5\",\"0\",\"All\",,,\"False\",\"T\",\"EveryTick\")","v":4337.75},-3.0452769478280855E-3,{"$f":"RTD(\"cqg.rtd\",,\"StudyData\", \"Close(\"&$D$12&\") when LocalYear(\"&$D$12&\")=\"&$D$3&\" and localMonth(\"&$D$12&\") =\"&$E$3&\" and LocalDay(\"&$D$12&\")=\"&$F$3&\" and Barix(\"&$D$12&\",reference:=StartOfDay)=\"&A30&\"\", \"Bar\", \"\", \"Close\",\"5\",\"0\",\"All\",,,\"False\",\"T\",\"EveryTick\")","v":4367.5},-3.3658508756917111E-3,{"$f":"RTD(\"cqg.rtd\",,\"StudyData\", \"Close(\"&$D$12&\") when LocalYear(\"&$D$12&\")=\"&$D$4&\" and localMonth(\"&$D$12&\") =\"&$E$4&\" and LocalDay(\"&$D$12&\")=\"&$F$4&\" and Barix(\"&$D$12&\",reference:=StartOfDay)=\"&A30&\"\", \"Bar\", \"\", \"Close\",\"5\",\"0\",\"All\",,,\"False\",\"T\",\"EveryTick\")","v":4390.5},1.1389521640091117E-4,{"$f":"RTD(\"cqg.rtd\",,\"StudyData\", \"Close(\"&$D$12&\") when LocalYear(\"&$D$12&\")=\"&$D$5&\" and localMonth(\"&$D$12&\") =\"&$E$5&\" and LocalDay(\"&$D$12&\")=\"&$F$5&\" and Barix(\"&$D$12&\",reference:=StartOfDay)=\"&A30&\"\", \"Bar\", \"\", \"Close\",\"5\",\"0\",\"All\",,,\"False\",\"T\",\"EveryTick\")","v":4376.75},5.2250803858520899E-3,{"$f":"RTD(\"cqg.rtd\",,\"StudyData\", \"Close(\"&$D$12&\") when LocalYear(\"&$D$12&\")=\"&$D$6&\" and localMonth(\"&$D$12&\") =\"&$E$6&\" and LocalDay(\"&$D$12&\")=\"&$F$6&\" and Barix(\"&$D$12&\",reference:=StartOfDay)=\"&A30&\"\", \"Bar\", \"\", \"Close\",\"5\",\"0\",\"All\",,,\"False\",\"T\",\"EveryTick\")","v":4295.25},-8.9409321642824179E-3,{"$f":"RTD(\"cqg.rtd\",,\"StudyData\", \"Close(\"&$D$12&\") when LocalYear(\"&$D$12&\")=\"&$D$7&\" and localMonth(\"&$D$12&\") =\"&$E$7&\" and LocalDay(\"&$D$12&\")=\"&$F$7&\" and Barix(\"&$D$12&\",reference:=StartOfDay)=\"&A30&\"\", \"Bar\", \"\", \"Close\",\"5\",\"0\",\"All\",,,\"False\",\"T\",\"EveryTick\")","v":4300.5},2.1555490824351877E-3,{"$f":"RTD(\"cqg.rtd\",,\"StudyData\", \"Close(\"&$D$12&\") when LocalYear(\"&$D$12&\")=\"&$D$8&\" and localMonth(\"&$D$12&\") =\"&$E$8&\" and LocalDay(\"&$D$12&\")=\"&$F$8&\" and Barix(\"&$D$12&\",reference:=StartOfDay)=\"&A30&\"\", \"Bar\", \"\", \"Close\",\"5\",\"0\",\"All\",,,\"False\",\"T\",\"EveryTick\")","v":4325.25},-4.2589928057553961E-3,{"$f":"RTD(\"cqg.rtd\",,\"StudyData\", \"Close(\"&$D$12&\") when LocalYear(\"&$D$12&\")=\"&$D$9&\" and localMonth(\"&$D$12&\") =\"&$E$9&\" and LocalDay(\"&$D$12&\")=\"&$F$9&\" and Barix(\"&$D$12&\",reference:=StartOfDay)=\"&A30&\"\", \"Bar\", \"\", \"Close\",\"5\",\"0\",\"All\",,,\"False\",\"T\",\"EveryTick\")","v":4271.5},-6.107847129311849E-3,{"$f":"RTD(\"cqg.rtd\",,\"StudyData\", \"Close(\"&$D$12&\") when LocalYear(\"&$D$12&\")=\"&$D$10&\" and localMonth(\"&$D$12&\") =\"&$E$10&\" and LocalDay(\"&$D$12&\")=\"&$F$10&\" and Barix(\"&$D$12&\",reference:=StartOfDay)=\"&A30&\"\", \"Bar\", \"\", \"Close\",\"5\",\"0\",\"All\",,,\"False\",\"T\",\"EveryTick\")","v":4379.25},6.7819989654577849E-3,null,null,null,""]
[126,"03:30:00",null,{"$f":"RTD(\"cqg.rtd\", ,\"ContractData\",\"TYA\", \"TickSize\",, \"B\")","v":"+0-00'+"},null,{"$f":"F30/F35","v":1},null,{"$f":"RTD(\"cqg.rtd\",,\"StudyData\", \"Close(\"&$D$12&\") when LocalYear(\"&$D$12&\")=\"&$D$1&\" and localMonth(\"&$D$12&\") =\"&$E$1&\" and LocalDay(\"&$D$12&\")=\"&$F$1&\" and Barix(\"&$D$12&\",reference:=StartOfDay)=\"&A31&\"\", \"Bar\", \"\", \"Close\",\"5\",\"0\",\"All\",,,\"False\",\"T\",\"EveryTick\")","v":4346.25},1.2670621436387721E-3,{"$f":"RTD(\"cqg.rtd\",,\"StudyData\", \"Close(\"&$D$12&\") when LocalYear(\"&$D$12&\")=\"&$D$2&\" and localMonth(\"&$D$12&\") =\"&$E$2&\" and LocalDay(\"&$D$12&\")=\"&$F$2&\" and Barix(\"&$D$12&\",reference:=StartOfDay)=\"&A31&\"\", \"Bar\", \"\", \"Close\",\"5\",\"0\",\"All\",,,\"False\",\"T\",\"EveryTick\")","v":4338.25},-2.9303608365892899E-3,{"$f":"RTD(\"cqg.rtd\",,\"StudyData\", \"Close(\"&$D$12&\") when LocalYear(\"&$D$12&\")=\"&$D$3&\" and localMonth(\"&$D$12&\") =\"&$E$3&\" and LocalDay(\"&$D$12&\")=\"&$F$3&\" and Barix(\"&$D$12&\",reference:=StartOfDay)=\"&A31&\"\", \"Bar\", \"\", \"Close\",\"5\",\"0\",\"All\",,,\"False\",\"T\",\"EveryTick\")","v":4371},-2.5671743967140169E-3,{"$f":"RTD(\"cqg.rtd\",,\"StudyData\", \"Close(\"&$D$12&\") when LocalYear(\"&$D$12&\")=\"&$D$4&\" and localMonth(\"&$D$12&\") =\"&$E$4&\" and LocalDay(\"&$D$12&\")=\"&$F$4&\" and Barix(\"&$D$12&\",reference:=StartOfDay)=\"&A31&\"\", \"Bar\", \"\", \"Close\",\"5\",\"0\",\"All\",,,\"False\",\"T\",\"EveryTick\")","v":4388.75},-2.8473804100227789E-4,{"$f":"RTD(\"cqg.rtd\",,\"StudyData\", \"Close(\"&$D$12&\") when LocalYear(\"&$D$12&\")=\"&$D$5&\" and localMonth(\"&$D$12&\") =\"&$E$5&\" and LocalDay(\"&$D$12&\")=\"&$F$5&\" and Barix(\"&$D$12&\",reference:=StartOfDay)=\"&A31&\"\", \"Bar\", \"\", \"Close\",\"5\",\"0\",\"All\",,,\"False\",\"T\",\"EveryTick\")","v":4379.25},5.7992650436380338E-3,{"$f":"RTD(\"cqg.rtd\",,\"StudyData\", \"Close(\"&$D$12&\") when LocalYear(\"&$D$12&\")=\"&$D$6&\" and localMonth(\"&$D$12&\") =\"&$E$6&\" and LocalDay(\"&$D$12&\")=\"&$F$6&\" and Barix(\"&$D$12&\",reference:=StartOfDay)=\"&A31&\"\", \"Bar\", \"\", \"Close\",\"5\",\"0\",\"All\",,,\"False\",\"T\",\"EveryTick\")","v":4295},-8.99861559760037E-3,{"$f":"RTD(\"cqg.rtd\",,\"StudyData\", \"Close(\"&$D$12&\") when LocalYear(\"&$D$12&\")=\"&$D$7&\" and localMonth(\"&$D$12&\") =\"&$E$7&\" and LocalDay(\"&$D$12&\")=\"&$F$7&\" and Barix(\"&$D$12&\",reference:=StartOfDay)=\"&A31&\"\", \"Bar\", \"\", \"Close\",\"5\",\"0\",\"All\",,,\"False\",\"T\",\"EveryTick\")","v":4301.75},2.4468394989804834E-3,{"$f":"RTD(\"cqg.rtd\",,\"StudyData\", \"Close(\"&$D$12&\") when LocalYear(\"&$D$12&\")=\"&$D$8&\" and localMonth(\"&$D$12&\") =\"&$E$8&\" and LocalDay(\"&$D$12&\")=\"&$F$8&\" and Barix(\"&$D$12&\",reference:=StartOfDay)=\"&A31&\"\", \"Bar\", \"\", \"Close\",\"5\",\"0\",\"All\",,,\"False\",\"T\",\"EveryTick\")","v":4322.5},-4.8920863309352518E-3,{"$f":"RTD(\"cqg.rtd\",,\"StudyData\", \"Close(\"&$D$12&\") when LocalYear(\"&$D$12&\")=\"&$D$9&\" and localMonth(\"&$D$12&\") =\"&$E$9&\" and LocalDay(\"&$D$12&\")=\"&$F$9&\" and Barix(\"&$D$12&\",reference:=StartOfDay)=\"&A31&\"\", \"Bar\", \"\", \"Close\",\"5\",\"0\",\"All\",,,\"False\",\"T\",\"EveryTick\")","v":4269.5},-6.5732069105927521E-3,{"$f":"RTD(\"cqg.rtd\",,\"StudyData\", \"Close(\"&$D$12&\") when LocalYear(\"&$D$12&\")=\"&$D$10&\" and localMonth(\"&$D$12&\") =\"&$E$10&\" and LocalDay(\"&$D$12&\")=\"&$F$10&\" and Barix(\"&$D$12&\",reference:=StartOfDay)=\"&A31&\"\", \"Bar\", \"\", \"Close\",\"5\",\"0\",\"All\",,,\"False\",\"T\",\"EveryTick\")","v":4379},6.724524397953905E-3,null,null,null,""]
[127,"03:35:00",null,{"$f":"RTD(\"cqg.rtd\", ,\"ContractData\",\"TYA\", \"TickSize\",, \"B\")","v":"+0-00'+"},null,0.70833333333333337,1.0416666666666667,{"$f":"RTD(\"cqg.rtd\",,\"StudyData\", \"Close(\"&$D$12&\") when LocalYear(\"&$D$12&\")=\"&$D$1&\" and localMonth(\"&$D$12&\") =\"&$E$1&\" and LocalDay(\"&$D$12&\")=\"&$F$1&\" and Barix(\"&$D$12&\",reference:=StartOfDay)=\"&A32&\"\", \"Bar\", \"\", \"Close\",\"5\",\"0\",\"All\",,,\"False\",\"T\",\"EveryTick\")","v":4344.5},8.6390600702643554E-4,{"$f":"RTD(\"cqg.rtd\",,\"StudyData\", \"Close(\"&$D$12&\") when LocalYear(\"&$D$12&\")=\"&$D$2&\" and localMonth(\"&$D$12&\") =\"&$E$2&\" and LocalDay(\"&$D$12&\")=\"&$F$2&\" and Barix(\"&$D$12&\",reference:=StartOfDay)=\"&A32&\"\", \"Bar\", \"\", \"Close\",\"5\",\"0\",\"All\",,,\"False\",\"T\",\"EveryTick\")","v":4340},-2.528154447253505E-3,{"$f":"RTD(\"cqg.rtd\",,\"StudyData\", \"Close(\"&$D$12&\") when LocalYear(\"&$D$12&\")=\"&$D$3&\" and localMonth(\"&$D$12&\") =\"&$E$3&\" and LocalDay(\"&$D$12&\")=\"&$F$3&\" and Barix(\"&$D$12&\",reference:=StartOfDay)=\"&A32&\"\", \"Bar\", \"\", \"Close\",\"5\",\"0\",\"All\",,,\"False\",\"T\",\"EveryTick\")","v":4368.5},-3.1376575959837982E-3,{"$f":"RTD(\"cqg.rtd\",,\"StudyData\", \"Close(\"&$D$12&\") when LocalYear(\"&$D$12&\")=\"&$D$4&\" and localMonth(\"&$D$12&\") =\"&$E$4&\" and LocalDay(\"&$D$12&\")=\"&$F$4&\" and Barix(\"&$D$12&\",reference:=StartOfDay)=\"&A32&\"\", \"Bar\", \"\", \"Close\",\"5\",\"0\",\"All\",,,\"False\",\"T\",\"EveryTick\")","v":4388},-4.5558086560364467E-4,{"$f":"RTD(\"cqg.rtd\",,\"StudyData\", \"Close(\"&$D$12&\") when LocalYear(\"&$D$12&\")=\"&$D$5&\" and localMonth(\"&$D$12&\") =\"&$E$5&\" and LocalDay(\"&$D$12&\")=\"&$F$5&\" and Barix(\"&$D$12&\",reference:=StartOfDay)=\"&A32&\"\", \"Bar\", \"\", \"Close\",\"5\",\"0\",\"All\",,,\"False\",\"T\",\"EveryTick\")","v":4380.25},6.0289389067524112E-3,{"$f":"RTD(\"cqg.rtd\",,\"StudyData\", \"Close(\"&$D$12&\") when LocalYear(\"&$D$12&\")=\"&$D$6&\" and localMonth(\"&$D$12&\") =\"&$E$6&\" and LocalDay(\"&$D$12&\")=\"&$F$6&\" and Barix(\"&$D$12&\",reference:=StartOfDay)=\"&A32&\"\", \"Bar\", \"\", \"Close\",\"5\",\"0\",\"All\",,,\"False\",\"T\",\"EveryTick\")","v":4293},-9.4600830641439777E-3,{"$f":"RTD(\"cqg.rtd\",,\"StudyData\", \"Close(\"&$D$12&\") when LocalYear(\"&$D$12&\")=\"&$D$7&\" and localMonth(\"&$D$12&\") =\"&$E$7&\" and LocalDay(\"&$D$12&\")=\"&$F$7&\" and Barix(\"&$D$12&\",reference:=StartOfDay)=\"&A32&\"\", \"Bar\", \"\", \"Close\",\"5\",\"0\",\"All\",,,\"False\",\"T\",\"EveryTick\")","v":4301.5},2.3885814156714242E-3,{"$f":"RTD(\"cqg.rtd\",,\"StudyData\", \"Close(\"&$D$12&\") when LocalYear(\"&$D$12&\")=\"&$D$8&\" and localMonth(\"&$D$12&\") =\"&$E$8&\" and LocalDay(\"&$D$12&\")=\"&$F$8&\" and Barix(\"&$D$12&\",reference:=StartOfDay)=\"&A32&\"\", \"Bar\", \"\", \"Close\",\"5\",\"0\",\"All\",,,\"False\",\"T\",\"EveryTick\")","v":4320.5},-5.352517985611511E-3,{"$f":"RTD(\"cqg.rtd\",,\"StudyData\", \"Close(\"&$D$12&\") when LocalYear(\"&$D$12&\")=\"&$D$9&\" and localMonth(\"&$D$12&\") =\"&$E$9&\" and LocalDay(\"&$D$12&\")=\"&$F$9&\" and Barix(\"&$D$12&\",reference:=StartOfDay)=\"&A32&\"\", \"Bar\", \"\", \"Close\",\"5\",\"0\",\"All\",,,\"False\",\"T\",\"EveryTick\")","v":4272},-5.9915071839916232E-3,{"$f":"RTD(\"cqg.rtd\",,\"StudyData\", \"Close(\"&$D$12&\") when LocalYear(\"&$D$12&\")=\"&$D$10&\" and localMonth(\"&$D$12&\") =\"&$E$10&\" and LocalDay(\"&$D$12&\")=\"&$F$10&\" and Barix(\"&$D$12&\",reference:=StartOfDay)=\"&A32&\"\", \"Bar\", \"\", \"Close\",\"5\",\"0\",\"All\",,,\"False\",\"T\",\"EveryTick\")","v":4378.5},6.6095752629461461E-3,null,null,null,""]
[128,"03:40:00",null,{"$f":"RTD(\"cqg.rtd\", ,\"ContractData\",\"USA\", \"TickSize\",, \"B\")","v":"+0-02' "},null,4.1666666666666664E-2,{"$f":"(F34-F33)/5","v":3.3916666666666666},{"$f":"RTD(\"cqg.rtd\",,\"StudyData\", \"Close(\"&$D$12&\") when LocalYear(\"&$D$12&\")=\"&$D$1&\" and localMonth(\"&$D$12&\") =\"&$E$1&\" and LocalDay(\"&$D$12&\")=\"&$F$1&\" and Barix(\"&$D$12&\",reference:=StartOfDay)=\"&A33&\"\", \"Bar\", \"\", \"Close\",\"5\",\"0\",\"All\",,,\"False\",\"T\",\"EveryTick\")","v":4349.25},{"$f":"IFERROR((H33-$G$2)/$G$2,NA())","v":1.9581869492599204E-3},{"$f":"RTD(\"cqg.rtd\",,\"StudyData\", \"Close(\"&$D$12&\") when LocalYear(\"&$D$12&\")=\"&$D$2&\" and localMonth(\"&$D$12&\") =\"&$E$2&\" and LocalDay(\"&$D$12&\")=\"&$F$2&\" and Barix(\"&$D$12&\",reference:=StartOfDay)=\"&A33&\"\", \"Bar\", \"\", \"Close\",\"5\",\"0\",\"All\",,,\"False\",\"T\",\"EveryTick\")","v":4341},{"$f":"IFERROR((J33-$G$3)/$G$3,NA())","v":-2.2983222247759134E-3},{"$f":"RTD(\"cqg.rtd\",,\"StudyData\", \"Close(\"&$D$12&\") when LocalYear(\"&$D$12&\")=\"&$D$3&\" and localMonth(\"&$D$12&\") =\"&$E$3&\" and LocalDay(\"&$D$12&\")=\"&$F$3&\" and Barix(\"&$D$12&\",reference:=StartOfDay)=\"&A33&\"\", \"Bar\", \"\", \"Close\",\"5\",\"0\",\"All\",,,\"False\",\"T\",\"EveryTick\")","v":4365.75},{"$f":"IFERROR((L33-$G$4)/$G$4,NA())","v":-3.7651891151805577E-3},{"$f":"RTD(\"cqg.rtd\",,\"StudyData\", \"Close(\"&$D$12&\") when LocalYear(\"&$D$12&\")=\"&$D$4&\" and localMonth(\"&$D$12&\") =\"&$E$4&\" and LocalDay(\"&$D$12&\")=\"&$F$4&\" and Barix(\"&$D$12&\",reference:=StartOfDay)=\"&A33&\"\", \"Bar\", \"\", \"Close\",\"5\",\"0\",\"All\",,,\"False\",\"T\",\"EveryTick\")","v":4388.75},{"$f":"IFERROR((N33-$G$5)/$G$5,NA())","v":-2.8473804100227789E-4},{"$f":"RTD(\"cqg.rtd\",,\"StudyData\", \"Close(\"&$D$12&\") when LocalYear(\"&$D$12&\")=\"&$D$5&\" and localMonth(\"&$D$12&\") =\"&$E$5&\" and LocalDay(\"&$D$12&\")=\"&$F$5&\" and Barix(\"&$D$12&\",reference:=StartOfDay)=\"&A33&\"\", \"Bar\", \"\", \"Close\",\"5\",\"0\",\"All\",,,\"False\",\"T\",\"EveryTick\")","v":4380.5},{"$f":"IFERROR((P33-$G$6)/$G$6,NA())","v":6.0863573725310057E-3},{"$f":"RTD(\"cqg.rtd\",,\"StudyData\", \"Close(\"&$D$12&\") when LocalYear(\"&$D$12&\")=\"&$D$6&\" and localMonth(\"&$D$12&\") =\"&$E$6&\" and LocalDay(\"&$D$12&\")=\"&$F$6&\" and Barix(\"&$D$12&\",reference:=StartOfDay)=\"&A33&\"\", \"Bar\", \"\", \"Close\",\"5\",\"0\",\"All\",,,\"False\",\"T\",\"EveryTick\")","v":4293.75},{"$f":"IFERROR((R33-$G$7)/$G$7,NA())","v":-9.287032764190125E-3},{"$f":"RTD(\"cqg.rtd\",,\"StudyData\", \"Close(\"&$D$12&\") when LocalYear(\"&$D$12&\")=\"&$D$7&\" and localMonth(\"&$D$12&\") =\"&$E$7&\" and LocalDay(\"&$D$12&\")=\"&$F$7&\" and Barix(\"&$D$12&\",reference:=StartOfDay)=\"&A33&\"\", \"Bar\", \"\", \"Close\",\"5\",\"0\",\"All\",,,\"False\",\"T\",\"EveryTick\")","v":4299.5},{"$f":"IFERROR((T33-$G$8)/$G$8,NA())","v":1.9225167491989513E-3},{"$f":"RTD(\"cqg.rtd\",,\"StudyData\", \"Close(\"&$D$12&\") when LocalYear(\"&$D$12&\")=\"&$D$8&\" and localMonth(\"&$D$12&\") =\"&$E$8&\" and LocalDay(\"&$D$12&\")=\"&$F$8&\" and Barix(\"&$D$12&\",reference:=StartOfDay)=\"&A33&\"\", \"Bar\", \"\", \"Close\",\"5\",\"0\",\"All\",,,\"False\",\"T\",\"EveryTick\")","v":4322.25},{"$f":"IFERROR((V33-$G$9)/$G$9,NA())","v":-4.9496402877697845E-3},{"$f":"RTD(\"cqg.rtd\",,\"StudyData\", \"Close(\"&$D$12&\") when LocalYear(\"&$D$12&\")=\"&$D$9&\" and localMonth(\"&$D$12&\") =\"&$E$9&\" and LocalDay(\"&$D$12&\")=\"&$F$9&\" and Barix(\"&$D$12&\",reference:=StartOfDay)=\"&A33&\"\", \"Bar\", \"\", \"Close\",\"5\",\"0\",\"All\",,,\"False\",\"T\",\"EveryTick\")","v":4274.25},{"$f":"IFERROR((X33-$G$10)/$G$10,NA())","v":-5.4679774300506077E-3},{"$f":"RTD(\"cqg.rtd\",,\"StudyData\", \"Close(\"&$D$12&\") when LocalYear(\"&$D$12&\")=\"&$D$10&\" and localMonth(\"&$D$12&\") =\"&$E$10&\" and LocalDay(\"&$D$12&\")=\"&$F$10&\" and Barix(\"&$D$12&\",reference:=StartOfDay)=\"&A33&\"\", \"Bar\", \"\", \"Close\",\"5\",\"0\",\"All\",,,\"False\",\"T\",\"EveryTick\")","v":4378},{"$f":"IFERROR((Z33-$G$11)/$G$11,NA())","v":6.4946261279383872E-3},null,null,null,""]
[129,"03:45:00",null,{"$f":"32*D28","v":0.125},null,{"$f":"RTD(\"cqg.rtd\", , \"ContractData\",D12,\"OpenTime\",\"0\")*24","v":17},25,{"$f":"RTD(\"cqg.rtd\",,\"StudyData\", \"Close(\"&$D$12&\") when LocalYear(\"&$D$12&\")=\"&$D$1&\" and localMonth(\"&$D$12&\") =\"&$E$1&\" and LocalDay(\"&$D$12&\")=\"&$F$1&\" and Barix(\"&$D$12&\",reference:=StartOfDay)=\"&A34&\"\", \"Bar\", \"\", \"Close\",\"5\",\"0\",\"All\",,,\"False\",\"T\",\"EveryTick\")","v":4352},2.5917180210793065E-3,{"$f":"RTD(\"cqg.rtd\",,\"StudyData\", \"Close(\"&$D$12&\") when LocalYear(\"&$D$12&\")=\"&$D$2&\" and localMonth(\"&$D$12&\") =\"&$E$2&\" and LocalDay(\"&$D$12&\")=\"&$F$2&\" and Barix(\"&$D$12&\",reference:=StartOfDay)=\"&A34&\"\", \"Bar\", \"\", \"Close\",\"5\",\"0\",\"All\",,,\"False\",\"T\",\"EveryTick\")","v":4345.5},-1.2640772236267525E-3,{"$f":"RTD(\"cqg.rtd\",,\"StudyData\", \"Close(\"&$D$12&\") when LocalYear(\"&$D$12&\")=\"&$D$3&\" and localMonth(\"&$D$12&\") =\"&$E$3&\" and LocalDay(\"&$D$12&\")=\"&$F$3&\" and Barix(\"&$D$12&\",reference:=StartOfDay)=\"&A34&\"\", \"Bar\", \"\", \"Close\",\"5\",\"0\",\"All\",,,\"False\",\"T\",\"EveryTick\")","v":4364},-4.1645273546694053E-3,{"$f":"RTD(\"cqg.rtd\",,\"StudyData\", \"Close(\"&$D$12&\") when LocalYear(\"&$D$12&\")=\"&$D$4&\" and localMonth(\"&$D$12&\") =\"&$E$4&\" and LocalDay(\"&$D$12&\")=\"&$F$4&\" and Barix(\"&$D$12&\",reference:=StartOfDay)=\"&A34&\"\", \"Bar\", \"\", \"Close\",\"5\",\"0\",\"All\",,,\"False\",\"T\",\"EveryTick\")","v":4389.5},-1.1389521640091117E-4,{"$f":"RTD(\"cqg.rtd\",,\"StudyData\", \"Close(\"&$D$12&\") when LocalYear(\"&$D$12&\")=\"&$D$5&\" and localMonth(\"&$D$12&\") =\"&$E$5&\" and LocalDay(\"&$D$12&\")=\"&$F$5&\" and Barix(\"&$D$12&\",reference:=StartOfDay)=\"&A34&\"\", \"Bar\", \"\", \"Close\",\"5\",\"0\",\"All\",,,\"False\",\"T\",\"EveryTick\")","v":4382.25},6.4882866329811668E-3,{"$f":"RTD(\"cqg.rtd\",,\"StudyData\", \"Close(\"&$D$12&\") when LocalYear(\"&$D$12&\")=\"&$D$6&\" and localMonth(\"&$D$12&\") =\"&$E$6&\" and LocalDay(\"&$D$12&\")=\"&$F$6&\" and Barix(\"&$D$12&\",reference:=StartOfDay)=\"&A34&\"\", \"Bar\", \"\", \"Close\",\"5\",\"0\",\"All\",,,\"False\",\"T\",\"EveryTick\")","v":4287.75},-1.067143516382095E-2,{"$f":"RTD(\"cqg.rtd\",,\"StudyData\", \"Close(\"&$D$12&\") when LocalYear(\"&$D$12&\")=\"&$D$7&\" and localMonth(\"&$D$12&\") =\"&$E$7&\" and LocalDay(\"&$D$12&\")=\"&$F$7&\" and Barix(\"&$D$12&\",reference:=StartOfDay)=\"&A34&\"\", \"Bar\", \"\", \"Close\",\"5\",\"0\",\"All\",,,\"False\",\"T\",\"EveryTick\")","v":4299.5},1.9225167491989513E-3,{"$f":"RTD(\"cqg.rtd\",,\"StudyData\", \"Close(\"&$D$12&\") when LocalYear(\"&$D$12&\")=\"&$D$8&\" and localMonth(\"&$D$12&\") =\"&$E$8&\" and LocalDay(\"&$D$12&\")=\"&$F$8&\" and Barix(\"&$D$12&\",reference:=StartOfDay)=\"&A34&\"\", \"Bar\", \"\", \"Close\",\"5\",\"0\",\"All\",,,\"False\",\"T\",\"EveryTick\")","v":4323.5},-4.6618705035971226E-3,{"$f":"RTD(\"cqg.rtd\",,\"StudyData\", \"Close(\"&$D$12&\") when LocalYear(\"&$D$12&\")=\"&$D$9&\" and localMonth(\"&$D$12&\") =\"&$E$9&\" and LocalDay(\"&$D$12&\")=\"&$F$9&\" and Barix(\"&$D$12&\",reference:=StartOfDay)=\"&A34&\"\", \"Bar\", \"\", \"Close\",\"5\",\"0\",\"All\",,,\"False\",\"T\",\"EveryTick\")","v":4272},-5.9915071839916232E-3,{"$f":"RTD(\"cqg.rtd\",,\"StudyData\", \"Close(\"&$D$12&\") when LocalYear(\"&$D$12&\")=\"&$D$10&\" and localMonth(\"&$D$12&\") =\"&$E$10&\" and LocalDay(\"&$D$12&\")=\"&$F$10&\" and Barix(\"&$D$12&\",reference:=StartOfDay)=\"&A34&\"\", \"Bar\", \"\", \"Close\",\"5\",\"0\",\"All\",,,\"False\",\"T\",\"EveryTick\")","v":4379.25},6.7819989654577849E-3,null,null,null,{"$f":"IFERROR(IF(AND(H33<>\"\",H34<>\"\",H35=\"\"),A34,\"\"),\"\")","v":""}]
[130,"03:50:00",null,null,null,{"$f":"(G34-F34)*60/5","v":96},null,{"$f":"RTD(\"cqg.rtd\",,\"StudyData\", \"Close(\"&$D$12&\") when LocalYear(\"&$D$12&\")=\"&$D$1&\" and localMonth(\"&$D$12&\") =\"&$E$1&\" and LocalDay(\"&$D$12&\")=\"&$F$1&\" and Barix(\"&$D$12&\",reference:=StartOfDay)=\"&A35&\"\", \"Bar\", \"\", \"Close\",\"5\",\"0\",\"All\",,,\"False\",\"T\",\"EveryTick\")","v":4351.25},2.4189368196740196E-3,{"$f":"RTD(\"cqg.rtd\",,\"StudyData\", \"Close(\"&$D$12&\") when LocalYear(\"&$D$12&\")=\"&$D$2&\" and localMonth(\"&$D$12&\") =\"&$E$2&\" and LocalDay(\"&$D$12&\")=\"&$F$2&\" and Barix(\"&$D$12&\",reference:=StartOfDay)=\"&A35&\"\", \"Bar\", \"\", \"Close\",\"5\",\"0\",\"All\",,,\"False\",\"T\",\"EveryTick\")","v":4345.75},-1.2066191680073547E-3,{"$f":"RTD(\"cqg.rtd\",,\"StudyData\", \"Close(\"&$D$12&\") when LocalYear(\"&$D$12&\")=\"&$D$3&\" and localMonth(\"&$D$12&\") =\"&$E$3&\" and LocalDay(\"&$D$12&\")=\"&$F$3&\" and Barix(\"&$D$12&\",reference:=StartOfDay)=\"&A35&\"\", \"Bar\", \"\", \"Close\",\"5\",\"0\",\"All\",,,\"False\",\"T\",\"EveryTick\")","v":4367.25},-3.4228991956186889E-3,{"$f":"RTD(\"cqg.rtd\",,\"StudyData\", \"Close(\"&$D$12&\") when LocalYear(\"&$D$12&\")=\"&$D$4&\" and localMonth(\"&$D$12&\") =\"&$E$4&\" and LocalDay(\"&$D$12&\")=\"&$F$4&\" and Barix(\"&$D$12&\",reference:=StartOfDay)=\"&A35&\"\", \"Bar\", \"\", \"Close\",\"5\",\"0\",\"All\",,,\"False\",\"T\",\"EveryTick\")","v":4384},-1.366742596810934E-3,{"$f":"RTD(\"cqg.rtd\",,\"StudyData\", \"Close(\"&$D$12&\") when LocalYear(\"&$D$12&\")=\"&$D$5&\" and localMonth(\"&$D$12&\") =\"&$E$5&\" and LocalDay(\"&$D$12&\")=\"&$F$5&\" and Barix(\"&$D$12&\",reference:=StartOfDay)=\"&A35&\"\", \"Bar\", \"\", \"Close\",\"5\",\"0\",\"All\",,,\"False\",\"T\",\"EveryTick\")","v":4382.5},6.5457050987597614E-3,{"$f":"RTD(\"cqg.rtd\",,\"StudyData\", \"Close(\"&$D$12&\") when LocalYear(\"&$D$12&\")=\"&$D$6&\" and localMonth(\"&$D$12&\") =\"&$E$6&\" and LocalDay(\"&$D$12&\")=\"&$F$6&\" and Barix(\"&$D$12&\",reference:=StartOfDay)=\"&A35&\"\", \"Bar\", \"\", \"Close\",\"5\",\"0\",\"All\",,,\"False\",\"T\",\"EveryTick\")","v":4286.5},-1.0959852330410707E-2,{"$f":"RTD(\"cqg.rtd\",,\"StudyData\", \"Close(\"&$D$12&\") when LocalYear(\"&$D$12&\")=\"&$D$7&\" and localMonth(\"&$D$12&\") =\"&$E$7&\" and LocalDay(\"&$D$12&\")=\"&$F$7&\" and Barix(\"&$D$12&\",reference:=StartOfDay)=\"&A35&\"\", \"Bar\", \"\", \"Close\",\"5\",\"0\",\"All\",,,\"False\",\"T\",\"EveryTick\")","v":4302.25},2.5633556655986016E-3,{"$f":"RTD(\"cqg.rtd\",,\"StudyData\", \"Close(\"&$D$12&\") when LocalYear(\"&$D$12&\")=\"&$D$8&\" and localMonth(\"&$D$12&\") =\"&$E$8&\" and LocalDay(\"&$D$12&\")=\"&$F$8&\" and Barix(\"&$D$12&\",reference:=StartOfDay)=\"&A35&\"\", \"Bar\", \"\", \"Close\",\"5\",\"0\",\"All\",,,\"False\",\"T\",\"EveryTick\")","v":4326},-4.0863309352517987E-3,{"$f":"RTD(\"cqg.rtd\",,\"StudyData\", \"Close(\"&$D$12&\") when LocalYear(\"&$D$12&\")=\"&$D$9&\" and localMonth(\"&$D$12&\") =\"&$E$9&\" and LocalDay(\"&$D$12&\")=\"&$F$9&\" and Barix(\"&$D$12&\",reference:=StartOfDay)=\"&A35&\"\", \"Bar\", \"\", \"Close\",\"5\",\"0\",\"All\",,,\"False\",\"T\",\"EveryTick\")","v":4271.25},-6.1660171019719623E-3,{"$f":"RTD(\"cqg.rtd\",,\"StudyData\", \"Close(\"&$D$12&\") when LocalYear(\"&$D$12&\")=\"&$D$10&\" and localMonth(\"&$D$12&\") =\"&$E$10&\" and LocalDay(\"&$D$12&\")=\"&$F$10&\" and Barix(\"&$D$12&\",reference:=StartOfDay)=\"&A35&\"\", \"Bar\", \"\", \"Close\",\"5\",\"0\",\"All\",,,\"False\",\"T\",\"EveryTick\")","v":4380.25},7.0118972354733028E-3,null,null,null,""]
[131,"03:55:00",null,null,null,{"$f":"(G34-F34)*60/5","v":96},null,{"$f":"RTD(\"cqg.rtd\",,\"StudyData\", \"Close(\"&$D$12&\") when LocalYear(\"&$D$12&\")=\"&$D$1&\" and localMonth(\"&$D$12&\") =\"&$E$1&\" and LocalDay(\"&$D$12&\")=\"&$F$1&\" and Barix(\"&$D$12&\",reference:=StartOfDay)=\"&A36&\"\", \"Bar\", \"\", \"Close\",\"5\",\"0\",\"All\",,,\"False\",\"T\",\"EveryTick\")","v":4349.75},2.0733744168634455E-3,{"$f":"RTD(\"cqg.rtd\",,\"StudyData\", \"Close(\"&$D$12&\") when LocalYear(\"&$D$12&\")=\"&$D$2&\" and localMonth(\"&$D$12&\") =\"&$E$2&\" and LocalDay(\"&$D$12&\")=\"&$F$2&\" and Barix(\"&$D$12&\",reference:=StartOfDay)=\"&A36&\"\", \"Bar\", \"\", \"Close\",\"5\",\"0\",\"All\",,,\"False\",\"T\",\"EveryTick\")","v":4346.75},-9.7678694552976331E-4,{"$f":"RTD(\"cqg.rtd\",,\"StudyData\", \"Close(\"&$D$12&\") when LocalYear(\"&$D$12&\")=\"&$D$3&\" and localMonth(\"&$D$12&\") =\"&$E$3&\" and LocalDay(\"&$D$12&\")=\"&$F$3&\" and Barix(\"&$D$12&\",reference:=StartOfDay)=\"&A36&\"\", \"Bar\", \"\", \"Close\",\"5\",\"0\",\"All\",,,\"False\",\"T\",\"EveryTick\")","v":4369.5},-2.9094643162758858E-3,{"$f":"RTD(\"cqg.rtd\",,\"StudyData\", \"Close(\"&$D$12&\") when LocalYear(\"&$D$12&\")=\"&$D$4&\" and localMonth(\"&$D$12&\") =\"&$E$4&\" and LocalDay(\"&$D$12&\")=\"&$F$4&\" and Barix(\"&$D$12&\",reference:=StartOfDay)=\"&A36&\"\", \"Bar\", \"\", \"Close\",\"5\",\"0\",\"All\",,,\"False\",\"T\",\"EveryTick\")","v":4383.75},-1.4236902050113896E-3,{"$f":"RTD(\"cqg.rtd\",,\"StudyData\", \"Close(\"&$D$12&\") when LocalYear(\"&$D$12&\")=\"&$D$5&\" and localMonth(\"&$D$12&\") =\"&$E$5&\" and LocalDay(\"&$D$12&\")=\"&$F$5&\" and Barix(\"&$D$12&\",reference:=StartOfDay)=\"&A36&\"\", \"Bar\", \"\", \"Close\",\"5\",\"0\",\"All\",,,\"False\",\"T\",\"EveryTick\")","v":4380.5},6.0863573725310057E-3,{"$f":"RTD(\"cqg.rtd\",,\"StudyData\", \"Close(\"&$D$12&\") when LocalYear(\"&$D$12&\")=\"&$D$6&\" and localMonth(\"&$D$12&\") =\"&$E$6&\" and LocalDay(\"&$D$12&\")=\"&$F$6&\" and Barix(\"&$D$12&\",reference:=StartOfDay)=\"&A36&\"\", \"Bar\", \"\", \"Close\",\"5\",\"0\",\"All\",,,\"False\",\"T\",\"EveryTick\")","v":4287.25},-1.0786802030456852E-2,{"$f":"RTD(\"cqg.rtd\",,\"StudyData\", \"Close(\"&$D$12&\") when LocalYear(\"&$D$12&\")=\"&$D$7&\" and localMonth(\"&$D$12&\") =\"&$E$7&\" and LocalDay(\"&$D$12&\")=\"&$F$7&\" and Barix(\"&$D$12&\",reference:=StartOfDay)=\"&A36&\"\", \"Bar\", \"\", \"Close\",\"5\",\"0\",\"All\",,,\"False\",\"T\",\"EveryTick\")","v":4304},2.9711622487620156E-3,{"$f":"RTD(\"cqg.rtd\",,\"StudyData\", \"Close(\"&$D$12&\") when LocalYear(\"&$D$12&\")=\"&$D$8&\" and localMonth(\"&$D$12&\") =\"&$E$8&\" and LocalDay(\"&$D$12&\")=\"&$F$8&\" and Barix(\"&$D$12&\",reference:=StartOfDay)=\"&A36&\"\", \"Bar\", \"\", \"Close\",\"5\",\"0\",\"All\",,,\"False\",\"T\",\"EveryTick\")","v":4330.5},-3.0503597122302157E-3,{"$f":"RTD(\"cqg.rtd\",,\"StudyData\", \"Close(\"&$D$12&\") when LocalYear(\"&$D$12&\")=\"&$D$9&\" and localMonth(\"&$D$12&\") =\"&$E$9&\" and LocalDay(\"&$D$12&\")=\"&$F$9&\" and Barix(\"&$D$12&\",reference:=StartOfDay)=\"&A36&\"\", \"Bar\", \"\", \"Close\",\"5\",\"0\",\"All\",,,\"False\",\"T\",\"EveryTick\")","v":4272},-5.9915071839916232E-3,{"$f":"RTD(\"cqg.rtd\",,\"StudyData\", \"Close(\"&$D$12&\") when LocalYear(\"&$D$12&\")=\"&$D$10&\" and localMonth(\"&$D$12&\") =\"&$E$10&\" and LocalDay(\"&$D$12&\")=\"&$F$10&\" and Barix(\"&$D$12&\",reference:=StartOfDay)=\"&A36&\"\", \"Bar\", \"\", \"Close\",\"5\",\"0\",\"All\",,,\"False\",\"T\",\"EveryTick\")","v":4380.5},7.0693718029771827E-3,null,null,null,""]
[132,"04:00:00",null,null,null,null,null,{"$f":"RTD(\"cqg.rtd\",,\"StudyData\", \"Close(\"&$D$12&\") when LocalYear(\"&$D$12&\")=\"&$D$1&\" and localMonth(\"&$D$12&\") =\"&$E$1&\" and LocalDay(\"&$D$12&\")=\"&$F$1&\" and Barix(\"&$D$12&\",reference:=StartOfDay)=\"&A37&\"\", \"Bar\", \"\", \"Close\",\"5\",\"0\",\"All\",,,\"False\",\"T\",\"EveryTick\")","v":4348.5},1.7854057478546334E-3,{"$f":"RTD(\"cqg.rtd\",,\"StudyData\", \"Close(\"&$D$12&\") when LocalYear(\"&$D$12&\")=\"&$D$2&\" and localMonth(\"&$D$12&\") =\"&$E$2&\" and LocalDay(\"&$D$12&\")=\"&$F$2&\" and Barix(\"&$D$12&\",reference:=StartOfDay)=\"&A37&\"\", \"Bar\", \"\", \"Close\",\"5\",\"0\",\"All\",,,\"False\",\"T\",\"EveryTick\")","v":4349},-4.5966444495518271E-4,{"$f":"RTD(\"cqg.rtd\",,\"StudyData\", \"Close(\"&$D$12&\") when LocalYear(\"&$D$12&\")=\"&$D$3&\" and localMonth(\"&$D$12&\") =\"&$E$3&\" and LocalDay(\"&$D$12&\")=\"&$F$3&\" and Barix(\"&$D$12&\",reference:=StartOfDay)=\"&A37&\"\", \"Bar\", \"\", \"Close\",\"5\",\"0\",\"All\",,,\"False\",\"T\",\"EveryTick\")","v":4370.25},-2.7383193564949511E-3,{"$f":"RTD(\"cqg.rtd\",,\"StudyData\", \"Close(\"&$D$12&\") when LocalYear(\"&$D$12&\")=\"&$D$4&\" and localMonth(\"&$D$12&\") =\"&$E$4&\" and LocalDay(\"&$D$12&\")=\"&$F$4&\" and Barix(\"&$D$12&\",reference:=StartOfDay)=\"&A37&\"\", \"Bar\", \"\", \"Close\",\"5\",\"0\",\"All\",,,\"False\",\"T\",\"EveryTick\")","v":4383.75},-1.4236902050113896E-3,{"$f":"RTD(\"cqg.rtd\",,\"StudyData\", \"Close(\"&$D$12&\") when LocalYear(\"&$D$12&\")=\"&$D$5&\" and localMonth(\"&$D$12&\") =\"&$E$5&\" and LocalDay(\"&$D$12&\")=\"&$F$5&\" and Barix(\"&$D$12&\",reference:=StartOfDay)=\"&A37&\"\", \"Bar\", \"\", \"Close\",\"5\",\"0\",\"All\",,,\"False\",\"T\",\"EveryTick\")","v":4379.75},5.9141019751952229E-3,{"$f":"RTD(\"cqg.rtd\",,\"StudyData\", \"Close(\"&$D$12&\") when LocalYear(\"&$D$12&\")=\"&$D$6&\" and localMonth(\"&$D$12&\") =\"&$E$6&\" and LocalDay(\"&$D$12&\")=\"&$F$6&\" and Barix(\"&$D$12&\",reference:=StartOfDay)=\"&A37&\"\", \"Bar\", \"\", \"Close\",\"5\",\"0\",\"All\",,,\"False\",\"T\",\"EveryTick\")","v":4285.25},-1.1248269497000462E-2,{"$f":"RTD(\"cqg.rtd\",,\"StudyData\", \"Close(\"&$D$12&\") when LocalYear(\"&$D$12&\")=\"&$D$7&\" and localMonth(\"&$D$12&\") =\"&$E$7&\" and LocalDay(\"&$D$12&\")=\"&$F$7&\" and Barix(\"&$D$12&\",reference:=StartOfDay)=\"&A37&\"\", \"Bar\", \"\", \"Close\",\"5\",\"0\",\"All\",,,\"False\",\"T\",\"EveryTick\")","v":4306.25},3.4954849985435479E-3,{"$f":"RTD(\"cqg.rtd\",,\"StudyData\", \"Close(\"&$D$12&\") when LocalYear(\"&$D$12&\")=\"&$D$8&\" and localMonth(\"&$D$12&\") =\"&$E$8&\" and LocalDay(\"&$D$12&\")=\"&$F$8&\" and Barix(\"&$D$12&\",reference:=StartOfDay)=\"&A37&\"\", \"Bar\", \"\", \"Close\",\"5\",\"0\",\"All\",,,\"False\",\"T\",\"EveryTick\")","v":4331.25},-2.8776978417266188E-3,{"$f":"RTD(\"cqg.rtd\",,\"StudyData\", \"Close(\"&$D$12&\") when LocalYear(\"&$D$12&\")=\"&$D$9&\" and localMonth(\"&$D$12&\") =\"&$E$9&\" and LocalDay(\"&$D$12&\")=\"&$F$9&\" and Barix(\"&$D$12&\",reference:=StartOfDay)=\"&A37&\"\", \"Bar\", \"\", \"Close\",\"5\",\"0\",\"All\",,,\"False\",\"T\",\"EveryTick\")","v":4275.25},-5.2352975394101562E-3,{"$f":"RTD(\"cqg.rtd\",,\"StudyData\", \"Close(\"&$D$12&\") when LocalYear(\"&$D$12&\")=\"&$D$10&\" and localMonth(\"&$D$12&\") =\"&$E$10&\" and LocalDay(\"&$D$12&\")=\"&$F$10&\" and Barix(\"&$D$12&\",reference:=StartOfDay)=\"&A37&\"\", \"Bar\", \"\", \"Close\",\"5\",\"0\",\"All\",,,\"False\",\"T\",\"EveryTick\")","v":4380.75},7.1268463704810625E-3,null,null,null,""]
[133,"04:05:00",-40,{"$f":" RTD(\"cqg.rtd\",,\"StudyData\", $D$12,  \"Tick\", \"FlatTicks=0\", \"Tick\",\"D\",C38,\"PrimaryOnly\")","v":4334.75},null,"EP",96,{"$f":"RTD(\"cqg.rtd\",,\"StudyData\", \"Close(\"&$D$12&\") when LocalYear(\"&$D$12&\")=\"&$D$1&\" and localMonth(\"&$D$12&\") =\"&$E$1&\" and LocalDay(\"&$D$12&\")=\"&$F$1&\" and Barix(\"&$D$12&\",reference:=StartOfDay)=\"&A38&\"\", \"Bar\", \"\", \"Close\",\"5\",\"0\",\"All\",,,\"False\",\"T\",\"EveryTick\")","v":4347.5},1.555030812647584E-3,{"$f":"RTD(\"cqg.rtd\",,\"StudyData\", \"Close(\"&$D$12&\") when LocalYear(\"&$D$12&\")=\"&$D$2&\" and localMonth(\"&$D$12&\") =\"&$E$2&\" and LocalDay(\"&$D$12&\")=\"&$F$2&\" and Barix(\"&$D$12&\",reference:=StartOfDay)=\"&A38&\"\", \"Bar\", \"\", \"Close\",\"5\",\"0\",\"All\",,,\"False\",\"T\",\"EveryTick\")","v":4349},-4.5966444495518271E-4,{"$f":"RTD(\"cqg.rtd\",,\"StudyData\", \"Close(\"&$D$12&\") when LocalYear(\"&$D$12&\")=\"&$D$3&\" and localMonth(\"&$D$12&\") =\"&$E$3&\" and LocalDay(\"&$D$12&\")=\"&$F$3&\" and Barix(\"&$D$12&\",reference:=StartOfDay)=\"&A38&\"\", \"Bar\", \"\", \"Close\",\"5\",\"0\",\"All\",,,\"False\",\"T\",\"EveryTick\")","v":4371.5},-2.4530777568600604E-3,{"$f":"RTD(\"cqg.rtd\",,\"StudyData\", \"Close(\"&$D$12&\") when LocalYear(\"&$D$12&\")=\"&$D$4&\" and localMonth(\"&$D$12&\") =\"&$E$4&\" and LocalDay(\"&$D$12&\")=\"&$F$4&\" and Barix(\"&$D$12&\",reference:=StartOfDay)=\"&A38&\"\", \"Bar\", \"\", \"Close\",\"5\",\"0\",\"All\",,,\"False\",\"T\",\"EveryTick\")","v":4382.75},-1.6514806378132118E-3,{"$f":"RTD(\"cqg.rtd\",,\"StudyData\", \"Close(\"&$D$12&\") when LocalYear(\"&$D$12&\")=\"&$D$5&\" and localMonth(\"&$D$12&\") =\"&$E$5&\" and LocalDay(\"&$D$12&\")=\"&$F$5&\" and Barix(\"&$D$12&\",reference:=StartOfDay)=\"&A38&\"\", \"Bar\", \"\", \"Close\",\"5\",\"0\",\"All\",,,\"False\",\"T\",\"EveryTick\")","v":4380.25},6.0289389067524112E-3,{"$f":"RTD(\"cqg.rtd\",,\"StudyData\", \"Close(\"&$D$12&\") when LocalYear(\"&$D$12&\")=\"&$D$6&\" and localMonth(\"&$D$12&\") =\"&$E$6&\" and LocalDay(\"&$D$12&\")=\"&$F$6&\" and Barix(\"&$D$12&\",reference:=StartOfDay)=\"&A38&\"\", \"Bar\", \"\", \"Close\",\"5\",\"0\",\"All\",,,\"False\",\"T\",\"EveryTick\")","v":4285.75},-1.1132902630364559E-2,{"$f":"RTD(\"cqg.rtd\",,\"StudyData\", \"Close(\"&$D$12&\") when LocalYear(\"&$D$12&\")=\"&$D$7&\" and localMonth(\"&$D$12&\") =\"&$E$7&\" and LocalDay(\"&$D$12&\")=\"&$F$7&\" and Barix(\"&$D$12&\",reference:=StartOfDay)=\"&A38&\"\", \"Bar\", \"\", \"Close\",\"5\",\"0\",\"All\",,,\"False\",\"T\",\"EveryTick\")","v":4306.75},3.6120011651616661E-3,{"$f":"RTD(\"cqg.rtd\",,\"StudyData\", \"Close(\"&$D$12&\") when LocalYear(\"&$D$12&\")=\"&$D$8&\" and localMonth(\"&$D$12&\") =\"&$E$8&\" and LocalDay(\"&$D$12&\")=\"&$F$8&\" and Barix(\"&$D$12&\",reference:=StartOfDay)=\"&A38&\"\", \"Bar\", \"\", \"Close\",\"5\",\"0\",\"All\",,,\"False\",\"T\",\"EveryTick\")","v":4331.5},-2.8201438848920865E-3,{"$f":"RTD(\"cqg.rtd\",,\"StudyData\", \"Close(\"&$D$12&\") when LocalYear(\"&$D$12&\")=\"&$D$9&\" and localMonth(\"&$D$12&\") =\"&$E$9&\" and LocalDay(\"&$D$12&\")=\"&$F$9&\" and Barix(\"&$D$12&\",reference:=StartOfDay)=\"&A38&\"\", \"Bar\", \"\", \"Close\",\"5\",\"0\",\"All\",,,\"False\",\"T\",\"EveryTick\")","v":4273.25},-5.7006573206910592E-3,{"$f":"RTD(\"cqg.rtd\",,\"StudyData\", \"Close(\"&$D$12&\") when LocalYear(\"&$D$12&\")=\"&$D$10&\" and localMonth(\"&$D$12&\") =\"&$E$10&\" and LocalDay(\"&$D$12&\")=\"&$F$10&\" and Barix(\"&$D$12&\",reference:=StartOfDay)=\"&A38&\"\", \"Bar\", \"\", \"Close\",\"5\",\"0\",\"All\",,,\"False\",\"T\",\"EveryTick\")","v":4379.75},6.8969481004655438E-3,null,null,null,""]
[134,"04:10:00",{"$f":"C38+1","v":-39},{"$f":" RTD(\"cqg.rtd\",,\"StudyData\", $D$12,  \"Tick\", \"FlatTicks=0\", \"Tick\",\"D\",C39,\"PrimaryOnly\")","v":4335},null,"ENQ",96,{"$f":"RTD(\"cqg.rtd\",,\"StudyData\", \"Close(\"&$D$12&\") when LocalYear(\"&$D$12&\")=\"&$D$1&\" and localMonth(\"&$D$12&\") =\"&$E$1&\" and LocalDay(\"&$D$12&\")=\"&$F$1&\" and Barix(\"&$D$12&\",reference:=StartOfDay)=\"&A39&\"\", \"Bar\", \"\", \"Close\",\"5\",\"0\",\"All\",,,\"False\",\"T\",\"EveryTick\")","v":4349},1.9005932154581582E-3,{"$f":"RTD(\"cqg.rtd\",,\"StudyData\", \"Close(\"&$D$12&\") when LocalYear(\"&$D$12&\")=\"&$D$2&\" and localMonth(\"&$D$12&\") =\"&$E$2&\" and LocalDay(\"&$D$12&\")=\"&$F$2&\" and Barix(\"&$D$12&\",reference:=StartOfDay)=\"&A39&\"\", \"Bar\", \"\", \"Close\",\"5\",\"0\",\"All\",,,\"False\",\"T\",\"EveryTick\")","v":4351.25},5.7458055619397838E-5,{"$f":"RTD(\"cqg.rtd\",,\"StudyData\", \"Close(\"&$D$12&\") when LocalYear(\"&$D$12&\")=\"&$D$3&\" and localMonth(\"&$D$12&\") =\"&$E$3&\" and LocalDay(\"&$D$12&\")=\"&$F$3&\" and Barix(\"&$D$12&\",reference:=StartOfDay)=\"&A39&\"\", \"Bar\", \"\", \"Close\",\"5\",\"0\",\"All\",,,\"False\",\"T\",\"EveryTick\")","v":4369.25},-2.966512636202864E-3,{"$f":"RTD(\"cqg.rtd\",,\"StudyData\", \"Close(\"&$D$12&\") when LocalYear(\"&$D$12&\")=\"&$D$4&\" and localMonth(\"&$D$12&\") =\"&$E$4&\" and LocalDay(\"&$D$12&\")=\"&$F$4&\" and Barix(\"&$D$12&\",reference:=StartOfDay)=\"&A39&\"\", \"Bar\", \"\", \"Close\",\"5\",\"0\",\"All\",,,\"False\",\"T\",\"EveryTick\")","v":4382.25},-1.7653758542141231E-3,{"$f":"RTD(\"cqg.rtd\",,\"StudyData\", \"Close(\"&$D$12&\") when LocalYear(\"&$D$12&\")=\"&$D$5&\" and localMonth(\"&$D$12&\") =\"&$E$5&\" and LocalDay(\"&$D$12&\")=\"&$F$5&\" and Barix(\"&$D$12&\",reference:=StartOfDay)=\"&A39&\"\", \"Bar\", \"\", \"Close\",\"5\",\"0\",\"All\",,,\"False\",\"T\",\"EveryTick\")","v":4378.75},5.6844281120808455E-3,{"$f":"RTD(\"cqg.rtd\",,\"StudyData\", \"Close(\"&$D$12&\") when LocalYear(\"&$D$12&\")=\"&$D$6&\" and localMonth(\"&$D$12&\") =\"&$E$6&\" and LocalDay(\"&$D$12&\")=\"&$F$6&\" and Barix(\"&$D$12&\",reference:=StartOfDay)=\"&A39&\"\", \"Bar\", \"\", \"Close\",\"5\",\"0\",\"All\",,,\"False\",\"T\",\"EveryTick\")","v":4283.25},-1.1709736963544069E-2,{"$f":"RTD(\"cqg.rtd\",,\"StudyData\", \"Close(\"&$D$12&\") when LocalYear(\"&$D$12&\")=\"&$D$7&\" and localMonth(\"&$D$12&\") =\"&$E$7&\" and LocalDay(\"&$D$12&\")=\"&$F$7&\" and Barix(\"&$D$12&\",reference:=StartOfDay)=\"&A39&\"\", \"Bar\", \"\", \"Close\",\"5\",\"0\",\"All\",,,\"False\",\"T\",\"EveryTick\")","v":4307.25},3.7285173317797844E-3,{"$f":"RTD(\"cqg.rtd\",,\"StudyData\", \"Close(\"&$D$12&\") when LocalYear(\"&$D$12&\")=\"&$D$8&\" and localMonth(\"&$D$12&\") =\"&$E$8&\" and LocalDay(\"&$D$12&\")=\"&$F$8&\" and Barix(\"&$D$12&\",reference:=StartOfDay)=\"&A39&\"\", \"Bar\", \"\", \"Close\",\"5\",\"0\",\"All\",,,\"False\",\"T\",\"EveryTick\")","v":4333},-2.4748201438848923E-3,{"$f":"RTD(\"cqg.rtd\",,\"StudyData\", \"Close(\"&$D$12&\") when LocalYear(\"&$D$12&\")=\"&$D$9&\" and localMonth(\"&$D$12&\") =\"&$E$9&\" and LocalDay(\"&$D$12&\")=\"&$F$9&\" and Barix(\"&$D$12&\",reference:=StartOfDay)=\"&A39&\"\", \"Bar\", \"\", \"Close\",\"5\",\"0\",\"All\",,,\"False\",\"T\",\"EveryTick\")","v":4276.5},-4.9444476761095922E-3,{"$f":"RTD(\"cqg.rtd\",,\"StudyData\", \"Close(\"&$D$12&\") when LocalYear(\"&$D$12&\")=\"&$D$10&\" and localMonth(\"&$D$12&\") =\"&$E$10&\" and LocalDay(\"&$D$12&\")=\"&$F$10&\" and Barix(\"&$D$12&\",reference:=StartOfDay)=\"&A39&\"\", \"Bar\", \"\", \"Close\",\"5\",\"0\",\"All\",,,\"False\",\"T\",\"EveryTick\")","v":4380.25},7.0118972354733028E-3,null,null,null,""]
[135,"04:15:00",-38,{"$f":" RTD(\"cqg.rtd\",,\"StudyData\", $D$12,  \"Tick\", \"FlatTicks=0\", \"Tick\",\"D\",C40,\"PrimaryOnly\")","v":4334.75},null,"YM",96,{"$f":"RTD(\"cqg.rtd\",,\"StudyData\", \"Close(\"&$D$12&\") when LocalYear(\"&$D$12&\")=\"&$D$1&\" and localMonth(\"&$D$12&\") =\"&$E$1&\" and LocalDay(\"&$D$12&\")=\"&$F$1&\" and Barix(\"&$D$12&\",reference:=StartOfDay)=\"&A40&\"\", \"Bar\", \"\", \"Close\",\"5\",\"0\",\"All\",,,\"False\",\"T\",\"EveryTick\")","v":4349.5},2.0157806830616827E-3,{"$f":"RTD(\"cqg.rtd\",,\"StudyData\", \"Close(\"&$D$12&\") when LocalYear(\"&$D$12&\")=\"&$D$2&\" and localMonth(\"&$D$12&\") =\"&$E$2&\" and LocalDay(\"&$D$12&\")=\"&$F$2&\" and Barix(\"&$D$12&\",reference:=StartOfDay)=\"&A40&\"\", \"Bar\", \"\", \"Close\",\"5\",\"0\",\"All\",,,\"False\",\"T\",\"EveryTick\")","v":4354.5},8.0441277867156972E-4,{"$f":"RTD(\"cqg.rtd\",,\"StudyData\", \"Close(\"&$D$12&\") when LocalYear(\"&$D$12&\")=\"&$D$3&\" and localMonth(\"&$D$12&\") =\"&$E$3&\" and LocalDay(\"&$D$12&\")=\"&$F$3&\" and Barix(\"&$D$12&\",reference:=StartOfDay)=\"&A40&\"\", \"Bar\", \"\", \"Close\",\"5\",\"0\",\"All\",,,\"False\",\"T\",\"EveryTick\")","v":4369.25},-2.966512636202864E-3,{"$f":"RTD(\"cqg.rtd\",,\"StudyData\", \"Close(\"&$D$12&\") when LocalYear(\"&$D$12&\")=\"&$D$4&\" and localMonth(\"&$D$12&\") =\"&$E$4&\" and LocalDay(\"&$D$12&\")=\"&$F$4&\" and Barix(\"&$D$12&\",reference:=StartOfDay)=\"&A40&\"\", \"Bar\", \"\", \"Close\",\"5\",\"0\",\"All\",,,\"False\",\"T\",\"EveryTick\")","v":4382.75},-1.6514806378132118E-3,{"$f":"RTD(\"cqg.rtd\",,\"StudyData\", \"Close(\"&$D$12&\") when LocalYear(\"&$D$12&\")=\"&$D$5&\" and localMonth(\"&$D$12&\") =\"&$E$5&\" and LocalDay(\"&$D$12&\")=\"&$F$5&\" and Barix(\"&$D$12&\",reference:=StartOfDay)=\"&A40&\"\", \"Bar\", \"\", \"Close\",\"5\",\"0\",\"All\",,,\"False\",\"T\",\"EveryTick\")","v":4378.5},5.627009646302251E-3,{"$f":"RTD(\"cqg.rtd\",,\"StudyData\", \"Close(\"&$D$12&\") when LocalYear(\"&$D$12&\")=\"&$D$6&\" and localMonth(\"&$D$12&\") =\"&$E$6&\" and LocalDay(\"&$D$12&\")=\"&$F$6&\" and Barix(\"&$D$12&\",reference:=StartOfDay)=\"&A40&\"\", \"Bar\", \"\", \"Close\",\"5\",\"0\",\"All\",,,\"False\",\"T\",\"EveryTick\")","v":4283},-1.1767420396862021E-2,{"$f":"RTD(\"cqg.rtd\",,\"StudyData\", \"Close(\"&$D$12&\") when LocalYear(\"&$D$12&\")=\"&$D$7&\" and localMonth(\"&$D$12&\") =\"&$E$7&\" and LocalDay(\"&$D$12&\")=\"&$F$7&\" and Barix(\"&$D$12&\",reference:=StartOfDay)=\"&A40&\"\", \"Bar\", \"\", \"Close\",\"5\",\"0\",\"All\",,,\"False\",\"T\",\"EveryTick\")","v":4307.5},3.7867754150888435E-3,{"$f":"RTD(\"cqg.rtd\",,\"StudyData\", \"Close(\"&$D$12&\") when LocalYear(\"&$D$12&\")=\"&$D$8&\" and localMonth(\"&$D$12&\") =\"&$E$8&\" and LocalDay(\"&$D$12&\")=\"&$F$8&\" and Barix(\"&$D$12&\",reference:=StartOfDay)=\"&A40&\"\", \"Bar\", \"\", \"Close\",\"5\",\"0\",\"All\",,,\"False\",\"T\",\"EveryTick\")","v":4332},-2.7050359712230214E-3,{"$f":"RTD(\"cqg.rtd\",,\"StudyData\", \"Close(\"&$D$12&\") when LocalYear(\"&$D$12&\")=\"&$D$9&\" and localMonth(\"&$D$12&\") =\"&$E$9&\" and LocalDay(\"&$D$12&\")=\"&$F$9&\" and Barix(\"&$D$12&\",reference:=StartOfDay)=\"&A40&\"\", \"Bar\", \"\", \"Close\",\"5\",\"0\",\"All\",,,\"False\",\"T\",\"EveryTick\")","v":4274},-5.526147402710721E-3,{"$f":"RTD(\"cqg.rtd\",,\"StudyData\", \"Close(\"&$D$12&\") when LocalYear(\"&$D$12&\")=\"&$D$10&\" and localMonth(\"&$D$12&\") =\"&$E$10&\" and LocalDay(\"&$D$12&\")=\"&$F$10&\" and Barix(\"&$D$12&\",reference:=StartOfDay)=\"&A40&\"\", \"Bar\", \"\", \"Close\",\"5\",\"0\",\"All\",,,\"False\",\"T\",\"EveryTick\")","v":4379.5},6.8394735329616648E-3,null,null,null,""]
[136,"04:20:00",-37,{"$f":" RTD(\"cqg.rtd\",,\"StudyData\", $D$12,  \"Tick\", \"FlatTicks=0\", \"Tick\",\"D\",C41,\"PrimaryOnly\")","v":4335},null,"RTY",96,{"$f":"RTD(\"cqg.rtd\",,\"StudyData\", \"Close(\"&$D$12&\") when LocalYear(\"&$D$12&\")=\"&$D$1&\" and localMonth(\"&$D$12&\") =\"&$E$1&\" and LocalDay(\"&$D$12&\")=\"&$F$1&\" and Barix(\"&$D$12&\",reference:=StartOfDay)=\"&A41&\"\", \"Bar\", \"\", \"Close\",\"5\",\"0\",\"All\",,,\"False\",\"T\",\"EveryTick\")","v":4351.25},2.4189368196740196E-3,{"$f":"RTD(\"cqg.rtd\",,\"StudyData\", \"Close(\"&$D$12&\") when LocalYear(\"&$D$12&\")=\"&$D$2&\" and localMonth(\"&$D$12&\") =\"&$E$2&\" and LocalDay(\"&$D$12&\")=\"&$F$2&\" and Barix(\"&$D$12&\",reference:=StartOfDay)=\"&A41&\"\", \"Bar\", \"\", \"Close\",\"5\",\"0\",\"All\",,,\"False\",\"T\",\"EveryTick\")","v":4354},6.8949666743277403E-4,{"$f":"RTD(\"cqg.rtd\",,\"StudyData\", \"Close(\"&$D$12&\") when LocalYear(\"&$D$12&\")=\"&$D$3&\" and localMonth(\"&$D$12&\") =\"&$E$3&\" and LocalDay(\"&$D$12&\")=\"&$F$3&\" and Barix(\"&$D$12&\",reference:=StartOfDay)=\"&A41&\"\", \"Bar\", \"\", \"Close\",\"5\",\"0\",\"All\",,,\"False\",\"T\",\"EveryTick\")","v":4370.25},-2.7383193564949511E-3,{"$f":"RTD(\"cqg.rtd\",,\"StudyData\", \"Close(\"&$D$12&\") when LocalYear(\"&$D$12&\")=\"&$D$4&\" and localMonth(\"&$D$12&\") =\"&$E$4&\" and LocalDay(\"&$D$12&\")=\"&$F$4&\" and Barix(\"&$D$12&\",reference:=StartOfDay)=\"&A41&\"\", \"Bar\", \"\", \"Close\",\"5\",\"0\",\"All\",,,\"False\",\"T\",\"EveryTick\")","v":4382.75},-1.6514806378132118E-3,{"$f":"RTD(\"cqg.rtd\",,\"StudyData\", \"Close(\"&$D$12&\") when LocalYear(\"&$D$12&\")=\"&$D$5&\" and localMonth(\"&$D$12&\") =\"&$E$5&\" and LocalDay(\"&$D$12&\")=\"&$F$5&\" and Barix(\"&$D$12&\",reference:=StartOfDay)=\"&A41&\"\", \"Bar\", \"\", \"Close\",\"5\",\"0\",\"All\",,,\"False\",\"T\",\"EveryTick\")","v":4378.25},5.5695911805236564E-3,{"$f":"RTD(\"cqg.rtd\",,\"StudyData\", \"Close(\"&$D$12&\") when LocalYear(\"&$D$12&\")=\"&$D$6&\" and localMonth(\"&$D$12&\") =\"&$E$6&\" and LocalDay(\"&$D$12&\")=\"&$F$6&\" and Barix(\"&$D$12&\",reference:=StartOfDay)=\"&A41&\"\", \"Bar\", \"\", \"Close\",\"5\",\"0\",\"All\",,,\"False\",\"T\",\"EveryTick\")","v":4279.75},-1.2517305029995386E-2,{"$f":"RTD(\"cqg.rtd\",,\"StudyData\", \"Close(\"&$D$12&\") when LocalYear(\"&$D$12&\")=\"&$D$7&\" and localMonth(\"&$D$12&\") =\"&$E$7&\" and LocalDay(\"&$D$12&\")=\"&$F$7&\" and Barix(\"&$D$12&\",reference:=StartOfDay)=\"&A41&\"\", \"Bar\", \"\", \"Close\",\"5\",\"0\",\"All\",,,\"False\",\"T\",\"EveryTick\")","v":4308},3.9032915817069618E-3,{"$f":"RTD(\"cqg.rtd\",,\"StudyData\", \"Close(\"&$D$12&\") when LocalYear(\"&$D$12&\")=\"&$D$8&\" and localMonth(\"&$D$12&\") =\"&$E$8&\" and LocalDay(\"&$D$12&\")=\"&$F$8&\" and Barix(\"&$D$12&\",reference:=StartOfDay)=\"&A41&\"\", \"Bar\", \"\", \"Close\",\"5\",\"0\",\"All\",,,\"False\",\"T\",\"EveryTick\")","v":4332.25},-2.6474820143884891E-3,{"$f":"RTD(\"cqg.rtd\",,\"StudyData\", \"Close(\"&$D$12&\") when LocalYear(\"&$D$12&\")=\"&$D$9&\" and localMonth(\"&$D$12&\") =\"&$E$9&\" and LocalDay(\"&$D$12&\")=\"&$F$9&\" and Barix(\"&$D$12&\",reference:=StartOfDay)=\"&A41&\"\", \"Bar\", \"\", \"Close\",\"5\",\"0\",\"All\",,,\"False\",\"T\",\"EveryTick\")","v":4274.5},-5.4098074573904953E-3,{"$f":"RTD(\"cqg.rtd\",,\"StudyData\", \"Close(\"&$D$12&\") when LocalYear(\"&$D$12&\")=\"&$D$10&\" and localMonth(\"&$D$12&\") =\"&$E$10&\" and LocalDay(\"&$D$12&\")=\"&$F$10&\" and Barix(\"&$D$12&\",reference:=StartOfDay)=\"&A41&\"\", \"Bar\", \"\", \"Close\",\"5\",\"0\",\"All\",,,\"False\",\"T\",\"EveryTick\")","v":4378.5},6.6095752629461461E-3,null,null,null,""]
[137,"04:25:00",-36,{"$f":" RTD(\"cqg.rtd\",,\"StudyData\", $D$12,  \"Tick\", \"FlatTicks=0\", \"Tick\",\"D\",C42,\"PrimaryOnly\")","v":4335.25},null,"EMD",96,{"$f":"RTD(\"cqg.rtd\",,\"StudyData\", \"Close(\"&$D$12&\") when LocalYear(\"&$D$12&\")=\"&$D$1&\" and localMonth(\"&$D$12&\") =\"&$E$1&\" and LocalDay(\"&$D$12&\")=\"&$F$1&\" and Barix(\"&$D$12&\",reference:=StartOfDay)=\"&A42&\"\", \"Bar\", \"\", \"Close\",\"5\",\"0\",\"All\",,,\"False\",\"T\",\"EveryTick\")","v":4349.25},1.9581869492599204E-3,{"$f":"RTD(\"cqg.rtd\",,\"StudyData\", \"Close(\"&$D$12&\") when LocalYear(\"&$D$12&\")=\"&$D$2&\" and localMonth(\"&$D$12&\") =\"&$E$2&\" and LocalDay(\"&$D$12&\")=\"&$F$2&\" and Barix(\"&$D$12&\",reference:=StartOfDay)=\"&A42&\"\", \"Bar\", \"\", \"Close\",\"5\",\"0\",\"All\",,,\"False\",\"T\",\"EveryTick\")","v":4353.75},6.3203861181337624E-4,{"$f":"RTD(\"cqg.rtd\",,\"StudyData\", \"Close(\"&$D$12&\") when LocalYear(\"&$D$12&\")=\"&$D$3&\" and localMonth(\"&$D$12&\") =\"&$E$3&\" and LocalDay(\"&$D$12&\")=\"&$F$3&\" and Barix(\"&$D$12&\",reference:=StartOfDay)=\"&A42&\"\", \"Bar\", \"\", \"Close\",\"5\",\"0\",\"All\",,,\"False\",\"T\",\"EveryTick\")","v":4369.75},-2.8524159963489075E-3,{"$f":"RTD(\"cqg.rtd\",,\"StudyData\", \"Close(\"&$D$12&\") when LocalYear(\"&$D$12&\")=\"&$D$4&\" and localMonth(\"&$D$12&\") =\"&$E$4&\" and LocalDay(\"&$D$12&\")=\"&$F$4&\" and Barix(\"&$D$12&\",reference:=StartOfDay)=\"&A42&\"\", \"Bar\", \"\", \"Close\",\"5\",\"0\",\"All\",,,\"False\",\"T\",\"EveryTick\")","v":4384.25},-1.3097949886104784E-3,{"$f":"RTD(\"cqg.rtd\",,\"StudyData\", \"Close(\"&$D$12&\") when LocalYear(\"&$D$12&\")=\"&$D$5&\" and localMonth(\"&$D$12&\") =\"&$E$5&\" and LocalDay(\"&$D$12&\")=\"&$F$5&\" and Barix(\"&$D$12&\",reference:=StartOfDay)=\"&A42&\"\", \"Bar\", \"\", \"Close\",\"5\",\"0\",\"All\",,,\"False\",\"T\",\"EveryTick\")","v":4377.75},5.4547542489664673E-3,{"$f":"RTD(\"cqg.rtd\",,\"StudyData\", \"Close(\"&$D$12&\") when LocalYear(\"&$D$12&\")=\"&$D$6&\" and localMonth(\"&$D$12&\") =\"&$E$6&\" and LocalDay(\"&$D$12&\")=\"&$F$6&\" and Barix(\"&$D$12&\",reference:=StartOfDay)=\"&A42&\"\", \"Bar\", \"\", \"Close\",\"5\",\"0\",\"All\",,,\"False\",\"T\",\"EveryTick\")","v":4277.25},-1.3094139363174896E-2,{"$f":"RTD(\"cqg.rtd\",,\"StudyData\", \"Close(\"&$D$12&\") when LocalYear(\"&$D$12&\")=\"&$D$7&\" and localMonth(\"&$D$12&\") =\"&$E$7&\" and LocalDay(\"&$D$12&\")=\"&$F$7&\" and Barix(\"&$D$12&\",reference:=StartOfDay)=\"&A42&\"\", \"Bar\", \"\", \"Close\",\"5\",\"0\",\"All\",,,\"False\",\"T\",\"EveryTick\")","v":4308},3.9032915817069618E-3,{"$f":"RTD(\"cqg.rtd\",,\"StudyData\", \"Close(\"&$D$12&\") when LocalYear(\"&$D$12&\")=\"&$D$8&\" and localMonth(\"&$D$12&\") =\"&$E$8&\" and LocalDay(\"&$D$12&\")=\"&$F$8&\" and Barix(\"&$D$12&\",reference:=StartOfDay)=\"&A42&\"\", \"Bar\", \"\", \"Close\",\"5\",\"0\",\"All\",,,\"False\",\"T\",\"EveryTick\")","v":4333.25},-2.4172661870503595E-3,{"$f":"RTD(\"cqg.rtd\",,\"StudyData\", \"Close(\"&$D$12&\") when LocalYear(\"&$D$12&\")=\"&$D$9&\" and localMonth(\"&$D$12&\") =\"&$E$9&\" and LocalDay(\"&$D$12&\")=\"&$F$9&\" and Barix(\"&$D$12&\",reference:=StartOfDay)=\"&A42&\"\", \"Bar\", \"\", \"Close\",\"5\",\"0\",\"All\",,,\"False\",\"T\",\"EveryTick\")","v":4277},-4.8281077307893664E-3,{"$f":"RTD(\"cqg.rtd\",,\"StudyData\", \"Close(\"&$D$12&\") when LocalYear(\"&$D$12&\")=\"&$D$10&\" and localMonth(\"&$D$12&\") =\"&$E$10&\" and LocalDay(\"&$D$12&\")=\"&$F$10&\" and Barix(\"&$D$12&\",reference:=StartOfDay)=\"&A42&\"\", \"Bar\", \"\", \"Close\",\"5\",\"0\",\"All\",,,\"False\",\"T\",\"EveryTick\")","v":4377.75},6.4371515604345082E-3,null,null,null,""]
[138,"04:30:00",-35,{"$f":" RTD(\"cqg.rtd\",,\"StudyData\", $D$12,  \"Tick\", \"FlatTicks=0\", \"Tick\",\"D\",C43,\"PrimaryOnly\")","v":4335},null,"NIY",96,{"$f":"RTD(\"cqg.rtd\",,\"StudyData\", \"Close(\"&$D$12&\") when LocalYear(\"&$D$12&\")=\"&$D$1&\" and localMonth(\"&$D$12&\") =\"&$E$1&\" and LocalDay(\"&$D$12&\")=\"&$F$1&\" and Barix(\"&$D$12&\",reference:=StartOfDay)=\"&A43&\"\", \"Bar\", \"\", \"Close\",\"5\",\"0\",\"All\",,,\"False\",\"T\",\"EveryTick\")","v":4349.5},2.0157806830616827E-3,{"$f":"RTD(\"cqg.rtd\",,\"StudyData\", \"Close(\"&$D$12&\") when LocalYear(\"&$D$12&\")=\"&$D$2&\" and localMonth(\"&$D$12&\") =\"&$E$2&\" and LocalDay(\"&$D$12&\")=\"&$F$2&\" and Barix(\"&$D$12&\",reference:=StartOfDay)=\"&A43&\"\", \"Bar\", \"\", \"Close\",\"5\",\"0\",\"All\",,,\"False\",\"T\",\"EveryTick\")","v":4353.25},5.1712250057458055E-4,{"$f":"RTD(\"cqg.rtd\",,\"StudyData\", \"Close(\"&$D$12&\") when LocalYear(\"&$D$12&\")=\"&$D$3&\" and localMonth(\"&$D$12&\") =\"&$E$3&\" and LocalDay(\"&$D$12&\")=\"&$F$3&\" and Barix(\"&$D$12&\",reference:=StartOfDay)=\"&A43&\"\", \"Bar\", \"\", \"Close\",\"5\",\"0\",\"All\",,,\"False\",\"T\",\"EveryTick\")","v":4369.75},-2.8524159963489075E-3,{"$f":"RTD(\"cqg.rtd\",,\"StudyData\", \"Close(\"&$D$12&\") when LocalYear(\"&$D$12&\")=\"&$D$4&\" and localMonth(\"&$D$12&\") =\"&$E$4&\" and LocalDay(\"&$D$12&\")=\"&$F$4&\" and Barix(\"&$D$12&\",reference:=StartOfDay)=\"&A43&\"\", \"Bar\", \"\", \"Close\",\"5\",\"0\",\"All\",,,\"False\",\"T\",\"EveryTick\")","v":4384.25},-1.3097949886104784E-3,{"$f":"RTD(\"cqg.rtd\",,\"StudyData\", \"Close(\"&$D$12&\") when LocalYear(\"&$D$12&\")=\"&$D$5&\" and localMonth(\"&$D$12&\") =\"&$E$5&\" and LocalDay(\"&$D$12&\")=\"&$F$5&\" and Barix(\"&$D$12&\",reference:=StartOfDay)=\"&A43&\"\", \"Bar\", \"\", \"Close\",\"5\",\"0\",\"All\",,,\"False\",\"T\",\"EveryTick\")","v":4379.5},5.8566835094166284E-3,{"$f":"RTD(\"cqg.rtd\",,\"StudyData\", \"Close(\"&$D$12&\") when LocalYear(\"&$D$12&\")=\"&$D$6&\" and localMonth(\"&$D$12&\") =\"&$E$6&\" and LocalDay(\"&$D$12&\")=\"&$F$6&\" and Barix(\"&$D$12&\",reference:=StartOfDay)=\"&A43&\"\", \"Bar\", \"\", \"Close\",\"5\",\"0\",\"All\",,,\"False\",\"T\",\"EveryTick\")","v":4280.5},-1.2344254730041531E-2,{"$f":"RTD(\"cqg.rtd\",,\"StudyData\", \"Close(\"&$D$12&\") when LocalYear(\"&$D$12&\")=\"&$D$7&\" and localMonth(\"&$D$12&\") =\"&$E$7&\" and LocalDay(\"&$D$12&\")=\"&$F$7&\" and Barix(\"&$D$12&\",reference:=StartOfDay)=\"&A43&\"\", \"Bar\", \"\", \"Close\",\"5\",\"0\",\"All\",,,\"False\",\"T\",\"EveryTick\")","v":4306.75},3.6120011651616661E-3,{"$f":"RTD(\"cqg.rtd\",,\"StudyData\", \"Close(\"&$D$12&\") when LocalYear(\"&$D$12&\")=\"&$D$8&\" and localMonth(\"&$D$12&\") =\"&$E$8&\" and LocalDay(\"&$D$12&\")=\"&$F$8&\" and Barix(\"&$D$12&\",reference:=StartOfDay)=\"&A43&\"\", \"Bar\", \"\", \"Close\",\"5\",\"0\",\"All\",,,\"False\",\"T\",\"EveryTick\")","v":4330.75},-2.9928057553956834E-3,{"$f":"RTD(\"cqg.rtd\",,\"StudyData\", \"Close(\"&$D$12&\") when LocalYear(\"&$D$12&\")=\"&$D$9&\" and localMonth(\"&$D$12&\") =\"&$E$9&\" and LocalDay(\"&$D$12&\")=\"&$F$9&\" and Barix(\"&$D$12&\",reference:=StartOfDay)=\"&A43&\"\", \"Bar\", \"\", \"Close\",\"5\",\"0\",\"All\",,,\"False\",\"T\",\"EveryTick\")","v":4274.25},-5.4679774300506077E-3,{"$f":"RTD(\"cqg.rtd\",,\"StudyData\", \"Close(\"&$D$12&\") when LocalYear(\"&$D$12&\")=\"&$D$10&\" and localMonth(\"&$D$12&\") =\"&$E$10&\" and LocalDay(\"&$D$12&\")=\"&$F$10&\" and Barix(\"&$D$12&\",reference:=StartOfDay)=\"&A43&\"\", \"Bar\", \"\", \"Close\",\"5\",\"0\",\"All\",,,\"False\",\"T\",\"EveryTick\")","v":4377.75},6.4371515604345082E-3,null,null,null,""]
[139,"04:35:00",-34,{"$f":" RTD(\"cqg.rtd\",,\"StudyData\", $D$12,  \"Tick\", \"FlatTicks=0\", \"Tick\",\"D\",C44,\"PrimaryOnly\")","v":4335.25},null,"DSX",69,{"$f":"RTD(\"cqg.rtd\",,\"StudyData\", \"Close(\"&$D$12&\") when LocalYear(\"&$D$12&\")=\"&$D$1&\" and localMonth(\"&$D$12&\") =\"&$E$1&\" and LocalDay(\"&$D$12&\")=\"&$F$1&\" and Barix(\"&$D$12&\",reference:=StartOfDay)=\"&A44&\"\", \"Bar\", \"\", \"Close\",\"5\",\"0\",\"All\",,,\"False\",\"T\",\"EveryTick\")","v":4351.5},2.4765305534757819E-3,{"$f":"RTD(\"cqg.rtd\",,\"StudyData\", \"Close(\"&$D$12&\") when LocalYear(\"&$D$12&\")=\"&$D$2&\" and localMonth(\"&$D$12&\") =\"&$E$2&\" and LocalDay(\"&$D$12&\")=\"&$F$2&\" and Barix(\"&$D$12&\",reference:=StartOfDay)=\"&A44&\"\", \"Bar\", \"\", \"Close\",\"5\",\"0\",\"All\",,,\"False\",\"T\",\"EveryTick\")","v":4351.5},1.1491611123879568E-4,{"$f":"RTD(\"cqg.rtd\",,\"StudyData\", \"Close(\"&$D$12&\") when LocalYear(\"&$D$12&\")=\"&$D$3&\" and localMonth(\"&$D$12&\") =\"&$E$3&\" and LocalDay(\"&$D$12&\")=\"&$F$3&\" and Barix(\"&$D$12&\",reference:=StartOfDay)=\"&A44&\"\", \"Bar\", \"\", \"Close\",\"5\",\"0\",\"All\",,,\"False\",\"T\",\"EveryTick\")","v":4370.25},-2.7383193564949511E-3,{"$f":"RTD(\"cqg.rtd\",,\"StudyData\", \"Close(\"&$D$12&\") when LocalYear(\"&$D$12&\")=\"&$D$4&\" and localMonth(\"&$D$12&\") =\"&$E$4&\" and LocalDay(\"&$D$12&\")=\"&$F$4&\" and Barix(\"&$D$12&\",reference:=StartOfDay)=\"&A44&\"\", \"Bar\", \"\", \"Close\",\"5\",\"0\",\"All\",,,\"False\",\"T\",\"EveryTick\")","v":4385.75},-9.6810933940774484E-4,{"$f":"RTD(\"cqg.rtd\",,\"StudyData\", \"Close(\"&$D$12&\") when LocalYear(\"&$D$12&\")=\"&$D$5&\" and localMonth(\"&$D$12&\") =\"&$E$5&\" and LocalDay(\"&$D$12&\")=\"&$F$5&\" and Barix(\"&$D$12&\",reference:=StartOfDay)=\"&A44&\"\", \"Bar\", \"\", \"Close\",\"5\",\"0\",\"All\",,,\"False\",\"T\",\"EveryTick\")","v":4378.75},5.6844281120808455E-3,{"$f":"RTD(\"cqg.rtd\",,\"StudyData\", \"Close(\"&$D$12&\") when LocalYear(\"&$D$12&\")=\"&$D$6&\" and localMonth(\"&$D$12&\") =\"&$E$6&\" and LocalDay(\"&$D$12&\")=\"&$F$6&\" and Barix(\"&$D$12&\",reference:=StartOfDay)=\"&A44&\"\", \"Bar\", \"\", \"Close\",\"5\",\"0\",\"All\",,,\"False\",\"T\",\"EveryTick\")","v":4275.25},-1.3555606829718505E-2,{"$f":"RTD(\"cqg.rtd\",,\"StudyData\", \"Close(\"&$D$12&\") when LocalYear(\"&$D$12&\")=\"&$D$7&\" and localMonth(\"&$D$12&\") =\"&$E$7&\" and LocalDay(\"&$D$12&\")=\"&$F$7&\" and Barix(\"&$D$12&\",reference:=StartOfDay)=\"&A44&\"\", \"Bar\", \"\", \"Close\",\"5\",\"0\",\"All\",,,\"False\",\"T\",\"EveryTick\")","v":4307.75},3.8450334983979027E-3,{"$f":"RTD(\"cqg.rtd\",,\"StudyData\", \"Close(\"&$D$12&\") when LocalYear(\"&$D$12&\")=\"&$D$8&\" and localMonth(\"&$D$12&\") =\"&$E$8&\" and LocalDay(\"&$D$12&\")=\"&$F$8&\" and Barix(\"&$D$12&\",reference:=StartOfDay)=\"&A44&\"\", \"Bar\", \"\", \"Close\",\"5\",\"0\",\"All\",,,\"False\",\"T\",\"EveryTick\")","v":4330.5},-3.0503597122302157E-3,{"$f":"RTD(\"cqg.rtd\",,\"StudyData\", \"Close(\"&$D$12&\") when LocalYear(\"&$D$12&\")=\"&$D$9&\" and localMonth(\"&$D$12&\") =\"&$E$9&\" and LocalDay(\"&$D$12&\")=\"&$F$9&\" and Barix(\"&$D$12&\",reference:=StartOfDay)=\"&A44&\"\", \"Bar\", \"\", \"Close\",\"5\",\"0\",\"All\",,,\"False\",\"T\",\"EveryTick\")","v":4273.75},-5.5843173753708335E-3,{"$f":"RTD(\"cqg.rtd\",,\"StudyData\", \"Close(\"&$D$12&\") when LocalYear(\"&$D$12&\")=\"&$D$10&\" and localMonth(\"&$D$12&\") =\"&$E$10&\" and LocalDay(\"&$D$12&\")=\"&$F$10&\" and Barix(\"&$D$12&\",reference:=StartOfDay)=\"&A44&\"\", \"Bar\", \"\", \"Close\",\"5\",\"0\",\"All\",,,\"False\",\"T\",\"EveryTick\")","v":4378.25},6.5521006954422671E-3,null,null,null,""]
[140,"04:40:00",-33,{"$f":" RTD(\"cqg.rtd\",,\"StudyData\", $D$12,  \"Tick\", \"FlatTicks=0\", \"Tick\",\"D\",C45,\"PrimaryOnly\")","v":4335},null,"DD",69,{"$f":"RTD(\"cqg.rtd\",,\"StudyData\", \"Close(\"&$D$12&\") when LocalYear(\"&$D$12&\")=\"&$D$1&\" and localMonth(\"&$D$12&\") =\"&$E$1&\" and LocalDay(\"&$D$12&\")=\"&$F$1&\" and Barix(\"&$D$12&\",reference:=StartOfDay)=\"&A45&\"\", \"Bar\", \"\", \"Close\",\"5\",\"0\",\"All\",,,\"False\",\"T\",\"EveryTick\")","v":4350},2.1309681506652078E-3,{"$f":"RTD(\"cqg.rtd\",,\"StudyData\", \"Close(\"&$D$12&\") when LocalYear(\"&$D$12&\")=\"&$D$2&\" and localMonth(\"&$D$12&\") =\"&$E$2&\" and LocalDay(\"&$D$12&\")=\"&$F$2&\" and Barix(\"&$D$12&\",reference:=StartOfDay)=\"&A45&\"\", \"Bar\", \"\", \"Close\",\"5\",\"0\",\"All\",,,\"False\",\"T\",\"EveryTick\")","v":4351.75},1.7237416685819351E-4,{"$f":"RTD(\"cqg.rtd\",,\"StudyData\", \"Close(\"&$D$12&\") when LocalYear(\"&$D$12&\")=\"&$D$3&\" and localMonth(\"&$D$12&\") =\"&$E$3&\" and LocalDay(\"&$D$12&\")=\"&$F$3&\" and Barix(\"&$D$12&\",reference:=StartOfDay)=\"&A45&\"\", \"Bar\", \"\", \"Close\",\"5\",\"0\",\"All\",,,\"False\",\"T\",\"EveryTick\")","v":4370.75},-2.6242227166409951E-3,{"$f":"RTD(\"cqg.rtd\",,\"StudyData\", \"Close(\"&$D$12&\") when LocalYear(\"&$D$12&\")=\"&$D$4&\" and localMonth(\"&$D$12&\") =\"&$E$4&\" and LocalDay(\"&$D$12&\")=\"&$F$4&\" and Barix(\"&$D$12&\",reference:=StartOfDay)=\"&A45&\"\", \"Bar\", \"\", \"Close\",\"5\",\"0\",\"All\",,,\"False\",\"T\",\"EveryTick\")","v":4387.75},-5.1252847380410028E-4,{"$f":"RTD(\"cqg.rtd\",,\"StudyData\", \"Close(\"&$D$12&\") when LocalYear(\"&$D$12&\")=\"&$D$5&\" and localMonth(\"&$D$12&\") =\"&$E$5&\" and LocalDay(\"&$D$12&\")=\"&$F$5&\" and Barix(\"&$D$12&\",reference:=StartOfDay)=\"&A45&\"\", \"Bar\", \"\", \"Close\",\"5\",\"0\",\"All\",,,\"False\",\"T\",\"EveryTick\")","v":4377.5},5.3973357831878736E-3,{"$f":"RTD(\"cqg.rtd\",,\"StudyData\", \"Close(\"&$D$12&\") when LocalYear(\"&$D$12&\")=\"&$D$6&\" and localMonth(\"&$D$12&\") =\"&$E$6&\" and LocalDay(\"&$D$12&\")=\"&$F$6&\" and Barix(\"&$D$12&\",reference:=StartOfDay)=\"&A45&\"\", \"Bar\", \"\", \"Close\",\"5\",\"0\",\"All\",,,\"False\",\"T\",\"EveryTick\")","v":4275},-1.3613290263036456E-2,{"$f":"RTD(\"cqg.rtd\",,\"StudyData\", \"Close(\"&$D$12&\") when LocalYear(\"&$D$12&\")=\"&$D$7&\" and localMonth(\"&$D$12&\") =\"&$E$7&\" and LocalDay(\"&$D$12&\")=\"&$F$7&\" and Barix(\"&$D$12&\",reference:=StartOfDay)=\"&A45&\"\", \"Bar\", \"\", \"Close\",\"5\",\"0\",\"All\",,,\"False\",\"T\",\"EveryTick\")","v":4307.75},3.8450334983979027E-3,{"$f":"RTD(\"cqg.rtd\",,\"StudyData\", \"Close(\"&$D$12&\") when LocalYear(\"&$D$12&\")=\"&$D$8&\" and localMonth(\"&$D$12&\") =\"&$E$8&\" and LocalDay(\"&$D$12&\")=\"&$F$8&\" and Barix(\"&$D$12&\",reference:=StartOfDay)=\"&A45&\"\", \"Bar\", \"\", \"Close\",\"5\",\"0\",\"All\",,,\"False\",\"T\",\"EveryTick\")","v":4332.5},-2.5899280575539568E-3,{"$f":"RTD(\"cqg.rtd\",,\"StudyData\", \"Close(\"&$D$12&\") when LocalYear(\"&$D$12&\")=\"&$D$9&\" and localMonth(\"&$D$12&\") =\"&$E$9&\" and LocalDay(\"&$D$12&\")=\"&$F$9&\" and Barix(\"&$D$12&\",reference:=StartOfDay)=\"&A45&\"\", \"Bar\", \"\", \"Close\",\"5\",\"0\",\"All\",,,\"False\",\"T\",\"EveryTick\")","v":4272.25},-5.9333372113315108E-3,{"$f":"RTD(\"cqg.rtd\",,\"StudyData\", \"Close(\"&$D$12&\") when LocalYear(\"&$D$12&\")=\"&$D$10&\" and localMonth(\"&$D$12&\") =\"&$E$10&\" and LocalDay(\"&$D$12&\")=\"&$F$10&\" and Barix(\"&$D$12&\",reference:=StartOfDay)=\"&A45&\"\", \"Bar\", \"\", \"Close\",\"5\",\"0\",\"All\",,,\"False\",\"T\",\"EveryTick\")","v":4372.25},5.1727110753491583E-3,null,null,null,""]
[{"$f":"A45+1","v":141},"04:45:00",-32,{"$f":" RTD(\"cqg.rtd\",,\"StudyData\", $D$12,  \"Tick\", \"FlatTicks=0\", \"Tick\",\"D\",C46,\"PrimaryOnly\")","v":4334.75},null,"QFA",72,{"$f":"RTD(\"cqg.rtd\",,\"StudyData\", \"Close(\"&$D$12&\") when LocalYear(\"&$D$12&\")=\"&$D$1&\" and localMonth(\"&$D$12&\") =\"&$E$1&\" and LocalDay(\"&$D$12&\")=\"&$F$1&\" and Barix(\"&$D$12&\",reference:=StartOfDay)=\"&A46&\"\", \"Bar\", \"\", \"Close\",\"5\",\"0\",\"All\",,,\"False\",\"T\",\"EveryTick\")","v":4350.5},2.2461556182687323E-3,{"$f":"RTD(\"cqg.rtd\",,\"StudyData\", \"Close(\"&$D$12&\") when LocalYear(\"&$D$12&\")=\"&$D$2&\" and localMonth(\"&$D$12&\") =\"&$E$2&\" and LocalDay(\"&$D$12&\")=\"&$F$2&\" and Barix(\"&$D$12&\",reference:=StartOfDay)=\"&A46&\"\", \"Bar\", \"\", \"Close\",\"5\",\"0\",\"All\",,,\"False\",\"T\",\"EveryTick\")","v":4351.75},1.7237416685819351E-4,{"$f":"RTD(\"cqg.rtd\",,\"StudyData\", \"Close(\"&$D$12&\") when LocalYear(\"&$D$12&\")=\"&$D$3&\" and localMonth(\"&$D$12&\") =\"&$E$3&\" and LocalDay(\"&$D$12&\")=\"&$F$3&\" and Barix(\"&$D$12&\",reference:=StartOfDay)=\"&A46&\"\", \"Bar\", \"\", \"Close\",\"5\",\"0\",\"All\",,,\"False\",\"T\",\"EveryTick\")","v":4370.25},-2.7383193564949511E-3,{"$f":"RTD(\"cqg.rtd\",,\"StudyData\", \"Close(\"&$D$12&\") when LocalYear(\"&$D$12&\")=\"&$D$4&\" and localMonth(\"&$D$12&\") =\"&$E$4&\" and LocalDay(\"&$D$12&\")=\"&$F$4&\" and Barix(\"&$D$12&\",reference:=StartOfDay)=\"&A46&\"\", \"Bar\", \"\", \"Close\",\"5\",\"0\",\"All\",,,\"False\",\"T\",\"EveryTick\")","v":4386.75},-7.4031890660592251E-4,{"$f":"RTD(\"cqg.rtd\",,\"StudyData\", \"Close(\"&$D$12&\") when LocalYear(\"&$D$12&\")=\"&$D$5&\" and localMonth(\"&$D$12&\") =\"&$E$5&\" and LocalDay(\"&$D$12&\")=\"&$F$5&\" and Barix(\"&$D$12&\",reference:=StartOfDay)=\"&A46&\"\", \"Bar\", \"\", \"Close\",\"5\",\"0\",\"All\",,,\"False\",\"T\",\"EveryTick\")","v":4379.75},5.9141019751952229E-3,{"$f":"RTD(\"cqg.rtd\",,\"StudyData\", \"Close(\"&$D$12&\") when LocalYear(\"&$D$12&\")=\"&$D$6&\" and localMonth(\"&$D$12&\") =\"&$E$6&\" and LocalDay(\"&$D$12&\")=\"&$F$6&\" and Barix(\"&$D$12&\",reference:=StartOfDay)=\"&A46&\"\", \"Bar\", \"\", \"Close\",\"5\",\"0\",\"All\",,,\"False\",\"T\",\"EveryTick\")","v":4280.25},-1.2401938163359483E-2,{"$f":"RTD(\"cqg.rtd\",,\"StudyData\", \"Close(\"&$D$12&\") when LocalYear(\"&$D$12&\")=\"&$D$7&\" and localMonth(\"&$D$12&\") =\"&$E$7&\" and LocalDay(\"&$D$12&\")=\"&$F$7&\" and Barix(\"&$D$12&\",reference:=StartOfDay)=\"&A46&\"\", \"Bar\", \"\", \"Close\",\"5\",\"0\",\"All\",,,\"False\",\"T\",\"EveryTick\")","v":4307.75},3.8450334983979027E-3,{"$f":"RTD(\"cqg.rtd\",,\"StudyData\", \"Close(\"&$D$12&\") when LocalYear(\"&$D$12&\")=\"&$D$8&\" and localMonth(\"&$D$12&\") =\"&$E$8&\" and LocalDay(\"&$D$12&\")=\"&$F$8&\" and Barix(\"&$D$12&\",reference:=StartOfDay)=\"&A46&\"\", \"Bar\", \"\", \"Close\",\"5\",\"0\",\"All\",,,\"False\",\"T\",\"EveryTick\")","v":4333},-2.4748201438848923E-3,{"$f":"RTD(\"cqg.rtd\",,\"StudyData\", \"Close(\"&$D$12&\") when LocalYear(\"&$D$12&\")=\"&$D$9&\" and localMonth(\"&$D$12&\") =\"&$E$9&\" and LocalDay(\"&$D$12&\")=\"&$F$9&\" and Barix(\"&$D$12&\",reference:=StartOfDay)=\"&A46&\"\", \"Bar\", \"\", \"Close\",\"5\",\"0\",\"All\",,,\"False\",\"T\",\"EveryTick\")","v":4273.5},-5.6424873480309468E-3,{"$f":"RTD(\"cqg.rtd\",,\"StudyData\", \"Close(\"&$D$12&\") when LocalYear(\"&$D$12&\")=\"&$D$10&\" and localMonth(\"&$D$12&\") =\"&$E$10&\" and LocalDay(\"&$D$12&\")=\"&$F$10&\" and Barix(\"&$D$12&\",reference:=StartOfDay)=\"&A46&\"\", \"Bar\", \"\", \"Close\",\"5\",\"0\",\"All\",,,\"False\",\"T\",\"EveryTick\")","v":4371.5},5.0002873728375195E-3,null,null,null,""]
[142,"04:50:00",-31,{"$f":" RTD(\"cqg.rtd\",,\"StudyData\", $D$12,  \"Tick\", \"FlatTicks=0\", \"Tick\",\"D\",C47,\"PrimaryOnly\")","v":4334.5},null,"CLE",96,{"$f":"RTD(\"cqg.rtd\",,\"StudyData\", \"Close(\"&$D$12&\") when LocalYear(\"&$D$12&\")=\"&$D$1&\" and localMonth(\"&$D$12&\") =\"&$E$1&\" and LocalDay(\"&$D$12&\")=\"&$F$1&\" and Barix(\"&$D$12&\",reference:=StartOfDay)=\"&A47&\"\", \"Bar\", \"\", \"Close\",\"5\",\"0\",\"All\",,,\"False\",\"T\",\"EveryTick\")","v":4350.25},2.18856188446697E-3,{"$f":"RTD(\"cqg.rtd\",,\"StudyData\", \"Close(\"&$D$12&\") when LocalYear(\"&$D$12&\")=\"&$D$2&\" and localMonth(\"&$D$12&\") =\"&$E$2&\" and LocalDay(\"&$D$12&\")=\"&$F$2&\" and Barix(\"&$D$12&\",reference:=StartOfDay)=\"&A47&\"\", \"Bar\", \"\", \"Close\",\"5\",\"0\",\"All\",,,\"False\",\"T\",\"EveryTick\")","v":4352.5},3.4474833371638702E-4,{"$f":"RTD(\"cqg.rtd\",,\"StudyData\", \"Close(\"&$D$12&\") when LocalYear(\"&$D$12&\")=\"&$D$3&\" and localMonth(\"&$D$12&\") =\"&$E$3&\" and LocalDay(\"&$D$12&\")=\"&$F$3&\" and Barix(\"&$D$12&\",reference:=StartOfDay)=\"&A47&\"\", \"Bar\", \"\", \"Close\",\"5\",\"0\",\"All\",,,\"False\",\"T\",\"EveryTick\")","v":4372},-2.338981117006104E-3,{"$f":"RTD(\"cqg.rtd\",,\"StudyData\", \"Close(\"&$D$12&\") when LocalYear(\"&$D$12&\")=\"&$D$4&\" and localMonth(\"&$D$12&\") =\"&$E$4&\" and LocalDay(\"&$D$12&\")=\"&$F$4&\" and Barix(\"&$D$12&\",reference:=StartOfDay)=\"&A47&\"\", \"Bar\", \"\", \"Close\",\"5\",\"0\",\"All\",,,\"False\",\"T\",\"EveryTick\")","v":4388.25},-3.9863325740318906E-4,{"$f":"RTD(\"cqg.rtd\",,\"StudyData\", \"Close(\"&$D$12&\") when LocalYear(\"&$D$12&\")=\"&$D$5&\" and localMonth(\"&$D$12&\") =\"&$E$5&\" and LocalDay(\"&$D$12&\")=\"&$F$5&\" and Barix(\"&$D$12&\",reference:=StartOfDay)=\"&A47&\"\", \"Bar\", \"\", \"Close\",\"5\",\"0\",\"All\",,,\"False\",\"T\",\"EveryTick\")","v":4381},6.2011943040881949E-3,{"$f":"RTD(\"cqg.rtd\",,\"StudyData\", \"Close(\"&$D$12&\") when LocalYear(\"&$D$12&\")=\"&$D$6&\" and localMonth(\"&$D$12&\") =\"&$E$6&\" and LocalDay(\"&$D$12&\")=\"&$F$6&\" and Barix(\"&$D$12&\",reference:=StartOfDay)=\"&A47&\"\", \"Bar\", \"\", \"Close\",\"5\",\"0\",\"All\",,,\"False\",\"T\",\"EveryTick\")","v":4281.25},-1.2171204430087679E-2,{"$f":"RTD(\"cqg.rtd\",,\"StudyData\", \"Close(\"&$D$12&\") when LocalYear(\"&$D$12&\")=\"&$D$7&\" and localMonth(\"&$D$12&\") =\"&$E$7&\" and LocalDay(\"&$D$12&\")=\"&$F$7&\" and Barix(\"&$D$12&\",reference:=StartOfDay)=\"&A47&\"\", \"Bar\", \"\", \"Close\",\"5\",\"0\",\"All\",,,\"False\",\"T\",\"EveryTick\")","v":4309.25},4.1945819982522571E-3,{"$f":"RTD(\"cqg.rtd\",,\"StudyData\", \"Close(\"&$D$12&\") when LocalYear(\"&$D$12&\")=\"&$D$8&\" and localMonth(\"&$D$12&\") =\"&$E$8&\" and LocalDay(\"&$D$12&\")=\"&$F$8&\" and Barix(\"&$D$12&\",reference:=StartOfDay)=\"&A47&\"\", \"Bar\", \"\", \"Close\",\"5\",\"0\",\"All\",,,\"False\",\"T\",\"EveryTick\")","v":4329.5},-3.2805755395683453E-3,{"$f":"RTD(\"cqg.rtd\",,\"StudyData\", \"Close(\"&$D$12&\") when LocalYear(\"&$D$12&\")=\"&$D$9&\" and localMonth(\"&$D$12&\") =\"&$E$9&\" and LocalDay(\"&$D$12&\")=\"&$F$9&\" and Barix(\"&$D$12&\",reference:=StartOfDay)=\"&A47&\"\", \"Bar\", \"\", \"Close\",\"5\",\"0\",\"All\",,,\"False\",\"T\",\"EveryTick\")","v":4272.25},-5.9333372113315108E-3,{"$f":"RTD(\"cqg.rtd\",,\"StudyData\", \"Close(\"&$D$12&\") when LocalYear(\"&$D$12&\")=\"&$D$10&\" and localMonth(\"&$D$12&\") =\"&$E$10&\" and LocalDay(\"&$D$12&\")=\"&$F$10&\" and Barix(\"&$D$12&\",reference:=StartOfDay)=\"&A47&\"\", \"Bar\", \"\", \"Close\",\"5\",\"0\",\"All\",,,\"False\",\"T\",\"EveryTick\")","v":4371.75},5.0577619403413985E-3,null,null,null,""]
[143,"04:55:00",-30,{"$f":" RTD(\"cqg.rtd\",,\"StudyData\", $D$12,  \"Tick\", \"FlatTicks=0\", \"Tick\",\"D\",C48,\"PrimaryOnly\")","v":4334.75},null,"ET",72,{"$f":"RTD(\"cqg.rtd\",,\"StudyData\", \"Close(\"&$D$12&\") when LocalYear(\"&$D$12&\")=\"&$D$1&\" and localMonth(\"&$D$12&\") =\"&$E$1&\" and LocalDay(\"&$D$12&\")=\"&$F$1&\" and Barix(\"&$D$12&\",reference:=StartOfDay)=\"&A48&\"\", \"Bar\", \"\", \"Close\",\"5\",\"0\",\"All\",,,\"False\",\"T\",\"EveryTick\")","v":4348.75},1.8429994816563959E-3,{"$f":"RTD(\"cqg.rtd\",,\"StudyData\", \"Close(\"&$D$12&\") when LocalYear(\"&$D$12&\")=\"&$D$2&\" and localMonth(\"&$D$12&\") =\"&$E$2&\" and LocalDay(\"&$D$12&\")=\"&$F$2&\" and Barix(\"&$D$12&\",reference:=StartOfDay)=\"&A48&\"\", \"Bar\", \"\", \"Close\",\"5\",\"0\",\"All\",,,\"False\",\"T\",\"EveryTick\")","v":4352},2.2983222247759135E-4,{"$f":"RTD(\"cqg.rtd\",,\"StudyData\", \"Close(\"&$D$12&\") when LocalYear(\"&$D$12&\")=\"&$D$3&\" and localMonth(\"&$D$12&\") =\"&$E$3&\" and LocalDay(\"&$D$12&\")=\"&$F$3&\" and Barix(\"&$D$12&\",reference:=StartOfDay)=\"&A48&\"\", \"Bar\", \"\", \"Close\",\"5\",\"0\",\"All\",,,\"False\",\"T\",\"EveryTick\")","v":4370.5},-2.6812710365679729E-3,{"$f":"RTD(\"cqg.rtd\",,\"StudyData\", \"Close(\"&$D$12&\") when LocalYear(\"&$D$12&\")=\"&$D$4&\" and localMonth(\"&$D$12&\") =\"&$E$4&\" and LocalDay(\"&$D$12&\")=\"&$F$4&\" and Barix(\"&$D$12&\",reference:=StartOfDay)=\"&A48&\"\", \"Bar\", \"\", \"Close\",\"5\",\"0\",\"All\",,,\"False\",\"T\",\"EveryTick\")","v":4390.5},1.1389521640091117E-4,{"$f":"RTD(\"cqg.rtd\",,\"StudyData\", \"Close(\"&$D$12&\") when LocalYear(\"&$D$12&\")=\"&$D$5&\" and localMonth(\"&$D$12&\") =\"&$E$5&\" and LocalDay(\"&$D$12&\")=\"&$F$5&\" and Barix(\"&$D$12&\",reference:=StartOfDay)=\"&A48&\"\", \"Bar\", \"\", \"Close\",\"5\",\"0\",\"All\",,,\"False\",\"T\",\"EveryTick\")","v":4382},6.4308681672025723E-3,{"$f":"RTD(\"cqg.rtd\",,\"StudyData\", \"Close(\"&$D$12&\") when LocalYear(\"&$D$12&\")=\"&$D$6&\" and localMonth(\"&$D$12&\") =\"&$E$6&\" and LocalDay(\"&$D$12&\")=\"&$F$6&\" and Barix(\"&$D$12&\",reference:=StartOfDay)=\"&A48&\"\", \"Bar\", \"\", \"Close\",\"5\",\"0\",\"All\",,,\"False\",\"T\",\"EveryTick\")","v":4280.75},-1.2286571296723581E-2,{"$f":"RTD(\"cqg.rtd\",,\"StudyData\", \"Close(\"&$D$12&\") when LocalYear(\"&$D$12&\")=\"&$D$7&\" and localMonth(\"&$D$12&\") =\"&$E$7&\" and LocalDay(\"&$D$12&\")=\"&$F$7&\" and Barix(\"&$D$12&\",reference:=StartOfDay)=\"&A48&\"\", \"Bar\", \"\", \"Close\",\"5\",\"0\",\"All\",,,\"False\",\"T\",\"EveryTick\")","v":4309.5},4.2528400815613166E-3,{"$f":"RTD(\"cqg.rtd\",,\"StudyData\", \"Close(\"&$D$12&\") when LocalYear(\"&$D$12&\")=\"&$D$8&\" and localMonth(\"&$D$12&\") =\"&$E$8&\" and LocalDay(\"&$D$12&\")=\"&$F$8&\" and Barix(\"&$D$12&\",reference:=StartOfDay)=\"&A48&\"\", \"Bar\", \"\", \"Close\",\"5\",\"0\",\"All\",,,\"False\",\"T\",\"EveryTick\")","v":4330.25},-3.1079136690647484E-3,{"$f":"RTD(\"cqg.rtd\",,\"StudyData\", \"Close(\"&$D$12&\") when LocalYear(\"&$D$12&\")=\"&$D$9&\" and localMonth(\"&$D$12&\") =\"&$E$9&\" and LocalDay(\"&$D$12&\")=\"&$F$9&\" and Barix(\"&$D$12&\",reference:=StartOfDay)=\"&A48&\"\", \"Bar\", \"\", \"Close\",\"5\",\"0\",\"All\",,,\"False\",\"T\",\"EveryTick\")","v":4275.5},-5.1771275667500437E-3,{"$f":"RTD(\"cqg.rtd\",,\"StudyData\", \"Close(\"&$D$12&\") when LocalYear(\"&$D$12&\")=\"&$D$10&\" and localMonth(\"&$D$12&\") =\"&$E$10&\" and LocalDay(\"&$D$12&\")=\"&$F$10&\" and Barix(\"&$D$12&\",reference:=StartOfDay)=\"&A48&\"\", \"Bar\", \"\", \"Close\",\"5\",\"0\",\"All\",,,\"False\",\"T\",\"EveryTick\")","v":4370.5},4.7703891028220017E-3,null,null,null,""]
[144,"05:00:00",-29,{"$f":" RTD(\"cqg.rtd\",,\"StudyData\", $D$12,  \"Tick\", \"FlatTicks=0\", \"Tick\",\"D\",C49,\"PrimaryOnly\")","v":4335},null,"QO",72,{"$f":"RTD(\"cqg.rtd\",,\"StudyData\", \"Close(\"&$D$12&\") when LocalYear(\"&$D$12&\")=\"&$D$1&\" and localMonth(\"&$D$12&\") =\"&$E$1&\" and LocalDay(\"&$D$12&\")=\"&$F$1&\" and Barix(\"&$D$12&\",reference:=StartOfDay)=\"&A49&\"\", \"Bar\", \"\", \"Close\",\"5\",\"0\",\"All\",,,\"False\",\"T\",\"EveryTick\")","v":4349},1.9005932154581582E-3,{"$f":"RTD(\"cqg.rtd\",,\"StudyData\", \"Close(\"&$D$12&\") when LocalYear(\"&$D$12&\")=\"&$D$2&\" and localMonth(\"&$D$12&\") =\"&$E$2&\" and LocalDay(\"&$D$12&\")=\"&$F$2&\" and Barix(\"&$D$12&\",reference:=StartOfDay)=\"&A49&\"\", \"Bar\", \"\", \"Close\",\"5\",\"0\",\"All\",,,\"False\",\"T\",\"EveryTick\")","v":4352.75},4.0220638933578486E-4,{"$f":"RTD(\"cqg.rtd\",,\"StudyData\", \"Close(\"&$D$12&\") when LocalYear(\"&$D$12&\")=\"&$D$3&\" and localMonth(\"&$D$12&\") =\"&$E$3&\" and LocalDay(\"&$D$12&\")=\"&$F$3&\" and Barix(\"&$D$12&\",reference:=StartOfDay)=\"&A49&\"\", \"Bar\", \"\", \"Close\",\"5\",\"0\",\"All\",,,\"False\",\"T\",\"EveryTick\")","v":4367.75},-3.3088025557647329E-3,{"$f":"RTD(\"cqg.rtd\",,\"StudyData\", \"Close(\"&$D$12&\") when LocalYear(\"&$D$12&\")=\"&$D$4&\" and localMonth(\"&$D$12&\") =\"&$E$4&\" and LocalDay(\"&$D$12&\")=\"&$F$4&\" and Barix(\"&$D$12&\",reference:=StartOfDay)=\"&A49&\"\", \"Bar\", \"\", \"Close\",\"5\",\"0\",\"All\",,,\"False\",\"T\",\"EveryTick\")","v":4391},2.2779043280182233E-4,{"$f":"RTD(\"cqg.rtd\",,\"StudyData\", \"Close(\"&$D$12&\") when LocalYear(\"&$D$12&\")=\"&$D$5&\" and localMonth(\"&$D$12&\") =\"&$E$5&\" and LocalDay(\"&$D$12&\")=\"&$F$5&\" and Barix(\"&$D$12&\",reference:=StartOfDay)=\"&A49&\"\", \"Bar\", \"\", \"Close\",\"5\",\"0\",\"All\",,,\"False\",\"T\",\"EveryTick\")","v":4384.5},7.0050528249885162E-3,{"$f":"RTD(\"cqg.rtd\",,\"StudyData\", \"Close(\"&$D$12&\") when LocalYear(\"&$D$12&\")=\"&$D$6&\" and localMonth(\"&$D$12&\") =\"&$E$6&\" and LocalDay(\"&$D$12&\")=\"&$F$6&\" and Barix(\"&$D$12&\",reference:=StartOfDay)=\"&A49&\"\", \"Bar\", \"\", \"Close\",\"5\",\"0\",\"All\",,,\"False\",\"T\",\"EveryTick\")","v":4279},-1.2690355329949238E-2,{"$f":"RTD(\"cqg.rtd\",,\"StudyData\", \"Close(\"&$D$12&\") when LocalYear(\"&$D$12&\")=\"&$D$7&\" and localMonth(\"&$D$12&\") =\"&$E$7&\" and LocalDay(\"&$D$12&\")=\"&$F$7&\" and Barix(\"&$D$12&\",reference:=StartOfDay)=\"&A49&\"\", \"Bar\", \"\", \"Close\",\"5\",\"0\",\"All\",,,\"False\",\"T\",\"EveryTick\")","v":4308.25},3.9615496650160214E-3,{"$f":"RTD(\"cqg.rtd\",,\"StudyData\", \"Close(\"&$D$12&\") when LocalYear(\"&$D$12&\")=\"&$D$8&\" and localMonth(\"&$D$12&\") =\"&$E$8&\" and LocalDay(\"&$D$12&\")=\"&$F$8&\" and Barix(\"&$D$12&\",reference:=StartOfDay)=\"&A49&\"\", \"Bar\", \"\", \"Close\",\"5\",\"0\",\"All\",,,\"False\",\"T\",\"EveryTick\")","v":4333.75},-2.3021582733812949E-3,{"$f":"RTD(\"cqg.rtd\",,\"StudyData\", \"Close(\"&$D$12&\") when LocalYear(\"&$D$12&\")=\"&$D$9&\" and localMonth(\"&$D$12&\") =\"&$E$9&\" and LocalDay(\"&$D$12&\")=\"&$F$9&\" and Barix(\"&$D$12&\",reference:=StartOfDay)=\"&A49&\"\", \"Bar\", \"\", \"Close\",\"5\",\"0\",\"All\",,,\"False\",\"T\",\"EveryTick\")","v":4275.5},-5.1771275667500437E-3,{"$f":"RTD(\"cqg.rtd\",,\"StudyData\", \"Close(\"&$D$12&\") when LocalYear(\"&$D$12&\")=\"&$D$10&\" and localMonth(\"&$D$12&\") =\"&$E$10&\" and LocalDay(\"&$D$12&\")=\"&$F$10&\" and Barix(\"&$D$12&\",reference:=StartOfDay)=\"&A49&\"\", \"Bar\", \"\", \"Close\",\"5\",\"0\",\"All\",,,\"False\",\"T\",\"EveryTick\")","v":4372.75},5.2876602103569172E-3,null,null,null,""]
[145,"05:05:00",-28,{"$f":" RTD(\"cqg.rtd\",,\"StudyData\", $D$12,  \"Tick\", \"FlatTicks=0\", \"Tick\",\"D\",C50,\"PrimaryOnly\")","v":4334.75},null,"GCE",96,{"$f":"RTD(\"cqg.rtd\",,\"StudyData\", \"Close(\"&$D$12&\") when LocalYear(\"&$D$12&\")=\"&$D$1&\" and localMonth(\"&$D$12&\") =\"&$E$1&\" and LocalDay(\"&$D$12&\")=\"&$F$1&\" and Barix(\"&$D$12&\",reference:=StartOfDay)=\"&A50&\"\", \"Bar\", \"\", \"Close\",\"5\",\"0\",\"All\",,,\"False\",\"T\",\"EveryTick\")","v":4349},1.9005932154581582E-3,{"$f":"RTD(\"cqg.rtd\",,\"StudyData\", \"Close(\"&$D$12&\") when LocalYear(\"&$D$12&\")=\"&$D$2&\" and localMonth(\"&$D$12&\") =\"&$E$2&\" and LocalDay(\"&$D$12&\")=\"&$F$2&\" and Barix(\"&$D$12&\",reference:=StartOfDay)=\"&A50&\"\", \"Bar\", \"\", \"Close\",\"5\",\"0\",\"All\",,,\"False\",\"T\",\"EveryTick\")","v":4350.75},-5.7458055619397838E-5,{"$f":"RTD(\"cqg.rtd\",,\"StudyData\", \"Close(\"&$D$12&\") when LocalYear(\"&$D$12&\")=\"&$D$3&\" and localMonth(\"&$D$12&\") =\"&$E$3&\" and LocalDay(\"&$D$12&\")=\"&$F$3&\" and Barix(\"&$D$12&\",reference:=StartOfDay)=\"&A50&\"\", \"Bar\", \"\", \"Close\",\"5\",\"0\",\"All\",,,\"False\",\"T\",\"EveryTick\")","v":4369.5},-2.9094643162758858E-3,{"$f":"RTD(\"cqg.rtd\",,\"StudyData\", \"Close(\"&$D$12&\") when LocalYear(\"&$D$12&\")=\"&$D$4&\" and localMonth(\"&$D$12&\") =\"&$E$4&\" and LocalDay(\"&$D$12&\")=\"&$F$4&\" and Barix(\"&$D$12&\",reference:=StartOfDay)=\"&A50&\"\", \"Bar\", \"\", \"Close\",\"5\",\"0\",\"All\",,,\"False\",\"T\",\"EveryTick\")","v":4390.5},1.1389521640091117E-4,{"$f":"RTD(\"cqg.rtd\",,\"StudyData\", \"Close(\"&$D$12&\") when LocalYear(\"&$D$12&\")=\"&$D$5&\" and localMonth(\"&$D$12&\") =\"&$E$5&\" and LocalDay(\"&$D$12&\")=\"&$F$5&\" and Barix(\"&$D$12&\",reference:=StartOfDay)=\"&A50&\"\", \"Bar\", \"\", \"Close\",\"5\",\"0\",\"All\",,,\"False\",\"T\",\"EveryTick\")","v":4384.5},7.0050528249885162E-3,{"$f":"RTD(\"cqg.rtd\",,\"StudyData\", \"Close(\"&$D$12&\") when LocalYear(\"&$D$12&\")=\"&$D$6&\" and localMonth(\"&$D$12&\") =\"&$E$6&\" and LocalDay(\"&$D$12&\")=\"&$F$6&\" and Barix(\"&$D$12&\",reference:=StartOfDay)=\"&A50&\"\", \"Bar\", \"\", \"Close\",\"5\",\"0\",\"All\",,,\"False\",\"T\",\"EveryTick\")","v":4281},-1.2228887863405631E-2,{"$f":"RTD(\"cqg.rtd\",,\"StudyData\", \"Close(\"&$D$12&\") when LocalYear(\"&$D$12&\")=\"&$D$7&\" and localMonth(\"&$D$12&\") =\"&$E$7&\" and LocalDay(\"&$D$12&\")=\"&$F$7&\" and Barix(\"&$D$12&\",reference:=StartOfDay)=\"&A50&\"\", \"Bar\", \"\", \"Close\",\"5\",\"0\",\"All\",,,\"False\",\"T\",\"EveryTick\")","v":4305.75},3.3789688319254296E-3,{"$f":"RTD(\"cqg.rtd\",,\"StudyData\", \"Close(\"&$D$12&\") when LocalYear(\"&$D$12&\")=\"&$D$8&\" and localMonth(\"&$D$12&\") =\"&$E$8&\" and LocalDay(\"&$D$12&\")=\"&$F$8&\" and Barix(\"&$D$12&\",reference:=StartOfDay)=\"&A50&\"\", \"Bar\", \"\", \"Close\",\"5\",\"0\",\"All\",,,\"False\",\"T\",\"EveryTick\")","v":4334.25},-2.1870503597122303E-3,{"$f":"RTD(\"cqg.rtd\",,\"StudyData\", \"Close(\"&$D$12&\") when LocalYear(\"&$D$12&\")=\"&$D$9&\" and localMonth(\"&$D$12&\") =\"&$E$9&\" and LocalDay(\"&$D$12&\")=\"&$F$9&\" and Barix(\"&$D$12&\",reference:=StartOfDay)=\"&A50&\"\", \"Bar\", \"\", \"Close\",\"5\",\"0\",\"All\",,,\"False\",\"T\",\"EveryTick\")","v":4277.5},-4.7117677854691406E-3,{"$f":"RTD(\"cqg.rtd\",,\"StudyData\", \"Close(\"&$D$12&\") when LocalYear(\"&$D$12&\")=\"&$D$10&\" and localMonth(\"&$D$12&\") =\"&$E$10&\" and LocalDay(\"&$D$12&\")=\"&$F$10&\" and Barix(\"&$D$12&\",reference:=StartOfDay)=\"&A50&\"\", \"Bar\", \"\", \"Close\",\"5\",\"0\",\"All\",,,\"False\",\"T\",\"EveryTick\")","v":4373.5},5.460083912868556E-3,null,null,null,""]
[146,"05:10:00",-27,{"$f":" RTD(\"cqg.rtd\",,\"StudyData\", $D$12,  \"Tick\", \"FlatTicks=0\", \"Tick\",\"D\",C51,\"PrimaryOnly\")","v":4334.5},null,"CPE",96,{"$f":"RTD(\"cqg.rtd\",,\"StudyData\", \"Close(\"&$D$12&\") when LocalYear(\"&$D$12&\")=\"&$D$1&\" and localMonth(\"&$D$12&\") =\"&$E$1&\" and LocalDay(\"&$D$12&\")=\"&$F$1&\" and Barix(\"&$D$12&\",reference:=StartOfDay)=\"&A51&\"\", \"Bar\", \"\", \"Close\",\"5\",\"0\",\"All\",,,\"False\",\"T\",\"EveryTick\")","v":4349.5},2.0157806830616827E-3,{"$f":"RTD(\"cqg.rtd\",,\"StudyData\", \"Close(\"&$D$12&\") when LocalYear(\"&$D$12&\")=\"&$D$2&\" and localMonth(\"&$D$12&\") =\"&$E$2&\" and LocalDay(\"&$D$12&\")=\"&$F$2&\" and Barix(\"&$D$12&\",reference:=StartOfDay)=\"&A51&\"\", \"Bar\", \"\", \"Close\",\"5\",\"0\",\"All\",,,\"False\",\"T\",\"EveryTick\")","v":4349},-4.5966444495518271E-4,{"$f":"RTD(\"cqg.rtd\",,\"StudyData\", \"Close(\"&$D$12&\") when LocalYear(\"&$D$12&\")=\"&$D$3&\" and localMonth(\"&$D$12&\") =\"&$E$3&\" and LocalDay(\"&$D$12&\")=\"&$F$3&\" and Barix(\"&$D$12&\",reference:=StartOfDay)=\"&A51&\"\", \"Bar\", \"\", \"Close\",\"5\",\"0\",\"All\",,,\"False\",\"T\",\"EveryTick\")","v":4369.25},-2.966512636202864E-3,{"$f":"RTD(\"cqg.rtd\",,\"StudyData\", \"Close(\"&$D$12&\") when LocalYear(\"&$D$12&\")=\"&$D$4&\" and localMonth(\"&$D$12&\") =\"&$E$4&\" and LocalDay(\"&$D$12&\")=\"&$F$4&\" and Barix(\"&$D$12&\",reference:=StartOfDay)=\"&A51&\"\", \"Bar\", \"\", \"Close\",\"5\",\"0\",\"All\",,,\"False\",\"T\",\"EveryTick\")","v":4391.25},2.8473804100227789E-4,{"$f":"RTD(\"cqg.rtd\",,\"StudyData\", \"Close(\"&$D$12&\") when LocalYear(\"&$D$12&\")=\"&$D$5&\" and localMonth(\"&$D$12&\") =\"&$E$5&\" and LocalDay(\"&$D$12&\")=\"&$F$5&\" and Barix(\"&$D$12&\",reference:=StartOfDay)=\"&A51&\"\", \"Bar\", \"\", \"Close\",\"5\",\"0\",\"All\",,,\"False\",\"T\",\"EveryTick\")","v":4384.25},6.9476343592099216E-3,{"$f":"RTD(\"cqg.rtd\",,\"StudyData\", \"Close(\"&$D$12&\") when LocalYear(\"&$D$12&\")=\"&$D$6&\" and localMonth(\"&$D$12&\") =\"&$E$6&\" and LocalDay(\"&$D$12&\")=\"&$F$6&\" and Barix(\"&$D$12&\",reference:=StartOfDay)=\"&A51&\"\", \"Bar\", \"\", \"Close\",\"5\",\"0\",\"All\",,,\"False\",\"T\",\"EveryTick\")","v":4281},-1.2228887863405631E-2,{"$f":"RTD(\"cqg.rtd\",,\"StudyData\", \"Close(\"&$D$12&\") when LocalYear(\"&$D$12&\")=\"&$D$7&\" and localMonth(\"&$D$12&\") =\"&$E$7&\" and LocalDay(\"&$D$12&\")=\"&$F$7&\" and Barix(\"&$D$12&\",reference:=StartOfDay)=\"&A51&\"\", \"Bar\", \"\", \"Close\",\"5\",\"0\",\"All\",,,\"False\",\"T\",\"EveryTick\")","v":4306.5},3.553743081852607E-3,{"$f":"RTD(\"cqg.rtd\",,\"StudyData\", \"Close(\"&$D$12&\") when LocalYear(\"&$D$12&\")=\"&$D$8&\" and localMonth(\"&$D$12&\") =\"&$E$8&\" and LocalDay(\"&$D$12&\")=\"&$F$8&\" and Barix(\"&$D$12&\",reference:=StartOfDay)=\"&A51&\"\", \"Bar\", \"\", \"Close\",\"5\",\"0\",\"All\",,,\"False\",\"T\",\"EveryTick\")","v":4334.5},-2.129496402877698E-3,{"$f":"RTD(\"cqg.rtd\",,\"StudyData\", \"Close(\"&$D$12&\") when LocalYear(\"&$D$12&\")=\"&$D$9&\" and localMonth(\"&$D$12&\") =\"&$E$9&\" and LocalDay(\"&$D$12&\")=\"&$F$9&\" and Barix(\"&$D$12&\",reference:=StartOfDay)=\"&A51&\"\", \"Bar\", \"\", \"Close\",\"5\",\"0\",\"All\",,,\"False\",\"T\",\"EveryTick\")","v":4281},-3.8973881682275611E-3,{"$f":"RTD(\"cqg.rtd\",,\"StudyData\", \"Close(\"&$D$12&\") when LocalYear(\"&$D$12&\")=\"&$D$10&\" and localMonth(\"&$D$12&\") =\"&$E$10&\" and LocalDay(\"&$D$12&\")=\"&$F$10&\" and Barix(\"&$D$12&\",reference:=StartOfDay)=\"&A51&\"\", \"Bar\", \"\", \"Close\",\"5\",\"0\",\"All\",,,\"False\",\"T\",\"EveryTick\")","v":4371},4.8853382378297606E-3,null,null,null,""]
[147,"05:15:00",-26,{"$f":" RTD(\"cqg.rtd\",,\"StudyData\", $D$12,  \"Tick\", \"FlatTicks=0\", \"Tick\",\"D\",C52,\"PrimaryOnly\")","v":4334.25},null,"ULA",96,{"$f":"RTD(\"cqg.rtd\",,\"StudyData\", \"Close(\"&$D$12&\") when LocalYear(\"&$D$12&\")=\"&$D$1&\" and localMonth(\"&$D$12&\") =\"&$E$1&\" and LocalDay(\"&$D$12&\")=\"&$F$1&\" and Barix(\"&$D$12&\",reference:=StartOfDay)=\"&A52&\"\", \"Bar\", \"\", \"Close\",\"5\",\"0\",\"All\",,,\"False\",\"T\",\"EveryTick\")","v":4352.75},2.7644992224845938E-3,{"$f":"RTD(\"cqg.rtd\",,\"StudyData\", \"Close(\"&$D$12&\") when LocalYear(\"&$D$12&\")=\"&$D$2&\" and localMonth(\"&$D$12&\") =\"&$E$2&\" and LocalDay(\"&$D$12&\")=\"&$F$2&\" and Barix(\"&$D$12&\",reference:=StartOfDay)=\"&A52&\"\", \"Bar\", \"\", \"Close\",\"5\",\"0\",\"All\",,,\"False\",\"T\",\"EveryTick\")","v":4347},-9.1932888991036541E-4,{"$f":"RTD(\"cqg.rtd\",,\"StudyData\", \"Close(\"&$D$12&\") when LocalYear(\"&$D$12&\")=\"&$D$3&\" and localMonth(\"&$D$12&\") =\"&$E$3&\" and LocalDay(\"&$D$12&\")=\"&$F$3&\" and Barix(\"&$D$12&\",reference:=StartOfDay)=\"&A52&\"\", \"Bar\", \"\", \"Close\",\"5\",\"0\",\"All\",,,\"False\",\"T\",\"EveryTick\")","v":4368.75},-3.08060927605682E-3,{"$f":"RTD(\"cqg.rtd\",,\"StudyData\", \"Close(\"&$D$12&\") when LocalYear(\"&$D$12&\")=\"&$D$4&\" and localMonth(\"&$D$12&\") =\"&$E$4&\" and LocalDay(\"&$D$12&\")=\"&$F$4&\" and Barix(\"&$D$12&\",reference:=StartOfDay)=\"&A52&\"\", \"Bar\", \"\", \"Close\",\"5\",\"0\",\"All\",,,\"False\",\"T\",\"EveryTick\")","v":4391.75},3.9863325740318906E-4,{"$f":"RTD(\"cqg.rtd\",,\"StudyData\", \"Close(\"&$D$12&\") when LocalYear(\"&$D$12&\")=\"&$D$5&\" and localMonth(\"&$D$12&\") =\"&$E$5&\" and LocalDay(\"&$D$12&\")=\"&$F$5&\" and Barix(\"&$D$12&\",reference:=StartOfDay)=\"&A52&\"\", \"Bar\", \"\", \"Close\",\"5\",\"0\",\"All\",,,\"False\",\"T\",\"EveryTick\")","v":4383.25},6.7179604960955442E-3,{"$f":"RTD(\"cqg.rtd\",,\"StudyData\", \"Close(\"&$D$12&\") when LocalYear(\"&$D$12&\")=\"&$D$6&\" and localMonth(\"&$D$12&\") =\"&$E$6&\" and LocalDay(\"&$D$12&\")=\"&$F$6&\" and Barix(\"&$D$12&\",reference:=StartOfDay)=\"&A52&\"\", \"Bar\", \"\", \"Close\",\"5\",\"0\",\"All\",,,\"False\",\"T\",\"EveryTick\")","v":4284.5},-1.1421319796954314E-2,{"$f":"RTD(\"cqg.rtd\",,\"StudyData\", \"Close(\"&$D$12&\") when LocalYear(\"&$D$12&\")=\"&$D$7&\" and localMonth(\"&$D$12&\") =\"&$E$7&\" and LocalDay(\"&$D$12&\")=\"&$F$7&\" and Barix(\"&$D$12&\",reference:=StartOfDay)=\"&A52&\"\", \"Bar\", \"\", \"Close\",\"5\",\"0\",\"All\",,,\"False\",\"T\",\"EveryTick\")","v":4307},3.6702592484707253E-3,{"$f":"RTD(\"cqg.rtd\",,\"StudyData\", \"Close(\"&$D$12&\") when LocalYear(\"&$D$12&\")=\"&$D$8&\" and localMonth(\"&$D$12&\") =\"&$E$8&\" and LocalDay(\"&$D$12&\")=\"&$F$8&\" and Barix(\"&$D$12&\",reference:=StartOfDay)=\"&A52&\"\", \"Bar\", \"\", \"Close\",\"5\",\"0\",\"All\",,,\"False\",\"T\",\"EveryTick\")","v":4330.75},-2.9928057553956834E-3,{"$f":"RTD(\"cqg.rtd\",,\"StudyData\", \"Close(\"&$D$12&\") when LocalYear(\"&$D$12&\")=\"&$D$9&\" and localMonth(\"&$D$12&\") =\"&$E$9&\" and LocalDay(\"&$D$12&\")=\"&$F$9&\" and Barix(\"&$D$12&\",reference:=StartOfDay)=\"&A52&\"\", \"Bar\", \"\", \"Close\",\"5\",\"0\",\"All\",,,\"False\",\"T\",\"EveryTick\")","v":4280.5},-4.0137281135477869E-3,{"$f":"RTD(\"cqg.rtd\",,\"StudyData\", \"Close(\"&$D$12&\") when LocalYear(\"&$D$12&\")=\"&$D$10&\" and localMonth(\"&$D$12&\") =\"&$E$10&\" and LocalDay(\"&$D$12&\")=\"&$F$10&\" and Barix(\"&$D$12&\",reference:=StartOfDay)=\"&A52&\"\", \"Bar\", \"\", \"Close\",\"5\",\"0\",\"All\",,,\"False\",\"T\",\"EveryTick\")","v":4370},4.6554399678142419E-3,null,null,null,""]
[148,"05:20:00",-25,{"$f":" RTD(\"cqg.rtd\",,\"StudyData\", $D$12,  \"Tick\", \"FlatTicks=0\", \"Tick\",\"D\",C53,\"PrimaryOnly\")","v":4334.5},null,"USA",96,{"$f":"RTD(\"cqg.rtd\",,\"StudyData\", \"Close(\"&$D$12&\") when LocalYear(\"&$D$12&\")=\"&$D$1&\" and localMonth(\"&$D$12&\") =\"&$E$1&\" and LocalDay(\"&$D$12&\")=\"&$F$1&\" and Barix(\"&$D$12&\",reference:=StartOfDay)=\"&A53&\"\", \"Bar\", \"\", \"Close\",\"5\",\"0\",\"All\",,,\"False\",\"T\",\"EveryTick\")","v":4350},2.1309681506652078E-3,{"$f":"RTD(\"cqg.rtd\",,\"StudyData\", \"Close(\"&$D$12&\") when LocalYear(\"&$D$12&\")=\"&$D$2&\" and localMonth(\"&$D$12&\") =\"&$E$2&\" and LocalDay(\"&$D$12&\")=\"&$F$2&\" and Barix(\"&$D$12&\",reference:=StartOfDay)=\"&A53&\"\", \"Bar\", \"\", \"Close\",\"5\",\"0\",\"All\",,,\"False\",\"T\",\"EveryTick\")","v":4346.75},-9.7678694552976331E-4,{"$f":"RTD(\"cqg.rtd\",,\"StudyData\", \"Close(\"&$D$12&\") when LocalYear(\"&$D$12&\")=\"&$D$3&\" and localMonth(\"&$D$12&\") =\"&$E$3&\" and LocalDay(\"&$D$12&\")=\"&$F$3&\" and Barix(\"&$D$12&\",reference:=StartOfDay)=\"&A53&\"\", \"Bar\", \"\", \"Close\",\"5\",\"0\",\"All\",,,\"False\",\"T\",\"EveryTick\")","v":4368.75},-3.08060927605682E-3,{"$f":"RTD(\"cqg.rtd\",,\"StudyData\", \"Close(\"&$D$12&\") when LocalYear(\"&$D$12&\")=\"&$D$4&\" and localMonth(\"&$D$12&\") =\"&$E$4&\" and LocalDay(\"&$D$12&\")=\"&$F$4&\" and Barix(\"&$D$12&\",reference:=StartOfDay)=\"&A53&\"\", \"Bar\", \"\", \"Close\",\"5\",\"0\",\"All\",,,\"False\",\"T\",\"EveryTick\")","v":4390.5},1.1389521640091117E-4,{"$f":"RTD(\"cqg.rtd\",,\"StudyData\", \"Close(\"&$D$12&\") when LocalYear(\"&$D$12&\")=\"&$D$5&\" and localMonth(\"&$D$12&\") =\"&$E$5&\" and LocalDay(\"&$D$12&\")=\"&$F$5&\" and Barix(\"&$D$12&\",reference:=StartOfDay)=\"&A53&\"\", \"Bar\", \"\", \"Close\",\"5\",\"0\",\"All\",,,\"False\",\"T\",\"EveryTick\")","v":4381.75},6.3734497014239777E-3,{"$f":"RTD(\"cqg.rtd\",,\"StudyData\", \"Close(\"&$D$12&\") when LocalYear(\"&$D$12&\")=\"&$D$6&\" and localMonth(\"&$D$12&\") =\"&$E$6&\" and LocalDay(\"&$D$12&\")=\"&$F$6&\" and Barix(\"&$D$12&\",reference:=StartOfDay)=\"&A53&\"\", \"Bar\", \"\", \"Close\",\"5\",\"0\",\"All\",,,\"False\",\"T\",\"EveryTick\")","v":4281.75},-1.2055837563451776E-2,{"$f":"RTD(\"cqg.rtd\",,\"StudyData\", \"Close(\"&$D$12&\") when LocalYear(\"&$D$12&\")=\"&$D$7&\" and localMonth(\"&$D$12&\") =\"&$E$7&\" and LocalDay(\"&$D$12&\")=\"&$F$7&\" and Barix(\"&$D$12&\",reference:=StartOfDay)=\"&A53&\"\", \"Bar\", \"\", \"Close\",\"5\",\"0\",\"All\",,,\"False\",\"T\",\"EveryTick\")","v":4307.75},3.8450334983979027E-3,{"$f":"RTD(\"cqg.rtd\",,\"StudyData\", \"Close(\"&$D$12&\") when LocalYear(\"&$D$12&\")=\"&$D$8&\" and localMonth(\"&$D$12&\") =\"&$E$8&\" and LocalDay(\"&$D$12&\")=\"&$F$8&\" and Barix(\"&$D$12&\",reference:=StartOfDay)=\"&A53&\"\", \"Bar\", \"\", \"Close\",\"5\",\"0\",\"All\",,,\"False\",\"T\",\"EveryTick\")","v":4328.5},-3.5107913669064749E-3,{"$f":"RTD(\"cqg.rtd\",,\"StudyData\", \"Close(\"&$D$12&\") when LocalYear(\"&$D$12&\")=\"&$D$9&\" and localMonth(\"&$D$12&\") =\"&$E$9&\" and LocalDay(\"&$D$12&\")=\"&$F$9&\" and Barix(\"&$D$12&\",reference:=StartOfDay)=\"&A53&\"\", \"Bar\", \"\", \"Close\",\"5\",\"0\",\"All\",,,\"False\",\"T\",\"EveryTick\")","v":4276.75},-4.8862777034494797E-3,{"$f":"RTD(\"cqg.rtd\",,\"StudyData\", \"Close(\"&$D$12&\") when LocalYear(\"&$D$12&\")=\"&$D$10&\" and localMonth(\"&$D$12&\") =\"&$E$10&\" and LocalDay(\"&$D$12&\")=\"&$F$10&\" and Barix(\"&$D$12&\",reference:=StartOfDay)=\"&A53&\"\", \"Bar\", \"\", \"Close\",\"5\",\"0\",\"All\",,,\"False\",\"T\",\"EveryTick\")","v":4364.25},3.333524915225013E-3,null,null,null,""]
[149,"05:25:00",-24,{"$f":" RTD(\"cqg.rtd\",,\"StudyData\", $D$12,  \"Tick\", \"FlatTicks=0\", \"Tick\",\"D\",C54,\"PrimaryOnly\")","v":4334.25},null,"TYA",96,{"$f":"RTD(\"cqg.rtd\",,\"StudyData\", \"Close(\"&$D$12&\") when LocalYear(\"&$D$12&\")=\"&$D$1&\" and localMonth(\"&$D$12&\") =\"&$E$1&\" and LocalDay(\"&$D$12&\")=\"&$F$1&\" and Barix(\"&$D$12&\",reference:=StartOfDay)=\"&A54&\"\", \"Bar\", \"\", \"Close\",\"5\",\"0\",\"All\",,,\"False\",\"T\",\"EveryTick\")","v":4349},1.9005932154581582E-3,{"$f":"RTD(\"cqg.rtd\",,\"StudyData\", \"Close(\"&$D$12&\") when LocalYear(\"&$D$12&\")=\"&$D$2&\" and localMonth(\"&$D$12&\") =\"&$E$2&\" and LocalDay(\"&$D$12&\")=\"&$F$2&\" and Barix(\"&$D$12&\",reference:=StartOfDay)=\"&A54&\"\", \"Bar\", \"\", \"Close\",\"5\",\"0\",\"All\",,,\"False\",\"T\",\"EveryTick\")","v":4347.75},-7.4695472305217193E-4,{"$f":"RTD(\"cqg.rtd\",,\"StudyData\", \"Close(\"&$D$12&\") when LocalYear(\"&$D$12&\")=\"&$D$3&\" and localMonth(\"&$D$12&\") =\"&$E$3&\" and LocalDay(\"&$D$12&\")=\"&$F$3&\" and Barix(\"&$D$12&\",reference:=StartOfDay)=\"&A54&\"\", \"Bar\", \"\", \"Close\",\"5\",\"0\",\"All\",,,\"False\",\"T\",\"EveryTick\")","v":4366},-3.70814079525358E-3,{"$f":"RTD(\"cqg.rtd\",,\"StudyData\", \"Close(\"&$D$12&\") when LocalYear(\"&$D$12&\")=\"&$D$4&\" and localMonth(\"&$D$12&\") =\"&$E$4&\" and LocalDay(\"&$D$12&\")=\"&$F$4&\" and Barix(\"&$D$12&\",reference:=StartOfDay)=\"&A54&\"\", \"Bar\", \"\", \"Close\",\"5\",\"0\",\"All\",,,\"False\",\"T\",\"EveryTick\")","v":4393.75},8.5421412300683373E-4,{"$f":"RTD(\"cqg.rtd\",,\"StudyData\", \"Close(\"&$D$12&\") when LocalYear(\"&$D$12&\")=\"&$D$5&\" and localMonth(\"&$D$12&\") =\"&$E$5&\" and LocalDay(\"&$D$12&\")=\"&$F$5&\" and Barix(\"&$D$12&\",reference:=StartOfDay)=\"&A54&\"\", \"Bar\", \"\", \"Close\",\"5\",\"0\",\"All\",,,\"False\",\"T\",\"EveryTick\")","v":4381.25},6.2586127698667894E-3,{"$f":"RTD(\"cqg.rtd\",,\"StudyData\", \"Close(\"&$D$12&\") when LocalYear(\"&$D$12&\")=\"&$D$6&\" and localMonth(\"&$D$12&\") =\"&$E$6&\" and LocalDay(\"&$D$12&\")=\"&$F$6&\" and Barix(\"&$D$12&\",reference:=StartOfDay)=\"&A54&\"\", \"Bar\", \"\", \"Close\",\"5\",\"0\",\"All\",,,\"False\",\"T\",\"EveryTick\")","v":4284},-1.1536686663590217E-2,{"$f":"RTD(\"cqg.rtd\",,\"StudyData\", \"Close(\"&$D$12&\") when LocalYear(\"&$D$12&\")=\"&$D$7&\" and localMonth(\"&$D$12&\") =\"&$E$7&\" and LocalDay(\"&$D$12&\")=\"&$F$7&\" and Barix(\"&$D$12&\",reference:=StartOfDay)=\"&A54&\"\", \"Bar\", \"\", \"Close\",\"5\",\"0\",\"All\",,,\"False\",\"T\",\"EveryTick\")","v":4306.25},3.4954849985435479E-3,{"$f":"RTD(\"cqg.rtd\",,\"StudyData\", \"Close(\"&$D$12&\") when LocalYear(\"&$D$12&\")=\"&$D$8&\" and localMonth(\"&$D$12&\") =\"&$E$8&\" and LocalDay(\"&$D$12&\")=\"&$F$8&\" and Barix(\"&$D$12&\",reference:=StartOfDay)=\"&A54&\"\", \"Bar\", \"\", \"Close\",\"5\",\"0\",\"All\",,,\"False\",\"T\",\"EveryTick\")","v":4330.5},-3.0503597122302157E-3,{"$f":"RTD(\"cqg.rtd\",,\"StudyData\", \"Close(\"&$D$12&\") when LocalYear(\"&$D$12&\")=\"&$D$9&\" and localMonth(\"&$D$12&\") =\"&$E$9&\" and LocalDay(\"&$D$12&\")=\"&$F$9&\" and Barix(\"&$D$12&\",reference:=StartOfDay)=\"&A54&\"\", \"Bar\", \"\", \"Close\",\"5\",\"0\",\"All\",,,\"False\",\"T\",\"EveryTick\")","v":4278.5},-4.4790878948286891E-3,{"$f":"RTD(\"cqg.rtd\",,\"StudyData\", \"Close(\"&$D$12&\") when LocalYear(\"&$D$12&\")=\"&$D$10&\" and localMonth(\"&$D$12&\") =\"&$E$10&\" and LocalDay(\"&$D$12&\")=\"&$F$10&\" and Barix(\"&$D$12&\",reference:=StartOfDay)=\"&A54&\"\", \"Bar\", \"\", \"Close\",\"5\",\"0\",\"All\",,,\"False\",\"T\",\"EveryTick\")","v":4364},3.2760503477211335E-3,null,null,null,""]
[150,"05:30:00",-23,{"$f":" RTD(\"cqg.rtd\",,\"StudyData\", $D$12,  \"Tick\", \"FlatTicks=0\", \"Tick\",\"D\",C55,\"PrimaryOnly\")","v":4334.5},null,"TNA",96,{"$f":"RTD(\"cqg.rtd\",,\"StudyData\", \"Close(\"&$D$12&\") when LocalYear(\"&$D$12&\")=\"&$D$1&\" and localMonth(\"&$D$12&\") =\"&$E$1&\" and LocalDay(\"&$D$12&\")=\"&$F$1&\" and Barix(\"&$D$12&\",reference:=StartOfDay)=\"&A55&\"\", \"Bar\", \"\", \"Close\",\"5\",\"0\",\"All\",,,\"False\",\"T\",\"EveryTick\")","v":4348.75},1.8429994816563959E-3,{"$f":"RTD(\"cqg.rtd\",,\"StudyData\", \"Close(\"&$D$12&\") when LocalYear(\"&$D$12&\")=\"&$D$2&\" and localMonth(\"&$D$12&\") =\"&$E$2&\" and LocalDay(\"&$D$12&\")=\"&$F$2&\" and Barix(\"&$D$12&\",reference:=StartOfDay)=\"&A55&\"\", \"Bar\", \"\", \"Close\",\"5\",\"0\",\"All\",,,\"False\",\"T\",\"EveryTick\")","v":4348},-6.8949666743277403E-4,{"$f":"RTD(\"cqg.rtd\",,\"StudyData\", \"Close(\"&$D$12&\") when LocalYear(\"&$D$12&\")=\"&$D$3&\" and localMonth(\"&$D$12&\") =\"&$E$3&\" and LocalDay(\"&$D$12&\")=\"&$F$3&\" and Barix(\"&$D$12&\",reference:=StartOfDay)=\"&A55&\"\", \"Bar\", \"\", \"Close\",\"5\",\"0\",\"All\",,,\"False\",\"T\",\"EveryTick\")","v":4364.75},-3.9933823948884702E-3,{"$f":"RTD(\"cqg.rtd\",,\"StudyData\", \"Close(\"&$D$12&\") when LocalYear(\"&$D$12&\")=\"&$D$4&\" and localMonth(\"&$D$12&\") =\"&$E$4&\" and LocalDay(\"&$D$12&\")=\"&$F$4&\" and Barix(\"&$D$12&\",reference:=StartOfDay)=\"&A55&\"\", \"Bar\", \"\", \"Close\",\"5\",\"0\",\"All\",,,\"False\",\"T\",\"EveryTick\")","v":4394.5},1.0250569476082006E-3,{"$f":"RTD(\"cqg.rtd\",,\"StudyData\", \"Close(\"&$D$12&\") when LocalYear(\"&$D$12&\")=\"&$D$5&\" and localMonth(\"&$D$12&\") =\"&$E$5&\" and LocalDay(\"&$D$12&\")=\"&$F$5&\" and Barix(\"&$D$12&\",reference:=StartOfDay)=\"&A55&\"\", \"Bar\", \"\", \"Close\",\"5\",\"0\",\"All\",,,\"False\",\"T\",\"EveryTick\")","v":4381.5},6.3160312356453831E-3,{"$f":"RTD(\"cqg.rtd\",,\"StudyData\", \"Close(\"&$D$12&\") when LocalYear(\"&$D$12&\")=\"&$D$6&\" and localMonth(\"&$D$12&\") =\"&$E$6&\" and LocalDay(\"&$D$12&\")=\"&$F$6&\" and Barix(\"&$D$12&\",reference:=StartOfDay)=\"&A55&\"\", \"Bar\", \"\", \"Close\",\"5\",\"0\",\"All\",,,\"False\",\"T\",\"EveryTick\")","v":4280.75},-1.2286571296723581E-2,{"$f":"RTD(\"cqg.rtd\",,\"StudyData\", \"Close(\"&$D$12&\") when LocalYear(\"&$D$12&\")=\"&$D$7&\" and localMonth(\"&$D$12&\") =\"&$E$7&\" and LocalDay(\"&$D$12&\")=\"&$F$7&\" and Barix(\"&$D$12&\",reference:=StartOfDay)=\"&A55&\"\", \"Bar\", \"\", \"Close\",\"5\",\"0\",\"All\",,,\"False\",\"T\",\"EveryTick\")","v":4303.75},2.9129041654529565E-3,{"$f":"RTD(\"cqg.rtd\",,\"StudyData\", \"Close(\"&$D$12&\") when LocalYear(\"&$D$12&\")=\"&$D$8&\" and localMonth(\"&$D$12&\") =\"&$E$8&\" and LocalDay(\"&$D$12&\")=\"&$F$8&\" and Barix(\"&$D$12&\",reference:=StartOfDay)=\"&A55&\"\", \"Bar\", \"\", \"Close\",\"5\",\"0\",\"All\",,,\"False\",\"T\",\"EveryTick\")","v":4330.25},-3.1079136690647484E-3,{"$f":"RTD(\"cqg.rtd\",,\"StudyData\", \"Close(\"&$D$12&\") when LocalYear(\"&$D$12&\")=\"&$D$9&\" and localMonth(\"&$D$12&\") =\"&$E$9&\" and LocalDay(\"&$D$12&\")=\"&$F$9&\" and Barix(\"&$D$12&\",reference:=StartOfDay)=\"&A55&\"\", \"Bar\", \"\", \"Close\",\"5\",\"0\",\"All\",,,\"False\",\"T\",\"EveryTick\")","v":4279.75},-4.1882380315281251E-3,{"$f":"RTD(\"cqg.rtd\",,\"StudyData\", \"Close(\"&$D$12&\") when LocalYear(\"&$D$12&\")=\"&$D$10&\" and localMonth(\"&$D$12&\") =\"&$E$10&\" and LocalDay(\"&$D$12&\")=\"&$F$10&\" and Barix(\"&$D$12&\",reference:=StartOfDay)=\"&A55&\"\", \"Bar\", \"\", \"Close\",\"5\",\"0\",\"All\",,,\"False\",\"T\",\"EveryTick\")","v":4366.25},3.7933214552560491E-3,null,null,null,""]
[151,"05:35:00",-22,{"$f":" RTD(\"cqg.rtd\",,\"StudyData\", $D$12,  \"Tick\", \"FlatTicks=0\", \"Tick\",\"D\",C56,\"PrimaryOnly\")","v":4334.75},null,"FVA",96,{"$f":"RTD(\"cqg.rtd\",,\"StudyData\", \"Close(\"&$D$12&\") when LocalYear(\"&$D$12&\")=\"&$D$1&\" and localMonth(\"&$D$12&\") =\"&$E$1&\" and LocalDay(\"&$D$12&\")=\"&$F$1&\" and Barix(\"&$D$12&\",reference:=StartOfDay)=\"&A56&\"\", \"Bar\", \"\", \"Close\",\"5\",\"0\",\"All\",,,\"False\",\"T\",\"EveryTick\")","v":4346.75},1.3822496112422969E-3,{"$f":"RTD(\"cqg.rtd\",,\"StudyData\", \"Close(\"&$D$12&\") when LocalYear(\"&$D$12&\")=\"&$D$2&\" and localMonth(\"&$D$12&\") =\"&$E$2&\" and LocalDay(\"&$D$12&\")=\"&$F$2&\" and Barix(\"&$D$12&\",reference:=StartOfDay)=\"&A56&\"\", \"Bar\", \"\", \"Close\",\"5\",\"0\",\"All\",,,\"False\",\"T\",\"EveryTick\")","v":4348.75},-5.1712250057458055E-4,{"$f":"RTD(\"cqg.rtd\",,\"StudyData\", \"Close(\"&$D$12&\") when LocalYear(\"&$D$12&\")=\"&$D$3&\" and localMonth(\"&$D$12&\") =\"&$E$3&\" and LocalDay(\"&$D$12&\")=\"&$F$3&\" and Barix(\"&$D$12&\",reference:=StartOfDay)=\"&A56&\"\", \"Bar\", \"\", \"Close\",\"5\",\"0\",\"All\",,,\"False\",\"T\",\"EveryTick\")","v":4364.5},-4.0504307148154488E-3,{"$f":"RTD(\"cqg.rtd\",,\"StudyData\", \"Close(\"&$D$12&\") when LocalYear(\"&$D$12&\")=\"&$D$4&\" and localMonth(\"&$D$12&\") =\"&$E$4&\" and LocalDay(\"&$D$12&\")=\"&$F$4&\" and Barix(\"&$D$12&\",reference:=StartOfDay)=\"&A56&\"\", \"Bar\", \"\", \"Close\",\"5\",\"0\",\"All\",,,\"False\",\"T\",\"EveryTick\")","v":4394},9.1116173120728934E-4,{"$f":"RTD(\"cqg.rtd\",,\"StudyData\", \"Close(\"&$D$12&\") when LocalYear(\"&$D$12&\")=\"&$D$5&\" and localMonth(\"&$D$12&\") =\"&$E$5&\" and LocalDay(\"&$D$12&\")=\"&$F$5&\" and Barix(\"&$D$12&\",reference:=StartOfDay)=\"&A56&\"\", \"Bar\", \"\", \"Close\",\"5\",\"0\",\"All\",,,\"False\",\"T\",\"EveryTick\")","v":4383},6.6605420303169497E-3,{"$f":"RTD(\"cqg.rtd\",,\"StudyData\", \"Close(\"&$D$12&\") when LocalYear(\"&$D$12&\")=\"&$D$6&\" and localMonth(\"&$D$12&\") =\"&$E$6&\" and LocalDay(\"&$D$12&\")=\"&$F$6&\" and Barix(\"&$D$12&\",reference:=StartOfDay)=\"&A56&\"\", \"Bar\", \"\", \"Close\",\"5\",\"0\",\"All\",,,\"False\",\"T\",\"EveryTick\")","v":4282.25},-1.1940470696815874E-2,{"$f":"RTD(\"cqg.rtd\",,\"StudyData\", \"Close(\"&$D$12&\") when LocalYear(\"&$D$12&\")=\"&$D$7&\" and localMonth(\"&$D$12&\") =\"&$E$7&\" and LocalDay(\"&$D$12&\")=\"&$F$7&\" and Barix(\"&$D$12&\",reference:=StartOfDay)=\"&A56&\"\", \"Bar\", \"\", \"Close\",\"5\",\"0\",\"All\",,,\"False\",\"T\",\"EveryTick\")","v":4307.5},3.7867754150888435E-3,{"$f":"RTD(\"cqg.rtd\",,\"StudyData\", \"Close(\"&$D$12&\") when LocalYear(\"&$D$12&\")=\"&$D$8&\" and localMonth(\"&$D$12&\") =\"&$E$8&\" and LocalDay(\"&$D$12&\")=\"&$F$8&\" and Barix(\"&$D$12&\",reference:=StartOfDay)=\"&A56&\"\", \"Bar\", \"\", \"Close\",\"5\",\"0\",\"All\",,,\"False\",\"T\",\"EveryTick\")","v":4329.25},-3.3381294964028776E-3,{"$f":"RTD(\"cqg.rtd\",,\"StudyData\", \"Close(\"&$D$12&\") when LocalYear(\"&$D$12&\")=\"&$D$9&\" and localMonth(\"&$D$12&\") =\"&$E$9&\" and LocalDay(\"&$D$12&\")=\"&$F$9&\" and Barix(\"&$D$12&\",reference:=StartOfDay)=\"&A56&\"\", \"Bar\", \"\", \"Close\",\"5\",\"0\",\"All\",,,\"False\",\"T\",\"EveryTick\")","v":4278.5},-4.4790878948286891E-3,{"$f":"RTD(\"cqg.rtd\",,\"StudyData\", \"Close(\"&$D$12&\") when LocalYear(\"&$D$12&\")=\"&$D$10&\" and localMonth(\"&$D$12&\") =\"&$E$10&\" and LocalDay(\"&$D$12&\")=\"&$F$10&\" and Barix(\"&$D$12&\",reference:=StartOfDay)=\"&A56&\"\", \"Bar\", \"\", \"Close\",\"5\",\"0\",\"All\",,,\"False\",\"T\",\"EveryTick\")","v":4367.25},4.0232197252715674E-3,null,null,null,""]
[152,"05:40:00",-21,{"$f":" RTD(\"cqg.rtd\",,\"StudyData\", $D$12,  \"Tick\", \"FlatTicks=0\", \"Tick\",\"D\",C57,\"PrimaryOnly\")","v":4334.5},null,"TUA",96,{"$f":"RTD(\"cqg.rtd\",,\"StudyData\", \"Close(\"&$D$12&\") when LocalYear(\"&$D$12&\")=\"&$D$1&\" and localMonth(\"&$D$12&\") =\"&$E$1&\" and LocalDay(\"&$D$12&\")=\"&$F$1&\" and Barix(\"&$D$12&\",reference:=StartOfDay)=\"&A57&\"\", \"Bar\", \"\", \"Close\",\"5\",\"0\",\"All\",,,\"False\",\"T\",\"EveryTick\")","v":4346.75},1.3822496112422969E-3,{"$f":"RTD(\"cqg.rtd\",,\"StudyData\", \"Close(\"&$D$12&\") when LocalYear(\"&$D$12&\")=\"&$D$2&\" and localMonth(\"&$D$12&\") =\"&$E$2&\" and LocalDay(\"&$D$12&\")=\"&$F$2&\" and Barix(\"&$D$12&\",reference:=StartOfDay)=\"&A57&\"\", \"Bar\", \"\", \"Close\",\"5\",\"0\",\"All\",,,\"False\",\"T\",\"EveryTick\")","v":4350.75},-5.7458055619397838E-5,{"$f":"RTD(\"cqg.rtd\",,\"StudyData\", \"Close(\"&$D$12&\") when LocalYear(\"&$D$12&\")=\"&$D$3&\" and localMonth(\"&$D$12&\") =\"&$E$3&\" and LocalDay(\"&$D$12&\")=\"&$F$3&\" and Barix(\"&$D$12&\",reference:=StartOfDay)=\"&A57&\"\", \"Bar\", \"\", \"Close\",\"5\",\"0\",\"All\",,,\"False\",\"T\",\"EveryTick\")","v":4362.25},-4.5638655941582524E-3,{"$f":"RTD(\"cqg.rtd\",,\"StudyData\", \"Close(\"&$D$12&\") when LocalYear(\"&$D$12&\")=\"&$D$4&\" and localMonth(\"&$D$12&\") =\"&$E$4&\" and LocalDay(\"&$D$12&\")=\"&$F$4&\" and Barix(\"&$D$12&\",reference:=StartOfDay)=\"&A57&\"\", \"Bar\", \"\", \"Close\",\"5\",\"0\",\"All\",,,\"False\",\"T\",\"EveryTick\")","v":4393.5},7.9726651480637812E-4,{"$f":"RTD(\"cqg.rtd\",,\"StudyData\", \"Close(\"&$D$12&\") when LocalYear(\"&$D$12&\")=\"&$D$5&\" and localMonth(\"&$D$12&\") =\"&$E$5&\" and LocalDay(\"&$D$12&\")=\"&$F$5&\" and Barix(\"&$D$12&\",reference:=StartOfDay)=\"&A57&\"\", \"Bar\", \"\", \"Close\",\"5\",\"0\",\"All\",,,\"False\",\"T\",\"EveryTick\")","v":4383.75},6.8327974276527334E-3,{"$f":"RTD(\"cqg.rtd\",,\"StudyData\", \"Close(\"&$D$12&\") when LocalYear(\"&$D$12&\")=\"&$D$6&\" and localMonth(\"&$D$12&\") =\"&$E$6&\" and LocalDay(\"&$D$12&\")=\"&$F$6&\" and Barix(\"&$D$12&\",reference:=StartOfDay)=\"&A57&\"\", \"Bar\", \"\", \"Close\",\"5\",\"0\",\"All\",,,\"False\",\"T\",\"EveryTick\")","v":4280.75},-1.2286571296723581E-2,{"$f":"RTD(\"cqg.rtd\",,\"StudyData\", \"Close(\"&$D$12&\") when LocalYear(\"&$D$12&\")=\"&$D$7&\" and localMonth(\"&$D$12&\") =\"&$E$7&\" and LocalDay(\"&$D$12&\")=\"&$F$7&\" and Barix(\"&$D$12&\",reference:=StartOfDay)=\"&A57&\"\", \"Bar\", \"\", \"Close\",\"5\",\"0\",\"All\",,,\"False\",\"T\",\"EveryTick\")","v":4306.25},3.4954849985435479E-3,{"$f":"RTD(\"cqg.rtd\",,\"StudyData\", \"Close(\"&$D$12&\") when LocalYear(\"&$D$12&\")=\"&$D$8&\" and localMonth(\"&$D$12&\") =\"&$E$8&\" and LocalDay(\"&$D$12&\")=\"&$F$8&\" and Barix(\"&$D$12&\",reference:=StartOfDay)=\"&A57&\"\", \"Bar\", \"\", \"Close\",\"5\",\"0\",\"All\",,,\"False\",\"T\",\"EveryTick\")","v":4327},-3.8561151079136691E-3,{"$f":"RTD(\"cqg.rtd\",,\"StudyData\", \"Close(\"&$D$12&\") when LocalYear(\"&$D$12&\")=\"&$D$9&\" and localMonth(\"&$D$12&\") =\"&$E$9&\" and LocalDay(\"&$D$12&\")=\"&$F$9&\" and Barix(\"&$D$12&\",reference:=StartOfDay)=\"&A57&\"\", \"Bar\", \"\", \"Close\",\"5\",\"0\",\"All\",,,\"False\",\"T\",\"EveryTick\")","v":4280.25},-4.0718980862078993E-3,{"$f":"RTD(\"cqg.rtd\",,\"StudyData\", \"Close(\"&$D$12&\") when LocalYear(\"&$D$12&\")=\"&$D$10&\" and localMonth(\"&$D$12&\") =\"&$E$10&\" and LocalDay(\"&$D$12&\")=\"&$F$10&\" and Barix(\"&$D$12&\",reference:=StartOfDay)=\"&A57&\"\", \"Bar\", \"\", \"Close\",\"5\",\"0\",\"All\",,,\"False\",\"T\",\"EveryTick\")","v":4366.75},3.9082705902638085E-3,null,null,null,""]
[153,"05:45:00",-20,{"$f":" RTD(\"cqg.rtd\",,\"StudyData\", $D$12,  \"Tick\", \"FlatTicks=0\", \"Tick\",\"D\",C58,\"PrimaryOnly\")","v":4334.75},null,"FGBX",69,{"$f":"RTD(\"cqg.rtd\",,\"StudyData\", \"Close(\"&$D$12&\") when LocalYear(\"&$D$12&\")=\"&$D$1&\" and localMonth(\"&$D$12&\") =\"&$E$1&\" and LocalDay(\"&$D$12&\")=\"&$F$1&\" and Barix(\"&$D$12&\",reference:=StartOfDay)=\"&A58&\"\", \"Bar\", \"\", \"Close\",\"5\",\"0\",\"All\",,,\"False\",\"T\",\"EveryTick\")","v":4347},1.4398433450440592E-3,{"$f":"RTD(\"cqg.rtd\",,\"StudyData\", \"Close(\"&$D$12&\") when LocalYear(\"&$D$12&\")=\"&$D$2&\" and localMonth(\"&$D$12&\") =\"&$E$2&\" and LocalDay(\"&$D$12&\")=\"&$F$2&\" and Barix(\"&$D$12&\",reference:=StartOfDay)=\"&A58&\"\", \"Bar\", \"\", \"Close\",\"5\",\"0\",\"All\",,,\"False\",\"T\",\"EveryTick\")","v":4351.5},1.1491611123879568E-4,{"$f":"RTD(\"cqg.rtd\",,\"StudyData\", \"Close(\"&$D$12&\") when LocalYear(\"&$D$12&\")=\"&$D$3&\" and localMonth(\"&$D$12&\") =\"&$E$3&\" and LocalDay(\"&$D$12&\")=\"&$F$3&\" and Barix(\"&$D$12&\",reference:=StartOfDay)=\"&A58&\"\", \"Bar\", \"\", \"Close\",\"5\",\"0\",\"All\",,,\"False\",\"T\",\"EveryTick\")","v":4359.5},-5.1913971133550115E-3,{"$f":"RTD(\"cqg.rtd\",,\"StudyData\", \"Close(\"&$D$12&\") when LocalYear(\"&$D$12&\")=\"&$D$4&\" and localMonth(\"&$D$12&\") =\"&$E$4&\" and LocalDay(\"&$D$12&\")=\"&$F$4&\" and Barix(\"&$D$12&\",reference:=StartOfDay)=\"&A58&\"\", \"Bar\", \"\", \"Close\",\"5\",\"0\",\"All\",,,\"False\",\"T\",\"EveryTick\")","v":4393},6.83371298405467E-4,{"$f":"RTD(\"cqg.rtd\",,\"StudyData\", \"Close(\"&$D$12&\") when LocalYear(\"&$D$12&\")=\"&$D$5&\" and localMonth(\"&$D$12&\") =\"&$E$5&\" and LocalDay(\"&$D$12&\")=\"&$F$5&\" and Barix(\"&$D$12&\",reference:=StartOfDay)=\"&A58&\"\", \"Bar\", \"\", \"Close\",\"5\",\"0\",\"All\",,,\"False\",\"T\",\"EveryTick\")","v":4385},7.1198897565457053E-3,{"$f":"RTD(\"cqg.rtd\",,\"StudyData\", \"Close(\"&$D$12&\") when LocalYear(\"&$D$12&\")=\"&$D$6&\" and localMonth(\"&$D$12&\") =\"&$E$6&\" and LocalDay(\"&$D$12&\")=\"&$F$6&\" and Barix(\"&$D$12&\",reference:=StartOfDay)=\"&A58&\"\", \"Bar\", \"\", \"Close\",\"5\",\"0\",\"All\",,,\"False\",\"T\",\"EveryTick\")","v":4279.75},-1.2517305029995386E-2,{"$f":"RTD(\"cqg.rtd\",,\"StudyData\", \"Close(\"&$D$12&\") when LocalYear(\"&$D$12&\")=\"&$D$7&\" and localMonth(\"&$D$12&\") =\"&$E$7&\" and LocalDay(\"&$D$12&\")=\"&$F$7&\" and Barix(\"&$D$12&\",reference:=StartOfDay)=\"&A58&\"\", \"Bar\", \"\", \"Close\",\"5\",\"0\",\"All\",,,\"False\",\"T\",\"EveryTick\")","v":4304.25},3.0294203320710747E-3,{"$f":"RTD(\"cqg.rtd\",,\"StudyData\", \"Close(\"&$D$12&\") when LocalYear(\"&$D$12&\")=\"&$D$8&\" and localMonth(\"&$D$12&\") =\"&$E$8&\" and LocalDay(\"&$D$12&\")=\"&$F$8&\" and Barix(\"&$D$12&\",reference:=StartOfDay)=\"&A58&\"\", \"Bar\", \"\", \"Close\",\"5\",\"0\",\"All\",,,\"False\",\"T\",\"EveryTick\")","v":4328},-3.6258992805755395E-3,{"$f":"RTD(\"cqg.rtd\",,\"StudyData\", \"Close(\"&$D$12&\") when LocalYear(\"&$D$12&\")=\"&$D$9&\" and localMonth(\"&$D$12&\") =\"&$E$9&\" and LocalDay(\"&$D$12&\")=\"&$F$9&\" and Barix(\"&$D$12&\",reference:=StartOfDay)=\"&A58&\"\", \"Bar\", \"\", \"Close\",\"5\",\"0\",\"All\",,,\"False\",\"T\",\"EveryTick\")","v":4280},-4.1300680588680127E-3,{"$f":"RTD(\"cqg.rtd\",,\"StudyData\", \"Close(\"&$D$12&\") when LocalYear(\"&$D$12&\")=\"&$D$10&\" and localMonth(\"&$D$12&\") =\"&$E$10&\" and LocalDay(\"&$D$12&\")=\"&$F$10&\" and Barix(\"&$D$12&\",reference:=StartOfDay)=\"&A58&\"\", \"Bar\", \"\", \"Close\",\"5\",\"0\",\"All\",,,\"False\",\"T\",\"EveryTick\")","v":4370.5},4.7703891028220017E-3,null,null,null,""]
[154,"05:50:00",-19,{"$f":" RTD(\"cqg.rtd\",,\"StudyData\", $D$12,  \"Tick\", \"FlatTicks=0\", \"Tick\",\"D\",C59,\"PrimaryOnly\")","v":4334.5},null,"DB",69,{"$f":"RTD(\"cqg.rtd\",,\"StudyData\", \"Close(\"&$D$12&\") when LocalYear(\"&$D$12&\")=\"&$D$1&\" and localMonth(\"&$D$12&\") =\"&$E$1&\" and LocalDay(\"&$D$12&\")=\"&$F$1&\" and Barix(\"&$D$12&\",reference:=StartOfDay)=\"&A59&\"\", \"Bar\", \"\", \"Close\",\"5\",\"0\",\"All\",,,\"False\",\"T\",\"EveryTick\")","v":4348},1.6702182802511088E-3,{"$f":"RTD(\"cqg.rtd\",,\"StudyData\", \"Close(\"&$D$12&\") when LocalYear(\"&$D$12&\")=\"&$D$2&\" and localMonth(\"&$D$12&\") =\"&$E$2&\" and LocalDay(\"&$D$12&\")=\"&$F$2&\" and Barix(\"&$D$12&\",reference:=StartOfDay)=\"&A59&\"\", \"Bar\", \"\", \"Close\",\"5\",\"0\",\"All\",,,\"False\",\"T\",\"EveryTick\")","v":4354.5},8.0441277867156972E-4,{"$f":"RTD(\"cqg.rtd\",,\"StudyData\", \"Close(\"&$D$12&\") when LocalYear(\"&$D$12&\")=\"&$D$3&\" and localMonth(\"&$D$12&\") =\"&$E$3&\" and LocalDay(\"&$D$12&\")=\"&$F$3&\" and Barix(\"&$D$12&\",reference:=StartOfDay)=\"&A59&\"\", \"Bar\", \"\", \"Close\",\"5\",\"0\",\"All\",,,\"False\",\"T\",\"EveryTick\")","v":4360.5},-4.9632038336470995E-3,{"$f":"RTD(\"cqg.rtd\",,\"StudyData\", \"Close(\"&$D$12&\") when LocalYear(\"&$D$12&\")=\"&$D$4&\" and localMonth(\"&$D$12&\") =\"&$E$4&\" and LocalDay(\"&$D$12&\")=\"&$F$4&\" and Barix(\"&$D$12&\",reference:=StartOfDay)=\"&A59&\"\", \"Bar\", \"\", \"Close\",\"5\",\"0\",\"All\",,,\"False\",\"T\",\"EveryTick\")","v":4392.25},5.1252847380410028E-4,{"$f":"RTD(\"cqg.rtd\",,\"StudyData\", \"Close(\"&$D$12&\") when LocalYear(\"&$D$12&\")=\"&$D$5&\" and localMonth(\"&$D$12&\") =\"&$E$5&\" and LocalDay(\"&$D$12&\")=\"&$F$5&\" and Barix(\"&$D$12&\",reference:=StartOfDay)=\"&A59&\"\", \"Bar\", \"\", \"Close\",\"5\",\"0\",\"All\",,,\"False\",\"T\",\"EveryTick\")","v":4386.5},7.4644005512172719E-3,{"$f":"RTD(\"cqg.rtd\",,\"StudyData\", \"Close(\"&$D$12&\") when LocalYear(\"&$D$12&\")=\"&$D$6&\" and localMonth(\"&$D$12&\") =\"&$E$6&\" and LocalDay(\"&$D$12&\")=\"&$F$6&\" and Barix(\"&$D$12&\",reference:=StartOfDay)=\"&A59&\"\", \"Bar\", \"\", \"Close\",\"5\",\"0\",\"All\",,,\"False\",\"T\",\"EveryTick\")","v":4279.75},-1.2517305029995386E-2,{"$f":"RTD(\"cqg.rtd\",,\"StudyData\", \"Close(\"&$D$12&\") when LocalYear(\"&$D$12&\")=\"&$D$7&\" and localMonth(\"&$D$12&\") =\"&$E$7&\" and LocalDay(\"&$D$12&\")=\"&$F$7&\" and Barix(\"&$D$12&\",reference:=StartOfDay)=\"&A59&\"\", \"Bar\", \"\", \"Close\",\"5\",\"0\",\"All\",,,\"False\",\"T\",\"EveryTick\")","v":4303.5},2.8546460821438973E-3,{"$f":"RTD(\"cqg.rtd\",,\"StudyData\", \"Close(\"&$D$12&\") when LocalYear(\"&$D$12&\")=\"&$D$8&\" and localMonth(\"&$D$12&\") =\"&$E$8&\" and LocalDay(\"&$D$12&\")=\"&$F$8&\" and Barix(\"&$D$12&\",reference:=StartOfDay)=\"&A59&\"\", \"Bar\", \"\", \"Close\",\"5\",\"0\",\"All\",,,\"False\",\"T\",\"EveryTick\")","v":4329.25},-3.3381294964028776E-3,{"$f":"RTD(\"cqg.rtd\",,\"StudyData\", \"Close(\"&$D$12&\") when LocalYear(\"&$D$12&\")=\"&$D$9&\" and localMonth(\"&$D$12&\") =\"&$E$9&\" and LocalDay(\"&$D$12&\")=\"&$F$9&\" and Barix(\"&$D$12&\",reference:=StartOfDay)=\"&A59&\"\", \"Bar\", \"\", \"Close\",\"5\",\"0\",\"All\",,,\"False\",\"T\",\"EveryTick\")","v":4280.75},-3.9555581408876736E-3,{"$f":"RTD(\"cqg.rtd\",,\"StudyData\", \"Close(\"&$D$12&\") when LocalYear(\"&$D$12&\")=\"&$D$10&\" and localMonth(\"&$D$12&\") =\"&$E$10&\" and LocalDay(\"&$D$12&\")=\"&$F$10&\" and Barix(\"&$D$12&\",reference:=StartOfDay)=\"&A59&\"\", \"Bar\", \"\", \"Close\",\"5\",\"0\",\"All\",,,\"False\",\"T\",\"EveryTick\")","v":4368.5},4.3105925627909651E-3,null,null,null,""]
[155,"05:55:00",-18,{"$f":" RTD(\"cqg.rtd\",,\"StudyData\", $D$12,  \"Tick\", \"FlatTicks=0\", \"Tick\",\"D\",C60,\"PrimaryOnly\")","v":4334.75},null,"DL",69,{"$f":"RTD(\"cqg.rtd\",,\"StudyData\", \"Close(\"&$D$12&\") when LocalYear(\"&$D$12&\")=\"&$D$1&\" and localMonth(\"&$D$12&\") =\"&$E$1&\" and LocalDay(\"&$D$12&\")=\"&$F$1&\" and Barix(\"&$D$12&\",reference:=StartOfDay)=\"&A60&\"\", \"Bar\", \"\", \"Close\",\"5\",\"0\",\"All\",,,\"False\",\"T\",\"EveryTick\")","v":4346.5},1.3246558774405344E-3,{"$f":"RTD(\"cqg.rtd\",,\"StudyData\", \"Close(\"&$D$12&\") when LocalYear(\"&$D$12&\")=\"&$D$2&\" and localMonth(\"&$D$12&\") =\"&$E$2&\" and LocalDay(\"&$D$12&\")=\"&$F$2&\" and Barix(\"&$D$12&\",reference:=StartOfDay)=\"&A60&\"\", \"Bar\", \"\", \"Close\",\"5\",\"0\",\"All\",,,\"False\",\"T\",\"EveryTick\")","v":4356.5},1.2640772236267525E-3,{"$f":"RTD(\"cqg.rtd\",,\"StudyData\", \"Close(\"&$D$12&\") when LocalYear(\"&$D$12&\")=\"&$D$3&\" and localMonth(\"&$D$12&\") =\"&$E$3&\" and LocalDay(\"&$D$12&\")=\"&$F$3&\" and Barix(\"&$D$12&\",reference:=StartOfDay)=\"&A60&\"\", \"Bar\", \"\", \"Close\",\"5\",\"0\",\"All\",,,\"False\",\"T\",\"EveryTick\")","v":4360.75},-4.9061555137201208E-3,{"$f":"RTD(\"cqg.rtd\",,\"StudyData\", \"Close(\"&$D$12&\") when LocalYear(\"&$D$12&\")=\"&$D$4&\" and localMonth(\"&$D$12&\") =\"&$E$4&\" and LocalDay(\"&$D$12&\")=\"&$F$4&\" and Barix(\"&$D$12&\",reference:=StartOfDay)=\"&A60&\"\", \"Bar\", \"\", \"Close\",\"5\",\"0\",\"All\",,,\"False\",\"T\",\"EveryTick\")","v":4390.5},1.1389521640091117E-4,{"$f":"RTD(\"cqg.rtd\",,\"StudyData\", \"Close(\"&$D$12&\") when LocalYear(\"&$D$12&\")=\"&$D$5&\" and localMonth(\"&$D$12&\") =\"&$E$5&\" and LocalDay(\"&$D$12&\")=\"&$F$5&\" and Barix(\"&$D$12&\",reference:=StartOfDay)=\"&A60&\"\", \"Bar\", \"\", \"Close\",\"5\",\"0\",\"All\",,,\"False\",\"T\",\"EveryTick\")","v":4389.75},8.2108406063389986E-3,{"$f":"RTD(\"cqg.rtd\",,\"StudyData\", \"Close(\"&$D$12&\") when LocalYear(\"&$D$12&\")=\"&$D$6&\" and localMonth(\"&$D$12&\") =\"&$E$6&\" and LocalDay(\"&$D$12&\")=\"&$F$6&\" and Barix(\"&$D$12&\",reference:=StartOfDay)=\"&A60&\"\", \"Bar\", \"\", \"Close\",\"5\",\"0\",\"All\",,,\"False\",\"T\",\"EveryTick\")","v":4281.75},-1.2055837563451776E-2,{"$f":"RTD(\"cqg.rtd\",,\"StudyData\", \"Close(\"&$D$12&\") when LocalYear(\"&$D$12&\")=\"&$D$7&\" and localMonth(\"&$D$12&\") =\"&$E$7&\" and LocalDay(\"&$D$12&\")=\"&$F$7&\" and Barix(\"&$D$12&\",reference:=StartOfDay)=\"&A60&\"\", \"Bar\", \"\", \"Close\",\"5\",\"0\",\"All\",,,\"False\",\"T\",\"EveryTick\")","v":4306.25},3.4954849985435479E-3,{"$f":"RTD(\"cqg.rtd\",,\"StudyData\", \"Close(\"&$D$12&\") when LocalYear(\"&$D$12&\")=\"&$D$8&\" and localMonth(\"&$D$12&\") =\"&$E$8&\" and LocalDay(\"&$D$12&\")=\"&$F$8&\" and Barix(\"&$D$12&\",reference:=StartOfDay)=\"&A60&\"\", \"Bar\", \"\", \"Close\",\"5\",\"0\",\"All\",,,\"False\",\"T\",\"EveryTick\")","v":4332.5},-2.5899280575539568E-3,{"$f":"RTD(\"cqg.rtd\",,\"StudyData\", \"Close(\"&$D$12&\") when LocalYear(\"&$D$12&\")=\"&$D$9&\" and localMonth(\"&$D$12&\") =\"&$E$9&\" and LocalDay(\"&$D$12&\")=\"&$F$9&\" and Barix(\"&$D$12&\",reference:=StartOfDay)=\"&A60&\"\", \"Bar\", \"\", \"Close\",\"5\",\"0\",\"All\",,,\"False\",\"T\",\"EveryTick\")","v":4283},-3.432028386946658E-3,{"$f":"RTD(\"cqg.rtd\",,\"StudyData\", \"Close(\"&$D$12&\") when LocalYear(\"&$D$12&\")=\"&$D$10&\" and localMonth(\"&$D$12&\") =\"&$E$10&\" and LocalDay(\"&$D$12&\")=\"&$F$10&\" and Barix(\"&$D$12&\",reference:=StartOfDay)=\"&A60&\"\", \"Bar\", \"\", \"Close\",\"5\",\"0\",\"All\",,,\"False\",\"T\",\"EveryTick\")","v":4366.5},3.8507960227599286E-3,null,null,null,""]
[156,"06:00:00",-17,{"$f":" RTD(\"cqg.rtd\",,\"StudyData\", $D$12,  \"Tick\", \"FlatTicks=0\", \"Tick\",\"D\",C61,\"PrimaryOnly\")","v":4335},null,"DG",69,{"$f":"RTD(\"cqg.rtd\",,\"StudyData\", \"Close(\"&$D$12&\") when LocalYear(\"&$D$12&\")=\"&$D$1&\" and localMonth(\"&$D$12&\") =\"&$E$1&\" and LocalDay(\"&$D$12&\")=\"&$F$1&\" and Barix(\"&$D$12&\",reference:=StartOfDay)=\"&A61&\"\", \"Bar\", \"\", \"Close\",\"5\",\"0\",\"All\",,,\"False\",\"T\",\"EveryTick\")","v":4346.5},1.3246558774405344E-3,{"$f":"RTD(\"cqg.rtd\",,\"StudyData\", \"Close(\"&$D$12&\") when LocalYear(\"&$D$12&\")=\"&$D$2&\" and localMonth(\"&$D$12&\") =\"&$E$2&\" and LocalDay(\"&$D$12&\")=\"&$F$2&\" and Barix(\"&$D$12&\",reference:=StartOfDay)=\"&A61&\"\", \"Bar\", \"\", \"Close\",\"5\",\"0\",\"All\",,,\"False\",\"T\",\"EveryTick\")","v":4353.75},6.3203861181337624E-4,{"$f":"RTD(\"cqg.rtd\",,\"StudyData\", \"Close(\"&$D$12&\") when LocalYear(\"&$D$12&\")=\"&$D$3&\" and localMonth(\"&$D$12&\") =\"&$E$3&\" and LocalDay(\"&$D$12&\")=\"&$F$3&\" and Barix(\"&$D$12&\",reference:=StartOfDay)=\"&A61&\"\", \"Bar\", \"\", \"Close\",\"5\",\"0\",\"All\",,,\"False\",\"T\",\"EveryTick\")","v":4361.5},-4.7350105539391866E-3,{"$f":"RTD(\"cqg.rtd\",,\"StudyData\", \"Close(\"&$D$12&\") when LocalYear(\"&$D$12&\")=\"&$D$4&\" and localMonth(\"&$D$12&\") =\"&$E$4&\" and LocalDay(\"&$D$12&\")=\"&$F$4&\" and Barix(\"&$D$12&\",reference:=StartOfDay)=\"&A61&\"\", \"Bar\", \"\", \"Close\",\"5\",\"0\",\"All\",,,\"False\",\"T\",\"EveryTick\")","v":4393.75},8.5421412300683373E-4,{"$f":"RTD(\"cqg.rtd\",,\"StudyData\", \"Close(\"&$D$12&\") when LocalYear(\"&$D$12&\")=\"&$D$5&\" and localMonth(\"&$D$12&\") =\"&$E$5&\" and LocalDay(\"&$D$12&\")=\"&$F$5&\" and Barix(\"&$D$12&\",reference:=StartOfDay)=\"&A61&\"\", \"Bar\", \"\", \"Close\",\"5\",\"0\",\"All\",,,\"False\",\"T\",\"EveryTick\")","v":4390.25},8.3256775378961877E-3,{"$f":"RTD(\"cqg.rtd\",,\"StudyData\", \"Close(\"&$D$12&\") when LocalYear(\"&$D$12&\")=\"&$D$6&\" and localMonth(\"&$D$12&\") =\"&$E$6&\" and LocalDay(\"&$D$12&\")=\"&$F$6&\" and Barix(\"&$D$12&\",reference:=StartOfDay)=\"&A61&\"\", \"Bar\", \"\", \"Close\",\"5\",\"0\",\"All\",,,\"False\",\"T\",\"EveryTick\")","v":4282.5},-1.1882787263497924E-2,{"$f":"RTD(\"cqg.rtd\",,\"StudyData\", \"Close(\"&$D$12&\") when LocalYear(\"&$D$12&\")=\"&$D$7&\" and localMonth(\"&$D$12&\") =\"&$E$7&\" and LocalDay(\"&$D$12&\")=\"&$F$7&\" and Barix(\"&$D$12&\",reference:=StartOfDay)=\"&A61&\"\", \"Bar\", \"\", \"Close\",\"5\",\"0\",\"All\",,,\"False\",\"T\",\"EveryTick\")","v":4306},3.4372269152344887E-3,{"$f":"RTD(\"cqg.rtd\",,\"StudyData\", \"Close(\"&$D$12&\") when LocalYear(\"&$D$12&\")=\"&$D$8&\" and localMonth(\"&$D$12&\") =\"&$E$8&\" and LocalDay(\"&$D$12&\")=\"&$F$8&\" and Barix(\"&$D$12&\",reference:=StartOfDay)=\"&A61&\"\", \"Bar\", \"\", \"Close\",\"5\",\"0\",\"All\",,,\"False\",\"T\",\"EveryTick\")","v":4328.5},-3.5107913669064749E-3,{"$f":"RTD(\"cqg.rtd\",,\"StudyData\", \"Close(\"&$D$12&\") when LocalYear(\"&$D$12&\")=\"&$D$9&\" and localMonth(\"&$D$12&\") =\"&$E$9&\" and LocalDay(\"&$D$12&\")=\"&$F$9&\" and Barix(\"&$D$12&\",reference:=StartOfDay)=\"&A61&\"\", \"Bar\", \"\", \"Close\",\"5\",\"0\",\"All\",,,\"False\",\"T\",\"EveryTick\")","v":4287.25},-2.4431388517247399E-3,{"$f":"RTD(\"cqg.rtd\",,\"StudyData\", \"Close(\"&$D$12&\") when LocalYear(\"&$D$12&\")=\"&$D$10&\" and localMonth(\"&$D$12&\") =\"&$E$10&\" and LocalDay(\"&$D$12&\")=\"&$F$10&\" and Barix(\"&$D$12&\",reference:=StartOfDay)=\"&A61&\"\", \"Bar\", \"\", \"Close\",\"5\",\"0\",\"All\",,,\"False\",\"T\",\"EveryTick\")","v":4364},3.2760503477211335E-3,null,null,null,""]
[157,"06:05:00",-16,{"$f":" RTD(\"cqg.rtd\",,\"StudyData\", $D$12,  \"Tick\", \"FlatTicks=0\", \"Tick\",\"D\",C62,\"PrimaryOnly\")","v":4335.25},null,"FOAT",0,{"$f":"RTD(\"cqg.rtd\",,\"StudyData\", \"Close(\"&$D$12&\") when LocalYear(\"&$D$12&\")=\"&$D$1&\" and localMonth(\"&$D$12&\") =\"&$E$1&\" and LocalDay(\"&$D$12&\")=\"&$F$1&\" and Barix(\"&$D$12&\",reference:=StartOfDay)=\"&A62&\"\", \"Bar\", \"\", \"Close\",\"5\",\"0\",\"All\",,,\"False\",\"T\",\"EveryTick\")","v":4344.25},8.0631227322467314E-4,{"$f":"RTD(\"cqg.rtd\",,\"StudyData\", \"Close(\"&$D$12&\") when LocalYear(\"&$D$12&\")=\"&$D$2&\" and localMonth(\"&$D$12&\") =\"&$E$2&\" and LocalDay(\"&$D$12&\")=\"&$F$2&\" and Barix(\"&$D$12&\",reference:=StartOfDay)=\"&A62&\"\", \"Bar\", \"\", \"Close\",\"5\",\"0\",\"All\",,,\"False\",\"T\",\"EveryTick\")","v":4355.75},1.0917030567685589E-3,{"$f":"RTD(\"cqg.rtd\",,\"StudyData\", \"Close(\"&$D$12&\") when LocalYear(\"&$D$12&\")=\"&$D$3&\" and localMonth(\"&$D$12&\") =\"&$E$3&\" and LocalDay(\"&$D$12&\")=\"&$F$3&\" and Barix(\"&$D$12&\",reference:=StartOfDay)=\"&A62&\"\", \"Bar\", \"\", \"Close\",\"5\",\"0\",\"All\",,,\"False\",\"T\",\"EveryTick\")","v":4363.25},-4.3356723144503395E-3,{"$f":"RTD(\"cqg.rtd\",,\"StudyData\", \"Close(\"&$D$12&\") when LocalYear(\"&$D$12&\")=\"&$D$4&\" and localMonth(\"&$D$12&\") =\"&$E$4&\" and LocalDay(\"&$D$12&\")=\"&$F$4&\" and Barix(\"&$D$12&\",reference:=StartOfDay)=\"&A62&\"\", \"Bar\", \"\", \"Close\",\"5\",\"0\",\"All\",,,\"False\",\"T\",\"EveryTick\")","v":4395},1.1389521640091116E-3,{"$f":"RTD(\"cqg.rtd\",,\"StudyData\", \"Close(\"&$D$12&\") when LocalYear(\"&$D$12&\")=\"&$D$5&\" and localMonth(\"&$D$12&\") =\"&$E$5&\" and LocalDay(\"&$D$12&\")=\"&$F$5&\" and Barix(\"&$D$12&\",reference:=StartOfDay)=\"&A62&\"\", \"Bar\", \"\", \"Close\",\"5\",\"0\",\"All\",,,\"False\",\"T\",\"EveryTick\")","v":4392.25},8.7850252641249425E-3,{"$f":"RTD(\"cqg.rtd\",,\"StudyData\", \"Close(\"&$D$12&\") when LocalYear(\"&$D$12&\")=\"&$D$6&\" and localMonth(\"&$D$12&\") =\"&$E$6&\" and LocalDay(\"&$D$12&\")=\"&$F$6&\" and Barix(\"&$D$12&\",reference:=StartOfDay)=\"&A62&\"\", \"Bar\", \"\", \"Close\",\"5\",\"0\",\"All\",,,\"False\",\"T\",\"EveryTick\")","v":4282.25},-1.1940470696815874E-2,{"$f":"RTD(\"cqg.rtd\",,\"StudyData\", \"Close(\"&$D$12&\") when LocalYear(\"&$D$12&\")=\"&$D$7&\" and localMonth(\"&$D$12&\") =\"&$E$7&\" and LocalDay(\"&$D$12&\")=\"&$F$7&\" and Barix(\"&$D$12&\",reference:=StartOfDay)=\"&A62&\"\", \"Bar\", \"\", \"Close\",\"5\",\"0\",\"All\",,,\"False\",\"T\",\"EveryTick\")","v":4306},3.4372269152344887E-3,{"$f":"RTD(\"cqg.rtd\",,\"StudyData\", \"Close(\"&$D$12&\") when LocalYear(\"&$D$12&\")=\"&$D$8&\" and localMonth(\"&$D$12&\") =\"&$E$8&\" and LocalDay(\"&$D$12&\")=\"&$F$8&\" and Barix(\"&$D$12&\",reference:=StartOfDay)=\"&A62&\"\", \"Bar\", \"\", \"Close\",\"5\",\"0\",\"All\",,,\"False\",\"T\",\"EveryTick\")","v":4328.5},-3.5107913669064749E-3,{"$f":"RTD(\"cqg.rtd\",,\"StudyData\", \"Close(\"&$D$12&\") when LocalYear(\"&$D$12&\")=\"&$D$9&\" and localMonth(\"&$D$12&\") =\"&$E$9&\" and LocalDay(\"&$D$12&\")=\"&$F$9&\" and Barix(\"&$D$12&\",reference:=StartOfDay)=\"&A62&\"\", \"Bar\", \"\", \"Close\",\"5\",\"0\",\"All\",,,\"False\",\"T\",\"EveryTick\")","v":4288.5},-2.1522889884241754E-3,{"$f":"RTD(\"cqg.rtd\",,\"StudyData\", \"Close(\"&$D$12&\") when LocalYear(\"&$D$12&\")=\"&$D$10&\" and localMonth(\"&$D$12&\") =\"&$E$10&\" and LocalDay(\"&$D$12&\")=\"&$F$10&\" and Barix(\"&$D$12&\",reference:=StartOfDay)=\"&A62&\"\", \"Bar\", \"\", \"Close\",\"5\",\"0\",\"All\",,,\"False\",\"T\",\"EveryTick\")","v":4367.5},4.0806942927754473E-3,null,null,null,""]
[158,"06:10:00",-15,{"$f":" RTD(\"cqg.rtd\",,\"StudyData\", $D$12,  \"Tick\", \"FlatTicks=0\", \"Tick\",\"D\",C63,\"PrimaryOnly\")","v":4335.5},null,"QGA",0,{"$f":"RTD(\"cqg.rtd\",,\"StudyData\", \"Close(\"&$D$12&\") when LocalYear(\"&$D$12&\")=\"&$D$1&\" and localMonth(\"&$D$12&\") =\"&$E$1&\" and LocalDay(\"&$D$12&\")=\"&$F$1&\" and Barix(\"&$D$12&\",reference:=StartOfDay)=\"&A63&\"\", \"Bar\", \"\", \"Close\",\"5\",\"0\",\"All\",,,\"False\",\"T\",\"EveryTick\")","v":4344.75},9.2149974082819794E-4,{"$f":"RTD(\"cqg.rtd\",,\"StudyData\", \"Close(\"&$D$12&\") when LocalYear(\"&$D$12&\")=\"&$D$2&\" and localMonth(\"&$D$12&\") =\"&$E$2&\" and LocalDay(\"&$D$12&\")=\"&$F$2&\" and Barix(\"&$D$12&\",reference:=StartOfDay)=\"&A63&\"\", \"Bar\", \"\", \"Close\",\"5\",\"0\",\"All\",,,\"False\",\"T\",\"EveryTick\")","v":4356.25},1.2066191680073547E-3,{"$f":"RTD(\"cqg.rtd\",,\"StudyData\", \"Close(\"&$D$12&\") when LocalYear(\"&$D$12&\")=\"&$D$3&\" and localMonth(\"&$D$12&\") =\"&$E$3&\" and LocalDay(\"&$D$12&\")=\"&$F$3&\" and Barix(\"&$D$12&\",reference:=StartOfDay)=\"&A63&\"\", \"Bar\", \"\", \"Close\",\"5\",\"0\",\"All\",,,\"False\",\"T\",\"EveryTick\")","v":4365},-3.9363340749614924E-3,{"$f":"RTD(\"cqg.rtd\",,\"StudyData\", \"Close(\"&$D$12&\") when LocalYear(\"&$D$12&\")=\"&$D$4&\" and localMonth(\"&$D$12&\") =\"&$E$4&\" and LocalDay(\"&$D$12&\")=\"&$F$4&\" and Barix(\"&$D$12&\",reference:=StartOfDay)=\"&A63&\"\", \"Bar\", \"\", \"Close\",\"5\",\"0\",\"All\",,,\"False\",\"T\",\"EveryTick\")","v":4394.5},1.0250569476082006E-3,{"$f":"RTD(\"cqg.rtd\",,\"StudyData\", \"Close(\"&$D$12&\") when LocalYear(\"&$D$12&\")=\"&$D$5&\" and localMonth(\"&$D$12&\") =\"&$E$5&\" and LocalDay(\"&$D$12&\")=\"&$F$5&\" and Barix(\"&$D$12&\",reference:=StartOfDay)=\"&A63&\"\", \"Bar\", \"\", \"Close\",\"5\",\"0\",\"All\",,,\"False\",\"T\",\"EveryTick\")","v":4393.25},9.0146991272393208E-3,{"$f":"RTD(\"cqg.rtd\",,\"StudyData\", \"Close(\"&$D$12&\") when LocalYear(\"&$D$12&\")=\"&$D$6&\" and localMonth(\"&$D$12&\") =\"&$E$6&\" and LocalDay(\"&$D$12&\")=\"&$F$6&\" and Barix(\"&$D$12&\",reference:=StartOfDay)=\"&A63&\"\", \"Bar\", \"\", \"Close\",\"5\",\"0\",\"All\",,,\"False\",\"T\",\"EveryTick\")","v":4286},-1.1075219197046609E-2,{"$f":"RTD(\"cqg.rtd\",,\"StudyData\", \"Close(\"&$D$12&\") when LocalYear(\"&$D$12&\")=\"&$D$7&\" and localMonth(\"&$D$12&\") =\"&$E$7&\" and LocalDay(\"&$D$12&\")=\"&$F$7&\" and Barix(\"&$D$12&\",reference:=StartOfDay)=\"&A63&\"\", \"Bar\", \"\", \"Close\",\"5\",\"0\",\"All\",,,\"False\",\"T\",\"EveryTick\")","v":4306.25},3.4954849985435479E-3,{"$f":"RTD(\"cqg.rtd\",,\"StudyData\", \"Close(\"&$D$12&\") when LocalYear(\"&$D$12&\")=\"&$D$8&\" and localMonth(\"&$D$12&\") =\"&$E$8&\" and LocalDay(\"&$D$12&\")=\"&$F$8&\" and Barix(\"&$D$12&\",reference:=StartOfDay)=\"&A63&\"\", \"Bar\", \"\", \"Close\",\"5\",\"0\",\"All\",,,\"False\",\"T\",\"EveryTick\")","v":4323.75},-4.6043165467625899E-3,{"$f":"RTD(\"cqg.rtd\",,\"StudyData\", \"Close(\"&$D$12&\") when LocalYear(\"&$D$12&\")=\"&$D$9&\" and localMonth(\"&$D$12&\") =\"&$E$9&\" and LocalDay(\"&$D$12&\")=\"&$F$9&\" and Barix(\"&$D$12&\",reference:=StartOfDay)=\"&A63&\"\", \"Bar\", \"\", \"Close\",\"5\",\"0\",\"All\",,,\"False\",\"T\",\"EveryTick\")","v":4292.5},-1.2215694258623699E-3,{"$f":"RTD(\"cqg.rtd\",,\"StudyData\", \"Close(\"&$D$12&\") when LocalYear(\"&$D$12&\")=\"&$D$10&\" and localMonth(\"&$D$12&\") =\"&$E$10&\" and LocalDay(\"&$D$12&\")=\"&$F$10&\" and Barix(\"&$D$12&\",reference:=StartOfDay)=\"&A63&\"\", \"Bar\", \"\", \"Close\",\"5\",\"0\",\"All\",,,\"False\",\"T\",\"EveryTick\")","v":4370},4.6554399678142419E-3,null,null,null,""]
[159,"06:15:00",-14,{"$f":" RTD(\"cqg.rtd\",,\"StudyData\", $D$12,  \"Tick\", \"FlatTicks=0\", \"Tick\",\"D\",C64,\"PrimaryOnly\")","v":4335.25},null,null,null,{"$f":"RTD(\"cqg.rtd\",,\"StudyData\", \"Close(\"&$D$12&\") when LocalYear(\"&$D$12&\")=\"&$D$1&\" and localMonth(\"&$D$12&\") =\"&$E$1&\" and LocalDay(\"&$D$12&\")=\"&$F$1&\" and Barix(\"&$D$12&\",reference:=StartOfDay)=\"&A64&\"\", \"Bar\", \"\", \"Close\",\"5\",\"0\",\"All\",,,\"False\",\"T\",\"EveryTick\")","v":4347.25},1.4974370788458215E-3,{"$f":"RTD(\"cqg.rtd\",,\"StudyData\", \"Close(\"&$D$12&\") when LocalYear(\"&$D$12&\")=\"&$D$2&\" and localMonth(\"&$D$12&\") =\"&$E$2&\" and LocalDay(\"&$D$12&\")=\"&$F$2&\" and Barix(\"&$D$12&\",reference:=StartOfDay)=\"&A64&\"\", \"Bar\", \"\", \"Close\",\"5\",\"0\",\"All\",,,\"False\",\"T\",\"EveryTick\")","v":4355.75},1.0917030567685589E-3,{"$f":"RTD(\"cqg.rtd\",,\"StudyData\", \"Close(\"&$D$12&\") when LocalYear(\"&$D$12&\")=\"&$D$3&\" and localMonth(\"&$D$12&\") =\"&$E$3&\" and LocalDay(\"&$D$12&\")=\"&$F$3&\" and Barix(\"&$D$12&\",reference:=StartOfDay)=\"&A64&\"\", \"Bar\", \"\", \"Close\",\"5\",\"0\",\"All\",,,\"False\",\"T\",\"EveryTick\")","v":4365.75},-3.7651891151805577E-3,{"$f":"RTD(\"cqg.rtd\",,\"StudyData\", \"Close(\"&$D$12&\") when LocalYear(\"&$D$12&\")=\"&$D$4&\" and localMonth(\"&$D$12&\") =\"&$E$4&\" and LocalDay(\"&$D$12&\")=\"&$F$4&\" and Barix(\"&$D$12&\",reference:=StartOfDay)=\"&A64&\"\", \"Bar\", \"\", \"Close\",\"5\",\"0\",\"All\",,,\"False\",\"T\",\"EveryTick\")","v":4395.25},1.1958997722095672E-3,{"$f":"RTD(\"cqg.rtd\",,\"StudyData\", \"Close(\"&$D$12&\") when LocalYear(\"&$D$12&\")=\"&$D$5&\" and localMonth(\"&$D$12&\") =\"&$E$5&\" and LocalDay(\"&$D$12&\")=\"&$F$5&\" and Barix(\"&$D$12&\",reference:=StartOfDay)=\"&A64&\"\", \"Bar\", \"\", \"Close\",\"5\",\"0\",\"All\",,,\"False\",\"T\",\"EveryTick\")","v":4395.25},9.4740468534680756E-3,{"$f":"RTD(\"cqg.rtd\",,\"StudyData\", \"Close(\"&$D$12&\") when LocalYear(\"&$D$12&\")=\"&$D$6&\" and localMonth(\"&$D$12&\") =\"&$E$6&\" and LocalDay(\"&$D$12&\")=\"&$F$6&\" and Barix(\"&$D$12&\",reference:=StartOfDay)=\"&A64&\"\", \"Bar\", \"\", \"Close\",\"5\",\"0\",\"All\",,,\"False\",\"T\",\"EveryTick\")","v":4285.75},-1.1132902630364559E-2,{"$f":"RTD(\"cqg.rtd\",,\"StudyData\", \"Close(\"&$D$12&\") when LocalYear(\"&$D$12&\")=\"&$D$7&\" and localMonth(\"&$D$12&\") =\"&$E$7&\" and LocalDay(\"&$D$12&\")=\"&$F$7&\" and Barix(\"&$D$12&\",reference:=StartOfDay)=\"&A64&\"\", \"Bar\", \"\", \"Close\",\"5\",\"0\",\"All\",,,\"False\",\"T\",\"EveryTick\")","v":4307.75},3.8450334983979027E-3,{"$f":"RTD(\"cqg.rtd\",,\"StudyData\", \"Close(\"&$D$12&\") when LocalYear(\"&$D$12&\")=\"&$D$8&\" and localMonth(\"&$D$12&\") =\"&$E$8&\" and LocalDay(\"&$D$12&\")=\"&$F$8&\" and Barix(\"&$D$12&\",reference:=StartOfDay)=\"&A64&\"\", \"Bar\", \"\", \"Close\",\"5\",\"0\",\"All\",,,\"False\",\"T\",\"EveryTick\")","v":4324},-4.5467625899280571E-3,{"$f":"RTD(\"cqg.rtd\",,\"StudyData\", \"Close(\"&$D$12&\") when LocalYear(\"&$D$12&\")=\"&$D$9&\" and localMonth(\"&$D$12&\") =\"&$E$9&\" and LocalDay(\"&$D$12&\")=\"&$F$9&\" and Barix(\"&$D$12&\",reference:=StartOfDay)=\"&A64&\"\", \"Bar\", \"\", \"Close\",\"5\",\"0\",\"All\",,,\"False\",\"T\",\"EveryTick\")","v":4294.25},-8.1437961724157985E-4,{"$f":"RTD(\"cqg.rtd\",,\"StudyData\", \"Close(\"&$D$12&\") when LocalYear(\"&$D$12&\")=\"&$D$10&\" and localMonth(\"&$D$12&\") =\"&$E$10&\" and LocalDay(\"&$D$12&\")=\"&$F$10&\" and Barix(\"&$D$12&\",reference:=StartOfDay)=\"&A64&\"\", \"Bar\", \"\", \"Close\",\"5\",\"0\",\"All\",,,\"False\",\"T\",\"EveryTick\")","v":4370.75},4.8278636703258807E-3,null,null,null,""]
[160,"06:20:00",-13,{"$f":" RTD(\"cqg.rtd\",,\"StudyData\", $D$12,  \"Tick\", \"FlatTicks=0\", \"Tick\",\"D\",C65,\"PrimaryOnly\")","v":4335.5},null,null,null,{"$f":"RTD(\"cqg.rtd\",,\"StudyData\", \"Close(\"&$D$12&\") when LocalYear(\"&$D$12&\")=\"&$D$1&\" and localMonth(\"&$D$12&\") =\"&$E$1&\" and LocalDay(\"&$D$12&\")=\"&$F$1&\" and Barix(\"&$D$12&\",reference:=StartOfDay)=\"&A65&\"\", \"Bar\", \"\", \"Close\",\"5\",\"0\",\"All\",,,\"False\",\"T\",\"EveryTick\")","v":4347.25},{"$f":"IFERROR((H65-$G$2)/$G$2,NA())","v":1.4974370788458215E-3},{"$f":"RTD(\"cqg.rtd\",,\"StudyData\", \"Close(\"&$D$12&\") when LocalYear(\"&$D$12&\")=\"&$D$2&\" and localMonth(\"&$D$12&\") =\"&$E$2&\" and LocalDay(\"&$D$12&\")=\"&$F$2&\" and Barix(\"&$D$12&\",reference:=StartOfDay)=\"&A65&\"\", \"Bar\", \"\", \"Close\",\"5\",\"0\",\"All\",,,\"False\",\"T\",\"EveryTick\")","v":4356.75},{"$f":"IFERROR((J65-$G$3)/$G$3,NA())","v":1.3215352792461503E-3},{"$f":"RTD(\"cqg.rtd\",,\"StudyData\", \"Close(\"&$D$12&\") when LocalYear(\"&$D$12&\")=\"&$D$3&\" and localMonth(\"&$D$12&\") =\"&$E$3&\" and LocalDay(\"&$D$12&\")=\"&$F$3&\" and Barix(\"&$D$12&\",reference:=StartOfDay)=\"&A65&\"\", \"Bar\", \"\", \"Close\",\"5\",\"0\",\"All\",,,\"False\",\"T\",\"EveryTick\")","v":4366},{"$f":"IFERROR((L65-$G$4)/$G$4,NA())","v":-3.70814079525358E-3},{"$f":"RTD(\"cqg.rtd\",,\"StudyData\", \"Close(\"&$D$12&\") when LocalYear(\"&$D$12&\")=\"&$D$4&\" and localMonth(\"&$D$12&\") =\"&$E$4&\" and LocalDay(\"&$D$12&\")=\"&$F$4&\" and Barix(\"&$D$12&\",reference:=StartOfDay)=\"&A65&\"\", \"Bar\", \"\", \"Close\",\"5\",\"0\",\"All\",,,\"False\",\"T\",\"EveryTick\")","v":4396.25},{"$f":"IFERROR((N65-$G$5)/$G$5,NA())","v":1.4236902050113896E-3},{"$f":"RTD(\"cqg.rtd\",,\"StudyData\", \"Close(\"&$D$12&\") when LocalYear(\"&$D$12&\")=\"&$D$5&\" and localMonth(\"&$D$12&\") =\"&$E$5&\" and LocalDay(\"&$D$12&\")=\"&$F$5&\" and Barix(\"&$D$12&\",reference:=StartOfDay)=\"&A65&\"\", \"Bar\", \"\", \"Close\",\"5\",\"0\",\"All\",,,\"False\",\"T\",\"EveryTick\")","v":4396},{"$f":"IFERROR((P65-$G$6)/$G$6,NA())","v":9.6463022508038593E-3},{"$f":"RTD(\"cqg.rtd\",,\"StudyData\", \"Close(\"&$D$12&\") when LocalYear(\"&$D$12&\")=\"&$D$6&\" and localMonth(\"&$D$12&\") =\"&$E$6&\" and LocalDay(\"&$D$12&\")=\"&$F$6&\" and Barix(\"&$D$12&\",reference:=StartOfDay)=\"&A65&\"\", \"Bar\", \"\", \"Close\",\"5\",\"0\",\"All\",,,\"False\",\"T\",\"EveryTick\")","v":4285},{"$f":"IFERROR((R65-$G$7)/$G$7,NA())","v":-1.1305952930318412E-2},{"$f":"RTD(\"cqg.rtd\",,\"StudyData\", \"Close(\"&$D$12&\") when LocalYear(\"&$D$12&\")=\"&$D$7&\" and localMonth(\"&$D$12&\") =\"&$E$7&\" and LocalDay(\"&$D$12&\")=\"&$F$7&\" and Barix(\"&$D$12&\",reference:=StartOfDay)=\"&A65&\"\", \"Bar\", \"\", \"Close\",\"5\",\"0\",\"All\",,,\"False\",\"T\",\"EveryTick\")","v":4305.25},{"$f":"IFERROR((T65-$G$8)/$G$8,NA())","v":3.2624526653073113E-3},{"$f":"RTD(\"cqg.rtd\",,\"StudyData\", \"Close(\"&$D$12&\") when LocalYear(\"&$D$12&\")=\"&$D$8&\" and localMonth(\"&$D$12&\") =\"&$E$8&\" and LocalDay(\"&$D$12&\")=\"&$F$8&\" and Barix(\"&$D$12&\",reference:=StartOfDay)=\"&A65&\"\", \"Bar\", \"\", \"Close\",\"5\",\"0\",\"All\",,,\"False\",\"T\",\"EveryTick\")","v":4324.75},{"$f":"IFERROR((V65-$G$9)/$G$9,NA())","v":-4.3741007194244607E-3},{"$f":"RTD(\"cqg.rtd\",,\"StudyData\", \"Close(\"&$D$12&\") when LocalYear(\"&$D$12&\")=\"&$D$9&\" and localMonth(\"&$D$12&\") =\"&$E$9&\" and LocalDay(\"&$D$12&\")=\"&$F$9&\" and Barix(\"&$D$12&\",reference:=StartOfDay)=\"&A65&\"\", \"Bar\", \"\", \"Close\",\"5\",\"0\",\"All\",,,\"False\",\"T\",\"EveryTick\")","v":4298},{"$f":"IFERROR((X65-$G$10)/$G$10,NA())","v":5.8169972660112851E-5},{"$f":"RTD(\"cqg.rtd\",,\"StudyData\", \"Close(\"&$D$12&\") when LocalYear(\"&$D$12&\")=\"&$D$10&\" and localMonth(\"&$D$12&\") =\"&$E$10&\" and LocalDay(\"&$D$12&\")=\"&$F$10&\" and Barix(\"&$D$12&\",reference:=StartOfDay)=\"&A65&\"\", \"Bar\", \"\", \"Close\",\"5\",\"0\",\"All\",,,\"False\",\"T\",\"EveryTick\")","v":4369},{"$f":"IFERROR((Z65-$G$11)/$G$11,NA())","v":4.425541697798724E-3},null,null,null,""]
[161,"06:25:00",-12,{"$f":" RTD(\"cqg.rtd\",,\"StudyData\", $D$12,  \"Tick\", \"FlatTicks=0\", \"Tick\",\"D\",C66,\"PrimaryOnly\")","v":4335.75},null,null,null,{"$f":"RTD(\"cqg.rtd\",,\"StudyData\", \"Close(\"&$D$12&\") when LocalYear(\"&$D$12&\")=\"&$D$1&\" and localMonth(\"&$D$12&\") =\"&$E$1&\" and LocalDay(\"&$D$12&\")=\"&$F$1&\" and Barix(\"&$D$12&\",reference:=StartOfDay)=\"&A66&\"\", \"Bar\", \"\", \"Close\",\"5\",\"0\",\"All\",,,\"False\",\"T\",\"EveryTick\")","v":4349.25},1.9581869492599204E-3,{"$f":"RTD(\"cqg.rtd\",,\"StudyData\", \"Close(\"&$D$12&\") when LocalYear(\"&$D$12&\")=\"&$D$2&\" and localMonth(\"&$D$12&\") =\"&$E$2&\" and LocalDay(\"&$D$12&\")=\"&$F$2&\" and Barix(\"&$D$12&\",reference:=StartOfDay)=\"&A66&\"\", \"Bar\", \"\", \"Close\",\"5\",\"0\",\"All\",,,\"False\",\"T\",\"EveryTick\")","v":4358},1.6088255573431394E-3,{"$f":"RTD(\"cqg.rtd\",,\"StudyData\", \"Close(\"&$D$12&\") when LocalYear(\"&$D$12&\")=\"&$D$3&\" and localMonth(\"&$D$12&\") =\"&$E$3&\" and LocalDay(\"&$D$12&\")=\"&$F$3&\" and Barix(\"&$D$12&\",reference:=StartOfDay)=\"&A66&\"\", \"Bar\", \"\", \"Close\",\"5\",\"0\",\"All\",,,\"False\",\"T\",\"EveryTick\")","v":4367},-3.4799475155456671E-3,{"$f":"RTD(\"cqg.rtd\",,\"StudyData\", \"Close(\"&$D$12&\") when LocalYear(\"&$D$12&\")=\"&$D$4&\" and localMonth(\"&$D$12&\") =\"&$E$4&\" and LocalDay(\"&$D$12&\")=\"&$F$4&\" and Barix(\"&$D$12&\",reference:=StartOfDay)=\"&A66&\"\", \"Bar\", \"\", \"Close\",\"5\",\"0\",\"All\",,,\"False\",\"T\",\"EveryTick\")","v":4396.25},1.4236902050113896E-3,{"$f":"RTD(\"cqg.rtd\",,\"StudyData\", \"Close(\"&$D$12&\") when LocalYear(\"&$D$12&\")=\"&$D$5&\" and localMonth(\"&$D$12&\") =\"&$E$5&\" and LocalDay(\"&$D$12&\")=\"&$F$5&\" and Barix(\"&$D$12&\",reference:=StartOfDay)=\"&A66&\"\", \"Bar\", \"\", \"Close\",\"5\",\"0\",\"All\",,,\"False\",\"T\",\"EveryTick\")","v":4396},9.6463022508038593E-3,{"$f":"RTD(\"cqg.rtd\",,\"StudyData\", \"Close(\"&$D$12&\") when LocalYear(\"&$D$12&\")=\"&$D$6&\" and localMonth(\"&$D$12&\") =\"&$E$6&\" and LocalDay(\"&$D$12&\")=\"&$F$6&\" and Barix(\"&$D$12&\",reference:=StartOfDay)=\"&A66&\"\", \"Bar\", \"\", \"Close\",\"5\",\"0\",\"All\",,,\"False\",\"T\",\"EveryTick\")","v":4286.25},-1.1017535763728657E-2,{"$f":"RTD(\"cqg.rtd\",,\"StudyData\", \"Close(\"&$D$12&\") when LocalYear(\"&$D$12&\")=\"&$D$7&\" and localMonth(\"&$D$12&\") =\"&$E$7&\" and LocalDay(\"&$D$12&\")=\"&$F$7&\" and Barix(\"&$D$12&\",reference:=StartOfDay)=\"&A66&\"\", \"Bar\", \"\", \"Close\",\"5\",\"0\",\"All\",,,\"False\",\"T\",\"EveryTick\")","v":4311.25},4.6606466647247302E-3,{"$f":"RTD(\"cqg.rtd\",,\"StudyData\", \"Close(\"&$D$12&\") when LocalYear(\"&$D$12&\")=\"&$D$8&\" and localMonth(\"&$D$12&\") =\"&$E$8&\" and LocalDay(\"&$D$12&\")=\"&$F$8&\" and Barix(\"&$D$12&\",reference:=StartOfDay)=\"&A66&\"\", \"Bar\", \"\", \"Close\",\"5\",\"0\",\"All\",,,\"False\",\"T\",\"EveryTick\")","v":4326.75},-3.9136690647482014E-3,{"$f":"RTD(\"cqg.rtd\",,\"StudyData\", \"Close(\"&$D$12&\") when LocalYear(\"&$D$12&\")=\"&$D$9&\" and localMonth(\"&$D$12&\") =\"&$E$9&\" and LocalDay(\"&$D$12&\")=\"&$F$9&\" and Barix(\"&$D$12&\",reference:=StartOfDay)=\"&A66&\"\", \"Bar\", \"\", \"Close\",\"5\",\"0\",\"All\",,,\"False\",\"T\",\"EveryTick\")","v":4303.5},1.3379093711825955E-3,{"$f":"RTD(\"cqg.rtd\",,\"StudyData\", \"Close(\"&$D$12&\") when LocalYear(\"&$D$12&\")=\"&$D$10&\" and localMonth(\"&$D$12&\") =\"&$E$10&\" and LocalDay(\"&$D$12&\")=\"&$F$10&\" and Barix(\"&$D$12&\",reference:=StartOfDay)=\"&A66&\"\", \"Bar\", \"\", \"Close\",\"5\",\"0\",\"All\",,,\"False\",\"T\",\"EveryTick\")","v":4368},4.1956434277832062E-3,null,null,null,{"$f":"IFERROR(IF(AND(H65<>\"\",H66<>\"\",H67=\"\"),A66,\"\"),\"\")","v":""}]
[162,{"$f":"B66+5/60/24","v":"06:30:00"},-11,{"$f":" RTD(\"cqg.rtd\",,\"StudyData\", $D$12,  \"Tick\", \"FlatTicks=0\", \"Tick\",\"D\",C67,\"PrimaryOnly\")","v":4336},null,null,null,{"$f":"RTD(\"cqg.rtd\",,\"StudyData\", \"Close(\"&$D$12&\") when LocalYear(\"&$D$12&\")=\"&$D$1&\" and localMonth(\"&$D$12&\") =\"&$E$1&\" and LocalDay(\"&$D$12&\")=\"&$F$1&\" and Barix(\"&$D$12&\",reference:=StartOfDay)=\"&A67&\"\", \"Bar\", \"\", \"Close\",\"5\",\"0\",\"All\",,,\"False\",\"T\",\"EveryTick\")","v":4349.5},2.0157806830616827E-3,{"$f":"RTD(\"cqg.rtd\",,\"StudyData\", \"Close(\"&$D$12&\") when LocalYear(\"&$D$12&\")=\"&$D$2&\" and localMonth(\"&$D$12&\") =\"&$E$2&\" and LocalDay(\"&$D$12&\")=\"&$F$2&\" and Barix(\"&$D$12&\",reference:=StartOfDay)=\"&A67&\"\", \"Bar\", \"\", \"Close\",\"5\",\"0\",\"All\",,,\"False\",\"T\",\"EveryTick\")","v":4356.5},1.2640772236267525E-3,{"$f":"RTD(\"cqg.rtd\",,\"StudyData\", \"Close(\"&$D$12&\") when LocalYear(\"&$D$12&\")=\"&$D$3&\" and localMonth(\"&$D$12&\") =\"&$E$3&\" and LocalDay(\"&$D$12&\")=\"&$F$3&\" and Barix(\"&$D$12&\",reference:=StartOfDay)=\"&A67&\"\", \"Bar\", \"\", \"Close\",\"5\",\"0\",\"All\",,,\"False\",\"T\",\"EveryTick\")","v":4365.75},-3.7651891151805577E-3,{"$f":"RTD(\"cqg.rtd\",,\"StudyData\", \"Close(\"&$D$12&\") when LocalYear(\"&$D$12&\")=\"&$D$4&\" and localMonth(\"&$D$12&\") =\"&$E$4&\" and LocalDay(\"&$D$12&\")=\"&$F$4&\" and Barix(\"&$D$12&\",reference:=StartOfDay)=\"&A67&\"\", \"Bar\", \"\", \"Close\",\"5\",\"0\",\"All\",,,\"False\",\"T\",\"EveryTick\")","v":4393.75},8.5421412300683373E-4,{"$f":"RTD(\"cqg.rtd\",,\"StudyData\", \"Close(\"&$D$12&\") when LocalYear(\"&$D$12&\")=\"&$D$5&\" and localMonth(\"&$D$12&\") =\"&$E$5&\" and LocalDay(\"&$D$12&\")=\"&$F$5&\" and Barix(\"&$D$12&\",reference:=StartOfDay)=\"&A67&\"\", \"Bar\", \"\", \"Close\",\"5\",\"0\",\"All\",,,\"False\",\"T\",\"EveryTick\")","v":4394.5},9.3017914561322919E-3,{"$f":"RTD(\"cqg.rtd\",,\"StudyData\", \"Close(\"&$D$12&\") when LocalYear(\"&$D$12&\")=\"&$D$6&\" and localMonth(\"&$D$12&\") =\"&$E$6&\" and LocalDay(\"&$D$12&\")=\"&$F$6&\" and Barix(\"&$D$12&\",reference:=StartOfDay)=\"&A67&\"\", \"Bar\", \"\", \"Close\",\"5\",\"0\",\"All\",,,\"False\",\"T\",\"EveryTick\")","v":4283.5},-1.1652053530226119E-2,{"$f":"RTD(\"cqg.rtd\",,\"StudyData\", \"Close(\"&$D$12&\") when LocalYear(\"&$D$12&\")=\"&$D$7&\" and localMonth(\"&$D$12&\") =\"&$E$7&\" and LocalDay(\"&$D$12&\")=\"&$F$7&\" and Barix(\"&$D$12&\",reference:=StartOfDay)=\"&A67&\"\", \"Bar\", \"\", \"Close\",\"5\",\"0\",\"All\",,,\"False\",\"T\",\"EveryTick\")","v":4310.5},4.4858724147975532E-3,{"$f":"RTD(\"cqg.rtd\",,\"StudyData\", \"Close(\"&$D$12&\") when LocalYear(\"&$D$12&\")=\"&$D$8&\" and localMonth(\"&$D$12&\") =\"&$E$8&\" and LocalDay(\"&$D$12&\")=\"&$F$8&\" and Barix(\"&$D$12&\",reference:=StartOfDay)=\"&A67&\"\", \"Bar\", \"\", \"Close\",\"5\",\"0\",\"All\",,,\"False\",\"T\",\"EveryTick\")","v":4325.75},-4.1438848920863306E-3,{"$f":"RTD(\"cqg.rtd\",,\"StudyData\", \"Close(\"&$D$12&\") when LocalYear(\"&$D$12&\")=\"&$D$9&\" and localMonth(\"&$D$12&\") =\"&$E$9&\" and LocalDay(\"&$D$12&\")=\"&$F$9&\" and Barix(\"&$D$12&\",reference:=StartOfDay)=\"&A67&\"\", \"Bar\", \"\", \"Close\",\"5\",\"0\",\"All\",,,\"False\",\"T\",\"EveryTick\")","v":4308.5},2.5013088243848527E-3,{"$f":"RTD(\"cqg.rtd\",,\"StudyData\", \"Close(\"&$D$12&\") when LocalYear(\"&$D$12&\")=\"&$D$10&\" and localMonth(\"&$D$12&\") =\"&$E$10&\" and LocalDay(\"&$D$12&\")=\"&$F$10&\" and Barix(\"&$D$12&\",reference:=StartOfDay)=\"&A67&\"\", \"Bar\", \"\", \"Close\",\"5\",\"0\",\"All\",,,\"False\",\"T\",\"EveryTick\")","v":4367.25},4.0232197252715674E-3,null,null,null,""]
[163,"06:35:00",-10,{"$f":" RTD(\"cqg.rtd\",,\"StudyData\", $D$12,  \"Tick\", \"FlatTicks=0\", \"Tick\",\"D\",C68,\"PrimaryOnly\")","v":4335.75},null,null,null,{"$f":"RTD(\"cqg.rtd\",,\"StudyData\", \"Close(\"&$D$12&\") when LocalYear(\"&$D$12&\")=\"&$D$1&\" and localMonth(\"&$D$12&\") =\"&$E$1&\" and LocalDay(\"&$D$12&\")=\"&$F$1&\" and Barix(\"&$D$12&\",reference:=StartOfDay)=\"&A68&\"\", \"Bar\", \"\", \"Close\",\"5\",\"0\",\"All\",,,\"False\",\"T\",\"EveryTick\")","v":4348},1.6702182802511088E-3,{"$f":"RTD(\"cqg.rtd\",,\"StudyData\", \"Close(\"&$D$12&\") when LocalYear(\"&$D$12&\")=\"&$D$2&\" and localMonth(\"&$D$12&\") =\"&$E$2&\" and LocalDay(\"&$D$12&\")=\"&$F$2&\" and Barix(\"&$D$12&\",reference:=StartOfDay)=\"&A68&\"\", \"Bar\", \"\", \"Close\",\"5\",\"0\",\"All\",,,\"False\",\"T\",\"EveryTick\")","v":4355.75},1.0917030567685589E-3,{"$f":"RTD(\"cqg.rtd\",,\"StudyData\", \"Close(\"&$D$12&\") when LocalYear(\"&$D$12&\")=\"&$D$3&\" and localMonth(\"&$D$12&\") =\"&$E$3&\" and LocalDay(\"&$D$12&\")=\"&$F$3&\" and Barix(\"&$D$12&\",reference:=StartOfDay)=\"&A68&\"\", \"Bar\", \"\", \"Close\",\"5\",\"0\",\"All\",,,\"False\",\"T\",\"EveryTick\")","v":4365.5},-3.822237435107536E-3,{"$f":"RTD(\"cqg.rtd\",,\"StudyData\", \"Close(\"&$D$12&\") when LocalYear(\"&$D$12&\")=\"&$D$4&\" and localMonth(\"&$D$12&\") =\"&$E$4&\" and LocalDay(\"&$D$12&\")=\"&$F$4&\" and Barix(\"&$D$12&\",reference:=StartOfDay)=\"&A68&\"\", \"Bar\", \"\", \"Close\",\"5\",\"0\",\"All\",,,\"False\",\"T\",\"EveryTick\")","v":4393.75},8.5421412300683373E-4,{"$f":"RTD(\"cqg.rtd\",,\"StudyData\", \"Close(\"&$D$12&\") when LocalYear(\"&$D$12&\")=\"&$D$5&\" and localMonth(\"&$D$12&\") =\"&$E$5&\" and LocalDay(\"&$D$12&\")=\"&$F$5&\" and Barix(\"&$D$12&\",reference:=StartOfDay)=\"&A68&\"\", \"Bar\", \"\", \"Close\",\"5\",\"0\",\"All\",,,\"False\",\"T\",\"EveryTick\")","v":4396.25},9.7037207165824521E-3,{"$f":"RTD(\"cqg.rtd\",,\"StudyData\", \"Close(\"&$D$12&\") when LocalYear(\"&$D$12&\")=\"&$D$6&\" and localMonth(\"&$D$12&\") =\"&$E$6&\" and LocalDay(\"&$D$12&\")=\"&$F$6&\" and Barix(\"&$D$12&\",reference:=StartOfDay)=\"&A68&\"\", \"Bar\", \"\", \"Close\",\"5\",\"0\",\"All\",,,\"False\",\"T\",\"EveryTick\")","v":4285.25},-1.1248269497000462E-2,{"$f":"RTD(\"cqg.rtd\",,\"StudyData\", \"Close(\"&$D$12&\") when LocalYear(\"&$D$12&\")=\"&$D$7&\" and localMonth(\"&$D$12&\") =\"&$E$7&\" and LocalDay(\"&$D$12&\")=\"&$F$7&\" and Barix(\"&$D$12&\",reference:=StartOfDay)=\"&A68&\"\", \"Bar\", \"\", \"Close\",\"5\",\"0\",\"All\",,,\"False\",\"T\",\"EveryTick\")","v":4314.5},5.4180017477424994E-3,{"$f":"RTD(\"cqg.rtd\",,\"StudyData\", \"Close(\"&$D$12&\") when LocalYear(\"&$D$12&\")=\"&$D$8&\" and localMonth(\"&$D$12&\") =\"&$E$8&\" and LocalDay(\"&$D$12&\")=\"&$F$8&\" and Barix(\"&$D$12&\",reference:=StartOfDay)=\"&A68&\"\", \"Bar\", \"\", \"Close\",\"5\",\"0\",\"All\",,,\"False\",\"T\",\"EveryTick\")","v":4328},-3.6258992805755395E-3,{"$f":"RTD(\"cqg.rtd\",,\"StudyData\", \"Close(\"&$D$12&\") when LocalYear(\"&$D$12&\")=\"&$D$9&\" and localMonth(\"&$D$12&\") =\"&$E$9&\" and LocalDay(\"&$D$12&\")=\"&$F$9&\" and Barix(\"&$D$12&\",reference:=StartOfDay)=\"&A68&\"\", \"Bar\", \"\", \"Close\",\"5\",\"0\",\"All\",,,\"False\",\"T\",\"EveryTick\")","v":4310.75},3.0248385783258683E-3,{"$f":"RTD(\"cqg.rtd\",,\"StudyData\", \"Close(\"&$D$12&\") when LocalYear(\"&$D$12&\")=\"&$D$10&\" and localMonth(\"&$D$12&\") =\"&$E$10&\" and LocalDay(\"&$D$12&\")=\"&$F$10&\" and Barix(\"&$D$12&\",reference:=StartOfDay)=\"&A68&\"\", \"Bar\", \"\", \"Close\",\"5\",\"0\",\"All\",,,\"False\",\"T\",\"EveryTick\")","v":4365},3.5059486177366514E-3,null,null,null,""]
[164,"06:40:00",-9,{"$f":" RTD(\"cqg.rtd\",,\"StudyData\", $D$12,  \"Tick\", \"FlatTicks=0\", \"Tick\",\"D\",C69,\"PrimaryOnly\")","v":4335.5},null,null,null,{"$f":"RTD(\"cqg.rtd\",,\"StudyData\", \"Close(\"&$D$12&\") when LocalYear(\"&$D$12&\")=\"&$D$1&\" and localMonth(\"&$D$12&\") =\"&$E$1&\" and LocalDay(\"&$D$12&\")=\"&$F$1&\" and Barix(\"&$D$12&\",reference:=StartOfDay)=\"&A69&\"\", \"Bar\", \"\", \"Close\",\"5\",\"0\",\"All\",,,\"False\",\"T\",\"EveryTick\")","v":4347.75},1.6126245464493463E-3,{"$f":"RTD(\"cqg.rtd\",,\"StudyData\", \"Close(\"&$D$12&\") when LocalYear(\"&$D$12&\")=\"&$D$2&\" and localMonth(\"&$D$12&\") =\"&$E$2&\" and LocalDay(\"&$D$12&\")=\"&$F$2&\" and Barix(\"&$D$12&\",reference:=StartOfDay)=\"&A69&\"\", \"Bar\", \"\", \"Close\",\"5\",\"0\",\"All\",,,\"False\",\"T\",\"EveryTick\")","v":4354},6.8949666743277403E-4,{"$f":"RTD(\"cqg.rtd\",,\"StudyData\", \"Close(\"&$D$12&\") when LocalYear(\"&$D$12&\")=\"&$D$3&\" and localMonth(\"&$D$12&\") =\"&$E$3&\" and LocalDay(\"&$D$12&\")=\"&$F$3&\" and Barix(\"&$D$12&\",reference:=StartOfDay)=\"&A69&\"\", \"Bar\", \"\", \"Close\",\"5\",\"0\",\"All\",,,\"False\",\"T\",\"EveryTick\")","v":4365.5},-3.822237435107536E-3,{"$f":"RTD(\"cqg.rtd\",,\"StudyData\", \"Close(\"&$D$12&\") when LocalYear(\"&$D$12&\")=\"&$D$4&\" and localMonth(\"&$D$12&\") =\"&$E$4&\" and LocalDay(\"&$D$12&\")=\"&$F$4&\" and Barix(\"&$D$12&\",reference:=StartOfDay)=\"&A69&\"\", \"Bar\", \"\", \"Close\",\"5\",\"0\",\"All\",,,\"False\",\"T\",\"EveryTick\")","v":4394},9.1116173120728934E-4,{"$f":"RTD(\"cqg.rtd\",,\"StudyData\", \"Close(\"&$D$12&\") when LocalYear(\"&$D$12&\")=\"&$D$5&\" and localMonth(\"&$D$12&\") =\"&$E$5&\" and LocalDay(\"&$D$12&\")=\"&$F$5&\" and Barix(\"&$D$12&\",reference:=StartOfDay)=\"&A69&\"\", \"Bar\", \"\", \"Close\",\"5\",\"0\",\"All\",,,\"False\",\"T\",\"EveryTick\")","v":4395.5},9.5314653192466701E-3,{"$f":"RTD(\"cqg.rtd\",,\"StudyData\", \"Close(\"&$D$12&\") when LocalYear(\"&$D$12&\")=\"&$D$6&\" and localMonth(\"&$D$12&\") =\"&$E$6&\" and LocalDay(\"&$D$12&\")=\"&$F$6&\" and Barix(\"&$D$12&\",reference:=StartOfDay)=\"&A69&\"\", \"Bar\", \"\", \"Close\",\"5\",\"0\",\"All\",,,\"False\",\"T\",\"EveryTick\")","v":4282.75},-1.1825103830179972E-2,{"$f":"RTD(\"cqg.rtd\",,\"StudyData\", \"Close(\"&$D$12&\") when LocalYear(\"&$D$12&\")=\"&$D$7&\" and localMonth(\"&$D$12&\") =\"&$E$7&\" and LocalDay(\"&$D$12&\")=\"&$F$7&\" and Barix(\"&$D$12&\",reference:=StartOfDay)=\"&A69&\"\", \"Bar\", \"\", \"Close\",\"5\",\"0\",\"All\",,,\"False\",\"T\",\"EveryTick\")","v":4312.25},4.8936789979609667E-3,{"$f":"RTD(\"cqg.rtd\",,\"StudyData\", \"Close(\"&$D$12&\") when LocalYear(\"&$D$12&\")=\"&$D$8&\" and localMonth(\"&$D$12&\") =\"&$E$8&\" and LocalDay(\"&$D$12&\")=\"&$F$8&\" and Barix(\"&$D$12&\",reference:=StartOfDay)=\"&A69&\"\", \"Bar\", \"\", \"Close\",\"5\",\"0\",\"All\",,,\"False\",\"T\",\"EveryTick\")","v":4326.75},-3.9136690647482014E-3,{"$f":"RTD(\"cqg.rtd\",,\"StudyData\", \"Close(\"&$D$12&\") when LocalYear(\"&$D$12&\")=\"&$D$9&\" and localMonth(\"&$D$12&\") =\"&$E$9&\" and LocalDay(\"&$D$12&\")=\"&$F$9&\" and Barix(\"&$D$12&\",reference:=StartOfDay)=\"&A69&\"\", \"Bar\", \"\", \"Close\",\"5\",\"0\",\"All\",,,\"False\",\"T\",\"EveryTick\")","v":4309.25},2.675818742365191E-3,{"$f":"RTD(\"cqg.rtd\",,\"StudyData\", \"Close(\"&$D$12&\") when LocalYear(\"&$D$12&\")=\"&$D$10&\" and localMonth(\"&$D$12&\") =\"&$E$10&\" and LocalDay(\"&$D$12&\")=\"&$F$10&\" and Barix(\"&$D$12&\",reference:=StartOfDay)=\"&A69&\"\", \"Bar\", \"\", \"Close\",\"5\",\"0\",\"All\",,,\"False\",\"T\",\"EveryTick\")","v":4361.75},2.7587792401862175E-3,null,null,null,""]
[165,"06:45:00",-8,{"$f":" RTD(\"cqg.rtd\",,\"StudyData\", $D$12,  \"Tick\", \"FlatTicks=0\", \"Tick\",\"D\",C70,\"PrimaryOnly\")","v":4335.25},null,null,null,{"$f":"RTD(\"cqg.rtd\",,\"StudyData\", \"Close(\"&$D$12&\") when LocalYear(\"&$D$12&\")=\"&$D$1&\" and localMonth(\"&$D$12&\") =\"&$E$1&\" and LocalDay(\"&$D$12&\")=\"&$F$1&\" and Barix(\"&$D$12&\",reference:=StartOfDay)=\"&A70&\"\", \"Bar\", \"\", \"Close\",\"5\",\"0\",\"All\",,,\"False\",\"T\",\"EveryTick\")","v":4348.25},1.7278120140528711E-3,{"$f":"RTD(\"cqg.rtd\",,\"StudyData\", \"Close(\"&$D$12&\") when LocalYear(\"&$D$12&\")=\"&$D$2&\" and localMonth(\"&$D$12&\") =\"&$E$2&\" and LocalDay(\"&$D$12&\")=\"&$F$2&\" and Barix(\"&$D$12&\",reference:=StartOfDay)=\"&A70&\"\", \"Bar\", \"\", \"Close\",\"5\",\"0\",\"All\",,,\"False\",\"T\",\"EveryTick\")","v":4353.25},5.1712250057458055E-4,{"$f":"RTD(\"cqg.rtd\",,\"StudyData\", \"Close(\"&$D$12&\") when LocalYear(\"&$D$12&\")=\"&$D$3&\" and localMonth(\"&$D$12&\") =\"&$E$3&\" and LocalDay(\"&$D$12&\")=\"&$F$3&\" and Barix(\"&$D$12&\",reference:=StartOfDay)=\"&A70&\"\", \"Bar\", \"\", \"Close\",\"5\",\"0\",\"All\",,,\"False\",\"T\",\"EveryTick\")","v":4365},-3.9363340749614924E-3,{"$f":"RTD(\"cqg.rtd\",,\"StudyData\", \"Close(\"&$D$12&\") when LocalYear(\"&$D$12&\")=\"&$D$4&\" and localMonth(\"&$D$12&\") =\"&$E$4&\" and LocalDay(\"&$D$12&\")=\"&$F$4&\" and Barix(\"&$D$12&\",reference:=StartOfDay)=\"&A70&\"\", \"Bar\", \"\", \"Close\",\"5\",\"0\",\"All\",,,\"False\",\"T\",\"EveryTick\")","v":4394.75},1.082004555808656E-3,{"$f":"RTD(\"cqg.rtd\",,\"StudyData\", \"Close(\"&$D$12&\") when LocalYear(\"&$D$12&\")=\"&$D$5&\" and localMonth(\"&$D$12&\") =\"&$E$5&\" and LocalDay(\"&$D$12&\")=\"&$F$5&\" and Barix(\"&$D$12&\",reference:=StartOfDay)=\"&A70&\"\", \"Bar\", \"\", \"Close\",\"5\",\"0\",\"All\",,,\"False\",\"T\",\"EveryTick\")","v":4396},9.6463022508038593E-3,{"$f":"RTD(\"cqg.rtd\",,\"StudyData\", \"Close(\"&$D$12&\") when LocalYear(\"&$D$12&\")=\"&$D$6&\" and localMonth(\"&$D$12&\") =\"&$E$6&\" and LocalDay(\"&$D$12&\")=\"&$F$6&\" and Barix(\"&$D$12&\",reference:=StartOfDay)=\"&A70&\"\", \"Bar\", \"\", \"Close\",\"5\",\"0\",\"All\",,,\"False\",\"T\",\"EveryTick\")","v":4283.5},-1.1652053530226119E-2,{"$f":"RTD(\"cqg.rtd\",,\"StudyData\", \"Close(\"&$D$12&\") when LocalYear(\"&$D$12&\")=\"&$D$7&\" and localMonth(\"&$D$12&\") =\"&$E$7&\" and LocalDay(\"&$D$12&\")=\"&$F$7&\" and Barix(\"&$D$12&\",reference:=StartOfDay)=\"&A70&\"\", \"Bar\", \"\", \"Close\",\"5\",\"0\",\"All\",,,\"False\",\"T\",\"EveryTick\")","v":4312.25},4.8936789979609667E-3,{"$f":"RTD(\"cqg.rtd\",,\"StudyData\", \"Close(\"&$D$12&\") when LocalYear(\"&$D$12&\")=\"&$D$8&\" and localMonth(\"&$D$12&\") =\"&$E$8&\" and LocalDay(\"&$D$12&\")=\"&$F$8&\" and Barix(\"&$D$12&\",reference:=StartOfDay)=\"&A70&\"\", \"Bar\", \"\", \"Close\",\"5\",\"0\",\"All\",,,\"False\",\"T\",\"EveryTick\")","v":4324.25},-4.4892086330935253E-3,{"$f":"RTD(\"cqg.rtd\",,\"StudyData\", \"Close(\"&$D$12&\") when LocalYear(\"&$D$12&\")=\"&$D$9&\" and localMonth(\"&$D$12&\") =\"&$E$9&\" and LocalDay(\"&$D$12&\")=\"&$F$9&\" and Barix(\"&$D$12&\",reference:=StartOfDay)=\"&A70&\"\", \"Bar\", \"\", \"Close\",\"5\",\"0\",\"All\",,,\"False\",\"T\",\"EveryTick\")","v":4315},4.0137281135477869E-3,{"$f":"RTD(\"cqg.rtd\",,\"StudyData\", \"Close(\"&$D$12&\") when LocalYear(\"&$D$12&\")=\"&$D$10&\" and localMonth(\"&$D$12&\") =\"&$E$10&\" and LocalDay(\"&$D$12&\")=\"&$F$10&\" and Barix(\"&$D$12&\",reference:=StartOfDay)=\"&A70&\"\", \"Bar\", \"\", \"Close\",\"5\",\"0\",\"All\",,,\"False\",\"T\",\"EveryTick\")","v":4362},2.816253807690097E-3,null,null,null,""]
[166,"06:50:00",-7,{"$f":" RTD(\"cqg.rtd\",,\"StudyData\", $D$12,  \"Tick\", \"FlatTicks=0\", \"Tick\",\"D\",C71,\"PrimaryOnly\")","v":4335.5},null,null,null,{"$f":"RTD(\"cqg.rtd\",,\"StudyData\", \"Close(\"&$D$12&\") when LocalYear(\"&$D$12&\")=\"&$D$1&\" and localMonth(\"&$D$12&\") =\"&$E$1&\" and LocalDay(\"&$D$12&\")=\"&$F$1&\" and Barix(\"&$D$12&\",reference:=StartOfDay)=\"&A71&\"\", \"Bar\", \"\", \"Close\",\"5\",\"0\",\"All\",,,\"False\",\"T\",\"EveryTick\")","v":4350},2.1309681506652078E-3,{"$f":"RTD(\"cqg.rtd\",,\"StudyData\", \"Close(\"&$D$12&\") when LocalYear(\"&$D$12&\")=\"&$D$2&\" and localMonth(\"&$D$12&\") =\"&$E$2&\" and LocalDay(\"&$D$12&\")=\"&$F$2&\" and Barix(\"&$D$12&\",reference:=StartOfDay)=\"&A71&\"\", \"Bar\", \"\", \"Close\",\"5\",\"0\",\"All\",,,\"False\",\"T\",\"EveryTick\")","v":4354},6.8949666743277403E-4,{"$f":"RTD(\"cqg.rtd\",,\"StudyData\", \"Close(\"&$D$12&\") when LocalYear(\"&$D$12&\")=\"&$D$3&\" and localMonth(\"&$D$12&\") =\"&$E$3&\" and LocalDay(\"&$D$12&\")=\"&$F$3&\" and Barix(\"&$D$12&\",reference:=StartOfDay)=\"&A71&\"\", \"Bar\", \"\", \"Close\",\"5\",\"0\",\"All\",,,\"False\",\"T\",\"EveryTick\")","v":4362},-4.6209139140852302E-3,{"$f":"RTD(\"cqg.rtd\",,\"StudyData\", \"Close(\"&$D$12&\") when LocalYear(\"&$D$12&\")=\"&$D$4&\" and localMonth(\"&$D$12&\") =\"&$E$4&\" and LocalDay(\"&$D$12&\")=\"&$F$4&\" and Barix(\"&$D$12&\",reference:=StartOfDay)=\"&A71&\"\", \"Bar\", \"\", \"Close\",\"5\",\"0\",\"All\",,,\"False\",\"T\",\"EveryTick\")","v":4394},9.1116173120728934E-4,{"$f":"RTD(\"cqg.rtd\",,\"StudyData\", \"Close(\"&$D$12&\") when LocalYear(\"&$D$12&\")=\"&$D$5&\" and localMonth(\"&$D$12&\") =\"&$E$5&\" and LocalDay(\"&$D$12&\")=\"&$F$5&\" and Barix(\"&$D$12&\",reference:=StartOfDay)=\"&A71&\"\", \"Bar\", \"\", \"Close\",\"5\",\"0\",\"All\",,,\"False\",\"T\",\"EveryTick\")","v":4394.5},9.3017914561322919E-3,{"$f":"RTD(\"cqg.rtd\",,\"StudyData\", \"Close(\"&$D$12&\") when LocalYear(\"&$D$12&\")=\"&$D$6&\" and localMonth(\"&$D$12&\") =\"&$E$6&\" and LocalDay(\"&$D$12&\")=\"&$F$6&\" and Barix(\"&$D$12&\",reference:=StartOfDay)=\"&A71&\"\", \"Bar\", \"\", \"Close\",\"5\",\"0\",\"All\",,,\"False\",\"T\",\"EveryTick\")","v":4285.75},-1.1132902630364559E-2,{"$f":"RTD(\"cqg.rtd\",,\"StudyData\", \"Close(\"&$D$12&\") when LocalYear(\"&$D$12&\")=\"&$D$7&\" and localMonth(\"&$D$12&\") =\"&$E$7&\" and LocalDay(\"&$D$12&\")=\"&$F$7&\" and Barix(\"&$D$12&\",reference:=StartOfDay)=\"&A71&\"\", \"Bar\", \"\", \"Close\",\"5\",\"0\",\"All\",,,\"False\",\"T\",\"EveryTick\")","v":4311.25},4.6606466647247302E-3,{"$f":"RTD(\"cqg.rtd\",,\"StudyData\", \"Close(\"&$D$12&\") when LocalYear(\"&$D$12&\")=\"&$D$8&\" and localMonth(\"&$D$12&\") =\"&$E$8&\" and LocalDay(\"&$D$12&\")=\"&$F$8&\" and Barix(\"&$D$12&\",reference:=StartOfDay)=\"&A71&\"\", \"Bar\", \"\", \"Close\",\"5\",\"0\",\"All\",,,\"False\",\"T\",\"EveryTick\")","v":4324.5},-4.4316546762589925E-3,{"$f":"RTD(\"cqg.rtd\",,\"StudyData\", \"Close(\"&$D$12&\") when LocalYear(\"&$D$12&\")=\"&$D$9&\" and localMonth(\"&$D$12&\") =\"&$E$9&\" and LocalDay(\"&$D$12&\")=\"&$F$9&\" and Barix(\"&$D$12&\",reference:=StartOfDay)=\"&A71&\"\", \"Bar\", \"\", \"Close\",\"5\",\"0\",\"All\",,,\"False\",\"T\",\"EveryTick\")","v":4308.75},2.5594787970449652E-3,{"$f":"RTD(\"cqg.rtd\",,\"StudyData\", \"Close(\"&$D$12&\") when LocalYear(\"&$D$12&\")=\"&$D$10&\" and localMonth(\"&$D$12&\") =\"&$E$10&\" and LocalDay(\"&$D$12&\")=\"&$F$10&\" and Barix(\"&$D$12&\",reference:=StartOfDay)=\"&A71&\"\", \"Bar\", \"\", \"Close\",\"5\",\"0\",\"All\",,,\"False\",\"T\",\"EveryTick\")","v":4366.25},3.7933214552560491E-3,null,null,null,""]
[167,"06:55:00",-6,{"$f":" RTD(\"cqg.rtd\",,\"StudyData\", $D$12,  \"Tick\", \"FlatTicks=0\", \"Tick\",\"D\",C72,\"PrimaryOnly\")","v":4335.75},null,null,null,{"$f":"RTD(\"cqg.rtd\",,\"StudyData\", \"Close(\"&$D$12&\") when LocalYear(\"&$D$12&\")=\"&$D$1&\" and localMonth(\"&$D$12&\") =\"&$E$1&\" and LocalDay(\"&$D$12&\")=\"&$F$1&\" and Barix(\"&$D$12&\",reference:=StartOfDay)=\"&A72&\"\", \"Bar\", \"\", \"Close\",\"5\",\"0\",\"All\",,,\"False\",\"T\",\"EveryTick\")","v":4348.75},1.8429994816563959E-3,{"$f":"RTD(\"cqg.rtd\",,\"StudyData\", \"Close(\"&$D$12&\") when LocalYear(\"&$D$12&\")=\"&$D$2&\" and localMonth(\"&$D$12&\") =\"&$E$2&\" and LocalDay(\"&$D$12&\")=\"&$F$2&\" and Barix(\"&$D$12&\",reference:=StartOfDay)=\"&A72&\"\", \"Bar\", \"\", \"Close\",\"5\",\"0\",\"All\",,,\"False\",\"T\",\"EveryTick\")","v":4352.5},3.4474833371638702E-4,{"$f":"RTD(\"cqg.rtd\",,\"StudyData\", \"Close(\"&$D$12&\") when LocalYear(\"&$D$12&\")=\"&$D$3&\" and localMonth(\"&$D$12&\") =\"&$E$3&\" and LocalDay(\"&$D$12&\")=\"&$F$3&\" and Barix(\"&$D$12&\",reference:=StartOfDay)=\"&A72&\"\", \"Bar\", \"\", \"Close\",\"5\",\"0\",\"All\",,,\"False\",\"T\",\"EveryTick\")","v":4363},-4.3927206343773173E-3,{"$f":"RTD(\"cqg.rtd\",,\"StudyData\", \"Close(\"&$D$12&\") when LocalYear(\"&$D$12&\")=\"&$D$4&\" and localMonth(\"&$D$12&\") =\"&$E$4&\" and LocalDay(\"&$D$12&\")=\"&$F$4&\" and Barix(\"&$D$12&\",reference:=StartOfDay)=\"&A72&\"\", \"Bar\", \"\", \"Close\",\"5\",\"0\",\"All\",,,\"False\",\"T\",\"EveryTick\")","v":4394.25},9.6810933940774484E-4,{"$f":"RTD(\"cqg.rtd\",,\"StudyData\", \"Close(\"&$D$12&\") when LocalYear(\"&$D$12&\")=\"&$D$5&\" and localMonth(\"&$D$12&\") =\"&$E$5&\" and LocalDay(\"&$D$12&\")=\"&$F$5&\" and Barix(\"&$D$12&\",reference:=StartOfDay)=\"&A72&\"\", \"Bar\", \"\", \"Close\",\"5\",\"0\",\"All\",,,\"False\",\"T\",\"EveryTick\")","v":4394.5},9.3017914561322919E-3,{"$f":"RTD(\"cqg.rtd\",,\"StudyData\", \"Close(\"&$D$12&\") when LocalYear(\"&$D$12&\")=\"&$D$6&\" and localMonth(\"&$D$12&\") =\"&$E$6&\" and LocalDay(\"&$D$12&\")=\"&$F$6&\" and Barix(\"&$D$12&\",reference:=StartOfDay)=\"&A72&\"\", \"Bar\", \"\", \"Close\",\"5\",\"0\",\"All\",,,\"False\",\"T\",\"EveryTick\")","v":4289.5},-1.0267651130595292E-2,{"$f":"RTD(\"cqg.rtd\",,\"StudyData\", \"Close(\"&$D$12&\") when LocalYear(\"&$D$12&\")=\"&$D$7&\" and localMonth(\"&$D$12&\") =\"&$E$7&\" and LocalDay(\"&$D$12&\")=\"&$F$7&\" and Barix(\"&$D$12&\",reference:=StartOfDay)=\"&A72&\"\", \"Bar\", \"\", \"Close\",\"5\",\"0\",\"All\",,,\"False\",\"T\",\"EveryTick\")","v":4310.75},4.5441304981066119E-3,{"$f":"RTD(\"cqg.rtd\",,\"StudyData\", \"Close(\"&$D$12&\") when LocalYear(\"&$D$12&\")=\"&$D$8&\" and localMonth(\"&$D$12&\") =\"&$E$8&\" and LocalDay(\"&$D$12&\")=\"&$F$8&\" and Barix(\"&$D$12&\",reference:=StartOfDay)=\"&A72&\"\", \"Bar\", \"\", \"Close\",\"5\",\"0\",\"All\",,,\"False\",\"T\",\"EveryTick\")","v":4327.25},-3.7985611510791368E-3,{"$f":"RTD(\"cqg.rtd\",,\"StudyData\", \"Close(\"&$D$12&\") when LocalYear(\"&$D$12&\")=\"&$D$9&\" and localMonth(\"&$D$12&\") =\"&$E$9&\" and LocalDay(\"&$D$12&\")=\"&$F$9&\" and Barix(\"&$D$12&\",reference:=StartOfDay)=\"&A72&\"\", \"Bar\", \"\", \"Close\",\"5\",\"0\",\"All\",,,\"False\",\"T\",\"EveryTick\")","v":4310.75},3.0248385783258683E-3,{"$f":"RTD(\"cqg.rtd\",,\"StudyData\", \"Close(\"&$D$12&\") when LocalYear(\"&$D$12&\")=\"&$D$10&\" and localMonth(\"&$D$12&\") =\"&$E$10&\" and LocalDay(\"&$D$12&\")=\"&$F$10&\" and Barix(\"&$D$12&\",reference:=StartOfDay)=\"&A72&\"\", \"Bar\", \"\", \"Close\",\"5\",\"0\",\"All\",,,\"False\",\"T\",\"EveryTick\")","v":4365},3.5059486177366514E-3,null,null,null,""]
[168,"07:00:00",-5,{"$f":" RTD(\"cqg.rtd\",,\"StudyData\", $D$12,  \"Tick\", \"FlatTicks=0\", \"Tick\",\"D\",C73,\"PrimaryOnly\")","v":4336},null,null,null,{"$f":"RTD(\"cqg.rtd\",,\"StudyData\", \"Close(\"&$D$12&\") when LocalYear(\"&$D$12&\")=\"&$D$1&\" and localMonth(\"&$D$12&\") =\"&$E$1&\" and LocalDay(\"&$D$12&\")=\"&$F$1&\" and Barix(\"&$D$12&\",reference:=StartOfDay)=\"&A73&\"\", \"Bar\", \"\", \"Close\",\"5\",\"0\",\"All\",,,\"False\",\"T\",\"EveryTick\")","v":4351.75},2.5341242872775442E-3,{"$f":"RTD(\"cqg.rtd\",,\"StudyData\", \"Close(\"&$D$12&\") when LocalYear(\"&$D$12&\")=\"&$D$2&\" and localMonth(\"&$D$12&\") =\"&$E$2&\" and LocalDay(\"&$D$12&\")=\"&$F$2&\" and Barix(\"&$D$12&\",reference:=StartOfDay)=\"&A73&\"\", \"Bar\", \"\", \"Close\",\"5\",\"0\",\"All\",,,\"False\",\"T\",\"EveryTick\")","v":4353.25},5.1712250057458055E-4,{"$f":"RTD(\"cqg.rtd\",,\"StudyData\", \"Close(\"&$D$12&\") when LocalYear(\"&$D$12&\")=\"&$D$3&\" and localMonth(\"&$D$12&\") =\"&$E$3&\" and LocalDay(\"&$D$12&\")=\"&$F$3&\" and Barix(\"&$D$12&\",reference:=StartOfDay)=\"&A73&\"\", \"Bar\", \"\", \"Close\",\"5\",\"0\",\"All\",,,\"False\",\"T\",\"EveryTick\")","v":4362.5},-4.5068172742312737E-3,{"$f":"RTD(\"cqg.rtd\",,\"StudyData\", \"Close(\"&$D$12&\") when LocalYear(\"&$D$12&\")=\"&$D$4&\" and localMonth(\"&$D$12&\") =\"&$E$4&\" and LocalDay(\"&$D$12&\")=\"&$F$4&\" and Barix(\"&$D$12&\",reference:=StartOfDay)=\"&A73&\"\", \"Bar\", \"\", \"Close\",\"5\",\"0\",\"All\",,,\"False\",\"T\",\"EveryTick\")","v":4393},6.83371298405467E-4,{"$f":"RTD(\"cqg.rtd\",,\"StudyData\", \"Close(\"&$D$12&\") when LocalYear(\"&$D$12&\")=\"&$D$5&\" and localMonth(\"&$D$12&\") =\"&$E$5&\" and LocalDay(\"&$D$12&\")=\"&$F$5&\" and Barix(\"&$D$12&\",reference:=StartOfDay)=\"&A73&\"\", \"Bar\", \"\", \"Close\",\"5\",\"0\",\"All\",,,\"False\",\"T\",\"EveryTick\")","v":4395.5},9.5314653192466701E-3,{"$f":"RTD(\"cqg.rtd\",,\"StudyData\", \"Close(\"&$D$12&\") when LocalYear(\"&$D$12&\")=\"&$D$6&\" and localMonth(\"&$D$12&\") =\"&$E$6&\" and LocalDay(\"&$D$12&\")=\"&$F$6&\" and Barix(\"&$D$12&\",reference:=StartOfDay)=\"&A73&\"\", \"Bar\", \"\", \"Close\",\"5\",\"0\",\"All\",,,\"False\",\"T\",\"EveryTick\")","v":4290.5},-1.0036917397323489E-2,{"$f":"RTD(\"cqg.rtd\",,\"StudyData\", \"Close(\"&$D$12&\") when LocalYear(\"&$D$12&\")=\"&$D$7&\" and localMonth(\"&$D$12&\") =\"&$E$7&\" and LocalDay(\"&$D$12&\")=\"&$F$7&\" and Barix(\"&$D$12&\",reference:=StartOfDay)=\"&A73&\"\", \"Bar\", \"\", \"Close\",\"5\",\"0\",\"All\",,,\"False\",\"T\",\"EveryTick\")","v":4310.75},4.5441304981066119E-3,{"$f":"RTD(\"cqg.rtd\",,\"StudyData\", \"Close(\"&$D$12&\") when LocalYear(\"&$D$12&\")=\"&$D$8&\" and localMonth(\"&$D$12&\") =\"&$E$8&\" and LocalDay(\"&$D$12&\")=\"&$F$8&\" and Barix(\"&$D$12&\",reference:=StartOfDay)=\"&A73&\"\", \"Bar\", \"\", \"Close\",\"5\",\"0\",\"All\",,,\"False\",\"T\",\"EveryTick\")","v":4327.25},-3.7985611510791368E-3,{"$f":"RTD(\"cqg.rtd\",,\"StudyData\", \"Close(\"&$D$12&\") when LocalYear(\"&$D$12&\")=\"&$D$9&\" and localMonth(\"&$D$12&\") =\"&$E$9&\" and LocalDay(\"&$D$12&\")=\"&$F$9&\" and Barix(\"&$D$12&\",reference:=StartOfDay)=\"&A73&\"\", \"Bar\", \"\", \"Close\",\"5\",\"0\",\"All\",,,\"False\",\"T\",\"EveryTick\")","v":4312},3.3156884416264323E-3,{"$f":"RTD(\"cqg.rtd\",,\"StudyData\", \"Close(\"&$D$12&\") when LocalYear(\"&$D$12&\")=\"&$D$10&\" and localMonth(\"&$D$12&\") =\"&$E$10&\" and LocalDay(\"&$D$12&\")=\"&$F$10&\" and Barix(\"&$D$12&\",reference:=StartOfDay)=\"&A73&\"\", \"Bar\", \"\", \"Close\",\"5\",\"0\",\"All\",,,\"False\",\"T\",\"EveryTick\")","v":4365},3.5059486177366514E-3,null,null,null,""]
[169,"07:05:00",-4,{"$f":" RTD(\"cqg.rtd\",,\"StudyData\", $D$12,  \"Tick\", \"FlatTicks=0\", \"Tick\",\"D\",C74,\"PrimaryOnly\")","v":4335.75},null,null,null,{"$f":"RTD(\"cqg.rtd\",,\"StudyData\", \"Close(\"&$D$12&\") when LocalYear(\"&$D$12&\")=\"&$D$1&\" and localMonth(\"&$D$12&\") =\"&$E$1&\" and LocalDay(\"&$D$12&\")=\"&$F$1&\" and Barix(\"&$D$12&\",reference:=StartOfDay)=\"&A74&\"\", \"Bar\", \"\", \"Close\",\"5\",\"0\",\"All\",,,\"False\",\"T\",\"EveryTick\")","v":4349.5},2.0157806830616827E-3,{"$f":"RTD(\"cqg.rtd\",,\"StudyData\", \"Close(\"&$D$12&\") when LocalYear(\"&$D$12&\")=\"&$D$2&\" and localMonth(\"&$D$12&\") =\"&$E$2&\" and LocalDay(\"&$D$12&\")=\"&$F$2&\" and Barix(\"&$D$12&\",reference:=StartOfDay)=\"&A74&\"\", \"Bar\", \"\", \"Close\",\"5\",\"0\",\"All\",,,\"False\",\"T\",\"EveryTick\")","v":4356.25},1.2066191680073547E-3,{"$f":"RTD(\"cqg.rtd\",,\"StudyData\", \"Close(\"&$D$12&\") when LocalYear(\"&$D$12&\")=\"&$D$3&\" and localMonth(\"&$D$12&\") =\"&$E$3&\" and LocalDay(\"&$D$12&\")=\"&$F$3&\" and Barix(\"&$D$12&\",reference:=StartOfDay)=\"&A74&\"\", \"Bar\", \"\", \"Close\",\"5\",\"0\",\"All\",,,\"False\",\"T\",\"EveryTick\")","v":4361.25},-4.7920588738661644E-3,{"$f":"RTD(\"cqg.rtd\",,\"StudyData\", \"Close(\"&$D$12&\") when LocalYear(\"&$D$12&\")=\"&$D$4&\" and localMonth(\"&$D$12&\") =\"&$E$4&\" and LocalDay(\"&$D$12&\")=\"&$F$4&\" and Barix(\"&$D$12&\",reference:=StartOfDay)=\"&A74&\"\", \"Bar\", \"\", \"Close\",\"5\",\"0\",\"All\",,,\"False\",\"T\",\"EveryTick\")","v":4394},9.1116173120728934E-4,{"$f":"RTD(\"cqg.rtd\",,\"StudyData\", \"Close(\"&$D$12&\") when LocalYear(\"&$D$12&\")=\"&$D$5&\" and localMonth(\"&$D$12&\") =\"&$E$5&\" and LocalDay(\"&$D$12&\")=\"&$F$5&\" and Barix(\"&$D$12&\",reference:=StartOfDay)=\"&A74&\"\", \"Bar\", \"\", \"Close\",\"5\",\"0\",\"All\",,,\"False\",\"T\",\"EveryTick\")","v":4394},9.1869545245751028E-3,{"$f":"RTD(\"cqg.rtd\",,\"StudyData\", \"Close(\"&$D$12&\") when LocalYear(\"&$D$12&\")=\"&$D$6&\" and localMonth(\"&$D$12&\") =\"&$E$6&\" and LocalDay(\"&$D$12&\")=\"&$F$6&\" and Barix(\"&$D$12&\",reference:=StartOfDay)=\"&A74&\"\", \"Bar\", \"\", \"Close\",\"5\",\"0\",\"All\",,,\"False\",\"T\",\"EveryTick\")","v":4290},-1.015228426395939E-2,{"$f":"RTD(\"cqg.rtd\",,\"StudyData\", \"Close(\"&$D$12&\") when LocalYear(\"&$D$12&\")=\"&$D$7&\" and localMonth(\"&$D$12&\") =\"&$E$7&\" and LocalDay(\"&$D$12&\")=\"&$F$7&\" and Barix(\"&$D$12&\",reference:=StartOfDay)=\"&A74&\"\", \"Bar\", \"\", \"Close\",\"5\",\"0\",\"All\",,,\"False\",\"T\",\"EveryTick\")","v":4310},4.3693562481794349E-3,{"$f":"RTD(\"cqg.rtd\",,\"StudyData\", \"Close(\"&$D$12&\") when LocalYear(\"&$D$12&\")=\"&$D$8&\" and localMonth(\"&$D$12&\") =\"&$E$8&\" and LocalDay(\"&$D$12&\")=\"&$F$8&\" and Barix(\"&$D$12&\",reference:=StartOfDay)=\"&A74&\"\", \"Bar\", \"\", \"Close\",\"5\",\"0\",\"All\",,,\"False\",\"T\",\"EveryTick\")","v":4330.5},-3.0503597122302157E-3,{"$f":"RTD(\"cqg.rtd\",,\"StudyData\", \"Close(\"&$D$12&\") when LocalYear(\"&$D$12&\")=\"&$D$9&\" and localMonth(\"&$D$12&\") =\"&$E$9&\" and LocalDay(\"&$D$12&\")=\"&$F$9&\" and Barix(\"&$D$12&\",reference:=StartOfDay)=\"&A74&\"\", \"Bar\", \"\", \"Close\",\"5\",\"0\",\"All\",,,\"False\",\"T\",\"EveryTick\")","v":4312.75},3.4901983596067709E-3,{"$f":"RTD(\"cqg.rtd\",,\"StudyData\", \"Close(\"&$D$12&\") when LocalYear(\"&$D$12&\")=\"&$D$10&\" and localMonth(\"&$D$12&\") =\"&$E$10&\" and LocalDay(\"&$D$12&\")=\"&$F$10&\" and Barix(\"&$D$12&\",reference:=StartOfDay)=\"&A74&\"\", \"Bar\", \"\", \"Close\",\"5\",\"0\",\"All\",,,\"False\",\"T\",\"EveryTick\")","v":4364.5},3.3909994827288925E-3,null,null,null,""]
[170,"07:10:00",-3,{"$f":" RTD(\"cqg.rtd\",,\"StudyData\", $D$12,  \"Tick\", \"FlatTicks=0\", \"Tick\",\"D\",C75,\"PrimaryOnly\")","v":4335.5},null,null,null,{"$f":"RTD(\"cqg.rtd\",,\"StudyData\", \"Close(\"&$D$12&\") when LocalYear(\"&$D$12&\")=\"&$D$1&\" and localMonth(\"&$D$12&\") =\"&$E$1&\" and LocalDay(\"&$D$12&\")=\"&$F$1&\" and Barix(\"&$D$12&\",reference:=StartOfDay)=\"&A75&\"\", \"Bar\", \"\", \"Close\",\"5\",\"0\",\"All\",,,\"False\",\"T\",\"EveryTick\")","v":4350.75},2.3037493520704946E-3,{"$f":"RTD(\"cqg.rtd\",,\"StudyData\", \"Close(\"&$D$12&\") when LocalYear(\"&$D$12&\")=\"&$D$2&\" and localMonth(\"&$D$12&\") =\"&$E$2&\" and LocalDay(\"&$D$12&\")=\"&$F$2&\" and Barix(\"&$D$12&\",reference:=StartOfDay)=\"&A75&\"\", \"Bar\", \"\", \"Close\",\"5\",\"0\",\"All\",,,\"False\",\"T\",\"EveryTick\")","v":4357},1.3789933348655481E-3,{"$f":"RTD(\"cqg.rtd\",,\"StudyData\", \"Close(\"&$D$12&\") when LocalYear(\"&$D$12&\")=\"&$D$3&\" and localMonth(\"&$D$12&\") =\"&$E$3&\" and LocalDay(\"&$D$12&\")=\"&$F$3&\" and Barix(\"&$D$12&\",reference:=StartOfDay)=\"&A75&\"\", \"Bar\", \"\", \"Close\",\"5\",\"0\",\"All\",,,\"False\",\"T\",\"EveryTick\")","v":4362.75},-4.449768954304296E-3,{"$f":"RTD(\"cqg.rtd\",,\"StudyData\", \"Close(\"&$D$12&\") when LocalYear(\"&$D$12&\")=\"&$D$4&\" and localMonth(\"&$D$12&\") =\"&$E$4&\" and LocalDay(\"&$D$12&\")=\"&$F$4&\" and Barix(\"&$D$12&\",reference:=StartOfDay)=\"&A75&\"\", \"Bar\", \"\", \"Close\",\"5\",\"0\",\"All\",,,\"False\",\"T\",\"EveryTick\")","v":4394.25},9.6810933940774484E-4,{"$f":"RTD(\"cqg.rtd\",,\"StudyData\", \"Close(\"&$D$12&\") when LocalYear(\"&$D$12&\")=\"&$D$5&\" and localMonth(\"&$D$12&\") =\"&$E$5&\" and LocalDay(\"&$D$12&\")=\"&$F$5&\" and Barix(\"&$D$12&\",reference:=StartOfDay)=\"&A75&\"\", \"Bar\", \"\", \"Close\",\"5\",\"0\",\"All\",,,\"False\",\"T\",\"EveryTick\")","v":4393.25},9.0146991272393208E-3,{"$f":"RTD(\"cqg.rtd\",,\"StudyData\", \"Close(\"&$D$12&\") when LocalYear(\"&$D$12&\")=\"&$D$6&\" and localMonth(\"&$D$12&\") =\"&$E$6&\" and LocalDay(\"&$D$12&\")=\"&$F$6&\" and Barix(\"&$D$12&\",reference:=StartOfDay)=\"&A75&\"\", \"Bar\", \"\", \"Close\",\"5\",\"0\",\"All\",,,\"False\",\"T\",\"EveryTick\")","v":4293.5},-9.3447161975080753E-3,{"$f":"RTD(\"cqg.rtd\",,\"StudyData\", \"Close(\"&$D$12&\") when LocalYear(\"&$D$12&\")=\"&$D$7&\" and localMonth(\"&$D$12&\") =\"&$E$7&\" and LocalDay(\"&$D$12&\")=\"&$F$7&\" and Barix(\"&$D$12&\",reference:=StartOfDay)=\"&A75&\"\", \"Bar\", \"\", \"Close\",\"5\",\"0\",\"All\",,,\"False\",\"T\",\"EveryTick\")","v":4311.5},4.7189047480337898E-3,{"$f":"RTD(\"cqg.rtd\",,\"StudyData\", \"Close(\"&$D$12&\") when LocalYear(\"&$D$12&\")=\"&$D$8&\" and localMonth(\"&$D$12&\") =\"&$E$8&\" and LocalDay(\"&$D$12&\")=\"&$F$8&\" and Barix(\"&$D$12&\",reference:=StartOfDay)=\"&A75&\"\", \"Bar\", \"\", \"Close\",\"5\",\"0\",\"All\",,,\"False\",\"T\",\"EveryTick\")","v":4331.75},-2.7625899280575542E-3,{"$f":"RTD(\"cqg.rtd\",,\"StudyData\", \"Close(\"&$D$12&\") when LocalYear(\"&$D$12&\")=\"&$D$9&\" and localMonth(\"&$D$12&\") =\"&$E$9&\" and LocalDay(\"&$D$12&\")=\"&$F$9&\" and Barix(\"&$D$12&\",reference:=StartOfDay)=\"&A75&\"\", \"Bar\", \"\", \"Close\",\"5\",\"0\",\"All\",,,\"False\",\"T\",\"EveryTick\")","v":4311.75},3.2575184689663194E-3,{"$f":"RTD(\"cqg.rtd\",,\"StudyData\", \"Close(\"&$D$12&\") when LocalYear(\"&$D$12&\")=\"&$D$10&\" and localMonth(\"&$D$12&\") =\"&$E$10&\" and LocalDay(\"&$D$12&\")=\"&$F$10&\" and Barix(\"&$D$12&\",reference:=StartOfDay)=\"&A75&\"\", \"Bar\", \"\", \"Close\",\"5\",\"0\",\"All\",,,\"False\",\"T\",\"EveryTick\")","v":4363},3.0461520777056153E-3,null,null,null,""]
[171,"07:15:00",-2,{"$f":" RTD(\"cqg.rtd\",,\"StudyData\", $D$12,  \"Tick\", \"FlatTicks=0\", \"Tick\",\"D\",C76,\"PrimaryOnly\")","v":4335.75},null,null,null,{"$f":"RTD(\"cqg.rtd\",,\"StudyData\", \"Close(\"&$D$12&\") when LocalYear(\"&$D$12&\")=\"&$D$1&\" and localMonth(\"&$D$12&\") =\"&$E$1&\" and LocalDay(\"&$D$12&\")=\"&$F$1&\" and Barix(\"&$D$12&\",reference:=StartOfDay)=\"&A76&\"\", \"Bar\", \"\", \"Close\",\"5\",\"0\",\"All\",,,\"False\",\"T\",\"EveryTick\")","v":4348.75},1.8429994816563959E-3,{"$f":"RTD(\"cqg.rtd\",,\"StudyData\", \"Close(\"&$D$12&\") when LocalYear(\"&$D$12&\")=\"&$D$2&\" and localMonth(\"&$D$12&\") =\"&$E$2&\" and LocalDay(\"&$D$12&\")=\"&$F$2&\" and Barix(\"&$D$12&\",reference:=StartOfDay)=\"&A76&\"\", \"Bar\", \"\", \"Close\",\"5\",\"0\",\"All\",,,\"False\",\"T\",\"EveryTick\")","v":4359},1.8386577798207308E-3,{"$f":"RTD(\"cqg.rtd\",,\"StudyData\", \"Close(\"&$D$12&\") when LocalYear(\"&$D$12&\")=\"&$D$3&\" and localMonth(\"&$D$12&\") =\"&$E$3&\" and LocalDay(\"&$D$12&\")=\"&$F$3&\" and Barix(\"&$D$12&\",reference:=StartOfDay)=\"&A76&\"\", \"Bar\", \"\", \"Close\",\"5\",\"0\",\"All\",,,\"False\",\"T\",\"EveryTick\")","v":4365},-3.9363340749614924E-3,{"$f":"RTD(\"cqg.rtd\",,\"StudyData\", \"Close(\"&$D$12&\") when LocalYear(\"&$D$12&\")=\"&$D$4&\" and localMonth(\"&$D$12&\") =\"&$E$4&\" and LocalDay(\"&$D$12&\")=\"&$F$4&\" and Barix(\"&$D$12&\",reference:=StartOfDay)=\"&A76&\"\", \"Bar\", \"\", \"Close\",\"5\",\"0\",\"All\",,,\"False\",\"T\",\"EveryTick\")","v":4395},1.1389521640091116E-3,{"$f":"RTD(\"cqg.rtd\",,\"StudyData\", \"Close(\"&$D$12&\") when LocalYear(\"&$D$12&\")=\"&$D$5&\" and localMonth(\"&$D$12&\") =\"&$E$5&\" and LocalDay(\"&$D$12&\")=\"&$F$5&\" and Barix(\"&$D$12&\",reference:=StartOfDay)=\"&A76&\"\", \"Bar\", \"\", \"Close\",\"5\",\"0\",\"All\",,,\"False\",\"T\",\"EveryTick\")","v":4393},8.9572806614607262E-3,{"$f":"RTD(\"cqg.rtd\",,\"StudyData\", \"Close(\"&$D$12&\") when LocalYear(\"&$D$12&\")=\"&$D$6&\" and localMonth(\"&$D$12&\") =\"&$E$6&\" and LocalDay(\"&$D$12&\")=\"&$F$6&\" and Barix(\"&$D$12&\",reference:=StartOfDay)=\"&A76&\"\", \"Bar\", \"\", \"Close\",\"5\",\"0\",\"All\",,,\"False\",\"T\",\"EveryTick\")","v":4287},-1.0844485463774804E-2,{"$f":"RTD(\"cqg.rtd\",,\"StudyData\", \"Close(\"&$D$12&\") when LocalYear(\"&$D$12&\")=\"&$D$7&\" and localMonth(\"&$D$12&\") =\"&$E$7&\" and LocalDay(\"&$D$12&\")=\"&$F$7&\" and Barix(\"&$D$12&\",reference:=StartOfDay)=\"&A76&\"\", \"Bar\", \"\", \"Close\",\"5\",\"0\",\"All\",,,\"False\",\"T\",\"EveryTick\")","v":4311},4.6023885814156715E-3,{"$f":"RTD(\"cqg.rtd\",,\"StudyData\", \"Close(\"&$D$12&\") when LocalYear(\"&$D$12&\")=\"&$D$8&\" and localMonth(\"&$D$12&\") =\"&$E$8&\" and LocalDay(\"&$D$12&\")=\"&$F$8&\" and Barix(\"&$D$12&\",reference:=StartOfDay)=\"&A76&\"\", \"Bar\", \"\", \"Close\",\"5\",\"0\",\"All\",,,\"False\",\"T\",\"EveryTick\")","v":4330.75},-2.9928057553956834E-3,{"$f":"RTD(\"cqg.rtd\",,\"StudyData\", \"Close(\"&$D$12&\") when LocalYear(\"&$D$12&\")=\"&$D$9&\" and localMonth(\"&$D$12&\") =\"&$E$9&\" and LocalDay(\"&$D$12&\")=\"&$F$9&\" and Barix(\"&$D$12&\",reference:=StartOfDay)=\"&A76&\"\", \"Bar\", \"\", \"Close\",\"5\",\"0\",\"All\",,,\"False\",\"T\",\"EveryTick\")","v":4318},4.7117677854691406E-3,{"$f":"RTD(\"cqg.rtd\",,\"StudyData\", \"Close(\"&$D$12&\") when LocalYear(\"&$D$12&\")=\"&$D$10&\" and localMonth(\"&$D$12&\") =\"&$E$10&\" and LocalDay(\"&$D$12&\")=\"&$F$10&\" and Barix(\"&$D$12&\",reference:=StartOfDay)=\"&A76&\"\", \"Bar\", \"\", \"Close\",\"5\",\"0\",\"All\",,,\"False\",\"T\",\"EveryTick\")","v":4363.75},3.2185757802172541E-3,null,null,null,""]
[172,"07:20:00",-1,{"$f":" RTD(\"cqg.rtd\",,\"StudyData\", $D$12,  \"Tick\", \"FlatTicks=0\", \"Tick\",\"D\",C77,\"PrimaryOnly\")","v":4336},null,null,null,{"$f":"RTD(\"cqg.rtd\",,\"StudyData\", \"Close(\"&$D$12&\") when LocalYear(\"&$D$12&\")=\"&$D$1&\" and localMonth(\"&$D$12&\") =\"&$E$1&\" and LocalDay(\"&$D$12&\")=\"&$F$1&\" and Barix(\"&$D$12&\",reference:=StartOfDay)=\"&A77&\"\", \"Bar\", \"\", \"Close\",\"5\",\"0\",\"All\",,,\"False\",\"T\",\"EveryTick\")","v":4348},1.6702182802511088E-3,{"$f":"RTD(\"cqg.rtd\",,\"StudyData\", \"Close(\"&$D$12&\") when LocalYear(\"&$D$12&\")=\"&$D$2&\" and localMonth(\"&$D$12&\") =\"&$E$2&\" and LocalDay(\"&$D$12&\")=\"&$F$2&\" and Barix(\"&$D$12&\",reference:=StartOfDay)=\"&A77&\"\", \"Bar\", \"\", \"Close\",\"5\",\"0\",\"All\",,,\"False\",\"T\",\"EveryTick\")","v":4362.75},2.7005286141116983E-3,{"$f":"RTD(\"cqg.rtd\",,\"StudyData\", \"Close(\"&$D$12&\") when LocalYear(\"&$D$12&\")=\"&$D$3&\" and localMonth(\"&$D$12&\") =\"&$E$3&\" and LocalDay(\"&$D$12&\")=\"&$F$3&\" and Barix(\"&$D$12&\",reference:=StartOfDay)=\"&A77&\"\", \"Bar\", \"\", \"Close\",\"5\",\"0\",\"All\",,,\"False\",\"T\",\"EveryTick\")","v":4366.5},-3.5940441553996235E-3,{"$f":"RTD(\"cqg.rtd\",,\"StudyData\", \"Close(\"&$D$12&\") when LocalYear(\"&$D$12&\")=\"&$D$4&\" and localMonth(\"&$D$12&\") =\"&$E$4&\" and LocalDay(\"&$D$12&\")=\"&$F$4&\" and Barix(\"&$D$12&\",reference:=StartOfDay)=\"&A77&\"\", \"Bar\", \"\", \"Close\",\"5\",\"0\",\"All\",,,\"False\",\"T\",\"EveryTick\")","v":4399.75},2.2209567198177675E-3,{"$f":"RTD(\"cqg.rtd\",,\"StudyData\", \"Close(\"&$D$12&\") when LocalYear(\"&$D$12&\")=\"&$D$5&\" and localMonth(\"&$D$12&\") =\"&$E$5&\" and LocalDay(\"&$D$12&\")=\"&$F$5&\" and Barix(\"&$D$12&\",reference:=StartOfDay)=\"&A77&\"\", \"Bar\", \"\", \"Close\",\"5\",\"0\",\"All\",,,\"False\",\"T\",\"EveryTick\")","v":4393.5},9.0721175930179154E-3,{"$f":"RTD(\"cqg.rtd\",,\"StudyData\", \"Close(\"&$D$12&\") when LocalYear(\"&$D$12&\")=\"&$D$6&\" and localMonth(\"&$D$12&\") =\"&$E$6&\" and LocalDay(\"&$D$12&\")=\"&$F$6&\" and Barix(\"&$D$12&\",reference:=StartOfDay)=\"&A77&\"\", \"Bar\", \"\", \"Close\",\"5\",\"0\",\"All\",,,\"False\",\"T\",\"EveryTick\")","v":4293.5},-9.3447161975080753E-3,{"$f":"RTD(\"cqg.rtd\",,\"StudyData\", \"Close(\"&$D$12&\") when LocalYear(\"&$D$12&\")=\"&$D$7&\" and localMonth(\"&$D$12&\") =\"&$E$7&\" and LocalDay(\"&$D$12&\")=\"&$F$7&\" and Barix(\"&$D$12&\",reference:=StartOfDay)=\"&A77&\"\", \"Bar\", \"\", \"Close\",\"5\",\"0\",\"All\",,,\"False\",\"T\",\"EveryTick\")","v":4309},4.1363239149431984E-3,{"$f":"RTD(\"cqg.rtd\",,\"StudyData\", \"Close(\"&$D$12&\") when LocalYear(\"&$D$12&\")=\"&$D$8&\" and localMonth(\"&$D$12&\") =\"&$E$8&\" and LocalDay(\"&$D$12&\")=\"&$F$8&\" and Barix(\"&$D$12&\",reference:=StartOfDay)=\"&A77&\"\", \"Bar\", \"\", \"Close\",\"5\",\"0\",\"All\",,,\"False\",\"T\",\"EveryTick\")","v":4330.5},-3.0503597122302157E-3,{"$f":"RTD(\"cqg.rtd\",,\"StudyData\", \"Close(\"&$D$12&\") when LocalYear(\"&$D$12&\")=\"&$D$9&\" and localMonth(\"&$D$12&\") =\"&$E$9&\" and LocalDay(\"&$D$12&\")=\"&$F$9&\" and Barix(\"&$D$12&\",reference:=StartOfDay)=\"&A77&\"\", \"Bar\", \"\", \"Close\",\"5\",\"0\",\"All\",,,\"False\",\"T\",\"EveryTick\")","v":4315.25},4.0718980862078993E-3,{"$f":"RTD(\"cqg.rtd\",,\"StudyData\", \"Close(\"&$D$12&\") when LocalYear(\"&$D$12&\")=\"&$D$10&\" and localMonth(\"&$D$12&\") =\"&$E$10&\" and LocalDay(\"&$D$12&\")=\"&$F$10&\" and Barix(\"&$D$12&\",reference:=StartOfDay)=\"&A77&\"\", \"Bar\", \"\", \"Close\",\"5\",\"0\",\"All\",,,\"False\",\"T\",\"EveryTick\")","v":4365},3.5059486177366514E-3,null,null,null,""]
[{"$f":"A77+1","v":173},"07:25:00",0,{"$f":" RTD(\"cqg.rtd\",,\"StudyData\", $D$12,  \"Tick\", \"FlatTicks=0\", \"Tick\",\"D\",C78,\"PrimaryOnly\")","v":4335.75},null,null,null,{"$f":"RTD(\"cqg.rtd\",,\"StudyData\", \"Close(\"&$D$12&\") when LocalYear(\"&$D$12&\")=\"&$D$1&\" and localMonth(\"&$D$12&\") =\"&$E$1&\" and LocalDay(\"&$D$12&\")=\"&$F$1&\" and Barix(\"&$D$12&\",reference:=StartOfDay)=\"&A78&\"\", \"Bar\", \"\", \"Close\",\"5\",\"0\",\"All\",,,\"False\",\"T\",\"EveryTick\")","v":4348.5},1.7854057478546334E-3,{"$f":"RTD(\"cqg.rtd\",,\"StudyData\", \"Close(\"&$D$12&\") when LocalYear(\"&$D$12&\")=\"&$D$2&\" and localMonth(\"&$D$12&\") =\"&$E$2&\" and LocalDay(\"&$D$12&\")=\"&$F$2&\" and Barix(\"&$D$12&\",reference:=StartOfDay)=\"&A78&\"\", \"Bar\", \"\", \"Close\",\"5\",\"0\",\"All\",,,\"False\",\"T\",\"EveryTick\")","v":4364.5},3.1027350034474833E-3,{"$f":"RTD(\"cqg.rtd\",,\"StudyData\", \"Close(\"&$D$12&\") when LocalYear(\"&$D$12&\")=\"&$D$3&\" and localMonth(\"&$D$12&\") =\"&$E$3&\" and LocalDay(\"&$D$12&\")=\"&$F$3&\" and Barix(\"&$D$12&\",reference:=StartOfDay)=\"&A78&\"\", \"Bar\", \"\", \"Close\",\"5\",\"0\",\"All\",,,\"False\",\"T\",\"EveryTick\")","v":4367},-3.4799475155456671E-3,{"$f":"RTD(\"cqg.rtd\",,\"StudyData\", \"Close(\"&$D$12&\") when LocalYear(\"&$D$12&\")=\"&$D$4&\" and localMonth(\"&$D$12&\") =\"&$E$4&\" and LocalDay(\"&$D$12&\")=\"&$F$4&\" and Barix(\"&$D$12&\",reference:=StartOfDay)=\"&A78&\"\", \"Bar\", \"\", \"Close\",\"5\",\"0\",\"All\",,,\"False\",\"T\",\"EveryTick\")","v":4398},1.8223234624145787E-3,{"$f":"RTD(\"cqg.rtd\",,\"StudyData\", \"Close(\"&$D$12&\") when LocalYear(\"&$D$12&\")=\"&$D$5&\" and localMonth(\"&$D$12&\") =\"&$E$5&\" and LocalDay(\"&$D$12&\")=\"&$F$5&\" and Barix(\"&$D$12&\",reference:=StartOfDay)=\"&A78&\"\", \"Bar\", \"\", \"Close\",\"5\",\"0\",\"All\",,,\"False\",\"T\",\"EveryTick\")","v":4393.75},9.1295360587965082E-3,{"$f":"RTD(\"cqg.rtd\",,\"StudyData\", \"Close(\"&$D$12&\") when LocalYear(\"&$D$12&\")=\"&$D$6&\" and localMonth(\"&$D$12&\") =\"&$E$6&\" and LocalDay(\"&$D$12&\")=\"&$F$6&\" and Barix(\"&$D$12&\",reference:=StartOfDay)=\"&A78&\"\", \"Bar\", \"\", \"Close\",\"5\",\"0\",\"All\",,,\"False\",\"T\",\"EveryTick\")","v":4298.25},-8.2487309644670055E-3,{"$f":"RTD(\"cqg.rtd\",,\"StudyData\", \"Close(\"&$D$12&\") when LocalYear(\"&$D$12&\")=\"&$D$7&\" and localMonth(\"&$D$12&\") =\"&$E$7&\" and LocalDay(\"&$D$12&\")=\"&$F$7&\" and Barix(\"&$D$12&\",reference:=StartOfDay)=\"&A78&\"\", \"Bar\", \"\", \"Close\",\"5\",\"0\",\"All\",,,\"False\",\"T\",\"EveryTick\")","v":4308.75},4.0780658316341397E-3,{"$f":"RTD(\"cqg.rtd\",,\"StudyData\", \"Close(\"&$D$12&\") when LocalYear(\"&$D$12&\")=\"&$D$8&\" and localMonth(\"&$D$12&\") =\"&$E$8&\" and LocalDay(\"&$D$12&\")=\"&$F$8&\" and Barix(\"&$D$12&\",reference:=StartOfDay)=\"&A78&\"\", \"Bar\", \"\", \"Close\",\"5\",\"0\",\"All\",,,\"False\",\"T\",\"EveryTick\")","v":4331.5},-2.8201438848920865E-3,{"$f":"RTD(\"cqg.rtd\",,\"StudyData\", \"Close(\"&$D$12&\") when LocalYear(\"&$D$12&\")=\"&$D$9&\" and localMonth(\"&$D$12&\") =\"&$E$9&\" and LocalDay(\"&$D$12&\")=\"&$F$9&\" and Barix(\"&$D$12&\",reference:=StartOfDay)=\"&A78&\"\", \"Bar\", \"\", \"Close\",\"5\",\"0\",\"All\",,,\"False\",\"T\",\"EveryTick\")","v":4319.25},5.0026176487697055E-3,{"$f":"RTD(\"cqg.rtd\",,\"StudyData\", \"Close(\"&$D$12&\") when LocalYear(\"&$D$12&\")=\"&$D$10&\" and localMonth(\"&$D$12&\") =\"&$E$10&\" and LocalDay(\"&$D$12&\")=\"&$F$10&\" and Barix(\"&$D$12&\",reference:=StartOfDay)=\"&A78&\"\", \"Bar\", \"\", \"Close\",\"5\",\"0\",\"All\",,,\"False\",\"T\",\"EveryTick\")","v":4365.25},3.5634231852405313E-3,null,null,null,""]
[174,"07:30:00",null,null,null,null,null,{"$f":"RTD(\"cqg.rtd\",,\"StudyData\", \"Close(\"&$D$12&\") when LocalYear(\"&$D$12&\")=\"&$D$1&\" and localMonth(\"&$D$12&\") =\"&$E$1&\" and LocalDay(\"&$D$12&\")=\"&$F$1&\" and Barix(\"&$D$12&\",reference:=StartOfDay)=\"&A79&\"\", \"Bar\", \"\", \"Close\",\"5\",\"0\",\"All\",,,\"False\",\"T\",\"EveryTick\")","v":4341.75},2.3037493520704948E-4,{"$f":"RTD(\"cqg.rtd\",,\"StudyData\", \"Close(\"&$D$12&\") when LocalYear(\"&$D$12&\")=\"&$D$2&\" and localMonth(\"&$D$12&\") =\"&$E$2&\" and LocalDay(\"&$D$12&\")=\"&$F$2&\" and Barix(\"&$D$12&\",reference:=StartOfDay)=\"&A79&\"\", \"Bar\", \"\", \"Close\",\"5\",\"0\",\"All\",,,\"False\",\"T\",\"EveryTick\")","v":4362},2.528154447253505E-3,{"$f":"RTD(\"cqg.rtd\",,\"StudyData\", \"Close(\"&$D$12&\") when LocalYear(\"&$D$12&\")=\"&$D$3&\" and localMonth(\"&$D$12&\") =\"&$E$3&\" and LocalDay(\"&$D$12&\")=\"&$F$3&\" and Barix(\"&$D$12&\",reference:=StartOfDay)=\"&A79&\"\", \"Bar\", \"\", \"Close\",\"5\",\"0\",\"All\",,,\"False\",\"T\",\"EveryTick\")","v":4370.25},-2.7383193564949511E-3,{"$f":"RTD(\"cqg.rtd\",,\"StudyData\", \"Close(\"&$D$12&\") when LocalYear(\"&$D$12&\")=\"&$D$4&\" and localMonth(\"&$D$12&\") =\"&$E$4&\" and LocalDay(\"&$D$12&\")=\"&$F$4&\" and Barix(\"&$D$12&\",reference:=StartOfDay)=\"&A79&\"\", \"Bar\", \"\", \"Close\",\"5\",\"0\",\"All\",,,\"False\",\"T\",\"EveryTick\")","v":4389.5},-1.1389521640091117E-4,{"$f":"RTD(\"cqg.rtd\",,\"StudyData\", \"Close(\"&$D$12&\") when LocalYear(\"&$D$12&\")=\"&$D$5&\" and localMonth(\"&$D$12&\") =\"&$E$5&\" and LocalDay(\"&$D$12&\")=\"&$F$5&\" and Barix(\"&$D$12&\",reference:=StartOfDay)=\"&A79&\"\", \"Bar\", \"\", \"Close\",\"5\",\"0\",\"All\",,,\"False\",\"T\",\"EveryTick\")","v":4393},8.9572806614607262E-3,{"$f":"RTD(\"cqg.rtd\",,\"StudyData\", \"Close(\"&$D$12&\") when LocalYear(\"&$D$12&\")=\"&$D$6&\" and localMonth(\"&$D$12&\") =\"&$E$6&\" and LocalDay(\"&$D$12&\")=\"&$F$6&\" and Barix(\"&$D$12&\",reference:=StartOfDay)=\"&A79&\"\", \"Bar\", \"\", \"Close\",\"5\",\"0\",\"All\",,,\"False\",\"T\",\"EveryTick\")","v":4298},-8.3064143977849558E-3,{"$f":"RTD(\"cqg.rtd\",,\"StudyData\", \"Close(\"&$D$12&\") when LocalYear(\"&$D$12&\")=\"&$D$7&\" and localMonth(\"&$D$12&\") =\"&$E$7&\" and LocalDay(\"&$D$12&\")=\"&$F$7&\" and Barix(\"&$D$12&\",reference:=StartOfDay)=\"&A79&\"\", \"Bar\", \"\", \"Close\",\"5\",\"0\",\"All\",,,\"False\",\"T\",\"EveryTick\")","v":4308.75},4.0780658316341397E-3,{"$f":"RTD(\"cqg.rtd\",,\"StudyData\", \"Close(\"&$D$12&\") when LocalYear(\"&$D$12&\")=\"&$D$8&\" and localMonth(\"&$D$12&\") =\"&$E$8&\" and LocalDay(\"&$D$12&\")=\"&$F$8&\" and Barix(\"&$D$12&\",reference:=StartOfDay)=\"&A79&\"\", \"Bar\", \"\", \"Close\",\"5\",\"0\",\"All\",,,\"False\",\"T\",\"EveryTick\")","v":4329},-3.3956834532374099E-3,{"$f":"RTD(\"cqg.rtd\",,\"StudyData\", \"Close(\"&$D$12&\") when LocalYear(\"&$D$12&\")=\"&$D$9&\" and localMonth(\"&$D$12&\") =\"&$E$9&\" and LocalDay(\"&$D$12&\")=\"&$F$9&\" and Barix(\"&$D$12&\",reference:=StartOfDay)=\"&A79&\"\", \"Bar\", \"\", \"Close\",\"5\",\"0\",\"All\",,,\"False\",\"T\",\"EveryTick\")","v":4311.75},3.2575184689663194E-3,{"$f":"RTD(\"cqg.rtd\",,\"StudyData\", \"Close(\"&$D$12&\") when LocalYear(\"&$D$12&\")=\"&$D$10&\" and localMonth(\"&$D$12&\") =\"&$E$10&\" and LocalDay(\"&$D$12&\")=\"&$F$10&\" and Barix(\"&$D$12&\",reference:=StartOfDay)=\"&A79&\"\", \"Bar\", \"\", \"Close\",\"5\",\"0\",\"All\",,,\"False\",\"T\",\"EveryTick\")","v":4367.5},4.0806942927754473E-3,null,null,null,""]
[175,"07:35:00",null,null,null,null,null,{"$f":"RTD(\"cqg.rtd\",,\"StudyData\", \"Close(\"&$D$12&\") when LocalYear(\"&$D$12&\")=\"&$D$1&\" and localMonth(\"&$D$12&\") =\"&$E$1&\" and LocalDay(\"&$D$12&\")=\"&$F$1&\" and Barix(\"&$D$12&\",reference:=StartOfDay)=\"&A80&\"\", \"Bar\", \"\", \"Close\",\"5\",\"0\",\"All\",,,\"False\",\"T\",\"EveryTick\")","v":4340.5},-5.7593733801762371E-5,{"$f":"RTD(\"cqg.rtd\",,\"StudyData\", \"Close(\"&$D$12&\") when LocalYear(\"&$D$12&\")=\"&$D$2&\" and localMonth(\"&$D$12&\") =\"&$E$2&\" and LocalDay(\"&$D$12&\")=\"&$F$2&\" and Barix(\"&$D$12&\",reference:=StartOfDay)=\"&A80&\"\", \"Bar\", \"\", \"Close\",\"5\",\"0\",\"All\",,,\"False\",\"T\",\"EveryTick\")","v":4360},2.0684900022983222E-3,{"$f":"RTD(\"cqg.rtd\",,\"StudyData\", \"Close(\"&$D$12&\") when LocalYear(\"&$D$12&\")=\"&$D$3&\" and localMonth(\"&$D$12&\") =\"&$E$3&\" and LocalDay(\"&$D$12&\")=\"&$F$3&\" and Barix(\"&$D$12&\",reference:=StartOfDay)=\"&A80&\"\", \"Bar\", \"\", \"Close\",\"5\",\"0\",\"All\",,,\"False\",\"T\",\"EveryTick\")","v":4373.5},-1.9966911974442351E-3,{"$f":"RTD(\"cqg.rtd\",,\"StudyData\", \"Close(\"&$D$12&\") when LocalYear(\"&$D$12&\")=\"&$D$4&\" and localMonth(\"&$D$12&\") =\"&$E$4&\" and LocalDay(\"&$D$12&\")=\"&$F$4&\" and Barix(\"&$D$12&\",reference:=StartOfDay)=\"&A80&\"\", \"Bar\", \"\", \"Close\",\"5\",\"0\",\"All\",,,\"False\",\"T\",\"EveryTick\")","v":4405},3.4168564920273349E-3,{"$f":"RTD(\"cqg.rtd\",,\"StudyData\", \"Close(\"&$D$12&\") when LocalYear(\"&$D$12&\")=\"&$D$5&\" and localMonth(\"&$D$12&\") =\"&$E$5&\" and LocalDay(\"&$D$12&\")=\"&$F$5&\" and Barix(\"&$D$12&\",reference:=StartOfDay)=\"&A80&\"\", \"Bar\", \"\", \"Close\",\"5\",\"0\",\"All\",,,\"False\",\"T\",\"EveryTick\")","v":4394.75},9.3592099219108865E-3,{"$f":"RTD(\"cqg.rtd\",,\"StudyData\", \"Close(\"&$D$12&\") when LocalYear(\"&$D$12&\")=\"&$D$6&\" and localMonth(\"&$D$12&\") =\"&$E$6&\" and LocalDay(\"&$D$12&\")=\"&$F$6&\" and Barix(\"&$D$12&\",reference:=StartOfDay)=\"&A80&\"\", \"Bar\", \"\", \"Close\",\"5\",\"0\",\"All\",,,\"False\",\"T\",\"EveryTick\")","v":4296.5},-8.6525149976926629E-3,{"$f":"RTD(\"cqg.rtd\",,\"StudyData\", \"Close(\"&$D$12&\") when LocalYear(\"&$D$12&\")=\"&$D$7&\" and localMonth(\"&$D$12&\") =\"&$E$7&\" and LocalDay(\"&$D$12&\")=\"&$F$7&\" and Barix(\"&$D$12&\",reference:=StartOfDay)=\"&A80&\"\", \"Bar\", \"\", \"Close\",\"5\",\"0\",\"All\",,,\"False\",\"T\",\"EveryTick\")","v":4310.75},4.5441304981066119E-3,{"$f":"RTD(\"cqg.rtd\",,\"StudyData\", \"Close(\"&$D$12&\") when LocalYear(\"&$D$12&\")=\"&$D$8&\" and localMonth(\"&$D$12&\") =\"&$E$8&\" and LocalDay(\"&$D$12&\")=\"&$F$8&\" and Barix(\"&$D$12&\",reference:=StartOfDay)=\"&A80&\"\", \"Bar\", \"\", \"Close\",\"5\",\"0\",\"All\",,,\"False\",\"T\",\"EveryTick\")","v":4332.25},-2.6474820143884891E-3,{"$f":"RTD(\"cqg.rtd\",,\"StudyData\", \"Close(\"&$D$12&\") when LocalYear(\"&$D$12&\")=\"&$D$9&\" and localMonth(\"&$D$12&\") =\"&$E$9&\" and LocalDay(\"&$D$12&\")=\"&$F$9&\" and Barix(\"&$D$12&\",reference:=StartOfDay)=\"&A80&\"\", \"Bar\", \"\", \"Close\",\"5\",\"0\",\"All\",,,\"False\",\"T\",\"EveryTick\")","v":4306.5},2.0359490431039497E-3,{"$f":"RTD(\"cqg.rtd\",,\"StudyData\", \"Close(\"&$D$12&\") when LocalYear(\"&$D$12&\")=\"&$D$10&\" and localMonth(\"&$D$12&\") =\"&$E$10&\" and LocalDay(\"&$D$12&\")=\"&$F$10&\" and Barix(\"&$D$12&\",reference:=StartOfDay)=\"&A80&\"\", \"Bar\", \"\", \"Close\",\"5\",\"0\",\"All\",,,\"False\",\"T\",\"EveryTick\")","v":4365},3.5059486177366514E-3,null,null,null,""]
[176,"07:40:00",null,null,null,null,null,{"$f":"RTD(\"cqg.rtd\",,\"StudyData\", \"Close(\"&$D$12&\") when LocalYear(\"&$D$12&\")=\"&$D$1&\" and localMonth(\"&$D$12&\") =\"&$E$1&\" and LocalDay(\"&$D$12&\")=\"&$F$1&\" and Barix(\"&$D$12&\",reference:=StartOfDay)=\"&A81&\"\", \"Bar\", \"\", \"Close\",\"5\",\"0\",\"All\",,,\"False\",\"T\",\"EveryTick\")","v":4335},-1.3246558774405344E-3,{"$f":"RTD(\"cqg.rtd\",,\"StudyData\", \"Close(\"&$D$12&\") when LocalYear(\"&$D$12&\")=\"&$D$2&\" and localMonth(\"&$D$12&\") =\"&$E$2&\" and LocalDay(\"&$D$12&\")=\"&$F$2&\" and Barix(\"&$D$12&\",reference:=StartOfDay)=\"&A81&\"\", \"Bar\", \"\", \"Close\",\"5\",\"0\",\"All\",,,\"False\",\"T\",\"EveryTick\")","v":4357.5},1.4939094461043439E-3,{"$f":"RTD(\"cqg.rtd\",,\"StudyData\", \"Close(\"&$D$12&\") when LocalYear(\"&$D$12&\")=\"&$D$3&\" and localMonth(\"&$D$12&\") =\"&$E$3&\" and LocalDay(\"&$D$12&\")=\"&$F$3&\" and Barix(\"&$D$12&\",reference:=StartOfDay)=\"&A81&\"\", \"Bar\", \"\", \"Close\",\"5\",\"0\",\"All\",,,\"False\",\"T\",\"EveryTick\")","v":4372.75},-2.1678361572251698E-3,{"$f":"RTD(\"cqg.rtd\",,\"StudyData\", \"Close(\"&$D$12&\") when LocalYear(\"&$D$12&\")=\"&$D$4&\" and localMonth(\"&$D$12&\") =\"&$E$4&\" and LocalDay(\"&$D$12&\")=\"&$F$4&\" and Barix(\"&$D$12&\",reference:=StartOfDay)=\"&A81&\"\", \"Bar\", \"\", \"Close\",\"5\",\"0\",\"All\",,,\"False\",\"T\",\"EveryTick\")","v":4394.75},1.082004555808656E-3,{"$f":"RTD(\"cqg.rtd\",,\"StudyData\", \"Close(\"&$D$12&\") when LocalYear(\"&$D$12&\")=\"&$D$5&\" and localMonth(\"&$D$12&\") =\"&$E$5&\" and LocalDay(\"&$D$12&\")=\"&$F$5&\" and Barix(\"&$D$12&\",reference:=StartOfDay)=\"&A81&\"\", \"Bar\", \"\", \"Close\",\"5\",\"0\",\"All\",,,\"False\",\"T\",\"EveryTick\")","v":4397.25},9.9333945796968304E-3,{"$f":"RTD(\"cqg.rtd\",,\"StudyData\", \"Close(\"&$D$12&\") when LocalYear(\"&$D$12&\")=\"&$D$6&\" and localMonth(\"&$D$12&\") =\"&$E$6&\" and LocalDay(\"&$D$12&\")=\"&$F$6&\" and Barix(\"&$D$12&\",reference:=StartOfDay)=\"&A81&\"\", \"Bar\", \"\", \"Close\",\"5\",\"0\",\"All\",,,\"False\",\"T\",\"EveryTick\")","v":4299.5},-7.9603137978772505E-3,{"$f":"RTD(\"cqg.rtd\",,\"StudyData\", \"Close(\"&$D$12&\") when LocalYear(\"&$D$12&\")=\"&$D$7&\" and localMonth(\"&$D$12&\") =\"&$E$7&\" and LocalDay(\"&$D$12&\")=\"&$F$7&\" and Barix(\"&$D$12&\",reference:=StartOfDay)=\"&A81&\"\", \"Bar\", \"\", \"Close\",\"5\",\"0\",\"All\",,,\"False\",\"T\",\"EveryTick\")","v":4311.5},4.7189047480337898E-3,{"$f":"RTD(\"cqg.rtd\",,\"StudyData\", \"Close(\"&$D$12&\") when LocalYear(\"&$D$12&\")=\"&$D$8&\" and localMonth(\"&$D$12&\") =\"&$E$8&\" and LocalDay(\"&$D$12&\")=\"&$F$8&\" and Barix(\"&$D$12&\",reference:=StartOfDay)=\"&A81&\"\", \"Bar\", \"\", \"Close\",\"5\",\"0\",\"All\",,,\"False\",\"T\",\"EveryTick\")","v":4335.75},-1.8417266187050359E-3,{"$f":"RTD(\"cqg.rtd\",,\"StudyData\", \"Close(\"&$D$12&\") when LocalYear(\"&$D$12&\")=\"&$D$9&\" and localMonth(\"&$D$12&\") =\"&$E$9&\" and LocalDay(\"&$D$12&\")=\"&$F$9&\" and Barix(\"&$D$12&\",reference:=StartOfDay)=\"&A81&\"\", \"Bar\", \"\", \"Close\",\"5\",\"0\",\"All\",,,\"False\",\"T\",\"EveryTick\")","v":4306.75},2.0941190157640626E-3,{"$f":"RTD(\"cqg.rtd\",,\"StudyData\", \"Close(\"&$D$12&\") when LocalYear(\"&$D$12&\")=\"&$D$10&\" and localMonth(\"&$D$12&\") =\"&$E$10&\" and LocalDay(\"&$D$12&\")=\"&$F$10&\" and Barix(\"&$D$12&\",reference:=StartOfDay)=\"&A81&\"\", \"Bar\", \"\", \"Close\",\"5\",\"0\",\"All\",,,\"False\",\"T\",\"EveryTick\")","v":4366},3.7358468877521697E-3,null,null,null,""]
[177,"07:45:00",null,null,null,null,null,{"$f":"RTD(\"cqg.rtd\",,\"StudyData\", \"Close(\"&$D$12&\") when LocalYear(\"&$D$12&\")=\"&$D$1&\" and localMonth(\"&$D$12&\") =\"&$E$1&\" and LocalDay(\"&$D$12&\")=\"&$F$1&\" and Barix(\"&$D$12&\",reference:=StartOfDay)=\"&A82&\"\", \"Bar\", \"\", \"Close\",\"5\",\"0\",\"All\",,,\"False\",\"T\",\"EveryTick\")","v":4336},-1.094280942233485E-3,{"$f":"RTD(\"cqg.rtd\",,\"StudyData\", \"Close(\"&$D$12&\") when LocalYear(\"&$D$12&\")=\"&$D$2&\" and localMonth(\"&$D$12&\") =\"&$E$2&\" and LocalDay(\"&$D$12&\")=\"&$F$2&\" and Barix(\"&$D$12&\",reference:=StartOfDay)=\"&A82&\"\", \"Bar\", \"\", \"Close\",\"5\",\"0\",\"All\",,,\"False\",\"T\",\"EveryTick\")","v":4354.5},8.0441277867156972E-4,{"$f":"RTD(\"cqg.rtd\",,\"StudyData\", \"Close(\"&$D$12&\") when LocalYear(\"&$D$12&\")=\"&$D$3&\" and localMonth(\"&$D$12&\") =\"&$E$3&\" and LocalDay(\"&$D$12&\")=\"&$F$3&\" and Barix(\"&$D$12&\",reference:=StartOfDay)=\"&A82&\"\", \"Bar\", \"\", \"Close\",\"5\",\"0\",\"All\",,,\"False\",\"T\",\"EveryTick\")","v":4371.5},-2.4530777568600604E-3,{"$f":"RTD(\"cqg.rtd\",,\"StudyData\", \"Close(\"&$D$12&\") when LocalYear(\"&$D$12&\")=\"&$D$4&\" and localMonth(\"&$D$12&\") =\"&$E$4&\" and LocalDay(\"&$D$12&\")=\"&$F$4&\" and Barix(\"&$D$12&\",reference:=StartOfDay)=\"&A82&\"\", \"Bar\", \"\", \"Close\",\"5\",\"0\",\"All\",,,\"False\",\"T\",\"EveryTick\")","v":4387.5},-5.6947608200455578E-4,{"$f":"RTD(\"cqg.rtd\",,\"StudyData\", \"Close(\"&$D$12&\") when LocalYear(\"&$D$12&\")=\"&$D$5&\" and localMonth(\"&$D$12&\") =\"&$E$5&\" and LocalDay(\"&$D$12&\")=\"&$F$5&\" and Barix(\"&$D$12&\",reference:=StartOfDay)=\"&A82&\"\", \"Bar\", \"\", \"Close\",\"5\",\"0\",\"All\",,,\"False\",\"T\",\"EveryTick\")","v":4396},9.6463022508038593E-3,{"$f":"RTD(\"cqg.rtd\",,\"StudyData\", \"Close(\"&$D$12&\") when LocalYear(\"&$D$12&\")=\"&$D$6&\" and localMonth(\"&$D$12&\") =\"&$E$6&\" and LocalDay(\"&$D$12&\")=\"&$F$6&\" and Barix(\"&$D$12&\",reference:=StartOfDay)=\"&A82&\"\", \"Bar\", \"\", \"Close\",\"5\",\"0\",\"All\",,,\"False\",\"T\",\"EveryTick\")","v":4298},-8.3064143977849558E-3,{"$f":"RTD(\"cqg.rtd\",,\"StudyData\", \"Close(\"&$D$12&\") when LocalYear(\"&$D$12&\")=\"&$D$7&\" and localMonth(\"&$D$12&\") =\"&$E$7&\" and LocalDay(\"&$D$12&\")=\"&$F$7&\" and Barix(\"&$D$12&\",reference:=StartOfDay)=\"&A82&\"\", \"Bar\", \"\", \"Close\",\"5\",\"0\",\"All\",,,\"False\",\"T\",\"EveryTick\")","v":4310.5},4.4858724147975532E-3,{"$f":"RTD(\"cqg.rtd\",,\"StudyData\", \"Close(\"&$D$12&\") when LocalYear(\"&$D$12&\")=\"&$D$8&\" and localMonth(\"&$D$12&\") =\"&$E$8&\" and LocalDay(\"&$D$12&\")=\"&$F$8&\" and Barix(\"&$D$12&\",reference:=StartOfDay)=\"&A82&\"\", \"Bar\", \"\", \"Close\",\"5\",\"0\",\"All\",,,\"False\",\"T\",\"EveryTick\")","v":4339.25},-1.0359712230215827E-3,{"$f":"RTD(\"cqg.rtd\",,\"StudyData\", \"Close(\"&$D$12&\") when LocalYear(\"&$D$12&\")=\"&$D$9&\" and localMonth(\"&$D$12&\") =\"&$E$9&\" and LocalDay(\"&$D$12&\")=\"&$F$9&\" and Barix(\"&$D$12&\",reference:=StartOfDay)=\"&A82&\"\", \"Bar\", \"\", \"Close\",\"5\",\"0\",\"All\",,,\"False\",\"T\",\"EveryTick\")","v":4306.75},2.0941190157640626E-3,{"$f":"RTD(\"cqg.rtd\",,\"StudyData\", \"Close(\"&$D$12&\") when LocalYear(\"&$D$12&\")=\"&$D$10&\" and localMonth(\"&$D$12&\") =\"&$E$10&\" and LocalDay(\"&$D$12&\")=\"&$F$10&\" and Barix(\"&$D$12&\",reference:=StartOfDay)=\"&A82&\"\", \"Bar\", \"\", \"Close\",\"5\",\"0\",\"All\",,,\"False\",\"T\",\"EveryTick\")","v":4366.75},3.9082705902638085E-3,null,null,null,""]
[178,"07:50:00",null,null,null,null,null,{"$f":"RTD(\"cqg.rtd\",,\"StudyData\", \"Close(\"&$D$12&\") when LocalYear(\"&$D$12&\")=\"&$D$1&\" and localMonth(\"&$D$12&\") =\"&$E$1&\" and LocalDay(\"&$D$12&\")=\"&$F$1&\" and Barix(\"&$D$12&\",reference:=StartOfDay)=\"&A83&\"\", \"Bar\", \"\", \"Close\",\"5\",\"0\",\"All\",,,\"False\",\"T\",\"EveryTick\")","v":4340.75},0,{"$f":"RTD(\"cqg.rtd\",,\"StudyData\", \"Close(\"&$D$12&\") when LocalYear(\"&$D$12&\")=\"&$D$2&\" and localMonth(\"&$D$12&\") =\"&$E$2&\" and LocalDay(\"&$D$12&\")=\"&$F$2&\" and Barix(\"&$D$12&\",reference:=StartOfDay)=\"&A83&\"\", \"Bar\", \"\", \"Close\",\"5\",\"0\",\"All\",,,\"False\",\"T\",\"EveryTick\")","v":4356.25},1.2066191680073547E-3,{"$f":"RTD(\"cqg.rtd\",,\"StudyData\", \"Close(\"&$D$12&\") when LocalYear(\"&$D$12&\")=\"&$D$3&\" and localMonth(\"&$D$12&\") =\"&$E$3&\" and LocalDay(\"&$D$12&\")=\"&$F$3&\" and Barix(\"&$D$12&\",reference:=StartOfDay)=\"&A83&\"\", \"Bar\", \"\", \"Close\",\"5\",\"0\",\"All\",,,\"False\",\"T\",\"EveryTick\")","v":4371.25},-2.5101260767870386E-3,{"$f":"RTD(\"cqg.rtd\",,\"StudyData\", \"Close(\"&$D$12&\") when LocalYear(\"&$D$12&\")=\"&$D$4&\" and localMonth(\"&$D$12&\") =\"&$E$4&\" and LocalDay(\"&$D$12&\")=\"&$F$4&\" and Barix(\"&$D$12&\",reference:=StartOfDay)=\"&A83&\"\", \"Bar\", \"\", \"Close\",\"5\",\"0\",\"All\",,,\"False\",\"T\",\"EveryTick\")","v":4393.25},7.4031890660592251E-4,{"$f":"RTD(\"cqg.rtd\",,\"StudyData\", \"Close(\"&$D$12&\") when LocalYear(\"&$D$12&\")=\"&$D$5&\" and localMonth(\"&$D$12&\") =\"&$E$5&\" and LocalDay(\"&$D$12&\")=\"&$F$5&\" and Barix(\"&$D$12&\",reference:=StartOfDay)=\"&A83&\"\", \"Bar\", \"\", \"Close\",\"5\",\"0\",\"All\",,,\"False\",\"T\",\"EveryTick\")","v":4396},9.6463022508038593E-3,{"$f":"RTD(\"cqg.rtd\",,\"StudyData\", \"Close(\"&$D$12&\") when LocalYear(\"&$D$12&\")=\"&$D$6&\" and localMonth(\"&$D$12&\") =\"&$E$6&\" and LocalDay(\"&$D$12&\")=\"&$F$6&\" and Barix(\"&$D$12&\",reference:=StartOfDay)=\"&A83&\"\", \"Bar\", \"\", \"Close\",\"5\",\"0\",\"All\",,,\"False\",\"T\",\"EveryTick\")","v":4293.25},-9.4023996308260274E-3,{"$f":"RTD(\"cqg.rtd\",,\"StudyData\", \"Close(\"&$D$12&\") when LocalYear(\"&$D$12&\")=\"&$D$7&\" and localMonth(\"&$D$12&\") =\"&$E$7&\" and LocalDay(\"&$D$12&\")=\"&$F$7&\" and Barix(\"&$D$12&\",reference:=StartOfDay)=\"&A83&\"\", \"Bar\", \"\", \"Close\",\"5\",\"0\",\"All\",,,\"False\",\"T\",\"EveryTick\")","v":4310.75},4.5441304981066119E-3,{"$f":"RTD(\"cqg.rtd\",,\"StudyData\", \"Close(\"&$D$12&\") when LocalYear(\"&$D$12&\")=\"&$D$8&\" and localMonth(\"&$D$12&\") =\"&$E$8&\" and LocalDay(\"&$D$12&\")=\"&$F$8&\" and Barix(\"&$D$12&\",reference:=StartOfDay)=\"&A83&\"\", \"Bar\", \"\", \"Close\",\"5\",\"0\",\"All\",,,\"False\",\"T\",\"EveryTick\")","v":4341},-6.3309352517985614E-4,{"$f":"RTD(\"cqg.rtd\",,\"StudyData\", \"Close(\"&$D$12&\") when LocalYear(\"&$D$12&\")=\"&$D$9&\" and localMonth(\"&$D$12&\") =\"&$E$9&\" and LocalDay(\"&$D$12&\")=\"&$F$9&\" and Barix(\"&$D$12&\",reference:=StartOfDay)=\"&A83&\"\", \"Bar\", \"\", \"Close\",\"5\",\"0\",\"All\",,,\"False\",\"T\",\"EveryTick\")","v":4308.5},2.5013088243848527E-3,{"$f":"RTD(\"cqg.rtd\",,\"StudyData\", \"Close(\"&$D$12&\") when LocalYear(\"&$D$12&\")=\"&$D$10&\" and localMonth(\"&$D$12&\") =\"&$E$10&\" and LocalDay(\"&$D$12&\")=\"&$F$10&\" and Barix(\"&$D$12&\",reference:=StartOfDay)=\"&A83&\"\", \"Bar\", \"\", \"Close\",\"5\",\"0\",\"All\",,,\"False\",\"T\",\"EveryTick\")","v":4366.25},3.7933214552560491E-3,null,null,null,""]
[179,"07:55:00",null,null,null,null,null,{"$f":"RTD(\"cqg.rtd\",,\"StudyData\", \"Close(\"&$D$12&\") when LocalYear(\"&$D$12&\")=\"&$D$1&\" and localMonth(\"&$D$12&\") =\"&$E$1&\" and LocalDay(\"&$D$12&\")=\"&$F$1&\" and Barix(\"&$D$12&\",reference:=StartOfDay)=\"&A84&\"\", \"Bar\", \"\", \"Close\",\"5\",\"0\",\"All\",,,\"False\",\"T\",\"EveryTick\")","v":4339},-4.0315613661233657E-4,{"$f":"RTD(\"cqg.rtd\",,\"StudyData\", \"Close(\"&$D$12&\") when LocalYear(\"&$D$12&\")=\"&$D$2&\" and localMonth(\"&$D$12&\") =\"&$E$2&\" and LocalDay(\"&$D$12&\")=\"&$F$2&\" and Barix(\"&$D$12&\",reference:=StartOfDay)=\"&A84&\"\", \"Bar\", \"\", \"Close\",\"5\",\"0\",\"All\",,,\"False\",\"T\",\"EveryTick\")","v":4357},1.3789933348655481E-3,{"$f":"RTD(\"cqg.rtd\",,\"StudyData\", \"Close(\"&$D$12&\") when LocalYear(\"&$D$12&\")=\"&$D$3&\" and localMonth(\"&$D$12&\") =\"&$E$3&\" and LocalDay(\"&$D$12&\")=\"&$F$3&\" and Barix(\"&$D$12&\",reference:=StartOfDay)=\"&A84&\"\", \"Bar\", \"\", \"Close\",\"5\",\"0\",\"All\",,,\"False\",\"T\",\"EveryTick\")","v":4372.75},-2.1678361572251698E-3,{"$f":"RTD(\"cqg.rtd\",,\"StudyData\", \"Close(\"&$D$12&\") when LocalYear(\"&$D$12&\")=\"&$D$4&\" and localMonth(\"&$D$12&\") =\"&$E$4&\" and LocalDay(\"&$D$12&\")=\"&$F$4&\" and Barix(\"&$D$12&\",reference:=StartOfDay)=\"&A84&\"\", \"Bar\", \"\", \"Close\",\"5\",\"0\",\"All\",,,\"False\",\"T\",\"EveryTick\")","v":4400.5},2.3917995444191343E-3,{"$f":"RTD(\"cqg.rtd\",,\"StudyData\", \"Close(\"&$D$12&\") when LocalYear(\"&$D$12&\")=\"&$D$5&\" and localMonth(\"&$D$12&\") =\"&$E$5&\" and LocalDay(\"&$D$12&\")=\"&$F$5&\" and Barix(\"&$D$12&\",reference:=StartOfDay)=\"&A84&\"\", \"Bar\", \"\", \"Close\",\"5\",\"0\",\"All\",,,\"False\",\"T\",\"EveryTick\")","v":4394.5},9.3017914561322919E-3,{"$f":"RTD(\"cqg.rtd\",,\"StudyData\", \"Close(\"&$D$12&\") when LocalYear(\"&$D$12&\")=\"&$D$6&\" and localMonth(\"&$D$12&\") =\"&$E$6&\" and LocalDay(\"&$D$12&\")=\"&$F$6&\" and Barix(\"&$D$12&\",reference:=StartOfDay)=\"&A84&\"\", \"Bar\", \"\", \"Close\",\"5\",\"0\",\"All\",,,\"False\",\"T\",\"EveryTick\")","v":4293.25},-9.4023996308260274E-3,{"$f":"RTD(\"cqg.rtd\",,\"StudyData\", \"Close(\"&$D$12&\") when LocalYear(\"&$D$12&\")=\"&$D$7&\" and localMonth(\"&$D$12&\") =\"&$E$7&\" and LocalDay(\"&$D$12&\")=\"&$F$7&\" and Barix(\"&$D$12&\",reference:=StartOfDay)=\"&A84&\"\", \"Bar\", \"\", \"Close\",\"5\",\"0\",\"All\",,,\"False\",\"T\",\"EveryTick\")","v":4311.75},4.7771628313428485E-3,{"$f":"RTD(\"cqg.rtd\",,\"StudyData\", \"Close(\"&$D$12&\") when LocalYear(\"&$D$12&\")=\"&$D$8&\" and localMonth(\"&$D$12&\") =\"&$E$8&\" and LocalDay(\"&$D$12&\")=\"&$F$8&\" and Barix(\"&$D$12&\",reference:=StartOfDay)=\"&A84&\"\", \"Bar\", \"\", \"Close\",\"5\",\"0\",\"All\",,,\"False\",\"T\",\"EveryTick\")","v":4338.25},-1.2661870503597123E-3,{"$f":"RTD(\"cqg.rtd\",,\"StudyData\", \"Close(\"&$D$12&\") when LocalYear(\"&$D$12&\")=\"&$D$9&\" and localMonth(\"&$D$12&\") =\"&$E$9&\" and LocalDay(\"&$D$12&\")=\"&$F$9&\" and Barix(\"&$D$12&\",reference:=StartOfDay)=\"&A84&\"\", \"Bar\", \"\", \"Close\",\"5\",\"0\",\"All\",,,\"False\",\"T\",\"EveryTick\")","v":4309.25},2.675818742365191E-3,{"$f":"RTD(\"cqg.rtd\",,\"StudyData\", \"Close(\"&$D$12&\") when LocalYear(\"&$D$12&\")=\"&$D$10&\" and localMonth(\"&$D$12&\") =\"&$E$10&\" and LocalDay(\"&$D$12&\")=\"&$F$10&\" and Barix(\"&$D$12&\",reference:=StartOfDay)=\"&A84&\"\", \"Bar\", \"\", \"Close\",\"5\",\"0\",\"All\",,,\"False\",\"T\",\"EveryTick\")","v":4364},3.2760503477211335E-3,null,null,null,""]
[180,"08:00:00",null,null,null,null,null,{"$f":"RTD(\"cqg.rtd\",,\"StudyData\", \"Close(\"&$D$12&\") when LocalYear(\"&$D$12&\")=\"&$D$1&\" and localMonth(\"&$D$12&\") =\"&$E$1&\" and LocalDay(\"&$D$12&\")=\"&$F$1&\" and Barix(\"&$D$12&\",reference:=StartOfDay)=\"&A85&\"\", \"Bar\", \"\", \"Close\",\"5\",\"0\",\"All\",,,\"False\",\"T\",\"EveryTick\")","v":4340.25},-1.1518746760352474E-4,{"$f":"RTD(\"cqg.rtd\",,\"StudyData\", \"Close(\"&$D$12&\") when LocalYear(\"&$D$12&\")=\"&$D$2&\" and localMonth(\"&$D$12&\") =\"&$E$2&\" and LocalDay(\"&$D$12&\")=\"&$F$2&\" and Barix(\"&$D$12&\",reference:=StartOfDay)=\"&A85&\"\", \"Bar\", \"\", \"Close\",\"5\",\"0\",\"All\",,,\"False\",\"T\",\"EveryTick\")","v":4358.25},1.6662836129625375E-3,{"$f":"RTD(\"cqg.rtd\",,\"StudyData\", \"Close(\"&$D$12&\") when LocalYear(\"&$D$12&\")=\"&$D$3&\" and localMonth(\"&$D$12&\") =\"&$E$3&\" and LocalDay(\"&$D$12&\")=\"&$F$3&\" and Barix(\"&$D$12&\",reference:=StartOfDay)=\"&A85&\"\", \"Bar\", \"\", \"Close\",\"5\",\"0\",\"All\",,,\"False\",\"T\",\"EveryTick\")","v":4374.5},-1.7684979177363227E-3,{"$f":"RTD(\"cqg.rtd\",,\"StudyData\", \"Close(\"&$D$12&\") when LocalYear(\"&$D$12&\")=\"&$D$4&\" and localMonth(\"&$D$12&\") =\"&$E$4&\" and LocalDay(\"&$D$12&\")=\"&$F$4&\" and Barix(\"&$D$12&\",reference:=StartOfDay)=\"&A85&\"\", \"Bar\", \"\", \"Close\",\"5\",\"0\",\"All\",,,\"False\",\"T\",\"EveryTick\")","v":4403},2.96127562642369E-3,{"$f":"RTD(\"cqg.rtd\",,\"StudyData\", \"Close(\"&$D$12&\") when LocalYear(\"&$D$12&\")=\"&$D$5&\" and localMonth(\"&$D$12&\") =\"&$E$5&\" and LocalDay(\"&$D$12&\")=\"&$F$5&\" and Barix(\"&$D$12&\",reference:=StartOfDay)=\"&A85&\"\", \"Bar\", \"\", \"Close\",\"5\",\"0\",\"All\",,,\"False\",\"T\",\"EveryTick\")","v":4392.5},8.8424437299035371E-3,{"$f":"RTD(\"cqg.rtd\",,\"StudyData\", \"Close(\"&$D$12&\") when LocalYear(\"&$D$12&\")=\"&$D$6&\" and localMonth(\"&$D$12&\") =\"&$E$6&\" and LocalDay(\"&$D$12&\")=\"&$F$6&\" and Barix(\"&$D$12&\",reference:=StartOfDay)=\"&A85&\"\", \"Bar\", \"\", \"Close\",\"5\",\"0\",\"All\",,,\"False\",\"T\",\"EveryTick\")","v":4295.5},-8.8832487309644676E-3,{"$f":"RTD(\"cqg.rtd\",,\"StudyData\", \"Close(\"&$D$12&\") when LocalYear(\"&$D$12&\")=\"&$D$7&\" and localMonth(\"&$D$12&\") =\"&$E$7&\" and LocalDay(\"&$D$12&\")=\"&$F$7&\" and Barix(\"&$D$12&\",reference:=StartOfDay)=\"&A85&\"\", \"Bar\", \"\", \"Close\",\"5\",\"0\",\"All\",,,\"False\",\"T\",\"EveryTick\")","v":4310},4.3693562481794349E-3,{"$f":"RTD(\"cqg.rtd\",,\"StudyData\", \"Close(\"&$D$12&\") when LocalYear(\"&$D$12&\")=\"&$D$8&\" and localMonth(\"&$D$12&\") =\"&$E$8&\" and LocalDay(\"&$D$12&\")=\"&$F$8&\" and Barix(\"&$D$12&\",reference:=StartOfDay)=\"&A85&\"\", \"Bar\", \"\", \"Close\",\"5\",\"0\",\"All\",,,\"False\",\"T\",\"EveryTick\")","v":4337.25},-1.4964028776978417E-3,{"$f":"RTD(\"cqg.rtd\",,\"StudyData\", \"Close(\"&$D$12&\") when LocalYear(\"&$D$12&\")=\"&$D$9&\" and localMonth(\"&$D$12&\") =\"&$E$9&\" and LocalDay(\"&$D$12&\")=\"&$F$9&\" and Barix(\"&$D$12&\",reference:=StartOfDay)=\"&A85&\"\", \"Bar\", \"\", \"Close\",\"5\",\"0\",\"All\",,,\"False\",\"T\",\"EveryTick\")","v":4314.75},3.9555581408876736E-3,{"$f":"RTD(\"cqg.rtd\",,\"StudyData\", \"Close(\"&$D$12&\") when LocalYear(\"&$D$12&\")=\"&$D$10&\" and localMonth(\"&$D$12&\") =\"&$E$10&\" and LocalDay(\"&$D$12&\")=\"&$F$10&\" and Barix(\"&$D$12&\",reference:=StartOfDay)=\"&A85&\"\", \"Bar\", \"\", \"Close\",\"5\",\"0\",\"All\",,,\"False\",\"T\",\"EveryTick\")","v":4361},2.5863555376745792E-3,null,null,null,""]
[181,"08:05:00",null,null,null,null,null,{"$f":"RTD(\"cqg.rtd\",,\"StudyData\", \"Close(\"&$D$12&\") when LocalYear(\"&$D$12&\")=\"&$D$1&\" and localMonth(\"&$D$12&\") =\"&$E$1&\" and LocalDay(\"&$D$12&\")=\"&$F$1&\" and Barix(\"&$D$12&\",reference:=StartOfDay)=\"&A86&\"\", \"Bar\", \"\", \"Close\",\"5\",\"0\",\"All\",,,\"False\",\"T\",\"EveryTick\")","v":4341.5},1.7278120140528711E-4,{"$f":"RTD(\"cqg.rtd\",,\"StudyData\", \"Close(\"&$D$12&\") when LocalYear(\"&$D$12&\")=\"&$D$2&\" and localMonth(\"&$D$12&\") =\"&$E$2&\" and LocalDay(\"&$D$12&\")=\"&$F$2&\" and Barix(\"&$D$12&\",reference:=StartOfDay)=\"&A86&\"\", \"Bar\", \"\", \"Close\",\"5\",\"0\",\"All\",,,\"False\",\"T\",\"EveryTick\")","v":4361},2.2983222247759134E-3,{"$f":"RTD(\"cqg.rtd\",,\"StudyData\", \"Close(\"&$D$12&\") when LocalYear(\"&$D$12&\")=\"&$D$3&\" and localMonth(\"&$D$12&\") =\"&$E$3&\" and LocalDay(\"&$D$12&\")=\"&$F$3&\" and Barix(\"&$D$12&\",reference:=StartOfDay)=\"&A86&\"\", \"Bar\", \"\", \"Close\",\"5\",\"0\",\"All\",,,\"False\",\"T\",\"EveryTick\")","v":4374.5},-1.7684979177363227E-3,{"$f":"RTD(\"cqg.rtd\",,\"StudyData\", \"Close(\"&$D$12&\") when LocalYear(\"&$D$12&\")=\"&$D$4&\" and localMonth(\"&$D$12&\") =\"&$E$4&\" and LocalDay(\"&$D$12&\")=\"&$F$4&\" and Barix(\"&$D$12&\",reference:=StartOfDay)=\"&A86&\"\", \"Bar\", \"\", \"Close\",\"5\",\"0\",\"All\",,,\"False\",\"T\",\"EveryTick\")","v":4401},2.5056947608200456E-3,{"$f":"RTD(\"cqg.rtd\",,\"StudyData\", \"Close(\"&$D$12&\") when LocalYear(\"&$D$12&\")=\"&$D$5&\" and localMonth(\"&$D$12&\") =\"&$E$5&\" and LocalDay(\"&$D$12&\")=\"&$F$5&\" and Barix(\"&$D$12&\",reference:=StartOfDay)=\"&A86&\"\", \"Bar\", \"\", \"Close\",\"5\",\"0\",\"All\",,,\"False\",\"T\",\"EveryTick\")","v":4391.25},8.5553514010105643E-3,{"$f":"RTD(\"cqg.rtd\",,\"StudyData\", \"Close(\"&$D$12&\") when LocalYear(\"&$D$12&\")=\"&$D$6&\" and localMonth(\"&$D$12&\") =\"&$E$6&\" and LocalDay(\"&$D$12&\")=\"&$F$6&\" and Barix(\"&$D$12&\",reference:=StartOfDay)=\"&A86&\"\", \"Bar\", \"\", \"Close\",\"5\",\"0\",\"All\",,,\"False\",\"T\",\"EveryTick\")","v":4295},-8.99861559760037E-3,{"$f":"RTD(\"cqg.rtd\",,\"StudyData\", \"Close(\"&$D$12&\") when LocalYear(\"&$D$12&\")=\"&$D$7&\" and localMonth(\"&$D$12&\") =\"&$E$7&\" and LocalDay(\"&$D$12&\")=\"&$F$7&\" and Barix(\"&$D$12&\",reference:=StartOfDay)=\"&A86&\"\", \"Bar\", \"\", \"Close\",\"5\",\"0\",\"All\",,,\"False\",\"T\",\"EveryTick\")","v":4305.75},3.3789688319254296E-3,{"$f":"RTD(\"cqg.rtd\",,\"StudyData\", \"Close(\"&$D$12&\") when LocalYear(\"&$D$12&\")=\"&$D$8&\" and localMonth(\"&$D$12&\") =\"&$E$8&\" and LocalDay(\"&$D$12&\")=\"&$F$8&\" and Barix(\"&$D$12&\",reference:=StartOfDay)=\"&A86&\"\", \"Bar\", \"\", \"Close\",\"5\",\"0\",\"All\",,,\"False\",\"T\",\"EveryTick\")","v":4335.5},-1.8992805755395684E-3,{"$f":"RTD(\"cqg.rtd\",,\"StudyData\", \"Close(\"&$D$12&\") when LocalYear(\"&$D$12&\")=\"&$D$9&\" and localMonth(\"&$D$12&\") =\"&$E$9&\" and LocalDay(\"&$D$12&\")=\"&$F$9&\" and Barix(\"&$D$12&\",reference:=StartOfDay)=\"&A86&\"\", \"Bar\", \"\", \"Close\",\"5\",\"0\",\"All\",,,\"False\",\"T\",\"EveryTick\")","v":4312},3.3156884416264323E-3,{"$f":"RTD(\"cqg.rtd\",,\"StudyData\", \"Close(\"&$D$12&\") when LocalYear(\"&$D$12&\")=\"&$D$10&\" and localMonth(\"&$D$12&\") =\"&$E$10&\" and LocalDay(\"&$D$12&\")=\"&$F$10&\" and Barix(\"&$D$12&\",reference:=StartOfDay)=\"&A86&\"\", \"Bar\", \"\", \"Close\",\"5\",\"0\",\"All\",,,\"False\",\"T\",\"EveryTick\")","v":4359.5},2.241508132651302E-3,null,null,null,""]
[182,"08:10:00",null,null,null,null,null,{"$f":"RTD(\"cqg.rtd\",,\"StudyData\", \"Close(\"&$D$12&\") when LocalYear(\"&$D$12&\")=\"&$D$1&\" and localMonth(\"&$D$12&\") =\"&$E$1&\" and LocalDay(\"&$D$12&\")=\"&$F$1&\" and Barix(\"&$D$12&\",reference:=StartOfDay)=\"&A87&\"\", \"Bar\", \"\", \"Close\",\"5\",\"0\",\"All\",,,\"False\",\"T\",\"EveryTick\")","v":4344.75},9.2149974082819794E-4,{"$f":"RTD(\"cqg.rtd\",,\"StudyData\", \"Close(\"&$D$12&\") when LocalYear(\"&$D$12&\")=\"&$D$2&\" and localMonth(\"&$D$12&\") =\"&$E$2&\" and LocalDay(\"&$D$12&\")=\"&$F$2&\" and Barix(\"&$D$12&\",reference:=StartOfDay)=\"&A87&\"\", \"Bar\", \"\", \"Close\",\"5\",\"0\",\"All\",,,\"False\",\"T\",\"EveryTick\")","v":4361},2.2983222247759134E-3,{"$f":"RTD(\"cqg.rtd\",,\"StudyData\", \"Close(\"&$D$12&\") when LocalYear(\"&$D$12&\")=\"&$D$3&\" and localMonth(\"&$D$12&\") =\"&$E$3&\" and LocalDay(\"&$D$12&\")=\"&$F$3&\" and Barix(\"&$D$12&\",reference:=StartOfDay)=\"&A87&\"\", \"Bar\", \"\", \"Close\",\"5\",\"0\",\"All\",,,\"False\",\"T\",\"EveryTick\")","v":4377.5},-1.0839180786125849E-3,{"$f":"RTD(\"cqg.rtd\",,\"StudyData\", \"Close(\"&$D$12&\") when LocalYear(\"&$D$12&\")=\"&$D$4&\" and localMonth(\"&$D$12&\") =\"&$E$4&\" and LocalDay(\"&$D$12&\")=\"&$F$4&\" and Barix(\"&$D$12&\",reference:=StartOfDay)=\"&A87&\"\", \"Bar\", \"\", \"Close\",\"5\",\"0\",\"All\",,,\"False\",\"T\",\"EveryTick\")","v":4401.25},2.5626423690205012E-3,{"$f":"RTD(\"cqg.rtd\",,\"StudyData\", \"Close(\"&$D$12&\") when LocalYear(\"&$D$12&\")=\"&$D$5&\" and localMonth(\"&$D$12&\") =\"&$E$5&\" and LocalDay(\"&$D$12&\")=\"&$F$5&\" and Barix(\"&$D$12&\",reference:=StartOfDay)=\"&A87&\"\", \"Bar\", \"\", \"Close\",\"5\",\"0\",\"All\",,,\"False\",\"T\",\"EveryTick\")","v":4389},8.0385852090032149E-3,{"$f":"RTD(\"cqg.rtd\",,\"StudyData\", \"Close(\"&$D$12&\") when LocalYear(\"&$D$12&\")=\"&$D$6&\" and localMonth(\"&$D$12&\") =\"&$E$6&\" and LocalDay(\"&$D$12&\")=\"&$F$6&\" and Barix(\"&$D$12&\",reference:=StartOfDay)=\"&A87&\"\", \"Bar\", \"\", \"Close\",\"5\",\"0\",\"All\",,,\"False\",\"T\",\"EveryTick\")","v":4301},-7.6142131979695434E-3,{"$f":"RTD(\"cqg.rtd\",,\"StudyData\", \"Close(\"&$D$12&\") when LocalYear(\"&$D$12&\")=\"&$D$7&\" and localMonth(\"&$D$12&\") =\"&$E$7&\" and LocalDay(\"&$D$12&\")=\"&$F$7&\" and Barix(\"&$D$12&\",reference:=StartOfDay)=\"&A87&\"\", \"Bar\", \"\", \"Close\",\"5\",\"0\",\"All\",,,\"False\",\"T\",\"EveryTick\")","v":4306.75},3.6120011651616661E-3,{"$f":"RTD(\"cqg.rtd\",,\"StudyData\", \"Close(\"&$D$12&\") when LocalYear(\"&$D$12&\")=\"&$D$8&\" and localMonth(\"&$D$12&\") =\"&$E$8&\" and LocalDay(\"&$D$12&\")=\"&$F$8&\" and Barix(\"&$D$12&\",reference:=StartOfDay)=\"&A87&\"\", \"Bar\", \"\", \"Close\",\"5\",\"0\",\"All\",,,\"False\",\"T\",\"EveryTick\")","v":4336.25},-1.7266187050359713E-3,{"$f":"RTD(\"cqg.rtd\",,\"StudyData\", \"Close(\"&$D$12&\") when LocalYear(\"&$D$12&\")=\"&$D$9&\" and localMonth(\"&$D$12&\") =\"&$E$9&\" and LocalDay(\"&$D$12&\")=\"&$F$9&\" and Barix(\"&$D$12&\",reference:=StartOfDay)=\"&A87&\"\", \"Bar\", \"\", \"Close\",\"5\",\"0\",\"All\",,,\"False\",\"T\",\"EveryTick\")","v":4314.75},3.9555581408876736E-3,{"$f":"RTD(\"cqg.rtd\",,\"StudyData\", \"Close(\"&$D$12&\") when LocalYear(\"&$D$12&\")=\"&$D$10&\" and localMonth(\"&$D$12&\") =\"&$E$10&\" and LocalDay(\"&$D$12&\")=\"&$F$10&\" and Barix(\"&$D$12&\",reference:=StartOfDay)=\"&A87&\"\", \"Bar\", \"\", \"Close\",\"5\",\"0\",\"All\",,,\"False\",\"T\",\"EveryTick\")","v":4361.5},2.7013046726823381E-3,null,null,null,""]
[183,"08:15:00",null,null,null,null,null,{"$f":"RTD(\"cqg.rtd\",,\"StudyData\", \"Close(\"&$D$12&\") when LocalYear(\"&$D$12&\")=\"&$D$1&\" and localMonth(\"&$D$12&\") =\"&$E$1&\" and LocalDay(\"&$D$12&\")=\"&$F$1&\" and Barix(\"&$D$12&\",reference:=StartOfDay)=\"&A88&\"\", \"Bar\", \"\", \"Close\",\"5\",\"0\",\"All\",,,\"False\",\"T\",\"EveryTick\")","v":4348.75},1.8429994816563959E-3,{"$f":"RTD(\"cqg.rtd\",,\"StudyData\", \"Close(\"&$D$12&\") when LocalYear(\"&$D$12&\")=\"&$D$2&\" and localMonth(\"&$D$12&\") =\"&$E$2&\" and LocalDay(\"&$D$12&\")=\"&$F$2&\" and Barix(\"&$D$12&\",reference:=StartOfDay)=\"&A88&\"\", \"Bar\", \"\", \"Close\",\"5\",\"0\",\"All\",,,\"False\",\"T\",\"EveryTick\")","v":4360.25},2.12594805791772E-3,{"$f":"RTD(\"cqg.rtd\",,\"StudyData\", \"Close(\"&$D$12&\") when LocalYear(\"&$D$12&\")=\"&$D$3&\" and localMonth(\"&$D$12&\") =\"&$E$3&\" and LocalDay(\"&$D$12&\")=\"&$F$3&\" and Barix(\"&$D$12&\",reference:=StartOfDay)=\"&A88&\"\", \"Bar\", \"\", \"Close\",\"5\",\"0\",\"All\",,,\"False\",\"T\",\"EveryTick\")","v":4375.75},-1.483256318101432E-3,{"$f":"RTD(\"cqg.rtd\",,\"StudyData\", \"Close(\"&$D$12&\") when LocalYear(\"&$D$12&\")=\"&$D$4&\" and localMonth(\"&$D$12&\") =\"&$E$4&\" and LocalDay(\"&$D$12&\")=\"&$F$4&\" and Barix(\"&$D$12&\",reference:=StartOfDay)=\"&A88&\"\", \"Bar\", \"\", \"Close\",\"5\",\"0\",\"All\",,,\"False\",\"T\",\"EveryTick\")","v":4399.25},2.1070615034168563E-3,{"$f":"RTD(\"cqg.rtd\",,\"StudyData\", \"Close(\"&$D$12&\") when LocalYear(\"&$D$12&\")=\"&$D$5&\" and localMonth(\"&$D$12&\") =\"&$E$5&\" and LocalDay(\"&$D$12&\")=\"&$F$5&\" and Barix(\"&$D$12&\",reference:=StartOfDay)=\"&A88&\"\", \"Bar\", \"\", \"Close\",\"5\",\"0\",\"All\",,,\"False\",\"T\",\"EveryTick\")","v":4388.5},7.9237482774460258E-3,{"$f":"RTD(\"cqg.rtd\",,\"StudyData\", \"Close(\"&$D$12&\") when LocalYear(\"&$D$12&\")=\"&$D$6&\" and localMonth(\"&$D$12&\") =\"&$E$6&\" and LocalDay(\"&$D$12&\")=\"&$F$6&\" and Barix(\"&$D$12&\",reference:=StartOfDay)=\"&A88&\"\", \"Bar\", \"\", \"Close\",\"5\",\"0\",\"All\",,,\"False\",\"T\",\"EveryTick\")","v":4301},-7.6142131979695434E-3,{"$f":"RTD(\"cqg.rtd\",,\"StudyData\", \"Close(\"&$D$12&\") when LocalYear(\"&$D$12&\")=\"&$D$7&\" and localMonth(\"&$D$12&\") =\"&$E$7&\" and LocalDay(\"&$D$12&\")=\"&$F$7&\" and Barix(\"&$D$12&\",reference:=StartOfDay)=\"&A88&\"\", \"Bar\", \"\", \"Close\",\"5\",\"0\",\"All\",,,\"False\",\"T\",\"EveryTick\")","v":4308.75},4.0780658316341397E-3,{"$f":"RTD(\"cqg.rtd\",,\"StudyData\", \"Close(\"&$D$12&\") when LocalYear(\"&$D$12&\")=\"&$D$8&\" and localMonth(\"&$D$12&\") =\"&$E$8&\" and LocalDay(\"&$D$12&\")=\"&$F$8&\" and Barix(\"&$D$12&\",reference:=StartOfDay)=\"&A88&\"\", \"Bar\", \"\", \"Close\",\"5\",\"0\",\"All\",,,\"False\",\"T\",\"EveryTick\")","v":4335.5},-1.8992805755395684E-3,{"$f":"RTD(\"cqg.rtd\",,\"StudyData\", \"Close(\"&$D$12&\") when LocalYear(\"&$D$12&\")=\"&$D$9&\" and localMonth(\"&$D$12&\") =\"&$E$9&\" and LocalDay(\"&$D$12&\")=\"&$F$9&\" and Barix(\"&$D$12&\",reference:=StartOfDay)=\"&A88&\"\", \"Bar\", \"\", \"Close\",\"5\",\"0\",\"All\",,,\"False\",\"T\",\"EveryTick\")","v":4316},4.2464080041882384E-3,{"$f":"RTD(\"cqg.rtd\",,\"StudyData\", \"Close(\"&$D$12&\") when LocalYear(\"&$D$12&\")=\"&$D$10&\" and localMonth(\"&$D$12&\") =\"&$E$10&\" and LocalDay(\"&$D$12&\")=\"&$F$10&\" and Barix(\"&$D$12&\",reference:=StartOfDay)=\"&A88&\"\", \"Bar\", \"\", \"Close\",\"5\",\"0\",\"All\",,,\"False\",\"T\",\"EveryTick\")","v":4360.75},2.5288809701706993E-3,null,null,null,""]
[184,"08:20:00",null,null,null,null,null,{"$f":"RTD(\"cqg.rtd\",,\"StudyData\", \"Close(\"&$D$12&\") when LocalYear(\"&$D$12&\")=\"&$D$1&\" and localMonth(\"&$D$12&\") =\"&$E$1&\" and LocalDay(\"&$D$12&\")=\"&$F$1&\" and Barix(\"&$D$12&\",reference:=StartOfDay)=\"&A89&\"\", \"Bar\", \"\", \"Close\",\"5\",\"0\",\"All\",,,\"False\",\"T\",\"EveryTick\")","v":4351.25},2.4189368196740196E-3,{"$f":"RTD(\"cqg.rtd\",,\"StudyData\", \"Close(\"&$D$12&\") when LocalYear(\"&$D$12&\")=\"&$D$2&\" and localMonth(\"&$D$12&\") =\"&$E$2&\" and LocalDay(\"&$D$12&\")=\"&$F$2&\" and Barix(\"&$D$12&\",reference:=StartOfDay)=\"&A89&\"\", \"Bar\", \"\", \"Close\",\"5\",\"0\",\"All\",,,\"False\",\"T\",\"EveryTick\")","v":4360.25},2.12594805791772E-3,{"$f":"RTD(\"cqg.rtd\",,\"StudyData\", \"Close(\"&$D$12&\") when LocalYear(\"&$D$12&\")=\"&$D$3&\" and localMonth(\"&$D$12&\") =\"&$E$3&\" and LocalDay(\"&$D$12&\")=\"&$F$3&\" and Barix(\"&$D$12&\",reference:=StartOfDay)=\"&A89&\"\", \"Bar\", \"\", \"Close\",\"5\",\"0\",\"All\",,,\"False\",\"T\",\"EveryTick\")","v":4375.25},-1.5973529579553882E-3,{"$f":"RTD(\"cqg.rtd\",,\"StudyData\", \"Close(\"&$D$12&\") when LocalYear(\"&$D$12&\")=\"&$D$4&\" and localMonth(\"&$D$12&\") =\"&$E$4&\" and LocalDay(\"&$D$12&\")=\"&$F$4&\" and Barix(\"&$D$12&\",reference:=StartOfDay)=\"&A89&\"\", \"Bar\", \"\", \"Close\",\"5\",\"0\",\"All\",,,\"False\",\"T\",\"EveryTick\")","v":4400.5},2.3917995444191343E-3,{"$f":"RTD(\"cqg.rtd\",,\"StudyData\", \"Close(\"&$D$12&\") when LocalYear(\"&$D$12&\")=\"&$D$5&\" and localMonth(\"&$D$12&\") =\"&$E$5&\" and LocalDay(\"&$D$12&\")=\"&$F$5&\" and Barix(\"&$D$12&\",reference:=StartOfDay)=\"&A89&\"\", \"Bar\", \"\", \"Close\",\"5\",\"0\",\"All\",,,\"False\",\"T\",\"EveryTick\")","v":4387.75},7.7514928801102438E-3,{"$f":"RTD(\"cqg.rtd\",,\"StudyData\", \"Close(\"&$D$12&\") when LocalYear(\"&$D$12&\")=\"&$D$6&\" and localMonth(\"&$D$12&\") =\"&$E$6&\" and LocalDay(\"&$D$12&\")=\"&$F$6&\" and Barix(\"&$D$12&\",reference:=StartOfDay)=\"&A89&\"\", \"Bar\", \"\", \"Close\",\"5\",\"0\",\"All\",,,\"False\",\"T\",\"EveryTick\")","v":4298.25},-8.2487309644670055E-3,{"$f":"RTD(\"cqg.rtd\",,\"StudyData\", \"Close(\"&$D$12&\") when LocalYear(\"&$D$12&\")=\"&$D$7&\" and localMonth(\"&$D$12&\") =\"&$E$7&\" and LocalDay(\"&$D$12&\")=\"&$F$7&\" and Barix(\"&$D$12&\",reference:=StartOfDay)=\"&A89&\"\", \"Bar\", \"\", \"Close\",\"5\",\"0\",\"All\",,,\"False\",\"T\",\"EveryTick\")","v":4305.5},3.3207107486163704E-3,{"$f":"RTD(\"cqg.rtd\",,\"StudyData\", \"Close(\"&$D$12&\") when LocalYear(\"&$D$12&\")=\"&$D$8&\" and localMonth(\"&$D$12&\") =\"&$E$8&\" and LocalDay(\"&$D$12&\")=\"&$F$8&\" and Barix(\"&$D$12&\",reference:=StartOfDay)=\"&A89&\"\", \"Bar\", \"\", \"Close\",\"5\",\"0\",\"All\",,,\"False\",\"T\",\"EveryTick\")","v":4335},-2.014388489208633E-3,{"$f":"RTD(\"cqg.rtd\",,\"StudyData\", \"Close(\"&$D$12&\") when LocalYear(\"&$D$12&\")=\"&$D$9&\" and localMonth(\"&$D$12&\") =\"&$E$9&\" and LocalDay(\"&$D$12&\")=\"&$F$9&\" and Barix(\"&$D$12&\",reference:=StartOfDay)=\"&A89&\"\", \"Bar\", \"\", \"Close\",\"5\",\"0\",\"All\",,,\"False\",\"T\",\"EveryTick\")","v":4315.25},4.0718980862078993E-3,{"$f":"RTD(\"cqg.rtd\",,\"StudyData\", \"Close(\"&$D$12&\") when LocalYear(\"&$D$12&\")=\"&$D$10&\" and localMonth(\"&$D$12&\") =\"&$E$10&\" and LocalDay(\"&$D$12&\")=\"&$F$10&\" and Barix(\"&$D$12&\",reference:=StartOfDay)=\"&A89&\"\", \"Bar\", \"\", \"Close\",\"5\",\"0\",\"All\",,,\"False\",\"T\",\"EveryTick\")","v":4362.75},2.9886775102017358E-3,null,null,null,""]
[185,"08:25:00",null,null,null,null,null,{"$f":"RTD(\"cqg.rtd\",,\"StudyData\", \"Close(\"&$D$12&\") when LocalYear(\"&$D$12&\")=\"&$D$1&\" and localMonth(\"&$D$12&\") =\"&$E$1&\" and LocalDay(\"&$D$12&\")=\"&$F$1&\" and Barix(\"&$D$12&\",reference:=StartOfDay)=\"&A90&\"\", \"Bar\", \"\", \"Close\",\"5\",\"0\",\"All\",,,\"False\",\"T\",\"EveryTick\")","v":4351},2.3613430858722569E-3,{"$f":"RTD(\"cqg.rtd\",,\"StudyData\", \"Close(\"&$D$12&\") when LocalYear(\"&$D$12&\")=\"&$D$2&\" and localMonth(\"&$D$12&\") =\"&$E$2&\" and LocalDay(\"&$D$12&\")=\"&$F$2&\" and Barix(\"&$D$12&\",reference:=StartOfDay)=\"&A90&\"\", \"Bar\", \"\", \"Close\",\"5\",\"0\",\"All\",,,\"False\",\"T\",\"EveryTick\")","v":4361},2.2983222247759134E-3,{"$f":"RTD(\"cqg.rtd\",,\"StudyData\", \"Close(\"&$D$12&\") when LocalYear(\"&$D$12&\")=\"&$D$3&\" and localMonth(\"&$D$12&\") =\"&$E$3&\" and LocalDay(\"&$D$12&\")=\"&$F$3&\" and Barix(\"&$D$12&\",reference:=StartOfDay)=\"&A90&\"\", \"Bar\", \"\", \"Close\",\"5\",\"0\",\"All\",,,\"False\",\"T\",\"EveryTick\")","v":4376},-1.4262079981744538E-3,{"$f":"RTD(\"cqg.rtd\",,\"StudyData\", \"Close(\"&$D$12&\") when LocalYear(\"&$D$12&\")=\"&$D$4&\" and localMonth(\"&$D$12&\") =\"&$E$4&\" and LocalDay(\"&$D$12&\")=\"&$F$4&\" and Barix(\"&$D$12&\",reference:=StartOfDay)=\"&A90&\"\", \"Bar\", \"\", \"Close\",\"5\",\"0\",\"All\",,,\"False\",\"T\",\"EveryTick\")","v":4399.25},2.1070615034168563E-3,{"$f":"RTD(\"cqg.rtd\",,\"StudyData\", \"Close(\"&$D$12&\") when LocalYear(\"&$D$12&\")=\"&$D$5&\" and localMonth(\"&$D$12&\") =\"&$E$5&\" and LocalDay(\"&$D$12&\")=\"&$F$5&\" and Barix(\"&$D$12&\",reference:=StartOfDay)=\"&A90&\"\", \"Bar\", \"\", \"Close\",\"5\",\"0\",\"All\",,,\"False\",\"T\",\"EveryTick\")","v":4388.25},7.8663298116674329E-3,{"$f":"RTD(\"cqg.rtd\",,\"StudyData\", \"Close(\"&$D$12&\") when LocalYear(\"&$D$12&\")=\"&$D$6&\" and localMonth(\"&$D$12&\") =\"&$E$6&\" and LocalDay(\"&$D$12&\")=\"&$F$6&\" and Barix(\"&$D$12&\",reference:=StartOfDay)=\"&A90&\"\", \"Bar\", \"\", \"Close\",\"5\",\"0\",\"All\",,,\"False\",\"T\",\"EveryTick\")","v":4297},-8.5371481310567605E-3,{"$f":"RTD(\"cqg.rtd\",,\"StudyData\", \"Close(\"&$D$12&\") when LocalYear(\"&$D$12&\")=\"&$D$7&\" and localMonth(\"&$D$12&\") =\"&$E$7&\" and LocalDay(\"&$D$12&\")=\"&$F$7&\" and Barix(\"&$D$12&\",reference:=StartOfDay)=\"&A90&\"\", \"Bar\", \"\", \"Close\",\"5\",\"0\",\"All\",,,\"False\",\"T\",\"EveryTick\")","v":4307.25},3.7285173317797844E-3,{"$f":"RTD(\"cqg.rtd\",,\"StudyData\", \"Close(\"&$D$12&\") when LocalYear(\"&$D$12&\")=\"&$D$8&\" and localMonth(\"&$D$12&\") =\"&$E$8&\" and LocalDay(\"&$D$12&\")=\"&$F$8&\" and Barix(\"&$D$12&\",reference:=StartOfDay)=\"&A90&\"\", \"Bar\", \"\", \"Close\",\"5\",\"0\",\"All\",,,\"False\",\"T\",\"EveryTick\")","v":4334.75},-2.0719424460431653E-3,{"$f":"RTD(\"cqg.rtd\",,\"StudyData\", \"Close(\"&$D$12&\") when LocalYear(\"&$D$12&\")=\"&$D$9&\" and localMonth(\"&$D$12&\") =\"&$E$9&\" and LocalDay(\"&$D$12&\")=\"&$F$9&\" and Barix(\"&$D$12&\",reference:=StartOfDay)=\"&A90&\"\", \"Bar\", \"\", \"Close\",\"5\",\"0\",\"All\",,,\"False\",\"T\",\"EveryTick\")","v":4315},4.0137281135477869E-3,{"$f":"RTD(\"cqg.rtd\",,\"StudyData\", \"Close(\"&$D$12&\") when LocalYear(\"&$D$12&\")=\"&$D$10&\" and localMonth(\"&$D$12&\") =\"&$E$10&\" and LocalDay(\"&$D$12&\")=\"&$F$10&\" and Barix(\"&$D$12&\",reference:=StartOfDay)=\"&A90&\"\", \"Bar\", \"\", \"Close\",\"5\",\"0\",\"All\",,,\"False\",\"T\",\"EveryTick\")","v":4366},3.7358468877521697E-3,null,null,null,""]
[186,"08:30:00",null,null,null,null,null,{"$f":"RTD(\"cqg.rtd\",,\"StudyData\", \"Close(\"&$D$12&\") when LocalYear(\"&$D$12&\")=\"&$D$1&\" and localMonth(\"&$D$12&\") =\"&$E$1&\" and LocalDay(\"&$D$12&\")=\"&$F$1&\" and Barix(\"&$D$12&\",reference:=StartOfDay)=\"&A91&\"\", \"Bar\", \"\", \"Close\",\"5\",\"0\",\"All\",,,\"False\",\"T\",\"EveryTick\")","v":4351},2.3613430858722569E-3,{"$f":"RTD(\"cqg.rtd\",,\"StudyData\", \"Close(\"&$D$12&\") when LocalYear(\"&$D$12&\")=\"&$D$2&\" and localMonth(\"&$D$12&\") =\"&$E$2&\" and LocalDay(\"&$D$12&\")=\"&$F$2&\" and Barix(\"&$D$12&\",reference:=StartOfDay)=\"&A91&\"\", \"Bar\", \"\", \"Close\",\"5\",\"0\",\"All\",,,\"False\",\"T\",\"EveryTick\")","v":4358.75},1.781199724201333E-3,{"$f":"RTD(\"cqg.rtd\",,\"StudyData\", \"Close(\"&$D$12&\") when LocalYear(\"&$D$12&\")=\"&$D$3&\" and localMonth(\"&$D$12&\") =\"&$E$3&\" and LocalDay(\"&$D$12&\")=\"&$F$3&\" and Barix(\"&$D$12&\",reference:=StartOfDay)=\"&A91&\"\", \"Bar\", \"\", \"Close\",\"5\",\"0\",\"All\",,,\"False\",\"T\",\"EveryTick\")","v":4377.75},-1.0268697586856067E-3,{"$f":"RTD(\"cqg.rtd\",,\"StudyData\", \"Close(\"&$D$12&\") when LocalYear(\"&$D$12&\")=\"&$D$4&\" and localMonth(\"&$D$12&\") =\"&$E$4&\" and LocalDay(\"&$D$12&\")=\"&$F$4&\" and Barix(\"&$D$12&\",reference:=StartOfDay)=\"&A91&\"\", \"Bar\", \"\", \"Close\",\"5\",\"0\",\"All\",,,\"False\",\"T\",\"EveryTick\")","v":4387.75},-5.1252847380410028E-4,{"$f":"RTD(\"cqg.rtd\",,\"StudyData\", \"Close(\"&$D$12&\") when LocalYear(\"&$D$12&\")=\"&$D$5&\" and localMonth(\"&$D$12&\") =\"&$E$5&\" and LocalDay(\"&$D$12&\")=\"&$F$5&\" and Barix(\"&$D$12&\",reference:=StartOfDay)=\"&A91&\"\", \"Bar\", \"\", \"Close\",\"5\",\"0\",\"All\",,,\"False\",\"T\",\"EveryTick\")","v":4401.25},1.0852090032154342E-2,{"$f":"RTD(\"cqg.rtd\",,\"StudyData\", \"Close(\"&$D$12&\") when LocalYear(\"&$D$12&\")=\"&$D$6&\" and localMonth(\"&$D$12&\") =\"&$E$6&\" and LocalDay(\"&$D$12&\")=\"&$F$6&\" and Barix(\"&$D$12&\",reference:=StartOfDay)=\"&A91&\"\", \"Bar\", \"\", \"Close\",\"5\",\"0\",\"All\",,,\"False\",\"T\",\"EveryTick\")","v":4309.75},-5.5952930318412548E-3,{"$f":"RTD(\"cqg.rtd\",,\"StudyData\", \"Close(\"&$D$12&\") when LocalYear(\"&$D$12&\")=\"&$D$7&\" and localMonth(\"&$D$12&\") =\"&$E$7&\" and LocalDay(\"&$D$12&\")=\"&$F$7&\" and Barix(\"&$D$12&\",reference:=StartOfDay)=\"&A91&\"\", \"Bar\", \"\", \"Close\",\"5\",\"0\",\"All\",,,\"False\",\"T\",\"EveryTick\")","v":4308},3.9032915817069618E-3,{"$f":"RTD(\"cqg.rtd\",,\"StudyData\", \"Close(\"&$D$12&\") when LocalYear(\"&$D$12&\")=\"&$D$8&\" and localMonth(\"&$D$12&\") =\"&$E$8&\" and LocalDay(\"&$D$12&\")=\"&$F$8&\" and Barix(\"&$D$12&\",reference:=StartOfDay)=\"&A91&\"\", \"Bar\", \"\", \"Close\",\"5\",\"0\",\"All\",,,\"False\",\"T\",\"EveryTick\")","v":4339},-1.0935251798561152E-3,{"$f":"RTD(\"cqg.rtd\",,\"StudyData\", \"Close(\"&$D$12&\") when LocalYear(\"&$D$12&\")=\"&$D$9&\" and localMonth(\"&$D$12&\") =\"&$E$9&\" and LocalDay(\"&$D$12&\")=\"&$F$9&\" and Barix(\"&$D$12&\",reference:=StartOfDay)=\"&A91&\"\", \"Bar\", \"\", \"Close\",\"5\",\"0\",\"All\",,,\"False\",\"T\",\"EveryTick\")","v":4307.75},2.3267989064045141E-3,{"$f":"RTD(\"cqg.rtd\",,\"StudyData\", \"Close(\"&$D$12&\") when LocalYear(\"&$D$12&\")=\"&$D$10&\" and localMonth(\"&$D$12&\") =\"&$E$10&\" and LocalDay(\"&$D$12&\")=\"&$F$10&\" and Barix(\"&$D$12&\",reference:=StartOfDay)=\"&A91&\"\", \"Bar\", \"\", \"Close\",\"5\",\"0\",\"All\",,,\"False\",\"T\",\"EveryTick\")","v":4367.5},4.0806942927754473E-3,null,null,null,""]
[187,"08:35:00",null,null,null,null,null,{"$f":"RTD(\"cqg.rtd\",,\"StudyData\", \"Close(\"&$D$12&\") when LocalYear(\"&$D$12&\")=\"&$D$1&\" and localMonth(\"&$D$12&\") =\"&$E$1&\" and LocalDay(\"&$D$12&\")=\"&$F$1&\" and Barix(\"&$D$12&\",reference:=StartOfDay)=\"&A92&\"\", \"Bar\", \"\", \"Close\",\"5\",\"0\",\"All\",,,\"False\",\"T\",\"EveryTick\")","v":4356.25},3.5708114957092667E-3,{"$f":"RTD(\"cqg.rtd\",,\"StudyData\", \"Close(\"&$D$12&\") when LocalYear(\"&$D$12&\")=\"&$D$2&\" and localMonth(\"&$D$12&\") =\"&$E$2&\" and LocalDay(\"&$D$12&\")=\"&$F$2&\" and Barix(\"&$D$12&\",reference:=StartOfDay)=\"&A92&\"\", \"Bar\", \"\", \"Close\",\"5\",\"0\",\"All\",,,\"False\",\"T\",\"EveryTick\")","v":4358},1.6088255573431394E-3,{"$f":"RTD(\"cqg.rtd\",,\"StudyData\", \"Close(\"&$D$12&\") when LocalYear(\"&$D$12&\")=\"&$D$3&\" and localMonth(\"&$D$12&\") =\"&$E$3&\" and LocalDay(\"&$D$12&\")=\"&$F$3&\" and Barix(\"&$D$12&\",reference:=StartOfDay)=\"&A92&\"\", \"Bar\", \"\", \"Close\",\"5\",\"0\",\"All\",,,\"False\",\"T\",\"EveryTick\")","v":4379.75},-5.7048319926978155E-4,{"$f":"RTD(\"cqg.rtd\",,\"StudyData\", \"Close(\"&$D$12&\") when LocalYear(\"&$D$12&\")=\"&$D$4&\" and localMonth(\"&$D$12&\") =\"&$E$4&\" and LocalDay(\"&$D$12&\")=\"&$F$4&\" and Barix(\"&$D$12&\",reference:=StartOfDay)=\"&A92&\"\", \"Bar\", \"\", \"Close\",\"5\",\"0\",\"All\",,,\"False\",\"T\",\"EveryTick\")","v":4392.75},6.2642369020501139E-4,{"$f":"RTD(\"cqg.rtd\",,\"StudyData\", \"Close(\"&$D$12&\") when LocalYear(\"&$D$12&\")=\"&$D$5&\" and localMonth(\"&$D$12&\") =\"&$E$5&\" and LocalDay(\"&$D$12&\")=\"&$F$5&\" and Barix(\"&$D$12&\",reference:=StartOfDay)=\"&A92&\"\", \"Bar\", \"\", \"Close\",\"5\",\"0\",\"All\",,,\"False\",\"T\",\"EveryTick\")","v":4402.75},1.1196600826825907E-2,{"$f":"RTD(\"cqg.rtd\",,\"StudyData\", \"Close(\"&$D$12&\") when LocalYear(\"&$D$12&\")=\"&$D$6&\" and localMonth(\"&$D$12&\") =\"&$E$6&\" and LocalDay(\"&$D$12&\")=\"&$F$6&\" and Barix(\"&$D$12&\",reference:=StartOfDay)=\"&A92&\"\", \"Bar\", \"\", \"Close\",\"5\",\"0\",\"All\",,,\"False\",\"T\",\"EveryTick\")","v":4313.25},-4.78772496538994E-3,{"$f":"RTD(\"cqg.rtd\",,\"StudyData\", \"Close(\"&$D$12&\") when LocalYear(\"&$D$12&\")=\"&$D$7&\" and localMonth(\"&$D$12&\") =\"&$E$7&\" and LocalDay(\"&$D$12&\")=\"&$F$7&\" and Barix(\"&$D$12&\",reference:=StartOfDay)=\"&A92&\"\", \"Bar\", \"\", \"Close\",\"5\",\"0\",\"All\",,,\"False\",\"T\",\"EveryTick\")","v":4305},3.2041945819982522E-3,{"$f":"RTD(\"cqg.rtd\",,\"StudyData\", \"Close(\"&$D$12&\") when LocalYear(\"&$D$12&\")=\"&$D$8&\" and localMonth(\"&$D$12&\") =\"&$E$8&\" and LocalDay(\"&$D$12&\")=\"&$F$8&\" and Barix(\"&$D$12&\",reference:=StartOfDay)=\"&A92&\"\", \"Bar\", \"\", \"Close\",\"5\",\"0\",\"All\",,,\"False\",\"T\",\"EveryTick\")","v":4336.75},-1.6115107913669065E-3,{"$f":"RTD(\"cqg.rtd\",,\"StudyData\", \"Close(\"&$D$12&\") when LocalYear(\"&$D$12&\")=\"&$D$9&\" and localMonth(\"&$D$12&\") =\"&$E$9&\" and LocalDay(\"&$D$12&\")=\"&$F$9&\" and Barix(\"&$D$12&\",reference:=StartOfDay)=\"&A92&\"\", \"Bar\", \"\", \"Close\",\"5\",\"0\",\"All\",,,\"False\",\"T\",\"EveryTick\")","v":4302.5},1.1052294805421442E-3,{"$f":"RTD(\"cqg.rtd\",,\"StudyData\", \"Close(\"&$D$12&\") when LocalYear(\"&$D$12&\")=\"&$D$10&\" and localMonth(\"&$D$12&\") =\"&$E$10&\" and LocalDay(\"&$D$12&\")=\"&$F$10&\" and Barix(\"&$D$12&\",reference:=StartOfDay)=\"&A92&\"\", \"Bar\", \"\", \"Close\",\"5\",\"0\",\"All\",,,\"False\",\"T\",\"EveryTick\")","v":4361},2.5863555376745792E-3,null,null,null,""]
[188,"08:40:00",null,null,null,null,null,{"$f":"RTD(\"cqg.rtd\",,\"StudyData\", \"Close(\"&$D$12&\") when LocalYear(\"&$D$12&\")=\"&$D$1&\" and localMonth(\"&$D$12&\") =\"&$E$1&\" and LocalDay(\"&$D$12&\")=\"&$F$1&\" and Barix(\"&$D$12&\",reference:=StartOfDay)=\"&A93&\"\", \"Bar\", \"\", \"Close\",\"5\",\"0\",\"All\",,,\"False\",\"T\",\"EveryTick\")","v":4348.75},1.8429994816563959E-3,{"$f":"RTD(\"cqg.rtd\",,\"StudyData\", \"Close(\"&$D$12&\") when LocalYear(\"&$D$12&\")=\"&$D$2&\" and localMonth(\"&$D$12&\") =\"&$E$2&\" and LocalDay(\"&$D$12&\")=\"&$F$2&\" and Barix(\"&$D$12&\",reference:=StartOfDay)=\"&A93&\"\", \"Bar\", \"\", \"Close\",\"5\",\"0\",\"All\",,,\"False\",\"T\",\"EveryTick\")","v":4347.25},-8.6187083429096762E-4,{"$f":"RTD(\"cqg.rtd\",,\"StudyData\", \"Close(\"&$D$12&\") when LocalYear(\"&$D$12&\")=\"&$D$3&\" and localMonth(\"&$D$12&\") =\"&$E$3&\" and LocalDay(\"&$D$12&\")=\"&$F$3&\" and Barix(\"&$D$12&\",reference:=StartOfDay)=\"&A93&\"\", \"Bar\", \"\", \"Close\",\"5\",\"0\",\"All\",,,\"False\",\"T\",\"EveryTick\")","v":4386.75},1.0268697586856067E-3,{"$f":"RTD(\"cqg.rtd\",,\"StudyData\", \"Close(\"&$D$12&\") when LocalYear(\"&$D$12&\")=\"&$D$4&\" and localMonth(\"&$D$12&\") =\"&$E$4&\" and LocalDay(\"&$D$12&\")=\"&$F$4&\" and Barix(\"&$D$12&\",reference:=StartOfDay)=\"&A93&\"\", \"Bar\", \"\", \"Close\",\"5\",\"0\",\"All\",,,\"False\",\"T\",\"EveryTick\")","v":4392.25},5.1252847380410028E-4,{"$f":"RTD(\"cqg.rtd\",,\"StudyData\", \"Close(\"&$D$12&\") when LocalYear(\"&$D$12&\")=\"&$D$5&\" and localMonth(\"&$D$12&\") =\"&$E$5&\" and LocalDay(\"&$D$12&\")=\"&$F$5&\" and Barix(\"&$D$12&\",reference:=StartOfDay)=\"&A93&\"\", \"Bar\", \"\", \"Close\",\"5\",\"0\",\"All\",,,\"False\",\"T\",\"EveryTick\")","v":4400.25},1.0622416169039963E-2,{"$f":"RTD(\"cqg.rtd\",,\"StudyData\", \"Close(\"&$D$12&\") when LocalYear(\"&$D$12&\")=\"&$D$6&\" and localMonth(\"&$D$12&\") =\"&$E$6&\" and LocalDay(\"&$D$12&\")=\"&$F$6&\" and Barix(\"&$D$12&\",reference:=StartOfDay)=\"&A93&\"\", \"Bar\", \"\", \"Close\",\"5\",\"0\",\"All\",,,\"False\",\"T\",\"EveryTick\")","v":4316.25},-4.0955237655745267E-3,{"$f":"RTD(\"cqg.rtd\",,\"StudyData\", \"Close(\"&$D$12&\") when LocalYear(\"&$D$12&\")=\"&$D$7&\" and localMonth(\"&$D$12&\") =\"&$E$7&\" and LocalDay(\"&$D$12&\")=\"&$F$7&\" and Barix(\"&$D$12&\",reference:=StartOfDay)=\"&A93&\"\", \"Bar\", \"\", \"Close\",\"5\",\"0\",\"All\",,,\"False\",\"T\",\"EveryTick\")","v":4303},2.7381299155257791E-3,{"$f":"RTD(\"cqg.rtd\",,\"StudyData\", \"Close(\"&$D$12&\") when LocalYear(\"&$D$12&\")=\"&$D$8&\" and localMonth(\"&$D$12&\") =\"&$E$8&\" and LocalDay(\"&$D$12&\")=\"&$F$8&\" and Barix(\"&$D$12&\",reference:=StartOfDay)=\"&A93&\"\", \"Bar\", \"\", \"Close\",\"5\",\"0\",\"All\",,,\"False\",\"T\",\"EveryTick\")","v":4329},-3.3956834532374099E-3,{"$f":"RTD(\"cqg.rtd\",,\"StudyData\", \"Close(\"&$D$12&\") when LocalYear(\"&$D$12&\")=\"&$D$9&\" and localMonth(\"&$D$12&\") =\"&$E$9&\" and LocalDay(\"&$D$12&\")=\"&$F$9&\" and Barix(\"&$D$12&\",reference:=StartOfDay)=\"&A93&\"\", \"Bar\", \"\", \"Close\",\"5\",\"0\",\"All\",,,\"False\",\"T\",\"EveryTick\")","v":4297.5},-5.8169972660112851E-5,{"$f":"RTD(\"cqg.rtd\",,\"StudyData\", \"Close(\"&$D$12&\") when LocalYear(\"&$D$12&\")=\"&$D$10&\" and localMonth(\"&$D$12&\") =\"&$E$10&\" and LocalDay(\"&$D$12&\")=\"&$F$10&\" and Barix(\"&$D$12&\",reference:=StartOfDay)=\"&A93&\"\", \"Bar\", \"\", \"Close\",\"5\",\"0\",\"All\",,,\"False\",\"T\",\"EveryTick\")","v":4363.5},3.1611012127133742E-3,null,null,null,""]
[189,"08:45:00",null,null,null,null,null,{"$f":"RTD(\"cqg.rtd\",,\"StudyData\", \"Close(\"&$D$12&\") when LocalYear(\"&$D$12&\")=\"&$D$1&\" and localMonth(\"&$D$12&\") =\"&$E$1&\" and LocalDay(\"&$D$12&\")=\"&$F$1&\" and Barix(\"&$D$12&\",reference:=StartOfDay)=\"&A94&\"\", \"Bar\", \"\", \"Close\",\"5\",\"0\",\"All\",,,\"False\",\"T\",\"EveryTick\")","v":4337.75},-6.9112480562114845E-4,{"$f":"RTD(\"cqg.rtd\",,\"StudyData\", \"Close(\"&$D$12&\") when LocalYear(\"&$D$12&\")=\"&$D$2&\" and localMonth(\"&$D$12&\") =\"&$E$2&\" and LocalDay(\"&$D$12&\")=\"&$F$2&\" and Barix(\"&$D$12&\",reference:=StartOfDay)=\"&A94&\"\", \"Bar\", \"\", \"Close\",\"5\",\"0\",\"All\",,,\"False\",\"T\",\"EveryTick\")","v":4344.75},-1.4364513904849461E-3,{"$f":"RTD(\"cqg.rtd\",,\"StudyData\", \"Close(\"&$D$12&\") when LocalYear(\"&$D$12&\")=\"&$D$3&\" and localMonth(\"&$D$12&\") =\"&$E$3&\" and LocalDay(\"&$D$12&\")=\"&$F$3&\" and Barix(\"&$D$12&\",reference:=StartOfDay)=\"&A94&\"\", \"Bar\", \"\", \"Close\",\"5\",\"0\",\"All\",,,\"False\",\"T\",\"EveryTick\")","v":4390.25},1.8255462376633009E-3,{"$f":"RTD(\"cqg.rtd\",,\"StudyData\", \"Close(\"&$D$12&\") when LocalYear(\"&$D$12&\")=\"&$D$4&\" and localMonth(\"&$D$12&\") =\"&$E$4&\" and LocalDay(\"&$D$12&\")=\"&$F$4&\" and Barix(\"&$D$12&\",reference:=StartOfDay)=\"&A94&\"\", \"Bar\", \"\", \"Close\",\"5\",\"0\",\"All\",,,\"False\",\"T\",\"EveryTick\")","v":4392.75},6.2642369020501139E-4,{"$f":"RTD(\"cqg.rtd\",,\"StudyData\", \"Close(\"&$D$12&\") when LocalYear(\"&$D$12&\")=\"&$D$5&\" and localMonth(\"&$D$12&\") =\"&$E$5&\" and LocalDay(\"&$D$12&\")=\"&$F$5&\" and Barix(\"&$D$12&\",reference:=StartOfDay)=\"&A94&\"\", \"Bar\", \"\", \"Close\",\"5\",\"0\",\"All\",,,\"False\",\"T\",\"EveryTick\")","v":4399},1.0335323840146991E-2,{"$f":"RTD(\"cqg.rtd\",,\"StudyData\", \"Close(\"&$D$12&\") when LocalYear(\"&$D$12&\")=\"&$D$6&\" and localMonth(\"&$D$12&\") =\"&$E$6&\" and LocalDay(\"&$D$12&\")=\"&$F$6&\" and Barix(\"&$D$12&\",reference:=StartOfDay)=\"&A94&\"\", \"Bar\", \"\", \"Close\",\"5\",\"0\",\"All\",,,\"False\",\"T\",\"EveryTick\")","v":4305.75},-6.5182279649284728E-3,{"$f":"RTD(\"cqg.rtd\",,\"StudyData\", \"Close(\"&$D$12&\") when LocalYear(\"&$D$12&\")=\"&$D$7&\" and localMonth(\"&$D$12&\") =\"&$E$7&\" and LocalDay(\"&$D$12&\")=\"&$F$7&\" and Barix(\"&$D$12&\",reference:=StartOfDay)=\"&A94&\"\", \"Bar\", \"\", \"Close\",\"5\",\"0\",\"All\",,,\"False\",\"T\",\"EveryTick\")","v":4312.5},4.9519370812700263E-3,{"$f":"RTD(\"cqg.rtd\",,\"StudyData\", \"Close(\"&$D$12&\") when LocalYear(\"&$D$12&\")=\"&$D$8&\" and localMonth(\"&$D$12&\") =\"&$E$8&\" and LocalDay(\"&$D$12&\")=\"&$F$8&\" and Barix(\"&$D$12&\",reference:=StartOfDay)=\"&A94&\"\", \"Bar\", \"\", \"Close\",\"5\",\"0\",\"All\",,,\"False\",\"T\",\"EveryTick\")","v":4328.5},-3.5107913669064749E-3,{"$f":"RTD(\"cqg.rtd\",,\"StudyData\", \"Close(\"&$D$12&\") when LocalYear(\"&$D$12&\")=\"&$D$9&\" and localMonth(\"&$D$12&\") =\"&$E$9&\" and LocalDay(\"&$D$12&\")=\"&$F$9&\" and Barix(\"&$D$12&\",reference:=StartOfDay)=\"&A94&\"\", \"Bar\", \"\", \"Close\",\"5\",\"0\",\"All\",,,\"False\",\"T\",\"EveryTick\")","v":4300},5.2352975394101564E-4,{"$f":"RTD(\"cqg.rtd\",,\"StudyData\", \"Close(\"&$D$12&\") when LocalYear(\"&$D$12&\")=\"&$D$10&\" and localMonth(\"&$D$12&\") =\"&$E$10&\" and LocalDay(\"&$D$12&\")=\"&$F$10&\" and Barix(\"&$D$12&\",reference:=StartOfDay)=\"&A94&\"\", \"Bar\", \"\", \"Close\",\"5\",\"0\",\"All\",,,\"False\",\"T\",\"EveryTick\")","v":4369.75},4.5979654003103628E-3,null,null,null,""]
[190,"08:50:00",null,null,null,null,null,{"$f":"RTD(\"cqg.rtd\",,\"StudyData\", \"Close(\"&$D$12&\") when LocalYear(\"&$D$12&\")=\"&$D$1&\" and localMonth(\"&$D$12&\") =\"&$E$1&\" and LocalDay(\"&$D$12&\")=\"&$F$1&\" and Barix(\"&$D$12&\",reference:=StartOfDay)=\"&A95&\"\", \"Bar\", \"\", \"Close\",\"5\",\"0\",\"All\",,,\"False\",\"T\",\"EveryTick\")","v":4332.75},-1.8429994816563959E-3,{"$f":"RTD(\"cqg.rtd\",,\"StudyData\", \"Close(\"&$D$12&\") when LocalYear(\"&$D$12&\")=\"&$D$2&\" and localMonth(\"&$D$12&\") =\"&$E$2&\" and LocalDay(\"&$D$12&\")=\"&$F$2&\" and Barix(\"&$D$12&\",reference:=StartOfDay)=\"&A95&\"\", \"Bar\", \"\", \"Close\",\"5\",\"0\",\"All\",,,\"False\",\"T\",\"EveryTick\")","v":4353.75},6.3203861181337624E-4,{"$f":"RTD(\"cqg.rtd\",,\"StudyData\", \"Close(\"&$D$12&\") when LocalYear(\"&$D$12&\")=\"&$D$3&\" and localMonth(\"&$D$12&\") =\"&$E$3&\" and LocalDay(\"&$D$12&\")=\"&$F$3&\" and Barix(\"&$D$12&\",reference:=StartOfDay)=\"&A95&\"\", \"Bar\", \"\", \"Close\",\"5\",\"0\",\"All\",,,\"False\",\"T\",\"EveryTick\")","v":4396},3.1376575959837982E-3,{"$f":"RTD(\"cqg.rtd\",,\"StudyData\", \"Close(\"&$D$12&\") when LocalYear(\"&$D$12&\")=\"&$D$4&\" and localMonth(\"&$D$12&\") =\"&$E$4&\" and LocalDay(\"&$D$12&\")=\"&$F$4&\" and Barix(\"&$D$12&\",reference:=StartOfDay)=\"&A95&\"\", \"Bar\", \"\", \"Close\",\"5\",\"0\",\"All\",,,\"False\",\"T\",\"EveryTick\")","v":4388},-4.5558086560364467E-4,{"$f":"RTD(\"cqg.rtd\",,\"StudyData\", \"Close(\"&$D$12&\") when LocalYear(\"&$D$12&\")=\"&$D$5&\" and localMonth(\"&$D$12&\") =\"&$E$5&\" and LocalDay(\"&$D$12&\")=\"&$F$5&\" and Barix(\"&$D$12&\",reference:=StartOfDay)=\"&A95&\"\", \"Bar\", \"\", \"Close\",\"5\",\"0\",\"All\",,,\"False\",\"T\",\"EveryTick\")","v":4404.75},1.1655948553054662E-2,{"$f":"RTD(\"cqg.rtd\",,\"StudyData\", \"Close(\"&$D$12&\") when LocalYear(\"&$D$12&\")=\"&$D$6&\" and localMonth(\"&$D$12&\") =\"&$E$6&\" and LocalDay(\"&$D$12&\")=\"&$F$6&\" and Barix(\"&$D$12&\",reference:=StartOfDay)=\"&A95&\"\", \"Bar\", \"\", \"Close\",\"5\",\"0\",\"All\",,,\"False\",\"T\",\"EveryTick\")","v":4297},-8.5371481310567605E-3,{"$f":"RTD(\"cqg.rtd\",,\"StudyData\", \"Close(\"&$D$12&\") when LocalYear(\"&$D$12&\")=\"&$D$7&\" and localMonth(\"&$D$12&\") =\"&$E$7&\" and LocalDay(\"&$D$12&\")=\"&$F$7&\" and Barix(\"&$D$12&\",reference:=StartOfDay)=\"&A95&\"\", \"Bar\", \"\", \"Close\",\"5\",\"0\",\"All\",,,\"False\",\"T\",\"EveryTick\")","v":4318},6.2336149140693273E-3,{"$f":"RTD(\"cqg.rtd\",,\"StudyData\", \"Close(\"&$D$12&\") when LocalYear(\"&$D$12&\")=\"&$D$8&\" and localMonth(\"&$D$12&\") =\"&$E$8&\" and LocalDay(\"&$D$12&\")=\"&$F$8&\" and Barix(\"&$D$12&\",reference:=StartOfDay)=\"&A95&\"\", \"Bar\", \"\", \"Close\",\"5\",\"0\",\"All\",,,\"False\",\"T\",\"EveryTick\")","v":4330.25},-3.1079136690647484E-3,{"$f":"RTD(\"cqg.rtd\",,\"StudyData\", \"Close(\"&$D$12&\") when LocalYear(\"&$D$12&\")=\"&$D$9&\" and localMonth(\"&$D$12&\") =\"&$E$9&\" and LocalDay(\"&$D$12&\")=\"&$F$9&\" and Barix(\"&$D$12&\",reference:=StartOfDay)=\"&A95&\"\", \"Bar\", \"\", \"Close\",\"5\",\"0\",\"All\",,,\"False\",\"T\",\"EveryTick\")","v":4297.75},0,{"$f":"RTD(\"cqg.rtd\",,\"StudyData\", \"Close(\"&$D$12&\") when LocalYear(\"&$D$12&\")=\"&$D$10&\" and localMonth(\"&$D$12&\") =\"&$E$10&\" and LocalDay(\"&$D$12&\")=\"&$F$10&\" and Barix(\"&$D$12&\",reference:=StartOfDay)=\"&A95&\"\", \"Bar\", \"\", \"Close\",\"5\",\"0\",\"All\",,,\"False\",\"T\",\"EveryTick\")","v":4372.25},5.1727110753491583E-3,null,null,null,""]
[191,"08:55:00",null,null,null,null,null,{"$f":"RTD(\"cqg.rtd\",,\"StudyData\", \"Close(\"&$D$12&\") when LocalYear(\"&$D$12&\")=\"&$D$1&\" and localMonth(\"&$D$12&\") =\"&$E$1&\" and LocalDay(\"&$D$12&\")=\"&$F$1&\" and Barix(\"&$D$12&\",reference:=StartOfDay)=\"&A96&\"\", \"Bar\", \"\", \"Close\",\"5\",\"0\",\"All\",,,\"False\",\"T\",\"EveryTick\")","v":4335},-1.3246558774405344E-3,{"$f":"RTD(\"cqg.rtd\",,\"StudyData\", \"Close(\"&$D$12&\") when LocalYear(\"&$D$12&\")=\"&$D$2&\" and localMonth(\"&$D$12&\") =\"&$E$2&\" and LocalDay(\"&$D$12&\")=\"&$F$2&\" and Barix(\"&$D$12&\",reference:=StartOfDay)=\"&A96&\"\", \"Bar\", \"\", \"Close\",\"5\",\"0\",\"All\",,,\"False\",\"T\",\"EveryTick\")","v":4345.25},-1.3215352792461503E-3,{"$f":"RTD(\"cqg.rtd\",,\"StudyData\", \"Close(\"&$D$12&\") when LocalYear(\"&$D$12&\")=\"&$D$3&\" and localMonth(\"&$D$12&\") =\"&$E$3&\" and LocalDay(\"&$D$12&\")=\"&$F$3&\" and Barix(\"&$D$12&\",reference:=StartOfDay)=\"&A96&\"\", \"Bar\", \"\", \"Close\",\"5\",\"0\",\"All\",,,\"False\",\"T\",\"EveryTick\")","v":4398.5},3.70814079525358E-3,{"$f":"RTD(\"cqg.rtd\",,\"StudyData\", \"Close(\"&$D$12&\") when LocalYear(\"&$D$12&\")=\"&$D$4&\" and localMonth(\"&$D$12&\") =\"&$E$4&\" and LocalDay(\"&$D$12&\")=\"&$F$4&\" and Barix(\"&$D$12&\",reference:=StartOfDay)=\"&A96&\"\", \"Bar\", \"\", \"Close\",\"5\",\"0\",\"All\",,,\"False\",\"T\",\"EveryTick\")","v":4388},-4.5558086560364467E-4,{"$f":"RTD(\"cqg.rtd\",,\"StudyData\", \"Close(\"&$D$12&\") when LocalYear(\"&$D$12&\")=\"&$D$5&\" and localMonth(\"&$D$12&\") =\"&$E$5&\" and LocalDay(\"&$D$12&\")=\"&$F$5&\" and Barix(\"&$D$12&\",reference:=StartOfDay)=\"&A96&\"\", \"Bar\", \"\", \"Close\",\"5\",\"0\",\"All\",,,\"False\",\"T\",\"EveryTick\")","v":4411.5},1.320624712907671E-2,{"$f":"RTD(\"cqg.rtd\",,\"StudyData\", \"Close(\"&$D$12&\") when LocalYear(\"&$D$12&\")=\"&$D$6&\" and localMonth(\"&$D$12&\") =\"&$E$6&\" and LocalDay(\"&$D$12&\")=\"&$F$6&\" and Barix(\"&$D$12&\",reference:=StartOfDay)=\"&A96&\"\", \"Bar\", \"\", \"Close\",\"5\",\"0\",\"All\",,,\"False\",\"T\",\"EveryTick\")","v":4293},-9.4600830641439777E-3,{"$f":"RTD(\"cqg.rtd\",,\"StudyData\", \"Close(\"&$D$12&\") when LocalYear(\"&$D$12&\")=\"&$D$7&\" and localMonth(\"&$D$12&\") =\"&$E$7&\" and LocalDay(\"&$D$12&\")=\"&$F$7&\" and Barix(\"&$D$12&\",reference:=StartOfDay)=\"&A96&\"\", \"Bar\", \"\", \"Close\",\"5\",\"0\",\"All\",,,\"False\",\"T\",\"EveryTick\")","v":4317.25},6.0588406641421495E-3,{"$f":"RTD(\"cqg.rtd\",,\"StudyData\", \"Close(\"&$D$12&\") when LocalYear(\"&$D$12&\")=\"&$D$8&\" and localMonth(\"&$D$12&\") =\"&$E$8&\" and LocalDay(\"&$D$12&\")=\"&$F$8&\" and Barix(\"&$D$12&\",reference:=StartOfDay)=\"&A96&\"\", \"Bar\", \"\", \"Close\",\"5\",\"0\",\"All\",,,\"False\",\"T\",\"EveryTick\")","v":4332},-2.7050359712230214E-3,{"$f":"RTD(\"cqg.rtd\",,\"StudyData\", \"Close(\"&$D$12&\") when LocalYear(\"&$D$12&\")=\"&$D$9&\" and localMonth(\"&$D$12&\") =\"&$E$9&\" and LocalDay(\"&$D$12&\")=\"&$F$9&\" and Barix(\"&$D$12&\",reference:=StartOfDay)=\"&A96&\"\", \"Bar\", \"\", \"Close\",\"5\",\"0\",\"All\",,,\"False\",\"T\",\"EveryTick\")","v":4298.75},2.326798906404514E-4,{"$f":"RTD(\"cqg.rtd\",,\"StudyData\", \"Close(\"&$D$12&\") when LocalYear(\"&$D$12&\")=\"&$D$10&\" and localMonth(\"&$D$12&\") =\"&$E$10&\" and LocalDay(\"&$D$12&\")=\"&$F$10&\" and Barix(\"&$D$12&\",reference:=StartOfDay)=\"&A96&\"\", \"Bar\", \"\", \"Close\",\"5\",\"0\",\"All\",,,\"False\",\"T\",\"EveryTick\")","v":4364},3.2760503477211335E-3,null,null,null,""]
[192,"09:00:00",null,null,null,null,null,{"$f":"RTD(\"cqg.rtd\",,\"StudyData\", \"Close(\"&$D$12&\") when LocalYear(\"&$D$12&\")=\"&$D$1&\" and localMonth(\"&$D$12&\") =\"&$E$1&\" and LocalDay(\"&$D$12&\")=\"&$F$1&\" and Barix(\"&$D$12&\",reference:=StartOfDay)=\"&A97&\"\", \"Bar\", \"\", \"Close\",\"5\",\"0\",\"All\",,,\"False\",\"T\",\"EveryTick\")","v":4335},{"$f":"IFERROR((H97-$G$2)/$G$2,NA())","v":-1.3246558774405344E-3},{"$f":"RTD(\"cqg.rtd\",,\"StudyData\", \"Close(\"&$D$12&\") when LocalYear(\"&$D$12&\")=\"&$D$2&\" and localMonth(\"&$D$12&\") =\"&$E$2&\" and LocalDay(\"&$D$12&\")=\"&$F$2&\" and Barix(\"&$D$12&\",reference:=StartOfDay)=\"&A97&\"\", \"Bar\", \"\", \"Close\",\"5\",\"0\",\"All\",,,\"False\",\"T\",\"EveryTick\")","v":4348},{"$f":"IFERROR((J97-$G$3)/$G$3,NA())","v":-6.8949666743277403E-4},{"$f":"RTD(\"cqg.rtd\",,\"StudyData\", \"Close(\"&$D$12&\") when LocalYear(\"&$D$12&\")=\"&$D$3&\" and localMonth(\"&$D$12&\") =\"&$E$3&\" and LocalDay(\"&$D$12&\")=\"&$F$3&\" and Barix(\"&$D$12&\",reference:=StartOfDay)=\"&A97&\"\", \"Bar\", \"\", \"Close\",\"5\",\"0\",\"All\",,,\"False\",\"T\",\"EveryTick\")","v":4399.5},{"$f":"IFERROR((L97-$G$4)/$G$4,NA())","v":3.9363340749614924E-3},{"$f":"RTD(\"cqg.rtd\",,\"StudyData\", \"Close(\"&$D$12&\") when LocalYear(\"&$D$12&\")=\"&$D$4&\" and localMonth(\"&$D$12&\") =\"&$E$4&\" and LocalDay(\"&$D$12&\")=\"&$F$4&\" and Barix(\"&$D$12&\",reference:=StartOfDay)=\"&A97&\"\", \"Bar\", \"\", \"Close\",\"5\",\"0\",\"All\",,,\"False\",\"T\",\"EveryTick\")","v":4398.5},{"$f":"IFERROR((N97-$G$5)/$G$5,NA())","v":1.9362186788154897E-3},{"$f":"RTD(\"cqg.rtd\",,\"StudyData\", \"Close(\"&$D$12&\") when LocalYear(\"&$D$12&\")=\"&$D$5&\" and localMonth(\"&$D$12&\") =\"&$E$5&\" and LocalDay(\"&$D$12&\")=\"&$F$5&\" and Barix(\"&$D$12&\",reference:=StartOfDay)=\"&A97&\"\", \"Bar\", \"\", \"Close\",\"5\",\"0\",\"All\",,,\"False\",\"T\",\"EveryTick\")","v":4416.25},{"$f":"IFERROR((P97-$G$6)/$G$6,NA())","v":1.4297197978870005E-2},{"$f":"RTD(\"cqg.rtd\",,\"StudyData\", \"Close(\"&$D$12&\") when LocalYear(\"&$D$12&\")=\"&$D$6&\" and localMonth(\"&$D$12&\") =\"&$E$6&\" and LocalDay(\"&$D$12&\")=\"&$F$6&\" and Barix(\"&$D$12&\",reference:=StartOfDay)=\"&A97&\"\", \"Bar\", \"\", \"Close\",\"5\",\"0\",\"All\",,,\"False\",\"T\",\"EveryTick\")","v":4283.75},{"$f":"IFERROR((R97-$G$7)/$G$7,NA())","v":-1.1594370096908169E-2},{"$f":"RTD(\"cqg.rtd\",,\"StudyData\", \"Close(\"&$D$12&\") when LocalYear(\"&$D$12&\")=\"&$D$7&\" and localMonth(\"&$D$12&\") =\"&$E$7&\" and LocalDay(\"&$D$12&\")=\"&$F$7&\" and Barix(\"&$D$12&\",reference:=StartOfDay)=\"&A97&\"\", \"Bar\", \"\", \"Close\",\"5\",\"0\",\"All\",,,\"False\",\"T\",\"EveryTick\")","v":4324.5},{"$f":"IFERROR((T97-$G$8)/$G$8,NA())","v":7.7483250801048649E-3},{"$f":"RTD(\"cqg.rtd\",,\"StudyData\", \"Close(\"&$D$12&\") when LocalYear(\"&$D$12&\")=\"&$D$8&\" and localMonth(\"&$D$12&\") =\"&$E$8&\" and LocalDay(\"&$D$12&\")=\"&$F$8&\" and Barix(\"&$D$12&\",reference:=StartOfDay)=\"&A97&\"\", \"Bar\", \"\", \"Close\",\"5\",\"0\",\"All\",,,\"False\",\"T\",\"EveryTick\")","v":4319.25},{"$f":"IFERROR((V97-$G$9)/$G$9,NA())","v":-5.6402877697841729E-3},{"$f":"RTD(\"cqg.rtd\",,\"StudyData\", \"Close(\"&$D$12&\") when LocalYear(\"&$D$12&\")=\"&$D$9&\" and localMonth(\"&$D$12&\") =\"&$E$9&\" and LocalDay(\"&$D$12&\")=\"&$F$9&\" and Barix(\"&$D$12&\",reference:=StartOfDay)=\"&A97&\"\", \"Bar\", \"\", \"Close\",\"5\",\"0\",\"All\",,,\"False\",\"T\",\"EveryTick\")","v":4297.75},{"$f":"IFERROR((X97-$G$10)/$G$10,NA())","v":0},{"$f":"RTD(\"cqg.rtd\",,\"StudyData\", \"Close(\"&$D$12&\") when LocalYear(\"&$D$12&\")=\"&$D$10&\" and localMonth(\"&$D$12&\") =\"&$E$10&\" and LocalDay(\"&$D$12&\")=\"&$F$10&\" and Barix(\"&$D$12&\",reference:=StartOfDay)=\"&A97&\"\", \"Bar\", \"\", \"Close\",\"5\",\"0\",\"All\",,,\"False\",\"T\",\"EveryTick\")","v":4362.75},{"$f":"IFERROR((Z97-$G$11)/$G$11,NA())","v":2.9886775102017358E-3},null,null,null,""]
[193,"09:05:00",null,null,null,null,null,{"$f":"RTD(\"cqg.rtd\",,\"StudyData\", \"Close(\"&$D$12&\") when LocalYear(\"&$D$12&\")=\"&$D$1&\" and localMonth(\"&$D$12&\") =\"&$E$1&\" and LocalDay(\"&$D$12&\")=\"&$F$1&\" and Barix(\"&$D$12&\",reference:=StartOfDay)=\"&A98&\"\", \"Bar\", \"\", \"Close\",\"5\",\"0\",\"All\",,,\"False\",\"T\",\"EveryTick\")","v":4333.25},-1.7278120140528711E-3,{"$f":"RTD(\"cqg.rtd\",,\"StudyData\", \"Close(\"&$D$12&\") when LocalYear(\"&$D$12&\")=\"&$D$2&\" and localMonth(\"&$D$12&\") =\"&$E$2&\" and LocalDay(\"&$D$12&\")=\"&$F$2&\" and Barix(\"&$D$12&\",reference:=StartOfDay)=\"&A98&\"\", \"Bar\", \"\", \"Close\",\"5\",\"0\",\"All\",,,\"False\",\"T\",\"EveryTick\")","v":4342.5},-1.9535738910595266E-3,{"$f":"RTD(\"cqg.rtd\",,\"StudyData\", \"Close(\"&$D$12&\") when LocalYear(\"&$D$12&\")=\"&$D$3&\" and localMonth(\"&$D$12&\") =\"&$E$3&\" and LocalDay(\"&$D$12&\")=\"&$F$3&\" and Barix(\"&$D$12&\",reference:=StartOfDay)=\"&A98&\"\", \"Bar\", \"\", \"Close\",\"5\",\"0\",\"All\",,,\"False\",\"T\",\"EveryTick\")","v":4399.5},3.9363340749614924E-3,{"$f":"RTD(\"cqg.rtd\",,\"StudyData\", \"Close(\"&$D$12&\") when LocalYear(\"&$D$12&\")=\"&$D$4&\" and localMonth(\"&$D$12&\") =\"&$E$4&\" and LocalDay(\"&$D$12&\")=\"&$F$4&\" and Barix(\"&$D$12&\",reference:=StartOfDay)=\"&A98&\"\", \"Bar\", \"\", \"Close\",\"5\",\"0\",\"All\",,,\"False\",\"T\",\"EveryTick\")","v":4397.5},1.7084282460136675E-3,{"$f":"RTD(\"cqg.rtd\",,\"StudyData\", \"Close(\"&$D$12&\") when LocalYear(\"&$D$12&\")=\"&$D$5&\" and localMonth(\"&$D$12&\") =\"&$E$5&\" and LocalDay(\"&$D$12&\")=\"&$F$5&\" and Barix(\"&$D$12&\",reference:=StartOfDay)=\"&A98&\"\", \"Bar\", \"\", \"Close\",\"5\",\"0\",\"All\",,,\"False\",\"T\",\"EveryTick\")","v":4414.75},1.3952687184198438E-2,{"$f":"RTD(\"cqg.rtd\",,\"StudyData\", \"Close(\"&$D$12&\") when LocalYear(\"&$D$12&\")=\"&$D$6&\" and localMonth(\"&$D$12&\") =\"&$E$6&\" and LocalDay(\"&$D$12&\")=\"&$F$6&\" and Barix(\"&$D$12&\",reference:=StartOfDay)=\"&A98&\"\", \"Bar\", \"\", \"Close\",\"5\",\"0\",\"All\",,,\"False\",\"T\",\"EveryTick\")","v":4288.75},-1.0440701430549147E-2,{"$f":"RTD(\"cqg.rtd\",,\"StudyData\", \"Close(\"&$D$12&\") when LocalYear(\"&$D$12&\")=\"&$D$7&\" and localMonth(\"&$D$12&\") =\"&$E$7&\" and LocalDay(\"&$D$12&\")=\"&$F$7&\" and Barix(\"&$D$12&\",reference:=StartOfDay)=\"&A98&\"\", \"Bar\", \"\", \"Close\",\"5\",\"0\",\"All\",,,\"False\",\"T\",\"EveryTick\")","v":4328.75},8.7387124963588698E-3,{"$f":"RTD(\"cqg.rtd\",,\"StudyData\", \"Close(\"&$D$12&\") when LocalYear(\"&$D$12&\")=\"&$D$8&\" and localMonth(\"&$D$12&\") =\"&$E$8&\" and LocalDay(\"&$D$12&\")=\"&$F$8&\" and Barix(\"&$D$12&\",reference:=StartOfDay)=\"&A98&\"\", \"Bar\", \"\", \"Close\",\"5\",\"0\",\"All\",,,\"False\",\"T\",\"EveryTick\")","v":4321.25},-5.1798561151079137E-3,{"$f":"RTD(\"cqg.rtd\",,\"StudyData\", \"Close(\"&$D$12&\") when LocalYear(\"&$D$12&\")=\"&$D$9&\" and localMonth(\"&$D$12&\") =\"&$E$9&\" and LocalDay(\"&$D$12&\")=\"&$F$9&\" and Barix(\"&$D$12&\",reference:=StartOfDay)=\"&A98&\"\", \"Bar\", \"\", \"Close\",\"5\",\"0\",\"All\",,,\"False\",\"T\",\"EveryTick\")","v":4302.5},1.1052294805421442E-3,{"$f":"RTD(\"cqg.rtd\",,\"StudyData\", \"Close(\"&$D$12&\") when LocalYear(\"&$D$12&\")=\"&$D$10&\" and localMonth(\"&$D$12&\") =\"&$E$10&\" and LocalDay(\"&$D$12&\")=\"&$F$10&\" and Barix(\"&$D$12&\",reference:=StartOfDay)=\"&A98&\"\", \"Bar\", \"\", \"Close\",\"5\",\"0\",\"All\",,,\"False\",\"T\",\"EveryTick\")","v":4359},2.1265589976435426E-3,null,null,null,{"$f":"IFERROR(IF(AND(H97<>\"\",H98<>\"\",H99=\"\"),A98,\"\"),\"\")","v":""}]
[194,"09:10:00",null,null,null,null,null,{"$f":"RTD(\"cqg.rtd\",,\"StudyData\", \"Close(\"&$D$12&\") when LocalYear(\"&$D$12&\")=\"&$D$1&\" and localMonth(\"&$D$12&\") =\"&$E$1&\" and LocalDay(\"&$D$12&\")=\"&$F$1&\" and Barix(\"&$D$12&\",reference:=StartOfDay)=\"&A99&\"\", \"Bar\", \"\", \"Close\",\"5\",\"0\",\"All\",,,\"False\",\"T\",\"EveryTick\")","v":4321.75},-4.3771237689339401E-3,{"$f":"RTD(\"cqg.rtd\",,\"StudyData\", \"Close(\"&$D$12&\") when LocalYear(\"&$D$12&\")=\"&$D$2&\" and localMonth(\"&$D$12&\") =\"&$E$2&\" and LocalDay(\"&$D$12&\")=\"&$F$2&\" and Barix(\"&$D$12&\",reference:=StartOfDay)=\"&A99&\"\", \"Bar\", \"\", \"Close\",\"5\",\"0\",\"All\",,,\"False\",\"T\",\"EveryTick\")","v":4349.5},-3.4474833371638702E-4,{"$f":"RTD(\"cqg.rtd\",,\"StudyData\", \"Close(\"&$D$12&\") when LocalYear(\"&$D$12&\")=\"&$D$3&\" and localMonth(\"&$D$12&\") =\"&$E$3&\" and LocalDay(\"&$D$12&\")=\"&$F$3&\" and Barix(\"&$D$12&\",reference:=StartOfDay)=\"&A99&\"\", \"Bar\", \"\", \"Close\",\"5\",\"0\",\"All\",,,\"False\",\"T\",\"EveryTick\")","v":4402.25},4.5638655941582524E-3,{"$f":"RTD(\"cqg.rtd\",,\"StudyData\", \"Close(\"&$D$12&\") when LocalYear(\"&$D$12&\")=\"&$D$4&\" and localMonth(\"&$D$12&\") =\"&$E$4&\" and LocalDay(\"&$D$12&\")=\"&$F$4&\" and Barix(\"&$D$12&\",reference:=StartOfDay)=\"&A99&\"\", \"Bar\", \"\", \"Close\",\"5\",\"0\",\"All\",,,\"False\",\"T\",\"EveryTick\")","v":4397.5},1.7084282460136675E-3,{"$f":"RTD(\"cqg.rtd\",,\"StudyData\", \"Close(\"&$D$12&\") when LocalYear(\"&$D$12&\")=\"&$D$5&\" and localMonth(\"&$D$12&\") =\"&$E$5&\" and LocalDay(\"&$D$12&\")=\"&$F$5&\" and Barix(\"&$D$12&\",reference:=StartOfDay)=\"&A99&\"\", \"Bar\", \"\", \"Close\",\"5\",\"0\",\"All\",,,\"False\",\"T\",\"EveryTick\")","v":4417.25},1.4526871841984382E-2,{"$f":"RTD(\"cqg.rtd\",,\"StudyData\", \"Close(\"&$D$12&\") when LocalYear(\"&$D$12&\")=\"&$D$6&\" and localMonth(\"&$D$12&\") =\"&$E$6&\" and LocalDay(\"&$D$12&\")=\"&$F$6&\" and Barix(\"&$D$12&\",reference:=StartOfDay)=\"&A99&\"\", \"Bar\", \"\", \"Close\",\"5\",\"0\",\"All\",,,\"False\",\"T\",\"EveryTick\")","v":4299.5},-7.9603137978772505E-3,{"$f":"RTD(\"cqg.rtd\",,\"StudyData\", \"Close(\"&$D$12&\") when LocalYear(\"&$D$12&\")=\"&$D$7&\" and localMonth(\"&$D$12&\") =\"&$E$7&\" and LocalDay(\"&$D$12&\")=\"&$F$7&\" and Barix(\"&$D$12&\",reference:=StartOfDay)=\"&A99&\"\", \"Bar\", \"\", \"Close\",\"5\",\"0\",\"All\",,,\"False\",\"T\",\"EveryTick\")","v":4334.5},1.007864841246723E-2,{"$f":"RTD(\"cqg.rtd\",,\"StudyData\", \"Close(\"&$D$12&\") when LocalYear(\"&$D$12&\")=\"&$D$8&\" and localMonth(\"&$D$12&\") =\"&$E$8&\" and LocalDay(\"&$D$12&\")=\"&$F$8&\" and Barix(\"&$D$12&\",reference:=StartOfDay)=\"&A99&\"\", \"Bar\", \"\", \"Close\",\"5\",\"0\",\"All\",,,\"False\",\"T\",\"EveryTick\")","v":4324},-4.5467625899280571E-3,{"$f":"RTD(\"cqg.rtd\",,\"StudyData\", \"Close(\"&$D$12&\") when LocalYear(\"&$D$12&\")=\"&$D$9&\" and localMonth(\"&$D$12&\") =\"&$E$9&\" and LocalDay(\"&$D$12&\")=\"&$F$9&\" and Barix(\"&$D$12&\",reference:=StartOfDay)=\"&A99&\"\", \"Bar\", \"\", \"Close\",\"5\",\"0\",\"All\",,,\"False\",\"T\",\"EveryTick\")","v":4300.5},6.398696992612413E-4,{"$f":"RTD(\"cqg.rtd\",,\"StudyData\", \"Close(\"&$D$12&\") when LocalYear(\"&$D$12&\")=\"&$D$10&\" and localMonth(\"&$D$12&\") =\"&$E$10&\" and LocalDay(\"&$D$12&\")=\"&$F$10&\" and Barix(\"&$D$12&\",reference:=StartOfDay)=\"&A99&\"\", \"Bar\", \"\", \"Close\",\"5\",\"0\",\"All\",,,\"False\",\"T\",\"EveryTick\")","v":4353.5},8.6211851255819298E-4,null,null,null,""]
[195,"09:15:00",null,null,null,null,null,{"$f":"RTD(\"cqg.rtd\",,\"StudyData\", \"Close(\"&$D$12&\") when LocalYear(\"&$D$12&\")=\"&$D$1&\" and localMonth(\"&$D$12&\") =\"&$E$1&\" and LocalDay(\"&$D$12&\")=\"&$F$1&\" and Barix(\"&$D$12&\",reference:=StartOfDay)=\"&A100&\"\", \"Bar\", \"\", \"Close\",\"5\",\"0\",\"All\",,,\"False\",\"T\",\"EveryTick\")","v":4329},-2.7069054886828315E-3,{"$f":"RTD(\"cqg.rtd\",,\"StudyData\", \"Close(\"&$D$12&\") when LocalYear(\"&$D$12&\")=\"&$D$2&\" and localMonth(\"&$D$12&\") =\"&$E$2&\" and LocalDay(\"&$D$12&\")=\"&$F$2&\" and Barix(\"&$D$12&\",reference:=StartOfDay)=\"&A100&\"\", \"Bar\", \"\", \"Close\",\"5\",\"0\",\"All\",,,\"False\",\"T\",\"EveryTick\")","v":4348},-6.8949666743277403E-4,{"$f":"RTD(\"cqg.rtd\",,\"StudyData\", \"Close(\"&$D$12&\") when LocalYear(\"&$D$12&\")=\"&$D$3&\" and localMonth(\"&$D$12&\") =\"&$E$3&\" and LocalDay(\"&$D$12&\")=\"&$F$3&\" and Barix(\"&$D$12&\",reference:=StartOfDay)=\"&A100&\"\", \"Bar\", \"\", \"Close\",\"5\",\"0\",\"All\",,,\"False\",\"T\",\"EveryTick\")","v":4405},5.1913971133550115E-3,{"$f":"RTD(\"cqg.rtd\",,\"StudyData\", \"Close(\"&$D$12&\") when LocalYear(\"&$D$12&\")=\"&$D$4&\" and localMonth(\"&$D$12&\") =\"&$E$4&\" and LocalDay(\"&$D$12&\")=\"&$F$4&\" and Barix(\"&$D$12&\",reference:=StartOfDay)=\"&A100&\"\", \"Bar\", \"\", \"Close\",\"5\",\"0\",\"All\",,,\"False\",\"T\",\"EveryTick\")","v":4396.75},1.5375854214123006E-3,{"$f":"RTD(\"cqg.rtd\",,\"StudyData\", \"Close(\"&$D$12&\") when LocalYear(\"&$D$12&\")=\"&$D$5&\" and localMonth(\"&$D$12&\") =\"&$E$5&\" and LocalDay(\"&$D$12&\")=\"&$F$5&\" and Barix(\"&$D$12&\",reference:=StartOfDay)=\"&A100&\"\", \"Bar\", \"\", \"Close\",\"5\",\"0\",\"All\",,,\"False\",\"T\",\"EveryTick\")","v":4418.5},1.4813964170877355E-2,{"$f":"RTD(\"cqg.rtd\",,\"StudyData\", \"Close(\"&$D$12&\") when LocalYear(\"&$D$12&\")=\"&$D$6&\" and localMonth(\"&$D$12&\") =\"&$E$6&\" and LocalDay(\"&$D$12&\")=\"&$F$6&\" and Barix(\"&$D$12&\",reference:=StartOfDay)=\"&A100&\"\", \"Bar\", \"\", \"Close\",\"5\",\"0\",\"All\",,,\"False\",\"T\",\"EveryTick\")","v":4289.5},-1.0267651130595292E-2,{"$f":"RTD(\"cqg.rtd\",,\"StudyData\", \"Close(\"&$D$12&\") when LocalYear(\"&$D$12&\")=\"&$D$7&\" and localMonth(\"&$D$12&\") =\"&$E$7&\" and LocalDay(\"&$D$12&\")=\"&$F$7&\" and Barix(\"&$D$12&\",reference:=StartOfDay)=\"&A100&\"\", \"Bar\", \"\", \"Close\",\"5\",\"0\",\"All\",,,\"False\",\"T\",\"EveryTick\")","v":4332.5},9.6125837459947565E-3,{"$f":"RTD(\"cqg.rtd\",,\"StudyData\", \"Close(\"&$D$12&\") when LocalYear(\"&$D$12&\")=\"&$D$8&\" and localMonth(\"&$D$12&\") =\"&$E$8&\" and LocalDay(\"&$D$12&\")=\"&$F$8&\" and Barix(\"&$D$12&\",reference:=StartOfDay)=\"&A100&\"\", \"Bar\", \"\", \"Close\",\"5\",\"0\",\"All\",,,\"False\",\"T\",\"EveryTick\")","v":4314.5},-6.7338129496402879E-3,{"$f":"RTD(\"cqg.rtd\",,\"StudyData\", \"Close(\"&$D$12&\") when LocalYear(\"&$D$12&\")=\"&$D$9&\" and localMonth(\"&$D$12&\") =\"&$E$9&\" and LocalDay(\"&$D$12&\")=\"&$F$9&\" and Barix(\"&$D$12&\",reference:=StartOfDay)=\"&A100&\"\", \"Bar\", \"\", \"Close\",\"5\",\"0\",\"All\",,,\"False\",\"T\",\"EveryTick\")","v":4285.25},-2.9084986330056425E-3,{"$f":"RTD(\"cqg.rtd\",,\"StudyData\", \"Close(\"&$D$12&\") when LocalYear(\"&$D$12&\")=\"&$D$10&\" and localMonth(\"&$D$12&\") =\"&$E$10&\" and LocalDay(\"&$D$12&\")=\"&$F$10&\" and Barix(\"&$D$12&\",reference:=StartOfDay)=\"&A100&\"\", \"Bar\", \"\", \"Close\",\"5\",\"0\",\"All\",,,\"False\",\"T\",\"EveryTick\")","v":4364.75},3.4484740502327719E-3,null,null,null,""]
[196,"09:20:00",null,null,null,null,null,{"$f":"RTD(\"cqg.rtd\",,\"StudyData\", \"Close(\"&$D$12&\") when LocalYear(\"&$D$12&\")=\"&$D$1&\" and localMonth(\"&$D$12&\") =\"&$E$1&\" and LocalDay(\"&$D$12&\")=\"&$F$1&\" and Barix(\"&$D$12&\",reference:=StartOfDay)=\"&A101&\"\", \"Bar\", \"\", \"Close\",\"5\",\"0\",\"All\",,,\"False\",\"T\",\"EveryTick\")","v":4325.75},-3.4556240281057421E-3,{"$f":"RTD(\"cqg.rtd\",,\"StudyData\", \"Close(\"&$D$12&\") when LocalYear(\"&$D$12&\")=\"&$D$2&\" and localMonth(\"&$D$12&\") =\"&$E$2&\" and LocalDay(\"&$D$12&\")=\"&$F$2&\" and Barix(\"&$D$12&\",reference:=StartOfDay)=\"&A101&\"\", \"Bar\", \"\", \"Close\",\"5\",\"0\",\"All\",,,\"False\",\"T\",\"EveryTick\")","v":4345.25},-1.3215352792461503E-3,{"$f":"RTD(\"cqg.rtd\",,\"StudyData\", \"Close(\"&$D$12&\") when LocalYear(\"&$D$12&\")=\"&$D$3&\" and localMonth(\"&$D$12&\") =\"&$E$3&\" and LocalDay(\"&$D$12&\")=\"&$F$3&\" and Barix(\"&$D$12&\",reference:=StartOfDay)=\"&A101&\"\", \"Bar\", \"\", \"Close\",\"5\",\"0\",\"All\",,,\"False\",\"T\",\"EveryTick\")","v":4406.25},5.4766387129899022E-3,{"$f":"RTD(\"cqg.rtd\",,\"StudyData\", \"Close(\"&$D$12&\") when LocalYear(\"&$D$12&\")=\"&$D$4&\" and localMonth(\"&$D$12&\") =\"&$E$4&\" and LocalDay(\"&$D$12&\")=\"&$F$4&\" and Barix(\"&$D$12&\",reference:=StartOfDay)=\"&A101&\"\", \"Bar\", \"\", \"Close\",\"5\",\"0\",\"All\",,,\"False\",\"T\",\"EveryTick\")","v":4396},1.366742596810934E-3,{"$f":"RTD(\"cqg.rtd\",,\"StudyData\", \"Close(\"&$D$12&\") when LocalYear(\"&$D$12&\")=\"&$D$5&\" and localMonth(\"&$D$12&\") =\"&$E$5&\" and LocalDay(\"&$D$12&\")=\"&$F$5&\" and Barix(\"&$D$12&\",reference:=StartOfDay)=\"&A101&\"\", \"Bar\", \"\", \"Close\",\"5\",\"0\",\"All\",,,\"False\",\"T\",\"EveryTick\")","v":4417.25},1.4526871841984382E-2,{"$f":"RTD(\"cqg.rtd\",,\"StudyData\", \"Close(\"&$D$12&\") when LocalYear(\"&$D$12&\")=\"&$D$6&\" and localMonth(\"&$D$12&\") =\"&$E$6&\" and LocalDay(\"&$D$12&\")=\"&$F$6&\" and Barix(\"&$D$12&\",reference:=StartOfDay)=\"&A101&\"\", \"Bar\", \"\", \"Close\",\"5\",\"0\",\"All\",,,\"False\",\"T\",\"EveryTick\")","v":4313},-4.8454083987078912E-3,{"$f":"RTD(\"cqg.rtd\",,\"StudyData\", \"Close(\"&$D$12&\") when LocalYear(\"&$D$12&\")=\"&$D$7&\" and localMonth(\"&$D$12&\") =\"&$E$7&\" and LocalDay(\"&$D$12&\")=\"&$F$7&\" and Barix(\"&$D$12&\",reference:=StartOfDay)=\"&A101&\"\", \"Bar\", \"\", \"Close\",\"5\",\"0\",\"All\",,,\"False\",\"T\",\"EveryTick\")","v":4335.5},1.0311680745703466E-2,{"$f":"RTD(\"cqg.rtd\",,\"StudyData\", \"Close(\"&$D$12&\") when LocalYear(\"&$D$12&\")=\"&$D$8&\" and localMonth(\"&$D$12&\") =\"&$E$8&\" and LocalDay(\"&$D$12&\")=\"&$F$8&\" and Barix(\"&$D$12&\",reference:=StartOfDay)=\"&A101&\"\", \"Bar\", \"\", \"Close\",\"5\",\"0\",\"All\",,,\"False\",\"T\",\"EveryTick\")","v":4306.25},-8.6330935251798559E-3,{"$f":"RTD(\"cqg.rtd\",,\"StudyData\", \"Close(\"&$D$12&\") when LocalYear(\"&$D$12&\")=\"&$D$9&\" and localMonth(\"&$D$12&\") =\"&$E$9&\" and LocalDay(\"&$D$12&\")=\"&$F$9&\" and Barix(\"&$D$12&\",reference:=StartOfDay)=\"&A101&\"\", \"Bar\", \"\", \"Close\",\"5\",\"0\",\"All\",,,\"False\",\"T\",\"EveryTick\")","v":4279},-4.3627479495084633E-3,{"$f":"RTD(\"cqg.rtd\",,\"StudyData\", \"Close(\"&$D$12&\") when LocalYear(\"&$D$12&\")=\"&$D$10&\" and localMonth(\"&$D$12&\") =\"&$E$10&\" and LocalDay(\"&$D$12&\")=\"&$F$10&\" and Barix(\"&$D$12&\",reference:=StartOfDay)=\"&A101&\"\", \"Bar\", \"\", \"Close\",\"5\",\"0\",\"All\",,,\"False\",\"T\",\"EveryTick\")","v":4354},9.7706764756595212E-4,null,null,null,""]
[197,"09:25:00",null,null,null,null,null,{"$f":"RTD(\"cqg.rtd\",,\"StudyData\", \"Close(\"&$D$12&\") when LocalYear(\"&$D$12&\")=\"&$D$1&\" and localMonth(\"&$D$12&\") =\"&$E$1&\" and LocalDay(\"&$D$12&\")=\"&$F$1&\" and Barix(\"&$D$12&\",reference:=StartOfDay)=\"&A102&\"\", \"Bar\", \"\", \"Close\",\"5\",\"0\",\"All\",,,\"False\",\"T\",\"EveryTick\")","v":4323},-4.0891550999251278E-3,{"$f":"RTD(\"cqg.rtd\",,\"StudyData\", \"Close(\"&$D$12&\") when LocalYear(\"&$D$12&\")=\"&$D$2&\" and localMonth(\"&$D$12&\") =\"&$E$2&\" and LocalDay(\"&$D$12&\")=\"&$F$2&\" and Barix(\"&$D$12&\",reference:=StartOfDay)=\"&A102&\"\", \"Bar\", \"\", \"Close\",\"5\",\"0\",\"All\",,,\"False\",\"T\",\"EveryTick\")","v":4350.5},-1.1491611123879568E-4,{"$f":"RTD(\"cqg.rtd\",,\"StudyData\", \"Close(\"&$D$12&\") when LocalYear(\"&$D$12&\")=\"&$D$3&\" and localMonth(\"&$D$12&\") =\"&$E$3&\" and LocalDay(\"&$D$12&\")=\"&$F$3&\" and Barix(\"&$D$12&\",reference:=StartOfDay)=\"&A102&\"\", \"Bar\", \"\", \"Close\",\"5\",\"0\",\"All\",,,\"False\",\"T\",\"EveryTick\")","v":4406.25},5.4766387129899022E-3,{"$f":"RTD(\"cqg.rtd\",,\"StudyData\", \"Close(\"&$D$12&\") when LocalYear(\"&$D$12&\")=\"&$D$4&\" and localMonth(\"&$D$12&\") =\"&$E$4&\" and LocalDay(\"&$D$12&\")=\"&$F$4&\" and Barix(\"&$D$12&\",reference:=StartOfDay)=\"&A102&\"\", \"Bar\", \"\", \"Close\",\"5\",\"0\",\"All\",,,\"False\",\"T\",\"EveryTick\")","v":4394},9.1116173120728934E-4,{"$f":"RTD(\"cqg.rtd\",,\"StudyData\", \"Close(\"&$D$12&\") when LocalYear(\"&$D$12&\")=\"&$D$5&\" and localMonth(\"&$D$12&\") =\"&$E$5&\" and LocalDay(\"&$D$12&\")=\"&$F$5&\" and Barix(\"&$D$12&\",reference:=StartOfDay)=\"&A102&\"\", \"Bar\", \"\", \"Close\",\"5\",\"0\",\"All\",,,\"False\",\"T\",\"EveryTick\")","v":4418.75},1.4871382636655949E-2,{"$f":"RTD(\"cqg.rtd\",,\"StudyData\", \"Close(\"&$D$12&\") when LocalYear(\"&$D$12&\")=\"&$D$6&\" and localMonth(\"&$D$12&\") =\"&$E$6&\" and LocalDay(\"&$D$12&\")=\"&$F$6&\" and Barix(\"&$D$12&\",reference:=StartOfDay)=\"&A102&\"\", \"Bar\", \"\", \"Close\",\"5\",\"0\",\"All\",,,\"False\",\"T\",\"EveryTick\")","v":4310},-5.5376095985233045E-3,{"$f":"RTD(\"cqg.rtd\",,\"StudyData\", \"Close(\"&$D$12&\") when LocalYear(\"&$D$12&\")=\"&$D$7&\" and localMonth(\"&$D$12&\") =\"&$E$7&\" and LocalDay(\"&$D$12&\")=\"&$F$7&\" and Barix(\"&$D$12&\",reference:=StartOfDay)=\"&A102&\"\", \"Bar\", \"\", \"Close\",\"5\",\"0\",\"All\",,,\"False\",\"T\",\"EveryTick\")","v":4342.25},1.1884648995048062E-2,{"$f":"RTD(\"cqg.rtd\",,\"StudyData\", \"Close(\"&$D$12&\") when LocalYear(\"&$D$12&\")=\"&$D$8&\" and localMonth(\"&$D$12&\") =\"&$E$8&\" and LocalDay(\"&$D$12&\")=\"&$F$8&\" and Barix(\"&$D$12&\",reference:=StartOfDay)=\"&A102&\"\", \"Bar\", \"\", \"Close\",\"5\",\"0\",\"All\",,,\"False\",\"T\",\"EveryTick\")","v":4304},-9.1510791366906478E-3,{"$f":"RTD(\"cqg.rtd\",,\"StudyData\", \"Close(\"&$D$12&\") when LocalYear(\"&$D$12&\")=\"&$D$9&\" and localMonth(\"&$D$12&\") =\"&$E$9&\" and LocalDay(\"&$D$12&\")=\"&$F$9&\" and Barix(\"&$D$12&\",reference:=StartOfDay)=\"&A102&\"\", \"Bar\", \"\", \"Close\",\"5\",\"0\",\"All\",,,\"False\",\"T\",\"EveryTick\")","v":4281.5},-3.7810482229073353E-3,{"$f":"RTD(\"cqg.rtd\",,\"StudyData\", \"Close(\"&$D$12&\") when LocalYear(\"&$D$12&\")=\"&$D$10&\" and localMonth(\"&$D$12&\") =\"&$E$10&\" and LocalDay(\"&$D$12&\")=\"&$F$10&\" and Barix(\"&$D$12&\",reference:=StartOfDay)=\"&A102&\"\", \"Bar\", \"\", \"Close\",\"5\",\"0\",\"All\",,,\"False\",\"T\",\"EveryTick\")","v":4356.5},1.5518133226047474E-3,null,null,null,""]
[198,"09:30:00",null,null,null,null,null,{"$f":"RTD(\"cqg.rtd\",,\"StudyData\", \"Close(\"&$D$12&\") when LocalYear(\"&$D$12&\")=\"&$D$1&\" and localMonth(\"&$D$12&\") =\"&$E$1&\" and LocalDay(\"&$D$12&\")=\"&$F$1&\" and Barix(\"&$D$12&\",reference:=StartOfDay)=\"&A103&\"\", \"Bar\", \"\", \"Close\",\"5\",\"0\",\"All\",,,\"False\",\"T\",\"EveryTick\")","v":4331.5},-2.1309681506652078E-3,{"$f":"RTD(\"cqg.rtd\",,\"StudyData\", \"Close(\"&$D$12&\") when LocalYear(\"&$D$12&\")=\"&$D$2&\" and localMonth(\"&$D$12&\") =\"&$E$2&\" and LocalDay(\"&$D$12&\")=\"&$F$2&\" and Barix(\"&$D$12&\",reference:=StartOfDay)=\"&A103&\"\", \"Bar\", \"\", \"Close\",\"5\",\"0\",\"All\",,,\"False\",\"T\",\"EveryTick\")","v":4349.25},-4.0220638933578486E-4,{"$f":"RTD(\"cqg.rtd\",,\"StudyData\", \"Close(\"&$D$12&\") when LocalYear(\"&$D$12&\")=\"&$D$3&\" and localMonth(\"&$D$12&\") =\"&$E$3&\" and LocalDay(\"&$D$12&\")=\"&$F$3&\" and Barix(\"&$D$12&\",reference:=StartOfDay)=\"&A103&\"\", \"Bar\", \"\", \"Close\",\"5\",\"0\",\"All\",,,\"False\",\"T\",\"EveryTick\")","v":4404.75},5.1343487934280337E-3,{"$f":"RTD(\"cqg.rtd\",,\"StudyData\", \"Close(\"&$D$12&\") when LocalYear(\"&$D$12&\")=\"&$D$4&\" and localMonth(\"&$D$12&\") =\"&$E$4&\" and LocalDay(\"&$D$12&\")=\"&$F$4&\" and Barix(\"&$D$12&\",reference:=StartOfDay)=\"&A103&\"\", \"Bar\", \"\", \"Close\",\"5\",\"0\",\"All\",,,\"False\",\"T\",\"EveryTick\")","v":4393.5},7.9726651480637812E-4,{"$f":"RTD(\"cqg.rtd\",,\"StudyData\", \"Close(\"&$D$12&\") when LocalYear(\"&$D$12&\")=\"&$D$5&\" and localMonth(\"&$D$12&\") =\"&$E$5&\" and LocalDay(\"&$D$12&\")=\"&$F$5&\" and Barix(\"&$D$12&\",reference:=StartOfDay)=\"&A103&\"\", \"Bar\", \"\", \"Close\",\"5\",\"0\",\"All\",,,\"False\",\"T\",\"EveryTick\")","v":4420},1.515847496554892E-2,{"$f":"RTD(\"cqg.rtd\",,\"StudyData\", \"Close(\"&$D$12&\") when LocalYear(\"&$D$12&\")=\"&$D$6&\" and localMonth(\"&$D$12&\") =\"&$E$6&\" and LocalDay(\"&$D$12&\")=\"&$F$6&\" and Barix(\"&$D$12&\",reference:=StartOfDay)=\"&A103&\"\", \"Bar\", \"\", \"Close\",\"5\",\"0\",\"All\",,,\"False\",\"T\",\"EveryTick\")","v":4311.5},-5.1915089986155974E-3,{"$f":"RTD(\"cqg.rtd\",,\"StudyData\", \"Close(\"&$D$12&\") when LocalYear(\"&$D$12&\")=\"&$D$7&\" and localMonth(\"&$D$12&\") =\"&$E$7&\" and LocalDay(\"&$D$12&\")=\"&$F$7&\" and Barix(\"&$D$12&\",reference:=StartOfDay)=\"&A103&\"\", \"Bar\", \"\", \"Close\",\"5\",\"0\",\"All\",,,\"False\",\"T\",\"EveryTick\")","v":4342.25},1.1884648995048062E-2,{"$f":"RTD(\"cqg.rtd\",,\"StudyData\", \"Close(\"&$D$12&\") when LocalYear(\"&$D$12&\")=\"&$D$8&\" and localMonth(\"&$D$12&\") =\"&$E$8&\" and LocalDay(\"&$D$12&\")=\"&$F$8&\" and Barix(\"&$D$12&\",reference:=StartOfDay)=\"&A103&\"\", \"Bar\", \"\", \"Close\",\"5\",\"0\",\"All\",,,\"False\",\"T\",\"EveryTick\")","v":4293.75},-1.1510791366906475E-2,{"$f":"RTD(\"cqg.rtd\",,\"StudyData\", \"Close(\"&$D$12&\") when LocalYear(\"&$D$12&\")=\"&$D$9&\" and localMonth(\"&$D$12&\") =\"&$E$9&\" and LocalDay(\"&$D$12&\")=\"&$F$9&\" and Barix(\"&$D$12&\",reference:=StartOfDay)=\"&A103&\"\", \"Bar\", \"\", \"Close\",\"5\",\"0\",\"All\",,,\"False\",\"T\",\"EveryTick\")","v":4282.5},-3.5483683322668838E-3,{"$f":"RTD(\"cqg.rtd\",,\"StudyData\", \"Close(\"&$D$12&\") when LocalYear(\"&$D$12&\")=\"&$D$10&\" and localMonth(\"&$D$12&\") =\"&$E$10&\" and LocalDay(\"&$D$12&\")=\"&$F$10&\" and Barix(\"&$D$12&\",reference:=StartOfDay)=\"&A103&\"\", \"Bar\", \"\", \"Close\",\"5\",\"0\",\"All\",,,\"False\",\"T\",\"EveryTick\")","v":4357.25},1.724237025116386E-3,null,null,null,""]
[199,"09:35:00",null,null,null,null,null,{"$f":"RTD(\"cqg.rtd\",,\"StudyData\", \"Close(\"&$D$12&\") when LocalYear(\"&$D$12&\")=\"&$D$1&\" and localMonth(\"&$D$12&\") =\"&$E$1&\" and LocalDay(\"&$D$12&\")=\"&$F$1&\" and Barix(\"&$D$12&\",reference:=StartOfDay)=\"&A104&\"\", \"Bar\", \"\", \"Close\",\"5\",\"0\",\"All\",,,\"False\",\"T\",\"EveryTick\")","v":4329.75},-2.5341242872775442E-3,{"$f":"RTD(\"cqg.rtd\",,\"StudyData\", \"Close(\"&$D$12&\") when LocalYear(\"&$D$12&\")=\"&$D$2&\" and localMonth(\"&$D$12&\") =\"&$E$2&\" and LocalDay(\"&$D$12&\")=\"&$F$2&\" and Barix(\"&$D$12&\",reference:=StartOfDay)=\"&A104&\"\", \"Bar\", \"\", \"Close\",\"5\",\"0\",\"All\",,,\"False\",\"T\",\"EveryTick\")","v":4350},-2.2983222247759135E-4,{"$f":"RTD(\"cqg.rtd\",,\"StudyData\", \"Close(\"&$D$12&\") when LocalYear(\"&$D$12&\")=\"&$D$3&\" and localMonth(\"&$D$12&\") =\"&$E$3&\" and LocalDay(\"&$D$12&\")=\"&$F$3&\" and Barix(\"&$D$12&\",reference:=StartOfDay)=\"&A104&\"\", \"Bar\", \"\", \"Close\",\"5\",\"0\",\"All\",,,\"False\",\"T\",\"EveryTick\")","v":4405},5.1913971133550115E-3,{"$f":"RTD(\"cqg.rtd\",,\"StudyData\", \"Close(\"&$D$12&\") when LocalYear(\"&$D$12&\")=\"&$D$4&\" and localMonth(\"&$D$12&\") =\"&$E$4&\" and LocalDay(\"&$D$12&\")=\"&$F$4&\" and Barix(\"&$D$12&\",reference:=StartOfDay)=\"&A104&\"\", \"Bar\", \"\", \"Close\",\"5\",\"0\",\"All\",,,\"False\",\"T\",\"EveryTick\")","v":4392.75},6.2642369020501139E-4,{"$f":"RTD(\"cqg.rtd\",,\"StudyData\", \"Close(\"&$D$12&\") when LocalYear(\"&$D$12&\")=\"&$D$5&\" and localMonth(\"&$D$12&\") =\"&$E$5&\" and LocalDay(\"&$D$12&\")=\"&$F$5&\" and Barix(\"&$D$12&\",reference:=StartOfDay)=\"&A104&\"\", \"Bar\", \"\", \"Close\",\"5\",\"0\",\"All\",,,\"False\",\"T\",\"EveryTick\")","v":4413.75},1.3723013321084061E-2,{"$f":"RTD(\"cqg.rtd\",,\"StudyData\", \"Close(\"&$D$12&\") when LocalYear(\"&$D$12&\")=\"&$D$6&\" and localMonth(\"&$D$12&\") =\"&$E$6&\" and LocalDay(\"&$D$12&\")=\"&$F$6&\" and Barix(\"&$D$12&\",reference:=StartOfDay)=\"&A104&\"\", \"Bar\", \"\", \"Close\",\"5\",\"0\",\"All\",,,\"False\",\"T\",\"EveryTick\")","v":4314.25},-4.5569912321181353E-3,{"$f":"RTD(\"cqg.rtd\",,\"StudyData\", \"Close(\"&$D$12&\") when LocalYear(\"&$D$12&\")=\"&$D$7&\" and localMonth(\"&$D$12&\") =\"&$E$7&\" and LocalDay(\"&$D$12&\")=\"&$F$7&\" and Barix(\"&$D$12&\",reference:=StartOfDay)=\"&A104&\"\", \"Bar\", \"\", \"Close\",\"5\",\"0\",\"All\",,,\"False\",\"T\",\"EveryTick\")","v":4337.25},1.071948732886688E-2,{"$f":"RTD(\"cqg.rtd\",,\"StudyData\", \"Close(\"&$D$12&\") when LocalYear(\"&$D$12&\")=\"&$D$8&\" and localMonth(\"&$D$12&\") =\"&$E$8&\" and LocalDay(\"&$D$12&\")=\"&$F$8&\" and Barix(\"&$D$12&\",reference:=StartOfDay)=\"&A104&\"\", \"Bar\", \"\", \"Close\",\"5\",\"0\",\"All\",,,\"False\",\"T\",\"EveryTick\")","v":4286},-1.3294964028776978E-2,{"$f":"RTD(\"cqg.rtd\",,\"StudyData\", \"Close(\"&$D$12&\") when LocalYear(\"&$D$12&\")=\"&$D$9&\" and localMonth(\"&$D$12&\") =\"&$E$9&\" and LocalDay(\"&$D$12&\")=\"&$F$9&\" and Barix(\"&$D$12&\",reference:=StartOfDay)=\"&A104&\"\", \"Bar\", \"\", \"Close\",\"5\",\"0\",\"All\",,,\"False\",\"T\",\"EveryTick\")","v":4279},-4.3627479495084633E-3,{"$f":"RTD(\"cqg.rtd\",,\"StudyData\", \"Close(\"&$D$12&\") when LocalYear(\"&$D$12&\")=\"&$D$10&\" and localMonth(\"&$D$12&\") =\"&$E$10&\" and LocalDay(\"&$D$12&\")=\"&$F$10&\" and Barix(\"&$D$12&\",reference:=StartOfDay)=\"&A104&\"\", \"Bar\", \"\", \"Close\",\"5\",\"0\",\"All\",,,\"False\",\"T\",\"EveryTick\")","v":4355},1.2069659175814702E-3,null,null,null,""]
[200,"09:40:00",null,null,null,null,null,{"$f":"RTD(\"cqg.rtd\",,\"StudyData\", \"Close(\"&$D$12&\") when LocalYear(\"&$D$12&\")=\"&$D$1&\" and localMonth(\"&$D$12&\") =\"&$E$1&\" and LocalDay(\"&$D$12&\")=\"&$F$1&\" and Barix(\"&$D$12&\",reference:=StartOfDay)=\"&A105&\"\", \"Bar\", \"\", \"Close\",\"5\",\"0\",\"All\",,,\"False\",\"T\",\"EveryTick\")","v":4336.25},-1.0366872084317227E-3,{"$f":"RTD(\"cqg.rtd\",,\"StudyData\", \"Close(\"&$D$12&\") when LocalYear(\"&$D$12&\")=\"&$D$2&\" and localMonth(\"&$D$12&\") =\"&$E$2&\" and LocalDay(\"&$D$12&\")=\"&$F$2&\" and Barix(\"&$D$12&\",reference:=StartOfDay)=\"&A105&\"\", \"Bar\", \"\", \"Close\",\"5\",\"0\",\"All\",,,\"False\",\"T\",\"EveryTick\")","v":4348.25},-6.3203861181337624E-4,{"$f":"RTD(\"cqg.rtd\",,\"StudyData\", \"Close(\"&$D$12&\") when LocalYear(\"&$D$12&\")=\"&$D$3&\" and localMonth(\"&$D$12&\") =\"&$E$3&\" and LocalDay(\"&$D$12&\")=\"&$F$3&\" and Barix(\"&$D$12&\",reference:=StartOfDay)=\"&A105&\"\", \"Bar\", \"\", \"Close\",\"5\",\"0\",\"All\",,,\"False\",\"T\",\"EveryTick\")","v":4401.25},4.3356723144503395E-3,{"$f":"RTD(\"cqg.rtd\",,\"StudyData\", \"Close(\"&$D$12&\") when LocalYear(\"&$D$12&\")=\"&$D$4&\" and localMonth(\"&$D$12&\") =\"&$E$4&\" and LocalDay(\"&$D$12&\")=\"&$F$4&\" and Barix(\"&$D$12&\",reference:=StartOfDay)=\"&A105&\"\", \"Bar\", \"\", \"Close\",\"5\",\"0\",\"All\",,,\"False\",\"T\",\"EveryTick\")","v":4389.25},-1.7084282460136675E-4,{"$f":"RTD(\"cqg.rtd\",,\"StudyData\", \"Close(\"&$D$12&\") when LocalYear(\"&$D$12&\")=\"&$D$5&\" and localMonth(\"&$D$12&\") =\"&$E$5&\" and LocalDay(\"&$D$12&\")=\"&$F$5&\" and Barix(\"&$D$12&\",reference:=StartOfDay)=\"&A105&\"\", \"Bar\", \"\", \"Close\",\"5\",\"0\",\"All\",,,\"False\",\"T\",\"EveryTick\")","v":4415.75},1.4182361047312816E-2,{"$f":"RTD(\"cqg.rtd\",,\"StudyData\", \"Close(\"&$D$12&\") when LocalYear(\"&$D$12&\")=\"&$D$6&\" and localMonth(\"&$D$12&\") =\"&$E$6&\" and LocalDay(\"&$D$12&\")=\"&$F$6&\" and Barix(\"&$D$12&\",reference:=StartOfDay)=\"&A105&\"\", \"Bar\", \"\", \"Close\",\"5\",\"0\",\"All\",,,\"False\",\"T\",\"EveryTick\")","v":4306.25},-6.4028610982925704E-3,{"$f":"RTD(\"cqg.rtd\",,\"StudyData\", \"Close(\"&$D$12&\") when LocalYear(\"&$D$12&\")=\"&$D$7&\" and localMonth(\"&$D$12&\") =\"&$E$7&\" and LocalDay(\"&$D$12&\")=\"&$F$7&\" and Barix(\"&$D$12&\",reference:=StartOfDay)=\"&A105&\"\", \"Bar\", \"\", \"Close\",\"5\",\"0\",\"All\",,,\"False\",\"T\",\"EveryTick\")","v":4342},1.1826390911739005E-2,{"$f":"RTD(\"cqg.rtd\",,\"StudyData\", \"Close(\"&$D$12&\") when LocalYear(\"&$D$12&\")=\"&$D$8&\" and localMonth(\"&$D$12&\") =\"&$E$8&\" and LocalDay(\"&$D$12&\")=\"&$F$8&\" and Barix(\"&$D$12&\",reference:=StartOfDay)=\"&A105&\"\", \"Bar\", \"\", \"Close\",\"5\",\"0\",\"All\",,,\"False\",\"T\",\"EveryTick\")","v":4296},-1.0992805755395683E-2,{"$f":"RTD(\"cqg.rtd\",,\"StudyData\", \"Close(\"&$D$12&\") when LocalYear(\"&$D$12&\")=\"&$D$9&\" and localMonth(\"&$D$12&\") =\"&$E$9&\" and LocalDay(\"&$D$12&\")=\"&$F$9&\" and Barix(\"&$D$12&\",reference:=StartOfDay)=\"&A105&\"\", \"Bar\", \"\", \"Close\",\"5\",\"0\",\"All\",,,\"False\",\"T\",\"EveryTick\")","v":4280.5},-4.0137281135477869E-3,{"$f":"RTD(\"cqg.rtd\",,\"StudyData\", \"Close(\"&$D$12&\") when LocalYear(\"&$D$12&\")=\"&$D$10&\" and localMonth(\"&$D$12&\") =\"&$E$10&\" and LocalDay(\"&$D$12&\")=\"&$F$10&\" and Barix(\"&$D$12&\",reference:=StartOfDay)=\"&A105&\"\", \"Bar\", \"\", \"Close\",\"5\",\"0\",\"All\",,,\"False\",\"T\",\"EveryTick\")","v":4351},2.8737283751939768E-4,null,null,null,""]
[201,"09:45:00",null,null,null,null,null,{"$f":"RTD(\"cqg.rtd\",,\"StudyData\", \"Close(\"&$D$12&\") when LocalYear(\"&$D$12&\")=\"&$D$1&\" and localMonth(\"&$D$12&\") =\"&$E$1&\" and LocalDay(\"&$D$12&\")=\"&$F$1&\" and Barix(\"&$D$12&\",reference:=StartOfDay)=\"&A106&\"\", \"Bar\", \"\", \"Close\",\"5\",\"0\",\"All\",,,\"False\",\"T\",\"EveryTick\")","v":4333.75},-1.6126245464493463E-3,{"$f":"RTD(\"cqg.rtd\",,\"StudyData\", \"Close(\"&$D$12&\") when LocalYear(\"&$D$12&\")=\"&$D$2&\" and localMonth(\"&$D$12&\") =\"&$E$2&\" and LocalDay(\"&$D$12&\")=\"&$F$2&\" and Barix(\"&$D$12&\",reference:=StartOfDay)=\"&A106&\"\", \"Bar\", \"\", \"Close\",\"5\",\"0\",\"All\",,,\"False\",\"T\",\"EveryTick\")","v":4350.5},-1.1491611123879568E-4,{"$f":"RTD(\"cqg.rtd\",,\"StudyData\", \"Close(\"&$D$12&\") when LocalYear(\"&$D$12&\")=\"&$D$3&\" and localMonth(\"&$D$12&\") =\"&$E$3&\" and LocalDay(\"&$D$12&\")=\"&$F$3&\" and Barix(\"&$D$12&\",reference:=StartOfDay)=\"&A106&\"\", \"Bar\", \"\", \"Close\",\"5\",\"0\",\"All\",,,\"False\",\"T\",\"EveryTick\")","v":4401.5},4.3927206343773173E-3,{"$f":"RTD(\"cqg.rtd\",,\"StudyData\", \"Close(\"&$D$12&\") when LocalYear(\"&$D$12&\")=\"&$D$4&\" and localMonth(\"&$D$12&\") =\"&$E$4&\" and LocalDay(\"&$D$12&\")=\"&$F$4&\" and Barix(\"&$D$12&\",reference:=StartOfDay)=\"&A106&\"\", \"Bar\", \"\", \"Close\",\"5\",\"0\",\"All\",,,\"False\",\"T\",\"EveryTick\")","v":4391.75},3.9863325740318906E-4,{"$f":"RTD(\"cqg.rtd\",,\"StudyData\", \"Close(\"&$D$12&\") when LocalYear(\"&$D$12&\")=\"&$D$5&\" and localMonth(\"&$D$12&\") =\"&$E$5&\" and LocalDay(\"&$D$12&\")=\"&$F$5&\" and Barix(\"&$D$12&\",reference:=StartOfDay)=\"&A106&\"\", \"Bar\", \"\", \"Close\",\"5\",\"0\",\"All\",,,\"False\",\"T\",\"EveryTick\")","v":4418},1.4699127239320165E-2,{"$f":"RTD(\"cqg.rtd\",,\"StudyData\", \"Close(\"&$D$12&\") when LocalYear(\"&$D$12&\")=\"&$D$6&\" and localMonth(\"&$D$12&\") =\"&$E$6&\" and LocalDay(\"&$D$12&\")=\"&$F$6&\" and Barix(\"&$D$12&\",reference:=StartOfDay)=\"&A106&\"\", \"Bar\", \"\", \"Close\",\"5\",\"0\",\"All\",,,\"False\",\"T\",\"EveryTick\")","v":4312},-5.076142131979695E-3,{"$f":"RTD(\"cqg.rtd\",,\"StudyData\", \"Close(\"&$D$12&\") when LocalYear(\"&$D$12&\")=\"&$D$7&\" and localMonth(\"&$D$12&\") =\"&$E$7&\" and LocalDay(\"&$D$12&\")=\"&$F$7&\" and Barix(\"&$D$12&\",reference:=StartOfDay)=\"&A106&\"\", \"Bar\", \"\", \"Close\",\"5\",\"0\",\"All\",,,\"False\",\"T\",\"EveryTick\")","v":4346.5},1.2875036411302068E-2,{"$f":"RTD(\"cqg.rtd\",,\"StudyData\", \"Close(\"&$D$12&\") when LocalYear(\"&$D$12&\")=\"&$D$8&\" and localMonth(\"&$D$12&\") =\"&$E$8&\" and LocalDay(\"&$D$12&\")=\"&$F$8&\" and Barix(\"&$D$12&\",reference:=StartOfDay)=\"&A106&\"\", \"Bar\", \"\", \"Close\",\"5\",\"0\",\"All\",,,\"False\",\"T\",\"EveryTick\")","v":4287.25},-1.3007194244604317E-2,{"$f":"RTD(\"cqg.rtd\",,\"StudyData\", \"Close(\"&$D$12&\") when LocalYear(\"&$D$12&\")=\"&$D$9&\" and localMonth(\"&$D$12&\") =\"&$E$9&\" and LocalDay(\"&$D$12&\")=\"&$F$9&\" and Barix(\"&$D$12&\",reference:=StartOfDay)=\"&A106&\"\", \"Bar\", \"\", \"Close\",\"5\",\"0\",\"All\",,,\"False\",\"T\",\"EveryTick\")","v":4288.25},-2.2104589610842883E-3,{"$f":"RTD(\"cqg.rtd\",,\"StudyData\", \"Close(\"&$D$12&\") when LocalYear(\"&$D$12&\")=\"&$D$10&\" and localMonth(\"&$D$12&\") =\"&$E$10&\" and LocalDay(\"&$D$12&\")=\"&$F$10&\" and Barix(\"&$D$12&\",reference:=StartOfDay)=\"&A106&\"\", \"Bar\", \"\", \"Close\",\"5\",\"0\",\"All\",,,\"False\",\"T\",\"EveryTick\")","v":4349},-1.724237025116386E-4,null,null,null,""]
[202,"09:50:00",null,null,null,null,null,{"$f":"RTD(\"cqg.rtd\",,\"StudyData\", \"Close(\"&$D$12&\") when LocalYear(\"&$D$12&\")=\"&$D$1&\" and localMonth(\"&$D$12&\") =\"&$E$1&\" and LocalDay(\"&$D$12&\")=\"&$F$1&\" and Barix(\"&$D$12&\",reference:=StartOfDay)=\"&A107&\"\", \"Bar\", \"\", \"Close\",\"5\",\"0\",\"All\",,,\"False\",\"T\",\"EveryTick\")","v":4331.75},-2.0733744168634455E-3,{"$f":"RTD(\"cqg.rtd\",,\"StudyData\", \"Close(\"&$D$12&\") when LocalYear(\"&$D$12&\")=\"&$D$2&\" and localMonth(\"&$D$12&\") =\"&$E$2&\" and LocalDay(\"&$D$12&\")=\"&$F$2&\" and Barix(\"&$D$12&\",reference:=StartOfDay)=\"&A107&\"\", \"Bar\", \"\", \"Close\",\"5\",\"0\",\"All\",,,\"False\",\"T\",\"EveryTick\")","v":4346.5},-1.0342450011491611E-3,{"$f":"RTD(\"cqg.rtd\",,\"StudyData\", \"Close(\"&$D$12&\") when LocalYear(\"&$D$12&\")=\"&$D$3&\" and localMonth(\"&$D$12&\") =\"&$E$3&\" and LocalDay(\"&$D$12&\")=\"&$F$3&\" and Barix(\"&$D$12&\",reference:=StartOfDay)=\"&A107&\"\", \"Bar\", \"\", \"Close\",\"5\",\"0\",\"All\",,,\"False\",\"T\",\"EveryTick\")","v":4403.5},4.8491071937931431E-3,{"$f":"RTD(\"cqg.rtd\",,\"StudyData\", \"Close(\"&$D$12&\") when LocalYear(\"&$D$12&\")=\"&$D$4&\" and localMonth(\"&$D$12&\") =\"&$E$4&\" and LocalDay(\"&$D$12&\")=\"&$F$4&\" and Barix(\"&$D$12&\",reference:=StartOfDay)=\"&A107&\"\", \"Bar\", \"\", \"Close\",\"5\",\"0\",\"All\",,,\"False\",\"T\",\"EveryTick\")","v":4395.25},1.1958997722095672E-3,{"$f":"RTD(\"cqg.rtd\",,\"StudyData\", \"Close(\"&$D$12&\") when LocalYear(\"&$D$12&\")=\"&$D$5&\" and localMonth(\"&$D$12&\") =\"&$E$5&\" and LocalDay(\"&$D$12&\")=\"&$F$5&\" and Barix(\"&$D$12&\",reference:=StartOfDay)=\"&A107&\"\", \"Bar\", \"\", \"Close\",\"5\",\"0\",\"All\",,,\"False\",\"T\",\"EveryTick\")","v":4418.5},1.4813964170877355E-2,{"$f":"RTD(\"cqg.rtd\",,\"StudyData\", \"Close(\"&$D$12&\") when LocalYear(\"&$D$12&\")=\"&$D$6&\" and localMonth(\"&$D$12&\") =\"&$E$6&\" and LocalDay(\"&$D$12&\")=\"&$F$6&\" and Barix(\"&$D$12&\",reference:=StartOfDay)=\"&A107&\"\", \"Bar\", \"\", \"Close\",\"5\",\"0\",\"All\",,,\"False\",\"T\",\"EveryTick\")","v":4314.75},-4.4416243654822338E-3,{"$f":"RTD(\"cqg.rtd\",,\"StudyData\", \"Close(\"&$D$12&\") when LocalYear(\"&$D$12&\")=\"&$D$7&\" and localMonth(\"&$D$12&\") =\"&$E$7&\" and LocalDay(\"&$D$12&\")=\"&$F$7&\" and Barix(\"&$D$12&\",reference:=StartOfDay)=\"&A107&\"\", \"Bar\", \"\", \"Close\",\"5\",\"0\",\"All\",,,\"False\",\"T\",\"EveryTick\")","v":4348.75},1.3399359161083601E-2,{"$f":"RTD(\"cqg.rtd\",,\"StudyData\", \"Close(\"&$D$12&\") when LocalYear(\"&$D$12&\")=\"&$D$8&\" and localMonth(\"&$D$12&\") =\"&$E$8&\" and LocalDay(\"&$D$12&\")=\"&$F$8&\" and Barix(\"&$D$12&\",reference:=StartOfDay)=\"&A107&\"\", \"Bar\", \"\", \"Close\",\"5\",\"0\",\"All\",,,\"False\",\"T\",\"EveryTick\")","v":4275.5},-1.5712230215827339E-2,{"$f":"RTD(\"cqg.rtd\",,\"StudyData\", \"Close(\"&$D$12&\") when LocalYear(\"&$D$12&\")=\"&$D$9&\" and localMonth(\"&$D$12&\") =\"&$E$9&\" and LocalDay(\"&$D$12&\")=\"&$F$9&\" and Barix(\"&$D$12&\",reference:=StartOfDay)=\"&A107&\"\", \"Bar\", \"\", \"Close\",\"5\",\"0\",\"All\",,,\"False\",\"T\",\"EveryTick\")","v":4286.5},-2.6176487697050781E-3,{"$f":"RTD(\"cqg.rtd\",,\"StudyData\", \"Close(\"&$D$12&\") when LocalYear(\"&$D$12&\")=\"&$D$10&\" and localMonth(\"&$D$12&\") =\"&$E$10&\" and LocalDay(\"&$D$12&\")=\"&$F$10&\" and Barix(\"&$D$12&\",reference:=StartOfDay)=\"&A107&\"\", \"Bar\", \"\", \"Close\",\"5\",\"0\",\"All\",,,\"False\",\"T\",\"EveryTick\")","v":4346.5},-7.4716937755043395E-4,null,null,null,""]
[203,"09:55:00",null,null,null,null,null,{"$f":"RTD(\"cqg.rtd\",,\"StudyData\", \"Close(\"&$D$12&\") when LocalYear(\"&$D$12&\")=\"&$D$1&\" and localMonth(\"&$D$12&\") =\"&$E$1&\" and LocalDay(\"&$D$12&\")=\"&$F$1&\" and Barix(\"&$D$12&\",reference:=StartOfDay)=\"&A108&\"\", \"Bar\", \"\", \"Close\",\"5\",\"0\",\"All\",,,\"False\",\"T\",\"EveryTick\")","v":4331},-2.2461556182687323E-3,{"$f":"RTD(\"cqg.rtd\",,\"StudyData\", \"Close(\"&$D$12&\") when LocalYear(\"&$D$12&\")=\"&$D$2&\" and localMonth(\"&$D$12&\") =\"&$E$2&\" and LocalDay(\"&$D$12&\")=\"&$F$2&\" and Barix(\"&$D$12&\",reference:=StartOfDay)=\"&A108&\"\", \"Bar\", \"\", \"Close\",\"5\",\"0\",\"All\",,,\"False\",\"T\",\"EveryTick\")","v":4344.75},-1.4364513904849461E-3,{"$f":"RTD(\"cqg.rtd\",,\"StudyData\", \"Close(\"&$D$12&\") when LocalYear(\"&$D$12&\")=\"&$D$3&\" and localMonth(\"&$D$12&\") =\"&$E$3&\" and LocalDay(\"&$D$12&\")=\"&$F$3&\" and Barix(\"&$D$12&\",reference:=StartOfDay)=\"&A108&\"\", \"Bar\", \"\", \"Close\",\"5\",\"0\",\"All\",,,\"False\",\"T\",\"EveryTick\")","v":4401.25},4.3356723144503395E-3,{"$f":"RTD(\"cqg.rtd\",,\"StudyData\", \"Close(\"&$D$12&\") when LocalYear(\"&$D$12&\")=\"&$D$4&\" and localMonth(\"&$D$12&\") =\"&$E$4&\" and LocalDay(\"&$D$12&\")=\"&$F$4&\" and Barix(\"&$D$12&\",reference:=StartOfDay)=\"&A108&\"\", \"Bar\", \"\", \"Close\",\"5\",\"0\",\"All\",,,\"False\",\"T\",\"EveryTick\")","v":4392},4.5558086560364467E-4,{"$f":"RTD(\"cqg.rtd\",,\"StudyData\", \"Close(\"&$D$12&\") when LocalYear(\"&$D$12&\")=\"&$D$5&\" and localMonth(\"&$D$12&\") =\"&$E$5&\" and LocalDay(\"&$D$12&\")=\"&$F$5&\" and Barix(\"&$D$12&\",reference:=StartOfDay)=\"&A108&\"\", \"Bar\", \"\", \"Close\",\"5\",\"0\",\"All\",,,\"False\",\"T\",\"EveryTick\")","v":4418.25},1.475654570509876E-2,{"$f":"RTD(\"cqg.rtd\",,\"StudyData\", \"Close(\"&$D$12&\") when LocalYear(\"&$D$12&\")=\"&$D$6&\" and localMonth(\"&$D$12&\") =\"&$E$6&\" and LocalDay(\"&$D$12&\")=\"&$F$6&\" and Barix(\"&$D$12&\",reference:=StartOfDay)=\"&A108&\"\", \"Bar\", \"\", \"Close\",\"5\",\"0\",\"All\",,,\"False\",\"T\",\"EveryTick\")","v":4313.75},-4.6723580987540377E-3,{"$f":"RTD(\"cqg.rtd\",,\"StudyData\", \"Close(\"&$D$12&\") when LocalYear(\"&$D$12&\")=\"&$D$7&\" and localMonth(\"&$D$12&\") =\"&$E$7&\" and LocalDay(\"&$D$12&\")=\"&$F$7&\" and Barix(\"&$D$12&\",reference:=StartOfDay)=\"&A108&\"\", \"Bar\", \"\", \"Close\",\"5\",\"0\",\"All\",,,\"False\",\"T\",\"EveryTick\")","v":4349.75},1.3632391494319837E-2,{"$f":"RTD(\"cqg.rtd\",,\"StudyData\", \"Close(\"&$D$12&\") when LocalYear(\"&$D$12&\")=\"&$D$8&\" and localMonth(\"&$D$12&\") =\"&$E$8&\" and LocalDay(\"&$D$12&\")=\"&$F$8&\" and Barix(\"&$D$12&\",reference:=StartOfDay)=\"&A108&\"\", \"Bar\", \"\", \"Close\",\"5\",\"0\",\"All\",,,\"False\",\"T\",\"EveryTick\")","v":4284.5},-1.3640287769784173E-2,{"$f":"RTD(\"cqg.rtd\",,\"StudyData\", \"Close(\"&$D$12&\") when LocalYear(\"&$D$12&\")=\"&$D$9&\" and localMonth(\"&$D$12&\") =\"&$E$9&\" and LocalDay(\"&$D$12&\")=\"&$F$9&\" and Barix(\"&$D$12&\",reference:=StartOfDay)=\"&A108&\"\", \"Bar\", \"\", \"Close\",\"5\",\"0\",\"All\",,,\"False\",\"T\",\"EveryTick\")","v":4296.5},-2.9084986330056426E-4,{"$f":"RTD(\"cqg.rtd\",,\"StudyData\", \"Close(\"&$D$12&\") when LocalYear(\"&$D$12&\")=\"&$D$10&\" and localMonth(\"&$D$12&\") =\"&$E$10&\" and LocalDay(\"&$D$12&\")=\"&$F$10&\" and Barix(\"&$D$12&\",reference:=StartOfDay)=\"&A108&\"\", \"Bar\", \"\", \"Close\",\"5\",\"0\",\"All\",,,\"False\",\"T\",\"EveryTick\")","v":4342.25},-1.724237025116386E-3,null,null,null,""]
[204,"10:00:00",null,null,null,null,null,{"$f":"RTD(\"cqg.rtd\",,\"StudyData\", \"Close(\"&$D$12&\") when LocalYear(\"&$D$12&\")=\"&$D$1&\" and localMonth(\"&$D$12&\") =\"&$E$1&\" and LocalDay(\"&$D$12&\")=\"&$F$1&\" and Barix(\"&$D$12&\",reference:=StartOfDay)=\"&A109&\"\", \"Bar\", \"\", \"Close\",\"5\",\"0\",\"All\",,,\"False\",\"T\",\"EveryTick\")","v":4335.25},-1.2670621436387721E-3,{"$f":"RTD(\"cqg.rtd\",,\"StudyData\", \"Close(\"&$D$12&\") when LocalYear(\"&$D$12&\")=\"&$D$2&\" and localMonth(\"&$D$12&\") =\"&$E$2&\" and LocalDay(\"&$D$12&\")=\"&$F$2&\" and Barix(\"&$D$12&\",reference:=StartOfDay)=\"&A109&\"\", \"Bar\", \"\", \"Close\",\"5\",\"0\",\"All\",,,\"False\",\"T\",\"EveryTick\")","v":4349.75},-2.8729027809698917E-4,{"$f":"RTD(\"cqg.rtd\",,\"StudyData\", \"Close(\"&$D$12&\") when LocalYear(\"&$D$12&\")=\"&$D$3&\" and localMonth(\"&$D$12&\") =\"&$E$3&\" and LocalDay(\"&$D$12&\")=\"&$F$3&\" and Barix(\"&$D$12&\",reference:=StartOfDay)=\"&A109&\"\", \"Bar\", \"\", \"Close\",\"5\",\"0\",\"All\",,,\"False\",\"T\",\"EveryTick\")","v":4402.25},4.5638655941582524E-3,{"$f":"RTD(\"cqg.rtd\",,\"StudyData\", \"Close(\"&$D$12&\") when LocalYear(\"&$D$12&\")=\"&$D$4&\" and localMonth(\"&$D$12&\") =\"&$E$4&\" and LocalDay(\"&$D$12&\")=\"&$F$4&\" and Barix(\"&$D$12&\",reference:=StartOfDay)=\"&A109&\"\", \"Bar\", \"\", \"Close\",\"5\",\"0\",\"All\",,,\"False\",\"T\",\"EveryTick\")","v":4388.75},-2.8473804100227789E-4,{"$f":"RTD(\"cqg.rtd\",,\"StudyData\", \"Close(\"&$D$12&\") when LocalYear(\"&$D$12&\")=\"&$D$5&\" and localMonth(\"&$D$12&\") =\"&$E$5&\" and LocalDay(\"&$D$12&\")=\"&$F$5&\" and Barix(\"&$D$12&\",reference:=StartOfDay)=\"&A109&\"\", \"Bar\", \"\", \"Close\",\"5\",\"0\",\"All\",,,\"False\",\"T\",\"EveryTick\")","v":4418.25},1.475654570509876E-2,{"$f":"RTD(\"cqg.rtd\",,\"StudyData\", \"Close(\"&$D$12&\") when LocalYear(\"&$D$12&\")=\"&$D$6&\" and localMonth(\"&$D$12&\") =\"&$E$6&\" and LocalDay(\"&$D$12&\")=\"&$F$6&\" and Barix(\"&$D$12&\",reference:=StartOfDay)=\"&A109&\"\", \"Bar\", \"\", \"Close\",\"5\",\"0\",\"All\",,,\"False\",\"T\",\"EveryTick\")","v":4315.5},-4.2685740655283803E-3,{"$f":"RTD(\"cqg.rtd\",,\"StudyData\", \"Close(\"&$D$12&\") when LocalYear(\"&$D$12&\")=\"&$D$7&\" and localMonth(\"&$D$12&\") =\"&$E$7&\" and LocalDay(\"&$D$12&\")=\"&$F$7&\" and Barix(\"&$D$12&\",reference:=StartOfDay)=\"&A109&\"\", \"Bar\", \"\", \"Close\",\"5\",\"0\",\"All\",,,\"False\",\"T\",\"EveryTick\")","v":4352.25},1.4214972327410428E-2,{"$f":"RTD(\"cqg.rtd\",,\"StudyData\", \"Close(\"&$D$12&\") when LocalYear(\"&$D$12&\")=\"&$D$8&\" and localMonth(\"&$D$12&\") =\"&$E$8&\" and LocalDay(\"&$D$12&\")=\"&$F$8&\" and Barix(\"&$D$12&\",reference:=StartOfDay)=\"&A109&\"\", \"Bar\", \"\", \"Close\",\"5\",\"0\",\"All\",,,\"False\",\"T\",\"EveryTick\")","v":4280.75},-1.4503597122302158E-2,{"$f":"RTD(\"cqg.rtd\",,\"StudyData\", \"Close(\"&$D$12&\") when LocalYear(\"&$D$12&\")=\"&$D$9&\" and localMonth(\"&$D$12&\") =\"&$E$9&\" and LocalDay(\"&$D$12&\")=\"&$F$9&\" and Barix(\"&$D$12&\",reference:=StartOfDay)=\"&A109&\"\", \"Bar\", \"\", \"Close\",\"5\",\"0\",\"All\",,,\"False\",\"T\",\"EveryTick\")","v":4295.5},-5.2352975394101564E-4,{"$f":"RTD(\"cqg.rtd\",,\"StudyData\", \"Close(\"&$D$12&\") when LocalYear(\"&$D$12&\")=\"&$D$10&\" and localMonth(\"&$D$12&\") =\"&$E$10&\" and LocalDay(\"&$D$12&\")=\"&$F$10&\" and Barix(\"&$D$12&\",reference:=StartOfDay)=\"&A109&\"\", \"Bar\", \"\", \"Close\",\"5\",\"0\",\"All\",,,\"False\",\"T\",\"EveryTick\")","v":4344.75},-1.1494913500775907E-3,null,null,null,""]
[{"$f":"A109+1","v":205},"10:05:00",null,null,null,null,null,{"$f":"RTD(\"cqg.rtd\",,\"StudyData\", \"Close(\"&$D$12&\") when LocalYear(\"&$D$12&\")=\"&$D$1&\" and localMonth(\"&$D$12&\") =\"&$E$1&\" and LocalDay(\"&$D$12&\")=\"&$F$1&\" and Barix(\"&$D$12&\",reference:=StartOfDay)=\"&A110&\"\", \"Bar\", \"\", \"Close\",\"5\",\"0\",\"All\",,,\"False\",\"T\",\"EveryTick\")","v":4335.25},-1.2670621436387721E-3,{"$f":"RTD(\"cqg.rtd\",,\"StudyData\", \"Close(\"&$D$12&\") when LocalYear(\"&$D$12&\")=\"&$D$2&\" and localMonth(\"&$D$12&\") =\"&$E$2&\" and LocalDay(\"&$D$12&\")=\"&$F$2&\" and Barix(\"&$D$12&\",reference:=StartOfDay)=\"&A110&\"\", \"Bar\", \"\", \"Close\",\"5\",\"0\",\"All\",,,\"False\",\"T\",\"EveryTick\")","v":4356.5},1.2640772236267525E-3,{"$f":"RTD(\"cqg.rtd\",,\"StudyData\", \"Close(\"&$D$12&\") when LocalYear(\"&$D$12&\")=\"&$D$3&\" and localMonth(\"&$D$12&\") =\"&$E$3&\" and LocalDay(\"&$D$12&\")=\"&$F$3&\" and Barix(\"&$D$12&\",reference:=StartOfDay)=\"&A110&\"\", \"Bar\", \"\", \"Close\",\"5\",\"0\",\"All\",,,\"False\",\"T\",\"EveryTick\")","v":4402.25},4.5638655941582524E-3,{"$f":"RTD(\"cqg.rtd\",,\"StudyData\", \"Close(\"&$D$12&\") when LocalYear(\"&$D$12&\")=\"&$D$4&\" and localMonth(\"&$D$12&\") =\"&$E$4&\" and LocalDay(\"&$D$12&\")=\"&$F$4&\" and Barix(\"&$D$12&\",reference:=StartOfDay)=\"&A110&\"\", \"Bar\", \"\", \"Close\",\"5\",\"0\",\"All\",,,\"False\",\"T\",\"EveryTick\")","v":4393.75},8.5421412300683373E-4,{"$f":"RTD(\"cqg.rtd\",,\"StudyData\", \"Close(\"&$D$12&\") when LocalYear(\"&$D$12&\")=\"&$D$5&\" and localMonth(\"&$D$12&\") =\"&$E$5&\" and LocalDay(\"&$D$12&\")=\"&$F$5&\" and Barix(\"&$D$12&\",reference:=StartOfDay)=\"&A110&\"\", \"Bar\", \"\", \"Close\",\"5\",\"0\",\"All\",,,\"False\",\"T\",\"EveryTick\")","v":4415.75},1.4182361047312816E-2,{"$f":"RTD(\"cqg.rtd\",,\"StudyData\", \"Close(\"&$D$12&\") when LocalYear(\"&$D$12&\")=\"&$D$6&\" and localMonth(\"&$D$12&\") =\"&$E$6&\" and LocalDay(\"&$D$12&\")=\"&$F$6&\" and Barix(\"&$D$12&\",reference:=StartOfDay)=\"&A110&\"\", \"Bar\", \"\", \"Close\",\"5\",\"0\",\"All\",,,\"False\",\"T\",\"EveryTick\")","v":4312.5},-4.9607752653437935E-3,{"$f":"RTD(\"cqg.rtd\",,\"StudyData\", \"Close(\"&$D$12&\") when LocalYear(\"&$D$12&\")=\"&$D$7&\" and localMonth(\"&$D$12&\") =\"&$E$7&\" and LocalDay(\"&$D$12&\")=\"&$F$7&\" and Barix(\"&$D$12&\",reference:=StartOfDay)=\"&A110&\"\", \"Bar\", \"\", \"Close\",\"5\",\"0\",\"All\",,,\"False\",\"T\",\"EveryTick\")","v":4354.5},1.4739295077191961E-2,{"$f":"RTD(\"cqg.rtd\",,\"StudyData\", \"Close(\"&$D$12&\") when LocalYear(\"&$D$12&\")=\"&$D$8&\" and localMonth(\"&$D$12&\") =\"&$E$8&\" and LocalDay(\"&$D$12&\")=\"&$F$8&\" and Barix(\"&$D$12&\",reference:=StartOfDay)=\"&A110&\"\", \"Bar\", \"\", \"Close\",\"5\",\"0\",\"All\",,,\"False\",\"T\",\"EveryTick\")","v":4286.75},-1.3122302158273381E-2,{"$f":"RTD(\"cqg.rtd\",,\"StudyData\", \"Close(\"&$D$12&\") when LocalYear(\"&$D$12&\")=\"&$D$9&\" and localMonth(\"&$D$12&\") =\"&$E$9&\" and LocalDay(\"&$D$12&\")=\"&$F$9&\" and Barix(\"&$D$12&\",reference:=StartOfDay)=\"&A110&\"\", \"Bar\", \"\", \"Close\",\"5\",\"0\",\"All\",,,\"False\",\"T\",\"EveryTick\")","v":4288},-2.2686289337444012E-3,{"$f":"RTD(\"cqg.rtd\",,\"StudyData\", \"Close(\"&$D$12&\") when LocalYear(\"&$D$12&\")=\"&$D$10&\" and localMonth(\"&$D$12&\") =\"&$E$10&\" and LocalDay(\"&$D$12&\")=\"&$F$10&\" and Barix(\"&$D$12&\",reference:=StartOfDay)=\"&A110&\"\", \"Bar\", \"\", \"Close\",\"5\",\"0\",\"All\",,,\"False\",\"T\",\"EveryTick\")","v":4348},-4.0232197252715676E-4,null,null,null,""]
[206,"10:10:00",null,null,null,null,null,{"$f":"RTD(\"cqg.rtd\",,\"StudyData\", \"Close(\"&$D$12&\") when LocalYear(\"&$D$12&\")=\"&$D$1&\" and localMonth(\"&$D$12&\") =\"&$E$1&\" and LocalDay(\"&$D$12&\")=\"&$F$1&\" and Barix(\"&$D$12&\",reference:=StartOfDay)=\"&A111&\"\", \"Bar\", \"\", \"Close\",\"5\",\"0\",\"All\",,,\"False\",\"T\",\"EveryTick\")","v":4335.75},-1.1518746760352473E-3,{"$f":"RTD(\"cqg.rtd\",,\"StudyData\", \"Close(\"&$D$12&\") when LocalYear(\"&$D$12&\")=\"&$D$2&\" and localMonth(\"&$D$12&\") =\"&$E$2&\" and LocalDay(\"&$D$12&\")=\"&$F$2&\" and Barix(\"&$D$12&\",reference:=StartOfDay)=\"&A111&\"\", \"Bar\", \"\", \"Close\",\"5\",\"0\",\"All\",,,\"False\",\"T\",\"EveryTick\")","v":4352.5},3.4474833371638702E-4,{"$f":"RTD(\"cqg.rtd\",,\"StudyData\", \"Close(\"&$D$12&\") when LocalYear(\"&$D$12&\")=\"&$D$3&\" and localMonth(\"&$D$12&\") =\"&$E$3&\" and LocalDay(\"&$D$12&\")=\"&$F$3&\" and Barix(\"&$D$12&\",reference:=StartOfDay)=\"&A111&\"\", \"Bar\", \"\", \"Close\",\"5\",\"0\",\"All\",,,\"False\",\"T\",\"EveryTick\")","v":4400.75},4.2215756745963831E-3,{"$f":"RTD(\"cqg.rtd\",,\"StudyData\", \"Close(\"&$D$12&\") when LocalYear(\"&$D$12&\")=\"&$D$4&\" and localMonth(\"&$D$12&\") =\"&$E$4&\" and LocalDay(\"&$D$12&\")=\"&$F$4&\" and Barix(\"&$D$12&\",reference:=StartOfDay)=\"&A111&\"\", \"Bar\", \"\", \"Close\",\"5\",\"0\",\"All\",,,\"False\",\"T\",\"EveryTick\")","v":4396.75},1.5375854214123006E-3,{"$f":"RTD(\"cqg.rtd\",,\"StudyData\", \"Close(\"&$D$12&\") when LocalYear(\"&$D$12&\")=\"&$D$5&\" and localMonth(\"&$D$12&\") =\"&$E$5&\" and LocalDay(\"&$D$12&\")=\"&$F$5&\" and Barix(\"&$D$12&\",reference:=StartOfDay)=\"&A111&\"\", \"Bar\", \"\", \"Close\",\"5\",\"0\",\"All\",,,\"False\",\"T\",\"EveryTick\")","v":4414.5},1.3895268718419843E-2,{"$f":"RTD(\"cqg.rtd\",,\"StudyData\", \"Close(\"&$D$12&\") when LocalYear(\"&$D$12&\")=\"&$D$6&\" and localMonth(\"&$D$12&\") =\"&$E$6&\" and LocalDay(\"&$D$12&\")=\"&$F$6&\" and Barix(\"&$D$12&\",reference:=StartOfDay)=\"&A111&\"\", \"Bar\", \"\", \"Close\",\"5\",\"0\",\"All\",,,\"False\",\"T\",\"EveryTick\")","v":4311.75},-5.1338255652976462E-3,{"$f":"RTD(\"cqg.rtd\",,\"StudyData\", \"Close(\"&$D$12&\") when LocalYear(\"&$D$12&\")=\"&$D$7&\" and localMonth(\"&$D$12&\") =\"&$E$7&\" and LocalDay(\"&$D$12&\")=\"&$F$7&\" and Barix(\"&$D$12&\",reference:=StartOfDay)=\"&A111&\"\", \"Bar\", \"\", \"Close\",\"5\",\"0\",\"All\",,,\"False\",\"T\",\"EveryTick\")","v":4355.25},1.4914069327119138E-2,{"$f":"RTD(\"cqg.rtd\",,\"StudyData\", \"Close(\"&$D$12&\") when LocalYear(\"&$D$12&\")=\"&$D$8&\" and localMonth(\"&$D$12&\") =\"&$E$8&\" and LocalDay(\"&$D$12&\")=\"&$F$8&\" and Barix(\"&$D$12&\",reference:=StartOfDay)=\"&A111&\"\", \"Bar\", \"\", \"Close\",\"5\",\"0\",\"All\",,,\"False\",\"T\",\"EveryTick\")","v":4289.75},-1.2431654676258994E-2,{"$f":"RTD(\"cqg.rtd\",,\"StudyData\", \"Close(\"&$D$12&\") when LocalYear(\"&$D$12&\")=\"&$D$9&\" and localMonth(\"&$D$12&\") =\"&$E$9&\" and LocalDay(\"&$D$12&\")=\"&$F$9&\" and Barix(\"&$D$12&\",reference:=StartOfDay)=\"&A111&\"\", \"Bar\", \"\", \"Close\",\"5\",\"0\",\"All\",,,\"False\",\"T\",\"EveryTick\")","v":4308.25},2.4431388517247399E-3,{"$f":"RTD(\"cqg.rtd\",,\"StudyData\", \"Close(\"&$D$12&\") when LocalYear(\"&$D$12&\")=\"&$D$10&\" and localMonth(\"&$D$12&\") =\"&$E$10&\" and LocalDay(\"&$D$12&\")=\"&$F$10&\" and Barix(\"&$D$12&\",reference:=StartOfDay)=\"&A111&\"\", \"Bar\", \"\", \"Close\",\"5\",\"0\",\"All\",,,\"False\",\"T\",\"EveryTick\")","v":4348.5},-2.8737283751939768E-4,null,null,null,""]
[207,"10:15:00",null,null,null,null,null,{"$f":"RTD(\"cqg.rtd\",,\"StudyData\", \"Close(\"&$D$12&\") when LocalYear(\"&$D$12&\")=\"&$D$1&\" and localMonth(\"&$D$12&\") =\"&$E$1&\" and LocalDay(\"&$D$12&\")=\"&$F$1&\" and Barix(\"&$D$12&\",reference:=StartOfDay)=\"&A112&\"\", \"Bar\", \"\", \"Close\",\"5\",\"0\",\"All\",,,\"False\",\"T\",\"EveryTick\")","v":4335.75},-1.1518746760352473E-3,{"$f":"RTD(\"cqg.rtd\",,\"StudyData\", \"Close(\"&$D$12&\") when LocalYear(\"&$D$12&\")=\"&$D$2&\" and localMonth(\"&$D$12&\") =\"&$E$2&\" and LocalDay(\"&$D$12&\")=\"&$F$2&\" and Barix(\"&$D$12&\",reference:=StartOfDay)=\"&A112&\"\", \"Bar\", \"\", \"Close\",\"5\",\"0\",\"All\",,,\"False\",\"T\",\"EveryTick\")","v":4350.75},-5.7458055619397838E-5,{"$f":"RTD(\"cqg.rtd\",,\"StudyData\", \"Close(\"&$D$12&\") when LocalYear(\"&$D$12&\")=\"&$D$3&\" and localMonth(\"&$D$12&\") =\"&$E$3&\" and LocalDay(\"&$D$12&\")=\"&$F$3&\" and Barix(\"&$D$12&\",reference:=StartOfDay)=\"&A112&\"\", \"Bar\", \"\", \"Close\",\"5\",\"0\",\"All\",,,\"False\",\"T\",\"EveryTick\")","v":4396.25},3.1947059159107764E-3,{"$f":"RTD(\"cqg.rtd\",,\"StudyData\", \"Close(\"&$D$12&\") when LocalYear(\"&$D$12&\")=\"&$D$4&\" and localMonth(\"&$D$12&\") =\"&$E$4&\" and LocalDay(\"&$D$12&\")=\"&$F$4&\" and Barix(\"&$D$12&\",reference:=StartOfDay)=\"&A112&\"\", \"Bar\", \"\", \"Close\",\"5\",\"0\",\"All\",,,\"False\",\"T\",\"EveryTick\")","v":4398},1.8223234624145787E-3,{"$f":"RTD(\"cqg.rtd\",,\"StudyData\", \"Close(\"&$D$12&\") when LocalYear(\"&$D$12&\")=\"&$D$5&\" and localMonth(\"&$D$12&\") =\"&$E$5&\" and LocalDay(\"&$D$12&\")=\"&$F$5&\" and Barix(\"&$D$12&\",reference:=StartOfDay)=\"&A112&\"\", \"Bar\", \"\", \"Close\",\"5\",\"0\",\"All\",,,\"False\",\"T\",\"EveryTick\")","v":4411.25},1.3148828663298117E-2,{"$f":"RTD(\"cqg.rtd\",,\"StudyData\", \"Close(\"&$D$12&\") when LocalYear(\"&$D$12&\")=\"&$D$6&\" and localMonth(\"&$D$12&\") =\"&$E$6&\" and LocalDay(\"&$D$12&\")=\"&$F$6&\" and Barix(\"&$D$12&\",reference:=StartOfDay)=\"&A112&\"\", \"Bar\", \"\", \"Close\",\"5\",\"0\",\"All\",,,\"False\",\"T\",\"EveryTick\")","v":4308.75},-5.8260267651130595E-3,{"$f":"RTD(\"cqg.rtd\",,\"StudyData\", \"Close(\"&$D$12&\") when LocalYear(\"&$D$12&\")=\"&$D$7&\" and localMonth(\"&$D$12&\") =\"&$E$7&\" and LocalDay(\"&$D$12&\")=\"&$F$7&\" and Barix(\"&$D$12&\",reference:=StartOfDay)=\"&A112&\"\", \"Bar\", \"\", \"Close\",\"5\",\"0\",\"All\",,,\"False\",\"T\",\"EveryTick\")","v":4354},1.4622778910573841E-2,{"$f":"RTD(\"cqg.rtd\",,\"StudyData\", \"Close(\"&$D$12&\") when LocalYear(\"&$D$12&\")=\"&$D$8&\" and localMonth(\"&$D$12&\") =\"&$E$8&\" and LocalDay(\"&$D$12&\")=\"&$F$8&\" and Barix(\"&$D$12&\",reference:=StartOfDay)=\"&A112&\"\", \"Bar\", \"\", \"Close\",\"5\",\"0\",\"All\",,,\"False\",\"T\",\"EveryTick\")","v":4288.5},-1.2719424460431655E-2,{"$f":"RTD(\"cqg.rtd\",,\"StudyData\", \"Close(\"&$D$12&\") when LocalYear(\"&$D$12&\")=\"&$D$9&\" and localMonth(\"&$D$12&\") =\"&$E$9&\" and LocalDay(\"&$D$12&\")=\"&$F$9&\" and Barix(\"&$D$12&\",reference:=StartOfDay)=\"&A112&\"\", \"Bar\", \"\", \"Close\",\"5\",\"0\",\"All\",,,\"False\",\"T\",\"EveryTick\")","v":4310.5},2.9666686056657554E-3,{"$f":"RTD(\"cqg.rtd\",,\"StudyData\", \"Close(\"&$D$12&\") when LocalYear(\"&$D$12&\")=\"&$D$10&\" and localMonth(\"&$D$12&\") =\"&$E$10&\" and LocalDay(\"&$D$12&\")=\"&$F$10&\" and Barix(\"&$D$12&\",reference:=StartOfDay)=\"&A112&\"\", \"Bar\", \"\", \"Close\",\"5\",\"0\",\"All\",,,\"False\",\"T\",\"EveryTick\")","v":4354.75},1.1494913500775907E-3,null,null,null,207]
[208,"10:20:00",null,null,null,null,null,{"$f":"RTD(\"cqg.rtd\",,\"StudyData\", \"Close(\"&$D$12&\") when LocalYear(\"&$D$12&\")=\"&$D$1&\" and localMonth(\"&$D$12&\") =\"&$E$1&\" and LocalDay(\"&$D$12&\")=\"&$F$1&\" and Barix(\"&$D$12&\",reference:=StartOfDay)=\"&A113&\"\", \"Bar\", \"\", \"Close\",\"5\",\"0\",\"All\",,,\"False\",\"T\",\"EveryTick\")","v":""},{"$error":"#N/A"},{"$f":"RTD(\"cqg.rtd\",,\"StudyData\", \"Close(\"&$D$12&\") when LocalYear(\"&$D$12&\")=\"&$D$2&\" and localMonth(\"&$D$12&\") =\"&$E$2&\" and LocalDay(\"&$D$12&\")=\"&$F$2&\" and Barix(\"&$D$12&\",reference:=StartOfDay)=\"&A113&\"\", \"Bar\", \"\", \"Close\",\"5\",\"0\",\"All\",,,\"False\",\"T\",\"EveryTick\")","v":4354.75},8.6187083429096762E-4,{"$f":"RTD(\"cqg.rtd\",,\"StudyData\", \"Close(\"&$D$12&\") when LocalYear(\"&$D$12&\")=\"&$D$3&\" and localMonth(\"&$D$12&\") =\"&$E$3&\" and LocalDay(\"&$D$12&\")=\"&$F$3&\" and Barix(\"&$D$12&\",reference:=StartOfDay)=\"&A113&\"\", \"Bar\", \"\", \"Close\",\"5\",\"0\",\"All\",,,\"False\",\"T\",\"EveryTick\")","v":4398.5},3.70814079525358E-3,{"$f":"RTD(\"cqg.rtd\",,\"StudyData\", \"Close(\"&$D$12&\") when LocalYear(\"&$D$12&\")=\"&$D$4&\" and localMonth(\"&$D$12&\") =\"&$E$4&\" and LocalDay(\"&$D$12&\")=\"&$F$4&\" and Barix(\"&$D$12&\",reference:=StartOfDay)=\"&A113&\"\", \"Bar\", \"\", \"Close\",\"5\",\"0\",\"All\",,,\"False\",\"T\",\"EveryTick\")","v":4394.75},1.082004555808656E-3,{"$f":"RTD(\"cqg.rtd\",,\"StudyData\", \"Close(\"&$D$12&\") when LocalYear(\"&$D$12&\")=\"&$D$5&\" and localMonth(\"&$D$12&\") =\"&$E$5&\" and LocalDay(\"&$D$12&\")=\"&$F$5&\" and Barix(\"&$D$12&\",reference:=StartOfDay)=\"&A113&\"\", \"Bar\", \"\", \"Close\",\"5\",\"0\",\"All\",,,\"False\",\"T\",\"EveryTick\")","v":4412.75},1.3493339457969683E-2,{"$f":"RTD(\"cqg.rtd\",,\"StudyData\", \"Close(\"&$D$12&\") when LocalYear(\"&$D$12&\")=\"&$D$6&\" and localMonth(\"&$D$12&\") =\"&$E$6&\" and LocalDay(\"&$D$12&\")=\"&$F$6&\" and Barix(\"&$D$12&\",reference:=StartOfDay)=\"&A113&\"\", \"Bar\", \"\", \"Close\",\"5\",\"0\",\"All\",,,\"False\",\"T\",\"EveryTick\")","v":4299},-8.0756806645131511E-3,{"$f":"RTD(\"cqg.rtd\",,\"StudyData\", \"Close(\"&$D$12&\") when LocalYear(\"&$D$12&\")=\"&$D$7&\" and localMonth(\"&$D$12&\") =\"&$E$7&\" and LocalDay(\"&$D$12&\")=\"&$F$7&\" and Barix(\"&$D$12&\",reference:=StartOfDay)=\"&A113&\"\", \"Bar\", \"\", \"Close\",\"5\",\"0\",\"All\",,,\"False\",\"T\",\"EveryTick\")","v":4352.5},1.4273230410719488E-2,{"$f":"RTD(\"cqg.rtd\",,\"StudyData\", \"Close(\"&$D$12&\") when LocalYear(\"&$D$12&\")=\"&$D$8&\" and localMonth(\"&$D$12&\") =\"&$E$8&\" and LocalDay(\"&$D$12&\")=\"&$F$8&\" and Barix(\"&$D$12&\",reference:=StartOfDay)=\"&A113&\"\", \"Bar\", \"\", \"Close\",\"5\",\"0\",\"All\",,,\"False\",\"T\",\"EveryTick\")","v":4279.75},-1.4733812949640287E-2,{"$f":"RTD(\"cqg.rtd\",,\"StudyData\", \"Close(\"&$D$12&\") when LocalYear(\"&$D$12&\")=\"&$D$9&\" and localMonth(\"&$D$12&\") =\"&$E$9&\" and LocalDay(\"&$D$12&\")=\"&$F$9&\" and Barix(\"&$D$12&\",reference:=StartOfDay)=\"&A113&\"\", \"Bar\", \"\", \"Close\",\"5\",\"0\",\"All\",,,\"False\",\"T\",\"EveryTick\")","v":4314},3.7810482229073353E-3,{"$f":"RTD(\"cqg.rtd\",,\"StudyData\", \"Close(\"&$D$12&\") when LocalYear(\"&$D$12&\")=\"&$D$10&\" and localMonth(\"&$D$12&\") =\"&$E$10&\" and LocalDay(\"&$D$12&\")=\"&$F$10&\" and Barix(\"&$D$12&\",reference:=StartOfDay)=\"&A113&\"\", \"Bar\", \"\", \"Close\",\"5\",\"0\",\"All\",,,\"False\",\"T\",\"EveryTick\")","v":4348.5},-2.8737283751939768E-4,null,null,null,""]
[209,"10:25:00",null,null,null,null,null,{"$f":"RTD(\"cqg.rtd\",,\"StudyData\", \"Close(\"&$D$12&\") when LocalYear(\"&$D$12&\")=\"&$D$1&\" and localMonth(\"&$D$12&\") =\"&$E$1&\" and LocalDay(\"&$D$12&\")=\"&$F$1&\" and Barix(\"&$D$12&\",reference:=StartOfDay)=\"&A114&\"\", \"Bar\", \"\", \"Close\",\"5\",\"0\",\"All\",,,\"False\",\"T\",\"EveryTick\")","v":""},{"$error":"#N/A"},{"$f":"RTD(\"cqg.rtd\",,\"StudyData\", \"Close(\"&$D$12&\") when LocalYear(\"&$D$12&\")=\"&$D$2&\" and localMonth(\"&$D$12&\") =\"&$E$2&\" and LocalDay(\"&$D$12&\")=\"&$F$2&\" and Barix(\"&$D$12&\",reference:=StartOfDay)=\"&A114&\"\", \"Bar\", \"\", \"Close\",\"5\",\"0\",\"All\",,,\"False\",\"T\",\"EveryTick\")","v":4351.75},1.7237416685819351E-4,{"$f":"RTD(\"cqg.rtd\",,\"StudyData\", \"Close(\"&$D$12&\") when LocalYear(\"&$D$12&\")=\"&$D$3&\" and localMonth(\"&$D$12&\") =\"&$E$3&\" and LocalDay(\"&$D$12&\")=\"&$F$3&\" and Barix(\"&$D$12&\",reference:=StartOfDay)=\"&A114&\"\", \"Bar\", \"\", \"Close\",\"5\",\"0\",\"All\",,,\"False\",\"T\",\"EveryTick\")","v":4398.25},3.6510924753266017E-3,{"$f":"RTD(\"cqg.rtd\",,\"StudyData\", \"Close(\"&$D$12&\") when LocalYear(\"&$D$12&\")=\"&$D$4&\" and localMonth(\"&$D$12&\") =\"&$E$4&\" and LocalDay(\"&$D$12&\")=\"&$F$4&\" and Barix(\"&$D$12&\",reference:=StartOfDay)=\"&A114&\"\", \"Bar\", \"\", \"Close\",\"5\",\"0\",\"All\",,,\"False\",\"T\",\"EveryTick\")","v":4394.5},1.0250569476082006E-3,{"$f":"RTD(\"cqg.rtd\",,\"StudyData\", \"Close(\"&$D$12&\") when LocalYear(\"&$D$12&\")=\"&$D$5&\" and localMonth(\"&$D$12&\") =\"&$E$5&\" and LocalDay(\"&$D$12&\")=\"&$F$5&\" and Barix(\"&$D$12&\",reference:=StartOfDay)=\"&A114&\"\", \"Bar\", \"\", \"Close\",\"5\",\"0\",\"All\",,,\"False\",\"T\",\"EveryTick\")","v":4413.25},1.3608176389526872E-2,{"$f":"RTD(\"cqg.rtd\",,\"StudyData\", \"Close(\"&$D$12&\") when LocalYear(\"&$D$12&\")=\"&$D$6&\" and localMonth(\"&$D$12&\") =\"&$E$6&\" and LocalDay(\"&$D$12&\")=\"&$F$6&\" and Barix(\"&$D$12&\",reference:=StartOfDay)=\"&A114&\"\", \"Bar\", \"\", \"Close\",\"5\",\"0\",\"All\",,,\"False\",\"T\",\"EveryTick\")","v":4299.75},-7.9026303645592984E-3,{"$f":"RTD(\"cqg.rtd\",,\"StudyData\", \"Close(\"&$D$12&\") when LocalYear(\"&$D$12&\")=\"&$D$7&\" and localMonth(\"&$D$12&\") =\"&$E$7&\" and LocalDay(\"&$D$12&\")=\"&$F$7&\" and Barix(\"&$D$12&\",reference:=StartOfDay)=\"&A114&\"\", \"Bar\", \"\", \"Close\",\"5\",\"0\",\"All\",,,\"False\",\"T\",\"EveryTick\")","v":4351.5},1.4040198077483251E-2,{"$f":"RTD(\"cqg.rtd\",,\"StudyData\", \"Close(\"&$D$12&\") when LocalYear(\"&$D$12&\")=\"&$D$8&\" and localMonth(\"&$D$12&\") =\"&$E$8&\" and LocalDay(\"&$D$12&\")=\"&$F$8&\" and Barix(\"&$D$12&\",reference:=StartOfDay)=\"&A114&\"\", \"Bar\", \"\", \"Close\",\"5\",\"0\",\"All\",,,\"False\",\"T\",\"EveryTick\")","v":4283.25},-1.3928057553956834E-2,{"$f":"RTD(\"cqg.rtd\",,\"StudyData\", \"Close(\"&$D$12&\") when LocalYear(\"&$D$12&\")=\"&$D$9&\" and localMonth(\"&$D$12&\") =\"&$E$9&\" and LocalDay(\"&$D$12&\")=\"&$F$9&\" and Barix(\"&$D$12&\",reference:=StartOfDay)=\"&A114&\"\", \"Bar\", \"\", \"Close\",\"5\",\"0\",\"All\",,,\"False\",\"T\",\"EveryTick\")","v":4309},2.6176487697050781E-3,{"$f":"RTD(\"cqg.rtd\",,\"StudyData\", \"Close(\"&$D$12&\") when LocalYear(\"&$D$12&\")=\"&$D$10&\" and localMonth(\"&$D$12&\") =\"&$E$10&\" and LocalDay(\"&$D$12&\")=\"&$F$10&\" and Barix(\"&$D$12&\",reference:=StartOfDay)=\"&A114&\"\", \"Bar\", \"\", \"Close\",\"5\",\"0\",\"All\",,,\"False\",\"T\",\"EveryTick\")","v":4352.25},5.7474567503879536E-4,null,null,null,""]
[210,"10:30:00",null,null,null,null,null,{"$f":"RTD(\"cqg.rtd\",,\"StudyData\", \"Close(\"&$D$12&\") when LocalYear(\"&$D$12&\")=\"&$D$1&\" and localMonth(\"&$D$12&\") =\"&$E$1&\" and LocalDay(\"&$D$12&\")=\"&$F$1&\" and Barix(\"&$D$12&\",reference:=StartOfDay)=\"&A115&\"\", \"Bar\", \"\", \"Close\",\"5\",\"0\",\"All\",,,\"False\",\"T\",\"EveryTick\")","v":""},{"$error":"#N/A"},{"$f":"RTD(\"cqg.rtd\",,\"StudyData\", \"Close(\"&$D$12&\") when LocalYear(\"&$D$12&\")=\"&$D$2&\" and localMonth(\"&$D$12&\") =\"&$E$2&\" and LocalDay(\"&$D$12&\")=\"&$F$2&\" and Barix(\"&$D$12&\",reference:=StartOfDay)=\"&A115&\"\", \"Bar\", \"\", \"Close\",\"5\",\"0\",\"All\",,,\"False\",\"T\",\"EveryTick\")","v":4348.5},-5.7458055619397834E-4,{"$f":"RTD(\"cqg.rtd\",,\"StudyData\", \"Close(\"&$D$12&\") when LocalYear(\"&$D$12&\")=\"&$D$3&\" and localMonth(\"&$D$12&\") =\"&$E$3&\" and LocalDay(\"&$D$12&\")=\"&$F$3&\" and Barix(\"&$D$12&\",reference:=StartOfDay)=\"&A115&\"\", \"Bar\", \"\", \"Close\",\"5\",\"0\",\"All\",,,\"False\",\"T\",\"EveryTick\")","v":4400.25},4.1074790347424266E-3,{"$f":"RTD(\"cqg.rtd\",,\"StudyData\", \"Close(\"&$D$12&\") when LocalYear(\"&$D$12&\")=\"&$D$4&\" and localMonth(\"&$D$12&\") =\"&$E$4&\" and LocalDay(\"&$D$12&\")=\"&$F$4&\" and Barix(\"&$D$12&\",reference:=StartOfDay)=\"&A115&\"\", \"Bar\", \"\", \"Close\",\"5\",\"0\",\"All\",,,\"False\",\"T\",\"EveryTick\")","v":4391.25},2.8473804100227789E-4,{"$f":"RTD(\"cqg.rtd\",,\"StudyData\", \"Close(\"&$D$12&\") when LocalYear(\"&$D$12&\")=\"&$D$5&\" and localMonth(\"&$D$12&\") =\"&$E$5&\" and LocalDay(\"&$D$12&\")=\"&$F$5&\" and Barix(\"&$D$12&\",reference:=StartOfDay)=\"&A115&\"\", \"Bar\", \"\", \"Close\",\"5\",\"0\",\"All\",,,\"False\",\"T\",\"EveryTick\")","v":4414.75},1.3952687184198438E-2,{"$f":"RTD(\"cqg.rtd\",,\"StudyData\", \"Close(\"&$D$12&\") when LocalYear(\"&$D$12&\")=\"&$D$6&\" and localMonth(\"&$D$12&\") =\"&$E$6&\" and LocalDay(\"&$D$12&\")=\"&$F$6&\" and Barix(\"&$D$12&\",reference:=StartOfDay)=\"&A115&\"\", \"Bar\", \"\", \"Close\",\"5\",\"0\",\"All\",,,\"False\",\"T\",\"EveryTick\")","v":4297.75},-8.3640978311029079E-3,{"$f":"RTD(\"cqg.rtd\",,\"StudyData\", \"Close(\"&$D$12&\") when LocalYear(\"&$D$12&\")=\"&$D$7&\" and localMonth(\"&$D$12&\") =\"&$E$7&\" and LocalDay(\"&$D$12&\")=\"&$F$7&\" and Barix(\"&$D$12&\",reference:=StartOfDay)=\"&A115&\"\", \"Bar\", \"\", \"Close\",\"5\",\"0\",\"All\",,,\"False\",\"T\",\"EveryTick\")","v":4353},1.4389746577337605E-2,{"$f":"RTD(\"cqg.rtd\",,\"StudyData\", \"Close(\"&$D$12&\") when LocalYear(\"&$D$12&\")=\"&$D$8&\" and localMonth(\"&$D$12&\") =\"&$E$8&\" and LocalDay(\"&$D$12&\")=\"&$F$8&\" and Barix(\"&$D$12&\",reference:=StartOfDay)=\"&A115&\"\", \"Bar\", \"\", \"Close\",\"5\",\"0\",\"All\",,,\"False\",\"T\",\"EveryTick\")","v":4274},-1.6057553956834534E-2,{"$f":"RTD(\"cqg.rtd\",,\"StudyData\", \"Close(\"&$D$12&\") when LocalYear(\"&$D$12&\")=\"&$D$9&\" and localMonth(\"&$D$12&\") =\"&$E$9&\" and LocalDay(\"&$D$12&\")=\"&$F$9&\" and Barix(\"&$D$12&\",reference:=StartOfDay)=\"&A115&\"\", \"Bar\", \"\", \"Close\",\"5\",\"0\",\"All\",,,\"False\",\"T\",\"EveryTick\")","v":4315.25},4.0718980862078993E-3,{"$f":"RTD(\"cqg.rtd\",,\"StudyData\", \"Close(\"&$D$12&\") when LocalYear(\"&$D$12&\")=\"&$D$10&\" and localMonth(\"&$D$12&\") =\"&$E$10&\" and LocalDay(\"&$D$12&\")=\"&$F$10&\" and Barix(\"&$D$12&\",reference:=StartOfDay)=\"&A115&\"\", \"Bar\", \"\", \"Close\",\"5\",\"0\",\"All\",,,\"False\",\"T\",\"EveryTick\")","v":4340.25},-2.1840335651474221E-3,null,null,null,""]
[211,"10:35:00",null,null,null,null,null,{"$f":"RTD(\"cqg.rtd\",,\"StudyData\", \"Close(\"&$D$12&\") when LocalYear(\"&$D$12&\")=\"&$D$1&\" and localMonth(\"&$D$12&\") =\"&$E$1&\" and LocalDay(\"&$D$12&\")=\"&$F$1&\" and Barix(\"&$D$12&\",reference:=StartOfDay)=\"&A116&\"\", \"Bar\", \"\", \"Close\",\"5\",\"0\",\"All\",,,\"False\",\"T\",\"EveryTick\")","v":""},{"$error":"#N/A"},{"$f":"RTD(\"cqg.rtd\",,\"StudyData\", \"Close(\"&$D$12&\") when LocalYear(\"&$D$12&\")=\"&$D$2&\" and localMonth(\"&$D$12&\") =\"&$E$2&\" and LocalDay(\"&$D$12&\")=\"&$F$2&\" and Barix(\"&$D$12&\",reference:=StartOfDay)=\"&A116&\"\", \"Bar\", \"\", \"Close\",\"5\",\"0\",\"All\",,,\"False\",\"T\",\"EveryTick\")","v":4349.25},-4.0220638933578486E-4,{"$f":"RTD(\"cqg.rtd\",,\"StudyData\", \"Close(\"&$D$12&\") when LocalYear(\"&$D$12&\")=\"&$D$3&\" and localMonth(\"&$D$12&\") =\"&$E$3&\" and LocalDay(\"&$D$12&\")=\"&$F$3&\" and Barix(\"&$D$12&\",reference:=StartOfDay)=\"&A116&\"\", \"Bar\", \"\", \"Close\",\"5\",\"0\",\"All\",,,\"False\",\"T\",\"EveryTick\")","v":4404},4.9632038336470995E-3,{"$f":"RTD(\"cqg.rtd\",,\"StudyData\", \"Close(\"&$D$12&\") when LocalYear(\"&$D$12&\")=\"&$D$4&\" and localMonth(\"&$D$12&\") =\"&$E$4&\" and LocalDay(\"&$D$12&\")=\"&$F$4&\" and Barix(\"&$D$12&\",reference:=StartOfDay)=\"&A116&\"\", \"Bar\", \"\", \"Close\",\"5\",\"0\",\"All\",,,\"False\",\"T\",\"EveryTick\")","v":4391.5},3.416856492027335E-4,{"$f":"RTD(\"cqg.rtd\",,\"StudyData\", \"Close(\"&$D$12&\") when LocalYear(\"&$D$12&\")=\"&$D$5&\" and localMonth(\"&$D$12&\") =\"&$E$5&\" and LocalDay(\"&$D$12&\")=\"&$F$5&\" and Barix(\"&$D$12&\",reference:=StartOfDay)=\"&A116&\"\", \"Bar\", \"\", \"Close\",\"5\",\"0\",\"All\",,,\"False\",\"T\",\"EveryTick\")","v":4415.75},1.4182361047312816E-2,{"$f":"RTD(\"cqg.rtd\",,\"StudyData\", \"Close(\"&$D$12&\") when LocalYear(\"&$D$12&\")=\"&$D$6&\" and localMonth(\"&$D$12&\") =\"&$E$6&\" and LocalDay(\"&$D$12&\")=\"&$F$6&\" and Barix(\"&$D$12&\",reference:=StartOfDay)=\"&A116&\"\", \"Bar\", \"\", \"Close\",\"5\",\"0\",\"All\",,,\"False\",\"T\",\"EveryTick\")","v":4302.5},-7.2681125980618363E-3,{"$f":"RTD(\"cqg.rtd\",,\"StudyData\", \"Close(\"&$D$12&\") when LocalYear(\"&$D$12&\")=\"&$D$7&\" and localMonth(\"&$D$12&\") =\"&$E$7&\" and LocalDay(\"&$D$12&\")=\"&$F$7&\" and Barix(\"&$D$12&\",reference:=StartOfDay)=\"&A116&\"\", \"Bar\", \"\", \"Close\",\"5\",\"0\",\"All\",,,\"False\",\"T\",\"EveryTick\")","v":4348.5},1.3341101077774541E-2,{"$f":"RTD(\"cqg.rtd\",,\"StudyData\", \"Close(\"&$D$12&\") when LocalYear(\"&$D$12&\")=\"&$D$8&\" and localMonth(\"&$D$12&\") =\"&$E$8&\" and LocalDay(\"&$D$12&\")=\"&$F$8&\" and Barix(\"&$D$12&\",reference:=StartOfDay)=\"&A116&\"\", \"Bar\", \"\", \"Close\",\"5\",\"0\",\"All\",,,\"False\",\"T\",\"EveryTick\")","v":4268.75},-1.7266187050359712E-2,{"$f":"RTD(\"cqg.rtd\",,\"StudyData\", \"Close(\"&$D$12&\") when LocalYear(\"&$D$12&\")=\"&$D$9&\" and localMonth(\"&$D$12&\") =\"&$E$9&\" and LocalDay(\"&$D$12&\")=\"&$F$9&\" and Barix(\"&$D$12&\",reference:=StartOfDay)=\"&A116&\"\", \"Bar\", \"\", \"Close\",\"5\",\"0\",\"All\",,,\"False\",\"T\",\"EveryTick\")","v":4318.75},4.8862777034494797E-3,{"$f":"RTD(\"cqg.rtd\",,\"StudyData\", \"Close(\"&$D$12&\") when LocalYear(\"&$D$12&\")=\"&$D$10&\" and localMonth(\"&$D$12&\") =\"&$E$10&\" and LocalDay(\"&$D$12&\")=\"&$F$10&\" and Barix(\"&$D$12&\",reference:=StartOfDay)=\"&A116&\"\", \"Bar\", \"\", \"Close\",\"5\",\"0\",\"All\",,,\"False\",\"T\",\"EveryTick\")","v":4334.25},-3.5634231852405313E-3,null,null,null,""]
[212,"10:40:00",null,null,null,null,null,{"$f":"RTD(\"cqg.rtd\",,\"StudyData\", \"Close(\"&$D$12&\") when LocalYear(\"&$D$12&\")=\"&$D$1&\" and localMonth(\"&$D$12&\") =\"&$E$1&\" and LocalDay(\"&$D$12&\")=\"&$F$1&\" and Barix(\"&$D$12&\",reference:=StartOfDay)=\"&A117&\"\", \"Bar\", \"\", \"Close\",\"5\",\"0\",\"All\",,,\"False\",\"T\",\"EveryTick\")","v":""},{"$error":"#N/A"},{"$f":"RTD(\"cqg.rtd\",,\"StudyData\", \"Close(\"&$D$12&\") when LocalYear(\"&$D$12&\")=\"&$D$2&\" and localMonth(\"&$D$12&\") =\"&$E$2&\" and LocalDay(\"&$D$12&\")=\"&$F$2&\" and Barix(\"&$D$12&\",reference:=StartOfDay)=\"&A117&\"\", \"Bar\", \"\", \"Close\",\"5\",\"0\",\"All\",,,\"False\",\"T\",\"EveryTick\")","v":4348.5},-5.7458055619397834E-4,{"$f":"RTD(\"cqg.rtd\",,\"StudyData\", \"Close(\"&$D$12&\") when LocalYear(\"&$D$12&\")=\"&$D$3&\" and localMonth(\"&$D$12&\") =\"&$E$3&\" and LocalDay(\"&$D$12&\")=\"&$F$3&\" and Barix(\"&$D$12&\",reference:=StartOfDay)=\"&A117&\"\", \"Bar\", \"\", \"Close\",\"5\",\"0\",\"All\",,,\"False\",\"T\",\"EveryTick\")","v":4404.75},5.1343487934280337E-3,{"$f":"RTD(\"cqg.rtd\",,\"StudyData\", \"Close(\"&$D$12&\") when LocalYear(\"&$D$12&\")=\"&$D$4&\" and localMonth(\"&$D$12&\") =\"&$E$4&\" and LocalDay(\"&$D$12&\")=\"&$F$4&\" and Barix(\"&$D$12&\",reference:=StartOfDay)=\"&A117&\"\", \"Bar\", \"\", \"Close\",\"5\",\"0\",\"All\",,,\"False\",\"T\",\"EveryTick\")","v":4389.75},-5.6947608200455584E-5,{"$f":"RTD(\"cqg.rtd\",,\"StudyData\", \"Close(\"&$D$12&\") when LocalYear(\"&$D$12&\")=\"&$D$5&\" and localMonth(\"&$D$12&\") =\"&$E$5&\" and LocalDay(\"&$D$12&\")=\"&$F$5&\" and Barix(\"&$D$12&\",reference:=StartOfDay)=\"&A117&\"\", \"Bar\", \"\", \"Close\",\"5\",\"0\",\"All\",,,\"False\",\"T\",\"EveryTick\")","v":4417.25},1.4526871841984382E-2,{"$f":"RTD(\"cqg.rtd\",,\"StudyData\", \"Close(\"&$D$12&\") when LocalYear(\"&$D$12&\")=\"&$D$6&\" and localMonth(\"&$D$12&\") =\"&$E$6&\" and LocalDay(\"&$D$12&\")=\"&$F$6&\" and Barix(\"&$D$12&\",reference:=StartOfDay)=\"&A117&\"\", \"Bar\", \"\", \"Close\",\"5\",\"0\",\"All\",,,\"False\",\"T\",\"EveryTick\")","v":4300.5},-7.7295800646054449E-3,{"$f":"RTD(\"cqg.rtd\",,\"StudyData\", \"Close(\"&$D$12&\") when LocalYear(\"&$D$12&\")=\"&$D$7&\" and localMonth(\"&$D$12&\") =\"&$E$7&\" and LocalDay(\"&$D$12&\")=\"&$F$7&\" and Barix(\"&$D$12&\",reference:=StartOfDay)=\"&A117&\"\", \"Bar\", \"\", \"Close\",\"5\",\"0\",\"All\",,,\"False\",\"T\",\"EveryTick\")","v":4345.25},1.2583745994756772E-2,{"$f":"RTD(\"cqg.rtd\",,\"StudyData\", \"Close(\"&$D$12&\") when LocalYear(\"&$D$12&\")=\"&$D$8&\" and localMonth(\"&$D$12&\") =\"&$E$8&\" and LocalDay(\"&$D$12&\")=\"&$F$8&\" and Barix(\"&$D$12&\",reference:=StartOfDay)=\"&A117&\"\", \"Bar\", \"\", \"Close\",\"5\",\"0\",\"All\",,,\"False\",\"T\",\"EveryTick\")","v":4274.75},-1.5884892086330937E-2,{"$f":"RTD(\"cqg.rtd\",,\"StudyData\", \"Close(\"&$D$12&\") when LocalYear(\"&$D$12&\")=\"&$D$9&\" and localMonth(\"&$D$12&\") =\"&$E$9&\" and LocalDay(\"&$D$12&\")=\"&$F$9&\" and Barix(\"&$D$12&\",reference:=StartOfDay)=\"&A117&\"\", \"Bar\", \"\", \"Close\",\"5\",\"0\",\"All\",,,\"False\",\"T\",\"EveryTick\")","v":4323},5.8751672386713975E-3,{"$f":"RTD(\"cqg.rtd\",,\"StudyData\", \"Close(\"&$D$12&\") when LocalYear(\"&$D$12&\")=\"&$D$10&\" and localMonth(\"&$D$12&\") =\"&$E$10&\" and LocalDay(\"&$D$12&\")=\"&$F$10&\" and Barix(\"&$D$12&\",reference:=StartOfDay)=\"&A117&\"\", \"Bar\", \"\", \"Close\",\"5\",\"0\",\"All\",,,\"False\",\"T\",\"EveryTick\")","v":4330.5},-4.425541697798724E-3,null,null,null,""]
[213,"10:45:00",null,null,null,null,null,{"$f":"RTD(\"cqg.rtd\",,\"StudyData\", \"Close(\"&$D$12&\") when LocalYear(\"&$D$12&\")=\"&$D$1&\" and localMonth(\"&$D$12&\") =\"&$E$1&\" and LocalDay(\"&$D$12&\")=\"&$F$1&\" and Barix(\"&$D$12&\",reference:=StartOfDay)=\"&A118&\"\", \"Bar\", \"\", \"Close\",\"5\",\"0\",\"All\",,,\"False\",\"T\",\"EveryTick\")","v":""},{"$error":"#N/A"},{"$f":"RTD(\"cqg.rtd\",,\"StudyData\", \"Close(\"&$D$12&\") when LocalYear(\"&$D$12&\")=\"&$D$2&\" and localMonth(\"&$D$12&\") =\"&$E$2&\" and LocalDay(\"&$D$12&\")=\"&$F$2&\" and Barix(\"&$D$12&\",reference:=StartOfDay)=\"&A118&\"\", \"Bar\", \"\", \"Close\",\"5\",\"0\",\"All\",,,\"False\",\"T\",\"EveryTick\")","v":4351},0,{"$f":"RTD(\"cqg.rtd\",,\"StudyData\", \"Close(\"&$D$12&\") when LocalYear(\"&$D$12&\")=\"&$D$3&\" and localMonth(\"&$D$12&\") =\"&$E$3&\" and LocalDay(\"&$D$12&\")=\"&$F$3&\" and Barix(\"&$D$12&\",reference:=StartOfDay)=\"&A118&\"\", \"Bar\", \"\", \"Close\",\"5\",\"0\",\"All\",,,\"False\",\"T\",\"EveryTick\")","v":4402},4.5068172742312737E-3,{"$f":"RTD(\"cqg.rtd\",,\"StudyData\", \"Close(\"&$D$12&\") when LocalYear(\"&$D$12&\")=\"&$D$4&\" and localMonth(\"&$D$12&\") =\"&$E$4&\" and LocalDay(\"&$D$12&\")=\"&$F$4&\" and Barix(\"&$D$12&\",reference:=StartOfDay)=\"&A118&\"\", \"Bar\", \"\", \"Close\",\"5\",\"0\",\"All\",,,\"False\",\"T\",\"EveryTick\")","v":4389},-2.2779043280182233E-4,{"$f":"RTD(\"cqg.rtd\",,\"StudyData\", \"Close(\"&$D$12&\") when LocalYear(\"&$D$12&\")=\"&$D$5&\" and localMonth(\"&$D$12&\") =\"&$E$5&\" and LocalDay(\"&$D$12&\")=\"&$F$5&\" and Barix(\"&$D$12&\",reference:=StartOfDay)=\"&A118&\"\", \"Bar\", \"\", \"Close\",\"5\",\"0\",\"All\",,,\"False\",\"T\",\"EveryTick\")","v":4416.75},1.4412034910427193E-2,{"$f":"RTD(\"cqg.rtd\",,\"StudyData\", \"Close(\"&$D$12&\") when LocalYear(\"&$D$12&\")=\"&$D$6&\" and localMonth(\"&$D$12&\") =\"&$E$6&\" and LocalDay(\"&$D$12&\")=\"&$F$6&\" and Barix(\"&$D$12&\",reference:=StartOfDay)=\"&A118&\"\", \"Bar\", \"\", \"Close\",\"5\",\"0\",\"All\",,,\"False\",\"T\",\"EveryTick\")","v":4302.75},-7.2104291647438852E-3,{"$f":"RTD(\"cqg.rtd\",,\"StudyData\", \"Close(\"&$D$12&\") when LocalYear(\"&$D$12&\")=\"&$D$7&\" and localMonth(\"&$D$12&\") =\"&$E$7&\" and LocalDay(\"&$D$12&\")=\"&$F$7&\" and Barix(\"&$D$12&\",reference:=StartOfDay)=\"&A118&\"\", \"Bar\", \"\", \"Close\",\"5\",\"0\",\"All\",,,\"False\",\"T\",\"EveryTick\")","v":4342.75},1.2001165161666182E-2,{"$f":"RTD(\"cqg.rtd\",,\"StudyData\", \"Close(\"&$D$12&\") when LocalYear(\"&$D$12&\")=\"&$D$8&\" and localMonth(\"&$D$12&\") =\"&$E$8&\" and LocalDay(\"&$D$12&\")=\"&$F$8&\" and Barix(\"&$D$12&\",reference:=StartOfDay)=\"&A118&\"\", \"Bar\", \"\", \"Close\",\"5\",\"0\",\"All\",,,\"False\",\"T\",\"EveryTick\")","v":4275.5},-1.5712230215827339E-2,{"$f":"RTD(\"cqg.rtd\",,\"StudyData\", \"Close(\"&$D$12&\") when LocalYear(\"&$D$12&\")=\"&$D$9&\" and localMonth(\"&$D$12&\") =\"&$E$9&\" and LocalDay(\"&$D$12&\")=\"&$F$9&\" and Barix(\"&$D$12&\",reference:=StartOfDay)=\"&A118&\"\", \"Bar\", \"\", \"Close\",\"5\",\"0\",\"All\",,,\"False\",\"T\",\"EveryTick\")","v":4322.25},5.7006573206910592E-3,{"$f":"RTD(\"cqg.rtd\",,\"StudyData\", \"Close(\"&$D$12&\") when LocalYear(\"&$D$12&\")=\"&$D$10&\" and localMonth(\"&$D$12&\") =\"&$E$10&\" and LocalDay(\"&$D$12&\")=\"&$F$10&\" and Barix(\"&$D$12&\",reference:=StartOfDay)=\"&A118&\"\", \"Bar\", \"\", \"Close\",\"5\",\"0\",\"All\",,,\"False\",\"T\",\"EveryTick\")","v":4324.5},-5.8049313178918328E-3,null,null,null,""]
[214,"10:50:00",null,null,null,null,null,{"$f":"RTD(\"cqg.rtd\",,\"StudyData\", \"Close(\"&$D$12&\") when LocalYear(\"&$D$12&\")=\"&$D$1&\" and localMonth(\"&$D$12&\") =\"&$E$1&\" and LocalDay(\"&$D$12&\")=\"&$F$1&\" and Barix(\"&$D$12&\",reference:=StartOfDay)=\"&A119&\"\", \"Bar\", \"\", \"Close\",\"5\",\"0\",\"All\",,,\"False\",\"T\",\"EveryTick\")","v":""},{"$error":"#N/A"},{"$f":"RTD(\"cqg.rtd\",,\"StudyData\", \"Close(\"&$D$12&\") when LocalYear(\"&$D$12&\")=\"&$D$2&\" and localMonth(\"&$D$12&\") =\"&$E$2&\" and LocalDay(\"&$D$12&\")=\"&$F$2&\" and Barix(\"&$D$12&\",reference:=StartOfDay)=\"&A119&\"\", \"Bar\", \"\", \"Close\",\"5\",\"0\",\"All\",,,\"False\",\"T\",\"EveryTick\")","v":4354.5},8.0441277867156972E-4,{"$f":"RTD(\"cqg.rtd\",,\"StudyData\", \"Close(\"&$D$12&\") when LocalYear(\"&$D$12&\")=\"&$D$3&\" and localMonth(\"&$D$12&\") =\"&$E$3&\" and LocalDay(\"&$D$12&\")=\"&$F$3&\" and Barix(\"&$D$12&\",reference:=StartOfDay)=\"&A119&\"\", \"Bar\", \"\", \"Close\",\"5\",\"0\",\"All\",,,\"False\",\"T\",\"EveryTick\")","v":4401},4.2786239945233609E-3,{"$f":"RTD(\"cqg.rtd\",,\"StudyData\", \"Close(\"&$D$12&\") when LocalYear(\"&$D$12&\")=\"&$D$4&\" and localMonth(\"&$D$12&\") =\"&$E$4&\" and LocalDay(\"&$D$12&\")=\"&$F$4&\" and Barix(\"&$D$12&\",reference:=StartOfDay)=\"&A119&\"\", \"Bar\", \"\", \"Close\",\"5\",\"0\",\"All\",,,\"False\",\"T\",\"EveryTick\")","v":4388.75},-2.8473804100227789E-4,{"$f":"RTD(\"cqg.rtd\",,\"StudyData\", \"Close(\"&$D$12&\") when LocalYear(\"&$D$12&\")=\"&$D$5&\" and localMonth(\"&$D$12&\") =\"&$E$5&\" and LocalDay(\"&$D$12&\")=\"&$F$5&\" and Barix(\"&$D$12&\",reference:=StartOfDay)=\"&A119&\"\", \"Bar\", \"\", \"Close\",\"5\",\"0\",\"All\",,,\"False\",\"T\",\"EveryTick\")","v":4416.75},1.4412034910427193E-2,{"$f":"RTD(\"cqg.rtd\",,\"StudyData\", \"Close(\"&$D$12&\") when LocalYear(\"&$D$12&\")=\"&$D$6&\" and localMonth(\"&$D$12&\") =\"&$E$6&\" and LocalDay(\"&$D$12&\")=\"&$F$6&\" and Barix(\"&$D$12&\",reference:=StartOfDay)=\"&A119&\"\", \"Bar\", \"\", \"Close\",\"5\",\"0\",\"All\",,,\"False\",\"T\",\"EveryTick\")","v":4310.75},-5.3645592985694509E-3,{"$f":"RTD(\"cqg.rtd\",,\"StudyData\", \"Close(\"&$D$12&\") when LocalYear(\"&$D$12&\")=\"&$D$7&\" and localMonth(\"&$D$12&\") =\"&$E$7&\" and LocalDay(\"&$D$12&\")=\"&$F$7&\" and Barix(\"&$D$12&\",reference:=StartOfDay)=\"&A119&\"\", \"Bar\", \"\", \"Close\",\"5\",\"0\",\"All\",,,\"False\",\"T\",\"EveryTick\")","v":4346.75},1.2933294494611128E-2,{"$f":"RTD(\"cqg.rtd\",,\"StudyData\", \"Close(\"&$D$12&\") when LocalYear(\"&$D$12&\")=\"&$D$8&\" and localMonth(\"&$D$12&\") =\"&$E$8&\" and LocalDay(\"&$D$12&\")=\"&$F$8&\" and Barix(\"&$D$12&\",reference:=StartOfDay)=\"&A119&\"\", \"Bar\", \"\", \"Close\",\"5\",\"0\",\"All\",,,\"False\",\"T\",\"EveryTick\")","v":4283.25},-1.3928057553956834E-2,{"$f":"RTD(\"cqg.rtd\",,\"StudyData\", \"Close(\"&$D$12&\") when LocalYear(\"&$D$12&\")=\"&$D$9&\" and localMonth(\"&$D$12&\") =\"&$E$9&\" and LocalDay(\"&$D$12&\")=\"&$F$9&\" and Barix(\"&$D$12&\",reference:=StartOfDay)=\"&A119&\"\", \"Bar\", \"\", \"Close\",\"5\",\"0\",\"All\",,,\"False\",\"T\",\"EveryTick\")","v":4322},5.6424873480309468E-3,{"$f":"RTD(\"cqg.rtd\",,\"StudyData\", \"Close(\"&$D$12&\") when LocalYear(\"&$D$12&\")=\"&$D$10&\" and localMonth(\"&$D$12&\") =\"&$E$10&\" and LocalDay(\"&$D$12&\")=\"&$F$10&\" and Barix(\"&$D$12&\",reference:=StartOfDay)=\"&A119&\"\", \"Bar\", \"\", \"Close\",\"5\",\"0\",\"All\",,,\"False\",\"T\",\"EveryTick\")","v":4327.75},-5.0577619403413985E-3,null,null,null,""]
[215,"10:55:00",null,null,null,null,null,{"$f":"RTD(\"cqg.rtd\",,\"StudyData\", \"Close(\"&$D$12&\") when LocalYear(\"&$D$12&\")=\"&$D$1&\" and localMonth(\"&$D$12&\") =\"&$E$1&\" and LocalDay(\"&$D$12&\")=\"&$F$1&\" and Barix(\"&$D$12&\",reference:=StartOfDay)=\"&A120&\"\", \"Bar\", \"\", \"Close\",\"5\",\"0\",\"All\",,,\"False\",\"T\",\"EveryTick\")","v":""},{"$error":"#N/A"},{"$f":"RTD(\"cqg.rtd\",,\"StudyData\", \"Close(\"&$D$12&\") when LocalYear(\"&$D$12&\")=\"&$D$2&\" and localMonth(\"&$D$12&\") =\"&$E$2&\" and LocalDay(\"&$D$12&\")=\"&$F$2&\" and Barix(\"&$D$12&\",reference:=StartOfDay)=\"&A120&\"\", \"Bar\", \"\", \"Close\",\"5\",\"0\",\"All\",,,\"False\",\"T\",\"EveryTick\")","v":4357.25},1.4364513904849461E-3,{"$f":"RTD(\"cqg.rtd\",,\"StudyData\", \"Close(\"&$D$12&\") when LocalYear(\"&$D$12&\")=\"&$D$3&\" and localMonth(\"&$D$12&\") =\"&$E$3&\" and LocalDay(\"&$D$12&\")=\"&$F$3&\" and Barix(\"&$D$12&\",reference:=StartOfDay)=\"&A120&\"\", \"Bar\", \"\", \"Close\",\"5\",\"0\",\"All\",,,\"False\",\"T\",\"EveryTick\")","v":4400.5},4.1645273546694053E-3,{"$f":"RTD(\"cqg.rtd\",,\"StudyData\", \"Close(\"&$D$12&\") when LocalYear(\"&$D$12&\")=\"&$D$4&\" and localMonth(\"&$D$12&\") =\"&$E$4&\" and LocalDay(\"&$D$12&\")=\"&$F$4&\" and Barix(\"&$D$12&\",reference:=StartOfDay)=\"&A120&\"\", \"Bar\", \"\", \"Close\",\"5\",\"0\",\"All\",,,\"False\",\"T\",\"EveryTick\")","v":4387.75},-5.1252847380410028E-4,{"$f":"RTD(\"cqg.rtd\",,\"StudyData\", \"Close(\"&$D$12&\") when LocalYear(\"&$D$12&\")=\"&$D$5&\" and localMonth(\"&$D$12&\") =\"&$E$5&\" and LocalDay(\"&$D$12&\")=\"&$F$5&\" and Barix(\"&$D$12&\",reference:=StartOfDay)=\"&A120&\"\", \"Bar\", \"\", \"Close\",\"5\",\"0\",\"All\",,,\"False\",\"T\",\"EveryTick\")","v":4418.75},1.4871382636655949E-2,{"$f":"RTD(\"cqg.rtd\",,\"StudyData\", \"Close(\"&$D$12&\") when LocalYear(\"&$D$12&\")=\"&$D$6&\" and localMonth(\"&$D$12&\") =\"&$E$6&\" and LocalDay(\"&$D$12&\")=\"&$F$6&\" and Barix(\"&$D$12&\",reference:=StartOfDay)=\"&A120&\"\", \"Bar\", \"\", \"Close\",\"5\",\"0\",\"All\",,,\"False\",\"T\",\"EveryTick\")","v":4314.75},-4.4416243654822338E-3,{"$f":"RTD(\"cqg.rtd\",,\"StudyData\", \"Close(\"&$D$12&\") when LocalYear(\"&$D$12&\")=\"&$D$7&\" and localMonth(\"&$D$12&\") =\"&$E$7&\" and LocalDay(\"&$D$12&\")=\"&$F$7&\" and Barix(\"&$D$12&\",reference:=StartOfDay)=\"&A120&\"\", \"Bar\", \"\", \"Close\",\"5\",\"0\",\"All\",,,\"False\",\"T\",\"EveryTick\")","v":4350.5},1.3807165744247014E-2,{"$f":"RTD(\"cqg.rtd\",,\"StudyData\", \"Close(\"&$D$12&\") when LocalYear(\"&$D$12&\")=\"&$D$8&\" and localMonth(\"&$D$12&\") =\"&$E$8&\" and LocalDay(\"&$D$12&\")=\"&$F$8&\" and Barix(\"&$D$12&\",reference:=StartOfDay)=\"&A120&\"\", \"Bar\", \"\", \"Close\",\"5\",\"0\",\"All\",,,\"False\",\"T\",\"EveryTick\")","v":4288.25},-1.2776978417266186E-2,{"$f":"RTD(\"cqg.rtd\",,\"StudyData\", \"Close(\"&$D$12&\") when LocalYear(\"&$D$12&\")=\"&$D$9&\" and localMonth(\"&$D$12&\") =\"&$E$9&\" and LocalDay(\"&$D$12&\")=\"&$F$9&\" and Barix(\"&$D$12&\",reference:=StartOfDay)=\"&A120&\"\", \"Bar\", \"\", \"Close\",\"5\",\"0\",\"All\",,,\"False\",\"T\",\"EveryTick\")","v":4319.5},5.0607876214298179E-3,{"$f":"RTD(\"cqg.rtd\",,\"StudyData\", \"Close(\"&$D$12&\") when LocalYear(\"&$D$12&\")=\"&$D$10&\" and localMonth(\"&$D$12&\") =\"&$E$10&\" and LocalDay(\"&$D$12&\")=\"&$F$10&\" and Barix(\"&$D$12&\",reference:=StartOfDay)=\"&A120&\"\", \"Bar\", \"\", \"Close\",\"5\",\"0\",\"All\",,,\"False\",\"T\",\"EveryTick\")","v":4327.25},-5.1727110753491583E-3,null,null,null,""]
[216,"11:00:00",null,null,null,null,null,{"$f":"RTD(\"cqg.rtd\",,\"StudyData\", \"Close(\"&$D$12&\") when LocalYear(\"&$D$12&\")=\"&$D$1&\" and localMonth(\"&$D$12&\") =\"&$E$1&\" and LocalDay(\"&$D$12&\")=\"&$F$1&\" and Barix(\"&$D$12&\",reference:=StartOfDay)=\"&A121&\"\", \"Bar\", \"\", \"Close\",\"5\",\"0\",\"All\",,,\"False\",\"T\",\"EveryTick\")","v":""},{"$error":"#N/A"},{"$f":"RTD(\"cqg.rtd\",,\"StudyData\", \"Close(\"&$D$12&\") when LocalYear(\"&$D$12&\")=\"&$D$2&\" and localMonth(\"&$D$12&\") =\"&$E$2&\" and LocalDay(\"&$D$12&\")=\"&$F$2&\" and Barix(\"&$D$12&\",reference:=StartOfDay)=\"&A121&\"\", \"Bar\", \"\", \"Close\",\"5\",\"0\",\"All\",,,\"False\",\"T\",\"EveryTick\")","v":4362.75},2.7005286141116983E-3,{"$f":"RTD(\"cqg.rtd\",,\"StudyData\", \"Close(\"&$D$12&\") when LocalYear(\"&$D$12&\")=\"&$D$3&\" and localMonth(\"&$D$12&\") =\"&$E$3&\" and LocalDay(\"&$D$12&\")=\"&$F$3&\" and Barix(\"&$D$12&\",reference:=StartOfDay)=\"&A121&\"\", \"Bar\", \"\", \"Close\",\"5\",\"0\",\"All\",,,\"False\",\"T\",\"EveryTick\")","v":4394.25},2.7383193564949511E-3,{"$f":"RTD(\"cqg.rtd\",,\"StudyData\", \"Close(\"&$D$12&\") when LocalYear(\"&$D$12&\")=\"&$D$4&\" and localMonth(\"&$D$12&\") =\"&$E$4&\" and LocalDay(\"&$D$12&\")=\"&$F$4&\" and Barix(\"&$D$12&\",reference:=StartOfDay)=\"&A121&\"\", \"Bar\", \"\", \"Close\",\"5\",\"0\",\"All\",,,\"False\",\"T\",\"EveryTick\")","v":4389.25},-1.7084282460136675E-4,{"$f":"RTD(\"cqg.rtd\",,\"StudyData\", \"Close(\"&$D$12&\") when LocalYear(\"&$D$12&\")=\"&$D$5&\" and localMonth(\"&$D$12&\") =\"&$E$5&\" and LocalDay(\"&$D$12&\")=\"&$F$5&\" and Barix(\"&$D$12&\",reference:=StartOfDay)=\"&A121&\"\", \"Bar\", \"\", \"Close\",\"5\",\"0\",\"All\",,,\"False\",\"T\",\"EveryTick\")","v":4418.25},1.475654570509876E-2,{"$f":"RTD(\"cqg.rtd\",,\"StudyData\", \"Close(\"&$D$12&\") when LocalYear(\"&$D$12&\")=\"&$D$6&\" and localMonth(\"&$D$12&\") =\"&$E$6&\" and LocalDay(\"&$D$12&\")=\"&$F$6&\" and Barix(\"&$D$12&\",reference:=StartOfDay)=\"&A121&\"\", \"Bar\", \"\", \"Close\",\"5\",\"0\",\"All\",,,\"False\",\"T\",\"EveryTick\")","v":4308.75},-5.8260267651130595E-3,{"$f":"RTD(\"cqg.rtd\",,\"StudyData\", \"Close(\"&$D$12&\") when LocalYear(\"&$D$12&\")=\"&$D$7&\" and localMonth(\"&$D$12&\") =\"&$E$7&\" and LocalDay(\"&$D$12&\")=\"&$F$7&\" and Barix(\"&$D$12&\",reference:=StartOfDay)=\"&A121&\"\", \"Bar\", \"\", \"Close\",\"5\",\"0\",\"All\",,,\"False\",\"T\",\"EveryTick\")","v":4351.25},1.3981939994174191E-2,{"$f":"RTD(\"cqg.rtd\",,\"StudyData\", \"Close(\"&$D$12&\") when LocalYear(\"&$D$12&\")=\"&$D$8&\" and localMonth(\"&$D$12&\") =\"&$E$8&\" and LocalDay(\"&$D$12&\")=\"&$F$8&\" and Barix(\"&$D$12&\",reference:=StartOfDay)=\"&A121&\"\", \"Bar\", \"\", \"Close\",\"5\",\"0\",\"All\",,,\"False\",\"T\",\"EveryTick\")","v":4283.25},-1.3928057553956834E-2,{"$f":"RTD(\"cqg.rtd\",,\"StudyData\", \"Close(\"&$D$12&\") when LocalYear(\"&$D$12&\")=\"&$D$9&\" and localMonth(\"&$D$12&\") =\"&$E$9&\" and LocalDay(\"&$D$12&\")=\"&$F$9&\" and Barix(\"&$D$12&\",reference:=StartOfDay)=\"&A121&\"\", \"Bar\", \"\", \"Close\",\"5\",\"0\",\"All\",,,\"False\",\"T\",\"EveryTick\")","v":4316.75},4.4209179221685766E-3,{"$f":"RTD(\"cqg.rtd\",,\"StudyData\", \"Close(\"&$D$12&\") when LocalYear(\"&$D$12&\")=\"&$D$10&\" and localMonth(\"&$D$12&\") =\"&$E$10&\" and LocalDay(\"&$D$12&\")=\"&$F$10&\" and Barix(\"&$D$12&\",reference:=StartOfDay)=\"&A121&\"\", \"Bar\", \"\", \"Close\",\"5\",\"0\",\"All\",,,\"False\",\"T\",\"EveryTick\")","v":4321.25},-6.5521006954422671E-3,null,null,null,""]
[217,"11:05:00",null,null,null,null,null,{"$f":"RTD(\"cqg.rtd\",,\"StudyData\", \"Close(\"&$D$12&\") when LocalYear(\"&$D$12&\")=\"&$D$1&\" and localMonth(\"&$D$12&\") =\"&$E$1&\" and LocalDay(\"&$D$12&\")=\"&$F$1&\" and Barix(\"&$D$12&\",reference:=StartOfDay)=\"&A122&\"\", \"Bar\", \"\", \"Close\",\"5\",\"0\",\"All\",,,\"False\",\"T\",\"EveryTick\")","v":""},{"$error":"#N/A"},{"$f":"RTD(\"cqg.rtd\",,\"StudyData\", \"Close(\"&$D$12&\") when LocalYear(\"&$D$12&\")=\"&$D$2&\" and localMonth(\"&$D$12&\") =\"&$E$2&\" and LocalDay(\"&$D$12&\")=\"&$F$2&\" and Barix(\"&$D$12&\",reference:=StartOfDay)=\"&A122&\"\", \"Bar\", \"\", \"Close\",\"5\",\"0\",\"All\",,,\"False\",\"T\",\"EveryTick\")","v":4362.5},2.6430705584923006E-3,{"$f":"RTD(\"cqg.rtd\",,\"StudyData\", \"Close(\"&$D$12&\") when LocalYear(\"&$D$12&\")=\"&$D$3&\" and localMonth(\"&$D$12&\") =\"&$E$3&\" and LocalDay(\"&$D$12&\")=\"&$F$3&\" and Barix(\"&$D$12&\",reference:=StartOfDay)=\"&A122&\"\", \"Bar\", \"\", \"Close\",\"5\",\"0\",\"All\",,,\"False\",\"T\",\"EveryTick\")","v":4392.75},2.3960294369330822E-3,{"$f":"RTD(\"cqg.rtd\",,\"StudyData\", \"Close(\"&$D$12&\") when LocalYear(\"&$D$12&\")=\"&$D$4&\" and localMonth(\"&$D$12&\") =\"&$E$4&\" and LocalDay(\"&$D$12&\")=\"&$F$4&\" and Barix(\"&$D$12&\",reference:=StartOfDay)=\"&A122&\"\", \"Bar\", \"\", \"Close\",\"5\",\"0\",\"All\",,,\"False\",\"T\",\"EveryTick\")","v":4389.75},-5.6947608200455584E-5,{"$f":"RTD(\"cqg.rtd\",,\"StudyData\", \"Close(\"&$D$12&\") when LocalYear(\"&$D$12&\")=\"&$D$5&\" and localMonth(\"&$D$12&\") =\"&$E$5&\" and LocalDay(\"&$D$12&\")=\"&$F$5&\" and Barix(\"&$D$12&\",reference:=StartOfDay)=\"&A122&\"\", \"Bar\", \"\", \"Close\",\"5\",\"0\",\"All\",,,\"False\",\"T\",\"EveryTick\")","v":4416.75},1.4412034910427193E-2,{"$f":"RTD(\"cqg.rtd\",,\"StudyData\", \"Close(\"&$D$12&\") when LocalYear(\"&$D$12&\")=\"&$D$6&\" and localMonth(\"&$D$12&\") =\"&$E$6&\" and LocalDay(\"&$D$12&\")=\"&$F$6&\" and Barix(\"&$D$12&\",reference:=StartOfDay)=\"&A122&\"\", \"Bar\", \"\", \"Close\",\"5\",\"0\",\"All\",,,\"False\",\"T\",\"EveryTick\")","v":4300.75},-7.6718966312874946E-3,{"$f":"RTD(\"cqg.rtd\",,\"StudyData\", \"Close(\"&$D$12&\") when LocalYear(\"&$D$12&\")=\"&$D$7&\" and localMonth(\"&$D$12&\") =\"&$E$7&\" and LocalDay(\"&$D$12&\")=\"&$F$7&\" and Barix(\"&$D$12&\",reference:=StartOfDay)=\"&A122&\"\", \"Bar\", \"\", \"Close\",\"5\",\"0\",\"All\",,,\"False\",\"T\",\"EveryTick\")","v":4354.75},1.479755316050102E-2,{"$f":"RTD(\"cqg.rtd\",,\"StudyData\", \"Close(\"&$D$12&\") when LocalYear(\"&$D$12&\")=\"&$D$8&\" and localMonth(\"&$D$12&\") =\"&$E$8&\" and LocalDay(\"&$D$12&\")=\"&$F$8&\" and Barix(\"&$D$12&\",reference:=StartOfDay)=\"&A122&\"\", \"Bar\", \"\", \"Close\",\"5\",\"0\",\"All\",,,\"False\",\"T\",\"EveryTick\")","v":4289.25},-1.2546762589928057E-2,{"$f":"RTD(\"cqg.rtd\",,\"StudyData\", \"Close(\"&$D$12&\") when LocalYear(\"&$D$12&\")=\"&$D$9&\" and localMonth(\"&$D$12&\") =\"&$E$9&\" and LocalDay(\"&$D$12&\")=\"&$F$9&\" and Barix(\"&$D$12&\",reference:=StartOfDay)=\"&A122&\"\", \"Bar\", \"\", \"Close\",\"5\",\"0\",\"All\",,,\"False\",\"T\",\"EveryTick\")","v":4321.75},5.5843173753708335E-3,{"$f":"RTD(\"cqg.rtd\",,\"StudyData\", \"Close(\"&$D$12&\") when LocalYear(\"&$D$12&\")=\"&$D$10&\" and localMonth(\"&$D$12&\") =\"&$E$10&\" and LocalDay(\"&$D$12&\")=\"&$F$10&\" and Barix(\"&$D$12&\",reference:=StartOfDay)=\"&A122&\"\", \"Bar\", \"\", \"Close\",\"5\",\"0\",\"All\",,,\"False\",\"T\",\"EveryTick\")","v":4310.25},-9.0809816656129659E-3,null,null,null,""]
[218,"11:10:00",null,null,null,null,null,{"$f":"RTD(\"cqg.rtd\",,\"StudyData\", \"Close(\"&$D$12&\") when LocalYear(\"&$D$12&\")=\"&$D$1&\" and localMonth(\"&$D$12&\") =\"&$E$1&\" and LocalDay(\"&$D$12&\")=\"&$F$1&\" and Barix(\"&$D$12&\",reference:=StartOfDay)=\"&A123&\"\", \"Bar\", \"\", \"Close\",\"5\",\"0\",\"All\",,,\"False\",\"T\",\"EveryTick\")","v":""},{"$error":"#N/A"},{"$f":"RTD(\"cqg.rtd\",,\"StudyData\", \"Close(\"&$D$12&\") when LocalYear(\"&$D$12&\")=\"&$D$2&\" and localMonth(\"&$D$12&\") =\"&$E$2&\" and LocalDay(\"&$D$12&\")=\"&$F$2&\" and Barix(\"&$D$12&\",reference:=StartOfDay)=\"&A123&\"\", \"Bar\", \"\", \"Close\",\"5\",\"0\",\"All\",,,\"False\",\"T\",\"EveryTick\")","v":4360.5},2.1834061135371178E-3,{"$f":"RTD(\"cqg.rtd\",,\"StudyData\", \"Close(\"&$D$12&\") when LocalYear(\"&$D$12&\")=\"&$D$3&\" and localMonth(\"&$D$12&\") =\"&$E$3&\" and LocalDay(\"&$D$12&\")=\"&$F$3&\" and Barix(\"&$D$12&\",reference:=StartOfDay)=\"&A123&\"\", \"Bar\", \"\", \"Close\",\"5\",\"0\",\"All\",,,\"False\",\"T\",\"EveryTick\")","v":4388},1.3121113583204975E-3,{"$f":"RTD(\"cqg.rtd\",,\"StudyData\", \"Close(\"&$D$12&\") when LocalYear(\"&$D$12&\")=\"&$D$4&\" and localMonth(\"&$D$12&\") =\"&$E$4&\" and LocalDay(\"&$D$12&\")=\"&$F$4&\" and Barix(\"&$D$12&\",reference:=StartOfDay)=\"&A123&\"\", \"Bar\", \"\", \"Close\",\"5\",\"0\",\"All\",,,\"False\",\"T\",\"EveryTick\")","v":4390.25},5.6947608200455584E-5,{"$f":"RTD(\"cqg.rtd\",,\"StudyData\", \"Close(\"&$D$12&\") when LocalYear(\"&$D$12&\")=\"&$D$5&\" and localMonth(\"&$D$12&\") =\"&$E$5&\" and LocalDay(\"&$D$12&\")=\"&$F$5&\" and Barix(\"&$D$12&\",reference:=StartOfDay)=\"&A123&\"\", \"Bar\", \"\", \"Close\",\"5\",\"0\",\"All\",,,\"False\",\"T\",\"EveryTick\")","v":4414.5},1.3895268718419843E-2,{"$f":"RTD(\"cqg.rtd\",,\"StudyData\", \"Close(\"&$D$12&\") when LocalYear(\"&$D$12&\")=\"&$D$6&\" and localMonth(\"&$D$12&\") =\"&$E$6&\" and LocalDay(\"&$D$12&\")=\"&$F$6&\" and Barix(\"&$D$12&\",reference:=StartOfDay)=\"&A123&\"\", \"Bar\", \"\", \"Close\",\"5\",\"0\",\"All\",,,\"False\",\"T\",\"EveryTick\")","v":4299.5},-7.9603137978772505E-3,{"$f":"RTD(\"cqg.rtd\",,\"StudyData\", \"Close(\"&$D$12&\") when LocalYear(\"&$D$12&\")=\"&$D$7&\" and localMonth(\"&$D$12&\") =\"&$E$7&\" and LocalDay(\"&$D$12&\")=\"&$F$7&\" and Barix(\"&$D$12&\",reference:=StartOfDay)=\"&A123&\"\", \"Bar\", \"\", \"Close\",\"5\",\"0\",\"All\",,,\"False\",\"T\",\"EveryTick\")","v":4353},1.4389746577337605E-2,{"$f":"RTD(\"cqg.rtd\",,\"StudyData\", \"Close(\"&$D$12&\") when LocalYear(\"&$D$12&\")=\"&$D$8&\" and localMonth(\"&$D$12&\") =\"&$E$8&\" and LocalDay(\"&$D$12&\")=\"&$F$8&\" and Barix(\"&$D$12&\",reference:=StartOfDay)=\"&A123&\"\", \"Bar\", \"\", \"Close\",\"5\",\"0\",\"All\",,,\"False\",\"T\",\"EveryTick\")","v":4287.25},-1.3007194244604317E-2,{"$f":"RTD(\"cqg.rtd\",,\"StudyData\", \"Close(\"&$D$12&\") when LocalYear(\"&$D$12&\")=\"&$D$9&\" and localMonth(\"&$D$12&\") =\"&$E$9&\" and LocalDay(\"&$D$12&\")=\"&$F$9&\" and Barix(\"&$D$12&\",reference:=StartOfDay)=\"&A123&\"\", \"Bar\", \"\", \"Close\",\"5\",\"0\",\"All\",,,\"False\",\"T\",\"EveryTick\")","v":4316.5},4.3627479495084633E-3,{"$f":"RTD(\"cqg.rtd\",,\"StudyData\", \"Close(\"&$D$12&\") when LocalYear(\"&$D$12&\")=\"&$D$10&\" and localMonth(\"&$D$12&\") =\"&$E$10&\" and LocalDay(\"&$D$12&\")=\"&$F$10&\" and Barix(\"&$D$12&\",reference:=StartOfDay)=\"&A123&\"\", \"Bar\", \"\", \"Close\",\"5\",\"0\",\"All\",,,\"False\",\"T\",\"EveryTick\")","v":4311.5},-8.793608828093569E-3,null,null,null,""]
[219,"11:15:00",null,null,null,null,null,{"$f":"RTD(\"cqg.rtd\",,\"StudyData\", \"Close(\"&$D$12&\") when LocalYear(\"&$D$12&\")=\"&$D$1&\" and localMonth(\"&$D$12&\") =\"&$E$1&\" and LocalDay(\"&$D$12&\")=\"&$F$1&\" and Barix(\"&$D$12&\",reference:=StartOfDay)=\"&A124&\"\", \"Bar\", \"\", \"Close\",\"5\",\"0\",\"All\",,,\"False\",\"T\",\"EveryTick\")","v":""},{"$error":"#N/A"},{"$f":"RTD(\"cqg.rtd\",,\"StudyData\", \"Close(\"&$D$12&\") when LocalYear(\"&$D$12&\")=\"&$D$2&\" and localMonth(\"&$D$12&\") =\"&$E$2&\" and LocalDay(\"&$D$12&\")=\"&$F$2&\" and Barix(\"&$D$12&\",reference:=StartOfDay)=\"&A124&\"\", \"Bar\", \"\", \"Close\",\"5\",\"0\",\"All\",,,\"False\",\"T\",\"EveryTick\")","v":4357.75},1.5513675017237417E-3,{"$f":"RTD(\"cqg.rtd\",,\"StudyData\", \"Close(\"&$D$12&\") when LocalYear(\"&$D$12&\")=\"&$D$3&\" and localMonth(\"&$D$12&\") =\"&$E$3&\" and LocalDay(\"&$D$12&\")=\"&$F$3&\" and Barix(\"&$D$12&\",reference:=StartOfDay)=\"&A124&\"\", \"Bar\", \"\", \"Close\",\"5\",\"0\",\"All\",,,\"False\",\"T\",\"EveryTick\")","v":4388.25},1.3691596782474755E-3,{"$f":"RTD(\"cqg.rtd\",,\"StudyData\", \"Close(\"&$D$12&\") when LocalYear(\"&$D$12&\")=\"&$D$4&\" and localMonth(\"&$D$12&\") =\"&$E$4&\" and LocalDay(\"&$D$12&\")=\"&$F$4&\" and Barix(\"&$D$12&\",reference:=StartOfDay)=\"&A124&\"\", \"Bar\", \"\", \"Close\",\"5\",\"0\",\"All\",,,\"False\",\"T\",\"EveryTick\")","v":4387.75},-5.1252847380410028E-4,{"$f":"RTD(\"cqg.rtd\",,\"StudyData\", \"Close(\"&$D$12&\") when LocalYear(\"&$D$12&\")=\"&$D$5&\" and localMonth(\"&$D$12&\") =\"&$E$5&\" and LocalDay(\"&$D$12&\")=\"&$F$5&\" and Barix(\"&$D$12&\",reference:=StartOfDay)=\"&A124&\"\", \"Bar\", \"\", \"Close\",\"5\",\"0\",\"All\",,,\"False\",\"T\",\"EveryTick\")","v":4415.75},1.4182361047312816E-2,{"$f":"RTD(\"cqg.rtd\",,\"StudyData\", \"Close(\"&$D$12&\") when LocalYear(\"&$D$12&\")=\"&$D$6&\" and localMonth(\"&$D$12&\") =\"&$E$6&\" and LocalDay(\"&$D$12&\")=\"&$F$6&\" and Barix(\"&$D$12&\",reference:=StartOfDay)=\"&A124&\"\", \"Bar\", \"\", \"Close\",\"5\",\"0\",\"All\",,,\"False\",\"T\",\"EveryTick\")","v":4302.75},-7.2104291647438852E-3,{"$f":"RTD(\"cqg.rtd\",,\"StudyData\", \"Close(\"&$D$12&\") when LocalYear(\"&$D$12&\")=\"&$D$7&\" and localMonth(\"&$D$12&\") =\"&$E$7&\" and LocalDay(\"&$D$12&\")=\"&$F$7&\" and Barix(\"&$D$12&\",reference:=StartOfDay)=\"&A124&\"\", \"Bar\", \"\", \"Close\",\"5\",\"0\",\"All\",,,\"False\",\"T\",\"EveryTick\")","v":4350.5},1.3807165744247014E-2,{"$f":"RTD(\"cqg.rtd\",,\"StudyData\", \"Close(\"&$D$12&\") when LocalYear(\"&$D$12&\")=\"&$D$8&\" and localMonth(\"&$D$12&\") =\"&$E$8&\" and LocalDay(\"&$D$12&\")=\"&$F$8&\" and Barix(\"&$D$12&\",reference:=StartOfDay)=\"&A124&\"\", \"Bar\", \"\", \"Close\",\"5\",\"0\",\"All\",,,\"False\",\"T\",\"EveryTick\")","v":4285.5},-1.3410071942446044E-2,{"$f":"RTD(\"cqg.rtd\",,\"StudyData\", \"Close(\"&$D$12&\") when LocalYear(\"&$D$12&\")=\"&$D$9&\" and localMonth(\"&$D$12&\") =\"&$E$9&\" and LocalDay(\"&$D$12&\")=\"&$F$9&\" and Barix(\"&$D$12&\",reference:=StartOfDay)=\"&A124&\"\", \"Bar\", \"\", \"Close\",\"5\",\"0\",\"All\",,,\"False\",\"T\",\"EveryTick\")","v":4315.75},4.1882380315281251E-3,{"$f":"RTD(\"cqg.rtd\",,\"StudyData\", \"Close(\"&$D$12&\") when LocalYear(\"&$D$12&\")=\"&$D$10&\" and localMonth(\"&$D$12&\") =\"&$E$10&\" and LocalDay(\"&$D$12&\")=\"&$F$10&\" and Barix(\"&$D$12&\",reference:=StartOfDay)=\"&A124&\"\", \"Bar\", \"\", \"Close\",\"5\",\"0\",\"All\",,,\"False\",\"T\",\"EveryTick\")","v":4311},-8.9085579631013271E-3,null,null,null,""]
[220,"11:20:00",null,null,null,null,null,{"$f":"RTD(\"cqg.rtd\",,\"StudyData\", \"Close(\"&$D$12&\") when LocalYear(\"&$D$12&\")=\"&$D$1&\" and localMonth(\"&$D$12&\") =\"&$E$1&\" and LocalDay(\"&$D$12&\")=\"&$F$1&\" and Barix(\"&$D$12&\",reference:=StartOfDay)=\"&A125&\"\", \"Bar\", \"\", \"Close\",\"5\",\"0\",\"All\",,,\"False\",\"T\",\"EveryTick\")","v":""},{"$error":"#N/A"},{"$f":"RTD(\"cqg.rtd\",,\"StudyData\", \"Close(\"&$D$12&\") when LocalYear(\"&$D$12&\")=\"&$D$2&\" and localMonth(\"&$D$12&\") =\"&$E$2&\" and LocalDay(\"&$D$12&\")=\"&$F$2&\" and Barix(\"&$D$12&\",reference:=StartOfDay)=\"&A125&\"\", \"Bar\", \"\", \"Close\",\"5\",\"0\",\"All\",,,\"False\",\"T\",\"EveryTick\")","v":4358.25},1.6662836129625375E-3,{"$f":"RTD(\"cqg.rtd\",,\"StudyData\", \"Close(\"&$D$12&\") when LocalYear(\"&$D$12&\")=\"&$D$3&\" and localMonth(\"&$D$12&\") =\"&$E$3&\" and LocalDay(\"&$D$12&\")=\"&$F$3&\" and Barix(\"&$D$12&\",reference:=StartOfDay)=\"&A125&\"\", \"Bar\", \"\", \"Close\",\"5\",\"0\",\"All\",,,\"False\",\"T\",\"EveryTick\")","v":4390.75},1.9396428775172571E-3,{"$f":"RTD(\"cqg.rtd\",,\"StudyData\", \"Close(\"&$D$12&\") when LocalYear(\"&$D$12&\")=\"&$D$4&\" and localMonth(\"&$D$12&\") =\"&$E$4&\" and LocalDay(\"&$D$12&\")=\"&$F$4&\" and Barix(\"&$D$12&\",reference:=StartOfDay)=\"&A125&\"\", \"Bar\", \"\", \"Close\",\"5\",\"0\",\"All\",,,\"False\",\"T\",\"EveryTick\")","v":4386.25},-8.5421412300683373E-4,{"$f":"RTD(\"cqg.rtd\",,\"StudyData\", \"Close(\"&$D$12&\") when LocalYear(\"&$D$12&\")=\"&$D$5&\" and localMonth(\"&$D$12&\") =\"&$E$5&\" and LocalDay(\"&$D$12&\")=\"&$F$5&\" and Barix(\"&$D$12&\",reference:=StartOfDay)=\"&A125&\"\", \"Bar\", \"\", \"Close\",\"5\",\"0\",\"All\",,,\"False\",\"T\",\"EveryTick\")","v":4416.25},1.4297197978870005E-2,{"$f":"RTD(\"cqg.rtd\",,\"StudyData\", \"Close(\"&$D$12&\") when LocalYear(\"&$D$12&\")=\"&$D$6&\" and localMonth(\"&$D$12&\") =\"&$E$6&\" and LocalDay(\"&$D$12&\")=\"&$F$6&\" and Barix(\"&$D$12&\",reference:=StartOfDay)=\"&A125&\"\", \"Bar\", \"\", \"Close\",\"5\",\"0\",\"All\",,,\"False\",\"T\",\"EveryTick\")","v":4301.5},-7.4988463313336411E-3,{"$f":"RTD(\"cqg.rtd\",,\"StudyData\", \"Close(\"&$D$12&\") when LocalYear(\"&$D$12&\")=\"&$D$7&\" and localMonth(\"&$D$12&\") =\"&$E$7&\" and LocalDay(\"&$D$12&\")=\"&$F$7&\" and Barix(\"&$D$12&\",reference:=StartOfDay)=\"&A125&\"\", \"Bar\", \"\", \"Close\",\"5\",\"0\",\"All\",,,\"False\",\"T\",\"EveryTick\")","v":4345.5},1.2642004078065832E-2,{"$f":"RTD(\"cqg.rtd\",,\"StudyData\", \"Close(\"&$D$12&\") when LocalYear(\"&$D$12&\")=\"&$D$8&\" and localMonth(\"&$D$12&\") =\"&$E$8&\" and LocalDay(\"&$D$12&\")=\"&$F$8&\" and Barix(\"&$D$12&\",reference:=StartOfDay)=\"&A125&\"\", \"Bar\", \"\", \"Close\",\"5\",\"0\",\"All\",,,\"False\",\"T\",\"EveryTick\")","v":4278.75},-1.4964028776978418E-2,{"$f":"RTD(\"cqg.rtd\",,\"StudyData\", \"Close(\"&$D$12&\") when LocalYear(\"&$D$12&\")=\"&$D$9&\" and localMonth(\"&$D$12&\") =\"&$E$9&\" and LocalDay(\"&$D$12&\")=\"&$F$9&\" and Barix(\"&$D$12&\",reference:=StartOfDay)=\"&A125&\"\", \"Bar\", \"\", \"Close\",\"5\",\"0\",\"All\",,,\"False\",\"T\",\"EveryTick\")","v":4320.75},5.3516374847303819E-3,{"$f":"RTD(\"cqg.rtd\",,\"StudyData\", \"Close(\"&$D$12&\") when LocalYear(\"&$D$12&\")=\"&$D$10&\" and localMonth(\"&$D$12&\") =\"&$E$10&\" and LocalDay(\"&$D$12&\")=\"&$F$10&\" and Barix(\"&$D$12&\",reference:=StartOfDay)=\"&A125&\"\", \"Bar\", \"\", \"Close\",\"5\",\"0\",\"All\",,,\"False\",\"T\",\"EveryTick\")","v":4308.75},-9.4258290706362435E-3,null,null,null,""]
[221,"11:25:00",null,null,null,null,null,{"$f":"RTD(\"cqg.rtd\",,\"StudyData\", \"Close(\"&$D$12&\") when LocalYear(\"&$D$12&\")=\"&$D$1&\" and localMonth(\"&$D$12&\") =\"&$E$1&\" and LocalDay(\"&$D$12&\")=\"&$F$1&\" and Barix(\"&$D$12&\",reference:=StartOfDay)=\"&A126&\"\", \"Bar\", \"\", \"Close\",\"5\",\"0\",\"All\",,,\"False\",\"T\",\"EveryTick\")","v":""},{"$error":"#N/A"},{"$f":"RTD(\"cqg.rtd\",,\"StudyData\", \"Close(\"&$D$12&\") when LocalYear(\"&$D$12&\")=\"&$D$2&\" and localMonth(\"&$D$12&\") =\"&$E$2&\" and LocalDay(\"&$D$12&\")=\"&$F$2&\" and Barix(\"&$D$12&\",reference:=StartOfDay)=\"&A126&\"\", \"Bar\", \"\", \"Close\",\"5\",\"0\",\"All\",,,\"False\",\"T\",\"EveryTick\")","v":4355.75},1.0917030567685589E-3,{"$f":"RTD(\"cqg.rtd\",,\"StudyData\", \"Close(\"&$D$12&\") when LocalYear(\"&$D$12&\")=\"&$D$3&\" and localMonth(\"&$D$12&\") =\"&$E$3&\" and LocalDay(\"&$D$12&\")=\"&$F$3&\" and Barix(\"&$D$12&\",reference:=StartOfDay)=\"&A126&\"\", \"Bar\", \"\", \"Close\",\"5\",\"0\",\"All\",,,\"False\",\"T\",\"EveryTick\")","v":4390.75},1.9396428775172571E-3,{"$f":"RTD(\"cqg.rtd\",,\"StudyData\", \"Close(\"&$D$12&\") when LocalYear(\"&$D$12&\")=\"&$D$4&\" and localMonth(\"&$D$12&\") =\"&$E$4&\" and LocalDay(\"&$D$12&\")=\"&$F$4&\" and Barix(\"&$D$12&\",reference:=StartOfDay)=\"&A126&\"\", \"Bar\", \"\", \"Close\",\"5\",\"0\",\"All\",,,\"False\",\"T\",\"EveryTick\")","v":4383},-1.5945330296127562E-3,{"$f":"RTD(\"cqg.rtd\",,\"StudyData\", \"Close(\"&$D$12&\") when LocalYear(\"&$D$12&\")=\"&$D$5&\" and localMonth(\"&$D$12&\") =\"&$E$5&\" and LocalDay(\"&$D$12&\")=\"&$F$5&\" and Barix(\"&$D$12&\",reference:=StartOfDay)=\"&A126&\"\", \"Bar\", \"\", \"Close\",\"5\",\"0\",\"All\",,,\"False\",\"T\",\"EveryTick\")","v":4414.75},1.3952687184198438E-2,{"$f":"RTD(\"cqg.rtd\",,\"StudyData\", \"Close(\"&$D$12&\") when LocalYear(\"&$D$12&\")=\"&$D$6&\" and localMonth(\"&$D$12&\") =\"&$E$6&\" and LocalDay(\"&$D$12&\")=\"&$F$6&\" and Barix(\"&$D$12&\",reference:=StartOfDay)=\"&A126&\"\", \"Bar\", \"\", \"Close\",\"5\",\"0\",\"All\",,,\"False\",\"T\",\"EveryTick\")","v":4299.75},-7.9026303645592984E-3,{"$f":"RTD(\"cqg.rtd\",,\"StudyData\", \"Close(\"&$D$12&\") when LocalYear(\"&$D$12&\")=\"&$D$7&\" and localMonth(\"&$D$12&\") =\"&$E$7&\" and LocalDay(\"&$D$12&\")=\"&$F$7&\" and Barix(\"&$D$12&\",reference:=StartOfDay)=\"&A126&\"\", \"Bar\", \"\", \"Close\",\"5\",\"0\",\"All\",,,\"False\",\"T\",\"EveryTick\")","v":4347},1.2991552577920186E-2,{"$f":"RTD(\"cqg.rtd\",,\"StudyData\", \"Close(\"&$D$12&\") when LocalYear(\"&$D$12&\")=\"&$D$8&\" and localMonth(\"&$D$12&\") =\"&$E$8&\" and LocalDay(\"&$D$12&\")=\"&$F$8&\" and Barix(\"&$D$12&\",reference:=StartOfDay)=\"&A126&\"\", \"Bar\", \"\", \"Close\",\"5\",\"0\",\"All\",,,\"False\",\"T\",\"EveryTick\")","v":4278.75},-1.4964028776978418E-2,{"$f":"RTD(\"cqg.rtd\",,\"StudyData\", \"Close(\"&$D$12&\") when LocalYear(\"&$D$12&\")=\"&$D$9&\" and localMonth(\"&$D$12&\") =\"&$E$9&\" and LocalDay(\"&$D$12&\")=\"&$F$9&\" and Barix(\"&$D$12&\",reference:=StartOfDay)=\"&A126&\"\", \"Bar\", \"\", \"Close\",\"5\",\"0\",\"All\",,,\"False\",\"T\",\"EveryTick\")","v":4320.25},5.2352975394101562E-3,{"$f":"RTD(\"cqg.rtd\",,\"StudyData\", \"Close(\"&$D$12&\") when LocalYear(\"&$D$12&\")=\"&$D$10&\" and localMonth(\"&$D$12&\") =\"&$E$10&\" and LocalDay(\"&$D$12&\")=\"&$F$10&\" and Barix(\"&$D$12&\",reference:=StartOfDay)=\"&A126&\"\", \"Bar\", \"\", \"Close\",\"5\",\"0\",\"All\",,,\"False\",\"T\",\"EveryTick\")","v":4308.75},-9.4258290706362435E-3,null,null,null,""]
[222,"11:30:00",null,null,null,null,null,{"$f":"RTD(\"cqg.rtd\",,\"StudyData\", \"Close(\"&$D$12&\") when LocalYear(\"&$D$12&\")=\"&$D$1&\" and localMonth(\"&$D$12&\") =\"&$E$1&\" and LocalDay(\"&$D$12&\")=\"&$F$1&\" and Barix(\"&$D$12&\",reference:=StartOfDay)=\"&A127&\"\", \"Bar\", \"\", \"Close\",\"5\",\"0\",\"All\",,,\"False\",\"T\",\"EveryTick\")","v":""},{"$error":"#N/A"},{"$f":"RTD(\"cqg.rtd\",,\"StudyData\", \"Close(\"&$D$12&\") when LocalYear(\"&$D$12&\")=\"&$D$2&\" and localMonth(\"&$D$12&\") =\"&$E$2&\" and LocalDay(\"&$D$12&\")=\"&$F$2&\" and Barix(\"&$D$12&\",reference:=StartOfDay)=\"&A127&\"\", \"Bar\", \"\", \"Close\",\"5\",\"0\",\"All\",,,\"False\",\"T\",\"EveryTick\")","v":4348},-6.8949666743277403E-4,{"$f":"RTD(\"cqg.rtd\",,\"StudyData\", \"Close(\"&$D$12&\") when LocalYear(\"&$D$12&\")=\"&$D$3&\" and localMonth(\"&$D$12&\") =\"&$E$3&\" and LocalDay(\"&$D$12&\")=\"&$F$3&\" and Barix(\"&$D$12&\",reference:=StartOfDay)=\"&A127&\"\", \"Bar\", \"\", \"Close\",\"5\",\"0\",\"All\",,,\"False\",\"T\",\"EveryTick\")","v":4389},1.54030463802841E-3,{"$f":"RTD(\"cqg.rtd\",,\"StudyData\", \"Close(\"&$D$12&\") when LocalYear(\"&$D$12&\")=\"&$D$4&\" and localMonth(\"&$D$12&\") =\"&$E$4&\" and LocalDay(\"&$D$12&\")=\"&$F$4&\" and Barix(\"&$D$12&\",reference:=StartOfDay)=\"&A127&\"\", \"Bar\", \"\", \"Close\",\"5\",\"0\",\"All\",,,\"False\",\"T\",\"EveryTick\")","v":4385.25},-1.082004555808656E-3,{"$f":"RTD(\"cqg.rtd\",,\"StudyData\", \"Close(\"&$D$12&\") when LocalYear(\"&$D$12&\")=\"&$D$5&\" and localMonth(\"&$D$12&\") =\"&$E$5&\" and LocalDay(\"&$D$12&\")=\"&$F$5&\" and Barix(\"&$D$12&\",reference:=StartOfDay)=\"&A127&\"\", \"Bar\", \"\", \"Close\",\"5\",\"0\",\"All\",,,\"False\",\"T\",\"EveryTick\")","v":4416.25},1.4297197978870005E-2,{"$f":"RTD(\"cqg.rtd\",,\"StudyData\", \"Close(\"&$D$12&\") when LocalYear(\"&$D$12&\")=\"&$D$6&\" and localMonth(\"&$D$12&\") =\"&$E$6&\" and LocalDay(\"&$D$12&\")=\"&$F$6&\" and Barix(\"&$D$12&\",reference:=StartOfDay)=\"&A127&\"\", \"Bar\", \"\", \"Close\",\"5\",\"0\",\"All\",,,\"False\",\"T\",\"EveryTick\")","v":4302},-7.3834794646977387E-3,{"$f":"RTD(\"cqg.rtd\",,\"StudyData\", \"Close(\"&$D$12&\") when LocalYear(\"&$D$12&\")=\"&$D$7&\" and localMonth(\"&$D$12&\") =\"&$E$7&\" and LocalDay(\"&$D$12&\")=\"&$F$7&\" and Barix(\"&$D$12&\",reference:=StartOfDay)=\"&A127&\"\", \"Bar\", \"\", \"Close\",\"5\",\"0\",\"All\",,,\"False\",\"T\",\"EveryTick\")","v":4348},1.3224584911156422E-2,{"$f":"RTD(\"cqg.rtd\",,\"StudyData\", \"Close(\"&$D$12&\") when LocalYear(\"&$D$12&\")=\"&$D$8&\" and localMonth(\"&$D$12&\") =\"&$E$8&\" and LocalDay(\"&$D$12&\")=\"&$F$8&\" and Barix(\"&$D$12&\",reference:=StartOfDay)=\"&A127&\"\", \"Bar\", \"\", \"Close\",\"5\",\"0\",\"All\",,,\"False\",\"T\",\"EveryTick\")","v":4283},-1.3985611510791368E-2,{"$f":"RTD(\"cqg.rtd\",,\"StudyData\", \"Close(\"&$D$12&\") when LocalYear(\"&$D$12&\")=\"&$D$9&\" and localMonth(\"&$D$12&\") =\"&$E$9&\" and LocalDay(\"&$D$12&\")=\"&$F$9&\" and Barix(\"&$D$12&\",reference:=StartOfDay)=\"&A127&\"\", \"Bar\", \"\", \"Close\",\"5\",\"0\",\"All\",,,\"False\",\"T\",\"EveryTick\")","v":4322.5},5.7588272933511717E-3,{"$f":"RTD(\"cqg.rtd\",,\"StudyData\", \"Close(\"&$D$12&\") when LocalYear(\"&$D$12&\")=\"&$D$10&\" and localMonth(\"&$D$12&\") =\"&$E$10&\" and LocalDay(\"&$D$12&\")=\"&$F$10&\" and Barix(\"&$D$12&\",reference:=StartOfDay)=\"&A127&\"\", \"Bar\", \"\", \"Close\",\"5\",\"0\",\"All\",,,\"False\",\"T\",\"EveryTick\")","v":4311.75},-8.7361342605896883E-3,null,null,null,""]
[223,"11:35:00",null,null,null,null,null,{"$f":"RTD(\"cqg.rtd\",,\"StudyData\", \"Close(\"&$D$12&\") when LocalYear(\"&$D$12&\")=\"&$D$1&\" and localMonth(\"&$D$12&\") =\"&$E$1&\" and LocalDay(\"&$D$12&\")=\"&$F$1&\" and Barix(\"&$D$12&\",reference:=StartOfDay)=\"&A128&\"\", \"Bar\", \"\", \"Close\",\"5\",\"0\",\"All\",,,\"False\",\"T\",\"EveryTick\")","v":""},{"$error":"#N/A"},{"$f":"RTD(\"cqg.rtd\",,\"StudyData\", \"Close(\"&$D$12&\") when LocalYear(\"&$D$12&\")=\"&$D$2&\" and localMonth(\"&$D$12&\") =\"&$E$2&\" and LocalDay(\"&$D$12&\")=\"&$F$2&\" and Barix(\"&$D$12&\",reference:=StartOfDay)=\"&A128&\"\", \"Bar\", \"\", \"Close\",\"5\",\"0\",\"All\",,,\"False\",\"T\",\"EveryTick\")","v":4347.5},-8.0441277867156972E-4,{"$f":"RTD(\"cqg.rtd\",,\"StudyData\", \"Close(\"&$D$12&\") when LocalYear(\"&$D$12&\")=\"&$D$3&\" and localMonth(\"&$D$12&\") =\"&$E$3&\" and LocalDay(\"&$D$12&\")=\"&$F$3&\" and Barix(\"&$D$12&\",reference:=StartOfDay)=\"&A128&\"\", \"Bar\", \"\", \"Close\",\"5\",\"0\",\"All\",,,\"False\",\"T\",\"EveryTick\")","v":4388.25},1.3691596782474755E-3,{"$f":"RTD(\"cqg.rtd\",,\"StudyData\", \"Close(\"&$D$12&\") when LocalYear(\"&$D$12&\")=\"&$D$4&\" and localMonth(\"&$D$12&\") =\"&$E$4&\" and LocalDay(\"&$D$12&\")=\"&$F$4&\" and Barix(\"&$D$12&\",reference:=StartOfDay)=\"&A128&\"\", \"Bar\", \"\", \"Close\",\"5\",\"0\",\"All\",,,\"False\",\"T\",\"EveryTick\")","v":4389},-2.2779043280182233E-4,{"$f":"RTD(\"cqg.rtd\",,\"StudyData\", \"Close(\"&$D$12&\") when LocalYear(\"&$D$12&\")=\"&$D$5&\" and localMonth(\"&$D$12&\") =\"&$E$5&\" and LocalDay(\"&$D$12&\")=\"&$F$5&\" and Barix(\"&$D$12&\",reference:=StartOfDay)=\"&A128&\"\", \"Bar\", \"\", \"Close\",\"5\",\"0\",\"All\",,,\"False\",\"T\",\"EveryTick\")","v":4417.5},1.4584290307762976E-2,{"$f":"RTD(\"cqg.rtd\",,\"StudyData\", \"Close(\"&$D$12&\") when LocalYear(\"&$D$12&\")=\"&$D$6&\" and localMonth(\"&$D$12&\") =\"&$E$6&\" and LocalDay(\"&$D$12&\")=\"&$F$6&\" and Barix(\"&$D$12&\",reference:=StartOfDay)=\"&A128&\"\", \"Bar\", \"\", \"Close\",\"5\",\"0\",\"All\",,,\"False\",\"T\",\"EveryTick\")","v":4302.25},-7.3257960313797875E-3,{"$f":"RTD(\"cqg.rtd\",,\"StudyData\", \"Close(\"&$D$12&\") when LocalYear(\"&$D$12&\")=\"&$D$7&\" and localMonth(\"&$D$12&\") =\"&$E$7&\" and LocalDay(\"&$D$12&\")=\"&$F$7&\" and Barix(\"&$D$12&\",reference:=StartOfDay)=\"&A128&\"\", \"Bar\", \"\", \"Close\",\"5\",\"0\",\"All\",,,\"False\",\"T\",\"EveryTick\")","v":4345},1.2525487911447713E-2,{"$f":"RTD(\"cqg.rtd\",,\"StudyData\", \"Close(\"&$D$12&\") when LocalYear(\"&$D$12&\")=\"&$D$8&\" and localMonth(\"&$D$12&\") =\"&$E$8&\" and LocalDay(\"&$D$12&\")=\"&$F$8&\" and Barix(\"&$D$12&\",reference:=StartOfDay)=\"&A128&\"\", \"Bar\", \"\", \"Close\",\"5\",\"0\",\"All\",,,\"False\",\"T\",\"EveryTick\")","v":4278.25},-1.5079136690647482E-2,{"$f":"RTD(\"cqg.rtd\",,\"StudyData\", \"Close(\"&$D$12&\") when LocalYear(\"&$D$12&\")=\"&$D$9&\" and localMonth(\"&$D$12&\") =\"&$E$9&\" and LocalDay(\"&$D$12&\")=\"&$F$9&\" and Barix(\"&$D$12&\",reference:=StartOfDay)=\"&A128&\"\", \"Bar\", \"\", \"Close\",\"5\",\"0\",\"All\",,,\"False\",\"T\",\"EveryTick\")","v":4319},4.9444476761095922E-3,{"$f":"RTD(\"cqg.rtd\",,\"StudyData\", \"Close(\"&$D$12&\") when LocalYear(\"&$D$12&\")=\"&$D$10&\" and localMonth(\"&$D$12&\") =\"&$E$10&\" and LocalDay(\"&$D$12&\")=\"&$F$10&\" and Barix(\"&$D$12&\",reference:=StartOfDay)=\"&A128&\"\", \"Bar\", \"\", \"Close\",\"5\",\"0\",\"All\",,,\"False\",\"T\",\"EveryTick\")","v":4314.25},-8.1613885855508946E-3,null,null,null,""]
[224,"11:40:00",null,null,null,null,null,{"$f":"RTD(\"cqg.rtd\",,\"StudyData\", \"Close(\"&$D$12&\") when LocalYear(\"&$D$12&\")=\"&$D$1&\" and localMonth(\"&$D$12&\") =\"&$E$1&\" and LocalDay(\"&$D$12&\")=\"&$F$1&\" and Barix(\"&$D$12&\",reference:=StartOfDay)=\"&A129&\"\", \"Bar\", \"\", \"Close\",\"5\",\"0\",\"All\",,,\"False\",\"T\",\"EveryTick\")","v":""},{"$f":"IFERROR((H129-$G$2)/$G$2,NA())","v":{"$error":"#N/A"}},{"$f":"RTD(\"cqg.rtd\",,\"StudyData\", \"Close(\"&$D$12&\") when LocalYear(\"&$D$12&\")=\"&$D$2&\" and localMonth(\"&$D$12&\") =\"&$E$2&\" and LocalDay(\"&$D$12&\")=\"&$F$2&\" and Barix(\"&$D$12&\",reference:=StartOfDay)=\"&A129&\"\", \"Bar\", \"\", \"Close\",\"5\",\"0\",\"All\",,,\"False\",\"T\",\"EveryTick\")","v":4348.75},{"$f":"IFERROR((J129-$G$3)/$G$3,NA())","v":-5.1712250057458055E-4},{"$f":"RTD(\"cqg.rtd\",,\"StudyData\", \"Close(\"&$D$12&\") when LocalYear(\"&$D$12&\")=\"&$D$3&\" and localMonth(\"&$D$12&\") =\"&$E$3&\" and LocalDay(\"&$D$12&\")=\"&$F$3&\" and Barix(\"&$D$12&\",reference:=StartOfDay)=\"&A129&\"\", \"Bar\", \"\", \"Close\",\"5\",\"0\",\"All\",,,\"False\",\"T\",\"EveryTick\")","v":4386.5},{"$f":"IFERROR((L129-$G$4)/$G$4,NA())","v":9.6982143875862855E-4},{"$f":"RTD(\"cqg.rtd\",,\"StudyData\", \"Close(\"&$D$12&\") when LocalYear(\"&$D$12&\")=\"&$D$4&\" and localMonth(\"&$D$12&\") =\"&$E$4&\" and LocalDay(\"&$D$12&\")=\"&$F$4&\" and Barix(\"&$D$12&\",reference:=StartOfDay)=\"&A129&\"\", \"Bar\", \"\", \"Close\",\"5\",\"0\",\"All\",,,\"False\",\"T\",\"EveryTick\")","v":4390},{"$f":"IFERROR((N129-$G$5)/$G$5,NA())","v":0},{"$f":"RTD(\"cqg.rtd\",,\"StudyData\", \"Close(\"&$D$12&\") when LocalYear(\"&$D$12&\")=\"&$D$5&\" and localMonth(\"&$D$12&\") =\"&$E$5&\" and LocalDay(\"&$D$12&\")=\"&$F$5&\" and Barix(\"&$D$12&\",reference:=StartOfDay)=\"&A129&\"\", \"Bar\", \"\", \"Close\",\"5\",\"0\",\"All\",,,\"False\",\"T\",\"EveryTick\")","v":4414.75},{"$f":"IFERROR((P129-$G$6)/$G$6,NA())","v":1.3952687184198438E-2},{"$f":"RTD(\"cqg.rtd\",,\"StudyData\", \"Close(\"&$D$12&\") when LocalYear(\"&$D$12&\")=\"&$D$6&\" and localMonth(\"&$D$12&\") =\"&$E$6&\" and LocalDay(\"&$D$12&\")=\"&$F$6&\" and Barix(\"&$D$12&\",reference:=StartOfDay)=\"&A129&\"\", \"Bar\", \"\", \"Close\",\"5\",\"0\",\"All\",,,\"False\",\"T\",\"EveryTick\")","v":4308},{"$f":"IFERROR((R129-$G$7)/$G$7,NA())","v":-5.999077065066913E-3},{"$f":"RTD(\"cqg.rtd\",,\"StudyData\", \"Close(\"&$D$12&\") when LocalYear(\"&$D$12&\")=\"&$D$7&\" and localMonth(\"&$D$12&\") =\"&$E$7&\" and LocalDay(\"&$D$12&\")=\"&$F$7&\" and Barix(\"&$D$12&\",reference:=StartOfDay)=\"&A129&\"\", \"Bar\", \"\", \"Close\",\"5\",\"0\",\"All\",,,\"False\",\"T\",\"EveryTick\")","v":4345.25},{"$f":"IFERROR((T129-$G$8)/$G$8,NA())","v":1.2583745994756772E-2},{"$f":"RTD(\"cqg.rtd\",,\"StudyData\", \"Close(\"&$D$12&\") when LocalYear(\"&$D$12&\")=\"&$D$8&\" and localMonth(\"&$D$12&\") =\"&$E$8&\" and LocalDay(\"&$D$12&\")=\"&$F$8&\" and Barix(\"&$D$12&\",reference:=StartOfDay)=\"&A129&\"\", \"Bar\", \"\", \"Close\",\"5\",\"0\",\"All\",,,\"False\",\"T\",\"EveryTick\")","v":4272.25},{"$f":"IFERROR((V129-$G$9)/$G$9,NA())","v":-1.6460431654676259E-2},{"$f":"RTD(\"cqg.rtd\",,\"StudyData\", \"Close(\"&$D$12&\") when LocalYear(\"&$D$12&\")=\"&$D$9&\" and localMonth(\"&$D$12&\") =\"&$E$9&\" and LocalDay(\"&$D$12&\")=\"&$F$9&\" and Barix(\"&$D$12&\",reference:=StartOfDay)=\"&A129&\"\", \"Bar\", \"\", \"Close\",\"5\",\"0\",\"All\",,,\"False\",\"T\",\"EveryTick\")","v":4321.5},{"$f":"IFERROR((X129-$G$10)/$G$10,NA())","v":5.526147402710721E-3},{"$f":"RTD(\"cqg.rtd\",,\"StudyData\", \"Close(\"&$D$12&\") when LocalYear(\"&$D$12&\")=\"&$D$10&\" and localMonth(\"&$D$12&\") =\"&$E$10&\" and LocalDay(\"&$D$12&\")=\"&$F$10&\" and Barix(\"&$D$12&\",reference:=StartOfDay)=\"&A129&\"\", \"Bar\", \"\", \"Close\",\"5\",\"0\",\"All\",,,\"False\",\"T\",\"EveryTick\")","v":4311.75},{"$f":"IFERROR((Z129-$G$11)/$G$11,NA())","v":-8.7361342605896883E-3},null,null,null,""]
[225,"11:45:00",null,null,null,null,null,{"$f":"RTD(\"cqg.rtd\",,\"StudyData\", \"Close(\"&$D$12&\") when LocalYear(\"&$D$12&\")=\"&$D$1&\" and localMonth(\"&$D$12&\") =\"&$E$1&\" and LocalDay(\"&$D$12&\")=\"&$F$1&\" and Barix(\"&$D$12&\",reference:=StartOfDay)=\"&A130&\"\", \"Bar\", \"\", \"Close\",\"5\",\"0\",\"All\",,,\"False\",\"T\",\"EveryTick\")","v":""},{"$error":"#N/A"},{"$f":"RTD(\"cqg.rtd\",,\"StudyData\", \"Close(\"&$D$12&\") when LocalYear(\"&$D$12&\")=\"&$D$2&\" and localMonth(\"&$D$12&\") =\"&$E$2&\" and LocalDay(\"&$D$12&\")=\"&$F$2&\" and Barix(\"&$D$12&\",reference:=StartOfDay)=\"&A130&\"\", \"Bar\", \"\", \"Close\",\"5\",\"0\",\"All\",,,\"False\",\"T\",\"EveryTick\")","v":4347},-9.1932888991036541E-4,{"$f":"RTD(\"cqg.rtd\",,\"StudyData\", \"Close(\"&$D$12&\") when LocalYear(\"&$D$12&\")=\"&$D$3&\" and localMonth(\"&$D$12&\") =\"&$E$3&\" and LocalDay(\"&$D$12&\")=\"&$F$3&\" and Barix(\"&$D$12&\",reference:=StartOfDay)=\"&A130&\"\", \"Bar\", \"\", \"Close\",\"5\",\"0\",\"All\",,,\"False\",\"T\",\"EveryTick\")","v":4386.75},1.0268697586856067E-3,{"$f":"RTD(\"cqg.rtd\",,\"StudyData\", \"Close(\"&$D$12&\") when LocalYear(\"&$D$12&\")=\"&$D$4&\" and localMonth(\"&$D$12&\") =\"&$E$4&\" and LocalDay(\"&$D$12&\")=\"&$F$4&\" and Barix(\"&$D$12&\",reference:=StartOfDay)=\"&A130&\"\", \"Bar\", \"\", \"Close\",\"5\",\"0\",\"All\",,,\"False\",\"T\",\"EveryTick\")","v":4388.25},-3.9863325740318906E-4,{"$f":"RTD(\"cqg.rtd\",,\"StudyData\", \"Close(\"&$D$12&\") when LocalYear(\"&$D$12&\")=\"&$D$5&\" and localMonth(\"&$D$12&\") =\"&$E$5&\" and LocalDay(\"&$D$12&\")=\"&$F$5&\" and Barix(\"&$D$12&\",reference:=StartOfDay)=\"&A130&\"\", \"Bar\", \"\", \"Close\",\"5\",\"0\",\"All\",,,\"False\",\"T\",\"EveryTick\")","v":4413.25},1.3608176389526872E-2,{"$f":"RTD(\"cqg.rtd\",,\"StudyData\", \"Close(\"&$D$12&\") when LocalYear(\"&$D$12&\")=\"&$D$6&\" and localMonth(\"&$D$12&\") =\"&$E$6&\" and LocalDay(\"&$D$12&\")=\"&$F$6&\" and Barix(\"&$D$12&\",reference:=StartOfDay)=\"&A130&\"\", \"Bar\", \"\", \"Close\",\"5\",\"0\",\"All\",,,\"False\",\"T\",\"EveryTick\")","v":4304.25},-6.864328564836179E-3,{"$f":"RTD(\"cqg.rtd\",,\"StudyData\", \"Close(\"&$D$12&\") when LocalYear(\"&$D$12&\")=\"&$D$7&\" and localMonth(\"&$D$12&\") =\"&$E$7&\" and LocalDay(\"&$D$12&\")=\"&$F$7&\" and Barix(\"&$D$12&\",reference:=StartOfDay)=\"&A130&\"\", \"Bar\", \"\", \"Close\",\"5\",\"0\",\"All\",,,\"False\",\"T\",\"EveryTick\")","v":4348.75},1.3399359161083601E-2,{"$f":"RTD(\"cqg.rtd\",,\"StudyData\", \"Close(\"&$D$12&\") when LocalYear(\"&$D$12&\")=\"&$D$8&\" and localMonth(\"&$D$12&\") =\"&$E$8&\" and LocalDay(\"&$D$12&\")=\"&$F$8&\" and Barix(\"&$D$12&\",reference:=StartOfDay)=\"&A130&\"\", \"Bar\", \"\", \"Close\",\"5\",\"0\",\"All\",,,\"False\",\"T\",\"EveryTick\")","v":4276.5},-1.5482014388489208E-2,{"$f":"RTD(\"cqg.rtd\",,\"StudyData\", \"Close(\"&$D$12&\") when LocalYear(\"&$D$12&\")=\"&$D$9&\" and localMonth(\"&$D$12&\") =\"&$E$9&\" and LocalDay(\"&$D$12&\")=\"&$F$9&\" and Barix(\"&$D$12&\",reference:=StartOfDay)=\"&A130&\"\", \"Bar\", \"\", \"Close\",\"5\",\"0\",\"All\",,,\"False\",\"T\",\"EveryTick\")","v":4321},5.4098074573904953E-3,{"$f":"RTD(\"cqg.rtd\",,\"StudyData\", \"Close(\"&$D$12&\") when LocalYear(\"&$D$12&\")=\"&$D$10&\" and localMonth(\"&$D$12&\") =\"&$E$10&\" and LocalDay(\"&$D$12&\")=\"&$F$10&\" and Barix(\"&$D$12&\",reference:=StartOfDay)=\"&A130&\"\", \"Bar\", \"\", \"Close\",\"5\",\"0\",\"All\",,,\"False\",\"T\",\"EveryTick\")","v":4318.25},-7.2417955054888215E-3,null,null,null,{"$f":"IFERROR(IF(AND(H129<>\"\",H130<>\"\",H131=\"\"),A130,\"\"),\"\")","v":""}]
[226,{"$f":"B130+5/60/24","v":"11:50:00"},null,null,null,null,null,{"$f":"RTD(\"cqg.rtd\",,\"StudyData\", \"Close(\"&$D$12&\") when LocalYear(\"&$D$12&\")=\"&$D$1&\" and localMonth(\"&$D$12&\") =\"&$E$1&\" and LocalDay(\"&$D$12&\")=\"&$F$1&\" and Barix(\"&$D$12&\",reference:=StartOfDay)=\"&A131&\"\", \"Bar\", \"\", \"Close\",\"5\",\"0\",\"All\",,,\"False\",\"T\",\"EveryTick\")","v":""},{"$error":"#N/A"},{"$f":"RTD(\"cqg.rtd\",,\"StudyData\", \"Close(\"&$D$12&\") when LocalYear(\"&$D$12&\")=\"&$D$2&\" and localMonth(\"&$D$12&\") =\"&$E$2&\" and LocalDay(\"&$D$12&\")=\"&$F$2&\" and Barix(\"&$D$12&\",reference:=StartOfDay)=\"&A131&\"\", \"Bar\", \"\", \"Close\",\"5\",\"0\",\"All\",,,\"False\",\"T\",\"EveryTick\")","v":4345},-1.3789933348655481E-3,{"$f":"RTD(\"cqg.rtd\",,\"StudyData\", \"Close(\"&$D$12&\") when LocalYear(\"&$D$12&\")=\"&$D$3&\" and localMonth(\"&$D$12&\") =\"&$E$3&\" and LocalDay(\"&$D$12&\")=\"&$F$3&\" and Barix(\"&$D$12&\",reference:=StartOfDay)=\"&A131&\"\", \"Bar\", \"\", \"Close\",\"5\",\"0\",\"All\",,,\"False\",\"T\",\"EveryTick\")","v":4384.75},5.7048319926978155E-4,{"$f":"RTD(\"cqg.rtd\",,\"StudyData\", \"Close(\"&$D$12&\") when LocalYear(\"&$D$12&\")=\"&$D$4&\" and localMonth(\"&$D$12&\") =\"&$E$4&\" and LocalDay(\"&$D$12&\")=\"&$F$4&\" and Barix(\"&$D$12&\",reference:=StartOfDay)=\"&A131&\"\", \"Bar\", \"\", \"Close\",\"5\",\"0\",\"All\",,,\"False\",\"T\",\"EveryTick\")","v":4390},0,{"$f":"RTD(\"cqg.rtd\",,\"StudyData\", \"Close(\"&$D$12&\") when LocalYear(\"&$D$12&\")=\"&$D$5&\" and localMonth(\"&$D$12&\") =\"&$E$5&\" and LocalDay(\"&$D$12&\")=\"&$F$5&\" and Barix(\"&$D$12&\",reference:=StartOfDay)=\"&A131&\"\", \"Bar\", \"\", \"Close\",\"5\",\"0\",\"All\",,,\"False\",\"T\",\"EveryTick\")","v":4414.25},1.3837850252641249E-2,{"$f":"RTD(\"cqg.rtd\",,\"StudyData\", \"Close(\"&$D$12&\") when LocalYear(\"&$D$12&\")=\"&$D$6&\" and localMonth(\"&$D$12&\") =\"&$E$6&\" and LocalDay(\"&$D$12&\")=\"&$F$6&\" and Barix(\"&$D$12&\",reference:=StartOfDay)=\"&A131&\"\", \"Bar\", \"\", \"Close\",\"5\",\"0\",\"All\",,,\"False\",\"T\",\"EveryTick\")","v":4304.5},-6.8066451315182278E-3,{"$f":"RTD(\"cqg.rtd\",,\"StudyData\", \"Close(\"&$D$12&\") when LocalYear(\"&$D$12&\")=\"&$D$7&\" and localMonth(\"&$D$12&\") =\"&$E$7&\" and LocalDay(\"&$D$12&\")=\"&$F$7&\" and Barix(\"&$D$12&\",reference:=StartOfDay)=\"&A131&\"\", \"Bar\", \"\", \"Close\",\"5\",\"0\",\"All\",,,\"False\",\"T\",\"EveryTick\")","v":4347.25},1.3049810661229245E-2,{"$f":"RTD(\"cqg.rtd\",,\"StudyData\", \"Close(\"&$D$12&\") when LocalYear(\"&$D$12&\")=\"&$D$8&\" and localMonth(\"&$D$12&\") =\"&$E$8&\" and LocalDay(\"&$D$12&\")=\"&$F$8&\" and Barix(\"&$D$12&\",reference:=StartOfDay)=\"&A131&\"\", \"Bar\", \"\", \"Close\",\"5\",\"0\",\"All\",,,\"False\",\"T\",\"EveryTick\")","v":4278.75},-1.4964028776978418E-2,{"$f":"RTD(\"cqg.rtd\",,\"StudyData\", \"Close(\"&$D$12&\") when LocalYear(\"&$D$12&\")=\"&$D$9&\" and localMonth(\"&$D$12&\") =\"&$E$9&\" and LocalDay(\"&$D$12&\")=\"&$F$9&\" and Barix(\"&$D$12&\",reference:=StartOfDay)=\"&A131&\"\", \"Bar\", \"\", \"Close\",\"5\",\"0\",\"All\",,,\"False\",\"T\",\"EveryTick\")","v":4321},5.4098074573904953E-3,{"$f":"RTD(\"cqg.rtd\",,\"StudyData\", \"Close(\"&$D$12&\") when LocalYear(\"&$D$12&\")=\"&$D$10&\" and localMonth(\"&$D$12&\") =\"&$E$10&\" and LocalDay(\"&$D$12&\")=\"&$F$10&\" and Barix(\"&$D$12&\",reference:=StartOfDay)=\"&A131&\"\", \"Bar\", \"\", \"Close\",\"5\",\"0\",\"All\",,,\"False\",\"T\",\"EveryTick\")","v":4316.75},-7.5866429105120982E-3,null,null,null,""]
[227,"11:55:00",null,null,null,null,null,{"$f":"RTD(\"cqg.rtd\",,\"StudyData\", \"Close(\"&$D$12&\") when LocalYear(\"&$D$12&\")=\"&$D$1&\" and localMonth(\"&$D$12&\") =\"&$E$1&\" and LocalDay(\"&$D$12&\")=\"&$F$1&\" and Barix(\"&$D$12&\",reference:=StartOfDay)=\"&A132&\"\", \"Bar\", \"\", \"Close\",\"5\",\"0\",\"All\",,,\"False\",\"T\",\"EveryTick\")","v":""},{"$error":"#N/A"},{"$f":"RTD(\"cqg.rtd\",,\"StudyData\", \"Close(\"&$D$12&\") when LocalYear(\"&$D$12&\")=\"&$D$2&\" and localMonth(\"&$D$12&\") =\"&$E$2&\" and LocalDay(\"&$D$12&\")=\"&$F$2&\" and Barix(\"&$D$12&\",reference:=StartOfDay)=\"&A132&\"\", \"Bar\", \"\", \"Close\",\"5\",\"0\",\"All\",,,\"False\",\"T\",\"EveryTick\")","v":4345.75},-1.2066191680073547E-3,{"$f":"RTD(\"cqg.rtd\",,\"StudyData\", \"Close(\"&$D$12&\") when LocalYear(\"&$D$12&\")=\"&$D$3&\" and localMonth(\"&$D$12&\") =\"&$E$3&\" and LocalDay(\"&$D$12&\")=\"&$F$3&\" and Barix(\"&$D$12&\",reference:=StartOfDay)=\"&A132&\"\", \"Bar\", \"\", \"Close\",\"5\",\"0\",\"All\",,,\"False\",\"T\",\"EveryTick\")","v":4385},6.2753151919675966E-4,{"$f":"RTD(\"cqg.rtd\",,\"StudyData\", \"Close(\"&$D$12&\") when LocalYear(\"&$D$12&\")=\"&$D$4&\" and localMonth(\"&$D$12&\") =\"&$E$4&\" and LocalDay(\"&$D$12&\")=\"&$F$4&\" and Barix(\"&$D$12&\",reference:=StartOfDay)=\"&A132&\"\", \"Bar\", \"\", \"Close\",\"5\",\"0\",\"All\",,,\"False\",\"T\",\"EveryTick\")","v":4386.25},-8.5421412300683373E-4,{"$f":"RTD(\"cqg.rtd\",,\"StudyData\", \"Close(\"&$D$12&\") when LocalYear(\"&$D$12&\")=\"&$D$5&\" and localMonth(\"&$D$12&\") =\"&$E$5&\" and LocalDay(\"&$D$12&\")=\"&$F$5&\" and Barix(\"&$D$12&\",reference:=StartOfDay)=\"&A132&\"\", \"Bar\", \"\", \"Close\",\"5\",\"0\",\"All\",,,\"False\",\"T\",\"EveryTick\")","v":4416.25},1.4297197978870005E-2,{"$f":"RTD(\"cqg.rtd\",,\"StudyData\", \"Close(\"&$D$12&\") when LocalYear(\"&$D$12&\")=\"&$D$6&\" and localMonth(\"&$D$12&\") =\"&$E$6&\" and LocalDay(\"&$D$12&\")=\"&$F$6&\" and Barix(\"&$D$12&\",reference:=StartOfDay)=\"&A132&\"\", \"Bar\", \"\", \"Close\",\"5\",\"0\",\"All\",,,\"False\",\"T\",\"EveryTick\")","v":4304.5},-6.8066451315182278E-3,{"$f":"RTD(\"cqg.rtd\",,\"StudyData\", \"Close(\"&$D$12&\") when LocalYear(\"&$D$12&\")=\"&$D$7&\" and localMonth(\"&$D$12&\") =\"&$E$7&\" and LocalDay(\"&$D$12&\")=\"&$F$7&\" and Barix(\"&$D$12&\",reference:=StartOfDay)=\"&A132&\"\", \"Bar\", \"\", \"Close\",\"5\",\"0\",\"All\",,,\"False\",\"T\",\"EveryTick\")","v":4350},1.3690649577628895E-2,{"$f":"RTD(\"cqg.rtd\",,\"StudyData\", \"Close(\"&$D$12&\") when LocalYear(\"&$D$12&\")=\"&$D$8&\" and localMonth(\"&$D$12&\") =\"&$E$8&\" and LocalDay(\"&$D$12&\")=\"&$F$8&\" and Barix(\"&$D$12&\",reference:=StartOfDay)=\"&A132&\"\", \"Bar\", \"\", \"Close\",\"5\",\"0\",\"All\",,,\"False\",\"T\",\"EveryTick\")","v":4276.5},-1.5482014388489208E-2,{"$f":"RTD(\"cqg.rtd\",,\"StudyData\", \"Close(\"&$D$12&\") when LocalYear(\"&$D$12&\")=\"&$D$9&\" and localMonth(\"&$D$12&\") =\"&$E$9&\" and LocalDay(\"&$D$12&\")=\"&$F$9&\" and Barix(\"&$D$12&\",reference:=StartOfDay)=\"&A132&\"\", \"Bar\", \"\", \"Close\",\"5\",\"0\",\"All\",,,\"False\",\"T\",\"EveryTick\")","v":4319},4.9444476761095922E-3,{"$f":"RTD(\"cqg.rtd\",,\"StudyData\", \"Close(\"&$D$12&\") when LocalYear(\"&$D$12&\")=\"&$D$10&\" and localMonth(\"&$D$12&\") =\"&$E$10&\" and LocalDay(\"&$D$12&\")=\"&$F$10&\" and Barix(\"&$D$12&\",reference:=StartOfDay)=\"&A132&\"\", \"Bar\", \"\", \"Close\",\"5\",\"0\",\"All\",,,\"False\",\"T\",\"EveryTick\")","v":4313},-8.4487614230702914E-3,null,null,null,""]
[228,"12:00:00",null,null,null,null,null,{"$f":"RTD(\"cqg.rtd\",,\"StudyData\", \"Close(\"&$D$12&\") when LocalYear(\"&$D$12&\")=\"&$D$1&\" and localMonth(\"&$D$12&\") =\"&$E$1&\" and LocalDay(\"&$D$12&\")=\"&$F$1&\" and Barix(\"&$D$12&\",reference:=StartOfDay)=\"&A133&\"\", \"Bar\", \"\", \"Close\",\"5\",\"0\",\"All\",,,\"False\",\"T\",\"EveryTick\")","v":""},{"$error":"#N/A"},{"$f":"RTD(\"cqg.rtd\",,\"StudyData\", \"Close(\"&$D$12&\") when LocalYear(\"&$D$12&\")=\"&$D$2&\" and localMonth(\"&$D$12&\") =\"&$E$2&\" and LocalDay(\"&$D$12&\")=\"&$F$2&\" and Barix(\"&$D$12&\",reference:=StartOfDay)=\"&A133&\"\", \"Bar\", \"\", \"Close\",\"5\",\"0\",\"All\",,,\"False\",\"T\",\"EveryTick\")","v":4344.25},-1.5513675017237417E-3,{"$f":"RTD(\"cqg.rtd\",,\"StudyData\", \"Close(\"&$D$12&\") when LocalYear(\"&$D$12&\")=\"&$D$3&\" and localMonth(\"&$D$12&\") =\"&$E$3&\" and LocalDay(\"&$D$12&\")=\"&$F$3&\" and Barix(\"&$D$12&\",reference:=StartOfDay)=\"&A133&\"\", \"Bar\", \"\", \"Close\",\"5\",\"0\",\"All\",,,\"False\",\"T\",\"EveryTick\")","v":4378.25},-9.1277311883165044E-4,{"$f":"RTD(\"cqg.rtd\",,\"StudyData\", \"Close(\"&$D$12&\") when LocalYear(\"&$D$12&\")=\"&$D$4&\" and localMonth(\"&$D$12&\") =\"&$E$4&\" and LocalDay(\"&$D$12&\")=\"&$F$4&\" and Barix(\"&$D$12&\",reference:=StartOfDay)=\"&A133&\"\", \"Bar\", \"\", \"Close\",\"5\",\"0\",\"All\",,,\"False\",\"T\",\"EveryTick\")","v":4386},-9.1116173120728934E-4,{"$f":"RTD(\"cqg.rtd\",,\"StudyData\", \"Close(\"&$D$12&\") when LocalYear(\"&$D$12&\")=\"&$D$5&\" and localMonth(\"&$D$12&\") =\"&$E$5&\" and LocalDay(\"&$D$12&\")=\"&$F$5&\" and Barix(\"&$D$12&\",reference:=StartOfDay)=\"&A133&\"\", \"Bar\", \"\", \"Close\",\"5\",\"0\",\"All\",,,\"False\",\"T\",\"EveryTick\")","v":4414.75},1.3952687184198438E-2,{"$f":"RTD(\"cqg.rtd\",,\"StudyData\", \"Close(\"&$D$12&\") when LocalYear(\"&$D$12&\")=\"&$D$6&\" and localMonth(\"&$D$12&\") =\"&$E$6&\" and LocalDay(\"&$D$12&\")=\"&$F$6&\" and Barix(\"&$D$12&\",reference:=StartOfDay)=\"&A133&\"\", \"Bar\", \"\", \"Close\",\"5\",\"0\",\"All\",,,\"False\",\"T\",\"EveryTick\")","v":4302.75},-7.2104291647438852E-3,{"$f":"RTD(\"cqg.rtd\",,\"StudyData\", \"Close(\"&$D$12&\") when LocalYear(\"&$D$12&\")=\"&$D$7&\" and localMonth(\"&$D$12&\") =\"&$E$7&\" and LocalDay(\"&$D$12&\")=\"&$F$7&\" and Barix(\"&$D$12&\",reference:=StartOfDay)=\"&A133&\"\", \"Bar\", \"\", \"Close\",\"5\",\"0\",\"All\",,,\"False\",\"T\",\"EveryTick\")","v":4347.75},1.3166326827847364E-2,{"$f":"RTD(\"cqg.rtd\",,\"StudyData\", \"Close(\"&$D$12&\") when LocalYear(\"&$D$12&\")=\"&$D$8&\" and localMonth(\"&$D$12&\") =\"&$E$8&\" and LocalDay(\"&$D$12&\")=\"&$F$8&\" and Barix(\"&$D$12&\",reference:=StartOfDay)=\"&A133&\"\", \"Bar\", \"\", \"Close\",\"5\",\"0\",\"All\",,,\"False\",\"T\",\"EveryTick\")","v":4269.5},-1.7093525179856114E-2,{"$f":"RTD(\"cqg.rtd\",,\"StudyData\", \"Close(\"&$D$12&\") when LocalYear(\"&$D$12&\")=\"&$D$9&\" and localMonth(\"&$D$12&\") =\"&$E$9&\" and LocalDay(\"&$D$12&\")=\"&$F$9&\" and Barix(\"&$D$12&\",reference:=StartOfDay)=\"&A133&\"\", \"Bar\", \"\", \"Close\",\"5\",\"0\",\"All\",,,\"False\",\"T\",\"EveryTick\")","v":4320},5.1771275667500437E-3,{"$f":"RTD(\"cqg.rtd\",,\"StudyData\", \"Close(\"&$D$12&\") when LocalYear(\"&$D$12&\")=\"&$D$10&\" and localMonth(\"&$D$12&\") =\"&$E$10&\" and LocalDay(\"&$D$12&\")=\"&$F$10&\" and Barix(\"&$D$12&\",reference:=StartOfDay)=\"&A133&\"\", \"Bar\", \"\", \"Close\",\"5\",\"0\",\"All\",,,\"False\",\"T\",\"EveryTick\")","v":4319.5},-6.9544226679694237E-3,null,null,null,""]
[229,"12:05:00",null,null,null,null,null,{"$f":"RTD(\"cqg.rtd\",,\"StudyData\", \"Close(\"&$D$12&\") when LocalYear(\"&$D$12&\")=\"&$D$1&\" and localMonth(\"&$D$12&\") =\"&$E$1&\" and LocalDay(\"&$D$12&\")=\"&$F$1&\" and Barix(\"&$D$12&\",reference:=StartOfDay)=\"&A134&\"\", \"Bar\", \"\", \"Close\",\"5\",\"0\",\"All\",,,\"False\",\"T\",\"EveryTick\")","v":""},{"$error":"#N/A"},{"$f":"RTD(\"cqg.rtd\",,\"StudyData\", \"Close(\"&$D$12&\") when LocalYear(\"&$D$12&\")=\"&$D$2&\" and localMonth(\"&$D$12&\") =\"&$E$2&\" and LocalDay(\"&$D$12&\")=\"&$F$2&\" and Barix(\"&$D$12&\",reference:=StartOfDay)=\"&A134&\"\", \"Bar\", \"\", \"Close\",\"5\",\"0\",\"All\",,,\"False\",\"T\",\"EveryTick\")","v":4341.75},-2.12594805791772E-3,{"$f":"RTD(\"cqg.rtd\",,\"StudyData\", \"Close(\"&$D$12&\") when LocalYear(\"&$D$12&\")=\"&$D$3&\" and localMonth(\"&$D$12&\") =\"&$E$3&\" and LocalDay(\"&$D$12&\")=\"&$F$3&\" and Barix(\"&$D$12&\",reference:=StartOfDay)=\"&A134&\"\", \"Bar\", \"\", \"Close\",\"5\",\"0\",\"All\",,,\"False\",\"T\",\"EveryTick\")","v":4377.5},-1.0839180786125849E-3,{"$f":"RTD(\"cqg.rtd\",,\"StudyData\", \"Close(\"&$D$12&\") when LocalYear(\"&$D$12&\")=\"&$D$4&\" and localMonth(\"&$D$12&\") =\"&$E$4&\" and LocalDay(\"&$D$12&\")=\"&$F$4&\" and Barix(\"&$D$12&\",reference:=StartOfDay)=\"&A134&\"\", \"Bar\", \"\", \"Close\",\"5\",\"0\",\"All\",,,\"False\",\"T\",\"EveryTick\")","v":4384.25},-1.3097949886104784E-3,{"$f":"RTD(\"cqg.rtd\",,\"StudyData\", \"Close(\"&$D$12&\") when LocalYear(\"&$D$12&\")=\"&$D$5&\" and localMonth(\"&$D$12&\") =\"&$E$5&\" and LocalDay(\"&$D$12&\")=\"&$F$5&\" and Barix(\"&$D$12&\",reference:=StartOfDay)=\"&A134&\"\", \"Bar\", \"\", \"Close\",\"5\",\"0\",\"All\",,,\"False\",\"T\",\"EveryTick\")","v":4414},1.3780431786862656E-2,{"$f":"RTD(\"cqg.rtd\",,\"StudyData\", \"Close(\"&$D$12&\") when LocalYear(\"&$D$12&\")=\"&$D$6&\" and localMonth(\"&$D$12&\") =\"&$E$6&\" and LocalDay(\"&$D$12&\")=\"&$F$6&\" and Barix(\"&$D$12&\",reference:=StartOfDay)=\"&A134&\"\", \"Bar\", \"\", \"Close\",\"5\",\"0\",\"All\",,,\"False\",\"T\",\"EveryTick\")","v":4300.75},-7.6718966312874946E-3,{"$f":"RTD(\"cqg.rtd\",,\"StudyData\", \"Close(\"&$D$12&\") when LocalYear(\"&$D$12&\")=\"&$D$7&\" and localMonth(\"&$D$12&\") =\"&$E$7&\" and LocalDay(\"&$D$12&\")=\"&$F$7&\" and Barix(\"&$D$12&\",reference:=StartOfDay)=\"&A134&\"\", \"Bar\", \"\", \"Close\",\"5\",\"0\",\"All\",,,\"False\",\"T\",\"EveryTick\")","v":4350},1.3690649577628895E-2,{"$f":"RTD(\"cqg.rtd\",,\"StudyData\", \"Close(\"&$D$12&\") when LocalYear(\"&$D$12&\")=\"&$D$8&\" and localMonth(\"&$D$12&\") =\"&$E$8&\" and LocalDay(\"&$D$12&\")=\"&$F$8&\" and Barix(\"&$D$12&\",reference:=StartOfDay)=\"&A134&\"\", \"Bar\", \"\", \"Close\",\"5\",\"0\",\"All\",,,\"False\",\"T\",\"EveryTick\")","v":4281},-1.4446043165467626E-2,{"$f":"RTD(\"cqg.rtd\",,\"StudyData\", \"Close(\"&$D$12&\") when LocalYear(\"&$D$12&\")=\"&$D$9&\" and localMonth(\"&$D$12&\") =\"&$E$9&\" and LocalDay(\"&$D$12&\")=\"&$F$9&\" and Barix(\"&$D$12&\",reference:=StartOfDay)=\"&A134&\"\", \"Bar\", \"\", \"Close\",\"5\",\"0\",\"All\",,,\"False\",\"T\",\"EveryTick\")","v":4327.25},6.8640567738933161E-3,{"$f":"RTD(\"cqg.rtd\",,\"StudyData\", \"Close(\"&$D$12&\") when LocalYear(\"&$D$12&\")=\"&$D$10&\" and localMonth(\"&$D$12&\") =\"&$E$10&\" and LocalDay(\"&$D$12&\")=\"&$F$10&\" and Barix(\"&$D$12&\",reference:=StartOfDay)=\"&A134&\"\", \"Bar\", \"\", \"Close\",\"5\",\"0\",\"All\",,,\"False\",\"T\",\"EveryTick\")","v":4324.25},-5.8624058853957127E-3,null,null,null,""]
[230,"12:10:00",null,null,null,null,null,{"$f":"RTD(\"cqg.rtd\",,\"StudyData\", \"Close(\"&$D$12&\") when LocalYear(\"&$D$12&\")=\"&$D$1&\" and localMonth(\"&$D$12&\") =\"&$E$1&\" and LocalDay(\"&$D$12&\")=\"&$F$1&\" and Barix(\"&$D$12&\",reference:=StartOfDay)=\"&A135&\"\", \"Bar\", \"\", \"Close\",\"5\",\"0\",\"All\",,,\"False\",\"T\",\"EveryTick\")","v":""},{"$error":"#N/A"},{"$f":"RTD(\"cqg.rtd\",,\"StudyData\", \"Close(\"&$D$12&\") when LocalYear(\"&$D$12&\")=\"&$D$2&\" and localMonth(\"&$D$12&\") =\"&$E$2&\" and LocalDay(\"&$D$12&\")=\"&$F$2&\" and Barix(\"&$D$12&\",reference:=StartOfDay)=\"&A135&\"\", \"Bar\", \"\", \"Close\",\"5\",\"0\",\"All\",,,\"False\",\"T\",\"EveryTick\")","v":4345.75},-1.2066191680073547E-3,{"$f":"RTD(\"cqg.rtd\",,\"StudyData\", \"Close(\"&$D$12&\") when LocalYear(\"&$D$12&\")=\"&$D$3&\" and localMonth(\"&$D$12&\") =\"&$E$3&\" and LocalDay(\"&$D$12&\")=\"&$F$3&\" and Barix(\"&$D$12&\",reference:=StartOfDay)=\"&A135&\"\", \"Bar\", \"\", \"Close\",\"5\",\"0\",\"All\",,,\"False\",\"T\",\"EveryTick\")","v":4378.75},-7.986764789776941E-4,{"$f":"RTD(\"cqg.rtd\",,\"StudyData\", \"Close(\"&$D$12&\") when LocalYear(\"&$D$12&\")=\"&$D$4&\" and localMonth(\"&$D$12&\") =\"&$E$4&\" and LocalDay(\"&$D$12&\")=\"&$F$4&\" and Barix(\"&$D$12&\",reference:=StartOfDay)=\"&A135&\"\", \"Bar\", \"\", \"Close\",\"5\",\"0\",\"All\",,,\"False\",\"T\",\"EveryTick\")","v":4385.75},-9.6810933940774484E-4,{"$f":"RTD(\"cqg.rtd\",,\"StudyData\", \"Close(\"&$D$12&\") when LocalYear(\"&$D$12&\")=\"&$D$5&\" and localMonth(\"&$D$12&\") =\"&$E$5&\" and LocalDay(\"&$D$12&\")=\"&$F$5&\" and Barix(\"&$D$12&\",reference:=StartOfDay)=\"&A135&\"\", \"Bar\", \"\", \"Close\",\"5\",\"0\",\"All\",,,\"False\",\"T\",\"EveryTick\")","v":4414.25},1.3837850252641249E-2,{"$f":"RTD(\"cqg.rtd\",,\"StudyData\", \"Close(\"&$D$12&\") when LocalYear(\"&$D$12&\")=\"&$D$6&\" and localMonth(\"&$D$12&\") =\"&$E$6&\" and LocalDay(\"&$D$12&\")=\"&$F$6&\" and Barix(\"&$D$12&\",reference:=StartOfDay)=\"&A135&\"\", \"Bar\", \"\", \"Close\",\"5\",\"0\",\"All\",,,\"False\",\"T\",\"EveryTick\")","v":4304.75},-6.7489616982002766E-3,{"$f":"RTD(\"cqg.rtd\",,\"StudyData\", \"Close(\"&$D$12&\") when LocalYear(\"&$D$12&\")=\"&$D$7&\" and localMonth(\"&$D$12&\") =\"&$E$7&\" and LocalDay(\"&$D$12&\")=\"&$F$7&\" and Barix(\"&$D$12&\",reference:=StartOfDay)=\"&A135&\"\", \"Bar\", \"\", \"Close\",\"5\",\"0\",\"All\",,,\"False\",\"T\",\"EveryTick\")","v":4349.5},1.3574133411010778E-2,{"$f":"RTD(\"cqg.rtd\",,\"StudyData\", \"Close(\"&$D$12&\") when LocalYear(\"&$D$12&\")=\"&$D$8&\" and localMonth(\"&$D$12&\") =\"&$E$8&\" and LocalDay(\"&$D$12&\")=\"&$F$8&\" and Barix(\"&$D$12&\",reference:=StartOfDay)=\"&A135&\"\", \"Bar\", \"\", \"Close\",\"5\",\"0\",\"All\",,,\"False\",\"T\",\"EveryTick\")","v":4284.75},-1.358273381294964E-2,{"$f":"RTD(\"cqg.rtd\",,\"StudyData\", \"Close(\"&$D$12&\") when LocalYear(\"&$D$12&\")=\"&$D$9&\" and localMonth(\"&$D$12&\") =\"&$E$9&\" and LocalDay(\"&$D$12&\")=\"&$F$9&\" and Barix(\"&$D$12&\",reference:=StartOfDay)=\"&A135&\"\", \"Bar\", \"\", \"Close\",\"5\",\"0\",\"All\",,,\"False\",\"T\",\"EveryTick\")","v":4326.25},6.6313768832528645E-3,{"$f":"RTD(\"cqg.rtd\",,\"StudyData\", \"Close(\"&$D$12&\") when LocalYear(\"&$D$12&\")=\"&$D$10&\" and localMonth(\"&$D$12&\") =\"&$E$10&\" and LocalDay(\"&$D$12&\")=\"&$F$10&\" and Barix(\"&$D$12&\",reference:=StartOfDay)=\"&A135&\"\", \"Bar\", \"\", \"Close\",\"5\",\"0\",\"All\",,,\"False\",\"T\",\"EveryTick\")","v":4322},-6.3796769929306283E-3,null,null,null,""]
[231,"12:15:00",null,null,null,null,null,{"$f":"RTD(\"cqg.rtd\",,\"StudyData\", \"Close(\"&$D$12&\") when LocalYear(\"&$D$12&\")=\"&$D$1&\" and localMonth(\"&$D$12&\") =\"&$E$1&\" and LocalDay(\"&$D$12&\")=\"&$F$1&\" and Barix(\"&$D$12&\",reference:=StartOfDay)=\"&A136&\"\", \"Bar\", \"\", \"Close\",\"5\",\"0\",\"All\",,,\"False\",\"T\",\"EveryTick\")","v":""},{"$error":"#N/A"},{"$f":"RTD(\"cqg.rtd\",,\"StudyData\", \"Close(\"&$D$12&\") when LocalYear(\"&$D$12&\")=\"&$D$2&\" and localMonth(\"&$D$12&\") =\"&$E$2&\" and LocalDay(\"&$D$12&\")=\"&$F$2&\" and Barix(\"&$D$12&\",reference:=StartOfDay)=\"&A136&\"\", \"Bar\", \"\", \"Close\",\"5\",\"0\",\"All\",,,\"False\",\"T\",\"EveryTick\")","v":4345.75},-1.2066191680073547E-3,{"$f":"RTD(\"cqg.rtd\",,\"StudyData\", \"Close(\"&$D$12&\") when LocalYear(\"&$D$12&\")=\"&$D$3&\" and localMonth(\"&$D$12&\") =\"&$E$3&\" and LocalDay(\"&$D$12&\")=\"&$F$3&\" and Barix(\"&$D$12&\",reference:=StartOfDay)=\"&A136&\"\", \"Bar\", \"\", \"Close\",\"5\",\"0\",\"All\",,,\"False\",\"T\",\"EveryTick\")","v":4378.5},-8.5572479890467222E-4,{"$f":"RTD(\"cqg.rtd\",,\"StudyData\", \"Close(\"&$D$12&\") when LocalYear(\"&$D$12&\")=\"&$D$4&\" and localMonth(\"&$D$12&\") =\"&$E$4&\" and LocalDay(\"&$D$12&\")=\"&$F$4&\" and Barix(\"&$D$12&\",reference:=StartOfDay)=\"&A136&\"\", \"Bar\", \"\", \"Close\",\"5\",\"0\",\"All\",,,\"False\",\"T\",\"EveryTick\")","v":4376.5},-3.0751708428246012E-3,{"$f":"RTD(\"cqg.rtd\",,\"StudyData\", \"Close(\"&$D$12&\") when LocalYear(\"&$D$12&\")=\"&$D$5&\" and localMonth(\"&$D$12&\") =\"&$E$5&\" and LocalDay(\"&$D$12&\")=\"&$F$5&\" and Barix(\"&$D$12&\",reference:=StartOfDay)=\"&A136&\"\", \"Bar\", \"\", \"Close\",\"5\",\"0\",\"All\",,,\"False\",\"T\",\"EveryTick\")","v":4414.75},1.3952687184198438E-2,{"$f":"RTD(\"cqg.rtd\",,\"StudyData\", \"Close(\"&$D$12&\") when LocalYear(\"&$D$12&\")=\"&$D$6&\" and localMonth(\"&$D$12&\") =\"&$E$6&\" and LocalDay(\"&$D$12&\")=\"&$F$6&\" and Barix(\"&$D$12&\",reference:=StartOfDay)=\"&A136&\"\", \"Bar\", \"\", \"Close\",\"5\",\"0\",\"All\",,,\"False\",\"T\",\"EveryTick\")","v":4306.25},-6.4028610982925704E-3,{"$f":"RTD(\"cqg.rtd\",,\"StudyData\", \"Close(\"&$D$12&\") when LocalYear(\"&$D$12&\")=\"&$D$7&\" and localMonth(\"&$D$12&\") =\"&$E$7&\" and LocalDay(\"&$D$12&\")=\"&$F$7&\" and Barix(\"&$D$12&\",reference:=StartOfDay)=\"&A136&\"\", \"Bar\", \"\", \"Close\",\"5\",\"0\",\"All\",,,\"False\",\"T\",\"EveryTick\")","v":4350},1.3690649577628895E-2,{"$f":"RTD(\"cqg.rtd\",,\"StudyData\", \"Close(\"&$D$12&\") when LocalYear(\"&$D$12&\")=\"&$D$8&\" and localMonth(\"&$D$12&\") =\"&$E$8&\" and LocalDay(\"&$D$12&\")=\"&$F$8&\" and Barix(\"&$D$12&\",reference:=StartOfDay)=\"&A136&\"\", \"Bar\", \"\", \"Close\",\"5\",\"0\",\"All\",,,\"False\",\"T\",\"EveryTick\")","v":4280.5},-1.456115107913669E-2,{"$f":"RTD(\"cqg.rtd\",,\"StudyData\", \"Close(\"&$D$12&\") when LocalYear(\"&$D$12&\")=\"&$D$9&\" and localMonth(\"&$D$12&\") =\"&$E$9&\" and LocalDay(\"&$D$12&\")=\"&$F$9&\" and Barix(\"&$D$12&\",reference:=StartOfDay)=\"&A136&\"\", \"Bar\", \"\", \"Close\",\"5\",\"0\",\"All\",,,\"False\",\"T\",\"EveryTick\")","v":4325.75},6.5150369379326388E-3,{"$f":"RTD(\"cqg.rtd\",,\"StudyData\", \"Close(\"&$D$12&\") when LocalYear(\"&$D$12&\")=\"&$D$10&\" and localMonth(\"&$D$12&\") =\"&$E$10&\" and LocalDay(\"&$D$12&\")=\"&$F$10&\" and Barix(\"&$D$12&\",reference:=StartOfDay)=\"&A136&\"\", \"Bar\", \"\", \"Close\",\"5\",\"0\",\"All\",,,\"False\",\"T\",\"EveryTick\")","v":4323},-6.1497787229151104E-3,null,null,null,""]
[232,"12:20:00",null,null,null,null,null,{"$f":"RTD(\"cqg.rtd\",,\"StudyData\", \"Close(\"&$D$12&\") when LocalYear(\"&$D$12&\")=\"&$D$1&\" and localMonth(\"&$D$12&\") =\"&$E$1&\" and LocalDay(\"&$D$12&\")=\"&$F$1&\" and Barix(\"&$D$12&\",reference:=StartOfDay)=\"&A137&\"\", \"Bar\", \"\", \"Close\",\"5\",\"0\",\"All\",,,\"False\",\"T\",\"EveryTick\")","v":""},{"$error":"#N/A"},{"$f":"RTD(\"cqg.rtd\",,\"StudyData\", \"Close(\"&$D$12&\") when LocalYear(\"&$D$12&\")=\"&$D$2&\" and localMonth(\"&$D$12&\") =\"&$E$2&\" and LocalDay(\"&$D$12&\")=\"&$F$2&\" and Barix(\"&$D$12&\",reference:=StartOfDay)=\"&A137&\"\", \"Bar\", \"\", \"Close\",\"5\",\"0\",\"All\",,,\"False\",\"T\",\"EveryTick\")","v":4341.75},-2.12594805791772E-3,{"$f":"RTD(\"cqg.rtd\",,\"StudyData\", \"Close(\"&$D$12&\") when LocalYear(\"&$D$12&\")=\"&$D$3&\" and localMonth(\"&$D$12&\") =\"&$E$3&\" and LocalDay(\"&$D$12&\")=\"&$F$3&\" and Barix(\"&$D$12&\",reference:=StartOfDay)=\"&A137&\"\", \"Bar\", \"\", \"Close\",\"5\",\"0\",\"All\",,,\"False\",\"T\",\"EveryTick\")","v":4370.75},-2.6242227166409951E-3,{"$f":"RTD(\"cqg.rtd\",,\"StudyData\", \"Close(\"&$D$12&\") when LocalYear(\"&$D$12&\")=\"&$D$4&\" and localMonth(\"&$D$12&\") =\"&$E$4&\" and LocalDay(\"&$D$12&\")=\"&$F$4&\" and Barix(\"&$D$12&\",reference:=StartOfDay)=\"&A137&\"\", \"Bar\", \"\", \"Close\",\"5\",\"0\",\"All\",,,\"False\",\"T\",\"EveryTick\")","v":4377},-2.96127562642369E-3,{"$f":"RTD(\"cqg.rtd\",,\"StudyData\", \"Close(\"&$D$12&\") when LocalYear(\"&$D$12&\")=\"&$D$5&\" and localMonth(\"&$D$12&\") =\"&$E$5&\" and LocalDay(\"&$D$12&\")=\"&$F$5&\" and Barix(\"&$D$12&\",reference:=StartOfDay)=\"&A137&\"\", \"Bar\", \"\", \"Close\",\"5\",\"0\",\"All\",,,\"False\",\"T\",\"EveryTick\")","v":4415},1.4010105649977032E-2,{"$f":"RTD(\"cqg.rtd\",,\"StudyData\", \"Close(\"&$D$12&\") when LocalYear(\"&$D$12&\")=\"&$D$6&\" and localMonth(\"&$D$12&\") =\"&$E$6&\" and LocalDay(\"&$D$12&\")=\"&$F$6&\" and Barix(\"&$D$12&\",reference:=StartOfDay)=\"&A137&\"\", \"Bar\", \"\", \"Close\",\"5\",\"0\",\"All\",,,\"False\",\"T\",\"EveryTick\")","v":4310.5},-5.4222427318874021E-3,{"$f":"RTD(\"cqg.rtd\",,\"StudyData\", \"Close(\"&$D$12&\") when LocalYear(\"&$D$12&\")=\"&$D$7&\" and localMonth(\"&$D$12&\") =\"&$E$7&\" and LocalDay(\"&$D$12&\")=\"&$F$7&\" and Barix(\"&$D$12&\",reference:=StartOfDay)=\"&A137&\"\", \"Bar\", \"\", \"Close\",\"5\",\"0\",\"All\",,,\"False\",\"T\",\"EveryTick\")","v":4351.25},1.3981939994174191E-2,{"$f":"RTD(\"cqg.rtd\",,\"StudyData\", \"Close(\"&$D$12&\") when LocalYear(\"&$D$12&\")=\"&$D$8&\" and localMonth(\"&$D$12&\") =\"&$E$8&\" and LocalDay(\"&$D$12&\")=\"&$F$8&\" and Barix(\"&$D$12&\",reference:=StartOfDay)=\"&A137&\"\", \"Bar\", \"\", \"Close\",\"5\",\"0\",\"All\",,,\"False\",\"T\",\"EveryTick\")","v":4281.75},-1.4273381294964029E-2,{"$f":"RTD(\"cqg.rtd\",,\"StudyData\", \"Close(\"&$D$12&\") when LocalYear(\"&$D$12&\")=\"&$D$9&\" and localMonth(\"&$D$12&\") =\"&$E$9&\" and LocalDay(\"&$D$12&\")=\"&$F$9&\" and Barix(\"&$D$12&\",reference:=StartOfDay)=\"&A137&\"\", \"Bar\", \"\", \"Close\",\"5\",\"0\",\"All\",,,\"False\",\"T\",\"EveryTick\")","v":4328},7.0385666918736552E-3,{"$f":"RTD(\"cqg.rtd\",,\"StudyData\", \"Close(\"&$D$12&\") when LocalYear(\"&$D$12&\")=\"&$D$10&\" and localMonth(\"&$D$12&\") =\"&$E$10&\" and LocalDay(\"&$D$12&\")=\"&$F$10&\" and Barix(\"&$D$12&\",reference:=StartOfDay)=\"&A137&\"\", \"Bar\", \"\", \"Close\",\"5\",\"0\",\"All\",,,\"False\",\"T\",\"EveryTick\")","v":4316},-7.759066613023737E-3,null,null,null,""]
[233,"12:25:00",null,null,null,null,null,{"$f":"RTD(\"cqg.rtd\",,\"StudyData\", \"Close(\"&$D$12&\") when LocalYear(\"&$D$12&\")=\"&$D$1&\" and localMonth(\"&$D$12&\") =\"&$E$1&\" and LocalDay(\"&$D$12&\")=\"&$F$1&\" and Barix(\"&$D$12&\",reference:=StartOfDay)=\"&A138&\"\", \"Bar\", \"\", \"Close\",\"5\",\"0\",\"All\",,,\"False\",\"T\",\"EveryTick\")","v":""},{"$error":"#N/A"},{"$f":"RTD(\"cqg.rtd\",,\"StudyData\", \"Close(\"&$D$12&\") when LocalYear(\"&$D$12&\")=\"&$D$2&\" and localMonth(\"&$D$12&\") =\"&$E$2&\" and LocalDay(\"&$D$12&\")=\"&$F$2&\" and Barix(\"&$D$12&\",reference:=StartOfDay)=\"&A138&\"\", \"Bar\", \"\", \"Close\",\"5\",\"0\",\"All\",,,\"False\",\"T\",\"EveryTick\")","v":4346.5},-1.0342450011491611E-3,{"$f":"RTD(\"cqg.rtd\",,\"StudyData\", \"Close(\"&$D$12&\") when LocalYear(\"&$D$12&\")=\"&$D$3&\" and localMonth(\"&$D$12&\") =\"&$E$3&\" and LocalDay(\"&$D$12&\")=\"&$F$3&\" and Barix(\"&$D$12&\",reference:=StartOfDay)=\"&A138&\"\", \"Bar\", \"\", \"Close\",\"5\",\"0\",\"All\",,,\"False\",\"T\",\"EveryTick\")","v":4368.75},-3.08060927605682E-3,{"$f":"RTD(\"cqg.rtd\",,\"StudyData\", \"Close(\"&$D$12&\") when LocalYear(\"&$D$12&\")=\"&$D$4&\" and localMonth(\"&$D$12&\") =\"&$E$4&\" and LocalDay(\"&$D$12&\")=\"&$F$4&\" and Barix(\"&$D$12&\",reference:=StartOfDay)=\"&A138&\"\", \"Bar\", \"\", \"Close\",\"5\",\"0\",\"All\",,,\"False\",\"T\",\"EveryTick\")","v":4379},-2.5056947608200456E-3,{"$f":"RTD(\"cqg.rtd\",,\"StudyData\", \"Close(\"&$D$12&\") when LocalYear(\"&$D$12&\")=\"&$D$5&\" and localMonth(\"&$D$12&\") =\"&$E$5&\" and LocalDay(\"&$D$12&\")=\"&$F$5&\" and Barix(\"&$D$12&\",reference:=StartOfDay)=\"&A138&\"\", \"Bar\", \"\", \"Close\",\"5\",\"0\",\"All\",,,\"False\",\"T\",\"EveryTick\")","v":4416.75},1.4412034910427193E-2,{"$f":"RTD(\"cqg.rtd\",,\"StudyData\", \"Close(\"&$D$12&\") when LocalYear(\"&$D$12&\")=\"&$D$6&\" and localMonth(\"&$D$12&\") =\"&$E$6&\" and LocalDay(\"&$D$12&\")=\"&$F$6&\" and Barix(\"&$D$12&\",reference:=StartOfDay)=\"&A138&\"\", \"Bar\", \"\", \"Close\",\"5\",\"0\",\"All\",,,\"False\",\"T\",\"EveryTick\")","v":4317},-3.9224734656206741E-3,{"$f":"RTD(\"cqg.rtd\",,\"StudyData\", \"Close(\"&$D$12&\") when LocalYear(\"&$D$12&\")=\"&$D$7&\" and localMonth(\"&$D$12&\") =\"&$E$7&\" and LocalDay(\"&$D$12&\")=\"&$F$7&\" and Barix(\"&$D$12&\",reference:=StartOfDay)=\"&A138&\"\", \"Bar\", \"\", \"Close\",\"5\",\"0\",\"All\",,,\"False\",\"T\",\"EveryTick\")","v":4350.25},1.3748907660937955E-2,{"$f":"RTD(\"cqg.rtd\",,\"StudyData\", \"Close(\"&$D$12&\") when LocalYear(\"&$D$12&\")=\"&$D$8&\" and localMonth(\"&$D$12&\") =\"&$E$8&\" and LocalDay(\"&$D$12&\")=\"&$F$8&\" and Barix(\"&$D$12&\",reference:=StartOfDay)=\"&A138&\"\", \"Bar\", \"\", \"Close\",\"5\",\"0\",\"All\",,,\"False\",\"T\",\"EveryTick\")","v":4276.25},-1.553956834532374E-2,{"$f":"RTD(\"cqg.rtd\",,\"StudyData\", \"Close(\"&$D$12&\") when LocalYear(\"&$D$12&\")=\"&$D$9&\" and localMonth(\"&$D$12&\") =\"&$E$9&\" and LocalDay(\"&$D$12&\")=\"&$F$9&\" and Barix(\"&$D$12&\",reference:=StartOfDay)=\"&A138&\"\", \"Bar\", \"\", \"Close\",\"5\",\"0\",\"All\",,,\"False\",\"T\",\"EveryTick\")","v":4327},6.8058868012332036E-3,{"$f":"RTD(\"cqg.rtd\",,\"StudyData\", \"Close(\"&$D$12&\") when LocalYear(\"&$D$12&\")=\"&$D$10&\" and localMonth(\"&$D$12&\") =\"&$E$10&\" and LocalDay(\"&$D$12&\")=\"&$F$10&\" and Barix(\"&$D$12&\",reference:=StartOfDay)=\"&A138&\"\", \"Bar\", \"\", \"Close\",\"5\",\"0\",\"All\",,,\"False\",\"T\",\"EveryTick\")","v":4313.75},-8.2763377205586526E-3,null,null,null,""]
[234,"12:30:00",null,null,null,null,null,{"$f":"RTD(\"cqg.rtd\",,\"StudyData\", \"Close(\"&$D$12&\") when LocalYear(\"&$D$12&\")=\"&$D$1&\" and localMonth(\"&$D$12&\") =\"&$E$1&\" and LocalDay(\"&$D$12&\")=\"&$F$1&\" and Barix(\"&$D$12&\",reference:=StartOfDay)=\"&A139&\"\", \"Bar\", \"\", \"Close\",\"5\",\"0\",\"All\",,,\"False\",\"T\",\"EveryTick\")","v":""},{"$error":"#N/A"},{"$f":"RTD(\"cqg.rtd\",,\"StudyData\", \"Close(\"&$D$12&\") when LocalYear(\"&$D$12&\")=\"&$D$2&\" and localMonth(\"&$D$12&\") =\"&$E$2&\" and LocalDay(\"&$D$12&\")=\"&$F$2&\" and Barix(\"&$D$12&\",reference:=StartOfDay)=\"&A139&\"\", \"Bar\", \"\", \"Close\",\"5\",\"0\",\"All\",,,\"False\",\"T\",\"EveryTick\")","v":4349},-4.5966444495518271E-4,{"$f":"RTD(\"cqg.rtd\",,\"StudyData\", \"Close(\"&$D$12&\") when LocalYear(\"&$D$12&\")=\"&$D$3&\" and localMonth(\"&$D$12&\") =\"&$E$3&\" and LocalDay(\"&$D$12&\")=\"&$F$3&\" and Barix(\"&$D$12&\",reference:=StartOfDay)=\"&A139&\"\", \"Bar\", \"\", \"Close\",\"5\",\"0\",\"All\",,,\"False\",\"T\",\"EveryTick\")","v":4368.75},-3.08060927605682E-3,{"$f":"RTD(\"cqg.rtd\",,\"StudyData\", \"Close(\"&$D$12&\") when LocalYear(\"&$D$12&\")=\"&$D$4&\" and localMonth(\"&$D$12&\") =\"&$E$4&\" and LocalDay(\"&$D$12&\")=\"&$F$4&\" and Barix(\"&$D$12&\",reference:=StartOfDay)=\"&A139&\"\", \"Bar\", \"\", \"Close\",\"5\",\"0\",\"All\",,,\"False\",\"T\",\"EveryTick\")","v":4381.75},-1.8792710706150341E-3,{"$f":"RTD(\"cqg.rtd\",,\"StudyData\", \"Close(\"&$D$12&\") when LocalYear(\"&$D$12&\")=\"&$D$5&\" and localMonth(\"&$D$12&\") =\"&$E$5&\" and LocalDay(\"&$D$12&\")=\"&$F$5&\" and Barix(\"&$D$12&\",reference:=StartOfDay)=\"&A139&\"\", \"Bar\", \"\", \"Close\",\"5\",\"0\",\"All\",,,\"False\",\"T\",\"EveryTick\")","v":4415.25},1.4067524115755627E-2,{"$f":"RTD(\"cqg.rtd\",,\"StudyData\", \"Close(\"&$D$12&\") when LocalYear(\"&$D$12&\")=\"&$D$6&\" and localMonth(\"&$D$12&\") =\"&$E$6&\" and LocalDay(\"&$D$12&\")=\"&$F$6&\" and Barix(\"&$D$12&\",reference:=StartOfDay)=\"&A139&\"\", \"Bar\", \"\", \"Close\",\"5\",\"0\",\"All\",,,\"False\",\"T\",\"EveryTick\")","v":4325.5},-1.961236732810337E-3,{"$f":"RTD(\"cqg.rtd\",,\"StudyData\", \"Close(\"&$D$12&\") when LocalYear(\"&$D$12&\")=\"&$D$7&\" and localMonth(\"&$D$12&\") =\"&$E$7&\" and LocalDay(\"&$D$12&\")=\"&$F$7&\" and Barix(\"&$D$12&\",reference:=StartOfDay)=\"&A139&\"\", \"Bar\", \"\", \"Close\",\"5\",\"0\",\"All\",,,\"False\",\"T\",\"EveryTick\")","v":4350.5},1.3807165744247014E-2,{"$f":"RTD(\"cqg.rtd\",,\"StudyData\", \"Close(\"&$D$12&\") when LocalYear(\"&$D$12&\")=\"&$D$8&\" and localMonth(\"&$D$12&\") =\"&$E$8&\" and LocalDay(\"&$D$12&\")=\"&$F$8&\" and Barix(\"&$D$12&\",reference:=StartOfDay)=\"&A139&\"\", \"Bar\", \"\", \"Close\",\"5\",\"0\",\"All\",,,\"False\",\"T\",\"EveryTick\")","v":4281.5},-1.4330935251798561E-2,{"$f":"RTD(\"cqg.rtd\",,\"StudyData\", \"Close(\"&$D$12&\") when LocalYear(\"&$D$12&\")=\"&$D$9&\" and localMonth(\"&$D$12&\") =\"&$E$9&\" and LocalDay(\"&$D$12&\")=\"&$F$9&\" and Barix(\"&$D$12&\",reference:=StartOfDay)=\"&A139&\"\", \"Bar\", \"\", \"Close\",\"5\",\"0\",\"All\",,,\"False\",\"T\",\"EveryTick\")","v":4332.75},8.1437961724157987E-3,{"$f":"RTD(\"cqg.rtd\",,\"StudyData\", \"Close(\"&$D$12&\") when LocalYear(\"&$D$12&\")=\"&$D$10&\" and localMonth(\"&$D$12&\") =\"&$E$10&\" and LocalDay(\"&$D$12&\")=\"&$F$10&\" and Barix(\"&$D$12&\",reference:=StartOfDay)=\"&A139&\"\", \"Bar\", \"\", \"Close\",\"5\",\"0\",\"All\",,,\"False\",\"T\",\"EveryTick\")","v":4311.75},-8.7361342605896883E-3,null,null,null,""]
[235,"12:35:00",null,null,null,null,null,{"$f":"RTD(\"cqg.rtd\",,\"StudyData\", \"Close(\"&$D$12&\") when LocalYear(\"&$D$12&\")=\"&$D$1&\" and localMonth(\"&$D$12&\") =\"&$E$1&\" and LocalDay(\"&$D$12&\")=\"&$F$1&\" and Barix(\"&$D$12&\",reference:=StartOfDay)=\"&A140&\"\", \"Bar\", \"\", \"Close\",\"5\",\"0\",\"All\",,,\"False\",\"T\",\"EveryTick\")","v":""},{"$error":"#N/A"},{"$f":"RTD(\"cqg.rtd\",,\"StudyData\", \"Close(\"&$D$12&\") when LocalYear(\"&$D$12&\")=\"&$D$2&\" and localMonth(\"&$D$12&\") =\"&$E$2&\" and LocalDay(\"&$D$12&\")=\"&$F$2&\" and Barix(\"&$D$12&\",reference:=StartOfDay)=\"&A140&\"\", \"Bar\", \"\", \"Close\",\"5\",\"0\",\"All\",,,\"False\",\"T\",\"EveryTick\")","v":4349},-4.5966444495518271E-4,{"$f":"RTD(\"cqg.rtd\",,\"StudyData\", \"Close(\"&$D$12&\") when LocalYear(\"&$D$12&\")=\"&$D$3&\" and localMonth(\"&$D$12&\") =\"&$E$3&\" and LocalDay(\"&$D$12&\")=\"&$F$3&\" and Barix(\"&$D$12&\",reference:=StartOfDay)=\"&A140&\"\", \"Bar\", \"\", \"Close\",\"5\",\"0\",\"All\",,,\"False\",\"T\",\"EveryTick\")","v":4370.5},-2.6812710365679729E-3,{"$f":"RTD(\"cqg.rtd\",,\"StudyData\", \"Close(\"&$D$12&\") when LocalYear(\"&$D$12&\")=\"&$D$4&\" and localMonth(\"&$D$12&\") =\"&$E$4&\" and LocalDay(\"&$D$12&\")=\"&$F$4&\" and Barix(\"&$D$12&\",reference:=StartOfDay)=\"&A140&\"\", \"Bar\", \"\", \"Close\",\"5\",\"0\",\"All\",,,\"False\",\"T\",\"EveryTick\")","v":4377.75},-2.7904328018223236E-3,{"$f":"RTD(\"cqg.rtd\",,\"StudyData\", \"Close(\"&$D$12&\") when LocalYear(\"&$D$12&\")=\"&$D$5&\" and localMonth(\"&$D$12&\") =\"&$E$5&\" and LocalDay(\"&$D$12&\")=\"&$F$5&\" and Barix(\"&$D$12&\",reference:=StartOfDay)=\"&A140&\"\", \"Bar\", \"\", \"Close\",\"5\",\"0\",\"All\",,,\"False\",\"T\",\"EveryTick\")","v":4414},1.3780431786862656E-2,{"$f":"RTD(\"cqg.rtd\",,\"StudyData\", \"Close(\"&$D$12&\") when LocalYear(\"&$D$12&\")=\"&$D$6&\" and localMonth(\"&$D$12&\") =\"&$E$6&\" and LocalDay(\"&$D$12&\")=\"&$F$6&\" and Barix(\"&$D$12&\",reference:=StartOfDay)=\"&A140&\"\", \"Bar\", \"\", \"Close\",\"5\",\"0\",\"All\",,,\"False\",\"T\",\"EveryTick\")","v":4330.75},-7.4988463313336413E-4,{"$f":"RTD(\"cqg.rtd\",,\"StudyData\", \"Close(\"&$D$12&\") when LocalYear(\"&$D$12&\")=\"&$D$7&\" and localMonth(\"&$D$12&\") =\"&$E$7&\" and LocalDay(\"&$D$12&\")=\"&$F$7&\" and Barix(\"&$D$12&\",reference:=StartOfDay)=\"&A140&\"\", \"Bar\", \"\", \"Close\",\"5\",\"0\",\"All\",,,\"False\",\"T\",\"EveryTick\")","v":4353},1.4389746577337605E-2,{"$f":"RTD(\"cqg.rtd\",,\"StudyData\", \"Close(\"&$D$12&\") when LocalYear(\"&$D$12&\")=\"&$D$8&\" and localMonth(\"&$D$12&\") =\"&$E$8&\" and LocalDay(\"&$D$12&\")=\"&$F$8&\" and Barix(\"&$D$12&\",reference:=StartOfDay)=\"&A140&\"\", \"Bar\", \"\", \"Close\",\"5\",\"0\",\"All\",,,\"False\",\"T\",\"EveryTick\")","v":4282.75},-1.40431654676259E-2,{"$f":"RTD(\"cqg.rtd\",,\"StudyData\", \"Close(\"&$D$12&\") when LocalYear(\"&$D$12&\")=\"&$D$9&\" and localMonth(\"&$D$12&\") =\"&$E$9&\" and LocalDay(\"&$D$12&\")=\"&$F$9&\" and Barix(\"&$D$12&\",reference:=StartOfDay)=\"&A140&\"\", \"Bar\", \"\", \"Close\",\"5\",\"0\",\"All\",,,\"False\",\"T\",\"EveryTick\")","v":4333.5},8.3183060903961378E-3,{"$f":"RTD(\"cqg.rtd\",,\"StudyData\", \"Close(\"&$D$12&\") when LocalYear(\"&$D$12&\")=\"&$D$10&\" and localMonth(\"&$D$12&\") =\"&$E$10&\" and LocalDay(\"&$D$12&\")=\"&$F$10&\" and Barix(\"&$D$12&\",reference:=StartOfDay)=\"&A140&\"\", \"Bar\", \"\", \"Close\",\"5\",\"0\",\"All\",,,\"False\",\"T\",\"EveryTick\")","v":4316},-7.759066613023737E-3,null,null,null,""]
[236,"12:40:00",null,null,null,null,null,{"$f":"RTD(\"cqg.rtd\",,\"StudyData\", \"Close(\"&$D$12&\") when LocalYear(\"&$D$12&\")=\"&$D$1&\" and localMonth(\"&$D$12&\") =\"&$E$1&\" and LocalDay(\"&$D$12&\")=\"&$F$1&\" and Barix(\"&$D$12&\",reference:=StartOfDay)=\"&A141&\"\", \"Bar\", \"\", \"Close\",\"5\",\"0\",\"All\",,,\"False\",\"T\",\"EveryTick\")","v":""},{"$error":"#N/A"},{"$f":"RTD(\"cqg.rtd\",,\"StudyData\", \"Close(\"&$D$12&\") when LocalYear(\"&$D$12&\")=\"&$D$2&\" and localMonth(\"&$D$12&\") =\"&$E$2&\" and LocalDay(\"&$D$12&\")=\"&$F$2&\" and Barix(\"&$D$12&\",reference:=StartOfDay)=\"&A141&\"\", \"Bar\", \"\", \"Close\",\"5\",\"0\",\"All\",,,\"False\",\"T\",\"EveryTick\")","v":4351.5},1.1491611123879568E-4,{"$f":"RTD(\"cqg.rtd\",,\"StudyData\", \"Close(\"&$D$12&\") when LocalYear(\"&$D$12&\")=\"&$D$3&\" and localMonth(\"&$D$12&\") =\"&$E$3&\" and LocalDay(\"&$D$12&\")=\"&$F$3&\" and Barix(\"&$D$12&\",reference:=StartOfDay)=\"&A141&\"\", \"Bar\", \"\", \"Close\",\"5\",\"0\",\"All\",,,\"False\",\"T\",\"EveryTick\")","v":4371.75},-2.3960294369330822E-3,{"$f":"RTD(\"cqg.rtd\",,\"StudyData\", \"Close(\"&$D$12&\") when LocalYear(\"&$D$12&\")=\"&$D$4&\" and localMonth(\"&$D$12&\") =\"&$E$4&\" and LocalDay(\"&$D$12&\")=\"&$F$4&\" and Barix(\"&$D$12&\",reference:=StartOfDay)=\"&A141&\"\", \"Bar\", \"\", \"Close\",\"5\",\"0\",\"All\",,,\"False\",\"T\",\"EveryTick\")","v":4377.75},-2.7904328018223236E-3,{"$f":"RTD(\"cqg.rtd\",,\"StudyData\", \"Close(\"&$D$12&\") when LocalYear(\"&$D$12&\")=\"&$D$5&\" and localMonth(\"&$D$12&\") =\"&$E$5&\" and LocalDay(\"&$D$12&\")=\"&$F$5&\" and Barix(\"&$D$12&\",reference:=StartOfDay)=\"&A141&\"\", \"Bar\", \"\", \"Close\",\"5\",\"0\",\"All\",,,\"False\",\"T\",\"EveryTick\")","v":4414.5},1.3895268718419843E-2,{"$f":"RTD(\"cqg.rtd\",,\"StudyData\", \"Close(\"&$D$12&\") when LocalYear(\"&$D$12&\")=\"&$D$6&\" and localMonth(\"&$D$12&\") =\"&$E$6&\" and LocalDay(\"&$D$12&\")=\"&$F$6&\" and Barix(\"&$D$12&\",reference:=StartOfDay)=\"&A141&\"\", \"Bar\", \"\", \"Close\",\"5\",\"0\",\"All\",,,\"False\",\"T\",\"EveryTick\")","v":4329.25},-1.0959852330410707E-3,{"$f":"RTD(\"cqg.rtd\",,\"StudyData\", \"Close(\"&$D$12&\") when LocalYear(\"&$D$12&\")=\"&$D$7&\" and localMonth(\"&$D$12&\") =\"&$E$7&\" and LocalDay(\"&$D$12&\")=\"&$F$7&\" and Barix(\"&$D$12&\",reference:=StartOfDay)=\"&A141&\"\", \"Bar\", \"\", \"Close\",\"5\",\"0\",\"All\",,,\"False\",\"T\",\"EveryTick\")","v":4356},1.5088843577046315E-2,{"$f":"RTD(\"cqg.rtd\",,\"StudyData\", \"Close(\"&$D$12&\") when LocalYear(\"&$D$12&\")=\"&$D$8&\" and localMonth(\"&$D$12&\") =\"&$E$8&\" and LocalDay(\"&$D$12&\")=\"&$F$8&\" and Barix(\"&$D$12&\",reference:=StartOfDay)=\"&A141&\"\", \"Bar\", \"\", \"Close\",\"5\",\"0\",\"All\",,,\"False\",\"T\",\"EveryTick\")","v":4280.5},-1.456115107913669E-2,{"$f":"RTD(\"cqg.rtd\",,\"StudyData\", \"Close(\"&$D$12&\") when LocalYear(\"&$D$12&\")=\"&$D$9&\" and localMonth(\"&$D$12&\") =\"&$E$9&\" and LocalDay(\"&$D$12&\")=\"&$F$9&\" and Barix(\"&$D$12&\",reference:=StartOfDay)=\"&A141&\"\", \"Bar\", \"\", \"Close\",\"5\",\"0\",\"All\",,,\"False\",\"T\",\"EveryTick\")","v":4335.75},8.8418358443371533E-3,{"$f":"RTD(\"cqg.rtd\",,\"StudyData\", \"Close(\"&$D$12&\") when LocalYear(\"&$D$12&\")=\"&$D$10&\" and localMonth(\"&$D$12&\") =\"&$E$10&\" and LocalDay(\"&$D$12&\")=\"&$F$10&\" and Barix(\"&$D$12&\",reference:=StartOfDay)=\"&A141&\"\", \"Bar\", \"\", \"Close\",\"5\",\"0\",\"All\",,,\"False\",\"T\",\"EveryTick\")","v":4315.5},-7.874015748031496E-3,null,null,null,""]
[{"$f":"A141+1","v":237},"12:45:00",null,null,null,null,null,{"$f":"RTD(\"cqg.rtd\",,\"StudyData\", \"Close(\"&$D$12&\") when LocalYear(\"&$D$12&\")=\"&$D$1&\" and localMonth(\"&$D$12&\") =\"&$E$1&\" and LocalDay(\"&$D$12&\")=\"&$F$1&\" and Barix(\"&$D$12&\",reference:=StartOfDay)=\"&A142&\"\", \"Bar\", \"\", \"Close\",\"5\",\"0\",\"All\",,,\"False\",\"T\",\"EveryTick\")","v":""},{"$error":"#N/A"},{"$f":"RTD(\"cqg.rtd\",,\"StudyData\", \"Close(\"&$D$12&\") when LocalYear(\"&$D$12&\")=\"&$D$2&\" and localMonth(\"&$D$12&\") =\"&$E$2&\" and LocalDay(\"&$D$12&\")=\"&$F$2&\" and Barix(\"&$D$12&\",reference:=StartOfDay)=\"&A142&\"\", \"Bar\", \"\", \"Close\",\"5\",\"0\",\"All\",,,\"False\",\"T\",\"EveryTick\")","v":4350.5},-1.1491611123879568E-4,{"$f":"RTD(\"cqg.rtd\",,\"StudyData\", \"Close(\"&$D$12&\") when LocalYear(\"&$D$12&\")=\"&$D$3&\" and localMonth(\"&$D$12&\") =\"&$E$3&\" and LocalDay(\"&$D$12&\")=\"&$F$3&\" and Barix(\"&$D$12&\",reference:=StartOfDay)=\"&A142&\"\", \"Bar\", \"\", \"Close\",\"5\",\"0\",\"All\",,,\"False\",\"T\",\"EveryTick\")","v":4366.75},-3.5369958354726453E-3,{"$f":"RTD(\"cqg.rtd\",,\"StudyData\", \"Close(\"&$D$12&\") when LocalYear(\"&$D$12&\")=\"&$D$4&\" and localMonth(\"&$D$12&\") =\"&$E$4&\" and LocalDay(\"&$D$12&\")=\"&$F$4&\" and Barix(\"&$D$12&\",reference:=StartOfDay)=\"&A142&\"\", \"Bar\", \"\", \"Close\",\"5\",\"0\",\"All\",,,\"False\",\"T\",\"EveryTick\")","v":4381.25},-1.9931662870159455E-3,{"$f":"RTD(\"cqg.rtd\",,\"StudyData\", \"Close(\"&$D$12&\") when LocalYear(\"&$D$12&\")=\"&$D$5&\" and localMonth(\"&$D$12&\") =\"&$E$5&\" and LocalDay(\"&$D$12&\")=\"&$F$5&\" and Barix(\"&$D$12&\",reference:=StartOfDay)=\"&A142&\"\", \"Bar\", \"\", \"Close\",\"5\",\"0\",\"All\",,,\"False\",\"T\",\"EveryTick\")","v":4411.75},1.3263665594855305E-2,{"$f":"RTD(\"cqg.rtd\",,\"StudyData\", \"Close(\"&$D$12&\") when LocalYear(\"&$D$12&\")=\"&$D$6&\" and localMonth(\"&$D$12&\") =\"&$E$6&\" and LocalDay(\"&$D$12&\")=\"&$F$6&\" and Barix(\"&$D$12&\",reference:=StartOfDay)=\"&A142&\"\", \"Bar\", \"\", \"Close\",\"5\",\"0\",\"All\",,,\"False\",\"T\",\"EveryTick\")","v":4331},-6.9220119981541306E-4,{"$f":"RTD(\"cqg.rtd\",,\"StudyData\", \"Close(\"&$D$12&\") when LocalYear(\"&$D$12&\")=\"&$D$7&\" and localMonth(\"&$D$12&\") =\"&$E$7&\" and LocalDay(\"&$D$12&\")=\"&$F$7&\" and Barix(\"&$D$12&\",reference:=StartOfDay)=\"&A142&\"\", \"Bar\", \"\", \"Close\",\"5\",\"0\",\"All\",,,\"False\",\"T\",\"EveryTick\")","v":4355},1.4855811243810078E-2,{"$f":"RTD(\"cqg.rtd\",,\"StudyData\", \"Close(\"&$D$12&\") when LocalYear(\"&$D$12&\")=\"&$D$8&\" and localMonth(\"&$D$12&\") =\"&$E$8&\" and LocalDay(\"&$D$12&\")=\"&$F$8&\" and Barix(\"&$D$12&\",reference:=StartOfDay)=\"&A142&\"\", \"Bar\", \"\", \"Close\",\"5\",\"0\",\"All\",,,\"False\",\"T\",\"EveryTick\")","v":4283.25},-1.3928057553956834E-2,{"$f":"RTD(\"cqg.rtd\",,\"StudyData\", \"Close(\"&$D$12&\") when LocalYear(\"&$D$12&\")=\"&$D$9&\" and localMonth(\"&$D$12&\") =\"&$E$9&\" and LocalDay(\"&$D$12&\")=\"&$F$9&\" and Barix(\"&$D$12&\",reference:=StartOfDay)=\"&A142&\"\", \"Bar\", \"\", \"Close\",\"5\",\"0\",\"All\",,,\"False\",\"T\",\"EveryTick\")","v":4343.75},1.0703274969460764E-2,{"$f":"RTD(\"cqg.rtd\",,\"StudyData\", \"Close(\"&$D$12&\") when LocalYear(\"&$D$12&\")=\"&$D$10&\" and localMonth(\"&$D$12&\") =\"&$E$10&\" and LocalDay(\"&$D$12&\")=\"&$F$10&\" and Barix(\"&$D$12&\",reference:=StartOfDay)=\"&A142&\"\", \"Bar\", \"\", \"Close\",\"5\",\"0\",\"All\",,,\"False\",\"T\",\"EveryTick\")","v":4316.75},-7.5866429105120982E-3,null,null,null,""]
[238,"12:50:00",null,null,null,null,null,{"$f":"RTD(\"cqg.rtd\",,\"StudyData\", \"Close(\"&$D$12&\") when LocalYear(\"&$D$12&\")=\"&$D$1&\" and localMonth(\"&$D$12&\") =\"&$E$1&\" and LocalDay(\"&$D$12&\")=\"&$F$1&\" and Barix(\"&$D$12&\",reference:=StartOfDay)=\"&A143&\"\", \"Bar\", \"\", \"Close\",\"5\",\"0\",\"All\",,,\"False\",\"T\",\"EveryTick\")","v":""},{"$error":"#N/A"},{"$f":"RTD(\"cqg.rtd\",,\"StudyData\", \"Close(\"&$D$12&\") when LocalYear(\"&$D$12&\")=\"&$D$2&\" and localMonth(\"&$D$12&\") =\"&$E$2&\" and LocalDay(\"&$D$12&\")=\"&$F$2&\" and Barix(\"&$D$12&\",reference:=StartOfDay)=\"&A143&\"\", \"Bar\", \"\", \"Close\",\"5\",\"0\",\"All\",,,\"False\",\"T\",\"EveryTick\")","v":4345.25},-1.3215352792461503E-3,{"$f":"RTD(\"cqg.rtd\",,\"StudyData\", \"Close(\"&$D$12&\") when LocalYear(\"&$D$12&\")=\"&$D$3&\" and localMonth(\"&$D$12&\") =\"&$E$3&\" and LocalDay(\"&$D$12&\")=\"&$F$3&\" and Barix(\"&$D$12&\",reference:=StartOfDay)=\"&A143&\"\", \"Bar\", \"\", \"Close\",\"5\",\"0\",\"All\",,,\"False\",\"T\",\"EveryTick\")","v":4369.5},-2.9094643162758858E-3,{"$f":"RTD(\"cqg.rtd\",,\"StudyData\", \"Close(\"&$D$12&\") when LocalYear(\"&$D$12&\")=\"&$D$4&\" and localMonth(\"&$D$12&\") =\"&$E$4&\" and LocalDay(\"&$D$12&\")=\"&$F$4&\" and Barix(\"&$D$12&\",reference:=StartOfDay)=\"&A143&\"\", \"Bar\", \"\", \"Close\",\"5\",\"0\",\"All\",,,\"False\",\"T\",\"EveryTick\")","v":4381},-2.0501138952164011E-3,{"$f":"RTD(\"cqg.rtd\",,\"StudyData\", \"Close(\"&$D$12&\") when LocalYear(\"&$D$12&\")=\"&$D$5&\" and localMonth(\"&$D$12&\") =\"&$E$5&\" and LocalDay(\"&$D$12&\")=\"&$F$5&\" and Barix(\"&$D$12&\",reference:=StartOfDay)=\"&A143&\"\", \"Bar\", \"\", \"Close\",\"5\",\"0\",\"All\",,,\"False\",\"T\",\"EveryTick\")","v":4412},1.3321084060633899E-2,{"$f":"RTD(\"cqg.rtd\",,\"StudyData\", \"Close(\"&$D$12&\") when LocalYear(\"&$D$12&\")=\"&$D$6&\" and localMonth(\"&$D$12&\") =\"&$E$6&\" and LocalDay(\"&$D$12&\")=\"&$F$6&\" and Barix(\"&$D$12&\",reference:=StartOfDay)=\"&A143&\"\", \"Bar\", \"\", \"Close\",\"5\",\"0\",\"All\",,,\"False\",\"T\",\"EveryTick\")","v":4322.25},-2.7111213659437011E-3,{"$f":"RTD(\"cqg.rtd\",,\"StudyData\", \"Close(\"&$D$12&\") when LocalYear(\"&$D$12&\")=\"&$D$7&\" and localMonth(\"&$D$12&\") =\"&$E$7&\" and LocalDay(\"&$D$12&\")=\"&$F$7&\" and Barix(\"&$D$12&\",reference:=StartOfDay)=\"&A143&\"\", \"Bar\", \"\", \"Close\",\"5\",\"0\",\"All\",,,\"False\",\"T\",\"EveryTick\")","v":4353},1.4389746577337605E-2,{"$f":"RTD(\"cqg.rtd\",,\"StudyData\", \"Close(\"&$D$12&\") when LocalYear(\"&$D$12&\")=\"&$D$8&\" and localMonth(\"&$D$12&\") =\"&$E$8&\" and LocalDay(\"&$D$12&\")=\"&$F$8&\" and Barix(\"&$D$12&\",reference:=StartOfDay)=\"&A143&\"\", \"Bar\", \"\", \"Close\",\"5\",\"0\",\"All\",,,\"False\",\"T\",\"EveryTick\")","v":4280},-1.4676258992805755E-2,{"$f":"RTD(\"cqg.rtd\",,\"StudyData\", \"Close(\"&$D$12&\") when LocalYear(\"&$D$12&\")=\"&$D$9&\" and localMonth(\"&$D$12&\") =\"&$E$9&\" and LocalDay(\"&$D$12&\")=\"&$F$9&\" and Barix(\"&$D$12&\",reference:=StartOfDay)=\"&A143&\"\", \"Bar\", \"\", \"Close\",\"5\",\"0\",\"All\",,,\"False\",\"T\",\"EveryTick\")","v":4342.75},1.0470595078820312E-2,{"$f":"RTD(\"cqg.rtd\",,\"StudyData\", \"Close(\"&$D$12&\") when LocalYear(\"&$D$12&\")=\"&$D$10&\" and localMonth(\"&$D$12&\") =\"&$E$10&\" and LocalDay(\"&$D$12&\")=\"&$F$10&\" and Barix(\"&$D$12&\",reference:=StartOfDay)=\"&A143&\"\", \"Bar\", \"\", \"Close\",\"5\",\"0\",\"All\",,,\"False\",\"T\",\"EveryTick\")","v":4322.75},-6.2072532904189895E-3,null,null,null,""]
[239,"12:55:00",null,null,null,null,null,{"$f":"RTD(\"cqg.rtd\",,\"StudyData\", \"Close(\"&$D$12&\") when LocalYear(\"&$D$12&\")=\"&$D$1&\" and localMonth(\"&$D$12&\") =\"&$E$1&\" and LocalDay(\"&$D$12&\")=\"&$F$1&\" and Barix(\"&$D$12&\",reference:=StartOfDay)=\"&A144&\"\", \"Bar\", \"\", \"Close\",\"5\",\"0\",\"All\",,,\"False\",\"T\",\"EveryTick\")","v":""},{"$error":"#N/A"},{"$f":"RTD(\"cqg.rtd\",,\"StudyData\", \"Close(\"&$D$12&\") when LocalYear(\"&$D$12&\")=\"&$D$2&\" and localMonth(\"&$D$12&\") =\"&$E$2&\" and LocalDay(\"&$D$12&\")=\"&$F$2&\" and Barix(\"&$D$12&\",reference:=StartOfDay)=\"&A144&\"\", \"Bar\", \"\", \"Close\",\"5\",\"0\",\"All\",,,\"False\",\"T\",\"EveryTick\")","v":4346},-1.1491611123879567E-3,{"$f":"RTD(\"cqg.rtd\",,\"StudyData\", \"Close(\"&$D$12&\") when LocalYear(\"&$D$12&\")=\"&$D$3&\" and localMonth(\"&$D$12&\") =\"&$E$3&\" and LocalDay(\"&$D$12&\")=\"&$F$3&\" and Barix(\"&$D$12&\",reference:=StartOfDay)=\"&A144&\"\", \"Bar\", \"\", \"Close\",\"5\",\"0\",\"All\",,,\"False\",\"T\",\"EveryTick\")","v":4369},-3.0235609561298422E-3,{"$f":"RTD(\"cqg.rtd\",,\"StudyData\", \"Close(\"&$D$12&\") when LocalYear(\"&$D$12&\")=\"&$D$4&\" and localMonth(\"&$D$12&\") =\"&$E$4&\" and LocalDay(\"&$D$12&\")=\"&$F$4&\" and Barix(\"&$D$12&\",reference:=StartOfDay)=\"&A144&\"\", \"Bar\", \"\", \"Close\",\"5\",\"0\",\"All\",,,\"False\",\"T\",\"EveryTick\")","v":4384.75},-1.1958997722095672E-3,{"$f":"RTD(\"cqg.rtd\",,\"StudyData\", \"Close(\"&$D$12&\") when LocalYear(\"&$D$12&\")=\"&$D$5&\" and localMonth(\"&$D$12&\") =\"&$E$5&\" and LocalDay(\"&$D$12&\")=\"&$F$5&\" and Barix(\"&$D$12&\",reference:=StartOfDay)=\"&A144&\"\", \"Bar\", \"\", \"Close\",\"5\",\"0\",\"All\",,,\"False\",\"T\",\"EveryTick\")","v":4410.5},1.2976573265962334E-2,{"$f":"RTD(\"cqg.rtd\",,\"StudyData\", \"Close(\"&$D$12&\") when LocalYear(\"&$D$12&\")=\"&$D$6&\" and localMonth(\"&$D$12&\") =\"&$E$6&\" and LocalDay(\"&$D$12&\")=\"&$F$6&\" and Barix(\"&$D$12&\",reference:=StartOfDay)=\"&A144&\"\", \"Bar\", \"\", \"Close\",\"5\",\"0\",\"All\",,,\"False\",\"T\",\"EveryTick\")","v":4329.75},-9.8061836640516852E-4,{"$f":"RTD(\"cqg.rtd\",,\"StudyData\", \"Close(\"&$D$12&\") when LocalYear(\"&$D$12&\")=\"&$D$7&\" and localMonth(\"&$D$12&\") =\"&$E$7&\" and LocalDay(\"&$D$12&\")=\"&$F$7&\" and Barix(\"&$D$12&\",reference:=StartOfDay)=\"&A144&\"\", \"Bar\", \"\", \"Close\",\"5\",\"0\",\"All\",,,\"False\",\"T\",\"EveryTick\")","v":4355},1.4855811243810078E-2,{"$f":"RTD(\"cqg.rtd\",,\"StudyData\", \"Close(\"&$D$12&\") when LocalYear(\"&$D$12&\")=\"&$D$8&\" and localMonth(\"&$D$12&\") =\"&$E$8&\" and LocalDay(\"&$D$12&\")=\"&$F$8&\" and Barix(\"&$D$12&\",reference:=StartOfDay)=\"&A144&\"\", \"Bar\", \"\", \"Close\",\"5\",\"0\",\"All\",,,\"False\",\"T\",\"EveryTick\")","v":4277.5},-1.5251798561151079E-2,{"$f":"RTD(\"cqg.rtd\",,\"StudyData\", \"Close(\"&$D$12&\") when LocalYear(\"&$D$12&\")=\"&$D$9&\" and localMonth(\"&$D$12&\") =\"&$E$9&\" and LocalDay(\"&$D$12&\")=\"&$F$9&\" and Barix(\"&$D$12&\",reference:=StartOfDay)=\"&A144&\"\", \"Bar\", \"\", \"Close\",\"5\",\"0\",\"All\",,,\"False\",\"T\",\"EveryTick\")","v":4338.25},9.4235355709382813E-3,{"$f":"RTD(\"cqg.rtd\",,\"StudyData\", \"Close(\"&$D$12&\") when LocalYear(\"&$D$12&\")=\"&$D$10&\" and localMonth(\"&$D$12&\") =\"&$E$10&\" and LocalDay(\"&$D$12&\")=\"&$F$10&\" and Barix(\"&$D$12&\",reference:=StartOfDay)=\"&A144&\"\", \"Bar\", \"\", \"Close\",\"5\",\"0\",\"All\",,,\"False\",\"T\",\"EveryTick\")","v":4323.5},-6.0348295879073506E-3,null,null,null,""]
[240,"13:00:00",null,null,null,null,null,{"$f":"RTD(\"cqg.rtd\",,\"StudyData\", \"Close(\"&$D$12&\") when LocalYear(\"&$D$12&\")=\"&$D$1&\" and localMonth(\"&$D$12&\") =\"&$E$1&\" and LocalDay(\"&$D$12&\")=\"&$F$1&\" and Barix(\"&$D$12&\",reference:=StartOfDay)=\"&A145&\"\", \"Bar\", \"\", \"Close\",\"5\",\"0\",\"All\",,,\"False\",\"T\",\"EveryTick\")","v":""},{"$error":"#N/A"},{"$f":"RTD(\"cqg.rtd\",,\"StudyData\", \"Close(\"&$D$12&\") when LocalYear(\"&$D$12&\")=\"&$D$2&\" and localMonth(\"&$D$12&\") =\"&$E$2&\" and LocalDay(\"&$D$12&\")=\"&$F$2&\" and Barix(\"&$D$12&\",reference:=StartOfDay)=\"&A145&\"\", \"Bar\", \"\", \"Close\",\"5\",\"0\",\"All\",,,\"False\",\"T\",\"EveryTick\")","v":4348.75},-5.1712250057458055E-4,{"$f":"RTD(\"cqg.rtd\",,\"StudyData\", \"Close(\"&$D$12&\") when LocalYear(\"&$D$12&\")=\"&$D$3&\" and localMonth(\"&$D$12&\") =\"&$E$3&\" and LocalDay(\"&$D$12&\")=\"&$F$3&\" and Barix(\"&$D$12&\",reference:=StartOfDay)=\"&A145&\"\", \"Bar\", \"\", \"Close\",\"5\",\"0\",\"All\",,,\"False\",\"T\",\"EveryTick\")","v":4370.25},-2.7383193564949511E-3,{"$f":"RTD(\"cqg.rtd\",,\"StudyData\", \"Close(\"&$D$12&\") when LocalYear(\"&$D$12&\")=\"&$D$4&\" and localMonth(\"&$D$12&\") =\"&$E$4&\" and LocalDay(\"&$D$12&\")=\"&$F$4&\" and Barix(\"&$D$12&\",reference:=StartOfDay)=\"&A145&\"\", \"Bar\", \"\", \"Close\",\"5\",\"0\",\"All\",,,\"False\",\"T\",\"EveryTick\")","v":4387.5},-5.6947608200455578E-4,{"$f":"RTD(\"cqg.rtd\",,\"StudyData\", \"Close(\"&$D$12&\") when LocalYear(\"&$D$12&\")=\"&$D$5&\" and localMonth(\"&$D$12&\") =\"&$E$5&\" and LocalDay(\"&$D$12&\")=\"&$F$5&\" and Barix(\"&$D$12&\",reference:=StartOfDay)=\"&A145&\"\", \"Bar\", \"\", \"Close\",\"5\",\"0\",\"All\",,,\"False\",\"T\",\"EveryTick\")","v":4405.5},1.1828203950390446E-2,{"$f":"RTD(\"cqg.rtd\",,\"StudyData\", \"Close(\"&$D$12&\") when LocalYear(\"&$D$12&\")=\"&$D$6&\" and localMonth(\"&$D$12&\") =\"&$E$6&\" and LocalDay(\"&$D$12&\")=\"&$F$6&\" and Barix(\"&$D$12&\",reference:=StartOfDay)=\"&A145&\"\", \"Bar\", \"\", \"Close\",\"5\",\"0\",\"All\",,,\"False\",\"T\",\"EveryTick\")","v":4333.75},-5.7683433317951084E-5,{"$f":"RTD(\"cqg.rtd\",,\"StudyData\", \"Close(\"&$D$12&\") when LocalYear(\"&$D$12&\")=\"&$D$7&\" and localMonth(\"&$D$12&\") =\"&$E$7&\" and LocalDay(\"&$D$12&\")=\"&$F$7&\" and Barix(\"&$D$12&\",reference:=StartOfDay)=\"&A145&\"\", \"Bar\", \"\", \"Close\",\"5\",\"0\",\"All\",,,\"False\",\"T\",\"EveryTick\")","v":4356.5},1.5205359743664434E-2,{"$f":"RTD(\"cqg.rtd\",,\"StudyData\", \"Close(\"&$D$12&\") when LocalYear(\"&$D$12&\")=\"&$D$8&\" and localMonth(\"&$D$12&\") =\"&$E$8&\" and LocalDay(\"&$D$12&\")=\"&$F$8&\" and Barix(\"&$D$12&\",reference:=StartOfDay)=\"&A145&\"\", \"Bar\", \"\", \"Close\",\"5\",\"0\",\"All\",,,\"False\",\"T\",\"EveryTick\")","v":4282.5},-1.4100719424460431E-2,{"$f":"RTD(\"cqg.rtd\",,\"StudyData\", \"Close(\"&$D$12&\") when LocalYear(\"&$D$12&\")=\"&$D$9&\" and localMonth(\"&$D$12&\") =\"&$E$9&\" and LocalDay(\"&$D$12&\")=\"&$F$9&\" and Barix(\"&$D$12&\",reference:=StartOfDay)=\"&A145&\"\", \"Bar\", \"\", \"Close\",\"5\",\"0\",\"All\",,,\"False\",\"T\",\"EveryTick\")","v":4341.75},1.0237915188179861E-2,{"$f":"RTD(\"cqg.rtd\",,\"StudyData\", \"Close(\"&$D$12&\") when LocalYear(\"&$D$12&\")=\"&$D$10&\" and localMonth(\"&$D$12&\") =\"&$E$10&\" and LocalDay(\"&$D$12&\")=\"&$F$10&\" and Barix(\"&$D$12&\",reference:=StartOfDay)=\"&A145&\"\", \"Bar\", \"\", \"Close\",\"5\",\"0\",\"All\",,,\"False\",\"T\",\"EveryTick\")","v":4328.25},-4.9428128053336396E-3,null,null,null,""]
[241,"13:05:00",null,null,null,null,null,{"$f":"RTD(\"cqg.rtd\",,\"StudyData\", \"Close(\"&$D$12&\") when LocalYear(\"&$D$12&\")=\"&$D$1&\" and localMonth(\"&$D$12&\") =\"&$E$1&\" and LocalDay(\"&$D$12&\")=\"&$F$1&\" and Barix(\"&$D$12&\",reference:=StartOfDay)=\"&A146&\"\", \"Bar\", \"\", \"Close\",\"5\",\"0\",\"All\",,,\"False\",\"T\",\"EveryTick\")","v":""},{"$error":"#N/A"},{"$f":"RTD(\"cqg.rtd\",,\"StudyData\", \"Close(\"&$D$12&\") when LocalYear(\"&$D$12&\")=\"&$D$2&\" and localMonth(\"&$D$12&\") =\"&$E$2&\" and LocalDay(\"&$D$12&\")=\"&$F$2&\" and Barix(\"&$D$12&\",reference:=StartOfDay)=\"&A146&\"\", \"Bar\", \"\", \"Close\",\"5\",\"0\",\"All\",,,\"False\",\"T\",\"EveryTick\")","v":4349},-4.5966444495518271E-4,{"$f":"RTD(\"cqg.rtd\",,\"StudyData\", \"Close(\"&$D$12&\") when LocalYear(\"&$D$12&\")=\"&$D$3&\" and localMonth(\"&$D$12&\") =\"&$E$3&\" and LocalDay(\"&$D$12&\")=\"&$F$3&\" and Barix(\"&$D$12&\",reference:=StartOfDay)=\"&A146&\"\", \"Bar\", \"\", \"Close\",\"5\",\"0\",\"All\",,,\"False\",\"T\",\"EveryTick\")","v":4373},-2.1107878372981915E-3,{"$f":"RTD(\"cqg.rtd\",,\"StudyData\", \"Close(\"&$D$12&\") when LocalYear(\"&$D$12&\")=\"&$D$4&\" and localMonth(\"&$D$12&\") =\"&$E$4&\" and LocalDay(\"&$D$12&\")=\"&$F$4&\" and Barix(\"&$D$12&\",reference:=StartOfDay)=\"&A146&\"\", \"Bar\", \"\", \"Close\",\"5\",\"0\",\"All\",,,\"False\",\"T\",\"EveryTick\")","v":4388},-4.5558086560364467E-4,{"$f":"RTD(\"cqg.rtd\",,\"StudyData\", \"Close(\"&$D$12&\") when LocalYear(\"&$D$12&\")=\"&$D$5&\" and localMonth(\"&$D$12&\") =\"&$E$5&\" and LocalDay(\"&$D$12&\")=\"&$F$5&\" and Barix(\"&$D$12&\",reference:=StartOfDay)=\"&A146&\"\", \"Bar\", \"\", \"Close\",\"5\",\"0\",\"All\",,,\"False\",\"T\",\"EveryTick\")","v":4406.5},1.2057877813504822E-2,{"$f":"RTD(\"cqg.rtd\",,\"StudyData\", \"Close(\"&$D$12&\") when LocalYear(\"&$D$12&\")=\"&$D$6&\" and localMonth(\"&$D$12&\") =\"&$E$6&\" and LocalDay(\"&$D$12&\")=\"&$F$6&\" and Barix(\"&$D$12&\",reference:=StartOfDay)=\"&A146&\"\", \"Bar\", \"\", \"Close\",\"5\",\"0\",\"All\",,,\"False\",\"T\",\"EveryTick\")","v":4337},6.9220119981541306E-4,{"$f":"RTD(\"cqg.rtd\",,\"StudyData\", \"Close(\"&$D$12&\") when LocalYear(\"&$D$12&\")=\"&$D$7&\" and localMonth(\"&$D$12&\") =\"&$E$7&\" and LocalDay(\"&$D$12&\")=\"&$F$7&\" and Barix(\"&$D$12&\",reference:=StartOfDay)=\"&A146&\"\", \"Bar\", \"\", \"Close\",\"5\",\"0\",\"All\",,,\"False\",\"T\",\"EveryTick\")","v":4354.5},1.4739295077191961E-2,{"$f":"RTD(\"cqg.rtd\",,\"StudyData\", \"Close(\"&$D$12&\") when LocalYear(\"&$D$12&\")=\"&$D$8&\" and localMonth(\"&$D$12&\") =\"&$E$8&\" and LocalDay(\"&$D$12&\")=\"&$F$8&\" and Barix(\"&$D$12&\",reference:=StartOfDay)=\"&A146&\"\", \"Bar\", \"\", \"Close\",\"5\",\"0\",\"All\",,,\"False\",\"T\",\"EveryTick\")","v":4284.5},-1.3640287769784173E-2,{"$f":"RTD(\"cqg.rtd\",,\"StudyData\", \"Close(\"&$D$12&\") when LocalYear(\"&$D$12&\")=\"&$D$9&\" and localMonth(\"&$D$12&\") =\"&$E$9&\" and LocalDay(\"&$D$12&\")=\"&$F$9&\" and Barix(\"&$D$12&\",reference:=StartOfDay)=\"&A146&\"\", \"Bar\", \"\", \"Close\",\"5\",\"0\",\"All\",,,\"False\",\"T\",\"EveryTick\")","v":4343},1.0528765051480427E-2,{"$f":"RTD(\"cqg.rtd\",,\"StudyData\", \"Close(\"&$D$12&\") when LocalYear(\"&$D$12&\")=\"&$D$10&\" and localMonth(\"&$D$12&\") =\"&$E$10&\" and LocalDay(\"&$D$12&\")=\"&$F$10&\" and Barix(\"&$D$12&\",reference:=StartOfDay)=\"&A146&\"\", \"Bar\", \"\", \"Close\",\"5\",\"0\",\"All\",,,\"False\",\"T\",\"EveryTick\")","v":4335.75},-3.2185757802172541E-3,null,null,null,""]
[242,"13:10:00",null,null,null,null,null,{"$f":"RTD(\"cqg.rtd\",,\"StudyData\", \"Close(\"&$D$12&\") when LocalYear(\"&$D$12&\")=\"&$D$1&\" and localMonth(\"&$D$12&\") =\"&$E$1&\" and LocalDay(\"&$D$12&\")=\"&$F$1&\" and Barix(\"&$D$12&\",reference:=StartOfDay)=\"&A147&\"\", \"Bar\", \"\", \"Close\",\"5\",\"0\",\"All\",,,\"False\",\"T\",\"EveryTick\")","v":""},{"$error":"#N/A"},{"$f":"RTD(\"cqg.rtd\",,\"StudyData\", \"Close(\"&$D$12&\") when LocalYear(\"&$D$12&\")=\"&$D$2&\" and localMonth(\"&$D$12&\") =\"&$E$2&\" and LocalDay(\"&$D$12&\")=\"&$F$2&\" and Barix(\"&$D$12&\",reference:=StartOfDay)=\"&A147&\"\", \"Bar\", \"\", \"Close\",\"5\",\"0\",\"All\",,,\"False\",\"T\",\"EveryTick\")","v":4353},4.5966444495518271E-4,{"$f":"RTD(\"cqg.rtd\",,\"StudyData\", \"Close(\"&$D$12&\") when LocalYear(\"&$D$12&\")=\"&$D$3&\" and localMonth(\"&$D$12&\") =\"&$E$3&\" and LocalDay(\"&$D$12&\")=\"&$F$3&\" and Barix(\"&$D$12&\",reference:=StartOfDay)=\"&A147&\"\", \"Bar\", \"\", \"Close\",\"5\",\"0\",\"All\",,,\"False\",\"T\",\"EveryTick\")","v":4375},-1.6544012778823664E-3,{"$f":"RTD(\"cqg.rtd\",,\"StudyData\", \"Close(\"&$D$12&\") when LocalYear(\"&$D$12&\")=\"&$D$4&\" and localMonth(\"&$D$12&\") =\"&$E$4&\" and LocalDay(\"&$D$12&\")=\"&$F$4&\" and Barix(\"&$D$12&\",reference:=StartOfDay)=\"&A147&\"\", \"Bar\", \"\", \"Close\",\"5\",\"0\",\"All\",,,\"False\",\"T\",\"EveryTick\")","v":4388},-4.5558086560364467E-4,{"$f":"RTD(\"cqg.rtd\",,\"StudyData\", \"Close(\"&$D$12&\") when LocalYear(\"&$D$12&\")=\"&$D$5&\" and localMonth(\"&$D$12&\") =\"&$E$5&\" and LocalDay(\"&$D$12&\")=\"&$F$5&\" and Barix(\"&$D$12&\",reference:=StartOfDay)=\"&A147&\"\", \"Bar\", \"\", \"Close\",\"5\",\"0\",\"All\",,,\"False\",\"T\",\"EveryTick\")","v":4407.5},1.2287551676619201E-2,{"$f":"RTD(\"cqg.rtd\",,\"StudyData\", \"Close(\"&$D$12&\") when LocalYear(\"&$D$12&\")=\"&$D$6&\" and localMonth(\"&$D$12&\") =\"&$E$6&\" and LocalDay(\"&$D$12&\")=\"&$F$6&\" and Barix(\"&$D$12&\",reference:=StartOfDay)=\"&A147&\"\", \"Bar\", \"\", \"Close\",\"5\",\"0\",\"All\",,,\"False\",\"T\",\"EveryTick\")","v":4343},2.076603599446239E-3,{"$f":"RTD(\"cqg.rtd\",,\"StudyData\", \"Close(\"&$D$12&\") when LocalYear(\"&$D$12&\")=\"&$D$7&\" and localMonth(\"&$D$12&\") =\"&$E$7&\" and LocalDay(\"&$D$12&\")=\"&$F$7&\" and Barix(\"&$D$12&\",reference:=StartOfDay)=\"&A147&\"\", \"Bar\", \"\", \"Close\",\"5\",\"0\",\"All\",,,\"False\",\"T\",\"EveryTick\")","v":4353.5},1.4506262743955724E-2,{"$f":"RTD(\"cqg.rtd\",,\"StudyData\", \"Close(\"&$D$12&\") when LocalYear(\"&$D$12&\")=\"&$D$8&\" and localMonth(\"&$D$12&\") =\"&$E$8&\" and LocalDay(\"&$D$12&\")=\"&$F$8&\" and Barix(\"&$D$12&\",reference:=StartOfDay)=\"&A147&\"\", \"Bar\", \"\", \"Close\",\"5\",\"0\",\"All\",,,\"False\",\"T\",\"EveryTick\")","v":4278.5},-1.502158273381295E-2,{"$f":"RTD(\"cqg.rtd\",,\"StudyData\", \"Close(\"&$D$12&\") when LocalYear(\"&$D$12&\")=\"&$D$9&\" and localMonth(\"&$D$12&\") =\"&$E$9&\" and LocalDay(\"&$D$12&\")=\"&$F$9&\" and Barix(\"&$D$12&\",reference:=StartOfDay)=\"&A147&\"\", \"Bar\", \"\", \"Close\",\"5\",\"0\",\"All\",,,\"False\",\"T\",\"EveryTick\")","v":4342.5},1.04124251061602E-2,{"$f":"RTD(\"cqg.rtd\",,\"StudyData\", \"Close(\"&$D$12&\") when LocalYear(\"&$D$12&\")=\"&$D$10&\" and localMonth(\"&$D$12&\") =\"&$E$10&\" and LocalDay(\"&$D$12&\")=\"&$F$10&\" and Barix(\"&$D$12&\",reference:=StartOfDay)=\"&A147&\"\", \"Bar\", \"\", \"Close\",\"5\",\"0\",\"All\",,,\"False\",\"T\",\"EveryTick\")","v":4334},-3.6208977527444107E-3,null,null,null,""]
[243,"13:15:00",null,null,null,null,null,{"$f":"RTD(\"cqg.rtd\",,\"StudyData\", \"Close(\"&$D$12&\") when LocalYear(\"&$D$12&\")=\"&$D$1&\" and localMonth(\"&$D$12&\") =\"&$E$1&\" and LocalDay(\"&$D$12&\")=\"&$F$1&\" and Barix(\"&$D$12&\",reference:=StartOfDay)=\"&A148&\"\", \"Bar\", \"\", \"Close\",\"5\",\"0\",\"All\",,,\"False\",\"T\",\"EveryTick\")","v":""},{"$error":"#N/A"},{"$f":"RTD(\"cqg.rtd\",,\"StudyData\", \"Close(\"&$D$12&\") when LocalYear(\"&$D$12&\")=\"&$D$2&\" and localMonth(\"&$D$12&\") =\"&$E$2&\" and LocalDay(\"&$D$12&\")=\"&$F$2&\" and Barix(\"&$D$12&\",reference:=StartOfDay)=\"&A148&\"\", \"Bar\", \"\", \"Close\",\"5\",\"0\",\"All\",,,\"False\",\"T\",\"EveryTick\")","v":4355.5},1.0342450011491611E-3,{"$f":"RTD(\"cqg.rtd\",,\"StudyData\", \"Close(\"&$D$12&\") when LocalYear(\"&$D$12&\")=\"&$D$3&\" and localMonth(\"&$D$12&\") =\"&$E$3&\" and LocalDay(\"&$D$12&\")=\"&$F$3&\" and Barix(\"&$D$12&\",reference:=StartOfDay)=\"&A148&\"\", \"Bar\", \"\", \"Close\",\"5\",\"0\",\"All\",,,\"False\",\"T\",\"EveryTick\")","v":4373.25},-2.0537395173712133E-3,{"$f":"RTD(\"cqg.rtd\",,\"StudyData\", \"Close(\"&$D$12&\") when LocalYear(\"&$D$12&\")=\"&$D$4&\" and localMonth(\"&$D$12&\") =\"&$E$4&\" and LocalDay(\"&$D$12&\")=\"&$F$4&\" and Barix(\"&$D$12&\",reference:=StartOfDay)=\"&A148&\"\", \"Bar\", \"\", \"Close\",\"5\",\"0\",\"All\",,,\"False\",\"T\",\"EveryTick\")","v":4390.25},5.6947608200455584E-5,{"$f":"RTD(\"cqg.rtd\",,\"StudyData\", \"Close(\"&$D$12&\") when LocalYear(\"&$D$12&\")=\"&$D$5&\" and localMonth(\"&$D$12&\") =\"&$E$5&\" and LocalDay(\"&$D$12&\")=\"&$F$5&\" and Barix(\"&$D$12&\",reference:=StartOfDay)=\"&A148&\"\", \"Bar\", \"\", \"Close\",\"5\",\"0\",\"All\",,,\"False\",\"T\",\"EveryTick\")","v":4407},1.2172714745062011E-2,{"$f":"RTD(\"cqg.rtd\",,\"StudyData\", \"Close(\"&$D$12&\") when LocalYear(\"&$D$12&\")=\"&$D$6&\" and localMonth(\"&$D$12&\") =\"&$E$6&\" and LocalDay(\"&$D$12&\")=\"&$F$6&\" and Barix(\"&$D$12&\",reference:=StartOfDay)=\"&A148&\"\", \"Bar\", \"\", \"Close\",\"5\",\"0\",\"All\",,,\"False\",\"T\",\"EveryTick\")","v":4346.25},2.826488232579603E-3,{"$f":"RTD(\"cqg.rtd\",,\"StudyData\", \"Close(\"&$D$12&\") when LocalYear(\"&$D$12&\")=\"&$D$7&\" and localMonth(\"&$D$12&\") =\"&$E$7&\" and LocalDay(\"&$D$12&\")=\"&$F$7&\" and Barix(\"&$D$12&\",reference:=StartOfDay)=\"&A148&\"\", \"Bar\", \"\", \"Close\",\"5\",\"0\",\"All\",,,\"False\",\"T\",\"EveryTick\")","v":4353.25},1.4448004660646665E-2,{"$f":"RTD(\"cqg.rtd\",,\"StudyData\", \"Close(\"&$D$12&\") when LocalYear(\"&$D$12&\")=\"&$D$8&\" and localMonth(\"&$D$12&\") =\"&$E$8&\" and LocalDay(\"&$D$12&\")=\"&$F$8&\" and Barix(\"&$D$12&\",reference:=StartOfDay)=\"&A148&\"\", \"Bar\", \"\", \"Close\",\"5\",\"0\",\"All\",,,\"False\",\"T\",\"EveryTick\")","v":4284},-1.3755395683453237E-2,{"$f":"RTD(\"cqg.rtd\",,\"StudyData\", \"Close(\"&$D$12&\") when LocalYear(\"&$D$12&\")=\"&$D$9&\" and localMonth(\"&$D$12&\") =\"&$E$9&\" and LocalDay(\"&$D$12&\")=\"&$F$9&\" and Barix(\"&$D$12&\",reference:=StartOfDay)=\"&A148&\"\", \"Bar\", \"\", \"Close\",\"5\",\"0\",\"All\",,,\"False\",\"T\",\"EveryTick\")","v":4344.5},1.0877784887441103E-2,{"$f":"RTD(\"cqg.rtd\",,\"StudyData\", \"Close(\"&$D$12&\") when LocalYear(\"&$D$12&\")=\"&$D$10&\" and localMonth(\"&$D$12&\") =\"&$E$10&\" and LocalDay(\"&$D$12&\")=\"&$F$10&\" and Barix(\"&$D$12&\",reference:=StartOfDay)=\"&A148&\"\", \"Bar\", \"\", \"Close\",\"5\",\"0\",\"All\",,,\"False\",\"T\",\"EveryTick\")","v":4326.25},-5.4026093453646762E-3,null,null,null,""]
[244,"13:20:00",null,null,null,null,null,{"$f":"RTD(\"cqg.rtd\",,\"StudyData\", \"Close(\"&$D$12&\") when LocalYear(\"&$D$12&\")=\"&$D$1&\" and localMonth(\"&$D$12&\") =\"&$E$1&\" and LocalDay(\"&$D$12&\")=\"&$F$1&\" and Barix(\"&$D$12&\",reference:=StartOfDay)=\"&A149&\"\", \"Bar\", \"\", \"Close\",\"5\",\"0\",\"All\",,,\"False\",\"T\",\"EveryTick\")","v":""},{"$error":"#N/A"},{"$f":"RTD(\"cqg.rtd\",,\"StudyData\", \"Close(\"&$D$12&\") when LocalYear(\"&$D$12&\")=\"&$D$2&\" and localMonth(\"&$D$12&\") =\"&$E$2&\" and LocalDay(\"&$D$12&\")=\"&$F$2&\" and Barix(\"&$D$12&\",reference:=StartOfDay)=\"&A149&\"\", \"Bar\", \"\", \"Close\",\"5\",\"0\",\"All\",,,\"False\",\"T\",\"EveryTick\")","v":4353.5},5.7458055619397834E-4,{"$f":"RTD(\"cqg.rtd\",,\"StudyData\", \"Close(\"&$D$12&\") when LocalYear(\"&$D$12&\")=\"&$D$3&\" and localMonth(\"&$D$12&\") =\"&$E$3&\" and LocalDay(\"&$D$12&\")=\"&$F$3&\" and Barix(\"&$D$12&\",reference:=StartOfDay)=\"&A149&\"\", \"Bar\", \"\", \"Close\",\"5\",\"0\",\"All\",,,\"False\",\"T\",\"EveryTick\")","v":4369},-3.0235609561298422E-3,{"$f":"RTD(\"cqg.rtd\",,\"StudyData\", \"Close(\"&$D$12&\") when LocalYear(\"&$D$12&\")=\"&$D$4&\" and localMonth(\"&$D$12&\") =\"&$E$4&\" and LocalDay(\"&$D$12&\")=\"&$F$4&\" and Barix(\"&$D$12&\",reference:=StartOfDay)=\"&A149&\"\", \"Bar\", \"\", \"Close\",\"5\",\"0\",\"All\",,,\"False\",\"T\",\"EveryTick\")","v":4392.25},5.1252847380410028E-4,{"$f":"RTD(\"cqg.rtd\",,\"StudyData\", \"Close(\"&$D$12&\") when LocalYear(\"&$D$12&\")=\"&$D$5&\" and localMonth(\"&$D$12&\") =\"&$E$5&\" and LocalDay(\"&$D$12&\")=\"&$F$5&\" and Barix(\"&$D$12&\",reference:=StartOfDay)=\"&A149&\"\", \"Bar\", \"\", \"Close\",\"5\",\"0\",\"All\",,,\"False\",\"T\",\"EveryTick\")","v":4405},1.1713367018833257E-2,{"$f":"RTD(\"cqg.rtd\",,\"StudyData\", \"Close(\"&$D$12&\") when LocalYear(\"&$D$12&\")=\"&$D$6&\" and localMonth(\"&$D$12&\") =\"&$E$6&\" and LocalDay(\"&$D$12&\")=\"&$F$6&\" and Barix(\"&$D$12&\",reference:=StartOfDay)=\"&A149&\"\", \"Bar\", \"\", \"Close\",\"5\",\"0\",\"All\",,,\"False\",\"T\",\"EveryTick\")","v":4340.25},1.4420858329487771E-3,{"$f":"RTD(\"cqg.rtd\",,\"StudyData\", \"Close(\"&$D$12&\") when LocalYear(\"&$D$12&\")=\"&$D$7&\" and localMonth(\"&$D$12&\") =\"&$E$7&\" and LocalDay(\"&$D$12&\")=\"&$F$7&\" and Barix(\"&$D$12&\",reference:=StartOfDay)=\"&A149&\"\", \"Bar\", \"\", \"Close\",\"5\",\"0\",\"All\",,,\"False\",\"T\",\"EveryTick\")","v":4352.75},1.4331488494028547E-2,{"$f":"RTD(\"cqg.rtd\",,\"StudyData\", \"Close(\"&$D$12&\") when LocalYear(\"&$D$12&\")=\"&$D$8&\" and localMonth(\"&$D$12&\") =\"&$E$8&\" and LocalDay(\"&$D$12&\")=\"&$F$8&\" and Barix(\"&$D$12&\",reference:=StartOfDay)=\"&A149&\"\", \"Bar\", \"\", \"Close\",\"5\",\"0\",\"All\",,,\"False\",\"T\",\"EveryTick\")","v":4285.5},-1.3410071942446044E-2,{"$f":"RTD(\"cqg.rtd\",,\"StudyData\", \"Close(\"&$D$12&\") when LocalYear(\"&$D$12&\")=\"&$D$9&\" and localMonth(\"&$D$12&\") =\"&$E$9&\" and LocalDay(\"&$D$12&\")=\"&$F$9&\" and Barix(\"&$D$12&\",reference:=StartOfDay)=\"&A149&\"\", \"Bar\", \"\", \"Close\",\"5\",\"0\",\"All\",,,\"False\",\"T\",\"EveryTick\")","v":4346.25},1.1284974696061894E-2,{"$f":"RTD(\"cqg.rtd\",,\"StudyData\", \"Close(\"&$D$12&\") when LocalYear(\"&$D$12&\")=\"&$D$10&\" and localMonth(\"&$D$12&\") =\"&$E$10&\" and LocalDay(\"&$D$12&\")=\"&$F$10&\" and Barix(\"&$D$12&\",reference:=StartOfDay)=\"&A149&\"\", \"Bar\", \"\", \"Close\",\"5\",\"0\",\"All\",,,\"False\",\"T\",\"EveryTick\")","v":4326.75},-5.2876602103569172E-3,null,null,null,""]
[245,"13:25:00",null,null,null,null,null,{"$f":"RTD(\"cqg.rtd\",,\"StudyData\", \"Close(\"&$D$12&\") when LocalYear(\"&$D$12&\")=\"&$D$1&\" and localMonth(\"&$D$12&\") =\"&$E$1&\" and LocalDay(\"&$D$12&\")=\"&$F$1&\" and Barix(\"&$D$12&\",reference:=StartOfDay)=\"&A150&\"\", \"Bar\", \"\", \"Close\",\"5\",\"0\",\"All\",,,\"False\",\"T\",\"EveryTick\")","v":""},{"$error":"#N/A"},{"$f":"RTD(\"cqg.rtd\",,\"StudyData\", \"Close(\"&$D$12&\") when LocalYear(\"&$D$12&\")=\"&$D$2&\" and localMonth(\"&$D$12&\") =\"&$E$2&\" and LocalDay(\"&$D$12&\")=\"&$F$2&\" and Barix(\"&$D$12&\",reference:=StartOfDay)=\"&A150&\"\", \"Bar\", \"\", \"Close\",\"5\",\"0\",\"All\",,,\"False\",\"T\",\"EveryTick\")","v":4353.25},5.1712250057458055E-4,{"$f":"RTD(\"cqg.rtd\",,\"StudyData\", \"Close(\"&$D$12&\") when LocalYear(\"&$D$12&\")=\"&$D$3&\" and localMonth(\"&$D$12&\") =\"&$E$3&\" and LocalDay(\"&$D$12&\")=\"&$F$3&\" and Barix(\"&$D$12&\",reference:=StartOfDay)=\"&A150&\"\", \"Bar\", \"\", \"Close\",\"5\",\"0\",\"All\",,,\"False\",\"T\",\"EveryTick\")","v":4369.75},-2.8524159963489075E-3,{"$f":"RTD(\"cqg.rtd\",,\"StudyData\", \"Close(\"&$D$12&\") when LocalYear(\"&$D$12&\")=\"&$D$4&\" and localMonth(\"&$D$12&\") =\"&$E$4&\" and LocalDay(\"&$D$12&\")=\"&$F$4&\" and Barix(\"&$D$12&\",reference:=StartOfDay)=\"&A150&\"\", \"Bar\", \"\", \"Close\",\"5\",\"0\",\"All\",,,\"False\",\"T\",\"EveryTick\")","v":4396.25},1.4236902050113896E-3,{"$f":"RTD(\"cqg.rtd\",,\"StudyData\", \"Close(\"&$D$12&\") when LocalYear(\"&$D$12&\")=\"&$D$5&\" and localMonth(\"&$D$12&\") =\"&$E$5&\" and LocalDay(\"&$D$12&\")=\"&$F$5&\" and Barix(\"&$D$12&\",reference:=StartOfDay)=\"&A150&\"\", \"Bar\", \"\", \"Close\",\"5\",\"0\",\"All\",,,\"False\",\"T\",\"EveryTick\")","v":4404},1.1483693155718878E-2,{"$f":"RTD(\"cqg.rtd\",,\"StudyData\", \"Close(\"&$D$12&\") when LocalYear(\"&$D$12&\")=\"&$D$6&\" and localMonth(\"&$D$12&\") =\"&$E$6&\" and LocalDay(\"&$D$12&\")=\"&$F$6&\" and Barix(\"&$D$12&\",reference:=StartOfDay)=\"&A150&\"\", \"Bar\", \"\", \"Close\",\"5\",\"0\",\"All\",,,\"False\",\"T\",\"EveryTick\")","v":4344.25},2.3650207660359944E-3,{"$f":"RTD(\"cqg.rtd\",,\"StudyData\", \"Close(\"&$D$12&\") when LocalYear(\"&$D$12&\")=\"&$D$7&\" and localMonth(\"&$D$12&\") =\"&$E$7&\" and LocalDay(\"&$D$12&\")=\"&$F$7&\" and Barix(\"&$D$12&\",reference:=StartOfDay)=\"&A150&\"\", \"Bar\", \"\", \"Close\",\"5\",\"0\",\"All\",,,\"False\",\"T\",\"EveryTick\")","v":4356.25},1.5147101660355374E-2,{"$f":"RTD(\"cqg.rtd\",,\"StudyData\", \"Close(\"&$D$12&\") when LocalYear(\"&$D$12&\")=\"&$D$8&\" and localMonth(\"&$D$12&\") =\"&$E$8&\" and LocalDay(\"&$D$12&\")=\"&$F$8&\" and Barix(\"&$D$12&\",reference:=StartOfDay)=\"&A150&\"\", \"Bar\", \"\", \"Close\",\"5\",\"0\",\"All\",,,\"False\",\"T\",\"EveryTick\")","v":4281.75},-1.4273381294964029E-2,{"$f":"RTD(\"cqg.rtd\",,\"StudyData\", \"Close(\"&$D$12&\") when LocalYear(\"&$D$12&\")=\"&$D$9&\" and localMonth(\"&$D$12&\") =\"&$E$9&\" and LocalDay(\"&$D$12&\")=\"&$F$9&\" and Barix(\"&$D$12&\",reference:=StartOfDay)=\"&A150&\"\", \"Bar\", \"\", \"Close\",\"5\",\"0\",\"All\",,,\"False\",\"T\",\"EveryTick\")","v":4345.5},1.1110464778081554E-2,{"$f":"RTD(\"cqg.rtd\",,\"StudyData\", \"Close(\"&$D$12&\") when LocalYear(\"&$D$12&\")=\"&$D$10&\" and localMonth(\"&$D$12&\") =\"&$E$10&\" and LocalDay(\"&$D$12&\")=\"&$F$10&\" and Barix(\"&$D$12&\",reference:=StartOfDay)=\"&A150&\"\", \"Bar\", \"\", \"Close\",\"5\",\"0\",\"All\",,,\"False\",\"T\",\"EveryTick\")","v":4331.75},-4.1381688602793263E-3,null,null,null,""]
[246,"13:30:00",null,null,null,null,null,{"$f":"RTD(\"cqg.rtd\",,\"StudyData\", \"Close(\"&$D$12&\") when LocalYear(\"&$D$12&\")=\"&$D$1&\" and localMonth(\"&$D$12&\") =\"&$E$1&\" and LocalDay(\"&$D$12&\")=\"&$F$1&\" and Barix(\"&$D$12&\",reference:=StartOfDay)=\"&A151&\"\", \"Bar\", \"\", \"Close\",\"5\",\"0\",\"All\",,,\"False\",\"T\",\"EveryTick\")","v":""},{"$error":"#N/A"},{"$f":"RTD(\"cqg.rtd\",,\"StudyData\", \"Close(\"&$D$12&\") when LocalYear(\"&$D$12&\")=\"&$D$2&\" and localMonth(\"&$D$12&\") =\"&$E$2&\" and LocalDay(\"&$D$12&\")=\"&$F$2&\" and Barix(\"&$D$12&\",reference:=StartOfDay)=\"&A151&\"\", \"Bar\", \"\", \"Close\",\"5\",\"0\",\"All\",,,\"False\",\"T\",\"EveryTick\")","v":4352.5},3.4474833371638702E-4,{"$f":"RTD(\"cqg.rtd\",,\"StudyData\", \"Close(\"&$D$12&\") when LocalYear(\"&$D$12&\")=\"&$D$3&\" and localMonth(\"&$D$12&\") =\"&$E$3&\" and LocalDay(\"&$D$12&\")=\"&$F$3&\" and Barix(\"&$D$12&\",reference:=StartOfDay)=\"&A151&\"\", \"Bar\", \"\", \"Close\",\"5\",\"0\",\"All\",,,\"False\",\"T\",\"EveryTick\")","v":4370.25},-2.7383193564949511E-3,{"$f":"RTD(\"cqg.rtd\",,\"StudyData\", \"Close(\"&$D$12&\") when LocalYear(\"&$D$12&\")=\"&$D$4&\" and localMonth(\"&$D$12&\") =\"&$E$4&\" and LocalDay(\"&$D$12&\")=\"&$F$4&\" and Barix(\"&$D$12&\",reference:=StartOfDay)=\"&A151&\"\", \"Bar\", \"\", \"Close\",\"5\",\"0\",\"All\",,,\"False\",\"T\",\"EveryTick\")","v":4395.25},1.1958997722095672E-3,{"$f":"RTD(\"cqg.rtd\",,\"StudyData\", \"Close(\"&$D$12&\") when LocalYear(\"&$D$12&\")=\"&$D$5&\" and localMonth(\"&$D$12&\") =\"&$E$5&\" and LocalDay(\"&$D$12&\")=\"&$F$5&\" and Barix(\"&$D$12&\",reference:=StartOfDay)=\"&A151&\"\", \"Bar\", \"\", \"Close\",\"5\",\"0\",\"All\",,,\"False\",\"T\",\"EveryTick\")","v":4403.75},1.1426274689940286E-2,{"$f":"RTD(\"cqg.rtd\",,\"StudyData\", \"Close(\"&$D$12&\") when LocalYear(\"&$D$12&\")=\"&$D$6&\" and localMonth(\"&$D$12&\") =\"&$E$6&\" and LocalDay(\"&$D$12&\")=\"&$F$6&\" and Barix(\"&$D$12&\",reference:=StartOfDay)=\"&A151&\"\", \"Bar\", \"\", \"Close\",\"5\",\"0\",\"All\",,,\"False\",\"T\",\"EveryTick\")","v":4342.75},2.0189201661282878E-3,{"$f":"RTD(\"cqg.rtd\",,\"StudyData\", \"Close(\"&$D$12&\") when LocalYear(\"&$D$12&\")=\"&$D$7&\" and localMonth(\"&$D$12&\") =\"&$E$7&\" and LocalDay(\"&$D$12&\")=\"&$F$7&\" and Barix(\"&$D$12&\",reference:=StartOfDay)=\"&A151&\"\", \"Bar\", \"\", \"Close\",\"5\",\"0\",\"All\",,,\"False\",\"T\",\"EveryTick\")","v":4358},1.5554908243518788E-2,{"$f":"RTD(\"cqg.rtd\",,\"StudyData\", \"Close(\"&$D$12&\") when LocalYear(\"&$D$12&\")=\"&$D$8&\" and localMonth(\"&$D$12&\") =\"&$E$8&\" and LocalDay(\"&$D$12&\")=\"&$F$8&\" and Barix(\"&$D$12&\",reference:=StartOfDay)=\"&A151&\"\", \"Bar\", \"\", \"Close\",\"5\",\"0\",\"All\",,,\"False\",\"T\",\"EveryTick\")","v":4280.5},-1.456115107913669E-2,{"$f":"RTD(\"cqg.rtd\",,\"StudyData\", \"Close(\"&$D$12&\") when LocalYear(\"&$D$12&\")=\"&$D$9&\" and localMonth(\"&$D$12&\") =\"&$E$9&\" and LocalDay(\"&$D$12&\")=\"&$F$9&\" and Barix(\"&$D$12&\",reference:=StartOfDay)=\"&A151&\"\", \"Bar\", \"\", \"Close\",\"5\",\"0\",\"All\",,,\"False\",\"T\",\"EveryTick\")","v":4346.75},1.1401314641382118E-2,{"$f":"RTD(\"cqg.rtd\",,\"StudyData\", \"Close(\"&$D$12&\") when LocalYear(\"&$D$12&\")=\"&$D$10&\" and localMonth(\"&$D$12&\") =\"&$E$10&\" and LocalDay(\"&$D$12&\")=\"&$F$10&\" and Barix(\"&$D$12&\",reference:=StartOfDay)=\"&A151&\"\", \"Bar\", \"\", \"Close\",\"5\",\"0\",\"All\",,,\"False\",\"T\",\"EveryTick\")","v":4337.25},-2.8737283751939765E-3,null,null,null,""]
[247,"13:35:00",null,null,null,null,null,{"$f":"RTD(\"cqg.rtd\",,\"StudyData\", \"Close(\"&$D$12&\") when LocalYear(\"&$D$12&\")=\"&$D$1&\" and localMonth(\"&$D$12&\") =\"&$E$1&\" and LocalDay(\"&$D$12&\")=\"&$F$1&\" and Barix(\"&$D$12&\",reference:=StartOfDay)=\"&A152&\"\", \"Bar\", \"\", \"Close\",\"5\",\"0\",\"All\",,,\"False\",\"T\",\"EveryTick\")","v":""},{"$error":"#N/A"},{"$f":"RTD(\"cqg.rtd\",,\"StudyData\", \"Close(\"&$D$12&\") when LocalYear(\"&$D$12&\")=\"&$D$2&\" and localMonth(\"&$D$12&\") =\"&$E$2&\" and LocalDay(\"&$D$12&\")=\"&$F$2&\" and Barix(\"&$D$12&\",reference:=StartOfDay)=\"&A152&\"\", \"Bar\", \"\", \"Close\",\"5\",\"0\",\"All\",,,\"False\",\"T\",\"EveryTick\")","v":4349.5},-3.4474833371638702E-4,{"$f":"RTD(\"cqg.rtd\",,\"StudyData\", \"Close(\"&$D$12&\") when LocalYear(\"&$D$12&\")=\"&$D$3&\" and localMonth(\"&$D$12&\") =\"&$E$3&\" and LocalDay(\"&$D$12&\")=\"&$F$3&\" and Barix(\"&$D$12&\",reference:=StartOfDay)=\"&A152&\"\", \"Bar\", \"\", \"Close\",\"5\",\"0\",\"All\",,,\"False\",\"T\",\"EveryTick\")","v":4367},-3.4799475155456671E-3,{"$f":"RTD(\"cqg.rtd\",,\"StudyData\", \"Close(\"&$D$12&\") when LocalYear(\"&$D$12&\")=\"&$D$4&\" and localMonth(\"&$D$12&\") =\"&$E$4&\" and LocalDay(\"&$D$12&\")=\"&$F$4&\" and Barix(\"&$D$12&\",reference:=StartOfDay)=\"&A152&\"\", \"Bar\", \"\", \"Close\",\"5\",\"0\",\"All\",,,\"False\",\"T\",\"EveryTick\")","v":4394.25},9.6810933940774484E-4,{"$f":"RTD(\"cqg.rtd\",,\"StudyData\", \"Close(\"&$D$12&\") when LocalYear(\"&$D$12&\")=\"&$D$5&\" and localMonth(\"&$D$12&\") =\"&$E$5&\" and LocalDay(\"&$D$12&\")=\"&$F$5&\" and Barix(\"&$D$12&\",reference:=StartOfDay)=\"&A152&\"\", \"Bar\", \"\", \"Close\",\"5\",\"0\",\"All\",,,\"False\",\"T\",\"EveryTick\")","v":4402},1.1024345429490124E-2,{"$f":"RTD(\"cqg.rtd\",,\"StudyData\", \"Close(\"&$D$12&\") when LocalYear(\"&$D$12&\")=\"&$D$6&\" and localMonth(\"&$D$12&\") =\"&$E$6&\" and LocalDay(\"&$D$12&\")=\"&$F$6&\" and Barix(\"&$D$12&\",reference:=StartOfDay)=\"&A152&\"\", \"Bar\", \"\", \"Close\",\"5\",\"0\",\"All\",,,\"False\",\"T\",\"EveryTick\")","v":4344.75},2.4803876326718968E-3,{"$f":"RTD(\"cqg.rtd\",,\"StudyData\", \"Close(\"&$D$12&\") when LocalYear(\"&$D$12&\")=\"&$D$7&\" and localMonth(\"&$D$12&\") =\"&$E$7&\" and LocalDay(\"&$D$12&\")=\"&$F$7&\" and Barix(\"&$D$12&\",reference:=StartOfDay)=\"&A152&\"\", \"Bar\", \"\", \"Close\",\"5\",\"0\",\"All\",,,\"False\",\"T\",\"EveryTick\")","v":4357},1.5321875910282551E-2,{"$f":"RTD(\"cqg.rtd\",,\"StudyData\", \"Close(\"&$D$12&\") when LocalYear(\"&$D$12&\")=\"&$D$8&\" and localMonth(\"&$D$12&\") =\"&$E$8&\" and LocalDay(\"&$D$12&\")=\"&$F$8&\" and Barix(\"&$D$12&\",reference:=StartOfDay)=\"&A152&\"\", \"Bar\", \"\", \"Close\",\"5\",\"0\",\"All\",,,\"False\",\"T\",\"EveryTick\")","v":4282.25},-1.4158273381294963E-2,{"$f":"RTD(\"cqg.rtd\",,\"StudyData\", \"Close(\"&$D$12&\") when LocalYear(\"&$D$12&\")=\"&$D$9&\" and localMonth(\"&$D$12&\") =\"&$E$9&\" and LocalDay(\"&$D$12&\")=\"&$F$9&\" and Barix(\"&$D$12&\",reference:=StartOfDay)=\"&A152&\"\", \"Bar\", \"\", \"Close\",\"5\",\"0\",\"All\",,,\"False\",\"T\",\"EveryTick\")","v":4347.75},1.163399453202257E-2,{"$f":"RTD(\"cqg.rtd\",,\"StudyData\", \"Close(\"&$D$12&\") when LocalYear(\"&$D$12&\")=\"&$D$10&\" and localMonth(\"&$D$12&\") =\"&$E$10&\" and LocalDay(\"&$D$12&\")=\"&$F$10&\" and Barix(\"&$D$12&\",reference:=StartOfDay)=\"&A152&\"\", \"Bar\", \"\", \"Close\",\"5\",\"0\",\"All\",,,\"False\",\"T\",\"EveryTick\")","v":4331.25},-4.2531179952870852E-3,null,null,null,""]
[248,"13:40:00",null,null,null,null,null,{"$f":"RTD(\"cqg.rtd\",,\"StudyData\", \"Close(\"&$D$12&\") when LocalYear(\"&$D$12&\")=\"&$D$1&\" and localMonth(\"&$D$12&\") =\"&$E$1&\" and LocalDay(\"&$D$12&\")=\"&$F$1&\" and Barix(\"&$D$12&\",reference:=StartOfDay)=\"&A153&\"\", \"Bar\", \"\", \"Close\",\"5\",\"0\",\"All\",,,\"False\",\"T\",\"EveryTick\")","v":""},{"$error":"#N/A"},{"$f":"RTD(\"cqg.rtd\",,\"StudyData\", \"Close(\"&$D$12&\") when LocalYear(\"&$D$12&\")=\"&$D$2&\" and localMonth(\"&$D$12&\") =\"&$E$2&\" and LocalDay(\"&$D$12&\")=\"&$F$2&\" and Barix(\"&$D$12&\",reference:=StartOfDay)=\"&A153&\"\", \"Bar\", \"\", \"Close\",\"5\",\"0\",\"All\",,,\"False\",\"T\",\"EveryTick\")","v":4350.25},-1.7237416685819351E-4,{"$f":"RTD(\"cqg.rtd\",,\"StudyData\", \"Close(\"&$D$12&\") when LocalYear(\"&$D$12&\")=\"&$D$3&\" and localMonth(\"&$D$12&\") =\"&$E$3&\" and LocalDay(\"&$D$12&\")=\"&$F$3&\" and Barix(\"&$D$12&\",reference:=StartOfDay)=\"&A153&\"\", \"Bar\", \"\", \"Close\",\"5\",\"0\",\"All\",,,\"False\",\"T\",\"EveryTick\")","v":4370.25},-2.7383193564949511E-3,{"$f":"RTD(\"cqg.rtd\",,\"StudyData\", \"Close(\"&$D$12&\") when LocalYear(\"&$D$12&\")=\"&$D$4&\" and localMonth(\"&$D$12&\") =\"&$E$4&\" and LocalDay(\"&$D$12&\")=\"&$F$4&\" and Barix(\"&$D$12&\",reference:=StartOfDay)=\"&A153&\"\", \"Bar\", \"\", \"Close\",\"5\",\"0\",\"All\",,,\"False\",\"T\",\"EveryTick\")","v":4392.75},6.2642369020501139E-4,{"$f":"RTD(\"cqg.rtd\",,\"StudyData\", \"Close(\"&$D$12&\") when LocalYear(\"&$D$12&\")=\"&$D$5&\" and localMonth(\"&$D$12&\") =\"&$E$5&\" and LocalDay(\"&$D$12&\")=\"&$F$5&\" and Barix(\"&$D$12&\",reference:=StartOfDay)=\"&A153&\"\", \"Bar\", \"\", \"Close\",\"5\",\"0\",\"All\",,,\"False\",\"T\",\"EveryTick\")","v":4399},1.0335323840146991E-2,{"$f":"RTD(\"cqg.rtd\",,\"StudyData\", \"Close(\"&$D$12&\") when LocalYear(\"&$D$12&\")=\"&$D$6&\" and localMonth(\"&$D$12&\") =\"&$E$6&\" and LocalDay(\"&$D$12&\")=\"&$F$6&\" and Barix(\"&$D$12&\",reference:=StartOfDay)=\"&A153&\"\", \"Bar\", \"\", \"Close\",\"5\",\"0\",\"All\",,,\"False\",\"T\",\"EveryTick\")","v":4347.5},3.1149053991693584E-3,{"$f":"RTD(\"cqg.rtd\",,\"StudyData\", \"Close(\"&$D$12&\") when LocalYear(\"&$D$12&\")=\"&$D$7&\" and localMonth(\"&$D$12&\") =\"&$E$7&\" and LocalDay(\"&$D$12&\")=\"&$F$7&\" and Barix(\"&$D$12&\",reference:=StartOfDay)=\"&A153&\"\", \"Bar\", \"\", \"Close\",\"5\",\"0\",\"All\",,,\"False\",\"T\",\"EveryTick\")","v":4357.5},1.543839207690067E-2,{"$f":"RTD(\"cqg.rtd\",,\"StudyData\", \"Close(\"&$D$12&\") when LocalYear(\"&$D$12&\")=\"&$D$8&\" and localMonth(\"&$D$12&\") =\"&$E$8&\" and LocalDay(\"&$D$12&\")=\"&$F$8&\" and Barix(\"&$D$12&\",reference:=StartOfDay)=\"&A153&\"\", \"Bar\", \"\", \"Close\",\"5\",\"0\",\"All\",,,\"False\",\"T\",\"EveryTick\")","v":4285},-1.3525179856115108E-2,{"$f":"RTD(\"cqg.rtd\",,\"StudyData\", \"Close(\"&$D$12&\") when LocalYear(\"&$D$12&\")=\"&$D$9&\" and localMonth(\"&$D$12&\") =\"&$E$9&\" and LocalDay(\"&$D$12&\")=\"&$F$9&\" and Barix(\"&$D$12&\",reference:=StartOfDay)=\"&A153&\"\", \"Bar\", \"\", \"Close\",\"5\",\"0\",\"All\",,,\"False\",\"T\",\"EveryTick\")","v":4344.75},1.0935954860101215E-2,{"$f":"RTD(\"cqg.rtd\",,\"StudyData\", \"Close(\"&$D$12&\") when LocalYear(\"&$D$12&\")=\"&$D$10&\" and localMonth(\"&$D$12&\") =\"&$E$10&\" and LocalDay(\"&$D$12&\")=\"&$F$10&\" and Barix(\"&$D$12&\",reference:=StartOfDay)=\"&A153&\"\", \"Bar\", \"\", \"Close\",\"5\",\"0\",\"All\",,,\"False\",\"T\",\"EveryTick\")","v":4338.25},-2.6438301051784586E-3,null,null,null,""]
[249,"13:45:00",null,null,null,null,null,{"$f":"RTD(\"cqg.rtd\",,\"StudyData\", \"Close(\"&$D$12&\") when LocalYear(\"&$D$12&\")=\"&$D$1&\" and localMonth(\"&$D$12&\") =\"&$E$1&\" and LocalDay(\"&$D$12&\")=\"&$F$1&\" and Barix(\"&$D$12&\",reference:=StartOfDay)=\"&A154&\"\", \"Bar\", \"\", \"Close\",\"5\",\"0\",\"All\",,,\"False\",\"T\",\"EveryTick\")","v":""},{"$error":"#N/A"},{"$f":"RTD(\"cqg.rtd\",,\"StudyData\", \"Close(\"&$D$12&\") when LocalYear(\"&$D$12&\")=\"&$D$2&\" and localMonth(\"&$D$12&\") =\"&$E$2&\" and LocalDay(\"&$D$12&\")=\"&$F$2&\" and Barix(\"&$D$12&\",reference:=StartOfDay)=\"&A154&\"\", \"Bar\", \"\", \"Close\",\"5\",\"0\",\"All\",,,\"False\",\"T\",\"EveryTick\")","v":4349.75},-2.8729027809698917E-4,{"$f":"RTD(\"cqg.rtd\",,\"StudyData\", \"Close(\"&$D$12&\") when LocalYear(\"&$D$12&\")=\"&$D$3&\" and localMonth(\"&$D$12&\") =\"&$E$3&\" and LocalDay(\"&$D$12&\")=\"&$F$3&\" and Barix(\"&$D$12&\",reference:=StartOfDay)=\"&A154&\"\", \"Bar\", \"\", \"Close\",\"5\",\"0\",\"All\",,,\"False\",\"T\",\"EveryTick\")","v":4372},-2.338981117006104E-3,{"$f":"RTD(\"cqg.rtd\",,\"StudyData\", \"Close(\"&$D$12&\") when LocalYear(\"&$D$12&\")=\"&$D$4&\" and localMonth(\"&$D$12&\") =\"&$E$4&\" and LocalDay(\"&$D$12&\")=\"&$F$4&\" and Barix(\"&$D$12&\",reference:=StartOfDay)=\"&A154&\"\", \"Bar\", \"\", \"Close\",\"5\",\"0\",\"All\",,,\"False\",\"T\",\"EveryTick\")","v":4393.25},7.4031890660592251E-4,{"$f":"RTD(\"cqg.rtd\",,\"StudyData\", \"Close(\"&$D$12&\") when LocalYear(\"&$D$12&\")=\"&$D$5&\" and localMonth(\"&$D$12&\") =\"&$E$5&\" and LocalDay(\"&$D$12&\")=\"&$F$5&\" and Barix(\"&$D$12&\",reference:=StartOfDay)=\"&A154&\"\", \"Bar\", \"\", \"Close\",\"5\",\"0\",\"All\",,,\"False\",\"T\",\"EveryTick\")","v":4399.25},1.0392742305925585E-2,{"$f":"RTD(\"cqg.rtd\",,\"StudyData\", \"Close(\"&$D$12&\") when LocalYear(\"&$D$12&\")=\"&$D$6&\" and localMonth(\"&$D$12&\") =\"&$E$6&\" and LocalDay(\"&$D$12&\")=\"&$F$6&\" and Barix(\"&$D$12&\",reference:=StartOfDay)=\"&A154&\"\", \"Bar\", \"\", \"Close\",\"5\",\"0\",\"All\",,,\"False\",\"T\",\"EveryTick\")","v":4344.5},2.4227041993539456E-3,{"$f":"RTD(\"cqg.rtd\",,\"StudyData\", \"Close(\"&$D$12&\") when LocalYear(\"&$D$12&\")=\"&$D$7&\" and localMonth(\"&$D$12&\") =\"&$E$7&\" and LocalDay(\"&$D$12&\")=\"&$F$7&\" and Barix(\"&$D$12&\",reference:=StartOfDay)=\"&A154&\"\", \"Bar\", \"\", \"Close\",\"5\",\"0\",\"All\",,,\"False\",\"T\",\"EveryTick\")","v":4357.75},1.549665016020973E-2,{"$f":"RTD(\"cqg.rtd\",,\"StudyData\", \"Close(\"&$D$12&\") when LocalYear(\"&$D$12&\")=\"&$D$8&\" and localMonth(\"&$D$12&\") =\"&$E$8&\" and LocalDay(\"&$D$12&\")=\"&$F$8&\" and Barix(\"&$D$12&\",reference:=StartOfDay)=\"&A154&\"\", \"Bar\", \"\", \"Close\",\"5\",\"0\",\"All\",,,\"False\",\"T\",\"EveryTick\")","v":4289.75},-1.2431654676258994E-2,{"$f":"RTD(\"cqg.rtd\",,\"StudyData\", \"Close(\"&$D$12&\") when LocalYear(\"&$D$12&\")=\"&$D$9&\" and localMonth(\"&$D$12&\") =\"&$E$9&\" and LocalDay(\"&$D$12&\")=\"&$F$9&\" and Barix(\"&$D$12&\",reference:=StartOfDay)=\"&A154&\"\", \"Bar\", \"\", \"Close\",\"5\",\"0\",\"All\",,,\"False\",\"T\",\"EveryTick\")","v":4348.75},1.1866674422663022E-2,{"$f":"RTD(\"cqg.rtd\",,\"StudyData\", \"Close(\"&$D$12&\") when LocalYear(\"&$D$12&\")=\"&$D$10&\" and localMonth(\"&$D$12&\") =\"&$E$10&\" and LocalDay(\"&$D$12&\")=\"&$F$10&\" and Barix(\"&$D$12&\",reference:=StartOfDay)=\"&A154&\"\", \"Bar\", \"\", \"Close\",\"5\",\"0\",\"All\",,,\"False\",\"T\",\"EveryTick\")","v":4338.25},-2.6438301051784586E-3,null,null,null,""]
[250,"13:50:00",null,null,null,null,null,{"$f":"RTD(\"cqg.rtd\",,\"StudyData\", \"Close(\"&$D$12&\") when LocalYear(\"&$D$12&\")=\"&$D$1&\" and localMonth(\"&$D$12&\") =\"&$E$1&\" and LocalDay(\"&$D$12&\")=\"&$F$1&\" and Barix(\"&$D$12&\",reference:=StartOfDay)=\"&A155&\"\", \"Bar\", \"\", \"Close\",\"5\",\"0\",\"All\",,,\"False\",\"T\",\"EveryTick\")","v":""},{"$error":"#N/A"},{"$f":"RTD(\"cqg.rtd\",,\"StudyData\", \"Close(\"&$D$12&\") when LocalYear(\"&$D$12&\")=\"&$D$2&\" and localMonth(\"&$D$12&\") =\"&$E$2&\" and LocalDay(\"&$D$12&\")=\"&$F$2&\" and Barix(\"&$D$12&\",reference:=StartOfDay)=\"&A155&\"\", \"Bar\", \"\", \"Close\",\"5\",\"0\",\"All\",,,\"False\",\"T\",\"EveryTick\")","v":4352.5},3.4474833371638702E-4,{"$f":"RTD(\"cqg.rtd\",,\"StudyData\", \"Close(\"&$D$12&\") when LocalYear(\"&$D$12&\")=\"&$D$3&\" and localMonth(\"&$D$12&\") =\"&$E$3&\" and LocalDay(\"&$D$12&\")=\"&$F$3&\" and Barix(\"&$D$12&\",reference:=StartOfDay)=\"&A155&\"\", \"Bar\", \"\", \"Close\",\"5\",\"0\",\"All\",,,\"False\",\"T\",\"EveryTick\")","v":4370},-2.7953676764219293E-3,{"$f":"RTD(\"cqg.rtd\",,\"StudyData\", \"Close(\"&$D$12&\") when LocalYear(\"&$D$12&\")=\"&$D$4&\" and localMonth(\"&$D$12&\") =\"&$E$4&\" and LocalDay(\"&$D$12&\")=\"&$F$4&\" and Barix(\"&$D$12&\",reference:=StartOfDay)=\"&A155&\"\", \"Bar\", \"\", \"Close\",\"5\",\"0\",\"All\",,,\"False\",\"T\",\"EveryTick\")","v":4391.25},2.8473804100227789E-4,{"$f":"RTD(\"cqg.rtd\",,\"StudyData\", \"Close(\"&$D$12&\") when LocalYear(\"&$D$12&\")=\"&$D$5&\" and localMonth(\"&$D$12&\") =\"&$E$5&\" and LocalDay(\"&$D$12&\")=\"&$F$5&\" and Barix(\"&$D$12&\",reference:=StartOfDay)=\"&A155&\"\", \"Bar\", \"\", \"Close\",\"5\",\"0\",\"All\",,,\"False\",\"T\",\"EveryTick\")","v":4397.25},9.9333945796968304E-3,{"$f":"RTD(\"cqg.rtd\",,\"StudyData\", \"Close(\"&$D$12&\") when LocalYear(\"&$D$12&\")=\"&$D$6&\" and localMonth(\"&$D$12&\") =\"&$E$6&\" and LocalDay(\"&$D$12&\")=\"&$F$6&\" and Barix(\"&$D$12&\",reference:=StartOfDay)=\"&A155&\"\", \"Bar\", \"\", \"Close\",\"5\",\"0\",\"All\",,,\"False\",\"T\",\"EveryTick\")","v":4343},2.076603599446239E-3,{"$f":"RTD(\"cqg.rtd\",,\"StudyData\", \"Close(\"&$D$12&\") when LocalYear(\"&$D$12&\")=\"&$D$7&\" and localMonth(\"&$D$12&\") =\"&$E$7&\" and LocalDay(\"&$D$12&\")=\"&$F$7&\" and Barix(\"&$D$12&\",reference:=StartOfDay)=\"&A155&\"\", \"Bar\", \"\", \"Close\",\"5\",\"0\",\"All\",,,\"False\",\"T\",\"EveryTick\")","v":4356.75},1.5263617826973493E-2,{"$f":"RTD(\"cqg.rtd\",,\"StudyData\", \"Close(\"&$D$12&\") when LocalYear(\"&$D$12&\")=\"&$D$8&\" and localMonth(\"&$D$12&\") =\"&$E$8&\" and LocalDay(\"&$D$12&\")=\"&$F$8&\" and Barix(\"&$D$12&\",reference:=StartOfDay)=\"&A155&\"\", \"Bar\", \"\", \"Close\",\"5\",\"0\",\"All\",,,\"False\",\"T\",\"EveryTick\")","v":4287},-1.3064748201438849E-2,{"$f":"RTD(\"cqg.rtd\",,\"StudyData\", \"Close(\"&$D$12&\") when LocalYear(\"&$D$12&\")=\"&$D$9&\" and localMonth(\"&$D$12&\") =\"&$E$9&\" and LocalDay(\"&$D$12&\")=\"&$F$9&\" and Barix(\"&$D$12&\",reference:=StartOfDay)=\"&A155&\"\", \"Bar\", \"\", \"Close\",\"5\",\"0\",\"All\",,,\"False\",\"T\",\"EveryTick\")","v":4352.75},1.2797393985224828E-2,{"$f":"RTD(\"cqg.rtd\",,\"StudyData\", \"Close(\"&$D$12&\") when LocalYear(\"&$D$12&\")=\"&$D$10&\" and localMonth(\"&$D$12&\") =\"&$E$10&\" and LocalDay(\"&$D$12&\")=\"&$F$10&\" and Barix(\"&$D$12&\",reference:=StartOfDay)=\"&A155&\"\", \"Bar\", \"\", \"Close\",\"5\",\"0\",\"All\",,,\"False\",\"T\",\"EveryTick\")","v":4334},-3.6208977527444107E-3,null,null,null,""]
[251,"13:55:00",null,null,null,null,null,{"$f":"RTD(\"cqg.rtd\",,\"StudyData\", \"Close(\"&$D$12&\") when LocalYear(\"&$D$12&\")=\"&$D$1&\" and localMonth(\"&$D$12&\") =\"&$E$1&\" and LocalDay(\"&$D$12&\")=\"&$F$1&\" and Barix(\"&$D$12&\",reference:=StartOfDay)=\"&A156&\"\", \"Bar\", \"\", \"Close\",\"5\",\"0\",\"All\",,,\"False\",\"T\",\"EveryTick\")","v":""},{"$error":"#N/A"},{"$f":"RTD(\"cqg.rtd\",,\"StudyData\", \"Close(\"&$D$12&\") when LocalYear(\"&$D$12&\")=\"&$D$2&\" and localMonth(\"&$D$12&\") =\"&$E$2&\" and LocalDay(\"&$D$12&\")=\"&$F$2&\" and Barix(\"&$D$12&\",reference:=StartOfDay)=\"&A156&\"\", \"Bar\", \"\", \"Close\",\"5\",\"0\",\"All\",,,\"False\",\"T\",\"EveryTick\")","v":4346.75},-9.7678694552976331E-4,{"$f":"RTD(\"cqg.rtd\",,\"StudyData\", \"Close(\"&$D$12&\") when LocalYear(\"&$D$12&\")=\"&$D$3&\" and localMonth(\"&$D$12&\") =\"&$E$3&\" and LocalDay(\"&$D$12&\")=\"&$F$3&\" and Barix(\"&$D$12&\",reference:=StartOfDay)=\"&A156&\"\", \"Bar\", \"\", \"Close\",\"5\",\"0\",\"All\",,,\"False\",\"T\",\"EveryTick\")","v":4372.5},-2.224884477152148E-3,{"$f":"RTD(\"cqg.rtd\",,\"StudyData\", \"Close(\"&$D$12&\") when LocalYear(\"&$D$12&\")=\"&$D$4&\" and localMonth(\"&$D$12&\") =\"&$E$4&\" and LocalDay(\"&$D$12&\")=\"&$F$4&\" and Barix(\"&$D$12&\",reference:=StartOfDay)=\"&A156&\"\", \"Bar\", \"\", \"Close\",\"5\",\"0\",\"All\",,,\"False\",\"T\",\"EveryTick\")","v":4391.75},3.9863325740318906E-4,{"$f":"RTD(\"cqg.rtd\",,\"StudyData\", \"Close(\"&$D$12&\") when LocalYear(\"&$D$12&\")=\"&$D$5&\" and localMonth(\"&$D$12&\") =\"&$E$5&\" and LocalDay(\"&$D$12&\")=\"&$F$5&\" and Barix(\"&$D$12&\",reference:=StartOfDay)=\"&A156&\"\", \"Bar\", \"\", \"Close\",\"5\",\"0\",\"All\",,,\"False\",\"T\",\"EveryTick\")","v":4396},9.6463022508038593E-3,{"$f":"RTD(\"cqg.rtd\",,\"StudyData\", \"Close(\"&$D$12&\") when LocalYear(\"&$D$12&\")=\"&$D$6&\" and localMonth(\"&$D$12&\") =\"&$E$6&\" and LocalDay(\"&$D$12&\")=\"&$F$6&\" and Barix(\"&$D$12&\",reference:=StartOfDay)=\"&A156&\"\", \"Bar\", \"\", \"Close\",\"5\",\"0\",\"All\",,,\"False\",\"T\",\"EveryTick\")","v":4337.25},7.4988463313336413E-4,{"$f":"RTD(\"cqg.rtd\",,\"StudyData\", \"Close(\"&$D$12&\") when LocalYear(\"&$D$12&\")=\"&$D$7&\" and localMonth(\"&$D$12&\") =\"&$E$7&\" and LocalDay(\"&$D$12&\")=\"&$F$7&\" and Barix(\"&$D$12&\",reference:=StartOfDay)=\"&A156&\"\", \"Bar\", \"\", \"Close\",\"5\",\"0\",\"All\",,,\"False\",\"T\",\"EveryTick\")","v":4354.5},1.4739295077191961E-2,{"$f":"RTD(\"cqg.rtd\",,\"StudyData\", \"Close(\"&$D$12&\") when LocalYear(\"&$D$12&\")=\"&$D$8&\" and localMonth(\"&$D$12&\") =\"&$E$8&\" and LocalDay(\"&$D$12&\")=\"&$F$8&\" and Barix(\"&$D$12&\",reference:=StartOfDay)=\"&A156&\"\", \"Bar\", \"\", \"Close\",\"5\",\"0\",\"All\",,,\"False\",\"T\",\"EveryTick\")","v":4286.5},-1.3179856115107913E-2,{"$f":"RTD(\"cqg.rtd\",,\"StudyData\", \"Close(\"&$D$12&\") when LocalYear(\"&$D$12&\")=\"&$D$9&\" and localMonth(\"&$D$12&\") =\"&$E$9&\" and LocalDay(\"&$D$12&\")=\"&$F$9&\" and Barix(\"&$D$12&\",reference:=StartOfDay)=\"&A156&\"\", \"Bar\", \"\", \"Close\",\"5\",\"0\",\"All\",,,\"False\",\"T\",\"EveryTick\")","v":4352.75},1.2797393985224828E-2,{"$f":"RTD(\"cqg.rtd\",,\"StudyData\", \"Close(\"&$D$12&\") when LocalYear(\"&$D$12&\")=\"&$D$10&\" and localMonth(\"&$D$12&\") =\"&$E$10&\" and LocalDay(\"&$D$12&\")=\"&$F$10&\" and Barix(\"&$D$12&\",reference:=StartOfDay)=\"&A156&\"\", \"Bar\", \"\", \"Close\",\"5\",\"0\",\"All\",,,\"False\",\"T\",\"EveryTick\")","v":4328.75},-4.8278636703258807E-3,null,null,null,""]
[252,"14:00:00",null,null,null,null,null,{"$f":"RTD(\"cqg.rtd\",,\"StudyData\", \"Close(\"&$D$12&\") when LocalYear(\"&$D$12&\")=\"&$D$1&\" and localMonth(\"&$D$12&\") =\"&$E$1&\" and LocalDay(\"&$D$12&\")=\"&$F$1&\" and Barix(\"&$D$12&\",reference:=StartOfDay)=\"&A157&\"\", \"Bar\", \"\", \"Close\",\"5\",\"0\",\"All\",,,\"False\",\"T\",\"EveryTick\")","v":""},{"$error":"#N/A"},{"$f":"RTD(\"cqg.rtd\",,\"StudyData\", \"Close(\"&$D$12&\") when LocalYear(\"&$D$12&\")=\"&$D$2&\" and localMonth(\"&$D$12&\") =\"&$E$2&\" and LocalDay(\"&$D$12&\")=\"&$F$2&\" and Barix(\"&$D$12&\",reference:=StartOfDay)=\"&A157&\"\", \"Bar\", \"\", \"Close\",\"5\",\"0\",\"All\",,,\"False\",\"T\",\"EveryTick\")","v":4345},-1.3789933348655481E-3,{"$f":"RTD(\"cqg.rtd\",,\"StudyData\", \"Close(\"&$D$12&\") when LocalYear(\"&$D$12&\")=\"&$D$3&\" and localMonth(\"&$D$12&\") =\"&$E$3&\" and LocalDay(\"&$D$12&\")=\"&$F$3&\" and Barix(\"&$D$12&\",reference:=StartOfDay)=\"&A157&\"\", \"Bar\", \"\", \"Close\",\"5\",\"0\",\"All\",,,\"False\",\"T\",\"EveryTick\")","v":4373.75},-1.9396428775172571E-3,{"$f":"RTD(\"cqg.rtd\",,\"StudyData\", \"Close(\"&$D$12&\") when LocalYear(\"&$D$12&\")=\"&$D$4&\" and localMonth(\"&$D$12&\") =\"&$E$4&\" and LocalDay(\"&$D$12&\")=\"&$F$4&\" and Barix(\"&$D$12&\",reference:=StartOfDay)=\"&A157&\"\", \"Bar\", \"\", \"Close\",\"5\",\"0\",\"All\",,,\"False\",\"T\",\"EveryTick\")","v":4393},6.83371298405467E-4,{"$f":"RTD(\"cqg.rtd\",,\"StudyData\", \"Close(\"&$D$12&\") when LocalYear(\"&$D$12&\")=\"&$D$5&\" and localMonth(\"&$D$12&\") =\"&$E$5&\" and LocalDay(\"&$D$12&\")=\"&$F$5&\" and Barix(\"&$D$12&\",reference:=StartOfDay)=\"&A157&\"\", \"Bar\", \"\", \"Close\",\"5\",\"0\",\"All\",,,\"False\",\"T\",\"EveryTick\")","v":4396.75},9.8185576481396412E-3,{"$f":"RTD(\"cqg.rtd\",,\"StudyData\", \"Close(\"&$D$12&\") when LocalYear(\"&$D$12&\")=\"&$D$6&\" and localMonth(\"&$D$12&\") =\"&$E$6&\" and LocalDay(\"&$D$12&\")=\"&$F$6&\" and Barix(\"&$D$12&\",reference:=StartOfDay)=\"&A157&\"\", \"Bar\", \"\", \"Close\",\"5\",\"0\",\"All\",,,\"False\",\"T\",\"EveryTick\")","v":4336.25},5.1915089986155974E-4,{"$f":"RTD(\"cqg.rtd\",,\"StudyData\", \"Close(\"&$D$12&\") when LocalYear(\"&$D$12&\")=\"&$D$7&\" and localMonth(\"&$D$12&\") =\"&$E$7&\" and LocalDay(\"&$D$12&\")=\"&$F$7&\" and Barix(\"&$D$12&\",reference:=StartOfDay)=\"&A157&\"\", \"Bar\", \"\", \"Close\",\"5\",\"0\",\"All\",,,\"False\",\"T\",\"EveryTick\")","v":4355.25},1.4914069327119138E-2,{"$f":"RTD(\"cqg.rtd\",,\"StudyData\", \"Close(\"&$D$12&\") when LocalYear(\"&$D$12&\")=\"&$D$8&\" and localMonth(\"&$D$12&\") =\"&$E$8&\" and LocalDay(\"&$D$12&\")=\"&$F$8&\" and Barix(\"&$D$12&\",reference:=StartOfDay)=\"&A157&\"\", \"Bar\", \"\", \"Close\",\"5\",\"0\",\"All\",,,\"False\",\"T\",\"EveryTick\")","v":4294},-1.1453237410071943E-2,{"$f":"RTD(\"cqg.rtd\",,\"StudyData\", \"Close(\"&$D$12&\") when LocalYear(\"&$D$12&\")=\"&$D$9&\" and localMonth(\"&$D$12&\") =\"&$E$9&\" and LocalDay(\"&$D$12&\")=\"&$F$9&\" and Barix(\"&$D$12&\",reference:=StartOfDay)=\"&A157&\"\", \"Bar\", \"\", \"Close\",\"5\",\"0\",\"All\",,,\"False\",\"T\",\"EveryTick\")","v":4358.5},1.4135303356407423E-2,{"$f":"RTD(\"cqg.rtd\",,\"StudyData\", \"Close(\"&$D$12&\") when LocalYear(\"&$D$12&\")=\"&$D$10&\" and localMonth(\"&$D$12&\") =\"&$E$10&\" and LocalDay(\"&$D$12&\")=\"&$F$10&\" and Barix(\"&$D$12&\",reference:=StartOfDay)=\"&A157&\"\", \"Bar\", \"\", \"Close\",\"5\",\"0\",\"All\",,,\"False\",\"T\",\"EveryTick\")","v":4326.25},-5.4026093453646762E-3,null,null,null,""]
[253,"14:05:00",null,null,null,null,null,{"$f":"RTD(\"cqg.rtd\",,\"StudyData\", \"Close(\"&$D$12&\") when LocalYear(\"&$D$12&\")=\"&$D$1&\" and localMonth(\"&$D$12&\") =\"&$E$1&\" and LocalDay(\"&$D$12&\")=\"&$F$1&\" and Barix(\"&$D$12&\",reference:=StartOfDay)=\"&A158&\"\", \"Bar\", \"\", \"Close\",\"5\",\"0\",\"All\",,,\"False\",\"T\",\"EveryTick\")","v":""},{"$error":"#N/A"},{"$f":"RTD(\"cqg.rtd\",,\"StudyData\", \"Close(\"&$D$12&\") when LocalYear(\"&$D$12&\")=\"&$D$2&\" and localMonth(\"&$D$12&\") =\"&$E$2&\" and LocalDay(\"&$D$12&\")=\"&$F$2&\" and Barix(\"&$D$12&\",reference:=StartOfDay)=\"&A158&\"\", \"Bar\", \"\", \"Close\",\"5\",\"0\",\"All\",,,\"False\",\"T\",\"EveryTick\")","v":4344},-1.6088255573431394E-3,{"$f":"RTD(\"cqg.rtd\",,\"StudyData\", \"Close(\"&$D$12&\") when LocalYear(\"&$D$12&\")=\"&$D$3&\" and localMonth(\"&$D$12&\") =\"&$E$3&\" and LocalDay(\"&$D$12&\")=\"&$F$3&\" and Barix(\"&$D$12&\",reference:=StartOfDay)=\"&A158&\"\", \"Bar\", \"\", \"Close\",\"5\",\"0\",\"All\",,,\"False\",\"T\",\"EveryTick\")","v":4370},-2.7953676764219293E-3,{"$f":"RTD(\"cqg.rtd\",,\"StudyData\", \"Close(\"&$D$12&\") when LocalYear(\"&$D$12&\")=\"&$D$4&\" and localMonth(\"&$D$12&\") =\"&$E$4&\" and LocalDay(\"&$D$12&\")=\"&$F$4&\" and Barix(\"&$D$12&\",reference:=StartOfDay)=\"&A158&\"\", \"Bar\", \"\", \"Close\",\"5\",\"0\",\"All\",,,\"False\",\"T\",\"EveryTick\")","v":4394.25},9.6810933940774484E-4,{"$f":"RTD(\"cqg.rtd\",,\"StudyData\", \"Close(\"&$D$12&\") when LocalYear(\"&$D$12&\")=\"&$D$5&\" and localMonth(\"&$D$12&\") =\"&$E$5&\" and LocalDay(\"&$D$12&\")=\"&$F$5&\" and Barix(\"&$D$12&\",reference:=StartOfDay)=\"&A158&\"\", \"Bar\", \"\", \"Close\",\"5\",\"0\",\"All\",,,\"False\",\"T\",\"EveryTick\")","v":4400.75},1.0737253100597153E-2,{"$f":"RTD(\"cqg.rtd\",,\"StudyData\", \"Close(\"&$D$12&\") when LocalYear(\"&$D$12&\")=\"&$D$6&\" and localMonth(\"&$D$12&\") =\"&$E$6&\" and LocalDay(\"&$D$12&\")=\"&$F$6&\" and Barix(\"&$D$12&\",reference:=StartOfDay)=\"&A158&\"\", \"Bar\", \"\", \"Close\",\"5\",\"0\",\"All\",,,\"False\",\"T\",\"EveryTick\")","v":4338.25},9.8061836640516852E-4,{"$f":"RTD(\"cqg.rtd\",,\"StudyData\", \"Close(\"&$D$12&\") when LocalYear(\"&$D$12&\")=\"&$D$7&\" and localMonth(\"&$D$12&\") =\"&$E$7&\" and LocalDay(\"&$D$12&\")=\"&$F$7&\" and Barix(\"&$D$12&\",reference:=StartOfDay)=\"&A158&\"\", \"Bar\", \"\", \"Close\",\"5\",\"0\",\"All\",,,\"False\",\"T\",\"EveryTick\")","v":4355.25},1.4914069327119138E-2,{"$f":"RTD(\"cqg.rtd\",,\"StudyData\", \"Close(\"&$D$12&\") when LocalYear(\"&$D$12&\")=\"&$D$8&\" and localMonth(\"&$D$12&\") =\"&$E$8&\" and LocalDay(\"&$D$12&\")=\"&$F$8&\" and Barix(\"&$D$12&\",reference:=StartOfDay)=\"&A158&\"\", \"Bar\", \"\", \"Close\",\"5\",\"0\",\"All\",,,\"False\",\"T\",\"EveryTick\")","v":4291.5},-1.2028776978417267E-2,{"$f":"RTD(\"cqg.rtd\",,\"StudyData\", \"Close(\"&$D$12&\") when LocalYear(\"&$D$12&\")=\"&$D$9&\" and localMonth(\"&$D$12&\") =\"&$E$9&\" and LocalDay(\"&$D$12&\")=\"&$F$9&\" and Barix(\"&$D$12&\",reference:=StartOfDay)=\"&A158&\"\", \"Bar\", \"\", \"Close\",\"5\",\"0\",\"All\",,,\"False\",\"T\",\"EveryTick\")","v":4359.25},1.4309813274387762E-2,{"$f":"RTD(\"cqg.rtd\",,\"StudyData\", \"Close(\"&$D$12&\") when LocalYear(\"&$D$12&\")=\"&$D$10&\" and localMonth(\"&$D$12&\") =\"&$E$10&\" and LocalDay(\"&$D$12&\")=\"&$F$10&\" and Barix(\"&$D$12&\",reference:=StartOfDay)=\"&A158&\"\", \"Bar\", \"\", \"Close\",\"5\",\"0\",\"All\",,,\"False\",\"T\",\"EveryTick\")","v":4330.25},-4.4830162653026039E-3,null,null,null,""]
[254,"14:10:00",null,null,null,null,null,{"$f":"RTD(\"cqg.rtd\",,\"StudyData\", \"Close(\"&$D$12&\") when LocalYear(\"&$D$12&\")=\"&$D$1&\" and localMonth(\"&$D$12&\") =\"&$E$1&\" and LocalDay(\"&$D$12&\")=\"&$F$1&\" and Barix(\"&$D$12&\",reference:=StartOfDay)=\"&A159&\"\", \"Bar\", \"\", \"Close\",\"5\",\"0\",\"All\",,,\"False\",\"T\",\"EveryTick\")","v":""},{"$error":"#N/A"},{"$f":"RTD(\"cqg.rtd\",,\"StudyData\", \"Close(\"&$D$12&\") when LocalYear(\"&$D$12&\")=\"&$D$2&\" and localMonth(\"&$D$12&\") =\"&$E$2&\" and LocalDay(\"&$D$12&\")=\"&$F$2&\" and Barix(\"&$D$12&\",reference:=StartOfDay)=\"&A159&\"\", \"Bar\", \"\", \"Close\",\"5\",\"0\",\"All\",,,\"False\",\"T\",\"EveryTick\")","v":4346},-1.1491611123879567E-3,{"$f":"RTD(\"cqg.rtd\",,\"StudyData\", \"Close(\"&$D$12&\") when LocalYear(\"&$D$12&\")=\"&$D$3&\" and localMonth(\"&$D$12&\") =\"&$E$3&\" and LocalDay(\"&$D$12&\")=\"&$F$3&\" and Barix(\"&$D$12&\",reference:=StartOfDay)=\"&A159&\"\", \"Bar\", \"\", \"Close\",\"5\",\"0\",\"All\",,,\"False\",\"T\",\"EveryTick\")","v":4371.75},-2.3960294369330822E-3,{"$f":"RTD(\"cqg.rtd\",,\"StudyData\", \"Close(\"&$D$12&\") when LocalYear(\"&$D$12&\")=\"&$D$4&\" and localMonth(\"&$D$12&\") =\"&$E$4&\" and LocalDay(\"&$D$12&\")=\"&$F$4&\" and Barix(\"&$D$12&\",reference:=StartOfDay)=\"&A159&\"\", \"Bar\", \"\", \"Close\",\"5\",\"0\",\"All\",,,\"False\",\"T\",\"EveryTick\")","v":4394.75},1.082004555808656E-3,{"$f":"RTD(\"cqg.rtd\",,\"StudyData\", \"Close(\"&$D$12&\") when LocalYear(\"&$D$12&\")=\"&$D$5&\" and localMonth(\"&$D$12&\") =\"&$E$5&\" and LocalDay(\"&$D$12&\")=\"&$F$5&\" and Barix(\"&$D$12&\",reference:=StartOfDay)=\"&A159&\"\", \"Bar\", \"\", \"Close\",\"5\",\"0\",\"All\",,,\"False\",\"T\",\"EveryTick\")","v":4403.25},1.1311437758383096E-2,{"$f":"RTD(\"cqg.rtd\",,\"StudyData\", \"Close(\"&$D$12&\") when LocalYear(\"&$D$12&\")=\"&$D$6&\" and localMonth(\"&$D$12&\") =\"&$E$6&\" and LocalDay(\"&$D$12&\")=\"&$F$6&\" and Barix(\"&$D$12&\",reference:=StartOfDay)=\"&A159&\"\", \"Bar\", \"\", \"Close\",\"5\",\"0\",\"All\",,,\"False\",\"T\",\"EveryTick\")","v":4339.75},1.3267189663128749E-3,{"$f":"RTD(\"cqg.rtd\",,\"StudyData\", \"Close(\"&$D$12&\") when LocalYear(\"&$D$12&\")=\"&$D$7&\" and localMonth(\"&$D$12&\") =\"&$E$7&\" and LocalDay(\"&$D$12&\")=\"&$F$7&\" and Barix(\"&$D$12&\",reference:=StartOfDay)=\"&A159&\"\", \"Bar\", \"\", \"Close\",\"5\",\"0\",\"All\",,,\"False\",\"T\",\"EveryTick\")","v":4357.75},1.549665016020973E-2,{"$f":"RTD(\"cqg.rtd\",,\"StudyData\", \"Close(\"&$D$12&\") when LocalYear(\"&$D$12&\")=\"&$D$8&\" and localMonth(\"&$D$12&\") =\"&$E$8&\" and LocalDay(\"&$D$12&\")=\"&$F$8&\" and Barix(\"&$D$12&\",reference:=StartOfDay)=\"&A159&\"\", \"Bar\", \"\", \"Close\",\"5\",\"0\",\"All\",,,\"False\",\"T\",\"EveryTick\")","v":4287.25},-1.3007194244604317E-2,{"$f":"RTD(\"cqg.rtd\",,\"StudyData\", \"Close(\"&$D$12&\") when LocalYear(\"&$D$12&\")=\"&$D$9&\" and localMonth(\"&$D$12&\") =\"&$E$9&\" and LocalDay(\"&$D$12&\")=\"&$F$9&\" and Barix(\"&$D$12&\",reference:=StartOfDay)=\"&A159&\"\", \"Bar\", \"\", \"Close\",\"5\",\"0\",\"All\",,,\"False\",\"T\",\"EveryTick\")","v":4363.25},1.5240532836949566E-2,{"$f":"RTD(\"cqg.rtd\",,\"StudyData\", \"Close(\"&$D$12&\") when LocalYear(\"&$D$12&\")=\"&$D$10&\" and localMonth(\"&$D$12&\") =\"&$E$10&\" and LocalDay(\"&$D$12&\")=\"&$F$10&\" and Barix(\"&$D$12&\",reference:=StartOfDay)=\"&A159&\"\", \"Bar\", \"\", \"Close\",\"5\",\"0\",\"All\",,,\"False\",\"T\",\"EveryTick\")","v":4335.25},-3.333524915225013E-3,null,null,null,""]
[255,"14:15:00",null,null,null,null,null,{"$f":"RTD(\"cqg.rtd\",,\"StudyData\", \"Close(\"&$D$12&\") when LocalYear(\"&$D$12&\")=\"&$D$1&\" and localMonth(\"&$D$12&\") =\"&$E$1&\" and LocalDay(\"&$D$12&\")=\"&$F$1&\" and Barix(\"&$D$12&\",reference:=StartOfDay)=\"&A160&\"\", \"Bar\", \"\", \"Close\",\"5\",\"0\",\"All\",,,\"False\",\"T\",\"EveryTick\")","v":""},{"$error":"#N/A"},{"$f":"RTD(\"cqg.rtd\",,\"StudyData\", \"Close(\"&$D$12&\") when LocalYear(\"&$D$12&\")=\"&$D$2&\" and localMonth(\"&$D$12&\") =\"&$E$2&\" and LocalDay(\"&$D$12&\")=\"&$F$2&\" and Barix(\"&$D$12&\",reference:=StartOfDay)=\"&A160&\"\", \"Bar\", \"\", \"Close\",\"5\",\"0\",\"All\",,,\"False\",\"T\",\"EveryTick\")","v":4344.75},-1.4364513904849461E-3,{"$f":"RTD(\"cqg.rtd\",,\"StudyData\", \"Close(\"&$D$12&\") when LocalYear(\"&$D$12&\")=\"&$D$3&\" and localMonth(\"&$D$12&\") =\"&$E$3&\" and LocalDay(\"&$D$12&\")=\"&$F$3&\" and Barix(\"&$D$12&\",reference:=StartOfDay)=\"&A160&\"\", \"Bar\", \"\", \"Close\",\"5\",\"0\",\"All\",,,\"False\",\"T\",\"EveryTick\")","v":4369},-3.0235609561298422E-3,{"$f":"RTD(\"cqg.rtd\",,\"StudyData\", \"Close(\"&$D$12&\") when LocalYear(\"&$D$12&\")=\"&$D$4&\" and localMonth(\"&$D$12&\") =\"&$E$4&\" and LocalDay(\"&$D$12&\")=\"&$F$4&\" and Barix(\"&$D$12&\",reference:=StartOfDay)=\"&A160&\"\", \"Bar\", \"\", \"Close\",\"5\",\"0\",\"All\",,,\"False\",\"T\",\"EveryTick\")","v":4393.25},7.4031890660592251E-4,{"$f":"RTD(\"cqg.rtd\",,\"StudyData\", \"Close(\"&$D$12&\") when LocalYear(\"&$D$12&\")=\"&$D$5&\" and localMonth(\"&$D$12&\") =\"&$E$5&\" and LocalDay(\"&$D$12&\")=\"&$F$5&\" and Barix(\"&$D$12&\",reference:=StartOfDay)=\"&A160&\"\", \"Bar\", \"\", \"Close\",\"5\",\"0\",\"All\",,,\"False\",\"T\",\"EveryTick\")","v":4404},1.1483693155718878E-2,{"$f":"RTD(\"cqg.rtd\",,\"StudyData\", \"Close(\"&$D$12&\") when LocalYear(\"&$D$12&\")=\"&$D$6&\" and localMonth(\"&$D$12&\") =\"&$E$6&\" and LocalDay(\"&$D$12&\")=\"&$F$6&\" and Barix(\"&$D$12&\",reference:=StartOfDay)=\"&A160&\"\", \"Bar\", \"\", \"Close\",\"5\",\"0\",\"All\",,,\"False\",\"T\",\"EveryTick\")","v":4341.25},1.6728195662205814E-3,{"$f":"RTD(\"cqg.rtd\",,\"StudyData\", \"Close(\"&$D$12&\") when LocalYear(\"&$D$12&\")=\"&$D$7&\" and localMonth(\"&$D$12&\") =\"&$E$7&\" and LocalDay(\"&$D$12&\")=\"&$F$7&\" and Barix(\"&$D$12&\",reference:=StartOfDay)=\"&A160&\"\", \"Bar\", \"\", \"Close\",\"5\",\"0\",\"All\",,,\"False\",\"T\",\"EveryTick\")","v":4355.5},1.4972327410428197E-2,{"$f":"RTD(\"cqg.rtd\",,\"StudyData\", \"Close(\"&$D$12&\") when LocalYear(\"&$D$12&\")=\"&$D$8&\" and localMonth(\"&$D$12&\") =\"&$E$8&\" and LocalDay(\"&$D$12&\")=\"&$F$8&\" and Barix(\"&$D$12&\",reference:=StartOfDay)=\"&A160&\"\", \"Bar\", \"\", \"Close\",\"5\",\"0\",\"All\",,,\"False\",\"T\",\"EveryTick\")","v":4281.5},-1.4330935251798561E-2,{"$f":"RTD(\"cqg.rtd\",,\"StudyData\", \"Close(\"&$D$12&\") when LocalYear(\"&$D$12&\")=\"&$D$9&\" and localMonth(\"&$D$12&\") =\"&$E$9&\" and LocalDay(\"&$D$12&\")=\"&$F$9&\" and Barix(\"&$D$12&\",reference:=StartOfDay)=\"&A160&\"\", \"Bar\", \"\", \"Close\",\"5\",\"0\",\"All\",,,\"False\",\"T\",\"EveryTick\")","v":4359},1.4251643301727648E-2,{"$f":"RTD(\"cqg.rtd\",,\"StudyData\", \"Close(\"&$D$12&\") when LocalYear(\"&$D$12&\")=\"&$D$10&\" and localMonth(\"&$D$12&\") =\"&$E$10&\" and LocalDay(\"&$D$12&\")=\"&$F$10&\" and Barix(\"&$D$12&\",reference:=StartOfDay)=\"&A160&\"\", \"Bar\", \"\", \"Close\",\"5\",\"0\",\"All\",,,\"False\",\"T\",\"EveryTick\")","v":4336},-3.1611012127133742E-3,null,null,null,""]
[256,"14:20:00",null,null,null,null,null,{"$f":"RTD(\"cqg.rtd\",,\"StudyData\", \"Close(\"&$D$12&\") when LocalYear(\"&$D$12&\")=\"&$D$1&\" and localMonth(\"&$D$12&\") =\"&$E$1&\" and LocalDay(\"&$D$12&\")=\"&$F$1&\" and Barix(\"&$D$12&\",reference:=StartOfDay)=\"&A161&\"\", \"Bar\", \"\", \"Close\",\"5\",\"0\",\"All\",,,\"False\",\"T\",\"EveryTick\")","v":""},{"$f":"IFERROR((H161-$G$2)/$G$2,NA())","v":{"$error":"#N/A"}},{"$f":"RTD(\"cqg.rtd\",,\"StudyData\", \"Close(\"&$D$12&\") when LocalYear(\"&$D$12&\")=\"&$D$2&\" and localMonth(\"&$D$12&\") =\"&$E$2&\" and LocalDay(\"&$D$12&\")=\"&$F$2&\" and Barix(\"&$D$12&\",reference:=StartOfDay)=\"&A161&\"\", \"Bar\", \"\", \"Close\",\"5\",\"0\",\"All\",,,\"False\",\"T\",\"EveryTick\")","v":4346},{"$f":"IFERROR((J161-$G$3)/$G$3,NA())","v":-1.1491611123879567E-3},{"$f":"RTD(\"cqg.rtd\",,\"StudyData\", \"Close(\"&$D$12&\") when LocalYear(\"&$D$12&\")=\"&$D$3&\" and localMonth(\"&$D$12&\") =\"&$E$3&\" and LocalDay(\"&$D$12&\")=\"&$F$3&\" and Barix(\"&$D$12&\",reference:=StartOfDay)=\"&A161&\"\", \"Bar\", \"\", \"Close\",\"5\",\"0\",\"All\",,,\"False\",\"T\",\"EveryTick\")","v":4366.5},{"$f":"IFERROR((L161-$G$4)/$G$4,NA())","v":-3.5940441553996235E-3},{"$f":"RTD(\"cqg.rtd\",,\"StudyData\", \"Close(\"&$D$12&\") when LocalYear(\"&$D$12&\")=\"&$D$4&\" and localMonth(\"&$D$12&\") =\"&$E$4&\" and LocalDay(\"&$D$12&\")=\"&$F$4&\" and Barix(\"&$D$12&\",reference:=StartOfDay)=\"&A161&\"\", \"Bar\", \"\", \"Close\",\"5\",\"0\",\"All\",,,\"False\",\"T\",\"EveryTick\")","v":4392.5},{"$f":"IFERROR((N161-$G$5)/$G$5,NA())","v":5.6947608200455578E-4},{"$f":"RTD(\"cqg.rtd\",,\"StudyData\", \"Close(\"&$D$12&\") when LocalYear(\"&$D$12&\")=\"&$D$5&\" and localMonth(\"&$D$12&\") =\"&$E$5&\" and LocalDay(\"&$D$12&\")=\"&$F$5&\" and Barix(\"&$D$12&\",reference:=StartOfDay)=\"&A161&\"\", \"Bar\", \"\", \"Close\",\"5\",\"0\",\"All\",,,\"False\",\"T\",\"EveryTick\")","v":4401.75},{"$f":"IFERROR((P161-$G$6)/$G$6,NA())","v":1.0966926963711529E-2},{"$f":"RTD(\"cqg.rtd\",,\"StudyData\", \"Close(\"&$D$12&\") when LocalYear(\"&$D$12&\")=\"&$D$6&\" and localMonth(\"&$D$12&\") =\"&$E$6&\" and LocalDay(\"&$D$12&\")=\"&$F$6&\" and Barix(\"&$D$12&\",reference:=StartOfDay)=\"&A161&\"\", \"Bar\", \"\", \"Close\",\"5\",\"0\",\"All\",,,\"False\",\"T\",\"EveryTick\")","v":4341.75},{"$f":"IFERROR((R161-$G$7)/$G$7,NA())","v":1.7881864328564837E-3},{"$f":"RTD(\"cqg.rtd\",,\"StudyData\", \"Close(\"&$D$12&\") when LocalYear(\"&$D$12&\")=\"&$D$7&\" and localMonth(\"&$D$12&\") =\"&$E$7&\" and LocalDay(\"&$D$12&\")=\"&$F$7&\" and Barix(\"&$D$12&\",reference:=StartOfDay)=\"&A161&\"\", \"Bar\", \"\", \"Close\",\"5\",\"0\",\"All\",,,\"False\",\"T\",\"EveryTick\")","v":4349.75},{"$f":"IFERROR((T161-$G$8)/$G$8,NA())","v":1.3632391494319837E-2},{"$f":"RTD(\"cqg.rtd\",,\"StudyData\", \"Close(\"&$D$12&\") when LocalYear(\"&$D$12&\")=\"&$D$8&\" and localMonth(\"&$D$12&\") =\"&$E$8&\" and LocalDay(\"&$D$12&\")=\"&$F$8&\" and Barix(\"&$D$12&\",reference:=StartOfDay)=\"&A161&\"\", \"Bar\", \"\", \"Close\",\"5\",\"0\",\"All\",,,\"False\",\"T\",\"EveryTick\")","v":4279.75},{"$f":"IFERROR((V161-$G$9)/$G$9,NA())","v":-1.4733812949640287E-2},{"$f":"RTD(\"cqg.rtd\",,\"StudyData\", \"Close(\"&$D$12&\") when LocalYear(\"&$D$12&\")=\"&$D$9&\" and localMonth(\"&$D$12&\") =\"&$E$9&\" and LocalDay(\"&$D$12&\")=\"&$F$9&\" and Barix(\"&$D$12&\",reference:=StartOfDay)=\"&A161&\"\", \"Bar\", \"\", \"Close\",\"5\",\"0\",\"All\",,,\"False\",\"T\",\"EveryTick\")","v":4358.5},{"$f":"IFERROR((X161-$G$10)/$G$10,NA())","v":1.4135303356407423E-2},{"$f":"RTD(\"cqg.rtd\",,\"StudyData\", \"Close(\"&$D$12&\") when LocalYear(\"&$D$12&\")=\"&$D$10&\" and localMonth(\"&$D$12&\") =\"&$E$10&\" and LocalDay(\"&$D$12&\")=\"&$F$10&\" and Barix(\"&$D$12&\",reference:=StartOfDay)=\"&A161&\"\", \"Bar\", \"\", \"Close\",\"5\",\"0\",\"All\",,,\"False\",\"T\",\"EveryTick\")","v":4330},{"$f":"IFERROR((Z161-$G$11)/$G$11,NA())","v":-4.540490832806483E-3},null,null,null,""]
[257,"14:25:00",null,null,null,null,null,{"$f":"RTD(\"cqg.rtd\",,\"StudyData\", \"Close(\"&$D$12&\") when LocalYear(\"&$D$12&\")=\"&$D$1&\" and localMonth(\"&$D$12&\") =\"&$E$1&\" and LocalDay(\"&$D$12&\")=\"&$F$1&\" and Barix(\"&$D$12&\",reference:=StartOfDay)=\"&A162&\"\", \"Bar\", \"\", \"Close\",\"5\",\"0\",\"All\",,,\"False\",\"T\",\"EveryTick\")","v":""},{"$error":"#N/A"},{"$f":"RTD(\"cqg.rtd\",,\"StudyData\", \"Close(\"&$D$12&\") when LocalYear(\"&$D$12&\")=\"&$D$2&\" and localMonth(\"&$D$12&\") =\"&$E$2&\" and LocalDay(\"&$D$12&\")=\"&$F$2&\" and Barix(\"&$D$12&\",reference:=StartOfDay)=\"&A162&\"\", \"Bar\", \"\", \"Close\",\"5\",\"0\",\"All\",,,\"False\",\"T\",\"EveryTick\")","v":4345.75},-1.2066191680073547E-3,{"$f":"RTD(\"cqg.rtd\",,\"StudyData\", \"Close(\"&$D$12&\") when LocalYear(\"&$D$12&\")=\"&$D$3&\" and localMonth(\"&$D$12&\") =\"&$E$3&\" and LocalDay(\"&$D$12&\")=\"&$F$3&\" and Barix(\"&$D$12&\",reference:=StartOfDay)=\"&A162&\"\", \"Bar\", \"\", \"Close\",\"5\",\"0\",\"All\",,,\"False\",\"T\",\"EveryTick\")","v":4363.25},-4.3356723144503395E-3,{"$f":"RTD(\"cqg.rtd\",,\"StudyData\", \"Close(\"&$D$12&\") when LocalYear(\"&$D$12&\")=\"&$D$4&\" and localMonth(\"&$D$12&\") =\"&$E$4&\" and LocalDay(\"&$D$12&\")=\"&$F$4&\" and Barix(\"&$D$12&\",reference:=StartOfDay)=\"&A162&\"\", \"Bar\", \"\", \"Close\",\"5\",\"0\",\"All\",,,\"False\",\"T\",\"EveryTick\")","v":4393.25},7.4031890660592251E-4,{"$f":"RTD(\"cqg.rtd\",,\"StudyData\", \"Close(\"&$D$12&\") when LocalYear(\"&$D$12&\")=\"&$D$5&\" and localMonth(\"&$D$12&\") =\"&$E$5&\" and LocalDay(\"&$D$12&\")=\"&$F$5&\" and Barix(\"&$D$12&\",reference:=StartOfDay)=\"&A162&\"\", \"Bar\", \"\", \"Close\",\"5\",\"0\",\"All\",,,\"False\",\"T\",\"EveryTick\")","v":4400.75},1.0737253100597153E-2,{"$f":"RTD(\"cqg.rtd\",,\"StudyData\", \"Close(\"&$D$12&\") when LocalYear(\"&$D$12&\")=\"&$D$6&\" and localMonth(\"&$D$12&\") =\"&$E$6&\" and LocalDay(\"&$D$12&\")=\"&$F$6&\" and Barix(\"&$D$12&\",reference:=StartOfDay)=\"&A162&\"\", \"Bar\", \"\", \"Close\",\"5\",\"0\",\"All\",,,\"False\",\"T\",\"EveryTick\")","v":4343.75},2.2496538994000925E-3,{"$f":"RTD(\"cqg.rtd\",,\"StudyData\", \"Close(\"&$D$12&\") when LocalYear(\"&$D$12&\")=\"&$D$7&\" and localMonth(\"&$D$12&\") =\"&$E$7&\" and LocalDay(\"&$D$12&\")=\"&$F$7&\" and Barix(\"&$D$12&\",reference:=StartOfDay)=\"&A162&\"\", \"Bar\", \"\", \"Close\",\"5\",\"0\",\"All\",,,\"False\",\"T\",\"EveryTick\")","v":4349.25},1.3515875327701718E-2,{"$f":"RTD(\"cqg.rtd\",,\"StudyData\", \"Close(\"&$D$12&\") when LocalYear(\"&$D$12&\")=\"&$D$8&\" and localMonth(\"&$D$12&\") =\"&$E$8&\" and LocalDay(\"&$D$12&\")=\"&$F$8&\" and Barix(\"&$D$12&\",reference:=StartOfDay)=\"&A162&\"\", \"Bar\", \"\", \"Close\",\"5\",\"0\",\"All\",,,\"False\",\"T\",\"EveryTick\")","v":4281},-1.4446043165467626E-2,{"$f":"RTD(\"cqg.rtd\",,\"StudyData\", \"Close(\"&$D$12&\") when LocalYear(\"&$D$12&\")=\"&$D$9&\" and localMonth(\"&$D$12&\") =\"&$E$9&\" and LocalDay(\"&$D$12&\")=\"&$F$9&\" and Barix(\"&$D$12&\",reference:=StartOfDay)=\"&A162&\"\", \"Bar\", \"\", \"Close\",\"5\",\"0\",\"All\",,,\"False\",\"T\",\"EveryTick\")","v":4353.75},1.3030073875865278E-2,{"$f":"RTD(\"cqg.rtd\",,\"StudyData\", \"Close(\"&$D$12&\") when LocalYear(\"&$D$12&\")=\"&$D$10&\" and localMonth(\"&$D$12&\") =\"&$E$10&\" and LocalDay(\"&$D$12&\")=\"&$F$10&\" and Barix(\"&$D$12&\",reference:=StartOfDay)=\"&A162&\"\", \"Bar\", \"\", \"Close\",\"5\",\"0\",\"All\",,,\"False\",\"T\",\"EveryTick\")","v":4328},-5.0002873728375195E-3,null,null,null,{"$f":"IFERROR(IF(AND(H161<>\"\",H162<>\"\",H163=\"\"),A162,\"\"),\"\")","v":""}]
[258,"14:30:00",null,null,null,null,null,{"$f":"RTD(\"cqg.rtd\",,\"StudyData\", \"Close(\"&$D$12&\") when LocalYear(\"&$D$12&\")=\"&$D$1&\" and localMonth(\"&$D$12&\") =\"&$E$1&\" and LocalDay(\"&$D$12&\")=\"&$F$1&\" and Barix(\"&$D$12&\",reference:=StartOfDay)=\"&A163&\"\", \"Bar\", \"\", \"Close\",\"5\",\"0\",\"All\",,,\"False\",\"T\",\"EveryTick\")","v":""},{"$error":"#N/A"},{"$f":"RTD(\"cqg.rtd\",,\"StudyData\", \"Close(\"&$D$12&\") when LocalYear(\"&$D$12&\")=\"&$D$2&\" and localMonth(\"&$D$12&\") =\"&$E$2&\" and LocalDay(\"&$D$12&\")=\"&$F$2&\" and Barix(\"&$D$12&\",reference:=StartOfDay)=\"&A163&\"\", \"Bar\", \"\", \"Close\",\"5\",\"0\",\"All\",,,\"False\",\"T\",\"EveryTick\")","v":4346},-1.1491611123879567E-3,{"$f":"RTD(\"cqg.rtd\",,\"StudyData\", \"Close(\"&$D$12&\") when LocalYear(\"&$D$12&\")=\"&$D$3&\" and localMonth(\"&$D$12&\") =\"&$E$3&\" and LocalDay(\"&$D$12&\")=\"&$F$3&\" and Barix(\"&$D$12&\",reference:=StartOfDay)=\"&A163&\"\", \"Bar\", \"\", \"Close\",\"5\",\"0\",\"All\",,,\"False\",\"T\",\"EveryTick\")","v":4362.5},-4.5068172742312737E-3,{"$f":"RTD(\"cqg.rtd\",,\"StudyData\", \"Close(\"&$D$12&\") when LocalYear(\"&$D$12&\")=\"&$D$4&\" and localMonth(\"&$D$12&\") =\"&$E$4&\" and LocalDay(\"&$D$12&\")=\"&$F$4&\" and Barix(\"&$D$12&\",reference:=StartOfDay)=\"&A163&\"\", \"Bar\", \"\", \"Close\",\"5\",\"0\",\"All\",,,\"False\",\"T\",\"EveryTick\")","v":4391.25},2.8473804100227789E-4,{"$f":"RTD(\"cqg.rtd\",,\"StudyData\", \"Close(\"&$D$12&\") when LocalYear(\"&$D$12&\")=\"&$D$5&\" and localMonth(\"&$D$12&\") =\"&$E$5&\" and LocalDay(\"&$D$12&\")=\"&$F$5&\" and Barix(\"&$D$12&\",reference:=StartOfDay)=\"&A163&\"\", \"Bar\", \"\", \"Close\",\"5\",\"0\",\"All\",,,\"False\",\"T\",\"EveryTick\")","v":4400.25},1.0622416169039963E-2,{"$f":"RTD(\"cqg.rtd\",,\"StudyData\", \"Close(\"&$D$12&\") when LocalYear(\"&$D$12&\")=\"&$D$6&\" and localMonth(\"&$D$12&\") =\"&$E$6&\" and LocalDay(\"&$D$12&\")=\"&$F$6&\" and Barix(\"&$D$12&\",reference:=StartOfDay)=\"&A163&\"\", \"Bar\", \"\", \"Close\",\"5\",\"0\",\"All\",,,\"False\",\"T\",\"EveryTick\")","v":4340.75},1.5574526995846792E-3,{"$f":"RTD(\"cqg.rtd\",,\"StudyData\", \"Close(\"&$D$12&\") when LocalYear(\"&$D$12&\")=\"&$D$7&\" and localMonth(\"&$D$12&\") =\"&$E$7&\" and LocalDay(\"&$D$12&\")=\"&$F$7&\" and Barix(\"&$D$12&\",reference:=StartOfDay)=\"&A163&\"\", \"Bar\", \"\", \"Close\",\"5\",\"0\",\"All\",,,\"False\",\"T\",\"EveryTick\")","v":4351},1.3923681910865132E-2,{"$f":"RTD(\"cqg.rtd\",,\"StudyData\", \"Close(\"&$D$12&\") when LocalYear(\"&$D$12&\")=\"&$D$8&\" and localMonth(\"&$D$12&\") =\"&$E$8&\" and LocalDay(\"&$D$12&\")=\"&$F$8&\" and Barix(\"&$D$12&\",reference:=StartOfDay)=\"&A163&\"\", \"Bar\", \"\", \"Close\",\"5\",\"0\",\"All\",,,\"False\",\"T\",\"EveryTick\")","v":4285.5},-1.3410071942446044E-2,{"$f":"RTD(\"cqg.rtd\",,\"StudyData\", \"Close(\"&$D$12&\") when LocalYear(\"&$D$12&\")=\"&$D$9&\" and localMonth(\"&$D$12&\") =\"&$E$9&\" and LocalDay(\"&$D$12&\")=\"&$F$9&\" and Barix(\"&$D$12&\",reference:=StartOfDay)=\"&A163&\"\", \"Bar\", \"\", \"Close\",\"5\",\"0\",\"All\",,,\"False\",\"T\",\"EveryTick\")","v":4355.25},1.3379093711825956E-2,{"$f":"RTD(\"cqg.rtd\",,\"StudyData\", \"Close(\"&$D$12&\") when LocalYear(\"&$D$12&\")=\"&$D$10&\" and localMonth(\"&$D$12&\") =\"&$E$10&\" and LocalDay(\"&$D$12&\")=\"&$F$10&\" and Barix(\"&$D$12&\",reference:=StartOfDay)=\"&A163&\"\", \"Bar\", \"\", \"Close\",\"5\",\"0\",\"All\",,,\"False\",\"T\",\"EveryTick\")","v":4334.25},-3.5634231852405313E-3,null,null,null,""]
[259,"14:35:00",null,null,null,null,null,{"$f":"RTD(\"cqg.rtd\",,\"StudyData\", \"Close(\"&$D$12&\") when LocalYear(\"&$D$12&\")=\"&$D$1&\" and localMonth(\"&$D$12&\") =\"&$E$1&\" and LocalDay(\"&$D$12&\")=\"&$F$1&\" and Barix(\"&$D$12&\",reference:=StartOfDay)=\"&A164&\"\", \"Bar\", \"\", \"Close\",\"5\",\"0\",\"All\",,,\"False\",\"T\",\"EveryTick\")","v":""},{"$error":"#N/A"},{"$f":"RTD(\"cqg.rtd\",,\"StudyData\", \"Close(\"&$D$12&\") when LocalYear(\"&$D$12&\")=\"&$D$2&\" and localMonth(\"&$D$12&\") =\"&$E$2&\" and LocalDay(\"&$D$12&\")=\"&$F$2&\" and Barix(\"&$D$12&\",reference:=StartOfDay)=\"&A164&\"\", \"Bar\", \"\", \"Close\",\"5\",\"0\",\"All\",,,\"False\",\"T\",\"EveryTick\")","v":4343.25},-1.781199724201333E-3,{"$f":"RTD(\"cqg.rtd\",,\"StudyData\", \"Close(\"&$D$12&\") when LocalYear(\"&$D$12&\")=\"&$D$3&\" and localMonth(\"&$D$12&\") =\"&$E$3&\" and LocalDay(\"&$D$12&\")=\"&$F$3&\" and Barix(\"&$D$12&\",reference:=StartOfDay)=\"&A164&\"\", \"Bar\", \"\", \"Close\",\"5\",\"0\",\"All\",,,\"False\",\"T\",\"EveryTick\")","v":4362.25},-4.5638655941582524E-3,{"$f":"RTD(\"cqg.rtd\",,\"StudyData\", \"Close(\"&$D$12&\") when LocalYear(\"&$D$12&\")=\"&$D$4&\" and localMonth(\"&$D$12&\") =\"&$E$4&\" and LocalDay(\"&$D$12&\")=\"&$F$4&\" and Barix(\"&$D$12&\",reference:=StartOfDay)=\"&A164&\"\", \"Bar\", \"\", \"Close\",\"5\",\"0\",\"All\",,,\"False\",\"T\",\"EveryTick\")","v":4386.75},-7.4031890660592251E-4,{"$f":"RTD(\"cqg.rtd\",,\"StudyData\", \"Close(\"&$D$12&\") when LocalYear(\"&$D$12&\")=\"&$D$5&\" and localMonth(\"&$D$12&\") =\"&$E$5&\" and LocalDay(\"&$D$12&\")=\"&$F$5&\" and Barix(\"&$D$12&\",reference:=StartOfDay)=\"&A164&\"\", \"Bar\", \"\", \"Close\",\"5\",\"0\",\"All\",,,\"False\",\"T\",\"EveryTick\")","v":4396.25},9.7037207165824521E-3,{"$f":"RTD(\"cqg.rtd\",,\"StudyData\", \"Close(\"&$D$12&\") when LocalYear(\"&$D$12&\")=\"&$D$6&\" and localMonth(\"&$D$12&\") =\"&$E$6&\" and LocalDay(\"&$D$12&\")=\"&$F$6&\" and Barix(\"&$D$12&\",reference:=StartOfDay)=\"&A164&\"\", \"Bar\", \"\", \"Close\",\"5\",\"0\",\"All\",,,\"False\",\"T\",\"EveryTick\")","v":4338.5},1.0383017997231195E-3,{"$f":"RTD(\"cqg.rtd\",,\"StudyData\", \"Close(\"&$D$12&\") when LocalYear(\"&$D$12&\")=\"&$D$7&\" and localMonth(\"&$D$12&\") =\"&$E$7&\" and LocalDay(\"&$D$12&\")=\"&$F$7&\" and Barix(\"&$D$12&\",reference:=StartOfDay)=\"&A164&\"\", \"Bar\", \"\", \"Close\",\"5\",\"0\",\"All\",,,\"False\",\"T\",\"EveryTick\")","v":4349},1.3457617244392659E-2,{"$f":"RTD(\"cqg.rtd\",,\"StudyData\", \"Close(\"&$D$12&\") when LocalYear(\"&$D$12&\")=\"&$D$8&\" and localMonth(\"&$D$12&\") =\"&$E$8&\" and LocalDay(\"&$D$12&\")=\"&$F$8&\" and Barix(\"&$D$12&\",reference:=StartOfDay)=\"&A164&\"\", \"Bar\", \"\", \"Close\",\"5\",\"0\",\"All\",,,\"False\",\"T\",\"EveryTick\")","v":4278.25},-1.5079136690647482E-2,{"$f":"RTD(\"cqg.rtd\",,\"StudyData\", \"Close(\"&$D$12&\") when LocalYear(\"&$D$12&\")=\"&$D$9&\" and localMonth(\"&$D$12&\") =\"&$E$9&\" and LocalDay(\"&$D$12&\")=\"&$F$9&\" and Barix(\"&$D$12&\",reference:=StartOfDay)=\"&A164&\"\", \"Bar\", \"\", \"Close\",\"5\",\"0\",\"All\",,,\"False\",\"T\",\"EveryTick\")","v":4350.5},1.227386423128381E-2,{"$f":"RTD(\"cqg.rtd\",,\"StudyData\", \"Close(\"&$D$12&\") when LocalYear(\"&$D$12&\")=\"&$D$10&\" and localMonth(\"&$D$12&\") =\"&$E$10&\" and LocalDay(\"&$D$12&\")=\"&$F$10&\" and Barix(\"&$D$12&\",reference:=StartOfDay)=\"&A164&\"\", \"Bar\", \"\", \"Close\",\"5\",\"0\",\"All\",,,\"False\",\"T\",\"EveryTick\")","v":4325.25},-5.632507615380194E-3,null,null,null,""]
[260,"14:40:00",null,null,null,null,null,{"$f":"RTD(\"cqg.rtd\",,\"StudyData\", \"Close(\"&$D$12&\") when LocalYear(\"&$D$12&\")=\"&$D$1&\" and localMonth(\"&$D$12&\") =\"&$E$1&\" and LocalDay(\"&$D$12&\")=\"&$F$1&\" and Barix(\"&$D$12&\",reference:=StartOfDay)=\"&A165&\"\", \"Bar\", \"\", \"Close\",\"5\",\"0\",\"All\",,,\"False\",\"T\",\"EveryTick\")","v":""},{"$error":"#N/A"},{"$f":"RTD(\"cqg.rtd\",,\"StudyData\", \"Close(\"&$D$12&\") when LocalYear(\"&$D$12&\")=\"&$D$2&\" and localMonth(\"&$D$12&\") =\"&$E$2&\" and LocalDay(\"&$D$12&\")=\"&$F$2&\" and Barix(\"&$D$12&\",reference:=StartOfDay)=\"&A165&\"\", \"Bar\", \"\", \"Close\",\"5\",\"0\",\"All\",,,\"False\",\"T\",\"EveryTick\")","v":4335},-3.6773155596414617E-3,{"$f":"RTD(\"cqg.rtd\",,\"StudyData\", \"Close(\"&$D$12&\") when LocalYear(\"&$D$12&\")=\"&$D$3&\" and localMonth(\"&$D$12&\") =\"&$E$3&\" and LocalDay(\"&$D$12&\")=\"&$F$3&\" and Barix(\"&$D$12&\",reference:=StartOfDay)=\"&A165&\"\", \"Bar\", \"\", \"Close\",\"5\",\"0\",\"All\",,,\"False\",\"T\",\"EveryTick\")","v":4361},-4.8491071937931431E-3,{"$f":"RTD(\"cqg.rtd\",,\"StudyData\", \"Close(\"&$D$12&\") when LocalYear(\"&$D$12&\")=\"&$D$4&\" and localMonth(\"&$D$12&\") =\"&$E$4&\" and LocalDay(\"&$D$12&\")=\"&$F$4&\" and Barix(\"&$D$12&\",reference:=StartOfDay)=\"&A165&\"\", \"Bar\", \"\", \"Close\",\"5\",\"0\",\"All\",,,\"False\",\"T\",\"EveryTick\")","v":4384.75},-1.1958997722095672E-3,{"$f":"RTD(\"cqg.rtd\",,\"StudyData\", \"Close(\"&$D$12&\") when LocalYear(\"&$D$12&\")=\"&$D$5&\" and localMonth(\"&$D$12&\") =\"&$E$5&\" and LocalDay(\"&$D$12&\")=\"&$F$5&\" and Barix(\"&$D$12&\",reference:=StartOfDay)=\"&A165&\"\", \"Bar\", \"\", \"Close\",\"5\",\"0\",\"All\",,,\"False\",\"T\",\"EveryTick\")","v":4391.5},8.6127698667891588E-3,{"$f":"RTD(\"cqg.rtd\",,\"StudyData\", \"Close(\"&$D$12&\") when LocalYear(\"&$D$12&\")=\"&$D$6&\" and localMonth(\"&$D$12&\") =\"&$E$6&\" and LocalDay(\"&$D$12&\")=\"&$F$6&\" and Barix(\"&$D$12&\",reference:=StartOfDay)=\"&A165&\"\", \"Bar\", \"\", \"Close\",\"5\",\"0\",\"All\",,,\"False\",\"T\",\"EveryTick\")","v":4342.25},1.9035532994923859E-3,{"$f":"RTD(\"cqg.rtd\",,\"StudyData\", \"Close(\"&$D$12&\") when LocalYear(\"&$D$12&\")=\"&$D$7&\" and localMonth(\"&$D$12&\") =\"&$E$7&\" and LocalDay(\"&$D$12&\")=\"&$F$7&\" and Barix(\"&$D$12&\",reference:=StartOfDay)=\"&A165&\"\", \"Bar\", \"\", \"Close\",\"5\",\"0\",\"All\",,,\"False\",\"T\",\"EveryTick\")","v":4348.25},1.3282842994465482E-2,{"$f":"RTD(\"cqg.rtd\",,\"StudyData\", \"Close(\"&$D$12&\") when LocalYear(\"&$D$12&\")=\"&$D$8&\" and localMonth(\"&$D$12&\") =\"&$E$8&\" and LocalDay(\"&$D$12&\")=\"&$F$8&\" and Barix(\"&$D$12&\",reference:=StartOfDay)=\"&A165&\"\", \"Bar\", \"\", \"Close\",\"5\",\"0\",\"All\",,,\"False\",\"T\",\"EveryTick\")","v":4292},-1.1913669064748202E-2,{"$f":"RTD(\"cqg.rtd\",,\"StudyData\", \"Close(\"&$D$12&\") when LocalYear(\"&$D$12&\")=\"&$D$9&\" and localMonth(\"&$D$12&\") =\"&$E$9&\" and LocalDay(\"&$D$12&\")=\"&$F$9&\" and Barix(\"&$D$12&\",reference:=StartOfDay)=\"&A165&\"\", \"Bar\", \"\", \"Close\",\"5\",\"0\",\"All\",,,\"False\",\"T\",\"EveryTick\")","v":4352.25},1.2681054039904601E-2,{"$f":"RTD(\"cqg.rtd\",,\"StudyData\", \"Close(\"&$D$12&\") when LocalYear(\"&$D$12&\")=\"&$D$10&\" and localMonth(\"&$D$12&\") =\"&$E$10&\" and LocalDay(\"&$D$12&\")=\"&$F$10&\" and Barix(\"&$D$12&\",reference:=StartOfDay)=\"&A165&\"\", \"Bar\", \"\", \"Close\",\"5\",\"0\",\"All\",,,\"False\",\"T\",\"EveryTick\")","v":4318.25},-7.2417955054888215E-3,null,null,null,""]
[261,"14:45:00",null,null,null,null,null,{"$f":"RTD(\"cqg.rtd\",,\"StudyData\", \"Close(\"&$D$12&\") when LocalYear(\"&$D$12&\")=\"&$D$1&\" and localMonth(\"&$D$12&\") =\"&$E$1&\" and LocalDay(\"&$D$12&\")=\"&$F$1&\" and Barix(\"&$D$12&\",reference:=StartOfDay)=\"&A166&\"\", \"Bar\", \"\", \"Close\",\"5\",\"0\",\"All\",,,\"False\",\"T\",\"EveryTick\")","v":""},{"$error":"#N/A"},{"$f":"RTD(\"cqg.rtd\",,\"StudyData\", \"Close(\"&$D$12&\") when LocalYear(\"&$D$12&\")=\"&$D$2&\" and localMonth(\"&$D$12&\") =\"&$E$2&\" and LocalDay(\"&$D$12&\")=\"&$F$2&\" and Barix(\"&$D$12&\",reference:=StartOfDay)=\"&A166&\"\", \"Bar\", \"\", \"Close\",\"5\",\"0\",\"All\",,,\"False\",\"T\",\"EveryTick\")","v":4334.5},-3.7922316708802572E-3,{"$f":"RTD(\"cqg.rtd\",,\"StudyData\", \"Close(\"&$D$12&\") when LocalYear(\"&$D$12&\")=\"&$D$3&\" and localMonth(\"&$D$12&\") =\"&$E$3&\" and LocalDay(\"&$D$12&\")=\"&$F$3&\" and Barix(\"&$D$12&\",reference:=StartOfDay)=\"&A166&\"\", \"Bar\", \"\", \"Close\",\"5\",\"0\",\"All\",,,\"False\",\"T\",\"EveryTick\")","v":4359.5},-5.1913971133550115E-3,{"$f":"RTD(\"cqg.rtd\",,\"StudyData\", \"Close(\"&$D$12&\") when LocalYear(\"&$D$12&\")=\"&$D$4&\" and localMonth(\"&$D$12&\") =\"&$E$4&\" and LocalDay(\"&$D$12&\")=\"&$F$4&\" and Barix(\"&$D$12&\",reference:=StartOfDay)=\"&A166&\"\", \"Bar\", \"\", \"Close\",\"5\",\"0\",\"All\",,,\"False\",\"T\",\"EveryTick\")","v":4382.75},-1.6514806378132118E-3,{"$f":"RTD(\"cqg.rtd\",,\"StudyData\", \"Close(\"&$D$12&\") when LocalYear(\"&$D$12&\")=\"&$D$5&\" and localMonth(\"&$D$12&\") =\"&$E$5&\" and LocalDay(\"&$D$12&\")=\"&$F$5&\" and Barix(\"&$D$12&\",reference:=StartOfDay)=\"&A166&\"\", \"Bar\", \"\", \"Close\",\"5\",\"0\",\"All\",,,\"False\",\"T\",\"EveryTick\")","v":4396},9.6463022508038593E-3,{"$f":"RTD(\"cqg.rtd\",,\"StudyData\", \"Close(\"&$D$12&\") when LocalYear(\"&$D$12&\")=\"&$D$6&\" and localMonth(\"&$D$12&\") =\"&$E$6&\" and LocalDay(\"&$D$12&\")=\"&$F$6&\" and Barix(\"&$D$12&\",reference:=StartOfDay)=\"&A166&\"\", \"Bar\", \"\", \"Close\",\"5\",\"0\",\"All\",,,\"False\",\"T\",\"EveryTick\")","v":4345.75},2.7111213659437011E-3,{"$f":"RTD(\"cqg.rtd\",,\"StudyData\", \"Close(\"&$D$12&\") when LocalYear(\"&$D$12&\")=\"&$D$7&\" and localMonth(\"&$D$12&\") =\"&$E$7&\" and LocalDay(\"&$D$12&\")=\"&$F$7&\" and Barix(\"&$D$12&\",reference:=StartOfDay)=\"&A166&\"\", \"Bar\", \"\", \"Close\",\"5\",\"0\",\"All\",,,\"False\",\"T\",\"EveryTick\")","v":4346},1.2758520244683949E-2,{"$f":"RTD(\"cqg.rtd\",,\"StudyData\", \"Close(\"&$D$12&\") when LocalYear(\"&$D$12&\")=\"&$D$8&\" and localMonth(\"&$D$12&\") =\"&$E$8&\" and LocalDay(\"&$D$12&\")=\"&$F$8&\" and Barix(\"&$D$12&\",reference:=StartOfDay)=\"&A166&\"\", \"Bar\", \"\", \"Close\",\"5\",\"0\",\"All\",,,\"False\",\"T\",\"EveryTick\")","v":4289.75},-1.2431654676258994E-2,{"$f":"RTD(\"cqg.rtd\",,\"StudyData\", \"Close(\"&$D$12&\") when LocalYear(\"&$D$12&\")=\"&$D$9&\" and localMonth(\"&$D$12&\") =\"&$E$9&\" and LocalDay(\"&$D$12&\")=\"&$F$9&\" and Barix(\"&$D$12&\",reference:=StartOfDay)=\"&A166&\"\", \"Bar\", \"\", \"Close\",\"5\",\"0\",\"All\",,,\"False\",\"T\",\"EveryTick\")","v":4347.25},1.1517654586702343E-2,{"$f":"RTD(\"cqg.rtd\",,\"StudyData\", \"Close(\"&$D$12&\") when LocalYear(\"&$D$12&\")=\"&$D$10&\" and localMonth(\"&$D$12&\") =\"&$E$10&\" and LocalDay(\"&$D$12&\")=\"&$F$10&\" and Barix(\"&$D$12&\",reference:=StartOfDay)=\"&A166&\"\", \"Bar\", \"\", \"Close\",\"5\",\"0\",\"All\",,,\"False\",\"T\",\"EveryTick\")","v":4313.25},-8.3912868555664124E-3,null,null,null,""]
[262,"14:50:00",null,null,null,null,null,{"$f":"RTD(\"cqg.rtd\",,\"StudyData\", \"Close(\"&$D$12&\") when LocalYear(\"&$D$12&\")=\"&$D$1&\" and localMonth(\"&$D$12&\") =\"&$E$1&\" and LocalDay(\"&$D$12&\")=\"&$F$1&\" and Barix(\"&$D$12&\",reference:=StartOfDay)=\"&A167&\"\", \"Bar\", \"\", \"Close\",\"5\",\"0\",\"All\",,,\"False\",\"T\",\"EveryTick\")","v":""},{"$error":"#N/A"},{"$f":"RTD(\"cqg.rtd\",,\"StudyData\", \"Close(\"&$D$12&\") when LocalYear(\"&$D$12&\")=\"&$D$2&\" and localMonth(\"&$D$12&\") =\"&$E$2&\" and LocalDay(\"&$D$12&\")=\"&$F$2&\" and Barix(\"&$D$12&\",reference:=StartOfDay)=\"&A167&\"\", \"Bar\", \"\", \"Close\",\"5\",\"0\",\"All\",,,\"False\",\"T\",\"EveryTick\")","v":4335},-3.6773155596414617E-3,{"$f":"RTD(\"cqg.rtd\",,\"StudyData\", \"Close(\"&$D$12&\") when LocalYear(\"&$D$12&\")=\"&$D$3&\" and localMonth(\"&$D$12&\") =\"&$E$3&\" and LocalDay(\"&$D$12&\")=\"&$F$3&\" and Barix(\"&$D$12&\",reference:=StartOfDay)=\"&A167&\"\", \"Bar\", \"\", \"Close\",\"5\",\"0\",\"All\",,,\"False\",\"T\",\"EveryTick\")","v":4356},-5.9900735923327057E-3,{"$f":"RTD(\"cqg.rtd\",,\"StudyData\", \"Close(\"&$D$12&\") when LocalYear(\"&$D$12&\")=\"&$D$4&\" and localMonth(\"&$D$12&\") =\"&$E$4&\" and LocalDay(\"&$D$12&\")=\"&$F$4&\" and Barix(\"&$D$12&\",reference:=StartOfDay)=\"&A167&\"\", \"Bar\", \"\", \"Close\",\"5\",\"0\",\"All\",,,\"False\",\"T\",\"EveryTick\")","v":4382.5},-1.7084282460136675E-3,{"$f":"RTD(\"cqg.rtd\",,\"StudyData\", \"Close(\"&$D$12&\") when LocalYear(\"&$D$12&\")=\"&$D$5&\" and localMonth(\"&$D$12&\") =\"&$E$5&\" and LocalDay(\"&$D$12&\")=\"&$F$5&\" and Barix(\"&$D$12&\",reference:=StartOfDay)=\"&A167&\"\", \"Bar\", \"\", \"Close\",\"5\",\"0\",\"All\",,,\"False\",\"T\",\"EveryTick\")","v":4393},8.9572806614607262E-3,{"$f":"RTD(\"cqg.rtd\",,\"StudyData\", \"Close(\"&$D$12&\") when LocalYear(\"&$D$12&\")=\"&$D$6&\" and localMonth(\"&$D$12&\") =\"&$E$6&\" and LocalDay(\"&$D$12&\")=\"&$F$6&\" and Barix(\"&$D$12&\",reference:=StartOfDay)=\"&A167&\"\", \"Bar\", \"\", \"Close\",\"5\",\"0\",\"All\",,,\"False\",\"T\",\"EveryTick\")","v":4349.5},3.5763728657129674E-3,{"$f":"RTD(\"cqg.rtd\",,\"StudyData\", \"Close(\"&$D$12&\") when LocalYear(\"&$D$12&\")=\"&$D$7&\" and localMonth(\"&$D$12&\") =\"&$E$7&\" and LocalDay(\"&$D$12&\")=\"&$F$7&\" and Barix(\"&$D$12&\",reference:=StartOfDay)=\"&A167&\"\", \"Bar\", \"\", \"Close\",\"5\",\"0\",\"All\",,,\"False\",\"T\",\"EveryTick\")","v":4339},1.1127293912030295E-2,{"$f":"RTD(\"cqg.rtd\",,\"StudyData\", \"Close(\"&$D$12&\") when LocalYear(\"&$D$12&\")=\"&$D$8&\" and localMonth(\"&$D$12&\") =\"&$E$8&\" and LocalDay(\"&$D$12&\")=\"&$F$8&\" and Barix(\"&$D$12&\",reference:=StartOfDay)=\"&A167&\"\", \"Bar\", \"\", \"Close\",\"5\",\"0\",\"All\",,,\"False\",\"T\",\"EveryTick\")","v":4280.25},-1.4618705035971223E-2,{"$f":"RTD(\"cqg.rtd\",,\"StudyData\", \"Close(\"&$D$12&\") when LocalYear(\"&$D$12&\")=\"&$D$9&\" and localMonth(\"&$D$12&\") =\"&$E$9&\" and LocalDay(\"&$D$12&\")=\"&$F$9&\" and Barix(\"&$D$12&\",reference:=StartOfDay)=\"&A167&\"\", \"Bar\", \"\", \"Close\",\"5\",\"0\",\"All\",,,\"False\",\"T\",\"EveryTick\")","v":4355},1.3320923739165843E-2,{"$f":"RTD(\"cqg.rtd\",,\"StudyData\", \"Close(\"&$D$12&\") when LocalYear(\"&$D$12&\")=\"&$D$10&\" and localMonth(\"&$D$12&\") =\"&$E$10&\" and LocalDay(\"&$D$12&\")=\"&$F$10&\" and Barix(\"&$D$12&\",reference:=StartOfDay)=\"&A167&\"\", \"Bar\", \"\", \"Close\",\"5\",\"0\",\"All\",,,\"False\",\"T\",\"EveryTick\")","v":4307},-9.8281510431634002E-3,null,null,null,""]
[263,"14:55:00",null,null,null,null,null,{"$f":"RTD(\"cqg.rtd\",,\"StudyData\", \"Close(\"&$D$12&\") when LocalYear(\"&$D$12&\")=\"&$D$1&\" and localMonth(\"&$D$12&\") =\"&$E$1&\" and LocalDay(\"&$D$12&\")=\"&$F$1&\" and Barix(\"&$D$12&\",reference:=StartOfDay)=\"&A168&\"\", \"Bar\", \"\", \"Close\",\"5\",\"0\",\"All\",,,\"False\",\"T\",\"EveryTick\")","v":""},{"$error":"#N/A"},{"$f":"RTD(\"cqg.rtd\",,\"StudyData\", \"Close(\"&$D$12&\") when LocalYear(\"&$D$12&\")=\"&$D$2&\" and localMonth(\"&$D$12&\") =\"&$E$2&\" and LocalDay(\"&$D$12&\")=\"&$F$2&\" and Barix(\"&$D$12&\",reference:=StartOfDay)=\"&A168&\"\", \"Bar\", \"\", \"Close\",\"5\",\"0\",\"All\",,,\"False\",\"T\",\"EveryTick\")","v":4340.75},-2.3557802803953116E-3,{"$f":"RTD(\"cqg.rtd\",,\"StudyData\", \"Close(\"&$D$12&\") when LocalYear(\"&$D$12&\")=\"&$D$3&\" and localMonth(\"&$D$12&\") =\"&$E$3&\" and LocalDay(\"&$D$12&\")=\"&$F$3&\" and Barix(\"&$D$12&\",reference:=StartOfDay)=\"&A168&\"\", \"Bar\", \"\", \"Close\",\"5\",\"0\",\"All\",,,\"False\",\"T\",\"EveryTick\")","v":4351},-7.1310399908722684E-3,{"$f":"RTD(\"cqg.rtd\",,\"StudyData\", \"Close(\"&$D$12&\") when LocalYear(\"&$D$12&\")=\"&$D$4&\" and localMonth(\"&$D$12&\") =\"&$E$4&\" and LocalDay(\"&$D$12&\")=\"&$F$4&\" and Barix(\"&$D$12&\",reference:=StartOfDay)=\"&A168&\"\", \"Bar\", \"\", \"Close\",\"5\",\"0\",\"All\",,,\"False\",\"T\",\"EveryTick\")","v":4382.25},-1.7653758542141231E-3,{"$f":"RTD(\"cqg.rtd\",,\"StudyData\", \"Close(\"&$D$12&\") when LocalYear(\"&$D$12&\")=\"&$D$5&\" and localMonth(\"&$D$12&\") =\"&$E$5&\" and LocalDay(\"&$D$12&\")=\"&$F$5&\" and Barix(\"&$D$12&\",reference:=StartOfDay)=\"&A168&\"\", \"Bar\", \"\", \"Close\",\"5\",\"0\",\"All\",,,\"False\",\"T\",\"EveryTick\")","v":4390},8.2682590721175932E-3,{"$f":"RTD(\"cqg.rtd\",,\"StudyData\", \"Close(\"&$D$12&\") when LocalYear(\"&$D$12&\")=\"&$D$6&\" and localMonth(\"&$D$12&\") =\"&$E$6&\" and LocalDay(\"&$D$12&\")=\"&$F$6&\" and Barix(\"&$D$12&\",reference:=StartOfDay)=\"&A168&\"\", \"Bar\", \"\", \"Close\",\"5\",\"0\",\"All\",,,\"False\",\"T\",\"EveryTick\")","v":4354},4.6146746654360865E-3,{"$f":"RTD(\"cqg.rtd\",,\"StudyData\", \"Close(\"&$D$12&\") when LocalYear(\"&$D$12&\")=\"&$D$7&\" and localMonth(\"&$D$12&\") =\"&$E$7&\" and LocalDay(\"&$D$12&\")=\"&$F$7&\" and Barix(\"&$D$12&\",reference:=StartOfDay)=\"&A168&\"\", \"Bar\", \"\", \"Close\",\"5\",\"0\",\"All\",,,\"False\",\"T\",\"EveryTick\")","v":4334},9.9621322458491122E-3,{"$f":"RTD(\"cqg.rtd\",,\"StudyData\", \"Close(\"&$D$12&\") when LocalYear(\"&$D$12&\")=\"&$D$8&\" and localMonth(\"&$D$12&\") =\"&$E$8&\" and LocalDay(\"&$D$12&\")=\"&$F$8&\" and Barix(\"&$D$12&\",reference:=StartOfDay)=\"&A168&\"\", \"Bar\", \"\", \"Close\",\"5\",\"0\",\"All\",,,\"False\",\"T\",\"EveryTick\")","v":4291.25},-1.2086330935251799E-2,{"$f":"RTD(\"cqg.rtd\",,\"StudyData\", \"Close(\"&$D$12&\") when LocalYear(\"&$D$12&\")=\"&$D$9&\" and localMonth(\"&$D$12&\") =\"&$E$9&\" and LocalDay(\"&$D$12&\")=\"&$F$9&\" and Barix(\"&$D$12&\",reference:=StartOfDay)=\"&A168&\"\", \"Bar\", \"\", \"Close\",\"5\",\"0\",\"All\",,,\"False\",\"T\",\"EveryTick\")","v":4343.75},1.0703274969460764E-2,{"$f":"RTD(\"cqg.rtd\",,\"StudyData\", \"Close(\"&$D$12&\") when LocalYear(\"&$D$12&\")=\"&$D$10&\" and localMonth(\"&$D$12&\") =\"&$E$10&\" and LocalDay(\"&$D$12&\")=\"&$F$10&\" and Barix(\"&$D$12&\",reference:=StartOfDay)=\"&A168&\"\", \"Bar\", \"\", \"Close\",\"5\",\"0\",\"All\",,,\"False\",\"T\",\"EveryTick\")","v":4297.75},-1.1954710040806943E-2,null,null,null,""]
[null,null,null,null,null,null,null,null,null,null,null,null,null,null,null,null,null,null,null,null,null,null,null,null,null,null,null,null,null,null,{"$f":"MAX(AE1:AE168)","v":207}]

{"sheet":"Sheet4","index":1,"n_rows":180,"n_cols":20,"rows_kept":180,"cut":false,"hidden":true,"merged":[]}
[{"$f":"Sheet3!D12","v":"EP"},{"$f":"Sheet3!I1","v":-9.2149974082819794E-4},{"$f":"Sheet3!K1","v":-5.7458055619397843E-3},null,{"$f":"Sheet3!M1","v":-4.5638655941582522E-4},null,{"$f":"Sheet3!O1","v":-1.7084282460136675E-4},null,{"$f":"Sheet3!Q1","v":5.3973357831878736E-3},null,{"$f":"Sheet3!S1","v":-5.076142131979695E-3},null,{"$f":"Sheet3!U1","v":5.8258083309059127E-4},null,{"$f":"Sheet3!W1","v":-2.5323741007194246E-3},null,{"$f":"Sheet3!Y1","v":-3.6647082775871096E-3},null,{"$f":"Sheet3!AA1","v":7.1843209379849416E-3}]
[null,{"$f":"Sheet3!I2","v":-1.4398433450440592E-3},{"$f":"Sheet3!K2","v":-5.0563088945070099E-3},{"$f":"IF(ISNUMBER(C2),CORREL($B$1:B2,$C$1:C2),\"\")","v":-1},{"$f":"Sheet3!M2","v":-1.8825945575902789E-3},{"$f":"IF(ISNUMBER(E2),CORREL($B$1:B2,$E$1:E2),\"\")","v":1.0000000000000002},{"$f":"Sheet3!O2","v":0},{"$f":"IF(ISNUMBER(G2),CORREL($B$1:B2,$G$1:G2),\"\")","v":-1.0000000000000002},{"$f":"Sheet3!Q2","v":5.9715204409738175E-3},{"$f":"IF(ISNUMBER(I2),CORREL($B$1:B2,$I$1:I2),\"\")","v":-1.0000000000000002},{"$f":"Sheet3!S2","v":-5.4799261652053533E-3},{"$f":"IF(ISNUMBER(K2),CORREL($B$1:B2,$K$1:K2),\"\")","v":0.99999999999999989},{"$f":"Sheet3!U2","v":-6.4083891639965041E-4},{"$f":"IF(ISNUMBER(M2),CORREL($B$1:B2,$M$1:M2),\"\")","v":1},{"$f":"Sheet3!W2","v":-3.1079136690647484E-3},{"$f":"IF(ISNUMBER(O2),CORREL($B$1:B2,$O$1:O2),\"\")","v":1},{"$f":"Sheet3!Y2","v":-3.7810482229073353E-3},{"$f":"IF(ISNUMBER(Q2),CORREL($B$1:B2,$Q$1:Q2),\"\")","v":1},{"$f":"Sheet3!AA2","v":7.5291683430082192E-3},{"$f":"IF(ISNUMBER(S2),CORREL($B$1:B2,$S$1:S2),\"\")","v":-1}]
[null,{"$f":"Sheet3!I3","v":-1.7854057478546334E-3},{"$f":"Sheet3!K3","v":-5.2286830613652033E-3},{"$f":"IF(ISNUMBER(C3),CORREL($B$1:B3,$C$1:C3),\"\")","v":-0.79535595371972234},{"$f":"Sheet3!M3","v":-2.2819327970791262E-3},{"$f":"IF(ISNUMBER(E3),CORREL($B$1:B3,$E$1:E3),\"\")","v":0.98025418663273756},{"$f":"Sheet3!O3","v":2.8473804100227789E-4},{"$f":"IF(ISNUMBER(G3),CORREL($B$1:B3,$G$1:G3),\"\")","v":-0.96682344988308178},{"$f":"Sheet3!Q3","v":5.7992650436380338E-3},{"$f":"IF(ISNUMBER(I3),CORREL($B$1:B3,$I$1:I3),\"\")","v":-0.76143295605650851},{"$f":"Sheet3!S3","v":-5.5952930318412548E-3},{"$f":"IF(ISNUMBER(K3),CORREL($B$1:B3,$K$1:K3),\"\")","v":0.98096574567461814},{"$f":"Sheet3!U3","v":-6.9909699970870955E-4},{"$f":"IF(ISNUMBER(M3),CORREL($B$1:B3,$M$1:M3),\"\")","v":0.93291216673020094},{"$f":"Sheet3!W3","v":-3.9136690647482014E-3},{"$f":"IF(ISNUMBER(O3),CORREL($B$1:B3,$O$1:O3),\"\")","v":0.97784486964313377},{"$f":"Sheet3!Y3","v":-5.1771275667500437E-3},{"$f":"IF(ISNUMBER(Q3),CORREL($B$1:B3,$Q$1:Q3),\"\")","v":0.84223096614600468},{"$f":"Sheet3!AA3","v":7.759066613023737E-3},{"$f":"IF(ISNUMBER(S3),CORREL($B$1:B3,$S$1:S3),\"\")","v":-0.99999999999999967}]
[null,{"$f":"Sheet3!I4","v":-1.9005932154581582E-3},{"$f":"Sheet3!K4","v":-5.7458055619397843E-3},{"$f":"IF(ISNUMBER(C4),CORREL($B$1:B4,$C$1:C4),\"\")","v":-0.19596479076654177},{"$f":"Sheet3!M4","v":-2.7953676764219293E-3},{"$f":"IF(ISNUMBER(E4),CORREL($B$1:B4,$E$1:E4),\"\")","v":0.98655359568255052},{"$f":"Sheet3!O4","v":3.416856492027335E-4},{"$f":"IF(ISNUMBER(G4),CORREL($B$1:B4,$G$1:G4),\"\")","v":-0.97795333751438995},{"$f":"Sheet3!Q4","v":6.2586127698667894E-3},{"$f":"IF(ISNUMBER(I4),CORREL($B$1:B4,$I$1:I4),\"\")","v":-0.84959164884510663},{"$f":"Sheet3!S4","v":-4.78772496538994E-3},{"$f":"IF(ISNUMBER(K4),CORREL($B$1:B4,$K$1:K4),\"\")","v":1.6932112265033905E-3},{"$f":"Sheet3!U4","v":-1.33993591610836E-3},{"$f":"IF(ISNUMBER(M4),CORREL($B$1:B4,$M$1:M4),\"\")","v":0.95371908961704077},{"$f":"Sheet3!W4","v":-4.7769784172661872E-3},{"$f":"IF(ISNUMBER(O4),CORREL($B$1:B4,$O$1:O4),\"\")","v":0.93829936629437749},{"$f":"Sheet3!Y4","v":-5.8751672386713975E-3},{"$f":"IF(ISNUMBER(Q4),CORREL($B$1:B4,$Q$1:Q4),\"\")","v":0.88764270630907993},{"$f":"Sheet3!AA4","v":8.4487614230702914E-3},{"$f":"IF(ISNUMBER(S4),CORREL($B$1:B4,$S$1:S4),\"\")","v":-0.88603908574064116}]
[null,{"$f":"Sheet3!I5","v":-1.9581869492599204E-3},{"$f":"Sheet3!K5","v":-4.9988508388876121E-3},{"$f":"IF(ISNUMBER(C5),CORREL($B$1:B5,$C$1:C5),\"\")","v":-0.39800122804492039},{"$f":"Sheet3!M5","v":-3.1376575959837982E-3},{"$f":"IF(ISNUMBER(E5),CORREL($B$1:B5,$E$1:E5),\"\")","v":0.98500577709568682},{"$f":"Sheet3!O5","v":3.416856492027335E-4},{"$f":"IF(ISNUMBER(G5),CORREL($B$1:B5,$G$1:G5),\"\")","v":-0.98199888249559075},{"$f":"Sheet3!Q5","v":6.4308681672025723E-3},{"$f":"IF(ISNUMBER(I5),CORREL($B$1:B5,$I$1:I5),\"\")","v":-0.87604745970765097},{"$f":"Sheet3!S5","v":-4.5569912321181353E-3},{"$f":"IF(ISNUMBER(K5),CORREL($B$1:B5,$K$1:K5),\"\")","v":-0.31714682556454632},{"$f":"Sheet3!U5","v":-6.9909699970870955E-4},{"$f":"IF(ISNUMBER(M5),CORREL($B$1:B5,$M$1:M5),\"\")","v":0.89122224126508276},{"$f":"Sheet3!W5","v":-4.2589928057553961E-3},{"$f":"IF(ISNUMBER(O5),CORREL($B$1:B5,$O$1:O5),\"\")","v":0.93879955219527134},{"$f":"Sheet3!Y5","v":-7.3875865278343316E-3},{"$f":"IF(ISNUMBER(Q5),CORREL($B$1:B5,$Q$1:Q5),\"\")","v":0.84479728561895961},{"$f":"Sheet3!AA5","v":8.1613885855508946E-3},{"$f":"IF(ISNUMBER(S5),CORREL($B$1:B5,$S$1:S5),\"\")","v":-0.90297032337427496}]
[null,{"$f":"Sheet3!I6","v":-1.3246558774405344E-3},{"$f":"Sheet3!K6","v":-4.8264766720294188E-3},{"$f":"IF(ISNUMBER(C6),CORREL($B$1:B6,$C$1:C6),\"\")","v":-0.16412265405058868},{"$f":"Sheet3!M6","v":-3.3658508756917111E-3},{"$f":"IF(ISNUMBER(E6),CORREL($B$1:B6,$E$1:E6),\"\")","v":0.69246381144699798},{"$f":"Sheet3!O6","v":4.5558086560364467E-4},{"$f":"IF(ISNUMBER(G6),CORREL($B$1:B6,$G$1:G6),\"\")","v":-0.67331880187265225},{"$f":"Sheet3!Q6","v":6.6031235645383551E-3},{"$f":"IF(ISNUMBER(I6),CORREL($B$1:B6,$I$1:I6),\"\")","v":-0.52060200106743326},{"$f":"Sheet3!S6","v":-5.076142131979695E-3},{"$f":"IF(ISNUMBER(K6),CORREL($B$1:B6,$K$1:K6),\"\")","v":-0.29751505196095318},{"$f":"Sheet3!U6","v":-1.1651616661811826E-4},{"$f":"IF(ISNUMBER(M6),CORREL($B$1:B6,$M$1:M6),\"\")","v":0.89971419334293368},{"$f":"Sheet3!W6","v":-2.9352517985611511E-3},{"$f":"IF(ISNUMBER(O6),CORREL($B$1:B6,$O$1:O6),\"\")","v":0.94112291133903991},{"$f":"Sheet3!Y6","v":-7.0967366645337676E-3},{"$f":"IF(ISNUMBER(Q6),CORREL($B$1:B6,$Q$1:Q6),\"\")","v":0.567042037093201},{"$f":"Sheet3!AA6","v":7.5866429105120982E-3},{"$f":"IF(ISNUMBER(S6),CORREL($B$1:B6,$S$1:S6),\"\")","v":-0.9057496849790847}]
[null,{"$f":"Sheet3!I7","v":-1.4398433450440592E-3},{"$f":"Sheet3!K7","v":-5.4010572282233967E-3},{"$f":"IF(ISNUMBER(C7),CORREL($B$1:B7,$C$1:C7),\"\")","v":-0.17791698784582277},{"$f":"Sheet3!M7","v":-3.8792857550345142E-3},{"$f":"IF(ISNUMBER(E7),CORREL($B$1:B7,$E$1:E7),\"\")","v":0.52642676981635428},{"$f":"Sheet3!O7","v":7.4031890660592251E-4},{"$f":"IF(ISNUMBER(G7),CORREL($B$1:B7,$G$1:G7),\"\")","v":-0.41370770426403819},{"$f":"Sheet3!Q7","v":6.7753789618741388E-3},{"$f":"IF(ISNUMBER(I7),CORREL($B$1:B7,$I$1:I7),\"\")","v":-0.36859236824672503},{"$f":"Sheet3!S7","v":-4.8454083987078912E-3},{"$f":"IF(ISNUMBER(K7),CORREL($B$1:B7,$K$1:K7),\"\")","v":-0.25591285231024191},{"$f":"Sheet3!U7","v":-6.4083891639965041E-4},{"$f":"IF(ISNUMBER(M7),CORREL($B$1:B7,$M$1:M7),\"\")","v":0.87747263647444818},{"$f":"Sheet3!W7","v":-2.2446043165467626E-3},{"$f":"IF(ISNUMBER(O7),CORREL($B$1:B7,$O$1:O7),\"\")","v":0.85002682054971723},{"$f":"Sheet3!Y7","v":-7.6202664184747831E-3},{"$f":"IF(ISNUMBER(Q7),CORREL($B$1:B7,$Q$1:Q7),\"\")","v":0.43582967039868054},{"$f":"Sheet3!AA7","v":7.6441174780159781E-3},{"$f":"IF(ISNUMBER(S7),CORREL($B$1:B7,$S$1:S7),\"\")","v":-0.90708854975170516}]
[null,{"$f":"Sheet3!I8","v":-1.7278120140528711E-3},{"$f":"Sheet3!K8","v":-5.5159733394621923E-3},{"$f":"IF(ISNUMBER(C8),CORREL($B$1:B8,$C$1:C8),\"\")","v":-0.12429299814130482},{"$f":"Sheet3!M8","v":-3.3088025557647329E-3},{"$f":"IF(ISNUMBER(E8),CORREL($B$1:B8,$E$1:E8),\"\")","v":0.54827304392370468},{"$f":"Sheet3!O8","v":4.5558086560364467E-4},{"$f":"IF(ISNUMBER(G8),CORREL($B$1:B8,$G$1:G8),\"\")","v":-0.4377680003722238},{"$f":"Sheet3!Q8","v":6.6031235645383551E-3},{"$f":"IF(ISNUMBER(I8),CORREL($B$1:B8,$I$1:I8),\"\")","v":-0.40422533907830538},{"$f":"Sheet3!S8","v":-4.9607752653437935E-3},{"$f":"IF(ISNUMBER(K8),CORREL($B$1:B8,$K$1:K8),\"\")","v":-0.26922171953457436},{"$f":"Sheet3!U8","v":-5.2432274978153213E-4},{"$f":"IF(ISNUMBER(M8),CORREL($B$1:B8,$M$1:M8),\"\")","v":0.86305701171285132},{"$f":"Sheet3!W8","v":-2.5323741007194246E-3},{"$f":"IF(ISNUMBER(O8),CORREL($B$1:B8,$O$1:O8),\"\")","v":0.72320130951775907},{"$f":"Sheet3!Y8","v":-7.3294165551742192E-3},{"$f":"IF(ISNUMBER(Q8),CORREL($B$1:B8,$Q$1:Q8),\"\")","v":0.46732303052423063},{"$f":"Sheet3!AA8","v":7.931490315535375E-3},{"$f":"IF(ISNUMBER(S8),CORREL($B$1:B8,$S$1:S8),\"\")","v":-0.90917664653748276}]
[null,{"$f":"Sheet3!I9","v":-1.7278120140528711E-3},{"$f":"Sheet3!K9","v":-5.1712250057458055E-3},{"$f":"IF(ISNUMBER(C9),CORREL($B$1:B9,$C$1:C9),\"\")","v":-0.14579467485889017},{"$f":"Sheet3!M9","v":-3.08060927605682E-3},{"$f":"IF(ISNUMBER(E9),CORREL($B$1:B9,$E$1:E9),\"\")","v":0.55897266814503388},{"$f":"Sheet3!O9","v":6.83371298405467E-4},{"$f":"IF(ISNUMBER(G9),CORREL($B$1:B9,$G$1:G9),\"\")","v":-0.46162620911629371},{"$f":"Sheet3!Q9","v":5.7418465778594392E-3},{"$f":"IF(ISNUMBER(I9),CORREL($B$1:B9,$I$1:I9),\"\")","v":-0.31616925543535745},{"$f":"Sheet3!S9","v":-5.1338255652976462E-3},{"$f":"IF(ISNUMBER(K9),CORREL($B$1:B9,$K$1:K9),\"\")","v":-0.2495891751577623},{"$f":"Sheet3!U9","v":1.7477424992717739E-4},{"$f":"IF(ISNUMBER(M9),CORREL($B$1:B9,$M$1:M9),\"\")","v":0.71106283074732368},{"$f":"Sheet3!W9","v":-2.6474820143884891E-3},{"$f":"IF(ISNUMBER(O9),CORREL($B$1:B9,$O$1:O9),\"\")","v":0.65183214738304462},{"$f":"Sheet3!Y9","v":-7.6784363911348965E-3},{"$f":"IF(ISNUMBER(Q9),CORREL($B$1:B9,$Q$1:Q9),\"\")","v":0.49018873737262908},{"$f":"Sheet3!AA9","v":8.2188631530547736E-3},{"$f":"IF(ISNUMBER(S9),CORREL($B$1:B9,$S$1:S9),\"\")","v":-0.89504171482852146}]
[null,{"$f":"Sheet3!I10","v":-1.3822496112422969E-3},{"$f":"Sheet3!K10","v":-6.3203861181337622E-3},{"$f":"IF(ISNUMBER(C10),CORREL($B$1:B10,$C$1:C10),\"\")","v":-0.24181405367392683},{"$f":"Sheet3!M10","v":-2.9094643162758858E-3},{"$f":"IF(ISNUMBER(E10),CORREL($B$1:B10,$E$1:E10),\"\")","v":0.53218828525508854},{"$f":"Sheet3!O10","v":5.6947608200455578E-4},{"$f":"IF(ISNUMBER(G10),CORREL($B$1:B10,$G$1:G10),\"\")","v":-0.38986780490408979},{"$f":"Sheet3!Q10","v":5.1676619200734953E-3},{"$f":"IF(ISNUMBER(I10),CORREL($B$1:B10,$I$1:I10),\"\")","v":-0.36711954910958589},{"$f":"Sheet3!S10","v":-4.7300415320719888E-3},{"$f":"IF(ISNUMBER(K10),CORREL($B$1:B10,$K$1:K10),\"\")","v":-0.16891682692329363},{"$f":"Sheet3!U10","v":-5.8258083309059131E-5},{"$f":"IF(ISNUMBER(M10),CORREL($B$1:B10,$M$1:M10),\"\")","v":0.72334094383021097},{"$f":"Sheet3!W10","v":-3.6258992805755395E-3},{"$f":"IF(ISNUMBER(O10),CORREL($B$1:B10,$O$1:O10),\"\")","v":0.60121487502258397},{"$f":"Sheet3!Y10","v":-7.5620964458146707E-3},{"$f":"IF(ISNUMBER(Q10),CORREL($B$1:B10,$Q$1:Q10),\"\")","v":0.4077299678535134},{"$f":"Sheet3!AA10","v":8.5637105580780512E-3},{"$f":"IF(ISNUMBER(S10),CORREL($B$1:B10,$S$1:S10),\"\")","v":-0.6411722265471651}]
[null,{"$f":"Sheet3!I11","v":-1.1518746760352473E-3},{"$f":"Sheet3!K11","v":-6.894966674327741E-3},{"$f":"IF(ISNUMBER(C11),CORREL($B$1:B11,$C$1:C11),\"\")","v":-0.42958281222349615},{"$f":"Sheet3!M11","v":-2.7953676764219293E-3},{"$f":"IF(ISNUMBER(E11),CORREL($B$1:B11,$E$1:E11),\"\")","v":0.48162500861351437},{"$f":"Sheet3!O11","v":5.6947608200455578E-4},{"$f":"IF(ISNUMBER(G11),CORREL($B$1:B11,$G$1:G11),\"\")","v":-0.26969139587322721},{"$f":"Sheet3!Q11","v":5.339917317409279E-3},{"$f":"IF(ISNUMBER(I11),CORREL($B$1:B11,$I$1:I11),\"\")","v":-0.46138178538207653},{"$f":"Sheet3!S11","v":-3.7494231656668205E-3},{"$f":"IF(ISNUMBER(K11),CORREL($B$1:B11,$K$1:K11),\"\")","v":0.19822742259365372},{"$f":"Sheet3!U11","v":7.5735508301776869E-4},{"$f":"IF(ISNUMBER(M11),CORREL($B$1:B11,$M$1:M11),\"\")","v":0.7670742837579505},{"$f":"Sheet3!W11","v":-3.7410071942446045E-3},{"$f":"IF(ISNUMBER(O11),CORREL($B$1:B11,$O$1:O11),\"\")","v":0.47968301984959127},{"$f":"Sheet3!Y11","v":-8.4346460357163627E-3},{"$f":"IF(ISNUMBER(Q11),CORREL($B$1:B11,$Q$1:Q11),\"\")","v":0.1999955020701232},{"$f":"Sheet3!AA11","v":8.1039140180470138E-3},{"$f":"IF(ISNUMBER(S11),CORREL($B$1:B11,$S$1:S11),\"\")","v":-0.532664031301882}]
[null,{"$f":"Sheet3!I12","v":-1.3822496112422969E-3},{"$f":"Sheet3!K12","v":-6.7800505630889454E-3},{"$f":"IF(ISNUMBER(C12),CORREL($B$1:B12,$C$1:C12),\"\")","v":-0.43163307142682678},{"$f":"Sheet3!M12","v":-2.9094643162758858E-3},{"$f":"IF(ISNUMBER(E12),CORREL($B$1:B12,$E$1:E12),\"\")","v":0.46833885424303678},{"$f":"Sheet3!O12","v":7.9726651480637812E-4},{"$f":"IF(ISNUMBER(G12),CORREL($B$1:B12,$G$1:G12),\"\")","v":-0.19067015951592581},{"$f":"Sheet3!Q12","v":5.7992650436380338E-3},{"$f":"IF(ISNUMBER(I12),CORREL($B$1:B12,$I$1:I12),\"\")","v":-0.46912734863491612},{"$f":"Sheet3!S12","v":-3.8647900323027225E-3},{"$f":"IF(ISNUMBER(K12),CORREL($B$1:B12,$K$1:K12),\"\")","v":0.2358883092328298},{"$f":"Sheet3!U12","v":4.6606466647247305E-4},{"$f":"IF(ISNUMBER(M12),CORREL($B$1:B12,$M$1:M12),\"\")","v":0.75887244167278267},{"$f":"Sheet3!W12","v":-3.5107913669064749E-3},{"$f":"IF(ISNUMBER(O12),CORREL($B$1:B12,$O$1:O12),\"\")","v":0.46405674142562237},{"$f":"Sheet3!Y12","v":-7.0385666918736552E-3},{"$f":"IF(ISNUMBER(Q12),CORREL($B$1:B12,$Q$1:Q12),\"\")","v":0.18467175302222535},{"$f":"Sheet3!AA12","v":7.874015748031496E-3},{"$f":"IF(ISNUMBER(S12),CORREL($B$1:B12,$S$1:S12),\"\")","v":-0.53220669378636754}]
[null,{"$f":"Sheet3!I13","v":-2.6493117548810688E-3},{"$f":"Sheet3!K13","v":-6.9524247299471388E-3},{"$f":"IF(ISNUMBER(C13),CORREL($B$1:B13,$C$1:C13),\"\")","v":8.9775585414520215E-2},{"$f":"Sheet3!M13","v":-3.4228991956186889E-3},{"$f":"IF(ISNUMBER(E13),CORREL($B$1:B13,$E$1:E13),\"\")","v":0.47497669112171209},{"$f":"Sheet3!O13","v":1.480637813211845E-3},{"$f":"IF(ISNUMBER(G13),CORREL($B$1:B13,$G$1:G13),\"\")","v":-0.61797709244543408},{"$f":"Sheet3!Q13","v":5.627009646302251E-3},{"$f":"IF(ISNUMBER(I13),CORREL($B$1:B13,$I$1:I13),\"\")","v":-0.17834467020112371},{"$f":"Sheet3!S13","v":-6.287494231656668E-3},{"$f":"IF(ISNUMBER(K13),CORREL($B$1:B13,$K$1:K13),\"\")","v":0.56857732810894512},{"$f":"Sheet3!U13","v":4.0780658316341391E-4},{"$f":"IF(ISNUMBER(M13),CORREL($B$1:B13,$M$1:M13),\"\")","v":0.29922861127211903},{"$f":"Sheet3!W13","v":-5.2374100719424464E-3},{"$f":"IF(ISNUMBER(O13),CORREL($B$1:B13,$O$1:O13),\"\")","v":0.68086614382359689},{"$f":"Sheet3!Y13","v":-7.6784363911348965E-3},{"$f":"IF(ISNUMBER(Q13),CORREL($B$1:B13,$Q$1:Q13),\"\")","v":0.27169744458739448},{"$f":"Sheet3!AA13","v":7.5866429105120982E-3},{"$f":"IF(ISNUMBER(S13),CORREL($B$1:B13,$S$1:S13),\"\")","v":-0.18868736302443442}]
[null,{"$f":"Sheet3!I14","v":-3.8011864309163163E-3},{"$f":"Sheet3!K14","v":-5.7458055619397843E-3},{"$f":"IF(ISNUMBER(C14),CORREL($B$1:B14,$C$1:C14),\"\")","v":5.3306073372721162E-2},{"$f":"Sheet3!M14","v":-1.483256318101432E-3},{"$f":"IF(ISNUMBER(E14),CORREL($B$1:B14,$E$1:E14),\"\")","v":-6.2071466823907372E-2},{"$f":"Sheet3!O14","v":2.2209567198177675E-3},{"$f":"IF(ISNUMBER(G14),CORREL($B$1:B14,$G$1:G14),\"\")","v":-0.85382973500958337},{"$f":"Sheet3!Q14","v":5.5121727147450618E-3},{"$f":"IF(ISNUMBER(I14),CORREL($B$1:B14,$I$1:I14),\"\")","v":8.7923079586544689E-2},{"$f":"Sheet3!S14","v":-7.6142131979695434E-3},{"$f":"IF(ISNUMBER(K14),CORREL($B$1:B14,$K$1:K14),\"\")","v":0.82618735353865214},{"$f":"Sheet3!U14","v":6.9909699970870955E-4},{"$f":"IF(ISNUMBER(M14),CORREL($B$1:B14,$M$1:M14),\"\")","v":-0.13235773847384047},{"$f":"Sheet3!W14","v":-3.9712230215827342E-3},{"$f":"IF(ISNUMBER(O14),CORREL($B$1:B14,$O$1:O14),\"\")","v":0.51297771696184213},{"$f":"Sheet3!Y14","v":-7.6784363911348965E-3},{"$f":"IF(ISNUMBER(Q14),CORREL($B$1:B14,$Q$1:Q14),\"\")","v":0.3051722263686511},{"$f":"Sheet3!AA14","v":6.5521006954422671E-3},{"$f":"IF(ISNUMBER(S14),CORREL($B$1:B14,$S$1:S14),\"\")","v":0.47888385402997152}]
[null,{"$f":"Sheet3!I15","v":-3.110061625295168E-3},{"$f":"Sheet3!K15","v":-3.7922316708802572E-3},{"$f":"IF(ISNUMBER(C15),CORREL($B$1:B15,$C$1:C15),\"\")","v":-0.22393860863286227},{"$f":"Sheet3!M15","v":-1.7684979177363227E-3},{"$f":"IF(ISNUMBER(E15),CORREL($B$1:B15,$E$1:E15),\"\")","v":-0.17269786519169308},{"$f":"Sheet3!O15","v":1.6514806378132118E-3},{"$f":"IF(ISNUMBER(G15),CORREL($B$1:B15,$G$1:G15),\"\")","v":-0.88054777622945779},{"$f":"Sheet3!Q15","v":5.2824988516306844E-3},{"$f":"IF(ISNUMBER(I15),CORREL($B$1:B15,$I$1:I15),\"\")","v":0.21645657651349789},{"$f":"Sheet3!S15","v":-7.6142131979695434E-3},{"$f":"IF(ISNUMBER(K15),CORREL($B$1:B15,$K$1:K15),\"\")","v":0.86255005278413255},{"$f":"Sheet3!U15","v":1.8060005825808331E-3},{"$f":"IF(ISNUMBER(M15),CORREL($B$1:B15,$M$1:M15),\"\")","v":-0.37131520226111936},{"$f":"Sheet3!W15","v":-2.9928057553956834E-3},{"$f":"IF(ISNUMBER(O15),CORREL($B$1:B15,$O$1:O15),\"\")","v":0.38511595879628713},{"$f":"Sheet3!Y15","v":-6.5150369379326388E-3},{"$f":"IF(ISNUMBER(Q15),CORREL($B$1:B15,$Q$1:Q15),\"\")","v":0.25655167466667572},{"$f":"Sheet3!AA15","v":6.1497787229151104E-3},{"$f":"IF(ISNUMBER(S15),CORREL($B$1:B15,$S$1:S15),\"\")","v":0.61658196246994301}]
[null,{"$f":"Sheet3!I16","v":-2.994874157691643E-3},{"$f":"Sheet3!K16","v":-4.769018616410021E-3},{"$f":"IF(ISNUMBER(C16),CORREL($B$1:B16,$C$1:C16),\"\")","v":-0.29039164520761995},{"$f":"Sheet3!M16","v":-1.8255462376633009E-3},{"$f":"IF(ISNUMBER(E16),CORREL($B$1:B16,$E$1:E16),\"\")","v":-0.23775476934592443},{"$f":"Sheet3!O16","v":7.4031890660592251E-4},{"$f":"IF(ISNUMBER(G16),CORREL($B$1:B16,$G$1:G16),\"\")","v":-0.82912383760983133},{"$f":"Sheet3!Q16","v":4.1915480018373912E-3},{"$f":"IF(ISNUMBER(I16),CORREL($B$1:B16,$I$1:I16),\"\")","v":0.38327196760239884},{"$f":"Sheet3!S16","v":-7.0950622981079837E-3},{"$f":"IF(ISNUMBER(K16),CORREL($B$1:B16,$K$1:K16),\"\")","v":0.88094899248509007},{"$f":"Sheet3!U16","v":9.9038741625400535E-4},{"$f":"IF(ISNUMBER(M16),CORREL($B$1:B16,$M$1:M16),\"\")","v":-0.43834944397140363},{"$f":"Sheet3!W16","v":-4.3741007194244607E-3},{"$f":"IF(ISNUMBER(O16),CORREL($B$1:B16,$O$1:O16),\"\")","v":0.44019712270763084},{"$f":"Sheet3!Y16","v":-5.4679774300506077E-3},{"$f":"IF(ISNUMBER(Q16),CORREL($B$1:B16,$Q$1:Q16),\"\")","v":0.15735766379266172},{"$f":"Sheet3!AA16","v":7.5291683430082192E-3},{"$f":"IF(ISNUMBER(S16),CORREL($B$1:B16,$S$1:S16),\"\")","v":0.59690863158153951}]
[null,{"$f":"Sheet3!I17","v":-3.2252490928986926E-3},{"$f":"Sheet3!K17","v":-4.3093541714548378E-3},{"$f":"IF(ISNUMBER(C17),CORREL($B$1:B17,$C$1:C17),\"\")","v":-0.38184191977532272},{"$f":"Sheet3!M17","v":-1.9396428775172571E-3},{"$f":"IF(ISNUMBER(E17),CORREL($B$1:B17,$E$1:E17),\"\")","v":-0.28356548816901933},{"$f":"Sheet3!O17","v":6.2642369020501139E-4},{"$f":"IF(ISNUMBER(G17),CORREL($B$1:B17,$G$1:G17),\"\")","v":-0.75680475639573275},{"$f":"Sheet3!Q17","v":4.9954065227377125E-3},{"$f":"IF(ISNUMBER(I17),CORREL($B$1:B17,$I$1:I17),\"\")","v":0.44744480313288226},{"$f":"Sheet3!S17","v":-7.8449469312413481E-3},{"$f":"IF(ISNUMBER(K17),CORREL($B$1:B17,$K$1:K17),\"\")","v":0.89787907531653832},{"$f":"Sheet3!U17","v":1.6894844159627148E-3},{"$f":"IF(ISNUMBER(M17),CORREL($B$1:B17,$M$1:M17),\"\")","v":-0.53159212703744108},{"$f":"Sheet3!W17","v":-4.9496402877697845E-3},{"$f":"IF(ISNUMBER(O17),CORREL($B$1:B17,$O$1:O17),\"\")","v":0.52021950714668441},{"$f":"Sheet3!Y17","v":-5.1189575940899304E-3},{"$f":"IF(ISNUMBER(Q17),CORREL($B$1:B17,$Q$1:Q17),\"\")","v":4.5123470574502236E-2},{"$f":"Sheet3!AA17","v":8.2763377205586526E-3},{"$f":"IF(ISNUMBER(S17),CORREL($B$1:B17,$S$1:S17),\"\")","v":0.45183790554473191}]
[null,{"$f":"Sheet3!I18","v":-2.2461556182687323E-3},{"$f":"Sheet3!K18","v":-4.4817283383130312E-3},{"$f":"IF(ISNUMBER(C18),CORREL($B$1:B18,$C$1:C18),\"\")","v":-0.38633543598997133},{"$f":"Sheet3!M18","v":-2.5671743967140169E-3},{"$f":"IF(ISNUMBER(E18),CORREL($B$1:B18,$E$1:E18),\"\")","v":-0.2823495820010698},{"$f":"Sheet3!O18","v":2.2779043280182233E-4},{"$f":"IF(ISNUMBER(G18),CORREL($B$1:B18,$G$1:G18),\"\")","v":-0.72809903733868697},{"$f":"Sheet3!Q18","v":5.339917317409279E-3},{"$f":"IF(ISNUMBER(I18),CORREL($B$1:B18,$I$1:I18),\"\")","v":0.45200591176003196},{"$f":"Sheet3!S18","v":-7.2681125980618363E-3},{"$f":"IF(ISNUMBER(K18),CORREL($B$1:B18,$K$1:K18),\"\")","v":0.87406370255584831},{"$f":"Sheet3!U18","v":1.6312263326536556E-3},{"$f":"IF(ISNUMBER(M18),CORREL($B$1:B18,$M$1:M18),\"\")","v":-0.51851940700469423},{"$f":"Sheet3!W18","v":-5.6978417266187048E-3},{"$f":"IF(ISNUMBER(O18),CORREL($B$1:B18,$O$1:O18),\"\")","v":0.48836271224311578},{"$f":"Sheet3!Y18","v":-4.1882380315281251E-3},{"$f":"IF(ISNUMBER(Q18),CORREL($B$1:B18,$Q$1:Q18),\"\")","v":1.5149474028911923E-2},{"$f":"Sheet3!AA18","v":8.2763377205586526E-3},{"$f":"IF(ISNUMBER(S18),CORREL($B$1:B18,$S$1:S18),\"\")","v":0.42522701400644453}]
[null,{"$f":"Sheet3!I19","v":-8.6390600702643554E-4},{"$f":"Sheet3!K19","v":-3.8496897264996555E-3},{"$f":"IF(ISNUMBER(C19),CORREL($B$1:B19,$C$1:C19),\"\")","v":-0.21699014335183117},{"$f":"Sheet3!M19","v":-2.2819327970791262E-3},{"$f":"IF(ISNUMBER(E19),CORREL($B$1:B19,$E$1:E19),\"\")","v":-0.24455567387540231},{"$f":"Sheet3!O19","v":-3.416856492027335E-4},{"$f":"IF(ISNUMBER(G19),CORREL($B$1:B19,$G$1:G19),\"\")","v":-0.75855678540463456},{"$f":"Sheet3!Q19","v":4.8231511254019296E-3},{"$f":"IF(ISNUMBER(I19),CORREL($B$1:B19,$I$1:I19),\"\")","v":0.31329520104689002},{"$f":"Sheet3!S19","v":-8.7101984310106132E-3},{"$f":"IF(ISNUMBER(K19),CORREL($B$1:B19,$K$1:K19),\"\")","v":0.57526997318091189},{"$f":"Sheet3!U19","v":9.321293329449461E-4},{"$f":"IF(ISNUMBER(M19),CORREL($B$1:B19,$M$1:M19),\"\")","v":-0.4306788383499961},{"$f":"Sheet3!W19","v":-6.3309352517985614E-3},{"$f":"IF(ISNUMBER(O19),CORREL($B$1:B19,$O$1:O19),\"\")","v":0.23307392644144295},{"$f":"Sheet3!Y19","v":-4.4209179221685766E-3},{"$f":"IF(ISNUMBER(Q19),CORREL($B$1:B19,$Q$1:Q19),\"\")","v":0.1073779605379431},{"$f":"Sheet3!AA19","v":8.1039140180470138E-3},{"$f":"IF(ISNUMBER(S19),CORREL($B$1:B19,$S$1:S19),\"\")","v":0.44215963024707661}]
[null,{"$f":"Sheet3!I20","v":-5.7593733801762366E-4},{"$f":"Sheet3!K20","v":-3.7922316708802572E-3},{"$f":"IF(ISNUMBER(C20),CORREL($B$1:B20,$C$1:C20),\"\")","v":-6.4310314248625641E-2},{"$f":"Sheet3!M20","v":-3.4228991956186889E-3},{"$f":"IF(ISNUMBER(E20),CORREL($B$1:B20,$E$1:E20),\"\")","v":-0.30669108838668613},{"$f":"Sheet3!O20","v":1.7084282460136675E-4},{"$f":"IF(ISNUMBER(G20),CORREL($B$1:B20,$G$1:G20),\"\")","v":-0.75783902040033602},{"$f":"Sheet3!Q20","v":5.3973357831878736E-3},{"$f":"IF(ISNUMBER(I20),CORREL($B$1:B20,$I$1:I20),\"\")","v":0.25961642654728839},{"$f":"Sheet3!S20","v":-9.1716658975542226E-3},{"$f":"IF(ISNUMBER(K20),CORREL($B$1:B20,$K$1:K20),\"\")","v":0.31024570021785347},{"$f":"Sheet3!U20","v":2.9129041654529564E-4},{"$f":"IF(ISNUMBER(M20),CORREL($B$1:B20,$M$1:M20),\"\")","v":-0.40248921023177892},{"$f":"Sheet3!W20","v":-5.5827338129496402E-3},{"$f":"IF(ISNUMBER(O20),CORREL($B$1:B20,$O$1:O20),\"\")","v":9.1725811235400134E-2},{"$f":"Sheet3!Y20","v":-5.3516374847303819E-3},{"$f":"IF(ISNUMBER(Q20),CORREL($B$1:B20,$Q$1:Q20),\"\")","v":0.14935817147731822},{"$f":"Sheet3!AA20","v":8.3338122880625316E-3},{"$f":"IF(ISNUMBER(S20),CORREL($B$1:B20,$S$1:S20),\"\")","v":0.47804516815611842}]
[null,{"$f":"Sheet3!I21","v":-8.0631227322467314E-4},{"$f":"Sheet3!K21","v":-4.0220638933578488E-3},{"$f":"IF(ISNUMBER(C21),CORREL($B$1:B21,$C$1:C21),\"\")","v":1.3536298393949592E-2},{"$f":"Sheet3!M21","v":-4.5638655941582524E-3},{"$f":"IF(ISNUMBER(E21),CORREL($B$1:B21,$E$1:E21),\"\")","v":-0.3862176236876968},{"$f":"Sheet3!O21","v":4.5558086560364467E-4},{"$f":"IF(ISNUMBER(G21),CORREL($B$1:B21,$G$1:G21),\"\")","v":-0.74295763133817205},{"$f":"Sheet3!Q21","v":5.2250803858520899E-3},{"$f":"IF(ISNUMBER(I21),CORREL($B$1:B21,$I$1:I21),\"\")","v":0.20916065401106118},{"$f":"Sheet3!S21","v":-8.6525149976926629E-3},{"$f":"IF(ISNUMBER(K21),CORREL($B$1:B21,$K$1:K21),\"\")","v":0.18701811945138921},{"$f":"Sheet3!U21","v":1.7477424992717739E-4},{"$f":"IF(ISNUMBER(M21),CORREL($B$1:B21,$M$1:M21),\"\")","v":-0.39529675037105239},{"$f":"Sheet3!W21","v":-5.2949640287769783E-3},{"$f":"IF(ISNUMBER(O21),CORREL($B$1:B21,$O$1:O21),\"\")","v":2.000185547272542E-2},{"$f":"Sheet3!Y21","v":-5.5843173753708335E-3},{"$f":"IF(ISNUMBER(Q21),CORREL($B$1:B21,$Q$1:Q21),\"\")","v":0.16970599129391464},{"$f":"Sheet3!AA21","v":8.1613885855508946E-3},{"$f":"IF(ISNUMBER(S21),CORREL($B$1:B21,$S$1:S21),\"\")","v":0.49227402126370806}]
[null,{"$f":"Sheet3!I22","v":-5.1834360421586137E-4},{"$f":"Sheet3!K22","v":-3.3900252815444727E-3},{"$f":"IF(ISNUMBER(C22),CORREL($B$1:B22,$C$1:C22),\"\")","v":0.12716685391056784},{"$f":"Sheet3!M22","v":-3.70814079525358E-3},{"$f":"IF(ISNUMBER(E22),CORREL($B$1:B22,$E$1:E22),\"\")","v":-0.43063567392251151},{"$f":"Sheet3!O22","v":6.2642369020501139E-4},{"$f":"IF(ISNUMBER(G22),CORREL($B$1:B22,$G$1:G22),\"\")","v":-0.70184017109898267},{"$f":"Sheet3!Q22","v":5.5121727147450618E-3},{"$f":"IF(ISNUMBER(I22),CORREL($B$1:B22,$I$1:I22),\"\")","v":0.18617101493318786},{"$f":"Sheet3!S22","v":-9.4600830641439777E-3},{"$f":"IF(ISNUMBER(K22),CORREL($B$1:B22,$K$1:K22),\"\")","v":3.8472956920606684E-2},{"$f":"Sheet3!U22","v":1.1069035828721234E-3},{"$f":"IF(ISNUMBER(M22),CORREL($B$1:B22,$M$1:M22),\"\")","v":-0.30435515768769844},{"$f":"Sheet3!W22","v":-4.4892086330935253E-3},{"$f":"IF(ISNUMBER(O22),CORREL($B$1:B22,$O$1:O22),\"\")","v":-8.0027631957706874E-3},{"$f":"Sheet3!Y22","v":-5.8751672386713975E-3},{"$f":"IF(ISNUMBER(Q22),CORREL($B$1:B22,$Q$1:Q22),\"\")","v":0.17707812340660922},{"$f":"Sheet3!AA22","v":8.3912868555664124E-3},{"$f":"IF(ISNUMBER(S22),CORREL($B$1:B22,$S$1:S22),\"\")","v":0.52183749000823398}]
[null,{"$f":"Sheet3!I23","v":-1.1518746760352474E-4},{"$f":"Sheet3!K23","v":-3.2751091703056767E-3},{"$f":"IF(ISNUMBER(C23),CORREL($B$1:B23,$C$1:C23),\"\")","v":0.23987896176034601},{"$f":"Sheet3!M23","v":-3.9933823948884702E-3},{"$f":"IF(ISNUMBER(E23),CORREL($B$1:B23,$E$1:E23),\"\")","v":-0.48759944783958115},{"$f":"Sheet3!O23","v":3.416856492027335E-4},{"$f":"IF(ISNUMBER(G23),CORREL($B$1:B23,$G$1:G23),\"\")","v":-0.68388126318145714},{"$f":"Sheet3!Q23","v":5.6844281120808455E-3},{"$f":"IF(ISNUMBER(I23),CORREL($B$1:B23,$I$1:I23),\"\")","v":0.18044401207626118},{"$f":"Sheet3!S23","v":-8.4794646977388102E-3},{"$f":"IF(ISNUMBER(K23),CORREL($B$1:B23,$K$1:K23),\"\")","v":-5.9169892290818857E-2},{"$f":"Sheet3!U23","v":3.4954849985435477E-4},{"$f":"IF(ISNUMBER(M23),CORREL($B$1:B23,$M$1:M23),\"\")","v":-0.28060454876037788},{"$f":"Sheet3!W23","v":-4.5467625899280571E-3},{"$f":"IF(ISNUMBER(O23),CORREL($B$1:B23,$O$1:O23),\"\")","v":-4.1410146380739532E-2},{"$f":"Sheet3!Y23","v":-4.7117677854691406E-3},{"$f":"IF(ISNUMBER(Q23),CORREL($B$1:B23,$Q$1:Q23),\"\")","v":0.23991697228386566},{"$f":"Sheet3!AA23","v":7.931490315535375E-3},{"$f":"IF(ISNUMBER(S23),CORREL($B$1:B23,$S$1:S23),\"\")","v":0.49822323073690633}]
[null,{"$f":"Sheet3!I24","v":-5.7593733801762371E-5},{"$f":"Sheet3!K24","v":-3.7922316708802572E-3},{"$f":"IF(ISNUMBER(C24),CORREL($B$1:B24,$C$1:C24),\"\")","v":0.29880090276778487},{"$f":"Sheet3!M24","v":-3.4228991956186889E-3},{"$f":"IF(ISNUMBER(E24),CORREL($B$1:B24,$E$1:E24),\"\")","v":-0.50236621153075978},{"$f":"Sheet3!O24","v":3.416856492027335E-4},{"$f":"IF(ISNUMBER(G24),CORREL($B$1:B24,$G$1:G24),\"\")","v":-0.67006880321609996},{"$f":"Sheet3!Q24","v":6.0863573725310057E-3},{"$f":"IF(ISNUMBER(I24),CORREL($B$1:B24,$I$1:I24),\"\")","v":0.21964478715475586},{"$f":"Sheet3!S24","v":-9.57544993077988E-3},{"$f":"IF(ISNUMBER(K24),CORREL($B$1:B24,$K$1:K24),\"\")","v":-0.17104409026727432},{"$f":"Sheet3!U24","v":-8.1561316632682782E-4},{"$f":"IF(ISNUMBER(M24),CORREL($B$1:B24,$M$1:M24),\"\")","v":-0.34634351183201162},{"$f":"Sheet3!W24","v":-4.2014388489208633E-3},{"$f":"IF(ISNUMBER(O24),CORREL($B$1:B24,$O$1:O24),\"\")","v":-4.7919604729198005E-2},{"$f":"Sheet3!Y24","v":-5.1771275667500437E-3},{"$f":"IF(ISNUMBER(Q24),CORREL($B$1:B24,$Q$1:Q24),\"\")","v":0.27056330527084721},{"$f":"Sheet3!AA24","v":7.5291683430082192E-3},{"$f":"IF(ISNUMBER(S24),CORREL($B$1:B24,$S$1:S24),\"\")","v":0.42877468751697961}]
[null,{"$f":"Sheet3!I25","v":-1.1518746760352474E-4},{"$f":"Sheet3!K25","v":-3.8496897264996555E-3},{"$f":"IF(ISNUMBER(C25),CORREL($B$1:B25,$C$1:C25),\"\")","v":0.34135432611607863},{"$f":"Sheet3!M25","v":-2.5671743967140169E-3},{"$f":"IF(ISNUMBER(E25),CORREL($B$1:B25,$E$1:E25),\"\")","v":-0.4633941900481568},{"$f":"Sheet3!O25","v":0},{"$f":"IF(ISNUMBER(G25),CORREL($B$1:B25,$G$1:G25),\"\")","v":-0.68684214851149061},{"$f":"Sheet3!Q25","v":5.4547542489664673E-3},{"$f":"IF(ISNUMBER(I25),CORREL($B$1:B25,$I$1:I25),\"\")","v":0.18973589875711422},{"$f":"Sheet3!S25","v":-1.009460083064144E-2},{"$f":"IF(ISNUMBER(K25),CORREL($B$1:B25,$K$1:K25),\"\")","v":-0.26126320134057773},{"$f":"Sheet3!U25","v":1.7477424992717739E-4},{"$f":"IF(ISNUMBER(M25),CORREL($B$1:B25,$M$1:M25),\"\")","v":-0.33733743618043055},{"$f":"Sheet3!W25","v":-2.9352517985611511E-3},{"$f":"IF(ISNUMBER(O25),CORREL($B$1:B25,$O$1:O25),\"\")","v":1.551846995128241E-2},{"$f":"Sheet3!Y25","v":-4.9444476761095922E-3},{"$f":"IF(ISNUMBER(Q25),CORREL($B$1:B25,$Q$1:Q25),\"\")","v":0.30381784974329784},{"$f":"Sheet3!AA25","v":8.1039140180470138E-3},{"$f":"IF(ISNUMBER(S25),CORREL($B$1:B25,$S$1:S25),\"\")","v":0.43632317876434756}]
[null,{"$f":"Sheet3!I26","v":-3.4556240281057423E-4},{"$f":"Sheet3!K26","v":-3.8496897264996555E-3},{"$f":"IF(ISNUMBER(C26),CORREL($B$1:B26,$C$1:C26),\"\")","v":0.3715859476141013},{"$f":"Sheet3!M26","v":-3.2517542358377546E-3},{"$f":"IF(ISNUMBER(E26),CORREL($B$1:B26,$E$1:E26),\"\")","v":-0.47178579384568203},{"$f":"Sheet3!O26","v":2.8473804100227789E-4},{"$f":"IF(ISNUMBER(G26),CORREL($B$1:B26,$G$1:G26),\"\")","v":-0.68650573784667934},{"$f":"Sheet3!Q26","v":5.6844281120808455E-3},{"$f":"IF(ISNUMBER(I26),CORREL($B$1:B26,$I$1:I26),\"\")","v":0.18782399911123324},{"$f":"Sheet3!S26","v":-1.0844485463774804E-2},{"$f":"IF(ISNUMBER(K26),CORREL($B$1:B26,$K$1:K26),\"\")","v":-0.32590030005363596},{"$f":"Sheet3!U26","v":8.7387124963588696E-4},{"$f":"IF(ISNUMBER(M26),CORREL($B$1:B26,$M$1:M26),\"\")","v":-0.29059725564881755},{"$f":"Sheet3!W26","v":-3.3381294964028776E-3},{"$f":"IF(ISNUMBER(O26),CORREL($B$1:B26,$O$1:O26),\"\")","v":4.3340189953393692E-2},{"$f":"Sheet3!Y26","v":-5.816997266011285E-3},{"$f":"IF(ISNUMBER(Q26),CORREL($B$1:B26,$Q$1:Q26),\"\")","v":0.30305509194940627},{"$f":"Sheet3!AA26","v":7.7015920455198571E-3},{"$f":"IF(ISNUMBER(S26),CORREL($B$1:B26,$S$1:S26),\"\")","v":0.41240898205257792}]
[null,{"$f":"Sheet3!I27","v":-1.7278120140528711E-4},{"$f":"Sheet3!K27","v":-4.0220638933578488E-3},{"$f":"IF(ISNUMBER(C27),CORREL($B$1:B27,$C$1:C27),\"\")","v":0.39456212916582112},{"$f":"Sheet3!M27","v":-2.6812710365679729E-3},{"$f":"IF(ISNUMBER(E27),CORREL($B$1:B27,$E$1:E27),\"\")","v":-0.44947857240022204},{"$f":"Sheet3!O27","v":-2.8473804100227789E-4},{"$f":"IF(ISNUMBER(G27),CORREL($B$1:B27,$G$1:G27),\"\")","v":-0.70831950343124939},{"$f":"Sheet3!Q27","v":5.2250803858520899E-3},{"$f":"IF(ISNUMBER(I27),CORREL($B$1:B27,$I$1:I27),\"\")","v":0.14527429071409767},{"$f":"Sheet3!S27","v":-9.3447161975080753E-3},{"$f":"IF(ISNUMBER(K27),CORREL($B$1:B27,$K$1:K27),\"\")","v":-0.36504894211346833},{"$f":"Sheet3!U27","v":1.8060005825808331E-3},{"$f":"IF(ISNUMBER(M27),CORREL($B$1:B27,$M$1:M27),\"\")","v":-0.17950821955387675},{"$f":"Sheet3!W27","v":-3.1654676258992807E-3},{"$f":"IF(ISNUMBER(O27),CORREL($B$1:B27,$O$1:O27),\"\")","v":7.7981560805100131E-2},{"$f":"Sheet3!Y27","v":-6.3986969926124139E-3},{"$f":"IF(ISNUMBER(Q27),CORREL($B$1:B27,$Q$1:Q27),\"\")","v":0.28034236256444339},{"$f":"Sheet3!AA27","v":7.2417955054888215E-3},{"$f":"IF(ISNUMBER(S27),CORREL($B$1:B27,$S$1:S27),\"\")","v":0.33993100256339998}]
[null,{"$f":"Sheet3!I28","v":1.0366872084317227E-3},{"$f":"Sheet3!K28","v":-4.3093541714548378E-3},{"$f":"IF(ISNUMBER(C28),CORREL($B$1:B28,$C$1:C28),\"\")","v":0.39775743005503206},{"$f":"Sheet3!M28","v":-2.7383193564949511E-3},{"$f":"IF(ISNUMBER(E28),CORREL($B$1:B28,$E$1:E28),\"\")","v":-0.40104807828975036},{"$f":"Sheet3!O28","v":-1.7084282460136675E-4},{"$f":"IF(ISNUMBER(G28),CORREL($B$1:B28,$G$1:G28),\"\")","v":-0.72068090153963937},{"$f":"Sheet3!Q28","v":4.9379880569591179E-3},{"$f":"IF(ISNUMBER(I28),CORREL($B$1:B28,$I$1:I28),\"\")","v":3.3897769183170841E-2},{"$f":"Sheet3!S28","v":-1.009460083064144E-2},{"$f":"IF(ISNUMBER(K28),CORREL($B$1:B28,$K$1:K28),\"\")","v":-0.43589474907578935},{"$f":"Sheet3!U28","v":1.9225167491989513E-3},{"$f":"IF(ISNUMBER(M28),CORREL($B$1:B28,$M$1:M28),\"\")","v":-1.2525978603382818E-2},{"$f":"Sheet3!W28","v":-3.8561151079136691E-3},{"$f":"IF(ISNUMBER(O28),CORREL($B$1:B28,$O$1:O28),\"\")","v":7.8408879988175625E-2},{"$f":"Sheet3!Y28","v":-6.6895468559129779E-3},{"$f":"IF(ISNUMBER(Q28),CORREL($B$1:B28,$Q$1:Q28),\"\")","v":0.21508090594548068},{"$f":"Sheet3!AA28","v":6.2647278579228693E-3},{"$f":"IF(ISNUMBER(S28),CORREL($B$1:B28,$S$1:S28),\"\")","v":7.3204574686534379E-2}]
[null,{"$f":"Sheet3!I29","v":1.4398433450440592E-3},{"$f":"Sheet3!K29","v":-2.7579866697310961E-3},{"$f":"IF(ISNUMBER(C29),CORREL($B$1:B29,$C$1:C29),\"\")","v":0.48598670510542402},{"$f":"Sheet3!M29","v":-4.3356723144503395E-3},{"$f":"IF(ISNUMBER(E29),CORREL($B$1:B29,$E$1:E29),\"\")","v":-0.4801413306879424},{"$f":"Sheet3!O29","v":1.7084282460136675E-4},{"$f":"IF(ISNUMBER(G29),CORREL($B$1:B29,$G$1:G29),\"\")","v":-0.69133971738128885},{"$f":"Sheet3!Q29","v":4.6508957280661459E-3},{"$f":"IF(ISNUMBER(I29),CORREL($B$1:B29,$I$1:I29),\"\")","v":-9.7419918164610098E-2},{"$f":"Sheet3!S29","v":-9.4600830641439777E-3},{"$f":"IF(ISNUMBER(K29),CORREL($B$1:B29,$K$1:K29),\"\")","v":-0.47493303021653355},{"$f":"Sheet3!U29","v":1.6894844159627148E-3},{"$f":"IF(ISNUMBER(M29),CORREL($B$1:B29,$M$1:M29),\"\")","v":0.10189469476914989},{"$f":"Sheet3!W29","v":-3.7985611510791368E-3},{"$f":"IF(ISNUMBER(O29),CORREL($B$1:B29,$O$1:O29),\"\")","v":8.2730822442907165E-2},{"$f":"Sheet3!Y29","v":-6.7477168285730903E-3},{"$f":"IF(ISNUMBER(Q29),CORREL($B$1:B29,$Q$1:Q29),\"\")","v":0.15280178395663385},{"$f":"Sheet3!AA29","v":6.8969481004655438E-3},{"$f":"IF(ISNUMBER(S29),CORREL($B$1:B29,$S$1:S29),\"\")","v":-4.4616012454522617E-2}]
[null,{"$f":"Sheet3!I30","v":1.2670621436387721E-3},{"$f":"Sheet3!K30","v":-3.0452769478280855E-3},{"$f":"IF(ISNUMBER(C30),CORREL($B$1:B30,$C$1:C30),\"\")","v":0.53547317660867499},{"$f":"Sheet3!M30","v":-3.3658508756917111E-3},{"$f":"IF(ISNUMBER(E30),CORREL($B$1:B30,$E$1:E30),\"\")","v":-0.48321208639603702},{"$f":"Sheet3!O30","v":1.1389521640091117E-4},{"$f":"IF(ISNUMBER(G30),CORREL($B$1:B30,$G$1:G30),\"\")","v":-0.68240079611532767},{"$f":"Sheet3!Q30","v":5.2250803858520899E-3},{"$f":"IF(ISNUMBER(I30),CORREL($B$1:B30,$I$1:I30),\"\")","v":-0.12873818149457181},{"$f":"Sheet3!S30","v":-8.9409321642824179E-3},{"$f":"IF(ISNUMBER(K30),CORREL($B$1:B30,$K$1:K30),\"\")","v":-0.49383648717067896},{"$f":"Sheet3!U30","v":2.1555490824351877E-3},{"$f":"IF(ISNUMBER(M30),CORREL($B$1:B30,$M$1:M30),\"\")","v":0.20901717937011915},{"$f":"Sheet3!W30","v":-4.2589928057553961E-3},{"$f":"IF(ISNUMBER(O30),CORREL($B$1:B30,$O$1:O30),\"\")","v":5.7355093929830209E-2},{"$f":"Sheet3!Y30","v":-6.107847129311849E-3},{"$f":"IF(ISNUMBER(Q30),CORREL($B$1:B30,$Q$1:Q30),\"\")","v":0.14217846446260363},{"$f":"Sheet3!AA30","v":6.7819989654577849E-3},{"$f":"IF(ISNUMBER(S30),CORREL($B$1:B30,$S$1:S30),\"\")","v":-0.13708915740676028}]
[null,{"$f":"Sheet3!I31","v":1.2670621436387721E-3},{"$f":"Sheet3!K31","v":-2.9303608365892899E-3},{"$f":"IF(ISNUMBER(C31),CORREL($B$1:B31,$C$1:C31),\"\")","v":0.57675247180507572},{"$f":"Sheet3!M31","v":-2.5671743967140169E-3},{"$f":"IF(ISNUMBER(E31),CORREL($B$1:B31,$E$1:E31),\"\")","v":-0.43427581108329427},{"$f":"Sheet3!O31","v":-2.8473804100227789E-4},{"$f":"IF(ISNUMBER(G31),CORREL($B$1:B31,$G$1:G31),\"\")","v":-0.70430117417655103},{"$f":"Sheet3!Q31","v":5.7992650436380338E-3},{"$f":"IF(ISNUMBER(I31),CORREL($B$1:B31,$I$1:I31),\"\")","v":-9.661556520266483E-2},{"$f":"Sheet3!S31","v":-8.99861559760037E-3},{"$f":"IF(ISNUMBER(K31),CORREL($B$1:B31,$K$1:K31),\"\")","v":-0.5114537021314044},{"$f":"Sheet3!U31","v":2.4468394989804834E-3},{"$f":"IF(ISNUMBER(M31),CORREL($B$1:B31,$M$1:M31),\"\")","v":0.30078963882517962},{"$f":"Sheet3!W31","v":-4.8920863309352518E-3},{"$f":"IF(ISNUMBER(O31),CORREL($B$1:B31,$O$1:O31),\"\")","v":-7.7237547314400513E-5},{"$f":"Sheet3!Y31","v":-6.5732069105927521E-3},{"$f":"IF(ISNUMBER(Q31),CORREL($B$1:B31,$Q$1:Q31),\"\")","v":0.11196943953382238},{"$f":"Sheet3!AA31","v":6.724524397953905E-3},{"$f":"IF(ISNUMBER(S31),CORREL($B$1:B31,$S$1:S31),\"\")","v":-0.21251225447361646}]
[null,{"$f":"Sheet3!I32","v":8.6390600702643554E-4},{"$f":"Sheet3!K32","v":-2.528154447253505E-3},{"$f":"IF(ISNUMBER(C32),CORREL($B$1:B32,$C$1:C32),\"\")","v":0.6097650097598023},{"$f":"Sheet3!M32","v":-3.1376575959837982E-3},{"$f":"IF(ISNUMBER(E32),CORREL($B$1:B32,$E$1:E32),\"\")","v":-0.43358251933842568},{"$f":"Sheet3!O32","v":-4.5558086560364467E-4},{"$f":"IF(ISNUMBER(G32),CORREL($B$1:B32,$G$1:G32),\"\")","v":-0.72512011086483341},{"$f":"Sheet3!Q32","v":6.0289389067524112E-3},{"$f":"IF(ISNUMBER(I32),CORREL($B$1:B32,$I$1:I32),\"\")","v":-5.6157447375587727E-2},{"$f":"Sheet3!S32","v":-9.4600830641439777E-3},{"$f":"IF(ISNUMBER(K32),CORREL($B$1:B32,$K$1:K32),\"\")","v":-0.5332314902862636},{"$f":"Sheet3!U32","v":2.3885814156714242E-3},{"$f":"IF(ISNUMBER(M32),CORREL($B$1:B32,$M$1:M32),\"\")","v":0.35654804268156737},{"$f":"Sheet3!W32","v":-5.352517985611511E-3},{"$f":"IF(ISNUMBER(O32),CORREL($B$1:B32,$O$1:O32),\"\")","v":-5.930105198831509E-2},{"$f":"Sheet3!Y32","v":-5.9915071839916232E-3},{"$f":"IF(ISNUMBER(Q32),CORREL($B$1:B32,$Q$1:Q32),\"\")","v":0.11280538363123264},{"$f":"Sheet3!AA32","v":6.6095752629461461E-3},{"$f":"IF(ISNUMBER(S32),CORREL($B$1:B32,$S$1:S32),\"\")","v":-0.2686127363201436}]
[null,{"$f":"Sheet3!I33","v":1.9581869492599204E-3},{"$f":"Sheet3!K33","v":-2.2983222247759134E-3},{"$f":"IF(ISNUMBER(C33),CORREL($B$1:B33,$C$1:C33),\"\")","v":0.65421469378177788},{"$f":"Sheet3!M33","v":-3.7651891151805577E-3},{"$f":"IF(ISNUMBER(E33),CORREL($B$1:B33,$E$1:E33),\"\")","v":-0.46313758636126506},{"$f":"Sheet3!O33","v":-2.8473804100227789E-4},{"$f":"IF(ISNUMBER(G33),CORREL($B$1:B33,$G$1:G33),\"\")","v":-0.73645571977998581},{"$f":"Sheet3!Q33","v":6.0863573725310057E-3},{"$f":"IF(ISNUMBER(I33),CORREL($B$1:B33,$I$1:I33),\"\")","v":3.8216710771099773E-3},{"$f":"Sheet3!S33","v":-9.287032764190125E-3},{"$f":"IF(ISNUMBER(K33),CORREL($B$1:B33,$K$1:K33),\"\")","v":-0.54915404128034573},{"$f":"Sheet3!U33","v":1.9225167491989513E-3},{"$f":"IF(ISNUMBER(M33),CORREL($B$1:B33,$M$1:M33),\"\")","v":0.40335120786248491},{"$f":"Sheet3!W33","v":-4.9496402877697845E-3},{"$f":"IF(ISNUMBER(O33),CORREL($B$1:B33,$O$1:O33),\"\")","v":-0.110356027529193},{"$f":"Sheet3!Y33","v":-5.4679774300506077E-3},{"$f":"IF(ISNUMBER(Q33),CORREL($B$1:B33,$Q$1:Q33),\"\")","v":0.13773747126191549},{"$f":"Sheet3!AA33","v":6.4946261279383872E-3},{"$f":"IF(ISNUMBER(S33),CORREL($B$1:B33,$S$1:S33),\"\")","v":-0.34399291325040648}]
[null,{"$f":"Sheet3!I34","v":2.5917180210793065E-3},{"$f":"Sheet3!K34","v":-1.2640772236267525E-3},{"$f":"IF(ISNUMBER(C34),CORREL($B$1:B34,$C$1:C34),\"\")","v":0.7103365560903625},{"$f":"Sheet3!M34","v":-4.1645273546694053E-3},{"$f":"IF(ISNUMBER(E34),CORREL($B$1:B34,$E$1:E34),\"\")","v":-0.51036547678169497},{"$f":"Sheet3!O34","v":-1.1389521640091117E-4},{"$f":"IF(ISNUMBER(G34),CORREL($B$1:B34,$G$1:G34),\"\")","v":-0.72787313352584138},{"$f":"Sheet3!Q34","v":6.4882866329811668E-3},{"$f":"IF(ISNUMBER(I34),CORREL($B$1:B34,$I$1:I34),\"\")","v":0.10594330648382681},{"$f":"Sheet3!S34","v":-1.067143516382095E-2},{"$f":"IF(ISNUMBER(K34),CORREL($B$1:B34,$K$1:K34),\"\")","v":-0.58992631765058379},{"$f":"Sheet3!U34","v":1.9225167491989513E-3},{"$f":"IF(ISNUMBER(M34),CORREL($B$1:B34,$M$1:M34),\"\")","v":0.4441172999786826},{"$f":"Sheet3!W34","v":-4.6618705035971226E-3},{"$f":"IF(ISNUMBER(O34),CORREL($B$1:B34,$O$1:O34),\"\")","v":-0.14031368877525507},{"$f":"Sheet3!Y34","v":-5.9915071839916232E-3},{"$f":"IF(ISNUMBER(Q34),CORREL($B$1:B34,$Q$1:Q34),\"\")","v":0.13227482432298529},{"$f":"Sheet3!AA34","v":6.7819989654577849E-3},{"$f":"IF(ISNUMBER(S34),CORREL($B$1:B34,$S$1:S34),\"\")","v":-0.38894995429776735}]
[null,{"$f":"Sheet3!I35","v":2.4189368196740196E-3},{"$f":"Sheet3!K35","v":-1.2066191680073547E-3},{"$f":"IF(ISNUMBER(C35),CORREL($B$1:B35,$C$1:C35),\"\")","v":0.7472439834097796},{"$f":"Sheet3!M35","v":-3.4228991956186889E-3},{"$f":"IF(ISNUMBER(E35),CORREL($B$1:B35,$E$1:E35),\"\")","v":-0.50998096862107711},{"$f":"Sheet3!O35","v":-1.366742596810934E-3},{"$f":"IF(ISNUMBER(G35),CORREL($B$1:B35,$G$1:G35),\"\")","v":-0.76477090496856226},{"$f":"Sheet3!Q35","v":6.5457050987597614E-3},{"$f":"IF(ISNUMBER(I35),CORREL($B$1:B35,$I$1:I35),\"\")","v":0.18499047747058908},{"$f":"Sheet3!S35","v":-1.0959852330410707E-2},{"$f":"IF(ISNUMBER(K35),CORREL($B$1:B35,$K$1:K35),\"\")","v":-0.62527280907891203},{"$f":"Sheet3!U35","v":2.5633556655986016E-3},{"$f":"IF(ISNUMBER(M35),CORREL($B$1:B35,$M$1:M35),\"\")","v":0.49914889582880179},{"$f":"Sheet3!W35","v":-4.0863309352517987E-3},{"$f":"IF(ISNUMBER(O35),CORREL($B$1:B35,$O$1:O35),\"\")","v":-0.13220544395625414},{"$f":"Sheet3!Y35","v":-6.1660171019719623E-3},{"$f":"IF(ISNUMBER(Q35),CORREL($B$1:B35,$Q$1:Q35),\"\")","v":0.12071898400358956},{"$f":"Sheet3!AA35","v":7.0118972354733028E-3},{"$f":"IF(ISNUMBER(S35),CORREL($B$1:B35,$S$1:S35),\"\")","v":-0.40888811146566878}]
[null,{"$f":"Sheet3!I36","v":2.0733744168634455E-3},{"$f":"Sheet3!K36","v":-9.7678694552976331E-4},{"$f":"IF(ISNUMBER(C36),CORREL($B$1:B36,$C$1:C36),\"\")","v":0.77080419512083376},{"$f":"Sheet3!M36","v":-2.9094643162758858E-3},{"$f":"IF(ISNUMBER(E36),CORREL($B$1:B36,$E$1:E36),\"\")","v":-0.48669768007882047},{"$f":"Sheet3!O36","v":-1.4236902050113896E-3},{"$f":"IF(ISNUMBER(G36),CORREL($B$1:B36,$G$1:G36),\"\")","v":-0.78485498473479043},{"$f":"Sheet3!Q36","v":6.0863573725310057E-3},{"$f":"IF(ISNUMBER(I36),CORREL($B$1:B36,$I$1:I36),\"\")","v":0.21076569625403896},{"$f":"Sheet3!S36","v":-1.0786802030456852E-2},{"$f":"IF(ISNUMBER(K36),CORREL($B$1:B36,$K$1:K36),\"\")","v":-0.6499037808865803},{"$f":"Sheet3!U36","v":2.9711622487620156E-3},{"$f":"IF(ISNUMBER(M36),CORREL($B$1:B36,$M$1:M36),\"\")","v":0.54546508303047825},{"$f":"Sheet3!W36","v":-3.0503597122302157E-3},{"$f":"IF(ISNUMBER(O36),CORREL($B$1:B36,$O$1:O36),\"\")","v":-7.6845689149725629E-2},{"$f":"Sheet3!Y36","v":-5.9915071839916232E-3},{"$f":"IF(ISNUMBER(Q36),CORREL($B$1:B36,$Q$1:Q36),\"\")","v":0.11983579299822263},{"$f":"Sheet3!AA36","v":7.0693718029771827E-3},{"$f":"IF(ISNUMBER(S36),CORREL($B$1:B36,$S$1:S36),\"\")","v":-0.4228678122896895}]
[null,{"$f":"Sheet3!I37","v":1.7854057478546334E-3},{"$f":"Sheet3!K37","v":-4.5966444495518271E-4},{"$f":"IF(ISNUMBER(C37),CORREL($B$1:B37,$C$1:C37),\"\")","v":0.78342917381159172},{"$f":"Sheet3!M37","v":-2.7383193564949511E-3},{"$f":"IF(ISNUMBER(E37),CORREL($B$1:B37,$E$1:E37),\"\")","v":-0.46215738718649252},{"$f":"Sheet3!O37","v":-1.4236902050113896E-3},{"$f":"IF(ISNUMBER(G37),CORREL($B$1:B37,$G$1:G37),\"\")","v":-0.79620205638087915},{"$f":"Sheet3!Q37","v":5.9141019751952229E-3},{"$f":"IF(ISNUMBER(I37),CORREL($B$1:B37,$I$1:I37),\"\")","v":0.22103931665819282},{"$f":"Sheet3!S37","v":-1.1248269497000462E-2},{"$f":"IF(ISNUMBER(K37),CORREL($B$1:B37,$K$1:K37),\"\")","v":-0.67141097960443807},{"$f":"Sheet3!U37","v":3.4954849985435479E-3},{"$f":"IF(ISNUMBER(M37),CORREL($B$1:B37,$M$1:M37),\"\")","v":0.58088817555394068},{"$f":"Sheet3!W37","v":-2.8776978417266188E-3},{"$f":"IF(ISNUMBER(O37),CORREL($B$1:B37,$O$1:O37),\"\")","v":-2.7720533387129594E-2},{"$f":"Sheet3!Y37","v":-5.2352975394101562E-3},{"$f":"IF(ISNUMBER(Q37),CORREL($B$1:B37,$Q$1:Q37),\"\")","v":0.14424939034874801},{"$f":"Sheet3!AA37","v":7.1268463704810625E-3},{"$f":"IF(ISNUMBER(S37),CORREL($B$1:B37,$S$1:S37),\"\")","v":-0.43253924052486042}]
[null,{"$f":"Sheet3!I38","v":1.555030812647584E-3},{"$f":"Sheet3!K38","v":-4.5966444495518271E-4},{"$f":"IF(ISNUMBER(C38),CORREL($B$1:B38,$C$1:C38),\"\")","v":0.79067194356030635},{"$f":"Sheet3!M38","v":-2.4530777568600604E-3},{"$f":"IF(ISNUMBER(E38),CORREL($B$1:B38,$E$1:E38),\"\")","v":-0.43035889891878004},{"$f":"Sheet3!O38","v":-1.6514806378132118E-3},{"$f":"IF(ISNUMBER(G38),CORREL($B$1:B38,$G$1:G38),\"\")","v":-0.79846361894371665},{"$f":"Sheet3!Q38","v":6.0289389067524112E-3},{"$f":"IF(ISNUMBER(I38),CORREL($B$1:B38,$I$1:I38),\"\")","v":0.23590242155993346},{"$f":"Sheet3!S38","v":-1.1132902630364559E-2},{"$f":"IF(ISNUMBER(K38),CORREL($B$1:B38,$K$1:K38),\"\")","v":-0.68711882445098371},{"$f":"Sheet3!U38","v":3.6120011651616661E-3},{"$f":"IF(ISNUMBER(M38),CORREL($B$1:B38,$M$1:M38),\"\")","v":0.60486029025361121},{"$f":"Sheet3!W38","v":-2.8201438848920865E-3},{"$f":"IF(ISNUMBER(O38),CORREL($B$1:B38,$O$1:O38),\"\")","v":1.2720804855087637E-2},{"$f":"Sheet3!Y38","v":-5.7006573206910592E-3},{"$f":"IF(ISNUMBER(Q38),CORREL($B$1:B38,$Q$1:Q38),\"\")","v":0.1515639240043466},{"$f":"Sheet3!AA38","v":6.8969481004655438E-3},{"$f":"IF(ISNUMBER(S38),CORREL($B$1:B38,$S$1:S38),\"\")","v":-0.44968480327736299}]
[null,{"$f":"Sheet3!I39","v":1.9005932154581582E-3},{"$f":"Sheet3!K39","v":5.7458055619397838E-5},{"$f":"IF(ISNUMBER(C39),CORREL($B$1:B39,$C$1:C39),\"\")","v":0.80033276783214735},{"$f":"Sheet3!M39","v":-2.966512636202864E-3},{"$f":"IF(ISNUMBER(E39),CORREL($B$1:B39,$E$1:E39),\"\")","v":-0.42062726833632946},{"$f":"Sheet3!O39","v":-1.7653758542141231E-3},{"$f":"IF(ISNUMBER(G39),CORREL($B$1:B39,$G$1:G39),\"\")","v":-0.80660652973437108},{"$f":"Sheet3!Q39","v":5.6844281120808455E-3},{"$f":"IF(ISNUMBER(I39),CORREL($B$1:B39,$I$1:I39),\"\")","v":0.23013648857012614},{"$f":"Sheet3!S39","v":-1.1709736963544069E-2},{"$f":"IF(ISNUMBER(K39),CORREL($B$1:B39,$K$1:K39),\"\")","v":-0.70529987608622102},{"$f":"Sheet3!U39","v":3.7285173317797844E-3},{"$f":"IF(ISNUMBER(M39),CORREL($B$1:B39,$M$1:M39),\"\")","v":0.63141967676556621},{"$f":"Sheet3!W39","v":-2.4748201438848923E-3},{"$f":"IF(ISNUMBER(O39),CORREL($B$1:B39,$O$1:O39),\"\")","v":6.5297018057201908E-2},{"$f":"Sheet3!Y39","v":-4.9444476761095922E-3},{"$f":"IF(ISNUMBER(Q39),CORREL($B$1:B39,$Q$1:Q39),\"\")","v":0.18090946860097706},{"$f":"Sheet3!AA39","v":7.0118972354733028E-3},{"$f":"IF(ISNUMBER(S39),CORREL($B$1:B39,$S$1:S39),\"\")","v":-0.4619300835706156}]
[null,{"$f":"Sheet3!I40","v":2.0157806830616827E-3},{"$f":"Sheet3!K40","v":8.0441277867156972E-4},{"$f":"IF(ISNUMBER(C40),CORREL($B$1:B40,$C$1:C40),\"\")","v":0.80677736060413963},{"$f":"Sheet3!M40","v":-2.966512636202864E-3},{"$f":"IF(ISNUMBER(E40),CORREL($B$1:B40,$E$1:E40),\"\")","v":-0.41122307249213919},{"$f":"Sheet3!O40","v":-1.6514806378132118E-3},{"$f":"IF(ISNUMBER(G40),CORREL($B$1:B40,$G$1:G40),\"\")","v":-0.81684682842071987},{"$f":"Sheet3!Q40","v":5.627009646302251E-3},{"$f":"IF(ISNUMBER(I40),CORREL($B$1:B40,$I$1:I40),\"\")","v":0.22093699107513992},{"$f":"Sheet3!S40","v":-1.1767420396862021E-2},{"$f":"IF(ISNUMBER(K40),CORREL($B$1:B40,$K$1:K40),\"\")","v":-0.72176693308229101},{"$f":"Sheet3!U40","v":3.7867754150888435E-3},{"$f":"IF(ISNUMBER(M40),CORREL($B$1:B40,$M$1:M40),\"\")","v":0.65525551533116078},{"$f":"Sheet3!W40","v":-2.7050359712230214E-3},{"$f":"IF(ISNUMBER(O40),CORREL($B$1:B40,$O$1:O40),\"\")","v":0.10523857670660715},{"$f":"Sheet3!Y40","v":-5.526147402710721E-3},{"$f":"IF(ISNUMBER(Q40),CORREL($B$1:B40,$Q$1:Q40),\"\")","v":0.19151356909945014},{"$f":"Sheet3!AA40","v":6.8394735329616648E-3},{"$f":"IF(ISNUMBER(S40),CORREL($B$1:B40,$S$1:S40),\"\")","v":-0.47969887130450839}]
[null,{"$f":"Sheet3!I41","v":2.4189368196740196E-3},{"$f":"Sheet3!K41","v":6.8949666743277403E-4},{"$f":"IF(ISNUMBER(C41),CORREL($B$1:B41,$C$1:C41),\"\")","v":0.8194668778030445},{"$f":"Sheet3!M41","v":-2.7383193564949511E-3},{"$f":"IF(ISNUMBER(E41),CORREL($B$1:B41,$E$1:E41),\"\")","v":-0.38852469983151072},{"$f":"Sheet3!O41","v":-1.6514806378132118E-3},{"$f":"IF(ISNUMBER(G41),CORREL($B$1:B41,$G$1:G41),\"\")","v":-0.82947165765668263},{"$f":"Sheet3!Q41","v":5.5695911805236564E-3},{"$f":"IF(ISNUMBER(I41),CORREL($B$1:B41,$I$1:I41),\"\")","v":0.20647826505268355},{"$f":"Sheet3!S41","v":-1.2517305029995386E-2},{"$f":"IF(ISNUMBER(K41),CORREL($B$1:B41,$K$1:K41),\"\")","v":-0.7408365511077446},{"$f":"Sheet3!U41","v":3.9032915817069618E-3},{"$f":"IF(ISNUMBER(M41),CORREL($B$1:B41,$M$1:M41),\"\")","v":0.68058203050460264},{"$f":"Sheet3!W41","v":-2.6474820143884891E-3},{"$f":"IF(ISNUMBER(O41),CORREL($B$1:B41,$O$1:O41),\"\")","v":0.14725867814146307},{"$f":"Sheet3!Y41","v":-5.4098074573904953E-3},{"$f":"IF(ISNUMBER(Q41),CORREL($B$1:B41,$Q$1:Q41),\"\")","v":0.20562284350316101},{"$f":"Sheet3!AA41","v":6.6095752629461461E-3},{"$f":"IF(ISNUMBER(S41),CORREL($B$1:B41,$S$1:S41),\"\")","v":-0.5052887400221503}]
[null,{"$f":"Sheet3!I42","v":1.9581869492599204E-3},{"$f":"Sheet3!K42","v":6.3203861181337624E-4},{"$f":"IF(ISNUMBER(C42),CORREL($B$1:B42,$C$1:C42),\"\")","v":0.82498019299662595},{"$f":"Sheet3!M42","v":-2.8524159963489075E-3},{"$f":"IF(ISNUMBER(E42),CORREL($B$1:B42,$E$1:E42),\"\")","v":-0.37780955356044649},{"$f":"Sheet3!O42","v":-1.3097949886104784E-3},{"$f":"IF(ISNUMBER(G42),CORREL($B$1:B42,$G$1:G42),\"\")","v":-0.83686969363603403},{"$f":"Sheet3!Q42","v":5.4547542489664673E-3},{"$f":"IF(ISNUMBER(I42),CORREL($B$1:B42,$I$1:I42),\"\")","v":0.18990172554587531},{"$f":"Sheet3!S42","v":-1.3094139363174896E-2},{"$f":"IF(ISNUMBER(K42),CORREL($B$1:B42,$K$1:K42),\"\")","v":-0.75250973864728232},{"$f":"Sheet3!U42","v":3.9032915817069618E-3},{"$f":"IF(ISNUMBER(M42),CORREL($B$1:B42,$M$1:M42),\"\")","v":0.69610283112218563},{"$f":"Sheet3!W42","v":-2.4172661870503595E-3},{"$f":"IF(ISNUMBER(O42),CORREL($B$1:B42,$O$1:O42),\"\")","v":0.18356046134892792},{"$f":"Sheet3!Y42","v":-4.8281077307893664E-3},{"$f":"IF(ISNUMBER(Q42),CORREL($B$1:B42,$Q$1:Q42),\"\")","v":0.23066137105540513},{"$f":"Sheet3!AA42","v":6.4371515604345082E-3},{"$f":"IF(ISNUMBER(S42),CORREL($B$1:B42,$S$1:S42),\"\")","v":-0.52773384001264112}]
[null,{"$f":"Sheet3!I43","v":2.0157806830616827E-3},{"$f":"Sheet3!K43","v":5.1712250057458055E-4},{"$f":"IF(ISNUMBER(C43),CORREL($B$1:B43,$C$1:C43),\"\")","v":0.83120906064101829},{"$f":"Sheet3!M43","v":-2.8524159963489075E-3},{"$f":"IF(ISNUMBER(E43),CORREL($B$1:B43,$E$1:E43),\"\")","v":-0.36770756683932504},{"$f":"Sheet3!O43","v":-1.3097949886104784E-3},{"$f":"IF(ISNUMBER(G43),CORREL($B$1:B43,$G$1:G43),\"\")","v":-0.84360497187275407},{"$f":"Sheet3!Q43","v":5.8566835094166284E-3},{"$f":"IF(ISNUMBER(I43),CORREL($B$1:B43,$I$1:I43),\"\")","v":0.19617999763067304},{"$f":"Sheet3!S43","v":-1.2344254730041531E-2},{"$f":"IF(ISNUMBER(K43),CORREL($B$1:B43,$K$1:K43),\"\")","v":-0.76331744552961767},{"$f":"Sheet3!U43","v":3.6120011651616661E-3},{"$f":"IF(ISNUMBER(M43),CORREL($B$1:B43,$M$1:M43),\"\")","v":0.70974940831210109},{"$f":"Sheet3!W43","v":-2.9928057553956834E-3},{"$f":"IF(ISNUMBER(O43),CORREL($B$1:B43,$O$1:O43),\"\")","v":0.20288108263190707},{"$f":"Sheet3!Y43","v":-5.4679774300506077E-3},{"$f":"IF(ISNUMBER(Q43),CORREL($B$1:B43,$Q$1:Q43),\"\")","v":0.23907986914868901},{"$f":"Sheet3!AA43","v":6.4371515604345082E-3},{"$f":"IF(ISNUMBER(S43),CORREL($B$1:B43,$S$1:S43),\"\")","v":-0.54784780039552505}]
[null,{"$f":"Sheet3!I44","v":2.4765305534757819E-3},{"$f":"Sheet3!K44","v":1.1491611123879568E-4},{"$f":"IF(ISNUMBER(C44),CORREL($B$1:B44,$C$1:C44),\"\")","v":0.84028035124910661},{"$f":"Sheet3!M44","v":-2.7383193564949511E-3},{"$f":"IF(ISNUMBER(E44),CORREL($B$1:B44,$E$1:E44),\"\")","v":-0.35005897007616515},{"$f":"Sheet3!O44","v":-9.6810933940774484E-4},{"$f":"IF(ISNUMBER(G44),CORREL($B$1:B44,$G$1:G44),\"\")","v":-0.84681493115447481},{"$f":"Sheet3!Q44","v":5.6844281120808455E-3},{"$f":"IF(ISNUMBER(I44),CORREL($B$1:B44,$I$1:I44),\"\")","v":0.1919265509506817},{"$f":"Sheet3!S44","v":-1.3555606829718505E-2},{"$f":"IF(ISNUMBER(K44),CORREL($B$1:B44,$K$1:K44),\"\")","v":-0.77694530012476815},{"$f":"Sheet3!U44","v":3.8450334983979027E-3},{"$f":"IF(ISNUMBER(M44),CORREL($B$1:B44,$M$1:M44),\"\")","v":0.72588404687460917},{"$f":"Sheet3!W44","v":-3.0503597122302157E-3},{"$f":"IF(ISNUMBER(O44),CORREL($B$1:B44,$O$1:O44),\"\")","v":0.22158862506821111},{"$f":"Sheet3!Y44","v":-5.5843173753708335E-3},{"$f":"IF(ISNUMBER(Q44),CORREL($B$1:B44,$Q$1:Q44),\"\")","v":0.24415277693940976},{"$f":"Sheet3!AA44","v":6.5521006954422671E-3},{"$f":"IF(ISNUMBER(S44),CORREL($B$1:B44,$S$1:S44),\"\")","v":-0.56623634606184159}]
[null,{"$f":"Sheet3!I45","v":2.1309681506652078E-3},{"$f":"Sheet3!K45","v":1.7237416685819351E-4},{"$f":"IF(ISNUMBER(C45),CORREL($B$1:B45,$C$1:C45),\"\")","v":0.84631655939445449},{"$f":"Sheet3!M45","v":-2.6242227166409951E-3},{"$f":"IF(ISNUMBER(E45),CORREL($B$1:B45,$E$1:E45),\"\")","v":-0.33255772495329672},{"$f":"Sheet3!O45","v":-5.1252847380410028E-4},{"$f":"IF(ISNUMBER(G45),CORREL($B$1:B45,$G$1:G45),\"\")","v":-0.84363228612467001},{"$f":"Sheet3!Q45","v":5.3973357831878736E-3},{"$f":"IF(ISNUMBER(I45),CORREL($B$1:B45,$I$1:I45),\"\")","v":0.17374704155434836},{"$f":"Sheet3!S45","v":-1.3613290263036456E-2},{"$f":"IF(ISNUMBER(K45),CORREL($B$1:B45,$K$1:K45),\"\")","v":-0.7853501028464801},{"$f":"Sheet3!U45","v":3.8450334983979027E-3},{"$f":"IF(ISNUMBER(M45),CORREL($B$1:B45,$M$1:M45),\"\")","v":0.73716780283367245},{"$f":"Sheet3!W45","v":-2.5899280575539568E-3},{"$f":"IF(ISNUMBER(O45),CORREL($B$1:B45,$O$1:O45),\"\")","v":0.2467923777640437},{"$f":"Sheet3!Y45","v":-5.9333372113315108E-3},{"$f":"IF(ISNUMBER(Q45),CORREL($B$1:B45,$Q$1:Q45),\"\")","v":0.24035660960048472},{"$f":"Sheet3!AA45","v":5.1727110753491583E-3},{"$f":"IF(ISNUMBER(S45),CORREL($B$1:B45,$S$1:S45),\"\")","v":-0.58268399382702163}]
[null,{"$f":"Sheet3!I46","v":2.2461556182687323E-3},{"$f":"Sheet3!K46","v":1.7237416685819351E-4},{"$f":"IF(ISNUMBER(C46),CORREL($B$1:B46,$C$1:C46),\"\")","v":0.85229222883358025},{"$f":"Sheet3!M46","v":-2.7383193564949511E-3},{"$f":"IF(ISNUMBER(E46),CORREL($B$1:B46,$E$1:E46),\"\")","v":-0.31998017918451183},{"$f":"Sheet3!O46","v":-7.4031890660592251E-4},{"$f":"IF(ISNUMBER(G46),CORREL($B$1:B46,$G$1:G46),\"\")","v":-0.84423140800484242},{"$f":"Sheet3!Q46","v":5.9141019751952229E-3},{"$f":"IF(ISNUMBER(I46),CORREL($B$1:B46,$I$1:I46),\"\")","v":0.18309494967517312},{"$f":"Sheet3!S46","v":-1.2401938163359483E-2},{"$f":"IF(ISNUMBER(K46),CORREL($B$1:B46,$K$1:K46),\"\")","v":-0.79339904175122811},{"$f":"Sheet3!U46","v":3.8450334983979027E-3},{"$f":"IF(ISNUMBER(M46),CORREL($B$1:B46,$M$1:M46),\"\")","v":0.74792767779840097},{"$f":"Sheet3!W46","v":-2.4748201438848923E-3},{"$f":"IF(ISNUMBER(O46),CORREL($B$1:B46,$O$1:O46),\"\")","v":0.27274880943965601},{"$f":"Sheet3!Y46","v":-5.6424873480309468E-3},{"$f":"IF(ISNUMBER(Q46),CORREL($B$1:B46,$Q$1:Q46),\"\")","v":0.24376066975503013},{"$f":"Sheet3!AA46","v":5.0002873728375195E-3},{"$f":"IF(ISNUMBER(S46),CORREL($B$1:B46,$S$1:S46),\"\")","v":-0.59913001516844999}]
[null,{"$f":"Sheet3!I47","v":2.18856188446697E-3},{"$f":"Sheet3!K47","v":3.4474833371638702E-4},{"$f":"IF(ISNUMBER(C47),CORREL($B$1:B47,$C$1:C47),\"\")","v":0.85720383094965491},{"$f":"Sheet3!M47","v":-2.338981117006104E-3},{"$f":"IF(ISNUMBER(E47),CORREL($B$1:B47,$E$1:E47),\"\")","v":-0.29343543717935638},{"$f":"Sheet3!O47","v":-3.9863325740318906E-4},{"$f":"IF(ISNUMBER(G47),CORREL($B$1:B47,$G$1:G47),\"\")","v":-0.83904658004037802},{"$f":"Sheet3!Q47","v":6.2011943040881949E-3},{"$f":"IF(ISNUMBER(I47),CORREL($B$1:B47,$I$1:I47),\"\")","v":0.20390471022483708},{"$f":"Sheet3!S47","v":-1.2171204430087679E-2},{"$f":"IF(ISNUMBER(K47),CORREL($B$1:B47,$K$1:K47),\"\")","v":-0.80000311498197729},{"$f":"Sheet3!U47","v":4.1945819982522571E-3},{"$f":"IF(ISNUMBER(M47),CORREL($B$1:B47,$M$1:M47),\"\")","v":0.75710039223637327},{"$f":"Sheet3!W47","v":-3.2805755395683453E-3},{"$f":"IF(ISNUMBER(O47),CORREL($B$1:B47,$O$1:O47),\"\")","v":0.27958754600400787},{"$f":"Sheet3!Y47","v":-5.9333372113315108E-3},{"$f":"IF(ISNUMBER(Q47),CORREL($B$1:B47,$Q$1:Q47),\"\")","v":0.2402147275482418},{"$f":"Sheet3!AA47","v":5.0577619403413985E-3},{"$f":"IF(ISNUMBER(S47),CORREL($B$1:B47,$S$1:S47),\"\")","v":-0.61363653645206462}]
[null,{"$f":"Sheet3!I48","v":1.8429994816563959E-3},{"$f":"Sheet3!K48","v":2.2983222247759135E-4},{"$f":"IF(ISNUMBER(C48),CORREL($B$1:B48,$C$1:C48),\"\")","v":0.85978038520409517},{"$f":"Sheet3!M48","v":-2.6812710365679729E-3},{"$f":"IF(ISNUMBER(E48),CORREL($B$1:B48,$E$1:E48),\"\")","v":-0.28402918168164576},{"$f":"Sheet3!O48","v":1.1389521640091117E-4},{"$f":"IF(ISNUMBER(G48),CORREL($B$1:B48,$G$1:G48),\"\")","v":-0.82527851059822788},{"$f":"Sheet3!Q48","v":6.4308681672025723E-3},{"$f":"IF(ISNUMBER(I48),CORREL($B$1:B48,$I$1:I48),\"\")","v":0.22670381262175884},{"$f":"Sheet3!S48","v":-1.2286571296723581E-2},{"$f":"IF(ISNUMBER(K48),CORREL($B$1:B48,$K$1:K48),\"\")","v":-0.80474962785314086},{"$f":"Sheet3!U48","v":4.2528400815613166E-3},{"$f":"IF(ISNUMBER(M48),CORREL($B$1:B48,$M$1:M48),\"\")","v":0.76204126704744579},{"$f":"Sheet3!W48","v":-3.1079136690647484E-3},{"$f":"IF(ISNUMBER(O48),CORREL($B$1:B48,$O$1:O48),\"\")","v":0.28839279803901952},{"$f":"Sheet3!Y48","v":-5.1771275667500437E-3},{"$f":"IF(ISNUMBER(Q48),CORREL($B$1:B48,$Q$1:Q48),\"\")","v":0.25142456246563244},{"$f":"Sheet3!AA48","v":4.7703891028220017E-3},{"$f":"IF(ISNUMBER(S48),CORREL($B$1:B48,$S$1:S48),\"\")","v":-0.61715763266220025}]
[null,{"$f":"Sheet3!I49","v":1.9005932154581582E-3},{"$f":"Sheet3!K49","v":4.0220638933578486E-4},{"$f":"IF(ISNUMBER(C49),CORREL($B$1:B49,$C$1:C49),\"\")","v":0.86221172565311621},{"$f":"Sheet3!M49","v":-3.3088025557647329E-3},{"$f":"IF(ISNUMBER(E49),CORREL($B$1:B49,$E$1:E49),\"\")","v":-0.29177773960497044},{"$f":"Sheet3!O49","v":2.2779043280182233E-4},{"$f":"IF(ISNUMBER(G49),CORREL($B$1:B49,$G$1:G49),\"\")","v":-0.80854883370077935},{"$f":"Sheet3!Q49","v":7.0050528249885162E-3},{"$f":"IF(ISNUMBER(I49),CORREL($B$1:B49,$I$1:I49),\"\")","v":0.25964555010928753},{"$f":"Sheet3!S49","v":-1.2690355329949238E-2},{"$f":"IF(ISNUMBER(K49),CORREL($B$1:B49,$K$1:K49),\"\")","v":-0.80929661272438291},{"$f":"Sheet3!U49","v":3.9615496650160214E-3},{"$f":"IF(ISNUMBER(M49),CORREL($B$1:B49,$M$1:M49),\"\")","v":0.76772551060588934},{"$f":"Sheet3!W49","v":-2.3021582733812949E-3},{"$f":"IF(ISNUMBER(O49),CORREL($B$1:B49,$O$1:O49),\"\")","v":0.30811690514467638},{"$f":"Sheet3!Y49","v":-5.1771275667500437E-3},{"$f":"IF(ISNUMBER(Q49),CORREL($B$1:B49,$Q$1:Q49),\"\")","v":0.26213043011610532},{"$f":"Sheet3!AA49","v":5.2876602103569172E-3},{"$f":"IF(ISNUMBER(S49),CORREL($B$1:B49,$S$1:S49),\"\")","v":-0.62691217156416457}]
[null,{"$f":"Sheet3!I50","v":1.9005932154581582E-3},{"$f":"Sheet3!K50","v":-5.7458055619397838E-5},{"$f":"IF(ISNUMBER(C50),CORREL($B$1:B50,$C$1:C50),\"\")","v":0.86509496510403783},{"$f":"Sheet3!M50","v":-2.9094643162758858E-3},{"$f":"IF(ISNUMBER(E50),CORREL($B$1:B50,$E$1:E50),\"\")","v":-0.28911532497710718},{"$f":"Sheet3!O50","v":1.1389521640091117E-4},{"$f":"IF(ISNUMBER(G50),CORREL($B$1:B50,$G$1:G50),\"\")","v":-0.79605387893807678},{"$f":"Sheet3!Q50","v":7.0050528249885162E-3},{"$f":"IF(ISNUMBER(I50),CORREL($B$1:B50,$I$1:I50),\"\")","v":0.2879233666883142},{"$f":"Sheet3!S50","v":-1.2228887863405631E-2},{"$f":"IF(ISNUMBER(K50),CORREL($B$1:B50,$K$1:K50),\"\")","v":-0.81348058921447397},{"$f":"Sheet3!U50","v":3.3789688319254296E-3},{"$f":"IF(ISNUMBER(M50),CORREL($B$1:B50,$M$1:M50),\"\")","v":0.77259719405535554},{"$f":"Sheet3!W50","v":-2.1870503597122303E-3},{"$f":"IF(ISNUMBER(O50),CORREL($B$1:B50,$O$1:O50),\"\")","v":0.32719676120071067},{"$f":"Sheet3!Y50","v":-4.7117677854691406E-3},{"$f":"IF(ISNUMBER(Q50),CORREL($B$1:B50,$Q$1:Q50),\"\")","v":0.27861367638476403},{"$f":"Sheet3!AA50","v":5.460083912868556E-3},{"$f":"IF(ISNUMBER(S50),CORREL($B$1:B50,$S$1:S50),\"\")","v":-0.63633826130301496}]
[null,{"$f":"Sheet3!I51","v":2.0157806830616827E-3},{"$f":"Sheet3!K51","v":-4.5966444495518271E-4},{"$f":"IF(ISNUMBER(C51),CORREL($B$1:B51,$C$1:C51),\"\")","v":0.86797325531933289},{"$f":"Sheet3!M51","v":-2.966512636202864E-3},{"$f":"IF(ISNUMBER(E51),CORREL($B$1:B51,$E$1:E51),\"\")","v":-0.28787424164765091},{"$f":"Sheet3!O51","v":2.8473804100227789E-4},{"$f":"IF(ISNUMBER(G51),CORREL($B$1:B51,$G$1:G51),\"\")","v":-0.77827232741317065},{"$f":"Sheet3!Q51","v":6.9476343592099216E-3},{"$f":"IF(ISNUMBER(I51),CORREL($B$1:B51,$I$1:I51),\"\")","v":0.31391385579896131},{"$f":"Sheet3!S51","v":-1.2228887863405631E-2},{"$f":"IF(ISNUMBER(K51),CORREL($B$1:B51,$K$1:K51),\"\")","v":-0.81769646535706009},{"$f":"Sheet3!U51","v":3.553743081852607E-3},{"$f":"IF(ISNUMBER(M51),CORREL($B$1:B51,$M$1:M51),\"\")","v":0.77778927230329609},{"$f":"Sheet3!W51","v":-2.129496402877698E-3},{"$f":"IF(ISNUMBER(O51),CORREL($B$1:B51,$O$1:O51),\"\")","v":0.34633014736083134},{"$f":"Sheet3!Y51","v":-3.8973881682275611E-3},{"$f":"IF(ISNUMBER(Q51),CORREL($B$1:B51,$Q$1:Q51),\"\")","v":0.30356954444989548},{"$f":"Sheet3!AA51","v":4.8853382378297606E-3},{"$f":"IF(ISNUMBER(S51),CORREL($B$1:B51,$S$1:S51),\"\")","v":-0.64403940337760024}]
[null,{"$f":"Sheet3!I52","v":2.7644992224845938E-3},{"$f":"Sheet3!K52","v":-9.1932888991036541E-4},{"$f":"IF(ISNUMBER(C52),CORREL($B$1:B52,$C$1:C52),\"\")","v":0.86825602516296307},{"$f":"Sheet3!M52","v":-3.08060927605682E-3},{"$f":"IF(ISNUMBER(E52),CORREL($B$1:B52,$E$1:E52),\"\")","v":-0.28890572147047511},{"$f":"Sheet3!O52","v":3.9863325740318906E-4},{"$f":"IF(ISNUMBER(G52),CORREL($B$1:B52,$G$1:G52),\"\")","v":-0.74719545072153304},{"$f":"Sheet3!Q52","v":6.7179604960955442E-3},{"$f":"IF(ISNUMBER(I52),CORREL($B$1:B52,$I$1:I52),\"\")","v":0.34226303298840483},{"$f":"Sheet3!S52","v":-1.1421319796954314E-2},{"$f":"IF(ISNUMBER(K52),CORREL($B$1:B52,$K$1:K52),\"\")","v":-0.8191442061696762},{"$f":"Sheet3!U52","v":3.6702592484707253E-3},{"$f":"IF(ISNUMBER(M52),CORREL($B$1:B52,$M$1:M52),\"\")","v":0.7845007113386443},{"$f":"Sheet3!W52","v":-2.9928057553956834E-3},{"$f":"IF(ISNUMBER(O52),CORREL($B$1:B52,$O$1:O52),\"\")","v":0.35494361584168749},{"$f":"Sheet3!Y52","v":-4.0137281135477869E-3},{"$f":"IF(ISNUMBER(Q52),CORREL($B$1:B52,$Q$1:Q52),\"\")","v":0.33436766755817032},{"$f":"Sheet3!AA52","v":4.6554399678142419E-3},{"$f":"IF(ISNUMBER(S52),CORREL($B$1:B52,$S$1:S52),\"\")","v":-0.6609254445216548}]
[null,{"$f":"Sheet3!I53","v":2.1309681506652078E-3},{"$f":"Sheet3!K53","v":-9.7678694552976331E-4},{"$f":"IF(ISNUMBER(C53),CORREL($B$1:B53,$C$1:C53),\"\")","v":0.86986457916666227},{"$f":"Sheet3!M53","v":-3.08060927605682E-3},{"$f":"IF(ISNUMBER(E53),CORREL($B$1:B53,$E$1:E53),\"\")","v":-0.2906029138652188},{"$f":"Sheet3!O53","v":1.1389521640091117E-4},{"$f":"IF(ISNUMBER(G53),CORREL($B$1:B53,$G$1:G53),\"\")","v":-0.73558111601088394},{"$f":"Sheet3!Q53","v":6.3734497014239777E-3},{"$f":"IF(ISNUMBER(I53),CORREL($B$1:B53,$I$1:I53),\"\")","v":0.35444682298486324},{"$f":"Sheet3!S53","v":-1.2055837563451776E-2},{"$f":"IF(ISNUMBER(K53),CORREL($B$1:B53,$K$1:K53),\"\")","v":-0.82281559996192377},{"$f":"Sheet3!U53","v":3.8450334983979027E-3},{"$f":"IF(ISNUMBER(M53),CORREL($B$1:B53,$M$1:M53),\"\")","v":0.78946949587793447},{"$f":"Sheet3!W53","v":-3.5107913669064749E-3},{"$f":"IF(ISNUMBER(O53),CORREL($B$1:B53,$O$1:O53),\"\")","v":0.35350717544522908},{"$f":"Sheet3!Y53","v":-4.8862777034494797E-3},{"$f":"IF(ISNUMBER(Q53),CORREL($B$1:B53,$Q$1:Q53),\"\")","v":0.3451754940373819},{"$f":"Sheet3!AA53","v":3.333524915225013E-3},{"$f":"IF(ISNUMBER(S53),CORREL($B$1:B53,$S$1:S53),\"\")","v":-0.65215208493372623}]
[null,{"$f":"Sheet3!I54","v":1.9005932154581582E-3},{"$f":"Sheet3!K54","v":-7.4695472305217193E-4},{"$f":"IF(ISNUMBER(C54),CORREL($B$1:B54,$C$1:C54),\"\")","v":0.87178769562555225},{"$f":"Sheet3!M54","v":-3.70814079525358E-3},{"$f":"IF(ISNUMBER(E54),CORREL($B$1:B54,$E$1:E54),\"\")","v":-0.30371628795812927},{"$f":"Sheet3!O54","v":8.5421412300683373E-4},{"$f":"IF(ISNUMBER(G54),CORREL($B$1:B54,$G$1:G54),\"\")","v":-0.70511851121701041},{"$f":"Sheet3!Q54","v":6.2586127698667894E-3},{"$f":"IF(ISNUMBER(I54),CORREL($B$1:B54,$I$1:I54),\"\")","v":0.36238088624791387},{"$f":"Sheet3!S54","v":-1.1536686663590217E-2},{"$f":"IF(ISNUMBER(K54),CORREL($B$1:B54,$K$1:K54),\"\")","v":-0.8252614972221467},{"$f":"Sheet3!U54","v":3.4954849985435479E-3},{"$f":"IF(ISNUMBER(M54),CORREL($B$1:B54,$M$1:M54),\"\")","v":0.79296018309858529},{"$f":"Sheet3!W54","v":-3.0503597122302157E-3},{"$f":"IF(ISNUMBER(O54),CORREL($B$1:B54,$O$1:O54),\"\")","v":0.35904603656506545},{"$f":"Sheet3!Y54","v":-4.4790878948286891E-3},{"$f":"IF(ISNUMBER(Q54),CORREL($B$1:B54,$Q$1:Q54),\"\")","v":0.35785021784077892},{"$f":"Sheet3!AA54","v":3.2760503477211335E-3},{"$f":"IF(ISNUMBER(S54),CORREL($B$1:B54,$S$1:S54),\"\")","v":-0.64327805675871041}]
[null,{"$f":"Sheet3!I55","v":1.8429994816563959E-3},{"$f":"Sheet3!K55","v":-6.8949666743277403E-4},{"$f":"IF(ISNUMBER(C55),CORREL($B$1:B55,$C$1:C55),\"\")","v":0.8735639130192342},{"$f":"Sheet3!M55","v":-3.9933823948884702E-3},{"$f":"IF(ISNUMBER(E55),CORREL($B$1:B55,$E$1:E55),\"\")","v":-0.31866587455263051},{"$f":"Sheet3!O55","v":1.0250569476082006E-3},{"$f":"IF(ISNUMBER(G55),CORREL($B$1:B55,$G$1:G55),\"\")","v":-0.67183895657826531},{"$f":"Sheet3!Q55","v":6.3160312356453831E-3},{"$f":"IF(ISNUMBER(I55),CORREL($B$1:B55,$I$1:I55),\"\")","v":0.37058572769740428},{"$f":"Sheet3!S55","v":-1.2286571296723581E-2},{"$f":"IF(ISNUMBER(K55),CORREL($B$1:B55,$K$1:K55),\"\")","v":-0.82782119574898083},{"$f":"Sheet3!U55","v":2.9129041654529565E-3},{"$f":"IF(ISNUMBER(M55),CORREL($B$1:B55,$M$1:M55),\"\")","v":0.79482896242216794},{"$f":"Sheet3!W55","v":-3.1079136690647484E-3},{"$f":"IF(ISNUMBER(O55),CORREL($B$1:B55,$O$1:O55),\"\")","v":0.36348850273019334},{"$f":"Sheet3!Y55","v":-4.1882380315281251E-3},{"$f":"IF(ISNUMBER(Q55),CORREL($B$1:B55,$Q$1:Q55),\"\")","v":0.37092633050414436},{"$f":"Sheet3!AA55","v":3.7933214552560491E-3},{"$f":"IF(ISNUMBER(S55),CORREL($B$1:B55,$S$1:S55),\"\")","v":-0.64289465330642526}]
[null,{"$f":"Sheet3!I56","v":1.3822496112422969E-3},{"$f":"Sheet3!K56","v":-5.1712250057458055E-4},{"$f":"IF(ISNUMBER(C56),CORREL($B$1:B56,$C$1:C56),\"\")","v":0.87387856924208662},{"$f":"Sheet3!M56","v":-4.0504307148154488E-3},{"$f":"IF(ISNUMBER(E56),CORREL($B$1:B56,$E$1:E56),\"\")","v":-0.32729878013169539},{"$f":"Sheet3!O56","v":9.1116173120728934E-4},{"$f":"IF(ISNUMBER(G56),CORREL($B$1:B56,$G$1:G56),\"\")","v":-0.6514415609770362},{"$f":"Sheet3!Q56","v":6.6605420303169497E-3},{"$f":"IF(ISNUMBER(I56),CORREL($B$1:B56,$I$1:I56),\"\")","v":0.37782723144233021},{"$f":"Sheet3!S56","v":-1.1940470696815874E-2},{"$f":"IF(ISNUMBER(K56),CORREL($B$1:B56,$K$1:K56),\"\")","v":-0.82868842805639154},{"$f":"Sheet3!U56","v":3.7867754150888435E-3},{"$f":"IF(ISNUMBER(M56),CORREL($B$1:B56,$M$1:M56),\"\")","v":0.79506746986169552},{"$f":"Sheet3!W56","v":-3.3381294964028776E-3},{"$f":"IF(ISNUMBER(O56),CORREL($B$1:B56,$O$1:O56),\"\")","v":0.36490816202197257},{"$f":"Sheet3!Y56","v":-4.4790878948286891E-3},{"$f":"IF(ISNUMBER(Q56),CORREL($B$1:B56,$Q$1:Q56),\"\")","v":0.37757976789412273},{"$f":"Sheet3!AA56","v":4.0232197252715674E-3},{"$f":"IF(ISNUMBER(S56),CORREL($B$1:B56,$S$1:S56),\"\")","v":-0.63823337208733744}]
[null,{"$f":"Sheet3!I57","v":1.3822496112422969E-3},{"$f":"Sheet3!K57","v":-5.7458055619397838E-5},{"$f":"IF(ISNUMBER(C57),CORREL($B$1:B57,$C$1:C57),\"\")","v":0.87315739351273458},{"$f":"Sheet3!M57","v":-4.5638655941582524E-3},{"$f":"IF(ISNUMBER(E57),CORREL($B$1:B57,$E$1:E57),\"\")","v":-0.33521928079790103},{"$f":"Sheet3!O57","v":7.9726651480637812E-4},{"$f":"IF(ISNUMBER(G57),CORREL($B$1:B57,$G$1:G57),\"\")","v":-0.6351104994857697},{"$f":"Sheet3!Q57","v":6.8327974276527334E-3},{"$f":"IF(ISNUMBER(I57),CORREL($B$1:B57,$I$1:I57),\"\")","v":0.3847521389646254},{"$f":"Sheet3!S57","v":-1.2286571296723581E-2},{"$f":"IF(ISNUMBER(K57),CORREL($B$1:B57,$K$1:K57),\"\")","v":-0.829054334154112},{"$f":"Sheet3!U57","v":3.4954849985435479E-3},{"$f":"IF(ISNUMBER(M57),CORREL($B$1:B57,$M$1:M57),\"\")","v":0.79611459167569099},{"$f":"Sheet3!W57","v":-3.8561151079136691E-3},{"$f":"IF(ISNUMBER(O57),CORREL($B$1:B57,$O$1:O57),\"\")","v":0.36105148123439601},{"$f":"Sheet3!Y57","v":-4.0718980862078993E-3},{"$f":"IF(ISNUMBER(Q57),CORREL($B$1:B57,$Q$1:Q57),\"\")","v":0.38449157142224472},{"$f":"Sheet3!AA57","v":3.9082705902638085E-3},{"$f":"IF(ISNUMBER(S57),CORREL($B$1:B57,$S$1:S57),\"\")","v":-0.63380717396280917}]
[null,{"$f":"Sheet3!I58","v":1.4398433450440592E-3},{"$f":"Sheet3!K58","v":1.1491611123879568E-4},{"$f":"IF(ISNUMBER(C58),CORREL($B$1:B58,$C$1:C58),\"\")","v":0.8723767986301848},{"$f":"Sheet3!M58","v":-5.1913971133550115E-3},{"$f":"IF(ISNUMBER(E58),CORREL($B$1:B58,$E$1:E58),\"\")","v":-0.34088347100520494},{"$f":"Sheet3!O58","v":6.83371298405467E-4},{"$f":"IF(ISNUMBER(G58),CORREL($B$1:B58,$G$1:G58),\"\")","v":-0.62158449324341281},{"$f":"Sheet3!Q58","v":7.1198897565457053E-3},{"$f":"IF(ISNUMBER(I58),CORREL($B$1:B58,$I$1:I58),\"\")","v":0.39136580727231202},{"$f":"Sheet3!S58","v":-1.2517305029995386E-2},{"$f":"IF(ISNUMBER(K58),CORREL($B$1:B58,$K$1:K58),\"\")","v":-0.82934876877173169},{"$f":"Sheet3!U58","v":3.0294203320710747E-3},{"$f":"IF(ISNUMBER(M58),CORREL($B$1:B58,$M$1:M58),\"\")","v":0.79756780144061556},{"$f":"Sheet3!W58","v":-3.6258992805755395E-3},{"$f":"IF(ISNUMBER(O58),CORREL($B$1:B58,$O$1:O58),\"\")","v":0.35969510538790916},{"$f":"Sheet3!Y58","v":-4.1300680588680127E-3},{"$f":"IF(ISNUMBER(Q58),CORREL($B$1:B58,$Q$1:Q58),\"\")","v":0.39153859443550337},{"$f":"Sheet3!AA58","v":4.7703891028220017E-3},{"$f":"IF(ISNUMBER(S58),CORREL($B$1:B58,$S$1:S58),\"\")","v":-0.63593167836389097}]
[null,{"$f":"Sheet3!I59","v":1.6702182802511088E-3},{"$f":"Sheet3!K59","v":8.0441277867156972E-4},{"$f":"IF(ISNUMBER(C59),CORREL($B$1:B59,$C$1:C59),\"\")","v":0.87101106966441633},{"$f":"Sheet3!M59","v":-4.9632038336470995E-3},{"$f":"IF(ISNUMBER(E59),CORREL($B$1:B59,$E$1:E59),\"\")","v":-0.35233332844893783},{"$f":"Sheet3!O59","v":5.1252847380410028E-4},{"$f":"IF(ISNUMBER(G59),CORREL($B$1:B59,$G$1:G59),\"\")","v":-0.61010667268991325},{"$f":"Sheet3!Q59","v":7.4644005512172719E-3},{"$f":"IF(ISNUMBER(I59),CORREL($B$1:B59,$I$1:I59),\"\")","v":0.39999534698617895},{"$f":"Sheet3!S59","v":-1.2517305029995386E-2},{"$f":"IF(ISNUMBER(K59),CORREL($B$1:B59,$K$1:K59),\"\")","v":-0.83077838475921517},{"$f":"Sheet3!U59","v":2.8546460821438973E-3},{"$f":"IF(ISNUMBER(M59),CORREL($B$1:B59,$M$1:M59),\"\")","v":0.79882741541580726},{"$f":"Sheet3!W59","v":-3.3381294964028776E-3},{"$f":"IF(ISNUMBER(O59),CORREL($B$1:B59,$O$1:O59),\"\")","v":0.36117699821400701},{"$f":"Sheet3!Y59","v":-3.9555581408876736E-3},{"$f":"IF(ISNUMBER(Q59),CORREL($B$1:B59,$Q$1:Q59),\"\")","v":0.40084015673003065},{"$f":"Sheet3!AA59","v":4.3105925627909651E-3},{"$f":"IF(ISNUMBER(S59),CORREL($B$1:B59,$S$1:S59),\"\")","v":-0.63872431726340451}]
[null,{"$f":"Sheet3!I60","v":1.3246558774405344E-3},{"$f":"Sheet3!K60","v":1.2640772236267525E-3},{"$f":"IF(ISNUMBER(C60),CORREL($B$1:B60,$C$1:C60),\"\")","v":0.86488877300918632},{"$f":"Sheet3!M60","v":-4.9061555137201208E-3},{"$f":"IF(ISNUMBER(E60),CORREL($B$1:B60,$E$1:E60),\"\")","v":-0.35695887905097268},{"$f":"Sheet3!O60","v":1.1389521640091117E-4},{"$f":"IF(ISNUMBER(G60),CORREL($B$1:B60,$G$1:G60),\"\")","v":-0.60783434650535373},{"$f":"Sheet3!Q60","v":8.2108406063389986E-3},{"$f":"IF(ISNUMBER(I60),CORREL($B$1:B60,$I$1:I60),\"\")","v":0.39230305125297676},{"$f":"Sheet3!S60","v":-1.2055837563451776E-2},{"$f":"IF(ISNUMBER(K60),CORREL($B$1:B60,$K$1:K60),\"\")","v":-0.83119784082420878},{"$f":"Sheet3!U60","v":3.4954849985435479E-3},{"$f":"IF(ISNUMBER(M60),CORREL($B$1:B60,$M$1:M60),\"\")","v":0.79939938193672733},{"$f":"Sheet3!W60","v":-2.5899280575539568E-3},{"$f":"IF(ISNUMBER(O60),CORREL($B$1:B60,$O$1:O60),\"\")","v":0.36626113378262076},{"$f":"Sheet3!Y60","v":-3.432028386946658E-3},{"$f":"IF(ISNUMBER(Q60),CORREL($B$1:B60,$Q$1:Q60),\"\")","v":0.40482306278540758},{"$f":"Sheet3!AA60","v":3.8507960227599286E-3},{"$f":"IF(ISNUMBER(S60),CORREL($B$1:B60,$S$1:S60),\"\")","v":-0.63468486357315013}]
[null,{"$f":"Sheet3!I61","v":1.3246558774405344E-3},{"$f":"Sheet3!K61","v":6.3203861181337624E-4},{"$f":"IF(ISNUMBER(C61),CORREL($B$1:B61,$C$1:C61),\"\")","v":0.86234355125605744},{"$f":"Sheet3!M61","v":-4.7350105539391866E-3},{"$f":"IF(ISNUMBER(E61),CORREL($B$1:B61,$E$1:E61),\"\")","v":-0.36207271142144459},{"$f":"Sheet3!O61","v":8.5421412300683373E-4},{"$f":"IF(ISNUMBER(G61),CORREL($B$1:B61,$G$1:G61),\"\")","v":-0.59346996734460444},{"$f":"Sheet3!Q61","v":8.3256775378961877E-3},{"$f":"IF(ISNUMBER(I61),CORREL($B$1:B61,$I$1:I61),\"\")","v":0.38687470456146655},{"$f":"Sheet3!S61","v":-1.1882787263497924E-2},{"$f":"IF(ISNUMBER(K61),CORREL($B$1:B61,$K$1:K61),\"\")","v":-0.83179520085764935},{"$f":"Sheet3!U61","v":3.4372269152344887E-3},{"$f":"IF(ISNUMBER(M61),CORREL($B$1:B61,$M$1:M61),\"\")","v":0.8000777724100584},{"$f":"Sheet3!W61","v":-3.5107913669064749E-3},{"$f":"IF(ISNUMBER(O61),CORREL($B$1:B61,$O$1:O61),\"\")","v":0.36606967081187886},{"$f":"Sheet3!Y61","v":-2.4431388517247399E-3},{"$f":"IF(ISNUMBER(Q61),CORREL($B$1:B61,$Q$1:Q61),\"\")","v":0.40404796039534352},{"$f":"Sheet3!AA61","v":3.2760503477211335E-3},{"$f":"IF(ISNUMBER(S61),CORREL($B$1:B61,$S$1:S61),\"\")","v":-0.62690643571440419}]
[null,{"$f":"Sheet3!I62","v":8.0631227322467314E-4},{"$f":"Sheet3!K62","v":1.0917030567685589E-3},{"$f":"IF(ISNUMBER(C62),CORREL($B$1:B62,$C$1:C62),\"\")","v":0.85305707462018332},{"$f":"Sheet3!M62","v":-4.3356723144503395E-3},{"$f":"IF(ISNUMBER(E62),CORREL($B$1:B62,$E$1:E62),\"\")","v":-0.36167787117454275},{"$f":"Sheet3!O62","v":1.1389521640091116E-3},{"$f":"IF(ISNUMBER(G62),CORREL($B$1:B62,$G$1:G62),\"\")","v":-0.58044000648610516},{"$f":"Sheet3!Q62","v":8.7850252641249425E-3},{"$f":"IF(ISNUMBER(I62),CORREL($B$1:B62,$I$1:I62),\"\")","v":0.3641011005004175},{"$f":"Sheet3!S62","v":-1.1940470696815874E-2},{"$f":"IF(ISNUMBER(K62),CORREL($B$1:B62,$K$1:K62),\"\")","v":-0.82989681065251386},{"$f":"Sheet3!U62","v":3.4372269152344887E-3},{"$f":"IF(ISNUMBER(M62),CORREL($B$1:B62,$M$1:M62),\"\")","v":0.7980580300068344},{"$f":"Sheet3!W62","v":-3.5107913669064749E-3},{"$f":"IF(ISNUMBER(O62),CORREL($B$1:B62,$O$1:O62),\"\")","v":0.36617979525836075},{"$f":"Sheet3!Y62","v":-2.1522889884241754E-3},{"$f":"IF(ISNUMBER(Q62),CORREL($B$1:B62,$Q$1:Q62),\"\")","v":0.39125606039517385},{"$f":"Sheet3!AA62","v":4.0806942927754473E-3},{"$f":"IF(ISNUMBER(S62),CORREL($B$1:B62,$S$1:S62),\"\")","v":-0.61967776462888524}]
[null,{"$f":"Sheet3!I63","v":9.2149974082819794E-4},{"$f":"Sheet3!K63","v":1.2066191680073547E-3},{"$f":"IF(ISNUMBER(C63),CORREL($B$1:B63,$C$1:C63),\"\")","v":0.84511190083790722},{"$f":"Sheet3!M63","v":-3.9363340749614924E-3},{"$f":"IF(ISNUMBER(E63),CORREL($B$1:B63,$E$1:E63),\"\")","v":-0.36340215954392469},{"$f":"Sheet3!O63","v":1.0250569476082006E-3},{"$f":"IF(ISNUMBER(G63),CORREL($B$1:B63,$G$1:G63),\"\")","v":-0.56888032795918797},{"$f":"Sheet3!Q63","v":9.0146991272393208E-3},{"$f":"IF(ISNUMBER(I63),CORREL($B$1:B63,$I$1:I63),\"\")","v":0.34788146297620698},{"$f":"Sheet3!S63","v":-1.1075219197046609E-2},{"$f":"IF(ISNUMBER(K63),CORREL($B$1:B63,$K$1:K63),\"\")","v":-0.829981589201369},{"$f":"Sheet3!U63","v":3.4954849985435479E-3},{"$f":"IF(ISNUMBER(M63),CORREL($B$1:B63,$M$1:M63),\"\")","v":0.79659688667301398},{"$f":"Sheet3!W63","v":-4.6043165467625899E-3},{"$f":"IF(ISNUMBER(O63),CORREL($B$1:B63,$O$1:O63),\"\")","v":0.3579376825261697},{"$f":"Sheet3!Y63","v":-1.2215694258623699E-3},{"$f":"IF(ISNUMBER(Q63),CORREL($B$1:B63,$Q$1:Q63),\"\")","v":0.3756432629096777},{"$f":"Sheet3!AA63","v":4.6554399678142419E-3},{"$f":"IF(ISNUMBER(S63),CORREL($B$1:B63,$S$1:S63),\"\")","v":-0.61784636819785832}]
[null,{"$f":"Sheet3!I64","v":1.4974370788458215E-3},{"$f":"Sheet3!K64","v":1.0917030567685589E-3},{"$f":"IF(ISNUMBER(C64),CORREL($B$1:B64,$C$1:C64),\"\")","v":0.84343362037272962},{"$f":"Sheet3!M64","v":-3.7651891151805577E-3},{"$f":"IF(ISNUMBER(E64),CORREL($B$1:B64,$E$1:E64),\"\")","v":-0.36769488473916773},{"$f":"Sheet3!O64","v":1.1958997722095672E-3},{"$f":"IF(ISNUMBER(G64),CORREL($B$1:B64,$G$1:G64),\"\")","v":-0.54713689296757873},{"$f":"Sheet3!Q64","v":9.4740468534680756E-3},{"$f":"IF(ISNUMBER(I64),CORREL($B$1:B64,$I$1:I64),\"\")","v":0.34738796291661961},{"$f":"Sheet3!S64","v":-1.1132902630364559E-2},{"$f":"IF(ISNUMBER(K64),CORREL($B$1:B64,$K$1:K64),\"\")","v":-0.83084893742464849},{"$f":"Sheet3!U64","v":3.8450334983979027E-3},{"$f":"IF(ISNUMBER(M64),CORREL($B$1:B64,$M$1:M64),\"\")","v":0.79731121517353032},{"$f":"Sheet3!W64","v":-4.5467625899280571E-3},{"$f":"IF(ISNUMBER(O64),CORREL($B$1:B64,$O$1:O64),\"\")","v":0.34508825105435231},{"$f":"Sheet3!Y64","v":-8.1437961724157985E-4},{"$f":"IF(ISNUMBER(Q64),CORREL($B$1:B64,$Q$1:Q64),\"\")","v":0.37572059032612676},{"$f":"Sheet3!AA64","v":4.8278636703258807E-3},{"$f":"IF(ISNUMBER(S64),CORREL($B$1:B64,$S$1:S64),\"\")","v":-0.62083402600137338}]
[null,{"$f":"Sheet3!I65","v":1.4974370788458215E-3},{"$f":"Sheet3!K65","v":1.3215352792461503E-3},{"$f":"IF(ISNUMBER(C65),CORREL($B$1:B65,$C$1:C65),\"\")","v":0.841207208894315},{"$f":"Sheet3!M65","v":-3.70814079525358E-3},{"$f":"IF(ISNUMBER(E65),CORREL($B$1:B65,$E$1:E65),\"\")","v":-0.37142914743051719},{"$f":"Sheet3!O65","v":1.4236902050113896E-3},{"$f":"IF(ISNUMBER(G65),CORREL($B$1:B65,$G$1:G65),\"\")","v":-0.52130160301883866},{"$f":"Sheet3!Q65","v":9.6463022508038593E-3},{"$f":"IF(ISNUMBER(I65),CORREL($B$1:B65,$I$1:I65),\"\")","v":0.34806131729086193},{"$f":"Sheet3!S65","v":-1.1305952930318412E-2},{"$f":"IF(ISNUMBER(K65),CORREL($B$1:B65,$K$1:K65),\"\")","v":-0.83181167024492397},{"$f":"Sheet3!U65","v":3.2624526653073113E-3},{"$f":"IF(ISNUMBER(M65),CORREL($B$1:B65,$M$1:M65),\"\")","v":0.7986320455681124},{"$f":"Sheet3!W65","v":-4.3741007194244607E-3},{"$f":"IF(ISNUMBER(O65),CORREL($B$1:B65,$O$1:O65),\"\")","v":0.3352949740509017},{"$f":"Sheet3!Y65","v":5.8169972660112851E-5},{"$f":"IF(ISNUMBER(Q65),CORREL($B$1:B65,$Q$1:Q65),\"\")","v":0.37297438046021031},{"$f":"Sheet3!AA65","v":4.425541697798724E-3},{"$f":"IF(ISNUMBER(S65),CORREL($B$1:B65,$S$1:S65),\"\")","v":-0.62320071571715652}]
[null,{"$f":"Sheet3!I66","v":1.9581869492599204E-3},{"$f":"Sheet3!K66","v":1.6088255573431394E-3},{"$f":"IF(ISNUMBER(C66),CORREL($B$1:B66,$C$1:C66),\"\")","v":0.84170651609016978},{"$f":"Sheet3!M66","v":-3.4799475155456671E-3},{"$f":"IF(ISNUMBER(E66),CORREL($B$1:B66,$E$1:E66),\"\")","v":-0.37363925337680748},{"$f":"Sheet3!O66","v":1.4236902050113896E-3},{"$f":"IF(ISNUMBER(G66),CORREL($B$1:B66,$G$1:G66),\"\")","v":-0.49006767827429315},{"$f":"Sheet3!Q66","v":9.6463022508038593E-3},{"$f":"IF(ISNUMBER(I66),CORREL($B$1:B66,$I$1:I66),\"\")","v":0.36111358325298187},{"$f":"Sheet3!S66","v":-1.1017535763728657E-2},{"$f":"IF(ISNUMBER(K66),CORREL($B$1:B66,$K$1:K66),\"\")","v":-0.83202444855693858},{"$f":"Sheet3!U66","v":4.6606466647247302E-3},{"$f":"IF(ISNUMBER(M66),CORREL($B$1:B66,$M$1:M66),\"\")","v":0.79979416265863823},{"$f":"Sheet3!W66","v":-3.9136690647482014E-3},{"$f":"IF(ISNUMBER(O66),CORREL($B$1:B66,$O$1:O66),\"\")","v":0.32936166498167263},{"$f":"Sheet3!Y66","v":1.3379093711825955E-3},{"$f":"IF(ISNUMBER(Q66),CORREL($B$1:B66,$Q$1:Q66),\"\")","v":0.37936502708830278},{"$f":"Sheet3!AA66","v":4.1956434277832062E-3},{"$f":"IF(ISNUMBER(S66),CORREL($B$1:B66,$S$1:S66),\"\")","v":-0.62874736026177469}]
[null,{"$f":"Sheet3!I67","v":2.0157806830616827E-3},{"$f":"Sheet3!K67","v":1.2640772236267525E-3},{"$f":"IF(ISNUMBER(C67),CORREL($B$1:B67,$C$1:C67),\"\")","v":0.84321320372824948},{"$f":"Sheet3!M67","v":-3.7651891151805577E-3},{"$f":"IF(ISNUMBER(E67),CORREL($B$1:B67,$E$1:E67),\"\")","v":-0.37917732259161668},{"$f":"Sheet3!O67","v":8.5421412300683373E-4},{"$f":"IF(ISNUMBER(G67),CORREL($B$1:B67,$G$1:G67),\"\")","v":-0.47399170388989692},{"$f":"Sheet3!Q67","v":9.3017914561322919E-3},{"$f":"IF(ISNUMBER(I67),CORREL($B$1:B67,$I$1:I67),\"\")","v":0.3749222323621465},{"$f":"Sheet3!S67","v":-1.1652053530226119E-2},{"$f":"IF(ISNUMBER(K67),CORREL($B$1:B67,$K$1:K67),\"\")","v":-0.83342683138382989},{"$f":"Sheet3!U67","v":4.4858724147975532E-3},{"$f":"IF(ISNUMBER(M67),CORREL($B$1:B67,$M$1:M67),\"\")","v":0.80183843868770344},{"$f":"Sheet3!W67","v":-4.1438848920863306E-3},{"$f":"IF(ISNUMBER(O67),CORREL($B$1:B67,$O$1:O67),\"\")","v":0.31982754784867123},{"$f":"Sheet3!Y67","v":2.5013088243848527E-3},{"$f":"IF(ISNUMBER(Q67),CORREL($B$1:B67,$Q$1:Q67),\"\")","v":0.38463184474244383},{"$f":"Sheet3!AA67","v":4.0232197252715674E-3},{"$f":"IF(ISNUMBER(S67),CORREL($B$1:B67,$S$1:S67),\"\")","v":-0.63432558296387576}]
[null,{"$f":"Sheet3!I68","v":1.6702182802511088E-3},{"$f":"Sheet3!K68","v":1.0917030567685589E-3},{"$f":"IF(ISNUMBER(C68),CORREL($B$1:B68,$C$1:C68),\"\")","v":0.8431698402862543},{"$f":"Sheet3!M68","v":-3.822237435107536E-3},{"$f":"IF(ISNUMBER(E68),CORREL($B$1:B68,$E$1:E68),\"\")","v":-0.38377364691929733},{"$f":"Sheet3!O68","v":8.5421412300683373E-4},{"$f":"IF(ISNUMBER(G68),CORREL($B$1:B68,$G$1:G68),\"\")","v":-0.46206437169298464},{"$f":"Sheet3!Q68","v":9.7037207165824521E-3},{"$f":"IF(ISNUMBER(I68),CORREL($B$1:B68,$I$1:I68),\"\")","v":0.38022011761629038},{"$f":"Sheet3!S68","v":-1.1248269497000462E-2},{"$f":"IF(ISNUMBER(K68),CORREL($B$1:B68,$K$1:K68),\"\")","v":-0.83428034527694028},{"$f":"Sheet3!U68","v":5.4180017477424994E-3},{"$f":"IF(ISNUMBER(M68),CORREL($B$1:B68,$M$1:M68),\"\")","v":0.79646509023097045},{"$f":"Sheet3!W68","v":-3.6258992805755395E-3},{"$f":"IF(ISNUMBER(O68),CORREL($B$1:B68,$O$1:O68),\"\")","v":0.31888341858733232},{"$f":"Sheet3!Y68","v":3.0248385783258683E-3},{"$f":"IF(ISNUMBER(Q68),CORREL($B$1:B68,$Q$1:Q68),\"\")","v":0.38091139687824171},{"$f":"Sheet3!AA68","v":3.5059486177366514E-3},{"$f":"IF(ISNUMBER(S68),CORREL($B$1:B68,$S$1:S68),\"\")","v":-0.63515377364948422}]
[null,{"$f":"Sheet3!I69","v":1.6126245464493463E-3},{"$f":"Sheet3!K69","v":6.8949666743277403E-4},{"$f":"IF(ISNUMBER(C69),CORREL($B$1:B69,$C$1:C69),\"\")","v":0.84359161305023189},{"$f":"Sheet3!M69","v":-3.822237435107536E-3},{"$f":"IF(ISNUMBER(E69),CORREL($B$1:B69,$E$1:E69),\"\")","v":-0.38794533290118682},{"$f":"Sheet3!O69","v":9.1116173120728934E-4},{"$f":"IF(ISNUMBER(G69),CORREL($B$1:B69,$G$1:G69),\"\")","v":-0.45022060250825591},{"$f":"Sheet3!Q69","v":9.5314653192466701E-3},{"$f":"IF(ISNUMBER(I69),CORREL($B$1:B69,$I$1:I69),\"\")","v":0.38516891395762637},{"$f":"Sheet3!S69","v":-1.1825103830179972E-2},{"$f":"IF(ISNUMBER(K69),CORREL($B$1:B69,$K$1:K69),\"\")","v":-0.83536693691808228},{"$f":"Sheet3!U69","v":4.8936789979609667E-3},{"$f":"IF(ISNUMBER(M69),CORREL($B$1:B69,$M$1:M69),\"\")","v":0.79444308718804391},{"$f":"Sheet3!W69","v":-3.9136690647482014E-3},{"$f":"IF(ISNUMBER(O69),CORREL($B$1:B69,$O$1:O69),\"\")","v":0.31510537336357697},{"$f":"Sheet3!Y69","v":2.675818742365191E-3},{"$f":"IF(ISNUMBER(Q69),CORREL($B$1:B69,$Q$1:Q69),\"\")","v":0.38059183836147858},{"$f":"Sheet3!AA69","v":2.7587792401862175E-3},{"$f":"IF(ISNUMBER(S69),CORREL($B$1:B69,$S$1:S69),\"\")","v":-0.63168486153263625}]
[null,{"$f":"Sheet3!I70","v":1.7278120140528711E-3},{"$f":"Sheet3!K70","v":5.1712250057458055E-4},{"$f":"IF(ISNUMBER(C70),CORREL($B$1:B70,$C$1:C70),\"\")","v":0.84463205686313159},{"$f":"Sheet3!M70","v":-3.9363340749614924E-3},{"$f":"IF(ISNUMBER(E70),CORREL($B$1:B70,$E$1:E70),\"\")","v":-0.39311989110927043},{"$f":"Sheet3!O70","v":1.082004555808656E-3},{"$f":"IF(ISNUMBER(G70),CORREL($B$1:B70,$G$1:G70),\"\")","v":-0.43469192259532685},{"$f":"Sheet3!Q70","v":9.6463022508038593E-3},{"$f":"IF(ISNUMBER(I70),CORREL($B$1:B70,$I$1:I70),\"\")","v":0.39177580673351547},{"$f":"Sheet3!S70","v":-1.1652053530226119E-2},{"$f":"IF(ISNUMBER(K70),CORREL($B$1:B70,$K$1:K70),\"\")","v":-0.83650878692556319},{"$f":"Sheet3!U70","v":4.8936789979609667E-3},{"$f":"IF(ISNUMBER(M70),CORREL($B$1:B70,$M$1:M70),\"\")","v":0.7936556258549311},{"$f":"Sheet3!W70","v":-4.4892086330935253E-3},{"$f":"IF(ISNUMBER(O70),CORREL($B$1:B70,$O$1:O70),\"\")","v":0.30346679076221028},{"$f":"Sheet3!Y70","v":4.0137281135477869E-3},{"$f":"IF(ISNUMBER(Q70),CORREL($B$1:B70,$Q$1:Q70),\"\")","v":0.38073599916968109},{"$f":"Sheet3!AA70","v":2.816253807690097E-3},{"$f":"IF(ISNUMBER(S70),CORREL($B$1:B70,$S$1:S70),\"\")","v":-0.63093006657723549}]
[null,{"$f":"Sheet3!I71","v":2.1309681506652078E-3},{"$f":"Sheet3!K71","v":6.8949666743277403E-4},{"$f":"IF(ISNUMBER(C71),CORREL($B$1:B71,$C$1:C71),\"\")","v":0.84664872715048323},{"$f":"Sheet3!M71","v":-4.6209139140852302E-3},{"$f":"IF(ISNUMBER(E71),CORREL($B$1:B71,$E$1:E71),\"\")","v":-0.40451695913382341},{"$f":"Sheet3!O71","v":9.1116173120728934E-4},{"$f":"IF(ISNUMBER(G71),CORREL($B$1:B71,$G$1:G71),\"\")","v":-0.41913636893269701},{"$f":"Sheet3!Q71","v":9.3017914561322919E-3},{"$f":"IF(ISNUMBER(I71),CORREL($B$1:B71,$I$1:I71),\"\")","v":0.40435079328737461},{"$f":"Sheet3!S71","v":-1.1132902630364559E-2},{"$f":"IF(ISNUMBER(K71),CORREL($B$1:B71,$K$1:K71),\"\")","v":-0.83650395083344375},{"$f":"Sheet3!U71","v":4.6606466647247302E-3},{"$f":"IF(ISNUMBER(M71),CORREL($B$1:B71,$M$1:M71),\"\")","v":0.7962068400493677},{"$f":"Sheet3!W71","v":-4.4316546762589925E-3},{"$f":"IF(ISNUMBER(O71),CORREL($B$1:B71,$O$1:O71),\"\")","v":0.2897518040762343},{"$f":"Sheet3!Y71","v":2.5594787970449652E-3},{"$f":"IF(ISNUMBER(Q71),CORREL($B$1:B71,$Q$1:Q71),\"\")","v":0.39366029800361385},{"$f":"Sheet3!AA71","v":3.7933214552560491E-3},{"$f":"IF(ISNUMBER(S71),CORREL($B$1:B71,$S$1:S71),\"\")","v":-0.6366163735619591}]
[null,{"$f":"Sheet3!I72","v":1.8429994816563959E-3},{"$f":"Sheet3!K72","v":3.4474833371638702E-4},{"$f":"IF(ISNUMBER(C72),CORREL($B$1:B72,$C$1:C72),\"\")","v":0.84794208697344975},{"$f":"Sheet3!M72","v":-4.3927206343773173E-3},{"$f":"IF(ISNUMBER(E72),CORREL($B$1:B72,$E$1:E72),\"\")","v":-0.41175879201703819},{"$f":"Sheet3!O72","v":9.6810933940774484E-4},{"$f":"IF(ISNUMBER(G72),CORREL($B$1:B72,$G$1:G72),\"\")","v":-0.40599304920046447},{"$f":"Sheet3!Q72","v":9.3017914561322919E-3},{"$f":"IF(ISNUMBER(I72),CORREL($B$1:B72,$I$1:I72),\"\")","v":0.41220283578941319},{"$f":"Sheet3!S72","v":-1.0267651130595292E-2},{"$f":"IF(ISNUMBER(K72),CORREL($B$1:B72,$K$1:K72),\"\")","v":-0.83493343870370096},{"$f":"Sheet3!U72","v":4.5441304981066119E-3},{"$f":"IF(ISNUMBER(M72),CORREL($B$1:B72,$M$1:M72),\"\")","v":0.79735384411928778},{"$f":"Sheet3!W72","v":-3.7985611510791368E-3},{"$f":"IF(ISNUMBER(O72),CORREL($B$1:B72,$O$1:O72),\"\")","v":0.28715905093999594},{"$f":"Sheet3!Y72","v":3.0248385783258683E-3},{"$f":"IF(ISNUMBER(Q72),CORREL($B$1:B72,$Q$1:Q72),\"\")","v":0.39992994675774884},{"$f":"Sheet3!AA72","v":3.5059486177366514E-3},{"$f":"IF(ISNUMBER(S72),CORREL($B$1:B72,$S$1:S72),\"\")","v":-0.63954376607307883}]
[null,{"$f":"Sheet3!I73","v":2.5341242872775442E-3},{"$f":"Sheet3!K73","v":5.1712250057458055E-4},{"$f":"IF(ISNUMBER(C73),CORREL($B$1:B73,$C$1:C73),\"\")","v":0.84998927425965809},{"$f":"Sheet3!M73","v":-4.5068172742312737E-3},{"$f":"IF(ISNUMBER(E73),CORREL($B$1:B73,$E$1:E73),\"\")","v":-0.42454092674573096},{"$f":"Sheet3!O73","v":6.83371298405467E-4},{"$f":"IF(ISNUMBER(G73),CORREL($B$1:B73,$G$1:G73),\"\")","v":-0.39306935330842013},{"$f":"Sheet3!Q73","v":9.5314653192466701E-3},{"$f":"IF(ISNUMBER(I73),CORREL($B$1:B73,$I$1:I73),\"\")","v":0.42845681727648921},{"$f":"Sheet3!S73","v":-1.0036917397323489E-2},{"$f":"IF(ISNUMBER(K73),CORREL($B$1:B73,$K$1:K73),\"\")","v":-0.82898166118812011},{"$f":"Sheet3!U73","v":4.5441304981066119E-3},{"$f":"IF(ISNUMBER(M73),CORREL($B$1:B73,$M$1:M73),\"\")","v":0.80119835478832557},{"$f":"Sheet3!W73","v":-3.7985611510791368E-3},{"$f":"IF(ISNUMBER(O73),CORREL($B$1:B73,$O$1:O73),\"\")","v":0.28247241734252931},{"$f":"Sheet3!Y73","v":3.3156884416264323E-3},{"$f":"IF(ISNUMBER(Q73),CORREL($B$1:B73,$Q$1:Q73),\"\")","v":0.41791458568041118},{"$f":"Sheet3!AA73","v":3.5059486177366514E-3},{"$f":"IF(ISNUMBER(S73),CORREL($B$1:B73,$S$1:S73),\"\")","v":-0.64735226266171553}]
[null,{"$f":"Sheet3!I74","v":2.0157806830616827E-3},{"$f":"Sheet3!K74","v":1.2066191680073547E-3},{"$f":"IF(ISNUMBER(C74),CORREL($B$1:B74,$C$1:C74),\"\")","v":0.85114816076178346},{"$f":"Sheet3!M74","v":-4.7920588738661644E-3},{"$f":"IF(ISNUMBER(E74),CORREL($B$1:B74,$E$1:E74),\"\")","v":-0.43313589349191223},{"$f":"Sheet3!O74","v":9.1116173120728934E-4},{"$f":"IF(ISNUMBER(G74),CORREL($B$1:B74,$G$1:G74),\"\")","v":-0.38057187520985319},{"$f":"Sheet3!Q74","v":9.1869545245751028E-3},{"$f":"IF(ISNUMBER(I74),CORREL($B$1:B74,$I$1:I74),\"\")","v":0.43700734605388714},{"$f":"Sheet3!S74","v":-1.015228426395939E-2},{"$f":"IF(ISNUMBER(K74),CORREL($B$1:B74,$K$1:K74),\"\")","v":-0.82660218549633058},{"$f":"Sheet3!U74","v":4.3693562481794349E-3},{"$f":"IF(ISNUMBER(M74),CORREL($B$1:B74,$M$1:M74),\"\")","v":0.80316384404476482},{"$f":"Sheet3!W74","v":-3.0503597122302157E-3},{"$f":"IF(ISNUMBER(O74),CORREL($B$1:B74,$O$1:O74),\"\")","v":0.28766111714279341},{"$f":"Sheet3!Y74","v":3.4901983596067709E-3},{"$f":"IF(ISNUMBER(Q74),CORREL($B$1:B74,$Q$1:Q74),\"\")","v":0.42562753304617212},{"$f":"Sheet3!AA74","v":3.3909994827288925E-3},{"$f":"IF(ISNUMBER(S74),CORREL($B$1:B74,$S$1:S74),\"\")","v":-0.65104702468263709}]
[null,{"$f":"Sheet3!I75","v":2.3037493520704946E-3},{"$f":"Sheet3!K75","v":1.3789933348655481E-3},{"$f":"IF(ISNUMBER(C75),CORREL($B$1:B75,$C$1:C75),\"\")","v":0.85313886449564535},{"$f":"Sheet3!M75","v":-4.449768954304296E-3},{"$f":"IF(ISNUMBER(E75),CORREL($B$1:B75,$E$1:E75),\"\")","v":-0.44240515568055161},{"$f":"Sheet3!O75","v":9.6810933940774484E-4},{"$f":"IF(ISNUMBER(G75),CORREL($B$1:B75,$G$1:G75),\"\")","v":-0.3649920518264162},{"$f":"Sheet3!Q75","v":9.0146991272393208E-3},{"$f":"IF(ISNUMBER(I75),CORREL($B$1:B75,$I$1:I75),\"\")","v":0.44761785067836074},{"$f":"Sheet3!S75","v":-9.3447161975080753E-3},{"$f":"IF(ISNUMBER(K75),CORREL($B$1:B75,$K$1:K75),\"\")","v":-0.81903304616544348},{"$f":"Sheet3!U75","v":4.7189047480337898E-3},{"$f":"IF(ISNUMBER(M75),CORREL($B$1:B75,$M$1:M75),\"\")","v":0.80591153082935985},{"$f":"Sheet3!W75","v":-2.7625899280575542E-3},{"$f":"IF(ISNUMBER(O75),CORREL($B$1:B75,$O$1:O75),\"\")","v":0.29651321144012804},{"$f":"Sheet3!Y75","v":3.2575184689663194E-3},{"$f":"IF(ISNUMBER(Q75),CORREL($B$1:B75,$Q$1:Q75),\"\")","v":0.43760999098328107},{"$f":"Sheet3!AA75","v":3.0461520777056153E-3},{"$f":"IF(ISNUMBER(S75),CORREL($B$1:B75,$S$1:S75),\"\")","v":-0.65642559929799649}]
[null,{"$f":"Sheet3!I76","v":1.8429994816563959E-3},{"$f":"Sheet3!K76","v":1.8386577798207308E-3},{"$f":"IF(ISNUMBER(C76),CORREL($B$1:B76,$C$1:C76),\"\")","v":0.8522696141001741},{"$f":"Sheet3!M76","v":-3.9363340749614924E-3},{"$f":"IF(ISNUMBER(E76),CORREL($B$1:B76,$E$1:E76),\"\")","v":-0.44605690388473979},{"$f":"Sheet3!O76","v":1.1389521640091116E-3},{"$f":"IF(ISNUMBER(G76),CORREL($B$1:B76,$G$1:G76),\"\")","v":-0.35144594520326577},{"$f":"Sheet3!Q76","v":8.9572806614607262E-3},{"$f":"IF(ISNUMBER(I76),CORREL($B$1:B76,$I$1:I76),\"\")","v":0.4533393697034267},{"$f":"Sheet3!S76","v":-1.0844485463774804E-2},{"$f":"IF(ISNUMBER(K76),CORREL($B$1:B76,$K$1:K76),\"\")","v":-0.81919702868242261},{"$f":"Sheet3!U76","v":4.6023885814156715E-3},{"$f":"IF(ISNUMBER(M76),CORREL($B$1:B76,$M$1:M76),\"\")","v":0.80664282285181377},{"$f":"Sheet3!W76","v":-2.9928057553956834E-3},{"$f":"IF(ISNUMBER(O76),CORREL($B$1:B76,$O$1:O76),\"\")","v":0.30105374227217174},{"$f":"Sheet3!Y76","v":4.7117677854691406E-3},{"$f":"IF(ISNUMBER(Q76),CORREL($B$1:B76,$Q$1:Q76),\"\")","v":0.439874217450484},{"$f":"Sheet3!AA76","v":3.2185757802172541E-3},{"$f":"IF(ISNUMBER(S76),CORREL($B$1:B76,$S$1:S76),\"\")","v":-0.65808466092995543}]
[null,{"$f":"Sheet3!I77","v":1.6702182802511088E-3},{"$f":"Sheet3!K77","v":2.7005286141116983E-3},{"$f":"IF(ISNUMBER(C77),CORREL($B$1:B77,$C$1:C77),\"\")","v":0.84748750153059382},{"$f":"Sheet3!M77","v":-3.5940441553996235E-3},{"$f":"IF(ISNUMBER(E77),CORREL($B$1:B77,$E$1:E77),\"\")","v":-0.44720866854653601},{"$f":"Sheet3!O77","v":2.2209567198177675E-3},{"$f":"IF(ISNUMBER(G77),CORREL($B$1:B77,$G$1:G77),\"\")","v":-0.32172684108250593},{"$f":"Sheet3!Q77","v":9.0721175930179154E-3},{"$f":"IF(ISNUMBER(I77),CORREL($B$1:B77,$I$1:I77),\"\")","v":0.45708608336127798},{"$f":"Sheet3!S77","v":-9.3447161975080753E-3},{"$f":"IF(ISNUMBER(K77),CORREL($B$1:B77,$K$1:K77),\"\")","v":-0.81584670070180654},{"$f":"Sheet3!U77","v":4.1363239149431984E-3},{"$f":"IF(ISNUMBER(M77),CORREL($B$1:B77,$M$1:M77),\"\")","v":0.80740270963679839},{"$f":"Sheet3!W77","v":-3.0503597122302157E-3},{"$f":"IF(ISNUMBER(O77),CORREL($B$1:B77,$O$1:O77),\"\")","v":0.3044605127541169},{"$f":"Sheet3!Y77","v":4.0718980862078993E-3},{"$f":"IF(ISNUMBER(Q77),CORREL($B$1:B77,$Q$1:Q77),\"\")","v":0.4408784826281501},{"$f":"Sheet3!AA77","v":3.5059486177366514E-3},{"$f":"IF(ISNUMBER(S77),CORREL($B$1:B77,$S$1:S77),\"\")","v":-0.6590547720675648}]
[null,{"$f":"Sheet3!I78","v":1.7854057478546334E-3},{"$f":"Sheet3!K78","v":3.1027350034474833E-3},{"$f":"IF(ISNUMBER(C78),CORREL($B$1:B78,$C$1:C78),\"\")","v":0.84266900021017555},{"$f":"Sheet3!M78","v":-3.4799475155456671E-3},{"$f":"IF(ISNUMBER(E78),CORREL($B$1:B78,$E$1:E78),\"\")","v":-0.44746157427893535},{"$f":"Sheet3!O78","v":1.8223234624145787E-3},{"$f":"IF(ISNUMBER(G78),CORREL($B$1:B78,$G$1:G78),\"\")","v":-0.2999954846000254},{"$f":"Sheet3!Q78","v":9.1295360587965082E-3},{"$f":"IF(ISNUMBER(I78),CORREL($B$1:B78,$I$1:I78),\"\")","v":0.46174048963261094},{"$f":"Sheet3!S78","v":-8.2487309644670055E-3},{"$f":"IF(ISNUMBER(K78),CORREL($B$1:B78,$K$1:K78),\"\")","v":-0.80690944986568036},{"$f":"Sheet3!U78","v":4.0780658316341397E-3},{"$f":"IF(ISNUMBER(M78),CORREL($B$1:B78,$M$1:M78),\"\")","v":0.80854578316735404},{"$f":"Sheet3!W78","v":-2.8201438848920865E-3},{"$f":"IF(ISNUMBER(O78),CORREL($B$1:B78,$O$1:O78),\"\")","v":0.30946368140327163},{"$f":"Sheet3!Y78","v":5.0026176487697055E-3},{"$f":"IF(ISNUMBER(Q78),CORREL($B$1:B78,$Q$1:Q78),\"\")","v":0.44261221312659155},{"$f":"Sheet3!AA78","v":3.5634231852405313E-3},{"$f":"IF(ISNUMBER(S78),CORREL($B$1:B78,$S$1:S78),\"\")","v":-0.66093813798976631}]
[null,{"$f":"Sheet3!I79","v":2.3037493520704948E-4},{"$f":"Sheet3!K79","v":2.528154447253505E-3},{"$f":"IF(ISNUMBER(C79),CORREL($B$1:B79,$C$1:C79),\"\")","v":0.82454409393011374},{"$f":"Sheet3!M79","v":-2.7383193564949511E-3},{"$f":"IF(ISNUMBER(E79),CORREL($B$1:B79,$E$1:E79),\"\")","v":-0.4482036211247693},{"$f":"Sheet3!O79","v":-1.1389521640091117E-4},{"$f":"IF(ISNUMBER(G79),CORREL($B$1:B79,$G$1:G79),\"\")","v":-0.29795595099751626},{"$f":"Sheet3!Q79","v":8.9572806614607262E-3},{"$f":"IF(ISNUMBER(I79),CORREL($B$1:B79,$I$1:I79),\"\")","v":0.45069953541164465},{"$f":"Sheet3!S79","v":-8.3064143977849558E-3},{"$f":"IF(ISNUMBER(K79),CORREL($B$1:B79,$K$1:K79),\"\")","v":-0.80680748379570699},{"$f":"Sheet3!U79","v":4.0780658316341397E-3},{"$f":"IF(ISNUMBER(M79),CORREL($B$1:B79,$M$1:M79),\"\")","v":0.8012225488807535},{"$f":"Sheet3!W79","v":-3.3956834532374099E-3},{"$f":"IF(ISNUMBER(O79),CORREL($B$1:B79,$O$1:O79),\"\")","v":0.30840708848091364},{"$f":"Sheet3!Y79","v":3.2575184689663194E-3},{"$f":"IF(ISNUMBER(Q79),CORREL($B$1:B79,$Q$1:Q79),\"\")","v":0.42519853221499504},{"$f":"Sheet3!AA79","v":4.0806942927754473E-3},{"$f":"IF(ISNUMBER(S79),CORREL($B$1:B79,$S$1:S79),\"\")","v":-0.65294122705198776}]
[null,{"$f":"Sheet3!I80","v":-5.7593733801762371E-5},{"$f":"Sheet3!K80","v":2.0684900022983222E-3},{"$f":"IF(ISNUMBER(C80),CORREL($B$1:B80,$C$1:C80),\"\")","v":0.80709380869732794},{"$f":"Sheet3!M80","v":-1.9966911974442351E-3},{"$f":"IF(ISNUMBER(E80),CORREL($B$1:B80,$E$1:E80),\"\")","v":-0.44941252338038762},{"$f":"Sheet3!O80","v":3.4168564920273349E-3},{"$f":"IF(ISNUMBER(G80),CORREL($B$1:B80,$G$1:G80),\"\")","v":-0.2942289325870337},{"$f":"Sheet3!Q80","v":9.3592099219108865E-3},{"$f":"IF(ISNUMBER(I80),CORREL($B$1:B80,$I$1:I80),\"\")","v":0.43347894357996547},{"$f":"Sheet3!S80","v":-8.6525149976926629E-3},{"$f":"IF(ISNUMBER(K80),CORREL($B$1:B80,$K$1:K80),\"\")","v":-0.80724112554586203},{"$f":"Sheet3!U80","v":4.5441304981066119E-3},{"$f":"IF(ISNUMBER(M80),CORREL($B$1:B80,$M$1:M80),\"\")","v":0.7877394804232184},{"$f":"Sheet3!W80","v":-2.6474820143884891E-3},{"$f":"IF(ISNUMBER(O80),CORREL($B$1:B80,$O$1:O80),\"\")","v":0.30033708477285082},{"$f":"Sheet3!Y80","v":2.0359490431039497E-3},{"$f":"IF(ISNUMBER(Q80),CORREL($B$1:B80,$Q$1:Q80),\"\")","v":0.40964273485457703},{"$f":"Sheet3!AA80","v":3.5059486177366514E-3},{"$f":"IF(ISNUMBER(S80),CORREL($B$1:B80,$S$1:S80),\"\")","v":-0.63806007003719134}]
[null,{"$f":"Sheet3!I81","v":-1.3246558774405344E-3},{"$f":"Sheet3!K81","v":1.4939094461043439E-3},{"$f":"IF(ISNUMBER(C81),CORREL($B$1:B81,$C$1:C81),\"\")","v":0.77811800506267104},{"$f":"Sheet3!M81","v":-2.1678361572251698E-3},{"$f":"IF(ISNUMBER(E81),CORREL($B$1:B81,$E$1:E81),\"\")","v":-0.45938887064850287},{"$f":"Sheet3!O81","v":1.082004555808656E-3},{"$f":"IF(ISNUMBER(G81),CORREL($B$1:B81,$G$1:G81),\"\")","v":-0.30206419813848689},{"$f":"Sheet3!Q81","v":9.9333945796968304E-3},{"$f":"IF(ISNUMBER(I81),CORREL($B$1:B81,$I$1:I81),\"\")","v":0.39113291658806743},{"$f":"Sheet3!S81","v":-7.9603137978772505E-3},{"$f":"IF(ISNUMBER(K81),CORREL($B$1:B81,$K$1:K81),\"\")","v":-0.80796455841065973},{"$f":"Sheet3!U81","v":4.7189047480337898E-3},{"$f":"IF(ISNUMBER(M81),CORREL($B$1:B81,$M$1:M81),\"\")","v":0.75643504207681356},{"$f":"Sheet3!W81","v":-1.8417266187050359E-3},{"$f":"IF(ISNUMBER(O81),CORREL($B$1:B81,$O$1:O81),\"\")","v":0.26435471465655835},{"$f":"Sheet3!Y81","v":2.0941190157640626E-3},{"$f":"IF(ISNUMBER(Q81),CORREL($B$1:B81,$Q$1:Q81),\"\")","v":0.37764150964444226},{"$f":"Sheet3!AA81","v":3.7358468877521697E-3},{"$f":"IF(ISNUMBER(S81),CORREL($B$1:B81,$S$1:S81),\"\")","v":-0.6104605448418291}]
[null,{"$f":"Sheet3!I82","v":-1.094280942233485E-3},{"$f":"Sheet3!K82","v":8.0441277867156972E-4},{"$f":"IF(ISNUMBER(C82),CORREL($B$1:B82,$C$1:C82),\"\")","v":0.75926207886053554},{"$f":"Sheet3!M82","v":-2.4530777568600604E-3},{"$f":"IF(ISNUMBER(E82),CORREL($B$1:B82,$E$1:E82),\"\")","v":-0.46557917822352501},{"$f":"Sheet3!O82","v":-5.6947608200455578E-4},{"$f":"IF(ISNUMBER(G82),CORREL($B$1:B82,$G$1:G82),\"\")","v":-0.28660658315799531},{"$f":"Sheet3!Q82","v":9.6463022508038593E-3},{"$f":"IF(ISNUMBER(I82),CORREL($B$1:B82,$I$1:I82),\"\")","v":0.35982580450121576},{"$f":"Sheet3!S82","v":-8.3064143977849558E-3},{"$f":"IF(ISNUMBER(K82),CORREL($B$1:B82,$K$1:K82),\"\")","v":-0.80815760838328121},{"$f":"Sheet3!U82","v":4.4858724147975532E-3},{"$f":"IF(ISNUMBER(M82),CORREL($B$1:B82,$M$1:M82),\"\")","v":0.73312995040425011},{"$f":"Sheet3!W82","v":-1.0359712230215827E-3},{"$f":"IF(ISNUMBER(O82),CORREL($B$1:B82,$O$1:O82),\"\")","v":0.21931762459998516},{"$f":"Sheet3!Y82","v":2.0941190157640626E-3},{"$f":"IF(ISNUMBER(Q82),CORREL($B$1:B82,$Q$1:Q82),\"\")","v":0.35098547596007634},{"$f":"Sheet3!AA82","v":3.9082705902638085E-3},{"$f":"IF(ISNUMBER(S82),CORREL($B$1:B82,$S$1:S82),\"\")","v":-0.58927404955806706}]
[null,{"$f":"Sheet3!I83","v":0},{"$f":"Sheet3!K83","v":1.2066191680073547E-3},{"$f":"IF(ISNUMBER(C83),CORREL($B$1:B83,$C$1:C83),\"\")","v":0.74987880066316448},{"$f":"Sheet3!M83","v":-2.5101260767870386E-3},{"$f":"IF(ISNUMBER(E83),CORREL($B$1:B83,$E$1:E83),\"\")","v":-0.46688554206439403},{"$f":"Sheet3!O83","v":7.4031890660592251E-4},{"$f":"IF(ISNUMBER(G83),CORREL($B$1:B83,$G$1:G83),\"\")","v":-0.28796411430848151},{"$f":"Sheet3!Q83","v":9.6463022508038593E-3},{"$f":"IF(ISNUMBER(I83),CORREL($B$1:B83,$I$1:I83),\"\")","v":0.34578725652395698},{"$f":"Sheet3!S83","v":-9.4023996308260274E-3},{"$f":"IF(ISNUMBER(K83),CORREL($B$1:B83,$K$1:K83),\"\")","v":-0.80795981932772731},{"$f":"Sheet3!U83","v":4.5441304981066119E-3},{"$f":"IF(ISNUMBER(M83),CORREL($B$1:B83,$M$1:M83),\"\")","v":0.72253730233924462},{"$f":"Sheet3!W83","v":-6.3309352517985614E-4},{"$f":"IF(ISNUMBER(O83),CORREL($B$1:B83,$O$1:O83),\"\")","v":0.19567311549521038},{"$f":"Sheet3!Y83","v":2.5013088243848527E-3},{"$f":"IF(ISNUMBER(Q83),CORREL($B$1:B83,$Q$1:Q83),\"\")","v":0.33825251055778477},{"$f":"Sheet3!AA83","v":3.7933214552560491E-3},{"$f":"IF(ISNUMBER(S83),CORREL($B$1:B83,$S$1:S83),\"\")","v":-0.57956929864447926}]
[null,{"$f":"Sheet3!I84","v":-4.0315613661233657E-4},{"$f":"Sheet3!K84","v":1.3789933348655481E-3},{"$f":"IF(ISNUMBER(C84),CORREL($B$1:B84,$C$1:C84),\"\")","v":0.73606789940449746},{"$f":"Sheet3!M84","v":-2.1678361572251698E-3},{"$f":"IF(ISNUMBER(E84),CORREL($B$1:B84,$E$1:E84),\"\")","v":-0.47042736454509421},{"$f":"Sheet3!O84","v":2.3917995444191343E-3},{"$f":"IF(ISNUMBER(G84),CORREL($B$1:B84,$G$1:G84),\"\")","v":-0.29463231240726584},{"$f":"Sheet3!Q84","v":9.3017914561322919E-3},{"$f":"IF(ISNUMBER(I84),CORREL($B$1:B84,$I$1:I84),\"\")","v":0.33021938520757577},{"$f":"Sheet3!S84","v":-9.4023996308260274E-3},{"$f":"IF(ISNUMBER(K84),CORREL($B$1:B84,$K$1:K84),\"\")","v":-0.80699585669898222},{"$f":"Sheet3!U84","v":4.7771628313428485E-3},{"$f":"IF(ISNUMBER(M84),CORREL($B$1:B84,$M$1:M84),\"\")","v":0.7061920035248741},{"$f":"Sheet3!W84","v":-1.2661870503597123E-3},{"$f":"IF(ISNUMBER(O84),CORREL($B$1:B84,$O$1:O84),\"\")","v":0.17447683506671291},{"$f":"Sheet3!Y84","v":2.675818742365191E-3},{"$f":"IF(ISNUMBER(Q84),CORREL($B$1:B84,$Q$1:Q84),\"\")","v":0.32077395417745258},{"$f":"Sheet3!AA84","v":3.2760503477211335E-3},{"$f":"IF(ISNUMBER(S84),CORREL($B$1:B84,$S$1:S84),\"\")","v":-0.56205129974940771}]
[null,{"$f":"Sheet3!I85","v":-1.1518746760352474E-4},{"$f":"Sheet3!K85","v":1.6662836129625375E-3},{"$f":"IF(ISNUMBER(C85),CORREL($B$1:B85,$C$1:C85),\"\")","v":0.7241453957179268},{"$f":"Sheet3!M85","v":-1.7684979177363227E-3},{"$f":"IF(ISNUMBER(E85),CORREL($B$1:B85,$E$1:E85),\"\")","v":-0.47056273249939873},{"$f":"Sheet3!O85","v":2.96127562642369E-3},{"$f":"IF(ISNUMBER(G85),CORREL($B$1:B85,$G$1:G85),\"\")","v":-0.29522529937621989},{"$f":"Sheet3!Q85","v":8.8424437299035371E-3},{"$f":"IF(ISNUMBER(I85),CORREL($B$1:B85,$I$1:I85),\"\")","v":0.32143302414146679},{"$f":"Sheet3!S85","v":-8.8832487309644676E-3},{"$f":"IF(ISNUMBER(K85),CORREL($B$1:B85,$K$1:K85),\"\")","v":-0.80724879040230069},{"$f":"Sheet3!U85","v":4.3693562481794349E-3},{"$f":"IF(ISNUMBER(M85),CORREL($B$1:B85,$M$1:M85),\"\")","v":0.69680953650243793},{"$f":"Sheet3!W85","v":-1.4964028776978417E-3},{"$f":"IF(ISNUMBER(O85),CORREL($B$1:B85,$O$1:O85),\"\")","v":0.1613105087965159},{"$f":"Sheet3!Y85","v":3.9555581408876736E-3},{"$f":"IF(ISNUMBER(Q85),CORREL($B$1:B85,$Q$1:Q85),\"\")","v":0.30411382715741936},{"$f":"Sheet3!AA85","v":2.5863555376745792E-3},{"$f":"IF(ISNUMBER(S85),CORREL($B$1:B85,$S$1:S85),\"\")","v":-0.54322964200856183}]
[null,{"$f":"Sheet3!I86","v":1.7278120140528711E-4},{"$f":"Sheet3!K86","v":2.2983222247759134E-3},{"$f":"IF(ISNUMBER(C86),CORREL($B$1:B86,$C$1:C86),\"\")","v":0.71243075667648348},{"$f":"Sheet3!M86","v":-1.7684979177363227E-3},{"$f":"IF(ISNUMBER(E86),CORREL($B$1:B86,$E$1:E86),\"\")","v":-0.46787677130081645},{"$f":"Sheet3!O86","v":2.5056947608200456E-3},{"$f":"IF(ISNUMBER(G86),CORREL($B$1:B86,$G$1:G86),\"\")","v":-0.29355853471248855},{"$f":"Sheet3!Q86","v":8.5553514010105643E-3},{"$f":"IF(ISNUMBER(I86),CORREL($B$1:B86,$I$1:I86),\"\")","v":0.31670398692890417},{"$f":"Sheet3!S86","v":-8.99861559760037E-3},{"$f":"IF(ISNUMBER(K86),CORREL($B$1:B86,$K$1:K86),\"\")","v":-0.80739589387663824},{"$f":"Sheet3!U86","v":3.3789688319254296E-3},{"$f":"IF(ISNUMBER(M86),CORREL($B$1:B86,$M$1:M86),\"\")","v":0.69474539989181849},{"$f":"Sheet3!W86","v":-1.8992805755395684E-3},{"$f":"IF(ISNUMBER(O86),CORREL($B$1:B86,$O$1:O86),\"\")","v":0.15500620791650407},{"$f":"Sheet3!Y86","v":3.3156884416264323E-3},{"$f":"IF(ISNUMBER(Q86),CORREL($B$1:B86,$Q$1:Q86),\"\")","v":0.29402308124818627},{"$f":"Sheet3!AA86","v":2.241508132651302E-3},{"$f":"IF(ISNUMBER(S86),CORREL($B$1:B86,$S$1:S86),\"\")","v":-0.52683824292670312}]
[null,{"$f":"Sheet3!I87","v":9.2149974082819794E-4},{"$f":"Sheet3!K87","v":2.2983222247759134E-3},{"$f":"IF(ISNUMBER(C87),CORREL($B$1:B87,$C$1:C87),\"\")","v":0.70820620217851227},{"$f":"Sheet3!M87","v":-1.0839180786125849E-3},{"$f":"IF(ISNUMBER(E87),CORREL($B$1:B87,$E$1:E87),\"\")","v":-0.44807714602436532},{"$f":"Sheet3!O87","v":2.5626423690205012E-3},{"$f":"IF(ISNUMBER(G87),CORREL($B$1:B87,$G$1:G87),\"\")","v":-0.28124259265013996},{"$f":"Sheet3!Q87","v":8.0385852090032149E-3},{"$f":"IF(ISNUMBER(I87),CORREL($B$1:B87,$I$1:I87),\"\")","v":0.31739027299814632},{"$f":"Sheet3!S87","v":-7.6142131979695434E-3},{"$f":"IF(ISNUMBER(K87),CORREL($B$1:B87,$K$1:K87),\"\")","v":-0.80219731809167294},{"$f":"Sheet3!U87","v":3.6120011651616661E-3},{"$f":"IF(ISNUMBER(M87),CORREL($B$1:B87,$M$1:M87),\"\")","v":0.69470319129592284},{"$f":"Sheet3!W87","v":-1.7266187050359713E-3},{"$f":"IF(ISNUMBER(O87),CORREL($B$1:B87,$O$1:O87),\"\")","v":0.15644663227151462},{"$f":"Sheet3!Y87","v":3.9555581408876736E-3},{"$f":"IF(ISNUMBER(Q87),CORREL($B$1:B87,$Q$1:Q87),\"\")","v":0.2926184302962197},{"$f":"Sheet3!AA87","v":2.7013046726823381E-3},{"$f":"IF(ISNUMBER(S87),CORREL($B$1:B87,$S$1:S87),\"\")","v":-0.52289687842692589}]
[null,{"$f":"Sheet3!I88","v":1.8429994816563959E-3},{"$f":"Sheet3!K88","v":2.12594805791772E-3},{"$f":"IF(ISNUMBER(C88),CORREL($B$1:B88,$C$1:C88),\"\")","v":0.71039077106202053},{"$f":"Sheet3!M88","v":-1.483256318101432E-3},{"$f":"IF(ISNUMBER(E88),CORREL($B$1:B88,$E$1:E88),\"\")","v":-0.42262698455717884},{"$f":"Sheet3!O88","v":2.1070615034168563E-3},{"$f":"IF(ISNUMBER(G88),CORREL($B$1:B88,$G$1:G88),\"\")","v":-0.26244393543810546},{"$f":"Sheet3!Q88","v":7.9237482774460258E-3},{"$f":"IF(ISNUMBER(I88),CORREL($B$1:B88,$I$1:I88),\"\")","v":0.32078404460646509},{"$f":"Sheet3!S88","v":-7.6142131979695434E-3},{"$f":"IF(ISNUMBER(K88),CORREL($B$1:B88,$K$1:K88),\"\")","v":-0.78964137085576935},{"$f":"Sheet3!U88","v":4.0780658316341397E-3},{"$f":"IF(ISNUMBER(M88),CORREL($B$1:B88,$M$1:M88),\"\")","v":0.69677636715559976},{"$f":"Sheet3!W88","v":-1.8992805755395684E-3},{"$f":"IF(ISNUMBER(O88),CORREL($B$1:B88,$O$1:O88),\"\")","v":0.16633619096161381},{"$f":"Sheet3!Y88","v":4.2464080041882384E-3},{"$f":"IF(ISNUMBER(Q88),CORREL($B$1:B88,$Q$1:Q88),\"\")","v":0.3018726876834178},{"$f":"Sheet3!AA88","v":2.5288809701706993E-3},{"$f":"IF(ISNUMBER(S88),CORREL($B$1:B88,$S$1:S88),\"\")","v":-0.52732247250111819}]
[null,{"$f":"Sheet3!I89","v":2.4189368196740196E-3},{"$f":"Sheet3!K89","v":2.12594805791772E-3},{"$f":"IF(ISNUMBER(C89),CORREL($B$1:B89,$C$1:C89),\"\")","v":0.71468760628838746},{"$f":"Sheet3!M89","v":-1.5973529579553882E-3},{"$f":"IF(ISNUMBER(E89),CORREL($B$1:B89,$E$1:E89),\"\")","v":-0.39294399309919564},{"$f":"Sheet3!O89","v":2.3917995444191343E-3},{"$f":"IF(ISNUMBER(G89),CORREL($B$1:B89,$G$1:G89),\"\")","v":-0.23321511698949321},{"$f":"Sheet3!Q89","v":7.7514928801102438E-3},{"$f":"IF(ISNUMBER(I89),CORREL($B$1:B89,$I$1:I89),\"\")","v":0.32407496532188823},{"$f":"Sheet3!S89","v":-8.2487309644670055E-3},{"$f":"IF(ISNUMBER(K89),CORREL($B$1:B89,$K$1:K89),\"\")","v":-0.77619255272616994},{"$f":"Sheet3!U89","v":3.3207107486163704E-3},{"$f":"IF(ISNUMBER(M89),CORREL($B$1:B89,$M$1:M89),\"\")","v":0.69593527035796621},{"$f":"Sheet3!W89","v":-2.014388489208633E-3},{"$f":"IF(ISNUMBER(O89),CORREL($B$1:B89,$O$1:O89),\"\")","v":0.17950250013767619},{"$f":"Sheet3!Y89","v":4.0718980862078993E-3},{"$f":"IF(ISNUMBER(Q89),CORREL($B$1:B89,$Q$1:Q89),\"\")","v":0.3162268122416253},{"$f":"Sheet3!AA89","v":2.9886775102017358E-3},{"$f":"IF(ISNUMBER(S89),CORREL($B$1:B89,$S$1:S89),\"\")","v":-0.53505285225103227}]
[null,{"$f":"Sheet3!I90","v":2.3613430858722569E-3},{"$f":"Sheet3!K90","v":2.2983222247759134E-3},{"$f":"IF(ISNUMBER(C90),CORREL($B$1:B90,$C$1:C90),\"\")","v":0.71870947266892626},{"$f":"Sheet3!M90","v":-1.4262079981744538E-3},{"$f":"IF(ISNUMBER(E90),CORREL($B$1:B90,$E$1:E90),\"\")","v":-0.3626590555524245},{"$f":"Sheet3!O90","v":2.1070615034168563E-3},{"$f":"IF(ISNUMBER(G90),CORREL($B$1:B90,$G$1:G90),\"\")","v":-0.21096874831923967},{"$f":"Sheet3!Q90","v":7.8663298116674329E-3},{"$f":"IF(ISNUMBER(I90),CORREL($B$1:B90,$I$1:I90),\"\")","v":0.32789212682825469},{"$f":"Sheet3!S90","v":-8.5371481310567605E-3},{"$f":"IF(ISNUMBER(K90),CORREL($B$1:B90,$K$1:K90),\"\")","v":-0.76562205227126934},{"$f":"Sheet3!U90","v":3.7285173317797844E-3},{"$f":"IF(ISNUMBER(M90),CORREL($B$1:B90,$M$1:M90),\"\")","v":0.6971600484601953},{"$f":"Sheet3!W90","v":-2.0719424460431653E-3},{"$f":"IF(ISNUMBER(O90),CORREL($B$1:B90,$O$1:O90),\"\")","v":0.19109130454416545},{"$f":"Sheet3!Y90","v":4.0137281135477869E-3},{"$f":"IF(ISNUMBER(Q90),CORREL($B$1:B90,$Q$1:Q90),\"\")","v":0.32903946401998679},{"$f":"Sheet3!AA90","v":3.7358468877521697E-3},{"$f":"IF(ISNUMBER(S90),CORREL($B$1:B90,$S$1:S90),\"\")","v":-0.54025065355139423}]
[null,{"$f":"Sheet3!I91","v":2.3613430858722569E-3},{"$f":"Sheet3!K91","v":1.781199724201333E-3},{"$f":"IF(ISNUMBER(C91),CORREL($B$1:B91,$C$1:C91),\"\")","v":0.72212175894406039},{"$f":"Sheet3!M91","v":-1.0268697586856067E-3},{"$f":"IF(ISNUMBER(E91),CORREL($B$1:B91,$E$1:E91),\"\")","v":-0.32691924843427833},{"$f":"Sheet3!O91","v":-5.1252847380410028E-4},{"$f":"IF(ISNUMBER(G91),CORREL($B$1:B91,$G$1:G91),\"\")","v":-0.21944623799567545},{"$f":"Sheet3!Q91","v":1.0852090032154342E-2},{"$f":"IF(ISNUMBER(I91),CORREL($B$1:B91,$I$1:I91),\"\")","v":0.34256714687040257},{"$f":"Sheet3!S91","v":-5.5952930318412548E-3},{"$f":"IF(ISNUMBER(K91),CORREL($B$1:B91,$K$1:K91),\"\")","v":-0.73241088411959476},{"$f":"Sheet3!U91","v":3.9032915817069618E-3},{"$f":"IF(ISNUMBER(M91),CORREL($B$1:B91,$M$1:M91),\"\")","v":0.69900485231720932},{"$f":"Sheet3!W91","v":-1.0935251798561152E-3},{"$f":"IF(ISNUMBER(O91),CORREL($B$1:B91,$O$1:O91),\"\")","v":0.20894670891617434},{"$f":"Sheet3!Y91","v":2.3267989064045141E-3},{"$f":"IF(ISNUMBER(Q91),CORREL($B$1:B91,$Q$1:Q91),\"\")","v":0.33864970099778607},{"$f":"Sheet3!AA91","v":4.0806942927754473E-3},{"$f":"IF(ISNUMBER(S91),CORREL($B$1:B91,$S$1:S91),\"\")","v":-0.54411189450635045}]
[null,{"$f":"Sheet3!I92","v":3.5708114957092667E-3},{"$f":"Sheet3!K92","v":1.6088255573431394E-3},{"$f":"IF(ISNUMBER(C92),CORREL($B$1:B92,$C$1:C92),\"\")","v":0.72510469495335117},{"$f":"Sheet3!M92","v":-5.7048319926978155E-4},{"$f":"IF(ISNUMBER(E92),CORREL($B$1:B92,$E$1:E92),\"\")","v":-0.26312095044283268},{"$f":"Sheet3!O92","v":6.2642369020501139E-4},{"$f":"IF(ISNUMBER(G92),CORREL($B$1:B92,$G$1:G92),\"\")","v":-0.21327028315241892},{"$f":"Sheet3!Q92","v":1.1196600826825907E-2},{"$f":"IF(ISNUMBER(I92),CORREL($B$1:B92,$I$1:I92),\"\")","v":0.37163499049124338},{"$f":"Sheet3!S92","v":-4.78772496538994E-3},{"$f":"IF(ISNUMBER(K92),CORREL($B$1:B92,$K$1:K92),\"\")","v":-0.67149669879302032},{"$f":"Sheet3!U92","v":3.2041945819982522E-3},{"$f":"IF(ISNUMBER(M92),CORREL($B$1:B92,$M$1:M92),\"\")","v":0.69236982214029119},{"$f":"Sheet3!W92","v":-1.6115107913669065E-3},{"$f":"IF(ISNUMBER(O92),CORREL($B$1:B92,$O$1:O92),\"\")","v":0.23214816473484254},{"$f":"Sheet3!Y92","v":1.1052294805421442E-3},{"$f":"IF(ISNUMBER(Q92),CORREL($B$1:B92,$Q$1:Q92),\"\")","v":0.34948604410817274},{"$f":"Sheet3!AA92","v":2.5863555376745792E-3},{"$f":"IF(ISNUMBER(S92),CORREL($B$1:B92,$S$1:S92),\"\")","v":-0.55713340320262739}]
[null,{"$f":"Sheet3!I93","v":1.8429994816563959E-3},{"$f":"Sheet3!K93","v":-8.6187083429096762E-4},{"$f":"IF(ISNUMBER(C93),CORREL($B$1:B93,$C$1:C93),\"\")","v":0.72392950154354141},{"$f":"Sheet3!M93","v":1.0268697586856067E-3},{"$f":"IF(ISNUMBER(E93),CORREL($B$1:B93,$E$1:E93),\"\")","v":-0.21390199615004149},{"$f":"Sheet3!O93","v":5.1252847380410028E-4},{"$f":"IF(ISNUMBER(G93),CORREL($B$1:B93,$G$1:G93),\"\")","v":-0.21253310603564815},{"$f":"Sheet3!Q93","v":1.0622416169039963E-2},{"$f":"IF(ISNUMBER(I93),CORREL($B$1:B93,$I$1:I93),\"\")","v":0.37742796347698759},{"$f":"Sheet3!S93","v":-4.0955237655745267E-3},{"$f":"IF(ISNUMBER(K93),CORREL($B$1:B93,$K$1:K93),\"\")","v":-0.63873457957395696},{"$f":"Sheet3!U93","v":2.7381299155257791E-3},{"$f":"IF(ISNUMBER(M93),CORREL($B$1:B93,$M$1:M93),\"\")","v":0.69063721671965927},{"$f":"Sheet3!W93","v":-3.3956834532374099E-3},{"$f":"IF(ISNUMBER(O93),CORREL($B$1:B93,$O$1:O93),\"\")","v":0.23118172413278448},{"$f":"Sheet3!Y93","v":-5.8169972660112851E-5},{"$f":"IF(ISNUMBER(Q93),CORREL($B$1:B93,$Q$1:Q93),\"\")","v":0.35270846748896001},{"$f":"Sheet3!AA93","v":3.1611012127133742E-3},{"$f":"IF(ISNUMBER(S93),CORREL($B$1:B93,$S$1:S93),\"\")","v":-0.56028449210418574}]
[null,{"$f":"Sheet3!I94","v":-6.9112480562114845E-4},{"$f":"Sheet3!K94","v":-1.4364513904849461E-3},{"$f":"IF(ISNUMBER(C94),CORREL($B$1:B94,$C$1:C94),\"\")","v":0.72219553615448118},{"$f":"Sheet3!M94","v":1.8255462376633009E-3},{"$f":"IF(ISNUMBER(E94),CORREL($B$1:B94,$E$1:E94),\"\")","v":-0.22952104620844416},{"$f":"Sheet3!O94","v":6.2642369020501139E-4},{"$f":"IF(ISNUMBER(G94),CORREL($B$1:B94,$G$1:G94),\"\")","v":-0.21291488660444721},{"$f":"Sheet3!Q94","v":1.0335323840146991E-2},{"$f":"IF(ISNUMBER(I94),CORREL($B$1:B94,$I$1:I94),\"\")","v":0.35328787204919371},{"$f":"Sheet3!S94","v":-6.5182279649284728E-3},{"$f":"IF(ISNUMBER(K94),CORREL($B$1:B94,$K$1:K94),\"\")","v":-0.64204181656301129},{"$f":"Sheet3!U94","v":4.9519370812700263E-3},{"$f":"IF(ISNUMBER(M94),CORREL($B$1:B94,$M$1:M94),\"\")","v":0.67082107791678214},{"$f":"Sheet3!W94","v":-3.5107913669064749E-3},{"$f":"IF(ISNUMBER(O94),CORREL($B$1:B94,$O$1:O94),\"\")","v":0.23165667257360747},{"$f":"Sheet3!Y94","v":5.2352975394101564E-4},{"$f":"IF(ISNUMBER(Q94),CORREL($B$1:B94,$Q$1:Q94),\"\")","v":0.34305748894626165},{"$f":"Sheet3!AA94","v":4.5979654003103628E-3},{"$f":"IF(ISNUMBER(S94),CORREL($B$1:B94,$S$1:S94),\"\")","v":-0.55342331012125023}]
[null,{"$f":"Sheet3!I95","v":-1.8429994816563959E-3},{"$f":"Sheet3!K95","v":6.3203861181337624E-4},{"$f":"IF(ISNUMBER(C95),CORREL($B$1:B95,$C$1:C95),\"\")","v":0.70187970169853464},{"$f":"Sheet3!M95","v":3.1376575959837982E-3},{"$f":"IF(ISNUMBER(E95),CORREL($B$1:B95,$E$1:E95),\"\")","v":-0.27254784201179083},{"$f":"Sheet3!O95","v":-4.5558086560364467E-4},{"$f":"IF(ISNUMBER(G95),CORREL($B$1:B95,$G$1:G95),\"\")","v":-0.19525206435175263},{"$f":"Sheet3!Q95","v":1.1655948553054662E-2},{"$f":"IF(ISNUMBER(I95),CORREL($B$1:B95,$I$1:I95),\"\")","v":0.29856524640683257},{"$f":"Sheet3!S95","v":-8.5371481310567605E-3},{"$f":"IF(ISNUMBER(K95),CORREL($B$1:B95,$K$1:K95),\"\")","v":-0.63933039719065465},{"$f":"Sheet3!U95","v":6.2336149140693273E-3},{"$f":"IF(ISNUMBER(M95),CORREL($B$1:B95,$M$1:M95),\"\")","v":0.61809340566647852},{"$f":"Sheet3!W95","v":-3.1079136690647484E-3},{"$f":"IF(ISNUMBER(O95),CORREL($B$1:B95,$O$1:O95),\"\")","v":0.22546803809050051},{"$f":"Sheet3!Y95","v":0},{"$f":"IF(ISNUMBER(Q95),CORREL($B$1:B95,$Q$1:Q95),\"\")","v":0.32753800876872635},{"$f":"Sheet3!AA95","v":5.1727110753491583E-3},{"$f":"IF(ISNUMBER(S95),CORREL($B$1:B95,$S$1:S95),\"\")","v":-0.5440742582733672}]
[null,{"$f":"Sheet3!I96","v":-1.3246558774405344E-3},{"$f":"Sheet3!K96","v":-1.3215352792461503E-3},{"$f":"IF(ISNUMBER(C96),CORREL($B$1:B96,$C$1:C96),\"\")","v":0.69771219432724985},{"$f":"Sheet3!M96","v":3.70814079525358E-3},{"$f":"IF(ISNUMBER(E96),CORREL($B$1:B96,$E$1:E96),\"\")","v":-0.2956920116785014},{"$f":"Sheet3!O96","v":-4.5558086560364467E-4},{"$f":"IF(ISNUMBER(G96),CORREL($B$1:B96,$G$1:G96),\"\")","v":-0.18212193144581759},{"$f":"Sheet3!Q96","v":1.320624712907671E-2},{"$f":"IF(ISNUMBER(I96),CORREL($B$1:B96,$I$1:I96),\"\")","v":0.24233076696579639},{"$f":"Sheet3!S96","v":-9.4600830641439777E-3},{"$f":"IF(ISNUMBER(K96),CORREL($B$1:B96,$K$1:K96),\"\")","v":-0.63444868652046771},{"$f":"Sheet3!U96","v":6.0588406641421495E-3},{"$f":"IF(ISNUMBER(M96),CORREL($B$1:B96,$M$1:M96),\"\")","v":0.58055066328855953},{"$f":"Sheet3!W96","v":-2.7050359712230214E-3},{"$f":"IF(ISNUMBER(O96),CORREL($B$1:B96,$O$1:O96),\"\")","v":0.21636920431716875},{"$f":"Sheet3!Y96","v":2.326798906404514E-4},{"$f":"IF(ISNUMBER(Q96),CORREL($B$1:B96,$Q$1:Q96),\"\")","v":0.31542464798831055},{"$f":"Sheet3!AA96","v":3.2760503477211335E-3},{"$f":"IF(ISNUMBER(S96),CORREL($B$1:B96,$S$1:S96),\"\")","v":-0.52239296731978713}]
[null,{"$f":"Sheet3!I97","v":-1.3246558774405344E-3},{"$f":"Sheet3!K97","v":-6.8949666743277403E-4},{"$f":"IF(ISNUMBER(C97),CORREL($B$1:B97,$C$1:C97),\"\")","v":0.69087651896704527},{"$f":"Sheet3!M97","v":3.9363340749614924E-3},{"$f":"IF(ISNUMBER(E97),CORREL($B$1:B97,$E$1:E97),\"\")","v":-0.3160832298932833},{"$f":"Sheet3!O97","v":1.9362186788154897E-3},{"$f":"IF(ISNUMBER(G97),CORREL($B$1:B97,$G$1:G97),\"\")","v":-0.19574567736941195},{"$f":"Sheet3!Q97","v":1.4297197978870005E-2},{"$f":"IF(ISNUMBER(I97),CORREL($B$1:B97,$I$1:I97),\"\")","v":0.18386156858079292},{"$f":"Sheet3!S97","v":-1.1594370096908169E-2},{"$f":"IF(ISNUMBER(K97),CORREL($B$1:B97,$K$1:K97),\"\")","v":-0.61752783265244937},{"$f":"Sheet3!U97","v":7.7483250801048649E-3},{"$f":"IF(ISNUMBER(M97),CORREL($B$1:B97,$M$1:M97),\"\")","v":0.5232390782503753},{"$f":"Sheet3!W97","v":-5.6402877697841729E-3},{"$f":"IF(ISNUMBER(O97),CORREL($B$1:B97,$O$1:O97),\"\")","v":0.23480903061217112},{"$f":"Sheet3!Y97","v":0},{"$f":"IF(ISNUMBER(Q97),CORREL($B$1:B97,$Q$1:Q97),\"\")","v":0.30460789781362363},{"$f":"Sheet3!AA97","v":2.9886775102017358E-3},{"$f":"IF(ISNUMBER(S97),CORREL($B$1:B97,$S$1:S97),\"\")","v":-0.49904532578812361}]
[null,{"$f":"Sheet3!I98","v":-1.7278120140528711E-3},{"$f":"Sheet3!K98","v":-1.9535738910595266E-3},{"$f":"IF(ISNUMBER(C98),CORREL($B$1:B98,$C$1:C98),\"\")","v":0.68815329147190885},{"$f":"Sheet3!M98","v":3.9363340749614924E-3},{"$f":"IF(ISNUMBER(E98),CORREL($B$1:B98,$E$1:E98),\"\")","v":-0.34263586442288785},{"$f":"Sheet3!O98","v":1.7084282460136675E-3},{"$f":"IF(ISNUMBER(G98),CORREL($B$1:B98,$G$1:G98),\"\")","v":-0.20888476067365749},{"$f":"Sheet3!Q98","v":1.3952687184198438E-2},{"$f":"IF(ISNUMBER(I98),CORREL($B$1:B98,$I$1:I98),\"\")","v":0.12904933379321398},{"$f":"Sheet3!S98","v":-1.0440701430549147E-2},{"$f":"IF(ISNUMBER(K98),CORREL($B$1:B98,$K$1:K98),\"\")","v":-0.60544409657561737},{"$f":"Sheet3!U98","v":8.7387124963588698E-3},{"$f":"IF(ISNUMBER(M98),CORREL($B$1:B98,$M$1:M98),\"\")","v":0.4505151146929639},{"$f":"Sheet3!W98","v":-5.1798561151079137E-3},{"$f":"IF(ISNUMBER(O98),CORREL($B$1:B98,$O$1:O98),\"\")","v":0.25218494353322235},{"$f":"Sheet3!Y98","v":1.1052294805421442E-3},{"$f":"IF(ISNUMBER(Q98),CORREL($B$1:B98,$Q$1:Q98),\"\")","v":0.28723879987869305},{"$f":"Sheet3!AA98","v":2.1265589976435426E-3},{"$f":"IF(ISNUMBER(S98),CORREL($B$1:B98,$S$1:S98),\"\")","v":-0.46300731838051057}]
[null,{"$f":"Sheet3!I99","v":-4.3771237689339401E-3},{"$f":"Sheet3!K99","v":-3.4474833371638702E-4},{"$f":"IF(ISNUMBER(C99),CORREL($B$1:B99,$C$1:C99),\"\")","v":0.65139805890309044},{"$f":"Sheet3!M99","v":4.5638655941582524E-3},{"$f":"IF(ISNUMBER(E99),CORREL($B$1:B99,$E$1:E99),\"\")","v":-0.41226174641016911},{"$f":"Sheet3!O99","v":1.7084282460136675E-3},{"$f":"IF(ISNUMBER(G99),CORREL($B$1:B99,$G$1:G99),\"\")","v":-0.23171007111691985},{"$f":"Sheet3!Q99","v":1.4526871841984382E-2},{"$f":"IF(ISNUMBER(I99),CORREL($B$1:B99,$I$1:I99),\"\")","v":2.6432022641089122E-2},{"$f":"Sheet3!S99","v":-7.9603137978772505E-3},{"$f":"IF(ISNUMBER(K99),CORREL($B$1:B99,$K$1:K99),\"\")","v":-0.59604837543812295},{"$f":"Sheet3!U99","v":1.007864841246723E-2},{"$f":"IF(ISNUMBER(M99),CORREL($B$1:B99,$M$1:M99),\"\")","v":0.30563377370498507},{"$f":"Sheet3!W99","v":-4.5467625899280571E-3},{"$f":"IF(ISNUMBER(O99),CORREL($B$1:B99,$O$1:O99),\"\")","v":0.27008309624617338},{"$f":"Sheet3!Y99","v":6.398696992612413E-4},{"$f":"IF(ISNUMBER(Q99),CORREL($B$1:B99,$Q$1:Q99),\"\")","v":0.25162238092117761},{"$f":"Sheet3!AA99","v":8.6211851255819298E-4},{"$f":"IF(ISNUMBER(S99),CORREL($B$1:B99,$S$1:S99),\"\")","v":-0.36750930661677284}]
[null,{"$f":"Sheet3!I100","v":-2.7069054886828315E-3},{"$f":"Sheet3!K100","v":-6.8949666743277403E-4},{"$f":"IF(ISNUMBER(C100),CORREL($B$1:B100,$C$1:C100),\"\")","v":0.63751527336829816},{"$f":"Sheet3!M100","v":5.1913971133550115E-3},{"$f":"IF(ISNUMBER(E100),CORREL($B$1:B100,$E$1:E100),\"\")","v":-0.44431674106299335},{"$f":"Sheet3!O100","v":1.5375854214123006E-3},{"$f":"IF(ISNUMBER(G100),CORREL($B$1:B100,$G$1:G100),\"\")","v":-0.24453192653302033},{"$f":"Sheet3!Q100","v":1.4813964170877355E-2},{"$f":"IF(ISNUMBER(I100),CORREL($B$1:B100,$I$1:I100),\"\")","v":-3.2453026971584802E-2},{"$f":"Sheet3!S100","v":-1.0267651130595292E-2},{"$f":"IF(ISNUMBER(K100),CORREL($B$1:B100,$K$1:K100),\"\")","v":-0.57969300095815501},{"$f":"Sheet3!U100","v":9.6125837459947565E-3},{"$f":"IF(ISNUMBER(M100),CORREL($B$1:B100,$M$1:M100),\"\")","v":0.2298534052430917},{"$f":"Sheet3!W100","v":-6.7338129496402879E-3},{"$f":"IF(ISNUMBER(O100),CORREL($B$1:B100,$O$1:O100),\"\")","v":0.30660598196292937},{"$f":"Sheet3!Y100","v":-2.9084986330056425E-3},{"$f":"IF(ISNUMBER(Q100),CORREL($B$1:B100,$Q$1:Q100),\"\")","v":0.24886490476807313},{"$f":"Sheet3!AA100","v":3.4484740502327719E-3},{"$f":"IF(ISNUMBER(S100),CORREL($B$1:B100,$S$1:S100),\"\")","v":-0.34222241103267831}]
[null,{"$f":"Sheet3!I101","v":-3.4556240281057421E-3},{"$f":"Sheet3!K101","v":-1.3215352792461503E-3},{"$f":"IF(ISNUMBER(C101),CORREL($B$1:B101,$C$1:C101),\"\")","v":0.62398804624450843},{"$f":"Sheet3!M101","v":5.4766387129899022E-3},{"$f":"IF(ISNUMBER(E101),CORREL($B$1:B101,$E$1:E101),\"\")","v":-0.48310440218184625},{"$f":"Sheet3!O101","v":1.366742596810934E-3},{"$f":"IF(ISNUMBER(G101),CORREL($B$1:B101,$G$1:G101),\"\")","v":-0.25533397472638608},{"$f":"Sheet3!Q101","v":1.4526871841984382E-2},{"$f":"IF(ISNUMBER(I101),CORREL($B$1:B101,$I$1:I101),\"\")","v":-9.2387168751655382E-2},{"$f":"Sheet3!S101","v":-4.8454083987078912E-3},{"$f":"IF(ISNUMBER(K101),CORREL($B$1:B101,$K$1:K101),\"\")","v":-0.59538706973468558},{"$f":"Sheet3!U101","v":1.0311680745703466E-2},{"$f":"IF(ISNUMBER(M101),CORREL($B$1:B101,$M$1:M101),\"\")","v":0.14322019624457352},{"$f":"Sheet3!W101","v":-8.6330935251798559E-3},{"$f":"IF(ISNUMBER(O101),CORREL($B$1:B101,$O$1:O101),\"\")","v":0.36179691941537545},{"$f":"Sheet3!Y101","v":-4.3627479495084633E-3},{"$f":"IF(ISNUMBER(Q101),CORREL($B$1:B101,$Q$1:Q101),\"\")","v":0.25224865009191544},{"$f":"Sheet3!AA101","v":9.7706764756595212E-4},{"$f":"IF(ISNUMBER(S101),CORREL($B$1:B101,$S$1:S101),\"\")","v":-0.28003740125012111}]
[null,{"$f":"Sheet3!I102","v":-4.0891550999251278E-3},{"$f":"Sheet3!K102","v":-1.1491611123879568E-4},{"$f":"IF(ISNUMBER(C102),CORREL($B$1:B102,$C$1:C102),\"\")","v":0.59598125985074468},{"$f":"Sheet3!M102","v":5.4766387129899022E-3},{"$f":"IF(ISNUMBER(E102),CORREL($B$1:B102,$E$1:E102),\"\")","v":-0.52318407948819401},{"$f":"Sheet3!O102","v":9.1116173120728934E-4},{"$f":"IF(ISNUMBER(G102),CORREL($B$1:B102,$G$1:G102),\"\")","v":-0.25635448531744409},{"$f":"Sheet3!Q102","v":1.4871382636655949E-2},{"$f":"IF(ISNUMBER(I102),CORREL($B$1:B102,$I$1:I102),\"\")","v":-0.15488341364762642},{"$f":"Sheet3!S102","v":-5.5376095985233045E-3},{"$f":"IF(ISNUMBER(K102),CORREL($B$1:B102,$K$1:K102),\"\")","v":-0.60699246984633792},{"$f":"Sheet3!U102","v":1.1884648995048062E-2},{"$f":"IF(ISNUMBER(M102),CORREL($B$1:B102,$M$1:M102),\"\")","v":4.2430160461409745E-2},{"$f":"Sheet3!W102","v":-9.1510791366906478E-3},{"$f":"IF(ISNUMBER(O102),CORREL($B$1:B102,$O$1:O102),\"\")","v":0.41912891462004992},{"$f":"Sheet3!Y102","v":-3.7810482229073353E-3},{"$f":"IF(ISNUMBER(Q102),CORREL($B$1:B102,$Q$1:Q102),\"\")","v":0.25168887159333747},{"$f":"Sheet3!AA102","v":1.5518133226047474E-3},{"$f":"IF(ISNUMBER(S102),CORREL($B$1:B102,$S$1:S102),\"\")","v":-0.22359875197970516}]
[null,{"$f":"Sheet3!I103","v":-2.1309681506652078E-3},{"$f":"Sheet3!K103","v":-4.0220638933578486E-4},{"$f":"IF(ISNUMBER(C103),CORREL($B$1:B103,$C$1:C103),\"\")","v":0.58684996396827072},{"$f":"Sheet3!M103","v":5.1343487934280337E-3},{"$f":"IF(ISNUMBER(E103),CORREL($B$1:B103,$E$1:E103),\"\")","v":-0.53479169185135766},{"$f":"Sheet3!O103","v":7.9726651480637812E-4},{"$f":"IF(ISNUMBER(G103),CORREL($B$1:B103,$G$1:G103),\"\")","v":-0.25733218404259256},{"$f":"Sheet3!Q103","v":1.515847496554892E-2},{"$f":"IF(ISNUMBER(I103),CORREL($B$1:B103,$I$1:I103),\"\")","v":-0.18516972212714661},{"$f":"Sheet3!S103","v":-5.1915089986155974E-3},{"$f":"IF(ISNUMBER(K103),CORREL($B$1:B103,$K$1:K103),\"\")","v":-0.61515270668383193},{"$f":"Sheet3!U103","v":1.1884648995048062E-2},{"$f":"IF(ISNUMBER(M103),CORREL($B$1:B103,$M$1:M103),\"\")","v":-5.6235038199450495E-3},{"$f":"Sheet3!W103","v":-1.1510791366906475E-2},{"$f":"IF(ISNUMBER(O103),CORREL($B$1:B103,$O$1:O103),\"\")","v":0.42763247875650429},{"$f":"Sheet3!Y103","v":-3.5483683322668838E-3},{"$f":"IF(ISNUMBER(Q103),CORREL($B$1:B103,$Q$1:Q103),\"\")","v":0.25244162299856165},{"$f":"Sheet3!AA103","v":1.724237025116386E-3},{"$f":"IF(ISNUMBER(S103),CORREL($B$1:B103,$S$1:S103),\"\")","v":-0.19584135563700003}]
[null,{"$f":"Sheet3!I104","v":-2.5341242872775442E-3},{"$f":"Sheet3!K104","v":-2.2983222247759135E-4},{"$f":"IF(ISNUMBER(C104),CORREL($B$1:B104,$C$1:C104),\"\")","v":0.57474773011757929},{"$f":"Sheet3!M104","v":5.1913971133550115E-3},{"$f":"IF(ISNUMBER(E104),CORREL($B$1:B104,$E$1:E104),\"\")","v":-0.55012404922449065},{"$f":"Sheet3!O104","v":6.2642369020501139E-4},{"$f":"IF(ISNUMBER(G104),CORREL($B$1:B104,$G$1:G104),\"\")","v":-0.25565000317830411},{"$f":"Sheet3!Q104","v":1.3723013321084061E-2},{"$f":"IF(ISNUMBER(I104),CORREL($B$1:B104,$I$1:I104),\"\")","v":-0.21202802696188128},{"$f":"Sheet3!S104","v":-4.5569912321181353E-3},{"$f":"IF(ISNUMBER(K104),CORREL($B$1:B104,$K$1:K104),\"\")","v":-0.62536288827587416},{"$f":"Sheet3!U104","v":1.071948732886688E-2},{"$f":"IF(ISNUMBER(M104),CORREL($B$1:B104,$M$1:M104),\"\")","v":-4.7540676739823366E-2},{"$f":"Sheet3!W104","v":-1.3294964028776978E-2},{"$f":"IF(ISNUMBER(O104),CORREL($B$1:B104,$O$1:O104),\"\")","v":0.4410410499003406},{"$f":"Sheet3!Y104","v":-4.3627479495084633E-3},{"$f":"IF(ISNUMBER(Q104),CORREL($B$1:B104,$Q$1:Q104),\"\")","v":0.25582004477125098},{"$f":"Sheet3!AA104","v":1.2069659175814702E-3},{"$f":"IF(ISNUMBER(S104),CORREL($B$1:B104,$S$1:S104),\"\")","v":-0.16152117784754644}]
[null,{"$f":"Sheet3!I105","v":-1.0366872084317227E-3},{"$f":"Sheet3!K105","v":-6.3203861181337624E-4},{"$f":"IF(ISNUMBER(C105),CORREL($B$1:B105,$C$1:C105),\"\")","v":0.57188980922492205},{"$f":"Sheet3!M105","v":4.3356723144503395E-3},{"$f":"IF(ISNUMBER(E105),CORREL($B$1:B105,$E$1:E105),\"\")","v":-0.54967872889878155},{"$f":"Sheet3!O105","v":-1.7084282460136675E-4},{"$f":"IF(ISNUMBER(G105),CORREL($B$1:B105,$G$1:G105),\"\")","v":-0.24954502398240336},{"$f":"Sheet3!Q105","v":1.4182361047312816E-2},{"$f":"IF(ISNUMBER(I105),CORREL($B$1:B105,$I$1:I105),\"\")","v":-0.22259275150777083},{"$f":"Sheet3!S105","v":-6.4028610982925704E-3},{"$f":"IF(ISNUMBER(K105),CORREL($B$1:B105,$K$1:K105),\"\")","v":-0.62793543431810084},{"$f":"Sheet3!U105","v":1.1826390911739005E-2},{"$f":"IF(ISNUMBER(M105),CORREL($B$1:B105,$M$1:M105),\"\")","v":-6.7226788113794067E-2},{"$f":"Sheet3!W105","v":-1.0992805755395683E-2},{"$f":"IF(ISNUMBER(O105),CORREL($B$1:B105,$O$1:O105),\"\")","v":0.43663035034819481},{"$f":"Sheet3!Y105","v":-4.0137281135477869E-3},{"$f":"IF(ISNUMBER(Q105),CORREL($B$1:B105,$Q$1:Q105),\"\")","v":0.25747396323561134},{"$f":"Sheet3!AA105","v":2.8737283751939768E-4},{"$f":"IF(ISNUMBER(S105),CORREL($B$1:B105,$S$1:S105),\"\")","v":-0.140760142293966}]
[null,{"$f":"Sheet3!I106","v":-1.6126245464493463E-3},{"$f":"Sheet3!K106","v":-1.1491611123879568E-4},{"$f":"IF(ISNUMBER(C106),CORREL($B$1:B106,$C$1:C106),\"\")","v":0.56488861594852802},{"$f":"Sheet3!M106","v":4.3927206343773173E-3},{"$f":"IF(ISNUMBER(E106),CORREL($B$1:B106,$E$1:E106),\"\")","v":-0.55528792024048845},{"$f":"Sheet3!O106","v":3.9863325740318906E-4},{"$f":"IF(ISNUMBER(G106),CORREL($B$1:B106,$G$1:G106),\"\")","v":-0.24699758467244243},{"$f":"Sheet3!Q106","v":1.4699127239320165E-2},{"$f":"IF(ISNUMBER(I106),CORREL($B$1:B106,$I$1:I106),\"\")","v":-0.23928936006351337},{"$f":"Sheet3!S106","v":-5.076142131979695E-3},{"$f":"IF(ISNUMBER(K106),CORREL($B$1:B106,$K$1:K106),\"\")","v":-0.6329046511272679},{"$f":"Sheet3!U106","v":1.2875036411302068E-2},{"$f":"IF(ISNUMBER(M106),CORREL($B$1:B106,$M$1:M106),\"\")","v":-9.5774734414228499E-2},{"$f":"Sheet3!W106","v":-1.3007194244604317E-2},{"$f":"IF(ISNUMBER(O106),CORREL($B$1:B106,$O$1:O106),\"\")","v":0.4373990457952317},{"$f":"Sheet3!Y106","v":-2.2104589610842883E-3},{"$f":"IF(ISNUMBER(Q106),CORREL($B$1:B106,$Q$1:Q106),\"\")","v":0.25499995345193466},{"$f":"Sheet3!AA106","v":-1.724237025116386E-4},{"$f":"IF(ISNUMBER(S106),CORREL($B$1:B106,$S$1:S106),\"\")","v":-0.1122317452698737}]
[null,{"$f":"Sheet3!I107","v":-2.0733744168634455E-3},{"$f":"Sheet3!K107","v":-1.0342450011491611E-3},{"$f":"IF(ISNUMBER(C107),CORREL($B$1:B107,$C$1:C107),\"\")","v":0.56037256977135996},{"$f":"Sheet3!M107","v":4.8491071937931431E-3},{"$f":"IF(ISNUMBER(E107),CORREL($B$1:B107,$E$1:E107),\"\")","v":-0.56453310503640075},{"$f":"Sheet3!O107","v":1.1958997722095672E-3},{"$f":"IF(ISNUMBER(G107),CORREL($B$1:B107,$G$1:G107),\"\")","v":-0.25240678284857099},{"$f":"Sheet3!Q107","v":1.4813964170877355E-2},{"$f":"IF(ISNUMBER(I107),CORREL($B$1:B107,$I$1:I107),\"\")","v":-0.25971399612913459},{"$f":"Sheet3!S107","v":-4.4416243654822338E-3},{"$f":"IF(ISNUMBER(K107),CORREL($B$1:B107,$K$1:K107),\"\")","v":-0.6399622862429285},{"$f":"Sheet3!U107","v":1.3399359161083601E-2},{"$f":"IF(ISNUMBER(M107),CORREL($B$1:B107,$M$1:M107),\"\")","v":-0.1292190705642563},{"$f":"Sheet3!W107","v":-1.5712230215827339E-2},{"$f":"IF(ISNUMBER(O107),CORREL($B$1:B107,$O$1:O107),\"\")","v":0.44120407165027953},{"$f":"Sheet3!Y107","v":-2.6176487697050781E-3},{"$f":"IF(ISNUMBER(Q107),CORREL($B$1:B107,$Q$1:Q107),\"\")","v":0.25294003125350306},{"$f":"Sheet3!AA107","v":-7.4716937755043395E-4},{"$f":"IF(ISNUMBER(S107),CORREL($B$1:B107,$S$1:S107),\"\")","v":-7.6969911513578251E-2}]
[null,{"$f":"Sheet3!I108","v":-2.2461556182687323E-3},{"$f":"Sheet3!K108","v":-1.4364513904849461E-3},{"$f":"IF(ISNUMBER(C108),CORREL($B$1:B108,$C$1:C108),\"\")","v":0.55730972517073019},{"$f":"Sheet3!M108","v":4.3356723144503395E-3},{"$f":"IF(ISNUMBER(E108),CORREL($B$1:B108,$E$1:E108),\"\")","v":-0.57470005303733429},{"$f":"Sheet3!O108","v":4.5558086560364467E-4},{"$f":"IF(ISNUMBER(G108),CORREL($B$1:B108,$G$1:G108),\"\")","v":-0.24931120979143623},{"$f":"Sheet3!Q108","v":1.475654570509876E-2},{"$f":"IF(ISNUMBER(I108),CORREL($B$1:B108,$I$1:I108),\"\")","v":-0.28005200667098346},{"$f":"Sheet3!S108","v":-4.6723580987540377E-3},{"$f":"IF(ISNUMBER(K108),CORREL($B$1:B108,$K$1:K108),\"\")","v":-0.64716573178470427},{"$f":"Sheet3!U108","v":1.3632391494319837E-2},{"$f":"IF(ISNUMBER(M108),CORREL($B$1:B108,$M$1:M108),\"\")","v":-0.16174206931873247},{"$f":"Sheet3!W108","v":-1.3640287769784173E-2},{"$f":"IF(ISNUMBER(O108),CORREL($B$1:B108,$O$1:O108),\"\")","v":0.45511371989802563},{"$f":"Sheet3!Y108","v":-2.9084986330056426E-4},{"$f":"IF(ISNUMBER(Q108),CORREL($B$1:B108,$Q$1:Q108),\"\")","v":0.24276306775739509},{"$f":"Sheet3!AA108","v":-1.724237025116386E-3},{"$f":"IF(ISNUMBER(S108),CORREL($B$1:B108,$S$1:S108),\"\")","v":-3.7137062616069694E-2}]
[null,{"$f":"Sheet3!I109","v":-1.2670621436387721E-3},{"$f":"Sheet3!K109","v":-2.8729027809698917E-4},{"$f":"IF(ISNUMBER(C109),CORREL($B$1:B109,$C$1:C109),\"\")","v":0.55300813758046408},{"$f":"Sheet3!M109","v":4.5638655941582524E-3},{"$f":"IF(ISNUMBER(E109),CORREL($B$1:B109,$E$1:E109),\"\")","v":-0.57622614611904421},{"$f":"Sheet3!O109","v":-2.8473804100227789E-4},{"$f":"IF(ISNUMBER(G109),CORREL($B$1:B109,$G$1:G109),\"\")","v":-0.24175014853882595},{"$f":"Sheet3!Q109","v":1.475654570509876E-2},{"$f":"IF(ISNUMBER(I109),CORREL($B$1:B109,$I$1:I109),\"\")","v":-0.28968150557944067},{"$f":"Sheet3!S109","v":-4.2685740655283803E-3},{"$f":"IF(ISNUMBER(K109),CORREL($B$1:B109,$K$1:K109),\"\")","v":-0.64922923187426573},{"$f":"Sheet3!U109","v":1.4214972327410428E-2},{"$f":"IF(ISNUMBER(M109),CORREL($B$1:B109,$M$1:M109),\"\")","v":-0.17769729713341009},{"$f":"Sheet3!W109","v":-1.4503597122302158E-2},{"$f":"IF(ISNUMBER(O109),CORREL($B$1:B109,$O$1:O109),\"\")","v":0.45166214837564822},{"$f":"Sheet3!Y109","v":-5.2352975394101564E-4},{"$f":"IF(ISNUMBER(Q109),CORREL($B$1:B109,$Q$1:Q109),\"\")","v":0.23756667253712632},{"$f":"Sheet3!AA109","v":-1.1494913500775907E-3},{"$f":"IF(ISNUMBER(S109),CORREL($B$1:B109,$S$1:S109),\"\")","v":-1.6596980776477928E-2}]
[null,{"$f":"Sheet3!I110","v":-1.2670621436387721E-3},{"$f":"Sheet3!K110","v":1.2640772236267525E-3},{"$f":"IF(ISNUMBER(C110),CORREL($B$1:B110,$C$1:C110),\"\")","v":0.54251051077001256},{"$f":"Sheet3!M110","v":4.5638655941582524E-3},{"$f":"IF(ISNUMBER(E110),CORREL($B$1:B110,$E$1:E110),\"\")","v":-0.57789356524038815},{"$f":"Sheet3!O110","v":8.5421412300683373E-4},{"$f":"IF(ISNUMBER(G110),CORREL($B$1:B110,$G$1:G110),\"\")","v":-0.24331537295938702},{"$f":"Sheet3!Q110","v":1.4182361047312816E-2},{"$f":"IF(ISNUMBER(I110),CORREL($B$1:B110,$I$1:I110),\"\")","v":-0.29842897183383177},{"$f":"Sheet3!S110","v":-4.9607752653437935E-3},{"$f":"IF(ISNUMBER(K110),CORREL($B$1:B110,$K$1:K110),\"\")","v":-0.6517906798244647},{"$f":"Sheet3!U110","v":1.4739295077191961E-2},{"$f":"IF(ISNUMBER(M110),CORREL($B$1:B110,$M$1:M110),\"\")","v":-0.19251716706079497},{"$f":"Sheet3!W110","v":-1.3122302158273381E-2},{"$f":"IF(ISNUMBER(O110),CORREL($B$1:B110,$O$1:O110),\"\")","v":0.45324826147637925},{"$f":"Sheet3!Y110","v":-2.2686289337444012E-3},{"$f":"IF(ISNUMBER(Q110),CORREL($B$1:B110,$Q$1:Q110),\"\")","v":0.23617568796572033},{"$f":"Sheet3!AA110","v":-4.0232197252715676E-4},{"$f":"IF(ISNUMBER(S110),CORREL($B$1:B110,$S$1:S110),\"\")","v":2.5781798179654023E-5}]
[null,{"$f":"Sheet3!I111","v":-1.1518746760352473E-3},{"$f":"Sheet3!K111","v":3.4474833371638702E-4},{"$f":"IF(ISNUMBER(C111),CORREL($B$1:B111,$C$1:C111),\"\")","v":0.53673112170755699},{"$f":"Sheet3!M111","v":4.2215756745963831E-3},{"$f":"IF(ISNUMBER(E111),CORREL($B$1:B111,$E$1:E111),\"\")","v":-0.57921351939948285},{"$f":"Sheet3!O111","v":1.5375854214123006E-3},{"$f":"IF(ISNUMBER(G111),CORREL($B$1:B111,$G$1:G111),\"\")","v":-0.24835368365230068},{"$f":"Sheet3!Q111","v":1.3895268718419843E-2},{"$f":"IF(ISNUMBER(I111),CORREL($B$1:B111,$I$1:I111),\"\")","v":-0.30563910979461489},{"$f":"Sheet3!S111","v":-5.1338255652976462E-3},{"$f":"IF(ISNUMBER(K111),CORREL($B$1:B111,$K$1:K111),\"\")","v":-0.65385053124787151},{"$f":"Sheet3!U111","v":1.4914069327119138E-2},{"$f":"IF(ISNUMBER(M111),CORREL($B$1:B111,$M$1:M111),\"\")","v":-0.20453700536700142},{"$f":"Sheet3!W111","v":-1.2431654676258994E-2},{"$f":"IF(ISNUMBER(O111),CORREL($B$1:B111,$O$1:O111),\"\")","v":0.4550740084595099},{"$f":"Sheet3!Y111","v":2.4431388517247399E-3},{"$f":"IF(ISNUMBER(Q111),CORREL($B$1:B111,$Q$1:Q111),\"\")","v":0.22493272834362144},{"$f":"Sheet3!AA111","v":-2.8737283751939768E-4},{"$f":"IF(ISNUMBER(S111),CORREL($B$1:B111,$S$1:S111),\"\")","v":1.4112934733034278E-2}]
[null,{"$f":"Sheet3!I112","v":-1.1518746760352473E-3},{"$f":"Sheet3!K112","v":-5.7458055619397838E-5},{"$f":"IF(ISNUMBER(C112),CORREL($B$1:B112,$C$1:C112),\"\")","v":0.53249253798373397},{"$f":"Sheet3!M112","v":3.1947059159107764E-3},{"$f":"IF(ISNUMBER(E112),CORREL($B$1:B112,$E$1:E112),\"\")","v":-0.58163717243425084},{"$f":"Sheet3!O112","v":1.8223234624145787E-3},{"$f":"IF(ISNUMBER(G112),CORREL($B$1:B112,$G$1:G112),\"\")","v":-0.25439110108499025},{"$f":"Sheet3!Q112","v":1.3148828663298117E-2},{"$f":"IF(ISNUMBER(I112),CORREL($B$1:B112,$I$1:I112),\"\")","v":-0.31205834926954545},{"$f":"Sheet3!S112","v":-5.8260267651130595E-3},{"$f":"IF(ISNUMBER(K112),CORREL($B$1:B112,$K$1:K112),\"\")","v":-0.65603798938242264},{"$f":"Sheet3!U112","v":1.4622778910573841E-2},{"$f":"IF(ISNUMBER(M112),CORREL($B$1:B112,$M$1:M112),\"\")","v":-0.21554992419363514},{"$f":"Sheet3!W112","v":-1.2719424460431655E-2},{"$f":"IF(ISNUMBER(O112),CORREL($B$1:B112,$O$1:O112),\"\")","v":0.45676331264685166},{"$f":"Sheet3!Y112","v":2.9666686056657554E-3},{"$f":"IF(ISNUMBER(Q112),CORREL($B$1:B112,$Q$1:Q112),\"\")","v":0.21287200952462423},{"$f":"Sheet3!AA112","v":1.1494913500775907E-3},{"$f":"IF(ISNUMBER(S112),CORREL($B$1:B112,$S$1:S112),\"\")","v":2.3768378792560736E-2}]
[null,{"$f":"Sheet3!I113","v":{"$error":"#N/A"}},{"$f":"Sheet3!K113","v":8.6187083429096762E-4},{"$f":"IF(ISNUMBER(C113),CORREL($B$1:B113,$C$1:C113),\"\")","v":{"$error":"#N/A"}},{"$f":"Sheet3!M113","v":3.70814079525358E-3},{"$f":"IF(ISNUMBER(E113),CORREL($B$1:B113,$E$1:E113),\"\")","v":{"$error":"#N/A"}},{"$f":"Sheet3!O113","v":1.082004555808656E-3},{"$f":"IF(ISNUMBER(G113),CORREL($B$1:B113,$G$1:G113),\"\")","v":{"$error":"#N/A"}},{"$f":"Sheet3!Q113","v":1.3493339457969683E-2},{"$f":"IF(ISNUMBER(I113),CORREL($B$1:B113,$I$1:I113),\"\")","v":{"$error":"#N/A"}},{"$f":"Sheet3!S113","v":-8.0756806645131511E-3},{"$f":"IF(ISNUMBER(K113),CORREL($B$1:B113,$K$1:K113),\"\")","v":{"$error":"#N/A"}},{"$f":"Sheet3!U113","v":1.4273230410719488E-2},{"$f":"IF(ISNUMBER(M113),CORREL($B$1:B113,$M$1:M113),\"\")","v":{"$error":"#N/A"}},{"$f":"Sheet3!W113","v":-1.4733812949640287E-2},{"$f":"IF(ISNUMBER(O113),CORREL($B$1:B113,$O$1:O113),\"\")","v":{"$error":"#N/A"}},{"$f":"Sheet3!Y113","v":3.7810482229073353E-3},{"$f":"IF(ISNUMBER(Q113),CORREL($B$1:B113,$Q$1:Q113),\"\")","v":{"$error":"#N/A"}},{"$f":"Sheet3!AA113","v":-2.8737283751939768E-4},{"$f":"IF(ISNUMBER(S113),CORREL($B$1:B113,$S$1:S113),\"\")","v":{"$error":"#N/A"}}]
[null,{"$f":"Sheet3!I114","v":{"$error":"#N/A"}},{"$f":"Sheet3!K114","v":1.7237416685819351E-4},{"$f":"IF(ISNUMBER(C114),CORREL($B$1:B114,$C$1:C114),\"\")","v":{"$error":"#N/A"}},{"$f":"Sheet3!M114","v":3.6510924753266017E-3},{"$f":"IF(ISNUMBER(E114),CORREL($B$1:B114,$E$1:E114),\"\")","v":{"$error":"#N/A"}},{"$f":"Sheet3!O114","v":1.0250569476082006E-3},{"$f":"IF(ISNUMBER(G114),CORREL($B$1:B114,$G$1:G114),\"\")","v":{"$error":"#N/A"}},{"$f":"Sheet3!Q114","v":1.3608176389526872E-2},{"$f":"IF(ISNUMBER(I114),CORREL($B$1:B114,$I$1:I114),\"\")","v":{"$error":"#N/A"}},{"$f":"Sheet3!S114","v":-7.9026303645592984E-3},{"$f":"IF(ISNUMBER(K114),CORREL($B$1:B114,$K$1:K114),\"\")","v":{"$error":"#N/A"}},{"$f":"Sheet3!U114","v":1.4040198077483251E-2},{"$f":"IF(ISNUMBER(M114),CORREL($B$1:B114,$M$1:M114),\"\")","v":{"$error":"#N/A"}},{"$f":"Sheet3!W114","v":-1.3928057553956834E-2},{"$f":"IF(ISNUMBER(O114),CORREL($B$1:B114,$O$1:O114),\"\")","v":{"$error":"#N/A"}},{"$f":"Sheet3!Y114","v":2.6176487697050781E-3},{"$f":"IF(ISNUMBER(Q114),CORREL($B$1:B114,$Q$1:Q114),\"\")","v":{"$error":"#N/A"}},{"$f":"Sheet3!AA114","v":5.7474567503879536E-4},{"$f":"IF(ISNUMBER(S114),CORREL($B$1:B114,$S$1:S114),\"\")","v":{"$error":"#N/A"}}]
[null,{"$f":"Sheet3!I115","v":{"$error":"#N/A"}},{"$f":"Sheet3!K115","v":-5.7458055619397834E-4},{"$f":"IF(ISNUMBER(C115),CORREL($B$1:B115,$C$1:C115),\"\")","v":{"$error":"#N/A"}},{"$f":"Sheet3!M115","v":4.1074790347424266E-3},{"$f":"IF(ISNUMBER(E115),CORREL($B$1:B115,$E$1:E115),\"\")","v":{"$error":"#N/A"}},{"$f":"Sheet3!O115","v":2.8473804100227789E-4},{"$f":"IF(ISNUMBER(G115),CORREL($B$1:B115,$G$1:G115),\"\")","v":{"$error":"#N/A"}},{"$f":"Sheet3!Q115","v":1.3952687184198438E-2},{"$f":"IF(ISNUMBER(I115),CORREL($B$1:B115,$I$1:I115),\"\")","v":{"$error":"#N/A"}},{"$f":"Sheet3!S115","v":-8.3640978311029079E-3},{"$f":"IF(ISNUMBER(K115),CORREL($B$1:B115,$K$1:K115),\"\")","v":{"$error":"#N/A"}},{"$f":"Sheet3!U115","v":1.4389746577337605E-2},{"$f":"IF(ISNUMBER(M115),CORREL($B$1:B115,$M$1:M115),\"\")","v":{"$error":"#N/A"}},{"$f":"Sheet3!W115","v":-1.6057553956834534E-2},{"$f":"IF(ISNUMBER(O115),CORREL($B$1:B115,$O$1:O115),\"\")","v":{"$error":"#N/A"}},{"$f":"Sheet3!Y115","v":4.0718980862078993E-3},{"$f":"IF(ISNUMBER(Q115),CORREL($B$1:B115,$Q$1:Q115),\"\")","v":{"$error":"#N/A"}},{"$f":"Sheet3!AA115","v":-2.1840335651474221E-3},{"$f":"IF(ISNUMBER(S115),CORREL($B$1:B115,$S$1:S115),\"\")","v":{"$error":"#N/A"}}]
[null,{"$f":"Sheet3!I116","v":{"$error":"#N/A"}},{"$f":"Sheet3!K116","v":-4.0220638933578486E-4},{"$f":"IF(ISNUMBER(C116),CORREL($B$1:B116,$C$1:C116),\"\")","v":{"$error":"#N/A"}},{"$f":"Sheet3!M116","v":4.9632038336470995E-3},{"$f":"IF(ISNUMBER(E116),CORREL($B$1:B116,$E$1:E116),\"\")","v":{"$error":"#N/A"}},{"$f":"Sheet3!O116","v":3.416856492027335E-4},{"$f":"IF(ISNUMBER(G116),CORREL($B$1:B116,$G$1:G116),\"\")","v":{"$error":"#N/A"}},{"$f":"Sheet3!Q116","v":1.4182361047312816E-2},{"$f":"IF(ISNUMBER(I116),CORREL($B$1:B116,$I$1:I116),\"\")","v":{"$error":"#N/A"}},{"$f":"Sheet3!S116","v":-7.2681125980618363E-3},{"$f":"IF(ISNUMBER(K116),CORREL($B$1:B116,$K$1:K116),\"\")","v":{"$error":"#N/A"}},{"$f":"Sheet3!U116","v":1.3341101077774541E-2},{"$f":"IF(ISNUMBER(M116),CORREL($B$1:B116,$M$1:M116),\"\")","v":{"$error":"#N/A"}},{"$f":"Sheet3!W116","v":-1.7266187050359712E-2},{"$f":"IF(ISNUMBER(O116),CORREL($B$1:B116,$O$1:O116),\"\")","v":{"$error":"#N/A"}},{"$f":"Sheet3!Y116","v":4.8862777034494797E-3},{"$f":"IF(ISNUMBER(Q116),CORREL($B$1:B116,$Q$1:Q116),\"\")","v":{"$error":"#N/A"}},{"$f":"Sheet3!AA116","v":-3.5634231852405313E-3},{"$f":"IF(ISNUMBER(S116),CORREL($B$1:B116,$S$1:S116),\"\")","v":{"$error":"#N/A"}}]
[null,{"$f":"Sheet3!I117","v":{"$error":"#N/A"}},{"$f":"Sheet3!K117","v":-5.7458055619397834E-4},{"$f":"IF(ISNUMBER(C117),CORREL($B$1:B117,$C$1:C117),\"\")","v":{"$error":"#N/A"}},{"$f":"Sheet3!M117","v":5.1343487934280337E-3},{"$f":"IF(ISNUMBER(E117),CORREL($B$1:B117,$E$1:E117),\"\")","v":{"$error":"#N/A"}},{"$f":"Sheet3!O117","v":-5.6947608200455584E-5},{"$f":"IF(ISNUMBER(G117),CORREL($B$1:B117,$G$1:G117),\"\")","v":{"$error":"#N/A"}},{"$f":"Sheet3!Q117","v":1.4526871841984382E-2},{"$f":"IF(ISNUMBER(I117),CORREL($B$1:B117,$I$1:I117),\"\")","v":{"$error":"#N/A"}},{"$f":"Sheet3!S117","v":-7.7295800646054449E-3},{"$f":"IF(ISNUMBER(K117),CORREL($B$1:B117,$K$1:K117),\"\")","v":{"$error":"#N/A"}},{"$f":"Sheet3!U117","v":1.2583745994756772E-2},{"$f":"IF(ISNUMBER(M117),CORREL($B$1:B117,$M$1:M117),\"\")","v":{"$error":"#N/A"}},{"$f":"Sheet3!W117","v":-1.5884892086330937E-2},{"$f":"IF(ISNUMBER(O117),CORREL($B$1:B117,$O$1:O117),\"\")","v":{"$error":"#N/A"}},{"$f":"Sheet3!Y117","v":5.8751672386713975E-3},{"$f":"IF(ISNUMBER(Q117),CORREL($B$1:B117,$Q$1:Q117),\"\")","v":{"$error":"#N/A"}},{"$f":"Sheet3!AA117","v":-4.425541697798724E-3},{"$f":"IF(ISNUMBER(S117),CORREL($B$1:B117,$S$1:S117),\"\")","v":{"$error":"#N/A"}}]
[null,{"$f":"Sheet3!I118","v":{"$error":"#N/A"}},{"$f":"Sheet3!K118","v":0},{"$f":"IF(ISNUMBER(C118),CORREL($B$1:B118,$C$1:C118),\"\")","v":{"$error":"#N/A"}},{"$f":"Sheet3!M118","v":4.5068172742312737E-3},{"$f":"IF(ISNUMBER(E118),CORREL($B$1:B118,$E$1:E118),\"\")","v":{"$error":"#N/A"}},{"$f":"Sheet3!O118","v":-2.2779043280182233E-4},{"$f":"IF(ISNUMBER(G118),CORREL($B$1:B118,$G$1:G118),\"\")","v":{"$error":"#N/A"}},{"$f":"Sheet3!Q118","v":1.4412034910427193E-2},{"$f":"IF(ISNUMBER(I118),CORREL($B$1:B118,$I$1:I118),\"\")","v":{"$error":"#N/A"}},{"$f":"Sheet3!S118","v":-7.2104291647438852E-3},{"$f":"IF(ISNUMBER(K118),CORREL($B$1:B118,$K$1:K118),\"\")","v":{"$error":"#N/A"}},{"$f":"Sheet3!U118","v":1.2001165161666182E-2},{"$f":"IF(ISNUMBER(M118),CORREL($B$1:B118,$M$1:M118),\"\")","v":{"$error":"#N/A"}},{"$f":"Sheet3!W118","v":-1.5712230215827339E-2},{"$f":"IF(ISNUMBER(O118),CORREL($B$1:B118,$O$1:O118),\"\")","v":{"$error":"#N/A"}},{"$f":"Sheet3!Y118","v":5.7006573206910592E-3},{"$f":"IF(ISNUMBER(Q118),CORREL($B$1:B118,$Q$1:Q118),\"\")","v":{"$error":"#N/A"}},{"$f":"Sheet3!AA118","v":-5.8049313178918328E-3},{"$f":"IF(ISNUMBER(S118),CORREL($B$1:B118,$S$1:S118),\"\")","v":{"$error":"#N/A"}}]
[null,{"$f":"Sheet3!I119","v":{"$error":"#N/A"}},{"$f":"Sheet3!K119","v":8.0441277867156972E-4},{"$f":"IF(ISNUMBER(C119),CORREL($B$1:B119,$C$1:C119),\"\")","v":{"$error":"#N/A"}},{"$f":"Sheet3!M119","v":4.2786239945233609E-3},{"$f":"IF(ISNUMBER(E119),CORREL($B$1:B119,$E$1:E119),\"\")","v":{"$error":"#N/A"}},{"$f":"Sheet3!O119","v":-2.8473804100227789E-4},{"$f":"IF(ISNUMBER(G119),CORREL($B$1:B119,$G$1:G119),\"\")","v":{"$error":"#N/A"}},{"$f":"Sheet3!Q119","v":1.4412034910427193E-2},{"$f":"IF(ISNUMBER(I119),CORREL($B$1:B119,$I$1:I119),\"\")","v":{"$error":"#N/A"}},{"$f":"Sheet3!S119","v":-5.3645592985694509E-3},{"$f":"IF(ISNUMBER(K119),CORREL($B$1:B119,$K$1:K119),\"\")","v":{"$error":"#N/A"}},{"$f":"Sheet3!U119","v":1.2933294494611128E-2},{"$f":"IF(ISNUMBER(M119),CORREL($B$1:B119,$M$1:M119),\"\")","v":{"$error":"#N/A"}},{"$f":"Sheet3!W119","v":-1.3928057553956834E-2},{"$f":"IF(ISNUMBER(O119),CORREL($B$1:B119,$O$1:O119),\"\")","v":{"$error":"#N/A"}},{"$f":"Sheet3!Y119","v":5.6424873480309468E-3},{"$f":"IF(ISNUMBER(Q119),CORREL($B$1:B119,$Q$1:Q119),\"\")","v":{"$error":"#N/A"}},{"$f":"Sheet3!AA119","v":-5.0577619403413985E-3},{"$f":"IF(ISNUMBER(S119),CORREL($B$1:B119,$S$1:S119),\"\")","v":{"$error":"#N/A"}}]
[null,{"$f":"Sheet3!I120","v":{"$error":"#N/A"}},{"$f":"Sheet3!K120","v":1.4364513904849461E-3},{"$f":"IF(ISNUMBER(C120),CORREL($B$1:B120,$C$1:C120),\"\")","v":{"$error":"#N/A"}},{"$f":"Sheet3!M120","v":4.1645273546694053E-3},{"$f":"IF(ISNUMBER(E120),CORREL($B$1:B120,$E$1:E120),\"\")","v":{"$error":"#N/A"}},{"$f":"Sheet3!O120","v":-5.1252847380410028E-4},{"$f":"IF(ISNUMBER(G120),CORREL($B$1:B120,$G$1:G120),\"\")","v":{"$error":"#N/A"}},{"$f":"Sheet3!Q120","v":1.4871382636655949E-2},{"$f":"IF(ISNUMBER(I120),CORREL($B$1:B120,$I$1:I120),\"\")","v":{"$error":"#N/A"}},{"$f":"Sheet3!S120","v":-4.4416243654822338E-3},{"$f":"IF(ISNUMBER(K120),CORREL($B$1:B120,$K$1:K120),\"\")","v":{"$error":"#N/A"}},{"$f":"Sheet3!U120","v":1.3807165744247014E-2},{"$f":"IF(ISNUMBER(M120),CORREL($B$1:B120,$M$1:M120),\"\")","v":{"$error":"#N/A"}},{"$f":"Sheet3!W120","v":-1.2776978417266186E-2},{"$f":"IF(ISNUMBER(O120),CORREL($B$1:B120,$O$1:O120),\"\")","v":{"$error":"#N/A"}},{"$f":"Sheet3!Y120","v":5.0607876214298179E-3},{"$f":"IF(ISNUMBER(Q120),CORREL($B$1:B120,$Q$1:Q120),\"\")","v":{"$error":"#N/A"}},{"$f":"Sheet3!AA120","v":-5.1727110753491583E-3},{"$f":"IF(ISNUMBER(S120),CORREL($B$1:B120,$S$1:S120),\"\")","v":{"$error":"#N/A"}}]
[null,{"$f":"Sheet3!I121","v":{"$error":"#N/A"}},{"$f":"Sheet3!K121","v":2.7005286141116983E-3},{"$f":"IF(ISNUMBER(C121),CORREL($B$1:B121,$C$1:C121),\"\")","v":{"$error":"#N/A"}},{"$f":"Sheet3!M121","v":2.7383193564949511E-3},{"$f":"IF(ISNUMBER(E121),CORREL($B$1:B121,$E$1:E121),\"\")","v":{"$error":"#N/A"}},{"$f":"Sheet3!O121","v":-1.7084282460136675E-4},{"$f":"IF(ISNUMBER(G121),CORREL($B$1:B121,$G$1:G121),\"\")","v":{"$error":"#N/A"}},{"$f":"Sheet3!Q121","v":1.475654570509876E-2},{"$f":"IF(ISNUMBER(I121),CORREL($B$1:B121,$I$1:I121),\"\")","v":{"$error":"#N/A"}},{"$f":"Sheet3!S121","v":-5.8260267651130595E-3},{"$f":"IF(ISNUMBER(K121),CORREL($B$1:B121,$K$1:K121),\"\")","v":{"$error":"#N/A"}},{"$f":"Sheet3!U121","v":1.3981939994174191E-2},{"$f":"IF(ISNUMBER(M121),CORREL($B$1:B121,$M$1:M121),\"\")","v":{"$error":"#N/A"}},{"$f":"Sheet3!W121","v":-1.3928057553956834E-2},{"$f":"IF(ISNUMBER(O121),CORREL($B$1:B121,$O$1:O121),\"\")","v":{"$error":"#N/A"}},{"$f":"Sheet3!Y121","v":4.4209179221685766E-3},{"$f":"IF(ISNUMBER(Q121),CORREL($B$1:B121,$Q$1:Q121),\"\")","v":{"$error":"#N/A"}},{"$f":"Sheet3!AA121","v":-6.5521006954422671E-3},{"$f":"IF(ISNUMBER(S121),CORREL($B$1:B121,$S$1:S121),\"\")","v":{"$error":"#N/A"}}]
[null,{"$f":"Sheet3!I122","v":{"$error":"#N/A"}},{"$f":"Sheet3!K122","v":2.6430705584923006E-3},{"$f":"IF(ISNUMBER(C122),CORREL($B$1:B122,$C$1:C122),\"\")","v":{"$error":"#N/A"}},{"$f":"Sheet3!M122","v":2.3960294369330822E-3},{"$f":"IF(ISNUMBER(E122),CORREL($B$1:B122,$E$1:E122),\"\")","v":{"$error":"#N/A"}},{"$f":"Sheet3!O122","v":-5.6947608200455584E-5},{"$f":"IF(ISNUMBER(G122),CORREL($B$1:B122,$G$1:G122),\"\")","v":{"$error":"#N/A"}},{"$f":"Sheet3!Q122","v":1.4412034910427193E-2},{"$f":"IF(ISNUMBER(I122),CORREL($B$1:B122,$I$1:I122),\"\")","v":{"$error":"#N/A"}},{"$f":"Sheet3!S122","v":-7.6718966312874946E-3},{"$f":"IF(ISNUMBER(K122),CORREL($B$1:B122,$K$1:K122),\"\")","v":{"$error":"#N/A"}},{"$f":"Sheet3!U122","v":1.479755316050102E-2},{"$f":"IF(ISNUMBER(M122),CORREL($B$1:B122,$M$1:M122),\"\")","v":{"$error":"#N/A"}},{"$f":"Sheet3!W122","v":-1.2546762589928057E-2},{"$f":"IF(ISNUMBER(O122),CORREL($B$1:B122,$O$1:O122),\"\")","v":{"$error":"#N/A"}},{"$f":"Sheet3!Y122","v":5.5843173753708335E-3},{"$f":"IF(ISNUMBER(Q122),CORREL($B$1:B122,$Q$1:Q122),\"\")","v":{"$error":"#N/A"}},{"$f":"Sheet3!AA122","v":-9.0809816656129659E-3},{"$f":"IF(ISNUMBER(S122),CORREL($B$1:B122,$S$1:S122),\"\")","v":{"$error":"#N/A"}}]
[null,{"$f":"Sheet3!I123","v":{"$error":"#N/A"}},{"$f":"Sheet3!K123","v":2.1834061135371178E-3},{"$f":"IF(ISNUMBER(C123),CORREL($B$1:B123,$C$1:C123),\"\")","v":{"$error":"#N/A"}},{"$f":"Sheet3!M123","v":1.3121113583204975E-3},{"$f":"IF(ISNUMBER(E123),CORREL($B$1:B123,$E$1:E123),\"\")","v":{"$error":"#N/A"}},{"$f":"Sheet3!O123","v":5.6947608200455584E-5},{"$f":"IF(ISNUMBER(G123),CORREL($B$1:B123,$G$1:G123),\"\")","v":{"$error":"#N/A"}},{"$f":"Sheet3!Q123","v":1.3895268718419843E-2},{"$f":"IF(ISNUMBER(I123),CORREL($B$1:B123,$I$1:I123),\"\")","v":{"$error":"#N/A"}},{"$f":"Sheet3!S123","v":-7.9603137978772505E-3},{"$f":"IF(ISNUMBER(K123),CORREL($B$1:B123,$K$1:K123),\"\")","v":{"$error":"#N/A"}},{"$f":"Sheet3!U123","v":1.4389746577337605E-2},{"$f":"IF(ISNUMBER(M123),CORREL($B$1:B123,$M$1:M123),\"\")","v":{"$error":"#N/A"}},{"$f":"Sheet3!W123","v":-1.3007194244604317E-2},{"$f":"IF(ISNUMBER(O123),CORREL($B$1:B123,$O$1:O123),\"\")","v":{"$error":"#N/A"}},{"$f":"Sheet3!Y123","v":4.3627479495084633E-3},{"$f":"IF(ISNUMBER(Q123),CORREL($B$1:B123,$Q$1:Q123),\"\")","v":{"$error":"#N/A"}},{"$f":"Sheet3!AA123","v":-8.793608828093569E-3},{"$f":"IF(ISNUMBER(S123),CORREL($B$1:B123,$S$1:S123),\"\")","v":{"$error":"#N/A"}}]
[null,{"$f":"Sheet3!I124","v":{"$error":"#N/A"}},{"$f":"Sheet3!K124","v":1.5513675017237417E-3},{"$f":"IF(ISNUMBER(C124),CORREL($B$1:B124,$C$1:C124),\"\")","v":{"$error":"#N/A"}},{"$f":"Sheet3!M124","v":1.3691596782474755E-3},{"$f":"IF(ISNUMBER(E124),CORREL($B$1:B124,$E$1:E124),\"\")","v":{"$error":"#N/A"}},{"$f":"Sheet3!O124","v":-5.1252847380410028E-4},{"$f":"IF(ISNUMBER(G124),CORREL($B$1:B124,$G$1:G124),\"\")","v":{"$error":"#N/A"}},{"$f":"Sheet3!Q124","v":1.4182361047312816E-2},{"$f":"IF(ISNUMBER(I124),CORREL($B$1:B124,$I$1:I124),\"\")","v":{"$error":"#N/A"}},{"$f":"Sheet3!S124","v":-7.2104291647438852E-3},{"$f":"IF(ISNUMBER(K124),CORREL($B$1:B124,$K$1:K124),\"\")","v":{"$error":"#N/A"}},{"$f":"Sheet3!U124","v":1.3807165744247014E-2},{"$f":"IF(ISNUMBER(M124),CORREL($B$1:B124,$M$1:M124),\"\")","v":{"$error":"#N/A"}},{"$f":"Sheet3!W124","v":-1.3410071942446044E-2},{"$f":"IF(ISNUMBER(O124),CORREL($B$1:B124,$O$1:O124),\"\")","v":{"$error":"#N/A"}},{"$f":"Sheet3!Y124","v":4.1882380315281251E-3},{"$f":"IF(ISNUMBER(Q124),CORREL($B$1:B124,$Q$1:Q124),\"\")","v":{"$error":"#N/A"}},{"$f":"Sheet3!AA124","v":-8.9085579631013271E-3},{"$f":"IF(ISNUMBER(S124),CORREL($B$1:B124,$S$1:S124),\"\")","v":{"$error":"#N/A"}}]
[null,{"$f":"Sheet3!I125","v":{"$error":"#N/A"}},{"$f":"Sheet3!K125","v":1.6662836129625375E-3},{"$f":"IF(ISNUMBER(C125),CORREL($B$1:B125,$C$1:C125),\"\")","v":{"$error":"#N/A"}},{"$f":"Sheet3!M125","v":1.9396428775172571E-3},{"$f":"IF(ISNUMBER(E125),CORREL($B$1:B125,$E$1:E125),\"\")","v":{"$error":"#N/A"}},{"$f":"Sheet3!O125","v":-8.5421412300683373E-4},{"$f":"IF(ISNUMBER(G125),CORREL($B$1:B125,$G$1:G125),\"\")","v":{"$error":"#N/A"}},{"$f":"Sheet3!Q125","v":1.4297197978870005E-2},{"$f":"IF(ISNUMBER(I125),CORREL($B$1:B125,$I$1:I125),\"\")","v":{"$error":"#N/A"}},{"$f":"Sheet3!S125","v":-7.4988463313336411E-3},{"$f":"IF(ISNUMBER(K125),CORREL($B$1:B125,$K$1:K125),\"\")","v":{"$error":"#N/A"}},{"$f":"Sheet3!U125","v":1.2642004078065832E-2},{"$f":"IF(ISNUMBER(M125),CORREL($B$1:B125,$M$1:M125),\"\")","v":{"$error":"#N/A"}},{"$f":"Sheet3!W125","v":-1.4964028776978418E-2},{"$f":"IF(ISNUMBER(O125),CORREL($B$1:B125,$O$1:O125),\"\")","v":{"$error":"#N/A"}},{"$f":"Sheet3!Y125","v":5.3516374847303819E-3},{"$f":"IF(ISNUMBER(Q125),CORREL($B$1:B125,$Q$1:Q125),\"\")","v":{"$error":"#N/A"}},{"$f":"Sheet3!AA125","v":-9.4258290706362435E-3},{"$f":"IF(ISNUMBER(S125),CORREL($B$1:B125,$S$1:S125),\"\")","v":{"$error":"#N/A"}}]
[null,{"$f":"Sheet3!I126","v":{"$error":"#N/A"}},{"$f":"Sheet3!K126","v":1.0917030567685589E-3},{"$f":"IF(ISNUMBER(C126),CORREL($B$1:B126,$C$1:C126),\"\")","v":{"$error":"#N/A"}},{"$f":"Sheet3!M126","v":1.9396428775172571E-3},{"$f":"IF(ISNUMBER(E126),CORREL($B$1:B126,$E$1:E126),\"\")","v":{"$error":"#N/A"}},{"$f":"Sheet3!O126","v":-1.5945330296127562E-3},{"$f":"IF(ISNUMBER(G126),CORREL($B$1:B126,$G$1:G126),\"\")","v":{"$error":"#N/A"}},{"$f":"Sheet3!Q126","v":1.3952687184198438E-2},{"$f":"IF(ISNUMBER(I126),CORREL($B$1:B126,$I$1:I126),\"\")","v":{"$error":"#N/A"}},{"$f":"Sheet3!S126","v":-7.9026303645592984E-3},{"$f":"IF(ISNUMBER(K126),CORREL($B$1:B126,$K$1:K126),\"\")","v":{"$error":"#N/A"}},{"$f":"Sheet3!U126","v":1.2991552577920186E-2},{"$f":"IF(ISNUMBER(M126),CORREL($B$1:B126,$M$1:M126),\"\")","v":{"$error":"#N/A"}},{"$f":"Sheet3!W126","v":-1.4964028776978418E-2},{"$f":"IF(ISNUMBER(O126),CORREL($B$1:B126,$O$1:O126),\"\")","v":{"$error":"#N/A"}},{"$f":"Sheet3!Y126","v":5.2352975394101562E-3},{"$f":"IF(ISNUMBER(Q126),CORREL($B$1:B126,$Q$1:Q126),\"\")","v":{"$error":"#N/A"}},{"$f":"Sheet3!AA126","v":-9.4258290706362435E-3},{"$f":"IF(ISNUMBER(S126),CORREL($B$1:B126,$S$1:S126),\"\")","v":{"$error":"#N/A"}}]
[null,{"$f":"Sheet3!I127","v":{"$error":"#N/A"}},{"$f":"Sheet3!K127","v":-6.8949666743277403E-4},{"$f":"IF(ISNUMBER(C127),CORREL($B$1:B127,$C$1:C127),\"\")","v":{"$error":"#N/A"}},{"$f":"Sheet3!M127","v":1.54030463802841E-3},{"$f":"IF(ISNUMBER(E127),CORREL($B$1:B127,$E$1:E127),\"\")","v":{"$error":"#N/A"}},{"$f":"Sheet3!O127","v":-1.082004555808656E-3},{"$f":"IF(ISNUMBER(G127),CORREL($B$1:B127,$G$1:G127),\"\")","v":{"$error":"#N/A"}},{"$f":"Sheet3!Q127","v":1.4297197978870005E-2},{"$f":"IF(ISNUMBER(I127),CORREL($B$1:B127,$I$1:I127),\"\")","v":{"$error":"#N/A"}},{"$f":"Sheet3!S127","v":-7.3834794646977387E-3},{"$f":"IF(ISNUMBER(K127),CORREL($B$1:B127,$K$1:K127),\"\")","v":{"$error":"#N/A"}},{"$f":"Sheet3!U127","v":1.3224584911156422E-2},{"$f":"IF(ISNUMBER(M127),CORREL($B$1:B127,$M$1:M127),\"\")","v":{"$error":"#N/A"}},{"$f":"Sheet3!W127","v":-1.3985611510791368E-2},{"$f":"IF(ISNUMBER(O127),CORREL($B$1:B127,$O$1:O127),\"\")","v":{"$error":"#N/A"}},{"$f":"Sheet3!Y127","v":5.7588272933511717E-3},{"$f":"IF(ISNUMBER(Q127),CORREL($B$1:B127,$Q$1:Q127),\"\")","v":{"$error":"#N/A"}},{"$f":"Sheet3!AA127","v":-8.7361342605896883E-3},{"$f":"IF(ISNUMBER(S127),CORREL($B$1:B127,$S$1:S127),\"\")","v":{"$error":"#N/A"}}]
[null,{"$f":"Sheet3!I128","v":{"$error":"#N/A"}},{"$f":"Sheet3!K128","v":-8.0441277867156972E-4},{"$f":"IF(ISNUMBER(C128),CORREL($B$1:B128,$C$1:C128),\"\")","v":{"$error":"#N/A"}},{"$f":"Sheet3!M128","v":1.3691596782474755E-3},{"$f":"IF(ISNUMBER(E128),CORREL($B$1:B128,$E$1:E128),\"\")","v":{"$error":"#N/A"}},{"$f":"Sheet3!O128","v":-2.2779043280182233E-4},{"$f":"IF(ISNUMBER(G128),CORREL($B$1:B128,$G$1:G128),\"\")","v":{"$error":"#N/A"}},{"$f":"Sheet3!Q128","v":1.4584290307762976E-2},{"$f":"IF(ISNUMBER(I128),CORREL($B$1:B128,$I$1:I128),\"\")","v":{"$error":"#N/A"}},{"$f":"Sheet3!S128","v":-7.3257960313797875E-3},{"$f":"IF(ISNUMBER(K128),CORREL($B$1:B128,$K$1:K128),\"\")","v":{"$error":"#N/A"}},{"$f":"Sheet3!U128","v":1.2525487911447713E-2},{"$f":"IF(ISNUMBER(M128),CORREL($B$1:B128,$M$1:M128),\"\")","v":{"$error":"#N/A"}},{"$f":"Sheet3!W128","v":-1.5079136690647482E-2},{"$f":"IF(ISNUMBER(O128),CORREL($B$1:B128,$O$1:O128),\"\")","v":{"$error":"#N/A"}},{"$f":"Sheet3!Y128","v":4.9444476761095922E-3},{"$f":"IF(ISNUMBER(Q128),CORREL($B$1:B128,$Q$1:Q128),\"\")","v":{"$error":"#N/A"}},{"$f":"Sheet3!AA128","v":-8.1613885855508946E-3},{"$f":"IF(ISNUMBER(S128),CORREL($B$1:B128,$S$1:S128),\"\")","v":{"$error":"#N/A"}}]
[null,{"$f":"Sheet3!I129","v":{"$error":"#N/A"}},{"$f":"Sheet3!K129","v":-5.1712250057458055E-4},{"$f":"IF(ISNUMBER(C129),CORREL($B$1:B129,$C$1:C129),\"\")","v":{"$error":"#N/A"}},{"$f":"Sheet3!M129","v":9.6982143875862855E-4},{"$f":"IF(ISNUMBER(E129),CORREL($B$1:B129,$E$1:E129),\"\")","v":{"$error":"#N/A"}},{"$f":"Sheet3!O129","v":0},{"$f":"IF(ISNUMBER(G129),CORREL($B$1:B129,$G$1:G129),\"\")","v":{"$error":"#N/A"}},{"$f":"Sheet3!Q129","v":1.3952687184198438E-2},{"$f":"IF(ISNUMBER(I129),CORREL($B$1:B129,$I$1:I129),\"\")","v":{"$error":"#N/A"}},{"$f":"Sheet3!S129","v":-5.999077065066913E-3},{"$f":"IF(ISNUMBER(K129),CORREL($B$1:B129,$K$1:K129),\"\")","v":{"$error":"#N/A"}},{"$f":"Sheet3!U129","v":1.2583745994756772E-2},{"$f":"IF(ISNUMBER(M129),CORREL($B$1:B129,$M$1:M129),\"\")","v":{"$error":"#N/A"}},{"$f":"Sheet3!W129","v":-1.6460431654676259E-2},{"$f":"IF(ISNUMBER(O129),CORREL($B$1:B129,$O$1:O129),\"\")","v":{"$error":"#N/A"}},{"$f":"Sheet3!Y129","v":5.526147402710721E-3},{"$f":"IF(ISNUMBER(Q129),CORREL($B$1:B129,$Q$1:Q129),\"\")","v":{"$error":"#N/A"}},{"$f":"Sheet3!AA129","v":-8.7361342605896883E-3},{"$f":"IF(ISNUMBER(S129),CORREL($B$1:B129,$S$1:S129),\"\")","v":{"$error":"#N/A"}}]
[null,{"$f":"Sheet3!I130","v":{"$error":"#N/A"}},{"$f":"Sheet3!K130","v":-9.1932888991036541E-4},{"$f":"IF(ISNUMBER(C130),CORREL($B$1:B130,$C$1:C130),\"\")","v":{"$error":"#N/A"}},{"$f":"Sheet3!M130","v":1.0268697586856067E-3},{"$f":"IF(ISNUMBER(E130),CORREL($B$1:B130,$E$1:E130),\"\")","v":{"$error":"#N/A"}},{"$f":"Sheet3!O130","v":-3.9863325740318906E-4},{"$f":"IF(ISNUMBER(G130),CORREL($B$1:B130,$G$1:G130),\"\")","v":{"$error":"#N/A"}},{"$f":"Sheet3!Q130","v":1.3608176389526872E-2},{"$f":"IF(ISNUMBER(I130),CORREL($B$1:B130,$I$1:I130),\"\")","v":{"$error":"#N/A"}},{"$f":"Sheet3!S130","v":-6.864328564836179E-3},{"$f":"IF(ISNUMBER(K130),CORREL($B$1:B130,$K$1:K130),\"\")","v":{"$error":"#N/A"}},{"$f":"Sheet3!U130","v":1.3399359161083601E-2},{"$f":"IF(ISNUMBER(M130),CORREL($B$1:B130,$M$1:M130),\"\")","v":{"$error":"#N/A"}},{"$f":"Sheet3!W130","v":-1.5482014388489208E-2},{"$f":"IF(ISNUMBER(O130),CORREL($B$1:B130,$O$1:O130),\"\")","v":{"$error":"#N/A"}},{"$f":"Sheet3!Y130","v":5.4098074573904953E-3},{"$f":"IF(ISNUMBER(Q130),CORREL($B$1:B130,$Q$1:Q130),\"\")","v":{"$error":"#N/A"}},{"$f":"Sheet3!AA130","v":-7.2417955054888215E-3},{"$f":"IF(ISNUMBER(S130),CORREL($B$1:B130,$S$1:S130),\"\")","v":{"$error":"#N/A"}}]
[null,{"$f":"Sheet3!I131","v":{"$error":"#N/A"}},{"$f":"Sheet3!K131","v":-1.3789933348655481E-3},{"$f":"IF(ISNUMBER(C131),CORREL($B$1:B131,$C$1:C131),\"\")","v":{"$error":"#N/A"}},{"$f":"Sheet3!M131","v":5.7048319926978155E-4},{"$f":"IF(ISNUMBER(E131),CORREL($B$1:B131,$E$1:E131),\"\")","v":{"$error":"#N/A"}},{"$f":"Sheet3!O131","v":0},{"$f":"IF(ISNUMBER(G131),CORREL($B$1:B131,$G$1:G131),\"\")","v":{"$error":"#N/A"}},{"$f":"Sheet3!Q131","v":1.3837850252641249E-2},{"$f":"IF(ISNUMBER(I131),CORREL($B$1:B131,$I$1:I131),\"\")","v":{"$error":"#N/A"}},{"$f":"Sheet3!S131","v":-6.8066451315182278E-3},{"$f":"IF(ISNUMBER(K131),CORREL($B$1:B131,$K$1:K131),\"\")","v":{"$error":"#N/A"}},{"$f":"Sheet3!U131","v":1.3049810661229245E-2},{"$f":"IF(ISNUMBER(M131),CORREL($B$1:B131,$M$1:M131),\"\")","v":{"$error":"#N/A"}},{"$f":"Sheet3!W131","v":-1.4964028776978418E-2},{"$f":"IF(ISNUMBER(O131),CORREL($B$1:B131,$O$1:O131),\"\")","v":{"$error":"#N/A"}},{"$f":"Sheet3!Y131","v":5.4098074573904953E-3},{"$f":"IF(ISNUMBER(Q131),CORREL($B$1:B131,$Q$1:Q131),\"\")","v":{"$error":"#N/A"}},{"$f":"Sheet3!AA131","v":-7.5866429105120982E-3},{"$f":"IF(ISNUMBER(S131),CORREL($B$1:B131,$S$1:S131),\"\")","v":{"$error":"#N/A"}}]
[null,{"$f":"Sheet3!I132","v":{"$error":"#N/A"}},{"$f":"Sheet3!K132","v":-1.2066191680073547E-3},{"$f":"IF(ISNUMBER(C132),CORREL($B$1:B132,$C$1:C132),\"\")","v":{"$error":"#N/A"}},{"$f":"Sheet3!M132","v":6.2753151919675966E-4},{"$f":"IF(ISNUMBER(E132),CORREL($B$1:B132,$E$1:E132),\"\")","v":{"$error":"#N/A"}},{"$f":"Sheet3!O132","v":-8.5421412300683373E-4},{"$f":"IF(ISNUMBER(G132),CORREL($B$1:B132,$G$1:G132),\"\")","v":{"$error":"#N/A"}},{"$f":"Sheet3!Q132","v":1.4297197978870005E-2},{"$f":"IF(ISNUMBER(I132),CORREL($B$1:B132,$I$1:I132),\"\")","v":{"$error":"#N/A"}},{"$f":"Sheet3!S132","v":-6.8066451315182278E-3},{"$f":"IF(ISNUMBER(K132),CORREL($B$1:B132,$K$1:K132),\"\")","v":{"$error":"#N/A"}},{"$f":"Sheet3!U132","v":1.3690649577628895E-2},{"$f":"IF(ISNUMBER(M132),CORREL($B$1:B132,$M$1:M132),\"\")","v":{"$error":"#N/A"}},{"$f":"Sheet3!W132","v":-1.5482014388489208E-2},{"$f":"IF(ISNUMBER(O132),CORREL($B$1:B132,$O$1:O132),\"\")","v":{"$error":"#N/A"}},{"$f":"Sheet3!Y132","v":4.9444476761095922E-3},{"$f":"IF(ISNUMBER(Q132),CORREL($B$1:B132,$Q$1:Q132),\"\")","v":{"$error":"#N/A"}},{"$f":"Sheet3!AA132","v":-8.4487614230702914E-3},{"$f":"IF(ISNUMBER(S132),CORREL($B$1:B132,$S$1:S132),\"\")","v":{"$error":"#N/A"}}]
[null,{"$f":"Sheet3!I133","v":{"$error":"#N/A"}},{"$f":"Sheet3!K133","v":-1.5513675017237417E-3},{"$f":"IF(ISNUMBER(C133),CORREL($B$1:B133,$C$1:C133),\"\")","v":{"$error":"#N/A"}},{"$f":"Sheet3!M133","v":-9.1277311883165044E-4},{"$f":"IF(ISNUMBER(E133),CORREL($B$1:B133,$E$1:E133),\"\")","v":{"$error":"#N/A"}},{"$f":"Sheet3!O133","v":-9.1116173120728934E-4},{"$f":"IF(ISNUMBER(G133),CORREL($B$1:B133,$G$1:G133),\"\")","v":{"$error":"#N/A"}},{"$f":"Sheet3!Q133","v":1.3952687184198438E-2},{"$f":"IF(ISNUMBER(I133),CORREL($B$1:B133,$I$1:I133),\"\")","v":{"$error":"#N/A"}},{"$f":"Sheet3!S133","v":-7.2104291647438852E-3},{"$f":"IF(ISNUMBER(K133),CORREL($B$1:B133,$K$1:K133),\"\")","v":{"$error":"#N/A"}},{"$f":"Sheet3!U133","v":1.3166326827847364E-2},{"$f":"IF(ISNUMBER(M133),CORREL($B$1:B133,$M$1:M133),\"\")","v":{"$error":"#N/A"}},{"$f":"Sheet3!W133","v":-1.7093525179856114E-2},{"$f":"IF(ISNUMBER(O133),CORREL($B$1:B133,$O$1:O133),\"\")","v":{"$error":"#N/A"}},{"$f":"Sheet3!Y133","v":5.1771275667500437E-3},{"$f":"IF(ISNUMBER(Q133),CORREL($B$1:B133,$Q$1:Q133),\"\")","v":{"$error":"#N/A"}},{"$f":"Sheet3!AA133","v":-6.9544226679694237E-3},{"$f":"IF(ISNUMBER(S133),CORREL($B$1:B133,$S$1:S133),\"\")","v":{"$error":"#N/A"}}]
[null,{"$f":"Sheet3!I134","v":{"$error":"#N/A"}},{"$f":"Sheet3!K134","v":-2.12594805791772E-3},{"$f":"IF(ISNUMBER(C134),CORREL($B$1:B134,$C$1:C134),\"\")","v":{"$error":"#N/A"}},{"$f":"Sheet3!M134","v":-1.0839180786125849E-3},{"$f":"IF(ISNUMBER(E134),CORREL($B$1:B134,$E$1:E134),\"\")","v":{"$error":"#N/A"}},{"$f":"Sheet3!O134","v":-1.3097949886104784E-3},{"$f":"IF(ISNUMBER(G134),CORREL($B$1:B134,$G$1:G134),\"\")","v":{"$error":"#N/A"}},{"$f":"Sheet3!Q134","v":1.3780431786862656E-2},{"$f":"IF(ISNUMBER(I134),CORREL($B$1:B134,$I$1:I134),\"\")","v":{"$error":"#N/A"}},{"$f":"Sheet3!S134","v":-7.6718966312874946E-3},{"$f":"IF(ISNUMBER(K134),CORREL($B$1:B134,$K$1:K134),\"\")","v":{"$error":"#N/A"}},{"$f":"Sheet3!U134","v":1.3690649577628895E-2},{"$f":"IF(ISNUMBER(M134),CORREL($B$1:B134,$M$1:M134),\"\")","v":{"$error":"#N/A"}},{"$f":"Sheet3!W134","v":-1.4446043165467626E-2},{"$f":"IF(ISNUMBER(O134),CORREL($B$1:B134,$O$1:O134),\"\")","v":{"$error":"#N/A"}},{"$f":"Sheet3!Y134","v":6.8640567738933161E-3},{"$f":"IF(ISNUMBER(Q134),CORREL($B$1:B134,$Q$1:Q134),\"\")","v":{"$error":"#N/A"}},{"$f":"Sheet3!AA134","v":-5.8624058853957127E-3},{"$f":"IF(ISNUMBER(S134),CORREL($B$1:B134,$S$1:S134),\"\")","v":{"$error":"#N/A"}}]
[null,{"$f":"Sheet3!I135","v":{"$error":"#N/A"}},{"$f":"Sheet3!K135","v":-1.2066191680073547E-3},{"$f":"IF(ISNUMBER(C135),CORREL($B$1:B135,$C$1:C135),\"\")","v":{"$error":"#N/A"}},{"$f":"Sheet3!M135","v":-7.986764789776941E-4},{"$f":"IF(ISNUMBER(E135),CORREL($B$1:B135,$E$1:E135),\"\")","v":{"$error":"#N/A"}},{"$f":"Sheet3!O135","v":-9.6810933940774484E-4},{"$f":"IF(ISNUMBER(G135),CORREL($B$1:B135,$G$1:G135),\"\")","v":{"$error":"#N/A"}},{"$f":"Sheet3!Q135","v":1.3837850252641249E-2},{"$f":"IF(ISNUMBER(I135),CORREL($B$1:B135,$I$1:I135),\"\")","v":{"$error":"#N/A"}},{"$f":"Sheet3!S135","v":-6.7489616982002766E-3},{"$f":"IF(ISNUMBER(K135),CORREL($B$1:B135,$K$1:K135),\"\")","v":{"$error":"#N/A"}},{"$f":"Sheet3!U135","v":1.3574133411010778E-2},{"$f":"IF(ISNUMBER(M135),CORREL($B$1:B135,$M$1:M135),\"\")","v":{"$error":"#N/A"}},{"$f":"Sheet3!W135","v":-1.358273381294964E-2},{"$f":"IF(ISNUMBER(O135),CORREL($B$1:B135,$O$1:O135),\"\")","v":{"$error":"#N/A"}},{"$f":"Sheet3!Y135","v":6.6313768832528645E-3},{"$f":"IF(ISNUMBER(Q135),CORREL($B$1:B135,$Q$1:Q135),\"\")","v":{"$error":"#N/A"}},{"$f":"Sheet3!AA135","v":-6.3796769929306283E-3},{"$f":"IF(ISNUMBER(S135),CORREL($B$1:B135,$S$1:S135),\"\")","v":{"$error":"#N/A"}}]
[null,{"$f":"Sheet3!I136","v":{"$error":"#N/A"}},{"$f":"Sheet3!K136","v":-1.2066191680073547E-3},{"$f":"IF(ISNUMBER(C136),CORREL($B$1:B136,$C$1:C136),\"\")","v":{"$error":"#N/A"}},{"$f":"Sheet3!M136","v":-8.5572479890467222E-4},{"$f":"IF(ISNUMBER(E136),CORREL($B$1:B136,$E$1:E136),\"\")","v":{"$error":"#N/A"}},{"$f":"Sheet3!O136","v":-3.0751708428246012E-3},{"$f":"IF(ISNUMBER(G136),CORREL($B$1:B136,$G$1:G136),\"\")","v":{"$error":"#N/A"}},{"$f":"Sheet3!Q136","v":1.3952687184198438E-2},{"$f":"IF(ISNUMBER(I136),CORREL($B$1:B136,$I$1:I136),\"\")","v":{"$error":"#N/A"}},{"$f":"Sheet3!S136","v":-6.4028610982925704E-3},{"$f":"IF(ISNUMBER(K136),CORREL($B$1:B136,$K$1:K136),\"\")","v":{"$error":"#N/A"}},{"$f":"Sheet3!U136","v":1.3690649577628895E-2},{"$f":"IF(ISNUMBER(M136),CORREL($B$1:B136,$M$1:M136),\"\")","v":{"$error":"#N/A"}},{"$f":"Sheet3!W136","v":-1.456115107913669E-2},{"$f":"IF(ISNUMBER(O136),CORREL($B$1:B136,$O$1:O136),\"\")","v":{"$error":"#N/A"}},{"$f":"Sheet3!Y136","v":6.5150369379326388E-3},{"$f":"IF(ISNUMBER(Q136),CORREL($B$1:B136,$Q$1:Q136),\"\")","v":{"$error":"#N/A"}},{"$f":"Sheet3!AA136","v":-6.1497787229151104E-3},{"$f":"IF(ISNUMBER(S136),CORREL($B$1:B136,$S$1:S136),\"\")","v":{"$error":"#N/A"}}]
[null,{"$f":"Sheet3!I137","v":{"$error":"#N/A"}},{"$f":"Sheet3!K137","v":-2.12594805791772E-3},{"$f":"IF(ISNUMBER(C137),CORREL($B$1:B137,$C$1:C137),\"\")","v":{"$error":"#N/A"}},{"$f":"Sheet3!M137","v":-2.6242227166409951E-3},{"$f":"IF(ISNUMBER(E137),CORREL($B$1:B137,$E$1:E137),\"\")","v":{"$error":"#N/A"}},{"$f":"Sheet3!O137","v":-2.96127562642369E-3},{"$f":"IF(ISNUMBER(G137),CORREL($B$1:B137,$G$1:G137),\"\")","v":{"$error":"#N/A"}},{"$f":"Sheet3!Q137","v":1.4010105649977032E-2},{"$f":"IF(ISNUMBER(I137),CORREL($B$1:B137,$I$1:I137),\"\")","v":{"$error":"#N/A"}},{"$f":"Sheet3!S137","v":-5.4222427318874021E-3},{"$f":"IF(ISNUMBER(K137),CORREL($B$1:B137,$K$1:K137),\"\")","v":{"$error":"#N/A"}},{"$f":"Sheet3!U137","v":1.3981939994174191E-2},{"$f":"IF(ISNUMBER(M137),CORREL($B$1:B137,$M$1:M137),\"\")","v":{"$error":"#N/A"}},{"$f":"Sheet3!W137","v":-1.4273381294964029E-2},{"$f":"IF(ISNUMBER(O137),CORREL($B$1:B137,$O$1:O137),\"\")","v":{"$error":"#N/A"}},{"$f":"Sheet3!Y137","v":7.0385666918736552E-3},{"$f":"IF(ISNUMBER(Q137),CORREL($B$1:B137,$Q$1:Q137),\"\")","v":{"$error":"#N/A"}},{"$f":"Sheet3!AA137","v":-7.759066613023737E-3},{"$f":"IF(ISNUMBER(S137),CORREL($B$1:B137,$S$1:S137),\"\")","v":{"$error":"#N/A"}}]
[null,{"$f":"Sheet3!I138","v":{"$error":"#N/A"}},{"$f":"Sheet3!K138","v":-1.0342450011491611E-3},{"$f":"IF(ISNUMBER(C138),CORREL($B$1:B138,$C$1:C138),\"\")","v":{"$error":"#N/A"}},{"$f":"Sheet3!M138","v":-3.08060927605682E-3},{"$f":"IF(ISNUMBER(E138),CORREL($B$1:B138,$E$1:E138),\"\")","v":{"$error":"#N/A"}},{"$f":"Sheet3!O138","v":-2.5056947608200456E-3},{"$f":"IF(ISNUMBER(G138),CORREL($B$1:B138,$G$1:G138),\"\")","v":{"$error":"#N/A"}},{"$f":"Sheet3!Q138","v":1.4412034910427193E-2},{"$f":"IF(ISNUMBER(I138),CORREL($B$1:B138,$I$1:I138),\"\")","v":{"$error":"#N/A"}},{"$f":"Sheet3!S138","v":-3.9224734656206741E-3},{"$f":"IF(ISNUMBER(K138),CORREL($B$1:B138,$K$1:K138),\"\")","v":{"$error":"#N/A"}},{"$f":"Sheet3!U138","v":1.3748907660937955E-2},{"$f":"IF(ISNUMBER(M138),CORREL($B$1:B138,$M$1:M138),\"\")","v":{"$error":"#N/A"}},{"$f":"Sheet3!W138","v":-1.553956834532374E-2},{"$f":"IF(ISNUMBER(O138),CORREL($B$1:B138,$O$1:O138),\"\")","v":{"$error":"#N/A"}},{"$f":"Sheet3!Y138","v":6.8058868012332036E-3},{"$f":"IF(ISNUMBER(Q138),CORREL($B$1:B138,$Q$1:Q138),\"\")","v":{"$error":"#N/A"}},{"$f":"Sheet3!AA138","v":-8.2763377205586526E-3},{"$f":"IF(ISNUMBER(S138),CORREL($B$1:B138,$S$1:S138),\"\")","v":{"$error":"#N/A"}}]
[null,{"$f":"Sheet3!I139","v":{"$error":"#N/A"}},{"$f":"Sheet3!K139","v":-4.5966444495518271E-4},{"$f":"IF(ISNUMBER(C139),CORREL($B$1:B139,$C$1:C139),\"\")","v":{"$error":"#N/A"}},{"$f":"Sheet3!M139","v":-3.08060927605682E-3},{"$f":"IF(ISNUMBER(E139),CORREL($B$1:B139,$E$1:E139),\"\")","v":{"$error":"#N/A"}},{"$f":"Sheet3!O139","v":-1.8792710706150341E-3},{"$f":"IF(ISNUMBER(G139),CORREL($B$1:B139,$G$1:G139),\"\")","v":{"$error":"#N/A"}},{"$f":"Sheet3!Q139","v":1.4067524115755627E-2},{"$f":"IF(ISNUMBER(I139),CORREL($B$1:B139,$I$1:I139),\"\")","v":{"$error":"#N/A"}},{"$f":"Sheet3!S139","v":-1.961236732810337E-3},{"$f":"IF(ISNUMBER(K139),CORREL($B$1:B139,$K$1:K139),\"\")","v":{"$error":"#N/A"}},{"$f":"Sheet3!U139","v":1.3807165744247014E-2},{"$f":"IF(ISNUMBER(M139),CORREL($B$1:B139,$M$1:M139),\"\")","v":{"$error":"#N/A"}},{"$f":"Sheet3!W139","v":-1.4330935251798561E-2},{"$f":"IF(ISNUMBER(O139),CORREL($B$1:B139,$O$1:O139),\"\")","v":{"$error":"#N/A"}},{"$f":"Sheet3!Y139","v":8.1437961724157987E-3},{"$f":"IF(ISNUMBER(Q139),CORREL($B$1:B139,$Q$1:Q139),\"\")","v":{"$error":"#N/A"}},{"$f":"Sheet3!AA139","v":-8.7361342605896883E-3},{"$f":"IF(ISNUMBER(S139),CORREL($B$1:B139,$S$1:S139),\"\")","v":{"$error":"#N/A"}}]
[null,{"$f":"Sheet3!I140","v":{"$error":"#N/A"}},{"$f":"Sheet3!K140","v":-4.5966444495518271E-4},{"$f":"IF(ISNUMBER(C140),CORREL($B$1:B140,$C$1:C140),\"\")","v":{"$error":"#N/A"}},{"$f":"Sheet3!M140","v":-2.6812710365679729E-3},{"$f":"IF(ISNUMBER(E140),CORREL($B$1:B140,$E$1:E140),\"\")","v":{"$error":"#N/A"}},{"$f":"Sheet3!O140","v":-2.7904328018223236E-3},{"$f":"IF(ISNUMBER(G140),CORREL($B$1:B140,$G$1:G140),\"\")","v":{"$error":"#N/A"}},{"$f":"Sheet3!Q140","v":1.3780431786862656E-2},{"$f":"IF(ISNUMBER(I140),CORREL($B$1:B140,$I$1:I140),\"\")","v":{"$error":"#N/A"}},{"$f":"Sheet3!S140","v":-7.4988463313336413E-4},{"$f":"IF(ISNUMBER(K140),CORREL($B$1:B140,$K$1:K140),\"\")","v":{"$error":"#N/A"}},{"$f":"Sheet3!U140","v":1.4389746577337605E-2},{"$f":"IF(ISNUMBER(M140),CORREL($B$1:B140,$M$1:M140),\"\")","v":{"$error":"#N/A"}},{"$f":"Sheet3!W140","v":-1.40431654676259E-2},{"$f":"IF(ISNUMBER(O140),CORREL($B$1:B140,$O$1:O140),\"\")","v":{"$error":"#N/A"}},{"$f":"Sheet3!Y140","v":8.3183060903961378E-3},{"$f":"IF(ISNUMBER(Q140),CORREL($B$1:B140,$Q$1:Q140),\"\")","v":{"$error":"#N/A"}},{"$f":"Sheet3!AA140","v":-7.759066613023737E-3},{"$f":"IF(ISNUMBER(S140),CORREL($B$1:B140,$S$1:S140),\"\")","v":{"$error":"#N/A"}}]
[null,{"$f":"Sheet3!I141","v":{"$error":"#N/A"}},{"$f":"Sheet3!K141","v":1.1491611123879568E-4},{"$f":"IF(ISNUMBER(C141),CORREL($B$1:B141,$C$1:C141),\"\")","v":{"$error":"#N/A"}},{"$f":"Sheet3!M141","v":-2.3960294369330822E-3},{"$f":"IF(ISNUMBER(E141),CORREL($B$1:B141,$E$1:E141),\"\")","v":{"$error":"#N/A"}},{"$f":"Sheet3!O141","v":-2.7904328018223236E-3},{"$f":"IF(ISNUMBER(G141),CORREL($B$1:B141,$G$1:G141),\"\")","v":{"$error":"#N/A"}},{"$f":"Sheet3!Q141","v":1.3895268718419843E-2},{"$f":"IF(ISNUMBER(I141),CORREL($B$1:B141,$I$1:I141),\"\")","v":{"$error":"#N/A"}},{"$f":"Sheet3!S141","v":-1.0959852330410707E-3},{"$f":"IF(ISNUMBER(K141),CORREL($B$1:B141,$K$1:K141),\"\")","v":{"$error":"#N/A"}},{"$f":"Sheet3!U141","v":1.5088843577046315E-2},{"$f":"IF(ISNUMBER(M141),CORREL($B$1:B141,$M$1:M141),\"\")","v":{"$error":"#N/A"}},{"$f":"Sheet3!W141","v":-1.456115107913669E-2},{"$f":"IF(ISNUMBER(O141),CORREL($B$1:B141,$O$1:O141),\"\")","v":{"$error":"#N/A"}},{"$f":"Sheet3!Y141","v":8.8418358443371533E-3},{"$f":"IF(ISNUMBER(Q141),CORREL($B$1:B141,$Q$1:Q141),\"\")","v":{"$error":"#N/A"}},{"$f":"Sheet3!AA141","v":-7.874015748031496E-3},{"$f":"IF(ISNUMBER(S141),CORREL($B$1:B141,$S$1:S141),\"\")","v":{"$error":"#N/A"}}]
[null,{"$f":"Sheet3!I142","v":{"$error":"#N/A"}},{"$f":"Sheet3!K142","v":-1.1491611123879568E-4},{"$f":"IF(ISNUMBER(C142),CORREL($B$1:B142,$C$1:C142),\"\")","v":{"$error":"#N/A"}},{"$f":"Sheet3!M142","v":-3.5369958354726453E-3},{"$f":"IF(ISNUMBER(E142),CORREL($B$1:B142,$E$1:E142),\"\")","v":{"$error":"#N/A"}},{"$f":"Sheet3!O142","v":-1.9931662870159455E-3},{"$f":"IF(ISNUMBER(G142),CORREL($B$1:B142,$G$1:G142),\"\")","v":{"$error":"#N/A"}},{"$f":"Sheet3!Q142","v":1.3263665594855305E-2},{"$f":"IF(ISNUMBER(I142),CORREL($B$1:B142,$I$1:I142),\"\")","v":{"$error":"#N/A"}},{"$f":"Sheet3!S142","v":-6.9220119981541306E-4},{"$f":"IF(ISNUMBER(K142),CORREL($B$1:B142,$K$1:K142),\"\")","v":{"$error":"#N/A"}},{"$f":"Sheet3!U142","v":1.4855811243810078E-2},{"$f":"IF(ISNUMBER(M142),CORREL($B$1:B142,$M$1:M142),\"\")","v":{"$error":"#N/A"}},{"$f":"Sheet3!W142","v":-1.3928057553956834E-2},{"$f":"IF(ISNUMBER(O142),CORREL($B$1:B142,$O$1:O142),\"\")","v":{"$error":"#N/A"}},{"$f":"Sheet3!Y142","v":1.0703274969460764E-2},{"$f":"IF(ISNUMBER(Q142),CORREL($B$1:B142,$Q$1:Q142),\"\")","v":{"$error":"#N/A"}},{"$f":"Sheet3!AA142","v":-7.5866429105120982E-3},{"$f":"IF(ISNUMBER(S142),CORREL($B$1:B142,$S$1:S142),\"\")","v":{"$error":"#N/A"}}]
[null,{"$f":"Sheet3!I143","v":{"$error":"#N/A"}},{"$f":"Sheet3!K143","v":-1.3215352792461503E-3},{"$f":"IF(ISNUMBER(C143),CORREL($B$1:B143,$C$1:C143),\"\")","v":{"$error":"#N/A"}},{"$f":"Sheet3!M143","v":-2.9094643162758858E-3},{"$f":"IF(ISNUMBER(E143),CORREL($B$1:B143,$E$1:E143),\"\")","v":{"$error":"#N/A"}},{"$f":"Sheet3!O143","v":-2.0501138952164011E-3},{"$f":"IF(ISNUMBER(G143),CORREL($B$1:B143,$G$1:G143),\"\")","v":{"$error":"#N/A"}},{"$f":"Sheet3!Q143","v":1.3321084060633899E-2},{"$f":"IF(ISNUMBER(I143),CORREL($B$1:B143,$I$1:I143),\"\")","v":{"$error":"#N/A"}},{"$f":"Sheet3!S143","v":-2.7111213659437011E-3},{"$f":"IF(ISNUMBER(K143),CORREL($B$1:B143,$K$1:K143),\"\")","v":{"$error":"#N/A"}},{"$f":"Sheet3!U143","v":1.4389746577337605E-2},{"$f":"IF(ISNUMBER(M143),CORREL($B$1:B143,$M$1:M143),\"\")","v":{"$error":"#N/A"}},{"$f":"Sheet3!W143","v":-1.4676258992805755E-2},{"$f":"IF(ISNUMBER(O143),CORREL($B$1:B143,$O$1:O143),\"\")","v":{"$error":"#N/A"}},{"$f":"Sheet3!Y143","v":1.0470595078820312E-2},{"$f":"IF(ISNUMBER(Q143),CORREL($B$1:B143,$Q$1:Q143),\"\")","v":{"$error":"#N/A"}},{"$f":"Sheet3!AA143","v":-6.2072532904189895E-3},{"$f":"IF(ISNUMBER(S143),CORREL($B$1:B143,$S$1:S143),\"\")","v":{"$error":"#N/A"}}]
[null,{"$f":"Sheet3!I144","v":{"$error":"#N/A"}},{"$f":"Sheet3!K144","v":-1.1491611123879567E-3},{"$f":"IF(ISNUMBER(C144),CORREL($B$1:B144,$C$1:C144),\"\")","v":{"$error":"#N/A"}},{"$f":"Sheet3!M144","v":-3.0235609561298422E-3},{"$f":"IF(ISNUMBER(E144),CORREL($B$1:B144,$E$1:E144),\"\")","v":{"$error":"#N/A"}},{"$f":"Sheet3!O144","v":-1.1958997722095672E-3},{"$f":"IF(ISNUMBER(G144),CORREL($B$1:B144,$G$1:G144),\"\")","v":{"$error":"#N/A"}},{"$f":"Sheet3!Q144","v":1.2976573265962334E-2},{"$f":"IF(ISNUMBER(I144),CORREL($B$1:B144,$I$1:I144),\"\")","v":{"$error":"#N/A"}},{"$f":"Sheet3!S144","v":-9.8061836640516852E-4},{"$f":"IF(ISNUMBER(K144),CORREL($B$1:B144,$K$1:K144),\"\")","v":{"$error":"#N/A"}},{"$f":"Sheet3!U144","v":1.4855811243810078E-2},{"$f":"IF(ISNUMBER(M144),CORREL($B$1:B144,$M$1:M144),\"\")","v":{"$error":"#N/A"}},{"$f":"Sheet3!W144","v":-1.5251798561151079E-2},{"$f":"IF(ISNUMBER(O144),CORREL($B$1:B144,$O$1:O144),\"\")","v":{"$error":"#N/A"}},{"$f":"Sheet3!Y144","v":9.4235355709382813E-3},{"$f":"IF(ISNUMBER(Q144),CORREL($B$1:B144,$Q$1:Q144),\"\")","v":{"$error":"#N/A"}},{"$f":"Sheet3!AA144","v":-6.0348295879073506E-3},{"$f":"IF(ISNUMBER(S144),CORREL($B$1:B144,$S$1:S144),\"\")","v":{"$error":"#N/A"}}]
[null,{"$f":"Sheet3!I145","v":{"$error":"#N/A"}},{"$f":"Sheet3!K145","v":-5.1712250057458055E-4},{"$f":"IF(ISNUMBER(C145),CORREL($B$1:B145,$C$1:C145),\"\")","v":{"$error":"#N/A"}},{"$f":"Sheet3!M145","v":-2.7383193564949511E-3},{"$f":"IF(ISNUMBER(E145),CORREL($B$1:B145,$E$1:E145),\"\")","v":{"$error":"#N/A"}},{"$f":"Sheet3!O145","v":-5.6947608200455578E-4},{"$f":"IF(ISNUMBER(G145),CORREL($B$1:B145,$G$1:G145),\"\")","v":{"$error":"#N/A"}},{"$f":"Sheet3!Q145","v":1.1828203950390446E-2},{"$f":"IF(ISNUMBER(I145),CORREL($B$1:B145,$I$1:I145),\"\")","v":{"$error":"#N/A"}},{"$f":"Sheet3!S145","v":-5.7683433317951084E-5},{"$f":"IF(ISNUMBER(K145),CORREL($B$1:B145,$K$1:K145),\"\")","v":{"$error":"#N/A"}},{"$f":"Sheet3!U145","v":1.5205359743664434E-2},{"$f":"IF(ISNUMBER(M145),CORREL($B$1:B145,$M$1:M145),\"\")","v":{"$error":"#N/A"}},{"$f":"Sheet3!W145","v":-1.4100719424460431E-2},{"$f":"IF(ISNUMBER(O145),CORREL($B$1:B145,$O$1:O145),\"\")","v":{"$error":"#N/A"}},{"$f":"Sheet3!Y145","v":1.0237915188179861E-2},{"$f":"IF(ISNUMBER(Q145),CORREL($B$1:B145,$Q$1:Q145),\"\")","v":{"$error":"#N/A"}},{"$f":"Sheet3!AA145","v":-4.9428128053336396E-3},{"$f":"IF(ISNUMBER(S145),CORREL($B$1:B145,$S$1:S145),\"\")","v":{"$error":"#N/A"}}]
[null,{"$f":"Sheet3!I146","v":{"$error":"#N/A"}},{"$f":"Sheet3!K146","v":-4.5966444495518271E-4},{"$f":"IF(ISNUMBER(C146),CORREL($B$1:B146,$C$1:C146),\"\")","v":{"$error":"#N/A"}},{"$f":"Sheet3!M146","v":-2.1107878372981915E-3},{"$f":"IF(ISNUMBER(E146),CORREL($B$1:B146,$E$1:E146),\"\")","v":{"$error":"#N/A"}},{"$f":"Sheet3!O146","v":-4.5558086560364467E-4},{"$f":"IF(ISNUMBER(G146),CORREL($B$1:B146,$G$1:G146),\"\")","v":{"$error":"#N/A"}},{"$f":"Sheet3!Q146","v":1.2057877813504822E-2},{"$f":"IF(ISNUMBER(I146),CORREL($B$1:B146,$I$1:I146),\"\")","v":{"$error":"#N/A"}},{"$f":"Sheet3!S146","v":6.9220119981541306E-4},{"$f":"IF(ISNUMBER(K146),CORREL($B$1:B146,$K$1:K146),\"\")","v":{"$error":"#N/A"}},{"$f":"Sheet3!U146","v":1.4739295077191961E-2},{"$f":"IF(ISNUMBER(M146),CORREL($B$1:B146,$M$1:M146),\"\")","v":{"$error":"#N/A"}},{"$f":"Sheet3!W146","v":-1.3640287769784173E-2},{"$f":"IF(ISNUMBER(O146),CORREL($B$1:B146,$O$1:O146),\"\")","v":{"$error":"#N/A"}},{"$f":"Sheet3!Y146","v":1.0528765051480427E-2},{"$f":"IF(ISNUMBER(Q146),CORREL($B$1:B146,$Q$1:Q146),\"\")","v":{"$error":"#N/A"}},{"$f":"Sheet3!AA146","v":-3.2185757802172541E-3},{"$f":"IF(ISNUMBER(S146),CORREL($B$1:B146,$S$1:S146),\"\")","v":{"$error":"#N/A"}}]
[null,{"$f":"Sheet3!I147","v":{"$error":"#N/A"}},{"$f":"Sheet3!K147","v":4.5966444495518271E-4},{"$f":"IF(ISNUMBER(C147),CORREL($B$1:B147,$C$1:C147),\"\")","v":{"$error":"#N/A"}},{"$f":"Sheet3!M147","v":-1.6544012778823664E-3},{"$f":"IF(ISNUMBER(E147),CORREL($B$1:B147,$E$1:E147),\"\")","v":{"$error":"#N/A"}},{"$f":"Sheet3!O147","v":-4.5558086560364467E-4},{"$f":"IF(ISNUMBER(G147),CORREL($B$1:B147,$G$1:G147),\"\")","v":{"$error":"#N/A"}},{"$f":"Sheet3!Q147","v":1.2287551676619201E-2},{"$f":"IF(ISNUMBER(I147),CORREL($B$1:B147,$I$1:I147),\"\")","v":{"$error":"#N/A"}},{"$f":"Sheet3!S147","v":2.076603599446239E-3},{"$f":"IF(ISNUMBER(K147),CORREL($B$1:B147,$K$1:K147),\"\")","v":{"$error":"#N/A"}},{"$f":"Sheet3!U147","v":1.4506262743955724E-2},{"$f":"IF(ISNUMBER(M147),CORREL($B$1:B147,$M$1:M147),\"\")","v":{"$error":"#N/A"}},{"$f":"Sheet3!W147","v":-1.502158273381295E-2},{"$f":"IF(ISNUMBER(O147),CORREL($B$1:B147,$O$1:O147),\"\")","v":{"$error":"#N/A"}},{"$f":"Sheet3!Y147","v":1.04124251061602E-2},{"$f":"IF(ISNUMBER(Q147),CORREL($B$1:B147,$Q$1:Q147),\"\")","v":{"$error":"#N/A"}},{"$f":"Sheet3!AA147","v":-3.6208977527444107E-3},{"$f":"IF(ISNUMBER(S147),CORREL($B$1:B147,$S$1:S147),\"\")","v":{"$error":"#N/A"}}]
[null,{"$f":"Sheet3!I148","v":{"$error":"#N/A"}},{"$f":"Sheet3!K148","v":1.0342450011491611E-3},{"$f":"IF(ISNUMBER(C148),CORREL($B$1:B148,$C$1:C148),\"\")","v":{"$error":"#N/A"}},{"$f":"Sheet3!M148","v":-2.0537395173712133E-3},{"$f":"IF(ISNUMBER(E148),CORREL($B$1:B148,$E$1:E148),\"\")","v":{"$error":"#N/A"}},{"$f":"Sheet3!O148","v":5.6947608200455584E-5},{"$f":"IF(ISNUMBER(G148),CORREL($B$1:B148,$G$1:G148),\"\")","v":{"$error":"#N/A"}},{"$f":"Sheet3!Q148","v":1.2172714745062011E-2},{"$f":"IF(ISNUMBER(I148),CORREL($B$1:B148,$I$1:I148),\"\")","v":{"$error":"#N/A"}},{"$f":"Sheet3!S148","v":2.826488232579603E-3},{"$f":"IF(ISNUMBER(K148),CORREL($B$1:B148,$K$1:K148),\"\")","v":{"$error":"#N/A"}},{"$f":"Sheet3!U148","v":1.4448004660646665E-2},{"$f":"IF(ISNUMBER(M148),CORREL($B$1:B148,$M$1:M148),\"\")","v":{"$error":"#N/A"}},{"$f":"Sheet3!W148","v":-1.3755395683453237E-2},{"$f":"IF(ISNUMBER(O148),CORREL($B$1:B148,$O$1:O148),\"\")","v":{"$error":"#N/A"}},{"$f":"Sheet3!Y148","v":1.0877784887441103E-2},{"$f":"IF(ISNUMBER(Q148),CORREL($B$1:B148,$Q$1:Q148),\"\")","v":{"$error":"#N/A"}},{"$f":"Sheet3!AA148","v":-5.4026093453646762E-3},{"$f":"IF(ISNUMBER(S148),CORREL($B$1:B148,$S$1:S148),\"\")","v":{"$error":"#N/A"}}]
[null,{"$f":"Sheet3!I149","v":{"$error":"#N/A"}},{"$f":"Sheet3!K149","v":5.7458055619397834E-4},{"$f":"IF(ISNUMBER(C149),CORREL($B$1:B149,$C$1:C149),\"\")","v":{"$error":"#N/A"}},{"$f":"Sheet3!M149","v":-3.0235609561298422E-3},{"$f":"IF(ISNUMBER(E149),CORREL($B$1:B149,$E$1:E149),\"\")","v":{"$error":"#N/A"}},{"$f":"Sheet3!O149","v":5.1252847380410028E-4},{"$f":"IF(ISNUMBER(G149),CORREL($B$1:B149,$G$1:G149),\"\")","v":{"$error":"#N/A"}},{"$f":"Sheet3!Q149","v":1.1713367018833257E-2},{"$f":"IF(ISNUMBER(I149),CORREL($B$1:B149,$I$1:I149),\"\")","v":{"$error":"#N/A"}},{"$f":"Sheet3!S149","v":1.4420858329487771E-3},{"$f":"IF(ISNUMBER(K149),CORREL($B$1:B149,$K$1:K149),\"\")","v":{"$error":"#N/A"}},{"$f":"Sheet3!U149","v":1.4331488494028547E-2},{"$f":"IF(ISNUMBER(M149),CORREL($B$1:B149,$M$1:M149),\"\")","v":{"$error":"#N/A"}},{"$f":"Sheet3!W149","v":-1.3410071942446044E-2},{"$f":"IF(ISNUMBER(O149),CORREL($B$1:B149,$O$1:O149),\"\")","v":{"$error":"#N/A"}},{"$f":"Sheet3!Y149","v":1.1284974696061894E-2},{"$f":"IF(ISNUMBER(Q149),CORREL($B$1:B149,$Q$1:Q149),\"\")","v":{"$error":"#N/A"}},{"$f":"Sheet3!AA149","v":-5.2876602103569172E-3},{"$f":"IF(ISNUMBER(S149),CORREL($B$1:B149,$S$1:S149),\"\")","v":{"$error":"#N/A"}}]
[null,{"$f":"Sheet3!I150","v":{"$error":"#N/A"}},{"$f":"Sheet3!K150","v":5.1712250057458055E-4},{"$f":"IF(ISNUMBER(C150),CORREL($B$1:B150,$C$1:C150),\"\")","v":{"$error":"#N/A"}},{"$f":"Sheet3!M150","v":-2.8524159963489075E-3},{"$f":"IF(ISNUMBER(E150),CORREL($B$1:B150,$E$1:E150),\"\")","v":{"$error":"#N/A"}},{"$f":"Sheet3!O150","v":1.4236902050113896E-3},{"$f":"IF(ISNUMBER(G150),CORREL($B$1:B150,$G$1:G150),\"\")","v":{"$error":"#N/A"}},{"$f":"Sheet3!Q150","v":1.1483693155718878E-2},{"$f":"IF(ISNUMBER(I150),CORREL($B$1:B150,$I$1:I150),\"\")","v":{"$error":"#N/A"}},{"$f":"Sheet3!S150","v":2.3650207660359944E-3},{"$f":"IF(ISNUMBER(K150),CORREL($B$1:B150,$K$1:K150),\"\")","v":{"$error":"#N/A"}},{"$f":"Sheet3!U150","v":1.5147101660355374E-2},{"$f":"IF(ISNUMBER(M150),CORREL($B$1:B150,$M$1:M150),\"\")","v":{"$error":"#N/A"}},{"$f":"Sheet3!W150","v":-1.4273381294964029E-2},{"$f":"IF(ISNUMBER(O150),CORREL($B$1:B150,$O$1:O150),\"\")","v":{"$error":"#N/A"}},{"$f":"Sheet3!Y150","v":1.1110464778081554E-2},{"$f":"IF(ISNUMBER(Q150),CORREL($B$1:B150,$Q$1:Q150),\"\")","v":{"$error":"#N/A"}},{"$f":"Sheet3!AA150","v":-4.1381688602793263E-3},{"$f":"IF(ISNUMBER(S150),CORREL($B$1:B150,$S$1:S150),\"\")","v":{"$error":"#N/A"}}]
[null,{"$f":"Sheet3!I151","v":{"$error":"#N/A"}},{"$f":"Sheet3!K151","v":3.4474833371638702E-4},{"$f":"IF(ISNUMBER(C151),CORREL($B$1:B151,$C$1:C151),\"\")","v":{"$error":"#N/A"}},{"$f":"Sheet3!M151","v":-2.7383193564949511E-3},{"$f":"IF(ISNUMBER(E151),CORREL($B$1:B151,$E$1:E151),\"\")","v":{"$error":"#N/A"}},{"$f":"Sheet3!O151","v":1.1958997722095672E-3},{"$f":"IF(ISNUMBER(G151),CORREL($B$1:B151,$G$1:G151),\"\")","v":{"$error":"#N/A"}},{"$f":"Sheet3!Q151","v":1.1426274689940286E-2},{"$f":"IF(ISNUMBER(I151),CORREL($B$1:B151,$I$1:I151),\"\")","v":{"$error":"#N/A"}},{"$f":"Sheet3!S151","v":2.0189201661282878E-3},{"$f":"IF(ISNUMBER(K151),CORREL($B$1:B151,$K$1:K151),\"\")","v":{"$error":"#N/A"}},{"$f":"Sheet3!U151","v":1.5554908243518788E-2},{"$f":"IF(ISNUMBER(M151),CORREL($B$1:B151,$M$1:M151),\"\")","v":{"$error":"#N/A"}},{"$f":"Sheet3!W151","v":-1.456115107913669E-2},{"$f":"IF(ISNUMBER(O151),CORREL($B$1:B151,$O$1:O151),\"\")","v":{"$error":"#N/A"}},{"$f":"Sheet3!Y151","v":1.1401314641382118E-2},{"$f":"IF(ISNUMBER(Q151),CORREL($B$1:B151,$Q$1:Q151),\"\")","v":{"$error":"#N/A"}},{"$f":"Sheet3!AA151","v":-2.8737283751939765E-3},{"$f":"IF(ISNUMBER(S151),CORREL($B$1:B151,$S$1:S151),\"\")","v":{"$error":"#N/A"}}]
[null,{"$f":"Sheet3!I152","v":{"$error":"#N/A"}},{"$f":"Sheet3!K152","v":-3.4474833371638702E-4},{"$f":"IF(ISNUMBER(C152),CORREL($B$1:B152,$C$1:C152),\"\")","v":{"$error":"#N/A"}},{"$f":"Sheet3!M152","v":-3.4799475155456671E-3},{"$f":"IF(ISNUMBER(E152),CORREL($B$1:B152,$E$1:E152),\"\")","v":{"$error":"#N/A"}},{"$f":"Sheet3!O152","v":9.6810933940774484E-4},{"$f":"IF(ISNUMBER(G152),CORREL($B$1:B152,$G$1:G152),\"\")","v":{"$error":"#N/A"}},{"$f":"Sheet3!Q152","v":1.1024345429490124E-2},{"$f":"IF(ISNUMBER(I152),CORREL($B$1:B152,$I$1:I152),\"\")","v":{"$error":"#N/A"}},{"$f":"Sheet3!S152","v":2.4803876326718968E-3},{"$f":"IF(ISNUMBER(K152),CORREL($B$1:B152,$K$1:K152),\"\")","v":{"$error":"#N/A"}},{"$f":"Sheet3!U152","v":1.5321875910282551E-2},{"$f":"IF(ISNUMBER(M152),CORREL($B$1:B152,$M$1:M152),\"\")","v":{"$error":"#N/A"}},{"$f":"Sheet3!W152","v":-1.4158273381294963E-2},{"$f":"IF(ISNUMBER(O152),CORREL($B$1:B152,$O$1:O152),\"\")","v":{"$error":"#N/A"}},{"$f":"Sheet3!Y152","v":1.163399453202257E-2},{"$f":"IF(ISNUMBER(Q152),CORREL($B$1:B152,$Q$1:Q152),\"\")","v":{"$error":"#N/A"}},{"$f":"Sheet3!AA152","v":-4.2531179952870852E-3},{"$f":"IF(ISNUMBER(S152),CORREL($B$1:B152,$S$1:S152),\"\")","v":{"$error":"#N/A"}}]
[null,{"$f":"Sheet3!I153","v":{"$error":"#N/A"}},{"$f":"Sheet3!K153","v":-1.7237416685819351E-4},{"$f":"IF(ISNUMBER(C153),CORREL($B$1:B153,$C$1:C153),\"\")","v":{"$error":"#N/A"}},{"$f":"Sheet3!M153","v":-2.7383193564949511E-3},{"$f":"IF(ISNUMBER(E153),CORREL($B$1:B153,$E$1:E153),\"\")","v":{"$error":"#N/A"}},{"$f":"Sheet3!O153","v":6.2642369020501139E-4},{"$f":"IF(ISNUMBER(G153),CORREL($B$1:B153,$G$1:G153),\"\")","v":{"$error":"#N/A"}},{"$f":"Sheet3!Q153","v":1.0335323840146991E-2},{"$f":"IF(ISNUMBER(I153),CORREL($B$1:B153,$I$1:I153),\"\")","v":{"$error":"#N/A"}},{"$f":"Sheet3!S153","v":3.1149053991693584E-3},{"$f":"IF(ISNUMBER(K153),CORREL($B$1:B153,$K$1:K153),\"\")","v":{"$error":"#N/A"}},{"$f":"Sheet3!U153","v":1.543839207690067E-2},{"$f":"IF(ISNUMBER(M153),CORREL($B$1:B153,$M$1:M153),\"\")","v":{"$error":"#N/A"}},{"$f":"Sheet3!W153","v":-1.3525179856115108E-2},{"$f":"IF(ISNUMBER(O153),CORREL($B$1:B153,$O$1:O153),\"\")","v":{"$error":"#N/A"}},{"$f":"Sheet3!Y153","v":1.0935954860101215E-2},{"$f":"IF(ISNUMBER(Q153),CORREL($B$1:B153,$Q$1:Q153),\"\")","v":{"$error":"#N/A"}},{"$f":"Sheet3!AA153","v":-2.6438301051784586E-3},{"$f":"IF(ISNUMBER(S153),CORREL($B$1:B153,$S$1:S153),\"\")","v":{"$error":"#N/A"}}]
[null,{"$f":"Sheet3!I154","v":{"$error":"#N/A"}},{"$f":"Sheet3!K154","v":-2.8729027809698917E-4},{"$f":"IF(ISNUMBER(C154),CORREL($B$1:B154,$C$1:C154),\"\")","v":{"$error":"#N/A"}},{"$f":"Sheet3!M154","v":-2.338981117006104E-3},{"$f":"IF(ISNUMBER(E154),CORREL($B$1:B154,$E$1:E154),\"\")","v":{"$error":"#N/A"}},{"$f":"Sheet3!O154","v":7.4031890660592251E-4},{"$f":"IF(ISNUMBER(G154),CORREL($B$1:B154,$G$1:G154),\"\")","v":{"$error":"#N/A"}},{"$f":"Sheet3!Q154","v":1.0392742305925585E-2},{"$f":"IF(ISNUMBER(I154),CORREL($B$1:B154,$I$1:I154),\"\")","v":{"$error":"#N/A"}},{"$f":"Sheet3!S154","v":2.4227041993539456E-3},{"$f":"IF(ISNUMBER(K154),CORREL($B$1:B154,$K$1:K154),\"\")","v":{"$error":"#N/A"}},{"$f":"Sheet3!U154","v":1.549665016020973E-2},{"$f":"IF(ISNUMBER(M154),CORREL($B$1:B154,$M$1:M154),\"\")","v":{"$error":"#N/A"}},{"$f":"Sheet3!W154","v":-1.2431654676258994E-2},{"$f":"IF(ISNUMBER(O154),CORREL($B$1:B154,$O$1:O154),\"\")","v":{"$error":"#N/A"}},{"$f":"Sheet3!Y154","v":1.1866674422663022E-2},{"$f":"IF(ISNUMBER(Q154),CORREL($B$1:B154,$Q$1:Q154),\"\")","v":{"$error":"#N/A"}},{"$f":"Sheet3!AA154","v":-2.6438301051784586E-3},{"$f":"IF(ISNUMBER(S154),CORREL($B$1:B154,$S$1:S154),\"\")","v":{"$error":"#N/A"}}]
[null,{"$f":"Sheet3!I155","v":{"$error":"#N/A"}},{"$f":"Sheet3!K155","v":3.4474833371638702E-4},{"$f":"IF(ISNUMBER(C155),CORREL($B$1:B155,$C$1:C155),\"\")","v":{"$error":"#N/A"}},{"$f":"Sheet3!M155","v":-2.7953676764219293E-3},{"$f":"IF(ISNUMBER(E155),CORREL($B$1:B155,$E$1:E155),\"\")","v":{"$error":"#N/A"}},{"$f":"Sheet3!O155","v":2.8473804100227789E-4},{"$f":"IF(ISNUMBER(G155),CORREL($B$1:B155,$G$1:G155),\"\")","v":{"$error":"#N/A"}},{"$f":"Sheet3!Q155","v":9.9333945796968304E-3},{"$f":"IF(ISNUMBER(I155),CORREL($B$1:B155,$I$1:I155),\"\")","v":{"$error":"#N/A"}},{"$f":"Sheet3!S155","v":2.076603599446239E-3},{"$f":"IF(ISNUMBER(K155),CORREL($B$1:B155,$K$1:K155),\"\")","v":{"$error":"#N/A"}},{"$f":"Sheet3!U155","v":1.5263617826973493E-2},{"$f":"IF(ISNUMBER(M155),CORREL($B$1:B155,$M$1:M155),\"\")","v":{"$error":"#N/A"}},{"$f":"Sheet3!W155","v":-1.3064748201438849E-2},{"$f":"IF(ISNUMBER(O155),CORREL($B$1:B155,$O$1:O155),\"\")","v":{"$error":"#N/A"}},{"$f":"Sheet3!Y155","v":1.2797393985224828E-2},{"$f":"IF(ISNUMBER(Q155),CORREL($B$1:B155,$Q$1:Q155),\"\")","v":{"$error":"#N/A"}},{"$f":"Sheet3!AA155","v":-3.6208977527444107E-3},{"$f":"IF(ISNUMBER(S155),CORREL($B$1:B155,$S$1:S155),\"\")","v":{"$error":"#N/A"}}]
[null,{"$f":"Sheet3!I156","v":{"$error":"#N/A"}},{"$f":"Sheet3!K156","v":-9.7678694552976331E-4},{"$f":"IF(ISNUMBER(C156),CORREL($B$1:B156,$C$1:C156),\"\")","v":{"$error":"#N/A"}},{"$f":"Sheet3!M156","v":-2.224884477152148E-3},{"$f":"IF(ISNUMBER(E156),CORREL($B$1:B156,$E$1:E156),\"\")","v":{"$error":"#N/A"}},{"$f":"Sheet3!O156","v":3.9863325740318906E-4},{"$f":"IF(ISNUMBER(G156),CORREL($B$1:B156,$G$1:G156),\"\")","v":{"$error":"#N/A"}},{"$f":"Sheet3!Q156","v":9.6463022508038593E-3},{"$f":"IF(ISNUMBER(I156),CORREL($B$1:B156,$I$1:I156),\"\")","v":{"$error":"#N/A"}},{"$f":"Sheet3!S156","v":7.4988463313336413E-4},{"$f":"IF(ISNUMBER(K156),CORREL($B$1:B156,$K$1:K156),\"\")","v":{"$error":"#N/A"}},{"$f":"Sheet3!U156","v":1.4739295077191961E-2},{"$f":"IF(ISNUMBER(M156),CORREL($B$1:B156,$M$1:M156),\"\")","v":{"$error":"#N/A"}},{"$f":"Sheet3!W156","v":-1.3179856115107913E-2},{"$f":"IF(ISNUMBER(O156),CORREL($B$1:B156,$O$1:O156),\"\")","v":{"$error":"#N/A"}},{"$f":"Sheet3!Y156","v":1.2797393985224828E-2},{"$f":"IF(ISNUMBER(Q156),CORREL($B$1:B156,$Q$1:Q156),\"\")","v":{"$error":"#N/A"}},{"$f":"Sheet3!AA156","v":-4.8278636703258807E-3},{"$f":"IF(ISNUMBER(S156),CORREL($B$1:B156,$S$1:S156),\"\")","v":{"$error":"#N/A"}}]
[null,{"$f":"Sheet3!I157","v":{"$error":"#N/A"}},{"$f":"Sheet3!K157","v":-1.3789933348655481E-3},{"$f":"IF(ISNUMBER(C157),CORREL($B$1:B157,$C$1:C157),\"\")","v":{"$error":"#N/A"}},{"$f":"Sheet3!M157","v":-1.9396428775172571E-3},{"$f":"IF(ISNUMBER(E157),CORREL($B$1:B157,$E$1:E157),\"\")","v":{"$error":"#N/A"}},{"$f":"Sheet3!O157","v":6.83371298405467E-4},{"$f":"IF(ISNUMBER(G157),CORREL($B$1:B157,$G$1:G157),\"\")","v":{"$error":"#N/A"}},{"$f":"Sheet3!Q157","v":9.8185576481396412E-3},{"$f":"IF(ISNUMBER(I157),CORREL($B$1:B157,$I$1:I157),\"\")","v":{"$error":"#N/A"}},{"$f":"Sheet3!S157","v":5.1915089986155974E-4},{"$f":"IF(ISNUMBER(K157),CORREL($B$1:B157,$K$1:K157),\"\")","v":{"$error":"#N/A"}},{"$f":"Sheet3!U157","v":1.4914069327119138E-2},{"$f":"IF(ISNUMBER(M157),CORREL($B$1:B157,$M$1:M157),\"\")","v":{"$error":"#N/A"}},{"$f":"Sheet3!W157","v":-1.1453237410071943E-2},{"$f":"IF(ISNUMBER(O157),CORREL($B$1:B157,$O$1:O157),\"\")","v":{"$error":"#N/A"}},{"$f":"Sheet3!Y157","v":1.4135303356407423E-2},{"$f":"IF(ISNUMBER(Q157),CORREL($B$1:B157,$Q$1:Q157),\"\")","v":{"$error":"#N/A"}},{"$f":"Sheet3!AA157","v":-5.4026093453646762E-3},{"$f":"IF(ISNUMBER(S157),CORREL($B$1:B157,$S$1:S157),\"\")","v":{"$error":"#N/A"}}]
[null,{"$f":"Sheet3!I158","v":{"$error":"#N/A"}},{"$f":"Sheet3!K158","v":-1.6088255573431394E-3},{"$f":"IF(ISNUMBER(C158),CORREL($B$1:B158,$C$1:C158),\"\")","v":{"$error":"#N/A"}},{"$f":"Sheet3!M158","v":-2.7953676764219293E-3},{"$f":"IF(ISNUMBER(E158),CORREL($B$1:B158,$E$1:E158),\"\")","v":{"$error":"#N/A"}},{"$f":"Sheet3!O158","v":9.6810933940774484E-4},{"$f":"IF(ISNUMBER(G158),CORREL($B$1:B158,$G$1:G158),\"\")","v":{"$error":"#N/A"}},{"$f":"Sheet3!Q158","v":1.0737253100597153E-2},{"$f":"IF(ISNUMBER(I158),CORREL($B$1:B158,$I$1:I158),\"\")","v":{"$error":"#N/A"}},{"$f":"Sheet3!S158","v":9.8061836640516852E-4},{"$f":"IF(ISNUMBER(K158),CORREL($B$1:B158,$K$1:K158),\"\")","v":{"$error":"#N/A"}},{"$f":"Sheet3!U158","v":1.4914069327119138E-2},{"$f":"IF(ISNUMBER(M158),CORREL($B$1:B158,$M$1:M158),\"\")","v":{"$error":"#N/A"}},{"$f":"Sheet3!W158","v":-1.2028776978417267E-2},{"$f":"IF(ISNUMBER(O158),CORREL($B$1:B158,$O$1:O158),\"\")","v":{"$error":"#N/A"}},{"$f":"Sheet3!Y158","v":1.4309813274387762E-2},{"$f":"IF(ISNUMBER(Q158),CORREL($B$1:B158,$Q$1:Q158),\"\")","v":{"$error":"#N/A"}},{"$f":"Sheet3!AA158","v":-4.4830162653026039E-3},{"$f":"IF(ISNUMBER(S158),CORREL($B$1:B158,$S$1:S158),\"\")","v":{"$error":"#N/A"}}]
[null,{"$f":"Sheet3!I159","v":{"$error":"#N/A"}},{"$f":"Sheet3!K159","v":-1.1491611123879567E-3},{"$f":"IF(ISNUMBER(C159),CORREL($B$1:B159,$C$1:C159),\"\")","v":{"$error":"#N/A"}},{"$f":"Sheet3!M159","v":-2.3960294369330822E-3},{"$f":"IF(ISNUMBER(E159),CORREL($B$1:B159,$E$1:E159),\"\")","v":{"$error":"#N/A"}},{"$f":"Sheet3!O159","v":1.082004555808656E-3},{"$f":"IF(ISNUMBER(G159),CORREL($B$1:B159,$G$1:G159),\"\")","v":{"$error":"#N/A"}},{"$f":"Sheet3!Q159","v":1.1311437758383096E-2},{"$f":"IF(ISNUMBER(I159),CORREL($B$1:B159,$I$1:I159),\"\")","v":{"$error":"#N/A"}},{"$f":"Sheet3!S159","v":1.3267189663128749E-3},{"$f":"IF(ISNUMBER(K159),CORREL($B$1:B159,$K$1:K159),\"\")","v":{"$error":"#N/A"}},{"$f":"Sheet3!U159","v":1.549665016020973E-2},{"$f":"IF(ISNUMBER(M159),CORREL($B$1:B159,$M$1:M159),\"\")","v":{"$error":"#N/A"}},{"$f":"Sheet3!W159","v":-1.3007194244604317E-2},{"$f":"IF(ISNUMBER(O159),CORREL($B$1:B159,$O$1:O159),\"\")","v":{"$error":"#N/A"}},{"$f":"Sheet3!Y159","v":1.5240532836949566E-2},{"$f":"IF(ISNUMBER(Q159),CORREL($B$1:B159,$Q$1:Q159),\"\")","v":{"$error":"#N/A"}},{"$f":"Sheet3!AA159","v":-3.333524915225013E-3},{"$f":"IF(ISNUMBER(S159),CORREL($B$1:B159,$S$1:S159),\"\")","v":{"$error":"#N/A"}}]
[null,{"$f":"Sheet3!I160","v":{"$error":"#N/A"}},{"$f":"Sheet3!K160","v":-1.4364513904849461E-3},{"$f":"IF(ISNUMBER(C160),CORREL($B$1:B160,$C$1:C160),\"\")","v":{"$error":"#N/A"}},{"$f":"Sheet3!M160","v":-3.0235609561298422E-3},{"$f":"IF(ISNUMBER(E160),CORREL($B$1:B160,$E$1:E160),\"\")","v":{"$error":"#N/A"}},{"$f":"Sheet3!O160","v":7.4031890660592251E-4},{"$f":"IF(ISNUMBER(G160),CORREL($B$1:B160,$G$1:G160),\"\")","v":{"$error":"#N/A"}},{"$f":"Sheet3!Q160","v":1.1483693155718878E-2},{"$f":"IF(ISNUMBER(I160),CORREL($B$1:B160,$I$1:I160),\"\")","v":{"$error":"#N/A"}},{"$f":"Sheet3!S160","v":1.6728195662205814E-3},{"$f":"IF(ISNUMBER(K160),CORREL($B$1:B160,$K$1:K160),\"\")","v":{"$error":"#N/A"}},{"$f":"Sheet3!U160","v":1.4972327410428197E-2},{"$f":"IF(ISNUMBER(M160),CORREL($B$1:B160,$M$1:M160),\"\")","v":{"$error":"#N/A"}},{"$f":"Sheet3!W160","v":-1.4330935251798561E-2},{"$f":"IF(ISNUMBER(O160),CORREL($B$1:B160,$O$1:O160),\"\")","v":{"$error":"#N/A"}},{"$f":"Sheet3!Y160","v":1.4251643301727648E-2},{"$f":"IF(ISNUMBER(Q160),CORREL($B$1:B160,$Q$1:Q160),\"\")","v":{"$error":"#N/A"}},{"$f":"Sheet3!AA160","v":-3.1611012127133742E-3},{"$f":"IF(ISNUMBER(S160),CORREL($B$1:B160,$S$1:S160),\"\")","v":{"$error":"#N/A"}}]
[null,{"$f":"Sheet3!I161","v":{"$error":"#N/A"}},{"$f":"Sheet3!K161","v":-1.1491611123879567E-3},{"$f":"IF(ISNUMBER(C161),CORREL($B$1:B161,$C$1:C161),\"\")","v":{"$error":"#N/A"}},{"$f":"Sheet3!M161","v":-3.5940441553996235E-3},{"$f":"IF(ISNUMBER(E161),CORREL($B$1:B161,$E$1:E161),\"\")","v":{"$error":"#N/A"}},{"$f":"Sheet3!O161","v":5.6947608200455578E-4},{"$f":"IF(ISNUMBER(G161),CORREL($B$1:B161,$G$1:G161),\"\")","v":{"$error":"#N/A"}},{"$f":"Sheet3!Q161","v":1.0966926963711529E-2},{"$f":"IF(ISNUMBER(I161),CORREL($B$1:B161,$I$1:I161),\"\")","v":{"$error":"#N/A"}},{"$f":"Sheet3!S161","v":1.7881864328564837E-3},{"$f":"IF(ISNUMBER(K161),CORREL($B$1:B161,$K$1:K161),\"\")","v":{"$error":"#N/A"}},{"$f":"Sheet3!U161","v":1.3632391494319837E-2},{"$f":"IF(ISNUMBER(M161),CORREL($B$1:B161,$M$1:M161),\"\")","v":{"$error":"#N/A"}},{"$f":"Sheet3!W161","v":-1.4733812949640287E-2},{"$f":"IF(ISNUMBER(O161),CORREL($B$1:B161,$O$1:O161),\"\")","v":{"$error":"#N/A"}},{"$f":"Sheet3!Y161","v":1.4135303356407423E-2},{"$f":"IF(ISNUMBER(Q161),CORREL($B$1:B161,$Q$1:Q161),\"\")","v":{"$error":"#N/A"}},{"$f":"Sheet3!AA161","v":-4.540490832806483E-3},{"$f":"IF(ISNUMBER(S161),CORREL($B$1:B161,$S$1:S161),\"\")","v":{"$error":"#N/A"}}]
[null,{"$f":"Sheet3!I162","v":{"$error":"#N/A"}},{"$f":"Sheet3!K162","v":-1.2066191680073547E-3},{"$f":"IF(ISNUMBER(C162),CORREL($B$1:B162,$C$1:C162),\"\")","v":{"$error":"#N/A"}},{"$f":"Sheet3!M162","v":-4.3356723144503395E-3},{"$f":"IF(ISNUMBER(E162),CORREL($B$1:B162,$E$1:E162),\"\")","v":{"$error":"#N/A"}},{"$f":"Sheet3!O162","v":7.4031890660592251E-4},{"$f":"IF(ISNUMBER(G162),CORREL($B$1:B162,$G$1:G162),\"\")","v":{"$error":"#N/A"}},{"$f":"Sheet3!Q162","v":1.0737253100597153E-2},{"$f":"IF(ISNUMBER(I162),CORREL($B$1:B162,$I$1:I162),\"\")","v":{"$error":"#N/A"}},{"$f":"Sheet3!S162","v":2.2496538994000925E-3},{"$f":"IF(ISNUMBER(K162),CORREL($B$1:B162,$K$1:K162),\"\")","v":{"$error":"#N/A"}},{"$f":"Sheet3!U162","v":1.3515875327701718E-2},{"$f":"IF(ISNUMBER(M162),CORREL($B$1:B162,$M$1:M162),\"\")","v":{"$error":"#N/A"}},{"$f":"Sheet3!W162","v":-1.4446043165467626E-2},{"$f":"IF(ISNUMBER(O162),CORREL($B$1:B162,$O$1:O162),\"\")","v":{"$error":"#N/A"}},{"$f":"Sheet3!Y162","v":1.3030073875865278E-2},{"$f":"IF(ISNUMBER(Q162),CORREL($B$1:B162,$Q$1:Q162),\"\")","v":{"$error":"#N/A"}},{"$f":"Sheet3!AA162","v":-5.0002873728375195E-3},{"$f":"IF(ISNUMBER(S162),CORREL($B$1:B162,$S$1:S162),\"\")","v":{"$error":"#N/A"}}]
[null,{"$f":"Sheet3!I163","v":{"$error":"#N/A"}},{"$f":"Sheet3!K163","v":-1.1491611123879567E-3},{"$f":"IF(ISNUMBER(C163),CORREL($B$1:B163,$C$1:C163),\"\")","v":{"$error":"#N/A"}},{"$f":"Sheet3!M163","v":-4.5068172742312737E-3},{"$f":"IF(ISNUMBER(E163),CORREL($B$1:B163,$E$1:E163),\"\")","v":{"$error":"#N/A"}},{"$f":"Sheet3!O163","v":2.8473804100227789E-4},{"$f":"IF(ISNUMBER(G163),CORREL($B$1:B163,$G$1:G163),\"\")","v":{"$error":"#N/A"}},{"$f":"Sheet3!Q163","v":1.0622416169039963E-2},{"$f":"IF(ISNUMBER(I163),CORREL($B$1:B163,$I$1:I163),\"\")","v":{"$error":"#N/A"}},{"$f":"Sheet3!S163","v":1.5574526995846792E-3},{"$f":"IF(ISNUMBER(K163),CORREL($B$1:B163,$K$1:K163),\"\")","v":{"$error":"#N/A"}},{"$f":"Sheet3!U163","v":1.3923681910865132E-2},{"$f":"IF(ISNUMBER(M163),CORREL($B$1:B163,$M$1:M163),\"\")","v":{"$error":"#N/A"}},{"$f":"Sheet3!W163","v":-1.3410071942446044E-2},{"$f":"IF(ISNUMBER(O163),CORREL($B$1:B163,$O$1:O163),\"\")","v":{"$error":"#N/A"}},{"$f":"Sheet3!Y163","v":1.3379093711825956E-2},{"$f":"IF(ISNUMBER(Q163),CORREL($B$1:B163,$Q$1:Q163),\"\")","v":{"$error":"#N/A"}},{"$f":"Sheet3!AA163","v":-3.5634231852405313E-3},{"$f":"IF(ISNUMBER(S163),CORREL($B$1:B163,$S$1:S163),\"\")","v":{"$error":"#N/A"}}]
[null,{"$f":"Sheet3!I164","v":{"$error":"#N/A"}},{"$f":"Sheet3!K164","v":-1.781199724201333E-3},{"$f":"IF(ISNUMBER(C164),CORREL($B$1:B164,$C$1:C164),\"\")","v":{"$error":"#N/A"}},{"$f":"Sheet3!M164","v":-4.5638655941582524E-3},{"$f":"IF(ISNUMBER(E164),CORREL($B$1:B164,$E$1:E164),\"\")","v":{"$error":"#N/A"}},{"$f":"Sheet3!O164","v":-7.4031890660592251E-4},{"$f":"IF(ISNUMBER(G164),CORREL($B$1:B164,$G$1:G164),\"\")","v":{"$error":"#N/A"}},{"$f":"Sheet3!Q164","v":9.7037207165824521E-3},{"$f":"IF(ISNUMBER(I164),CORREL($B$1:B164,$I$1:I164),\"\")","v":{"$error":"#N/A"}},{"$f":"Sheet3!S164","v":1.0383017997231195E-3},{"$f":"IF(ISNUMBER(K164),CORREL($B$1:B164,$K$1:K164),\"\")","v":{"$error":"#N/A"}},{"$f":"Sheet3!U164","v":1.3457617244392659E-2},{"$f":"IF(ISNUMBER(M164),CORREL($B$1:B164,$M$1:M164),\"\")","v":{"$error":"#N/A"}},{"$f":"Sheet3!W164","v":-1.5079136690647482E-2},{"$f":"IF(ISNUMBER(O164),CORREL($B$1:B164,$O$1:O164),\"\")","v":{"$error":"#N/A"}},{"$f":"Sheet3!Y164","v":1.227386423128381E-2},{"$f":"IF(ISNUMBER(Q164),CORREL($B$1:B164,$Q$1:Q164),\"\")","v":{"$error":"#N/A"}},{"$f":"Sheet3!AA164","v":-5.632507615380194E-3},{"$f":"IF(ISNUMBER(S164),CORREL($B$1:B164,$S$1:S164),\"\")","v":{"$error":"#N/A"}}]
[null,{"$f":"Sheet3!I165","v":{"$error":"#N/A"}},{"$f":"Sheet3!K165","v":-3.6773155596414617E-3},{"$f":"IF(ISNUMBER(C165),CORREL($B$1:B165,$C$1:C165),\"\")","v":{"$error":"#N/A"}},{"$f":"Sheet3!M165","v":-4.8491071937931431E-3},{"$f":"IF(ISNUMBER(E165),CORREL($B$1:B165,$E$1:E165),\"\")","v":{"$error":"#N/A"}},{"$f":"Sheet3!O165","v":-1.1958997722095672E-3},{"$f":"IF(ISNUMBER(G165),CORREL($B$1:B165,$G$1:G165),\"\")","v":{"$error":"#N/A"}},{"$f":"Sheet3!Q165","v":8.6127698667891588E-3},{"$f":"IF(ISNUMBER(I165),CORREL($B$1:B165,$I$1:I165),\"\")","v":{"$error":"#N/A"}},{"$f":"Sheet3!S165","v":1.9035532994923859E-3},{"$f":"IF(ISNUMBER(K165),CORREL($B$1:B165,$K$1:K165),\"\")","v":{"$error":"#N/A"}},{"$f":"Sheet3!U165","v":1.3282842994465482E-2},{"$f":"IF(ISNUMBER(M165),CORREL($B$1:B165,$M$1:M165),\"\")","v":{"$error":"#N/A"}},{"$f":"Sheet3!W165","v":-1.1913669064748202E-2},{"$f":"IF(ISNUMBER(O165),CORREL($B$1:B165,$O$1:O165),\"\")","v":{"$error":"#N/A"}},{"$f":"Sheet3!Y165","v":1.2681054039904601E-2},{"$f":"IF(ISNUMBER(Q165),CORREL($B$1:B165,$Q$1:Q165),\"\")","v":{"$error":"#N/A"}},{"$f":"Sheet3!AA165","v":-7.2417955054888215E-3},{"$f":"IF(ISNUMBER(S165),CORREL($B$1:B165,$S$1:S165),\"\")","v":{"$error":"#N/A"}}]
[null,{"$f":"Sheet3!I166","v":{"$error":"#N/A"}},{"$f":"Sheet3!K166","v":-3.7922316708802572E-3},{"$f":"IF(ISNUMBER(C166),CORREL($B$1:B166,$C$1:C166),\"\")","v":{"$error":"#N/A"}},{"$f":"Sheet3!M166","v":-5.1913971133550115E-3},{"$f":"IF(ISNUMBER(E166),CORREL($B$1:B166,$E$1:E166),\"\")","v":{"$error":"#N/A"}},{"$f":"Sheet3!O166","v":-1.6514806378132118E-3},{"$f":"IF(ISNUMBER(G166),CORREL($B$1:B166,$G$1:G166),\"\")","v":{"$error":"#N/A"}},{"$f":"Sheet3!Q166","v":9.6463022508038593E-3},{"$f":"IF(ISNUMBER(I166),CORREL($B$1:B166,$I$1:I166),\"\")","v":{"$error":"#N/A"}},{"$f":"Sheet3!S166","v":2.7111213659437011E-3},{"$f":"IF(ISNUMBER(K166),CORREL($B$1:B166,$K$1:K166),\"\")","v":{"$error":"#N/A"}},{"$f":"Sheet3!U166","v":1.2758520244683949E-2},{"$f":"IF(ISNUMBER(M166),CORREL($B$1:B166,$M$1:M166),\"\")","v":{"$error":"#N/A"}},{"$f":"Sheet3!W166","v":-1.2431654676258994E-2},{"$f":"IF(ISNUMBER(O166),CORREL($B$1:B166,$O$1:O166),\"\")","v":{"$error":"#N/A"}},{"$f":"Sheet3!Y166","v":1.1517654586702343E-2},{"$f":"IF(ISNUMBER(Q166),CORREL($B$1:B166,$Q$1:Q166),\"\")","v":{"$error":"#N/A"}},{"$f":"Sheet3!AA166","v":-8.3912868555664124E-3},{"$f":"IF(ISNUMBER(S166),CORREL($B$1:B166,$S$1:S166),\"\")","v":{"$error":"#N/A"}}]
[null,{"$f":"Sheet3!I167","v":{"$error":"#N/A"}},{"$f":"Sheet3!K167","v":-3.6773155596414617E-3},{"$f":"IF(ISNUMBER(C167),CORREL($B$1:B167,$C$1:C167),\"\")","v":{"$error":"#N/A"}},{"$f":"Sheet3!M167","v":-5.9900735923327057E-3},{"$f":"IF(ISNUMBER(E167),CORREL($B$1:B167,$E$1:E167),\"\")","v":{"$error":"#N/A"}},{"$f":"Sheet3!O167","v":-1.7084282460136675E-3},{"$f":"IF(ISNUMBER(G167),CORREL($B$1:B167,$G$1:G167),\"\")","v":{"$error":"#N/A"}},{"$f":"Sheet3!Q167","v":8.9572806614607262E-3},{"$f":"IF(ISNUMBER(I167),CORREL($B$1:B167,$I$1:I167),\"\")","v":{"$error":"#N/A"}},{"$f":"Sheet3!S167","v":3.5763728657129674E-3},{"$f":"IF(ISNUMBER(K167),CORREL($B$1:B167,$K$1:K167),\"\")","v":{"$error":"#N/A"}},{"$f":"Sheet3!U167","v":1.1127293912030295E-2},{"$f":"IF(ISNUMBER(M167),CORREL($B$1:B167,$M$1:M167),\"\")","v":{"$error":"#N/A"}},{"$f":"Sheet3!W167","v":-1.4618705035971223E-2},{"$f":"IF(ISNUMBER(O167),CORREL($B$1:B167,$O$1:O167),\"\")","v":{"$error":"#N/A"}},{"$f":"Sheet3!Y167","v":1.3320923739165843E-2},{"$f":"IF(ISNUMBER(Q167),CORREL($B$1:B167,$Q$1:Q167),\"\")","v":{"$error":"#N/A"}},{"$f":"Sheet3!AA167","v":-9.8281510431634002E-3},{"$f":"IF(ISNUMBER(S167),CORREL($B$1:B167,$S$1:S167),\"\")","v":{"$error":"#N/A"}}]
[null,{"$f":"Sheet3!I168","v":{"$error":"#N/A"}},{"$f":"Sheet3!K168","v":-2.3557802803953116E-3},{"$f":"IF(ISNUMBER(C168),CORREL($B$1:B168,$C$1:C168),\"\")","v":{"$error":"#N/A"}},{"$f":"Sheet3!M168","v":-7.1310399908722684E-3},{"$f":"IF(ISNUMBER(E168),CORREL($B$1:B168,$E$1:E168),\"\")","v":{"$error":"#N/A"}},{"$f":"Sheet3!O168","v":-1.7653758542141231E-3},{"$f":"IF(ISNUMBER(G168),CORREL($B$1:B168,$G$1:G168),\"\")","v":{"$error":"#N/A"}},{"$f":"Sheet3!Q168","v":8.2682590721175932E-3},{"$f":"IF(ISNUMBER(I168),CORREL($B$1:B168,$I$1:I168),\"\")","v":{"$error":"#N/A"}},{"$f":"Sheet3!S168","v":4.6146746654360865E-3},{"$f":"IF(ISNUMBER(K168),CORREL($B$1:B168,$K$1:K168),\"\")","v":{"$error":"#N/A"}},{"$f":"Sheet3!U168","v":9.9621322458491122E-3},{"$f":"IF(ISNUMBER(M168),CORREL($B$1:B168,$M$1:M168),\"\")","v":{"$error":"#N/A"}},{"$f":"Sheet3!W168","v":-1.2086330935251799E-2},{"$f":"IF(ISNUMBER(O168),CORREL($B$1:B168,$O$1:O168),\"\")","v":{"$error":"#N/A"}},{"$f":"Sheet3!Y168","v":1.0703274969460764E-2},{"$f":"IF(ISNUMBER(Q168),CORREL($B$1:B168,$Q$1:Q168),\"\")","v":{"$error":"#N/A"}},{"$f":"Sheet3!AA168","v":-1.1954710040806943E-2},{"$f":"IF(ISNUMBER(S168),CORREL($B$1:B168,$S$1:S168),\"\")","v":{"$error":"#N/A"}}]
[null,null,null,{"$f":"Sheet3!C2","v":"2021-10-12"},null,{"$f":"Sheet3!C3","v":"2021-10-11"},null,{"$f":"Sheet3!C4","v":"2021-10-08"},null,{"$f":"Sheet3!C5","v":"2021-10-07"},null,{"$f":"Sheet3!C6","v":"2021-10-06"},null,{"$f":"Sheet3!C7","v":"2021-10-05"},null,{"$f":"Sheet3!C8","v":"2021-10-04"},null,{"$f":"Sheet3!C9","v":"2021-10-01"},null,{"$f":"Sheet3!C10","v":"2021-09-30"}]
[null,null,null,{"$f":"IF(ISNUMBER(INDIRECT(\"D\"&(Sheet3!$AE$168)+1))=TRUE,\"\",LOOKUP(2,1/(ISNUMBER(D1:D168)),D1:D168))","v":0.53249253798373397},null,{"$f":"IF(ISNUMBER(INDIRECT(\"F\"&(Sheet3!$AE$168)+1))=TRUE,\"\",LOOKUP(2,1/(ISNUMBER(F1:F168)),F1:F168))","v":-0.58163717243425084},null,{"$f":"IF(ISNUMBER(INDIRECT(\"H\"&(Sheet3!$AE$168)+1))=TRUE,\"\",LOOKUP(2,1/(ISNUMBER(H1:H168)),H1:H168))","v":-0.25439110108499025},null,{"$f":"IF(ISNUMBER(INDIRECT(\"J\"&(Sheet3!$AE$168)+1))=TRUE,\"\",LOOKUP(2,1/(ISNUMBER(J1:J168)),J1:J168))","v":-0.31205834926954545},null,{"$f":"IF(ISNUMBER(INDIRECT(\"L\"&(Sheet3!$AE$168)+1))=TRUE,\"\",LOOKUP(2,1/(ISNUMBER(L1:L168)),L1:L168))","v":-0.65603798938242264},null,{"$f":"IF(ISNUMBER(INDIRECT(\"N\"&(Sheet3!$AE$168)+1))=TRUE,\"\",LOOKUP(2,1/(ISNUMBER(N1:N168)),N1:N168))","v":-0.21554992419363514},null,{"$f":"IF(ISNUMBER(INDIRECT(\"P\"&(Sheet3!$AE$168)+1))=TRUE,\"\",LOOKUP(2,1/(ISNUMBER(P1:P168)),P1:P168))","v":0.45676331264685166},null,{"$f":"IF(ISNUMBER(INDIRECT(\"R\"&(Sheet3!$AE$168)+1))=TRUE,\"\",LOOKUP(2,1/(ISNUMBER(R1:R168)),R1:R168))","v":0.21287200952462423},null,{"$f":"IF(ISNUMBER(INDIRECT(\"T\"&(Sheet3!$AE$168)+1))=TRUE,\"\",LOOKUP(2,1/(ISNUMBER(T1:T168)),T1:T168))","v":2.3768378792560736E-2}]
[]
[null,null,{"$f":"RANK(D172,$D$172:$D$180,0)+COUNTIF($D$172:D172,D172)-1","v":1},{"$f":"D170","v":0.53249253798373397},{"$f":"D169","v":"2021-10-12"},{"$f":"RANK(D172,$D$172:$D$180,0)+COUNTIF($D$172:D172,D172)-1","v":1},{"$f":"VLOOKUP(1,C172:E180,3,FALSE)","v":"2021-10-12"},{"$f":"VLOOKUP(1,C172:E180,2,FALSE)","v":0.53249253798373397},{"$f":"IFERROR(VLOOKUP(G172,Sheet3!AK1:AN10,4,FALSE),1)","v":1}]
[null,null,{"$f":"RANK(D173,$D$172:$D$180,0)+COUNTIF($D$172:D173,D173)-1","v":8},{"$f":"F170","v":-0.58163717243425084},{"$f":"F169","v":"2021-10-11"},{"$f":"RANK(D173,$D$172:$D$180,0)+COUNTIF($D$172:D173,D173)-1","v":8},{"$f":"VLOOKUP(2,C172:E180,3,FALSE)","v":"2021-10-04"},{"$f":"VLOOKUP(2,C172:E180,2,FALSE)","v":0.45676331264685166}]
[null,null,{"$f":"RANK(D174,$D$172:$D$180,0)+COUNTIF($D$172:D174,D174)-1","v":6},{"$f":"H170","v":-0.25439110108499025},{"$f":"H169","v":"2021-10-08"},{"$f":"RANK(D174,$D$172:$D$180,0)+COUNTIF($D$172:D174,D174)-1","v":6},{"$f":"VLOOKUP(3,C172:E180,3,FALSE)","v":"2021-10-01"},{"$f":"VLOOKUP(3,C172:E180,2,FALSE)","v":0.21287200952462423}]
[null,null,{"$f":"RANK(D175,$D$172:$D$180,0)+COUNTIF($D$172:D175,D175)-1","v":7},{"$f":"J170","v":-0.31205834926954545},{"$f":"J169","v":"2021-10-07"},{"$f":"RANK(D175,$D$172:$D$180,0)+COUNTIF($D$172:D175,D175)-1","v":7},{"$f":"VLOOKUP(4,C172:E180,3,FALSE)","v":"2021-09-30"},{"$f":"VLOOKUP(4,C172:E180,2,FALSE)","v":2.3768378792560736E-2}]
[null,null,{"$f":"RANK(D176,$D$172:$D$180,0)+COUNTIF($D$172:D176,D176)-1","v":9},{"$f":"L170","v":-0.65603798938242264},{"$f":"L169","v":"2021-10-06"},{"$f":"RANK(D176,$D$172:$D$180,0)+COUNTIF($D$172:D176,D176)-1","v":9},{"$f":"VLOOKUP(5,C172:E180,3,FALSE)","v":"2021-10-05"},{"$f":"VLOOKUP(5,C172:E180,2,FALSE)","v":-0.21554992419363514}]
[null,null,{"$f":"RANK(D177,$D$172:$D$180,0)+COUNTIF($D$172:D177,D177)-1","v":5},{"$f":"N170","v":-0.21554992419363514},{"$f":"N169","v":"2021-10-05"},{"$f":"RANK(D177,$D$172:$D$180,0)+COUNTIF($D$172:D177,D177)-1","v":5},{"$f":"VLOOKUP(6,C172:E180,3,FALSE)","v":"2021-10-08"},{"$f":"VLOOKUP(6,C172:E180,2,FALSE)","v":-0.25439110108499025}]
[null,null,{"$f":"RANK(D178,$D$172:$D$180,0)+COUNTIF($D$172:D178,D178)-1","v":2},{"$f":"P170","v":0.45676331264685166},{"$f":"P169","v":"2021-10-04"},{"$f":"RANK(D178,$D$172:$D$180,0)+COUNTIF($D$172:D178,D178)-1","v":2},{"$f":"VLOOKUP(7,C172:E180,3,FALSE)","v":"2021-10-07"},{"$f":"VLOOKUP(7,C172:E180,2,FALSE)","v":-0.31205834926954545}]
[null,null,{"$f":"RANK(D179,$D$172:$D$180,0)+COUNTIF($D$172:D179,D179)-1","v":3},{"$f":"R170","v":0.21287200952462423},{"$f":"R169","v":"2021-10-01"},{"$f":"RANK(D179,$D$172:$D$180,0)+COUNTIF($D$172:D179,D179)-1","v":3},{"$f":"VLOOKUP(8,C172:E180,3,FALSE)","v":"2021-10-11"},{"$f":"VLOOKUP(8,C172:E180,2,FALSE)","v":-0.58163717243425084}]
[null,null,{"$f":"RANK(D180,$D$172:$D$180,0)+COUNTIF($D$172:D180,D180)-1","v":4},{"$f":"T170","v":2.3768378792560736E-2},{"$f":"T169","v":"2021-09-30"},{"$f":"RANK(D180,$D$172:$D$180,0)+COUNTIF($D$172:D180,D180)-1","v":4},{"$f":"VLOOKUP(9,C172:E180,3,FALSE)","v":"2021-10-06"},{"$f":"VLOOKUP(9,C172:E180,2,FALSE)","v":-0.65603798938242264}]

{"sheet":"MainDisplay","index":2,"n_rows":30,"n_cols":21,"rows_kept":30,"cut":false,"hidden":true,"merged":[[19,16,19,17],[20,16,20,17],[21,16,21,17],[22,16,22,17],[13,16,13,17],[14,16,14,17],[15,16,15,17],[16,16,16,17],[17,16,17,17],[18,16,18,17]]}
[null,{"$f":"MOD(RTD(\"cqg.rtd\",,\"SystemInfo\",\"Linetime\"),1)","v":0.42716435185138835}]
[]
[]
[null,null,null,null,null,null,null,null,null,null,null,null,{"$f":"M10&\"  \"&M11","v":"The top correlated  session {0.53} is 10/12"}]
[]
[]
[]
[null,{"$f":"Sheet4!I172+1","v":2}]
[]
[null,null,null,null,null,null,null,null,null,null,null,null,{"$f":"\"The top correlated\"","v":"The top correlated"}]
[null,null,null,null,null,null,null,null,null,null,null,null,{"$f":"\"session \"&\"{\"&TEXT(IFERROR(Sheet4!H172,\"\"),\"0.00\")&\"}\"&\" is \"&IFERROR(TEXT(Sheet4!G172,\"MM/DD\"),\"\")","v":"session {0.53} is 10/12"}]
[null,null,null,null,null,null,null,null,null,null,null,null,"Bar Time","Corr",{"$f":"IFERROR(IF(TIME(0,5,0)-(MOD(B1,1)-M13)<0,1,TIME(0,5,0)-(MOD(B1,1)-M13)),\"\")","v":"00:04:53"}]
[null,null,null,null,null,null,null,null,null,null,null,null,{"$f":"IFERROR(Sheet3!AC12,\"\")","v":"10:15:00"},"Now","% NC"]
[null,null,null,null,null,null,null,null,null,null,null,null,{"$f":"IFERROR(Sheet3!AG1,\"\")","v":"2021-10-05"},{"$f":"IFERROR(VLOOKUP(M14,Sheet4!$G$172:$H$180,2,FALSE),\"\")","v":-0.21554992419363514},{"$f":"IFERROR(Sheet3!AH1,\"\")","v":1.4622778910573841E-2},null,{"$f":"IF(N14=\"\",TEXT(M14,\"MM/DD\")&\"             \"&TEXT(O14,\"0.00%\"),TEXT(M14,\"MM/DD\")&\"  \"&TEXT(N14,\"0.00\")&\"   \"&TEXT(O14,\"0.00%\"))","v":"10/05  -0.22   1.46%"},null,null,{"$f":"IF(N14=\"\",\"N/A#\",TEXT(N14,\"0.00\"))","v":"-0.22"},{"$f":"TEXT(O14,\"0.00%\")","v":"1.46%"}]
[null,null,null,null,null,null,null,null,null,null,null,null,{"$f":"IFERROR(Sheet3!AG2,\"\")","v":"2021-10-07"},{"$f":"IFERROR(VLOOKUP(M15,Sheet4!$G$172:$H$180,2,FALSE),\"\")","v":-0.31205834926954545},{"$f":"IFERROR(Sheet3!AH2,\"\")","v":1.3148828663298117E-2},null,{"$f":"IF(N15=\"\",TEXT(M15,\"MM/DD\")&\"             \"&TEXT(O15,\"0.00%\"),TEXT(M15,\"MM/DD\")&\"  \"&TEXT(N15,\"0.00\")&\"   \"&TEXT(O15,\"0.00%\"))","v":"10/07  -0.31   1.31%"},null,null,{"$f":"IF(N15=\"\",\"N/A#\",TEXT(N15,\"0.00\"))","v":"-0.31"},{"$f":"TEXT(O15,\"0.00%\")","v":"1.31%"}]
[null,null,null,null,null,null,null,null,null,null,null,null,{"$f":"IFERROR(Sheet3!AG3,\"\")","v":"2021-10-11"},{"$f":"IFERROR(VLOOKUP(M16,Sheet4!$G$172:$H$180,2,FALSE),\"\")","v":-0.58163717243425084},{"$f":"IFERROR(Sheet3!AH3,\"\")","v":3.1947059159107764E-3},null,"10/11  -0.58   0.32%",null,null,"-0.58","0.32%"]
[null,null,null,null,null,null,null,null,null,null,null,null,{"$f":"IFERROR(Sheet3!AG4,\"\")","v":"2021-10-01"},{"$f":"IFERROR(VLOOKUP(M17,Sheet4!$G$172:$H$180,2,FALSE),\"\")","v":0.21287200952462423},{"$f":"IFERROR(Sheet3!AH4,\"\")","v":2.9666686056657554E-3},null,"10/01  0.21   0.30%",null,null,"0.21","0.30%"]
[null,null,null,null,null,null,null,null,null,null,null,null,{"$f":"IFERROR(Sheet3!AG5,\"\")","v":"2021-10-08"},{"$f":"IFERROR(VLOOKUP(M18,Sheet4!$G$172:$H$180,2,FALSE),\"\")","v":-0.25439110108499025},{"$f":"IFERROR(Sheet3!AH5,\"\")","v":1.8223234624145787E-3},null,"10/08  -0.25   0.18%",null,null,"-0.25","0.18%"]
[null,null,null,null,null,null,null,null,null,null,null,null,{"$f":"IFERROR(Sheet3!AG6,\"\")","v":"2021-09-30"},{"$f":"IFERROR(VLOOKUP(M19,Sheet4!$G$172:$H$180,2,FALSE),\"\")","v":2.3768378792560736E-2},{"$f":"IFERROR(Sheet3!AH6,\"\")","v":1.1494913500775907E-3},null,"09/30  0.02   0.11%",null,null,"0.02","0.11%"]
[null,null,null,null,null,null,null,null,null,null,null,null,{"$f":"IFERROR(Sheet3!AG7,\"\")","v":"2021-10-12"},{"$f":"IFERROR(VLOOKUP(M20,Sheet4!$G$172:$H$180,2,FALSE),\"\")","v":0.53249253798373397},{"$f":"IFERROR(Sheet3!AH7,\"\")","v":-5.7458055619397838E-5},null,"10/12  0.53   -0.01%",null,null,"0.53","-0.01%"]
[null,null,null,null,null,null,null,null,null,null,null,null,{"$f":"IFERROR(Sheet3!AG8,\"\")","v":"2021-10-13"},{"$f":"IFERROR(VLOOKUP(M21,Sheet4!$G$172:$H$180,2,FALSE),\"\")","v":""},{"$f":"IFERROR(Sheet3!AH8,\"\")","v":-1.1518746760352473E-3},null,{"$f":"IF(N21=\"\",TEXT(M21,\"MM/DD\")&\"            \"&TEXT(O21,\"0.00%\"),TEXT(M21,\"MM/DD\")&\"  \"&TEXT(N21,\"0.00\")&\"   \"&TEXT(O21,\"0.00%\"))","v":"10/13            -0.12%"},null,null,"N/A#","-0.12%"]
[null,null,null,null,null,null,null,null,null,null,null,null,{"$f":"IFERROR(Sheet3!AG9,\"\")","v":"2021-10-06"},{"$f":"IFERROR(VLOOKUP(M22,Sheet4!$G$172:$H$180,2,FALSE),\"\")","v":-0.65603798938242264},{"$f":"IFERROR(Sheet3!AH9,\"\")","v":-5.8260267651130595E-3},null,"10/06  -0.66   -0.58%",null,null,"-0.66","-0.58%"]
[null,null,null,null,null,null,null,null,null,null,null,null,{"$f":"IFERROR(Sheet3!AG10,\"\")","v":"2021-10-04"},{"$f":"IFERROR(VLOOKUP(M23,Sheet4!$G$172:$H$180,2,FALSE),\"\")","v":0.45676331264685166},{"$f":"IFERROR(Sheet3!AH10,\"\")","v":-1.2719424460431655E-2},null,"10/04  0.46   -1.27%",null,null,"0.46","-1.27%"]
[null,null,null,null,null,null,null,null,null,null,null,null,null,null,25]
[]
[null,null,null,null,null,null,null,null,null,null,null,null,null,null,{"$f":"\"Date\"&\"    \"&\"Corr\"&\"     \"&\"Net%\"&\"   \"&Q14&\"   \"&Q15&\"   \"&Q16&\"   \"&Q17&\"   \"&Q18&\"   \"&Q19&\"   \"&Q20&\"   \"&Q21&\"   \"&Q22&\"   \"&Q23","v":"Date    Corr     Net%   10/05  -0.22   1.46%   10/07  -0.31   1.31%   10/11  -0.58   0.32%   10/01  0.21   0.30%   10/08  -0.25   0.18%   09/30  0.02   0.11%   10/12  0.53   -0.01%   10/13            -0.12%   10/06  -0.66   -0.58%   10/04  0.46   -1.27%"}]
[]
[null,null,null,null,null,null,null,null,null,null,null,null,null,null,{"$f":"\"Date\"&\"  \"&TEXT(M14,\"MM/DD\")&\"  \"&TEXT(M15,\"MM/DD\")&\"  \"&TEXT(M16,\"MM/DD\")&\"  \"&TEXT(M17,\"MM/DD\")&\"  \"&TEXT(M18,\"MM/DD\")&\"  \"&TEXT(M19,\"MM/DD\")&\"  \"&TEXT(M20,\"MM/DD\")&\"  \"&TEXT(M21,\"MM/DD\")&\"  \"&TEXT(M22,\"MM/DD\")&\"  \"&TEXT(M23,\"MM/DD\")","v":"Date  10/05  10/07  10/11  10/01  10/08  09/30  10/12  10/13  10/06  10/04"}]
[null,null,null,null,null,null,null,null,null,null,null,null,null,null,{"$f":"\"Corr\"&\"   \"&T14&\"   \"&T15&\"   \"&T16&\"   \"&T17&\"   \"&T18&\"   \"&T19&\"   \"&T20&\"   \"&T21&\"   \"&T22&\"   \"&T23","v":"Corr   -0.22   -0.31   -0.58   0.21   -0.25   0.02   0.53   N/A#   -0.66   0.46"}]
[null,null,null,null,null,null,null,null,null,null,null,null,null,null,{"$f":"\"Net%C\"&\"   \"&U14&\"   \"&U15&\"   \"&U16&\"   \"&U17&\"   \"&U18&\"   \"&U19&\"   \"&U20&\"   \"&U21&\"   \"&U22&\"   \"&U23","v":"Net%C   1.46%   1.31%   0.32%   0.30%   0.18%   0.11%   -0.01%   -0.12%   -0.58%   -1.27%"}]

{"sheet":"Vol1","index":3,"n_rows":168,"n_cols":21,"rows_kept":168,"cut":false,"hidden":true,"merged":[]}
[{"$f":"Sheet3!A1","v":96},{"$f":"Sheet3!B1","v":"01:00:00"},{"$f":" RTD(\"cqg.rtd\",,\"StudyData\",$D$12, \"Bar\", \"\", \"Time\",\"D\",\"0\",,,,,\"T\")","v":"2021-10-13"},{"$f":"YEAR(C1)","v":2021},{"$f":"MONTH(C1)","v":10},{"$f":"DAY(C1)","v":13},null,{"$f":"IF(A1=\"\",NA(),RTD(\"cqg.rtd\",,\"StudyData\", \"Vol(\"&$D$12&\") when LocalYear(\"&$D$12&\")=\"&$D$1&\" and localMonth(\"&$D$12&\") =\"&$E$1&\" and LocalDay(\"&$D$12&\")=\"&$F$1&\" and Barix(\"&$D$12&\",reference:=StartOfDay)=\"&A1&\"\", \"Bar\", \"\", \"Close\",\"A5C\",\"0\",\"All\",,,\"False\",\"T\",\"EveryTick\"))","v":1660},{"$f":"IF(A1=\"\",NA(),AVERAGE(J1:R1))","v":2272.2222222222222},{"$f":"IF(A1=\"\",NA(),RTD(\"cqg.rtd\",,\"StudyData\", \"Vol(\"&$D$12&\") when LocalYear(\"&$D$12&\")=\"&$D$2&\" and localMonth(\"&$D$12&\") =\"&$E$2&\" and LocalDay(\"&$D$12&\")=\"&$F$2&\" and Barix(\"&$D$12&\",reference:=StartOfDay)=\"&A1&\"\", \"Bar\", \"\", \"Close\",\"A5C\",\"0\",\"All\",,,\"False\",\"T\",\"EveryTick\"))","v":4160},{"$f":"IF(A1=\"\",NA(),RTD(\"cqg.rtd\",,\"StudyData\", \"Vol(\"&$D$12&\") when LocalYear(\"&$D$12&\")=\"&$D$3&\" and localMonth(\"&$D$12&\") =\"&$E$3&\" and LocalDay(\"&$D$12&\")=\"&$F$3&\" and Barix(\"&$D$12&\",reference:=StartOfDay)=\"&A1&\"\", \"Bar\", \"\", \"Close\",\"A5C\",\"0\",\"All\",,,\"False\",\"T\",\"EveryTick\"))","v":1791},{"$f":"IF(A1=\"\",NA(),RTD(\"cqg.rtd\",,\"StudyData\", \"Vol(\"&$D$12&\") when LocalYear(\"&$D$12&\")=\"&$D$4&\" and localMonth(\"&$D$12&\") =\"&$E$4&\" and LocalDay(\"&$D$12&\")=\"&$F$4&\" and Barix(\"&$D$12&\",reference:=StartOfDay)=\"&A1&\"\", \"Bar\", \"\", \"Close\",\"A5C\",\"0\",\"All\",,,\"False\",\"T\",\"EveryTick\"))","v":1272},{"$f":"IF(A1=\"\",NA(),RTD(\"cqg.rtd\",,\"StudyData\", \"Vol(\"&$D$12&\") when LocalYear(\"&$D$12&\")=\"&$D$5&\" and localMonth(\"&$D$12&\") =\"&$E$5&\" and LocalDay(\"&$D$12&\")=\"&$F$5&\" and Barix(\"&$D$12&\",reference:=StartOfDay)=\"&A1&\"\", \"Bar\", \"\", \"Close\",\"A5C\",\"0\",\"All\",,,\"False\",\"T\",\"EveryTick\"))","v":2424},{"$f":"IF(A1=\"\",NA(),RTD(\"cqg.rtd\",,\"StudyData\", \"Vol(\"&$D$12&\") when LocalYear(\"&$D$12&\")=\"&$D$6&\" and localMonth(\"&$D$12&\") =\"&$E$6&\" and LocalDay(\"&$D$12&\")=\"&$F$6&\" and Barix(\"&$D$12&\",reference:=StartOfDay)=\"&A1&\"\", \"Bar\", \"\", \"Close\",\"A5C\",\"0\",\"All\",,,\"False\",\"T\",\"EveryTick\"))","v":2345},{"$f":"IF(A1=\"\",NA(),RTD(\"cqg.rtd\",,\"StudyData\", \"Vol(\"&$D$12&\") when LocalYear(\"&$D$12&\")=\"&$D$7&\" and localMonth(\"&$D$12&\") =\"&$E$7&\" and LocalDay(\"&$D$12&\")=\"&$F$7&\" and Barix(\"&$D$12&\",reference:=StartOfDay)=\"&A1&\"\", \"Bar\", \"\", \"Close\",\"A5C\",\"0\",\"All\",,,\"False\",\"T\",\"EveryTick\"))","v":1175},{"$f":"IF(A1=\"\",NA(),RTD(\"cqg.rtd\",,\"StudyData\", \"Vol(\"&$D$12&\") when LocalYear(\"&$D$12&\")=\"&$D$8&\" and localMonth(\"&$D$12&\") =\"&$E$8&\" and LocalDay(\"&$D$12&\")=\"&$F$8&\" and Barix(\"&$D$12&\",reference:=StartOfDay)=\"&A1&\"\", \"Bar\", \"\", \"Close\",\"A5C\",\"0\",\"All\",,,\"False\",\"T\",\"EveryTick\"))","v":2263},{"$f":"IF(A1=\"\",NA(),RTD(\"cqg.rtd\",,\"StudyData\", \"Vol(\"&$D$12&\") when LocalYear(\"&$D$12&\")=\"&$D$9&\" and localMonth(\"&$D$12&\") =\"&$E$9&\" and LocalDay(\"&$D$12&\")=\"&$F$9&\" and Barix(\"&$D$12&\",reference:=StartOfDay)=\"&A1&\"\", \"Bar\", \"\", \"Close\",\"A5C\",\"0\",\"All\",,,\"False\",\"T\",\"EveryTick\"))","v":2764},{"$f":"IF(A1=\"\",NA(),RTD(\"cqg.rtd\",,\"StudyData\", \"Vol(\"&$D$12&\") when LocalYear(\"&$D$12&\")=\"&$D$10&\" and localMonth(\"&$D$12&\") =\"&$E$10&\" and LocalDay(\"&$D$12&\")=\"&$F$10&\" and Barix(\"&$D$12&\",reference:=StartOfDay)=\"&A1&\"\", \"Bar\", \"\", \"Close\",\"A5C\",\"0\",\"All\",,,\"False\",\"T\",\"EveryTick\"))","v":2256},{"$f":"IF(H1>(1+(MainDisplay!$O$24/100))*I1,H1,NA())","v":{"$error":"#N/A"}},null,0.25]
[{"$f":"IF($D$12=\"QGA\",\"\",A1+1)","v":97},{"$f":"Sheet3!B2","v":"01:05:00"},{"$f":" RTD(\"cqg.rtd\",,\"StudyData\",$D$12, \"Bar\", \"\", \"Time\",\"D\",\"-1\",,,,,\"T\")","v":"2021-10-12"},2021,10,12,{"$f":" RTD(\"cqg.rtd\",,\"StudyData\",$D$12, \"Bar\", \"\", \"Close\",\"D\",\"-1\",,,,,\"T\")","v":4340.75},{"$f":"IF(A2=\"\",NA(),RTD(\"cqg.rtd\",,\"StudyData\", \"Vol(\"&$D$12&\") when LocalYear(\"&$D$12&\")=\"&$D$1&\" and localMonth(\"&$D$12&\") =\"&$E$1&\" and LocalDay(\"&$D$12&\")=\"&$F$1&\" and Barix(\"&$D$12&\",reference:=StartOfDay)=\"&A2&\"\", \"Bar\", \"\", \"Close\",\"A5C\",\"0\",\"All\",,,\"False\",\"T\",\"EveryTick\"))","v":868},1641.8888888888889,{"$f":"IF(A2=\"\",NA(),RTD(\"cqg.rtd\",,\"StudyData\", \"Vol(\"&$D$12&\") when LocalYear(\"&$D$12&\")=\"&$D$2&\" and localMonth(\"&$D$12&\") =\"&$E$2&\" and LocalDay(\"&$D$12&\")=\"&$F$2&\" and Barix(\"&$D$12&\",reference:=StartOfDay)=\"&A2&\"\", \"Bar\", \"\", \"Close\",\"A5C\",\"0\",\"All\",,,\"False\",\"T\",\"EveryTick\"))","v":1496},{"$f":"IF(A2=\"\",NA(),RTD(\"cqg.rtd\",,\"StudyData\", \"Vol(\"&$D$12&\") when LocalYear(\"&$D$12&\")=\"&$D$3&\" and localMonth(\"&$D$12&\") =\"&$E$3&\" and LocalDay(\"&$D$12&\")=\"&$F$3&\" and Barix(\"&$D$12&\",reference:=StartOfDay)=\"&A2&\"\", \"Bar\", \"\", \"Close\",\"A5C\",\"0\",\"All\",,,\"False\",\"T\",\"EveryTick\"))","v":1658},{"$f":"IF(A2=\"\",NA(),RTD(\"cqg.rtd\",,\"StudyData\", \"Vol(\"&$D$12&\") when LocalYear(\"&$D$12&\")=\"&$D$4&\" and localMonth(\"&$D$12&\") =\"&$E$4&\" and LocalDay(\"&$D$12&\")=\"&$F$4&\" and Barix(\"&$D$12&\",reference:=StartOfDay)=\"&A2&\"\", \"Bar\", \"\", \"Close\",\"A5C\",\"0\",\"All\",,,\"False\",\"T\",\"EveryTick\"))","v":859},{"$f":"IF(A2=\"\",NA(),RTD(\"cqg.rtd\",,\"StudyData\", \"Vol(\"&$D$12&\") when LocalYear(\"&$D$12&\")=\"&$D$5&\" and localMonth(\"&$D$12&\") =\"&$E$5&\" and LocalDay(\"&$D$12&\")=\"&$F$5&\" and Barix(\"&$D$12&\",reference:=StartOfDay)=\"&A2&\"\", \"Bar\", \"\", \"Close\",\"A5C\",\"0\",\"All\",,,\"False\",\"T\",\"EveryTick\"))","v":2323},{"$f":"IF(A2=\"\",NA(),RTD(\"cqg.rtd\",,\"StudyData\", \"Vol(\"&$D$12&\") when LocalYear(\"&$D$12&\")=\"&$D$6&\" and localMonth(\"&$D$12&\") =\"&$E$6&\" and LocalDay(\"&$D$12&\")=\"&$F$6&\" and Barix(\"&$D$12&\",reference:=StartOfDay)=\"&A2&\"\", \"Bar\", \"\", \"Close\",\"A5C\",\"0\",\"All\",,,\"False\",\"T\",\"EveryTick\"))","v":1432},{"$f":"IF(A2=\"\",NA(),RTD(\"cqg.rtd\",,\"StudyData\", \"Vol(\"&$D$12&\") when LocalYear(\"&$D$12&\")=\"&$D$7&\" and localMonth(\"&$D$12&\") =\"&$E$7&\" and LocalDay(\"&$D$12&\")=\"&$F$7&\" and Barix(\"&$D$12&\",reference:=StartOfDay)=\"&A2&\"\", \"Bar\", \"\", \"Close\",\"A5C\",\"0\",\"All\",,,\"False\",\"T\",\"EveryTick\"))","v":1701},{"$f":"IF(A2=\"\",NA(),RTD(\"cqg.rtd\",,\"StudyData\", \"Vol(\"&$D$12&\") when LocalYear(\"&$D$12&\")=\"&$D$8&\" and localMonth(\"&$D$12&\") =\"&$E$8&\" and LocalDay(\"&$D$12&\")=\"&$F$8&\" and Barix(\"&$D$12&\",reference:=StartOfDay)=\"&A2&\"\", \"Bar\", \"\", \"Close\",\"A5C\",\"0\",\"All\",,,\"False\",\"T\",\"EveryTick\"))","v":2000},{"$f":"IF(A2=\"\",NA(),RTD(\"cqg.rtd\",,\"StudyData\", \"Vol(\"&$D$12&\") when LocalYear(\"&$D$12&\")=\"&$D$9&\" and localMonth(\"&$D$12&\") =\"&$E$9&\" and LocalDay(\"&$D$12&\")=\"&$F$9&\" and Barix(\"&$D$12&\",reference:=StartOfDay)=\"&A2&\"\", \"Bar\", \"\", \"Close\",\"A5C\",\"0\",\"All\",,,\"False\",\"T\",\"EveryTick\"))","v":1711},{"$f":"IF(A2=\"\",NA(),RTD(\"cqg.rtd\",,\"StudyData\", \"Vol(\"&$D$12&\") when LocalYear(\"&$D$12&\")=\"&$D$10&\" and localMonth(\"&$D$12&\") =\"&$E$10&\" and LocalDay(\"&$D$12&\")=\"&$F$10&\" and Barix(\"&$D$12&\",reference:=StartOfDay)=\"&A2&\"\", \"Bar\", \"\", \"Close\",\"A5C\",\"0\",\"All\",,,\"False\",\"T\",\"EveryTick\"))","v":1597},{"$f":"IF(H2>(1+(MainDisplay!$O$24/100))*I2,H2,NA())","v":{"$error":"#N/A"}}]
[98,{"$f":"Sheet3!B3","v":"01:10:00"},{"$f":" RTD(\"cqg.rtd\",,\"StudyData\",$D$12, \"Bar\", \"\", \"Time\",\"D\",\"-2\",,,,,\"T\")","v":"2021-10-11"},2021,10,11,{"$f":" RTD(\"cqg.rtd\",,\"StudyData\",$D$12, \"Bar\", \"\", \"Close\",\"D\",\"-2\",,,,,\"T\")","v":4351},{"$f":"IF(A3=\"\",NA(),RTD(\"cqg.rtd\",,\"StudyData\", \"Vol(\"&$D$12&\") when LocalYear(\"&$D$12&\")=\"&$D$1&\" and localMonth(\"&$D$12&\") =\"&$E$1&\" and LocalDay(\"&$D$12&\")=\"&$F$1&\" and Barix(\"&$D$12&\",reference:=StartOfDay)=\"&A3&\"\", \"Bar\", \"\", \"Close\",\"A5C\",\"0\",\"All\",,,\"False\",\"T\",\"EveryTick\"))","v":585},1510.5555555555557,{"$f":"IF(A3=\"\",NA(),RTD(\"cqg.rtd\",,\"StudyData\", \"Vol(\"&$D$12&\") when LocalYear(\"&$D$12&\")=\"&$D$2&\" and localMonth(\"&$D$12&\") =\"&$E$2&\" and LocalDay(\"&$D$12&\")=\"&$F$2&\" and Barix(\"&$D$12&\",reference:=StartOfDay)=\"&A3&\"\", \"Bar\", \"\", \"Close\",\"A5C\",\"0\",\"All\",,,\"False\",\"T\",\"EveryTick\"))","v":1470},{"$f":"IF(A3=\"\",NA(),RTD(\"cqg.rtd\",,\"StudyData\", \"Vol(\"&$D$12&\") when LocalYear(\"&$D$12&\")=\"&$D$3&\" and localMonth(\"&$D$12&\") =\"&$E$3&\" and LocalDay(\"&$D$12&\")=\"&$F$3&\" and Barix(\"&$D$12&\",reference:=StartOfDay)=\"&A3&\"\", \"Bar\", \"\", \"Close\",\"A5C\",\"0\",\"All\",,,\"False\",\"T\",\"EveryTick\"))","v":1274},{"$f":"IF(A3=\"\",NA(),RTD(\"cqg.rtd\",,\"StudyData\", \"Vol(\"&$D$12&\") when LocalYear(\"&$D$12&\")=\"&$D$4&\" and localMonth(\"&$D$12&\") =\"&$E$4&\" and LocalDay(\"&$D$12&\")=\"&$F$4&\" and Barix(\"&$D$12&\",reference:=StartOfDay)=\"&A3&\"\", \"Bar\", \"\", \"Close\",\"A5C\",\"0\",\"All\",,,\"False\",\"T\",\"EveryTick\"))","v":2094},{"$f":"IF(A3=\"\",NA(),RTD(\"cqg.rtd\",,\"StudyData\", \"Vol(\"&$D$12&\") when LocalYear(\"&$D$12&\")=\"&$D$5&\" and localMonth(\"&$D$12&\") =\"&$E$5&\" and LocalDay(\"&$D$12&\")=\"&$F$5&\" and Barix(\"&$D$12&\",reference:=StartOfDay)=\"&A3&\"\", \"Bar\", \"\", \"Close\",\"A5C\",\"0\",\"All\",,,\"False\",\"T\",\"EveryTick\"))","v":1300},{"$f":"IF(A3=\"\",NA(),RTD(\"cqg.rtd\",,\"StudyData\", \"Vol(\"&$D$12&\") when LocalYear(\"&$D$12&\")=\"&$D$6&\" and localMonth(\"&$D$12&\") =\"&$E$6&\" and LocalDay(\"&$D$12&\")=\"&$F$6&\" and Barix(\"&$D$12&\",reference:=StartOfDay)=\"&A3&\"\", \"Bar\", \"\", \"Close\",\"A5C\",\"0\",\"All\",,,\"False\",\"T\",\"EveryTick\"))","v":1091},{"$f":"IF(A3=\"\",NA(),RTD(\"cqg.rtd\",,\"StudyData\", \"Vol(\"&$D$12&\") when LocalYear(\"&$D$12&\")=\"&$D$7&\" and localMonth(\"&$D$12&\") =\"&$E$7&\" and LocalDay(\"&$D$12&\")=\"&$F$7&\" and Barix(\"&$D$12&\",reference:=StartOfDay)=\"&A3&\"\", \"Bar\", \"\", \"Close\",\"A5C\",\"0\",\"All\",,,\"False\",\"T\",\"EveryTick\"))","v":1096},{"$f":"IF(A3=\"\",NA(),RTD(\"cqg.rtd\",,\"StudyData\", \"Vol(\"&$D$12&\") when LocalYear(\"&$D$12&\")=\"&$D$8&\" and localMonth(\"&$D$12&\") =\"&$E$8&\" and LocalDay(\"&$D$12&\")=\"&$F$8&\" and Barix(\"&$D$12&\",reference:=StartOfDay)=\"&A3&\"\", \"Bar\", \"\", \"Close\",\"A5C\",\"0\",\"All\",,,\"False\",\"T\",\"EveryTick\"))","v":2517},{"$f":"IF(A3=\"\",NA(),RTD(\"cqg.rtd\",,\"StudyData\", \"Vol(\"&$D$12&\") when LocalYear(\"&$D$12&\")=\"&$D$9&\" and localMonth(\"&$D$12&\") =\"&$E$9&\" and LocalDay(\"&$D$12&\")=\"&$F$9&\" and Barix(\"&$D$12&\",reference:=StartOfDay)=\"&A3&\"\", \"Bar\", \"\", \"Close\",\"A5C\",\"0\",\"All\",,,\"False\",\"T\",\"EveryTick\"))","v":1801},{"$f":"IF(A3=\"\",NA(),RTD(\"cqg.rtd\",,\"StudyData\", \"Vol(\"&$D$12&\") when LocalYear(\"&$D$12&\")=\"&$D$10&\" and localMonth(\"&$D$12&\") =\"&$E$10&\" and LocalDay(\"&$D$12&\")=\"&$F$10&\" and Barix(\"&$D$12&\",reference:=StartOfDay)=\"&A3&\"\", \"Bar\", \"\", \"Close\",\"A5C\",\"0\",\"All\",,,\"False\",\"T\",\"EveryTick\"))","v":952},{"$f":"IF(H3>(1+(MainDisplay!$O$24/100))*I3,H3,NA())","v":{"$error":"#N/A"}}]
[99,{"$f":"Sheet3!B4","v":"01:15:00"},{"$f":" RTD(\"cqg.rtd\",,\"StudyData\",$D$12, \"Bar\", \"\", \"Time\",\"D\",\"-3\",,,,,\"T\")","v":"2021-10-08"},2021,10,8,{"$f":" RTD(\"cqg.rtd\",,\"StudyData\",$D$12, \"Bar\", \"\", \"Close\",\"D\",\"-3\",,,,,\"T\")","v":4382.25},{"$f":"IF(A4=\"\",NA(),RTD(\"cqg.rtd\",,\"StudyData\", \"Vol(\"&$D$12&\") when LocalYear(\"&$D$12&\")=\"&$D$1&\" and localMonth(\"&$D$12&\") =\"&$E$1&\" and LocalDay(\"&$D$12&\")=\"&$F$1&\" and Barix(\"&$D$12&\",reference:=StartOfDay)=\"&A4&\"\", \"Bar\", \"\", \"Close\",\"A5C\",\"0\",\"All\",,,\"False\",\"T\",\"EveryTick\"))","v":1146},1813.6666666666667,{"$f":"IF(A4=\"\",NA(),RTD(\"cqg.rtd\",,\"StudyData\", \"Vol(\"&$D$12&\") when LocalYear(\"&$D$12&\")=\"&$D$2&\" and localMonth(\"&$D$12&\") =\"&$E$2&\" and LocalDay(\"&$D$12&\")=\"&$F$2&\" and Barix(\"&$D$12&\",reference:=StartOfDay)=\"&A4&\"\", \"Bar\", \"\", \"Close\",\"A5C\",\"0\",\"All\",,,\"False\",\"T\",\"EveryTick\"))","v":1691},{"$f":"IF(A4=\"\",NA(),RTD(\"cqg.rtd\",,\"StudyData\", \"Vol(\"&$D$12&\") when LocalYear(\"&$D$12&\")=\"&$D$3&\" and localMonth(\"&$D$12&\") =\"&$E$3&\" and LocalDay(\"&$D$12&\")=\"&$F$3&\" and Barix(\"&$D$12&\",reference:=StartOfDay)=\"&A4&\"\", \"Bar\", \"\", \"Close\",\"A5C\",\"0\",\"All\",,,\"False\",\"T\",\"EveryTick\"))","v":1272},{"$f":"IF(A4=\"\",NA(),RTD(\"cqg.rtd\",,\"StudyData\", \"Vol(\"&$D$12&\") when LocalYear(\"&$D$12&\")=\"&$D$4&\" and localMonth(\"&$D$12&\") =\"&$E$4&\" and LocalDay(\"&$D$12&\")=\"&$F$4&\" and Barix(\"&$D$12&\",reference:=StartOfDay)=\"&A4&\"\", \"Bar\", \"\", \"Close\",\"A5C\",\"0\",\"All\",,,\"False\",\"T\",\"EveryTick\"))","v":767},{"$f":"IF(A4=\"\",NA(),RTD(\"cqg.rtd\",,\"StudyData\", \"Vol(\"&$D$12&\") when LocalYear(\"&$D$12&\")=\"&$D$5&\" and localMonth(\"&$D$12&\") =\"&$E$5&\" and LocalDay(\"&$D$12&\")=\"&$F$5&\" and Barix(\"&$D$12&\",reference:=StartOfDay)=\"&A4&\"\", \"Bar\", \"\", \"Close\",\"A5C\",\"0\",\"All\",,,\"False\",\"T\",\"EveryTick\"))","v":1159},{"$f":"IF(A4=\"\",NA(),RTD(\"cqg.rtd\",,\"StudyData\", \"Vol(\"&$D$12&\") when LocalYear(\"&$D$12&\")=\"&$D$6&\" and localMonth(\"&$D$12&\") =\"&$E$6&\" and LocalDay(\"&$D$12&\")=\"&$F$6&\" and Barix(\"&$D$12&\",reference:=StartOfDay)=\"&A4&\"\", \"Bar\", \"\", \"Close\",\"A5C\",\"0\",\"All\",,,\"False\",\"T\",\"EveryTick\"))","v":1092},{"$f":"IF(A4=\"\",NA(),RTD(\"cqg.rtd\",,\"StudyData\", \"Vol(\"&$D$12&\") when LocalYear(\"&$D$12&\")=\"&$D$7&\" and localMonth(\"&$D$12&\") =\"&$E$7&\" and LocalDay(\"&$D$12&\")=\"&$F$7&\" and Barix(\"&$D$12&\",reference:=StartOfDay)=\"&A4&\"\", \"Bar\", \"\", \"Close\",\"A5C\",\"0\",\"All\",,,\"False\",\"T\",\"EveryTick\"))","v":2127},{"$f":"IF(A4=\"\",NA(),RTD(\"cqg.rtd\",,\"StudyData\", \"Vol(\"&$D$12&\") when LocalYear(\"&$D$12&\")=\"&$D$8&\" and localMonth(\"&$D$12&\") =\"&$E$8&\" and LocalDay(\"&$D$12&\")=\"&$F$8&\" and Barix(\"&$D$12&\",reference:=StartOfDay)=\"&A4&\"\", \"Bar\", \"\", \"Close\",\"A5C\",\"0\",\"All\",,,\"False\",\"T\",\"EveryTick\"))","v":3856},{"$f":"IF(A4=\"\",NA(),RTD(\"cqg.rtd\",,\"StudyData\", \"Vol(\"&$D$12&\") when LocalYear(\"&$D$12&\")=\"&$D$9&\" and localMonth(\"&$D$12&\") =\"&$E$9&\" and LocalDay(\"&$D$12&\")=\"&$F$9&\" and Barix(\"&$D$12&\",reference:=StartOfDay)=\"&A4&\"\", \"Bar\", \"\", \"Close\",\"A5C\",\"0\",\"All\",,,\"False\",\"T\",\"EveryTick\"))","v":2444},{"$f":"IF(A4=\"\",NA(),RTD(\"cqg.rtd\",,\"StudyData\", \"Vol(\"&$D$12&\") when LocalYear(\"&$D$12&\")=\"&$D$10&\" and localMonth(\"&$D$12&\") =\"&$E$10&\" and LocalDay(\"&$D$12&\")=\"&$F$10&\" and Barix(\"&$D$12&\",reference:=StartOfDay)=\"&A4&\"\", \"Bar\", \"\", \"Close\",\"A5C\",\"0\",\"All\",,,\"False\",\"T\",\"EveryTick\"))","v":1915},{"$f":"IF(H4>(1+(MainDisplay!$O$24/100))*I4,H4,NA())","v":{"$error":"#N/A"}}]
[100,{"$f":"Sheet3!B5","v":"01:20:00"},{"$f":" RTD(\"cqg.rtd\",,\"StudyData\",$D$12, \"Bar\", \"\", \"Time\",\"D\",\"-4\",,,,,\"T\")","v":"2021-10-07"},2021,10,7,{"$f":" RTD(\"cqg.rtd\",,\"StudyData\",$D$12, \"Bar\", \"\", \"Close\",\"D\",\"-4\",,,,,\"T\")","v":4390},{"$f":"IF(A5=\"\",NA(),RTD(\"cqg.rtd\",,\"StudyData\", \"Vol(\"&$D$12&\") when LocalYear(\"&$D$12&\")=\"&$D$1&\" and localMonth(\"&$D$12&\") =\"&$E$1&\" and LocalDay(\"&$D$12&\")=\"&$F$1&\" and Barix(\"&$D$12&\",reference:=StartOfDay)=\"&A5&\"\", \"Bar\", \"\", \"Close\",\"A5C\",\"0\",\"All\",,,\"False\",\"T\",\"EveryTick\"))","v":505},2099.3333333333335,{"$f":"IF(A5=\"\",NA(),RTD(\"cqg.rtd\",,\"StudyData\", \"Vol(\"&$D$12&\") when LocalYear(\"&$D$12&\")=\"&$D$2&\" and localMonth(\"&$D$12&\") =\"&$E$2&\" and LocalDay(\"&$D$12&\")=\"&$F$2&\" and Barix(\"&$D$12&\",reference:=StartOfDay)=\"&A5&\"\", \"Bar\", \"\", \"Close\",\"A5C\",\"0\",\"All\",,,\"False\",\"T\",\"EveryTick\"))","v":1085},{"$f":"IF(A5=\"\",NA(),RTD(\"cqg.rtd\",,\"StudyData\", \"Vol(\"&$D$12&\") when LocalYear(\"&$D$12&\")=\"&$D$3&\" and localMonth(\"&$D$12&\") =\"&$E$3&\" and LocalDay(\"&$D$12&\")=\"&$F$3&\" and Barix(\"&$D$12&\",reference:=StartOfDay)=\"&A5&\"\", \"Bar\", \"\", \"Close\",\"A5C\",\"0\",\"All\",,,\"False\",\"T\",\"EveryTick\"))","v":1503},{"$f":"IF(A5=\"\",NA(),RTD(\"cqg.rtd\",,\"StudyData\", \"Vol(\"&$D$12&\") when LocalYear(\"&$D$12&\")=\"&$D$4&\" and localMonth(\"&$D$12&\") =\"&$E$4&\" and LocalDay(\"&$D$12&\")=\"&$F$4&\" and Barix(\"&$D$12&\",reference:=StartOfDay)=\"&A5&\"\", \"Bar\", \"\", \"Close\",\"A5C\",\"0\",\"All\",,,\"False\",\"T\",\"EveryTick\"))","v":533},{"$f":"IF(A5=\"\",NA(),RTD(\"cqg.rtd\",,\"StudyData\", \"Vol(\"&$D$12&\") when LocalYear(\"&$D$12&\")=\"&$D$5&\" and localMonth(\"&$D$12&\") =\"&$E$5&\" and LocalDay(\"&$D$12&\")=\"&$F$5&\" and Barix(\"&$D$12&\",reference:=StartOfDay)=\"&A5&\"\", \"Bar\", \"\", \"Close\",\"A5C\",\"0\",\"All\",,,\"False\",\"T\",\"EveryTick\"))","v":2374},{"$f":"IF(A5=\"\",NA(),RTD(\"cqg.rtd\",,\"StudyData\", \"Vol(\"&$D$12&\") when LocalYear(\"&$D$12&\")=\"&$D$6&\" and localMonth(\"&$D$12&\") =\"&$E$6&\" and LocalDay(\"&$D$12&\")=\"&$F$6&\" and Barix(\"&$D$12&\",reference:=StartOfDay)=\"&A5&\"\", \"Bar\", \"\", \"Close\",\"A5C\",\"0\",\"All\",,,\"False\",\"T\",\"EveryTick\"))","v":1478},{"$f":"IF(A5=\"\",NA(),RTD(\"cqg.rtd\",,\"StudyData\", \"Vol(\"&$D$12&\") when LocalYear(\"&$D$12&\")=\"&$D$7&\" and localMonth(\"&$D$12&\") =\"&$E$7&\" and LocalDay(\"&$D$12&\")=\"&$F$7&\" and Barix(\"&$D$12&\",reference:=StartOfDay)=\"&A5&\"\", \"Bar\", \"\", \"Close\",\"A5C\",\"0\",\"All\",,,\"False\",\"T\",\"EveryTick\"))","v":920},{"$f":"IF(A5=\"\",NA(),RTD(\"cqg.rtd\",,\"StudyData\", \"Vol(\"&$D$12&\") when LocalYear(\"&$D$12&\")=\"&$D$8&\" and localMonth(\"&$D$12&\") =\"&$E$8&\" and LocalDay(\"&$D$12&\")=\"&$F$8&\" and Barix(\"&$D$12&\",reference:=StartOfDay)=\"&A5&\"\", \"Bar\", \"\", \"Close\",\"A5C\",\"0\",\"All\",,,\"False\",\"T\",\"EveryTick\"))","v":1824},{"$f":"IF(A5=\"\",NA(),RTD(\"cqg.rtd\",,\"StudyData\", \"Vol(\"&$D$12&\") when LocalYear(\"&$D$12&\")=\"&$D$9&\" and localMonth(\"&$D$12&\") =\"&$E$9&\" and LocalDay(\"&$D$12&\")=\"&$F$9&\" and Barix(\"&$D$12&\",reference:=StartOfDay)=\"&A5&\"\", \"Bar\", \"\", \"Close\",\"A5C\",\"0\",\"All\",,,\"False\",\"T\",\"EveryTick\"))","v":6877},{"$f":"IF(A5=\"\",NA(),RTD(\"cqg.rtd\",,\"StudyData\", \"Vol(\"&$D$12&\") when LocalYear(\"&$D$12&\")=\"&$D$10&\" and localMonth(\"&$D$12&\") =\"&$E$10&\" and LocalDay(\"&$D$12&\")=\"&$F$10&\" and Barix(\"&$D$12&\",reference:=StartOfDay)=\"&A5&\"\", \"Bar\", \"\", \"Close\",\"A5C\",\"0\",\"All\",,,\"False\",\"T\",\"EveryTick\"))","v":2300},{"$f":"IF(H5>(1+(MainDisplay!$O$24/100))*I5,H5,NA())","v":{"$error":"#N/A"}}]
[101,{"$f":"Sheet3!B6","v":"01:25:00"},{"$f":" RTD(\"cqg.rtd\",,\"StudyData\",$D$12, \"Bar\", \"\", \"Time\",\"D\",\"-5\",,,,,\"T\")","v":"2021-10-06"},2021,10,6,{"$f":" RTD(\"cqg.rtd\",,\"StudyData\",$D$12, \"Bar\", \"\", \"Close\",\"D\",\"-5\",,,,,\"T\")","v":4354},{"$f":"IF(A6=\"\",NA(),RTD(\"cqg.rtd\",,\"StudyData\", \"Vol(\"&$D$12&\") when LocalYear(\"&$D$12&\")=\"&$D$1&\" and localMonth(\"&$D$12&\") =\"&$E$1&\" and LocalDay(\"&$D$12&\")=\"&$F$1&\" and Barix(\"&$D$12&\",reference:=StartOfDay)=\"&A6&\"\", \"Bar\", \"\", \"Close\",\"A5C\",\"0\",\"All\",,,\"False\",\"T\",\"EveryTick\"))","v":893},1427.8888888888889,{"$f":"IF(A6=\"\",NA(),RTD(\"cqg.rtd\",,\"StudyData\", \"Vol(\"&$D$12&\") when LocalYear(\"&$D$12&\")=\"&$D$2&\" and localMonth(\"&$D$12&\") =\"&$E$2&\" and LocalDay(\"&$D$12&\")=\"&$F$2&\" and Barix(\"&$D$12&\",reference:=StartOfDay)=\"&A6&\"\", \"Bar\", \"\", \"Close\",\"A5C\",\"0\",\"All\",,,\"False\",\"T\",\"EveryTick\"))","v":684},{"$f":"IF(A6=\"\",NA(),RTD(\"cqg.rtd\",,\"StudyData\", \"Vol(\"&$D$12&\") when LocalYear(\"&$D$12&\")=\"&$D$3&\" and localMonth(\"&$D$12&\") =\"&$E$3&\" and LocalDay(\"&$D$12&\")=\"&$F$3&\" and Barix(\"&$D$12&\",reference:=StartOfDay)=\"&A6&\"\", \"Bar\", \"\", \"Close\",\"A5C\",\"0\",\"All\",,,\"False\",\"T\",\"EveryTick\"))","v":1018},{"$f":"IF(A6=\"\",NA(),RTD(\"cqg.rtd\",,\"StudyData\", \"Vol(\"&$D$12&\") when LocalYear(\"&$D$12&\")=\"&$D$4&\" and localMonth(\"&$D$12&\") =\"&$E$4&\" and LocalDay(\"&$D$12&\")=\"&$F$4&\" and Barix(\"&$D$12&\",reference:=StartOfDay)=\"&A6&\"\", \"Bar\", \"\", \"Close\",\"A5C\",\"0\",\"All\",,,\"False\",\"T\",\"EveryTick\"))","v":523},{"$f":"IF(A6=\"\",NA(),RTD(\"cqg.rtd\",,\"StudyData\", \"Vol(\"&$D$12&\") when LocalYear(\"&$D$12&\")=\"&$D$5&\" and localMonth(\"&$D$12&\") =\"&$E$5&\" and LocalDay(\"&$D$12&\")=\"&$F$5&\" and Barix(\"&$D$12&\",reference:=StartOfDay)=\"&A6&\"\", \"Bar\", \"\", \"Close\",\"A5C\",\"0\",\"All\",,,\"False\",\"T\",\"EveryTick\"))","v":972},{"$f":"IF(A6=\"\",NA(),RTD(\"cqg.rtd\",,\"StudyData\", \"Vol(\"&$D$12&\") when LocalYear(\"&$D$12&\")=\"&$D$6&\" and localMonth(\"&$D$12&\") =\"&$E$6&\" and LocalDay(\"&$D$12&\")=\"&$F$6&\" and Barix(\"&$D$12&\",reference:=StartOfDay)=\"&A6&\"\", \"Bar\", \"\", \"Close\",\"A5C\",\"0\",\"All\",,,\"False\",\"T\",\"EveryTick\"))","v":582},{"$f":"IF(A6=\"\",NA(),RTD(\"cqg.rtd\",,\"StudyData\", \"Vol(\"&$D$12&\") when LocalYear(\"&$D$12&\")=\"&$D$7&\" and localMonth(\"&$D$12&\") =\"&$E$7&\" and LocalDay(\"&$D$12&\")=\"&$F$7&\" and Barix(\"&$D$12&\",reference:=StartOfDay)=\"&A6&\"\", \"Bar\", \"\", \"Close\",\"A5C\",\"0\",\"All\",,,\"False\",\"T\",\"EveryTick\"))","v":1062},{"$f":"IF(A6=\"\",NA(),RTD(\"cqg.rtd\",,\"StudyData\", \"Vol(\"&$D$12&\") when LocalYear(\"&$D$12&\")=\"&$D$8&\" and localMonth(\"&$D$12&\") =\"&$E$8&\" and LocalDay(\"&$D$12&\")=\"&$F$8&\" and Barix(\"&$D$12&\",reference:=StartOfDay)=\"&A6&\"\", \"Bar\", \"\", \"Close\",\"A5C\",\"0\",\"All\",,,\"False\",\"T\",\"EveryTick\"))","v":2475},{"$f":"IF(A6=\"\",NA(),RTD(\"cqg.rtd\",,\"StudyData\", \"Vol(\"&$D$12&\") when LocalYear(\"&$D$12&\")=\"&$D$9&\" and localMonth(\"&$D$12&\") =\"&$E$9&\" and LocalDay(\"&$D$12&\")=\"&$F$9&\" and Barix(\"&$D$12&\",reference:=StartOfDay)=\"&A6&\"\", \"Bar\", \"\", \"Close\",\"A5C\",\"0\",\"All\",,,\"False\",\"T\",\"EveryTick\"))","v":3192},{"$f":"IF(A6=\"\",NA(),RTD(\"cqg.rtd\",,\"StudyData\", \"Vol(\"&$D$12&\") when LocalYear(\"&$D$12&\")=\"&$D$10&\" and localMonth(\"&$D$12&\") =\"&$E$10&\" and LocalDay(\"&$D$12&\")=\"&$F$10&\" and Barix(\"&$D$12&\",reference:=StartOfDay)=\"&A6&\"\", \"Bar\", \"\", \"Close\",\"A5C\",\"0\",\"All\",,,\"False\",\"T\",\"EveryTick\"))","v":2343},{"$f":"IF(H6>(1+(MainDisplay!$O$24/100))*I6,H6,NA())","v":{"$error":"#N/A"}}]
[102,{"$f":"Sheet3!B7","v":"01:30:00"},{"$f":" RTD(\"cqg.rtd\",,\"StudyData\",$D$12, \"Bar\", \"\", \"Time\",\"D\",\"-6\",,,,,\"T\")","v":"2021-10-05"},2021,10,5,{"$f":" RTD(\"cqg.rtd\",,\"StudyData\",$D$12, \"Bar\", \"\", \"Close\",\"D\",\"-6\",,,,,\"T\")","v":4334},{"$f":"IF(A7=\"\",NA(),RTD(\"cqg.rtd\",,\"StudyData\", \"Vol(\"&$D$12&\") when LocalYear(\"&$D$12&\")=\"&$D$1&\" and localMonth(\"&$D$12&\") =\"&$E$1&\" and LocalDay(\"&$D$12&\")=\"&$F$1&\" and Barix(\"&$D$12&\",reference:=StartOfDay)=\"&A7&\"\", \"Bar\", \"\", \"Close\",\"A5C\",\"0\",\"All\",,,\"False\",\"T\",\"EveryTick\"))","v":388},1560,{"$f":"IF(A7=\"\",NA(),RTD(\"cqg.rtd\",,\"StudyData\", \"Vol(\"&$D$12&\") when LocalYear(\"&$D$12&\")=\"&$D$2&\" and localMonth(\"&$D$12&\") =\"&$E$2&\" and LocalDay(\"&$D$12&\")=\"&$F$2&\" and Barix(\"&$D$12&\",reference:=StartOfDay)=\"&A7&\"\", \"Bar\", \"\", \"Close\",\"A5C\",\"0\",\"All\",,,\"False\",\"T\",\"EveryTick\"))","v":1080},{"$f":"IF(A7=\"\",NA(),RTD(\"cqg.rtd\",,\"StudyData\", \"Vol(\"&$D$12&\") when LocalYear(\"&$D$12&\")=\"&$D$3&\" and localMonth(\"&$D$12&\") =\"&$E$3&\" and LocalDay(\"&$D$12&\")=\"&$F$3&\" and Barix(\"&$D$12&\",reference:=StartOfDay)=\"&A7&\"\", \"Bar\", \"\", \"Close\",\"A5C\",\"0\",\"All\",,,\"False\",\"T\",\"EveryTick\"))","v":2135},{"$f":"IF(A7=\"\",NA(),RTD(\"cqg.rtd\",,\"StudyData\", \"Vol(\"&$D$12&\") when LocalYear(\"&$D$12&\")=\"&$D$4&\" and localMonth(\"&$D$12&\") =\"&$E$4&\" and LocalDay(\"&$D$12&\")=\"&$F$4&\" and Barix(\"&$D$12&\",reference:=StartOfDay)=\"&A7&\"\", \"Bar\", \"\", \"Close\",\"A5C\",\"0\",\"All\",,,\"False\",\"T\",\"EveryTick\"))","v":819},{"$f":"IF(A7=\"\",NA(),RTD(\"cqg.rtd\",,\"StudyData\", \"Vol(\"&$D$12&\") when LocalYear(\"&$D$12&\")=\"&$D$5&\" and localMonth(\"&$D$12&\") =\"&$E$5&\" and LocalDay(\"&$D$12&\")=\"&$F$5&\" and Barix(\"&$D$12&\",reference:=StartOfDay)=\"&A7&\"\", \"Bar\", \"\", \"Close\",\"A5C\",\"0\",\"All\",,,\"False\",\"T\",\"EveryTick\"))","v":1680},{"$f":"IF(A7=\"\",NA(),RTD(\"cqg.rtd\",,\"StudyData\", \"Vol(\"&$D$12&\") when LocalYear(\"&$D$12&\")=\"&$D$6&\" and localMonth(\"&$D$12&\") =\"&$E$6&\" and LocalDay(\"&$D$12&\")=\"&$F$6&\" and Barix(\"&$D$12&\",reference:=StartOfDay)=\"&A7&\"\", \"Bar\", \"\", \"Close\",\"A5C\",\"0\",\"All\",,,\"False\",\"T\",\"EveryTick\"))","v":865},{"$f":"IF(A7=\"\",NA(),RTD(\"cqg.rtd\",,\"StudyData\", \"Vol(\"&$D$12&\") when LocalYear(\"&$D$12&\")=\"&$D$7&\" and localMonth(\"&$D$12&\") =\"&$E$7&\" and LocalDay(\"&$D$12&\")=\"&$F$7&\" and Barix(\"&$D$12&\",reference:=StartOfDay)=\"&A7&\"\", \"Bar\", \"\", \"Close\",\"A5C\",\"0\",\"All\",,,\"False\",\"T\",\"EveryTick\"))","v":822},{"$f":"IF(A7=\"\",NA(),RTD(\"cqg.rtd\",,\"StudyData\", \"Vol(\"&$D$12&\") when LocalYear(\"&$D$12&\")=\"&$D$8&\" and localMonth(\"&$D$12&\") =\"&$E$8&\" and LocalDay(\"&$D$12&\")=\"&$F$8&\" and Barix(\"&$D$12&\",reference:=StartOfDay)=\"&A7&\"\", \"Bar\", \"\", \"Close\",\"A5C\",\"0\",\"All\",,,\"False\",\"T\",\"EveryTick\"))","v":2688},{"$f":"IF(A7=\"\",NA(),RTD(\"cqg.rtd\",,\"StudyData\", \"Vol(\"&$D$12&\") when LocalYear(\"&$D$12&\")=\"&$D$9&\" and localMonth(\"&$D$12&\") =\"&$E$9&\" and LocalDay(\"&$D$12&\")=\"&$F$9&\" and Barix(\"&$D$12&\",reference:=StartOfDay)=\"&A7&\"\", \"Bar\", \"\", \"Close\",\"A5C\",\"0\",\"All\",,,\"False\",\"T\",\"EveryTick\"))","v":2776},{"$f":"IF(A7=\"\",NA(),RTD(\"cqg.rtd\",,\"StudyData\", \"Vol(\"&$D$12&\") when LocalYear(\"&$D$12&\")=\"&$D$10&\" and localMonth(\"&$D$12&\") =\"&$E$10&\" and LocalDay(\"&$D$12&\")=\"&$F$10&\" and Barix(\"&$D$12&\",reference:=StartOfDay)=\"&A7&\"\", \"Bar\", \"\", \"Close\",\"A5C\",\"0\",\"All\",,,\"False\",\"T\",\"EveryTick\"))","v":1175},{"$f":"IF(H7>(1+(MainDisplay!$O$24/100))*I7,H7,NA())","v":{"$error":"#N/A"}}]
[103,{"$f":"Sheet3!B8","v":"01:35:00"},{"$f":" RTD(\"cqg.rtd\",,\"StudyData\",$D$12, \"Bar\", \"\", \"Time\",\"D\",\"-7\",,,,,\"T\")","v":"2021-10-04"},2021,10,4,{"$f":" RTD(\"cqg.rtd\",,\"StudyData\",$D$12, \"Bar\", \"\", \"Close\",\"D\",\"-7\",,,,,\"T\")","v":4291.25},{"$f":"IF(A8=\"\",NA(),RTD(\"cqg.rtd\",,\"StudyData\", \"Vol(\"&$D$12&\") when LocalYear(\"&$D$12&\")=\"&$D$1&\" and localMonth(\"&$D$12&\") =\"&$E$1&\" and LocalDay(\"&$D$12&\")=\"&$F$1&\" and Barix(\"&$D$12&\",reference:=StartOfDay)=\"&A8&\"\", \"Bar\", \"\", \"Close\",\"A5C\",\"0\",\"All\",,,\"False\",\"T\",\"EveryTick\"))","v":410},1153.2222222222222,{"$f":"IF(A8=\"\",NA(),RTD(\"cqg.rtd\",,\"StudyData\", \"Vol(\"&$D$12&\") when LocalYear(\"&$D$12&\")=\"&$D$2&\" and localMonth(\"&$D$12&\") =\"&$E$2&\" and LocalDay(\"&$D$12&\")=\"&$F$2&\" and Barix(\"&$D$12&\",reference:=StartOfDay)=\"&A8&\"\", \"Bar\", \"\", \"Close\",\"A5C\",\"0\",\"All\",,,\"False\",\"T\",\"EveryTick\"))","v":771},{"$f":"IF(A8=\"\",NA(),RTD(\"cqg.rtd\",,\"StudyData\", \"Vol(\"&$D$12&\") when LocalYear(\"&$D$12&\")=\"&$D$3&\" and localMonth(\"&$D$12&\") =\"&$E$3&\" and LocalDay(\"&$D$12&\")=\"&$F$3&\" and Barix(\"&$D$12&\",reference:=StartOfDay)=\"&A8&\"\", \"Bar\", \"\", \"Close\",\"A5C\",\"0\",\"All\",,,\"False\",\"T\",\"EveryTick\"))","v":1698},{"$f":"IF(A8=\"\",NA(),RTD(\"cqg.rtd\",,\"StudyData\", \"Vol(\"&$D$12&\") when LocalYear(\"&$D$12&\")=\"&$D$4&\" and localMonth(\"&$D$12&\") =\"&$E$4&\" and LocalDay(\"&$D$12&\")=\"&$F$4&\" and Barix(\"&$D$12&\",reference:=StartOfDay)=\"&A8&\"\", \"Bar\", \"\", \"Close\",\"A5C\",\"0\",\"All\",,,\"False\",\"T\",\"EveryTick\"))","v":548},{"$f":"IF(A8=\"\",NA(),RTD(\"cqg.rtd\",,\"StudyData\", \"Vol(\"&$D$12&\") when LocalYear(\"&$D$12&\")=\"&$D$5&\" and localMonth(\"&$D$12&\") =\"&$E$5&\" and LocalDay(\"&$D$12&\")=\"&$F$5&\" and Barix(\"&$D$12&\",reference:=StartOfDay)=\"&A8&\"\", \"Bar\", \"\", \"Close\",\"A5C\",\"0\",\"All\",,,\"False\",\"T\",\"EveryTick\"))","v":974},{"$f":"IF(A8=\"\",NA(),RTD(\"cqg.rtd\",,\"StudyData\", \"Vol(\"&$D$12&\") when LocalYear(\"&$D$12&\")=\"&$D$6&\" and localMonth(\"&$D$12&\") =\"&$E$6&\" and LocalDay(\"&$D$12&\")=\"&$F$6&\" and Barix(\"&$D$12&\",reference:=StartOfDay)=\"&A8&\"\", \"Bar\", \"\", \"Close\",\"A5C\",\"0\",\"All\",,,\"False\",\"T\",\"EveryTick\"))","v":817},{"$f":"IF(A8=\"\",NA(),RTD(\"cqg.rtd\",,\"StudyData\", \"Vol(\"&$D$12&\") when LocalYear(\"&$D$12&\")=\"&$D$7&\" and localMonth(\"&$D$12&\") =\"&$E$7&\" and LocalDay(\"&$D$12&\")=\"&$F$7&\" and Barix(\"&$D$12&\",reference:=StartOfDay)=\"&A8&\"\", \"Bar\", \"\", \"Close\",\"A5C\",\"0\",\"All\",,,\"False\",\"T\",\"EveryTick\"))","v":1098},{"$f":"IF(A8=\"\",NA(),RTD(\"cqg.rtd\",,\"StudyData\", \"Vol(\"&$D$12&\") when LocalYear(\"&$D$12&\")=\"&$D$8&\" and localMonth(\"&$D$12&\") =\"&$E$8&\" and LocalDay(\"&$D$12&\")=\"&$F$8&\" and Barix(\"&$D$12&\",reference:=StartOfDay)=\"&A8&\"\", \"Bar\", \"\", \"Close\",\"A5C\",\"0\",\"All\",,,\"False\",\"T\",\"EveryTick\"))","v":1929},{"$f":"IF(A8=\"\",NA(),RTD(\"cqg.rtd\",,\"StudyData\", \"Vol(\"&$D$12&\") when LocalYear(\"&$D$12&\")=\"&$D$9&\" and localMonth(\"&$D$12&\") =\"&$E$9&\" and LocalDay(\"&$D$12&\")=\"&$F$9&\" and Barix(\"&$D$12&\",reference:=StartOfDay)=\"&A8&\"\", \"Bar\", \"\", \"Close\",\"A5C\",\"0\",\"All\",,,\"False\",\"T\",\"EveryTick\"))","v":1769},{"$f":"IF(A8=\"\",NA(),RTD(\"cqg.rtd\",,\"StudyData\", \"Vol(\"&$D$12&\") when LocalYear(\"&$D$12&\")=\"&$D$10&\" and localMonth(\"&$D$12&\") =\"&$E$10&\" and LocalDay(\"&$D$12&\")=\"&$F$10&\" and Barix(\"&$D$12&\",reference:=StartOfDay)=\"&A8&\"\", \"Bar\", \"\", \"Close\",\"A5C\",\"0\",\"All\",,,\"False\",\"T\",\"EveryTick\"))","v":775},{"$f":"IF(H8>(1+(MainDisplay!$O$24/100))*I8,H8,NA())","v":{"$error":"#N/A"}}]
[104,{"$f":"Sheet3!B9","v":"01:40:00"},{"$f":" RTD(\"cqg.rtd\",,\"StudyData\",$D$12, \"Bar\", \"\", \"Time\",\"D\",\"-8\",,,,,\"T\")","v":"2021-10-01"},2021,10,1,{"$f":" RTD(\"cqg.rtd\",,\"StudyData\",$D$12, \"Bar\", \"\", \"Close\",\"D\",\"-8\",,,,,\"T\")","v":4343.75},{"$f":"IF(A9=\"\",NA(),RTD(\"cqg.rtd\",,\"StudyData\", \"Vol(\"&$D$12&\") when LocalYear(\"&$D$12&\")=\"&$D$1&\" and localMonth(\"&$D$12&\") =\"&$E$1&\" and LocalDay(\"&$D$12&\")=\"&$F$1&\" and Barix(\"&$D$12&\",reference:=StartOfDay)=\"&A9&\"\", \"Bar\", \"\", \"Close\",\"A5C\",\"0\",\"All\",,,\"False\",\"T\",\"EveryTick\"))","v":450},1060.2222222222222,{"$f":"IF(A9=\"\",NA(),RTD(\"cqg.rtd\",,\"StudyData\", \"Vol(\"&$D$12&\") when LocalYear(\"&$D$12&\")=\"&$D$2&\" and localMonth(\"&$D$12&\") =\"&$E$2&\" and LocalDay(\"&$D$12&\")=\"&$F$2&\" and Barix(\"&$D$12&\",reference:=StartOfDay)=\"&A9&\"\", \"Bar\", \"\", \"Close\",\"A5C\",\"0\",\"All\",,,\"False\",\"T\",\"EveryTick\"))","v":721},{"$f":"IF(A9=\"\",NA(),RTD(\"cqg.rtd\",,\"StudyData\", \"Vol(\"&$D$12&\") when LocalYear(\"&$D$12&\")=\"&$D$3&\" and localMonth(\"&$D$12&\") =\"&$E$3&\" and LocalDay(\"&$D$12&\")=\"&$F$3&\" and Barix(\"&$D$12&\",reference:=StartOfDay)=\"&A9&\"\", \"Bar\", \"\", \"Close\",\"A5C\",\"0\",\"All\",,,\"False\",\"T\",\"EveryTick\"))","v":1418},{"$f":"IF(A9=\"\",NA(),RTD(\"cqg.rtd\",,\"StudyData\", \"Vol(\"&$D$12&\") when LocalYear(\"&$D$12&\")=\"&$D$4&\" and localMonth(\"&$D$12&\") =\"&$E$4&\" and LocalDay(\"&$D$12&\")=\"&$F$4&\" and Barix(\"&$D$12&\",reference:=StartOfDay)=\"&A9&\"\", \"Bar\", \"\", \"Close\",\"A5C\",\"0\",\"All\",,,\"False\",\"T\",\"EveryTick\"))","v":401},{"$f":"IF(A9=\"\",NA(),RTD(\"cqg.rtd\",,\"StudyData\", \"Vol(\"&$D$12&\") when LocalYear(\"&$D$12&\")=\"&$D$5&\" and localMonth(\"&$D$12&\") =\"&$E$5&\" and LocalDay(\"&$D$12&\")=\"&$F$5&\" and Barix(\"&$D$12&\",reference:=StartOfDay)=\"&A9&\"\", \"Bar\", \"\", \"Close\",\"A5C\",\"0\",\"All\",,,\"False\",\"T\",\"EveryTick\"))","v":1230},{"$f":"IF(A9=\"\",NA(),RTD(\"cqg.rtd\",,\"StudyData\", \"Vol(\"&$D$12&\") when LocalYear(\"&$D$12&\")=\"&$D$6&\" and localMonth(\"&$D$12&\") =\"&$E$6&\" and LocalDay(\"&$D$12&\")=\"&$F$6&\" and Barix(\"&$D$12&\",reference:=StartOfDay)=\"&A9&\"\", \"Bar\", \"\", \"Close\",\"A5C\",\"0\",\"All\",,,\"False\",\"T\",\"EveryTick\"))","v":741},{"$f":"IF(A9=\"\",NA(),RTD(\"cqg.rtd\",,\"StudyData\", \"Vol(\"&$D$12&\") when LocalYear(\"&$D$12&\")=\"&$D$7&\" and localMonth(\"&$D$12&\") =\"&$E$7&\" and LocalDay(\"&$D$12&\")=\"&$F$7&\" and Barix(\"&$D$12&\",reference:=StartOfDay)=\"&A9&\"\", \"Bar\", \"\", \"Close\",\"A5C\",\"0\",\"All\",,,\"False\",\"T\",\"EveryTick\"))","v":1491},{"$f":"IF(A9=\"\",NA(),RTD(\"cqg.rtd\",,\"StudyData\", \"Vol(\"&$D$12&\") when LocalYear(\"&$D$12&\")=\"&$D$8&\" and localMonth(\"&$D$12&\") =\"&$E$8&\" and LocalDay(\"&$D$12&\")=\"&$F$8&\" and Barix(\"&$D$12&\",reference:=StartOfDay)=\"&A9&\"\", \"Bar\", \"\", \"Close\",\"A5C\",\"0\",\"All\",,,\"False\",\"T\",\"EveryTick\"))","v":1052},{"$f":"IF(A9=\"\",NA(),RTD(\"cqg.rtd\",,\"StudyData\", \"Vol(\"&$D$12&\") when LocalYear(\"&$D$12&\")=\"&$D$9&\" and localMonth(\"&$D$12&\") =\"&$E$9&\" and LocalDay(\"&$D$12&\")=\"&$F$9&\" and Barix(\"&$D$12&\",reference:=StartOfDay)=\"&A9&\"\", \"Bar\", \"\", \"Close\",\"A5C\",\"0\",\"All\",,,\"False\",\"T\",\"EveryTick\"))","v":1637},{"$f":"IF(A9=\"\",NA(),RTD(\"cqg.rtd\",,\"StudyData\", \"Vol(\"&$D$12&\") when LocalYear(\"&$D$12&\")=\"&$D$10&\" and localMonth(\"&$D$12&\") =\"&$E$10&\" and LocalDay(\"&$D$12&\")=\"&$F$10&\" and Barix(\"&$D$12&\",reference:=StartOfDay)=\"&A9&\"\", \"Bar\", \"\", \"Close\",\"A5C\",\"0\",\"All\",,,\"False\",\"T\",\"EveryTick\"))","v":851},{"$f":"IF(H9>(1+(MainDisplay!$O$24/100))*I9,H9,NA())","v":{"$error":"#N/A"}}]
[105,{"$f":"Sheet3!B10","v":"01:45:00"},{"$f":" RTD(\"cqg.rtd\",,\"StudyData\",$D$12, \"Bar\", \"\", \"Time\",\"D\",\"-9\",,,,,\"T\")","v":"2021-09-30"},2021,9,30,{"$f":" RTD(\"cqg.rtd\",,\"StudyData\",$D$12, \"Bar\", \"\", \"Close\",\"D\",\"-9\",,,,,\"T\")","v":4297.75},{"$f":"IF(A10=\"\",NA(),RTD(\"cqg.rtd\",,\"StudyData\", \"Vol(\"&$D$12&\") when LocalYear(\"&$D$12&\")=\"&$D$1&\" and localMonth(\"&$D$12&\") =\"&$E$1&\" and LocalDay(\"&$D$12&\")=\"&$F$1&\" and Barix(\"&$D$12&\",reference:=StartOfDay)=\"&A10&\"\", \"Bar\", \"\", \"Close\",\"A5C\",\"0\",\"All\",,,\"False\",\"T\",\"EveryTick\"))","v":482},1338.8888888888889,{"$f":"IF(A10=\"\",NA(),RTD(\"cqg.rtd\",,\"StudyData\", \"Vol(\"&$D$12&\") when LocalYear(\"&$D$12&\")=\"&$D$2&\" and localMonth(\"&$D$12&\") =\"&$E$2&\" and LocalDay(\"&$D$12&\")=\"&$F$2&\" and Barix(\"&$D$12&\",reference:=StartOfDay)=\"&A10&\"\", \"Bar\", \"\", \"Close\",\"A5C\",\"0\",\"All\",,,\"False\",\"T\",\"EveryTick\"))","v":2078},{"$f":"IF(A10=\"\",NA(),RTD(\"cqg.rtd\",,\"StudyData\", \"Vol(\"&$D$12&\") when LocalYear(\"&$D$12&\")=\"&$D$3&\" and localMonth(\"&$D$12&\") =\"&$E$3&\" and LocalDay(\"&$D$12&\")=\"&$F$3&\" and Barix(\"&$D$12&\",reference:=StartOfDay)=\"&A10&\"\", \"Bar\", \"\", \"Close\",\"A5C\",\"0\",\"All\",,,\"False\",\"T\",\"EveryTick\"))","v":991},{"$f":"IF(A10=\"\",NA(),RTD(\"cqg.rtd\",,\"StudyData\", \"Vol(\"&$D$12&\") when LocalYear(\"&$D$12&\")=\"&$D$4&\" and localMonth(\"&$D$12&\") =\"&$E$4&\" and LocalDay(\"&$D$12&\")=\"&$F$4&\" and Barix(\"&$D$12&\",reference:=StartOfDay)=\"&A10&\"\", \"Bar\", \"\", \"Close\",\"A5C\",\"0\",\"All\",,,\"False\",\"T\",\"EveryTick\"))","v":570},{"$f":"IF(A10=\"\",NA(),RTD(\"cqg.rtd\",,\"StudyData\", \"Vol(\"&$D$12&\") when LocalYear(\"&$D$12&\")=\"&$D$5&\" and localMonth(\"&$D$12&\") =\"&$E$5&\" and LocalDay(\"&$D$12&\")=\"&$F$5&\" and Barix(\"&$D$12&\",reference:=StartOfDay)=\"&A10&\"\", \"Bar\", \"\", \"Close\",\"A5C\",\"0\",\"All\",,,\"False\",\"T\",\"EveryTick\"))","v":1962},{"$f":"IF(A10=\"\",NA(),RTD(\"cqg.rtd\",,\"StudyData\", \"Vol(\"&$D$12&\") when LocalYear(\"&$D$12&\")=\"&$D$6&\" and localMonth(\"&$D$12&\") =\"&$E$6&\" and LocalDay(\"&$D$12&\")=\"&$F$6&\" and Barix(\"&$D$12&\",reference:=StartOfDay)=\"&A10&\"\", \"Bar\", \"\", \"Close\",\"A5C\",\"0\",\"All\",,,\"False\",\"T\",\"EveryTick\"))","v":755},{"$f":"IF(A10=\"\",NA(),RTD(\"cqg.rtd\",,\"StudyData\", \"Vol(\"&$D$12&\") when LocalYear(\"&$D$12&\")=\"&$D$7&\" and localMonth(\"&$D$12&\") =\"&$E$7&\" and LocalDay(\"&$D$12&\")=\"&$F$7&\" and Barix(\"&$D$12&\",reference:=StartOfDay)=\"&A10&\"\", \"Bar\", \"\", \"Close\",\"A5C\",\"0\",\"All\",,,\"False\",\"T\",\"EveryTick\"))","v":532},{"$f":"IF(A10=\"\",NA(),RTD(\"cqg.rtd\",,\"StudyData\", \"Vol(\"&$D$12&\") when LocalYear(\"&$D$12&\")=\"&$D$8&\" and localMonth(\"&$D$12&\") =\"&$E$8&\" and LocalDay(\"&$D$12&\")=\"&$F$8&\" and Barix(\"&$D$12&\",reference:=StartOfDay)=\"&A10&\"\", \"Bar\", \"\", \"Close\",\"A5C\",\"0\",\"All\",,,\"False\",\"T\",\"EveryTick\"))","v":1267},{"$f":"IF(A10=\"\",NA(),RTD(\"cqg.rtd\",,\"StudyData\", \"Vol(\"&$D$12&\") when LocalYear(\"&$D$12&\")=\"&$D$9&\" and localMonth(\"&$D$12&\") =\"&$E$9&\" and LocalDay(\"&$D$12&\")=\"&$F$9&\" and Barix(\"&$D$12&\",reference:=StartOfDay)=\"&A10&\"\", \"Bar\", \"\", \"Close\",\"A5C\",\"0\",\"All\",,,\"False\",\"T\",\"EveryTick\"))","v":2194},{"$f":"IF(A10=\"\",NA(),RTD(\"cqg.rtd\",,\"StudyData\", \"Vol(\"&$D$12&\") when LocalYear(\"&$D$12&\")=\"&$D$10&\" and localMonth(\"&$D$12&\") =\"&$E$10&\" and LocalDay(\"&$D$12&\")=\"&$F$10&\" and Barix(\"&$D$12&\",reference:=StartOfDay)=\"&A10&\"\", \"Bar\", \"\", \"Close\",\"A5C\",\"0\",\"All\",,,\"False\",\"T\",\"EveryTick\"))","v":1701},{"$f":"IF(H10>(1+(MainDisplay!$O$24/100))*I10,H10,NA())","v":{"$error":"#N/A"}}]
[106,{"$f":"Sheet3!B11","v":"01:50:00"},{"$f":" RTD(\"cqg.rtd\",,\"StudyData\",$D$12, \"Bar\", \"\", \"Time\",\"D\",\"-10\",,,,,\"T\")","v":"2021-09-29"},2021,9,29,{"$f":" RTD(\"cqg.rtd\",,\"StudyData\",$D$12, \"Bar\", \"\", \"Close\",\"D\",\"-10\",,,,,\"T\")","v":4349.75},{"$f":"IF(A11=\"\",NA(),RTD(\"cqg.rtd\",,\"StudyData\", \"Vol(\"&$D$12&\") when LocalYear(\"&$D$12&\")=\"&$D$1&\" and localMonth(\"&$D$12&\") =\"&$E$1&\" and LocalDay(\"&$D$12&\")=\"&$F$1&\" and Barix(\"&$D$12&\",reference:=StartOfDay)=\"&A11&\"\", \"Bar\", \"\", \"Close\",\"A5C\",\"0\",\"All\",,,\"False\",\"T\",\"EveryTick\"))","v":410},1557.5555555555557,{"$f":"IF(A11=\"\",NA(),RTD(\"cqg.rtd\",,\"StudyData\", \"Vol(\"&$D$12&\") when LocalYear(\"&$D$12&\")=\"&$D$2&\" and localMonth(\"&$D$12&\") =\"&$E$2&\" and LocalDay(\"&$D$12&\")=\"&$F$2&\" and Barix(\"&$D$12&\",reference:=StartOfDay)=\"&A11&\"\", \"Bar\", \"\", \"Close\",\"A5C\",\"0\",\"All\",,,\"False\",\"T\",\"EveryTick\"))","v":2511},{"$f":"IF(A11=\"\",NA(),RTD(\"cqg.rtd\",,\"StudyData\", \"Vol(\"&$D$12&\") when LocalYear(\"&$D$12&\")=\"&$D$3&\" and localMonth(\"&$D$12&\") =\"&$E$3&\" and LocalDay(\"&$D$12&\")=\"&$F$3&\" and Barix(\"&$D$12&\",reference:=StartOfDay)=\"&A11&\"\", \"Bar\", \"\", \"Close\",\"A5C\",\"0\",\"All\",,,\"False\",\"T\",\"EveryTick\"))","v":979},{"$f":"IF(A11=\"\",NA(),RTD(\"cqg.rtd\",,\"StudyData\", \"Vol(\"&$D$12&\") when LocalYear(\"&$D$12&\")=\"&$D$4&\" and localMonth(\"&$D$12&\") =\"&$E$4&\" and LocalDay(\"&$D$12&\")=\"&$F$4&\" and Barix(\"&$D$12&\",reference:=StartOfDay)=\"&A11&\"\", \"Bar\", \"\", \"Close\",\"A5C\",\"0\",\"All\",,,\"False\",\"T\",\"EveryTick\"))","v":306},{"$f":"IF(A11=\"\",NA(),RTD(\"cqg.rtd\",,\"StudyData\", \"Vol(\"&$D$12&\") when LocalYear(\"&$D$12&\")=\"&$D$5&\" and localMonth(\"&$D$12&\") =\"&$E$5&\" and LocalDay(\"&$D$12&\")=\"&$F$5&\" and Barix(\"&$D$12&\",reference:=StartOfDay)=\"&A11&\"\", \"Bar\", \"\", \"Close\",\"A5C\",\"0\",\"All\",,,\"False\",\"T\",\"EveryTick\"))","v":1598},{"$f":"IF(A11=\"\",NA(),RTD(\"cqg.rtd\",,\"StudyData\", \"Vol(\"&$D$12&\") when LocalYear(\"&$D$12&\")=\"&$D$6&\" and localMonth(\"&$D$12&\") =\"&$E$6&\" and LocalDay(\"&$D$12&\")=\"&$F$6&\" and Barix(\"&$D$12&\",reference:=StartOfDay)=\"&A11&\"\", \"Bar\", \"\", \"Close\",\"A5C\",\"0\",\"All\",,,\"False\",\"T\",\"EveryTick\"))","v":2056},{"$f":"IF(A11=\"\",NA(),RTD(\"cqg.rtd\",,\"StudyData\", \"Vol(\"&$D$12&\") when LocalYear(\"&$D$12&\")=\"&$D$7&\" and localMonth(\"&$D$12&\") =\"&$E$7&\" and LocalDay(\"&$D$12&\")=\"&$F$7&\" and Barix(\"&$D$12&\",reference:=StartOfDay)=\"&A11&\"\", \"Bar\", \"\", \"Close\",\"A5C\",\"0\",\"All\",,,\"False\",\"T\",\"EveryTick\"))","v":1048},{"$f":"IF(A11=\"\",NA(),RTD(\"cqg.rtd\",,\"StudyData\", \"Vol(\"&$D$12&\") when LocalYear(\"&$D$12&\")=\"&$D$8&\" and localMonth(\"&$D$12&\") =\"&$E$8&\" and LocalDay(\"&$D$12&\")=\"&$F$8&\" and Barix(\"&$D$12&\",reference:=StartOfDay)=\"&A11&\"\", \"Bar\", \"\", \"Close\",\"A5C\",\"0\",\"All\",,,\"False\",\"T\",\"EveryTick\"))","v":1478},{"$f":"IF(A11=\"\",NA(),RTD(\"cqg.rtd\",,\"StudyData\", \"Vol(\"&$D$12&\") when LocalYear(\"&$D$12&\")=\"&$D$9&\" and localMonth(\"&$D$12&\") =\"&$E$9&\" and LocalDay(\"&$D$12&\")=\"&$F$9&\" and Barix(\"&$D$12&\",reference:=StartOfDay)=\"&A11&\"\", \"Bar\", \"\", \"Close\",\"A5C\",\"0\",\"All\",,,\"False\",\"T\",\"EveryTick\"))","v":2974},{"$f":"IF(A11=\"\",NA(),RTD(\"cqg.rtd\",,\"StudyData\", \"Vol(\"&$D$12&\") when LocalYear(\"&$D$12&\")=\"&$D$10&\" and localMonth(\"&$D$12&\") =\"&$E$10&\" and LocalDay(\"&$D$12&\")=\"&$F$10&\" and Barix(\"&$D$12&\",reference:=StartOfDay)=\"&A11&\"\", \"Bar\", \"\", \"Close\",\"A5C\",\"0\",\"All\",,,\"False\",\"T\",\"EveryTick\"))","v":1068},{"$f":"IF(H11>(1+(MainDisplay!$O$24/100))*I11,H11,NA())","v":{"$error":"#N/A"}}]
[107,{"$f":"Sheet3!B12","v":"01:55:00"},null,{"$f":"Sheet3!D12","v":"EP"},null,null,null,{"$f":"IF(A12=\"\",NA(),RTD(\"cqg.rtd\",,\"StudyData\", \"Vol(\"&$D$12&\") when LocalYear(\"&$D$12&\")=\"&$D$1&\" and localMonth(\"&$D$12&\") =\"&$E$1&\" and LocalDay(\"&$D$12&\")=\"&$F$1&\" and Barix(\"&$D$12&\",reference:=StartOfDay)=\"&A12&\"\", \"Bar\", \"\", \"Close\",\"A5C\",\"0\",\"All\",,,\"False\",\"T\",\"EveryTick\"))","v":394},1900.6666666666667,{"$f":"IF(A12=\"\",NA(),RTD(\"cqg.rtd\",,\"StudyData\", \"Vol(\"&$D$12&\") when LocalYear(\"&$D$12&\")=\"&$D$2&\" and localMonth(\"&$D$12&\") =\"&$E$2&\" and LocalDay(\"&$D$12&\")=\"&$F$2&\" and Barix(\"&$D$12&\",reference:=StartOfDay)=\"&A12&\"\", \"Bar\", \"\", \"Close\",\"A5C\",\"0\",\"All\",,,\"False\",\"T\",\"EveryTick\"))","v":3387},{"$f":"IF(A12=\"\",NA(),RTD(\"cqg.rtd\",,\"StudyData\", \"Vol(\"&$D$12&\") when LocalYear(\"&$D$12&\")=\"&$D$3&\" and localMonth(\"&$D$12&\") =\"&$E$3&\" and LocalDay(\"&$D$12&\")=\"&$F$3&\" and Barix(\"&$D$12&\",reference:=StartOfDay)=\"&A12&\"\", \"Bar\", \"\", \"Close\",\"A5C\",\"0\",\"All\",,,\"False\",\"T\",\"EveryTick\"))","v":1072},{"$f":"IF(A12=\"\",NA(),RTD(\"cqg.rtd\",,\"StudyData\", \"Vol(\"&$D$12&\") when LocalYear(\"&$D$12&\")=\"&$D$4&\" and localMonth(\"&$D$12&\") =\"&$E$4&\" and LocalDay(\"&$D$12&\")=\"&$F$4&\" and Barix(\"&$D$12&\",reference:=StartOfDay)=\"&A12&\"\", \"Bar\", \"\", \"Close\",\"A5C\",\"0\",\"All\",,,\"False\",\"T\",\"EveryTick\"))","v":579},{"$f":"IF(A12=\"\",NA(),RTD(\"cqg.rtd\",,\"StudyData\", \"Vol(\"&$D$12&\") when LocalYear(\"&$D$12&\")=\"&$D$5&\" and localMonth(\"&$D$12&\") =\"&$E$5&\" and LocalDay(\"&$D$12&\")=\"&$F$5&\" and Barix(\"&$D$12&\",reference:=StartOfDay)=\"&A12&\"\", \"Bar\", \"\", \"Close\",\"A5C\",\"0\",\"All\",,,\"False\",\"T\",\"EveryTick\"))","v":2099},{"$f":"IF(A12=\"\",NA(),RTD(\"cqg.rtd\",,\"StudyData\", \"Vol(\"&$D$12&\") when LocalYear(\"&$D$12&\")=\"&$D$6&\" and localMonth(\"&$D$12&\") =\"&$E$6&\" and LocalDay(\"&$D$12&\")=\"&$F$6&\" and Barix(\"&$D$12&\",reference:=StartOfDay)=\"&A12&\"\", \"Bar\", \"\", \"Close\",\"A5C\",\"0\",\"All\",,,\"False\",\"T\",\"EveryTick\"))","v":1833},{"$f":"IF(A12=\"\",NA(),RTD(\"cqg.rtd\",,\"StudyData\", \"Vol(\"&$D$12&\") when LocalYear(\"&$D$12&\")=\"&$D$7&\" and localMonth(\"&$D$12&\") =\"&$E$7&\" and LocalDay(\"&$D$12&\")=\"&$F$7&\" and Barix(\"&$D$12&\",reference:=StartOfDay)=\"&A12&\"\", \"Bar\", \"\", \"Close\",\"A5C\",\"0\",\"All\",,,\"False\",\"T\",\"EveryTick\"))","v":1052},{"$f":"IF(A12=\"\",NA(),RTD(\"cqg.rtd\",,\"StudyData\", \"Vol(\"&$D$12&\") when LocalYear(\"&$D$12&\")=\"&$D$8&\" and localMonth(\"&$D$12&\") =\"&$E$8&\" and LocalDay(\"&$D$12&\")=\"&$F$8&\" and Barix(\"&$D$12&\",reference:=StartOfDay)=\"&A12&\"\", \"Bar\", \"\", \"Close\",\"A5C\",\"0\",\"All\",,,\"False\",\"T\",\"EveryTick\"))","v":1398},{"$f":"IF(A12=\"\",NA(),RTD(\"cqg.rtd\",,\"StudyData\", \"Vol(\"&$D$12&\") when LocalYear(\"&$D$12&\")=\"&$D$9&\" and localMonth(\"&$D$12&\") =\"&$E$9&\" and LocalDay(\"&$D$12&\")=\"&$F$9&\" and Barix(\"&$D$12&\",reference:=StartOfDay)=\"&A12&\"\", \"Bar\", \"\", \"Close\",\"A5C\",\"0\",\"All\",,,\"False\",\"T\",\"EveryTick\"))","v":4601},{"$f":"IF(A12=\"\",NA(),RTD(\"cqg.rtd\",,\"StudyData\", \"Vol(\"&$D$12&\") when LocalYear(\"&$D$12&\")=\"&$D$10&\" and localMonth(\"&$D$12&\") =\"&$E$10&\" and LocalDay(\"&$D$12&\")=\"&$F$10&\" and Barix(\"&$D$12&\",reference:=StartOfDay)=\"&A12&\"\", \"Bar\", \"\", \"Close\",\"A5C\",\"0\",\"All\",,,\"False\",\"T\",\"EveryTick\"))","v":1085},{"$f":"IF(H12>(1+(MainDisplay!$O$24/100))*I12,H12,NA())","v":{"$error":"#N/A"}}]
[{"$f":"IF($D$12=\"QGA\",0,A12+1)","v":108},{"$f":"Sheet3!B13","v":"02:00:00"},null,{"$f":"RTD(\"cqg.rtd\", ,\"ContractData\",D12, \"LastQuoteToday\",, \"T\")","v":4335.75},null,null,{"$f":"C1","v":"2021-10-13"},{"$f":"IF(A13=\"\",NA(),RTD(\"cqg.rtd\",,\"StudyData\", \"Vol(\"&$D$12&\") when LocalYear(\"&$D$12&\")=\"&$D$1&\" and localMonth(\"&$D$12&\") =\"&$E$1&\" and LocalDay(\"&$D$12&\")=\"&$F$1&\" and Barix(\"&$D$12&\",reference:=StartOfDay)=\"&A13&\"\", \"Bar\", \"\", \"Close\",\"A5C\",\"0\",\"All\",,,\"False\",\"T\",\"EveryTick\"))","v":4168},5592.8888888888887,{"$f":"IF(A13=\"\",NA(),RTD(\"cqg.rtd\",,\"StudyData\", \"Vol(\"&$D$12&\") when LocalYear(\"&$D$12&\")=\"&$D$2&\" and localMonth(\"&$D$12&\") =\"&$E$2&\" and LocalDay(\"&$D$12&\")=\"&$F$2&\" and Barix(\"&$D$12&\",reference:=StartOfDay)=\"&A13&\"\", \"Bar\", \"\", \"Close\",\"A5C\",\"0\",\"All\",,,\"False\",\"T\",\"EveryTick\"))","v":3866},{"$f":"IF(A13=\"\",NA(),RTD(\"cqg.rtd\",,\"StudyData\", \"Vol(\"&$D$12&\") when LocalYear(\"&$D$12&\")=\"&$D$3&\" and localMonth(\"&$D$12&\") =\"&$E$3&\" and LocalDay(\"&$D$12&\")=\"&$F$3&\" and Barix(\"&$D$12&\",reference:=StartOfDay)=\"&A13&\"\", \"Bar\", \"\", \"Close\",\"A5C\",\"0\",\"All\",,,\"False\",\"T\",\"EveryTick\"))","v":4474},{"$f":"IF(A13=\"\",NA(),RTD(\"cqg.rtd\",,\"StudyData\", \"Vol(\"&$D$12&\") when LocalYear(\"&$D$12&\")=\"&$D$4&\" and localMonth(\"&$D$12&\") =\"&$E$4&\" and LocalDay(\"&$D$12&\")=\"&$F$4&\" and Barix(\"&$D$12&\",reference:=StartOfDay)=\"&A13&\"\", \"Bar\", \"\", \"Close\",\"A5C\",\"0\",\"All\",,,\"False\",\"T\",\"EveryTick\"))","v":3217},{"$f":"IF(A13=\"\",NA(),RTD(\"cqg.rtd\",,\"StudyData\", \"Vol(\"&$D$12&\") when LocalYear(\"&$D$12&\")=\"&$D$5&\" and localMonth(\"&$D$12&\") =\"&$E$5&\" and LocalDay(\"&$D$12&\")=\"&$F$5&\" and Barix(\"&$D$12&\",reference:=StartOfDay)=\"&A13&\"\", \"Bar\", \"\", \"Close\",\"A5C\",\"0\",\"All\",,,\"False\",\"T\",\"EveryTick\"))","v":3794},{"$f":"IF(A13=\"\",NA(),RTD(\"cqg.rtd\",,\"StudyData\", \"Vol(\"&$D$12&\") when LocalYear(\"&$D$12&\")=\"&$D$6&\" and localMonth(\"&$D$12&\") =\"&$E$6&\" and LocalDay(\"&$D$12&\")=\"&$F$6&\" and Barix(\"&$D$12&\",reference:=StartOfDay)=\"&A13&\"\", \"Bar\", \"\", \"Close\",\"A5C\",\"0\",\"All\",,,\"False\",\"T\",\"EveryTick\"))","v":7148},{"$f":"IF(A13=\"\",NA(),RTD(\"cqg.rtd\",,\"StudyData\", \"Vol(\"&$D$12&\") when LocalYear(\"&$D$12&\")=\"&$D$7&\" and localMonth(\"&$D$12&\") =\"&$E$7&\" and LocalDay(\"&$D$12&\")=\"&$F$7&\" and Barix(\"&$D$12&\",reference:=StartOfDay)=\"&A13&\"\", \"Bar\", \"\", \"Close\",\"A5C\",\"0\",\"All\",,,\"False\",\"T\",\"EveryTick\"))","v":6093},{"$f":"IF(A13=\"\",NA(),RTD(\"cqg.rtd\",,\"StudyData\", \"Vol(\"&$D$12&\") when LocalYear(\"&$D$12&\")=\"&$D$8&\" and localMonth(\"&$D$12&\") =\"&$E$8&\" and LocalDay(\"&$D$12&\")=\"&$F$8&\" and Barix(\"&$D$12&\",reference:=StartOfDay)=\"&A13&\"\", \"Bar\", \"\", \"Close\",\"A5C\",\"0\",\"All\",,,\"False\",\"T\",\"EveryTick\"))","v":7390},{"$f":"IF(A13=\"\",NA(),RTD(\"cqg.rtd\",,\"StudyData\", \"Vol(\"&$D$12&\") when LocalYear(\"&$D$12&\")=\"&$D$9&\" and localMonth(\"&$D$12&\") =\"&$E$9&\" and LocalDay(\"&$D$12&\")=\"&$F$9&\" and Barix(\"&$D$12&\",reference:=StartOfDay)=\"&A13&\"\", \"Bar\", \"\", \"Close\",\"A5C\",\"0\",\"All\",,,\"False\",\"T\",\"EveryTick\"))","v":9357},{"$f":"IF(A13=\"\",NA(),RTD(\"cqg.rtd\",,\"StudyData\", \"Vol(\"&$D$12&\") when LocalYear(\"&$D$12&\")=\"&$D$10&\" and localMonth(\"&$D$12&\") =\"&$E$10&\" and LocalDay(\"&$D$12&\")=\"&$F$10&\" and Barix(\"&$D$12&\",reference:=StartOfDay)=\"&A13&\"\", \"Bar\", \"\", \"Close\",\"A5C\",\"0\",\"All\",,,\"False\",\"T\",\"EveryTick\"))","v":4997},{"$f":"IF(H13>(1+(MainDisplay!$O$24/100))*I13,H13,NA())","v":{"$error":"#N/A"}}]
[{"$f":"A13+1","v":109},{"$f":"Sheet3!B14","v":"02:05:00"},null,{"$f":"RTD(\"cqg.rtd\", ,\"ContractData\",D12, \"LongDescription\",, \"T\")","v":"E-Mini S&P 500, Dec 21"},null,null,"2021-10-12",{"$f":"RTD(\"cqg.rtd\",,\"StudyData\", \"Vol(\"&$D$12&\") when LocalYear(\"&$D$12&\")=\"&$D$1&\" and localMonth(\"&$D$12&\") =\"&$E$1&\" and LocalDay(\"&$D$12&\")=\"&$F$1&\" and Barix(\"&$D$12&\",reference:=StartOfDay)=\"&A14&\"\", \"Bar\", \"\", \"Close\",\"A5C\",\"0\",\"All\",,,\"False\",\"T\",\"EveryTick\")","v":5766},{"$f":"AVERAGE(J14:R14)","v":4654},{"$f":"RTD(\"cqg.rtd\",,\"StudyData\", \"Vol(\"&$D$12&\") when LocalYear(\"&$D$12&\")=\"&$D$2&\" and localMonth(\"&$D$12&\") =\"&$E$2&\" and LocalDay(\"&$D$12&\")=\"&$F$2&\" and Barix(\"&$D$12&\",reference:=StartOfDay)=\"&A14&\"\", \"Bar\", \"\", \"Close\",\"A5C\",\"0\",\"All\",,,\"False\",\"T\",\"EveryTick\")","v":3659},{"$f":"RTD(\"cqg.rtd\",,\"StudyData\", \"Vol(\"&$D$12&\") when LocalYear(\"&$D$12&\")=\"&$D$3&\" and localMonth(\"&$D$12&\") =\"&$E$3&\" and LocalDay(\"&$D$12&\")=\"&$F$3&\" and Barix(\"&$D$12&\",reference:=StartOfDay)=\"&A14&\"\", \"Bar\", \"\", \"Close\",\"A5C\",\"0\",\"All\",,,\"False\",\"T\",\"EveryTick\")","v":3951},{"$f":"RTD(\"cqg.rtd\",,\"StudyData\", \"Vol(\"&$D$12&\") when LocalYear(\"&$D$12&\")=\"&$D$4&\" and localMonth(\"&$D$12&\") =\"&$E$4&\" and LocalDay(\"&$D$12&\")=\"&$F$4&\" and Barix(\"&$D$12&\",reference:=StartOfDay)=\"&A14&\"\", \"Bar\", \"\", \"Close\",\"A5C\",\"0\",\"All\",,,\"False\",\"T\",\"EveryTick\")","v":3677},{"$f":"RTD(\"cqg.rtd\",,\"StudyData\", \"Vol(\"&$D$12&\") when LocalYear(\"&$D$12&\")=\"&$D$5&\" and localMonth(\"&$D$12&\") =\"&$E$5&\" and LocalDay(\"&$D$12&\")=\"&$F$5&\" and Barix(\"&$D$12&\",reference:=StartOfDay)=\"&A14&\"\", \"Bar\", \"\", \"Close\",\"A5C\",\"0\",\"All\",,,\"False\",\"T\",\"EveryTick\")","v":2713},{"$f":"RTD(\"cqg.rtd\",,\"StudyData\", \"Vol(\"&$D$12&\") when LocalYear(\"&$D$12&\")=\"&$D$6&\" and localMonth(\"&$D$12&\") =\"&$E$6&\" and LocalDay(\"&$D$12&\")=\"&$F$6&\" and Barix(\"&$D$12&\",reference:=StartOfDay)=\"&A14&\"\", \"Bar\", \"\", \"Close\",\"A5C\",\"0\",\"All\",,,\"False\",\"T\",\"EveryTick\")","v":9449},{"$f":"RTD(\"cqg.rtd\",,\"StudyData\", \"Vol(\"&$D$12&\") when LocalYear(\"&$D$12&\")=\"&$D$7&\" and localMonth(\"&$D$12&\") =\"&$E$7&\" and LocalDay(\"&$D$12&\")=\"&$F$7&\" and Barix(\"&$D$12&\",reference:=StartOfDay)=\"&A14&\"\", \"Bar\", \"\", \"Close\",\"A5C\",\"0\",\"All\",,,\"False\",\"T\",\"EveryTick\")","v":2742},{"$f":"RTD(\"cqg.rtd\",,\"StudyData\", \"Vol(\"&$D$12&\") when LocalYear(\"&$D$12&\")=\"&$D$8&\" and localMonth(\"&$D$12&\") =\"&$E$8&\" and LocalDay(\"&$D$12&\")=\"&$F$8&\" and Barix(\"&$D$12&\",reference:=StartOfDay)=\"&A14&\"\", \"Bar\", \"\", \"Close\",\"A5C\",\"0\",\"All\",,,\"False\",\"T\",\"EveryTick\")","v":4541},{"$f":"RTD(\"cqg.rtd\",,\"StudyData\", \"Vol(\"&$D$12&\") when LocalYear(\"&$D$12&\")=\"&$D$9&\" and localMonth(\"&$D$12&\") =\"&$E$9&\" and LocalDay(\"&$D$12&\")=\"&$F$9&\" and Barix(\"&$D$12&\",reference:=StartOfDay)=\"&A14&\"\", \"Bar\", \"\", \"Close\",\"A5C\",\"0\",\"All\",,,\"False\",\"T\",\"EveryTick\")","v":6617},{"$f":"RTD(\"cqg.rtd\",,\"StudyData\", \"Vol(\"&$D$12&\") when LocalYear(\"&$D$12&\")=\"&$D$10&\" and localMonth(\"&$D$12&\") =\"&$E$10&\" and LocalDay(\"&$D$12&\")=\"&$F$10&\" and Barix(\"&$D$12&\",reference:=StartOfDay)=\"&A14&\"\", \"Bar\", \"\", \"Close\",\"A5C\",\"0\",\"All\",,,\"False\",\"T\",\"EveryTick\")","v":4537},{"$f":"IF(H14>(1+(MainDisplay!$O$24/100))*I14,H14,NA())","v":{"$error":"#N/A"}}]
[110,{"$f":"Sheet3!B15","v":"02:10:00"},"",null,null,null,"2021-10-11",{"$f":"RTD(\"cqg.rtd\",,\"StudyData\", \"Vol(\"&$D$12&\") when LocalYear(\"&$D$12&\")=\"&$D$1&\" and localMonth(\"&$D$12&\") =\"&$E$1&\" and LocalDay(\"&$D$12&\")=\"&$F$1&\" and Barix(\"&$D$12&\",reference:=StartOfDay)=\"&A15&\"\", \"Bar\", \"\", \"Close\",\"A5C\",\"0\",\"All\",,,\"False\",\"T\",\"EveryTick\")","v":3348},4052.1111111111113,{"$f":"RTD(\"cqg.rtd\",,\"StudyData\", \"Vol(\"&$D$12&\") when LocalYear(\"&$D$12&\")=\"&$D$2&\" and localMonth(\"&$D$12&\") =\"&$E$2&\" and LocalDay(\"&$D$12&\")=\"&$F$2&\" and Barix(\"&$D$12&\",reference:=StartOfDay)=\"&A15&\"\", \"Bar\", \"\", \"Close\",\"A5C\",\"0\",\"All\",,,\"False\",\"T\",\"EveryTick\")","v":5293},{"$f":"RTD(\"cqg.rtd\",,\"StudyData\", \"Vol(\"&$D$12&\") when LocalYear(\"&$D$12&\")=\"&$D$3&\" and localMonth(\"&$D$12&\") =\"&$E$3&\" and LocalDay(\"&$D$12&\")=\"&$F$3&\" and Barix(\"&$D$12&\",reference:=StartOfDay)=\"&A15&\"\", \"Bar\", \"\", \"Close\",\"A5C\",\"0\",\"All\",,,\"False\",\"T\",\"EveryTick\")","v":2025},{"$f":"RTD(\"cqg.rtd\",,\"StudyData\", \"Vol(\"&$D$12&\") when LocalYear(\"&$D$12&\")=\"&$D$4&\" and localMonth(\"&$D$12&\") =\"&$E$4&\" and LocalDay(\"&$D$12&\")=\"&$F$4&\" and Barix(\"&$D$12&\",reference:=StartOfDay)=\"&A15&\"\", \"Bar\", \"\", \"Close\",\"A5C\",\"0\",\"All\",,,\"False\",\"T\",\"EveryTick\")","v":1634},{"$f":"RTD(\"cqg.rtd\",,\"StudyData\", \"Vol(\"&$D$12&\") when LocalYear(\"&$D$12&\")=\"&$D$5&\" and localMonth(\"&$D$12&\") =\"&$E$5&\" and LocalDay(\"&$D$12&\")=\"&$F$5&\" and Barix(\"&$D$12&\",reference:=StartOfDay)=\"&A15&\"\", \"Bar\", \"\", \"Close\",\"A5C\",\"0\",\"All\",,,\"False\",\"T\",\"EveryTick\")","v":2819},{"$f":"RTD(\"cqg.rtd\",,\"StudyData\", \"Vol(\"&$D$12&\") when LocalYear(\"&$D$12&\")=\"&$D$6&\" and localMonth(\"&$D$12&\") =\"&$E$6&\" and LocalDay(\"&$D$12&\")=\"&$F$6&\" and Barix(\"&$D$12&\",reference:=StartOfDay)=\"&A15&\"\", \"Bar\", \"\", \"Close\",\"A5C\",\"0\",\"All\",,,\"False\",\"T\",\"EveryTick\")","v":5987},{"$f":"RTD(\"cqg.rtd\",,\"StudyData\", \"Vol(\"&$D$12&\") when LocalYear(\"&$D$12&\")=\"&$D$7&\" and localMonth(\"&$D$12&\") =\"&$E$7&\" and LocalDay(\"&$D$12&\")=\"&$F$7&\" and Barix(\"&$D$12&\",reference:=StartOfDay)=\"&A15&\"\", \"Bar\", \"\", \"Close\",\"A5C\",\"0\",\"All\",,,\"False\",\"T\",\"EveryTick\")","v":5004},{"$f":"RTD(\"cqg.rtd\",,\"StudyData\", \"Vol(\"&$D$12&\") when LocalYear(\"&$D$12&\")=\"&$D$8&\" and localMonth(\"&$D$12&\") =\"&$E$8&\" and LocalDay(\"&$D$12&\")=\"&$F$8&\" and Barix(\"&$D$12&\",reference:=StartOfDay)=\"&A15&\"\", \"Bar\", \"\", \"Close\",\"A5C\",\"0\",\"All\",,,\"False\",\"T\",\"EveryTick\")","v":3672},{"$f":"RTD(\"cqg.rtd\",,\"StudyData\", \"Vol(\"&$D$12&\") when LocalYear(\"&$D$12&\")=\"&$D$9&\" and localMonth(\"&$D$12&\") =\"&$E$9&\" and LocalDay(\"&$D$12&\")=\"&$F$9&\" and Barix(\"&$D$12&\",reference:=StartOfDay)=\"&A15&\"\", \"Bar\", \"\", \"Close\",\"A5C\",\"0\",\"All\",,,\"False\",\"T\",\"EveryTick\")","v":6294},{"$f":"RTD(\"cqg.rtd\",,\"StudyData\", \"Vol(\"&$D$12&\") when LocalYear(\"&$D$12&\")=\"&$D$10&\" and localMonth(\"&$D$12&\") =\"&$E$10&\" and LocalDay(\"&$D$12&\")=\"&$F$10&\" and Barix(\"&$D$12&\",reference:=StartOfDay)=\"&A15&\"\", \"Bar\", \"\", \"Close\",\"A5C\",\"0\",\"All\",,,\"False\",\"T\",\"EveryTick\")","v":3741},{"$f":"IF(H15>(1+(MainDisplay!$O$24/100))*I15,H15,NA())","v":{"$error":"#N/A"}}]
[111,{"$f":"Sheet3!B16","v":"02:15:00"},null,{"$f":"RTD(\"cqg.rtd\", ,\"ContractData\",D12, \"Ticksize\",, \"T\")","v":0.25},null,null,"2021-10-08",{"$f":"RTD(\"cqg.rtd\",,\"StudyData\", \"Vol(\"&$D$12&\") when LocalYear(\"&$D$12&\")=\"&$D$1&\" and localMonth(\"&$D$12&\") =\"&$E$1&\" and LocalDay(\"&$D$12&\")=\"&$F$1&\" and Barix(\"&$D$12&\",reference:=StartOfDay)=\"&A16&\"\", \"Bar\", \"\", \"Close\",\"A5C\",\"0\",\"All\",,,\"False\",\"T\",\"EveryTick\")","v":2630},3307.8888888888887,{"$f":"RTD(\"cqg.rtd\",,\"StudyData\", \"Vol(\"&$D$12&\") when LocalYear(\"&$D$12&\")=\"&$D$2&\" and localMonth(\"&$D$12&\") =\"&$E$2&\" and LocalDay(\"&$D$12&\")=\"&$F$2&\" and Barix(\"&$D$12&\",reference:=StartOfDay)=\"&A16&\"\", \"Bar\", \"\", \"Close\",\"A5C\",\"0\",\"All\",,,\"False\",\"T\",\"EveryTick\")","v":2831},{"$f":"RTD(\"cqg.rtd\",,\"StudyData\", \"Vol(\"&$D$12&\") when LocalYear(\"&$D$12&\")=\"&$D$3&\" and localMonth(\"&$D$12&\") =\"&$E$3&\" and LocalDay(\"&$D$12&\")=\"&$F$3&\" and Barix(\"&$D$12&\",reference:=StartOfDay)=\"&A16&\"\", \"Bar\", \"\", \"Close\",\"A5C\",\"0\",\"All\",,,\"False\",\"T\",\"EveryTick\")","v":1397},{"$f":"RTD(\"cqg.rtd\",,\"StudyData\", \"Vol(\"&$D$12&\") when LocalYear(\"&$D$12&\")=\"&$D$4&\" and localMonth(\"&$D$12&\") =\"&$E$4&\" and LocalDay(\"&$D$12&\")=\"&$F$4&\" and Barix(\"&$D$12&\",reference:=StartOfDay)=\"&A16&\"\", \"Bar\", \"\", \"Close\",\"A5C\",\"0\",\"All\",,,\"False\",\"T\",\"EveryTick\")","v":2207},{"$f":"RTD(\"cqg.rtd\",,\"StudyData\", \"Vol(\"&$D$12&\") when LocalYear(\"&$D$12&\")=\"&$D$5&\" and localMonth(\"&$D$12&\") =\"&$E$5&\" and LocalDay(\"&$D$12&\")=\"&$F$5&\" and Barix(\"&$D$12&\",reference:=StartOfDay)=\"&A16&\"\", \"Bar\", \"\", \"Close\",\"A5C\",\"0\",\"All\",,,\"False\",\"T\",\"EveryTick\")","v":2797},{"$f":"RTD(\"cqg.rtd\",,\"StudyData\", \"Vol(\"&$D$12&\") when LocalYear(\"&$D$12&\")=\"&$D$6&\" and localMonth(\"&$D$12&\") =\"&$E$6&\" and LocalDay(\"&$D$12&\")=\"&$F$6&\" and Barix(\"&$D$12&\",reference:=StartOfDay)=\"&A16&\"\", \"Bar\", \"\", \"Close\",\"A5C\",\"0\",\"All\",,,\"False\",\"T\",\"EveryTick\")","v":4172},{"$f":"RTD(\"cqg.rtd\",,\"StudyData\", \"Vol(\"&$D$12&\") when LocalYear(\"&$D$12&\")=\"&$D$7&\" and localMonth(\"&$D$12&\") =\"&$E$7&\" and LocalDay(\"&$D$12&\")=\"&$F$7&\" and Barix(\"&$D$12&\",reference:=StartOfDay)=\"&A16&\"\", \"Bar\", \"\", \"Close\",\"A5C\",\"0\",\"All\",,,\"False\",\"T\",\"EveryTick\")","v":5602},{"$f":"RTD(\"cqg.rtd\",,\"StudyData\", \"Vol(\"&$D$12&\") when LocalYear(\"&$D$12&\")=\"&$D$8&\" and localMonth(\"&$D$12&\") =\"&$E$8&\" and LocalDay(\"&$D$12&\")=\"&$F$8&\" and Barix(\"&$D$12&\",reference:=StartOfDay)=\"&A16&\"\", \"Bar\", \"\", \"Close\",\"A5C\",\"0\",\"All\",,,\"False\",\"T\",\"EveryTick\")","v":2271},{"$f":"RTD(\"cqg.rtd\",,\"StudyData\", \"Vol(\"&$D$12&\") when LocalYear(\"&$D$12&\")=\"&$D$9&\" and localMonth(\"&$D$12&\") =\"&$E$9&\" and LocalDay(\"&$D$12&\")=\"&$F$9&\" and Barix(\"&$D$12&\",reference:=StartOfDay)=\"&A16&\"\", \"Bar\", \"\", \"Close\",\"A5C\",\"0\",\"All\",,,\"False\",\"T\",\"EveryTick\")","v":4796},{"$f":"RTD(\"cqg.rtd\",,\"StudyData\", \"Vol(\"&$D$12&\") when LocalYear(\"&$D$12&\")=\"&$D$10&\" and localMonth(\"&$D$12&\") =\"&$E$10&\" and LocalDay(\"&$D$12&\")=\"&$F$10&\" and Barix(\"&$D$12&\",reference:=StartOfDay)=\"&A16&\"\", \"Bar\", \"\", \"Close\",\"A5C\",\"0\",\"All\",,,\"False\",\"T\",\"EveryTick\")","v":3698},{"$f":"IF(H16>(1+(MainDisplay!$O$24/100))*I16,H16,NA())","v":{"$error":"#N/A"}}]
[112,{"$f":"Sheet3!B17","v":"02:20:00"},null,{"$f":"IF(D16>=1,0,IF(LEN(D16)-2=1,2,LEN(D16)-2))","v":2},null,{"$f":"VLOOKUP(D17,D18:E25,2,FALSE)","v":"#.00"},"2021-10-07",{"$f":"RTD(\"cqg.rtd\",,\"StudyData\", \"Vol(\"&$D$12&\") when LocalYear(\"&$D$12&\")=\"&$D$1&\" and localMonth(\"&$D$12&\") =\"&$E$1&\" and LocalDay(\"&$D$12&\")=\"&$F$1&\" and Barix(\"&$D$12&\",reference:=StartOfDay)=\"&A17&\"\", \"Bar\", \"\", \"Close\",\"A5C\",\"0\",\"All\",,,\"False\",\"T\",\"EveryTick\")","v":2115},3072.2222222222222,{"$f":"RTD(\"cqg.rtd\",,\"StudyData\", \"Vol(\"&$D$12&\") when LocalYear(\"&$D$12&\")=\"&$D$2&\" and localMonth(\"&$D$12&\") =\"&$E$2&\" and LocalDay(\"&$D$12&\")=\"&$F$2&\" and Barix(\"&$D$12&\",reference:=StartOfDay)=\"&A17&\"\", \"Bar\", \"\", \"Close\",\"A5C\",\"0\",\"All\",,,\"False\",\"T\",\"EveryTick\")","v":2355},{"$f":"RTD(\"cqg.rtd\",,\"StudyData\", \"Vol(\"&$D$12&\") when LocalYear(\"&$D$12&\")=\"&$D$3&\" and localMonth(\"&$D$12&\") =\"&$E$3&\" and LocalDay(\"&$D$12&\")=\"&$F$3&\" and Barix(\"&$D$12&\",reference:=StartOfDay)=\"&A17&\"\", \"Bar\", \"\", \"Close\",\"A5C\",\"0\",\"All\",,,\"False\",\"T\",\"EveryTick\")","v":1154},{"$f":"RTD(\"cqg.rtd\",,\"StudyData\", \"Vol(\"&$D$12&\") when LocalYear(\"&$D$12&\")=\"&$D$4&\" and localMonth(\"&$D$12&\") =\"&$E$4&\" and LocalDay(\"&$D$12&\")=\"&$F$4&\" and Barix(\"&$D$12&\",reference:=StartOfDay)=\"&A17&\"\", \"Bar\", \"\", \"Close\",\"A5C\",\"0\",\"All\",,,\"False\",\"T\",\"EveryTick\")","v":2008},{"$f":"RTD(\"cqg.rtd\",,\"StudyData\", \"Vol(\"&$D$12&\") when LocalYear(\"&$D$12&\")=\"&$D$5&\" and localMonth(\"&$D$12&\") =\"&$E$5&\" and LocalDay(\"&$D$12&\")=\"&$F$5&\" and Barix(\"&$D$12&\",reference:=StartOfDay)=\"&A17&\"\", \"Bar\", \"\", \"Close\",\"A5C\",\"0\",\"All\",,,\"False\",\"T\",\"EveryTick\")","v":1729},{"$f":"RTD(\"cqg.rtd\",,\"StudyData\", \"Vol(\"&$D$12&\") when LocalYear(\"&$D$12&\")=\"&$D$6&\" and localMonth(\"&$D$12&\") =\"&$E$6&\" and LocalDay(\"&$D$12&\")=\"&$F$6&\" and Barix(\"&$D$12&\",reference:=StartOfDay)=\"&A17&\"\", \"Bar\", \"\", \"Close\",\"A5C\",\"0\",\"All\",,,\"False\",\"T\",\"EveryTick\")","v":5575},{"$f":"RTD(\"cqg.rtd\",,\"StudyData\", \"Vol(\"&$D$12&\") when LocalYear(\"&$D$12&\")=\"&$D$7&\" and localMonth(\"&$D$12&\") =\"&$E$7&\" and LocalDay(\"&$D$12&\")=\"&$F$7&\" and Barix(\"&$D$12&\",reference:=StartOfDay)=\"&A17&\"\", \"Bar\", \"\", \"Close\",\"A5C\",\"0\",\"All\",,,\"False\",\"T\",\"EveryTick\")","v":2871},{"$f":"RTD(\"cqg.rtd\",,\"StudyData\", \"Vol(\"&$D$12&\") when LocalYear(\"&$D$12&\")=\"&$D$8&\" and localMonth(\"&$D$12&\") =\"&$E$8&\" and LocalDay(\"&$D$12&\")=\"&$F$8&\" and Barix(\"&$D$12&\",reference:=StartOfDay)=\"&A17&\"\", \"Bar\", \"\", \"Close\",\"A5C\",\"0\",\"All\",,,\"False\",\"T\",\"EveryTick\")","v":2468},{"$f":"RTD(\"cqg.rtd\",,\"StudyData\", \"Vol(\"&$D$12&\") when LocalYear(\"&$D$12&\")=\"&$D$9&\" and localMonth(\"&$D$12&\") =\"&$E$9&\" and LocalDay(\"&$D$12&\")=\"&$F$9&\" and Barix(\"&$D$12&\",reference:=StartOfDay)=\"&A17&\"\", \"Bar\", \"\", \"Close\",\"A5C\",\"0\",\"All\",,,\"False\",\"T\",\"EveryTick\")","v":5984},{"$f":"RTD(\"cqg.rtd\",,\"StudyData\", \"Vol(\"&$D$12&\") when LocalYear(\"&$D$12&\")=\"&$D$10&\" and localMonth(\"&$D$12&\") =\"&$E$10&\" and LocalDay(\"&$D$12&\")=\"&$F$10&\" and Barix(\"&$D$12&\",reference:=StartOfDay)=\"&A17&\"\", \"Bar\", \"\", \"Close\",\"A5C\",\"0\",\"All\",,,\"False\",\"T\",\"EveryTick\")","v":3506},{"$f":"IF(H17>(1+(MainDisplay!$O$24/100))*I17,H17,NA())","v":{"$error":"#N/A"}}]
[113,{"$f":"Sheet3!B18","v":"02:25:00"},null,0,"#",null,"2021-10-06",{"$f":"RTD(\"cqg.rtd\",,\"StudyData\", \"Vol(\"&$D$12&\") when LocalYear(\"&$D$12&\")=\"&$D$1&\" and localMonth(\"&$D$12&\") =\"&$E$1&\" and LocalDay(\"&$D$12&\")=\"&$F$1&\" and Barix(\"&$D$12&\",reference:=StartOfDay)=\"&A18&\"\", \"Bar\", \"\", \"Close\",\"A5C\",\"0\",\"All\",,,\"False\",\"T\",\"EveryTick\")","v":2531},3123.7777777777778,{"$f":"RTD(\"cqg.rtd\",,\"StudyData\", \"Vol(\"&$D$12&\") when LocalYear(\"&$D$12&\")=\"&$D$2&\" and localMonth(\"&$D$12&\") =\"&$E$2&\" and LocalDay(\"&$D$12&\")=\"&$F$2&\" and Barix(\"&$D$12&\",reference:=StartOfDay)=\"&A18&\"\", \"Bar\", \"\", \"Close\",\"A5C\",\"0\",\"All\",,,\"False\",\"T\",\"EveryTick\")","v":3070},{"$f":"RTD(\"cqg.rtd\",,\"StudyData\", \"Vol(\"&$D$12&\") when LocalYear(\"&$D$12&\")=\"&$D$3&\" and localMonth(\"&$D$12&\") =\"&$E$3&\" and LocalDay(\"&$D$12&\")=\"&$F$3&\" and Barix(\"&$D$12&\",reference:=StartOfDay)=\"&A18&\"\", \"Bar\", \"\", \"Close\",\"A5C\",\"0\",\"All\",,,\"False\",\"T\",\"EveryTick\")","v":1993},{"$f":"RTD(\"cqg.rtd\",,\"StudyData\", \"Vol(\"&$D$12&\") when LocalYear(\"&$D$12&\")=\"&$D$4&\" and localMonth(\"&$D$12&\") =\"&$E$4&\" and LocalDay(\"&$D$12&\")=\"&$F$4&\" and Barix(\"&$D$12&\",reference:=StartOfDay)=\"&A18&\"\", \"Bar\", \"\", \"Close\",\"A5C\",\"0\",\"All\",,,\"False\",\"T\",\"EveryTick\")","v":2173},{"$f":"RTD(\"cqg.rtd\",,\"StudyData\", \"Vol(\"&$D$12&\") when LocalYear(\"&$D$12&\")=\"&$D$5&\" and localMonth(\"&$D$12&\") =\"&$E$5&\" and LocalDay(\"&$D$12&\")=\"&$F$5&\" and Barix(\"&$D$12&\",reference:=StartOfDay)=\"&A18&\"\", \"Bar\", \"\", \"Close\",\"A5C\",\"0\",\"All\",,,\"False\",\"T\",\"EveryTick\")","v":1341},{"$f":"RTD(\"cqg.rtd\",,\"StudyData\", \"Vol(\"&$D$12&\") when LocalYear(\"&$D$12&\")=\"&$D$6&\" and localMonth(\"&$D$12&\") =\"&$E$6&\" and LocalDay(\"&$D$12&\")=\"&$F$6&\" and Barix(\"&$D$12&\",reference:=StartOfDay)=\"&A18&\"\", \"Bar\", \"\", \"Close\",\"A5C\",\"0\",\"All\",,,\"False\",\"T\",\"EveryTick\")","v":6635},{"$f":"RTD(\"cqg.rtd\",,\"StudyData\", \"Vol(\"&$D$12&\") when LocalYear(\"&$D$12&\")=\"&$D$7&\" and localMonth(\"&$D$12&\") =\"&$E$7&\" and LocalDay(\"&$D$12&\")=\"&$F$7&\" and Barix(\"&$D$12&\",reference:=StartOfDay)=\"&A18&\"\", \"Bar\", \"\", \"Close\",\"A5C\",\"0\",\"All\",,,\"False\",\"T\",\"EveryTick\")","v":1443},{"$f":"RTD(\"cqg.rtd\",,\"StudyData\", \"Vol(\"&$D$12&\") when LocalYear(\"&$D$12&\")=\"&$D$8&\" and localMonth(\"&$D$12&\") =\"&$E$8&\" and LocalDay(\"&$D$12&\")=\"&$F$8&\" and Barix(\"&$D$12&\",reference:=StartOfDay)=\"&A18&\"\", \"Bar\", \"\", \"Close\",\"A5C\",\"0\",\"All\",,,\"False\",\"T\",\"EveryTick\")","v":4038},{"$f":"RTD(\"cqg.rtd\",,\"StudyData\", \"Vol(\"&$D$12&\") when LocalYear(\"&$D$12&\")=\"&$D$9&\" and localMonth(\"&$D$12&\") =\"&$E$9&\" and LocalDay(\"&$D$12&\")=\"&$F$9&\" and Barix(\"&$D$12&\",reference:=StartOfDay)=\"&A18&\"\", \"Bar\", \"\", \"Close\",\"A5C\",\"0\",\"All\",,,\"False\",\"T\",\"EveryTick\")","v":5207},{"$f":"RTD(\"cqg.rtd\",,\"StudyData\", \"Vol(\"&$D$12&\") when LocalYear(\"&$D$12&\")=\"&$D$10&\" and localMonth(\"&$D$12&\") =\"&$E$10&\" and LocalDay(\"&$D$12&\")=\"&$F$10&\" and Barix(\"&$D$12&\",reference:=StartOfDay)=\"&A18&\"\", \"Bar\", \"\", \"Close\",\"A5C\",\"0\",\"All\",,,\"False\",\"T\",\"EveryTick\")","v":2214},{"$f":"IF(H18>(1+(MainDisplay!$O$24/100))*I18,H18,NA())","v":{"$error":"#N/A"}}]
[114,{"$f":"Sheet3!B19","v":"02:30:00"},null,1,"#.0",null,"2021-10-05",{"$f":"RTD(\"cqg.rtd\",,\"StudyData\", \"Vol(\"&$D$12&\") when LocalYear(\"&$D$12&\")=\"&$D$1&\" and localMonth(\"&$D$12&\") =\"&$E$1&\" and LocalDay(\"&$D$12&\")=\"&$F$1&\" and Barix(\"&$D$12&\",reference:=StartOfDay)=\"&A19&\"\", \"Bar\", \"\", \"Close\",\"A5C\",\"0\",\"All\",,,\"False\",\"T\",\"EveryTick\")","v":3320},3005.6666666666665,{"$f":"RTD(\"cqg.rtd\",,\"StudyData\", \"Vol(\"&$D$12&\") when LocalYear(\"&$D$12&\")=\"&$D$2&\" and localMonth(\"&$D$12&\") =\"&$E$2&\" and LocalDay(\"&$D$12&\")=\"&$F$2&\" and Barix(\"&$D$12&\",reference:=StartOfDay)=\"&A19&\"\", \"Bar\", \"\", \"Close\",\"A5C\",\"0\",\"All\",,,\"False\",\"T\",\"EveryTick\")","v":1960},{"$f":"RTD(\"cqg.rtd\",,\"StudyData\", \"Vol(\"&$D$12&\") when LocalYear(\"&$D$12&\")=\"&$D$3&\" and localMonth(\"&$D$12&\") =\"&$E$3&\" and LocalDay(\"&$D$12&\")=\"&$F$3&\" and Barix(\"&$D$12&\",reference:=StartOfDay)=\"&A19&\"\", \"Bar\", \"\", \"Close\",\"A5C\",\"0\",\"All\",,,\"False\",\"T\",\"EveryTick\")","v":1083},{"$f":"RTD(\"cqg.rtd\",,\"StudyData\", \"Vol(\"&$D$12&\") when LocalYear(\"&$D$12&\")=\"&$D$4&\" and localMonth(\"&$D$12&\") =\"&$E$4&\" and LocalDay(\"&$D$12&\")=\"&$F$4&\" and Barix(\"&$D$12&\",reference:=StartOfDay)=\"&A19&\"\", \"Bar\", \"\", \"Close\",\"A5C\",\"0\",\"All\",,,\"False\",\"T\",\"EveryTick\")","v":3592},{"$f":"RTD(\"cqg.rtd\",,\"StudyData\", \"Vol(\"&$D$12&\") when LocalYear(\"&$D$12&\")=\"&$D$5&\" and localMonth(\"&$D$12&\") =\"&$E$5&\" and LocalDay(\"&$D$12&\")=\"&$F$5&\" and Barix(\"&$D$12&\",reference:=StartOfDay)=\"&A19&\"\", \"Bar\", \"\", \"Close\",\"A5C\",\"0\",\"All\",,,\"False\",\"T\",\"EveryTick\")","v":2315},{"$f":"RTD(\"cqg.rtd\",,\"StudyData\", \"Vol(\"&$D$12&\") when LocalYear(\"&$D$12&\")=\"&$D$6&\" and localMonth(\"&$D$12&\") =\"&$E$6&\" and LocalDay(\"&$D$12&\")=\"&$F$6&\" and Barix(\"&$D$12&\",reference:=StartOfDay)=\"&A19&\"\", \"Bar\", \"\", \"Close\",\"A5C\",\"0\",\"All\",,,\"False\",\"T\",\"EveryTick\")","v":3864},{"$f":"RTD(\"cqg.rtd\",,\"StudyData\", \"Vol(\"&$D$12&\") when LocalYear(\"&$D$12&\")=\"&$D$7&\" and localMonth(\"&$D$12&\") =\"&$E$7&\" and LocalDay(\"&$D$12&\")=\"&$F$7&\" and Barix(\"&$D$12&\",reference:=StartOfDay)=\"&A19&\"\", \"Bar\", \"\", \"Close\",\"A5C\",\"0\",\"All\",,,\"False\",\"T\",\"EveryTick\")","v":2699},{"$f":"RTD(\"cqg.rtd\",,\"StudyData\", \"Vol(\"&$D$12&\") when LocalYear(\"&$D$12&\")=\"&$D$8&\" and localMonth(\"&$D$12&\") =\"&$E$8&\" and LocalDay(\"&$D$12&\")=\"&$F$8&\" and Barix(\"&$D$12&\",reference:=StartOfDay)=\"&A19&\"\", \"Bar\", \"\", \"Close\",\"A5C\",\"0\",\"All\",,,\"False\",\"T\",\"EveryTick\")","v":3697},{"$f":"RTD(\"cqg.rtd\",,\"StudyData\", \"Vol(\"&$D$12&\") when LocalYear(\"&$D$12&\")=\"&$D$9&\" and localMonth(\"&$D$12&\") =\"&$E$9&\" and LocalDay(\"&$D$12&\")=\"&$F$9&\" and Barix(\"&$D$12&\",reference:=StartOfDay)=\"&A19&\"\", \"Bar\", \"\", \"Close\",\"A5C\",\"0\",\"All\",,,\"False\",\"T\",\"EveryTick\")","v":4745},{"$f":"RTD(\"cqg.rtd\",,\"StudyData\", \"Vol(\"&$D$12&\") when LocalYear(\"&$D$12&\")=\"&$D$10&\" and localMonth(\"&$D$12&\") =\"&$E$10&\" and LocalDay(\"&$D$12&\")=\"&$F$10&\" and Barix(\"&$D$12&\",reference:=StartOfDay)=\"&A19&\"\", \"Bar\", \"\", \"Close\",\"A5C\",\"0\",\"All\",,,\"False\",\"T\",\"EveryTick\")","v":3096},{"$f":"IF(H19>(1+(MainDisplay!$O$24/100))*I19,H19,NA())","v":{"$error":"#N/A"}}]
[115,{"$f":"Sheet3!B20","v":"02:35:00"},null,2,"#.00",null,"2021-10-04",{"$f":"RTD(\"cqg.rtd\",,\"StudyData\", \"Vol(\"&$D$12&\") when LocalYear(\"&$D$12&\")=\"&$D$1&\" and localMonth(\"&$D$12&\") =\"&$E$1&\" and LocalDay(\"&$D$12&\")=\"&$F$1&\" and Barix(\"&$D$12&\",reference:=StartOfDay)=\"&A20&\"\", \"Bar\", \"\", \"Close\",\"A5C\",\"0\",\"All\",,,\"False\",\"T\",\"EveryTick\")","v":2534},2719.5555555555557,{"$f":"RTD(\"cqg.rtd\",,\"StudyData\", \"Vol(\"&$D$12&\") when LocalYear(\"&$D$12&\")=\"&$D$2&\" and localMonth(\"&$D$12&\") =\"&$E$2&\" and LocalDay(\"&$D$12&\")=\"&$F$2&\" and Barix(\"&$D$12&\",reference:=StartOfDay)=\"&A20&\"\", \"Bar\", \"\", \"Close\",\"A5C\",\"0\",\"All\",,,\"False\",\"T\",\"EveryTick\")","v":1357},{"$f":"RTD(\"cqg.rtd\",,\"StudyData\", \"Vol(\"&$D$12&\") when LocalYear(\"&$D$12&\")=\"&$D$3&\" and localMonth(\"&$D$12&\") =\"&$E$3&\" and LocalDay(\"&$D$12&\")=\"&$F$3&\" and Barix(\"&$D$12&\",reference:=StartOfDay)=\"&A20&\"\", \"Bar\", \"\", \"Close\",\"A5C\",\"0\",\"All\",,,\"False\",\"T\",\"EveryTick\")","v":1512},{"$f":"RTD(\"cqg.rtd\",,\"StudyData\", \"Vol(\"&$D$12&\") when LocalYear(\"&$D$12&\")=\"&$D$4&\" and localMonth(\"&$D$12&\") =\"&$E$4&\" and LocalDay(\"&$D$12&\")=\"&$F$4&\" and Barix(\"&$D$12&\",reference:=StartOfDay)=\"&A20&\"\", \"Bar\", \"\", \"Close\",\"A5C\",\"0\",\"All\",,,\"False\",\"T\",\"EveryTick\")","v":3209},{"$f":"RTD(\"cqg.rtd\",,\"StudyData\", \"Vol(\"&$D$12&\") when LocalYear(\"&$D$12&\")=\"&$D$5&\" and localMonth(\"&$D$12&\") =\"&$E$5&\" and LocalDay(\"&$D$12&\")=\"&$F$5&\" and Barix(\"&$D$12&\",reference:=StartOfDay)=\"&A20&\"\", \"Bar\", \"\", \"Close\",\"A5C\",\"0\",\"All\",,,\"False\",\"T\",\"EveryTick\")","v":1476},{"$f":"RTD(\"cqg.rtd\",,\"StudyData\", \"Vol(\"&$D$12&\") when LocalYear(\"&$D$12&\")=\"&$D$6&\" and localMonth(\"&$D$12&\") =\"&$E$6&\" and LocalDay(\"&$D$12&\")=\"&$F$6&\" and Barix(\"&$D$12&\",reference:=StartOfDay)=\"&A20&\"\", \"Bar\", \"\", \"Close\",\"A5C\",\"0\",\"All\",,,\"False\",\"T\",\"EveryTick\")","v":7435},{"$f":"RTD(\"cqg.rtd\",,\"StudyData\", \"Vol(\"&$D$12&\") when LocalYear(\"&$D$12&\")=\"&$D$7&\" and localMonth(\"&$D$12&\") =\"&$E$7&\" and LocalDay(\"&$D$12&\")=\"&$F$7&\" and Barix(\"&$D$12&\",reference:=StartOfDay)=\"&A20&\"\", \"Bar\", \"\", \"Close\",\"A5C\",\"0\",\"All\",,,\"False\",\"T\",\"EveryTick\")","v":2187},{"$f":"RTD(\"cqg.rtd\",,\"StudyData\", \"Vol(\"&$D$12&\") when LocalYear(\"&$D$12&\")=\"&$D$8&\" and localMonth(\"&$D$12&\") =\"&$E$8&\" and LocalDay(\"&$D$12&\")=\"&$F$8&\" and Barix(\"&$D$12&\",reference:=StartOfDay)=\"&A20&\"\", \"Bar\", \"\", \"Close\",\"A5C\",\"0\",\"All\",,,\"False\",\"T\",\"EveryTick\")","v":2344},{"$f":"RTD(\"cqg.rtd\",,\"StudyData\", \"Vol(\"&$D$12&\") when LocalYear(\"&$D$12&\")=\"&$D$9&\" and localMonth(\"&$D$12&\") =\"&$E$9&\" and LocalDay(\"&$D$12&\")=\"&$F$9&\" and Barix(\"&$D$12&\",reference:=StartOfDay)=\"&A20&\"\", \"Bar\", \"\", \"Close\",\"A5C\",\"0\",\"All\",,,\"False\",\"T\",\"EveryTick\")","v":3009},{"$f":"RTD(\"cqg.rtd\",,\"StudyData\", \"Vol(\"&$D$12&\") when LocalYear(\"&$D$12&\")=\"&$D$10&\" and localMonth(\"&$D$12&\") =\"&$E$10&\" and LocalDay(\"&$D$12&\")=\"&$F$10&\" and Barix(\"&$D$12&\",reference:=StartOfDay)=\"&A20&\"\", \"Bar\", \"\", \"Close\",\"A5C\",\"0\",\"All\",,,\"False\",\"T\",\"EveryTick\")","v":1947},{"$f":"IF(H20>(1+(MainDisplay!$O$24/100))*I20,H20,NA())","v":{"$error":"#N/A"}}]
[116,{"$f":"Sheet3!B21","v":"02:40:00"},null,3,"#.000",null,"2021-10-01",{"$f":"RTD(\"cqg.rtd\",,\"StudyData\", \"Vol(\"&$D$12&\") when LocalYear(\"&$D$12&\")=\"&$D$1&\" and localMonth(\"&$D$12&\") =\"&$E$1&\" and LocalDay(\"&$D$12&\")=\"&$F$1&\" and Barix(\"&$D$12&\",reference:=StartOfDay)=\"&A21&\"\", \"Bar\", \"\", \"Close\",\"A5C\",\"0\",\"All\",,,\"False\",\"T\",\"EveryTick\")","v":1330},2063.2222222222222,{"$f":"RTD(\"cqg.rtd\",,\"StudyData\", \"Vol(\"&$D$12&\") when LocalYear(\"&$D$12&\")=\"&$D$2&\" and localMonth(\"&$D$12&\") =\"&$E$2&\" and LocalDay(\"&$D$12&\")=\"&$F$2&\" and Barix(\"&$D$12&\",reference:=StartOfDay)=\"&A21&\"\", \"Bar\", \"\", \"Close\",\"A5C\",\"0\",\"All\",,,\"False\",\"T\",\"EveryTick\")","v":1168},{"$f":"RTD(\"cqg.rtd\",,\"StudyData\", \"Vol(\"&$D$12&\") when LocalYear(\"&$D$12&\")=\"&$D$3&\" and localMonth(\"&$D$12&\") =\"&$E$3&\" and LocalDay(\"&$D$12&\")=\"&$F$3&\" and Barix(\"&$D$12&\",reference:=StartOfDay)=\"&A21&\"\", \"Bar\", \"\", \"Close\",\"A5C\",\"0\",\"All\",,,\"False\",\"T\",\"EveryTick\")","v":2727},{"$f":"RTD(\"cqg.rtd\",,\"StudyData\", \"Vol(\"&$D$12&\") when LocalYear(\"&$D$12&\")=\"&$D$4&\" and localMonth(\"&$D$12&\") =\"&$E$4&\" and LocalDay(\"&$D$12&\")=\"&$F$4&\" and Barix(\"&$D$12&\",reference:=StartOfDay)=\"&A21&\"\", \"Bar\", \"\", \"Close\",\"A5C\",\"0\",\"All\",,,\"False\",\"T\",\"EveryTick\")","v":1712},{"$f":"RTD(\"cqg.rtd\",,\"StudyData\", \"Vol(\"&$D$12&\") when LocalYear(\"&$D$12&\")=\"&$D$5&\" and localMonth(\"&$D$12&\") =\"&$E$5&\" and LocalDay(\"&$D$12&\")=\"&$F$5&\" and Barix(\"&$D$12&\",reference:=StartOfDay)=\"&A21&\"\", \"Bar\", \"\", \"Close\",\"A5C\",\"0\",\"All\",,,\"False\",\"T\",\"EveryTick\")","v":1032},{"$f":"RTD(\"cqg.rtd\",,\"StudyData\", \"Vol(\"&$D$12&\") when LocalYear(\"&$D$12&\")=\"&$D$6&\" and localMonth(\"&$D$12&\") =\"&$E$6&\" and LocalDay(\"&$D$12&\")=\"&$F$6&\" and Barix(\"&$D$12&\",reference:=StartOfDay)=\"&A21&\"\", \"Bar\", \"\", \"Close\",\"A5C\",\"0\",\"All\",,,\"False\",\"T\",\"EveryTick\")","v":3483},{"$f":"RTD(\"cqg.rtd\",,\"StudyData\", \"Vol(\"&$D$12&\") when LocalYear(\"&$D$12&\")=\"&$D$7&\" and localMonth(\"&$D$12&\") =\"&$E$7&\" and LocalDay(\"&$D$12&\")=\"&$F$7&\" and Barix(\"&$D$12&\",reference:=StartOfDay)=\"&A21&\"\", \"Bar\", \"\", \"Close\",\"A5C\",\"0\",\"All\",,,\"False\",\"T\",\"EveryTick\")","v":2001},{"$f":"RTD(\"cqg.rtd\",,\"StudyData\", \"Vol(\"&$D$12&\") when LocalYear(\"&$D$12&\")=\"&$D$8&\" and localMonth(\"&$D$12&\") =\"&$E$8&\" and LocalDay(\"&$D$12&\")=\"&$F$8&\" and Barix(\"&$D$12&\",reference:=StartOfDay)=\"&A21&\"\", \"Bar\", \"\", \"Close\",\"A5C\",\"0\",\"All\",,,\"False\",\"T\",\"EveryTick\")","v":1788},{"$f":"RTD(\"cqg.rtd\",,\"StudyData\", \"Vol(\"&$D$12&\") when LocalYear(\"&$D$12&\")=\"&$D$9&\" and localMonth(\"&$D$12&\") =\"&$E$9&\" and LocalDay(\"&$D$12&\")=\"&$F$9&\" and Barix(\"&$D$12&\",reference:=StartOfDay)=\"&A21&\"\", \"Bar\", \"\", \"Close\",\"A5C\",\"0\",\"All\",,,\"False\",\"T\",\"EveryTick\")","v":3219},{"$f":"RTD(\"cqg.rtd\",,\"StudyData\", \"Vol(\"&$D$12&\") when LocalYear(\"&$D$12&\")=\"&$D$10&\" and localMonth(\"&$D$12&\") =\"&$E$10&\" and LocalDay(\"&$D$12&\")=\"&$F$10&\" and Barix(\"&$D$12&\",reference:=StartOfDay)=\"&A21&\"\", \"Bar\", \"\", \"Close\",\"A5C\",\"0\",\"All\",,,\"False\",\"T\",\"EveryTick\")","v":1439},{"$f":"IF(H21>(1+(MainDisplay!$O$24/100))*I21,H21,NA())","v":{"$error":"#N/A"}}]
[117,{"$f":"Sheet3!B22","v":"02:45:00"},null,4,"#.0000",null,"2021-09-30",{"$f":"RTD(\"cqg.rtd\",,\"StudyData\", \"Vol(\"&$D$12&\") when LocalYear(\"&$D$12&\")=\"&$D$1&\" and localMonth(\"&$D$12&\") =\"&$E$1&\" and LocalDay(\"&$D$12&\")=\"&$F$1&\" and Barix(\"&$D$12&\",reference:=StartOfDay)=\"&A22&\"\", \"Bar\", \"\", \"Close\",\"A5C\",\"0\",\"All\",,,\"False\",\"T\",\"EveryTick\")","v":1116},2539.4444444444443,{"$f":"RTD(\"cqg.rtd\",,\"StudyData\", \"Vol(\"&$D$12&\") when LocalYear(\"&$D$12&\")=\"&$D$2&\" and localMonth(\"&$D$12&\") =\"&$E$2&\" and LocalDay(\"&$D$12&\")=\"&$F$2&\" and Barix(\"&$D$12&\",reference:=StartOfDay)=\"&A22&\"\", \"Bar\", \"\", \"Close\",\"A5C\",\"0\",\"All\",,,\"False\",\"T\",\"EveryTick\")","v":2453},{"$f":"RTD(\"cqg.rtd\",,\"StudyData\", \"Vol(\"&$D$12&\") when LocalYear(\"&$D$12&\")=\"&$D$3&\" and localMonth(\"&$D$12&\") =\"&$E$3&\" and LocalDay(\"&$D$12&\")=\"&$F$3&\" and Barix(\"&$D$12&\",reference:=StartOfDay)=\"&A22&\"\", \"Bar\", \"\", \"Close\",\"A5C\",\"0\",\"All\",,,\"False\",\"T\",\"EveryTick\")","v":2002},{"$f":"RTD(\"cqg.rtd\",,\"StudyData\", \"Vol(\"&$D$12&\") when LocalYear(\"&$D$12&\")=\"&$D$4&\" and localMonth(\"&$D$12&\") =\"&$E$4&\" and LocalDay(\"&$D$12&\")=\"&$F$4&\" and Barix(\"&$D$12&\",reference:=StartOfDay)=\"&A22&\"\", \"Bar\", \"\", \"Close\",\"A5C\",\"0\",\"All\",,,\"False\",\"T\",\"EveryTick\")","v":1574},{"$f":"RTD(\"cqg.rtd\",,\"StudyData\", \"Vol(\"&$D$12&\") when LocalYear(\"&$D$12&\")=\"&$D$5&\" and localMonth(\"&$D$12&\") =\"&$E$5&\" and LocalDay(\"&$D$12&\")=\"&$F$5&\" and Barix(\"&$D$12&\",reference:=StartOfDay)=\"&A22&\"\", \"Bar\", \"\", \"Close\",\"A5C\",\"0\",\"All\",,,\"False\",\"T\",\"EveryTick\")","v":1372},{"$f":"RTD(\"cqg.rtd\",,\"StudyData\", \"Vol(\"&$D$12&\") when LocalYear(\"&$D$12&\")=\"&$D$6&\" and localMonth(\"&$D$12&\") =\"&$E$6&\" and LocalDay(\"&$D$12&\")=\"&$F$6&\" and Barix(\"&$D$12&\",reference:=StartOfDay)=\"&A22&\"\", \"Bar\", \"\", \"Close\",\"A5C\",\"0\",\"All\",,,\"False\",\"T\",\"EveryTick\")","v":4777},{"$f":"RTD(\"cqg.rtd\",,\"StudyData\", \"Vol(\"&$D$12&\") when LocalYear(\"&$D$12&\")=\"&$D$7&\" and localMonth(\"&$D$12&\") =\"&$E$7&\" and LocalDay(\"&$D$12&\")=\"&$F$7&\" and Barix(\"&$D$12&\",reference:=StartOfDay)=\"&A22&\"\", \"Bar\", \"\", \"Close\",\"A5C\",\"0\",\"All\",,,\"False\",\"T\",\"EveryTick\")","v":1939},{"$f":"RTD(\"cqg.rtd\",,\"StudyData\", \"Vol(\"&$D$12&\") when LocalYear(\"&$D$12&\")=\"&$D$8&\" and localMonth(\"&$D$12&\") =\"&$E$8&\" and LocalDay(\"&$D$12&\")=\"&$F$8&\" and Barix(\"&$D$12&\",reference:=StartOfDay)=\"&A22&\"\", \"Bar\", \"\", \"Close\",\"A5C\",\"0\",\"All\",,,\"False\",\"T\",\"EveryTick\")","v":3165},{"$f":"RTD(\"cqg.rtd\",,\"StudyData\", \"Vol(\"&$D$12&\") when LocalYear(\"&$D$12&\")=\"&$D$9&\" and localMonth(\"&$D$12&\") =\"&$E$9&\" and LocalDay(\"&$D$12&\")=\"&$F$9&\" and Barix(\"&$D$12&\",reference:=StartOfDay)=\"&A22&\"\", \"Bar\", \"\", \"Close\",\"A5C\",\"0\",\"All\",,,\"False\",\"T\",\"EveryTick\")","v":3476},{"$f":"RTD(\"cqg.rtd\",,\"StudyData\", \"Vol(\"&$D$12&\") when LocalYear(\"&$D$12&\")=\"&$D$10&\" and localMonth(\"&$D$12&\") =\"&$E$10&\" and LocalDay(\"&$D$12&\")=\"&$F$10&\" and Barix(\"&$D$12&\",reference:=StartOfDay)=\"&A22&\"\", \"Bar\", \"\", \"Close\",\"A5C\",\"0\",\"All\",,,\"False\",\"T\",\"EveryTick\")","v":2097},{"$f":"IF(H22>(1+(MainDisplay!$O$24/100))*I22,H22,NA())","v":{"$error":"#N/A"}}]
[118,{"$f":"Sheet3!B23","v":"02:50:00"},null,5,"#.00000",null,null,{"$f":"RTD(\"cqg.rtd\",,\"StudyData\", \"Vol(\"&$D$12&\") when LocalYear(\"&$D$12&\")=\"&$D$1&\" and localMonth(\"&$D$12&\") =\"&$E$1&\" and LocalDay(\"&$D$12&\")=\"&$F$1&\" and Barix(\"&$D$12&\",reference:=StartOfDay)=\"&A23&\"\", \"Bar\", \"\", \"Close\",\"A5C\",\"0\",\"All\",,,\"False\",\"T\",\"EveryTick\")","v":2529},2222.2222222222222,{"$f":"RTD(\"cqg.rtd\",,\"StudyData\", \"Vol(\"&$D$12&\") when LocalYear(\"&$D$12&\")=\"&$D$2&\" and localMonth(\"&$D$12&\") =\"&$E$2&\" and LocalDay(\"&$D$12&\")=\"&$F$2&\" and Barix(\"&$D$12&\",reference:=StartOfDay)=\"&A23&\"\", \"Bar\", \"\", \"Close\",\"A5C\",\"0\",\"All\",,,\"False\",\"T\",\"EveryTick\")","v":1239},{"$f":"RTD(\"cqg.rtd\",,\"StudyData\", \"Vol(\"&$D$12&\") when LocalYear(\"&$D$12&\")=\"&$D$3&\" and localMonth(\"&$D$12&\") =\"&$E$3&\" and LocalDay(\"&$D$12&\")=\"&$F$3&\" and Barix(\"&$D$12&\",reference:=StartOfDay)=\"&A23&\"\", \"Bar\", \"\", \"Close\",\"A5C\",\"0\",\"All\",,,\"False\",\"T\",\"EveryTick\")","v":1421},{"$f":"RTD(\"cqg.rtd\",,\"StudyData\", \"Vol(\"&$D$12&\") when LocalYear(\"&$D$12&\")=\"&$D$4&\" and localMonth(\"&$D$12&\") =\"&$E$4&\" and LocalDay(\"&$D$12&\")=\"&$F$4&\" and Barix(\"&$D$12&\",reference:=StartOfDay)=\"&A23&\"\", \"Bar\", \"\", \"Close\",\"A5C\",\"0\",\"All\",,,\"False\",\"T\",\"EveryTick\")","v":1711},{"$f":"RTD(\"cqg.rtd\",,\"StudyData\", \"Vol(\"&$D$12&\") when LocalYear(\"&$D$12&\")=\"&$D$5&\" and localMonth(\"&$D$12&\") =\"&$E$5&\" and LocalDay(\"&$D$12&\")=\"&$F$5&\" and Barix(\"&$D$12&\",reference:=StartOfDay)=\"&A23&\"\", \"Bar\", \"\", \"Close\",\"A5C\",\"0\",\"All\",,,\"False\",\"T\",\"EveryTick\")","v":2134},{"$f":"RTD(\"cqg.rtd\",,\"StudyData\", \"Vol(\"&$D$12&\") when LocalYear(\"&$D$12&\")=\"&$D$6&\" and localMonth(\"&$D$12&\") =\"&$E$6&\" and LocalDay(\"&$D$12&\")=\"&$F$6&\" and Barix(\"&$D$12&\",reference:=StartOfDay)=\"&A23&\"\", \"Bar\", \"\", \"Close\",\"A5C\",\"0\",\"All\",,,\"False\",\"T\",\"EveryTick\")","v":4826},{"$f":"RTD(\"cqg.rtd\",,\"StudyData\", \"Vol(\"&$D$12&\") when LocalYear(\"&$D$12&\")=\"&$D$7&\" and localMonth(\"&$D$12&\") =\"&$E$7&\" and LocalDay(\"&$D$12&\")=\"&$F$7&\" and Barix(\"&$D$12&\",reference:=StartOfDay)=\"&A23&\"\", \"Bar\", \"\", \"Close\",\"A5C\",\"0\",\"All\",,,\"False\",\"T\",\"EveryTick\")","v":1995},{"$f":"RTD(\"cqg.rtd\",,\"StudyData\", \"Vol(\"&$D$12&\") when LocalYear(\"&$D$12&\")=\"&$D$8&\" and localMonth(\"&$D$12&\") =\"&$E$8&\" and LocalDay(\"&$D$12&\")=\"&$F$8&\" and Barix(\"&$D$12&\",reference:=StartOfDay)=\"&A23&\"\", \"Bar\", \"\", \"Close\",\"A5C\",\"0\",\"All\",,,\"False\",\"T\",\"EveryTick\")","v":1982},{"$f":"RTD(\"cqg.rtd\",,\"StudyData\", \"Vol(\"&$D$12&\") when LocalYear(\"&$D$12&\")=\"&$D$9&\" and localMonth(\"&$D$12&\") =\"&$E$9&\" and LocalDay(\"&$D$12&\")=\"&$F$9&\" and Barix(\"&$D$12&\",reference:=StartOfDay)=\"&A23&\"\", \"Bar\", \"\", \"Close\",\"A5C\",\"0\",\"All\",,,\"False\",\"T\",\"EveryTick\")","v":2641},{"$f":"RTD(\"cqg.rtd\",,\"StudyData\", \"Vol(\"&$D$12&\") when LocalYear(\"&$D$12&\")=\"&$D$10&\" and localMonth(\"&$D$12&\") =\"&$E$10&\" and LocalDay(\"&$D$12&\")=\"&$F$10&\" and Barix(\"&$D$12&\",reference:=StartOfDay)=\"&A23&\"\", \"Bar\", \"\", \"Close\",\"A5C\",\"0\",\"All\",,,\"False\",\"T\",\"EveryTick\")","v":2051},{"$f":"IF(H23>(1+(MainDisplay!$O$24/100))*I23,H23,NA())","v":{"$error":"#N/A"}}]
[119,{"$f":"Sheet3!B24","v":"02:55:00"},null,6,"#.000000",null,null,{"$f":"RTD(\"cqg.rtd\",,\"StudyData\", \"Vol(\"&$D$12&\") when LocalYear(\"&$D$12&\")=\"&$D$1&\" and localMonth(\"&$D$12&\") =\"&$E$1&\" and LocalDay(\"&$D$12&\")=\"&$F$1&\" and Barix(\"&$D$12&\",reference:=StartOfDay)=\"&A24&\"\", \"Bar\", \"\", \"Close\",\"A5C\",\"0\",\"All\",,,\"False\",\"T\",\"EveryTick\")","v":1371},2102,{"$f":"RTD(\"cqg.rtd\",,\"StudyData\", \"Vol(\"&$D$12&\") when LocalYear(\"&$D$12&\")=\"&$D$2&\" and localMonth(\"&$D$12&\") =\"&$E$2&\" and LocalDay(\"&$D$12&\")=\"&$F$2&\" and Barix(\"&$D$12&\",reference:=StartOfDay)=\"&A24&\"\", \"Bar\", \"\", \"Close\",\"A5C\",\"0\",\"All\",,,\"False\",\"T\",\"EveryTick\")","v":1249},{"$f":"RTD(\"cqg.rtd\",,\"StudyData\", \"Vol(\"&$D$12&\") when LocalYear(\"&$D$12&\")=\"&$D$3&\" and localMonth(\"&$D$12&\") =\"&$E$3&\" and LocalDay(\"&$D$12&\")=\"&$F$3&\" and Barix(\"&$D$12&\",reference:=StartOfDay)=\"&A24&\"\", \"Bar\", \"\", \"Close\",\"A5C\",\"0\",\"All\",,,\"False\",\"T\",\"EveryTick\")","v":1442},{"$f":"RTD(\"cqg.rtd\",,\"StudyData\", \"Vol(\"&$D$12&\") when LocalYear(\"&$D$12&\")=\"&$D$4&\" and localMonth(\"&$D$12&\") =\"&$E$4&\" and LocalDay(\"&$D$12&\")=\"&$F$4&\" and Barix(\"&$D$12&\",reference:=StartOfDay)=\"&A24&\"\", \"Bar\", \"\", \"Close\",\"A5C\",\"0\",\"All\",,,\"False\",\"T\",\"EveryTick\")","v":674},{"$f":"RTD(\"cqg.rtd\",,\"StudyData\", \"Vol(\"&$D$12&\") when LocalYear(\"&$D$12&\")=\"&$D$5&\" and localMonth(\"&$D$12&\") =\"&$E$5&\" and LocalDay(\"&$D$12&\")=\"&$F$5&\" and Barix(\"&$D$12&\",reference:=StartOfDay)=\"&A24&\"\", \"Bar\", \"\", \"Close\",\"A5C\",\"0\",\"All\",,,\"False\",\"T\",\"EveryTick\")","v":1292},{"$f":"RTD(\"cqg.rtd\",,\"StudyData\", \"Vol(\"&$D$12&\") when LocalYear(\"&$D$12&\")=\"&$D$6&\" and localMonth(\"&$D$12&\") =\"&$E$6&\" and LocalDay(\"&$D$12&\")=\"&$F$6&\" and Barix(\"&$D$12&\",reference:=StartOfDay)=\"&A24&\"\", \"Bar\", \"\", \"Close\",\"A5C\",\"0\",\"All\",,,\"False\",\"T\",\"EveryTick\")","v":3599},{"$f":"RTD(\"cqg.rtd\",,\"StudyData\", \"Vol(\"&$D$12&\") when LocalYear(\"&$D$12&\")=\"&$D$7&\" and localMonth(\"&$D$12&\") =\"&$E$7&\" and LocalDay(\"&$D$12&\")=\"&$F$7&\" and Barix(\"&$D$12&\",reference:=StartOfDay)=\"&A24&\"\", \"Bar\", \"\", \"Close\",\"A5C\",\"0\",\"All\",,,\"False\",\"T\",\"EveryTick\")","v":2895},{"$f":"RTD(\"cqg.rtd\",,\"StudyData\", \"Vol(\"&$D$12&\") when LocalYear(\"&$D$12&\")=\"&$D$8&\" and localMonth(\"&$D$12&\") =\"&$E$8&\" and LocalDay(\"&$D$12&\")=\"&$F$8&\" and Barix(\"&$D$12&\",reference:=StartOfDay)=\"&A24&\"\", \"Bar\", \"\", \"Close\",\"A5C\",\"0\",\"All\",,,\"False\",\"T\",\"EveryTick\")","v":1921},{"$f":"RTD(\"cqg.rtd\",,\"StudyData\", \"Vol(\"&$D$12&\") when LocalYear(\"&$D$12&\")=\"&$D$9&\" and localMonth(\"&$D$12&\") =\"&$E$9&\" and LocalDay(\"&$D$12&\")=\"&$F$9&\" and Barix(\"&$D$12&\",reference:=StartOfDay)=\"&A24&\"\", \"Bar\", \"\", \"Close\",\"A5C\",\"0\",\"All\",,,\"False\",\"T\",\"EveryTick\")","v":3873},{"$f":"RTD(\"cqg.rtd\",,\"StudyData\", \"Vol(\"&$D$12&\") when LocalYear(\"&$D$12&\")=\"&$D$10&\" and localMonth(\"&$D$12&\") =\"&$E$10&\" and LocalDay(\"&$D$12&\")=\"&$F$10&\" and Barix(\"&$D$12&\",reference:=StartOfDay)=\"&A24&\"\", \"Bar\", \"\", \"Close\",\"A5C\",\"0\",\"All\",,,\"False\",\"T\",\"EveryTick\")","v":1973},{"$f":"IF(H24>(1+(MainDisplay!$O$24/100))*I24,H24,NA())","v":{"$error":"#N/A"}}]
[120,{"$f":"Sheet3!B25","v":"03:00:00"},null,7,"#.0000000",null,null,{"$f":"RTD(\"cqg.rtd\",,\"StudyData\", \"Vol(\"&$D$12&\") when LocalYear(\"&$D$12&\")=\"&$D$1&\" and localMonth(\"&$D$12&\") =\"&$E$1&\" and LocalDay(\"&$D$12&\")=\"&$F$1&\" and Barix(\"&$D$12&\",reference:=StartOfDay)=\"&A25&\"\", \"Bar\", \"\", \"Close\",\"A5C\",\"0\",\"All\",,,\"False\",\"T\",\"EveryTick\")","v":1513},3114.4444444444443,{"$f":"RTD(\"cqg.rtd\",,\"StudyData\", \"Vol(\"&$D$12&\") when LocalYear(\"&$D$12&\")=\"&$D$2&\" and localMonth(\"&$D$12&\") =\"&$E$2&\" and LocalDay(\"&$D$12&\")=\"&$F$2&\" and Barix(\"&$D$12&\",reference:=StartOfDay)=\"&A25&\"\", \"Bar\", \"\", \"Close\",\"A5C\",\"0\",\"All\",,,\"False\",\"T\",\"EveryTick\")","v":2631},{"$f":"RTD(\"cqg.rtd\",,\"StudyData\", \"Vol(\"&$D$12&\") when LocalYear(\"&$D$12&\")=\"&$D$3&\" and localMonth(\"&$D$12&\") =\"&$E$3&\" and LocalDay(\"&$D$12&\")=\"&$F$3&\" and Barix(\"&$D$12&\",reference:=StartOfDay)=\"&A25&\"\", \"Bar\", \"\", \"Close\",\"A5C\",\"0\",\"All\",,,\"False\",\"T\",\"EveryTick\")","v":2085},{"$f":"RTD(\"cqg.rtd\",,\"StudyData\", \"Vol(\"&$D$12&\") when LocalYear(\"&$D$12&\")=\"&$D$4&\" and localMonth(\"&$D$12&\") =\"&$E$4&\" and LocalDay(\"&$D$12&\")=\"&$F$4&\" and Barix(\"&$D$12&\",reference:=StartOfDay)=\"&A25&\"\", \"Bar\", \"\", \"Close\",\"A5C\",\"0\",\"All\",,,\"False\",\"T\",\"EveryTick\")","v":1309},{"$f":"RTD(\"cqg.rtd\",,\"StudyData\", \"Vol(\"&$D$12&\") when LocalYear(\"&$D$12&\")=\"&$D$5&\" and localMonth(\"&$D$12&\") =\"&$E$5&\" and LocalDay(\"&$D$12&\")=\"&$F$5&\" and Barix(\"&$D$12&\",reference:=StartOfDay)=\"&A25&\"\", \"Bar\", \"\", \"Close\",\"A5C\",\"0\",\"All\",,,\"False\",\"T\",\"EveryTick\")","v":1644},{"$f":"RTD(\"cqg.rtd\",,\"StudyData\", \"Vol(\"&$D$12&\") when LocalYear(\"&$D$12&\")=\"&$D$6&\" and localMonth(\"&$D$12&\") =\"&$E$6&\" and LocalDay(\"&$D$12&\")=\"&$F$6&\" and Barix(\"&$D$12&\",reference:=StartOfDay)=\"&A25&\"\", \"Bar\", \"\", \"Close\",\"A5C\",\"0\",\"All\",,,\"False\",\"T\",\"EveryTick\")","v":5792},{"$f":"RTD(\"cqg.rtd\",,\"StudyData\", \"Vol(\"&$D$12&\") when LocalYear(\"&$D$12&\")=\"&$D$7&\" and localMonth(\"&$D$12&\") =\"&$E$7&\" and LocalDay(\"&$D$12&\")=\"&$F$7&\" and Barix(\"&$D$12&\",reference:=StartOfDay)=\"&A25&\"\", \"Bar\", \"\", \"Close\",\"A5C\",\"0\",\"All\",,,\"False\",\"T\",\"EveryTick\")","v":3034},{"$f":"RTD(\"cqg.rtd\",,\"StudyData\", \"Vol(\"&$D$12&\") when LocalYear(\"&$D$12&\")=\"&$D$8&\" and localMonth(\"&$D$12&\") =\"&$E$8&\" and LocalDay(\"&$D$12&\")=\"&$F$8&\" and Barix(\"&$D$12&\",reference:=StartOfDay)=\"&A25&\"\", \"Bar\", \"\", \"Close\",\"A5C\",\"0\",\"All\",,,\"False\",\"T\",\"EveryTick\")","v":4147},{"$f":"RTD(\"cqg.rtd\",,\"StudyData\", \"Vol(\"&$D$12&\") when LocalYear(\"&$D$12&\")=\"&$D$9&\" and localMonth(\"&$D$12&\") =\"&$E$9&\" and LocalDay(\"&$D$12&\")=\"&$F$9&\" and Barix(\"&$D$12&\",reference:=StartOfDay)=\"&A25&\"\", \"Bar\", \"\", \"Close\",\"A5C\",\"0\",\"All\",,,\"False\",\"T\",\"EveryTick\")","v":4872},{"$f":"RTD(\"cqg.rtd\",,\"StudyData\", \"Vol(\"&$D$12&\") when LocalYear(\"&$D$12&\")=\"&$D$10&\" and localMonth(\"&$D$12&\") =\"&$E$10&\" and LocalDay(\"&$D$12&\")=\"&$F$10&\" and Barix(\"&$D$12&\",reference:=StartOfDay)=\"&A25&\"\", \"Bar\", \"\", \"Close\",\"A5C\",\"0\",\"All\",,,\"False\",\"T\",\"EveryTick\")","v":2516},{"$f":"IF(H25>(1+(MainDisplay!$O$24/100))*I25,H25,NA())","v":{"$error":"#N/A"}}]
[121,{"$f":"Sheet3!B26","v":"03:05:00"},null,null,null,null,null,{"$f":"RTD(\"cqg.rtd\",,\"StudyData\", \"Vol(\"&$D$12&\") when LocalYear(\"&$D$12&\")=\"&$D$1&\" and localMonth(\"&$D$12&\") =\"&$E$1&\" and LocalDay(\"&$D$12&\")=\"&$F$1&\" and Barix(\"&$D$12&\",reference:=StartOfDay)=\"&A26&\"\", \"Bar\", \"\", \"Close\",\"A5C\",\"0\",\"All\",,,\"False\",\"T\",\"EveryTick\")","v":1380},2739.5555555555557,{"$f":"RTD(\"cqg.rtd\",,\"StudyData\", \"Vol(\"&$D$12&\") when LocalYear(\"&$D$12&\")=\"&$D$2&\" and localMonth(\"&$D$12&\") =\"&$E$2&\" and LocalDay(\"&$D$12&\")=\"&$F$2&\" and Barix(\"&$D$12&\",reference:=StartOfDay)=\"&A26&\"\", \"Bar\", \"\", \"Close\",\"A5C\",\"0\",\"All\",,,\"False\",\"T\",\"EveryTick\")","v":1393},{"$f":"RTD(\"cqg.rtd\",,\"StudyData\", \"Vol(\"&$D$12&\") when LocalYear(\"&$D$12&\")=\"&$D$3&\" and localMonth(\"&$D$12&\") =\"&$E$3&\" and LocalDay(\"&$D$12&\")=\"&$F$3&\" and Barix(\"&$D$12&\",reference:=StartOfDay)=\"&A26&\"\", \"Bar\", \"\", \"Close\",\"A5C\",\"0\",\"All\",,,\"False\",\"T\",\"EveryTick\")","v":1362},{"$f":"RTD(\"cqg.rtd\",,\"StudyData\", \"Vol(\"&$D$12&\") when LocalYear(\"&$D$12&\")=\"&$D$4&\" and localMonth(\"&$D$12&\") =\"&$E$4&\" and LocalDay(\"&$D$12&\")=\"&$F$4&\" and Barix(\"&$D$12&\",reference:=StartOfDay)=\"&A26&\"\", \"Bar\", \"\", \"Close\",\"A5C\",\"0\",\"All\",,,\"False\",\"T\",\"EveryTick\")","v":1174},{"$f":"RTD(\"cqg.rtd\",,\"StudyData\", \"Vol(\"&$D$12&\") when LocalYear(\"&$D$12&\")=\"&$D$5&\" and localMonth(\"&$D$12&\") =\"&$E$5&\" and LocalDay(\"&$D$12&\")=\"&$F$5&\" and Barix(\"&$D$12&\",reference:=StartOfDay)=\"&A26&\"\", \"Bar\", \"\", \"Close\",\"A5C\",\"0\",\"All\",,,\"False\",\"T\",\"EveryTick\")","v":1896},{"$f":"RTD(\"cqg.rtd\",,\"StudyData\", \"Vol(\"&$D$12&\") when LocalYear(\"&$D$12&\")=\"&$D$6&\" and localMonth(\"&$D$12&\") =\"&$E$6&\" and LocalDay(\"&$D$12&\")=\"&$F$6&\" and Barix(\"&$D$12&\",reference:=StartOfDay)=\"&A26&\"\", \"Bar\", \"\", \"Close\",\"A5C\",\"0\",\"All\",,,\"False\",\"T\",\"EveryTick\")","v":6579},{"$f":"RTD(\"cqg.rtd\",,\"StudyData\", \"Vol(\"&$D$12&\") when LocalYear(\"&$D$12&\")=\"&$D$7&\" and localMonth(\"&$D$12&\") =\"&$E$7&\" and LocalDay(\"&$D$12&\")=\"&$F$7&\" and Barix(\"&$D$12&\",reference:=StartOfDay)=\"&A26&\"\", \"Bar\", \"\", \"Close\",\"A5C\",\"0\",\"All\",,,\"False\",\"T\",\"EveryTick\")","v":1911},{"$f":"RTD(\"cqg.rtd\",,\"StudyData\", \"Vol(\"&$D$12&\") when LocalYear(\"&$D$12&\")=\"&$D$8&\" and localMonth(\"&$D$12&\") =\"&$E$8&\" and LocalDay(\"&$D$12&\")=\"&$F$8&\" and Barix(\"&$D$12&\",reference:=StartOfDay)=\"&A26&\"\", \"Bar\", \"\", \"Close\",\"A5C\",\"0\",\"All\",,,\"False\",\"T\",\"EveryTick\")","v":2391},{"$f":"RTD(\"cqg.rtd\",,\"StudyData\", \"Vol(\"&$D$12&\") when LocalYear(\"&$D$12&\")=\"&$D$9&\" and localMonth(\"&$D$12&\") =\"&$E$9&\" and LocalDay(\"&$D$12&\")=\"&$F$9&\" and Barix(\"&$D$12&\",reference:=StartOfDay)=\"&A26&\"\", \"Bar\", \"\", \"Close\",\"A5C\",\"0\",\"All\",,,\"False\",\"T\",\"EveryTick\")","v":3377},{"$f":"RTD(\"cqg.rtd\",,\"StudyData\", \"Vol(\"&$D$12&\") when LocalYear(\"&$D$12&\")=\"&$D$10&\" and localMonth(\"&$D$12&\") =\"&$E$10&\" and LocalDay(\"&$D$12&\")=\"&$F$10&\" and Barix(\"&$D$12&\",reference:=StartOfDay)=\"&A26&\"\", \"Bar\", \"\", \"Close\",\"A5C\",\"0\",\"All\",,,\"False\",\"T\",\"EveryTick\")","v":4573},{"$f":"IF(H26>(1+(MainDisplay!$O$24/100))*I26,H26,NA())","v":{"$error":"#N/A"}}]
[122,{"$f":"Sheet3!B27","v":"03:10:00"},null,null,null,null,null,{"$f":"RTD(\"cqg.rtd\",,\"StudyData\", \"Vol(\"&$D$12&\") when LocalYear(\"&$D$12&\")=\"&$D$1&\" and localMonth(\"&$D$12&\") =\"&$E$1&\" and LocalDay(\"&$D$12&\")=\"&$F$1&\" and Barix(\"&$D$12&\",reference:=StartOfDay)=\"&A27&\"\", \"Bar\", \"\", \"Close\",\"A5C\",\"0\",\"All\",,,\"False\",\"T\",\"EveryTick\")","v":948},2475.8888888888887,{"$f":"RTD(\"cqg.rtd\",,\"StudyData\", \"Vol(\"&$D$12&\") when LocalYear(\"&$D$12&\")=\"&$D$2&\" and localMonth(\"&$D$12&\") =\"&$E$2&\" and LocalDay(\"&$D$12&\")=\"&$F$2&\" and Barix(\"&$D$12&\",reference:=StartOfDay)=\"&A27&\"\", \"Bar\", \"\", \"Close\",\"A5C\",\"0\",\"All\",,,\"False\",\"T\",\"EveryTick\")","v":1748},{"$f":"RTD(\"cqg.rtd\",,\"StudyData\", \"Vol(\"&$D$12&\") when LocalYear(\"&$D$12&\")=\"&$D$3&\" and localMonth(\"&$D$12&\") =\"&$E$3&\" and LocalDay(\"&$D$12&\")=\"&$F$3&\" and Barix(\"&$D$12&\",reference:=StartOfDay)=\"&A27&\"\", \"Bar\", \"\", \"Close\",\"A5C\",\"0\",\"All\",,,\"False\",\"T\",\"EveryTick\")","v":1231},{"$f":"RTD(\"cqg.rtd\",,\"StudyData\", \"Vol(\"&$D$12&\") when LocalYear(\"&$D$12&\")=\"&$D$4&\" and localMonth(\"&$D$12&\") =\"&$E$4&\" and LocalDay(\"&$D$12&\")=\"&$F$4&\" and Barix(\"&$D$12&\",reference:=StartOfDay)=\"&A27&\"\", \"Bar\", \"\", \"Close\",\"A5C\",\"0\",\"All\",,,\"False\",\"T\",\"EveryTick\")","v":1602},{"$f":"RTD(\"cqg.rtd\",,\"StudyData\", \"Vol(\"&$D$12&\") when LocalYear(\"&$D$12&\")=\"&$D$5&\" and localMonth(\"&$D$12&\") =\"&$E$5&\" and LocalDay(\"&$D$12&\")=\"&$F$5&\" and Barix(\"&$D$12&\",reference:=StartOfDay)=\"&A27&\"\", \"Bar\", \"\", \"Close\",\"A5C\",\"0\",\"All\",,,\"False\",\"T\",\"EveryTick\")","v":1716},{"$f":"RTD(\"cqg.rtd\",,\"StudyData\", \"Vol(\"&$D$12&\") when LocalYear(\"&$D$12&\")=\"&$D$6&\" and localMonth(\"&$D$12&\") =\"&$E$6&\" and LocalDay(\"&$D$12&\")=\"&$F$6&\" and Barix(\"&$D$12&\",reference:=StartOfDay)=\"&A27&\"\", \"Bar\", \"\", \"Close\",\"A5C\",\"0\",\"All\",,,\"False\",\"T\",\"EveryTick\")","v":4650},{"$f":"RTD(\"cqg.rtd\",,\"StudyData\", \"Vol(\"&$D$12&\") when LocalYear(\"&$D$12&\")=\"&$D$7&\" and localMonth(\"&$D$12&\") =\"&$E$7&\" and LocalDay(\"&$D$12&\")=\"&$F$7&\" and Barix(\"&$D$12&\",reference:=StartOfDay)=\"&A27&\"\", \"Bar\", \"\", \"Close\",\"A5C\",\"0\",\"All\",,,\"False\",\"T\",\"EveryTick\")","v":1632},{"$f":"RTD(\"cqg.rtd\",,\"StudyData\", \"Vol(\"&$D$12&\") when LocalYear(\"&$D$12&\")=\"&$D$8&\" and localMonth(\"&$D$12&\") =\"&$E$8&\" and LocalDay(\"&$D$12&\")=\"&$F$8&\" and Barix(\"&$D$12&\",reference:=StartOfDay)=\"&A27&\"\", \"Bar\", \"\", \"Close\",\"A5C\",\"0\",\"All\",,,\"False\",\"T\",\"EveryTick\")","v":2137},{"$f":"RTD(\"cqg.rtd\",,\"StudyData\", \"Vol(\"&$D$12&\") when LocalYear(\"&$D$12&\")=\"&$D$9&\" and localMonth(\"&$D$12&\") =\"&$E$9&\" and LocalDay(\"&$D$12&\")=\"&$F$9&\" and Barix(\"&$D$12&\",reference:=StartOfDay)=\"&A27&\"\", \"Bar\", \"\", \"Close\",\"A5C\",\"0\",\"All\",,,\"False\",\"T\",\"EveryTick\")","v":4568},{"$f":"RTD(\"cqg.rtd\",,\"StudyData\", \"Vol(\"&$D$12&\") when LocalYear(\"&$D$12&\")=\"&$D$10&\" and localMonth(\"&$D$12&\") =\"&$E$10&\" and LocalDay(\"&$D$12&\")=\"&$F$10&\" and Barix(\"&$D$12&\",reference:=StartOfDay)=\"&A27&\"\", \"Bar\", \"\", \"Close\",\"A5C\",\"0\",\"All\",,,\"False\",\"T\",\"EveryTick\")","v":2999},{"$f":"IF(H27>(1+(MainDisplay!$O$24/100))*I27,H27,NA())","v":{"$error":"#N/A"}}]
[123,{"$f":"Sheet3!B28","v":"03:15:00"},null,null,null,null,null,{"$f":"RTD(\"cqg.rtd\",,\"StudyData\", \"Vol(\"&$D$12&\") when LocalYear(\"&$D$12&\")=\"&$D$1&\" and localMonth(\"&$D$12&\") =\"&$E$1&\" and LocalDay(\"&$D$12&\")=\"&$F$1&\" and Barix(\"&$D$12&\",reference:=StartOfDay)=\"&A28&\"\", \"Bar\", \"\", \"Close\",\"A5C\",\"0\",\"All\",,,\"False\",\"T\",\"EveryTick\")","v":2468},2377.5555555555557,{"$f":"RTD(\"cqg.rtd\",,\"StudyData\", \"Vol(\"&$D$12&\") when LocalYear(\"&$D$12&\")=\"&$D$2&\" and localMonth(\"&$D$12&\") =\"&$E$2&\" and LocalDay(\"&$D$12&\")=\"&$F$2&\" and Barix(\"&$D$12&\",reference:=StartOfDay)=\"&A28&\"\", \"Bar\", \"\", \"Close\",\"A5C\",\"0\",\"All\",,,\"False\",\"T\",\"EveryTick\")","v":1702},{"$f":"RTD(\"cqg.rtd\",,\"StudyData\", \"Vol(\"&$D$12&\") when LocalYear(\"&$D$12&\")=\"&$D$3&\" and localMonth(\"&$D$12&\") =\"&$E$3&\" and LocalDay(\"&$D$12&\")=\"&$F$3&\" and Barix(\"&$D$12&\",reference:=StartOfDay)=\"&A28&\"\", \"Bar\", \"\", \"Close\",\"A5C\",\"0\",\"All\",,,\"False\",\"T\",\"EveryTick\")","v":950},{"$f":"RTD(\"cqg.rtd\",,\"StudyData\", \"Vol(\"&$D$12&\") when LocalYear(\"&$D$12&\")=\"&$D$4&\" and localMonth(\"&$D$12&\") =\"&$E$4&\" and LocalDay(\"&$D$12&\")=\"&$F$4&\" and Barix(\"&$D$12&\",reference:=StartOfDay)=\"&A28&\"\", \"Bar\", \"\", \"Close\",\"A5C\",\"0\",\"All\",,,\"False\",\"T\",\"EveryTick\")","v":1377},{"$f":"RTD(\"cqg.rtd\",,\"StudyData\", \"Vol(\"&$D$12&\") when LocalYear(\"&$D$12&\")=\"&$D$5&\" and localMonth(\"&$D$12&\") =\"&$E$5&\" and LocalDay(\"&$D$12&\")=\"&$F$5&\" and Barix(\"&$D$12&\",reference:=StartOfDay)=\"&A28&\"\", \"Bar\", \"\", \"Close\",\"A5C\",\"0\",\"All\",,,\"False\",\"T\",\"EveryTick\")","v":2441},{"$f":"RTD(\"cqg.rtd\",,\"StudyData\", \"Vol(\"&$D$12&\") when LocalYear(\"&$D$12&\")=\"&$D$6&\" and localMonth(\"&$D$12&\") =\"&$E$6&\" and LocalDay(\"&$D$12&\")=\"&$F$6&\" and Barix(\"&$D$12&\",reference:=StartOfDay)=\"&A28&\"\", \"Bar\", \"\", \"Close\",\"A5C\",\"0\",\"All\",,,\"False\",\"T\",\"EveryTick\")","v":2981},{"$f":"RTD(\"cqg.rtd\",,\"StudyData\", \"Vol(\"&$D$12&\") when LocalYear(\"&$D$12&\")=\"&$D$7&\" and localMonth(\"&$D$12&\") =\"&$E$7&\" and LocalDay(\"&$D$12&\")=\"&$F$7&\" and Barix(\"&$D$12&\",reference:=StartOfDay)=\"&A28&\"\", \"Bar\", \"\", \"Close\",\"A5C\",\"0\",\"All\",,,\"False\",\"T\",\"EveryTick\")","v":2345},{"$f":"RTD(\"cqg.rtd\",,\"StudyData\", \"Vol(\"&$D$12&\") when LocalYear(\"&$D$12&\")=\"&$D$8&\" and localMonth(\"&$D$12&\") =\"&$E$8&\" and LocalDay(\"&$D$12&\")=\"&$F$8&\" and Barix(\"&$D$12&\",reference:=StartOfDay)=\"&A28&\"\", \"Bar\", \"\", \"Close\",\"A5C\",\"0\",\"All\",,,\"False\",\"T\",\"EveryTick\")","v":1988},{"$f":"RTD(\"cqg.rtd\",,\"StudyData\", \"Vol(\"&$D$12&\") when LocalYear(\"&$D$12&\")=\"&$D$9&\" and localMonth(\"&$D$12&\") =\"&$E$9&\" and LocalDay(\"&$D$12&\")=\"&$F$9&\" and Barix(\"&$D$12&\",reference:=StartOfDay)=\"&A28&\"\", \"Bar\", \"\", \"Close\",\"A5C\",\"0\",\"All\",,,\"False\",\"T\",\"EveryTick\")","v":3536},{"$f":"RTD(\"cqg.rtd\",,\"StudyData\", \"Vol(\"&$D$12&\") when LocalYear(\"&$D$12&\")=\"&$D$10&\" and localMonth(\"&$D$12&\") =\"&$E$10&\" and LocalDay(\"&$D$12&\")=\"&$F$10&\" and Barix(\"&$D$12&\",reference:=StartOfDay)=\"&A28&\"\", \"Bar\", \"\", \"Close\",\"A5C\",\"0\",\"All\",,,\"False\",\"T\",\"EveryTick\")","v":4078},{"$f":"IF(H28>(1+(MainDisplay!$O$24/100))*I28,H28,NA())","v":{"$error":"#N/A"}}]
[124,{"$f":"Sheet3!B29","v":"03:20:00"},null,null,null,null,null,{"$f":"RTD(\"cqg.rtd\",,\"StudyData\", \"Vol(\"&$D$12&\") when LocalYear(\"&$D$12&\")=\"&$D$1&\" and localMonth(\"&$D$12&\") =\"&$E$1&\" and LocalDay(\"&$D$12&\")=\"&$F$1&\" and Barix(\"&$D$12&\",reference:=StartOfDay)=\"&A29&\"\", \"Bar\", \"\", \"Close\",\"A5C\",\"0\",\"All\",,,\"False\",\"T\",\"EveryTick\")","v":2200},2222.3333333333335,{"$f":"RTD(\"cqg.rtd\",,\"StudyData\", \"Vol(\"&$D$12&\") when LocalYear(\"&$D$12&\")=\"&$D$2&\" and localMonth(\"&$D$12&\") =\"&$E$2&\" and LocalDay(\"&$D$12&\")=\"&$F$2&\" and Barix(\"&$D$12&\",reference:=StartOfDay)=\"&A29&\"\", \"Bar\", \"\", \"Close\",\"A5C\",\"0\",\"All\",,,\"False\",\"T\",\"EveryTick\")","v":1941},{"$f":"RTD(\"cqg.rtd\",,\"StudyData\", \"Vol(\"&$D$12&\") when LocalYear(\"&$D$12&\")=\"&$D$3&\" and localMonth(\"&$D$12&\") =\"&$E$3&\" and LocalDay(\"&$D$12&\")=\"&$F$3&\" and Barix(\"&$D$12&\",reference:=StartOfDay)=\"&A29&\"\", \"Bar\", \"\", \"Close\",\"A5C\",\"0\",\"All\",,,\"False\",\"T\",\"EveryTick\")","v":2209},{"$f":"RTD(\"cqg.rtd\",,\"StudyData\", \"Vol(\"&$D$12&\") when LocalYear(\"&$D$12&\")=\"&$D$4&\" and localMonth(\"&$D$12&\") =\"&$E$4&\" and LocalDay(\"&$D$12&\")=\"&$F$4&\" and Barix(\"&$D$12&\",reference:=StartOfDay)=\"&A29&\"\", \"Bar\", \"\", \"Close\",\"A5C\",\"0\",\"All\",,,\"False\",\"T\",\"EveryTick\")","v":1188},{"$f":"RTD(\"cqg.rtd\",,\"StudyData\", \"Vol(\"&$D$12&\") when LocalYear(\"&$D$12&\")=\"&$D$5&\" and localMonth(\"&$D$12&\") =\"&$E$5&\" and LocalDay(\"&$D$12&\")=\"&$F$5&\" and Barix(\"&$D$12&\",reference:=StartOfDay)=\"&A29&\"\", \"Bar\", \"\", \"Close\",\"A5C\",\"0\",\"All\",,,\"False\",\"T\",\"EveryTick\")","v":1636},{"$f":"RTD(\"cqg.rtd\",,\"StudyData\", \"Vol(\"&$D$12&\") when LocalYear(\"&$D$12&\")=\"&$D$6&\" and localMonth(\"&$D$12&\") =\"&$E$6&\" and LocalDay(\"&$D$12&\")=\"&$F$6&\" and Barix(\"&$D$12&\",reference:=StartOfDay)=\"&A29&\"\", \"Bar\", \"\", \"Close\",\"A5C\",\"0\",\"All\",,,\"False\",\"T\",\"EveryTick\")","v":3001},{"$f":"RTD(\"cqg.rtd\",,\"StudyData\", \"Vol(\"&$D$12&\") when LocalYear(\"&$D$12&\")=\"&$D$7&\" and localMonth(\"&$D$12&\") =\"&$E$7&\" and LocalDay(\"&$D$12&\")=\"&$F$7&\" and Barix(\"&$D$12&\",reference:=StartOfDay)=\"&A29&\"\", \"Bar\", \"\", \"Close\",\"A5C\",\"0\",\"All\",,,\"False\",\"T\",\"EveryTick\")","v":1605},{"$f":"RTD(\"cqg.rtd\",,\"StudyData\", \"Vol(\"&$D$12&\") when LocalYear(\"&$D$12&\")=\"&$D$8&\" and localMonth(\"&$D$12&\") =\"&$E$8&\" and LocalDay(\"&$D$12&\")=\"&$F$8&\" and Barix(\"&$D$12&\",reference:=StartOfDay)=\"&A29&\"\", \"Bar\", \"\", \"Close\",\"A5C\",\"0\",\"All\",,,\"False\",\"T\",\"EveryTick\")","v":1301},{"$f":"RTD(\"cqg.rtd\",,\"StudyData\", \"Vol(\"&$D$12&\") when LocalYear(\"&$D$12&\")=\"&$D$9&\" and localMonth(\"&$D$12&\") =\"&$E$9&\" and LocalDay(\"&$D$12&\")=\"&$F$9&\" and Barix(\"&$D$12&\",reference:=StartOfDay)=\"&A29&\"\", \"Bar\", \"\", \"Close\",\"A5C\",\"0\",\"All\",,,\"False\",\"T\",\"EveryTick\")","v":4201},{"$f":"RTD(\"cqg.rtd\",,\"StudyData\", \"Vol(\"&$D$12&\") when LocalYear(\"&$D$12&\")=\"&$D$10&\" and localMonth(\"&$D$12&\") =\"&$E$10&\" and LocalDay(\"&$D$12&\")=\"&$F$10&\" and Barix(\"&$D$12&\",reference:=StartOfDay)=\"&A29&\"\", \"Bar\", \"\", \"Close\",\"A5C\",\"0\",\"All\",,,\"False\",\"T\",\"EveryTick\")","v":2919},{"$f":"IF(H29>(1+(MainDisplay!$O$24/100))*I29,H29,NA())","v":{"$error":"#N/A"}}]
[125,{"$f":"Sheet3!B30","v":"03:25:00"},null,null,null,null,null,{"$f":"RTD(\"cqg.rtd\",,\"StudyData\", \"Vol(\"&$D$12&\") when LocalYear(\"&$D$12&\")=\"&$D$1&\" and localMonth(\"&$D$12&\") =\"&$E$1&\" and LocalDay(\"&$D$12&\")=\"&$F$1&\" and Barix(\"&$D$12&\",reference:=StartOfDay)=\"&A30&\"\", \"Bar\", \"\", \"Close\",\"A5C\",\"0\",\"All\",,,\"False\",\"T\",\"EveryTick\")","v":2427},1715,{"$f":"RTD(\"cqg.rtd\",,\"StudyData\", \"Vol(\"&$D$12&\") when LocalYear(\"&$D$12&\")=\"&$D$2&\" and localMonth(\"&$D$12&\") =\"&$E$2&\" and LocalDay(\"&$D$12&\")=\"&$F$2&\" and Barix(\"&$D$12&\",reference:=StartOfDay)=\"&A30&\"\", \"Bar\", \"\", \"Close\",\"A5C\",\"0\",\"All\",,,\"False\",\"T\",\"EveryTick\")","v":1535},{"$f":"RTD(\"cqg.rtd\",,\"StudyData\", \"Vol(\"&$D$12&\") when LocalYear(\"&$D$12&\")=\"&$D$3&\" and localMonth(\"&$D$12&\") =\"&$E$3&\" and LocalDay(\"&$D$12&\")=\"&$F$3&\" and Barix(\"&$D$12&\",reference:=StartOfDay)=\"&A30&\"\", \"Bar\", \"\", \"Close\",\"A5C\",\"0\",\"All\",,,\"False\",\"T\",\"EveryTick\")","v":1935},{"$f":"RTD(\"cqg.rtd\",,\"StudyData\", \"Vol(\"&$D$12&\") when LocalYear(\"&$D$12&\")=\"&$D$4&\" and localMonth(\"&$D$12&\") =\"&$E$4&\" and LocalDay(\"&$D$12&\")=\"&$F$4&\" and Barix(\"&$D$12&\",reference:=StartOfDay)=\"&A30&\"\", \"Bar\", \"\", \"Close\",\"A5C\",\"0\",\"All\",,,\"False\",\"T\",\"EveryTick\")","v":912},{"$f":"RTD(\"cqg.rtd\",,\"StudyData\", \"Vol(\"&$D$12&\") when LocalYear(\"&$D$12&\")=\"&$D$5&\" and localMonth(\"&$D$12&\") =\"&$E$5&\" and LocalDay(\"&$D$12&\")=\"&$F$5&\" and Barix(\"&$D$12&\",reference:=StartOfDay)=\"&A30&\"\", \"Bar\", \"\", \"Close\",\"A5C\",\"0\",\"All\",,,\"False\",\"T\",\"EveryTick\")","v":1299},{"$f":"RTD(\"cqg.rtd\",,\"StudyData\", \"Vol(\"&$D$12&\") when LocalYear(\"&$D$12&\")=\"&$D$6&\" and localMonth(\"&$D$12&\") =\"&$E$6&\" and LocalDay(\"&$D$12&\")=\"&$F$6&\" and Barix(\"&$D$12&\",reference:=StartOfDay)=\"&A30&\"\", \"Bar\", \"\", \"Close\",\"A5C\",\"0\",\"All\",,,\"False\",\"T\",\"EveryTick\")","v":3883},{"$f":"RTD(\"cqg.rtd\",,\"StudyData\", \"Vol(\"&$D$12&\") when LocalYear(\"&$D$12&\")=\"&$D$7&\" and localMonth(\"&$D$12&\") =\"&$E$7&\" and LocalDay(\"&$D$12&\")=\"&$F$7&\" and Barix(\"&$D$12&\",reference:=StartOfDay)=\"&A30&\"\", \"Bar\", \"\", \"Close\",\"A5C\",\"0\",\"All\",,,\"False\",\"T\",\"EveryTick\")","v":1274},{"$f":"RTD(\"cqg.rtd\",,\"StudyData\", \"Vol(\"&$D$12&\") when LocalYear(\"&$D$12&\")=\"&$D$8&\" and localMonth(\"&$D$12&\") =\"&$E$8&\" and LocalDay(\"&$D$12&\")=\"&$F$8&\" and Barix(\"&$D$12&\",reference:=StartOfDay)=\"&A30&\"\", \"Bar\", \"\", \"Close\",\"A5C\",\"0\",\"All\",,,\"False\",\"T\",\"EveryTick\")","v":1330},{"$f":"RTD(\"cqg.rtd\",,\"StudyData\", \"Vol(\"&$D$12&\") when LocalYear(\"&$D$12&\")=\"&$D$9&\" and localMonth(\"&$D$12&\") =\"&$E$9&\" and LocalDay(\"&$D$12&\")=\"&$F$9&\" and Barix(\"&$D$12&\",reference:=StartOfDay)=\"&A30&\"\", \"Bar\", \"\", \"Close\",\"A5C\",\"0\",\"All\",,,\"False\",\"T\",\"EveryTick\")","v":1820},{"$f":"RTD(\"cqg.rtd\",,\"StudyData\", \"Vol(\"&$D$12&\") when LocalYear(\"&$D$12&\")=\"&$D$10&\" and localMonth(\"&$D$12&\") =\"&$E$10&\" and LocalDay(\"&$D$12&\")=\"&$F$10&\" and Barix(\"&$D$12&\",reference:=StartOfDay)=\"&A30&\"\", \"Bar\", \"\", \"Close\",\"A5C\",\"0\",\"All\",,,\"False\",\"T\",\"EveryTick\")","v":1447},{"$f":"IF(H30>(1+(MainDisplay!$O$24/100))*I30,H30,NA())","v":2427}]
[126,{"$f":"Sheet3!B31","v":"03:30:00"},null,null,null,null,null,{"$f":"RTD(\"cqg.rtd\",,\"StudyData\", \"Vol(\"&$D$12&\") when LocalYear(\"&$D$12&\")=\"&$D$1&\" and localMonth(\"&$D$12&\") =\"&$E$1&\" and LocalDay(\"&$D$12&\")=\"&$F$1&\" and Barix(\"&$D$12&\",reference:=StartOfDay)=\"&A31&\"\", \"Bar\", \"\", \"Close\",\"A5C\",\"0\",\"All\",,,\"False\",\"T\",\"EveryTick\")","v":1166},2073,{"$f":"RTD(\"cqg.rtd\",,\"StudyData\", \"Vol(\"&$D$12&\") when LocalYear(\"&$D$12&\")=\"&$D$2&\" and localMonth(\"&$D$12&\") =\"&$E$2&\" and LocalDay(\"&$D$12&\")=\"&$F$2&\" and Barix(\"&$D$12&\",reference:=StartOfDay)=\"&A31&\"\", \"Bar\", \"\", \"Close\",\"A5C\",\"0\",\"All\",,,\"False\",\"T\",\"EveryTick\")","v":1157},{"$f":"RTD(\"cqg.rtd\",,\"StudyData\", \"Vol(\"&$D$12&\") when LocalYear(\"&$D$12&\")=\"&$D$3&\" and localMonth(\"&$D$12&\") =\"&$E$3&\" and LocalDay(\"&$D$12&\")=\"&$F$3&\" and Barix(\"&$D$12&\",reference:=StartOfDay)=\"&A31&\"\", \"Bar\", \"\", \"Close\",\"A5C\",\"0\",\"All\",,,\"False\",\"T\",\"EveryTick\")","v":1649},{"$f":"RTD(\"cqg.rtd\",,\"StudyData\", \"Vol(\"&$D$12&\") when LocalYear(\"&$D$12&\")=\"&$D$4&\" and localMonth(\"&$D$12&\") =\"&$E$4&\" and LocalDay(\"&$D$12&\")=\"&$F$4&\" and Barix(\"&$D$12&\",reference:=StartOfDay)=\"&A31&\"\", \"Bar\", \"\", \"Close\",\"A5C\",\"0\",\"All\",,,\"False\",\"T\",\"EveryTick\")","v":858},{"$f":"RTD(\"cqg.rtd\",,\"StudyData\", \"Vol(\"&$D$12&\") when LocalYear(\"&$D$12&\")=\"&$D$5&\" and localMonth(\"&$D$12&\") =\"&$E$5&\" and LocalDay(\"&$D$12&\")=\"&$F$5&\" and Barix(\"&$D$12&\",reference:=StartOfDay)=\"&A31&\"\", \"Bar\", \"\", \"Close\",\"A5C\",\"0\",\"All\",,,\"False\",\"T\",\"EveryTick\")","v":1587},{"$f":"RTD(\"cqg.rtd\",,\"StudyData\", \"Vol(\"&$D$12&\") when LocalYear(\"&$D$12&\")=\"&$D$6&\" and localMonth(\"&$D$12&\") =\"&$E$6&\" and LocalDay(\"&$D$12&\")=\"&$F$6&\" and Barix(\"&$D$12&\",reference:=StartOfDay)=\"&A31&\"\", \"Bar\", \"\", \"Close\",\"A5C\",\"0\",\"All\",,,\"False\",\"T\",\"EveryTick\")","v":4143},{"$f":"RTD(\"cqg.rtd\",,\"StudyData\", \"Vol(\"&$D$12&\") when LocalYear(\"&$D$12&\")=\"&$D$7&\" and localMonth(\"&$D$12&\") =\"&$E$7&\" and LocalDay(\"&$D$12&\")=\"&$F$7&\" and Barix(\"&$D$12&\",reference:=StartOfDay)=\"&A31&\"\", \"Bar\", \"\", \"Close\",\"A5C\",\"0\",\"All\",,,\"False\",\"T\",\"EveryTick\")","v":2871},{"$f":"RTD(\"cqg.rtd\",,\"StudyData\", \"Vol(\"&$D$12&\") when LocalYear(\"&$D$12&\")=\"&$D$8&\" and localMonth(\"&$D$12&\") =\"&$E$8&\" and LocalDay(\"&$D$12&\")=\"&$F$8&\" and Barix(\"&$D$12&\",reference:=StartOfDay)=\"&A31&\"\", \"Bar\", \"\", \"Close\",\"A5C\",\"0\",\"All\",,,\"False\",\"T\",\"EveryTick\")","v":1911},{"$f":"RTD(\"cqg.rtd\",,\"StudyData\", \"Vol(\"&$D$12&\") when LocalYear(\"&$D$12&\")=\"&$D$9&\" and localMonth(\"&$D$12&\") =\"&$E$9&\" and LocalDay(\"&$D$12&\")=\"&$F$9&\" and Barix(\"&$D$12&\",reference:=StartOfDay)=\"&A31&\"\", \"Bar\", \"\", \"Close\",\"A5C\",\"0\",\"All\",,,\"False\",\"T\",\"EveryTick\")","v":3252},{"$f":"RTD(\"cqg.rtd\",,\"StudyData\", \"Vol(\"&$D$12&\") when LocalYear(\"&$D$12&\")=\"&$D$10&\" and localMonth(\"&$D$12&\") =\"&$E$10&\" and LocalDay(\"&$D$12&\")=\"&$F$10&\" and Barix(\"&$D$12&\",reference:=StartOfDay)=\"&A31&\"\", \"Bar\", \"\", \"Close\",\"A5C\",\"0\",\"All\",,,\"False\",\"T\",\"EveryTick\")","v":1229},{"$f":"IF(H31>(1+(MainDisplay!$O$24/100))*I31,H31,NA())","v":{"$error":"#N/A"}}]
[127,{"$f":"Sheet3!B32","v":"03:35:00"},null,null,null,null,null,{"$f":"RTD(\"cqg.rtd\",,\"StudyData\", \"Vol(\"&$D$12&\") when LocalYear(\"&$D$12&\")=\"&$D$1&\" and localMonth(\"&$D$12&\") =\"&$E$1&\" and LocalDay(\"&$D$12&\")=\"&$F$1&\" and Barix(\"&$D$12&\",reference:=StartOfDay)=\"&A32&\"\", \"Bar\", \"\", \"Close\",\"A5C\",\"0\",\"All\",,,\"False\",\"T\",\"EveryTick\")","v":1675},2043.3333333333333,{"$f":"RTD(\"cqg.rtd\",,\"StudyData\", \"Vol(\"&$D$12&\") when LocalYear(\"&$D$12&\")=\"&$D$2&\" and localMonth(\"&$D$12&\") =\"&$E$2&\" and LocalDay(\"&$D$12&\")=\"&$F$2&\" and Barix(\"&$D$12&\",reference:=StartOfDay)=\"&A32&\"\", \"Bar\", \"\", \"Close\",\"A5C\",\"0\",\"All\",,,\"False\",\"T\",\"EveryTick\")","v":1696},{"$f":"RTD(\"cqg.rtd\",,\"StudyData\", \"Vol(\"&$D$12&\") when LocalYear(\"&$D$12&\")=\"&$D$3&\" and localMonth(\"&$D$12&\") =\"&$E$3&\" and LocalDay(\"&$D$12&\")=\"&$F$3&\" and Barix(\"&$D$12&\",reference:=StartOfDay)=\"&A32&\"\", \"Bar\", \"\", \"Close\",\"A5C\",\"0\",\"All\",,,\"False\",\"T\",\"EveryTick\")","v":1449},{"$f":"RTD(\"cqg.rtd\",,\"StudyData\", \"Vol(\"&$D$12&\") when LocalYear(\"&$D$12&\")=\"&$D$4&\" and localMonth(\"&$D$12&\") =\"&$E$4&\" and LocalDay(\"&$D$12&\")=\"&$F$4&\" and Barix(\"&$D$12&\",reference:=StartOfDay)=\"&A32&\"\", \"Bar\", \"\", \"Close\",\"A5C\",\"0\",\"All\",,,\"False\",\"T\",\"EveryTick\")","v":2144},{"$f":"RTD(\"cqg.rtd\",,\"StudyData\", \"Vol(\"&$D$12&\") when LocalYear(\"&$D$12&\")=\"&$D$5&\" and localMonth(\"&$D$12&\") =\"&$E$5&\" and LocalDay(\"&$D$12&\")=\"&$F$5&\" and Barix(\"&$D$12&\",reference:=StartOfDay)=\"&A32&\"\", \"Bar\", \"\", \"Close\",\"A5C\",\"0\",\"All\",,,\"False\",\"T\",\"EveryTick\")","v":1532},{"$f":"RTD(\"cqg.rtd\",,\"StudyData\", \"Vol(\"&$D$12&\") when LocalYear(\"&$D$12&\")=\"&$D$6&\" and localMonth(\"&$D$12&\") =\"&$E$6&\" and LocalDay(\"&$D$12&\")=\"&$F$6&\" and Barix(\"&$D$12&\",reference:=StartOfDay)=\"&A32&\"\", \"Bar\", \"\", \"Close\",\"A5C\",\"0\",\"All\",,,\"False\",\"T\",\"EveryTick\")","v":2783},{"$f":"RTD(\"cqg.rtd\",,\"StudyData\", \"Vol(\"&$D$12&\") when LocalYear(\"&$D$12&\")=\"&$D$7&\" and localMonth(\"&$D$12&\") =\"&$E$7&\" and LocalDay(\"&$D$12&\")=\"&$F$7&\" and Barix(\"&$D$12&\",reference:=StartOfDay)=\"&A32&\"\", \"Bar\", \"\", \"Close\",\"A5C\",\"0\",\"All\",,,\"False\",\"T\",\"EveryTick\")","v":3276},{"$f":"RTD(\"cqg.rtd\",,\"StudyData\", \"Vol(\"&$D$12&\") when LocalYear(\"&$D$12&\")=\"&$D$8&\" and localMonth(\"&$D$12&\") =\"&$E$8&\" and LocalDay(\"&$D$12&\")=\"&$F$8&\" and Barix(\"&$D$12&\",reference:=StartOfDay)=\"&A32&\"\", \"Bar\", \"\", \"Close\",\"A5C\",\"0\",\"All\",,,\"False\",\"T\",\"EveryTick\")","v":2036},{"$f":"RTD(\"cqg.rtd\",,\"StudyData\", \"Vol(\"&$D$12&\") when LocalYear(\"&$D$12&\")=\"&$D$9&\" and localMonth(\"&$D$12&\") =\"&$E$9&\" and LocalDay(\"&$D$12&\")=\"&$F$9&\" and Barix(\"&$D$12&\",reference:=StartOfDay)=\"&A32&\"\", \"Bar\", \"\", \"Close\",\"A5C\",\"0\",\"All\",,,\"False\",\"T\",\"EveryTick\")","v":2033},{"$f":"RTD(\"cqg.rtd\",,\"StudyData\", \"Vol(\"&$D$12&\") when LocalYear(\"&$D$12&\")=\"&$D$10&\" and localMonth(\"&$D$12&\") =\"&$E$10&\" and LocalDay(\"&$D$12&\")=\"&$F$10&\" and Barix(\"&$D$12&\",reference:=StartOfDay)=\"&A32&\"\", \"Bar\", \"\", \"Close\",\"A5C\",\"0\",\"All\",,,\"False\",\"T\",\"EveryTick\")","v":1441},{"$f":"IF(H32>(1+(MainDisplay!$O$24/100))*I32,H32,NA())","v":{"$error":"#N/A"}}]
[128,{"$f":"Sheet3!B33","v":"03:40:00"},null,null,null,null,null,{"$f":"RTD(\"cqg.rtd\",,\"StudyData\", \"Vol(\"&$D$12&\") when LocalYear(\"&$D$12&\")=\"&$D$1&\" and localMonth(\"&$D$12&\") =\"&$E$1&\" and LocalDay(\"&$D$12&\")=\"&$F$1&\" and Barix(\"&$D$12&\",reference:=StartOfDay)=\"&A33&\"\", \"Bar\", \"\", \"Close\",\"A5C\",\"0\",\"All\",,,\"False\",\"T\",\"EveryTick\")","v":2603},1493.3333333333333,{"$f":"RTD(\"cqg.rtd\",,\"StudyData\", \"Vol(\"&$D$12&\") when LocalYear(\"&$D$12&\")=\"&$D$2&\" and localMonth(\"&$D$12&\") =\"&$E$2&\" and LocalDay(\"&$D$12&\")=\"&$F$2&\" and Barix(\"&$D$12&\",reference:=StartOfDay)=\"&A33&\"\", \"Bar\", \"\", \"Close\",\"A5C\",\"0\",\"All\",,,\"False\",\"T\",\"EveryTick\")","v":1250},{"$f":"RTD(\"cqg.rtd\",,\"StudyData\", \"Vol(\"&$D$12&\") when LocalYear(\"&$D$12&\")=\"&$D$3&\" and localMonth(\"&$D$12&\") =\"&$E$3&\" and LocalDay(\"&$D$12&\")=\"&$F$3&\" and Barix(\"&$D$12&\",reference:=StartOfDay)=\"&A33&\"\", \"Bar\", \"\", \"Close\",\"A5C\",\"0\",\"All\",,,\"False\",\"T\",\"EveryTick\")","v":1320},{"$f":"RTD(\"cqg.rtd\",,\"StudyData\", \"Vol(\"&$D$12&\") when LocalYear(\"&$D$12&\")=\"&$D$4&\" and localMonth(\"&$D$12&\") =\"&$E$4&\" and LocalDay(\"&$D$12&\")=\"&$F$4&\" and Barix(\"&$D$12&\",reference:=StartOfDay)=\"&A33&\"\", \"Bar\", \"\", \"Close\",\"A5C\",\"0\",\"All\",,,\"False\",\"T\",\"EveryTick\")","v":661},{"$f":"RTD(\"cqg.rtd\",,\"StudyData\", \"Vol(\"&$D$12&\") when LocalYear(\"&$D$12&\")=\"&$D$5&\" and localMonth(\"&$D$12&\") =\"&$E$5&\" and LocalDay(\"&$D$12&\")=\"&$F$5&\" and Barix(\"&$D$12&\",reference:=StartOfDay)=\"&A33&\"\", \"Bar\", \"\", \"Close\",\"A5C\",\"0\",\"All\",,,\"False\",\"T\",\"EveryTick\")","v":690},{"$f":"RTD(\"cqg.rtd\",,\"StudyData\", \"Vol(\"&$D$12&\") when LocalYear(\"&$D$12&\")=\"&$D$6&\" and localMonth(\"&$D$12&\") =\"&$E$6&\" and LocalDay(\"&$D$12&\")=\"&$F$6&\" and Barix(\"&$D$12&\",reference:=StartOfDay)=\"&A33&\"\", \"Bar\", \"\", \"Close\",\"A5C\",\"0\",\"All\",,,\"False\",\"T\",\"EveryTick\")","v":1583},{"$f":"RTD(\"cqg.rtd\",,\"StudyData\", \"Vol(\"&$D$12&\") when LocalYear(\"&$D$12&\")=\"&$D$7&\" and localMonth(\"&$D$12&\") =\"&$E$7&\" and LocalDay(\"&$D$12&\")=\"&$F$7&\" and Barix(\"&$D$12&\",reference:=StartOfDay)=\"&A33&\"\", \"Bar\", \"\", \"Close\",\"A5C\",\"0\",\"All\",,,\"False\",\"T\",\"EveryTick\")","v":2144},{"$f":"RTD(\"cqg.rtd\",,\"StudyData\", \"Vol(\"&$D$12&\") when LocalYear(\"&$D$12&\")=\"&$D$8&\" and localMonth(\"&$D$12&\") =\"&$E$8&\" and LocalDay(\"&$D$12&\")=\"&$F$8&\" and Barix(\"&$D$12&\",reference:=StartOfDay)=\"&A33&\"\", \"Bar\", \"\", \"Close\",\"A5C\",\"0\",\"All\",,,\"False\",\"T\",\"EveryTick\")","v":1667},{"$f":"RTD(\"cqg.rtd\",,\"StudyData\", \"Vol(\"&$D$12&\") when LocalYear(\"&$D$12&\")=\"&$D$9&\" and localMonth(\"&$D$12&\") =\"&$E$9&\" and LocalDay(\"&$D$12&\")=\"&$F$9&\" and Barix(\"&$D$12&\",reference:=StartOfDay)=\"&A33&\"\", \"Bar\", \"\", \"Close\",\"A5C\",\"0\",\"All\",,,\"False\",\"T\",\"EveryTick\")","v":2646},{"$f":"RTD(\"cqg.rtd\",,\"StudyData\", \"Vol(\"&$D$12&\") when LocalYear(\"&$D$12&\")=\"&$D$10&\" and localMonth(\"&$D$12&\") =\"&$E$10&\" and LocalDay(\"&$D$12&\")=\"&$F$10&\" and Barix(\"&$D$12&\",reference:=StartOfDay)=\"&A33&\"\", \"Bar\", \"\", \"Close\",\"A5C\",\"0\",\"All\",,,\"False\",\"T\",\"EveryTick\")","v":1479},{"$f":"IF(H33>(1+(MainDisplay!$O$24/100))*I33,H33,NA())","v":2603}]
[129,{"$f":"Sheet3!B34","v":"03:45:00"},null,null,null,null,null,{"$f":"RTD(\"cqg.rtd\",,\"StudyData\", \"Vol(\"&$D$12&\") when LocalYear(\"&$D$12&\")=\"&$D$1&\" and localMonth(\"&$D$12&\") =\"&$E$1&\" and LocalDay(\"&$D$12&\")=\"&$F$1&\" and Barix(\"&$D$12&\",reference:=StartOfDay)=\"&A34&\"\", \"Bar\", \"\", \"Close\",\"A5C\",\"0\",\"All\",,,\"False\",\"T\",\"EveryTick\")","v":2710},2026.4444444444443,{"$f":"RTD(\"cqg.rtd\",,\"StudyData\", \"Vol(\"&$D$12&\") when LocalYear(\"&$D$12&\")=\"&$D$2&\" and localMonth(\"&$D$12&\") =\"&$E$2&\" and LocalDay(\"&$D$12&\")=\"&$F$2&\" and Barix(\"&$D$12&\",reference:=StartOfDay)=\"&A34&\"\", \"Bar\", \"\", \"Close\",\"A5C\",\"0\",\"All\",,,\"False\",\"T\",\"EveryTick\")","v":3570},{"$f":"RTD(\"cqg.rtd\",,\"StudyData\", \"Vol(\"&$D$12&\") when LocalYear(\"&$D$12&\")=\"&$D$3&\" and localMonth(\"&$D$12&\") =\"&$E$3&\" and LocalDay(\"&$D$12&\")=\"&$F$3&\" and Barix(\"&$D$12&\",reference:=StartOfDay)=\"&A34&\"\", \"Bar\", \"\", \"Close\",\"A5C\",\"0\",\"All\",,,\"False\",\"T\",\"EveryTick\")","v":1057},{"$f":"RTD(\"cqg.rtd\",,\"StudyData\", \"Vol(\"&$D$12&\") when LocalYear(\"&$D$12&\")=\"&$D$4&\" and localMonth(\"&$D$12&\") =\"&$E$4&\" and LocalDay(\"&$D$12&\")=\"&$F$4&\" and Barix(\"&$D$12&\",reference:=StartOfDay)=\"&A34&\"\", \"Bar\", \"\", \"Close\",\"A5C\",\"0\",\"All\",,,\"False\",\"T\",\"EveryTick\")","v":1860},{"$f":"RTD(\"cqg.rtd\",,\"StudyData\", \"Vol(\"&$D$12&\") when LocalYear(\"&$D$12&\")=\"&$D$5&\" and localMonth(\"&$D$12&\") =\"&$E$5&\" and LocalDay(\"&$D$12&\")=\"&$F$5&\" and Barix(\"&$D$12&\",reference:=StartOfDay)=\"&A34&\"\", \"Bar\", \"\", \"Close\",\"A5C\",\"0\",\"All\",,,\"False\",\"T\",\"EveryTick\")","v":2037},{"$f":"RTD(\"cqg.rtd\",,\"StudyData\", \"Vol(\"&$D$12&\") when LocalYear(\"&$D$12&\")=\"&$D$6&\" and localMonth(\"&$D$12&\") =\"&$E$6&\" and LocalDay(\"&$D$12&\")=\"&$F$6&\" and Barix(\"&$D$12&\",reference:=StartOfDay)=\"&A34&\"\", \"Bar\", \"\", \"Close\",\"A5C\",\"0\",\"All\",,,\"False\",\"T\",\"EveryTick\")","v":3698},{"$f":"RTD(\"cqg.rtd\",,\"StudyData\", \"Vol(\"&$D$12&\") when LocalYear(\"&$D$12&\")=\"&$D$7&\" and localMonth(\"&$D$12&\") =\"&$E$7&\" and LocalDay(\"&$D$12&\")=\"&$F$7&\" and Barix(\"&$D$12&\",reference:=StartOfDay)=\"&A34&\"\", \"Bar\", \"\", \"Close\",\"A5C\",\"0\",\"All\",,,\"False\",\"T\",\"EveryTick\")","v":996},{"$f":"RTD(\"cqg.rtd\",,\"StudyData\", \"Vol(\"&$D$12&\") when LocalYear(\"&$D$12&\")=\"&$D$8&\" and localMonth(\"&$D$12&\") =\"&$E$8&\" and LocalDay(\"&$D$12&\")=\"&$F$8&\" and Barix(\"&$D$12&\",reference:=StartOfDay)=\"&A34&\"\", \"Bar\", \"\", \"Close\",\"A5C\",\"0\",\"All\",,,\"False\",\"T\",\"EveryTick\")","v":1632},{"$f":"RTD(\"cqg.rtd\",,\"StudyData\", \"Vol(\"&$D$12&\") when LocalYear(\"&$D$12&\")=\"&$D$9&\" and localMonth(\"&$D$12&\") =\"&$E$9&\" and LocalDay(\"&$D$12&\")=\"&$F$9&\" and Barix(\"&$D$12&\",reference:=StartOfDay)=\"&A34&\"\", \"Bar\", \"\", \"Close\",\"A5C\",\"0\",\"All\",,,\"False\",\"T\",\"EveryTick\")","v":2569},{"$f":"RTD(\"cqg.rtd\",,\"StudyData\", \"Vol(\"&$D$12&\") when LocalYear(\"&$D$12&\")=\"&$D$10&\" and localMonth(\"&$D$12&\") =\"&$E$10&\" and LocalDay(\"&$D$12&\")=\"&$F$10&\" and Barix(\"&$D$12&\",reference:=StartOfDay)=\"&A34&\"\", \"Bar\", \"\", \"Close\",\"A5C\",\"0\",\"All\",,,\"False\",\"T\",\"EveryTick\")","v":819},{"$f":"IF(H34>(1+(MainDisplay!$O$24/100))*I34,H34,NA())","v":2710}]
[130,{"$f":"Sheet3!B35","v":"03:50:00"},null,null,null,null,null,{"$f":"RTD(\"cqg.rtd\",,\"StudyData\", \"Vol(\"&$D$12&\") when LocalYear(\"&$D$12&\")=\"&$D$1&\" and localMonth(\"&$D$12&\") =\"&$E$1&\" and LocalDay(\"&$D$12&\")=\"&$F$1&\" and Barix(\"&$D$12&\",reference:=StartOfDay)=\"&A35&\"\", \"Bar\", \"\", \"Close\",\"A5C\",\"0\",\"All\",,,\"False\",\"T\",\"EveryTick\")","v":2210},2753.1111111111113,{"$f":"RTD(\"cqg.rtd\",,\"StudyData\", \"Vol(\"&$D$12&\") when LocalYear(\"&$D$12&\")=\"&$D$2&\" and localMonth(\"&$D$12&\") =\"&$E$2&\" and LocalDay(\"&$D$12&\")=\"&$F$2&\" and Barix(\"&$D$12&\",reference:=StartOfDay)=\"&A35&\"\", \"Bar\", \"\", \"Close\",\"A5C\",\"0\",\"All\",,,\"False\",\"T\",\"EveryTick\")","v":2305},{"$f":"RTD(\"cqg.rtd\",,\"StudyData\", \"Vol(\"&$D$12&\") when LocalYear(\"&$D$12&\")=\"&$D$3&\" and localMonth(\"&$D$12&\") =\"&$E$3&\" and LocalDay(\"&$D$12&\")=\"&$F$3&\" and Barix(\"&$D$12&\",reference:=StartOfDay)=\"&A35&\"\", \"Bar\", \"\", \"Close\",\"A5C\",\"0\",\"All\",,,\"False\",\"T\",\"EveryTick\")","v":1484},{"$f":"RTD(\"cqg.rtd\",,\"StudyData\", \"Vol(\"&$D$12&\") when LocalYear(\"&$D$12&\")=\"&$D$4&\" and localMonth(\"&$D$12&\") =\"&$E$4&\" and LocalDay(\"&$D$12&\")=\"&$F$4&\" and Barix(\"&$D$12&\",reference:=StartOfDay)=\"&A35&\"\", \"Bar\", \"\", \"Close\",\"A5C\",\"0\",\"All\",,,\"False\",\"T\",\"EveryTick\")","v":10943},{"$f":"RTD(\"cqg.rtd\",,\"StudyData\", \"Vol(\"&$D$12&\") when LocalYear(\"&$D$12&\")=\"&$D$5&\" and localMonth(\"&$D$12&\") =\"&$E$5&\" and LocalDay(\"&$D$12&\")=\"&$F$5&\" and Barix(\"&$D$12&\",reference:=StartOfDay)=\"&A35&\"\", \"Bar\", \"\", \"Close\",\"A5C\",\"0\",\"All\",,,\"False\",\"T\",\"EveryTick\")","v":1655},{"$f":"RTD(\"cqg.rtd\",,\"StudyData\", \"Vol(\"&$D$12&\") when LocalYear(\"&$D$12&\")=\"&$D$6&\" and localMonth(\"&$D$12&\") =\"&$E$6&\" and LocalDay(\"&$D$12&\")=\"&$F$6&\" and Barix(\"&$D$12&\",reference:=StartOfDay)=\"&A35&\"\", \"Bar\", \"\", \"Close\",\"A5C\",\"0\",\"All\",,,\"False\",\"T\",\"EveryTick\")","v":3131},{"$f":"RTD(\"cqg.rtd\",,\"StudyData\", \"Vol(\"&$D$12&\") when LocalYear(\"&$D$12&\")=\"&$D$7&\" and localMonth(\"&$D$12&\") =\"&$E$7&\" and LocalDay(\"&$D$12&\")=\"&$F$7&\" and Barix(\"&$D$12&\",reference:=StartOfDay)=\"&A35&\"\", \"Bar\", \"\", \"Close\",\"A5C\",\"0\",\"All\",,,\"False\",\"T\",\"EveryTick\")","v":1725},{"$f":"RTD(\"cqg.rtd\",,\"StudyData\", \"Vol(\"&$D$12&\") when LocalYear(\"&$D$12&\")=\"&$D$8&\" and localMonth(\"&$D$12&\") =\"&$E$8&\" and LocalDay(\"&$D$12&\")=\"&$F$8&\" and Barix(\"&$D$12&\",reference:=StartOfDay)=\"&A35&\"\", \"Bar\", \"\", \"Close\",\"A5C\",\"0\",\"All\",,,\"False\",\"T\",\"EveryTick\")","v":1250},{"$f":"RTD(\"cqg.rtd\",,\"StudyData\", \"Vol(\"&$D$12&\") when LocalYear(\"&$D$12&\")=\"&$D$9&\" and localMonth(\"&$D$12&\") =\"&$E$9&\" and LocalDay(\"&$D$12&\")=\"&$F$9&\" and Barix(\"&$D$12&\",reference:=StartOfDay)=\"&A35&\"\", \"Bar\", \"\", \"Close\",\"A5C\",\"0\",\"All\",,,\"False\",\"T\",\"EveryTick\")","v":1691},{"$f":"RTD(\"cqg.rtd\",,\"StudyData\", \"Vol(\"&$D$12&\") when LocalYear(\"&$D$12&\")=\"&$D$10&\" and localMonth(\"&$D$12&\") =\"&$E$10&\" and LocalDay(\"&$D$12&\")=\"&$F$10&\" and Barix(\"&$D$12&\",reference:=StartOfDay)=\"&A35&\"\", \"Bar\", \"\", \"Close\",\"A5C\",\"0\",\"All\",,,\"False\",\"T\",\"EveryTick\")","v":594},{"$f":"IF(H35>(1+(MainDisplay!$O$24/100))*I35,H35,NA())","v":{"$error":"#N/A"}}]
[131,{"$f":"Sheet3!B36","v":"03:55:00"},null,null,null,{"$f":"Sheet3!F36","v":96},null,{"$f":"RTD(\"cqg.rtd\",,\"StudyData\", \"Vol(\"&$D$12&\") when LocalYear(\"&$D$12&\")=\"&$D$1&\" and localMonth(\"&$D$12&\") =\"&$E$1&\" and LocalDay(\"&$D$12&\")=\"&$F$1&\" and Barix(\"&$D$12&\",reference:=StartOfDay)=\"&A36&\"\", \"Bar\", \"\", \"Close\",\"A5C\",\"0\",\"All\",,,\"False\",\"T\",\"EveryTick\")","v":1384},1638.1111111111111,{"$f":"RTD(\"cqg.rtd\",,\"StudyData\", \"Vol(\"&$D$12&\") when LocalYear(\"&$D$12&\")=\"&$D$2&\" and localMonth(\"&$D$12&\") =\"&$E$2&\" and LocalDay(\"&$D$12&\")=\"&$F$2&\" and Barix(\"&$D$12&\",reference:=StartOfDay)=\"&A36&\"\", \"Bar\", \"\", \"Close\",\"A5C\",\"0\",\"All\",,,\"False\",\"T\",\"EveryTick\")","v":863},{"$f":"RTD(\"cqg.rtd\",,\"StudyData\", \"Vol(\"&$D$12&\") when LocalYear(\"&$D$12&\")=\"&$D$3&\" and localMonth(\"&$D$12&\") =\"&$E$3&\" and LocalDay(\"&$D$12&\")=\"&$F$3&\" and Barix(\"&$D$12&\",reference:=StartOfDay)=\"&A36&\"\", \"Bar\", \"\", \"Close\",\"A5C\",\"0\",\"All\",,,\"False\",\"T\",\"EveryTick\")","v":1008},{"$f":"RTD(\"cqg.rtd\",,\"StudyData\", \"Vol(\"&$D$12&\") when LocalYear(\"&$D$12&\")=\"&$D$4&\" and localMonth(\"&$D$12&\") =\"&$E$4&\" and LocalDay(\"&$D$12&\")=\"&$F$4&\" and Barix(\"&$D$12&\",reference:=StartOfDay)=\"&A36&\"\", \"Bar\", \"\", \"Close\",\"A5C\",\"0\",\"All\",,,\"False\",\"T\",\"EveryTick\")","v":1474},{"$f":"RTD(\"cqg.rtd\",,\"StudyData\", \"Vol(\"&$D$12&\") when LocalYear(\"&$D$12&\")=\"&$D$5&\" and localMonth(\"&$D$12&\") =\"&$E$5&\" and LocalDay(\"&$D$12&\")=\"&$F$5&\" and Barix(\"&$D$12&\",reference:=StartOfDay)=\"&A36&\"\", \"Bar\", \"\", \"Close\",\"A5C\",\"0\",\"All\",,,\"False\",\"T\",\"EveryTick\")","v":2251},{"$f":"RTD(\"cqg.rtd\",,\"StudyData\", \"Vol(\"&$D$12&\") when LocalYear(\"&$D$12&\")=\"&$D$6&\" and localMonth(\"&$D$12&\") =\"&$E$6&\" and LocalDay(\"&$D$12&\")=\"&$F$6&\" and Barix(\"&$D$12&\",reference:=StartOfDay)=\"&A36&\"\", \"Bar\", \"\", \"Close\",\"A5C\",\"0\",\"All\",,,\"False\",\"T\",\"EveryTick\")","v":3067},{"$f":"RTD(\"cqg.rtd\",,\"StudyData\", \"Vol(\"&$D$12&\") when LocalYear(\"&$D$12&\")=\"&$D$7&\" and localMonth(\"&$D$12&\") =\"&$E$7&\" and LocalDay(\"&$D$12&\")=\"&$F$7&\" and Barix(\"&$D$12&\",reference:=StartOfDay)=\"&A36&\"\", \"Bar\", \"\", \"Close\",\"A5C\",\"0\",\"All\",,,\"False\",\"T\",\"EveryTick\")","v":1093},{"$f":"RTD(\"cqg.rtd\",,\"StudyData\", \"Vol(\"&$D$12&\") when LocalYear(\"&$D$12&\")=\"&$D$8&\" and localMonth(\"&$D$12&\") =\"&$E$8&\" and LocalDay(\"&$D$12&\")=\"&$F$8&\" and Barix(\"&$D$12&\",reference:=StartOfDay)=\"&A36&\"\", \"Bar\", \"\", \"Close\",\"A5C\",\"0\",\"All\",,,\"False\",\"T\",\"EveryTick\")","v":2422},{"$f":"RTD(\"cqg.rtd\",,\"StudyData\", \"Vol(\"&$D$12&\") when LocalYear(\"&$D$12&\")=\"&$D$9&\" and localMonth(\"&$D$12&\") =\"&$E$9&\" and LocalDay(\"&$D$12&\")=\"&$F$9&\" and Barix(\"&$D$12&\",reference:=StartOfDay)=\"&A36&\"\", \"Bar\", \"\", \"Close\",\"A5C\",\"0\",\"All\",,,\"False\",\"T\",\"EveryTick\")","v":1722},{"$f":"RTD(\"cqg.rtd\",,\"StudyData\", \"Vol(\"&$D$12&\") when LocalYear(\"&$D$12&\")=\"&$D$10&\" and localMonth(\"&$D$12&\") =\"&$E$10&\" and LocalDay(\"&$D$12&\")=\"&$F$10&\" and Barix(\"&$D$12&\",reference:=StartOfDay)=\"&A36&\"\", \"Bar\", \"\", \"Close\",\"A5C\",\"0\",\"All\",,,\"False\",\"T\",\"EveryTick\")","v":843},{"$f":"IF(H36>(1+(MainDisplay!$O$24/100))*I36,H36,NA())","v":{"$error":"#N/A"}}]
[132,{"$f":"Sheet3!B37","v":"04:00:00"},null,null,null,null,null,{"$f":"RTD(\"cqg.rtd\",,\"StudyData\", \"Vol(\"&$D$12&\") when LocalYear(\"&$D$12&\")=\"&$D$1&\" and localMonth(\"&$D$12&\") =\"&$E$1&\" and LocalDay(\"&$D$12&\")=\"&$F$1&\" and Barix(\"&$D$12&\",reference:=StartOfDay)=\"&A37&\"\", \"Bar\", \"\", \"Close\",\"A5C\",\"0\",\"All\",,,\"False\",\"T\",\"EveryTick\")","v":1646},2901.6666666666665,{"$f":"RTD(\"cqg.rtd\",,\"StudyData\", \"Vol(\"&$D$12&\") when LocalYear(\"&$D$12&\")=\"&$D$2&\" and localMonth(\"&$D$12&\") =\"&$E$2&\" and LocalDay(\"&$D$12&\")=\"&$F$2&\" and Barix(\"&$D$12&\",reference:=StartOfDay)=\"&A37&\"\", \"Bar\", \"\", \"Close\",\"A5C\",\"0\",\"All\",,,\"False\",\"T\",\"EveryTick\")","v":1690},{"$f":"RTD(\"cqg.rtd\",,\"StudyData\", \"Vol(\"&$D$12&\") when LocalYear(\"&$D$12&\")=\"&$D$3&\" and localMonth(\"&$D$12&\") =\"&$E$3&\" and LocalDay(\"&$D$12&\")=\"&$F$3&\" and Barix(\"&$D$12&\",reference:=StartOfDay)=\"&A37&\"\", \"Bar\", \"\", \"Close\",\"A5C\",\"0\",\"All\",,,\"False\",\"T\",\"EveryTick\")","v":735},{"$f":"RTD(\"cqg.rtd\",,\"StudyData\", \"Vol(\"&$D$12&\") when LocalYear(\"&$D$12&\")=\"&$D$4&\" and localMonth(\"&$D$12&\") =\"&$E$4&\" and LocalDay(\"&$D$12&\")=\"&$F$4&\" and Barix(\"&$D$12&\",reference:=StartOfDay)=\"&A37&\"\", \"Bar\", \"\", \"Close\",\"A5C\",\"0\",\"All\",,,\"False\",\"T\",\"EveryTick\")","v":2327},{"$f":"RTD(\"cqg.rtd\",,\"StudyData\", \"Vol(\"&$D$12&\") when LocalYear(\"&$D$12&\")=\"&$D$5&\" and localMonth(\"&$D$12&\") =\"&$E$5&\" and LocalDay(\"&$D$12&\")=\"&$F$5&\" and Barix(\"&$D$12&\",reference:=StartOfDay)=\"&A37&\"\", \"Bar\", \"\", \"Close\",\"A5C\",\"0\",\"All\",,,\"False\",\"T\",\"EveryTick\")","v":915},{"$f":"RTD(\"cqg.rtd\",,\"StudyData\", \"Vol(\"&$D$12&\") when LocalYear(\"&$D$12&\")=\"&$D$6&\" and localMonth(\"&$D$12&\") =\"&$E$6&\" and LocalDay(\"&$D$12&\")=\"&$F$6&\" and Barix(\"&$D$12&\",reference:=StartOfDay)=\"&A37&\"\", \"Bar\", \"\", \"Close\",\"A5C\",\"0\",\"All\",,,\"False\",\"T\",\"EveryTick\")","v":6155},{"$f":"RTD(\"cqg.rtd\",,\"StudyData\", \"Vol(\"&$D$12&\") when LocalYear(\"&$D$12&\")=\"&$D$7&\" and localMonth(\"&$D$12&\") =\"&$E$7&\" and LocalDay(\"&$D$12&\")=\"&$F$7&\" and Barix(\"&$D$12&\",reference:=StartOfDay)=\"&A37&\"\", \"Bar\", \"\", \"Close\",\"A5C\",\"0\",\"All\",,,\"False\",\"T\",\"EveryTick\")","v":4435},{"$f":"RTD(\"cqg.rtd\",,\"StudyData\", \"Vol(\"&$D$12&\") when LocalYear(\"&$D$12&\")=\"&$D$8&\" and localMonth(\"&$D$12&\") =\"&$E$8&\" and LocalDay(\"&$D$12&\")=\"&$F$8&\" and Barix(\"&$D$12&\",reference:=StartOfDay)=\"&A37&\"\", \"Bar\", \"\", \"Close\",\"A5C\",\"0\",\"All\",,,\"False\",\"T\",\"EveryTick\")","v":7193},{"$f":"RTD(\"cqg.rtd\",,\"StudyData\", \"Vol(\"&$D$12&\") when LocalYear(\"&$D$12&\")=\"&$D$9&\" and localMonth(\"&$D$12&\") =\"&$E$9&\" and LocalDay(\"&$D$12&\")=\"&$F$9&\" and Barix(\"&$D$12&\",reference:=StartOfDay)=\"&A37&\"\", \"Bar\", \"\", \"Close\",\"A5C\",\"0\",\"All\",,,\"False\",\"T\",\"EveryTick\")","v":1933},{"$f":"RTD(\"cqg.rtd\",,\"StudyData\", \"Vol(\"&$D$12&\") when LocalYear(\"&$D$12&\")=\"&$D$10&\" and localMonth(\"&$D$12&\") =\"&$E$10&\" and LocalDay(\"&$D$12&\")=\"&$F$10&\" and Barix(\"&$D$12&\",reference:=StartOfDay)=\"&A37&\"\", \"Bar\", \"\", \"Close\",\"A5C\",\"0\",\"All\",,,\"False\",\"T\",\"EveryTick\")","v":732},{"$f":"IF(H37>(1+(MainDisplay!$O$24/100))*I37,H37,NA())","v":{"$error":"#N/A"}}]
[133,{"$f":"Sheet3!B38","v":"04:05:00"},null,null,null,"EP",96,{"$f":"RTD(\"cqg.rtd\",,\"StudyData\", \"Vol(\"&$D$12&\") when LocalYear(\"&$D$12&\")=\"&$D$1&\" and localMonth(\"&$D$12&\") =\"&$E$1&\" and LocalDay(\"&$D$12&\")=\"&$F$1&\" and Barix(\"&$D$12&\",reference:=StartOfDay)=\"&A38&\"\", \"Bar\", \"\", \"Close\",\"A5C\",\"0\",\"All\",,,\"False\",\"T\",\"EveryTick\")","v":2524},2252.7777777777778,{"$f":"RTD(\"cqg.rtd\",,\"StudyData\", \"Vol(\"&$D$12&\") when LocalYear(\"&$D$12&\")=\"&$D$2&\" and localMonth(\"&$D$12&\") =\"&$E$2&\" and LocalDay(\"&$D$12&\")=\"&$F$2&\" and Barix(\"&$D$12&\",reference:=StartOfDay)=\"&A38&\"\", \"Bar\", \"\", \"Close\",\"A5C\",\"0\",\"All\",,,\"False\",\"T\",\"EveryTick\")","v":4388},{"$f":"RTD(\"cqg.rtd\",,\"StudyData\", \"Vol(\"&$D$12&\") when LocalYear(\"&$D$12&\")=\"&$D$3&\" and localMonth(\"&$D$12&\") =\"&$E$3&\" and LocalDay(\"&$D$12&\")=\"&$F$3&\" and Barix(\"&$D$12&\",reference:=StartOfDay)=\"&A38&\"\", \"Bar\", \"\", \"Close\",\"A5C\",\"0\",\"All\",,,\"False\",\"T\",\"EveryTick\")","v":1520},{"$f":"RTD(\"cqg.rtd\",,\"StudyData\", \"Vol(\"&$D$12&\") when LocalYear(\"&$D$12&\")=\"&$D$4&\" and localMonth(\"&$D$12&\") =\"&$E$4&\" and LocalDay(\"&$D$12&\")=\"&$F$4&\" and Barix(\"&$D$12&\",reference:=StartOfDay)=\"&A38&\"\", \"Bar\", \"\", \"Close\",\"A5C\",\"0\",\"All\",,,\"False\",\"T\",\"EveryTick\")","v":1617},{"$f":"RTD(\"cqg.rtd\",,\"StudyData\", \"Vol(\"&$D$12&\") when LocalYear(\"&$D$12&\")=\"&$D$5&\" and localMonth(\"&$D$12&\") =\"&$E$5&\" and LocalDay(\"&$D$12&\")=\"&$F$5&\" and Barix(\"&$D$12&\",reference:=StartOfDay)=\"&A38&\"\", \"Bar\", \"\", \"Close\",\"A5C\",\"0\",\"All\",,,\"False\",\"T\",\"EveryTick\")","v":676},{"$f":"RTD(\"cqg.rtd\",,\"StudyData\", \"Vol(\"&$D$12&\") when LocalYear(\"&$D$12&\")=\"&$D$6&\" and localMonth(\"&$D$12&\") =\"&$E$6&\" and LocalDay(\"&$D$12&\")=\"&$F$6&\" and Barix(\"&$D$12&\",reference:=StartOfDay)=\"&A38&\"\", \"Bar\", \"\", \"Close\",\"A5C\",\"0\",\"All\",,,\"False\",\"T\",\"EveryTick\")","v":3140},{"$f":"RTD(\"cqg.rtd\",,\"StudyData\", \"Vol(\"&$D$12&\") when LocalYear(\"&$D$12&\")=\"&$D$7&\" and localMonth(\"&$D$12&\") =\"&$E$7&\" and LocalDay(\"&$D$12&\")=\"&$F$7&\" and Barix(\"&$D$12&\",reference:=StartOfDay)=\"&A38&\"\", \"Bar\", \"\", \"Close\",\"A5C\",\"0\",\"All\",,,\"False\",\"T\",\"EveryTick\")","v":2207},{"$f":"RTD(\"cqg.rtd\",,\"StudyData\", \"Vol(\"&$D$12&\") when LocalYear(\"&$D$12&\")=\"&$D$8&\" and localMonth(\"&$D$12&\") =\"&$E$8&\" and LocalDay(\"&$D$12&\")=\"&$F$8&\" and Barix(\"&$D$12&\",reference:=StartOfDay)=\"&A38&\"\", \"Bar\", \"\", \"Close\",\"A5C\",\"0\",\"All\",,,\"False\",\"T\",\"EveryTick\")","v":2564},{"$f":"RTD(\"cqg.rtd\",,\"StudyData\", \"Vol(\"&$D$12&\") when LocalYear(\"&$D$12&\")=\"&$D$9&\" and localMonth(\"&$D$12&\") =\"&$E$9&\" and LocalDay(\"&$D$12&\")=\"&$F$9&\" and Barix(\"&$D$12&\",reference:=StartOfDay)=\"&A38&\"\", \"Bar\", \"\", \"Close\",\"A5C\",\"0\",\"All\",,,\"False\",\"T\",\"EveryTick\")","v":3092},{"$f":"RTD(\"cqg.rtd\",,\"StudyData\", \"Vol(\"&$D$12&\") when LocalYear(\"&$D$12&\")=\"&$D$10&\" and localMonth(\"&$D$12&\") =\"&$E$10&\" and LocalDay(\"&$D$12&\")=\"&$F$10&\" and Barix(\"&$D$12&\",reference:=StartOfDay)=\"&A38&\"\", \"Bar\", \"\", \"Close\",\"A5C\",\"0\",\"All\",,,\"False\",\"T\",\"EveryTick\")","v":1071},{"$f":"IF(H38>(1+(MainDisplay!$O$24/100))*I38,H38,NA())","v":{"$error":"#N/A"}}]
[134,{"$f":"Sheet3!B39","v":"04:10:00"},null,null,null,"ENQ",96,{"$f":"RTD(\"cqg.rtd\",,\"StudyData\", \"Vol(\"&$D$12&\") when LocalYear(\"&$D$12&\")=\"&$D$1&\" and localMonth(\"&$D$12&\") =\"&$E$1&\" and LocalDay(\"&$D$12&\")=\"&$F$1&\" and Barix(\"&$D$12&\",reference:=StartOfDay)=\"&A39&\"\", \"Bar\", \"\", \"Close\",\"A5C\",\"0\",\"All\",,,\"False\",\"T\",\"EveryTick\")","v":1084},1511.8888888888889,{"$f":"RTD(\"cqg.rtd\",,\"StudyData\", \"Vol(\"&$D$12&\") when LocalYear(\"&$D$12&\")=\"&$D$2&\" and localMonth(\"&$D$12&\") =\"&$E$2&\" and LocalDay(\"&$D$12&\")=\"&$F$2&\" and Barix(\"&$D$12&\",reference:=StartOfDay)=\"&A39&\"\", \"Bar\", \"\", \"Close\",\"A5C\",\"0\",\"All\",,,\"False\",\"T\",\"EveryTick\")","v":1891},{"$f":"RTD(\"cqg.rtd\",,\"StudyData\", \"Vol(\"&$D$12&\") when LocalYear(\"&$D$12&\")=\"&$D$3&\" and localMonth(\"&$D$12&\") =\"&$E$3&\" and LocalDay(\"&$D$12&\")=\"&$F$3&\" and Barix(\"&$D$12&\",reference:=StartOfDay)=\"&A39&\"\", \"Bar\", \"\", \"Close\",\"A5C\",\"0\",\"All\",,,\"False\",\"T\",\"EveryTick\")","v":908},{"$f":"RTD(\"cqg.rtd\",,\"StudyData\", \"Vol(\"&$D$12&\") when LocalYear(\"&$D$12&\")=\"&$D$4&\" and localMonth(\"&$D$12&\") =\"&$E$4&\" and LocalDay(\"&$D$12&\")=\"&$F$4&\" and Barix(\"&$D$12&\",reference:=StartOfDay)=\"&A39&\"\", \"Bar\", \"\", \"Close\",\"A5C\",\"0\",\"All\",,,\"False\",\"T\",\"EveryTick\")","v":2083},{"$f":"RTD(\"cqg.rtd\",,\"StudyData\", \"Vol(\"&$D$12&\") when LocalYear(\"&$D$12&\")=\"&$D$5&\" and localMonth(\"&$D$12&\") =\"&$E$5&\" and LocalDay(\"&$D$12&\")=\"&$F$5&\" and Barix(\"&$D$12&\",reference:=StartOfDay)=\"&A39&\"\", \"Bar\", \"\", \"Close\",\"A5C\",\"0\",\"All\",,,\"False\",\"T\",\"EveryTick\")","v":732},{"$f":"RTD(\"cqg.rtd\",,\"StudyData\", \"Vol(\"&$D$12&\") when LocalYear(\"&$D$12&\")=\"&$D$6&\" and localMonth(\"&$D$12&\") =\"&$E$6&\" and LocalDay(\"&$D$12&\")=\"&$F$6&\" and Barix(\"&$D$12&\",reference:=StartOfDay)=\"&A39&\"\", \"Bar\", \"\", \"Close\",\"A5C\",\"0\",\"All\",,,\"False\",\"T\",\"EveryTick\")","v":3197},{"$f":"RTD(\"cqg.rtd\",,\"StudyData\", \"Vol(\"&$D$12&\") when LocalYear(\"&$D$12&\")=\"&$D$7&\" and localMonth(\"&$D$12&\") =\"&$E$7&\" and LocalDay(\"&$D$12&\")=\"&$F$7&\" and Barix(\"&$D$12&\",reference:=StartOfDay)=\"&A39&\"\", \"Bar\", \"\", \"Close\",\"A5C\",\"0\",\"All\",,,\"False\",\"T\",\"EveryTick\")","v":1299},{"$f":"RTD(\"cqg.rtd\",,\"StudyData\", \"Vol(\"&$D$12&\") when LocalYear(\"&$D$12&\")=\"&$D$8&\" and localMonth(\"&$D$12&\") =\"&$E$8&\" and LocalDay(\"&$D$12&\")=\"&$F$8&\" and Barix(\"&$D$12&\",reference:=StartOfDay)=\"&A39&\"\", \"Bar\", \"\", \"Close\",\"A5C\",\"0\",\"All\",,,\"False\",\"T\",\"EveryTick\")","v":1420},{"$f":"RTD(\"cqg.rtd\",,\"StudyData\", \"Vol(\"&$D$12&\") when LocalYear(\"&$D$12&\")=\"&$D$9&\" and localMonth(\"&$D$12&\") =\"&$E$9&\" and LocalDay(\"&$D$12&\")=\"&$F$9&\" and Barix(\"&$D$12&\",reference:=StartOfDay)=\"&A39&\"\", \"Bar\", \"\", \"Close\",\"A5C\",\"0\",\"All\",,,\"False\",\"T\",\"EveryTick\")","v":1516},{"$f":"RTD(\"cqg.rtd\",,\"StudyData\", \"Vol(\"&$D$12&\") when LocalYear(\"&$D$12&\")=\"&$D$10&\" and localMonth(\"&$D$12&\") =\"&$E$10&\" and LocalDay(\"&$D$12&\")=\"&$F$10&\" and Barix(\"&$D$12&\",reference:=StartOfDay)=\"&A39&\"\", \"Bar\", \"\", \"Close\",\"A5C\",\"0\",\"All\",,,\"False\",\"T\",\"EveryTick\")","v":561},{"$f":"IF(H39>(1+(MainDisplay!$O$24/100))*I39,H39,NA())","v":{"$error":"#N/A"}}]
[135,{"$f":"Sheet3!B40","v":"04:15:00"},null,null,null,"YM",96,{"$f":"RTD(\"cqg.rtd\",,\"StudyData\", \"Vol(\"&$D$12&\") when LocalYear(\"&$D$12&\")=\"&$D$1&\" and localMonth(\"&$D$12&\") =\"&$E$1&\" and LocalDay(\"&$D$12&\")=\"&$F$1&\" and Barix(\"&$D$12&\",reference:=StartOfDay)=\"&A40&\"\", \"Bar\", \"\", \"Close\",\"A5C\",\"0\",\"All\",,,\"False\",\"T\",\"EveryTick\")","v":932},1759.5555555555557,{"$f":"RTD(\"cqg.rtd\",,\"StudyData\", \"Vol(\"&$D$12&\") when LocalYear(\"&$D$12&\")=\"&$D$2&\" and localMonth(\"&$D$12&\") =\"&$E$2&\" and LocalDay(\"&$D$12&\")=\"&$F$2&\" and Barix(\"&$D$12&\",reference:=StartOfDay)=\"&A40&\"\", \"Bar\", \"\", \"Close\",\"A5C\",\"0\",\"All\",,,\"False\",\"T\",\"EveryTick\")","v":3873},{"$f":"RTD(\"cqg.rtd\",,\"StudyData\", \"Vol(\"&$D$12&\") when LocalYear(\"&$D$12&\")=\"&$D$3&\" and localMonth(\"&$D$12&\") =\"&$E$3&\" and LocalDay(\"&$D$12&\")=\"&$F$3&\" and Barix(\"&$D$12&\",reference:=StartOfDay)=\"&A40&\"\", \"Bar\", \"\", \"Close\",\"A5C\",\"0\",\"All\",,,\"False\",\"T\",\"EveryTick\")","v":642},{"$f":"RTD(\"cqg.rtd\",,\"StudyData\", \"Vol(\"&$D$12&\") when LocalYear(\"&$D$12&\")=\"&$D$4&\" and localMonth(\"&$D$12&\") =\"&$E$4&\" and LocalDay(\"&$D$12&\")=\"&$F$4&\" and Barix(\"&$D$12&\",reference:=StartOfDay)=\"&A40&\"\", \"Bar\", \"\", \"Close\",\"A5C\",\"0\",\"All\",,,\"False\",\"T\",\"EveryTick\")","v":1646},{"$f":"RTD(\"cqg.rtd\",,\"StudyData\", \"Vol(\"&$D$12&\") when LocalYear(\"&$D$12&\")=\"&$D$5&\" and localMonth(\"&$D$12&\") =\"&$E$5&\" and LocalDay(\"&$D$12&\")=\"&$F$5&\" and Barix(\"&$D$12&\",reference:=StartOfDay)=\"&A40&\"\", \"Bar\", \"\", \"Close\",\"A5C\",\"0\",\"All\",,,\"False\",\"T\",\"EveryTick\")","v":1122},{"$f":"RTD(\"cqg.rtd\",,\"StudyData\", \"Vol(\"&$D$12&\") when LocalYear(\"&$D$12&\")=\"&$D$6&\" and localMonth(\"&$D$12&\") =\"&$E$6&\" and LocalDay(\"&$D$12&\")=\"&$F$6&\" and Barix(\"&$D$12&\",reference:=StartOfDay)=\"&A40&\"\", \"Bar\", \"\", \"Close\",\"A5C\",\"0\",\"All\",,,\"False\",\"T\",\"EveryTick\")","v":2870},{"$f":"RTD(\"cqg.rtd\",,\"StudyData\", \"Vol(\"&$D$12&\") when LocalYear(\"&$D$12&\")=\"&$D$7&\" and localMonth(\"&$D$12&\") =\"&$E$7&\" and LocalDay(\"&$D$12&\")=\"&$F$7&\" and Barix(\"&$D$12&\",reference:=StartOfDay)=\"&A40&\"\", \"Bar\", \"\", \"Close\",\"A5C\",\"0\",\"All\",,,\"False\",\"T\",\"EveryTick\")","v":1031},{"$f":"RTD(\"cqg.rtd\",,\"StudyData\", \"Vol(\"&$D$12&\") when LocalYear(\"&$D$12&\")=\"&$D$8&\" and localMonth(\"&$D$12&\") =\"&$E$8&\" and LocalDay(\"&$D$12&\")=\"&$F$8&\" and Barix(\"&$D$12&\",reference:=StartOfDay)=\"&A40&\"\", \"Bar\", \"\", \"Close\",\"A5C\",\"0\",\"All\",,,\"False\",\"T\",\"EveryTick\")","v":2092},{"$f":"RTD(\"cqg.rtd\",,\"StudyData\", \"Vol(\"&$D$12&\") when LocalYear(\"&$D$12&\")=\"&$D$9&\" and localMonth(\"&$D$12&\") =\"&$E$9&\" and LocalDay(\"&$D$12&\")=\"&$F$9&\" and Barix(\"&$D$12&\",reference:=StartOfDay)=\"&A40&\"\", \"Bar\", \"\", \"Close\",\"A5C\",\"0\",\"All\",,,\"False\",\"T\",\"EveryTick\")","v":1676},{"$f":"RTD(\"cqg.rtd\",,\"StudyData\", \"Vol(\"&$D$12&\") when LocalYear(\"&$D$12&\")=\"&$D$10&\" and localMonth(\"&$D$12&\") =\"&$E$10&\" and LocalDay(\"&$D$12&\")=\"&$F$10&\" and Barix(\"&$D$12&\",reference:=StartOfDay)=\"&A40&\"\", \"Bar\", \"\", \"Close\",\"A5C\",\"0\",\"All\",,,\"False\",\"T\",\"EveryTick\")","v":884},{"$f":"IF(H40>(1+(MainDisplay!$O$24/100))*I40,H40,NA())","v":{"$error":"#N/A"}}]
[136,{"$f":"Sheet3!B41","v":"04:20:00"},null,null,null,"RTY",96,{"$f":"RTD(\"cqg.rtd\",,\"StudyData\", \"Vol(\"&$D$12&\") when LocalYear(\"&$D$12&\")=\"&$D$1&\" and localMonth(\"&$D$12&\") =\"&$E$1&\" and LocalDay(\"&$D$12&\")=\"&$F$1&\" and Barix(\"&$D$12&\",reference:=StartOfDay)=\"&A41&\"\", \"Bar\", \"\", \"Close\",\"A5C\",\"0\",\"All\",,,\"False\",\"T\",\"EveryTick\")","v":1318},1792.5555555555557,{"$f":"RTD(\"cqg.rtd\",,\"StudyData\", \"Vol(\"&$D$12&\") when LocalYear(\"&$D$12&\")=\"&$D$2&\" and localMonth(\"&$D$12&\") =\"&$E$2&\" and LocalDay(\"&$D$12&\")=\"&$F$2&\" and Barix(\"&$D$12&\",reference:=StartOfDay)=\"&A41&\"\", \"Bar\", \"\", \"Close\",\"A5C\",\"0\",\"All\",,,\"False\",\"T\",\"EveryTick\")","v":1453},{"$f":"RTD(\"cqg.rtd\",,\"StudyData\", \"Vol(\"&$D$12&\") when LocalYear(\"&$D$12&\")=\"&$D$3&\" and localMonth(\"&$D$12&\") =\"&$E$3&\" and LocalDay(\"&$D$12&\")=\"&$F$3&\" and Barix(\"&$D$12&\",reference:=StartOfDay)=\"&A41&\"\", \"Bar\", \"\", \"Close\",\"A5C\",\"0\",\"All\",,,\"False\",\"T\",\"EveryTick\")","v":914},{"$f":"RTD(\"cqg.rtd\",,\"StudyData\", \"Vol(\"&$D$12&\") when LocalYear(\"&$D$12&\")=\"&$D$4&\" and localMonth(\"&$D$12&\") =\"&$E$4&\" and LocalDay(\"&$D$12&\")=\"&$F$4&\" and Barix(\"&$D$12&\",reference:=StartOfDay)=\"&A41&\"\", \"Bar\", \"\", \"Close\",\"A5C\",\"0\",\"All\",,,\"False\",\"T\",\"EveryTick\")","v":961},{"$f":"RTD(\"cqg.rtd\",,\"StudyData\", \"Vol(\"&$D$12&\") when LocalYear(\"&$D$12&\")=\"&$D$5&\" and localMonth(\"&$D$12&\") =\"&$E$5&\" and LocalDay(\"&$D$12&\")=\"&$F$5&\" and Barix(\"&$D$12&\",reference:=StartOfDay)=\"&A41&\"\", \"Bar\", \"\", \"Close\",\"A5C\",\"0\",\"All\",,,\"False\",\"T\",\"EveryTick\")","v":579},{"$f":"RTD(\"cqg.rtd\",,\"StudyData\", \"Vol(\"&$D$12&\") when LocalYear(\"&$D$12&\")=\"&$D$6&\" and localMonth(\"&$D$12&\") =\"&$E$6&\" and LocalDay(\"&$D$12&\")=\"&$F$6&\" and Barix(\"&$D$12&\",reference:=StartOfDay)=\"&A41&\"\", \"Bar\", \"\", \"Close\",\"A5C\",\"0\",\"All\",,,\"False\",\"T\",\"EveryTick\")","v":4551},{"$f":"RTD(\"cqg.rtd\",,\"StudyData\", \"Vol(\"&$D$12&\") when LocalYear(\"&$D$12&\")=\"&$D$7&\" and localMonth(\"&$D$12&\") =\"&$E$7&\" and LocalDay(\"&$D$12&\")=\"&$F$7&\" and Barix(\"&$D$12&\",reference:=StartOfDay)=\"&A41&\"\", \"Bar\", \"\", \"Close\",\"A5C\",\"0\",\"All\",,,\"False\",\"T\",\"EveryTick\")","v":2903},{"$f":"RTD(\"cqg.rtd\",,\"StudyData\", \"Vol(\"&$D$12&\") when LocalYear(\"&$D$12&\")=\"&$D$8&\" and localMonth(\"&$D$12&\") =\"&$E$8&\" and LocalDay(\"&$D$12&\")=\"&$F$8&\" and Barix(\"&$D$12&\",reference:=StartOfDay)=\"&A41&\"\", \"Bar\", \"\", \"Close\",\"A5C\",\"0\",\"All\",,,\"False\",\"T\",\"EveryTick\")","v":1267},{"$f":"RTD(\"cqg.rtd\",,\"StudyData\", \"Vol(\"&$D$12&\") when LocalYear(\"&$D$12&\")=\"&$D$9&\" and localMonth(\"&$D$12&\") =\"&$E$9&\" and LocalDay(\"&$D$12&\")=\"&$F$9&\" and Barix(\"&$D$12&\",reference:=StartOfDay)=\"&A41&\"\", \"Bar\", \"\", \"Close\",\"A5C\",\"0\",\"All\",,,\"False\",\"T\",\"EveryTick\")","v":2629},{"$f":"RTD(\"cqg.rtd\",,\"StudyData\", \"Vol(\"&$D$12&\") when LocalYear(\"&$D$12&\")=\"&$D$10&\" and localMonth(\"&$D$12&\") =\"&$E$10&\" and LocalDay(\"&$D$12&\")=\"&$F$10&\" and Barix(\"&$D$12&\",reference:=StartOfDay)=\"&A41&\"\", \"Bar\", \"\", \"Close\",\"A5C\",\"0\",\"All\",,,\"False\",\"T\",\"EveryTick\")","v":876},{"$f":"IF(H41>(1+(MainDisplay!$O$24/100))*I41,H41,NA())","v":{"$error":"#N/A"}}]
[137,{"$f":"Sheet3!B42","v":"04:25:00"},null,null,null,"EMD",96,{"$f":"RTD(\"cqg.rtd\",,\"StudyData\", \"Vol(\"&$D$12&\") when LocalYear(\"&$D$12&\")=\"&$D$1&\" and localMonth(\"&$D$12&\") =\"&$E$1&\" and LocalDay(\"&$D$12&\")=\"&$F$1&\" and Barix(\"&$D$12&\",reference:=StartOfDay)=\"&A42&\"\", \"Bar\", \"\", \"Close\",\"A5C\",\"0\",\"All\",,,\"False\",\"T\",\"EveryTick\")","v":1007},1538.8888888888889,{"$f":"RTD(\"cqg.rtd\",,\"StudyData\", \"Vol(\"&$D$12&\") when LocalYear(\"&$D$12&\")=\"&$D$2&\" and localMonth(\"&$D$12&\") =\"&$E$2&\" and LocalDay(\"&$D$12&\")=\"&$F$2&\" and Barix(\"&$D$12&\",reference:=StartOfDay)=\"&A42&\"\", \"Bar\", \"\", \"Close\",\"A5C\",\"0\",\"All\",,,\"False\",\"T\",\"EveryTick\")","v":1021},{"$f":"RTD(\"cqg.rtd\",,\"StudyData\", \"Vol(\"&$D$12&\") when LocalYear(\"&$D$12&\")=\"&$D$3&\" and localMonth(\"&$D$12&\") =\"&$E$3&\" and LocalDay(\"&$D$12&\")=\"&$F$3&\" and Barix(\"&$D$12&\",reference:=StartOfDay)=\"&A42&\"\", \"Bar\", \"\", \"Close\",\"A5C\",\"0\",\"All\",,,\"False\",\"T\",\"EveryTick\")","v":645},{"$f":"RTD(\"cqg.rtd\",,\"StudyData\", \"Vol(\"&$D$12&\") when LocalYear(\"&$D$12&\")=\"&$D$4&\" and localMonth(\"&$D$12&\") =\"&$E$4&\" and LocalDay(\"&$D$12&\")=\"&$F$4&\" and Barix(\"&$D$12&\",reference:=StartOfDay)=\"&A42&\"\", \"Bar\", \"\", \"Close\",\"A5C\",\"0\",\"All\",,,\"False\",\"T\",\"EveryTick\")","v":1261},{"$f":"RTD(\"cqg.rtd\",,\"StudyData\", \"Vol(\"&$D$12&\") when LocalYear(\"&$D$12&\")=\"&$D$5&\" and localMonth(\"&$D$12&\") =\"&$E$5&\" and LocalDay(\"&$D$12&\")=\"&$F$5&\" and Barix(\"&$D$12&\",reference:=StartOfDay)=\"&A42&\"\", \"Bar\", \"\", \"Close\",\"A5C\",\"0\",\"All\",,,\"False\",\"T\",\"EveryTick\")","v":984},{"$f":"RTD(\"cqg.rtd\",,\"StudyData\", \"Vol(\"&$D$12&\") when LocalYear(\"&$D$12&\")=\"&$D$6&\" and localMonth(\"&$D$12&\") =\"&$E$6&\" and LocalDay(\"&$D$12&\")=\"&$F$6&\" and Barix(\"&$D$12&\",reference:=StartOfDay)=\"&A42&\"\", \"Bar\", \"\", \"Close\",\"A5C\",\"0\",\"All\",,,\"False\",\"T\",\"EveryTick\")","v":3828},{"$f":"RTD(\"cqg.rtd\",,\"StudyData\", \"Vol(\"&$D$12&\") when LocalYear(\"&$D$12&\")=\"&$D$7&\" and localMonth(\"&$D$12&\") =\"&$E$7&\" and LocalDay(\"&$D$12&\")=\"&$F$7&\" and Barix(\"&$D$12&\",reference:=StartOfDay)=\"&A42&\"\", \"Bar\", \"\", \"Close\",\"A5C\",\"0\",\"All\",,,\"False\",\"T\",\"EveryTick\")","v":1225},{"$f":"RTD(\"cqg.rtd\",,\"StudyData\", \"Vol(\"&$D$12&\") when LocalYear(\"&$D$12&\")=\"&$D$8&\" and localMonth(\"&$D$12&\") =\"&$E$8&\" and LocalDay(\"&$D$12&\")=\"&$F$8&\" and Barix(\"&$D$12&\",reference:=StartOfDay)=\"&A42&\"\", \"Bar\", \"\", \"Close\",\"A5C\",\"0\",\"All\",,,\"False\",\"T\",\"EveryTick\")","v":1419},{"$f":"RTD(\"cqg.rtd\",,\"StudyData\", \"Vol(\"&$D$12&\") when LocalYear(\"&$D$12&\")=\"&$D$9&\" and localMonth(\"&$D$12&\") =\"&$E$9&\" and LocalDay(\"&$D$12&\")=\"&$F$9&\" and Barix(\"&$D$12&\",reference:=StartOfDay)=\"&A42&\"\", \"Bar\", \"\", \"Close\",\"A5C\",\"0\",\"All\",,,\"False\",\"T\",\"EveryTick\")","v":1191},{"$f":"RTD(\"cqg.rtd\",,\"StudyData\", \"Vol(\"&$D$12&\") when LocalYear(\"&$D$12&\")=\"&$D$10&\" and localMonth(\"&$D$12&\") =\"&$E$10&\" and LocalDay(\"&$D$12&\")=\"&$F$10&\" and Barix(\"&$D$12&\",reference:=StartOfDay)=\"&A42&\"\", \"Bar\", \"\", \"Close\",\"A5C\",\"0\",\"All\",,,\"False\",\"T\",\"EveryTick\")","v":2276},{"$f":"IF(H42>(1+(MainDisplay!$O$24/100))*I42,H42,NA())","v":{"$error":"#N/A"}}]
[138,{"$f":"Sheet3!B43","v":"04:30:00"},null,null,null,"NIY",96,{"$f":"RTD(\"cqg.rtd\",,\"StudyData\", \"Vol(\"&$D$12&\") when LocalYear(\"&$D$12&\")=\"&$D$1&\" and localMonth(\"&$D$12&\") =\"&$E$1&\" and LocalDay(\"&$D$12&\")=\"&$F$1&\" and Barix(\"&$D$12&\",reference:=StartOfDay)=\"&A43&\"\", \"Bar\", \"\", \"Close\",\"A5C\",\"0\",\"All\",,,\"False\",\"T\",\"EveryTick\")","v":710},1757.1111111111111,{"$f":"RTD(\"cqg.rtd\",,\"StudyData\", \"Vol(\"&$D$12&\") when LocalYear(\"&$D$12&\")=\"&$D$2&\" and localMonth(\"&$D$12&\") =\"&$E$2&\" and LocalDay(\"&$D$12&\")=\"&$F$2&\" and Barix(\"&$D$12&\",reference:=StartOfDay)=\"&A43&\"\", \"Bar\", \"\", \"Close\",\"A5C\",\"0\",\"All\",,,\"False\",\"T\",\"EveryTick\")","v":1402},{"$f":"RTD(\"cqg.rtd\",,\"StudyData\", \"Vol(\"&$D$12&\") when LocalYear(\"&$D$12&\")=\"&$D$3&\" and localMonth(\"&$D$12&\") =\"&$E$3&\" and LocalDay(\"&$D$12&\")=\"&$F$3&\" and Barix(\"&$D$12&\",reference:=StartOfDay)=\"&A43&\"\", \"Bar\", \"\", \"Close\",\"A5C\",\"0\",\"All\",,,\"False\",\"T\",\"EveryTick\")","v":1006},{"$f":"RTD(\"cqg.rtd\",,\"StudyData\", \"Vol(\"&$D$12&\") when LocalYear(\"&$D$12&\")=\"&$D$4&\" and localMonth(\"&$D$12&\") =\"&$E$4&\" and LocalDay(\"&$D$12&\")=\"&$F$4&\" and Barix(\"&$D$12&\",reference:=StartOfDay)=\"&A43&\"\", \"Bar\", \"\", \"Close\",\"A5C\",\"0\",\"All\",,,\"False\",\"T\",\"EveryTick\")","v":1093},{"$f":"RTD(\"cqg.rtd\",,\"StudyData\", \"Vol(\"&$D$12&\") when LocalYear(\"&$D$12&\")=\"&$D$5&\" and localMonth(\"&$D$12&\") =\"&$E$5&\" and LocalDay(\"&$D$12&\")=\"&$F$5&\" and Barix(\"&$D$12&\",reference:=StartOfDay)=\"&A43&\"\", \"Bar\", \"\", \"Close\",\"A5C\",\"0\",\"All\",,,\"False\",\"T\",\"EveryTick\")","v":669},{"$f":"RTD(\"cqg.rtd\",,\"StudyData\", \"Vol(\"&$D$12&\") when LocalYear(\"&$D$12&\")=\"&$D$6&\" and localMonth(\"&$D$12&\") =\"&$E$6&\" and LocalDay(\"&$D$12&\")=\"&$F$6&\" and Barix(\"&$D$12&\",reference:=StartOfDay)=\"&A43&\"\", \"Bar\", \"\", \"Close\",\"A5C\",\"0\",\"All\",,,\"False\",\"T\",\"EveryTick\")","v":5081},{"$f":"RTD(\"cqg.rtd\",,\"StudyData\", \"Vol(\"&$D$12&\") when LocalYear(\"&$D$12&\")=\"&$D$7&\" and localMonth(\"&$D$12&\") =\"&$E$7&\" and LocalDay(\"&$D$12&\")=\"&$F$7&\" and Barix(\"&$D$12&\",reference:=StartOfDay)=\"&A43&\"\", \"Bar\", \"\", \"Close\",\"A5C\",\"0\",\"All\",,,\"False\",\"T\",\"EveryTick\")","v":2081},{"$f":"RTD(\"cqg.rtd\",,\"StudyData\", \"Vol(\"&$D$12&\") when LocalYear(\"&$D$12&\")=\"&$D$8&\" and localMonth(\"&$D$12&\") =\"&$E$8&\" and LocalDay(\"&$D$12&\")=\"&$F$8&\" and Barix(\"&$D$12&\",reference:=StartOfDay)=\"&A43&\"\", \"Bar\", \"\", \"Close\",\"A5C\",\"0\",\"All\",,,\"False\",\"T\",\"EveryTick\")","v":1591},{"$f":"RTD(\"cqg.rtd\",,\"StudyData\", \"Vol(\"&$D$12&\") when LocalYear(\"&$D$12&\")=\"&$D$9&\" and localMonth(\"&$D$12&\") =\"&$E$9&\" and LocalDay(\"&$D$12&\")=\"&$F$9&\" and Barix(\"&$D$12&\",reference:=StartOfDay)=\"&A43&\"\", \"Bar\", \"\", \"Close\",\"A5C\",\"0\",\"All\",,,\"False\",\"T\",\"EveryTick\")","v":2264},{"$f":"RTD(\"cqg.rtd\",,\"StudyData\", \"Vol(\"&$D$12&\") when LocalYear(\"&$D$12&\")=\"&$D$10&\" and localMonth(\"&$D$12&\") =\"&$E$10&\" and LocalDay(\"&$D$12&\")=\"&$F$10&\" and Barix(\"&$D$12&\",reference:=StartOfDay)=\"&A43&\"\", \"Bar\", \"\", \"Close\",\"A5C\",\"0\",\"All\",,,\"False\",\"T\",\"EveryTick\")","v":627},{"$f":"IF(H43>(1+(MainDisplay!$O$24/100))*I43,H43,NA())","v":{"$error":"#N/A"}}]
[139,{"$f":"Sheet3!B44","v":"04:35:00"},null,null,null,"DSX",69,{"$f":"RTD(\"cqg.rtd\",,\"StudyData\", \"Vol(\"&$D$12&\") when LocalYear(\"&$D$12&\")=\"&$D$1&\" and localMonth(\"&$D$12&\") =\"&$E$1&\" and LocalDay(\"&$D$12&\")=\"&$F$1&\" and Barix(\"&$D$12&\",reference:=StartOfDay)=\"&A44&\"\", \"Bar\", \"\", \"Close\",\"A5C\",\"0\",\"All\",,,\"False\",\"T\",\"EveryTick\")","v":816},1713.6666666666667,{"$f":"RTD(\"cqg.rtd\",,\"StudyData\", \"Vol(\"&$D$12&\") when LocalYear(\"&$D$12&\")=\"&$D$2&\" and localMonth(\"&$D$12&\") =\"&$E$2&\" and LocalDay(\"&$D$12&\")=\"&$F$2&\" and Barix(\"&$D$12&\",reference:=StartOfDay)=\"&A44&\"\", \"Bar\", \"\", \"Close\",\"A5C\",\"0\",\"All\",,,\"False\",\"T\",\"EveryTick\")","v":1702},{"$f":"RTD(\"cqg.rtd\",,\"StudyData\", \"Vol(\"&$D$12&\") when LocalYear(\"&$D$12&\")=\"&$D$3&\" and localMonth(\"&$D$12&\") =\"&$E$3&\" and LocalDay(\"&$D$12&\")=\"&$F$3&\" and Barix(\"&$D$12&\",reference:=StartOfDay)=\"&A44&\"\", \"Bar\", \"\", \"Close\",\"A5C\",\"0\",\"All\",,,\"False\",\"T\",\"EveryTick\")","v":663},{"$f":"RTD(\"cqg.rtd\",,\"StudyData\", \"Vol(\"&$D$12&\") when LocalYear(\"&$D$12&\")=\"&$D$4&\" and localMonth(\"&$D$12&\") =\"&$E$4&\" and LocalDay(\"&$D$12&\")=\"&$F$4&\" and Barix(\"&$D$12&\",reference:=StartOfDay)=\"&A44&\"\", \"Bar\", \"\", \"Close\",\"A5C\",\"0\",\"All\",,,\"False\",\"T\",\"EveryTick\")","v":1444},{"$f":"RTD(\"cqg.rtd\",,\"StudyData\", \"Vol(\"&$D$12&\") when LocalYear(\"&$D$12&\")=\"&$D$5&\" and localMonth(\"&$D$12&\") =\"&$E$5&\" and LocalDay(\"&$D$12&\")=\"&$F$5&\" and Barix(\"&$D$12&\",reference:=StartOfDay)=\"&A44&\"\", \"Bar\", \"\", \"Close\",\"A5C\",\"0\",\"All\",,,\"False\",\"T\",\"EveryTick\")","v":1249},{"$f":"RTD(\"cqg.rtd\",,\"StudyData\", \"Vol(\"&$D$12&\") when LocalYear(\"&$D$12&\")=\"&$D$6&\" and localMonth(\"&$D$12&\") =\"&$E$6&\" and LocalDay(\"&$D$12&\")=\"&$F$6&\" and Barix(\"&$D$12&\",reference:=StartOfDay)=\"&A44&\"\", \"Bar\", \"\", \"Close\",\"A5C\",\"0\",\"All\",,,\"False\",\"T\",\"EveryTick\")","v":4382},{"$f":"RTD(\"cqg.rtd\",,\"StudyData\", \"Vol(\"&$D$12&\") when LocalYear(\"&$D$12&\")=\"&$D$7&\" and localMonth(\"&$D$12&\") =\"&$E$7&\" and LocalDay(\"&$D$12&\")=\"&$F$7&\" and Barix(\"&$D$12&\",reference:=StartOfDay)=\"&A44&\"\", \"Bar\", \"\", \"Close\",\"A5C\",\"0\",\"All\",,,\"False\",\"T\",\"EveryTick\")","v":1267},{"$f":"RTD(\"cqg.rtd\",,\"StudyData\", \"Vol(\"&$D$12&\") when LocalYear(\"&$D$12&\")=\"&$D$8&\" and localMonth(\"&$D$12&\") =\"&$E$8&\" and LocalDay(\"&$D$12&\")=\"&$F$8&\" and Barix(\"&$D$12&\",reference:=StartOfDay)=\"&A44&\"\", \"Bar\", \"\", \"Close\",\"A5C\",\"0\",\"All\",,,\"False\",\"T\",\"EveryTick\")","v":1228},{"$f":"RTD(\"cqg.rtd\",,\"StudyData\", \"Vol(\"&$D$12&\") when LocalYear(\"&$D$12&\")=\"&$D$9&\" and localMonth(\"&$D$12&\") =\"&$E$9&\" and LocalDay(\"&$D$12&\")=\"&$F$9&\" and Barix(\"&$D$12&\",reference:=StartOfDay)=\"&A44&\"\", \"Bar\", \"\", \"Close\",\"A5C\",\"0\",\"All\",,,\"False\",\"T\",\"EveryTick\")","v":2552},{"$f":"RTD(\"cqg.rtd\",,\"StudyData\", \"Vol(\"&$D$12&\") when LocalYear(\"&$D$12&\")=\"&$D$10&\" and localMonth(\"&$D$12&\") =\"&$E$10&\" and LocalDay(\"&$D$12&\")=\"&$F$10&\" and Barix(\"&$D$12&\",reference:=StartOfDay)=\"&A44&\"\", \"Bar\", \"\", \"Close\",\"A5C\",\"0\",\"All\",,,\"False\",\"T\",\"EveryTick\")","v":936},{"$f":"IF(H44>(1+(MainDisplay!$O$24/100))*I44,H44,NA())","v":{"$error":"#N/A"}}]
[140,{"$f":"Sheet3!B45","v":"04:40:00"},null,null,null,"DD",69,{"$f":"RTD(\"cqg.rtd\",,\"StudyData\", \"Vol(\"&$D$12&\") when LocalYear(\"&$D$12&\")=\"&$D$1&\" and localMonth(\"&$D$12&\") =\"&$E$1&\" and LocalDay(\"&$D$12&\")=\"&$F$1&\" and Barix(\"&$D$12&\",reference:=StartOfDay)=\"&A45&\"\", \"Bar\", \"\", \"Close\",\"A5C\",\"0\",\"All\",,,\"False\",\"T\",\"EveryTick\")","v":630},2044,{"$f":"RTD(\"cqg.rtd\",,\"StudyData\", \"Vol(\"&$D$12&\") when LocalYear(\"&$D$12&\")=\"&$D$2&\" and localMonth(\"&$D$12&\") =\"&$E$2&\" and LocalDay(\"&$D$12&\")=\"&$F$2&\" and Barix(\"&$D$12&\",reference:=StartOfDay)=\"&A45&\"\", \"Bar\", \"\", \"Close\",\"A5C\",\"0\",\"All\",,,\"False\",\"T\",\"EveryTick\")","v":1033},{"$f":"RTD(\"cqg.rtd\",,\"StudyData\", \"Vol(\"&$D$12&\") when LocalYear(\"&$D$12&\")=\"&$D$3&\" and localMonth(\"&$D$12&\") =\"&$E$3&\" and LocalDay(\"&$D$12&\")=\"&$F$3&\" and Barix(\"&$D$12&\",reference:=StartOfDay)=\"&A45&\"\", \"Bar\", \"\", \"Close\",\"A5C\",\"0\",\"All\",,,\"False\",\"T\",\"EveryTick\")","v":255},{"$f":"RTD(\"cqg.rtd\",,\"StudyData\", \"Vol(\"&$D$12&\") when LocalYear(\"&$D$12&\")=\"&$D$4&\" and localMonth(\"&$D$12&\") =\"&$E$4&\" and LocalDay(\"&$D$12&\")=\"&$F$4&\" and Barix(\"&$D$12&\",reference:=StartOfDay)=\"&A45&\"\", \"Bar\", \"\", \"Close\",\"A5C\",\"0\",\"All\",,,\"False\",\"T\",\"EveryTick\")","v":1672},{"$f":"RTD(\"cqg.rtd\",,\"StudyData\", \"Vol(\"&$D$12&\") when LocalYear(\"&$D$12&\")=\"&$D$5&\" and localMonth(\"&$D$12&\") =\"&$E$5&\" and LocalDay(\"&$D$12&\")=\"&$F$5&\" and Barix(\"&$D$12&\",reference:=StartOfDay)=\"&A45&\"\", \"Bar\", \"\", \"Close\",\"A5C\",\"0\",\"All\",,,\"False\",\"T\",\"EveryTick\")","v":1213},{"$f":"RTD(\"cqg.rtd\",,\"StudyData\", \"Vol(\"&$D$12&\") when LocalYear(\"&$D$12&\")=\"&$D$6&\" and localMonth(\"&$D$12&\") =\"&$E$6&\" and LocalDay(\"&$D$12&\")=\"&$F$6&\" and Barix(\"&$D$12&\",reference:=StartOfDay)=\"&A45&\"\", \"Bar\", \"\", \"Close\",\"A5C\",\"0\",\"All\",,,\"False\",\"T\",\"EveryTick\")","v":3825},{"$f":"RTD(\"cqg.rtd\",,\"StudyData\", \"Vol(\"&$D$12&\") when LocalYear(\"&$D$12&\")=\"&$D$7&\" and localMonth(\"&$D$12&\") =\"&$E$7&\" and LocalDay(\"&$D$12&\")=\"&$F$7&\" and Barix(\"&$D$12&\",reference:=StartOfDay)=\"&A45&\"\", \"Bar\", \"\", \"Close\",\"A5C\",\"0\",\"All\",,,\"False\",\"T\",\"EveryTick\")","v":2642},{"$f":"RTD(\"cqg.rtd\",,\"StudyData\", \"Vol(\"&$D$12&\") when LocalYear(\"&$D$12&\")=\"&$D$8&\" and localMonth(\"&$D$12&\") =\"&$E$8&\" and LocalDay(\"&$D$12&\")=\"&$F$8&\" and Barix(\"&$D$12&\",reference:=StartOfDay)=\"&A45&\"\", \"Bar\", \"\", \"Close\",\"A5C\",\"0\",\"All\",,,\"False\",\"T\",\"EveryTick\")","v":1276},{"$f":"RTD(\"cqg.rtd\",,\"StudyData\", \"Vol(\"&$D$12&\") when LocalYear(\"&$D$12&\")=\"&$D$9&\" and localMonth(\"&$D$12&\") =\"&$E$9&\" and LocalDay(\"&$D$12&\")=\"&$F$9&\" and Barix(\"&$D$12&\",reference:=StartOfDay)=\"&A45&\"\", \"Bar\", \"\", \"Close\",\"A5C\",\"0\",\"All\",,,\"False\",\"T\",\"EveryTick\")","v":2504},{"$f":"RTD(\"cqg.rtd\",,\"StudyData\", \"Vol(\"&$D$12&\") when LocalYear(\"&$D$12&\")=\"&$D$10&\" and localMonth(\"&$D$12&\") =\"&$E$10&\" and LocalDay(\"&$D$12&\")=\"&$F$10&\" and Barix(\"&$D$12&\",reference:=StartOfDay)=\"&A45&\"\", \"Bar\", \"\", \"Close\",\"A5C\",\"0\",\"All\",,,\"False\",\"T\",\"EveryTick\")","v":3976},{"$f":"IF(H45>(1+(MainDisplay!$O$24/100))*I45,H45,NA())","v":{"$error":"#N/A"}}]
[{"$f":"A45+1","v":141},{"$f":"Sheet3!B46","v":"04:45:00"},null,null,null,"QFA",72,{"$f":"RTD(\"cqg.rtd\",,\"StudyData\", \"Vol(\"&$D$12&\") when LocalYear(\"&$D$12&\")=\"&$D$1&\" and localMonth(\"&$D$12&\") =\"&$E$1&\" and LocalDay(\"&$D$12&\")=\"&$F$1&\" and Barix(\"&$D$12&\",reference:=StartOfDay)=\"&A46&\"\", \"Bar\", \"\", \"Close\",\"A5C\",\"0\",\"All\",,,\"False\",\"T\",\"EveryTick\")","v":807},{"$f":"AVERAGE(J46:R46)","v":1725.7777777777778},{"$f":"RTD(\"cqg.rtd\",,\"StudyData\", \"Vol(\"&$D$12&\") when LocalYear(\"&$D$12&\")=\"&$D$2&\" and localMonth(\"&$D$12&\") =\"&$E$2&\" and LocalDay(\"&$D$12&\")=\"&$F$2&\" and Barix(\"&$D$12&\",reference:=StartOfDay)=\"&A46&\"\", \"Bar\", \"\", \"Close\",\"A5C\",\"0\",\"All\",,,\"False\",\"T\",\"EveryTick\")","v":1557},{"$f":"RTD(\"cqg.rtd\",,\"StudyData\", \"Vol(\"&$D$12&\") when LocalYear(\"&$D$12&\")=\"&$D$3&\" and localMonth(\"&$D$12&\") =\"&$E$3&\" and LocalDay(\"&$D$12&\")=\"&$F$3&\" and Barix(\"&$D$12&\",reference:=StartOfDay)=\"&A46&\"\", \"Bar\", \"\", \"Close\",\"A5C\",\"0\",\"All\",,,\"False\",\"T\",\"EveryTick\")","v":483},{"$f":"RTD(\"cqg.rtd\",,\"StudyData\", \"Vol(\"&$D$12&\") when LocalYear(\"&$D$12&\")=\"&$D$4&\" and localMonth(\"&$D$12&\") =\"&$E$4&\" and LocalDay(\"&$D$12&\")=\"&$F$4&\" and Barix(\"&$D$12&\",reference:=StartOfDay)=\"&A46&\"\", \"Bar\", \"\", \"Close\",\"A5C\",\"0\",\"All\",,,\"False\",\"T\",\"EveryTick\")","v":1236},{"$f":"RTD(\"cqg.rtd\",,\"StudyData\", \"Vol(\"&$D$12&\") when LocalYear(\"&$D$12&\")=\"&$D$5&\" and localMonth(\"&$D$12&\") =\"&$E$5&\" and LocalDay(\"&$D$12&\")=\"&$F$5&\" and Barix(\"&$D$12&\",reference:=StartOfDay)=\"&A46&\"\", \"Bar\", \"\", \"Close\",\"A5C\",\"0\",\"All\",,,\"False\",\"T\",\"EveryTick\")","v":1400},{"$f":"RTD(\"cqg.rtd\",,\"StudyData\", \"Vol(\"&$D$12&\") when LocalYear(\"&$D$12&\")=\"&$D$6&\" and localMonth(\"&$D$12&\") =\"&$E$6&\" and LocalDay(\"&$D$12&\")=\"&$F$6&\" and Barix(\"&$D$12&\",reference:=StartOfDay)=\"&A46&\"\", \"Bar\", \"\", \"Close\",\"A5C\",\"0\",\"All\",,,\"False\",\"T\",\"EveryTick\")","v":3398},{"$f":"RTD(\"cqg.rtd\",,\"StudyData\", \"Vol(\"&$D$12&\") when LocalYear(\"&$D$12&\")=\"&$D$7&\" and localMonth(\"&$D$12&\") =\"&$E$7&\" and LocalDay(\"&$D$12&\")=\"&$F$7&\" and Barix(\"&$D$12&\",reference:=StartOfDay)=\"&A46&\"\", \"Bar\", \"\", \"Close\",\"A5C\",\"0\",\"All\",,,\"False\",\"T\",\"EveryTick\")","v":1126},{"$f":"RTD(\"cqg.rtd\",,\"StudyData\", \"Vol(\"&$D$12&\") when LocalYear(\"&$D$12&\")=\"&$D$8&\" and localMonth(\"&$D$12&\") =\"&$E$8&\" and LocalDay(\"&$D$12&\")=\"&$F$8&\" and Barix(\"&$D$12&\",reference:=StartOfDay)=\"&A46&\"\", \"Bar\", \"\", \"Close\",\"A5C\",\"0\",\"All\",,,\"False\",\"T\",\"EveryTick\")","v":918},{"$f":"RTD(\"cqg.rtd\",,\"StudyData\", \"Vol(\"&$D$12&\") when LocalYear(\"&$D$12&\")=\"&$D$9&\" and localMonth(\"&$D$12&\") =\"&$E$9&\" and LocalDay(\"&$D$12&\")=\"&$F$9&\" and Barix(\"&$D$12&\",reference:=StartOfDay)=\"&A46&\"\", \"Bar\", \"\", \"Close\",\"A5C\",\"0\",\"All\",,,\"False\",\"T\",\"EveryTick\")","v":3310},{"$f":"RTD(\"cqg.rtd\",,\"StudyData\", \"Vol(\"&$D$12&\") when LocalYear(\"&$D$12&\")=\"&$D$10&\" and localMonth(\"&$D$12&\") =\"&$E$10&\" and LocalDay(\"&$D$12&\")=\"&$F$10&\" and Barix(\"&$D$12&\",reference:=StartOfDay)=\"&A46&\"\", \"Bar\", \"\", \"Close\",\"A5C\",\"0\",\"All\",,,\"False\",\"T\",\"EveryTick\")","v":2104},{"$f":"IF(H46>(1+(MainDisplay!$O$24/100))*I46,H46,NA())","v":{"$error":"#N/A"}}]
[142,{"$f":"Sheet3!B47","v":"04:50:00"},null,null,null,"CLE",96,{"$f":"RTD(\"cqg.rtd\",,\"StudyData\", \"Vol(\"&$D$12&\") when LocalYear(\"&$D$12&\")=\"&$D$1&\" and localMonth(\"&$D$12&\") =\"&$E$1&\" and LocalDay(\"&$D$12&\")=\"&$F$1&\" and Barix(\"&$D$12&\",reference:=StartOfDay)=\"&A47&\"\", \"Bar\", \"\", \"Close\",\"A5C\",\"0\",\"All\",,,\"False\",\"T\",\"EveryTick\")","v":1016},2108.2222222222222,{"$f":"RTD(\"cqg.rtd\",,\"StudyData\", \"Vol(\"&$D$12&\") when LocalYear(\"&$D$12&\")=\"&$D$2&\" and localMonth(\"&$D$12&\") =\"&$E$2&\" and LocalDay(\"&$D$12&\")=\"&$F$2&\" and Barix(\"&$D$12&\",reference:=StartOfDay)=\"&A47&\"\", \"Bar\", \"\", \"Close\",\"A5C\",\"0\",\"All\",,,\"False\",\"T\",\"EveryTick\")","v":2077},{"$f":"RTD(\"cqg.rtd\",,\"StudyData\", \"Vol(\"&$D$12&\") when LocalYear(\"&$D$12&\")=\"&$D$3&\" and localMonth(\"&$D$12&\") =\"&$E$3&\" and LocalDay(\"&$D$12&\")=\"&$F$3&\" and Barix(\"&$D$12&\",reference:=StartOfDay)=\"&A47&\"\", \"Bar\", \"\", \"Close\",\"A5C\",\"0\",\"All\",,,\"False\",\"T\",\"EveryTick\")","v":729},{"$f":"RTD(\"cqg.rtd\",,\"StudyData\", \"Vol(\"&$D$12&\") when LocalYear(\"&$D$12&\")=\"&$D$4&\" and localMonth(\"&$D$12&\") =\"&$E$4&\" and LocalDay(\"&$D$12&\")=\"&$F$4&\" and Barix(\"&$D$12&\",reference:=StartOfDay)=\"&A47&\"\", \"Bar\", \"\", \"Close\",\"A5C\",\"0\",\"All\",,,\"False\",\"T\",\"EveryTick\")","v":1172},{"$f":"RTD(\"cqg.rtd\",,\"StudyData\", \"Vol(\"&$D$12&\") when LocalYear(\"&$D$12&\")=\"&$D$5&\" and localMonth(\"&$D$12&\") =\"&$E$5&\" and LocalDay(\"&$D$12&\")=\"&$F$5&\" and Barix(\"&$D$12&\",reference:=StartOfDay)=\"&A47&\"\", \"Bar\", \"\", \"Close\",\"A5C\",\"0\",\"All\",,,\"False\",\"T\",\"EveryTick\")","v":1591},{"$f":"RTD(\"cqg.rtd\",,\"StudyData\", \"Vol(\"&$D$12&\") when LocalYear(\"&$D$12&\")=\"&$D$6&\" and localMonth(\"&$D$12&\") =\"&$E$6&\" and LocalDay(\"&$D$12&\")=\"&$F$6&\" and Barix(\"&$D$12&\",reference:=StartOfDay)=\"&A47&\"\", \"Bar\", \"\", \"Close\",\"A5C\",\"0\",\"All\",,,\"False\",\"T\",\"EveryTick\")","v":4060},{"$f":"RTD(\"cqg.rtd\",,\"StudyData\", \"Vol(\"&$D$12&\") when LocalYear(\"&$D$12&\")=\"&$D$7&\" and localMonth(\"&$D$12&\") =\"&$E$7&\" and LocalDay(\"&$D$12&\")=\"&$F$7&\" and Barix(\"&$D$12&\",reference:=StartOfDay)=\"&A47&\"\", \"Bar\", \"\", \"Close\",\"A5C\",\"0\",\"All\",,,\"False\",\"T\",\"EveryTick\")","v":1298},{"$f":"RTD(\"cqg.rtd\",,\"StudyData\", \"Vol(\"&$D$12&\") when LocalYear(\"&$D$12&\")=\"&$D$8&\" and localMonth(\"&$D$12&\") =\"&$E$8&\" and LocalDay(\"&$D$12&\")=\"&$F$8&\" and Barix(\"&$D$12&\",reference:=StartOfDay)=\"&A47&\"\", \"Bar\", \"\", \"Close\",\"A5C\",\"0\",\"All\",,,\"False\",\"T\",\"EveryTick\")","v":2739},{"$f":"RTD(\"cqg.rtd\",,\"StudyData\", \"Vol(\"&$D$12&\") when LocalYear(\"&$D$12&\")=\"&$D$9&\" and localMonth(\"&$D$12&\") =\"&$E$9&\" and LocalDay(\"&$D$12&\")=\"&$F$9&\" and Barix(\"&$D$12&\",reference:=StartOfDay)=\"&A47&\"\", \"Bar\", \"\", \"Close\",\"A5C\",\"0\",\"All\",,,\"False\",\"T\",\"EveryTick\")","v":1805},{"$f":"RTD(\"cqg.rtd\",,\"StudyData\", \"Vol(\"&$D$12&\") when LocalYear(\"&$D$12&\")=\"&$D$10&\" and localMonth(\"&$D$12&\") =\"&$E$10&\" and LocalDay(\"&$D$12&\")=\"&$F$10&\" and Barix(\"&$D$12&\",reference:=StartOfDay)=\"&A47&\"\", \"Bar\", \"\", \"Close\",\"A5C\",\"0\",\"All\",,,\"False\",\"T\",\"EveryTick\")","v":3503},{"$f":"IF(H47>(1+(MainDisplay!$O$24/100))*I47,H47,NA())","v":{"$error":"#N/A"}}]
[143,{"$f":"Sheet3!B48","v":"04:55:00"},null,null,null,"ET",72,{"$f":"RTD(\"cqg.rtd\",,\"StudyData\", \"Vol(\"&$D$12&\") when LocalYear(\"&$D$12&\")=\"&$D$1&\" and localMonth(\"&$D$12&\") =\"&$E$1&\" and LocalDay(\"&$D$12&\")=\"&$F$1&\" and Barix(\"&$D$12&\",reference:=StartOfDay)=\"&A48&\"\", \"Bar\", \"\", \"Close\",\"A5C\",\"0\",\"All\",,,\"False\",\"T\",\"EveryTick\")","v":872},1570.4444444444443,{"$f":"RTD(\"cqg.rtd\",,\"StudyData\", \"Vol(\"&$D$12&\") when LocalYear(\"&$D$12&\")=\"&$D$2&\" and localMonth(\"&$D$12&\") =\"&$E$2&\" and LocalDay(\"&$D$12&\")=\"&$F$2&\" and Barix(\"&$D$12&\",reference:=StartOfDay)=\"&A48&\"\", \"Bar\", \"\", \"Close\",\"A5C\",\"0\",\"All\",,,\"False\",\"T\",\"EveryTick\")","v":1767},{"$f":"RTD(\"cqg.rtd\",,\"StudyData\", \"Vol(\"&$D$12&\") when LocalYear(\"&$D$12&\")=\"&$D$3&\" and localMonth(\"&$D$12&\") =\"&$E$3&\" and LocalDay(\"&$D$12&\")=\"&$F$3&\" and Barix(\"&$D$12&\",reference:=StartOfDay)=\"&A48&\"\", \"Bar\", \"\", \"Close\",\"A5C\",\"0\",\"All\",,,\"False\",\"T\",\"EveryTick\")","v":791},{"$f":"RTD(\"cqg.rtd\",,\"StudyData\", \"Vol(\"&$D$12&\") when LocalYear(\"&$D$12&\")=\"&$D$4&\" and localMonth(\"&$D$12&\") =\"&$E$4&\" and LocalDay(\"&$D$12&\")=\"&$F$4&\" and Barix(\"&$D$12&\",reference:=StartOfDay)=\"&A48&\"\", \"Bar\", \"\", \"Close\",\"A5C\",\"0\",\"All\",,,\"False\",\"T\",\"EveryTick\")","v":1986},{"$f":"RTD(\"cqg.rtd\",,\"StudyData\", \"Vol(\"&$D$12&\") when LocalYear(\"&$D$12&\")=\"&$D$5&\" and localMonth(\"&$D$12&\") =\"&$E$5&\" and LocalDay(\"&$D$12&\")=\"&$F$5&\" and Barix(\"&$D$12&\",reference:=StartOfDay)=\"&A48&\"\", \"Bar\", \"\", \"Close\",\"A5C\",\"0\",\"All\",,,\"False\",\"T\",\"EveryTick\")","v":1018},{"$f":"RTD(\"cqg.rtd\",,\"StudyData\", \"Vol(\"&$D$12&\") when LocalYear(\"&$D$12&\")=\"&$D$6&\" and localMonth(\"&$D$12&\") =\"&$E$6&\" and LocalDay(\"&$D$12&\")=\"&$F$6&\" and Barix(\"&$D$12&\",reference:=StartOfDay)=\"&A48&\"\", \"Bar\", \"\", \"Close\",\"A5C\",\"0\",\"All\",,,\"False\",\"T\",\"EveryTick\")","v":2444},{"$f":"RTD(\"cqg.rtd\",,\"StudyData\", \"Vol(\"&$D$12&\") when LocalYear(\"&$D$12&\")=\"&$D$7&\" and localMonth(\"&$D$12&\") =\"&$E$7&\" and LocalDay(\"&$D$12&\")=\"&$F$7&\" and Barix(\"&$D$12&\",reference:=StartOfDay)=\"&A48&\"\", \"Bar\", \"\", \"Close\",\"A5C\",\"0\",\"All\",,,\"False\",\"T\",\"EveryTick\")","v":1201},{"$f":"RTD(\"cqg.rtd\",,\"StudyData\", \"Vol(\"&$D$12&\") when LocalYear(\"&$D$12&\")=\"&$D$8&\" and localMonth(\"&$D$12&\") =\"&$E$8&\" and LocalDay(\"&$D$12&\")=\"&$F$8&\" and Barix(\"&$D$12&\",reference:=StartOfDay)=\"&A48&\"\", \"Bar\", \"\", \"Close\",\"A5C\",\"0\",\"All\",,,\"False\",\"T\",\"EveryTick\")","v":1092},{"$f":"RTD(\"cqg.rtd\",,\"StudyData\", \"Vol(\"&$D$12&\") when LocalYear(\"&$D$12&\")=\"&$D$9&\" and localMonth(\"&$D$12&\") =\"&$E$9&\" and LocalDay(\"&$D$12&\")=\"&$F$9&\" and Barix(\"&$D$12&\",reference:=StartOfDay)=\"&A48&\"\", \"Bar\", \"\", \"Close\",\"A5C\",\"0\",\"All\",,,\"False\",\"T\",\"EveryTick\")","v":1429},{"$f":"RTD(\"cqg.rtd\",,\"StudyData\", \"Vol(\"&$D$12&\") when LocalYear(\"&$D$12&\")=\"&$D$10&\" and localMonth(\"&$D$12&\") =\"&$E$10&\" and LocalDay(\"&$D$12&\")=\"&$F$10&\" and Barix(\"&$D$12&\",reference:=StartOfDay)=\"&A48&\"\", \"Bar\", \"\", \"Close\",\"A5C\",\"0\",\"All\",,,\"False\",\"T\",\"EveryTick\")","v":2406},{"$f":"IF(H48>(1+(MainDisplay!$O$24/100))*I48,H48,NA())","v":{"$error":"#N/A"}}]
[144,{"$f":"Sheet3!B49","v":"05:00:00"},null,null,null,"QO",72,{"$f":"RTD(\"cqg.rtd\",,\"StudyData\", \"Vol(\"&$D$12&\") when LocalYear(\"&$D$12&\")=\"&$D$1&\" and localMonth(\"&$D$12&\") =\"&$E$1&\" and LocalDay(\"&$D$12&\")=\"&$F$1&\" and Barix(\"&$D$12&\",reference:=StartOfDay)=\"&A49&\"\", \"Bar\", \"\", \"Close\",\"A5C\",\"0\",\"All\",,,\"False\",\"T\",\"EveryTick\")","v":1091},2182.2222222222222,{"$f":"RTD(\"cqg.rtd\",,\"StudyData\", \"Vol(\"&$D$12&\") when LocalYear(\"&$D$12&\")=\"&$D$2&\" and localMonth(\"&$D$12&\") =\"&$E$2&\" and LocalDay(\"&$D$12&\")=\"&$F$2&\" and Barix(\"&$D$12&\",reference:=StartOfDay)=\"&A49&\"\", \"Bar\", \"\", \"Close\",\"A5C\",\"0\",\"All\",,,\"False\",\"T\",\"EveryTick\")","v":2233},{"$f":"RTD(\"cqg.rtd\",,\"StudyData\", \"Vol(\"&$D$12&\") when LocalYear(\"&$D$12&\")=\"&$D$3&\" and localMonth(\"&$D$12&\") =\"&$E$3&\" and LocalDay(\"&$D$12&\")=\"&$F$3&\" and Barix(\"&$D$12&\",reference:=StartOfDay)=\"&A49&\"\", \"Bar\", \"\", \"Close\",\"A5C\",\"0\",\"All\",,,\"False\",\"T\",\"EveryTick\")","v":1097},{"$f":"RTD(\"cqg.rtd\",,\"StudyData\", \"Vol(\"&$D$12&\") when LocalYear(\"&$D$12&\")=\"&$D$4&\" and localMonth(\"&$D$12&\") =\"&$E$4&\" and LocalDay(\"&$D$12&\")=\"&$F$4&\" and Barix(\"&$D$12&\",reference:=StartOfDay)=\"&A49&\"\", \"Bar\", \"\", \"Close\",\"A5C\",\"0\",\"All\",,,\"False\",\"T\",\"EveryTick\")","v":1449},{"$f":"RTD(\"cqg.rtd\",,\"StudyData\", \"Vol(\"&$D$12&\") when LocalYear(\"&$D$12&\")=\"&$D$5&\" and localMonth(\"&$D$12&\") =\"&$E$5&\" and LocalDay(\"&$D$12&\")=\"&$F$5&\" and Barix(\"&$D$12&\",reference:=StartOfDay)=\"&A49&\"\", \"Bar\", \"\", \"Close\",\"A5C\",\"0\",\"All\",,,\"False\",\"T\",\"EveryTick\")","v":4298},{"$f":"RTD(\"cqg.rtd\",,\"StudyData\", \"Vol(\"&$D$12&\") when LocalYear(\"&$D$12&\")=\"&$D$6&\" and localMonth(\"&$D$12&\") =\"&$E$6&\" and LocalDay(\"&$D$12&\")=\"&$F$6&\" and Barix(\"&$D$12&\",reference:=StartOfDay)=\"&A49&\"\", \"Bar\", \"\", \"Close\",\"A5C\",\"0\",\"All\",,,\"False\",\"T\",\"EveryTick\")","v":1744},{"$f":"RTD(\"cqg.rtd\",,\"StudyData\", \"Vol(\"&$D$12&\") when LocalYear(\"&$D$12&\")=\"&$D$7&\" and localMonth(\"&$D$12&\") =\"&$E$7&\" and LocalDay(\"&$D$12&\")=\"&$F$7&\" and Barix(\"&$D$12&\",reference:=StartOfDay)=\"&A49&\"\", \"Bar\", \"\", \"Close\",\"A5C\",\"0\",\"All\",,,\"False\",\"T\",\"EveryTick\")","v":2215},{"$f":"RTD(\"cqg.rtd\",,\"StudyData\", \"Vol(\"&$D$12&\") when LocalYear(\"&$D$12&\")=\"&$D$8&\" and localMonth(\"&$D$12&\") =\"&$E$8&\" and LocalDay(\"&$D$12&\")=\"&$F$8&\" and Barix(\"&$D$12&\",reference:=StartOfDay)=\"&A49&\"\", \"Bar\", \"\", \"Close\",\"A5C\",\"0\",\"All\",,,\"False\",\"T\",\"EveryTick\")","v":1188},{"$f":"RTD(\"cqg.rtd\",,\"StudyData\", \"Vol(\"&$D$12&\") when LocalYear(\"&$D$12&\")=\"&$D$9&\" and localMonth(\"&$D$12&\") =\"&$E$9&\" and LocalDay(\"&$D$12&\")=\"&$F$9&\" and Barix(\"&$D$12&\",reference:=StartOfDay)=\"&A49&\"\", \"Bar\", \"\", \"Close\",\"A5C\",\"0\",\"All\",,,\"False\",\"T\",\"EveryTick\")","v":2629},{"$f":"RTD(\"cqg.rtd\",,\"StudyData\", \"Vol(\"&$D$12&\") when LocalYear(\"&$D$12&\")=\"&$D$10&\" and localMonth(\"&$D$12&\") =\"&$E$10&\" and LocalDay(\"&$D$12&\")=\"&$F$10&\" and Barix(\"&$D$12&\",reference:=StartOfDay)=\"&A49&\"\", \"Bar\", \"\", \"Close\",\"A5C\",\"0\",\"All\",,,\"False\",\"T\",\"EveryTick\")","v":2787},{"$f":"IF(H49>(1+(MainDisplay!$O$24/100))*I49,H49,NA())","v":{"$error":"#N/A"}}]
[145,{"$f":"Sheet3!B50","v":"05:05:00"},null,null,null,"GCE",96,{"$f":"RTD(\"cqg.rtd\",,\"StudyData\", \"Vol(\"&$D$12&\") when LocalYear(\"&$D$12&\")=\"&$D$1&\" and localMonth(\"&$D$12&\") =\"&$E$1&\" and LocalDay(\"&$D$12&\")=\"&$F$1&\" and Barix(\"&$D$12&\",reference:=StartOfDay)=\"&A50&\"\", \"Bar\", \"\", \"Close\",\"A5C\",\"0\",\"All\",,,\"False\",\"T\",\"EveryTick\")","v":801},1748,{"$f":"RTD(\"cqg.rtd\",,\"StudyData\", \"Vol(\"&$D$12&\") when LocalYear(\"&$D$12&\")=\"&$D$2&\" and localMonth(\"&$D$12&\") =\"&$E$2&\" and LocalDay(\"&$D$12&\")=\"&$F$2&\" and Barix(\"&$D$12&\",reference:=StartOfDay)=\"&A50&\"\", \"Bar\", \"\", \"Close\",\"A5C\",\"0\",\"All\",,,\"False\",\"T\",\"EveryTick\")","v":1722},{"$f":"RTD(\"cqg.rtd\",,\"StudyData\", \"Vol(\"&$D$12&\") when LocalYear(\"&$D$12&\")=\"&$D$3&\" and localMonth(\"&$D$12&\") =\"&$E$3&\" and LocalDay(\"&$D$12&\")=\"&$F$3&\" and Barix(\"&$D$12&\",reference:=StartOfDay)=\"&A50&\"\", \"Bar\", \"\", \"Close\",\"A5C\",\"0\",\"All\",,,\"False\",\"T\",\"EveryTick\")","v":1047},{"$f":"RTD(\"cqg.rtd\",,\"StudyData\", \"Vol(\"&$D$12&\") when LocalYear(\"&$D$12&\")=\"&$D$4&\" and localMonth(\"&$D$12&\") =\"&$E$4&\" and LocalDay(\"&$D$12&\")=\"&$F$4&\" and Barix(\"&$D$12&\",reference:=StartOfDay)=\"&A50&\"\", \"Bar\", \"\", \"Close\",\"A5C\",\"0\",\"All\",,,\"False\",\"T\",\"EveryTick\")","v":1074},{"$f":"RTD(\"cqg.rtd\",,\"StudyData\", \"Vol(\"&$D$12&\") when LocalYear(\"&$D$12&\")=\"&$D$5&\" and localMonth(\"&$D$12&\") =\"&$E$5&\" and LocalDay(\"&$D$12&\")=\"&$F$5&\" and Barix(\"&$D$12&\",reference:=StartOfDay)=\"&A50&\"\", \"Bar\", \"\", \"Close\",\"A5C\",\"0\",\"All\",,,\"False\",\"T\",\"EveryTick\")","v":1831},{"$f":"RTD(\"cqg.rtd\",,\"StudyData\", \"Vol(\"&$D$12&\") when LocalYear(\"&$D$12&\")=\"&$D$6&\" and localMonth(\"&$D$12&\") =\"&$E$6&\" and LocalDay(\"&$D$12&\")=\"&$F$6&\" and Barix(\"&$D$12&\",reference:=StartOfDay)=\"&A50&\"\", \"Bar\", \"\", \"Close\",\"A5C\",\"0\",\"All\",,,\"False\",\"T\",\"EveryTick\")","v":2394},{"$f":"RTD(\"cqg.rtd\",,\"StudyData\", \"Vol(\"&$D$12&\") when LocalYear(\"&$D$12&\")=\"&$D$7&\" and localMonth(\"&$D$12&\") =\"&$E$7&\" and LocalDay(\"&$D$12&\")=\"&$F$7&\" and Barix(\"&$D$12&\",reference:=StartOfDay)=\"&A50&\"\", \"Bar\", \"\", \"Close\",\"A5C\",\"0\",\"All\",,,\"False\",\"T\",\"EveryTick\")","v":2422},{"$f":"RTD(\"cqg.rtd\",,\"StudyData\", \"Vol(\"&$D$12&\") when LocalYear(\"&$D$12&\")=\"&$D$8&\" and localMonth(\"&$D$12&\") =\"&$E$8&\" and LocalDay(\"&$D$12&\")=\"&$F$8&\" and Barix(\"&$D$12&\",reference:=StartOfDay)=\"&A50&\"\", \"Bar\", \"\", \"Close\",\"A5C\",\"0\",\"All\",,,\"False\",\"T\",\"EveryTick\")","v":861},{"$f":"RTD(\"cqg.rtd\",,\"StudyData\", \"Vol(\"&$D$12&\") when LocalYear(\"&$D$12&\")=\"&$D$9&\" and localMonth(\"&$D$12&\") =\"&$E$9&\" and LocalDay(\"&$D$12&\")=\"&$F$9&\" and Barix(\"&$D$12&\",reference:=StartOfDay)=\"&A50&\"\", \"Bar\", \"\", \"Close\",\"A5C\",\"0\",\"All\",,,\"False\",\"T\",\"EveryTick\")","v":3406},{"$f":"RTD(\"cqg.rtd\",,\"StudyData\", \"Vol(\"&$D$12&\") when LocalYear(\"&$D$12&\")=\"&$D$10&\" and localMonth(\"&$D$12&\") =\"&$E$10&\" and LocalDay(\"&$D$12&\")=\"&$F$10&\" and Barix(\"&$D$12&\",reference:=StartOfDay)=\"&A50&\"\", \"Bar\", \"\", \"Close\",\"A5C\",\"0\",\"All\",,,\"False\",\"T\",\"EveryTick\")","v":975},{"$f":"IF(H50>(1+(MainDisplay!$O$24/100))*I50,H50,NA())","v":{"$error":"#N/A"}}]
[146,{"$f":"Sheet3!B51","v":"05:10:00"},null,null,null,"CPE",96,{"$f":"RTD(\"cqg.rtd\",,\"StudyData\", \"Vol(\"&$D$12&\") when LocalYear(\"&$D$12&\")=\"&$D$1&\" and localMonth(\"&$D$12&\") =\"&$E$1&\" and LocalDay(\"&$D$12&\")=\"&$F$1&\" and Barix(\"&$D$12&\",reference:=StartOfDay)=\"&A51&\"\", \"Bar\", \"\", \"Close\",\"A5C\",\"0\",\"All\",,,\"False\",\"T\",\"EveryTick\")","v":967},1672.4444444444443,{"$f":"RTD(\"cqg.rtd\",,\"StudyData\", \"Vol(\"&$D$12&\") when LocalYear(\"&$D$12&\")=\"&$D$2&\" and localMonth(\"&$D$12&\") =\"&$E$2&\" and LocalDay(\"&$D$12&\")=\"&$F$2&\" and Barix(\"&$D$12&\",reference:=StartOfDay)=\"&A51&\"\", \"Bar\", \"\", \"Close\",\"A5C\",\"0\",\"All\",,,\"False\",\"T\",\"EveryTick\")","v":1659},{"$f":"RTD(\"cqg.rtd\",,\"StudyData\", \"Vol(\"&$D$12&\") when LocalYear(\"&$D$12&\")=\"&$D$3&\" and localMonth(\"&$D$12&\") =\"&$E$3&\" and LocalDay(\"&$D$12&\")=\"&$F$3&\" and Barix(\"&$D$12&\",reference:=StartOfDay)=\"&A51&\"\", \"Bar\", \"\", \"Close\",\"A5C\",\"0\",\"All\",,,\"False\",\"T\",\"EveryTick\")","v":732},{"$f":"RTD(\"cqg.rtd\",,\"StudyData\", \"Vol(\"&$D$12&\") when LocalYear(\"&$D$12&\")=\"&$D$4&\" and localMonth(\"&$D$12&\") =\"&$E$4&\" and LocalDay(\"&$D$12&\")=\"&$F$4&\" and Barix(\"&$D$12&\",reference:=StartOfDay)=\"&A51&\"\", \"Bar\", \"\", \"Close\",\"A5C\",\"0\",\"All\",,,\"False\",\"T\",\"EveryTick\")","v":1771},{"$f":"RTD(\"cqg.rtd\",,\"StudyData\", \"Vol(\"&$D$12&\") when LocalYear(\"&$D$12&\")=\"&$D$5&\" and localMonth(\"&$D$12&\") =\"&$E$5&\" and LocalDay(\"&$D$12&\")=\"&$F$5&\" and Barix(\"&$D$12&\",reference:=StartOfDay)=\"&A51&\"\", \"Bar\", \"\", \"Close\",\"A5C\",\"0\",\"All\",,,\"False\",\"T\",\"EveryTick\")","v":1888},{"$f":"RTD(\"cqg.rtd\",,\"StudyData\", \"Vol(\"&$D$12&\") when LocalYear(\"&$D$12&\")=\"&$D$6&\" and localMonth(\"&$D$12&\") =\"&$E$6&\" and LocalDay(\"&$D$12&\")=\"&$F$6&\" and Barix(\"&$D$12&\",reference:=StartOfDay)=\"&A51&\"\", \"Bar\", \"\", \"Close\",\"A5C\",\"0\",\"All\",,,\"False\",\"T\",\"EveryTick\")","v":2143},{"$f":"RTD(\"cqg.rtd\",,\"StudyData\", \"Vol(\"&$D$12&\") when LocalYear(\"&$D$12&\")=\"&$D$7&\" and localMonth(\"&$D$12&\") =\"&$E$7&\" and LocalDay(\"&$D$12&\")=\"&$F$7&\" and Barix(\"&$D$12&\",reference:=StartOfDay)=\"&A51&\"\", \"Bar\", \"\", \"Close\",\"A5C\",\"0\",\"All\",,,\"False\",\"T\",\"EveryTick\")","v":1013},{"$f":"RTD(\"cqg.rtd\",,\"StudyData\", \"Vol(\"&$D$12&\") when LocalYear(\"&$D$12&\")=\"&$D$8&\" and localMonth(\"&$D$12&\") =\"&$E$8&\" and LocalDay(\"&$D$12&\")=\"&$F$8&\" and Barix(\"&$D$12&\",reference:=StartOfDay)=\"&A51&\"\", \"Bar\", \"\", \"Close\",\"A5C\",\"0\",\"All\",,,\"False\",\"T\",\"EveryTick\")","v":1482},{"$f":"RTD(\"cqg.rtd\",,\"StudyData\", \"Vol(\"&$D$12&\") when LocalYear(\"&$D$12&\")=\"&$D$9&\" and localMonth(\"&$D$12&\") =\"&$E$9&\" and LocalDay(\"&$D$12&\")=\"&$F$9&\" and Barix(\"&$D$12&\",reference:=StartOfDay)=\"&A51&\"\", \"Bar\", \"\", \"Close\",\"A5C\",\"0\",\"All\",,,\"False\",\"T\",\"EveryTick\")","v":2887},{"$f":"RTD(\"cqg.rtd\",,\"StudyData\", \"Vol(\"&$D$12&\") when LocalYear(\"&$D$12&\")=\"&$D$10&\" and localMonth(\"&$D$12&\") =\"&$E$10&\" and LocalDay(\"&$D$12&\")=\"&$F$10&\" and Barix(\"&$D$12&\",reference:=StartOfDay)=\"&A51&\"\", \"Bar\", \"\", \"Close\",\"A5C\",\"0\",\"All\",,,\"False\",\"T\",\"EveryTick\")","v":1477},{"$f":"IF(H51>(1+(MainDisplay!$O$24/100))*I51,H51,NA())","v":{"$error":"#N/A"}}]
[147,{"$f":"Sheet3!B52","v":"05:15:00"},null,null,null,"ULA",96,{"$f":"RTD(\"cqg.rtd\",,\"StudyData\", \"Vol(\"&$D$12&\") when LocalYear(\"&$D$12&\")=\"&$D$1&\" and localMonth(\"&$D$12&\") =\"&$E$1&\" and LocalDay(\"&$D$12&\")=\"&$F$1&\" and Barix(\"&$D$12&\",reference:=StartOfDay)=\"&A52&\"\", \"Bar\", \"\", \"Close\",\"A5C\",\"0\",\"All\",,,\"False\",\"T\",\"EveryTick\")","v":2242},1618.8888888888889,{"$f":"RTD(\"cqg.rtd\",,\"StudyData\", \"Vol(\"&$D$12&\") when LocalYear(\"&$D$12&\")=\"&$D$2&\" and localMonth(\"&$D$12&\") =\"&$E$2&\" and LocalDay(\"&$D$12&\")=\"&$F$2&\" and Barix(\"&$D$12&\",reference:=StartOfDay)=\"&A52&\"\", \"Bar\", \"\", \"Close\",\"A5C\",\"0\",\"All\",,,\"False\",\"T\",\"EveryTick\")","v":1707},{"$f":"RTD(\"cqg.rtd\",,\"StudyData\", \"Vol(\"&$D$12&\") when LocalYear(\"&$D$12&\")=\"&$D$3&\" and localMonth(\"&$D$12&\") =\"&$E$3&\" and LocalDay(\"&$D$12&\")=\"&$F$3&\" and Barix(\"&$D$12&\",reference:=StartOfDay)=\"&A52&\"\", \"Bar\", \"\", \"Close\",\"A5C\",\"0\",\"All\",,,\"False\",\"T\",\"EveryTick\")","v":473},{"$f":"RTD(\"cqg.rtd\",,\"StudyData\", \"Vol(\"&$D$12&\") when LocalYear(\"&$D$12&\")=\"&$D$4&\" and localMonth(\"&$D$12&\") =\"&$E$4&\" and LocalDay(\"&$D$12&\")=\"&$F$4&\" and Barix(\"&$D$12&\",reference:=StartOfDay)=\"&A52&\"\", \"Bar\", \"\", \"Close\",\"A5C\",\"0\",\"All\",,,\"False\",\"T\",\"EveryTick\")","v":1111},{"$f":"RTD(\"cqg.rtd\",,\"StudyData\", \"Vol(\"&$D$12&\") when LocalYear(\"&$D$12&\")=\"&$D$5&\" and localMonth(\"&$D$12&\") =\"&$E$5&\" and LocalDay(\"&$D$12&\")=\"&$F$5&\" and Barix(\"&$D$12&\",reference:=StartOfDay)=\"&A52&\"\", \"Bar\", \"\", \"Close\",\"A5C\",\"0\",\"All\",,,\"False\",\"T\",\"EveryTick\")","v":703},{"$f":"RTD(\"cqg.rtd\",,\"StudyData\", \"Vol(\"&$D$12&\") when LocalYear(\"&$D$12&\")=\"&$D$6&\" and localMonth(\"&$D$12&\") =\"&$E$6&\" and LocalDay(\"&$D$12&\")=\"&$F$6&\" and Barix(\"&$D$12&\",reference:=StartOfDay)=\"&A52&\"\", \"Bar\", \"\", \"Close\",\"A5C\",\"0\",\"All\",,,\"False\",\"T\",\"EveryTick\")","v":2841},{"$f":"RTD(\"cqg.rtd\",,\"StudyData\", \"Vol(\"&$D$12&\") when LocalYear(\"&$D$12&\")=\"&$D$7&\" and localMonth(\"&$D$12&\") =\"&$E$7&\" and LocalDay(\"&$D$12&\")=\"&$F$7&\" and Barix(\"&$D$12&\",reference:=StartOfDay)=\"&A52&\"\", \"Bar\", \"\", \"Close\",\"A5C\",\"0\",\"All\",,,\"False\",\"T\",\"EveryTick\")","v":745},{"$f":"RTD(\"cqg.rtd\",,\"StudyData\", \"Vol(\"&$D$12&\") when LocalYear(\"&$D$12&\")=\"&$D$8&\" and localMonth(\"&$D$12&\") =\"&$E$8&\" and LocalDay(\"&$D$12&\")=\"&$F$8&\" and Barix(\"&$D$12&\",reference:=StartOfDay)=\"&A52&\"\", \"Bar\", \"\", \"Close\",\"A5C\",\"0\",\"All\",,,\"False\",\"T\",\"EveryTick\")","v":978},{"$f":"RTD(\"cqg.rtd\",,\"StudyData\", \"Vol(\"&$D$12&\") when LocalYear(\"&$D$12&\")=\"&$D$9&\" and localMonth(\"&$D$12&\") =\"&$E$9&\" and LocalDay(\"&$D$12&\")=\"&$F$9&\" and Barix(\"&$D$12&\",reference:=StartOfDay)=\"&A52&\"\", \"Bar\", \"\", \"Close\",\"A5C\",\"0\",\"All\",,,\"False\",\"T\",\"EveryTick\")","v":4054},{"$f":"RTD(\"cqg.rtd\",,\"StudyData\", \"Vol(\"&$D$12&\") when LocalYear(\"&$D$12&\")=\"&$D$10&\" and localMonth(\"&$D$12&\") =\"&$E$10&\" and LocalDay(\"&$D$12&\")=\"&$F$10&\" and Barix(\"&$D$12&\",reference:=StartOfDay)=\"&A52&\"\", \"Bar\", \"\", \"Close\",\"A5C\",\"0\",\"All\",,,\"False\",\"T\",\"EveryTick\")","v":1958},{"$f":"IF(H52>(1+(MainDisplay!$O$24/100))*I52,H52,NA())","v":2242}]
[148,{"$f":"Sheet3!B53","v":"05:20:00"},null,null,null,"USA",96,{"$f":"RTD(\"cqg.rtd\",,\"StudyData\", \"Vol(\"&$D$12&\") when LocalYear(\"&$D$12&\")=\"&$D$1&\" and localMonth(\"&$D$12&\") =\"&$E$1&\" and LocalDay(\"&$D$12&\")=\"&$F$1&\" and Barix(\"&$D$12&\",reference:=StartOfDay)=\"&A53&\"\", \"Bar\", \"\", \"Close\",\"A5C\",\"0\",\"All\",,,\"False\",\"T\",\"EveryTick\")","v":1798},1819.6666666666667,{"$f":"RTD(\"cqg.rtd\",,\"StudyData\", \"Vol(\"&$D$12&\") when LocalYear(\"&$D$12&\")=\"&$D$2&\" and localMonth(\"&$D$12&\") =\"&$E$2&\" and LocalDay(\"&$D$12&\")=\"&$F$2&\" and Barix(\"&$D$12&\",reference:=StartOfDay)=\"&A53&\"\", \"Bar\", \"\", \"Close\",\"A5C\",\"0\",\"All\",,,\"False\",\"T\",\"EveryTick\")","v":1037},{"$f":"RTD(\"cqg.rtd\",,\"StudyData\", \"Vol(\"&$D$12&\") when LocalYear(\"&$D$12&\")=\"&$D$3&\" and localMonth(\"&$D$12&\") =\"&$E$3&\" and LocalDay(\"&$D$12&\")=\"&$F$3&\" and Barix(\"&$D$12&\",reference:=StartOfDay)=\"&A53&\"\", \"Bar\", \"\", \"Close\",\"A5C\",\"0\",\"All\",,,\"False\",\"T\",\"EveryTick\")","v":439},{"$f":"RTD(\"cqg.rtd\",,\"StudyData\", \"Vol(\"&$D$12&\") when LocalYear(\"&$D$12&\")=\"&$D$4&\" and localMonth(\"&$D$12&\") =\"&$E$4&\" and LocalDay(\"&$D$12&\")=\"&$F$4&\" and Barix(\"&$D$12&\",reference:=StartOfDay)=\"&A53&\"\", \"Bar\", \"\", \"Close\",\"A5C\",\"0\",\"All\",,,\"False\",\"T\",\"EveryTick\")","v":1000},{"$f":"RTD(\"cqg.rtd\",,\"StudyData\", \"Vol(\"&$D$12&\") when LocalYear(\"&$D$12&\")=\"&$D$5&\" and localMonth(\"&$D$12&\") =\"&$E$5&\" and LocalDay(\"&$D$12&\")=\"&$F$5&\" and Barix(\"&$D$12&\",reference:=StartOfDay)=\"&A53&\"\", \"Bar\", \"\", \"Close\",\"A5C\",\"0\",\"All\",,,\"False\",\"T\",\"EveryTick\")","v":1224},{"$f":"RTD(\"cqg.rtd\",,\"StudyData\", \"Vol(\"&$D$12&\") when LocalYear(\"&$D$12&\")=\"&$D$6&\" and localMonth(\"&$D$12&\") =\"&$E$6&\" and LocalDay(\"&$D$12&\")=\"&$F$6&\" and Barix(\"&$D$12&\",reference:=StartOfDay)=\"&A53&\"\", \"Bar\", \"\", \"Close\",\"A5C\",\"0\",\"All\",,,\"False\",\"T\",\"EveryTick\")","v":2175},{"$f":"RTD(\"cqg.rtd\",,\"StudyData\", \"Vol(\"&$D$12&\") when LocalYear(\"&$D$12&\")=\"&$D$7&\" and localMonth(\"&$D$12&\") =\"&$E$7&\" and LocalDay(\"&$D$12&\")=\"&$F$7&\" and Barix(\"&$D$12&\",reference:=StartOfDay)=\"&A53&\"\", \"Bar\", \"\", \"Close\",\"A5C\",\"0\",\"All\",,,\"False\",\"T\",\"EveryTick\")","v":908},{"$f":"RTD(\"cqg.rtd\",,\"StudyData\", \"Vol(\"&$D$12&\") when LocalYear(\"&$D$12&\")=\"&$D$8&\" and localMonth(\"&$D$12&\") =\"&$E$8&\" and LocalDay(\"&$D$12&\")=\"&$F$8&\" and Barix(\"&$D$12&\",reference:=StartOfDay)=\"&A53&\"\", \"Bar\", \"\", \"Close\",\"A5C\",\"0\",\"All\",,,\"False\",\"T\",\"EveryTick\")","v":2387},{"$f":"RTD(\"cqg.rtd\",,\"StudyData\", \"Vol(\"&$D$12&\") when LocalYear(\"&$D$12&\")=\"&$D$9&\" and localMonth(\"&$D$12&\") =\"&$E$9&\" and LocalDay(\"&$D$12&\")=\"&$F$9&\" and Barix(\"&$D$12&\",reference:=StartOfDay)=\"&A53&\"\", \"Bar\", \"\", \"Close\",\"A5C\",\"0\",\"All\",,,\"False\",\"T\",\"EveryTick\")","v":3018},{"$f":"RTD(\"cqg.rtd\",,\"StudyData\", \"Vol(\"&$D$12&\") when LocalYear(\"&$D$12&\")=\"&$D$10&\" and localMonth(\"&$D$12&\") =\"&$E$10&\" and LocalDay(\"&$D$12&\")=\"&$F$10&\" and Barix(\"&$D$12&\",reference:=StartOfDay)=\"&A53&\"\", \"Bar\", \"\", \"Close\",\"A5C\",\"0\",\"All\",,,\"False\",\"T\",\"EveryTick\")","v":4189},{"$f":"IF(H53>(1+(MainDisplay!$O$24/100))*I53,H53,NA())","v":{"$error":"#N/A"}}]
[149,{"$f":"Sheet3!B54","v":"05:25:00"},null,null,null,"TYA",96,{"$f":"RTD(\"cqg.rtd\",,\"StudyData\", \"Vol(\"&$D$12&\") when LocalYear(\"&$D$12&\")=\"&$D$1&\" and localMonth(\"&$D$12&\") =\"&$E$1&\" and LocalDay(\"&$D$12&\")=\"&$F$1&\" and Barix(\"&$D$12&\",reference:=StartOfDay)=\"&A54&\"\", \"Bar\", \"\", \"Close\",\"A5C\",\"0\",\"All\",,,\"False\",\"T\",\"EveryTick\")","v":953},1596.6666666666667,{"$f":"RTD(\"cqg.rtd\",,\"StudyData\", \"Vol(\"&$D$12&\") when LocalYear(\"&$D$12&\")=\"&$D$2&\" and localMonth(\"&$D$12&\") =\"&$E$2&\" and LocalDay(\"&$D$12&\")=\"&$F$2&\" and Barix(\"&$D$12&\",reference:=StartOfDay)=\"&A54&\"\", \"Bar\", \"\", \"Close\",\"A5C\",\"0\",\"All\",,,\"False\",\"T\",\"EveryTick\")","v":2947},{"$f":"RTD(\"cqg.rtd\",,\"StudyData\", \"Vol(\"&$D$12&\") when LocalYear(\"&$D$12&\")=\"&$D$3&\" and localMonth(\"&$D$12&\") =\"&$E$3&\" and LocalDay(\"&$D$12&\")=\"&$F$3&\" and Barix(\"&$D$12&\",reference:=StartOfDay)=\"&A54&\"\", \"Bar\", \"\", \"Close\",\"A5C\",\"0\",\"All\",,,\"False\",\"T\",\"EveryTick\")","v":1171},{"$f":"RTD(\"cqg.rtd\",,\"StudyData\", \"Vol(\"&$D$12&\") when LocalYear(\"&$D$12&\")=\"&$D$4&\" and localMonth(\"&$D$12&\") =\"&$E$4&\" and LocalDay(\"&$D$12&\")=\"&$F$4&\" and Barix(\"&$D$12&\",reference:=StartOfDay)=\"&A54&\"\", \"Bar\", \"\", \"Close\",\"A5C\",\"0\",\"All\",,,\"False\",\"T\",\"EveryTick\")","v":1197},{"$f":"RTD(\"cqg.rtd\",,\"StudyData\", \"Vol(\"&$D$12&\") when LocalYear(\"&$D$12&\")=\"&$D$5&\" and localMonth(\"&$D$12&\") =\"&$E$5&\" and LocalDay(\"&$D$12&\")=\"&$F$5&\" and Barix(\"&$D$12&\",reference:=StartOfDay)=\"&A54&\"\", \"Bar\", \"\", \"Close\",\"A5C\",\"0\",\"All\",,,\"False\",\"T\",\"EveryTick\")","v":863},{"$f":"RTD(\"cqg.rtd\",,\"StudyData\", \"Vol(\"&$D$12&\") when LocalYear(\"&$D$12&\")=\"&$D$6&\" and localMonth(\"&$D$12&\") =\"&$E$6&\" and LocalDay(\"&$D$12&\")=\"&$F$6&\" and Barix(\"&$D$12&\",reference:=StartOfDay)=\"&A54&\"\", \"Bar\", \"\", \"Close\",\"A5C\",\"0\",\"All\",,,\"False\",\"T\",\"EveryTick\")","v":1610},{"$f":"RTD(\"cqg.rtd\",,\"StudyData\", \"Vol(\"&$D$12&\") when LocalYear(\"&$D$12&\")=\"&$D$7&\" and localMonth(\"&$D$12&\") =\"&$E$7&\" and LocalDay(\"&$D$12&\")=\"&$F$7&\" and Barix(\"&$D$12&\",reference:=StartOfDay)=\"&A54&\"\", \"Bar\", \"\", \"Close\",\"A5C\",\"0\",\"All\",,,\"False\",\"T\",\"EveryTick\")","v":1072},{"$f":"RTD(\"cqg.rtd\",,\"StudyData\", \"Vol(\"&$D$12&\") when LocalYear(\"&$D$12&\")=\"&$D$8&\" and localMonth(\"&$D$12&\") =\"&$E$8&\" and LocalDay(\"&$D$12&\")=\"&$F$8&\" and Barix(\"&$D$12&\",reference:=StartOfDay)=\"&A54&\"\", \"Bar\", \"\", \"Close\",\"A5C\",\"0\",\"All\",,,\"False\",\"T\",\"EveryTick\")","v":959},{"$f":"RTD(\"cqg.rtd\",,\"StudyData\", \"Vol(\"&$D$12&\") when LocalYear(\"&$D$12&\")=\"&$D$9&\" and localMonth(\"&$D$12&\") =\"&$E$9&\" and LocalDay(\"&$D$12&\")=\"&$F$9&\" and Barix(\"&$D$12&\",reference:=StartOfDay)=\"&A54&\"\", \"Bar\", \"\", \"Close\",\"A5C\",\"0\",\"All\",,,\"False\",\"T\",\"EveryTick\")","v":2436},{"$f":"RTD(\"cqg.rtd\",,\"StudyData\", \"Vol(\"&$D$12&\") when LocalYear(\"&$D$12&\")=\"&$D$10&\" and localMonth(\"&$D$12&\") =\"&$E$10&\" and LocalDay(\"&$D$12&\")=\"&$F$10&\" and Barix(\"&$D$12&\",reference:=StartOfDay)=\"&A54&\"\", \"Bar\", \"\", \"Close\",\"A5C\",\"0\",\"All\",,,\"False\",\"T\",\"EveryTick\")","v":2115},{"$f":"IF(H54>(1+(MainDisplay!$O$24/100))*I54,H54,NA())","v":{"$error":"#N/A"}}]
[150,{"$f":"Sheet3!B55","v":"05:30:00"},null,null,null,"TNA",96,{"$f":"RTD(\"cqg.rtd\",,\"StudyData\", \"Vol(\"&$D$12&\") when LocalYear(\"&$D$12&\")=\"&$D$1&\" and localMonth(\"&$D$12&\") =\"&$E$1&\" and LocalDay(\"&$D$12&\")=\"&$F$1&\" and Barix(\"&$D$12&\",reference:=StartOfDay)=\"&A55&\"\", \"Bar\", \"\", \"Close\",\"A5C\",\"0\",\"All\",,,\"False\",\"T\",\"EveryTick\")","v":1047},1692.3333333333333,{"$f":"RTD(\"cqg.rtd\",,\"StudyData\", \"Vol(\"&$D$12&\") when LocalYear(\"&$D$12&\")=\"&$D$2&\" and localMonth(\"&$D$12&\") =\"&$E$2&\" and LocalDay(\"&$D$12&\")=\"&$F$2&\" and Barix(\"&$D$12&\",reference:=StartOfDay)=\"&A55&\"\", \"Bar\", \"\", \"Close\",\"A5C\",\"0\",\"All\",,,\"False\",\"T\",\"EveryTick\")","v":1047},{"$f":"RTD(\"cqg.rtd\",,\"StudyData\", \"Vol(\"&$D$12&\") when LocalYear(\"&$D$12&\")=\"&$D$3&\" and localMonth(\"&$D$12&\") =\"&$E$3&\" and LocalDay(\"&$D$12&\")=\"&$F$3&\" and Barix(\"&$D$12&\",reference:=StartOfDay)=\"&A55&\"\", \"Bar\", \"\", \"Close\",\"A5C\",\"0\",\"All\",,,\"False\",\"T\",\"EveryTick\")","v":941},{"$f":"RTD(\"cqg.rtd\",,\"StudyData\", \"Vol(\"&$D$12&\") when LocalYear(\"&$D$12&\")=\"&$D$4&\" and localMonth(\"&$D$12&\") =\"&$E$4&\" and LocalDay(\"&$D$12&\")=\"&$F$4&\" and Barix(\"&$D$12&\",reference:=StartOfDay)=\"&A55&\"\", \"Bar\", \"\", \"Close\",\"A5C\",\"0\",\"All\",,,\"False\",\"T\",\"EveryTick\")","v":1356},{"$f":"RTD(\"cqg.rtd\",,\"StudyData\", \"Vol(\"&$D$12&\") when LocalYear(\"&$D$12&\")=\"&$D$5&\" and localMonth(\"&$D$12&\") =\"&$E$5&\" and LocalDay(\"&$D$12&\")=\"&$F$5&\" and Barix(\"&$D$12&\",reference:=StartOfDay)=\"&A55&\"\", \"Bar\", \"\", \"Close\",\"A5C\",\"0\",\"All\",,,\"False\",\"T\",\"EveryTick\")","v":905},{"$f":"RTD(\"cqg.rtd\",,\"StudyData\", \"Vol(\"&$D$12&\") when LocalYear(\"&$D$12&\")=\"&$D$6&\" and localMonth(\"&$D$12&\") =\"&$E$6&\" and LocalDay(\"&$D$12&\")=\"&$F$6&\" and Barix(\"&$D$12&\",reference:=StartOfDay)=\"&A55&\"\", \"Bar\", \"\", \"Close\",\"A5C\",\"0\",\"All\",,,\"False\",\"T\",\"EveryTick\")","v":1953},{"$f":"RTD(\"cqg.rtd\",,\"StudyData\", \"Vol(\"&$D$12&\") when LocalYear(\"&$D$12&\")=\"&$D$7&\" and localMonth(\"&$D$12&\") =\"&$E$7&\" and LocalDay(\"&$D$12&\")=\"&$F$7&\" and Barix(\"&$D$12&\",reference:=StartOfDay)=\"&A55&\"\", \"Bar\", \"\", \"Close\",\"A5C\",\"0\",\"All\",,,\"False\",\"T\",\"EveryTick\")","v":2027},{"$f":"RTD(\"cqg.rtd\",,\"StudyData\", \"Vol(\"&$D$12&\") when LocalYear(\"&$D$12&\")=\"&$D$8&\" and localMonth(\"&$D$12&\") =\"&$E$8&\" and LocalDay(\"&$D$12&\")=\"&$F$8&\" and Barix(\"&$D$12&\",reference:=StartOfDay)=\"&A55&\"\", \"Bar\", \"\", \"Close\",\"A5C\",\"0\",\"All\",,,\"False\",\"T\",\"EveryTick\")","v":710},{"$f":"RTD(\"cqg.rtd\",,\"StudyData\", \"Vol(\"&$D$12&\") when LocalYear(\"&$D$12&\")=\"&$D$9&\" and localMonth(\"&$D$12&\") =\"&$E$9&\" and LocalDay(\"&$D$12&\")=\"&$F$9&\" and Barix(\"&$D$12&\",reference:=StartOfDay)=\"&A55&\"\", \"Bar\", \"\", \"Close\",\"A5C\",\"0\",\"All\",,,\"False\",\"T\",\"EveryTick\")","v":4308},{"$f":"RTD(\"cqg.rtd\",,\"StudyData\", \"Vol(\"&$D$12&\") when LocalYear(\"&$D$12&\")=\"&$D$10&\" and localMonth(\"&$D$12&\") =\"&$E$10&\" and LocalDay(\"&$D$12&\")=\"&$F$10&\" and Barix(\"&$D$12&\",reference:=StartOfDay)=\"&A55&\"\", \"Bar\", \"\", \"Close\",\"A5C\",\"0\",\"All\",,,\"False\",\"T\",\"EveryTick\")","v":1984},{"$f":"IF(H55>(1+(MainDisplay!$O$24/100))*I55,H55,NA())","v":{"$error":"#N/A"}}]
[151,{"$f":"Sheet3!B56","v":"05:35:00"},null,null,null,"FVA",96,{"$f":"RTD(\"cqg.rtd\",,\"StudyData\", \"Vol(\"&$D$12&\") when LocalYear(\"&$D$12&\")=\"&$D$1&\" and localMonth(\"&$D$12&\") =\"&$E$1&\" and LocalDay(\"&$D$12&\")=\"&$F$1&\" and Barix(\"&$D$12&\",reference:=StartOfDay)=\"&A56&\"\", \"Bar\", \"\", \"Close\",\"A5C\",\"0\",\"All\",,,\"False\",\"T\",\"EveryTick\")","v":1745},1350,{"$f":"RTD(\"cqg.rtd\",,\"StudyData\", \"Vol(\"&$D$12&\") when LocalYear(\"&$D$12&\")=\"&$D$2&\" and localMonth(\"&$D$12&\") =\"&$E$2&\" and LocalDay(\"&$D$12&\")=\"&$F$2&\" and Barix(\"&$D$12&\",reference:=StartOfDay)=\"&A56&\"\", \"Bar\", \"\", \"Close\",\"A5C\",\"0\",\"All\",,,\"False\",\"T\",\"EveryTick\")","v":818},{"$f":"RTD(\"cqg.rtd\",,\"StudyData\", \"Vol(\"&$D$12&\") when LocalYear(\"&$D$12&\")=\"&$D$3&\" and localMonth(\"&$D$12&\") =\"&$E$3&\" and LocalDay(\"&$D$12&\")=\"&$F$3&\" and Barix(\"&$D$12&\",reference:=StartOfDay)=\"&A56&\"\", \"Bar\", \"\", \"Close\",\"A5C\",\"0\",\"All\",,,\"False\",\"T\",\"EveryTick\")","v":1161},{"$f":"RTD(\"cqg.rtd\",,\"StudyData\", \"Vol(\"&$D$12&\") when LocalYear(\"&$D$12&\")=\"&$D$4&\" and localMonth(\"&$D$12&\") =\"&$E$4&\" and LocalDay(\"&$D$12&\")=\"&$F$4&\" and Barix(\"&$D$12&\",reference:=StartOfDay)=\"&A56&\"\", \"Bar\", \"\", \"Close\",\"A5C\",\"0\",\"All\",,,\"False\",\"T\",\"EveryTick\")","v":902},{"$f":"RTD(\"cqg.rtd\",,\"StudyData\", \"Vol(\"&$D$12&\") when LocalYear(\"&$D$12&\")=\"&$D$5&\" and localMonth(\"&$D$12&\") =\"&$E$5&\" and LocalDay(\"&$D$12&\")=\"&$F$5&\" and Barix(\"&$D$12&\",reference:=StartOfDay)=\"&A56&\"\", \"Bar\", \"\", \"Close\",\"A5C\",\"0\",\"All\",,,\"False\",\"T\",\"EveryTick\")","v":919},{"$f":"RTD(\"cqg.rtd\",,\"StudyData\", \"Vol(\"&$D$12&\") when LocalYear(\"&$D$12&\")=\"&$D$6&\" and localMonth(\"&$D$12&\") =\"&$E$6&\" and LocalDay(\"&$D$12&\")=\"&$F$6&\" and Barix(\"&$D$12&\",reference:=StartOfDay)=\"&A56&\"\", \"Bar\", \"\", \"Close\",\"A5C\",\"0\",\"All\",,,\"False\",\"T\",\"EveryTick\")","v":1498},{"$f":"RTD(\"cqg.rtd\",,\"StudyData\", \"Vol(\"&$D$12&\") when LocalYear(\"&$D$12&\")=\"&$D$7&\" and localMonth(\"&$D$12&\") =\"&$E$7&\" and LocalDay(\"&$D$12&\")=\"&$F$7&\" and Barix(\"&$D$12&\",reference:=StartOfDay)=\"&A56&\"\", \"Bar\", \"\", \"Close\",\"A5C\",\"0\",\"All\",,,\"False\",\"T\",\"EveryTick\")","v":1267},{"$f":"RTD(\"cqg.rtd\",,\"StudyData\", \"Vol(\"&$D$12&\") when LocalYear(\"&$D$12&\")=\"&$D$8&\" and localMonth(\"&$D$12&\") =\"&$E$8&\" and LocalDay(\"&$D$12&\")=\"&$F$8&\" and Barix(\"&$D$12&\",reference:=StartOfDay)=\"&A56&\"\", \"Bar\", \"\", \"Close\",\"A5C\",\"0\",\"All\",,,\"False\",\"T\",\"EveryTick\")","v":1025},{"$f":"RTD(\"cqg.rtd\",,\"StudyData\", \"Vol(\"&$D$12&\") when LocalYear(\"&$D$12&\")=\"&$D$9&\" and localMonth(\"&$D$12&\") =\"&$E$9&\" and LocalDay(\"&$D$12&\")=\"&$F$9&\" and Barix(\"&$D$12&\",reference:=StartOfDay)=\"&A56&\"\", \"Bar\", \"\", \"Close\",\"A5C\",\"0\",\"All\",,,\"False\",\"T\",\"EveryTick\")","v":1473},{"$f":"RTD(\"cqg.rtd\",,\"StudyData\", \"Vol(\"&$D$12&\") when LocalYear(\"&$D$12&\")=\"&$D$10&\" and localMonth(\"&$D$12&\") =\"&$E$10&\" and LocalDay(\"&$D$12&\")=\"&$F$10&\" and Barix(\"&$D$12&\",reference:=StartOfDay)=\"&A56&\"\", \"Bar\", \"\", \"Close\",\"A5C\",\"0\",\"All\",,,\"False\",\"T\",\"EveryTick\")","v":3087},{"$f":"IF(H56>(1+(MainDisplay!$O$24/100))*I56,H56,NA())","v":1745}]
[152,{"$f":"Sheet3!B57","v":"05:40:00"},null,null,null,"TUA",96,{"$f":"RTD(\"cqg.rtd\",,\"StudyData\", \"Vol(\"&$D$12&\") when LocalYear(\"&$D$12&\")=\"&$D$1&\" and localMonth(\"&$D$12&\") =\"&$E$1&\" and LocalDay(\"&$D$12&\")=\"&$F$1&\" and Barix(\"&$D$12&\",reference:=StartOfDay)=\"&A57&\"\", \"Bar\", \"\", \"Close\",\"A5C\",\"0\",\"All\",,,\"False\",\"T\",\"EveryTick\")","v":1074},1214.6666666666667,{"$f":"RTD(\"cqg.rtd\",,\"StudyData\", \"Vol(\"&$D$12&\") when LocalYear(\"&$D$12&\")=\"&$D$2&\" and localMonth(\"&$D$12&\") =\"&$E$2&\" and LocalDay(\"&$D$12&\")=\"&$F$2&\" and Barix(\"&$D$12&\",reference:=StartOfDay)=\"&A57&\"\", \"Bar\", \"\", \"Close\",\"A5C\",\"0\",\"All\",,,\"False\",\"T\",\"EveryTick\")","v":1066},{"$f":"RTD(\"cqg.rtd\",,\"StudyData\", \"Vol(\"&$D$12&\") when LocalYear(\"&$D$12&\")=\"&$D$3&\" and localMonth(\"&$D$12&\") =\"&$E$3&\" and LocalDay(\"&$D$12&\")=\"&$F$3&\" and Barix(\"&$D$12&\",reference:=StartOfDay)=\"&A57&\"\", \"Bar\", \"\", \"Close\",\"A5C\",\"0\",\"All\",,,\"False\",\"T\",\"EveryTick\")","v":1189},{"$f":"RTD(\"cqg.rtd\",,\"StudyData\", \"Vol(\"&$D$12&\") when LocalYear(\"&$D$12&\")=\"&$D$4&\" and localMonth(\"&$D$12&\") =\"&$E$4&\" and LocalDay(\"&$D$12&\")=\"&$F$4&\" and Barix(\"&$D$12&\",reference:=StartOfDay)=\"&A57&\"\", \"Bar\", \"\", \"Close\",\"A5C\",\"0\",\"All\",,,\"False\",\"T\",\"EveryTick\")","v":659},{"$f":"RTD(\"cqg.rtd\",,\"StudyData\", \"Vol(\"&$D$12&\") when LocalYear(\"&$D$12&\")=\"&$D$5&\" and localMonth(\"&$D$12&\") =\"&$E$5&\" and LocalDay(\"&$D$12&\")=\"&$F$5&\" and Barix(\"&$D$12&\",reference:=StartOfDay)=\"&A57&\"\", \"Bar\", \"\", \"Close\",\"A5C\",\"0\",\"All\",,,\"False\",\"T\",\"EveryTick\")","v":1047},{"$f":"RTD(\"cqg.rtd\",,\"StudyData\", \"Vol(\"&$D$12&\") when LocalYear(\"&$D$12&\")=\"&$D$6&\" and localMonth(\"&$D$12&\") =\"&$E$6&\" and LocalDay(\"&$D$12&\")=\"&$F$6&\" and Barix(\"&$D$12&\",reference:=StartOfDay)=\"&A57&\"\", \"Bar\", \"\", \"Close\",\"A5C\",\"0\",\"All\",,,\"False\",\"T\",\"EveryTick\")","v":1477},{"$f":"RTD(\"cqg.rtd\",,\"StudyData\", \"Vol(\"&$D$12&\") when LocalYear(\"&$D$12&\")=\"&$D$7&\" and localMonth(\"&$D$12&\") =\"&$E$7&\" and LocalDay(\"&$D$12&\")=\"&$F$7&\" and Barix(\"&$D$12&\",reference:=StartOfDay)=\"&A57&\"\", \"Bar\", \"\", \"Close\",\"A5C\",\"0\",\"All\",,,\"False\",\"T\",\"EveryTick\")","v":1182},{"$f":"RTD(\"cqg.rtd\",,\"StudyData\", \"Vol(\"&$D$12&\") when LocalYear(\"&$D$12&\")=\"&$D$8&\" and localMonth(\"&$D$12&\") =\"&$E$8&\" and LocalDay(\"&$D$12&\")=\"&$F$8&\" and Barix(\"&$D$12&\",reference:=StartOfDay)=\"&A57&\"\", \"Bar\", \"\", \"Close\",\"A5C\",\"0\",\"All\",,,\"False\",\"T\",\"EveryTick\")","v":1845},{"$f":"RTD(\"cqg.rtd\",,\"StudyData\", \"Vol(\"&$D$12&\") when LocalYear(\"&$D$12&\")=\"&$D$9&\" and localMonth(\"&$D$12&\") =\"&$E$9&\" and LocalDay(\"&$D$12&\")=\"&$F$9&\" and Barix(\"&$D$12&\",reference:=StartOfDay)=\"&A57&\"\", \"Bar\", \"\", \"Close\",\"A5C\",\"0\",\"All\",,,\"False\",\"T\",\"EveryTick\")","v":1630},{"$f":"RTD(\"cqg.rtd\",,\"StudyData\", \"Vol(\"&$D$12&\") when LocalYear(\"&$D$12&\")=\"&$D$10&\" and localMonth(\"&$D$12&\") =\"&$E$10&\" and LocalDay(\"&$D$12&\")=\"&$F$10&\" and Barix(\"&$D$12&\",reference:=StartOfDay)=\"&A57&\"\", \"Bar\", \"\", \"Close\",\"A5C\",\"0\",\"All\",,,\"False\",\"T\",\"EveryTick\")","v":837},{"$f":"IF(H57>(1+(MainDisplay!$O$24/100))*I57,H57,NA())","v":{"$error":"#N/A"}}]
[153,{"$f":"Sheet3!B58","v":"05:45:00"},null,null,null,"FGBX",69,{"$f":"RTD(\"cqg.rtd\",,\"StudyData\", \"Vol(\"&$D$12&\") when LocalYear(\"&$D$12&\")=\"&$D$1&\" and localMonth(\"&$D$12&\") =\"&$E$1&\" and LocalDay(\"&$D$12&\")=\"&$F$1&\" and Barix(\"&$D$12&\",reference:=StartOfDay)=\"&A58&\"\", \"Bar\", \"\", \"Close\",\"A5C\",\"0\",\"All\",,,\"False\",\"T\",\"EveryTick\")","v":1073},1682.1111111111111,{"$f":"RTD(\"cqg.rtd\",,\"StudyData\", \"Vol(\"&$D$12&\") when LocalYear(\"&$D$12&\")=\"&$D$2&\" and localMonth(\"&$D$12&\") =\"&$E$2&\" and LocalDay(\"&$D$12&\")=\"&$F$2&\" and Barix(\"&$D$12&\",reference:=StartOfDay)=\"&A58&\"\", \"Bar\", \"\", \"Close\",\"A5C\",\"0\",\"All\",,,\"False\",\"T\",\"EveryTick\")","v":873},{"$f":"RTD(\"cqg.rtd\",,\"StudyData\", \"Vol(\"&$D$12&\") when LocalYear(\"&$D$12&\")=\"&$D$3&\" and localMonth(\"&$D$12&\") =\"&$E$3&\" and LocalDay(\"&$D$12&\")=\"&$F$3&\" and Barix(\"&$D$12&\",reference:=StartOfDay)=\"&A58&\"\", \"Bar\", \"\", \"Close\",\"A5C\",\"0\",\"All\",,,\"False\",\"T\",\"EveryTick\")","v":3125},{"$f":"RTD(\"cqg.rtd\",,\"StudyData\", \"Vol(\"&$D$12&\") when LocalYear(\"&$D$12&\")=\"&$D$4&\" and localMonth(\"&$D$12&\") =\"&$E$4&\" and LocalDay(\"&$D$12&\")=\"&$F$4&\" and Barix(\"&$D$12&\",reference:=StartOfDay)=\"&A58&\"\", \"Bar\", \"\", \"Close\",\"A5C\",\"0\",\"All\",,,\"False\",\"T\",\"EveryTick\")","v":867},{"$f":"RTD(\"cqg.rtd\",,\"StudyData\", \"Vol(\"&$D$12&\") when LocalYear(\"&$D$12&\")=\"&$D$5&\" and localMonth(\"&$D$12&\") =\"&$E$5&\" and LocalDay(\"&$D$12&\")=\"&$F$5&\" and Barix(\"&$D$12&\",reference:=StartOfDay)=\"&A58&\"\", \"Bar\", \"\", \"Close\",\"A5C\",\"0\",\"All\",,,\"False\",\"T\",\"EveryTick\")","v":1098},{"$f":"RTD(\"cqg.rtd\",,\"StudyData\", \"Vol(\"&$D$12&\") when LocalYear(\"&$D$12&\")=\"&$D$6&\" and localMonth(\"&$D$12&\") =\"&$E$6&\" and LocalDay(\"&$D$12&\")=\"&$F$6&\" and Barix(\"&$D$12&\",reference:=StartOfDay)=\"&A58&\"\", \"Bar\", \"\", \"Close\",\"A5C\",\"0\",\"All\",,,\"False\",\"T\",\"EveryTick\")","v":1945},{"$f":"RTD(\"cqg.rtd\",,\"StudyData\", \"Vol(\"&$D$12&\") when LocalYear(\"&$D$12&\")=\"&$D$7&\" and localMonth(\"&$D$12&\") =\"&$E$7&\" and LocalDay(\"&$D$12&\")=\"&$F$7&\" and Barix(\"&$D$12&\",reference:=StartOfDay)=\"&A58&\"\", \"Bar\", \"\", \"Close\",\"A5C\",\"0\",\"All\",,,\"False\",\"T\",\"EveryTick\")","v":1731},{"$f":"RTD(\"cqg.rtd\",,\"StudyData\", \"Vol(\"&$D$12&\") when LocalYear(\"&$D$12&\")=\"&$D$8&\" and localMonth(\"&$D$12&\") =\"&$E$8&\" and LocalDay(\"&$D$12&\")=\"&$F$8&\" and Barix(\"&$D$12&\",reference:=StartOfDay)=\"&A58&\"\", \"Bar\", \"\", \"Close\",\"A5C\",\"0\",\"All\",,,\"False\",\"T\",\"EveryTick\")","v":1180},{"$f":"RTD(\"cqg.rtd\",,\"StudyData\", \"Vol(\"&$D$12&\") when LocalYear(\"&$D$12&\")=\"&$D$9&\" and localMonth(\"&$D$12&\") =\"&$E$9&\" and LocalDay(\"&$D$12&\")=\"&$F$9&\" and Barix(\"&$D$12&\",reference:=StartOfDay)=\"&A58&\"\", \"Bar\", \"\", \"Close\",\"A5C\",\"0\",\"All\",,,\"False\",\"T\",\"EveryTick\")","v":1851},{"$f":"RTD(\"cqg.rtd\",,\"StudyData\", \"Vol(\"&$D$12&\") when LocalYear(\"&$D$12&\")=\"&$D$10&\" and localMonth(\"&$D$12&\") =\"&$E$10&\" and LocalDay(\"&$D$12&\")=\"&$F$10&\" and Barix(\"&$D$12&\",reference:=StartOfDay)=\"&A58&\"\", \"Bar\", \"\", \"Close\",\"A5C\",\"0\",\"All\",,,\"False\",\"T\",\"EveryTick\")","v":2469},{"$f":"IF(H58>(1+(MainDisplay!$O$24/100))*I58,H58,NA())","v":{"$error":"#N/A"}}]
[154,{"$f":"Sheet3!B59","v":"05:50:00"},null,null,null,"DB",69,{"$f":"RTD(\"cqg.rtd\",,\"StudyData\", \"Vol(\"&$D$12&\") when LocalYear(\"&$D$12&\")=\"&$D$1&\" and localMonth(\"&$D$12&\") =\"&$E$1&\" and LocalDay(\"&$D$12&\")=\"&$F$1&\" and Barix(\"&$D$12&\",reference:=StartOfDay)=\"&A59&\"\", \"Bar\", \"\", \"Close\",\"A5C\",\"0\",\"All\",,,\"False\",\"T\",\"EveryTick\")","v":1321},1629.4444444444443,{"$f":"RTD(\"cqg.rtd\",,\"StudyData\", \"Vol(\"&$D$12&\") when LocalYear(\"&$D$12&\")=\"&$D$2&\" and localMonth(\"&$D$12&\") =\"&$E$2&\" and LocalDay(\"&$D$12&\")=\"&$F$2&\" and Barix(\"&$D$12&\",reference:=StartOfDay)=\"&A59&\"\", \"Bar\", \"\", \"Close\",\"A5C\",\"0\",\"All\",,,\"False\",\"T\",\"EveryTick\")","v":1530},{"$f":"RTD(\"cqg.rtd\",,\"StudyData\", \"Vol(\"&$D$12&\") when LocalYear(\"&$D$12&\")=\"&$D$3&\" and localMonth(\"&$D$12&\") =\"&$E$3&\" and LocalDay(\"&$D$12&\")=\"&$F$3&\" and Barix(\"&$D$12&\",reference:=StartOfDay)=\"&A59&\"\", \"Bar\", \"\", \"Close\",\"A5C\",\"0\",\"All\",,,\"False\",\"T\",\"EveryTick\")","v":2193},{"$f":"RTD(\"cqg.rtd\",,\"StudyData\", \"Vol(\"&$D$12&\") when LocalYear(\"&$D$12&\")=\"&$D$4&\" and localMonth(\"&$D$12&\") =\"&$E$4&\" and LocalDay(\"&$D$12&\")=\"&$F$4&\" and Barix(\"&$D$12&\",reference:=StartOfDay)=\"&A59&\"\", \"Bar\", \"\", \"Close\",\"A5C\",\"0\",\"All\",,,\"False\",\"T\",\"EveryTick\")","v":725},{"$f":"RTD(\"cqg.rtd\",,\"StudyData\", \"Vol(\"&$D$12&\") when LocalYear(\"&$D$12&\")=\"&$D$5&\" and localMonth(\"&$D$12&\") =\"&$E$5&\" and LocalDay(\"&$D$12&\")=\"&$F$5&\" and Barix(\"&$D$12&\",reference:=StartOfDay)=\"&A59&\"\", \"Bar\", \"\", \"Close\",\"A5C\",\"0\",\"All\",,,\"False\",\"T\",\"EveryTick\")","v":1829},{"$f":"RTD(\"cqg.rtd\",,\"StudyData\", \"Vol(\"&$D$12&\") when LocalYear(\"&$D$12&\")=\"&$D$6&\" and localMonth(\"&$D$12&\") =\"&$E$6&\" and LocalDay(\"&$D$12&\")=\"&$F$6&\" and Barix(\"&$D$12&\",reference:=StartOfDay)=\"&A59&\"\", \"Bar\", \"\", \"Close\",\"A5C\",\"0\",\"All\",,,\"False\",\"T\",\"EveryTick\")","v":1249},{"$f":"RTD(\"cqg.rtd\",,\"StudyData\", \"Vol(\"&$D$12&\") when LocalYear(\"&$D$12&\")=\"&$D$7&\" and localMonth(\"&$D$12&\") =\"&$E$7&\" and LocalDay(\"&$D$12&\")=\"&$F$7&\" and Barix(\"&$D$12&\",reference:=StartOfDay)=\"&A59&\"\", \"Bar\", \"\", \"Close\",\"A5C\",\"0\",\"All\",,,\"False\",\"T\",\"EveryTick\")","v":2031},{"$f":"RTD(\"cqg.rtd\",,\"StudyData\", \"Vol(\"&$D$12&\") when LocalYear(\"&$D$12&\")=\"&$D$8&\" and localMonth(\"&$D$12&\") =\"&$E$8&\" and LocalDay(\"&$D$12&\")=\"&$F$8&\" and Barix(\"&$D$12&\",reference:=StartOfDay)=\"&A59&\"\", \"Bar\", \"\", \"Close\",\"A5C\",\"0\",\"All\",,,\"False\",\"T\",\"EveryTick\")","v":839},{"$f":"RTD(\"cqg.rtd\",,\"StudyData\", \"Vol(\"&$D$12&\") when LocalYear(\"&$D$12&\")=\"&$D$9&\" and localMonth(\"&$D$12&\") =\"&$E$9&\" and LocalDay(\"&$D$12&\")=\"&$F$9&\" and Barix(\"&$D$12&\",reference:=StartOfDay)=\"&A59&\"\", \"Bar\", \"\", \"Close\",\"A5C\",\"0\",\"All\",,,\"False\",\"T\",\"EveryTick\")","v":1816},{"$f":"RTD(\"cqg.rtd\",,\"StudyData\", \"Vol(\"&$D$12&\") when LocalYear(\"&$D$12&\")=\"&$D$10&\" and localMonth(\"&$D$12&\") =\"&$E$10&\" and LocalDay(\"&$D$12&\")=\"&$F$10&\" and Barix(\"&$D$12&\",reference:=StartOfDay)=\"&A59&\"\", \"Bar\", \"\", \"Close\",\"A5C\",\"0\",\"All\",,,\"False\",\"T\",\"EveryTick\")","v":2453},{"$f":"IF(H59>(1+(MainDisplay!$O$24/100))*I59,H59,NA())","v":{"$error":"#N/A"}}]
[155,{"$f":"Sheet3!B60","v":"05:55:00"},null,null,null,"DL",69,{"$f":"RTD(\"cqg.rtd\",,\"StudyData\", \"Vol(\"&$D$12&\") when LocalYear(\"&$D$12&\")=\"&$D$1&\" and localMonth(\"&$D$12&\") =\"&$E$1&\" and LocalDay(\"&$D$12&\")=\"&$F$1&\" and Barix(\"&$D$12&\",reference:=StartOfDay)=\"&A60&\"\", \"Bar\", \"\", \"Close\",\"A5C\",\"0\",\"All\",,,\"False\",\"T\",\"EveryTick\")","v":2146},2111.4444444444443,{"$f":"RTD(\"cqg.rtd\",,\"StudyData\", \"Vol(\"&$D$12&\") when LocalYear(\"&$D$12&\")=\"&$D$2&\" and localMonth(\"&$D$12&\") =\"&$E$2&\" and LocalDay(\"&$D$12&\")=\"&$F$2&\" and Barix(\"&$D$12&\",reference:=StartOfDay)=\"&A60&\"\", \"Bar\", \"\", \"Close\",\"A5C\",\"0\",\"All\",,,\"False\",\"T\",\"EveryTick\")","v":2344},{"$f":"RTD(\"cqg.rtd\",,\"StudyData\", \"Vol(\"&$D$12&\") when LocalYear(\"&$D$12&\")=\"&$D$3&\" and localMonth(\"&$D$12&\") =\"&$E$3&\" and LocalDay(\"&$D$12&\")=\"&$F$3&\" and Barix(\"&$D$12&\",reference:=StartOfDay)=\"&A60&\"\", \"Bar\", \"\", \"Close\",\"A5C\",\"0\",\"All\",,,\"False\",\"T\",\"EveryTick\")","v":1546},{"$f":"RTD(\"cqg.rtd\",,\"StudyData\", \"Vol(\"&$D$12&\") when LocalYear(\"&$D$12&\")=\"&$D$4&\" and localMonth(\"&$D$12&\") =\"&$E$4&\" and LocalDay(\"&$D$12&\")=\"&$F$4&\" and Barix(\"&$D$12&\",reference:=StartOfDay)=\"&A60&\"\", \"Bar\", \"\", \"Close\",\"A5C\",\"0\",\"All\",,,\"False\",\"T\",\"EveryTick\")","v":1333},{"$f":"RTD(\"cqg.rtd\",,\"StudyData\", \"Vol(\"&$D$12&\") when LocalYear(\"&$D$12&\")=\"&$D$5&\" and localMonth(\"&$D$12&\") =\"&$E$5&\" and LocalDay(\"&$D$12&\")=\"&$F$5&\" and Barix(\"&$D$12&\",reference:=StartOfDay)=\"&A60&\"\", \"Bar\", \"\", \"Close\",\"A5C\",\"0\",\"All\",,,\"False\",\"T\",\"EveryTick\")","v":3669},{"$f":"RTD(\"cqg.rtd\",,\"StudyData\", \"Vol(\"&$D$12&\") when LocalYear(\"&$D$12&\")=\"&$D$6&\" and localMonth(\"&$D$12&\") =\"&$E$6&\" and LocalDay(\"&$D$12&\")=\"&$F$6&\" and Barix(\"&$D$12&\",reference:=StartOfDay)=\"&A60&\"\", \"Bar\", \"\", \"Close\",\"A5C\",\"0\",\"All\",,,\"False\",\"T\",\"EveryTick\")","v":2013},{"$f":"RTD(\"cqg.rtd\",,\"StudyData\", \"Vol(\"&$D$12&\") when LocalYear(\"&$D$12&\")=\"&$D$7&\" and localMonth(\"&$D$12&\") =\"&$E$7&\" and LocalDay(\"&$D$12&\")=\"&$F$7&\" and Barix(\"&$D$12&\",reference:=StartOfDay)=\"&A60&\"\", \"Bar\", \"\", \"Close\",\"A5C\",\"0\",\"All\",,,\"False\",\"T\",\"EveryTick\")","v":2927},{"$f":"RTD(\"cqg.rtd\",,\"StudyData\", \"Vol(\"&$D$12&\") when LocalYear(\"&$D$12&\")=\"&$D$8&\" and localMonth(\"&$D$12&\") =\"&$E$8&\" and LocalDay(\"&$D$12&\")=\"&$F$8&\" and Barix(\"&$D$12&\",reference:=StartOfDay)=\"&A60&\"\", \"Bar\", \"\", \"Close\",\"A5C\",\"0\",\"All\",,,\"False\",\"T\",\"EveryTick\")","v":1672},{"$f":"RTD(\"cqg.rtd\",,\"StudyData\", \"Vol(\"&$D$12&\") when LocalYear(\"&$D$12&\")=\"&$D$9&\" and localMonth(\"&$D$12&\") =\"&$E$9&\" and LocalDay(\"&$D$12&\")=\"&$F$9&\" and Barix(\"&$D$12&\",reference:=StartOfDay)=\"&A60&\"\", \"Bar\", \"\", \"Close\",\"A5C\",\"0\",\"All\",,,\"False\",\"T\",\"EveryTick\")","v":2382},{"$f":"RTD(\"cqg.rtd\",,\"StudyData\", \"Vol(\"&$D$12&\") when LocalYear(\"&$D$12&\")=\"&$D$10&\" and localMonth(\"&$D$12&\") =\"&$E$10&\" and LocalDay(\"&$D$12&\")=\"&$F$10&\" and Barix(\"&$D$12&\",reference:=StartOfDay)=\"&A60&\"\", \"Bar\", \"\", \"Close\",\"A5C\",\"0\",\"All\",,,\"False\",\"T\",\"EveryTick\")","v":1117},{"$f":"IF(H60>(1+(MainDisplay!$O$24/100))*I60,H60,NA())","v":{"$error":"#N/A"}}]
[156,{"$f":"Sheet3!B61","v":"06:00:00"},null,null,null,"DG",69,{"$f":"RTD(\"cqg.rtd\",,\"StudyData\", \"Vol(\"&$D$12&\") when LocalYear(\"&$D$12&\")=\"&$D$1&\" and localMonth(\"&$D$12&\") =\"&$E$1&\" and LocalDay(\"&$D$12&\")=\"&$F$1&\" and Barix(\"&$D$12&\",reference:=StartOfDay)=\"&A61&\"\", \"Bar\", \"\", \"Close\",\"A5C\",\"0\",\"All\",,,\"False\",\"T\",\"EveryTick\")","v":2027},3360.8888888888887,{"$f":"RTD(\"cqg.rtd\",,\"StudyData\", \"Vol(\"&$D$12&\") when LocalYear(\"&$D$12&\")=\"&$D$2&\" and localMonth(\"&$D$12&\") =\"&$E$2&\" and LocalDay(\"&$D$12&\")=\"&$F$2&\" and Barix(\"&$D$12&\",reference:=StartOfDay)=\"&A61&\"\", \"Bar\", \"\", \"Close\",\"A5C\",\"0\",\"All\",,,\"False\",\"T\",\"EveryTick\")","v":1677},{"$f":"RTD(\"cqg.rtd\",,\"StudyData\", \"Vol(\"&$D$12&\") when LocalYear(\"&$D$12&\")=\"&$D$3&\" and localMonth(\"&$D$12&\") =\"&$E$3&\" and LocalDay(\"&$D$12&\")=\"&$F$3&\" and Barix(\"&$D$12&\",reference:=StartOfDay)=\"&A61&\"\", \"Bar\", \"\", \"Close\",\"A5C\",\"0\",\"All\",,,\"False\",\"T\",\"EveryTick\")","v":1547},{"$f":"RTD(\"cqg.rtd\",,\"StudyData\", \"Vol(\"&$D$12&\") when LocalYear(\"&$D$12&\")=\"&$D$4&\" and localMonth(\"&$D$12&\") =\"&$E$4&\" and LocalDay(\"&$D$12&\")=\"&$F$4&\" and Barix(\"&$D$12&\",reference:=StartOfDay)=\"&A61&\"\", \"Bar\", \"\", \"Close\",\"A5C\",\"0\",\"All\",,,\"False\",\"T\",\"EveryTick\")","v":2115},{"$f":"RTD(\"cqg.rtd\",,\"StudyData\", \"Vol(\"&$D$12&\") when LocalYear(\"&$D$12&\")=\"&$D$5&\" and localMonth(\"&$D$12&\") =\"&$E$5&\" and LocalDay(\"&$D$12&\")=\"&$F$5&\" and Barix(\"&$D$12&\",reference:=StartOfDay)=\"&A61&\"\", \"Bar\", \"\", \"Close\",\"A5C\",\"0\",\"All\",,,\"False\",\"T\",\"EveryTick\")","v":7139},{"$f":"RTD(\"cqg.rtd\",,\"StudyData\", \"Vol(\"&$D$12&\") when LocalYear(\"&$D$12&\")=\"&$D$6&\" and localMonth(\"&$D$12&\") =\"&$E$6&\" and LocalDay(\"&$D$12&\")=\"&$F$6&\" and Barix(\"&$D$12&\",reference:=StartOfDay)=\"&A61&\"\", \"Bar\", \"\", \"Close\",\"A5C\",\"0\",\"All\",,,\"False\",\"T\",\"EveryTick\")","v":6097},{"$f":"RTD(\"cqg.rtd\",,\"StudyData\", \"Vol(\"&$D$12&\") when LocalYear(\"&$D$12&\")=\"&$D$7&\" and localMonth(\"&$D$12&\") =\"&$E$7&\" and LocalDay(\"&$D$12&\")=\"&$F$7&\" and Barix(\"&$D$12&\",reference:=StartOfDay)=\"&A61&\"\", \"Bar\", \"\", \"Close\",\"A5C\",\"0\",\"All\",,,\"False\",\"T\",\"EveryTick\")","v":3352},{"$f":"RTD(\"cqg.rtd\",,\"StudyData\", \"Vol(\"&$D$12&\") when LocalYear(\"&$D$12&\")=\"&$D$8&\" and localMonth(\"&$D$12&\") =\"&$E$8&\" and LocalDay(\"&$D$12&\")=\"&$F$8&\" and Barix(\"&$D$12&\",reference:=StartOfDay)=\"&A61&\"\", \"Bar\", \"\", \"Close\",\"A5C\",\"0\",\"All\",,,\"False\",\"T\",\"EveryTick\")","v":1630},{"$f":"RTD(\"cqg.rtd\",,\"StudyData\", \"Vol(\"&$D$12&\") when LocalYear(\"&$D$12&\")=\"&$D$9&\" and localMonth(\"&$D$12&\") =\"&$E$9&\" and LocalDay(\"&$D$12&\")=\"&$F$9&\" and Barix(\"&$D$12&\",reference:=StartOfDay)=\"&A61&\"\", \"Bar\", \"\", \"Close\",\"A5C\",\"0\",\"All\",,,\"False\",\"T\",\"EveryTick\")","v":4650},{"$f":"RTD(\"cqg.rtd\",,\"StudyData\", \"Vol(\"&$D$12&\") when LocalYear(\"&$D$12&\")=\"&$D$10&\" and localMonth(\"&$D$12&\") =\"&$E$10&\" and LocalDay(\"&$D$12&\")=\"&$F$10&\" and Barix(\"&$D$12&\",reference:=StartOfDay)=\"&A61&\"\", \"Bar\", \"\", \"Close\",\"A5C\",\"0\",\"All\",,,\"False\",\"T\",\"EveryTick\")","v":2041},{"$f":"IF(H61>(1+(MainDisplay!$O$24/100))*I61,H61,NA())","v":{"$error":"#N/A"}}]
[157,{"$f":"Sheet3!B62","v":"06:05:00"},null,null,null,"FOAT",0,{"$f":"RTD(\"cqg.rtd\",,\"StudyData\", \"Vol(\"&$D$12&\") when LocalYear(\"&$D$12&\")=\"&$D$1&\" and localMonth(\"&$D$12&\") =\"&$E$1&\" and LocalDay(\"&$D$12&\")=\"&$F$1&\" and Barix(\"&$D$12&\",reference:=StartOfDay)=\"&A62&\"\", \"Bar\", \"\", \"Close\",\"A5C\",\"0\",\"All\",,,\"False\",\"T\",\"EveryTick\")","v":1799},2251.1111111111113,{"$f":"RTD(\"cqg.rtd\",,\"StudyData\", \"Vol(\"&$D$12&\") when LocalYear(\"&$D$12&\")=\"&$D$2&\" and localMonth(\"&$D$12&\") =\"&$E$2&\" and LocalDay(\"&$D$12&\")=\"&$F$2&\" and Barix(\"&$D$12&\",reference:=StartOfDay)=\"&A62&\"\", \"Bar\", \"\", \"Close\",\"A5C\",\"0\",\"All\",,,\"False\",\"T\",\"EveryTick\")","v":922},{"$f":"RTD(\"cqg.rtd\",,\"StudyData\", \"Vol(\"&$D$12&\") when LocalYear(\"&$D$12&\")=\"&$D$3&\" and localMonth(\"&$D$12&\") =\"&$E$3&\" and LocalDay(\"&$D$12&\")=\"&$F$3&\" and Barix(\"&$D$12&\",reference:=StartOfDay)=\"&A62&\"\", \"Bar\", \"\", \"Close\",\"A5C\",\"0\",\"All\",,,\"False\",\"T\",\"EveryTick\")","v":1203},{"$f":"RTD(\"cqg.rtd\",,\"StudyData\", \"Vol(\"&$D$12&\") when LocalYear(\"&$D$12&\")=\"&$D$4&\" and localMonth(\"&$D$12&\") =\"&$E$4&\" and LocalDay(\"&$D$12&\")=\"&$F$4&\" and Barix(\"&$D$12&\",reference:=StartOfDay)=\"&A62&\"\", \"Bar\", \"\", \"Close\",\"A5C\",\"0\",\"All\",,,\"False\",\"T\",\"EveryTick\")","v":1311},{"$f":"RTD(\"cqg.rtd\",,\"StudyData\", \"Vol(\"&$D$12&\") when LocalYear(\"&$D$12&\")=\"&$D$5&\" and localMonth(\"&$D$12&\") =\"&$E$5&\" and LocalDay(\"&$D$12&\")=\"&$F$5&\" and Barix(\"&$D$12&\",reference:=StartOfDay)=\"&A62&\"\", \"Bar\", \"\", \"Close\",\"A5C\",\"0\",\"All\",,,\"False\",\"T\",\"EveryTick\")","v":2031},{"$f":"RTD(\"cqg.rtd\",,\"StudyData\", \"Vol(\"&$D$12&\") when LocalYear(\"&$D$12&\")=\"&$D$6&\" and localMonth(\"&$D$12&\") =\"&$E$6&\" and LocalDay(\"&$D$12&\")=\"&$F$6&\" and Barix(\"&$D$12&\",reference:=StartOfDay)=\"&A62&\"\", \"Bar\", \"\", \"Close\",\"A5C\",\"0\",\"All\",,,\"False\",\"T\",\"EveryTick\")","v":3726},{"$f":"RTD(\"cqg.rtd\",,\"StudyData\", \"Vol(\"&$D$12&\") when LocalYear(\"&$D$12&\")=\"&$D$7&\" and localMonth(\"&$D$12&\") =\"&$E$7&\" and LocalDay(\"&$D$12&\")=\"&$F$7&\" and Barix(\"&$D$12&\",reference:=StartOfDay)=\"&A62&\"\", \"Bar\", \"\", \"Close\",\"A5C\",\"0\",\"All\",,,\"False\",\"T\",\"EveryTick\")","v":2565},{"$f":"RTD(\"cqg.rtd\",,\"StudyData\", \"Vol(\"&$D$12&\") when LocalYear(\"&$D$12&\")=\"&$D$8&\" and localMonth(\"&$D$12&\") =\"&$E$8&\" and LocalDay(\"&$D$12&\")=\"&$F$8&\" and Barix(\"&$D$12&\",reference:=StartOfDay)=\"&A62&\"\", \"Bar\", \"\", \"Close\",\"A5C\",\"0\",\"All\",,,\"False\",\"T\",\"EveryTick\")","v":1206},{"$f":"RTD(\"cqg.rtd\",,\"StudyData\", \"Vol(\"&$D$12&\") when LocalYear(\"&$D$12&\")=\"&$D$9&\" and localMonth(\"&$D$12&\") =\"&$E$9&\" and LocalDay(\"&$D$12&\")=\"&$F$9&\" and Barix(\"&$D$12&\",reference:=StartOfDay)=\"&A62&\"\", \"Bar\", \"\", \"Close\",\"A5C\",\"0\",\"All\",,,\"False\",\"T\",\"EveryTick\")","v":5881},{"$f":"RTD(\"cqg.rtd\",,\"StudyData\", \"Vol(\"&$D$12&\") when LocalYear(\"&$D$12&\")=\"&$D$10&\" and localMonth(\"&$D$12&\") =\"&$E$10&\" and LocalDay(\"&$D$12&\")=\"&$F$10&\" and Barix(\"&$D$12&\",reference:=StartOfDay)=\"&A62&\"\", \"Bar\", \"\", \"Close\",\"A5C\",\"0\",\"All\",,,\"False\",\"T\",\"EveryTick\")","v":1415},{"$f":"IF(H62>(1+(MainDisplay!$O$24/100))*I62,H62,NA())","v":{"$error":"#N/A"}}]
[158,{"$f":"Sheet3!B63","v":"06:10:00"},null,null,null,"QGA",0,{"$f":"RTD(\"cqg.rtd\",,\"StudyData\", \"Vol(\"&$D$12&\") when LocalYear(\"&$D$12&\")=\"&$D$1&\" and localMonth(\"&$D$12&\") =\"&$E$1&\" and LocalDay(\"&$D$12&\")=\"&$F$1&\" and Barix(\"&$D$12&\",reference:=StartOfDay)=\"&A63&\"\", \"Bar\", \"\", \"Close\",\"A5C\",\"0\",\"All\",,,\"False\",\"T\",\"EveryTick\")","v":1605},2237.2222222222222,{"$f":"RTD(\"cqg.rtd\",,\"StudyData\", \"Vol(\"&$D$12&\") when LocalYear(\"&$D$12&\")=\"&$D$2&\" and localMonth(\"&$D$12&\") =\"&$E$2&\" and LocalDay(\"&$D$12&\")=\"&$F$2&\" and Barix(\"&$D$12&\",reference:=StartOfDay)=\"&A63&\"\", \"Bar\", \"\", \"Close\",\"A5C\",\"0\",\"All\",,,\"False\",\"T\",\"EveryTick\")","v":727},{"$f":"RTD(\"cqg.rtd\",,\"StudyData\", \"Vol(\"&$D$12&\") when LocalYear(\"&$D$12&\")=\"&$D$3&\" and localMonth(\"&$D$12&\") =\"&$E$3&\" and LocalDay(\"&$D$12&\")=\"&$F$3&\" and Barix(\"&$D$12&\",reference:=StartOfDay)=\"&A63&\"\", \"Bar\", \"\", \"Close\",\"A5C\",\"0\",\"All\",,,\"False\",\"T\",\"EveryTick\")","v":1753},{"$f":"RTD(\"cqg.rtd\",,\"StudyData\", \"Vol(\"&$D$12&\") when LocalYear(\"&$D$12&\")=\"&$D$4&\" and localMonth(\"&$D$12&\") =\"&$E$4&\" and LocalDay(\"&$D$12&\")=\"&$F$4&\" and Barix(\"&$D$12&\",reference:=StartOfDay)=\"&A63&\"\", \"Bar\", \"\", \"Close\",\"A5C\",\"0\",\"All\",,,\"False\",\"T\",\"EveryTick\")","v":777},{"$f":"RTD(\"cqg.rtd\",,\"StudyData\", \"Vol(\"&$D$12&\") when LocalYear(\"&$D$12&\")=\"&$D$5&\" and localMonth(\"&$D$12&\") =\"&$E$5&\" and LocalDay(\"&$D$12&\")=\"&$F$5&\" and Barix(\"&$D$12&\",reference:=StartOfDay)=\"&A63&\"\", \"Bar\", \"\", \"Close\",\"A5C\",\"0\",\"All\",,,\"False\",\"T\",\"EveryTick\")","v":1966},{"$f":"RTD(\"cqg.rtd\",,\"StudyData\", \"Vol(\"&$D$12&\") when LocalYear(\"&$D$12&\")=\"&$D$6&\" and localMonth(\"&$D$12&\") =\"&$E$6&\" and LocalDay(\"&$D$12&\")=\"&$F$6&\" and Barix(\"&$D$12&\",reference:=StartOfDay)=\"&A63&\"\", \"Bar\", \"\", \"Close\",\"A5C\",\"0\",\"All\",,,\"False\",\"T\",\"EveryTick\")","v":5702},{"$f":"RTD(\"cqg.rtd\",,\"StudyData\", \"Vol(\"&$D$12&\") when LocalYear(\"&$D$12&\")=\"&$D$7&\" and localMonth(\"&$D$12&\") =\"&$E$7&\" and LocalDay(\"&$D$12&\")=\"&$F$7&\" and Barix(\"&$D$12&\",reference:=StartOfDay)=\"&A63&\"\", \"Bar\", \"\", \"Close\",\"A5C\",\"0\",\"All\",,,\"False\",\"T\",\"EveryTick\")","v":1027},{"$f":"RTD(\"cqg.rtd\",,\"StudyData\", \"Vol(\"&$D$12&\") when LocalYear(\"&$D$12&\")=\"&$D$8&\" and localMonth(\"&$D$12&\") =\"&$E$8&\" and LocalDay(\"&$D$12&\")=\"&$F$8&\" and Barix(\"&$D$12&\",reference:=StartOfDay)=\"&A63&\"\", \"Bar\", \"\", \"Close\",\"A5C\",\"0\",\"All\",,,\"False\",\"T\",\"EveryTick\")","v":2737},{"$f":"RTD(\"cqg.rtd\",,\"StudyData\", \"Vol(\"&$D$12&\") when LocalYear(\"&$D$12&\")=\"&$D$9&\" and localMonth(\"&$D$12&\") =\"&$E$9&\" and LocalDay(\"&$D$12&\")=\"&$F$9&\" and Barix(\"&$D$12&\",reference:=StartOfDay)=\"&A63&\"\", \"Bar\", \"\", \"Close\",\"A5C\",\"0\",\"All\",,,\"False\",\"T\",\"EveryTick\")","v":3635},{"$f":"RTD(\"cqg.rtd\",,\"StudyData\", \"Vol(\"&$D$12&\") when LocalYear(\"&$D$12&\")=\"&$D$10&\" and localMonth(\"&$D$12&\") =\"&$E$10&\" and LocalDay(\"&$D$12&\")=\"&$F$10&\" and Barix(\"&$D$12&\",reference:=StartOfDay)=\"&A63&\"\", \"Bar\", \"\", \"Close\",\"A5C\",\"0\",\"All\",,,\"False\",\"T\",\"EveryTick\")","v":1811},{"$f":"IF(H63>(1+(MainDisplay!$O$24/100))*I63,H63,NA())","v":{"$error":"#N/A"}}]
[159,{"$f":"Sheet3!B64","v":"06:15:00"},null,null,null,null,null,{"$f":"RTD(\"cqg.rtd\",,\"StudyData\", \"Vol(\"&$D$12&\") when LocalYear(\"&$D$12&\")=\"&$D$1&\" and localMonth(\"&$D$12&\") =\"&$E$1&\" and LocalDay(\"&$D$12&\")=\"&$F$1&\" and Barix(\"&$D$12&\",reference:=StartOfDay)=\"&A64&\"\", \"Bar\", \"\", \"Close\",\"A5C\",\"0\",\"All\",,,\"False\",\"T\",\"EveryTick\")","v":1749},2943.5555555555557,{"$f":"RTD(\"cqg.rtd\",,\"StudyData\", \"Vol(\"&$D$12&\") when LocalYear(\"&$D$12&\")=\"&$D$2&\" and localMonth(\"&$D$12&\") =\"&$E$2&\" and LocalDay(\"&$D$12&\")=\"&$F$2&\" and Barix(\"&$D$12&\",reference:=StartOfDay)=\"&A64&\"\", \"Bar\", \"\", \"Close\",\"A5C\",\"0\",\"All\",,,\"False\",\"T\",\"EveryTick\")","v":911},{"$f":"RTD(\"cqg.rtd\",,\"StudyData\", \"Vol(\"&$D$12&\") when LocalYear(\"&$D$12&\")=\"&$D$3&\" and localMonth(\"&$D$12&\") =\"&$E$3&\" and LocalDay(\"&$D$12&\")=\"&$F$3&\" and Barix(\"&$D$12&\",reference:=StartOfDay)=\"&A64&\"\", \"Bar\", \"\", \"Close\",\"A5C\",\"0\",\"All\",,,\"False\",\"T\",\"EveryTick\")","v":2204},{"$f":"RTD(\"cqg.rtd\",,\"StudyData\", \"Vol(\"&$D$12&\") when LocalYear(\"&$D$12&\")=\"&$D$4&\" and localMonth(\"&$D$12&\") =\"&$E$4&\" and LocalDay(\"&$D$12&\")=\"&$F$4&\" and Barix(\"&$D$12&\",reference:=StartOfDay)=\"&A64&\"\", \"Bar\", \"\", \"Close\",\"A5C\",\"0\",\"All\",,,\"False\",\"T\",\"EveryTick\")","v":1116},{"$f":"RTD(\"cqg.rtd\",,\"StudyData\", \"Vol(\"&$D$12&\") when LocalYear(\"&$D$12&\")=\"&$D$5&\" and localMonth(\"&$D$12&\") =\"&$E$5&\" and LocalDay(\"&$D$12&\")=\"&$F$5&\" and Barix(\"&$D$12&\",reference:=StartOfDay)=\"&A64&\"\", \"Bar\", \"\", \"Close\",\"A5C\",\"0\",\"All\",,,\"False\",\"T\",\"EveryTick\")","v":3221},{"$f":"RTD(\"cqg.rtd\",,\"StudyData\", \"Vol(\"&$D$12&\") when LocalYear(\"&$D$12&\")=\"&$D$6&\" and localMonth(\"&$D$12&\") =\"&$E$6&\" and LocalDay(\"&$D$12&\")=\"&$F$6&\" and Barix(\"&$D$12&\",reference:=StartOfDay)=\"&A64&\"\", \"Bar\", \"\", \"Close\",\"A5C\",\"0\",\"All\",,,\"False\",\"T\",\"EveryTick\")","v":4581},{"$f":"RTD(\"cqg.rtd\",,\"StudyData\", \"Vol(\"&$D$12&\") when LocalYear(\"&$D$12&\")=\"&$D$7&\" and localMonth(\"&$D$12&\") =\"&$E$7&\" and LocalDay(\"&$D$12&\")=\"&$F$7&\" and Barix(\"&$D$12&\",reference:=StartOfDay)=\"&A64&\"\", \"Bar\", \"\", \"Close\",\"A5C\",\"0\",\"All\",,,\"False\",\"T\",\"EveryTick\")","v":3465},{"$f":"RTD(\"cqg.rtd\",,\"StudyData\", \"Vol(\"&$D$12&\") when LocalYear(\"&$D$12&\")=\"&$D$8&\" and localMonth(\"&$D$12&\") =\"&$E$8&\" and LocalDay(\"&$D$12&\")=\"&$F$8&\" and Barix(\"&$D$12&\",reference:=StartOfDay)=\"&A64&\"\", \"Bar\", \"\", \"Close\",\"A5C\",\"0\",\"All\",,,\"False\",\"T\",\"EveryTick\")","v":1900},{"$f":"RTD(\"cqg.rtd\",,\"StudyData\", \"Vol(\"&$D$12&\") when LocalYear(\"&$D$12&\")=\"&$D$9&\" and localMonth(\"&$D$12&\") =\"&$E$9&\" and LocalDay(\"&$D$12&\")=\"&$F$9&\" and Barix(\"&$D$12&\",reference:=StartOfDay)=\"&A64&\"\", \"Bar\", \"\", \"Close\",\"A5C\",\"0\",\"All\",,,\"False\",\"T\",\"EveryTick\")","v":7322},{"$f":"RTD(\"cqg.rtd\",,\"StudyData\", \"Vol(\"&$D$12&\") when LocalYear(\"&$D$12&\")=\"&$D$10&\" and localMonth(\"&$D$12&\") =\"&$E$10&\" and LocalDay(\"&$D$12&\")=\"&$F$10&\" and Barix(\"&$D$12&\",reference:=StartOfDay)=\"&A64&\"\", \"Bar\", \"\", \"Close\",\"A5C\",\"0\",\"All\",,,\"False\",\"T\",\"EveryTick\")","v":1772},{"$f":"IF(H64>(1+(MainDisplay!$O$24/100))*I64,H64,NA())","v":{"$error":"#N/A"}}]
[160,{"$f":"Sheet3!B65","v":"06:20:00"},null,null,null,null,null,{"$f":"RTD(\"cqg.rtd\",,\"StudyData\", \"Vol(\"&$D$12&\") when LocalYear(\"&$D$12&\")=\"&$D$1&\" and localMonth(\"&$D$12&\") =\"&$E$1&\" and LocalDay(\"&$D$12&\")=\"&$F$1&\" and Barix(\"&$D$12&\",reference:=StartOfDay)=\"&A65&\"\", \"Bar\", \"\", \"Close\",\"A5C\",\"0\",\"All\",,,\"False\",\"T\",\"EveryTick\")","v":941},1978.5555555555557,{"$f":"RTD(\"cqg.rtd\",,\"StudyData\", \"Vol(\"&$D$12&\") when LocalYear(\"&$D$12&\")=\"&$D$2&\" and localMonth(\"&$D$12&\") =\"&$E$2&\" and LocalDay(\"&$D$12&\")=\"&$F$2&\" and Barix(\"&$D$12&\",reference:=StartOfDay)=\"&A65&\"\", \"Bar\", \"\", \"Close\",\"A5C\",\"0\",\"All\",,,\"False\",\"T\",\"EveryTick\")","v":1214},{"$f":"RTD(\"cqg.rtd\",,\"StudyData\", \"Vol(\"&$D$12&\") when LocalYear(\"&$D$12&\")=\"&$D$3&\" and localMonth(\"&$D$12&\") =\"&$E$3&\" and LocalDay(\"&$D$12&\")=\"&$F$3&\" and Barix(\"&$D$12&\",reference:=StartOfDay)=\"&A65&\"\", \"Bar\", \"\", \"Close\",\"A5C\",\"0\",\"All\",,,\"False\",\"T\",\"EveryTick\")","v":1032},{"$f":"RTD(\"cqg.rtd\",,\"StudyData\", \"Vol(\"&$D$12&\") when LocalYear(\"&$D$12&\")=\"&$D$4&\" and localMonth(\"&$D$12&\") =\"&$E$4&\" and LocalDay(\"&$D$12&\")=\"&$F$4&\" and Barix(\"&$D$12&\",reference:=StartOfDay)=\"&A65&\"\", \"Bar\", \"\", \"Close\",\"A5C\",\"0\",\"All\",,,\"False\",\"T\",\"EveryTick\")","v":1961},{"$f":"RTD(\"cqg.rtd\",,\"StudyData\", \"Vol(\"&$D$12&\") when LocalYear(\"&$D$12&\")=\"&$D$5&\" and localMonth(\"&$D$12&\") =\"&$E$5&\" and LocalDay(\"&$D$12&\")=\"&$F$5&\" and Barix(\"&$D$12&\",reference:=StartOfDay)=\"&A65&\"\", \"Bar\", \"\", \"Close\",\"A5C\",\"0\",\"All\",,,\"False\",\"T\",\"EveryTick\")","v":2129},{"$f":"RTD(\"cqg.rtd\",,\"StudyData\", \"Vol(\"&$D$12&\") when LocalYear(\"&$D$12&\")=\"&$D$6&\" and localMonth(\"&$D$12&\") =\"&$E$6&\" and LocalDay(\"&$D$12&\")=\"&$F$6&\" and Barix(\"&$D$12&\",reference:=StartOfDay)=\"&A65&\"\", \"Bar\", \"\", \"Close\",\"A5C\",\"0\",\"All\",,,\"False\",\"T\",\"EveryTick\")","v":2000},{"$f":"RTD(\"cqg.rtd\",,\"StudyData\", \"Vol(\"&$D$12&\") when LocalYear(\"&$D$12&\")=\"&$D$7&\" and localMonth(\"&$D$12&\") =\"&$E$7&\" and LocalDay(\"&$D$12&\")=\"&$F$7&\" and Barix(\"&$D$12&\",reference:=StartOfDay)=\"&A65&\"\", \"Bar\", \"\", \"Close\",\"A5C\",\"0\",\"All\",,,\"False\",\"T\",\"EveryTick\")","v":2110},{"$f":"RTD(\"cqg.rtd\",,\"StudyData\", \"Vol(\"&$D$12&\") when LocalYear(\"&$D$12&\")=\"&$D$8&\" and localMonth(\"&$D$12&\") =\"&$E$8&\" and LocalDay(\"&$D$12&\")=\"&$F$8&\" and Barix(\"&$D$12&\",reference:=StartOfDay)=\"&A65&\"\", \"Bar\", \"\", \"Close\",\"A5C\",\"0\",\"All\",,,\"False\",\"T\",\"EveryTick\")","v":2538},{"$f":"RTD(\"cqg.rtd\",,\"StudyData\", \"Vol(\"&$D$12&\") when LocalYear(\"&$D$12&\")=\"&$D$9&\" and localMonth(\"&$D$12&\") =\"&$E$9&\" and LocalDay(\"&$D$12&\")=\"&$F$9&\" and Barix(\"&$D$12&\",reference:=StartOfDay)=\"&A65&\"\", \"Bar\", \"\", \"Close\",\"A5C\",\"0\",\"All\",,,\"False\",\"T\",\"EveryTick\")","v":3788},{"$f":"RTD(\"cqg.rtd\",,\"StudyData\", \"Vol(\"&$D$12&\") when LocalYear(\"&$D$12&\")=\"&$D$10&\" and localMonth(\"&$D$12&\") =\"&$E$10&\" and LocalDay(\"&$D$12&\")=\"&$F$10&\" and Barix(\"&$D$12&\",reference:=StartOfDay)=\"&A65&\"\", \"Bar\", \"\", \"Close\",\"A5C\",\"0\",\"All\",,,\"False\",\"T\",\"EveryTick\")","v":1035},{"$f":"IF(H65>(1+(MainDisplay!$O$24/100))*I65,H65,NA())","v":{"$error":"#N/A"}}]
[161,{"$f":"Sheet3!B66","v":"06:25:00"},null,null,null,null,null,{"$f":"RTD(\"cqg.rtd\",,\"StudyData\", \"Vol(\"&$D$12&\") when LocalYear(\"&$D$12&\")=\"&$D$1&\" and localMonth(\"&$D$12&\") =\"&$E$1&\" and LocalDay(\"&$D$12&\")=\"&$F$1&\" and Barix(\"&$D$12&\",reference:=StartOfDay)=\"&A66&\"\", \"Bar\", \"\", \"Close\",\"A5C\",\"0\",\"All\",,,\"False\",\"T\",\"EveryTick\")","v":1268},2841.1111111111113,{"$f":"RTD(\"cqg.rtd\",,\"StudyData\", \"Vol(\"&$D$12&\") when LocalYear(\"&$D$12&\")=\"&$D$2&\" and localMonth(\"&$D$12&\") =\"&$E$2&\" and LocalDay(\"&$D$12&\")=\"&$F$2&\" and Barix(\"&$D$12&\",reference:=StartOfDay)=\"&A66&\"\", \"Bar\", \"\", \"Close\",\"A5C\",\"0\",\"All\",,,\"False\",\"T\",\"EveryTick\")","v":2042},{"$f":"RTD(\"cqg.rtd\",,\"StudyData\", \"Vol(\"&$D$12&\") when LocalYear(\"&$D$12&\")=\"&$D$3&\" and localMonth(\"&$D$12&\") =\"&$E$3&\" and LocalDay(\"&$D$12&\")=\"&$F$3&\" and Barix(\"&$D$12&\",reference:=StartOfDay)=\"&A66&\"\", \"Bar\", \"\", \"Close\",\"A5C\",\"0\",\"All\",,,\"False\",\"T\",\"EveryTick\")","v":1578},{"$f":"RTD(\"cqg.rtd\",,\"StudyData\", \"Vol(\"&$D$12&\") when LocalYear(\"&$D$12&\")=\"&$D$4&\" and localMonth(\"&$D$12&\") =\"&$E$4&\" and LocalDay(\"&$D$12&\")=\"&$F$4&\" and Barix(\"&$D$12&\",reference:=StartOfDay)=\"&A66&\"\", \"Bar\", \"\", \"Close\",\"A5C\",\"0\",\"All\",,,\"False\",\"T\",\"EveryTick\")","v":1008},{"$f":"RTD(\"cqg.rtd\",,\"StudyData\", \"Vol(\"&$D$12&\") when LocalYear(\"&$D$12&\")=\"&$D$5&\" and localMonth(\"&$D$12&\") =\"&$E$5&\" and LocalDay(\"&$D$12&\")=\"&$F$5&\" and Barix(\"&$D$12&\",reference:=StartOfDay)=\"&A66&\"\", \"Bar\", \"\", \"Close\",\"A5C\",\"0\",\"All\",,,\"False\",\"T\",\"EveryTick\")","v":2025},{"$f":"RTD(\"cqg.rtd\",,\"StudyData\", \"Vol(\"&$D$12&\") when LocalYear(\"&$D$12&\")=\"&$D$6&\" and localMonth(\"&$D$12&\") =\"&$E$6&\" and LocalDay(\"&$D$12&\")=\"&$F$6&\" and Barix(\"&$D$12&\",reference:=StartOfDay)=\"&A66&\"\", \"Bar\", \"\", \"Close\",\"A5C\",\"0\",\"All\",,,\"False\",\"T\",\"EveryTick\")","v":2958},{"$f":"RTD(\"cqg.rtd\",,\"StudyData\", \"Vol(\"&$D$12&\") when LocalYear(\"&$D$12&\")=\"&$D$7&\" and localMonth(\"&$D$12&\") =\"&$E$7&\" and LocalDay(\"&$D$12&\")=\"&$F$7&\" and Barix(\"&$D$12&\",reference:=StartOfDay)=\"&A66&\"\", \"Bar\", \"\", \"Close\",\"A5C\",\"0\",\"All\",,,\"False\",\"T\",\"EveryTick\")","v":4302},{"$f":"RTD(\"cqg.rtd\",,\"StudyData\", \"Vol(\"&$D$12&\") when LocalYear(\"&$D$12&\")=\"&$D$8&\" and localMonth(\"&$D$12&\") =\"&$E$8&\" and LocalDay(\"&$D$12&\")=\"&$F$8&\" and Barix(\"&$D$12&\",reference:=StartOfDay)=\"&A66&\"\", \"Bar\", \"\", \"Close\",\"A5C\",\"0\",\"All\",,,\"False\",\"T\",\"EveryTick\")","v":1717},{"$f":"RTD(\"cqg.rtd\",,\"StudyData\", \"Vol(\"&$D$12&\") when LocalYear(\"&$D$12&\")=\"&$D$9&\" and localMonth(\"&$D$12&\") =\"&$E$9&\" and LocalDay(\"&$D$12&\")=\"&$F$9&\" and Barix(\"&$D$12&\",reference:=StartOfDay)=\"&A66&\"\", \"Bar\", \"\", \"Close\",\"A5C\",\"0\",\"All\",,,\"False\",\"T\",\"EveryTick\")","v":9366},{"$f":"RTD(\"cqg.rtd\",,\"StudyData\", \"Vol(\"&$D$12&\") when LocalYear(\"&$D$12&\")=\"&$D$10&\" and localMonth(\"&$D$12&\") =\"&$E$10&\" and LocalDay(\"&$D$12&\")=\"&$F$10&\" and Barix(\"&$D$12&\",reference:=StartOfDay)=\"&A66&\"\", \"Bar\", \"\", \"Close\",\"A5C\",\"0\",\"All\",,,\"False\",\"T\",\"EveryTick\")","v":574},{"$f":"IF(H66>(1+(MainDisplay!$O$24/100))*I66,H66,NA())","v":{"$error":"#N/A"}}]
[162,{"$f":"Sheet3!B67","v":"06:30:00"},null,null,null,null,null,{"$f":"RTD(\"cqg.rtd\",,\"StudyData\", \"Vol(\"&$D$12&\") when LocalYear(\"&$D$12&\")=\"&$D$1&\" and localMonth(\"&$D$12&\") =\"&$E$1&\" and LocalDay(\"&$D$12&\")=\"&$F$1&\" and Barix(\"&$D$12&\",reference:=StartOfDay)=\"&A67&\"\", \"Bar\", \"\", \"Close\",\"A5C\",\"0\",\"All\",,,\"False\",\"T\",\"EveryTick\")","v":1412},2448.6666666666665,{"$f":"RTD(\"cqg.rtd\",,\"StudyData\", \"Vol(\"&$D$12&\") when LocalYear(\"&$D$12&\")=\"&$D$2&\" and localMonth(\"&$D$12&\") =\"&$E$2&\" and LocalDay(\"&$D$12&\")=\"&$F$2&\" and Barix(\"&$D$12&\",reference:=StartOfDay)=\"&A67&\"\", \"Bar\", \"\", \"Close\",\"A5C\",\"0\",\"All\",,,\"False\",\"T\",\"EveryTick\")","v":1245},{"$f":"RTD(\"cqg.rtd\",,\"StudyData\", \"Vol(\"&$D$12&\") when LocalYear(\"&$D$12&\")=\"&$D$3&\" and localMonth(\"&$D$12&\") =\"&$E$3&\" and LocalDay(\"&$D$12&\")=\"&$F$3&\" and Barix(\"&$D$12&\",reference:=StartOfDay)=\"&A67&\"\", \"Bar\", \"\", \"Close\",\"A5C\",\"0\",\"All\",,,\"False\",\"T\",\"EveryTick\")","v":876},{"$f":"RTD(\"cqg.rtd\",,\"StudyData\", \"Vol(\"&$D$12&\") when LocalYear(\"&$D$12&\")=\"&$D$4&\" and localMonth(\"&$D$12&\") =\"&$E$4&\" and LocalDay(\"&$D$12&\")=\"&$F$4&\" and Barix(\"&$D$12&\",reference:=StartOfDay)=\"&A67&\"\", \"Bar\", \"\", \"Close\",\"A5C\",\"0\",\"All\",,,\"False\",\"T\",\"EveryTick\")","v":1182},{"$f":"RTD(\"cqg.rtd\",,\"StudyData\", \"Vol(\"&$D$12&\") when LocalYear(\"&$D$12&\")=\"&$D$5&\" and localMonth(\"&$D$12&\") =\"&$E$5&\" and LocalDay(\"&$D$12&\")=\"&$F$5&\" and Barix(\"&$D$12&\",reference:=StartOfDay)=\"&A67&\"\", \"Bar\", \"\", \"Close\",\"A5C\",\"0\",\"All\",,,\"False\",\"T\",\"EveryTick\")","v":4050},{"$f":"RTD(\"cqg.rtd\",,\"StudyData\", \"Vol(\"&$D$12&\") when LocalYear(\"&$D$12&\")=\"&$D$6&\" and localMonth(\"&$D$12&\") =\"&$E$6&\" and LocalDay(\"&$D$12&\")=\"&$F$6&\" and Barix(\"&$D$12&\",reference:=StartOfDay)=\"&A67&\"\", \"Bar\", \"\", \"Close\",\"A5C\",\"0\",\"All\",,,\"False\",\"T\",\"EveryTick\")","v":4587},{"$f":"RTD(\"cqg.rtd\",,\"StudyData\", \"Vol(\"&$D$12&\") when LocalYear(\"&$D$12&\")=\"&$D$7&\" and localMonth(\"&$D$12&\") =\"&$E$7&\" and LocalDay(\"&$D$12&\")=\"&$F$7&\" and Barix(\"&$D$12&\",reference:=StartOfDay)=\"&A67&\"\", \"Bar\", \"\", \"Close\",\"A5C\",\"0\",\"All\",,,\"False\",\"T\",\"EveryTick\")","v":1321},{"$f":"RTD(\"cqg.rtd\",,\"StudyData\", \"Vol(\"&$D$12&\") when LocalYear(\"&$D$12&\")=\"&$D$8&\" and localMonth(\"&$D$12&\") =\"&$E$8&\" and LocalDay(\"&$D$12&\")=\"&$F$8&\" and Barix(\"&$D$12&\",reference:=StartOfDay)=\"&A67&\"\", \"Bar\", \"\", \"Close\",\"A5C\",\"0\",\"All\",,,\"False\",\"T\",\"EveryTick\")","v":1288},{"$f":"RTD(\"cqg.rtd\",,\"StudyData\", \"Vol(\"&$D$12&\") when LocalYear(\"&$D$12&\")=\"&$D$9&\" and localMonth(\"&$D$12&\") =\"&$E$9&\" and LocalDay(\"&$D$12&\")=\"&$F$9&\" and Barix(\"&$D$12&\",reference:=StartOfDay)=\"&A67&\"\", \"Bar\", \"\", \"Close\",\"A5C\",\"0\",\"All\",,,\"False\",\"T\",\"EveryTick\")","v":6198},{"$f":"RTD(\"cqg.rtd\",,\"StudyData\", \"Vol(\"&$D$12&\") when LocalYear(\"&$D$12&\")=\"&$D$10&\" and localMonth(\"&$D$12&\") =\"&$E$10&\" and LocalDay(\"&$D$12&\")=\"&$F$10&\" and Barix(\"&$D$12&\",reference:=StartOfDay)=\"&A67&\"\", \"Bar\", \"\", \"Close\",\"A5C\",\"0\",\"All\",,,\"False\",\"T\",\"EveryTick\")","v":1291},{"$f":"IF(H67>(1+(MainDisplay!$O$24/100))*I67,H67,NA())","v":{"$error":"#N/A"}}]
[163,{"$f":"Sheet3!B68","v":"06:35:00"},null,null,null,null,null,{"$f":"RTD(\"cqg.rtd\",,\"StudyData\", \"Vol(\"&$D$12&\") when LocalYear(\"&$D$12&\")=\"&$D$1&\" and localMonth(\"&$D$12&\") =\"&$E$1&\" and LocalDay(\"&$D$12&\")=\"&$F$1&\" and Barix(\"&$D$12&\",reference:=StartOfDay)=\"&A68&\"\", \"Bar\", \"\", \"Close\",\"A5C\",\"0\",\"All\",,,\"False\",\"T\",\"EveryTick\")","v":2305},2951.5555555555557,{"$f":"RTD(\"cqg.rtd\",,\"StudyData\", \"Vol(\"&$D$12&\") when LocalYear(\"&$D$12&\")=\"&$D$2&\" and localMonth(\"&$D$12&\") =\"&$E$2&\" and LocalDay(\"&$D$12&\")=\"&$F$2&\" and Barix(\"&$D$12&\",reference:=StartOfDay)=\"&A68&\"\", \"Bar\", \"\", \"Close\",\"A5C\",\"0\",\"All\",,,\"False\",\"T\",\"EveryTick\")","v":1377},{"$f":"RTD(\"cqg.rtd\",,\"StudyData\", \"Vol(\"&$D$12&\") when LocalYear(\"&$D$12&\")=\"&$D$3&\" and localMonth(\"&$D$12&\") =\"&$E$3&\" and LocalDay(\"&$D$12&\")=\"&$F$3&\" and Barix(\"&$D$12&\",reference:=StartOfDay)=\"&A68&\"\", \"Bar\", \"\", \"Close\",\"A5C\",\"0\",\"All\",,,\"False\",\"T\",\"EveryTick\")","v":889},{"$f":"RTD(\"cqg.rtd\",,\"StudyData\", \"Vol(\"&$D$12&\") when LocalYear(\"&$D$12&\")=\"&$D$4&\" and localMonth(\"&$D$12&\") =\"&$E$4&\" and LocalDay(\"&$D$12&\")=\"&$F$4&\" and Barix(\"&$D$12&\",reference:=StartOfDay)=\"&A68&\"\", \"Bar\", \"\", \"Close\",\"A5C\",\"0\",\"All\",,,\"False\",\"T\",\"EveryTick\")","v":964},{"$f":"RTD(\"cqg.rtd\",,\"StudyData\", \"Vol(\"&$D$12&\") when LocalYear(\"&$D$12&\")=\"&$D$5&\" and localMonth(\"&$D$12&\") =\"&$E$5&\" and LocalDay(\"&$D$12&\")=\"&$F$5&\" and Barix(\"&$D$12&\",reference:=StartOfDay)=\"&A68&\"\", \"Bar\", \"\", \"Close\",\"A5C\",\"0\",\"All\",,,\"False\",\"T\",\"EveryTick\")","v":3125},{"$f":"RTD(\"cqg.rtd\",,\"StudyData\", \"Vol(\"&$D$12&\") when LocalYear(\"&$D$12&\")=\"&$D$6&\" and localMonth(\"&$D$12&\") =\"&$E$6&\" and LocalDay(\"&$D$12&\")=\"&$F$6&\" and Barix(\"&$D$12&\",reference:=StartOfDay)=\"&A68&\"\", \"Bar\", \"\", \"Close\",\"A5C\",\"0\",\"All\",,,\"False\",\"T\",\"EveryTick\")","v":2388},{"$f":"RTD(\"cqg.rtd\",,\"StudyData\", \"Vol(\"&$D$12&\") when LocalYear(\"&$D$12&\")=\"&$D$7&\" and localMonth(\"&$D$12&\") =\"&$E$7&\" and LocalDay(\"&$D$12&\")=\"&$F$7&\" and Barix(\"&$D$12&\",reference:=StartOfDay)=\"&A68&\"\", \"Bar\", \"\", \"Close\",\"A5C\",\"0\",\"All\",,,\"False\",\"T\",\"EveryTick\")","v":3203},{"$f":"RTD(\"cqg.rtd\",,\"StudyData\", \"Vol(\"&$D$12&\") when LocalYear(\"&$D$12&\")=\"&$D$8&\" and localMonth(\"&$D$12&\") =\"&$E$8&\" and LocalDay(\"&$D$12&\")=\"&$F$8&\" and Barix(\"&$D$12&\",reference:=StartOfDay)=\"&A68&\"\", \"Bar\", \"\", \"Close\",\"A5C\",\"0\",\"All\",,,\"False\",\"T\",\"EveryTick\")","v":1212},{"$f":"RTD(\"cqg.rtd\",,\"StudyData\", \"Vol(\"&$D$12&\") when LocalYear(\"&$D$12&\")=\"&$D$9&\" and localMonth(\"&$D$12&\") =\"&$E$9&\" and LocalDay(\"&$D$12&\")=\"&$F$9&\" and Barix(\"&$D$12&\",reference:=StartOfDay)=\"&A68&\"\", \"Bar\", \"\", \"Close\",\"A5C\",\"0\",\"All\",,,\"False\",\"T\",\"EveryTick\")","v":12148},{"$f":"RTD(\"cqg.rtd\",,\"StudyData\", \"Vol(\"&$D$12&\") when LocalYear(\"&$D$12&\")=\"&$D$10&\" and localMonth(\"&$D$12&\") =\"&$E$10&\" and LocalDay(\"&$D$12&\")=\"&$F$10&\" and Barix(\"&$D$12&\",reference:=StartOfDay)=\"&A68&\"\", \"Bar\", \"\", \"Close\",\"A5C\",\"0\",\"All\",,,\"False\",\"T\",\"EveryTick\")","v":1258},{"$f":"IF(H68>(1+(MainDisplay!$O$24/100))*I68,H68,NA())","v":{"$error":"#N/A"}}]
[164,{"$f":"Sheet3!B69","v":"06:40:00"},null,null,null,null,null,{"$f":"RTD(\"cqg.rtd\",,\"StudyData\", \"Vol(\"&$D$12&\") when LocalYear(\"&$D$12&\")=\"&$D$1&\" and localMonth(\"&$D$12&\") =\"&$E$1&\" and LocalDay(\"&$D$12&\")=\"&$F$1&\" and Barix(\"&$D$12&\",reference:=StartOfDay)=\"&A69&\"\", \"Bar\", \"\", \"Close\",\"A5C\",\"0\",\"All\",,,\"False\",\"T\",\"EveryTick\")","v":2214},2005.1111111111111,{"$f":"RTD(\"cqg.rtd\",,\"StudyData\", \"Vol(\"&$D$12&\") when LocalYear(\"&$D$12&\")=\"&$D$2&\" and localMonth(\"&$D$12&\") =\"&$E$2&\" and LocalDay(\"&$D$12&\")=\"&$F$2&\" and Barix(\"&$D$12&\",reference:=StartOfDay)=\"&A69&\"\", \"Bar\", \"\", \"Close\",\"A5C\",\"0\",\"All\",,,\"False\",\"T\",\"EveryTick\")","v":912},{"$f":"RTD(\"cqg.rtd\",,\"StudyData\", \"Vol(\"&$D$12&\") when LocalYear(\"&$D$12&\")=\"&$D$3&\" and localMonth(\"&$D$12&\") =\"&$E$3&\" and LocalDay(\"&$D$12&\")=\"&$F$3&\" and Barix(\"&$D$12&\",reference:=StartOfDay)=\"&A69&\"\", \"Bar\", \"\", \"Close\",\"A5C\",\"0\",\"All\",,,\"False\",\"T\",\"EveryTick\")","v":713},{"$f":"RTD(\"cqg.rtd\",,\"StudyData\", \"Vol(\"&$D$12&\") when LocalYear(\"&$D$12&\")=\"&$D$4&\" and localMonth(\"&$D$12&\") =\"&$E$4&\" and LocalDay(\"&$D$12&\")=\"&$F$4&\" and Barix(\"&$D$12&\",reference:=StartOfDay)=\"&A69&\"\", \"Bar\", \"\", \"Close\",\"A5C\",\"0\",\"All\",,,\"False\",\"T\",\"EveryTick\")","v":1004},{"$f":"RTD(\"cqg.rtd\",,\"StudyData\", \"Vol(\"&$D$12&\") when LocalYear(\"&$D$12&\")=\"&$D$5&\" and localMonth(\"&$D$12&\") =\"&$E$5&\" and LocalDay(\"&$D$12&\")=\"&$F$5&\" and Barix(\"&$D$12&\",reference:=StartOfDay)=\"&A69&\"\", \"Bar\", \"\", \"Close\",\"A5C\",\"0\",\"All\",,,\"False\",\"T\",\"EveryTick\")","v":1797},{"$f":"RTD(\"cqg.rtd\",,\"StudyData\", \"Vol(\"&$D$12&\") when LocalYear(\"&$D$12&\")=\"&$D$6&\" and localMonth(\"&$D$12&\") =\"&$E$6&\" and LocalDay(\"&$D$12&\")=\"&$F$6&\" and Barix(\"&$D$12&\",reference:=StartOfDay)=\"&A69&\"\", \"Bar\", \"\", \"Close\",\"A5C\",\"0\",\"All\",,,\"False\",\"T\",\"EveryTick\")","v":2889},{"$f":"RTD(\"cqg.rtd\",,\"StudyData\", \"Vol(\"&$D$12&\") when LocalYear(\"&$D$12&\")=\"&$D$7&\" and localMonth(\"&$D$12&\") =\"&$E$7&\" and LocalDay(\"&$D$12&\")=\"&$F$7&\" and Barix(\"&$D$12&\",reference:=StartOfDay)=\"&A69&\"\", \"Bar\", \"\", \"Close\",\"A5C\",\"0\",\"All\",,,\"False\",\"T\",\"EveryTick\")","v":1335},{"$f":"RTD(\"cqg.rtd\",,\"StudyData\", \"Vol(\"&$D$12&\") when LocalYear(\"&$D$12&\")=\"&$D$8&\" and localMonth(\"&$D$12&\") =\"&$E$8&\" and LocalDay(\"&$D$12&\")=\"&$F$8&\" and Barix(\"&$D$12&\",reference:=StartOfDay)=\"&A69&\"\", \"Bar\", \"\", \"Close\",\"A5C\",\"0\",\"All\",,,\"False\",\"T\",\"EveryTick\")","v":1159},{"$f":"RTD(\"cqg.rtd\",,\"StudyData\", \"Vol(\"&$D$12&\") when LocalYear(\"&$D$12&\")=\"&$D$9&\" and localMonth(\"&$D$12&\") =\"&$E$9&\" and LocalDay(\"&$D$12&\")=\"&$F$9&\" and Barix(\"&$D$12&\",reference:=StartOfDay)=\"&A69&\"\", \"Bar\", \"\", \"Close\",\"A5C\",\"0\",\"All\",,,\"False\",\"T\",\"EveryTick\")","v":4714},{"$f":"RTD(\"cqg.rtd\",,\"StudyData\", \"Vol(\"&$D$12&\") when LocalYear(\"&$D$12&\")=\"&$D$10&\" and localMonth(\"&$D$12&\") =\"&$E$10&\" and LocalDay(\"&$D$12&\")=\"&$F$10&\" and Barix(\"&$D$12&\",reference:=StartOfDay)=\"&A69&\"\", \"Bar\", \"\", \"Close\",\"A5C\",\"0\",\"All\",,,\"False\",\"T\",\"EveryTick\")","v":3523},{"$f":"IF(H69>(1+(MainDisplay!$O$24/100))*I69,H69,NA())","v":{"$error":"#N/A"}}]
[165,{"$f":"Sheet3!B70","v":"06:45:00"},null,null,null,null,null,{"$f":"RTD(\"cqg.rtd\",,\"StudyData\", \"Vol(\"&$D$12&\") when LocalYear(\"&$D$12&\")=\"&$D$1&\" and localMonth(\"&$D$12&\") =\"&$E$1&\" and LocalDay(\"&$D$12&\")=\"&$F$1&\" and Barix(\"&$D$12&\",reference:=StartOfDay)=\"&A70&\"\", \"Bar\", \"\", \"Close\",\"A5C\",\"0\",\"All\",,,\"False\",\"T\",\"EveryTick\")","v":728},2379.2222222222222,{"$f":"RTD(\"cqg.rtd\",,\"StudyData\", \"Vol(\"&$D$12&\") when LocalYear(\"&$D$12&\")=\"&$D$2&\" and localMonth(\"&$D$12&\") =\"&$E$2&\" and LocalDay(\"&$D$12&\")=\"&$F$2&\" and Barix(\"&$D$12&\",reference:=StartOfDay)=\"&A70&\"\", \"Bar\", \"\", \"Close\",\"A5C\",\"0\",\"All\",,,\"False\",\"T\",\"EveryTick\")","v":2049},{"$f":"RTD(\"cqg.rtd\",,\"StudyData\", \"Vol(\"&$D$12&\") when LocalYear(\"&$D$12&\")=\"&$D$3&\" and localMonth(\"&$D$12&\") =\"&$E$3&\" and LocalDay(\"&$D$12&\")=\"&$F$3&\" and Barix(\"&$D$12&\",reference:=StartOfDay)=\"&A70&\"\", \"Bar\", \"\", \"Close\",\"A5C\",\"0\",\"All\",,,\"False\",\"T\",\"EveryTick\")","v":815},{"$f":"RTD(\"cqg.rtd\",,\"StudyData\", \"Vol(\"&$D$12&\") when LocalYear(\"&$D$12&\")=\"&$D$4&\" and localMonth(\"&$D$12&\") =\"&$E$4&\" and LocalDay(\"&$D$12&\")=\"&$F$4&\" and Barix(\"&$D$12&\",reference:=StartOfDay)=\"&A70&\"\", \"Bar\", \"\", \"Close\",\"A5C\",\"0\",\"All\",,,\"False\",\"T\",\"EveryTick\")","v":724},{"$f":"RTD(\"cqg.rtd\",,\"StudyData\", \"Vol(\"&$D$12&\") when LocalYear(\"&$D$12&\")=\"&$D$5&\" and localMonth(\"&$D$12&\") =\"&$E$5&\" and LocalDay(\"&$D$12&\")=\"&$F$5&\" and Barix(\"&$D$12&\",reference:=StartOfDay)=\"&A70&\"\", \"Bar\", \"\", \"Close\",\"A5C\",\"0\",\"All\",,,\"False\",\"T\",\"EveryTick\")","v":988},{"$f":"RTD(\"cqg.rtd\",,\"StudyData\", \"Vol(\"&$D$12&\") when LocalYear(\"&$D$12&\")=\"&$D$6&\" and localMonth(\"&$D$12&\") =\"&$E$6&\" and LocalDay(\"&$D$12&\")=\"&$F$6&\" and Barix(\"&$D$12&\",reference:=StartOfDay)=\"&A70&\"\", \"Bar\", \"\", \"Close\",\"A5C\",\"0\",\"All\",,,\"False\",\"T\",\"EveryTick\")","v":2692},{"$f":"RTD(\"cqg.rtd\",,\"StudyData\", \"Vol(\"&$D$12&\") when LocalYear(\"&$D$12&\")=\"&$D$7&\" and localMonth(\"&$D$12&\") =\"&$E$7&\" and LocalDay(\"&$D$12&\")=\"&$F$7&\" and Barix(\"&$D$12&\",reference:=StartOfDay)=\"&A70&\"\", \"Bar\", \"\", \"Close\",\"A5C\",\"0\",\"All\",,,\"False\",\"T\",\"EveryTick\")","v":971},{"$f":"RTD(\"cqg.rtd\",,\"StudyData\", \"Vol(\"&$D$12&\") when LocalYear(\"&$D$12&\")=\"&$D$8&\" and localMonth(\"&$D$12&\") =\"&$E$8&\" and LocalDay(\"&$D$12&\")=\"&$F$8&\" and Barix(\"&$D$12&\",reference:=StartOfDay)=\"&A70&\"\", \"Bar\", \"\", \"Close\",\"A5C\",\"0\",\"All\",,,\"False\",\"T\",\"EveryTick\")","v":2354},{"$f":"RTD(\"cqg.rtd\",,\"StudyData\", \"Vol(\"&$D$12&\") when LocalYear(\"&$D$12&\")=\"&$D$9&\" and localMonth(\"&$D$12&\") =\"&$E$9&\" and LocalDay(\"&$D$12&\")=\"&$F$9&\" and Barix(\"&$D$12&\",reference:=StartOfDay)=\"&A70&\"\", \"Bar\", \"\", \"Close\",\"A5C\",\"0\",\"All\",,,\"False\",\"T\",\"EveryTick\")","v":8598},{"$f":"RTD(\"cqg.rtd\",,\"StudyData\", \"Vol(\"&$D$12&\") when LocalYear(\"&$D$12&\")=\"&$D$10&\" and localMonth(\"&$D$12&\") =\"&$E$10&\" and LocalDay(\"&$D$12&\")=\"&$F$10&\" and Barix(\"&$D$12&\",reference:=StartOfDay)=\"&A70&\"\", \"Bar\", \"\", \"Close\",\"A5C\",\"0\",\"All\",,,\"False\",\"T\",\"EveryTick\")","v":2222},{"$f":"IF(H70>(1+(MainDisplay!$O$24/100))*I70,H70,NA())","v":{"$error":"#N/A"}}]
[166,{"$f":"Sheet3!B71","v":"06:50:00"},null,null,null,null,null,{"$f":"RTD(\"cqg.rtd\",,\"StudyData\", \"Vol(\"&$D$12&\") when LocalYear(\"&$D$12&\")=\"&$D$1&\" and localMonth(\"&$D$12&\") =\"&$E$1&\" and LocalDay(\"&$D$12&\")=\"&$F$1&\" and Barix(\"&$D$12&\",reference:=StartOfDay)=\"&A71&\"\", \"Bar\", \"\", \"Close\",\"A5C\",\"0\",\"All\",,,\"False\",\"T\",\"EveryTick\")","v":1253},2598.6666666666665,{"$f":"RTD(\"cqg.rtd\",,\"StudyData\", \"Vol(\"&$D$12&\") when LocalYear(\"&$D$12&\")=\"&$D$2&\" and localMonth(\"&$D$12&\") =\"&$E$2&\" and LocalDay(\"&$D$12&\")=\"&$F$2&\" and Barix(\"&$D$12&\",reference:=StartOfDay)=\"&A71&\"\", \"Bar\", \"\", \"Close\",\"A5C\",\"0\",\"All\",,,\"False\",\"T\",\"EveryTick\")","v":1038},{"$f":"RTD(\"cqg.rtd\",,\"StudyData\", \"Vol(\"&$D$12&\") when LocalYear(\"&$D$12&\")=\"&$D$3&\" and localMonth(\"&$D$12&\") =\"&$E$3&\" and LocalDay(\"&$D$12&\")=\"&$F$3&\" and Barix(\"&$D$12&\",reference:=StartOfDay)=\"&A71&\"\", \"Bar\", \"\", \"Close\",\"A5C\",\"0\",\"All\",,,\"False\",\"T\",\"EveryTick\")","v":1755},{"$f":"RTD(\"cqg.rtd\",,\"StudyData\", \"Vol(\"&$D$12&\") when LocalYear(\"&$D$12&\")=\"&$D$4&\" and localMonth(\"&$D$12&\") =\"&$E$4&\" and LocalDay(\"&$D$12&\")=\"&$F$4&\" and Barix(\"&$D$12&\",reference:=StartOfDay)=\"&A71&\"\", \"Bar\", \"\", \"Close\",\"A5C\",\"0\",\"All\",,,\"False\",\"T\",\"EveryTick\")","v":1524},{"$f":"RTD(\"cqg.rtd\",,\"StudyData\", \"Vol(\"&$D$12&\") when LocalYear(\"&$D$12&\")=\"&$D$5&\" and localMonth(\"&$D$12&\") =\"&$E$5&\" and LocalDay(\"&$D$12&\")=\"&$F$5&\" and Barix(\"&$D$12&\",reference:=StartOfDay)=\"&A71&\"\", \"Bar\", \"\", \"Close\",\"A5C\",\"0\",\"All\",,,\"False\",\"T\",\"EveryTick\")","v":2100},{"$f":"RTD(\"cqg.rtd\",,\"StudyData\", \"Vol(\"&$D$12&\") when LocalYear(\"&$D$12&\")=\"&$D$6&\" and localMonth(\"&$D$12&\") =\"&$E$6&\" and LocalDay(\"&$D$12&\")=\"&$F$6&\" and Barix(\"&$D$12&\",reference:=StartOfDay)=\"&A71&\"\", \"Bar\", \"\", \"Close\",\"A5C\",\"0\",\"All\",,,\"False\",\"T\",\"EveryTick\")","v":2131},{"$f":"RTD(\"cqg.rtd\",,\"StudyData\", \"Vol(\"&$D$12&\") when LocalYear(\"&$D$12&\")=\"&$D$7&\" and localMonth(\"&$D$12&\") =\"&$E$7&\" and LocalDay(\"&$D$12&\")=\"&$F$7&\" and Barix(\"&$D$12&\",reference:=StartOfDay)=\"&A71&\"\", \"Bar\", \"\", \"Close\",\"A5C\",\"0\",\"All\",,,\"False\",\"T\",\"EveryTick\")","v":2073},{"$f":"RTD(\"cqg.rtd\",,\"StudyData\", \"Vol(\"&$D$12&\") when LocalYear(\"&$D$12&\")=\"&$D$8&\" and localMonth(\"&$D$12&\") =\"&$E$8&\" and LocalDay(\"&$D$12&\")=\"&$F$8&\" and Barix(\"&$D$12&\",reference:=StartOfDay)=\"&A71&\"\", \"Bar\", \"\", \"Close\",\"A5C\",\"0\",\"All\",,,\"False\",\"T\",\"EveryTick\")","v":3706},{"$f":"RTD(\"cqg.rtd\",,\"StudyData\", \"Vol(\"&$D$12&\") when LocalYear(\"&$D$12&\")=\"&$D$9&\" and localMonth(\"&$D$12&\") =\"&$E$9&\" and LocalDay(\"&$D$12&\")=\"&$F$9&\" and Barix(\"&$D$12&\",reference:=StartOfDay)=\"&A71&\"\", \"Bar\", \"\", \"Close\",\"A5C\",\"0\",\"All\",,,\"False\",\"T\",\"EveryTick\")","v":6351},{"$f":"RTD(\"cqg.rtd\",,\"StudyData\", \"Vol(\"&$D$12&\") when LocalYear(\"&$D$12&\")=\"&$D$10&\" and localMonth(\"&$D$12&\") =\"&$E$10&\" and LocalDay(\"&$D$12&\")=\"&$F$10&\" and Barix(\"&$D$12&\",reference:=StartOfDay)=\"&A71&\"\", \"Bar\", \"\", \"Close\",\"A5C\",\"0\",\"All\",,,\"False\",\"T\",\"EveryTick\")","v":2710},{"$f":"IF(H71>(1+(MainDisplay!$O$24/100))*I71,H71,NA())","v":{"$error":"#N/A"}}]
[167,{"$f":"Sheet3!B72","v":"06:55:00"},null,null,null,null,null,{"$f":"RTD(\"cqg.rtd\",,\"StudyData\", \"Vol(\"&$D$12&\") when LocalYear(\"&$D$12&\")=\"&$D$1&\" and localMonth(\"&$D$12&\") =\"&$E$1&\" and LocalDay(\"&$D$12&\")=\"&$F$1&\" and Barix(\"&$D$12&\",reference:=StartOfDay)=\"&A72&\"\", \"Bar\", \"\", \"Close\",\"A5C\",\"0\",\"All\",,,\"False\",\"T\",\"EveryTick\")","v":1681},2272.5555555555557,{"$f":"RTD(\"cqg.rtd\",,\"StudyData\", \"Vol(\"&$D$12&\") when LocalYear(\"&$D$12&\")=\"&$D$2&\" and localMonth(\"&$D$12&\") =\"&$E$2&\" and LocalDay(\"&$D$12&\")=\"&$F$2&\" and Barix(\"&$D$12&\",reference:=StartOfDay)=\"&A72&\"\", \"Bar\", \"\", \"Close\",\"A5C\",\"0\",\"All\",,,\"False\",\"T\",\"EveryTick\")","v":766},{"$f":"RTD(\"cqg.rtd\",,\"StudyData\", \"Vol(\"&$D$12&\") when LocalYear(\"&$D$12&\")=\"&$D$3&\" and localMonth(\"&$D$12&\") =\"&$E$3&\" and LocalDay(\"&$D$12&\")=\"&$F$3&\" and Barix(\"&$D$12&\",reference:=StartOfDay)=\"&A72&\"\", \"Bar\", \"\", \"Close\",\"A5C\",\"0\",\"All\",,,\"False\",\"T\",\"EveryTick\")","v":2006},{"$f":"RTD(\"cqg.rtd\",,\"StudyData\", \"Vol(\"&$D$12&\") when LocalYear(\"&$D$12&\")=\"&$D$4&\" and localMonth(\"&$D$12&\") =\"&$E$4&\" and LocalDay(\"&$D$12&\")=\"&$F$4&\" and Barix(\"&$D$12&\",reference:=StartOfDay)=\"&A72&\"\", \"Bar\", \"\", \"Close\",\"A5C\",\"0\",\"All\",,,\"False\",\"T\",\"EveryTick\")","v":1022},{"$f":"RTD(\"cqg.rtd\",,\"StudyData\", \"Vol(\"&$D$12&\") when LocalYear(\"&$D$12&\")=\"&$D$5&\" and localMonth(\"&$D$12&\") =\"&$E$5&\" and LocalDay(\"&$D$12&\")=\"&$F$5&\" and Barix(\"&$D$12&\",reference:=StartOfDay)=\"&A72&\"\", \"Bar\", \"\", \"Close\",\"A5C\",\"0\",\"All\",,,\"False\",\"T\",\"EveryTick\")","v":1759},{"$f":"RTD(\"cqg.rtd\",,\"StudyData\", \"Vol(\"&$D$12&\") when LocalYear(\"&$D$12&\")=\"&$D$6&\" and localMonth(\"&$D$12&\") =\"&$E$6&\" and LocalDay(\"&$D$12&\")=\"&$F$6&\" and Barix(\"&$D$12&\",reference:=StartOfDay)=\"&A72&\"\", \"Bar\", \"\", \"Close\",\"A5C\",\"0\",\"All\",,,\"False\",\"T\",\"EveryTick\")","v":5798},{"$f":"RTD(\"cqg.rtd\",,\"StudyData\", \"Vol(\"&$D$12&\") when LocalYear(\"&$D$12&\")=\"&$D$7&\" and localMonth(\"&$D$12&\") =\"&$E$7&\" and LocalDay(\"&$D$12&\")=\"&$F$7&\" and Barix(\"&$D$12&\",reference:=StartOfDay)=\"&A72&\"\", \"Bar\", \"\", \"Close\",\"A5C\",\"0\",\"All\",,,\"False\",\"T\",\"EveryTick\")","v":2048},{"$f":"RTD(\"cqg.rtd\",,\"StudyData\", \"Vol(\"&$D$12&\") when LocalYear(\"&$D$12&\")=\"&$D$8&\" and localMonth(\"&$D$12&\") =\"&$E$8&\" and LocalDay(\"&$D$12&\")=\"&$F$8&\" and Barix(\"&$D$12&\",reference:=StartOfDay)=\"&A72&\"\", \"Bar\", \"\", \"Close\",\"A5C\",\"0\",\"All\",,,\"False\",\"T\",\"EveryTick\")","v":1949},{"$f":"RTD(\"cqg.rtd\",,\"StudyData\", \"Vol(\"&$D$12&\") when LocalYear(\"&$D$12&\")=\"&$D$9&\" and localMonth(\"&$D$12&\") =\"&$E$9&\" and LocalDay(\"&$D$12&\")=\"&$F$9&\" and Barix(\"&$D$12&\",reference:=StartOfDay)=\"&A72&\"\", \"Bar\", \"\", \"Close\",\"A5C\",\"0\",\"All\",,,\"False\",\"T\",\"EveryTick\")","v":3583},{"$f":"RTD(\"cqg.rtd\",,\"StudyData\", \"Vol(\"&$D$12&\") when LocalYear(\"&$D$12&\")=\"&$D$10&\" and localMonth(\"&$D$12&\") =\"&$E$10&\" and LocalDay(\"&$D$12&\")=\"&$F$10&\" and Barix(\"&$D$12&\",reference:=StartOfDay)=\"&A72&\"\", \"Bar\", \"\", \"Close\",\"A5C\",\"0\",\"All\",,,\"False\",\"T\",\"EveryTick\")","v":1522},{"$f":"IF(H72>(1+(MainDisplay!$O$24/100))*I72,H72,NA())","v":{"$error":"#N/A"}}]
[168,{"$f":"Sheet3!B73","v":"07:00:00"},null,null,null,null,null,{"$f":"RTD(\"cqg.rtd\",,\"StudyData\", \"Vol(\"&$D$12&\") when LocalYear(\"&$D$12&\")=\"&$D$1&\" and localMonth(\"&$D$12&\") =\"&$E$1&\" and LocalDay(\"&$D$12&\")=\"&$F$1&\" and Barix(\"&$D$12&\",reference:=StartOfDay)=\"&A73&\"\", \"Bar\", \"\", \"Close\",\"A5C\",\"0\",\"All\",,,\"False\",\"T\",\"EveryTick\")","v":2373},3111,{"$f":"RTD(\"cqg.rtd\",,\"StudyData\", \"Vol(\"&$D$12&\") when LocalYear(\"&$D$12&\")=\"&$D$2&\" and localMonth(\"&$D$12&\") =\"&$E$2&\" and LocalDay(\"&$D$12&\")=\"&$F$2&\" and Barix(\"&$D$12&\",reference:=StartOfDay)=\"&A73&\"\", \"Bar\", \"\", \"Close\",\"A5C\",\"0\",\"All\",,,\"False\",\"T\",\"EveryTick\")","v":2447},{"$f":"RTD(\"cqg.rtd\",,\"StudyData\", \"Vol(\"&$D$12&\") when LocalYear(\"&$D$12&\")=\"&$D$3&\" and localMonth(\"&$D$12&\") =\"&$E$3&\" and LocalDay(\"&$D$12&\")=\"&$F$3&\" and Barix(\"&$D$12&\",reference:=StartOfDay)=\"&A73&\"\", \"Bar\", \"\", \"Close\",\"A5C\",\"0\",\"All\",,,\"False\",\"T\",\"EveryTick\")","v":2001},{"$f":"RTD(\"cqg.rtd\",,\"StudyData\", \"Vol(\"&$D$12&\") when LocalYear(\"&$D$12&\")=\"&$D$4&\" and localMonth(\"&$D$12&\") =\"&$E$4&\" and LocalDay(\"&$D$12&\")=\"&$F$4&\" and Barix(\"&$D$12&\",reference:=StartOfDay)=\"&A73&\"\", \"Bar\", \"\", \"Close\",\"A5C\",\"0\",\"All\",,,\"False\",\"T\",\"EveryTick\")","v":2326},{"$f":"RTD(\"cqg.rtd\",,\"StudyData\", \"Vol(\"&$D$12&\") when LocalYear(\"&$D$12&\")=\"&$D$5&\" and localMonth(\"&$D$12&\") =\"&$E$5&\" and LocalDay(\"&$D$12&\")=\"&$F$5&\" and Barix(\"&$D$12&\",reference:=StartOfDay)=\"&A73&\"\", \"Bar\", \"\", \"Close\",\"A5C\",\"0\",\"All\",,,\"False\",\"T\",\"EveryTick\")","v":2767},{"$f":"RTD(\"cqg.rtd\",,\"StudyData\", \"Vol(\"&$D$12&\") when LocalYear(\"&$D$12&\")=\"&$D$6&\" and localMonth(\"&$D$12&\") =\"&$E$6&\" and LocalDay(\"&$D$12&\")=\"&$F$6&\" and Barix(\"&$D$12&\",reference:=StartOfDay)=\"&A73&\"\", \"Bar\", \"\", \"Close\",\"A5C\",\"0\",\"All\",,,\"False\",\"T\",\"EveryTick\")","v":5697},{"$f":"RTD(\"cqg.rtd\",,\"StudyData\", \"Vol(\"&$D$12&\") when LocalYear(\"&$D$12&\")=\"&$D$7&\" and localMonth(\"&$D$12&\") =\"&$E$7&\" and LocalDay(\"&$D$12&\")=\"&$F$7&\" and Barix(\"&$D$12&\",reference:=StartOfDay)=\"&A73&\"\", \"Bar\", \"\", \"Close\",\"A5C\",\"0\",\"All\",,,\"False\",\"T\",\"EveryTick\")","v":1822},{"$f":"RTD(\"cqg.rtd\",,\"StudyData\", \"Vol(\"&$D$12&\") when LocalYear(\"&$D$12&\")=\"&$D$8&\" and localMonth(\"&$D$12&\") =\"&$E$8&\" and LocalDay(\"&$D$12&\")=\"&$F$8&\" and Barix(\"&$D$12&\",reference:=StartOfDay)=\"&A73&\"\", \"Bar\", \"\", \"Close\",\"A5C\",\"0\",\"All\",,,\"False\",\"T\",\"EveryTick\")","v":2247},{"$f":"RTD(\"cqg.rtd\",,\"StudyData\", \"Vol(\"&$D$12&\") when LocalYear(\"&$D$12&\")=\"&$D$9&\" and localMonth(\"&$D$12&\") =\"&$E$9&\" and LocalDay(\"&$D$12&\")=\"&$F$9&\" and Barix(\"&$D$12&\",reference:=StartOfDay)=\"&A73&\"\", \"Bar\", \"\", \"Close\",\"A5C\",\"0\",\"All\",,,\"False\",\"T\",\"EveryTick\")","v":6486},{"$f":"RTD(\"cqg.rtd\",,\"StudyData\", \"Vol(\"&$D$12&\") when LocalYear(\"&$D$12&\")=\"&$D$10&\" and localMonth(\"&$D$12&\") =\"&$E$10&\" and LocalDay(\"&$D$12&\")=\"&$F$10&\" and Barix(\"&$D$12&\",reference:=StartOfDay)=\"&A73&\"\", \"Bar\", \"\", \"Close\",\"A5C\",\"0\",\"All\",,,\"False\",\"T\",\"EveryTick\")","v":2206},{"$f":"IF(H73>(1+(MainDisplay!$O$24/100))*I73,H73,NA())","v":{"$error":"#N/A"}}]
[169,{"$f":"Sheet3!B74","v":"07:05:00"},null,null,null,null,null,{"$f":"RTD(\"cqg.rtd\",,\"StudyData\", \"Vol(\"&$D$12&\") when LocalYear(\"&$D$12&\")=\"&$D$1&\" and localMonth(\"&$D$12&\") =\"&$E$1&\" and LocalDay(\"&$D$12&\")=\"&$F$1&\" and Barix(\"&$D$12&\",reference:=StartOfDay)=\"&A74&\"\", \"Bar\", \"\", \"Close\",\"A5C\",\"0\",\"All\",,,\"False\",\"T\",\"EveryTick\")","v":3878},2714.3333333333335,{"$f":"RTD(\"cqg.rtd\",,\"StudyData\", \"Vol(\"&$D$12&\") when LocalYear(\"&$D$12&\")=\"&$D$2&\" and localMonth(\"&$D$12&\") =\"&$E$2&\" and LocalDay(\"&$D$12&\")=\"&$F$2&\" and Barix(\"&$D$12&\",reference:=StartOfDay)=\"&A74&\"\", \"Bar\", \"\", \"Close\",\"A5C\",\"0\",\"All\",,,\"False\",\"T\",\"EveryTick\")","v":3482},{"$f":"RTD(\"cqg.rtd\",,\"StudyData\", \"Vol(\"&$D$12&\") when LocalYear(\"&$D$12&\")=\"&$D$3&\" and localMonth(\"&$D$12&\") =\"&$E$3&\" and LocalDay(\"&$D$12&\")=\"&$F$3&\" and Barix(\"&$D$12&\",reference:=StartOfDay)=\"&A74&\"\", \"Bar\", \"\", \"Close\",\"A5C\",\"0\",\"All\",,,\"False\",\"T\",\"EveryTick\")","v":2045},{"$f":"RTD(\"cqg.rtd\",,\"StudyData\", \"Vol(\"&$D$12&\") when LocalYear(\"&$D$12&\")=\"&$D$4&\" and localMonth(\"&$D$12&\") =\"&$E$4&\" and LocalDay(\"&$D$12&\")=\"&$F$4&\" and Barix(\"&$D$12&\",reference:=StartOfDay)=\"&A74&\"\", \"Bar\", \"\", \"Close\",\"A5C\",\"0\",\"All\",,,\"False\",\"T\",\"EveryTick\")","v":2262},{"$f":"RTD(\"cqg.rtd\",,\"StudyData\", \"Vol(\"&$D$12&\") when LocalYear(\"&$D$12&\")=\"&$D$5&\" and localMonth(\"&$D$12&\") =\"&$E$5&\" and LocalDay(\"&$D$12&\")=\"&$F$5&\" and Barix(\"&$D$12&\",reference:=StartOfDay)=\"&A74&\"\", \"Bar\", \"\", \"Close\",\"A5C\",\"0\",\"All\",,,\"False\",\"T\",\"EveryTick\")","v":2127},{"$f":"RTD(\"cqg.rtd\",,\"StudyData\", \"Vol(\"&$D$12&\") when LocalYear(\"&$D$12&\")=\"&$D$6&\" and localMonth(\"&$D$12&\") =\"&$E$6&\" and LocalDay(\"&$D$12&\")=\"&$F$6&\" and Barix(\"&$D$12&\",reference:=StartOfDay)=\"&A74&\"\", \"Bar\", \"\", \"Close\",\"A5C\",\"0\",\"All\",,,\"False\",\"T\",\"EveryTick\")","v":3540},{"$f":"RTD(\"cqg.rtd\",,\"StudyData\", \"Vol(\"&$D$12&\") when LocalYear(\"&$D$12&\")=\"&$D$7&\" and localMonth(\"&$D$12&\") =\"&$E$7&\" and LocalDay(\"&$D$12&\")=\"&$F$7&\" and Barix(\"&$D$12&\",reference:=StartOfDay)=\"&A74&\"\", \"Bar\", \"\", \"Close\",\"A5C\",\"0\",\"All\",,,\"False\",\"T\",\"EveryTick\")","v":2183},{"$f":"RTD(\"cqg.rtd\",,\"StudyData\", \"Vol(\"&$D$12&\") when LocalYear(\"&$D$12&\")=\"&$D$8&\" and localMonth(\"&$D$12&\") =\"&$E$8&\" and LocalDay(\"&$D$12&\")=\"&$F$8&\" and Barix(\"&$D$12&\",reference:=StartOfDay)=\"&A74&\"\", \"Bar\", \"\", \"Close\",\"A5C\",\"0\",\"All\",,,\"False\",\"T\",\"EveryTick\")","v":2931},{"$f":"RTD(\"cqg.rtd\",,\"StudyData\", \"Vol(\"&$D$12&\") when LocalYear(\"&$D$12&\")=\"&$D$9&\" and localMonth(\"&$D$12&\") =\"&$E$9&\" and LocalDay(\"&$D$12&\")=\"&$F$9&\" and Barix(\"&$D$12&\",reference:=StartOfDay)=\"&A74&\"\", \"Bar\", \"\", \"Close\",\"A5C\",\"0\",\"All\",,,\"False\",\"T\",\"EveryTick\")","v":3877},{"$f":"RTD(\"cqg.rtd\",,\"StudyData\", \"Vol(\"&$D$12&\") when LocalYear(\"&$D$12&\")=\"&$D$10&\" and localMonth(\"&$D$12&\") =\"&$E$10&\" and LocalDay(\"&$D$12&\")=\"&$F$10&\" and Barix(\"&$D$12&\",reference:=StartOfDay)=\"&A74&\"\", \"Bar\", \"\", \"Close\",\"A5C\",\"0\",\"All\",,,\"False\",\"T\",\"EveryTick\")","v":1982},{"$f":"IF(H74>(1+(MainDisplay!$O$24/100))*I74,H74,NA())","v":3878}]
[170,{"$f":"Sheet3!B75","v":"07:10:00"},null,null,null,null,null,{"$f":"RTD(\"cqg.rtd\",,\"StudyData\", \"Vol(\"&$D$12&\") when LocalYear(\"&$D$12&\")=\"&$D$1&\" and localMonth(\"&$D$12&\") =\"&$E$1&\" and LocalDay(\"&$D$12&\")=\"&$F$1&\" and Barix(\"&$D$12&\",reference:=StartOfDay)=\"&A75&\"\", \"Bar\", \"\", \"Close\",\"A5C\",\"0\",\"All\",,,\"False\",\"T\",\"EveryTick\")","v":3064},2427,{"$f":"RTD(\"cqg.rtd\",,\"StudyData\", \"Vol(\"&$D$12&\") when LocalYear(\"&$D$12&\")=\"&$D$2&\" and localMonth(\"&$D$12&\") =\"&$E$2&\" and LocalDay(\"&$D$12&\")=\"&$F$2&\" and Barix(\"&$D$12&\",reference:=StartOfDay)=\"&A75&\"\", \"Bar\", \"\", \"Close\",\"A5C\",\"0\",\"All\",,,\"False\",\"T\",\"EveryTick\")","v":1329},{"$f":"RTD(\"cqg.rtd\",,\"StudyData\", \"Vol(\"&$D$12&\") when LocalYear(\"&$D$12&\")=\"&$D$3&\" and localMonth(\"&$D$12&\") =\"&$E$3&\" and LocalDay(\"&$D$12&\")=\"&$F$3&\" and Barix(\"&$D$12&\",reference:=StartOfDay)=\"&A75&\"\", \"Bar\", \"\", \"Close\",\"A5C\",\"0\",\"All\",,,\"False\",\"T\",\"EveryTick\")","v":1081},{"$f":"RTD(\"cqg.rtd\",,\"StudyData\", \"Vol(\"&$D$12&\") when LocalYear(\"&$D$12&\")=\"&$D$4&\" and localMonth(\"&$D$12&\") =\"&$E$4&\" and LocalDay(\"&$D$12&\")=\"&$F$4&\" and Barix(\"&$D$12&\",reference:=StartOfDay)=\"&A75&\"\", \"Bar\", \"\", \"Close\",\"A5C\",\"0\",\"All\",,,\"False\",\"T\",\"EveryTick\")","v":2199},{"$f":"RTD(\"cqg.rtd\",,\"StudyData\", \"Vol(\"&$D$12&\") when LocalYear(\"&$D$12&\")=\"&$D$5&\" and localMonth(\"&$D$12&\") =\"&$E$5&\" and LocalDay(\"&$D$12&\")=\"&$F$5&\" and Barix(\"&$D$12&\",reference:=StartOfDay)=\"&A75&\"\", \"Bar\", \"\", \"Close\",\"A5C\",\"0\",\"All\",,,\"False\",\"T\",\"EveryTick\")","v":3078},{"$f":"RTD(\"cqg.rtd\",,\"StudyData\", \"Vol(\"&$D$12&\") when LocalYear(\"&$D$12&\")=\"&$D$6&\" and localMonth(\"&$D$12&\") =\"&$E$6&\" and LocalDay(\"&$D$12&\")=\"&$F$6&\" and Barix(\"&$D$12&\",reference:=StartOfDay)=\"&A75&\"\", \"Bar\", \"\", \"Close\",\"A5C\",\"0\",\"All\",,,\"False\",\"T\",\"EveryTick\")","v":4379},{"$f":"RTD(\"cqg.rtd\",,\"StudyData\", \"Vol(\"&$D$12&\") when LocalYear(\"&$D$12&\")=\"&$D$7&\" and localMonth(\"&$D$12&\") =\"&$E$7&\" and LocalDay(\"&$D$12&\")=\"&$F$7&\" and Barix(\"&$D$12&\",reference:=StartOfDay)=\"&A75&\"\", \"Bar\", \"\", \"Close\",\"A5C\",\"0\",\"All\",,,\"False\",\"T\",\"EveryTick\")","v":1822},{"$f":"RTD(\"cqg.rtd\",,\"StudyData\", \"Vol(\"&$D$12&\") when LocalYear(\"&$D$12&\")=\"&$D$8&\" and localMonth(\"&$D$12&\") =\"&$E$8&\" and LocalDay(\"&$D$12&\")=\"&$F$8&\" and Barix(\"&$D$12&\",reference:=StartOfDay)=\"&A75&\"\", \"Bar\", \"\", \"Close\",\"A5C\",\"0\",\"All\",,,\"False\",\"T\",\"EveryTick\")","v":1700},{"$f":"RTD(\"cqg.rtd\",,\"StudyData\", \"Vol(\"&$D$12&\") when LocalYear(\"&$D$12&\")=\"&$D$9&\" and localMonth(\"&$D$12&\") =\"&$E$9&\" and LocalDay(\"&$D$12&\")=\"&$F$9&\" and Barix(\"&$D$12&\",reference:=StartOfDay)=\"&A75&\"\", \"Bar\", \"\", \"Close\",\"A5C\",\"0\",\"All\",,,\"False\",\"T\",\"EveryTick\")","v":4299},{"$f":"RTD(\"cqg.rtd\",,\"StudyData\", \"Vol(\"&$D$12&\") when LocalYear(\"&$D$12&\")=\"&$D$10&\" and localMonth(\"&$D$12&\") =\"&$E$10&\" and LocalDay(\"&$D$12&\")=\"&$F$10&\" and Barix(\"&$D$12&\",reference:=StartOfDay)=\"&A75&\"\", \"Bar\", \"\", \"Close\",\"A5C\",\"0\",\"All\",,,\"False\",\"T\",\"EveryTick\")","v":1956},{"$f":"IF(H75>(1+(MainDisplay!$O$24/100))*I75,H75,NA())","v":3064}]
[171,{"$f":"Sheet3!B76","v":"07:15:00"},null,null,null,null,null,{"$f":"RTD(\"cqg.rtd\",,\"StudyData\", \"Vol(\"&$D$12&\") when LocalYear(\"&$D$12&\")=\"&$D$1&\" and localMonth(\"&$D$12&\") =\"&$E$1&\" and LocalDay(\"&$D$12&\")=\"&$F$1&\" and Barix(\"&$D$12&\",reference:=StartOfDay)=\"&A76&\"\", \"Bar\", \"\", \"Close\",\"A5C\",\"0\",\"All\",,,\"False\",\"T\",\"EveryTick\")","v":1162},3046.8888888888887,{"$f":"RTD(\"cqg.rtd\",,\"StudyData\", \"Vol(\"&$D$12&\") when LocalYear(\"&$D$12&\")=\"&$D$2&\" and localMonth(\"&$D$12&\") =\"&$E$2&\" and LocalDay(\"&$D$12&\")=\"&$F$2&\" and Barix(\"&$D$12&\",reference:=StartOfDay)=\"&A76&\"\", \"Bar\", \"\", \"Close\",\"A5C\",\"0\",\"All\",,,\"False\",\"T\",\"EveryTick\")","v":1417},{"$f":"RTD(\"cqg.rtd\",,\"StudyData\", \"Vol(\"&$D$12&\") when LocalYear(\"&$D$12&\")=\"&$D$3&\" and localMonth(\"&$D$12&\") =\"&$E$3&\" and LocalDay(\"&$D$12&\")=\"&$F$3&\" and Barix(\"&$D$12&\",reference:=StartOfDay)=\"&A76&\"\", \"Bar\", \"\", \"Close\",\"A5C\",\"0\",\"All\",,,\"False\",\"T\",\"EveryTick\")","v":1801},{"$f":"RTD(\"cqg.rtd\",,\"StudyData\", \"Vol(\"&$D$12&\") when LocalYear(\"&$D$12&\")=\"&$D$4&\" and localMonth(\"&$D$12&\") =\"&$E$4&\" and LocalDay(\"&$D$12&\")=\"&$F$4&\" and Barix(\"&$D$12&\",reference:=StartOfDay)=\"&A76&\"\", \"Bar\", \"\", \"Close\",\"A5C\",\"0\",\"All\",,,\"False\",\"T\",\"EveryTick\")","v":1820},{"$f":"RTD(\"cqg.rtd\",,\"StudyData\", \"Vol(\"&$D$12&\") when LocalYear(\"&$D$12&\")=\"&$D$5&\" and localMonth(\"&$D$12&\") =\"&$E$5&\" and LocalDay(\"&$D$12&\")=\"&$F$5&\" and Barix(\"&$D$12&\",reference:=StartOfDay)=\"&A76&\"\", \"Bar\", \"\", \"Close\",\"A5C\",\"0\",\"All\",,,\"False\",\"T\",\"EveryTick\")","v":1958},{"$f":"RTD(\"cqg.rtd\",,\"StudyData\", \"Vol(\"&$D$12&\") when LocalYear(\"&$D$12&\")=\"&$D$6&\" and localMonth(\"&$D$12&\") =\"&$E$6&\" and LocalDay(\"&$D$12&\")=\"&$F$6&\" and Barix(\"&$D$12&\",reference:=StartOfDay)=\"&A76&\"\", \"Bar\", \"\", \"Close\",\"A5C\",\"0\",\"All\",,,\"False\",\"T\",\"EveryTick\")","v":9640},{"$f":"RTD(\"cqg.rtd\",,\"StudyData\", \"Vol(\"&$D$12&\") when LocalYear(\"&$D$12&\")=\"&$D$7&\" and localMonth(\"&$D$12&\") =\"&$E$7&\" and LocalDay(\"&$D$12&\")=\"&$F$7&\" and Barix(\"&$D$12&\",reference:=StartOfDay)=\"&A76&\"\", \"Bar\", \"\", \"Close\",\"A5C\",\"0\",\"All\",,,\"False\",\"T\",\"EveryTick\")","v":1637},{"$f":"RTD(\"cqg.rtd\",,\"StudyData\", \"Vol(\"&$D$12&\") when LocalYear(\"&$D$12&\")=\"&$D$8&\" and localMonth(\"&$D$12&\") =\"&$E$8&\" and LocalDay(\"&$D$12&\")=\"&$F$8&\" and Barix(\"&$D$12&\",reference:=StartOfDay)=\"&A76&\"\", \"Bar\", \"\", \"Close\",\"A5C\",\"0\",\"All\",,,\"False\",\"T\",\"EveryTick\")","v":2468},{"$f":"RTD(\"cqg.rtd\",,\"StudyData\", \"Vol(\"&$D$12&\") when LocalYear(\"&$D$12&\")=\"&$D$9&\" and localMonth(\"&$D$12&\") =\"&$E$9&\" and LocalDay(\"&$D$12&\")=\"&$F$9&\" and Barix(\"&$D$12&\",reference:=StartOfDay)=\"&A76&\"\", \"Bar\", \"\", \"Close\",\"A5C\",\"0\",\"All\",,,\"False\",\"T\",\"EveryTick\")","v":4696},{"$f":"RTD(\"cqg.rtd\",,\"StudyData\", \"Vol(\"&$D$12&\") when LocalYear(\"&$D$12&\")=\"&$D$10&\" and localMonth(\"&$D$12&\") =\"&$E$10&\" and LocalDay(\"&$D$12&\")=\"&$F$10&\" and Barix(\"&$D$12&\",reference:=StartOfDay)=\"&A76&\"\", \"Bar\", \"\", \"Close\",\"A5C\",\"0\",\"All\",,,\"False\",\"T\",\"EveryTick\")","v":1985},{"$f":"IF(H76>(1+(MainDisplay!$O$24/100))*I76,H76,NA())","v":{"$error":"#N/A"}}]
[172,{"$f":"Sheet3!B77","v":"07:20:00"},null,null,null,null,null,{"$f":"RTD(\"cqg.rtd\",,\"StudyData\", \"Vol(\"&$D$12&\") when LocalYear(\"&$D$12&\")=\"&$D$1&\" and localMonth(\"&$D$12&\") =\"&$E$1&\" and LocalDay(\"&$D$12&\")=\"&$F$1&\" and Barix(\"&$D$12&\",reference:=StartOfDay)=\"&A77&\"\", \"Bar\", \"\", \"Close\",\"A5C\",\"0\",\"All\",,,\"False\",\"T\",\"EveryTick\")","v":3169},3214.5555555555557,{"$f":"RTD(\"cqg.rtd\",,\"StudyData\", \"Vol(\"&$D$12&\") when LocalYear(\"&$D$12&\")=\"&$D$2&\" and localMonth(\"&$D$12&\") =\"&$E$2&\" and LocalDay(\"&$D$12&\")=\"&$F$2&\" and Barix(\"&$D$12&\",reference:=StartOfDay)=\"&A77&\"\", \"Bar\", \"\", \"Close\",\"A5C\",\"0\",\"All\",,,\"False\",\"T\",\"EveryTick\")","v":4093},{"$f":"RTD(\"cqg.rtd\",,\"StudyData\", \"Vol(\"&$D$12&\") when LocalYear(\"&$D$12&\")=\"&$D$3&\" and localMonth(\"&$D$12&\") =\"&$E$3&\" and LocalDay(\"&$D$12&\")=\"&$F$3&\" and Barix(\"&$D$12&\",reference:=StartOfDay)=\"&A77&\"\", \"Bar\", \"\", \"Close\",\"A5C\",\"0\",\"All\",,,\"False\",\"T\",\"EveryTick\")","v":1767},{"$f":"RTD(\"cqg.rtd\",,\"StudyData\", \"Vol(\"&$D$12&\") when LocalYear(\"&$D$12&\")=\"&$D$4&\" and localMonth(\"&$D$12&\") =\"&$E$4&\" and LocalDay(\"&$D$12&\")=\"&$F$4&\" and Barix(\"&$D$12&\",reference:=StartOfDay)=\"&A77&\"\", \"Bar\", \"\", \"Close\",\"A5C\",\"0\",\"All\",,,\"False\",\"T\",\"EveryTick\")","v":3443},{"$f":"RTD(\"cqg.rtd\",,\"StudyData\", \"Vol(\"&$D$12&\") when LocalYear(\"&$D$12&\")=\"&$D$5&\" and localMonth(\"&$D$12&\") =\"&$E$5&\" and LocalDay(\"&$D$12&\")=\"&$F$5&\" and Barix(\"&$D$12&\",reference:=StartOfDay)=\"&A77&\"\", \"Bar\", \"\", \"Close\",\"A5C\",\"0\",\"All\",,,\"False\",\"T\",\"EveryTick\")","v":1637},{"$f":"RTD(\"cqg.rtd\",,\"StudyData\", \"Vol(\"&$D$12&\") when LocalYear(\"&$D$12&\")=\"&$D$6&\" and localMonth(\"&$D$12&\") =\"&$E$6&\" and LocalDay(\"&$D$12&\")=\"&$F$6&\" and Barix(\"&$D$12&\",reference:=StartOfDay)=\"&A77&\"\", \"Bar\", \"\", \"Close\",\"A5C\",\"0\",\"All\",,,\"False\",\"T\",\"EveryTick\")","v":6359},{"$f":"RTD(\"cqg.rtd\",,\"StudyData\", \"Vol(\"&$D$12&\") when LocalYear(\"&$D$12&\")=\"&$D$7&\" and localMonth(\"&$D$12&\") =\"&$E$7&\" and LocalDay(\"&$D$12&\")=\"&$F$7&\" and Barix(\"&$D$12&\",reference:=StartOfDay)=\"&A77&\"\", \"Bar\", \"\", \"Close\",\"A5C\",\"0\",\"All\",,,\"False\",\"T\",\"EveryTick\")","v":2444},{"$f":"RTD(\"cqg.rtd\",,\"StudyData\", \"Vol(\"&$D$12&\") when LocalYear(\"&$D$12&\")=\"&$D$8&\" and localMonth(\"&$D$12&\") =\"&$E$8&\" and LocalDay(\"&$D$12&\")=\"&$F$8&\" and Barix(\"&$D$12&\",reference:=StartOfDay)=\"&A77&\"\", \"Bar\", \"\", \"Close\",\"A5C\",\"0\",\"All\",,,\"False\",\"T\",\"EveryTick\")","v":2473},{"$f":"RTD(\"cqg.rtd\",,\"StudyData\", \"Vol(\"&$D$12&\") when LocalYear(\"&$D$12&\")=\"&$D$9&\" and localMonth(\"&$D$12&\") =\"&$E$9&\" and LocalDay(\"&$D$12&\")=\"&$F$9&\" and Barix(\"&$D$12&\",reference:=StartOfDay)=\"&A77&\"\", \"Bar\", \"\", \"Close\",\"A5C\",\"0\",\"All\",,,\"False\",\"T\",\"EveryTick\")","v":4965},{"$f":"RTD(\"cqg.rtd\",,\"StudyData\", \"Vol(\"&$D$12&\") when LocalYear(\"&$D$12&\")=\"&$D$10&\" and localMonth(\"&$D$12&\") =\"&$E$10&\" and LocalDay(\"&$D$12&\")=\"&$F$10&\" and Barix(\"&$D$12&\",reference:=StartOfDay)=\"&A77&\"\", \"Bar\", \"\", \"Close\",\"A5C\",\"0\",\"All\",,,\"False\",\"T\",\"EveryTick\")","v":1750},{"$f":"IF(H77>(1+(MainDisplay!$O$24/100))*I77,H77,NA())","v":{"$error":"#N/A"}}]
[{"$f":"A77+1","v":173},{"$f":"Sheet3!B78","v":"07:25:00"},null,null,null,null,null,{"$f":"RTD(\"cqg.rtd\",,\"StudyData\", \"Vol(\"&$D$12&\") when LocalYear(\"&$D$12&\")=\"&$D$1&\" and localMonth(\"&$D$12&\") =\"&$E$1&\" and LocalDay(\"&$D$12&\")=\"&$F$1&\" and Barix(\"&$D$12&\",reference:=StartOfDay)=\"&A78&\"\", \"Bar\", \"\", \"Close\",\"A5C\",\"0\",\"All\",,,\"False\",\"T\",\"EveryTick\")","v":1515},{"$f":"AVERAGE(J78:R78)","v":3354.4444444444443},{"$f":"RTD(\"cqg.rtd\",,\"StudyData\", \"Vol(\"&$D$12&\") when LocalYear(\"&$D$12&\")=\"&$D$2&\" and localMonth(\"&$D$12&\") =\"&$E$2&\" and LocalDay(\"&$D$12&\")=\"&$F$2&\" and Barix(\"&$D$12&\",reference:=StartOfDay)=\"&A78&\"\", \"Bar\", \"\", \"Close\",\"A5C\",\"0\",\"All\",,,\"False\",\"T\",\"EveryTick\")","v":5364},{"$f":"RTD(\"cqg.rtd\",,\"StudyData\", \"Vol(\"&$D$12&\") when LocalYear(\"&$D$12&\")=\"&$D$3&\" and localMonth(\"&$D$12&\") =\"&$E$3&\" and LocalDay(\"&$D$12&\")=\"&$F$3&\" and Barix(\"&$D$12&\",reference:=StartOfDay)=\"&A78&\"\", \"Bar\", \"\", \"Close\",\"A5C\",\"0\",\"All\",,,\"False\",\"T\",\"EveryTick\")","v":2857},{"$f":"RTD(\"cqg.rtd\",,\"StudyData\", \"Vol(\"&$D$12&\") when LocalYear(\"&$D$12&\")=\"&$D$4&\" and localMonth(\"&$D$12&\") =\"&$E$4&\" and LocalDay(\"&$D$12&\")=\"&$F$4&\" and Barix(\"&$D$12&\",reference:=StartOfDay)=\"&A78&\"\", \"Bar\", \"\", \"Close\",\"A5C\",\"0\",\"All\",,,\"False\",\"T\",\"EveryTick\")","v":4394},{"$f":"RTD(\"cqg.rtd\",,\"StudyData\", \"Vol(\"&$D$12&\") when LocalYear(\"&$D$12&\")=\"&$D$5&\" and localMonth(\"&$D$12&\") =\"&$E$5&\" and LocalDay(\"&$D$12&\")=\"&$F$5&\" and Barix(\"&$D$12&\",reference:=StartOfDay)=\"&A78&\"\", \"Bar\", \"\", \"Close\",\"A5C\",\"0\",\"All\",,,\"False\",\"T\",\"EveryTick\")","v":2543},{"$f":"RTD(\"cqg.rtd\",,\"StudyData\", \"Vol(\"&$D$12&\") when LocalYear(\"&$D$12&\")=\"&$D$6&\" and localMonth(\"&$D$12&\") =\"&$E$6&\" and LocalDay(\"&$D$12&\")=\"&$F$6&\" and Barix(\"&$D$12&\",reference:=StartOfDay)=\"&A78&\"\", \"Bar\", \"\", \"Close\",\"A5C\",\"0\",\"All\",,,\"False\",\"T\",\"EveryTick\")","v":6721},{"$f":"RTD(\"cqg.rtd\",,\"StudyData\", \"Vol(\"&$D$12&\") when LocalYear(\"&$D$12&\")=\"&$D$7&\" and localMonth(\"&$D$12&\") =\"&$E$7&\" and LocalDay(\"&$D$12&\")=\"&$F$7&\" and Barix(\"&$D$12&\",reference:=StartOfDay)=\"&A78&\"\", \"Bar\", \"\", \"Close\",\"A5C\",\"0\",\"All\",,,\"False\",\"T\",\"EveryTick\")","v":977},{"$f":"RTD(\"cqg.rtd\",,\"StudyData\", \"Vol(\"&$D$12&\") when LocalYear(\"&$D$12&\")=\"&$D$8&\" and localMonth(\"&$D$12&\") =\"&$E$8&\" and LocalDay(\"&$D$12&\")=\"&$F$8&\" and Barix(\"&$D$12&\",reference:=StartOfDay)=\"&A78&\"\", \"Bar\", \"\", \"Close\",\"A5C\",\"0\",\"All\",,,\"False\",\"T\",\"EveryTick\")","v":2649},{"$f":"RTD(\"cqg.rtd\",,\"StudyData\", \"Vol(\"&$D$12&\") when LocalYear(\"&$D$12&\")=\"&$D$9&\" and localMonth(\"&$D$12&\") =\"&$E$9&\" and LocalDay(\"&$D$12&\")=\"&$F$9&\" and Barix(\"&$D$12&\",reference:=StartOfDay)=\"&A78&\"\", \"Bar\", \"\", \"Close\",\"A5C\",\"0\",\"All\",,,\"False\",\"T\",\"EveryTick\")","v":3435},{"$f":"RTD(\"cqg.rtd\",,\"StudyData\", \"Vol(\"&$D$12&\") when LocalYear(\"&$D$12&\")=\"&$D$10&\" and localMonth(\"&$D$12&\") =\"&$E$10&\" and LocalDay(\"&$D$12&\")=\"&$F$10&\" and Barix(\"&$D$12&\",reference:=StartOfDay)=\"&A78&\"\", \"Bar\", \"\", \"Close\",\"A5C\",\"0\",\"All\",,,\"False\",\"T\",\"EveryTick\")","v":1250},{"$f":"IF(H78>(1+(MainDisplay!$O$24/100))*I78,H78,NA())","v":{"$error":"#N/A"}}]
[174,{"$f":"Sheet3!B79","v":"07:30:00"},null,null,null,null,null,{"$f":"RTD(\"cqg.rtd\",,\"StudyData\", \"Vol(\"&$D$12&\") when LocalYear(\"&$D$12&\")=\"&$D$1&\" and localMonth(\"&$D$12&\") =\"&$E$1&\" and LocalDay(\"&$D$12&\")=\"&$F$1&\" and Barix(\"&$D$12&\",reference:=StartOfDay)=\"&A79&\"\", \"Bar\", \"\", \"Close\",\"A5C\",\"0\",\"All\",,,\"False\",\"T\",\"EveryTick\")","v":18268},7171.333333333333,{"$f":"RTD(\"cqg.rtd\",,\"StudyData\", \"Vol(\"&$D$12&\") when LocalYear(\"&$D$12&\")=\"&$D$2&\" and localMonth(\"&$D$12&\") =\"&$E$2&\" and LocalDay(\"&$D$12&\")=\"&$F$2&\" and Barix(\"&$D$12&\",reference:=StartOfDay)=\"&A79&\"\", \"Bar\", \"\", \"Close\",\"A5C\",\"0\",\"All\",,,\"False\",\"T\",\"EveryTick\")","v":3072},{"$f":"RTD(\"cqg.rtd\",,\"StudyData\", \"Vol(\"&$D$12&\") when LocalYear(\"&$D$12&\")=\"&$D$3&\" and localMonth(\"&$D$12&\") =\"&$E$3&\" and LocalDay(\"&$D$12&\")=\"&$F$3&\" and Barix(\"&$D$12&\",reference:=StartOfDay)=\"&A79&\"\", \"Bar\", \"\", \"Close\",\"A5C\",\"0\",\"All\",,,\"False\",\"T\",\"EveryTick\")","v":4105},{"$f":"RTD(\"cqg.rtd\",,\"StudyData\", \"Vol(\"&$D$12&\") when LocalYear(\"&$D$12&\")=\"&$D$4&\" and localMonth(\"&$D$12&\") =\"&$E$4&\" and LocalDay(\"&$D$12&\")=\"&$F$4&\" and Barix(\"&$D$12&\",reference:=StartOfDay)=\"&A79&\"\", \"Bar\", \"\", \"Close\",\"A5C\",\"0\",\"All\",,,\"False\",\"T\",\"EveryTick\")","v":32225},{"$f":"RTD(\"cqg.rtd\",,\"StudyData\", \"Vol(\"&$D$12&\") when LocalYear(\"&$D$12&\")=\"&$D$5&\" and localMonth(\"&$D$12&\") =\"&$E$5&\" and LocalDay(\"&$D$12&\")=\"&$F$5&\" and Barix(\"&$D$12&\",reference:=StartOfDay)=\"&A79&\"\", \"Bar\", \"\", \"Close\",\"A5C\",\"0\",\"All\",,,\"False\",\"T\",\"EveryTick\")","v":4102},{"$f":"RTD(\"cqg.rtd\",,\"StudyData\", \"Vol(\"&$D$12&\") when LocalYear(\"&$D$12&\")=\"&$D$6&\" and localMonth(\"&$D$12&\") =\"&$E$6&\" and LocalDay(\"&$D$12&\")=\"&$F$6&\" and Barix(\"&$D$12&\",reference:=StartOfDay)=\"&A79&\"\", \"Bar\", \"\", \"Close\",\"A5C\",\"0\",\"All\",,,\"False\",\"T\",\"EveryTick\")","v":4458},{"$f":"RTD(\"cqg.rtd\",,\"StudyData\", \"Vol(\"&$D$12&\") when LocalYear(\"&$D$12&\")=\"&$D$7&\" and localMonth(\"&$D$12&\") =\"&$E$7&\" and LocalDay(\"&$D$12&\")=\"&$F$7&\" and Barix(\"&$D$12&\",reference:=StartOfDay)=\"&A79&\"\", \"Bar\", \"\", \"Close\",\"A5C\",\"0\",\"All\",,,\"False\",\"T\",\"EveryTick\")","v":2607},{"$f":"RTD(\"cqg.rtd\",,\"StudyData\", \"Vol(\"&$D$12&\") when LocalYear(\"&$D$12&\")=\"&$D$8&\" and localMonth(\"&$D$12&\") =\"&$E$8&\" and LocalDay(\"&$D$12&\")=\"&$F$8&\" and Barix(\"&$D$12&\",reference:=StartOfDay)=\"&A79&\"\", \"Bar\", \"\", \"Close\",\"A5C\",\"0\",\"All\",,,\"False\",\"T\",\"EveryTick\")","v":2283},{"$f":"RTD(\"cqg.rtd\",,\"StudyData\", \"Vol(\"&$D$12&\") when LocalYear(\"&$D$12&\")=\"&$D$9&\" and localMonth(\"&$D$12&\") =\"&$E$9&\" and LocalDay(\"&$D$12&\")=\"&$F$9&\" and Barix(\"&$D$12&\",reference:=StartOfDay)=\"&A79&\"\", \"Bar\", \"\", \"Close\",\"A5C\",\"0\",\"All\",,,\"False\",\"T\",\"EveryTick\")","v":6881},{"$f":"RTD(\"cqg.rtd\",,\"StudyData\", \"Vol(\"&$D$12&\") when LocalYear(\"&$D$12&\")=\"&$D$10&\" and localMonth(\"&$D$12&\") =\"&$E$10&\" and LocalDay(\"&$D$12&\")=\"&$F$10&\" and Barix(\"&$D$12&\",reference:=StartOfDay)=\"&A79&\"\", \"Bar\", \"\", \"Close\",\"A5C\",\"0\",\"All\",,,\"False\",\"T\",\"EveryTick\")","v":4809},{"$f":"IF(H79>(1+(MainDisplay!$O$24/100))*I79,H79,NA())","v":18268}]
[175,{"$f":"Sheet3!B80","v":"07:35:00"},null,null,null,null,null,{"$f":"RTD(\"cqg.rtd\",,\"StudyData\", \"Vol(\"&$D$12&\") when LocalYear(\"&$D$12&\")=\"&$D$1&\" and localMonth(\"&$D$12&\") =\"&$E$1&\" and LocalDay(\"&$D$12&\")=\"&$F$1&\" and Barix(\"&$D$12&\",reference:=StartOfDay)=\"&A80&\"\", \"Bar\", \"\", \"Close\",\"A5C\",\"0\",\"All\",,,\"False\",\"T\",\"EveryTick\")","v":8055},6400.7777777777774,{"$f":"RTD(\"cqg.rtd\",,\"StudyData\", \"Vol(\"&$D$12&\") when LocalYear(\"&$D$12&\")=\"&$D$2&\" and localMonth(\"&$D$12&\") =\"&$E$2&\" and LocalDay(\"&$D$12&\")=\"&$F$2&\" and Barix(\"&$D$12&\",reference:=StartOfDay)=\"&A80&\"\", \"Bar\", \"\", \"Close\",\"A5C\",\"0\",\"All\",,,\"False\",\"T\",\"EveryTick\")","v":2885},{"$f":"RTD(\"cqg.rtd\",,\"StudyData\", \"Vol(\"&$D$12&\") when LocalYear(\"&$D$12&\")=\"&$D$3&\" and localMonth(\"&$D$12&\") =\"&$E$3&\" and LocalDay(\"&$D$12&\")=\"&$F$3&\" and Barix(\"&$D$12&\",reference:=StartOfDay)=\"&A80&\"\", \"Bar\", \"\", \"Close\",\"A5C\",\"0\",\"All\",,,\"False\",\"T\",\"EveryTick\")","v":4832},{"$f":"RTD(\"cqg.rtd\",,\"StudyData\", \"Vol(\"&$D$12&\") when LocalYear(\"&$D$12&\")=\"&$D$4&\" and localMonth(\"&$D$12&\") =\"&$E$4&\" and LocalDay(\"&$D$12&\")=\"&$F$4&\" and Barix(\"&$D$12&\",reference:=StartOfDay)=\"&A80&\"\", \"Bar\", \"\", \"Close\",\"A5C\",\"0\",\"All\",,,\"False\",\"T\",\"EveryTick\")","v":23110},{"$f":"RTD(\"cqg.rtd\",,\"StudyData\", \"Vol(\"&$D$12&\") when LocalYear(\"&$D$12&\")=\"&$D$5&\" and localMonth(\"&$D$12&\") =\"&$E$5&\" and LocalDay(\"&$D$12&\")=\"&$F$5&\" and Barix(\"&$D$12&\",reference:=StartOfDay)=\"&A80&\"\", \"Bar\", \"\", \"Close\",\"A5C\",\"0\",\"All\",,,\"False\",\"T\",\"EveryTick\")","v":3194},{"$f":"RTD(\"cqg.rtd\",,\"StudyData\", \"Vol(\"&$D$12&\") when LocalYear(\"&$D$12&\")=\"&$D$6&\" and localMonth(\"&$D$12&\") =\"&$E$6&\" and LocalDay(\"&$D$12&\")=\"&$F$6&\" and Barix(\"&$D$12&\",reference:=StartOfDay)=\"&A80&\"\", \"Bar\", \"\", \"Close\",\"A5C\",\"0\",\"All\",,,\"False\",\"T\",\"EveryTick\")","v":6633},{"$f":"RTD(\"cqg.rtd\",,\"StudyData\", \"Vol(\"&$D$12&\") when LocalYear(\"&$D$12&\")=\"&$D$7&\" and localMonth(\"&$D$12&\") =\"&$E$7&\" and LocalDay(\"&$D$12&\")=\"&$F$7&\" and Barix(\"&$D$12&\",reference:=StartOfDay)=\"&A80&\"\", \"Bar\", \"\", \"Close\",\"A5C\",\"0\",\"All\",,,\"False\",\"T\",\"EveryTick\")","v":3208},{"$f":"RTD(\"cqg.rtd\",,\"StudyData\", \"Vol(\"&$D$12&\") when LocalYear(\"&$D$12&\")=\"&$D$8&\" and localMonth(\"&$D$12&\") =\"&$E$8&\" and LocalDay(\"&$D$12&\")=\"&$F$8&\" and Barix(\"&$D$12&\",reference:=StartOfDay)=\"&A80&\"\", \"Bar\", \"\", \"Close\",\"A5C\",\"0\",\"All\",,,\"False\",\"T\",\"EveryTick\")","v":2449},{"$f":"RTD(\"cqg.rtd\",,\"StudyData\", \"Vol(\"&$D$12&\") when LocalYear(\"&$D$12&\")=\"&$D$9&\" and localMonth(\"&$D$12&\") =\"&$E$9&\" and LocalDay(\"&$D$12&\")=\"&$F$9&\" and Barix(\"&$D$12&\",reference:=StartOfDay)=\"&A80&\"\", \"Bar\", \"\", \"Close\",\"A5C\",\"0\",\"All\",,,\"False\",\"T\",\"EveryTick\")","v":7925},{"$f":"RTD(\"cqg.rtd\",,\"StudyData\", \"Vol(\"&$D$12&\") when LocalYear(\"&$D$12&\")=\"&$D$10&\" and localMonth(\"&$D$12&\") =\"&$E$10&\" and LocalDay(\"&$D$12&\")=\"&$F$10&\" and Barix(\"&$D$12&\",reference:=StartOfDay)=\"&A80&\"\", \"Bar\", \"\", \"Close\",\"A5C\",\"0\",\"All\",,,\"False\",\"T\",\"EveryTick\")","v":3371},{"$f":"IF(H80>(1+(MainDisplay!$O$24/100))*I80,H80,NA())","v":8055}]
[176,{"$f":"Sheet3!B81","v":"07:40:00"},null,null,null,null,null,{"$f":"RTD(\"cqg.rtd\",,\"StudyData\", \"Vol(\"&$D$12&\") when LocalYear(\"&$D$12&\")=\"&$D$1&\" and localMonth(\"&$D$12&\") =\"&$E$1&\" and LocalDay(\"&$D$12&\")=\"&$F$1&\" and Barix(\"&$D$12&\",reference:=StartOfDay)=\"&A81&\"\", \"Bar\", \"\", \"Close\",\"A5C\",\"0\",\"All\",,,\"False\",\"T\",\"EveryTick\")","v":14620},5678.7777777777774,{"$f":"RTD(\"cqg.rtd\",,\"StudyData\", \"Vol(\"&$D$12&\") when LocalYear(\"&$D$12&\")=\"&$D$2&\" and localMonth(\"&$D$12&\") =\"&$E$2&\" and LocalDay(\"&$D$12&\")=\"&$F$2&\" and Barix(\"&$D$12&\",reference:=StartOfDay)=\"&A81&\"\", \"Bar\", \"\", \"Close\",\"A5C\",\"0\",\"All\",,,\"False\",\"T\",\"EveryTick\")","v":5972},{"$f":"RTD(\"cqg.rtd\",,\"StudyData\", \"Vol(\"&$D$12&\") when LocalYear(\"&$D$12&\")=\"&$D$3&\" and localMonth(\"&$D$12&\") =\"&$E$3&\" and LocalDay(\"&$D$12&\")=\"&$F$3&\" and Barix(\"&$D$12&\",reference:=StartOfDay)=\"&A81&\"\", \"Bar\", \"\", \"Close\",\"A5C\",\"0\",\"All\",,,\"False\",\"T\",\"EveryTick\")","v":1725},{"$f":"RTD(\"cqg.rtd\",,\"StudyData\", \"Vol(\"&$D$12&\") when LocalYear(\"&$D$12&\")=\"&$D$4&\" and localMonth(\"&$D$12&\") =\"&$E$4&\" and LocalDay(\"&$D$12&\")=\"&$F$4&\" and Barix(\"&$D$12&\",reference:=StartOfDay)=\"&A81&\"\", \"Bar\", \"\", \"Close\",\"A5C\",\"0\",\"All\",,,\"False\",\"T\",\"EveryTick\")","v":16548},{"$f":"RTD(\"cqg.rtd\",,\"StudyData\", \"Vol(\"&$D$12&\") when LocalYear(\"&$D$12&\")=\"&$D$5&\" and localMonth(\"&$D$12&\") =\"&$E$5&\" and LocalDay(\"&$D$12&\")=\"&$F$5&\" and Barix(\"&$D$12&\",reference:=StartOfDay)=\"&A81&\"\", \"Bar\", \"\", \"Close\",\"A5C\",\"0\",\"All\",,,\"False\",\"T\",\"EveryTick\")","v":5691},{"$f":"RTD(\"cqg.rtd\",,\"StudyData\", \"Vol(\"&$D$12&\") when LocalYear(\"&$D$12&\")=\"&$D$6&\" and localMonth(\"&$D$12&\") =\"&$E$6&\" and LocalDay(\"&$D$12&\")=\"&$F$6&\" and Barix(\"&$D$12&\",reference:=StartOfDay)=\"&A81&\"\", \"Bar\", \"\", \"Close\",\"A5C\",\"0\",\"All\",,,\"False\",\"T\",\"EveryTick\")","v":6675},{"$f":"RTD(\"cqg.rtd\",,\"StudyData\", \"Vol(\"&$D$12&\") when LocalYear(\"&$D$12&\")=\"&$D$7&\" and localMonth(\"&$D$12&\") =\"&$E$7&\" and LocalDay(\"&$D$12&\")=\"&$F$7&\" and Barix(\"&$D$12&\",reference:=StartOfDay)=\"&A81&\"\", \"Bar\", \"\", \"Close\",\"A5C\",\"0\",\"All\",,,\"False\",\"T\",\"EveryTick\")","v":2960},{"$f":"RTD(\"cqg.rtd\",,\"StudyData\", \"Vol(\"&$D$12&\") when LocalYear(\"&$D$12&\")=\"&$D$8&\" and localMonth(\"&$D$12&\") =\"&$E$8&\" and LocalDay(\"&$D$12&\")=\"&$F$8&\" and Barix(\"&$D$12&\",reference:=StartOfDay)=\"&A81&\"\", \"Bar\", \"\", \"Close\",\"A5C\",\"0\",\"All\",,,\"False\",\"T\",\"EveryTick\")","v":3494},{"$f":"RTD(\"cqg.rtd\",,\"StudyData\", \"Vol(\"&$D$12&\") when LocalYear(\"&$D$12&\")=\"&$D$9&\" and localMonth(\"&$D$12&\") =\"&$E$9&\" and LocalDay(\"&$D$12&\")=\"&$F$9&\" and Barix(\"&$D$12&\",reference:=StartOfDay)=\"&A81&\"\", \"Bar\", \"\", \"Close\",\"A5C\",\"0\",\"All\",,,\"False\",\"T\",\"EveryTick\")","v":5639},{"$f":"RTD(\"cqg.rtd\",,\"StudyData\", \"Vol(\"&$D$12&\") when LocalYear(\"&$D$12&\")=\"&$D$10&\" and localMonth(\"&$D$12&\") =\"&$E$10&\" and LocalDay(\"&$D$12&\")=\"&$F$10&\" and Barix(\"&$D$12&\",reference:=StartOfDay)=\"&A81&\"\", \"Bar\", \"\", \"Close\",\"A5C\",\"0\",\"All\",,,\"False\",\"T\",\"EveryTick\")","v":2405},{"$f":"IF(H81>(1+(MainDisplay!$O$24/100))*I81,H81,NA())","v":14620}]
[177,{"$f":"Sheet3!B82","v":"07:45:00"},null,null,null,null,null,{"$f":"RTD(\"cqg.rtd\",,\"StudyData\", \"Vol(\"&$D$12&\") when LocalYear(\"&$D$12&\")=\"&$D$1&\" and localMonth(\"&$D$12&\") =\"&$E$1&\" and LocalDay(\"&$D$12&\")=\"&$F$1&\" and Barix(\"&$D$12&\",reference:=StartOfDay)=\"&A82&\"\", \"Bar\", \"\", \"Close\",\"A5C\",\"0\",\"All\",,,\"False\",\"T\",\"EveryTick\")","v":9408},4852.333333333333,{"$f":"RTD(\"cqg.rtd\",,\"StudyData\", \"Vol(\"&$D$12&\") when LocalYear(\"&$D$12&\")=\"&$D$2&\" and localMonth(\"&$D$12&\") =\"&$E$2&\" and LocalDay(\"&$D$12&\")=\"&$F$2&\" and Barix(\"&$D$12&\",reference:=StartOfDay)=\"&A82&\"\", \"Bar\", \"\", \"Close\",\"A5C\",\"0\",\"All\",,,\"False\",\"T\",\"EveryTick\")","v":4304},{"$f":"RTD(\"cqg.rtd\",,\"StudyData\", \"Vol(\"&$D$12&\") when LocalYear(\"&$D$12&\")=\"&$D$3&\" and localMonth(\"&$D$12&\") =\"&$E$3&\" and LocalDay(\"&$D$12&\")=\"&$F$3&\" and Barix(\"&$D$12&\",reference:=StartOfDay)=\"&A82&\"\", \"Bar\", \"\", \"Close\",\"A5C\",\"0\",\"All\",,,\"False\",\"T\",\"EveryTick\")","v":2303},{"$f":"RTD(\"cqg.rtd\",,\"StudyData\", \"Vol(\"&$D$12&\") when LocalYear(\"&$D$12&\")=\"&$D$4&\" and localMonth(\"&$D$12&\") =\"&$E$4&\" and LocalDay(\"&$D$12&\")=\"&$F$4&\" and Barix(\"&$D$12&\",reference:=StartOfDay)=\"&A82&\"\", \"Bar\", \"\", \"Close\",\"A5C\",\"0\",\"All\",,,\"False\",\"T\",\"EveryTick\")","v":15837},{"$f":"RTD(\"cqg.rtd\",,\"StudyData\", \"Vol(\"&$D$12&\") when LocalYear(\"&$D$12&\")=\"&$D$5&\" and localMonth(\"&$D$12&\") =\"&$E$5&\" and LocalDay(\"&$D$12&\")=\"&$F$5&\" and Barix(\"&$D$12&\",reference:=StartOfDay)=\"&A82&\"\", \"Bar\", \"\", \"Close\",\"A5C\",\"0\",\"All\",,,\"False\",\"T\",\"EveryTick\")","v":2643},{"$f":"RTD(\"cqg.rtd\",,\"StudyData\", \"Vol(\"&$D$12&\") when LocalYear(\"&$D$12&\")=\"&$D$6&\" and localMonth(\"&$D$12&\") =\"&$E$6&\" and LocalDay(\"&$D$12&\")=\"&$F$6&\" and Barix(\"&$D$12&\",reference:=StartOfDay)=\"&A82&\"\", \"Bar\", \"\", \"Close\",\"A5C\",\"0\",\"All\",,,\"False\",\"T\",\"EveryTick\")","v":4949},{"$f":"RTD(\"cqg.rtd\",,\"StudyData\", \"Vol(\"&$D$12&\") when LocalYear(\"&$D$12&\")=\"&$D$7&\" and localMonth(\"&$D$12&\") =\"&$E$7&\" and LocalDay(\"&$D$12&\")=\"&$F$7&\" and Barix(\"&$D$12&\",reference:=StartOfDay)=\"&A82&\"\", \"Bar\", \"\", \"Close\",\"A5C\",\"0\",\"All\",,,\"False\",\"T\",\"EveryTick\")","v":1970},{"$f":"RTD(\"cqg.rtd\",,\"StudyData\", \"Vol(\"&$D$12&\") when LocalYear(\"&$D$12&\")=\"&$D$8&\" and localMonth(\"&$D$12&\") =\"&$E$8&\" and LocalDay(\"&$D$12&\")=\"&$F$8&\" and Barix(\"&$D$12&\",reference:=StartOfDay)=\"&A82&\"\", \"Bar\", \"\", \"Close\",\"A5C\",\"0\",\"All\",,,\"False\",\"T\",\"EveryTick\")","v":4408},{"$f":"RTD(\"cqg.rtd\",,\"StudyData\", \"Vol(\"&$D$12&\") when LocalYear(\"&$D$12&\")=\"&$D$9&\" and localMonth(\"&$D$12&\") =\"&$E$9&\" and LocalDay(\"&$D$12&\")=\"&$F$9&\" and Barix(\"&$D$12&\",reference:=StartOfDay)=\"&A82&\"\", \"Bar\", \"\", \"Close\",\"A5C\",\"0\",\"All\",,,\"False\",\"T\",\"EveryTick\")","v":4970},{"$f":"RTD(\"cqg.rtd\",,\"StudyData\", \"Vol(\"&$D$12&\") when LocalYear(\"&$D$12&\")=\"&$D$10&\" and localMonth(\"&$D$12&\") =\"&$E$10&\" and LocalDay(\"&$D$12&\")=\"&$F$10&\" and Barix(\"&$D$12&\",reference:=StartOfDay)=\"&A82&\"\", \"Bar\", \"\", \"Close\",\"A5C\",\"0\",\"All\",,,\"False\",\"T\",\"EveryTick\")","v":2287},{"$f":"IF(H82>(1+(MainDisplay!$O$24/100))*I82,H82,NA())","v":9408}]
[178,{"$f":"Sheet3!B83","v":"07:50:00"},null,null,null,null,null,{"$f":"RTD(\"cqg.rtd\",,\"StudyData\", \"Vol(\"&$D$12&\") when LocalYear(\"&$D$12&\")=\"&$D$1&\" and localMonth(\"&$D$12&\") =\"&$E$1&\" and LocalDay(\"&$D$12&\")=\"&$F$1&\" and Barix(\"&$D$12&\",reference:=StartOfDay)=\"&A83&\"\", \"Bar\", \"\", \"Close\",\"A5C\",\"0\",\"All\",,,\"False\",\"T\",\"EveryTick\")","v":10023},3909.1111111111113,{"$f":"RTD(\"cqg.rtd\",,\"StudyData\", \"Vol(\"&$D$12&\") when LocalYear(\"&$D$12&\")=\"&$D$2&\" and localMonth(\"&$D$12&\") =\"&$E$2&\" and LocalDay(\"&$D$12&\")=\"&$F$2&\" and Barix(\"&$D$12&\",reference:=StartOfDay)=\"&A83&\"\", \"Bar\", \"\", \"Close\",\"A5C\",\"0\",\"All\",,,\"False\",\"T\",\"EveryTick\")","v":3680},{"$f":"RTD(\"cqg.rtd\",,\"StudyData\", \"Vol(\"&$D$12&\") when LocalYear(\"&$D$12&\")=\"&$D$3&\" and localMonth(\"&$D$12&\") =\"&$E$3&\" and LocalDay(\"&$D$12&\")=\"&$F$3&\" and Barix(\"&$D$12&\",reference:=StartOfDay)=\"&A83&\"\", \"Bar\", \"\", \"Close\",\"A5C\",\"0\",\"All\",,,\"False\",\"T\",\"EveryTick\")","v":1922},{"$f":"RTD(\"cqg.rtd\",,\"StudyData\", \"Vol(\"&$D$12&\") when LocalYear(\"&$D$12&\")=\"&$D$4&\" and localMonth(\"&$D$12&\") =\"&$E$4&\" and LocalDay(\"&$D$12&\")=\"&$F$4&\" and Barix(\"&$D$12&\",reference:=StartOfDay)=\"&A83&\"\", \"Bar\", \"\", \"Close\",\"A5C\",\"0\",\"All\",,,\"False\",\"T\",\"EveryTick\")","v":8397},{"$f":"RTD(\"cqg.rtd\",,\"StudyData\", \"Vol(\"&$D$12&\") when LocalYear(\"&$D$12&\")=\"&$D$5&\" and localMonth(\"&$D$12&\") =\"&$E$5&\" and LocalDay(\"&$D$12&\")=\"&$F$5&\" and Barix(\"&$D$12&\",reference:=StartOfDay)=\"&A83&\"\", \"Bar\", \"\", \"Close\",\"A5C\",\"0\",\"All\",,,\"False\",\"T\",\"EveryTick\")","v":2308},{"$f":"RTD(\"cqg.rtd\",,\"StudyData\", \"Vol(\"&$D$12&\") when LocalYear(\"&$D$12&\")=\"&$D$6&\" and localMonth(\"&$D$12&\") =\"&$E$6&\" and LocalDay(\"&$D$12&\")=\"&$F$6&\" and Barix(\"&$D$12&\",reference:=StartOfDay)=\"&A83&\"\", \"Bar\", \"\", \"Close\",\"A5C\",\"0\",\"All\",,,\"False\",\"T\",\"EveryTick\")","v":7267},{"$f":"RTD(\"cqg.rtd\",,\"StudyData\", \"Vol(\"&$D$12&\") when LocalYear(\"&$D$12&\")=\"&$D$7&\" and localMonth(\"&$D$12&\") =\"&$E$7&\" and LocalDay(\"&$D$12&\")=\"&$F$7&\" and Barix(\"&$D$12&\",reference:=StartOfDay)=\"&A83&\"\", \"Bar\", \"\", \"Close\",\"A5C\",\"0\",\"All\",,,\"False\",\"T\",\"EveryTick\")","v":1314},{"$f":"RTD(\"cqg.rtd\",,\"StudyData\", \"Vol(\"&$D$12&\") when LocalYear(\"&$D$12&\")=\"&$D$8&\" and localMonth(\"&$D$12&\") =\"&$E$8&\" and LocalDay(\"&$D$12&\")=\"&$F$8&\" and Barix(\"&$D$12&\",reference:=StartOfDay)=\"&A83&\"\", \"Bar\", \"\", \"Close\",\"A5C\",\"0\",\"All\",,,\"False\",\"T\",\"EveryTick\")","v":3059},{"$f":"RTD(\"cqg.rtd\",,\"StudyData\", \"Vol(\"&$D$12&\") when LocalYear(\"&$D$12&\")=\"&$D$9&\" and localMonth(\"&$D$12&\") =\"&$E$9&\" and LocalDay(\"&$D$12&\")=\"&$F$9&\" and Barix(\"&$D$12&\",reference:=StartOfDay)=\"&A83&\"\", \"Bar\", \"\", \"Close\",\"A5C\",\"0\",\"All\",,,\"False\",\"T\",\"EveryTick\")","v":4670},{"$f":"RTD(\"cqg.rtd\",,\"StudyData\", \"Vol(\"&$D$12&\") when LocalYear(\"&$D$12&\")=\"&$D$10&\" and localMonth(\"&$D$12&\") =\"&$E$10&\" and LocalDay(\"&$D$12&\")=\"&$F$10&\" and Barix(\"&$D$12&\",reference:=StartOfDay)=\"&A83&\"\", \"Bar\", \"\", \"Close\",\"A5C\",\"0\",\"All\",,,\"False\",\"T\",\"EveryTick\")","v":2565},{"$f":"IF(H83>(1+(MainDisplay!$O$24/100))*I83,H83,NA())","v":10023}]
[179,{"$f":"Sheet3!B84","v":"07:55:00"},null,null,null,null,null,{"$f":"RTD(\"cqg.rtd\",,\"StudyData\", \"Vol(\"&$D$12&\") when LocalYear(\"&$D$12&\")=\"&$D$1&\" and localMonth(\"&$D$12&\") =\"&$E$1&\" and LocalDay(\"&$D$12&\")=\"&$F$1&\" and Barix(\"&$D$12&\",reference:=StartOfDay)=\"&A84&\"\", \"Bar\", \"\", \"Close\",\"A5C\",\"0\",\"All\",,,\"False\",\"T\",\"EveryTick\")","v":5642},4104.333333333333,{"$f":"RTD(\"cqg.rtd\",,\"StudyData\", \"Vol(\"&$D$12&\") when LocalYear(\"&$D$12&\")=\"&$D$2&\" and localMonth(\"&$D$12&\") =\"&$E$2&\" and LocalDay(\"&$D$12&\")=\"&$F$2&\" and Barix(\"&$D$12&\",reference:=StartOfDay)=\"&A84&\"\", \"Bar\", \"\", \"Close\",\"A5C\",\"0\",\"All\",,,\"False\",\"T\",\"EveryTick\")","v":2762},{"$f":"RTD(\"cqg.rtd\",,\"StudyData\", \"Vol(\"&$D$12&\") when LocalYear(\"&$D$12&\")=\"&$D$3&\" and localMonth(\"&$D$12&\") =\"&$E$3&\" and LocalDay(\"&$D$12&\")=\"&$F$3&\" and Barix(\"&$D$12&\",reference:=StartOfDay)=\"&A84&\"\", \"Bar\", \"\", \"Close\",\"A5C\",\"0\",\"All\",,,\"False\",\"T\",\"EveryTick\")","v":1877},{"$f":"RTD(\"cqg.rtd\",,\"StudyData\", \"Vol(\"&$D$12&\") when LocalYear(\"&$D$12&\")=\"&$D$4&\" and localMonth(\"&$D$12&\") =\"&$E$4&\" and LocalDay(\"&$D$12&\")=\"&$F$4&\" and Barix(\"&$D$12&\",reference:=StartOfDay)=\"&A84&\"\", \"Bar\", \"\", \"Close\",\"A5C\",\"0\",\"All\",,,\"False\",\"T\",\"EveryTick\")","v":12939},{"$f":"RTD(\"cqg.rtd\",,\"StudyData\", \"Vol(\"&$D$12&\") when LocalYear(\"&$D$12&\")=\"&$D$5&\" and localMonth(\"&$D$12&\") =\"&$E$5&\" and LocalDay(\"&$D$12&\")=\"&$F$5&\" and Barix(\"&$D$12&\",reference:=StartOfDay)=\"&A84&\"\", \"Bar\", \"\", \"Close\",\"A5C\",\"0\",\"All\",,,\"False\",\"T\",\"EveryTick\")","v":2648},{"$f":"RTD(\"cqg.rtd\",,\"StudyData\", \"Vol(\"&$D$12&\") when LocalYear(\"&$D$12&\")=\"&$D$6&\" and localMonth(\"&$D$12&\") =\"&$E$6&\" and LocalDay(\"&$D$12&\")=\"&$F$6&\" and Barix(\"&$D$12&\",reference:=StartOfDay)=\"&A84&\"\", \"Bar\", \"\", \"Close\",\"A5C\",\"0\",\"All\",,,\"False\",\"T\",\"EveryTick\")","v":5106},{"$f":"RTD(\"cqg.rtd\",,\"StudyData\", \"Vol(\"&$D$12&\") when LocalYear(\"&$D$12&\")=\"&$D$7&\" and localMonth(\"&$D$12&\") =\"&$E$7&\" and LocalDay(\"&$D$12&\")=\"&$F$7&\" and Barix(\"&$D$12&\",reference:=StartOfDay)=\"&A84&\"\", \"Bar\", \"\", \"Close\",\"A5C\",\"0\",\"All\",,,\"False\",\"T\",\"EveryTick\")","v":1430},{"$f":"RTD(\"cqg.rtd\",,\"StudyData\", \"Vol(\"&$D$12&\") when LocalYear(\"&$D$12&\")=\"&$D$8&\" and localMonth(\"&$D$12&\") =\"&$E$8&\" and LocalDay(\"&$D$12&\")=\"&$F$8&\" and Barix(\"&$D$12&\",reference:=StartOfDay)=\"&A84&\"\", \"Bar\", \"\", \"Close\",\"A5C\",\"0\",\"All\",,,\"False\",\"T\",\"EveryTick\")","v":3142},{"$f":"RTD(\"cqg.rtd\",,\"StudyData\", \"Vol(\"&$D$12&\") when LocalYear(\"&$D$12&\")=\"&$D$9&\" and localMonth(\"&$D$12&\") =\"&$E$9&\" and LocalDay(\"&$D$12&\")=\"&$F$9&\" and Barix(\"&$D$12&\",reference:=StartOfDay)=\"&A84&\"\", \"Bar\", \"\", \"Close\",\"A5C\",\"0\",\"All\",,,\"False\",\"T\",\"EveryTick\")","v":4159},{"$f":"RTD(\"cqg.rtd\",,\"StudyData\", \"Vol(\"&$D$12&\") when LocalYear(\"&$D$12&\")=\"&$D$10&\" and localMonth(\"&$D$12&\") =\"&$E$10&\" and LocalDay(\"&$D$12&\")=\"&$F$10&\" and Barix(\"&$D$12&\",reference:=StartOfDay)=\"&A84&\"\", \"Bar\", \"\", \"Close\",\"A5C\",\"0\",\"All\",,,\"False\",\"T\",\"EveryTick\")","v":2876},{"$f":"IF(H84>(1+(MainDisplay!$O$24/100))*I84,H84,NA())","v":5642}]
[180,{"$f":"Sheet3!B85","v":"08:00:00"},null,null,null,null,null,{"$f":"RTD(\"cqg.rtd\",,\"StudyData\", \"Vol(\"&$D$12&\") when LocalYear(\"&$D$12&\")=\"&$D$1&\" and localMonth(\"&$D$12&\") =\"&$E$1&\" and LocalDay(\"&$D$12&\")=\"&$F$1&\" and Barix(\"&$D$12&\",reference:=StartOfDay)=\"&A85&\"\", \"Bar\", \"\", \"Close\",\"A5C\",\"0\",\"All\",,,\"False\",\"T\",\"EveryTick\")","v":3911},5124.666666666667,{"$f":"RTD(\"cqg.rtd\",,\"StudyData\", \"Vol(\"&$D$12&\") when LocalYear(\"&$D$12&\")=\"&$D$2&\" and localMonth(\"&$D$12&\") =\"&$E$2&\" and LocalDay(\"&$D$12&\")=\"&$F$2&\" and Barix(\"&$D$12&\",reference:=StartOfDay)=\"&A85&\"\", \"Bar\", \"\", \"Close\",\"A5C\",\"0\",\"All\",,,\"False\",\"T\",\"EveryTick\")","v":2848},{"$f":"RTD(\"cqg.rtd\",,\"StudyData\", \"Vol(\"&$D$12&\") when LocalYear(\"&$D$12&\")=\"&$D$3&\" and localMonth(\"&$D$12&\") =\"&$E$3&\" and LocalDay(\"&$D$12&\")=\"&$F$3&\" and Barix(\"&$D$12&\",reference:=StartOfDay)=\"&A85&\"\", \"Bar\", \"\", \"Close\",\"A5C\",\"0\",\"All\",,,\"False\",\"T\",\"EveryTick\")","v":4206},{"$f":"RTD(\"cqg.rtd\",,\"StudyData\", \"Vol(\"&$D$12&\") when LocalYear(\"&$D$12&\")=\"&$D$4&\" and localMonth(\"&$D$12&\") =\"&$E$4&\" and LocalDay(\"&$D$12&\")=\"&$F$4&\" and Barix(\"&$D$12&\",reference:=StartOfDay)=\"&A85&\"\", \"Bar\", \"\", \"Close\",\"A5C\",\"0\",\"All\",,,\"False\",\"T\",\"EveryTick\")","v":8090},{"$f":"RTD(\"cqg.rtd\",,\"StudyData\", \"Vol(\"&$D$12&\") when LocalYear(\"&$D$12&\")=\"&$D$5&\" and localMonth(\"&$D$12&\") =\"&$E$5&\" and LocalDay(\"&$D$12&\")=\"&$F$5&\" and Barix(\"&$D$12&\",reference:=StartOfDay)=\"&A85&\"\", \"Bar\", \"\", \"Close\",\"A5C\",\"0\",\"All\",,,\"False\",\"T\",\"EveryTick\")","v":4020},{"$f":"RTD(\"cqg.rtd\",,\"StudyData\", \"Vol(\"&$D$12&\") when LocalYear(\"&$D$12&\")=\"&$D$6&\" and localMonth(\"&$D$12&\") =\"&$E$6&\" and LocalDay(\"&$D$12&\")=\"&$F$6&\" and Barix(\"&$D$12&\",reference:=StartOfDay)=\"&A85&\"\", \"Bar\", \"\", \"Close\",\"A5C\",\"0\",\"All\",,,\"False\",\"T\",\"EveryTick\")","v":6068},{"$f":"RTD(\"cqg.rtd\",,\"StudyData\", \"Vol(\"&$D$12&\") when LocalYear(\"&$D$12&\")=\"&$D$7&\" and localMonth(\"&$D$12&\") =\"&$E$7&\" and LocalDay(\"&$D$12&\")=\"&$F$7&\" and Barix(\"&$D$12&\",reference:=StartOfDay)=\"&A85&\"\", \"Bar\", \"\", \"Close\",\"A5C\",\"0\",\"All\",,,\"False\",\"T\",\"EveryTick\")","v":3606},{"$f":"RTD(\"cqg.rtd\",,\"StudyData\", \"Vol(\"&$D$12&\") when LocalYear(\"&$D$12&\")=\"&$D$8&\" and localMonth(\"&$D$12&\") =\"&$E$8&\" and LocalDay(\"&$D$12&\")=\"&$F$8&\" and Barix(\"&$D$12&\",reference:=StartOfDay)=\"&A85&\"\", \"Bar\", \"\", \"Close\",\"A5C\",\"0\",\"All\",,,\"False\",\"T\",\"EveryTick\")","v":4473},{"$f":"RTD(\"cqg.rtd\",,\"StudyData\", \"Vol(\"&$D$12&\") when LocalYear(\"&$D$12&\")=\"&$D$9&\" and localMonth(\"&$D$12&\") =\"&$E$9&\" and LocalDay(\"&$D$12&\")=\"&$F$9&\" and Barix(\"&$D$12&\",reference:=StartOfDay)=\"&A85&\"\", \"Bar\", \"\", \"Close\",\"A5C\",\"0\",\"All\",,,\"False\",\"T\",\"EveryTick\")","v":7264},{"$f":"RTD(\"cqg.rtd\",,\"StudyData\", \"Vol(\"&$D$12&\") when LocalYear(\"&$D$12&\")=\"&$D$10&\" and localMonth(\"&$D$12&\") =\"&$E$10&\" and LocalDay(\"&$D$12&\")=\"&$F$10&\" and Barix(\"&$D$12&\",reference:=StartOfDay)=\"&A85&\"\", \"Bar\", \"\", \"Close\",\"A5C\",\"0\",\"All\",,,\"False\",\"T\",\"EveryTick\")","v":5547},{"$f":"IF(H85>(1+(MainDisplay!$O$24/100))*I85,H85,NA())","v":{"$error":"#N/A"}}]
[181,{"$f":"Sheet3!B86","v":"08:05:00"},null,null,null,null,null,{"$f":"RTD(\"cqg.rtd\",,\"StudyData\", \"Vol(\"&$D$12&\") when LocalYear(\"&$D$12&\")=\"&$D$1&\" and localMonth(\"&$D$12&\") =\"&$E$1&\" and LocalDay(\"&$D$12&\")=\"&$F$1&\" and Barix(\"&$D$12&\",reference:=StartOfDay)=\"&A86&\"\", \"Bar\", \"\", \"Close\",\"A5C\",\"0\",\"All\",,,\"False\",\"T\",\"EveryTick\")","v":3431},5619.5555555555557,{"$f":"RTD(\"cqg.rtd\",,\"StudyData\", \"Vol(\"&$D$12&\") when LocalYear(\"&$D$12&\")=\"&$D$2&\" and localMonth(\"&$D$12&\") =\"&$E$2&\" and LocalDay(\"&$D$12&\")=\"&$F$2&\" and Barix(\"&$D$12&\",reference:=StartOfDay)=\"&A86&\"\", \"Bar\", \"\", \"Close\",\"A5C\",\"0\",\"All\",,,\"False\",\"T\",\"EveryTick\")","v":3462},{"$f":"RTD(\"cqg.rtd\",,\"StudyData\", \"Vol(\"&$D$12&\") when LocalYear(\"&$D$12&\")=\"&$D$3&\" and localMonth(\"&$D$12&\") =\"&$E$3&\" and LocalDay(\"&$D$12&\")=\"&$F$3&\" and Barix(\"&$D$12&\",reference:=StartOfDay)=\"&A86&\"\", \"Bar\", \"\", \"Close\",\"A5C\",\"0\",\"All\",,,\"False\",\"T\",\"EveryTick\")","v":2033},{"$f":"RTD(\"cqg.rtd\",,\"StudyData\", \"Vol(\"&$D$12&\") when LocalYear(\"&$D$12&\")=\"&$D$4&\" and localMonth(\"&$D$12&\") =\"&$E$4&\" and LocalDay(\"&$D$12&\")=\"&$F$4&\" and Barix(\"&$D$12&\",reference:=StartOfDay)=\"&A86&\"\", \"Bar\", \"\", \"Close\",\"A5C\",\"0\",\"All\",,,\"False\",\"T\",\"EveryTick\")","v":8705},{"$f":"RTD(\"cqg.rtd\",,\"StudyData\", \"Vol(\"&$D$12&\") when LocalYear(\"&$D$12&\")=\"&$D$5&\" and localMonth(\"&$D$12&\") =\"&$E$5&\" and LocalDay(\"&$D$12&\")=\"&$F$5&\" and Barix(\"&$D$12&\",reference:=StartOfDay)=\"&A86&\"\", \"Bar\", \"\", \"Close\",\"A5C\",\"0\",\"All\",,,\"False\",\"T\",\"EveryTick\")","v":5474},{"$f":"RTD(\"cqg.rtd\",,\"StudyData\", \"Vol(\"&$D$12&\") when LocalYear(\"&$D$12&\")=\"&$D$6&\" and localMonth(\"&$D$12&\") =\"&$E$6&\" and LocalDay(\"&$D$12&\")=\"&$F$6&\" and Barix(\"&$D$12&\",reference:=StartOfDay)=\"&A86&\"\", \"Bar\", \"\", \"Close\",\"A5C\",\"0\",\"All\",,,\"False\",\"T\",\"EveryTick\")","v":5751},{"$f":"RTD(\"cqg.rtd\",,\"StudyData\", \"Vol(\"&$D$12&\") when LocalYear(\"&$D$12&\")=\"&$D$7&\" and localMonth(\"&$D$12&\") =\"&$E$7&\" and LocalDay(\"&$D$12&\")=\"&$F$7&\" and Barix(\"&$D$12&\",reference:=StartOfDay)=\"&A86&\"\", \"Bar\", \"\", \"Close\",\"A5C\",\"0\",\"All\",,,\"False\",\"T\",\"EveryTick\")","v":9055},{"$f":"RTD(\"cqg.rtd\",,\"StudyData\", \"Vol(\"&$D$12&\") when LocalYear(\"&$D$12&\")=\"&$D$8&\" and localMonth(\"&$D$12&\") =\"&$E$8&\" and LocalDay(\"&$D$12&\")=\"&$F$8&\" and Barix(\"&$D$12&\",reference:=StartOfDay)=\"&A86&\"\", \"Bar\", \"\", \"Close\",\"A5C\",\"0\",\"All\",,,\"False\",\"T\",\"EveryTick\")","v":4480},{"$f":"RTD(\"cqg.rtd\",,\"StudyData\", \"Vol(\"&$D$12&\") when LocalYear(\"&$D$12&\")=\"&$D$9&\" and localMonth(\"&$D$12&\") =\"&$E$9&\" and LocalDay(\"&$D$12&\")=\"&$F$9&\" and Barix(\"&$D$12&\",reference:=StartOfDay)=\"&A86&\"\", \"Bar\", \"\", \"Close\",\"A5C\",\"0\",\"All\",,,\"False\",\"T\",\"EveryTick\")","v":4240},{"$f":"RTD(\"cqg.rtd\",,\"StudyData\", \"Vol(\"&$D$12&\") when LocalYear(\"&$D$12&\")=\"&$D$10&\" and localMonth(\"&$D$12&\") =\"&$E$10&\" and LocalDay(\"&$D$12&\")=\"&$F$10&\" and Barix(\"&$D$12&\",reference:=StartOfDay)=\"&A86&\"\", \"Bar\", \"\", \"Close\",\"A5C\",\"0\",\"All\",,,\"False\",\"T\",\"EveryTick\")","v":7376},{"$f":"IF(H86>(1+(MainDisplay!$O$24/100))*I86,H86,NA())","v":{"$error":"#N/A"}}]
[182,{"$f":"Sheet3!B87","v":"08:10:00"},null,null,null,null,null,{"$f":"RTD(\"cqg.rtd\",,\"StudyData\", \"Vol(\"&$D$12&\") when LocalYear(\"&$D$12&\")=\"&$D$1&\" and localMonth(\"&$D$12&\") =\"&$E$1&\" and LocalDay(\"&$D$12&\")=\"&$F$1&\" and Barix(\"&$D$12&\",reference:=StartOfDay)=\"&A87&\"\", \"Bar\", \"\", \"Close\",\"A5C\",\"0\",\"All\",,,\"False\",\"T\",\"EveryTick\")","v":5236},4670.333333333333,{"$f":"RTD(\"cqg.rtd\",,\"StudyData\", \"Vol(\"&$D$12&\") when LocalYear(\"&$D$12&\")=\"&$D$2&\" and localMonth(\"&$D$12&\") =\"&$E$2&\" and LocalDay(\"&$D$12&\")=\"&$F$2&\" and Barix(\"&$D$12&\",reference:=StartOfDay)=\"&A87&\"\", \"Bar\", \"\", \"Close\",\"A5C\",\"0\",\"All\",,,\"False\",\"T\",\"EveryTick\")","v":4690},{"$f":"RTD(\"cqg.rtd\",,\"StudyData\", \"Vol(\"&$D$12&\") when LocalYear(\"&$D$12&\")=\"&$D$3&\" and localMonth(\"&$D$12&\") =\"&$E$3&\" and LocalDay(\"&$D$12&\")=\"&$F$3&\" and Barix(\"&$D$12&\",reference:=StartOfDay)=\"&A87&\"\", \"Bar\", \"\", \"Close\",\"A5C\",\"0\",\"All\",,,\"False\",\"T\",\"EveryTick\")","v":3225},{"$f":"RTD(\"cqg.rtd\",,\"StudyData\", \"Vol(\"&$D$12&\") when LocalYear(\"&$D$12&\")=\"&$D$4&\" and localMonth(\"&$D$12&\") =\"&$E$4&\" and LocalDay(\"&$D$12&\")=\"&$F$4&\" and Barix(\"&$D$12&\",reference:=StartOfDay)=\"&A87&\"\", \"Bar\", \"\", \"Close\",\"A5C\",\"0\",\"All\",,,\"False\",\"T\",\"EveryTick\")","v":5540},{"$f":"RTD(\"cqg.rtd\",,\"StudyData\", \"Vol(\"&$D$12&\") when LocalYear(\"&$D$12&\")=\"&$D$5&\" and localMonth(\"&$D$12&\") =\"&$E$5&\" and LocalDay(\"&$D$12&\")=\"&$F$5&\" and Barix(\"&$D$12&\",reference:=StartOfDay)=\"&A87&\"\", \"Bar\", \"\", \"Close\",\"A5C\",\"0\",\"All\",,,\"False\",\"T\",\"EveryTick\")","v":4190},{"$f":"RTD(\"cqg.rtd\",,\"StudyData\", \"Vol(\"&$D$12&\") when LocalYear(\"&$D$12&\")=\"&$D$6&\" and localMonth(\"&$D$12&\") =\"&$E$6&\" and LocalDay(\"&$D$12&\")=\"&$F$6&\" and Barix(\"&$D$12&\",reference:=StartOfDay)=\"&A87&\"\", \"Bar\", \"\", \"Close\",\"A5C\",\"0\",\"All\",,,\"False\",\"T\",\"EveryTick\")","v":7615},{"$f":"RTD(\"cqg.rtd\",,\"StudyData\", \"Vol(\"&$D$12&\") when LocalYear(\"&$D$12&\")=\"&$D$7&\" and localMonth(\"&$D$12&\") =\"&$E$7&\" and LocalDay(\"&$D$12&\")=\"&$F$7&\" and Barix(\"&$D$12&\",reference:=StartOfDay)=\"&A87&\"\", \"Bar\", \"\", \"Close\",\"A5C\",\"0\",\"All\",,,\"False\",\"T\",\"EveryTick\")","v":4242},{"$f":"RTD(\"cqg.rtd\",,\"StudyData\", \"Vol(\"&$D$12&\") when LocalYear(\"&$D$12&\")=\"&$D$8&\" and localMonth(\"&$D$12&\") =\"&$E$8&\" and LocalDay(\"&$D$12&\")=\"&$F$8&\" and Barix(\"&$D$12&\",reference:=StartOfDay)=\"&A87&\"\", \"Bar\", \"\", \"Close\",\"A5C\",\"0\",\"All\",,,\"False\",\"T\",\"EveryTick\")","v":3914},{"$f":"RTD(\"cqg.rtd\",,\"StudyData\", \"Vol(\"&$D$12&\") when LocalYear(\"&$D$12&\")=\"&$D$9&\" and localMonth(\"&$D$12&\") =\"&$E$9&\" and LocalDay(\"&$D$12&\")=\"&$F$9&\" and Barix(\"&$D$12&\",reference:=StartOfDay)=\"&A87&\"\", \"Bar\", \"\", \"Close\",\"A5C\",\"0\",\"All\",,,\"False\",\"T\",\"EveryTick\")","v":5013},{"$f":"RTD(\"cqg.rtd\",,\"StudyData\", \"Vol(\"&$D$12&\") when LocalYear(\"&$D$12&\")=\"&$D$10&\" and localMonth(\"&$D$12&\") =\"&$E$10&\" and LocalDay(\"&$D$12&\")=\"&$F$10&\" and Barix(\"&$D$12&\",reference:=StartOfDay)=\"&A87&\"\", \"Bar\", \"\", \"Close\",\"A5C\",\"0\",\"All\",,,\"False\",\"T\",\"EveryTick\")","v":3604},{"$f":"IF(H87>(1+(MainDisplay!$O$24/100))*I87,H87,NA())","v":{"$error":"#N/A"}}]
[183,{"$f":"Sheet3!B88","v":"08:15:00"},null,null,null,null,null,{"$f":"RTD(\"cqg.rtd\",,\"StudyData\", \"Vol(\"&$D$12&\") when LocalYear(\"&$D$12&\")=\"&$D$1&\" and localMonth(\"&$D$12&\") =\"&$E$1&\" and LocalDay(\"&$D$12&\")=\"&$F$1&\" and Barix(\"&$D$12&\",reference:=StartOfDay)=\"&A88&\"\", \"Bar\", \"\", \"Close\",\"A5C\",\"0\",\"All\",,,\"False\",\"T\",\"EveryTick\")","v":9188},4845.4444444444443,{"$f":"RTD(\"cqg.rtd\",,\"StudyData\", \"Vol(\"&$D$12&\") when LocalYear(\"&$D$12&\")=\"&$D$2&\" and localMonth(\"&$D$12&\") =\"&$E$2&\" and LocalDay(\"&$D$12&\")=\"&$F$2&\" and Barix(\"&$D$12&\",reference:=StartOfDay)=\"&A88&\"\", \"Bar\", \"\", \"Close\",\"A5C\",\"0\",\"All\",,,\"False\",\"T\",\"EveryTick\")","v":3363},{"$f":"RTD(\"cqg.rtd\",,\"StudyData\", \"Vol(\"&$D$12&\") when LocalYear(\"&$D$12&\")=\"&$D$3&\" and localMonth(\"&$D$12&\") =\"&$E$3&\" and LocalDay(\"&$D$12&\")=\"&$F$3&\" and Barix(\"&$D$12&\",reference:=StartOfDay)=\"&A88&\"\", \"Bar\", \"\", \"Close\",\"A5C\",\"0\",\"All\",,,\"False\",\"T\",\"EveryTick\")","v":4404},{"$f":"RTD(\"cqg.rtd\",,\"StudyData\", \"Vol(\"&$D$12&\") when LocalYear(\"&$D$12&\")=\"&$D$4&\" and localMonth(\"&$D$12&\") =\"&$E$4&\" and LocalDay(\"&$D$12&\")=\"&$F$4&\" and Barix(\"&$D$12&\",reference:=StartOfDay)=\"&A88&\"\", \"Bar\", \"\", \"Close\",\"A5C\",\"0\",\"All\",,,\"False\",\"T\",\"EveryTick\")","v":8617},{"$f":"RTD(\"cqg.rtd\",,\"StudyData\", \"Vol(\"&$D$12&\") when LocalYear(\"&$D$12&\")=\"&$D$5&\" and localMonth(\"&$D$12&\") =\"&$E$5&\" and LocalDay(\"&$D$12&\")=\"&$F$5&\" and Barix(\"&$D$12&\",reference:=StartOfDay)=\"&A88&\"\", \"Bar\", \"\", \"Close\",\"A5C\",\"0\",\"All\",,,\"False\",\"T\",\"EveryTick\")","v":4692},{"$f":"RTD(\"cqg.rtd\",,\"StudyData\", \"Vol(\"&$D$12&\") when LocalYear(\"&$D$12&\")=\"&$D$6&\" and localMonth(\"&$D$12&\") =\"&$E$6&\" and LocalDay(\"&$D$12&\")=\"&$F$6&\" and Barix(\"&$D$12&\",reference:=StartOfDay)=\"&A88&\"\", \"Bar\", \"\", \"Close\",\"A5C\",\"0\",\"All\",,,\"False\",\"T\",\"EveryTick\")","v":6493},{"$f":"RTD(\"cqg.rtd\",,\"StudyData\", \"Vol(\"&$D$12&\") when LocalYear(\"&$D$12&\")=\"&$D$7&\" and localMonth(\"&$D$12&\") =\"&$E$7&\" and LocalDay(\"&$D$12&\")=\"&$F$7&\" and Barix(\"&$D$12&\",reference:=StartOfDay)=\"&A88&\"\", \"Bar\", \"\", \"Close\",\"A5C\",\"0\",\"All\",,,\"False\",\"T\",\"EveryTick\")","v":3644},{"$f":"RTD(\"cqg.rtd\",,\"StudyData\", \"Vol(\"&$D$12&\") when LocalYear(\"&$D$12&\")=\"&$D$8&\" and localMonth(\"&$D$12&\") =\"&$E$8&\" and LocalDay(\"&$D$12&\")=\"&$F$8&\" and Barix(\"&$D$12&\",reference:=StartOfDay)=\"&A88&\"\", \"Bar\", \"\", \"Close\",\"A5C\",\"0\",\"All\",,,\"False\",\"T\",\"EveryTick\")","v":3210},{"$f":"RTD(\"cqg.rtd\",,\"StudyData\", \"Vol(\"&$D$12&\") when LocalYear(\"&$D$12&\")=\"&$D$9&\" and localMonth(\"&$D$12&\") =\"&$E$9&\" and LocalDay(\"&$D$12&\")=\"&$F$9&\" and Barix(\"&$D$12&\",reference:=StartOfDay)=\"&A88&\"\", \"Bar\", \"\", \"Close\",\"A5C\",\"0\",\"All\",,,\"False\",\"T\",\"EveryTick\")","v":4551},{"$f":"RTD(\"cqg.rtd\",,\"StudyData\", \"Vol(\"&$D$12&\") when LocalYear(\"&$D$12&\")=\"&$D$10&\" and localMonth(\"&$D$12&\") =\"&$E$10&\" and LocalDay(\"&$D$12&\")=\"&$F$10&\" and Barix(\"&$D$12&\",reference:=StartOfDay)=\"&A88&\"\", \"Bar\", \"\", \"Close\",\"A5C\",\"0\",\"All\",,,\"False\",\"T\",\"EveryTick\")","v":4635},{"$f":"IF(H88>(1+(MainDisplay!$O$24/100))*I88,H88,NA())","v":9188}]
[184,{"$f":"Sheet3!B89","v":"08:20:00"},null,null,null,null,null,{"$f":"RTD(\"cqg.rtd\",,\"StudyData\", \"Vol(\"&$D$12&\") when LocalYear(\"&$D$12&\")=\"&$D$1&\" and localMonth(\"&$D$12&\") =\"&$E$1&\" and LocalDay(\"&$D$12&\")=\"&$F$1&\" and Barix(\"&$D$12&\",reference:=StartOfDay)=\"&A89&\"\", \"Bar\", \"\", \"Close\",\"A5C\",\"0\",\"All\",,,\"False\",\"T\",\"EveryTick\")","v":4449},4159.8888888888887,{"$f":"RTD(\"cqg.rtd\",,\"StudyData\", \"Vol(\"&$D$12&\") when LocalYear(\"&$D$12&\")=\"&$D$2&\" and localMonth(\"&$D$12&\") =\"&$E$2&\" and LocalDay(\"&$D$12&\")=\"&$F$2&\" and Barix(\"&$D$12&\",reference:=StartOfDay)=\"&A89&\"\", \"Bar\", \"\", \"Close\",\"A5C\",\"0\",\"All\",,,\"False\",\"T\",\"EveryTick\")","v":2896},{"$f":"RTD(\"cqg.rtd\",,\"StudyData\", \"Vol(\"&$D$12&\") when LocalYear(\"&$D$12&\")=\"&$D$3&\" and localMonth(\"&$D$12&\") =\"&$E$3&\" and LocalDay(\"&$D$12&\")=\"&$F$3&\" and Barix(\"&$D$12&\",reference:=StartOfDay)=\"&A89&\"\", \"Bar\", \"\", \"Close\",\"A5C\",\"0\",\"All\",,,\"False\",\"T\",\"EveryTick\")","v":3025},{"$f":"RTD(\"cqg.rtd\",,\"StudyData\", \"Vol(\"&$D$12&\") when LocalYear(\"&$D$12&\")=\"&$D$4&\" and localMonth(\"&$D$12&\") =\"&$E$4&\" and LocalDay(\"&$D$12&\")=\"&$F$4&\" and Barix(\"&$D$12&\",reference:=StartOfDay)=\"&A89&\"\", \"Bar\", \"\", \"Close\",\"A5C\",\"0\",\"All\",,,\"False\",\"T\",\"EveryTick\")","v":3570},{"$f":"RTD(\"cqg.rtd\",,\"StudyData\", \"Vol(\"&$D$12&\") when LocalYear(\"&$D$12&\")=\"&$D$5&\" and localMonth(\"&$D$12&\") =\"&$E$5&\" and LocalDay(\"&$D$12&\")=\"&$F$5&\" and Barix(\"&$D$12&\",reference:=StartOfDay)=\"&A89&\"\", \"Bar\", \"\", \"Close\",\"A5C\",\"0\",\"All\",,,\"False\",\"T\",\"EveryTick\")","v":4682},{"$f":"RTD(\"cqg.rtd\",,\"StudyData\", \"Vol(\"&$D$12&\") when LocalYear(\"&$D$12&\")=\"&$D$6&\" and localMonth(\"&$D$12&\") =\"&$E$6&\" and LocalDay(\"&$D$12&\")=\"&$F$6&\" and Barix(\"&$D$12&\",reference:=StartOfDay)=\"&A89&\"\", \"Bar\", \"\", \"Close\",\"A5C\",\"0\",\"All\",,,\"False\",\"T\",\"EveryTick\")","v":5498},{"$f":"RTD(\"cqg.rtd\",,\"StudyData\", \"Vol(\"&$D$12&\") when LocalYear(\"&$D$12&\")=\"&$D$7&\" and localMonth(\"&$D$12&\") =\"&$E$7&\" and LocalDay(\"&$D$12&\")=\"&$F$7&\" and Barix(\"&$D$12&\",reference:=StartOfDay)=\"&A89&\"\", \"Bar\", \"\", \"Close\",\"A5C\",\"0\",\"All\",,,\"False\",\"T\",\"EveryTick\")","v":7030},{"$f":"RTD(\"cqg.rtd\",,\"StudyData\", \"Vol(\"&$D$12&\") when LocalYear(\"&$D$12&\")=\"&$D$8&\" and localMonth(\"&$D$12&\") =\"&$E$8&\" and LocalDay(\"&$D$12&\")=\"&$F$8&\" and Barix(\"&$D$12&\",reference:=StartOfDay)=\"&A89&\"\", \"Bar\", \"\", \"Close\",\"A5C\",\"0\",\"All\",,,\"False\",\"T\",\"EveryTick\")","v":2265},{"$f":"RTD(\"cqg.rtd\",,\"StudyData\", \"Vol(\"&$D$12&\") when LocalYear(\"&$D$12&\")=\"&$D$9&\" and localMonth(\"&$D$12&\") =\"&$E$9&\" and LocalDay(\"&$D$12&\")=\"&$F$9&\" and Barix(\"&$D$12&\",reference:=StartOfDay)=\"&A89&\"\", \"Bar\", \"\", \"Close\",\"A5C\",\"0\",\"All\",,,\"False\",\"T\",\"EveryTick\")","v":4576},{"$f":"RTD(\"cqg.rtd\",,\"StudyData\", \"Vol(\"&$D$12&\") when LocalYear(\"&$D$12&\")=\"&$D$10&\" and localMonth(\"&$D$12&\") =\"&$E$10&\" and LocalDay(\"&$D$12&\")=\"&$F$10&\" and Barix(\"&$D$12&\",reference:=StartOfDay)=\"&A89&\"\", \"Bar\", \"\", \"Close\",\"A5C\",\"0\",\"All\",,,\"False\",\"T\",\"EveryTick\")","v":3897},{"$f":"IF(H89>(1+(MainDisplay!$O$24/100))*I89,H89,NA())","v":{"$error":"#N/A"}}]
[185,{"$f":"Sheet3!B90","v":"08:25:00"},null,null,null,null,null,{"$f":"RTD(\"cqg.rtd\",,\"StudyData\", \"Vol(\"&$D$12&\") when LocalYear(\"&$D$12&\")=\"&$D$1&\" and localMonth(\"&$D$12&\") =\"&$E$1&\" and LocalDay(\"&$D$12&\")=\"&$F$1&\" and Barix(\"&$D$12&\",reference:=StartOfDay)=\"&A90&\"\", \"Bar\", \"\", \"Close\",\"A5C\",\"0\",\"All\",,,\"False\",\"T\",\"EveryTick\")","v":6706},6404.4444444444443,{"$f":"RTD(\"cqg.rtd\",,\"StudyData\", \"Vol(\"&$D$12&\") when LocalYear(\"&$D$12&\")=\"&$D$2&\" and localMonth(\"&$D$12&\") =\"&$E$2&\" and LocalDay(\"&$D$12&\")=\"&$F$2&\" and Barix(\"&$D$12&\",reference:=StartOfDay)=\"&A90&\"\", \"Bar\", \"\", \"Close\",\"A5C\",\"0\",\"All\",,,\"False\",\"T\",\"EveryTick\")","v":5071},{"$f":"RTD(\"cqg.rtd\",,\"StudyData\", \"Vol(\"&$D$12&\") when LocalYear(\"&$D$12&\")=\"&$D$3&\" and localMonth(\"&$D$12&\") =\"&$E$3&\" and LocalDay(\"&$D$12&\")=\"&$F$3&\" and Barix(\"&$D$12&\",reference:=StartOfDay)=\"&A90&\"\", \"Bar\", \"\", \"Close\",\"A5C\",\"0\",\"All\",,,\"False\",\"T\",\"EveryTick\")","v":3656},{"$f":"RTD(\"cqg.rtd\",,\"StudyData\", \"Vol(\"&$D$12&\") when LocalYear(\"&$D$12&\")=\"&$D$4&\" and localMonth(\"&$D$12&\") =\"&$E$4&\" and LocalDay(\"&$D$12&\")=\"&$F$4&\" and Barix(\"&$D$12&\",reference:=StartOfDay)=\"&A90&\"\", \"Bar\", \"\", \"Close\",\"A5C\",\"0\",\"All\",,,\"False\",\"T\",\"EveryTick\")","v":4987},{"$f":"RTD(\"cqg.rtd\",,\"StudyData\", \"Vol(\"&$D$12&\") when LocalYear(\"&$D$12&\")=\"&$D$5&\" and localMonth(\"&$D$12&\") =\"&$E$5&\" and LocalDay(\"&$D$12&\")=\"&$F$5&\" and Barix(\"&$D$12&\",reference:=StartOfDay)=\"&A90&\"\", \"Bar\", \"\", \"Close\",\"A5C\",\"0\",\"All\",,,\"False\",\"T\",\"EveryTick\")","v":7903},{"$f":"RTD(\"cqg.rtd\",,\"StudyData\", \"Vol(\"&$D$12&\") when LocalYear(\"&$D$12&\")=\"&$D$6&\" and localMonth(\"&$D$12&\") =\"&$E$6&\" and LocalDay(\"&$D$12&\")=\"&$F$6&\" and Barix(\"&$D$12&\",reference:=StartOfDay)=\"&A90&\"\", \"Bar\", \"\", \"Close\",\"A5C\",\"0\",\"All\",,,\"False\",\"T\",\"EveryTick\")","v":8749},{"$f":"RTD(\"cqg.rtd\",,\"StudyData\", \"Vol(\"&$D$12&\") when LocalYear(\"&$D$12&\")=\"&$D$7&\" and localMonth(\"&$D$12&\") =\"&$E$7&\" and LocalDay(\"&$D$12&\")=\"&$F$7&\" and Barix(\"&$D$12&\",reference:=StartOfDay)=\"&A90&\"\", \"Bar\", \"\", \"Close\",\"A5C\",\"0\",\"All\",,,\"False\",\"T\",\"EveryTick\")","v":7662},{"$f":"RTD(\"cqg.rtd\",,\"StudyData\", \"Vol(\"&$D$12&\") when LocalYear(\"&$D$12&\")=\"&$D$8&\" and localMonth(\"&$D$12&\") =\"&$E$8&\" and LocalDay(\"&$D$12&\")=\"&$F$8&\" and Barix(\"&$D$12&\",reference:=StartOfDay)=\"&A90&\"\", \"Bar\", \"\", \"Close\",\"A5C\",\"0\",\"All\",,,\"False\",\"T\",\"EveryTick\")","v":5211},{"$f":"RTD(\"cqg.rtd\",,\"StudyData\", \"Vol(\"&$D$12&\") when LocalYear(\"&$D$12&\")=\"&$D$9&\" and localMonth(\"&$D$12&\") =\"&$E$9&\" and LocalDay(\"&$D$12&\")=\"&$F$9&\" and Barix(\"&$D$12&\",reference:=StartOfDay)=\"&A90&\"\", \"Bar\", \"\", \"Close\",\"A5C\",\"0\",\"All\",,,\"False\",\"T\",\"EveryTick\")","v":6111},{"$f":"RTD(\"cqg.rtd\",,\"StudyData\", \"Vol(\"&$D$12&\") when LocalYear(\"&$D$12&\")=\"&$D$10&\" and localMonth(\"&$D$12&\") =\"&$E$10&\" and LocalDay(\"&$D$12&\")=\"&$F$10&\" and Barix(\"&$D$12&\",reference:=StartOfDay)=\"&A90&\"\", \"Bar\", \"\", \"Close\",\"A5C\",\"0\",\"All\",,,\"False\",\"T\",\"EveryTick\")","v":8290},{"$f":"IF(H90>(1+(MainDisplay!$O$24/100))*I90,H90,NA())","v":{"$error":"#N/A"}}]
[186,{"$f":"Sheet3!B91","v":"08:30:00"},null,null,null,null,null,{"$f":"RTD(\"cqg.rtd\",,\"StudyData\", \"Vol(\"&$D$12&\") when LocalYear(\"&$D$12&\")=\"&$D$1&\" and localMonth(\"&$D$12&\") =\"&$E$1&\" and LocalDay(\"&$D$12&\")=\"&$F$1&\" and Barix(\"&$D$12&\",reference:=StartOfDay)=\"&A91&\"\", \"Bar\", \"\", \"Close\",\"A5C\",\"0\",\"All\",,,\"False\",\"T\",\"EveryTick\")","v":36076},46502.555555555555,{"$f":"RTD(\"cqg.rtd\",,\"StudyData\", \"Vol(\"&$D$12&\") when LocalYear(\"&$D$12&\")=\"&$D$2&\" and localMonth(\"&$D$12&\") =\"&$E$2&\" and LocalDay(\"&$D$12&\")=\"&$F$2&\" and Barix(\"&$D$12&\",reference:=StartOfDay)=\"&A91&\"\", \"Bar\", \"\", \"Close\",\"A5C\",\"0\",\"All\",,,\"False\",\"T\",\"EveryTick\")","v":38822},{"$f":"RTD(\"cqg.rtd\",,\"StudyData\", \"Vol(\"&$D$12&\") when LocalYear(\"&$D$12&\")=\"&$D$3&\" and localMonth(\"&$D$12&\") =\"&$E$3&\" and LocalDay(\"&$D$12&\")=\"&$F$3&\" and Barix(\"&$D$12&\",reference:=StartOfDay)=\"&A91&\"\", \"Bar\", \"\", \"Close\",\"A5C\",\"0\",\"All\",,,\"False\",\"T\",\"EveryTick\")","v":31790},{"$f":"RTD(\"cqg.rtd\",,\"StudyData\", \"Vol(\"&$D$12&\") when LocalYear(\"&$D$12&\")=\"&$D$4&\" and localMonth(\"&$D$12&\") =\"&$E$4&\" and LocalDay(\"&$D$12&\")=\"&$F$4&\" and Barix(\"&$D$12&\",reference:=StartOfDay)=\"&A91&\"\", \"Bar\", \"\", \"Close\",\"A5C\",\"0\",\"All\",,,\"False\",\"T\",\"EveryTick\")","v":44036},{"$f":"RTD(\"cqg.rtd\",,\"StudyData\", \"Vol(\"&$D$12&\") when LocalYear(\"&$D$12&\")=\"&$D$5&\" and localMonth(\"&$D$12&\") =\"&$E$5&\" and LocalDay(\"&$D$12&\")=\"&$F$5&\" and Barix(\"&$D$12&\",reference:=StartOfDay)=\"&A91&\"\", \"Bar\", \"\", \"Close\",\"A5C\",\"0\",\"All\",,,\"False\",\"T\",\"EveryTick\")","v":52312},{"$f":"RTD(\"cqg.rtd\",,\"StudyData\", \"Vol(\"&$D$12&\") when LocalYear(\"&$D$12&\")=\"&$D$6&\" and localMonth(\"&$D$12&\") =\"&$E$6&\" and LocalDay(\"&$D$12&\")=\"&$F$6&\" and Barix(\"&$D$12&\",reference:=StartOfDay)=\"&A91&\"\", \"Bar\", \"\", \"Close\",\"A5C\",\"0\",\"All\",,,\"False\",\"T\",\"EveryTick\")","v":56467},{"$f":"RTD(\"cqg.rtd\",,\"StudyData\", \"Vol(\"&$D$12&\") when LocalYear(\"&$D$12&\")=\"&$D$7&\" and localMonth(\"&$D$12&\") =\"&$E$7&\" and LocalDay(\"&$D$12&\")=\"&$F$7&\" and Barix(\"&$D$12&\",reference:=StartOfDay)=\"&A91&\"\", \"Bar\", \"\", \"Close\",\"A5C\",\"0\",\"All\",,,\"False\",\"T\",\"EveryTick\")","v":46845},{"$f":"RTD(\"cqg.rtd\",,\"StudyData\", \"Vol(\"&$D$12&\") when LocalYear(\"&$D$12&\")=\"&$D$8&\" and localMonth(\"&$D$12&\") =\"&$E$8&\" and LocalDay(\"&$D$12&\")=\"&$F$8&\" and Barix(\"&$D$12&\",reference:=StartOfDay)=\"&A91&\"\", \"Bar\", \"\", \"Close\",\"A5C\",\"0\",\"All\",,,\"False\",\"T\",\"EveryTick\")","v":52609},{"$f":"RTD(\"cqg.rtd\",,\"StudyData\", \"Vol(\"&$D$12&\") when LocalYear(\"&$D$12&\")=\"&$D$9&\" and localMonth(\"&$D$12&\") =\"&$E$9&\" and LocalDay(\"&$D$12&\")=\"&$F$9&\" and Barix(\"&$D$12&\",reference:=StartOfDay)=\"&A91&\"\", \"Bar\", \"\", \"Close\",\"A5C\",\"0\",\"All\",,,\"False\",\"T\",\"EveryTick\")","v":54529},{"$f":"RTD(\"cqg.rtd\",,\"StudyData\", \"Vol(\"&$D$12&\") when LocalYear(\"&$D$12&\")=\"&$D$10&\" and localMonth(\"&$D$12&\") =\"&$E$10&\" and LocalDay(\"&$D$12&\")=\"&$F$10&\" and Barix(\"&$D$12&\",reference:=StartOfDay)=\"&A91&\"\", \"Bar\", \"\", \"Close\",\"A5C\",\"0\",\"All\",,,\"False\",\"T\",\"EveryTick\")","v":41113},{"$f":"IF(H91>(1+(MainDisplay!$O$24/100))*I91,H91,NA())","v":{"$error":"#N/A"}}]
[187,{"$f":"Sheet3!B92","v":"08:35:00"},null,null,null,null,null,{"$f":"RTD(\"cqg.rtd\",,\"StudyData\", \"Vol(\"&$D$12&\") when LocalYear(\"&$D$12&\")=\"&$D$1&\" and localMonth(\"&$D$12&\") =\"&$E$1&\" and LocalDay(\"&$D$12&\")=\"&$F$1&\" and Barix(\"&$D$12&\",reference:=StartOfDay)=\"&A92&\"\", \"Bar\", \"\", \"Close\",\"A5C\",\"0\",\"All\",,,\"False\",\"T\",\"EveryTick\")","v":34199},32204.111111111109,{"$f":"RTD(\"cqg.rtd\",,\"StudyData\", \"Vol(\"&$D$12&\") when LocalYear(\"&$D$12&\")=\"&$D$2&\" and localMonth(\"&$D$12&\") =\"&$E$2&\" and LocalDay(\"&$D$12&\")=\"&$F$2&\" and Barix(\"&$D$12&\",reference:=StartOfDay)=\"&A92&\"\", \"Bar\", \"\", \"Close\",\"A5C\",\"0\",\"All\",,,\"False\",\"T\",\"EveryTick\")","v":17764},{"$f":"RTD(\"cqg.rtd\",,\"StudyData\", \"Vol(\"&$D$12&\") when LocalYear(\"&$D$12&\")=\"&$D$3&\" and localMonth(\"&$D$12&\") =\"&$E$3&\" and LocalDay(\"&$D$12&\")=\"&$F$3&\" and Barix(\"&$D$12&\",reference:=StartOfDay)=\"&A92&\"\", \"Bar\", \"\", \"Close\",\"A5C\",\"0\",\"All\",,,\"False\",\"T\",\"EveryTick\")","v":21168},{"$f":"RTD(\"cqg.rtd\",,\"StudyData\", \"Vol(\"&$D$12&\") when LocalYear(\"&$D$12&\")=\"&$D$4&\" and localMonth(\"&$D$12&\") =\"&$E$4&\" and LocalDay(\"&$D$12&\")=\"&$F$4&\" and Barix(\"&$D$12&\",reference:=StartOfDay)=\"&A92&\"\", \"Bar\", \"\", \"Close\",\"A5C\",\"0\",\"All\",,,\"False\",\"T\",\"EveryTick\")","v":34811},{"$f":"RTD(\"cqg.rtd\",,\"StudyData\", \"Vol(\"&$D$12&\") when LocalYear(\"&$D$12&\")=\"&$D$5&\" and localMonth(\"&$D$12&\") =\"&$E$5&\" and LocalDay(\"&$D$12&\")=\"&$F$5&\" and Barix(\"&$D$12&\",reference:=StartOfDay)=\"&A92&\"\", \"Bar\", \"\", \"Close\",\"A5C\",\"0\",\"All\",,,\"False\",\"T\",\"EveryTick\")","v":39763},{"$f":"RTD(\"cqg.rtd\",,\"StudyData\", \"Vol(\"&$D$12&\") when LocalYear(\"&$D$12&\")=\"&$D$6&\" and localMonth(\"&$D$12&\") =\"&$E$6&\" and LocalDay(\"&$D$12&\")=\"&$F$6&\" and Barix(\"&$D$12&\",reference:=StartOfDay)=\"&A92&\"\", \"Bar\", \"\", \"Close\",\"A5C\",\"0\",\"All\",,,\"False\",\"T\",\"EveryTick\")","v":36544},{"$f":"RTD(\"cqg.rtd\",,\"StudyData\", \"Vol(\"&$D$12&\") when LocalYear(\"&$D$12&\")=\"&$D$7&\" and localMonth(\"&$D$12&\") =\"&$E$7&\" and LocalDay(\"&$D$12&\")=\"&$F$7&\" and Barix(\"&$D$12&\",reference:=StartOfDay)=\"&A92&\"\", \"Bar\", \"\", \"Close\",\"A5C\",\"0\",\"All\",,,\"False\",\"T\",\"EveryTick\")","v":42435},{"$f":"RTD(\"cqg.rtd\",,\"StudyData\", \"Vol(\"&$D$12&\") when LocalYear(\"&$D$12&\")=\"&$D$8&\" and localMonth(\"&$D$12&\") =\"&$E$8&\" and LocalDay(\"&$D$12&\")=\"&$F$8&\" and Barix(\"&$D$12&\",reference:=StartOfDay)=\"&A92&\"\", \"Bar\", \"\", \"Close\",\"A5C\",\"0\",\"All\",,,\"False\",\"T\",\"EveryTick\")","v":27789},{"$f":"RTD(\"cqg.rtd\",,\"StudyData\", \"Vol(\"&$D$12&\") when LocalYear(\"&$D$12&\")=\"&$D$9&\" and localMonth(\"&$D$12&\") =\"&$E$9&\" and LocalDay(\"&$D$12&\")=\"&$F$9&\" and Barix(\"&$D$12&\",reference:=StartOfDay)=\"&A92&\"\", \"Bar\", \"\", \"Close\",\"A5C\",\"0\",\"All\",,,\"False\",\"T\",\"EveryTick\")","v":41757},{"$f":"RTD(\"cqg.rtd\",,\"StudyData\", \"Vol(\"&$D$12&\") when LocalYear(\"&$D$12&\")=\"&$D$10&\" and localMonth(\"&$D$12&\") =\"&$E$10&\" and LocalDay(\"&$D$12&\")=\"&$F$10&\" and Barix(\"&$D$12&\",reference:=StartOfDay)=\"&A92&\"\", \"Bar\", \"\", \"Close\",\"A5C\",\"0\",\"All\",,,\"False\",\"T\",\"EveryTick\")","v":27806},{"$f":"IF(H92>(1+(MainDisplay!$O$24/100))*I92,H92,NA())","v":{"$error":"#N/A"}}]
[188,{"$f":"Sheet3!B93","v":"08:40:00"},null,null,null,null,null,{"$f":"RTD(\"cqg.rtd\",,\"StudyData\", \"Vol(\"&$D$12&\") when LocalYear(\"&$D$12&\")=\"&$D$1&\" and localMonth(\"&$D$12&\") =\"&$E$1&\" and LocalDay(\"&$D$12&\")=\"&$F$1&\" and Barix(\"&$D$12&\",reference:=StartOfDay)=\"&A93&\"\", \"Bar\", \"\", \"Close\",\"A5C\",\"0\",\"All\",,,\"False\",\"T\",\"EveryTick\")","v":27354},27688.333333333332,{"$f":"RTD(\"cqg.rtd\",,\"StudyData\", \"Vol(\"&$D$12&\") when LocalYear(\"&$D$12&\")=\"&$D$2&\" and localMonth(\"&$D$12&\") =\"&$E$2&\" and LocalDay(\"&$D$12&\")=\"&$F$2&\" and Barix(\"&$D$12&\",reference:=StartOfDay)=\"&A93&\"\", \"Bar\", \"\", \"Close\",\"A5C\",\"0\",\"All\",,,\"False\",\"T\",\"EveryTick\")","v":25041},{"$f":"RTD(\"cqg.rtd\",,\"StudyData\", \"Vol(\"&$D$12&\") when LocalYear(\"&$D$12&\")=\"&$D$3&\" and localMonth(\"&$D$12&\") =\"&$E$3&\" and LocalDay(\"&$D$12&\")=\"&$F$3&\" and Barix(\"&$D$12&\",reference:=StartOfDay)=\"&A93&\"\", \"Bar\", \"\", \"Close\",\"A5C\",\"0\",\"All\",,,\"False\",\"T\",\"EveryTick\")","v":24375},{"$f":"RTD(\"cqg.rtd\",,\"StudyData\", \"Vol(\"&$D$12&\") when LocalYear(\"&$D$12&\")=\"&$D$4&\" and localMonth(\"&$D$12&\") =\"&$E$4&\" and LocalDay(\"&$D$12&\")=\"&$F$4&\" and Barix(\"&$D$12&\",reference:=StartOfDay)=\"&A93&\"\", \"Bar\", \"\", \"Close\",\"A5C\",\"0\",\"All\",,,\"False\",\"T\",\"EveryTick\")","v":31570},{"$f":"RTD(\"cqg.rtd\",,\"StudyData\", \"Vol(\"&$D$12&\") when LocalYear(\"&$D$12&\")=\"&$D$5&\" and localMonth(\"&$D$12&\") =\"&$E$5&\" and LocalDay(\"&$D$12&\")=\"&$F$5&\" and Barix(\"&$D$12&\",reference:=StartOfDay)=\"&A93&\"\", \"Bar\", \"\", \"Close\",\"A5C\",\"0\",\"All\",,,\"False\",\"T\",\"EveryTick\")","v":31843},{"$f":"RTD(\"cqg.rtd\",,\"StudyData\", \"Vol(\"&$D$12&\") when LocalYear(\"&$D$12&\")=\"&$D$6&\" and localMonth(\"&$D$12&\") =\"&$E$6&\" and LocalDay(\"&$D$12&\")=\"&$F$6&\" and Barix(\"&$D$12&\",reference:=StartOfDay)=\"&A93&\"\", \"Bar\", \"\", \"Close\",\"A5C\",\"0\",\"All\",,,\"False\",\"T\",\"EveryTick\")","v":29646},{"$f":"RTD(\"cqg.rtd\",,\"StudyData\", \"Vol(\"&$D$12&\") when LocalYear(\"&$D$12&\")=\"&$D$7&\" and localMonth(\"&$D$12&\") =\"&$E$7&\" and LocalDay(\"&$D$12&\")=\"&$F$7&\" and Barix(\"&$D$12&\",reference:=StartOfDay)=\"&A93&\"\", \"Bar\", \"\", \"Close\",\"A5C\",\"0\",\"All\",,,\"False\",\"T\",\"EveryTick\")","v":20185},{"$f":"RTD(\"cqg.rtd\",,\"StudyData\", \"Vol(\"&$D$12&\") when LocalYear(\"&$D$12&\")=\"&$D$8&\" and localMonth(\"&$D$12&\") =\"&$E$8&\" and LocalDay(\"&$D$12&\")=\"&$F$8&\" and Barix(\"&$D$12&\",reference:=StartOfDay)=\"&A93&\"\", \"Bar\", \"\", \"Close\",\"A5C\",\"0\",\"All\",,,\"False\",\"T\",\"EveryTick\")","v":32590},{"$f":"RTD(\"cqg.rtd\",,\"StudyData\", \"Vol(\"&$D$12&\") when LocalYear(\"&$D$12&\")=\"&$D$9&\" and localMonth(\"&$D$12&\") =\"&$E$9&\" and LocalDay(\"&$D$12&\")=\"&$F$9&\" and Barix(\"&$D$12&\",reference:=StartOfDay)=\"&A93&\"\", \"Bar\", \"\", \"Close\",\"A5C\",\"0\",\"All\",,,\"False\",\"T\",\"EveryTick\")","v":31018},{"$f":"RTD(\"cqg.rtd\",,\"StudyData\", \"Vol(\"&$D$12&\") when LocalYear(\"&$D$12&\")=\"&$D$10&\" and localMonth(\"&$D$12&\") =\"&$E$10&\" and LocalDay(\"&$D$12&\")=\"&$F$10&\" and Barix(\"&$D$12&\",reference:=StartOfDay)=\"&A93&\"\", \"Bar\", \"\", \"Close\",\"A5C\",\"0\",\"All\",,,\"False\",\"T\",\"EveryTick\")","v":22927},{"$f":"IF(H93>(1+(MainDisplay!$O$24/100))*I93,H93,NA())","v":{"$error":"#N/A"}}]
[189,{"$f":"Sheet3!B94","v":"08:45:00"},null,null,null,null,null,{"$f":"RTD(\"cqg.rtd\",,\"StudyData\", \"Vol(\"&$D$12&\") when LocalYear(\"&$D$12&\")=\"&$D$1&\" and localMonth(\"&$D$12&\") =\"&$E$1&\" and LocalDay(\"&$D$12&\")=\"&$F$1&\" and Barix(\"&$D$12&\",reference:=StartOfDay)=\"&A94&\"\", \"Bar\", \"\", \"Close\",\"A5C\",\"0\",\"All\",,,\"False\",\"T\",\"EveryTick\")","v":25164},28992.111111111109,{"$f":"RTD(\"cqg.rtd\",,\"StudyData\", \"Vol(\"&$D$12&\") when LocalYear(\"&$D$12&\")=\"&$D$2&\" and localMonth(\"&$D$12&\") =\"&$E$2&\" and LocalDay(\"&$D$12&\")=\"&$F$2&\" and Barix(\"&$D$12&\",reference:=StartOfDay)=\"&A94&\"\", \"Bar\", \"\", \"Close\",\"A5C\",\"0\",\"All\",,,\"False\",\"T\",\"EveryTick\")","v":32396},{"$f":"RTD(\"cqg.rtd\",,\"StudyData\", \"Vol(\"&$D$12&\") when LocalYear(\"&$D$12&\")=\"&$D$3&\" and localMonth(\"&$D$12&\") =\"&$E$3&\" and LocalDay(\"&$D$12&\")=\"&$F$3&\" and Barix(\"&$D$12&\",reference:=StartOfDay)=\"&A94&\"\", \"Bar\", \"\", \"Close\",\"A5C\",\"0\",\"All\",,,\"False\",\"T\",\"EveryTick\")","v":22265},{"$f":"RTD(\"cqg.rtd\",,\"StudyData\", \"Vol(\"&$D$12&\") when LocalYear(\"&$D$12&\")=\"&$D$4&\" and localMonth(\"&$D$12&\") =\"&$E$4&\" and LocalDay(\"&$D$12&\")=\"&$F$4&\" and Barix(\"&$D$12&\",reference:=StartOfDay)=\"&A94&\"\", \"Bar\", \"\", \"Close\",\"A5C\",\"0\",\"All\",,,\"False\",\"T\",\"EveryTick\")","v":30189},{"$f":"RTD(\"cqg.rtd\",,\"StudyData\", \"Vol(\"&$D$12&\") when LocalYear(\"&$D$12&\")=\"&$D$5&\" and localMonth(\"&$D$12&\") =\"&$E$5&\" and LocalDay(\"&$D$12&\")=\"&$F$5&\" and Barix(\"&$D$12&\",reference:=StartOfDay)=\"&A94&\"\", \"Bar\", \"\", \"Close\",\"A5C\",\"0\",\"All\",,,\"False\",\"T\",\"EveryTick\")","v":28348},{"$f":"RTD(\"cqg.rtd\",,\"StudyData\", \"Vol(\"&$D$12&\") when LocalYear(\"&$D$12&\")=\"&$D$6&\" and localMonth(\"&$D$12&\") =\"&$E$6&\" and LocalDay(\"&$D$12&\")=\"&$F$6&\" and Barix(\"&$D$12&\",reference:=StartOfDay)=\"&A94&\"\", \"Bar\", \"\", \"Close\",\"A5C\",\"0\",\"All\",,,\"False\",\"T\",\"EveryTick\")","v":28122},{"$f":"RTD(\"cqg.rtd\",,\"StudyData\", \"Vol(\"&$D$12&\") when LocalYear(\"&$D$12&\")=\"&$D$7&\" and localMonth(\"&$D$12&\") =\"&$E$7&\" and LocalDay(\"&$D$12&\")=\"&$F$7&\" and Barix(\"&$D$12&\",reference:=StartOfDay)=\"&A94&\"\", \"Bar\", \"\", \"Close\",\"A5C\",\"0\",\"All\",,,\"False\",\"T\",\"EveryTick\")","v":31106},{"$f":"RTD(\"cqg.rtd\",,\"StudyData\", \"Vol(\"&$D$12&\") when LocalYear(\"&$D$12&\")=\"&$D$8&\" and localMonth(\"&$D$12&\") =\"&$E$8&\" and LocalDay(\"&$D$12&\")=\"&$F$8&\" and Barix(\"&$D$12&\",reference:=StartOfDay)=\"&A94&\"\", \"Bar\", \"\", \"Close\",\"A5C\",\"0\",\"All\",,,\"False\",\"T\",\"EveryTick\")","v":24290},{"$f":"RTD(\"cqg.rtd\",,\"StudyData\", \"Vol(\"&$D$12&\") when LocalYear(\"&$D$12&\")=\"&$D$9&\" and localMonth(\"&$D$12&\") =\"&$E$9&\" and LocalDay(\"&$D$12&\")=\"&$F$9&\" and Barix(\"&$D$12&\",reference:=StartOfDay)=\"&A94&\"\", \"Bar\", \"\", \"Close\",\"A5C\",\"0\",\"All\",,,\"False\",\"T\",\"EveryTick\")","v":39930},{"$f":"RTD(\"cqg.rtd\",,\"StudyData\", \"Vol(\"&$D$12&\") when LocalYear(\"&$D$12&\")=\"&$D$10&\" and localMonth(\"&$D$12&\") =\"&$E$10&\" and LocalDay(\"&$D$12&\")=\"&$F$10&\" and Barix(\"&$D$12&\",reference:=StartOfDay)=\"&A94&\"\", \"Bar\", \"\", \"Close\",\"A5C\",\"0\",\"All\",,,\"False\",\"T\",\"EveryTick\")","v":24283},{"$f":"IF(H94>(1+(MainDisplay!$O$24/100))*I94,H94,NA())","v":{"$error":"#N/A"}}]
[190,{"$f":"Sheet3!B95","v":"08:50:00"},null,null,null,null,null,{"$f":"RTD(\"cqg.rtd\",,\"StudyData\", \"Vol(\"&$D$12&\") when LocalYear(\"&$D$12&\")=\"&$D$1&\" and localMonth(\"&$D$12&\") =\"&$E$1&\" and LocalDay(\"&$D$12&\")=\"&$F$1&\" and Barix(\"&$D$12&\",reference:=StartOfDay)=\"&A95&\"\", \"Bar\", \"\", \"Close\",\"A5C\",\"0\",\"All\",,,\"False\",\"T\",\"EveryTick\")","v":29033},27465.888888888891,{"$f":"RTD(\"cqg.rtd\",,\"StudyData\", \"Vol(\"&$D$12&\") when LocalYear(\"&$D$12&\")=\"&$D$2&\" and localMonth(\"&$D$12&\") =\"&$E$2&\" and LocalDay(\"&$D$12&\")=\"&$F$2&\" and Barix(\"&$D$12&\",reference:=StartOfDay)=\"&A95&\"\", \"Bar\", \"\", \"Close\",\"A5C\",\"0\",\"All\",,,\"False\",\"T\",\"EveryTick\")","v":28426},{"$f":"RTD(\"cqg.rtd\",,\"StudyData\", \"Vol(\"&$D$12&\") when LocalYear(\"&$D$12&\")=\"&$D$3&\" and localMonth(\"&$D$12&\") =\"&$E$3&\" and LocalDay(\"&$D$12&\")=\"&$F$3&\" and Barix(\"&$D$12&\",reference:=StartOfDay)=\"&A95&\"\", \"Bar\", \"\", \"Close\",\"A5C\",\"0\",\"All\",,,\"False\",\"T\",\"EveryTick\")","v":20706},{"$f":"RTD(\"cqg.rtd\",,\"StudyData\", \"Vol(\"&$D$12&\") when LocalYear(\"&$D$12&\")=\"&$D$4&\" and localMonth(\"&$D$12&\") =\"&$E$4&\" and LocalDay(\"&$D$12&\")=\"&$F$4&\" and Barix(\"&$D$12&\",reference:=StartOfDay)=\"&A95&\"\", \"Bar\", \"\", \"Close\",\"A5C\",\"0\",\"All\",,,\"False\",\"T\",\"EveryTick\")","v":26193},{"$f":"RTD(\"cqg.rtd\",,\"StudyData\", \"Vol(\"&$D$12&\") when LocalYear(\"&$D$12&\")=\"&$D$5&\" and localMonth(\"&$D$12&\") =\"&$E$5&\" and LocalDay(\"&$D$12&\")=\"&$F$5&\" and Barix(\"&$D$12&\",reference:=StartOfDay)=\"&A95&\"\", \"Bar\", \"\", \"Close\",\"A5C\",\"0\",\"All\",,,\"False\",\"T\",\"EveryTick\")","v":26428},{"$f":"RTD(\"cqg.rtd\",,\"StudyData\", \"Vol(\"&$D$12&\") when LocalYear(\"&$D$12&\")=\"&$D$6&\" and localMonth(\"&$D$12&\") =\"&$E$6&\" and LocalDay(\"&$D$12&\")=\"&$F$6&\" and Barix(\"&$D$12&\",reference:=StartOfDay)=\"&A95&\"\", \"Bar\", \"\", \"Close\",\"A5C\",\"0\",\"All\",,,\"False\",\"T\",\"EveryTick\")","v":29972},{"$f":"RTD(\"cqg.rtd\",,\"StudyData\", \"Vol(\"&$D$12&\") when LocalYear(\"&$D$12&\")=\"&$D$7&\" and localMonth(\"&$D$12&\") =\"&$E$7&\" and LocalDay(\"&$D$12&\")=\"&$F$7&\" and Barix(\"&$D$12&\",reference:=StartOfDay)=\"&A95&\"\", \"Bar\", \"\", \"Close\",\"A5C\",\"0\",\"All\",,,\"False\",\"T\",\"EveryTick\")","v":31192},{"$f":"RTD(\"cqg.rtd\",,\"StudyData\", \"Vol(\"&$D$12&\") when LocalYear(\"&$D$12&\")=\"&$D$8&\" and localMonth(\"&$D$12&\") =\"&$E$8&\" and LocalDay(\"&$D$12&\")=\"&$F$8&\" and Barix(\"&$D$12&\",reference:=StartOfDay)=\"&A95&\"\", \"Bar\", \"\", \"Close\",\"A5C\",\"0\",\"All\",,,\"False\",\"T\",\"EveryTick\")","v":23753},{"$f":"RTD(\"cqg.rtd\",,\"StudyData\", \"Vol(\"&$D$12&\") when LocalYear(\"&$D$12&\")=\"&$D$9&\" and localMonth(\"&$D$12&\") =\"&$E$9&\" and LocalDay(\"&$D$12&\")=\"&$F$9&\" and Barix(\"&$D$12&\",reference:=StartOfDay)=\"&A95&\"\", \"Bar\", \"\", \"Close\",\"A5C\",\"0\",\"All\",,,\"False\",\"T\",\"EveryTick\")","v":37163},{"$f":"RTD(\"cqg.rtd\",,\"StudyData\", \"Vol(\"&$D$12&\") when LocalYear(\"&$D$12&\")=\"&$D$10&\" and localMonth(\"&$D$12&\") =\"&$E$10&\" and LocalDay(\"&$D$12&\")=\"&$F$10&\" and Barix(\"&$D$12&\",reference:=StartOfDay)=\"&A95&\"\", \"Bar\", \"\", \"Close\",\"A5C\",\"0\",\"All\",,,\"False\",\"T\",\"EveryTick\")","v":23360},{"$f":"IF(H95>(1+(MainDisplay!$O$24/100))*I95,H95,NA())","v":{"$error":"#N/A"}}]
[191,{"$f":"Sheet3!B96","v":"08:55:00"},null,null,null,null,null,{"$f":"RTD(\"cqg.rtd\",,\"StudyData\", \"Vol(\"&$D$12&\") when LocalYear(\"&$D$12&\")=\"&$D$1&\" and localMonth(\"&$D$12&\") =\"&$E$1&\" and LocalDay(\"&$D$12&\")=\"&$F$1&\" and Barix(\"&$D$12&\",reference:=StartOfDay)=\"&A96&\"\", \"Bar\", \"\", \"Close\",\"A5C\",\"0\",\"All\",,,\"False\",\"T\",\"EveryTick\")","v":25731},22034.333333333332,{"$f":"RTD(\"cqg.rtd\",,\"StudyData\", \"Vol(\"&$D$12&\") when LocalYear(\"&$D$12&\")=\"&$D$2&\" and localMonth(\"&$D$12&\") =\"&$E$2&\" and LocalDay(\"&$D$12&\")=\"&$F$2&\" and Barix(\"&$D$12&\",reference:=StartOfDay)=\"&A96&\"\", \"Bar\", \"\", \"Close\",\"A5C\",\"0\",\"All\",,,\"False\",\"T\",\"EveryTick\")","v":18616},{"$f":"RTD(\"cqg.rtd\",,\"StudyData\", \"Vol(\"&$D$12&\") when LocalYear(\"&$D$12&\")=\"&$D$3&\" and localMonth(\"&$D$12&\") =\"&$E$3&\" and LocalDay(\"&$D$12&\")=\"&$F$3&\" and Barix(\"&$D$12&\",reference:=StartOfDay)=\"&A96&\"\", \"Bar\", \"\", \"Close\",\"A5C\",\"0\",\"All\",,,\"False\",\"T\",\"EveryTick\")","v":15004},{"$f":"RTD(\"cqg.rtd\",,\"StudyData\", \"Vol(\"&$D$12&\") when LocalYear(\"&$D$12&\")=\"&$D$4&\" and localMonth(\"&$D$12&\") =\"&$E$4&\" and LocalDay(\"&$D$12&\")=\"&$F$4&\" and Barix(\"&$D$12&\",reference:=StartOfDay)=\"&A96&\"\", \"Bar\", \"\", \"Close\",\"A5C\",\"0\",\"All\",,,\"False\",\"T\",\"EveryTick\")","v":18874},{"$f":"RTD(\"cqg.rtd\",,\"StudyData\", \"Vol(\"&$D$12&\") when LocalYear(\"&$D$12&\")=\"&$D$5&\" and localMonth(\"&$D$12&\") =\"&$E$5&\" and LocalDay(\"&$D$12&\")=\"&$F$5&\" and Barix(\"&$D$12&\",reference:=StartOfDay)=\"&A96&\"\", \"Bar\", \"\", \"Close\",\"A5C\",\"0\",\"All\",,,\"False\",\"T\",\"EveryTick\")","v":21791},{"$f":"RTD(\"cqg.rtd\",,\"StudyData\", \"Vol(\"&$D$12&\") when LocalYear(\"&$D$12&\")=\"&$D$6&\" and localMonth(\"&$D$12&\") =\"&$E$6&\" and LocalDay(\"&$D$12&\")=\"&$F$6&\" and Barix(\"&$D$12&\",reference:=StartOfDay)=\"&A96&\"\", \"Bar\", \"\", \"Close\",\"A5C\",\"0\",\"All\",,,\"False\",\"T\",\"EveryTick\")","v":36404},{"$f":"RTD(\"cqg.rtd\",,\"StudyData\", \"Vol(\"&$D$12&\") when LocalYear(\"&$D$12&\")=\"&$D$7&\" and localMonth(\"&$D$12&\") =\"&$E$7&\" and LocalDay(\"&$D$12&\")=\"&$F$7&\" and Barix(\"&$D$12&\",reference:=StartOfDay)=\"&A96&\"\", \"Bar\", \"\", \"Close\",\"A5C\",\"0\",\"All\",,,\"False\",\"T\",\"EveryTick\")","v":21858},{"$f":"RTD(\"cqg.rtd\",,\"StudyData\", \"Vol(\"&$D$12&\") when LocalYear(\"&$D$12&\")=\"&$D$8&\" and localMonth(\"&$D$12&\") =\"&$E$8&\" and LocalDay(\"&$D$12&\")=\"&$F$8&\" and Barix(\"&$D$12&\",reference:=StartOfDay)=\"&A96&\"\", \"Bar\", \"\", \"Close\",\"A5C\",\"0\",\"All\",,,\"False\",\"T\",\"EveryTick\")","v":16439},{"$f":"RTD(\"cqg.rtd\",,\"StudyData\", \"Vol(\"&$D$12&\") when LocalYear(\"&$D$12&\")=\"&$D$9&\" and localMonth(\"&$D$12&\") =\"&$E$9&\" and LocalDay(\"&$D$12&\")=\"&$F$9&\" and Barix(\"&$D$12&\",reference:=StartOfDay)=\"&A96&\"\", \"Bar\", \"\", \"Close\",\"A5C\",\"0\",\"All\",,,\"False\",\"T\",\"EveryTick\")","v":26092},{"$f":"RTD(\"cqg.rtd\",,\"StudyData\", \"Vol(\"&$D$12&\") when LocalYear(\"&$D$12&\")=\"&$D$10&\" and localMonth(\"&$D$12&\") =\"&$E$10&\" and LocalDay(\"&$D$12&\")=\"&$F$10&\" and Barix(\"&$D$12&\",reference:=StartOfDay)=\"&A96&\"\", \"Bar\", \"\", \"Close\",\"A5C\",\"0\",\"All\",,,\"False\",\"T\",\"EveryTick\")","v":23231},{"$f":"IF(H96>(1+(MainDisplay!$O$24/100))*I96,H96,NA())","v":{"$error":"#N/A"}}]
[192,{"$f":"Sheet3!B97","v":"09:00:00"},null,null,null,null,null,{"$f":"RTD(\"cqg.rtd\",,\"StudyData\", \"Vol(\"&$D$12&\") when LocalYear(\"&$D$12&\")=\"&$D$1&\" and localMonth(\"&$D$12&\") =\"&$E$1&\" and LocalDay(\"&$D$12&\")=\"&$F$1&\" and Barix(\"&$D$12&\",reference:=StartOfDay)=\"&A97&\"\", \"Bar\", \"\", \"Close\",\"A5C\",\"0\",\"All\",,,\"False\",\"T\",\"EveryTick\")","v":19831},33066.111111111109,{"$f":"RTD(\"cqg.rtd\",,\"StudyData\", \"Vol(\"&$D$12&\") when LocalYear(\"&$D$12&\")=\"&$D$2&\" and localMonth(\"&$D$12&\") =\"&$E$2&\" and LocalDay(\"&$D$12&\")=\"&$F$2&\" and Barix(\"&$D$12&\",reference:=StartOfDay)=\"&A97&\"\", \"Bar\", \"\", \"Close\",\"A5C\",\"0\",\"All\",,,\"False\",\"T\",\"EveryTick\")","v":27445},{"$f":"RTD(\"cqg.rtd\",,\"StudyData\", \"Vol(\"&$D$12&\") when LocalYear(\"&$D$12&\")=\"&$D$3&\" and localMonth(\"&$D$12&\") =\"&$E$3&\" and LocalDay(\"&$D$12&\")=\"&$F$3&\" and Barix(\"&$D$12&\",reference:=StartOfDay)=\"&A97&\"\", \"Bar\", \"\", \"Close\",\"A5C\",\"0\",\"All\",,,\"False\",\"T\",\"EveryTick\")","v":18989},{"$f":"RTD(\"cqg.rtd\",,\"StudyData\", \"Vol(\"&$D$12&\") when LocalYear(\"&$D$12&\")=\"&$D$4&\" and localMonth(\"&$D$12&\") =\"&$E$4&\" and LocalDay(\"&$D$12&\")=\"&$F$4&\" and Barix(\"&$D$12&\",reference:=StartOfDay)=\"&A97&\"\", \"Bar\", \"\", \"Close\",\"A5C\",\"0\",\"All\",,,\"False\",\"T\",\"EveryTick\")","v":21982},{"$f":"RTD(\"cqg.rtd\",,\"StudyData\", \"Vol(\"&$D$12&\") when LocalYear(\"&$D$12&\")=\"&$D$5&\" and localMonth(\"&$D$12&\") =\"&$E$5&\" and LocalDay(\"&$D$12&\")=\"&$F$5&\" and Barix(\"&$D$12&\",reference:=StartOfDay)=\"&A97&\"\", \"Bar\", \"\", \"Close\",\"A5C\",\"0\",\"All\",,,\"False\",\"T\",\"EveryTick\")","v":37154},{"$f":"RTD(\"cqg.rtd\",,\"StudyData\", \"Vol(\"&$D$12&\") when LocalYear(\"&$D$12&\")=\"&$D$6&\" and localMonth(\"&$D$12&\") =\"&$E$6&\" and LocalDay(\"&$D$12&\")=\"&$F$6&\" and Barix(\"&$D$12&\",reference:=StartOfDay)=\"&A97&\"\", \"Bar\", \"\", \"Close\",\"A5C\",\"0\",\"All\",,,\"False\",\"T\",\"EveryTick\")","v":52264},{"$f":"RTD(\"cqg.rtd\",,\"StudyData\", \"Vol(\"&$D$12&\") when LocalYear(\"&$D$12&\")=\"&$D$7&\" and localMonth(\"&$D$12&\") =\"&$E$7&\" and LocalDay(\"&$D$12&\")=\"&$F$7&\" and Barix(\"&$D$12&\",reference:=StartOfDay)=\"&A97&\"\", \"Bar\", \"\", \"Close\",\"A5C\",\"0\",\"All\",,,\"False\",\"T\",\"EveryTick\")","v":34763},{"$f":"RTD(\"cqg.rtd\",,\"StudyData\", \"Vol(\"&$D$12&\") when LocalYear(\"&$D$12&\")=\"&$D$8&\" and localMonth(\"&$D$12&\") =\"&$E$8&\" and LocalDay(\"&$D$12&\")=\"&$F$8&\" and Barix(\"&$D$12&\",reference:=StartOfDay)=\"&A97&\"\", \"Bar\", \"\", \"Close\",\"A5C\",\"0\",\"All\",,,\"False\",\"T\",\"EveryTick\")","v":40661},{"$f":"RTD(\"cqg.rtd\",,\"StudyData\", \"Vol(\"&$D$12&\") when LocalYear(\"&$D$12&\")=\"&$D$9&\" and localMonth(\"&$D$12&\") =\"&$E$9&\" and LocalDay(\"&$D$12&\")=\"&$F$9&\" and Barix(\"&$D$12&\",reference:=StartOfDay)=\"&A97&\"\", \"Bar\", \"\", \"Close\",\"A5C\",\"0\",\"All\",,,\"False\",\"T\",\"EveryTick\")","v":43641},{"$f":"RTD(\"cqg.rtd\",,\"StudyData\", \"Vol(\"&$D$12&\") when LocalYear(\"&$D$12&\")=\"&$D$10&\" and localMonth(\"&$D$12&\") =\"&$E$10&\" and LocalDay(\"&$D$12&\")=\"&$F$10&\" and Barix(\"&$D$12&\",reference:=StartOfDay)=\"&A97&\"\", \"Bar\", \"\", \"Close\",\"A5C\",\"0\",\"All\",,,\"False\",\"T\",\"EveryTick\")","v":20696},{"$f":"IF(H97>(1+(MainDisplay!$O$24/100))*I97,H97,NA())","v":{"$error":"#N/A"}}]
[193,{"$f":"Sheet3!B98","v":"09:05:00"},null,null,null,null,null,{"$f":"RTD(\"cqg.rtd\",,\"StudyData\", \"Vol(\"&$D$12&\") when LocalYear(\"&$D$12&\")=\"&$D$1&\" and localMonth(\"&$D$12&\") =\"&$E$1&\" and LocalDay(\"&$D$12&\")=\"&$F$1&\" and Barix(\"&$D$12&\",reference:=StartOfDay)=\"&A98&\"\", \"Bar\", \"\", \"Close\",\"A5C\",\"0\",\"All\",,,\"False\",\"T\",\"EveryTick\")","v":16091},23219.444444444445,{"$f":"RTD(\"cqg.rtd\",,\"StudyData\", \"Vol(\"&$D$12&\") when LocalYear(\"&$D$12&\")=\"&$D$2&\" and localMonth(\"&$D$12&\") =\"&$E$2&\" and LocalDay(\"&$D$12&\")=\"&$F$2&\" and Barix(\"&$D$12&\",reference:=StartOfDay)=\"&A98&\"\", \"Bar\", \"\", \"Close\",\"A5C\",\"0\",\"All\",,,\"False\",\"T\",\"EveryTick\")","v":16777},{"$f":"RTD(\"cqg.rtd\",,\"StudyData\", \"Vol(\"&$D$12&\") when LocalYear(\"&$D$12&\")=\"&$D$3&\" and localMonth(\"&$D$12&\") =\"&$E$3&\" and LocalDay(\"&$D$12&\")=\"&$F$3&\" and Barix(\"&$D$12&\",reference:=StartOfDay)=\"&A98&\"\", \"Bar\", \"\", \"Close\",\"A5C\",\"0\",\"All\",,,\"False\",\"T\",\"EveryTick\")","v":14694},{"$f":"RTD(\"cqg.rtd\",,\"StudyData\", \"Vol(\"&$D$12&\") when LocalYear(\"&$D$12&\")=\"&$D$4&\" and localMonth(\"&$D$12&\") =\"&$E$4&\" and LocalDay(\"&$D$12&\")=\"&$F$4&\" and Barix(\"&$D$12&\",reference:=StartOfDay)=\"&A98&\"\", \"Bar\", \"\", \"Close\",\"A5C\",\"0\",\"All\",,,\"False\",\"T\",\"EveryTick\")","v":16693},{"$f":"RTD(\"cqg.rtd\",,\"StudyData\", \"Vol(\"&$D$12&\") when LocalYear(\"&$D$12&\")=\"&$D$5&\" and localMonth(\"&$D$12&\") =\"&$E$5&\" and LocalDay(\"&$D$12&\")=\"&$F$5&\" and Barix(\"&$D$12&\",reference:=StartOfDay)=\"&A98&\"\", \"Bar\", \"\", \"Close\",\"A5C\",\"0\",\"All\",,,\"False\",\"T\",\"EveryTick\")","v":20111},{"$f":"RTD(\"cqg.rtd\",,\"StudyData\", \"Vol(\"&$D$12&\") when LocalYear(\"&$D$12&\")=\"&$D$6&\" and localMonth(\"&$D$12&\") =\"&$E$6&\" and LocalDay(\"&$D$12&\")=\"&$F$6&\" and Barix(\"&$D$12&\",reference:=StartOfDay)=\"&A98&\"\", \"Bar\", \"\", \"Close\",\"A5C\",\"0\",\"All\",,,\"False\",\"T\",\"EveryTick\")","v":36897},{"$f":"RTD(\"cqg.rtd\",,\"StudyData\", \"Vol(\"&$D$12&\") when LocalYear(\"&$D$12&\")=\"&$D$7&\" and localMonth(\"&$D$12&\") =\"&$E$7&\" and LocalDay(\"&$D$12&\")=\"&$F$7&\" and Barix(\"&$D$12&\",reference:=StartOfDay)=\"&A98&\"\", \"Bar\", \"\", \"Close\",\"A5C\",\"0\",\"All\",,,\"False\",\"T\",\"EveryTick\")","v":21082},{"$f":"RTD(\"cqg.rtd\",,\"StudyData\", \"Vol(\"&$D$12&\") when LocalYear(\"&$D$12&\")=\"&$D$8&\" and localMonth(\"&$D$12&\") =\"&$E$8&\" and LocalDay(\"&$D$12&\")=\"&$F$8&\" and Barix(\"&$D$12&\",reference:=StartOfDay)=\"&A98&\"\", \"Bar\", \"\", \"Close\",\"A5C\",\"0\",\"All\",,,\"False\",\"T\",\"EveryTick\")","v":25528},{"$f":"RTD(\"cqg.rtd\",,\"StudyData\", \"Vol(\"&$D$12&\") when LocalYear(\"&$D$12&\")=\"&$D$9&\" and localMonth(\"&$D$12&\") =\"&$E$9&\" and LocalDay(\"&$D$12&\")=\"&$F$9&\" and Barix(\"&$D$12&\",reference:=StartOfDay)=\"&A98&\"\", \"Bar\", \"\", \"Close\",\"A5C\",\"0\",\"All\",,,\"False\",\"T\",\"EveryTick\")","v":27871},{"$f":"RTD(\"cqg.rtd\",,\"StudyData\", \"Vol(\"&$D$12&\") when LocalYear(\"&$D$12&\")=\"&$D$10&\" and localMonth(\"&$D$12&\") =\"&$E$10&\" and LocalDay(\"&$D$12&\")=\"&$F$10&\" and Barix(\"&$D$12&\",reference:=StartOfDay)=\"&A98&\"\", \"Bar\", \"\", \"Close\",\"A5C\",\"0\",\"All\",,,\"False\",\"T\",\"EveryTick\")","v":29322},{"$f":"IF(H98>(1+(MainDisplay!$O$24/100))*I98,H98,NA())","v":{"$error":"#N/A"}}]
[194,{"$f":"Sheet3!B99","v":"09:10:00"},null,null,null,null,null,{"$f":"RTD(\"cqg.rtd\",,\"StudyData\", \"Vol(\"&$D$12&\") when LocalYear(\"&$D$12&\")=\"&$D$1&\" and localMonth(\"&$D$12&\") =\"&$E$1&\" and LocalDay(\"&$D$12&\")=\"&$F$1&\" and Barix(\"&$D$12&\",reference:=StartOfDay)=\"&A99&\"\", \"Bar\", \"\", \"Close\",\"A5C\",\"0\",\"All\",,,\"False\",\"T\",\"EveryTick\")","v":36714},22882.111111111109,{"$f":"RTD(\"cqg.rtd\",,\"StudyData\", \"Vol(\"&$D$12&\") when LocalYear(\"&$D$12&\")=\"&$D$2&\" and localMonth(\"&$D$12&\") =\"&$E$2&\" and LocalDay(\"&$D$12&\")=\"&$F$2&\" and Barix(\"&$D$12&\",reference:=StartOfDay)=\"&A99&\"\", \"Bar\", \"\", \"Close\",\"A5C\",\"0\",\"All\",,,\"False\",\"T\",\"EveryTick\")","v":12508},{"$f":"RTD(\"cqg.rtd\",,\"StudyData\", \"Vol(\"&$D$12&\") when LocalYear(\"&$D$12&\")=\"&$D$3&\" and localMonth(\"&$D$12&\") =\"&$E$3&\" and LocalDay(\"&$D$12&\")=\"&$F$3&\" and Barix(\"&$D$12&\",reference:=StartOfDay)=\"&A99&\"\", \"Bar\", \"\", \"Close\",\"A5C\",\"0\",\"All\",,,\"False\",\"T\",\"EveryTick\")","v":17274},{"$f":"RTD(\"cqg.rtd\",,\"StudyData\", \"Vol(\"&$D$12&\") when LocalYear(\"&$D$12&\")=\"&$D$4&\" and localMonth(\"&$D$12&\") =\"&$E$4&\" and LocalDay(\"&$D$12&\")=\"&$F$4&\" and Barix(\"&$D$12&\",reference:=StartOfDay)=\"&A99&\"\", \"Bar\", \"\", \"Close\",\"A5C\",\"0\",\"All\",,,\"False\",\"T\",\"EveryTick\")","v":19328},{"$f":"RTD(\"cqg.rtd\",,\"StudyData\", \"Vol(\"&$D$12&\") when LocalYear(\"&$D$12&\")=\"&$D$5&\" and localMonth(\"&$D$12&\") =\"&$E$5&\" and LocalDay(\"&$D$12&\")=\"&$F$5&\" and Barix(\"&$D$12&\",reference:=StartOfDay)=\"&A99&\"\", \"Bar\", \"\", \"Close\",\"A5C\",\"0\",\"All\",,,\"False\",\"T\",\"EveryTick\")","v":18235},{"$f":"RTD(\"cqg.rtd\",,\"StudyData\", \"Vol(\"&$D$12&\") when LocalYear(\"&$D$12&\")=\"&$D$6&\" and localMonth(\"&$D$12&\") =\"&$E$6&\" and LocalDay(\"&$D$12&\")=\"&$F$6&\" and Barix(\"&$D$12&\",reference:=StartOfDay)=\"&A99&\"\", \"Bar\", \"\", \"Close\",\"A5C\",\"0\",\"All\",,,\"False\",\"T\",\"EveryTick\")","v":34697},{"$f":"RTD(\"cqg.rtd\",,\"StudyData\", \"Vol(\"&$D$12&\") when LocalYear(\"&$D$12&\")=\"&$D$7&\" and localMonth(\"&$D$12&\") =\"&$E$7&\" and LocalDay(\"&$D$12&\")=\"&$F$7&\" and Barix(\"&$D$12&\",reference:=StartOfDay)=\"&A99&\"\", \"Bar\", \"\", \"Close\",\"A5C\",\"0\",\"All\",,,\"False\",\"T\",\"EveryTick\")","v":30638},{"$f":"RTD(\"cqg.rtd\",,\"StudyData\", \"Vol(\"&$D$12&\") when LocalYear(\"&$D$12&\")=\"&$D$8&\" and localMonth(\"&$D$12&\") =\"&$E$8&\" and LocalDay(\"&$D$12&\")=\"&$F$8&\" and Barix(\"&$D$12&\",reference:=StartOfDay)=\"&A99&\"\", \"Bar\", \"\", \"Close\",\"A5C\",\"0\",\"All\",,,\"False\",\"T\",\"EveryTick\")","v":22103},{"$f":"RTD(\"cqg.rtd\",,\"StudyData\", \"Vol(\"&$D$12&\") when LocalYear(\"&$D$12&\")=\"&$D$9&\" and localMonth(\"&$D$12&\") =\"&$E$9&\" and LocalDay(\"&$D$12&\")=\"&$F$9&\" and Barix(\"&$D$12&\",reference:=StartOfDay)=\"&A99&\"\", \"Bar\", \"\", \"Close\",\"A5C\",\"0\",\"All\",,,\"False\",\"T\",\"EveryTick\")","v":26785},{"$f":"RTD(\"cqg.rtd\",,\"StudyData\", \"Vol(\"&$D$12&\") when LocalYear(\"&$D$12&\")=\"&$D$10&\" and localMonth(\"&$D$12&\") =\"&$E$10&\" and LocalDay(\"&$D$12&\")=\"&$F$10&\" and Barix(\"&$D$12&\",reference:=StartOfDay)=\"&A99&\"\", \"Bar\", \"\", \"Close\",\"A5C\",\"0\",\"All\",,,\"False\",\"T\",\"EveryTick\")","v":24371},{"$f":"IF(H99>(1+(MainDisplay!$O$24/100))*I99,H99,NA())","v":36714}]
[195,{"$f":"Sheet3!B100","v":"09:15:00"},null,null,null,null,null,{"$f":"RTD(\"cqg.rtd\",,\"StudyData\", \"Vol(\"&$D$12&\") when LocalYear(\"&$D$12&\")=\"&$D$1&\" and localMonth(\"&$D$12&\") =\"&$E$1&\" and LocalDay(\"&$D$12&\")=\"&$F$1&\" and Barix(\"&$D$12&\",reference:=StartOfDay)=\"&A100&\"\", \"Bar\", \"\", \"Close\",\"A5C\",\"0\",\"All\",,,\"False\",\"T\",\"EveryTick\")","v":22326},27041.666666666668,{"$f":"RTD(\"cqg.rtd\",,\"StudyData\", \"Vol(\"&$D$12&\") when LocalYear(\"&$D$12&\")=\"&$D$2&\" and localMonth(\"&$D$12&\") =\"&$E$2&\" and LocalDay(\"&$D$12&\")=\"&$F$2&\" and Barix(\"&$D$12&\",reference:=StartOfDay)=\"&A100&\"\", \"Bar\", \"\", \"Close\",\"A5C\",\"0\",\"All\",,,\"False\",\"T\",\"EveryTick\")","v":25540},{"$f":"RTD(\"cqg.rtd\",,\"StudyData\", \"Vol(\"&$D$12&\") when LocalYear(\"&$D$12&\")=\"&$D$3&\" and localMonth(\"&$D$12&\") =\"&$E$3&\" and LocalDay(\"&$D$12&\")=\"&$F$3&\" and Barix(\"&$D$12&\",reference:=StartOfDay)=\"&A100&\"\", \"Bar\", \"\", \"Close\",\"A5C\",\"0\",\"All\",,,\"False\",\"T\",\"EveryTick\")","v":11311},{"$f":"RTD(\"cqg.rtd\",,\"StudyData\", \"Vol(\"&$D$12&\") when LocalYear(\"&$D$12&\")=\"&$D$4&\" and localMonth(\"&$D$12&\") =\"&$E$4&\" and LocalDay(\"&$D$12&\")=\"&$F$4&\" and Barix(\"&$D$12&\",reference:=StartOfDay)=\"&A100&\"\", \"Bar\", \"\", \"Close\",\"A5C\",\"0\",\"All\",,,\"False\",\"T\",\"EveryTick\")","v":14771},{"$f":"RTD(\"cqg.rtd\",,\"StudyData\", \"Vol(\"&$D$12&\") when LocalYear(\"&$D$12&\")=\"&$D$5&\" and localMonth(\"&$D$12&\") =\"&$E$5&\" and LocalDay(\"&$D$12&\")=\"&$F$5&\" and Barix(\"&$D$12&\",reference:=StartOfDay)=\"&A100&\"\", \"Bar\", \"\", \"Close\",\"A5C\",\"0\",\"All\",,,\"False\",\"T\",\"EveryTick\")","v":23454},{"$f":"RTD(\"cqg.rtd\",,\"StudyData\", \"Vol(\"&$D$12&\") when LocalYear(\"&$D$12&\")=\"&$D$6&\" and localMonth(\"&$D$12&\") =\"&$E$6&\" and LocalDay(\"&$D$12&\")=\"&$F$6&\" and Barix(\"&$D$12&\",reference:=StartOfDay)=\"&A100&\"\", \"Bar\", \"\", \"Close\",\"A5C\",\"0\",\"All\",,,\"False\",\"T\",\"EveryTick\")","v":33246},{"$f":"RTD(\"cqg.rtd\",,\"StudyData\", \"Vol(\"&$D$12&\") when LocalYear(\"&$D$12&\")=\"&$D$7&\" and localMonth(\"&$D$12&\") =\"&$E$7&\" and LocalDay(\"&$D$12&\")=\"&$F$7&\" and Barix(\"&$D$12&\",reference:=StartOfDay)=\"&A100&\"\", \"Bar\", \"\", \"Close\",\"A5C\",\"0\",\"All\",,,\"False\",\"T\",\"EveryTick\")","v":24414},{"$f":"RTD(\"cqg.rtd\",,\"StudyData\", \"Vol(\"&$D$12&\") when LocalYear(\"&$D$12&\")=\"&$D$8&\" and localMonth(\"&$D$12&\") =\"&$E$8&\" and LocalDay(\"&$D$12&\")=\"&$F$8&\" and Barix(\"&$D$12&\",reference:=StartOfDay)=\"&A100&\"\", \"Bar\", \"\", \"Close\",\"A5C\",\"0\",\"All\",,,\"False\",\"T\",\"EveryTick\")","v":22046},{"$f":"RTD(\"cqg.rtd\",,\"StudyData\", \"Vol(\"&$D$12&\") when LocalYear(\"&$D$12&\")=\"&$D$9&\" and localMonth(\"&$D$12&\") =\"&$E$9&\" and LocalDay(\"&$D$12&\")=\"&$F$9&\" and Barix(\"&$D$12&\",reference:=StartOfDay)=\"&A100&\"\", \"Bar\", \"\", \"Close\",\"A5C\",\"0\",\"All\",,,\"False\",\"T\",\"EveryTick\")","v":51867},{"$f":"RTD(\"cqg.rtd\",,\"StudyData\", \"Vol(\"&$D$12&\") when LocalYear(\"&$D$12&\")=\"&$D$10&\" and localMonth(\"&$D$12&\") =\"&$E$10&\" and LocalDay(\"&$D$12&\")=\"&$F$10&\" and Barix(\"&$D$12&\",reference:=StartOfDay)=\"&A100&\"\", \"Bar\", \"\", \"Close\",\"A5C\",\"0\",\"All\",,,\"False\",\"T\",\"EveryTick\")","v":36726},{"$f":"IF(H100>(1+(MainDisplay!$O$24/100))*I100,H100,NA())","v":{"$error":"#N/A"}}]
[196,{"$f":"Sheet3!B101","v":"09:20:00"},null,null,null,null,null,{"$f":"RTD(\"cqg.rtd\",,\"StudyData\", \"Vol(\"&$D$12&\") when LocalYear(\"&$D$12&\")=\"&$D$1&\" and localMonth(\"&$D$12&\") =\"&$E$1&\" and LocalDay(\"&$D$12&\")=\"&$F$1&\" and Barix(\"&$D$12&\",reference:=StartOfDay)=\"&A101&\"\", \"Bar\", \"\", \"Close\",\"A5C\",\"0\",\"All\",,,\"False\",\"T\",\"EveryTick\")","v":21208},25360.777777777777,{"$f":"RTD(\"cqg.rtd\",,\"StudyData\", \"Vol(\"&$D$12&\") when LocalYear(\"&$D$12&\")=\"&$D$2&\" and localMonth(\"&$D$12&\") =\"&$E$2&\" and LocalDay(\"&$D$12&\")=\"&$F$2&\" and Barix(\"&$D$12&\",reference:=StartOfDay)=\"&A101&\"\", \"Bar\", \"\", \"Close\",\"A5C\",\"0\",\"All\",,,\"False\",\"T\",\"EveryTick\")","v":13257},{"$f":"RTD(\"cqg.rtd\",,\"StudyData\", \"Vol(\"&$D$12&\") when LocalYear(\"&$D$12&\")=\"&$D$3&\" and localMonth(\"&$D$12&\") =\"&$E$3&\" and LocalDay(\"&$D$12&\")=\"&$F$3&\" and Barix(\"&$D$12&\",reference:=StartOfDay)=\"&A101&\"\", \"Bar\", \"\", \"Close\",\"A5C\",\"0\",\"All\",,,\"False\",\"T\",\"EveryTick\")","v":12803},{"$f":"RTD(\"cqg.rtd\",,\"StudyData\", \"Vol(\"&$D$12&\") when LocalYear(\"&$D$12&\")=\"&$D$4&\" and localMonth(\"&$D$12&\") =\"&$E$4&\" and LocalDay(\"&$D$12&\")=\"&$F$4&\" and Barix(\"&$D$12&\",reference:=StartOfDay)=\"&A101&\"\", \"Bar\", \"\", \"Close\",\"A5C\",\"0\",\"All\",,,\"False\",\"T\",\"EveryTick\")","v":12323},{"$f":"RTD(\"cqg.rtd\",,\"StudyData\", \"Vol(\"&$D$12&\") when LocalYear(\"&$D$12&\")=\"&$D$5&\" and localMonth(\"&$D$12&\") =\"&$E$5&\" and LocalDay(\"&$D$12&\")=\"&$F$5&\" and Barix(\"&$D$12&\",reference:=StartOfDay)=\"&A101&\"\", \"Bar\", \"\", \"Close\",\"A5C\",\"0\",\"All\",,,\"False\",\"T\",\"EveryTick\")","v":21970},{"$f":"RTD(\"cqg.rtd\",,\"StudyData\", \"Vol(\"&$D$12&\") when LocalYear(\"&$D$12&\")=\"&$D$6&\" and localMonth(\"&$D$12&\") =\"&$E$6&\" and LocalDay(\"&$D$12&\")=\"&$F$6&\" and Barix(\"&$D$12&\",reference:=StartOfDay)=\"&A101&\"\", \"Bar\", \"\", \"Close\",\"A5C\",\"0\",\"All\",,,\"False\",\"T\",\"EveryTick\")","v":47305},{"$f":"RTD(\"cqg.rtd\",,\"StudyData\", \"Vol(\"&$D$12&\") when LocalYear(\"&$D$12&\")=\"&$D$7&\" and localMonth(\"&$D$12&\") =\"&$E$7&\" and LocalDay(\"&$D$12&\")=\"&$F$7&\" and Barix(\"&$D$12&\",reference:=StartOfDay)=\"&A101&\"\", \"Bar\", \"\", \"Close\",\"A5C\",\"0\",\"All\",,,\"False\",\"T\",\"EveryTick\")","v":23392},{"$f":"RTD(\"cqg.rtd\",,\"StudyData\", \"Vol(\"&$D$12&\") when LocalYear(\"&$D$12&\")=\"&$D$8&\" and localMonth(\"&$D$12&\") =\"&$E$8&\" and LocalDay(\"&$D$12&\")=\"&$F$8&\" and Barix(\"&$D$12&\",reference:=StartOfDay)=\"&A101&\"\", \"Bar\", \"\", \"Close\",\"A5C\",\"0\",\"All\",,,\"False\",\"T\",\"EveryTick\")","v":34758},{"$f":"RTD(\"cqg.rtd\",,\"StudyData\", \"Vol(\"&$D$12&\") when LocalYear(\"&$D$12&\")=\"&$D$9&\" and localMonth(\"&$D$12&\") =\"&$E$9&\" and LocalDay(\"&$D$12&\")=\"&$F$9&\" and Barix(\"&$D$12&\",reference:=StartOfDay)=\"&A101&\"\", \"Bar\", \"\", \"Close\",\"A5C\",\"0\",\"All\",,,\"False\",\"T\",\"EveryTick\")","v":38119},{"$f":"RTD(\"cqg.rtd\",,\"StudyData\", \"Vol(\"&$D$12&\") when LocalYear(\"&$D$12&\")=\"&$D$10&\" and localMonth(\"&$D$12&\") =\"&$E$10&\" and LocalDay(\"&$D$12&\")=\"&$F$10&\" and Barix(\"&$D$12&\",reference:=StartOfDay)=\"&A101&\"\", \"Bar\", \"\", \"Close\",\"A5C\",\"0\",\"All\",,,\"False\",\"T\",\"EveryTick\")","v":24320},{"$f":"IF(H101>(1+(MainDisplay!$O$24/100))*I101,H101,NA())","v":{"$error":"#N/A"}}]
[197,{"$f":"Sheet3!B102","v":"09:25:00"},null,null,null,null,null,{"$f":"RTD(\"cqg.rtd\",,\"StudyData\", \"Vol(\"&$D$12&\") when LocalYear(\"&$D$12&\")=\"&$D$1&\" and localMonth(\"&$D$12&\") =\"&$E$1&\" and LocalDay(\"&$D$12&\")=\"&$F$1&\" and Barix(\"&$D$12&\",reference:=StartOfDay)=\"&A102&\"\", \"Bar\", \"\", \"Close\",\"A5C\",\"0\",\"All\",,,\"False\",\"T\",\"EveryTick\")","v":19161},21527,{"$f":"RTD(\"cqg.rtd\",,\"StudyData\", \"Vol(\"&$D$12&\") when LocalYear(\"&$D$12&\")=\"&$D$2&\" and localMonth(\"&$D$12&\") =\"&$E$2&\" and LocalDay(\"&$D$12&\")=\"&$F$2&\" and Barix(\"&$D$12&\",reference:=StartOfDay)=\"&A102&\"\", \"Bar\", \"\", \"Close\",\"A5C\",\"0\",\"All\",,,\"False\",\"T\",\"EveryTick\")","v":14174},{"$f":"RTD(\"cqg.rtd\",,\"StudyData\", \"Vol(\"&$D$12&\") when LocalYear(\"&$D$12&\")=\"&$D$3&\" and localMonth(\"&$D$12&\") =\"&$E$3&\" and LocalDay(\"&$D$12&\")=\"&$F$3&\" and Barix(\"&$D$12&\",reference:=StartOfDay)=\"&A102&\"\", \"Bar\", \"\", \"Close\",\"A5C\",\"0\",\"All\",,,\"False\",\"T\",\"EveryTick\")","v":9437},{"$f":"RTD(\"cqg.rtd\",,\"StudyData\", \"Vol(\"&$D$12&\") when LocalYear(\"&$D$12&\")=\"&$D$4&\" and localMonth(\"&$D$12&\") =\"&$E$4&\" and LocalDay(\"&$D$12&\")=\"&$F$4&\" and Barix(\"&$D$12&\",reference:=StartOfDay)=\"&A102&\"\", \"Bar\", \"\", \"Close\",\"A5C\",\"0\",\"All\",,,\"False\",\"T\",\"EveryTick\")","v":13997},{"$f":"RTD(\"cqg.rtd\",,\"StudyData\", \"Vol(\"&$D$12&\") when LocalYear(\"&$D$12&\")=\"&$D$5&\" and localMonth(\"&$D$12&\") =\"&$E$5&\" and LocalDay(\"&$D$12&\")=\"&$F$5&\" and Barix(\"&$D$12&\",reference:=StartOfDay)=\"&A102&\"\", \"Bar\", \"\", \"Close\",\"A5C\",\"0\",\"All\",,,\"False\",\"T\",\"EveryTick\")","v":13616},{"$f":"RTD(\"cqg.rtd\",,\"StudyData\", \"Vol(\"&$D$12&\") when LocalYear(\"&$D$12&\")=\"&$D$6&\" and localMonth(\"&$D$12&\") =\"&$E$6&\" and LocalDay(\"&$D$12&\")=\"&$F$6&\" and Barix(\"&$D$12&\",reference:=StartOfDay)=\"&A102&\"\", \"Bar\", \"\", \"Close\",\"A5C\",\"0\",\"All\",,,\"False\",\"T\",\"EveryTick\")","v":29400},{"$f":"RTD(\"cqg.rtd\",,\"StudyData\", \"Vol(\"&$D$12&\") when LocalYear(\"&$D$12&\")=\"&$D$7&\" and localMonth(\"&$D$12&\") =\"&$E$7&\" and LocalDay(\"&$D$12&\")=\"&$F$7&\" and Barix(\"&$D$12&\",reference:=StartOfDay)=\"&A102&\"\", \"Bar\", \"\", \"Close\",\"A5C\",\"0\",\"All\",,,\"False\",\"T\",\"EveryTick\")","v":33943},{"$f":"RTD(\"cqg.rtd\",,\"StudyData\", \"Vol(\"&$D$12&\") when LocalYear(\"&$D$12&\")=\"&$D$8&\" and localMonth(\"&$D$12&\") =\"&$E$8&\" and LocalDay(\"&$D$12&\")=\"&$F$8&\" and Barix(\"&$D$12&\",reference:=StartOfDay)=\"&A102&\"\", \"Bar\", \"\", \"Close\",\"A5C\",\"0\",\"All\",,,\"False\",\"T\",\"EveryTick\")","v":31391},{"$f":"RTD(\"cqg.rtd\",,\"StudyData\", \"Vol(\"&$D$12&\") when LocalYear(\"&$D$12&\")=\"&$D$9&\" and localMonth(\"&$D$12&\") =\"&$E$9&\" and LocalDay(\"&$D$12&\")=\"&$F$9&\" and Barix(\"&$D$12&\",reference:=StartOfDay)=\"&A102&\"\", \"Bar\", \"\", \"Close\",\"A5C\",\"0\",\"All\",,,\"False\",\"T\",\"EveryTick\")","v":32231},{"$f":"RTD(\"cqg.rtd\",,\"StudyData\", \"Vol(\"&$D$12&\") when LocalYear(\"&$D$12&\")=\"&$D$10&\" and localMonth(\"&$D$12&\") =\"&$E$10&\" and LocalDay(\"&$D$12&\")=\"&$F$10&\" and Barix(\"&$D$12&\",reference:=StartOfDay)=\"&A102&\"\", \"Bar\", \"\", \"Close\",\"A5C\",\"0\",\"All\",,,\"False\",\"T\",\"EveryTick\")","v":15554},{"$f":"IF(H102>(1+(MainDisplay!$O$24/100))*I102,H102,NA())","v":{"$error":"#N/A"}}]
[198,{"$f":"Sheet3!B103","v":"09:30:00"},null,null,null,null,null,{"$f":"RTD(\"cqg.rtd\",,\"StudyData\", \"Vol(\"&$D$12&\") when LocalYear(\"&$D$12&\")=\"&$D$1&\" and localMonth(\"&$D$12&\") =\"&$E$1&\" and LocalDay(\"&$D$12&\")=\"&$F$1&\" and Barix(\"&$D$12&\",reference:=StartOfDay)=\"&A103&\"\", \"Bar\", \"\", \"Close\",\"A5C\",\"0\",\"All\",,,\"False\",\"T\",\"EveryTick\")","v":15928},21442.111111111109,{"$f":"RTD(\"cqg.rtd\",,\"StudyData\", \"Vol(\"&$D$12&\") when LocalYear(\"&$D$12&\")=\"&$D$2&\" and localMonth(\"&$D$12&\") =\"&$E$2&\" and LocalDay(\"&$D$12&\")=\"&$F$2&\" and Barix(\"&$D$12&\",reference:=StartOfDay)=\"&A103&\"\", \"Bar\", \"\", \"Close\",\"A5C\",\"0\",\"All\",,,\"False\",\"T\",\"EveryTick\")","v":13648},{"$f":"RTD(\"cqg.rtd\",,\"StudyData\", \"Vol(\"&$D$12&\") when LocalYear(\"&$D$12&\")=\"&$D$3&\" and localMonth(\"&$D$12&\") =\"&$E$3&\" and LocalDay(\"&$D$12&\")=\"&$F$3&\" and Barix(\"&$D$12&\",reference:=StartOfDay)=\"&A103&\"\", \"Bar\", \"\", \"Close\",\"A5C\",\"0\",\"All\",,,\"False\",\"T\",\"EveryTick\")","v":7536},{"$f":"RTD(\"cqg.rtd\",,\"StudyData\", \"Vol(\"&$D$12&\") when LocalYear(\"&$D$12&\")=\"&$D$4&\" and localMonth(\"&$D$12&\") =\"&$E$4&\" and LocalDay(\"&$D$12&\")=\"&$F$4&\" and Barix(\"&$D$12&\",reference:=StartOfDay)=\"&A103&\"\", \"Bar\", \"\", \"Close\",\"A5C\",\"0\",\"All\",,,\"False\",\"T\",\"EveryTick\")","v":14103},{"$f":"RTD(\"cqg.rtd\",,\"StudyData\", \"Vol(\"&$D$12&\") when LocalYear(\"&$D$12&\")=\"&$D$5&\" and localMonth(\"&$D$12&\") =\"&$E$5&\" and LocalDay(\"&$D$12&\")=\"&$F$5&\" and Barix(\"&$D$12&\",reference:=StartOfDay)=\"&A103&\"\", \"Bar\", \"\", \"Close\",\"A5C\",\"0\",\"All\",,,\"False\",\"T\",\"EveryTick\")","v":17094},{"$f":"RTD(\"cqg.rtd\",,\"StudyData\", \"Vol(\"&$D$12&\") when LocalYear(\"&$D$12&\")=\"&$D$6&\" and localMonth(\"&$D$12&\") =\"&$E$6&\" and LocalDay(\"&$D$12&\")=\"&$F$6&\" and Barix(\"&$D$12&\",reference:=StartOfDay)=\"&A103&\"\", \"Bar\", \"\", \"Close\",\"A5C\",\"0\",\"All\",,,\"False\",\"T\",\"EveryTick\")","v":29462},{"$f":"RTD(\"cqg.rtd\",,\"StudyData\", \"Vol(\"&$D$12&\") when LocalYear(\"&$D$12&\")=\"&$D$7&\" and localMonth(\"&$D$12&\") =\"&$E$7&\" and LocalDay(\"&$D$12&\")=\"&$F$7&\" and Barix(\"&$D$12&\",reference:=StartOfDay)=\"&A103&\"\", \"Bar\", \"\", \"Close\",\"A5C\",\"0\",\"All\",,,\"False\",\"T\",\"EveryTick\")","v":27631},{"$f":"RTD(\"cqg.rtd\",,\"StudyData\", \"Vol(\"&$D$12&\") when LocalYear(\"&$D$12&\")=\"&$D$8&\" and localMonth(\"&$D$12&\") =\"&$E$8&\" and LocalDay(\"&$D$12&\")=\"&$F$8&\" and Barix(\"&$D$12&\",reference:=StartOfDay)=\"&A103&\"\", \"Bar\", \"\", \"Close\",\"A5C\",\"0\",\"All\",,,\"False\",\"T\",\"EveryTick\")","v":33066},{"$f":"RTD(\"cqg.rtd\",,\"StudyData\", \"Vol(\"&$D$12&\") when LocalYear(\"&$D$12&\")=\"&$D$9&\" and localMonth(\"&$D$12&\") =\"&$E$9&\" and LocalDay(\"&$D$12&\")=\"&$F$9&\" and Barix(\"&$D$12&\",reference:=StartOfDay)=\"&A103&\"\", \"Bar\", \"\", \"Close\",\"A5C\",\"0\",\"All\",,,\"False\",\"T\",\"EveryTick\")","v":30320},{"$f":"RTD(\"cqg.rtd\",,\"StudyData\", \"Vol(\"&$D$12&\") when LocalYear(\"&$D$12&\")=\"&$D$10&\" and localMonth(\"&$D$12&\") =\"&$E$10&\" and LocalDay(\"&$D$12&\")=\"&$F$10&\" and Barix(\"&$D$12&\",reference:=StartOfDay)=\"&A103&\"\", \"Bar\", \"\", \"Close\",\"A5C\",\"0\",\"All\",,,\"False\",\"T\",\"EveryTick\")","v":20119},{"$f":"IF(H103>(1+(MainDisplay!$O$24/100))*I103,H103,NA())","v":{"$error":"#N/A"}}]
[199,{"$f":"Sheet3!B104","v":"09:35:00"},null,null,null,null,null,{"$f":"RTD(\"cqg.rtd\",,\"StudyData\", \"Vol(\"&$D$12&\") when LocalYear(\"&$D$12&\")=\"&$D$1&\" and localMonth(\"&$D$12&\") =\"&$E$1&\" and LocalDay(\"&$D$12&\")=\"&$F$1&\" and Barix(\"&$D$12&\",reference:=StartOfDay)=\"&A104&\"\", \"Bar\", \"\", \"Close\",\"A5C\",\"0\",\"All\",,,\"False\",\"T\",\"EveryTick\")","v":16675},21917.333333333332,{"$f":"RTD(\"cqg.rtd\",,\"StudyData\", \"Vol(\"&$D$12&\") when LocalYear(\"&$D$12&\")=\"&$D$2&\" and localMonth(\"&$D$12&\") =\"&$E$2&\" and LocalDay(\"&$D$12&\")=\"&$F$2&\" and Barix(\"&$D$12&\",reference:=StartOfDay)=\"&A104&\"\", \"Bar\", \"\", \"Close\",\"A5C\",\"0\",\"All\",,,\"False\",\"T\",\"EveryTick\")","v":13760},{"$f":"RTD(\"cqg.rtd\",,\"StudyData\", \"Vol(\"&$D$12&\") when LocalYear(\"&$D$12&\")=\"&$D$3&\" and localMonth(\"&$D$12&\") =\"&$E$3&\" and LocalDay(\"&$D$12&\")=\"&$F$3&\" and Barix(\"&$D$12&\",reference:=StartOfDay)=\"&A104&\"\", \"Bar\", \"\", \"Close\",\"A5C\",\"0\",\"All\",,,\"False\",\"T\",\"EveryTick\")","v":6603},{"$f":"RTD(\"cqg.rtd\",,\"StudyData\", \"Vol(\"&$D$12&\") when LocalYear(\"&$D$12&\")=\"&$D$4&\" and localMonth(\"&$D$12&\") =\"&$E$4&\" and LocalDay(\"&$D$12&\")=\"&$F$4&\" and Barix(\"&$D$12&\",reference:=StartOfDay)=\"&A104&\"\", \"Bar\", \"\", \"Close\",\"A5C\",\"0\",\"All\",,,\"False\",\"T\",\"EveryTick\")","v":10400},{"$f":"RTD(\"cqg.rtd\",,\"StudyData\", \"Vol(\"&$D$12&\") when LocalYear(\"&$D$12&\")=\"&$D$5&\" and localMonth(\"&$D$12&\") =\"&$E$5&\" and LocalDay(\"&$D$12&\")=\"&$F$5&\" and Barix(\"&$D$12&\",reference:=StartOfDay)=\"&A104&\"\", \"Bar\", \"\", \"Close\",\"A5C\",\"0\",\"All\",,,\"False\",\"T\",\"EveryTick\")","v":18170},{"$f":"RTD(\"cqg.rtd\",,\"StudyData\", \"Vol(\"&$D$12&\") when LocalYear(\"&$D$12&\")=\"&$D$6&\" and localMonth(\"&$D$12&\") =\"&$E$6&\" and LocalDay(\"&$D$12&\")=\"&$F$6&\" and Barix(\"&$D$12&\",reference:=StartOfDay)=\"&A104&\"\", \"Bar\", \"\", \"Close\",\"A5C\",\"0\",\"All\",,,\"False\",\"T\",\"EveryTick\")","v":22274},{"$f":"RTD(\"cqg.rtd\",,\"StudyData\", \"Vol(\"&$D$12&\") when LocalYear(\"&$D$12&\")=\"&$D$7&\" and localMonth(\"&$D$12&\") =\"&$E$7&\" and LocalDay(\"&$D$12&\")=\"&$F$7&\" and Barix(\"&$D$12&\",reference:=StartOfDay)=\"&A104&\"\", \"Bar\", \"\", \"Close\",\"A5C\",\"0\",\"All\",,,\"False\",\"T\",\"EveryTick\")","v":23556},{"$f":"RTD(\"cqg.rtd\",,\"StudyData\", \"Vol(\"&$D$12&\") when LocalYear(\"&$D$12&\")=\"&$D$8&\" and localMonth(\"&$D$12&\") =\"&$E$8&\" and LocalDay(\"&$D$12&\")=\"&$F$8&\" and Barix(\"&$D$12&\",reference:=StartOfDay)=\"&A104&\"\", \"Bar\", \"\", \"Close\",\"A5C\",\"0\",\"All\",,,\"False\",\"T\",\"EveryTick\")","v":58761},{"$f":"RTD(\"cqg.rtd\",,\"StudyData\", \"Vol(\"&$D$12&\") when LocalYear(\"&$D$12&\")=\"&$D$9&\" and localMonth(\"&$D$12&\") =\"&$E$9&\" and LocalDay(\"&$D$12&\")=\"&$F$9&\" and Barix(\"&$D$12&\",reference:=StartOfDay)=\"&A104&\"\", \"Bar\", \"\", \"Close\",\"A5C\",\"0\",\"All\",,,\"False\",\"T\",\"EveryTick\")","v":31022},{"$f":"RTD(\"cqg.rtd\",,\"StudyData\", \"Vol(\"&$D$12&\") when LocalYear(\"&$D$12&\")=\"&$D$10&\" and localMonth(\"&$D$12&\") =\"&$E$10&\" and LocalDay(\"&$D$12&\")=\"&$F$10&\" and Barix(\"&$D$12&\",reference:=StartOfDay)=\"&A104&\"\", \"Bar\", \"\", \"Close\",\"A5C\",\"0\",\"All\",,,\"False\",\"T\",\"EveryTick\")","v":12710},{"$f":"IF(H104>(1+(MainDisplay!$O$24/100))*I104,H104,NA())","v":{"$error":"#N/A"}}]
[200,{"$f":"Sheet3!B105","v":"09:40:00"},null,null,null,null,null,{"$f":"RTD(\"cqg.rtd\",,\"StudyData\", \"Vol(\"&$D$12&\") when LocalYear(\"&$D$12&\")=\"&$D$1&\" and localMonth(\"&$D$12&\") =\"&$E$1&\" and LocalDay(\"&$D$12&\")=\"&$F$1&\" and Barix(\"&$D$12&\",reference:=StartOfDay)=\"&A105&\"\", \"Bar\", \"\", \"Close\",\"A5C\",\"0\",\"All\",,,\"False\",\"T\",\"EveryTick\")","v":13158},21062.555555555555,{"$f":"RTD(\"cqg.rtd\",,\"StudyData\", \"Vol(\"&$D$12&\") when LocalYear(\"&$D$12&\")=\"&$D$2&\" and localMonth(\"&$D$12&\") =\"&$E$2&\" and LocalDay(\"&$D$12&\")=\"&$F$2&\" and Barix(\"&$D$12&\",reference:=StartOfDay)=\"&A105&\"\", \"Bar\", \"\", \"Close\",\"A5C\",\"0\",\"All\",,,\"False\",\"T\",\"EveryTick\")","v":10087},{"$f":"RTD(\"cqg.rtd\",,\"StudyData\", \"Vol(\"&$D$12&\") when LocalYear(\"&$D$12&\")=\"&$D$3&\" and localMonth(\"&$D$12&\") =\"&$E$3&\" and LocalDay(\"&$D$12&\")=\"&$F$3&\" and Barix(\"&$D$12&\",reference:=StartOfDay)=\"&A105&\"\", \"Bar\", \"\", \"Close\",\"A5C\",\"0\",\"All\",,,\"False\",\"T\",\"EveryTick\")","v":13409},{"$f":"RTD(\"cqg.rtd\",,\"StudyData\", \"Vol(\"&$D$12&\") when LocalYear(\"&$D$12&\")=\"&$D$4&\" and localMonth(\"&$D$12&\") =\"&$E$4&\" and LocalDay(\"&$D$12&\")=\"&$F$4&\" and Barix(\"&$D$12&\",reference:=StartOfDay)=\"&A105&\"\", \"Bar\", \"\", \"Close\",\"A5C\",\"0\",\"All\",,,\"False\",\"T\",\"EveryTick\")","v":24213},{"$f":"RTD(\"cqg.rtd\",,\"StudyData\", \"Vol(\"&$D$12&\") when LocalYear(\"&$D$12&\")=\"&$D$5&\" and localMonth(\"&$D$12&\") =\"&$E$5&\" and LocalDay(\"&$D$12&\")=\"&$F$5&\" and Barix(\"&$D$12&\",reference:=StartOfDay)=\"&A105&\"\", \"Bar\", \"\", \"Close\",\"A5C\",\"0\",\"All\",,,\"False\",\"T\",\"EveryTick\")","v":13477},{"$f":"RTD(\"cqg.rtd\",,\"StudyData\", \"Vol(\"&$D$12&\") when LocalYear(\"&$D$12&\")=\"&$D$6&\" and localMonth(\"&$D$12&\") =\"&$E$6&\" and LocalDay(\"&$D$12&\")=\"&$F$6&\" and Barix(\"&$D$12&\",reference:=StartOfDay)=\"&A105&\"\", \"Bar\", \"\", \"Close\",\"A5C\",\"0\",\"All\",,,\"False\",\"T\",\"EveryTick\")","v":20160},{"$f":"RTD(\"cqg.rtd\",,\"StudyData\", \"Vol(\"&$D$12&\") when LocalYear(\"&$D$12&\")=\"&$D$7&\" and localMonth(\"&$D$12&\") =\"&$E$7&\" and LocalDay(\"&$D$12&\")=\"&$F$7&\" and Barix(\"&$D$12&\",reference:=StartOfDay)=\"&A105&\"\", \"Bar\", \"\", \"Close\",\"A5C\",\"0\",\"All\",,,\"False\",\"T\",\"EveryTick\")","v":15998},{"$f":"RTD(\"cqg.rtd\",,\"StudyData\", \"Vol(\"&$D$12&\") when LocalYear(\"&$D$12&\")=\"&$D$8&\" and localMonth(\"&$D$12&\") =\"&$E$8&\" and LocalDay(\"&$D$12&\")=\"&$F$8&\" and Barix(\"&$D$12&\",reference:=StartOfDay)=\"&A105&\"\", \"Bar\", \"\", \"Close\",\"A5C\",\"0\",\"All\",,,\"False\",\"T\",\"EveryTick\")","v":32957},{"$f":"RTD(\"cqg.rtd\",,\"StudyData\", \"Vol(\"&$D$12&\") when LocalYear(\"&$D$12&\")=\"&$D$9&\" and localMonth(\"&$D$12&\") =\"&$E$9&\" and LocalDay(\"&$D$12&\")=\"&$F$9&\" and Barix(\"&$D$12&\",reference:=StartOfDay)=\"&A105&\"\", \"Bar\", \"\", \"Close\",\"A5C\",\"0\",\"All\",,,\"False\",\"T\",\"EveryTick\")","v":26473},{"$f":"RTD(\"cqg.rtd\",,\"StudyData\", \"Vol(\"&$D$12&\") when LocalYear(\"&$D$12&\")=\"&$D$10&\" and localMonth(\"&$D$12&\") =\"&$E$10&\" and LocalDay(\"&$D$12&\")=\"&$F$10&\" and Barix(\"&$D$12&\",reference:=StartOfDay)=\"&A105&\"\", \"Bar\", \"\", \"Close\",\"A5C\",\"0\",\"All\",,,\"False\",\"T\",\"EveryTick\")","v":32789},{"$f":"IF(H105>(1+(MainDisplay!$O$24/100))*I105,H105,NA())","v":{"$error":"#N/A"}}]
[201,{"$f":"Sheet3!B106","v":"09:45:00"},null,null,null,null,null,{"$f":"RTD(\"cqg.rtd\",,\"StudyData\", \"Vol(\"&$D$12&\") when LocalYear(\"&$D$12&\")=\"&$D$1&\" and localMonth(\"&$D$12&\") =\"&$E$1&\" and LocalDay(\"&$D$12&\")=\"&$F$1&\" and Barix(\"&$D$12&\",reference:=StartOfDay)=\"&A106&\"\", \"Bar\", \"\", \"Close\",\"A5C\",\"0\",\"All\",,,\"False\",\"T\",\"EveryTick\")","v":13926},16784.888888888891,{"$f":"RTD(\"cqg.rtd\",,\"StudyData\", \"Vol(\"&$D$12&\") when LocalYear(\"&$D$12&\")=\"&$D$2&\" and localMonth(\"&$D$12&\") =\"&$E$2&\" and LocalDay(\"&$D$12&\")=\"&$F$2&\" and Barix(\"&$D$12&\",reference:=StartOfDay)=\"&A106&\"\", \"Bar\", \"\", \"Close\",\"A5C\",\"0\",\"All\",,,\"False\",\"T\",\"EveryTick\")","v":9151},{"$f":"RTD(\"cqg.rtd\",,\"StudyData\", \"Vol(\"&$D$12&\") when LocalYear(\"&$D$12&\")=\"&$D$3&\" and localMonth(\"&$D$12&\") =\"&$E$3&\" and LocalDay(\"&$D$12&\")=\"&$F$3&\" and Barix(\"&$D$12&\",reference:=StartOfDay)=\"&A106&\"\", \"Bar\", \"\", \"Close\",\"A5C\",\"0\",\"All\",,,\"False\",\"T\",\"EveryTick\")","v":7069},{"$f":"RTD(\"cqg.rtd\",,\"StudyData\", \"Vol(\"&$D$12&\") when LocalYear(\"&$D$12&\")=\"&$D$4&\" and localMonth(\"&$D$12&\") =\"&$E$4&\" and LocalDay(\"&$D$12&\")=\"&$F$4&\" and Barix(\"&$D$12&\",reference:=StartOfDay)=\"&A106&\"\", \"Bar\", \"\", \"Close\",\"A5C\",\"0\",\"All\",,,\"False\",\"T\",\"EveryTick\")","v":13776},{"$f":"RTD(\"cqg.rtd\",,\"StudyData\", \"Vol(\"&$D$12&\") when LocalYear(\"&$D$12&\")=\"&$D$5&\" and localMonth(\"&$D$12&\") =\"&$E$5&\" and LocalDay(\"&$D$12&\")=\"&$F$5&\" and Barix(\"&$D$12&\",reference:=StartOfDay)=\"&A106&\"\", \"Bar\", \"\", \"Close\",\"A5C\",\"0\",\"All\",,,\"False\",\"T\",\"EveryTick\")","v":11359},{"$f":"RTD(\"cqg.rtd\",,\"StudyData\", \"Vol(\"&$D$12&\") when LocalYear(\"&$D$12&\")=\"&$D$6&\" and localMonth(\"&$D$12&\") =\"&$E$6&\" and LocalDay(\"&$D$12&\")=\"&$F$6&\" and Barix(\"&$D$12&\",reference:=StartOfDay)=\"&A106&\"\", \"Bar\", \"\", \"Close\",\"A5C\",\"0\",\"All\",,,\"False\",\"T\",\"EveryTick\")","v":21771},{"$f":"RTD(\"cqg.rtd\",,\"StudyData\", \"Vol(\"&$D$12&\") when LocalYear(\"&$D$12&\")=\"&$D$7&\" and localMonth(\"&$D$12&\") =\"&$E$7&\" and LocalDay(\"&$D$12&\")=\"&$F$7&\" and Barix(\"&$D$12&\",reference:=StartOfDay)=\"&A106&\"\", \"Bar\", \"\", \"Close\",\"A5C\",\"0\",\"All\",,,\"False\",\"T\",\"EveryTick\")","v":17201},{"$f":"RTD(\"cqg.rtd\",,\"StudyData\", \"Vol(\"&$D$12&\") when LocalYear(\"&$D$12&\")=\"&$D$8&\" and localMonth(\"&$D$12&\") =\"&$E$8&\" and LocalDay(\"&$D$12&\")=\"&$F$8&\" and Barix(\"&$D$12&\",reference:=StartOfDay)=\"&A106&\"\", \"Bar\", \"\", \"Close\",\"A5C\",\"0\",\"All\",,,\"False\",\"T\",\"EveryTick\")","v":28831},{"$f":"RTD(\"cqg.rtd\",,\"StudyData\", \"Vol(\"&$D$12&\") when LocalYear(\"&$D$12&\")=\"&$D$9&\" and localMonth(\"&$D$12&\") =\"&$E$9&\" and LocalDay(\"&$D$12&\")=\"&$F$9&\" and Barix(\"&$D$12&\",reference:=StartOfDay)=\"&A106&\"\", \"Bar\", \"\", \"Close\",\"A5C\",\"0\",\"All\",,,\"False\",\"T\",\"EveryTick\")","v":27027},{"$f":"RTD(\"cqg.rtd\",,\"StudyData\", \"Vol(\"&$D$12&\") when LocalYear(\"&$D$12&\")=\"&$D$10&\" and localMonth(\"&$D$12&\") =\"&$E$10&\" and LocalDay(\"&$D$12&\")=\"&$F$10&\" and Barix(\"&$D$12&\",reference:=StartOfDay)=\"&A106&\"\", \"Bar\", \"\", \"Close\",\"A5C\",\"0\",\"All\",,,\"False\",\"T\",\"EveryTick\")","v":14879},{"$f":"IF(H106>(1+(MainDisplay!$O$24/100))*I106,H106,NA())","v":{"$error":"#N/A"}}]
[202,{"$f":"Sheet3!B107","v":"09:50:00"},null,null,null,null,null,{"$f":"RTD(\"cqg.rtd\",,\"StudyData\", \"Vol(\"&$D$12&\") when LocalYear(\"&$D$12&\")=\"&$D$1&\" and localMonth(\"&$D$12&\") =\"&$E$1&\" and LocalDay(\"&$D$12&\")=\"&$F$1&\" and Barix(\"&$D$12&\",reference:=StartOfDay)=\"&A107&\"\", \"Bar\", \"\", \"Close\",\"A5C\",\"0\",\"All\",,,\"False\",\"T\",\"EveryTick\")","v":12226},19687.555555555555,{"$f":"RTD(\"cqg.rtd\",,\"StudyData\", \"Vol(\"&$D$12&\") when LocalYear(\"&$D$12&\")=\"&$D$2&\" and localMonth(\"&$D$12&\") =\"&$E$2&\" and LocalDay(\"&$D$12&\")=\"&$F$2&\" and Barix(\"&$D$12&\",reference:=StartOfDay)=\"&A107&\"\", \"Bar\", \"\", \"Close\",\"A5C\",\"0\",\"All\",,,\"False\",\"T\",\"EveryTick\")","v":12750},{"$f":"RTD(\"cqg.rtd\",,\"StudyData\", \"Vol(\"&$D$12&\") when LocalYear(\"&$D$12&\")=\"&$D$3&\" and localMonth(\"&$D$12&\") =\"&$E$3&\" and LocalDay(\"&$D$12&\")=\"&$F$3&\" and Barix(\"&$D$12&\",reference:=StartOfDay)=\"&A107&\"\", \"Bar\", \"\", \"Close\",\"A5C\",\"0\",\"All\",,,\"False\",\"T\",\"EveryTick\")","v":8601},{"$f":"RTD(\"cqg.rtd\",,\"StudyData\", \"Vol(\"&$D$12&\") when LocalYear(\"&$D$12&\")=\"&$D$4&\" and localMonth(\"&$D$12&\") =\"&$E$4&\" and LocalDay(\"&$D$12&\")=\"&$F$4&\" and Barix(\"&$D$12&\",reference:=StartOfDay)=\"&A107&\"\", \"Bar\", \"\", \"Close\",\"A5C\",\"0\",\"All\",,,\"False\",\"T\",\"EveryTick\")","v":15316},{"$f":"RTD(\"cqg.rtd\",,\"StudyData\", \"Vol(\"&$D$12&\") when LocalYear(\"&$D$12&\")=\"&$D$5&\" and localMonth(\"&$D$12&\") =\"&$E$5&\" and LocalDay(\"&$D$12&\")=\"&$F$5&\" and Barix(\"&$D$12&\",reference:=StartOfDay)=\"&A107&\"\", \"Bar\", \"\", \"Close\",\"A5C\",\"0\",\"All\",,,\"False\",\"T\",\"EveryTick\")","v":8664},{"$f":"RTD(\"cqg.rtd\",,\"StudyData\", \"Vol(\"&$D$12&\") when LocalYear(\"&$D$12&\")=\"&$D$6&\" and localMonth(\"&$D$12&\") =\"&$E$6&\" and LocalDay(\"&$D$12&\")=\"&$F$6&\" and Barix(\"&$D$12&\",reference:=StartOfDay)=\"&A107&\"\", \"Bar\", \"\", \"Close\",\"A5C\",\"0\",\"All\",,,\"False\",\"T\",\"EveryTick\")","v":29934},{"$f":"RTD(\"cqg.rtd\",,\"StudyData\", \"Vol(\"&$D$12&\") when LocalYear(\"&$D$12&\")=\"&$D$7&\" and localMonth(\"&$D$12&\") =\"&$E$7&\" and LocalDay(\"&$D$12&\")=\"&$F$7&\" and Barix(\"&$D$12&\",reference:=StartOfDay)=\"&A107&\"\", \"Bar\", \"\", \"Close\",\"A5C\",\"0\",\"All\",,,\"False\",\"T\",\"EveryTick\")","v":18905},{"$f":"RTD(\"cqg.rtd\",,\"StudyData\", \"Vol(\"&$D$12&\") when LocalYear(\"&$D$12&\")=\"&$D$8&\" and localMonth(\"&$D$12&\") =\"&$E$8&\" and LocalDay(\"&$D$12&\")=\"&$F$8&\" and Barix(\"&$D$12&\",reference:=StartOfDay)=\"&A107&\"\", \"Bar\", \"\", \"Close\",\"A5C\",\"0\",\"All\",,,\"False\",\"T\",\"EveryTick\")","v":42727},{"$f":"RTD(\"cqg.rtd\",,\"StudyData\", \"Vol(\"&$D$12&\") when LocalYear(\"&$D$12&\")=\"&$D$9&\" and localMonth(\"&$D$12&\") =\"&$E$9&\" and LocalDay(\"&$D$12&\")=\"&$F$9&\" and Barix(\"&$D$12&\",reference:=StartOfDay)=\"&A107&\"\", \"Bar\", \"\", \"Close\",\"A5C\",\"0\",\"All\",,,\"False\",\"T\",\"EveryTick\")","v":20264},{"$f":"RTD(\"cqg.rtd\",,\"StudyData\", \"Vol(\"&$D$12&\") when LocalYear(\"&$D$12&\")=\"&$D$10&\" and localMonth(\"&$D$12&\") =\"&$E$10&\" and LocalDay(\"&$D$12&\")=\"&$F$10&\" and Barix(\"&$D$12&\",reference:=StartOfDay)=\"&A107&\"\", \"Bar\", \"\", \"Close\",\"A5C\",\"0\",\"All\",,,\"False\",\"T\",\"EveryTick\")","v":20027},{"$f":"IF(H107>(1+(MainDisplay!$O$24/100))*I107,H107,NA())","v":{"$error":"#N/A"}}]
[203,{"$f":"Sheet3!B108","v":"09:55:00"},null,null,null,null,null,{"$f":"RTD(\"cqg.rtd\",,\"StudyData\", \"Vol(\"&$D$12&\") when LocalYear(\"&$D$12&\")=\"&$D$1&\" and localMonth(\"&$D$12&\") =\"&$E$1&\" and LocalDay(\"&$D$12&\")=\"&$F$1&\" and Barix(\"&$D$12&\",reference:=StartOfDay)=\"&A108&\"\", \"Bar\", \"\", \"Close\",\"A5C\",\"0\",\"All\",,,\"False\",\"T\",\"EveryTick\")","v":10274},17330.888888888891,{"$f":"RTD(\"cqg.rtd\",,\"StudyData\", \"Vol(\"&$D$12&\") when LocalYear(\"&$D$12&\")=\"&$D$2&\" and localMonth(\"&$D$12&\") =\"&$E$2&\" and LocalDay(\"&$D$12&\")=\"&$F$2&\" and Barix(\"&$D$12&\",reference:=StartOfDay)=\"&A108&\"\", \"Bar\", \"\", \"Close\",\"A5C\",\"0\",\"All\",,,\"False\",\"T\",\"EveryTick\")","v":10862},{"$f":"RTD(\"cqg.rtd\",,\"StudyData\", \"Vol(\"&$D$12&\") when LocalYear(\"&$D$12&\")=\"&$D$3&\" and localMonth(\"&$D$12&\") =\"&$E$3&\" and LocalDay(\"&$D$12&\")=\"&$F$3&\" and Barix(\"&$D$12&\",reference:=StartOfDay)=\"&A108&\"\", \"Bar\", \"\", \"Close\",\"A5C\",\"0\",\"All\",,,\"False\",\"T\",\"EveryTick\")","v":6655},{"$f":"RTD(\"cqg.rtd\",,\"StudyData\", \"Vol(\"&$D$12&\") when LocalYear(\"&$D$12&\")=\"&$D$4&\" and localMonth(\"&$D$12&\") =\"&$E$4&\" and LocalDay(\"&$D$12&\")=\"&$F$4&\" and Barix(\"&$D$12&\",reference:=StartOfDay)=\"&A108&\"\", \"Bar\", \"\", \"Close\",\"A5C\",\"0\",\"All\",,,\"False\",\"T\",\"EveryTick\")","v":9559},{"$f":"RTD(\"cqg.rtd\",,\"StudyData\", \"Vol(\"&$D$12&\") when LocalYear(\"&$D$12&\")=\"&$D$5&\" and localMonth(\"&$D$12&\") =\"&$E$5&\" and LocalDay(\"&$D$12&\")=\"&$F$5&\" and Barix(\"&$D$12&\",reference:=StartOfDay)=\"&A108&\"\", \"Bar\", \"\", \"Close\",\"A5C\",\"0\",\"All\",,,\"False\",\"T\",\"EveryTick\")","v":12105},{"$f":"RTD(\"cqg.rtd\",,\"StudyData\", \"Vol(\"&$D$12&\") when LocalYear(\"&$D$12&\")=\"&$D$6&\" and localMonth(\"&$D$12&\") =\"&$E$6&\" and LocalDay(\"&$D$12&\")=\"&$F$6&\" and Barix(\"&$D$12&\",reference:=StartOfDay)=\"&A108&\"\", \"Bar\", \"\", \"Close\",\"A5C\",\"0\",\"All\",,,\"False\",\"T\",\"EveryTick\")","v":22243},{"$f":"RTD(\"cqg.rtd\",,\"StudyData\", \"Vol(\"&$D$12&\") when LocalYear(\"&$D$12&\")=\"&$D$7&\" and localMonth(\"&$D$12&\") =\"&$E$7&\" and LocalDay(\"&$D$12&\")=\"&$F$7&\" and Barix(\"&$D$12&\",reference:=StartOfDay)=\"&A108&\"\", \"Bar\", \"\", \"Close\",\"A5C\",\"0\",\"All\",,,\"False\",\"T\",\"EveryTick\")","v":12881},{"$f":"RTD(\"cqg.rtd\",,\"StudyData\", \"Vol(\"&$D$12&\") when LocalYear(\"&$D$12&\")=\"&$D$8&\" and localMonth(\"&$D$12&\") =\"&$E$8&\" and LocalDay(\"&$D$12&\")=\"&$F$8&\" and Barix(\"&$D$12&\",reference:=StartOfDay)=\"&A108&\"\", \"Bar\", \"\", \"Close\",\"A5C\",\"0\",\"All\",,,\"False\",\"T\",\"EveryTick\")","v":33862},{"$f":"RTD(\"cqg.rtd\",,\"StudyData\", \"Vol(\"&$D$12&\") when LocalYear(\"&$D$12&\")=\"&$D$9&\" and localMonth(\"&$D$12&\") =\"&$E$9&\" and LocalDay(\"&$D$12&\")=\"&$F$9&\" and Barix(\"&$D$12&\",reference:=StartOfDay)=\"&A108&\"\", \"Bar\", \"\", \"Close\",\"A5C\",\"0\",\"All\",,,\"False\",\"T\",\"EveryTick\")","v":19952},{"$f":"RTD(\"cqg.rtd\",,\"StudyData\", \"Vol(\"&$D$12&\") when LocalYear(\"&$D$12&\")=\"&$D$10&\" and localMonth(\"&$D$12&\") =\"&$E$10&\" and LocalDay(\"&$D$12&\")=\"&$F$10&\" and Barix(\"&$D$12&\",reference:=StartOfDay)=\"&A108&\"\", \"Bar\", \"\", \"Close\",\"A5C\",\"0\",\"All\",,,\"False\",\"T\",\"EveryTick\")","v":27859},{"$f":"IF(H108>(1+(MainDisplay!$O$24/100))*I108,H108,NA())","v":{"$error":"#N/A"}}]
[204,{"$f":"Sheet3!B109","v":"10:00:00"},null,null,null,null,null,{"$f":"RTD(\"cqg.rtd\",,\"StudyData\", \"Vol(\"&$D$12&\") when LocalYear(\"&$D$12&\")=\"&$D$1&\" and localMonth(\"&$D$12&\") =\"&$E$1&\" and LocalDay(\"&$D$12&\")=\"&$F$1&\" and Barix(\"&$D$12&\",reference:=StartOfDay)=\"&A109&\"\", \"Bar\", \"\", \"Close\",\"A5C\",\"0\",\"All\",,,\"False\",\"T\",\"EveryTick\")","v":10338},17373.777777777777,{"$f":"RTD(\"cqg.rtd\",,\"StudyData\", \"Vol(\"&$D$12&\") when LocalYear(\"&$D$12&\")=\"&$D$2&\" and localMonth(\"&$D$12&\") =\"&$E$2&\" and LocalDay(\"&$D$12&\")=\"&$F$2&\" and Barix(\"&$D$12&\",reference:=StartOfDay)=\"&A109&\"\", \"Bar\", \"\", \"Close\",\"A5C\",\"0\",\"All\",,,\"False\",\"T\",\"EveryTick\")","v":15854},{"$f":"RTD(\"cqg.rtd\",,\"StudyData\", \"Vol(\"&$D$12&\") when LocalYear(\"&$D$12&\")=\"&$D$3&\" and localMonth(\"&$D$12&\") =\"&$E$3&\" and LocalDay(\"&$D$12&\")=\"&$F$3&\" and Barix(\"&$D$12&\",reference:=StartOfDay)=\"&A109&\"\", \"Bar\", \"\", \"Close\",\"A5C\",\"0\",\"All\",,,\"False\",\"T\",\"EveryTick\")","v":7213},{"$f":"RTD(\"cqg.rtd\",,\"StudyData\", \"Vol(\"&$D$12&\") when LocalYear(\"&$D$12&\")=\"&$D$4&\" and localMonth(\"&$D$12&\") =\"&$E$4&\" and LocalDay(\"&$D$12&\")=\"&$F$4&\" and Barix(\"&$D$12&\",reference:=StartOfDay)=\"&A109&\"\", \"Bar\", \"\", \"Close\",\"A5C\",\"0\",\"All\",,,\"False\",\"T\",\"EveryTick\")","v":11279},{"$f":"RTD(\"cqg.rtd\",,\"StudyData\", \"Vol(\"&$D$12&\") when LocalYear(\"&$D$12&\")=\"&$D$5&\" and localMonth(\"&$D$12&\") =\"&$E$5&\" and LocalDay(\"&$D$12&\")=\"&$F$5&\" and Barix(\"&$D$12&\",reference:=StartOfDay)=\"&A109&\"\", \"Bar\", \"\", \"Close\",\"A5C\",\"0\",\"All\",,,\"False\",\"T\",\"EveryTick\")","v":13364},{"$f":"RTD(\"cqg.rtd\",,\"StudyData\", \"Vol(\"&$D$12&\") when LocalYear(\"&$D$12&\")=\"&$D$6&\" and localMonth(\"&$D$12&\") =\"&$E$6&\" and LocalDay(\"&$D$12&\")=\"&$F$6&\" and Barix(\"&$D$12&\",reference:=StartOfDay)=\"&A109&\"\", \"Bar\", \"\", \"Close\",\"A5C\",\"0\",\"All\",,,\"False\",\"T\",\"EveryTick\")","v":22749},{"$f":"RTD(\"cqg.rtd\",,\"StudyData\", \"Vol(\"&$D$12&\") when LocalYear(\"&$D$12&\")=\"&$D$7&\" and localMonth(\"&$D$12&\") =\"&$E$7&\" and LocalDay(\"&$D$12&\")=\"&$F$7&\" and Barix(\"&$D$12&\",reference:=StartOfDay)=\"&A109&\"\", \"Bar\", \"\", \"Close\",\"A5C\",\"0\",\"All\",,,\"False\",\"T\",\"EveryTick\")","v":17214},{"$f":"RTD(\"cqg.rtd\",,\"StudyData\", \"Vol(\"&$D$12&\") when LocalYear(\"&$D$12&\")=\"&$D$8&\" and localMonth(\"&$D$12&\") =\"&$E$8&\" and LocalDay(\"&$D$12&\")=\"&$F$8&\" and Barix(\"&$D$12&\",reference:=StartOfDay)=\"&A109&\"\", \"Bar\", \"\", \"Close\",\"A5C\",\"0\",\"All\",,,\"False\",\"T\",\"EveryTick\")","v":26679},{"$f":"RTD(\"cqg.rtd\",,\"StudyData\", \"Vol(\"&$D$12&\") when LocalYear(\"&$D$12&\")=\"&$D$9&\" and localMonth(\"&$D$12&\") =\"&$E$9&\" and LocalDay(\"&$D$12&\")=\"&$F$9&\" and Barix(\"&$D$12&\",reference:=StartOfDay)=\"&A109&\"\", \"Bar\", \"\", \"Close\",\"A5C\",\"0\",\"All\",,,\"False\",\"T\",\"EveryTick\")","v":23973},{"$f":"RTD(\"cqg.rtd\",,\"StudyData\", \"Vol(\"&$D$12&\") when LocalYear(\"&$D$12&\")=\"&$D$10&\" and localMonth(\"&$D$12&\") =\"&$E$10&\" and LocalDay(\"&$D$12&\")=\"&$F$10&\" and Barix(\"&$D$12&\",reference:=StartOfDay)=\"&A109&\"\", \"Bar\", \"\", \"Close\",\"A5C\",\"0\",\"All\",,,\"False\",\"T\",\"EveryTick\")","v":18039},{"$f":"IF(H109>(1+(MainDisplay!$O$24/100))*I109,H109,NA())","v":{"$error":"#N/A"}}]
[{"$f":"A109+1","v":205},{"$f":"Sheet3!B110","v":"10:05:00"},null,null,null,null,null,{"$f":"RTD(\"cqg.rtd\",,\"StudyData\", \"Vol(\"&$D$12&\") when LocalYear(\"&$D$12&\")=\"&$D$1&\" and localMonth(\"&$D$12&\") =\"&$E$1&\" and LocalDay(\"&$D$12&\")=\"&$F$1&\" and Barix(\"&$D$12&\",reference:=StartOfDay)=\"&A110&\"\", \"Bar\", \"\", \"Close\",\"A5C\",\"0\",\"All\",,,\"False\",\"T\",\"EveryTick\")","v":10055},{"$f":"AVERAGE(J110:R110)","v":14423.222222222223},{"$f":"RTD(\"cqg.rtd\",,\"StudyData\", \"Vol(\"&$D$12&\") when LocalYear(\"&$D$12&\")=\"&$D$2&\" and localMonth(\"&$D$12&\") =\"&$E$2&\" and LocalDay(\"&$D$12&\")=\"&$F$2&\" and Barix(\"&$D$12&\",reference:=StartOfDay)=\"&A110&\"\", \"Bar\", \"\", \"Close\",\"A5C\",\"0\",\"All\",,,\"False\",\"T\",\"EveryTick\")","v":11273},{"$f":"RTD(\"cqg.rtd\",,\"StudyData\", \"Vol(\"&$D$12&\") when LocalYear(\"&$D$12&\")=\"&$D$3&\" and localMonth(\"&$D$12&\") =\"&$E$3&\" and LocalDay(\"&$D$12&\")=\"&$F$3&\" and Barix(\"&$D$12&\",reference:=StartOfDay)=\"&A110&\"\", \"Bar\", \"\", \"Close\",\"A5C\",\"0\",\"All\",,,\"False\",\"T\",\"EveryTick\")","v":4678},{"$f":"RTD(\"cqg.rtd\",,\"StudyData\", \"Vol(\"&$D$12&\") when LocalYear(\"&$D$12&\")=\"&$D$4&\" and localMonth(\"&$D$12&\") =\"&$E$4&\" and LocalDay(\"&$D$12&\")=\"&$F$4&\" and Barix(\"&$D$12&\",reference:=StartOfDay)=\"&A110&\"\", \"Bar\", \"\", \"Close\",\"A5C\",\"0\",\"All\",,,\"False\",\"T\",\"EveryTick\")","v":15147},{"$f":"RTD(\"cqg.rtd\",,\"StudyData\", \"Vol(\"&$D$12&\") when LocalYear(\"&$D$12&\")=\"&$D$5&\" and localMonth(\"&$D$12&\") =\"&$E$5&\" and LocalDay(\"&$D$12&\")=\"&$F$5&\" and Barix(\"&$D$12&\",reference:=StartOfDay)=\"&A110&\"\", \"Bar\", \"\", \"Close\",\"A5C\",\"0\",\"All\",,,\"False\",\"T\",\"EveryTick\")","v":8266},{"$f":"RTD(\"cqg.rtd\",,\"StudyData\", \"Vol(\"&$D$12&\") when LocalYear(\"&$D$12&\")=\"&$D$6&\" and localMonth(\"&$D$12&\") =\"&$E$6&\" and LocalDay(\"&$D$12&\")=\"&$F$6&\" and Barix(\"&$D$12&\",reference:=StartOfDay)=\"&A110&\"\", \"Bar\", \"\", \"Close\",\"A5C\",\"0\",\"All\",,,\"False\",\"T\",\"EveryTick\")","v":15741},{"$f":"RTD(\"cqg.rtd\",,\"StudyData\", \"Vol(\"&$D$12&\") when LocalYear(\"&$D$12&\")=\"&$D$7&\" and localMonth(\"&$D$12&\") =\"&$E$7&\" and LocalDay(\"&$D$12&\")=\"&$F$7&\" and Barix(\"&$D$12&\",reference:=StartOfDay)=\"&A110&\"\", \"Bar\", \"\", \"Close\",\"A5C\",\"0\",\"All\",,,\"False\",\"T\",\"EveryTick\")","v":18257},{"$f":"RTD(\"cqg.rtd\",,\"StudyData\", \"Vol(\"&$D$12&\") when LocalYear(\"&$D$12&\")=\"&$D$8&\" and localMonth(\"&$D$12&\") =\"&$E$8&\" and LocalDay(\"&$D$12&\")=\"&$F$8&\" and Barix(\"&$D$12&\",reference:=StartOfDay)=\"&A110&\"\", \"Bar\", \"\", \"Close\",\"A5C\",\"0\",\"All\",,,\"False\",\"T\",\"EveryTick\")","v":23803},{"$f":"RTD(\"cqg.rtd\",,\"StudyData\", \"Vol(\"&$D$12&\") when LocalYear(\"&$D$12&\")=\"&$D$9&\" and localMonth(\"&$D$12&\") =\"&$E$9&\" and LocalDay(\"&$D$12&\")=\"&$F$9&\" and Barix(\"&$D$12&\",reference:=StartOfDay)=\"&A110&\"\", \"Bar\", \"\", \"Close\",\"A5C\",\"0\",\"All\",,,\"False\",\"T\",\"EveryTick\")","v":17430},{"$f":"RTD(\"cqg.rtd\",,\"StudyData\", \"Vol(\"&$D$12&\") when LocalYear(\"&$D$12&\")=\"&$D$10&\" and localMonth(\"&$D$12&\") =\"&$E$10&\" and LocalDay(\"&$D$12&\")=\"&$F$10&\" and Barix(\"&$D$12&\",reference:=StartOfDay)=\"&A110&\"\", \"Bar\", \"\", \"Close\",\"A5C\",\"0\",\"All\",,,\"False\",\"T\",\"EveryTick\")","v":15214},{"$f":"IF(H110>(1+(MainDisplay!$O$24/100))*I110,H110,NA())","v":{"$error":"#N/A"}}]
[206,{"$f":"Sheet3!B111","v":"10:10:00"},null,null,null,null,null,{"$f":"RTD(\"cqg.rtd\",,\"StudyData\", \"Vol(\"&$D$12&\") when LocalYear(\"&$D$12&\")=\"&$D$1&\" and localMonth(\"&$D$12&\") =\"&$E$1&\" and LocalDay(\"&$D$12&\")=\"&$F$1&\" and Barix(\"&$D$12&\",reference:=StartOfDay)=\"&A111&\"\", \"Bar\", \"\", \"Close\",\"A5C\",\"0\",\"All\",,,\"False\",\"T\",\"EveryTick\")","v":7251},14179.333333333334,{"$f":"RTD(\"cqg.rtd\",,\"StudyData\", \"Vol(\"&$D$12&\") when LocalYear(\"&$D$12&\")=\"&$D$2&\" and localMonth(\"&$D$12&\") =\"&$E$2&\" and LocalDay(\"&$D$12&\")=\"&$F$2&\" and Barix(\"&$D$12&\",reference:=StartOfDay)=\"&A111&\"\", \"Bar\", \"\", \"Close\",\"A5C\",\"0\",\"All\",,,\"False\",\"T\",\"EveryTick\")","v":8371},{"$f":"RTD(\"cqg.rtd\",,\"StudyData\", \"Vol(\"&$D$12&\") when LocalYear(\"&$D$12&\")=\"&$D$3&\" and localMonth(\"&$D$12&\") =\"&$E$3&\" and LocalDay(\"&$D$12&\")=\"&$F$3&\" and Barix(\"&$D$12&\",reference:=StartOfDay)=\"&A111&\"\", \"Bar\", \"\", \"Close\",\"A5C\",\"0\",\"All\",,,\"False\",\"T\",\"EveryTick\")","v":6117},{"$f":"RTD(\"cqg.rtd\",,\"StudyData\", \"Vol(\"&$D$12&\") when LocalYear(\"&$D$12&\")=\"&$D$4&\" and localMonth(\"&$D$12&\") =\"&$E$4&\" and LocalDay(\"&$D$12&\")=\"&$F$4&\" and Barix(\"&$D$12&\",reference:=StartOfDay)=\"&A111&\"\", \"Bar\", \"\", \"Close\",\"A5C\",\"0\",\"All\",,,\"False\",\"T\",\"EveryTick\")","v":12009},{"$f":"RTD(\"cqg.rtd\",,\"StudyData\", \"Vol(\"&$D$12&\") when LocalYear(\"&$D$12&\")=\"&$D$5&\" and localMonth(\"&$D$12&\") =\"&$E$5&\" and LocalDay(\"&$D$12&\")=\"&$F$5&\" and Barix(\"&$D$12&\",reference:=StartOfDay)=\"&A111&\"\", \"Bar\", \"\", \"Close\",\"A5C\",\"0\",\"All\",,,\"False\",\"T\",\"EveryTick\")","v":10036},{"$f":"RTD(\"cqg.rtd\",,\"StudyData\", \"Vol(\"&$D$12&\") when LocalYear(\"&$D$12&\")=\"&$D$6&\" and localMonth(\"&$D$12&\") =\"&$E$6&\" and LocalDay(\"&$D$12&\")=\"&$F$6&\" and Barix(\"&$D$12&\",reference:=StartOfDay)=\"&A111&\"\", \"Bar\", \"\", \"Close\",\"A5C\",\"0\",\"All\",,,\"False\",\"T\",\"EveryTick\")","v":17035},{"$f":"RTD(\"cqg.rtd\",,\"StudyData\", \"Vol(\"&$D$12&\") when LocalYear(\"&$D$12&\")=\"&$D$7&\" and localMonth(\"&$D$12&\") =\"&$E$7&\" and LocalDay(\"&$D$12&\")=\"&$F$7&\" and Barix(\"&$D$12&\",reference:=StartOfDay)=\"&A111&\"\", \"Bar\", \"\", \"Close\",\"A5C\",\"0\",\"All\",,,\"False\",\"T\",\"EveryTick\")","v":11359},{"$f":"RTD(\"cqg.rtd\",,\"StudyData\", \"Vol(\"&$D$12&\") when LocalYear(\"&$D$12&\")=\"&$D$8&\" and localMonth(\"&$D$12&\") =\"&$E$8&\" and LocalDay(\"&$D$12&\")=\"&$F$8&\" and Barix(\"&$D$12&\",reference:=StartOfDay)=\"&A111&\"\", \"Bar\", \"\", \"Close\",\"A5C\",\"0\",\"All\",,,\"False\",\"T\",\"EveryTick\")","v":19410},{"$f":"RTD(\"cqg.rtd\",,\"StudyData\", \"Vol(\"&$D$12&\") when LocalYear(\"&$D$12&\")=\"&$D$9&\" and localMonth(\"&$D$12&\") =\"&$E$9&\" and LocalDay(\"&$D$12&\")=\"&$F$9&\" and Barix(\"&$D$12&\",reference:=StartOfDay)=\"&A111&\"\", \"Bar\", \"\", \"Close\",\"A5C\",\"0\",\"All\",,,\"False\",\"T\",\"EveryTick\")","v":33791},{"$f":"RTD(\"cqg.rtd\",,\"StudyData\", \"Vol(\"&$D$12&\") when LocalYear(\"&$D$12&\")=\"&$D$10&\" and localMonth(\"&$D$12&\") =\"&$E$10&\" and LocalDay(\"&$D$12&\")=\"&$F$10&\" and Barix(\"&$D$12&\",reference:=StartOfDay)=\"&A111&\"\", \"Bar\", \"\", \"Close\",\"A5C\",\"0\",\"All\",,,\"False\",\"T\",\"EveryTick\")","v":9486},{"$f":"IF(H111>(1+(MainDisplay!$O$24/100))*I111,H111,NA())","v":{"$error":"#N/A"}}]
[207,{"$f":"Sheet3!B112","v":"10:15:00"},null,null,null,null,null,{"$f":"RTD(\"cqg.rtd\",,\"StudyData\", \"Vol(\"&$D$12&\") when LocalYear(\"&$D$12&\")=\"&$D$1&\" and localMonth(\"&$D$12&\") =\"&$E$1&\" and LocalDay(\"&$D$12&\")=\"&$F$1&\" and Barix(\"&$D$12&\",reference:=StartOfDay)=\"&A112&\"\", \"Bar\", \"\", \"Close\",\"A5C\",\"0\",\"All\",,,\"False\",\"T\",\"EveryTick\")","v":79},14624.444444444445,{"$f":"RTD(\"cqg.rtd\",,\"StudyData\", \"Vol(\"&$D$12&\") when LocalYear(\"&$D$12&\")=\"&$D$2&\" and localMonth(\"&$D$12&\") =\"&$E$2&\" and LocalDay(\"&$D$12&\")=\"&$F$2&\" and Barix(\"&$D$12&\",reference:=StartOfDay)=\"&A112&\"\", \"Bar\", \"\", \"Close\",\"A5C\",\"0\",\"All\",,,\"False\",\"T\",\"EveryTick\")","v":9407},{"$f":"RTD(\"cqg.rtd\",,\"StudyData\", \"Vol(\"&$D$12&\") when LocalYear(\"&$D$12&\")=\"&$D$3&\" and localMonth(\"&$D$12&\") =\"&$E$3&\" and LocalDay(\"&$D$12&\")=\"&$F$3&\" and Barix(\"&$D$12&\",reference:=StartOfDay)=\"&A112&\"\", \"Bar\", \"\", \"Close\",\"A5C\",\"0\",\"All\",,,\"False\",\"T\",\"EveryTick\")","v":10010},{"$f":"RTD(\"cqg.rtd\",,\"StudyData\", \"Vol(\"&$D$12&\") when LocalYear(\"&$D$12&\")=\"&$D$4&\" and localMonth(\"&$D$12&\") =\"&$E$4&\" and LocalDay(\"&$D$12&\")=\"&$F$4&\" and Barix(\"&$D$12&\",reference:=StartOfDay)=\"&A112&\"\", \"Bar\", \"\", \"Close\",\"A5C\",\"0\",\"All\",,,\"False\",\"T\",\"EveryTick\")","v":11394},{"$f":"RTD(\"cqg.rtd\",,\"StudyData\", \"Vol(\"&$D$12&\") when LocalYear(\"&$D$12&\")=\"&$D$5&\" and localMonth(\"&$D$12&\") =\"&$E$5&\" and LocalDay(\"&$D$12&\")=\"&$F$5&\" and Barix(\"&$D$12&\",reference:=StartOfDay)=\"&A112&\"\", \"Bar\", \"\", \"Close\",\"A5C\",\"0\",\"All\",,,\"False\",\"T\",\"EveryTick\")","v":14231},{"$f":"RTD(\"cqg.rtd\",,\"StudyData\", \"Vol(\"&$D$12&\") when LocalYear(\"&$D$12&\")=\"&$D$6&\" and localMonth(\"&$D$12&\") =\"&$E$6&\" and LocalDay(\"&$D$12&\")=\"&$F$6&\" and Barix(\"&$D$12&\",reference:=StartOfDay)=\"&A112&\"\", \"Bar\", \"\", \"Close\",\"A5C\",\"0\",\"All\",,,\"False\",\"T\",\"EveryTick\")","v":12344},{"$f":"RTD(\"cqg.rtd\",,\"StudyData\", \"Vol(\"&$D$12&\") when LocalYear(\"&$D$12&\")=\"&$D$7&\" and localMonth(\"&$D$12&\") =\"&$E$7&\" and LocalDay(\"&$D$12&\")=\"&$F$7&\" and Barix(\"&$D$12&\",reference:=StartOfDay)=\"&A112&\"\", \"Bar\", \"\", \"Close\",\"A5C\",\"0\",\"All\",,,\"False\",\"T\",\"EveryTick\")","v":13909},{"$f":"RTD(\"cqg.rtd\",,\"StudyData\", \"Vol(\"&$D$12&\") when LocalYear(\"&$D$12&\")=\"&$D$8&\" and localMonth(\"&$D$12&\") =\"&$E$8&\" and LocalDay(\"&$D$12&\")=\"&$F$8&\" and Barix(\"&$D$12&\",reference:=StartOfDay)=\"&A112&\"\", \"Bar\", \"\", \"Close\",\"A5C\",\"0\",\"All\",,,\"False\",\"T\",\"EveryTick\")","v":20742},{"$f":"RTD(\"cqg.rtd\",,\"StudyData\", \"Vol(\"&$D$12&\") when LocalYear(\"&$D$12&\")=\"&$D$9&\" and localMonth(\"&$D$12&\") =\"&$E$9&\" and LocalDay(\"&$D$12&\")=\"&$F$9&\" and Barix(\"&$D$12&\",reference:=StartOfDay)=\"&A112&\"\", \"Bar\", \"\", \"Close\",\"A5C\",\"0\",\"All\",,,\"False\",\"T\",\"EveryTick\")","v":22471},{"$f":"RTD(\"cqg.rtd\",,\"StudyData\", \"Vol(\"&$D$12&\") when LocalYear(\"&$D$12&\")=\"&$D$10&\" and localMonth(\"&$D$12&\") =\"&$E$10&\" and LocalDay(\"&$D$12&\")=\"&$F$10&\" and Barix(\"&$D$12&\",reference:=StartOfDay)=\"&A112&\"\", \"Bar\", \"\", \"Close\",\"A5C\",\"0\",\"All\",,,\"False\",\"T\",\"EveryTick\")","v":17112},{"$f":"IF(H112>(1+(MainDisplay!$O$24/100))*I112,H112,NA())","v":{"$error":"#N/A"}}]
[208,{"$f":"Sheet3!B113","v":"10:20:00"},null,null,null,null,null,{"$f":"RTD(\"cqg.rtd\",,\"StudyData\", \"Vol(\"&$D$12&\") when LocalYear(\"&$D$12&\")=\"&$D$1&\" and localMonth(\"&$D$12&\") =\"&$E$1&\" and LocalDay(\"&$D$12&\")=\"&$F$1&\" and Barix(\"&$D$12&\",reference:=StartOfDay)=\"&A113&\"\", \"Bar\", \"\", \"Close\",\"A5C\",\"0\",\"All\",,,\"False\",\"T\",\"EveryTick\")","v":""},13833.111111111111,{"$f":"RTD(\"cqg.rtd\",,\"StudyData\", \"Vol(\"&$D$12&\") when LocalYear(\"&$D$12&\")=\"&$D$2&\" and localMonth(\"&$D$12&\") =\"&$E$2&\" and LocalDay(\"&$D$12&\")=\"&$F$2&\" and Barix(\"&$D$12&\",reference:=StartOfDay)=\"&A113&\"\", \"Bar\", \"\", \"Close\",\"A5C\",\"0\",\"All\",,,\"False\",\"T\",\"EveryTick\")","v":7207},{"$f":"RTD(\"cqg.rtd\",,\"StudyData\", \"Vol(\"&$D$12&\") when LocalYear(\"&$D$12&\")=\"&$D$3&\" and localMonth(\"&$D$12&\") =\"&$E$3&\" and LocalDay(\"&$D$12&\")=\"&$F$3&\" and Barix(\"&$D$12&\",reference:=StartOfDay)=\"&A113&\"\", \"Bar\", \"\", \"Close\",\"A5C\",\"0\",\"All\",,,\"False\",\"T\",\"EveryTick\")","v":8806},{"$f":"RTD(\"cqg.rtd\",,\"StudyData\", \"Vol(\"&$D$12&\") when LocalYear(\"&$D$12&\")=\"&$D$4&\" and localMonth(\"&$D$12&\") =\"&$E$4&\" and LocalDay(\"&$D$12&\")=\"&$F$4&\" and Barix(\"&$D$12&\",reference:=StartOfDay)=\"&A113&\"\", \"Bar\", \"\", \"Close\",\"A5C\",\"0\",\"All\",,,\"False\",\"T\",\"EveryTick\")","v":10948},{"$f":"RTD(\"cqg.rtd\",,\"StudyData\", \"Vol(\"&$D$12&\") when LocalYear(\"&$D$12&\")=\"&$D$5&\" and localMonth(\"&$D$12&\") =\"&$E$5&\" and LocalDay(\"&$D$12&\")=\"&$F$5&\" and Barix(\"&$D$12&\",reference:=StartOfDay)=\"&A113&\"\", \"Bar\", \"\", \"Close\",\"A5C\",\"0\",\"All\",,,\"False\",\"T\",\"EveryTick\")","v":9380},{"$f":"RTD(\"cqg.rtd\",,\"StudyData\", \"Vol(\"&$D$12&\") when LocalYear(\"&$D$12&\")=\"&$D$6&\" and localMonth(\"&$D$12&\") =\"&$E$6&\" and LocalDay(\"&$D$12&\")=\"&$F$6&\" and Barix(\"&$D$12&\",reference:=StartOfDay)=\"&A113&\"\", \"Bar\", \"\", \"Close\",\"A5C\",\"0\",\"All\",,,\"False\",\"T\",\"EveryTick\")","v":19393},{"$f":"RTD(\"cqg.rtd\",,\"StudyData\", \"Vol(\"&$D$12&\") when LocalYear(\"&$D$12&\")=\"&$D$7&\" and localMonth(\"&$D$12&\") =\"&$E$7&\" and LocalDay(\"&$D$12&\")=\"&$F$7&\" and Barix(\"&$D$12&\",reference:=StartOfDay)=\"&A113&\"\", \"Bar\", \"\", \"Close\",\"A5C\",\"0\",\"All\",,,\"False\",\"T\",\"EveryTick\")","v":12676},{"$f":"RTD(\"cqg.rtd\",,\"StudyData\", \"Vol(\"&$D$12&\") when LocalYear(\"&$D$12&\")=\"&$D$8&\" and localMonth(\"&$D$12&\") =\"&$E$8&\" and LocalDay(\"&$D$12&\")=\"&$F$8&\" and Barix(\"&$D$12&\",reference:=StartOfDay)=\"&A113&\"\", \"Bar\", \"\", \"Close\",\"A5C\",\"0\",\"All\",,,\"False\",\"T\",\"EveryTick\")","v":21781},{"$f":"RTD(\"cqg.rtd\",,\"StudyData\", \"Vol(\"&$D$12&\") when LocalYear(\"&$D$12&\")=\"&$D$9&\" and localMonth(\"&$D$12&\") =\"&$E$9&\" and LocalDay(\"&$D$12&\")=\"&$F$9&\" and Barix(\"&$D$12&\",reference:=StartOfDay)=\"&A113&\"\", \"Bar\", \"\", \"Close\",\"A5C\",\"0\",\"All\",,,\"False\",\"T\",\"EveryTick\")","v":21377},{"$f":"RTD(\"cqg.rtd\",,\"StudyData\", \"Vol(\"&$D$12&\") when LocalYear(\"&$D$12&\")=\"&$D$10&\" and localMonth(\"&$D$12&\") =\"&$E$10&\" and LocalDay(\"&$D$12&\")=\"&$F$10&\" and Barix(\"&$D$12&\",reference:=StartOfDay)=\"&A113&\"\", \"Bar\", \"\", \"Close\",\"A5C\",\"0\",\"All\",,,\"False\",\"T\",\"EveryTick\")","v":12930},{"$f":"IF(H113>(1+(MainDisplay!$O$24/100))*I113,H113,NA())","v":""}]
[209,{"$f":"Sheet3!B114","v":"10:25:00"},null,null,null,null,null,{"$f":"RTD(\"cqg.rtd\",,\"StudyData\", \"Vol(\"&$D$12&\") when LocalYear(\"&$D$12&\")=\"&$D$1&\" and localMonth(\"&$D$12&\") =\"&$E$1&\" and LocalDay(\"&$D$12&\")=\"&$F$1&\" and Barix(\"&$D$12&\",reference:=StartOfDay)=\"&A114&\"\", \"Bar\", \"\", \"Close\",\"A5C\",\"0\",\"All\",,,\"False\",\"T\",\"EveryTick\")","v":""},12346.666666666666,{"$f":"RTD(\"cqg.rtd\",,\"StudyData\", \"Vol(\"&$D$12&\") when LocalYear(\"&$D$12&\")=\"&$D$2&\" and localMonth(\"&$D$12&\") =\"&$E$2&\" and LocalDay(\"&$D$12&\")=\"&$F$2&\" and Barix(\"&$D$12&\",reference:=StartOfDay)=\"&A114&\"\", \"Bar\", \"\", \"Close\",\"A5C\",\"0\",\"All\",,,\"False\",\"T\",\"EveryTick\")","v":5835},{"$f":"RTD(\"cqg.rtd\",,\"StudyData\", \"Vol(\"&$D$12&\") when LocalYear(\"&$D$12&\")=\"&$D$3&\" and localMonth(\"&$D$12&\") =\"&$E$3&\" and LocalDay(\"&$D$12&\")=\"&$F$3&\" and Barix(\"&$D$12&\",reference:=StartOfDay)=\"&A114&\"\", \"Bar\", \"\", \"Close\",\"A5C\",\"0\",\"All\",,,\"False\",\"T\",\"EveryTick\")","v":7490},{"$f":"RTD(\"cqg.rtd\",,\"StudyData\", \"Vol(\"&$D$12&\") when LocalYear(\"&$D$12&\")=\"&$D$4&\" and localMonth(\"&$D$12&\") =\"&$E$4&\" and LocalDay(\"&$D$12&\")=\"&$F$4&\" and Barix(\"&$D$12&\",reference:=StartOfDay)=\"&A114&\"\", \"Bar\", \"\", \"Close\",\"A5C\",\"0\",\"All\",,,\"False\",\"T\",\"EveryTick\")","v":11214},{"$f":"RTD(\"cqg.rtd\",,\"StudyData\", \"Vol(\"&$D$12&\") when LocalYear(\"&$D$12&\")=\"&$D$5&\" and localMonth(\"&$D$12&\") =\"&$E$5&\" and LocalDay(\"&$D$12&\")=\"&$F$5&\" and Barix(\"&$D$12&\",reference:=StartOfDay)=\"&A114&\"\", \"Bar\", \"\", \"Close\",\"A5C\",\"0\",\"All\",,,\"False\",\"T\",\"EveryTick\")","v":8368},{"$f":"RTD(\"cqg.rtd\",,\"StudyData\", \"Vol(\"&$D$12&\") when LocalYear(\"&$D$12&\")=\"&$D$6&\" and localMonth(\"&$D$12&\") =\"&$E$6&\" and LocalDay(\"&$D$12&\")=\"&$F$6&\" and Barix(\"&$D$12&\",reference:=StartOfDay)=\"&A114&\"\", \"Bar\", \"\", \"Close\",\"A5C\",\"0\",\"All\",,,\"False\",\"T\",\"EveryTick\")","v":16883},{"$f":"RTD(\"cqg.rtd\",,\"StudyData\", \"Vol(\"&$D$12&\") when LocalYear(\"&$D$12&\")=\"&$D$7&\" and localMonth(\"&$D$12&\") =\"&$E$7&\" and LocalDay(\"&$D$12&\")=\"&$F$7&\" and Barix(\"&$D$12&\",reference:=StartOfDay)=\"&A114&\"\", \"Bar\", \"\", \"Close\",\"A5C\",\"0\",\"All\",,,\"False\",\"T\",\"EveryTick\")","v":11379},{"$f":"RTD(\"cqg.rtd\",,\"StudyData\", \"Vol(\"&$D$12&\") when LocalYear(\"&$D$12&\")=\"&$D$8&\" and localMonth(\"&$D$12&\") =\"&$E$8&\" and LocalDay(\"&$D$12&\")=\"&$F$8&\" and Barix(\"&$D$12&\",reference:=StartOfDay)=\"&A114&\"\", \"Bar\", \"\", \"Close\",\"A5C\",\"0\",\"All\",,,\"False\",\"T\",\"EveryTick\")","v":22081},{"$f":"RTD(\"cqg.rtd\",,\"StudyData\", \"Vol(\"&$D$12&\") when LocalYear(\"&$D$12&\")=\"&$D$9&\" and localMonth(\"&$D$12&\") =\"&$E$9&\" and LocalDay(\"&$D$12&\")=\"&$F$9&\" and Barix(\"&$D$12&\",reference:=StartOfDay)=\"&A114&\"\", \"Bar\", \"\", \"Close\",\"A5C\",\"0\",\"All\",,,\"False\",\"T\",\"EveryTick\")","v":15823},{"$f":"RTD(\"cqg.rtd\",,\"StudyData\", \"Vol(\"&$D$12&\") when LocalYear(\"&$D$12&\")=\"&$D$10&\" and localMonth(\"&$D$12&\") =\"&$E$10&\" and LocalDay(\"&$D$12&\")=\"&$F$10&\" and Barix(\"&$D$12&\",reference:=StartOfDay)=\"&A114&\"\", \"Bar\", \"\", \"Close\",\"A5C\",\"0\",\"All\",,,\"False\",\"T\",\"EveryTick\")","v":12047},{"$f":"IF(H114>(1+(MainDisplay!$O$24/100))*I114,H114,NA())","v":""}]
[210,{"$f":"Sheet3!B115","v":"10:30:00"},null,null,null,null,null,{"$f":"RTD(\"cqg.rtd\",,\"StudyData\", \"Vol(\"&$D$12&\") when LocalYear(\"&$D$12&\")=\"&$D$1&\" and localMonth(\"&$D$12&\") =\"&$E$1&\" and LocalDay(\"&$D$12&\")=\"&$F$1&\" and Barix(\"&$D$12&\",reference:=StartOfDay)=\"&A115&\"\", \"Bar\", \"\", \"Close\",\"A5C\",\"0\",\"All\",,,\"False\",\"T\",\"EveryTick\")","v":""},15620.777777777777,{"$f":"RTD(\"cqg.rtd\",,\"StudyData\", \"Vol(\"&$D$12&\") when LocalYear(\"&$D$12&\")=\"&$D$2&\" and localMonth(\"&$D$12&\") =\"&$E$2&\" and LocalDay(\"&$D$12&\")=\"&$F$2&\" and Barix(\"&$D$12&\",reference:=StartOfDay)=\"&A115&\"\", \"Bar\", \"\", \"Close\",\"A5C\",\"0\",\"All\",,,\"False\",\"T\",\"EveryTick\")","v":7412},{"$f":"RTD(\"cqg.rtd\",,\"StudyData\", \"Vol(\"&$D$12&\") when LocalYear(\"&$D$12&\")=\"&$D$3&\" and localMonth(\"&$D$12&\") =\"&$E$3&\" and LocalDay(\"&$D$12&\")=\"&$F$3&\" and Barix(\"&$D$12&\",reference:=StartOfDay)=\"&A115&\"\", \"Bar\", \"\", \"Close\",\"A5C\",\"0\",\"All\",,,\"False\",\"T\",\"EveryTick\")","v":8131},{"$f":"RTD(\"cqg.rtd\",,\"StudyData\", \"Vol(\"&$D$12&\") when LocalYear(\"&$D$12&\")=\"&$D$4&\" and localMonth(\"&$D$12&\") =\"&$E$4&\" and LocalDay(\"&$D$12&\")=\"&$F$4&\" and Barix(\"&$D$12&\",reference:=StartOfDay)=\"&A115&\"\", \"Bar\", \"\", \"Close\",\"A5C\",\"0\",\"All\",,,\"False\",\"T\",\"EveryTick\")","v":8999},{"$f":"RTD(\"cqg.rtd\",,\"StudyData\", \"Vol(\"&$D$12&\") when LocalYear(\"&$D$12&\")=\"&$D$5&\" and localMonth(\"&$D$12&\") =\"&$E$5&\" and LocalDay(\"&$D$12&\")=\"&$F$5&\" and Barix(\"&$D$12&\",reference:=StartOfDay)=\"&A115&\"\", \"Bar\", \"\", \"Close\",\"A5C\",\"0\",\"All\",,,\"False\",\"T\",\"EveryTick\")","v":7956},{"$f":"RTD(\"cqg.rtd\",,\"StudyData\", \"Vol(\"&$D$12&\") when LocalYear(\"&$D$12&\")=\"&$D$6&\" and localMonth(\"&$D$12&\") =\"&$E$6&\" and LocalDay(\"&$D$12&\")=\"&$F$6&\" and Barix(\"&$D$12&\",reference:=StartOfDay)=\"&A115&\"\", \"Bar\", \"\", \"Close\",\"A5C\",\"0\",\"All\",,,\"False\",\"T\",\"EveryTick\")","v":26205},{"$f":"RTD(\"cqg.rtd\",,\"StudyData\", \"Vol(\"&$D$12&\") when LocalYear(\"&$D$12&\")=\"&$D$7&\" and localMonth(\"&$D$12&\") =\"&$E$7&\" and LocalDay(\"&$D$12&\")=\"&$F$7&\" and Barix(\"&$D$12&\",reference:=StartOfDay)=\"&A115&\"\", \"Bar\", \"\", \"Close\",\"A5C\",\"0\",\"All\",,,\"False\",\"T\",\"EveryTick\")","v":14848},{"$f":"RTD(\"cqg.rtd\",,\"StudyData\", \"Vol(\"&$D$12&\") when LocalYear(\"&$D$12&\")=\"&$D$8&\" and localMonth(\"&$D$12&\") =\"&$E$8&\" and LocalDay(\"&$D$12&\")=\"&$F$8&\" and Barix(\"&$D$12&\",reference:=StartOfDay)=\"&A115&\"\", \"Bar\", \"\", \"Close\",\"A5C\",\"0\",\"All\",,,\"False\",\"T\",\"EveryTick\")","v":23853},{"$f":"RTD(\"cqg.rtd\",,\"StudyData\", \"Vol(\"&$D$12&\") when LocalYear(\"&$D$12&\")=\"&$D$9&\" and localMonth(\"&$D$12&\") =\"&$E$9&\" and LocalDay(\"&$D$12&\")=\"&$F$9&\" and Barix(\"&$D$12&\",reference:=StartOfDay)=\"&A115&\"\", \"Bar\", \"\", \"Close\",\"A5C\",\"0\",\"All\",,,\"False\",\"T\",\"EveryTick\")","v":22193},{"$f":"RTD(\"cqg.rtd\",,\"StudyData\", \"Vol(\"&$D$12&\") when LocalYear(\"&$D$12&\")=\"&$D$10&\" and localMonth(\"&$D$12&\") =\"&$E$10&\" and LocalDay(\"&$D$12&\")=\"&$F$10&\" and Barix(\"&$D$12&\",reference:=StartOfDay)=\"&A115&\"\", \"Bar\", \"\", \"Close\",\"A5C\",\"0\",\"All\",,,\"False\",\"T\",\"EveryTick\")","v":20990},{"$f":"IF(H115>(1+(MainDisplay!$O$24/100))*I115,H115,NA())","v":""}]
[211,{"$f":"Sheet3!B116","v":"10:35:00"},null,null,null,null,null,{"$f":"RTD(\"cqg.rtd\",,\"StudyData\", \"Vol(\"&$D$12&\") when LocalYear(\"&$D$12&\")=\"&$D$1&\" and localMonth(\"&$D$12&\") =\"&$E$1&\" and LocalDay(\"&$D$12&\")=\"&$F$1&\" and Barix(\"&$D$12&\",reference:=StartOfDay)=\"&A116&\"\", \"Bar\", \"\", \"Close\",\"A5C\",\"0\",\"All\",,,\"False\",\"T\",\"EveryTick\")","v":""},16452.222222222223,{"$f":"RTD(\"cqg.rtd\",,\"StudyData\", \"Vol(\"&$D$12&\") when LocalYear(\"&$D$12&\")=\"&$D$2&\" and localMonth(\"&$D$12&\") =\"&$E$2&\" and LocalDay(\"&$D$12&\")=\"&$F$2&\" and Barix(\"&$D$12&\",reference:=StartOfDay)=\"&A116&\"\", \"Bar\", \"\", \"Close\",\"A5C\",\"0\",\"All\",,,\"False\",\"T\",\"EveryTick\")","v":8092},{"$f":"RTD(\"cqg.rtd\",,\"StudyData\", \"Vol(\"&$D$12&\") when LocalYear(\"&$D$12&\")=\"&$D$3&\" and localMonth(\"&$D$12&\") =\"&$E$3&\" and LocalDay(\"&$D$12&\")=\"&$F$3&\" and Barix(\"&$D$12&\",reference:=StartOfDay)=\"&A116&\"\", \"Bar\", \"\", \"Close\",\"A5C\",\"0\",\"All\",,,\"False\",\"T\",\"EveryTick\")","v":11082},{"$f":"RTD(\"cqg.rtd\",,\"StudyData\", \"Vol(\"&$D$12&\") when LocalYear(\"&$D$12&\")=\"&$D$4&\" and localMonth(\"&$D$12&\") =\"&$E$4&\" and LocalDay(\"&$D$12&\")=\"&$F$4&\" and Barix(\"&$D$12&\",reference:=StartOfDay)=\"&A116&\"\", \"Bar\", \"\", \"Close\",\"A5C\",\"0\",\"All\",,,\"False\",\"T\",\"EveryTick\")","v":10782},{"$f":"RTD(\"cqg.rtd\",,\"StudyData\", \"Vol(\"&$D$12&\") when LocalYear(\"&$D$12&\")=\"&$D$5&\" and localMonth(\"&$D$12&\") =\"&$E$5&\" and LocalDay(\"&$D$12&\")=\"&$F$5&\" and Barix(\"&$D$12&\",reference:=StartOfDay)=\"&A116&\"\", \"Bar\", \"\", \"Close\",\"A5C\",\"0\",\"All\",,,\"False\",\"T\",\"EveryTick\")","v":10485},{"$f":"RTD(\"cqg.rtd\",,\"StudyData\", \"Vol(\"&$D$12&\") when LocalYear(\"&$D$12&\")=\"&$D$6&\" and localMonth(\"&$D$12&\") =\"&$E$6&\" and LocalDay(\"&$D$12&\")=\"&$F$6&\" and Barix(\"&$D$12&\",reference:=StartOfDay)=\"&A116&\"\", \"Bar\", \"\", \"Close\",\"A5C\",\"0\",\"All\",,,\"False\",\"T\",\"EveryTick\")","v":13949},{"$f":"RTD(\"cqg.rtd\",,\"StudyData\", \"Vol(\"&$D$12&\") when LocalYear(\"&$D$12&\")=\"&$D$7&\" and localMonth(\"&$D$12&\") =\"&$E$7&\" and LocalDay(\"&$D$12&\")=\"&$F$7&\" and Barix(\"&$D$12&\",reference:=StartOfDay)=\"&A116&\"\", \"Bar\", \"\", \"Close\",\"A5C\",\"0\",\"All\",,,\"False\",\"T\",\"EveryTick\")","v":12670},{"$f":"RTD(\"cqg.rtd\",,\"StudyData\", \"Vol(\"&$D$12&\") when LocalYear(\"&$D$12&\")=\"&$D$8&\" and localMonth(\"&$D$12&\") =\"&$E$8&\" and LocalDay(\"&$D$12&\")=\"&$F$8&\" and Barix(\"&$D$12&\",reference:=StartOfDay)=\"&A116&\"\", \"Bar\", \"\", \"Close\",\"A5C\",\"0\",\"All\",,,\"False\",\"T\",\"EveryTick\")","v":26707},{"$f":"RTD(\"cqg.rtd\",,\"StudyData\", \"Vol(\"&$D$12&\") when LocalYear(\"&$D$12&\")=\"&$D$9&\" and localMonth(\"&$D$12&\") =\"&$E$9&\" and LocalDay(\"&$D$12&\")=\"&$F$9&\" and Barix(\"&$D$12&\",reference:=StartOfDay)=\"&A116&\"\", \"Bar\", \"\", \"Close\",\"A5C\",\"0\",\"All\",,,\"False\",\"T\",\"EveryTick\")","v":24420},{"$f":"RTD(\"cqg.rtd\",,\"StudyData\", \"Vol(\"&$D$12&\") when LocalYear(\"&$D$12&\")=\"&$D$10&\" and localMonth(\"&$D$12&\") =\"&$E$10&\" and LocalDay(\"&$D$12&\")=\"&$F$10&\" and Barix(\"&$D$12&\",reference:=StartOfDay)=\"&A116&\"\", \"Bar\", \"\", \"Close\",\"A5C\",\"0\",\"All\",,,\"False\",\"T\",\"EveryTick\")","v":29883},{"$f":"IF(H116>(1+(MainDisplay!$O$24/100))*I116,H116,NA())","v":""}]
[212,{"$f":"Sheet3!B117","v":"10:40:00"},null,null,null,null,null,{"$f":"RTD(\"cqg.rtd\",,\"StudyData\", \"Vol(\"&$D$12&\") when LocalYear(\"&$D$12&\")=\"&$D$1&\" and localMonth(\"&$D$12&\") =\"&$E$1&\" and LocalDay(\"&$D$12&\")=\"&$F$1&\" and Barix(\"&$D$12&\",reference:=StartOfDay)=\"&A117&\"\", \"Bar\", \"\", \"Close\",\"A5C\",\"0\",\"All\",,,\"False\",\"T\",\"EveryTick\")","v":""},15486.111111111111,{"$f":"RTD(\"cqg.rtd\",,\"StudyData\", \"Vol(\"&$D$12&\") when LocalYear(\"&$D$12&\")=\"&$D$2&\" and localMonth(\"&$D$12&\") =\"&$E$2&\" and LocalDay(\"&$D$12&\")=\"&$F$2&\" and Barix(\"&$D$12&\",reference:=StartOfDay)=\"&A117&\"\", \"Bar\", \"\", \"Close\",\"A5C\",\"0\",\"All\",,,\"False\",\"T\",\"EveryTick\")","v":6602},{"$f":"RTD(\"cqg.rtd\",,\"StudyData\", \"Vol(\"&$D$12&\") when LocalYear(\"&$D$12&\")=\"&$D$3&\" and localMonth(\"&$D$12&\") =\"&$E$3&\" and LocalDay(\"&$D$12&\")=\"&$F$3&\" and Barix(\"&$D$12&\",reference:=StartOfDay)=\"&A117&\"\", \"Bar\", \"\", \"Close\",\"A5C\",\"0\",\"All\",,,\"False\",\"T\",\"EveryTick\")","v":6596},{"$f":"RTD(\"cqg.rtd\",,\"StudyData\", \"Vol(\"&$D$12&\") when LocalYear(\"&$D$12&\")=\"&$D$4&\" and localMonth(\"&$D$12&\") =\"&$E$4&\" and LocalDay(\"&$D$12&\")=\"&$F$4&\" and Barix(\"&$D$12&\",reference:=StartOfDay)=\"&A117&\"\", \"Bar\", \"\", \"Close\",\"A5C\",\"0\",\"All\",,,\"False\",\"T\",\"EveryTick\")","v":7169},{"$f":"RTD(\"cqg.rtd\",,\"StudyData\", \"Vol(\"&$D$12&\") when LocalYear(\"&$D$12&\")=\"&$D$5&\" and localMonth(\"&$D$12&\") =\"&$E$5&\" and LocalDay(\"&$D$12&\")=\"&$F$5&\" and Barix(\"&$D$12&\",reference:=StartOfDay)=\"&A117&\"\", \"Bar\", \"\", \"Close\",\"A5C\",\"0\",\"All\",,,\"False\",\"T\",\"EveryTick\")","v":8762},{"$f":"RTD(\"cqg.rtd\",,\"StudyData\", \"Vol(\"&$D$12&\") when LocalYear(\"&$D$12&\")=\"&$D$6&\" and localMonth(\"&$D$12&\") =\"&$E$6&\" and LocalDay(\"&$D$12&\")=\"&$F$6&\" and Barix(\"&$D$12&\",reference:=StartOfDay)=\"&A117&\"\", \"Bar\", \"\", \"Close\",\"A5C\",\"0\",\"All\",,,\"False\",\"T\",\"EveryTick\")","v":14250},{"$f":"RTD(\"cqg.rtd\",,\"StudyData\", \"Vol(\"&$D$12&\") when LocalYear(\"&$D$12&\")=\"&$D$7&\" and localMonth(\"&$D$12&\") =\"&$E$7&\" and LocalDay(\"&$D$12&\")=\"&$F$7&\" and Barix(\"&$D$12&\",reference:=StartOfDay)=\"&A117&\"\", \"Bar\", \"\", \"Close\",\"A5C\",\"0\",\"All\",,,\"False\",\"T\",\"EveryTick\")","v":12989},{"$f":"RTD(\"cqg.rtd\",,\"StudyData\", \"Vol(\"&$D$12&\") when LocalYear(\"&$D$12&\")=\"&$D$8&\" and localMonth(\"&$D$12&\") =\"&$E$8&\" and LocalDay(\"&$D$12&\")=\"&$F$8&\" and Barix(\"&$D$12&\",reference:=StartOfDay)=\"&A117&\"\", \"Bar\", \"\", \"Close\",\"A5C\",\"0\",\"All\",,,\"False\",\"T\",\"EveryTick\")","v":25981},{"$f":"RTD(\"cqg.rtd\",,\"StudyData\", \"Vol(\"&$D$12&\") when LocalYear(\"&$D$12&\")=\"&$D$9&\" and localMonth(\"&$D$12&\") =\"&$E$9&\" and LocalDay(\"&$D$12&\")=\"&$F$9&\" and Barix(\"&$D$12&\",reference:=StartOfDay)=\"&A117&\"\", \"Bar\", \"\", \"Close\",\"A5C\",\"0\",\"All\",,,\"False\",\"T\",\"EveryTick\")","v":21143},{"$f":"RTD(\"cqg.rtd\",,\"StudyData\", \"Vol(\"&$D$12&\") when LocalYear(\"&$D$12&\")=\"&$D$10&\" and localMonth(\"&$D$12&\") =\"&$E$10&\" and LocalDay(\"&$D$12&\")=\"&$F$10&\" and Barix(\"&$D$12&\",reference:=StartOfDay)=\"&A117&\"\", \"Bar\", \"\", \"Close\",\"A5C\",\"0\",\"All\",,,\"False\",\"T\",\"EveryTick\")","v":35883},{"$f":"IF(H117>(1+(MainDisplay!$O$24/100))*I117,H117,NA())","v":""}]
[213,{"$f":"Sheet3!B118","v":"10:45:00"},null,null,null,null,null,{"$f":"RTD(\"cqg.rtd\",,\"StudyData\", \"Vol(\"&$D$12&\") when LocalYear(\"&$D$12&\")=\"&$D$1&\" and localMonth(\"&$D$12&\") =\"&$E$1&\" and LocalDay(\"&$D$12&\")=\"&$F$1&\" and Barix(\"&$D$12&\",reference:=StartOfDay)=\"&A118&\"\", \"Bar\", \"\", \"Close\",\"A5C\",\"0\",\"All\",,,\"False\",\"T\",\"EveryTick\")","v":""},13051.666666666666,{"$f":"RTD(\"cqg.rtd\",,\"StudyData\", \"Vol(\"&$D$12&\") when LocalYear(\"&$D$12&\")=\"&$D$2&\" and localMonth(\"&$D$12&\") =\"&$E$2&\" and LocalDay(\"&$D$12&\")=\"&$F$2&\" and Barix(\"&$D$12&\",reference:=StartOfDay)=\"&A118&\"\", \"Bar\", \"\", \"Close\",\"A5C\",\"0\",\"All\",,,\"False\",\"T\",\"EveryTick\")","v":6396},{"$f":"RTD(\"cqg.rtd\",,\"StudyData\", \"Vol(\"&$D$12&\") when LocalYear(\"&$D$12&\")=\"&$D$3&\" and localMonth(\"&$D$12&\") =\"&$E$3&\" and LocalDay(\"&$D$12&\")=\"&$F$3&\" and Barix(\"&$D$12&\",reference:=StartOfDay)=\"&A118&\"\", \"Bar\", \"\", \"Close\",\"A5C\",\"0\",\"All\",,,\"False\",\"T\",\"EveryTick\")","v":7783},{"$f":"RTD(\"cqg.rtd\",,\"StudyData\", \"Vol(\"&$D$12&\") when LocalYear(\"&$D$12&\")=\"&$D$4&\" and localMonth(\"&$D$12&\") =\"&$E$4&\" and LocalDay(\"&$D$12&\")=\"&$F$4&\" and Barix(\"&$D$12&\",reference:=StartOfDay)=\"&A118&\"\", \"Bar\", \"\", \"Close\",\"A5C\",\"0\",\"All\",,,\"False\",\"T\",\"EveryTick\")","v":6574},{"$f":"RTD(\"cqg.rtd\",,\"StudyData\", \"Vol(\"&$D$12&\") when LocalYear(\"&$D$12&\")=\"&$D$5&\" and localMonth(\"&$D$12&\") =\"&$E$5&\" and LocalDay(\"&$D$12&\")=\"&$F$5&\" and Barix(\"&$D$12&\",reference:=StartOfDay)=\"&A118&\"\", \"Bar\", \"\", \"Close\",\"A5C\",\"0\",\"All\",,,\"False\",\"T\",\"EveryTick\")","v":6124},{"$f":"RTD(\"cqg.rtd\",,\"StudyData\", \"Vol(\"&$D$12&\") when LocalYear(\"&$D$12&\")=\"&$D$6&\" and localMonth(\"&$D$12&\") =\"&$E$6&\" and LocalDay(\"&$D$12&\")=\"&$F$6&\" and Barix(\"&$D$12&\",reference:=StartOfDay)=\"&A118&\"\", \"Bar\", \"\", \"Close\",\"A5C\",\"0\",\"All\",,,\"False\",\"T\",\"EveryTick\")","v":13658},{"$f":"RTD(\"cqg.rtd\",,\"StudyData\", \"Vol(\"&$D$12&\") when LocalYear(\"&$D$12&\")=\"&$D$7&\" and localMonth(\"&$D$12&\") =\"&$E$7&\" and LocalDay(\"&$D$12&\")=\"&$F$7&\" and Barix(\"&$D$12&\",reference:=StartOfDay)=\"&A118&\"\", \"Bar\", \"\", \"Close\",\"A5C\",\"0\",\"All\",,,\"False\",\"T\",\"EveryTick\")","v":11915},{"$f":"RTD(\"cqg.rtd\",,\"StudyData\", \"Vol(\"&$D$12&\") when LocalYear(\"&$D$12&\")=\"&$D$8&\" and localMonth(\"&$D$12&\") =\"&$E$8&\" and LocalDay(\"&$D$12&\")=\"&$F$8&\" and Barix(\"&$D$12&\",reference:=StartOfDay)=\"&A118&\"\", \"Bar\", \"\", \"Close\",\"A5C\",\"0\",\"All\",,,\"False\",\"T\",\"EveryTick\")","v":17138},{"$f":"RTD(\"cqg.rtd\",,\"StudyData\", \"Vol(\"&$D$12&\") when LocalYear(\"&$D$12&\")=\"&$D$9&\" and localMonth(\"&$D$12&\") =\"&$E$9&\" and LocalDay(\"&$D$12&\")=\"&$F$9&\" and Barix(\"&$D$12&\",reference:=StartOfDay)=\"&A118&\"\", \"Bar\", \"\", \"Close\",\"A5C\",\"0\",\"All\",,,\"False\",\"T\",\"EveryTick\")","v":21015},{"$f":"RTD(\"cqg.rtd\",,\"StudyData\", \"Vol(\"&$D$12&\") when LocalYear(\"&$D$12&\")=\"&$D$10&\" and localMonth(\"&$D$12&\") =\"&$E$10&\" and LocalDay(\"&$D$12&\")=\"&$F$10&\" and Barix(\"&$D$12&\",reference:=StartOfDay)=\"&A118&\"\", \"Bar\", \"\", \"Close\",\"A5C\",\"0\",\"All\",,,\"False\",\"T\",\"EveryTick\")","v":26862},{"$f":"IF(H118>(1+(MainDisplay!$O$24/100))*I118,H118,NA())","v":""}]
[214,{"$f":"Sheet3!B119","v":"10:50:00"},null,null,null,null,null,{"$f":"RTD(\"cqg.rtd\",,\"StudyData\", \"Vol(\"&$D$12&\") when LocalYear(\"&$D$12&\")=\"&$D$1&\" and localMonth(\"&$D$12&\") =\"&$E$1&\" and LocalDay(\"&$D$12&\")=\"&$F$1&\" and Barix(\"&$D$12&\",reference:=StartOfDay)=\"&A119&\"\", \"Bar\", \"\", \"Close\",\"A5C\",\"0\",\"All\",,,\"False\",\"T\",\"EveryTick\")","v":""},13891.555555555555,{"$f":"RTD(\"cqg.rtd\",,\"StudyData\", \"Vol(\"&$D$12&\") when LocalYear(\"&$D$12&\")=\"&$D$2&\" and localMonth(\"&$D$12&\") =\"&$E$2&\" and LocalDay(\"&$D$12&\")=\"&$F$2&\" and Barix(\"&$D$12&\",reference:=StartOfDay)=\"&A119&\"\", \"Bar\", \"\", \"Close\",\"A5C\",\"0\",\"All\",,,\"False\",\"T\",\"EveryTick\")","v":7417},{"$f":"RTD(\"cqg.rtd\",,\"StudyData\", \"Vol(\"&$D$12&\") when LocalYear(\"&$D$12&\")=\"&$D$3&\" and localMonth(\"&$D$12&\") =\"&$E$3&\" and LocalDay(\"&$D$12&\")=\"&$F$3&\" and Barix(\"&$D$12&\",reference:=StartOfDay)=\"&A119&\"\", \"Bar\", \"\", \"Close\",\"A5C\",\"0\",\"All\",,,\"False\",\"T\",\"EveryTick\")","v":7211},{"$f":"RTD(\"cqg.rtd\",,\"StudyData\", \"Vol(\"&$D$12&\") when LocalYear(\"&$D$12&\")=\"&$D$4&\" and localMonth(\"&$D$12&\") =\"&$E$4&\" and LocalDay(\"&$D$12&\")=\"&$F$4&\" and Barix(\"&$D$12&\",reference:=StartOfDay)=\"&A119&\"\", \"Bar\", \"\", \"Close\",\"A5C\",\"0\",\"All\",,,\"False\",\"T\",\"EveryTick\")","v":8113},{"$f":"RTD(\"cqg.rtd\",,\"StudyData\", \"Vol(\"&$D$12&\") when LocalYear(\"&$D$12&\")=\"&$D$5&\" and localMonth(\"&$D$12&\") =\"&$E$5&\" and LocalDay(\"&$D$12&\")=\"&$F$5&\" and Barix(\"&$D$12&\",reference:=StartOfDay)=\"&A119&\"\", \"Bar\", \"\", \"Close\",\"A5C\",\"0\",\"All\",,,\"False\",\"T\",\"EveryTick\")","v":5530},{"$f":"RTD(\"cqg.rtd\",,\"StudyData\", \"Vol(\"&$D$12&\") when LocalYear(\"&$D$12&\")=\"&$D$6&\" and localMonth(\"&$D$12&\") =\"&$E$6&\" and LocalDay(\"&$D$12&\")=\"&$F$6&\" and Barix(\"&$D$12&\",reference:=StartOfDay)=\"&A119&\"\", \"Bar\", \"\", \"Close\",\"A5C\",\"0\",\"All\",,,\"False\",\"T\",\"EveryTick\")","v":19394},{"$f":"RTD(\"cqg.rtd\",,\"StudyData\", \"Vol(\"&$D$12&\") when LocalYear(\"&$D$12&\")=\"&$D$7&\" and localMonth(\"&$D$12&\") =\"&$E$7&\" and LocalDay(\"&$D$12&\")=\"&$F$7&\" and Barix(\"&$D$12&\",reference:=StartOfDay)=\"&A119&\"\", \"Bar\", \"\", \"Close\",\"A5C\",\"0\",\"All\",,,\"False\",\"T\",\"EveryTick\")","v":14967},{"$f":"RTD(\"cqg.rtd\",,\"StudyData\", \"Vol(\"&$D$12&\") when LocalYear(\"&$D$12&\")=\"&$D$8&\" and localMonth(\"&$D$12&\") =\"&$E$8&\" and LocalDay(\"&$D$12&\")=\"&$F$8&\" and Barix(\"&$D$12&\",reference:=StartOfDay)=\"&A119&\"\", \"Bar\", \"\", \"Close\",\"A5C\",\"0\",\"All\",,,\"False\",\"T\",\"EveryTick\")","v":18939},{"$f":"RTD(\"cqg.rtd\",,\"StudyData\", \"Vol(\"&$D$12&\") when LocalYear(\"&$D$12&\")=\"&$D$9&\" and localMonth(\"&$D$12&\") =\"&$E$9&\" and LocalDay(\"&$D$12&\")=\"&$F$9&\" and Barix(\"&$D$12&\",reference:=StartOfDay)=\"&A119&\"\", \"Bar\", \"\", \"Close\",\"A5C\",\"0\",\"All\",,,\"False\",\"T\",\"EveryTick\")","v":19635},{"$f":"RTD(\"cqg.rtd\",,\"StudyData\", \"Vol(\"&$D$12&\") when LocalYear(\"&$D$12&\")=\"&$D$10&\" and localMonth(\"&$D$12&\") =\"&$E$10&\" and LocalDay(\"&$D$12&\")=\"&$F$10&\" and Barix(\"&$D$12&\",reference:=StartOfDay)=\"&A119&\"\", \"Bar\", \"\", \"Close\",\"A5C\",\"0\",\"All\",,,\"False\",\"T\",\"EveryTick\")","v":23818},{"$f":"IF(H119>(1+(MainDisplay!$O$24/100))*I119,H119,NA())","v":""}]
[215,{"$f":"Sheet3!B120","v":"10:55:00"},null,null,null,null,null,{"$f":"RTD(\"cqg.rtd\",,\"StudyData\", \"Vol(\"&$D$12&\") when LocalYear(\"&$D$12&\")=\"&$D$1&\" and localMonth(\"&$D$12&\") =\"&$E$1&\" and LocalDay(\"&$D$12&\")=\"&$F$1&\" and Barix(\"&$D$12&\",reference:=StartOfDay)=\"&A120&\"\", \"Bar\", \"\", \"Close\",\"A5C\",\"0\",\"All\",,,\"False\",\"T\",\"EveryTick\")","v":""},12696.666666666666,{"$f":"RTD(\"cqg.rtd\",,\"StudyData\", \"Vol(\"&$D$12&\") when LocalYear(\"&$D$12&\")=\"&$D$2&\" and localMonth(\"&$D$12&\") =\"&$E$2&\" and LocalDay(\"&$D$12&\")=\"&$F$2&\" and Barix(\"&$D$12&\",reference:=StartOfDay)=\"&A120&\"\", \"Bar\", \"\", \"Close\",\"A5C\",\"0\",\"All\",,,\"False\",\"T\",\"EveryTick\")","v":6586},{"$f":"RTD(\"cqg.rtd\",,\"StudyData\", \"Vol(\"&$D$12&\") when LocalYear(\"&$D$12&\")=\"&$D$3&\" and localMonth(\"&$D$12&\") =\"&$E$3&\" and LocalDay(\"&$D$12&\")=\"&$F$3&\" and Barix(\"&$D$12&\",reference:=StartOfDay)=\"&A120&\"\", \"Bar\", \"\", \"Close\",\"A5C\",\"0\",\"All\",,,\"False\",\"T\",\"EveryTick\")","v":4112},{"$f":"RTD(\"cqg.rtd\",,\"StudyData\", \"Vol(\"&$D$12&\") when LocalYear(\"&$D$12&\")=\"&$D$4&\" and localMonth(\"&$D$12&\") =\"&$E$4&\" and LocalDay(\"&$D$12&\")=\"&$F$4&\" and Barix(\"&$D$12&\",reference:=StartOfDay)=\"&A120&\"\", \"Bar\", \"\", \"Close\",\"A5C\",\"0\",\"All\",,,\"False\",\"T\",\"EveryTick\")","v":6332},{"$f":"RTD(\"cqg.rtd\",,\"StudyData\", \"Vol(\"&$D$12&\") when LocalYear(\"&$D$12&\")=\"&$D$5&\" and localMonth(\"&$D$12&\") =\"&$E$5&\" and LocalDay(\"&$D$12&\")=\"&$F$5&\" and Barix(\"&$D$12&\",reference:=StartOfDay)=\"&A120&\"\", \"Bar\", \"\", \"Close\",\"A5C\",\"0\",\"All\",,,\"False\",\"T\",\"EveryTick\")","v":6304},{"$f":"RTD(\"cqg.rtd\",,\"StudyData\", \"Vol(\"&$D$12&\") when LocalYear(\"&$D$12&\")=\"&$D$6&\" and localMonth(\"&$D$12&\") =\"&$E$6&\" and LocalDay(\"&$D$12&\")=\"&$F$6&\" and Barix(\"&$D$12&\",reference:=StartOfDay)=\"&A120&\"\", \"Bar\", \"\", \"Close\",\"A5C\",\"0\",\"All\",,,\"False\",\"T\",\"EveryTick\")","v":16933},{"$f":"RTD(\"cqg.rtd\",,\"StudyData\", \"Vol(\"&$D$12&\") when LocalYear(\"&$D$12&\")=\"&$D$7&\" and localMonth(\"&$D$12&\") =\"&$E$7&\" and LocalDay(\"&$D$12&\")=\"&$F$7&\" and Barix(\"&$D$12&\",reference:=StartOfDay)=\"&A120&\"\", \"Bar\", \"\", \"Close\",\"A5C\",\"0\",\"All\",,,\"False\",\"T\",\"EveryTick\")","v":12823},{"$f":"RTD(\"cqg.rtd\",,\"StudyData\", \"Vol(\"&$D$12&\") when LocalYear(\"&$D$12&\")=\"&$D$8&\" and localMonth(\"&$D$12&\") =\"&$E$8&\" and LocalDay(\"&$D$12&\")=\"&$F$8&\" and Barix(\"&$D$12&\",reference:=StartOfDay)=\"&A120&\"\", \"Bar\", \"\", \"Close\",\"A5C\",\"0\",\"All\",,,\"False\",\"T\",\"EveryTick\")","v":28558},{"$f":"RTD(\"cqg.rtd\",,\"StudyData\", \"Vol(\"&$D$12&\") when LocalYear(\"&$D$12&\")=\"&$D$9&\" and localMonth(\"&$D$12&\") =\"&$E$9&\" and LocalDay(\"&$D$12&\")=\"&$F$9&\" and Barix(\"&$D$12&\",reference:=StartOfDay)=\"&A120&\"\", \"Bar\", \"\", \"Close\",\"A5C\",\"0\",\"All\",,,\"False\",\"T\",\"EveryTick\")","v":15444},{"$f":"RTD(\"cqg.rtd\",,\"StudyData\", \"Vol(\"&$D$12&\") when LocalYear(\"&$D$12&\")=\"&$D$10&\" and localMonth(\"&$D$12&\") =\"&$E$10&\" and LocalDay(\"&$D$12&\")=\"&$F$10&\" and Barix(\"&$D$12&\",reference:=StartOfDay)=\"&A120&\"\", \"Bar\", \"\", \"Close\",\"A5C\",\"0\",\"All\",,,\"False\",\"T\",\"EveryTick\")","v":17178},{"$f":"IF(H120>(1+(MainDisplay!$O$24/100))*I120,H120,NA())","v":""}]
[216,{"$f":"Sheet3!B121","v":"11:00:00"},null,null,null,null,null,{"$f":"RTD(\"cqg.rtd\",,\"StudyData\", \"Vol(\"&$D$12&\") when LocalYear(\"&$D$12&\")=\"&$D$1&\" and localMonth(\"&$D$12&\") =\"&$E$1&\" and LocalDay(\"&$D$12&\")=\"&$F$1&\" and Barix(\"&$D$12&\",reference:=StartOfDay)=\"&A121&\"\", \"Bar\", \"\", \"Close\",\"A5C\",\"0\",\"All\",,,\"False\",\"T\",\"EveryTick\")","v":""},12844,{"$f":"RTD(\"cqg.rtd\",,\"StudyData\", \"Vol(\"&$D$12&\") when LocalYear(\"&$D$12&\")=\"&$D$2&\" and localMonth(\"&$D$12&\") =\"&$E$2&\" and LocalDay(\"&$D$12&\")=\"&$F$2&\" and Barix(\"&$D$12&\",reference:=StartOfDay)=\"&A121&\"\", \"Bar\", \"\", \"Close\",\"A5C\",\"0\",\"All\",,,\"False\",\"T\",\"EveryTick\")","v":11724},{"$f":"RTD(\"cqg.rtd\",,\"StudyData\", \"Vol(\"&$D$12&\") when LocalYear(\"&$D$12&\")=\"&$D$3&\" and localMonth(\"&$D$12&\") =\"&$E$3&\" and LocalDay(\"&$D$12&\")=\"&$F$3&\" and Barix(\"&$D$12&\",reference:=StartOfDay)=\"&A121&\"\", \"Bar\", \"\", \"Close\",\"A5C\",\"0\",\"All\",,,\"False\",\"T\",\"EveryTick\")","v":11133},{"$f":"RTD(\"cqg.rtd\",,\"StudyData\", \"Vol(\"&$D$12&\") when LocalYear(\"&$D$12&\")=\"&$D$4&\" and localMonth(\"&$D$12&\") =\"&$E$4&\" and LocalDay(\"&$D$12&\")=\"&$F$4&\" and Barix(\"&$D$12&\",reference:=StartOfDay)=\"&A121&\"\", \"Bar\", \"\", \"Close\",\"A5C\",\"0\",\"All\",,,\"False\",\"T\",\"EveryTick\")","v":10172},{"$f":"RTD(\"cqg.rtd\",,\"StudyData\", \"Vol(\"&$D$12&\") when LocalYear(\"&$D$12&\")=\"&$D$5&\" and localMonth(\"&$D$12&\") =\"&$E$5&\" and LocalDay(\"&$D$12&\")=\"&$F$5&\" and Barix(\"&$D$12&\",reference:=StartOfDay)=\"&A121&\"\", \"Bar\", \"\", \"Close\",\"A5C\",\"0\",\"All\",,,\"False\",\"T\",\"EveryTick\")","v":8275},{"$f":"RTD(\"cqg.rtd\",,\"StudyData\", \"Vol(\"&$D$12&\") when LocalYear(\"&$D$12&\")=\"&$D$6&\" and localMonth(\"&$D$12&\") =\"&$E$6&\" and LocalDay(\"&$D$12&\")=\"&$F$6&\" and Barix(\"&$D$12&\",reference:=StartOfDay)=\"&A121&\"\", \"Bar\", \"\", \"Close\",\"A5C\",\"0\",\"All\",,,\"False\",\"T\",\"EveryTick\")","v":15722},{"$f":"RTD(\"cqg.rtd\",,\"StudyData\", \"Vol(\"&$D$12&\") when LocalYear(\"&$D$12&\")=\"&$D$7&\" and localMonth(\"&$D$12&\") =\"&$E$7&\" and LocalDay(\"&$D$12&\")=\"&$F$7&\" and Barix(\"&$D$12&\",reference:=StartOfDay)=\"&A121&\"\", \"Bar\", \"\", \"Close\",\"A5C\",\"0\",\"All\",,,\"False\",\"T\",\"EveryTick\")","v":9910},{"$f":"RTD(\"cqg.rtd\",,\"StudyData\", \"Vol(\"&$D$12&\") when LocalYear(\"&$D$12&\")=\"&$D$8&\" and localMonth(\"&$D$12&\") =\"&$E$8&\" and LocalDay(\"&$D$12&\")=\"&$F$8&\" and Barix(\"&$D$12&\",reference:=StartOfDay)=\"&A121&\"\", \"Bar\", \"\", \"Close\",\"A5C\",\"0\",\"All\",,,\"False\",\"T\",\"EveryTick\")","v":16144},{"$f":"RTD(\"cqg.rtd\",,\"StudyData\", \"Vol(\"&$D$12&\") when LocalYear(\"&$D$12&\")=\"&$D$9&\" and localMonth(\"&$D$12&\") =\"&$E$9&\" and LocalDay(\"&$D$12&\")=\"&$F$9&\" and Barix(\"&$D$12&\",reference:=StartOfDay)=\"&A121&\"\", \"Bar\", \"\", \"Close\",\"A5C\",\"0\",\"All\",,,\"False\",\"T\",\"EveryTick\")","v":12978},{"$f":"RTD(\"cqg.rtd\",,\"StudyData\", \"Vol(\"&$D$12&\") when LocalYear(\"&$D$12&\")=\"&$D$10&\" and localMonth(\"&$D$12&\") =\"&$E$10&\" and LocalDay(\"&$D$12&\")=\"&$F$10&\" and Barix(\"&$D$12&\",reference:=StartOfDay)=\"&A121&\"\", \"Bar\", \"\", \"Close\",\"A5C\",\"0\",\"All\",,,\"False\",\"T\",\"EveryTick\")","v":19538},{"$f":"IF(H121>(1+(MainDisplay!$O$24/100))*I121,H121,NA())","v":""}]
[217,{"$f":"Sheet3!B122","v":"11:05:00"},null,null,null,null,null,{"$f":"RTD(\"cqg.rtd\",,\"StudyData\", \"Vol(\"&$D$12&\") when LocalYear(\"&$D$12&\")=\"&$D$1&\" and localMonth(\"&$D$12&\") =\"&$E$1&\" and LocalDay(\"&$D$12&\")=\"&$F$1&\" and Barix(\"&$D$12&\",reference:=StartOfDay)=\"&A122&\"\", \"Bar\", \"\", \"Close\",\"A5C\",\"0\",\"All\",,,\"False\",\"T\",\"EveryTick\")","v":""},14601.222222222223,{"$f":"RTD(\"cqg.rtd\",,\"StudyData\", \"Vol(\"&$D$12&\") when LocalYear(\"&$D$12&\")=\"&$D$2&\" and localMonth(\"&$D$12&\") =\"&$E$2&\" and LocalDay(\"&$D$12&\")=\"&$F$2&\" and Barix(\"&$D$12&\",reference:=StartOfDay)=\"&A122&\"\", \"Bar\", \"\", \"Close\",\"A5C\",\"0\",\"All\",,,\"False\",\"T\",\"EveryTick\")","v":11249},{"$f":"RTD(\"cqg.rtd\",,\"StudyData\", \"Vol(\"&$D$12&\") when LocalYear(\"&$D$12&\")=\"&$D$3&\" and localMonth(\"&$D$12&\") =\"&$E$3&\" and LocalDay(\"&$D$12&\")=\"&$F$3&\" and Barix(\"&$D$12&\",reference:=StartOfDay)=\"&A122&\"\", \"Bar\", \"\", \"Close\",\"A5C\",\"0\",\"All\",,,\"False\",\"T\",\"EveryTick\")","v":18457},{"$f":"RTD(\"cqg.rtd\",,\"StudyData\", \"Vol(\"&$D$12&\") when LocalYear(\"&$D$12&\")=\"&$D$4&\" and localMonth(\"&$D$12&\") =\"&$E$4&\" and LocalDay(\"&$D$12&\")=\"&$F$4&\" and Barix(\"&$D$12&\",reference:=StartOfDay)=\"&A122&\"\", \"Bar\", \"\", \"Close\",\"A5C\",\"0\",\"All\",,,\"False\",\"T\",\"EveryTick\")","v":5438},{"$f":"RTD(\"cqg.rtd\",,\"StudyData\", \"Vol(\"&$D$12&\") when LocalYear(\"&$D$12&\")=\"&$D$5&\" and localMonth(\"&$D$12&\") =\"&$E$5&\" and LocalDay(\"&$D$12&\")=\"&$F$5&\" and Barix(\"&$D$12&\",reference:=StartOfDay)=\"&A122&\"\", \"Bar\", \"\", \"Close\",\"A5C\",\"0\",\"All\",,,\"False\",\"T\",\"EveryTick\")","v":6785},{"$f":"RTD(\"cqg.rtd\",,\"StudyData\", \"Vol(\"&$D$12&\") when LocalYear(\"&$D$12&\")=\"&$D$6&\" and localMonth(\"&$D$12&\") =\"&$E$6&\" and LocalDay(\"&$D$12&\")=\"&$F$6&\" and Barix(\"&$D$12&\",reference:=StartOfDay)=\"&A122&\"\", \"Bar\", \"\", \"Close\",\"A5C\",\"0\",\"All\",,,\"False\",\"T\",\"EveryTick\")","v":19083},{"$f":"RTD(\"cqg.rtd\",,\"StudyData\", \"Vol(\"&$D$12&\") when LocalYear(\"&$D$12&\")=\"&$D$7&\" and localMonth(\"&$D$12&\") =\"&$E$7&\" and LocalDay(\"&$D$12&\")=\"&$F$7&\" and Barix(\"&$D$12&\",reference:=StartOfDay)=\"&A122&\"\", \"Bar\", \"\", \"Close\",\"A5C\",\"0\",\"All\",,,\"False\",\"T\",\"EveryTick\")","v":10819},{"$f":"RTD(\"cqg.rtd\",,\"StudyData\", \"Vol(\"&$D$12&\") when LocalYear(\"&$D$12&\")=\"&$D$8&\" and localMonth(\"&$D$12&\") =\"&$E$8&\" and LocalDay(\"&$D$12&\")=\"&$F$8&\" and Barix(\"&$D$12&\",reference:=StartOfDay)=\"&A122&\"\", \"Bar\", \"\", \"Close\",\"A5C\",\"0\",\"All\",,,\"False\",\"T\",\"EveryTick\")","v":14929},{"$f":"RTD(\"cqg.rtd\",,\"StudyData\", \"Vol(\"&$D$12&\") when LocalYear(\"&$D$12&\")=\"&$D$9&\" and localMonth(\"&$D$12&\") =\"&$E$9&\" and LocalDay(\"&$D$12&\")=\"&$F$9&\" and Barix(\"&$D$12&\",reference:=StartOfDay)=\"&A122&\"\", \"Bar\", \"\", \"Close\",\"A5C\",\"0\",\"All\",,,\"False\",\"T\",\"EveryTick\")","v":12695},{"$f":"RTD(\"cqg.rtd\",,\"StudyData\", \"Vol(\"&$D$12&\") when LocalYear(\"&$D$12&\")=\"&$D$10&\" and localMonth(\"&$D$12&\") =\"&$E$10&\" and LocalDay(\"&$D$12&\")=\"&$F$10&\" and Barix(\"&$D$12&\",reference:=StartOfDay)=\"&A122&\"\", \"Bar\", \"\", \"Close\",\"A5C\",\"0\",\"All\",,,\"False\",\"T\",\"EveryTick\")","v":31956},{"$f":"IF(H122>(1+(MainDisplay!$O$24/100))*I122,H122,NA())","v":""}]
[218,{"$f":"Sheet3!B123","v":"11:10:00"},null,null,null,null,null,{"$f":"RTD(\"cqg.rtd\",,\"StudyData\", \"Vol(\"&$D$12&\") when LocalYear(\"&$D$12&\")=\"&$D$1&\" and localMonth(\"&$D$12&\") =\"&$E$1&\" and LocalDay(\"&$D$12&\")=\"&$F$1&\" and Barix(\"&$D$12&\",reference:=StartOfDay)=\"&A123&\"\", \"Bar\", \"\", \"Close\",\"A5C\",\"0\",\"All\",,,\"False\",\"T\",\"EveryTick\")","v":""},12517,{"$f":"RTD(\"cqg.rtd\",,\"StudyData\", \"Vol(\"&$D$12&\") when LocalYear(\"&$D$12&\")=\"&$D$2&\" and localMonth(\"&$D$12&\") =\"&$E$2&\" and LocalDay(\"&$D$12&\")=\"&$F$2&\" and Barix(\"&$D$12&\",reference:=StartOfDay)=\"&A123&\"\", \"Bar\", \"\", \"Close\",\"A5C\",\"0\",\"All\",,,\"False\",\"T\",\"EveryTick\")","v":7734},{"$f":"RTD(\"cqg.rtd\",,\"StudyData\", \"Vol(\"&$D$12&\") when LocalYear(\"&$D$12&\")=\"&$D$3&\" and localMonth(\"&$D$12&\") =\"&$E$3&\" and LocalDay(\"&$D$12&\")=\"&$F$3&\" and Barix(\"&$D$12&\",reference:=StartOfDay)=\"&A123&\"\", \"Bar\", \"\", \"Close\",\"A5C\",\"0\",\"All\",,,\"False\",\"T\",\"EveryTick\")","v":11861},{"$f":"RTD(\"cqg.rtd\",,\"StudyData\", \"Vol(\"&$D$12&\") when LocalYear(\"&$D$12&\")=\"&$D$4&\" and localMonth(\"&$D$12&\") =\"&$E$4&\" and LocalDay(\"&$D$12&\")=\"&$F$4&\" and Barix(\"&$D$12&\",reference:=StartOfDay)=\"&A123&\"\", \"Bar\", \"\", \"Close\",\"A5C\",\"0\",\"All\",,,\"False\",\"T\",\"EveryTick\")","v":7340},{"$f":"RTD(\"cqg.rtd\",,\"StudyData\", \"Vol(\"&$D$12&\") when LocalYear(\"&$D$12&\")=\"&$D$5&\" and localMonth(\"&$D$12&\") =\"&$E$5&\" and LocalDay(\"&$D$12&\")=\"&$F$5&\" and Barix(\"&$D$12&\",reference:=StartOfDay)=\"&A123&\"\", \"Bar\", \"\", \"Close\",\"A5C\",\"0\",\"All\",,,\"False\",\"T\",\"EveryTick\")","v":7407},{"$f":"RTD(\"cqg.rtd\",,\"StudyData\", \"Vol(\"&$D$12&\") when LocalYear(\"&$D$12&\")=\"&$D$6&\" and localMonth(\"&$D$12&\") =\"&$E$6&\" and LocalDay(\"&$D$12&\")=\"&$F$6&\" and Barix(\"&$D$12&\",reference:=StartOfDay)=\"&A123&\"\", \"Bar\", \"\", \"Close\",\"A5C\",\"0\",\"All\",,,\"False\",\"T\",\"EveryTick\")","v":12280},{"$f":"RTD(\"cqg.rtd\",,\"StudyData\", \"Vol(\"&$D$12&\") when LocalYear(\"&$D$12&\")=\"&$D$7&\" and localMonth(\"&$D$12&\") =\"&$E$7&\" and LocalDay(\"&$D$12&\")=\"&$F$7&\" and Barix(\"&$D$12&\",reference:=StartOfDay)=\"&A123&\"\", \"Bar\", \"\", \"Close\",\"A5C\",\"0\",\"All\",,,\"False\",\"T\",\"EveryTick\")","v":11944},{"$f":"RTD(\"cqg.rtd\",,\"StudyData\", \"Vol(\"&$D$12&\") when LocalYear(\"&$D$12&\")=\"&$D$8&\" and localMonth(\"&$D$12&\") =\"&$E$8&\" and LocalDay(\"&$D$12&\")=\"&$F$8&\" and Barix(\"&$D$12&\",reference:=StartOfDay)=\"&A123&\"\", \"Bar\", \"\", \"Close\",\"A5C\",\"0\",\"All\",,,\"False\",\"T\",\"EveryTick\")","v":7828},{"$f":"RTD(\"cqg.rtd\",,\"StudyData\", \"Vol(\"&$D$12&\") when LocalYear(\"&$D$12&\")=\"&$D$9&\" and localMonth(\"&$D$12&\") =\"&$E$9&\" and LocalDay(\"&$D$12&\")=\"&$F$9&\" and Barix(\"&$D$12&\",reference:=StartOfDay)=\"&A123&\"\", \"Bar\", \"\", \"Close\",\"A5C\",\"0\",\"All\",,,\"False\",\"T\",\"EveryTick\")","v":9506},{"$f":"RTD(\"cqg.rtd\",,\"StudyData\", \"Vol(\"&$D$12&\") when LocalYear(\"&$D$12&\")=\"&$D$10&\" and localMonth(\"&$D$12&\") =\"&$E$10&\" and LocalDay(\"&$D$12&\")=\"&$F$10&\" and Barix(\"&$D$12&\",reference:=StartOfDay)=\"&A123&\"\", \"Bar\", \"\", \"Close\",\"A5C\",\"0\",\"All\",,,\"False\",\"T\",\"EveryTick\")","v":36753},{"$f":"IF(H123>(1+(MainDisplay!$O$24/100))*I123,H123,NA())","v":""}]
[219,{"$f":"Sheet3!B124","v":"11:15:00"},null,null,null,null,null,{"$f":"RTD(\"cqg.rtd\",,\"StudyData\", \"Vol(\"&$D$12&\") when LocalYear(\"&$D$12&\")=\"&$D$1&\" and localMonth(\"&$D$12&\") =\"&$E$1&\" and LocalDay(\"&$D$12&\")=\"&$F$1&\" and Barix(\"&$D$12&\",reference:=StartOfDay)=\"&A124&\"\", \"Bar\", \"\", \"Close\",\"A5C\",\"0\",\"All\",,,\"False\",\"T\",\"EveryTick\")","v":""},10501.222222222223,{"$f":"RTD(\"cqg.rtd\",,\"StudyData\", \"Vol(\"&$D$12&\") when LocalYear(\"&$D$12&\")=\"&$D$2&\" and localMonth(\"&$D$12&\") =\"&$E$2&\" and LocalDay(\"&$D$12&\")=\"&$F$2&\" and Barix(\"&$D$12&\",reference:=StartOfDay)=\"&A124&\"\", \"Bar\", \"\", \"Close\",\"A5C\",\"0\",\"All\",,,\"False\",\"T\",\"EveryTick\")","v":6288},{"$f":"RTD(\"cqg.rtd\",,\"StudyData\", \"Vol(\"&$D$12&\") when LocalYear(\"&$D$12&\")=\"&$D$3&\" and localMonth(\"&$D$12&\") =\"&$E$3&\" and LocalDay(\"&$D$12&\")=\"&$F$3&\" and Barix(\"&$D$12&\",reference:=StartOfDay)=\"&A124&\"\", \"Bar\", \"\", \"Close\",\"A5C\",\"0\",\"All\",,,\"False\",\"T\",\"EveryTick\")","v":8945},{"$f":"RTD(\"cqg.rtd\",,\"StudyData\", \"Vol(\"&$D$12&\") when LocalYear(\"&$D$12&\")=\"&$D$4&\" and localMonth(\"&$D$12&\") =\"&$E$4&\" and LocalDay(\"&$D$12&\")=\"&$F$4&\" and Barix(\"&$D$12&\",reference:=StartOfDay)=\"&A124&\"\", \"Bar\", \"\", \"Close\",\"A5C\",\"0\",\"All\",,,\"False\",\"T\",\"EveryTick\")","v":7065},{"$f":"RTD(\"cqg.rtd\",,\"StudyData\", \"Vol(\"&$D$12&\") when LocalYear(\"&$D$12&\")=\"&$D$5&\" and localMonth(\"&$D$12&\") =\"&$E$5&\" and LocalDay(\"&$D$12&\")=\"&$F$5&\" and Barix(\"&$D$12&\",reference:=StartOfDay)=\"&A124&\"\", \"Bar\", \"\", \"Close\",\"A5C\",\"0\",\"All\",,,\"False\",\"T\",\"EveryTick\")","v":7542},{"$f":"RTD(\"cqg.rtd\",,\"StudyData\", \"Vol(\"&$D$12&\") when LocalYear(\"&$D$12&\")=\"&$D$6&\" and localMonth(\"&$D$12&\") =\"&$E$6&\" and LocalDay(\"&$D$12&\")=\"&$F$6&\" and Barix(\"&$D$12&\",reference:=StartOfDay)=\"&A124&\"\", \"Bar\", \"\", \"Close\",\"A5C\",\"0\",\"All\",,,\"False\",\"T\",\"EveryTick\")","v":11883},{"$f":"RTD(\"cqg.rtd\",,\"StudyData\", \"Vol(\"&$D$12&\") when LocalYear(\"&$D$12&\")=\"&$D$7&\" and localMonth(\"&$D$12&\") =\"&$E$7&\" and LocalDay(\"&$D$12&\")=\"&$F$7&\" and Barix(\"&$D$12&\",reference:=StartOfDay)=\"&A124&\"\", \"Bar\", \"\", \"Close\",\"A5C\",\"0\",\"All\",,,\"False\",\"T\",\"EveryTick\")","v":9749},{"$f":"RTD(\"cqg.rtd\",,\"StudyData\", \"Vol(\"&$D$12&\") when LocalYear(\"&$D$12&\")=\"&$D$8&\" and localMonth(\"&$D$12&\") =\"&$E$8&\" and LocalDay(\"&$D$12&\")=\"&$F$8&\" and Barix(\"&$D$12&\",reference:=StartOfDay)=\"&A124&\"\", \"Bar\", \"\", \"Close\",\"A5C\",\"0\",\"All\",,,\"False\",\"T\",\"EveryTick\")","v":9691},{"$f":"RTD(\"cqg.rtd\",,\"StudyData\", \"Vol(\"&$D$12&\") when LocalYear(\"&$D$12&\")=\"&$D$9&\" and localMonth(\"&$D$12&\") =\"&$E$9&\" and LocalDay(\"&$D$12&\")=\"&$F$9&\" and Barix(\"&$D$12&\",reference:=StartOfDay)=\"&A124&\"\", \"Bar\", \"\", \"Close\",\"A5C\",\"0\",\"All\",,,\"False\",\"T\",\"EveryTick\")","v":11378},{"$f":"RTD(\"cqg.rtd\",,\"StudyData\", \"Vol(\"&$D$12&\") when LocalYear(\"&$D$12&\")=\"&$D$10&\" and localMonth(\"&$D$12&\") =\"&$E$10&\" and LocalDay(\"&$D$12&\")=\"&$F$10&\" and Barix(\"&$D$12&\",reference:=StartOfDay)=\"&A124&\"\", \"Bar\", \"\", \"Close\",\"A5C\",\"0\",\"All\",,,\"False\",\"T\",\"EveryTick\")","v":21970},{"$f":"IF(H124>(1+(MainDisplay!$O$24/100))*I124,H124,NA())","v":""}]
[220,{"$f":"Sheet3!B125","v":"11:20:00"},null,null,null,null,null,{"$f":"RTD(\"cqg.rtd\",,\"StudyData\", \"Vol(\"&$D$12&\") when LocalYear(\"&$D$12&\")=\"&$D$1&\" and localMonth(\"&$D$12&\") =\"&$E$1&\" and LocalDay(\"&$D$12&\")=\"&$F$1&\" and Barix(\"&$D$12&\",reference:=StartOfDay)=\"&A125&\"\", \"Bar\", \"\", \"Close\",\"A5C\",\"0\",\"All\",,,\"False\",\"T\",\"EveryTick\")","v":""},10299.666666666666,{"$f":"RTD(\"cqg.rtd\",,\"StudyData\", \"Vol(\"&$D$12&\") when LocalYear(\"&$D$12&\")=\"&$D$2&\" and localMonth(\"&$D$12&\") =\"&$E$2&\" and LocalDay(\"&$D$12&\")=\"&$F$2&\" and Barix(\"&$D$12&\",reference:=StartOfDay)=\"&A125&\"\", \"Bar\", \"\", \"Close\",\"A5C\",\"0\",\"All\",,,\"False\",\"T\",\"EveryTick\")","v":4113},{"$f":"RTD(\"cqg.rtd\",,\"StudyData\", \"Vol(\"&$D$12&\") when LocalYear(\"&$D$12&\")=\"&$D$3&\" and localMonth(\"&$D$12&\") =\"&$E$3&\" and LocalDay(\"&$D$12&\")=\"&$F$3&\" and Barix(\"&$D$12&\",reference:=StartOfDay)=\"&A125&\"\", \"Bar\", \"\", \"Close\",\"A5C\",\"0\",\"All\",,,\"False\",\"T\",\"EveryTick\")","v":5715},{"$f":"RTD(\"cqg.rtd\",,\"StudyData\", \"Vol(\"&$D$12&\") when LocalYear(\"&$D$12&\")=\"&$D$4&\" and localMonth(\"&$D$12&\") =\"&$E$4&\" and LocalDay(\"&$D$12&\")=\"&$F$4&\" and Barix(\"&$D$12&\",reference:=StartOfDay)=\"&A125&\"\", \"Bar\", \"\", \"Close\",\"A5C\",\"0\",\"All\",,,\"False\",\"T\",\"EveryTick\")","v":6123},{"$f":"RTD(\"cqg.rtd\",,\"StudyData\", \"Vol(\"&$D$12&\") when LocalYear(\"&$D$12&\")=\"&$D$5&\" and localMonth(\"&$D$12&\") =\"&$E$5&\" and LocalDay(\"&$D$12&\")=\"&$F$5&\" and Barix(\"&$D$12&\",reference:=StartOfDay)=\"&A125&\"\", \"Bar\", \"\", \"Close\",\"A5C\",\"0\",\"All\",,,\"False\",\"T\",\"EveryTick\")","v":5157},{"$f":"RTD(\"cqg.rtd\",,\"StudyData\", \"Vol(\"&$D$12&\") when LocalYear(\"&$D$12&\")=\"&$D$6&\" and localMonth(\"&$D$12&\") =\"&$E$6&\" and LocalDay(\"&$D$12&\")=\"&$F$6&\" and Barix(\"&$D$12&\",reference:=StartOfDay)=\"&A125&\"\", \"Bar\", \"\", \"Close\",\"A5C\",\"0\",\"All\",,,\"False\",\"T\",\"EveryTick\")","v":9968},{"$f":"RTD(\"cqg.rtd\",,\"StudyData\", \"Vol(\"&$D$12&\") when LocalYear(\"&$D$12&\")=\"&$D$7&\" and localMonth(\"&$D$12&\") =\"&$E$7&\" and LocalDay(\"&$D$12&\")=\"&$F$7&\" and Barix(\"&$D$12&\",reference:=StartOfDay)=\"&A125&\"\", \"Bar\", \"\", \"Close\",\"A5C\",\"0\",\"All\",,,\"False\",\"T\",\"EveryTick\")","v":11922},{"$f":"RTD(\"cqg.rtd\",,\"StudyData\", \"Vol(\"&$D$12&\") when LocalYear(\"&$D$12&\")=\"&$D$8&\" and localMonth(\"&$D$12&\") =\"&$E$8&\" and LocalDay(\"&$D$12&\")=\"&$F$8&\" and Barix(\"&$D$12&\",reference:=StartOfDay)=\"&A125&\"\", \"Bar\", \"\", \"Close\",\"A5C\",\"0\",\"All\",,,\"False\",\"T\",\"EveryTick\")","v":14678},{"$f":"RTD(\"cqg.rtd\",,\"StudyData\", \"Vol(\"&$D$12&\") when LocalYear(\"&$D$12&\")=\"&$D$9&\" and localMonth(\"&$D$12&\") =\"&$E$9&\" and LocalDay(\"&$D$12&\")=\"&$F$9&\" and Barix(\"&$D$12&\",reference:=StartOfDay)=\"&A125&\"\", \"Bar\", \"\", \"Close\",\"A5C\",\"0\",\"All\",,,\"False\",\"T\",\"EveryTick\")","v":11270},{"$f":"RTD(\"cqg.rtd\",,\"StudyData\", \"Vol(\"&$D$12&\") when LocalYear(\"&$D$12&\")=\"&$D$10&\" and localMonth(\"&$D$12&\") =\"&$E$10&\" and LocalDay(\"&$D$12&\")=\"&$F$10&\" and Barix(\"&$D$12&\",reference:=StartOfDay)=\"&A125&\"\", \"Bar\", \"\", \"Close\",\"A5C\",\"0\",\"All\",,,\"False\",\"T\",\"EveryTick\")","v":23751},{"$f":"IF(H125>(1+(MainDisplay!$O$24/100))*I125,H125,NA())","v":""}]
[221,{"$f":"Sheet3!B126","v":"11:25:00"},null,null,null,null,null,{"$f":"RTD(\"cqg.rtd\",,\"StudyData\", \"Vol(\"&$D$12&\") when LocalYear(\"&$D$12&\")=\"&$D$1&\" and localMonth(\"&$D$12&\") =\"&$E$1&\" and LocalDay(\"&$D$12&\")=\"&$F$1&\" and Barix(\"&$D$12&\",reference:=StartOfDay)=\"&A126&\"\", \"Bar\", \"\", \"Close\",\"A5C\",\"0\",\"All\",,,\"False\",\"T\",\"EveryTick\")","v":""},11357.666666666666,{"$f":"RTD(\"cqg.rtd\",,\"StudyData\", \"Vol(\"&$D$12&\") when LocalYear(\"&$D$12&\")=\"&$D$2&\" and localMonth(\"&$D$12&\") =\"&$E$2&\" and LocalDay(\"&$D$12&\")=\"&$F$2&\" and Barix(\"&$D$12&\",reference:=StartOfDay)=\"&A126&\"\", \"Bar\", \"\", \"Close\",\"A5C\",\"0\",\"All\",,,\"False\",\"T\",\"EveryTick\")","v":4219},{"$f":"RTD(\"cqg.rtd\",,\"StudyData\", \"Vol(\"&$D$12&\") when LocalYear(\"&$D$12&\")=\"&$D$3&\" and localMonth(\"&$D$12&\") =\"&$E$3&\" and LocalDay(\"&$D$12&\")=\"&$F$3&\" and Barix(\"&$D$12&\",reference:=StartOfDay)=\"&A126&\"\", \"Bar\", \"\", \"Close\",\"A5C\",\"0\",\"All\",,,\"False\",\"T\",\"EveryTick\")","v":4832},{"$f":"RTD(\"cqg.rtd\",,\"StudyData\", \"Vol(\"&$D$12&\") when LocalYear(\"&$D$12&\")=\"&$D$4&\" and localMonth(\"&$D$12&\") =\"&$E$4&\" and LocalDay(\"&$D$12&\")=\"&$F$4&\" and Barix(\"&$D$12&\",reference:=StartOfDay)=\"&A126&\"\", \"Bar\", \"\", \"Close\",\"A5C\",\"0\",\"All\",,,\"False\",\"T\",\"EveryTick\")","v":15301},{"$f":"RTD(\"cqg.rtd\",,\"StudyData\", \"Vol(\"&$D$12&\") when LocalYear(\"&$D$12&\")=\"&$D$5&\" and localMonth(\"&$D$12&\") =\"&$E$5&\" and LocalDay(\"&$D$12&\")=\"&$F$5&\" and Barix(\"&$D$12&\",reference:=StartOfDay)=\"&A126&\"\", \"Bar\", \"\", \"Close\",\"A5C\",\"0\",\"All\",,,\"False\",\"T\",\"EveryTick\")","v":4077},{"$f":"RTD(\"cqg.rtd\",,\"StudyData\", \"Vol(\"&$D$12&\") when LocalYear(\"&$D$12&\")=\"&$D$6&\" and localMonth(\"&$D$12&\") =\"&$E$6&\" and LocalDay(\"&$D$12&\")=\"&$F$6&\" and Barix(\"&$D$12&\",reference:=StartOfDay)=\"&A126&\"\", \"Bar\", \"\", \"Close\",\"A5C\",\"0\",\"All\",,,\"False\",\"T\",\"EveryTick\")","v":20830},{"$f":"RTD(\"cqg.rtd\",,\"StudyData\", \"Vol(\"&$D$12&\") when LocalYear(\"&$D$12&\")=\"&$D$7&\" and localMonth(\"&$D$12&\") =\"&$E$7&\" and LocalDay(\"&$D$12&\")=\"&$F$7&\" and Barix(\"&$D$12&\",reference:=StartOfDay)=\"&A126&\"\", \"Bar\", \"\", \"Close\",\"A5C\",\"0\",\"All\",,,\"False\",\"T\",\"EveryTick\")","v":11005},{"$f":"RTD(\"cqg.rtd\",,\"StudyData\", \"Vol(\"&$D$12&\") when LocalYear(\"&$D$12&\")=\"&$D$8&\" and localMonth(\"&$D$12&\") =\"&$E$8&\" and LocalDay(\"&$D$12&\")=\"&$F$8&\" and Barix(\"&$D$12&\",reference:=StartOfDay)=\"&A126&\"\", \"Bar\", \"\", \"Close\",\"A5C\",\"0\",\"All\",,,\"False\",\"T\",\"EveryTick\")","v":14020},{"$f":"RTD(\"cqg.rtd\",,\"StudyData\", \"Vol(\"&$D$12&\") when LocalYear(\"&$D$12&\")=\"&$D$9&\" and localMonth(\"&$D$12&\") =\"&$E$9&\" and LocalDay(\"&$D$12&\")=\"&$F$9&\" and Barix(\"&$D$12&\",reference:=StartOfDay)=\"&A126&\"\", \"Bar\", \"\", \"Close\",\"A5C\",\"0\",\"All\",,,\"False\",\"T\",\"EveryTick\")","v":7157},{"$f":"RTD(\"cqg.rtd\",,\"StudyData\", \"Vol(\"&$D$12&\") when LocalYear(\"&$D$12&\")=\"&$D$10&\" and localMonth(\"&$D$12&\") =\"&$E$10&\" and LocalDay(\"&$D$12&\")=\"&$F$10&\" and Barix(\"&$D$12&\",reference:=StartOfDay)=\"&A126&\"\", \"Bar\", \"\", \"Close\",\"A5C\",\"0\",\"All\",,,\"False\",\"T\",\"EveryTick\")","v":20778},{"$f":"IF(H126>(1+(MainDisplay!$O$24/100))*I126,H126,NA())","v":""}]
[222,{"$f":"Sheet3!B127","v":"11:30:00"},null,null,null,null,null,{"$f":"RTD(\"cqg.rtd\",,\"StudyData\", \"Vol(\"&$D$12&\") when LocalYear(\"&$D$12&\")=\"&$D$1&\" and localMonth(\"&$D$12&\") =\"&$E$1&\" and LocalDay(\"&$D$12&\")=\"&$F$1&\" and Barix(\"&$D$12&\",reference:=StartOfDay)=\"&A127&\"\", \"Bar\", \"\", \"Close\",\"A5C\",\"0\",\"All\",,,\"False\",\"T\",\"EveryTick\")","v":""},12334.888888888889,{"$f":"RTD(\"cqg.rtd\",,\"StudyData\", \"Vol(\"&$D$12&\") when LocalYear(\"&$D$12&\")=\"&$D$2&\" and localMonth(\"&$D$12&\") =\"&$E$2&\" and LocalDay(\"&$D$12&\")=\"&$F$2&\" and Barix(\"&$D$12&\",reference:=StartOfDay)=\"&A127&\"\", \"Bar\", \"\", \"Close\",\"A5C\",\"0\",\"All\",,,\"False\",\"T\",\"EveryTick\")","v":13605},{"$f":"RTD(\"cqg.rtd\",,\"StudyData\", \"Vol(\"&$D$12&\") when LocalYear(\"&$D$12&\")=\"&$D$3&\" and localMonth(\"&$D$12&\") =\"&$E$3&\" and LocalDay(\"&$D$12&\")=\"&$F$3&\" and Barix(\"&$D$12&\",reference:=StartOfDay)=\"&A127&\"\", \"Bar\", \"\", \"Close\",\"A5C\",\"0\",\"All\",,,\"False\",\"T\",\"EveryTick\")","v":6707},{"$f":"RTD(\"cqg.rtd\",,\"StudyData\", \"Vol(\"&$D$12&\") when LocalYear(\"&$D$12&\")=\"&$D$4&\" and localMonth(\"&$D$12&\") =\"&$E$4&\" and LocalDay(\"&$D$12&\")=\"&$F$4&\" and Barix(\"&$D$12&\",reference:=StartOfDay)=\"&A127&\"\", \"Bar\", \"\", \"Close\",\"A5C\",\"0\",\"All\",,,\"False\",\"T\",\"EveryTick\")","v":13194},{"$f":"RTD(\"cqg.rtd\",,\"StudyData\", \"Vol(\"&$D$12&\") when LocalYear(\"&$D$12&\")=\"&$D$5&\" and localMonth(\"&$D$12&\") =\"&$E$5&\" and LocalDay(\"&$D$12&\")=\"&$F$5&\" and Barix(\"&$D$12&\",reference:=StartOfDay)=\"&A127&\"\", \"Bar\", \"\", \"Close\",\"A5C\",\"0\",\"All\",,,\"False\",\"T\",\"EveryTick\")","v":5085},{"$f":"RTD(\"cqg.rtd\",,\"StudyData\", \"Vol(\"&$D$12&\") when LocalYear(\"&$D$12&\")=\"&$D$6&\" and localMonth(\"&$D$12&\") =\"&$E$6&\" and LocalDay(\"&$D$12&\")=\"&$F$6&\" and Barix(\"&$D$12&\",reference:=StartOfDay)=\"&A127&\"\", \"Bar\", \"\", \"Close\",\"A5C\",\"0\",\"All\",,,\"False\",\"T\",\"EveryTick\")","v":13346},{"$f":"RTD(\"cqg.rtd\",,\"StudyData\", \"Vol(\"&$D$12&\") when LocalYear(\"&$D$12&\")=\"&$D$7&\" and localMonth(\"&$D$12&\") =\"&$E$7&\" and LocalDay(\"&$D$12&\")=\"&$F$7&\" and Barix(\"&$D$12&\",reference:=StartOfDay)=\"&A127&\"\", \"Bar\", \"\", \"Close\",\"A5C\",\"0\",\"All\",,,\"False\",\"T\",\"EveryTick\")","v":9612},{"$f":"RTD(\"cqg.rtd\",,\"StudyData\", \"Vol(\"&$D$12&\") when LocalYear(\"&$D$12&\")=\"&$D$8&\" and localMonth(\"&$D$12&\") =\"&$E$8&\" and LocalDay(\"&$D$12&\")=\"&$F$8&\" and Barix(\"&$D$12&\",reference:=StartOfDay)=\"&A127&\"\", \"Bar\", \"\", \"Close\",\"A5C\",\"0\",\"All\",,,\"False\",\"T\",\"EveryTick\")","v":14367},{"$f":"RTD(\"cqg.rtd\",,\"StudyData\", \"Vol(\"&$D$12&\") when LocalYear(\"&$D$12&\")=\"&$D$9&\" and localMonth(\"&$D$12&\") =\"&$E$9&\" and LocalDay(\"&$D$12&\")=\"&$F$9&\" and Barix(\"&$D$12&\",reference:=StartOfDay)=\"&A127&\"\", \"Bar\", \"\", \"Close\",\"A5C\",\"0\",\"All\",,,\"False\",\"T\",\"EveryTick\")","v":8375},{"$f":"RTD(\"cqg.rtd\",,\"StudyData\", \"Vol(\"&$D$12&\") when LocalYear(\"&$D$12&\")=\"&$D$10&\" and localMonth(\"&$D$12&\") =\"&$E$10&\" and LocalDay(\"&$D$12&\")=\"&$F$10&\" and Barix(\"&$D$12&\",reference:=StartOfDay)=\"&A127&\"\", \"Bar\", \"\", \"Close\",\"A5C\",\"0\",\"All\",,,\"False\",\"T\",\"EveryTick\")","v":26723},{"$f":"IF(H127>(1+(MainDisplay!$O$24/100))*I127,H127,NA())","v":""}]
[223,{"$f":"Sheet3!B128","v":"11:35:00"},null,null,null,null,null,{"$f":"RTD(\"cqg.rtd\",,\"StudyData\", \"Vol(\"&$D$12&\") when LocalYear(\"&$D$12&\")=\"&$D$1&\" and localMonth(\"&$D$12&\") =\"&$E$1&\" and LocalDay(\"&$D$12&\")=\"&$F$1&\" and Barix(\"&$D$12&\",reference:=StartOfDay)=\"&A128&\"\", \"Bar\", \"\", \"Close\",\"A5C\",\"0\",\"All\",,,\"False\",\"T\",\"EveryTick\")","v":""},10615.333333333334,{"$f":"RTD(\"cqg.rtd\",,\"StudyData\", \"Vol(\"&$D$12&\") when LocalYear(\"&$D$12&\")=\"&$D$2&\" and localMonth(\"&$D$12&\") =\"&$E$2&\" and LocalDay(\"&$D$12&\")=\"&$F$2&\" and Barix(\"&$D$12&\",reference:=StartOfDay)=\"&A128&\"\", \"Bar\", \"\", \"Close\",\"A5C\",\"0\",\"All\",,,\"False\",\"T\",\"EveryTick\")","v":7785},{"$f":"RTD(\"cqg.rtd\",,\"StudyData\", \"Vol(\"&$D$12&\") when LocalYear(\"&$D$12&\")=\"&$D$3&\" and localMonth(\"&$D$12&\") =\"&$E$3&\" and LocalDay(\"&$D$12&\")=\"&$F$3&\" and Barix(\"&$D$12&\",reference:=StartOfDay)=\"&A128&\"\", \"Bar\", \"\", \"Close\",\"A5C\",\"0\",\"All\",,,\"False\",\"T\",\"EveryTick\")","v":6520},{"$f":"RTD(\"cqg.rtd\",,\"StudyData\", \"Vol(\"&$D$12&\") when LocalYear(\"&$D$12&\")=\"&$D$4&\" and localMonth(\"&$D$12&\") =\"&$E$4&\" and LocalDay(\"&$D$12&\")=\"&$F$4&\" and Barix(\"&$D$12&\",reference:=StartOfDay)=\"&A128&\"\", \"Bar\", \"\", \"Close\",\"A5C\",\"0\",\"All\",,,\"False\",\"T\",\"EveryTick\")","v":11893},{"$f":"RTD(\"cqg.rtd\",,\"StudyData\", \"Vol(\"&$D$12&\") when LocalYear(\"&$D$12&\")=\"&$D$5&\" and localMonth(\"&$D$12&\") =\"&$E$5&\" and LocalDay(\"&$D$12&\")=\"&$F$5&\" and Barix(\"&$D$12&\",reference:=StartOfDay)=\"&A128&\"\", \"Bar\", \"\", \"Close\",\"A5C\",\"0\",\"All\",,,\"False\",\"T\",\"EveryTick\")","v":4841},{"$f":"RTD(\"cqg.rtd\",,\"StudyData\", \"Vol(\"&$D$12&\") when LocalYear(\"&$D$12&\")=\"&$D$6&\" and localMonth(\"&$D$12&\") =\"&$E$6&\" and LocalDay(\"&$D$12&\")=\"&$F$6&\" and Barix(\"&$D$12&\",reference:=StartOfDay)=\"&A128&\"\", \"Bar\", \"\", \"Close\",\"A5C\",\"0\",\"All\",,,\"False\",\"T\",\"EveryTick\")","v":11579},{"$f":"RTD(\"cqg.rtd\",,\"StudyData\", \"Vol(\"&$D$12&\") when LocalYear(\"&$D$12&\")=\"&$D$7&\" and localMonth(\"&$D$12&\") =\"&$E$7&\" and LocalDay(\"&$D$12&\")=\"&$F$7&\" and Barix(\"&$D$12&\",reference:=StartOfDay)=\"&A128&\"\", \"Bar\", \"\", \"Close\",\"A5C\",\"0\",\"All\",,,\"False\",\"T\",\"EveryTick\")","v":7876},{"$f":"RTD(\"cqg.rtd\",,\"StudyData\", \"Vol(\"&$D$12&\") when LocalYear(\"&$D$12&\")=\"&$D$8&\" and localMonth(\"&$D$12&\") =\"&$E$8&\" and LocalDay(\"&$D$12&\")=\"&$F$8&\" and Barix(\"&$D$12&\",reference:=StartOfDay)=\"&A128&\"\", \"Bar\", \"\", \"Close\",\"A5C\",\"0\",\"All\",,,\"False\",\"T\",\"EveryTick\")","v":9795},{"$f":"RTD(\"cqg.rtd\",,\"StudyData\", \"Vol(\"&$D$12&\") when LocalYear(\"&$D$12&\")=\"&$D$9&\" and localMonth(\"&$D$12&\") =\"&$E$9&\" and LocalDay(\"&$D$12&\")=\"&$F$9&\" and Barix(\"&$D$12&\",reference:=StartOfDay)=\"&A128&\"\", \"Bar\", \"\", \"Close\",\"A5C\",\"0\",\"All\",,,\"False\",\"T\",\"EveryTick\")","v":12002},{"$f":"RTD(\"cqg.rtd\",,\"StudyData\", \"Vol(\"&$D$12&\") when LocalYear(\"&$D$12&\")=\"&$D$10&\" and localMonth(\"&$D$12&\") =\"&$E$10&\" and LocalDay(\"&$D$12&\")=\"&$F$10&\" and Barix(\"&$D$12&\",reference:=StartOfDay)=\"&A128&\"\", \"Bar\", \"\", \"Close\",\"A5C\",\"0\",\"All\",,,\"False\",\"T\",\"EveryTick\")","v":23247},{"$f":"IF(H128>(1+(MainDisplay!$O$24/100))*I128,H128,NA())","v":""}]
[224,{"$f":"Sheet3!B129","v":"11:40:00"},null,null,null,null,null,{"$f":"RTD(\"cqg.rtd\",,\"StudyData\", \"Vol(\"&$D$12&\") when LocalYear(\"&$D$12&\")=\"&$D$1&\" and localMonth(\"&$D$12&\") =\"&$E$1&\" and LocalDay(\"&$D$12&\")=\"&$F$1&\" and Barix(\"&$D$12&\",reference:=StartOfDay)=\"&A129&\"\", \"Bar\", \"\", \"Close\",\"A5C\",\"0\",\"All\",,,\"False\",\"T\",\"EveryTick\")","v":""},11731.111111111111,{"$f":"RTD(\"cqg.rtd\",,\"StudyData\", \"Vol(\"&$D$12&\") when LocalYear(\"&$D$12&\")=\"&$D$2&\" and localMonth(\"&$D$12&\") =\"&$E$2&\" and LocalDay(\"&$D$12&\")=\"&$F$2&\" and Barix(\"&$D$12&\",reference:=StartOfDay)=\"&A129&\"\", \"Bar\", \"\", \"Close\",\"A5C\",\"0\",\"All\",,,\"False\",\"T\",\"EveryTick\")","v":9892},{"$f":"RTD(\"cqg.rtd\",,\"StudyData\", \"Vol(\"&$D$12&\") when LocalYear(\"&$D$12&\")=\"&$D$3&\" and localMonth(\"&$D$12&\") =\"&$E$3&\" and LocalDay(\"&$D$12&\")=\"&$F$3&\" and Barix(\"&$D$12&\",reference:=StartOfDay)=\"&A129&\"\", \"Bar\", \"\", \"Close\",\"A5C\",\"0\",\"All\",,,\"False\",\"T\",\"EveryTick\")","v":6227},{"$f":"RTD(\"cqg.rtd\",,\"StudyData\", \"Vol(\"&$D$12&\") when LocalYear(\"&$D$12&\")=\"&$D$4&\" and localMonth(\"&$D$12&\") =\"&$E$4&\" and LocalDay(\"&$D$12&\")=\"&$F$4&\" and Barix(\"&$D$12&\",reference:=StartOfDay)=\"&A129&\"\", \"Bar\", \"\", \"Close\",\"A5C\",\"0\",\"All\",,,\"False\",\"T\",\"EveryTick\")","v":12836},{"$f":"RTD(\"cqg.rtd\",,\"StudyData\", \"Vol(\"&$D$12&\") when LocalYear(\"&$D$12&\")=\"&$D$5&\" and localMonth(\"&$D$12&\") =\"&$E$5&\" and LocalDay(\"&$D$12&\")=\"&$F$5&\" and Barix(\"&$D$12&\",reference:=StartOfDay)=\"&A129&\"\", \"Bar\", \"\", \"Close\",\"A5C\",\"0\",\"All\",,,\"False\",\"T\",\"EveryTick\")","v":12614},{"$f":"RTD(\"cqg.rtd\",,\"StudyData\", \"Vol(\"&$D$12&\") when LocalYear(\"&$D$12&\")=\"&$D$6&\" and localMonth(\"&$D$12&\") =\"&$E$6&\" and LocalDay(\"&$D$12&\")=\"&$F$6&\" and Barix(\"&$D$12&\",reference:=StartOfDay)=\"&A129&\"\", \"Bar\", \"\", \"Close\",\"A5C\",\"0\",\"All\",,,\"False\",\"T\",\"EveryTick\")","v":14123},{"$f":"RTD(\"cqg.rtd\",,\"StudyData\", \"Vol(\"&$D$12&\") when LocalYear(\"&$D$12&\")=\"&$D$7&\" and localMonth(\"&$D$12&\") =\"&$E$7&\" and LocalDay(\"&$D$12&\")=\"&$F$7&\" and Barix(\"&$D$12&\",reference:=StartOfDay)=\"&A129&\"\", \"Bar\", \"\", \"Close\",\"A5C\",\"0\",\"All\",,,\"False\",\"T\",\"EveryTick\")","v":6989},{"$f":"RTD(\"cqg.rtd\",,\"StudyData\", \"Vol(\"&$D$12&\") when LocalYear(\"&$D$12&\")=\"&$D$8&\" and localMonth(\"&$D$12&\") =\"&$E$8&\" and LocalDay(\"&$D$12&\")=\"&$F$8&\" and Barix(\"&$D$12&\",reference:=StartOfDay)=\"&A129&\"\", \"Bar\", \"\", \"Close\",\"A5C\",\"0\",\"All\",,,\"False\",\"T\",\"EveryTick\")","v":16043},{"$f":"RTD(\"cqg.rtd\",,\"StudyData\", \"Vol(\"&$D$12&\") when LocalYear(\"&$D$12&\")=\"&$D$9&\" and localMonth(\"&$D$12&\") =\"&$E$9&\" and LocalDay(\"&$D$12&\")=\"&$F$9&\" and Barix(\"&$D$12&\",reference:=StartOfDay)=\"&A129&\"\", \"Bar\", \"\", \"Close\",\"A5C\",\"0\",\"All\",,,\"False\",\"T\",\"EveryTick\")","v":11447},{"$f":"RTD(\"cqg.rtd\",,\"StudyData\", \"Vol(\"&$D$12&\") when LocalYear(\"&$D$12&\")=\"&$D$10&\" and localMonth(\"&$D$12&\") =\"&$E$10&\" and LocalDay(\"&$D$12&\")=\"&$F$10&\" and Barix(\"&$D$12&\",reference:=StartOfDay)=\"&A129&\"\", \"Bar\", \"\", \"Close\",\"A5C\",\"0\",\"All\",,,\"False\",\"T\",\"EveryTick\")","v":15409},{"$f":"IF(H129>(1+(MainDisplay!$O$24/100))*I129,H129,NA())","v":""}]
[225,{"$f":"Sheet3!B130","v":"11:45:00"},null,null,null,null,null,{"$f":"RTD(\"cqg.rtd\",,\"StudyData\", \"Vol(\"&$D$12&\") when LocalYear(\"&$D$12&\")=\"&$D$1&\" and localMonth(\"&$D$12&\") =\"&$E$1&\" and LocalDay(\"&$D$12&\")=\"&$F$1&\" and Barix(\"&$D$12&\",reference:=StartOfDay)=\"&A130&\"\", \"Bar\", \"\", \"Close\",\"A5C\",\"0\",\"All\",,,\"False\",\"T\",\"EveryTick\")","v":""},9057.1111111111113,{"$f":"RTD(\"cqg.rtd\",,\"StudyData\", \"Vol(\"&$D$12&\") when LocalYear(\"&$D$12&\")=\"&$D$2&\" and localMonth(\"&$D$12&\") =\"&$E$2&\" and LocalDay(\"&$D$12&\")=\"&$F$2&\" and Barix(\"&$D$12&\",reference:=StartOfDay)=\"&A130&\"\", \"Bar\", \"\", \"Close\",\"A5C\",\"0\",\"All\",,,\"False\",\"T\",\"EveryTick\")","v":7791},{"$f":"RTD(\"cqg.rtd\",,\"StudyData\", \"Vol(\"&$D$12&\") when LocalYear(\"&$D$12&\")=\"&$D$3&\" and localMonth(\"&$D$12&\") =\"&$E$3&\" and LocalDay(\"&$D$12&\")=\"&$F$3&\" and Barix(\"&$D$12&\",reference:=StartOfDay)=\"&A130&\"\", \"Bar\", \"\", \"Close\",\"A5C\",\"0\",\"All\",,,\"False\",\"T\",\"EveryTick\")","v":5526},{"$f":"RTD(\"cqg.rtd\",,\"StudyData\", \"Vol(\"&$D$12&\") when LocalYear(\"&$D$12&\")=\"&$D$4&\" and localMonth(\"&$D$12&\") =\"&$E$4&\" and LocalDay(\"&$D$12&\")=\"&$F$4&\" and Barix(\"&$D$12&\",reference:=StartOfDay)=\"&A130&\"\", \"Bar\", \"\", \"Close\",\"A5C\",\"0\",\"All\",,,\"False\",\"T\",\"EveryTick\")","v":6745},{"$f":"RTD(\"cqg.rtd\",,\"StudyData\", \"Vol(\"&$D$12&\") when LocalYear(\"&$D$12&\")=\"&$D$5&\" and localMonth(\"&$D$12&\") =\"&$E$5&\" and LocalDay(\"&$D$12&\")=\"&$F$5&\" and Barix(\"&$D$12&\",reference:=StartOfDay)=\"&A130&\"\", \"Bar\", \"\", \"Close\",\"A5C\",\"0\",\"All\",,,\"False\",\"T\",\"EveryTick\")","v":7420},{"$f":"RTD(\"cqg.rtd\",,\"StudyData\", \"Vol(\"&$D$12&\") when LocalYear(\"&$D$12&\")=\"&$D$6&\" and localMonth(\"&$D$12&\") =\"&$E$6&\" and LocalDay(\"&$D$12&\")=\"&$F$6&\" and Barix(\"&$D$12&\",reference:=StartOfDay)=\"&A130&\"\", \"Bar\", \"\", \"Close\",\"A5C\",\"0\",\"All\",,,\"False\",\"T\",\"EveryTick\")","v":11535},{"$f":"RTD(\"cqg.rtd\",,\"StudyData\", \"Vol(\"&$D$12&\") when LocalYear(\"&$D$12&\")=\"&$D$7&\" and localMonth(\"&$D$12&\") =\"&$E$7&\" and LocalDay(\"&$D$12&\")=\"&$F$7&\" and Barix(\"&$D$12&\",reference:=StartOfDay)=\"&A130&\"\", \"Bar\", \"\", \"Close\",\"A5C\",\"0\",\"All\",,,\"False\",\"T\",\"EveryTick\")","v":6409},{"$f":"RTD(\"cqg.rtd\",,\"StudyData\", \"Vol(\"&$D$12&\") when LocalYear(\"&$D$12&\")=\"&$D$8&\" and localMonth(\"&$D$12&\") =\"&$E$8&\" and LocalDay(\"&$D$12&\")=\"&$F$8&\" and Barix(\"&$D$12&\",reference:=StartOfDay)=\"&A130&\"\", \"Bar\", \"\", \"Close\",\"A5C\",\"0\",\"All\",,,\"False\",\"T\",\"EveryTick\")","v":13561},{"$f":"RTD(\"cqg.rtd\",,\"StudyData\", \"Vol(\"&$D$12&\") when LocalYear(\"&$D$12&\")=\"&$D$9&\" and localMonth(\"&$D$12&\") =\"&$E$9&\" and LocalDay(\"&$D$12&\")=\"&$F$9&\" and Barix(\"&$D$12&\",reference:=StartOfDay)=\"&A130&\"\", \"Bar\", \"\", \"Close\",\"A5C\",\"0\",\"All\",,,\"False\",\"T\",\"EveryTick\")","v":6414},{"$f":"RTD(\"cqg.rtd\",,\"StudyData\", \"Vol(\"&$D$12&\") when LocalYear(\"&$D$12&\")=\"&$D$10&\" and localMonth(\"&$D$12&\") =\"&$E$10&\" and LocalDay(\"&$D$12&\")=\"&$F$10&\" and Barix(\"&$D$12&\",reference:=StartOfDay)=\"&A130&\"\", \"Bar\", \"\", \"Close\",\"A5C\",\"0\",\"All\",,,\"False\",\"T\",\"EveryTick\")","v":16113},{"$f":"IF(H130>(1+(MainDisplay!$O$24/100))*I130,H130,NA())","v":""}]
[226,{"$f":"Sheet3!B131","v":"11:50:00"},null,null,null,null,null,{"$f":"RTD(\"cqg.rtd\",,\"StudyData\", \"Vol(\"&$D$12&\") when LocalYear(\"&$D$12&\")=\"&$D$1&\" and localMonth(\"&$D$12&\") =\"&$E$1&\" and LocalDay(\"&$D$12&\")=\"&$F$1&\" and Barix(\"&$D$12&\",reference:=StartOfDay)=\"&A131&\"\", \"Bar\", \"\", \"Close\",\"A5C\",\"0\",\"All\",,,\"False\",\"T\",\"EveryTick\")","v":""},9787.6666666666661,{"$f":"RTD(\"cqg.rtd\",,\"StudyData\", \"Vol(\"&$D$12&\") when LocalYear(\"&$D$12&\")=\"&$D$2&\" and localMonth(\"&$D$12&\") =\"&$E$2&\" and LocalDay(\"&$D$12&\")=\"&$F$2&\" and Barix(\"&$D$12&\",reference:=StartOfDay)=\"&A131&\"\", \"Bar\", \"\", \"Close\",\"A5C\",\"0\",\"All\",,,\"False\",\"T\",\"EveryTick\")","v":4640},{"$f":"RTD(\"cqg.rtd\",,\"StudyData\", \"Vol(\"&$D$12&\") when LocalYear(\"&$D$12&\")=\"&$D$3&\" and localMonth(\"&$D$12&\") =\"&$E$3&\" and LocalDay(\"&$D$12&\")=\"&$F$3&\" and Barix(\"&$D$12&\",reference:=StartOfDay)=\"&A131&\"\", \"Bar\", \"\", \"Close\",\"A5C\",\"0\",\"All\",,,\"False\",\"T\",\"EveryTick\")","v":14520},{"$f":"RTD(\"cqg.rtd\",,\"StudyData\", \"Vol(\"&$D$12&\") when LocalYear(\"&$D$12&\")=\"&$D$4&\" and localMonth(\"&$D$12&\") =\"&$E$4&\" and LocalDay(\"&$D$12&\")=\"&$F$4&\" and Barix(\"&$D$12&\",reference:=StartOfDay)=\"&A131&\"\", \"Bar\", \"\", \"Close\",\"A5C\",\"0\",\"All\",,,\"False\",\"T\",\"EveryTick\")","v":6832},{"$f":"RTD(\"cqg.rtd\",,\"StudyData\", \"Vol(\"&$D$12&\") when LocalYear(\"&$D$12&\")=\"&$D$5&\" and localMonth(\"&$D$12&\") =\"&$E$5&\" and LocalDay(\"&$D$12&\")=\"&$F$5&\" and Barix(\"&$D$12&\",reference:=StartOfDay)=\"&A131&\"\", \"Bar\", \"\", \"Close\",\"A5C\",\"0\",\"All\",,,\"False\",\"T\",\"EveryTick\")","v":6470},{"$f":"RTD(\"cqg.rtd\",,\"StudyData\", \"Vol(\"&$D$12&\") when LocalYear(\"&$D$12&\")=\"&$D$6&\" and localMonth(\"&$D$12&\") =\"&$E$6&\" and LocalDay(\"&$D$12&\")=\"&$F$6&\" and Barix(\"&$D$12&\",reference:=StartOfDay)=\"&A131&\"\", \"Bar\", \"\", \"Close\",\"A5C\",\"0\",\"All\",,,\"False\",\"T\",\"EveryTick\")","v":7465},{"$f":"RTD(\"cqg.rtd\",,\"StudyData\", \"Vol(\"&$D$12&\") when LocalYear(\"&$D$12&\")=\"&$D$7&\" and localMonth(\"&$D$12&\") =\"&$E$7&\" and LocalDay(\"&$D$12&\")=\"&$F$7&\" and Barix(\"&$D$12&\",reference:=StartOfDay)=\"&A131&\"\", \"Bar\", \"\", \"Close\",\"A5C\",\"0\",\"All\",,,\"False\",\"T\",\"EveryTick\")","v":5853},{"$f":"RTD(\"cqg.rtd\",,\"StudyData\", \"Vol(\"&$D$12&\") when LocalYear(\"&$D$12&\")=\"&$D$8&\" and localMonth(\"&$D$12&\") =\"&$E$8&\" and LocalDay(\"&$D$12&\")=\"&$F$8&\" and Barix(\"&$D$12&\",reference:=StartOfDay)=\"&A131&\"\", \"Bar\", \"\", \"Close\",\"A5C\",\"0\",\"All\",,,\"False\",\"T\",\"EveryTick\")","v":15013},{"$f":"RTD(\"cqg.rtd\",,\"StudyData\", \"Vol(\"&$D$12&\") when LocalYear(\"&$D$12&\")=\"&$D$9&\" and localMonth(\"&$D$12&\") =\"&$E$9&\" and LocalDay(\"&$D$12&\")=\"&$F$9&\" and Barix(\"&$D$12&\",reference:=StartOfDay)=\"&A131&\"\", \"Bar\", \"\", \"Close\",\"A5C\",\"0\",\"All\",,,\"False\",\"T\",\"EveryTick\")","v":9307},{"$f":"RTD(\"cqg.rtd\",,\"StudyData\", \"Vol(\"&$D$12&\") when LocalYear(\"&$D$12&\")=\"&$D$10&\" and localMonth(\"&$D$12&\") =\"&$E$10&\" and LocalDay(\"&$D$12&\")=\"&$F$10&\" and Barix(\"&$D$12&\",reference:=StartOfDay)=\"&A131&\"\", \"Bar\", \"\", \"Close\",\"A5C\",\"0\",\"All\",,,\"False\",\"T\",\"EveryTick\")","v":17989},{"$f":"IF(H131>(1+(MainDisplay!$O$24/100))*I131,H131,NA())","v":""}]
[227,{"$f":"Sheet3!B132","v":"11:55:00"},null,null,null,null,null,{"$f":"RTD(\"cqg.rtd\",,\"StudyData\", \"Vol(\"&$D$12&\") when LocalYear(\"&$D$12&\")=\"&$D$1&\" and localMonth(\"&$D$12&\") =\"&$E$1&\" and LocalDay(\"&$D$12&\")=\"&$F$1&\" and Barix(\"&$D$12&\",reference:=StartOfDay)=\"&A132&\"\", \"Bar\", \"\", \"Close\",\"A5C\",\"0\",\"All\",,,\"False\",\"T\",\"EveryTick\")","v":""},8643.1111111111113,{"$f":"RTD(\"cqg.rtd\",,\"StudyData\", \"Vol(\"&$D$12&\") when LocalYear(\"&$D$12&\")=\"&$D$2&\" and localMonth(\"&$D$12&\") =\"&$E$2&\" and LocalDay(\"&$D$12&\")=\"&$F$2&\" and Barix(\"&$D$12&\",reference:=StartOfDay)=\"&A132&\"\", \"Bar\", \"\", \"Close\",\"A5C\",\"0\",\"All\",,,\"False\",\"T\",\"EveryTick\")","v":6535},{"$f":"RTD(\"cqg.rtd\",,\"StudyData\", \"Vol(\"&$D$12&\") when LocalYear(\"&$D$12&\")=\"&$D$3&\" and localMonth(\"&$D$12&\") =\"&$E$3&\" and LocalDay(\"&$D$12&\")=\"&$F$3&\" and Barix(\"&$D$12&\",reference:=StartOfDay)=\"&A132&\"\", \"Bar\", \"\", \"Close\",\"A5C\",\"0\",\"All\",,,\"False\",\"T\",\"EveryTick\")","v":7970},{"$f":"RTD(\"cqg.rtd\",,\"StudyData\", \"Vol(\"&$D$12&\") when LocalYear(\"&$D$12&\")=\"&$D$4&\" and localMonth(\"&$D$12&\") =\"&$E$4&\" and LocalDay(\"&$D$12&\")=\"&$F$4&\" and Barix(\"&$D$12&\",reference:=StartOfDay)=\"&A132&\"\", \"Bar\", \"\", \"Close\",\"A5C\",\"0\",\"All\",,,\"False\",\"T\",\"EveryTick\")","v":9419},{"$f":"RTD(\"cqg.rtd\",,\"StudyData\", \"Vol(\"&$D$12&\") when LocalYear(\"&$D$12&\")=\"&$D$5&\" and localMonth(\"&$D$12&\") =\"&$E$5&\" and LocalDay(\"&$D$12&\")=\"&$F$5&\" and Barix(\"&$D$12&\",reference:=StartOfDay)=\"&A132&\"\", \"Bar\", \"\", \"Close\",\"A5C\",\"0\",\"All\",,,\"False\",\"T\",\"EveryTick\")","v":7175},{"$f":"RTD(\"cqg.rtd\",,\"StudyData\", \"Vol(\"&$D$12&\") when LocalYear(\"&$D$12&\")=\"&$D$6&\" and localMonth(\"&$D$12&\") =\"&$E$6&\" and LocalDay(\"&$D$12&\")=\"&$F$6&\" and Barix(\"&$D$12&\",reference:=StartOfDay)=\"&A132&\"\", \"Bar\", \"\", \"Close\",\"A5C\",\"0\",\"All\",,,\"False\",\"T\",\"EveryTick\")","v":9297},{"$f":"RTD(\"cqg.rtd\",,\"StudyData\", \"Vol(\"&$D$12&\") when LocalYear(\"&$D$12&\")=\"&$D$7&\" and localMonth(\"&$D$12&\") =\"&$E$7&\" and LocalDay(\"&$D$12&\")=\"&$F$7&\" and Barix(\"&$D$12&\",reference:=StartOfDay)=\"&A132&\"\", \"Bar\", \"\", \"Close\",\"A5C\",\"0\",\"All\",,,\"False\",\"T\",\"EveryTick\")","v":6997},{"$f":"RTD(\"cqg.rtd\",,\"StudyData\", \"Vol(\"&$D$12&\") when LocalYear(\"&$D$12&\")=\"&$D$8&\" and localMonth(\"&$D$12&\") =\"&$E$8&\" and LocalDay(\"&$D$12&\")=\"&$F$8&\" and Barix(\"&$D$12&\",reference:=StartOfDay)=\"&A132&\"\", \"Bar\", \"\", \"Close\",\"A5C\",\"0\",\"All\",,,\"False\",\"T\",\"EveryTick\")","v":8833},{"$f":"RTD(\"cqg.rtd\",,\"StudyData\", \"Vol(\"&$D$12&\") when LocalYear(\"&$D$12&\")=\"&$D$9&\" and localMonth(\"&$D$12&\") =\"&$E$9&\" and LocalDay(\"&$D$12&\")=\"&$F$9&\" and Barix(\"&$D$12&\",reference:=StartOfDay)=\"&A132&\"\", \"Bar\", \"\", \"Close\",\"A5C\",\"0\",\"All\",,,\"False\",\"T\",\"EveryTick\")","v":8034},{"$f":"RTD(\"cqg.rtd\",,\"StudyData\", \"Vol(\"&$D$12&\") when LocalYear(\"&$D$12&\")=\"&$D$10&\" and localMonth(\"&$D$12&\") =\"&$E$10&\" and LocalDay(\"&$D$12&\")=\"&$F$10&\" and Barix(\"&$D$12&\",reference:=StartOfDay)=\"&A132&\"\", \"Bar\", \"\", \"Close\",\"A5C\",\"0\",\"All\",,,\"False\",\"T\",\"EveryTick\")","v":13528},{"$f":"IF(H132>(1+(MainDisplay!$O$24/100))*I132,H132,NA())","v":""}]
[228,{"$f":"Sheet3!B133","v":"12:00:00"},null,null,null,null,null,{"$f":"RTD(\"cqg.rtd\",,\"StudyData\", \"Vol(\"&$D$12&\") when LocalYear(\"&$D$12&\")=\"&$D$1&\" and localMonth(\"&$D$12&\") =\"&$E$1&\" and LocalDay(\"&$D$12&\")=\"&$F$1&\" and Barix(\"&$D$12&\",reference:=StartOfDay)=\"&A133&\"\", \"Bar\", \"\", \"Close\",\"A5C\",\"0\",\"All\",,,\"False\",\"T\",\"EveryTick\")","v":""},12527.888888888889,{"$f":"RTD(\"cqg.rtd\",,\"StudyData\", \"Vol(\"&$D$12&\") when LocalYear(\"&$D$12&\")=\"&$D$2&\" and localMonth(\"&$D$12&\") =\"&$E$2&\" and LocalDay(\"&$D$12&\")=\"&$F$2&\" and Barix(\"&$D$12&\",reference:=StartOfDay)=\"&A133&\"\", \"Bar\", \"\", \"Close\",\"A5C\",\"0\",\"All\",,,\"False\",\"T\",\"EveryTick\")","v":7658},{"$f":"RTD(\"cqg.rtd\",,\"StudyData\", \"Vol(\"&$D$12&\") when LocalYear(\"&$D$12&\")=\"&$D$3&\" and localMonth(\"&$D$12&\") =\"&$E$3&\" and LocalDay(\"&$D$12&\")=\"&$F$3&\" and Barix(\"&$D$12&\",reference:=StartOfDay)=\"&A133&\"\", \"Bar\", \"\", \"Close\",\"A5C\",\"0\",\"All\",,,\"False\",\"T\",\"EveryTick\")","v":16152},{"$f":"RTD(\"cqg.rtd\",,\"StudyData\", \"Vol(\"&$D$12&\") when LocalYear(\"&$D$12&\")=\"&$D$4&\" and localMonth(\"&$D$12&\") =\"&$E$4&\" and LocalDay(\"&$D$12&\")=\"&$F$4&\" and Barix(\"&$D$12&\",reference:=StartOfDay)=\"&A133&\"\", \"Bar\", \"\", \"Close\",\"A5C\",\"0\",\"All\",,,\"False\",\"T\",\"EveryTick\")","v":8514},{"$f":"RTD(\"cqg.rtd\",,\"StudyData\", \"Vol(\"&$D$12&\") when LocalYear(\"&$D$12&\")=\"&$D$5&\" and localMonth(\"&$D$12&\") =\"&$E$5&\" and LocalDay(\"&$D$12&\")=\"&$F$5&\" and Barix(\"&$D$12&\",reference:=StartOfDay)=\"&A133&\"\", \"Bar\", \"\", \"Close\",\"A5C\",\"0\",\"All\",,,\"False\",\"T\",\"EveryTick\")","v":8593},{"$f":"RTD(\"cqg.rtd\",,\"StudyData\", \"Vol(\"&$D$12&\") when LocalYear(\"&$D$12&\")=\"&$D$6&\" and localMonth(\"&$D$12&\") =\"&$E$6&\" and LocalDay(\"&$D$12&\")=\"&$F$6&\" and Barix(\"&$D$12&\",reference:=StartOfDay)=\"&A133&\"\", \"Bar\", \"\", \"Close\",\"A5C\",\"0\",\"All\",,,\"False\",\"T\",\"EveryTick\")","v":9580},{"$f":"RTD(\"cqg.rtd\",,\"StudyData\", \"Vol(\"&$D$12&\") when LocalYear(\"&$D$12&\")=\"&$D$7&\" and localMonth(\"&$D$12&\") =\"&$E$7&\" and LocalDay(\"&$D$12&\")=\"&$F$7&\" and Barix(\"&$D$12&\",reference:=StartOfDay)=\"&A133&\"\", \"Bar\", \"\", \"Close\",\"A5C\",\"0\",\"All\",,,\"False\",\"T\",\"EveryTick\")","v":12006},{"$f":"RTD(\"cqg.rtd\",,\"StudyData\", \"Vol(\"&$D$12&\") when LocalYear(\"&$D$12&\")=\"&$D$8&\" and localMonth(\"&$D$12&\") =\"&$E$8&\" and LocalDay(\"&$D$12&\")=\"&$F$8&\" and Barix(\"&$D$12&\",reference:=StartOfDay)=\"&A133&\"\", \"Bar\", \"\", \"Close\",\"A5C\",\"0\",\"All\",,,\"False\",\"T\",\"EveryTick\")","v":14135},{"$f":"RTD(\"cqg.rtd\",,\"StudyData\", \"Vol(\"&$D$12&\") when LocalYear(\"&$D$12&\")=\"&$D$9&\" and localMonth(\"&$D$12&\") =\"&$E$9&\" and LocalDay(\"&$D$12&\")=\"&$F$9&\" and Barix(\"&$D$12&\",reference:=StartOfDay)=\"&A133&\"\", \"Bar\", \"\", \"Close\",\"A5C\",\"0\",\"All\",,,\"False\",\"T\",\"EveryTick\")","v":19098},{"$f":"RTD(\"cqg.rtd\",,\"StudyData\", \"Vol(\"&$D$12&\") when LocalYear(\"&$D$12&\")=\"&$D$10&\" and localMonth(\"&$D$12&\") =\"&$E$10&\" and LocalDay(\"&$D$12&\")=\"&$F$10&\" and Barix(\"&$D$12&\",reference:=StartOfDay)=\"&A133&\"\", \"Bar\", \"\", \"Close\",\"A5C\",\"0\",\"All\",,,\"False\",\"T\",\"EveryTick\")","v":17015},{"$f":"IF(H133>(1+(MainDisplay!$O$24/100))*I133,H133,NA())","v":""}]
[229,{"$f":"Sheet3!B134","v":"12:05:00"},null,null,null,null,null,{"$f":"RTD(\"cqg.rtd\",,\"StudyData\", \"Vol(\"&$D$12&\") when LocalYear(\"&$D$12&\")=\"&$D$1&\" and localMonth(\"&$D$12&\") =\"&$E$1&\" and LocalDay(\"&$D$12&\")=\"&$F$1&\" and Barix(\"&$D$12&\",reference:=StartOfDay)=\"&A134&\"\", \"Bar\", \"\", \"Close\",\"A5C\",\"0\",\"All\",,,\"False\",\"T\",\"EveryTick\")","v":""},12724.888888888889,{"$f":"RTD(\"cqg.rtd\",,\"StudyData\", \"Vol(\"&$D$12&\") when LocalYear(\"&$D$12&\")=\"&$D$2&\" and localMonth(\"&$D$12&\") =\"&$E$2&\" and LocalDay(\"&$D$12&\")=\"&$F$2&\" and Barix(\"&$D$12&\",reference:=StartOfDay)=\"&A134&\"\", \"Bar\", \"\", \"Close\",\"A5C\",\"0\",\"All\",,,\"False\",\"T\",\"EveryTick\")","v":6820},{"$f":"RTD(\"cqg.rtd\",,\"StudyData\", \"Vol(\"&$D$12&\") when LocalYear(\"&$D$12&\")=\"&$D$3&\" and localMonth(\"&$D$12&\") =\"&$E$3&\" and LocalDay(\"&$D$12&\")=\"&$F$3&\" and Barix(\"&$D$12&\",reference:=StartOfDay)=\"&A134&\"\", \"Bar\", \"\", \"Close\",\"A5C\",\"0\",\"All\",,,\"False\",\"T\",\"EveryTick\")","v":19362},{"$f":"RTD(\"cqg.rtd\",,\"StudyData\", \"Vol(\"&$D$12&\") when LocalYear(\"&$D$12&\")=\"&$D$4&\" and localMonth(\"&$D$12&\") =\"&$E$4&\" and LocalDay(\"&$D$12&\")=\"&$F$4&\" and Barix(\"&$D$12&\",reference:=StartOfDay)=\"&A134&\"\", \"Bar\", \"\", \"Close\",\"A5C\",\"0\",\"All\",,,\"False\",\"T\",\"EveryTick\")","v":7712},{"$f":"RTD(\"cqg.rtd\",,\"StudyData\", \"Vol(\"&$D$12&\") when LocalYear(\"&$D$12&\")=\"&$D$5&\" and localMonth(\"&$D$12&\") =\"&$E$5&\" and LocalDay(\"&$D$12&\")=\"&$F$5&\" and Barix(\"&$D$12&\",reference:=StartOfDay)=\"&A134&\"\", \"Bar\", \"\", \"Close\",\"A5C\",\"0\",\"All\",,,\"False\",\"T\",\"EveryTick\")","v":7208},{"$f":"RTD(\"cqg.rtd\",,\"StudyData\", \"Vol(\"&$D$12&\") when LocalYear(\"&$D$12&\")=\"&$D$6&\" and localMonth(\"&$D$12&\") =\"&$E$6&\" and LocalDay(\"&$D$12&\")=\"&$F$6&\" and Barix(\"&$D$12&\",reference:=StartOfDay)=\"&A134&\"\", \"Bar\", \"\", \"Close\",\"A5C\",\"0\",\"All\",,,\"False\",\"T\",\"EveryTick\")","v":17467},{"$f":"RTD(\"cqg.rtd\",,\"StudyData\", \"Vol(\"&$D$12&\") when LocalYear(\"&$D$12&\")=\"&$D$7&\" and localMonth(\"&$D$12&\") =\"&$E$7&\" and LocalDay(\"&$D$12&\")=\"&$F$7&\" and Barix(\"&$D$12&\",reference:=StartOfDay)=\"&A134&\"\", \"Bar\", \"\", \"Close\",\"A5C\",\"0\",\"All\",,,\"False\",\"T\",\"EveryTick\")","v":12778},{"$f":"RTD(\"cqg.rtd\",,\"StudyData\", \"Vol(\"&$D$12&\") when LocalYear(\"&$D$12&\")=\"&$D$8&\" and localMonth(\"&$D$12&\") =\"&$E$8&\" and LocalDay(\"&$D$12&\")=\"&$F$8&\" and Barix(\"&$D$12&\",reference:=StartOfDay)=\"&A134&\"\", \"Bar\", \"\", \"Close\",\"A5C\",\"0\",\"All\",,,\"False\",\"T\",\"EveryTick\")","v":15963},{"$f":"RTD(\"cqg.rtd\",,\"StudyData\", \"Vol(\"&$D$12&\") when LocalYear(\"&$D$12&\")=\"&$D$9&\" and localMonth(\"&$D$12&\") =\"&$E$9&\" and LocalDay(\"&$D$12&\")=\"&$F$9&\" and Barix(\"&$D$12&\",reference:=StartOfDay)=\"&A134&\"\", \"Bar\", \"\", \"Close\",\"A5C\",\"0\",\"All\",,,\"False\",\"T\",\"EveryTick\")","v":11948},{"$f":"RTD(\"cqg.rtd\",,\"StudyData\", \"Vol(\"&$D$12&\") when LocalYear(\"&$D$12&\")=\"&$D$10&\" and localMonth(\"&$D$12&\") =\"&$E$10&\" and LocalDay(\"&$D$12&\")=\"&$F$10&\" and Barix(\"&$D$12&\",reference:=StartOfDay)=\"&A134&\"\", \"Bar\", \"\", \"Close\",\"A5C\",\"0\",\"All\",,,\"False\",\"T\",\"EveryTick\")","v":15266},{"$f":"IF(H134>(1+(MainDisplay!$O$24/100))*I134,H134,NA())","v":""}]
[230,{"$f":"Sheet3!B135","v":"12:10:00"},null,null,null,null,null,{"$f":"RTD(\"cqg.rtd\",,\"StudyData\", \"Vol(\"&$D$12&\") when LocalYear(\"&$D$12&\")=\"&$D$1&\" and localMonth(\"&$D$12&\") =\"&$E$1&\" and LocalDay(\"&$D$12&\")=\"&$F$1&\" and Barix(\"&$D$12&\",reference:=StartOfDay)=\"&A135&\"\", \"Bar\", \"\", \"Close\",\"A5C\",\"0\",\"All\",,,\"False\",\"T\",\"EveryTick\")","v":""},9628.3333333333339,{"$f":"RTD(\"cqg.rtd\",,\"StudyData\", \"Vol(\"&$D$12&\") when LocalYear(\"&$D$12&\")=\"&$D$2&\" and localMonth(\"&$D$12&\") =\"&$E$2&\" and LocalDay(\"&$D$12&\")=\"&$F$2&\" and Barix(\"&$D$12&\",reference:=StartOfDay)=\"&A135&\"\", \"Bar\", \"\", \"Close\",\"A5C\",\"0\",\"All\",,,\"False\",\"T\",\"EveryTick\")","v":4986},{"$f":"RTD(\"cqg.rtd\",,\"StudyData\", \"Vol(\"&$D$12&\") when LocalYear(\"&$D$12&\")=\"&$D$3&\" and localMonth(\"&$D$12&\") =\"&$E$3&\" and LocalDay(\"&$D$12&\")=\"&$F$3&\" and Barix(\"&$D$12&\",reference:=StartOfDay)=\"&A135&\"\", \"Bar\", \"\", \"Close\",\"A5C\",\"0\",\"All\",,,\"False\",\"T\",\"EveryTick\")","v":9882},{"$f":"RTD(\"cqg.rtd\",,\"StudyData\", \"Vol(\"&$D$12&\") when LocalYear(\"&$D$12&\")=\"&$D$4&\" and localMonth(\"&$D$12&\") =\"&$E$4&\" and LocalDay(\"&$D$12&\")=\"&$F$4&\" and Barix(\"&$D$12&\",reference:=StartOfDay)=\"&A135&\"\", \"Bar\", \"\", \"Close\",\"A5C\",\"0\",\"All\",,,\"False\",\"T\",\"EveryTick\")","v":5344},{"$f":"RTD(\"cqg.rtd\",,\"StudyData\", \"Vol(\"&$D$12&\") when LocalYear(\"&$D$12&\")=\"&$D$5&\" and localMonth(\"&$D$12&\") =\"&$E$5&\" and LocalDay(\"&$D$12&\")=\"&$F$5&\" and Barix(\"&$D$12&\",reference:=StartOfDay)=\"&A135&\"\", \"Bar\", \"\", \"Close\",\"A5C\",\"0\",\"All\",,,\"False\",\"T\",\"EveryTick\")","v":3777},{"$f":"RTD(\"cqg.rtd\",,\"StudyData\", \"Vol(\"&$D$12&\") when LocalYear(\"&$D$12&\")=\"&$D$6&\" and localMonth(\"&$D$12&\") =\"&$E$6&\" and LocalDay(\"&$D$12&\")=\"&$F$6&\" and Barix(\"&$D$12&\",reference:=StartOfDay)=\"&A135&\"\", \"Bar\", \"\", \"Close\",\"A5C\",\"0\",\"All\",,,\"False\",\"T\",\"EveryTick\")","v":15611},{"$f":"RTD(\"cqg.rtd\",,\"StudyData\", \"Vol(\"&$D$12&\") when LocalYear(\"&$D$12&\")=\"&$D$7&\" and localMonth(\"&$D$12&\") =\"&$E$7&\" and LocalDay(\"&$D$12&\")=\"&$F$7&\" and Barix(\"&$D$12&\",reference:=StartOfDay)=\"&A135&\"\", \"Bar\", \"\", \"Close\",\"A5C\",\"0\",\"All\",,,\"False\",\"T\",\"EveryTick\")","v":10324},{"$f":"RTD(\"cqg.rtd\",,\"StudyData\", \"Vol(\"&$D$12&\") when LocalYear(\"&$D$12&\")=\"&$D$8&\" and localMonth(\"&$D$12&\") =\"&$E$8&\" and LocalDay(\"&$D$12&\")=\"&$F$8&\" and Barix(\"&$D$12&\",reference:=StartOfDay)=\"&A135&\"\", \"Bar\", \"\", \"Close\",\"A5C\",\"0\",\"All\",,,\"False\",\"T\",\"EveryTick\")","v":11907},{"$f":"RTD(\"cqg.rtd\",,\"StudyData\", \"Vol(\"&$D$12&\") when LocalYear(\"&$D$12&\")=\"&$D$9&\" and localMonth(\"&$D$12&\") =\"&$E$9&\" and LocalDay(\"&$D$12&\")=\"&$F$9&\" and Barix(\"&$D$12&\",reference:=StartOfDay)=\"&A135&\"\", \"Bar\", \"\", \"Close\",\"A5C\",\"0\",\"All\",,,\"False\",\"T\",\"EveryTick\")","v":12129},{"$f":"RTD(\"cqg.rtd\",,\"StudyData\", \"Vol(\"&$D$12&\") when LocalYear(\"&$D$12&\")=\"&$D$10&\" and localMonth(\"&$D$12&\") =\"&$E$10&\" and LocalDay(\"&$D$12&\")=\"&$F$10&\" and Barix(\"&$D$12&\",reference:=StartOfDay)=\"&A135&\"\", \"Bar\", \"\", \"Close\",\"A5C\",\"0\",\"All\",,,\"False\",\"T\",\"EveryTick\")","v":12695},{"$f":"IF(H135>(1+(MainDisplay!$O$24/100))*I135,H135,NA())","v":""}]
[231,{"$f":"Sheet3!B136","v":"12:15:00"},null,null,null,null,null,{"$f":"RTD(\"cqg.rtd\",,\"StudyData\", \"Vol(\"&$D$12&\") when LocalYear(\"&$D$12&\")=\"&$D$1&\" and localMonth(\"&$D$12&\") =\"&$E$1&\" and LocalDay(\"&$D$12&\")=\"&$F$1&\" and Barix(\"&$D$12&\",reference:=StartOfDay)=\"&A136&\"\", \"Bar\", \"\", \"Close\",\"A5C\",\"0\",\"All\",,,\"False\",\"T\",\"EveryTick\")","v":""},10914.222222222223,{"$f":"RTD(\"cqg.rtd\",,\"StudyData\", \"Vol(\"&$D$12&\") when LocalYear(\"&$D$12&\")=\"&$D$2&\" and localMonth(\"&$D$12&\") =\"&$E$2&\" and LocalDay(\"&$D$12&\")=\"&$F$2&\" and Barix(\"&$D$12&\",reference:=StartOfDay)=\"&A136&\"\", \"Bar\", \"\", \"Close\",\"A5C\",\"0\",\"All\",,,\"False\",\"T\",\"EveryTick\")","v":4213},{"$f":"RTD(\"cqg.rtd\",,\"StudyData\", \"Vol(\"&$D$12&\") when LocalYear(\"&$D$12&\")=\"&$D$3&\" and localMonth(\"&$D$12&\") =\"&$E$3&\" and LocalDay(\"&$D$12&\")=\"&$F$3&\" and Barix(\"&$D$12&\",reference:=StartOfDay)=\"&A136&\"\", \"Bar\", \"\", \"Close\",\"A5C\",\"0\",\"All\",,,\"False\",\"T\",\"EveryTick\")","v":5801},{"$f":"RTD(\"cqg.rtd\",,\"StudyData\", \"Vol(\"&$D$12&\") when LocalYear(\"&$D$12&\")=\"&$D$4&\" and localMonth(\"&$D$12&\") =\"&$E$4&\" and LocalDay(\"&$D$12&\")=\"&$F$4&\" and Barix(\"&$D$12&\",reference:=StartOfDay)=\"&A136&\"\", \"Bar\", \"\", \"Close\",\"A5C\",\"0\",\"All\",,,\"False\",\"T\",\"EveryTick\")","v":22750},{"$f":"RTD(\"cqg.rtd\",,\"StudyData\", \"Vol(\"&$D$12&\") when LocalYear(\"&$D$12&\")=\"&$D$5&\" and localMonth(\"&$D$12&\") =\"&$E$5&\" and LocalDay(\"&$D$12&\")=\"&$F$5&\" and Barix(\"&$D$12&\",reference:=StartOfDay)=\"&A136&\"\", \"Bar\", \"\", \"Close\",\"A5C\",\"0\",\"All\",,,\"False\",\"T\",\"EveryTick\")","v":3775},{"$f":"RTD(\"cqg.rtd\",,\"StudyData\", \"Vol(\"&$D$12&\") when LocalYear(\"&$D$12&\")=\"&$D$6&\" and localMonth(\"&$D$12&\") =\"&$E$6&\" and LocalDay(\"&$D$12&\")=\"&$F$6&\" and Barix(\"&$D$12&\",reference:=StartOfDay)=\"&A136&\"\", \"Bar\", \"\", \"Close\",\"A5C\",\"0\",\"All\",,,\"False\",\"T\",\"EveryTick\")","v":14463},{"$f":"RTD(\"cqg.rtd\",,\"StudyData\", \"Vol(\"&$D$12&\") when LocalYear(\"&$D$12&\")=\"&$D$7&\" and localMonth(\"&$D$12&\") =\"&$E$7&\" and LocalDay(\"&$D$12&\")=\"&$F$7&\" and Barix(\"&$D$12&\",reference:=StartOfDay)=\"&A136&\"\", \"Bar\", \"\", \"Close\",\"A5C\",\"0\",\"All\",,,\"False\",\"T\",\"EveryTick\")","v":10461},{"$f":"RTD(\"cqg.rtd\",,\"StudyData\", \"Vol(\"&$D$12&\") when LocalYear(\"&$D$12&\")=\"&$D$8&\" and localMonth(\"&$D$12&\") =\"&$E$8&\" and LocalDay(\"&$D$12&\")=\"&$F$8&\" and Barix(\"&$D$12&\",reference:=StartOfDay)=\"&A136&\"\", \"Bar\", \"\", \"Close\",\"A5C\",\"0\",\"All\",,,\"False\",\"T\",\"EveryTick\")","v":8605},{"$f":"RTD(\"cqg.rtd\",,\"StudyData\", \"Vol(\"&$D$12&\") when LocalYear(\"&$D$12&\")=\"&$D$9&\" and localMonth(\"&$D$12&\") =\"&$E$9&\" and LocalDay(\"&$D$12&\")=\"&$F$9&\" and Barix(\"&$D$12&\",reference:=StartOfDay)=\"&A136&\"\", \"Bar\", \"\", \"Close\",\"A5C\",\"0\",\"All\",,,\"False\",\"T\",\"EveryTick\")","v":7523},{"$f":"RTD(\"cqg.rtd\",,\"StudyData\", \"Vol(\"&$D$12&\") when LocalYear(\"&$D$12&\")=\"&$D$10&\" and localMonth(\"&$D$12&\") =\"&$E$10&\" and LocalDay(\"&$D$12&\")=\"&$F$10&\" and Barix(\"&$D$12&\",reference:=StartOfDay)=\"&A136&\"\", \"Bar\", \"\", \"Close\",\"A5C\",\"0\",\"All\",,,\"False\",\"T\",\"EveryTick\")","v":20637},{"$f":"IF(H136>(1+(MainDisplay!$O$24/100))*I136,H136,NA())","v":""}]
[232,{"$f":"Sheet3!B137","v":"12:20:00"},null,null,null,null,null,{"$f":"RTD(\"cqg.rtd\",,\"StudyData\", \"Vol(\"&$D$12&\") when LocalYear(\"&$D$12&\")=\"&$D$1&\" and localMonth(\"&$D$12&\") =\"&$E$1&\" and LocalDay(\"&$D$12&\")=\"&$F$1&\" and Barix(\"&$D$12&\",reference:=StartOfDay)=\"&A137&\"\", \"Bar\", \"\", \"Close\",\"A5C\",\"0\",\"All\",,,\"False\",\"T\",\"EveryTick\")","v":""},10165.222222222223,{"$f":"RTD(\"cqg.rtd\",,\"StudyData\", \"Vol(\"&$D$12&\") when LocalYear(\"&$D$12&\")=\"&$D$2&\" and localMonth(\"&$D$12&\") =\"&$E$2&\" and LocalDay(\"&$D$12&\")=\"&$F$2&\" and Barix(\"&$D$12&\",reference:=StartOfDay)=\"&A137&\"\", \"Bar\", \"\", \"Close\",\"A5C\",\"0\",\"All\",,,\"False\",\"T\",\"EveryTick\")","v":6495},{"$f":"RTD(\"cqg.rtd\",,\"StudyData\", \"Vol(\"&$D$12&\") when LocalYear(\"&$D$12&\")=\"&$D$3&\" and localMonth(\"&$D$12&\") =\"&$E$3&\" and LocalDay(\"&$D$12&\")=\"&$F$3&\" and Barix(\"&$D$12&\",reference:=StartOfDay)=\"&A137&\"\", \"Bar\", \"\", \"Close\",\"A5C\",\"0\",\"All\",,,\"False\",\"T\",\"EveryTick\")","v":13861},{"$f":"RTD(\"cqg.rtd\",,\"StudyData\", \"Vol(\"&$D$12&\") when LocalYear(\"&$D$12&\")=\"&$D$4&\" and localMonth(\"&$D$12&\") =\"&$E$4&\" and LocalDay(\"&$D$12&\")=\"&$F$4&\" and Barix(\"&$D$12&\",reference:=StartOfDay)=\"&A137&\"\", \"Bar\", \"\", \"Close\",\"A5C\",\"0\",\"All\",,,\"False\",\"T\",\"EveryTick\")","v":9218},{"$f":"RTD(\"cqg.rtd\",,\"StudyData\", \"Vol(\"&$D$12&\") when LocalYear(\"&$D$12&\")=\"&$D$5&\" and localMonth(\"&$D$12&\") =\"&$E$5&\" and LocalDay(\"&$D$12&\")=\"&$F$5&\" and Barix(\"&$D$12&\",reference:=StartOfDay)=\"&A137&\"\", \"Bar\", \"\", \"Close\",\"A5C\",\"0\",\"All\",,,\"False\",\"T\",\"EveryTick\")","v":4222},{"$f":"RTD(\"cqg.rtd\",,\"StudyData\", \"Vol(\"&$D$12&\") when LocalYear(\"&$D$12&\")=\"&$D$6&\" and localMonth(\"&$D$12&\") =\"&$E$6&\" and LocalDay(\"&$D$12&\")=\"&$F$6&\" and Barix(\"&$D$12&\",reference:=StartOfDay)=\"&A137&\"\", \"Bar\", \"\", \"Close\",\"A5C\",\"0\",\"All\",,,\"False\",\"T\",\"EveryTick\")","v":19335},{"$f":"RTD(\"cqg.rtd\",,\"StudyData\", \"Vol(\"&$D$12&\") when LocalYear(\"&$D$12&\")=\"&$D$7&\" and localMonth(\"&$D$12&\") =\"&$E$7&\" and LocalDay(\"&$D$12&\")=\"&$F$7&\" and Barix(\"&$D$12&\",reference:=StartOfDay)=\"&A137&\"\", \"Bar\", \"\", \"Close\",\"A5C\",\"0\",\"All\",,,\"False\",\"T\",\"EveryTick\")","v":3972},{"$f":"RTD(\"cqg.rtd\",,\"StudyData\", \"Vol(\"&$D$12&\") when LocalYear(\"&$D$12&\")=\"&$D$8&\" and localMonth(\"&$D$12&\") =\"&$E$8&\" and LocalDay(\"&$D$12&\")=\"&$F$8&\" and Barix(\"&$D$12&\",reference:=StartOfDay)=\"&A137&\"\", \"Bar\", \"\", \"Close\",\"A5C\",\"0\",\"All\",,,\"False\",\"T\",\"EveryTick\")","v":9670},{"$f":"RTD(\"cqg.rtd\",,\"StudyData\", \"Vol(\"&$D$12&\") when LocalYear(\"&$D$12&\")=\"&$D$9&\" and localMonth(\"&$D$12&\") =\"&$E$9&\" and LocalDay(\"&$D$12&\")=\"&$F$9&\" and Barix(\"&$D$12&\",reference:=StartOfDay)=\"&A137&\"\", \"Bar\", \"\", \"Close\",\"A5C\",\"0\",\"All\",,,\"False\",\"T\",\"EveryTick\")","v":8603},{"$f":"RTD(\"cqg.rtd\",,\"StudyData\", \"Vol(\"&$D$12&\") when LocalYear(\"&$D$12&\")=\"&$D$10&\" and localMonth(\"&$D$12&\") =\"&$E$10&\" and LocalDay(\"&$D$12&\")=\"&$F$10&\" and Barix(\"&$D$12&\",reference:=StartOfDay)=\"&A137&\"\", \"Bar\", \"\", \"Close\",\"A5C\",\"0\",\"All\",,,\"False\",\"T\",\"EveryTick\")","v":16111},{"$f":"IF(H137>(1+(MainDisplay!$O$24/100))*I137,H137,NA())","v":""}]
[233,{"$f":"Sheet3!B138","v":"12:25:00"},null,null,null,null,null,{"$f":"RTD(\"cqg.rtd\",,\"StudyData\", \"Vol(\"&$D$12&\") when LocalYear(\"&$D$12&\")=\"&$D$1&\" and localMonth(\"&$D$12&\") =\"&$E$1&\" and LocalDay(\"&$D$12&\")=\"&$F$1&\" and Barix(\"&$D$12&\",reference:=StartOfDay)=\"&A138&\"\", \"Bar\", \"\", \"Close\",\"A5C\",\"0\",\"All\",,,\"False\",\"T\",\"EveryTick\")","v":""},9071.5555555555547,{"$f":"RTD(\"cqg.rtd\",,\"StudyData\", \"Vol(\"&$D$12&\") when LocalYear(\"&$D$12&\")=\"&$D$2&\" and localMonth(\"&$D$12&\") =\"&$E$2&\" and LocalDay(\"&$D$12&\")=\"&$F$2&\" and Barix(\"&$D$12&\",reference:=StartOfDay)=\"&A138&\"\", \"Bar\", \"\", \"Close\",\"A5C\",\"0\",\"All\",,,\"False\",\"T\",\"EveryTick\")","v":7135},{"$f":"RTD(\"cqg.rtd\",,\"StudyData\", \"Vol(\"&$D$12&\") when LocalYear(\"&$D$12&\")=\"&$D$3&\" and localMonth(\"&$D$12&\") =\"&$E$3&\" and LocalDay(\"&$D$12&\")=\"&$F$3&\" and Barix(\"&$D$12&\",reference:=StartOfDay)=\"&A138&\"\", \"Bar\", \"\", \"Close\",\"A5C\",\"0\",\"All\",,,\"False\",\"T\",\"EveryTick\")","v":13123},{"$f":"RTD(\"cqg.rtd\",,\"StudyData\", \"Vol(\"&$D$12&\") when LocalYear(\"&$D$12&\")=\"&$D$4&\" and localMonth(\"&$D$12&\") =\"&$E$4&\" and LocalDay(\"&$D$12&\")=\"&$F$4&\" and Barix(\"&$D$12&\",reference:=StartOfDay)=\"&A138&\"\", \"Bar\", \"\", \"Close\",\"A5C\",\"0\",\"All\",,,\"False\",\"T\",\"EveryTick\")","v":7030},{"$f":"RTD(\"cqg.rtd\",,\"StudyData\", \"Vol(\"&$D$12&\") when LocalYear(\"&$D$12&\")=\"&$D$5&\" and localMonth(\"&$D$12&\") =\"&$E$5&\" and LocalDay(\"&$D$12&\")=\"&$F$5&\" and Barix(\"&$D$12&\",reference:=StartOfDay)=\"&A138&\"\", \"Bar\", \"\", \"Close\",\"A5C\",\"0\",\"All\",,,\"False\",\"T\",\"EveryTick\")","v":4935},{"$f":"RTD(\"cqg.rtd\",,\"StudyData\", \"Vol(\"&$D$12&\") when LocalYear(\"&$D$12&\")=\"&$D$6&\" and localMonth(\"&$D$12&\") =\"&$E$6&\" and LocalDay(\"&$D$12&\")=\"&$F$6&\" and Barix(\"&$D$12&\",reference:=StartOfDay)=\"&A138&\"\", \"Bar\", \"\", \"Close\",\"A5C\",\"0\",\"All\",,,\"False\",\"T\",\"EveryTick\")","v":14084},{"$f":"RTD(\"cqg.rtd\",,\"StudyData\", \"Vol(\"&$D$12&\") when LocalYear(\"&$D$12&\")=\"&$D$7&\" and localMonth(\"&$D$12&\") =\"&$E$7&\" and LocalDay(\"&$D$12&\")=\"&$F$7&\" and Barix(\"&$D$12&\",reference:=StartOfDay)=\"&A138&\"\", \"Bar\", \"\", \"Close\",\"A5C\",\"0\",\"All\",,,\"False\",\"T\",\"EveryTick\")","v":4608},{"$f":"RTD(\"cqg.rtd\",,\"StudyData\", \"Vol(\"&$D$12&\") when LocalYear(\"&$D$12&\")=\"&$D$8&\" and localMonth(\"&$D$12&\") =\"&$E$8&\" and LocalDay(\"&$D$12&\")=\"&$F$8&\" and Barix(\"&$D$12&\",reference:=StartOfDay)=\"&A138&\"\", \"Bar\", \"\", \"Close\",\"A5C\",\"0\",\"All\",,,\"False\",\"T\",\"EveryTick\")","v":9566},{"$f":"RTD(\"cqg.rtd\",,\"StudyData\", \"Vol(\"&$D$12&\") when LocalYear(\"&$D$12&\")=\"&$D$9&\" and localMonth(\"&$D$12&\") =\"&$E$9&\" and LocalDay(\"&$D$12&\")=\"&$F$9&\" and Barix(\"&$D$12&\",reference:=StartOfDay)=\"&A138&\"\", \"Bar\", \"\", \"Close\",\"A5C\",\"0\",\"All\",,,\"False\",\"T\",\"EveryTick\")","v":6700},{"$f":"RTD(\"cqg.rtd\",,\"StudyData\", \"Vol(\"&$D$12&\") when LocalYear(\"&$D$12&\")=\"&$D$10&\" and localMonth(\"&$D$12&\") =\"&$E$10&\" and LocalDay(\"&$D$12&\")=\"&$F$10&\" and Barix(\"&$D$12&\",reference:=StartOfDay)=\"&A138&\"\", \"Bar\", \"\", \"Close\",\"A5C\",\"0\",\"All\",,,\"False\",\"T\",\"EveryTick\")","v":14463},{"$f":"IF(H138>(1+(MainDisplay!$O$24/100))*I138,H138,NA())","v":""}]
[234,{"$f":"Sheet3!B139","v":"12:30:00"},null,null,null,null,null,{"$f":"RTD(\"cqg.rtd\",,\"StudyData\", \"Vol(\"&$D$12&\") when LocalYear(\"&$D$12&\")=\"&$D$1&\" and localMonth(\"&$D$12&\") =\"&$E$1&\" and LocalDay(\"&$D$12&\")=\"&$F$1&\" and Barix(\"&$D$12&\",reference:=StartOfDay)=\"&A139&\"\", \"Bar\", \"\", \"Close\",\"A5C\",\"0\",\"All\",,,\"False\",\"T\",\"EveryTick\")","v":""},11870.777777777777,{"$f":"RTD(\"cqg.rtd\",,\"StudyData\", \"Vol(\"&$D$12&\") when LocalYear(\"&$D$12&\")=\"&$D$2&\" and localMonth(\"&$D$12&\") =\"&$E$2&\" and LocalDay(\"&$D$12&\")=\"&$F$2&\" and Barix(\"&$D$12&\",reference:=StartOfDay)=\"&A139&\"\", \"Bar\", \"\", \"Close\",\"A5C\",\"0\",\"All\",,,\"False\",\"T\",\"EveryTick\")","v":5407},{"$f":"RTD(\"cqg.rtd\",,\"StudyData\", \"Vol(\"&$D$12&\") when LocalYear(\"&$D$12&\")=\"&$D$3&\" and localMonth(\"&$D$12&\") =\"&$E$3&\" and LocalDay(\"&$D$12&\")=\"&$F$3&\" and Barix(\"&$D$12&\",reference:=StartOfDay)=\"&A139&\"\", \"Bar\", \"\", \"Close\",\"A5C\",\"0\",\"All\",,,\"False\",\"T\",\"EveryTick\")","v":10246},{"$f":"RTD(\"cqg.rtd\",,\"StudyData\", \"Vol(\"&$D$12&\") when LocalYear(\"&$D$12&\")=\"&$D$4&\" and localMonth(\"&$D$12&\") =\"&$E$4&\" and LocalDay(\"&$D$12&\")=\"&$F$4&\" and Barix(\"&$D$12&\",reference:=StartOfDay)=\"&A139&\"\", \"Bar\", \"\", \"Close\",\"A5C\",\"0\",\"All\",,,\"False\",\"T\",\"EveryTick\")","v":7767},{"$f":"RTD(\"cqg.rtd\",,\"StudyData\", \"Vol(\"&$D$12&\") when LocalYear(\"&$D$12&\")=\"&$D$5&\" and localMonth(\"&$D$12&\") =\"&$E$5&\" and LocalDay(\"&$D$12&\")=\"&$F$5&\" and Barix(\"&$D$12&\",reference:=StartOfDay)=\"&A139&\"\", \"Bar\", \"\", \"Close\",\"A5C\",\"0\",\"All\",,,\"False\",\"T\",\"EveryTick\")","v":8444},{"$f":"RTD(\"cqg.rtd\",,\"StudyData\", \"Vol(\"&$D$12&\") when LocalYear(\"&$D$12&\")=\"&$D$6&\" and localMonth(\"&$D$12&\") =\"&$E$6&\" and LocalDay(\"&$D$12&\")=\"&$F$6&\" and Barix(\"&$D$12&\",reference:=StartOfDay)=\"&A139&\"\", \"Bar\", \"\", \"Close\",\"A5C\",\"0\",\"All\",,,\"False\",\"T\",\"EveryTick\")","v":27477},{"$f":"RTD(\"cqg.rtd\",,\"StudyData\", \"Vol(\"&$D$12&\") when LocalYear(\"&$D$12&\")=\"&$D$7&\" and localMonth(\"&$D$12&\") =\"&$E$7&\" and LocalDay(\"&$D$12&\")=\"&$F$7&\" and Barix(\"&$D$12&\",reference:=StartOfDay)=\"&A139&\"\", \"Bar\", \"\", \"Close\",\"A5C\",\"0\",\"All\",,,\"False\",\"T\",\"EveryTick\")","v":9692},{"$f":"RTD(\"cqg.rtd\",,\"StudyData\", \"Vol(\"&$D$12&\") when LocalYear(\"&$D$12&\")=\"&$D$8&\" and localMonth(\"&$D$12&\") =\"&$E$8&\" and LocalDay(\"&$D$12&\")=\"&$F$8&\" and Barix(\"&$D$12&\",reference:=StartOfDay)=\"&A139&\"\", \"Bar\", \"\", \"Close\",\"A5C\",\"0\",\"All\",,,\"False\",\"T\",\"EveryTick\")","v":13535},{"$f":"RTD(\"cqg.rtd\",,\"StudyData\", \"Vol(\"&$D$12&\") when LocalYear(\"&$D$12&\")=\"&$D$9&\" and localMonth(\"&$D$12&\") =\"&$E$9&\" and LocalDay(\"&$D$12&\")=\"&$F$9&\" and Barix(\"&$D$12&\",reference:=StartOfDay)=\"&A139&\"\", \"Bar\", \"\", \"Close\",\"A5C\",\"0\",\"All\",,,\"False\",\"T\",\"EveryTick\")","v":10390},{"$f":"RTD(\"cqg.rtd\",,\"StudyData\", \"Vol(\"&$D$12&\") when LocalYear(\"&$D$12&\")=\"&$D$10&\" and localMonth(\"&$D$12&\") =\"&$E$10&\" and LocalDay(\"&$D$12&\")=\"&$F$10&\" and Barix(\"&$D$12&\",reference:=StartOfDay)=\"&A139&\"\", \"Bar\", \"\", \"Close\",\"A5C\",\"0\",\"All\",,,\"False\",\"T\",\"EveryTick\")","v":13879},{"$f":"IF(H139>(1+(MainDisplay!$O$24/100))*I139,H139,NA())","v":""}]
[235,{"$f":"Sheet3!B140","v":"12:35:00"},null,null,null,null,null,{"$f":"RTD(\"cqg.rtd\",,\"StudyData\", \"Vol(\"&$D$12&\") when LocalYear(\"&$D$12&\")=\"&$D$1&\" and localMonth(\"&$D$12&\") =\"&$E$1&\" and LocalDay(\"&$D$12&\")=\"&$F$1&\" and Barix(\"&$D$12&\",reference:=StartOfDay)=\"&A140&\"\", \"Bar\", \"\", \"Close\",\"A5C\",\"0\",\"All\",,,\"False\",\"T\",\"EveryTick\")","v":""},10516.333333333334,{"$f":"RTD(\"cqg.rtd\",,\"StudyData\", \"Vol(\"&$D$12&\") when LocalYear(\"&$D$12&\")=\"&$D$2&\" and localMonth(\"&$D$12&\") =\"&$E$2&\" and LocalDay(\"&$D$12&\")=\"&$F$2&\" and Barix(\"&$D$12&\",reference:=StartOfDay)=\"&A140&\"\", \"Bar\", \"\", \"Close\",\"A5C\",\"0\",\"All\",,,\"False\",\"T\",\"EveryTick\")","v":4176},{"$f":"RTD(\"cqg.rtd\",,\"StudyData\", \"Vol(\"&$D$12&\") when LocalYear(\"&$D$12&\")=\"&$D$3&\" and localMonth(\"&$D$12&\") =\"&$E$3&\" and LocalDay(\"&$D$12&\")=\"&$F$3&\" and Barix(\"&$D$12&\",reference:=StartOfDay)=\"&A140&\"\", \"Bar\", \"\", \"Close\",\"A5C\",\"0\",\"All\",,,\"False\",\"T\",\"EveryTick\")","v":10358},{"$f":"RTD(\"cqg.rtd\",,\"StudyData\", \"Vol(\"&$D$12&\") when LocalYear(\"&$D$12&\")=\"&$D$4&\" and localMonth(\"&$D$12&\") =\"&$E$4&\" and LocalDay(\"&$D$12&\")=\"&$F$4&\" and Barix(\"&$D$12&\",reference:=StartOfDay)=\"&A140&\"\", \"Bar\", \"\", \"Close\",\"A5C\",\"0\",\"All\",,,\"False\",\"T\",\"EveryTick\")","v":6237},{"$f":"RTD(\"cqg.rtd\",,\"StudyData\", \"Vol(\"&$D$12&\") when LocalYear(\"&$D$12&\")=\"&$D$5&\" and localMonth(\"&$D$12&\") =\"&$E$5&\" and LocalDay(\"&$D$12&\")=\"&$F$5&\" and Barix(\"&$D$12&\",reference:=StartOfDay)=\"&A140&\"\", \"Bar\", \"\", \"Close\",\"A5C\",\"0\",\"All\",,,\"False\",\"T\",\"EveryTick\")","v":5913},{"$f":"RTD(\"cqg.rtd\",,\"StudyData\", \"Vol(\"&$D$12&\") when LocalYear(\"&$D$12&\")=\"&$D$6&\" and localMonth(\"&$D$12&\") =\"&$E$6&\" and LocalDay(\"&$D$12&\")=\"&$F$6&\" and Barix(\"&$D$12&\",reference:=StartOfDay)=\"&A140&\"\", \"Bar\", \"\", \"Close\",\"A5C\",\"0\",\"All\",,,\"False\",\"T\",\"EveryTick\")","v":23740},{"$f":"RTD(\"cqg.rtd\",,\"StudyData\", \"Vol(\"&$D$12&\") when LocalYear(\"&$D$12&\")=\"&$D$7&\" and localMonth(\"&$D$12&\") =\"&$E$7&\" and LocalDay(\"&$D$12&\")=\"&$F$7&\" and Barix(\"&$D$12&\",reference:=StartOfDay)=\"&A140&\"\", \"Bar\", \"\", \"Close\",\"A5C\",\"0\",\"All\",,,\"False\",\"T\",\"EveryTick\")","v":7254},{"$f":"RTD(\"cqg.rtd\",,\"StudyData\", \"Vol(\"&$D$12&\") when LocalYear(\"&$D$12&\")=\"&$D$8&\" and localMonth(\"&$D$12&\") =\"&$E$8&\" and LocalDay(\"&$D$12&\")=\"&$F$8&\" and Barix(\"&$D$12&\",reference:=StartOfDay)=\"&A140&\"\", \"Bar\", \"\", \"Close\",\"A5C\",\"0\",\"All\",,,\"False\",\"T\",\"EveryTick\")","v":9186},{"$f":"RTD(\"cqg.rtd\",,\"StudyData\", \"Vol(\"&$D$12&\") when LocalYear(\"&$D$12&\")=\"&$D$9&\" and localMonth(\"&$D$12&\") =\"&$E$9&\" and LocalDay(\"&$D$12&\")=\"&$F$9&\" and Barix(\"&$D$12&\",reference:=StartOfDay)=\"&A140&\"\", \"Bar\", \"\", \"Close\",\"A5C\",\"0\",\"All\",,,\"False\",\"T\",\"EveryTick\")","v":9452},{"$f":"RTD(\"cqg.rtd\",,\"StudyData\", \"Vol(\"&$D$12&\") when LocalYear(\"&$D$12&\")=\"&$D$10&\" and localMonth(\"&$D$12&\") =\"&$E$10&\" and LocalDay(\"&$D$12&\")=\"&$F$10&\" and Barix(\"&$D$12&\",reference:=StartOfDay)=\"&A140&\"\", \"Bar\", \"\", \"Close\",\"A5C\",\"0\",\"All\",,,\"False\",\"T\",\"EveryTick\")","v":18331},{"$f":"IF(H140>(1+(MainDisplay!$O$24/100))*I140,H140,NA())","v":""}]
[236,{"$f":"Sheet3!B141","v":"12:40:00"},null,null,null,null,null,{"$f":"RTD(\"cqg.rtd\",,\"StudyData\", \"Vol(\"&$D$12&\") when LocalYear(\"&$D$12&\")=\"&$D$1&\" and localMonth(\"&$D$12&\") =\"&$E$1&\" and LocalDay(\"&$D$12&\")=\"&$F$1&\" and Barix(\"&$D$12&\",reference:=StartOfDay)=\"&A141&\"\", \"Bar\", \"\", \"Close\",\"A5C\",\"0\",\"All\",,,\"False\",\"T\",\"EveryTick\")","v":""},8782.3333333333339,{"$f":"RTD(\"cqg.rtd\",,\"StudyData\", \"Vol(\"&$D$12&\") when LocalYear(\"&$D$12&\")=\"&$D$2&\" and localMonth(\"&$D$12&\") =\"&$E$2&\" and LocalDay(\"&$D$12&\")=\"&$F$2&\" and Barix(\"&$D$12&\",reference:=StartOfDay)=\"&A141&\"\", \"Bar\", \"\", \"Close\",\"A5C\",\"0\",\"All\",,,\"False\",\"T\",\"EveryTick\")","v":7394},{"$f":"RTD(\"cqg.rtd\",,\"StudyData\", \"Vol(\"&$D$12&\") when LocalYear(\"&$D$12&\")=\"&$D$3&\" and localMonth(\"&$D$12&\") =\"&$E$3&\" and LocalDay(\"&$D$12&\")=\"&$F$3&\" and Barix(\"&$D$12&\",reference:=StartOfDay)=\"&A141&\"\", \"Bar\", \"\", \"Close\",\"A5C\",\"0\",\"All\",,,\"False\",\"T\",\"EveryTick\")","v":7623},{"$f":"RTD(\"cqg.rtd\",,\"StudyData\", \"Vol(\"&$D$12&\") when LocalYear(\"&$D$12&\")=\"&$D$4&\" and localMonth(\"&$D$12&\") =\"&$E$4&\" and LocalDay(\"&$D$12&\")=\"&$F$4&\" and Barix(\"&$D$12&\",reference:=StartOfDay)=\"&A141&\"\", \"Bar\", \"\", \"Close\",\"A5C\",\"0\",\"All\",,,\"False\",\"T\",\"EveryTick\")","v":5010},{"$f":"RTD(\"cqg.rtd\",,\"StudyData\", \"Vol(\"&$D$12&\") when LocalYear(\"&$D$12&\")=\"&$D$5&\" and localMonth(\"&$D$12&\") =\"&$E$5&\" and LocalDay(\"&$D$12&\")=\"&$F$5&\" and Barix(\"&$D$12&\",reference:=StartOfDay)=\"&A141&\"\", \"Bar\", \"\", \"Close\",\"A5C\",\"0\",\"All\",,,\"False\",\"T\",\"EveryTick\")","v":3777},{"$f":"RTD(\"cqg.rtd\",,\"StudyData\", \"Vol(\"&$D$12&\") when LocalYear(\"&$D$12&\")=\"&$D$6&\" and localMonth(\"&$D$12&\") =\"&$E$6&\" and LocalDay(\"&$D$12&\")=\"&$F$6&\" and Barix(\"&$D$12&\",reference:=StartOfDay)=\"&A141&\"\", \"Bar\", \"\", \"Close\",\"A5C\",\"0\",\"All\",,,\"False\",\"T\",\"EveryTick\")","v":14673},{"$f":"RTD(\"cqg.rtd\",,\"StudyData\", \"Vol(\"&$D$12&\") when LocalYear(\"&$D$12&\")=\"&$D$7&\" and localMonth(\"&$D$12&\") =\"&$E$7&\" and LocalDay(\"&$D$12&\")=\"&$F$7&\" and Barix(\"&$D$12&\",reference:=StartOfDay)=\"&A141&\"\", \"Bar\", \"\", \"Close\",\"A5C\",\"0\",\"All\",,,\"False\",\"T\",\"EveryTick\")","v":9960},{"$f":"RTD(\"cqg.rtd\",,\"StudyData\", \"Vol(\"&$D$12&\") when LocalYear(\"&$D$12&\")=\"&$D$8&\" and localMonth(\"&$D$12&\") =\"&$E$8&\" and LocalDay(\"&$D$12&\")=\"&$F$8&\" and Barix(\"&$D$12&\",reference:=StartOfDay)=\"&A141&\"\", \"Bar\", \"\", \"Close\",\"A5C\",\"0\",\"All\",,,\"False\",\"T\",\"EveryTick\")","v":8023},{"$f":"RTD(\"cqg.rtd\",,\"StudyData\", \"Vol(\"&$D$12&\") when LocalYear(\"&$D$12&\")=\"&$D$9&\" and localMonth(\"&$D$12&\") =\"&$E$9&\" and LocalDay(\"&$D$12&\")=\"&$F$9&\" and Barix(\"&$D$12&\",reference:=StartOfDay)=\"&A141&\"\", \"Bar\", \"\", \"Close\",\"A5C\",\"0\",\"All\",,,\"False\",\"T\",\"EveryTick\")","v":8882},{"$f":"RTD(\"cqg.rtd\",,\"StudyData\", \"Vol(\"&$D$12&\") when LocalYear(\"&$D$12&\")=\"&$D$10&\" and localMonth(\"&$D$12&\") =\"&$E$10&\" and LocalDay(\"&$D$12&\")=\"&$F$10&\" and Barix(\"&$D$12&\",reference:=StartOfDay)=\"&A141&\"\", \"Bar\", \"\", \"Close\",\"A5C\",\"0\",\"All\",,,\"False\",\"T\",\"EveryTick\")","v":13699},{"$f":"IF(H141>(1+(MainDisplay!$O$24/100))*I141,H141,NA())","v":""}]
[{"$f":"A141+1","v":237},{"$f":"Sheet3!B142","v":"12:45:00"},null,null,null,null,null,{"$f":"RTD(\"cqg.rtd\",,\"StudyData\", \"Vol(\"&$D$12&\") when LocalYear(\"&$D$12&\")=\"&$D$1&\" and localMonth(\"&$D$12&\") =\"&$E$1&\" and LocalDay(\"&$D$12&\")=\"&$F$1&\" and Barix(\"&$D$12&\",reference:=StartOfDay)=\"&A142&\"\", \"Bar\", \"\", \"Close\",\"A5C\",\"0\",\"All\",,,\"False\",\"T\",\"EveryTick\")","v":""},{"$f":"AVERAGE(J142:R142)","v":12672.777777777777},{"$f":"RTD(\"cqg.rtd\",,\"StudyData\", \"Vol(\"&$D$12&\") when LocalYear(\"&$D$12&\")=\"&$D$2&\" and localMonth(\"&$D$12&\") =\"&$E$2&\" and LocalDay(\"&$D$12&\")=\"&$F$2&\" and Barix(\"&$D$12&\",reference:=StartOfDay)=\"&A142&\"\", \"Bar\", \"\", \"Close\",\"A5C\",\"0\",\"All\",,,\"False\",\"T\",\"EveryTick\")","v":12459},{"$f":"RTD(\"cqg.rtd\",,\"StudyData\", \"Vol(\"&$D$12&\") when LocalYear(\"&$D$12&\")=\"&$D$3&\" and localMonth(\"&$D$12&\") =\"&$E$3&\" and LocalDay(\"&$D$12&\")=\"&$F$3&\" and Barix(\"&$D$12&\",reference:=StartOfDay)=\"&A142&\"\", \"Bar\", \"\", \"Close\",\"A5C\",\"0\",\"All\",,,\"False\",\"T\",\"EveryTick\")","v":17268},{"$f":"RTD(\"cqg.rtd\",,\"StudyData\", \"Vol(\"&$D$12&\") when LocalYear(\"&$D$12&\")=\"&$D$4&\" and localMonth(\"&$D$12&\") =\"&$E$4&\" and LocalDay(\"&$D$12&\")=\"&$F$4&\" and Barix(\"&$D$12&\",reference:=StartOfDay)=\"&A142&\"\", \"Bar\", \"\", \"Close\",\"A5C\",\"0\",\"All\",,,\"False\",\"T\",\"EveryTick\")","v":5530},{"$f":"RTD(\"cqg.rtd\",,\"StudyData\", \"Vol(\"&$D$12&\") when LocalYear(\"&$D$12&\")=\"&$D$5&\" and localMonth(\"&$D$12&\") =\"&$E$5&\" and LocalDay(\"&$D$12&\")=\"&$F$5&\" and Barix(\"&$D$12&\",reference:=StartOfDay)=\"&A142&\"\", \"Bar\", \"\", \"Close\",\"A5C\",\"0\",\"All\",,,\"False\",\"T\",\"EveryTick\")","v":4805},{"$f":"RTD(\"cqg.rtd\",,\"StudyData\", \"Vol(\"&$D$12&\") when LocalYear(\"&$D$12&\")=\"&$D$6&\" and localMonth(\"&$D$12&\") =\"&$E$6&\" and LocalDay(\"&$D$12&\")=\"&$F$6&\" and Barix(\"&$D$12&\",reference:=StartOfDay)=\"&A142&\"\", \"Bar\", \"\", \"Close\",\"A5C\",\"0\",\"All\",,,\"False\",\"T\",\"EveryTick\")","v":15207},{"$f":"RTD(\"cqg.rtd\",,\"StudyData\", \"Vol(\"&$D$12&\") when LocalYear(\"&$D$12&\")=\"&$D$7&\" and localMonth(\"&$D$12&\") =\"&$E$7&\" and LocalDay(\"&$D$12&\")=\"&$F$7&\" and Barix(\"&$D$12&\",reference:=StartOfDay)=\"&A142&\"\", \"Bar\", \"\", \"Close\",\"A5C\",\"0\",\"All\",,,\"False\",\"T\",\"EveryTick\")","v":9005},{"$f":"RTD(\"cqg.rtd\",,\"StudyData\", \"Vol(\"&$D$12&\") when LocalYear(\"&$D$12&\")=\"&$D$8&\" and localMonth(\"&$D$12&\") =\"&$E$8&\" and LocalDay(\"&$D$12&\")=\"&$F$8&\" and Barix(\"&$D$12&\",reference:=StartOfDay)=\"&A142&\"\", \"Bar\", \"\", \"Close\",\"A5C\",\"0\",\"All\",,,\"False\",\"T\",\"EveryTick\")","v":10964},{"$f":"RTD(\"cqg.rtd\",,\"StudyData\", \"Vol(\"&$D$12&\") when LocalYear(\"&$D$12&\")=\"&$D$9&\" and localMonth(\"&$D$12&\") =\"&$E$9&\" and LocalDay(\"&$D$12&\")=\"&$F$9&\" and Barix(\"&$D$12&\",reference:=StartOfDay)=\"&A142&\"\", \"Bar\", \"\", \"Close\",\"A5C\",\"0\",\"All\",,,\"False\",\"T\",\"EveryTick\")","v":25378},{"$f":"RTD(\"cqg.rtd\",,\"StudyData\", \"Vol(\"&$D$12&\") when LocalYear(\"&$D$12&\")=\"&$D$10&\" and localMonth(\"&$D$12&\") =\"&$E$10&\" and LocalDay(\"&$D$12&\")=\"&$F$10&\" and Barix(\"&$D$12&\",reference:=StartOfDay)=\"&A142&\"\", \"Bar\", \"\", \"Close\",\"A5C\",\"0\",\"All\",,,\"False\",\"T\",\"EveryTick\")","v":13439},{"$f":"IF(H142>(1+(MainDisplay!$O$24/100))*I142,H142,NA())","v":""}]
[238,{"$f":"Sheet3!B143","v":"12:50:00"},null,null,null,null,null,{"$f":"RTD(\"cqg.rtd\",,\"StudyData\", \"Vol(\"&$D$12&\") when LocalYear(\"&$D$12&\")=\"&$D$1&\" and localMonth(\"&$D$12&\") =\"&$E$1&\" and LocalDay(\"&$D$12&\")=\"&$F$1&\" and Barix(\"&$D$12&\",reference:=StartOfDay)=\"&A143&\"\", \"Bar\", \"\", \"Close\",\"A5C\",\"0\",\"All\",,,\"False\",\"T\",\"EveryTick\")","v":""},12527.888888888889,{"$f":"RTD(\"cqg.rtd\",,\"StudyData\", \"Vol(\"&$D$12&\") when LocalYear(\"&$D$12&\")=\"&$D$2&\" and localMonth(\"&$D$12&\") =\"&$E$2&\" and LocalDay(\"&$D$12&\")=\"&$F$2&\" and Barix(\"&$D$12&\",reference:=StartOfDay)=\"&A143&\"\", \"Bar\", \"\", \"Close\",\"A5C\",\"0\",\"All\",,,\"False\",\"T\",\"EveryTick\")","v":12187},{"$f":"RTD(\"cqg.rtd\",,\"StudyData\", \"Vol(\"&$D$12&\") when LocalYear(\"&$D$12&\")=\"&$D$3&\" and localMonth(\"&$D$12&\") =\"&$E$3&\" and LocalDay(\"&$D$12&\")=\"&$F$3&\" and Barix(\"&$D$12&\",reference:=StartOfDay)=\"&A143&\"\", \"Bar\", \"\", \"Close\",\"A5C\",\"0\",\"All\",,,\"False\",\"T\",\"EveryTick\")","v":10002},{"$f":"RTD(\"cqg.rtd\",,\"StudyData\", \"Vol(\"&$D$12&\") when LocalYear(\"&$D$12&\")=\"&$D$4&\" and localMonth(\"&$D$12&\") =\"&$E$4&\" and LocalDay(\"&$D$12&\")=\"&$F$4&\" and Barix(\"&$D$12&\",reference:=StartOfDay)=\"&A143&\"\", \"Bar\", \"\", \"Close\",\"A5C\",\"0\",\"All\",,,\"False\",\"T\",\"EveryTick\")","v":4313},{"$f":"RTD(\"cqg.rtd\",,\"StudyData\", \"Vol(\"&$D$12&\") when LocalYear(\"&$D$12&\")=\"&$D$5&\" and localMonth(\"&$D$12&\") =\"&$E$5&\" and LocalDay(\"&$D$12&\")=\"&$F$5&\" and Barix(\"&$D$12&\",reference:=StartOfDay)=\"&A143&\"\", \"Bar\", \"\", \"Close\",\"A5C\",\"0\",\"All\",,,\"False\",\"T\",\"EveryTick\")","v":6719},{"$f":"RTD(\"cqg.rtd\",,\"StudyData\", \"Vol(\"&$D$12&\") when LocalYear(\"&$D$12&\")=\"&$D$6&\" and localMonth(\"&$D$12&\") =\"&$E$6&\" and LocalDay(\"&$D$12&\")=\"&$F$6&\" and Barix(\"&$D$12&\",reference:=StartOfDay)=\"&A143&\"\", \"Bar\", \"\", \"Close\",\"A5C\",\"0\",\"All\",,,\"False\",\"T\",\"EveryTick\")","v":21165},{"$f":"RTD(\"cqg.rtd\",,\"StudyData\", \"Vol(\"&$D$12&\") when LocalYear(\"&$D$12&\")=\"&$D$7&\" and localMonth(\"&$D$12&\") =\"&$E$7&\" and LocalDay(\"&$D$12&\")=\"&$F$7&\" and Barix(\"&$D$12&\",reference:=StartOfDay)=\"&A143&\"\", \"Bar\", \"\", \"Close\",\"A5C\",\"0\",\"All\",,,\"False\",\"T\",\"EveryTick\")","v":11749},{"$f":"RTD(\"cqg.rtd\",,\"StudyData\", \"Vol(\"&$D$12&\") when LocalYear(\"&$D$12&\")=\"&$D$8&\" and localMonth(\"&$D$12&\") =\"&$E$8&\" and LocalDay(\"&$D$12&\")=\"&$F$8&\" and Barix(\"&$D$12&\",reference:=StartOfDay)=\"&A143&\"\", \"Bar\", \"\", \"Close\",\"A5C\",\"0\",\"All\",,,\"False\",\"T\",\"EveryTick\")","v":8973},{"$f":"RTD(\"cqg.rtd\",,\"StudyData\", \"Vol(\"&$D$12&\") when LocalYear(\"&$D$12&\")=\"&$D$9&\" and localMonth(\"&$D$12&\") =\"&$E$9&\" and LocalDay(\"&$D$12&\")=\"&$F$9&\" and Barix(\"&$D$12&\",reference:=StartOfDay)=\"&A143&\"\", \"Bar\", \"\", \"Close\",\"A5C\",\"0\",\"All\",,,\"False\",\"T\",\"EveryTick\")","v":19659},{"$f":"RTD(\"cqg.rtd\",,\"StudyData\", \"Vol(\"&$D$12&\") when LocalYear(\"&$D$12&\")=\"&$D$10&\" and localMonth(\"&$D$12&\") =\"&$E$10&\" and LocalDay(\"&$D$12&\")=\"&$F$10&\" and Barix(\"&$D$12&\",reference:=StartOfDay)=\"&A143&\"\", \"Bar\", \"\", \"Close\",\"A5C\",\"0\",\"All\",,,\"False\",\"T\",\"EveryTick\")","v":17984},{"$f":"IF(H143>(1+(MainDisplay!$O$24/100))*I143,H143,NA())","v":""}]
[239,{"$f":"Sheet3!B144","v":"12:55:00"},null,null,null,null,null,{"$f":"RTD(\"cqg.rtd\",,\"StudyData\", \"Vol(\"&$D$12&\") when LocalYear(\"&$D$12&\")=\"&$D$1&\" and localMonth(\"&$D$12&\") =\"&$E$1&\" and LocalDay(\"&$D$12&\")=\"&$F$1&\" and Barix(\"&$D$12&\",reference:=StartOfDay)=\"&A144&\"\", \"Bar\", \"\", \"Close\",\"A5C\",\"0\",\"All\",,,\"False\",\"T\",\"EveryTick\")","v":""},9720.5555555555547,{"$f":"RTD(\"cqg.rtd\",,\"StudyData\", \"Vol(\"&$D$12&\") when LocalYear(\"&$D$12&\")=\"&$D$2&\" and localMonth(\"&$D$12&\") =\"&$E$2&\" and LocalDay(\"&$D$12&\")=\"&$F$2&\" and Barix(\"&$D$12&\",reference:=StartOfDay)=\"&A144&\"\", \"Bar\", \"\", \"Close\",\"A5C\",\"0\",\"All\",,,\"False\",\"T\",\"EveryTick\")","v":8769},{"$f":"RTD(\"cqg.rtd\",,\"StudyData\", \"Vol(\"&$D$12&\") when LocalYear(\"&$D$12&\")=\"&$D$3&\" and localMonth(\"&$D$12&\") =\"&$E$3&\" and LocalDay(\"&$D$12&\")=\"&$F$3&\" and Barix(\"&$D$12&\",reference:=StartOfDay)=\"&A144&\"\", \"Bar\", \"\", \"Close\",\"A5C\",\"0\",\"All\",,,\"False\",\"T\",\"EveryTick\")","v":7695},{"$f":"RTD(\"cqg.rtd\",,\"StudyData\", \"Vol(\"&$D$12&\") when LocalYear(\"&$D$12&\")=\"&$D$4&\" and localMonth(\"&$D$12&\") =\"&$E$4&\" and LocalDay(\"&$D$12&\")=\"&$F$4&\" and Barix(\"&$D$12&\",reference:=StartOfDay)=\"&A144&\"\", \"Bar\", \"\", \"Close\",\"A5C\",\"0\",\"All\",,,\"False\",\"T\",\"EveryTick\")","v":9187},{"$f":"RTD(\"cqg.rtd\",,\"StudyData\", \"Vol(\"&$D$12&\") when LocalYear(\"&$D$12&\")=\"&$D$5&\" and localMonth(\"&$D$12&\") =\"&$E$5&\" and LocalDay(\"&$D$12&\")=\"&$F$5&\" and Barix(\"&$D$12&\",reference:=StartOfDay)=\"&A144&\"\", \"Bar\", \"\", \"Close\",\"A5C\",\"0\",\"All\",,,\"False\",\"T\",\"EveryTick\")","v":7613},{"$f":"RTD(\"cqg.rtd\",,\"StudyData\", \"Vol(\"&$D$12&\") when LocalYear(\"&$D$12&\")=\"&$D$6&\" and localMonth(\"&$D$12&\") =\"&$E$6&\" and LocalDay(\"&$D$12&\")=\"&$F$6&\" and Barix(\"&$D$12&\",reference:=StartOfDay)=\"&A144&\"\", \"Bar\", \"\", \"Close\",\"A5C\",\"0\",\"All\",,,\"False\",\"T\",\"EveryTick\")","v":13068},{"$f":"RTD(\"cqg.rtd\",,\"StudyData\", \"Vol(\"&$D$12&\") when LocalYear(\"&$D$12&\")=\"&$D$7&\" and localMonth(\"&$D$12&\") =\"&$E$7&\" and LocalDay(\"&$D$12&\")=\"&$F$7&\" and Barix(\"&$D$12&\",reference:=StartOfDay)=\"&A144&\"\", \"Bar\", \"\", \"Close\",\"A5C\",\"0\",\"All\",,,\"False\",\"T\",\"EveryTick\")","v":5903},{"$f":"RTD(\"cqg.rtd\",,\"StudyData\", \"Vol(\"&$D$12&\") when LocalYear(\"&$D$12&\")=\"&$D$8&\" and localMonth(\"&$D$12&\") =\"&$E$8&\" and LocalDay(\"&$D$12&\")=\"&$F$8&\" and Barix(\"&$D$12&\",reference:=StartOfDay)=\"&A144&\"\", \"Bar\", \"\", \"Close\",\"A5C\",\"0\",\"All\",,,\"False\",\"T\",\"EveryTick\")","v":6890},{"$f":"RTD(\"cqg.rtd\",,\"StudyData\", \"Vol(\"&$D$12&\") when LocalYear(\"&$D$12&\")=\"&$D$9&\" and localMonth(\"&$D$12&\") =\"&$E$9&\" and LocalDay(\"&$D$12&\")=\"&$F$9&\" and Barix(\"&$D$12&\",reference:=StartOfDay)=\"&A144&\"\", \"Bar\", \"\", \"Close\",\"A5C\",\"0\",\"All\",,,\"False\",\"T\",\"EveryTick\")","v":17394},{"$f":"RTD(\"cqg.rtd\",,\"StudyData\", \"Vol(\"&$D$12&\") when LocalYear(\"&$D$12&\")=\"&$D$10&\" and localMonth(\"&$D$12&\") =\"&$E$10&\" and LocalDay(\"&$D$12&\")=\"&$F$10&\" and Barix(\"&$D$12&\",reference:=StartOfDay)=\"&A144&\"\", \"Bar\", \"\", \"Close\",\"A5C\",\"0\",\"All\",,,\"False\",\"T\",\"EveryTick\")","v":10966},{"$f":"IF(H144>(1+(MainDisplay!$O$24/100))*I144,H144,NA())","v":""}]
[240,{"$f":"Sheet3!B145","v":"13:00:00"},null,null,null,null,null,{"$f":"RTD(\"cqg.rtd\",,\"StudyData\", \"Vol(\"&$D$12&\") when LocalYear(\"&$D$12&\")=\"&$D$1&\" and localMonth(\"&$D$12&\") =\"&$E$1&\" and LocalDay(\"&$D$12&\")=\"&$F$1&\" and Barix(\"&$D$12&\",reference:=StartOfDay)=\"&A145&\"\", \"Bar\", \"\", \"Close\",\"A5C\",\"0\",\"All\",,,\"False\",\"T\",\"EveryTick\")","v":""},17916,{"$f":"RTD(\"cqg.rtd\",,\"StudyData\", \"Vol(\"&$D$12&\") when LocalYear(\"&$D$12&\")=\"&$D$2&\" and localMonth(\"&$D$12&\") =\"&$E$2&\" and LocalDay(\"&$D$12&\")=\"&$F$2&\" and Barix(\"&$D$12&\",reference:=StartOfDay)=\"&A145&\"\", \"Bar\", \"\", \"Close\",\"A5C\",\"0\",\"All\",,,\"False\",\"T\",\"EveryTick\")","v":7534},{"$f":"RTD(\"cqg.rtd\",,\"StudyData\", \"Vol(\"&$D$12&\") when LocalYear(\"&$D$12&\")=\"&$D$3&\" and localMonth(\"&$D$12&\") =\"&$E$3&\" and LocalDay(\"&$D$12&\")=\"&$F$3&\" and Barix(\"&$D$12&\",reference:=StartOfDay)=\"&A145&\"\", \"Bar\", \"\", \"Close\",\"A5C\",\"0\",\"All\",,,\"False\",\"T\",\"EveryTick\")","v":6959},{"$f":"RTD(\"cqg.rtd\",,\"StudyData\", \"Vol(\"&$D$12&\") when LocalYear(\"&$D$12&\")=\"&$D$4&\" and localMonth(\"&$D$12&\") =\"&$E$4&\" and LocalDay(\"&$D$12&\")=\"&$F$4&\" and Barix(\"&$D$12&\",reference:=StartOfDay)=\"&A145&\"\", \"Bar\", \"\", \"Close\",\"A5C\",\"0\",\"All\",,,\"False\",\"T\",\"EveryTick\")","v":9894},{"$f":"RTD(\"cqg.rtd\",,\"StudyData\", \"Vol(\"&$D$12&\") when LocalYear(\"&$D$12&\")=\"&$D$5&\" and localMonth(\"&$D$12&\") =\"&$E$5&\" and LocalDay(\"&$D$12&\")=\"&$F$5&\" and Barix(\"&$D$12&\",reference:=StartOfDay)=\"&A145&\"\", \"Bar\", \"\", \"Close\",\"A5C\",\"0\",\"All\",,,\"False\",\"T\",\"EveryTick\")","v":16268},{"$f":"RTD(\"cqg.rtd\",,\"StudyData\", \"Vol(\"&$D$12&\") when LocalYear(\"&$D$12&\")=\"&$D$6&\" and localMonth(\"&$D$12&\") =\"&$E$6&\" and LocalDay(\"&$D$12&\")=\"&$F$6&\" and Barix(\"&$D$12&\",reference:=StartOfDay)=\"&A145&\"\", \"Bar\", \"\", \"Close\",\"A5C\",\"0\",\"All\",,,\"False\",\"T\",\"EveryTick\")","v":42571},{"$f":"RTD(\"cqg.rtd\",,\"StudyData\", \"Vol(\"&$D$12&\") when LocalYear(\"&$D$12&\")=\"&$D$7&\" and localMonth(\"&$D$12&\") =\"&$E$7&\" and LocalDay(\"&$D$12&\")=\"&$F$7&\" and Barix(\"&$D$12&\",reference:=StartOfDay)=\"&A145&\"\", \"Bar\", \"\", \"Close\",\"A5C\",\"0\",\"All\",,,\"False\",\"T\",\"EveryTick\")","v":14004},{"$f":"RTD(\"cqg.rtd\",,\"StudyData\", \"Vol(\"&$D$12&\") when LocalYear(\"&$D$12&\")=\"&$D$8&\" and localMonth(\"&$D$12&\") =\"&$E$8&\" and LocalDay(\"&$D$12&\")=\"&$F$8&\" and Barix(\"&$D$12&\",reference:=StartOfDay)=\"&A145&\"\", \"Bar\", \"\", \"Close\",\"A5C\",\"0\",\"All\",,,\"False\",\"T\",\"EveryTick\")","v":21391},{"$f":"RTD(\"cqg.rtd\",,\"StudyData\", \"Vol(\"&$D$12&\") when LocalYear(\"&$D$12&\")=\"&$D$9&\" and localMonth(\"&$D$12&\") =\"&$E$9&\" and LocalDay(\"&$D$12&\")=\"&$F$9&\" and Barix(\"&$D$12&\",reference:=StartOfDay)=\"&A145&\"\", \"Bar\", \"\", \"Close\",\"A5C\",\"0\",\"All\",,,\"False\",\"T\",\"EveryTick\")","v":17603},{"$f":"RTD(\"cqg.rtd\",,\"StudyData\", \"Vol(\"&$D$12&\") when LocalYear(\"&$D$12&\")=\"&$D$10&\" and localMonth(\"&$D$12&\") =\"&$E$10&\" and LocalDay(\"&$D$12&\")=\"&$F$10&\" and Barix(\"&$D$12&\",reference:=StartOfDay)=\"&A145&\"\", \"Bar\", \"\", \"Close\",\"A5C\",\"0\",\"All\",,,\"False\",\"T\",\"EveryTick\")","v":25020},{"$f":"IF(H145>(1+(MainDisplay!$O$24/100))*I145,H145,NA())","v":""}]
[241,{"$f":"Sheet3!B146","v":"13:05:00"},null,null,null,null,null,{"$f":"RTD(\"cqg.rtd\",,\"StudyData\", \"Vol(\"&$D$12&\") when LocalYear(\"&$D$12&\")=\"&$D$1&\" and localMonth(\"&$D$12&\") =\"&$E$1&\" and LocalDay(\"&$D$12&\")=\"&$F$1&\" and Barix(\"&$D$12&\",reference:=StartOfDay)=\"&A146&\"\", \"Bar\", \"\", \"Close\",\"A5C\",\"0\",\"All\",,,\"False\",\"T\",\"EveryTick\")","v":""},12356.333333333334,{"$f":"RTD(\"cqg.rtd\",,\"StudyData\", \"Vol(\"&$D$12&\") when LocalYear(\"&$D$12&\")=\"&$D$2&\" and localMonth(\"&$D$12&\") =\"&$E$2&\" and LocalDay(\"&$D$12&\")=\"&$F$2&\" and Barix(\"&$D$12&\",reference:=StartOfDay)=\"&A146&\"\", \"Bar\", \"\", \"Close\",\"A5C\",\"0\",\"All\",,,\"False\",\"T\",\"EveryTick\")","v":6244},{"$f":"RTD(\"cqg.rtd\",,\"StudyData\", \"Vol(\"&$D$12&\") when LocalYear(\"&$D$12&\")=\"&$D$3&\" and localMonth(\"&$D$12&\") =\"&$E$3&\" and LocalDay(\"&$D$12&\")=\"&$F$3&\" and Barix(\"&$D$12&\",reference:=StartOfDay)=\"&A146&\"\", \"Bar\", \"\", \"Close\",\"A5C\",\"0\",\"All\",,,\"False\",\"T\",\"EveryTick\")","v":9194},{"$f":"RTD(\"cqg.rtd\",,\"StudyData\", \"Vol(\"&$D$12&\") when LocalYear(\"&$D$12&\")=\"&$D$4&\" and localMonth(\"&$D$12&\") =\"&$E$4&\" and LocalDay(\"&$D$12&\")=\"&$F$4&\" and Barix(\"&$D$12&\",reference:=StartOfDay)=\"&A146&\"\", \"Bar\", \"\", \"Close\",\"A5C\",\"0\",\"All\",,,\"False\",\"T\",\"EveryTick\")","v":5581},{"$f":"RTD(\"cqg.rtd\",,\"StudyData\", \"Vol(\"&$D$12&\") when LocalYear(\"&$D$12&\")=\"&$D$5&\" and localMonth(\"&$D$12&\") =\"&$E$5&\" and LocalDay(\"&$D$12&\")=\"&$F$5&\" and Barix(\"&$D$12&\",reference:=StartOfDay)=\"&A146&\"\", \"Bar\", \"\", \"Close\",\"A5C\",\"0\",\"All\",,,\"False\",\"T\",\"EveryTick\")","v":11812},{"$f":"RTD(\"cqg.rtd\",,\"StudyData\", \"Vol(\"&$D$12&\") when LocalYear(\"&$D$12&\")=\"&$D$6&\" and localMonth(\"&$D$12&\") =\"&$E$6&\" and LocalDay(\"&$D$12&\")=\"&$F$6&\" and Barix(\"&$D$12&\",reference:=StartOfDay)=\"&A146&\"\", \"Bar\", \"\", \"Close\",\"A5C\",\"0\",\"All\",,,\"False\",\"T\",\"EveryTick\")","v":18777},{"$f":"RTD(\"cqg.rtd\",,\"StudyData\", \"Vol(\"&$D$12&\") when LocalYear(\"&$D$12&\")=\"&$D$7&\" and localMonth(\"&$D$12&\") =\"&$E$7&\" and LocalDay(\"&$D$12&\")=\"&$F$7&\" and Barix(\"&$D$12&\",reference:=StartOfDay)=\"&A146&\"\", \"Bar\", \"\", \"Close\",\"A5C\",\"0\",\"All\",,,\"False\",\"T\",\"EveryTick\")","v":8907},{"$f":"RTD(\"cqg.rtd\",,\"StudyData\", \"Vol(\"&$D$12&\") when LocalYear(\"&$D$12&\")=\"&$D$8&\" and localMonth(\"&$D$12&\") =\"&$E$8&\" and LocalDay(\"&$D$12&\")=\"&$F$8&\" and Barix(\"&$D$12&\",reference:=StartOfDay)=\"&A146&\"\", \"Bar\", \"\", \"Close\",\"A5C\",\"0\",\"All\",,,\"False\",\"T\",\"EveryTick\")","v":13477},{"$f":"RTD(\"cqg.rtd\",,\"StudyData\", \"Vol(\"&$D$12&\") when LocalYear(\"&$D$12&\")=\"&$D$9&\" and localMonth(\"&$D$12&\") =\"&$E$9&\" and LocalDay(\"&$D$12&\")=\"&$F$9&\" and Barix(\"&$D$12&\",reference:=StartOfDay)=\"&A146&\"\", \"Bar\", \"\", \"Close\",\"A5C\",\"0\",\"All\",,,\"False\",\"T\",\"EveryTick\")","v":14845},{"$f":"RTD(\"cqg.rtd\",,\"StudyData\", \"Vol(\"&$D$12&\") when LocalYear(\"&$D$12&\")=\"&$D$10&\" and localMonth(\"&$D$12&\") =\"&$E$10&\" and LocalDay(\"&$D$12&\")=\"&$F$10&\" and Barix(\"&$D$12&\",reference:=StartOfDay)=\"&A146&\"\", \"Bar\", \"\", \"Close\",\"A5C\",\"0\",\"All\",,,\"False\",\"T\",\"EveryTick\")","v":22370},{"$f":"IF(H146>(1+(MainDisplay!$O$24/100))*I146,H146,NA())","v":""}]
[242,{"$f":"Sheet3!B147","v":"13:10:00"},null,null,null,null,null,{"$f":"RTD(\"cqg.rtd\",,\"StudyData\", \"Vol(\"&$D$12&\") when LocalYear(\"&$D$12&\")=\"&$D$1&\" and localMonth(\"&$D$12&\") =\"&$E$1&\" and LocalDay(\"&$D$12&\")=\"&$F$1&\" and Barix(\"&$D$12&\",reference:=StartOfDay)=\"&A147&\"\", \"Bar\", \"\", \"Close\",\"A5C\",\"0\",\"All\",,,\"False\",\"T\",\"EveryTick\")","v":""},12098.888888888889,{"$f":"RTD(\"cqg.rtd\",,\"StudyData\", \"Vol(\"&$D$12&\") when LocalYear(\"&$D$12&\")=\"&$D$2&\" and localMonth(\"&$D$12&\") =\"&$E$2&\" and LocalDay(\"&$D$12&\")=\"&$F$2&\" and Barix(\"&$D$12&\",reference:=StartOfDay)=\"&A147&\"\", \"Bar\", \"\", \"Close\",\"A5C\",\"0\",\"All\",,,\"False\",\"T\",\"EveryTick\")","v":9264},{"$f":"RTD(\"cqg.rtd\",,\"StudyData\", \"Vol(\"&$D$12&\") when LocalYear(\"&$D$12&\")=\"&$D$3&\" and localMonth(\"&$D$12&\") =\"&$E$3&\" and LocalDay(\"&$D$12&\")=\"&$F$3&\" and Barix(\"&$D$12&\",reference:=StartOfDay)=\"&A147&\"\", \"Bar\", \"\", \"Close\",\"A5C\",\"0\",\"All\",,,\"False\",\"T\",\"EveryTick\")","v":8562},{"$f":"RTD(\"cqg.rtd\",,\"StudyData\", \"Vol(\"&$D$12&\") when LocalYear(\"&$D$12&\")=\"&$D$4&\" and localMonth(\"&$D$12&\") =\"&$E$4&\" and LocalDay(\"&$D$12&\")=\"&$F$4&\" and Barix(\"&$D$12&\",reference:=StartOfDay)=\"&A147&\"\", \"Bar\", \"\", \"Close\",\"A5C\",\"0\",\"All\",,,\"False\",\"T\",\"EveryTick\")","v":5753},{"$f":"RTD(\"cqg.rtd\",,\"StudyData\", \"Vol(\"&$D$12&\") when LocalYear(\"&$D$12&\")=\"&$D$5&\" and localMonth(\"&$D$12&\") =\"&$E$5&\" and LocalDay(\"&$D$12&\")=\"&$F$5&\" and Barix(\"&$D$12&\",reference:=StartOfDay)=\"&A147&\"\", \"Bar\", \"\", \"Close\",\"A5C\",\"0\",\"All\",,,\"False\",\"T\",\"EveryTick\")","v":7269},{"$f":"RTD(\"cqg.rtd\",,\"StudyData\", \"Vol(\"&$D$12&\") when LocalYear(\"&$D$12&\")=\"&$D$6&\" and localMonth(\"&$D$12&\") =\"&$E$6&\" and LocalDay(\"&$D$12&\")=\"&$F$6&\" and Barix(\"&$D$12&\",reference:=StartOfDay)=\"&A147&\"\", \"Bar\", \"\", \"Close\",\"A5C\",\"0\",\"All\",,,\"False\",\"T\",\"EveryTick\")","v":27209},{"$f":"RTD(\"cqg.rtd\",,\"StudyData\", \"Vol(\"&$D$12&\") when LocalYear(\"&$D$12&\")=\"&$D$7&\" and localMonth(\"&$D$12&\") =\"&$E$7&\" and LocalDay(\"&$D$12&\")=\"&$F$7&\" and Barix(\"&$D$12&\",reference:=StartOfDay)=\"&A147&\"\", \"Bar\", \"\", \"Close\",\"A5C\",\"0\",\"All\",,,\"False\",\"T\",\"EveryTick\")","v":5781},{"$f":"RTD(\"cqg.rtd\",,\"StudyData\", \"Vol(\"&$D$12&\") when LocalYear(\"&$D$12&\")=\"&$D$8&\" and localMonth(\"&$D$12&\") =\"&$E$8&\" and LocalDay(\"&$D$12&\")=\"&$F$8&\" and Barix(\"&$D$12&\",reference:=StartOfDay)=\"&A147&\"\", \"Bar\", \"\", \"Close\",\"A5C\",\"0\",\"All\",,,\"False\",\"T\",\"EveryTick\")","v":17996},{"$f":"RTD(\"cqg.rtd\",,\"StudyData\", \"Vol(\"&$D$12&\") when LocalYear(\"&$D$12&\")=\"&$D$9&\" and localMonth(\"&$D$12&\") =\"&$E$9&\" and LocalDay(\"&$D$12&\")=\"&$F$9&\" and Barix(\"&$D$12&\",reference:=StartOfDay)=\"&A147&\"\", \"Bar\", \"\", \"Close\",\"A5C\",\"0\",\"All\",,,\"False\",\"T\",\"EveryTick\")","v":11237},{"$f":"RTD(\"cqg.rtd\",,\"StudyData\", \"Vol(\"&$D$12&\") when LocalYear(\"&$D$12&\")=\"&$D$10&\" and localMonth(\"&$D$12&\") =\"&$E$10&\" and LocalDay(\"&$D$12&\")=\"&$F$10&\" and Barix(\"&$D$12&\",reference:=StartOfDay)=\"&A147&\"\", \"Bar\", \"\", \"Close\",\"A5C\",\"0\",\"All\",,,\"False\",\"T\",\"EveryTick\")","v":15819},{"$f":"IF(H147>(1+(MainDisplay!$O$24/100))*I147,H147,NA())","v":""}]
[243,{"$f":"Sheet3!B148","v":"13:15:00"},null,null,null,null,null,{"$f":"RTD(\"cqg.rtd\",,\"StudyData\", \"Vol(\"&$D$12&\") when LocalYear(\"&$D$12&\")=\"&$D$1&\" and localMonth(\"&$D$12&\") =\"&$E$1&\" and LocalDay(\"&$D$12&\")=\"&$F$1&\" and Barix(\"&$D$12&\",reference:=StartOfDay)=\"&A148&\"\", \"Bar\", \"\", \"Close\",\"A5C\",\"0\",\"All\",,,\"False\",\"T\",\"EveryTick\")","v":""},11211,{"$f":"RTD(\"cqg.rtd\",,\"StudyData\", \"Vol(\"&$D$12&\") when LocalYear(\"&$D$12&\")=\"&$D$2&\" and localMonth(\"&$D$12&\") =\"&$E$2&\" and LocalDay(\"&$D$12&\")=\"&$F$2&\" and Barix(\"&$D$12&\",reference:=StartOfDay)=\"&A148&\"\", \"Bar\", \"\", \"Close\",\"A5C\",\"0\",\"All\",,,\"False\",\"T\",\"EveryTick\")","v":14221},{"$f":"RTD(\"cqg.rtd\",,\"StudyData\", \"Vol(\"&$D$12&\") when LocalYear(\"&$D$12&\")=\"&$D$3&\" and localMonth(\"&$D$12&\") =\"&$E$3&\" and LocalDay(\"&$D$12&\")=\"&$F$3&\" and Barix(\"&$D$12&\",reference:=StartOfDay)=\"&A148&\"\", \"Bar\", \"\", \"Close\",\"A5C\",\"0\",\"All\",,,\"False\",\"T\",\"EveryTick\")","v":10138},{"$f":"RTD(\"cqg.rtd\",,\"StudyData\", \"Vol(\"&$D$12&\") when LocalYear(\"&$D$12&\")=\"&$D$4&\" and localMonth(\"&$D$12&\") =\"&$E$4&\" and LocalDay(\"&$D$12&\")=\"&$F$4&\" and Barix(\"&$D$12&\",reference:=StartOfDay)=\"&A148&\"\", \"Bar\", \"\", \"Close\",\"A5C\",\"0\",\"All\",,,\"False\",\"T\",\"EveryTick\")","v":10964},{"$f":"RTD(\"cqg.rtd\",,\"StudyData\", \"Vol(\"&$D$12&\") when LocalYear(\"&$D$12&\")=\"&$D$5&\" and localMonth(\"&$D$12&\") =\"&$E$5&\" and LocalDay(\"&$D$12&\")=\"&$F$5&\" and Barix(\"&$D$12&\",reference:=StartOfDay)=\"&A148&\"\", \"Bar\", \"\", \"Close\",\"A5C\",\"0\",\"All\",,,\"False\",\"T\",\"EveryTick\")","v":5172},{"$f":"RTD(\"cqg.rtd\",,\"StudyData\", \"Vol(\"&$D$12&\") when LocalYear(\"&$D$12&\")=\"&$D$6&\" and localMonth(\"&$D$12&\") =\"&$E$6&\" and LocalDay(\"&$D$12&\")=\"&$F$6&\" and Barix(\"&$D$12&\",reference:=StartOfDay)=\"&A148&\"\", \"Bar\", \"\", \"Close\",\"A5C\",\"0\",\"All\",,,\"False\",\"T\",\"EveryTick\")","v":18969},{"$f":"RTD(\"cqg.rtd\",,\"StudyData\", \"Vol(\"&$D$12&\") when LocalYear(\"&$D$12&\")=\"&$D$7&\" and localMonth(\"&$D$12&\") =\"&$E$7&\" and LocalDay(\"&$D$12&\")=\"&$F$7&\" and Barix(\"&$D$12&\",reference:=StartOfDay)=\"&A148&\"\", \"Bar\", \"\", \"Close\",\"A5C\",\"0\",\"All\",,,\"False\",\"T\",\"EveryTick\")","v":6585},{"$f":"RTD(\"cqg.rtd\",,\"StudyData\", \"Vol(\"&$D$12&\") when LocalYear(\"&$D$12&\")=\"&$D$8&\" and localMonth(\"&$D$12&\") =\"&$E$8&\" and LocalDay(\"&$D$12&\")=\"&$F$8&\" and Barix(\"&$D$12&\",reference:=StartOfDay)=\"&A148&\"\", \"Bar\", \"\", \"Close\",\"A5C\",\"0\",\"All\",,,\"False\",\"T\",\"EveryTick\")","v":9967},{"$f":"RTD(\"cqg.rtd\",,\"StudyData\", \"Vol(\"&$D$12&\") when LocalYear(\"&$D$12&\")=\"&$D$9&\" and localMonth(\"&$D$12&\") =\"&$E$9&\" and LocalDay(\"&$D$12&\")=\"&$F$9&\" and Barix(\"&$D$12&\",reference:=StartOfDay)=\"&A148&\"\", \"Bar\", \"\", \"Close\",\"A5C\",\"0\",\"All\",,,\"False\",\"T\",\"EveryTick\")","v":8331},{"$f":"RTD(\"cqg.rtd\",,\"StudyData\", \"Vol(\"&$D$12&\") when LocalYear(\"&$D$12&\")=\"&$D$10&\" and localMonth(\"&$D$12&\") =\"&$E$10&\" and LocalDay(\"&$D$12&\")=\"&$F$10&\" and Barix(\"&$D$12&\",reference:=StartOfDay)=\"&A148&\"\", \"Bar\", \"\", \"Close\",\"A5C\",\"0\",\"All\",,,\"False\",\"T\",\"EveryTick\")","v":16552},{"$f":"IF(H148>(1+(MainDisplay!$O$24/100))*I148,H148,NA())","v":""}]
[244,{"$f":"Sheet3!B149","v":"13:20:00"},null,null,null,null,null,{"$f":"RTD(\"cqg.rtd\",,\"StudyData\", \"Vol(\"&$D$12&\") when LocalYear(\"&$D$12&\")=\"&$D$1&\" and localMonth(\"&$D$12&\") =\"&$E$1&\" and LocalDay(\"&$D$12&\")=\"&$F$1&\" and Barix(\"&$D$12&\",reference:=StartOfDay)=\"&A149&\"\", \"Bar\", \"\", \"Close\",\"A5C\",\"0\",\"All\",,,\"False\",\"T\",\"EveryTick\")","v":""},10414.888888888889,{"$f":"RTD(\"cqg.rtd\",,\"StudyData\", \"Vol(\"&$D$12&\") when LocalYear(\"&$D$12&\")=\"&$D$2&\" and localMonth(\"&$D$12&\") =\"&$E$2&\" and LocalDay(\"&$D$12&\")=\"&$F$2&\" and Barix(\"&$D$12&\",reference:=StartOfDay)=\"&A149&\"\", \"Bar\", \"\", \"Close\",\"A5C\",\"0\",\"All\",,,\"False\",\"T\",\"EveryTick\")","v":8750},{"$f":"RTD(\"cqg.rtd\",,\"StudyData\", \"Vol(\"&$D$12&\") when LocalYear(\"&$D$12&\")=\"&$D$3&\" and localMonth(\"&$D$12&\") =\"&$E$3&\" and LocalDay(\"&$D$12&\")=\"&$F$3&\" and Barix(\"&$D$12&\",reference:=StartOfDay)=\"&A149&\"\", \"Bar\", \"\", \"Close\",\"A5C\",\"0\",\"All\",,,\"False\",\"T\",\"EveryTick\")","v":8523},{"$f":"RTD(\"cqg.rtd\",,\"StudyData\", \"Vol(\"&$D$12&\") when LocalYear(\"&$D$12&\")=\"&$D$4&\" and localMonth(\"&$D$12&\") =\"&$E$4&\" and LocalDay(\"&$D$12&\")=\"&$F$4&\" and Barix(\"&$D$12&\",reference:=StartOfDay)=\"&A149&\"\", \"Bar\", \"\", \"Close\",\"A5C\",\"0\",\"All\",,,\"False\",\"T\",\"EveryTick\")","v":7484},{"$f":"RTD(\"cqg.rtd\",,\"StudyData\", \"Vol(\"&$D$12&\") when LocalYear(\"&$D$12&\")=\"&$D$5&\" and localMonth(\"&$D$12&\") =\"&$E$5&\" and LocalDay(\"&$D$12&\")=\"&$F$5&\" and Barix(\"&$D$12&\",reference:=StartOfDay)=\"&A149&\"\", \"Bar\", \"\", \"Close\",\"A5C\",\"0\",\"All\",,,\"False\",\"T\",\"EveryTick\")","v":7919},{"$f":"RTD(\"cqg.rtd\",,\"StudyData\", \"Vol(\"&$D$12&\") when LocalYear(\"&$D$12&\")=\"&$D$6&\" and localMonth(\"&$D$12&\") =\"&$E$6&\" and LocalDay(\"&$D$12&\")=\"&$F$6&\" and Barix(\"&$D$12&\",reference:=StartOfDay)=\"&A149&\"\", \"Bar\", \"\", \"Close\",\"A5C\",\"0\",\"All\",,,\"False\",\"T\",\"EveryTick\")","v":15964},{"$f":"RTD(\"cqg.rtd\",,\"StudyData\", \"Vol(\"&$D$12&\") when LocalYear(\"&$D$12&\")=\"&$D$7&\" and localMonth(\"&$D$12&\") =\"&$E$7&\" and LocalDay(\"&$D$12&\")=\"&$F$7&\" and Barix(\"&$D$12&\",reference:=StartOfDay)=\"&A149&\"\", \"Bar\", \"\", \"Close\",\"A5C\",\"0\",\"All\",,,\"False\",\"T\",\"EveryTick\")","v":5265},{"$f":"RTD(\"cqg.rtd\",,\"StudyData\", \"Vol(\"&$D$12&\") when LocalYear(\"&$D$12&\")=\"&$D$8&\" and localMonth(\"&$D$12&\") =\"&$E$8&\" and LocalDay(\"&$D$12&\")=\"&$F$8&\" and Barix(\"&$D$12&\",reference:=StartOfDay)=\"&A149&\"\", \"Bar\", \"\", \"Close\",\"A5C\",\"0\",\"All\",,,\"False\",\"T\",\"EveryTick\")","v":14859},{"$f":"RTD(\"cqg.rtd\",,\"StudyData\", \"Vol(\"&$D$12&\") when LocalYear(\"&$D$12&\")=\"&$D$9&\" and localMonth(\"&$D$12&\") =\"&$E$9&\" and LocalDay(\"&$D$12&\")=\"&$F$9&\" and Barix(\"&$D$12&\",reference:=StartOfDay)=\"&A149&\"\", \"Bar\", \"\", \"Close\",\"A5C\",\"0\",\"All\",,,\"False\",\"T\",\"EveryTick\")","v":9219},{"$f":"RTD(\"cqg.rtd\",,\"StudyData\", \"Vol(\"&$D$12&\") when LocalYear(\"&$D$12&\")=\"&$D$10&\" and localMonth(\"&$D$12&\") =\"&$E$10&\" and LocalDay(\"&$D$12&\")=\"&$F$10&\" and Barix(\"&$D$12&\",reference:=StartOfDay)=\"&A149&\"\", \"Bar\", \"\", \"Close\",\"A5C\",\"0\",\"All\",,,\"False\",\"T\",\"EveryTick\")","v":15751},{"$f":"IF(H149>(1+(MainDisplay!$O$24/100))*I149,H149,NA())","v":""}]
[245,{"$f":"Sheet3!B150","v":"13:25:00"},null,null,null,null,null,{"$f":"RTD(\"cqg.rtd\",,\"StudyData\", \"Vol(\"&$D$12&\") when LocalYear(\"&$D$12&\")=\"&$D$1&\" and localMonth(\"&$D$12&\") =\"&$E$1&\" and LocalDay(\"&$D$12&\")=\"&$F$1&\" and Barix(\"&$D$12&\",reference:=StartOfDay)=\"&A150&\"\", \"Bar\", \"\", \"Close\",\"A5C\",\"0\",\"All\",,,\"False\",\"T\",\"EveryTick\")","v":""},9230,{"$f":"RTD(\"cqg.rtd\",,\"StudyData\", \"Vol(\"&$D$12&\") when LocalYear(\"&$D$12&\")=\"&$D$2&\" and localMonth(\"&$D$12&\") =\"&$E$2&\" and LocalDay(\"&$D$12&\")=\"&$F$2&\" and Barix(\"&$D$12&\",reference:=StartOfDay)=\"&A150&\"\", \"Bar\", \"\", \"Close\",\"A5C\",\"0\",\"All\",,,\"False\",\"T\",\"EveryTick\")","v":5844},{"$f":"RTD(\"cqg.rtd\",,\"StudyData\", \"Vol(\"&$D$12&\") when LocalYear(\"&$D$12&\")=\"&$D$3&\" and localMonth(\"&$D$12&\") =\"&$E$3&\" and LocalDay(\"&$D$12&\")=\"&$F$3&\" and Barix(\"&$D$12&\",reference:=StartOfDay)=\"&A150&\"\", \"Bar\", \"\", \"Close\",\"A5C\",\"0\",\"All\",,,\"False\",\"T\",\"EveryTick\")","v":7812},{"$f":"RTD(\"cqg.rtd\",,\"StudyData\", \"Vol(\"&$D$12&\") when LocalYear(\"&$D$12&\")=\"&$D$4&\" and localMonth(\"&$D$12&\") =\"&$E$4&\" and LocalDay(\"&$D$12&\")=\"&$F$4&\" and Barix(\"&$D$12&\",reference:=StartOfDay)=\"&A150&\"\", \"Bar\", \"\", \"Close\",\"A5C\",\"0\",\"All\",,,\"False\",\"T\",\"EveryTick\")","v":10045},{"$f":"RTD(\"cqg.rtd\",,\"StudyData\", \"Vol(\"&$D$12&\") when LocalYear(\"&$D$12&\")=\"&$D$5&\" and localMonth(\"&$D$12&\") =\"&$E$5&\" and LocalDay(\"&$D$12&\")=\"&$F$5&\" and Barix(\"&$D$12&\",reference:=StartOfDay)=\"&A150&\"\", \"Bar\", \"\", \"Close\",\"A5C\",\"0\",\"All\",,,\"False\",\"T\",\"EveryTick\")","v":8775},{"$f":"RTD(\"cqg.rtd\",,\"StudyData\", \"Vol(\"&$D$12&\") when LocalYear(\"&$D$12&\")=\"&$D$6&\" and localMonth(\"&$D$12&\") =\"&$E$6&\" and LocalDay(\"&$D$12&\")=\"&$F$6&\" and Barix(\"&$D$12&\",reference:=StartOfDay)=\"&A150&\"\", \"Bar\", \"\", \"Close\",\"A5C\",\"0\",\"All\",,,\"False\",\"T\",\"EveryTick\")","v":10256},{"$f":"RTD(\"cqg.rtd\",,\"StudyData\", \"Vol(\"&$D$12&\") when LocalYear(\"&$D$12&\")=\"&$D$7&\" and localMonth(\"&$D$12&\") =\"&$E$7&\" and LocalDay(\"&$D$12&\")=\"&$F$7&\" and Barix(\"&$D$12&\",reference:=StartOfDay)=\"&A150&\"\", \"Bar\", \"\", \"Close\",\"A5C\",\"0\",\"All\",,,\"False\",\"T\",\"EveryTick\")","v":6860},{"$f":"RTD(\"cqg.rtd\",,\"StudyData\", \"Vol(\"&$D$12&\") when LocalYear(\"&$D$12&\")=\"&$D$8&\" and localMonth(\"&$D$12&\") =\"&$E$8&\" and LocalDay(\"&$D$12&\")=\"&$F$8&\" and Barix(\"&$D$12&\",reference:=StartOfDay)=\"&A150&\"\", \"Bar\", \"\", \"Close\",\"A5C\",\"0\",\"All\",,,\"False\",\"T\",\"EveryTick\")","v":12760},{"$f":"RTD(\"cqg.rtd\",,\"StudyData\", \"Vol(\"&$D$12&\") when LocalYear(\"&$D$12&\")=\"&$D$9&\" and localMonth(\"&$D$12&\") =\"&$E$9&\" and LocalDay(\"&$D$12&\")=\"&$F$9&\" and Barix(\"&$D$12&\",reference:=StartOfDay)=\"&A150&\"\", \"Bar\", \"\", \"Close\",\"A5C\",\"0\",\"All\",,,\"False\",\"T\",\"EveryTick\")","v":10177},{"$f":"RTD(\"cqg.rtd\",,\"StudyData\", \"Vol(\"&$D$12&\") when LocalYear(\"&$D$12&\")=\"&$D$10&\" and localMonth(\"&$D$12&\") =\"&$E$10&\" and LocalDay(\"&$D$12&\")=\"&$F$10&\" and Barix(\"&$D$12&\",reference:=StartOfDay)=\"&A150&\"\", \"Bar\", \"\", \"Close\",\"A5C\",\"0\",\"All\",,,\"False\",\"T\",\"EveryTick\")","v":10541},{"$f":"IF(H150>(1+(MainDisplay!$O$24/100))*I150,H150,NA())","v":""}]
[246,{"$f":"Sheet3!B151","v":"13:30:00"},null,null,null,null,null,{"$f":"RTD(\"cqg.rtd\",,\"StudyData\", \"Vol(\"&$D$12&\") when LocalYear(\"&$D$12&\")=\"&$D$1&\" and localMonth(\"&$D$12&\") =\"&$E$1&\" and LocalDay(\"&$D$12&\")=\"&$F$1&\" and Barix(\"&$D$12&\",reference:=StartOfDay)=\"&A151&\"\", \"Bar\", \"\", \"Close\",\"A5C\",\"0\",\"All\",,,\"False\",\"T\",\"EveryTick\")","v":""},10955.333333333334,{"$f":"RTD(\"cqg.rtd\",,\"StudyData\", \"Vol(\"&$D$12&\") when LocalYear(\"&$D$12&\")=\"&$D$2&\" and localMonth(\"&$D$12&\") =\"&$E$2&\" and LocalDay(\"&$D$12&\")=\"&$F$2&\" and Barix(\"&$D$12&\",reference:=StartOfDay)=\"&A151&\"\", \"Bar\", \"\", \"Close\",\"A5C\",\"0\",\"All\",,,\"False\",\"T\",\"EveryTick\")","v":7400},{"$f":"RTD(\"cqg.rtd\",,\"StudyData\", \"Vol(\"&$D$12&\") when LocalYear(\"&$D$12&\")=\"&$D$3&\" and localMonth(\"&$D$12&\") =\"&$E$3&\" and LocalDay(\"&$D$12&\")=\"&$F$3&\" and Barix(\"&$D$12&\",reference:=StartOfDay)=\"&A151&\"\", \"Bar\", \"\", \"Close\",\"A5C\",\"0\",\"All\",,,\"False\",\"T\",\"EveryTick\")","v":7975},{"$f":"RTD(\"cqg.rtd\",,\"StudyData\", \"Vol(\"&$D$12&\") when LocalYear(\"&$D$12&\")=\"&$D$4&\" and localMonth(\"&$D$12&\") =\"&$E$4&\" and LocalDay(\"&$D$12&\")=\"&$F$4&\" and Barix(\"&$D$12&\",reference:=StartOfDay)=\"&A151&\"\", \"Bar\", \"\", \"Close\",\"A5C\",\"0\",\"All\",,,\"False\",\"T\",\"EveryTick\")","v":6824},{"$f":"RTD(\"cqg.rtd\",,\"StudyData\", \"Vol(\"&$D$12&\") when LocalYear(\"&$D$12&\")=\"&$D$5&\" and localMonth(\"&$D$12&\") =\"&$E$5&\" and LocalDay(\"&$D$12&\")=\"&$F$5&\" and Barix(\"&$D$12&\",reference:=StartOfDay)=\"&A151&\"\", \"Bar\", \"\", \"Close\",\"A5C\",\"0\",\"All\",,,\"False\",\"T\",\"EveryTick\")","v":8384},{"$f":"RTD(\"cqg.rtd\",,\"StudyData\", \"Vol(\"&$D$12&\") when LocalYear(\"&$D$12&\")=\"&$D$6&\" and localMonth(\"&$D$12&\") =\"&$E$6&\" and LocalDay(\"&$D$12&\")=\"&$F$6&\" and Barix(\"&$D$12&\",reference:=StartOfDay)=\"&A151&\"\", \"Bar\", \"\", \"Close\",\"A5C\",\"0\",\"All\",,,\"False\",\"T\",\"EveryTick\")","v":16511},{"$f":"RTD(\"cqg.rtd\",,\"StudyData\", \"Vol(\"&$D$12&\") when LocalYear(\"&$D$12&\")=\"&$D$7&\" and localMonth(\"&$D$12&\") =\"&$E$7&\" and LocalDay(\"&$D$12&\")=\"&$F$7&\" and Barix(\"&$D$12&\",reference:=StartOfDay)=\"&A151&\"\", \"Bar\", \"\", \"Close\",\"A5C\",\"0\",\"All\",,,\"False\",\"T\",\"EveryTick\")","v":12332},{"$f":"RTD(\"cqg.rtd\",,\"StudyData\", \"Vol(\"&$D$12&\") when LocalYear(\"&$D$12&\")=\"&$D$8&\" and localMonth(\"&$D$12&\") =\"&$E$8&\" and LocalDay(\"&$D$12&\")=\"&$F$8&\" and Barix(\"&$D$12&\",reference:=StartOfDay)=\"&A151&\"\", \"Bar\", \"\", \"Close\",\"A5C\",\"0\",\"All\",,,\"False\",\"T\",\"EveryTick\")","v":15597},{"$f":"RTD(\"cqg.rtd\",,\"StudyData\", \"Vol(\"&$D$12&\") when LocalYear(\"&$D$12&\")=\"&$D$9&\" and localMonth(\"&$D$12&\") =\"&$E$9&\" and LocalDay(\"&$D$12&\")=\"&$F$9&\" and Barix(\"&$D$12&\",reference:=StartOfDay)=\"&A151&\"\", \"Bar\", \"\", \"Close\",\"A5C\",\"0\",\"All\",,,\"False\",\"T\",\"EveryTick\")","v":9909},{"$f":"RTD(\"cqg.rtd\",,\"StudyData\", \"Vol(\"&$D$12&\") when LocalYear(\"&$D$12&\")=\"&$D$10&\" and localMonth(\"&$D$12&\") =\"&$E$10&\" and LocalDay(\"&$D$12&\")=\"&$F$10&\" and Barix(\"&$D$12&\",reference:=StartOfDay)=\"&A151&\"\", \"Bar\", \"\", \"Close\",\"A5C\",\"0\",\"All\",,,\"False\",\"T\",\"EveryTick\")","v":13666},{"$f":"IF(H151>(1+(MainDisplay!$O$24/100))*I151,H151,NA())","v":""}]
[247,{"$f":"Sheet3!B152","v":"13:35:00"},null,null,null,null,null,{"$f":"RTD(\"cqg.rtd\",,\"StudyData\", \"Vol(\"&$D$12&\") when LocalYear(\"&$D$12&\")=\"&$D$1&\" and localMonth(\"&$D$12&\") =\"&$E$1&\" and LocalDay(\"&$D$12&\")=\"&$F$1&\" and Barix(\"&$D$12&\",reference:=StartOfDay)=\"&A152&\"\", \"Bar\", \"\", \"Close\",\"A5C\",\"0\",\"All\",,,\"False\",\"T\",\"EveryTick\")","v":""},10641.222222222223,{"$f":"RTD(\"cqg.rtd\",,\"StudyData\", \"Vol(\"&$D$12&\") when LocalYear(\"&$D$12&\")=\"&$D$2&\" and localMonth(\"&$D$12&\") =\"&$E$2&\" and LocalDay(\"&$D$12&\")=\"&$F$2&\" and Barix(\"&$D$12&\",reference:=StartOfDay)=\"&A152&\"\", \"Bar\", \"\", \"Close\",\"A5C\",\"0\",\"All\",,,\"False\",\"T\",\"EveryTick\")","v":9149},{"$f":"RTD(\"cqg.rtd\",,\"StudyData\", \"Vol(\"&$D$12&\") when LocalYear(\"&$D$12&\")=\"&$D$3&\" and localMonth(\"&$D$12&\") =\"&$E$3&\" and LocalDay(\"&$D$12&\")=\"&$F$3&\" and Barix(\"&$D$12&\",reference:=StartOfDay)=\"&A152&\"\", \"Bar\", \"\", \"Close\",\"A5C\",\"0\",\"All\",,,\"False\",\"T\",\"EveryTick\")","v":9594},{"$f":"RTD(\"cqg.rtd\",,\"StudyData\", \"Vol(\"&$D$12&\") when LocalYear(\"&$D$12&\")=\"&$D$4&\" and localMonth(\"&$D$12&\") =\"&$E$4&\" and LocalDay(\"&$D$12&\")=\"&$F$4&\" and Barix(\"&$D$12&\",reference:=StartOfDay)=\"&A152&\"\", \"Bar\", \"\", \"Close\",\"A5C\",\"0\",\"All\",,,\"False\",\"T\",\"EveryTick\")","v":9496},{"$f":"RTD(\"cqg.rtd\",,\"StudyData\", \"Vol(\"&$D$12&\") when LocalYear(\"&$D$12&\")=\"&$D$5&\" and localMonth(\"&$D$12&\") =\"&$E$5&\" and LocalDay(\"&$D$12&\")=\"&$F$5&\" and Barix(\"&$D$12&\",reference:=StartOfDay)=\"&A152&\"\", \"Bar\", \"\", \"Close\",\"A5C\",\"0\",\"All\",,,\"False\",\"T\",\"EveryTick\")","v":10795},{"$f":"RTD(\"cqg.rtd\",,\"StudyData\", \"Vol(\"&$D$12&\") when LocalYear(\"&$D$12&\")=\"&$D$6&\" and localMonth(\"&$D$12&\") =\"&$E$6&\" and LocalDay(\"&$D$12&\")=\"&$F$6&\" and Barix(\"&$D$12&\",reference:=StartOfDay)=\"&A152&\"\", \"Bar\", \"\", \"Close\",\"A5C\",\"0\",\"All\",,,\"False\",\"T\",\"EveryTick\")","v":12166},{"$f":"RTD(\"cqg.rtd\",,\"StudyData\", \"Vol(\"&$D$12&\") when LocalYear(\"&$D$12&\")=\"&$D$7&\" and localMonth(\"&$D$12&\") =\"&$E$7&\" and LocalDay(\"&$D$12&\")=\"&$F$7&\" and Barix(\"&$D$12&\",reference:=StartOfDay)=\"&A152&\"\", \"Bar\", \"\", \"Close\",\"A5C\",\"0\",\"All\",,,\"False\",\"T\",\"EveryTick\")","v":9088},{"$f":"RTD(\"cqg.rtd\",,\"StudyData\", \"Vol(\"&$D$12&\") when LocalYear(\"&$D$12&\")=\"&$D$8&\" and localMonth(\"&$D$12&\") =\"&$E$8&\" and LocalDay(\"&$D$12&\")=\"&$F$8&\" and Barix(\"&$D$12&\",reference:=StartOfDay)=\"&A152&\"\", \"Bar\", \"\", \"Close\",\"A5C\",\"0\",\"All\",,,\"False\",\"T\",\"EveryTick\")","v":15027},{"$f":"RTD(\"cqg.rtd\",,\"StudyData\", \"Vol(\"&$D$12&\") when LocalYear(\"&$D$12&\")=\"&$D$9&\" and localMonth(\"&$D$12&\") =\"&$E$9&\" and LocalDay(\"&$D$12&\")=\"&$F$9&\" and Barix(\"&$D$12&\",reference:=StartOfDay)=\"&A152&\"\", \"Bar\", \"\", \"Close\",\"A5C\",\"0\",\"All\",,,\"False\",\"T\",\"EveryTick\")","v":5958},{"$f":"RTD(\"cqg.rtd\",,\"StudyData\", \"Vol(\"&$D$12&\") when LocalYear(\"&$D$12&\")=\"&$D$10&\" and localMonth(\"&$D$12&\") =\"&$E$10&\" and LocalDay(\"&$D$12&\")=\"&$F$10&\" and Barix(\"&$D$12&\",reference:=StartOfDay)=\"&A152&\"\", \"Bar\", \"\", \"Close\",\"A5C\",\"0\",\"All\",,,\"False\",\"T\",\"EveryTick\")","v":14498},{"$f":"IF(H152>(1+(MainDisplay!$O$24/100))*I152,H152,NA())","v":""}]
[248,{"$f":"Sheet3!B153","v":"13:40:00"},null,null,null,null,null,{"$f":"RTD(\"cqg.rtd\",,\"StudyData\", \"Vol(\"&$D$12&\") when LocalYear(\"&$D$12&\")=\"&$D$1&\" and localMonth(\"&$D$12&\") =\"&$E$1&\" and LocalDay(\"&$D$12&\")=\"&$F$1&\" and Barix(\"&$D$12&\",reference:=StartOfDay)=\"&A153&\"\", \"Bar\", \"\", \"Close\",\"A5C\",\"0\",\"All\",,,\"False\",\"T\",\"EveryTick\")","v":""},10574.555555555555,{"$f":"RTD(\"cqg.rtd\",,\"StudyData\", \"Vol(\"&$D$12&\") when LocalYear(\"&$D$12&\")=\"&$D$2&\" and localMonth(\"&$D$12&\") =\"&$E$2&\" and LocalDay(\"&$D$12&\")=\"&$F$2&\" and Barix(\"&$D$12&\",reference:=StartOfDay)=\"&A153&\"\", \"Bar\", \"\", \"Close\",\"A5C\",\"0\",\"All\",,,\"False\",\"T\",\"EveryTick\")","v":5350},{"$f":"RTD(\"cqg.rtd\",,\"StudyData\", \"Vol(\"&$D$12&\") when LocalYear(\"&$D$12&\")=\"&$D$3&\" and localMonth(\"&$D$12&\") =\"&$E$3&\" and LocalDay(\"&$D$12&\")=\"&$F$3&\" and Barix(\"&$D$12&\",reference:=StartOfDay)=\"&A153&\"\", \"Bar\", \"\", \"Close\",\"A5C\",\"0\",\"All\",,,\"False\",\"T\",\"EveryTick\")","v":8294},{"$f":"RTD(\"cqg.rtd\",,\"StudyData\", \"Vol(\"&$D$12&\") when LocalYear(\"&$D$12&\")=\"&$D$4&\" and localMonth(\"&$D$12&\") =\"&$E$4&\" and LocalDay(\"&$D$12&\")=\"&$F$4&\" and Barix(\"&$D$12&\",reference:=StartOfDay)=\"&A153&\"\", \"Bar\", \"\", \"Close\",\"A5C\",\"0\",\"All\",,,\"False\",\"T\",\"EveryTick\")","v":5092},{"$f":"RTD(\"cqg.rtd\",,\"StudyData\", \"Vol(\"&$D$12&\") when LocalYear(\"&$D$12&\")=\"&$D$5&\" and localMonth(\"&$D$12&\") =\"&$E$5&\" and LocalDay(\"&$D$12&\")=\"&$F$5&\" and Barix(\"&$D$12&\",reference:=StartOfDay)=\"&A153&\"\", \"Bar\", \"\", \"Close\",\"A5C\",\"0\",\"All\",,,\"False\",\"T\",\"EveryTick\")","v":10976},{"$f":"RTD(\"cqg.rtd\",,\"StudyData\", \"Vol(\"&$D$12&\") when LocalYear(\"&$D$12&\")=\"&$D$6&\" and localMonth(\"&$D$12&\") =\"&$E$6&\" and LocalDay(\"&$D$12&\")=\"&$F$6&\" and Barix(\"&$D$12&\",reference:=StartOfDay)=\"&A153&\"\", \"Bar\", \"\", \"Close\",\"A5C\",\"0\",\"All\",,,\"False\",\"T\",\"EveryTick\")","v":13768},{"$f":"RTD(\"cqg.rtd\",,\"StudyData\", \"Vol(\"&$D$12&\") when LocalYear(\"&$D$12&\")=\"&$D$7&\" and localMonth(\"&$D$12&\") =\"&$E$7&\" and LocalDay(\"&$D$12&\")=\"&$F$7&\" and Barix(\"&$D$12&\",reference:=StartOfDay)=\"&A153&\"\", \"Bar\", \"\", \"Close\",\"A5C\",\"0\",\"All\",,,\"False\",\"T\",\"EveryTick\")","v":7877},{"$f":"RTD(\"cqg.rtd\",,\"StudyData\", \"Vol(\"&$D$12&\") when LocalYear(\"&$D$12&\")=\"&$D$8&\" and localMonth(\"&$D$12&\") =\"&$E$8&\" and LocalDay(\"&$D$12&\")=\"&$F$8&\" and Barix(\"&$D$12&\",reference:=StartOfDay)=\"&A153&\"\", \"Bar\", \"\", \"Close\",\"A5C\",\"0\",\"All\",,,\"False\",\"T\",\"EveryTick\")","v":13586},{"$f":"RTD(\"cqg.rtd\",,\"StudyData\", \"Vol(\"&$D$12&\") when LocalYear(\"&$D$12&\")=\"&$D$9&\" and localMonth(\"&$D$12&\") =\"&$E$9&\" and LocalDay(\"&$D$12&\")=\"&$F$9&\" and Barix(\"&$D$12&\",reference:=StartOfDay)=\"&A153&\"\", \"Bar\", \"\", \"Close\",\"A5C\",\"0\",\"All\",,,\"False\",\"T\",\"EveryTick\")","v":10396},{"$f":"RTD(\"cqg.rtd\",,\"StudyData\", \"Vol(\"&$D$12&\") when LocalYear(\"&$D$12&\")=\"&$D$10&\" and localMonth(\"&$D$12&\") =\"&$E$10&\" and LocalDay(\"&$D$12&\")=\"&$F$10&\" and Barix(\"&$D$12&\",reference:=StartOfDay)=\"&A153&\"\", \"Bar\", \"\", \"Close\",\"A5C\",\"0\",\"All\",,,\"False\",\"T\",\"EveryTick\")","v":19832},{"$f":"IF(H153>(1+(MainDisplay!$O$24/100))*I153,H153,NA())","v":""}]
[249,{"$f":"Sheet3!B154","v":"13:45:00"},null,null,null,null,null,{"$f":"RTD(\"cqg.rtd\",,\"StudyData\", \"Vol(\"&$D$12&\") when LocalYear(\"&$D$12&\")=\"&$D$1&\" and localMonth(\"&$D$12&\") =\"&$E$1&\" and LocalDay(\"&$D$12&\")=\"&$F$1&\" and Barix(\"&$D$12&\",reference:=StartOfDay)=\"&A154&\"\", \"Bar\", \"\", \"Close\",\"A5C\",\"0\",\"All\",,,\"False\",\"T\",\"EveryTick\")","v":""},8946.3333333333339,{"$f":"RTD(\"cqg.rtd\",,\"StudyData\", \"Vol(\"&$D$12&\") when LocalYear(\"&$D$12&\")=\"&$D$2&\" and localMonth(\"&$D$12&\") =\"&$E$2&\" and LocalDay(\"&$D$12&\")=\"&$F$2&\" and Barix(\"&$D$12&\",reference:=StartOfDay)=\"&A154&\"\", \"Bar\", \"\", \"Close\",\"A5C\",\"0\",\"All\",,,\"False\",\"T\",\"EveryTick\")","v":4767},{"$f":"RTD(\"cqg.rtd\",,\"StudyData\", \"Vol(\"&$D$12&\") when LocalYear(\"&$D$12&\")=\"&$D$3&\" and localMonth(\"&$D$12&\") =\"&$E$3&\" and LocalDay(\"&$D$12&\")=\"&$F$3&\" and Barix(\"&$D$12&\",reference:=StartOfDay)=\"&A154&\"\", \"Bar\", \"\", \"Close\",\"A5C\",\"0\",\"All\",,,\"False\",\"T\",\"EveryTick\")","v":7146},{"$f":"RTD(\"cqg.rtd\",,\"StudyData\", \"Vol(\"&$D$12&\") when LocalYear(\"&$D$12&\")=\"&$D$4&\" and localMonth(\"&$D$12&\") =\"&$E$4&\" and LocalDay(\"&$D$12&\")=\"&$F$4&\" and Barix(\"&$D$12&\",reference:=StartOfDay)=\"&A154&\"\", \"Bar\", \"\", \"Close\",\"A5C\",\"0\",\"All\",,,\"False\",\"T\",\"EveryTick\")","v":5547},{"$f":"RTD(\"cqg.rtd\",,\"StudyData\", \"Vol(\"&$D$12&\") when LocalYear(\"&$D$12&\")=\"&$D$5&\" and localMonth(\"&$D$12&\") =\"&$E$5&\" and LocalDay(\"&$D$12&\")=\"&$F$5&\" and Barix(\"&$D$12&\",reference:=StartOfDay)=\"&A154&\"\", \"Bar\", \"\", \"Close\",\"A5C\",\"0\",\"All\",,,\"False\",\"T\",\"EveryTick\")","v":8063},{"$f":"RTD(\"cqg.rtd\",,\"StudyData\", \"Vol(\"&$D$12&\") when LocalYear(\"&$D$12&\")=\"&$D$6&\" and localMonth(\"&$D$12&\") =\"&$E$6&\" and LocalDay(\"&$D$12&\")=\"&$F$6&\" and Barix(\"&$D$12&\",reference:=StartOfDay)=\"&A154&\"\", \"Bar\", \"\", \"Close\",\"A5C\",\"0\",\"All\",,,\"False\",\"T\",\"EveryTick\")","v":10306},{"$f":"RTD(\"cqg.rtd\",,\"StudyData\", \"Vol(\"&$D$12&\") when LocalYear(\"&$D$12&\")=\"&$D$7&\" and localMonth(\"&$D$12&\") =\"&$E$7&\" and LocalDay(\"&$D$12&\")=\"&$F$7&\" and Barix(\"&$D$12&\",reference:=StartOfDay)=\"&A154&\"\", \"Bar\", \"\", \"Close\",\"A5C\",\"0\",\"All\",,,\"False\",\"T\",\"EveryTick\")","v":9699},{"$f":"RTD(\"cqg.rtd\",,\"StudyData\", \"Vol(\"&$D$12&\") when LocalYear(\"&$D$12&\")=\"&$D$8&\" and localMonth(\"&$D$12&\") =\"&$E$8&\" and LocalDay(\"&$D$12&\")=\"&$F$8&\" and Barix(\"&$D$12&\",reference:=StartOfDay)=\"&A154&\"\", \"Bar\", \"\", \"Close\",\"A5C\",\"0\",\"All\",,,\"False\",\"T\",\"EveryTick\")","v":14663},{"$f":"RTD(\"cqg.rtd\",,\"StudyData\", \"Vol(\"&$D$12&\") when LocalYear(\"&$D$12&\")=\"&$D$9&\" and localMonth(\"&$D$12&\") =\"&$E$9&\" and LocalDay(\"&$D$12&\")=\"&$F$9&\" and Barix(\"&$D$12&\",reference:=StartOfDay)=\"&A154&\"\", \"Bar\", \"\", \"Close\",\"A5C\",\"0\",\"All\",,,\"False\",\"T\",\"EveryTick\")","v":8310},{"$f":"RTD(\"cqg.rtd\",,\"StudyData\", \"Vol(\"&$D$12&\") when LocalYear(\"&$D$12&\")=\"&$D$10&\" and localMonth(\"&$D$12&\") =\"&$E$10&\" and LocalDay(\"&$D$12&\")=\"&$F$10&\" and Barix(\"&$D$12&\",reference:=StartOfDay)=\"&A154&\"\", \"Bar\", \"\", \"Close\",\"A5C\",\"0\",\"All\",,,\"False\",\"T\",\"EveryTick\")","v":12016},{"$f":"IF(H154>(1+(MainDisplay!$O$24/100))*I154,H154,NA())","v":""}]
[250,{"$f":"Sheet3!B155","v":"13:50:00"},null,null,null,null,null,{"$f":"RTD(\"cqg.rtd\",,\"StudyData\", \"Vol(\"&$D$12&\") when LocalYear(\"&$D$12&\")=\"&$D$1&\" and localMonth(\"&$D$12&\") =\"&$E$1&\" and LocalDay(\"&$D$12&\")=\"&$F$1&\" and Barix(\"&$D$12&\",reference:=StartOfDay)=\"&A155&\"\", \"Bar\", \"\", \"Close\",\"A5C\",\"0\",\"All\",,,\"False\",\"T\",\"EveryTick\")","v":""},12945,{"$f":"RTD(\"cqg.rtd\",,\"StudyData\", \"Vol(\"&$D$12&\") when LocalYear(\"&$D$12&\")=\"&$D$2&\" and localMonth(\"&$D$12&\") =\"&$E$2&\" and LocalDay(\"&$D$12&\")=\"&$F$2&\" and Barix(\"&$D$12&\",reference:=StartOfDay)=\"&A155&\"\", \"Bar\", \"\", \"Close\",\"A5C\",\"0\",\"All\",,,\"False\",\"T\",\"EveryTick\")","v":6050},{"$f":"RTD(\"cqg.rtd\",,\"StudyData\", \"Vol(\"&$D$12&\") when LocalYear(\"&$D$12&\")=\"&$D$3&\" and localMonth(\"&$D$12&\") =\"&$E$3&\" and LocalDay(\"&$D$12&\")=\"&$F$3&\" and Barix(\"&$D$12&\",reference:=StartOfDay)=\"&A155&\"\", \"Bar\", \"\", \"Close\",\"A5C\",\"0\",\"All\",,,\"False\",\"T\",\"EveryTick\")","v":10263},{"$f":"RTD(\"cqg.rtd\",,\"StudyData\", \"Vol(\"&$D$12&\") when LocalYear(\"&$D$12&\")=\"&$D$4&\" and localMonth(\"&$D$12&\") =\"&$E$4&\" and LocalDay(\"&$D$12&\")=\"&$F$4&\" and Barix(\"&$D$12&\",reference:=StartOfDay)=\"&A155&\"\", \"Bar\", \"\", \"Close\",\"A5C\",\"0\",\"All\",,,\"False\",\"T\",\"EveryTick\")","v":4418},{"$f":"RTD(\"cqg.rtd\",,\"StudyData\", \"Vol(\"&$D$12&\") when LocalYear(\"&$D$12&\")=\"&$D$5&\" and localMonth(\"&$D$12&\") =\"&$E$5&\" and LocalDay(\"&$D$12&\")=\"&$F$5&\" and Barix(\"&$D$12&\",reference:=StartOfDay)=\"&A155&\"\", \"Bar\", \"\", \"Close\",\"A5C\",\"0\",\"All\",,,\"False\",\"T\",\"EveryTick\")","v":11383},{"$f":"RTD(\"cqg.rtd\",,\"StudyData\", \"Vol(\"&$D$12&\") when LocalYear(\"&$D$12&\")=\"&$D$6&\" and localMonth(\"&$D$12&\") =\"&$E$6&\" and LocalDay(\"&$D$12&\")=\"&$F$6&\" and Barix(\"&$D$12&\",reference:=StartOfDay)=\"&A155&\"\", \"Bar\", \"\", \"Close\",\"A5C\",\"0\",\"All\",,,\"False\",\"T\",\"EveryTick\")","v":19118},{"$f":"RTD(\"cqg.rtd\",,\"StudyData\", \"Vol(\"&$D$12&\") when LocalYear(\"&$D$12&\")=\"&$D$7&\" and localMonth(\"&$D$12&\") =\"&$E$7&\" and LocalDay(\"&$D$12&\")=\"&$F$7&\" and Barix(\"&$D$12&\",reference:=StartOfDay)=\"&A155&\"\", \"Bar\", \"\", \"Close\",\"A5C\",\"0\",\"All\",,,\"False\",\"T\",\"EveryTick\")","v":7010},{"$f":"RTD(\"cqg.rtd\",,\"StudyData\", \"Vol(\"&$D$12&\") when LocalYear(\"&$D$12&\")=\"&$D$8&\" and localMonth(\"&$D$12&\") =\"&$E$8&\" and LocalDay(\"&$D$12&\")=\"&$F$8&\" and Barix(\"&$D$12&\",reference:=StartOfDay)=\"&A155&\"\", \"Bar\", \"\", \"Close\",\"A5C\",\"0\",\"All\",,,\"False\",\"T\",\"EveryTick\")","v":13857},{"$f":"RTD(\"cqg.rtd\",,\"StudyData\", \"Vol(\"&$D$12&\") when LocalYear(\"&$D$12&\")=\"&$D$9&\" and localMonth(\"&$D$12&\") =\"&$E$9&\" and LocalDay(\"&$D$12&\")=\"&$F$9&\" and Barix(\"&$D$12&\",reference:=StartOfDay)=\"&A155&\"\", \"Bar\", \"\", \"Close\",\"A5C\",\"0\",\"All\",,,\"False\",\"T\",\"EveryTick\")","v":16189},{"$f":"RTD(\"cqg.rtd\",,\"StudyData\", \"Vol(\"&$D$12&\") when LocalYear(\"&$D$12&\")=\"&$D$10&\" and localMonth(\"&$D$12&\") =\"&$E$10&\" and LocalDay(\"&$D$12&\")=\"&$F$10&\" and Barix(\"&$D$12&\",reference:=StartOfDay)=\"&A155&\"\", \"Bar\", \"\", \"Close\",\"A5C\",\"0\",\"All\",,,\"False\",\"T\",\"EveryTick\")","v":28217},{"$f":"IF(H155>(1+(MainDisplay!$O$24/100))*I155,H155,NA())","v":""}]
[251,{"$f":"Sheet3!B156","v":"13:55:00"},null,null,null,null,null,{"$f":"RTD(\"cqg.rtd\",,\"StudyData\", \"Vol(\"&$D$12&\") when LocalYear(\"&$D$12&\")=\"&$D$1&\" and localMonth(\"&$D$12&\") =\"&$E$1&\" and LocalDay(\"&$D$12&\")=\"&$F$1&\" and Barix(\"&$D$12&\",reference:=StartOfDay)=\"&A156&\"\", \"Bar\", \"\", \"Close\",\"A5C\",\"0\",\"All\",,,\"False\",\"T\",\"EveryTick\")","v":""},12412.555555555555,{"$f":"RTD(\"cqg.rtd\",,\"StudyData\", \"Vol(\"&$D$12&\") when LocalYear(\"&$D$12&\")=\"&$D$2&\" and localMonth(\"&$D$12&\") =\"&$E$2&\" and LocalDay(\"&$D$12&\")=\"&$F$2&\" and Barix(\"&$D$12&\",reference:=StartOfDay)=\"&A156&\"\", \"Bar\", \"\", \"Close\",\"A5C\",\"0\",\"All\",,,\"False\",\"T\",\"EveryTick\")","v":14919},{"$f":"RTD(\"cqg.rtd\",,\"StudyData\", \"Vol(\"&$D$12&\") when LocalYear(\"&$D$12&\")=\"&$D$3&\" and localMonth(\"&$D$12&\") =\"&$E$3&\" and LocalDay(\"&$D$12&\")=\"&$F$3&\" and Barix(\"&$D$12&\",reference:=StartOfDay)=\"&A156&\"\", \"Bar\", \"\", \"Close\",\"A5C\",\"0\",\"All\",,,\"False\",\"T\",\"EveryTick\")","v":8692},{"$f":"RTD(\"cqg.rtd\",,\"StudyData\", \"Vol(\"&$D$12&\") when LocalYear(\"&$D$12&\")=\"&$D$4&\" and localMonth(\"&$D$12&\") =\"&$E$4&\" and LocalDay(\"&$D$12&\")=\"&$F$4&\" and Barix(\"&$D$12&\",reference:=StartOfDay)=\"&A156&\"\", \"Bar\", \"\", \"Close\",\"A5C\",\"0\",\"All\",,,\"False\",\"T\",\"EveryTick\")","v":4889},{"$f":"RTD(\"cqg.rtd\",,\"StudyData\", \"Vol(\"&$D$12&\") when LocalYear(\"&$D$12&\")=\"&$D$5&\" and localMonth(\"&$D$12&\") =\"&$E$5&\" and LocalDay(\"&$D$12&\")=\"&$F$5&\" and Barix(\"&$D$12&\",reference:=StartOfDay)=\"&A156&\"\", \"Bar\", \"\", \"Close\",\"A5C\",\"0\",\"All\",,,\"False\",\"T\",\"EveryTick\")","v":11921},{"$f":"RTD(\"cqg.rtd\",,\"StudyData\", \"Vol(\"&$D$12&\") when LocalYear(\"&$D$12&\")=\"&$D$6&\" and localMonth(\"&$D$12&\") =\"&$E$6&\" and LocalDay(\"&$D$12&\")=\"&$F$6&\" and Barix(\"&$D$12&\",reference:=StartOfDay)=\"&A156&\"\", \"Bar\", \"\", \"Close\",\"A5C\",\"0\",\"All\",,,\"False\",\"T\",\"EveryTick\")","v":16704},{"$f":"RTD(\"cqg.rtd\",,\"StudyData\", \"Vol(\"&$D$12&\") when LocalYear(\"&$D$12&\")=\"&$D$7&\" and localMonth(\"&$D$12&\") =\"&$E$7&\" and LocalDay(\"&$D$12&\")=\"&$F$7&\" and Barix(\"&$D$12&\",reference:=StartOfDay)=\"&A156&\"\", \"Bar\", \"\", \"Close\",\"A5C\",\"0\",\"All\",,,\"False\",\"T\",\"EveryTick\")","v":7807},{"$f":"RTD(\"cqg.rtd\",,\"StudyData\", \"Vol(\"&$D$12&\") when LocalYear(\"&$D$12&\")=\"&$D$8&\" and localMonth(\"&$D$12&\") =\"&$E$8&\" and LocalDay(\"&$D$12&\")=\"&$F$8&\" and Barix(\"&$D$12&\",reference:=StartOfDay)=\"&A156&\"\", \"Bar\", \"\", \"Close\",\"A5C\",\"0\",\"All\",,,\"False\",\"T\",\"EveryTick\")","v":15107},{"$f":"RTD(\"cqg.rtd\",,\"StudyData\", \"Vol(\"&$D$12&\") when LocalYear(\"&$D$12&\")=\"&$D$9&\" and localMonth(\"&$D$12&\") =\"&$E$9&\" and LocalDay(\"&$D$12&\")=\"&$F$9&\" and Barix(\"&$D$12&\",reference:=StartOfDay)=\"&A156&\"\", \"Bar\", \"\", \"Close\",\"A5C\",\"0\",\"All\",,,\"False\",\"T\",\"EveryTick\")","v":12294},{"$f":"RTD(\"cqg.rtd\",,\"StudyData\", \"Vol(\"&$D$12&\") when LocalYear(\"&$D$12&\")=\"&$D$10&\" and localMonth(\"&$D$12&\") =\"&$E$10&\" and LocalDay(\"&$D$12&\")=\"&$F$10&\" and Barix(\"&$D$12&\",reference:=StartOfDay)=\"&A156&\"\", \"Bar\", \"\", \"Close\",\"A5C\",\"0\",\"All\",,,\"False\",\"T\",\"EveryTick\")","v":19380},{"$f":"IF(H156>(1+(MainDisplay!$O$24/100))*I156,H156,NA())","v":""}]
[252,{"$f":"Sheet3!B157","v":"14:00:00"},null,null,null,null,null,{"$f":"RTD(\"cqg.rtd\",,\"StudyData\", \"Vol(\"&$D$12&\") when LocalYear(\"&$D$12&\")=\"&$D$1&\" and localMonth(\"&$D$12&\") =\"&$E$1&\" and LocalDay(\"&$D$12&\")=\"&$F$1&\" and Barix(\"&$D$12&\",reference:=StartOfDay)=\"&A157&\"\", \"Bar\", \"\", \"Close\",\"A5C\",\"0\",\"All\",,,\"False\",\"T\",\"EveryTick\")","v":""},12995.555555555555,{"$f":"RTD(\"cqg.rtd\",,\"StudyData\", \"Vol(\"&$D$12&\") when LocalYear(\"&$D$12&\")=\"&$D$2&\" and localMonth(\"&$D$12&\") =\"&$E$2&\" and LocalDay(\"&$D$12&\")=\"&$F$2&\" and Barix(\"&$D$12&\",reference:=StartOfDay)=\"&A157&\"\", \"Bar\", \"\", \"Close\",\"A5C\",\"0\",\"All\",,,\"False\",\"T\",\"EveryTick\")","v":10079},{"$f":"RTD(\"cqg.rtd\",,\"StudyData\", \"Vol(\"&$D$12&\") when LocalYear(\"&$D$12&\")=\"&$D$3&\" and localMonth(\"&$D$12&\") =\"&$E$3&\" and LocalDay(\"&$D$12&\")=\"&$F$3&\" and Barix(\"&$D$12&\",reference:=StartOfDay)=\"&A157&\"\", \"Bar\", \"\", \"Close\",\"A5C\",\"0\",\"All\",,,\"False\",\"T\",\"EveryTick\")","v":5992},{"$f":"RTD(\"cqg.rtd\",,\"StudyData\", \"Vol(\"&$D$12&\") when LocalYear(\"&$D$12&\")=\"&$D$4&\" and localMonth(\"&$D$12&\") =\"&$E$4&\" and LocalDay(\"&$D$12&\")=\"&$F$4&\" and Barix(\"&$D$12&\",reference:=StartOfDay)=\"&A157&\"\", \"Bar\", \"\", \"Close\",\"A5C\",\"0\",\"All\",,,\"False\",\"T\",\"EveryTick\")","v":7114},{"$f":"RTD(\"cqg.rtd\",,\"StudyData\", \"Vol(\"&$D$12&\") when LocalYear(\"&$D$12&\")=\"&$D$5&\" and localMonth(\"&$D$12&\") =\"&$E$5&\" and LocalDay(\"&$D$12&\")=\"&$F$5&\" and Barix(\"&$D$12&\",reference:=StartOfDay)=\"&A157&\"\", \"Bar\", \"\", \"Close\",\"A5C\",\"0\",\"All\",,,\"False\",\"T\",\"EveryTick\")","v":15054},{"$f":"RTD(\"cqg.rtd\",,\"StudyData\", \"Vol(\"&$D$12&\") when LocalYear(\"&$D$12&\")=\"&$D$6&\" and localMonth(\"&$D$12&\") =\"&$E$6&\" and LocalDay(\"&$D$12&\")=\"&$F$6&\" and Barix(\"&$D$12&\",reference:=StartOfDay)=\"&A157&\"\", \"Bar\", \"\", \"Close\",\"A5C\",\"0\",\"All\",,,\"False\",\"T\",\"EveryTick\")","v":13334},{"$f":"RTD(\"cqg.rtd\",,\"StudyData\", \"Vol(\"&$D$12&\") when LocalYear(\"&$D$12&\")=\"&$D$7&\" and localMonth(\"&$D$12&\") =\"&$E$7&\" and LocalDay(\"&$D$12&\")=\"&$F$7&\" and Barix(\"&$D$12&\",reference:=StartOfDay)=\"&A157&\"\", \"Bar\", \"\", \"Close\",\"A5C\",\"0\",\"All\",,,\"False\",\"T\",\"EveryTick\")","v":8138},{"$f":"RTD(\"cqg.rtd\",,\"StudyData\", \"Vol(\"&$D$12&\") when LocalYear(\"&$D$12&\")=\"&$D$8&\" and localMonth(\"&$D$12&\") =\"&$E$8&\" and LocalDay(\"&$D$12&\")=\"&$F$8&\" and Barix(\"&$D$12&\",reference:=StartOfDay)=\"&A157&\"\", \"Bar\", \"\", \"Close\",\"A5C\",\"0\",\"All\",,,\"False\",\"T\",\"EveryTick\")","v":19108},{"$f":"RTD(\"cqg.rtd\",,\"StudyData\", \"Vol(\"&$D$12&\") when LocalYear(\"&$D$12&\")=\"&$D$9&\" and localMonth(\"&$D$12&\") =\"&$E$9&\" and LocalDay(\"&$D$12&\")=\"&$F$9&\" and Barix(\"&$D$12&\",reference:=StartOfDay)=\"&A157&\"\", \"Bar\", \"\", \"Close\",\"A5C\",\"0\",\"All\",,,\"False\",\"T\",\"EveryTick\")","v":14451},{"$f":"RTD(\"cqg.rtd\",,\"StudyData\", \"Vol(\"&$D$12&\") when LocalYear(\"&$D$12&\")=\"&$D$10&\" and localMonth(\"&$D$12&\") =\"&$E$10&\" and LocalDay(\"&$D$12&\")=\"&$F$10&\" and Barix(\"&$D$12&\",reference:=StartOfDay)=\"&A157&\"\", \"Bar\", \"\", \"Close\",\"A5C\",\"0\",\"All\",,,\"False\",\"T\",\"EveryTick\")","v":23690},{"$f":"IF(H157>(1+(MainDisplay!$O$24/100))*I157,H157,NA())","v":""}]
[253,{"$f":"Sheet3!B158","v":"14:05:00"},null,null,null,null,null,{"$f":"RTD(\"cqg.rtd\",,\"StudyData\", \"Vol(\"&$D$12&\") when LocalYear(\"&$D$12&\")=\"&$D$1&\" and localMonth(\"&$D$12&\") =\"&$E$1&\" and LocalDay(\"&$D$12&\")=\"&$F$1&\" and Barix(\"&$D$12&\",reference:=StartOfDay)=\"&A158&\"\", \"Bar\", \"\", \"Close\",\"A5C\",\"0\",\"All\",,,\"False\",\"T\",\"EveryTick\")","v":""},12088.111111111111,{"$f":"RTD(\"cqg.rtd\",,\"StudyData\", \"Vol(\"&$D$12&\") when LocalYear(\"&$D$12&\")=\"&$D$2&\" and localMonth(\"&$D$12&\") =\"&$E$2&\" and LocalDay(\"&$D$12&\")=\"&$F$2&\" and Barix(\"&$D$12&\",reference:=StartOfDay)=\"&A158&\"\", \"Bar\", \"\", \"Close\",\"A5C\",\"0\",\"All\",,,\"False\",\"T\",\"EveryTick\")","v":7435},{"$f":"RTD(\"cqg.rtd\",,\"StudyData\", \"Vol(\"&$D$12&\") when LocalYear(\"&$D$12&\")=\"&$D$3&\" and localMonth(\"&$D$12&\") =\"&$E$3&\" and LocalDay(\"&$D$12&\")=\"&$F$3&\" and Barix(\"&$D$12&\",reference:=StartOfDay)=\"&A158&\"\", \"Bar\", \"\", \"Close\",\"A5C\",\"0\",\"All\",,,\"False\",\"T\",\"EveryTick\")","v":10446},{"$f":"RTD(\"cqg.rtd\",,\"StudyData\", \"Vol(\"&$D$12&\") when LocalYear(\"&$D$12&\")=\"&$D$4&\" and localMonth(\"&$D$12&\") =\"&$E$4&\" and LocalDay(\"&$D$12&\")=\"&$F$4&\" and Barix(\"&$D$12&\",reference:=StartOfDay)=\"&A158&\"\", \"Bar\", \"\", \"Close\",\"A5C\",\"0\",\"All\",,,\"False\",\"T\",\"EveryTick\")","v":9005},{"$f":"RTD(\"cqg.rtd\",,\"StudyData\", \"Vol(\"&$D$12&\") when LocalYear(\"&$D$12&\")=\"&$D$5&\" and localMonth(\"&$D$12&\") =\"&$E$5&\" and LocalDay(\"&$D$12&\")=\"&$F$5&\" and Barix(\"&$D$12&\",reference:=StartOfDay)=\"&A158&\"\", \"Bar\", \"\", \"Close\",\"A5C\",\"0\",\"All\",,,\"False\",\"T\",\"EveryTick\")","v":15492},{"$f":"RTD(\"cqg.rtd\",,\"StudyData\", \"Vol(\"&$D$12&\") when LocalYear(\"&$D$12&\")=\"&$D$6&\" and localMonth(\"&$D$12&\") =\"&$E$6&\" and LocalDay(\"&$D$12&\")=\"&$F$6&\" and Barix(\"&$D$12&\",reference:=StartOfDay)=\"&A158&\"\", \"Bar\", \"\", \"Close\",\"A5C\",\"0\",\"All\",,,\"False\",\"T\",\"EveryTick\")","v":15324},{"$f":"RTD(\"cqg.rtd\",,\"StudyData\", \"Vol(\"&$D$12&\") when LocalYear(\"&$D$12&\")=\"&$D$7&\" and localMonth(\"&$D$12&\") =\"&$E$7&\" and LocalDay(\"&$D$12&\")=\"&$F$7&\" and Barix(\"&$D$12&\",reference:=StartOfDay)=\"&A158&\"\", \"Bar\", \"\", \"Close\",\"A5C\",\"0\",\"All\",,,\"False\",\"T\",\"EveryTick\")","v":8208},{"$f":"RTD(\"cqg.rtd\",,\"StudyData\", \"Vol(\"&$D$12&\") when LocalYear(\"&$D$12&\")=\"&$D$8&\" and localMonth(\"&$D$12&\") =\"&$E$8&\" and LocalDay(\"&$D$12&\")=\"&$F$8&\" and Barix(\"&$D$12&\",reference:=StartOfDay)=\"&A158&\"\", \"Bar\", \"\", \"Close\",\"A5C\",\"0\",\"All\",,,\"False\",\"T\",\"EveryTick\")","v":18813},{"$f":"RTD(\"cqg.rtd\",,\"StudyData\", \"Vol(\"&$D$12&\") when LocalYear(\"&$D$12&\")=\"&$D$9&\" and localMonth(\"&$D$12&\") =\"&$E$9&\" and LocalDay(\"&$D$12&\")=\"&$F$9&\" and Barix(\"&$D$12&\",reference:=StartOfDay)=\"&A158&\"\", \"Bar\", \"\", \"Close\",\"A5C\",\"0\",\"All\",,,\"False\",\"T\",\"EveryTick\")","v":10481},{"$f":"RTD(\"cqg.rtd\",,\"StudyData\", \"Vol(\"&$D$12&\") when LocalYear(\"&$D$12&\")=\"&$D$10&\" and localMonth(\"&$D$12&\") =\"&$E$10&\" and LocalDay(\"&$D$12&\")=\"&$F$10&\" and Barix(\"&$D$12&\",reference:=StartOfDay)=\"&A158&\"\", \"Bar\", \"\", \"Close\",\"A5C\",\"0\",\"All\",,,\"False\",\"T\",\"EveryTick\")","v":13589},{"$f":"IF(H158>(1+(MainDisplay!$O$24/100))*I158,H158,NA())","v":""}]
[254,{"$f":"Sheet3!B159","v":"14:10:00"},null,null,null,null,null,{"$f":"RTD(\"cqg.rtd\",,\"StudyData\", \"Vol(\"&$D$12&\") when LocalYear(\"&$D$12&\")=\"&$D$1&\" and localMonth(\"&$D$12&\") =\"&$E$1&\" and LocalDay(\"&$D$12&\")=\"&$F$1&\" and Barix(\"&$D$12&\",reference:=StartOfDay)=\"&A159&\"\", \"Bar\", \"\", \"Close\",\"A5C\",\"0\",\"All\",,,\"False\",\"T\",\"EveryTick\")","v":""},11436.222222222223,{"$f":"RTD(\"cqg.rtd\",,\"StudyData\", \"Vol(\"&$D$12&\") when LocalYear(\"&$D$12&\")=\"&$D$2&\" and localMonth(\"&$D$12&\") =\"&$E$2&\" and LocalDay(\"&$D$12&\")=\"&$F$2&\" and Barix(\"&$D$12&\",reference:=StartOfDay)=\"&A159&\"\", \"Bar\", \"\", \"Close\",\"A5C\",\"0\",\"All\",,,\"False\",\"T\",\"EveryTick\")","v":5592},{"$f":"RTD(\"cqg.rtd\",,\"StudyData\", \"Vol(\"&$D$12&\") when LocalYear(\"&$D$12&\")=\"&$D$3&\" and localMonth(\"&$D$12&\") =\"&$E$3&\" and LocalDay(\"&$D$12&\")=\"&$F$3&\" and Barix(\"&$D$12&\",reference:=StartOfDay)=\"&A159&\"\", \"Bar\", \"\", \"Close\",\"A5C\",\"0\",\"All\",,,\"False\",\"T\",\"EveryTick\")","v":7382},{"$f":"RTD(\"cqg.rtd\",,\"StudyData\", \"Vol(\"&$D$12&\") when LocalYear(\"&$D$12&\")=\"&$D$4&\" and localMonth(\"&$D$12&\") =\"&$E$4&\" and LocalDay(\"&$D$12&\")=\"&$F$4&\" and Barix(\"&$D$12&\",reference:=StartOfDay)=\"&A159&\"\", \"Bar\", \"\", \"Close\",\"A5C\",\"0\",\"All\",,,\"False\",\"T\",\"EveryTick\")","v":8555},{"$f":"RTD(\"cqg.rtd\",,\"StudyData\", \"Vol(\"&$D$12&\") when LocalYear(\"&$D$12&\")=\"&$D$5&\" and localMonth(\"&$D$12&\") =\"&$E$5&\" and LocalDay(\"&$D$12&\")=\"&$F$5&\" and Barix(\"&$D$12&\",reference:=StartOfDay)=\"&A159&\"\", \"Bar\", \"\", \"Close\",\"A5C\",\"0\",\"All\",,,\"False\",\"T\",\"EveryTick\")","v":11250},{"$f":"RTD(\"cqg.rtd\",,\"StudyData\", \"Vol(\"&$D$12&\") when LocalYear(\"&$D$12&\")=\"&$D$6&\" and localMonth(\"&$D$12&\") =\"&$E$6&\" and LocalDay(\"&$D$12&\")=\"&$F$6&\" and Barix(\"&$D$12&\",reference:=StartOfDay)=\"&A159&\"\", \"Bar\", \"\", \"Close\",\"A5C\",\"0\",\"All\",,,\"False\",\"T\",\"EveryTick\")","v":17998},{"$f":"RTD(\"cqg.rtd\",,\"StudyData\", \"Vol(\"&$D$12&\") when LocalYear(\"&$D$12&\")=\"&$D$7&\" and localMonth(\"&$D$12&\") =\"&$E$7&\" and LocalDay(\"&$D$12&\")=\"&$F$7&\" and Barix(\"&$D$12&\",reference:=StartOfDay)=\"&A159&\"\", \"Bar\", \"\", \"Close\",\"A5C\",\"0\",\"All\",,,\"False\",\"T\",\"EveryTick\")","v":7173},{"$f":"RTD(\"cqg.rtd\",,\"StudyData\", \"Vol(\"&$D$12&\") when LocalYear(\"&$D$12&\")=\"&$D$8&\" and localMonth(\"&$D$12&\") =\"&$E$8&\" and LocalDay(\"&$D$12&\")=\"&$F$8&\" and Barix(\"&$D$12&\",reference:=StartOfDay)=\"&A159&\"\", \"Bar\", \"\", \"Close\",\"A5C\",\"0\",\"All\",,,\"False\",\"T\",\"EveryTick\")","v":15731},{"$f":"RTD(\"cqg.rtd\",,\"StudyData\", \"Vol(\"&$D$12&\") when LocalYear(\"&$D$12&\")=\"&$D$9&\" and localMonth(\"&$D$12&\") =\"&$E$9&\" and LocalDay(\"&$D$12&\")=\"&$F$9&\" and Barix(\"&$D$12&\",reference:=StartOfDay)=\"&A159&\"\", \"Bar\", \"\", \"Close\",\"A5C\",\"0\",\"All\",,,\"False\",\"T\",\"EveryTick\")","v":13529},{"$f":"RTD(\"cqg.rtd\",,\"StudyData\", \"Vol(\"&$D$12&\") when LocalYear(\"&$D$12&\")=\"&$D$10&\" and localMonth(\"&$D$12&\") =\"&$E$10&\" and LocalDay(\"&$D$12&\")=\"&$F$10&\" and Barix(\"&$D$12&\",reference:=StartOfDay)=\"&A159&\"\", \"Bar\", \"\", \"Close\",\"A5C\",\"0\",\"All\",,,\"False\",\"T\",\"EveryTick\")","v":15716},{"$f":"IF(H159>(1+(MainDisplay!$O$24/100))*I159,H159,NA())","v":""}]
[255,{"$f":"Sheet3!B160","v":"14:15:00"},null,null,null,null,null,{"$f":"RTD(\"cqg.rtd\",,\"StudyData\", \"Vol(\"&$D$12&\") when LocalYear(\"&$D$12&\")=\"&$D$1&\" and localMonth(\"&$D$12&\") =\"&$E$1&\" and LocalDay(\"&$D$12&\")=\"&$F$1&\" and Barix(\"&$D$12&\",reference:=StartOfDay)=\"&A160&\"\", \"Bar\", \"\", \"Close\",\"A5C\",\"0\",\"All\",,,\"False\",\"T\",\"EveryTick\")","v":""},11824.555555555555,{"$f":"RTD(\"cqg.rtd\",,\"StudyData\", \"Vol(\"&$D$12&\") when LocalYear(\"&$D$12&\")=\"&$D$2&\" and localMonth(\"&$D$12&\") =\"&$E$2&\" and LocalDay(\"&$D$12&\")=\"&$F$2&\" and Barix(\"&$D$12&\",reference:=StartOfDay)=\"&A160&\"\", \"Bar\", \"\", \"Close\",\"A5C\",\"0\",\"All\",,,\"False\",\"T\",\"EveryTick\")","v":10553},{"$f":"RTD(\"cqg.rtd\",,\"StudyData\", \"Vol(\"&$D$12&\") when LocalYear(\"&$D$12&\")=\"&$D$3&\" and localMonth(\"&$D$12&\") =\"&$E$3&\" and LocalDay(\"&$D$12&\")=\"&$F$3&\" and Barix(\"&$D$12&\",reference:=StartOfDay)=\"&A160&\"\", \"Bar\", \"\", \"Close\",\"A5C\",\"0\",\"All\",,,\"False\",\"T\",\"EveryTick\")","v":7710},{"$f":"RTD(\"cqg.rtd\",,\"StudyData\", \"Vol(\"&$D$12&\") when LocalYear(\"&$D$12&\")=\"&$D$4&\" and localMonth(\"&$D$12&\") =\"&$E$4&\" and LocalDay(\"&$D$12&\")=\"&$F$4&\" and Barix(\"&$D$12&\",reference:=StartOfDay)=\"&A160&\"\", \"Bar\", \"\", \"Close\",\"A5C\",\"0\",\"All\",,,\"False\",\"T\",\"EveryTick\")","v":6824},{"$f":"RTD(\"cqg.rtd\",,\"StudyData\", \"Vol(\"&$D$12&\") when LocalYear(\"&$D$12&\")=\"&$D$5&\" and localMonth(\"&$D$12&\") =\"&$E$5&\" and LocalDay(\"&$D$12&\")=\"&$F$5&\" and Barix(\"&$D$12&\",reference:=StartOfDay)=\"&A160&\"\", \"Bar\", \"\", \"Close\",\"A5C\",\"0\",\"All\",,,\"False\",\"T\",\"EveryTick\")","v":10520},{"$f":"RTD(\"cqg.rtd\",,\"StudyData\", \"Vol(\"&$D$12&\") when LocalYear(\"&$D$12&\")=\"&$D$6&\" and localMonth(\"&$D$12&\") =\"&$E$6&\" and LocalDay(\"&$D$12&\")=\"&$F$6&\" and Barix(\"&$D$12&\",reference:=StartOfDay)=\"&A160&\"\", \"Bar\", \"\", \"Close\",\"A5C\",\"0\",\"All\",,,\"False\",\"T\",\"EveryTick\")","v":11982},{"$f":"RTD(\"cqg.rtd\",,\"StudyData\", \"Vol(\"&$D$12&\") when LocalYear(\"&$D$12&\")=\"&$D$7&\" and localMonth(\"&$D$12&\") =\"&$E$7&\" and LocalDay(\"&$D$12&\")=\"&$F$7&\" and Barix(\"&$D$12&\",reference:=StartOfDay)=\"&A160&\"\", \"Bar\", \"\", \"Close\",\"A5C\",\"0\",\"All\",,,\"False\",\"T\",\"EveryTick\")","v":8404},{"$f":"RTD(\"cqg.rtd\",,\"StudyData\", \"Vol(\"&$D$12&\") when LocalYear(\"&$D$12&\")=\"&$D$8&\" and localMonth(\"&$D$12&\") =\"&$E$8&\" and LocalDay(\"&$D$12&\")=\"&$F$8&\" and Barix(\"&$D$12&\",reference:=StartOfDay)=\"&A160&\"\", \"Bar\", \"\", \"Close\",\"A5C\",\"0\",\"All\",,,\"False\",\"T\",\"EveryTick\")","v":13892},{"$f":"RTD(\"cqg.rtd\",,\"StudyData\", \"Vol(\"&$D$12&\") when LocalYear(\"&$D$12&\")=\"&$D$9&\" and localMonth(\"&$D$12&\") =\"&$E$9&\" and LocalDay(\"&$D$12&\")=\"&$F$9&\" and Barix(\"&$D$12&\",reference:=StartOfDay)=\"&A160&\"\", \"Bar\", \"\", \"Close\",\"A5C\",\"0\",\"All\",,,\"False\",\"T\",\"EveryTick\")","v":20166},{"$f":"RTD(\"cqg.rtd\",,\"StudyData\", \"Vol(\"&$D$12&\") when LocalYear(\"&$D$12&\")=\"&$D$10&\" and localMonth(\"&$D$12&\") =\"&$E$10&\" and LocalDay(\"&$D$12&\")=\"&$F$10&\" and Barix(\"&$D$12&\",reference:=StartOfDay)=\"&A160&\"\", \"Bar\", \"\", \"Close\",\"A5C\",\"0\",\"All\",,,\"False\",\"T\",\"EveryTick\")","v":16370},{"$f":"IF(H160>(1+(MainDisplay!$O$24/100))*I160,H160,NA())","v":""}]
[256,{"$f":"Sheet3!B161","v":"14:20:00"},null,null,null,null,null,{"$f":"RTD(\"cqg.rtd\",,\"StudyData\", \"Vol(\"&$D$12&\") when LocalYear(\"&$D$12&\")=\"&$D$1&\" and localMonth(\"&$D$12&\") =\"&$E$1&\" and LocalDay(\"&$D$12&\")=\"&$F$1&\" and Barix(\"&$D$12&\",reference:=StartOfDay)=\"&A161&\"\", \"Bar\", \"\", \"Close\",\"A5C\",\"0\",\"All\",,,\"False\",\"T\",\"EveryTick\")","v":""},11306.222222222223,{"$f":"RTD(\"cqg.rtd\",,\"StudyData\", \"Vol(\"&$D$12&\") when LocalYear(\"&$D$12&\")=\"&$D$2&\" and localMonth(\"&$D$12&\") =\"&$E$2&\" and LocalDay(\"&$D$12&\")=\"&$F$2&\" and Barix(\"&$D$12&\",reference:=StartOfDay)=\"&A161&\"\", \"Bar\", \"\", \"Close\",\"A5C\",\"0\",\"All\",,,\"False\",\"T\",\"EveryTick\")","v":8963},{"$f":"RTD(\"cqg.rtd\",,\"StudyData\", \"Vol(\"&$D$12&\") when LocalYear(\"&$D$12&\")=\"&$D$3&\" and localMonth(\"&$D$12&\") =\"&$E$3&\" and LocalDay(\"&$D$12&\")=\"&$F$3&\" and Barix(\"&$D$12&\",reference:=StartOfDay)=\"&A161&\"\", \"Bar\", \"\", \"Close\",\"A5C\",\"0\",\"All\",,,\"False\",\"T\",\"EveryTick\")","v":9670},{"$f":"RTD(\"cqg.rtd\",,\"StudyData\", \"Vol(\"&$D$12&\") when LocalYear(\"&$D$12&\")=\"&$D$4&\" and localMonth(\"&$D$12&\") =\"&$E$4&\" and LocalDay(\"&$D$12&\")=\"&$F$4&\" and Barix(\"&$D$12&\",reference:=StartOfDay)=\"&A161&\"\", \"Bar\", \"\", \"Close\",\"A5C\",\"0\",\"All\",,,\"False\",\"T\",\"EveryTick\")","v":5282},{"$f":"RTD(\"cqg.rtd\",,\"StudyData\", \"Vol(\"&$D$12&\") when LocalYear(\"&$D$12&\")=\"&$D$5&\" and localMonth(\"&$D$12&\") =\"&$E$5&\" and LocalDay(\"&$D$12&\")=\"&$F$5&\" and Barix(\"&$D$12&\",reference:=StartOfDay)=\"&A161&\"\", \"Bar\", \"\", \"Close\",\"A5C\",\"0\",\"All\",,,\"False\",\"T\",\"EveryTick\")","v":8443},{"$f":"RTD(\"cqg.rtd\",,\"StudyData\", \"Vol(\"&$D$12&\") when LocalYear(\"&$D$12&\")=\"&$D$6&\" and localMonth(\"&$D$12&\") =\"&$E$6&\" and LocalDay(\"&$D$12&\")=\"&$F$6&\" and Barix(\"&$D$12&\",reference:=StartOfDay)=\"&A161&\"\", \"Bar\", \"\", \"Close\",\"A5C\",\"0\",\"All\",,,\"False\",\"T\",\"EveryTick\")","v":8997},{"$f":"RTD(\"cqg.rtd\",,\"StudyData\", \"Vol(\"&$D$12&\") when LocalYear(\"&$D$12&\")=\"&$D$7&\" and localMonth(\"&$D$12&\") =\"&$E$7&\" and LocalDay(\"&$D$12&\")=\"&$F$7&\" and Barix(\"&$D$12&\",reference:=StartOfDay)=\"&A161&\"\", \"Bar\", \"\", \"Close\",\"A5C\",\"0\",\"All\",,,\"False\",\"T\",\"EveryTick\")","v":13045},{"$f":"RTD(\"cqg.rtd\",,\"StudyData\", \"Vol(\"&$D$12&\") when LocalYear(\"&$D$12&\")=\"&$D$8&\" and localMonth(\"&$D$12&\") =\"&$E$8&\" and LocalDay(\"&$D$12&\")=\"&$F$8&\" and Barix(\"&$D$12&\",reference:=StartOfDay)=\"&A161&\"\", \"Bar\", \"\", \"Close\",\"A5C\",\"0\",\"All\",,,\"False\",\"T\",\"EveryTick\")","v":20390},{"$f":"RTD(\"cqg.rtd\",,\"StudyData\", \"Vol(\"&$D$12&\") when LocalYear(\"&$D$12&\")=\"&$D$9&\" and localMonth(\"&$D$12&\") =\"&$E$9&\" and LocalDay(\"&$D$12&\")=\"&$F$9&\" and Barix(\"&$D$12&\",reference:=StartOfDay)=\"&A161&\"\", \"Bar\", \"\", \"Close\",\"A5C\",\"0\",\"All\",,,\"False\",\"T\",\"EveryTick\")","v":10973},{"$f":"RTD(\"cqg.rtd\",,\"StudyData\", \"Vol(\"&$D$12&\") when LocalYear(\"&$D$12&\")=\"&$D$10&\" and localMonth(\"&$D$12&\") =\"&$E$10&\" and LocalDay(\"&$D$12&\")=\"&$F$10&\" and Barix(\"&$D$12&\",reference:=StartOfDay)=\"&A161&\"\", \"Bar\", \"\", \"Close\",\"A5C\",\"0\",\"All\",,,\"False\",\"T\",\"EveryTick\")","v":15993},{"$f":"IF(H161>(1+(MainDisplay!$O$24/100))*I161,H161,NA())","v":""}]
[257,{"$f":"Sheet3!B162","v":"14:25:00"},null,null,null,null,null,{"$f":"RTD(\"cqg.rtd\",,\"StudyData\", \"Vol(\"&$D$12&\") when LocalYear(\"&$D$12&\")=\"&$D$1&\" and localMonth(\"&$D$12&\") =\"&$E$1&\" and LocalDay(\"&$D$12&\")=\"&$F$1&\" and Barix(\"&$D$12&\",reference:=StartOfDay)=\"&A162&\"\", \"Bar\", \"\", \"Close\",\"A5C\",\"0\",\"All\",,,\"False\",\"T\",\"EveryTick\")","v":""},11248.555555555555,{"$f":"RTD(\"cqg.rtd\",,\"StudyData\", \"Vol(\"&$D$12&\") when LocalYear(\"&$D$12&\")=\"&$D$2&\" and localMonth(\"&$D$12&\") =\"&$E$2&\" and LocalDay(\"&$D$12&\")=\"&$F$2&\" and Barix(\"&$D$12&\",reference:=StartOfDay)=\"&A162&\"\", \"Bar\", \"\", \"Close\",\"A5C\",\"0\",\"All\",,,\"False\",\"T\",\"EveryTick\")","v":5789},{"$f":"RTD(\"cqg.rtd\",,\"StudyData\", \"Vol(\"&$D$12&\") when LocalYear(\"&$D$12&\")=\"&$D$3&\" and localMonth(\"&$D$12&\") =\"&$E$3&\" and LocalDay(\"&$D$12&\")=\"&$F$3&\" and Barix(\"&$D$12&\",reference:=StartOfDay)=\"&A162&\"\", \"Bar\", \"\", \"Close\",\"A5C\",\"0\",\"All\",,,\"False\",\"T\",\"EveryTick\")","v":12731},{"$f":"RTD(\"cqg.rtd\",,\"StudyData\", \"Vol(\"&$D$12&\") when LocalYear(\"&$D$12&\")=\"&$D$4&\" and localMonth(\"&$D$12&\") =\"&$E$4&\" and LocalDay(\"&$D$12&\")=\"&$F$4&\" and Barix(\"&$D$12&\",reference:=StartOfDay)=\"&A162&\"\", \"Bar\", \"\", \"Close\",\"A5C\",\"0\",\"All\",,,\"False\",\"T\",\"EveryTick\")","v":4496},{"$f":"RTD(\"cqg.rtd\",,\"StudyData\", \"Vol(\"&$D$12&\") when LocalYear(\"&$D$12&\")=\"&$D$5&\" and localMonth(\"&$D$12&\") =\"&$E$5&\" and LocalDay(\"&$D$12&\")=\"&$F$5&\" and Barix(\"&$D$12&\",reference:=StartOfDay)=\"&A162&\"\", \"Bar\", \"\", \"Close\",\"A5C\",\"0\",\"All\",,,\"False\",\"T\",\"EveryTick\")","v":10082},{"$f":"RTD(\"cqg.rtd\",,\"StudyData\", \"Vol(\"&$D$12&\") when LocalYear(\"&$D$12&\")=\"&$D$6&\" and localMonth(\"&$D$12&\") =\"&$E$6&\" and LocalDay(\"&$D$12&\")=\"&$F$6&\" and Barix(\"&$D$12&\",reference:=StartOfDay)=\"&A162&\"\", \"Bar\", \"\", \"Close\",\"A5C\",\"0\",\"All\",,,\"False\",\"T\",\"EveryTick\")","v":8868},{"$f":"RTD(\"cqg.rtd\",,\"StudyData\", \"Vol(\"&$D$12&\") when LocalYear(\"&$D$12&\")=\"&$D$7&\" and localMonth(\"&$D$12&\") =\"&$E$7&\" and LocalDay(\"&$D$12&\")=\"&$F$7&\" and Barix(\"&$D$12&\",reference:=StartOfDay)=\"&A162&\"\", \"Bar\", \"\", \"Close\",\"A5C\",\"0\",\"All\",,,\"False\",\"T\",\"EveryTick\")","v":12100},{"$f":"RTD(\"cqg.rtd\",,\"StudyData\", \"Vol(\"&$D$12&\") when LocalYear(\"&$D$12&\")=\"&$D$8&\" and localMonth(\"&$D$12&\") =\"&$E$8&\" and LocalDay(\"&$D$12&\")=\"&$F$8&\" and Barix(\"&$D$12&\",reference:=StartOfDay)=\"&A162&\"\", \"Bar\", \"\", \"Close\",\"A5C\",\"0\",\"All\",,,\"False\",\"T\",\"EveryTick\")","v":16221},{"$f":"RTD(\"cqg.rtd\",,\"StudyData\", \"Vol(\"&$D$12&\") when LocalYear(\"&$D$12&\")=\"&$D$9&\" and localMonth(\"&$D$12&\") =\"&$E$9&\" and LocalDay(\"&$D$12&\")=\"&$F$9&\" and Barix(\"&$D$12&\",reference:=StartOfDay)=\"&A162&\"\", \"Bar\", \"\", \"Close\",\"A5C\",\"0\",\"All\",,,\"False\",\"T\",\"EveryTick\")","v":14831},{"$f":"RTD(\"cqg.rtd\",,\"StudyData\", \"Vol(\"&$D$12&\") when LocalYear(\"&$D$12&\")=\"&$D$10&\" and localMonth(\"&$D$12&\") =\"&$E$10&\" and LocalDay(\"&$D$12&\")=\"&$F$10&\" and Barix(\"&$D$12&\",reference:=StartOfDay)=\"&A162&\"\", \"Bar\", \"\", \"Close\",\"A5C\",\"0\",\"All\",,,\"False\",\"T\",\"EveryTick\")","v":16119},{"$f":"IF(H162>(1+(MainDisplay!$O$24/100))*I162,H162,NA())","v":""}]
[258,{"$f":"Sheet3!B163","v":"14:30:00"},null,null,null,null,null,{"$f":"RTD(\"cqg.rtd\",,\"StudyData\", \"Vol(\"&$D$12&\") when LocalYear(\"&$D$12&\")=\"&$D$1&\" and localMonth(\"&$D$12&\") =\"&$E$1&\" and LocalDay(\"&$D$12&\")=\"&$F$1&\" and Barix(\"&$D$12&\",reference:=StartOfDay)=\"&A163&\"\", \"Bar\", \"\", \"Close\",\"A5C\",\"0\",\"All\",,,\"False\",\"T\",\"EveryTick\")","v":""},13400.444444444445,{"$f":"RTD(\"cqg.rtd\",,\"StudyData\", \"Vol(\"&$D$12&\") when LocalYear(\"&$D$12&\")=\"&$D$2&\" and localMonth(\"&$D$12&\") =\"&$E$2&\" and LocalDay(\"&$D$12&\")=\"&$F$2&\" and Barix(\"&$D$12&\",reference:=StartOfDay)=\"&A163&\"\", \"Bar\", \"\", \"Close\",\"A5C\",\"0\",\"All\",,,\"False\",\"T\",\"EveryTick\")","v":7318},{"$f":"RTD(\"cqg.rtd\",,\"StudyData\", \"Vol(\"&$D$12&\") when LocalYear(\"&$D$12&\")=\"&$D$3&\" and localMonth(\"&$D$12&\") =\"&$E$3&\" and LocalDay(\"&$D$12&\")=\"&$F$3&\" and Barix(\"&$D$12&\",reference:=StartOfDay)=\"&A163&\"\", \"Bar\", \"\", \"Close\",\"A5C\",\"0\",\"All\",,,\"False\",\"T\",\"EveryTick\")","v":14432},{"$f":"RTD(\"cqg.rtd\",,\"StudyData\", \"Vol(\"&$D$12&\") when LocalYear(\"&$D$12&\")=\"&$D$4&\" and localMonth(\"&$D$12&\") =\"&$E$4&\" and LocalDay(\"&$D$12&\")=\"&$F$4&\" and Barix(\"&$D$12&\",reference:=StartOfDay)=\"&A163&\"\", \"Bar\", \"\", \"Close\",\"A5C\",\"0\",\"All\",,,\"False\",\"T\",\"EveryTick\")","v":6513},{"$f":"RTD(\"cqg.rtd\",,\"StudyData\", \"Vol(\"&$D$12&\") when LocalYear(\"&$D$12&\")=\"&$D$5&\" and localMonth(\"&$D$12&\") =\"&$E$5&\" and LocalDay(\"&$D$12&\")=\"&$F$5&\" and Barix(\"&$D$12&\",reference:=StartOfDay)=\"&A163&\"\", \"Bar\", \"\", \"Close\",\"A5C\",\"0\",\"All\",,,\"False\",\"T\",\"EveryTick\")","v":9006},{"$f":"RTD(\"cqg.rtd\",,\"StudyData\", \"Vol(\"&$D$12&\") when LocalYear(\"&$D$12&\")=\"&$D$6&\" and localMonth(\"&$D$12&\") =\"&$E$6&\" and LocalDay(\"&$D$12&\")=\"&$F$6&\" and Barix(\"&$D$12&\",reference:=StartOfDay)=\"&A163&\"\", \"Bar\", \"\", \"Close\",\"A5C\",\"0\",\"All\",,,\"False\",\"T\",\"EveryTick\")","v":14030},{"$f":"RTD(\"cqg.rtd\",,\"StudyData\", \"Vol(\"&$D$12&\") when LocalYear(\"&$D$12&\")=\"&$D$7&\" and localMonth(\"&$D$12&\") =\"&$E$7&\" and LocalDay(\"&$D$12&\")=\"&$F$7&\" and Barix(\"&$D$12&\",reference:=StartOfDay)=\"&A163&\"\", \"Bar\", \"\", \"Close\",\"A5C\",\"0\",\"All\",,,\"False\",\"T\",\"EveryTick\")","v":11521},{"$f":"RTD(\"cqg.rtd\",,\"StudyData\", \"Vol(\"&$D$12&\") when LocalYear(\"&$D$12&\")=\"&$D$8&\" and localMonth(\"&$D$12&\") =\"&$E$8&\" and LocalDay(\"&$D$12&\")=\"&$F$8&\" and Barix(\"&$D$12&\",reference:=StartOfDay)=\"&A163&\"\", \"Bar\", \"\", \"Close\",\"A5C\",\"0\",\"All\",,,\"False\",\"T\",\"EveryTick\")","v":16924},{"$f":"RTD(\"cqg.rtd\",,\"StudyData\", \"Vol(\"&$D$12&\") when LocalYear(\"&$D$12&\")=\"&$D$9&\" and localMonth(\"&$D$12&\") =\"&$E$9&\" and LocalDay(\"&$D$12&\")=\"&$F$9&\" and Barix(\"&$D$12&\",reference:=StartOfDay)=\"&A163&\"\", \"Bar\", \"\", \"Close\",\"A5C\",\"0\",\"All\",,,\"False\",\"T\",\"EveryTick\")","v":22246},{"$f":"RTD(\"cqg.rtd\",,\"StudyData\", \"Vol(\"&$D$12&\") when LocalYear(\"&$D$12&\")=\"&$D$10&\" and localMonth(\"&$D$12&\") =\"&$E$10&\" and LocalDay(\"&$D$12&\")=\"&$F$10&\" and Barix(\"&$D$12&\",reference:=StartOfDay)=\"&A163&\"\", \"Bar\", \"\", \"Close\",\"A5C\",\"0\",\"All\",,,\"False\",\"T\",\"EveryTick\")","v":18614},{"$f":"IF(H163>(1+(MainDisplay!$O$24/100))*I163,H163,NA())","v":""}]
[259,{"$f":"Sheet3!B164","v":"14:35:00"},null,null,null,null,null,{"$f":"RTD(\"cqg.rtd\",,\"StudyData\", \"Vol(\"&$D$12&\") when LocalYear(\"&$D$12&\")=\"&$D$1&\" and localMonth(\"&$D$12&\") =\"&$E$1&\" and LocalDay(\"&$D$12&\")=\"&$F$1&\" and Barix(\"&$D$12&\",reference:=StartOfDay)=\"&A164&\"\", \"Bar\", \"\", \"Close\",\"A5C\",\"0\",\"All\",,,\"False\",\"T\",\"EveryTick\")","v":""},14035.222222222223,{"$f":"RTD(\"cqg.rtd\",,\"StudyData\", \"Vol(\"&$D$12&\") when LocalYear(\"&$D$12&\")=\"&$D$2&\" and localMonth(\"&$D$12&\") =\"&$E$2&\" and LocalDay(\"&$D$12&\")=\"&$F$2&\" and Barix(\"&$D$12&\",reference:=StartOfDay)=\"&A164&\"\", \"Bar\", \"\", \"Close\",\"A5C\",\"0\",\"All\",,,\"False\",\"T\",\"EveryTick\")","v":7097},{"$f":"RTD(\"cqg.rtd\",,\"StudyData\", \"Vol(\"&$D$12&\") when LocalYear(\"&$D$12&\")=\"&$D$3&\" and localMonth(\"&$D$12&\") =\"&$E$3&\" and LocalDay(\"&$D$12&\")=\"&$F$3&\" and Barix(\"&$D$12&\",reference:=StartOfDay)=\"&A164&\"\", \"Bar\", \"\", \"Close\",\"A5C\",\"0\",\"All\",,,\"False\",\"T\",\"EveryTick\")","v":9619},{"$f":"RTD(\"cqg.rtd\",,\"StudyData\", \"Vol(\"&$D$12&\") when LocalYear(\"&$D$12&\")=\"&$D$4&\" and localMonth(\"&$D$12&\") =\"&$E$4&\" and LocalDay(\"&$D$12&\")=\"&$F$4&\" and Barix(\"&$D$12&\",reference:=StartOfDay)=\"&A164&\"\", \"Bar\", \"\", \"Close\",\"A5C\",\"0\",\"All\",,,\"False\",\"T\",\"EveryTick\")","v":16931},{"$f":"RTD(\"cqg.rtd\",,\"StudyData\", \"Vol(\"&$D$12&\") when LocalYear(\"&$D$12&\")=\"&$D$5&\" and localMonth(\"&$D$12&\") =\"&$E$5&\" and LocalDay(\"&$D$12&\")=\"&$F$5&\" and Barix(\"&$D$12&\",reference:=StartOfDay)=\"&A164&\"\", \"Bar\", \"\", \"Close\",\"A5C\",\"0\",\"All\",,,\"False\",\"T\",\"EveryTick\")","v":10939},{"$f":"RTD(\"cqg.rtd\",,\"StudyData\", \"Vol(\"&$D$12&\") when LocalYear(\"&$D$12&\")=\"&$D$6&\" and localMonth(\"&$D$12&\") =\"&$E$6&\" and LocalDay(\"&$D$12&\")=\"&$F$6&\" and Barix(\"&$D$12&\",reference:=StartOfDay)=\"&A164&\"\", \"Bar\", \"\", \"Close\",\"A5C\",\"0\",\"All\",,,\"False\",\"T\",\"EveryTick\")","v":16907},{"$f":"RTD(\"cqg.rtd\",,\"StudyData\", \"Vol(\"&$D$12&\") when LocalYear(\"&$D$12&\")=\"&$D$7&\" and localMonth(\"&$D$12&\") =\"&$E$7&\" and LocalDay(\"&$D$12&\")=\"&$F$7&\" and Barix(\"&$D$12&\",reference:=StartOfDay)=\"&A164&\"\", \"Bar\", \"\", \"Close\",\"A5C\",\"0\",\"All\",,,\"False\",\"T\",\"EveryTick\")","v":13961},{"$f":"RTD(\"cqg.rtd\",,\"StudyData\", \"Vol(\"&$D$12&\") when LocalYear(\"&$D$12&\")=\"&$D$8&\" and localMonth(\"&$D$12&\") =\"&$E$8&\" and LocalDay(\"&$D$12&\")=\"&$F$8&\" and Barix(\"&$D$12&\",reference:=StartOfDay)=\"&A164&\"\", \"Bar\", \"\", \"Close\",\"A5C\",\"0\",\"All\",,,\"False\",\"T\",\"EveryTick\")","v":15915},{"$f":"RTD(\"cqg.rtd\",,\"StudyData\", \"Vol(\"&$D$12&\") when LocalYear(\"&$D$12&\")=\"&$D$9&\" and localMonth(\"&$D$12&\") =\"&$E$9&\" and LocalDay(\"&$D$12&\")=\"&$F$9&\" and Barix(\"&$D$12&\",reference:=StartOfDay)=\"&A164&\"\", \"Bar\", \"\", \"Close\",\"A5C\",\"0\",\"All\",,,\"False\",\"T\",\"EveryTick\")","v":17822},{"$f":"RTD(\"cqg.rtd\",,\"StudyData\", \"Vol(\"&$D$12&\") when LocalYear(\"&$D$12&\")=\"&$D$10&\" and localMonth(\"&$D$12&\") =\"&$E$10&\" and LocalDay(\"&$D$12&\")=\"&$F$10&\" and Barix(\"&$D$12&\",reference:=StartOfDay)=\"&A164&\"\", \"Bar\", \"\", \"Close\",\"A5C\",\"0\",\"All\",,,\"False\",\"T\",\"EveryTick\")","v":17126},{"$f":"IF(H164>(1+(MainDisplay!$O$24/100))*I164,H164,NA())","v":""}]
[260,{"$f":"Sheet3!B165","v":"14:40:00"},null,null,null,null,null,{"$f":"RTD(\"cqg.rtd\",,\"StudyData\", \"Vol(\"&$D$12&\") when LocalYear(\"&$D$12&\")=\"&$D$1&\" and localMonth(\"&$D$12&\") =\"&$E$1&\" and LocalDay(\"&$D$12&\")=\"&$F$1&\" and Barix(\"&$D$12&\",reference:=StartOfDay)=\"&A165&\"\", \"Bar\", \"\", \"Close\",\"A5C\",\"0\",\"All\",,,\"False\",\"T\",\"EveryTick\")","v":""},18823,{"$f":"RTD(\"cqg.rtd\",,\"StudyData\", \"Vol(\"&$D$12&\") when LocalYear(\"&$D$12&\")=\"&$D$2&\" and localMonth(\"&$D$12&\") =\"&$E$2&\" and LocalDay(\"&$D$12&\")=\"&$F$2&\" and Barix(\"&$D$12&\",reference:=StartOfDay)=\"&A165&\"\", \"Bar\", \"\", \"Close\",\"A5C\",\"0\",\"All\",,,\"False\",\"T\",\"EveryTick\")","v":24339},{"$f":"RTD(\"cqg.rtd\",,\"StudyData\", \"Vol(\"&$D$12&\") when LocalYear(\"&$D$12&\")=\"&$D$3&\" and localMonth(\"&$D$12&\") =\"&$E$3&\" and LocalDay(\"&$D$12&\")=\"&$F$3&\" and Barix(\"&$D$12&\",reference:=StartOfDay)=\"&A165&\"\", \"Bar\", \"\", \"Close\",\"A5C\",\"0\",\"All\",,,\"False\",\"T\",\"EveryTick\")","v":14887},{"$f":"RTD(\"cqg.rtd\",,\"StudyData\", \"Vol(\"&$D$12&\") when LocalYear(\"&$D$12&\")=\"&$D$4&\" and localMonth(\"&$D$12&\") =\"&$E$4&\" and LocalDay(\"&$D$12&\")=\"&$F$4&\" and Barix(\"&$D$12&\",reference:=StartOfDay)=\"&A165&\"\", \"Bar\", \"\", \"Close\",\"A5C\",\"0\",\"All\",,,\"False\",\"T\",\"EveryTick\")","v":15021},{"$f":"RTD(\"cqg.rtd\",,\"StudyData\", \"Vol(\"&$D$12&\") when LocalYear(\"&$D$12&\")=\"&$D$5&\" and localMonth(\"&$D$12&\") =\"&$E$5&\" and LocalDay(\"&$D$12&\")=\"&$F$5&\" and Barix(\"&$D$12&\",reference:=StartOfDay)=\"&A165&\"\", \"Bar\", \"\", \"Close\",\"A5C\",\"0\",\"All\",,,\"False\",\"T\",\"EveryTick\")","v":12600},{"$f":"RTD(\"cqg.rtd\",,\"StudyData\", \"Vol(\"&$D$12&\") when LocalYear(\"&$D$12&\")=\"&$D$6&\" and localMonth(\"&$D$12&\") =\"&$E$6&\" and LocalDay(\"&$D$12&\")=\"&$F$6&\" and Barix(\"&$D$12&\",reference:=StartOfDay)=\"&A165&\"\", \"Bar\", \"\", \"Close\",\"A5C\",\"0\",\"All\",,,\"False\",\"T\",\"EveryTick\")","v":12692},{"$f":"RTD(\"cqg.rtd\",,\"StudyData\", \"Vol(\"&$D$12&\") when LocalYear(\"&$D$12&\")=\"&$D$7&\" and localMonth(\"&$D$12&\") =\"&$E$7&\" and LocalDay(\"&$D$12&\")=\"&$F$7&\" and Barix(\"&$D$12&\",reference:=StartOfDay)=\"&A165&\"\", \"Bar\", \"\", \"Close\",\"A5C\",\"0\",\"All\",,,\"False\",\"T\",\"EveryTick\")","v":13697},{"$f":"RTD(\"cqg.rtd\",,\"StudyData\", \"Vol(\"&$D$12&\") when LocalYear(\"&$D$12&\")=\"&$D$8&\" and localMonth(\"&$D$12&\") =\"&$E$8&\" and LocalDay(\"&$D$12&\")=\"&$F$8&\" and Barix(\"&$D$12&\",reference:=StartOfDay)=\"&A165&\"\", \"Bar\", \"\", \"Close\",\"A5C\",\"0\",\"All\",,,\"False\",\"T\",\"EveryTick\")","v":29664},{"$f":"RTD(\"cqg.rtd\",,\"StudyData\", \"Vol(\"&$D$12&\") when LocalYear(\"&$D$12&\")=\"&$D$9&\" and localMonth(\"&$D$12&\") =\"&$E$9&\" and LocalDay(\"&$D$12&\")=\"&$F$9&\" and Barix(\"&$D$12&\",reference:=StartOfDay)=\"&A165&\"\", \"Bar\", \"\", \"Close\",\"A5C\",\"0\",\"All\",,,\"False\",\"T\",\"EveryTick\")","v":15872},{"$f":"RTD(\"cqg.rtd\",,\"StudyData\", \"Vol(\"&$D$12&\") when LocalYear(\"&$D$12&\")=\"&$D$10&\" and localMonth(\"&$D$12&\") =\"&$E$10&\" and LocalDay(\"&$D$12&\")=\"&$F$10&\" and Barix(\"&$D$12&\",reference:=StartOfDay)=\"&A165&\"\", \"Bar\", \"\", \"Close\",\"A5C\",\"0\",\"All\",,,\"False\",\"T\",\"EveryTick\")","v":30635},{"$f":"IF(H165>(1+(MainDisplay!$O$24/100))*I165,H165,NA())","v":""}]
[261,{"$f":"Sheet3!B166","v":"14:45:00"},null,null,null,null,null,{"$f":"RTD(\"cqg.rtd\",,\"StudyData\", \"Vol(\"&$D$12&\") when LocalYear(\"&$D$12&\")=\"&$D$1&\" and localMonth(\"&$D$12&\") =\"&$E$1&\" and LocalDay(\"&$D$12&\")=\"&$F$1&\" and Barix(\"&$D$12&\",reference:=StartOfDay)=\"&A166&\"\", \"Bar\", \"\", \"Close\",\"A5C\",\"0\",\"All\",,,\"False\",\"T\",\"EveryTick\")","v":""},21151.555555555555,{"$f":"RTD(\"cqg.rtd\",,\"StudyData\", \"Vol(\"&$D$12&\") when LocalYear(\"&$D$12&\")=\"&$D$2&\" and localMonth(\"&$D$12&\") =\"&$E$2&\" and LocalDay(\"&$D$12&\")=\"&$F$2&\" and Barix(\"&$D$12&\",reference:=StartOfDay)=\"&A166&\"\", \"Bar\", \"\", \"Close\",\"A5C\",\"0\",\"All\",,,\"False\",\"T\",\"EveryTick\")","v":21204},{"$f":"RTD(\"cqg.rtd\",,\"StudyData\", \"Vol(\"&$D$12&\") when LocalYear(\"&$D$12&\")=\"&$D$3&\" and localMonth(\"&$D$12&\") =\"&$E$3&\" and LocalDay(\"&$D$12&\")=\"&$F$3&\" and Barix(\"&$D$12&\",reference:=StartOfDay)=\"&A166&\"\", \"Bar\", \"\", \"Close\",\"A5C\",\"0\",\"All\",,,\"False\",\"T\",\"EveryTick\")","v":14371},{"$f":"RTD(\"cqg.rtd\",,\"StudyData\", \"Vol(\"&$D$12&\") when LocalYear(\"&$D$12&\")=\"&$D$4&\" and localMonth(\"&$D$12&\") =\"&$E$4&\" and LocalDay(\"&$D$12&\")=\"&$F$4&\" and Barix(\"&$D$12&\",reference:=StartOfDay)=\"&A166&\"\", \"Bar\", \"\", \"Close\",\"A5C\",\"0\",\"All\",,,\"False\",\"T\",\"EveryTick\")","v":15340},{"$f":"RTD(\"cqg.rtd\",,\"StudyData\", \"Vol(\"&$D$12&\") when LocalYear(\"&$D$12&\")=\"&$D$5&\" and localMonth(\"&$D$12&\") =\"&$E$5&\" and LocalDay(\"&$D$12&\")=\"&$F$5&\" and Barix(\"&$D$12&\",reference:=StartOfDay)=\"&A166&\"\", \"Bar\", \"\", \"Close\",\"A5C\",\"0\",\"All\",,,\"False\",\"T\",\"EveryTick\")","v":16938},{"$f":"RTD(\"cqg.rtd\",,\"StudyData\", \"Vol(\"&$D$12&\") when LocalYear(\"&$D$12&\")=\"&$D$6&\" and localMonth(\"&$D$12&\") =\"&$E$6&\" and LocalDay(\"&$D$12&\")=\"&$F$6&\" and Barix(\"&$D$12&\",reference:=StartOfDay)=\"&A166&\"\", \"Bar\", \"\", \"Close\",\"A5C\",\"0\",\"All\",,,\"False\",\"T\",\"EveryTick\")","v":18678},{"$f":"RTD(\"cqg.rtd\",,\"StudyData\", \"Vol(\"&$D$12&\") when LocalYear(\"&$D$12&\")=\"&$D$7&\" and localMonth(\"&$D$12&\") =\"&$E$7&\" and LocalDay(\"&$D$12&\")=\"&$F$7&\" and Barix(\"&$D$12&\",reference:=StartOfDay)=\"&A166&\"\", \"Bar\", \"\", \"Close\",\"A5C\",\"0\",\"All\",,,\"False\",\"T\",\"EveryTick\")","v":15615},{"$f":"RTD(\"cqg.rtd\",,\"StudyData\", \"Vol(\"&$D$12&\") when LocalYear(\"&$D$12&\")=\"&$D$8&\" and localMonth(\"&$D$12&\") =\"&$E$8&\" and LocalDay(\"&$D$12&\")=\"&$F$8&\" and Barix(\"&$D$12&\",reference:=StartOfDay)=\"&A166&\"\", \"Bar\", \"\", \"Close\",\"A5C\",\"0\",\"All\",,,\"False\",\"T\",\"EveryTick\")","v":21555},{"$f":"RTD(\"cqg.rtd\",,\"StudyData\", \"Vol(\"&$D$12&\") when LocalYear(\"&$D$12&\")=\"&$D$9&\" and localMonth(\"&$D$12&\") =\"&$E$9&\" and LocalDay(\"&$D$12&\")=\"&$F$9&\" and Barix(\"&$D$12&\",reference:=StartOfDay)=\"&A166&\"\", \"Bar\", \"\", \"Close\",\"A5C\",\"0\",\"All\",,,\"False\",\"T\",\"EveryTick\")","v":25759},{"$f":"RTD(\"cqg.rtd\",,\"StudyData\", \"Vol(\"&$D$12&\") when LocalYear(\"&$D$12&\")=\"&$D$10&\" and localMonth(\"&$D$12&\") =\"&$E$10&\" and LocalDay(\"&$D$12&\")=\"&$F$10&\" and Barix(\"&$D$12&\",reference:=StartOfDay)=\"&A166&\"\", \"Bar\", \"\", \"Close\",\"A5C\",\"0\",\"All\",,,\"False\",\"T\",\"EveryTick\")","v":40904},{"$f":"IF(H166>(1+(MainDisplay!$O$24/100))*I166,H166,NA())","v":""}]
[262,{"$f":"Sheet3!B167","v":"14:50:00"},null,null,null,null,null,{"$f":"RTD(\"cqg.rtd\",,\"StudyData\", \"Vol(\"&$D$12&\") when LocalYear(\"&$D$12&\")=\"&$D$1&\" and localMonth(\"&$D$12&\") =\"&$E$1&\" and LocalDay(\"&$D$12&\")=\"&$F$1&\" and Barix(\"&$D$12&\",reference:=StartOfDay)=\"&A167&\"\", \"Bar\", \"\", \"Close\",\"A5C\",\"0\",\"All\",,,\"False\",\"T\",\"EveryTick\")","v":""},35839.555555555555,{"$f":"RTD(\"cqg.rtd\",,\"StudyData\", \"Vol(\"&$D$12&\") when LocalYear(\"&$D$12&\")=\"&$D$2&\" and localMonth(\"&$D$12&\") =\"&$E$2&\" and LocalDay(\"&$D$12&\")=\"&$F$2&\" and Barix(\"&$D$12&\",reference:=StartOfDay)=\"&A167&\"\", \"Bar\", \"\", \"Close\",\"A5C\",\"0\",\"All\",,,\"False\",\"T\",\"EveryTick\")","v":21329},{"$f":"RTD(\"cqg.rtd\",,\"StudyData\", \"Vol(\"&$D$12&\") when LocalYear(\"&$D$12&\")=\"&$D$3&\" and localMonth(\"&$D$12&\") =\"&$E$3&\" and LocalDay(\"&$D$12&\")=\"&$F$3&\" and Barix(\"&$D$12&\",reference:=StartOfDay)=\"&A167&\"\", \"Bar\", \"\", \"Close\",\"A5C\",\"0\",\"All\",,,\"False\",\"T\",\"EveryTick\")","v":28444},{"$f":"RTD(\"cqg.rtd\",,\"StudyData\", \"Vol(\"&$D$12&\") when LocalYear(\"&$D$12&\")=\"&$D$4&\" and localMonth(\"&$D$12&\") =\"&$E$4&\" and LocalDay(\"&$D$12&\")=\"&$F$4&\" and Barix(\"&$D$12&\",reference:=StartOfDay)=\"&A167&\"\", \"Bar\", \"\", \"Close\",\"A5C\",\"0\",\"All\",,,\"False\",\"T\",\"EveryTick\")","v":28532},{"$f":"RTD(\"cqg.rtd\",,\"StudyData\", \"Vol(\"&$D$12&\") when LocalYear(\"&$D$12&\")=\"&$D$5&\" and localMonth(\"&$D$12&\") =\"&$E$5&\" and LocalDay(\"&$D$12&\")=\"&$F$5&\" and Barix(\"&$D$12&\",reference:=StartOfDay)=\"&A167&\"\", \"Bar\", \"\", \"Close\",\"A5C\",\"0\",\"All\",,,\"False\",\"T\",\"EveryTick\")","v":29609},{"$f":"RTD(\"cqg.rtd\",,\"StudyData\", \"Vol(\"&$D$12&\") when LocalYear(\"&$D$12&\")=\"&$D$6&\" and localMonth(\"&$D$12&\") =\"&$E$6&\" and LocalDay(\"&$D$12&\")=\"&$F$6&\" and Barix(\"&$D$12&\",reference:=StartOfDay)=\"&A167&\"\", \"Bar\", \"\", \"Close\",\"A5C\",\"0\",\"All\",,,\"False\",\"T\",\"EveryTick\")","v":30341},{"$f":"RTD(\"cqg.rtd\",,\"StudyData\", \"Vol(\"&$D$12&\") when LocalYear(\"&$D$12&\")=\"&$D$7&\" and localMonth(\"&$D$12&\") =\"&$E$7&\" and LocalDay(\"&$D$12&\")=\"&$F$7&\" and Barix(\"&$D$12&\",reference:=StartOfDay)=\"&A167&\"\", \"Bar\", \"\", \"Close\",\"A5C\",\"0\",\"All\",,,\"False\",\"T\",\"EveryTick\")","v":40313},{"$f":"RTD(\"cqg.rtd\",,\"StudyData\", \"Vol(\"&$D$12&\") when LocalYear(\"&$D$12&\")=\"&$D$8&\" and localMonth(\"&$D$12&\") =\"&$E$8&\" and LocalDay(\"&$D$12&\")=\"&$F$8&\" and Barix(\"&$D$12&\",reference:=StartOfDay)=\"&A167&\"\", \"Bar\", \"\", \"Close\",\"A5C\",\"0\",\"All\",,,\"False\",\"T\",\"EveryTick\")","v":39345},{"$f":"RTD(\"cqg.rtd\",,\"StudyData\", \"Vol(\"&$D$12&\") when LocalYear(\"&$D$12&\")=\"&$D$9&\" and localMonth(\"&$D$12&\") =\"&$E$9&\" and LocalDay(\"&$D$12&\")=\"&$F$9&\" and Barix(\"&$D$12&\",reference:=StartOfDay)=\"&A167&\"\", \"Bar\", \"\", \"Close\",\"A5C\",\"0\",\"All\",,,\"False\",\"T\",\"EveryTick\")","v":38176},{"$f":"RTD(\"cqg.rtd\",,\"StudyData\", \"Vol(\"&$D$12&\") when LocalYear(\"&$D$12&\")=\"&$D$10&\" and localMonth(\"&$D$12&\") =\"&$E$10&\" and LocalDay(\"&$D$12&\")=\"&$F$10&\" and Barix(\"&$D$12&\",reference:=StartOfDay)=\"&A167&\"\", \"Bar\", \"\", \"Close\",\"A5C\",\"0\",\"All\",,,\"False\",\"T\",\"EveryTick\")","v":66467},{"$f":"IF(H167>(1+(MainDisplay!$O$24/100))*I167,H167,NA())","v":""}]
[263,{"$f":"Sheet3!B168","v":"14:55:00"},null,null,null,null,null,{"$f":"RTD(\"cqg.rtd\",,\"StudyData\", \"Vol(\"&$D$12&\") when LocalYear(\"&$D$12&\")=\"&$D$1&\" and localMonth(\"&$D$12&\") =\"&$E$1&\" and LocalDay(\"&$D$12&\")=\"&$F$1&\" and Barix(\"&$D$12&\",reference:=StartOfDay)=\"&A168&\"\", \"Bar\", \"\", \"Close\",\"A5C\",\"0\",\"All\",,,\"False\",\"T\",\"EveryTick\")","v":""},81243.222222222219,{"$f":"RTD(\"cqg.rtd\",,\"StudyData\", \"Vol(\"&$D$12&\") when LocalYear(\"&$D$12&\")=\"&$D$2&\" and localMonth(\"&$D$12&\") =\"&$E$2&\" and LocalDay(\"&$D$12&\")=\"&$F$2&\" and Barix(\"&$D$12&\",reference:=StartOfDay)=\"&A168&\"\", \"Bar\", \"\", \"Close\",\"A5C\",\"0\",\"All\",,,\"False\",\"T\",\"EveryTick\")","v":50240},{"$f":"RTD(\"cqg.rtd\",,\"StudyData\", \"Vol(\"&$D$12&\") when LocalYear(\"&$D$12&\")=\"&$D$3&\" and localMonth(\"&$D$12&\") =\"&$E$3&\" and LocalDay(\"&$D$12&\")=\"&$F$3&\" and Barix(\"&$D$12&\",reference:=StartOfDay)=\"&A168&\"\", \"Bar\", \"\", \"Close\",\"A5C\",\"0\",\"All\",,,\"False\",\"T\",\"EveryTick\")","v":59932},{"$f":"RTD(\"cqg.rtd\",,\"StudyData\", \"Vol(\"&$D$12&\") when LocalYear(\"&$D$12&\")=\"&$D$4&\" and localMonth(\"&$D$12&\") =\"&$E$4&\" and LocalDay(\"&$D$12&\")=\"&$F$4&\" and Barix(\"&$D$12&\",reference:=StartOfDay)=\"&A168&\"\", \"Bar\", \"\", \"Close\",\"A5C\",\"0\",\"All\",,,\"False\",\"T\",\"EveryTick\")","v":58145},{"$f":"RTD(\"cqg.rtd\",,\"StudyData\", \"Vol(\"&$D$12&\") when LocalYear(\"&$D$12&\")=\"&$D$5&\" and localMonth(\"&$D$12&\") =\"&$E$5&\" and LocalDay(\"&$D$12&\")=\"&$F$5&\" and Barix(\"&$D$12&\",reference:=StartOfDay)=\"&A168&\"\", \"Bar\", \"\", \"Close\",\"A5C\",\"0\",\"All\",,,\"False\",\"T\",\"EveryTick\")","v":65349},{"$f":"RTD(\"cqg.rtd\",,\"StudyData\", \"Vol(\"&$D$12&\") when LocalYear(\"&$D$12&\")=\"&$D$6&\" and localMonth(\"&$D$12&\") =\"&$E$6&\" and LocalDay(\"&$D$12&\")=\"&$F$6&\" and Barix(\"&$D$12&\",reference:=StartOfDay)=\"&A168&\"\", \"Bar\", \"\", \"Close\",\"A5C\",\"0\",\"All\",,,\"False\",\"T\",\"EveryTick\")","v":56206},{"$f":"RTD(\"cqg.rtd\",,\"StudyData\", \"Vol(\"&$D$12&\") when LocalYear(\"&$D$12&\")=\"&$D$7&\" and localMonth(\"&$D$12&\") =\"&$E$7&\" and LocalDay(\"&$D$12&\")=\"&$F$7&\" and Barix(\"&$D$12&\",reference:=StartOfDay)=\"&A168&\"\", \"Bar\", \"\", \"Close\",\"A5C\",\"0\",\"All\",,,\"False\",\"T\",\"EveryTick\")","v":87022},{"$f":"RTD(\"cqg.rtd\",,\"StudyData\", \"Vol(\"&$D$12&\") when LocalYear(\"&$D$12&\")=\"&$D$8&\" and localMonth(\"&$D$12&\") =\"&$E$8&\" and LocalDay(\"&$D$12&\")=\"&$F$8&\" and Barix(\"&$D$12&\",reference:=StartOfDay)=\"&A168&\"\", \"Bar\", \"\", \"Close\",\"A5C\",\"0\",\"All\",,,\"False\",\"T\",\"EveryTick\")","v":97718},{"$f":"RTD(\"cqg.rtd\",,\"StudyData\", \"Vol(\"&$D$12&\") when LocalYear(\"&$D$12&\")=\"&$D$9&\" and localMonth(\"&$D$12&\") =\"&$E$9&\" and LocalDay(\"&$D$12&\")=\"&$F$9&\" and Barix(\"&$D$12&\",reference:=StartOfDay)=\"&A168&\"\", \"Bar\", \"\", \"Close\",\"A5C\",\"0\",\"All\",,,\"False\",\"T\",\"EveryTick\")","v":110130},{"$f":"RTD(\"cqg.rtd\",,\"StudyData\", \"Vol(\"&$D$12&\") when LocalYear(\"&$D$12&\")=\"&$D$10&\" and localMonth(\"&$D$12&\") =\"&$E$10&\" and LocalDay(\"&$D$12&\")=\"&$F$10&\" and Barix(\"&$D$12&\",reference:=StartOfDay)=\"&A168&\"\", \"Bar\", \"\", \"Close\",\"A5C\",\"0\",\"All\",,,\"False\",\"T\",\"EveryTick\")","v":146447},{"$f":"IF(H168>(1+(MainDisplay!$O$24/100))*I168,H168,NA())","v":""}]

{"sheet":"Display","index":4,"n_rows":48,"n_cols":32,"rows_kept":48,"cut":false,"hidden":false,"merged":[[31,13,33,14],[1,1,2,4],[20,12,20,13],[21,12,21,13],[1,7,2,24],[8,1,8,3],[4,1,4,3],[4,4,4,6],[4,7,4,9],[8,4,8,11],[8,16,8,20],[9,16,9,20],[1,27,2,30],[43,19,43,21],[43,22,43,24],[19,1,19,3],[18,1,18,3],[28,1,28,3],[29,1,29,3],[33,1,33,3],[34,1,34,3],[24,1,24,3],[23,1,23,3],[14,1,14,3],[13,1,13,3],[38,1,38,3],[19,12,19,13],[13,28,13,30],[47,1,47,4],[47,5,47,8],[47,10,47,11],[47,12,47,13],[43,13,43,15],[43,10,43,12],[44,1,44,3],[44,4,44,6],[44,7,44,9],[44,10,44,12],[44,13,44,15],[44,19,44,21],[44,22,44,24],[24,28,24,30],[43,16,43,18],[44,16,44,18],[43,28,43,30],[44,28,44,30],[43,25,43,27],[44,25,44,27],[28,28,28,30],[29,28,29,30],[33,28,33,30],[34,28,34,30],[38,28,38,30],[39,28,39,30],[14,28,14,30],[18,28,18,30],[19,28,19,30],[23,28,23,30],[8,22,8,23],[8,28,8,30],[9,28,9,30],[39,1,39,3],[43,1,43,3],[43,4,43,6],[43,7,43,9],[23,12,23,14],[24,12,24,14],[25,12,26,12],[25,13,26,14],[28,13,28,14],[34,13,34,14],[35,13,36,14],[40,12,41,12],[39,13,41,14],[29,13,29,14],[30,13,30,14],[31,12,33,12],[4,25,4,27],[4,10,4,12],[4,13,4,15],[4,16,4,18],[4,19,4,21],[4,22,4,24],[1,25,1,26],[47,28,47,29],[3,1,3,3],[3,4,3,6],[3,7,3,9],[3,10,3,12],[3,13,3,15],[3,16,3,18],[3,19,3,21],[3,22,3,24],[3,25,3,27],[3,28,3,30],[9,1,9,3],[4,28,4,30],[7,1,7,15],[7,16,7,24]]}
[null,null,{"$f":"Sheet4!I172+1","v":2},null,null,null,null,null,null,null,null,null,null,null,null,null,null,null,null,null,null,{"$f":"\"CQG 10-day Pattern Chart for:   \"&RTD(\"cqg.rtd\", ,\"ContractData\",O20, \"LongDescription\",, \"T\")","v":"CQG 10-day Pattern Chart for:   E-Mini S&P 500, Dec 21"}]
[null,null,null,null,null,null,null,"CQG Futures Markets Ranked & 10-Day Pattern Chart Dashboard",null,null,null,null,null,null,null,null,null,null,null,null,null,null,null,null,null,"Ribbon",null,{"$f":"RTD(\"cqg.rtd\", ,\"SystemInfo\", \"Linetime\")+Symbols!J18","v":44482.427164351851}]
[null,null,null,null,null,null,null,null,null,null,null,null,null,null,null,null,null,null,null,null,null,null,null,null,null,null,null,null,null,null,null," "]
[null,{"$f":"Data!B5","v":"E-mini Dow ($5), Dec 21"},null,null,{"$f":"Data!E5","v":"E-Mini S&P 500, Dec 21"},null,null,{"$f":"Data!H5","v":"E-mini NASDAQ-100, Dec 21"},null,null,{"$f":"Data!K5","v":"E-mini MidCap 400, Dec 21"},null,null,{"$f":"Data!N5","v":"E-mini Russell 2000, Dec 21"},null,null,{"$f":"Data!Q5","v":"DAX Index, Dec 21"},null,null,{"$f":"Data!T5","v":"Euro STOXX 50, Dec 21"},null,null,{"$f":"Data!W5","v":"FTSE 100 - Stnd Index, Dec 21"},null,null,{"$f":"Data!Z5","v":"CAC40, Oct 21"},null,null,{"$f":"Data!AC5","v":"Nikkei 225 (Globex), Dec 21"},null,null," "]
[null,{"$f":"Data!B6","v":"34107"},null,null,{"$f":"Data!E6","v":"4335.75"},null,null,{"$f":"Data!H6","v":"14713.25"},null,null,{"$f":"Data!K6","v":"2691.3"},null,null,{"$f":"Data!N6","v":"2235.90"},null,null,{"$f":"Data!Q6","v":"15243"},null,null,{"$f":"Data!T6","v":"4073.50"},null,null,{"$f":"Data!W6","v":"7124.00"},null,null,{"$f":"Data!Z6","v":"6602.00"},null,null,{"$f":"Data!AC6","v":"28190"},null,null,"                                                                                                                                                                                                                                                                                                                                                                                                                                                                                "]
[null,"H:",{"$f":"Data!B7","v":"34343"},{"$f":"Data!C7","v":"-153"},"H:",{"$f":"Data!E7","v":"4357.25"},{"$f":"Data!F7","v":"-5.00"},"H:",{"$f":"Data!H7","v":"14778.75"},{"$f":"Data!I7","v":"60.00"},"H:",{"$f":"Data!K7","v":"2696.1"},{"$f":"Data!L7","v":"5.5"},"H:",{"$f":"Data!N7","v":"2241.70"},{"$f":"Data!O7","v":"6.60"},"H:",{"$f":"Data!Q7","v":"15287"},{"$f":"Data!R7","v":"114"},"H:",{"$f":"Data!T7","v":"4079.50"},{"$f":"Data!U7","v":"32.50"},"H:",{"$f":"Data!W7","v":"7127.50"},{"$f":"Data!X7","v":"22.00"},"H:",{"$f":"Data!Z7","v":"6603.50"},{"$f":"Data!AA7","v":"56.50"},"H:",{"$f":"Data!AC7","v":"28400"},{"$f":"Data!AD7","v":"-5"}]
[null,"L:",{"$f":"Data!B8","v":"33984"},{"$f":"Data!C8","v":-4.4658493870402801E-3},"L:",{"$f":"Data!E8","v":"4318.75"},{"$f":"Data!F8","v":-1.1518746760352473E-3},"L:",{"$f":"Data!H8","v":"14591.00"},{"$f":"Data!I8","v":4.1117158309590023E-3},"L:",{"$f":"Data!K8","v":"2664.2"},{"$f":"Data!L8","v":2.0850398391540695E-3},"L:",{"$f":"Data!N8","v":"2211.00"},{"$f":"Data!O8","v":3.0054277127349394E-3},"L:",{"$f":"Data!Q8","v":"15092"},{"$f":"Data!R8","v":7.5351973031925444E-3},"L:",{"$f":"Data!T8","v":"4026.00"},{"$f":"Data!U8","v":8.0425637218510277E-3},"L:",{"$f":"Data!W8","v":"7059.00"},{"$f":"Data!X8","v":3.0977189524077726E-3},"L:",{"$f":"Data!Z8","v":"6508.50"},{"$f":"Data!AA8","v":8.631884500802078E-3},"L:",{"$f":"Data!AC8","v":"28020"},{"$f":"Data!AD8","v":-1.7733640716439082E-4}]
[]
[null,{"$f":"Data!B11","v":"Gold (Globex), Dec 21"},null,null,"             Dynamically Ranked by Percent Net Change",null,null,null,null,null,null,null,null,null,null,null,null,null,null,null,null,null,null,null,null,null,null,null,{"$f":"Data!AC11","v":"5yr US Treasury Notes (Globex), Dec 21"},null,null,{"$f":"IF(P9=0,0,IF(P9=1,\"#.0\",IF(P9=2,\"#.00\",IF(P9=3,\"#.000\",IF(P9=4,\"#.0000\",IF(P9=5,\"#.00000\",IF(P9=6,\"#.000000\")))))))","v":0}]
[null,{"$f":"Data!B12","v":"1794.00"},null,null,null,null,null,null,null,null,null,null,null,null,null,null,null,null,null,null,null,null,null,null,null,null,null,null,{"$f":"Data!AC12","v":"122-10'3/4"}]
[null,"H:",{"$f":"Data!B13","v":"1797.40"},{"$f":"Data!C13","v":"34.70"},null,null,null,null,null,null,null,null,null,null,null,null,null,null,null,null,null,null,null,null,null,null,null,null,"H:",{"$f":"Data!AC13","v":"122-13'3/4"},{"$f":"Data!AD13","v":"+0-00'1/4"}]
[null,"L:",{"$f":"Data!B14","v":"1757.90"},{"$f":"Data!C14","v":1.9723753765702269E-2},null,null,null,null,null,null,null,null,null,null,null,null,null,null,null,null,null,null,null,null,null,null,null,null,"L:",{"$f":"Data!AC14","v":"122-00'+  "},{"$f":"Data!AD14","v":6.3865116873163883E-5}]
[]
[null,{"$f":"Data!B17","v":"Silver (Globex), Dec 21"},null,null,null,null,null,null,null,null,null,null,null,null,null,null,null,null,null,null,null,null,null,null,null,null,null,null,{"$f":"Data!AC17","v":"10yr US Treasury Notes (Globex), Dec 21"}]
[null,{"$f":"Data!B18","v":"23.230"},null,null,null,null,null,null,null,null,null,null,null,null,null,null,null,null,null,null,null,null,null,null,null,null,null,null,{"$f":"Data!AC18","v":"131-09'+"}]
[null,"H:",{"$f":"Data!B19","v":"23.285"},{"$f":"Data!C19","v":".716"},null,null,null,null,null,null,null,null,null,null,null,null,null,null,null,null,null,null,null,null,null,null,null,null,"H:",{"$f":"Data!AC19","v":"131-15'+"},{"$f":"Data!AD19","v":"+0-05' "}]
[null,"L:",{"$f":"Data!B20","v":"22.480"},{"$f":"Data!C20","v":3.1802434041041133E-2},null,null,null,null,null,null,null,null,null,null,null,null,null,null,null,null,null,null,null,null,null,null,null,null,"L:",{"$f":"Data!AC20","v":"130-25'+"},{"$f":"Data!AD20","v":1.1914690813773381E-3}]
[]
[null,{"$f":"Data!B23","v":"Platinum (Globex), Jan 22"},null,null,null,null,null,null,null,null,null,null,null,null,null,null,null,null,null,null,null,null,null,null,null,null,null,null,{"$f":"Data!AC23","v":"30yr US Treasury Bonds (Globex), Dec 21"}]
[null,{"$f":"Data!B24","v":"1026.40"},null,null,null,null,null,null,null,null,null,null,"Symbol: ",null,"EP",null,null,null,null,null,null,null,null,null,null,null,null,null,{"$f":"Data!AC24","v":"159-17' "}]
[null,"H:",{"$f":"Data!B25","v":"1033.80"},{"$f":"Data!C25","v":"14.70"},null,null,null,null,null,null,null,null,"Reset",null,null,null,null,null,null,null,null,null,null,null,null,null,null,null,"H:",{"$f":"Data!AC25","v":"159-30' "},{"$f":"Data!AD25","v":"+0-31' "}]
[null,"L:",{"$f":"Data!B26","v":"1003.00"},{"$f":"Data!C26","v":1.492537313432836E-2},null,null,null,null,null,null,null,null,"Highlight",null,null,null,null,null,null,null,null,null,null,null,null,null,null,null,"L:",{"$f":"Data!AC26","v":"158-14' "},{"$f":"Data!AD26","v":6.1095782420181322E-3}]
[]
[null,{"$f":"Data!B29","v":"Crude Light (Globex), Nov 21"},null,null,null,null,null,null,null,null,null,null,"Description",null,null,null,null,null,null,null,null,null,null,null,null,null,null,null,{"$f":"Data!AC29","v":"Euro BOBL (5yr), Dec 21"},null,null," "]
[null,{"$f":"Data!B30","v":"80.51"},null,null,null,null,null,null,null,null,null,null,{"$f":"RTD(\"cqg.rtd\", ,\"ContractData\",O20, \"LongDescription\",, \"T\")","v":"E-Mini S&P 500, Dec 21"},null,null,null,null,null,null,null,null,null,null,null,null,null,null,null,{"$f":"Data!AC30","v":"134.50"}]
[null,"H:",{"$f":"Data!B31","v":"80.79"},{"$f":"Data!C31","v":"-.13"},null,null,null,null,null,null,null,null,"Open: ",{"$f":"IF(Sheet3!F17=\"B\",RTD(\"cqg.rtd\", ,\"ContractData\",O20, \"Open\",, \"B\"),TEXT(RTD(\"cqg.rtd\", ,\"ContractData\",O20, \"Open\",, \"T\"),Sheet3!F17))","v":"4327.50"},null,null,null,null,null,null,null,null,null,null,null,null,null,null,"H:",{"$f":"Data!AC31","v":"134.55"},{"$f":"Data!AD31","v":".07"},{"$f":"IF(P26=0,0,IF(P26=1,\"#.0\",IF(P26=2,\"#.00\",IF(P26=3,\"#.000\",IF(P26=4,\"#.0000\",IF(P26=5,\"#.00000\",IF(P26=6,\"#.000000\")))))))","v":0}]
[null,"L:",{"$f":"Data!B32","v":"79.42"},{"$f":"Data!C32","v":-1.6121031746031747E-3},null,null,null,null,null,null,null,null,null,null,null,null,null,null,null,null,null,null,null,null,null,null,null,null,"L:",{"$f":"Data!AC32","v":"134.32"},{"$f":"Data!AD32","v":5.2071710183738745E-4}]
[]
[null,{"$f":"Data!B35","v":"NY Harbor ULSD, Nov 21"},null,null,null,null,null,null,null,null,null,null,"Y_Open: ",{"$f":"IF(Sheet3!F17=\"B\", RTD(\"cqg.rtd\", ,\"ContractData\",O20, \"Y_Open\",, \"B\"),TEXT(RTD(\"cqg.rtd\", ,\"ContractData\",O20, \"Y_Open\",, \"T\"),Sheet3!F17))","v":"4347.75"},null,null,null,null,null,null,null,null,null,null,null,null,null,null,{"$f":"Data!AC35","v":"Euro Bund (10yr), Dec 21"}]
[null,{"$f":"Data!B36","v":"2.5134"},null,null,null,null,null,null,null,null,null,null,"High:",{"$f":"IF(Sheet3!F17=\"B\",RTD(\"cqg.rtd\", ,\"ContractData\",O20, \"High\",, \"B\"),TEXT(RTD(\"cqg.rtd\", ,\"ContractData\",O20, \"High\",, \"T\"),Sheet3!F17))","v":"4357.25"},null,null,null,null,null,null,null,null,null,null,null,null,null,null,{"$f":"Data!AC36","v":"168.94"}]
[null,"H:",{"$f":"Data!B37","v":"2.5144"},{"$f":"Data!C37","v":".0034"},null,null,null,null,null,null,null,null,"Y_High: ",{"$f":"IF(Sheet3!F17=\"B\", RTD(\"cqg.rtd\", ,\"ContractData\",O20, \"Y_High\",, \"B\"),TEXT(RTD(\"cqg.rtd\", ,\"ContractData\",O20, \"Y_High\",, \"T\"),Sheet3!F17))","v":"4365.00"},null,null,null,null,null,null,null,null,null,null,null,null,null,null,"H:",{"$f":"Data!AC37","v":"169.12"},{"$f":"Data!AD37","v":".53"}]
[null,"L:",{"$f":"Data!B38","v":"2.4747"},{"$f":"Data!C38","v":1.4342629482071714E-3},null,null,null,null,null,null,null,null,"Low: ",{"$f":"IF(Sheet3!F17=\"B\",RTD(\"cqg.rtd\", ,\"ContractData\",O20, \"Low\",, \"B\"),TEXT(RTD(\"cqg.rtd\", ,\"ContractData\",O20, \"Low\",, \"T\"),Sheet3!F17))","v":"4318.75"},null,null,null,null,null,null,null,null,null,null,null,null,null,null,"L:",{"$f":"Data!AC38","v":"168.31"},{"$f":"Data!AD38","v":3.1470815272252239E-3}]
[]
[null,{"$f":"Data!B41","v":"RBOB Gasoline (Globex), Nov 21"},null,null,null,null,null,null,null,null,null,null,null,null,null,null,null,null,null,null,null,null,null,null,null,null,null,null,{"$f":"Data!AC41","v":"Euro Buxl (30yr), Dec 21"}]
[null,{"$f":"Data!B42","v":"2.394"},null,null,null,null,null,null,null,null,null,null,"Y_Low: ",{"$f":"IF(Sheet3!F17=\"B\", RTD(\"cqg.rtd\", ,\"ContractData\",O20, \"Y_Low\",, \"B\"),TEXT(RTD(\"cqg.rtd\", ,\"ContractData\",O20, \"Y_Low\",, \"T\"),Sheet3!F17))","v":"4317.25"},null,null,null,null,null,null,null,null,null,null,null,null,null,null,{"$f":"Data!AC42","v":"202.60"}]
[null,"H:",{"$f":"Data!B43","v":"2.395"},{"$f":"Data!C43","v":".012"},null,null,null,null,null,null,null,null,"Last ",{"$f":"IF(Sheet3!F17=\"B\", RTD(\"cqg.rtd\", ,\"ContractData\",O20, \"LastTrade\",, \"B\"),TEXT(RTD(\"cqg.rtd\", ,\"ContractData\",O20, \"LastTrade\",, \"T\"),Sheet3!F17))","v":"4335.75"},null,null,null,null,null,null,null,null,null,null,null,null,null,null,"H:",{"$f":"Data!AC43","v":"203.06"},{"$f":"Data!AD43","v":"3.04"}]
[null,"L:",{"$f":"Data!B44","v":"2.346"},{"$f":"Data!C44","v":4.7001552729866967E-3},null,null,null,null,null,null,null,null,"Trade:",null,null,null,null,null,null,null,null,null,null,null,null,null,null,null,"L:",{"$f":"Data!AC44","v":"199.82"},{"$f":"Data!AD44","v":1.5333734215273603E-2}]
[]
[null,{"$f":"Data!B47","v":"Natural Gas (Globex), Nov 21"},null,null,null,null,null,null,null,null,null,null,null,null,null,null,null,null,null,null,null,null,null,null,null,null,null,null,{"$f":"Data!AC47","v":"Long Gilt (CONNECT), Dec 21"}]
[null,{"$f":"Data!B48","v":"5.378"},null,null,null,null,null,null,null,null,null,null,"Net",{"$f":"IF(Sheet3!F17=\"B\",IF(RTD(\"cqg.rtd\",,\"ContractData\",O20,\"NetLasttrade\",,\"T\")>0,RTD(\"cqg.rtd\",,\"ContractData\",O20,\"NetLasttrade\",,\"B\"),RTD(\"cqg.rtd\",,\"ContractData\",O20,\"NetLasttrade\",,\"B\")),IF(RTD(\"cqg.rtd\",,\"ContractData\",O20,\"NetLasttrade\",,\"T\")>0,\"+\"&TEXT(RTD(\"cqg.rtd\",,\"ContractData\",O20,\"NetLasttrade\",,\"T\"),Sheet3!F17),TEXT(RTD(\"cqg.rtd\",,\"ContractData\",O20,\"NetLasttrade\",,\"T\"),Sheet3!F17)))","v":"-5.00"},null,null,null,null,null,null,null,null,null,null,null,null,null,null,{"$f":"Data!AC48","v":"124.85"}]
[null,"H:",{"$f":"Data!B49","v":"5.513"},{"$f":"Data!C49","v":"-.127"},null,null,null,null,null,null,null,null,"Change: ",null,null,null,null,null,null,null,null,null,null,null,null,null,null,null,"H:",{"$f":"Data!AC49","v":"125.24"},{"$f":"Data!AD49","v":".62"}]
[null,"L:",{"$f":"Data!B50","v":"5.350"},{"$f":"Data!C50","v":-2.3069936421435056E-2},null,null,null,null,null,null,null,null,null,null,null,null,null,null,null,null,null,null,null,null,null,null,null,null,"L:",{"$f":"Data!AC50","v":"124.08"},{"$f":"Data!AD50","v":4.9907429767366979E-3}]
[]
[null,{"$f":"Data!B53","v":"Dollar Index (ICE), Dec 21"},null,null,{"$f":"Data!E53","v":"Euro FX (Globex), Dec 21"},null,null,{"$f":"Data!H53","v":"Japanese Yen (Globex), Dec 21"},null,null,{"$f":"Data!K53","v":"British Pound (Globex), Dec 21"},null,null,{"$f":"Data!N53","v":"Canadian Dollar (Globex), Dec 21"},null,null,{"$f":"Data!Q53","v":"Swiss Franc (Globex), Dec 21"},null,null,{"$f":"Data!T53","v":"Australian Dollar (Globex), Dec 21"},null,null,{"$f":"Data!W53","v":"New Zealand Dollar (Globex), Dec 21"},null,null,{"$f":"Data!Z53","v":"Mexican Peso (Globex), Dec 21"},null,null,{"$f":"Data!AC53","v":"Euro/British Pound (Globex), Dec 21"}]
[null,{"$f":"Data!B54","v":"94.170"},null,null,{"$f":"Data!E54","v":"1.15870"},null,null,{"$f":"Data!H54","v":".0088230"},null,null,{"$f":"Data!K54","v":"1.3644"},null,null,{"$f":"Data!N54","v":".8039"},null,null,{"$f":"Data!Q54","v":"1.0816"},null,null,{"$f":"Data!T54","v":".7375"},null,null,{"$f":"Data!W54","v":".6952"},null,null,{"$f":"Data!Z54","v":".04784"},null,null,{"$f":"Data!AC54","v":".84925"}]
[null,"H:",{"$f":"Data!B55","v":"94.550"},{"$f":"Data!C55","v":"-.349"},"H:",{"$f":"Data!E55","v":"1.15920"},{"$f":"Data!F55","v":".00435"},"H:",{"$f":"Data!H55","v":".0088355"},{"$f":"Data!I55","v":".0000215"},"H:",{"$f":"Data!K55","v":"1.3648"},{"$f":"Data!L55","v":".0049"},"H:",{"$f":"Data!N55","v":".8042"},{"$f":"Data!O55","v":".0015"},"H:",{"$f":"Data!Q55","v":"1.0819"},{"$f":"Data!R55","v":".0057"},"H:",{"$f":"Data!T55","v":".7379"},{"$f":"Data!U55","v":".0018"},"H:",{"$f":"Data!W55","v":".6956"},{"$f":"Data!X55","v":".0019"},"H:",{"$f":"Data!Z55","v":".04790"},{"$f":"Data!AA55","v":".00011"},"H:",{"$f":"Data!AC55","v":".85050"},{"$f":"Data!AD55","v":".00015"}]
[null,"L:",{"$f":"Data!B56","v":"94.140"},{"$f":"Data!C56","v":-3.6923793099800039E-3},"L:",{"$f":"Data!E56","v":"1.15425"},{"$f":"Data!F56","v":3.7683544852081256E-3},"L:",{"$f":"Data!H56","v":".0087905"},{"$f":"Data!I56","v":2.442765437709481E-3},"L:",{"$f":"Data!K56","v":"1.3576"},{"$f":"Data!L56","v":3.6042662743655755E-3},"L:",{"$f":"Data!N56","v":".8013"},{"$f":"Data!O56","v":1.8070787637088734E-3},"L:",{"$f":"Data!Q56","v":"1.0759"},{"$f":"Data!R56","v":5.297890138488707E-3},"L:",{"$f":"Data!T56","v":".7325"},{"$f":"Data!U56","v":2.3788486372595661E-3},"L:",{"$f":"Data!W56","v":".6906"},{"$f":"Data!X56","v":2.7405163709793741E-3},"L:",{"$f":"Data!Z56","v":".04759"},{"$f":"Data!AA56","v":2.0951183741881414E-3},"L:",{"$f":"Data!AC56","v":".84830"},{"$f":"Data!AD56","v":1.7665763749852786E-4},{"$f":"IF(OR(LEFT(M11,1)=\"{\",LEFT(O11,1)=\"{\",LEFT(Q11,1)=\"{\",LEFT(S11,1)=\"{\",LEFT(U11,1)=\"{\",LEFT(W11,1)=\"{\",LEFT(Y11,1)=\"{\",LEFT(AA11,1)=\"{\")=TRUE,1,0)","v":0}]
[null,"  Copyright © 2021    ",null,null,null,"Designed by Thom Hartle",null,null,null,null,"Current Time:",null,{"$f":"NOW()","v":44482.385504513892},null,null,null,null,null,null,null,null,null,{"$f":"IF(OR(AF47=1,AF48=1),\"Please change from T to D or D to T\",\"\")","v":""},null,null,null,null,null,null,null,null,{"$f":"IF(OR(LEFT(M30,1)=\"{\",LEFT(O30,1)=\"{\",LEFT(Q30,1)=\"{\",LEFT(S30,1)=\"{\",LEFT(U30,1)=\"{\",LEFT(W30,1)=\"{\",LEFT(Y30,1)=\"{\",LEFT(AA30,1)=\"{\")=TRUE,1,0)","v":0}]

{"sheet":"Ranking","index":5,"n_rows":36,"n_cols":12,"rows_kept":36,"cut":false,"hidden":true,"merged":[]}
[]
["Symbol","%NC","Rank"]
[{"$f":"Symbols!B2","v":"YM?"},{"$f":"Data!C8","v":-4.4658493870402801E-3},{"$f":"IF(B3=\"\",\"\",RANK(B3,$B$3:$B$36,0)+COUNTIF($B$3:B3,B3)-1)","v":33},{"$f":"A3","v":"YM?"},1,{"$f":"IFERROR(VLOOKUP(E3,$C$3:$D$36,2,FALSE),\"\")","v":"SIE?"},{"$f":"IFERROR(RTD(\"cqg.rtd\", ,\"ContractData\",F3, \"PerCentNetLastTrade\",, \"T\")/100,\"\")","v":3.1802434041041133E-2},{"$f":"IF(F3=\"\",\"\",RTD(\"cqg.rtd\", ,\"ContractData\",F3, \"LongDescription\",, \"T\"))","v":"Silver (Globex), Dec 21"},null,{"$f":"IF(G3>0,G3,G3*-1)","v":3.1802434041041133E-2},{"$f":"IF(G3<0,G3*-1,\"\")","v":""},{"$f":"IF(K3=\"\",J3,-1*K3)","v":3.1802434041041133E-2}]
[{"$f":"Symbols!C2","v":"EP?"},{"$f":"Data!F8","v":-1.1518746760352473E-3},{"$f":"IF(B4=\"\",\"\",RANK(B4,$B$3:$B$36,0)+COUNTIF($B$3:B4,B4)-1)","v":30},{"$f":"A4","v":"EP?"},{"$f":"E3+1","v":2},{"$f":"IFERROR(VLOOKUP(E4,$C$3:$D$36,2,FALSE),\"\")","v":"GCE?"},{"$f":"IFERROR(RTD(\"cqg.rtd\", ,\"ContractData\",F4, \"PerCentNetLastTrade\",, \"T\")/100,\"\")","v":1.9723753765702269E-2},{"$f":"IF(F4=\"\",\"\",RTD(\"cqg.rtd\", ,\"ContractData\",F4, \"LongDescription\",, \"T\"))","v":"Gold (Globex), Dec 21"},null,{"$f":"IF(G4>0,G4,G4*-1)","v":1.9723753765702269E-2},{"$f":"IF(G4<0,G4*-1,\"\")","v":""},{"$f":"IF(K4=\"\",J4,-1*K4)","v":1.9723753765702269E-2}]
[{"$f":"Symbols!D2","v":"ENQ?"},{"$f":"Data!I8","v":4.1117158309590023E-3},{"$f":"IF(B5=\"\",\"\",RANK(B5,$B$3:$B$36,0)+COUNTIF($B$3:B5,B5)-1)","v":12},"ENQ?",{"$f":"E4+1","v":3},"FGBX?",{"$f":"IFERROR(RTD(\"cqg.rtd\", ,\"ContractData\",F5, \"PerCentNetLastTrade\",, \"T\")/100,\"\")","v":1.5333734215273603E-2},{"$f":"IF(F5=\"\",\"\",RTD(\"cqg.rtd\", ,\"ContractData\",F5, \"LongDescription\",, \"T\"))","v":"Euro Buxl (30yr), Dec 21"},null,1.5333734215273603E-2,"",1.5333734215273603E-2]
[{"$f":"Symbols!E2","v":"EMD?"},{"$f":"Data!L8","v":2.0850398391540695E-3},{"$f":"IF(B6=\"\",\"\",RANK(B6,$B$3:$B$36,0)+COUNTIF($B$3:B6,B6)-1)","v":22},"EMD?",4,"PLE?",{"$f":"IFERROR(RTD(\"cqg.rtd\", ,\"ContractData\",F6, \"PerCentNetLastTrade\",, \"T\")/100,\"\")","v":1.492537313432836E-2},{"$f":"IF(F6=\"\",\"\",RTD(\"cqg.rtd\", ,\"ContractData\",F6, \"LongDescription\",, \"T\"))","v":"Platinum (Globex), Jan 22"},null,1.492537313432836E-2,"",1.492537313432836E-2]
[{"$f":"Symbols!F2","v":"RTY?"},{"$f":"Data!O8","v":3.0054277127349394E-3},{"$f":"IF(B7=\"\",\"\",RANK(B7,$B$3:$B$36,0)+COUNTIF($B$3:B7,B7)-1)","v":17},"RTY?",5,"PIL?",{"$f":"IFERROR(RTD(\"cqg.rtd\", ,\"ContractData\",F7, \"PerCentNetLastTrade\",, \"T\")/100,\"\")","v":8.631884500802078E-3},{"$f":"IF(F7=\"\",\"\",RTD(\"cqg.rtd\", ,\"ContractData\",F7, \"LongDescription\",, \"T\"))","v":"CAC40, Oct 21"},null,8.631884500802078E-3,"",8.631884500802078E-3]
[{"$f":"Symbols!G2","v":"DD?"},{"$f":"Data!R8","v":7.5351973031925444E-3},{"$f":"IF(B8=\"\",\"\",RANK(B8,$B$3:$B$36,0)+COUNTIF($B$3:B8,B8)-1)","v":7},"DD?",6,"DSX?",{"$f":"IFERROR(RTD(\"cqg.rtd\", ,\"ContractData\",F8, \"PerCentNetLastTrade\",, \"T\")/100,\"\")","v":8.0425637218510277E-3},{"$f":"IF(F8=\"\",\"\",RTD(\"cqg.rtd\", ,\"ContractData\",F8, \"LongDescription\",, \"T\"))","v":"Euro STOXX 50, Dec 21"},null,8.0425637218510277E-3,"",8.0425637218510277E-3]
[{"$f":"Symbols!H2","v":"DSX?"},{"$f":"Data!U8","v":8.0425637218510277E-3},{"$f":"IF(B9=\"\",\"\",RANK(B9,$B$3:$B$36,0)+COUNTIF($B$3:B9,B9)-1)","v":6},"DSX?",7,"DD?",{"$f":"IFERROR(RTD(\"cqg.rtd\", ,\"ContractData\",F9, \"PerCentNetLastTrade\",, \"T\")/100,\"\")","v":7.5351973031925444E-3},{"$f":"IF(F9=\"\",\"\",RTD(\"cqg.rtd\", ,\"ContractData\",F9, \"LongDescription\",, \"T\"))","v":"DAX Index, Dec 21"},null,7.5351973031925444E-3,"",7.5351973031925444E-3]
[{"$f":"Symbols!I2","v":"QFA?"},{"$f":"Data!X8","v":3.0977189524077726E-3},{"$f":"IF(B10=\"\",\"\",RANK(B10,$B$3:$B$36,0)+COUNTIF($B$3:B10,B10)-1)","v":16},"QFA?",8,"USA?",{"$f":"IFERROR(RTD(\"cqg.rtd\", ,\"ContractData\",F10, \"PerCentNetLastTrade\",, \"T\")/100,\"\")","v":6.1095782420181322E-3},{"$f":"IF(F10=\"\",\"\",RTD(\"cqg.rtd\", ,\"ContractData\",F10, \"LongDescription\",, \"T\"))","v":"30yr US Treasury Bonds (Globex), Dec 21"},null,6.1095782420181322E-3,"",{"$f":"IF(K10=\"\",J10,-1*K10)","v":6.1095782420181322E-3}]
[{"$f":"Symbols!J2","v":"PIL?"},{"$f":"Data!AA8","v":8.631884500802078E-3},{"$f":"IF(B11=\"\",\"\",RANK(B11,$B$3:$B$36,0)+COUNTIF($B$3:B11,B11)-1)","v":5},"PIL?",9,"SF6?",{"$f":"IFERROR(RTD(\"cqg.rtd\", ,\"ContractData\",F11, \"PerCentNetLastTrade\",, \"T\")/100,\"\")","v":5.297890138488707E-3},{"$f":"IF(F11=\"\",\"\",RTD(\"cqg.rtd\", ,\"ContractData\",F11, \"LongDescription\",, \"T\"))","v":"Swiss Franc (Globex), Dec 21"},null,5.297890138488707E-3,"",5.297890138488707E-3]
[{"$f":"Symbols!K2","v":"NKD?"},{"$f":"Data!AD8","v":-1.7733640716439082E-4},{"$f":"IF(B12=\"\",\"\",RANK(B12,$B$3:$B$36,0)+COUNTIF($B$3:B12,B12)-1)","v":29},"NKD?",10,"QGA?",{"$f":"IFERROR(RTD(\"cqg.rtd\", ,\"ContractData\",F12, \"PerCentNetLastTrade\",, \"T\")/100,\"\")","v":4.9907429767366979E-3},{"$f":"IF(F12=\"\",\"\",RTD(\"cqg.rtd\", ,\"ContractData\",F12, \"LongDescription\",, \"T\"))","v":"Long Gilt (CONNECT), Dec 21"},null,4.9907429767366979E-3,"",4.9907429767366979E-3]
[{"$f":"Symbols!B5","v":"DXE?"},{"$f":"Data!C56","v":-3.6923793099800039E-3},{"$f":"IF(B13=\"\",\"\",RANK(B13,$B$3:$B$36,0)+COUNTIF($B$3:B13,B13)-1)","v":32},"DXE?",11,"RBE?",{"$f":"IFERROR(RTD(\"cqg.rtd\", ,\"ContractData\",F13, \"PerCentNetLastTrade\",, \"T\")/100,\"\")","v":4.7001552729866967E-3},{"$f":"IF(F13=\"\",\"\",RTD(\"cqg.rtd\", ,\"ContractData\",F13, \"LongDescription\",, \"T\"))","v":"RBOB Gasoline (Globex), Nov 21"},null,4.7001552729866967E-3,"",4.7001552729866967E-3]
[{"$f":"Symbols!C5","v":"EU6?"},{"$f":"Data!F56","v":3.7683544852081256E-3},{"$f":"IF(B14=\"\",\"\",RANK(B14,$B$3:$B$36,0)+COUNTIF($B$3:B14,B14)-1)","v":13},"EU6?",12,"ENQ?",{"$f":"IFERROR(RTD(\"cqg.rtd\", ,\"ContractData\",F14, \"PerCentNetLastTrade\",, \"T\")/100,\"\")","v":4.1117158309590023E-3},{"$f":"IF(F14=\"\",\"\",RTD(\"cqg.rtd\", ,\"ContractData\",F14, \"LongDescription\",, \"T\"))","v":"E-mini NASDAQ-100, Dec 21"},null,4.1117158309590023E-3,"",4.1117158309590023E-3]
[{"$f":"Symbols!D5","v":"JY6?"},{"$f":"Data!I56","v":2.442765437709481E-3},{"$f":"IF(B15=\"\",\"\",RANK(B15,$B$3:$B$36,0)+COUNTIF($B$3:B15,B15)-1)","v":19},"JY6?",13,"EU6?",{"$f":"IFERROR(RTD(\"cqg.rtd\", ,\"ContractData\",F15, \"PerCentNetLastTrade\",, \"T\")/100,\"\")","v":3.7683544852081256E-3},{"$f":"IF(F15=\"\",\"\",RTD(\"cqg.rtd\", ,\"ContractData\",F15, \"LongDescription\",, \"T\"))","v":"Euro FX (Globex), Dec 21"},null,3.7683544852081256E-3,"",3.7683544852081256E-3]
[{"$f":"Symbols!E5","v":"BP6?"},{"$f":"Data!L56","v":3.6042662743655755E-3},{"$f":"IF(B16=\"\",\"\",RANK(B16,$B$3:$B$36,0)+COUNTIF($B$3:B16,B16)-1)","v":14},"BP6?",14,"BP6?",{"$f":"IFERROR(RTD(\"cqg.rtd\", ,\"ContractData\",F16, \"PerCentNetLastTrade\",, \"T\")/100,\"\")","v":3.6042662743655755E-3},{"$f":"IF(F16=\"\",\"\",RTD(\"cqg.rtd\", ,\"ContractData\",F16, \"LongDescription\",, \"T\"))","v":"British Pound (Globex), Dec 21"},null,3.6042662743655755E-3,"",3.6042662743655755E-3]
[{"$f":"Symbols!F5","v":"CA6?"},{"$f":"Data!O56","v":1.8070787637088734E-3},{"$f":"IF(B17=\"\",\"\",RANK(B17,$B$3:$B$36,0)+COUNTIF($B$3:B17,B17)-1)","v":23},"CA6?",15,"DB?",{"$f":"IFERROR(RTD(\"cqg.rtd\", ,\"ContractData\",F17, \"PerCentNetLastTrade\",, \"T\")/100,\"\")","v":3.1470815272252239E-3},{"$f":"IF(F17=\"\",\"\",RTD(\"cqg.rtd\", ,\"ContractData\",F17, \"LongDescription\",, \"T\"))","v":"Euro Bund (10yr), Dec 21"},null,3.1470815272252239E-3,"",3.1470815272252239E-3]
[{"$f":"Symbols!G5","v":"SF6?"},{"$f":"Data!R56","v":5.297890138488707E-3},{"$f":"IF(B18=\"\",\"\",RANK(B18,$B$3:$B$36,0)+COUNTIF($B$3:B18,B18)-1)","v":9},"SF6?",16,"QFA?",{"$f":"IFERROR(RTD(\"cqg.rtd\", ,\"ContractData\",F18, \"PerCentNetLastTrade\",, \"T\")/100,\"\")","v":3.0977189524077726E-3},{"$f":"IF(F18=\"\",\"\",RTD(\"cqg.rtd\", ,\"ContractData\",F18, \"LongDescription\",, \"T\"))","v":"FTSE 100 - Stnd Index, Dec 21"},null,3.0977189524077726E-3,"",3.0977189524077726E-3]
[{"$f":"Symbols!H5","v":"DA6?"},{"$f":"Data!U56","v":2.3788486372595661E-3},{"$f":"IF(B19=\"\",\"\",RANK(B19,$B$3:$B$36,0)+COUNTIF($B$3:B19,B19)-1)","v":20},"DA6?",17,"RTY?",{"$f":"IFERROR(RTD(\"cqg.rtd\", ,\"ContractData\",F19, \"PerCentNetLastTrade\",, \"T\")/100,\"\")","v":3.0054277127349394E-3},{"$f":"IF(F19=\"\",\"\",RTD(\"cqg.rtd\", ,\"ContractData\",F19, \"LongDescription\",, \"T\"))","v":"E-mini Russell 2000, Dec 21"},null,3.0054277127349394E-3,"",3.0054277127349394E-3]
[{"$f":"Symbols!I5","v":"NE6?"},{"$f":"Data!X56","v":2.7405163709793741E-3},{"$f":"IF(B20=\"\",\"\",RANK(B20,$B$3:$B$36,0)+COUNTIF($B$3:B20,B20)-1)","v":18},"NE6?",18,"NE6?",{"$f":"IFERROR(RTD(\"cqg.rtd\", ,\"ContractData\",F20, \"PerCentNetLastTrade\",, \"T\")/100,\"\")","v":2.7405163709793741E-3},{"$f":"IF(F20=\"\",\"\",RTD(\"cqg.rtd\", ,\"ContractData\",F20, \"LongDescription\",, \"T\"))","v":"New Zealand Dollar (Globex), Dec 21"},null,2.7405163709793741E-3,"",2.7405163709793741E-3]
[{"$f":"Symbols!J5","v":"MX6?"},{"$f":"Data!AA56","v":2.0951183741881414E-3},{"$f":"IF(B21=\"\",\"\",RANK(B21,$B$3:$B$36,0)+COUNTIF($B$3:B21,B21)-1)","v":21},"MX6?",19,"JY6?",{"$f":"IFERROR(RTD(\"cqg.rtd\", ,\"ContractData\",F21, \"PerCentNetLastTrade\",, \"T\")/100,\"\")","v":2.442765437709481E-3},{"$f":"IF(F21=\"\",\"\",RTD(\"cqg.rtd\", ,\"ContractData\",F21, \"LongDescription\",, \"T\"))","v":"Japanese Yen (Globex), Dec 21"},null,2.442765437709481E-3,"",2.442765437709481E-3]
[{"$f":"Symbols!K5","v":"EB?"},{"$f":"Data!AD56","v":1.7665763749852786E-4},{"$f":"IF(B22=\"\",\"\",RANK(B22,$B$3:$B$36,0)+COUNTIF($B$3:B22,B22)-1)","v":27},"EB?",20,"DA6?",{"$f":"IFERROR(RTD(\"cqg.rtd\", ,\"ContractData\",F22, \"PerCentNetLastTrade\",, \"T\")/100,\"\")","v":2.3788486372595661E-3},{"$f":"IF(F22=\"\",\"\",RTD(\"cqg.rtd\", ,\"ContractData\",F22, \"LongDescription\",, \"T\"))","v":"Australian Dollar (Globex), Dec 21"},null,2.3788486372595661E-3,"",2.3788486372595661E-3]
[{"$f":"Symbols!B8","v":"GCE?"},{"$f":"Data!C14","v":1.9723753765702269E-2},{"$f":"IF(B23=\"\",\"\",RANK(B23,$B$3:$B$36,0)+COUNTIF($B$3:B23,B23)-1)","v":2},"GCE?",21,"MX6?",{"$f":"IFERROR(RTD(\"cqg.rtd\", ,\"ContractData\",F23, \"PerCentNetLastTrade\",, \"T\")/100,\"\")","v":2.0951183741881414E-3},{"$f":"IF(F23=\"\",\"\",RTD(\"cqg.rtd\", ,\"ContractData\",F23, \"LongDescription\",, \"T\"))","v":"Mexican Peso (Globex), Dec 21"},null,2.0951183741881414E-3,"",2.0951183741881414E-3]
[{"$f":"Symbols!C8","v":"SIE?"},{"$f":"Data!C20","v":3.1802434041041133E-2},{"$f":"IF(B24=\"\",\"\",RANK(B24,$B$3:$B$36,0)+COUNTIF($B$3:B24,B24)-1)","v":1},"SIE?",22,"EMD?",{"$f":"IFERROR(RTD(\"cqg.rtd\", ,\"ContractData\",F24, \"PerCentNetLastTrade\",, \"T\")/100,\"\")","v":2.0850398391540695E-3},{"$f":"IF(F24=\"\",\"\",RTD(\"cqg.rtd\", ,\"ContractData\",F24, \"LongDescription\",, \"T\"))","v":"E-mini MidCap 400, Dec 21"},null,2.0850398391540695E-3,"",2.0850398391540695E-3]
[{"$f":"Symbols!D8","v":"PLE?"},{"$f":"Data!C26","v":1.492537313432836E-2},{"$f":"IF(B25=\"\",\"\",RANK(B25,$B$3:$B$36,0)+COUNTIF($B$3:B25,B25)-1)","v":4},"PLE?",23,"CA6?",{"$f":"IFERROR(RTD(\"cqg.rtd\", ,\"ContractData\",F25, \"PerCentNetLastTrade\",, \"T\")/100,\"\")","v":1.8070787637088734E-3},{"$f":"IF(F25=\"\",\"\",RTD(\"cqg.rtd\", ,\"ContractData\",F25, \"LongDescription\",, \"T\"))","v":"Canadian Dollar (Globex), Dec 21"},null,1.8070787637088734E-3,"",1.8070787637088734E-3]
[{"$f":"Symbols!E8","v":"CLE?"},{"$f":"Data!C32","v":-1.6121031746031747E-3},{"$f":"IF(B26=\"\",\"\",RANK(B26,$B$3:$B$36,0)+COUNTIF($B$3:B26,B26)-1)","v":31},"CLE?",24,"HOE?",{"$f":"IFERROR(RTD(\"cqg.rtd\", ,\"ContractData\",F26, \"PerCentNetLastTrade\",, \"T\")/100,\"\")","v":1.4342629482071714E-3},{"$f":"IF(F26=\"\",\"\",RTD(\"cqg.rtd\", ,\"ContractData\",F26, \"LongDescription\",, \"T\"))","v":"NY Harbor ULSD, Nov 21"},null,1.4342629482071714E-3,"",1.4342629482071714E-3]
[{"$f":"Symbols!F8","v":"HOE?"},{"$f":"Data!C38","v":1.4342629482071714E-3},{"$f":"IF(B27=\"\",\"\",RANK(B27,$B$3:$B$36,0)+COUNTIF($B$3:B27,B27)-1)","v":24},"HOE?",25,"TYA?",{"$f":"IFERROR(RTD(\"cqg.rtd\", ,\"ContractData\",F27, \"PerCentNetLastTrade\",, \"T\")/100,\"\")","v":1.1914690813773381E-3},{"$f":"IF(F27=\"\",\"\",RTD(\"cqg.rtd\", ,\"ContractData\",F27, \"LongDescription\",, \"T\"))","v":"10yr US Treasury Notes (Globex), Dec 21"},null,1.1914690813773381E-3,"",1.1914690813773381E-3]
[{"$f":"Symbols!G8","v":"RBE?"},{"$f":"Data!C44","v":4.7001552729866967E-3},{"$f":"IF(B28=\"\",\"\",RANK(B28,$B$3:$B$36,0)+COUNTIF($B$3:B28,B28)-1)","v":11},"RBE?",26,"DL?",{"$f":"IFERROR(RTD(\"cqg.rtd\", ,\"ContractData\",F28, \"PerCentNetLastTrade\",, \"T\")/100,\"\")","v":5.2071710183738745E-4},{"$f":"IF(F28=\"\",\"\",RTD(\"cqg.rtd\", ,\"ContractData\",F28, \"LongDescription\",, \"T\"))","v":"Euro BOBL (5yr), Dec 21"},null,5.2071710183738745E-4,"",5.2071710183738745E-4]
[{"$f":"Symbols!H8","v":"NGE?"},{"$f":"Data!C50","v":-2.3069936421435056E-2},{"$f":"IF(B29=\"\",\"\",RANK(B29,$B$3:$B$36,0)+COUNTIF($B$3:B29,B29)-1)","v":34},"NGE?",27,"EB?",{"$f":"IFERROR(RTD(\"cqg.rtd\", ,\"ContractData\",F29, \"PerCentNetLastTrade\",, \"T\")/100,\"\")","v":1.7665763749852786E-4},{"$f":"IF(F29=\"\",\"\",RTD(\"cqg.rtd\", ,\"ContractData\",F29, \"LongDescription\",, \"T\"))","v":"Euro/British Pound (Globex), Dec 21"},null,1.7665763749852786E-4,"",1.7665763749852786E-4]
[{"$f":"Symbols!B11","v":"FVA?"},{"$f":"Data!AD14","v":6.3865116873163883E-5},{"$f":"IF(B30=\"\",\"\",RANK(B30,$B$3:$B$36,0)+COUNTIF($B$3:B30,B30)-1)","v":28},"FVA?",28,"FVA?",{"$f":"IFERROR(RTD(\"cqg.rtd\", ,\"ContractData\",F30, \"PerCentNetLastTrade\",, \"T\")/100,\"\")","v":6.3865116873163883E-5},{"$f":"IF(F30=\"\",\"\",RTD(\"cqg.rtd\", ,\"ContractData\",F30, \"LongDescription\",, \"T\"))","v":"5yr US Treasury Notes (Globex), Dec 21"},null,6.3865116873163883E-5,"",6.3865116873163883E-5]
[{"$f":"Symbols!C11","v":"TYA?"},{"$f":"Data!AD20","v":1.1914690813773381E-3},{"$f":"IF(B31=\"\",\"\",RANK(B31,$B$3:$B$36,0)+COUNTIF($B$3:B31,B31)-1)","v":25},"TYA?",29,"NKD?",{"$f":"IFERROR(RTD(\"cqg.rtd\", ,\"ContractData\",F31, \"PerCentNetLastTrade\",, \"T\")/100,\"\")","v":-1.7733640716439082E-4},{"$f":"IF(F31=\"\",\"\",RTD(\"cqg.rtd\", ,\"ContractData\",F31, \"LongDescription\",, \"T\"))","v":"Nikkei 225 (Globex), Dec 21"},null,1.7733640716439082E-4,1.7733640716439082E-4,-1.7733640716439082E-4]
[{"$f":"Symbols!D11","v":"USA?"},{"$f":"Data!AD26","v":6.1095782420181322E-3},{"$f":"IF(B32=\"\",\"\",RANK(B32,$B$3:$B$36,0)+COUNTIF($B$3:B32,B32)-1)","v":8},"USA?",30,"EP?",{"$f":"IFERROR(RTD(\"cqg.rtd\", ,\"ContractData\",F32, \"PerCentNetLastTrade\",, \"T\")/100,\"\")","v":-1.1518746760352473E-3},{"$f":"IF(F32=\"\",\"\",RTD(\"cqg.rtd\", ,\"ContractData\",F32, \"LongDescription\",, \"T\"))","v":"E-Mini S&P 500, Dec 21"},null,1.1518746760352473E-3,1.1518746760352473E-3]
[{"$f":"Symbols!E11","v":"DL?"},{"$f":"Data!AD32","v":5.2071710183738745E-4},{"$f":"IF(B33=\"\",\"\",RANK(B33,$B$3:$B$36,0)+COUNTIF($B$3:B33,B33)-1)","v":26},"DL?",31,"CLE?",{"$f":"IFERROR(RTD(\"cqg.rtd\", ,\"ContractData\",F33, \"PerCentNetLastTrade\",, \"T\")/100,\"\")","v":-1.6121031746031747E-3},{"$f":"IF(F33=\"\",\"\",RTD(\"cqg.rtd\", ,\"ContractData\",F33, \"LongDescription\",, \"T\"))","v":"Crude Light (Globex), Nov 21"},null,1.6121031746031747E-3,1.6121031746031747E-3,-1.6121031746031747E-3]
[{"$f":"Symbols!F11","v":"DB?"},{"$f":"Data!AD38","v":3.1470815272252239E-3},{"$f":"IF(B34=\"\",\"\",RANK(B34,$B$3:$B$36,0)+COUNTIF($B$3:B34,B34)-1)","v":15},"DB?",32,"DXE?",{"$f":"IFERROR(RTD(\"cqg.rtd\", ,\"ContractData\",F34, \"PerCentNetLastTrade\",, \"T\")/100,\"\")","v":-3.6923793099800039E-3},{"$f":"IF(F34=\"\",\"\",RTD(\"cqg.rtd\", ,\"ContractData\",F34, \"LongDescription\",, \"T\"))","v":"Dollar Index (ICE), Dec 21"},null,3.6923793099800039E-3,3.6923793099800039E-3,-3.6923793099800039E-3]
[{"$f":"Symbols!G11","v":"FGBX?"},{"$f":"Data!AD44","v":1.5333734215273603E-2},{"$f":"IF(B35=\"\",\"\",RANK(B35,$B$3:$B$36,0)+COUNTIF($B$3:B35,B35)-1)","v":3},"FGBX?",33,"YM?",{"$f":"IFERROR(RTD(\"cqg.rtd\", ,\"ContractData\",F35, \"PerCentNetLastTrade\",, \"T\")/100,\"\")","v":-4.4658493870402801E-3},{"$f":"IF(F35=\"\",\"\",RTD(\"cqg.rtd\", ,\"ContractData\",F35, \"LongDescription\",, \"T\"))","v":"E-mini Dow ($5), Dec 21"},null,4.4658493870402801E-3,4.4658493870402801E-3,-4.4658493870402801E-3]
[{"$f":"Symbols!H11","v":"QGA?"},{"$f":"Data!AD50","v":4.9907429767366979E-3},{"$f":"IF(B36=\"\",\"\",RANK(B36,$B$3:$B$36,0)+COUNTIF($B$3:B36,B36)-1)","v":10},"QGA?",34,"NGE?",{"$f":"IFERROR(RTD(\"cqg.rtd\", ,\"ContractData\",F36, \"PerCentNetLastTrade\",, \"T\")/100,\"\")","v":-2.3069936421435056E-2},{"$f":"IF(F36=\"\",\"\",RTD(\"cqg.rtd\", ,\"ContractData\",F36, \"LongDescription\",, \"T\"))","v":"Natural Gas (Globex), Nov 21"},null,2.3069936421435056E-2,2.3069936421435056E-2,-2.3069936421435056E-2]

{"sheet":"Symbols","index":6,"n_rows":18,"n_cols":11,"rows_kept":18,"cut":false,"hidden":false,"merged":[[13,1,13,7],[14,1,14,7],[18,1,18,7],[19,1,19,7],[20,1,20,7],[17,1,17,7]]}
[]
["Top Row:","YM?","EP?","ENQ?","EMD?","RTY?","DD?","DSX?","QFA?","PIL?","NKD?"]
["Decimal?",0,2,2,1,2,0,2,2,2,0]
[]
["Bottom Row:","DXE?","EU6?","JY6?","BP6?","CA6?","SF6?","DA6?","NE6?","MX6?","EB?"]
["Decimal?",3,5,{"$f":"LEN(RTD(\"cqg.rtd\",,\"ContractData\",D5,\"TickSize\",,\"T\"))-2","v":7},4,4,4,4,4,5,5]
[]
["Left Column:","GCE?","SIE?","PLE?","CLE?","HOE?","RBE?","NGE?"]
["Decimal?",2,3,2,2,4,3,3]
[]
["Right Column:","FVA?","TYA?","USA?","DL?","DB?","FGBX?","QGA?"]
["Decimal?","B","B","B",2,2,2,2]
[]
[null,"Enter the symbols to be used for the Main Display"]
[null,"Enter the number of decimals for the price formatting (1 to 7)"]
[null,"Use B for Treasuries and markets that trade in fractions, such as corn."]
[]
[null,"Modify the Time on the main display by this many hours:  ",null,null,null,null,null,null,0,{"$f":"I18/24","v":0}]

{"sheet":"Data","index":7,"n_rows":56,"n_cols":40,"rows_kept":56,"cut":false,"hidden":true,"merged":[]}
[]
[]
[]
[null,{"$f":"Symbols!B2","v":"YM?"},{"$f":"AJ5","v":5},null,{"$f":"Symbols!C2","v":"EP?"},{"$f":"AJ6","v":5},null,{"$f":"Symbols!D2","v":"ENQ?"},{"$f":"AJ7","v":6},null,{"$f":"Symbols!E2","v":"EMD?"},{"$f":"AJ8","v":6},null,{"$f":"Symbols!F2","v":"RTY?"},{"$f":"AJ9","v":6},null,{"$f":"Symbols!G2","v":"DD?"},{"$f":"AJ10","v":7},null,{"$f":"Symbols!H2","v":"DSX?"},{"$f":"AJ11","v":7},null,{"$f":"Symbols!I2","v":"QFA?"},{"$f":"AJ12","v":6},null,{"$f":"Symbols!J2","v":"PIL?"},{"$f":"AJ13","v":7},null,{"$f":"Symbols!K2","v":"NKD?"},{"$f":"AJ14","v":5},null,null,null,null,null,{"$f":"MAX(AI5:AI38)","v":3.1802434041041133E-2},{"$f":"MIN(AI5:AI38)","v":-2.3069936421435056E-2},{"$f":"AJ4-AK4","v":5.4872370462476186E-2},{"$f":"AJ4/5","v":6.3604868082082263E-3},{"$f":"AK4/5*-1","v":4.6139872842870114E-3}]
[null,{"$f":"LEFT(RTD(\"cqg.rtd\", ,\"ContractData\",B4, \"LongDescription\",, \"T\"),LEN(RTD(\"cqg.rtd\", ,\"ContractData\",B4, \"LongDescription\",, \"T\")))","v":"E-mini Dow ($5), Dec 21"},{"$f":"IF(Symbols!B3=\"B\",\"B\",IF(Symbols!B3=0,0,IF(Symbols!B3=1,\"#.0\",IF(Symbols!B3=2,\"#.00\",IF(Symbols!B3=3,\"#.000\",IF(Symbols!B3=4,\"#.0000\",IF(Symbols!B3=5,\"#.00000\",IF(Symbols!B3=6,\"#.000000\",IF(Symbols!B3=7,\"#.0000000\")))))))))","v":0},null,{"$f":"LEFT(RTD(\"cqg.rtd\", ,\"ContractData\",E4, \"LongDescription\",, \"T\"),LEN(RTD(\"cqg.rtd\", ,\"ContractData\",E4, \"LongDescription\",, \"T\")))","v":"E-Mini S&P 500, Dec 21"},{"$f":"IF(Symbols!C3=\"B\",\"B\",IF(Symbols!C3=0,0,IF(Symbols!C3=1,\"#.0\",IF(Symbols!C3=2,\"#.00\",IF(Symbols!C3=3,\"#.000\",IF(Symbols!C3=4,\"#.0000\",IF(Symbols!C3=5,\"#.00000\",IF(Symbols!C3=6,\"#.000000\",IF(Symbols!C3=7,\"#.0000000\")))))))))","v":"#.00"},null,{"$f":"LEFT(RTD(\"cqg.rtd\", ,\"ContractData\",H4, \"LongDescription\",, \"T\"),LEN(RTD(\"cqg.rtd\", ,\"ContractData\",H4, \"LongDescription\",, \"T\")))","v":"E-mini NASDAQ-100, Dec 21"},{"$f":"IF(Symbols!D3=\"B\",\"B\",IF(Symbols!D3=0,0,IF(Symbols!D3=1,\"#.0\",IF(Symbols!D3=2,\"#.00\",IF(Symbols!D3=3,\"#.000\",IF(Symbols!D3=4,\"#.0000\",IF(Symbols!D3=5,\"#.00000\",IF(Symbols!D3=6,\"#.000000\",IF(Symbols!D3=7,\"#.0000000\")))))))))","v":"#.00"},null,{"$f":"LEFT(RTD(\"cqg.rtd\", ,\"ContractData\",K4, \"LongDescription\",, \"T\"),LEN(RTD(\"cqg.rtd\", ,\"ContractData\",K4, \"LongDescription\",, \"T\")))","v":"E-mini MidCap 400, Dec 21"},{"$f":"IF(Symbols!E3=\"B\",\"B\",IF(Symbols!E3=0,0,IF(Symbols!E3=1,\"#.0\",IF(Symbols!E3=2,\"#.00\",IF(Symbols!E3=3,\"#.000\",IF(Symbols!E3=4,\"#.0000\",IF(Symbols!E3=5,\"#.00000\",IF(Symbols!E3=6,\"#.000000\",IF(Symbols!E3=7,\"#.0000000\")))))))))","v":"#.0"},null,{"$f":"LEFT(RTD(\"cqg.rtd\", ,\"ContractData\",N4, \"LongDescription\",, \"T\"),LEN(RTD(\"cqg.rtd\", ,\"ContractData\",N4, \"LongDescription\",, \"T\")))","v":"E-mini Russell 2000, Dec 21"},{"$f":"IF(Symbols!F3=\"B\",\"B\",IF(Symbols!F3=0,0,IF(Symbols!F3=1,\"#.0\",IF(Symbols!F3=2,\"#.00\",IF(Symbols!F3=3,\"#.000\",IF(Symbols!F3=4,\"#.0000\",IF(Symbols!F3=5,\"#.00000\",IF(Symbols!F3=6,\"#.000000\",IF(Symbols!F3=7,\"#.0000000\")))))))))","v":"#.00"},null,{"$f":"LEFT(RTD(\"cqg.rtd\", ,\"ContractData\",Q4, \"LongDescription\",, \"T\"),LEN(RTD(\"cqg.rtd\", ,\"ContractData\",Q4, \"LongDescription\",, \"T\")))","v":"DAX Index, Dec 21"},{"$f":"IF(Symbols!G3=\"B\",\"B\",IF(Symbols!G3=0,0,IF(Symbols!G3=1,\"#.0\",IF(Symbols!G3=2,\"#.00\",IF(Symbols!G3=3,\"#.000\",IF(Symbols!G3=4,\"#.0000\",IF(Symbols!G3=5,\"#.00000\",IF(Symbols!G3=6,\"#.000000\",IF(Symbols!G3=7,\"#.0000000\")))))))))","v":0},null,{"$f":"LEFT(RTD(\"cqg.rtd\", ,\"ContractData\",T4, \"LongDescription\",, \"T\"),LEN(RTD(\"cqg.rtd\", ,\"ContractData\",T4, \"LongDescription\",, \"T\")))","v":"Euro STOXX 50, Dec 21"},{"$f":"IF(Symbols!H3=\"B\",\"B\",IF(Symbols!H3=0,0,IF(Symbols!H3=1,\"#.0\",IF(Symbols!H3=2,\"#.00\",IF(Symbols!H3=3,\"#.000\",IF(Symbols!H3=4,\"#.0000\",IF(Symbols!H3=5,\"#.00000\",IF(Symbols!H3=6,\"#.000000\",IF(Symbols!H3=7,\"#.0000000\")))))))))","v":"#.00"},null,{"$f":"LEFT(RTD(\"cqg.rtd\", ,\"ContractData\",W4, \"LongDescription\",, \"T\"),LEN(RTD(\"cqg.rtd\", ,\"ContractData\",W4, \"LongDescription\",, \"T\")))","v":"FTSE 100 - Stnd Index, Dec 21"},{"$f":"IF(Symbols!I3=\"B\",\"B\",IF(Symbols!I3=0,0,IF(Symbols!I3=1,\"#.0\",IF(Symbols!I3=2,\"#.00\",IF(Symbols!I3=3,\"#.000\",IF(Symbols!I3=4,\"#.0000\",IF(Symbols!I3=5,\"#.00000\",IF(Symbols!I3=6,\"#.000000\",IF(Symbols!I3=7,\"#.0000000\")))))))))","v":"#.00"},null,{"$f":"LEFT(RTD(\"cqg.rtd\", ,\"ContractData\",Z4, \"LongDescription\",, \"T\"),LEN(RTD(\"cqg.rtd\", ,\"ContractData\",Z4, \"LongDescription\",, \"T\")))","v":"CAC40, Oct 21"},{"$f":"IF(Symbols!J3=\"B\",\"B\",IF(Symbols!J3=0,0,IF(Symbols!J3=1,\"#.0\",IF(Symbols!J3=2,\"#.00\",IF(Symbols!J3=3,\"#.000\",IF(Symbols!J3=4,\"#.0000\",IF(Symbols!J3=5,\"#.00000\",IF(Symbols!J3=6,\"#.000000\",IF(Symbols!J3=7,\"#.0000000\")))))))))","v":"#.00"},null,{"$f":"LEFT(RTD(\"cqg.rtd\", ,\"ContractData\",AC4, \"LongDescription\",, \"T\"),LEN(RTD(\"cqg.rtd\", ,\"ContractData\",AC4, \"LongDescription\",, \"T\")))","v":"Nikkei 225 (Globex), Dec 21"},{"$f":"IF(Symbols!K3=\"B\",\"B\",IF(Symbols!K3=0,0,IF(Symbols!K3=1,\"#.0\",IF(Symbols!K3=2,\"#.00\",IF(Symbols!K3=3,\"#.000\",IF(Symbols!K3=4,\"#.0000\",IF(Symbols!K3=5,\"#.00000\",IF(Symbols!K3=6,\"#.000000\",IF(Symbols!K3=7,\"#.0000000\")))))))))","v":0},null,null,null,{"$f":"B4","v":"YM?"},{"$f":"C8","v":-4.4658493870402801E-3},{"$f":"VLOOKUP(AI5,$AM$5:$AN$15,2)","v":5},null,null,{"$f":"AK4","v":-2.3069936421435056E-2},1]
[null,{"$f":"IF(C5=\"B\",RTD(\"cqg.rtd\", ,\"ContractData\",B4, \"LastQuoteToday\",, \"B\"),TEXT(RTD(\"cqg.rtd\",,\"ContractData\",B4,\"Close\",,\"T\"),C5))","v":"34107"},null,null,{"$f":"IF(F5=\"B\",RTD(\"cqg.rtd\", ,\"ContractData\",E4, \"LastQuoteToday\",, \"B\"),TEXT(RTD(\"cqg.rtd\",,\"ContractData\",E4,\"Close\",,\"T\"),F5))","v":"4335.75"},null,null,{"$f":"IF(I5=\"B\",RTD(\"cqg.rtd\", ,\"ContractData\",H4, \"LastQuoteToday\",, \"B\"),TEXT(RTD(\"cqg.rtd\",,\"ContractData\",H4,\"Close\",,\"T\"),I5))","v":"14713.25"},null,null,{"$f":"IF(L5=\"B\",RTD(\"cqg.rtd\", ,\"ContractData\",K4, \"LastQuoteToday\",, \"B\"),TEXT(RTD(\"cqg.rtd\",,\"ContractData\",K4,\"Close\",,\"T\"),L5))","v":"2691.3"},null,null,{"$f":"IF(O5=\"B\",RTD(\"cqg.rtd\", ,\"ContractData\",N4, \"LastQuoteToday\",, \"B\"),TEXT(RTD(\"cqg.rtd\",,\"ContractData\",N4,\"Close\",,\"T\"),O5))","v":"2235.90"},null,null,{"$f":"IF(R5=\"B\",RTD(\"cqg.rtd\", ,\"ContractData\",Q4, \"LastQuoteToday\",, \"B\"),TEXT(RTD(\"cqg.rtd\",,\"ContractData\",Q4,\"Close\",,\"T\"),R5))","v":"15243"},null,null,{"$f":"IF(U5=\"B\",RTD(\"cqg.rtd\", ,\"ContractData\",T4, \"LastQuoteToday\",, \"B\"),TEXT(RTD(\"cqg.rtd\",,\"ContractData\",T4,\"Close\",,\"T\"),U5))","v":"4073.50"},null,null,{"$f":"IF(X5=\"B\",RTD(\"cqg.rtd\", ,\"ContractData\",W4, \"LastQuoteToday\",, \"B\"),TEXT(RTD(\"cqg.rtd\",,\"ContractData\",W4,\"Close\",,\"T\"),X5))","v":"7124.00"},null,null,{"$f":"IF(AA5=\"B\",RTD(\"cqg.rtd\", ,\"ContractData\",Z4, \"LastQuoteToday\",, \"B\"),TEXT(RTD(\"cqg.rtd\",,\"ContractData\",Z4,\"Close\",,\"T\"),AA5))","v":"6602.00"},null,null,{"$f":"IF(AD5=\"B\",RTD(\"cqg.rtd\", ,\"ContractData\",AC4, \"LastQuoteToday\",, \"B\"),TEXT(RTD(\"cqg.rtd\",,\"ContractData\",AC4,\"Close\",,\"T\"),AD5))","v":"28190"},null,null,null,null,{"$f":"E4","v":"EP?"},{"$f":"F8","v":-1.1518746760352473E-3},5,null,null,{"$f":"AM5+$AN$4","v":-1.8455949137148046E-2},2]
[null,{"$f":"IF(C5=\"B\",RTD(\"cqg.rtd\", ,\"ContractData\",B4, \"High\",, \"B\"),TEXT(RTD(\"cqg.rtd\",,\"ContractData\",B4,\"High\",,\"T\"),C5))","v":"34343"},{"$f":"IF(C5=\"B\",RTD(\"cqg.rtd\", ,\"ContractData\",B4,\"NetLastQuoteToday\",, \"B\"),TEXT(RTD(\"cqg.rtd\",,\"ContractData\",B4,\"NetLastQuoteToday\",,\"T\"),C5))","v":"-153"},null,{"$f":"IF(F5=\"B\",RTD(\"cqg.rtd\", ,\"ContractData\",E4, \"High\",, \"B\"),TEXT(RTD(\"cqg.rtd\",,\"ContractData\",E4,\"High\",,\"T\"),F5))","v":"4357.25"},{"$f":"IF(F5=\"B\",RTD(\"cqg.rtd\", ,\"ContractData\",E4,\"NetLastQuoteToday\",, \"B\"),TEXT(RTD(\"cqg.rtd\",,\"ContractData\",E4,\"NetLastQuoteToday\",,\"T\"),F5))","v":"-5.00"},null,{"$f":"IF(I5=\"B\",RTD(\"cqg.rtd\", ,\"ContractData\",H4, \"High\",, \"B\"),TEXT(RTD(\"cqg.rtd\",,\"ContractData\",H4,\"High\",,\"T\"),I5))","v":"14778.75"},{"$f":"IF(I5=\"B\",RTD(\"cqg.rtd\", ,\"ContractData\",H4,\"NetLastQuoteToday\",, \"B\"),TEXT(RTD(\"cqg.rtd\",,\"ContractData\",H4,\"NetLastQuoteToday\",,\"T\"),I5))","v":"60.00"},null,{"$f":"IF(L5=\"B\",RTD(\"cqg.rtd\", ,\"ContractData\",K4, \"High\",, \"B\"),TEXT(RTD(\"cqg.rtd\",,\"ContractData\",K4,\"High\",,\"T\"),L5))","v":"2696.1"},{"$f":"IF(L5=\"B\",RTD(\"cqg.rtd\", ,\"ContractData\",K4,\"NetLastQuoteToday\",, \"B\"),TEXT(RTD(\"cqg.rtd\",,\"ContractData\",K4,\"NetLastQuoteToday\",,\"T\"),L5))","v":"5.5"},null,{"$f":"IF(O5=\"B\",RTD(\"cqg.rtd\", ,\"ContractData\",N4, \"High\",, \"B\"),TEXT(RTD(\"cqg.rtd\",,\"ContractData\",N4,\"High\",,\"T\"),O5))","v":"2241.70"},{"$f":"IF(O5=\"B\",RTD(\"cqg.rtd\", ,\"ContractData\",N4,\"NetLastQuoteToday\",, \"B\"),TEXT(RTD(\"cqg.rtd\",,\"ContractData\",N4,\"NetLastQuoteToday\",,\"T\"),O5))","v":"6.60"},null,{"$f":"IF(R5=\"B\",RTD(\"cqg.rtd\", ,\"ContractData\",Q4, \"High\",, \"B\"),TEXT(RTD(\"cqg.rtd\",,\"ContractData\",Q4,\"High\",,\"T\"),R5))","v":"15287"},{"$f":"IF(R5=\"B\",RTD(\"cqg.rtd\", ,\"ContractData\",Q4,\"NetLastQuoteToday\",, \"B\"),TEXT(RTD(\"cqg.rtd\",,\"ContractData\",Q4,\"NetLastQuoteToday\",,\"T\"),R5))","v":"114"},null,{"$f":"IF(U5=\"B\",RTD(\"cqg.rtd\", ,\"ContractData\",T4, \"High\",, \"B\"),TEXT(RTD(\"cqg.rtd\",,\"ContractData\",T4,\"High\",,\"T\"),U5))","v":"4079.50"},{"$f":"IF(U5=\"B\",RTD(\"cqg.rtd\", ,\"ContractData\",T4,\"NetLastQuoteToday\",, \"B\"),TEXT(RTD(\"cqg.rtd\",,\"ContractData\",T4,\"NetLastQuoteToday\",,\"T\"),U5))","v":"32.50"},null,{"$f":"IF(X5=\"B\",RTD(\"cqg.rtd\", ,\"ContractData\",W4, \"High\",, \"B\"),TEXT(RTD(\"cqg.rtd\",,\"ContractData\",W4,\"High\",,\"T\"),X5))","v":"7127.50"},{"$f":"IF(X5=\"B\",RTD(\"cqg.rtd\", ,\"ContractData\",W4,\"NetLastQuoteToday\",, \"B\"),TEXT(RTD(\"cqg.rtd\",,\"ContractData\",W4,\"NetLastQuoteToday\",,\"T\"),X5))","v":"22.00"},null,{"$f":"IF(AA5=\"B\",RTD(\"cqg.rtd\", ,\"ContractData\",Z4, \"High\",, \"B\"),TEXT(RTD(\"cqg.rtd\",,\"ContractData\",Z4,\"High\",,\"T\"),AA5))","v":"6603.50"},{"$f":"IF(AA5=\"B\",RTD(\"cqg.rtd\", ,\"ContractData\",Z4,\"NetLastQuoteToday\",, \"B\"),TEXT(RTD(\"cqg.rtd\",,\"ContractData\",Z4,\"NetLastQuoteToday\",,\"T\"),AA5))","v":"56.50"},null,{"$f":"IF(AD5=\"B\",RTD(\"cqg.rtd\", ,\"ContractData\",AC4, \"High\",, \"B\"),TEXT(RTD(\"cqg.rtd\",,\"ContractData\",AC4,\"High\",,\"T\"),AD5))","v":"28400"},{"$f":"IF(AD5=\"B\",RTD(\"cqg.rtd\", ,\"ContractData\",AC4,\"NetLastQuoteToday\",, \"B\"),TEXT(RTD(\"cqg.rtd\",,\"ContractData\",AC4,\"NetLastQuoteToday\",,\"T\"),AD5))","v":"-5"},null,null,null,{"$f":"H4","v":"ENQ?"},{"$f":"I8","v":4.1117158309590023E-3},6,null,null,{"$f":"AM6+$AN$4","v":-1.3841961852861035E-2},3]
[null,{"$f":"IF(C5=\"B\",RTD(\"cqg.rtd\", ,\"ContractData\",B4, \"Low\",, \"B\"),TEXT(RTD(\"cqg.rtd\",,\"ContractData\",B4,\"Low\",,\"T\"),C5))","v":"33984"},{"$f":"IFERROR(RTD(\"cqg.rtd\", ,\"ContractData\",B4, \"PerCentNetLastTrade\",, \"T\")/100,\"\")","v":-4.4658493870402801E-3},null,{"$f":"IF(F5=\"B\",RTD(\"cqg.rtd\", ,\"ContractData\",E4, \"Low\",, \"B\"),TEXT(RTD(\"cqg.rtd\",,\"ContractData\",E4,\"Low\",,\"T\"),F5))","v":"4318.75"},{"$f":"IFERROR(RTD(\"cqg.rtd\", ,\"ContractData\",E4, \"PerCentNetLastTrade\",, \"T\")/100,\"\")","v":-1.1518746760352473E-3},null,{"$f":"IF(I5=\"B\",RTD(\"cqg.rtd\", ,\"ContractData\",H4, \"Low\",, \"B\"),TEXT(RTD(\"cqg.rtd\",,\"ContractData\",H4,\"Low\",,\"T\"),I5))","v":"14591.00"},{"$f":"IFERROR(RTD(\"cqg.rtd\", ,\"ContractData\",H4, \"PerCentNetLastTrade\",, \"T\")/100,\"\")","v":4.1117158309590023E-3},null,{"$f":"IF(L5=\"B\",RTD(\"cqg.rtd\", ,\"ContractData\",K4, \"Low\",, \"B\"),TEXT(RTD(\"cqg.rtd\",,\"ContractData\",K4,\"Low\",,\"T\"),L5))","v":"2664.2"},{"$f":"IFERROR(RTD(\"cqg.rtd\", ,\"ContractData\",K4, \"PerCentNetLastTrade\",, \"T\")/100,\"\")","v":2.0850398391540695E-3},null,{"$f":"IF(O5=\"B\",RTD(\"cqg.rtd\", ,\"ContractData\",N4, \"Low\",, \"B\"),TEXT(RTD(\"cqg.rtd\",,\"ContractData\",N4,\"Low\",,\"T\"),O5))","v":"2211.00"},{"$f":"IFERROR(RTD(\"cqg.rtd\", ,\"ContractData\",N4, \"PerCentNetLastTrade\",, \"T\")/100,\"\")","v":3.0054277127349394E-3},null,{"$f":"IF(R5=\"B\",RTD(\"cqg.rtd\", ,\"ContractData\",Q4, \"Low\",, \"B\"),TEXT(RTD(\"cqg.rtd\",,\"ContractData\",Q4,\"Low\",,\"T\"),R5))","v":"15092"},{"$f":"IFERROR(RTD(\"cqg.rtd\", ,\"ContractData\",Q4, \"PerCentNetLastTrade\",, \"T\")/100,\"\")","v":7.5351973031925444E-3},null,{"$f":"IF(U5=\"B\",RTD(\"cqg.rtd\", ,\"ContractData\",T4, \"Low\",, \"B\"),TEXT(RTD(\"cqg.rtd\",,\"ContractData\",T4,\"Low\",,\"T\"),U5))","v":"4026.00"},{"$f":"IFERROR(RTD(\"cqg.rtd\", ,\"ContractData\",T4, \"PerCentNetLastTrade\",, \"T\")/100,\"\")","v":8.0425637218510277E-3},null,{"$f":"IF(X5=\"B\",RTD(\"cqg.rtd\", ,\"ContractData\",W4, \"Low\",, \"B\"),TEXT(RTD(\"cqg.rtd\",,\"ContractData\",W4,\"Low\",,\"T\"),X5))","v":"7059.00"},{"$f":"IFERROR(RTD(\"cqg.rtd\", ,\"ContractData\",W4, \"PerCentNetLastTrade\",, \"T\")/100,\"\")","v":3.0977189524077726E-3},null,{"$f":"IF(AA5=\"B\",RTD(\"cqg.rtd\", ,\"ContractData\",Z4, \"Low\",, \"B\"),TEXT(RTD(\"cqg.rtd\",,\"ContractData\",Z4,\"Low\",,\"T\"),AA5))","v":"6508.50"},{"$f":"IFERROR(RTD(\"cqg.rtd\", ,\"ContractData\",Z4, \"PerCentNetLastTrade\",, \"T\")/100,\"\")","v":8.631884500802078E-3},null,{"$f":"IF(AD5=\"B\",RTD(\"cqg.rtd\", ,\"ContractData\",AC4, \"Low\",, \"B\"),TEXT(RTD(\"cqg.rtd\",,\"ContractData\",AC4,\"Low\",,\"T\"),AD5))","v":"28020"},{"$f":"IFERROR(RTD(\"cqg.rtd\", ,\"ContractData\",AC4, \"PerCentNetLastTrade\",, \"T\")/100,\"\")","v":-1.7733640716439082E-4},null,null,null,{"$f":"K4","v":"EMD?"},{"$f":"L8","v":2.0850398391540695E-3},6,null,null,{"$f":"AM7+$AN$4","v":-9.2279745685740246E-3},4]
[null,null,null,null,null,null,null,null,null,null,null,null,null,null,null,null,null,null,null,null,null,null,null,null,null,null,null,null,null,null,null,null,null,{"$f":"N4","v":"RTY?"},{"$f":"O8","v":3.0054277127349394E-3},6,null,null,{"$f":"AM8+$AN$4","v":-4.6139872842870132E-3},5]
[null,{"$f":"Symbols!B8","v":"GCE?"},{"$f":"AJ15","v":9},null,null,null,null,{"$f":"(RTD(\"cqg.rtd\", ,\"ContractData\",F11, \"Close\",, \"T\")-H11)/H11","v":-4.4658493870402801E-3},"Open",null,"High","Low",null,"Close",null,null,null,null,null,null,null,null,null,null,null,null,null,null,{"$f":"Symbols!B11","v":"FVA?"},{"$f":"AJ22","v":6},null,null,null,{"$f":"Q4","v":"DD?"},{"$f":"R8","v":7.5351973031925444E-3},7,null,null,{"$f":"AM9+$AN$4","v":0},6]
[null,{"$f":"LEFT(RTD(\"cqg.rtd\", ,\"ContractData\",B10, \"LongDescription\",, \"T\"),LEN(RTD(\"cqg.rtd\", ,\"ContractData\",B10, \"LongDescription\",, \"T\")))","v":"Gold (Globex), Dec 21"},{"$f":"IF(Symbols!B9=\"B\",\"B\",IF(Symbols!B9=0,0,IF(Symbols!B9=1,\"#.0\",IF(Symbols!B9=2,\"#.00\",IF(Symbols!B9=3,\"#.000\",IF(Symbols!B9=4,\"#.0000\",IF(Symbols!B9=5,\"#.00000\",IF(Symbols!B9=6,\"#.000000\",IF(Symbols!B9=7,\"#.0000000\")))))))))","v":"#.00"},null,{"$f":"B4","v":"YM?"},{"$f":"RTD(\"cqg.rtd\", ,\"ContractData\",E11, \"Symbol\",, \"T\")","v":"YMZ21"},null,{"$f":"RTD(\"cqg.rtd\", ,\"ContractData\",F11, \"Y_Settlement\",, \"T\")","v":34260},{"$f":"(RTD(\"cqg.rtd\", ,\"ContractData\",F11, \"Open\",, \"T\")-H11)/H11","v":-2.0431990659661413E-3},null,{"$f":"(RTD(\"cqg.rtd\", ,\"ContractData\",F11, \"High\",, \"T\")-H11)/H11","v":2.4226503210741388E-3},{"$f":"(RTD(\"cqg.rtd\", ,\"ContractData\",F11, \"Low\",, \"T\")-H11)/H11","v":-8.0560420315236424E-3},null,{"$f":"(RTD(\"cqg.rtd\", ,\"ContractData\",F11, \"Close\",, \"T\")-H11)/H11","v":-4.4658493870402801E-3},null,null,null,null,null,null,null,null,null,null,null,null,null,null,{"$f":"LEFT(RTD(\"cqg.rtd\", ,\"ContractData\",AC10, \"LongDescription\",, \"T\"),LEN(RTD(\"cqg.rtd\", ,\"ContractData\",AC10, \"LongDescription\",, \"T\")))","v":"5yr US Treasury Notes (Globex), Dec 21"},{"$f":"IF(Symbols!B12=\"B\",\"B\",IF(Symbols!B12=0,0,IF(Symbols!B12=1,\"#.0\",IF(Symbols!B12=2,\"#.00\",IF(Symbols!B12=3,\"#.000\",IF(Symbols!B12=4,\"#.0000\",IF(Symbols!B12=5,\"#.00000\",IF(Symbols!B12=6,\"#.000000\",IF(Symbols!B12=7,\"#.0000000\")))))))))","v":"B"},null,null,null,{"$f":"T4","v":"DSX?"},{"$f":"U8","v":8.0425637218510277E-3},7,null,null,{"$f":"AM10+$AM$4","v":6.3604868082082263E-3},7]
[null,{"$f":"IF(C11=\"B\",RTD(\"cqg.rtd\", ,\"ContractData\",B10, \"LastQuoteToday\",, \"B\"),TEXT(RTD(\"cqg.rtd\",,\"ContractData\",B10,\"Close\",,\"T\"),C11))","v":"1794.00"},null,null,{"$f":"E4","v":"EP?"},{"$f":"RTD(\"cqg.rtd\", ,\"ContractData\",E12, \"Symbol\",, \"T\")","v":"EPZ21"},null,{"$f":"RTD(\"cqg.rtd\", ,\"ContractData\",F12, \"Y_Settlement\",, \"T\")","v":4340.75},{"$f":"(RTD(\"cqg.rtd\", ,\"ContractData\",F12, \"Open\",, \"T\")-H12)/H12","v":-3.0524678914934057E-3},null,{"$f":"(RTD(\"cqg.rtd\", ,\"ContractData\",F12, \"High\",, \"T\")-H12)/H12","v":3.8011864309163163E-3},{"$f":"(RTD(\"cqg.rtd\", ,\"ContractData\",F12, \"Low\",, \"T\")-H12)/H12","v":-5.0682485745550884E-3},null,{"$f":"(RTD(\"cqg.rtd\", ,\"ContractData\",F12, \"Close\",, \"T\")-H12)/H12","v":-1.1518746760352473E-3},null,null,null,null,null,null,null,null,null,null,null,null,null,null,{"$f":"IF(AD11=\"B\",RTD(\"cqg.rtd\", ,\"ContractData\",AC10, \"LastQuoteToday\",, \"B\"),TEXT(RTD(\"cqg.rtd\",,\"ContractData\",AC10,\"Close\",,\"T\"),AD11))","v":"122-10'3/4"},null,null,null,null,{"$f":"W4","v":"QFA?"},{"$f":"X8","v":3.0977189524077726E-3},{"$f":"VLOOKUP(AI12,$AM$5:$AN$15,2)","v":6},null,null,{"$f":"AM11+$AM$4","v":1.2720973616416453E-2},8]
[null,{"$f":"IF(C11=\"B\",RTD(\"cqg.rtd\", ,\"ContractData\",B10, \"High\",, \"B\"),TEXT(RTD(\"cqg.rtd\",,\"ContractData\",B10,\"High\",,\"T\"),C11))","v":"1797.40"},{"$f":"IF(C11=\"B\",RTD(\"cqg.rtd\", ,\"ContractData\",B10,\"NetLastQuoteToday\",, \"B\"),TEXT(RTD(\"cqg.rtd\",,\"ContractData\",B10,\"NetLastQuoteToday\",,\"T\"),C11))","v":"34.70"},null,{"$f":"H4","v":"ENQ?"},{"$f":"RTD(\"cqg.rtd\", ,\"ContractData\",E13, \"Symbol\",, \"T\")","v":"ENQZ21"},null,{"$f":"RTD(\"cqg.rtd\", ,\"ContractData\",F13, \"Y_Settlement\",, \"T\")","v":14653.25},{"$f":"(RTD(\"cqg.rtd\", ,\"ContractData\",F13, \"Open\",, \"T\")-H13)/H13","v":-4.0434715848020062E-3},null,{"$f":"(RTD(\"cqg.rtd\", ,\"ContractData\",F13, \"High\",, \"T\")-H13)/H13","v":8.5646528927029834E-3},{"$f":"(RTD(\"cqg.rtd\", ,\"ContractData\",F13, \"Low\",, \"T\")-H13)/H13","v":-4.2482043232729937E-3},null,{"$f":"(RTD(\"cqg.rtd\", ,\"ContractData\",F13, \"Close\",, \"T\")-H13)/H13","v":4.0946547694197533E-3},null,null,null,null,null,null,null,null,null,null,null,null,null,null,{"$f":"IF(AD11=\"B\",RTD(\"cqg.rtd\", ,\"ContractData\",AC10, \"High\",, \"B\"),TEXT(RTD(\"cqg.rtd\",,\"ContractData\",AC10,\"High\",,\"T\"),AD11))","v":"122-13'3/4"},{"$f":"IF(AD11=\"B\",RTD(\"cqg.rtd\", ,\"ContractData\",AC10,\"NetLastQuoteToday\",, \"B\"),TEXT(RTD(\"cqg.rtd\",,\"ContractData\",AC10,\"NetLastQuoteToday\",,\"T\"),AD11))","v":"+0-00'1/4"},null,null,null,{"$f":"Z4","v":"PIL?"},{"$f":"AA8","v":8.631884500802078E-3},{"$f":"VLOOKUP(AI13,$AM$5:$AN$15,2)","v":7},null,null,{"$f":"AM12+$AM$4","v":1.9081460424624677E-2},9]
[null,{"$f":"IF(C11=\"B\",RTD(\"cqg.rtd\", ,\"ContractData\",B10, \"Low\",, \"B\"),TEXT(RTD(\"cqg.rtd\",,\"ContractData\",B10,\"Low\",,\"T\"),C11))","v":"1757.90"},{"$f":"IFERROR(RTD(\"cqg.rtd\", ,\"ContractData\",B10, \"PerCentNetLastTrade\",, \"T\")/100,\"\")","v":1.9723753765702269E-2},null,{"$f":"K4","v":"EMD?"},{"$f":"RTD(\"cqg.rtd\", ,\"ContractData\",E14, \"Symbol\",, \"T\")","v":"EMDZ21"},null,{"$f":"RTD(\"cqg.rtd\", ,\"ContractData\",F14, \"Y_Settlement\",, \"T\")","v":2685.8},{"$f":"(RTD(\"cqg.rtd\", ,\"ContractData\",F14, \"Open\",, \"T\")-H14)/H14","v":-2.0478069848834609E-3},null,{"$f":"(RTD(\"cqg.rtd\", ,\"ContractData\",F14, \"High\",, \"T\")-H14)/H14","v":3.8349839898725617E-3},{"$f":"(RTD(\"cqg.rtd\", ,\"ContractData\",F14, \"Low\",, \"T\")-H14)/H14","v":-8.0422965224513764E-3},null,{"$f":"(RTD(\"cqg.rtd\", ,\"ContractData\",F14, \"Close\",, \"T\")-H14)/H14","v":2.0478069848834609E-3},null,null,null,null,null,null,null,null,null,null,null,null,null,null,{"$f":"IF(AD11=\"B\",RTD(\"cqg.rtd\", ,\"ContractData\",AC10, \"Low\",, \"B\"),TEXT(RTD(\"cqg.rtd\",,\"ContractData\",AC10,\"Low\",,\"T\"),AD11))","v":"122-00'+  "},{"$f":"IFERROR(RTD(\"cqg.rtd\", ,\"ContractData\",AC10, \"PerCentNetLastTrade\",, \"T\")/100,\"\")","v":6.3865116873163883E-5},null,null,null,{"$f":"AC4","v":"NKD?"},{"$f":"AD8","v":-1.7733640716439082E-4},{"$f":"VLOOKUP(AI14,$AM$5:$AN$15,2)","v":5},null,null,{"$f":"AM13+$AM$4","v":2.5441947232832905E-2},10]
[null,null,null,null,{"$f":"N4","v":"RTY?"},{"$f":"RTD(\"cqg.rtd\", ,\"ContractData\",E15, \"Symbol\",, \"T\")","v":"RTYZ21"},null,{"$f":"RTD(\"cqg.rtd\", ,\"ContractData\",F15, \"Y_Settlement\",, \"T\")","v":2229.3000000000002},{"$f":"(RTD(\"cqg.rtd\", ,\"ContractData\",F15, \"Open\",, \"T\")-H15)/H15","v":-2.3325707621227616E-3},null,{"$f":"(RTD(\"cqg.rtd\", ,\"ContractData\",F15, \"High\",, \"T\")-H15)/H15","v":5.5622841250617186E-3},{"$f":"(RTD(\"cqg.rtd\", ,\"ContractData\",F15, \"Low\",, \"T\")-H15)/H15","v":-8.2088547974701383E-3},null,{"$f":"(RTD(\"cqg.rtd\", ,\"ContractData\",F15, \"Close\",, \"T\")-H15)/H15","v":2.9605705826940784E-3},null,null,null,null,null,null,null,null,null,null,null,null,null,null,null,null,null,null,null,{"$f":"B10","v":"GCE?"},{"$f":"C14","v":1.9723753765702269E-2},{"$f":"VLOOKUP(AI15,$AM$5:$AN$15,2)","v":9},null,null,{"$f":"AM14+$AM$4","v":3.1802434041041133E-2},11]
[null,{"$f":"Symbols!C8","v":"SIE?"},{"$f":"AJ16","v":11},null,{"$f":"Q4","v":"DD?"},{"$f":"RTD(\"cqg.rtd\", ,\"ContractData\",E16, \"Symbol\",, \"T\")","v":"DDZ21"},null,{"$f":"RTD(\"cqg.rtd\", ,\"ContractData\",F16, \"Y_Settlement\",, \"T\")","v":15129},{"$f":"(RTD(\"cqg.rtd\", ,\"ContractData\",F16, \"Open\",, \"T\")-H16)/H16","v":-1.98294665873488E-4},null,{"$f":"(RTD(\"cqg.rtd\", ,\"ContractData\",F16, \"High\",, \"T\")-H16)/H16","v":1.0443519069337034E-2},{"$f":"(RTD(\"cqg.rtd\", ,\"ContractData\",F16, \"Low\",, \"T\")-H16)/H16","v":-2.4456342124396856E-3},null,{"$f":"(RTD(\"cqg.rtd\", ,\"ContractData\",F16, \"Close\",, \"T\")-H16)/H16","v":7.5351973031925444E-3},null,null,null,null,null,null,null,null,null,null,null,null,null,null,{"$f":"Symbols!C11","v":"TYA?"},{"$f":"AJ23","v":6},null,null,null,{"$f":"B16","v":"SIE?"},{"$f":"C20","v":3.1802434041041133E-2},11]
[null,{"$f":"LEFT(RTD(\"cqg.rtd\", ,\"ContractData\",B16, \"LongDescription\",, \"T\"),LEN(RTD(\"cqg.rtd\", ,\"ContractData\",B16, \"LongDescription\",, \"T\")))","v":"Silver (Globex), Dec 21"},{"$f":"IF(Symbols!C9=\"B\",\"B\",IF(Symbols!C9=0,0,IF(Symbols!C9=1,\"#.0\",IF(Symbols!C9=2,\"#.00\",IF(Symbols!C9=3,\"#.000\",IF(Symbols!C9=4,\"#.0000\",IF(Symbols!C9=5,\"#.00000\",IF(Symbols!C9=6,\"#.000000\",IF(Symbols!C9=7,\"#.0000000\")))))))))","v":"#.000"},null,{"$f":"T4","v":"DSX?"},{"$f":"RTD(\"cqg.rtd\", ,\"ContractData\",E17, \"Symbol\",, \"T\")","v":"DSXZ21"},null,{"$f":"RTD(\"cqg.rtd\", ,\"ContractData\",F17, \"Y_Settlement\",, \"T\")","v":4041},{"$f":"(RTD(\"cqg.rtd\", ,\"ContractData\",F17, \"Open\",, \"T\")-H17)/H17","v":-7.4239049740163323E-4},null,{"$f":"(RTD(\"cqg.rtd\", ,\"ContractData\",F17, \"High\",, \"T\")-H17)/H17","v":9.5273447166542933E-3},{"$f":"(RTD(\"cqg.rtd\", ,\"ContractData\",F17, \"Low\",, \"T\")-H17)/H17","v":-3.7119524870081661E-3},null,{"$f":"(RTD(\"cqg.rtd\", ,\"ContractData\",F17, \"Close\",, \"T\")-H17)/H17","v":8.0425637218510277E-3},null,null,null,null,null,null,null,null,null,null,null,null,null,null,{"$f":"LEFT(RTD(\"cqg.rtd\", ,\"ContractData\",AC16, \"LongDescription\",, \"T\"),LEN(RTD(\"cqg.rtd\", ,\"ContractData\",AC16, \"LongDescription\",, \"T\")))","v":"10yr US Treasury Notes (Globex), Dec 21"},{"$f":"IF(Symbols!C12=\"B\",\"B\",IF(Symbols!C12=0,0,IF(Symbols!C12=1,\"#.0\",IF(Symbols!C12=2,\"#.00\",IF(Symbols!C12=3,\"#.000\",IF(Symbols!C12=4,\"#.0000\",IF(Symbols!C12=5,\"#.00000\",IF(Symbols!C12=6,\"#.000000\",IF(Symbols!C12=7,\"#.0000000\")))))))))","v":"B"},null,null,null,{"$f":"B22","v":"PLE?"},{"$f":"C26","v":1.492537313432836E-2},8]
[null,{"$f":"IF(C17=\"B\",RTD(\"cqg.rtd\", ,\"ContractData\",B16, \"LastQuoteToday\",, \"B\"),TEXT(RTD(\"cqg.rtd\",,\"ContractData\",B16,\"Close\",,\"T\"),C17))","v":"23.230"},null,null,{"$f":"W4","v":"QFA?"},{"$f":"RTD(\"cqg.rtd\", ,\"ContractData\",E18, \"Symbol\",, \"T\")","v":"QFAZ21"},null,{"$f":"RTD(\"cqg.rtd\", ,\"ContractData\",F18, \"Y_Settlement\",, \"T\")","v":7102},{"$f":"(RTD(\"cqg.rtd\", ,\"ContractData\",F18, \"Open\",, \"T\")-H18)/H18","v":-1.6896648831315122E-3},null,{"$f":"(RTD(\"cqg.rtd\", ,\"ContractData\",F18, \"High\",, \"T\")-H18)/H18","v":3.5905378766544634E-3},{"$f":"(RTD(\"cqg.rtd\", ,\"ContractData\",F18, \"Low\",, \"T\")-H18)/H18","v":-6.0546324978879192E-3},null,{"$f":"(RTD(\"cqg.rtd\", ,\"ContractData\",F18, \"Close\",, \"T\")-H18)/H18","v":3.0977189524077726E-3},null,null,null,null,null,null,null,null,null,null,null,null,null,null,{"$f":"IF(AD17=\"B\",RTD(\"cqg.rtd\", ,\"ContractData\",AC16, \"LastQuoteToday\",, \"B\"),TEXT(RTD(\"cqg.rtd\",,\"ContractData\",AC16,\"Close\",,\"T\"),AD17))","v":"131-09'+"},null,null,null,null,{"$f":"B28","v":"CLE?"},{"$f":"C32","v":-1.6121031746031747E-3},5]
[null,{"$f":"IF(C17=\"B\",RTD(\"cqg.rtd\", ,\"ContractData\",B16, \"High\",, \"B\"),TEXT(RTD(\"cqg.rtd\",,\"ContractData\",B16,\"High\",,\"T\"),C17))","v":"23.285"},{"$f":"IF(C17=\"B\",RTD(\"cqg.rtd\", ,\"ContractData\",B16,\"NetLastQuoteToday\",, \"B\"),TEXT(RTD(\"cqg.rtd\",,\"ContractData\",B16,\"NetLastQuoteToday\",,\"T\"),C17))","v":".716"},null,{"$f":"Z4","v":"PIL?"},{"$f":"RTD(\"cqg.rtd\", ,\"ContractData\",E19, \"Symbol\",, \"T\")","v":"PILV21"},null,{"$f":"RTD(\"cqg.rtd\", ,\"ContractData\",F19, \"Y_Settlement\",, \"T\")","v":6545.5},{"$f":"(RTD(\"cqg.rtd\", ,\"ContractData\",F19, \"Open\",, \"T\")-H19)/H19","v":7.6388358414177678E-5},null,{"$f":"(RTD(\"cqg.rtd\", ,\"ContractData\",F19, \"High\",, \"T\")-H19)/H19","v":8.8610495760446106E-3},{"$f":"(RTD(\"cqg.rtd\", ,\"ContractData\",F19, \"Low\",, \"T\")-H19)/H19","v":-5.652738522649148E-3},null,{"$f":"(RTD(\"cqg.rtd\", ,\"ContractData\",F19, \"Close\",, \"T\")-H19)/H19","v":8.631884500802078E-3},null,null,null,null,null,null,null,null,null,null,null,null,null,null,{"$f":"IF(AD17=\"B\",RTD(\"cqg.rtd\", ,\"ContractData\",AC16, \"High\",, \"B\"),TEXT(RTD(\"cqg.rtd\",,\"ContractData\",AC16,\"High\",,\"T\"),AD17))","v":"131-15'+"},{"$f":"IF(AD17=\"B\",RTD(\"cqg.rtd\", ,\"ContractData\",AC16,\"NetLastQuoteToday\",, \"B\"),TEXT(RTD(\"cqg.rtd\",,\"ContractData\",AC16,\"NetLastQuoteToday\",,\"T\"),AD17))","v":"+0-05' "},null,null,null,{"$f":"B34","v":"HOE?"},{"$f":"C38","v":1.4342629482071714E-3},{"$f":"VLOOKUP(AI19,$AM$5:$AN$15,2)","v":6}]
[null,{"$f":"IF(C17=\"B\",RTD(\"cqg.rtd\", ,\"ContractData\",B16, \"Low\",, \"B\"),TEXT(RTD(\"cqg.rtd\",,\"ContractData\",B16,\"Low\",,\"T\"),C17))","v":"22.480"},{"$f":"IFERROR(RTD(\"cqg.rtd\", ,\"ContractData\",B16, \"PerCentNetLastTrade\",, \"T\")/100,\"\")","v":3.1802434041041133E-2},null,{"$f":"AC4","v":"NKD?"},{"$f":"RTD(\"cqg.rtd\", ,\"ContractData\",E20, \"Symbol\",, \"T\")","v":"NKDZ21"},null,{"$f":"RTD(\"cqg.rtd\", ,\"ContractData\",F20, \"Y_Settlement\",, \"T\")","v":28195},{"$f":"(RTD(\"cqg.rtd\", ,\"ContractData\",F20, \"Open\",, \"T\")-H20)/H20","v":-2.12803688597269E-3},null,{"$f":"(RTD(\"cqg.rtd\", ,\"ContractData\",F20, \"High\",, \"T\")-H20)/H20","v":7.2707926937400245E-3},{"$f":"(RTD(\"cqg.rtd\", ,\"ContractData\",F20, \"Low\",, \"T\")-H20)/H20","v":-6.2067742507536799E-3},null,{"$f":"(RTD(\"cqg.rtd\", ,\"ContractData\",F20, \"Close\",, \"T\")-H20)/H20","v":-1.7733640716439085E-4},null,null,null,null,null,null,null,null,null,null,null,null,null,null,{"$f":"IF(AD17=\"B\",RTD(\"cqg.rtd\", ,\"ContractData\",AC16, \"Low\",, \"B\"),TEXT(RTD(\"cqg.rtd\",,\"ContractData\",AC16,\"Low\",,\"T\"),AD17))","v":"130-25'+"},{"$f":"IFERROR(RTD(\"cqg.rtd\", ,\"ContractData\",AC16, \"PerCentNetLastTrade\",, \"T\")/100,\"\")","v":1.1914690813773381E-3},null,null,null,{"$f":"B40","v":"RBE?"},{"$f":"C44","v":4.7001552729866967E-3},6]
[null,null,null,null,null,null,null,null,null,null,null,null,null,null,null,null,null,null,null,null,null,null,null,null,null,null,null,null,null,null,null,null,null,{"$f":"B46","v":"NGE?"},{"$f":"C50","v":-2.3069936421435056E-2},1]
[null,{"$f":"Symbols!D8","v":"PLE?"},{"$f":"AJ17","v":8},null,{"$f":"B52","v":"DXE?"},{"$f":"RTD(\"cqg.rtd\", ,\"ContractData\",E22, \"Symbol\",, \"T\")","v":"DXEZ21"},null,{"$f":"RTD(\"cqg.rtd\", ,\"ContractData\",F22, \"Y_Close\",, \"T\")","v":94.525000000000006},{"$f":"(RTD(\"cqg.rtd\", ,\"ContractData\",F22, \"Open\",, \"T\")-H22)/H22","v":0},null,{"$f":"(RTD(\"cqg.rtd\", ,\"ContractData\",F22, \"High\",, \"T\")-H22)/H22","v":2.6448029621784153E-4},{"$f":"(RTD(\"cqg.rtd\", ,\"ContractData\",F22, \"Low\",, \"T\")-H22)/H22","v":-4.0729965617562029E-3},null,{"$f":"(RTD(\"cqg.rtd\", ,\"ContractData\",F22, \"Close\",, \"T\")-H22)/H22","v":-3.7556202062946731E-3},null,null,null,null,null,null,null,null,null,null,null,null,null,null,{"$f":"Symbols!D11","v":"USA?"},{"$f":"AJ24","v":6},null,null,null,{"$f":"AC10","v":"FVA?"},{"$f":"AD14","v":6.3865116873163883E-5},6]
[null,{"$f":"LEFT(RTD(\"cqg.rtd\", ,\"ContractData\",B22, \"LongDescription\",, \"T\"),LEN(RTD(\"cqg.rtd\", ,\"ContractData\",B22, \"LongDescription\",, \"T\")))","v":"Platinum (Globex), Jan 22"},{"$f":"IF(Symbols!D9=\"B\",\"B\",IF(Symbols!D9=0,0,IF(Symbols!D9=1,\"#.0\",IF(Symbols!D9=2,\"#.00\",IF(Symbols!D9=3,\"#.000\",IF(Symbols!D9=4,\"#.0000\",IF(Symbols!D9=5,\"#.00000\",IF(Symbols!D9=6,\"#.000000\",IF(Symbols!D9=7,\"#.0000000\")))))))))","v":"#.00"},null,{"$f":"E52","v":"EU6?"},{"$f":"RTD(\"cqg.rtd\", ,\"ContractData\",E23, \"Symbol\",, \"T\")","v":"EU6Z21"},null,{"$f":"RTD(\"cqg.rtd\", ,\"ContractData\",F23, \"Y_Close\",, \"T\")","v":1.15435},{"$f":"(RTD(\"cqg.rtd\", ,\"ContractData\",F23, \"Open\",, \"T\")-H23)/H23","v":0},null,{"$f":"(RTD(\"cqg.rtd\", ,\"ContractData\",F23, \"High\",, \"T\")-H23)/H23","v":4.2014986789102272E-3},{"$f":"(RTD(\"cqg.rtd\", ,\"ContractData\",F23, \"Low\",, \"T\")-H23)/H23","v":-8.6628838740407149E-5},null,{"$f":"(RTD(\"cqg.rtd\", ,\"ContractData\",F23, \"Close\",, \"T\")-H23)/H23","v":3.7683544852081916E-3},null,null,null,null,null,null,null,null,null,null,null,null,null,null,{"$f":"LEFT(RTD(\"cqg.rtd\", ,\"ContractData\",AC22, \"LongDescription\",, \"T\"),LEN(RTD(\"cqg.rtd\", ,\"ContractData\",AC22, \"LongDescription\",, \"T\")))","v":"30yr US Treasury Bonds (Globex), Dec 21"},{"$f":"IF(Symbols!D12=\"B\",\"B\",IF(Symbols!D12=0,0,IF(Symbols!D12=1,\"#.0\",IF(Symbols!D12=2,\"#.00\",IF(Symbols!D12=3,\"#.000\",IF(Symbols!D12=4,\"#.0000\",IF(Symbols!D12=5,\"#.00000\",IF(Symbols!D12=6,\"#.000000\",IF(Symbols!D12=7,\"#.0000000\")))))))))","v":"B"},null,null,null,{"$f":"AC16","v":"TYA?"},{"$f":"AD20","v":1.1914690813773381E-3},6]
[null,{"$f":"IF(C23=\"B\",RTD(\"cqg.rtd\", ,\"ContractData\",B22, \"LastQuoteToday\",, \"B\"),TEXT(RTD(\"cqg.rtd\",,\"ContractData\",B22,\"Close\",,\"T\"),C23))","v":"1026.40"},null,null,{"$f":"H52","v":"JY6?"},{"$f":"RTD(\"cqg.rtd\", ,\"ContractData\",E24, \"Symbol\",, \"T\")","v":"JY6Z21"},null,{"$f":"RTD(\"cqg.rtd\", ,\"ContractData\",F24, \"Y_Close\",, \"T\")","v":8.8054999999999991E-3},{"$f":"(RTD(\"cqg.rtd\", ,\"ContractData\",F24, \"Open\",, \"T\")-H24)/H24","v":-5.6782692635144551E-5},null,{"$f":"(RTD(\"cqg.rtd\", ,\"ContractData\",F24, \"High\",, \"T\")-H24)/H24","v":3.4069615581171445E-3},{"$f":"(RTD(\"cqg.rtd\", ,\"ContractData\",F24, \"Low\",, \"T\")-H24)/H24","v":-1.7034807790584738E-3},null,{"$f":"(RTD(\"cqg.rtd\", ,\"ContractData\",F24, \"Close\",, \"T\")-H24)/H24","v":1.9873942422349846E-3},null,null,null,null,null,null,null,null,null,null,null,null,null,null,{"$f":"IF(AD23=\"B\",RTD(\"cqg.rtd\", ,\"ContractData\",AC22, \"LastQuoteToday\",, \"B\"),TEXT(RTD(\"cqg.rtd\",,\"ContractData\",AC22,\"Close\",,\"T\"),AD23))","v":"159-17' "},null,null,null,null,{"$f":"AC22","v":"USA?"},{"$f":"AD26","v":6.1095782420181322E-3},6]
[null,{"$f":"IF(C23=\"B\",RTD(\"cqg.rtd\", ,\"ContractData\",B22, \"High\",, \"B\"),TEXT(RTD(\"cqg.rtd\",,\"ContractData\",B22,\"High\",,\"T\"),C23))","v":"1033.80"},{"$f":"IF(C23=\"B\",RTD(\"cqg.rtd\", ,\"ContractData\",B22,\"NetLastQuoteToday\",, \"B\"),TEXT(RTD(\"cqg.rtd\",,\"ContractData\",B22,\"NetLastQuoteToday\",,\"T\"),C23))","v":"14.70"},null,{"$f":"K52","v":"BP6?"},{"$f":"RTD(\"cqg.rtd\", ,\"ContractData\",E25, \"Symbol\",, \"T\")","v":"BP6Z21"},null,{"$f":"RTD(\"cqg.rtd\", ,\"ContractData\",F25, \"Y_Close\",, \"T\")","v":1.3592},{"$f":"(RTD(\"cqg.rtd\", ,\"ContractData\",F25, \"Open\",, \"T\")-H25)/H25","v":-1.4714537963506327E-4},null,{"$f":"(RTD(\"cqg.rtd\", ,\"ContractData\",F25, \"High\",, \"T\")-H25)/H25","v":4.120070629782261E-3},{"$f":"(RTD(\"cqg.rtd\", ,\"ContractData\",F25, \"Low\",, \"T\")-H25)/H25","v":-1.1771630370805062E-3},null,{"$f":"(RTD(\"cqg.rtd\", ,\"ContractData\",F25, \"Close\",, \"T\")-H25)/H25","v":3.8257798705121347E-3},null,null,null,null,null,null,null,null,null,null,null,null,null,null,{"$f":"IF(AD23=\"B\",RTD(\"cqg.rtd\", ,\"ContractData\",AC22, \"High\",, \"B\"),TEXT(RTD(\"cqg.rtd\",,\"ContractData\",AC22,\"High\",,\"T\"),AD23))","v":"159-30' "},{"$f":"IF(AD23=\"B\",RTD(\"cqg.rtd\", ,\"ContractData\",AC22,\"NetLastQuoteToday\",, \"B\"),TEXT(RTD(\"cqg.rtd\",,\"ContractData\",AC22,\"NetLastQuoteToday\",,\"T\"),AD23))","v":"+0-31' "},null,null,null,{"$f":"AC28","v":"DL?"},{"$f":"AD32","v":5.2071710183738745E-4},6]
[null,{"$f":"IF(C23=\"B\",RTD(\"cqg.rtd\", ,\"ContractData\",B22, \"Low\",, \"B\"),TEXT(RTD(\"cqg.rtd\",,\"ContractData\",B22,\"Low\",,\"T\"),C23))","v":"1003.00"},{"$f":"IFERROR(RTD(\"cqg.rtd\", ,\"ContractData\",B22, \"PerCentNetLastTrade\",, \"T\")/100,\"\")","v":1.492537313432836E-2},null,{"$f":"N52","v":"CA6?"},{"$f":"RTD(\"cqg.rtd\", ,\"ContractData\",E26, \"Symbol\",, \"T\")","v":"CA6Z21"},null,{"$f":"RTD(\"cqg.rtd\", ,\"ContractData\",F26, \"Y_Close\",, \"T\")","v":0.80205000000000004},{"$f":"(RTD(\"cqg.rtd\", ,\"ContractData\",F26, \"Open\",, \"T\")-H26)/H26","v":2.493610124056829E-4},null,{"$f":"(RTD(\"cqg.rtd\", ,\"ContractData\",F26, \"High\",, \"T\")-H26)/H26","v":2.6806308833613678E-3},{"$f":"(RTD(\"cqg.rtd\", ,\"ContractData\",F26, \"Low\",, \"T\")-H26)/H26","v":-9.3510379652144923E-4},null,{"$f":"(RTD(\"cqg.rtd\", ,\"ContractData\",F26, \"Close\",, \"T\")-H26)/H26","v":2.3065893647528438E-3},null,null,null,null,null,null,null,null,null,null,null,null,null,null,{"$f":"IF(AD23=\"B\",RTD(\"cqg.rtd\", ,\"ContractData\",AC22, \"Low\",, \"B\"),TEXT(RTD(\"cqg.rtd\",,\"ContractData\",AC22,\"Low\",,\"T\"),AD23))","v":"158-14' "},{"$f":"IFERROR(RTD(\"cqg.rtd\", ,\"ContractData\",AC22, \"PerCentNetLastTrade\",, \"T\")/100,\"\")","v":6.1095782420181322E-3},null,null,null,{"$f":"AC34","v":"DB?"},{"$f":"AD38","v":3.1470815272252239E-3},6]
[null,null,null,null,{"$f":"Q52","v":"SF6?"},{"$f":"RTD(\"cqg.rtd\", ,\"ContractData\",E27, \"Symbol\",, \"T\")","v":"SF6Z21"},null,{"$f":"RTD(\"cqg.rtd\", ,\"ContractData\",F27, \"Y_Close\",, \"T\")","v":1.0760000000000001},{"$f":"(RTD(\"cqg.rtd\", ,\"ContractData\",F27, \"Open\",, \"T\")-H27)/H27","v":2.7881040892190236E-4},null,{"$f":"(RTD(\"cqg.rtd\", ,\"ContractData\",F27, \"High\",, \"T\")-H27)/H27","v":5.4832713754646989E-3},{"$f":"(RTD(\"cqg.rtd\", ,\"ContractData\",F27, \"Low\",, \"T\")-H27)/H27","v":-9.2936802973967448E-5},null,{"$f":"(RTD(\"cqg.rtd\", ,\"ContractData\",F27, \"Close\",, \"T\")-H27)/H27","v":5.2044609665427965E-3},null,null,null,null,null,null,null,null,null,null,null,null,null,null,null,null,null,null,null,{"$f":"AC40","v":"FGBX?"},{"$f":"AD44","v":1.5333734215273603E-2},8]
[null,{"$f":"Symbols!E8","v":"CLE?"},{"$f":"AJ18","v":5},null,{"$f":"T52","v":"DA6?"},{"$f":"RTD(\"cqg.rtd\", ,\"ContractData\",E28, \"Symbol\",, \"T\")","v":"DA6Z21"},null,{"$f":"RTD(\"cqg.rtd\", ,\"ContractData\",F28, \"Y_Close\",, \"T\")","v":0.73525000000000007},{"$f":"(RTD(\"cqg.rtd\", ,\"ContractData\",F28, \"Open\",, \"T\")-H28)/H28","v":2.0401224073442157E-4},null,{"$f":"(RTD(\"cqg.rtd\", ,\"ContractData\",F28, \"High\",, \"T\")-H28)/H28","v":3.5362121727302762E-3},{"$f":"(RTD(\"cqg.rtd\", ,\"ContractData\",F28, \"Low\",, \"T\")-H28)/H28","v":-3.7402244134648486E-3},null,{"$f":"(RTD(\"cqg.rtd\", ,\"ContractData\",F28, \"Close\",, \"T\")-H28)/H28","v":2.9921795307718186E-3},null,null,null,null,null,null,null,null,null,null,null,null,null,null,{"$f":"Symbols!E11","v":"DL?"},{"$f":"AJ25","v":6},null,null,null,{"$f":"AC46","v":"QGA?"},{"$f":"AD50","v":4.9907429767366979E-3},6]
[null,{"$f":"LEFT(RTD(\"cqg.rtd\", ,\"ContractData\",B28, \"LongDescription\",, \"T\"),LEN(RTD(\"cqg.rtd\", ,\"ContractData\",B28, \"LongDescription\",, \"T\")))","v":"Crude Light (Globex), Nov 21"},{"$f":"IF(Symbols!E9=\"B\",\"B\",IF(Symbols!E9=0,0,IF(Symbols!E9=1,\"#.0\",IF(Symbols!E9=2,\"#.00\",IF(Symbols!E9=3,\"#.000\",IF(Symbols!E9=4,\"#.0000\",IF(Symbols!E9=5,\"#.00000\",IF(Symbols!E9=6,\"#.000000\",IF(Symbols!E9=7,\"#.0000000\")))))))))","v":"#.00"},{"$f":"IF(Symbols!F9=\"B\",\"B\",IF(Symbols!F9=0,0,IF(Symbols!F9=1,\"#.0\",IF(Symbols!F9=2,\"#.00\",IF(Symbols!F9=3,\"#.000\",IF(Symbols!F9=4,\"#.0000\",IF(Symbols!F9=5,\"#.00000\",IF(Symbols!F9=6,\"#.000000\",IF(Symbols!F9=7,\"#.0000000\")))))))))","v":"#.0000"},{"$f":"W52","v":"NE6?"},{"$f":"RTD(\"cqg.rtd\", ,\"ContractData\",E29, \"Symbol\",, \"T\")","v":"NE6Z21"},null,{"$f":"RTD(\"cqg.rtd\", ,\"ContractData\",F29, \"Y_Close\",, \"T\")","v":0.6926000000000001},{"$f":"(RTD(\"cqg.rtd\", ,\"ContractData\",F29, \"Open\",, \"T\")-H29)/H29","v":2.8876696505916537E-4},null,{"$f":"(RTD(\"cqg.rtd\", ,\"ContractData\",F29, \"High\",, \"T\")-H29)/H29","v":4.2593127346230103E-3},{"$f":"(RTD(\"cqg.rtd\", ,\"ContractData\",F29, \"Low\",, \"T\")-H29)/H29","v":-2.9598613918567656E-3},null,{"$f":"(RTD(\"cqg.rtd\", ,\"ContractData\",F29, \"Close\",, \"T\")-H29)/H29","v":3.6817788045046792E-3},null,null,null,null,null,null,null,null,null,null,null,null,null,null,{"$f":"LEFT(RTD(\"cqg.rtd\", ,\"ContractData\",AC28, \"LongDescription\",, \"T\"),LEN(RTD(\"cqg.rtd\", ,\"ContractData\",AC28, \"LongDescription\",, \"T\")))","v":"Euro BOBL (5yr), Dec 21"},{"$f":"IF(Symbols!E12=\"B\",\"B\",IF(Symbols!E12=0,0,IF(Symbols!E12=1,\"#.0\",IF(Symbols!E12=2,\"#.00\",IF(Symbols!E12=3,\"#.000\",IF(Symbols!E12=4,\"#.0000\",IF(Symbols!E12=5,\"#.00000\",IF(Symbols!E12=6,\"#.000000\",IF(Symbols!E12=7,\"#.0000000\")))))))))","v":"#.00"},null,null,null,{"$f":"AC52","v":"EB?"},{"$f":"AD56","v":1.7665763749852786E-4},6]
[null,{"$f":"IF(C29=\"B\",RTD(\"cqg.rtd\", ,\"ContractData\",B28, \"LastQuoteToday\",, \"B\"),TEXT(RTD(\"cqg.rtd\",,\"ContractData\",B28,\"Close\",,\"T\"),C29))","v":"80.51"},null,null,{"$f":"Z52","v":"MX6?"},{"$f":"RTD(\"cqg.rtd\", ,\"ContractData\",E30, \"Symbol\",, \"T\")","v":"MX6Z21"},null,{"$f":"RTD(\"cqg.rtd\", ,\"ContractData\",F30, \"Y_Close\",, \"T\")","v":4.7649999999999998E-2},{"$f":"(RTD(\"cqg.rtd\", ,\"ContractData\",F30, \"Open\",, \"T\")-H30)/H30","v":-4.1972717733471533E-4},null,{"$f":"(RTD(\"cqg.rtd\", ,\"ContractData\",F30, \"High\",, \"T\")-H30)/H30","v":5.2465897166841602E-3},{"$f":"(RTD(\"cqg.rtd\", ,\"ContractData\",F30, \"Low\",, \"T\")-H30)/H30","v":-1.2591815320041461E-3},null,{"$f":"(RTD(\"cqg.rtd\", ,\"ContractData\",F30, \"Close\",, \"T\")-H30)/H30","v":3.9874081846800139E-3},null,null,null,null,null,null,null,null,null,null,null,null,null,null,{"$f":"IF(AD29=\"B\",RTD(\"cqg.rtd\", ,\"ContractData\",AC28, \"LastQuoteToday\",, \"B\"),TEXT(RTD(\"cqg.rtd\",,\"ContractData\",AC28,\"Close\",,\"T\"),AD29))","v":"134.50"},null,null,null,null,{"$f":"B52","v":"DXE?"},{"$f":"C56","v":-3.6923793099800039E-3},5]
[null,{"$f":"IF(C29=\"B\",RTD(\"cqg.rtd\", ,\"ContractData\",B28, \"High\",, \"B\"),TEXT(RTD(\"cqg.rtd\",,\"ContractData\",B28,\"High\",,\"T\"),C29))","v":"80.79"},{"$f":"IF(C29=\"B\",RTD(\"cqg.rtd\", ,\"ContractData\",B28,\"NetLastQuoteToday\",, \"B\"),TEXT(RTD(\"cqg.rtd\",,\"ContractData\",B28,\"NetLastQuoteToday\",,\"T\"),C29))","v":"-.13"},null,{"$f":"AC52","v":"EB?"},{"$f":"RTD(\"cqg.rtd\", ,\"ContractData\",E31, \"Symbol\",, \"T\")","v":"EBZ21"},null,{"$f":"RTD(\"cqg.rtd\", ,\"ContractData\",F31, \"Y_Close\",, \"T\")","v":0.84935000000000005},{"$f":"(RTD(\"cqg.rtd\", ,\"ContractData\",F31, \"Open\",, \"T\")-H31)/H31","v":7.6529110496266484E-4},null,{"$f":"(RTD(\"cqg.rtd\", ,\"ContractData\",F31, \"High\",, \"T\")-H31)/H31","v":1.3539765703184604E-3},{"$f":"(RTD(\"cqg.rtd\", ,\"ContractData\",F31, \"Low\",, \"T\")-H31)/H31","v":-1.2362394772473012E-3},null,{"$f":"(RTD(\"cqg.rtd\", ,\"ContractData\",F31, \"Close\",, \"T\")-H31)/H31","v":-1.177370930711591E-4},null,null,null,null,null,null,null,null,null,null,null,null,null,null,{"$f":"IF(AD29=\"B\",RTD(\"cqg.rtd\", ,\"ContractData\",AC28, \"High\",, \"B\"),TEXT(RTD(\"cqg.rtd\",,\"ContractData\",AC28,\"High\",,\"T\"),AD29))","v":"134.55"},{"$f":"IF(AD29=\"B\",RTD(\"cqg.rtd\", ,\"ContractData\",AC28,\"NetLastQuoteToday\",, \"B\"),TEXT(RTD(\"cqg.rtd\",,\"ContractData\",AC28,\"NetLastQuoteToday\",,\"T\"),AD29))","v":".07"},null,null,null,{"$f":"E52","v":"EU6?"},{"$f":"F56","v":3.7683544852081256E-3},6]
[null,{"$f":"IF(C29=\"B\",RTD(\"cqg.rtd\", ,\"ContractData\",B28, \"Low\",, \"B\"),TEXT(RTD(\"cqg.rtd\",,\"ContractData\",B28,\"Low\",,\"T\"),C29))","v":"79.42"},{"$f":"IFERROR(RTD(\"cqg.rtd\", ,\"ContractData\",B28, \"PerCentNetLastTrade\",, \"T\")/100,\"\")","v":-1.6121031746031747E-3},null,null,null,null,null,null,null,null,null,null,null,null,null,null,null,null,null,null,null,null,null,null,null,null,null,{"$f":"IF(AD29=\"B\",RTD(\"cqg.rtd\", ,\"ContractData\",AC28, \"Low\",, \"B\"),TEXT(RTD(\"cqg.rtd\",,\"ContractData\",AC28,\"Low\",,\"T\"),AD29))","v":"134.32"},{"$f":"IFERROR(RTD(\"cqg.rtd\", ,\"ContractData\",AC28, \"PerCentNetLastTrade\",, \"T\")/100,\"\")","v":5.2071710183738745E-4},null,null,null,{"$f":"H52","v":"JY6?"},{"$f":"I56","v":2.442765437709481E-3},6]
[null,null,null,null,{"$f":"B10","v":"GCE?"},{"$f":"RTD(\"cqg.rtd\", ,\"ContractData\",E33, \"Symbol\",, \"T\")","v":"GCEZ21"},null,{"$f":"RTD(\"cqg.rtd\", ,\"ContractData\",F33, \"Y_Settlement\",, \"T\")","v":1759.3000000000002},{"$f":"(RTD(\"cqg.rtd\", ,\"ContractData\",F33, \"Open\",, \"T\")-H33)/H33","v":6.2524867845160513E-4},null,{"$f":"(RTD(\"cqg.rtd\", ,\"ContractData\",F33, \"High\",, \"T\")-H33)/H33","v":2.1656340590007334E-2},{"$f":"(RTD(\"cqg.rtd\", ,\"ContractData\",F33, \"Low\",, \"T\")-H33)/H33","v":-7.9577104530216037E-4},null,{"$f":"(RTD(\"cqg.rtd\", ,\"ContractData\",F33, \"Close\",, \"T\")-H33)/H33","v":1.9723753765702162E-2},null,null,null,null,null,null,null,null,null,null,null,null,null,null,null,null,null,null,null,{"$f":"K52","v":"BP6?"},{"$f":"L56","v":3.6042662743655755E-3},6]
[null,{"$f":"Symbols!F8","v":"HOE?"},{"$f":"AJ19","v":6},null,{"$f":"B16","v":"SIE?"},{"$f":"RTD(\"cqg.rtd\", ,\"ContractData\",E34, \"Symbol\",, \"T\")","v":"SIEZ21"},null,{"$f":"RTD(\"cqg.rtd\", ,\"ContractData\",F34, \"Y_Close\",, \"T\")","v":22.56},{"$f":"(RTD(\"cqg.rtd\", ,\"ContractData\",F34, \"Open\",, \"T\")-H34)/H34","v":4.4326241134758705E-4},null,{"$f":"(RTD(\"cqg.rtd\", ,\"ContractData\",F34, \"High\",, \"T\")-H34)/H34","v":3.2136524822695099E-2},{"$f":"(RTD(\"cqg.rtd\", ,\"ContractData\",F34, \"Low\",, \"T\")-H34)/H34","v":-3.5460992907800663E-3},null,{"$f":"(RTD(\"cqg.rtd\", ,\"ContractData\",F34, \"Close\",, \"T\")-H34)/H34","v":2.9698581560283766E-2},null,null,null,null,null,null,null,null,null,null,null,null,null,null,{"$f":"Symbols!F11","v":"DB?"},{"$f":"AJ26","v":6},null,null,null,{"$f":"N52","v":"CA6?"},{"$f":"O56","v":1.8070787637088734E-3},6]
[null,{"$f":"LEFT(RTD(\"cqg.rtd\", ,\"ContractData\",B34, \"LongDescription\",, \"T\"),LEN(RTD(\"cqg.rtd\", ,\"ContractData\",B34, \"LongDescription\",, \"T\")))","v":"NY Harbor ULSD, Nov 21"},{"$f":"IF(Symbols!F9=\"B\",\"B\",IF(Symbols!F9=0,0,IF(Symbols!F9=1,\"#.0\",IF(Symbols!F9=2,\"#.00\",IF(Symbols!F9=3,\"#.000\",IF(Symbols!F9=4,\"#.0000\",IF(Symbols!F9=5,\"#.00000\",IF(Symbols!F9=6,\"#.000000\",IF(Symbols!F9=7,\"#.0000000\")))))))))","v":"#.0000"},null,{"$f":"B22","v":"PLE?"},{"$f":"RTD(\"cqg.rtd\", ,\"ContractData\",E35, \"Symbol\",, \"T\")","v":"PLEF22"},null,{"$f":"RTD(\"cqg.rtd\", ,\"ContractData\",F35, \"Y_Close\",, \"T\")","v":1007.9000000000001},{"$f":"(RTD(\"cqg.rtd\", ,\"ContractData\",F35, \"Open\",, \"T\")-H35)/H35","v":9.9216192082457626E-5},null,{"$f":"(RTD(\"cqg.rtd\", ,\"ContractData\",F35, \"High\",, \"T\")-H35)/H35","v":2.5696993749379761E-2},{"$f":"(RTD(\"cqg.rtd\", ,\"ContractData\",F35, \"Low\",, \"T\")-H35)/H35","v":-4.8615934120449355E-3},null,{"$f":"(RTD(\"cqg.rtd\", ,\"ContractData\",F35, \"Close\",, \"T\")-H35)/H35","v":1.8354995535271354E-2},null,null,null,null,null,null,null,null,null,null,null,null,null,null,{"$f":"LEFT(RTD(\"cqg.rtd\", ,\"ContractData\",AC34, \"LongDescription\",, \"T\"),LEN(RTD(\"cqg.rtd\", ,\"ContractData\",AC34, \"LongDescription\",, \"T\")))","v":"Euro Bund (10yr), Dec 21"},{"$f":"IF(Symbols!F12=\"B\",\"B\",IF(Symbols!F12=0,0,IF(Symbols!F12=1,\"#.0\",IF(Symbols!F12=2,\"#.00\",IF(Symbols!F12=3,\"#.000\",IF(Symbols!F12=4,\"#.0000\",IF(Symbols!F12=5,\"#.00000\",IF(Symbols!F12=6,\"#.000000\",IF(Symbols!F12=7,\"#.0000000\")))))))))","v":"#.00"},null,null,null,{"$f":"Q52","v":"SF6?"},{"$f":"R56","v":5.297890138488707E-3},6]
[null,{"$f":"IF(C35=\"B\",RTD(\"cqg.rtd\", ,\"ContractData\",B34, \"LastQuoteToday\",, \"B\"),TEXT(RTD(\"cqg.rtd\",,\"ContractData\",B34,\"Close\",,\"T\"),C35))","v":"2.5134"},null,null,{"$f":"B28","v":"CLE?"},{"$f":"RTD(\"cqg.rtd\", ,\"ContractData\",E36, \"Symbol\",, \"T\")","v":"CLEX21"},null,{"$f":"RTD(\"cqg.rtd\", ,\"ContractData\",F36, \"Y_Close\",, \"T\")","v":80.56},{"$f":"(RTD(\"cqg.rtd\", ,\"ContractData\",F36, \"Open\",, \"T\")-H36)/H36","v":2.4826216484602807E-4},null,{"$f":"(RTD(\"cqg.rtd\", ,\"ContractData\",F36, \"High\",, \"T\")-H36)/H36","v":2.8550148957299402E-3},{"$f":"(RTD(\"cqg.rtd\", ,\"ContractData\",F36, \"Low\",, \"T\")-H36)/H36","v":-1.4150943396226422E-2},null,{"$f":"(RTD(\"cqg.rtd\", ,\"ContractData\",F36, \"Close\",, \"T\")-H36)/H36","v":-6.2065541211515831E-4},null,null,null,null,null,null,null,null,null,null,null,null,null,null,{"$f":"IF(AD35=\"B\",RTD(\"cqg.rtd\", ,\"ContractData\",AC34, \"LastQuoteToday\",, \"B\"),TEXT(RTD(\"cqg.rtd\",,\"ContractData\",AC34,\"Close\",,\"T\"),AD35))","v":"168.94"},null,null,null,null,{"$f":"T52","v":"DA6?"},{"$f":"U56","v":2.3788486372595661E-3},6]
[null,{"$f":"IF(C35=\"B\",RTD(\"cqg.rtd\", ,\"ContractData\",B34, \"High\",, \"B\"),TEXT(RTD(\"cqg.rtd\",,\"ContractData\",B34,\"High\",,\"T\"),C35))","v":"2.5144"},{"$f":"IF(C35=\"B\",RTD(\"cqg.rtd\", ,\"ContractData\",B34,\"NetLastQuoteToday\",, \"B\"),TEXT(RTD(\"cqg.rtd\",,\"ContractData\",B34,\"NetLastQuoteToday\",,\"T\"),C35))","v":".0034"},null,{"$f":"B34","v":"HOE?"},{"$f":"RTD(\"cqg.rtd\", ,\"ContractData\",E37, \"Symbol\",, \"T\")","v":"HOEX21"},null,{"$f":"RTD(\"cqg.rtd\", ,\"ContractData\",F37, \"Y_Close\",, \"T\")","v":2.5078},{"$f":"(RTD(\"cqg.rtd\", ,\"ContractData\",F37, \"Open\",, \"T\")-H37)/H37","v":4.3863146981422001E-4},null,{"$f":"(RTD(\"cqg.rtd\", ,\"ContractData\",F37, \"High\",, \"T\")-H37)/H37","v":2.6317888188851428E-3},{"$f":"(RTD(\"cqg.rtd\", ,\"ContractData\",F37, \"Low\",, \"T\")-H37)/H37","v":-1.319881968259037E-2},null,{"$f":"(RTD(\"cqg.rtd\", ,\"ContractData\",F37, \"Close\",, \"T\")-H37)/H37","v":2.2330329372359323E-3},null,null,null,null,null,null,null,null,null,null,null,null,null,null,{"$f":"IF(AD35=\"B\",RTD(\"cqg.rtd\", ,\"ContractData\",AC34, \"High\",, \"B\"),TEXT(RTD(\"cqg.rtd\",,\"ContractData\",AC34,\"High\",,\"T\"),AD35))","v":"169.12"},{"$f":"IF(AD35=\"B\",RTD(\"cqg.rtd\", ,\"ContractData\",AC34,\"NetLastQuoteToday\",, \"B\"),TEXT(RTD(\"cqg.rtd\",,\"ContractData\",AC34,\"NetLastQuoteToday\",,\"T\"),AD35))","v":".53"},null,null,null,{"$f":"W52","v":"NE6?"},{"$f":"X56","v":2.7405163709793741E-3},6]
[null,{"$f":"IF(C35=\"B\",RTD(\"cqg.rtd\", ,\"ContractData\",B34, \"Low\",, \"B\"),TEXT(RTD(\"cqg.rtd\",,\"ContractData\",B34,\"Low\",,\"T\"),C35))","v":"2.4747"},{"$f":"IFERROR(RTD(\"cqg.rtd\", ,\"ContractData\",B34, \"PerCentNetLastTrade\",, \"T\")/100,\"\")","v":1.4342629482071714E-3},null,{"$f":"B40","v":"RBE?"},{"$f":"RTD(\"cqg.rtd\", ,\"ContractData\",E38, \"Symbol\",, \"T\")","v":"RBEX21"},null,{"$f":"RTD(\"cqg.rtd\", ,\"ContractData\",F38, \"Y_Close\",, \"T\")","v":2.3824000000000001},{"$f":"(RTD(\"cqg.rtd\", ,\"ContractData\",F38, \"Open\",, \"T\")-H38)/H38","v":9.6541302887842876E-4},null,{"$f":"(RTD(\"cqg.rtd\", ,\"ContractData\",F38, \"High\",, \"T\")-H38)/H38","v":5.2887844190731802E-3},{"$f":"(RTD(\"cqg.rtd\", ,\"ContractData\",F38, \"Low\",, \"T\")-H38)/H38","v":-1.519476158495635E-2},null,{"$f":"(RTD(\"cqg.rtd\", ,\"ContractData\",F38, \"Close\",, \"T\")-H38)/H38","v":5.0369375419744835E-3},null,null,null,null,null,null,null,null,null,null,null,null,null,null,{"$f":"IF(AD35=\"B\",RTD(\"cqg.rtd\", ,\"ContractData\",AC34, \"Low\",, \"B\"),TEXT(RTD(\"cqg.rtd\",,\"ContractData\",AC34,\"Low\",,\"T\"),AD35))","v":"168.31"},{"$f":"IFERROR(RTD(\"cqg.rtd\", ,\"ContractData\",AC34, \"PerCentNetLastTrade\",, \"T\")/100,\"\")","v":3.1470815272252239E-3},null,null,null,{"$f":"Z52","v":"MX6?"},{"$f":"AA56","v":2.0951183741881414E-3},6]
[null,null,null,null,{"$f":"B46","v":"NGE?"},{"$f":"RTD(\"cqg.rtd\", ,\"ContractData\",E39, \"Symbol\",, \"T\")","v":"NGEX21"},null,{"$f":"RTD(\"cqg.rtd\", ,\"ContractData\",F39, \"Y_Close\",, \"T\")","v":5.4640000000000004},{"$f":"(RTD(\"cqg.rtd\", ,\"ContractData\",F39, \"Open\",, \"T\")-H39)/H39","v":-1.4641288433382149E-3},null,{"$f":"(RTD(\"cqg.rtd\", ,\"ContractData\",F39, \"High\",, \"T\")-H39)/H39","v":8.9677891654464641E-3},{"$f":"(RTD(\"cqg.rtd\", ,\"ContractData\",F39, \"Low\",, \"T\")-H39)/H39","v":-2.0863836017569522E-2},null,{"$f":"(RTD(\"cqg.rtd\", ,\"ContractData\",F39, \"Close\",, \"T\")-H39)/H39","v":-1.573938506588585E-2}]
[null,{"$f":"Symbols!G8","v":"RBE?"},{"$f":"AJ20","v":6},null,null,null,null,null,null,null,null,null,null,null,null,null,null,null,null,null,null,null,null,null,null,null,null,null,{"$f":"Symbols!G11","v":"FGBX?"},{"$f":"AJ27","v":8}]
[null,{"$f":"LEFT(RTD(\"cqg.rtd\", ,\"ContractData\",B40, \"LongDescription\",, \"T\"),LEN(RTD(\"cqg.rtd\", ,\"ContractData\",B40, \"LongDescription\",, \"T\")))","v":"RBOB Gasoline (Globex), Nov 21"},{"$f":"IF(Symbols!G9=\"B\",\"B\",IF(Symbols!G9=0,0,IF(Symbols!G9=1,\"#.0\",IF(Symbols!G9=2,\"#.00\",IF(Symbols!G9=3,\"#.000\",IF(Symbols!G9=4,\"#.0000\",IF(Symbols!G9=5,\"#.00000\",IF(Symbols!G9=6,\"#.000000\",IF(Symbols!G9=7,\"#.0000000\")))))))))","v":"#.000"},null,{"$f":"AC10","v":"FVA?"},{"$f":"RTD(\"cqg.rtd\", ,\"ContractData\",E41, \"Symbol\",, \"T\")","v":"FVAZ21"},null,{"$f":"RTD(\"cqg.rtd\", ,\"ContractData\",F41, \"Y_Close\",, \"T\")","v":122.328125},{"$f":"(RTD(\"cqg.rtd\", ,\"ContractData\",F41, \"Open\",, \"T\")-H41)/H41","v":-1.2773023374632777E-4},null,{"$f":"(RTD(\"cqg.rtd\", ,\"ContractData\",F41, \"High\",, \"T\")-H41)/H41","v":8.3024651935113044E-4},{"$f":"(RTD(\"cqg.rtd\", ,\"ContractData\",F41, \"Low\",, \"T\")-H41)/H41","v":-2.554604674926555E-3},null,{"$f":"(RTD(\"cqg.rtd\", ,\"ContractData\",F41, \"Close\",, \"T\")-H41)/H41","v":6.3865116873163883E-5},null,null,null,null,null,null,null,null,null,null,null,null,null,null,{"$f":"LEFT(RTD(\"cqg.rtd\", ,\"ContractData\",AC40, \"LongDescription\",, \"T\"),LEN(RTD(\"cqg.rtd\", ,\"ContractData\",AC40, \"LongDescription\",, \"T\")))","v":"Euro Buxl (30yr), Dec 21"},{"$f":"IF(Symbols!G12=\"B\",\"B\",IF(Symbols!G12=0,0,IF(Symbols!G12=1,\"#.0\",IF(Symbols!G12=2,\"#.00\",IF(Symbols!G12=3,\"#.000\",IF(Symbols!G12=4,\"#.0000\",IF(Symbols!G12=5,\"#.00000\",IF(Symbols!G12=6,\"#.000000\",IF(Symbols!G12=7,\"#.0000000\")))))))))","v":"#.00"}]
[null,{"$f":"IF(C41=\"B\",RTD(\"cqg.rtd\", ,\"ContractData\",B40, \"LastQuoteToday\",, \"B\"),TEXT(RTD(\"cqg.rtd\",,\"ContractData\",B40,\"Close\",,\"T\"),C41))","v":"2.394"},null,null,{"$f":"AC16","v":"TYA?"},{"$f":"RTD(\"cqg.rtd\", ,\"ContractData\",E42, \"Symbol\",, \"T\")","v":"TYAZ21"},null,{"$f":"RTD(\"cqg.rtd\", ,\"ContractData\",F42, \"Y_Close\",, \"T\")","v":131.140625},{"$f":"(RTD(\"cqg.rtd\", ,\"ContractData\",F42, \"Open\",, \"T\")-H42)/H42","v":-2.3829381627546765E-4},null,{"$f":"(RTD(\"cqg.rtd\", ,\"ContractData\",F42, \"High\",, \"T\")-H42)/H42","v":2.6212319790301442E-3},{"$f":"(RTD(\"cqg.rtd\", ,\"ContractData\",F42, \"Low\",, \"T\")-H42)/H42","v":-2.6212319790301442E-3},null,{"$f":"(RTD(\"cqg.rtd\", ,\"ContractData\",F42, \"Close\",, \"T\")-H42)/H42","v":1.1914690813773381E-3},null,null,null,null,null,null,null,null,null,null,null,null,null,null,{"$f":"IF(AD41=\"B\",RTD(\"cqg.rtd\", ,\"ContractData\",AC40, \"LastQuoteToday\",, \"B\"),TEXT(RTD(\"cqg.rtd\",,\"ContractData\",AC40,\"Close\",,\"T\"),AD41))","v":"202.60"}]
[null,{"$f":"IF(C41=\"B\",RTD(\"cqg.rtd\", ,\"ContractData\",B40, \"High\",, \"B\"),TEXT(RTD(\"cqg.rtd\",,\"ContractData\",B40,\"High\",,\"T\"),C41))","v":"2.395"},{"$f":"IF(C41=\"B\",RTD(\"cqg.rtd\", ,\"ContractData\",B40,\"NetLastQuoteToday\",, \"B\"),TEXT(RTD(\"cqg.rtd\",,\"ContractData\",B40,\"NetLastQuoteToday\",,\"T\"),C41))","v":".012"},null,{"$f":"AC22","v":"USA?"},{"$f":"RTD(\"cqg.rtd\", ,\"ContractData\",E43, \"Symbol\",, \"T\")","v":"USAZ21"},null,{"$f":"RTD(\"cqg.rtd\", ,\"ContractData\",F43, \"Y_Close\",, \"T\")","v":158.625},{"$f":"(RTD(\"cqg.rtd\", ,\"ContractData\",F43, \"Open\",, \"T\")-H43)/H43","v":1.9700551615445234E-4},null,{"$f":"(RTD(\"cqg.rtd\", ,\"ContractData\",F43, \"High\",, \"T\")-H43)/H43","v":8.2742316784869974E-3},{"$f":"(RTD(\"cqg.rtd\", ,\"ContractData\",F43, \"Low\",, \"T\")-H43)/H43","v":-1.1820330969267139E-3},null,{"$f":"(RTD(\"cqg.rtd\", ,\"ContractData\",F43, \"Close\",, \"T\")-H43)/H43","v":5.713159968479117E-3},null,null,null,null,null,null,null,null,null,null,null,null,null,null,{"$f":"IF(AD41=\"B\",RTD(\"cqg.rtd\", ,\"ContractData\",AC40, \"High\",, \"B\"),TEXT(RTD(\"cqg.rtd\",,\"ContractData\",AC40,\"High\",,\"T\"),AD41))","v":"203.06"},{"$f":"IF(AD41=\"B\",RTD(\"cqg.rtd\", ,\"ContractData\",AC40,\"NetLastQuoteToday\",, \"B\"),TEXT(RTD(\"cqg.rtd\",,\"ContractData\",AC40,\"NetLastQuoteToday\",,\"T\"),AD41))","v":"3.04"}]
[null,{"$f":"IF(C41=\"B\",RTD(\"cqg.rtd\", ,\"ContractData\",B40, \"Low\",, \"B\"),TEXT(RTD(\"cqg.rtd\",,\"ContractData\",B40,\"Low\",,\"T\"),C41))","v":"2.346"},{"$f":"IFERROR(RTD(\"cqg.rtd\", ,\"ContractData\",B40, \"PerCentNetLastTrade\",, \"T\")/100,\"\")","v":4.7001552729866967E-3},null,{"$f":"AC28","v":"DL?"},{"$f":"RTD(\"cqg.rtd\", ,\"ContractData\",E44, \"Symbol\",, \"T\")","v":"DLZ21"},null,{"$f":"RTD(\"cqg.rtd\", ,\"ContractData\",F44, \"Y_Close\",, \"T\")","v":134.38},{"$f":"(RTD(\"cqg.rtd\", ,\"ContractData\",F44, \"Open\",, \"T\")-H44)/H44","v":-2.2324750706951286E-4},null,{"$f":"(RTD(\"cqg.rtd\", ,\"ContractData\",F44, \"High\",, \"T\")-H44)/H44","v":1.2650692067273099E-3},{"$f":"(RTD(\"cqg.rtd\", ,\"ContractData\",F44, \"Low\",, \"T\")-H44)/H44","v":-4.4649501413902571E-4},null,{"$f":"(RTD(\"cqg.rtd\", ,\"ContractData\",F44, \"Close\",, \"T\")-H44)/H44","v":8.9299002827805142E-4},null,null,null,null,null,null,null,null,null,null,null,null,null,null,{"$f":"IF(AD41=\"B\",RTD(\"cqg.rtd\", ,\"ContractData\",AC40, \"Low\",, \"B\"),TEXT(RTD(\"cqg.rtd\",,\"ContractData\",AC40,\"Low\",,\"T\"),AD41))","v":"199.82"},{"$f":"IFERROR(RTD(\"cqg.rtd\", ,\"ContractData\",AC40, \"PerCentNetLastTrade\",, \"T\")/100,\"\")","v":1.5333734215273603E-2}]
[null,null,null,null,{"$f":"AC34","v":"DB?"},{"$f":"RTD(\"cqg.rtd\", ,\"ContractData\",E45, \"Symbol\",, \"T\")","v":"DBZ21"},null,{"$f":"RTD(\"cqg.rtd\", ,\"ContractData\",F45, \"Y_Close\",, \"T\")","v":168.39000000000001},{"$f":"(RTD(\"cqg.rtd\", ,\"ContractData\",F45, \"Open\",, \"T\")-H45)/H45","v":-2.9692974642206405E-4},null,{"$f":"(RTD(\"cqg.rtd\", ,\"ContractData\",F45, \"High\",, \"T\")-H45)/H45","v":4.3351742977610882E-3},{"$f":"(RTD(\"cqg.rtd\", ,\"ContractData\",F45, \"Low\",, \"T\")-H45)/H45","v":-4.7508759427526871E-4},null,{"$f":"(RTD(\"cqg.rtd\", ,\"ContractData\",F45, \"Close\",, \"T\")-H45)/H45","v":3.2662272106418607E-3}]
[null,{"$f":"Symbols!H8","v":"NGE?"},{"$f":"AJ21","v":1},null,{"$f":"AC40","v":"FGBX?"},{"$f":"RTD(\"cqg.rtd\", ,\"ContractData\",E46, \"Symbol\",, \"T\")","v":"FGBXZ21"},null,{"$f":"RTD(\"cqg.rtd\", ,\"ContractData\",F46, \"Y_Close\",, \"T\")","v":200.04},{"$f":"(RTD(\"cqg.rtd\", ,\"ContractData\",F46, \"Open\",, \"T\")-H46)/H46","v":-1.0997800439911962E-3},null,{"$f":"(RTD(\"cqg.rtd\", ,\"ContractData\",F46, \"High\",, \"T\")-H46)/H46","v":1.5096980603879276E-2},{"$f":"(RTD(\"cqg.rtd\", ,\"ContractData\",F46, \"Low\",, \"T\")-H46)/H46","v":-1.0997800439911962E-3},null,{"$f":"(RTD(\"cqg.rtd\", ,\"ContractData\",F46, \"Close\",, \"T\")-H46)/H46","v":1.2797440511897632E-2},null,null,null,null,null,null,null,null,null,null,null,null,null,null,{"$f":"Symbols!H11","v":"QGA?"},{"$f":"AJ28","v":6}]
[null,{"$f":"LEFT(RTD(\"cqg.rtd\", ,\"ContractData\",B46, \"LongDescription\",, \"T\"),LEN(RTD(\"cqg.rtd\", ,\"ContractData\",B46, \"LongDescription\",, \"T\")))","v":"Natural Gas (Globex), Nov 21"},{"$f":"IF(Symbols!H9=\"B\",\"B\",IF(Symbols!H9=0,0,IF(Symbols!H9=1,\"#.0\",IF(Symbols!H9=2,\"#.00\",IF(Symbols!H9=3,\"#.000\",IF(Symbols!H9=4,\"#.0000\",IF(Symbols!H9=5,\"#.00000\",IF(Symbols!H9=6,\"#.000000\",IF(Symbols!H9=7,\"#.0000000\")))))))))","v":"#.000"},null,{"$f":"AC46","v":"QGA?"},{"$f":"RTD(\"cqg.rtd\", ,\"ContractData\",E47, \"Symbol\",, \"T\")","v":"QGAZ21"},null,{"$f":"RTD(\"cqg.rtd\", ,\"ContractData\",F47, \"Y_Close\",, \"T\")","v":124.23},{"$f":"(RTD(\"cqg.rtd\", ,\"ContractData\",F47, \"Open\",, \"T\")-H47)/H47","v":5.6347098124441097E-4},null,{"$f":"(RTD(\"cqg.rtd\", ,\"ContractData\",F47, \"High\",, \"T\")-H47)/H47","v":8.1300813008130489E-3},{"$f":"(RTD(\"cqg.rtd\", ,\"ContractData\",F47, \"Low\",, \"T\")-H47)/H47","v":-1.2074378169524727E-3},null,{"$f":"(RTD(\"cqg.rtd\", ,\"ContractData\",F47, \"Close\",, \"T\")-H47)/H47","v":4.9907429767367343E-3},null,null,null,null,null,null,null,null,null,null,null,null,null,null,{"$f":"LEFT(RTD(\"cqg.rtd\", ,\"ContractData\",AC46, \"LongDescription\",, \"T\"),LEN(RTD(\"cqg.rtd\", ,\"ContractData\",AC46, \"LongDescription\",, \"T\")))","v":"Long Gilt (CONNECT), Dec 21"},{"$f":"IF(Symbols!H12=\"B\",\"B\",IF(Symbols!H12=0,0,IF(Symbols!H12=1,\"#.0\",IF(Symbols!H12=2,\"#.00\",IF(Symbols!H12=3,\"#.000\",IF(Symbols!H12=4,\"#.0000\",IF(Symbols!H12=5,\"#.00000\",IF(Symbols!H12=6,\"#.000000\",IF(Symbols!H12=7,\"#.0000000\")))))))))","v":"#.00"}]
[null,{"$f":"IF(C47=\"B\",RTD(\"cqg.rtd\", ,\"ContractData\",B46, \"LastQuoteToday\",, \"B\"),TEXT(RTD(\"cqg.rtd\",,\"ContractData\",B46,\"Close\",,\"T\"),C47))","v":"5.378"},null,null,{"$f":"AC52","v":"EB?"},{"$f":"RTD(\"cqg.rtd\", ,\"ContractData\",E48, \"Symbol\",, \"T\")","v":"EBZ21"},null,{"$f":"RTD(\"cqg.rtd\", ,\"ContractData\",F48, \"Y_Close\",, \"T\")","v":0.84935000000000005},{"$f":"(RTD(\"cqg.rtd\", ,\"ContractData\",F48, \"Open\",, \"T\")-H48)/H48","v":7.6529110496266484E-4},null,{"$f":"(RTD(\"cqg.rtd\", ,\"ContractData\",F48, \"High\",, \"T\")-H48)/H48","v":1.3539765703184604E-3},{"$f":"(RTD(\"cqg.rtd\", ,\"ContractData\",F48, \"Low\",, \"T\")-H48)/H48","v":-1.2362394772473012E-3},null,{"$f":"(RTD(\"cqg.rtd\", ,\"ContractData\",F48, \"Close\",, \"T\")-H48)/H48","v":-1.177370930711591E-4},null,null,null,null,null,null,null,null,null,null,null,null,null,null,{"$f":"IF(AD47=\"B\",RTD(\"cqg.rtd\", ,\"ContractData\",AC46, \"LastQuoteToday\",, \"B\"),TEXT(RTD(\"cqg.rtd\",,\"ContractData\",AC46,\"Close\",,\"T\"),AD47))","v":"124.85"}]
[null,{"$f":"IF(C47=\"B\",RTD(\"cqg.rtd\", ,\"ContractData\",B46, \"High\",, \"B\"),TEXT(RTD(\"cqg.rtd\",,\"ContractData\",B46,\"High\",,\"T\"),C47))","v":"5.513"},{"$f":"IF(C47=\"B\",RTD(\"cqg.rtd\", ,\"ContractData\",B46,\"NetLastQuoteToday\",, \"B\"),TEXT(RTD(\"cqg.rtd\",,\"ContractData\",B46,\"NetLastQuoteToday\",,\"T\"),C47))","v":"-.127"},null,null,null,null,null,null,null,null,null,null,null,null,null,null,null,null,null,null,null,null,null,null,null,null,null,{"$f":"IF(AD47=\"B\",RTD(\"cqg.rtd\", ,\"ContractData\",AC46, \"High\",, \"B\"),TEXT(RTD(\"cqg.rtd\",,\"ContractData\",AC46,\"High\",,\"T\"),AD47))","v":"125.24"},{"$f":"IF(AD47=\"B\",RTD(\"cqg.rtd\", ,\"ContractData\",AC46,\"NetLastQuoteToday\",, \"B\"),TEXT(RTD(\"cqg.rtd\",,\"ContractData\",AC46,\"NetLastQuoteToday\",,\"T\"),AD47))","v":".62"}]
[null,{"$f":"IF(C47=\"B\",RTD(\"cqg.rtd\", ,\"ContractData\",B46, \"Low\",, \"B\"),TEXT(RTD(\"cqg.rtd\",,\"ContractData\",B46,\"Low\",,\"T\"),C47))","v":"5.350"},{"$f":"IFERROR(RTD(\"cqg.rtd\", ,\"ContractData\",B46, \"PerCentNetLastTrade\",, \"T\")/100,\"\")","v":-2.3069936421435056E-2},null,null,null,null,null,null,null,null,null,null,null,null,null,null,null,null,null,null,null,null,null,null,null,null,null,{"$f":"IF(AD47=\"B\",RTD(\"cqg.rtd\", ,\"ContractData\",AC46, \"Low\",, \"B\"),TEXT(RTD(\"cqg.rtd\",,\"ContractData\",AC46,\"Low\",,\"T\"),AD47))","v":"124.08"},{"$f":"IFERROR(RTD(\"cqg.rtd\", ,\"ContractData\",AC46, \"PerCentNetLastTrade\",, \"T\")/100,\"\")","v":4.9907429767366979E-3}]
[]
[null,{"$f":"Symbols!B5","v":"DXE?"},{"$f":"AJ30","v":5},null,{"$f":"Symbols!C5","v":"EU6?"},{"$f":"AJ31","v":6},null,{"$f":"Symbols!D5","v":"JY6?"},{"$f":"AJ32","v":6},null,{"$f":"Symbols!E5","v":"BP6?"},{"$f":"AJ33","v":6},null,{"$f":"Symbols!F5","v":"CA6?"},{"$f":"AJ34","v":6},null,{"$f":"Symbols!G5","v":"SF6?"},{"$f":"AJ35","v":6},null,{"$f":"Symbols!H5","v":"DA6?"},{"$f":"AJ36","v":6},null,{"$f":"Symbols!I5","v":"NE6?"},{"$f":"AJ37","v":6},null,{"$f":"Symbols!J5","v":"MX6?"},{"$f":"AJ38","v":6},null,{"$f":"Symbols!K5","v":"EB?"},{"$f":"AJ29","v":6}]
[null,{"$f":"LEFT(RTD(\"cqg.rtd\", ,\"ContractData\",B52, \"LongDescription\",, \"T\"),LEN(RTD(\"cqg.rtd\", ,\"ContractData\",B52, \"LongDescription\",, \"T\")))","v":"Dollar Index (ICE), Dec 21"},{"$f":"IF(Symbols!B6=\"B\",\"B\",IF(Symbols!B6=0,0,IF(Symbols!B6=1,\"#.0\",IF(Symbols!B6=2,\"#.00\",IF(Symbols!B6=3,\"#.000\",IF(Symbols!B6=4,\"#.0000\",IF(Symbols!B6=5,\"#.00000\",IF(Symbols!B6=6,\"#.000000\",IF(Symbols!B6=7,\"#.0000000\")))))))))","v":"#.000"},null,{"$f":"LEFT(RTD(\"cqg.rtd\", ,\"ContractData\",E52, \"LongDescription\",, \"T\"),LEN(RTD(\"cqg.rtd\", ,\"ContractData\",E52, \"LongDescription\",, \"T\")))","v":"Euro FX (Globex), Dec 21"},{"$f":"IF(Symbols!C6=\"B\",\"B\",IF(Symbols!C6=0,0,IF(Symbols!C6=1,\"#.0\",IF(Symbols!C6=2,\"#.00\",IF(Symbols!C6=3,\"#.000\",IF(Symbols!C6=4,\"#.0000\",IF(Symbols!C6=5,\"#.00000\",IF(Symbols!C6=6,\"#.000000\",IF(Symbols!C6=7,\"#.0000000\")))))))))","v":"#.00000"},null,{"$f":"LEFT(RTD(\"cqg.rtd\", ,\"ContractData\",H52, \"LongDescription\",, \"T\"),LEN(RTD(\"cqg.rtd\", ,\"ContractData\",H52, \"LongDescription\",, \"T\")))","v":"Japanese Yen (Globex), Dec 21"},{"$f":"IF(Symbols!D6=\"B\",\"B\",IF(Symbols!D6=0,0,IF(Symbols!D6=1,\"#.0\",IF(Symbols!D6=2,\"#.00\",IF(Symbols!D6=3,\"#.000\",IF(Symbols!D6=4,\"#.0000\",IF(Symbols!D6=5,\"#.00000\",IF(Symbols!D6=6,\"#.000000\",IF(Symbols!D6=7,\"#.0000000\")))))))))","v":"#.0000000"},null,{"$f":"LEFT(RTD(\"cqg.rtd\", ,\"ContractData\",K52, \"LongDescription\",, \"T\"),LEN(RTD(\"cqg.rtd\", ,\"ContractData\",K52, \"LongDescription\",, \"T\")))","v":"British Pound (Globex), Dec 21"},{"$f":"IF(Symbols!E6=\"B\",\"B\",IF(Symbols!E6=0,0,IF(Symbols!E6=1,\"#.0\",IF(Symbols!E6=2,\"#.00\",IF(Symbols!E6=3,\"#.000\",IF(Symbols!E6=4,\"#.0000\",IF(Symbols!E6=5,\"#.00000\",IF(Symbols!E6=6,\"#.000000\",IF(Symbols!E6=7,\"#.0000000\")))))))))","v":"#.0000"},null,{"$f":"LEFT(RTD(\"cqg.rtd\", ,\"ContractData\",N52, \"LongDescription\",, \"T\"),LEN(RTD(\"cqg.rtd\", ,\"ContractData\",N52, \"LongDescription\",, \"T\")))","v":"Canadian Dollar (Globex), Dec 21"},{"$f":"IF(Symbols!F6=\"B\",\"B\",IF(Symbols!F6=0,0,IF(Symbols!F6=1,\"#.0\",IF(Symbols!F6=2,\"#.00\",IF(Symbols!F6=3,\"#.000\",IF(Symbols!F6=4,\"#.0000\",IF(Symbols!F6=5,\"#.00000\",IF(Symbols!F6=6,\"#.000000\",IF(Symbols!F6=7,\"#.0000000\")))))))))","v":"#.0000"},null,{"$f":"LEFT(RTD(\"cqg.rtd\", ,\"ContractData\",Q52, \"LongDescription\",, \"T\"),LEN(RTD(\"cqg.rtd\", ,\"ContractData\",Q52, \"LongDescription\",, \"T\")))","v":"Swiss Franc (Globex), Dec 21"},{"$f":"IF(Symbols!G6=\"B\",\"B\",IF(Symbols!G6=0,0,IF(Symbols!G6=1,\"#.0\",IF(Symbols!G6=2,\"#.00\",IF(Symbols!G6=3,\"#.000\",IF(Symbols!G6=4,\"#.0000\",IF(Symbols!G6=5,\"#.00000\",IF(Symbols!G6=6,\"#.000000\",IF(Symbols!G6=7,\"#.0000000\")))))))))","v":"#.0000"},null,{"$f":"LEFT(RTD(\"cqg.rtd\", ,\"ContractData\",T52, \"LongDescription\",, \"T\"),LEN(RTD(\"cqg.rtd\", ,\"ContractData\",T52, \"LongDescription\",, \"T\")))","v":"Australian Dollar (Globex), Dec 21"},{"$f":"IF(Symbols!H6=\"B\",\"B\",IF(Symbols!H6=0,0,IF(Symbols!H6=1,\"#.0\",IF(Symbols!H6=2,\"#.00\",IF(Symbols!H6=3,\"#.000\",IF(Symbols!H6=4,\"#.0000\",IF(Symbols!H6=5,\"#.00000\",IF(Symbols!H6=6,\"#.000000\",IF(Symbols!H6=7,\"#.0000000\")))))))))","v":"#.0000"},null,{"$f":"LEFT(RTD(\"cqg.rtd\", ,\"ContractData\",W52, \"LongDescription\",, \"T\"),LEN(RTD(\"cqg.rtd\", ,\"ContractData\",W52, \"LongDescription\",, \"T\")))","v":"New Zealand Dollar (Globex), Dec 21"},{"$f":"IF(Symbols!I6=\"B\",\"B\",IF(Symbols!I6=0,0,IF(Symbols!I6=1,\"#.0\",IF(Symbols!I6=2,\"#.00\",IF(Symbols!I6=3,\"#.000\",IF(Symbols!I6=4,\"#.0000\",IF(Symbols!I6=5,\"#.00000\",IF(Symbols!I6=6,\"#.000000\",IF(Symbols!I6=7,\"#.0000000\")))))))))","v":"#.0000"},null,{"$f":"LEFT(RTD(\"cqg.rtd\", ,\"ContractData\",Z52, \"LongDescription\",, \"T\"),LEN(RTD(\"cqg.rtd\", ,\"ContractData\",Z52, \"LongDescription\",, \"T\")))","v":"Mexican Peso (Globex), Dec 21"},{"$f":"IF(Symbols!J6=\"B\",\"B\",IF(Symbols!J6=0,0,IF(Symbols!J6=1,\"#.0\",IF(Symbols!J6=2,\"#.00\",IF(Symbols!J6=3,\"#.000\",IF(Symbols!J6=4,\"#.0000\",IF(Symbols!J6=5,\"#.00000\",IF(Symbols!J6=6,\"#.000000\",IF(Symbols!J6=7,\"#.0000000\")))))))))","v":"#.00000"},null,{"$f":"LEFT(RTD(\"cqg.rtd\", ,\"ContractData\",AC52, \"LongDescription\",, \"T\"),LEN(RTD(\"cqg.rtd\", ,\"ContractData\",AC52, \"LongDescription\",, \"T\")))","v":"Euro/British Pound (Globex), Dec 21"},{"$f":"IF(Symbols!K6=\"B\",\"B\",IF(Symbols!K6=0,0,IF(Symbols!K6=1,\"#.0\",IF(Symbols!K6=2,\"#.00\",IF(Symbols!K6=3,\"#.000\",IF(Symbols!K6=4,\"#.0000\",IF(Symbols!K6=5,\"#.00000\",IF(Symbols!K6=6,\"#.000000\",IF(Symbols!K6=7,\"#.0000000\")))))))))","v":"#.00000"}]
[null,{"$f":"IF(C53=\"B\",RTD(\"cqg.rtd\", ,\"ContractData\",B52, \"LastQuoteToday\",, \"B\"),TEXT(RTD(\"cqg.rtd\",,\"ContractData\",B52,\"Close\",,\"T\"),C53))","v":"94.170"},null,null,{"$f":"IF(F53=\"B\",RTD(\"cqg.rtd\", ,\"ContractData\",E52, \"LastQuoteToday\",, \"B\"),TEXT(RTD(\"cqg.rtd\",,\"ContractData\",E52,\"Close\",,\"T\"),F53))","v":"1.15870"},null,null,{"$f":"IF(I53=\"B\",RTD(\"cqg.rtd\", ,\"ContractData\",H52, \"LastQuoteToday\",, \"B\"),TEXT(RTD(\"cqg.rtd\",,\"ContractData\",H52,\"Close\",,\"T\"),I53))","v":".0088230"},null,null,{"$f":"IF(L53=\"B\",RTD(\"cqg.rtd\", ,\"ContractData\",K52, \"LastQuoteToday\",, \"B\"),TEXT(RTD(\"cqg.rtd\",,\"ContractData\",K52,\"Close\",,\"T\"),L53))","v":"1.3644"},null,null,{"$f":"IF(O53=\"B\",RTD(\"cqg.rtd\", ,\"ContractData\",N52, \"LastQuoteToday\",, \"B\"),TEXT(RTD(\"cqg.rtd\",,\"ContractData\",N52,\"Close\",,\"T\"),O53))","v":".8039"},null,null,{"$f":"IF(R53=\"B\",RTD(\"cqg.rtd\", ,\"ContractData\",Q52, \"LastQuoteToday\",, \"B\"),TEXT(RTD(\"cqg.rtd\",,\"ContractData\",Q52,\"Close\",,\"T\"),R53))","v":"1.0816"},null,null,{"$f":"IF(U53=\"B\",RTD(\"cqg.rtd\", ,\"ContractData\",T52, \"LastQuoteToday\",, \"B\"),TEXT(RTD(\"cqg.rtd\",,\"ContractData\",T52,\"Close\",,\"T\"),U53))","v":".7375"},null,null,{"$f":"IF(X53=\"B\",RTD(\"cqg.rtd\", ,\"ContractData\",W52, \"LastQuoteToday\",, \"B\"),TEXT(RTD(\"cqg.rtd\",,\"ContractData\",W52,\"Close\",,\"T\"),X53))","v":".6952"},null,null,{"$f":"IF(AA53=\"B\",RTD(\"cqg.rtd\", ,\"ContractData\",Z52, \"LastQuoteToday\",, \"B\"),TEXT(RTD(\"cqg.rtd\",,\"ContractData\",Z52,\"Close\",,\"T\"),AA53))","v":".04784"},null,null,{"$f":"IF(AD53=\"B\",RTD(\"cqg.rtd\", ,\"ContractData\",AC52, \"LastQuoteToday\",, \"B\"),TEXT(RTD(\"cqg.rtd\",,\"ContractData\",AC52,\"Close\",,\"T\"),AD53))","v":".84925"}]
[null,{"$f":"IF(C53=\"B\",RTD(\"cqg.rtd\", ,\"ContractData\",B52, \"High\",, \"B\"),TEXT(RTD(\"cqg.rtd\",,\"ContractData\",B52,\"High\",,\"T\"),C53))","v":"94.550"},{"$f":"IF(C53=\"B\",RTD(\"cqg.rtd\", ,\"ContractData\",B52,\"NetLastQuoteToday\",, \"B\"),TEXT(RTD(\"cqg.rtd\",,\"ContractData\",B52,\"NetLastQuoteToday\",,\"T\"),C53))","v":"-.349"},null,{"$f":"IF(F53=\"B\",RTD(\"cqg.rtd\", ,\"ContractData\",E52, \"High\",, \"B\"),TEXT(RTD(\"cqg.rtd\",,\"ContractData\",E52,\"High\",,\"T\"),F53))","v":"1.15920"},{"$f":"IF(F53=\"B\",RTD(\"cqg.rtd\", ,\"ContractData\",E52,\"NetLastQuoteToday\",, \"B\"),TEXT(RTD(\"cqg.rtd\",,\"ContractData\",E52,\"NetLastQuoteToday\",,\"T\"),F53))","v":".00435"},null,{"$f":"IF(I53=\"B\",RTD(\"cqg.rtd\", ,\"ContractData\",H52, \"High\",, \"B\"),TEXT(RTD(\"cqg.rtd\",,\"ContractData\",H52,\"High\",,\"T\"),I53))","v":".0088355"},{"$f":"IF(I53=\"B\",RTD(\"cqg.rtd\", ,\"ContractData\",H52,\"NetLastQuoteToday\",, \"B\"),TEXT(RTD(\"cqg.rtd\",,\"ContractData\",H52,\"NetLastQuoteToday\",,\"T\"),I53))","v":".0000215"},null,{"$f":"IF(L53=\"B\",RTD(\"cqg.rtd\", ,\"ContractData\",K52, \"High\",, \"B\"),TEXT(RTD(\"cqg.rtd\",,\"ContractData\",K52,\"High\",,\"T\"),L53))","v":"1.3648"},{"$f":"IF(L53=\"B\",RTD(\"cqg.rtd\", ,\"ContractData\",K52,\"NetLastQuoteToday\",, \"B\"),TEXT(RTD(\"cqg.rtd\",,\"ContractData\",K52,\"NetLastQuoteToday\",,\"T\"),L53))","v":".0049"},null,{"$f":"IF(O53=\"B\",RTD(\"cqg.rtd\", ,\"ContractData\",N52, \"High\",, \"B\"),TEXT(RTD(\"cqg.rtd\",,\"ContractData\",N52,\"High\",,\"T\"),O53))","v":".8042"},{"$f":"IF(O53=\"B\",RTD(\"cqg.rtd\", ,\"ContractData\",N52,\"NetLastQuoteToday\",, \"B\"),TEXT(RTD(\"cqg.rtd\",,\"ContractData\",N52,\"NetLastQuoteToday\",,\"T\"),O53))","v":".0015"},null,{"$f":"IF(R53=\"B\",RTD(\"cqg.rtd\", ,\"ContractData\",Q52, \"High\",, \"B\"),TEXT(RTD(\"cqg.rtd\",,\"ContractData\",Q52,\"High\",,\"T\"),R53))","v":"1.0819"},{"$f":"IF(R53=\"B\",RTD(\"cqg.rtd\", ,\"ContractData\",Q52,\"NetLastQuoteToday\",, \"B\"),TEXT(RTD(\"cqg.rtd\",,\"ContractData\",Q52,\"NetLastQuoteToday\",,\"T\"),R53))","v":".0057"},null,{"$f":"IF(U53=\"B\",RTD(\"cqg.rtd\", ,\"ContractData\",T52, \"High\",, \"B\"),TEXT(RTD(\"cqg.rtd\",,\"ContractData\",T52,\"High\",,\"T\"),U53))","v":".7379"},{"$f":"IF(U53=\"B\",RTD(\"cqg.rtd\", ,\"ContractData\",T52,\"NetLastQuoteToday\",, \"B\"),TEXT(RTD(\"cqg.rtd\",,\"ContractData\",T52,\"NetLastQuoteToday\",,\"T\"),U53))","v":".0018"},null,{"$f":"IF(X53=\"B\",RTD(\"cqg.rtd\", ,\"ContractData\",W52, \"High\",, \"B\"),TEXT(RTD(\"cqg.rtd\",,\"ContractData\",W52,\"High\",,\"T\"),X53))","v":".6956"},{"$f":"IF(X53=\"B\",RTD(\"cqg.rtd\", ,\"ContractData\",W52,\"NetLastQuoteToday\",, \"B\"),TEXT(RTD(\"cqg.rtd\",,\"ContractData\",W52,\"NetLastQuoteToday\",,\"T\"),X53))","v":".0019"},null,{"$f":"IF(AA53=\"B\",RTD(\"cqg.rtd\", ,\"ContractData\",Z52, \"High\",, \"B\"),TEXT(RTD(\"cqg.rtd\",,\"ContractData\",Z52,\"High\",,\"T\"),AA53))","v":".04790"},{"$f":"IF(AA53=\"B\",RTD(\"cqg.rtd\", ,\"ContractData\",Z52,\"NetLastQuoteToday\",, \"B\"),TEXT(RTD(\"cqg.rtd\",,\"ContractData\",Z52,\"NetLastQuoteToday\",,\"T\"),AA53))","v":".00011"},null,{"$f":"IF(AD53=\"B\",RTD(\"cqg.rtd\", ,\"ContractData\",AC52, \"High\",, \"B\"),TEXT(RTD(\"cqg.rtd\",,\"ContractData\",AC52,\"High\",,\"T\"),AD53))","v":".85050"},{"$f":"IF(AD53=\"B\",RTD(\"cqg.rtd\", ,\"ContractData\",AC52,\"NetLastQuoteToday\",, \"B\"),TEXT(RTD(\"cqg.rtd\",,\"ContractData\",AC52,\"NetLastQuoteToday\",,\"T\"),AD53))","v":".00015"}]
[null,{"$f":"IF(C53=\"B\",RTD(\"cqg.rtd\", ,\"ContractData\",B52, \"Low\",, \"B\"),TEXT(RTD(\"cqg.rtd\",,\"ContractData\",B52,\"Low\",,\"T\"),C53))","v":"94.140"},{"$f":"IFERROR(RTD(\"cqg.rtd\", ,\"ContractData\",B52, \"PerCentNetLastTrade\",, \"T\")/100,\"\")","v":-3.6923793099800039E-3},null,{"$f":"IF(F53=\"B\",RTD(\"cqg.rtd\", ,\"ContractData\",E52, \"Low\",, \"B\"),TEXT(RTD(\"cqg.rtd\",,\"ContractData\",E52,\"Low\",,\"T\"),F53))","v":"1.15425"},{"$f":"IFERROR(RTD(\"cqg.rtd\", ,\"ContractData\",E52, \"PerCentNetLastTrade\",, \"T\")/100,\"\")","v":3.7683544852081256E-3},null,{"$f":"IF(I53=\"B\",RTD(\"cqg.rtd\", ,\"ContractData\",H52, \"Low\",, \"B\"),TEXT(RTD(\"cqg.rtd\",,\"ContractData\",H52,\"Low\",,\"T\"),I53))","v":".0087905"},{"$f":"IFERROR(RTD(\"cqg.rtd\", ,\"ContractData\",H52, \"PerCentNetLastTrade\",, \"T\")/100,\"\")","v":2.442765437709481E-3},null,{"$f":"IF(L53=\"B\",RTD(\"cqg.rtd\", ,\"ContractData\",K52, \"Low\",, \"B\"),TEXT(RTD(\"cqg.rtd\",,\"ContractData\",K52,\"Low\",,\"T\"),L53))","v":"1.3576"},{"$f":"IFERROR(RTD(\"cqg.rtd\", ,\"ContractData\",K52, \"PerCentNetLastTrade\",, \"T\")/100,\"\")","v":3.6042662743655755E-3},null,{"$f":"IF(O53=\"B\",RTD(\"cqg.rtd\", ,\"ContractData\",N52, \"Low\",, \"B\"),TEXT(RTD(\"cqg.rtd\",,\"ContractData\",N52,\"Low\",,\"T\"),O53))","v":".8013"},{"$f":"IFERROR(RTD(\"cqg.rtd\", ,\"ContractData\",N52, \"PerCentNetLastTrade\",, \"T\")/100,\"\")","v":1.8070787637088734E-3},null,{"$f":"IF(R53=\"B\",RTD(\"cqg.rtd\", ,\"ContractData\",Q52, \"Low\",, \"B\"),TEXT(RTD(\"cqg.rtd\",,\"ContractData\",Q52,\"Low\",,\"T\"),R53))","v":"1.0759"},{"$f":"IFERROR(RTD(\"cqg.rtd\", ,\"ContractData\",Q52, \"PerCentNetLastTrade\",, \"T\")/100,\"\")","v":5.297890138488707E-3},null,{"$f":"IF(U53=\"B\",RTD(\"cqg.rtd\", ,\"ContractData\",T52, \"Low\",, \"B\"),TEXT(RTD(\"cqg.rtd\",,\"ContractData\",T52,\"Low\",,\"T\"),U53))","v":".7325"},{"$f":"IFERROR(RTD(\"cqg.rtd\", ,\"ContractData\",T52, \"PerCentNetLastTrade\",, \"T\")/100,\"\")","v":2.3788486372595661E-3},null,{"$f":"IF(X53=\"B\",RTD(\"cqg.rtd\", ,\"ContractData\",W52, \"Low\",, \"B\"),TEXT(RTD(\"cqg.rtd\",,\"ContractData\",W52,\"Low\",,\"T\"),X53))","v":".6906"},{"$f":"IFERROR(RTD(\"cqg.rtd\", ,\"ContractData\",W52, \"PerCentNetLastTrade\",, \"T\")/100,\"\")","v":2.7405163709793741E-3},null,{"$f":"IF(AA53=\"B\",RTD(\"cqg.rtd\", ,\"ContractData\",Z52, \"Low\",, \"B\"),TEXT(RTD(\"cqg.rtd\",,\"ContractData\",Z52,\"Low\",,\"T\"),AA53))","v":".04759"},{"$f":"IFERROR(RTD(\"cqg.rtd\", ,\"ContractData\",Z52, \"PerCentNetLastTrade\",, \"T\")/100,\"\")","v":2.0951183741881414E-3},null,{"$f":"IF(AD53=\"B\",RTD(\"cqg.rtd\", ,\"ContractData\",AC52, \"Low\",, \"B\"),TEXT(RTD(\"cqg.rtd\",,\"ContractData\",AC52,\"Low\",,\"T\"),AD53))","v":".84830"},{"$f":"IFERROR(RTD(\"cqg.rtd\", ,\"ContractData\",AC52, \"PerCentNetLastTrade\",, \"T\")/100,\"\")","v":1.7665763749852786E-4}]

{"sheet":"ChartData","index":8,"n_rows":0,"n_cols":0,"rows_kept":0,"cut":false,"hidden":true,"merged":[]}